{"text_format":"1","workbook":"xlsx","n_sheets":59,"sheets":["Introduction","Project Information","Definitions","Control Strategy Selection","Ramp Terminal Inputs","RTI_Ranges","At-Grade Inputs","SSI Inputs","SSI Inputs RTI","Conv_Sig","Conv_Ramp_Stop","SPUI","DDI","RTI_RAB1x1","RTI_RAB2x1","RTI_RAB2x2","TUDI","Calibration","ExistingData","CalibrationDefaults","Historical","HistoricalRTI","Results","SSI Results","ResultsRTI","SSI 3L Results_Full","RTI SSI Results","RTI SSI Results_Full","SSI 4L Results_Full","ThruCut_Sig","ThruCut_Unsig","RCUT_Sig","RCUT_Unsig","Notes","User Selections","Labels","Changelog","Trad_Sig","Trad_MinorStop","Trad_AllStop","RAB1x1","RAB2x1","RAB2x2","MUT","PDLT","FDLT","QR","Jughandle","Bowtie","TradT_Sig","TradT_AWSC","TradT_MRSC","CGT","T_PDLT","T_1x1_RAB","T_2x1_RAB","T_2x2_RAB","T_RCUT_Sig","T_RCUT_Unsig"],"not_rendered":{"charts":0,"images":11,"macros":1,"external_links":0,"defined_names":624,"comments":21,"pivot_tables":0},"unopened":[],"bounds":{"document_bytes":16777216,"sheet_cells":100000,"rows_first":2000,"rows_last":500,"rows_between":2000,"halvings":0,"cell_chars":16384,"cell_head_chars":4096},"cells_cut":0,"cells_raw":0,"read":"whole","date_system":"1900"}

{"sheet":"Introduction","index":0,"n_rows":20,"n_cols":3,"rows_kept":20,"cut":false,"hidden":false,"merged":[[14,1,14,2],[3,1,3,2],[0,0,0,2],[1,0,1,2],[2,1,2,2],[5,0,5,2],[4,0,4,2],[6,0,6,2],[7,0,7,2],[10,0,10,2],[11,0,11,2],[13,0,13,2],[9,0,9,2],[8,0,8,2]]}
["Federal Highway Administration (FHWA)"]
["Safety Performance for Intersection Control Evaluation Tool"]
["Introduction","Overview"]
["The Safety Performance for Intersection Control Evaluation (SPICE) Tool was developed to provide an easy-to-use tool that automates the predictive safety analysis of intersections. This tool will allow analysts conducting Intersection Control Evaluations (ICE) to be equipped with necessary safety information during the decision-making process, without having to research a myriad of crash modification factors (CMFs) and Safety Performance Functions (SPFs) in multiple sources.  The SPICE tool will perform a comparative predictive safety analysis of different intersection control strategies. The results – crash frequency and severity for each alternative – will then enable safety performance of alternatives to be considered quantitatively like traffic operations, construction cost, maintenance cost, or other factors. ","The SPICE Tool performs safety analysis of at-grade intersection forms/control types and ramp terminal intersections of diamond interchanges. This user-friendly tool requires only data inputs that are readily available to the analyst. In addition, the SPICE tool has an option to conduct planning level analysis, where the tool assumes default values for data inputs that are challenging to obtain in the early stages of a project and/or have a very minor impact on the results.  The SPICE tool assumes that certain attributes of the intersection – AADT, facility type, and number of legs – are the same for all alternatives. If they are not, users will be required to use the tool twice to get results. The tool will not allow simultaneous evaluation of at-grade intersections and ramp terminal intersections. For projects where analysis of both intersections and interchanges is needed, users are required use the tool twice to get results."]
["Worksheets"]
["Project Information: Provide general project information for reference purposes only."]
["Definitions: Reference sheet with additional information related to inputs for the SPICE tool."]
["Control Strategy Selection: Choose between At-Grade or Ramp Terminal intersection types to be included in the SPICE analysis."]
["At-Grade Inputs: SPF and Part C CMF inputs for At-Grade intersections (hidden if Ramp Terminals are being analyzed)."]
["Ramp Terminal Inputs: SPF and Part C CMF inputs for Ramp Terminal intersections (hidden if At-Grade intersections are being analyzed)."]
["Calibration: Input optional override values for SPF calibration factors from locally-developed or updated information. "]
["Results: Summary of opening year and (if applicable) design year and total project life cycle crash frequency and crash severity. "]
[]
["Additional Worksheets: Additional worksheets to support the underlying Macros. Not to be updated by users unless updating future tool versions. "]
["Maintenance ","Input Legend"]
["Version: SPICE Tool 3.5     [Changelog]",null,"Required data entry field"]
["Maintained By: TBD",null,"Optional data entry field"]
["Contact Information: TBD",null,"Planning-Level Default Input"]
["Disclaimer",null,"Data entry field not used"]
["Disclaimers may be added, if needed."]

{"sheet":"Project Information","index":1,"n_rows":11,"n_cols":1,"rows_kept":11,"cut":false,"hidden":false,"merged":[[10,0,16,0],[0,0,0,2],[1,0,1,2],[2,1,2,2],[7,1,7,2],[8,1,8,2],[9,1,9,2],[3,1,3,2],[4,1,4,2],[5,1,5,2],[6,1,6,2]]}
["Project Information"]
["Provide general project information for reference purposes only."]
["Project Name:"]
["Intersection:"]
["Agency: "]
["Project Reference:"]
["City:"]
["State:"]
["Date:"]
["Analyst:"]
["Use this button to clear all inputs/outputs and reset the tool to its initial defaults"]

{"sheet":"Definitions","index":2,"n_rows":61,"n_cols":19,"rows_kept":61,"cut":false,"hidden":false,"merged":[[21,2,22,2],[23,2,24,2],[25,2,26,2],[27,2,28,2],[29,2,30,2],[27,1,28,1],[29,1,30,1],[31,1,32,1],[33,1,34,1],[25,1,26,1],[16,14,17,18],[18,14,19,14],[18,15,18,16],[18,17,18,18],[0,14,0,18],[1,15,1,16],[1,17,1,18],[35,1,36,1],[31,2,32,2],[33,2,34,2],[35,2,36,2],[19,0,20,0],[21,0,22,0],[23,0,24,0],[25,0,26,0],[27,0,28,0],[29,0,30,0],[31,0,32,0],[33,0,34,0],[35,0,36,0],[19,1,20,1],[21,1,22,1],[23,1,24,1],[21,11,21,12],[20,8,20,12],[2,9,2,10],[6,0,6,5],[11,9,11,10],[11,11,11,12],[10,8,10,12],[2,8,3,8],[11,8,12,8],[13,4,13,5],[2,3,2,5],[4,0,4,5],[2,0,3,0],[2,1,3,1],[2,2,3,2],[19,2,20,2],[7,3,7,5],[0,8,0,12],[1,8,1,12],[47,2,48,2],[0,0,0,5],[1,0,1,5],[41,2,42,2],[41,0,42,0],[41,1,42,1],[43,1,44,1],[45,1,46,1],[47,1,48,1],[36,9,36,10],[36,11,36,12],[2,11,2,12],[21,9,21,10],[51,9,51,10],[51,11,51,12],[51,1,52,1],[43,0,44,0],[47,0,48,0],[45,0,46,0],[51,0,52,0],[51,2,52,2],[45,2,46,2],[43,2,44,2]]}
["Definitions",null,null,null,null,null,null,null,"At-Grade AADT Ranges for Traffic Signals and Minor Stops",null,null,null,null,null,"At-Grade AADT 1 and 2 Lane Roundabouts"]
["Definitions of values and variables required for SPICE analysis.",null,null,null,null,null,null,null,"Rural Two-Lane Highway",null,null,null,null,null,"Intersection Type","Major Road AADT",null,"Minor Road AADT"]
["User Input Variable","Units","Definition","Applicable Ranges",null,null,null,null,"Intersection Type","Major Road AADT",null,"Minor Road AADT",null,null,"1 Circulating Lane","Min","Max","Min","Max"]
[null,null,null,"Range for:","Lower Limit","Upper Limit",null,null,null,"Min","Max","Min","Max",null,"3Leg",675,17369,409,14000]
["Control Strategy Selection",null,null,null,null,null,null,null,"3ST",0,19500,0,4300,null,"4Leg",1000,19733,280,11239]
["Number of Major Street Lanes","lanes","Number of lanes on the major street (both directions - does not include turn lanes)","-","-","-",null,null,"4ST",0,14700,0,3500,null,"2 Circulating Lanes","Min","Max","Min","Max"]
["At-Grade Intersection Inputs",null,null,null,null,null,null,null,"3SG",0,23591,0,23320,null,"3Leg",1000,22050,476,15108]
["Major/Minor Road AADT","veh/day","Average annual daily traffic (AADT) volume for the major and minor street approaches (see table for ranges).","See table starting in column I (to the right).",null,null,null,null,"4SG",0,25200,0,12500,null,"4Leg",1000,28333,390,19371]
["Skew Angle","degrees","Intersecting angle between major street and minor street approaches (hover cursor for graphical representation)","-","-","-",null,null,"3AWSC","-","-","-","-"]
["Number of Major Street Through Lanes","lanes","Number of through lanes on the major street (both directions - includes shared through lanes)","-","-","-",null,null,"4AWSC",0,12983,0,9985]
["Number of Minor Street Lanes","lanes","Number of lanes on the minor street (both directions - does not include turn lanes)","-","-","-",null,null,"Rural Multilane Highway"]
["Right-turn Channelization","-","An approach is considered to have right-turn channelization when a marked or raised-curb island is present separating the turn from the adjacent movements.  A standard exclusive right-turn lane (bay) that does not have this separation is not considered channelized.","-","-","-",null,null,"Intersection Type","Major Road AADT",null,"Minor Road AADT"]
["Inscribed Circle Diameter","feet",null,"Roundabout",90,160,null,null,null,"Min","Max","Min","Max"]
["Opening Year Entering AADT","veh/day",null,"Roundabout","See Table in Column O "]
["Leg has Right-Turn Bypass","yes/no",null,"Roundabout","-","-",null,null,"3ST",0,78300,0,23000]
["Access Point within 250' of Yield Line","-",null,"Roundabout",0,8,null,null,"4ST",0,78300,0,7400]
["Entering Width","feet",null,"Roundabout",24,34,null,null,"3SG",0,56000,0,27000,null,"At-Grade AADT Ranges for Restricted Crossing U-Turn (RCUT)"]
["Number of Entering Lanes","lanes","Number of lanes entering a leg of the roundabout (hover cursor for graphical representation).","Roundabout",1,2,null,null,"4SG",0,43500,0,18500]
["Number of Circulating Lanes","lanes","Number of lanes circulating a leg of the roundabout (hover cursor for graphical representation).","Roundabout",1,2,null,null,"3AWSC","--","--","--","--",null,"Intersection Type","Major Road AADT",null,"Minor Road AADT"]
["Number of U-Turns","-","Number of U-turns of the RCUT intersection, either 1 or 2.","Signalized RCUT",1,2,null,null,"4AWSC","--","--","--","--",null,null,"Min","Max","Min","Max"]
[null,null,null,"Unsignalized RCUT",1,2,null,null,"Urban and Suburban Arterials",null,null,null,null,null,"Signalized (3 & 4-leg)",9700,65500,1000,18218]
["Number of Major Road Lanes","lanes","Number of lanes on the major approach of the RCUT.  The highest number across both approaches was chosen (e.g. if one approach has 1 lane, and the other has 2, then 2 is chosen as the number of lanes).","Signalized RCUT",2,3,null,null,"Intersection Type","Major Road AADT",null,"Minor Road AADT",null,null,"Unsignalized (3 & 4-leg)",2950,47722,40,11500]
[null,null,null,"Unsignalized RCUT","-","-",null,null,"2x2 5 or Fewer Lanes","Min","Max","Min","Max"]
["Number of Minor Road Lanes","lanes","Number of lanes on the minor approach of the RCUT.  If the RCUT has two minor approaches, the highest number across both approaches is chosen.","Signalized RCUT",1,3,null,null,"3ST",0,45700,0,9300]
[null,null,null,"Unsignalized RCUT","-","-",null,null,"4ST",0,46800,0,5900]
["Total Offset Distance","ft","The total distance between the center of the intersetion and the U-turn locations (e.g. if one approach has 800 ft. offset and the other one has 600 ft., then the total offset distance is 1400 ft.).","Signalized RCUT",650,2675,null,null,"3SG",0,58100,0,16400]
[null,null,null,"Unsignalized RCUT",600,5575,null,null,"4SG",0,67700,0,33400]
["Number of Driveways","-","The number of driveways within the whole footprint (including intersection center, U-turns, and segment between intersection center and U-turns) of the RCUT intersection.","Signalized RCUT",0,10,null,null,"3AWSC",0,20131,0,11000]
[null,null,null,"Unsignalized RCUT",0,6,null,null,"4AWSC",0,12955,0,11982]
["Total Deceleration Lane Length","ft","The total length of the deceleration lanes before U-turn locations (e.g. if one approach has 400 ft. deceleration lane and the other one has 250 ft., then total deceleration lane length is 650 ft.).","Signalized RCUT",300,2300,null,null,"2x2 6+ Lanes","Min","Max","Min","Max"]
[null,null,null,"Unsignalized RCUT",0,1525,null,null,"3ST",0,66800,0,8600]
["Total Acceleration Lane Length","ft","The maximum length of the deceleration lanes before U-turn locations (e.g. if one approach has 400 ft. deceleration lane and the other one has 250 ft., then 400 ft. is chosen as maximum deceleration lane length).","Signalized RCUT","-","-",null,null,"4ST",0,54600,0,4600]
[null,null,null,"Unsignalized RCUT",1,1600,null,null,"3SG",0,94000,0,31000]
["Total Median Width","ft","The total median width of the major approaches (e.g. if one approach has 40 ft. median and the other one has 25 ft., then total median width is 65 ft.).","Signalized RCUT",0,145,null,null,"4SG",0,137600,0,68400]
[null,null,null,"Unsignalized RCUT","-","-",null,null,"3AWSC","--","--","--","--"]
["Maximum Median Width","ft","The maximum median width of the major approaches (e.g. if one approach has 40 ft. median and the other one has 25 ft., then 40 ft. is chosen as maximum median width).","Signalized RCUT","-","-",null,null,"4AWSC","--","--","--","--"]
[null,null,null,"Unsignalized RCUT",0,150,null,null,"Intersection Type","Major Road AADT",null,"Minor Road AADT"]
["Number of Left-Turn Lanes From Major Road","lanes","The maximum number of left turn lanes from major approach to minor approach.","Signalized RCUT",1,3,null,null,"1x2","Min","Max","Min","Max"]
["Major Road Speed Limit","mph","Major approach speed limit.","Signalized RCUT",35,70,null,null,"3ST",0,42700,0,13400]
["Ramp Terminal Intersection Inputs",null,null,null,null,null,null,null,"4ST",0,23400,0,19200]
["Crossroad","-","References the major street of the ramp terminal intersection (i.e., the non-ramp terminal legs)","-","-","-",null,null,"3SG",0,43800,0,58800]
["Crossroad AADT - Inside Leg","veh/day","AADT volume of the crossroad leg located between the two ramp terminals of the interchange","Stop-Controlled",0,14000,null,null,"4SG",0,77000,0,98900]
[null,null,null,"Signalized",14000,60000,null,null,"3AWSC","--","--","--","--"]
["Crossroad AADT - Outside Leg","veh/day","AADT volume of the crossroad leg located outside of the interchange","Stop-Controlled",0,14000,null,null,"4AWSC","--","--","--","--"]
[null,null,null,"Signalized",14000,60000,null,null,"1x1","Min","Max","Min","Max"]
["Ramp AADT - Exit","veh/day","AADT volume of the exit ramp","Stop-Controlled",0,10000,null,null,"3ST",0,16900,0,11100]
[null,null,null,"Signalized",0,31000,null,null,"4ST",0,11000,0,6800]
["Ramp AADT - Entrance","veh/day","AADT volume of the entrance ramp","Stop-Controlled",0,10000,null,null,"3SG",0,20100,0,7500]
[null,null,null,"Signalized",0,31000,null,null,"4SG",0,24300,0,16900]
["Exit Ramp Skew Angle","degrees","Skew angle equals 90 minus the intersection angle (in degrees) (hover cursor for graphical representation).","Stop-Controlled",0,70,null,null,"3AWSC","--","--","--","--"]
["Presence of Non-Ramp Public Street Leg","yes/no","Any ramp that has a fourth leg that: (1) is a public street serving two-way traffic and (2) intersects with the crossroad at the terminal. At most ramp terminals, the public street leg will be on the opposite side of the crossroad from the exit ramp.","-","-","-",null,null,"4AWSC","--","--","--","--"]
["Effective number of lanes serving exit ramp","lanes","Varies depending on exit ramp configuration (hover cursor for graphical representation of nex,eff)","Stop-Controlled",1,2,null,null,"Intersection Type","Major Road AADT",null,"Minor Road AADT"]
[null,null,null,"Signalized",1,4,null,null,"High Speed (55+ mph)","Min","Max","Min","Max"]
["Median Width","feet","Width of crossroad median measured from near edges of traveled way in both travel directions (hover cursor for graphical representation)","All",0,50,null,null,"3ST",0,58594,0,11335]
["Left-turn lane (bay) Width for crossroad leg","feet","Width of crossroad left-turn lane (hover cursor for graphical representation)","All",0,26,null,null,"4ST",0,59000,0,29800]
["Number of through traffic lanes that oppose the left-turn movement on the inside crossroad leg","lanes","Number of through lanes on crossroad outside leg that oppose crossroad inside leg left-turn movement","-","-","-",null,null,"3SG",0,47200,0,11282]
[{"$f":"'Ramp Terminal Inputs'!A30","v":"Distance (mi) to the adjacent ramp terminal"},"miles","Distance between subject ramp terminal and adjacent ramp terminal; measured along the crossroad from terminal center to terminal center (mi).","-","-","-",null,null,"4SG",0,59800,0,30029]
[{"$f":"'Ramp Terminal Inputs'!A31","v":"Distance (mi) to the next public street intersection on the outside crossroad leg"},"miles","Distance between subject ramp terminal and nearest public road intersection in a direction away form freeway; measured along the crossroad form terminal center to intersection center (mi).","-","-","-",null,null,"3AWSC","--","--","--","--"]
["Protected operation for crossroad leg","yes/no","\"Yes\" if a crossroad leg (inside or outside) has protected left-turn operation.  \"No\" if the crossroad leg has permissive or permissive-protected operation",null,null,null,null,null,"4AWSC","--","--","--","--"]
["Crossroad AADT - Single Point Diamond","veh/day","AADT volume for the crossroad. Not a required direct input of the SPICE tool, but is determined automatically as the maximum of the outside leg AADT values.","-",14000,70000]
["Ramp AADT - Single Point Diamond","veh/day","Sum of AADT volumes for all four ramps. Not a required direct input of the SPICE tool, this summation is done automatically.","-",14000,80000]

{"sheet":"Control Strategy Selection","index":3,"n_rows":70,"n_cols":24,"rows_kept":70,"cut":false,"hidden":false,"merged":[[17,1,17,2],[4,0,4,2],[5,0,5,2],[6,0,6,2],[7,0,7,2],[8,0,8,2],[13,0,13,2],[14,0,14,2],[15,0,15,2],[12,0,12,2],[0,0,0,7],[1,0,1,7],[16,0,16,4],[3,0,3,2],[9,0,9,2],[10,0,10,2],[11,0,11,2],[2,0,2,2],[4,4,4,7],[5,4,5,7],[12,4,12,7],[13,4,13,7],[14,4,14,7],[15,4,15,7],[7,4,10,7],[11,4,11,7],[18,1,18,2],[20,1,20,2],[21,1,21,2],[22,1,22,2],[23,1,23,2],[19,1,19,2],[68,1,68,2],[69,1,69,2],[59,1,59,2],[60,1,60,2],[62,1,62,2],[63,1,63,2],[61,1,61,2],[65,1,65,2],[66,1,66,2],[64,1,64,2],[67,1,67,2],[17,4,17,5],[17,6,17,7],[51,0,51,2],[52,0,52,2],[49,0,49,2],[43,0,43,2],[48,0,48,2],[50,0,50,2],[46,0,46,2],[47,0,47,2],[44,0,44,2],[32,1,32,2],[33,1,33,2],[25,1,25,2],[26,1,26,2],[27,1,27,2],[59,4,59,5],[59,6,59,7],[58,0,58,7],[31,1,31,2],[24,1,24,2],[53,0,53,2],[54,0,54,2],[55,0,55,2],[30,1,30,2],[28,1,28,2],[29,1,29,2]]}
["Control Strategy Selection and Inputs"]
["Specify the Facility Level Inputs and the Control Strategies to be included in the SPICE Analysis."]
["Intersection Type",null,null,"At-Grade Intersections"]
["Analysis Year",null,null,"Opening and Design Year"]
["Opening Year",null,null,null,{"$f":"IF(NOT(ISNUMBER(Input_OpenYear)),\"Please specify a valid Opening Year\",\"\")","v":"Please specify a valid Opening Year"}]
["Design Year",null,null,null,{"$f":"IF(Input_AnalysisYearType=Label_AnalysisYearType_OpenAndDesign,IF(NOT(ISNUMBER(Input_DesignYear)),\"Please specify a valid Design Year\",IF(Input_OpenYear>=Input_DesignYear,\"The Design Year must be later than the Opening Year\",\"\")),\"\")","v":"Please specify a valid Design Year"}]
[]
["Facility Type",null,null,"On Urban and Suburban Arterial","For more information on how to determine these values, see the \"Definitions\" worksheet"]
["Number of Legs",null,null,"4-leg"]
["1-Way/2-Way",null,null,"2-way Intersecting 2-way"]
["# of Major Street Lanes (both directions)",null,null,"5 or fewer"]
["Major Street Approach Speed",null,null,"Less than 55 mph"]
["Opening Year - Major Road AADT",null,null,null,{"$f":"IF(Input_Base_OAADTMajor=\"\", \"Please specify a non-zero AADT value\",\"\")","v":"Please specify a non-zero AADT value"}]
["Opening Year - Minor Road AADT",null,null,null,{"$f":"IF(Input_Base_OAADTMinor=\"\", \"Please specify a non-zero AADT value\",\"\")","v":"Please specify a non-zero AADT value"}]
["Design Year - Major Road AADT",null,null,null,{"$f":"IF(AND(Input_AnalysisYearType=Label_AnalysisYearType_OpenAndDesign,Input_Base_DAADTMajor=\"\"), \"Please specify a non-zero AADT value\",\"\")","v":"Please specify a non-zero AADT value"}]
["Design Year - Minor Road AADT",null,null,null,{"$f":"IF(AND(Input_AnalysisYearType=Label_AnalysisYearType_OpenAndDesign,Input_Base_DAADTMinor=\"\"), \"Please specify a non-zero AADT value\",\"\")","v":"Please specify a non-zero AADT value"}]
[null,null,null,null,null,null,null,null,null,null,null,null,null,null,"AADT Within Range?"]
["Control Strategy","Include",null,"Base Intersection",null,null,null,null,null,null,null,null,null,null,"Opening","Design"]
["Traffic Signal","Yes",null,"--",{"$f":"IF(NOT(ISNUMBER(K19)),\"No SPF Available\",IF(O19,\"\",\"Opening Year AADT Outside of SPF Development Range\"))","v":""},null,{"$f":"IF(NOT(ISNUMBER(M19)),\"No SPF\",IF(Input_AnalysisYearType=Label_AnalysisYearType_OpenAndDesign,IF(P19,\"\",\"Design Year AADT Outside of SPF Development Range\"),\"\"))","v":""},null,{"$f":"IF(Input_FacilityType=FacilityType_Label_Rural2Ln,1,IF(Input_FacilityType=FacilityType_Label_RuralMultiLn,2,IF(Input_FacilityType=FacilityType_Label_Urban,IF(Input_1Way2Way=Notes!$A$54,IF(Input_MajorApproachSpeed=Notes!$A$67,7,IF(Input_NumMajorLanes=Notes!$A$60,3,4)),IF(Input_1Way2Way=Notes!$A$55,5,6)))))","v":3},{"$f":"IF(Input_NumLegs=Notes!$A$49,\"4\",\"3\")&\"SG\"","v":"4SG"},{"$f":"VLOOKUP($J19,IF($I19=7,Range_USA_HS,IF($I19=6,Range_USA_1x1,IF($I19=5,Range_USA_1x2,IF($I19=4,Range_USA_2x2_6P,IF($I19=3,Range_USA_2x2_5F,IF($I19=2,Range_RML, Range_R2L)))))),2,FALSE)","v":0},{"$f":"VLOOKUP($J19,IF($I19=7,Range_USA_HS,IF($I19=6,Range_USA_1x1,IF($I19=5,Range_USA_1x2,IF($I19=4,Range_USA_2x2_6P,IF($I19=3,Range_USA_2x2_5F,IF($I19=2,Range_RML, Range_R2L)))))),3,FALSE)","v":67700},{"$f":"VLOOKUP($J19,IF($I19=7,Range_USA_HS,IF($I19=6,Range_USA_1x1,IF($I19=5,Range_USA_1x2,IF($I19=4,Range_USA_2x2_6P,IF($I19=3,Range_USA_2x2_5F,IF($I19=2,Range_RML, Range_R2L)))))),4,FALSE)","v":0},{"$f":"VLOOKUP($J19,IF($I19=7,Range_USA_HS,IF($I19=6,Range_USA_1x1,IF($I19=5,Range_USA_1x2,IF($I19=4,Range_USA_2x2_6P,IF($I19=3,Range_USA_2x2_5F,IF($I19=2,Range_RML, Range_R2L)))))),5,FALSE)","v":33400},{"$f":"AND(Input_Base_OAADTMajor>=K19,Input_Base_OAADTMajor<=L19,Input_Base_OAADTMinor>=M19,Input_Base_OAADTMinor<=N19)","v":true},{"$f":"AND(Input_Base_DAADTMajor>=K19,Input_Base_DAADTMajor<=L19,Input_Base_DAADTMinor>=M19,Input_Base_DAADTMinor<=N19)","v":true}]
["Traffic Signal (Alternative Configuration)","Yes",null,"--","",null,"",null,{"$f":"IF(Input_FacilityType=FacilityType_Label_Rural2Ln,1,IF(Input_FacilityType=FacilityType_Label_RuralMultiLn,2,IF(Input_FacilityType=FacilityType_Label_Urban,IF(Input_1Way2Way=Notes!$A$54,IF(Input_MajorApproachSpeed=Notes!$A$67,7,IF(Input_NumMajorLanes=Notes!$A$60,3,4)),IF(Input_1Way2Way=Notes!$A$55,5,6)))))","v":3},{"$f":"IF(Input_NumLegs=Notes!$A$49,\"4\",\"3\")&\"SG\"","v":"4SG"},{"$f":"VLOOKUP($J20,IF($I20=7,Range_USA_HS,IF($I20=6,Range_USA_1x1,IF($I20=5,Range_USA_1x2,IF($I20=4,Range_USA_2x2_6P,IF($I20=3,Range_USA_2x2_5F,IF($I20=2,Range_RML, Range_R2L)))))),2,FALSE)","v":0},{"$f":"VLOOKUP($J20,IF($I20=7,Range_USA_HS,IF($I20=6,Range_USA_1x1,IF($I20=5,Range_USA_1x2,IF($I20=4,Range_USA_2x2_6P,IF($I20=3,Range_USA_2x2_5F,IF($I20=2,Range_RML, Range_R2L)))))),3,FALSE)","v":67700},{"$f":"VLOOKUP($J20,IF($I20=7,Range_USA_HS,IF($I20=6,Range_USA_1x1,IF($I20=5,Range_USA_1x2,IF($I20=4,Range_USA_2x2_6P,IF($I20=3,Range_USA_2x2_5F,IF($I20=2,Range_RML, Range_R2L)))))),4,FALSE)","v":0},{"$f":"VLOOKUP($J20,IF($I20=7,Range_USA_HS,IF($I20=6,Range_USA_1x1,IF($I20=5,Range_USA_1x2,IF($I20=4,Range_USA_2x2_6P,IF($I20=3,Range_USA_2x2_5F,IF($I20=2,Range_RML, Range_R2L)))))),5,FALSE)","v":33400},true,true]
["Minor Road Stop","Yes",null,"--","",null,"",null,{"$f":"IF(Input_FacilityType=FacilityType_Label_Rural2Ln,1,IF(Input_FacilityType=FacilityType_Label_RuralMultiLn,2,IF(Input_FacilityType=FacilityType_Label_Urban,IF(Input_1Way2Way=Notes!$A$54,IF(Input_MajorApproachSpeed=Notes!$A$67,7,IF(Input_NumMajorLanes=Notes!$A$60,3,4)),IF(Input_1Way2Way=Notes!$A$55,5,6)))))","v":3},{"$f":"IF(Input_NumLegs=Notes!$A$49,\"4\",\"3\")&\"ST\"","v":"4ST"},{"$f":"VLOOKUP($J21,IF($I21=7,Range_USA_HS,IF($I21=6,Range_USA_1x1,IF($I21=5,Range_USA_1x2,IF($I21=4,Range_USA_2x2_6P,IF($I21=3,Range_USA_2x2_5F,IF($I21=2,Range_RML, Range_R2L)))))),2,FALSE)","v":0},{"$f":"VLOOKUP($J21,IF($I21=7,Range_USA_HS,IF($I21=6,Range_USA_1x1,IF($I21=5,Range_USA_1x2,IF($I21=4,Range_USA_2x2_6P,IF($I21=3,Range_USA_2x2_5F,IF($I21=2,Range_RML, Range_R2L)))))),3,FALSE)","v":46800},{"$f":"VLOOKUP($J21,IF($I21=7,Range_USA_HS,IF($I21=6,Range_USA_1x1,IF($I21=5,Range_USA_1x2,IF($I21=4,Range_USA_2x2_6P,IF($I21=3,Range_USA_2x2_5F,IF($I21=2,Range_RML, Range_R2L)))))),4,FALSE)","v":0},{"$f":"VLOOKUP($J21,IF($I21=7,Range_USA_HS,IF($I21=6,Range_USA_1x1,IF($I21=5,Range_USA_1x2,IF($I21=4,Range_USA_2x2_6P,IF($I21=3,Range_USA_2x2_5F,IF($I21=2,Range_RML, Range_R2L)))))),5,FALSE)","v":5900},true,true]
["All Way Stop","Yes",null,"--","",null,"",null,{"$f":"IF(Input_FacilityType=FacilityType_Label_Rural2Ln,1,IF(Input_FacilityType=FacilityType_Label_RuralMultiLn,2,IF(Input_FacilityType=FacilityType_Label_Urban,IF(Input_1Way2Way=Notes!$A$54,IF(Input_MajorApproachSpeed=Notes!$A$67,7,IF(Input_NumMajorLanes=Notes!$A$60,3,4)),IF(Input_1Way2Way=Notes!$A$55,5,6)))))","v":3},{"$f":"IF(Input_NumLegs=Notes!$A$49,\"4\",\"3\")&\"AWSC\"","v":"4AWSC"},{"$f":"VLOOKUP($J22,IF($I22=7,Range_USA_HS,IF($I22=6,Range_USA_1x1,IF($I22=5,Range_USA_1x2,IF($I22=4,Range_USA_2x2_6P,IF($I22=3,Range_USA_2x2_5F,IF($I22=2,Range_RML, Range_R2L)))))),2,FALSE)","v":0},{"$f":"VLOOKUP($J22,IF($I22=7,Range_USA_HS,IF($I22=6,Range_USA_1x1,IF($I22=5,Range_USA_1x2,IF($I22=4,Range_USA_2x2_6P,IF($I22=3,Range_USA_2x2_5F,IF($I22=2,Range_RML, Range_R2L)))))),3,FALSE)","v":12955},{"$f":"VLOOKUP($J22,IF($I22=7,Range_USA_HS,IF($I22=6,Range_USA_1x1,IF($I22=5,Range_USA_1x2,IF($I22=4,Range_USA_2x2_6P,IF($I22=3,Range_USA_2x2_5F,IF($I22=2,Range_RML, Range_R2L)))))),4,FALSE)","v":0},{"$f":"VLOOKUP($J22,IF($I22=7,Range_USA_HS,IF($I22=6,Range_USA_1x1,IF($I22=5,Range_USA_1x2,IF($I22=4,Range_USA_2x2_6P,IF($I22=3,Range_USA_2x2_5F,IF($I22=2,Range_RML, Range_R2L)))))),5,FALSE)","v":11982},true,true]
["1-Lane Roundabout","Yes",null,"--","Opening Year AADT Outside of SPF Development Range",null,"Design Year AADT Outside of SPF Development Range",null,{"$f":"IF(Input_FacilityType=FacilityType_Label_Rural2Ln,1,IF(Input_FacilityType=FacilityType_Label_RuralMultiLn,2,IF(Input_FacilityType=FacilityType_Label_Urban,IF(Input_1Way2Way=Notes!$A$54,IF(Input_MajorApproachSpeed=Notes!$A$67,7,IF(Input_NumMajorLanes=Notes!$A$60,3,4)),IF(Input_1Way2Way=Notes!$A$55,5,6)))))","v":3},{"$f":"IF(Input_NumLegs=Notes!$A$49,\"4\",\"3\")&\"Leg\"","v":"4Leg"},{"$f":"VLOOKUP($J23,Range_RAB1,2,FALSE)","v":1000},{"$f":"VLOOKUP($J23,Range_RAB1,3,FALSE)","v":19733},{"$f":"VLOOKUP($J23,Range_RAB1,4,FALSE)","v":280},{"$f":"VLOOKUP($J23,Range_RAB1,5,FALSE)","v":11239},false,false]
["2-Lane Roundabout","Yes",null,"--","Opening Year AADT Outside of SPF Development Range",null,"Design Year AADT Outside of SPF Development Range",null,{"$f":"IF(Input_FacilityType=FacilityType_Label_Rural2Ln,1,IF(Input_FacilityType=FacilityType_Label_RuralMultiLn,2,IF(Input_FacilityType=FacilityType_Label_Urban,IF(Input_1Way2Way=Notes!$A$54,IF(Input_MajorApproachSpeed=Notes!$A$67,7,IF(Input_NumMajorLanes=Notes!$A$60,3,4)),IF(Input_1Way2Way=Notes!$A$55,5,6)))))","v":3},{"$f":"IF(Input_NumLegs=Notes!$A$49,\"4\",\"3\")&\"Leg\"","v":"4Leg"},{"$f":"VLOOKUP($J24,Range_RAB2,2,FALSE)","v":1000},{"$f":"VLOOKUP($J24,Range_RAB2,3,FALSE)","v":28333},{"$f":"VLOOKUP($J24,Range_RAB2,4,FALSE)","v":390},{"$f":"VLOOKUP($J24,Range_RAB2,5,FALSE)","v":19371},false,false]
["Displaced Left Turn (DLT)","Yes",null,"Traffic Signal"]
["Median U-Turn (MUT)","Yes",null,"Traffic Signal"]
["Signalized Restricted Crossing U-Turn (RCUT)","Yes",null,"--",{"$f":"IF(NOT(ISNUMBER(K27)),\"No SPF Available\",IF(NOT(O27),\"Opening Year AADT Outside of SPF Development Range\", IF(NOT(AND(Range_SRCUT_OAADT_Ratio)),\"Open Major/Minor AADT Ratio Outside of SPF Development Range\",\"\")))","v":"Opening Year AADT Outside of SPF Development Range"},null,{"$f":"IF(NOT(ISNUMBER(M27)),\"No SPF\",IF(Input_AnalysisYearType=Label_AnalysisYearType_OpenAndDesign,IF(NOT(P27),\"Design Year AADT Outside of SPF Development Range\",IF(NOT(AND(Range_SRCUT_DAADT_Ratio)),\"Design Major/Minor AADT Ratio Outside of SPF Development Range\",\"\")),\"\"))","v":"Design Year AADT Outside of SPF Development Range"},null,null,null,{"$f":"Definitions!P21","v":9700},{"$f":"Definitions!Q21","v":65500},{"$f":"Definitions!R21","v":1000},{"$f":"Definitions!S21","v":18218},{"$f":"AND(Input_Base_OAADTMajor>=K27,Input_Base_OAADTMajor<=L27,Input_Base_OAADTMinor>=M27,Input_Base_OAADTMinor<=N27)","v":false},{"$f":"AND(Input_Base_DAADTMajor>=K27,Input_Base_DAADTMajor<=L27,Input_Base_DAADTMinor>=M27,Input_Base_DAADTMinor<=N27)","v":false}]
["Unsignalized Restricted Crossing U-Turn (RCUT)","Yes",null,"--",{"$f":"IF(NOT(ISNUMBER(K28)),\"No SPF Available\",IF(O28,\"\",\"Opening Year AADT Outside of SPF Development Range\"))","v":"Opening Year AADT Outside of SPF Development Range"},null,{"$f":"IF(NOT(ISNUMBER(M28)),\"No SPF\",IF(Input_AnalysisYearType=Label_AnalysisYearType_OpenAndDesign,IF(P28,\"\",\"Design Year AADT Outside of SPF Development Range\"),\"\"))","v":"Design Year AADT Outside of SPF Development Range"},null,null,null,{"$f":"Definitions!P22","v":2950},{"$f":"Definitions!Q22","v":47722},{"$f":"Definitions!R22","v":40},{"$f":"Definitions!S22","v":11500},{"$f":"AND(Input_Base_OAADTMajor>=K28,Input_Base_OAADTMajor<=L28,Input_Base_OAADTMinor>=M28,Input_Base_OAADTMinor<=N28)","v":false},{"$f":"AND(Input_Base_DAADTMajor>=K28,Input_Base_DAADTMajor<=L28,Input_Base_DAADTMinor>=M28,Input_Base_DAADTMinor<=N28)","v":false}]
["Signalized Thru-Cut*","Yes",null,"--","*SSI Only, No Crash Prediction Available"]
["Unsignalized Thru-Cut*","Yes",null,"--","*SSI Only, No Crash Prediction Available"]
["Continuous Green-T Intersection","No",null,"Traffic Signal"]
["Jughandle","Yes",null,"Traffic Signal"]
["Other 1*","No",null,"Traffic Signal","*Please Select"]
["Other 2*","No",null,"Minor Road Stop","*Please Select"]
[]
[]
[]
[]
[]
[]
[]
[]
[]
["Freeway Orientation",null,null,"North-South"]
["Area Type",null,null,"Urban"]
[]
["Opening Year AADT",null,null,{"$f":"IF($D$44=Notes!$J$26,\"NB\",\"EB\") & \" Ramp Terminal\"","v":"NB Ramp Terminal"},{"$f":"IF($D$44=Notes!$J$26,\"SB\",\"WB\") & \" Ramp Terminal\"","v":"SB Ramp Terminal"}]
["Crossroad - Inside Leg",null,null,10000,15000]
["Crossroad - Outside Leg",null,null,10000,15000]
["Exit Ramp",null,null,4500,4500]
["Entrance Ramp",null,null,3000,3000]
["Design Year AADT",null,null,{"$f":"IF($D$44=Notes!$J$26,\"NB\",\"EB\") & \" Ramp Terminal\"","v":"NB Ramp Terminal"},{"$f":"IF($D$44=Notes!$J$26,\"SB\",\"WB\") & \" Ramp Terminal\"","v":"SB Ramp Terminal"}]
["Crossroad - Inside Leg",null,null,30000,30000]
["Crossroad - Outside Leg",null,null,30000,30000]
["Exit Ramp",null,null,5000,5000]
["Entrance Ramp",null,null,3250,3250]
[]
[]
["Ramp Terminal Intersections",null,null,null,null,null,null,null,null,null,"XRD IN",null,"XRD Out",null,"EXIT",null,"ENTR",null,"Terminal 1",null,"Terminal 2",null,"AADT Within Range?"]
["Traffic Control (both intersections)","Include",null,"Base Intersection",null,null,null,null,null,null,"Min","Max","Min","Max","Min","Max","Min","Max","Opening","Design","Opening","Design","Opening","Design"]
["Signalized Diamond","Yes",null,"--",{"$f":"IF(NOT(ISNUMBER(K61)),\"No SPF Available\",IF(OR(NOT(IsChecked_RTI_D4TS),W61),\"\",\"Opening Year AADT Outside of SPF Development Range\"))","v":"Opening Year AADT Outside of SPF Development Range"},null,{"$f":"IF(NOT(ISNUMBER(L61)),\"No SPF Available\",IF(OR(NOT(Input_AnalysisYearType=Label_AnalysisYearType_OpenAndDesign),NOT(IsChecked_RTI_D4TS),X61),\"\",\"Design Year AADT Outside of SPF Development Range\"))","v":""},null,null,null,{"$f":"Definitions!E43","v":14000},{"$f":"Definitions!F43","v":60000},{"$f":"Definitions!E45","v":14000},{"$f":"Definitions!F45","v":60000},{"$f":"Definitions!E47","v":0},{"$f":"Definitions!F47","v":31000},{"$f":"Definitions!E49","v":0},{"$f":"Definitions!F49","v":31000},{"$f":"AND(Input_RTI_OAADTIn1>=K61,Input_RTI_OAADTIn1<=L61,Input_RTI_OAADTOut1>=M61,Input_RTI_OAADTOut1<=N61,Input_RTI_OAADTEx1>=O61,Input_RTI_OAADTEx1<=P61,Input_RTI_OAADTEn1>=Q61,Input_RTI_OAADTEn1<=R61)","v":false},{"$f":"AND(Input_RTI_DAADTIn1>=K61,Input_RTI_DAADTIn1<=L61,Input_RTI_DAADTOut1>=M61,Input_RTI_DAADTOut1<=N61,Input_RTI_DAADTEx1>=O61,Input_RTI_DAADTEx1<=P61,Input_RTI_DAADTEn1>=Q61,Input_RTI_DAADTEn1<=R61)","v":true},{"$f":"AND(Input_RTI_OAADTIn2>=K61,Input_RTI_OAADTIn2<=L61,Input_RTI_OAADTOut2>=M61,Input_RTI_OAADTOut2<=N61,Input_RTI_OAADTEx2>=O61,Input_RTI_OAADTEx2<=P61,Input_RTI_OAADTEn2>=Q61,Input_RTI_OAADTEn2<=R61)","v":true},{"$f":"AND(Input_RTI_DAADTIn2>=K61,Input_RTI_DAADTIn2<=L61,Input_RTI_DAADTOut2>=M61,Input_RTI_DAADTOut2<=N61,Input_RTI_DAADTEx2>=O61,Input_RTI_DAADTEx2<=P61,Input_RTI_DAADTEn2>=Q61,Input_RTI_DAADTEn2<=R61)","v":true},{"$f":"AND(S61,U61)","v":false},{"$f":"AND(T61,V61)","v":true}]
["Signalized Diamond (Alt)","Yes",null,"--",{"$f":"IF(NOT(ISNUMBER(K62)),\"No SPF Available\",IF(OR(NOT(IsChecked_RTI_D4TSA),W62),\"\",\"Opening Year AADT Outside of SPF Development Range\"))","v":"Opening Year AADT Outside of SPF Development Range"},null,{"$f":"IF(NOT(ISNUMBER(L62)),\"No SPF Available\",IF(OR(NOT(Input_AnalysisYearType=Label_AnalysisYearType_OpenAndDesign),NOT(IsChecked_RTI_D4TSA),X62),\"\",\"Design Year AADT Outside of SPF Development Range\"))","v":""},null,null,null,{"$f":"K61","v":14000},{"$f":"L61","v":60000},14000,60000,0,31000,0,31000,{"$f":"S61","v":false},{"$f":"T61","v":true},{"$f":"U61","v":true},{"$f":"V61","v":true},{"$f":"W61","v":false},{"$f":"X61","v":true}]
["Diverging Diamond","Yes",null,"--"]
["Single-Point Diamond","Yes",null,"--",{"$f":"IF(NOT(ISNUMBER(K64)),\"No SPF Available\",IF(OR(NOT(IsChecked_RTI_D4MS),W64),\"\",\"Opening Year AADT Outside of SPF Development Range\"))","v":""},null,{"$f":"IF(NOT(ISNUMBER(L64)),\"No SPF Available\",IF(OR(NOT(Input_AnalysisYearType=Label_AnalysisYearType_OpenAndDesign),NOT(IsChecked_RTI_D4MS),X64),\"\",\"Design Year AADT Outside of SPF Development Range\"))","v":""},null,null,null,14000,70000,14000,70000,14000,80000,14000,80000,"*14k<=Xrd<=70k, 14k<=sum all ramp <=80000",null,null,null,{"$f":"AND(MAX(D49:E49) >= 14000, MAX(D49:E49) <= 70000, SUM(D50:E51)>=14000, SUM(D50:E51)<=80000)","v":true},{"$f":"AND(MAX(D54:E54) <= 70000,SUM(D55:E56)<=80000)","v":true}]
["Unsignalized Diamond","Yes",null,"--",{"$f":"IF(NOT(ISNUMBER(K65)),\"No SPF Available\",IF(OR(NOT(IsChecked_RTI_D4MS),W65),\"\",\"Opening Year AADT Outside of SPF Development Range\"))","v":"Opening Year AADT Outside of SPF Development Range"},null,{"$f":"IF(NOT(ISNUMBER(L65)),\"No SPF Available\",IF(OR(NOT(Input_AnalysisYearType=Label_AnalysisYearType_OpenAndDesign),NOT(IsChecked_RTI_D4MS),X65),\"\",\"Design Year AADT Outside of SPF Development Range\"))","v":"Design Year AADT Outside of SPF Development Range"},null,null,null,{"$f":"Definitions!E42","v":0},{"$f":"Definitions!F42","v":14000},{"$f":"Definitions!E44","v":0},{"$f":"Definitions!F44","v":14000},{"$f":"Definitions!E46","v":0},{"$f":"Definitions!F46","v":10000},{"$f":"Definitions!E48","v":0},{"$f":"Definitions!F48","v":10000},{"$f":"AND(Input_RTI_OAADTIn1>=K65,Input_RTI_OAADTIn1<=L65,Input_RTI_OAADTOut1>=M65,Input_RTI_OAADTOut1<=N65,Input_RTI_OAADTEx1>=O65,Input_RTI_OAADTEx1<=P65,Input_RTI_OAADTEn1>=Q65,Input_RTI_OAADTEn1<=R65)","v":true},{"$f":"AND(Input_RTI_DAADTIn1>=K65,Input_RTI_DAADTIn1<=L65,Input_RTI_DAADTOut1>=M65,Input_RTI_DAADTOut1<=N65,Input_RTI_DAADTEx1>=O65,Input_RTI_DAADTEx1<=P65,Input_RTI_DAADTEn1>=Q65,Input_RTI_DAADTEn1<=R65)","v":false},{"$f":"AND(Input_RTI_OAADTIn2>=K65,Input_RTI_OAADTIn2<=L65,Input_RTI_OAADTOut2>=M65,Input_RTI_OAADTOut2<=N65,Input_RTI_OAADTEx2>=O65,Input_RTI_OAADTEx2<=P65,Input_RTI_OAADTEn2>=Q65,Input_RTI_OAADTEn2<=R65)","v":false},{"$f":"AND(Input_RTI_DAADTIn2>=K65,Input_RTI_DAADTIn2<=L65,Input_RTI_DAADTOut2>=M65,Input_RTI_DAADTOut2<=N65,Input_RTI_DAADTEx2>=O65,Input_RTI_DAADTEx2<=P65,Input_RTI_DAADTEn2>=Q65,Input_RTI_DAADTEn2<=R65)","v":false},{"$f":"AND(S65,U65)","v":false},false]
["1-lane Roundabout","Yes",null,"--",{"$f":"IF(NOT(ISNUMBER(K66)),\"No SPF Available\",IF(OR(NOT(IsChecked_RTI_D4MS),W66),\"\",\"Opening Year AADT Outside of SPF Development Range\"))","v":""},null,{"$f":"IF(NOT(ISNUMBER(L66)),\"No SPF Available\",IF(OR(NOT(Input_AnalysisYearType=Label_AnalysisYearType_OpenAndDesign),NOT(IsChecked_RTI_D4MS),X66),\"\",\"Design Year AADT Outside of SPF Development Range\"))","v":"Design Year AADT Outside of SPF Development Range"},null,null,null,{"$f":"Definitions!$P$5","v":1000},{"$f":"Definitions!$Q$5","v":19733},{"$f":"Definitions!$P$5","v":1000},{"$f":"Definitions!$Q$5","v":19733},{"$f":"Definitions!$R$5","v":280},{"$f":"Definitions!$S$5","v":11239},{"$f":"Definitions!$R$5","v":280},{"$f":"Definitions!$S$5","v":11239},{"$f":"AND(Input_RTI_OAADTIn1>=K66,Input_RTI_OAADTIn1<=L66,Input_RTI_OAADTOut1>=M66,Input_RTI_OAADTOut1<=N66,Input_RTI_OAADTEx1>=O66,Input_RTI_OAADTEx1<=P66,Input_RTI_OAADTEn1>=Q66,Input_RTI_OAADTEn1<=R66)","v":true},{"$f":"AND(Input_RTI_DAADTIn1>=K66,Input_RTI_DAADTIn1<=L66,Input_RTI_DAADTOut1>=M66,Input_RTI_DAADTOut1<=N66,Input_RTI_DAADTEx1>=O66,Input_RTI_DAADTEx1<=P66,Input_RTI_DAADTEn1>=Q66,Input_RTI_DAADTEn1<=R66)","v":false},{"$f":"AND(Input_RTI_OAADTIn2>=K66,Input_RTI_OAADTIn2<=L66,Input_RTI_OAADTOut2>=M66,Input_RTI_OAADTOut2<=N66,Input_RTI_OAADTEx2>=O66,Input_RTI_OAADTEx2<=P66,Input_RTI_OAADTEn2>=Q66,Input_RTI_OAADTEn2<=R66)","v":true},{"$f":"AND(Input_RTI_DAADTIn2>=K66,Input_RTI_DAADTIn2<=L66,Input_RTI_DAADTOut2>=M66,Input_RTI_DAADTOut2<=N66,Input_RTI_DAADTEx2>=O66,Input_RTI_DAADTEx2<=P66,Input_RTI_DAADTEn2>=Q66,Input_RTI_DAADTEn2<=R66)","v":false},true,false]
["2-lane Roundabout","Yes",null,"--",{"$f":"IF(NOT(ISNUMBER(K67)),\"No SPF Available\",IF(OR(NOT(IsChecked_RTI_D4MS),W67),\"\",\"Opening Year AADT Outside of SPF Development Range\"))","v":""},null,{"$f":"IF(NOT(ISNUMBER(L67)),\"No SPF Available\",IF(OR(NOT(Input_AnalysisYearType=Label_AnalysisYearType_OpenAndDesign),NOT(IsChecked_RTI_D4MS),X67),\"\",\"Design Year AADT Outside of SPF Development Range\"))","v":"Design Year AADT Outside of SPF Development Range"},null,null,null,{"$f":"Definitions!$P$8","v":1000},{"$f":"Definitions!$Q$8","v":28333},{"$f":"Definitions!$P$8","v":1000},{"$f":"Definitions!$Q$8","v":28333},{"$f":"Definitions!$R$8","v":390},{"$f":"Definitions!$S$8","v":19371},{"$f":"Definitions!$R$8","v":390},{"$f":"Definitions!$S$8","v":19371},{"$f":"AND(Input_RTI_OAADTIn1>=K67,Input_RTI_OAADTIn1<=L67,Input_RTI_OAADTOut1>=M67,Input_RTI_OAADTOut1<=N67,Input_RTI_OAADTEx1>=O67,Input_RTI_OAADTEx1<=P67,Input_RTI_OAADTEn1>=Q67,Input_RTI_OAADTEn1<=R67)","v":true},{"$f":"AND(Input_RTI_DAADTIn1>=K67,Input_RTI_DAADTIn1<=L67,Input_RTI_DAADTOut1>=M67,Input_RTI_DAADTOut1<=N67,Input_RTI_DAADTEx1>=O67,Input_RTI_DAADTEx1<=P67,Input_RTI_DAADTEn1>=Q67,Input_RTI_DAADTEn1<=R67)","v":false},{"$f":"AND(Input_RTI_OAADTIn2>=K67,Input_RTI_OAADTIn2<=L67,Input_RTI_OAADTOut2>=M67,Input_RTI_OAADTOut2<=N67,Input_RTI_OAADTEx2>=O67,Input_RTI_OAADTEx2<=P67,Input_RTI_OAADTEn2>=Q67,Input_RTI_OAADTEn2<=R67)","v":true},{"$f":"AND(Input_RTI_DAADTIn2>=K67,Input_RTI_DAADTIn2<=L67,Input_RTI_DAADTOut2>=M67,Input_RTI_DAADTOut2<=N67,Input_RTI_DAADTEx2>=O67,Input_RTI_DAADTEx2<=P67,Input_RTI_DAADTEn2>=Q67,Input_RTI_DAADTEn2<=R67)","v":false},true,false]
["Signalized Tight Diamond Interchange","Yes",null,"--",null,null,null,null,null,null,14000,51000,14000,51000,14000,74000,14000,74000,"*14k<=Xrd<=51k, 14k<=sum all ramp <=74k",null,null,null,{"$f":"AND(MAX(D53:E53) >= 14000, MAX(D53:E53) <= 51000, SUM(D54:E55)>=14000, SUM(D54:E55)<=74000)","v":true},{"$f":"AND(MAX(D58:E58) <= 51000,SUM(D59:E60)<=74000)","v":true}]
["Other 1","Yes",null,{"$f":"A61","v":"Signalized Diamond"},"*Please Select"]
["Other 2","Yes",null,"Unsignalized Diamond","*Please Select"]

{"sheet":"Ramp Terminal Inputs","index":4,"n_rows":68,"n_cols":13,"rows_kept":68,"cut":false,"hidden":true,"merged":[[2,12,3,12],[0,0,0,12],[1,0,1,12],[44,1,44,12],[45,12,67,12],[45,6,67,6],[47,7,47,10],[54,7,54,10],[61,7,61,10],[45,1,67,1],[45,2,67,2],[45,3,67,3],[45,4,67,4],[45,5,67,5],[3,3,3,4],[3,5,3,6],[13,1,13,2],[13,3,13,4],[13,5,13,6],[2,11,3,11],[45,11,67,11],[2,7,2,8],[3,7,3,8],[2,9,2,10],[3,9,3,10],[13,7,13,8],[13,9,13,10],[2,5,2,6],[2,1,2,2],[2,3,2,4],[23,1,23,6],[3,1,3,2]]}
["Ramp Terminal Inputs"]
["Provide inputs needed to compute and apply Part C CMFs."]
["Alternative","Signalized Diamond",null,"Signalized Diamond (Alt)",null,"Unsignalized Diamond",null,"1-lane Roundabout",null,"2-lane Roundabout",null,"Single-Point Diamond","Signalized Tight Diamond"]
[null,"4 Leg Terminal w/ Diagonal Ramps (D4)",null,"4 Leg Terminal w/ Diagonal Ramps (D4)",null,"4 Leg Terminal w/ Diagonal Ramps (D4)",null,"4 Leg Terminal w/ Diagonal Ramps (D4)",null,"4 Leg Terminal w/ Diagonal Ramps (D4)"]
["Ramp Terminal  ",{"$f":"'Control Strategy Selection'!$D$47","v":"NB Ramp Terminal"},{"$f":"'Control Strategy Selection'!$E$47","v":"SB Ramp Terminal"},{"$f":"'Control Strategy Selection'!$D$47","v":"NB Ramp Terminal"},{"$f":"'Control Strategy Selection'!$E$47","v":"SB Ramp Terminal"},{"$f":"'Control Strategy Selection'!$D$47","v":"NB Ramp Terminal"},{"$f":"'Control Strategy Selection'!$E$47","v":"SB Ramp Terminal"},{"$f":"'Control Strategy Selection'!$D$47","v":"NB Ramp Terminal"},{"$f":"'Control Strategy Selection'!$E$47","v":"SB Ramp Terminal"},{"$f":"'Control Strategy Selection'!$D$47","v":"NB Ramp Terminal"},{"$f":"'Control Strategy Selection'!$E$47","v":"SB Ramp Terminal"},"Both Ramps","Both Ramps"]
[{"$f":"'Control Strategy Selection'!$A$47:$C$47 & \" \" & 'Control Strategy Selection'!A48:C48","v":"Opening Year AADT Crossroad - Inside Leg"},{"$f":"Input_RTI_OAADTIn1","v":10000},{"$f":"Input_RTI_OAADTIn2","v":15000},{"$f":"Input_RTI_OAADTIn1","v":10000},{"$f":"Input_RTI_OAADTIn2","v":15000},{"$f":"Input_RTI_OAADTIn1","v":10000},{"$f":"Input_RTI_OAADTIn2","v":15000},{"$f":"Input_RTI_OAADTIn1","v":10000},{"$f":"Input_RTI_OAADTIn2","v":15000},{"$f":"Input_RTI_OAADTIn1","v":10000},{"$f":"Input_RTI_OAADTIn2","v":15000},"--","--"]
[{"$f":"'Control Strategy Selection'!$A$47:$C$47 & \" \" & 'Control Strategy Selection'!A49:C49","v":"Opening Year AADT Crossroad - Outside Leg"},{"$f":"Input_RTI_OAADTOut1","v":10000},{"$f":"Input_RTI_OAADTOut2","v":15000},{"$f":"Input_RTI_OAADTOut1","v":10000},{"$f":"Input_RTI_OAADTOut2","v":15000},{"$f":"Input_RTI_OAADTOut1","v":10000},{"$f":"Input_RTI_OAADTOut2","v":15000},{"$f":"Input_RTI_OAADTOut1","v":10000},{"$f":"Input_RTI_OAADTOut2","v":15000},{"$f":"Input_RTI_OAADTOut1","v":10000},{"$f":"Input_RTI_OAADTOut2","v":15000},{"$f":"MAX(Input_RTI_OAADTOut1, Input_RTI_OAADTOut2)","v":15000},{"$f":"MAX(Input_RTI_OAADTOut1, Input_RTI_OAADTOut2)","v":15000}]
[{"$f":"'Control Strategy Selection'!$A$47:$C$47 & \" \" & 'Control Strategy Selection'!A50:C50","v":"Opening Year AADT Exit Ramp"},{"$f":"Input_RTI_OAADTEx1","v":4500},{"$f":"Input_RTI_OAADTEx2","v":4500},{"$f":"Input_RTI_OAADTEx1","v":4500},{"$f":"Input_RTI_OAADTEx2","v":4500},{"$f":"Input_RTI_OAADTEx1","v":4500},{"$f":"Input_RTI_OAADTEx2","v":4500},{"$f":"Input_RTI_OAADTEx1","v":4500},{"$f":"Input_RTI_OAADTEx2","v":4500},{"$f":"Input_RTI_OAADTEx1","v":4500},{"$f":"Input_RTI_OAADTEx2","v":4500},{"$f":"Input_RTI_OAADTEx1 + Input_RTI_OAADTEx2","v":9000},{"$f":"Input_RTI_OAADTEx1 + Input_RTI_OAADTEx2","v":9000}]
[{"$f":"'Control Strategy Selection'!$A$47:$C$47 & \" \" & 'Control Strategy Selection'!A51:C51","v":"Opening Year AADT Entrance Ramp"},{"$f":"Input_RTI_OAADTEn1","v":3000},{"$f":"Input_RTI_OAADTEn2","v":3000},{"$f":"Input_RTI_OAADTEn1","v":3000},{"$f":"Input_RTI_OAADTEn2","v":3000},{"$f":"Input_RTI_OAADTEn1","v":3000},{"$f":"Input_RTI_OAADTEn2","v":3000},{"$f":"Input_RTI_OAADTEn1","v":3000},{"$f":"Input_RTI_OAADTEn2","v":3000},{"$f":"Input_RTI_OAADTEn1","v":3000},{"$f":"Input_RTI_OAADTEn2","v":3000},{"$f":"Input_RTI_OAADTEn1 + Input_RTI_OAADTEn2","v":6000},{"$f":"Input_RTI_OAADTEn1 + Input_RTI_OAADTEn2","v":6000}]
[{"$f":"'Control Strategy Selection'!$A$52:$C$52 & \" \" & 'Control Strategy Selection'!A53:C53","v":"Design Year AADT Crossroad - Inside Leg"},{"$f":"Input_RTI_DAADTIn1","v":30000},{"$f":"Input_RTI_DAADTIn2","v":30000},{"$f":"Input_RTI_DAADTIn1","v":30000},{"$f":"Input_RTI_DAADTIn2","v":30000},{"$f":"Input_RTI_DAADTIn1","v":30000},{"$f":"Input_RTI_DAADTIn2","v":30000},{"$f":"Input_RTI_DAADTIn1","v":30000},{"$f":"Input_RTI_DAADTIn2","v":30000},{"$f":"Input_RTI_DAADTIn1","v":30000},{"$f":"Input_RTI_DAADTIn2","v":30000},"--","--"]
[{"$f":"'Control Strategy Selection'!$A$52:$C$52 & \" \" & 'Control Strategy Selection'!A54:C54","v":"Design Year AADT Crossroad - Outside Leg"},{"$f":"Input_RTI_DAADTOut1","v":30000},{"$f":"Input_RTI_DAADTOut2","v":30000},{"$f":"Input_RTI_DAADTOut1","v":30000},{"$f":"Input_RTI_DAADTOut2","v":30000},{"$f":"Input_RTI_DAADTOut1","v":30000},{"$f":"Input_RTI_DAADTOut2","v":30000},{"$f":"Input_RTI_DAADTOut1","v":30000},{"$f":"Input_RTI_DAADTOut2","v":30000},{"$f":"Input_RTI_DAADTOut1","v":30000},{"$f":"Input_RTI_DAADTOut2","v":30000},{"$f":"MAX(Input_RTI_DAADTOut1, Input_RTI_DAADTOut2)","v":30000},{"$f":"MAX(Input_RTI_DAADTOut1, Input_RTI_DAADTOut2)","v":30000}]
[{"$f":"'Control Strategy Selection'!$A$52:$C$52 & \" \" & 'Control Strategy Selection'!A55:C55","v":"Design Year AADT Exit Ramp"},{"$f":"Input_RTI_DAADTEx1","v":5000},{"$f":"Input_RTI_DAADTEx2","v":5000},{"$f":"Input_RTI_DAADTEx1","v":5000},{"$f":"Input_RTI_DAADTEx2","v":5000},{"$f":"Input_RTI_DAADTEx1","v":5000},{"$f":"Input_RTI_DAADTEx2","v":5000},{"$f":"Input_RTI_DAADTEx1","v":5000},{"$f":"Input_RTI_DAADTEx2","v":5000},{"$f":"Input_RTI_DAADTEx1","v":5000},{"$f":"Input_RTI_DAADTEx2","v":5000},{"$f":"Input_RTI_DAADTEx1 + Input_RTI_DAADTEx2","v":10000},{"$f":"Input_RTI_DAADTEx1 + Input_RTI_DAADTEx2","v":10000}]
[{"$f":"'Control Strategy Selection'!$A$52:$C$52 & \" \" & 'Control Strategy Selection'!A56:C56","v":"Design Year AADT Entrance Ramp"},{"$f":"Input_RTI_DAADTEn1","v":3250},{"$f":"Input_RTI_DAADTEn2","v":3250},{"$f":"Input_RTI_DAADTEn1","v":3250},{"$f":"Input_RTI_DAADTEn2","v":3250},{"$f":"Input_RTI_DAADTEn1","v":3250},{"$f":"Input_RTI_DAADTEn2","v":3250},{"$f":"Input_RTI_DAADTEn1","v":3250},{"$f":"Input_RTI_DAADTEn2","v":3250},{"$f":"Input_RTI_DAADTEn1","v":3250},{"$f":"Input_RTI_DAADTEn2","v":3250},{"$f":"Input_RTI_DAADTEn1 + Input_RTI_DAADTEn2","v":6500},{"$f":"Input_RTI_DAADTEn1 + Input_RTI_DAADTEn2","v":6500}]
["Area Type",{"$f":"Input_RTI_AreaType","v":"Urban"},null,{"$f":"Input_RTI_AreaType","v":"Urban"},null,{"$f":"Input_RTI_AreaType","v":"Urban"},null,{"$f":"Input_RTI_AreaType","v":"Urban"},null,{"$f":"Input_RTI_AreaType","v":"Urban"},null,{"$f":"Input_RTI_AreaType","v":"Urban"}]
["Number of Crossroad Lanes",4,4,4,4,4,4,"N/A","N/A","N/A","N/A","N/A","N/A"]
["Number of through traffic lanes that oppose the left-turn movement on the inside crossroad leg",2,2,2,2,"N/A","N/A","N/A","N/A","N/A","N/A","N/A","N/A"]
["Number of through traffic lanes that oppose the left-turn movement on the outside crossroad leg",{"$f":"Input_D4TS_NLxst1-Input_D4TS_NLTOIn1","v":2},{"$f":"Input_D4TS_NLxst2-Input_D4TS_NLTOIn2","v":2},{"$f":"Input_D4TSA_NLxst1-Input_D4TSA_NLTOIn1","v":2},{"$f":"Input_D4TSA_NLxst2-Input_D4TSA_NLTOIn2","v":2},"N/A","N/A","N/A","N/A","N/A","N/A","N/A","N/A"]
["Number of free-flow right turns from exit ramp to crossroad","N/A","N/A","N/A","N/A","N/A","N/A","N/A","N/A","N/A","N/A",0,"N/A"]
[]
[]
[]
[]
[]
["CMF Inputs","Part C CMFs\nOptional For Stage 1 ICE, Required for Stage 2 ICE"]
["Exit Ramp Skew Angle","N/A","N/A","N/A","N/A",0,0]
["Is a non-ramp public street leg present?","No","No","No","No","N/A","N/A"]
["Exit ramp right turn control"," Signal/Stop/yield-controlled"," Signal/Stop/yield-controlled"," Signal/Stop/yield-controlled"," Signal/Stop/yield-controlled"," Signal/Stop/yield-controlled"," Signal/Stop/yield-controlled"]
["Effective number of lanes serving exit ramp",1,1,1,1,1,1]
["Number of unsignalized driveways on the outside crossroad leg within 250' of the interchange",0,0,0,0,"N/A","N/A"]
["Distance (mi) to the adjacent ramp terminal",0.1,0.1,0.1,0.1,0.1,0.1]
["Distance (mi) to the next public street intersection on the outside crossroad leg",0.15,0.15,0.15,0.15,0.15,0.15]
["# of unsignalized public street approaches on the outside crossroad leg within 250' (<0.05 mi) of the interchange",1,1,1,1,1,1]
["Median Width (ft)",12,12,12,12,12,12]
["Presence of right-turn lane/bay on \"in\" leg","N/A","N/A","N/A","N/A","N/A","N/A"]
["Presence of right-turn lane/bay on outside crossroad leg","Yes","Yes","Yes","Yes","Yes","Yes"]
["Presence of left-turn lane/bay on inside crossroad leg","Yes","Yes","Yes","Yes","Yes","Yes"]
["Left-turn lane/bay Width for inside crossroad leg",12,12,12,12,12,12]
["Presence of left-turn lane/bay on outside crossroad leg","N/A","N/A","N/A","N/A","N/A","N/A"]
["Left-turn lane/bay Width for outside crossroad leg",0,0,0,0,0,0]
["Protected Left-turn operation for inside crossroad leg","No","No","No","No","N/A","N/A"]
["Protected Left-turn operation for outside crossroad leg","N/A","N/A","N/A","N/A","N/A","N/A"]
["Right turn channelization for inside crossroad leg","N/A","N/A","N/A","N/A","N/A","N/A"]
["Right turn channelization for outside crossroad leg","No","No","No","No","N/A","N/A"]
["Right turn channelization for exit ramp","No","No","No","No","N/A","N/A"]
[null,"Roundabout CMF Inputs"]
["Inscribed Circle Diameter (ft)","N/A","N/A","N/A","N/A","N/A","N/A",130,130,125,125,"N/A","N/A"]
["Outbound Only Leg",null,null,null,null,null,null,"Yes","Yes","Yes","Yes"]
["Leg 1 (Crossroad Leg - Inside)",null,null,null,null,null,null,"Leg 1 (Crossroad Leg - Inside)"]
["Opening Year Entering AADT",null,null,null,null,null,null,{"$f":"'Control Strategy Selection'!$D$48*0.5","v":5000},{"$f":"'Control Strategy Selection'!$E$48*0.5","v":7500},{"$f":"'Control Strategy Selection'!$D$48*0.5","v":5000},{"$f":"'Control Strategy Selection'!$E$48*0.5","v":7500}]
["Leg has Right-Turn Bypass",null,null,null,null,null,null,"No","No","No","No"]
["# of Access Points within 250' of Yield Line",null,null,null,null,null,null,0,0,0,0]
["Entering Width (ft)",null,null,null,null,null,null,29,29,29,29]
["# of Entering Lanes",null,null,null,null,null,null,2,2,2,2]
["# of Circulating Lanes",null,null,null,null,null,null,2,2,2,2]
["Leg 2 (Crossroad Leg - Outside)",null,null,null,null,null,null,"Leg 2 (Crossroad Leg - Outside)"]
["Opening Year Entering AADT",null,null,null,null,null,null,{"$f":"'Control Strategy Selection'!$D$49*0.5","v":5000},{"$f":"'Control Strategy Selection'!$E$49*0.5","v":7500},{"$f":"'Control Strategy Selection'!$D$49*0.5","v":5000},{"$f":"'Control Strategy Selection'!$E$49*0.5","v":7500}]
["Leg has Right-Turn Bypass",null,null,null,null,null,null,"No","No","No","No"]
["# of Access Points within 250' of Yield Line",null,null,null,null,null,null,0,0,0,0]
["Entering Width (ft)",null,null,null,null,null,null,29,29,29,29]
["# of Entering Lanes",null,null,null,null,null,null,2,2,2,2]
["# of Circulating Lanes",null,null,null,null,null,null,2,2,2,2]
["Leg 3 (Exit Ramp Inside)",null,null,null,null,null,null,"Leg 3 (Exit Ramp Leg)"]
["Opening Year Entering AADT",null,null,null,null,null,null,{"$f":"('Control Strategy Selection'!$D$50)","v":4500},{"$f":"('Control Strategy Selection'!$E$50)","v":4500},{"$f":"('Control Strategy Selection'!$D$50)","v":4500},{"$f":"('Control Strategy Selection'!$E$50)","v":4500}]
["Leg has Right-Turn Bypass",null,null,null,null,null,null,"No","No","No","No"]
["# of Access Points within 250' of Yield Line",null,null,null,null,null,null,0,0,0,0]
["Entering Width (ft)",null,null,null,null,null,null,29,29,29,29]
["# of Entering Lanes",null,null,null,null,null,null,2,2,2,2]
["# of Circulating Lanes",null,null,null,null,null,null,2,2,2,2]

{"sheet":"RTI_Ranges","index":5,"n_rows":42,"n_cols":8,"rows_kept":42,"cut":false,"hidden":true,"merged":[[7,1,7,2],[7,3,7,4],[7,5,7,6],[17,1,17,6],[0,0,0,6],[1,0,1,6],[2,1,2,2],[2,3,2,4],[2,5,2,6],[3,1,3,2],[3,3,3,4],[3,5,3,6]]}
["Ramp Terminal Inputs"]
["Provide inputs needed to compute and apply Part C CMFs."]
["Alternative","Traffic Signal",null,"Traffic Signal (Alt)",null,"Minor Road (Ramp) Stop"]
[null,"4 Leg Terminal w/ Diagonal Ramps (D4)",null,"4 Leg Terminal w/ Diagonal Ramps (D4)",null,"4 Leg Terminal w/ Diagonal Ramps (D4)"]
["Ramp Terminal  ","NB","SB","NB","SB","NB","SB"]
["Crossroad AADT",18000,17000,{"$f":"B6","v":18000},{"$f":"C6","v":17000},{"$f":"B6","v":18000},{"$f":"C6","v":17000}]
["Ramp AADT",5000,4500,{"$f":"B7","v":5000},{"$f":"C7","v":4500},{"$f":"B7","v":5000},{"$f":"C7","v":4500}]
["Area Type","Urban",null,{"$f":"B8","v":"Urban"},null,{"$f":"B8","v":"Urban"}]
["# of Crossroad Lanes",2,2,2,2,2,2,"2-6  (5,6 Urban only)"]
[]
[]
[]
[]
[]
[]
[]
[]
["Other CMF Inputs","Part C CMFs\nOptional For Stage 1 ICE, Required for Stage 2 ICE"]
["Crossroad Left Turn Lane Present?","Yes ","Yes ","Yes ","Yes ","Yes ","Yes "]
["Crossroad Right Turn Lane Present?","Yes ","Yes ","Yes ","Yes ","Yes ","Yes "]
["Skew Angle","skew","Planning","Double","Not/ Applicable","Include in MRS","Include in MRS"]
["Exit ramp right turn control","mergeRT","Planning","Merge/FF or Signal/Stop/yeild-controlled","Include in TS","Include in MRS","Include in MRS"]
["Effective number of lanes serving exit ramp","nex","Planning","1-2, see graphic","Include in TS","Include in MRS","Include in MRS"]
["Presence of left-turn bay on \"in\" leg","i_LTBayIn","Planning","Yes/No (<100 ft?)","Include in TS","Include in MRS","Include in MRS"]
["Presence of left-turn bay on \"out\" leg","i_LTBayOut","Planning","Yes/No (<100 ft?)","Include in TS","Include in MRS","Include in MRS"]
["Presence of right-turn bay on \"in\" leg","i_RTBayIn","Planning","Yes/No (<100 ft?)","Include in TS","Include in MRS","Include in MRS"]
["Presence of right-turn bay on \"out\" leg","i_RTBayOut","Planning","Yes/No (<100 ft?)","Include in TS","Include in MRS","Include in MRS"]
["Number of Stop-controlled public street approaches to the crossroad leg outside of the interchange and within 250 feet of the ramp terminal","n_ps","Planning","Integer","Include in TS","Include in MRS","Include in MRS"]
["Number of Stop-controlled driveways to the crossroad leg outside of the interchange and within 250 feet of the ramp terminal","n_dw","Planning","Integer","Include in TS","Not Applicable","Not Applicable"]
["Distance between subject ramp terminal and adjacent ramp terminal (from terminal center to terminal center)","l_rmp","Planning","Double","Include in TS","Include in MRS","Include in MRS"]
["distance between subject ramp terminal and nearest public road intersection in a direction away form the freeway","l_str","Planning","Double","Include in TS","Include in MRS","Include in MRS"]
["Width of median adjacent to turn lane for crossroad leg","w_m","Planning","Double","Include in TS","Include in MRS","Include in MRS"]
["Left-turn lane width for \"in\" crossroad leg","w_bkIn","Planning","Double (0.0 if not present)","Include in TS","Include in MRS","Include in MRS"]
["Left-turn lane width for \"out\" crossroad leg","w_bkOut","Planning","Double (0.0 if not present)","Include in TS","Include in MRS","Include in MRS"]
["Number of through traffic lanes that oppose the left-turn movement on the crossroad leg \"in\"","n_oppLTIn","Planning","Integer","Include in TS","Not Applicable","Not Applicable"]
["Number of through traffic lanes that oppose the left-turn movement on the crossroad leg \"out\"","n_oppLTOut","Planning","Integer","Include in TS","Not Applicable","Not Applicable"]
["Protected Left-turn operation indicator for crossroad leg \"in\"","i_protLTIn","Planning","Boolean","Include in TS","Not Applicable","Not Applicable"]
["Protected Left-turn operation indicator for crossroad leg \"out\"","i_protLTOut","Planning","Boolean","Include in TS","Not Applicable","Not Applicable"]
["Right turn channelization indicator for crossroad leg \"in\"","i_crtIn","Planning","Boolean","Include in TS","Not Applicable","Not Applicable"]
["Right turn channelization indicator for crossroad leg \"out\"","i_crtOut","Planning","Boolean","Include in TS","Not Applicable","Not Applicable"]
["Right turn channelization indicator for exit ramp","i_crtEx","Planning","Boolean","Include in TS","Not Applicable","Not Applicable"]
["Non-ramp public street leg indicator","i_ps","Planning","Boolean","Include in TS","Not Applicable","Not Applicable"]

{"sheet":"At-Grade Inputs","index":6,"n_rows":76,"n_cols":32,"rows_kept":76,"cut":false,"hidden":false,"merged":[[16,27,32,28],[16,29,32,30],[14,0,14,34],[6,31,9,34],[10,31,13,34],[4,23,5,24],[4,25,5,26],[6,23,6,24],[6,25,6,26],[7,23,7,24],[7,25,7,26],[8,23,8,24],[8,25,8,26],[9,23,9,24],[9,25,9,26],[6,1,9,2],[4,1,5,2],[10,1,13,2],[10,7,10,8],[11,7,11,8],[12,3,12,4],[13,3,13,4],[26,5,26,6],[27,5,27,6],[62,11,62,12],[62,13,62,14],[57,11,57,12],[57,13,57,14],[58,11,58,12],[58,13,58,14],[59,11,59,12],[59,13,59,14],[60,11,60,12],[60,13,60,14],[61,11,61,12],[61,13,61,14],[51,11,51,12],[51,13,51,14],[52,11,52,12],[52,13,52,14],[53,11,53,12],[53,13,53,14],[54,11,54,12],[54,13,54,14],[55,11,55,12],[55,13,55,14],[45,13,45,14],[46,11,46,12],[46,13,46,14],[47,11,47,12],[47,13,47,14],[48,11,48,12],[48,13,48,14],[50,11,50,12],[50,13,50,14],[62,1,62,2],[62,3,62,4],[62,5,62,6],[62,7,62,8],[62,9,62,10],[34,11,34,12],[34,13,34,14],[36,11,36,12],[36,13,36,14],[37,11,37,12],[37,13,37,14],[38,11,38,12],[38,13,38,14],[39,11,39,12],[39,13,39,14],[40,11,40,12],[40,13,40,14],[41,11,41,12],[41,13,41,14],[43,11,43,12],[43,13,43,14],[44,11,44,12],[44,13,44,14],[45,11,45,12],[60,1,60,2],[60,3,60,4],[60,5,60,6],[60,7,60,8],[60,9,60,10],[61,1,61,2],[61,3,61,4],[61,5,61,6],[61,7,61,8],[61,9,61,10],[58,1,58,2],[58,3,58,4],[58,5,58,6],[58,7,58,8],[58,9,58,10],[59,1,59,2],[59,3,59,4],[59,5,59,6],[59,7,59,8],[59,9,59,10],[55,1,55,2],[55,3,55,4],[55,5,55,6],[55,7,55,8],[55,9,55,10],[57,1,57,2],[57,3,57,4],[57,5,57,6],[57,7,57,8],[57,9,57,10],[53,1,53,2],[53,3,53,4],[53,5,53,6],[53,7,53,8],[53,9,53,10],[54,1,54,2],[54,3,54,4],[54,5,54,6],[54,7,54,8],[54,9,54,10],[51,1,51,2],[51,3,51,4],[51,5,51,6],[51,7,51,8],[51,9,51,10],[52,1,52,2],[52,3,52,4],[52,5,52,6],[52,7,52,8],[52,9,52,10],[48,1,48,2],[48,3,48,4],[48,5,48,6],[48,7,48,8],[48,9,48,10],[50,1,50,2],[50,3,50,4],[50,5,50,6],[50,7,50,8],[50,9,50,10],[46,1,46,2],[46,3,46,4],[46,5,46,6],[46,7,46,8],[46,9,46,10],[47,1,47,2],[47,3,47,4],[47,5,47,6],[47,7,47,8],[47,9,47,10],[44,1,44,2],[44,3,44,4],[44,5,44,6],[44,7,44,8],[44,9,44,10],[45,1,45,2],[45,3,45,4],[45,5,45,6],[45,7,45,8],[45,9,45,10],[41,1,41,2],[41,3,41,4],[41,5,41,6],[41,7,41,8],[41,9,41,10],[43,1,43,2],[43,3,43,4],[43,5,43,6],[43,7,43,8],[43,9,43,10],[38,9,38,10],[39,1,39,2],[39,3,39,4],[39,5,39,6],[39,7,39,8],[39,9,39,10],[40,1,40,2],[40,3,40,4],[40,5,40,6],[40,7,40,8],[40,9,40,10],[33,1,33,14],[35,1,35,14],[42,1,42,14],[49,1,49,14],[56,1,56,14],[34,1,34,2],[34,3,34,4],[34,5,34,6],[34,7,34,8],[34,9,34,10],[36,1,36,2],[36,3,36,4],[36,5,36,6],[36,7,36,8],[36,9,36,10],[37,1,37,2],[37,3,37,4],[37,5,37,6],[37,7,37,8],[37,9,37,10],[38,1,38,2],[38,3,38,4],[38,5,38,6],[38,7,38,8],[11,5,11,6],[12,5,12,6],[13,9,13,10],[22,9,22,10],[23,7,23,8],[23,9,23,10],[23,3,23,4],[25,9,25,10],[16,3,16,4],[17,3,17,4],[24,5,24,6],[13,5,13,6],[16,5,16,6],[17,5,17,6],[18,5,18,6],[19,5,19,6],[20,5,20,6],[21,5,21,6],[22,5,22,6],[23,5,23,6],[22,7,22,8],[18,3,18,4],[21,3,21,4],[22,3,22,4],[28,5,28,6],[29,5,29,6],[30,5,30,6],[31,5,31,6],[32,5,32,6],[30,3,30,4],[31,3,31,4],[25,3,25,4],[29,3,29,4],[26,3,26,4],[28,3,28,4],[25,5,25,6],[19,13,19,14],[23,13,23,14],[19,7,19,8],[20,7,20,8],[19,9,19,10],[20,9,20,10],[31,13,31,14],[28,11,28,12],[28,7,28,8],[28,13,28,14],[30,11,30,12],[22,11,22,12],[22,13,22,14],[25,7,25,8],[20,13,20,14],[21,9,21,10],[21,11,21,12],[19,11,19,12],[20,11,20,12],[29,9,29,10],[29,11,29,12],[29,13,29,14],[26,9,26,10],[26,7,26,8],[28,9,28,10],[21,13,21,14],[7,27,7,28],[8,27,8,28],[9,27,9,28],[15,1,15,14],[7,21,7,22],[23,11,23,12],[25,11,25,12],[25,13,25,14],[16,7,16,8],[16,9,16,10],[16,11,16,12],[16,13,16,14],[16,1,32,2],[18,9,18,10],[18,11,18,12],[18,13,18,14],[21,7,21,8],[30,13,30,14],[29,7,29,8],[32,7,32,8],[32,9,32,10],[32,11,32,12],[32,13,32,14],[31,11,31,12],[4,0,5,0],[4,7,5,8],[4,9,5,10],[4,11,5,12],[4,13,5,14],[13,7,13,8],[11,9,11,10],[10,3,10,4],[4,3,5,4],[6,3,6,4],[7,3,7,4],[8,3,8,4],[9,3,9,4],[11,3,11,4],[12,7,12,8],[10,9,10,10],[4,5,5,6],[6,5,6,6],[7,5,7,6],[8,5,8,6],[9,5,9,6],[10,5,10,6],[4,27,5,28],[4,29,5,30],[8,15,8,16],[9,15,9,16],[6,17,6,18],[7,17,7,18],[7,19,7,20],[8,19,8,20],[9,17,9,18],[9,19,9,20],[6,19,6,20],[8,21,8,22],[9,21,9,22],[8,17,8,18],[6,29,6,30],[7,29,7,30],[8,29,8,30],[9,29,9,30],[6,27,6,28],[6,21,6,22],[12,9,12,10],[4,15,5,16],[4,17,5,18],[4,19,5,20],[4,21,5,22],[6,15,6,16],[7,15,7,16],[6,7,6,8],[7,7,7,8],[8,7,8,8],[9,7,9,8],[6,9,6,10],[7,9,7,10],[8,9,8,10],[9,9,9,10],[6,11,6,12],[7,11,7,12],[8,11,8,12],[6,13,6,14],[7,13,7,14],[8,13,8,14],[9,13,9,14],[9,11,9,12],[3,3,3,8],[16,25,32,26],[16,31,32,34],[19,3,19,4],[20,3,20,4],[27,3,27,4],[31,7,31,8],[31,9,31,10],[24,3,24,4],[16,15,32,16],[16,17,32,18],[16,19,32,20],[16,21,32,22],[16,23,32,24],[17,7,17,8],[17,9,17,10],[17,11,17,12],[17,13,17,14],[18,7,18,8],[32,3,32,4],[26,11,26,12],[26,13,26,14],[30,7,30,8],[30,9,30,10],[72,1,72,2],[74,19,74,20],[75,19,75,20],[65,21,65,22],[66,21,66,22],[67,21,67,22],[68,21,68,22],[69,21,69,22],[70,21,70,22],[71,21,71,22],[72,21,72,22],[73,21,73,22],[74,21,74,22],[75,21,75,22],[65,19,65,20],[66,19,66,20],[67,19,67,20],[68,19,68,20],[69,19,69,20],[70,19,70,20],[71,19,71,20],[72,19,72,20],[73,19,73,20],[73,1,73,2],[74,1,74,2],[75,1,75,2],[66,3,66,4],[66,5,66,6],[66,7,66,8],[66,9,66,10],[66,11,66,12],[66,13,66,14],[68,3,68,4],[68,5,68,6],[68,7,68,8],[68,9,68,10],[68,11,68,12],[68,13,68,14],[70,3,70,4],[70,5,70,6],[70,7,70,8],[66,1,66,2],[67,1,67,2],[68,1,68,2],[69,1,69,2],[70,1,70,2],[71,1,71,2],[69,3,69,4],[75,3,75,4],[75,5,75,6],[75,7,75,8],[75,9,75,10],[75,11,75,12],[75,13,75,14],[75,15,75,16],[75,17,75,18],[72,3,72,4],[72,5,72,6],[72,7,72,8],[72,9,72,10],[72,11,72,12],[72,13,72,14],[72,15,72,16],[72,17,72,18],[73,9,73,10],[73,11,73,12],[73,13,73,14],[73,15,73,16],[73,17,73,18],[74,3,74,4],[74,5,74,6],[74,7,74,8],[63,19,64,22],[68,15,68,16],[68,17,68,18],[67,3,67,4],[67,5,67,6],[67,7,67,8],[67,9,67,10],[67,11,67,12],[67,13,67,14],[67,15,67,16],[67,17,67,18],[66,17,66,18],[65,3,65,4],[65,5,65,6],[65,7,65,8],[65,9,65,10],[65,11,65,12],[65,13,65,14],[65,15,65,16],[65,17,65,18],[63,1,64,18],[65,1,65,2],[66,15,66,16],[73,3,73,4],[73,5,73,6],[73,7,73,8],[74,9,74,10],[74,11,74,12],[74,13,74,14],[74,15,74,16],[74,17,74,18],[70,9,70,10],[70,11,70,12],[70,13,70,14],[70,15,70,16],[70,17,70,18],[69,5,69,6],[69,7,69,8],[69,9,69,10],[69,11,69,12],[69,13,69,14],[69,15,69,16],[69,17,69,18],[71,3,71,4],[71,5,71,6],[71,7,71,8],[71,9,71,10],[71,11,71,12],[71,13,71,14],[71,15,71,16],[71,17,71,18],[34,15,34,16],[34,17,34,18],[35,15,35,16],[35,17,35,18],[36,15,36,16],[36,17,36,18],[37,15,37,16],[37,17,37,18],[38,15,38,16],[38,17,38,18],[39,15,39,16],[39,17,39,18],[40,15,40,16],[40,17,40,18],[41,15,41,16],[41,17,41,18],[42,15,42,16],[42,17,42,18],[43,15,43,16],[43,17,43,18],[44,15,44,16],[44,17,44,18],[45,15,45,16],[45,17,45,18],[46,15,46,16],[46,17,46,18],[47,15,47,16],[47,17,47,18],[48,15,48,16],[48,17,48,18],[49,15,49,16],[49,17,49,18],[50,15,50,16],[50,17,50,18],[51,15,51,16],[51,17,51,18],[52,15,52,16],[52,17,52,18],[53,15,53,16],[53,17,53,18],[59,15,59,16],[59,17,59,18],[60,15,60,16],[60,17,60,18],[61,15,61,16],[61,17,61,18],[62,15,62,16],[62,17,62,18],[34,19,34,20],[39,19,39,20],[44,19,44,20],[49,19,49,20],[54,19,54,20],[59,19,59,20],[54,15,54,16],[54,17,54,18],[55,15,55,16],[55,17,55,18],[56,15,56,16],[56,17,56,18],[57,15,57,16],[57,17,57,18],[58,15,58,16],[58,17,58,18],[34,21,34,22],[35,19,35,20],[35,21,35,22],[36,19,36,20],[36,21,36,22],[37,19,37,20],[37,21,37,22],[38,19,38,20],[38,21,38,22],[39,21,39,22],[40,19,40,20],[40,21,40,22],[41,19,41,20],[41,21,41,22],[42,19,42,20],[42,21,42,22],[43,19,43,20],[43,21,43,22],[51,21,51,22],[52,19,52,20],[52,21,52,22],[53,19,53,20],[53,21,53,22],[44,21,44,22],[45,19,45,20],[45,21,45,22],[46,19,46,20],[46,21,46,22],[47,19,47,20],[47,21,47,22],[48,19,48,20],[48,21,48,22],[59,21,59,22],[60,19,60,20],[60,21,60,22],[61,19,61,20],[61,21,61,22],[62,19,62,20],[62,21,62,22],[33,15,33,16],[33,17,33,18],[33,19,33,20],[33,21,33,22],[54,21,54,22],[55,19,55,20],[55,21,55,22],[56,19,56,20],[56,21,56,22],[57,19,57,20],[57,21,57,22],[58,19,58,20],[58,21,58,22],[49,21,49,22],[50,19,50,20],[50,21,50,22],[51,19,51,20]]}
["At-Grade Intersection Inputs"]
["Provide inputs needed to compute and apply Part C CMFs."]
[]
[null,null,null,"Control Strategy"]
["Input",null,null,{"$f":"Label_AGI_TrafficSignal","v":"Traffic Signal"},null,{"$f":"Label_AGI_TrafficSignal&\" (Alt)\"","v":"Traffic Signal (Alt)"},null,{"$f":"Label_AGI_MinorStop","v":"Minor Road Stop"},null,{"$f":"Label_AGI_AllStop","v":"All Way Stop"},null,{"$f":"Label_AGI_1LnRdbt","v":"1-lane Roundabout"},null,{"$f":"Label_AGI_2LnRdbt","v":"2-lane Roundabout"},null,{"$f":"Label_AGI_DLT","v":"Displaced Left Turn (DLT)"},null,{"$f":"Label_AGI_MUT","v":"Median U-Turn (MUT)"},null,{"$f":"Label_AGI_RCUTSig","v":"Signalized RCUT"},null,{"$f":"Label_AGI_RCUTUnsig","v":"Unsignalized RCUT"},null,"Signalized Thru-Cut",null,"Unsignalized Thru-Cut",null,{"$f":"Label_AGI_GreenT","v":"Continuous Green-T Intersection"},null,{"$f":"Label_AGI_Jughandle","v":"Jughandle"}]
[]
["Opening Year Major Road AADT","Optional AADT Overrides",null,{"$f":"Input_Base_OAADTMajor","v":0},null,{"$f":"Input_Base_OAADTMajor","v":0},null,{"$f":"Input_Base_OAADTMajor","v":0},null,{"$f":"Input_Base_OAADTMajor","v":0},null,{"$f":"Input_Base_OAADTMajor","v":0},null,{"$f":"Input_Base_OAADTMajor","v":0},null,{"$f":"Input_Base_OAADTMajor","v":0},null,{"$f":"Input_Base_OAADTMajor","v":0},null,{"$f":"Input_Base_OAADTMajor","v":0},null,{"$f":"Input_Base_OAADTMajor","v":0},null,{"$f":"Input_Base_OAADTMajor","v":0},null,{"$f":"Input_Base_OAADTMajor","v":0},null,{"$f":"Input_Base_OAADTMajor","v":0},null,{"$f":"Input_Base_OAADTMajor","v":0},null,"All strategies will have the same AADT as the Base Conditions unless overridden by user."]
["Opening Year Minor Road AADT",null,null,{"$f":"Input_Base_OAADTMinor","v":0},null,{"$f":"Input_Base_OAADTMinor","v":0},null,{"$f":"Input_Base_OAADTMinor","v":0},null,{"$f":"Input_Base_OAADTMinor","v":0},null,{"$f":"Input_Base_OAADTMinor","v":0},null,{"$f":"Input_Base_OAADTMinor","v":0},null,{"$f":"Input_Base_OAADTMinor","v":0},null,{"$f":"Input_Base_OAADTMinor","v":0},null,{"$f":"Input_Base_OAADTMinor","v":0},null,{"$f":"Input_Base_OAADTMinor","v":0},null,{"$f":"Input_Base_OAADTMinor","v":0},null,{"$f":"Input_Base_OAADTMinor","v":0},null,{"$f":"Input_Base_OAADTMinor","v":0},null,{"$f":"Input_Base_OAADTMinor","v":0}]
["Design Year Major Road AADT",null,null,{"$f":"Input_Base_DAADTMajor","v":0},null,{"$f":"Input_Base_DAADTMajor","v":0},null,{"$f":"Input_Base_DAADTMajor","v":0},null,{"$f":"Input_Base_DAADTMajor","v":0},null,{"$f":"Input_Base_DAADTMajor","v":0},null,{"$f":"Input_Base_DAADTMajor","v":0},null,{"$f":"Input_Base_DAADTMajor","v":0},null,{"$f":"Input_Base_DAADTMajor","v":0},null,{"$f":"Input_Base_DAADTMajor","v":0},null,{"$f":"Input_Base_DAADTMajor","v":0},null,{"$f":"Input_Base_DAADTMajor","v":0},null,{"$f":"Input_Base_DAADTMajor","v":0},null,{"$f":"Input_Base_DAADTMajor","v":0},null,{"$f":"Input_Base_DAADTMajor","v":0}]
["Design Year Minor Road AADT",null,null,{"$f":"Input_Base_DAADTMinor","v":0},null,{"$f":"Input_Base_DAADTMinor","v":0},null,{"$f":"Input_Base_DAADTMinor","v":0},null,{"$f":"Input_Base_DAADTMinor","v":0},null,{"$f":"Input_Base_DAADTMinor","v":0},null,{"$f":"Input_Base_DAADTMinor","v":0},null,{"$f":"Input_Base_DAADTMinor","v":0},null,{"$f":"Input_Base_DAADTMinor","v":0},null,{"$f":"Input_Base_DAADTMinor","v":0},null,{"$f":"Input_Base_DAADTMinor","v":0},null,{"$f":"Input_Base_DAADTMinor","v":0},null,{"$f":"Input_Base_DAADTMinor","v":0},null,{"$f":"Input_Base_DAADTMinor","v":0},null,{"$f":"Input_Base_DAADTMinor","v":0}]
["Number of Approaches with Left-Turn Lanes","Additional Required Control Strategy Inputs",null,0,null,0,null,null,null,0,null,null,null,null,null,null,null,null,null,null,null,null,null,null,null,null,null,null,null,null,null,"Do not include stop controlled approaches for minor stop"]
["Number of Approaches with Right-Turn Lanes",null,null,0,null,0,null,null,null,0]
["Number of Uncontrolled Approaches with Left-Turn Lanes",null,null,null,null,null,null,0]
["Number of Uncontrolled Approaches with Right-Turn Lanes",null,null,null,null,null,null,0]
["Keep default values below here for planning-level analysis, override with actual values for full HSM Analysis"]
[null,"Part C CMFS\nOptional For Stage 1 ICE, Required for Stage 2 ICE"]
["Skew Angle","A yellow cell indicates the value may be used in the SPF computation",null,"N/A",null,"N/A",null,0,null,"N/A",null,"N/A",null,"N/A",null,"CMF - No Inputs Required",null,"CMF - No Inputs Required",null,"Scroll Down for Signalized RCUT SPF Inputs",null,"Scroll Down for Unsignalized RCUT SPF Inputs",null,"CMF - No Inputs Required",null,"CMF - No Inputs Required",null,"CMF - No Inputs Required",null,"CMF - No Inputs Required",null,"All yellow cells will be automatically populated by a macro. If users want to do a planning-level analysis, they can leave the automatic inputs as-is"]
["Lighting Present",null,null,"Yes",null,"Yes",null,"Yes",null,"Yes"]
["# of Approaches Permissive LT Signal Phasing",null,null,0,null,0,null,"N/A",null,"N/A",null,"N/A",null,"N/A"]
["# of Approaches Perm/Prot LT Signal Phasing",null,null,0,null,0]
["# of Approaches Protected LT Signal Phasing",null,null,0,null,0]
["Number of Approaches with Right-Turn-on-Red Prohibited",null,null,0,null,0,null,"N/A",null,"N/A",null,"N/A",null,"N/A"]
["Red Light Cameras Present",null,null,"No",null,"No",null,"N/A",null,"N/A",null,"N/A",null,"N/A"]
["Number of Major Street Through Lanes",null,null,0,null,0,null,"N/A",null,"N/A",null,"N/A",null,"N/A"]
["Number of Minor Street Lanes",null,null,0,null,0]
["# of Major St Approaches w/ Right-Turn Channelization",null,null,0,null,0,null,"N/A",null,"N/A",null,"N/A",null,"N/A"]
["Number of Approaches with U-Turn Prohibited",null,null,0,null,0,null,"N/A",null,"N/A",null,"N/A",null,"N/A"]
["Pedestrian Volume by Activity Level",null,null,"Low (50)",null,"Low (50)"]
["User Specified Sum of all daily pedestrian crossing volumes",null,null,50,null,50,null,"N/A",null,"N/A",null,"N/A",null,"N/A"]
["Max # of Lanes Crossed by Pedestrians",null,null,5,null,5,null,"N/A",null,"N/A",null,"N/A",null,"N/A"]
["Number of Bus Stops within 1000' of Intersection",null,null,0,null,0,null,{"$f":"Input_AGI_NumBusStops","v":0},null,{"$f":"Input_AGI_NumBusStops","v":0},null,{"$f":"Input_AGI_NumBusStops","v":0},null,{"$f":"Input_AGI_NumBusStops","v":0}]
["Schools within 1000' of intersection",null,null,"No",null,"No",null,{"$f":"Input_AGI_HasSchool","v":"No"},null,{"$f":"Input_AGI_HasSchool","v":"No"},null,{"$f":"Input_AGI_HasSchool","v":"No"},null,{"$f":"Input_AGI_HasSchool","v":"No"}]
["Number of Alcohol Sales Establishments within 1000' of Intersection",null,null,0,null,0,null,{"$f":"Input_AGI_NumABC","v":0},null,{"$f":"Input_AGI_NumABC","v":0},null,{"$f":"Input_AGI_NumABC","v":0},null,{"$f":"Input_AGI_NumABC","v":0}]
[null,"Roundabout CMF Inputs"]
["Inscribed Circle Diameter (ft)",null,null,null,null,null,null,null,null,null,null,130,null,125]
["Leg 1 (Major Leg #1)","Leg 1 (Major Leg #1)"]
["Opening Year Entering AADT",null,null,null,null,null,null,null,null,null,null,{"$f":"('Control Strategy Selection'!D13)*0.5","v":0},null,{"$f":"('Control Strategy Selection'!D13)*0.5","v":0}]
["Leg has Right-Turn Bypass",null,null,null,null,null,null,null,null,null,null,"No",null,"No"]
["# of Access Points within 250' of Yield Line",null,null,null,null,null,null,null,null,null,null,0,null,0]
["Entering Width (ft)",null,null,null,null,null,null,null,null,null,null,29,null,29]
["# of Entering Lanes",null,null,null,null,null,null,null,null,null,null,2,null,2]
["# of Circulating Lanes",null,null,null,null,null,null,null,null,null,null,2,null,2]
["Leg 2 (Major Leg #2)","Leg 2 (Major Leg #2)"]
["Opening Year Entering AADT",null,null,null,null,null,null,null,null,null,null,{"$f":"('Control Strategy Selection'!$D$13)-Input_AGI_R1_AADT_L1","v":0},null,{"$f":"('Control Strategy Selection'!$D$13)-Input_AGI_R2_AADT_L1","v":0}]
["Leg has Right-Turn Bypass",null,null,null,null,null,null,null,null,null,null,"No",null,"No"]
["# of Access Points within 250' of Yield Line",null,null,null,null,null,null,null,null,null,null,0,null,0]
["Entering Width (ft)",null,null,null,null,null,null,null,null,null,null,29,null,29]
["# of Entering Lanes",null,null,null,null,null,null,null,null,null,null,2,null,2]
["# of Circulating Lanes",null,null,null,null,null,null,null,null,null,null,2,null,2]
["Leg 3 (Minor Leg #1)","Leg 3 (Minor Leg #1)"]
["Opening Year Entering AADT",null,null,null,null,null,null,null,null,null,null,{"$f":"('Control Strategy Selection'!D14)*0.5","v":0},null,{"$f":"('Control Strategy Selection'!D14)*0.5","v":0}]
["Leg has Right-Turn Bypass",null,null,null,null,null,null,null,null,null,null,"No",null,"No"]
["# of Access Points within 250' of Yield Line",null,null,null,null,null,null,null,null,null,null,0,null,0]
["Entering Width (ft)",null,null,null,null,null,null,null,null,null,null,29,null,29]
["# of Entering Lanes",null,null,null,null,null,null,null,null,null,null,2,null,2]
["# of Circulating Lanes",null,null,null,null,null,null,null,null,null,null,2,null,2]
["Leg 4 (Minor Leg #2)","Leg 4 (Minor Leg #2)"]
["Opening Year Entering AADT",null,null,null,null,null,null,null,null,null,null,{"$f":"('Control Strategy Selection'!$D$14)-Input_AGI_R1_AADT_L3","v":0},null,{"$f":"('Control Strategy Selection'!$D$14)-Input_AGI_R2_AADT_L3","v":0}]
["Leg has Right-Turn Bypass",null,null,null,null,null,null,null,null,null,null,"No",null,"No"]
["# of Access Points within 250' of Yield Line",null,null,null,null,null,null,null,null,null,null,0,null,0]
["Entering Width (ft)",null,null,null,null,null,null,null,null,null,null,29,null,29]
["# of Entering Lanes",null,null,null,null,null,null,null,null,null,null,2,null,2]
["# of Circulating Lanes",null,null,null,null,null,null,null,null,null,null,2,null,2]
[null,null,null,null,null,null,null,null,null,null,null,null,null,null,null,null,null,null,null,"Restricted Crossing U-Turn (RCUT) CMF Inputs"]
[]
["# U-Turns",null,null,null,null,null,null,null,null,null,null,null,null,null,null,null,null,null,null,2,null,2]
["# of Major Roadway Lanes",null,null,null,null,null,null,null,null,null,null,null,null,null,null,null,null,null,null,2]
["# of Minor Roadway Lanes",null,null,null,null,null,null,null,null,null,null,null,null,null,null,null,null,null,null,2]
["Total Offset Distance (ft)",null,null,null,null,null,null,null,null,null,null,null,null,null,null,null,null,null,null,1250,null,1250]
["Number of Driveways",null,null,null,null,null,null,null,null,null,null,null,null,null,null,null,null,null,null,4,null,4]
["Total Deceleration Lane Length (ft)",null,null,null,null,null,null,null,null,null,null,null,null,null,null,null,null,null,null,750,null,750]
["Total Acceleration Lane Length (ft)",null,null,null,null,null,null,null,null,null,null,null,null,null,null,null,null,null,null,null,null,750]
["Number of Left-Turn Lanes From Major Road",null,null,null,null,null,null,null,null,null,null,null,null,null,null,null,null,null,null,1]
["Major Road Speed Limit (mph)",null,null,null,null,null,null,null,null,null,null,null,null,null,null,null,null,null,null,"<=50"]
["Total Median Width (ft)",null,null,null,null,null,null,null,null,null,null,null,null,null,null,null,null,null,null,65]
["Maximum Median Width (ft)",null,null,null,null,null,null,null,null,null,null,null,null,null,null,null,null,null,null,null,null,40]

{"sheet":"SSI Inputs","index":7,"n_rows":76,"n_cols":22,"rows_kept":76,"cut":false,"hidden":false,"merged":[[23,19,27,26],[55,11,55,12],[56,11,56,12],[11,1,11,17],[12,12,12,15],[12,1,12,3],[54,1,54,4],[55,1,55,4],[9,1,9,11],[53,1,53,4],[12,8,12,9],[18,1,20,6],[16,7,16,10],[17,7,17,10],[58,1,58,4],[59,1,59,4],[60,1,60,4],[0,0,0,17],[1,0,1,17],[44,1,44,4],[45,1,45,4],[46,1,46,4],[47,1,47,4],[48,1,48,4],[49,1,49,4],[50,1,50,4],[51,1,51,4],[52,1,52,4],[7,1,7,11],[8,1,8,11],[71,1,71,4],[72,1,72,4],[42,1,42,5],[42,7,42,12],[66,1,66,4],[67,1,67,4],[68,1,68,4],[69,1,69,4],[70,1,70,4],[61,1,61,4],[62,1,62,4],[63,1,63,4],[64,1,64,4],[65,1,65,4],[56,1,56,4],[57,1,57,4]]}
["Safe System Intersection (SSI) Inputs"]
["Specify the geomtric, exposure, severity, and conflicting traffic complexity inputs required for an SSI analysis.",null,null,null,null,null,null,null,null,null,null,null,null,null,null,null,null,null,null,null,"Is Design?",{"$f":"Input_AnalysisYearType=Notes!A12","v":true}]
[null,null,null,null,null,null,null,null,null,null,null,null,null,null,null,null,null,null,null,null,"Is 3-Leg?",{"$f":"Input_NumLegs=Notes!A48","v":false}]
[null,"1. Roadway Geometry",null,null,null,"Lanes",null,"Optional Major Street Designation",null,null,null,null,null,"Required Inputs"]
[null,"Major number thru lanes (one direction)",null,null,null,2,null,"Select major street direction",null,null,"N-S",null,null,"Default Available, Override Optional"]
[null,"Minor number thru lanes (one direction)",null,null,null,2,null,null,null,null,null,null,null,"Planning-Level Default Input"]
[null,null,null,null,null,null,null,null,null,null,null,null,null,"Computed Value, Override Optional"]
[null,"2. Complete the \"Exposure\" inputs.  These inputs will apply to all interesections selected for analysis.",null,null,null,null,null,null,null,null,null,null,null,"Computed Value - No Override"]
[null,"3. Complete the \"Severity\" inputs",null,null,null,null,null,null,null,null,null,null,null,"Disabled Cell (Often based on input selections)"]
[null,"4. Complete the \"Conflicting Traffic Complexity\" inputs"]
[]
[null,"2. Exposure - All Intersections"]
[null,"Average Daily Traffic (veh/day)",null,null,"Open","Design",null,null,"ADT Directional Split",null,null,null,"Nonmotorized Total ADT (ped/day)",null,null,null,"Activity Level","ADT Value (ped/day)"]
[null,"Major",null,null,{"$f":"IF(Input_Base_OAADTMajor>0,Input_Base_OAADTMajor,\"--\")","v":"--"},{"$f":"IF(Input_Base_DAADTMajor>0,Input_Base_DAADTMajor,\"--\")","v":"--"},null,null,"Major",0.5,null,null,"Open Year Total Intersection NM",null,null,null,"Medium (700)",700]
[null,"Minor",null,null,{"$f":"IF(Input_Base_OAADTMinor>0,Input_Base_OAADTMinor,\"--\")","v":"--"},{"$f":"IF(Input_Base_DAADTMinor>0,Input_Base_DAADTMinor,\"--\")","v":"--"},null,null,"Minor",0.5,null,null,"Design Year Total Intersection NM",null,null,null,"Medium (700)",700]
[null,null,null,null,null,null,null,null,null,null,null,null,"(or overwrite ped movement ADTs below)"]
[null,"Are turning movement ADT values are available?",null,null,null,null,"No","If \"Yes\", input values in Table 2-A",null,null,null,null,"Nonmotorized Movement ADT (ped/day)",null,null,null,"Open","Design"]
[null,"Are peak hour turning movement counts available?",null,null,null,null,"No","If \"Yes\", input values in Table 2-B",null,null,null,null,"Major NM 1 (NM mvmt crossing Maj1)",null,null,null,{"$f":"$R$14/IF(IS_3LEG,3,4)","v":175},{"$f":"$R$15/IF(IS_3LEG,3,4)","v":175}]
[null,"If no turning movment volumes or counts are available, a user can optionally override the planning-level default turning movment proportions in Table 2-C",null,null,null,null,null,null,null,null,null,null,"Major NM 2",null,null,null,{"$f":"$R$14/IF(IS_3LEG,3,4)","v":175},{"$f":"$R$15/IF(IS_3LEG,3,4)","v":175}]
[null,null,null,null,null,null,null,null,null,null,null,null,"Minor NM 1",null,null,null,{"$f":"$R$14/IF(IS_3LEG,3,4)","v":175},{"$f":"$R$15/IF(IS_3LEG,3,4)","v":175}]
[null,null,null,null,null,null,null,null,null,null,null,null,"Minor NM 2",null,null,null,{"$f":"IF(IS_3LEG,0,$R$14/4)","v":175},{"$f":"IF(IS_3LEG,0,$R$15/4)","v":175}]
[]
[]
[null,"Table 2-A: Turning Movement (vol/day)",null,null,null,null,"Table 2-B: Turning Movement Counts (Optional)",null,null,null,null,null,null,null,null,"Table 2-C: Turning Proportions (optional)",null,null,null,"Turning movment proportions specified in Table 2-C (and by extension, the percentages determined in Table 2-B) are considered to be constant between the Open and Design years of the analysis."]
[null,null,null,"Open","Design",null,null,null,"Mvmt","AM Peak","AM %","PM Peak","PM %","Avg %",null,null,null,"Decimal"]
[null,"Major Thru 1",null,{"$f":"$E$14*$J$14*R26","v":{"$error":"#VALUE!"}},{"$f":"$F$14*$J$14*R26","v":{"$error":"#VALUE!"}},null,"Major Thru 1",null,{"$f":"IF($K$5=\"N-S\",\"NBT\", \"EBT\")","v":"NBT"},null,{"$f":"J26/SUM(J$26:J$28)","v":{"$error":"#DIV/0!"}},null,{"$f":"L26/SUM(L$26:L$28)","v":{"$error":"#DIV/0!"}},{"$f":"AVERAGE(K26,M26)","v":{"$error":"#DIV/0!"}},null,"Major Thru 1",null,{"$f":"1-SUM(R27:R28)","v":0.5}]
[null,"Major Left Turn 1",null,{"$f":"$E$14*$J$14*R27","v":{"$error":"#VALUE!"}},{"$f":"$F$14*$J$14*R27","v":{"$error":"#VALUE!"}},null,"Major Left Turn 1",null,{"$f":"IF($K$5=\"N-S\",\"NBL\", \"EBL\")","v":"NBL"},null,{"$f":"J27/SUM(J$26:J$28)","v":{"$error":"#DIV/0!"}},null,{"$f":"L27/SUM(L$26:L$28)","v":{"$error":"#DIV/0!"}},{"$f":"AVERAGE(K27,M27)","v":{"$error":"#DIV/0!"}},null,"Major Left Turn 1",null,{"$f":"IF(IS_3LEG,0,IF(AND(J27<>0,L27<>0),N27,0.25))","v":0.25}]
[null,"Major Right Turn 1",null,{"$f":"$E$14*$J$14*R28","v":{"$error":"#VALUE!"}},{"$f":"$F$14*$J$14*R28","v":{"$error":"#VALUE!"}},null,"Major Right Turn 1",null,{"$f":"IF($K$5=\"N-S\",\"NBR\", \"EBR\")","v":"NBR"},null,{"$f":"J28/SUM(J$26:J$28)","v":{"$error":"#DIV/0!"}},null,{"$f":"L28/SUM(L$26:L$28)","v":{"$error":"#DIV/0!"}},{"$f":"AVERAGE(K28,M28)","v":{"$error":"#DIV/0!"}},null,"Major Right Turn 1",null,{"$f":"IF(AND(J28<>0,L28<>0),N28,0.25)","v":0.25}]
[]
[null,"Major Thru 2",null,{"$f":"$E$14*$J$14*R30","v":{"$error":"#VALUE!"}},{"$f":"$F$14*$J$14*R30","v":{"$error":"#VALUE!"}},null,"Major Thru 2",null,{"$f":"IF($K$5=\"N-S\",\"SBT\", \"WBT\")","v":"SBT"},null,{"$f":"J30/SUM(J$30:J$32)","v":{"$error":"#DIV/0!"}},null,{"$f":"L30/SUM(L$30:L$32)","v":{"$error":"#DIV/0!"}},{"$f":"AVERAGE(K30,M30)","v":{"$error":"#DIV/0!"}},null,"Major Thru 2",null,{"$f":"1-SUM(R31:R32)","v":0.5}]
[null,"Major Left Turn 2",null,{"$f":"$E$14*$J$14*R31","v":{"$error":"#VALUE!"}},{"$f":"$F$14*$J$14*R31","v":{"$error":"#VALUE!"}},null,"Major Left Turn 2",null,{"$f":"IF($K$5=\"N-S\",\"SBL\", \"WBL\")","v":"SBL"},null,{"$f":"J31/SUM(J$30:J$32)","v":{"$error":"#DIV/0!"}},null,{"$f":"L31/SUM(L$30:L$32)","v":{"$error":"#DIV/0!"}},{"$f":"AVERAGE(K31,M31)","v":{"$error":"#DIV/0!"}},null,"Major Left Turn 2",null,{"$f":"IF(AND(J31<>0,L31<>0),N31,0.25)","v":0.25}]
[null,"Major Right Turn 2",null,{"$f":"$E$14*$J$14*R32","v":{"$error":"#VALUE!"}},{"$f":"$F$14*$J$14*R32","v":{"$error":"#VALUE!"}},null,"Major Right Turn 2",null,{"$f":"IF($K$5=\"N-S\",\"SBR\", \"WBR\")","v":"SBR"},null,{"$f":"J32/SUM(J$30:J$32)","v":{"$error":"#DIV/0!"}},null,{"$f":"L32/SUM(L$30:L$32)","v":{"$error":"#DIV/0!"}},{"$error":"#DIV/0!"},null,"Major Right Turn 2",null,{"$f":"IF(IS_3LEG,0,IF(AND(J32<>0,L32<>0),M32,0.25))","v":0.25}]
[]
[null,"Minor Thru 1",null,{"$f":"$E$15*$J$15*R34","v":{"$error":"#VALUE!"}},{"$f":"$F$15*$J$15*R34","v":{"$error":"#VALUE!"}},null,"Minor Thru 1",null,{"$f":"IF($K$5=\"N-S\",\"EBT\", \"NBT\")","v":"EBT"},null,{"$f":"J34/SUM(J$34:J$36)","v":{"$error":"#DIV/0!"}},null,{"$f":"L34/SUM(L$34:L$36)","v":{"$error":"#DIV/0!"}},{"$f":"AVERAGE(K34,M34)","v":{"$error":"#DIV/0!"}},null,"Minor Thru 1",null,{"$f":"1-SUM(R35:R36)","v":0.5}]
[null,"Minor Left Turn 1",null,{"$f":"$E$15*$J$15*R35","v":{"$error":"#VALUE!"}},{"$f":"$F$15*$J$15*R35","v":{"$error":"#VALUE!"}},null,"Minor Left Turn 1",null,{"$f":"IF($K$5=\"N-S\",\"EBL\", \"NBL\")","v":"EBL"},null,{"$f":"J35/SUM(J$34:J$36)","v":{"$error":"#DIV/0!"}},null,{"$f":"L35/SUM(L$34:L$36)","v":{"$error":"#DIV/0!"}},{"$f":"AVERAGE(K35,M35)","v":{"$error":"#DIV/0!"}},null,"Minor Left Turn 1",null,{"$f":"IF(AND(J35<>0,L35<>0),N35,IF(IS_3LEG,0.5,0.25))","v":0.25}]
[null,"Minor Right Turn 1",null,{"$f":"$E$15*$J$15*R36","v":{"$error":"#VALUE!"}},{"$f":"$F$15*$J$15*R36","v":{"$error":"#VALUE!"}},null,"Minor Right Turn 1",null,{"$f":"IF($K$5=\"N-S\",\"EBR\", \"NBR\")","v":"EBR"},null,{"$f":"J36/SUM(J$34:J$36)","v":{"$error":"#DIV/0!"}},null,{"$f":"L36/SUM(L$34:L$36)","v":{"$error":"#DIV/0!"}},{"$error":"#DIV/0!"},null,"Minor Right Turn 1",null,{"$f":"IF(AND(J36<>0,L36<>0),M36,IF(IS_3LEG,0.5,0.25))","v":0.25}]
[]
[null,"Minor Thru 2",null,{"$f":"$E$15*$J$15*R38","v":{"$error":"#VALUE!"}},{"$f":"$F$15*$J$15*R38","v":{"$error":"#VALUE!"}},null,"Minor Thru 2",null,{"$f":"IF($K$5=\"N-S\",\"WBT\", \"SBT\")","v":"WBT"},null,{"$f":"J38/SUM(J$38:J$40)","v":{"$error":"#DIV/0!"}},null,{"$f":"L38/SUM(L$38:L$40)","v":{"$error":"#DIV/0!"}},{"$f":"AVERAGE(K38,M38)","v":{"$error":"#DIV/0!"}},null,"Minor Thru 2",null,{"$f":"IF(IS_3LEG,0,1-SUM(R39:R40))","v":0.5}]
[null,"Minor Left Turn 2",null,{"$f":"$E$15*$J$15*R39","v":{"$error":"#VALUE!"}},{"$f":"$F$15*$J$15*R39","v":{"$error":"#VALUE!"}},null,"Minor Left Turn 2",null,{"$f":"IF($K$5=\"N-S\",\"WBL\", \"SBL\")","v":"WBL"},null,{"$f":"J39/SUM(J$38:J$40)","v":{"$error":"#DIV/0!"}},null,{"$f":"L39/SUM(L$38:L$40)","v":{"$error":"#DIV/0!"}},{"$f":"AVERAGE(K39,M39)","v":{"$error":"#DIV/0!"}},null,"Minor Left Turn 2",null,{"$f":"IF(IS_3LEG,0,IF(AND(J39<>0,L39<>0),N39,0.25))","v":0.25}]
[null,"Minor Right Turn 2",null,{"$f":"$E$15*$J$15*R40","v":{"$error":"#VALUE!"}},{"$f":"$F$15*$J$15*R40","v":{"$error":"#VALUE!"}},null,"Minor Right Turn 2",null,{"$f":"IF($K$5=\"N-S\",\"WBR\", \"SBR\")","v":"WBR"},null,{"$f":"J40/SUM(J$38:J$40)","v":{"$error":"#DIV/0!"}},null,{"$f":"L40/SUM(L$38:L$40)","v":{"$error":"#DIV/0!"}},{"$error":"#DIV/0!"},null,"Minor Right Turn 2",null,{"$f":"IF(IS_3LEG,0,IF(AND(J39<>0,L39<>0),N39,0.25))","v":0.25}]
[]
[]
[null,"3. Severity",null,null,null,null,null,"4. Conflicting Traffic Complexity"]
[]
[null,"Vehicle Speeds",null,null,null,"mph",null,"Traffic Control",null,null,null,null,"Decimal"]
[null,"Major Posted Speed Limit",null,null,null,45,null,"BTCAV for permitted",null,null,null,null,1]
[null,"Minor Posted Speed Limit",null,null,null,35,null,"BTCAV for protected/permitted",null,null,null,null,0.85]
[null,null,null,null,null,null,null,"BTCAV for protected",null,null,null,null,0.01]
[null,"Major thru",null,null,null,{"$f":"F46","v":45},null,"BTCAV for stop-controlled",null,null,null,null,0.45]
[null,"Major left",null,null,null,20]
[null,"Major right",null,null,null,15,null,"Weight, f, for permitted",null,null,null,null,0.5]
[null,"Minor thru",null,null,null,{"$f":"F47*0.85","v":29.75},null,"Weight, f, for protected/permitted",null,null,null,null,0.5]
[null,"Minor left",null,null,null,20,null,"Weight, f, for protected",null,null,null,null,0.5]
[null,"Minor right",null,null,null,15,null,"Weight, f, for stop-controlled",null,null,null,null,0.5]
[null,"Stop near",null,null,null,15]
[null,"Stop far",null,null,null,25,null,"Major LT signal phasing (drop-down)",null,null,null,"Protected/Permitted"]
[null,"Signal near",null,null,null,15,null,"Minor LT signal phasing (drop-down)",null,null,null,"Protected/Permitted"]
[null,"Signal far",null,null,null,25]
[null,"RAB entering",null,null,null,20,null,"Traffic Control Parameter (a_traffic control)"]
[null,"RAB circulating",null,null,null,25,null,"Permitted",null,null,null,null,{"$f":"M46+(1-M51)*(1-M46)","v":1}]
[null,"RAB exiting",null,null,null,30,null,"Protected/permitted",null,null,null,null,{"$f":"M47+(1-M52)*(1-M47)","v":0.92500000000000004}]
[null,"Nonmotorized",null,null,null,0,null,"Protected",null,null,null,null,0.505]
[null,null,null,null,null,null,null,"Stop-controlled",null,null,null,null,0.72500000000000009]
[null,"Collision Angles",null,null,null,"deg"]
[null,"Crossing",null,null,null,90,null,"Driver Merging Weights (W)"]
[null,"Crossing - LT",null,null,null,230,null,"Lane 1 (W1)",null,null,null,null,1]
[null,"Crossing - RAB",null,null,null,60,null,"Lane 2 (W2)",null,null,null,null,0.75]
[null,"Merging",null,null,null,45,null,"Lane 3+ (W3+)",null,null,null,null,0.5]
[null,"Diverging",null,null,null,10]
[null,null,null,null,null,null,null,"Nonmotorized Complexity"]
[null,"P(FSI) Regression Parameters",null,null,null,null,null,"Consider nonmotorized complexity factors (Y/N)",null,null,null,null,"Yes"]
[null,"alpha",null,null,null,67.286188107741197]
[null,"k",null,null,null,3.7945000839454002,null,"Nonmotorized Turn Score Weights (W)"]
[null,null,null,null,null,null,null,"Lane 1 (W1)",null,null,null,null,1]
[null,null,null,null,null,null,null,"Lane 2 (W2)",null,null,null,null,0.75]
[null,null,null,null,null,null,null,"Lane 3+ (W3)",null,null,null,null,0.5]

{"sheet":"SSI Inputs RTI","index":8,"n_rows":78,"n_cols":20,"rows_kept":78,"cut":false,"hidden":true,"merged":[[71,1,71,4],[72,1,72,4],[73,1,73,4],[74,1,74,4],[65,1,65,4],[66,1,66,4],[67,1,67,4],[68,1,68,4],[69,1,69,4],[70,1,70,4],[64,1,64,4],[54,1,54,4],[55,1,55,4],[56,1,56,4],[57,1,57,4],[59,1,59,4],[60,1,60,4],[61,1,61,4],[62,1,62,4],[63,1,63,4],[57,11,57,12],[58,1,58,4],[58,11,58,12],[48,1,48,4],[49,1,49,4],[50,1,50,4],[51,1,51,4],[52,1,52,4],[53,1,53,4],[25,19,29,23],[44,1,44,5],[44,7,44,12],[46,1,46,4],[47,1,47,4],[13,1,13,3],[13,12,13,15],[18,7,18,10],[19,7,19,10],[20,1,22,6],[14,7,14,9],[15,7,15,9],[13,7,13,10],[12,1,12,17],[0,0,0,17],[1,0,1,17],[8,1,8,11],[9,1,9,11],[10,1,10,11]]}
["Safe System Intersection (SSI) Inputs"]
["Specify the geomtric, exposure, severity, and conflicting traffic complexity inputs required for an SSI analysis."]
[]
[null,"1. Roadway Geometry",null,null,null,"Lanes",null,null,null,null,null,null,null,"Required Inputs"]
[null,"Cross-Street # of Thru Lanes (one direction)",null,null,null,2,null,null,null,null,null,null,null,"Default Available, Override Optional"]
[null,"Ramp 1 # of Thru Lanes",null,null,null,1,null,null,null,null,null,null,null,"Planning-Level Default Input"]
[null,"Ramp 2 # of Thru Lanes",null,null,null,1,null,null,null,null,null,null,null,"Computed Value, Override Optional"]
[null,null,null,null,null,null,null,null,null,null,null,null,null,"Computed Value - No Override"]
[null,"2. Complete the \"Exposure\" inputs.  These inputs will apply to all interesections selected for analysis.",null,null,null,null,null,null,null,null,null,null,null,"Disabled Cell (Often based on input selections)"]
[null,"3. Complete the \"Severity\" inputs"]
[null,"4. Complete the \"Conflicting Traffic Complexity\" inputs"]
[]
[null,"2. Exposure - All Intersections"]
[null,"Average Daily Traffic (veh/day)",null,null,"Open","Design",null,"ADT Directional Split",null,null,null,null,"Nonmotorized Total ADT (ped/day)",null,null,null,"Activity Level","ADT Value (ped/day)"]
[null,"Cross-Street",null,null,{"$f":"IF(AND(Input_RTI_OAADTOut1 > 0, Input_RTI_OAADTOut2>0),MAX(Input_RTI_OAADTOut1, Input_RTI_OAADTOut2),\"--\")","v":15000},{"$f":"IF(AND(Input_RTI_DAADTOut1 > 0, Input_RTI_DAADTOut2>0),MAX(Input_RTI_DAADTOut1, Input_RTI_DAADTOut2),\"--\")","v":30000},null,"Cross-street Inner Leg",null,null,0.5,null,"Open Year Total Intersection NM",null,null,null,"Med High (1500)",1500]
[null,"Ramp 1",null,null,{"$f":"IF(Input_RTI_OAADTEx1>0,Input_RTI_OAADTEx1,\"--\")","v":4500},{"$f":"IF(Input_RTI_DAADTEx1>0,Input_RTI_DAADTEx1,\"--\")","v":5000},null,"Cross-Street Outer Leg",null,null,0.5,null,"Design Year Total Intersection NM",null,null,null,"High (1700)",1700]
[null,"Ramp 2",null,null,{"$f":"IF(Input_RTI_OAADTEx2>0,Input_RTI_OAADTEx2,\"--\")","v":4500},{"$f":"IF(Input_RTI_DAADTEx2>0,Input_RTI_DAADTEx2,\"--\")","v":5000},null,null,null,null,null,null,"(or overwrite ped movement ADTs below)"]
[]
[null,"Are turning movement ADT values are available?",null,null,null,null,"No","If \"Yes\", input values in Table 2-A",null,null,null,null,"Nonmotorized Movement ADT (ped/day)",null,null,null,"Open","Design"]
[null,"Are peak hour turning movement counts available?",null,null,null,null,"No","If \"Yes\", input values in Table 2-B",null,null,null,null,"Major NM 1 (NM mvmt crossing Maj1)",null,null,null,{"$f":"$R$15/4","v":375},{"$f":"$R$16/4","v":425}]
[null,"If no turning movment volumes or counts are available, a user can optionally override the planning-level default turning movment proportions in Table 2-C",null,null,null,null,null,null,null,null,null,null,"Major NM 2",null,null,null,{"$f":"$R$15/4","v":375},{"$f":"$R$16/4","v":425}]
[null,null,null,null,null,null,null,null,null,null,null,null,"Minor NM 1",null,null,null,375,425]
[null,null,null,null,null,null,null,null,null,null,null,null,"Minor NM 2",null,null,null,375,425]
[]
[]
[null,"Table 2-A: Turning Movement (vol/day)",null,null,null,null,"Table 2-B: Turning Movement Counts (Optional)",null,null,null,null,null,null,null,null,"Table 2-C: Turning Proportions (optional)",null,null,null,"Turning movment proportions specified in Table 2-C (and by extension, the percentages determined in Table 2-B) are considered to be constant between the Open and Design years of the analysis."]
[null,null,null,"Open","Design",null,null,null,"Mvmt","AM Peak","AM %","PM Peak","PM %","Avg %",null,null,null,"Decimal"]
[null,"Cross-Street Thru 1",null,{"$f":"$E$15*$K$15*R28","v":3750},{"$f":"$F$15*$K$15*R28","v":7500},null,"Cross-Street Thru 1",null,{"$f":"IF('Control Strategy Selection'!$D$44=Notes!$J$26,\"NB\", \"EB\")&\"T\"","v":"NBT"},null,{"$error":"#DIV/0!"},null,{"$error":"#DIV/0!"},{"$error":"#DIV/0!"},null,"Cross-Street Thru 1",null,0.5]
[null,"Cross-Street Left Turn 1",null,{"$f":"$E$15*$K$15*R29","v":1875},{"$f":"$F$15*$K$15*R29","v":3750},null,"Cross-Street Left Turn 1",null,{"$f":"IF('Control Strategy Selection'!$D$44=Notes!$J$26,\"NB\", \"EB\")&\"L\"","v":"NBL"},null,{"$error":"#DIV/0!"},null,{"$error":"#DIV/0!"},{"$error":"#DIV/0!"},null,"Cross-Street Left Turn 1",null,{"$f":"IF(AND(J29<>0,L29<>0),N29,0.25)","v":0.25}]
[null,"Cross-Street Right Turn 1",null,1875,3750,null,"Cross-Street Right Turn 1",null,{"$f":"IF('Control Strategy Selection'!$D$44=Notes!$J$26,\"NB\", \"EB\")&\"R\"","v":"NBR"},null,{"$error":"#DIV/0!"},null,{"$error":"#DIV/0!"},{"$error":"#DIV/0!"},null,"Cross-Street Right Turn 1",null,{"$f":"IF(AND(J30<>0,L30<>0),N30,0.25)","v":0.25}]
[]
[null,"Cross-Street Thru 2",null,{"$f":"$E$15*$K$15*R32","v":3750},{"$f":"$F$15*$K$15*R32","v":7500},null,"Cross-Street Thru 2",null,{"$f":"IF('Control Strategy Selection'!$D$44=Notes!$J$26,\"SB\", \"WB\")&\"T\"","v":"SBT"},null,{"$error":"#DIV/0!"},null,{"$error":"#DIV/0!"},{"$error":"#DIV/0!"},null,"Cross-Street Thru 2",null,0.5]
[null,"Cross-Street Left Turn 2",null,{"$f":"$E$15*$K$15*R33","v":1875},{"$f":"$F$15*$K$15*R33","v":3750},null,"Cross-Street Left Turn 2",null,{"$f":"IF('Control Strategy Selection'!$D$44=Notes!$J$26,\"SB\", \"WB\")&\"L\"","v":"SBL"},null,{"$error":"#DIV/0!"},null,{"$error":"#DIV/0!"},{"$error":"#DIV/0!"},null,"Cross-Street Left Turn 2",null,{"$f":"IF(AND(J33<>0,L33<>0),N33,0.25)","v":0.25}]
[null,"Cross-Street Right Turn 2",null,1875,3750,null,"Cross-Street Right Turn 2",null,{"$f":"IF('Control Strategy Selection'!$D$44=Notes!$J$26,\"SB\", \"WB\")&\"R\"","v":"SBR"},null,{"$error":"#DIV/0!"},null,{"$error":"#DIV/0!"},{"$error":"#DIV/0!"},null,"Cross-Street Right Turn 2",null,{"$f":"IF(AND(J34<>0,L34<>0),N34,0.25)","v":0.25}]
[]
[null,"Ramp Thru 1",null,{"$f":"$E$16*R36","v":2250},{"$f":"$F$16*R36","v":2500},null,"Ramp Thru 1",null,{"$f":"IF('Control Strategy Selection'!$D$44=Notes!$J$26,\"EB\", \"NB\")&\"T\"","v":"EBT"},null,{"$error":"#DIV/0!"},null,{"$error":"#DIV/0!"},{"$error":"#DIV/0!"},null,"Ramp Thru 1",null,0.5]
[null,"Ramp Left Turn 1",null,{"$f":"$E$16*R37","v":1125},{"$f":"$F$16*R37","v":1250},null,"Ramp Left Turn 1",null,{"$f":"IF('Control Strategy Selection'!$D$44=Notes!$J$26,\"EB\", \"NB\")&\"L\"","v":"EBL"},null,{"$error":"#DIV/0!"},null,{"$error":"#DIV/0!"},{"$error":"#DIV/0!"},null,"Ramp Left Turn 1",null,{"$f":"IF(AND(J37<>0,L37<>0),N37,0.25)","v":0.25}]
[null,"Ramp Right Turn 1",null,1125,1250,null,"Ramp Right Turn 1",null,{"$f":"IF('Control Strategy Selection'!$D$44=Notes!$J$26,\"EB\", \"NB\")&\"R\"","v":"EBR"},null,{"$error":"#DIV/0!"},null,{"$error":"#DIV/0!"},{"$error":"#DIV/0!"},null,"Ramp Right Turn 1",null,{"$f":"IF(AND(J38<>0,L38<>0),N38,0.25)","v":0.25}]
[]
[null,"Ramp Thru 2",null,{"$f":"$E$17*R40","v":2250},{"$f":"$F$17*R40","v":2500},null,"Ramp Thru 2",null,{"$f":"IF('Control Strategy Selection'!$D$44=Notes!$J$26,\"WB\", \"SB\")&\"T\"","v":"WBT"},null,{"$error":"#DIV/0!"},null,{"$error":"#DIV/0!"},{"$error":"#DIV/0!"},null,"Ramp Thru 2",null,0.5]
[null,"Ramp Left Turn 2",null,{"$f":"$E$17*R41","v":1125},{"$f":"$F$17*R41","v":1250},null,"Ramp Left Turn 2",null,{"$f":"IF('Control Strategy Selection'!$D$44=Notes!$J$26,\"WB\", \"SB\")&\"L\"","v":"WBL"},null,{"$error":"#DIV/0!"},null,{"$error":"#DIV/0!"},{"$error":"#DIV/0!"},null,"Ramp Left Turn 2",null,{"$f":"IF(AND(J41<>0,L41<>0),N41,0.25)","v":0.25}]
[null,"Ramp Right Turn 2",null,1125,1250,null,"Ramp Right Turn 2",null,{"$f":"IF('Control Strategy Selection'!$D$44=Notes!$J$26,\"WB\", \"SB\")&\"R\"","v":"WBR"},null,{"$error":"#DIV/0!"},null,{"$error":"#DIV/0!"},{"$error":"#DIV/0!"},null,"Ramp Right Turn 2",null,{"$f":"IF(AND(J42<>0,L42<>0),N42,0.25)","v":0.25}]
[]
[]
[null,"3. Severity",null,null,null,null,null,"4. Conflicting Traffic Complexity"]
[]
[null,"Vehicle Speeds",null,null,null,"mph",null,"Traffic Control",null,null,null,null,"Decimal"]
[null,"Cross-Street Posted Speed Limit",null,null,null,40,null,"BTCAV for permitted",null,null,null,null,1]
[null,"Ramp Posted Speed Limit",null,null,null,30,null,"BTCAV for protected/permitted",null,null,null,null,0.85]
[null,null,null,null,null,null,null,"BTCAV for protected",null,null,null,null,0.01]
[null,"Cross thru",null,null,null,{"$f":"$F$48","v":40},null,"BTCAV for stop-controlled",null,null,null,null,0.45]
[null,"Cross left",null,null,null,20]
[null,"Cross right",null,null,null,15,null,"Weight, f, for permitted",null,null,null,null,0.5]
[null,"Ramp thru",null,null,null,{"$f":"$F$49*0.85","v":25.5},null,"Weight, f, for protected/permitted",null,null,null,null,0.5]
[null,"Ramp left",null,null,null,20,null,"Weight, f, for protected",null,null,null,null,0.5]
[null,"Ramp right",null,null,null,15,null,"Weight, f, for stop-controlled",null,null,null,null,0.5]
[null,"Stop near",null,null,null,15]
[null,"Stop far",null,null,null,25,null,"Cross-Street LT signal phasing (drop-down)",null,null,null,"Protected/Permitted"]
[null,"Signal near",null,null,null,15,null,"Ramp LT signal phasing (drop-down)",null,null,null,"Protected/permitted"]
[null,"Signal far",null,null,null,25]
[null,"RAB entering",null,null,null,20,null,"Traffic Control Parameter (a_traffic control)"]
[null,"RAB circulating",null,null,null,25,null,"Permitted",null,null,null,null,{"$f":"M48+(1-M53)*(1-M48)","v":1}]
[null,"RAB exiting",null,null,null,30,null,"Protected/permitted",null,null,null,null,{"$f":"M49+(1-M54)*(1-M49)","v":0.92500000000000004}]
[null,"Nonmotorized",null,null,null,0,null,"Protected",null,null,null,null,0.505]
[null,null,null,null,null,null,null,"Stop-controlled",null,null,null,null,0.72500000000000009]
[null,"Collision Angles",null,null,null,"deg"]
[null,"Crossing",null,null,null,90,null,"Driver Merging Weights (W)"]
[null,"Crossing - LT",null,null,null,230,null,"Lane 1 (W1)",null,null,null,null,1]
[null,"Crossing - RAB",null,null,null,60,null,"Lane 2 (W2)",null,null,null,null,0.75]
[null,"Merging",null,null,null,45,null,"Lane 3+ (W3+)",null,null,null,null,0.5]
[null,"Diverging",null,null,null,10]
[null,null,null,null,null,null,null,"Nonmotorized Complexity"]
[null,"P(FSI) Regression Parameters",null,null,null,null,null,"Consider nonmotorized complexity factors (Y/N)",null,null,null,null,"Yes"]
[null,"alpha",null,null,null,67.286188107741182]
[null,"k",null,null,null,3.7945000839453997,null,"Nonmotorized Turn Score Weights (W)"]
[null,null,null,null,null,null,null,"Lane 1 (W1)",null,null,null,null,1]
[null,null,null,null,null,null,null,"Lane 2 (W2)",null,null,null,null,0.75]
[null,null,null,null,null,null,null,"Lane 3+ (W3)",null,null,null,null,0.5]

{"sheet":"Conv_Sig","index":9,"n_rows":136,"n_cols":72,"rows_kept":136,"cut":false,"hidden":true,"merged":[[1,34,2,34],[1,36,2,36],[1,39,1,52],[1,56,1,69],[100,9,100,11],[100,36,101,36],[0,19,0,28],[0,30,0,32],[1,9,1,11],[1,13,1,17],[1,21,1,25],[1,27,1,28],[1,30,2,30],[1,31,2,31],[1,32,2,32]]}
[null,null,null,null,null,null,null,null,null,null,null,null,null,null,null,null,null,null,null,"Conflicting Traffic Complexity",null,null,null,null,null,null,null,null,null,null,"Pedestrian Complexity"]
[null,null,null,null,null,null,null,null,null,"Exposure",null,null,null,"Severity",null,null,null,null,null,"Traffic Control",null,"Conflicting Lanes",null,null,null,null,null,"Conflicting Speed",null,null,"Indirect Paths Indicator","Non-intuitive movements indicator","Pedestrian Complexity factor",null,"Total Complexity Multiplier",null,"Exposure-Severity-Complexity Product",null,null,"Included in Mvmt1",null,null,null,null,null,null,null,null,null,null,null,null,null,null,null,null,"Included in Mvmt2"]
["#","Conflict Type","Mvmt1","Mvmt1_gen","Mvmt1_SpeedCat","Mvmt2","Mvmt2_gen","Mvmt2_SpeedCat",null,"Q1","Q2","I",null,"Speed_V1","Speed_V2","Angle","delta_V","P_FSI",null,null,null,"CrossC","RampC","CrossM/P","RampM/P","Score",null,"Speed","Factor",null,null,null,null,null,null,null,null,null,null,"CrossT1","CrossL1","CrossR1","CrossT2","CrossL2","CrossR2","RampT1","RampL1","RampR1","RampT2","RampL2","RampR2","CrossNM1","CrossNM2","RampNM1","RampNM2",null,"CrossT1","CrossL1","CrossR1","CrossT2","CrossL2","CrossR2","RampT1","RampL1","RampR1","RampT2","RampL2","RampR2","CrossNM1","CrossNM2","RampNM1","RampNM2"]
[1,"Crossing - LT","WBL","CrossL2","Cross left","EBT,EBL","CrossT1,CrossL1","Cross thru",null,{"$f":"SUMPRODUCT($AN4:$BC4,$AN$38:$BC$38)","v":1875},{"$f":"SUMPRODUCT($BE4:$BT4,$BE$38:$BT$38)","v":5625},{"$f":"PRODUCT(J4:K4)","v":10546875},null,{"$f":"VLOOKUP(E4,SSI_RTI_Range_VehSpeed,5,FALSE)","v":20},{"$f":"VLOOKUP(H4,SSI_RTI_Range_VehSpeed,5,FALSE)","v":40},{"$f":"IF(B4=\"Nonmotorized\",\"\",VLOOKUP(B4,SSI_RTI_Range_CollAngles,5,FALSE))","v":230},{"$f":"IF(B4=\"Nonmotorized\",\"\",SQRT(N4^2+O4^2-2*N4*O4*COS(RADIANS(P4)))/2)","v":27.515723575341713},{"$f":"IF(B4=\"Nonmotorized\",1/(1+EXP(3.8432-0.1237*O4)),(Q4/SSI_RTI_RegAlpha)^SSI_RTI_RegK+(Q4/SSI_RTI_RegAlpha)^SSI_RTI_RegK-((Q4/SSI_RTI_RegAlpha)^SSI_RTI_RegK)*((Q4/SSI_RTI_RegAlpha)^SSI_RTI_RegK))","v":6.6083846594169424E-2},null,{"$f":"IF(SSI_RTI_CrossLTPhase=\"Protected/permitted\",SSI_RTI_ProtPermFactor,IF(SSI_RTI_CrossLTPhase=\"Protected\",SSI_RTI_ProtFactor,SSI_RTI_PermFactor))","v":0.92500000000000004},null,1,null,1,null,{"$f":"MAX(1,IF(B4<>\"Pedestrian\",V4*SSI_RTI_CrossThruLanes+W4*SSI_RTI_Ramp1ThruLanes+X4*IF(SSI_RTI_CrossThruLanes=1,SSI_RTI_MergeWeightL1,IF(SSI_RTI_CrossThruLanes=2,SSI_RTI_MergeWeightL1+SSI_RTI_MergeWeightL2,SSI_RTI_MergeWeightL1+SSI_RTI_MergeWeightL2+SSI_RTI_MergeWeightL3*(SSI_RTI_CrossThruLanes-2)))+Y4*IF(SSI_RTI_Ramp1ThruLanes=1,SSI_RTI_MergeWeightL1,IF(SSI_RTI_Ramp1ThruLanes=2,SSI_RTI_MergeWeightL1+SSI_RTI_MergeWeightL2,SSI_RTI_MergeWeightL1+SSI_RTI_MergeWeightL2+SSI_RTI_MergeWeightL3*(SSI_RTI_Ramp1ThruLanes-2))),V4*SSI_RTI_CrossThruLanes+W4*SSI_RTI_Ramp1ThruLanes+X4*IF(SSI_RTI_CrossThruLanes=1,SSI_RTI_NM_MergeWeightL1,IF(SSI_RTI_CrossThruLanes=2,SSI_RTI_NM_MergeWeightL1+SSI_RTI_NM_MergeWeightL2,SSI_RTI_NM_MergeWeightL1+SSI_RTI_NM_MergeWeightL2+SSI_RTI_NM_MergeWeightL3*(SSI_RTI_CrossThruLanes-2)))+Y4*IF(SSI_RTI_Ramp1ThruLanes=1,SSI_RTI_NM_MergeWeightL1,IF(SSI_RTI_Ramp1ThruLanes=2,SSI_RTI_NM_MergeWeightL1+SSI_RTI_NM_MergeWeightL2,SSI_RTI_NM_MergeWeightL1+SSI_RTI_NM_MergeWeightL2+SSI_RTI_NM_MergeWeightL3*(SSI_RTI_Ramp1ThruLanes-2)))))","v":3.75},null,{"$f":"IF(B4=\"Diverging\",\"\",SSI_RTI_VehSpeed_CrossThru)","v":40},{"$f":"IF(B4=\"Diverging\",1,1-((60-AB4)/60*0.1/0.15))","v":0.77777777777777779},null,null,null,{"$f":"IF(SSI_RTI_ConsiderNMComplexity=\"Yes\",1+AE4+AF4,1)","v":1},null,{"$f":"PRODUCT(Z4,T4,AC4,AG4)","v":2.6979166666666665},null,{"$f":"L4*R4*AI4","v":1880388.7501343864},null,null,{"$f":"IF(ISNUMBER(SEARCH(AN$3,$D4)),1,\"\")","v":""},{"$f":"IF(ISNUMBER(SEARCH(AO$3,$D4)),1,\"\")","v":""},"","",1,"","","","","","","","","","","",null,{"$f":"IF(ISNUMBER(SEARCH(BE$3,$G4)),1,\"\")","v":1},{"$f":"IF(ISNUMBER(SEARCH(BF$3,$G4)),1,\"\")","v":1},"","","","","","","","","","","","","",""]
[2,"Crossing - LT","SBL","RampL2","Signal far","WBL","CrossL2","Cross left",null,{"$f":"SUMPRODUCT($AN5:$BC5,$AN$38:$BC$38)","v":1125},{"$f":"SUMPRODUCT($BE5:$BT5,$BE$38:$BT$38)","v":1875},{"$f":"PRODUCT(J5:K5)","v":2109375},null,25,20,230,{"$f":"IF(B5=\"Nonmotorized\",\"\",SQRT(N5^2+O5^2-2*N5*O5*COS(RADIANS(P5)))/2)","v":20.419277715473552},2.1555284139167373E-2,null,{"$f":"SSI_RTI_ProtFactor","v":0.505},null,1,null,1,null,3.75,null,40,0.77777777777777779,null,null,null,1,null,1.4729166666666667,null,{"$f":"L5*R5*AI5","v":66970.836414805657},null,null,{"$f":"IF(ISNUMBER(SEARCH(AN$3,$D5)),1,\"\")","v":""},"","","","","","","","","",1,"","","","","",null,{"$f":"IF(ISNUMBER(SEARCH(BE$3,$G5)),1,\"\")","v":""},"","","",1,"","","","","","","","","","",""]
[3,"Crossing - LT","SBL","RampL2","Signal near","WBT,NBL","CrossT2,RampL1","Cross thru",null,1125,4875,5484375,null,15,40,230,25.477171799592707,4.955895980669895E-2,null,{"$f":"SSI_RTI_ProtFactor","v":0.505},null,1,null,1,null,3.75,null,40,0.77777777777777779,null,null,null,1,null,1.4729166666666667,null,400338.63244632137,null,null,"","","","","","","","","","",1,"","","","","",null,"","","",1,"","","",1,"","","","","","","",""]
[4,"Crossing - LT","EBL","CrossL1","Cross left","WBT,WBL","CrossT2,CrossL2","Cross thru",null,1875,5625,10546875,null,20,40,230,27.515723575341713,6.6083846594169424E-2,null,{"$f":"IF(SSI_RTI_CrossLTPhase=\"Protected/permitted\",SSI_RTI_ProtPermFactor,IF(SSI_RTI_CrossLTPhase=\"Protected\",SSI_RTI_ProtFactor,SSI_RTI_PermFactor))","v":0.92500000000000004},null,1,null,1,null,3.75,null,40,0.77777777777777779,null,null,null,1,null,2.6979166666666665,null,1880388.7501343864,null,null,"",1,"","","","","","","","","","","","","","",null,"","","",1,1,"","","","","","","","","","",""]
[5,"Crossing - LT","NBL","RampL1","Signal far","EBL","CrossL1","Cross left",null,1125,1875,2109375,null,25,20,230,20.419277715473552,2.1555284139167373E-2,null,{"$f":"SSI_RTI_ProtFactor","v":0.505},null,1,null,1,null,3.75,null,40,0.77777777777777779,null,null,null,1,null,1.4729166666666667,null,66970.836414805657,null,null,"","","","","","","",1,"","","","","","","","",null,"",1,"","","","","","","","","","","","","",""]
[6,"Crossing - LT","NBL","RampL1","Signal near","EBT,SBL","CrossT1,RampL2","Cross thru",null,1125,4875,5484375,null,15,40,230,25.477171799592707,4.955895980669895E-2,null,0.505,null,1,null,1,null,3.75,null,40,0.77777777777777779,null,null,null,1,null,1.4729166666666667,null,400338.63244632137,null,null,"","","","","","","",1,"","","","","","","","",null,1,"","","","","","","","","",1,"","","","",""]
[7,"Merging","SBR","RampR2","Signal near","WBT,NBL","CrossT2,RampL1","Cross thru",null,1125,4875,5484375,null,15,40,45,15.62427488378375,7.8340357658475412E-3,null,0.505,null,null,null,1,null,1.75,null,40,0.77777777777777779,null,null,null,1,null,0.6873611111111112,null,29532.325726601564,null,null,"","","","","","","","","","","",1,"","","","",null,"","","",1,"","","",1,"","","","","","","",""]
[8,"Merging","EBR","CrossR1","Cross right","WBL","CrossL2","Cross left",null,1875,1875,3515625,null,15,20,45,7.0840654162717795,3.9022923271840685E-4,null,0.505,null,1,null,1,null,3.75,null,40,0.77777777777777779,null,null,null,1,null,1.4729166666666667,null,2020.6938539935081,null,null,"","",1,"","","","","","","","","","","","","",null,"","","","",1,"","","","","","","","","","",""]
[9,"Merging","SBL","RampL2","Signal far","EBT,EBL","CrossT1,CrossL1","Cross thru",null,1125,5625,6328125,null,25,40,45,14.237155945157243,5.5084599291000359E-3,null,0.505,null,1,null,1,null,3.75,null,40,0.77777777777777779,null,null,null,1,null,1.4729166666666667,null,51343.257610639928,null,null,"","","","","","","","","","",1,"","","","","",null,1,1,"","","","","","","","","","","","","",""]
[10,"Merging","NBR","RampR1","Signal near","EBT,SBL","CrossT1,RampL2","Cross thru",null,1125,4875,5484375,null,15,40,45,15.62427488378375,7.8340357658475412E-3,null,0.505,null,null,null,1,null,1.75,null,40,0.77777777777777779,null,null,null,1,null,0.6873611111111112,null,29532.325726601564,null,null,"","","","","","","","",1,"","","","","","","",null,1,"","","","","","","","","",1,"","","","",""]
[11,"Merging","WBR","CrossR2","Cross right","EBL","CrossL1","Cross left",null,1875,1875,3515625,null,15,20,45,7.0840654162717795,3.9022923271840685E-4,null,0.505,null,1,null,1,null,3.75,null,40,0.77777777777777779,null,null,null,1,null,1.4729166666666667,null,2020.6938539935081,null,null,"","","","","",1,"","","","","","","","","","",null,"",1,"","","","","","","","","","","","","",""]
[12,"Merging","NBL","RampL1","Signal far","WBT,WBL","CrossT2,CrossL2","Cross thru",null,1125,5625,6328125,null,25,40,45,14.237155945157243,5.5084599291000359E-3,null,0.505,null,1,null,1,null,3.75,null,40,0.77777777777777779,null,null,null,1,null,1.4729166666666667,null,51343.257610639928,null,null,"","","","","","","",1,"","","","","","","","",null,"","","",1,1,"","","","","","","","","","",""]
[13,"Diverging","SBR","RampR2","Signal near","SBL","RampL2","Signal near",null,1125,1125,1265625,null,15,15,10,1.3073361412148754,6.4061388075216188E-7,null,{"$f":"SSI_RTI_PermFactor","v":1},null,null,null,null,null,1,null,"",1,null,null,null,1,null,1,null,0.81077694282695489,null,null,"","","","","","","","","","","",1,"","","","",null,"","","","","","","","","","",1,"","","","",""]
[14,"Diverging","EBT, EBL","CrossT1, CrossL1","Cross thru","EBR","CrossR1","Cross right",null,5625,1875,10546875,null,40,15,10,12.680996573469201,3.5521749218507754E-3,null,1,null,null,null,null,null,1,null,"",1,null,null,null,1,null,1,null,37464.344878894895,null,null,1,1,"","","","","","","","","","","","","","",null,"","",1,"","","","","","","","","","","","",""]
[15,"Diverging","EBT, SBL","CrossT1, RampL2","Cross thru","EBL","CrossL1","Cross left",null,4875,1875,9140625,null,40,20,10,10.299363999544671,1.6139822402002194E-3,null,1,null,null,null,null,null,1,null,"",1,null,null,null,1,null,1,null,14752.806414330131,null,null,1,"","","","","","","","","",1,"","","","","",null,"",1,"","","","","","","","","","","","","",""]
[16,"Diverging","NBR","RampR1","Signal near","NBL","RampL1","Signal near",null,1125,1125,1265625,null,15,15,10,1.3073361412148754,6.4061388075216188E-7,null,1,null,null,null,null,null,1,null,"",1,null,null,null,1,null,1,null,0.81077694282695489,null,null,"","","","","","","","",1,"","","","","","","",null,"","","","","","","",1,"","","","","","","",""]
[17,"Diverging","WBT, WBL","CrossT2, CrossL2","Cross thru","WBR","CrossR2","Cross right",null,5625,1875,10546875,null,40,15,10,12.680996573469201,3.5521749218507754E-3,null,1,null,null,null,null,null,1,null,"",1,null,null,null,1,null,1,null,37464.344878894895,null,null,"","","",1,1,"","","","","","","","","","","",null,"","","","","",1,"","","","","","","","","",""]
[18,"Diverging","WBT, NBL","CrossT2, RampL1","Cross thru","WBL","CrossL2","Cross left",null,4875,1875,9140625,null,40,20,10,10.299363999544671,1.6139822402002194E-3,null,1,null,null,null,null,null,1,null,"",1,null,null,null,1,null,1,null,14752.806414330131,null,null,"","","",1,"","","",1,"","","","","","","","",null,"","","","",1,"","","","","","","","","","",""]
[19,"Nonmotorized",null,"RampNM2","Nonmotorized","SBL","RampL2","Signal near",null,375,1125,421875,null,0,15,"","",0.1205004039155782,null,{"$f":"SSI_RTI_ProtFactor","v":0.505},null,null,1,null,null,1,null,{"$f":"IF(B22=\"Diverging\",\"\",SSI_RTI_VehSpeed_SignalNear)","v":15},0.49999999999999989,null,null,null,1,null,0.25249999999999995,null,12836.117245225847,null,null,"","","","","","","","","","","","","","","",1,null,"","","","","","","","","","",1,"","","","",""]
[20,"Nonmotorized",null,"RampNM2","Nonmotorized","SBR","RampR2","Signal near",null,375,1125,421875,null,0,15,"","",0.1205004039155782,null,0.505,null,null,1,null,null,1,null,{"$f":"IF(B23=\"Diverging\",\"\",SSI_RTI_VehSpeed_SignalNear)","v":15},0.49999999999999989,null,null,null,1,null,0.25249999999999995,null,12836.117245225847,null,null,"","","","","","","","","","","","","","","",1,null,"","","","","","","","","","","",1,"","","",""]
[21,"Nonmotorized",null,"CrossNM1","Nonmotorized","SBR","RampR2","Signal near",null,375,1125,421875,null,0,15,"","",0.1205004039155782,null,0.505,null,2,null,null,1,5,null,40,0.77777777777777779,null,null,null,1,null,1.9638888888888888,null,99836.467462867717,null,null,"","","","","","","","","","","","",1,"","","",null,"","","","","","","","","","","",1,"","","",""]
[22,"Nonmotorized",null,"CrossNM1","Nonmotorized","WBT,NBL","CrossT2,RampL1","Cross thru",null,375,4875,1828125,null,0,40,"","",0.75115840021714742,null,0.505,null,2,null,null,1,5,null,40,0.77777777777777779,null,null,null,1,null,1.9638888888888888,null,{"$f":"L25*R25*AI25","v":2696834.7095296104},null,null,"","","","","","","","","","","","",1,"","","",null,"","","",1,"","","",1,"","","","","","","",""]
[23,"Nonmotorized",null,"CrossNM1","Nonmotorized","EBT,EBL","CrossT1,CrossL1","Cross thru",null,375,5625,2109375,null,0,40,"","",0.75115840021714742,null,0.505,null,2,null,null,1,5,null,40,0.77777777777777779,null,null,null,1,null,1.9638888888888888,null,3111732.3571495502,null,null,"","","","","","","","","","","","",1,"","","",null,1,1,"","","","","","","","","","","","","",""]
[24,"Nonmotorized",null,"CrossNM1","Nonmotorized","EBR","CrossR1","Cross right",null,375,1875,703125,null,0,15,"","",0.1205004039155782,null,0.505,null,2,null,null,1,5,null,40,0.77777777777777779,null,null,null,1,null,1.9638888888888888,null,166394.11243811288,null,null,"","","","","","","","","","","","",1,"","","",null,"","",1,"","","","","","","","","","","","",""]
[25,"Nonmotorized",null,"RampNM1","Nonmotorized","EBR","CrossR1","Cross right",null,375,1875,703125,null,0,15,"","",0.1205004039155782,null,0.505,null,null,1,2,null,4.5,null,40,0.77777777777777779,null,null,null,1,null,1.7675000000000001,null,149754.7011943016,null,null,"","","","","","","","","","","","","","",1,"",null,"","",1,"","","","","","","","","","","","",""]
[26,"Nonmotorized",null,"RampNM1","Nonmotorized","WBL","CrossL2","Cross left",null,375,1875,703125,null,0,20,"","",0.20274912921655375,null,{"$f":"IF(SSI_RTI_CrossLTPhase=\"Protected/permitted\",SSI_RTI_ProtPermFactor,IF(SSI_RTI_CrossLTPhase=\"Protected\",SSI_RTI_ProtFactor,SSI_RTI_PermFactor))","v":0.92500000000000004},null,null,1,2,null,4.5,null,40,0.77777777777777779,null,null,null,1,null,3.2375000000000003,null,461531.4650427606,null,null,"","","","","","","","","","","","","","",1,"",null,"","","","",1,"","","","","","","","","","",""]
[27,"Nonmotorized",null,"RampNM1","Nonmotorized","NBL","RampL1","Signal near",null,375,1125,421875,null,0,15,"","",0.1205004039155782,null,{"$f":"SSI_RTI_ProtFactor","v":0.505},null,null,1,null,null,1,null,{"$f":"IF(B30=\"Diverging\",\"\",SSI_RTI_VehSpeed_SignalNear)","v":15},0.49999999999999989,null,null,null,1,null,0.25249999999999995,null,12836.117245225847,null,null,"","","","","","","","","","","","","","",1,"",null,"","","","","","","",1,"","","","","","","",""]
[28,"Nonmotorized",null,"RampNM1","Nonmotorized","NBR","RampR1","Signal near",null,375,1125,421875,null,0,15,"","",0.1205004039155782,null,0.505,null,null,1,null,null,1,null,{"$f":"IF(B31=\"Diverging\",\"\",SSI_RTI_VehSpeed_SignalNear)","v":15},0.49999999999999989,null,null,null,1,null,0.25249999999999995,null,12836.117245225847,null,null,"","","","","","","","","","","","","","",1,"",null,"","","","","","","","",1,"","","","","","",""]
[29,"Nonmotorized",null,"CrossNM2","Nonmotorized","NBR","RampR1","Signal near",null,375,1125,421875,null,0,15,"","",0.1205004039155782,null,0.505,null,2,null,null,1,5,null,40,0.77777777777777779,null,null,null,1,null,1.9638888888888888,null,99836.467462867717,null,null,"","","","","","","","","","","","","",1,"","",null,"","","","","","","","",1,"","","","","","",""]
[30,"Nonmotorized",null,"CrossNM2","Nonmotorized","EBT,SBL","CrossT1,RampL2","Cross thru",null,375,4875,1828125,null,0,40,"","",0.75115840021714742,null,0.505,null,2,null,null,1,5,null,40,0.77777777777777779,null,null,null,1,null,1.9638888888888888,null,2696834.7095296104,null,null,"","","","","","","","","","","","","",1,"","",null,1,"","","","","","","","","",1,"","","","",""]
[31,"Nonmotorized",null,"CrossNM2","Nonmotorized","WBT,WBL","CrossT2,CrossL2","Cross thru",null,375,5625,2109375,null,0,40,"","",0.75115840021714742,null,0.505,null,2,null,null,1,5,null,40,0.77777777777777779,null,null,null,1,null,1.9638888888888888,null,3111732.3571495502,null,null,"","","","","","","","","","","","","",1,"","",null,"","","",1,1,"","","","","","","","","","",""]
[32,"Nonmotorized",null,"CrossNM2","Nonmotorized","WBR","CrossR2","Cross right",null,375,1875,703125,null,0,15,"","",0.1205004039155782,null,0.505,null,2,null,null,1,5,null,40,0.77777777777777779,null,null,null,1,null,1.9638888888888888,null,166394.11243811288,null,null,{"$f":"IF(ISNUMBER(SEARCH(AN$3,$D35)),1,\"\")","v":""},"","","","","","","","","","","","",1,"","",null,{"$f":"IF(ISNUMBER(SEARCH(BE$3,$G35)),1,\"\")","v":""},"","","","",1,"","","","","","","","","",""]
[33,"Nonmotorized",null,"RampNM2","Nonmotorized","WBR","CrossR2","Cross right",null,375,1875,703125,null,0,15,"",{"$f":"IF(B36=\"Nonmotorized\",\"\",SQRT(N36^2+O36^2-2*N36*O36*COS(RADIANS(P36)))/2)","v":""},0.1205004039155782,null,0.505,null,null,1,2,null,4.5,null,40,0.77777777777777779,null,null,null,1,null,1.7675000000000001,null,149754.7011943016,null,null,"","","","","","","","","","","","","","","",1,null,"","","","","",1,"","","","","","","","","",""]
[34,"Nonmotorized",null,"RampNM2","Nonmotorized","EBL","CrossL1","Cross left",null,375,1875,{"$f":"PRODUCT(J37:K37)","v":703125},null,0,20,"","",0.20274912921655375,null,{"$f":"IF(SSI_RTI_CrossLTPhase=\"Protected/permitted\",SSI_RTI_ProtPermFactor,IF(SSI_RTI_CrossLTPhase=\"Protected\",SSI_RTI_ProtFactor,SSI_RTI_PermFactor))","v":0.92500000000000004},null,null,1,2,null,4.5,null,40,0.77777777777777779,null,null,null,1,null,3.2375000000000003,null,461531.4650427606,null,null,"","","","","","","","","","","","","","","",1,null,"",1,"","","","","","","","","","","","","",""]
[null,null,null,null,null,null,null,null,null,null,null,null,null,null,null,null,null,null,null,null,null,null,null,null,null,null,null,null,null,null,null,null,null,null,null,null,null,null,"O",{"$f":"'SSI Inputs RTI'!$D$28","v":3750},{"$f":"'SSI Inputs RTI'!$D$29","v":1875},{"$f":"'SSI Inputs RTI'!$D$30","v":1875},{"$f":"'SSI Inputs RTI'!$D$32","v":3750},{"$f":"'SSI Inputs RTI'!$D$33","v":1875},{"$f":"'SSI Inputs RTI'!$D$34","v":1875},{"$f":"'SSI Inputs RTI'!$D$36","v":2250},{"$f":"'SSI Inputs RTI'!$D$37","v":1125},{"$f":"'SSI Inputs RTI'!$D$38","v":1125},{"$f":"'SSI Inputs RTI'!$D$40","v":2250},{"$f":"'SSI Inputs RTI'!$D$41","v":1125},{"$f":"'SSI Inputs RTI'!$D$42","v":1125},{"$f":"'SSI Inputs RTI'!$Q$20","v":375},{"$f":"'SSI Inputs RTI'!$Q$21","v":375},{"$f":"'SSI Inputs RTI'!$Q$22","v":375},{"$f":"'SSI Inputs RTI'!$Q$23","v":375},"O",{"$f":"'SSI Inputs RTI'!$D$28","v":3750},{"$f":"'SSI Inputs RTI'!$D$29","v":1875},{"$f":"'SSI Inputs RTI'!$D$30","v":1875},{"$f":"'SSI Inputs RTI'!$D$32","v":3750},{"$f":"'SSI Inputs RTI'!$D$33","v":1875},{"$f":"'SSI Inputs RTI'!$D$34","v":1875},{"$f":"'SSI Inputs RTI'!$D$36","v":2250},{"$f":"'SSI Inputs RTI'!$D$37","v":1125},{"$f":"'SSI Inputs RTI'!$D$38","v":1125},{"$f":"'SSI Inputs RTI'!$D$40","v":2250},{"$f":"'SSI Inputs RTI'!$D$41","v":1125},{"$f":"'SSI Inputs RTI'!$D$42","v":1125},{"$f":"'SSI Inputs RTI'!$Q$20","v":375},{"$f":"'SSI Inputs RTI'!$Q$21","v":375},{"$f":"'SSI Inputs RTI'!$Q$22","v":375},{"$f":"'SSI Inputs RTI'!$Q$23","v":375}]
[null,null,null,null,null,null,null,null,null,null,null,null,null,null,null,null,null,null,null,null,null,null,null,null,null,null,null,null,null,null,null,null,null,null,null,null,null,null,"D",{"$f":"'SSI Inputs RTI'!$E$28","v":7500},{"$f":"'SSI Inputs RTI'!$E$29","v":3750},{"$f":"'SSI Inputs RTI'!$E$30","v":3750},{"$f":"'SSI Inputs RTI'!$E$32","v":7500},{"$f":"'SSI Inputs RTI'!$E$33","v":3750},{"$f":"'SSI Inputs RTI'!$E$34","v":3750},{"$f":"'SSI Inputs RTI'!$E$36","v":2500},{"$f":"'SSI Inputs RTI'!$E$37","v":1250},{"$f":"'SSI Inputs RTI'!$E$38","v":1250},{"$f":"'SSI Inputs RTI'!$E$40","v":2500},{"$f":"'SSI Inputs RTI'!$E$41","v":1250},{"$f":"'SSI Inputs RTI'!$E$42","v":1250},{"$f":"'SSI Inputs RTI'!$R$20","v":425},{"$f":"'SSI Inputs RTI'!$R$21","v":425},{"$f":"'SSI Inputs RTI'!$R$22","v":425},{"$f":"'SSI Inputs RTI'!$R$23","v":425},"D",{"$f":"'SSI Inputs RTI'!$E$28","v":7500},{"$f":"'SSI Inputs RTI'!$E$29","v":3750},{"$f":"'SSI Inputs RTI'!$E$30","v":3750},{"$f":"'SSI Inputs RTI'!$E$32","v":7500},{"$f":"'SSI Inputs RTI'!$E$33","v":3750},{"$f":"'SSI Inputs RTI'!$E$34","v":3750},{"$f":"'SSI Inputs RTI'!$E$36","v":2500},{"$f":"'SSI Inputs RTI'!$E$37","v":1250},{"$f":"'SSI Inputs RTI'!$E$38","v":1250},{"$f":"'SSI Inputs RTI'!$E$40","v":2500},{"$f":"'SSI Inputs RTI'!$E$41","v":1250},{"$f":"'SSI Inputs RTI'!$E$42","v":1250},{"$f":"'SSI Inputs RTI'!$R$20","v":425},{"$f":"'SSI Inputs RTI'!$R$21","v":425},{"$f":"'SSI Inputs RTI'!$R$22","v":425},{"$f":"'SSI Inputs RTI'!$R$23","v":425}]
[]
[]
[]
[]
[]
[]
[]
[]
[]
[]
[]
[]
[]
[]
[]
[]
[]
[]
[]
[]
[]
[]
[]
[]
[]
[]
[]
[]
[]
[]
[]
[]
[]
[]
[]
[]
[]
[]
[]
[]
[]
[]
[]
[]
[]
[]
[]
[]
[]
[]
[]
[]
[]
[]
[]
[]
[]
[]
[]
[]
[]
[null,null,null,null,null,null,null,null,null,"Exposure",null,null,null,null,null,null,null,null,null,null,null,null,null,null,null,null,null,null,null,null,null,null,null,null,null,null,"Exposure-Severity-Complexity Product"]
[null,null,null,null,null,null,null,null,null,"Q1","Q2","I"]
[null,null,null,null,null,null,null,null,null,{"$f":"SUMPRODUCT($AN4:$BC4,$AN$39:$BC$39)","v":3750},{"$f":"SUMPRODUCT($BE4:$BT4,$BE$39:$BT$39)","v":11250},{"$f":"PRODUCT(J103:K103)","v":42187500},null,null,null,null,null,null,null,null,null,null,null,null,null,null,null,null,null,null,null,null,null,null,null,null,{"$f":"L103*R4*AI4","v":7521555.0005375454}]
[null,null,null,null,null,null,null,null,null,{"$f":"SUMPRODUCT($AN5:$BC5,$AN$39:$BC$39)","v":1250},{"$f":"SUMPRODUCT($BE5:$BT5,$BE$39:$BT$39)","v":3750},{"$f":"PRODUCT(J104:K104)","v":4687500},null,null,null,null,null,null,null,null,null,null,null,null,null,null,null,null,null,null,null,null,null,null,null,null,{"$f":"L104*R5*AI5","v":148824.08092179036}]
[null,null,null,null,null,null,null,null,null,1250,8750,10937500,null,null,null,null,null,null,null,null,null,null,null,null,null,null,null,null,null,null,null,null,null,null,null,null,798396.13308383175]
[null,null,null,null,null,null,null,null,null,3750,11250,42187500,null,null,null,null,null,null,null,null,null,null,null,null,null,null,null,null,null,null,null,null,null,null,null,null,7521555.0005375454]
[null,null,null,null,null,null,null,null,null,1250,3750,4687500,null,null,null,null,null,null,null,null,null,null,null,null,null,null,null,null,null,null,null,null,null,null,null,null,148824.08092179036]
[null,null,null,null,null,null,null,null,null,1250,8750,10937500,null,null,null,null,null,null,null,null,null,null,null,null,null,null,null,null,null,null,null,null,null,null,null,null,798396.13308383175]
[null,null,null,null,null,null,null,null,null,1250,8750,10937500,null,null,null,null,null,null,null,null,null,null,null,null,null,null,null,null,null,null,null,null,null,null,null,null,58896.376092937586]
[null,null,null,null,null,null,null,null,null,3750,3750,14062500,null,null,null,null,null,null,null,null,null,null,null,null,null,null,null,null,null,null,null,null,null,null,null,null,8082.7754159740325]
[null,null,null,null,null,null,null,null,null,1250,11250,14062500,null,null,null,null,null,null,null,null,null,null,null,null,null,null,null,null,null,null,null,null,null,null,null,null,114096.1280236443]
[null,null,null,null,null,null,null,null,null,1250,8750,10937500,null,null,null,null,null,null,null,null,null,null,null,null,null,null,null,null,null,null,null,null,null,null,null,null,58896.376092937586]
[null,null,null,null,null,null,null,null,null,3750,3750,14062500,null,null,null,null,null,null,null,null,null,null,null,null,null,null,null,null,null,null,null,null,null,null,null,null,8082.7754159740325]
[null,null,null,null,null,null,null,null,null,1250,11250,14062500,null,null,null,null,null,null,null,null,null,null,null,null,null,null,null,null,null,null,null,null,null,null,null,null,114096.1280236443]
[null,null,null,null,null,null,null,null,null,1250,1250,1562500,null,null,null,null,null,null,null,null,null,null,null,null,null,null,null,null,null,null,null,null,null,null,null,null,1.0009591886752529]
[null,null,null,null,null,null,null,null,null,11250,3750,42187500,null,null,null,null,null,null,null,null,null,null,null,null,null,null,null,null,null,null,null,null,null,null,null,null,149857.37951557958]
[null,null,null,null,null,null,null,null,null,8750,3750,32812500,null,null,null,null,null,null,null,null,null,null,null,null,null,null,null,null,null,null,null,null,null,null,null,null,52958.792256569701]
[null,null,null,null,null,null,null,null,null,1250,1250,1562500,null,null,null,null,null,null,null,null,null,null,null,null,null,null,null,null,null,null,null,null,null,null,null,null,1.0009591886752529]
[null,null,null,null,null,null,null,null,null,11250,3750,42187500,null,null,null,null,null,null,null,null,null,null,null,null,null,null,null,null,null,null,null,null,null,null,null,null,149857.37951557958]
[null,null,null,null,null,null,null,null,null,8750,3750,32812500,null,null,null,null,null,null,null,null,null,null,null,null,null,null,null,null,null,null,null,null,null,null,null,null,52958.792256569701]
[null,null,null,null,null,null,null,null,null,425,1250,531250,null,null,null,null,null,null,null,null,null,null,null,null,null,null,null,null,null,null,null,null,null,null,null,null,16163.999493988103]
[null,null,null,null,null,null,null,null,null,425,1250,531250,null,null,null,null,null,null,null,null,null,null,null,null,null,null,null,null,null,null,null,null,null,null,null,null,16163.999493988103]
[null,null,null,null,null,null,null,null,null,425,1250,531250,null,null,null,null,null,null,null,null,null,null,null,null,null,null,null,null,null,null,null,null,null,null,null,null,125719.99606435193]
[null,null,null,null,null,null,null,null,null,425,8750,3718750,null,null,null,null,null,null,null,null,null,null,null,null,null,null,null,null,null,null,null,null,null,null,null,null,5485868.8963080961]
[null,null,null,null,null,null,null,null,null,425,11250,4781250,null,null,null,null,null,null,null,null,null,null,null,null,null,null,null,null,null,null,null,null,null,null,null,null,7053260.0095389802]
[null,null,null,null,null,null,null,null,null,425,3750,1593750,null,null,null,null,null,null,null,null,null,null,null,null,null,null,null,null,null,null,null,null,null,null,null,null,377159.98819305585]
[null,null,null,null,null,null,null,null,null,425,3750,1593750,null,null,null,null,null,null,null,null,null,null,null,null,null,null,null,null,null,null,null,null,null,null,null,null,339443.98937375029]
[null,null,null,null,null,null,null,null,null,425,3750,1593750,null,null,null,null,null,null,null,null,null,null,null,null,null,null,null,null,null,null,null,null,null,null,null,null,1046137.9874302574]
[null,null,null,null,null,null,null,null,null,425,1250,531250,null,null,null,null,null,null,null,null,null,null,null,null,null,null,null,null,null,null,null,null,null,null,null,null,16163.999493988103]
[null,null,null,null,null,null,null,null,null,425,1250,531250,null,null,null,null,null,null,null,null,null,null,null,null,null,null,null,null,null,null,null,null,null,null,null,null,16163.999493988103]
[null,null,null,null,null,null,null,null,null,425,1250,531250,null,null,null,null,null,null,null,null,null,null,null,null,null,null,null,null,null,null,null,null,null,null,null,null,125719.99606435193]
[null,null,null,null,null,null,null,null,null,425,8750,3718750,null,null,null,null,null,null,null,null,null,null,null,null,null,null,null,null,null,null,null,null,null,null,null,null,5485868.8963080961]
[null,null,null,null,null,null,null,null,null,425,11250,4781250,null,null,null,null,null,null,null,null,null,null,null,null,null,null,null,null,null,null,null,null,null,null,null,null,7053260.0095389802]
[null,null,null,null,null,null,null,null,null,425,3750,1593750,null,null,null,null,null,null,null,null,null,null,null,null,null,null,null,null,null,null,null,null,null,null,null,null,377159.98819305585]
[null,null,null,null,null,null,null,null,null,425,3750,1593750,null,null,null,null,null,null,null,null,null,null,null,null,null,null,null,null,null,null,null,null,null,null,null,null,339443.98937375029]
[null,null,null,null,null,null,null,null,null,425,3750,1593750,null,null,null,null,null,null,null,null,null,null,null,null,null,null,null,null,null,null,null,null,null,null,null,null,1046137.9874302574]

{"sheet":"Conv_Ramp_Stop","index":10,"n_rows":136,"n_cols":72,"rows_kept":136,"cut":false,"hidden":true,"merged":[[1,34,2,34],[1,36,2,36],[1,39,1,52],[1,56,1,69],[100,9,100,11],[100,36,101,36],[0,19,0,28],[0,30,0,32],[1,9,1,11],[1,13,1,17],[1,21,1,25],[1,27,1,28],[1,30,2,30],[1,31,2,31],[1,32,2,32]]}
[null,null,null,null,null,null,null,null,null,null,null,null,null,null,null,null,null,null,null,"Conflicting Traffic Complexity",null,null,null,null,null,null,null,null,null,null,"Pedestrian Complexity"]
[null,null,null,null,null,null,null,null,null,"Exposure",null,null,null,"Severity",null,null,null,null,null,"Traffic Control",null,"Conflicting Lanes",null,null,null,null,null,"Conflicting Speed",null,null,"Indirect Paths Indicator","Non-intuitive movements indicator","Pedestrian Complexity factor",null,"Total Complexity Multiplier",null,"Exposure-Severity-Complexity Product",null,null,"Included in Mvmt1",null,null,null,null,null,null,null,null,null,null,null,null,null,null,null,null,"Included in Mvmt2"]
["#","Conflict Type","Mvmt1","Mvmt1_gen","Mvmt1_SpeedCat","Mvmt2","Mvmt2_gen","Mvmt2_SpeedCat",null,"Q1","Q2","I",null,"Speed_V1","Speed_V2","Angle","delta_V","P_FSI",null,null,null,"CrossC","RampC","CrossM/P","RampM/P","Score",null,"Speed","Factor",null,null,null,null,null,null,null,null,null,null,"CrossT1","CrossL1","CrossR1","CrossT2","CrossL2","CrossR2","RampT1","RampL1","RampR1","RampT2","RampL2","RampR2","CrossNM1","CrossNM2","RampNM1","RampNM2",null,"CrossT1","CrossL1","CrossR1","CrossT2","CrossL2","CrossR2","RampT1","RampL1","RampR1","RampT2","RampL2","RampR2","CrossNM1","CrossNM2","RampNM1","RampNM2"]
[1,"Crossing - LT","WBL","CrossL2","Cross left","EBT,EBL","CrossT1,CrossL1","Cross thru",null,{"$f":"SUMPRODUCT($AN4:$BC4,$AN$38:$BC$38)","v":1875},{"$f":"SUMPRODUCT($BE4:$BT4,$BE$38:$BT$38)","v":5625},{"$f":"PRODUCT(J4:K4)","v":10546875},null,{"$f":"VLOOKUP(E4,SSI_RTI_Range_VehSpeed,5,FALSE)","v":20},{"$f":"VLOOKUP(H4,SSI_RTI_Range_VehSpeed,5,FALSE)","v":40},{"$f":"IF(B4=\"Nonmotorized\",\"\",VLOOKUP(B4,SSI_RTI_Range_CollAngles,5,FALSE))","v":230},{"$f":"IF(B4=\"Nonmotorized\",\"\",SQRT(N4^2+O4^2-2*N4*O4*COS(RADIANS(P4)))/2)","v":27.515723575341713},{"$f":"IF(B4=\"Nonmotorized\",1/(1+EXP(3.8432-0.1237*O4)),(Q4/SSI_RTI_RegAlpha)^SSI_RTI_RegK+(Q4/SSI_RTI_RegAlpha)^SSI_RTI_RegK-((Q4/SSI_RTI_RegAlpha)^SSI_RTI_RegK)*((Q4/SSI_RTI_RegAlpha)^SSI_RTI_RegK))","v":6.6083846594169424E-2},null,{"$f":"SSI_RTI_PermFactor","v":1},null,1,null,1,null,{"$f":"MAX(1,IF(B4<>\"Pedestrian\",V4*SSI_RTI_CrossThruLanes+W4*SSI_RTI_Ramp1ThruLanes+X4*IF(SSI_RTI_CrossThruLanes=1,SSI_RTI_MergeWeightL1,IF(SSI_RTI_CrossThruLanes=2,SSI_RTI_MergeWeightL1+SSI_RTI_MergeWeightL2,SSI_RTI_MergeWeightL1+SSI_RTI_MergeWeightL2+SSI_RTI_MergeWeightL3*(SSI_RTI_CrossThruLanes-2)))+Y4*IF(SSI_RTI_Ramp1ThruLanes=1,SSI_RTI_MergeWeightL1,IF(SSI_RTI_Ramp1ThruLanes=2,SSI_RTI_MergeWeightL1+SSI_RTI_MergeWeightL2,SSI_RTI_MergeWeightL1+SSI_RTI_MergeWeightL2+SSI_RTI_MergeWeightL3*(SSI_RTI_Ramp1ThruLanes-2))),V4*SSI_RTI_CrossThruLanes+W4*SSI_RTI_Ramp1ThruLanes+X4*IF(SSI_RTI_CrossThruLanes=1,SSI_RTI_NM_MergeWeightL1,IF(SSI_RTI_CrossThruLanes=2,SSI_RTI_NM_MergeWeightL1+SSI_RTI_NM_MergeWeightL2,SSI_RTI_NM_MergeWeightL1+SSI_RTI_NM_MergeWeightL2+SSI_RTI_NM_MergeWeightL3*(SSI_RTI_CrossThruLanes-2)))+Y4*IF(SSI_RTI_Ramp1ThruLanes=1,SSI_RTI_NM_MergeWeightL1,IF(SSI_RTI_Ramp1ThruLanes=2,SSI_RTI_NM_MergeWeightL1+SSI_RTI_NM_MergeWeightL2,SSI_RTI_NM_MergeWeightL1+SSI_RTI_NM_MergeWeightL2+SSI_RTI_NM_MergeWeightL3*(SSI_RTI_Ramp1ThruLanes-2)))))","v":3.75},null,{"$f":"IF(B4=\"Diverging\",\"\",SSI_RTI_VehSpeed_CrossThru)","v":40},{"$f":"IF(B4=\"Diverging\",1,1-((60-AB4)/60*0.1/0.15))","v":0.77777777777777779},null,null,null,{"$f":"IF(SSI_RTI_ConsiderNMComplexity=\"Yes\",1+AE4+AF4,1)","v":1},null,{"$f":"PRODUCT(Z4,T4,AC4,AG4)","v":2.9166666666666665},null,{"$f":"L4*R4*AI4","v":2032852.7028479851},null,null,{"$f":"IF(ISNUMBER(SEARCH(AN$3,$D4)),1,\"\")","v":""},{"$f":"IF(ISNUMBER(SEARCH(AO$3,$D4)),1,\"\")","v":""},"","",1,"","","","","","","","","","","",null,{"$f":"IF(ISNUMBER(SEARCH(BE$3,$G4)),1,\"\")","v":1},{"$f":"IF(ISNUMBER(SEARCH(BF$3,$G4)),1,\"\")","v":1},"","","","","","","","","","","","","",""]
[2,"Crossing - LT","SBL","RampL2","Signal far","WBL","CrossL2","Cross left",null,{"$f":"SUMPRODUCT($AN5:$BC5,$AN$38:$BC$38)","v":1125},{"$f":"SUMPRODUCT($BE5:$BT5,$BE$38:$BT$38)","v":1875},{"$f":"PRODUCT(J5:K5)","v":2109375},null,25,20,230,{"$f":"IF(B5=\"Nonmotorized\",\"\",SQRT(N5^2+O5^2-2*N5*O5*COS(RADIANS(P5)))/2)","v":20.419277715473552},2.1555284139167373E-2,null,{"$f":"SSI_RTI_StopFactor","v":0.72500000000000009},null,1,null,1,null,3.75,null,40,0.77777777777777779,null,null,null,1,null,2.1145833333333339,null,{"$f":"L5*R5*AI5","v":96146.250298483399},null,null,{"$f":"IF(ISNUMBER(SEARCH(AN$3,$D5)),1,\"\")","v":""},"","","","","","","","","",1,"","","","","",null,{"$f":"IF(ISNUMBER(SEARCH(BE$3,$G5)),1,\"\")","v":""},"","","",1,"","","","","","","","","","",""]
[3,"Crossing - LT","SBL","RampL2","Signal near","WBT,NBL","CrossT2,RampL1","Cross thru",null,1125,4875,5484375,null,15,40,230,25.477171799592707,4.955895980669895E-2,null,{"$f":"SSI_RTI_StopFactor","v":0.72500000000000009},null,1,null,1,null,3.75,null,40,0.77777777777777779,null,null,null,1,null,2.1145833333333339,null,574743.58123481798,null,null,"","","","","","","","","","",1,"","","","","",null,"","","",1,"","","",1,"","","","","","","",""]
[4,"Crossing - LT","EBL","CrossL1","Cross left","WBT,WBL","CrossT2,CrossL2","Cross thru",null,1875,5625,10546875,null,20,40,230,27.515723575341713,6.6083846594169424E-2,null,{"$f":"SSI_RTI_PermFactor","v":1},null,1,null,1,null,3.75,null,40,0.77777777777777779,null,null,null,1,null,2.9166666666666665,null,2032852.7028479851,null,null,"",1,"","","","","","","","","","","","","","",null,"","","",1,1,"","","","","","","","","","",""]
[5,"Crossing - LT","NBL","RampL1","Signal far","EBL","CrossL1","Cross left",null,1125,1875,2109375,null,25,20,230,20.419277715473552,2.1555284139167373E-2,null,{"$f":"SSI_RTI_StopFactor","v":0.72500000000000009},null,1,null,1,null,3.75,null,40,0.77777777777777779,null,null,null,1,null,2.1145833333333339,null,96146.250298483399,null,null,"","","","","","","",1,"","","","","","","","",null,"",1,"","","","","","","","","","","","","",""]
[6,"Crossing - LT","NBL","RampL1","Signal near","EBT,SBL","CrossT1,RampL2","Cross thru",null,1125,4875,5484375,null,15,40,230,25.477171799592707,4.955895980669895E-2,null,{"$f":"SSI_RTI_StopFactor","v":0.72500000000000009},null,1,null,1,null,3.75,null,40,0.77777777777777779,null,null,null,1,null,2.1145833333333339,null,574743.58123481798,null,null,"","","","","","","",1,"","","","","","","","",null,1,"","","","","","","","","",1,"","","","",""]
[7,"Merging","SBR","RampR2","Signal near","WBT,NBL","CrossT2,RampL1","Cross thru",null,1125,4875,5484375,null,15,40,45,15.62427488378375,7.8340357658475412E-3,null,{"$f":"SSI_RTI_StopFactor","v":0.72500000000000009},null,null,null,1,null,1.75,null,40,0.77777777777777779,null,null,null,1,null,0.98680555555555582,null,42397.893369873535,null,null,"","","","","","","","","","","",1,"","","","",null,"","","",1,"","","",1,"","","","","","","",""]
[8,"Merging","EBR","CrossR1","Cross right","WBL","CrossL2","Cross left",null,1875,1875,3515625,null,15,20,45,7.0840654162717795,3.9022923271840685E-4,null,{"$f":"SSI_RTI_PermFactor","v":1},null,1,null,1,null,3.75,null,40,0.77777777777777779,null,null,null,1,null,2.9166666666666665,null,4001.3739683039762,null,null,"","",1,"","","","","","","","","","","","","",null,"","","","",1,"","","","","","","","","","",""]
[9,"Merging","SBL","RampL2","Signal far","EBT,EBL","CrossT1,CrossL1","Cross thru",null,1125,5625,6328125,null,25,40,45,14.237155945157243,5.5084599291000359E-3,null,{"$f":"SSI_RTI_StopFactor","v":0.72500000000000009},null,1,null,1,null,3.75,null,40,0.77777777777777779,null,null,null,1,null,2.1145833333333339,null,73710.617361809826,null,null,"","","","","","","","","","",1,"","","","","",null,1,1,"","","","","","","","","","","","","",""]
[10,"Merging","NBR","RampR1","Signal near","EBT,SBL","CrossT1,RampL2","Cross thru",null,1125,4875,5484375,null,15,40,45,15.62427488378375,7.8340357658475412E-3,null,{"$f":"SSI_RTI_StopFactor","v":0.72500000000000009},null,null,null,1,null,1.75,null,40,0.77777777777777779,null,null,null,1,null,0.98680555555555582,null,42397.893369873535,null,null,"","","","","","","","",1,"","","","","","","",null,1,"","","","","","","","","",1,"","","","",""]
[11,"Merging","WBR","CrossR2","Cross right","EBL","CrossL1","Cross left",null,1875,1875,3515625,null,15,20,45,7.0840654162717795,3.9022923271840685E-4,null,{"$f":"SSI_RTI_PermFactor","v":1},null,1,null,1,null,3.75,null,40,0.77777777777777779,null,null,null,1,null,2.9166666666666665,null,4001.3739683039762,null,null,"","","","","",1,"","","","","","","","","","",null,"",1,"","","","","","","","","","","","","",""]
[12,"Merging","NBL","RampL1","Signal far","WBT,WBL","CrossT2,CrossL2","Cross thru",null,1125,5625,6328125,null,25,40,45,14.237155945157243,5.5084599291000359E-3,null,{"$f":"SSI_RTI_StopFactor","v":0.72500000000000009},null,1,null,1,null,3.75,null,40,0.77777777777777779,null,null,null,1,null,2.1145833333333339,null,73710.617361809826,null,null,"","","","","","","",1,"","","","","","","","",null,"","","",1,1,"","","","","","","","","","",""]
[13,"Diverging","SBR","RampR2","Signal near","SBL","RampL2","Signal near",null,1125,1125,1265625,null,15,15,10,1.3073361412148754,6.4061388075216188E-7,null,{"$f":"SSI_RTI_PermFactor","v":1},null,null,null,null,null,1,null,"",1,null,null,null,1,null,1,null,0.81077694282695489,null,null,"","","","","","","","","","","",1,"","","","",null,"","","","","","","","","","",1,"","","","",""]
[14,"Diverging","EBT, EBL","CrossT1, CrossL1","Cross thru","EBR","CrossR1","Cross right",null,5625,1875,10546875,null,40,15,10,12.680996573469201,3.5521749218507754E-3,null,1,null,null,null,null,null,1,null,"",1,null,null,null,1,null,1,null,37464.344878894895,null,null,1,1,"","","","","","","","","","","","","","",null,"","",1,"","","","","","","","","","","","",""]
[15,"Diverging","EBT, SBL","CrossT1, RampL2","Cross thru","EBL","CrossL1","Cross left",null,4875,1875,9140625,null,40,20,10,10.299363999544671,1.6139822402002194E-3,null,1,null,null,null,null,null,1,null,"",1,null,null,null,1,null,1,null,14752.806414330131,null,null,1,"","","","","","","","","",1,"","","","","",null,"",1,"","","","","","","","","","","","","",""]
[16,"Diverging","NBR","RampR1","Signal near","NBL","RampL1","Signal near",null,1125,1125,1265625,null,15,15,10,1.3073361412148754,6.4061388075216188E-7,null,1,null,null,null,null,null,1,null,"",1,null,null,null,1,null,1,null,0.81077694282695489,null,null,"","","","","","","","",1,"","","","","","","",null,"","","","","","","",1,"","","","","","","",""]
[17,"Diverging","WBT, WBL","CrossT2, CrossL2","Cross thru","WBR","CrossR2","Cross right",null,5625,1875,10546875,null,40,15,10,12.680996573469201,3.5521749218507754E-3,null,1,null,null,null,null,null,1,null,"",1,null,null,null,1,null,1,null,37464.344878894895,null,null,"","","",1,1,"","","","","","","","","","","",null,"","","","","",1,"","","","","","","","","",""]
[18,"Diverging","WBT, NBL","CrossT2, RampL1","Cross thru","WBL","CrossL2","Cross left",null,4875,1875,9140625,null,40,20,10,10.299363999544671,1.6139822402002194E-3,null,1,null,null,null,null,null,1,null,"",1,null,null,null,1,null,1,null,14752.806414330131,null,null,"","","",1,"","","",1,"","","","","","","","",null,"","","","",1,"","","","","","","","","","",""]
[19,"Nonmotorized",null,"RampNM2","Nonmotorized","SBL","RampL2","Signal near",null,375,1125,421875,null,0,15,"","",0.1205004039155782,null,{"$f":"SSI_RTI_StopFactor","v":0.72500000000000009},null,null,1,null,null,1,null,{"$f":"IF(B22=\"Diverging\",\"\",SSI_RTI_VehSpeed_StopNear)","v":15},0.49999999999999989,null,null,null,1,null,0.36249999999999999,null,18428.089114433151,null,null,"","","","","","","","","","","","","","","",1,null,"","","","","","","","","","",1,"","","","",""]
[20,"Nonmotorized",null,"RampNM2","Nonmotorized","SBR","RampR2","Signal near",null,375,1125,421875,null,0,15,"","",0.1205004039155782,null,{"$f":"SSI_RTI_StopFactor","v":0.72500000000000009},null,null,1,null,null,1,null,{"$f":"IF(B23=\"Diverging\",\"\",SSI_RTI_VehSpeed_StopNear)","v":15},0.49999999999999989,null,null,null,1,null,0.36249999999999999,null,18428.089114433151,null,null,"","","","","","","","","","","","","","","",1,null,"","","","","","","","","","","",1,"","","",""]
[21,"Nonmotorized",null,"CrossNM1","Nonmotorized","SBR","RampR2","Signal near",null,375,1125,421875,null,0,15,"","",0.1205004039155782,null,{"$f":"SSI_RTI_StopFactor","v":0.72500000000000009},null,2,null,null,1,5,null,40,0.77777777777777779,null,null,null,1,null,2.8194444444444446,null,143329.58200114674,null,null,"","","","","","","","","","","","",1,"","","",null,"","","","","","","","","","","",1,"","","",""]
[22,"Nonmotorized",null,"CrossNM1","Nonmotorized","WBT,NBL","CrossT2,RampL1","Cross thru",null,375,4875,1828125,null,0,40,"","",0.75115840021714742,null,{"$f":"SSI_RTI_PermFactor","v":1},null,2,null,null,1,5,null,40,0.77777777777777779,null,null,null,1,null,3.8888888888888888,null,{"$f":"L25*R25*AI25","v":5340266.7515437827},null,null,"","","","","","","","","","","","",1,"","","",null,"","","",1,"","","",1,"","","","","","","",""]
[23,"Nonmotorized",null,"CrossNM1","Nonmotorized","EBT,EBL","CrossT1,CrossL1","Cross thru",null,375,5625,2109375,null,0,40,"","",0.75115840021714742,null,{"$f":"SSI_RTI_PermFactor","v":1},null,2,null,null,1,5,null,40,0.77777777777777779,null,null,null,1,null,3.8888888888888888,null,6161846.2517812876,null,null,"","","","","","","","","","","","",1,"","","",null,1,1,"","","","","","","","","","","","","",""]
[24,"Nonmotorized",null,"CrossNM1","Nonmotorized","EBR","CrossR1","Cross right",null,375,1875,703125,null,0,15,"","",0.1205004039155782,null,{"$f":"SSI_RTI_PermFactor","v":1},null,2,null,null,1,5,null,40,0.77777777777777779,null,null,null,1,null,3.8888888888888888,null,329493.29195665917,null,null,"","","","","","","","","","","","",1,"","","",null,"","",1,"","","","","","","","","","","","",""]
[25,"Nonmotorized",null,"RampNM1","Nonmotorized","EBR","CrossR1","Cross right",null,375,1875,703125,null,0,15,"","",0.1205004039155782,null,{"$f":"SSI_RTI_PermFactor","v":1},null,null,1,2,null,4.5,null,{"$f":"IF(B28=\"Diverging\",\"\",SSI_RTI_VehSpeed_StopNear)","v":15},0.49999999999999989,null,null,null,1,null,2.2499999999999996,null,190635.40463206705,null,null,"","","","","","","","","","","","","","",1,"",null,"","",1,"","","","","","","","","","","","",""]
[26,"Nonmotorized",null,"RampNM1","Nonmotorized","WBL","CrossL2","Cross left",null,375,1875,703125,null,0,20,"","",0.20274912921655375,null,{"$f":"SSI_RTI_PermFactor","v":1},null,null,1,2,null,4.5,null,{"$f":"IF(B29=\"Diverging\",\"\",SSI_RTI_VehSpeed_StopNear)","v":15},0.49999999999999989,null,null,null,1,null,2.2499999999999996,null,320755.45833087602,null,null,"","","","","","","","","","","","","","",1,"",null,"","","","",1,"","","","","","","","","","",""]
[27,"Nonmotorized",null,"RampNM1","Nonmotorized","NBL","RampL1","Signal near",null,375,1125,421875,null,0,15,"","",0.1205004039155782,null,{"$f":"SSI_RTI_StopFactor","v":0.72500000000000009},null,null,1,null,null,1,null,40,0.77777777777777779,null,null,null,1,null,0.56388888888888899,null,28665.916400229351,null,null,"","","","","","","","","","","","","","",1,"",null,"","","","","","","",1,"","","","","","","",""]
[28,"Nonmotorized",null,"RampNM1","Nonmotorized","NBR","RampR1","Signal near",null,375,1125,421875,null,0,15,"","",0.1205004039155782,null,{"$f":"SSI_RTI_StopFactor","v":0.72500000000000009},null,null,1,null,null,1,null,40,0.77777777777777779,null,null,null,1,null,0.56388888888888899,null,28665.916400229351,null,null,"","","","","","","","","","","","","","",1,"",null,"","","","","","","","",1,"","","","","","",""]
[29,"Nonmotorized",null,"CrossNM2","Nonmotorized","NBR","RampR1","Signal near",null,375,1125,421875,null,0,15,"","",0.1205004039155782,null,{"$f":"SSI_RTI_StopFactor","v":0.72500000000000009},null,2,null,null,1,5,null,40,0.77777777777777779,null,null,null,1,null,2.8194444444444446,null,143329.58200114674,null,null,"","","","","","","","","","","","","",1,"","",null,"","","","","","","","",1,"","","","","","",""]
[30,"Nonmotorized",null,"CrossNM2","Nonmotorized","EBT,SBL","CrossT1,RampL2","Cross thru",null,375,4875,1828125,null,0,40,"","",0.75115840021714742,null,{"$f":"SSI_RTI_PermFactor","v":1},null,2,null,null,1,5,null,40,0.77777777777777779,null,null,null,1,null,3.8888888888888888,null,5340266.7515437827,null,null,"","","","","","","","","","","","","",1,"","",null,1,"","","","","","","","","",1,"","","","",""]
[31,"Nonmotorized",null,"CrossNM2","Nonmotorized","WBT,WBL","CrossT2,CrossL2","Cross thru",null,375,5625,2109375,null,0,40,"","",0.75115840021714742,null,{"$f":"SSI_RTI_PermFactor","v":1},null,2,null,null,1,5,null,40,0.77777777777777779,null,null,null,1,null,3.8888888888888888,null,6161846.2517812876,null,null,"","","","","","","","","","","","","",1,"","",null,"","","",1,1,"","","","","","","","","","",""]
[32,"Nonmotorized",null,"CrossNM2","Nonmotorized","WBR","CrossR2","Cross right",null,375,1875,703125,null,0,15,"","",0.1205004039155782,null,{"$f":"SSI_RTI_PermFactor","v":1},null,2,null,null,1,5,null,40,0.77777777777777779,null,null,null,1,null,3.8888888888888888,null,329493.29195665917,null,null,{"$f":"IF(ISNUMBER(SEARCH(AN$3,$D35)),1,\"\")","v":""},"","","","","","","","","","","","",1,"","",null,{"$f":"IF(ISNUMBER(SEARCH(BE$3,$G35)),1,\"\")","v":""},"","","","",1,"","","","","","","","","",""]
[33,"Nonmotorized",null,"RampNM2","Nonmotorized","WBR","CrossR2","Cross right",null,375,1875,703125,null,0,15,"",{"$f":"IF(B36=\"Nonmotorized\",\"\",SQRT(N36^2+O36^2-2*N36*O36*COS(RADIANS(P36)))/2)","v":""},0.1205004039155782,null,{"$f":"SSI_RTI_PermFactor","v":1},null,null,1,2,null,4.5,null,40,0.77777777777777779,null,null,null,1,null,3.5,null,296543.96276099328,null,null,"","","","","","","","","","","","","","","",1,null,"","","","","",1,"","","","","","","","","",""]
[34,"Nonmotorized",null,"RampNM2","Nonmotorized","EBL","CrossL1","Cross left",null,375,1875,{"$f":"PRODUCT(J37:K37)","v":703125},null,0,20,"","",0.20274912921655375,null,{"$f":"SSI_RTI_PermFactor","v":1},null,null,1,2,null,4.5,null,40,0.77777777777777779,null,null,null,1,null,3.5,null,498952.93518136279,null,null,"","","","","","","","","","","","","","","",1,null,"",1,"","","","","","","","","","","","","",""]
[null,null,null,null,null,null,null,null,null,null,null,null,null,null,null,null,null,null,null,null,null,null,null,null,null,null,null,null,null,null,null,null,null,null,null,null,null,null,"O",{"$f":"'SSI Inputs RTI'!$D$28","v":3750},{"$f":"'SSI Inputs RTI'!$D$29","v":1875},{"$f":"'SSI Inputs RTI'!$D$30","v":1875},{"$f":"'SSI Inputs RTI'!$D$32","v":3750},{"$f":"'SSI Inputs RTI'!$D$33","v":1875},{"$f":"'SSI Inputs RTI'!$D$34","v":1875},{"$f":"'SSI Inputs RTI'!$D$36","v":2250},{"$f":"'SSI Inputs RTI'!$D$37","v":1125},{"$f":"'SSI Inputs RTI'!$D$38","v":1125},{"$f":"'SSI Inputs RTI'!$D$40","v":2250},{"$f":"'SSI Inputs RTI'!$D$41","v":1125},{"$f":"'SSI Inputs RTI'!$D$42","v":1125},{"$f":"'SSI Inputs RTI'!$Q$20","v":375},{"$f":"'SSI Inputs RTI'!$Q$21","v":375},{"$f":"'SSI Inputs RTI'!$Q$22","v":375},{"$f":"'SSI Inputs RTI'!$Q$23","v":375},"O",{"$f":"'SSI Inputs RTI'!$D$28","v":3750},{"$f":"'SSI Inputs RTI'!$D$29","v":1875},{"$f":"'SSI Inputs RTI'!$D$30","v":1875},{"$f":"'SSI Inputs RTI'!$D$32","v":3750},{"$f":"'SSI Inputs RTI'!$D$33","v":1875},{"$f":"'SSI Inputs RTI'!$D$34","v":1875},{"$f":"'SSI Inputs RTI'!$D$36","v":2250},{"$f":"'SSI Inputs RTI'!$D$37","v":1125},{"$f":"'SSI Inputs RTI'!$D$38","v":1125},{"$f":"'SSI Inputs RTI'!$D$40","v":2250},{"$f":"'SSI Inputs RTI'!$D$41","v":1125},{"$f":"'SSI Inputs RTI'!$D$42","v":1125},{"$f":"'SSI Inputs RTI'!$Q$20","v":375},{"$f":"'SSI Inputs RTI'!$Q$21","v":375},{"$f":"'SSI Inputs RTI'!$Q$22","v":375},{"$f":"'SSI Inputs RTI'!$Q$23","v":375}]
[null,null,null,null,null,null,null,null,null,null,null,null,null,null,null,null,null,null,null,null,null,null,null,null,null,null,null,null,null,null,null,null,null,null,null,null,null,null,"D",{"$f":"'SSI Inputs RTI'!$E$28","v":7500},{"$f":"'SSI Inputs RTI'!$E$29","v":3750},{"$f":"'SSI Inputs RTI'!$E$30","v":3750},{"$f":"'SSI Inputs RTI'!$E$32","v":7500},{"$f":"'SSI Inputs RTI'!$E$33","v":3750},{"$f":"'SSI Inputs RTI'!$E$34","v":3750},{"$f":"'SSI Inputs RTI'!$E$36","v":2500},{"$f":"'SSI Inputs RTI'!$E$37","v":1250},{"$f":"'SSI Inputs RTI'!$E$38","v":1250},{"$f":"'SSI Inputs RTI'!$E$40","v":2500},{"$f":"'SSI Inputs RTI'!$E$41","v":1250},{"$f":"'SSI Inputs RTI'!$E$42","v":1250},{"$f":"'SSI Inputs RTI'!$R$20","v":425},{"$f":"'SSI Inputs RTI'!$R$21","v":425},{"$f":"'SSI Inputs RTI'!$R$22","v":425},{"$f":"'SSI Inputs RTI'!$R$23","v":425},"D",{"$f":"'SSI Inputs RTI'!$E$28","v":7500},{"$f":"'SSI Inputs RTI'!$E$29","v":3750},{"$f":"'SSI Inputs RTI'!$E$30","v":3750},{"$f":"'SSI Inputs RTI'!$E$32","v":7500},{"$f":"'SSI Inputs RTI'!$E$33","v":3750},{"$f":"'SSI Inputs RTI'!$E$34","v":3750},{"$f":"'SSI Inputs RTI'!$E$36","v":2500},{"$f":"'SSI Inputs RTI'!$E$37","v":1250},{"$f":"'SSI Inputs RTI'!$E$38","v":1250},{"$f":"'SSI Inputs RTI'!$E$40","v":2500},{"$f":"'SSI Inputs RTI'!$E$41","v":1250},{"$f":"'SSI Inputs RTI'!$E$42","v":1250},{"$f":"'SSI Inputs RTI'!$R$20","v":425},{"$f":"'SSI Inputs RTI'!$R$21","v":425},{"$f":"'SSI Inputs RTI'!$R$22","v":425},{"$f":"'SSI Inputs RTI'!$R$23","v":425}]
[]
[]
[]
[]
[]
[]
[]
[]
[]
[]
[]
[]
[]
[]
[]
[]
[]
[]
[]
[]
[]
[]
[]
[]
[]
[]
[]
[]
[]
[]
[]
[]
[]
[]
[]
[]
[]
[]
[]
[]
[]
[]
[]
[]
[]
[]
[]
[]
[]
[]
[]
[]
[]
[]
[]
[]
[]
[]
[]
[]
[]
[null,null,null,null,null,null,null,null,null,"Exposure",null,null,null,null,null,null,null,null,null,null,null,null,null,null,null,null,null,null,null,null,null,null,null,null,null,null,"Exposure-Severity-Complexity Product"]
[null,null,null,null,null,null,null,null,null,"Q1","Q2","I"]
[null,null,null,null,null,null,null,null,null,{"$f":"SUMPRODUCT($AN4:$BC4,$AN$39:$BC$39)","v":3750},{"$f":"SUMPRODUCT($BE4:$BT4,$BE$39:$BT$39)","v":11250},{"$f":"PRODUCT(J103:K103)","v":42187500},null,null,null,null,null,null,null,null,null,null,null,null,null,null,null,null,null,null,null,null,null,null,null,null,{"$f":"L103*R4*AI4","v":8131410.8113919403}]
[null,null,null,null,null,null,null,null,null,{"$f":"SUMPRODUCT($AN5:$BC5,$AN$39:$BC$39)","v":1250},{"$f":"SUMPRODUCT($BE5:$BT5,$BE$39:$BT$39)","v":3750},{"$f":"PRODUCT(J104:K104)","v":4687500},null,null,null,null,null,null,null,null,null,null,null,null,null,null,null,null,null,null,null,null,null,null,null,null,{"$f":"L104*R5*AI5","v":213658.33399662978}]
[null,null,null,null,null,null,null,null,null,1250,8750,10937500,null,null,null,null,null,null,null,null,null,null,null,null,null,null,null,null,null,null,null,null,null,null,null,null,1146212.2702688677]
[null,null,null,null,null,null,null,null,null,3750,11250,42187500,null,null,null,null,null,null,null,null,null,null,null,null,null,null,null,null,null,null,null,null,null,null,null,null,8131410.8113919403]
[null,null,null,null,null,null,null,null,null,1250,3750,4687500,null,null,null,null,null,null,null,null,null,null,null,null,null,null,null,null,null,null,null,null,null,null,null,null,213658.33399662978]
[null,null,null,null,null,null,null,null,null,1250,8750,10937500,null,null,null,null,null,null,null,null,null,null,null,null,null,null,null,null,null,null,null,null,null,null,null,null,1146212.2702688677]
[null,null,null,null,null,null,null,null,null,1250,8750,10937500,null,null,null,null,null,null,null,null,null,null,null,null,null,null,null,null,null,null,null,null,null,null,null,null,84554.203301742091]
[null,null,null,null,null,null,null,null,null,3750,3750,14062500,null,null,null,null,null,null,null,null,null,null,null,null,null,null,null,null,null,null,null,null,null,null,null,null,16005.495873215905]
[null,null,null,null,null,null,null,null,null,1250,11250,14062500,null,null,null,null,null,null,null,null,null,null,null,null,null,null,null,null,null,null,null,null,null,null,null,null,163801.37191513294]
[null,null,null,null,null,null,null,null,null,1250,8750,10937500,null,null,null,null,null,null,null,null,null,null,null,null,null,null,null,null,null,null,null,null,null,null,null,null,84554.203301742091]
[null,null,null,null,null,null,null,null,null,3750,3750,14062500,null,null,null,null,null,null,null,null,null,null,null,null,null,null,null,null,null,null,null,null,null,null,null,null,16005.495873215905]
[null,null,null,null,null,null,null,null,null,1250,11250,14062500,null,null,null,null,null,null,null,null,null,null,null,null,null,null,null,null,null,null,null,null,null,null,null,null,163801.37191513294]
[null,null,null,null,null,null,null,null,null,1250,1250,1562500,null,null,null,null,null,null,null,null,null,null,null,null,null,null,null,null,null,null,null,null,null,null,null,null,1.0009591886752529]
[null,null,null,null,null,null,null,null,null,11250,3750,42187500,null,null,null,null,null,null,null,null,null,null,null,null,null,null,null,null,null,null,null,null,null,null,null,null,149857.37951557958]
[null,null,null,null,null,null,null,null,null,8750,3750,32812500,null,null,null,null,null,null,null,null,null,null,null,null,null,null,null,null,null,null,null,null,null,null,null,null,52958.792256569701]
[null,null,null,null,null,null,null,null,null,1250,1250,1562500,null,null,null,null,null,null,null,null,null,null,null,null,null,null,null,null,null,null,null,null,null,null,null,null,1.0009591886752529]
[null,null,null,null,null,null,null,null,null,11250,3750,42187500,null,null,null,null,null,null,null,null,null,null,null,null,null,null,null,null,null,null,null,null,null,null,null,null,149857.37951557958]
[null,null,null,null,null,null,null,null,null,8750,3750,32812500,null,null,null,null,null,null,null,null,null,null,null,null,null,null,null,null,null,null,null,null,null,null,null,null,52958.792256569701]
[null,null,null,null,null,null,null,null,null,425,1250,531250,null,null,null,null,null,null,null,null,null,null,null,null,null,null,null,null,null,null,null,null,null,null,null,null,23205.741847804708]
[null,null,null,null,null,null,null,null,null,425,1250,531250,null,null,null,null,null,null,null,null,null,null,null,null,null,null,null,null,null,null,null,null,null,null,null,null,23205.741847804708]
[null,null,null,null,null,null,null,null,null,425,1250,531250,null,null,null,null,null,null,null,null,null,null,null,null,null,null,null,null,null,null,null,null,null,null,null,null,180489.1032607033]
[null,null,null,null,null,null,null,null,null,425,8750,3718750,null,null,null,null,null,null,null,null,null,null,null,null,null,null,null,null,null,null,null,null,null,null,null,null,10863106.725362565]
[null,null,null,null,null,null,null,null,null,425,11250,4781250,null,null,null,null,null,null,null,null,null,null,null,null,null,null,null,null,null,null,null,null,null,null,null,null,13966851.504037585]
[null,null,null,null,null,null,null,null,null,425,3750,1593750,null,null,null,null,null,null,null,null,null,null,null,null,null,null,null,null,null,null,null,null,null,null,null,null,746851.4617684274]
[null,null,null,null,null,null,null,null,null,425,3750,1593750,null,null,null,null,null,null,null,null,null,null,null,null,null,null,null,null,null,null,null,null,null,null,null,null,432106.91716601863]
[null,null,null,null,null,null,null,null,null,425,3750,1593750,null,null,null,null,null,null,null,null,null,null,null,null,null,null,null,null,null,null,null,null,null,null,null,null,727045.70554998564]
[null,null,null,null,null,null,null,null,null,425,1250,531250,null,null,null,null,null,null,null,null,null,null,null,null,null,null,null,null,null,null,null,null,null,null,null,null,36097.820652140661]
[null,null,null,null,null,null,null,null,null,425,1250,531250,null,null,null,null,null,null,null,null,null,null,null,null,null,null,null,null,null,null,null,null,null,null,null,null,36097.820652140661]
[null,null,null,null,null,null,null,null,null,425,1250,531250,null,null,null,null,null,null,null,null,null,null,null,null,null,null,null,null,null,null,null,null,null,null,null,null,180489.1032607033]
[null,null,null,null,null,null,null,null,null,425,8750,3718750,null,null,null,null,null,null,null,null,null,null,null,null,null,null,null,null,null,null,null,null,null,null,null,null,10863106.725362565]
[null,null,null,null,null,null,null,null,null,425,11250,4781250,null,null,null,null,null,null,null,null,null,null,null,null,null,null,null,null,null,null,null,null,null,null,null,null,13966851.504037585]
[null,null,null,null,null,null,null,null,null,425,3750,1593750,null,null,null,null,null,null,null,null,null,null,null,null,null,null,null,null,null,null,null,null,null,null,null,null,746851.4617684274]
[null,null,null,null,null,null,null,null,null,425,3750,1593750,null,null,null,null,null,null,null,null,null,null,null,null,null,null,null,null,null,null,null,null,null,null,null,null,672166.31559158466]
[null,null,null,null,null,null,null,null,null,425,3750,1593750,null,null,null,null,null,null,null,null,null,null,null,null,null,null,null,null,null,null,null,null,null,null,null,null,1130959.9864110888]

{"sheet":"SPUI","index":11,"n_rows":138,"n_cols":72,"rows_kept":138,"cut":false,"hidden":true,"merged":[[1,34,2,34],[1,36,2,36],[1,39,1,52],[1,56,1,69],[100,9,100,11],[100,36,101,36],[0,19,0,28],[0,30,0,32],[1,9,1,11],[1,13,1,17],[1,21,1,25],[1,27,1,28],[1,30,2,30],[1,31,2,31],[1,32,2,32]]}
[null,null,null,null,null,null,null,null,null,null,null,null,null,null,null,null,null,null,null,"Conflicting Traffic Complexity",null,null,null,null,null,null,null,null,null,null,"Pedestrian Complexity"]
[null,null,null,null,null,null,null,null,null,"Exposure",null,null,null,"Severity",null,null,null,null,null,"Traffic Control",null,"Conflicting Lanes",null,null,null,null,null,"Conflicting Speed",null,null,"Indirect Paths Indicator","Non-intuitive movements indicator","Pedestrian Complexity factor",null,"Total Complexity Multiplier",null,"Exposure-Severity-Complexity Product",null,null,"Included in Mvmt1",null,null,null,null,null,null,null,null,null,null,null,null,null,null,null,null,"Included in Mvmt2"]
["#","Conflict Type","Mvmt1","Mvmt1_gen","Mvmt1_SpeedCat","Mvmt2","Mvmt2_gen","Mvmt2_SpeedCat",null,"Q1","Q2","I",null,"Speed_V1","Speed_V2","Angle","delta_V","P_FSI",null,null,null,"CrossC","RampC","CrossM/P","RampM/P","Score",null,"Speed","Factor",null,null,null,null,null,null,null,null,null,null,"CrossT1","CrossL1","CrossR1","CrossT2","CrossL2","CrossR2","RampT1","RampL1","RampR1","RampT2","RampL2","RampR2","CrossNM1","CrossNM2","RampNM1","RampNM2",null,"CrossT1","CrossL1","CrossR1","CrossT2","CrossL2","CrossR2","RampT1","RampL1","RampR1","RampT2","RampL2","RampR2","CrossNM1","CrossNM2","RampNM1","RampNM2"]
[1,"Crossing - LT","EBL","CrossL1","Cross left","NBL","RampL1","Signal far",null,{"$f":"SUMPRODUCT($AN4:$BC4,$AN$40:$BC$40)","v":1875},{"$f":"SUMPRODUCT($BE4:$BT4,$BE$40:$BT$40)","v":1125},{"$f":"PRODUCT(J4:K4)","v":2109375},null,{"$f":"VLOOKUP(E4,SSI_RTI_Range_VehSpeed,5,FALSE)","v":20},{"$f":"VLOOKUP(H4,SSI_RTI_Range_VehSpeed,5,FALSE)","v":25},{"$f":"IF(B4=\"Nonmotorized\",\"\",VLOOKUP(B4,SSI_RTI_Range_CollAngles,5,FALSE))","v":230},{"$f":"IF(B4=\"Nonmotorized\",\"\",SQRT(N4^2+O4^2-2*N4*O4*COS(RADIANS(P4)))/2)","v":20.419277715473552},{"$f":"IF(B4=\"Nonmotorized\",1/(1+EXP(3.8432-0.1237*O4)),(Q4/SSI_RTI_RegAlpha)^SSI_RTI_RegK+(Q4/SSI_RTI_RegAlpha)^SSI_RTI_RegK-((Q4/SSI_RTI_RegAlpha)^SSI_RTI_RegK)*((Q4/SSI_RTI_RegAlpha)^SSI_RTI_RegK))","v":2.1555284139167373E-2},null,{"$f":"SSI_RTI_ProtFactor","v":0.505},null,1,null,1,null,{"$f":"MAX(1,IF(B4<>\"Pedestrian\",V4*SSI_RTI_CrossThruLanes+W4*SSI_RTI_Ramp1ThruLanes+X4*IF(SSI_RTI_CrossThruLanes=1,SSI_RTI_MergeWeightL1,IF(SSI_RTI_CrossThruLanes=2,SSI_RTI_MergeWeightL1+SSI_RTI_MergeWeightL2,SSI_RTI_MergeWeightL1+SSI_RTI_MergeWeightL2+SSI_RTI_MergeWeightL3*(SSI_RTI_CrossThruLanes-2)))+Y4*IF(SSI_RTI_Ramp1ThruLanes=1,SSI_RTI_MergeWeightL1,IF(SSI_RTI_Ramp1ThruLanes=2,SSI_RTI_MergeWeightL1+SSI_RTI_MergeWeightL2,SSI_RTI_MergeWeightL1+SSI_RTI_MergeWeightL2+SSI_RTI_MergeWeightL3*(SSI_RTI_Ramp1ThruLanes-2))),V4*SSI_RTI_CrossThruLanes+W4*SSI_RTI_Ramp1ThruLanes+X4*IF(SSI_RTI_CrossThruLanes=1,SSI_RTI_NM_MergeWeightL1,IF(SSI_RTI_CrossThruLanes=2,SSI_RTI_NM_MergeWeightL1+SSI_RTI_NM_MergeWeightL2,SSI_RTI_NM_MergeWeightL1+SSI_RTI_NM_MergeWeightL2+SSI_RTI_NM_MergeWeightL3*(SSI_RTI_CrossThruLanes-2)))+Y4*IF(SSI_RTI_Ramp1ThruLanes=1,SSI_RTI_NM_MergeWeightL1,IF(SSI_RTI_Ramp1ThruLanes=2,SSI_RTI_NM_MergeWeightL1+SSI_RTI_NM_MergeWeightL2,SSI_RTI_NM_MergeWeightL1+SSI_RTI_NM_MergeWeightL2+SSI_RTI_NM_MergeWeightL3*(SSI_RTI_Ramp1ThruLanes-2)))))","v":3.75},null,{"$f":"IF(B4=\"Diverging\",\"\",SSI_RTI_VehSpeed_CrossThru)","v":40},{"$f":"IF(B4=\"Diverging\",1,1-((60-AB4)/60*0.1/0.15))","v":0.77777777777777779},null,null,null,{"$f":"IF(SSI_RTI_ConsiderNMComplexity=\"Yes\",1+AE4+AF4,1)","v":1},null,{"$f":"PRODUCT(Z4,T4,AC4,AG4)","v":1.4729166666666667},null,{"$f":"L4*R4*AI4","v":66970.836414805657},null,null,{"$f":"IF(ISNUMBER(SEARCH(AN$3,$D4)),1,\"\")","v":""},{"$f":"IF(ISNUMBER(SEARCH(AO$3,$D4)),1,\"\")","v":1},"","","","","","","","","","","","","","",null,{"$f":"IF(ISNUMBER(SEARCH(BE$3,$G4)),1,\"\")","v":""},{"$f":"IF(ISNUMBER(SEARCH(BF$3,$G4)),1,\"\")","v":""},"","","","","",1,"","","","","","","",""]
[2,"Crossing - LT","EBT","CrossT1","Cross thru","WBL","CrossL2","Cross left",null,{"$f":"SUMPRODUCT($AN5:$BC5,$AN$40:$BC$40)","v":3750},{"$f":"SUMPRODUCT($BE5:$BT5,$BE$40:$BT$40)","v":1875},{"$f":"PRODUCT(J5:K5)","v":7031250},null,40,20,230,{"$f":"IF(B5=\"Nonmotorized\",\"\",SQRT(N5^2+O5^2-2*N5*O5*COS(RADIANS(P5)))/2)","v":27.515723575341713},6.6083846594169424E-2,null,{"$f":"IF(SSI_RTI_CrossLTPhase=\"Protected/permitted\",SSI_RTI_ProtPermFactor,IF(SSI_RTI_CrossLTPhase=\"Protected\",SSI_RTI_ProtFactor,SSI_RTI_PermFactor))","v":0.92500000000000004},null,1,null,null,null,2,null,40,0.77777777777777779,null,null,null,1,null,1.4388888888888889,null,{"$f":"L5*R5*AI5","v":668582.66671444848},null,null,{"$f":"IF(ISNUMBER(SEARCH(AN$3,$D5)),1,\"\")","v":1},"","","","","","","","","","","","","","","",null,{"$f":"IF(ISNUMBER(SEARCH(BE$3,$G5)),1,\"\")","v":""},"","","",1,"","","","","","","","","","",""]
[3,"Crossing - LT","WBL","CrossL2","Cross left","NBL","RampL1","Signal near",null,1875,1125,2109375,null,20,15,230,15.895538413434787,8.3616736100371632E-3,null,{"$f":"SSI_RTI_ProtFactor","v":0.505},null,1,null,1,null,3.75,null,40,0.77777777777777779,null,null,null,1,null,1.4729166666666667,null,25979.164638997299,null,null,"","","","",1,"","","","","","","","","","","",null,"","","","","","","",1,"","","","","","","",""]
[4,"Crossing - LT","EBT","CrossT1","Cross thru","NBL","RampL1","Signal near",null,3750,1125,4218750,null,40,15,230,25.477171799592707,4.955895980669895E-2,null,{"$f":"SSI_RTI_ProtFactor","v":0.505},null,1,null,1,null,3.75,null,40,0.77777777777777779,null,null,null,1,null,1.4729166666666667,null,307952.79418947792,null,null,1,"","","","","","","","","","","","","","","",null,"","","","","","","",1,"","","","","","","",""]
[5,"Crossing - LT","WBL","CrossL2","Cross left","SBL","RampL2","Signal far",null,1875,1125,2109375,null,20,25,230,20.419277715473552,2.1555284139167373E-2,null,{"$f":"SSI_RTI_ProtFactor","v":0.505},null,1,null,1,null,3.75,null,40,0.77777777777777779,null,null,null,1,null,1.4729166666666667,null,66970.836414805657,null,null,"","","","",1,"","","","","","","","","","","",null,"","","","","","","","","","",1,"","","","",""]
[6,"Crossing - LT","WBT","CrossT2","Cross thru","EBL","CrossL1","Cross left",null,3750,1875,7031250,null,40,20,230,27.515723575341713,6.6083846594169424E-2,null,{"$f":"IF(SSI_RTI_CrossLTPhase=\"Protected/permitted\",SSI_RTI_ProtPermFactor,IF(SSI_RTI_CrossLTPhase=\"Protected\",SSI_RTI_ProtFactor,SSI_RTI_PermFactor))","v":0.92500000000000004},null,1,null,null,null,2,null,40,0.77777777777777779,null,null,null,1,null,1.4388888888888889,null,668582.66671444848,null,null,"","","",1,"","","","","","","","","","","","",null,"",1,"","","","","","","","","","","","","",""]
[7,"Crossing - LT","EBL","CrossL1","Cross left","SBL","RampL2","Signal near",null,1875,1125,2109375,null,20,15,230,15.895538413434787,8.3616736100371632E-3,null,{"$f":"SSI_RTI_ProtFactor","v":0.505},null,1,null,1,null,3.75,null,40,0.77777777777777779,null,null,null,1,null,1.4729166666666667,null,25979.164638997299,null,null,"",1,"","","","","","","","","","","","","","",null,"","","","","","","","","","",1,"","","","",""]
[8,"Crossing - LT","WBT","CrossT2","Cross thru","SBL","RampL2","Signal near",null,3750,1125,4218750,null,40,15,230,25.477171799592707,4.955895980669895E-2,null,{"$f":"SSI_RTI_ProtFactor","v":0.505},null,1,null,1,null,3.75,null,40,0.77777777777777779,null,null,null,1,null,1.4729166666666667,null,307952.79418947792,null,null,"","","",1,"","","","","","","","","","","","",null,"","","","","","","","","","",1,"","","","",""]
[9,"Merging","WBT,NBL","CrossT2,RampL1","Cross thru","SBR","RampR2","Signal near",null,4875,1125,5484375,null,40,15,45,15.62427488378375,7.8340357658475412E-3,null,{"$f":"SSI_RTI_ProtFactor","v":0.505},null,null,null,1,null,1.75,null,40,0.77777777777777779,null,null,null,1,null,0.6873611111111112,null,29532.325726601564,null,null,"","","",1,"","","",1,"","","","","","","","",null,"","","","","","","","","","","",1,"","","",""]
[10,"Merging","EBR","CrossR1","Cross right","WBL","CrossL2","Cross left",null,1875,1875,3515625,null,15,20,45,7.0840654162717795,3.9022923271840685E-4,null,{"$f":"SSI_RTI_PermFactor","v":1},null,null,null,null,1,1,null,40,0.77777777777777779,null,null,null,1,null,0.77777777777777779,null,1067.0330582143938,null,null,"","",1,"","","","","","","","","","","","","",null,"","","","",1,"","","","","","","","","","",""]
[11,"Merging","WBT","CrossT2","Cross thru","NBL","RampL1","Signal far",null,3750,1125,4218750,null,40,25,45,14.237155945157243,5.5084599291000359E-3,null,{"$f":"SSI_RTI_ProtFactor","v":0.505},null,1,null,1,null,3.75,null,40,0.77777777777777779,null,null,null,1,null,1.4729166666666667,null,34228.838407093288,null,null,"","","",1,"","","","","","","","","","","","",null,"","","","","","","",1,"","","","","","","",""]
[12,"Merging","EBT","CrossT1","Cross thru","SBL","RampL2","Signal far",null,3750,1125,4218750,null,40,25,45,14.237155945157243,5.5084599291000359E-3,null,{"$f":"SSI_RTI_ProtFactor","v":0.505},null,1,null,1,null,3.75,null,40,0.77777777777777779,null,null,null,1,null,1.4729166666666667,null,34228.838407093288,null,null,1,"","","","","","","","","","","","","","","",null,"","","","","","","","","","",1,"","","","",""]
[13,"Merging","EBT,SBL","CrossT1,RampL2","Cross thru","NBR","RampR1","Signal near",null,4875,1125,5484375,null,40,15,45,15.62427488378375,7.8340357658475412E-3,null,{"$f":"SSI_RTI_ProtFactor","v":0.505},null,null,null,1,null,1.75,null,40,0.77777777777777779,null,null,null,1,null,0.6873611111111112,null,29532.325726601564,null,null,1,"","","","","","","","","",1,"","","","","",null,"","","","","","","","",1,"","","","","","",""]
[14,"Merging","WBR","CrossR2","Cross right","WBL","CrossL2","Cross left",null,1875,1875,3515625,null,15,20,45,7.0840654162717795,3.9022923271840685E-4,null,{"$f":"SSI_RTI_PermFactor","v":1},null,null,null,null,1,1,null,40,0.77777777777777779,null,null,null,1,null,0.77777777777777779,null,1067.0330582143938,null,null,"","","","","",1,"","","","","","","","","","",null,"","","","",1,"","","","","","","","","","",""]
[15,"Diverging","SBR","RampR2","Signal near","SBL","RampL2","Signal near",null,1125,1125,1265625,null,15,15,10,1.3073361412148754,6.4061388075216188E-7,null,1,null,null,null,null,null,1,null,"",1,null,null,null,1,null,1,null,0.81077694282695489,null,null,"","","","","","","","","","","",1,"","","","",null,"","","","","","","","","","",1,"","","","",""]
[16,"Diverging","EBT","CrossT1","Cross thru","EBL","CrossL1","Cross left",null,3750,1875,7031250,null,40,20,10,10.299363999544671,1.6139822402002194E-3,null,1,null,null,null,null,null,1,null,"",1,null,null,null,1,null,1,null,11348.312626407793,null,null,1,"","","","","","","","","","","","","","","",null,"",1,"","","","","","","","","","","","","",""]
[17,"Diverging","EBT","CrossT1","Cross thru","EBR","CrossR1","Cross right",null,3750,1875,7031250,null,40,15,10,12.680996573469201,3.5521749218507754E-3,null,1,null,null,null,null,null,1,null,"",1,null,null,null,1,null,1,null,24976.229919263264,null,null,1,"","","","","","","","","","","","","","","",null,"","",1,"","","","","","","","","","","","",""]
[18,"Diverging","NBR","RampR1","Signal near","NBL","RampL1","Signal near",null,1125,1125,1265625,null,15,15,10,1.3073361412148754,6.4061388075216188E-7,null,1,null,null,null,null,null,1,null,"",1,null,null,null,1,null,1,null,0.81077694282695489,null,null,"","","","","","","","",1,"","","","","","","",null,"","","","","","","",1,"","","","","","","",""]
[19,"Diverging","WBT","CrossT2","Cross thru","WBL","CrossL2","Cross left",null,3750,1875,7031250,null,40,20,10,10.299363999544671,1.6139822402002194E-3,null,1,null,null,null,null,null,1,null,"",1,null,null,null,1,null,1,null,11348.312626407793,null,null,"","","",1,"","","","","","","","","","","","",null,"","","","",1,"","","","","","","","","","",""]
[20,"Diverging","WBT","CrossT2","Cross thru","WBR","CrossR2","Cross right",null,3750,1875,7031250,null,40,15,10,12.680996573469201,3.5521749218507754E-3,null,1,null,null,null,null,null,1,null,"",1,null,null,null,1,null,1,null,24976.229919263264,null,null,"","","",1,"","","","","","","","","","","","",null,"","","","","",1,"","","","","","","","","",""]
[21,"Nonmotorized",null,"RampNM2","Nonmotorized","SBL","RampL2","Signal near",null,375,1125,421875,null,0,15,"","",0.1205004039155782,null,{"$f":"SSI_RTI_ProtFactor","v":0.505},null,null,1,null,null,1,null,{"$f":"IF(B24=\"Diverging\",\"\",SSI_RTI_VehSpeed_SignalNear)","v":15},0.49999999999999989,null,null,null,1,null,0.25249999999999995,null,12836.117245225847,null,null,"","","","","","","","","","","","","","","",1,null,"","","","","","","","","","",1,"","","","",""]
[22,"Nonmotorized",null,"RampNM2","Nonmotorized","SBR","RampR2","Signal near",null,375,1125,421875,null,0,15,"","",0.1205004039155782,null,0.505,null,null,1,null,null,1,null,{"$f":"IF(B25=\"Diverging\",\"\",SSI_RTI_VehSpeed_SignalNear)","v":15},0.49999999999999989,null,null,null,1,null,0.25249999999999995,null,{"$f":"L25*R25*AI25","v":12836.117245225847},null,null,"","","","","","","","","","","","","","","",1,null,"","","","","","","","","","","",1,"","","",""]
[23,"Nonmotorized",null,"CrossNM1","Nonmotorized","WBT","CrossT2","Cross thru",null,375,3750,1406250,null,0,40,"","",0.75115840021714742,null,0.505,null,2,null,null,1,5,null,40,0.77777777777777779,null,1,null,2,null,3.9277777777777776,null,4148976.4761993997,null,null,"","","","","","","","","","","","",1,"","","",null,"","","",1,"","","","","","","","","","","",""]
[24,"Nonmotorized",null,"CrossNM1","Nonmotorized","NBL","RampL1","Signal far",null,375,1125,421875,null,0,25,"","",0.32066879346345062,null,0.505,null,2,null,null,1,5,null,40,0.77777777777777779,null,1,null,2,null,3.9277777777777776,null,531358.21166873339,null,null,"","","","","","","","","","","","",1,"","","",null,"","","","","","","",1,"","","","","","","",""]
[25,"Nonmotorized",null,"CrossNM1","Nonmotorized","EBL","CrossL1","Cross left",null,375,1875,703125,null,0,20,"","",0.20274912921655375,null,0.505,null,2,null,null,1,5,null,40,0.77777777777777779,null,1,null,2,null,3.9277777777777776,null,559936.07170352933,null,null,"","","","","","","","","","","","",1,"","","",null,"",1,"","","","","","","","","","","","","",""]
[26,"Nonmotorized",null,"CrossNM1","Nonmotorized","EBT","CrossT1","Cross thru",null,375,3750,1406250,null,0,40,"","",0.75115840021714742,null,0.505,null,2,null,null,1,5,null,40,0.77777777777777779,null,1,null,2,null,3.9277777777777776,null,4148976.4761993997,null,null,"","","","","","","","","","","","",1,"","","",null,1,"","","","","","","","","","","","","","",""]
[27,"Nonmotorized",null,"RampNM1","Nonmotorized","EBR","CrossR1","Cross right",null,375,1875,703125,null,0,15,"","",0.1205004039155782,null,0.505,null,null,1,null,null,1,null,40,0.77777777777777779,null,null,null,1,null,0.39277777777777778,null,33278.82248762258,null,null,{"$f":"IF(ISNUMBER(SEARCH(AN$3,$D30)),1,\"\")","v":""},"","","","","","","","","","","","","",1,"",null,{"$f":"IF(ISNUMBER(SEARCH(BE$3,$G30)),1,\"\")","v":""},"",1,"","","","","","","","","","","","",""]
[28,"Nonmotorized",null,"RampNM1","Nonmotorized","WBL","CrossL2","Cross left",null,375,1875,703125,null,0,20,"","",0.20274912921655375,null,0.505,null,null,1,null,null,1,null,40,0.77777777777777779,null,null,null,1,null,0.39277777777777778,null,55993.607170352938,null,null,"","","","","","","","","","","","","","",1,"",null,"","","","",1,"","","","","","","","","","",""]
[29,"Nonmotorized",null,"RampNM1","Nonmotorized","NBL","RampL1","Signal near",null,375,1125,421875,null,0,15,"","",0.1205004039155782,null,0.505,null,null,1,null,null,1,null,{"$f":"IF(B32=\"Diverging\",\"\",SSI_RTI_VehSpeed_SignalNear)","v":15},0.49999999999999989,null,null,null,1,null,0.25249999999999995,null,12836.117245225847,null,null,"","","","","","","","","","","","","","",1,"",null,"","","","","","","",1,"","","","","","","",""]
[30,"Nonmotorized",null,"RampNM1","Nonmotorized","NBR","RampR1","Signal near",null,375,1125,421875,null,0,15,"","",0.1205004039155782,null,0.505,null,null,1,null,null,1,null,{"$f":"IF(B33=\"Diverging\",\"\",SSI_RTI_VehSpeed_SignalNear)","v":15},0.49999999999999989,null,null,null,1,null,0.25249999999999995,null,12836.117245225847,null,null,"","","","","","","","","","","","","","",1,"",null,"","","","","","","","",1,"","","","","","",""]
[31,"Nonmotorized",null,"CrossNM2","Nonmotorized","EBT","CrossT1","Cross thru",null,375,3750,1406250,null,0,40,"","",0.75115840021714742,null,0.505,null,2,null,null,1,5,null,40,0.77777777777777779,null,1,null,2,null,3.9277777777777776,null,4148976.4761993997,null,null,"","","","","","","","","","","","","",1,"","",null,1,"","","","","","","","","","","","","","",""]
[32,"Nonmotorized",null,"CrossNM2","Nonmotorized","SBL","RampL2","Signal far",null,375,1125,421875,null,0,25,"","",0.32066879346345062,null,0.505,null,2,null,null,1,5,null,40,0.77777777777777779,null,1,null,2,null,3.9277777777777776,null,531358.21166873339,null,null,"","","","","","","","","","","","","",1,"","",null,"","","","","","","","","","",1,"","","","",""]
[33,"Nonmotorized",null,"CrossNM2","Nonmotorized","WBL","CrossL2","Cross left",null,375,1875,703125,null,0,20,"","",0.20274912921655375,null,0.505,null,2,null,null,1,5,null,40,0.77777777777777779,null,1,null,2,null,3.9277777777777776,null,559936.07170352933,null,null,"","","","","","","","","","","","","",1,"","",null,"","","","",1,"","","","","","","","","","",""]
[34,"Nonmotorized",null,"CrossNM2","Nonmotorized","WBT","CrossT2","Cross thru",null,375,3750,1406250,null,0,40,"","",0.75115840021714742,null,0.505,null,2,null,null,1,5,null,40,0.77777777777777779,null,1,null,2,null,3.9277777777777776,null,4148976.4761993997,null,null,"","","","","","","","","","","","","",1,"","",null,"","","",1,"","","","","","","","","","","",""]
[35,"Nonmotorized",null,"RampNM2","Nonmotorized","EBL","CrossL1","Cross left",null,375,1875,703125,null,0,20,"","",0.20274912921655375,null,0.505,null,null,1,null,null,1,null,40,0.77777777777777779,null,null,null,1,null,0.39277777777777778,null,55993.607170352938,null,null,"","","","","","","","","","","","","","","",1,null,"",1,"","","","","","","","","","","","","",""]
[36,"Nonmotorized",null,"RampNM2","Nonmotorized","WBR","CrossR2","Cross right",null,375,1875,703125,null,0,15,"","",0.1205004039155782,null,0.505,null,null,1,null,null,1,null,40,0.77777777777777779,null,null,null,1,null,0.39277777777777778,null,33278.82248762258,null,null,"","","","","","","","","","","","","","","",1,null,"","","","","",1,"","","","","","","","","",""]
[null,null,null,null,null,null,null,null,null,null,null,null,null,null,null,null,null,null,null,null,null,null,null,null,null,null,null,null,null,null,null,null,null,null,null,null,null,null,"O",{"$f":"'SSI Inputs RTI'!$D$28","v":3750},{"$f":"'SSI Inputs RTI'!$D$29","v":1875},{"$f":"'SSI Inputs RTI'!$D$30","v":1875},{"$f":"'SSI Inputs RTI'!$D$32","v":3750},{"$f":"'SSI Inputs RTI'!$D$33","v":1875},{"$f":"'SSI Inputs RTI'!$D$34","v":1875},{"$f":"'SSI Inputs RTI'!$D$36","v":2250},{"$f":"'SSI Inputs RTI'!$D$37","v":1125},{"$f":"'SSI Inputs RTI'!$D$38","v":1125},{"$f":"'SSI Inputs RTI'!$D$40","v":2250},{"$f":"'SSI Inputs RTI'!$D$41","v":1125},{"$f":"'SSI Inputs RTI'!$D$42","v":1125},{"$f":"'SSI Inputs RTI'!$Q$20","v":375},{"$f":"'SSI Inputs RTI'!$Q$21","v":375},{"$f":"'SSI Inputs RTI'!$Q$22","v":375},{"$f":"'SSI Inputs RTI'!$Q$23","v":375},"O",{"$f":"'SSI Inputs RTI'!$D$28","v":3750},{"$f":"'SSI Inputs RTI'!$D$29","v":1875},{"$f":"'SSI Inputs RTI'!$D$30","v":1875},{"$f":"'SSI Inputs RTI'!$D$32","v":3750},{"$f":"'SSI Inputs RTI'!$D$33","v":1875},{"$f":"'SSI Inputs RTI'!$D$34","v":1875},{"$f":"'SSI Inputs RTI'!$D$36","v":2250},{"$f":"'SSI Inputs RTI'!$D$37","v":1125},{"$f":"'SSI Inputs RTI'!$D$38","v":1125},{"$f":"'SSI Inputs RTI'!$D$40","v":2250},{"$f":"'SSI Inputs RTI'!$D$41","v":1125},{"$f":"'SSI Inputs RTI'!$D$42","v":1125},{"$f":"'SSI Inputs RTI'!$Q$20","v":375},{"$f":"'SSI Inputs RTI'!$Q$21","v":375},{"$f":"'SSI Inputs RTI'!$Q$22","v":375},{"$f":"'SSI Inputs RTI'!$Q$23","v":375}]
[null,null,null,null,null,null,null,null,null,null,null,null,null,null,null,null,null,null,null,null,null,null,null,null,null,null,null,null,null,null,null,null,null,null,null,null,null,null,"D",{"$f":"'SSI Inputs RTI'!$E$28","v":7500},{"$f":"'SSI Inputs RTI'!$E$29","v":3750},{"$f":"'SSI Inputs RTI'!$E$30","v":3750},{"$f":"'SSI Inputs RTI'!$E$32","v":7500},{"$f":"'SSI Inputs RTI'!$E$33","v":3750},{"$f":"'SSI Inputs RTI'!$E$34","v":3750},{"$f":"'SSI Inputs RTI'!$E$36","v":2500},{"$f":"'SSI Inputs RTI'!$E$37","v":1250},{"$f":"'SSI Inputs RTI'!$E$38","v":1250},{"$f":"'SSI Inputs RTI'!$E$40","v":2500},{"$f":"'SSI Inputs RTI'!$E$41","v":1250},{"$f":"'SSI Inputs RTI'!$E$42","v":1250},{"$f":"'SSI Inputs RTI'!$R$20","v":425},{"$f":"'SSI Inputs RTI'!$R$21","v":425},{"$f":"'SSI Inputs RTI'!$R$22","v":425},{"$f":"'SSI Inputs RTI'!$R$23","v":425},"D",{"$f":"'SSI Inputs RTI'!$E$28","v":7500},{"$f":"'SSI Inputs RTI'!$E$29","v":3750},{"$f":"'SSI Inputs RTI'!$E$30","v":3750},{"$f":"'SSI Inputs RTI'!$E$32","v":7500},{"$f":"'SSI Inputs RTI'!$E$33","v":3750},{"$f":"'SSI Inputs RTI'!$E$34","v":3750},{"$f":"'SSI Inputs RTI'!$E$36","v":2500},{"$f":"'SSI Inputs RTI'!$E$37","v":1250},{"$f":"'SSI Inputs RTI'!$E$38","v":1250},{"$f":"'SSI Inputs RTI'!$E$40","v":2500},{"$f":"'SSI Inputs RTI'!$E$41","v":1250},{"$f":"'SSI Inputs RTI'!$E$42","v":1250},{"$f":"'SSI Inputs RTI'!$R$20","v":425},{"$f":"'SSI Inputs RTI'!$R$21","v":425},{"$f":"'SSI Inputs RTI'!$R$22","v":425},{"$f":"'SSI Inputs RTI'!$R$23","v":425}]
[]
[]
[]
[]
[]
[]
[]
[]
[]
[]
[]
[]
[]
[]
[]
[]
[]
[]
[]
[]
[]
[]
[]
[]
[]
[]
[]
[]
[]
[]
[]
[]
[]
[]
[]
[]
[]
[]
[]
[]
[]
[]
[]
[]
[]
[]
[]
[]
[]
[]
[]
[]
[]
[]
[]
[]
[]
[]
[]
[null,null,null,null,null,null,null,null,null,"Exposure",null,null,null,null,null,null,null,null,null,null,null,null,null,null,null,null,null,null,null,null,null,null,null,null,null,null,"Exposure-Severity-Complexity Product"]
[null,null,null,null,null,null,null,null,null,"Q1","Q2","I"]
[null,null,null,null,null,null,null,null,null,{"$f":"SUMPRODUCT($AN4:$BC4,$AN$41:$BC$41)","v":3750},{"$f":"SUMPRODUCT($BE4:$BT4,$BE$41:$BT$41)","v":1250},{"$f":"PRODUCT(J103:K103)","v":4687500},null,null,null,null,null,null,null,null,null,null,null,null,null,null,null,null,null,null,null,null,null,null,null,null,{"$f":"L103*R4*AI4","v":148824.08092179036}]
[null,null,null,null,null,null,null,null,null,{"$f":"SUMPRODUCT($AN5:$BC5,$AN$41:$BC$41)","v":7500},{"$f":"SUMPRODUCT($BE5:$BT5,$BE$41:$BT$41)","v":3750},{"$f":"PRODUCT(J104:K104)","v":28125000},null,null,null,null,null,null,null,null,null,null,null,null,null,null,null,null,null,null,null,null,null,null,null,null,{"$f":"L104*R5*AI5","v":2674330.6668577939}]
[null,null,null,null,null,null,null,null,null,3750,1250,4687500,null,null,null,null,null,null,null,null,null,null,null,null,null,null,null,null,null,null,null,null,null,null,null,null,57731.476975549551]
[null,null,null,null,null,null,null,null,null,7500,1250,9375000,null,null,null,null,null,null,null,null,null,null,null,null,null,null,null,null,null,null,null,null,null,null,null,null,684339.54264328431]
[null,null,null,null,null,null,null,null,null,3750,1250,4687500,null,null,null,null,null,null,null,null,null,null,null,null,null,null,null,null,null,null,null,null,null,null,null,null,148824.08092179036]
[null,null,null,null,null,null,null,null,null,7500,3750,28125000,null,null,null,null,null,null,null,null,null,null,null,null,null,null,null,null,null,null,null,null,null,null,null,null,2674330.6668577939]
[null,null,null,null,null,null,null,null,null,3750,1250,4687500,null,null,null,null,null,null,null,null,null,null,null,null,null,null,null,null,null,null,null,null,null,null,null,null,57731.476975549551]
[null,null,null,null,null,null,null,null,null,7500,1250,9375000,null,null,null,null,null,null,null,null,null,null,null,null,null,null,null,null,null,null,null,null,null,null,null,null,684339.54264328431]
[null,null,null,null,null,null,null,null,null,8750,1250,10937500,null,null,null,null,null,null,null,null,null,null,null,null,null,null,null,null,null,null,null,null,null,null,null,null,58896.376092937586]
[null,null,null,null,null,null,null,null,null,3750,3750,14062500,null,null,null,null,null,null,null,null,null,null,null,null,null,null,null,null,null,null,null,null,null,null,null,null,4268.1322328575752]
[null,null,null,null,null,null,null,null,null,7500,1250,9375000,null,null,null,null,null,null,null,null,null,null,null,null,null,null,null,null,null,null,null,null,null,null,null,null,76064.085349096204]
[null,null,null,null,null,null,null,null,null,7500,1250,9375000,null,null,null,null,null,null,null,null,null,null,null,null,null,null,null,null,null,null,null,null,null,null,null,null,76064.085349096204]
[null,null,null,null,null,null,null,null,null,8750,1250,10937500,null,null,null,null,null,null,null,null,null,null,null,null,null,null,null,null,null,null,null,null,null,null,null,null,58896.376092937586]
[null,null,null,null,null,null,null,null,null,3750,3750,14062500,null,null,null,null,null,null,null,null,null,null,null,null,null,null,null,null,null,null,null,null,null,null,null,null,4268.1322328575752]
[null,null,null,null,null,null,null,null,null,1250,1250,1562500,null,null,null,null,null,null,null,null,null,null,null,null,null,null,null,null,null,null,null,null,null,null,null,null,1.0009591886752529]
[null,null,null,null,null,null,null,null,null,7500,3750,28125000,null,null,null,null,null,null,null,null,null,null,null,null,null,null,null,null,null,null,null,null,null,null,null,null,45393.250505631171]
[null,null,null,null,null,null,null,null,null,7500,3750,28125000,null,null,null,null,null,null,null,null,null,null,null,null,null,null,null,null,null,null,null,null,null,null,null,null,99904.919677053054]
[null,null,null,null,null,null,null,null,null,1250,1250,1562500,null,null,null,null,null,null,null,null,null,null,null,null,null,null,null,null,null,null,null,null,null,null,null,null,1.0009591886752529]
[null,null,null,null,null,null,null,null,null,7500,3750,28125000,null,null,null,null,null,null,null,null,null,null,null,null,null,null,null,null,null,null,null,null,null,null,null,null,45393.250505631171]
[null,null,null,null,null,null,null,null,null,7500,3750,28125000,null,null,null,null,null,null,null,null,null,null,null,null,null,null,null,null,null,null,null,null,null,null,null,null,99904.919677053054]
[null,null,null,null,null,null,null,null,null,425,1250,531250,null,null,null,null,null,null,null,null,null,null,null,null,null,null,null,null,null,null,null,null,null,null,null,null,16163.999493988103]
[null,null,null,null,null,null,null,null,null,425,1250,531250,null,null,null,null,null,null,null,null,null,null,null,null,null,null,null,null,null,null,null,null,null,null,null,null,16163.999493988103]
[null,null,null,null,null,null,null,null,null,425,7500,3187500,null,null,null,null,null,null,null,null,null,null,null,null,null,null,null,null,null,null,null,null,null,null,null,null,9404346.6793853063]
[null,null,null,null,null,null,null,null,null,425,1250,531250,null,null,null,null,null,null,null,null,null,null,null,null,null,null,null,null,null,null,null,null,null,null,null,null,669117.74802729394]
[null,null,null,null,null,null,null,null,null,425,3750,1593750,null,null,null,null,null,null,null,null,null,null,null,null,null,null,null,null,null,null,null,null,null,null,null,null,1269188.4291946664]
[null,null,null,null,null,null,null,null,null,425,7500,3187500,null,null,null,null,null,null,null,null,null,null,null,null,null,null,null,null,null,null,null,null,null,null,null,null,9404346.6793853063]
[null,null,null,null,null,null,null,null,null,425,3750,1593750,null,null,null,null,null,null,null,null,null,null,null,null,null,null,null,null,null,null,null,null,null,null,null,null,75431.997638611167]
[null,null,null,null,null,null,null,null,null,425,3750,1593750,null,null,null,null,null,null,null,null,null,null,null,null,null,null,null,null,null,null,null,null,null,null,null,null,126918.84291946664]
[null,null,null,null,null,null,null,null,null,425,1250,531250,null,null,null,null,null,null,null,null,null,null,null,null,null,null,null,null,null,null,null,null,null,null,null,null,16163.999493988103]
[null,null,null,null,null,null,null,null,null,425,1250,531250,null,null,null,null,null,null,null,null,null,null,null,null,null,null,null,null,null,null,null,null,null,null,null,null,16163.999493988103]
[null,null,null,null,null,null,null,null,null,425,7500,3187500,null,null,null,null,null,null,null,null,null,null,null,null,null,null,null,null,null,null,null,null,null,null,null,null,9404346.6793853063]
[null,null,null,null,null,null,null,null,null,425,1250,531250,null,null,null,null,null,null,null,null,null,null,null,null,null,null,null,null,null,null,null,null,null,null,null,null,669117.74802729394]
[null,null,null,null,null,null,null,null,null,425,3750,1593750,null,null,null,null,null,null,null,null,null,null,null,null,null,null,null,null,null,null,null,null,null,null,null,null,1269188.4291946664]
[null,null,null,null,null,null,null,null,null,425,7500,3187500,null,null,null,null,null,null,null,null,null,null,null,null,null,null,null,null,null,null,null,null,null,null,null,null,9404346.6793853063]
[null,null,null,null,null,null,null,null,null,{"$f":"SUMPRODUCT($AN38:$BC38,$AN$41:$BC$41)","v":425},{"$f":"SUMPRODUCT($BE38:$BT38,$BE$41:$BT$41)","v":3750},{"$f":"PRODUCT(J137:K137)","v":1593750},null,null,null,null,null,null,null,null,null,null,null,null,null,null,null,null,null,null,null,null,null,null,null,null,126918.84291946664]
[null,null,null,null,null,null,null,null,null,425,3750,{"$f":"PRODUCT(J138:K138)","v":1593750},null,null,null,null,null,null,null,null,null,null,null,null,null,null,null,null,null,null,null,null,null,null,null,null,75431.997638611167]

{"sheet":"DDI","index":12,"n_rows":124,"n_cols":72,"rows_kept":124,"cut":false,"hidden":true,"merged":[[1,34,2,34],[1,36,2,36],[1,39,1,52],[1,56,1,69],[100,9,100,11],[100,36,101,36],[0,19,0,28],[0,30,0,32],[1,9,1,11],[1,13,1,17],[1,21,1,25],[1,27,1,28],[1,30,2,30],[1,31,2,31],[1,32,2,32]]}
[null,null,null,null,null,null,null,null,null,null,null,null,null,null,null,null,null,null,null,"Conflicting Traffic Complexity",null,null,null,null,null,null,null,null,null,null,"Pedestrian Complexity"]
[null,null,null,null,null,null,null,null,null,"Exposure",null,null,null,"Severity",null,null,null,null,null,"Traffic Control",null,"Conflicting Lanes",null,null,null,null,null,"Conflicting Speed",null,null,"Indirect Paths Indicator","Non-intuitive movements indicator","Pedestrian Complexity factor",null,"Total Complexity Multiplier",null,"Exposure-Severity-Complexity Product",null,null,"Included in Mvmt1",null,null,null,null,null,null,null,null,null,null,null,null,null,null,null,null,"Included in Mvmt2"]
["#","Conflict Type","Mvmt1","Mvmt1_gen","Mvmt1_SpeedCat","Mvmt2","Mvmt2_gen","Mvmt2_SpeedCat",null,"Q1","Q2","I",null,"Speed_V1","Speed_V2","Angle","delta_V","P_FSI",null,null,null,"CrossC","RampC","CrossM/P","RampM/P","Score",null,"Speed","Factor",null,null,null,null,null,null,null,null,null,null,"CrossT1","CrossL1","CrossR1","CrossT2","CrossL2","CrossR2","RampT1","RampL1","RampR1","RampT2","RampL2","RampR2","CrossNM1","CrossNM2","RampNM1","RampNM2",null,"CrossT1","CrossL1","CrossR1","CrossT2","CrossL2","CrossR2","RampT1","RampL1","RampR1","RampT2","RampL2","RampR2","CrossNM1","CrossNM2","RampNM1","RampNM2"]
[1,"Crossing","EBT,EBL","CrossT1,CrossL1","Cross thru","WBT,NBL","CrossT2,RampL1","Signal far",null,{"$f":"SUMPRODUCT($AN4:$BC4,$AN$26:$BC$26)","v":5625},{"$f":"SUMPRODUCT($BE4:$BT4,$BE$26:$BT$26)","v":4875},{"$f":"PRODUCT(J4:K4)","v":27421875},null,{"$f":"VLOOKUP(E4,SSI_RTI_Range_VehSpeed,5,FALSE)","v":40},{"$f":"VLOOKUP(H4,SSI_RTI_Range_VehSpeed,5,FALSE)","v":25},{"$f":"IF(B4=\"Nonmotorized\",\"\",VLOOKUP(B4,SSI_RTI_Range_CollAngles,5,FALSE))","v":90},{"$f":"IF(B4=\"Nonmotorized\",\"\",SQRT(N4^2+O4^2-2*N4*O4*COS(RADIANS(P4)))/2)","v":23.584952830141511},{"$f":"IF(B4=\"Nonmotorized\",1/(1+EXP(3.8432-0.1237*O4)),(Q4/SSI_RTI_RegAlpha)^SSI_RTI_RegK+(Q4/SSI_RTI_RegAlpha)^SSI_RTI_RegK-((Q4/SSI_RTI_RegAlpha)^SSI_RTI_RegK)*((Q4/SSI_RTI_RegAlpha)^SSI_RTI_RegK))","v":3.7097408311205816E-2},null,{"$f":"SSI_RTI_ProtFactor","v":0.505},null,1,null,null,null,{"$f":"MAX(1,IF(B4<>\"Pedestrian\",V4*SSI_RTI_CrossThruLanes+W4*SSI_RTI_Ramp1ThruLanes+X4*IF(SSI_RTI_CrossThruLanes=1,SSI_RTI_MergeWeightL1,IF(SSI_RTI_CrossThruLanes=2,SSI_RTI_MergeWeightL1+SSI_RTI_MergeWeightL2,SSI_RTI_MergeWeightL1+SSI_RTI_MergeWeightL2+SSI_RTI_MergeWeightL3*(SSI_RTI_CrossThruLanes-2)))+Y4*IF(SSI_RTI_Ramp1ThruLanes=1,SSI_RTI_MergeWeightL1,IF(SSI_RTI_Ramp1ThruLanes=2,SSI_RTI_MergeWeightL1+SSI_RTI_MergeWeightL2,SSI_RTI_MergeWeightL1+SSI_RTI_MergeWeightL2+SSI_RTI_MergeWeightL3*(SSI_RTI_Ramp1ThruLanes-2))),V4*SSI_RTI_CrossThruLanes+W4*SSI_RTI_Ramp1ThruLanes+X4*IF(SSI_RTI_CrossThruLanes=1,SSI_RTI_NM_MergeWeightL1,IF(SSI_RTI_CrossThruLanes=2,SSI_RTI_NM_MergeWeightL1+SSI_RTI_NM_MergeWeightL2,SSI_RTI_NM_MergeWeightL1+SSI_RTI_NM_MergeWeightL2+SSI_RTI_NM_MergeWeightL3*(SSI_RTI_CrossThruLanes-2)))+Y4*IF(SSI_RTI_Ramp1ThruLanes=1,SSI_RTI_NM_MergeWeightL1,IF(SSI_RTI_Ramp1ThruLanes=2,SSI_RTI_NM_MergeWeightL1+SSI_RTI_NM_MergeWeightL2,SSI_RTI_NM_MergeWeightL1+SSI_RTI_NM_MergeWeightL2+SSI_RTI_NM_MergeWeightL3*(SSI_RTI_Ramp1ThruLanes-2)))))","v":2},null,{"$f":"IF(B4=\"Diverging\",\"\",SSI_RTI_VehSpeed_CrossThru)","v":40},{"$f":"IF(B4=\"Diverging\",1,1-((60-AB4)/60*0.1/0.15))","v":0.77777777777777779},null,null,null,{"$f":"IF(SSI_RTI_ConsiderNMComplexity=\"Yes\",1+AE4+AF4,1)","v":1},null,{"$f":"PRODUCT(Z4,T4,AC4,AG4)","v":0.78555555555555556},null,{"$f":"L4*R4*AI4","v":799130.34325381101},null,null,{"$f":"IF(ISNUMBER(SEARCH(AN$3,$D4)),1,\"\")","v":1},{"$f":"IF(ISNUMBER(SEARCH(AO$3,$D4)),1,\"\")","v":1},"","","","","","","","","","","","","","",null,{"$f":"IF(ISNUMBER(SEARCH(BE$3,$G4)),1,\"\")","v":""},{"$f":"IF(ISNUMBER(SEARCH(BF$3,$G4)),1,\"\")","v":""},"",1,"","","",1,"","","","","","","",""]
[2,"Crossing","WBT,WBL","CrossT2,CrossL2","Cross thru","EBT,SBL","CrossT1,RampL2","Signal far",null,5625,4875,{"$f":"PRODUCT(J5:K5)","v":27421875},null,40,25,90,{"$f":"IF(B5=\"Nonmotorized\",\"\",SQRT(N5^2+O5^2-2*N5*O5*COS(RADIANS(P5)))/2)","v":23.584952830141511},3.7097408311205816E-2,null,0.505,null,1,null,null,null,2,null,40,0.77777777777777779,null,null,null,1,null,0.78555555555555556,null,{"$f":"L5*R5*AI5","v":799130.34325381101},null,null,{"$f":"IF(ISNUMBER(SEARCH(AN$3,$D5)),1,\"\")","v":""},"","",1,1,"","","","","","","","","","","",null,{"$f":"IF(ISNUMBER(SEARCH(BE$3,$G5)),1,\"\")","v":1},"","","","","","","","","",1,"","","","",""]
[3,"Merging","WBT,NBL","CrossT2,RampL1","Signal far","SBR","RampR2","Signal near",null,4875,1125,5484375,null,25,15,45,8.9396576292116645,9.432995959267502E-4,null,0.505,null,null,null,1,null,1.75,null,40,0.77777777777777779,null,null,null,1,null,0.6873611111111112,null,3555.9999669808203,null,null,"","","",1,"","","",1,"","","","","","","","",null,"","","","","","","","","","","",1,"","","",""]
[4,"Merging","EBR","CrossR1","Cross right","WBL","CrossL2","Cross left",null,1875,1875,3515625,null,15,20,45,7.0840654162717795,3.9022923271840685E-4,null,0.505,null,null,null,1,null,1.75,null,40,0.77777777777777779,null,null,null,1,null,0.6873611111111112,null,942.9904651969706,null,null,"","",1,"","","","","","","","","","","","","",null,"","","","",1,"","","","","","","","","","",""]
[5,"Merging","WBT,WBL","CrossT2,CrossL2","Cross thru","NBL","RampL1","Signal near",null,5625,1125,6328125,null,40,15,45,15.62427488378375,7.8340357658475412E-3,null,0.505,null,null,null,1,null,1.75,null,40,0.77777777777777779,null,null,null,1,null,0.6873611111111112,null,34075.760453771029,null,null,"","","",1,1,"","","","","","","","","","","",null,"","","","","","","",1,"","","","","","","",""]
[6,"Merging","EBT,SBL","CrossT1,RampL2","Signal far","NBR","RampR1","Signal near",null,4875,1125,5484375,null,25,15,45,8.9396576292116645,9.432995959267502E-4,null,0.505,null,null,null,1,null,1.75,null,40,0.77777777777777779,null,null,null,1,null,0.6873611111111112,null,3555.9999669808203,null,null,1,"","","","","","","","","",1,"","","","","",null,"","","","","","","","",1,"","","","","","",""]
[7,"Merging","WBR","CrossR2","Cross right","EBL","CrossL1","Cross left",null,1875,1875,3515625,null,15,20,45,7.0840654162717795,3.9022923271840685E-4,null,0.505,null,null,null,1,null,1.75,null,40,0.77777777777777779,null,null,null,1,null,0.6873611111111112,null,942.9904651969706,null,null,"","","","","",1,"","","","","","","","","","",null,"",1,"","","","","","","","","","","","","",""]
[8,"Merging","EBT,EBL","CrossT1,CrossL1","Cross thru","SBL","RampL1","Signal near",null,5625,1125,6328125,null,40,15,45,15.62427488378375,7.8340357658475412E-3,null,0.505,null,null,null,1,null,1.75,null,40,0.77777777777777779,null,null,null,1,null,0.6873611111111112,null,34075.760453771029,null,null,1,1,"","","","","","","","","","","","","","",null,"","","","","","","",1,"","","","","","","",""]
[9,"Diverging","SBR","RampR2","Signal near","SBL","RampL1","Signal near",null,1125,1125,1265625,null,15,15,10,1.3073361412148754,6.4061388075216188E-7,null,{"$f":"SSI_RTI_PermFactor","v":1},null,null,null,null,null,1,null,"",1,null,null,null,1,null,1,null,0.81077694282695489,null,null,"","","","","","","","","","","",1,"","","","",null,"","","","","","","",1,"","","","","","","",""]
[10,"Diverging","EBT,EBL","CrossT1,CrossL1","Cross thru","EBR","CrossR1","Cross right",null,5625,1875,10546875,null,40,15,10,12.680996573469201,3.5521749218507754E-3,null,1,null,null,null,null,null,1,null,"",1,null,null,null,1,null,1,null,37464.344878894895,null,null,1,1,"","","","","","","","","","","","","","",null,"","",1,"","","","","","","","","","","","",""]
[11,"Diverging","WBT","CrossT2","Cross thru","WBL","CrossL2","Cross left",null,3750,1875,7031250,null,40,20,10,10.299363999544671,1.6139822402002194E-3,null,1,null,null,null,null,null,1,null,"",1,null,null,null,1,null,1,null,11348.312626407793,null,null,"","","",1,"","","","","","","","","","","","",null,"","","","",1,"","","","","","","","","","",""]
[12,"Diverging","NBR","RampR1","Signal near","NBL","RampL1","Signal near",null,1125,1125,1265625,null,15,15,10,1.3073361412148754,6.4061388075216188E-7,null,1,null,null,null,null,null,1,null,"",1,null,null,null,1,null,1,null,0.81077694282695489,null,null,"","","","","","","","",1,"","","","","","","",null,"","","","","","","",1,"","","","","","","",""]
[13,"Diverging","WBT,WBL","CrossT2,CrossL2","Cross thru","WBR","CrossR2","Cross right",null,5625,1875,10546875,null,40,15,10,12.680996573469201,3.5521749218507754E-3,null,1,null,null,null,null,null,1,null,"",1,null,null,null,1,null,1,null,37464.344878894895,null,null,"","","",1,1,"","","","","","","","","","","",null,"","","","","",1,"","","","","","","","","",""]
[14,"Diverging","EBT","CrossT1","Cross thru","EBL","CrossL1","Cross left",null,3750,1875,7031250,null,40,20,10,10.299363999544671,1.6139822402002194E-3,null,1,null,null,null,null,null,1,null,"",1,null,null,null,1,null,1,null,11348.312626407793,null,null,1,"","","","","","","","","","","","","","","",null,"",1,"","","","","","","","","","","","","",""]
[15,"Nonmotorized",null,"CrossNM1","Nonmotorized","EBT,EBL","CrossT1,CrossL1","Cross thru",null,375,5625,2109375,null,0,40,"","",0.75115840021714742,null,{"$f":"SSI_RTI_ProtFactor","v":0.505},null,1,null,null,null,2,null,40,0.77777777777777779,null,1,1,3,null,2.3566666666666665,null,3734078.8285794598,null,null,"","","","","","","","","","","","",1,"","","",null,1,1,"","","","","","","","","","","","","",""]
[16,"Nonmotorized",null,"RampNM2","Nonmotorized","SBR","RampR2","Signal near",null,375,1125,421875,null,0,15,"","",0.1205004039155782,null,0.505,null,null,1,null,null,1,null,{"$f":"IF(B19=\"Diverging\",\"\",SSI_RTI_VehSpeed_SignalNear)","v":15},0.49999999999999989,null,1,1,3,null,0.75749999999999984,null,38508.351735677541,null,null,"","","","","","","","","","","","","","","",1,null,"","","","","","","","","","","",1,"","","",""]
[17,"Nonmotorized",null,"RampNM1","Nonmotorized","EBR","CrossR2","Cross right",null,375,1875,703125,null,0,15,"","",0.1205004039155782,null,0.505,null,1,null,null,null,2,null,40,0.77777777777777779,null,1,1,3,null,2.3566666666666665,null,199672.93492573543,null,null,"","","","","","","","","","","","","","",1,"",null,"","","","","",1,"","","","","","","","","",""]
[18,"Nonmotorized",null,"CrossNM1","Nonmotorized","WBT,NBL","CrossT2,RampL1","Cross thru",null,375,4875,1828125,null,0,40,"","",0.75115840021714742,null,0.505,null,1,null,null,null,2,null,40,0.77777777777777779,null,1,1,3,null,2.3566666666666665,null,3236201.6514355321,null,null,"","","","","","","","","","","","",1,"","","",null,"","","",1,"","","",1,"","","","","","",{"$f":"IF(ISNUMBER(SEARCH(BS$3,$G21)),1,\"\")","v":""},""]
[19,"Nonmotorized",null,"CrossNM2","Nonmotorized","WBT,WBL","CrossT2,CrossL2","Cross thru",null,375,5625,2109375,null,0,40,"","",0.75115840021714742,null,0.505,null,1,null,null,null,2,null,40,0.77777777777777779,null,1,1,3,null,2.3566666666666665,null,3734078.8285794598,null,null,"","","","","","","","","","","","","",1,"","",null,{"$f":"IF(ISNUMBER(SEARCH(BE$3,$G22)),1,\"\")","v":""},"","",1,1,"","","","","","","","","","",""]
[20,"Nonmotorized",null,"RampNM1","Nonmotorized","NBR","RampR1","Signal near",null,375,1125,421875,null,0,15,"","",0.1205004039155782,null,0.505,null,null,1,null,null,1,null,{"$f":"IF(B23=\"Diverging\",\"\",SSI_RTI_VehSpeed_SignalNear)","v":15},0.49999999999999989,null,1,1,3,null,0.75749999999999984,null,38508.351735677541,null,null,"","","","","","","","","","","","",{"$f":"IF(ISNUMBER(SEARCH(AZ$3,$D23)),1,\"\")","v":""},"",1,"",null,"","","","","","","","",1,"","","","","","",""]
[21,"Nonmotorized",null,"RampNM2","Nonmotorized","WBR","CrossR2","Cross right",null,375,1875,703125,null,0,15,"","",0.1205004039155782,null,0.505,null,1,null,null,null,2,null,40,0.77777777777777779,null,1,1,3,null,2.3566666666666665,null,199672.93492573543,null,null,{"$f":"IF(ISNUMBER(SEARCH(AN$3,$D24)),1,\"\")","v":""},"","","","","","","","","","","","","","",1,null,"","","","","",1,"","","","","","","","","",""]
[22,"Nonmotorized",null,"CrossNM2","Nonmotorized","EBT,SBL","CrossT1,RampL2","Cross thru",null,375,4875,1828125,null,0,40,"","",0.75115840021714742,null,0.505,null,1,null,null,null,2,null,40,0.77777777777777779,null,1,1,3,null,2.3566666666666665,null,{"$f":"L25*R25*AI25","v":3236201.6514355321},null,null,"","","","","","","","","","","","","",1,"","",null,1,"","","","","","","","","",1,"","","","",""]
[null,null,null,null,null,null,null,null,null,null,null,null,null,null,null,null,null,null,null,null,null,null,null,null,null,null,null,null,null,null,null,null,null,null,null,null,null,null,"O",{"$f":"'SSI Inputs RTI'!$D$28","v":3750},{"$f":"'SSI Inputs RTI'!$D$29","v":1875},{"$f":"'SSI Inputs RTI'!$D$30","v":1875},{"$f":"'SSI Inputs RTI'!$D$32","v":3750},{"$f":"'SSI Inputs RTI'!$D$33","v":1875},{"$f":"'SSI Inputs RTI'!$D$34","v":1875},{"$f":"'SSI Inputs RTI'!$D$36","v":2250},{"$f":"'SSI Inputs RTI'!$D$37","v":1125},{"$f":"'SSI Inputs RTI'!$D$38","v":1125},{"$f":"'SSI Inputs RTI'!$D$40","v":2250},{"$f":"'SSI Inputs RTI'!$D$41","v":1125},{"$f":"'SSI Inputs RTI'!$D$42","v":1125},{"$f":"'SSI Inputs RTI'!$Q$20","v":375},{"$f":"'SSI Inputs RTI'!$Q$21","v":375},{"$f":"'SSI Inputs RTI'!$Q$22","v":375},{"$f":"'SSI Inputs RTI'!$Q$23","v":375},"O",{"$f":"'SSI Inputs RTI'!$D$28","v":3750},{"$f":"'SSI Inputs RTI'!$D$29","v":1875},{"$f":"'SSI Inputs RTI'!$D$30","v":1875},{"$f":"'SSI Inputs RTI'!$D$32","v":3750},{"$f":"'SSI Inputs RTI'!$D$33","v":1875},{"$f":"'SSI Inputs RTI'!$D$34","v":1875},{"$f":"'SSI Inputs RTI'!$D$36","v":2250},{"$f":"'SSI Inputs RTI'!$D$37","v":1125},{"$f":"'SSI Inputs RTI'!$D$38","v":1125},{"$f":"'SSI Inputs RTI'!$D$40","v":2250},{"$f":"'SSI Inputs RTI'!$D$41","v":1125},{"$f":"'SSI Inputs RTI'!$D$42","v":1125},{"$f":"'SSI Inputs RTI'!$Q$20","v":375},{"$f":"'SSI Inputs RTI'!$Q$21","v":375},{"$f":"'SSI Inputs RTI'!$Q$22","v":375},{"$f":"'SSI Inputs RTI'!$Q$23","v":375}]
[null,null,null,null,null,null,null,null,null,null,null,null,null,null,null,null,null,null,null,null,null,null,null,null,null,null,null,null,null,null,null,null,null,null,null,null,null,null,"D",{"$f":"'SSI Inputs RTI'!$E$28","v":7500},{"$f":"'SSI Inputs RTI'!$E$29","v":3750},{"$f":"'SSI Inputs RTI'!$E$30","v":3750},{"$f":"'SSI Inputs RTI'!$E$32","v":7500},{"$f":"'SSI Inputs RTI'!$E$33","v":3750},{"$f":"'SSI Inputs RTI'!$E$34","v":3750},{"$f":"'SSI Inputs RTI'!$E$36","v":2500},{"$f":"'SSI Inputs RTI'!$E$37","v":1250},{"$f":"'SSI Inputs RTI'!$E$38","v":1250},{"$f":"'SSI Inputs RTI'!$E$40","v":2500},{"$f":"'SSI Inputs RTI'!$E$41","v":1250},{"$f":"'SSI Inputs RTI'!$E$42","v":1250},{"$f":"'SSI Inputs RTI'!$R$20","v":425},{"$f":"'SSI Inputs RTI'!$R$21","v":425},{"$f":"'SSI Inputs RTI'!$R$22","v":425},{"$f":"'SSI Inputs RTI'!$R$23","v":425},"D",{"$f":"'SSI Inputs RTI'!$E$28","v":7500},{"$f":"'SSI Inputs RTI'!$E$29","v":3750},{"$f":"'SSI Inputs RTI'!$E$30","v":3750},{"$f":"'SSI Inputs RTI'!$E$32","v":7500},{"$f":"'SSI Inputs RTI'!$E$33","v":3750},{"$f":"'SSI Inputs RTI'!$E$34","v":3750},{"$f":"'SSI Inputs RTI'!$E$36","v":2500},{"$f":"'SSI Inputs RTI'!$E$37","v":1250},{"$f":"'SSI Inputs RTI'!$E$38","v":1250},{"$f":"'SSI Inputs RTI'!$E$40","v":2500},{"$f":"'SSI Inputs RTI'!$E$41","v":1250},{"$f":"'SSI Inputs RTI'!$E$42","v":1250},{"$f":"'SSI Inputs RTI'!$R$20","v":425},{"$f":"'SSI Inputs RTI'!$R$21","v":425},{"$f":"'SSI Inputs RTI'!$R$22","v":425},{"$f":"'SSI Inputs RTI'!$R$23","v":425}]
[]
[]
[]
[]
[]
[]
[]
[]
[]
[]
[]
[]
[]
[]
[]
[]
[]
[]
[]
[]
[]
[]
[]
[]
[]
[]
[]
[]
[]
[]
[]
[]
[]
[]
[]
[]
[]
[]
[]
[]
[]
[]
[]
[]
[]
[]
[]
[]
[]
[]
[]
[]
[]
[]
[]
[]
[]
[]
[]
[]
[]
[]
[]
[]
[]
[]
[]
[]
[]
[]
[]
[]
[]
[null,null,null,null,null,null,null,null,null,"Exposure",null,null,null,null,null,null,null,null,null,null,null,null,null,null,null,null,null,null,null,null,null,null,null,null,null,null,"Exposure-Severity-Complexity Product"]
[null,null,null,null,null,null,null,null,null,"Q1","Q2","I"]
[null,null,null,null,null,null,null,null,null,{"$f":"SUMPRODUCT($AN4:$BC4,$AN$27:$BC$27)","v":11250},{"$f":"SUMPRODUCT($BE4:$BT4,$BE$27:$BT$27)","v":8750},{"$f":"PRODUCT(J103:K103)","v":98437500},null,null,null,null,null,null,null,null,null,null,null,null,null,null,null,null,null,null,null,null,null,null,null,null,{"$f":"L103*R4*AI4","v":2868673.0270649623}]
[null,null,null,null,null,null,null,null,null,{"$f":"SUMPRODUCT($AN5:$BC5,$AN$27:$BC$27)","v":11250},{"$f":"SUMPRODUCT($BE5:$BT5,$BE$27:$BT$27)","v":8750},{"$f":"PRODUCT(J104:K104)","v":98437500},null,null,null,null,null,null,null,null,null,null,null,null,null,null,null,null,null,null,null,null,null,null,null,null,{"$f":"L104*R5*AI5","v":2868673.0270649623}]
[null,null,null,null,null,null,null,null,null,8750,1250,10937500,null,null,null,null,null,null,null,null,null,null,null,null,null,null,null,null,null,null,null,null,null,null,null,null,7091.7378258876761]
[null,null,null,null,null,null,null,null,null,3750,3750,14062500,null,null,null,null,null,null,null,null,null,null,null,null,null,null,null,null,null,null,null,null,null,null,null,null,3771.9618607878824]
[null,null,null,null,null,null,null,null,null,11250,1250,14062500,null,null,null,null,null,null,null,null,null,null,null,null,null,null,null,null,null,null,null,null,null,null,null,null,75723.912119491186]
[null,null,null,null,null,null,null,null,null,8750,1250,10937500,null,null,null,null,null,null,null,null,null,null,null,null,null,null,null,null,null,null,null,null,null,null,null,null,7091.7378258876761]
[null,null,null,null,null,null,null,null,null,3750,3750,14062500,null,null,null,null,null,null,null,null,null,null,null,null,null,null,null,null,null,null,null,null,null,null,null,null,3771.9618607878824]
[null,null,null,null,null,null,null,null,null,11250,1250,14062500,null,null,null,null,null,null,null,null,null,null,null,null,null,null,null,null,null,null,null,null,null,null,null,null,75723.912119491186]
[null,null,null,null,null,null,null,null,null,1250,1250,1562500,null,null,null,null,null,null,null,null,null,null,null,null,null,null,null,null,null,null,null,null,null,null,null,null,1.0009591886752529]
[null,null,null,null,null,null,null,null,null,11250,3750,42187500,null,null,null,null,null,null,null,null,null,null,null,null,null,null,null,null,null,null,null,null,null,null,null,null,149857.37951557958]
[null,null,null,null,null,null,null,null,null,7500,3750,28125000,null,null,null,null,null,null,null,null,null,null,null,null,null,null,null,null,null,null,null,null,null,null,null,null,45393.250505631171]
[null,null,null,null,null,null,null,null,null,1250,1250,1562500,null,null,null,null,null,null,null,null,null,null,null,null,null,null,null,null,null,null,null,null,null,null,null,null,1.0009591886752529]
[null,null,null,null,null,null,null,null,null,11250,3750,42187500,null,null,null,null,null,null,null,null,null,null,null,null,null,null,null,null,null,null,null,null,null,null,null,null,149857.37951557958]
[null,null,null,null,null,null,null,null,null,7500,3750,28125000,null,null,null,null,null,null,null,null,null,null,null,null,null,null,null,null,null,null,null,null,null,null,null,null,45393.250505631171]
[null,null,null,null,null,null,null,null,null,425,11250,4781250,null,null,null,null,null,null,null,null,null,null,null,null,null,null,null,null,null,null,null,null,null,null,null,null,8463912.0114467759]
[null,null,null,null,null,null,null,null,null,425,1250,531250,null,null,null,null,null,null,null,null,null,null,null,null,null,null,null,null,null,null,null,null,null,null,null,null,48491.998481964307]
[null,null,null,null,null,null,null,null,null,425,3750,1593750,null,null,null,null,null,null,null,null,null,null,null,null,null,null,null,null,null,null,null,null,null,null,null,null,452591.98583166697]
[null,null,null,null,null,null,null,null,null,425,8750,3718750,null,null,null,null,null,null,null,null,null,null,null,null,null,null,null,null,null,null,null,null,null,null,null,null,6583042.675569715]
[null,null,null,null,null,null,null,null,null,425,11250,4781250,null,null,null,null,null,null,null,null,null,null,null,null,null,null,null,null,null,null,null,null,null,null,null,null,8463912.0114467759]
[null,null,null,null,null,null,null,null,null,425,1250,531250,null,null,null,null,null,null,null,null,null,null,null,null,null,null,null,null,null,null,null,null,null,null,null,null,48491.998481964307]
[null,null,null,null,null,null,null,null,null,425,3750,1593750,null,null,null,null,null,null,null,null,null,null,null,null,null,null,null,null,null,null,null,null,null,null,null,null,452591.98583166697]
[null,null,null,null,null,null,null,null,null,425,8750,3718750,null,null,null,null,null,null,null,null,null,null,null,null,null,null,null,null,null,null,null,null,null,null,null,null,6583042.675569715]

{"sheet":"RTI_RAB1x1","index":13,"n_rows":124,"n_cols":72,"rows_kept":124,"cut":false,"hidden":true,"merged":[[1,34,2,34],[1,36,2,36],[1,39,1,52],[1,56,1,69],[100,9,100,11],[100,36,101,36],[0,19,0,28],[0,30,0,32],[1,9,1,11],[1,13,1,17],[1,21,1,25],[1,27,1,28],[1,30,2,30],[1,31,2,31],[1,32,2,32]]}
[null,null,null,null,null,null,null,null,null,null,null,null,null,null,null,null,null,null,null,"Conflicting Traffic Complexity",null,null,null,null,null,null,null,null,null,null,"Pedestrian Complexity"]
[null,null,null,null,null,null,null,null,null,"Exposure",null,null,null,"Severity",null,null,null,null,null,"Traffic Control",null,"Conflicting Lanes",null,null,null,null,null,"Conflicting Speed",null,null,"Indirect Paths Indicator","Non-intuitive movements indicator","Pedestrian Complexity factor",null,"Total Complexity Multiplier",null,"Exposure-Severity-Complexity Product",null,null,"Included in Mvmt1",null,null,null,null,null,null,null,null,null,null,null,null,null,null,null,null,"Included in Mvmt2"]
["#","Conflict Type","Mvmt1","Mvmt1_gen","Mvmt1_SpeedCat","Mvmt2","Mvmt2_gen","Mvmt2_SpeedCat",null,"Q1","Q2","I",null,"Speed_V1","Speed_V2","Angle","delta_V","P_FSI",null,null,null,"CrossC","RampC","CrossM/P","RampM/P","Score",null,"Speed","Factor",null,null,null,null,null,null,null,null,null,null,"CrossT1","CrossL1","CrossR1","CrossT2","CrossL2","CrossR2","RampT1","RampL1","RampR1","RampT2","RampL2","RampR2","CrossNM1","CrossNM2","RampNM1","RampNM2",null,"CrossT1","CrossL1","CrossR1","CrossT2","CrossL2","CrossR2","RampT1","RampL1","RampR1","RampT2","RampL2","RampR2","CrossNM1","CrossNM2","RampNM1","RampNM2"]
[1,"Crossing - RAB","WBT,NBL","CrossT2,RampL1","RAB exiting","SBL","RampL2","RAB entering",null,{"$f":"SUMPRODUCT($AN4:$BC4,$AN$26:$BC$26)","v":4875},{"$f":"SUMPRODUCT($BE4:$BT4,$BE$26:$BT$26)","v":1125},{"$f":"PRODUCT(J4:K4)","v":5484375},null,{"$f":"VLOOKUP(E4,SSI_RTI_Range_VehSpeed,5,FALSE)","v":30},{"$f":"VLOOKUP(H4,SSI_RTI_Range_VehSpeed,5,FALSE)","v":20},{"$f":"IF(B4=\"Nonmotorized\",\"\",VLOOKUP(B4,SSI_RTI_Range_CollAngles,5,FALSE))","v":60},{"$f":"IF(B4=\"Nonmotorized\",\"\",SQRT(N4^2+O4^2-2*N4*O4*COS(RADIANS(P4)))/2)","v":13.228756555322953},{"$f":"IF(B4=\"Nonmotorized\",1/(1+EXP(3.8432-0.1237*O4)),(Q4/SSI_RTI_RegAlpha)^SSI_RTI_RegK+(Q4/SSI_RTI_RegAlpha)^SSI_RTI_RegK-((Q4/SSI_RTI_RegAlpha)^SSI_RTI_RegK)*((Q4/SSI_RTI_RegAlpha)^SSI_RTI_RegK))","v":4.1698027385763175E-3},null,{"$f":"SSI_RTI_PermFactor","v":1},null,null,null,null,null,1,null,{"$f":"IF(B4=\"Diverging\",\"\",SSI_RTI_VehSpeed_RABCirc)","v":25},{"$f":"IF(B4=\"Diverging\",1,1-((60-AB4)/60*0.1/0.15))","v":0.61111111111111105},null,null,null,{"$f":"IF(SSI_RTI_ConsiderNMComplexity=\"Yes\",1+AE4+AF4,1)","v":1},null,{"$f":"PRODUCT(Z4,T4,AC4,AG4)","v":0.61111111111111105},null,{"$f":"L4*R4*AI4","v":13975.354491009688},null,null,{"$f":"IF(ISNUMBER(SEARCH(AN$3,$D4)),1,\"\")","v":""},{"$f":"IF(ISNUMBER(SEARCH(AO$3,$D4)),1,\"\")","v":""},"",1,"","","",1,"","","","","","","","",null,{"$f":"IF(ISNUMBER(SEARCH(BE$3,$G4)),1,\"\")","v":""},{"$f":"IF(ISNUMBER(SEARCH(BF$3,$G4)),1,\"\")","v":""},"","","","","","","","",1,"","","","",""]
[2,"Crossing - RAB","EBT,SBL","CrossT1,RampL2","RAB exiting","NBL","RampL1","RAB entering",null,4875,1125,{"$f":"PRODUCT(J5:K5)","v":5484375},null,30,20,60,{"$f":"IF(B5=\"Nonmotorized\",\"\",SQRT(N5^2+O5^2-2*N5*O5*COS(RADIANS(P5)))/2)","v":13.228756555322953},4.1698027385763175E-3,null,1,null,null,null,null,null,1,null,25,0.61111111111111105,null,null,null,1,null,0.61111111111111105,null,{"$f":"L5*R5*AI5","v":13975.354491009688},null,null,{"$f":"IF(ISNUMBER(SEARCH(AN$3,$D5)),1,\"\")","v":1},"","","","","","","","","",1,"","","","","",null,{"$f":"IF(ISNUMBER(SEARCH(BE$3,$G5)),1,\"\")","v":""},"","","","","","",1,"","","","","","","",""]
[3,"Merging","WBT,NBL","CrossT2,RampL1","RAB exiting","SBR","RampR2","RAB entering",null,4875,1125,5484375,null,30,20,45,10.623933623853066,1.8155470372595668E-3,null,1,null,null,null,null,null,1,null,25,0.61111111111111105,null,null,null,1,null,0.61111111111111105,null,6084.9193670652658,null,null,"","","",1,"","","",1,"","","","","","","","",null,"","","","","","","","","","","",1,"","","",""]
[4,"Merging","WBL","CrossL2","RAB circulating","SBL","RampL2","RAB entering",null,1875,1125,2109375,null,25,20,45,8.9147801264732891,9.3337987230879336E-4,null,1,null,null,null,null,null,1,null,25,0.61111111111111105,null,null,null,1,null,0.61111111111111105,null,1203.1849916480539,null,null,"","","","",1,"","","","","","","","","","","",null,"","","","","","","","","","",1,"","","","",""]
[5,"Merging","EBT,EBL,EBR","CrossT1,CrossL1,CrossR1","RAB entering","WBL,SBL","CrossL2,RampL2","RAB circulating",null,7500,3000,22500000,null,20,25,45,8.9147801264732891,9.3337987230879336E-4,null,1,null,null,null,null,null,1,null,25,0.61111111111111105,null,null,null,1,null,0.61111111111111105,null,12833.973244245908,null,null,1,1,1,"","","","","","","","","","","","","",null,"","","","",1,"","","","","",1,"","","","",""]
[6,"Merging","EBL","CrossL1","RAB circulating","NBL","RampL1","RAB entering",null,1875,1125,2109375,null,25,20,45,8.9147801264732891,9.3337987230879336E-4,null,1,null,null,null,null,null,1,null,25,0.61111111111111105,null,null,null,1,null,0.61111111111111105,null,1203.1849916480539,null,null,"",1,"","","","","","","","","","","","","","",null,"","","","","","","",1,"","","","","","","",""]
[7,"Merging","EBT,SBL","CrossT1,RampL2","RAB exiting","NBR","RampR1","RAB entering",null,4875,1125,5484375,null,30,20,45,10.623933623853066,1.8155470372595668E-3,null,1,null,null,null,null,null,1,null,25,0.61111111111111105,null,null,null,1,null,0.61111111111111105,null,6084.9193670652658,null,null,1,"","","","","","","","","",1,"","","","","",null,"","","","","","","","",1,"","","","","","",""]
[8,"Merging","WBT,WBL,WBR","CrossT2,CrossL2,CrossR2","RAB entering","EBL,NBL","CrossL1,RampL1","RAB circulating",null,7500,3000,22500000,null,20,25,45,8.9147801264732891,9.3337987230879336E-4,null,1,null,null,null,null,null,1,null,25,0.61111111111111105,null,null,null,1,null,0.61111111111111105,null,12833.973244245908,null,null,"","","",1,1,1,"","","","","","","","","","",null,"",1,"","","","","",1,"","","","","","","",""]
[9,"Diverging","SBL","RampL2","RAB entering","SBR","RampR2","RAB circulating",null,1125,1125,1265625,null,20,25,10,3.1698677806728797,1.8457105347369838E-5,null,1,null,null,null,null,null,1,null,{"$f":"IF(B12=\"Diverging\",\"\",SSI_RTI_VehSpeed_RABEnter)","v":""},1,null,null,null,1,null,1,null,23.359773955264952,null,null,"","","","","","","","","","",1,"","","","","",null,"","","","","","","","","","","",1,"","","",""]
[10,"Diverging","WBT,NBL","CrossT2,RampL1","RAB exiting","WBL","CrossL2","RAB circulating",null,4875,1875,9140625,null,30,25,10,3.4564566568122888,2.5632912055290725E-5,null,1,null,null,null,null,null,1,null,"",1,null,null,null,1,null,1,null,234.3008367553918,null,null,"","","",1,"","","",1,"","","","","","","","",null,"","","","",1,"","","","","","","","","","",""]
[11,"Diverging","EBT,EBL,SBL","CrossT1,CrossL1,RampL2","RAB circulating","EBR,WBL","CrossR1,CrossL2","RAB exiting",null,6750,3750,25312500,null,25,30,10,3.4564566568122888,2.5632912055290725E-5,null,1,null,null,null,null,null,1,null,"",1,null,null,null,1,null,1,null,648.83308639954646,null,null,1,1,"","","","","","","","",1,"","","","","",null,"","",1,"",1,"","","","","","","","","","",""]
[12,"Diverging","NBL","RampL1","RAB entering","NBR","RampR1","RAB circulating",null,1125,1125,1265625,null,20,25,10,3.1698677806728797,1.8457105347369838E-5,null,1,null,null,null,null,null,1,null,"",1,null,null,null,1,null,1,null,23.359773955264952,null,null,"","","","","","","",1,"","","","","","","","",null,"","","","","","","","",1,"","","","","","",""]
[13,"Diverging","EBT,SBL","CrossT1,RampL2","RAB exiting","EBL","CrossL1","RAB circulating",null,4875,1875,9140625,null,30,25,10,3.4564566568122888,2.5632912055290725E-5,null,1,null,null,null,null,null,1,null,"",1,null,null,null,1,null,1,null,234.3008367553918,null,null,1,"","","","","","","","","",1,"","","","","",null,"",1,"","","","","","","","","","","","","",""]
[14,"Diverging","WBT,WBL,NBL","CrossT2,CrossL2,RampL1","RAB circulating","WBR,EBL","CrossR2,CrossL1","RAB exiting",null,6750,3750,25312500,null,25,30,10,3.4564566568122888,2.5632912055290725E-5,null,1,null,null,null,null,null,1,null,"",1,null,null,null,1,null,1,null,648.83308639954646,null,null,"","","",1,1,"","",1,"","","","","","","","",null,"",1,"","","",1,"","","","","","","","","",""]
[15,"Nonmotorized",null,"RampNM2","Nonmotorized","SBR,SBL","RampR2,RampL2","RAB entering",null,375,2250,843750,null,0,20,"","",0.20274912921655375,null,1,null,null,null,null,null,1,null,20,0.55555555555555558,null,1,null,2,null,1.1111111111111112,null,190077.30864051916,null,null,"","","","","","","","","","","","","","","",1,null,"","","","","","","","","","",1,1,"","","",""]
[16,"Nonmotorized",null,"CrossNM1","Nonmotorized","WBT,SBR,NBL","CrossT2,RampR2,RampL1","RAB exiting",null,375,6000,2250000,null,0,30,"","",0.46699805015542578,null,1,null,null,null,null,null,1,null,{"$f":"IF(B19=\"Diverging\",\"\",SSI_RTI_VehSpeed_RABExit)","v":30},0.66666666666666663,null,1,null,2,null,1.3333333333333333,null,1400994.1504662773,null,null,"","","","","","","","","","","","",1,"","","",null,"","","",1,"","","",1,"","","",1,"","","",""]
[17,"Nonmotorized",null,"CrossNM1","Nonmotorized","EBT,EBR,EBL","CrossT1,CrossR1,CrossL1","RAB entering",null,375,7500,2812500,null,0,20,"","",0.20274912921655375,null,1,null,null,null,null,null,1,null,{"$f":"IF(B20=\"Diverging\",\"\",SSI_RTI_VehSpeed_RABEnter)","v":20},0.55555555555555558,null,1,null,2,null,1.1111111111111112,null,633591.0288017306,null,null,"","","","","","","","","","","","",1,"","","",null,1,1,1,"","","","","","","","","","","","",""]
[18,"Nonmotorized",null,"RampNM1","Nonmotorized","EBR,WBL","CrossR1,CrossL2","RAB exiting",null,375,3750,1406250,null,0,30,"","",0.46699805015542578,null,1,null,null,null,null,null,1,null,{"$f":"IF(B21=\"Diverging\",\"\",SSI_RTI_VehSpeed_RABExit)","v":30},0.66666666666666663,null,1,null,2,null,1.3333333333333333,null,875621.34404142341,null,null,"","","","","","","","","","","","","","",1,"",null,{"$f":"IF(ISNUMBER(SEARCH(BE$3,$G21)),1,\"\")","v":""},"",1,"",1,"","","","","","","","","","",""]
[19,"Nonmotorized",null,"RampNM1","Nonmotorized","NBR,NBL","RampR1,RampL1","RAB entering",null,375,2250,843750,null,0,20,"","",0.20274912921655375,null,1,null,null,null,null,null,1,null,{"$f":"IF(B22=\"Diverging\",\"\",SSI_RTI_VehSpeed_RABEnter)","v":20},0.55555555555555558,null,1,null,2,null,1.1111111111111112,null,190077.30864051916,null,null,"","","","","","","","","","","","","","",1,"",null,"","","","","","","",1,1,"","","","","","",""]
[20,"Nonmotorized",null,"CrossNM2","Nonmotorized","EBT,NBR,SBL","CrossT1,RampR1,RampL2","RAB exiting",null,375,6000,2250000,null,0,30,"","",0.46699805015542578,null,1,null,null,null,null,null,1,null,{"$f":"IF(B23=\"Diverging\",\"\",SSI_RTI_VehSpeed_RABExit)","v":30},0.66666666666666663,null,1,null,2,null,1.3333333333333333,null,1400994.1504662773,null,null,"","","","","","","","","","","","",{"$f":"IF(ISNUMBER(SEARCH(AZ$3,$D23)),1,\"\")","v":""},1,"","",null,1,"","","","","","","",1,"",1,"","","","",""]
[21,"Nonmotorized",null,"CrossNM2","Nonmotorized","WBT,WBR,WBL","CrossT2,CrossR2,CrossL2","RAB entering",null,375,7500,2812500,null,0,20,"","",0.20274912921655375,null,1,null,null,null,null,null,1,null,{"$f":"IF(B24=\"Diverging\",\"\",SSI_RTI_VehSpeed_RABEnter)","v":20},0.55555555555555558,null,1,null,2,null,1.1111111111111112,null,633591.0288017306,null,null,{"$f":"IF(ISNUMBER(SEARCH(AN$3,$D24)),1,\"\")","v":""},"","","","","","","","","","","","",1,"","",null,"","","",1,1,1,"","","","","","","","","",""]
[22,"Nonmotorized",null,"RampNM2","Nonmotorized","WBR,EBL","CrossR2,CrossL1","RAB exiting",null,375,3750,1406250,null,0,30,"","",0.46699805015542578,null,1,null,null,null,null,null,1,null,{"$f":"IF(B25=\"Diverging\",\"\",SSI_RTI_VehSpeed_RABExit)","v":30},0.66666666666666663,null,1,null,2,null,1.3333333333333333,null,{"$f":"L25*R25*AI25","v":875621.34404142341},null,null,"","","","","","","","","","","","","","","",1,null,"",1,"","","",1,"","","","","","","","","",""]
[null,null,null,null,null,null,null,null,null,null,null,null,null,null,null,null,null,null,null,null,null,null,null,null,null,null,null,null,null,null,null,null,null,null,null,null,null,null,"O",{"$f":"'SSI Inputs RTI'!$D$28","v":3750},{"$f":"'SSI Inputs RTI'!$D$29","v":1875},{"$f":"'SSI Inputs RTI'!$D$30","v":1875},{"$f":"'SSI Inputs RTI'!$D$32","v":3750},{"$f":"'SSI Inputs RTI'!$D$33","v":1875},{"$f":"'SSI Inputs RTI'!$D$34","v":1875},{"$f":"'SSI Inputs RTI'!$D$36","v":2250},{"$f":"'SSI Inputs RTI'!$D$37","v":1125},{"$f":"'SSI Inputs RTI'!$D$38","v":1125},{"$f":"'SSI Inputs RTI'!$D$40","v":2250},{"$f":"'SSI Inputs RTI'!$D$41","v":1125},{"$f":"'SSI Inputs RTI'!$D$42","v":1125},{"$f":"'SSI Inputs RTI'!$Q$20","v":375},{"$f":"'SSI Inputs RTI'!$Q$21","v":375},{"$f":"'SSI Inputs RTI'!$Q$22","v":375},{"$f":"'SSI Inputs RTI'!$Q$23","v":375},"O",{"$f":"'SSI Inputs RTI'!$D$28","v":3750},{"$f":"'SSI Inputs RTI'!$D$29","v":1875},{"$f":"'SSI Inputs RTI'!$D$30","v":1875},{"$f":"'SSI Inputs RTI'!$D$32","v":3750},{"$f":"'SSI Inputs RTI'!$D$33","v":1875},{"$f":"'SSI Inputs RTI'!$D$34","v":1875},{"$f":"'SSI Inputs RTI'!$D$36","v":2250},{"$f":"'SSI Inputs RTI'!$D$37","v":1125},{"$f":"'SSI Inputs RTI'!$D$38","v":1125},{"$f":"'SSI Inputs RTI'!$D$40","v":2250},{"$f":"'SSI Inputs RTI'!$D$41","v":1125},{"$f":"'SSI Inputs RTI'!$D$42","v":1125},{"$f":"'SSI Inputs RTI'!$Q$20","v":375},{"$f":"'SSI Inputs RTI'!$Q$21","v":375},{"$f":"'SSI Inputs RTI'!$Q$22","v":375},{"$f":"'SSI Inputs RTI'!$Q$23","v":375}]
[null,null,null,null,null,null,null,null,null,null,null,null,null,null,null,null,null,null,null,null,null,null,null,null,null,null,null,null,null,null,null,null,null,null,null,null,null,null,"D",{"$f":"'SSI Inputs RTI'!$E$28","v":7500},{"$f":"'SSI Inputs RTI'!$E$29","v":3750},{"$f":"'SSI Inputs RTI'!$E$30","v":3750},{"$f":"'SSI Inputs RTI'!$E$32","v":7500},{"$f":"'SSI Inputs RTI'!$E$33","v":3750},{"$f":"'SSI Inputs RTI'!$E$34","v":3750},{"$f":"'SSI Inputs RTI'!$E$36","v":2500},{"$f":"'SSI Inputs RTI'!$E$37","v":1250},{"$f":"'SSI Inputs RTI'!$E$38","v":1250},{"$f":"'SSI Inputs RTI'!$E$40","v":2500},{"$f":"'SSI Inputs RTI'!$E$41","v":1250},{"$f":"'SSI Inputs RTI'!$E$42","v":1250},{"$f":"'SSI Inputs RTI'!$R$20","v":425},{"$f":"'SSI Inputs RTI'!$R$21","v":425},{"$f":"'SSI Inputs RTI'!$R$22","v":425},{"$f":"'SSI Inputs RTI'!$R$23","v":425},"D",{"$f":"'SSI Inputs RTI'!$E$28","v":7500},{"$f":"'SSI Inputs RTI'!$E$29","v":3750},{"$f":"'SSI Inputs RTI'!$E$30","v":3750},{"$f":"'SSI Inputs RTI'!$E$32","v":7500},{"$f":"'SSI Inputs RTI'!$E$33","v":3750},{"$f":"'SSI Inputs RTI'!$E$34","v":3750},{"$f":"'SSI Inputs RTI'!$E$36","v":2500},{"$f":"'SSI Inputs RTI'!$E$37","v":1250},{"$f":"'SSI Inputs RTI'!$E$38","v":1250},{"$f":"'SSI Inputs RTI'!$E$40","v":2500},{"$f":"'SSI Inputs RTI'!$E$41","v":1250},{"$f":"'SSI Inputs RTI'!$E$42","v":1250},{"$f":"'SSI Inputs RTI'!$R$20","v":425},{"$f":"'SSI Inputs RTI'!$R$21","v":425},{"$f":"'SSI Inputs RTI'!$R$22","v":425},{"$f":"'SSI Inputs RTI'!$R$23","v":425}]
[]
[]
[]
[]
[]
[]
[]
[]
[]
[]
[]
[]
[]
[]
[]
[]
[]
[]
[]
[]
[]
[]
[]
[]
[]
[]
[]
[]
[]
[]
[]
[]
[]
[]
[]
[]
[]
[]
[]
[]
[]
[]
[]
[]
[]
[]
[]
[]
[]
[]
[]
[]
[]
[]
[]
[]
[]
[]
[]
[]
[]
[]
[]
[]
[]
[]
[]
[]
[]
[]
[]
[]
[]
[null,null,null,null,null,null,null,null,null,"Exposure",null,null,null,null,null,null,null,null,null,null,null,null,null,null,null,null,null,null,null,null,null,null,null,null,null,null,"Exposure-Severity-Complexity Product"]
[null,null,null,null,null,null,null,null,null,"Q1","Q2","I"]
[null,null,null,null,null,null,null,null,null,{"$f":"SUMPRODUCT($AN4:$BC4,$AN$27:$BC$27)","v":8750},{"$f":"SUMPRODUCT($BE4:$BT4,$BE$27:$BT$27)","v":1250},{"$f":"PRODUCT(J103:K103)","v":10937500},null,null,null,null,null,null,null,null,null,null,null,null,null,null,null,null,null,null,null,null,null,null,null,null,{"$f":"L103*R4*AI4","v":27871.077332497949}]
[null,null,null,null,null,null,null,null,null,{"$f":"SUMPRODUCT($AN5:$BC5,$AN$27:$BC$27)","v":8750},{"$f":"SUMPRODUCT($BE5:$BT5,$BE$27:$BT$27)","v":1250},{"$f":"PRODUCT(J104:K104)","v":10937500},null,null,null,null,null,null,null,null,null,null,null,null,null,null,null,null,null,null,null,null,null,null,null,null,{"$f":"L104*R5*AI5","v":27871.077332497949}]
[null,null,null,null,null,null,null,null,null,8750,1250,10937500,null,null,null,null,null,null,null,null,null,null,null,null,null,null,null,null,null,null,null,null,null,null,null,null,12135.166828905089]
[null,null,null,null,null,null,null,null,null,3750,1250,4687500,null,null,null,null,null,null,null,null,null,null,null,null,null,null,null,null,null,null,null,null,null,null,null,null,2673.744425884564]
[null,null,null,null,null,null,null,null,null,15000,5000,75000000,null,null,null,null,null,null,null,null,null,null,null,null,null,null,null,null,null,null,null,null,null,null,null,null,42779.910814153023]
[null,null,null,null,null,null,null,null,null,3750,1250,4687500,null,null,null,null,null,null,null,null,null,null,null,null,null,null,null,null,null,null,null,null,null,null,null,null,2673.744425884564]
[null,null,null,null,null,null,null,null,null,8750,1250,10937500,null,null,null,null,null,null,null,null,null,null,null,null,null,null,null,null,null,null,null,null,null,null,null,null,12135.166828905089]
[null,null,null,null,null,null,null,null,null,15000,5000,75000000,null,null,null,null,null,null,null,null,null,null,null,null,null,null,null,null,null,null,null,null,null,null,null,null,42779.910814153023]
[null,null,null,null,null,null,null,null,null,1250,1250,1562500,null,null,null,null,null,null,null,null,null,null,null,null,null,null,null,null,null,null,null,null,null,null,null,null,28.839227105265373]
[null,null,null,null,null,null,null,null,null,8750,3750,32812500,null,null,null,null,null,null,null,null,null,null,null,null,null,null,null,null,null,null,null,null,null,null,null,null,841.07992681422695]
[null,null,null,null,null,null,null,null,null,12500,7500,93750000,null,null,null,null,null,null,null,null,null,null,null,null,null,null,null,null,null,null,null,null,null,null,null,null,2403.0855051835056]
[null,null,null,null,null,null,null,null,null,1250,1250,1562500,null,null,null,null,null,null,null,null,null,null,null,null,null,null,null,null,null,null,null,null,null,null,null,null,28.839227105265373]
[null,null,null,null,null,null,null,null,null,8750,3750,32812500,null,null,null,null,null,null,null,null,null,null,null,null,null,null,null,null,null,null,null,null,null,null,null,null,841.07992681422695]
[null,null,null,null,null,null,null,null,null,12500,7500,93750000,null,null,null,null,null,null,null,null,null,null,null,null,null,null,null,null,null,null,null,null,null,null,null,null,2403.0855051835056]
[null,null,null,null,null,null,null,null,null,425,2500,1062500,null,null,null,null,null,null,null,null,null,null,null,null,null,null,null,null,null,null,null,null,null,null,null,null,239356.61088065375]
[null,null,null,null,null,null,null,null,null,425,10000,4250000,null,null,null,null,null,null,null,null,null,null,null,null,null,null,null,null,null,null,null,null,null,null,null,null,2646322.2842140794]
[null,null,null,null,null,null,null,null,null,425,15000,6375000,null,null,null,null,null,null,null,null,null,null,null,null,null,null,null,null,null,null,null,null,null,null,null,null,1436139.6652839226]
[null,null,null,null,null,null,null,null,null,425,7500,3187500,null,null,null,null,null,null,null,null,null,null,null,null,null,null,null,null,null,null,null,null,null,null,null,null,1984741.7131605595]
[null,null,null,null,null,null,null,null,null,425,2500,1062500,null,null,null,null,null,null,null,null,null,null,null,null,null,null,null,null,null,null,null,null,null,null,null,null,239356.61088065375]
[null,null,null,null,null,null,null,null,null,425,10000,4250000,null,null,null,null,null,null,null,null,null,null,null,null,null,null,null,null,null,null,null,null,null,null,null,null,2646322.2842140794]
[null,null,null,null,null,null,null,null,null,425,15000,6375000,null,null,null,null,null,null,null,null,null,null,null,null,null,null,null,null,null,null,null,null,null,null,null,null,1436139.6652839226]
[null,null,null,null,null,null,null,null,null,425,7500,3187500,null,null,null,null,null,null,null,null,null,null,null,null,null,null,null,null,null,null,null,null,null,null,null,null,1984741.7131605595]

{"sheet":"RTI_RAB2x1","index":14,"n_rows":124,"n_cols":72,"rows_kept":124,"cut":false,"hidden":true,"merged":[[1,34,2,34],[1,36,2,36],[1,39,1,52],[1,56,1,69],[100,9,100,11],[100,36,101,36],[0,19,0,28],[0,30,0,32],[1,9,1,11],[1,13,1,17],[1,21,1,25],[1,27,1,28],[1,30,2,30],[1,31,2,31],[1,32,2,32]]}
[null,null,null,null,null,null,null,null,null,null,null,null,null,null,null,null,null,null,null,"Conflicting Traffic Complexity",null,null,null,null,null,null,null,null,null,null,"Pedestrian Complexity"]
[null,null,null,null,null,null,null,null,null,"Exposure",null,null,null,"Severity",null,null,null,null,null,"Traffic Control",null,"Conflicting Lanes",null,null,null,null,null,"Conflicting Speed",null,null,"Indirect Paths Indicator","Non-intuitive movements indicator","Pedestrian Complexity factor",null,"Total Complexity Multiplier",null,"Exposure-Severity-Complexity Product",null,null,"Included in Mvmt1",null,null,null,null,null,null,null,null,null,null,null,null,null,null,null,null,"Included in Mvmt2"]
["#","Conflict Type","Mvmt1","Mvmt1_gen","Mvmt1_SpeedCat","Mvmt2","Mvmt2_gen","Mvmt2_SpeedCat",null,"Q1","Q2","I",null,"Speed_V1","Speed_V2","Angle","delta_V","P_FSI",null,null,null,"CrossC","RampC","CrossM/P","RampM/P","Score",null,"Speed","Factor",null,null,null,null,null,null,null,null,null,null,"CrossT1","CrossL1","CrossR1","CrossT2","CrossL2","CrossR2","RampT1","RampL1","RampR1","RampT2","RampL2","RampR2","CrossNM1","CrossNM2","RampNM1","RampNM2",null,"CrossT1","CrossL1","CrossR1","CrossT2","CrossL2","CrossR2","RampT1","RampL1","RampR1","RampT2","RampL2","RampR2","CrossNM1","CrossNM2","RampNM1","RampNM2"]
[1,"Crossing - RAB","WBT,NBL","CrossT2,RampL1","RAB exiting","SBL","RampL2","RAB entering",null,{"$f":"SUMPRODUCT($AN4:$BC4,$AN$26:$BC$26)","v":4875},{"$f":"SUMPRODUCT($BE4:$BT4,$BE$26:$BT$26)","v":1125},{"$f":"PRODUCT(J4:K4)","v":5484375},null,{"$f":"VLOOKUP(E4,SSI_RTI_Range_VehSpeed,5,FALSE)","v":30},{"$f":"VLOOKUP(H4,SSI_RTI_Range_VehSpeed,5,FALSE)","v":20},{"$f":"IF(B4=\"Nonmotorized\",\"\",VLOOKUP(B4,SSI_RTI_Range_CollAngles,5,FALSE))","v":60},{"$f":"IF(B4=\"Nonmotorized\",\"\",SQRT(N4^2+O4^2-2*N4*O4*COS(RADIANS(P4)))/2)","v":13.228756555322953},{"$f":"IF(B4=\"Nonmotorized\",1/(1+EXP(3.8432-0.1237*O4)),(Q4/SSI_RTI_RegAlpha)^SSI_RTI_RegK+(Q4/SSI_RTI_RegAlpha)^SSI_RTI_RegK-((Q4/SSI_RTI_RegAlpha)^SSI_RTI_RegK)*((Q4/SSI_RTI_RegAlpha)^SSI_RTI_RegK))","v":4.1698027385763175E-3},null,{"$f":"SSI_RTI_PermFactor","v":1},null,null,null,null,null,2,null,{"$f":"IF(B4=\"Diverging\",\"\",SSI_RTI_VehSpeed_RABCirc)","v":25},{"$f":"IF(B4=\"Diverging\",1,1-((60-AB4)/60*0.1/0.15))","v":0.61111111111111105},null,null,null,{"$f":"IF(SSI_RTI_ConsiderNMComplexity=\"Yes\",1+AE4+AF4,1)","v":1},null,{"$f":"PRODUCT(Z4,T4,AC4,AG4)","v":1.2222222222222221},null,{"$f":"L4*R4*AI4","v":27950.708982019376},null,null,{"$f":"IF(ISNUMBER(SEARCH(AN$3,$D4)),1,\"\")","v":""},{"$f":"IF(ISNUMBER(SEARCH(AO$3,$D4)),1,\"\")","v":""},"",1,"","","",1,"","","","","","","","",null,{"$f":"IF(ISNUMBER(SEARCH(BE$3,$G4)),1,\"\")","v":""},{"$f":"IF(ISNUMBER(SEARCH(BF$3,$G4)),1,\"\")","v":""},"","","","","","","","",1,"","","","",""]
[2,"Crossing - RAB","EBT,SBL","CrossT1,RampL2","RAB exiting","NBL","RampL1","RAB entering",null,4875,1125,{"$f":"PRODUCT(J5:K5)","v":5484375},null,30,20,60,{"$f":"IF(B5=\"Nonmotorized\",\"\",SQRT(N5^2+O5^2-2*N5*O5*COS(RADIANS(P5)))/2)","v":13.228756555322953},4.1698027385763175E-3,null,1,null,null,null,null,null,2,null,25,0.61111111111111105,null,null,null,1,null,1.2222222222222221,null,{"$f":"L5*R5*AI5","v":27950.708982019376},null,null,{"$f":"IF(ISNUMBER(SEARCH(AN$3,$D5)),1,\"\")","v":1},"","","","","","","","","",1,"","","","","",null,{"$f":"IF(ISNUMBER(SEARCH(BE$3,$G5)),1,\"\")","v":""},"","","","","","",1,"","","","","","","",""]
[3,"Merging","WBT,NBL","CrossT2,RampL1","RAB exiting","SBR","RampR2","RAB entering",null,4875,1125,5484375,null,30,20,45,10.623933623853066,1.8155470372595668E-3,null,1,null,null,null,null,null,1.75,null,25,0.61111111111111105,null,null,null,1,null,1.0694444444444444,null,10648.608892364216,null,null,"","","",1,"","","",1,"","","","","","","","",null,"","","","","","","","","","","",1,"","","",""]
[4,"Merging","WBL","CrossL2","RAB circulating","SBL","RampL2","RAB entering",null,1875,1125,2109375,null,25,20,45,8.9147801264732891,9.3337987230879336E-4,null,1,null,null,null,null,null,2,null,25,0.61111111111111105,null,null,null,1,null,1.2222222222222221,null,2406.3699832961079,null,null,"","","","",1,"","","","","","","","","","","",null,"","","","","","","","","","",1,"","","","",""]
[5,"Merging","EBT,EBL,EBR","CrossT1,CrossL1,CrossR1","RAB entering","WBL,SBL","CrossL2,RampL2","RAB circulating",null,7500,3000,22500000,null,20,25,45,8.9147801264732891,9.3337987230879336E-4,null,1,null,null,null,null,null,1,null,25,0.61111111111111105,null,null,null,1,null,0.61111111111111105,null,12833.973244245908,null,null,1,1,1,"","","","","","","","","","","","","",null,"","","","",1,"","","","","",1,"","","","",""]
[6,"Merging","EBL","CrossL1","RAB circulating","NBL","RampL1","RAB entering",null,1875,1125,2109375,null,25,20,45,8.9147801264732891,9.3337987230879336E-4,null,1,null,null,null,null,null,2,null,25,0.61111111111111105,null,null,null,1,null,1.2222222222222221,null,2406.3699832961079,null,null,"",1,"","","","","","","","","","","","","","",null,"","","","","","","",1,"","","","","","","",""]
[7,"Merging","EBT,SBL","CrossT1,RampL2","RAB exiting","NBR","RampR1","RAB entering",null,4875,1125,5484375,null,30,20,45,10.623933623853066,1.8155470372595668E-3,null,1,null,null,null,null,null,1.75,null,25,0.61111111111111105,null,null,null,1,null,1.0694444444444444,null,10648.608892364216,null,null,1,"","","","","","","","","",1,"","","","","",null,"","","","","","","","",1,"","","","","","",""]
[8,"Merging","WBT,WBL,WBR","CrossT2,CrossL2,CrossR2","RAB entering","EBL,NBL","CrossL1,RampL1","RAB circulating",null,7500,3000,22500000,null,20,25,45,8.9147801264732891,9.3337987230879336E-4,null,1,null,null,null,null,null,1,null,25,0.61111111111111105,null,null,null,1,null,0.61111111111111105,null,12833.973244245908,null,null,"","","",1,1,1,"","","","","","","","","","",null,"",1,"","","","","",1,"","","","","","","",""]
[9,"Diverging","SBL","RampL2","RAB entering","SBR","RampR2","RAB circulating",null,1125,1125,1265625,null,20,25,10,3.1698677806728797,1.8457105347369838E-5,null,1,null,null,null,null,null,1,null,{"$f":"IF(B12=\"Diverging\",\"\",SSI_RTI_VehSpeed_RABEnter)","v":""},1,null,null,null,1,null,1,null,23.359773955264952,null,null,"","","","","","","","","","",1,"","","","","",null,"","","","","","","","","","","",1,"","","",""]
[10,"Diverging","WBT,NBL","CrossT2,RampL1","RAB exiting","WBL","CrossL2","RAB circulating",null,4875,1875,9140625,null,30,25,10,3.4564566568122888,2.5632912055290725E-5,null,1,null,null,null,null,null,1,null,"",1,null,null,null,1,null,1,null,234.3008367553918,null,null,"","","",1,"","","",1,"","","","","","","","",null,"","","","",1,"","","","","","","","","","",""]
[11,"Diverging","EBT,EBL,SBL","CrossT1,CrossL1,RampL2","RAB circulating","EBR,WBL","CrossR1,CrossL2","RAB exiting",null,6750,3750,25312500,null,25,30,10,3.4564566568122888,2.5632912055290725E-5,null,1,null,null,null,null,null,1,null,"",1,null,null,null,1,null,1,null,648.83308639954646,null,null,1,1,"","","","","","","","",1,"","","","","",null,"","",1,"",1,"","","","","","","","","","",""]
[12,"Diverging","NBL","RampL1","RAB entering","NBR","RampR1","RAB circulating",null,1125,1125,1265625,null,20,25,10,3.1698677806728797,1.8457105347369838E-5,null,1,null,null,null,null,null,1,null,"",1,null,null,null,1,null,1,null,23.359773955264952,null,null,"","","","","","","",1,"","","","","","","","",null,"","","","","","","","",1,"","","","","","",""]
[13,"Diverging","EBT,SBL","CrossT1,RampL2","RAB exiting","EBL","CrossL1","RAB circulating",null,4875,1875,9140625,null,30,25,10,3.4564566568122888,2.5632912055290725E-5,null,1,null,null,null,null,null,1,null,"",1,null,null,null,1,null,1,null,234.3008367553918,null,null,1,"","","","","","","","","",1,"","","","","",null,"",1,"","","","","","","","","","","","","",""]
[14,"Diverging","WBT,WBL,NBL","CrossT2,CrossL2,RampL1","RAB circulating","WBR,EBL","CrossR2,CrossL1","RAB exiting",null,6750,3750,25312500,null,25,30,10,3.4564566568122888,2.5632912055290725E-5,null,1,null,null,null,null,null,1,null,"",1,null,null,null,1,null,1,null,648.83308639954646,null,null,"","","",1,1,"","",1,"","","","","","","","",null,"",1,"","","",1,"","","","","","","","","",""]
[15,"Nonmotorized",null,"RampNM2","Nonmotorized","SBR,SBL","RampR2,RampL2","RAB entering",null,375,2250,843750,null,0,20,"","",0.20274912921655375,null,1,null,null,null,null,null,1,null,20,0.55555555555555558,null,1,null,2,null,1.1111111111111112,null,190077.30864051916,null,null,"","","","","","","","","","","","","","","",1,null,"","","","","","","","","","",1,1,"","","",""]
[16,"Nonmotorized",null,"CrossNM1","Nonmotorized","WBT,SBR,NBL","CrossT2,RampR2,RampL1","RAB exiting",null,375,6000,2250000,null,0,30,"","",0.46699805015542578,null,1,null,null,null,null,null,2,null,{"$f":"IF(B19=\"Diverging\",\"\",SSI_RTI_VehSpeed_RABExit)","v":30},0.66666666666666663,null,1,null,2,null,2.6666666666666665,null,2801988.3009325545,null,null,"","","","","","","","","","","","",1,"","","",null,"","","",1,"","","",1,"","","",1,"","","",""]
[17,"Nonmotorized",null,"CrossNM1","Nonmotorized","EBT,EBR,EBL","CrossT1,CrossR1,CrossL1","RAB entering",null,375,7500,2812500,null,0,20,"","",0.20274912921655375,null,1,null,null,null,null,null,2,null,{"$f":"IF(B20=\"Diverging\",\"\",SSI_RTI_VehSpeed_RABEnter)","v":20},0.55555555555555558,null,1,null,2,null,2.2222222222222223,null,1267182.0576034612,null,null,"","","","","","","","","","","","",1,"","","",null,1,1,1,"","","","","","","","","","","","",""]
[18,"Nonmotorized",null,"RampNM1","Nonmotorized","EBR,WBL","CrossR1,CrossL2","RAB exiting",null,375,3750,1406250,null,0,30,"","",0.46699805015542578,null,1,null,null,null,null,null,1,null,{"$f":"IF(B21=\"Diverging\",\"\",SSI_RTI_VehSpeed_RABExit)","v":30},0.66666666666666663,null,1,null,2,null,1.3333333333333333,null,875621.34404142341,null,null,"","","","","","","","","","","","","","",1,"",null,"","",1,"",1,"","","","","","","","","",{"$f":"IF(ISNUMBER(SEARCH(BS$3,$G21)),1,\"\")","v":""},""]
[19,"Nonmotorized",null,"RampNM1","Nonmotorized","NBR,NBL","RampR1,RampL1","RAB entering",null,375,2250,843750,null,0,20,"","",0.20274912921655375,null,1,null,null,null,null,null,1,null,{"$f":"IF(B22=\"Diverging\",\"\",SSI_RTI_VehSpeed_RABEnter)","v":20},0.55555555555555558,null,1,null,2,null,1.1111111111111112,null,190077.30864051916,null,null,"","","","","","","","","","","","","","",1,"",null,{"$f":"IF(ISNUMBER(SEARCH(BE$3,$G22)),1,\"\")","v":""},"","","","","","",1,1,"","","","","","",""]
[20,"Nonmotorized",null,"CrossNM2","Nonmotorized","EBT,NBR,SBL","CrossT1,RampR1,RampL2","RAB exiting",null,375,6000,2250000,null,0,30,"","",0.46699805015542578,null,1,null,null,null,null,null,2,null,{"$f":"IF(B23=\"Diverging\",\"\",SSI_RTI_VehSpeed_RABExit)","v":30},0.66666666666666663,null,1,null,2,null,2.6666666666666665,null,2801988.3009325545,null,null,"","","","","","","","","","","","",{"$f":"IF(ISNUMBER(SEARCH(AZ$3,$D23)),1,\"\")","v":""},1,"","",null,1,"","","","","","","",1,"",1,"","","","",""]
[21,"Nonmotorized",null,"CrossNM2","Nonmotorized","WBT,WBR,WBL","CrossT2,CrossR2,CrossL2","RAB entering",null,375,7500,2812500,null,0,20,"","",0.20274912921655375,null,1,null,null,null,null,null,2,null,{"$f":"IF(B24=\"Diverging\",\"\",SSI_RTI_VehSpeed_RABEnter)","v":20},0.55555555555555558,null,1,null,2,null,2.2222222222222223,null,1267182.0576034612,null,null,{"$f":"IF(ISNUMBER(SEARCH(AN$3,$D24)),1,\"\")","v":""},"","","","","","","","","","","","",1,"","",null,"","","",1,1,1,"","","","","","","","","",""]
[22,"Nonmotorized",null,"RampNM2","Nonmotorized","WBR,EBL","CrossR2,CrossL1","RAB exiting",null,375,3750,1406250,null,0,30,"","",0.46699805015542578,null,1,null,null,null,null,null,1,null,{"$f":"IF(B25=\"Diverging\",\"\",SSI_RTI_VehSpeed_RABExit)","v":30},0.66666666666666663,null,1,null,2,null,1.3333333333333333,null,{"$f":"L25*R25*AI25","v":875621.34404142341},null,null,"","","","","","","","","","","","","","","",1,null,"",1,"","","",1,"","","","","","","","","",""]
[null,null,null,null,null,null,null,null,null,null,null,null,null,null,null,null,null,null,null,null,null,null,null,null,null,null,null,null,null,null,null,null,null,null,null,null,null,null,"O",{"$f":"'SSI Inputs RTI'!$D$28","v":3750},{"$f":"'SSI Inputs RTI'!$D$29","v":1875},{"$f":"'SSI Inputs RTI'!$D$30","v":1875},{"$f":"'SSI Inputs RTI'!$D$32","v":3750},{"$f":"'SSI Inputs RTI'!$D$33","v":1875},{"$f":"'SSI Inputs RTI'!$D$34","v":1875},{"$f":"'SSI Inputs RTI'!$D$36","v":2250},{"$f":"'SSI Inputs RTI'!$D$37","v":1125},{"$f":"'SSI Inputs RTI'!$D$38","v":1125},{"$f":"'SSI Inputs RTI'!$D$40","v":2250},{"$f":"'SSI Inputs RTI'!$D$41","v":1125},{"$f":"'SSI Inputs RTI'!$D$42","v":1125},{"$f":"'SSI Inputs RTI'!$Q$20","v":375},{"$f":"'SSI Inputs RTI'!$Q$21","v":375},{"$f":"'SSI Inputs RTI'!$Q$22","v":375},{"$f":"'SSI Inputs RTI'!$Q$23","v":375},"O",{"$f":"'SSI Inputs RTI'!$D$28","v":3750},{"$f":"'SSI Inputs RTI'!$D$29","v":1875},{"$f":"'SSI Inputs RTI'!$D$30","v":1875},{"$f":"'SSI Inputs RTI'!$D$32","v":3750},{"$f":"'SSI Inputs RTI'!$D$33","v":1875},{"$f":"'SSI Inputs RTI'!$D$34","v":1875},{"$f":"'SSI Inputs RTI'!$D$36","v":2250},{"$f":"'SSI Inputs RTI'!$D$37","v":1125},{"$f":"'SSI Inputs RTI'!$D$38","v":1125},{"$f":"'SSI Inputs RTI'!$D$40","v":2250},{"$f":"'SSI Inputs RTI'!$D$41","v":1125},{"$f":"'SSI Inputs RTI'!$D$42","v":1125},{"$f":"'SSI Inputs RTI'!$Q$20","v":375},{"$f":"'SSI Inputs RTI'!$Q$21","v":375},{"$f":"'SSI Inputs RTI'!$Q$22","v":375},{"$f":"'SSI Inputs RTI'!$Q$23","v":375}]
[null,null,null,null,null,null,null,null,null,null,null,null,null,null,null,null,null,null,null,null,null,null,null,null,null,null,null,null,null,null,null,null,null,null,null,null,null,null,"D",{"$f":"'SSI Inputs RTI'!$E$28","v":7500},{"$f":"'SSI Inputs RTI'!$E$29","v":3750},{"$f":"'SSI Inputs RTI'!$E$30","v":3750},{"$f":"'SSI Inputs RTI'!$E$32","v":7500},{"$f":"'SSI Inputs RTI'!$E$33","v":3750},{"$f":"'SSI Inputs RTI'!$E$34","v":3750},{"$f":"'SSI Inputs RTI'!$E$36","v":2500},{"$f":"'SSI Inputs RTI'!$E$37","v":1250},{"$f":"'SSI Inputs RTI'!$E$38","v":1250},{"$f":"'SSI Inputs RTI'!$E$40","v":2500},{"$f":"'SSI Inputs RTI'!$E$41","v":1250},{"$f":"'SSI Inputs RTI'!$E$42","v":1250},{"$f":"'SSI Inputs RTI'!$R$20","v":425},{"$f":"'SSI Inputs RTI'!$R$21","v":425},{"$f":"'SSI Inputs RTI'!$R$22","v":425},{"$f":"'SSI Inputs RTI'!$R$23","v":425},"D",{"$f":"'SSI Inputs RTI'!$E$28","v":7500},{"$f":"'SSI Inputs RTI'!$E$29","v":3750},{"$f":"'SSI Inputs RTI'!$E$30","v":3750},{"$f":"'SSI Inputs RTI'!$E$32","v":7500},{"$f":"'SSI Inputs RTI'!$E$33","v":3750},{"$f":"'SSI Inputs RTI'!$E$34","v":3750},{"$f":"'SSI Inputs RTI'!$E$36","v":2500},{"$f":"'SSI Inputs RTI'!$E$37","v":1250},{"$f":"'SSI Inputs RTI'!$E$38","v":1250},{"$f":"'SSI Inputs RTI'!$E$40","v":2500},{"$f":"'SSI Inputs RTI'!$E$41","v":1250},{"$f":"'SSI Inputs RTI'!$E$42","v":1250},{"$f":"'SSI Inputs RTI'!$R$20","v":425},{"$f":"'SSI Inputs RTI'!$R$21","v":425},{"$f":"'SSI Inputs RTI'!$R$22","v":425},{"$f":"'SSI Inputs RTI'!$R$23","v":425}]
[]
[]
[]
[]
[]
[]
[]
[]
[]
[]
[]
[]
[]
[]
[]
[]
[]
[]
[]
[]
[]
[]
[]
[]
[]
[]
[]
[]
[]
[]
[]
[]
[]
[]
[]
[]
[]
[]
[]
[]
[]
[]
[]
[]
[]
[]
[]
[]
[]
[]
[]
[]
[]
[]
[]
[]
[]
[]
[]
[]
[]
[]
[]
[]
[]
[]
[]
[]
[]
[]
[]
[]
[]
[null,null,null,null,null,null,null,null,null,"Exposure",null,null,null,null,null,null,null,null,null,null,null,null,null,null,null,null,null,null,null,null,null,null,null,null,null,null,"Exposure-Severity-Complexity Product"]
[null,null,null,null,null,null,null,null,null,"Q1","Q2","I"]
[null,null,null,null,null,null,null,null,null,{"$f":"SUMPRODUCT($AN4:$BC4,$AN$27:$BC$27)","v":8750},{"$f":"SUMPRODUCT($BE4:$BT4,$BE$27:$BT$27)","v":1250},{"$f":"PRODUCT(J103:K103)","v":10937500},null,null,null,null,null,null,null,null,null,null,null,null,null,null,null,null,null,null,null,null,null,null,null,null,{"$f":"L103*R4*AI4","v":55742.154664995898}]
[null,null,null,null,null,null,null,null,null,{"$f":"SUMPRODUCT($AN5:$BC5,$AN$27:$BC$27)","v":8750},{"$f":"SUMPRODUCT($BE5:$BT5,$BE$27:$BT$27)","v":1250},{"$f":"PRODUCT(J104:K104)","v":10937500},null,null,null,null,null,null,null,null,null,null,null,null,null,null,null,null,null,null,null,null,null,null,null,null,{"$f":"L104*R5*AI5","v":55742.154664995898}]
[null,null,null,null,null,null,null,null,null,8750,1250,10937500,null,null,null,null,null,null,null,null,null,null,null,null,null,null,null,null,null,null,null,null,null,null,null,null,21236.541950583909]
[null,null,null,null,null,null,null,null,null,3750,1250,4687500,null,null,null,null,null,null,null,null,null,null,null,null,null,null,null,null,null,null,null,null,null,null,null,null,5347.4888517691279]
[null,null,null,null,null,null,null,null,null,15000,5000,75000000,null,null,null,null,null,null,null,null,null,null,null,null,null,null,null,null,null,null,null,null,null,null,null,null,42779.910814153023]
[null,null,null,null,null,null,null,null,null,3750,1250,4687500,null,null,null,null,null,null,null,null,null,null,null,null,null,null,null,null,null,null,null,null,null,null,null,null,5347.4888517691279]
[null,null,null,null,null,null,null,null,null,8750,1250,10937500,null,null,null,null,null,null,null,null,null,null,null,null,null,null,null,null,null,null,null,null,null,null,null,null,21236.541950583909]
[null,null,null,null,null,null,null,null,null,15000,5000,75000000,null,null,null,null,null,null,null,null,null,null,null,null,null,null,null,null,null,null,null,null,null,null,null,null,42779.910814153023]
[null,null,null,null,null,null,null,null,null,1250,1250,1562500,null,null,null,null,null,null,null,null,null,null,null,null,null,null,null,null,null,null,null,null,null,null,null,null,28.839227105265373]
[null,null,null,null,null,null,null,null,null,8750,3750,32812500,null,null,null,null,null,null,null,null,null,null,null,null,null,null,null,null,null,null,null,null,null,null,null,null,841.07992681422695]
[null,null,null,null,null,null,null,null,null,12500,7500,93750000,null,null,null,null,null,null,null,null,null,null,null,null,null,null,null,null,null,null,null,null,null,null,null,null,2403.0855051835056]
[null,null,null,null,null,null,null,null,null,1250,1250,1562500,null,null,null,null,null,null,null,null,null,null,null,null,null,null,null,null,null,null,null,null,null,null,null,null,28.839227105265373]
[null,null,null,null,null,null,null,null,null,8750,3750,32812500,null,null,null,null,null,null,null,null,null,null,null,null,null,null,null,null,null,null,null,null,null,null,null,null,841.07992681422695]
[null,null,null,null,null,null,null,null,null,12500,7500,93750000,null,null,null,null,null,null,null,null,null,null,null,null,null,null,null,null,null,null,null,null,null,null,null,null,2403.0855051835056]
[null,null,null,null,null,null,null,null,null,425,2500,1062500,null,null,null,null,null,null,null,null,null,null,null,null,null,null,null,null,null,null,null,null,null,null,null,null,239356.61088065375]
[null,null,null,null,null,null,null,null,null,425,10000,4250000,null,null,null,null,null,null,null,null,null,null,null,null,null,null,null,null,null,null,null,null,null,null,null,null,5292644.5684281588]
[null,null,null,null,null,null,null,null,null,425,15000,6375000,null,null,null,null,null,null,null,null,null,null,null,null,null,null,null,null,null,null,null,null,null,null,null,null,2872279.3305678451]
[null,null,null,null,null,null,null,null,null,425,7500,3187500,null,null,null,null,null,null,null,null,null,null,null,null,null,null,null,null,null,null,null,null,null,null,null,null,1984741.7131605595]
[null,null,null,null,null,null,null,null,null,425,2500,1062500,null,null,null,null,null,null,null,null,null,null,null,null,null,null,null,null,null,null,null,null,null,null,null,null,239356.61088065375]
[null,null,null,null,null,null,null,null,null,425,10000,4250000,null,null,null,null,null,null,null,null,null,null,null,null,null,null,null,null,null,null,null,null,null,null,null,null,5292644.5684281588]
[null,null,null,null,null,null,null,null,null,425,15000,6375000,null,null,null,null,null,null,null,null,null,null,null,null,null,null,null,null,null,null,null,null,null,null,null,null,2872279.3305678451]
[null,null,null,null,null,null,null,null,null,425,7500,3187500,null,null,null,null,null,null,null,null,null,null,null,null,null,null,null,null,null,null,null,null,null,null,null,null,1984741.7131605595]

{"sheet":"RTI_RAB2x2","index":15,"n_rows":124,"n_cols":72,"rows_kept":124,"cut":false,"hidden":true,"merged":[[1,34,2,34],[1,36,2,36],[1,39,1,52],[1,56,1,69],[100,9,100,11],[100,36,101,36],[0,19,0,28],[0,30,0,32],[1,9,1,11],[1,13,1,17],[1,21,1,25],[1,27,1,28],[1,30,2,30],[1,31,2,31],[1,32,2,32]]}
[null,null,null,null,null,null,null,null,null,null,null,null,null,null,null,null,null,null,null,"Conflicting Traffic Complexity",null,null,null,null,null,null,null,null,null,null,"Pedestrian Complexity"]
[null,null,null,null,null,null,null,null,null,"Exposure",null,null,null,"Severity",null,null,null,null,null,"Traffic Control",null,"Conflicting Lanes",null,null,null,null,null,"Conflicting Speed",null,null,"Indirect Paths Indicator","Non-intuitive movements indicator","Pedestrian Complexity factor",null,"Total Complexity Multiplier",null,"Exposure-Severity-Complexity Product",null,null,"Included in Mvmt1",null,null,null,null,null,null,null,null,null,null,null,null,null,null,null,null,"Included in Mvmt2"]
["#","Conflict Type","Mvmt1","Mvmt1_gen","Mvmt1_SpeedCat","Mvmt2","Mvmt2_gen","Mvmt2_SpeedCat",null,"Q1","Q2","I",null,"Speed_V1","Speed_V2","Angle","delta_V","P_FSI",null,null,null,"CrossC","RampC","CrossM/P","RampM/P","Score",null,"Speed","Factor",null,null,null,null,null,null,null,null,null,null,"CrossT1","CrossL1","CrossR1","CrossT2","CrossL2","CrossR2","RampT1","RampL1","RampR1","RampT2","RampL2","RampR2","CrossNM1","CrossNM2","RampNM1","RampNM2",null,"CrossT1","CrossL1","CrossR1","CrossT2","CrossL2","CrossR2","RampT1","RampL1","RampR1","RampT2","RampL2","RampR2","CrossNM1","CrossNM2","RampNM1","RampNM2"]
[1,"Crossing - RAB","WBT,NBL","CrossT2,RampL1","RAB exiting","SBL","RampL2","RAB entering",null,{"$f":"SUMPRODUCT($AN4:$BC4,$AN$26:$BC$26)","v":4875},{"$f":"SUMPRODUCT($BE4:$BT4,$BE$26:$BT$26)","v":1125},{"$f":"PRODUCT(J4:K4)","v":5484375},null,{"$f":"VLOOKUP(E4,SSI_RTI_Range_VehSpeed,5,FALSE)","v":30},{"$f":"VLOOKUP(H4,SSI_RTI_Range_VehSpeed,5,FALSE)","v":20},{"$f":"IF(B4=\"Nonmotorized\",\"\",VLOOKUP(B4,SSI_RTI_Range_CollAngles,5,FALSE))","v":60},{"$f":"IF(B4=\"Nonmotorized\",\"\",SQRT(N4^2+O4^2-2*N4*O4*COS(RADIANS(P4)))/2)","v":13.228756555322953},{"$f":"IF(B4=\"Nonmotorized\",1/(1+EXP(3.8432-0.1237*O4)),(Q4/SSI_RTI_RegAlpha)^SSI_RTI_RegK+(Q4/SSI_RTI_RegAlpha)^SSI_RTI_RegK-((Q4/SSI_RTI_RegAlpha)^SSI_RTI_RegK)*((Q4/SSI_RTI_RegAlpha)^SSI_RTI_RegK))","v":4.1698027385763175E-3},null,{"$f":"SSI_RTI_PermFactor","v":1},null,null,null,null,null,2,null,{"$f":"IF(B4=\"Diverging\",\"\",SSI_RTI_VehSpeed_RABCirc)","v":25},{"$f":"IF(B4=\"Diverging\",1,1-((60-AB4)/60*0.1/0.15))","v":0.61111111111111105},null,null,null,{"$f":"IF(SSI_RTI_ConsiderNMComplexity=\"Yes\",1+AE4+AF4,1)","v":1},null,{"$f":"PRODUCT(Z4,T4,AC4,AG4)","v":1.2222222222222221},null,{"$f":"L4*R4*AI4","v":27950.708982019376},null,null,{"$f":"IF(ISNUMBER(SEARCH(AN$3,$D4)),1,\"\")","v":""},{"$f":"IF(ISNUMBER(SEARCH(AO$3,$D4)),1,\"\")","v":""},"",1,"","","",1,"","","","","","","","",null,{"$f":"IF(ISNUMBER(SEARCH(BE$3,$G4)),1,\"\")","v":""},{"$f":"IF(ISNUMBER(SEARCH(BF$3,$G4)),1,\"\")","v":""},"","","","","","","","",1,"","","","",""]
[2,"Crossing - RAB","EBT,SBL","CrossT1,RampL2","RAB exiting","NBL","RampL1","RAB entering",null,4875,1125,{"$f":"PRODUCT(J5:K5)","v":5484375},null,30,20,60,{"$f":"IF(B5=\"Nonmotorized\",\"\",SQRT(N5^2+O5^2-2*N5*O5*COS(RADIANS(P5)))/2)","v":13.228756555322953},4.1698027385763175E-3,null,1,null,null,null,null,null,2,null,25,0.61111111111111105,null,null,null,1,null,1.2222222222222221,null,{"$f":"L5*R5*AI5","v":27950.708982019376},null,null,{"$f":"IF(ISNUMBER(SEARCH(AN$3,$D5)),1,\"\")","v":1},"","","","","","","","","",1,"","","","","",null,{"$f":"IF(ISNUMBER(SEARCH(BE$3,$G5)),1,\"\")","v":""},"","","","","","",1,"","","","","","","",""]
[3,"Merging","WBT,NBL","CrossT2,RampL1","RAB exiting","SBR","RampR2","RAB entering",null,4875,1125,5484375,null,30,20,45,10.623933623853066,1.8155470372595668E-3,null,1,null,null,null,null,null,1.75,null,25,0.61111111111111105,null,null,null,1,null,1.0694444444444444,null,10648.608892364216,null,null,"","","",1,"","","",1,"","","","","","","","",null,"","","","","","","","","","","",1,"","","",""]
[4,"Merging","WBL","CrossL2","RAB circulating","SBL","RampL2","RAB entering",null,1875,1125,2109375,null,25,20,45,8.9147801264732891,9.3337987230879336E-4,null,1,null,null,null,null,null,2,null,25,0.61111111111111105,null,null,null,1,null,1.2222222222222221,null,2406.3699832961079,null,null,"","","","",1,"","","","","","","","","","","",null,"","","","","","","","","","",1,"","","","",""]
[5,"Merging","EBT,EBL,EBR","CrossT1,CrossL1,CrossR1","RAB entering","WBL,SBL","CrossL2,RampL2","RAB circulating",null,7500,3000,22500000,null,20,25,45,8.9147801264732891,9.3337987230879336E-4,null,1,null,null,null,null,null,2,null,25,0.61111111111111105,null,null,null,1,null,1.2222222222222221,null,25667.946488491816,null,null,1,1,1,"","","","","","","","","","","","","",null,"","","","",1,"","","","","",1,"","","","",""]
[6,"Merging","EBL","CrossL1","RAB circulating","NBL","RampL1","RAB entering",null,1875,1125,2109375,null,25,20,45,8.9147801264732891,9.3337987230879336E-4,null,1,null,null,null,null,null,2,null,25,0.61111111111111105,null,null,null,1,null,1.2222222222222221,null,2406.3699832961079,null,null,"",1,"","","","","","","","","","","","","","",null,"","","","","","","",1,"","","","","","","",""]
[7,"Merging","EBT,SBL","CrossT1,RampL2","RAB exiting","NBR","RampR1","RAB entering",null,4875,1125,5484375,null,30,20,45,10.623933623853066,1.8155470372595668E-3,null,1,null,null,null,null,null,1.75,null,25,0.61111111111111105,null,null,null,1,null,1.0694444444444444,null,10648.608892364216,null,null,1,"","","","","","","","","",1,"","","","","",null,"","","","","","","","",1,"","","","","","",""]
[8,"Merging","WBT,WBL,WBR","CrossT2,CrossL2,CrossR2","RAB entering","EBL,NBL","CrossL1,RampL1","RAB circulating",null,7500,3000,22500000,null,20,25,45,8.9147801264732891,9.3337987230879336E-4,null,1,null,null,null,null,null,2,null,25,0.61111111111111105,null,null,null,1,null,1.2222222222222221,null,25667.946488491816,null,null,"","","",1,1,1,"","","","","","","","","","",null,"",1,"","","","","",1,"","","","","","","",""]
[9,"Diverging","SBL","RampL2","RAB entering","SBR","RampR2","RAB circulating",null,1125,1125,1265625,null,20,25,10,3.1698677806728797,1.8457105347369838E-5,null,1,null,null,null,null,null,1,null,{"$f":"IF(B12=\"Diverging\",\"\",SSI_RTI_VehSpeed_RABEnter)","v":""},1,null,null,null,1,null,1,null,23.359773955264952,null,null,"","","","","","","","","","",1,"","","","","",null,"","","","","","","","","","","",1,"","","",""]
[10,"Diverging","WBT,NBL","CrossT2,RampL1","RAB exiting","WBL","CrossL2","RAB circulating",null,4875,1875,9140625,null,30,25,10,3.4564566568122888,2.5632912055290725E-5,null,1,null,null,null,null,null,1,null,"",1,null,null,null,1,null,1,null,234.3008367553918,null,null,"","","",1,"","","",1,"","","","","","","","",null,"","","","",1,"","","","","","","","","","",""]
[11,"Diverging","EBT,EBL,SBL","CrossT1,CrossL1,RampL2","RAB circulating","EBR,WBL","CrossR1,CrossL2","RAB exiting",null,6750,3750,25312500,null,25,30,10,3.4564566568122888,2.5632912055290725E-5,null,1,null,null,null,null,null,1,null,"",1,null,null,null,1,null,1,null,648.83308639954646,null,null,1,1,"","","","","","","","",1,"","","","","",null,"","",1,"",1,"","","","","","","","","","",""]
[12,"Diverging","NBL","RampL1","RAB entering","NBR","RampR1","RAB circulating",null,1125,1125,1265625,null,20,25,10,3.1698677806728797,1.8457105347369838E-5,null,1,null,null,null,null,null,1,null,"",1,null,null,null,1,null,1,null,23.359773955264952,null,null,"","","","","","","",1,"","","","","","","","",null,"","","","","","","","",1,"","","","","","",""]
[13,"Diverging","EBT,SBL","CrossT1,RampL2","RAB exiting","EBL","CrossL1","RAB circulating",null,4875,1875,9140625,null,30,25,10,3.4564566568122888,2.5632912055290725E-5,null,1,null,null,null,null,null,1,null,"",1,null,null,null,1,null,1,null,234.3008367553918,null,null,1,"","","","","","","","","",1,"","","","","",null,"",1,"","","","","","","","","","","","","",""]
[14,"Diverging","WBT,WBL,NBL","CrossT2,CrossL2,RampL1","RAB circulating","WBR,EBL","CrossR2,CrossL1","RAB exiting",null,6750,3750,25312500,null,25,30,10,3.4564566568122888,2.5632912055290725E-5,null,1,null,null,null,null,null,1,null,"",1,null,null,null,1,null,1,null,648.83308639954646,null,null,"","","",1,1,"","",1,"","","","","","","","",null,"",1,"","","",1,"","","","","","","","","",""]
[15,"Nonmotorized",null,"RampNM2","Nonmotorized","SBR,SBL","RampR2,RampL2","RAB entering",null,375,2250,843750,null,0,20,"","",0.20274912921655375,null,1,null,null,null,null,null,2,null,20,0.55555555555555558,null,1,null,2,null,2.2222222222222223,null,380154.61728103831,null,null,"","","","","","","","","","","","","","","",1,null,"","","","","","","","","","",1,1,"","","",""]
[16,"Nonmotorized",null,"CrossNM1","Nonmotorized","WBT,SBR,NBL","CrossT2,RampR2,RampL1","RAB exiting",null,375,6000,2250000,null,0,30,"","",0.46699805015542578,null,1,null,null,null,null,null,2,null,{"$f":"IF(B19=\"Diverging\",\"\",SSI_RTI_VehSpeed_RABExit)","v":30},0.66666666666666663,null,1,null,2,null,2.6666666666666665,null,2801988.3009325545,null,null,"","","","","","","","","","","","",1,"","","",null,"","","",1,"","","",1,"","","",1,"","","",""]
[17,"Nonmotorized",null,"CrossNM1","Nonmotorized","EBT,EBR,EBL","CrossT1,CrossR1,CrossL1","RAB entering",null,375,7500,2812500,null,0,20,"","",0.20274912921655375,null,1,null,null,null,null,null,2,null,{"$f":"IF(B20=\"Diverging\",\"\",SSI_RTI_VehSpeed_RABEnter)","v":20},0.55555555555555558,null,1,null,2,null,2.2222222222222223,null,1267182.0576034612,null,null,"","","","","","","","","","","","",1,"","","",null,1,1,1,"","","","","","","","","","","","",""]
[18,"Nonmotorized",null,"RampNM1","Nonmotorized","EBR,WBL","CrossR1,CrossL2","RAB exiting",null,375,3750,1406250,null,0,30,"","",0.46699805015542578,null,1,null,null,null,null,null,2,null,{"$f":"IF(B21=\"Diverging\",\"\",SSI_RTI_VehSpeed_RABExit)","v":30},0.66666666666666663,null,1,null,2,null,2.6666666666666665,null,1751242.6880828468,null,null,"","","","","","","","","","","","","","",1,"",null,"","",1,"",1,"","","","","","","","","",{"$f":"IF(ISNUMBER(SEARCH(BS$3,$G21)),1,\"\")","v":""},""]
[19,"Nonmotorized",null,"RampNM1","Nonmotorized","NBR,NBL","RampR1,RampL1","RAB entering",null,375,2250,843750,null,0,20,"","",0.20274912921655375,null,1,null,null,null,null,null,2,null,{"$f":"IF(B22=\"Diverging\",\"\",SSI_RTI_VehSpeed_RABEnter)","v":20},0.55555555555555558,null,1,null,2,null,2.2222222222222223,null,380154.61728103831,null,null,"","","","","","","","","","","","","","",1,"",null,{"$f":"IF(ISNUMBER(SEARCH(BE$3,$G22)),1,\"\")","v":""},"","","","","","",1,1,"","","","","","",""]
[20,"Nonmotorized",null,"CrossNM2","Nonmotorized","EBT,NBR,SBL","CrossT1,RampR1,RampL2","RAB exiting",null,375,6000,2250000,null,0,30,"","",0.46699805015542578,null,1,null,null,null,null,null,2,null,{"$f":"IF(B23=\"Diverging\",\"\",SSI_RTI_VehSpeed_RABExit)","v":30},0.66666666666666663,null,1,null,2,null,2.6666666666666665,null,2801988.3009325545,null,null,"","","","","","","","","","","","",{"$f":"IF(ISNUMBER(SEARCH(AZ$3,$D23)),1,\"\")","v":""},1,"","",null,1,"","","","","","","",1,"",1,"","","","",""]
[21,"Nonmotorized",null,"CrossNM2","Nonmotorized","WBT,WBR,WBL","CrossT2,CrossR2,CrossL2","RAB entering",null,375,7500,2812500,null,0,20,"","",0.20274912921655375,null,1,null,null,null,null,null,2,null,{"$f":"IF(B24=\"Diverging\",\"\",SSI_RTI_VehSpeed_RABEnter)","v":20},0.55555555555555558,null,1,null,2,null,2.2222222222222223,null,1267182.0576034612,null,null,{"$f":"IF(ISNUMBER(SEARCH(AN$3,$D24)),1,\"\")","v":""},"","","","","","","","","","","","",1,"","",null,"","","",1,1,1,"","","","","","","","","",""]
[22,"Nonmotorized",null,"RampNM2","Nonmotorized","WBR,EBL","CrossR2,CrossL1","RAB exiting",null,375,3750,1406250,null,0,30,"","",0.46699805015542578,null,1,null,null,null,null,null,2,null,{"$f":"IF(B25=\"Diverging\",\"\",SSI_RTI_VehSpeed_RABExit)","v":30},0.66666666666666663,null,1,null,2,null,2.6666666666666665,null,{"$f":"L25*R25*AI25","v":1751242.6880828468},null,null,"","","","","","","","","","","","","","","",1,null,"",1,"","","",1,"","","","","","","","","",""]
[null,null,null,null,null,null,null,null,null,null,null,null,null,null,null,null,null,null,null,null,null,null,null,null,null,null,null,null,null,null,null,null,null,null,null,null,null,null,"O",{"$f":"'SSI Inputs RTI'!$D$28","v":3750},{"$f":"'SSI Inputs RTI'!$D$29","v":1875},{"$f":"'SSI Inputs RTI'!$D$30","v":1875},{"$f":"'SSI Inputs RTI'!$D$32","v":3750},{"$f":"'SSI Inputs RTI'!$D$33","v":1875},{"$f":"'SSI Inputs RTI'!$D$34","v":1875},{"$f":"'SSI Inputs RTI'!$D$36","v":2250},{"$f":"'SSI Inputs RTI'!$D$37","v":1125},{"$f":"'SSI Inputs RTI'!$D$38","v":1125},{"$f":"'SSI Inputs RTI'!$D$40","v":2250},{"$f":"'SSI Inputs RTI'!$D$41","v":1125},{"$f":"'SSI Inputs RTI'!$D$42","v":1125},{"$f":"'SSI Inputs RTI'!$Q$20","v":375},{"$f":"'SSI Inputs RTI'!$Q$21","v":375},{"$f":"'SSI Inputs RTI'!$Q$22","v":375},{"$f":"'SSI Inputs RTI'!$Q$23","v":375},"O",{"$f":"'SSI Inputs RTI'!$D$28","v":3750},{"$f":"'SSI Inputs RTI'!$D$29","v":1875},{"$f":"'SSI Inputs RTI'!$D$30","v":1875},{"$f":"'SSI Inputs RTI'!$D$32","v":3750},{"$f":"'SSI Inputs RTI'!$D$33","v":1875},{"$f":"'SSI Inputs RTI'!$D$34","v":1875},{"$f":"'SSI Inputs RTI'!$D$36","v":2250},{"$f":"'SSI Inputs RTI'!$D$37","v":1125},{"$f":"'SSI Inputs RTI'!$D$38","v":1125},{"$f":"'SSI Inputs RTI'!$D$40","v":2250},{"$f":"'SSI Inputs RTI'!$D$41","v":1125},{"$f":"'SSI Inputs RTI'!$D$42","v":1125},{"$f":"'SSI Inputs RTI'!$Q$20","v":375},{"$f":"'SSI Inputs RTI'!$Q$21","v":375},{"$f":"'SSI Inputs RTI'!$Q$22","v":375},{"$f":"'SSI Inputs RTI'!$Q$23","v":375}]
[null,null,null,null,null,null,null,null,null,null,null,null,null,null,null,null,null,null,null,null,null,null,null,null,null,null,null,null,null,null,null,null,null,null,null,null,null,null,"D",{"$f":"'SSI Inputs RTI'!$E$28","v":7500},{"$f":"'SSI Inputs RTI'!$E$29","v":3750},{"$f":"'SSI Inputs RTI'!$E$30","v":3750},{"$f":"'SSI Inputs RTI'!$E$32","v":7500},{"$f":"'SSI Inputs RTI'!$E$33","v":3750},{"$f":"'SSI Inputs RTI'!$E$34","v":3750},{"$f":"'SSI Inputs RTI'!$E$36","v":2500},{"$f":"'SSI Inputs RTI'!$E$37","v":1250},{"$f":"'SSI Inputs RTI'!$E$38","v":1250},{"$f":"'SSI Inputs RTI'!$E$40","v":2500},{"$f":"'SSI Inputs RTI'!$E$41","v":1250},{"$f":"'SSI Inputs RTI'!$E$42","v":1250},{"$f":"'SSI Inputs RTI'!$R$20","v":425},{"$f":"'SSI Inputs RTI'!$R$21","v":425},{"$f":"'SSI Inputs RTI'!$R$22","v":425},{"$f":"'SSI Inputs RTI'!$R$23","v":425},"D",{"$f":"'SSI Inputs RTI'!$E$28","v":7500},{"$f":"'SSI Inputs RTI'!$E$29","v":3750},{"$f":"'SSI Inputs RTI'!$E$30","v":3750},{"$f":"'SSI Inputs RTI'!$E$32","v":7500},{"$f":"'SSI Inputs RTI'!$E$33","v":3750},{"$f":"'SSI Inputs RTI'!$E$34","v":3750},{"$f":"'SSI Inputs RTI'!$E$36","v":2500},{"$f":"'SSI Inputs RTI'!$E$37","v":1250},{"$f":"'SSI Inputs RTI'!$E$38","v":1250},{"$f":"'SSI Inputs RTI'!$E$40","v":2500},{"$f":"'SSI Inputs RTI'!$E$41","v":1250},{"$f":"'SSI Inputs RTI'!$E$42","v":1250},{"$f":"'SSI Inputs RTI'!$R$20","v":425},{"$f":"'SSI Inputs RTI'!$R$21","v":425},{"$f":"'SSI Inputs RTI'!$R$22","v":425},{"$f":"'SSI Inputs RTI'!$R$23","v":425}]
[]
[]
[]
[]
[]
[]
[]
[]
[]
[]
[]
[]
[]
[]
[]
[]
[]
[]
[]
[]
[]
[]
[]
[]
[]
[]
[]
[]
[]
[]
[]
[]
[]
[]
[]
[]
[]
[]
[]
[]
[]
[]
[]
[]
[]
[]
[]
[]
[]
[]
[]
[]
[]
[]
[]
[]
[]
[]
[]
[]
[]
[]
[]
[]
[]
[]
[]
[]
[]
[]
[]
[]
[]
[null,null,null,null,null,null,null,null,null,"Exposure",null,null,null,null,null,null,null,null,null,null,null,null,null,null,null,null,null,null,null,null,null,null,null,null,null,null,"Exposure-Severity-Complexity Product"]
[null,null,null,null,null,null,null,null,null,"Q1","Q2","I"]
[null,null,null,null,null,null,null,null,null,{"$f":"SUMPRODUCT($AN4:$BC4,$AN$27:$BC$27)","v":8750},{"$f":"SUMPRODUCT($BE4:$BT4,$BE$27:$BT$27)","v":1250},{"$f":"PRODUCT(J103:K103)","v":10937500},null,null,null,null,null,null,null,null,null,null,null,null,null,null,null,null,null,null,null,null,null,null,null,null,{"$f":"L103*R4*AI4","v":55742.154664995898}]
[null,null,null,null,null,null,null,null,null,{"$f":"SUMPRODUCT($AN5:$BC5,$AN$27:$BC$27)","v":8750},{"$f":"SUMPRODUCT($BE5:$BT5,$BE$27:$BT$27)","v":1250},{"$f":"PRODUCT(J104:K104)","v":10937500},null,null,null,null,null,null,null,null,null,null,null,null,null,null,null,null,null,null,null,null,null,null,null,null,{"$f":"L104*R5*AI5","v":55742.154664995898}]
[null,null,null,null,null,null,null,null,null,8750,1250,10937500,null,null,null,null,null,null,null,null,null,null,null,null,null,null,null,null,null,null,null,null,null,null,null,null,21236.541950583909]
[null,null,null,null,null,null,null,null,null,3750,1250,4687500,null,null,null,null,null,null,null,null,null,null,null,null,null,null,null,null,null,null,null,null,null,null,null,null,5347.4888517691279]
[null,null,null,null,null,null,null,null,null,15000,5000,75000000,null,null,null,null,null,null,null,null,null,null,null,null,null,null,null,null,null,null,null,null,null,null,null,null,85559.821628306046]
[null,null,null,null,null,null,null,null,null,3750,1250,4687500,null,null,null,null,null,null,null,null,null,null,null,null,null,null,null,null,null,null,null,null,null,null,null,null,5347.4888517691279]
[null,null,null,null,null,null,null,null,null,8750,1250,10937500,null,null,null,null,null,null,null,null,null,null,null,null,null,null,null,null,null,null,null,null,null,null,null,null,21236.541950583909]
[null,null,null,null,null,null,null,null,null,15000,5000,75000000,null,null,null,null,null,null,null,null,null,null,null,null,null,null,null,null,null,null,null,null,null,null,null,null,85559.821628306046]
[null,null,null,null,null,null,null,null,null,1250,1250,1562500,null,null,null,null,null,null,null,null,null,null,null,null,null,null,null,null,null,null,null,null,null,null,null,null,28.839227105265373]
[null,null,null,null,null,null,null,null,null,8750,3750,32812500,null,null,null,null,null,null,null,null,null,null,null,null,null,null,null,null,null,null,null,null,null,null,null,null,841.07992681422695]
[null,null,null,null,null,null,null,null,null,12500,7500,93750000,null,null,null,null,null,null,null,null,null,null,null,null,null,null,null,null,null,null,null,null,null,null,null,null,2403.0855051835056]
[null,null,null,null,null,null,null,null,null,1250,1250,1562500,null,null,null,null,null,null,null,null,null,null,null,null,null,null,null,null,null,null,null,null,null,null,null,null,28.839227105265373]
[null,null,null,null,null,null,null,null,null,8750,3750,32812500,null,null,null,null,null,null,null,null,null,null,null,null,null,null,null,null,null,null,null,null,null,null,null,null,841.07992681422695]
[null,null,null,null,null,null,null,null,null,12500,7500,93750000,null,null,null,null,null,null,null,null,null,null,null,null,null,null,null,null,null,null,null,null,null,null,null,null,2403.0855051835056]
[null,null,null,null,null,null,null,null,null,425,2500,1062500,null,null,null,null,null,null,null,null,null,null,null,null,null,null,null,null,null,null,null,null,null,null,null,null,478713.2217613075]
[null,null,null,null,null,null,null,null,null,425,10000,4250000,null,null,null,null,null,null,null,null,null,null,null,null,null,null,null,null,null,null,null,null,null,null,null,null,5292644.5684281588]
[null,null,null,null,null,null,null,null,null,425,15000,6375000,null,null,null,null,null,null,null,null,null,null,null,null,null,null,null,null,null,null,null,null,null,null,null,null,2872279.3305678451]
[null,null,null,null,null,null,null,null,null,425,7500,3187500,null,null,null,null,null,null,null,null,null,null,null,null,null,null,null,null,null,null,null,null,null,null,null,null,3969483.4263211191]
[null,null,null,null,null,null,null,null,null,425,2500,1062500,null,null,null,null,null,null,null,null,null,null,null,null,null,null,null,null,null,null,null,null,null,null,null,null,478713.2217613075]
[null,null,null,null,null,null,null,null,null,425,10000,4250000,null,null,null,null,null,null,null,null,null,null,null,null,null,null,null,null,null,null,null,null,null,null,null,null,5292644.5684281588]
[null,null,null,null,null,null,null,null,null,425,15000,6375000,null,null,null,null,null,null,null,null,null,null,null,null,null,null,null,null,null,null,null,null,null,null,null,null,2872279.3305678451]
[null,null,null,null,null,null,null,null,null,425,7500,3187500,null,null,null,null,null,null,null,null,null,null,null,null,null,null,null,null,null,null,null,null,null,null,null,null,3969483.4263211191]

{"sheet":"TUDI","index":16,"n_rows":142,"n_cols":72,"rows_kept":142,"cut":false,"hidden":true,"merged":[[1,34,2,34],[1,36,2,36],[1,39,1,52],[1,56,1,69],[100,9,100,11],[100,36,101,36],[0,19,0,28],[0,30,0,32],[1,9,1,11],[1,13,1,17],[1,21,1,25],[1,27,1,28],[1,30,2,30],[1,31,2,31],[1,32,2,32]]}
[null,null,null,null,null,null,null,null,null,null,null,null,null,null,null,null,null,null,null,"Conflicting Traffic Complexity",null,null,null,null,null,null,null,null,null,null,"Pedestrian Complexity"]
[null,null,null,null,null,null,null,null,null,"Exposure",null,null,null,"Severity",null,null,null,null,null,"Traffic Control",null,"Conflicting Lanes",null,null,null,null,null,"Conflicting Speed",null,null,"Indirect Paths Indicator","Non-intuitive movements indicator","Pedestrian Complexity factor",null,"Total Complexity Multiplier",null,"Exposure-Severity-Complexity Product",null,null,"Included in Mvmt1",null,null,null,null,null,null,null,null,null,null,null,null,null,null,null,null,"Included in Mvmt2"]
["#","Conflict Type","Mvmt1","Mvmt1_gen","Mvmt1_SpeedCat","Mvmt2","Mvmt2_gen","Mvmt2_SpeedCat",null,"Q1","Q2","I",null,"Speed_V1","Speed_V2","Angle","delta_V","P_FSI",null,null,null,"CrossC","RampC","CrossM/P","RampM/P","Score",null,"Speed","Factor",null,null,null,null,null,null,null,null,null,null,"CrossT1","CrossL1","CrossR1","CrossT2","CrossL2","CrossR2","RampT1","RampL1","RampR1","RampT2","RampL2","RampR2","CrossNM1","CrossNM2","RampNM1","RampNM2",null,"CrossT1","CrossL1","CrossR1","CrossT2","CrossL2","CrossR2","RampT1","RampL1","RampR1","RampT2","RampL2","RampR2","CrossNM1","CrossNM2","RampNM1","RampNM2"]
[1,"Crossing - LT","WBT, NBL","CrossT2, RampL1","Cross thru","SBL","RampL2","Signal near",null,{"$f":"SUMPRODUCT($AN4:$BC4,$AN$44:$BC$44)","v":4875},{"$f":"SUMPRODUCT($BE4:$BT4,$BE$44:$BT$44)","v":1125},{"$f":"PRODUCT(J4:K4)","v":5484375},null,{"$f":"VLOOKUP(E4,SSI_RTI_Range_VehSpeed,5,FALSE)","v":40},{"$f":"VLOOKUP(H4,SSI_RTI_Range_VehSpeed,5,FALSE)","v":15},{"$f":"IF(B4=\"Nonmotorized\",\"\",VLOOKUP(B4,SSI_RTI_Range_CollAngles,5,FALSE))","v":230},{"$f":"IF(B4=\"Nonmotorized\",\"\",SQRT(N4^2+O4^2-2*N4*O4*COS(RADIANS(P4)))/2)","v":25.477171799592707},{"$f":"IF(B4=\"Nonmotorized\",1/(1+EXP(3.8432-0.1237*O4)),(Q4/SSI_RTI_RegAlpha)^SSI_RTI_RegK+(Q4/SSI_RTI_RegAlpha)^SSI_RTI_RegK-((Q4/SSI_RTI_RegAlpha)^SSI_RTI_RegK)*((Q4/SSI_RTI_RegAlpha)^SSI_RTI_RegK))","v":4.955895980669895E-2},null,{"$f":"SSI_RTI_ProtFactor","v":0.505},null,1,null,1,null,{"$f":"MAX(1,IF(B4<>\"Pedestrian\",V4*SSI_RTI_CrossThruLanes+W4*SSI_RTI_Ramp1ThruLanes+X4*IF(SSI_RTI_CrossThruLanes=1,SSI_RTI_MergeWeightL1,IF(SSI_RTI_CrossThruLanes=2,SSI_RTI_MergeWeightL1+SSI_RTI_MergeWeightL2,SSI_RTI_MergeWeightL1+SSI_RTI_MergeWeightL2+SSI_RTI_MergeWeightL3*(SSI_RTI_CrossThruLanes-2)))+Y4*IF(SSI_RTI_Ramp1ThruLanes=1,SSI_RTI_MergeWeightL1,IF(SSI_RTI_Ramp1ThruLanes=2,SSI_RTI_MergeWeightL1+SSI_RTI_MergeWeightL2,SSI_RTI_MergeWeightL1+SSI_RTI_MergeWeightL2+SSI_RTI_MergeWeightL3*(SSI_RTI_Ramp1ThruLanes-2))),V4*SSI_RTI_CrossThruLanes+W4*SSI_RTI_Ramp1ThruLanes+X4*IF(SSI_RTI_CrossThruLanes=1,SSI_RTI_NM_MergeWeightL1,IF(SSI_RTI_CrossThruLanes=2,SSI_RTI_NM_MergeWeightL1+SSI_RTI_NM_MergeWeightL2,SSI_RTI_NM_MergeWeightL1+SSI_RTI_NM_MergeWeightL2+SSI_RTI_NM_MergeWeightL3*(SSI_RTI_CrossThruLanes-2)))+Y4*IF(SSI_RTI_Ramp1ThruLanes=1,SSI_RTI_NM_MergeWeightL1,IF(SSI_RTI_Ramp1ThruLanes=2,SSI_RTI_NM_MergeWeightL1+SSI_RTI_NM_MergeWeightL2,SSI_RTI_NM_MergeWeightL1+SSI_RTI_NM_MergeWeightL2+SSI_RTI_NM_MergeWeightL3*(SSI_RTI_Ramp1ThruLanes-2)))))","v":3.75},null,{"$f":"IF(B4=\"Diverging\",\"\",SSI_RTI_VehSpeed_CrossThru)","v":40},{"$f":"IF(B4=\"Diverging\",1,1-((60-AB4)/60*0.1/0.15))","v":0.77777777777777779},null,null,null,{"$f":"IF(SSI_RTI_ConsiderNMComplexity=\"Yes\",1+AE4+AF4,1)","v":1},null,{"$f":"PRODUCT(Z4,T4,AC4,AG4)","v":1.4729166666666667},null,{"$f":"L4*R4*AI4","v":400338.63244632137},null,null,{"$f":"IF(ISNUMBER(SEARCH(AN$3,$D4)),1,\"\")","v":""},{"$f":"IF(ISNUMBER(SEARCH(AO$3,$D4)),1,\"\")","v":""},"",1,"","","",1,"","","","","","","","",null,{"$f":"IF(ISNUMBER(SEARCH(BE$3,$G4)),1,\"\")","v":""},{"$f":"IF(ISNUMBER(SEARCH(BF$3,$G4)),1,\"\")","v":""},"","","","","","","","",1,"","","","",""]
[2,"Crossing - LT","WBL","CrossL2","Cross left","SBL","RampL2","Signal far",null,{"$f":"SUMPRODUCT($AN5:$BC5,$AN$44:$BC$44)","v":1875},{"$f":"SUMPRODUCT($BE5:$BT5,$BE$44:$BT$44)","v":1125},{"$f":"PRODUCT(J5:K5)","v":2109375},null,20,25,230,{"$f":"IF(B5=\"Nonmotorized\",\"\",SQRT(N5^2+O5^2-2*N5*O5*COS(RADIANS(P5)))/2)","v":20.419277715473552},2.1555284139167373E-2,null,0.505,null,1,null,1,null,3.75,null,40,0.77777777777777779,null,null,null,1,null,1.4729166666666667,null,{"$f":"L5*R5*AI5","v":66970.836414805657},null,null,{"$f":"IF(ISNUMBER(SEARCH(AN$3,$D5)),1,\"\")","v":""},"","","",1,"","","","","","","","","","","",null,{"$f":"IF(ISNUMBER(SEARCH(BE$3,$G5)),1,\"\")","v":""},"","","","","","","","","",1,"","","","",""]
[3,"Crossing - LT","EBL","CrossL1","Cross left","WBL","CrossL2","Cross left",null,1875,1875,3515625,null,20,20,230,18.126155740733001,1.3743775999266584E-2,null,0.505,null,1,null,1,null,3.75,null,40,0.77777777777777779,null,null,null,1,null,1.4729166666666667,null,71168.332261827207,null,null,"",1,"","","","","","","","","","","","","","",null,"","","","",1,"","","","","","","","","","",""]
[4,"Crossing - LT","EBL","CrossL1","Cross left","SBL","RampL2","Signal far",null,1875,1125,2109375,null,20,25,230,20.419277715473552,2.1555284139167373E-2,null,0.505,null,1,null,1,null,3.75,null,40,0.77777777777777779,null,null,null,1,null,1.4729166666666667,null,66970.836414805657,null,null,"",1,"","","","","","","","","","","","","","",null,"","","","","","","","","","",1,"","","","",""]
[5,"Crossing - LT","EBT","CrossT1","Cross thru","WBL","CrossL2","Cross left",null,3750,1875,7031250,null,40,20,230,27.515723575341713,6.6083846594169424E-2,null,0.505,null,1,null,1,null,3.75,null,40,0.77777777777777779,null,null,null,1,null,1.4729166666666667,null,684393.74329215498,null,null,1,"","","","","","","","","","","","","","","",null,"","","","",1,"","","","","","","","","","",""]
[6,"Crossing - LT","EBT, SBL","CrossT1, RampL2","Cross thru","NBL","RampL1","Signal near",null,4875,1125,5484375,null,40,15,230,25.477171799592707,4.955895980669895E-2,null,0.505,null,1,null,1,null,3.75,null,40,0.77777777777777779,null,null,null,1,null,1.4729166666666667,null,400338.63244632137,null,null,{"$f":"IF(ISNUMBER(SEARCH(AN$3,$D9)),1,\"\")","v":1},"","","","","","","","","",1,"","","","","",null,"","","","","","","",1,"","","","","","","",""]
[7,"Crossing - LT","EBL","CrossL1","Cross left","NBL","RampL1","Signal far",null,1875,1125,2109375,null,20,25,230,20.419277715473552,2.1555284139167373E-2,null,0.505,null,1,null,1,null,3.75,null,40,0.77777777777777779,null,null,null,1,null,1.4729166666666667,null,66970.836414805657,null,null,{"$f":"IF(ISNUMBER(SEARCH(AN$3,$D10)),1,\"\")","v":""},1,"","","","","","","","","","","","","","",null,"","","","","","","",1,"","","","","","","",""]
[8,"Crossing - LT","WBL","CrossL2","Cross left","EBL","CrossL1","Cross left",null,1875,1875,3515625,null,20,20,230,18.126155740733001,1.3743775999266584E-2,null,0.505,null,1,null,1,null,3.75,null,40,0.77777777777777779,null,null,null,1,null,1.4729166666666667,null,71168.332261827207,null,null,"","","","",1,"","","","","","","","","","","",null,"",1,"","","","","","","","","","","","","",""]
[9,"Crossing - LT","WBL","CrossL2","Cross left","NBL","RampL1","Signal far",null,1875,1125,2109375,null,20,25,230,20.419277715473552,2.1555284139167373E-2,null,0.505,null,1,null,1,null,3.75,null,40,0.77777777777777779,null,null,null,1,null,1.4729166666666667,null,66970.836414805657,null,null,"","","","",1,"","","","","","","","","","","",null,"","","","","","","",1,"","","","","","","",""]
[10,"Crossing - LT","WBT","CrossT2","Cross thru","EBL","CrossL1","Cross left",null,3750,1875,7031250,null,40,20,230,27.515723575341713,6.6083846594169424E-2,null,0.505,null,1,null,1,null,3.75,null,40,0.77777777777777779,null,null,null,1,null,1.4729166666666667,null,684393.74329215498,null,null,"","","",1,"","","","","","","","","","","","",null,"",1,"","","","","","","","","","","","","",""]
[11,"Merging","WBT, NBL","CrossT2, RampL1","Cross thru","SBR","RampR2","Signal near",null,4875,1125,5484375,null,40,15,45,15.62427488378375,7.8340357658475412E-3,null,0.505,null,null,null,1,null,1.75,null,40,0.77777777777777779,null,null,null,1,null,0.6873611111111112,null,29532.325726601564,null,null,"","","",1,"","","",1,"","","","","","","","",null,"","","","","","","","","","","",1,"","","",""]
[12,"Merging","EBR","CrossR1","Cross right","WBL","CrossL2","Cross left",null,1875,1875,3515625,null,15,20,45,7.0840654162717795,3.9022923271840685E-4,null,0.505,null,1,null,1,null,3.75,null,40,0.77777777777777779,null,null,null,1,null,1.4729166666666667,null,2020.6938539935081,null,null,"","",1,"","","","","","","","","","","","","",null,"","","","",1,"","","","","","","","","","",""]
[13,"Merging","EBT","CrossT1","Cross thru","SBL","RampL2","Signal far",null,3750,1125,4218750,null,40,25,45,14.237155945157243,5.5084599291000359E-3,null,0.505,null,1,null,1,null,3.75,null,40,0.77777777777777779,null,null,null,1,null,1.4729166666666667,null,34228.838407093288,null,null,1,"","","","","","","","","","","","","","","",null,"","","","","","","","","","",1,"","","","",""]
[14,"Merging","EBT, SBL","CrossT1, RampL2","Cross thru","NBR","RampR1","Signal near",null,4875,1125,5484375,null,40,15,45,15.62427488378375,7.8340357658475412E-3,null,0.505,null,null,null,1,null,1.75,null,40,0.77777777777777779,null,null,null,1,null,0.6873611111111112,null,29532.325726601564,null,null,1,"","","","","","","","","",1,"","","","","",null,"","","","","","","","",1,"","","","","","",""]
[15,"Merging","WBR","CrossR2","Cross right","EBL","CrossL1","Cross left",null,1875,1875,3515625,null,15,20,45,7.0840654162717795,3.9022923271840685E-4,null,0.505,null,1,null,1,null,3.75,null,40,0.77777777777777779,null,null,null,1,null,1.4729166666666667,null,2020.6938539935081,null,null,"","","","","",1,"","","","","","","","","","",null,"",1,"","","","","","","","","","","","","",""]
[16,"Merging","WBT","CrossT2","Cross thru","NBL","RampL1","Signal far",null,3750,1125,4218750,null,40,25,45,14.237155945157243,5.5084599291000359E-3,null,0.505,null,1,null,1,null,3.75,null,40,0.77777777777777779,null,null,null,1,null,1.4729166666666667,null,34228.838407093288,null,null,"","","",1,"","","","","","","","","","","","",null,"","","","","","","",1,"","","","","","","",""]
[17,"Diverging","SBR","RampR2","Signal near","SBL","RampL2","Signal near",null,1125,1125,1265625,null,15,15,10,1.3073361412148754,6.4061388075216188E-7,null,{"$f":"SSI_RTI_PermFactor","v":1},null,null,null,null,null,1,null,"",1,null,null,null,1,null,1,null,0.81077694282695489,null,null,"","","","","","","","","","","",1,"","","","",null,"","","","","","","","","","",1,"","","","",""]
[18,"Diverging","EBT, EBR","CrossT1, CrossR1","Cross thru","EBL","CrossL1","Cross left",null,5625,1875,10546875,null,40,20,10,10.299363999544671,1.6139822402002194E-3,null,1,null,null,null,null,null,1,null,"",1,null,null,null,1,null,1,null,17022.468939611688,null,null,1,"",1,"","","","","","","","","","","","","",null,"",1,"","","","","","","","","","","","","",""]
[19,"Diverging","EBT","CrossT1","Cross thru","EBR","CrossR1","Cross right",null,3750,1875,7031250,null,40,15,10,12.680996573469201,3.5521749218507754E-3,null,1,null,null,null,null,null,1,null,"",1,null,null,null,1,null,1,null,24976.229919263264,null,null,1,"","","","","","","","","","","","","","","",null,"","",1,"","","","","","","","","","","","",""]
[20,"Diverging","NBR","RampR1","Signal near","NBL","RampL1","Signal near",null,1125,1125,1265625,null,15,15,10,1.3073361412148754,6.4061388075216188E-7,null,1,null,null,null,null,null,1,null,"",1,null,null,null,1,null,1,null,0.81077694282695489,null,null,"","","","","","","","",1,"","","","","","","",null,"","","","","","","",1,"","","","","","","",""]
[21,"Diverging","WBT, WBR","CrossT2, CrossR2","Cross thru","WBL","CrossL2","Cross left",null,5625,1875,10546875,null,40,20,10,10.299363999544671,1.6139822402002194E-3,null,1,null,null,null,null,null,1,null,"",1,null,null,null,1,null,1,null,17022.468939611688,null,null,"","","",1,"",1,"","","","","","","","","","",null,"","","","",1,"","","","","","","","","","",""]
[22,"Diverging","WBT","CrossT2","Cross thru","WBR","CrossR2","Cross right",null,3750,1875,7031250,null,40,15,10,12.680996573469201,3.5521749218507754E-3,null,1,null,null,null,null,null,1,null,"",1,null,null,null,1,null,1,null,24976.229919263264,null,null,"","","",1,"","","","","","","","","","","","",null,"","","","","",1,"","","","","","","","","",""]
[23,"Nonmotorized",null,"RampNM2","Nonmotorized","SBL","RampL2","Signal near",null,375,1125,421875,null,0,15,"","",0.1205004039155782,null,{"$f":"SSI_RTI_ProtFactor","v":0.505},null,null,1,null,null,1,null,{"$f":"IF(B26=\"Diverging\",\"\",SSI_RTI_VehSpeed_SignalNear)","v":15},0.49999999999999989,null,null,null,1,null,0.25249999999999995,null,12836.117245225847,null,null,"","","","","","","","","","","","","","","",1,null,"","","","","","","","","","",1,"","","","",""]
[24,"Nonmotorized",null,"RampNM2","Nonmotorized","SBR","RampR2","Signal near",null,375,1125,421875,null,0,15,"","",0.1205004039155782,null,0.505,null,null,1,null,null,1,null,{"$f":"IF(B27=\"Diverging\",\"\",SSI_RTI_VehSpeed_SignalNear)","v":15},0.49999999999999989,null,null,null,1,null,0.25249999999999995,null,12836.117245225847,null,null,"","","","","","","","","","","","","","","",1,null,"","","","","","","","","","","",1,"","","",""]
[25,"Nonmotorized",null,"CrossNM1","Nonmotorized","SBR","RampR2","Signal near",null,375,1125,421875,null,0,15,"","",0.1205004039155782,null,0.505,null,2,null,null,1,5,null,{"$f":"IF(B28=\"Diverging\",\"\",SSI_RTI_VehSpeed_CrossThru)","v":40},0.77777777777777779,null,null,null,1,null,1.9638888888888888,null,99836.467462867717,null,null,"","","","","","","","","","","","",1,"","","",null,"","","","","","","","","","","",1,"","","",""]
[26,"Nonmotorized",null,"CrossNM1","Nonmotorized","WBT, NBL","CrossT2, RampL1","Cross thru",null,375,4875,1828125,null,0,40,"","",0.75115840021714742,null,0.505,null,2,null,null,1,5,null,40,0.77777777777777779,null,null,null,1,null,1.9638888888888888,null,2696834.7095296104,null,null,"","","","","","","","","","","","",1,"","","",null,"","","",1,"","","",1,"","","","","","","",""]
[27,"Nonmotorized",null,"CrossNM1","Nonmotorized","EBL","CrossL1","Cross left",null,375,1875,703125,null,0,20,"","",0.20274912921655375,null,0.505,null,2,null,null,1,5,null,40,0.77777777777777779,null,null,null,1,null,1.9638888888888888,null,279968.03585176467,null,null,"","","","","","","","","","","","",1,"","","",null,"",1,"","","","","","","","","","","","","",""]
[28,"Nonmotorized",null,"CrossNM1","Nonmotorized","EBT","CrossT1","Cross thru",null,375,3750,1406250,null,0,40,"","",0.75115840021714742,null,0.505,null,2,null,null,1,5,null,40,0.77777777777777779,null,null,null,1,null,1.9638888888888888,null,{"$f":"L31*R31*AI31","v":2074488.2380996998},null,null,"","","","","","","","","","","","",1,"","","",null,1,"","","","","","","","","","","","","","",""]
[29,"Nonmotorized",null,"CrossNM1","Nonmotorized","EBR","CrossR1","Cross right",null,375,1875,703125,null,0,15,"","",0.1205004039155782,null,0.505,null,2,null,null,1,5,null,40,0.77777777777777779,null,null,null,1,null,1.9638888888888888,null,166394.11243811288,null,null,"","","","","","","","","","","","",1,"","","",null,"","",1,"","","","","","","","","","","","",""]
[30,"Nonmotorized",null,"RampNM1","Nonmotorized","EBR","CrossR1","Cross right",null,375,1875,703125,null,0,15,"","",0.1205004039155782,null,0.505,null,null,1,2,null,4.5,null,40,0.77777777777777779,null,null,null,1,null,1.7675000000000001,null,149754.7011943016,null,null,"","","","","","","","","","","","","","",1,"",null,"","",{"$f":"IF(ISNUMBER(SEARCH(BG$3,$G33)),1,\"\")","v":1},"","","","","","","","","","","","",""]
[31,"Nonmotorized",null,"RampNM1","Nonmotorized","WBL","CrossL2","Cross left",null,375,1875,703125,null,0,20,"","",0.20274912921655375,null,0.505,null,null,1,2,null,4.5,null,40,0.77777777777777779,null,null,null,1,null,1.7675000000000001,null,251971.23226658822,null,null,"","","","","","","","","","","","","","",1,"",null,{"$f":"IF(ISNUMBER(SEARCH(BE$3,$G34)),1,\"\")","v":""},"","","",1,"","","","","","","","","","",""]
[32,"Nonmotorized",null,"RampNM1","Nonmotorized","NBL","RampL1","Signal near",null,375,1125,421875,null,0,15,"","",0.1205004039155782,null,0.505,null,null,1,null,null,1,null,{"$f":"IF(B35=\"Diverging\",\"\",SSI_RTI_VehSpeed_SignalNear)","v":15},0.49999999999999989,null,null,null,1,null,0.25249999999999995,null,12836.117245225847,null,null,"","","","","","","","","","","","","","",1,"",null,"","","","","","","",1,"","","","","","","",""]
[33,"Nonmotorized",null,"RampNM1","Nonmotorized","NBR","RampR1","Signal near",null,375,1125,421875,null,0,15,"","",0.1205004039155782,null,0.505,null,null,1,null,null,1,null,{"$f":"IF(B36=\"Diverging\",\"\",SSI_RTI_VehSpeed_SignalNear)","v":15},0.49999999999999989,null,null,null,1,null,0.25249999999999995,null,12836.117245225847,null,null,"","","","","","","","","","","","","","",1,"",null,"","","","","","","","",1,"","","","","","",""]
[34,"Nonmotorized",null,"CrossNM2","Nonmotorized","NBR","RampR1","Signal near",null,375,1125,421875,null,0,15,"","",0.1205004039155782,null,0.505,null,2,null,null,1,5,null,{"$f":"IF(B37=\"Diverging\",\"\",SSI_RTI_VehSpeed_CrossThru)","v":40},0.77777777777777779,null,null,null,1,null,1.9638888888888888,null,99836.467462867717,null,null,"","","","","","","","","","","","","",1,"","",null,"","","","","","","","",1,"","","","","","",""]
[35,"Nonmotorized",null,"CrossNM2","Nonmotorized","EBT, SBL","CrossT1, RampL2","Cross thru",null,375,4875,1828125,null,0,40,"","",0.75115840021714742,null,0.505,null,2,null,null,1,5,null,40,0.77777777777777779,null,null,null,1,null,1.9638888888888888,null,2696834.7095296104,null,null,"","","","","","","","","","","","","",1,"","",null,1,"","","","","","","","","",1,"","","","",""]
[36,"Nonmotorized",null,"CrossNM2","Nonmotorized","WBL","CrossL2","Cross left",null,375,1875,703125,null,0,20,"","",0.20274912921655375,null,0.505,null,2,null,null,1,5,null,40,0.77777777777777779,null,null,null,1,null,1.9638888888888888,null,279968.03585176467,null,null,"","",{"$f":"IF(ISNUMBER(SEARCH(AP$3,$D39)),1,\"\")","v":""},"","","","","","","","","","",1,"","",null,"","","","",1,"","","","","","","","","","",""]
[37,"Nonmotorized",null,"CrossNM2","Nonmotorized","WBT","CrossT2","Cross thru",null,375,3750,1406250,null,0,40,"","",0.75115840021714742,null,0.505,null,2,null,null,1,5,null,40,0.77777777777777779,null,null,null,1,null,1.9638888888888888,null,2074488.2380996998,null,null,{"$f":"IF(ISNUMBER(SEARCH(AN$3,$D40)),1,\"\")","v":""},"","","","","","","","","","","","",1,"","",null,"","","",1,"","","","","","","","","","","",""]
[38,"Nonmotorized",null,"CrossNM2","Nonmotorized","WBR","CrossR2","Cross right",null,375,1875,703125,null,0,15,"","",0.1205004039155782,null,0.505,null,2,null,null,1,5,null,40,0.77777777777777779,null,null,null,1,null,1.9638888888888888,null,166394.11243811288,null,null,"","","","","","","","","","","","","",1,"","",null,"","","","","",1,"","","","","","","","","",""]
[39,"Nonmotorized",null,"RampNM2","Nonmotorized","WBR","CrossR2","Cross right",null,375,1875,703125,null,0,15,"",{"$f":"IF(B42=\"Nonmotorized\",\"\",SQRT(N42^2+O42^2-2*N42*O42*COS(RADIANS(P42)))/2)","v":""},0.1205004039155782,null,0.505,null,null,1,2,null,4.5,null,40,0.77777777777777779,null,null,null,1,null,1.7675000000000001,null,149754.7011943016,null,null,"","","","","","","","","","","","","","","",1,null,"","","","","",1,"","","","","","","","","",""]
[40,"Nonmotorized",null,"RampNM2","Nonmotorized","EBL","CrossL1","Cross left",null,375,1875,{"$f":"PRODUCT(J43:K43)","v":703125},null,0,20,"","",0.20274912921655375,null,0.505,null,null,1,2,null,4.5,null,40,0.77777777777777779,null,null,null,1,null,1.7675000000000001,null,251971.23226658822,null,null,"","","","","","","","","","","","","","","",1,null,"",1,"","","","","","","","","","","","","",""]
[null,null,null,null,null,null,null,null,null,null,null,null,null,null,null,null,null,null,null,null,null,null,null,null,null,null,null,null,null,null,null,null,null,null,null,null,null,null,"O",{"$f":"'SSI Inputs RTI'!$D$28","v":3750},{"$f":"'SSI Inputs RTI'!$D$29","v":1875},{"$f":"'SSI Inputs RTI'!$D$30","v":1875},{"$f":"'SSI Inputs RTI'!$D$32","v":3750},{"$f":"'SSI Inputs RTI'!$D$33","v":1875},{"$f":"'SSI Inputs RTI'!$D$34","v":1875},{"$f":"'SSI Inputs RTI'!$D$36","v":2250},{"$f":"'SSI Inputs RTI'!$D$37","v":1125},{"$f":"'SSI Inputs RTI'!$D$38","v":1125},{"$f":"'SSI Inputs RTI'!$D$40","v":2250},{"$f":"'SSI Inputs RTI'!$D$41","v":1125},{"$f":"'SSI Inputs RTI'!$D$42","v":1125},{"$f":"'SSI Inputs RTI'!$Q$20","v":375},{"$f":"'SSI Inputs RTI'!$Q$21","v":375},{"$f":"'SSI Inputs RTI'!$Q$22","v":375},{"$f":"'SSI Inputs RTI'!$Q$23","v":375},"O",{"$f":"'SSI Inputs RTI'!$D$28","v":3750},{"$f":"'SSI Inputs RTI'!$D$29","v":1875},{"$f":"'SSI Inputs RTI'!$D$30","v":1875},{"$f":"'SSI Inputs RTI'!$D$32","v":3750},{"$f":"'SSI Inputs RTI'!$D$33","v":1875},{"$f":"'SSI Inputs RTI'!$D$34","v":1875},{"$f":"'SSI Inputs RTI'!$D$36","v":2250},{"$f":"'SSI Inputs RTI'!$D$37","v":1125},{"$f":"'SSI Inputs RTI'!$D$38","v":1125},{"$f":"'SSI Inputs RTI'!$D$40","v":2250},{"$f":"'SSI Inputs RTI'!$D$41","v":1125},{"$f":"'SSI Inputs RTI'!$D$42","v":1125},{"$f":"'SSI Inputs RTI'!$Q$20","v":375},{"$f":"'SSI Inputs RTI'!$Q$21","v":375},{"$f":"'SSI Inputs RTI'!$Q$22","v":375},{"$f":"'SSI Inputs RTI'!$Q$23","v":375}]
[null,null,null,null,null,null,null,null,null,null,null,null,null,null,null,null,null,null,null,null,null,null,null,null,null,null,null,null,null,null,null,null,null,null,null,null,null,null,"D",{"$f":"'SSI Inputs RTI'!$E$28","v":7500},{"$f":"'SSI Inputs RTI'!$E$29","v":3750},{"$f":"'SSI Inputs RTI'!$E$30","v":3750},{"$f":"'SSI Inputs RTI'!$E$32","v":7500},{"$f":"'SSI Inputs RTI'!$E$33","v":3750},{"$f":"'SSI Inputs RTI'!$E$34","v":3750},{"$f":"'SSI Inputs RTI'!$E$36","v":2500},{"$f":"'SSI Inputs RTI'!$E$37","v":1250},{"$f":"'SSI Inputs RTI'!$E$38","v":1250},{"$f":"'SSI Inputs RTI'!$E$40","v":2500},{"$f":"'SSI Inputs RTI'!$E$41","v":1250},{"$f":"'SSI Inputs RTI'!$E$42","v":1250},{"$f":"'SSI Inputs RTI'!$R$20","v":425},{"$f":"'SSI Inputs RTI'!$R$21","v":425},{"$f":"'SSI Inputs RTI'!$R$22","v":425},{"$f":"'SSI Inputs RTI'!$R$23","v":425},"D",{"$f":"'SSI Inputs RTI'!$E$28","v":7500},{"$f":"'SSI Inputs RTI'!$E$29","v":3750},{"$f":"'SSI Inputs RTI'!$E$30","v":3750},{"$f":"'SSI Inputs RTI'!$E$32","v":7500},{"$f":"'SSI Inputs RTI'!$E$33","v":3750},{"$f":"'SSI Inputs RTI'!$E$34","v":3750},{"$f":"'SSI Inputs RTI'!$E$36","v":2500},{"$f":"'SSI Inputs RTI'!$E$37","v":1250},{"$f":"'SSI Inputs RTI'!$E$38","v":1250},{"$f":"'SSI Inputs RTI'!$E$40","v":2500},{"$f":"'SSI Inputs RTI'!$E$41","v":1250},{"$f":"'SSI Inputs RTI'!$E$42","v":1250},{"$f":"'SSI Inputs RTI'!$R$20","v":425},{"$f":"'SSI Inputs RTI'!$R$21","v":425},{"$f":"'SSI Inputs RTI'!$R$22","v":425},{"$f":"'SSI Inputs RTI'!$R$23","v":425}]
[]
[]
[]
[]
[]
[]
[]
[]
[]
[]
[]
[]
[]
[]
[]
[]
[]
[]
[]
[]
[]
[]
[]
[]
[]
[]
[]
[]
[]
[]
[]
[]
[]
[]
[]
[]
[]
[]
[]
[]
[]
[]
[]
[]
[]
[]
[]
[]
[]
[]
[]
[]
[]
[]
[]
[null,null,null,null,null,null,null,null,null,"Exposure",null,null,null,null,null,null,null,null,null,null,null,null,null,null,null,null,null,null,null,null,null,null,null,null,null,null,"Exposure-Severity-Complexity Product"]
[null,null,null,null,null,null,null,null,null,"Q1","Q2","I"]
[null,null,null,null,null,null,null,null,null,{"$f":"SUMPRODUCT($AN4:$BC4,$AN$45:$BC$45)","v":8750},{"$f":"SUMPRODUCT($BE4:$BT4,$BE$45:$BT$45)","v":1250},{"$f":"PRODUCT(J103:K103)","v":10937500},null,null,null,null,null,null,null,null,null,null,null,null,null,null,null,null,null,null,null,null,null,null,null,null,{"$f":"L103*R4*AI4","v":798396.13308383175}]
[null,null,null,null,null,null,null,null,null,{"$f":"SUMPRODUCT($AN5:$BC5,$AN$45:$BC$45)","v":3750},{"$f":"SUMPRODUCT($BE5:$BT5,$BE$45:$BT$45)","v":1250},{"$f":"PRODUCT(J104:K104)","v":4687500},null,null,null,null,null,null,null,null,null,null,null,null,null,null,null,null,null,null,null,null,null,null,null,null,{"$f":"L104*R5*AI5","v":148824.08092179036}]
[null,null,null,null,null,null,null,null,null,3750,3750,14062500,null,null,null,null,null,null,null,null,null,null,null,null,null,null,null,null,null,null,null,null,null,null,null,null,284673.32904730883]
[null,null,null,null,null,null,null,null,null,3750,1250,4687500,null,null,null,null,null,null,null,null,null,null,null,null,null,null,null,null,null,null,null,null,null,null,null,null,148824.08092179036]
[null,null,null,null,null,null,null,null,null,7500,3750,28125000,null,null,null,null,null,null,null,null,null,null,null,null,null,null,null,null,null,null,null,null,null,null,null,null,2737574.9731686199]
[null,null,null,null,null,null,null,null,null,8750,1250,10937500,null,null,null,null,null,null,null,null,null,null,null,null,null,null,null,null,null,null,null,null,null,null,null,null,798396.13308383175]
[null,null,null,null,null,null,null,null,null,3750,1250,4687500,null,null,null,null,null,null,null,null,null,null,null,null,null,null,null,null,null,null,null,null,null,null,null,null,148824.08092179036]
[null,null,null,null,null,null,null,null,null,3750,3750,14062500,null,null,null,null,null,null,null,null,null,null,null,null,null,null,null,null,null,null,null,null,null,null,null,null,284673.32904730883]
[null,null,null,null,null,null,null,null,null,3750,1250,4687500,null,null,null,null,null,null,null,null,null,null,null,null,null,null,null,null,null,null,null,null,null,null,null,null,148824.08092179036]
[null,null,null,null,null,null,null,null,null,7500,3750,28125000,null,null,null,null,null,null,null,null,null,null,null,null,null,null,null,null,null,null,null,null,null,null,null,null,2737574.9731686199]
[null,null,null,null,null,null,null,null,null,8750,1250,10937500,null,null,null,null,null,null,null,null,null,null,null,null,null,null,null,null,null,null,null,null,null,null,null,null,58896.376092937586]
[null,null,null,null,null,null,null,null,null,3750,3750,14062500,null,null,null,null,null,null,null,null,null,null,null,null,null,null,null,null,null,null,null,null,null,null,null,null,8082.7754159740325]
[null,null,null,null,null,null,null,null,null,7500,1250,9375000,null,null,null,null,null,null,null,null,null,null,null,null,null,null,null,null,null,null,null,null,null,null,null,null,76064.085349096204]
[null,null,null,null,null,null,null,null,null,8750,1250,10937500,null,null,null,null,null,null,null,null,null,null,null,null,null,null,null,null,null,null,null,null,null,null,null,null,58896.376092937586]
[null,null,null,null,null,null,null,null,null,3750,3750,14062500,null,null,null,null,null,null,null,null,null,null,null,null,null,null,null,null,null,null,null,null,null,null,null,null,8082.7754159740325]
[null,null,null,null,null,null,null,null,null,7500,1250,9375000,null,null,null,null,null,null,null,null,null,null,null,null,null,null,null,null,null,null,null,null,null,null,null,null,76064.085349096204]
[null,null,null,null,null,null,null,null,null,1250,1250,1562500,null,null,null,null,null,null,null,null,null,null,null,null,null,null,null,null,null,null,null,null,null,null,null,null,1.0009591886752529]
[null,null,null,null,null,null,null,null,null,11250,3750,42187500,null,null,null,null,null,null,null,null,null,null,null,null,null,null,null,null,null,null,null,null,null,null,null,null,68089.875758446753]
[null,null,null,null,null,null,null,null,null,7500,3750,28125000,null,null,null,null,null,null,null,null,null,null,null,null,null,null,null,null,null,null,null,null,null,null,null,null,99904.919677053054]
[null,null,null,null,null,null,null,null,null,1250,1250,1562500,null,null,null,null,null,null,null,null,null,null,null,null,null,null,null,null,null,null,null,null,null,null,null,null,1.0009591886752529]
[null,null,null,null,null,null,null,null,null,11250,3750,42187500,null,null,null,null,null,null,null,null,null,null,null,null,null,null,null,null,null,null,null,null,null,null,null,null,68089.875758446753]
[null,null,null,null,null,null,null,null,null,7500,3750,28125000,null,null,null,null,null,null,null,null,null,null,null,null,null,null,null,null,null,null,null,null,null,null,null,null,99904.919677053054]
[null,null,null,null,null,null,null,null,null,425,1250,531250,null,null,null,null,null,null,null,null,null,null,null,null,null,null,null,null,null,null,null,null,null,null,null,null,16163.999493988103]
[null,null,null,null,null,null,null,null,null,425,1250,531250,null,null,null,null,null,null,null,null,null,null,null,null,null,null,null,null,null,null,null,null,null,null,null,null,16163.999493988103]
[null,null,null,null,null,null,null,null,null,425,1250,531250,null,null,null,null,null,null,null,null,null,null,null,null,null,null,null,null,null,null,null,null,null,null,null,null,125719.99606435193]
[null,null,null,null,null,null,null,null,null,425,8750,3718750,null,null,null,null,null,null,null,null,null,null,null,null,null,null,null,null,null,null,null,null,null,null,null,null,5485868.8963080961]
[null,null,null,null,null,null,null,null,null,425,3750,1593750,null,null,null,null,null,null,null,null,null,null,null,null,null,null,null,null,null,null,null,null,null,null,null,null,634594.21459733322]
[null,null,null,null,null,null,null,null,null,425,7500,3187500,null,null,null,null,null,null,null,null,null,null,null,null,null,null,null,null,null,null,null,null,null,null,null,null,4702173.3396926532]
[null,null,null,null,null,null,null,null,null,425,3750,1593750,null,null,null,null,null,null,null,null,null,null,null,null,null,null,null,null,null,null,null,null,null,null,null,null,377159.98819305585]
[null,null,null,null,null,null,null,null,null,425,3750,1593750,null,null,null,null,null,null,null,null,null,null,null,null,null,null,null,null,null,null,null,null,null,null,null,null,339443.98937375029]
[null,null,null,null,null,null,null,null,null,425,3750,1593750,null,null,null,null,null,null,null,null,null,null,null,null,null,null,null,null,null,null,null,null,null,null,null,null,571134.79313759995]
[null,null,null,null,null,null,null,null,null,425,1250,531250,null,null,null,null,null,null,null,null,null,null,null,null,null,null,null,null,null,null,null,null,null,null,null,null,16163.999493988103]
[null,null,null,null,null,null,null,null,null,425,1250,531250,null,null,null,null,null,null,null,null,null,null,null,null,null,null,null,null,null,null,null,null,null,null,null,null,16163.999493988103]
[null,null,null,null,null,null,null,null,null,425,1250,531250,null,null,null,null,null,null,null,null,null,null,null,null,null,null,null,null,null,null,null,null,null,null,null,null,125719.99606435193]
[null,null,null,null,null,null,null,null,null,425,8750,3718750,null,null,null,null,null,null,null,null,null,null,null,null,null,null,null,null,null,null,null,null,null,null,null,null,5485868.8963080961]
[null,null,null,null,null,null,null,null,null,425,3750,1593750,null,null,null,null,null,null,null,null,null,null,null,null,null,null,null,null,null,null,null,null,null,null,null,null,634594.21459733322]
[null,null,null,null,null,null,null,null,null,425,7500,3187500,null,null,null,null,null,null,null,null,null,null,null,null,null,null,null,null,null,null,null,null,null,null,null,null,4702173.3396926532]
[null,null,null,null,null,null,null,null,null,425,3750,1593750,null,null,null,null,null,null,null,null,null,null,null,null,null,null,null,null,null,null,null,null,null,null,null,null,377159.98819305585]
[null,null,null,null,null,null,null,null,null,425,3750,1593750,null,null,null,null,null,null,null,null,null,null,null,null,null,null,null,null,null,null,null,null,null,null,null,null,339443.98937375029]
[null,null,null,null,null,null,null,null,null,425,3750,1593750,null,null,null,null,null,null,null,null,null,null,null,null,null,null,null,null,null,null,null,null,null,null,null,null,571134.79313759995]

{"sheet":"Calibration","index":17,"n_rows":82,"n_cols":9,"rows_kept":82,"cut":false,"hidden":false,"merged":[[68,0,68,1],[68,2,69,3],[68,6,68,7],[68,8,68,9],[69,0,69,1],[69,6,69,7],[69,8,69,9],[70,0,70,1],[70,2,71,3],[70,6,70,7],[70,8,70,9],[71,0,71,1],[71,6,71,7],[71,8,71,9],[81,8,81,9],[64,8,64,9],[65,8,65,9],[66,8,66,9],[67,8,67,9],[72,8,72,9],[81,6,81,7],[64,6,64,7],[65,6,65,7],[66,6,66,7],[67,6,67,7],[72,6,72,7],[78,8,78,9],[79,8,79,9],[74,8,74,9],[75,8,75,9],[80,8,80,9],[80,6,80,7],[73,8,73,9],[76,6,76,7],[77,6,77,7],[78,6,78,7],[79,6,79,7],[76,8,76,9],[73,6,73,7],[74,6,74,7],[75,6,75,7],[50,1,50,4],[51,1,51,4],[52,1,52,4],[58,0,58,9],[3,6,4,7],[3,8,4,9],[7,8,7,9],[8,8,8,9],[9,8,9,9],[10,8,10,9],[11,8,11,9],[12,8,12,9],[13,8,13,9],[48,8,49,9],[48,5,49,5],[31,1,32,1],[39,0,42,0],[39,1,40,1],[41,1,42,1],[48,1,49,4],[33,0,38,0],[33,1,34,1],[35,1,36,1],[25,6,25,7],[26,6,26,7],[27,6,27,7],[28,6,28,7],[29,6,29,7],[35,6,35,7],[19,0,32,0],[33,6,33,7],[34,6,34,7],[19,1,20,1],[21,1,22,1],[23,1,30,1],[20,6,20,7],[21,6,21,7],[22,6,22,7],[23,6,23,7],[30,6,30,7],[31,6,31,7],[32,6,32,7],[48,6,49,7],[81,0,81,1],[72,0,72,1],[74,0,74,1],[80,0,80,1],[75,0,75,1],[73,0,73,1],[76,0,76,1],[77,0,77,1],[78,0,78,1],[79,0,79,1],[54,0,55,0],[54,1,54,4],[55,1,55,4],[53,1,53,4],[57,0,57,9],[48,0,49,0],[54,6,54,7],[54,8,54,9],[67,0,67,1],[65,0,65,1],[62,0,62,1],[64,0,64,1],[66,0,66,1],[47,0,47,9],[40,6,40,7],[41,6,41,7],[37,1,38,1],[42,6,42,7],[40,8,40,9],[41,8,41,9],[42,8,42,9],[38,8,38,9],[39,8,39,9],[43,0,44,1],[45,0,46,1],[43,8,43,9],[44,8,44,9],[45,8,45,9],[46,8,46,9],[43,6,43,7],[44,6,44,7],[45,6,45,7],[46,6,46,7],[33,8,33,9],[34,8,34,9],[35,8,35,9],[36,8,36,9],[37,8,37,9],[39,6,39,7],[30,8,30,9],[31,8,31,9],[32,8,32,9],[36,6,36,7],[37,6,37,7],[38,6,38,7],[63,0,63,1],[59,0,59,1],[60,0,60,1],[61,0,61,1],[55,6,55,7],[55,8,55,9],[60,8,60,9],[61,8,61,9],[62,8,62,9],[63,8,63,9],[56,1,56,4],[56,6,56,7],[56,8,56,9],[50,6,50,7],[0,0,0,9],[1,0,1,9],[2,0,2,9],[5,8,5,9],[6,8,6,9],[15,6,15,7],[16,6,16,7],[17,6,17,7],[10,6,10,7],[11,6,11,7],[12,6,12,7],[13,6,13,7],[14,6,14,7],[5,6,5,7],[6,6,6,7],[7,6,7,7],[17,1,18,1],[3,5,4,5],[3,0,4,0],[3,1,4,1],[3,2,4,2],[5,0,18,0],[5,1,6,1],[7,1,8,1],[14,8,14,9],[8,6,8,7],[18,8,18,9],[18,6,18,7],[3,3,4,3],[3,4,4,4],[9,1,16,1],[28,8,28,9],[19,6,19,7],[24,6,24,7],[9,6,9,7],[15,8,15,9],[16,8,16,9],[17,8,17,9],[29,8,29,9],[23,8,23,9],[24,8,24,9],[25,8,25,9],[26,8,26,9],[27,8,27,9],[19,8,19,9],[20,8,20,9],[21,8,21,9],[22,8,22,9],[50,8,50,9],[51,6,51,7],[51,8,51,9],[52,6,52,7],[52,8,52,9],[80,2,81,3],[59,2,59,3],[60,2,61,3],[62,2,63,3],[64,2,65,3],[66,2,67,3],[72,2,73,3],[74,2,75,3],[76,2,77,3],[78,2,79,3],[59,6,59,7],[60,6,60,7],[61,6,61,7],[62,6,62,7],[63,6,63,7],[59,8,59,9],[53,6,53,7],[53,8,53,9],[77,8,77,9]]}
["Calibration"]
["Optional - Input locally-developed calibration factors for SPFs. "]
["At-Grade Intersection SPFs"]
["Traffic Control","Facility Type","# legs","1 way/ 2 way","# of lanes on arterial","Default Calibration Factor","Optional User Override",null,"Use Value"]
[]
["Traffic Signal\n\n(For more information on determining signal type, refer to the \"Definitions\" worksheet)","On Rural Two Lane Highway","3 leg","-","-",{"$f":"CalibrationDefaults!F6","v":1},null,null,{"$f":"IF(ISNUMBER(G6),G6,F6)","v":1}]
[null,null,"4 leg","-","-",{"$f":"CalibrationDefaults!F7","v":0.92},null,null,{"$f":"IF(ISNUMBER(G7),G7,F7)","v":0.92}]
[null,"On Rural Multilane Highway","3 leg","-","-",{"$f":"CalibrationDefaults!F8","v":1},null,null,1]
[null,null,"4 leg","-","-",{"$f":"CalibrationDefaults!F9","v":0.45},null,null,0.45]
[null,"On Urban and Suburban Arterial","3 leg","2x2","5 or fewer",{"$f":"CalibrationDefaults!F10","v":2.5},null,null,2.5]
[null,null,"4 leg","2x2","5 or fewer",{"$f":"CalibrationDefaults!F11","v":2.27},null,null,2.27]
[null,null,"3 leg","2x2","6 or more",{"$f":"CalibrationDefaults!F12","v":1},null,null,1]
[null,null,"4 leg","2x2","6 or more",{"$f":"CalibrationDefaults!F13","v":1},null,null,1]
[null,null,"3 leg","1x2","-",{"$f":"CalibrationDefaults!F14","v":1},null,null,1]
[null,null,"4 leg","1x2","-",{"$f":"CalibrationDefaults!F15","v":1},null,null,1]
[null,null,"3 leg","1x1","-",{"$f":"CalibrationDefaults!F16","v":1},null,null,1]
[null,null,"4 leg","1x1","-",{"$f":"CalibrationDefaults!F17","v":1},null,null,1]
[null,"On High Speed (50+ MPH) Urban and Suburban Arterial","3 leg","-","-",{"$f":"CalibrationDefaults!F18","v":1},null,null,1]
[null,null,"4 leg","-","-",{"$f":"CalibrationDefaults!F19","v":1},null,null,1]
["Minor Road Stop","On Rural Two Lane Highway","3 leg","-","-",{"$f":"CalibrationDefaults!F20","v":1.27},null,null,1.27]
[null,null,"4 leg","-","-",{"$f":"CalibrationDefaults!F21","v":0.74},null,null,0.74]
[null,"On Rural Multilane Highway","3 leg","-","-",{"$f":"CalibrationDefaults!F22","v":2.2000000000000002},null,null,2.2000000000000002]
[null,null,"4 leg","-","-",{"$f":"CalibrationDefaults!F23","v":1.64},null,null,1.64]
[null,"On Urban and Suburban Arterial","3 leg","2x2","5 or fewer",{"$f":"CalibrationDefaults!F24","v":1.1399999999999999},null,null,1.1399999999999999]
[null,null,"4 leg","2x2","5 or fewer",{"$f":"CalibrationDefaults!F25","v":1.87},null,null,1.87]
[null,null,"3 leg","2x2","6 or more",{"$f":"CalibrationDefaults!F26","v":1},null,null,1]
[null,null,"4 leg","2x2","6 or more",{"$f":"CalibrationDefaults!F27","v":1},null,null,1]
[null,null,"3 leg","1x2","-",{"$f":"CalibrationDefaults!F28","v":1},null,null,1]
[null,null,"4 leg","1x2","-",{"$f":"CalibrationDefaults!F29","v":1},null,null,1]
[null,null,"3 leg","1x1","-",{"$f":"CalibrationDefaults!F30","v":1},null,null,1]
[null,null,"4 leg","1x1","-",{"$f":"CalibrationDefaults!F31","v":1},null,null,1]
[null,"On High Speed (50+ MPH) Urban and Suburban Arterial","3 leg","-","-",{"$f":"CalibrationDefaults!F32","v":1},null,null,1]
[null,null,"4 leg","-","-",{"$f":"CalibrationDefaults!F33","v":1},null,null,1]
["All-Way Stop","On Rural Two Lane Highway","3 leg","-","-",{"$f":"CalibrationDefaults!F34","v":1},null,null,1]
[null,null,"4 leg","-","-",{"$f":"CalibrationDefaults!F35","v":1},null,null,1]
[null,"On Rural Multilane Highway","3 leg","-","-",{"$f":"CalibrationDefaults!F36","v":1},null,null,1]
[null,null,"4 leg","-","-",{"$f":"CalibrationDefaults!F37","v":1},null,null,1]
[null,"On Urban and Suburban Arterial","3 leg","-","-",{"$f":"CalibrationDefaults!F38","v":1},null,null,1]
[null,null,"4 leg","-","-",{"$f":"CalibrationDefaults!F39","v":1},null,null,1]
["Roundabout","1-lane roundabout","3 leg","-","-",{"$f":"CalibrationDefaults!F40","v":1},null,null,1]
[null,null,"4 leg","-","-",{"$f":"CalibrationDefaults!F41","v":1},null,null,1]
[null,"2-lane roundabout","3 leg","-","-",{"$f":"CalibrationDefaults!F42","v":1},null,null,1]
[null,null,"4 leg","-","-",{"$f":"CalibrationDefaults!F43","v":1},null,null,1]
["Signalized Restricted Crossing U-Turn (RCUT), also known Superstreet",null,"3 leg","-","-",{"$f":"CalibrationDefaults!F44","v":1},null,null,{"$f":"IF(ISNUMBER(G44),G44,F44)","v":1}]
[null,null,"4 leg","-","-",{"$f":"CalibrationDefaults!F45","v":1},null,null,1]
["Unsignalized Restricted Crossing U-Turn (RCUT), also known as J-Turn",null,"3 leg","-","-",{"$f":"CalibrationDefaults!F46","v":1},null,null,1]
[null,null,"4 leg","-","-",{"$f":"CalibrationDefaults!F47","v":1},null,null,1]
["Ramp Terminal Intersection SPFs"]
["Control","Ramp and Intersection Type",null,null,null,"SPF Calibration Factor","Optional User Override",null,"Use Value"]
[]
["Signalized Diamond","Four-leg terminals with diagonal ramps (D4)",null,null,null,1,null,null,1]
["Diverging Diamond","All types",null,null,null,1,null,null,{"$f":"IF(ISNUMBER(G52),G52,F52)","v":1}]
["Single-Point Diamond","All types",null,null,null,1,null,null,1]
["Unsignalized Diamond","Four-leg terminals with diagonal ramps (D4)",null,null,null,1,null,null,1]
["Roundabout","1-lane roundabout with 4 legs",null,null,null,1,null,null,1]
[null,"2-lane roundabout with 4 legs",null,null,null,1,null,null,1]
["Signalized Tight Diamond",null,null,null,null,1,null,null,{"$f":"IF(ISNUMBER(G57),G57,F57)","v":1}]
["Local CMFs"]
["Optional - Override default CMFs with locally-developed or new CMFs"]
["Control",null,"Default Base Intersection",null,"Type of Crashes","Default CMF","Optional User Override",null,"Use Value"]
["Displaced Left Turn (DLT)",null,"Traffic Signal",null,"Total",0.88,null,null,{"$f":"IF(ISNUMBER(G61),G61,F61)","v":0.88}]
[null,null,null,null,"Fatal-Injury",0.88,null,null,{"$f":"IF(ISNUMBER(G62),G62,F62)","v":0.88}]
["Median U-Turn (MUT)",null,"Traffic Signal",null,"Total",0.85,null,null,0.85]
[null,null,null,null,"Fatal-Injury",0.7,null,null,0.7]
["Signalized Restricted Crossing U-Turn (RCUT), also known Superstreet",null,"Traffic Signal",null,"Total",0.85,null,null,0.85]
[null,null,null,null,"Fatal-Injury",0.78,null,null,0.78]
["Unsignalized Restricted Crossing U-Turn (RCUT), also known as J-Turn",null,"Minor Road Stop (TWSC)",null,"Total",0.65,null,null,0.65]
[null,null,null,null,"Fatal-Injury",0.46,null,null,0.46]
["Signalized Thru-Cut",null,"Traffic Signal",null,"Total",1,null,null,{"$f":"IF(ISNUMBER(G69),G69,F69)","v":1}]
[null,null,null,null,"Fatal-Injury",1,null,null,{"$f":"IF(ISNUMBER(G70),G70,F70)","v":1}]
["Unsignalized Thru-Cut",null,"Minor Road Stop (TWSC)",null,"Total",1,null,null,{"$f":"IF(ISNUMBER(G71),G71,F71)","v":1}]
[null,null,null,null,"Fatal-Injury",1,null,null,{"$f":"IF(ISNUMBER(G72),G72,F72)","v":1}]
["Continuous Green-T Intersection",null,"Traffic Signal",null,"Total",0.96,null,null,{"$f":"IF(ISNUMBER(G73),G73,F73)","v":0.96}]
[null,null,null,null,"Fatal-Injury",0.85,null,null,{"$f":"IF(ISNUMBER(G74),G74,F74)","v":0.85}]
["Jughandles",null,"Traffic Signal",null,"Total",0.74,null,null,{"$f":"IF(ISNUMBER(G75),G75,F75)","v":0.74}]
[null,null,null,null,"Fatal-Injury",0.74,null,null,{"$f":"IF(ISNUMBER(G76),G76,F76)","v":0.74}]
[{"$f":"Label_AGI_Other1","v":"Other 1*"},null,"User Selection",null,"Total",1,null,null,{"$f":"IF(ISNUMBER(G77),G77,F77)","v":1}]
[null,null,null,null,"Fatal-Injury",1,null,null,1]
[{"$f":"Label_AGI_Other2","v":"Other 2*"},null,"User Selection",null,"Total",1,null,null,1]
[null,null,null,null,"Fatal-Injury",1,null,null,1]
["Crossover Traffic Signal (of Diverging Diamond Interchange)",null,"Traffic Signal",null,"Total",0.67,null,null,{"$f":"IF(ISNUMBER(G81),G81,F81)","v":0.67}]
[null,null,null,null,"Fatal-Injury",0.59,null,null,{"$f":"IF(ISNUMBER(G82),G82,F82)","v":0.59}]

{"sheet":"ExistingData","index":18,"n_rows":15,"n_cols":11,"rows_kept":15,"cut":false,"hidden":true,"merged":[[2,5,2,8]]}
[]
[]
["Intersetion Type","Traffic Signal or Minor Road Stop"]
["Years of Data",5]
[null,null,null,null,null,null,null,null,1,"Predicted","Based on SPF only"]
[null,null,null,null,null,null,null,null,2,"Expected","Based on SPF w/ EB applied"]
[null,"Total ","FI","PDO","Ped",null,null,null,3,"Observed","Historical crash data"]
["Historical Crashes Year 1"]
["Historical Crashes Year 2"]
["Historical Crashes Year 3"]
["Historical Crashes Year 4"]
["Historical Crashes Year 5"]
[]
["Historical Crash Data (Sum Over All Years)",35,7,28,1]
["Average Crashes (per year)",{"$f":"B14/$B$4","v":7},{"$f":"C14/$B$4","v":1.4},5.6,0.2]

{"sheet":"CalibrationDefaults","index":19,"n_rows":47,"n_cols":11,"rows_kept":47,"cut":false,"hidden":true,"merged":[[43,0,44,1],[45,0,46,1],[19,0,32,0],[19,1,20,1],[21,1,22,1],[23,1,30,1],[31,1,32,1],[33,0,38,0],[33,1,34,1],[35,1,36,1],[37,1,38,1],[39,0,42,0],[39,1,40,1],[41,1,42,1],[5,0,18,0],[5,1,6,1],[7,1,8,1],[9,1,16,1],[17,1,18,1],[0,0,0,10],[1,0,1,10],[3,7,4,7],[3,6,4,6],[3,8,4,8],[2,0,2,1],[2,2,2,4],[3,9,4,9],[3,10,4,10],[3,0,4,0],[3,1,4,1],[3,2,4,2],[3,3,4,3],[3,4,4,4],[3,5,4,5]]}
["Default Calibration ReferenceCalibration"]
["At-Grade Intersection SPFs"]
["Select From the Dropdown Menu:",null,"FDOT"]
["Traffic Control","Facility Type","# legs","1 way/ 2 way","# of lanes on arterial","Use Value","Empty","FDOT","Future1","Future2","Future3"]
[]
["Traffic Signal\n\n(For more information on determining signal type, refer to the \"Definitions\" worksheet)","On Rural Two Lane Highway","3 leg","-","-",{"$f":"IF(ISNUMBER(IF($C$3=$G$4,G6,IF($C$3=$H$4,H6,IF($C$3=$I$4,I6,IF($C$3=$J$4,J6,IF($C$3=$K$4,K6,1)))))),IF($C$3=$G$4,G6,IF($C$3=$H$4,H6,IF($C$3=$I$4,I6,IF($C$3=$J$4,J6,IF($C$3=$K$4,K6,1))))),1)","v":1},1,"--",1,1,1]
[null,null,"4 leg","-","-",{"$f":"IF(ISNUMBER(IF($C$3=$G$4,G7,IF($C$3=$H$4,H7,IF($C$3=$I$4,I7,IF($C$3=$J$4,J7,IF($C$3=$K$4,K7,1)))))),IF($C$3=$G$4,G7,IF($C$3=$H$4,H7,IF($C$3=$I$4,I7,IF($C$3=$J$4,J7,IF($C$3=$K$4,K7,1))))),1)","v":0.92},1,0.92,1,1,1]
[null,"On Rural Multilane Highway","3 leg","-","-",1,1,"--",1,1,1]
[null,null,"4 leg","-","-",0.45,1,0.45,1,1,1]
[null,"On Urban and Suburban Arterial","3 leg","2x2","5 or fewer",2.5,1,2.5,1,1,1]
[null,null,"4 leg","2x2","5 or fewer",2.27,1,2.27,1,1,1]
[null,null,"3 leg","2x2","6 or more",1,1,"--",1,1,1]
[null,null,"4 leg","2x2","6 or more",1,1,"--",1,1,1]
[null,null,"3 leg","1x2","-",1,1,"--",1,1,1]
[null,null,"4 leg","1x2","-",1,1,"--",1,1,1]
[null,null,"3 leg","1x1","-",1,1,"--",1,1,1]
[null,null,"4 leg","1x1","-",1,1,"--",1,1,1]
[null,"On High Speed (50+ MPH) Urban and Suburban Arterial","3 leg","-","-",1,1,"--",1,1,1]
[null,null,"4 leg","-","-",1,1,"--",1,1,1]
["Minor Road Stop","On Rural Two Lane Highway","3 leg","-","-",1.27,1,1.27,1,1,1]
[null,null,"4 leg","-","-",0.74,1,0.74,1,1,1]
[null,"On Rural Multilane Highway","3 leg","-","-",2.2000000000000002,1,2.2000000000000002,1,1,1]
[null,null,"4 leg","-","-",1.64,1,1.64,1,1,1]
[null,"On Urban and Suburban Arterial","3 leg","2x2","5 or fewer",1.1399999999999999,1,1.1399999999999999,1,1,1]
[null,null,"4 leg","2x2","5 or fewer",1.87,1,1.87,1,1,1]
[null,null,"3 leg","2x2","6 or more",1,1,"--",1,1,1]
[null,null,"4 leg","2x2","6 or more",1,1,"--",1,1,1]
[null,null,"3 leg","1x2","-",1,1,"--",1,1,1]
[null,null,"4 leg","1x2","-",1,1,"--",1,1,1]
[null,null,"3 leg","1x1","-",1,1,"--",1,1,1]
[null,null,"4 leg","1x1","-",1,1,"--",1,1,1]
[null,"On High Speed (50+ MPH) Urban and Suburban Arterial","3 leg","-","-",1,1,"--",1,1,1]
[null,null,"4 leg","-","-",1,1,"--",1,1,1]
["All-Way Stop","On Rural Two Lane Highway","3 leg","-","-",1,1,"--",1,1,1]
[null,null,"4 leg","-","-",1,1,"--",1,1,1]
[null,"On Rural Multilane Highway","3 leg","-","-",1,1,"--",1,1,1]
[null,null,"4 leg","-","-",1,1,"--",1,1,1]
[null,"On Urban and Suburban Arterial","3 leg","-","-",1,1,"--",1,1,1]
[null,null,"4 leg","-","-",1,1,"--",1,1,1]
["Roundabout","1-lane roundabout","3 leg","-","-",1,1,"--",1,1,1]
[null,null,"4 leg","-","-",1,1,"--",1,1,1]
[null,"2-lane roundabout","3 leg","-","-",1,1,"--",1,1,1]
[null,null,"4 leg","-","-",1,1,"--",1,1,1]
["Signalized Restricted Crossing U-Turn (RCUT), also known Superstreet",null,"3 leg","-","-",1,1,"--",1,1,1]
[null,null,"4 leg","-","-",1,1,"--",1,1,1]
["Unsignalized Restricted Crossing U-Turn (RCUT), also known as J-Turn",null,"3 leg","-","-",1,1,"--",1,1,1]
[null,null,"4 leg","-","-",1,1,"--",1,1,1]

{"sheet":"Historical","index":20,"n_rows":92,"n_cols":35,"rows_kept":92,"cut":false,"hidden":false,"merged":[[18,1,20,1],[0,0,0,13],[1,0,2,13],[4,1,5,2],[4,3,5,4],[6,3,6,4],[6,10,6,11],[7,3,7,4],[10,1,11,2],[10,3,10,12],[12,1,14,1],[15,1,17,1],[38,1,38,14],[38,18,41,20],[38,21,38,26],[39,1,54,1],[39,2,39,3],[39,21,41,21],[39,22,41,22],[39,23,41,23],[39,24,41,26],[40,2,42,2],[42,18,56,18],[42,19,46,19],[43,2,45,2],[46,2,48,2],[47,19,51,19],[49,2,51,2],[71,1,76,1],[71,2,71,3],[72,18,86,18],[72,19,76,19],[76,2,76,12],[77,1,82,1],[77,2,77,3],[77,19,81,19],[82,2,82,12],[57,18,71,18],[57,19,61,19],[59,2,61,2],[62,2,64,2],[62,19,66,19],[65,2,67,2],[67,19,71,19],[55,1,70,1],[55,2,55,3],[56,2,58,2],[39,32,41,32],[39,33,41,33],[52,2,54,12],[52,19,56,19],[68,2,70,12],[39,34,41,34],[82,19,86,19],[87,18,91,18],[87,19,91,19],[39,27,41,27],[42,29,50,29],[48,30,50,30],[45,30,47,30],[42,30,44,30],[38,29,41,31]]}
["Historical Crash Data Input"]
["Note: In order to use Empirical Bayes (EB), the historical intersection type must be a traffic signal or a minor road stop.  Additionally, this alternative must be selected to be included in the analysis, and the historical intersection specified below.  Up to 10 years of historical data can be used to perform the EB adjustment."]
[]
[]
[null,"Is historical crash data available?",null,"No"]
[]
[null,"Number of years available:",null,5,null,"(Up to 10)",null,"First Year Data is available: ",null,null,2010]
[null,"Historical Intx Type:",null,"3SG"]
[null,"Facility Type",null,{"$f":"IF(Input_FacilityType=FacilityType_Label_Rural2Ln,1,IF(Input_FacilityType=FacilityType_Label_RuralMultiLn,2,IF(Input_FacilityType=FacilityType_Label_Urban,IF(Input_1Way2Way=Notes!$A$54,IF(Input_MajorApproachSpeed=Notes!$A$67,7,IF(Input_NumMajorLanes=Notes!$A$60,3,4)),IF(Input_1Way2Way=Notes!$A$55,5,6)))))","v":3}]
[]
[null,"Historical Crash Counts",null,"Year"]
[null,null,null,{"$f":"IF($D$7>0,$K$7,\"--\")","v":2010},{"$f":"IF($D$7>1,$K$7+1,\"--\")","v":2011},{"$f":"IF($D$7>2,$K$7+2,\"--\")","v":2012},{"$f":"IF($D$7>3,$K$7+3,\"--\")","v":2013},{"$f":"IF($D$7>4,$K$7+4,\"--\")","v":2014},{"$f":"IF($D$7>5,$K$7+5,\"--\")","v":"--"},{"$f":"IF($D$7>6,$K$7+6,\"--\")","v":"--"},{"$f":"IF($D$7>7,$K$7+7,\"--\")","v":"--"},{"$f":"IF($D$7>8,$K$7+8,\"--\")","v":"--"},{"$f":"IF($D$7>9,$K$7+9,\"--\")","v":"--"},"Total"]
[{"$f":"OR(AND(EB_Facility_Type<>3,EB_Facility_Type<>7),EB_Intx_Type=Notes!J69,EB_Intx_Type=Notes!J70)","v":false},"Combined","Total",{"$f":"IF(ISNUMBER(D$12),SUM(D14:D15),\"--\")","v":0},{"$f":"IF(ISNUMBER(E12),SUM(E14:E15),\"--\")","v":0},0,0,0,"--","--","--","--","--",{"$f":"IF(ISNUMBER(D13),SUM(D13:M13),\"--\")","v":0},{"$f":"IF(AND(A13,COUNTIF(D13:M13,\"=0\")>0),\"One or more years has 0 total crashes.\",\"\")","v":""}]
[null,null,"Fatal/Injury",null,null,null,null,null,null,null,null,null,null,{"$f":"SUMPRODUCT(D14:M14,--(ISNUMBER($D$12:$M$12)))","v":0}]
[null,null,"PDO",null,null,null,null,null,null,null,null,null,null,0]
[{"$f":"AND(OR(EB_Facility_Type=3,EB_Facility_Type=7),EB_Intx_Type<>Notes!J69,EB_Intx_Type<>Notes!J70)","v":true},"Single-Vehicle","Total",{"$f":"IF(ISNUMBER(D$12),SUM(D17:D18),\"--\")","v":0},{"$f":"IF(ISNUMBER(E$12),SUM(E17:E18),\"--\")","v":0},0,0,0,"--","--","--","--","--",0,{"$f":"IF(AND(A16,COUNTIF(D16:M16,\"=0\")>0),\"One or more years has 0 total crashes.\",\"\")","v":"One or more years has 0 total crashes."}]
[null,null,"Fatal/Injury",null,null,null,null,null,null,null,null,null,null,0]
[null,null,"PDO",null,null,null,null,null,null,null,null,null,null,0]
[{"$f":"AND(OR(EB_Facility_Type=3,EB_Facility_Type=7),EB_Intx_Type<>Notes!J69,EB_Intx_Type<>Notes!J70)","v":true},"Multiple-Vehicle","Total",{"$f":"IF(ISNUMBER(D$12),SUM(D20:D21),\"--\")","v":0},{"$f":"IF(ISNUMBER(E$12),SUM(E20:E21),\"--\")","v":0},0,0,0,"--","--","--","--","--",0,{"$f":"IF(AND(A19,COUNTIF(D19:M19,\"=0\")>0),\"One or more years has 0 total crashes.\",\"\")","v":"One or more years has 0 total crashes."}]
[null,null,"Fatal/Injury",null,null,null,null,null,null,null,null,null,null,0]
[null,null,"PDO",null,null,null,null,null,null,null,null,null,null,0]
[true,"Veh-Ped","Fatal/Injury",null,null,null,null,null,null,null,null,null,null,0]
[{"$f":"TRUE","v":true},"Veh-Bike","Fatal/Injury",null,null,null,null,null,null,null,null,null,null,0]
[null,"Total","All",{"$f":"IF($A$13,SUM(D14:D15),0)+IF($A$16,SUM(D20:D21),0)+IF($A$16,SUM(D17:D18),0)+IF($A$22,D22,0)+IF($A$23,D23,0)","v":0},{"$f":"IF(ISNUMBER(E12),IF($A$13,SUM(E14:E15),0)+IF($A$16,SUM(E20:E21),0)+IF($A$16,SUM(E17:E18),0)+IF($A$22,E22,0)+IF($A$23,E23,0),\"--\")","v":0},0,0,0,"--","--","--","--","--",{"$f":"IF($A$13,SUM(N14:N15),0)+IF($A$16,SUM(N20:N21),0)+IF($A$16,SUM(N17:N18),0)+IF($A$22,N22,0)+IF($A$23,N23,0)","v":0}]
[]
[]
[]
[]
[]
[null,"Computations Only Below This Point"]
[]
[]
[]
[]
[]
[]
[]
[]
[null,"Empirical Bayes Computations (No Data Entry)",null,null,null,null,null,null,null,null,null,null,null,null,null,null,null,null,"Dispersion Parameters",null,null,"At-Grade Intersection Facility Type",null,null,null,null,null,null,null,"AWSC Dispersion Parameters\n17-68 Report Update",null,null,"Intersection Facility Type"]
[null,{"$f":"IF(AND($D$9<>3,EB_Facility_Type<>7),\"Combined Collisions\",\"Single-Vehicle Only\")","v":"Single-Vehicle Only"},"Year",null,{"$f":"D$12","v":2010},2011,2012,2013,2014,"--","--","--","--","--","Total",null,null,null,null,null,null,"Rural Two-Lane Highways","Rural Multilane Highways","Urban/Suburban Arterials w/ 5 or Fewer Lanes","Urban/Suburban Arterials w/ 6 or More Lanes",null,null,"High Speed",null,null,null,null,"Rural Two-Lane Highways","Rural Multilane Highways","Urban/Suburban Arterials w/ 5 or Fewer Lanes"]
[null,null,"Npredicted","Total",null,{"$f":"IF(AND(ISNUMBER(E$12),ISNUMBER(NPred_Total)),NPred_Total,\"--\")","v":"--"},"--","--","--","--","--","--","--","--",{"$f":"IF(ISNUMBER(E44),SUM(E41:N41),\"--\")","v":0}]
[null,null,null,"Fatal/Injury",null,{"$f":"IF(AND(ISNUMBER(E$12),ISNUMBER(NPred_FI)),NPred_FI,\"--\")","v":"--"},"--","--","--","--","--","--","--","--",{"$f":"IF(ISNUMBER(E45),SUM(E42:N42),\"--\")","v":0}]
[null,null,null,"PDO",null,{"$f":"IF(AND(ISNUMBER(E$12),ISNUMBER(NPred_PDO)),NPred_PDO,\"--\")","v":"--"},"--","--","--","--","--","--","--","--",{"$f":"IF(ISNUMBER(E46),SUM(E43:N43),\"--\")","v":0},null,null,null,"Combined Multi and Single Vehicle","Total","Intx","R2L","RML","U/S Art.","2x2","1x2","1x1","U/S Art.",null,"Combined Multi and Single Vehicle","Total","Intx","R2L","RML","U/S Art."]
[null,null,"Dispersion Parameter (k)","Total",{"$f":"IF(OR(EB_Intx_Type=Notes!J69,EB_Intx_Type=Notes!J70),IF(OR(EB_Facility_Type=1, EB_Facility_Type=2), VLOOKUP(EB_Intx_Type,$AF$44:$AI$45,EB_Facility_Type + 1,FALSE),VLOOKUP(EB_Intx_Type,$AF$44:$AI$45,4,FALSE)),IF(AND($D$9<>3,EB_Facility_Type<>7),VLOOKUP(EB_Intx_Type,U44:AB47,EB_Facility_Type+1,FALSE),VLOOKUP(EB_Intx_Type,U59:AB62,EB_Facility_Type+1,FALSE)))","v":0.36},{"$f":"IF(AND(ISNUMBER(E$12),ISNUMBER(E44)),E44,\"--\")","v":0.36},0.36,0.36,0.36,"--","--","--","--","--","--",null,null,null,null,null,"3ST",0.54,0.46,"--","--","--","--","--",null,null,null,"3AWSC","--","--","--"]
[null,null,null,"Fatal/Injury",{"$f":"IF(OR(EB_Intx_Type=Notes!J69,EB_Intx_Type=Notes!J70),VLOOKUP(EB_Intx_Type,$AF$47:$AI$48,MIN(EB_Facility_Type,3)+1,FALSE),IF(AND($D$9<>3,EB_Facility_Type<>7),VLOOKUP(EB_Intx_Type,U49:AB52,EB_Facility_Type+1,FALSE),VLOOKUP(EB_Intx_Type,U64:AB67,EB_Facility_Type+1,FALSE)))","v":0.24},0.24,0.24,0.24,0.24,"--","--","--","--","--","--",null,null,null,null,null,"3SG",0.31,0.4,"--","--","--","--","--",null,null,null,"4AWSC",0.39,"--","--"]
[null,null,null,"PDO",{"$f":"IF(OR(EB_Intx_Type=Notes!J69,EB_Intx_Type=Notes!J70),VLOOKUP(EB_Intx_Type,$AF$50:$AI$51,MIN(EB_Facility_Type,3)+1,FALSE),IF(AND($D$9<>3,EB_Facility_Type<>7),VLOOKUP(EB_Intx_Type,U54:AB57,EB_Facility_Type+1,FALSE),VLOOKUP(EB_Intx_Type,U69:AB72,EB_Facility_Type+1,FALSE)))","v":0.53},0.53,0.53,0.53,0.53,"--","--","--","--","--","--",null,null,null,null,null,"4ST",0.24,0.49399999999999999,"--","--","--","--","--",null,null,"Fatal / Injury","Intx","R2L","RML","U/S Art."]
[null,null,"Weighted Adjustment (w)","Total",{"$f":"IF(ISNUMBER(E44),1/(1+E44*E41),\"--\")","v":1},{"$error":"#VALUE!"},{"$error":"#VALUE!"},{"$error":"#VALUE!"},{"$error":"#VALUE!"},{"$f":"IF(ISNUMBER(J44),1/(1+J44*J41),\"--\")","v":"--"},{"$f":"IF(ISNUMBER(K44),1/(1+K44*K41),\"--\")","v":"--"},"--","--","--","--",null,null,null,null,null,"4SG",0.11,0.27700000000000002,"--","--","--","--","--",null,null,null,"3AWSC","--","--",7.0000000000000007E-2]
[null,null,null,"Fatal/Injury",1,{"$error":"#VALUE!"},{"$error":"#VALUE!"},{"$error":"#VALUE!"},{"$error":"#VALUE!"},"--","--","--","--","--","--",null,null,null,null,"Fatal / Injury","Intx","R2L","RML","U/S Art.","2x2","1x2","1x1","U/S Art.",null,null,null,"4AWSC","--","--",0.66]
[null,null,null,"PDO",1,{"$error":"#VALUE!"},{"$error":"#VALUE!"},{"$error":"#VALUE!"},{"$error":"#VALUE!"},"--","--","--","--","--","--",null,null,null,null,null,"3ST","--",0.56899999999999995,"--",0.64935064935064934,2,2,"--",null,null,"PDO","Intx","R2L","RML","U/S Art."]
[null,null,"Nexpected","Total",{"$f":"IF(ISNUMBER(E44),E47*E41+(1-E47)*IF($A$13,D13,D16),IF(ISNUMBER(E51),SUM(E51:E52),\"--\"))","v":0},{"$error":"#VALUE!"},{"$error":"#VALUE!"},{"$error":"#VALUE!"},{"$error":"#VALUE!"},"--","--","--","--","--",{"$f":"IF(ISNUMBER(E44),SUM(E50:N50),\"--\")","v":{"$error":"#VALUE!"}},null,null,null,null,null,"3SG","--",1.1499999999999999,"--",0.5181347150259068,0.95238095238095233,0.95238095238095233,"--",null,null,null,"3AWSC","--","--",0.37]
[null,null,null,"Fatal/Injury",{"$f":"IF(ISNUMBER(E45),E48*E42+(1-E48)*IF($A$13,D14,D17),\"--\")","v":0},{"$error":"#VALUE!"},{"$error":"#VALUE!"},{"$error":"#VALUE!"},{"$error":"#VALUE!"},"--","--","--","--","--",{"$f":"IF(ISNUMBER(E45),SUM(E51:N51),\"--\")","v":{"$error":"#VALUE!"}},null,null,null,null,null,"4ST","--",0.74199999999999999,"--",0.5988023952095809,0.53191489361702127,0.53191489361702127,"--",null,null,null,"4AWSC","--","--",0.78]
[null,null,null,"PDO",{"$f":"IF(ISNUMBER(E46),E49*E43+(1-E49)*IF($A$13,D15,D18),\"--\")","v":0},{"$error":"#VALUE!"},{"$error":"#VALUE!"},{"$error":"#VALUE!"},{"$error":"#VALUE!"},"--","--","--","--","--",{"$f":"IF(ISNUMBER(E46),SUM(E52:N52),\"--\")","v":{"$error":"#VALUE!"}},null,null,null,null,null,"4SG","--",0.218,"--",0.56497175141242939,1.3333333333333333,1.3333333333333333,"--"]
[null,null,"Nexpected / Npredicted",null,null,null,null,null,null,null,null,null,null,"Total",{"$f":"IF(AND(ISNUMBER(E41),ISNUMBER(E44)),O50/O41,1)","v":1},null,null,null,null,"PDO","Intx","R2L","RML","U/S Art.","2x2","1x2","1x1","U/S Art."]
[null,null,null,null,null,null,null,null,null,null,null,null,null,"F/I",{"$f":"IF(AND(ISNUMBER(E42),ISNUMBER(E45)),O51/O42,1)","v":1},null,null,null,null,null,"3ST","--","--","--",0.74626865671641784,1.0309278350515465,1.0309278350515465,"--"]
[null,null,null,null,null,null,null,null,null,null,null,null,null,"PDO",{"$f":"IF(AND(ISNUMBER(E43),ISNUMBER(E46)),O52/O43,1)","v":1},null,null,null,null,null,"3SG","--","--","--",1,0.9009009009009008,0.9009009009009008,"--"]
[null,"Multiple-Vehicle Only \n(When Applicable)","Year",null,{"$f":"D$12","v":2010},2011,2012,2013,2014,"--","--","--","--","--","Total",null,null,null,null,null,"4ST","--","--","--",1.1363636363636365,0.96153846153846145,0.96153846153846145,"--"]
[null,null,"Npredicted","Total",null,{"$f":"IF(AND(ISNUMBER(E$12),ISNUMBER(E57)),E57,\"--\")","v":"--"},"--","--","--","--","--","--","--","--",{"$f":"IF(ISNUMBER(E60),SUM(E57:N57),\"--\")","v":0},null,null,null,null,null,"4SG","--","--","--",0.99009900990099009,2,2,"--"]
[null,null,null,"Fatal/Injury",null,"--","--","--","--","--","--","--","--","--",{"$f":"IF(ISNUMBER(E61),SUM(E58:N58),\"--\")","v":0},null,null,null,"Single-Vehicle","Total","Intx","R2L","RML","U/S Art.","2x2","1x2","1x1","U/S Art."]
[null,null,null,"PDO",null,"--","--","--","--","--","--","--","--","--",{"$f":"IF(ISNUMBER(E62),SUM(E59:N59),\"--\")","v":0},null,null,null,null,null,"3ST","--","--",1.1399999999999999,"--","--","--",0.69]
[null,null,"Dispersion Parameter (k)","Total",{"$f":"IF(OR(EB_Facility_Type=3,EB_Facility_Type=7),VLOOKUP(EB_Intx_Type,U74:AB77,EB_Facility_Type+1,FALSE),\"--\")","v":0.33},0.33,0.33,0.33,0.33,"--","--","--","--","--","--",null,null,null,null,null,"3SG","--","--",0.36,"--","--","--",0.56999999999999995]
[null,null,null,"Fatal/Injury",{"$f":"IF(OR(EB_Facility_Type=3,EB_Facility_Type=7),VLOOKUP(EB_Intx_Type,U79:AB82,EB_Facility_Type+1,FALSE),\"--\")","v":0.3},0.3,0.3,0.3,0.3,"--","--","--","--","--","--",null,null,null,null,null,"4ST","--","--",0.65,"--","--","--",1.1200000000000001]
[null,null,null,"PDO",{"$f":"IF(OR(EB_Facility_Type=3,EB_Facility_Type=7),VLOOKUP(EB_Intx_Type,U84:AB87,EB_Facility_Type+1,FALSE),\"--\")","v":0.36},0.36,0.36,0.36,0.36,"--","--","--","--","--","--",null,null,null,null,null,"4SG","--","--",0.36,"--","--","--",0.55000000000000004]
[null,null,"Weighted Adjustment (w)","Total",{"$f":"IF(ISNUMBER(E60),1/(1+E60*E57),\"--\")","v":1},{"$f":"IF(ISNUMBER(F60),1/(1+F60*F57),\"--\")","v":{"$error":"#VALUE!"}},{"$error":"#VALUE!"},{"$error":"#VALUE!"},{"$error":"#VALUE!"},"--","--","--","--","--","--",null,null,null,null,"Fatal / Injury","Intx","R2L","RML","U/S Art.","2x2","1x2","1x1","U/S Art."]
[null,null,null,"Fatal/Injury",{"$f":"IF(ISNUMBER(E61),1/(1+E61*E58),\"--\")","v":1},{"$error":"#VALUE!"},{"$error":"#VALUE!"},{"$error":"#VALUE!"},{"$error":"#VALUE!"},"--","--","--","--","--","--",null,null,null,null,null,"3ST","--","--","--","--","--","--",2.1]
[null,null,null,"PDO",{"$f":"IF(ISNUMBER(E62),1/(1+E62*E59),\"--\")","v":1},{"$error":"#VALUE!"},{"$error":"#VALUE!"},{"$error":"#VALUE!"},{"$error":"#VALUE!"},"--","--","--","--","--","--",null,null,null,null,null,"3SG","--","--",0.24,"--","--","--",1.04]
[null,null,"Nexpected","Total",{"$f":"IF(ISNUMBER(E60),E63*E57+(1-E63)*D19,IF(ISNUMBER(E67),SUM(E67:E68),\"--\"))","v":0},{"$error":"#VALUE!"},{"$error":"#VALUE!"},{"$error":"#VALUE!"},{"$error":"#VALUE!"},"--","--","--","--","--",{"$f":"IF(ISNUMBER(E60),SUM(E66:N66),\"--\")","v":{"$error":"#VALUE!"}},null,null,null,null,null,"4ST","--","--","--","--","--","--",1.64]
[null,null,null,"Fatal/Injury",{"$f":"IF(ISNUMBER(E61),E64*E58+(1-E64)*D20,\"--\")","v":0},{"$error":"#VALUE!"},{"$error":"#VALUE!"},{"$error":"#VALUE!"},{"$error":"#VALUE!"},"--","--","--","--","--",{"$f":"IF(ISNUMBER(E61),SUM(E67:N67),\"--\")","v":{"$error":"#VALUE!"}},null,null,null,null,null,"4SG","--","--",0.09,"--","--","--",0.98]
[null,null,null,"PDO",0,{"$error":"#VALUE!"},{"$error":"#VALUE!"},{"$error":"#VALUE!"},{"$error":"#VALUE!"},"--","--","--","--","--",{"$f":"IF(ISNUMBER(E62),SUM(E68:N68),\"--\")","v":{"$error":"#VALUE!"}},null,null,null,null,"PDO","Intx","R2L","RML","U/S Art.","2x2","1x2","1x1","U/S Art."]
[null,null,"Nexpected / Npredicted",null,null,null,null,null,null,null,null,null,null,"Total",{"$f":"IF(AND(ISNUMBER(E57),ISNUMBER(E60)),O66/O57,1)","v":1},null,null,null,null,null,"3ST","--","--",0.28999999999999998,"--","--","--",0.75]
[null,null,null,null,null,null,null,null,null,null,null,null,null,"F/I",{"$f":"IF(AND(ISNUMBER(E58),ISNUMBER(E61)),O67/O58,1)","v":1},null,null,null,null,null,"3SG","--","--",0.53,"--","--","--",0.74]
[null,null,null,null,null,null,null,null,null,null,null,null,null,"PDO",{"$f":"IF(AND(ISNUMBER(E59),ISNUMBER(E62)),O68/O59,1)","v":1},null,null,null,null,null,"4ST","--","--",0.54,"--","--","--",1.4]
[null,"Vehicle-Pedestrian","Year",null,{"$f":"D$12","v":2010},2011,2012,2013,2014,"--","--","--","--","--","Total",null,null,null,null,null,"4SG","--","--",0.44,"--","--","--",0.84]
[null,null,"Npredicted","Fatal/Injury",null,{"$f":"IF(AND(ISNUMBER(E$12),ISNUMBER(E73)),E73,\"--\")","v":"--"},"--","--","--","--","--","--","--","--",{"$f":"IF(ISNUMBER(E76),SUM(E73:N73),\"--\")","v":0},null,null,null,"Multiple-Vehicle","Total","Intx","R2L","RML","U/S Art.","2x2","1x2","1x1","U/S Art."]
[null,null,"Disp. (k)","Fatal/Injury",{"$f":"IF(AND(EB_Facility_Type>=3,EB_Facility_Type<7),VLOOKUP(EB_Intx_Type,U89:AB92,EB_Facility_Type+1,FALSE),\"--\")","v":0.52},0.52,0.52,0.52,0.52,"--","--","--","--","--","--",null,null,null,null,null,"3ST","--","--",0.8,"--","--","--",0.85]
[null,null,"Weight (w)","Fatal/Injury",{"$f":"IF(ISNUMBER(E74),1/(1+E74*E73),\"--\")","v":1},1,1,1,1,"--","--","--","--","--","--",null,null,null,null,null,"3SG","--","--",0.33,"--","--","--",0.21]
[null,null,"Nexpected","Fatal/Injury",{"$f":"IF(ISNUMBER(E74),E75*E73+(1-E75)*D22,\"--\")","v":0},{"$error":"#VALUE!"},{"$error":"#VALUE!"},{"$error":"#VALUE!"},{"$error":"#VALUE!"},"--","--","--","--","--",{"$f":"IF(AND(ISNUMBER(NPred_Ped),ISNUMBER(E74)),SUM(E76:N76),\"--\")","v":"--"},null,null,null,null,null,"4ST","--","--",0.4,"--","--","--",0.91]
[null,null,"Nexpected / Npredicted",null,null,null,null,null,null,null,null,null,null,"F/I",{"$f":"IF(AND(ISNUMBER(E73),ISNUMBER(E74)),O76/O73,1)","v":1},null,null,null,null,null,"4SG","--","--",0.39,"--","--","--",0.39]
[null,"Vehicle-Bicylce","Year",null,{"$f":"D$12","v":2010},2011,2012,2013,2014,"--","--","--","--","--","Total",null,null,null,null,"Fatal / Injury","Intx","R2L","RML","U/S Art.","2x2","1x2","1x1","U/S Art."]
[null,null,"Npredicted","Fatal/Injury",null,{"$f":"IF(AND(ISNUMBER(E$12),ISNUMBER(E79)),E79,\"--\")","v":"--"},"--","--","--","--","--","--","--","--",{"$f":"IF(ISNUMBER(E82),SUM(E79:N79),\"--\")","v":"--"},null,null,null,null,null,"3ST","--","--",0.69,"--","--","--",0.76]
[null,null,"Disp. (k)","Fatal/Injury","--","--","--","--","--","--","--","--","--","--","--",null,null,null,null,null,"3SG","--","--",0.3,"--","--","--",0.09]
[null,null,"Weight (w)","Fatal/Injury",{"$f":"IF(ISNUMBER(E80),1/(1+E80*E79),\"--\")","v":"--"},"--","--","--","--","--","--","--","--","--","--",null,null,null,null,null,"4ST","--","--",0.48,"--","--","--",0.89]
[null,null,"Nexpected","Fatal/Injury",{"$f":"IF(ISNUMBER(E80),E81*E79+(1-E81)*E41,\"--\")","v":"--"},"--","--","--","--","--","--","--","--","--",{"$f":"IF(ISNUMBER(E80),SUM(E82:N82),\"--\")","v":"--"},null,null,null,null,null,"4SG","--","--",0.33,"--","--","--",0.31]
[null,null,"Nexpected / Npredicted",null,null,null,null,null,null,null,null,null,null,"F/I",{"$f":"IF(AND(ISNUMBER(E79),ISNUMBER(E80)),O82/O79,1)","v":1},null,null,null,null,"PDO","Intx","R2L","RML","U/S Art.","2x2","1x2","1x1","U/S Art."]
[null,null,null,null,null,null,null,null,null,null,null,null,null,null,null,null,null,null,null,null,"3ST","--","--",0.77,"--","--","--",1.1100000000000001]
[null,null,null,null,null,null,null,null,null,null,null,null,null,null,null,null,null,null,null,null,"3SG","--","--",0.36,"--","--","--",0.34]
[null,null,null,null,null,null,null,null,null,null,null,null,null,null,null,null,null,null,null,null,"4ST","--","--",0.4,"--","--","--",0.94]
[null,null,null,null,null,null,null,null,null,null,null,null,null,null,null,null,null,null,null,null,"4SG","--","--",0.44,"--","--","--",0.38]
[null,null,null,null,null,null,null,null,null,null,null,null,null,null,null,null,null,null,"Veh-Pedestrian","Fatal / Injury","Intx","R2L","RML","U/S Art.","2x2","1x2","1x1","U/S Art."]
[null,null,null,null,null,null,null,null,null,null,null,null,null,null,null,null,null,null,null,null,"3ST","--","--","--","--","--","--","--"]
[null,null,null,null,null,null,null,null,null,null,null,null,null,null,null,null,null,null,null,null,"3SG","--","--",0.52,0.52,0.52,0.52,"--"]
[null,null,null,null,null,null,null,null,null,null,null,null,null,null,null,null,null,null,null,null,"4ST","--","--","--","--","--","--","--"]
[null,null,null,null,null,null,null,null,null,null,null,null,null,null,null,null,null,null,null,null,"4SG","--","--",0.24,0.24,0.24,0.24,"--"]

{"sheet":"HistoricalRTI","index":21,"n_rows":71,"n_cols":24,"rows_kept":71,"cut":false,"hidden":true,"merged":[[7,3,7,4],[10,1,11,2],[10,3,10,12],[39,2,39,3],[39,18,41,21],[12,1,14,1],[15,1,17,1],[38,1,38,14],[39,1,54,1],[42,18,56,18],[42,19,46,19],[43,2,45,2],[40,2,42,2],[55,1,70,1],[67,19,70,19],[63,18,70,18],[0,0,0,13],[1,0,2,13],[4,1,5,2],[4,3,5,4],[6,3,6,4],[6,10,6,11],[46,2,48,2],[47,19,51,19],[49,2,51,2],[52,2,54,12],[52,19,56,19],[68,2,70,12],[60,18,62,21],[63,19,66,19],[55,2,55,3],[56,2,58,2],[59,2,61,2],[62,2,64,2],[65,2,67,2]]}
["Historical Crash Data Input"]
["Note: In order to use Empirical Bayes (EB), the historical intersection type must be a traffic signal or a minor road stop.  Additionally, this alternative must be selected to be included in the analysis, and the historical intersection specified below.  Up to 10 years of historical data can be used to perform the EB adjustment."]
[]
[]
[null,"Use historical Emprical Bayes Adjustment?",null,"Yes"]
[]
[null,"Number of years available:",null,2,null,"(Up to 10)",null,"First Year Data is available: ",null,null,2010]
[null,"Historical Intx Type:",null,"4ST"]
[]
[]
[null,"Historical Crash Counts",null,"Year"]
[null,null,null,{"$f":"IF($D$7>0,$K$7,\"--\")","v":2010},{"$f":"IF($D$7>1,$K$7+1,\"--\")","v":2011},{"$f":"IF($D$7>2,$K$7+2,\"--\")","v":"--"},{"$f":"IF($D$7>3,$K$7+3,\"--\")","v":"--"},{"$f":"IF($D$7>4,$K$7+4,\"--\")","v":"--"},{"$f":"IF($D$7>5,$K$7+5,\"--\")","v":"--"},{"$f":"IF($D$7>6,$K$7+6,\"--\")","v":"--"},{"$f":"IF($D$7>7,$K$7+7,\"--\")","v":"--"},{"$f":"IF($D$7>8,$K$7+8,\"--\")","v":"--"},{"$f":"IF($D$7>9,$K$7+9,\"--\")","v":"--"},"Total"]
[null,{"$f":"IF(EB_RTI_Intx_Type=X43,\"Single Point Diamond\",\"NB Ramp Terminal\")","v":"NB Ramp Terminal"},"Total",{"$f":"IF(ISNUMBER(D$12),SUM(D14:D15),\"--\")","v":10},{"$f":"IF(ISNUMBER(E12),SUM(E14:E15),\"--\")","v":10},"--","--","--","--","--","--","--","--",{"$f":"IF(ISNUMBER(D13),SUM(D13:M13),\"--\")","v":20},{"$f":"IF(COUNTIF(D13:M13,\"=0\")>0,\"One or more years has 0 total crashes.\",\"\")","v":""}]
[null,null,"Fatal/Injury",5,5,null,null,null,null,null,null,null,null,{"$f":"SUMPRODUCT(D14:M14,--(ISNUMBER($D$12:$M$12)))","v":10}]
[null,null,"PDO",5,5,null,null,null,null,null,null,null,null,10]
[null,"SB Ramp Terminal","Total",{"$f":"IF(ISNUMBER(D$12),SUM(D17:D18),\"--\")","v":12},{"$f":"IF(ISNUMBER(E12),SUM(E17:E18),\"--\")","v":12},{"$f":"IF(ISNUMBER(F12),SUM(F17:F18),\"--\")","v":"--"},"--","--","--","--","--","--","--",{"$f":"IF(ISNUMBER(D16),SUM(D16:M16),\"--\")","v":24},{"$f":"IF(COUNTIF(D16:M16,\"=0\")>0,\"One or more years has 0 total crashes.\",\"\")","v":""}]
[null,null,"Fatal/Injury",6,6,null,null,null,null,null,null,null,null,12]
[null,null,"PDO",6,6,null,null,null,null,null,null,null,null,12]
[]
[]
[]
[]
[]
[]
[]
[]
[]
[]
[]
[null,"Computations Only Below This Point"]
[]
[]
[]
[]
[]
[]
[]
[]
[]
[null,{"$f":"\"Combined Colisions - \"&B13","v":"Combined Colisions - NB Ramp Terminal"},"Year",null,{"$f":"D$12","v":2010},2011,"--","--","--","--","--","--","--","--","Total",null,null,null,"Ramp Terminal\n Dispersion Parameters",null,null,null,null,"Available Types"]
[null,null,"Npredicted","Total",null,{"$f":"IF(AND(ISNUMBER(E$12),ISNUMBER(Npred_RTI_Total1)),Npred_RTI_Total1,\"--\")","v":"--"},"--","--","--","--","--","--","--","--",{"$f":"IF(ISNUMBER(E44),SUM(E41:N41),\"--\")","v":"--"},null,null,null,null,null,null,null,null,"4ST"]
[null,null,null,"Fatal/Injury",0.6446531474518804,{"$f":"IF(AND(ISNUMBER(E$12),ISNUMBER(Npred_RTI_FI1)),Npred_RTI_FI1,\"--\")","v":0.6446531474518804},"--","--","--","--","--","--","--","--",{"$f":"IF(ISNUMBER(E45),SUM(E42:N42),\"--\")","v":1.2893062949037608},null,null,null,null,null,null,null,null,"4SG"]
[null,null,null,"PDO",1.206161164421782,{"$f":"IF(AND(ISNUMBER(E$12),ISNUMBER(Npred_RTI_PDO1)),Npred_RTI_PDO1,\"--\")","v":1.206161164421782},"--","--","--","--","--","--","--","--",{"$f":"IF(ISNUMBER(E46),SUM(E43:N43),\"--\")","v":2.412322328843564},null,null,null,"Combined Multi and Single Vehicle","Total","Intx","D4",null,"SPDI"]
[null,null,"Dispersion Parameter (k)","Total",{"$f":"IF(EB_RTI_Intx_Type=X43,\"--\",VLOOKUP(EB_RTI_Intx_Type,U44:V47,2,FALSE))","v":"--"},{"$f":"IF(AND(ISNUMBER(E$12),ISNUMBER(E44)),E44,\"--\")","v":"--"},"--","--","--","--","--","--","--","--","--",null,null,null,null,null,"3ST","--",null,"TD"]
[null,null,null,"Fatal/Injury",{"$f":"IF(EB_RTI_Intx_Type=X43,VLOOKUP(Input_SPUI_NFFRT,HistoricalRTI!U65:V67,2,FALSE),VLOOKUP(EB_RTI_Intx_Type,U49:V52,2,FALSE))","v":0.38759689922480617},0.38759689922480617,"--","--","--","--","--","--","--","--","--",null,null,null,null,null,"3SG","--"]
[null,null,null,"PDO",{"$f":"IF(EB_RTI_Intx_Type=X43,VLOOKUP(Input_SPUI_NFFRT,HistoricalRTI!U69:V71,2,FALSE),VLOOKUP(EB_RTI_Intx_Type,U54:V57,2,FALSE))","v":0.23419203747072601},0.23419203747072601,"--","--","--","--","--","--","--","--","--",null,null,null,null,null,"4ST","--"]
[null,null,"Weighted Adjustment (w)","Total",{"$f":"IF(AND(ISNUMBER(Npred_RTI_Total1),ISNUMBER(E44)),1/(1+E44*E41),\"--\")","v":"--"},"--","--","--","--","--","--","--","--","--","--",null,null,null,null,null,"4SG","--"]
[null,null,null,"Fatal/Injury",{"$f":"IF(AND(ISNUMBER(Npred_RTI_FI1),ISNUMBER(E45)),1/(1+E45*E42),\"--\")","v":0.80008605019696921},0.80008605019696921,"--","--","--","--","--","--","--","--","--",null,null,null,null,"Fatal / Injury","Intx","D4"]
[null,null,null,"PDO",{"$f":"IF(AND(ISNUMBER(Npred_RTI_PDO1),ISNUMBER(E46)),1/(1+E46*E43),\"--\")","v":0.77974330407619796},0.77974330407619796,"--","--","--","--","--","--","--","--","--",null,null,null,null,null,"3ST","--"]
[null,null,"Nexpected","Total",{"$f":"IF(AND(ISNUMBER(Npred_RTI_Total1),ISNUMBER(E44)),E47*E41+(1-E47)*D13,IF(ISNUMBER(E51),SUM(E51:E52),\"--\"))","v":3.5571273107206181},3.5571273107206181,"--","--","--","--","--","--","--","--",{"$f":"IF(ISNUMBER(E44),SUM(E50:N50),\"--\")","v":"--"},null,null,null,null,null,"3SG","--"]
[null,null,null,"Fatal/Injury",{"$f":"IF(AND(ISNUMBER(Npred_RTI_FI1),ISNUMBER(E45)),E48*E42+(1-E48)*D14,\"--\")","v":1.5153477395069732},1.5153477395069732,"--","--","--","--","--","--","--","--",{"$f":"IF(ISNUMBER(E45),SUM(E51:N51),\"--\")","v":3.0306954790139464},null,null,null,null,null,"4ST",0.38759689922480617]
[null,null,null,"PDO",{"$f":"IF(AND(ISNUMBER(Npred_RTI_PDO1),ISNUMBER(E46)),E49*E43+(1-E49)*D15,\"--\")","v":2.0417795712136448},2.0417795712136448,"--","--","--","--","--","--","--","--",{"$f":"IF(ISNUMBER(E46),SUM(E52:N52),\"--\")","v":4.0835591424272897},null,null,null,null,null,"4SG",8.6956521739130432E-2]
[null,null,"Nexpected / Npredicted",null,null,null,null,null,null,null,null,null,null,"Total",{"$f":"IF(AND(ISNUMBER(E41),ISNUMBER(E44)),O50/O41,1)","v":1},null,null,null,null,"PDO","Intx","D4"]
[null,null,null,null,null,null,null,null,null,null,null,null,null,"F/I",{"$f":"IF(AND(ISNUMBER(E42),ISNUMBER(E45)),O51/O42,1)","v":2.3506404110438086},null,null,null,null,null,"3ST","--"]
[null,null,null,null,null,null,null,null,null,null,null,null,null,"PDO",{"$f":"IF(AND(ISNUMBER(E43),ISNUMBER(E46)),O52/O43,1)","v":1.6927916695050014},null,null,null,null,null,"3SG","--"]
[null,{"$f":"IF(EB_RTI_Intx_Type=X43,\"--\",\"Combined Colisions - \"&B16)","v":"Combined Colisions - SB Ramp Terminal"},"Year",null,{"$f":"D$12","v":2010},2011,"--","--","--","--","--","--","--","--","Total",null,null,null,null,null,"4ST",0.23419203747072601]
[null,null,"Npredicted","Total",null,{"$f":"IF(AND(ISNUMBER(E$12),ISNUMBER(Npred_RTI_Total2)),Npred_RTI_Total2,\"--\")","v":"--"},"--","--","--","--","--","--","--","--",{"$f":"IF(ISNUMBER(E60),SUM(E57:N57),\"--\")","v":"--"},null,null,null,null,null,"4SG",0.13869625520110956]
[null,null,null,"Fatal/Injury",0.86714985685424095,{"$f":"IF(AND(ISNUMBER(E$12),ISNUMBER(Npred_RTI_FI2)),Npred_RTI_FI2,\"--\")","v":0.86714985685424095},"--","--","--","--","--","--","--","--",{"$f":"IF(ISNUMBER(E61),SUM(E58:N58),\"--\")","v":1.7342997137084819}]
[null,null,null,"PDO",1.6472121148239491,{"$f":"IF(AND(ISNUMBER(E$12),ISNUMBER(Npred_RTI_PDO2)),Npred_RTI_PDO2,\"--\")","v":1.6472121148239491},"--","--","--","--","--","--","--","--",{"$f":"IF(ISNUMBER(E62),SUM(E59:N59),\"--\")","v":3.2944242296478983}]
[null,null,"Dispersion Parameter (k)","Total",{"$f":"IF(EB_RTI_Intx_Type=X43,\"--\",VLOOKUP(EB_RTI_Intx_Type,U44:V47,2,FALSE))","v":"--"},{"$f":"IF(AND(ISNUMBER(E$12),ISNUMBER(E60)),E60,\"--\")","v":"--"},"--","--","--","--","--","--","--","--","--"]
[null,null,null,"Fatal/Injury",{"$f":"IF(EB_RTI_Intx_Type=X43,\"--\",VLOOKUP(EB_RTI_Intx_Type,U49:V52,2,FALSE))","v":0.38759689922480617},0.38759689922480617,"--","--","--","--","--","--","--","--","--",null,null,null,"Single Point Diamond Interchange\n Dispersion Parameters"]
[null,null,null,"PDO",{"$f":"IF(EB_RTI_Intx_Type=X43,\"--\",VLOOKUP(EB_RTI_Intx_Type,U54:V57,2,FALSE))","v":0.23419203747072601},0.23419203747072601,"--","--","--","--","--","--","--","--","--"]
[null,null,"Weighted Adjustment (w)","Total",{"$f":"IF(AND(ISNUMBER(Npred_RTI_Total2),ISNUMBER(E60)),1/(1+E60*E57),\"--\")","v":"--"},"--","--","--","--","--","--","--","--","--","--"]
[null,null,null,"Fatal/Injury",{"$f":"IF(AND(ISNUMBER(Npred_RTI_FI2),ISNUMBER(E61)),1/(1+E61*E58),\"--\")","v":0.74844439816562702},0.74844439816562702,"--","--","--","--","--","--","--","--","--",null,null,null,"Combined Multi and Single Vehicle","Fatal / \nInjury","# FF RT","k"]
[null,null,null,"PDO",{"$f":"IF(AND(ISNUMBER(Npred_RTI_PDO2),ISNUMBER(E62)),1/(1+E62*E59),\"--\")","v":0.72162361550343757},0.72162361550343757,"--","--","--","--","--","--","--","--","--",null,null,null,null,null,0,0.11]
[null,null,"Nexpected","Total",{"$f":"IF(AND(ISNUMBER(Npred_RTI_Total2),ISNUMBER(E60)),E63*E57+(1-E63)*D16,IF(ISNUMBER(E67),SUM(E67:E68),\"--\"))","v":5.017272532518616},5.017272532518616,"--","--","--","--","--","--","--","--",{"$f":"IF(ISNUMBER(E60),SUM(E66:N66),\"--\")","v":"--"},null,null,null,null,null,1,0.11]
[null,null,null,"Fatal/Injury",{"$f":"IF(AND(ISNUMBER(Npred_RTI_FI2),ISNUMBER(E61)),E64*E58+(1-E64)*D17,\"--\")","v":2.1583470637389199},2.1583470637389199,"--","--","--","--","--","--","--","--",{"$f":"IF(ISNUMBER(E61),SUM(E67:N67),\"--\")","v":4.3166941274778399},null,null,null,null,null,2,0.11]
[null,null,null,"PDO",{"$f":"IF(AND(ISNUMBER(Npred_RTI_PDO2),ISNUMBER(E62)),E65*E59+(1-E65)*D18,\"--\")","v":2.8589254687796961},2.8589254687796961,"--","--","--","--","--","--","--","--",{"$f":"IF(ISNUMBER(E62),SUM(E68:N68),\"--\")","v":5.7178509375593922},null,null,null,null,"PDO","# FF RT","k"]
[null,null,"Nexpected / Npredicted",null,null,null,null,null,null,null,null,null,null,"Total",{"$f":"IF(AND(ISNUMBER(E57),ISNUMBER(E60)),O66/O57,1)","v":1},null,null,null,null,null,0,0.1]
[null,null,null,null,null,null,null,null,null,null,null,null,null,"F/I",{"$f":"IF(AND(ISNUMBER(E58),ISNUMBER(E61)),O67/O58,1)","v":2.4890127659926673},null,null,null,null,null,1,0.1]
[null,null,null,null,null,null,null,null,null,null,null,null,null,"PDO",{"$f":"IF(AND(ISNUMBER(E59),ISNUMBER(E62)),O68/O59,1)","v":1.7356146443138882},null,null,null,null,null,2,0.1]

{"sheet":"Results","index":22,"n_rows":48,"n_cols":27,"rows_kept":48,"cut":false,"hidden":false,"merged":[[36,6,37,6],[36,7,37,7],[36,8,37,8],[36,9,37,9],[36,10,37,10],[38,0,39,0],[38,5,39,5],[38,6,39,6],[38,7,39,7],[38,8,39,8],[38,9,39,9],[38,10,39,10],[44,10,45,10],[46,10,47,10],[22,9,23,9],[20,10,21,10],[22,10,23,10],[24,10,25,10],[26,10,27,10],[20,7,21,7],[22,7,23,7],[42,10,43,10],[34,10,35,10],[40,10,41,10],[28,7,29,7],[30,7,31,7],[32,7,33,7],[28,10,29,10],[30,10,31,10],[32,10,33,10],[46,8,47,8],[46,9,47,9],[40,9,41,9],[42,8,43,8],[42,9,43,9],[44,8,45,8],[30,6,31,6],[32,6,33,6],[24,7,25,7],[26,7,27,7],[46,0,47,0],[44,5,45,5],[13,0,13,10],[46,5,47,5],[20,0,21,0],[34,0,35,0],[40,0,41,0],[42,0,43,0],[14,5,15,5],[14,4,15,4],[14,1,15,1],[14,2,15,2],[14,3,15,3],[16,6,17,6],[14,0,15,0],[46,6,47,6],[46,7,47,7],[44,6,45,6],[16,0,17,0],[18,0,19,0],[44,0,45,0],[26,5,27,5],[18,5,19,5],[42,5,43,5],[28,5,29,5],[30,5,31,5],[32,5,33,5],[34,5,35,5],[40,5,41,5],[28,0,29,0],[22,0,23,0],[24,0,25,0],[26,0,27,0],[30,0,31,0],[32,0,33,0],[20,5,21,5],[22,5,23,5],[24,5,25,5],[36,0,37,0],[36,5,37,5],[0,0,0,10],[1,0,1,10],[2,0,2,10],[3,0,3,10],[4,0,4,10],[10,1,10,3],[11,1,11,3],[12,1,12,3],[5,1,5,3],[6,1,6,3],[7,1,7,3],[8,1,8,3],[9,1,9,3],[5,8,5,10],[6,8,6,10],[5,4,5,7],[6,4,6,7],[7,4,7,7],[8,4,8,7],[9,4,9,7],[7,8,7,10],[8,8,8,10],[9,8,9,10],[10,8,10,10],[44,7,45,7],[34,6,35,6],[42,6,43,6],[34,7,35,7],[40,7,41,7],[42,7,43,7],[40,6,41,6],[11,8,11,10],[12,8,12,10],[14,8,14,10],[16,10,17,10],[18,10,19,10],[14,6,15,6],[14,7,15,7],[16,8,17,8],[16,9,17,9],[16,7,17,7],[18,7,19,7],[18,6,19,6],[18,8,19,8],[18,9,19,9],[24,9,25,9],[26,8,27,8],[26,9,27,9],[20,9,21,9],[44,9,45,9],[30,8,31,8],[30,9,31,9],[32,8,33,8],[32,9,33,9],[34,8,35,8],[34,9,35,9],[24,8,25,8],[22,8,23,8],[40,8,41,8],[28,8,29,8],[28,9,29,9],[24,6,25,6],[26,6,27,6],[28,6,29,6],[10,4,10,7],[11,4,11,7],[12,4,12,7],[20,6,21,6],[22,6,23,6],[20,8,21,8],[16,5,17,5]]}
["Federal Highway Administration (FHWA)"]
["Safety Performance for Intersection Control Evaluation Tool"]
["Results",null,null,null,null,null,null,null,null,null,null,{"$f":"IF(OR(OR(ISBLANK('Control Strategy Selection'!D5),ISBLANK('Control Strategy Selection'!D13),ISBLANK('Control Strategy Selection'!D14)),IF('Control Strategy Selection'!D4=Label_AnalysisYearType_OpenAndDesign,OR(ISBLANK('Control Strategy Selection'!D6),ISBLANK('Control Strategy Selection'!D15),ISBLANK('Control Strategy Selection'!D16)),FALSE)),\"Please complete the Opening/Design Year Inputs and AADTs Before Viewing Results\",\"\")","v":"Please complete the Opening/Design Year Inputs and AADTs Before Viewing Results"}]
["Summary of crash prediction results for each alternative"]
["Project Information"]
["Project Name:",{"$f":"IF(ISBLANK('Project Information'!B3:C3),\"\",'Project Information'!B3:C3)","v":""},null,null,"Intersection Type",null,null,null,{"$f":"'Control Strategy Selection'!D3","v":"At-Grade Intersections"}]
["Intersection:",{"$f":"IF(ISBLANK('Project Information'!B4:C4),\"\",'Project Information'!B4:C4)","v":""},null,null,"Opening Year",null,null,null,{"$f":"'Control Strategy Selection'!D5","v":0}]
["Agency: ",{"$f":"IF(ISBLANK('Project Information'!B5:C5),\"\",'Project Information'!B5:C5)","v":""},null,null,"Design Year",null,null,null,{"$f":"'Control Strategy Selection'!D6","v":0}]
["Project Reference:",{"$f":"IF(ISBLANK('Project Information'!B6:C6),\"\",'Project Information'!B6:C6)","v":""},null,null,"Facility Type",null,null,null,{"$f":"'Control Strategy Selection'!D8","v":"On Urban and Suburban Arterial"}]
["City:",{"$f":"IF(ISBLANK('Project Information'!B7:C7),\"\",'Project Information'!B7:C7)","v":""},null,null,"Number of Legs",null,null,null,{"$f":"'Control Strategy Selection'!D9","v":"4-leg"}]
["State:",{"$f":"IF(ISBLANK('Project Information'!B8:C8),\"\",'Project Information'!B8:C8)","v":""},null,null,"1-Way/2-Way",null,null,null,{"$f":"'Control Strategy Selection'!D10","v":"2-way Intersecting 2-way"}]
["Date:",{"$f":"IF(ISBLANK('Project Information'!B9:C9),\"\",'Project Information'!B9:C9)","v":""},null,null,"# of Major Street Lanes (both directions)",null,null,null,{"$f":"'Control Strategy Selection'!D11","v":"5 or fewer"}]
["Analyst:",{"$f":"IF(ISBLANK('Project Information'!B10:C10),\"\",'Project Information'!B10:C10)","v":""},null,null,"Major Street Approach Speed",null,null,null,{"$f":"'Control Strategy Selection'!D12","v":"Less than 55 mph"}]
["Crash Prediction Summary"]
["Control Strategy","Crash Type","Opening Year","Design Year","Total Project Life Cycle","Crash Prediction Rank","AADT Within SPF Prediction Range?","Source of Prediction","SSI Score",null,null,null,null,null,null,null,null,null,"Use Val (open vs design)",null,"Included","Total","FI",false]
[null,null,null,null,null,null,null,null,"Open Year","Design Year","Rank"]
[{"$f":"Label_AGI_TrafficSignal","v":"Traffic Signal"},"Total",null,null,null,{"$f":"IF(OR(AND(ISNUMBER(C17),C17>0),AND(ISNUMBER(E17),E17>0)),AA17,\"--\")","v":"--"},{"$f":"IF(AND('Control Strategy Selection'!O19:P19),\"Yes\",\"No\")","v":"Yes"},"Calibrated SPF",{"$f":"IF(IsChecked_AGI_TrafficSignal,'SSI Results'!C13,\"\")","v":{"$error":"#VALUE!"}},{"$f":"IF(IsChecked_AGI_TrafficSignal,'SSI Results'!C54,\"\")","v":{"$error":"#VALUE!"}},{"$f":"IF(ISNUMBER(J17),_xlfn.RANK.EQ(J17,$J$17:$J$48),IF(ISNUMBER(I17),_xlfn.RANK.EQ(I17,$I$17:$I$48),\"--\"))","v":"--"},null,null,null,null,null,null,null,{"$f":"IF(Input_AnalysisYearType=Notes!$A$11,Results!C17,Results!E17)","v":0},{"$f":"IF(Input_AnalysisYearType=Notes!$A$11,Results!C18,Results!E18)","v":0},{"$f":"AND(IsChecked_AGI_TrafficSignal,ISNUMBER(S17))","v":true},{"$f":"IF(AND(S17>0,U17),S17,99999999999)","v":99999999999},{"$f":"IF(AND(T17>0,U17),T17,99999999999)","v":99999999999},{"$f":"RANK(V17,$V$17:$V$32,1)","v":1},{"$f":"RANK(W17,$W$17:$W$32,1)","v":1},{"$f":"IF($X$15,X17+0.01*Y17,Y17+0.01*X17)","v":1.01},{"$f":"RANK(Z17,$Z$17:$Z$32,1)","v":1}]
[null,"Fatal & Injury",null,null,null,null,null,null,null,null,null,null,null,null,null,null,null,null,{"$f":"IF(Input_AnalysisYearType=Notes!$A$11,Results!C19,Results!E19)","v":0},{"$f":"IF(Input_AnalysisYearType=Notes!$A$11,Results!C20,Results!E20)","v":0},{"$f":"AND(IsChecked_AGI_TrafficSignal2,ISNUMBER(S18))","v":true},99999999999,99999999999,1,1,1.01,1]
[{"$f":"Label_AGI_TrafficSignal&\" (Alt)\"","v":"Traffic Signal (Alt)"},"Total",null,null,null,{"$f":"IF(OR(AND(ISNUMBER(C19),C19>0),AND(ISNUMBER(E19),E19>0)),AA18,\"--\")","v":"--"},{"$f":"IF(AND('Control Strategy Selection'!O20:P20),\"Yes\",\"No\")","v":"Yes"},"Calibrated SPF",{"$f":"IF(IsChecked_AGI_TrafficSignal2,'SSI Results'!C14,\"\")","v":{"$error":"#VALUE!"}},{"$f":"IF(IsChecked_AGI_TrafficSignal2,'SSI Results'!C55,\"\")","v":{"$error":"#VALUE!"}},{"$f":"IF(ISNUMBER(J19),_xlfn.RANK.EQ(J19,$J$17:$J$48),IF(ISNUMBER(I19),_xlfn.RANK.EQ(I19,$I$17:$I$48),\"--\"))","v":"--"},null,null,null,null,null,null,null,{"$f":"IF(Input_AnalysisYearType=Notes!$A$11,Results!C21,Results!E21)","v":0},{"$f":"IF(Input_AnalysisYearType=Notes!$A$11,Results!C22,Results!E22)","v":0},{"$f":"AND(IsChecked_AGI_MinorStop,ISNUMBER(S19))","v":true},99999999999,99999999999,1,1,1.01,1]
[null,"Fatal & Injury",null,null,null,null,null,null,null,null,null,null,null,null,null,null,null,null,{"$f":"IF(Input_AnalysisYearType=Notes!$A$11,Results!C23,Results!E23)","v":0},{"$f":"IF(Input_AnalysisYearType=Notes!$A$11,Results!C24,Results!E24)","v":0},{"$f":"AND(IsChecked_AGI_AllStop,ISNUMBER(S20))","v":true},99999999999,99999999999,1,1,1.01,1]
[{"$f":"Label_AGI_MinorStop","v":"Minor Road Stop"},"Total",null,null,null,{"$f":"IF(OR(AND(ISNUMBER(C21),C21>0),AND(ISNUMBER(E21),E21>0)),AA19,\"--\")","v":"--"},{"$f":"IF(AND('Control Strategy Selection'!O21:P21),\"Yes\",\"No\")","v":"Yes"},"Calibrated SPF",{"$f":"IF(IsChecked_AGI_MinorStop,'SSI Results'!C15,\"\")","v":{"$error":"#VALUE!"}},{"$f":"IF(IsChecked_AGI_MinorStop,'SSI Results'!C56,\"\")","v":{"$error":"#VALUE!"}},{"$f":"IF(ISNUMBER(J21),_xlfn.RANK.EQ(J21,$J$17:$J$48),IF(ISNUMBER(I21),_xlfn.RANK.EQ(I21,$I$17:$I$48),\"--\"))","v":"--"},null,null,null,null,null,null,null,{"$f":"IF(Input_AnalysisYearType=Notes!$A$11,Results!C25,Results!E25)","v":0},{"$f":"IF(Input_AnalysisYearType=Notes!$A$11,Results!C26,Results!E26)","v":0},{"$f":"AND(IsChecked_AGI_Rdbt1Ln,ISNUMBER(S21))","v":true},99999999999,99999999999,1,1,1.01,1]
[null,"Fatal & Injury",null,null,null,null,null,null,null,null,null,null,null,null,null,null,null,null,{"$f":"IF(Input_AnalysisYearType=Notes!$A$11,Results!C27,Results!E27)","v":0},{"$f":"IF(Input_AnalysisYearType=Notes!$A$11,Results!C28,Results!E28)","v":0},{"$f":"AND(IsChecked_AGI_Rdbt2Ln,ISNUMBER(S22))","v":true},99999999999,99999999999,1,1,1.01,1]
[{"$f":"Label_AGI_AllStop","v":"All Way Stop"},"Total",null,null,null,{"$f":"IF(OR(AND(ISNUMBER(C23),C23>0),AND(ISNUMBER(E23),E23>0)),AA20,\"--\")","v":"--"},"N/A","N/A",{"$f":"IF(IsChecked_AGI_AllStop,'SSI Results'!C16,\"\")","v":{"$error":"#VALUE!"}},{"$f":"IF(IsChecked_AGI_AllStop,'SSI Results'!C57,\"\")","v":{"$error":"#VALUE!"}},{"$f":"IF(ISNUMBER(J23),_xlfn.RANK.EQ(J23,$J$17:$J$48),IF(ISNUMBER(I23),_xlfn.RANK.EQ(I23,$I$17:$I$48),\"--\"))","v":"--"},null,null,null,null,null,null,null,{"$f":"IF(Input_AnalysisYearType=Notes!$A$11,Results!C29,Results!E29)","v":0},{"$f":"IF(Input_AnalysisYearType=Notes!$A$11,Results!C30,Results!E30)","v":0},{"$f":"AND(IsChecked_AGI_DLT,ISNUMBER(S23))","v":true},99999999999,99999999999,1,1,1.01,1]
[null,"Fatal & Injury",null,null,null,null,null,null,null,null,null,null,null,null,null,null,null,null,{"$f":"IF(Input_AnalysisYearType=Notes!$A$11,Results!C31,Results!E31)","v":0},{"$f":"IF(Input_AnalysisYearType=Notes!$A$11,Results!C32,Results!E32)","v":0},{"$f":"AND(IsChecked_AGI_MUT,ISNUMBER(S24))","v":true},99999999999,99999999999,1,1,1.01,1]
[{"$f":"Label_AGI_1LnRdbt","v":"1-lane Roundabout"},"Total",null,null,null,{"$f":"IF(OR(AND(ISNUMBER(C25),C25>0),AND(ISNUMBER(E25),E25>0)),AA21,\"--\")","v":"--"},{"$f":"IF(AND('Control Strategy Selection'!O23:P23),\"Yes\",\"No\")","v":"No"},"Uncalibrated SPF",{"$f":"IF(IsChecked_AGI_Rdbt1Ln,'SSI Results'!C17,\"\")","v":{"$error":"#VALUE!"}},{"$f":"IF(IsChecked_AGI_Rdbt1Ln,'SSI Results'!C58,\"\")","v":{"$error":"#VALUE!"}},{"$f":"IF(ISNUMBER(J25),_xlfn.RANK.EQ(J25,$J$17:$J$48),IF(ISNUMBER(I25),_xlfn.RANK.EQ(I25,$I$17:$I$48),\"--\"))","v":"--"},null,null,null,null,null,null,null,{"$f":"IF(Input_AnalysisYearType=Notes!$A$11,Results!C33,Results!E33)","v":0},{"$f":"IF(Input_AnalysisYearType=Notes!$A$11,Results!C34,Results!E34)","v":0},{"$f":"AND(IsChecked_AGI_RCUTSig,ISNUMBER(S25))","v":true},99999999999,99999999999,1,1,1.01,1]
[null,"Fatal & Injury",null,null,null,null,null,null,null,null,null,null,null,null,null,null,null,null,{"$f":"IF(Input_AnalysisYearType=Notes!$A$11,Results!C35,Results!E35)","v":0},{"$f":"IF(Input_AnalysisYearType=Notes!$A$11,Results!C36,Results!E36)","v":0},{"$f":"AND(IsChecked_AGI_RCUTUnsig,ISNUMBER(S26))","v":true},99999999999,99999999999,1,1,1.01,1]
[{"$f":"Label_AGI_2LnRdbt","v":"2-lane Roundabout"},"Total",null,null,null,{"$f":"IF(OR(AND(ISNUMBER(C27),C27>0),AND(ISNUMBER(E27),E27>0)),AA22,\"--\")","v":"--"},{"$f":"IF(AND('Control Strategy Selection'!O24:P24),\"Yes\",\"No\")","v":"No"},"Uncalibrated SPF",{"$f":"IF(IsChecked_AGI_Rdbt2Ln,'SSI Results'!C19,\"\")","v":{"$error":"#VALUE!"}},{"$f":"IF(IsChecked_AGI_Rdbt2Ln,'SSI Results'!C60,\"\")","v":{"$error":"#VALUE!"}},{"$f":"IF(ISNUMBER(J27),_xlfn.RANK.EQ(J27,$J$17:$J$48),IF(ISNUMBER(I27),_xlfn.RANK.EQ(I27,$I$17:$I$48),\"--\"))","v":"--"},null,null,null,null,null,null,null,{"$f":"IF(Input_AnalysisYearType=Notes!$A$11,Results!C37,Results!E37)","v":0},{"$f":"IF(Input_AnalysisYearType=Notes!$A$11,Results!C38,Results!E38)","v":0},{"$f":"AND(IsChecked_AGI_SigThruCut,ISNUMBER(S27))","v":true},{"$f":"IF(AND(S27>0,U27),S27,99999999999)","v":99999999999},{"$f":"IF(AND(T27>0,U27),T27,99999999999)","v":99999999999},1,1,1.01,1]
[null,"Fatal & Injury",null,null,null,null,null,null,null,null,null,null,null,null,null,null,null,null,{"$f":"IF(Input_AnalysisYearType=Notes!$A$11,Results!C39,Results!E39)","v":0},{"$f":"IF(Input_AnalysisYearType=Notes!$A$11,Results!C40,Results!E40)","v":0},{"$f":"AND(IsChecked_AGI_UnsigThruCut,ISNUMBER(S28))","v":true},99999999999,99999999999,1,1,1.01,1]
[{"$f":"Label_AGI_DLT","v":"Displaced Left Turn (DLT)"},"Total",null,null,null,{"$f":"IF(OR(AND(ISNUMBER(C29),C29>0),AND(ISNUMBER(E29),E29>0)),AA23,\"--\")","v":"--"},"N/A","CMF",{"$f":"IF(IsChecked_AGI_DLT,'SSI Results'!C21,\"\")","v":{"$error":"#VALUE!"}},{"$f":"IF(IsChecked_AGI_DLT,'SSI Results'!C62,\"\")","v":{"$error":"#VALUE!"}},{"$f":"IF(ISNUMBER(J29),_xlfn.RANK.EQ(J29,$J$17:$J$48),IF(ISNUMBER(I29),_xlfn.RANK.EQ(I29,$I$17:$I$48),\"--\"))","v":"--"},null,null,null,null,null,null,null,{"$f":"IF(Input_AnalysisYearType=Notes!$A$11,Results!C41,Results!E41)","v":0},{"$f":"IF(Input_AnalysisYearType=Notes!$A$11,Results!C42,Results!E42)","v":0},{"$f":"AND(IsChecked_AGI_GreenT,ISNUMBER(S29))","v":false},{"$f":"IF(AND(S29>0,U29),S29,99999999999)","v":99999999999},{"$f":"IF(AND(T29>0,U29),T29,99999999999)","v":99999999999},1,1,{"$f":"IF($X$15,X29+0.01*Y29,Y29+0.01*X29)","v":1.01},1]
[null,"Fatal & Injury",null,null,null,null,null,null,null,null,null,null,null,null,null,null,null,null,{"$f":"IF(Input_AnalysisYearType=Notes!$A$11,Results!C43,Results!E43)","v":0},{"$f":"IF(Input_AnalysisYearType=Notes!$A$11,Results!C44,Results!E44)","v":0},{"$f":"AND(IsChecked_AGI_Jughandle,ISNUMBER(S30))","v":true},{"$f":"IF(AND(S30>0,U30),S30,99999999999)","v":99999999999},{"$f":"IF(AND(T30>0,U30),T30,99999999999)","v":99999999999},1,1,{"$f":"IF($X$15,X30+0.01*Y30,Y30+0.01*X30)","v":1.01},1]
[{"$f":"Label_AGI_MUT","v":"Median U-Turn (MUT)"},"Total",null,null,null,{"$f":"IF(OR(AND(ISNUMBER(C31),C31>0),AND(ISNUMBER(E31),E31>0)),AA24,\"--\")","v":"--"},"N/A","CMF",{"$f":"IF(IsChecked_AGI_MUT,'SSI Results'!C22,\"\")","v":{"$error":"#VALUE!"}},{"$f":"IF(IsChecked_AGI_MUT,'SSI Results'!C63,\"\")","v":{"$error":"#VALUE!"}},{"$f":"IF(ISNUMBER(J31),_xlfn.RANK.EQ(J31,$J$17:$J$48),IF(ISNUMBER(I31),_xlfn.RANK.EQ(I31,$I$17:$I$48),\"--\"))","v":"--"},null,null,null,null,null,null,null,{"$f":"IF(Input_AnalysisYearType=Notes!$A$11,Results!C45,Results!E45)","v":0},{"$f":"IF(Input_AnalysisYearType=Notes!$A$11,Results!C46,Results!E46)","v":0},{"$f":"AND(IsChecked_AGI_Other1,ISNUMBER(S31))","v":false},{"$f":"IF(AND(S31>0,U31),S31,99999999999)","v":99999999999},{"$f":"IF(AND(T31>0,U31),T31,99999999999)","v":99999999999},1,1,{"$f":"IF($X$15,X31+0.01*Y31,Y31+0.01*X31)","v":1.01},1]
[null,"Fatal & Injury",null,null,null,null,null,null,null,null,null,null,null,null,null,null,null,null,{"$f":"IF(Input_AnalysisYearType=Notes!$A$11,Results!C47,Results!E47)","v":0},{"$f":"IF(Input_AnalysisYearType=Notes!$A$11,Results!C48,Results!E48)","v":0},{"$f":"AND(IsChecked_AGI_Other2,ISNUMBER(S32))","v":false},{"$f":"IF(AND(S32>0,U32),S32,99999999999)","v":99999999999},{"$f":"IF(AND(T32>0,U32),T32,99999999999)","v":99999999999},1,1,1.01,1]
[{"$f":"Label_AGI_RCUTSig","v":"Signalized RCUT"},"Total",null,null,null,{"$f":"IF(OR(AND(ISNUMBER(C33),C33>0),AND(ISNUMBER(E33),E33>0)),AA25,\"--\")","v":"--"},{"$f":"IF(OR(NOT(AND('Control Strategy Selection'!O27:P27)),NOT(AND(Range_SRCUT_OAADT_Ratio,Range_SRCUT_DAADT_Ratio))),\"No\",\"Yes\")","v":"No"},"Uncalibrated SPF",{"$f":"IF(IsChecked_AGI_RCUTSig,'SSI Results'!C23,\"\")","v":{"$error":"#VALUE!"}},{"$f":"IF(IsChecked_AGI_RCUTSig,'SSI Results'!C64,\"\")","v":{"$error":"#VALUE!"}},{"$f":"IF(ISNUMBER(J33),_xlfn.RANK.EQ(J33,$J$17:$J$48),IF(ISNUMBER(I33),_xlfn.RANK.EQ(I33,$I$17:$I$48),\"--\"))","v":"--"}]
[null,"Fatal & Injury"]
[{"$f":"Label_AGI_RCUTUnsig","v":"Unsignalized RCUT"},"Total",null,null,null,{"$f":"IF(OR(AND(ISNUMBER(C35),C35>0),AND(ISNUMBER(E35),E35>0)),AA26,\"--\")","v":"--"},{"$f":"IF(AND('Control Strategy Selection'!O28:P28),\"Yes\",\"No\")","v":"No"},"Uncalibrated SPF",{"$f":"IF(IsChecked_AGI_RCUTUnsig,'SSI Results'!C24,\"\")","v":{"$error":"#VALUE!"}},{"$f":"IF(IsChecked_AGI_RCUTUnsig,'SSI Results'!C65,\"\")","v":{"$error":"#VALUE!"}},{"$f":"IF(ISNUMBER(J35),_xlfn.RANK.EQ(J35,$J$17:$J$48),IF(ISNUMBER(I35),_xlfn.RANK.EQ(I35,$I$17:$I$48),\"--\"))","v":"--"}]
[null,"Fatal & Injury"]
["Signalized Thru-Cut","Total",null,null,null,{"$f":"IF(OR(AND(ISNUMBER(C37),C37>0),AND(ISNUMBER(E37),E37>0)),AA27,\"--\")","v":"--"},"N/A","N/A",{"$f":"IF(IsChecked_AGI_SigThruCut,'SSI Results'!C25,\"\")","v":{"$error":"#VALUE!"}},{"$f":"IF(IsChecked_AGI_SigThruCut,'SSI Results'!C66,\"\")","v":{"$error":"#VALUE!"}},{"$f":"IF(ISNUMBER(J37),_xlfn.RANK.EQ(J37,$J$17:$J$48),IF(ISNUMBER(I37),_xlfn.RANK.EQ(I37,$I$17:$I$48),\"--\"))","v":"--"}]
[null,"Fatal & Injury"]
["Unsignalized Thru-Cut","Total",null,null,null,{"$f":"IF(OR(AND(ISNUMBER(C39),C39>0),AND(ISNUMBER(E39),E39>0)),AA28,\"--\")","v":"--"},"N/A","N/A",{"$f":"IF(IsChecked_AGI_UnsigThruCut,'SSI Results'!C26,\"\")","v":{"$error":"#VALUE!"}},{"$f":"IF(IsChecked_AGI_UnsigThruCut,'SSI Results'!C67,\"\")","v":{"$error":"#VALUE!"}},{"$f":"IF(ISNUMBER(J39),_xlfn.RANK.EQ(J39,$J$17:$J$48),IF(ISNUMBER(I39),_xlfn.RANK.EQ(I39,$I$17:$I$48),\"--\"))","v":"--"}]
[null,"Fatal & Injury"]
[{"$f":"Label_AGI_GreenT","v":"Continuous Green-T Intersection"},"Total",null,null,null,{"$f":"IF(OR(AND(ISNUMBER(C41),C41>0),AND(ISNUMBER(E41),E41>0)),AA29,\"--\")","v":"--"},"N/A","CMF",{"$f":"IF(IsChecked_AGI_GreenT,'SSI Results'!C27,\"\")","v":""},{"$f":"IF(IsChecked_AGI_GreenT,'SSI Results'!C68,\"\")","v":""},{"$f":"IF(ISNUMBER(J41),_xlfn.RANK.EQ(J41,$J$17:$J$48),IF(ISNUMBER(I41),_xlfn.RANK.EQ(I41,$I$17:$I$48),\"--\"))","v":"--"}]
[null,"Fatal & Injury"]
[{"$f":"Label_AGI_Jughandle","v":"Jughandle"},"Total",null,null,null,{"$f":"IF(OR(AND(ISNUMBER(C43),C43>0),AND(ISNUMBER(E43),E43>0)),AA30,\"--\")","v":"--"},"N/A","CMF",{"$f":"IF(IsChecked_AGI_Jughandle,'SSI Results'!C28,\"\")","v":{"$error":"#VALUE!"}},{"$f":"IF(IsChecked_AGI_Jughandle,'SSI Results'!C69,\"\")","v":{"$error":"#VALUE!"}},{"$f":"IF(ISNUMBER(J43),_xlfn.RANK.EQ(J43,$J$17:$J$48),IF(ISNUMBER(I43),_xlfn.RANK.EQ(I43,$I$17:$I$48),\"--\"))","v":"--"}]
[null,"Fatal & Injury"]
[{"$f":"Label_AGI_Other1","v":"Other 1*"},"Total",0,0,0,{"$f":"IF(OR(AND(ISNUMBER(C45),C45>0),AND(ISNUMBER(E45),E45>0)),AA31,\"--\")","v":"--"},"N/A","CMF","--","--",{"$f":"IF(ISNUMBER(J45),_xlfn.RANK.EQ(J45,$J$17:$J$48),IF(ISNUMBER(I45),_xlfn.RANK.EQ(I45,$I$17:$I$48),\"--\"))","v":"--"}]
[null,"Fatal & Injury",0,0,0]
[{"$f":"Label_AGI_Other2","v":"Other 2*"},"Total",0,0,0,{"$f":"IF(OR(AND(ISNUMBER(C47),C47>0),AND(ISNUMBER(E47),E47>0)),AA32,\"--\")","v":"--"},"N/A","CMF","--","--",{"$f":"IF(ISNUMBER(J47),_xlfn.RANK.EQ(J47,$J$17:$J$48),IF(ISNUMBER(I47),_xlfn.RANK.EQ(I47,$I$17:$I$48),\"--\"))","v":"--"}]
[null,"Fatal & Injury",0,0,0]

{"sheet":"SSI Results","index":23,"n_rows":71,"n_cols":25,"rows_kept":71,"cut":false,"hidden":false,"merged":[[51,15,51,18],[8,0,9,6],[49,0,50,6],[51,0,52,0],[51,2,52,2],[51,3,51,6],[51,7,51,10],[51,11,51,14],[51,1,52,1],[0,0,0,18],[1,0,1,18],[2,0,2,18],[3,0,3,18],[10,7,10,10],[10,11,10,14],[10,15,10,18],[10,3,10,6],[10,2,11,2],[10,0,11,0],[5,0,6,0],[5,1,6,3],[5,4,6,5],[10,1,11,1]]}
["Federal Highway Administration (FHWA)",null,null,null,null,null,null,null,null,null,null,null,null,null,null,null,null,null,null,null,"Is 3L?",{"$f":"Input_NumLegs=Notes!$A$48","v":false},null,"Score_O",{"$f":"IF($V$1,\"SSI_AGI_3L_ResultsRange_Score_O\", \"SSI_AGI_4L_ResultsRange_Score_O\")","v":"SSI_AGI_4L_ResultsRange_Score_O"}]
["Safety Performance for Intersection Control Evaluation Tool",null,null,null,null,null,null,null,null,null,null,null,null,null,null,null,null,null,null,null,"is 2x2?",{"$f":"AND(AND(Input_AGI_R2_CL_L1=2,Input_AGI_R2_CL_L2=2,Input_AGI_R2_CL_L3=2),IF($V$1,TRUE,Input_AGI_R2_CL_L4=2))","v":true},null,"Score_D",{"$f":"IF($V$1,\"SSI_AGI_3L_ResultsRange_Score_D\", \"SSI_AGI_4L_ResultsRange_Score_D\")","v":"SSI_AGI_4L_ResultsRange_Score_D"}]
["Safe System Intersection (SSI) Results",null,null,null,null,null,null,null,null,null,null,null,null,null,null,null,null,null,null,null,null,null,null,"Exp_O",{"$f":"IF($V$1,\"SSI_AGI_3L_ResultsRange_Exposure_O\", \"SSI_AGI_4L_ResultsRange_Exposure_O\")","v":"SSI_AGI_4L_ResultsRange_Exposure_O"}]
["Summary of the safe system intersection results for each alternative",null,null,null,null,null,null,null,null,null,null,null,null,null,null,null,null,null,null,null,null,null,null,"Exp_D",{"$f":"IF($V$1,\"SSI_AGI_3L_ResultsRange_Exposure_D\", \"SSI_AGI_4L_ResultsRange_Exposure_D\")","v":"SSI_AGI_4L_ResultsRange_Exposure_D"}]
[null,null,null,null,null,null,null,null,null,null,null,null,null,null,null,null,null,null,null,null,null,null,null,"ExistExp_O",{"$f":"IF($V$1,\"SSI_AGI_3L_ResultsRange_ExistExp_O\", \"SSI_AGI_4L_ResultsRange_ExistExp_O\")","v":"SSI_AGI_4L_ResultsRange_ExistExp_O"}]
["Conversion of Existing Intersection Type:","Traffic Signal",null,null,"Select from Dropdown List",null,null,null,null,null,null,null,null,null,null,null,null,null,null,null,null,null,null,"ExistExp_D",{"$f":"IF($V$1,\"SSI_AGI_3L_ResultsRange_ExistExp_D\", \"SSI_AGI_4L_ResultsRange_ExistExp_D\")","v":"SSI_AGI_4L_ResultsRange_ExistExp_D"}]
[null,null,null,null,null,null,null,null,null,null,null,null,null,null,null,null,null,null,null,null,null,null,null,"AvgPFSI_O",{"$f":"IF($V$1,\"SSI_AGI_3L_ResultsRange_AvgPFSI_O\",\"SSI_AGI_4L_ResultsRange_AvgPFSI_O\")","v":"SSI_AGI_4L_ResultsRange_AvgPFSI_O"}]
[null,null,null,null,null,null,null,null,null,null,null,null,null,null,null,null,null,null,null,null,null,null,null,"AvgPFSI_D",{"$f":"IF($V$1,\"SSI_AGI_3L_ResultsRange_AvgPFSI_D\",\"SSI_AGI_4L_ResultsRange_AvgPFSI_D\")","v":"SSI_AGI_4L_ResultsRange_AvgPFSI_D"}]
["Opening Year Results",null,null,null,null,null,null,null,null,null,null,null,null,null,null,null,null,null,null,null,null,null,null,"AvgComp_O",{"$f":"IF($V$1,\"SSI_AGI_3L_ResultsRange_AvgComp_O\",\"SSI_AGI_4L_ResultsRange_AvgComp_O\")","v":"SSI_AGI_4L_ResultsRange_AvgComp_O"}]
[null,null,null,null,null,null,null,null,null,null,null,null,null,null,null,null,null,null,null,null,null,null,null,"AvgComp_D",{"$f":"IF($V$1,\"SSI_AGI_3L_ResultsRange_AvgComp_D\",\"SSI_AGI_4L_ResultsRange_AvgComp_D\")","v":"SSI_AGI_4L_ResultsRange_AvgComp_D"}]
["Control Strategy","SSI Ref Worksheet Name","SSI Score","SSI Conflict Type Score",null,null,null,"Exposure (Relative to Existing)",null,null,null,"Average P(FSI)",null,null,null,"Average Complexity"]
[null,null,null,"Nonmotorized","Crossing","Merging","Diverging","Nonmotorized","Crossing","Merging","Diverging","Nonmotorized","Crossing","Merging","Diverging","Nonmotorized","Crossing","Merging","Diverging",null,null,null,null,"3L","4L"]
["Traffic Signal",{"$f":"IF($V$1,X13,Y13)","v":"Trad_Sig"},{"$f":"IF($B13=\"--\",\"--\",HLOOKUP($B13,INDIRECT($Y$1),6,FALSE)*100)","v":{"$error":"#VALUE!"}},{"$f":"IF($B13=\"--\",\"--\",HLOOKUP($B13,INDIRECT($Y$1),5,FALSE)*100)","v":{"$error":"#VALUE!"}},{"$f":"IF($B13=\"--\",\"--\",HLOOKUP($B13,INDIRECT($Y$1),2,FALSE)*100)","v":{"$error":"#VALUE!"}},{"$f":"IF($B13=\"--\",\"--\",HLOOKUP($B13,INDIRECT($Y$1),3,FALSE)*100)","v":{"$error":"#VALUE!"}},{"$f":"IF($B13=\"--\",\"--\",HLOOKUP($B13,INDIRECT($Y$1),4,FALSE)*100)","v":{"$error":"#VALUE!"}},{"$f":"IF($B13=\"--\",\"--\",HLOOKUP($B13,INDIRECT($Y$3),5,FALSE)/VLOOKUP(H$12,INDIRECT($Y$5),2,FALSE))","v":{"$error":"#VALUE!"}},{"$f":"IF($B13=\"--\",\"--\",HLOOKUP($B13,INDIRECT($Y$3),2,FALSE)/VLOOKUP(I$12,INDIRECT($Y$5),2,FALSE))","v":{"$error":"#VALUE!"}},{"$f":"IF($B13=\"--\",\"--\",HLOOKUP($B13,INDIRECT($Y$3),3,FALSE)/VLOOKUP(J$12,INDIRECT($Y$5),2,FALSE))","v":{"$error":"#VALUE!"}},{"$f":"IF($B13=\"--\",\"--\",HLOOKUP($B13,INDIRECT($Y$3),4,FALSE)/VLOOKUP(K$12,INDIRECT($Y$5),2,FALSE))","v":{"$error":"#VALUE!"}},{"$f":"IF($B13=\"--\",\"--\",HLOOKUP($B13,INDIRECT($Y$7),5,FALSE))","v":0.28891209057648393},{"$f":"IF($B13=\"--\",\"--\",HLOOKUP($B13,INDIRECT($Y$7),2,FALSE))","v":3.9374842505356146E-2},{"$f":"IF($B13=\"--\",\"--\",HLOOKUP($B13,INDIRECT($Y$7),3,FALSE))","v":6.0963748238522207E-3},{"$f":"IF($B13=\"--\",\"--\",HLOOKUP($B13,INDIRECT($Y$7),4,FALSE))","v":2.6637756817828712E-3},{"$f":"IF($B13=\"--\",\"--\",HLOOKUP($B13,INDIRECT($Y$9),5,FALSE))","v":3.59375},{"$f":"IF($B13=\"--\",\"--\",HLOOKUP($B13,INDIRECT($Y$9),2,FALSE))","v":2.2854166666666664},{"$f":"IF($B13=\"--\",\"--\",HLOOKUP($B13,INDIRECT($Y$9),3,FALSE))","v":1.6307291666666666},{"$f":"IF($B13=\"--\",\"--\",HLOOKUP($B13,INDIRECT($Y$9),4,FALSE))","v":1},null,null,null,null,"TradT_Sig","Trad_Sig"]
["Traffic Signal (Alt)","Trad_Sig",{"$error":"#VALUE!"},{"$error":"#VALUE!"},{"$error":"#VALUE!"},{"$error":"#VALUE!"},{"$error":"#VALUE!"},{"$f":"IF($B14=\"--\",\"--\",HLOOKUP($B14,INDIRECT($Y$3),5,FALSE)/VLOOKUP(H$12,INDIRECT($Y$5),2,FALSE))","v":{"$error":"#VALUE!"}},{"$f":"IF($B14=\"--\",\"--\",HLOOKUP($B14,INDIRECT($Y$3),2,FALSE)/VLOOKUP(I$12,INDIRECT($Y$5),2,FALSE))","v":{"$error":"#VALUE!"}},{"$f":"IF($B14=\"--\",\"--\",HLOOKUP($B14,INDIRECT($Y$3),3,FALSE)/VLOOKUP(J$12,INDIRECT($Y$5),2,FALSE))","v":{"$error":"#VALUE!"}},{"$f":"IF($B14=\"--\",\"--\",HLOOKUP($B14,INDIRECT($Y$3),4,FALSE)/VLOOKUP(K$12,INDIRECT($Y$5),2,FALSE))","v":{"$error":"#VALUE!"}},{"$f":"IF($B14=\"--\",\"--\",HLOOKUP($B14,INDIRECT($Y$7),5,FALSE))","v":0.28891209057648393},{"$f":"IF($B14=\"--\",\"--\",HLOOKUP($B14,INDIRECT($Y$7),2,FALSE))","v":3.9374842505356146E-2},{"$f":"IF($B14=\"--\",\"--\",HLOOKUP($B14,INDIRECT($Y$7),3,FALSE))","v":6.0963748238522207E-3},{"$f":"IF($B14=\"--\",\"--\",HLOOKUP($B14,INDIRECT($Y$7),4,FALSE))","v":2.6637756817828712E-3},{"$f":"IF($B14=\"--\",\"--\",HLOOKUP($B14,INDIRECT($Y$9),5,FALSE))","v":3.59375},{"$f":"IF($B14=\"--\",\"--\",HLOOKUP($B14,INDIRECT($Y$9),2,FALSE))","v":2.2854166666666664},{"$f":"IF($B14=\"--\",\"--\",HLOOKUP($B14,INDIRECT($Y$9),3,FALSE))","v":1.6307291666666666},{"$f":"IF($B14=\"--\",\"--\",HLOOKUP($B14,INDIRECT($Y$9),4,FALSE))","v":1},null,null,null,null,"TradT_Sig","Trad_Sig"]
["Minor Road Stop","Trad_MinorStop",{"$error":"#VALUE!"},{"$error":"#VALUE!"},{"$error":"#VALUE!"},{"$error":"#VALUE!"},{"$error":"#VALUE!"},{"$error":"#VALUE!"},{"$error":"#VALUE!"},{"$error":"#VALUE!"},{"$error":"#VALUE!"},{"$f":"IF($B15=\"--\",\"--\",HLOOKUP($B15,INDIRECT($Y$7),5,FALSE))","v":0.28891209057648393},3.7725641189214877E-2,6.0963748238522207E-3,2.6637756817828712E-3,5.390625,2.8515625000000009,2.3411458333333335,1,null,null,null,null,"TradT_MRSC","Trad_MinorStop"]
["All Way Stop","Trad_AllSTop",{"$error":"#VALUE!"},{"$error":"#VALUE!"},{"$error":"#VALUE!"},{"$error":"#VALUE!"},{"$error":"#VALUE!"},{"$error":"#VALUE!"},{"$error":"#VALUE!"},{"$error":"#VALUE!"},{"$error":"#VALUE!"},0.18722320043153562,1.0895928064475997E-2,1.0817075175764881E-3,6.4061388075216071E-7,4.53125,2.7942708333333339,2.3411458333333335,1,null,null,null,null,"TradT_AWSC","Trad_AllSTop"]
["1-Lane Roundabout","RAB1x1",{"$error":"#VALUE!"},{"$error":"#VALUE!"},{"$error":"#VALUE!"},{"$error":"#VALUE!"},{"$error":"#VALUE!"},{"$error":"#VALUE!"},{"$error":"#VALUE!"},{"$error":"#VALUE!"},{"$error":"#VALUE!"},0.33487358968598979,4.1698027385763141E-3,1.374463454784178E-3,2.2045008701330221E-5,1.2222222222222223,0.61111111111111105,0.61111111111111105,1,null,null,null,null,"T_1x1_RAB","RAB1x1"]
["Mixed Lane Roundabout",0,{"$error":"#N/A"},{"$error":"#N/A"},{"$error":"#N/A"},{"$error":"#N/A"},{"$error":"#N/A"},{"$error":"#N/A"},{"$error":"#N/A"},{"$error":"#N/A"},{"$error":"#N/A"},{"$error":"#N/A"},{"$error":"#N/A"},{"$error":"#N/A"},{"$error":"#N/A"},{"$error":"#N/A"},{"$error":"#N/A"},{"$error":"#N/A"},{"$error":"#N/A"}]
["2-Lane Roundabout","RAB2x2",{"$error":"#VALUE!"},{"$error":"#VALUE!"},{"$error":"#VALUE!"},{"$error":"#VALUE!"},{"$error":"#VALUE!"},{"$error":"#VALUE!"},{"$error":"#VALUE!"},{"$error":"#VALUE!"},{"$error":"#VALUE!"},0.33487358968598979,4.1698027385763141E-3,1.374463454784178E-3,2.2045008701330221E-5,2.4444444444444446,1.2222222222222221,1.1458333333333333,1,null,null,null,null,{"$f":"IF($V$2,\"T_2x2_RAB\",\"T_2x1_RAB\")","v":"T_2x2_RAB"},{"$f":"IF($V$2,\"RAB2x2\",\"RAB2x1\")","v":"RAB2x2"}]
["Displaced Left Turn (DLT)","FDLT",{"$error":"#VALUE!"},{"$error":"#VALUE!"},{"$error":"#VALUE!"},{"$error":"#VALUE!"},{"$error":"#VALUE!"},{"$error":"#VALUE!"},{"$error":"#VALUE!"},{"$error":"#VALUE!"},{"$error":"#VALUE!"},0.3225944279086651,4.3201823963574998E-2,6.3682888337246706E-3,2.6637756817828712E-3,5.7076166666666683,1.3567199074074072,2.0132812499999999,1,null,null,null,null,"--","FDLT"]
["Partial Displaced Left Turn","PDLT",{"$error":"#VALUE!"},{"$error":"#VALUE!"},{"$error":"#VALUE!"},{"$error":"#VALUE!"},{"$error":"#VALUE!"},{"$error":"#VALUE!"},{"$error":"#VALUE!"},{"$error":"#VALUE!"},{"$error":"#VALUE!"},0.32259442790866505,4.0035692196364533E-2,6.0963748238522224E-3,2.6637756817828712E-3,6.2323958333333334,1.8787202380952375,2.2236979166666662,1,null,null,null,null,"T_PDLT","PDLT"]
["Median U-Turn (MUT)","MUT",{"$error":"#VALUE!"},{"$error":"#VALUE!"},{"$error":"#VALUE!"},{"$error":"#VALUE!"},{"$error":"#VALUE!"},{"$error":"#VALUE!"},{"$error":"#VALUE!"},{"$error":"#VALUE!"},{"$error":"#VALUE!"},0.32753470388820882,4.4689345500568335E-2,9.2303920563134925E-3,3.5514873710835782E-3,1.360470486111111,0.84166666666666656,0.7715277777777777,1,null,null,null,null,"--","MUT"]
["Signalized RCUT","RCUT_Sig",{"$error":"#VALUE!"},{"$error":"#VALUE!"},{"$error":"#VALUE!"},{"$error":"#VALUE!"},{"$error":"#VALUE!"},{"$error":"#VALUE!"},{"$error":"#VALUE!"},{"$error":"#VALUE!"},{"$error":"#VALUE!"},0.28256074999909059,9.0286582411373745E-2,9.0460352685773782E-3,4.7673401118604655E-3,1.7332722222222223,0.84166666666666656,0.7715277777777777,1,null,null,null,null,"T_RCUT_Sig","RCUT_Sig"]
["Unsignalized RCUT",{"$f":"IF($V$1,X24,Y24)","v":"RCUT_Unsig"},{"$error":"#VALUE!"},{"$error":"#VALUE!"},{"$error":"#VALUE!"},{"$error":"#VALUE!"},{"$error":"#VALUE!"},{"$error":"#VALUE!"},{"$error":"#VALUE!"},{"$error":"#VALUE!"},{"$error":"#VALUE!"},0.28256074999909059,9.0286582411373745E-2,9.0460352685773782E-3,4.7673401118604655E-3,3.1071111111111107,1.2083333333333335,1.1076388888888891,1,null,null,null,null,"T_RCUT_Unsig","RCUT_Unsig"]
["Signalized Thru-Cut",{"$f":"IF($V$1,X25,Y25)","v":"ThruCut_Sig"},{"$error":"#VALUE!"},{"$error":"#VALUE!"},{"$error":"#VALUE!"},{"$error":"#VALUE!"},{"$error":"#VALUE!"},{"$error":"#VALUE!"},{"$error":"#VALUE!"},{"$error":"#VALUE!"},{"$error":"#VALUE!"},0.30257758895387782,4.7491431458181604E-2,9.0682468365996527E-3,3.5756652373655374E-3,1.7083027777777773,1.5690104166666665,1.1481770833333333,1,null,null,null,null,"--","ThruCut_Sig"]
["Unsignalized Thru-Cut",{"$f":"IF($V$1,X26,Y26)","v":"ThruCut_Unsig"},{"$error":"#VALUE!"},{"$error":"#VALUE!"},{"$error":"#VALUE!"},{"$error":"#VALUE!"},{"$error":"#VALUE!"},{"$error":"#VALUE!"},{"$error":"#VALUE!"},{"$error":"#VALUE!"},{"$error":"#VALUE!"},0.30257758895387782,4.7491431458181604E-2,9.0682468365996527E-3,3.5756652373655374E-3,2.9681388888888884,2.0013020833333335,1.3971354166666665,1,null,null,null,null,"--","ThruCut_Unsig"]
["Continuous Green-T",{"$f":"IF($V$1,X27,Y27)","v":"--"},{"$f":"IF($B27=\"--\",\"--\",HLOOKUP($B27,INDIRECT($Y$1),6,FALSE)*100)","v":"--"},{"$f":"IF($B27=\"--\",\"--\",HLOOKUP($B27,INDIRECT($Y$1),5,FALSE)*100)","v":"--"},{"$f":"IF($B27=\"--\",\"--\",HLOOKUP($B27,INDIRECT($Y$1),2,FALSE)*100)","v":"--"},{"$f":"IF($B27=\"--\",\"--\",HLOOKUP($B27,INDIRECT($Y$1),3,FALSE)*100)","v":"--"},{"$f":"IF($B27=\"--\",\"--\",HLOOKUP($B27,INDIRECT($Y$1),4,FALSE)*100)","v":"--"},{"$f":"IF($B27=\"--\",\"--\",HLOOKUP($B27,INDIRECT($Y$3),5,FALSE)/VLOOKUP(H$12,INDIRECT($Y$5),2,FALSE))","v":"--"},{"$f":"IF($B27=\"--\",\"--\",HLOOKUP($B27,INDIRECT($Y$3),2,FALSE)/VLOOKUP(I$12,INDIRECT($Y$5),2,FALSE))","v":"--"},{"$f":"IF($B27=\"--\",\"--\",HLOOKUP($B27,INDIRECT($Y$3),3,FALSE)/VLOOKUP(J$12,INDIRECT($Y$5),2,FALSE))","v":"--"},{"$f":"IF($B27=\"--\",\"--\",HLOOKUP($B27,INDIRECT($Y$3),4,FALSE)/VLOOKUP(K$12,INDIRECT($Y$5),2,FALSE))","v":"--"},{"$f":"IF($B27=\"--\",\"--\",HLOOKUP($B27,INDIRECT($Y$7),5,FALSE))","v":"--"},{"$f":"IF($B27=\"--\",\"--\",HLOOKUP($B27,INDIRECT($Y$7),2,FALSE))","v":"--"},{"$f":"IF($B27=\"--\",\"--\",HLOOKUP($B27,INDIRECT($Y$7),3,FALSE))","v":"--"},{"$f":"IF($B27=\"--\",\"--\",HLOOKUP($B27,INDIRECT($Y$7),4,FALSE))","v":"--"},{"$f":"IF($B27=\"--\",\"--\",HLOOKUP($B27,INDIRECT($Y$9),5,FALSE))","v":"--"},{"$f":"IF($B27=\"--\",\"--\",HLOOKUP($B27,INDIRECT($Y$9),2,FALSE))","v":"--"},{"$f":"IF($B27=\"--\",\"--\",HLOOKUP($B27,INDIRECT($Y$9),3,FALSE))","v":"--"},{"$f":"IF($B27=\"--\",\"--\",HLOOKUP($B27,INDIRECT($Y$9),4,FALSE))","v":"--"},null,null,null,null,"CGT","--"]
["Jughandle",{"$f":"IF($V$1,X28,Y28)","v":"Jughandle"},{"$f":"IF($B28=\"--\",\"--\",HLOOKUP($B28,INDIRECT($Y$1),6,FALSE)*100)","v":{"$error":"#VALUE!"}},{"$f":"IF($B28=\"--\",\"--\",HLOOKUP($B28,INDIRECT($Y$1),5,FALSE)*100)","v":{"$error":"#VALUE!"}},{"$f":"IF($B28=\"--\",\"--\",HLOOKUP($B28,INDIRECT($Y$1),2,FALSE)*100)","v":{"$error":"#VALUE!"}},{"$f":"IF($B28=\"--\",\"--\",HLOOKUP($B28,INDIRECT($Y$1),3,FALSE)*100)","v":{"$error":"#VALUE!"}},{"$f":"IF($B28=\"--\",\"--\",HLOOKUP($B28,INDIRECT($Y$1),4,FALSE)*100)","v":{"$error":"#VALUE!"}},{"$f":"IF($B28=\"--\",\"--\",HLOOKUP($B28,INDIRECT($Y$3),5,FALSE)/VLOOKUP(H$12,INDIRECT($Y$5),2,FALSE))","v":{"$error":"#VALUE!"}},{"$f":"IF($B28=\"--\",\"--\",HLOOKUP($B28,INDIRECT($Y$3),2,FALSE)/VLOOKUP(I$12,INDIRECT($Y$5),2,FALSE))","v":{"$error":"#VALUE!"}},{"$f":"IF($B28=\"--\",\"--\",HLOOKUP($B28,INDIRECT($Y$3),3,FALSE)/VLOOKUP(J$12,INDIRECT($Y$5),2,FALSE))","v":{"$error":"#VALUE!"}},{"$f":"IF($B28=\"--\",\"--\",HLOOKUP($B28,INDIRECT($Y$3),4,FALSE)/VLOOKUP(K$12,INDIRECT($Y$5),2,FALSE))","v":{"$error":"#VALUE!"}},{"$f":"IF($B28=\"--\",\"--\",HLOOKUP($B28,INDIRECT($Y$7),5,FALSE))","v":0.28908227475296017},{"$f":"IF($B28=\"--\",\"--\",HLOOKUP($B28,INDIRECT($Y$7),2,FALSE))","v":4.0181659702600965E-2},{"$f":"IF($B28=\"--\",\"--\",HLOOKUP($B28,INDIRECT($Y$7),3,FALSE))","v":6.3490989673376649E-3},{"$f":"IF($B28=\"--\",\"--\",HLOOKUP($B28,INDIRECT($Y$7),4,FALSE))","v":2.2078309039915383E-3},{"$f":"IF($B28=\"--\",\"--\",HLOOKUP($B28,INDIRECT($Y$9),5,FALSE))","v":2.8304535024154593},{"$f":"IF($B28=\"--\",\"--\",HLOOKUP($B28,INDIRECT($Y$9),2,FALSE))","v":2.2891786858974359},{"$f":"IF($B28=\"--\",\"--\",HLOOKUP($B28,INDIRECT($Y$9),3,FALSE))","v":1.4403897569444444},{"$f":"IF($B28=\"--\",\"--\",HLOOKUP($B28,INDIRECT($Y$9),4,FALSE))","v":1},null,null,null,null,"--","Jughandle"]
["Bowtie",null,30.912069973191425,4.361572302993669,23.257234282084376,93.705751382978448,96.060525865980722,{"$f":"IF($B29=\"--\",\"--\",HLOOKUP($B29,INDIRECT($Y$3),5,FALSE)/VLOOKUP(H$12,INDIRECT($Y$5),2,FALSE))","v":{"$error":"#N/A"}},{"$f":"IF($B29=\"--\",\"--\",HLOOKUP($B29,INDIRECT($Y$3),2,FALSE)/VLOOKUP(I$12,INDIRECT($Y$5),2,FALSE))","v":{"$error":"#N/A"}},{"$f":"IF($B29=\"--\",\"--\",HLOOKUP($B29,INDIRECT($Y$3),3,FALSE)/VLOOKUP(J$12,INDIRECT($Y$5),2,FALSE))","v":{"$error":"#N/A"}},{"$f":"IF($B29=\"--\",\"--\",HLOOKUP($B29,INDIRECT($Y$3),4,FALSE)/VLOOKUP(K$12,INDIRECT($Y$5),2,FALSE))","v":{"$error":"#N/A"}},0.34004522823495081,4.4689345500568398E-2,5.0835392515808106E-3,2.3439653963648719E-3,1.8411458333333335,1.6833333333333331,1.0103009259259257,1,null,{"$f":"IF(ISNUMBER(C29),_xlfn.RANK.EQ(C29,$C$13:$C$30), \"--\")","v":{"$error":"#VALUE!"}}]
["QR",null,30.018929360801678,6.498314896947341,14.279410029613238,92.660286754957781,94.444384036218153,{"$f":"IF($B30=\"--\",\"--\",HLOOKUP($B30,INDIRECT($Y$3),5,FALSE)/VLOOKUP(H$12,INDIRECT($Y$5),2,FALSE))","v":{"$error":"#N/A"}},{"$f":"IF($B30=\"--\",\"--\",HLOOKUP($B30,INDIRECT($Y$3),2,FALSE)/VLOOKUP(I$12,INDIRECT($Y$5),2,FALSE))","v":{"$error":"#N/A"}},{"$f":"IF($B30=\"--\",\"--\",HLOOKUP($B30,INDIRECT($Y$3),3,FALSE)/VLOOKUP(J$12,INDIRECT($Y$5),2,FALSE))","v":{"$error":"#N/A"}},{"$f":"IF($B30=\"--\",\"--\",HLOOKUP($B30,INDIRECT($Y$3),4,FALSE)/VLOOKUP(K$12,INDIRECT($Y$5),2,FALSE))","v":{"$error":"#N/A"}},0.26537733100574656,4.0927584405049969E-2,5.5822226673596567E-3,2.5308985222429531E-3,1.8367037037037035,1.3386402777777777,0.95883368055555551,1,null,{"$f":"IF(ISNUMBER(C30),_xlfn.RANK.EQ(C30,$C$13:$C$30), \"--\")","v":{"$error":"#VALUE!"}}]
[]
[]
[]
[]
[]
[]
[]
[]
[]
[]
[]
[]
[]
[]
[]
[]
[]
[]
[]
["Design Year Results"]
[]
["Control Strategy","SSI Ref Worksheet Name","SSI Score","SSI Conflict Type Score",null,null,null,"Exposure (Relative to Existing)",null,null,null,"Average P(FSI)",null,null,null,"Average Complexity"]
[null,null,null,"Nonmotorized","Crossing","Merging","Diverging","Nonmotorized","Crossing","Merging","Diverging","Nonmotorized","Crossing","Merging","Diverging","Nonmotorized","Crossing","Merging","Diverging"]
["Traffic Signal",{"$f":"IF($V$1,X13,Y13)","v":"Trad_Sig"},{"$f":"IF($B54=\"--\",\"--\",HLOOKUP($B54,INDIRECT($Y$2),6,FALSE)*100)","v":{"$error":"#VALUE!"}},{"$f":"IF($B54=\"--\",\"--\",HLOOKUP($B54,INDIRECT($Y$2),5,FALSE)*100)","v":{"$error":"#VALUE!"}},{"$f":"IF($B54=\"--\",\"--\",HLOOKUP($B54,INDIRECT($Y$2),2,FALSE)*100)","v":{"$error":"#VALUE!"}},{"$f":"IF($B54=\"--\",\"--\",HLOOKUP($B54,INDIRECT($Y$2),3,FALSE)*100)","v":{"$error":"#VALUE!"}},{"$f":"IF($B54=\"--\",\"--\",HLOOKUP($B54,INDIRECT($Y$2),4,FALSE)*100)","v":{"$error":"#VALUE!"}},{"$f":"IF($B54=\"--\",\"--\",HLOOKUP($B54,INDIRECT($Y$4),5,FALSE)/VLOOKUP(H$53,INDIRECT($Y$6),2,FALSE))","v":{"$error":"#VALUE!"}},{"$f":"IF($B54=\"--\",\"--\",HLOOKUP($B54,INDIRECT($Y$4),2,FALSE)/VLOOKUP(I$53,INDIRECT($Y$6),2,FALSE))","v":{"$error":"#VALUE!"}},{"$f":"IF($B54=\"--\",\"--\",HLOOKUP($B54,INDIRECT($Y$4),3,FALSE)/VLOOKUP(J$53,INDIRECT($Y$6),2,FALSE))","v":{"$error":"#VALUE!"}},{"$f":"IF($B54=\"--\",\"--\",HLOOKUP($B54,INDIRECT($Y$4),4,FALSE)/VLOOKUP(K$53,INDIRECT($Y$6),2,FALSE))","v":{"$error":"#VALUE!"}},{"$f":"IF($B54=\"--\",\"--\",HLOOKUP($B54,INDIRECT($Y$8),5,FALSE))","v":0.28891209057648393},{"$f":"IF($B54=\"--\",\"--\",HLOOKUP($B54,INDIRECT($Y$8),2,FALSE))","v":3.9374842505356146E-2},{"$f":"IF($B54=\"--\",\"--\",HLOOKUP($B54,INDIRECT($Y$8),3,FALSE))","v":6.0963748238522207E-3},{"$f":"IF($B54=\"--\",\"--\",HLOOKUP($B54,INDIRECT($Y$8),4,FALSE))","v":2.6637756817828712E-3},{"$f":"IF($B54=\"--\",\"--\",HLOOKUP($B54,INDIRECT($Y$10),5,FALSE))","v":3.59375},{"$f":"IF($B54=\"--\",\"--\",HLOOKUP($B54,INDIRECT($Y$10),2,FALSE))","v":2.2854166666666664},{"$f":"IF($B54=\"--\",\"--\",HLOOKUP($B54,INDIRECT($Y$10),3,FALSE))","v":1.6307291666666666},{"$f":"IF($B54=\"--\",\"--\",HLOOKUP($B54,INDIRECT($Y$10),4,FALSE))","v":1}]
["Traffic Signal (Alt)","Trad_Sig",{"$error":"#VALUE!"},{"$error":"#VALUE!"},{"$error":"#VALUE!"},{"$error":"#VALUE!"},{"$error":"#VALUE!"},{"$f":"IF($B55=\"--\",\"--\",HLOOKUP($B55,INDIRECT($Y$4),5,FALSE)/VLOOKUP(H$53,INDIRECT($Y$6),2,FALSE))","v":{"$error":"#VALUE!"}},{"$f":"IF($B55=\"--\",\"--\",HLOOKUP($B55,INDIRECT($Y$4),2,FALSE)/VLOOKUP(I$53,INDIRECT($Y$6),2,FALSE))","v":{"$error":"#VALUE!"}},{"$f":"IF($B55=\"--\",\"--\",HLOOKUP($B55,INDIRECT($Y$4),3,FALSE)/VLOOKUP(J$53,INDIRECT($Y$6),2,FALSE))","v":{"$error":"#VALUE!"}},{"$f":"IF($B55=\"--\",\"--\",HLOOKUP($B55,INDIRECT($Y$4),4,FALSE)/VLOOKUP(K$53,INDIRECT($Y$6),2,FALSE))","v":{"$error":"#VALUE!"}},{"$f":"IF($B55=\"--\",\"--\",HLOOKUP($B55,INDIRECT($Y$8),5,FALSE))","v":0.28891209057648393},{"$f":"IF($B55=\"--\",\"--\",HLOOKUP($B55,INDIRECT($Y$8),2,FALSE))","v":3.9374842505356146E-2},{"$f":"IF($B55=\"--\",\"--\",HLOOKUP($B55,INDIRECT($Y$8),3,FALSE))","v":6.0963748238522207E-3},{"$f":"IF($B55=\"--\",\"--\",HLOOKUP($B55,INDIRECT($Y$8),4,FALSE))","v":2.6637756817828712E-3},{"$f":"IF($B55=\"--\",\"--\",HLOOKUP($B55,INDIRECT($Y$10),5,FALSE))","v":3.59375},{"$f":"IF($B55=\"--\",\"--\",HLOOKUP($B55,INDIRECT($Y$10),2,FALSE))","v":2.2854166666666664},{"$f":"IF($B55=\"--\",\"--\",HLOOKUP($B55,INDIRECT($Y$10),3,FALSE))","v":1.6307291666666666},{"$f":"IF($B55=\"--\",\"--\",HLOOKUP($B55,INDIRECT($Y$10),4,FALSE))","v":1}]
["Minor Road Stop","Trad_MinorStop",{"$error":"#VALUE!"},{"$error":"#VALUE!"},{"$error":"#VALUE!"},{"$error":"#VALUE!"},{"$error":"#VALUE!"},{"$error":"#VALUE!"},{"$error":"#VALUE!"},{"$error":"#VALUE!"},{"$error":"#VALUE!"},0.28891209057648393,3.7725641189214877E-2,6.0963748238522207E-3,2.6637756817828712E-3,5.390625,2.8515625000000009,2.3411458333333335,1]
["All Way Stop","Trad_AllSTop",{"$error":"#VALUE!"},{"$error":"#VALUE!"},{"$error":"#VALUE!"},{"$error":"#VALUE!"},{"$error":"#VALUE!"},{"$error":"#VALUE!"},{"$error":"#VALUE!"},{"$error":"#VALUE!"},{"$error":"#VALUE!"},0.18722320043153562,1.0895928064475997E-2,1.0817075175764881E-3,6.4061388075216071E-7,4.53125,2.7942708333333339,2.3411458333333335,1]
["1-Lane Roundabout","RAB1x1",{"$error":"#VALUE!"},{"$error":"#VALUE!"},{"$error":"#VALUE!"},{"$error":"#VALUE!"},{"$error":"#VALUE!"},{"$error":"#VALUE!"},{"$error":"#VALUE!"},{"$error":"#VALUE!"},{"$error":"#VALUE!"},0.33487358968598979,4.1698027385763141E-3,1.374463454784178E-3,2.2045008701330221E-5,1.2222222222222223,0.61111111111111105,0.61111111111111105,1]
["RAB2x1",0,{"$error":"#N/A"},{"$error":"#N/A"},{"$error":"#N/A"},{"$error":"#N/A"},{"$error":"#N/A"},{"$error":"#N/A"},{"$error":"#N/A"},{"$error":"#N/A"},{"$error":"#N/A"},{"$error":"#N/A"},{"$error":"#N/A"},{"$error":"#N/A"},{"$error":"#N/A"},{"$error":"#N/A"},{"$error":"#N/A"},{"$error":"#N/A"},{"$error":"#N/A"}]
["2-Lane Roundabout","RAB2x2",{"$error":"#VALUE!"},{"$error":"#VALUE!"},{"$error":"#VALUE!"},{"$error":"#VALUE!"},{"$error":"#VALUE!"},{"$error":"#VALUE!"},{"$error":"#VALUE!"},{"$error":"#VALUE!"},{"$error":"#VALUE!"},0.33487358968598979,4.1698027385763141E-3,1.374463454784178E-3,2.2045008701330221E-5,2.4444444444444446,1.2222222222222221,1.1458333333333333,1]
["Displaced Left Turn (DLT)","FDLT",{"$error":"#VALUE!"},{"$error":"#VALUE!"},{"$error":"#VALUE!"},{"$error":"#VALUE!"},{"$error":"#VALUE!"},{"$error":"#VALUE!"},{"$error":"#VALUE!"},{"$error":"#VALUE!"},{"$error":"#VALUE!"},0.3225944279086651,4.3201823963574998E-2,6.3682888337246706E-3,2.6637756817828712E-3,5.7076166666666683,1.3567199074074072,2.0132812499999999,1]
["Partial Displaced Left Turn","PDLT",{"$error":"#VALUE!"},{"$error":"#VALUE!"},{"$error":"#VALUE!"},{"$error":"#VALUE!"},{"$error":"#VALUE!"},{"$error":"#VALUE!"},{"$error":"#VALUE!"},{"$error":"#VALUE!"},{"$error":"#VALUE!"},0.32259442790866505,4.0035692196364533E-2,6.0963748238522224E-3,2.6637756817828712E-3,6.2323958333333334,1.8787202380952375,2.2236979166666662,1]
["Median U-Turn (MUT)","MUT",{"$error":"#VALUE!"},{"$error":"#VALUE!"},{"$error":"#VALUE!"},{"$error":"#VALUE!"},{"$error":"#VALUE!"},{"$error":"#VALUE!"},{"$error":"#VALUE!"},{"$error":"#VALUE!"},{"$error":"#VALUE!"},0.32753470388820882,4.4689345500568335E-2,9.2303920563134925E-3,3.5514873710835782E-3,1.360470486111111,0.84166666666666656,0.7715277777777777,1]
["Signalized RCUT","RCUT_Sig",{"$error":"#VALUE!"},{"$error":"#VALUE!"},{"$error":"#VALUE!"},{"$error":"#VALUE!"},{"$error":"#VALUE!"},{"$error":"#VALUE!"},{"$error":"#VALUE!"},{"$error":"#VALUE!"},{"$error":"#VALUE!"},0.28256074999909059,9.0286582411373745E-2,9.0460352685773782E-3,4.7673401118604655E-3,1.7332722222222223,0.84166666666666656,0.7715277777777777,1]
["Unsignalized RCUT","RCUT_Unsig",{"$error":"#VALUE!"},{"$error":"#VALUE!"},{"$error":"#VALUE!"},{"$error":"#VALUE!"},{"$error":"#VALUE!"},{"$error":"#VALUE!"},{"$error":"#VALUE!"},{"$error":"#VALUE!"},{"$error":"#VALUE!"},0.28256074999909059,9.0286582411373745E-2,9.0460352685773782E-3,4.7673401118604655E-3,3.1071111111111107,1.2083333333333335,1.1076388888888891,1]
["Signalized Thru Cut",{"$f":"IF($V$1,X25,Y25)","v":"ThruCut_Sig"},{"$error":"#VALUE!"},{"$error":"#VALUE!"},{"$error":"#VALUE!"},{"$error":"#VALUE!"},{"$error":"#VALUE!"},{"$error":"#VALUE!"},{"$error":"#VALUE!"},{"$error":"#VALUE!"},{"$error":"#VALUE!"},0.30257758895387782,4.7491431458181604E-2,9.0682468365996527E-3,3.5756652373655374E-3,1.7083027777777773,1.5690104166666665,1.1481770833333333,1]
["Unsignalized Thru Cut","ThruCut_Unsig",{"$error":"#VALUE!"},{"$error":"#VALUE!"},{"$error":"#VALUE!"},{"$error":"#VALUE!"},{"$error":"#VALUE!"},{"$error":"#VALUE!"},{"$error":"#VALUE!"},{"$error":"#VALUE!"},{"$error":"#VALUE!"},0.30257758895387782,4.7491431458181604E-2,9.0682468365996527E-3,3.5756652373655374E-3,2.9681388888888884,2.0013020833333335,1.3971354166666665,1]
["Continuous Green-T",{"$f":"IF($V$1,X27,Y27)","v":"--"},{"$f":"IF($B68=\"--\",\"--\",HLOOKUP($B68,INDIRECT($Y$2),6,FALSE)*100)","v":"--"},{"$f":"IF($B68=\"--\",\"--\",HLOOKUP($B68,INDIRECT($Y$2),5,FALSE)*100)","v":"--"},{"$f":"IF($B68=\"--\",\"--\",HLOOKUP($B68,INDIRECT($Y$2),2,FALSE)*100)","v":"--"},{"$f":"IF($B68=\"--\",\"--\",HLOOKUP($B68,INDIRECT($Y$2),3,FALSE)*100)","v":"--"},{"$f":"IF($B68=\"--\",\"--\",HLOOKUP($B68,INDIRECT($Y$2),4,FALSE)*100)","v":"--"},{"$f":"IF($B68=\"--\",\"--\",HLOOKUP($B68,INDIRECT($Y$4),5,FALSE)/VLOOKUP(H$53,INDIRECT($Y$6),2,FALSE))","v":"--"},{"$f":"IF($B68=\"--\",\"--\",HLOOKUP($B68,INDIRECT($Y$4),2,FALSE)/VLOOKUP(I$53,INDIRECT($Y$6),2,FALSE))","v":"--"},{"$f":"IF($B68=\"--\",\"--\",HLOOKUP($B68,INDIRECT($Y$4),3,FALSE)/VLOOKUP(J$53,INDIRECT($Y$6),2,FALSE))","v":"--"},{"$f":"IF($B68=\"--\",\"--\",HLOOKUP($B68,INDIRECT($Y$4),4,FALSE)/VLOOKUP(K$53,INDIRECT($Y$6),2,FALSE))","v":"--"},{"$f":"IF($B68=\"--\",\"--\",HLOOKUP($B68,INDIRECT($Y$8),5,FALSE))","v":"--"},{"$f":"IF($B68=\"--\",\"--\",HLOOKUP($B68,INDIRECT($Y$8),2,FALSE))","v":"--"},{"$f":"IF($B68=\"--\",\"--\",HLOOKUP($B68,INDIRECT($Y$8),3,FALSE))","v":"--"},{"$f":"IF($B68=\"--\",\"--\",HLOOKUP($B68,INDIRECT($Y$8),4,FALSE))","v":"--"},{"$f":"IF($B68=\"--\",\"--\",HLOOKUP($B68,INDIRECT($Y$10),5,FALSE))","v":"--"},{"$f":"IF($B68=\"--\",\"--\",HLOOKUP($B68,INDIRECT($Y$10),2,FALSE))","v":"--"},{"$f":"IF($B68=\"--\",\"--\",HLOOKUP($B68,INDIRECT($Y$10),3,FALSE))","v":"--"},{"$f":"IF($B68=\"--\",\"--\",HLOOKUP($B68,INDIRECT($Y$10),4,FALSE))","v":"--"}]
["Jughandle",{"$f":"IF($V$1,X28,Y28)","v":"Jughandle"},{"$f":"IF($B69=\"--\",\"--\",HLOOKUP($B69,INDIRECT($Y$2),6,FALSE)*100)","v":{"$error":"#VALUE!"}},{"$f":"IF($B69=\"--\",\"--\",HLOOKUP($B69,INDIRECT($Y$2),5,FALSE)*100)","v":{"$error":"#VALUE!"}},{"$f":"IF($B69=\"--\",\"--\",HLOOKUP($B69,INDIRECT($Y$2),2,FALSE)*100)","v":{"$error":"#VALUE!"}},{"$f":"IF($B69=\"--\",\"--\",HLOOKUP($B69,INDIRECT($Y$2),3,FALSE)*100)","v":{"$error":"#VALUE!"}},{"$f":"IF($B69=\"--\",\"--\",HLOOKUP($B69,INDIRECT($Y$2),4,FALSE)*100)","v":{"$error":"#VALUE!"}},{"$f":"IF($B69=\"--\",\"--\",HLOOKUP($B69,INDIRECT($Y$4),5,FALSE)/VLOOKUP(H$53,INDIRECT($Y$6),2,FALSE))","v":{"$error":"#VALUE!"}},{"$f":"IF($B69=\"--\",\"--\",HLOOKUP($B69,INDIRECT($Y$4),2,FALSE)/VLOOKUP(I$53,INDIRECT($Y$6),2,FALSE))","v":{"$error":"#VALUE!"}},{"$f":"IF($B69=\"--\",\"--\",HLOOKUP($B69,INDIRECT($Y$4),3,FALSE)/VLOOKUP(J$53,INDIRECT($Y$6),2,FALSE))","v":{"$error":"#VALUE!"}},{"$f":"IF($B69=\"--\",\"--\",HLOOKUP($B69,INDIRECT($Y$4),4,FALSE)/VLOOKUP(K$53,INDIRECT($Y$6),2,FALSE))","v":{"$error":"#VALUE!"}},{"$f":"IF($B69=\"--\",\"--\",HLOOKUP($B69,INDIRECT($Y$8),5,FALSE))","v":0.28908227475296017},{"$f":"IF($B69=\"--\",\"--\",HLOOKUP($B69,INDIRECT($Y$8),2,FALSE))","v":4.0181659702600965E-2},{"$f":"IF($B69=\"--\",\"--\",HLOOKUP($B69,INDIRECT($Y$8),3,FALSE))","v":6.3490989673376649E-3},{"$f":"IF($B69=\"--\",\"--\",HLOOKUP($B69,INDIRECT($Y$8),4,FALSE))","v":2.2078309039915383E-3},{"$f":"IF($B69=\"--\",\"--\",HLOOKUP($B69,INDIRECT($Y$10),5,FALSE))","v":2.8304535024154593},{"$f":"IF($B69=\"--\",\"--\",HLOOKUP($B69,INDIRECT($Y$10),2,FALSE))","v":2.2891786858974359},{"$f":"IF($B69=\"--\",\"--\",HLOOKUP($B69,INDIRECT($Y$10),3,FALSE))","v":1.4403897569444444},{"$f":"IF($B69=\"--\",\"--\",HLOOKUP($B69,INDIRECT($Y$10),4,FALSE))","v":1}]
["Bowtie",null,30.912069973191425,4.361572302993669,23.257234282084376,93.705751382978448,96.060525865980722,{"$f":"IF($B70=\"--\",\"--\",HLOOKUP($B70,INDIRECT($Y$4),5,FALSE)/VLOOKUP(H$53,INDIRECT($Y$6),2,FALSE))","v":{"$error":"#N/A"}},{"$f":"IF($B70=\"--\",\"--\",HLOOKUP($B70,INDIRECT($Y$4),2,FALSE)/VLOOKUP(I$53,INDIRECT($Y$6),2,FALSE))","v":{"$error":"#N/A"}},{"$f":"IF($B70=\"--\",\"--\",HLOOKUP($B70,INDIRECT($Y$4),3,FALSE)/VLOOKUP(J$53,INDIRECT($Y$6),2,FALSE))","v":{"$error":"#N/A"}},{"$f":"IF($B70=\"--\",\"--\",HLOOKUP($B70,INDIRECT($Y$4),4,FALSE)/VLOOKUP(K$53,INDIRECT($Y$6),2,FALSE))","v":{"$error":"#N/A"}},0.34004522823495081,4.4689345500568398E-2,5.0835392515808106E-3,2.3439653963648719E-3,1.8411458333333335,1.6833333333333331,1.0103009259259257,1]
["QR",null,30.018929360801678,6.498314896947341,14.279410029613238,92.660286754957781,94.444384036218153,{"$f":"IF($B71=\"--\",\"--\",HLOOKUP($B71,INDIRECT($Y$4),5,FALSE)/VLOOKUP(H$53,INDIRECT($Y$6),2,FALSE))","v":{"$error":"#N/A"}},{"$f":"IF($B71=\"--\",\"--\",HLOOKUP($B71,INDIRECT($Y$4),2,FALSE)/VLOOKUP(I$53,INDIRECT($Y$6),2,FALSE))","v":{"$error":"#N/A"}},{"$f":"IF($B71=\"--\",\"--\",HLOOKUP($B71,INDIRECT($Y$4),3,FALSE)/VLOOKUP(J$53,INDIRECT($Y$6),2,FALSE))","v":{"$error":"#N/A"}},{"$f":"IF($B71=\"--\",\"--\",HLOOKUP($B71,INDIRECT($Y$4),4,FALSE)/VLOOKUP(K$53,INDIRECT($Y$6),2,FALSE))","v":{"$error":"#N/A"}},0.26537733100574656,4.0927584405049969E-2,5.5822226673596567E-3,2.5308985222429531E-3,1.8367037037037035,1.3386402777777777,0.95883368055555551,1]

{"sheet":"ResultsRTI","index":24,"n_rows":36,"n_cols":24,"rows_kept":36,"cut":false,"hidden":true,"merged":[[30,0,31,0],[30,5,31,5],[30,6,31,7],[30,8,31,8],[30,9,31,9],[34,8,35,8],[34,9,35,9],[34,10,35,10],[28,8,29,8],[28,9,29,9],[28,10,29,10],[32,8,33,8],[32,9,33,9],[32,10,33,10],[30,10,31,10],[24,8,25,8],[24,9,25,9],[24,10,25,10],[26,8,27,8],[26,9,27,9],[26,10,27,10],[20,8,21,8],[20,9,21,9],[20,10,21,10],[22,8,23,8],[22,9,23,9],[22,10,23,10],[14,4,15,4],[14,3,15,3],[18,8,19,8],[18,9,19,9],[18,10,19,10],[5,1,5,3],[5,4,5,5],[5,6,5,10],[0,0,0,10],[1,0,1,10],[2,0,2,10],[3,0,3,10],[4,0,4,10],[6,1,6,3],[6,4,6,5],[7,1,7,3],[7,4,7,5],[6,6,6,10],[7,6,7,10],[8,1,8,3],[8,4,8,5],[9,1,9,3],[9,4,9,5],[8,6,8,10],[9,6,9,10],[10,1,10,3],[10,4,10,5],[11,1,11,3],[11,4,11,5],[10,6,10,10],[11,6,11,10],[12,1,12,3],[12,4,12,5],[16,0,17,0],[16,5,17,5],[16,6,17,7],[14,2,15,2],[14,1,15,1],[14,0,15,0],[12,6,12,10],[13,0,13,10],[16,8,17,8],[16,9,17,9],[16,10,17,10],[14,8,14,10],[14,6,15,7],[14,5,15,5],[18,0,19,0],[18,5,19,5],[20,0,21,0],[20,5,21,5],[18,6,19,7],[20,6,21,7],[22,0,23,0],[22,5,23,5],[24,0,25,0],[24,5,25,5],[22,6,23,7],[24,6,25,7],[26,0,27,0],[26,5,27,5],[28,0,29,0],[28,5,29,5],[26,6,27,7],[28,6,29,7],[32,0,33,0],[32,5,33,5],[34,0,35,0],[34,5,35,5],[32,6,33,7],[34,6,35,7]]}
["Federal Highway Administration (FHWA)"]
["Safety Performance for Intersection Control Evaluation Tool"]
["Results",null,null,null,null,null,null,null,null,null,null,{"$f":"IF(OR(OR(ISBLANK('Control Strategy Selection'!D5),ISBLANK('Control Strategy Selection'!D13),ISBLANK('Control Strategy Selection'!D14)),IF('Control Strategy Selection'!D4=Label_AnalysisYearType_OpenAndDesign,OR(ISBLANK('Control Strategy Selection'!D6),ISBLANK('Control Strategy Selection'!D15),ISBLANK('Control Strategy Selection'!D16)),FALSE)),\"Please complete the Opening/Design Year Inputs and AADTs Before Viewing Results\",\"\")","v":"Please complete the Opening/Design Year Inputs and AADTs Before Viewing Results"}]
["Summary of crash prediction results for each alternative"]
["Project Information"]
["Project Name:",{"$f":"IF(ISBLANK('Project Information'!B3:C3),\"\",'Project Information'!B3:C3)","v":""},null,null,"Intersection Type",null,{"$f":"'Control Strategy Selection'!D3","v":"At-Grade Intersections"}]
["Intersection:",{"$f":"IF(ISBLANK('Project Information'!B4:C4),\"\",'Project Information'!B4:C4)","v":""},null,null,"Opening Year",null,{"$f":"'Control Strategy Selection'!D5","v":0}]
["Agency: ",{"$f":"IF(ISBLANK('Project Information'!B5:C5),\"\",'Project Information'!B5:C5)","v":""},null,null,"Design Year",null,{"$f":"'Control Strategy Selection'!D6","v":0}]
["Project Reference:",{"$f":"IF(ISBLANK('Project Information'!B6:C6),\"\",'Project Information'!B6:C6)","v":""},null,null,"Area Type",null,{"$f":"Input_RTI_AreaType","v":"Urban"}]
["City:",{"$f":"IF(ISBLANK('Project Information'!B7:C7),\"\",'Project Information'!B7:C7)","v":""}]
["State:",{"$f":"IF(ISBLANK('Project Information'!B8:C8),\"\",'Project Information'!B8:C8)","v":""}]
["Date:",{"$f":"IF(ISBLANK('Project Information'!B9:C9),\"\",'Project Information'!B9:C9)","v":""}]
["Analyst:",{"$f":"IF(ISBLANK('Project Information'!B10:C10),\"\",'Project Information'!B10:C10)","v":""}]
["Crash Prediction Summary"]
["Control Strategy","Crash Type","Opening Year","Design Year","Total Project Life Cycle","Rank","AADT Within range?",null,"SSI Score",null,null,null,null,null,null,"Use Val (open vs design)",null,"Included","Total","FI",false]
[null,null,null,null,null,null,null,null,"Open","Design","Rank",null,null,null,null,{"$f":"IF(Input_AnalysisYearType=Notes!$A$11,ResultsRTI!C17,ResultsRTI!E17)","v":274.00261845195308},{"$f":"IF(Input_AnalysisYearType=Notes!$A$11,ResultsRTI!C18,ResultsRTI!E18)","v":125.42178262076146},{"$f":"AND(IsChecked_RTI_D4TS,ISNUMBER(P16))","v":true},{"$f":"IF(AND(P16>0,R16),P16,99999999999)","v":274.00261845195308},{"$f":"IF(AND(Q16>0,R16),Q16,99999999999)","v":125.42178262076146},{"$f":"RANK(S16,$S$16:$S$29,1)","v":5},{"$f":"RANK(T16,$T$16:$T$29,1)","v":7},{"$f":"IF($U$15,U16+0.01*V16,V16+0.01*U16)","v":7.05},{"$f":"RANK(W16,$W$16:$W$29,1)","v":7}]
[{"$f":"Label_RTI_D4TS","v":"Signalized Diamond"},"Total",7.6956205028010096,18.536346311608192,274.00261845195308,{"$f":"IF(OR(AND(ISNUMBER(C17),C17>0),AND(ISNUMBER(E17),E17>0)),X16,\"--\")","v":7},{"$f":"IF(AND('Control Strategy Selection'!W61:X61),\"Yes\",\"No\")","v":"No"},null,{"$f":"IF(IsChecked_RTI_D4TS, 'RTI SSI Results'!C13,\"\")","v":71.49317512553597},{"$f":"IF(IsChecked_RTI_D4TS, 'RTI SSI Results'!C54,\"\")","v":42.706274787998545},{"$f":"IF(ISNUMBER(J17),_xlfn.RANK.EQ(J17,$J$17:$J$39),IF(ISNUMBER(I17),_xlfn.RANK.EQ(I17,$I$17:$I$39),\"--\"))","v":5},null,null,null,null,{"$f":"IF(Input_AnalysisYearType=Notes!$A$11,ResultsRTI!C19,ResultsRTI!E19)","v":274.00261845195308},{"$f":"IF(Input_AnalysisYearType=Notes!$A$11,ResultsRTI!C20,ResultsRTI!E20)","v":125.42178262076146},{"$f":"AND(IsChecked_RTI_D4TSA,ISNUMBER(P17))","v":true},274.00261845195308,125.42178262076146,{"$f":"RANK(S17,$S$16:$S$29,1)","v":5},{"$f":"RANK(T17,$T$16:$T$29,1)","v":7},7.05,{"$f":"RANK(W17,$W$16:$W$29,1)","v":7}]
[null,"Fatal & Injury",3.3106565016047416,8.7758605937717586,125.42178262076146,null,null,null,null,null,null,null,null,null,null,{"$f":"IF(Input_AnalysisYearType=Notes!$A$11,ResultsRTI!C21,ResultsRTI!E21)","v":183.58175436280857},{"$f":"IF(Input_AnalysisYearType=Notes!$A$11,ResultsRTI!C22,ResultsRTI!E22)","v":73.998851746249244},{"$f":"AND(IsChecked_RTI_DDI,ISNUMBER(P18))","v":true},183.58175436280857,73.998851746249244,4,4,4.04,4]
[{"$f":"Label_RTI_D4TSA","v":"Signalized Diamond (Alt)"},"Total",7.6956205028010096,18.536346311608192,274.00261845195308,{"$f":"IF(OR(AND(ISNUMBER(C19),C19>0),AND(ISNUMBER(E19),E19>0)),X17,\"--\")","v":7},{"$f":"IF(AND('Control Strategy Selection'!W62:X62),\"Yes\",\"No\")","v":"No"},null,{"$f":"IF(IsChecked_RTI_D4TSA,'RTI SSI Results'!C14,\"\")","v":71.49317512553597},{"$f":"IF(IsChecked_RTI_D4TSA,'RTI SSI Results'!C55,\"\")","v":42.706274787998545},{"$f":"IF(ISNUMBER(J19),_xlfn.RANK.EQ(J19,$J$17:$J$39),IF(ISNUMBER(I19),_xlfn.RANK.EQ(I19,$I$17:$I$39),\"--\"))","v":5},null,null,null,null,{"$f":"IF(Input_AnalysisYearType=Notes!$A$11,ResultsRTI!C23,ResultsRTI!E23)","v":145.68183647389554},{"$f":"IF(Input_AnalysisYearType=Notes!$A$11,ResultsRTI!C24,ResultsRTI!E24)","v":38.875714969792668},{"$f":"AND(IsChecked_RTI_SPUI,ISNUMBER(P19))","v":true},145.68183647389554,38.875714969792668,1,2,2.0099999999999998,2]
[null,"Fatal & Injury",3.3106565016047416,8.7758605937717586,125.42178262076146,null,null,null,null,null,null,null,null,null,null,{"$f":"IF(Input_AnalysisYearType=Notes!$A$11,ResultsRTI!C25,ResultsRTI!E25)","v":280.16136089003192},{"$f":"IF(Input_AnalysisYearType=Notes!$A$11,ResultsRTI!C26,ResultsRTI!E26)","v":120.55747881476353},{"$f":"AND(IsChecked_RTI_D4MS,ISNUMBER(P20))","v":true},280.16136089003192,120.55747881476353,8,5,5.08,5]
[{"$f":"Label_RTI_DDI","v":"Diverging Diamond"},"Total",5.1560657368766769,12.419352028777489,183.58175436280857,{"$f":"IF(OR(AND(ISNUMBER(C21),C21>0),AND(ISNUMBER(E21),E21>0)),X18,\"--\")","v":4},"N/A",null,{"$f":"IF(IsChecked_RTI_DDI,'RTI SSI Results'!C15,\"\")","v":74.420612090745351},{"$f":"IF(IsChecked_RTI_DDI,'RTI SSI Results'!C56,\"\")","v":50.538798049853938},{"$f":"IF(ISNUMBER(J21),_xlfn.RANK.EQ(J21,$J$17:$J$39),IF(ISNUMBER(I21),_xlfn.RANK.EQ(I21,$I$17:$I$39),\"--\"))","v":4},null,null,null,null,{"$f":"IF(Input_AnalysisYearType=Notes!$A$11,ResultsRTI!C27,ResultsRTI!E27)","v":174.89389234466483},{"$f":"IF(Input_AnalysisYearType=Notes!$A$11,ResultsRTI!C28,ResultsRTI!E28)","v":19.681023234649192},{"$f":"AND(IsChecked_RTI_Rdbt1Ln,ISNUMBER(P21))","v":true},174.89389234466483,19.681023234649192,2,1,1.02,1]
[null,"Fatal & Injury",1.9532873359467973,5.1777577503253376,73.998851746249244,null,null,null,null,null,null,null,null,null,null,{"$f":"IF(Input_AnalysisYearType=Notes!$A$11,ResultsRTI!C29,ResultsRTI!E29)","v":1000.2429465513587},{"$f":"IF(Input_AnalysisYearType=Notes!$A$11,ResultsRTI!C30,ResultsRTI!E30)","v":194.63041065267194},{"$f":"AND(IsChecked_RTI_Rdbt2Ln,ISNUMBER(P22))","v":true},1000.2429465513587,194.63041065267194,10,10,10.1,10]
[{"$f":"Label_RTI_SPUI","v":"Single-Point Diamond"},"Total",4.9961365510916185,8.8781716323609299,145.68183647389554,{"$f":"IF(OR(AND(ISNUMBER(C23),C23>0),AND(ISNUMBER(E23),E23>0)),X19,\"--\")","v":2},{"$f":"IF(AND('Control Strategy Selection'!W64:X64),\"Yes\",\"No\")","v":"Yes"},null,{"$f":"IF(IsChecked_RTI_SPUI,'RTI SSI Results'!C16,\"\")","v":67.733292008323659},{"$f":"IF(IsChecked_RTI_SPUI,'RTI SSI Results'!C57,\"\")","v":40.403384128624339},{"$f":"IF(ISNUMBER(J23),_xlfn.RANK.EQ(J23,$J$17:$J$39),IF(ISNUMBER(I23),_xlfn.RANK.EQ(I23,$I$17:$I$39),\"--\"))","v":7},null,null,null,null,{"$f":"IF(Input_AnalysisYearType=Notes!$A$11,ResultsRTI!C31,ResultsRTI!E31)","v":182.3997264135906},{"$f":"IF(Input_AnalysisYearType=Notes!$A$11,ResultsRTI!C32,ResultsRTI!E32)","v":53.547959640802745},{"$f":"AND(IsChecked_RTI_TD,ISNUMBER(P23))","v":true},{"$f":"IF(AND(P23>0,R23),P23,99999999999)","v":182.3997264135906},{"$f":"IF(AND(Q23>0,R23),Q23,99999999999)","v":53.547959640802745},{"$f":"RANK(S23,$S$16:$S$29,1)","v":3},{"$f":"RANK(T23,$T$16:$T$29,1)","v":3},{"$f":"IF($U$15,U23+0.01*V23,V23+0.01*U23)","v":3.03},{"$f":"RANK(W23,$W$16:$W$29,1)","v":3}]
[null,"Fatal & Injury",1.2383968062883208,2.4785163174828075,38.875714969792668,null,null,null,null,null,null,null,null,null,null,{"$f":"IF(Input_AnalysisYearType=Notes!$A$11,ResultsRTI!C33,ResultsRTI!E33)","v":274.00261845195308},{"$f":"IF(Input_AnalysisYearType=Notes!$A$11,ResultsRTI!C34,ResultsRTI!E34)","v":125.42178262076146},{"$f":"AND(IsChecked_RTI_Other1,ISNUMBER(P24))","v":true},{"$f":"IF(AND(P24>0,R24),P24,99999999999)","v":274.00261845195308},{"$f":"IF(AND(Q24>0,R24),Q24,99999999999)","v":125.42178262076146},{"$f":"RANK(S24,$S$16:$S$29,1)","v":5},{"$f":"RANK(T24,$T$16:$T$29,1)","v":7},{"$f":"IF($U$15,U24+0.01*V24,V24+0.01*U24)","v":7.05},{"$f":"RANK(W24,$W$16:$W$29,1)","v":7}]
[{"$f":"Label_RTI_D4MS","v":"Unsignalized Diamond"},"Total",8.5743998432392345,18.077454985648085,280.16136089003192,{"$f":"IF(OR(AND(ISNUMBER(C25),C25>0),AND(ISNUMBER(E25),E25>0)),X20,\"--\")","v":5},{"$f":"IF(AND('Control Strategy Selection'!W65:X65),\"Yes\",\"No\")","v":"No"},null,{"$f":"IF(IsChecked_RTI_D4MS,'RTI SSI Results'!C17,\"\")","v":56.689872665423344},{"$f":"IF(IsChecked_RTI_D4MS,'RTI SSI Results'!C58,\"\")","v":25.673383751513608},{"$f":"IF(ISNUMBER(J25),_xlfn.RANK.EQ(J25,$J$17:$J$39),IF(ISNUMBER(I25),_xlfn.RANK.EQ(I25,$I$17:$I$39),\"--\"))","v":8},null,null,null,null,{"$f":"IF(Input_AnalysisYearType=Notes!$A$11,ResultsRTI!C35,ResultsRTI!E35)","v":280.16136089003192},{"$f":"IF(Input_AnalysisYearType=Notes!$A$11,ResultsRTI!C36,ResultsRTI!E36)","v":120.55747881476353},{"$f":"AND(IsChecked_RTI_Other2,ISNUMBER(P25))","v":true},{"$f":"IF(AND(P25>0,R25),P25,99999999999)","v":280.16136089003192},{"$f":"IF(AND(Q25>0,R25),Q25,99999999999)","v":120.55747881476353},{"$f":"RANK(S25,$S$16:$S$29,1)","v":8},{"$f":"RANK(T25,$T$16:$T$29,1)","v":5},{"$f":"IF($U$15,U25+0.01*V25,V25+0.01*U25)","v":5.08},{"$f":"RANK(W25,$W$16:$W$29,1)","v":5}]
[null,"Fatal & Injury",3.6736948032458931,7.8201962005044008,120.55747881476353]
[{"$f":"Label_RTI_1LnRdbt","v":"1-lane Roundabout"},"Total",5.4580153255828527,10.056559333550624,174.89389234466483,{"$f":"IF(OR(AND(ISNUMBER(C27),C27>0),AND(ISNUMBER(E27),E27>0)),X21,\"--\")","v":1},"N/A",null,{"$f":"IF(IsChecked_RTI_Rdbt1Ln,'RTI SSI Results'!C18,\"\")","v":89.187743504463157},{"$f":"IF(IsChecked_RTI_Rdbt1Ln,'RTI SSI Results'!C59,\"\")","v":79.183292674834448},{"$f":"IF(ISNUMBER(J27),_xlfn.RANK.EQ(J27,$J$17:$J$39),IF(ISNUMBER(I27),_xlfn.RANK.EQ(I27,$I$17:$I$39),\"--\"))","v":1}]
[null,"Fatal & Injury",0.5495664674355043,1.1852913389418955,19.681023234649192]
[{"$f":"Label_RTI_2LnRdbt","v":"2-lane Roundabout"},"Total",24.227022667224993,63.856312181486935,1000.2429465513587,{"$f":"IF(OR(AND(ISNUMBER(C29),C29>0),AND(ISNUMBER(E29),E29>0)),X22,\"--\")","v":10},"N/A",null,{"$f":"IF(IsChecked_RTI_Rdbt2Ln,'RTI SSI Results'!C19,\"\")","v":79.551584114822987},{"$f":"IF(IsChecked_RTI_Rdbt2Ln,'RTI SSI Results'!C60,\"\")","v":62.714372010796197},{"$f":"IF(ISNUMBER(J29),_xlfn.RANK.EQ(J29,$J$17:$J$39),IF(ISNUMBER(I29),_xlfn.RANK.EQ(I29,$I$17:$I$39),\"--\"))","v":2}]
[null,"Fatal & Injury",4.4003766466124787,12.76773884241774,194.63041065267194]
[{"$f":"Label_RTI_TD","v":"Signalized Tight Diamond Interchange"},"Total",6.3656274099427836,10.958695293458572,182.3997264135906,{"$f":"IF(OR(AND(ISNUMBER(C31),C31>0),AND(ISNUMBER(E31),E31>0)),X23,\"--\")","v":3},{"$f":"IF(AND('Control Strategy Selection'!W68:X68),\"Yes\",\"No\")","v":"Yes"},null,{"$f":"IF(IsChecked_RTI_TD,'RTI SSI Results'!C20,\"\")","v":77.052993827180828},{"$f":"IF(IsChecked_RTI_TD,'RTI SSI Results'!C61,\"\")","v":54.367311123925177},{"$f":"IF(ISNUMBER(J31),_xlfn.RANK.EQ(J31,$J$17:$J$39),IF(ISNUMBER(I31),_xlfn.RANK.EQ(I31,$I$17:$I$39),\"--\"))","v":3}]
[null,"Fatal & Injury",2.0071286710807112,3.0663257319179369,53.547959640802745]
[{"$f":"Label_RTI_Other1","v":"Other 1"},"Total",7.6956205028010096,18.536346311608192,274.00261845195308,{"$f":"IF(OR(AND(ISNUMBER(C33),C33>0),AND(ISNUMBER(E33),E33>0)),X24,\"--\")","v":7},"N/A",null,"--","--","--"]
[null,"Fatal & Injury",3.3106565016047416,8.7758605937717586,125.42178262076146]
[{"$f":"Label_RTI_Other2","v":"Other 2"},"Total",8.5743998432392345,18.077454985648085,280.16136089003192,{"$f":"IF(OR(AND(ISNUMBER(C35),C35>0),AND(ISNUMBER(E35),E35>0)),X25,\"--\")","v":5},"N/A",null,"--","--","--"]
[null,"Fatal & Injury",3.6736948032458931,7.8201962005044008,120.55747881476353]

{"sheet":"SSI 3L Results_Full","index":25,"n_rows":56,"n_cols":41,"rows_kept":56,"cut":false,"hidden":true,"merged":[[1,39,1,40],[41,1,41,11],[49,1,49,11],[1,22,1,32],[10,22,10,32],[18,22,18,32],[25,22,25,32],[33,22,33,32],[41,22,41,32],[49,22,49,32],[1,1,1,11],[1,18,1,19],[10,1,10,11],[18,1,18,11],[25,1,25,11],[33,1,33,11]]}
[]
[null,"SSI Score (Open Year)",null,null,null,null,null,null,null,null,null,null,null,null,null,"Alpha",null,null,"Existing Exposure",null,null,null,"SSI Score (Design Year)",null,null,null,null,null,null,null,null,null,null,null,null,null,null,null,null,"Existing Exposure"]
[null,null,"TradT_Sig","TradT_AWSC","TradT_MRSC","CGT","T_PDLT","T_1x1_RAB","T_2x1_RAB","T_2x2_RAB","T_RCUT_Sig","T_RCUT_Unsig",null,null,null,13700000,null,null,"Existing alt",{"$f":"VLOOKUP('SSI Results'!B6,'SSI 3L Results_Full'!S11:T21,2, FALSE)","v":"TradT_Sig"},null,null,null,"TradT_Sig","TradT_AWSC","TradT_MRSC","CGT","T_PDLT","T_1x1_RAB","T_2x1_RAB","T_2x2_RAB","T_RCUT_Sig","T_RCUT_Unsig",null,null,null,null,null,null,"Existing alt",{"$f":"VLOOKUP('SSI Results'!B6,'SSI 3L Results_Full'!S11:T21,2, FALSE)","v":"TradT_Sig"}]
[null,"Crossing",{"$f":"EXP(-C52/$P$3)","v":{"$error":"#VALUE!"}},{"$f":"EXP(-D52/$P$3)","v":{"$error":"#VALUE!"}},{"$f":"EXP(-E52/$P$3)","v":{"$error":"#VALUE!"}},{"$error":"#VALUE!"},{"$error":"#VALUE!"},{"$error":"#VALUE!"},{"$error":"#VALUE!"},{"$error":"#VALUE!"},{"$error":"#VALUE!"},{"$error":"#VALUE!"},null,null,null,null,null,null,"Nonmotorized",{"$f":"HLOOKUP($T$3,$B$20:$L$24,5,FALSE)","v":{"$error":"#VALUE!"}},null,null,"Crossing",{"$f":"EXP(-X52/$P$3)","v":{"$error":"#VALUE!"}},{"$f":"EXP(-Y52/$P$3)","v":{"$error":"#VALUE!"}},{"$error":"#VALUE!"},{"$error":"#VALUE!"},{"$error":"#VALUE!"},{"$error":"#VALUE!"},{"$error":"#VALUE!"},{"$error":"#VALUE!"},{"$error":"#VALUE!"},{"$error":"#VALUE!"},null,null,null,null,null,null,"Nonmotorized",{"$f":"HLOOKUP($T$3,$W$20:$AG$24,5,FALSE)","v":{"$error":"#VALUE!"}}]
[null,"Merging",{"$f":"EXP(-C53/$P$3)","v":{"$error":"#VALUE!"}},{"$f":"EXP(-D53/$P$3)","v":{"$error":"#VALUE!"}},{"$error":"#VALUE!"},{"$error":"#VALUE!"},{"$error":"#VALUE!"},{"$error":"#VALUE!"},{"$error":"#VALUE!"},{"$error":"#VALUE!"},{"$error":"#VALUE!"},{"$error":"#VALUE!"},null,null,null,null,null,null,"Crossing",{"$f":"HLOOKUP($T$3,$B$20:$L$24,2,FALSE)","v":{"$error":"#VALUE!"}},null,null,"Merging",{"$f":"EXP(-X53/$P$3)","v":{"$error":"#VALUE!"}},{"$error":"#VALUE!"},{"$error":"#VALUE!"},{"$error":"#VALUE!"},{"$error":"#VALUE!"},{"$error":"#VALUE!"},{"$error":"#VALUE!"},{"$error":"#VALUE!"},{"$error":"#VALUE!"},{"$error":"#VALUE!"},null,null,null,null,null,null,"Crossing",{"$f":"HLOOKUP($T$3,$W$20:$AG$24,2,FALSE)","v":{"$error":"#VALUE!"}}]
[null,"Diverging",{"$f":"EXP(-C54/$P$3)","v":{"$error":"#VALUE!"}},{"$error":"#VALUE!"},{"$error":"#VALUE!"},{"$error":"#VALUE!"},{"$error":"#VALUE!"},{"$error":"#VALUE!"},{"$error":"#VALUE!"},{"$error":"#VALUE!"},{"$error":"#VALUE!"},{"$error":"#VALUE!"},null,null,null,null,null,null,"Merging",{"$f":"HLOOKUP($T$3,$B$20:$L$24,3,FALSE)","v":{"$error":"#VALUE!"}},null,null,"Diverging",{"$error":"#VALUE!"},{"$error":"#VALUE!"},{"$error":"#VALUE!"},{"$error":"#VALUE!"},{"$error":"#VALUE!"},{"$error":"#VALUE!"},{"$error":"#VALUE!"},{"$error":"#VALUE!"},{"$error":"#VALUE!"},{"$error":"#VALUE!"},null,null,null,null,null,null,"Merging",{"$f":"HLOOKUP($T$3,$W$20:$AG$24,3,FALSE)","v":{"$error":"#VALUE!"}}]
[null,"Nonmotorized",{"$f":"EXP(-C55/$P$3)","v":{"$error":"#VALUE!"}},{"$error":"#VALUE!"},{"$error":"#VALUE!"},{"$error":"#VALUE!"},{"$error":"#VALUE!"},{"$error":"#VALUE!"},{"$error":"#VALUE!"},{"$error":"#VALUE!"},{"$error":"#VALUE!"},{"$error":"#VALUE!"},null,null,null,null,null,null,"Diverging",{"$f":"HLOOKUP($T$3,$B$20:$L$24,4,FALSE)","v":{"$error":"#VALUE!"}},null,null,"Nonmotorized",{"$error":"#VALUE!"},{"$error":"#VALUE!"},{"$error":"#VALUE!"},{"$error":"#VALUE!"},{"$error":"#VALUE!"},{"$error":"#VALUE!"},{"$error":"#VALUE!"},{"$error":"#VALUE!"},{"$error":"#VALUE!"},{"$error":"#VALUE!"},null,null,null,null,null,null,"Diverging",{"$f":"HLOOKUP($T$3,$W$20:$AG$24,4,FALSE)","v":{"$error":"#VALUE!"}}]
[null,"Average",{"$f":"EXP(-(C56/4)/$P$3)","v":{"$error":"#VALUE!"}},{"$f":"EXP(-(D56/4)/$P$3)","v":{"$error":"#VALUE!"}},{"$error":"#VALUE!"},{"$error":"#VALUE!"},{"$error":"#VALUE!"},{"$error":"#VALUE!"},{"$f":"EXP(-(I56/4)/$P$3)","v":{"$error":"#VALUE!"}},{"$error":"#VALUE!"},{"$error":"#VALUE!"},{"$error":"#VALUE!"},null,null,null,null,null,null,null,null,null,null,"Average",{"$f":"EXP(-(X56/4)/$P$3)","v":{"$error":"#VALUE!"}},{"$f":"EXP(-(Y56/4)/$P$3)","v":{"$error":"#VALUE!"}},{"$error":"#VALUE!"},{"$error":"#VALUE!"},{"$error":"#VALUE!"},{"$error":"#VALUE!"},{"$error":"#VALUE!"},{"$error":"#VALUE!"},{"$error":"#VALUE!"},{"$error":"#VALUE!"}]
[]
[]
[null,"Conflict Points",null,null,null,null,null,null,null,null,null,null,null,null,null,null,null,null,"Traffic Signal","TradT_Sig",null,null,"Conflict Points"]
[null,null,"TradT_Sig","TradT_AWSC","TradT_MRSC","CGT","T_PDLT","T_1x1_RAB","T_2x1_RAB","T_2x2_RAB","T_RCUT_Sig","T_RCUT_Unsig",null,null,null,null,null,null,"Traffic Signal (Alt)","TradT_Sig",null,null,null,"TradT_Sig","TradT_AWSC","TradT_MRSC","CGT","T_PDLT","T_1x1_RAB","T_2x1_RAB","T_2x2_RAB","T_RCUT_Sig","T_RCUT_Unsig"]
[null,"Crossing",{"$f":"COUNTIF(INDIRECT(C$12&\"!$B$4:$B$100\"),\"*\"&$B13&\"*\")","v":3},{"$f":"COUNTIF(INDIRECT(D$12&\"!$B$4:$B$100\"),\"*\"&$B13&\"*\")","v":3},3,3,3,2,2,2,{"$f":"COUNTIF(INDIRECT(K$12&\"!$B$4:$B$100\"),\"*\"&$B13&\"*\")","v":1},1,null,null,null,null,null,null,"Minor Road Stop","TradT_MRSC",null,null,"Crossing",{"$f":"C13","v":3},{"$f":"D13","v":3},3,3,3,2,2,2,1,1]
[null,"Merging",3,3,3,3,3,3,3,3,3,3,null,null,null,null,null,null,"All Way Stop","TradT_AWSC",null,null,"Merging",{"$f":"C14","v":3},{"$f":"D14","v":3},{"$f":"E14","v":3},{"$f":"F14","v":3},{"$f":"G14","v":3},{"$f":"H14","v":3},{"$f":"I14","v":3},{"$f":"J14","v":3},{"$f":"K14","v":3},{"$f":"L14","v":3}]
[null,"Diverging",3,3,3,3,3,3,3,3,{"$f":"COUNTIF(INDIRECT(K$12&\"!$B$4:$B$100\"),\"*\"&$B15&\"*\")","v":3},3,null,null,null,null,null,null,"1-Lane Roundabout","T_1x1_RAB",null,null,"Diverging",3,3,3,3,3,3,3,3,3,3]
[null,"Nonmotorized",12,12,12,12,12,6,6,6,6,6,null,null,null,null,null,null,"RAB2x1","T_2x1_RAB",null,null,"Nonmotorized",12,12,12,12,12,6,6,6,6,6]
[null,"Total",{"$f":"SUM(C13:C16)","v":21},21,21,21,21,14,14,14,13,13,null,null,null,null,null,null,"2-Lane Roundabout","T_2x2_RAB",null,null,"Total",{"$f":"SUM(X13:X16)","v":21},21,21,21,21,14,14,14,13,13]
[null,null,null,null,null,null,null,null,null,null,null,null,null,null,null,null,null,null,"Partial Displaced Left Turn","T_PDLT"]
[null,"Exposure",null,null,null,null,null,null,null,null,null,null,null,null,null,null,null,null,"Signalized RCUT","T_RCUT_Sig",null,null,"Exposure"]
[null,null,"TradT_Sig","TradT_AWSC","TradT_MRSC","CGT","T_PDLT","T_1x1_RAB","T_2x1_RAB","T_2x2_RAB","T_RCUT_Sig","T_RCUT_Unsig",null,null,null,null,null,null,"Unsignalized RCDUT","T_RCUT_Unsig",null,null,null,"TradT_Sig","TradT_AWSC","TradT_MRSC","CGT","T_PDLT","T_1x1_RAB","T_2x1_RAB","T_2x2_RAB","T_RCUT_Sig","T_RCUT_Unsig"]
[null,"Crossing",{"$f":"SUMIF(INDIRECT(C$20&\"!$B$4:$B$100\"),\"*\"&$B21&\"*\",INDIRECT(C$20&\"!$L$4:$L$100\"))","v":{"$error":"#VALUE!"}},{"$f":"SUMIF(INDIRECT(D$20&\"!$B$4:$B$100\"),\"*\"&$B21&\"*\",INDIRECT(D$20&\"!$L$4:$L$100\"))","v":{"$error":"#VALUE!"}},{"$error":"#VALUE!"},{"$error":"#VALUE!"},{"$error":"#VALUE!"},{"$error":"#VALUE!"},{"$error":"#VALUE!"},{"$error":"#VALUE!"},{"$f":"SUMIF(INDIRECT(K$20&\"!$B$4:$B$100\"),\"*\"&$B21&\"*\",INDIRECT(K$20&\"!$L$4:$L$100\"))","v":{"$error":"#VALUE!"}},{"$error":"#VALUE!"},null,null,null,null,null,null,"Continuous Green-T","CGT",null,null,"Crossing",{"$f":"SUMIF(INDIRECT(X$20&\"!$B$4:$B$100\"),\"*\"&$W21&\"*\",INDIRECT(X$20&\"!$L$103:$L$200\"))","v":{"$error":"#VALUE!"}},{"$f":"SUMIF(INDIRECT(Y$20&\"!$B$4:$B$100\"),\"*\"&$W21&\"*\",INDIRECT(Y$20&\"!$L$103:$L$200\"))","v":{"$error":"#VALUE!"}},{"$error":"#VALUE!"},{"$error":"#VALUE!"},{"$error":"#VALUE!"},{"$error":"#VALUE!"},{"$error":"#VALUE!"},{"$error":"#VALUE!"},{"$error":"#VALUE!"},{"$error":"#VALUE!"}]
[null,"Merging",{"$error":"#VALUE!"},{"$error":"#VALUE!"},{"$error":"#VALUE!"},{"$error":"#VALUE!"},{"$error":"#VALUE!"},{"$error":"#VALUE!"},{"$error":"#VALUE!"},{"$error":"#VALUE!"},{"$error":"#VALUE!"},{"$error":"#VALUE!"},null,null,null,null,null,null,null,null,null,null,"Merging",{"$f":"SUMIF(INDIRECT(X$20&\"!$B$4:$B$100\"),\"*\"&$W22&\"*\",INDIRECT(X$20&\"!$L$103:$L$200\"))","v":{"$error":"#VALUE!"}},{"$error":"#VALUE!"},{"$error":"#VALUE!"},{"$error":"#VALUE!"},{"$error":"#VALUE!"},{"$error":"#VALUE!"},{"$error":"#VALUE!"},{"$error":"#VALUE!"},{"$error":"#VALUE!"},{"$error":"#VALUE!"}]
[null,"Diverging",{"$error":"#VALUE!"},{"$error":"#VALUE!"},{"$error":"#VALUE!"},{"$error":"#VALUE!"},{"$error":"#VALUE!"},{"$error":"#VALUE!"},{"$error":"#VALUE!"},{"$error":"#VALUE!"},{"$error":"#VALUE!"},{"$error":"#VALUE!"},null,null,null,null,null,null,null,null,null,null,"Diverging",{"$error":"#VALUE!"},{"$error":"#VALUE!"},{"$error":"#VALUE!"},{"$error":"#VALUE!"},{"$error":"#VALUE!"},{"$error":"#VALUE!"},{"$error":"#VALUE!"},{"$error":"#VALUE!"},{"$error":"#VALUE!"},{"$error":"#VALUE!"}]
[null,"Nonmotorized",{"$error":"#VALUE!"},{"$error":"#VALUE!"},{"$error":"#VALUE!"},{"$error":"#VALUE!"},{"$error":"#VALUE!"},{"$error":"#VALUE!"},{"$error":"#VALUE!"},{"$error":"#VALUE!"},{"$error":"#VALUE!"},{"$error":"#VALUE!"},null,null,null,null,null,null,null,null,null,null,"Nonmotorized",{"$error":"#VALUE!"},{"$error":"#VALUE!"},{"$error":"#VALUE!"},{"$error":"#VALUE!"},{"$error":"#VALUE!"},{"$error":"#VALUE!"},{"$error":"#VALUE!"},{"$error":"#VALUE!"},{"$error":"#VALUE!"},{"$error":"#VALUE!"}]
[]
[null,"Sum of P(FSI)",null,null,null,null,null,null,null,null,null,null,null,null,null,null,null,null,null,null,null,null,"Sum of P(FSI)"]
[null,null,"TradT_Sig","TradT_AWSC","TradT_MRSC","CGT","T_PDLT","T_1x1_RAB","T_2x1_RAB","T_2x2_RAB","T_RCUT_Sig","T_RCUT_Unsig",null,null,null,null,null,null,null,null,null,null,null,"TradT_Sig","TradT_AWSC","TradT_MRSC","CGT","T_PDLT","T_1x1_RAB","T_2x1_RAB","T_2x2_RAB","T_RCUT_Sig","T_RCUT_Unsig"]
[null,"Crossing",{"$f":"SUMIF(INDIRECT(C$27&\"!$B$4:$B$100\"),\"*\"&$B28&\"*\",INDIRECT(C$27&\"!$R$4:$R$100\"))","v":0.16841044169355912},4.2297117209456406E-2,0.21430516148379467,0.16841044169355912,0.16841044169355912,8.3396054771526281E-3,8.3396054771526281E-3,8.3396054771526281E-3,4.3605107328437018E-2,4.3605107328437018E-2,null,null,null,null,null,null,null,null,null,null,"Crossing",{"$f":"C28","v":0.16841044169355912},{"$f":"D28","v":4.2297117209456406E-2},0.21430516148379467,0.16841044169355912,0.16841044169355912,8.3396054771526281E-3,8.3396054771526281E-3,8.3396054771526281E-3,4.3605107328437018E-2,4.3605107328437018E-2]
[null,"Merging",2.2899049059891749E-2,3.1067146310797258E-3,2.5086357923363709E-2,2.2899049059891749E-2,1.8659992314051365E-2,4.5644739468279193E-3,4.5644739468279193E-3,4.5644739468279193E-3,2.7138105805732136E-2,2.7138105805732136E-2,null,null,null,null,null,null,null,null,null,null,"Merging",{"$f":"C29","v":2.2899049059891749E-2},{"$f":"D29","v":3.1067146310797258E-3},{"$f":"E29","v":2.5086357923363709E-2},{"$f":"F29","v":2.2899049059891749E-2},{"$f":"G29","v":1.8659992314051365E-2},{"$f":"H29","v":4.5644739468279193E-3},{"$f":"I29","v":4.5644739468279193E-3},{"$f":"J29","v":4.5644739468279193E-3},{"$f":"K29","v":2.7138105805732136E-2},{"$f":"L29","v":2.7138105805732136E-2}]
[null,"Diverging",1.0654462113250735E-2,1.921841642256482E-6,1.0654462113250735E-2,1.0654462113250735E-2,1.0654462113250735E-2,2.9449772219116894E-5,2.9449772219116894E-5,2.9449772219116894E-5,1.4302020335581396E-2,1.4302020335581396E-2,null,null,null,null,null,null,null,null,null,null,"Diverging",1.0654462113250735E-2,1.921841642256482E-6,1.0654462113250735E-2,1.0654462113250735E-2,1.0654462113250735E-2,2.9449772219116894E-5,2.9449772219116894E-5,2.9449772219116894E-5,1.4302020335581396E-2,1.4302020335581396E-2]
[null,"Nonmotorized",4.722882707603107,2.2466784051784279,4.722882707603107,4.722882707603107,4.722882707603107,2.0092415381159388,2.0092415381159388,2.0092415381159388,2.2613571590276171,2.2613571590276171,null,null,null,null,null,null,null,null,null,null,"Nonmotorized",4.722882707603107,2.2466784051784279,4.722882707603107,4.722882707603107,4.722882707603107,2.0092415381159388,2.0092415381159388,2.0092415381159388,2.2613571590276171,2.2613571590276171]
[null,"Total",{"$f":"SUM(C28:C31)","v":4.9248466604698082},2.2920841588606065,4.972928689123516,4.9248466604698082,4.9206076037239681,2.0221750673121384,2.0221750673121384,2.0221750673121384,2.3464023924973678,2.3464023924973678,null,null,null,null,null,null,null,null,null,null,"Total",{"$f":"SUM(X28:X31)","v":4.9248466604698082},2.2920841588606065,4.972928689123516,4.9248466604698082,4.9206076037239681,2.0221750673121384,2.0221750673121384,2.0221750673121384,2.3464023924973678,2.3464023924973678]
[]
[null,"Average P(FSI)",null,null,null,null,null,null,null,null,null,null,null,null,null,null,null,null,null,null,null,null,"Average P(FSI)"]
[null,null,"TradT_Sig","TradT_AWSC","TradT_MRSC","CGT","T_PDLT","T_1x1_RAB","T_2x1_RAB","T_2x2_RAB","T_RCUT_Sig","T_RCUT_Unsig",null,null,null,null,null,null,null,null,null,null,null,"TradT_Sig","TradT_AWSC","TradT_MRSC","CGT","T_PDLT","T_1x1_RAB","T_2x1_RAB","T_2x2_RAB","T_RCUT_Sig","T_RCUT_Unsig"]
[null,"Crossing",{"$f":"C28/C13","v":5.6136813897853043E-2},{"$f":"D28/D13","v":1.4099039069818802E-2},7.1435053827931555E-2,5.6136813897853043E-2,5.6136813897853043E-2,{"$f":"H28/H13","v":4.1698027385763141E-3},4.1698027385763141E-3,4.1698027385763141E-3,4.3605107328437018E-2,4.3605107328437018E-2,null,null,null,null,null,null,null,null,null,null,"Crossing",{"$f":"X28/X13","v":5.6136813897853043E-2},{"$f":"Y28/Y13","v":1.4099039069818802E-2},7.1435053827931555E-2,5.6136813897853043E-2,5.6136813897853043E-2,4.1698027385763141E-3,4.1698027385763141E-3,4.1698027385763141E-3,4.3605107328437018E-2,4.3605107328437018E-2]
[null,"Merging",{"$f":"C29/C14","v":7.6330163532972494E-3},1.035571543693242E-3,8.3621193077879023E-3,7.6330163532972494E-3,6.2199974380171214E-3,1.5214913156093065E-3,1.5214913156093065E-3,1.5214913156093065E-3,9.0460352685773782E-3,9.0460352685773782E-3,null,null,null,null,null,null,null,null,null,null,"Merging",{"$f":"X29/X14","v":7.6330163532972494E-3},1.035571543693242E-3,8.3621193077879023E-3,7.6330163532972494E-3,6.2199974380171214E-3,1.5214913156093065E-3,1.5214913156093065E-3,1.5214913156093065E-3,9.0460352685773782E-3,9.0460352685773782E-3]
[null,"Diverging",3.5514873710835782E-3,6.4061388075216071E-7,3.5514873710835782E-3,3.5514873710835782E-3,3.5514873710835782E-3,9.8165907397056307E-6,9.8165907397056307E-6,9.8165907397056307E-6,4.7673401118604655E-3,4.7673401118604655E-3,null,null,null,null,null,null,null,null,null,null,"Diverging",{"$f":"X30/X15","v":3.5514873710835782E-3},6.4061388075216071E-7,3.5514873710835782E-3,3.5514873710835782E-3,3.5514873710835782E-3,9.8165907397056307E-6,9.8165907397056307E-6,9.8165907397056307E-6,4.7673401118604655E-3,4.7673401118604655E-3]
[null,"Nonmotorized",0.39357355896692559,0.18722320043153565,0.39357355896692559,0.39357355896692559,0.39357355896692559,0.33487358968598979,0.33487358968598979,0.33487358968598979,0.37689285983793619,0.37689285983793619,null,null,null,null,null,null,null,null,null,null,"Nonmotorized",{"$f":"X31/X16","v":0.39357355896692559},0.18722320043153565,0.39357355896692559,0.39357355896692559,0.39357355896692559,0.33487358968598979,0.33487358968598979,0.33487358968598979,0.37689285983793619,0.37689285983793619]
[null,"Total",0.23451650764141943,0.10914686470764792,0.23680612805350076,0.23451650764141943,0.23431464779637942,0.14444107623658131,0.14444107623658131,0.14444107623658131,0.18049249173056675,0.18049249173056675,null,null,null,null,null,null,null,null,null,null,"Total",0.23451650764141943,0.10914686470764792,0.23680612805350076,0.23451650764141943,0.23431464779637942,0.14444107623658131,0.14444107623658131,0.14444107623658131,0.18049249173056675,0.18049249173056675]
[]
[null,"Average Complexity",null,null,null,null,null,null,null,null,null,null,null,null,null,null,null,null,null,null,null,null,"Average Complexity"]
[null,null,"TradT_Sig","TradT_AWSC","TradT_MRSC","CGT","T_PDLT","T_1x1_RAB","T_2x1_RAB","T_2x2_RAB","T_RCUT_Sig","T_RCUT_Unsig",null,null,null,null,null,null,null,null,null,null,null,"TradT_Sig","TradT_AWSC","TradT_MRSC","CGT","T_PDLT","T_1x1_RAB","T_2x1_RAB","T_2x2_RAB","T_RCUT_Sig","T_RCUT_Unsig"]
[null,"Crossing",{"$f":"AVERAGEIF(INDIRECT(C$43&\"!$B$4:$B$100\"),\"*\"&$B44&\"*\",INDIRECT(C$43&\"!$AI$4:$AI$100\"))","v":1.5659722222222221},1.9131944444444446,2.6388888888888888,1.075,1.3326388888888889,0.61111111111111105,0.91666666666666652,1.2222222222222221,0.84166666666666656,1.2083333333333335,null,null,null,null,null,null,null,null,null,null,"Crossing",{"$f":"C44","v":1.5659722222222221},{"$f":"D44","v":1.9131944444444446},2.6388888888888888,1.075,1.3326388888888889,0.61111111111111105,0.91666666666666652,1.2222222222222221,0.84166666666666656,1.2083333333333335]
[null,"Merging",1.2854166666666667,1.5104166666666667,2.083333333333333,1.2454861111111111,1.5677083333333333,0.61111111111111105,0.91666666666666663,1.1203703703703702,0.7715277777777777,1.1076388888888891,null,null,null,null,null,null,null,null,null,null,"Merging",{"$f":"C45","v":1.2854166666666667},{"$f":"D45","v":1.5104166666666667},{"$f":"E45","v":2.083333333333333},{"$f":"F45","v":1.2454861111111111},{"$f":"G45","v":1.5677083333333333},{"$f":"H45","v":0.61111111111111105},{"$f":"I45","v":0.91666666666666663},{"$f":"J45","v":1.1203703703703702},{"$f":"K45","v":0.7715277777777777},{"$f":"L45","v":1.1076388888888891}]
[null,"Diverging",1,1,1,1,1,1,1,1,1,1,null,null,null,null,null,null,null,null,null,null,"Diverging",1,1,1,1,1,1,1,1,1,1]
[null,"Nonmotorized",3.051736111111111,3.8263888888888893,4.7048611111111098,2.590104166666666,2.2100983796296299,1.2222222222222223,2.0370370370370368,2.4444444444444446,1.7249490740740738,2.4764120370370377,null,null,null,null,null,null,null,null,null,null,"Nonmotorized",3.051736111111111,3.8263888888888893,4.7048611111111098,2.590104166666666,2.2100983796296299,1.2222222222222223,2.0370370370370368,2.4444444444444446,1.7249490740740738,2.4764120370370377]
[null,"Total",{"$f":"AVERAGE(INDIRECT(C$43&\"!$AI$4:$AI$100\"))","v":2.2940476190476193},2.8184523809523814,3.5059523809523809,1.9544146825396826,1.8201058201058198,{"$f":"AVERAGE(INDIRECT(H$43&\"!$AI$4:$AI$100\"))","v":0.95634920634920639},1.4146825396825395,1.6765873015873016,1.2696880341880343,1.7222863247863254,null,null,null,null,null,null,null,null,null,null,"Total",{"$f":"AVERAGE(INDIRECT(X$43&\"!$AI$4:$AI$100\"))","v":2.2940476190476193},{"$f":"AVERAGE(INDIRECT(Y$43&\"!$AI$4:$AI$100\"))","v":2.8184523809523814},3.5059523809523809,1.9544146825396826,1.8201058201058198,0.95634920634920639,1.4146825396825395,1.6765873015873016,1.2696880341880343,1.7222863247863254]
[]
[null,"Exposure-Severity-Complexity Product",null,null,null,null,null,null,null,null,null,null,null,null,null,null,null,null,null,null,null,null,"Exposure-Severity-Complexity Product"]
[null,null,"TradT_Sig","TradT_AWSC","TradT_MRSC","CGT","T_PDLT","T_1x1_RAB","T_2x1_RAB","T_2x2_RAB","T_RCUT_Sig","T_RCUT_Unsig",null,null,null,null,null,null,null,null,null,null,null,"TradT_Sig","TradT_AWSC","TradT_MRSC","CGT","T_PDLT","T_1x1_RAB","T_2x1_RAB","T_2x2_RAB","T_RCUT_Sig","T_RCUT_Unsig"]
[null,"Crossing",{"$f":"SUMIF(INDIRECT(C$51&\"!$B$4:$B$100\"),\"*\"&$B52&\"*\",INDIRECT(C$51&\"!$AK$4:$AK$100\"))","v":{"$error":"#VALUE!"}},{"$error":"#VALUE!"},{"$error":"#VALUE!"},{"$error":"#VALUE!"},{"$error":"#VALUE!"},{"$error":"#VALUE!"},{"$error":"#VALUE!"},{"$error":"#VALUE!"},{"$error":"#VALUE!"},{"$error":"#VALUE!"},null,null,null,null,null,null,null,null,null,null,"Crossing",{"$f":"SUMIF(INDIRECT(X$51&\"!$B$4:$B$100\"),\"*\"&$W52&\"*\",INDIRECT(X$51&\"!$AK$103:$AK$200\"))","v":{"$error":"#VALUE!"}},{"$f":"SUMIF(INDIRECT(Y$51&\"!$B$4:$B$100\"),\"*\"&$W52&\"*\",INDIRECT(Y$51&\"!$AK$103:$AK$200\"))","v":{"$error":"#VALUE!"}},{"$error":"#VALUE!"},{"$error":"#VALUE!"},{"$error":"#VALUE!"},{"$error":"#VALUE!"},{"$error":"#VALUE!"},{"$error":"#VALUE!"},{"$error":"#VALUE!"},{"$error":"#VALUE!"}]
[null,"Merging",{"$error":"#VALUE!"},{"$error":"#VALUE!"},{"$error":"#VALUE!"},{"$error":"#VALUE!"},{"$error":"#VALUE!"},{"$error":"#VALUE!"},{"$error":"#VALUE!"},{"$error":"#VALUE!"},{"$error":"#VALUE!"},{"$error":"#VALUE!"},null,null,null,null,null,null,null,null,null,null,"Merging",{"$f":"SUMIF(INDIRECT(X$51&\"!$B$4:$B$100\"),\"*\"&$W53&\"*\",INDIRECT(X$51&\"!$AK$103:$AK$200\"))","v":{"$error":"#VALUE!"}},{"$error":"#VALUE!"},{"$error":"#VALUE!"},{"$error":"#VALUE!"},{"$error":"#VALUE!"},{"$error":"#VALUE!"},{"$error":"#VALUE!"},{"$error":"#VALUE!"},{"$error":"#VALUE!"},{"$error":"#VALUE!"}]
[null,"Diverging",{"$error":"#VALUE!"},{"$error":"#VALUE!"},{"$error":"#VALUE!"},{"$error":"#VALUE!"},{"$error":"#VALUE!"},{"$error":"#VALUE!"},{"$error":"#VALUE!"},{"$error":"#VALUE!"},{"$error":"#VALUE!"},{"$error":"#VALUE!"},null,null,null,null,null,null,null,null,null,null,"Diverging",{"$error":"#VALUE!"},{"$error":"#VALUE!"},{"$error":"#VALUE!"},{"$error":"#VALUE!"},{"$error":"#VALUE!"},{"$error":"#VALUE!"},{"$error":"#VALUE!"},{"$error":"#VALUE!"},{"$error":"#VALUE!"},{"$error":"#VALUE!"}]
[null,"Nonmotorized",{"$error":"#VALUE!"},{"$error":"#VALUE!"},{"$error":"#VALUE!"},{"$error":"#VALUE!"},{"$error":"#VALUE!"},{"$error":"#VALUE!"},{"$error":"#VALUE!"},{"$error":"#VALUE!"},{"$error":"#VALUE!"},{"$error":"#VALUE!"},null,null,null,null,null,null,null,null,null,null,"Nonmotorized",{"$error":"#VALUE!"},{"$error":"#VALUE!"},{"$error":"#VALUE!"},{"$error":"#VALUE!"},{"$error":"#VALUE!"},{"$error":"#VALUE!"},{"$error":"#VALUE!"},{"$error":"#VALUE!"},{"$error":"#VALUE!"},{"$error":"#VALUE!"}]
[null,"Total",{"$f":"SUM(C52:C55)","v":{"$error":"#VALUE!"}},{"$error":"#VALUE!"},{"$error":"#VALUE!"},{"$error":"#VALUE!"},{"$error":"#VALUE!"},{"$error":"#VALUE!"},{"$f":"SUM(I52:I55)","v":{"$error":"#VALUE!"}},{"$error":"#VALUE!"},{"$error":"#VALUE!"},{"$error":"#VALUE!"},null,null,null,null,null,null,null,null,null,null,"Total",{"$f":"SUM(X52:X55)","v":{"$error":"#VALUE!"}},{"$error":"#VALUE!"},{"$error":"#VALUE!"},{"$error":"#VALUE!"},{"$error":"#VALUE!"},{"$error":"#VALUE!"},{"$error":"#VALUE!"},{"$error":"#VALUE!"},{"$error":"#VALUE!"},{"$error":"#VALUE!"}]

{"sheet":"RTI SSI Results","index":26,"n_rows":61,"n_cols":25,"rows_kept":61,"cut":false,"hidden":true,"merged":[[10,11,10,14],[10,15,10,18],[49,0,50,6],[51,0,52,0],[51,1,52,1],[51,2,52,2],[51,3,51,6],[51,7,51,10],[51,11,51,14],[51,15,51,18],[10,7,10,10],[8,0,9,6],[10,0,11,0],[10,1,11,1],[10,2,11,2],[10,3,10,6],[0,0,0,18],[1,0,1,18],[2,0,2,18],[3,0,3,18],[5,0,6,0],[5,1,6,3],[5,4,6,5]]}
["Federal Highway Administration (FHWA)",null,null,null,null,null,null,null,null,null,null,null,null,null,null,null,null,null,null,null,null,null,null,"Score_O","SSI_RTI_ResultsRange_Score_O"]
["Safety Performance for Intersection Control Evaluation Tool",null,null,null,null,null,null,null,null,null,null,null,null,null,null,null,null,null,null,null,"is 2x2?",{"$f":"AND(AND(Input_AGI_R2_CL_L1=2,Input_AGI_R2_CL_L2=2,Input_AGI_R2_CL_L3=2),IF($V$1,TRUE,Input_AGI_R2_CL_L4=2))","v":true},null,"Score_D","SSI_RTI_ResultsRange_Score_D"]
["Safe System Intersection (SSI) Results",null,null,null,null,null,null,null,null,null,null,null,null,null,null,null,null,null,null,null,null,null,null,"Exp_O","SSI_RTI_ResultsRange_Exposure_O"]
["Summary of the safe system intersection results for each alternative",null,null,null,null,null,null,null,null,null,null,null,null,null,null,null,null,null,null,null,null,null,null,"Exp_D","SSI_RTI_ResultsRange_Exposure_D"]
[null,null,null,null,null,null,null,null,null,null,null,null,null,null,null,null,null,null,null,null,null,null,null,"ExistExp_O","SSI_RTI_ResultsRange_ExistExp_O"]
["Conversion of Existing Intersection Type:","Signalized Diamond",null,null,"Select from Dropdown List",null,null,null,null,null,null,null,null,null,null,null,null,null,null,null,null,null,null,"ExistExp_D","SSI_RTI_ResultsRange_ExistExp_D"]
[null,null,null,null,null,null,null,null,null,null,null,null,null,null,null,null,null,null,null,null,null,null,null,"AvgPFSI_O","SSI_RTI_ResultsRange_AvgPFSI_O"]
[null,null,null,null,null,null,null,null,null,null,null,null,null,null,null,null,null,null,null,null,null,null,null,"AvgPFSI_D","SSI_RTI_ResultsRange_AvgPFSI_D"]
["Opening Year Results",null,null,null,null,null,null,null,null,null,null,null,null,null,null,null,null,null,null,null,null,null,null,"AvgComp_O","SSI_RTI_ResultsRange_AvgComp_O"]
[null,null,null,null,null,null,null,null,null,null,null,null,null,null,null,null,null,null,null,null,null,null,null,"AvgComp_D","SSI_RTI_ResultsRange_AvgComp_D"]
["Control Strategy","SSI Ref Worksheet Name","SSI Score","SSI Conflict Type Score",null,null,null,"Exposure (Relative to Existing)",null,null,null,"Average P(FSI)",null,null,null,"Average Complexity"]
[null,null,null,"Nonmotorized","Crossing","Merging","Diverging","Nonmotorized","Crossing","Merging","Diverging","Nonmotorized","Crossing","Merging","Diverging","Nonmotorized","Crossing","Merging","Diverging",null,null,null,null,"RTI"]
["Signalized Diamond",{"$f":"X13","v":"Conv_Sig"},{"$f":"IF($B13=\"--\",\"--\",HLOOKUP($B13,INDIRECT($Y$1),6,FALSE)*100)","v":71.49317512553597},{"$f":"IF($B13=\"--\",\"--\",HLOOKUP($B13,INDIRECT($Y$1),5,FALSE)*100)","v":37.537926113547663},{"$f":"IF($B13=\"--\",\"--\",HLOOKUP($B13,INDIRECT($Y$1),2,FALSE)*100)","v":70.983007611463051},{"$f":"IF($B13=\"--\",\"--\",HLOOKUP($B13,INDIRECT($Y$1),3,FALSE)*100)","v":98.797128412714812},{"$f":"IF($B13=\"--\",\"--\",HLOOKUP($B13,INDIRECT($Y$1),4,FALSE)*100)","v":99.240592167666676},{"$f":"IF($B13=\"--\",\"--\",HLOOKUP($B13,INDIRECT($Y$3),5,FALSE)/VLOOKUP(H$12,INDIRECT($Y$5),2,FALSE))","v":1},{"$f":"IF($B13=\"--\",\"--\",HLOOKUP($B13,INDIRECT($Y$3),2,FALSE)/VLOOKUP(I$12,INDIRECT($Y$5),2,FALSE))","v":1},{"$f":"IF($B13=\"--\",\"--\",HLOOKUP($B13,INDIRECT($Y$3),3,FALSE)/VLOOKUP(J$12,INDIRECT($Y$5),2,FALSE))","v":1},{"$f":"IF($B13=\"--\",\"--\",HLOOKUP($B13,INDIRECT($Y$3),4,FALSE)/VLOOKUP(K$12,INDIRECT($Y$5),2,FALSE))","v":1},{"$f":"IF($B13=\"--\",\"--\",HLOOKUP($B13,INDIRECT($Y$7),5,FALSE))","v":0.28844599365359247},{"$f":"IF($B13=\"--\",\"--\",HLOOKUP($B13,INDIRECT($Y$7),2,FALSE))","v":4.5732696846678585E-2},{"$f":"IF($B13=\"--\",\"--\",HLOOKUP($B13,INDIRECT($Y$7),3,FALSE))","v":4.5775749758886616E-3},{"$f":"IF($B13=\"--\",\"--\",HLOOKUP($B13,INDIRECT($Y$7),4,FALSE))","v":1.7222659253105822E-3},{"$f":"IF($B13=\"--\",\"--\",HLOOKUP($B13,INDIRECT($Y$9),5,FALSE))","v":1.6706944444444443},{"$f":"IF($B13=\"--\",\"--\",HLOOKUP($B13,INDIRECT($Y$9),2,FALSE))","v":1.8812499999999999},{"$f":"IF($B13=\"--\",\"--\",HLOOKUP($B13,INDIRECT($Y$9),3,FALSE))","v":1.2110648148148149},{"$f":"IF($B13=\"--\",\"--\",HLOOKUP($B13,INDIRECT($Y$9),4,FALSE))","v":1},null,null,null,null,"Conv_Sig"]
["Signalized Diamond (Alt)",{"$f":"X14","v":"Conv_Sig"},71.49317512553597,37.537926113547663,70.983007611463051,98.797128412714812,99.240592167666676,{"$f":"IF($B14=\"--\",\"--\",HLOOKUP($B14,INDIRECT($Y$3),5,FALSE)/VLOOKUP(H$12,INDIRECT($Y$5),2,FALSE))","v":1},{"$f":"IF($B14=\"--\",\"--\",HLOOKUP($B14,INDIRECT($Y$3),2,FALSE)/VLOOKUP(I$12,INDIRECT($Y$5),2,FALSE))","v":1},{"$f":"IF($B14=\"--\",\"--\",HLOOKUP($B14,INDIRECT($Y$3),3,FALSE)/VLOOKUP(J$12,INDIRECT($Y$5),2,FALSE))","v":1},{"$f":"IF($B14=\"--\",\"--\",HLOOKUP($B14,INDIRECT($Y$3),4,FALSE)/VLOOKUP(K$12,INDIRECT($Y$5),2,FALSE))","v":1},{"$f":"IF($B14=\"--\",\"--\",HLOOKUP($B14,INDIRECT($Y$7),5,FALSE))","v":0.28844599365359247},{"$f":"IF($B14=\"--\",\"--\",HLOOKUP($B14,INDIRECT($Y$7),2,FALSE))","v":4.5732696846678585E-2},{"$f":"IF($B14=\"--\",\"--\",HLOOKUP($B14,INDIRECT($Y$7),3,FALSE))","v":4.5775749758886616E-3},{"$f":"IF($B14=\"--\",\"--\",HLOOKUP($B14,INDIRECT($Y$7),4,FALSE))","v":1.7222659253105822E-3},{"$f":"IF($B14=\"--\",\"--\",HLOOKUP($B14,INDIRECT($Y$9),5,FALSE))","v":1.6706944444444443},{"$f":"IF($B14=\"--\",\"--\",HLOOKUP($B14,INDIRECT($Y$9),2,FALSE))","v":1.8812499999999999},{"$f":"IF($B14=\"--\",\"--\",HLOOKUP($B14,INDIRECT($Y$9),3,FALSE))","v":1.2110648148148149},{"$f":"IF($B14=\"--\",\"--\",HLOOKUP($B14,INDIRECT($Y$9),4,FALSE))","v":1},null,null,null,null,"Conv_Sig"]
["Diverging Diamond","DDI",74.420612090745351,34.912327874835405,88.988648976593055,99.438447583808482,99.289927635365174,0.69230769230769229,1.5116279069767442,1,0.89932885906040272,{"$f":"IF($B15=\"--\",\"--\",HLOOKUP($B15,INDIRECT($Y$7),5,FALSE))","v":0.43582940206636278},3.7097408311205816E-2,3.0558548648308994E-3,1.7222659253105822E-3,1.9568749999999997,0.78555555555555556,0.6873611111111112,1,null,null,null,null,"DDI"]
["Single-Point Diamond","SPUI",67.733292008323659,24.97054464246995,85.544860407107336,99.058067203229115,99.471106464259506,0.84615384615384615,0.8527131782945736,0.86238532110091748,0.73154362416107388,0.3237481330096984,3.6389941037518234E-2,4.5775749758886616E-3,1.7222659253105822E-3,2.1252083333333336,1.4644097222222221,0.97935185185185192,1,null,null,null,null,"SPUI"]
["Unsignalized Diamond","Conv_Ramp_Stop",56.689872665423344,15.716892038285609,67.38774973075914,98.2618541355817,99.240592167666676,1,1,1,1,0.28844599365359247,4.5732696846678585E-2,4.5775749758886616E-3,1.7222659253105822E-3,2.6453125000000002,2.3819444444444446,2.0060185185185184,1,null,null,null,null,"Conv_Ramp_Stop"]
["1-lane Roundabout","RTI_RAB1x1",89.187743504463157,63.597490126106926,99.796188205285304,99.706678074133819,99.98676739095761,1,0.30232558139534882,1.963302752293578,1.7046979865771812,0.33487358968598979,4.1698027385763175E-3,1.2274355939590512E-3,2.3240976485983762E-5,1.2222222222222223,0.61111111111111105,0.61111111111111105,1,null,null,null,null,"RTI_RAB1x1"]
["2-lane Roundabout","RTI_RAB2x2",79.551584114822987,40.446407503402682,99.592791803047263,99.436296623118722,99.98676739095761,1,0.30232558139534882,1.963302752293578,1.7046979865771812,0.33487358968598979,4.1698027385763175E-3,1.2274355939590512E-3,2.3240976485983762E-5,2.4444444444444446,1.2222222222222221,1.1712962962962963,1,null,null,null,null,{"$f":"IF($V$2,\"RTI_RAB2x2\",\"RTI_RAB2x1\")","v":"RTI_RAB2x2"}]
["Signalized Tight Diamond",{"$f":"X20","v":"TUDI"},77.052993827180828,43.228317260699647,82.836768613409319,99.044277244167347,99.388744288122993,1,1.1162790697674418,0.86238532110091748,0.89932885906040272,0.27892411982725485,3.449943013569394E-2,4.5775749758886616E-3,1.7222659253105822E-3,1.5399382716049379,1.4729166666666667,1.2110648148148149,1,null,null,null,null,"TUDI"]
[]
[]
[]
[]
[]
[]
[]
[]
[]
[]
[]
[]
[]
[]
[]
[]
[]
[]
[]
[]
[]
[]
[]
[]
[]
[]
[]
[]
[]
["Design Year Results"]
[]
["Control Strategy","SSI Ref Worksheet Name","SSI Score","SSI Conflict Type Score",null,null,null,"Exposure (Relative to Existing)",null,null,null,"Average P(FSI)",null,null,null,"Average Complexity"]
[null,null,null,"Nonmotorized","Crossing","Merging","Diverging","Nonmotorized","Crossing","Merging","Diverging","Nonmotorized","Crossing","Merging","Diverging","Nonmotorized","Crossing","Merging","Diverging"]
["Signalized Diamond",{"$f":"X13","v":"Conv_Sig"},{"$f":"IF($B54=\"--\",\"--\",HLOOKUP($B54,INDIRECT($Y$2),6,FALSE)*100)","v":42.706274787998545},{"$f":"IF($B54=\"--\",\"--\",HLOOKUP($B54,INDIRECT($Y$2),5,FALSE)*100)","v":12.112441230975641},{"$f":"IF($B54=\"--\",\"--\",HLOOKUP($B54,INDIRECT($Y$2),2,FALSE)*100)","v":29.045182547679786},{"$f":"IF($B54=\"--\",\"--\",HLOOKUP($B54,INDIRECT($Y$2),3,FALSE)*100)","v":97.391198161281963},{"$f":"IF($B54=\"--\",\"--\",HLOOKUP($B54,INDIRECT($Y$2),4,FALSE)*100)","v":97.082568648999839},{"$f":"IF($B54=\"--\",\"--\",HLOOKUP($B54,INDIRECT($Y$4),5,FALSE)/VLOOKUP(H$53,INDIRECT($Y$6),2,FALSE))","v":1},{"$f":"IF($B54=\"--\",\"--\",HLOOKUP($B54,INDIRECT($Y$4),2,FALSE)/VLOOKUP(I$53,INDIRECT($Y$6),2,FALSE))","v":1},{"$f":"IF($B54=\"--\",\"--\",HLOOKUP($B54,INDIRECT($Y$4),3,FALSE)/VLOOKUP(J$53,INDIRECT($Y$6),2,FALSE))","v":1},{"$f":"IF($B54=\"--\",\"--\",HLOOKUP($B54,INDIRECT($Y$4),4,FALSE)/VLOOKUP(K$53,INDIRECT($Y$6),2,FALSE))","v":1},{"$f":"IF($B54=\"--\",\"--\",HLOOKUP($B54,INDIRECT($Y$8),5,FALSE))","v":0.28844599365359247},{"$f":"IF($B54=\"--\",\"--\",HLOOKUP($B54,INDIRECT($Y$8),2,FALSE))","v":4.5732696846678585E-2},{"$f":"IF($B54=\"--\",\"--\",HLOOKUP($B54,INDIRECT($Y$8),3,FALSE))","v":4.5775749758886616E-3},{"$f":"IF($B54=\"--\",\"--\",HLOOKUP($B54,INDIRECT($Y$8),4,FALSE))","v":1.7222659253105822E-3},{"$f":"IF($B54=\"--\",\"--\",HLOOKUP($B54,INDIRECT($Y$10),5,FALSE))","v":1.6706944444444443},{"$f":"IF($B54=\"--\",\"--\",HLOOKUP($B54,INDIRECT($Y$10),2,FALSE))","v":1.8812499999999999},{"$f":"IF($B54=\"--\",\"--\",HLOOKUP($B54,INDIRECT($Y$10),3,FALSE))","v":1.2110648148148149},{"$f":"IF($B54=\"--\",\"--\",HLOOKUP($B54,INDIRECT($Y$10),4,FALSE))","v":1}]
["Signalized Diamond (Alt)",{"$f":"X14","v":"Conv_Sig"},42.706274787998545,12.112441230975641,29.045182547679786,97.391198161281963,97.082568648999839,{"$f":"IF($B55=\"--\",\"--\",HLOOKUP($B55,INDIRECT($Y$4),5,FALSE)/VLOOKUP(H$53,INDIRECT($Y$6),2,FALSE))","v":1},{"$f":"IF($B55=\"--\",\"--\",HLOOKUP($B55,INDIRECT($Y$4),2,FALSE)/VLOOKUP(I$53,INDIRECT($Y$6),2,FALSE))","v":1},{"$f":"IF($B55=\"--\",\"--\",HLOOKUP($B55,INDIRECT($Y$4),3,FALSE)/VLOOKUP(J$53,INDIRECT($Y$6),2,FALSE))","v":1},{"$f":"IF($B55=\"--\",\"--\",HLOOKUP($B55,INDIRECT($Y$4),4,FALSE)/VLOOKUP(K$53,INDIRECT($Y$6),2,FALSE))","v":1},{"$f":"IF($B55=\"--\",\"--\",HLOOKUP($B55,INDIRECT($Y$8),5,FALSE))","v":0.28844599365359247},{"$f":"IF($B55=\"--\",\"--\",HLOOKUP($B55,INDIRECT($Y$8),2,FALSE))","v":4.5732696846678585E-2},{"$f":"IF($B55=\"--\",\"--\",HLOOKUP($B55,INDIRECT($Y$8),3,FALSE))","v":4.5775749758886616E-3},{"$f":"IF($B55=\"--\",\"--\",HLOOKUP($B55,INDIRECT($Y$8),4,FALSE))","v":1.7222659253105822E-3},{"$f":"IF($B55=\"--\",\"--\",HLOOKUP($B55,INDIRECT($Y$10),5,FALSE))","v":1.6706944444444443},{"$f":"IF($B55=\"--\",\"--\",HLOOKUP($B55,INDIRECT($Y$10),2,FALSE))","v":1.8812499999999999},{"$f":"IF($B55=\"--\",\"--\",HLOOKUP($B55,INDIRECT($Y$10),3,FALSE))","v":1.2110648148148149},{"$f":"IF($B55=\"--\",\"--\",HLOOKUP($B55,INDIRECT($Y$10),4,FALSE))","v":1}]
["Diverging Diamond","DDI",50.538798049853938,10.333422229559496,65.78460224253854,98.743902863154815,97.189851565553326,0.7142857142857143,1.7027027027027026,1,0.93877551020408168,0.43582940206636278,3.7097408311205816E-2,3.0558548648308994E-3,1.7222659253105822E-3,1.9568749999999997,0.78555555555555556,0.6873611111111112,1]
["Single-Point Diamond","SPUI",40.403384128624339,4.674636683837524,59.424064526721729,97.987982524065146,97.901182504107666,0.8571428571428571,0.81081081081081086,0.88,0.75510204081632648,0.3237481330096984,3.6389941037518234E-2,4.5775749758886616E-3,1.7222659253105822E-3,2.1252083333333336,1.4644097222222221,0.97935185185185192,1]
["Unsignalized Diamond","Conv_Ramp_Stop",25.673383751513608,1.85911094622297,25.017652061140499,96.21423588487599,97.082568648999839,1,1,1,1,0.28844599365359247,4.5732696846678585E-2,4.5775749758886616E-3,1.7222659253105822E-3,2.6453125000000002,2.3819444444444446,2.0060185185185184,1]
["1-lane Roundabout","RTI_RAB1x1",79.183292674834448,39.825382195532526,99.59394958179027,99.16281137576,99.952230323430982,1,0.1891891891891892,2.3199999999999998,1.6734693877551021,0.33487358968598979,4.1698027385763175E-3,1.2274355939590512E-3,2.3240976485983762E-5,1.2222222222222223,0.61111111111111105,0.61111111111111105,1]
["2-lane Roundabout","RTI_RAB2x2",62.714372010796197,15.860610670202394,99.189547933001819,98.376191715296329,99.952230323430982,1,0.1891891891891892,2.3199999999999998,1.6734693877551021,0.33487358968598979,4.1698027385763175E-3,1.2274355939590512E-3,2.3240976485983762E-5,2.4444444444444446,1.2222222222222221,1.1712962962962963,1]
["Signalized Tight Diamond",{"$f":"X20","v":"TUDI"},54.367311123925177,16.679151018589366,54.814764775004079,97.933429950254393,97.577335889658784,1,1.0810810810810811,0.88,0.93877551020408168,0.27892411982725485,3.449943013569394E-2,4.5775749758886616E-3,1.7222659253105822E-3,1.5399382716049379,1.4729166666666667,1.2110648148148149,1]

{"sheet":"RTI SSI Results_Full","index":27,"n_rows":56,"n_cols":35,"rows_kept":56,"cut":false,"hidden":true,"merged":[[1,33,1,34],[41,1,41,8],[49,1,49,8],[1,21,1,28],[10,21,10,28],[18,21,18,28],[25,21,25,28],[33,21,33,28],[41,21,41,28],[49,21,49,28],[1,1,1,8],[1,16,1,17],[10,1,10,8],[18,1,18,8],[25,1,25,8],[33,1,33,8]]}
[]
[null,"SSI Score (Open Year0",null,null,null,null,null,null,null,null,null,null,null,"z",null,null,"Existing Exposure",null,null,null,null,"SSI Score (Design Year)",null,null,null,null,null,null,null,null,null,null,null,"Existing Exposure"]
[null,null,"Conv_Sig","Conv_Ramp_Stop","SPUI","DDI","RTI_RAB1x1","RTI_RAB2x1","RTI_RAB2x2","TUDI",null,null,null,13700000,null,null,"Existing alt",{"$f":"VLOOKUP('RTI SSI Results'!$B$6,'RTI SSI Results_Full'!Q$18:$R$26,2,FALSE)","v":"Conv_Sig"},null,null,null,null,"Conv_Sig","Conv_Ramp_Stop","SPUI","DDI","RTI_RAB1x1","RTI_RAB2x1","RTI_RAB2x2","TUDI",null,null,null,"Existing alt",{"$f":"R3","v":"Conv_Sig"}]
[null,"Crossing",{"$f":"EXP(-C52/$N$3)","v":0.70983007611463045},0.67387749730759139,0.85544860407107337,0.88988648976593054,0.99796188205285308,0.99592791803047265,0.99592791803047265,0.82836768613409317,null,null,null,null,null,null,"Nonmotorized",{"$f":"HLOOKUP($R$3,$B$20:$J$24,5,FALSE)","v":14625000},null,null,null,"Crossing",{"$f":"EXP(-W52/$N$3)","v":0.29045182547679788},0.250176520611405,0.59424064526721732,0.65784602242538537,0.99593949581790264,0.9918954793300182,0.9918954793300182,{"$f":"EXP(-AD52/$N$3)","v":0.54814764775004077},null,null,null,"Nonmotorized",{"$f":"HLOOKUP($AI$3,$V$20:$AD$24,5,FALSE)","v":29750000}]
[null,"Merging",0.98797128412714819,0.98261854135581705,0.99058067203229117,0.99438447583808476,0.99706678074133814,0.99622772390887837,0.99436296623118725,0.99044277244167345,null,null,null,null,null,null,"Crossing",{"$f":"HLOOKUP($R$3,$B$20:$J$24,2,FALSE)","v":36281250},null,null,null,"Merging",{"$f":"EXP(-W53/$N$3)","v":0.97391198161281967},0.96214235884875987,0.97987982524065143,0.9874390286315482,0.99162811375759996,0.98992497370292543,0.98376191715296335,{"$f":"EXP(-AD53/$N$3)","v":0.97933429950254391},null,null,null,"Crossing",{"$f":"HLOOKUP($R$3,$V$20:$AD$24,2,FALSE)","v":115625000}]
[null,"Diverging",0.99240592167666675,0.99240592167666675,0.99471106464259507,0.99289927635365172,0.99986767390957609,0.99986767390957609,0.99986767390957609,0.99388744288122999,null,null,null,null,null,null,"Merging",{"$f":"HLOOKUP($R$3,$B$20:$J$24,3,FALSE)","v":30656250},null,null,null,"Diverging",{"$f":"EXP(-W54/$N$3)","v":0.97082568648999834},0.97082568648999834,0.97901182504107664,0.9718985156555332,0.99952230323430979,0.99952230323430979,0.99952230323430979,{"$f":"EXP(-AD54/$N$3)","v":0.97577335889658778},null,null,null,"Merging",{"$f":"HLOOKUP($R$3,$V$20:$AD$24,3,FALSE)","v":78125000}]
[null,"Nonmotorized",0.37537926113547665,0.1571689203828561,0.2497054464246995,0.34912327874835408,0.63597490126106926,0.47254801694555998,0.40446407503402682,0.43228317260699645,null,null,null,null,null,null,"Diverging",{"$f":"HLOOKUP($R$3,$B$20:$J$24,4,FALSE)","v":41906250},null,null,null,"Nonmotorized",{"$f":"EXP(-W55/$N$3)","v":0.12112441230975642},1.85911094622297E-2,4.6746366838375242E-2,0.10333422229559495,0.39825382195532527,0.21944677034354382,0.15860610670202394,{"$f":"EXP(-AD55/$N$3)","v":0.16679151018589367},null,null,null,"Diverging",{"$f":"HLOOKUP($R$3,$V$20:$AD$24,4,FALSE)","v":153125000}]
[null,"Average",{"$f":"EXP(-(C56/4)/$N$3)","v":0.71493175125535968},0.56689872665423346,0.67733292008323664,0.74420612090745353,0.89187743504463157,0.82745379234352245,0.79551584114822993,0.77052993827180827,null,null,null,null,null,null,null,null,null,null,null,"Average",{"$f":"EXP(-(W56/4)/$N$3)","v":0.42706274787998544},0.25673383751513607,0.40403384128624342,0.50538798049853939,0.79183292674834449,0.68123580927147953,0.62714372010796193,{"$f":"EXP(-(AD56/4)/$N$3)","v":0.54367311123925177}]
[]
[]
[null,"Conflict Points",null,null,null,null,null,null,null,null,null,null,null,null,null,null,null,null,null,null,null,"Conflict Points"]
[null,null,"Conv_Sig","Conv_Ramp_Stop","SPUI","DDI","RTI_RAB1x1","RTI_RAB2x1","RTI_RAB2x2","TUDI",null,null,null,null,null,null,null,null,null,null,null,null,"Conv_Sig","Conv_Ramp_Stop","SPUI","DDI","RTI_RAB1x1","RTI_RAB2x1","RTI_RAB2x2","TUDI"]
[null,"Crossing",{"$f":"COUNTIF(INDIRECT(C$12&\"!$B$4:$B$100\"),\"*\"&$B13&\"*\")","v":6},6,8,2,2,2,2,10,null,null,null,null,null,null,null,null,null,null,null,"Crossing",{"$f":"C13","v":6},6,8,2,2,2,2,10]
[null,"Merging",6,6,6,6,6,6,6,6,null,null,null,null,null,null,null,null,null,null,null,"Merging",{"$f":"C14","v":6},{"$f":"D14","v":6},{"$f":"E14","v":6},{"$f":"F14","v":6},{"$f":"G14","v":6},{"$f":"H14","v":6},{"$f":"I14","v":6},6]
[null,"Diverging",6,6,6,6,6,6,6,6,null,null,null,null,null,null,null,null,null,null,null,"Diverging",6,6,6,6,6,6,6,6]
[null,"Nonmotorized",16,16,16,8,8,8,8,18,null,null,null,null,null,null,null,null,null,null,null,"Nonmotorized",16,16,16,8,8,8,8,18]
[null,"Total",{"$f":"SUM(C13:C16)","v":34},{"$f":"SUM(D13:D16)","v":34},36,22,22,22,22,{"$f":"SUM(J13:J16)","v":40},null,null,null,null,null,null,null,null,null,null,null,"Total",{"$f":"SUM(W13:W16)","v":34},{"$f":"SUM(X13:X16)","v":34},36,22,22,22,22,{"$f":"SUM(AD13:AD16)","v":40}]
[null,null,null,null,null,null,null,null,null,null,null,null,null,null,null,null,"Control Strategy","SSI Ref Name"]
[null,"Exposure",null,null,null,null,null,null,null,null,null,null,null,null,null,null,"Signalized Diamond","Conv_Sig",null,null,null,"Exposure"]
[null,null,"Conv_Sig","Conv_Ramp_Stop","SPUI","DDI","RTI_RAB1x1","RTI_RAB2x1","RTI_RAB2x2","TUDI",null,null,null,null,null,null,"Signalized Diamond (Alt)","Conv_Ramp_Stop",null,null,null,null,"Conv_Sig","Conv_Ramp_Stop","SPUI","DDI","RTI_RAB1x1","RTI_RAB2x1","RTI_RAB2x2","TUDI"]
[null,"Crossing",{"$f":"SUMIF(INDIRECT(C$20&\"!$B$4:$B$100\"),\"*\"&$B21&\"*\",INDIRECT(C$20&\"!$L$4:$L$100\"))","v":36281250},36281250,30937500,54843750,10968750,10968750,10968750,40500000,null,null,null,null,null,null,"Diverging Diamond","DDI",null,null,null,"Crossing",{"$f":"SUMIF(INDIRECT(W$20&\"!$B$4:$B$100\"),\"*\"&$V21&\"*\",INDIRECT(C$20&\"!$L$103:$L$200\"))","v":115625000},115625000,93750000,196875000,21875000,21875000,21875000,125000000]
[null,"Merging",30656250,30656250,26437500,30656250,60187500,60187500,60187500,26437500,null,null,null,null,null,null,"Single-Point Diamond","SPUI",null,null,null,"Merging",{"$f":"SUMIF(INDIRECT(W$20&\"!$B$4:$B$100\"),\"*\"&$V22&\"*\",INDIRECT(C$20&\"!$L$103:$L$200\"))","v":78125000},{"$f":"SUMIF(INDIRECT(X$20&\"!$B$4:$B$100\"),\"*\"&$V22&\"*\",INDIRECT(D$20&\"!$L$103:$L$200\"))","v":78125000},{"$f":"SUMIF(INDIRECT(Y$20&\"!$B$4:$B$100\"),\"*\"&$V22&\"*\",INDIRECT(E$20&\"!$L$103:$L$200\"))","v":68750000},{"$f":"SUMIF(INDIRECT(Z$20&\"!$B$4:$B$100\"),\"*\"&$V22&\"*\",INDIRECT(F$20&\"!$L$103:$L$200\"))","v":78125000},{"$f":"SUMIF(INDIRECT(AA$20&\"!$B$4:$B$100\"),\"*\"&$V22&\"*\",INDIRECT(G$20&\"!$L$103:$L$200\"))","v":181250000},{"$f":"SUMIF(INDIRECT(AB$20&\"!$B$4:$B$100\"),\"*\"&$V22&\"*\",INDIRECT(H$20&\"!$L$103:$L$200\"))","v":181250000},{"$f":"SUMIF(INDIRECT(AC$20&\"!$B$4:$B$100\"),\"*\"&$V22&\"*\",INDIRECT(I$20&\"!$L$103:$L$200\"))","v":181250000},68750000]
[null,"Diverging",41906250,41906250,30656250,37687500,71437500,71437500,71437500,37687500,null,null,null,null,null,null,"Unsignalized Diamond","Conv_Ramp_Stop",null,null,null,"Diverging",153125000,153125000,115625000,143750000,256250000,256250000,256250000,143750000]
[null,"Nonmotorized",14625000,14625000,12375000,10125000,14625000,14625000,14625000,14625000,null,null,null,null,null,null,"1-lane Roundabout","RTI_RAB1x1",null,null,null,"Nonmotorized",29750000,29750000,25500000,21250000,29750000,29750000,29750000,29750000]
[null,null,null,null,null,null,null,null,null,null,null,null,null,null,null,null,"2-lane Roundabout","RTI_RAB2x2"]
[null,"Sum of P(FSI)",null,null,null,null,null,null,null,null,null,null,null,null,null,null,"Signalized Tight Diamond","TUDI",null,null,null,"Sum of P(FSI)"]
[null,null,"Conv_Sig","Conv_Ramp_Stop","SPUI","DDI","RTI_RAB1x1","RTI_RAB2x1","RTI_RAB2x2","TUDI",null,null,null,null,null,null,null,null,null,null,null,null,"Conv_Sig","Conv_Ramp_Stop","SPUI","DDI","RTI_RAB1x1","RTI_RAB2x1","RTI_RAB2x2","TUDI"]
[null,"Crossing",{"$f":"SUMIF(INDIRECT(C$27&\"!$B$4:$B$100\"),\"*\"&$B28&\"*\",INDIRECT(C$27&\"!$R$4:$R$100\"))","v":0.27439618108007152},0.27439618108007152,0.29111952830014587,7.4194816622411633E-2,8.339605477152635E-3,8.339605477152635E-3,8.339605477152635E-3,0.34499430135693943,null,null,null,null,null,null,null,null,null,null,null,"Crossing",{"$f":"C28","v":0.27439618108007152},0.27439618108007152,0.29111952830014587,7.4194816622411633E-2,8.339605477152635E-3,8.339605477152635E-3,8.339605477152635E-3,0.34499430135693943]
[null,"Merging",2.7465449855331968E-2,2.7465449855331968E-2,2.7465449855331968E-2,1.8335129188985395E-2,7.3646135637543079E-3,7.3646135637543079E-3,7.3646135637543079E-3,2.7465449855331968E-2,null,null,null,null,null,null,null,null,null,null,null,"Merging",{"$f":"C29","v":2.7465449855331968E-2},{"$f":"D29","v":2.7465449855331968E-2},{"$f":"E29","v":2.7465449855331968E-2},{"$f":"F29","v":1.8335129188985395E-2},{"$f":"G29","v":7.3646135637543079E-3},{"$f":"H29","v":7.3646135637543079E-3},{"$f":"I29","v":7.3646135637543079E-3},2.7465449855331968E-2]
[null,"Diverging",1.0333595551863493E-2,1.0333595551863493E-2,1.0333595551863493E-2,1.0333595551863493E-2,1.3944585891590257E-4,1.3944585891590257E-4,1.3944585891590257E-4,1.0333595551863493E-2,null,null,null,null,null,null,null,null,null,null,null,"Diverging",1.0333595551863493E-2,1.0333595551863493E-2,1.0333595551863493E-2,1.0333595551863493E-2,1.3944585891590257E-4,1.3944585891590257E-4,1.3944585891590257E-4,1.0333595551863493E-2]
[null,"Nonmotorized",4.6151358984574795,4.6151358984574795,5.1799701281551744,3.4866352165309022,2.6789887174879183,2.6789887174879183,2.6789887174879183,5.020634156890587,null,null,null,null,null,null,null,null,null,null,null,"Nonmotorized",4.6151358984574795,4.6151358984574795,5.1799701281551744,3.4866352165309022,2.6789887174879183,2.6789887174879183,2.6789887174879183,5.020634156890587]
[null,"Total",{"$f":"SUM(C28:C31)","v":4.9273311249447467},{"$f":"SUM(D28:D31)","v":4.9273311249447467},5.5088887018625154,3.5894987578941628,2.6948323823877414,2.6948323823877414,2.6948323823877414,{"$f":"SUM(J28:J31)","v":5.4034275036547221},null,null,null,null,null,null,null,null,null,null,null,"Total",{"$f":"SUM(W28:W31)","v":4.9273311249447467},{"$f":"SUM(X28:X31)","v":4.9273311249447467},5.5088887018625154,3.5894987578941628,2.6948323823877414,2.6948323823877414,2.6948323823877414,{"$f":"SUM(AD28:AD31)","v":5.4034275036547221}]
[]
[null,"Average P(FSI)",null,null,null,null,null,null,null,null,null,null,null,null,null,null,null,null,null,null,null,"Average P(FSI)"]
[null,null,"Conv_Sig","Conv_Ramp_Stop","SPUI","DDI","RTI_RAB1x1","RTI_RAB2x1","RTI_RAB2x2","TUDI",null,null,null,null,null,null,null,null,null,null,null,null,"Conv_Sig","Conv_Ramp_Stop","SPUI","DDI","RTI_RAB1x1","RTI_RAB2x1","RTI_RAB2x2","TUDI"]
[null,"Crossing",{"$f":"C28/C13","v":4.5732696846678585E-2},{"$f":"D28/D13","v":4.5732696846678585E-2},3.6389941037518234E-2,3.7097408311205816E-2,4.1698027385763175E-3,4.1698027385763175E-3,4.1698027385763175E-3,{"$f":"J28/J13","v":3.449943013569394E-2},null,null,null,null,null,null,null,null,null,null,null,"Crossing",{"$f":"W28/W13","v":4.5732696846678585E-2},{"$f":"X28/X13","v":4.5732696846678585E-2},3.6389941037518234E-2,3.7097408311205816E-2,4.1698027385763175E-3,4.1698027385763175E-3,4.1698027385763175E-3,{"$f":"AD28/AD13","v":3.449943013569394E-2}]
[null,"Merging",{"$f":"C29/C14","v":4.5775749758886616E-3},4.5775749758886616E-3,4.5775749758886616E-3,3.0558548648308994E-3,1.2274355939590512E-3,1.2274355939590512E-3,1.2274355939590512E-3,{"$f":"J29/J14","v":4.5775749758886616E-3},null,null,null,null,null,null,null,null,null,null,null,"Merging",{"$f":"W29/W14","v":4.5775749758886616E-3},4.5775749758886616E-3,4.5775749758886616E-3,3.0558548648308994E-3,1.2274355939590512E-3,1.2274355939590512E-3,1.2274355939590512E-3,{"$f":"AD29/AD14","v":4.5775749758886616E-3}]
[null,"Diverging",1.7222659253105822E-3,1.7222659253105822E-3,1.7222659253105822E-3,1.7222659253105822E-3,2.3240976485983762E-5,2.3240976485983762E-5,2.3240976485983762E-5,{"$f":"J30/J15","v":1.7222659253105822E-3},null,null,null,null,null,null,null,null,null,null,null,"Diverging",{"$f":"W30/W15","v":1.7222659253105822E-3},1.7222659253105822E-3,1.7222659253105822E-3,1.7222659253105822E-3,2.3240976485983762E-5,2.3240976485983762E-5,2.3240976485983762E-5,{"$f":"AD30/AD15","v":1.7222659253105822E-3}]
[null,"Nonmotorized",0.28844599365359247,0.28844599365359247,0.3237481330096984,0.43582940206636278,0.33487358968598979,0.33487358968598979,0.33487358968598979,{"$f":"J31/J16","v":0.27892411982725485},null,null,null,null,null,null,null,null,null,null,null,"Nonmotorized",{"$f":"W31/W16","v":0.28844599365359247},0.28844599365359247,0.3237481330096984,0.43582940206636278,0.33487358968598979,0.33487358968598979,0.33487358968598979,{"$f":"AD31/AD16","v":0.27892411982725485}]
[null,"Total",{"$f":"C32/C17","v":0.14492150367484549},0.14492150367484549,0.15302468616284765,0.16315903444973467,0.12249238101762461,0.12249238101762461,0.12249238101762461,{"$f":"J32/J17","v":0.13508568759136805},null,null,null,null,null,null,null,null,null,null,null,"Total",{"$f":"W32/W17","v":0.14492150367484549},{"$f":"X32/X17","v":0.14492150367484549},0.15302468616284765,0.16315903444973467,0.12249238101762461,0.12249238101762461,0.12249238101762461,{"$f":"AD32/AD17","v":0.13508568759136805}]
[]
[null,"Average Complexity",null,null,null,null,null,null,null,null,null,null,null,null,null,null,null,null,null,null,null,"Average Complexity"]
[null,null,"Conv_Sig","Conv_Ramp_Stop","SPUI","DDI","RTI_RAB1x1","RTI_RAB2x1","RTI_RAB2x2","TUDI",null,null,null,null,null,null,null,null,null,null,null,null,"Conv_Sig","Conv_Ramp_Stop","SPUI","DDI","RTI_RAB1x1","RTI_RAB2x1","RTI_RAB2x2","TUDI"]
[null,"Crossing",{"$f":"AVERAGEIF(INDIRECT(C$43&\"!$B$4:$B$100\"),\"*\"&$B44&\"*\",INDIRECT(C$43&\"!$AI$4:$AI$100\"))","v":1.8812499999999999},2.3819444444444446,1.4644097222222221,0.78555555555555556,0.61111111111111105,1.2222222222222221,1.2222222222222221,1.4729166666666667,null,null,null,null,null,null,null,null,null,null,null,"Crossing",{"$f":"C44","v":1.8812499999999999},2.3819444444444446,1.4644097222222221,0.78555555555555556,0.61111111111111105,1.2222222222222221,1.2222222222222221,1.4729166666666667]
[null,"Merging",1.2110648148148149,2.0060185185185184,0.97935185185185192,0.6873611111111112,0.61111111111111105,0.96759259259259256,1.1712962962962963,1.2110648148148149,null,null,null,null,null,null,null,null,null,null,null,"Merging",{"$f":"C45","v":1.2110648148148149},{"$f":"D45","v":2.0060185185185184},{"$f":"E45","v":0.97935185185185192},{"$f":"F45","v":0.6873611111111112},{"$f":"G45","v":0.61111111111111105},{"$f":"H45","v":0.96759259259259256},{"$f":"I45","v":1.1712962962962963},1.2110648148148149]
[null,"Diverging",1,1,1,1,1,1,1,1,null,null,null,null,null,null,null,null,null,null,null,"Diverging",1,1,1,1,1,1,1,1]
[null,"Nonmotorized",1.6706944444444443,2.6453125000000002,2.1252083333333336,1.9568749999999997,1.2222222222222223,1.8333333333333333,2.4444444444444446,1.5399382716049379,null,null,null,null,null,null,null,null,null,null,null,"Nonmotorized",1.6706944444444443,2.6453125000000002,2.1252083333333336,1.9568749999999997,1.2222222222222223,1.8333333333333333,2.4444444444444446,1.5399382716049379]
[null,"Total",{"$f":"AVERAGE(INDIRECT(C$43&\"!$AI$4:$AI$100\"))","v":1.5083823529411762},{"$f":"AVERAGE(INDIRECT(D$43&\"!$AI$4:$AI$100\"))","v":2.1956699346405224},1.5998533950617286,1.2431944444444443,0.93939393939393934,1.3143939393939392,1.5921717171717171,1.3928611111111109,null,null,null,null,null,null,null,null,null,null,null,"Total",{"$f":"AVERAGE(INDIRECT(W$43&\"!$AI$4:$AI$100\"))","v":1.5083823529411762},{"$f":"AVERAGE(INDIRECT(X$43&\"!$AI$4:$AI$100\"))","v":2.1956699346405224},1.5998533950617286,1.2431944444444443,0.93939393939393934,1.3143939393939392,1.5921717171717171,1.3928611111111109]
[]
[null,"Exposure-Severity-Complexity Product",null,null,null,null,null,null,null,null,null,null,null,null,null,null,null,null,null,null,null,"Exposure-Severity-Complexity Product"]
[null,null,"Conv_Sig","Conv_Ramp_Stop","SPUI","DDI","RTI_RAB1x1","RTI_RAB2x1","RTI_RAB2x2","TUDI",null,null,null,null,null,null,null,null,null,null,null,null,"Conv_Sig","Conv_Ramp_Stop","SPUI","DDI","RTI_RAB1x1","RTI_RAB2x1","RTI_RAB2x2","TUDI"]
[null,"Crossing",{"$f":"SUMIF(INDIRECT(C$51&\"!$B$4:$B$100\"),\"*\"&$B52&\"*\",INDIRECT(C$51&\"!$AK$4:$AK$100\"))","v":4695396.4379910268},5407485.0687625725,2138970.9239154588,1598260.686507622,27950.708982019376,55901.417964038752,55901.417964038752,2579684.7616598299,null,null,null,null,null,null,null,null,null,null,null,"Crossing",{"$f":"SUMIF(INDIRECT(W$51&\"!$B$4:$B$100\"),\"*\"&$V52&\"*\",INDIRECT(C$51&\"!$AK$103:$AK$200\"))","v":16937550.429086335},18982562.83131488,7130451.5347968368,5737346.0541299246,55742.154664995898,111484.3093299918,111484.3093299918,8236585.1942866826]
[null,"Merging",165792.55438247,240219.7693999747,129656.39438381848,77149.501771897645,40244.155205918454,51777.904239812458,77445.850728304285,131563.71597537672,null,null,null,null,null,null,null,null,null,null,null,"Merging",{"$f":"SUMIF(INDIRECT(W$51&\"!$B$4:$B$100\"),\"*\"&$V53&\"*\",INDIRECT(C$51&\"!$AK$103:$AK$200\"))","v":362150.5590651118},{"$f":"SUMIF(INDIRECT(X$51&\"!$B$4:$B$100\"),\"*\"&$V53&\"*\",INDIRECT(D$51&\"!$AK$103:$AK$200\"))","v":528722.14218018181},{"$f":"SUMIF(INDIRECT(Y$51&\"!$B$4:$B$100\"),\"*\"&$V53&\"*\",INDIRECT(E$51&\"!$AK$103:$AK$200\"))","v":278457.18734978273},{"$f":"SUMIF(INDIRECT(Z$51&\"!$B$4:$B$100\"),\"*\"&$V53&\"*\",INDIRECT(F$51&\"!$AK$103:$AK$200\"))","v":173175.22361233347},{"$f":"SUMIF(INDIRECT(AA$51&\"!$B$4:$B$100\"),\"*\"&$V53&\"*\",INDIRECT(G$51&\"!$AK$103:$AK$200\"))","v":115177.64413788536},{"$f":"SUMIF(INDIRECT(AB$51&\"!$B$4:$B$100\"),\"*\"&$V53&\"*\",INDIRECT(H$51&\"!$AK$103:$AK$200\"))","v":138727.88323301211},{"$f":"SUMIF(INDIRECT(AC$51&\"!$B$4:$B$100\"),\"*\"&$V53&\"*\",INDIRECT(I$51&\"!$AK$103:$AK$200\"))","v":224287.70486131817},286086.47371601564]
[null,"Diverging",104435.9241403357,104435.9241403357,72650.706645227765,97626.936564491029,1812.9873942204063,1812.9873942204063,1812.9873942204063,83999.019271635567,null,null,null,null,null,null,null,null,null,null,null,"Diverging",405634.3454626759,405634.3454626759,290598.34228374582,390503.26196079882,6546.0093182059954,6546.0093182059954,6546.0093182059954,335991.59278937697]
[null,"Nonmotorized",13423512.09461531,25350947.526500378,19008383.799838979,14416923.533352809,6200567.6638999004,10269738.022435918,12401135.327799801,11489839.462666793,null,null,null,null,null,null,null,null,null,null,null,"Nonmotorized",28919837.731792938,54595483.638577126,41963356.751077257,31096077.342660241,12613120.547078431,20778044.446074434,25226241.094156861,24536846.432709634]
[null,"Total",{"$f":"SUM(C52:C55)","v":18389137.011129145},{"$f":"SUM(D52:D55)","v":31103088.288803261},21349661.824783485,16189960.65819682,6270575.5154820587,10379230.33203399,12536295.583886364,{"$f":"SUM(J52:J55)","v":14285086.959573634},null,null,null,null,null,null,null,null,null,null,null,"Total",{"$f":"SUM(W52:W55)","v":46625173.06540706},{"$f":"SUM(X52:X55)","v":74512402.957534865},49662863.815507621,37397101.882363297,12790586.355199518,21034802.647955645,25568559.117666379,{"$f":"SUM(AD52:AD55)","v":33395509.693501711}]

{"sheet":"SSI 4L Results_Full","index":28,"n_rows":56,"n_cols":53,"rows_kept":56,"cut":false,"hidden":true,"merged":[[41,1,41,17],[49,1,49,17],[1,1,1,17],[1,24,1,25],[10,1,10,17],[18,1,18,17],[25,1,25,17],[33,1,33,17],[41,28,41,44],[49,28,49,44],[1,51,1,52],[1,28,1,44],[10,28,10,44],[18,28,18,44],[25,28,25,44],[33,28,33,44]]}
[]
[null,"SSI Score (Open Year)",null,null,null,null,null,null,null,null,null,null,null,null,null,null,null,null,null,null,null,"z",null,null,"Existing Exposure (Open)",null,null,null,"SSI Score (Design Year)",null,null,null,null,null,null,null,null,null,null,null,null,null,null,null,null,null,null,null,null,null,null,"Existing Exposure (Open)"]
[null,null,"Trad_Sig","Trad_MinorStop","Trad_AllStop","RAB1x1","RAB2x1","RAB2x2","RCUT_Sig","RCUT_Unsig","ThruCut_Sig","ThruCut_Unsig","MUT","PDLT","FDLT","QR","Jughandle","Bowtie",null,null,null,13700000,null,null,"Existing alt",{"$f":"VLOOKUP('SSI Results'!B6,'SSI 4L Results_Full'!Y16:Z31,2, FALSE)","v":"Trad_Sig"},null,null,null,"Trad_Sig","Trad_MinorStop","Trad_AllStop","RAB1x1","RAB2x1","RAB2x2","RCUT_Sig","RCUT_Unsig","ThruCut_Sig","ThruCut_Unsig","MUT","PDLT","FDLT","QR","Jughandle","Bowtie",null,null,null,null,null,null,"Existing alt",{"$f":"VLOOKUP('SSI Results'!B6,'SSI 4L Results_Full'!Y16:Z31,2, FALSE)","v":"Trad_Sig"}]
[null,"Crossing",{"$f":"EXP(-C52/$V$3)","v":{"$error":"#VALUE!"}},{"$error":"#VALUE!"},{"$error":"#VALUE!"},{"$error":"#VALUE!"},{"$error":"#VALUE!"},{"$error":"#VALUE!"},{"$error":"#VALUE!"},{"$error":"#VALUE!"},{"$f":"EXP(-K52/$V$3)","v":{"$error":"#VALUE!"}},{"$error":"#VALUE!"},{"$f":"EXP(-M52/$V$3)","v":{"$error":"#VALUE!"}},{"$error":"#VALUE!"},{"$error":"#VALUE!"},{"$error":"#VALUE!"},{"$error":"#VALUE!"},{"$error":"#VALUE!"},null,null,null,null,null,null,"Nonmotorized",{"$f":"HLOOKUP($Z$3,$B$20:$R$24,5,FALSE)","v":{"$error":"#VALUE!"}},null,null,"Crossing",{"$f":"EXP(-AD52/$V$3)","v":{"$error":"#VALUE!"}},{"$f":"EXP(-AE52/$V$3)","v":{"$error":"#VALUE!"}},{"$error":"#VALUE!"},{"$error":"#VALUE!"},{"$error":"#VALUE!"},{"$error":"#VALUE!"},{"$error":"#VALUE!"},{"$error":"#VALUE!"},{"$f":"EXP(-AL52/$V$3)","v":{"$error":"#VALUE!"}},{"$error":"#VALUE!"},{"$error":"#VALUE!"},{"$error":"#VALUE!"},{"$error":"#VALUE!"},{"$error":"#VALUE!"},{"$error":"#VALUE!"},{"$error":"#VALUE!"},null,null,null,null,null,null,"Nonmotorized",{"$f":"HLOOKUP($Z$3,$AC$20:$AS$24,5,FALSE)","v":{"$error":"#VALUE!"}}]
[null,"Merging",{"$error":"#VALUE!"},{"$error":"#VALUE!"},{"$error":"#VALUE!"},{"$error":"#VALUE!"},{"$error":"#VALUE!"},{"$error":"#VALUE!"},{"$error":"#VALUE!"},{"$error":"#VALUE!"},{"$f":"EXP(-K53/$V$3)","v":{"$error":"#VALUE!"}},{"$error":"#VALUE!"},{"$error":"#VALUE!"},{"$error":"#VALUE!"},{"$error":"#VALUE!"},{"$error":"#VALUE!"},{"$error":"#VALUE!"},{"$error":"#VALUE!"},null,null,null,null,null,null,"Crossing",{"$f":"HLOOKUP($Z$3,$B$20:$R$24,2,FALSE)","v":{"$error":"#VALUE!"}},null,null,"Merging",{"$f":"EXP(-AD53/$V$3)","v":{"$error":"#VALUE!"}},{"$f":"EXP(-AE53/$V$3)","v":{"$error":"#VALUE!"}},{"$error":"#VALUE!"},{"$error":"#VALUE!"},{"$error":"#VALUE!"},{"$error":"#VALUE!"},{"$error":"#VALUE!"},{"$error":"#VALUE!"},{"$f":"EXP(-AL53/$V$3)","v":{"$error":"#VALUE!"}},{"$error":"#VALUE!"},{"$error":"#VALUE!"},{"$error":"#VALUE!"},{"$error":"#VALUE!"},{"$error":"#VALUE!"},{"$error":"#VALUE!"},{"$error":"#VALUE!"},null,null,null,null,null,null,"Crossing",{"$f":"HLOOKUP($Z$3,$AC$20:$AS$24,2,FALSE)","v":{"$error":"#VALUE!"}}]
[null,"Diverging",{"$error":"#VALUE!"},{"$error":"#VALUE!"},{"$error":"#VALUE!"},{"$error":"#VALUE!"},{"$error":"#VALUE!"},{"$error":"#VALUE!"},{"$error":"#VALUE!"},{"$error":"#VALUE!"},{"$f":"EXP(-K54/$V$3)","v":{"$error":"#VALUE!"}},{"$error":"#VALUE!"},{"$error":"#VALUE!"},{"$error":"#VALUE!"},{"$error":"#VALUE!"},{"$error":"#VALUE!"},{"$error":"#VALUE!"},{"$error":"#VALUE!"},null,null,null,null,null,null,"Merging",{"$f":"HLOOKUP($Z$3,$B$20:$R$24,3,FALSE)","v":{"$error":"#VALUE!"}},null,null,"Diverging",{"$f":"EXP(-AD54/$V$3)","v":{"$error":"#VALUE!"}},{"$f":"EXP(-AE54/$V$3)","v":{"$error":"#VALUE!"}},{"$error":"#VALUE!"},{"$error":"#VALUE!"},{"$error":"#VALUE!"},{"$error":"#VALUE!"},{"$error":"#VALUE!"},{"$error":"#VALUE!"},{"$f":"EXP(-AL54/$V$3)","v":{"$error":"#VALUE!"}},{"$error":"#VALUE!"},{"$error":"#VALUE!"},{"$error":"#VALUE!"},{"$error":"#VALUE!"},{"$error":"#VALUE!"},{"$error":"#VALUE!"},{"$error":"#VALUE!"},null,null,null,null,null,null,"Merging",{"$f":"HLOOKUP($Z$3,$AC$20:$AS$24,3,FALSE)","v":{"$error":"#VALUE!"}}]
[null,"Nonmotorized",{"$error":"#VALUE!"},{"$error":"#VALUE!"},{"$error":"#VALUE!"},{"$error":"#VALUE!"},{"$error":"#VALUE!"},{"$error":"#VALUE!"},{"$error":"#VALUE!"},{"$error":"#VALUE!"},{"$f":"EXP(-K55/$V$3)","v":{"$error":"#VALUE!"}},{"$error":"#VALUE!"},{"$error":"#VALUE!"},{"$error":"#VALUE!"},{"$error":"#VALUE!"},{"$error":"#VALUE!"},{"$error":"#VALUE!"},{"$error":"#VALUE!"},null,null,null,null,null,null,"Diverging",{"$f":"HLOOKUP($Z$3,$B$20:$R$24,4,FALSE)","v":{"$error":"#VALUE!"}},null,null,"Nonmotorized",{"$f":"EXP(-AD55/$V$3)","v":{"$error":"#VALUE!"}},{"$f":"EXP(-AE55/$V$3)","v":{"$error":"#VALUE!"}},{"$error":"#VALUE!"},{"$error":"#VALUE!"},{"$error":"#VALUE!"},{"$error":"#VALUE!"},{"$error":"#VALUE!"},{"$error":"#VALUE!"},{"$f":"EXP(-AL55/$V$3)","v":{"$error":"#VALUE!"}},{"$error":"#VALUE!"},{"$error":"#VALUE!"},{"$error":"#VALUE!"},{"$error":"#VALUE!"},{"$error":"#VALUE!"},{"$error":"#VALUE!"},{"$error":"#VALUE!"},null,null,null,null,null,null,"Diverging",{"$f":"HLOOKUP($Z$3,$AC$20:$AS$24,4,FALSE)","v":{"$error":"#VALUE!"}}]
[null,"Average",{"$f":"EXP(-(C56/4)/$V$3)","v":{"$error":"#VALUE!"}},{"$error":"#VALUE!"},{"$error":"#VALUE!"},{"$error":"#VALUE!"},{"$error":"#VALUE!"},{"$error":"#VALUE!"},{"$error":"#VALUE!"},{"$error":"#VALUE!"},{"$f":"EXP(-(K56/4)/$V$3)","v":{"$error":"#VALUE!"}},{"$error":"#VALUE!"},{"$f":"EXP(-(M56/4)/$V$3)","v":{"$error":"#VALUE!"}},{"$error":"#VALUE!"},{"$error":"#VALUE!"},{"$error":"#VALUE!"},{"$error":"#VALUE!"},{"$error":"#VALUE!"},null,null,null,null,null,null,null,null,null,null,"Average",{"$f":"EXP(-(AD56/4)/$V$3)","v":{"$error":"#VALUE!"}},{"$f":"EXP(-(AE56/4)/$V$3)","v":{"$error":"#VALUE!"}},{"$error":"#VALUE!"},{"$error":"#VALUE!"},{"$error":"#VALUE!"},{"$error":"#VALUE!"},{"$error":"#VALUE!"},{"$error":"#VALUE!"},{"$f":"EXP(-(AL56/4)/$V$3)","v":{"$error":"#VALUE!"}},{"$error":"#VALUE!"},{"$error":"#VALUE!"},{"$error":"#VALUE!"},{"$error":"#VALUE!"},{"$error":"#VALUE!"},{"$error":"#VALUE!"},{"$error":"#VALUE!"}]
[]
[]
[null,"Conflict Points",null,null,null,null,null,null,null,null,null,null,null,null,null,null,null,null,null,null,null,null,null,null,null,null,null,null,"Conflict Points"]
[null,null,"Trad_Sig","Trad_MinorStop","Trad_AllStop","RAB1x1","RAB2x1","RAB2x2","RCUT_Sig","RCUT_Unsig","ThruCut_Sig","ThruCut_Unsig","MUT","PDLT","FDLT","QR","Jughandle","Bowtie",null,null,null,null,null,null,null,null,null,null,null,"Trad_Sig","Trad_MinorStop","Trad_AllStop","RAB1x1","RAB2x1","RAB2x2","RCUT_Sig","RCUT_Unsig","ThruCut_Sig","ThruCut_Unsig","MUT","PDLT","FDLT","QR","Jughandle","Bowtie"]
[null,"Crossing",{"$f":"COUNTIF(INDIRECT(C$12&\"!$B$4:$B$100\"),\"*\"&$B13&\"*\")","v":16},16,16,4,4,4,2,2,8,8,4,14,12,10,13,4,null,null,null,null,null,null,null,null,null,null,"Crossing",{"$f":"C13","v":16},16,16,4,4,4,2,2,8,8,{"$f":"M13","v":4},14,12,10,13,4]
[null,"Merging",8,8,8,8,8,8,6,6,8,8,6,8,8,10,8,6,null,null,null,null,null,null,null,null,null,null,"Merging",{"$f":"C14","v":8},{"$f":"D14","v":8},{"$f":"E14","v":8},{"$f":"F14","v":8},{"$f":"G14","v":8},{"$f":"H14","v":8},{"$f":"I14","v":6},{"$f":"J14","v":6},8,8,{"$f":"M14","v":6},{"$f":"N14","v":8},{"$f":"O14","v":8},{"$f":"P14","v":10},{"$f":"Q14","v":8},{"$f":"R14","v":6}]
[null,"Diverging",8,8,8,8,8,8,6,6,8,8,6,8,8,10,8,6,null,null,null,null,null,null,"Control Strategy","SSI Ref Name",null,null,"Diverging",8,8,8,8,8,8,6,6,8,8,6,8,8,10,8,6]
[null,"Nonmotorized",24,24,24,8,8,8,10,10,20,20,16,20,20,24,23,16,null,null,null,null,null,null,"Traffic Signal","Trad_Sig",null,null,"Nonmotorized",24,24,24,8,8,8,10,10,20,20,16,20,20,24,23,16]
[null,"Total",{"$f":"SUM(C13:C16)","v":56},{"$f":"SUM(D13:D16)","v":56},56,28,28,28,24,24,{"$f":"SUM(K13:K16)","v":44},44,32,50,48,54,52,32,null,null,null,null,null,null,"Traffic Signal (Alt)","Trad_Sig",null,null,"Total",{"$f":"SUM(C13:C16)","v":56},56,56,28,28,28,24,24,44,44,{"$f":"SUM(M13:M16)","v":32},50,48,54,52,32]
[null,null,null,null,null,null,null,null,null,null,null,null,null,null,null,null,null,null,null,null,null,null,null,null,"Minor Road Stop","Trad_MinorStop"]
[null,"Exposure",null,null,null,null,null,null,null,null,null,null,null,null,null,null,null,null,null,null,null,null,null,null,"All Way Stop","Trad_AllStop",null,null,"Exposure"]
[null,null,"Trad_Sig","Trad_MinorStop","Trad_AllStop","RAB1x1","RAB2x1","RAB2x2","RCUT_Sig","RCUT_Unsig","ThruCut_Sig","ThruCut_Unsig","MUT","PDLT","FDLT","QR","Jughandle","Bowtie",null,null,null,null,null,null,"1-Lane Roundabout","RAB1x1",null,null,null,"Trad_Sig","Trad_MinorStop","Trad_AllStop","RAB1x1","RAB2x1","RAB2x2","RCUT_Sig","RCUT_Unsig","ThruCut_Sig","ThruCut_Unsig","MUT","PDLT","FDLT","QR","Jughandle","Bowtie"]
[null,"Crossing",{"$f":"SUMIF(INDIRECT(C$20&\"!$B$4:$B$100\"),\"*\"&$B21&\"*\",INDIRECT(C$20&\"!$L$4:$L$100\"))","v":{"$error":"#VALUE!"}},{"$error":"#VALUE!"},{"$error":"#VALUE!"},{"$error":"#VALUE!"},{"$error":"#VALUE!"},{"$error":"#VALUE!"},{"$error":"#VALUE!"},{"$error":"#VALUE!"},{"$error":"#VALUE!"},{"$error":"#VALUE!"},{"$error":"#VALUE!"},{"$error":"#VALUE!"},{"$error":"#VALUE!"},{"$error":"#VALUE!"},{"$error":"#VALUE!"},{"$error":"#VALUE!"},null,null,null,null,null,null,"Mixed Lane Roundabout","RAB2x1",null,null,"Crossing",{"$f":"SUMIF(INDIRECT(AD$20&\"!$B$4:$B$100\"),\"*\"&$AC21&\"*\",INDIRECT(AD$20&\"!$L$103:$L$200\"))","v":{"$error":"#VALUE!"}},{"$f":"SUMIF(INDIRECT(AE$20&\"!$B$4:$B$100\"),\"*\"&$AC21&\"*\",INDIRECT(AE$20&\"!$L$103:$L$200\"))","v":{"$error":"#VALUE!"}},{"$error":"#VALUE!"},{"$error":"#VALUE!"},{"$error":"#VALUE!"},{"$error":"#VALUE!"},{"$error":"#VALUE!"},{"$error":"#VALUE!"},{"$error":"#VALUE!"},{"$error":"#VALUE!"},{"$error":"#VALUE!"},{"$error":"#VALUE!"},{"$error":"#VALUE!"},{"$error":"#VALUE!"},{"$error":"#VALUE!"},{"$error":"#VALUE!"}]
[null,"Merging",{"$error":"#VALUE!"},{"$error":"#VALUE!"},{"$error":"#VALUE!"},{"$error":"#VALUE!"},{"$error":"#VALUE!"},{"$error":"#VALUE!"},{"$error":"#VALUE!"},{"$error":"#VALUE!"},{"$error":"#VALUE!"},{"$error":"#VALUE!"},{"$error":"#VALUE!"},{"$error":"#VALUE!"},{"$error":"#VALUE!"},{"$error":"#VALUE!"},{"$error":"#VALUE!"},{"$error":"#VALUE!"},null,null,null,null,null,null,"2-Lane Roundabout","RAB2x2",null,null,"Merging",{"$f":"SUMIF(INDIRECT(AD$20&\"!$B$4:$B$100\"),\"*\"&$AC22&\"*\",INDIRECT(AD$20&\"!$L$103:$L$200\"))","v":{"$error":"#VALUE!"}},{"$error":"#VALUE!"},{"$error":"#VALUE!"},{"$error":"#VALUE!"},{"$error":"#VALUE!"},{"$error":"#VALUE!"},{"$error":"#VALUE!"},{"$error":"#VALUE!"},{"$error":"#VALUE!"},{"$error":"#VALUE!"},{"$error":"#VALUE!"},{"$error":"#VALUE!"},{"$error":"#VALUE!"},{"$error":"#VALUE!"},{"$error":"#VALUE!"},{"$error":"#VALUE!"}]
[null,"Diverging",{"$error":"#VALUE!"},{"$error":"#VALUE!"},{"$error":"#VALUE!"},{"$error":"#VALUE!"},{"$error":"#VALUE!"},{"$error":"#VALUE!"},{"$error":"#VALUE!"},{"$error":"#VALUE!"},{"$error":"#VALUE!"},{"$error":"#VALUE!"},{"$error":"#VALUE!"},{"$error":"#VALUE!"},{"$error":"#VALUE!"},{"$error":"#VALUE!"},{"$error":"#VALUE!"},{"$error":"#VALUE!"},null,null,null,null,null,null,"Displaced Left Turn (DLT)","FDLT",null,null,"Diverging",{"$error":"#VALUE!"},{"$error":"#VALUE!"},{"$error":"#VALUE!"},{"$error":"#VALUE!"},{"$error":"#VALUE!"},{"$error":"#VALUE!"},{"$error":"#VALUE!"},{"$error":"#VALUE!"},{"$error":"#VALUE!"},{"$error":"#VALUE!"},{"$error":"#VALUE!"},{"$error":"#VALUE!"},{"$error":"#VALUE!"},{"$error":"#VALUE!"},{"$error":"#VALUE!"},{"$error":"#VALUE!"}]
[null,"Nonmotorized",{"$error":"#VALUE!"},{"$error":"#VALUE!"},{"$error":"#VALUE!"},{"$error":"#VALUE!"},{"$error":"#VALUE!"},{"$error":"#VALUE!"},{"$error":"#VALUE!"},{"$error":"#VALUE!"},{"$error":"#VALUE!"},{"$error":"#VALUE!"},{"$error":"#VALUE!"},{"$error":"#VALUE!"},{"$error":"#VALUE!"},{"$error":"#VALUE!"},{"$error":"#VALUE!"},{"$error":"#VALUE!"},null,null,null,null,null,null,"Partial Displaced Left Turn",null,null,null,"Nonmotorized",{"$error":"#VALUE!"},{"$error":"#VALUE!"},{"$error":"#VALUE!"},{"$error":"#VALUE!"},{"$error":"#VALUE!"},{"$error":"#VALUE!"},{"$error":"#VALUE!"},{"$error":"#VALUE!"},{"$error":"#VALUE!"},{"$error":"#VALUE!"},{"$error":"#VALUE!"},{"$error":"#VALUE!"},{"$error":"#VALUE!"},{"$error":"#VALUE!"},{"$error":"#VALUE!"},{"$error":"#VALUE!"}]
[null,null,null,null,null,null,null,null,null,null,null,null,null,null,null,null,null,null,null,null,null,null,null,null,"Median U-Turn (MUT)","MUT"]
[null,"Sum of P(FSI)",null,null,null,null,null,null,null,null,null,null,null,null,null,null,null,null,null,null,null,null,null,null,"Signalized RCUT","RCUT_Sig",null,null,"Sum of P(FSI)"]
[null,null,"Trad_Sig","Trad_MinorStop","Trad_AllStop","RAB1x1","RAB2x1","RAB2x2","RCUT_Sig","RCUT_Unsig","ThruCut_Sig","ThruCut_Unsig","MUT","PDLT","FDLT","QR","Jughandle","Bowtie",null,null,null,null,null,null,"Unsignalized RCUT","RCUT_Unsig",null,null,null,"Trad_Sig","Trad_MinorStop","Trad_AllStop","RAB1x1","RAB2x1","RAB2x2","RCUT_Sig","RCUT_Unsig","ThruCut_Sig","ThruCut_Unsig","MUT","PDLT","FDLT","QR","Jughandle","Bowtie"]
[null,"Crossing",{"$f":"SUMIF(INDIRECT(C$27&\"!$B$4:$B$100\"),\"*\"&$B28&\"*\",INDIRECT(C$27&\"!$R$4:$R$100\"))","v":0.62999748008569834},0.60361025902743803,0.17433484903161595,1.6679210954305256E-2,1.6679210954305256E-2,1.6679210954305256E-2,0.18057316482274749,0.18057316482274749,0.37993145166545284,0.37993145166545284,0.17875738200227334,0.56049969074910344,0.51842188756289997,0.4092758440504991,0.52236157613381251,0.17875738200227334,null,null,null,null,null,null,"Signalized ThruCut","ThruCut_Sig",null,null,"Crossing",{"$f":"C28","v":0.62999748008569834},0.60361025902743803,0.17433484903161595,1.6679210954305256E-2,1.6679210954305256E-2,1.6679210954305256E-2,0.18057316482274749,0.18057316482274749,0.37993145166545284,0.37993145166545284,{"$f":"M28","v":0.17875738200227334},0.56049969074910344,0.51842188756289997,0.4092758440504991,0.52236157613381251,0.17875738200227334]
[null,"Merging",4.8770998590817766E-2,4.8770998590817766E-2,8.6536601406119046E-3,1.0995707638273424E-2,1.0995707638273424E-2,1.0995707638273424E-2,5.4276211611464273E-2,5.4276211611464273E-2,7.2545974692797222E-2,7.2545974692797222E-2,5.5382352337880955E-2,4.877099859081778E-2,5.0946310669797365E-2,5.5822226673596473E-2,5.0792791738701319E-2,3.0501235509484817E-2,null,null,null,null,null,null,"Unsignalized ThruCUt","ThruCut_Unsig",null,null,"Merging",{"$f":"C29","v":4.8770998590817766E-2},{"$f":"D29","v":4.8770998590817766E-2},{"$f":"E29","v":8.6536601406119046E-3},{"$f":"F29","v":1.0995707638273424E-2},{"$f":"G29","v":1.0995707638273424E-2},{"$f":"H29","v":1.0995707638273424E-2},{"$f":"I29","v":5.4276211611464273E-2},{"$f":"J29","v":5.4276211611464273E-2},7.2545974692797222E-2,7.2545974692797222E-2,{"$f":"M29","v":5.5382352337880955E-2},{"$f":"N29","v":4.877099859081778E-2},{"$f":"O29","v":5.0946310669797365E-2},{"$f":"P29","v":5.5822226673596473E-2},{"$f":"Q29","v":5.0792791738701319E-2},{"$f":"R29","v":3.0501235509484817E-2}]
[null,"Diverging",2.131020545426297E-2,2.131020545426297E-2,5.1249110460172857E-6,1.7636006961064177E-4,1.7636006961064177E-4,1.7636006961064177E-4,2.8604040671162793E-2,2.8604040671162793E-2,2.8605321898924299E-2,2.8605321898924299E-2,2.130892422650147E-2,2.131020545426297E-2,2.131020545426297E-2,2.5308985222429504E-2,1.7662647231932307E-2,1.4063792378189218E-2,null,null,null,null,null,null,"Continuous Green-T","CGT",null,null,"Diverging",2.131020545426297E-2,2.131020545426297E-2,5.1249110460172857E-6,1.7636006961064177E-4,1.7636006961064177E-4,1.7636006961064177E-4,2.8604040671162793E-2,2.8604040671162793E-2,2.8605321898924299E-2,2.8605321898924299E-2,2.130892422650147E-2,2.131020545426297E-2,2.131020545426297E-2,2.5308985222429504E-2,1.7662647231932307E-2,1.4063792378189218E-2]
[null,"Nonmotorized",6.9338901738356142,6.9338901738356142,4.4933568103568549,2.6789887174879183,2.6789887174879183,2.6789887174879183,2.8256074999909058,2.8256074999909058,6.0515517790775561,6.0515517790775561,5.2405552622113412,6.4518885581733008,6.4518885581733016,6.3690559441379175,6.648892319318084,5.440723651759213,null,null,null,null,null,null,"Jughandle","Jughandle",null,null,"Nonmotorized",6.9338901738356142,6.9338901738356142,4.4933568103568549,2.6789887174879183,2.6789887174879183,2.6789887174879183,2.8256074999909058,2.8256074999909058,6.0515517790775561,6.0515517790775561,5.2405552622113412,6.4518885581733008,6.4518885581733016,6.3690559441379175,6.648892319318084,5.440723651759213]
[null,"Total",{"$f":"SUM(C28:C31)","v":7.6339688579663934},{"$f":"SUM(D28:D31)","v":7.607581636908133},4.6763504444401285,2.7068399961501077,2.7068399961501077,2.7068399961501077,3.0890609170962802,3.0890609170962802,{"$f":"SUM(K28:K31)","v":6.5326345273347304},6.5326345273347304,5.4960039207779969,7.0824694529674854,7.0425669618602615,6.8594630000844425,7.2397093344225301,5.6640460616491604,null,null,null,null,null,null,null,null,null,null,"Total",{"$f":"SUM(AD28:AD31)","v":7.6339688579663934},{"$f":"SUM(AE28:AE31)","v":7.607581636908133},4.6763504444401285,2.7068399961501077,2.7068399961501077,2.7068399961501077,3.0890609170962802,3.0890609170962802,{"$f":"SUM(AL28:AL31)","v":6.5326345273347304},6.5326345273347304,5.4960039207779969,7.0824694529674854,7.0425669618602615,6.8594630000844425,7.2397093344225301,5.6640460616491604]
[]
[null,"Average P(FSI)",null,null,null,null,null,null,null,null,null,null,null,null,null,null,null,null,null,null,null,null,null,null,null,null,null,null,"Average P(FSI)"]
[null,null,"Trad_Sig","Trad_MinorStop","Trad_AllStop","RAB1x1","RAB2x1","RAB2x2","RCUT_Sig","RCUT_Unsig","ThruCut_Sig","ThruCut_Unsig","MUT","PDLT","FDLT","QR","Jughandle","Bowtie",null,null,null,null,null,null,null,null,null,null,null,"Trad_Sig","Trad_MinorStop","Trad_AllStop","RAB1x1","RAB2x1","RAB2x2","RCUT_Sig","RCUT_Unsig","ThruCut_Sig","ThruCut_Unsig","MUT","PDLT","FDLT","QR","Jughandle","Bowtie"]
[null,"Crossing",{"$f":"C28/C13","v":3.9374842505356146E-2},{"$f":"D28/D13","v":3.7725641189214877E-2},1.0895928064475997E-2,4.1698027385763141E-3,4.1698027385763141E-3,4.1698027385763141E-3,9.0286582411373745E-2,9.0286582411373745E-2,{"$f":"K28/K13","v":4.7491431458181604E-2},4.7491431458181604E-2,4.4689345500568335E-2,4.0035692196364533E-2,4.3201823963574998E-2,4.0927584405049913E-2,4.0181659702600965E-2,4.4689345500568335E-2,null,null,null,null,null,null,null,null,null,null,"Crossing",{"$f":"AD28/AD13","v":3.9374842505356146E-2},{"$f":"AE28/AE13","v":3.7725641189214877E-2},1.0895928064475997E-2,4.1698027385763141E-3,4.1698027385763141E-3,4.1698027385763141E-3,9.0286582411373745E-2,9.0286582411373745E-2,{"$f":"AL28/AL13","v":4.7491431458181604E-2},4.7491431458181604E-2,4.4689345500568335E-2,4.0035692196364533E-2,4.3201823963574998E-2,4.0927584405049913E-2,4.0181659702600965E-2,4.4689345500568335E-2]
[null,"Merging",{"$f":"C29/C14","v":6.0963748238522207E-3},6.0963748238522207E-3,1.0817075175764881E-3,1.374463454784178E-3,1.374463454784178E-3,1.374463454784178E-3,9.0460352685773782E-3,9.0460352685773782E-3,{"$f":"K29/K14","v":9.0682468365996527E-3},9.0682468365996527E-3,9.2303920563134925E-3,6.0963748238522224E-3,6.3682888337246706E-3,5.5822226673596471E-3,6.3490989673376649E-3,5.0835392515808028E-3,null,null,null,null,null,null,null,null,null,null,"Merging",{"$f":"AD29/AD14","v":6.0963748238522207E-3},6.0963748238522207E-3,1.0817075175764881E-3,1.374463454784178E-3,1.374463454784178E-3,1.374463454784178E-3,9.0460352685773782E-3,9.0460352685773782E-3,{"$f":"AL29/AL14","v":9.0682468365996527E-3},9.0682468365996527E-3,9.2303920563134925E-3,6.0963748238522224E-3,6.3682888337246706E-3,5.5822226673596471E-3,6.3490989673376649E-3,5.0835392515808028E-3]
[null,"Diverging",2.6637756817828712E-3,2.6637756817828712E-3,6.4061388075216071E-7,2.2045008701330221E-5,2.2045008701330221E-5,2.2045008701330221E-5,4.7673401118604655E-3,4.7673401118604655E-3,{"$f":"K30/K15","v":3.5756652373655374E-3},3.5756652373655374E-3,3.5514873710835782E-3,2.6637756817828712E-3,2.6637756817828712E-3,2.5308985222429504E-3,2.2078309039915383E-3,2.3439653963648697E-3,null,null,null,null,null,null,null,null,null,null,"Diverging",{"$f":"AD30/AD15","v":2.6637756817828712E-3},2.6637756817828712E-3,6.4061388075216071E-7,2.2045008701330221E-5,2.2045008701330221E-5,2.2045008701330221E-5,4.7673401118604655E-3,4.7673401118604655E-3,{"$f":"AL30/AL15","v":3.5756652373655374E-3},3.5756652373655374E-3,3.5514873710835782E-3,2.6637756817828712E-3,2.6637756817828712E-3,2.5308985222429504E-3,2.2078309039915383E-3,2.3439653963648697E-3]
[null,"Nonmotorized",0.28891209057648393,0.28891209057648393,0.18722320043153562,0.33487358968598979,0.33487358968598979,0.33487358968598979,0.28256074999909059,0.28256074999909059,{"$f":"K31/K16","v":0.30257758895387782},0.30257758895387782,0.32753470388820882,0.32259442790866505,0.3225944279086651,0.26537733100574656,0.28908227475296017,0.34004522823495081,null,null,null,null,null,null,null,null,null,null,"Nonmotorized",{"$f":"AD31/AD16","v":0.28891209057648393},0.28891209057648393,0.18722320043153562,0.33487358968598979,0.33487358968598979,0.33487358968598979,0.28256074999909059,0.28256074999909059,{"$f":"AL31/AL16","v":0.30257758895387782},0.30257758895387782,0.32753470388820882,0.32259442790866505,0.3225944279086651,0.26537733100574656,0.28908227475296017,0.34004522823495081]
[null,"Total",{"$f":"C32/C17","v":0.1363208724636856},0.13584967208764523,8.3506257936430864E-2,9.667285700536099E-2,9.667285700536099E-2,9.667285700536099E-2,0.12871087154567834,0.12871087154567834,{"$f":"K32/K17","v":0.14846896653033478},0.14846896653033478,0.1717501225243124,0.14164938905934971,0.14672014503875544,0.12702709259415634,0.13922517950812557,0.17700143942653626,null,null,null,null,null,null,null,null,null,null,"Total",{"$f":"AD32/AD17","v":0.1363208724636856},{"$f":"AE32/AE17","v":0.13584967208764523},8.3506257936430864E-2,9.667285700536099E-2,9.667285700536099E-2,9.667285700536099E-2,0.12871087154567834,0.12871087154567834,{"$f":"AL32/AL17","v":0.14846896653033478},0.14846896653033478,0.1717501225243124,0.14164938905934971,0.14672014503875544,0.12702709259415634,0.13922517950812557,0.17700143942653626]
[]
[null,"Average Complexity",null,null,null,null,null,null,null,null,null,null,null,null,null,null,null,null,null,null,null,null,null,null,null,null,null,null,"Average Complexity"]
[null,null,"Trad_Sig","Trad_MinorStop","Trad_AllStop","RAB1x1","RAB2x1","RAB2x2","RCUT_Sig","RCUT_Unsig","ThruCut_Sig","ThruCut_Unsig","MUT","PDLT","FDLT","QR","Jughandle","Bowtie",null,null,null,null,null,null,null,null,null,null,null,"Trad_Sig","Trad_MinorStop","Trad_AllStop","RAB1x1","RAB2x1","RAB2x2","RCUT_Sig","RCUT_Unsig","ThruCut_Sig","ThruCut_Unsig","MUT","PDLT","FDLT","QR","Jughandle","Bowtie"]
[null,"Crossing",{"$f":"AVERAGEIF(INDIRECT(C$43&\"!$B$4:$B$100\"),\"*\"&$B44&\"*\",INDIRECT(C$43&\"!$AI$4:$AI$100\"))","v":2.2854166666666664},2.8515625000000009,2.7942708333333339,0.61111111111111105,0.91666666666666663,1.2222222222222221,0.84166666666666656,1.2083333333333335,1.5690104166666665,2.0013020833333335,0.84166666666666656,1.8787202380952375,1.3567199074074072,1.5173923611111111,2.2891786858974359,1.6833333333333331,null,null,null,null,null,null,null,null,null,null,"Crossing",{"$f":"C44","v":2.2854166666666664},2.8515625000000009,2.7942708333333339,0.61111111111111105,0.91666666666666663,1.2222222222222221,0.84166666666666656,1.2083333333333335,1.5690104166666665,2.0013020833333335,{"$f":"M44","v":0.84166666666666656},1.8787202380952375,1.3567199074074072,1.5173923611111111,2.2891786858974359,1.6833333333333331]
[null,"Merging",1.6307291666666666,2.3411458333333335,2.3411458333333335,0.61111111111111105,0.99305555555555558,1.1458333333333333,0.7715277777777777,1.1076388888888891,1.1481770833333333,1.3971354166666665,0.7715277777777777,2.2236979166666662,2.0132812499999999,1.0426496527777778,1.4403897569444444,1.1630787037037036,null,null,null,null,null,null,null,null,null,null,"Merging",{"$f":"C45","v":1.6307291666666666},{"$f":"D45","v":2.3411458333333335},2.3411458333333335,0.61111111111111105,0.99305555555555558,1.1458333333333333,0.7715277777777777,1.1076388888888891,1.1481770833333333,1.3971354166666665,0.7715277777777777,2.2236979166666662,2.0132812499999999,1.0426496527777778,1.4403897569444444,1.1630787037037036]
[null,"Diverging",1,1,1,1,1,1,1,1,1,1,1,1,1,1,1,1,null,null,null,null,null,null,null,null,null,null,"Diverging",1,1,1,1,1,1,1,1,1,1,1,1,1,1,1,1]
[null,"Nonmotorized",3.59375,5.390625,4.53125,1.2222222222222223,1.8333333333333333,2.4444444444444446,1.7332722222222223,3.1071111111111107,1.7083027777777773,2.9681388888888884,1.360470486111111,6.2323958333333334,5.7076166666666683,2.5583159722222222,2.8304535024154593,2.4197916666666663,null,null,null,null,null,null,null,null,null,null,"Nonmotorized",3.59375,5.390625,4.53125,1.2222222222222223,1.8333333333333333,2.4444444444444446,1.7332722222222223,3.1071111111111107,1.7083027777777773,2.9681388888888884,1.360470486111111,6.2323958333333334,5.7076166666666683,2.5583159722222222,2.8304535024154593,2.4197916666666663]
[null,"Total",{"$f":"AVERAGE(INDIRECT(C$43&\"!$AI$4:$AI$100\"))","v":2.5689732142857138},{"$f":"AVERAGE(INDIRECT(D$43&\"!$AI$4:$AI$100\"))","v":3.6023065476190479},3.2176339285714284,0.89682539682539653,1.2242063492063493,1.4861111111111109,1.2352175925925926,1.9222337962962965,1.4523535353535353,2.1488699494949497,1.1176050347222222,3.5347916666666679,3.2195671296296307,1.7962963605967079,2.1996706063034188,1.8258897569444448,null,null,null,null,null,null,null,null,null,null,"Total",{"$f":"AVERAGE(INDIRECT(AD$43&\"!$AI$4:$AI$100\"))","v":2.5689732142857138},{"$f":"AVERAGE(INDIRECT(AE$43&\"!$AI$4:$AI$100\"))","v":3.6023065476190479},3.2176339285714284,0.89682539682539653,1.2242063492063493,1.4861111111111109,1.2352175925925926,1.9222337962962965,1.4523535353535353,2.1488699494949497,1.1176050347222222,3.5347916666666679,3.2195671296296307,1.7962963605967079,2.1996706063034188,1.8258897569444448]
[]
[null,"Exposure-Severity-Complexity Product",null,null,null,null,null,null,null,null,null,null,null,null,null,null,null,null,null,null,null,null,null,null,null,null,null,null,"Exposure-Severity-Complexity Product"]
[null,null,"Trad_Sig","Trad_MinorStop","Trad_AllStop","RAB1x1","RAB2x1","RAB2x2","RCUT_Sig","RCUT_Unsig","ThruCut_Sig","ThruCut_Unsig","MUT","PDLT","FDLT","QR","Jughandle","Bowtie",null,null,null,null,null,null,null,null,null,null,null,"Trad_Sig","Trad_MinorStop","Trad_AllStop","RAB1x1","RAB2x1","RAB2x2","RCUT_Sig","RCUT_Unsig","ThruCut_Sig","ThruCut_Unsig","MUT","PDLT","FDLT","QR","Jughandle","Bowtie"]
[null,"Crossing",{"$f":"SUMIF(INDIRECT(C$51&\"!$B$4:$B$100\"),\"*\"&$B52&\"*\",INDIRECT(C$51&\"!$AK$4:$AK$100\"))","v":{"$error":"#VALUE!"}},{"$error":"#VALUE!"},{"$error":"#VALUE!"},{"$error":"#VALUE!"},{"$error":"#VALUE!"},{"$error":"#VALUE!"},{"$error":"#VALUE!"},{"$error":"#VALUE!"},{"$error":"#VALUE!"},{"$error":"#VALUE!"},{"$error":"#VALUE!"},{"$error":"#VALUE!"},{"$error":"#VALUE!"},{"$error":"#VALUE!"},{"$error":"#VALUE!"},{"$error":"#VALUE!"},null,null,null,null,null,null,null,null,null,null,"Crossing",{"$f":"SUMIF(INDIRECT(AD$51&\"!$B$4:$B$100\"),\"*\"&$AC52&\"*\",INDIRECT(AD$51&\"!$AK$103:$AK$200\"))","v":{"$error":"#VALUE!"}},{"$f":"SUMIF(INDIRECT(AE$51&\"!$B$4:$B$100\"),\"*\"&$AC52&\"*\",INDIRECT(AE$51&\"!$AK$103:$AK$200\"))","v":{"$error":"#VALUE!"}},{"$error":"#VALUE!"},{"$error":"#VALUE!"},{"$error":"#VALUE!"},{"$error":"#VALUE!"},{"$error":"#VALUE!"},{"$error":"#VALUE!"},{"$error":"#VALUE!"},{"$error":"#VALUE!"},{"$error":"#VALUE!"},{"$error":"#VALUE!"},{"$error":"#VALUE!"},{"$error":"#VALUE!"},{"$error":"#VALUE!"},{"$error":"#VALUE!"}]
[null,"Merging",{"$error":"#VALUE!"},{"$error":"#VALUE!"},{"$error":"#VALUE!"},{"$error":"#VALUE!"},{"$error":"#VALUE!"},{"$error":"#VALUE!"},{"$error":"#VALUE!"},{"$error":"#VALUE!"},{"$error":"#VALUE!"},{"$error":"#VALUE!"},{"$error":"#VALUE!"},{"$error":"#VALUE!"},{"$error":"#VALUE!"},{"$error":"#VALUE!"},{"$error":"#VALUE!"},{"$error":"#VALUE!"},null,null,null,null,null,null,null,null,null,null,"Merging",{"$f":"SUMIF(INDIRECT(AD$51&\"!$B$4:$B$100\"),\"*\"&$AC53&\"*\",INDIRECT(AD$51&\"!$AK$103:$AK$200\"))","v":{"$error":"#VALUE!"}},{"$error":"#VALUE!"},{"$error":"#VALUE!"},{"$error":"#VALUE!"},{"$error":"#VALUE!"},{"$error":"#VALUE!"},{"$error":"#VALUE!"},{"$error":"#VALUE!"},{"$error":"#VALUE!"},{"$error":"#VALUE!"},{"$error":"#VALUE!"},{"$error":"#VALUE!"},{"$error":"#VALUE!"},{"$error":"#VALUE!"},{"$error":"#VALUE!"},{"$error":"#VALUE!"}]
[null,"Diverging",{"$error":"#VALUE!"},{"$error":"#VALUE!"},{"$error":"#VALUE!"},{"$error":"#VALUE!"},{"$error":"#VALUE!"},{"$error":"#VALUE!"},{"$error":"#VALUE!"},{"$error":"#VALUE!"},{"$error":"#VALUE!"},{"$error":"#VALUE!"},{"$error":"#VALUE!"},{"$error":"#VALUE!"},{"$error":"#VALUE!"},{"$error":"#VALUE!"},{"$error":"#VALUE!"},{"$error":"#VALUE!"},null,null,null,null,null,null,null,null,null,null,"Diverging",{"$error":"#VALUE!"},{"$error":"#VALUE!"},{"$error":"#VALUE!"},{"$error":"#VALUE!"},{"$error":"#VALUE!"},{"$error":"#VALUE!"},{"$error":"#VALUE!"},{"$error":"#VALUE!"},{"$error":"#VALUE!"},{"$error":"#VALUE!"},{"$error":"#VALUE!"},{"$error":"#VALUE!"},{"$error":"#VALUE!"},{"$error":"#VALUE!"},{"$error":"#VALUE!"},{"$error":"#VALUE!"}]
[null,"Nonmotorized",{"$error":"#VALUE!"},{"$error":"#VALUE!"},{"$error":"#VALUE!"},{"$error":"#VALUE!"},{"$error":"#VALUE!"},{"$error":"#VALUE!"},{"$error":"#VALUE!"},{"$error":"#VALUE!"},{"$error":"#VALUE!"},{"$error":"#VALUE!"},{"$error":"#VALUE!"},{"$error":"#VALUE!"},{"$error":"#VALUE!"},{"$error":"#VALUE!"},{"$error":"#VALUE!"},{"$error":"#VALUE!"},null,null,null,null,null,null,null,null,null,null,"Nonmotorized",{"$error":"#VALUE!"},{"$error":"#VALUE!"},{"$error":"#VALUE!"},{"$error":"#VALUE!"},{"$error":"#VALUE!"},{"$error":"#VALUE!"},{"$error":"#VALUE!"},{"$error":"#VALUE!"},{"$error":"#VALUE!"},{"$error":"#VALUE!"},{"$error":"#VALUE!"},{"$error":"#VALUE!"},{"$error":"#VALUE!"},{"$error":"#VALUE!"},{"$error":"#VALUE!"},{"$error":"#VALUE!"}]
[null,"Total",{"$f":"SUM(C52:C55)","v":{"$error":"#VALUE!"}},{"$f":"SUM(D52:D55)","v":{"$error":"#VALUE!"}},{"$error":"#VALUE!"},{"$error":"#VALUE!"},{"$error":"#VALUE!"},{"$error":"#VALUE!"},{"$error":"#VALUE!"},{"$error":"#VALUE!"},{"$f":"SUM(K52:K55)","v":{"$error":"#VALUE!"}},{"$error":"#VALUE!"},{"$error":"#VALUE!"},{"$error":"#VALUE!"},{"$error":"#VALUE!"},{"$error":"#VALUE!"},{"$error":"#VALUE!"},{"$error":"#VALUE!"},null,null,null,null,null,null,null,null,null,null,"Total",{"$f":"SUM(AD52:AD55)","v":{"$error":"#VALUE!"}},{"$f":"SUM(AE52:AE55)","v":{"$error":"#VALUE!"}},{"$error":"#VALUE!"},{"$error":"#VALUE!"},{"$error":"#VALUE!"},{"$error":"#VALUE!"},{"$error":"#VALUE!"},{"$error":"#VALUE!"},{"$f":"SUM(AL52:AL55)","v":{"$error":"#VALUE!"}},{"$error":"#VALUE!"},{"$error":"#VALUE!"},{"$error":"#VALUE!"},{"$error":"#VALUE!"},{"$error":"#VALUE!"},{"$error":"#VALUE!"},{"$error":"#VALUE!"}]

{"sheet":"ThruCut_Sig","index":29,"n_rows":146,"n_cols":72,"rows_kept":146,"cut":false,"hidden":true,"merged":[[1,34,2,34],[1,36,2,36],[1,39,1,54],[1,56,1,71],[100,9,100,11],[100,36,101,36],[0,19,0,28],[0,30,0,32],[1,9,1,11],[1,13,1,17],[1,21,1,25],[1,27,1,28],[1,30,2,30],[1,31,2,31],[1,32,2,32]]}
[null,null,null,null,null,null,null,null,null,null,null,null,null,null,null,null,null,null,null,"Conflicting Traffic Complexity",null,null,null,null,null,null,null,null,null,null,"Pedestrian Complexity"]
[null,null,null,null,null,null,null,null,null,"Exposure",null,null,null,"Severity",null,null,null,null,null,"Traffic Control",null,"Conflicting Lanes",null,null,null,null,null,"Conflicting Speed",null,null,"Indirect Paths Indicator","Non-intuitive movements indicator","Pedestrian Complexity factor",null,"Total Complexity Multiplier",null,"Exposure-Severity-Complexity Product",null,null,"Included in Mvmt1",null,null,null,null,null,null,null,null,null,null,null,null,null,null,null,null,"Included in Mvmt2"]
["#","Conflict Type","Mvmt1","Mvmt1_gen","Mvmt1_SpeedCat","Mvmt2","Mvmt2_gen","Mvmt2_SpeedCat",null,"Q1","Q2","I",null,"Speed_V1","Speed_V2","Angle","delta_V","P_FSI",null,null,null,"MajC","MinC","MajM/P","MinM/P","Score",null,"Speed","Factor",null,null,null,null,null,null,null,null,null,null,"MajT1","MajL1","MajR1","MajT2","MajL2","MajR2","MinT1","MinL1","MinR1","MinT2","MinL2","MinR2","MajNM1","MajNM2","MinNM1","MinNM2",null,"MajT1","MajL1","MajR1","MajT2","MajL2","MajR2","MinT1","MinL1","MinR1","MinT2","MinL2","MinR2","MajNM1","MajNM2","MinNM1","MinNM2"]
[1,"Crossing - LT","NBL","MinL1","Signal far","EBL","MajL1","Major left",null,{"$f":"SUMPRODUCT($AN4:$BC4,$AN$48:$BC$48)","v":{"$error":"#VALUE!"}},{"$f":"SUMPRODUCT($BE4:$BT4,$BE$48:$BT$48)","v":{"$error":"#VALUE!"}},{"$f":"PRODUCT(J4:K4)","v":{"$error":"#VALUE!"}},null,{"$f":"VLOOKUP(E4,SSI_AGI_Range_VehSpeed,5,FALSE)","v":25},{"$f":"VLOOKUP(H4,SSI_AGI_Range_VehSpeed,5,FALSE)","v":20},{"$f":"IF(B4=\"Nonmotorized\",\"\",VLOOKUP(B4,SSI_AGI_Range_CollAngles,5,FALSE))","v":230},{"$f":"IF(B4=\"Nonmotorized\",\"\",SQRT(N4^2+O4^2-2*N4*O4*COS(RADIANS(P4)))/2)","v":20.419277715473552},{"$f":"IF(B4=\"Nonmotorized\",1/(1+EXP(3.8432-0.1237*O4)),(Q4/SSI_AGI_RegAlpha)^SSI_AGI_RegK+(Q4/SSI_AGI_RegAlpha)^SSI_AGI_RegK-((Q4/SSI_AGI_RegAlpha)^SSI_AGI_RegK)*((Q4/SSI_AGI_RegAlpha)^SSI_AGI_RegK))","v":2.1555284139167314E-2},null,{"$f":"SSI_AGI_ProtFactor","v":0.505},null,1,null,1,null,{"$f":"MAX(1,IF(B4<>\"Pedestrian\",V4*SSI_AGI_MajorThruLanes+W4*SSI_AGI_MinorThruLanes+X4*IF(SSI_AGI_MajorThruLanes=1,SSI_AGI_MergeWeightL1,IF(SSI_AGI_MajorThruLanes=2,SSI_AGI_MergeWeightL1+SSI_AGI_MergeWeightL2,SSI_AGI_MergeWeightL1+SSI_AGI_MergeWeightL2+SSI_AGI_MergeWeightL3*(SSI_AGI_MajorThruLanes-2)))+Y4*IF(SSI_AGI_MinorThruLanes=1,SSI_AGI_MergeWeightL1,IF(SSI_AGI_MinorThruLanes=2,SSI_AGI_MergeWeightL1+SSI_AGI_MergeWeightL2,SSI_AGI_MergeWeightL1+SSI_AGI_MergeWeightL2+SSI_AGI_MergeWeightL3*(SSI_AGI_MinorThruLanes-2))),V4*SSI_AGI_MajorThruLanes+W4*SSI_AGI_MinorThruLanes+X4*IF(SSI_AGI_MajorThruLanes=1,SSI_AGI_NM_MergeWeightL1,IF(SSI_AGI_MajorThruLanes=2,SSI_AGI_NM_MergeWeightL1+SSI_AGI_NM_MergeWeightL2,SSI_AGI_NM_MergeWeightL1+SSI_AGI_NM_MergeWeightL2+SSI_AGI_NM_MergeWeightL3*(SSI_AGI_MajorThruLanes-2)))+Y4*IF(SSI_AGI_MinorThruLanes=1,SSI_AGI_NM_MergeWeightL1,IF(SSI_AGI_MinorThruLanes=2,SSI_AGI_NM_MergeWeightL1+SSI_AGI_NM_MergeWeightL2,SSI_AGI_NM_MergeWeightL1+SSI_AGI_NM_MergeWeightL2+SSI_AGI_NM_MergeWeightL3*(SSI_AGI_MinorThruLanes-2)))))","v":3.75},null,{"$f":"IF(B4=\"Diverging\",\"\",SSI_AGI_VehSpeed_MjrThru)","v":45},{"$f":"IF(B4=\"Diverging\",1,1-((60-AB4)/60*0.1/0.15))","v":0.83333333333333326},null,null,null,{"$f":"IF(SSI_AGI_ConsiderNMComplexity=\"Y\",1+AE4+AF4,1)","v":1},null,{"$f":"PRODUCT(Z4,T4,AC4,AG4)","v":1.578125},null,{"$f":"L4*R4*AI4","v":{"$error":"#VALUE!"}},null,null,{"$f":"IF(ISNUMBER(SEARCH(AN$3,$D4)),1,\"\")","v":""},{"$f":"IF(ISNUMBER(SEARCH(AO$3,$D4)),1,\"\")","v":""},"","","","","",1,"","","","","","","","",null,{"$f":"IF(ISNUMBER(SEARCH(BE$3,$G4)),1,\"\")","v":""},{"$f":"IF(ISNUMBER(SEARCH(BF$3,$G4)),1,\"\")","v":1},"","","","","","","","","","","","","",""]
[2,"Crossing - LT","NBL","MinL1","Signal near","WBL","MajL2","Major left",null,{"$error":"#VALUE!"},{"$error":"#VALUE!"},{"$f":"PRODUCT(J5:K5)","v":{"$error":"#VALUE!"}},null,15,20,230,{"$f":"IF(B5=\"Nonmotorized\",\"\",SQRT(N5^2+O5^2-2*N5*O5*COS(RADIANS(P5)))/2)","v":15.895538413434787},8.3616736100371545E-3,null,{"$f":"SSI_AGI_ProtFactor","v":0.505},null,1,null,1,null,3.75,null,45,0.83333333333333326,null,null,null,1,null,1.578125,null,{"$f":"L5*R5*AI5","v":{"$error":"#VALUE!"}},null,null,{"$f":"IF(ISNUMBER(SEARCH(AN$3,$D5)),1,\"\")","v":""},"","","","","","",1,"","","","","","","","",null,{"$f":"IF(ISNUMBER(SEARCH(BE$3,$G5)),1,\"\")","v":""},"","","",1,"","","","","","","","","","",""]
[3,"Crossing - LT","WBL","MajL2","Major left","EBT","MajT1","Major thru",null,{"$error":"#VALUE!"},{"$error":"#VALUE!"},{"$error":"#VALUE!"},null,20,45,230,29.924979939156898,9.0286582411373745E-2,null,{"$f":"IF(SSI_AGI_MajorLTPhase=\"Protected/permitted\",SSI_AGI_ProtPermFactor,IF(SSI_AGI_MajorLTPhase=\"Protected\",SSI_AGI_ProtFactor,SSI_AGI_PermFactor))","v":0.92500000000000004},null,1,null,null,null,2,null,45,0.83333333333333326,null,null,null,1,null,1.5416666666666665,null,{"$error":"#VALUE!"},null,null,"","","","",1,"","","","","","","","","","","",null,1,"","","","","","","","","","","","","","",""]
[4,"Crossing - LT","NBL","MinL1","Signal near","EBT","MajT1","Major thru",null,{"$error":"#VALUE!"},{"$error":"#VALUE!"},{"$error":"#VALUE!"},null,15,45,230,27.918467333813421,6.9762185672148203E-2,null,{"$f":"SSI_AGI_ProtFactor","v":0.505},null,1,null,1,null,3.75,null,45,0.83333333333333326,null,null,null,1,null,1.578125,null,{"$error":"#VALUE!"},null,null,"","","","","","","",1,"","","","","","","","",null,1,"","","","","","","","","","","","","","",""]
[5,"Crossing - LT","SBL","MinL2","Signal far","WBL","MajL2","Major left",null,{"$error":"#VALUE!"},{"$error":"#VALUE!"},{"$error":"#VALUE!"},null,25,20,230,20.419277715473552,2.1555284139167314E-2,null,{"$f":"SSI_AGI_ProtFactor","v":0.505},null,1,null,1,null,3.75,null,45,0.83333333333333326,null,null,null,1,null,1.578125,null,{"$error":"#VALUE!"},null,null,"","","","","","","","","","",1,"","","","","",null,"","","","",1,"","","","","","","","","","",""]
[6,"Crossing - LT","SBL","MinL2","Signal near","EBL","MajL1","Major left",null,{"$error":"#VALUE!"},{"$error":"#VALUE!"},{"$error":"#VALUE!"},null,15,20,230,15.895538413434787,8.3616736100371545E-3,null,{"$f":"SSI_AGI_ProtFactor","v":0.505},null,1,null,1,null,3.75,null,45,0.83333333333333326,null,null,null,1,null,1.578125,null,{"$error":"#VALUE!"},null,null,"","","","","","","","","","",1,"","","","","",null,"",1,"","","","","","","","","","","","","",""]
[7,"Crossing - LT","EBL","MajL1","Major left","WBT","MajT2","Major thru",null,{"$error":"#VALUE!"},{"$error":"#VALUE!"},{"$error":"#VALUE!"},null,20,45,230,29.924979939156898,9.0286582411373745E-2,null,{"$f":"IF(SSI_AGI_MajorLTPhase=\"Protected/permitted\",SSI_AGI_ProtPermFactor,IF(SSI_AGI_MajorLTPhase=\"Protected\",SSI_AGI_ProtFactor,SSI_AGI_PermFactor))","v":0.92500000000000004},null,1,null,null,null,2,null,45,0.83333333333333326,null,null,null,1,null,1.5416666666666665,null,{"$error":"#VALUE!"},null,null,"",1,"","","","","","","","","","","","","","",null,"","","",1,"","","","","","","","","","","",""]
[8,"Crossing - LT","SBL","MinL2","Signal near","WBT","MajT2","Major thru",null,{"$error":"#VALUE!"},{"$error":"#VALUE!"},{"$error":"#VALUE!"},null,15,45,230,27.918467333813421,6.9762185672148203E-2,null,{"$f":"SSI_AGI_ProtFactor","v":0.505},null,1,null,1,null,3.75,null,45,0.83333333333333326,null,null,null,1,null,1.578125,null,{"$error":"#VALUE!"},null,null,"","","","","","","","","","",1,"","","","","",null,"","","",1,"","","","","","","","","","","",""]
[9,"Merging","EBL","MajL1","Major left","WBR, NBT","MajR2, MinT1","Major right",null,{"$error":"#VALUE!"},{"$error":"#VALUE!"},{"$error":"#VALUE!"},null,20,15,45,7.0840654162717795,3.9022923271840544E-4,null,{"$f":"IF(SSI_AGI_MajorLTPhase=\"Protected/permitted\",SSI_AGI_ProtPermFactor,IF(SSI_AGI_MajorLTPhase=\"Protected\",SSI_AGI_ProtFactor,SSI_AGI_PermFactor))","v":0.92500000000000004},null,1,null,null,null,2,null,45,0.83333333333333326,null,null,null,1,null,1.5416666666666665,null,{"$error":"#VALUE!"},null,null,"",1,"","","","","","","","","","","","","","",null,"","","","","",1,1,"","","","","","","","",""]
[10,"Merging","SBR, SBT","MinR2, MinT2","Signal near","WBT","MajT2","Major thru",null,{"$error":"#VALUE!"},{"$error":"#VALUE!"},{"$error":"#VALUE!"},null,15,45,45,17.995873453365363,1.3373938286506865E-2,null,{"$f":"SSI_AGI_ProtFactor","v":0.505},null,null,null,1,null,1.75,null,45,0.83333333333333326,null,null,null,1,null,0.73645833333333333,null,{"$error":"#VALUE!"},null,null,"","","","","","","","","",1,"",1,"","","","",null,"","","",1,"","","","","","","","","","","",""]
[11,"Merging","NBL","MinL1","Signal far","WBT","MajT2","Major thru",null,{"$error":"#VALUE!"},{"$error":"#VALUE!"},{"$error":"#VALUE!"},null,25,45,45,16.271214938736659,9.1348815406664795E-3,null,{"$f":"SSI_AGI_ProtFactor","v":0.505},null,1,null,1,null,3.75,null,45,0.83333333333333326,null,null,null,1,null,1.578125,null,{"$error":"#VALUE!"},null,null,"","","","","","","",1,"","","","","","","","",null,"","","",1,"","","","","","","","","","","",""]
[12,"Merging","SBT","MinT2","Signal near","EBT, EBL, EBR","MajT1, MajL1, MajR1","Major thru",null,{"$error":"#VALUE!"},{"$error":"#VALUE!"},{"$error":"#VALUE!"},null,15,45,45,17.995873453365363,1.3373938286506865E-2,null,{"$f":"SSI_AGI_ProtFactor","v":0.505},null,null,null,1,null,1.75,null,45,0.83333333333333326,null,null,null,1,null,0.73645833333333333,null,{"$error":"#VALUE!"},null,null,"","","","","","","","","",1,"","","","","","",null,1,1,1,"","","","","","","","","","","","",""]
[13,"Merging","WBL","MajL2","Major left","EBR, SBT","MajR1, MinT2","Major right",null,{"$error":"#VALUE!"},{"$error":"#VALUE!"},{"$error":"#VALUE!"},null,20,15,45,7.0840654162717795,3.9022923271840544E-4,null,{"$f":"IF(SSI_AGI_MajorLTPhase=\"Protected/permitted\",SSI_AGI_ProtPermFactor,IF(SSI_AGI_MajorLTPhase=\"Protected\",SSI_AGI_ProtFactor,SSI_AGI_PermFactor))","v":0.92500000000000004},null,1,null,null,null,2,null,45,0.83333333333333326,null,null,null,1,null,1.5416666666666665,null,{"$error":"#VALUE!"},null,null,"","","","",1,"","","","","","","","","","","",null,"","",1,"","","","","","",1,"","","","","",""]
[14,"Merging","SBL","MinL2","Signal far","EBT","MajT1","Major thru",null,{"$error":"#VALUE!"},{"$error":"#VALUE!"},{"$error":"#VALUE!"},null,25,45,45,16.271214938736659,9.1348815406664795E-3,null,{"$f":"SSI_AGI_ProtFactor","v":0.505},null,1,null,1,null,3.75,null,45,0.83333333333333326,null,null,null,1,null,1.578125,null,{"$error":"#VALUE!"},null,null,"","","","","","","","","","",1,"","","","","",null,1,"","","","","","","","","","","","","","",""]
[15,"Merging","NBR, NBT","MinR1, MinT1","Signal near","EBT","MajT1","Major thru",null,{"$error":"#VALUE!"},{"$error":"#VALUE!"},{"$error":"#VALUE!"},null,15,45,45,17.995873453365363,1.3373938286506865E-2,null,{"$f":"SSI_AGI_ProtFactor","v":0.505},null,null,null,1,null,1.75,null,45,0.83333333333333326,null,null,null,1,null,0.73645833333333333,null,{"$error":"#VALUE!"},null,null,"","","","","","",1,"",1,"","","","","","","",null,1,"","","","","","","","","","","","","","",""]
[16,"Merging","NBT","MinT1","Signal near","WBT, WBL, WBR","MajT2, MajL2, MajR2","Major thru",null,{"$error":"#VALUE!"},{"$error":"#VALUE!"},{"$error":"#VALUE!"},null,15,45,45,17.995873453365363,1.3373938286506865E-2,null,{"$f":"SSI_AGI_ProtFactor","v":0.505},null,null,null,1,null,1.75,null,45,0.83333333333333326,null,null,null,1,null,0.73645833333333333,null,{"$error":"#VALUE!"},null,null,"","","","","","",1,"","","","","","","","","",null,"","","",1,1,1,"","","","","","","","","",""]
[17,"Diverging","SBR, SBT","MinT2, MinR2","Signal near","SBL","MinL2","Signal near",null,{"$error":"#VALUE!"},{"$error":"#VALUE!"},{"$error":"#VALUE!"},null,15,15,10,1.3073361412148754,6.4061388075216071E-7,null,1,null,null,null,null,null,1,null,"",1,null,null,null,1,null,1,null,{"$error":"#VALUE!"},null,null,"","","","","","","","","",1,"",1,"","","","",null,"","","","","","","","","","",1,"","","","",""]
[18,"Diverging","SBT","MinT2","Major left","WBT, SBR, NBL","MajT2, MinR2, MinL1","Major thru",null,{"$error":"#VALUE!"},{"$error":"#VALUE!"},{"$error":"#VALUE!"},null,20,45,10,12.77053292327718,3.6481988362114144E-3,null,1,null,null,null,null,null,1,null,"",1,null,null,null,1,null,1,null,{"$error":"#VALUE!"},null,null,"","","","","","","","","",1,"","","","","","",null,"","","",1,"","","",1,"","","",1,"","","",""]
[19,"Diverging","EBT, EBR, SBL, SBT","MajT1, MajR1, MinT2","Major thru","EBL","MajL1","Major left",null,{"$error":"#VALUE!"},{"$error":"#VALUE!"},{"$error":"#VALUE!"},null,45,20,10,12.77053292327718,3.6481988362114144E-3,null,1,null,null,null,null,null,1,null,"",1,null,null,null,1,null,1,null,{"$error":"#VALUE!"},null,null,1,"",1,"","","","","","",1,"","","","","","",null,"",1,"","","","","","","","","","","","","",""]
[20,"Diverging","EBT, SBL","MajT1","Major thru","EBR, SBT","MajR1, MinT2","Major right",null,{"$error":"#VALUE!"},{"$error":"#VALUE!"},{"$error":"#VALUE!"},null,45,15,10,15.169950011729762,7.0056226631585675E-3,null,1,null,null,null,null,null,1,null,"",1,null,null,null,1,null,1,null,{"$error":"#VALUE!"},null,null,1,"","","","","","","","","","","","","","","",null,"","",1,"","","","","","",1,"","","","","",""]
[21,"Diverging","NBR, NBT","MinT1, MinR1","Signal near","NBL","MinL1","Signal near",null,{"$error":"#VALUE!"},{"$error":"#VALUE!"},{"$error":"#VALUE!"},null,15,15,10,1.3073361412148754,6.4061388075216071E-7,null,1,null,null,null,null,null,1,null,"",1,null,null,null,1,null,1,null,{"$error":"#VALUE!"},null,null,"","","","","","",1,"",1,"","","","","","","",null,"","","","","","","",1,"","","","","","","",""]
[22,"Diverging","NBT","MinT1","Major left","EBT, NBR, SBL","MajT1, MinR1, MinL2","Major thru",null,{"$error":"#VALUE!"},{"$error":"#VALUE!"},{"$error":"#VALUE!"},null,20,45,10,12.77053292327718,3.6481988362114144E-3,null,1,null,null,null,null,null,1,null,"",1,null,null,null,1,null,1,null,{"$f":"L25*R25*AI25","v":{"$error":"#VALUE!"}},null,null,"","","","","","",1,"","","","","","","","","",null,1,"","","","","","","",1,"",1,"","","","",""]
[23,"Diverging","WBT, WBR, NBL, NBT","MajT2, MajR2, MinT1","Major thru","WBL","MajL2","Major left",null,{"$error":"#VALUE!"},{"$error":"#VALUE!"},{"$error":"#VALUE!"},null,45,20,10,12.77053292327718,3.6481988362114144E-3,null,1,null,null,null,null,null,1,null,"",1,null,null,null,1,null,1,null,{"$error":"#VALUE!"},null,null,"","","",1,"",1,1,"","","","","","","","","",null,"","","","",1,"","","","","","","","","","",""]
[24,"Diverging","WBT, NBL","MajT2","Major thru","WBR, NBT","MajR2, MinT1","Major right",null,{"$error":"#VALUE!"},{"$error":"#VALUE!"},{"$error":"#VALUE!"},null,45,15,10,15.169950011729762,7.0056226631585675E-3,null,1,null,null,null,null,null,1,null,"",1,null,null,null,1,null,1,null,{"$error":"#VALUE!"},null,null,"","","",1,"","","","","","","","","","","","",null,"","","","","",1,1,"","","","","","","","",""]
[25,"Nonmotorized","EB Ped","MajNM1","Nonmotorized","SBR, SBT","MinR2, MinT2","Signal near",null,{"$error":"#VALUE!"},{"$error":"#VALUE!"},{"$error":"#VALUE!"},null,0,15,"","",0.1205004039155782,null,{"$f":"SSI_AGI_ProtFactor","v":0.505},null,1,null,null,2,5.5,null,45,0.83333333333333326,null,null,null,1,null,2.3145833333333332,null,{"$error":"#VALUE!"},null,null,"","","","","","","","","","","","",1,"","","",null,"","","","","","","","","",1,"",1,"","","",""]
[26,"Nonmotorized","EB Ped","MajNM1","Nonmotorized","WBT","MajT2","Major thru",null,{"$error":"#VALUE!"},{"$error":"#VALUE!"},{"$error":"#VALUE!"},null,0,45,"","",0.84855340903216459,null,0.505,null,1,null,null,2,5.5,null,45,0.83333333333333326,null,null,null,1,null,2.3145833333333332,null,{"$error":"#VALUE!"},null,null,"","","","","","","","","","","","",1,"","","",null,"","","",1,"","","","","","","","","","","",""]
[27,"Nonmotorized","EB Ped","MajNM1","Nonmotorized","NBL","MinL1","Signal far",null,{"$error":"#VALUE!"},{"$error":"#VALUE!"},{"$error":"#VALUE!"},null,0,25,"","",0.32066879346345062,null,0.505,null,1,null,null,2,5.5,null,45,0.83333333333333326,null,null,null,1,null,2.3145833333333332,null,{"$error":"#VALUE!"},null,null,"","","","","","","","","","","","",1,"","","",null,"","","","","","","",1,"","","","","","","",""]
[28,"Nonmotorized","EB Ped","MajNM1","Nonmotorized","EBL","MajL1","Major left",null,{"$error":"#VALUE!"},{"$error":"#VALUE!"},{"$error":"#VALUE!"},null,0,20,"","",0.20274912921655375,null,0.505,null,1,null,null,null,2,null,45,0.83333333333333326,null,null,null,1,null,0.84166666666666656,null,{"$error":"#VALUE!"},null,null,"","","","","","","","","","","","",1,"","","",null,"",1,"","","","","","","","","","","","","",""]
[29,"Nonmotorized","EB Ped","MajNM1","Nonmotorized","EBT","MajT1","Major thru",null,{"$error":"#VALUE!"},{"$error":"#VALUE!"},{"$error":"#VALUE!"},null,0,45,"","",0.84855340903216459,null,0.505,null,1,null,null,null,2,null,45,0.83333333333333326,null,null,null,1,null,0.84166666666666656,null,{"$error":"#VALUE!"},null,null,"","","","","","","","","","","","",1,"","","",null,1,"","","","","","","","","","","","","","",""]
[30,"Nonmotorized","EB Ped","MajNM1","Nonmotorized","EBR, SBT","MajR1, MinT2","Major right",null,{"$error":"#VALUE!"},{"$error":"#VALUE!"},{"$error":"#VALUE!"},null,0,15,"","",0.1205004039155782,null,0.505,null,1,null,null,null,2,null,45,0.83333333333333326,null,null,null,1,null,0.84166666666666656,null,{"$error":"#VALUE!"},null,null,"","","","","","","","","","","","",1,"","","",null,"","",1,"","","","","","",1,"","","","","",""]
[31,"Nonmotorized","NB Ped","MinNM1","Nonmotorized","EBR, SBT","MajR1, MinT2","Major right",null,{"$error":"#VALUE!"},{"$error":"#VALUE!"},{"$error":"#VALUE!"},null,0,15,"","",0.1205004039155782,null,0.505,null,null,1,2,null,5.5,null,45,0.83333333333333326,null,null,null,1,null,2.3145833333333332,null,{"$error":"#VALUE!"},null,null,"","","","","","","","","","","","","","",1,"",null,"","",1,"","","","","","",1,"","","","","",""]
[32,"Nonmotorized","NB Ped","MinNM1","Nonmotorized","WBL","MajL2","Major left",null,{"$error":"#VALUE!"},{"$error":"#VALUE!"},{"$error":"#VALUE!"},null,0,20,"","",0.20274912921655375,null,0.505,null,null,1,2,null,5.5,null,45,0.83333333333333326,null,null,null,1,null,2.3145833333333332,null,{"$error":"#VALUE!"},null,null,{"$f":"IF(ISNUMBER(SEARCH(AN$3,$D35)),1,\"\")","v":""},"","","","","","","","","","","","","",1,"",null,{"$f":"IF(ISNUMBER(SEARCH(BE$3,$G35)),1,\"\")","v":""},"","","",1,"","","","","","","","","","",""]
[33,"Nonmotorized","NB Ped","MinNM1","Nonmotorized","NBL","MinL1","Signal near",null,{"$error":"#VALUE!"},{"$error":"#VALUE!"},{"$error":"#VALUE!"},null,0,15,"",{"$f":"IF(B36=\"Nonmotorized\",\"\",SQRT(N36^2+O36^2-2*N36*O36*COS(RADIANS(P36)))/2)","v":""},0.1205004039155782,null,0.505,null,null,1,2,null,5.5,null,45,0.83333333333333326,null,null,null,1,null,2.3145833333333332,null,{"$error":"#VALUE!"},null,null,"","","","","","","","","","","","","","",1,"",null,"","","","","","","",1,"","","","","","","",""]
[34,"Nonmotorized","NB Ped","MinNM1","Nonmotorized","NBR, NBT","MinR1, MinT1","Signal near",null,{"$error":"#VALUE!"},{"$error":"#VALUE!"},{"$f":"PRODUCT(J37:K37)","v":{"$error":"#VALUE!"}},null,0,15,"","",0.1205004039155782,null,0.505,null,null,1,null,null,2,null,{"$f":"IF(B37=\"Diverging\",\"\",SSI_AGI_VehSpeed_MnrThru)","v":29.75},0.66388888888888886,null,null,null,1,null,0.67052777777777772,null,{"$error":"#VALUE!"},null,null,"","","","","","","","","","","","","","",1,"",null,"","","","","","",1,"",1,"","","","","","",""]
[35,"Nonmotorized","WB Ped","MajNM2","Nonmotorized","NBR, NBT","MinR1, MinT1","Signal near",null,{"$error":"#VALUE!"},{"$error":"#VALUE!"},{"$error":"#VALUE!"},null,0,15,"","",0.1205004039155782,null,0.505,null,1,null,null,2,5.5,null,{"$f":"IF(B38=\"Diverging\",\"\",SSI_AGI_VehSpeed_MjrThru)","v":45},0.83333333333333326,null,null,null,1,null,2.3145833333333332,null,{"$error":"#VALUE!"},null,null,"","","","","","","","","","","","","",1,"","",null,"","","","","","",1,"",1,"","","","","","",""]
[36,"Nonmotorized","WB Ped","MajNM2","Nonmotorized","EBT","MajT1","Major thru",null,{"$error":"#VALUE!"},{"$error":"#VALUE!"},{"$error":"#VALUE!"},null,0,45,"","",0.84855340903216459,null,0.505,null,1,null,null,2,5.5,null,45,0.83333333333333326,null,null,null,1,null,2.3145833333333332,null,{"$error":"#VALUE!"},null,null,"","","","","","","","","","","","","",1,"","",null,1,"","","","","","","","","","","","","","",""]
[37,"Nonmotorized","WB Ped","MajNM2","Nonmotorized","SBL","MinL2","Signal far",null,{"$error":"#VALUE!"},{"$error":"#VALUE!"},{"$error":"#VALUE!"},null,0,25,"","",0.32066879346345062,null,0.505,null,1,null,null,2,5.5,null,45,0.83333333333333326,null,null,null,1,null,2.3145833333333332,null,{"$error":"#VALUE!"},null,null,"","","","","","","","","","","","","",1,"","",null,"","","","","","","","","","",1,"","","","",""]
[38,"Nonmotorized","WB Ped","MajNM2","Nonmotorized","WBL","MajL2","Major left",null,{"$error":"#VALUE!"},{"$error":"#VALUE!"},{"$error":"#VALUE!"},null,0,20,"","",0.20274912921655375,null,0.505,null,1,null,null,null,2,null,45,0.83333333333333326,null,null,null,1,null,0.84166666666666656,null,{"$error":"#VALUE!"},null,null,"","","","","","","","","","","","","",1,"","",null,"","","","",1,"","","","","","","","","","",""]
[39,"Nonmotorized","WB Ped","MajNM2","Nonmotorized","WBT","MajT2","Major thru",null,{"$error":"#VALUE!"},{"$error":"#VALUE!"},{"$error":"#VALUE!"},null,0,45,"","",0.84855340903216459,null,0.505,null,1,null,null,null,2,null,45,0.83333333333333326,null,null,null,1,null,0.84166666666666656,null,{"$error":"#VALUE!"},null,null,"","","","","","","","","","","","","",1,"","",null,"","","",1,"","","","","","","","","","","",""]
[40,"Nonmotorized","WB Ped","MajNM2","Nonmotorized","WBR, NBT","MajR2, MinT1","Major right",null,{"$error":"#VALUE!"},{"$error":"#VALUE!"},{"$error":"#VALUE!"},null,0,15,"","",0.1205004039155782,null,0.505,null,1,null,null,null,2,null,45,0.83333333333333326,null,null,null,1,null,0.84166666666666656,null,{"$error":"#VALUE!"},null,null,"","","","","","","","","","","","","",1,"","",null,"","","","","",1,1,"","","","","","","","",""]
[41,"Nonmotorized","SB Ped","MinNM2","Nonmotorized","WBR, NBT","MajR2, MinT1","Major right",null,{"$error":"#VALUE!"},{"$error":"#VALUE!"},{"$error":"#VALUE!"},null,0,15,"","",0.1205004039155782,null,0.505,null,null,1,2,null,5.5,null,45,0.83333333333333326,null,null,null,1,null,2.3145833333333332,null,{"$error":"#VALUE!"},null,null,"","","","","","","","","","","","","","","",1,null,"","","","","",1,1,"","","","","","","","",""]
[42,"Nonmotorized","SB Ped","MinNM2","Nonmotorized","EBL","MajL1","Major left",null,{"$error":"#VALUE!"},{"$error":"#VALUE!"},{"$error":"#VALUE!"},null,0,20,"","",0.20274912921655375,null,0.505,null,null,1,2,null,5.5,null,45,0.83333333333333326,null,null,null,1,null,2.3145833333333332,null,{"$error":"#VALUE!"},null,null,"","","","","","","","","","","","","","","",1,null,"",1,"","","","","","","","","","","","","",""]
[43,"Nonmotorized","SB Ped","MinNM2","Nonmotorized","SBL","MinL2","Signal near",null,{"$error":"#VALUE!"},{"$error":"#VALUE!"},{"$error":"#VALUE!"},null,0,15,"","",0.1205004039155782,null,0.505,null,null,1,2,null,5.5,null,45,0.83333333333333326,null,null,null,1,null,2.3145833333333332,null,{"$error":"#VALUE!"},null,null,"","","","","","","","","","","","","","","",1,null,"","","","","","","","","","",1,"","","","",""]
[44,"Nonmotorized","SB Ped","MinNM2","Nonmotorized","SBR, SBT","MinR2, MinT2","Signal near",null,{"$error":"#VALUE!"},{"$error":"#VALUE!"},{"$error":"#VALUE!"},null,0,15,"","",0.1205004039155782,null,0.505,null,null,1,null,null,2,null,{"$f":"IF(B47=\"Diverging\",\"\",SSI_AGI_VehSpeed_MnrThru)","v":29.75},0.66388888888888886,null,null,null,1,null,0.67052777777777772,null,{"$error":"#VALUE!"},null,null,"","","","","","","","","","","","","","","",1,null,"","","","","","","","","",1,"",1,"","","",""]
[null,null,null,null,null,null,null,null,null,null,null,null,null,null,null,null,null,null,null,null,null,null,null,null,null,null,null,null,null,null,null,null,null,null,null,null,null,null,"O",{"$f":"'SSI Inputs'!$D$26","v":{"$error":"#VALUE!"}},{"$f":"'SSI Inputs'!$D$27","v":{"$error":"#VALUE!"}},{"$f":"'SSI Inputs'!$D$28","v":{"$error":"#VALUE!"}},{"$f":"'SSI Inputs'!$D$30","v":{"$error":"#VALUE!"}},{"$f":"'SSI Inputs'!$D$31","v":{"$error":"#VALUE!"}},{"$f":"'SSI Inputs'!$D$32","v":{"$error":"#VALUE!"}},{"$f":"'SSI Inputs'!$D$34","v":{"$error":"#VALUE!"}},{"$f":"'SSI Inputs'!$D$35","v":{"$error":"#VALUE!"}},{"$f":"'SSI Inputs'!$D$36","v":{"$error":"#VALUE!"}},{"$f":"'SSI Inputs'!$D$38","v":{"$error":"#VALUE!"}},{"$f":"'SSI Inputs'!$D$39","v":{"$error":"#VALUE!"}},{"$f":"'SSI Inputs'!$D$40","v":{"$error":"#VALUE!"}},{"$f":"'SSI Inputs'!$Q$18","v":175},{"$f":"'SSI Inputs'!$Q$19","v":175},{"$f":"'SSI Inputs'!$Q$20","v":175},{"$f":"'SSI Inputs'!$Q$21","v":175},"O",{"$f":"'SSI Inputs'!$D$26","v":{"$error":"#VALUE!"}},{"$f":"'SSI Inputs'!$D$27","v":{"$error":"#VALUE!"}},{"$f":"'SSI Inputs'!$D$28","v":{"$error":"#VALUE!"}},{"$f":"'SSI Inputs'!$D$30","v":{"$error":"#VALUE!"}},{"$f":"'SSI Inputs'!$D$31","v":{"$error":"#VALUE!"}},{"$f":"'SSI Inputs'!$D$32","v":{"$error":"#VALUE!"}},{"$f":"'SSI Inputs'!$D$34","v":{"$error":"#VALUE!"}},{"$f":"'SSI Inputs'!$D$35","v":{"$error":"#VALUE!"}},{"$f":"'SSI Inputs'!$D$36","v":{"$error":"#VALUE!"}},{"$f":"'SSI Inputs'!$D$38","v":{"$error":"#VALUE!"}},{"$f":"'SSI Inputs'!$D$39","v":{"$error":"#VALUE!"}},{"$f":"'SSI Inputs'!$D$40","v":{"$error":"#VALUE!"}},{"$f":"'SSI Inputs'!$Q$18","v":175},{"$f":"'SSI Inputs'!$Q$19","v":175},{"$f":"'SSI Inputs'!$Q$20","v":175},{"$f":"'SSI Inputs'!$Q$21","v":175}]
[null,null,null,null,null,null,null,null,null,null,null,null,null,null,null,null,null,null,null,null,null,null,null,null,null,null,null,null,null,null,null,null,null,null,null,null,null,null,"D",{"$f":"'SSI Inputs'!$E$26","v":{"$error":"#VALUE!"}},{"$f":"'SSI Inputs'!$E$27","v":{"$error":"#VALUE!"}},{"$f":"'SSI Inputs'!$E$28","v":{"$error":"#VALUE!"}},{"$f":"'SSI Inputs'!$E$30","v":{"$error":"#VALUE!"}},{"$f":"'SSI Inputs'!$E$31","v":{"$error":"#VALUE!"}},{"$f":"'SSI Inputs'!$E$32","v":{"$error":"#VALUE!"}},{"$f":"'SSI Inputs'!$E$34","v":{"$error":"#VALUE!"}},{"$f":"'SSI Inputs'!$E$35","v":{"$error":"#VALUE!"}},{"$f":"'SSI Inputs'!$E$36","v":{"$error":"#VALUE!"}},{"$f":"'SSI Inputs'!$E$38","v":{"$error":"#VALUE!"}},{"$f":"'SSI Inputs'!$E$39","v":{"$error":"#VALUE!"}},{"$f":"'SSI Inputs'!$E$40","v":{"$error":"#VALUE!"}},{"$f":"'SSI Inputs'!$R$18","v":175},{"$f":"'SSI Inputs'!$R$19","v":175},{"$f":"'SSI Inputs'!$R$20","v":175},{"$f":"'SSI Inputs'!$R$21","v":175},"D",{"$f":"'SSI Inputs'!$E$26","v":{"$error":"#VALUE!"}},{"$f":"'SSI Inputs'!$E$27","v":{"$error":"#VALUE!"}},{"$f":"'SSI Inputs'!$E$28","v":{"$error":"#VALUE!"}},{"$f":"'SSI Inputs'!$E$30","v":{"$error":"#VALUE!"}},{"$f":"'SSI Inputs'!$E$31","v":{"$error":"#VALUE!"}},{"$f":"'SSI Inputs'!$E$32","v":{"$error":"#VALUE!"}},{"$f":"'SSI Inputs'!$E$34","v":{"$error":"#VALUE!"}},{"$f":"'SSI Inputs'!$E$35","v":{"$error":"#VALUE!"}},{"$f":"'SSI Inputs'!$E$36","v":{"$error":"#VALUE!"}},{"$f":"'SSI Inputs'!$E$38","v":{"$error":"#VALUE!"}},{"$f":"'SSI Inputs'!$E$39","v":{"$error":"#VALUE!"}},{"$f":"'SSI Inputs'!$E$40","v":{"$error":"#VALUE!"}},{"$f":"'SSI Inputs'!$R$18","v":175},{"$f":"'SSI Inputs'!$R$19","v":175},{"$f":"'SSI Inputs'!$R$20","v":175},{"$f":"'SSI Inputs'!$R$21","v":175}]
[]
[]
[]
[]
[]
[]
[]
[]
[]
[]
[]
[]
[]
[]
[]
[]
[]
[]
[]
[]
[]
[]
[]
[]
[]
[]
[]
[]
[]
[]
[]
[]
[]
[]
[]
[]
[]
[]
[]
[]
[]
[]
[]
[]
[]
[]
[]
[]
[]
[]
[]
[null,null,null,null,null,null,null,null,null,"Exposure",null,null,null,null,null,null,null,null,null,null,null,null,null,null,null,null,null,null,null,null,null,null,null,null,null,null,"Exposure-Severity-Complexity Product"]
[null,null,null,null,null,null,null,null,null,"Q1","Q2","I"]
[null,null,null,null,null,null,null,null,null,{"$f":"SUMPRODUCT($AN4:$BC4,$AN$49:$BC$49)","v":{"$error":"#VALUE!"}},{"$f":"SUMPRODUCT($BE4:$BT4,$BE$49:$BT$49)","v":{"$error":"#VALUE!"}},{"$f":"PRODUCT(J103:K103)","v":{"$error":"#VALUE!"}},null,null,null,null,null,null,null,null,null,null,null,null,null,null,null,null,null,null,null,null,null,null,null,null,{"$f":"L103*R4*AI4","v":{"$error":"#VALUE!"}}]
[null,null,null,null,null,null,null,null,null,{"$f":"SUMPRODUCT($AN5:$BC5,$AN$49:$BC$49)","v":{"$error":"#VALUE!"}},{"$f":"SUMPRODUCT($BE5:$BT5,$BE$49:$BT$49)","v":{"$error":"#VALUE!"}},{"$f":"PRODUCT(J104:K104)","v":{"$error":"#VALUE!"}},null,null,null,null,null,null,null,null,null,null,null,null,null,null,null,null,null,null,null,null,null,null,null,null,{"$f":"L104*R5*AI5","v":{"$error":"#VALUE!"}}]
[null,null,null,null,null,null,null,null,null,{"$error":"#VALUE!"},{"$error":"#VALUE!"},{"$error":"#VALUE!"},null,null,null,null,null,null,null,null,null,null,null,null,null,null,null,null,null,null,null,null,null,null,null,null,{"$error":"#VALUE!"}]
[null,null,null,null,null,null,null,null,null,{"$error":"#VALUE!"},{"$error":"#VALUE!"},{"$error":"#VALUE!"},null,null,null,null,null,null,null,null,null,null,null,null,null,null,null,null,null,null,null,null,null,null,null,null,{"$error":"#VALUE!"}]
[null,null,null,null,null,null,null,null,null,{"$error":"#VALUE!"},{"$error":"#VALUE!"},{"$error":"#VALUE!"},null,null,null,null,null,null,null,null,null,null,null,null,null,null,null,null,null,null,null,null,null,null,null,null,{"$error":"#VALUE!"}]
[null,null,null,null,null,null,null,null,null,{"$error":"#VALUE!"},{"$error":"#VALUE!"},{"$error":"#VALUE!"},null,null,null,null,null,null,null,null,null,null,null,null,null,null,null,null,null,null,null,null,null,null,null,null,{"$error":"#VALUE!"}]
[null,null,null,null,null,null,null,null,null,{"$error":"#VALUE!"},{"$error":"#VALUE!"},{"$error":"#VALUE!"},null,null,null,null,null,null,null,null,null,null,null,null,null,null,null,null,null,null,null,null,null,null,null,null,{"$error":"#VALUE!"}]
[null,null,null,null,null,null,null,null,null,{"$error":"#VALUE!"},{"$error":"#VALUE!"},{"$error":"#VALUE!"},null,null,null,null,null,null,null,null,null,null,null,null,null,null,null,null,null,null,null,null,null,null,null,null,{"$error":"#VALUE!"}]
[null,null,null,null,null,null,null,null,null,{"$error":"#VALUE!"},{"$error":"#VALUE!"},{"$error":"#VALUE!"},null,null,null,null,null,null,null,null,null,null,null,null,null,null,null,null,null,null,null,null,null,null,null,null,{"$error":"#VALUE!"}]
[null,null,null,null,null,null,null,null,null,{"$error":"#VALUE!"},{"$error":"#VALUE!"},{"$error":"#VALUE!"},null,null,null,null,null,null,null,null,null,null,null,null,null,null,null,null,null,null,null,null,null,null,null,null,{"$error":"#VALUE!"}]
[null,null,null,null,null,null,null,null,null,{"$error":"#VALUE!"},{"$error":"#VALUE!"},{"$error":"#VALUE!"},null,null,null,null,null,null,null,null,null,null,null,null,null,null,null,null,null,null,null,null,null,null,null,null,{"$error":"#VALUE!"}]
[null,null,null,null,null,null,null,null,null,{"$error":"#VALUE!"},{"$error":"#VALUE!"},{"$error":"#VALUE!"},null,null,null,null,null,null,null,null,null,null,null,null,null,null,null,null,null,null,null,null,null,null,null,null,{"$error":"#VALUE!"}]
[null,null,null,null,null,null,null,null,null,{"$error":"#VALUE!"},{"$error":"#VALUE!"},{"$error":"#VALUE!"},null,null,null,null,null,null,null,null,null,null,null,null,null,null,null,null,null,null,null,null,null,null,null,null,{"$error":"#VALUE!"}]
[null,null,null,null,null,null,null,null,null,{"$error":"#VALUE!"},{"$error":"#VALUE!"},{"$error":"#VALUE!"},null,null,null,null,null,null,null,null,null,null,null,null,null,null,null,null,null,null,null,null,null,null,null,null,{"$error":"#VALUE!"}]
[null,null,null,null,null,null,null,null,null,{"$error":"#VALUE!"},{"$error":"#VALUE!"},{"$error":"#VALUE!"},null,null,null,null,null,null,null,null,null,null,null,null,null,null,null,null,null,null,null,null,null,null,null,null,{"$error":"#VALUE!"}]
[null,null,null,null,null,null,null,null,null,{"$error":"#VALUE!"},{"$error":"#VALUE!"},{"$error":"#VALUE!"},null,null,null,null,null,null,null,null,null,null,null,null,null,null,null,null,null,null,null,null,null,null,null,null,{"$error":"#VALUE!"}]
[null,null,null,null,null,null,null,null,null,{"$error":"#VALUE!"},{"$error":"#VALUE!"},{"$error":"#VALUE!"},null,null,null,null,null,null,null,null,null,null,null,null,null,null,null,null,null,null,null,null,null,null,null,null,{"$error":"#VALUE!"}]
[null,null,null,null,null,null,null,null,null,{"$error":"#VALUE!"},{"$error":"#VALUE!"},{"$error":"#VALUE!"},null,null,null,null,null,null,null,null,null,null,null,null,null,null,null,null,null,null,null,null,null,null,null,null,{"$error":"#VALUE!"}]
[null,null,null,null,null,null,null,null,null,{"$error":"#VALUE!"},{"$error":"#VALUE!"},{"$error":"#VALUE!"},null,null,null,null,null,null,null,null,null,null,null,null,null,null,null,null,null,null,null,null,null,null,null,null,{"$error":"#VALUE!"}]
[null,null,null,null,null,null,null,null,null,{"$error":"#VALUE!"},{"$error":"#VALUE!"},{"$error":"#VALUE!"},null,null,null,null,null,null,null,null,null,null,null,null,null,null,null,null,null,null,null,null,null,null,null,null,{"$error":"#VALUE!"}]
[null,null,null,null,null,null,null,null,null,{"$error":"#VALUE!"},{"$error":"#VALUE!"},{"$error":"#VALUE!"},null,null,null,null,null,null,null,null,null,null,null,null,null,null,null,null,null,null,null,null,null,null,null,null,{"$error":"#VALUE!"}]
[null,null,null,null,null,null,null,null,null,{"$error":"#VALUE!"},{"$error":"#VALUE!"},{"$error":"#VALUE!"},null,null,null,null,null,null,null,null,null,null,null,null,null,null,null,null,null,null,null,null,null,null,null,null,{"$error":"#VALUE!"}]
[null,null,null,null,null,null,null,null,null,{"$error":"#VALUE!"},{"$error":"#VALUE!"},{"$error":"#VALUE!"},null,null,null,null,null,null,null,null,null,null,null,null,null,null,null,null,null,null,null,null,null,null,null,null,{"$error":"#VALUE!"}]
[null,null,null,null,null,null,null,null,null,{"$error":"#VALUE!"},{"$error":"#VALUE!"},{"$error":"#VALUE!"},null,null,null,null,null,null,null,null,null,null,null,null,null,null,null,null,null,null,null,null,null,null,null,null,{"$error":"#VALUE!"}]
[null,null,null,null,null,null,null,null,null,{"$error":"#VALUE!"},{"$error":"#VALUE!"},{"$error":"#VALUE!"},null,null,null,null,null,null,null,null,null,null,null,null,null,null,null,null,null,null,null,null,null,null,null,null,{"$error":"#VALUE!"}]
[null,null,null,null,null,null,null,null,null,{"$error":"#VALUE!"},{"$error":"#VALUE!"},{"$error":"#VALUE!"},null,null,null,null,null,null,null,null,null,null,null,null,null,null,null,null,null,null,null,null,null,null,null,null,{"$error":"#VALUE!"}]
[null,null,null,null,null,null,null,null,null,{"$error":"#VALUE!"},{"$error":"#VALUE!"},{"$error":"#VALUE!"},null,null,null,null,null,null,null,null,null,null,null,null,null,null,null,null,null,null,null,null,null,null,null,null,{"$error":"#VALUE!"}]
[null,null,null,null,null,null,null,null,null,{"$error":"#VALUE!"},{"$error":"#VALUE!"},{"$error":"#VALUE!"},null,null,null,null,null,null,null,null,null,null,null,null,null,null,null,null,null,null,null,null,null,null,null,null,{"$error":"#VALUE!"}]
[null,null,null,null,null,null,null,null,null,{"$error":"#VALUE!"},{"$error":"#VALUE!"},{"$error":"#VALUE!"},null,null,null,null,null,null,null,null,null,null,null,null,null,null,null,null,null,null,null,null,null,null,null,null,{"$error":"#VALUE!"}]
[null,null,null,null,null,null,null,null,null,{"$error":"#VALUE!"},{"$error":"#VALUE!"},{"$error":"#VALUE!"},null,null,null,null,null,null,null,null,null,null,null,null,null,null,null,null,null,null,null,null,null,null,null,null,{"$error":"#VALUE!"}]
[null,null,null,null,null,null,null,null,null,{"$error":"#VALUE!"},{"$error":"#VALUE!"},{"$error":"#VALUE!"},null,null,null,null,null,null,null,null,null,null,null,null,null,null,null,null,null,null,null,null,null,null,null,null,{"$error":"#VALUE!"}]
[null,null,null,null,null,null,null,null,null,{"$error":"#VALUE!"},{"$error":"#VALUE!"},{"$error":"#VALUE!"},null,null,null,null,null,null,null,null,null,null,null,null,null,null,null,null,null,null,null,null,null,null,null,null,{"$error":"#VALUE!"}]
[null,null,null,null,null,null,null,null,null,{"$error":"#VALUE!"},{"$error":"#VALUE!"},{"$error":"#VALUE!"},null,null,null,null,null,null,null,null,null,null,null,null,null,null,null,null,null,null,null,null,null,null,null,null,{"$error":"#VALUE!"}]
[null,null,null,null,null,null,null,null,null,{"$error":"#VALUE!"},{"$error":"#VALUE!"},{"$f":"PRODUCT(J136:K136)","v":{"$error":"#VALUE!"}},null,null,null,null,null,null,null,null,null,null,null,null,null,null,null,null,null,null,null,null,null,null,null,null,{"$error":"#VALUE!"}]
[null,null,null,null,null,null,null,null,null,{"$error":"#VALUE!"},{"$error":"#VALUE!"},{"$f":"PRODUCT(J137:K137)","v":{"$error":"#VALUE!"}},null,null,null,null,null,null,null,null,null,null,null,null,null,null,null,null,null,null,null,null,null,null,null,null,{"$error":"#VALUE!"}]
[null,null,null,null,null,null,null,null,null,{"$error":"#VALUE!"},{"$error":"#VALUE!"},{"$error":"#VALUE!"},null,null,null,null,null,null,null,null,null,null,null,null,null,null,null,null,null,null,null,null,null,null,null,null,{"$error":"#VALUE!"}]
[null,null,null,null,null,null,null,null,null,{"$error":"#VALUE!"},{"$error":"#VALUE!"},{"$error":"#VALUE!"},null,null,null,null,null,null,null,null,null,null,null,null,null,null,null,null,null,null,null,null,null,null,null,null,{"$error":"#VALUE!"}]
[null,null,null,null,null,null,null,null,null,{"$error":"#VALUE!"},{"$error":"#VALUE!"},{"$error":"#VALUE!"},null,null,null,null,null,null,null,null,null,null,null,null,null,null,null,null,null,null,null,null,null,null,null,null,{"$error":"#VALUE!"}]
[null,null,null,null,null,null,null,null,null,{"$error":"#VALUE!"},{"$error":"#VALUE!"},{"$error":"#VALUE!"},null,null,null,null,null,null,null,null,null,null,null,null,null,null,null,null,null,null,null,null,null,null,null,null,{"$error":"#VALUE!"}]
[null,null,null,null,null,null,null,null,null,{"$error":"#VALUE!"},{"$error":"#VALUE!"},{"$error":"#VALUE!"},null,null,null,null,null,null,null,null,null,null,null,null,null,null,null,null,null,null,null,null,null,null,null,null,{"$error":"#VALUE!"}]
[null,null,null,null,null,null,null,null,null,{"$error":"#VALUE!"},{"$error":"#VALUE!"},{"$error":"#VALUE!"},null,null,null,null,null,null,null,null,null,null,null,null,null,null,null,null,null,null,null,null,null,null,null,null,{"$error":"#VALUE!"}]
[null,null,null,null,null,null,null,null,null,{"$error":"#VALUE!"},{"$error":"#VALUE!"},{"$error":"#VALUE!"},null,null,null,null,null,null,null,null,null,null,null,null,null,null,null,null,null,null,null,null,null,null,null,null,{"$error":"#VALUE!"}]
[null,null,null,null,null,null,null,null,null,{"$error":"#VALUE!"},{"$error":"#VALUE!"},{"$error":"#VALUE!"},null,null,null,null,null,null,null,null,null,null,null,null,null,null,null,null,null,null,null,null,null,null,null,null,{"$error":"#VALUE!"}]
[null,null,null,null,null,null,null,null,null,{"$error":"#VALUE!"},{"$error":"#VALUE!"},{"$error":"#VALUE!"},null,null,null,null,null,null,null,null,null,null,null,null,null,null,null,null,null,null,null,null,null,null,null,null,{"$error":"#VALUE!"}]

{"sheet":"ThruCut_Unsig","index":30,"n_rows":146,"n_cols":72,"rows_kept":146,"cut":false,"hidden":true,"merged":[[1,34,2,34],[1,36,2,36],[1,39,1,54],[1,56,1,71],[100,9,100,11],[100,36,101,36],[0,19,0,28],[0,30,0,32],[1,9,1,11],[1,13,1,17],[1,21,1,25],[1,27,1,28],[1,30,2,30],[1,31,2,31],[1,32,2,32]]}
[null,null,null,null,null,null,null,null,null,null,null,null,null,null,null,null,null,null,null,"Conflicting Traffic Complexity",null,null,null,null,null,null,null,null,null,null,"Pedestrian Complexity"]
[null,null,null,null,null,null,null,null,null,"Exposure",null,null,null,"Severity",null,null,null,null,null,"Traffic Control",null,"Conflicting Lanes",null,null,null,null,null,"Conflicting Speed",null,null,"Indirect Paths Indicator","Non-intuitive movements indicator","Pedestrian Complexity factor",null,"Total Complexity Multiplier",null,"Exposure-Severity-Complexity Product",null,null,"Included in Mvmt1",null,null,null,null,null,null,null,null,null,null,null,null,null,null,null,null,"Included in Mvmt2"]
["#","Conflict Type","Mvmt1","Mvmt1_gen","Mvmt1_SpeedCat","Mvmt2","Mvmt2_gen","Mvmt2_SpeedCat",null,"Q1","Q2","I",null,"Speed_V1","Speed_V2","Angle","delta_V","P_FSI",null,null,null,"MajC","MinC","MajM/P","MinM/P","Score",null,"Speed","Factor",null,null,null,null,null,null,null,null,null,null,"MajT1","MajL1","MajR1","MajT2","MajL2","MajR2","MinT1","MinL1","MinR1","MinT2","MinL2","MinR2","MajNM1","MajNM2","MinNM1","MinNM2",null,"MajT1","MajL1","MajR1","MajT2","MajL2","MajR2","MinT1","MinL1","MinR1","MinT2","MinL2","MinR2","MajNM1","MajNM2","MinNM1","MinNM2"]
[1,"Crossing - LT","NBL","MinL1","Stop far","EBL","MajL1","Major left",null,{"$f":"SUMPRODUCT($AN4:$BC4,$AN$48:$BC$48)","v":{"$error":"#VALUE!"}},{"$f":"SUMPRODUCT($BE4:$BT4,$BE$48:$BT$48)","v":{"$error":"#VALUE!"}},{"$f":"PRODUCT(J4:K4)","v":{"$error":"#VALUE!"}},null,{"$f":"VLOOKUP(E4,SSI_AGI_Range_VehSpeed,5,FALSE)","v":25},{"$f":"VLOOKUP(H4,SSI_AGI_Range_VehSpeed,5,FALSE)","v":20},{"$f":"IF(B4=\"Nonmotorized\",\"\",VLOOKUP(B4,SSI_AGI_Range_CollAngles,5,FALSE))","v":230},{"$f":"IF(B4=\"Nonmotorized\",\"\",SQRT(N4^2+O4^2-2*N4*O4*COS(RADIANS(P4)))/2)","v":20.419277715473552},{"$f":"IF(B4=\"Nonmotorized\",1/(1+EXP(3.8432-0.1237*O4)),(Q4/SSI_AGI_RegAlpha)^SSI_AGI_RegK+(Q4/SSI_AGI_RegAlpha)^SSI_AGI_RegK-((Q4/SSI_AGI_RegAlpha)^SSI_AGI_RegK)*((Q4/SSI_AGI_RegAlpha)^SSI_AGI_RegK))","v":2.1555284139167314E-2},null,{"$f":"SSI_AGI_StopFactor","v":0.72500000000000009},null,1,null,1,null,{"$f":"MAX(1,IF(B4<>\"Pedestrian\",V4*SSI_AGI_MajorThruLanes+W4*SSI_AGI_MinorThruLanes+X4*IF(SSI_AGI_MajorThruLanes=1,SSI_AGI_MergeWeightL1,IF(SSI_AGI_MajorThruLanes=2,SSI_AGI_MergeWeightL1+SSI_AGI_MergeWeightL2,SSI_AGI_MergeWeightL1+SSI_AGI_MergeWeightL2+SSI_AGI_MergeWeightL3*(SSI_AGI_MajorThruLanes-2)))+Y4*IF(SSI_AGI_MinorThruLanes=1,SSI_AGI_MergeWeightL1,IF(SSI_AGI_MinorThruLanes=2,SSI_AGI_MergeWeightL1+SSI_AGI_MergeWeightL2,SSI_AGI_MergeWeightL1+SSI_AGI_MergeWeightL2+SSI_AGI_MergeWeightL3*(SSI_AGI_MinorThruLanes-2))),V4*SSI_AGI_MajorThruLanes+W4*SSI_AGI_MinorThruLanes+X4*IF(SSI_AGI_MajorThruLanes=1,SSI_AGI_NM_MergeWeightL1,IF(SSI_AGI_MajorThruLanes=2,SSI_AGI_NM_MergeWeightL1+SSI_AGI_NM_MergeWeightL2,SSI_AGI_NM_MergeWeightL1+SSI_AGI_NM_MergeWeightL2+SSI_AGI_NM_MergeWeightL3*(SSI_AGI_MajorThruLanes-2)))+Y4*IF(SSI_AGI_MinorThruLanes=1,SSI_AGI_NM_MergeWeightL1,IF(SSI_AGI_MinorThruLanes=2,SSI_AGI_NM_MergeWeightL1+SSI_AGI_NM_MergeWeightL2,SSI_AGI_NM_MergeWeightL1+SSI_AGI_NM_MergeWeightL2+SSI_AGI_NM_MergeWeightL3*(SSI_AGI_MinorThruLanes-2)))))","v":3.75},null,{"$f":"IF(B4=\"Diverging\",\"\",SSI_AGI_VehSpeed_MjrThru)","v":45},{"$f":"IF(B4=\"Diverging\",1,1-((60-AB4)/60*0.1/0.15))","v":0.83333333333333326},null,null,null,{"$f":"IF(SSI_AGI_ConsiderNMComplexity=\"Y\",1+AE4+AF4,1)","v":1},null,{"$f":"PRODUCT(Z4,T4,AC4,AG4)","v":2.265625},null,{"$f":"L4*R4*AI4","v":{"$error":"#VALUE!"}},null,null,{"$f":"IF(ISNUMBER(SEARCH(AN$3,$D4)),1,\"\")","v":""},{"$f":"IF(ISNUMBER(SEARCH(AO$3,$D4)),1,\"\")","v":""},"","","","","",1,"","","","","","","","",null,{"$f":"IF(ISNUMBER(SEARCH(BE$3,$G4)),1,\"\")","v":""},{"$f":"IF(ISNUMBER(SEARCH(BF$3,$G4)),1,\"\")","v":1},"","","","","","","","","","","","","",""]
[2,"Crossing - LT","NBL","MinL1","Stop near","WBL","MajL2","Major left",null,{"$error":"#VALUE!"},{"$error":"#VALUE!"},{"$f":"PRODUCT(J5:K5)","v":{"$error":"#VALUE!"}},null,15,20,230,{"$f":"IF(B5=\"Nonmotorized\",\"\",SQRT(N5^2+O5^2-2*N5*O5*COS(RADIANS(P5)))/2)","v":15.895538413434787},8.3616736100371545E-3,null,0.72500000000000009,null,1,null,1,null,3.75,null,45,0.83333333333333326,null,null,null,1,null,2.265625,null,{"$f":"L5*R5*AI5","v":{"$error":"#VALUE!"}},null,null,{"$f":"IF(ISNUMBER(SEARCH(AN$3,$D5)),1,\"\")","v":""},"","","","","","",1,"","","","","","","","",null,{"$f":"IF(ISNUMBER(SEARCH(BE$3,$G5)),1,\"\")","v":""},"","","",1,"","","","","","","","","","",""]
[3,"Crossing - LT","WBL","MajL2","Major left","EBT","MajT1","Major thru",null,{"$error":"#VALUE!"},{"$error":"#VALUE!"},{"$error":"#VALUE!"},null,20,45,230,29.924979939156898,9.0286582411373745E-2,null,0.72500000000000009,null,1,null,null,null,2,null,45,0.83333333333333326,null,null,null,1,null,1.2083333333333335,null,{"$error":"#VALUE!"},null,null,"","","","",1,"","","","","","","","","","","",null,1,"","","","","","","","","","","","","","",""]
[4,"Crossing - LT","NBL","MinL1","Stop near","EBT","MajT1","Major thru",null,{"$error":"#VALUE!"},{"$error":"#VALUE!"},{"$error":"#VALUE!"},null,15,45,230,27.918467333813421,6.9762185672148203E-2,null,0.72500000000000009,null,1,null,1,null,3.75,null,45,0.83333333333333326,null,null,null,1,null,2.265625,null,{"$error":"#VALUE!"},null,null,"","","","","","","",1,"","","","","","","","",null,1,"","","","","","","","","","","","","","",""]
[5,"Crossing - LT","SBL","MinL2","Stop far","WBL","MajL2","Major left",null,{"$error":"#VALUE!"},{"$error":"#VALUE!"},{"$error":"#VALUE!"},null,25,20,230,20.419277715473552,2.1555284139167314E-2,null,0.72500000000000009,null,1,null,1,null,3.75,null,45,0.83333333333333326,null,null,null,1,null,2.265625,null,{"$error":"#VALUE!"},null,null,"","","","","","","","","","",1,"","","","","",null,"","","","",1,"","","","","","","","","","",""]
[6,"Crossing - LT","SBL","MinL2","Stop near","EBL","MajL1","Major left",null,{"$error":"#VALUE!"},{"$error":"#VALUE!"},{"$error":"#VALUE!"},null,15,20,230,15.895538413434787,8.3616736100371545E-3,null,0.72500000000000009,null,1,null,1,null,3.75,null,45,0.83333333333333326,null,null,null,1,null,2.265625,null,{"$error":"#VALUE!"},null,null,"","","","","","","","","","",1,"","","","","",null,"",1,"","","","","","","","","","","","","",""]
[7,"Crossing - LT","EBL","MajL1","Major left","WBT","MajT2","Major thru",null,{"$error":"#VALUE!"},{"$error":"#VALUE!"},{"$error":"#VALUE!"},null,20,45,230,29.924979939156898,9.0286582411373745E-2,null,0.72500000000000009,null,1,null,null,null,2,null,45,0.83333333333333326,null,null,null,1,null,1.2083333333333335,null,{"$error":"#VALUE!"},null,null,"",1,"","","","","","","","","","","","","","",null,"","","",1,"","","","","","","","","","","",""]
[8,"Crossing - LT","SBL","MinL2","Stop near","WBT","MajT2","Major thru",null,{"$error":"#VALUE!"},{"$error":"#VALUE!"},{"$error":"#VALUE!"},null,15,45,230,27.918467333813421,6.9762185672148203E-2,null,0.72500000000000009,null,1,null,1,null,3.75,null,45,0.83333333333333326,null,null,null,1,null,2.265625,null,{"$error":"#VALUE!"},null,null,"","","","","","","","","","",1,"","","","","",null,"","","",1,"","","","","","","","","","","",""]
[9,"Merging","EBL","MajL1","Major left","WBR, NBT","MajR2, MinT1","Major right",null,{"$error":"#VALUE!"},{"$error":"#VALUE!"},{"$error":"#VALUE!"},null,20,15,45,7.0840654162717795,3.9022923271840544E-4,null,0.72500000000000009,null,1,null,null,null,2,null,45,0.83333333333333326,null,null,null,1,null,1.2083333333333335,null,{"$error":"#VALUE!"},null,null,"",1,"","","","","","","","","","","","","","",null,"","","","","",1,1,"","","","","","","","",""]
[10,"Merging","SBR, SBT","MinR2, MinT2","Stop near","WBT","MajT2","Major thru",null,{"$error":"#VALUE!"},{"$error":"#VALUE!"},{"$error":"#VALUE!"},null,15,45,45,17.995873453365363,1.3373938286506865E-2,null,0.72500000000000009,null,null,null,1,null,1.75,null,45,0.83333333333333326,null,null,null,1,null,1.0572916666666667,null,{"$error":"#VALUE!"},null,null,"","","","","","","","","",1,"",1,"","","","",null,"","","",1,"","","","","","","","","","","",""]
[11,"Merging","NBL","MinL1","Stop far","WBT","MajT2","Major thru",null,{"$error":"#VALUE!"},{"$error":"#VALUE!"},{"$error":"#VALUE!"},null,25,45,45,16.271214938736659,9.1348815406664795E-3,null,0.72500000000000009,null,1,null,1,null,3.75,null,45,0.83333333333333326,null,null,null,1,null,2.265625,null,{"$error":"#VALUE!"},null,null,"","","","","","","",1,"","","","","","","","",null,"","","",1,"","","","","","","","","","","",""]
[12,"Merging","SBT","MinT2","Stop near","EBT, EBL, EBR","MajT1, MajL1, MajR1","Major thru",null,{"$error":"#VALUE!"},{"$error":"#VALUE!"},{"$error":"#VALUE!"},null,15,45,45,17.995873453365363,1.3373938286506865E-2,null,0.72500000000000009,null,null,null,1,null,1.75,null,45,0.83333333333333326,null,null,null,1,null,1.0572916666666667,null,{"$error":"#VALUE!"},null,null,"","","","","","","","","",1,"","","","","","",null,1,1,1,"","","","","","","","","","","","",""]
[13,"Merging","WBL","MajL2","Major left","EBR, SBT","MajR1, MinT2","Major right",null,{"$error":"#VALUE!"},{"$error":"#VALUE!"},{"$error":"#VALUE!"},null,20,15,45,7.0840654162717795,3.9022923271840544E-4,null,0.72500000000000009,null,1,null,null,null,2,null,45,0.83333333333333326,null,null,null,1,null,1.2083333333333335,null,{"$error":"#VALUE!"},null,null,"","","","",1,"","","","","","","","","","","",null,"","",1,"","","","","","",1,"","","","","",""]
[14,"Merging","SBL","MinL2","Stop far","EBT","MajT1","Major thru",null,{"$error":"#VALUE!"},{"$error":"#VALUE!"},{"$error":"#VALUE!"},null,25,45,45,16.271214938736659,9.1348815406664795E-3,null,0.72500000000000009,null,1,null,1,null,3.75,null,45,0.83333333333333326,null,null,null,1,null,2.265625,null,{"$error":"#VALUE!"},null,null,"","","","","","","","","","",1,"","","","","",null,1,"","","","","","","","","","","","","","",""]
[15,"Merging","NBR, NBT","MinR1, MinT1","Stop near","EBT","MajT1","Major thru",null,{"$error":"#VALUE!"},{"$error":"#VALUE!"},{"$error":"#VALUE!"},null,15,45,45,17.995873453365363,1.3373938286506865E-2,null,0.72500000000000009,null,null,null,1,null,1.75,null,45,0.83333333333333326,null,null,null,1,null,1.0572916666666667,null,{"$error":"#VALUE!"},null,null,"","","","","","",1,"",1,"","","","","","","",null,1,"","","","","","","","","","","","","","",""]
[16,"Merging","NBT","MinT1","Stop near","WBT, WBL, WBR","MajT2, MajL2, MajR2","Major thru",null,{"$error":"#VALUE!"},{"$error":"#VALUE!"},{"$error":"#VALUE!"},null,15,45,45,17.995873453365363,1.3373938286506865E-2,null,0.72500000000000009,null,null,null,1,null,1.75,null,45,0.83333333333333326,null,null,null,1,null,1.0572916666666667,null,{"$error":"#VALUE!"},null,null,"","","","","","",1,"","","","","","","","","",null,"","","",1,1,1,"","","","","","","","","",""]
[17,"Diverging","SBR, SBT","MinT2, MinR2","Stop near","SBL","MinL2","Stop near",null,{"$error":"#VALUE!"},{"$error":"#VALUE!"},{"$error":"#VALUE!"},null,15,15,10,1.3073361412148754,6.4061388075216071E-7,null,1,null,null,null,null,null,1,null,"",1,null,null,null,1,null,1,null,{"$error":"#VALUE!"},null,null,"","","","","","","","","",1,"",1,"","","","",null,"","","","","","","","","","",1,"","","","",""]
[18,"Diverging","SBT","MinT2","Major left","WBT, SBR, NBL","MajT2, MinR2, MinL1","Major thru",null,{"$error":"#VALUE!"},{"$error":"#VALUE!"},{"$error":"#VALUE!"},null,20,45,10,12.77053292327718,3.6481988362114144E-3,null,1,null,null,null,null,null,1,null,"",1,null,null,null,1,null,1,null,{"$error":"#VALUE!"},null,null,"","","","","","","","","",1,"","","","","","",null,"","","",1,"","","",1,"","","",1,"","","",""]
[19,"Diverging","EBT, EBR, SBL, SBT","MajT1, MajR1, MinT2","Major thru","EBL","MajL1","Major left",null,{"$error":"#VALUE!"},{"$error":"#VALUE!"},{"$error":"#VALUE!"},null,45,20,10,12.77053292327718,3.6481988362114144E-3,null,1,null,null,null,null,null,1,null,"",1,null,null,null,1,null,1,null,{"$error":"#VALUE!"},null,null,1,"",1,"","","","","","",1,"","","","","","",null,"",1,"","","","","","","","","","","","","",""]
[20,"Diverging","EBT, SBL","MajT1","Major thru","EBR, SBT","MajR1, MinT2","Major right",null,{"$error":"#VALUE!"},{"$error":"#VALUE!"},{"$error":"#VALUE!"},null,45,15,10,15.169950011729762,7.0056226631585675E-3,null,1,null,null,null,null,null,1,null,"",1,null,null,null,1,null,1,null,{"$error":"#VALUE!"},null,null,1,"","","","","","","","","","","","","","","",null,"","",1,"","","","","","",1,"","","","","",""]
[21,"Diverging","NBR, NBT","MinT1, MinR1","Stop near","NBL","MinL1","Stop near",null,{"$error":"#VALUE!"},{"$error":"#VALUE!"},{"$error":"#VALUE!"},null,15,15,10,1.3073361412148754,6.4061388075216071E-7,null,1,null,null,null,null,null,1,null,"",1,null,null,null,1,null,1,null,{"$error":"#VALUE!"},null,null,"","","","","","",1,"",1,"","","","","","","",null,"","","","","","","",1,"","","","","","","",""]
[22,"Diverging","NBT","MinT1","Major left","EBT, NBR, SBL","MajT1, MinR1, MinL2","Major thru",null,{"$error":"#VALUE!"},{"$error":"#VALUE!"},{"$error":"#VALUE!"},null,20,45,10,12.77053292327718,3.6481988362114144E-3,null,1,null,null,null,null,null,1,null,"",1,null,null,null,1,null,1,null,{"$f":"L25*R25*AI25","v":{"$error":"#VALUE!"}},null,null,"","","","","","",1,"","","","","","","","","",null,1,"","","","","","","",1,"",1,"","","","",""]
[23,"Diverging","WBT, WBR, NBL, NBT","MajT2, MajR2, MinT1","Major thru","WBL","MajL2","Major left",null,{"$error":"#VALUE!"},{"$error":"#VALUE!"},{"$error":"#VALUE!"},null,45,20,10,12.77053292327718,3.6481988362114144E-3,null,1,null,null,null,null,null,1,null,"",1,null,null,null,1,null,1,null,{"$error":"#VALUE!"},null,null,"","","",1,"",1,1,"","","","","","","","","",null,"","","","",1,"","","","","","","","","","",""]
[24,"Diverging","WBT, NBL","MajT2","Major thru","WBR, NBT","MajR2, MinT1","Major right",null,{"$error":"#VALUE!"},{"$error":"#VALUE!"},{"$error":"#VALUE!"},null,45,15,10,15.169950011729762,7.0056226631585675E-3,null,1,null,null,null,null,null,1,null,"",1,null,null,null,1,null,1,null,{"$error":"#VALUE!"},null,null,"","","",1,"","","","","","","","","","","","",null,"","","","","",1,1,"","","","","","","","",""]
[25,"Nonmotorized","EB Ped","MajNM1","Nonmotorized","SBR, SBT","MinR2, MinT2","Stop near",null,{"$error":"#VALUE!"},{"$error":"#VALUE!"},{"$error":"#VALUE!"},null,0,15,"","",0.1205004039155782,null,{"$f":"SSI_AGI_StopFactor","v":0.72500000000000009},null,1,null,null,2,5.5,null,45,0.83333333333333326,null,null,null,1,null,3.322916666666667,null,{"$error":"#VALUE!"},null,null,"","","","","","","","","","","","",1,"","","",null,"","","","","","","","","",1,"",1,"","","",""]
[26,"Nonmotorized","EB Ped","MajNM1","Nonmotorized","WBT","MajT2","Major thru",null,{"$error":"#VALUE!"},{"$error":"#VALUE!"},{"$error":"#VALUE!"},null,0,45,"","",0.84855340903216459,null,{"$f":"SSI_AGI_PermFactor","v":1},null,1,null,null,2,5.5,null,45,0.83333333333333326,null,null,null,1,null,4.583333333333333,null,{"$error":"#VALUE!"},null,null,"","","","","","","","","","","","",1,"","","",null,"","","",1,"","","","","","","","","","","",""]
[27,"Nonmotorized","EB Ped","MajNM1","Nonmotorized","NBL","MinL1","Stop far",null,{"$error":"#VALUE!"},{"$error":"#VALUE!"},{"$error":"#VALUE!"},null,0,25,"","",0.32066879346345062,null,{"$f":"SSI_AGI_StopFactor","v":0.72500000000000009},null,1,null,null,2,5.5,null,45,0.83333333333333326,null,null,null,1,null,3.322916666666667,null,{"$error":"#VALUE!"},null,null,"","","","","","","","","","","","",1,"","","",null,"","","","","","","",1,"","","","","","","",""]
[28,"Nonmotorized","EB Ped","MajNM1","Nonmotorized","EBL","MajL1","Major left",null,{"$error":"#VALUE!"},{"$error":"#VALUE!"},{"$error":"#VALUE!"},null,0,20,"","",0.20274912921655375,null,{"$f":"SSI_AGI_PermFactor","v":1},null,1,null,null,null,2,null,45,0.83333333333333326,null,null,null,1,null,1.6666666666666665,null,{"$error":"#VALUE!"},null,null,"","","","","","","","","","","","",1,"","","",null,"",1,"","","","","","","","","","","","","",""]
[29,"Nonmotorized","EB Ped","MajNM1","Nonmotorized","EBT","MajT1","Major thru",null,{"$error":"#VALUE!"},{"$error":"#VALUE!"},{"$error":"#VALUE!"},null,0,45,"","",0.84855340903216459,null,{"$f":"SSI_AGI_PermFactor","v":1},null,1,null,null,null,2,null,45,0.83333333333333326,null,null,null,1,null,1.6666666666666665,null,{"$error":"#VALUE!"},null,null,"","","","","","","","","","","","",1,"","","",null,1,"","","","","","","","","","","","","","",""]
[30,"Nonmotorized","EB Ped","MajNM1","Nonmotorized","EBR, SBT","MajR1, MinT2","Major right",null,{"$error":"#VALUE!"},{"$error":"#VALUE!"},{"$error":"#VALUE!"},null,0,15,"","",0.1205004039155782,null,{"$f":"SSI_AGI_PermFactor","v":1},null,1,null,null,null,2,null,45,0.83333333333333326,null,null,null,1,null,1.6666666666666665,null,{"$error":"#VALUE!"},null,null,"","","","","","","","","","","","",1,"","","",null,"","",1,"","","","","","",1,"","","","","",""]
[31,"Nonmotorized","NB Ped","MinNM1","Nonmotorized","EBR, SBT","MajR1, MinT2","Major right",null,{"$error":"#VALUE!"},{"$error":"#VALUE!"},{"$error":"#VALUE!"},null,0,15,"","",0.1205004039155782,null,{"$f":"SSI_AGI_PermFactor","v":1},null,null,1,2,null,5.5,null,45,0.83333333333333326,null,null,null,1,null,4.583333333333333,null,{"$error":"#VALUE!"},null,null,"","","","","","","","","","","","","","",1,"",null,"","",1,"","","","","","",1,"","","","","",""]
[32,"Nonmotorized","NB Ped","MinNM1","Nonmotorized","WBL","MajL2","Major left",null,{"$error":"#VALUE!"},{"$error":"#VALUE!"},{"$error":"#VALUE!"},null,0,20,"","",0.20274912921655375,null,{"$f":"SSI_AGI_PermFactor","v":1},null,null,1,2,null,5.5,null,45,0.83333333333333326,null,null,null,1,null,4.583333333333333,null,{"$error":"#VALUE!"},null,null,{"$f":"IF(ISNUMBER(SEARCH(AN$3,$D35)),1,\"\")","v":""},"","","","","","","","","","","","","",1,"",null,{"$f":"IF(ISNUMBER(SEARCH(BE$3,$G35)),1,\"\")","v":""},"","","",1,"","","","","","","","","","",""]
[33,"Nonmotorized","NB Ped","MinNM1","Nonmotorized","NBL","MinL1","Stop near",null,{"$error":"#VALUE!"},{"$error":"#VALUE!"},{"$error":"#VALUE!"},null,0,15,"",{"$f":"IF(B36=\"Nonmotorized\",\"\",SQRT(N36^2+O36^2-2*N36*O36*COS(RADIANS(P36)))/2)","v":""},0.1205004039155782,null,{"$f":"SSI_AGI_StopFactor","v":0.72500000000000009},null,null,1,2,null,5.5,null,45,0.83333333333333326,null,null,null,1,null,3.322916666666667,null,{"$error":"#VALUE!"},null,null,"","","","","","","","","","","","","","",1,"",null,"","","","","","","",1,"","","","","","","",""]
[34,"Nonmotorized","NB Ped","MinNM1","Nonmotorized","NBR, NBT","MinR1, MinT1","Stop near",null,{"$error":"#VALUE!"},{"$error":"#VALUE!"},{"$f":"PRODUCT(J37:K37)","v":{"$error":"#VALUE!"}},null,0,15,"","",0.1205004039155782,null,{"$f":"SSI_AGI_StopFactor","v":0.72500000000000009},null,null,1,null,null,2,null,{"$f":"IF(B37=\"Diverging\",\"\",SSI_AGI_VehSpeed_MnrThru)","v":29.75},0.66388888888888886,null,null,null,1,null,0.96263888888888893,null,{"$error":"#VALUE!"},null,null,"","","","","","","","","","","","","","",1,"",null,"","","","","","",1,"",1,"","","","","","",""]
[35,"Nonmotorized","WB Ped","MajNM2","Nonmotorized","NBR, NBT","MinR1, MinT1","Stop near",null,{"$error":"#VALUE!"},{"$error":"#VALUE!"},{"$error":"#VALUE!"},null,0,15,"","",0.1205004039155782,null,{"$f":"SSI_AGI_StopFactor","v":0.72500000000000009},null,1,null,null,2,5.5,null,{"$f":"IF(B38=\"Diverging\",\"\",SSI_AGI_VehSpeed_MjrThru)","v":45},0.83333333333333326,null,null,null,1,null,3.322916666666667,null,{"$error":"#VALUE!"},null,null,"","","","","","","","","","","","","",1,"","",null,"","","","","","",1,"",1,"","","","","","",""]
[36,"Nonmotorized","WB Ped","MajNM2","Nonmotorized","EBT","MajT1","Major thru",null,{"$error":"#VALUE!"},{"$error":"#VALUE!"},{"$error":"#VALUE!"},null,0,45,"","",0.84855340903216459,null,{"$f":"SSI_AGI_PermFactor","v":1},null,1,null,null,2,5.5,null,45,0.83333333333333326,null,null,null,1,null,4.583333333333333,null,{"$error":"#VALUE!"},null,null,"","","","","","","","","","","","","",1,"","",null,1,"","","","","","","","","","","","","","",""]
[37,"Nonmotorized","WB Ped","MajNM2","Nonmotorized","SBL","MinL2","Stop far",null,{"$error":"#VALUE!"},{"$error":"#VALUE!"},{"$error":"#VALUE!"},null,0,25,"","",0.32066879346345062,null,{"$f":"SSI_AGI_StopFactor","v":0.72500000000000009},null,1,null,null,2,5.5,null,45,0.83333333333333326,null,null,null,1,null,3.322916666666667,null,{"$error":"#VALUE!"},null,null,"","","","","","","","","","","","","",1,"","",null,"","","","","","","","","","",1,"","","","",""]
[38,"Nonmotorized","WB Ped","MajNM2","Nonmotorized","WBL","MajL2","Major left",null,{"$error":"#VALUE!"},{"$error":"#VALUE!"},{"$error":"#VALUE!"},null,0,20,"","",0.20274912921655375,null,{"$f":"SSI_AGI_PermFactor","v":1},null,1,null,null,null,2,null,45,0.83333333333333326,null,null,null,1,null,1.6666666666666665,null,{"$error":"#VALUE!"},null,null,"","","","","","","","","","","","","",1,"","",null,"","","","",1,"","","","","","","","","","",""]
[39,"Nonmotorized","WB Ped","MajNM2","Nonmotorized","WBT","MajT2","Major thru",null,{"$error":"#VALUE!"},{"$error":"#VALUE!"},{"$error":"#VALUE!"},null,0,45,"","",0.84855340903216459,null,{"$f":"SSI_AGI_PermFactor","v":1},null,1,null,null,null,2,null,45,0.83333333333333326,null,null,null,1,null,1.6666666666666665,null,{"$error":"#VALUE!"},null,null,"","","","","","","","","","","","","",1,"","",null,"","","",1,"","","","","","","","","","","",""]
[40,"Nonmotorized","WB Ped","MajNM2","Nonmotorized","WBR, NBT","MajR2, MinT1","Major right",null,{"$error":"#VALUE!"},{"$error":"#VALUE!"},{"$error":"#VALUE!"},null,0,15,"","",0.1205004039155782,null,{"$f":"SSI_AGI_PermFactor","v":1},null,1,null,null,null,2,null,45,0.83333333333333326,null,null,null,1,null,1.6666666666666665,null,{"$error":"#VALUE!"},null,null,"","","","","","","","","","","","","",1,"","",null,"","","","","",1,1,"","","","","","","","",""]
[41,"Nonmotorized","SB Ped","MinNM2","Nonmotorized","WBR, NBT","MajR2, MinT1","Major right",null,{"$error":"#VALUE!"},{"$error":"#VALUE!"},{"$error":"#VALUE!"},null,0,15,"","",0.1205004039155782,null,{"$f":"SSI_AGI_PermFactor","v":1},null,null,1,2,null,5.5,null,45,0.83333333333333326,null,null,null,1,null,4.583333333333333,null,{"$error":"#VALUE!"},null,null,"","","","","","","","","","","","","","","",1,null,"","","","","",1,1,"","","","","","","","",""]
[42,"Nonmotorized","SB Ped","MinNM2","Nonmotorized","EBL","MajL1","Major left",null,{"$error":"#VALUE!"},{"$error":"#VALUE!"},{"$error":"#VALUE!"},null,0,20,"","",0.20274912921655375,null,{"$f":"SSI_AGI_PermFactor","v":1},null,null,1,2,null,5.5,null,45,0.83333333333333326,null,null,null,1,null,4.583333333333333,null,{"$error":"#VALUE!"},null,null,"","","","","","","","","","","","","","","",1,null,"",1,"","","","","","","","","","","","","",""]
[43,"Nonmotorized","SB Ped","MinNM2","Nonmotorized","SBL","MinL2","Stop near",null,{"$error":"#VALUE!"},{"$error":"#VALUE!"},{"$error":"#VALUE!"},null,0,15,"","",0.1205004039155782,null,{"$f":"SSI_AGI_StopFactor","v":0.72500000000000009},null,null,1,2,null,5.5,null,45,0.83333333333333326,null,null,null,1,null,3.322916666666667,null,{"$error":"#VALUE!"},null,null,"","","","","","","","","","","","","","","",1,null,"","","","","","","","","","",1,"","","","",""]
[44,"Nonmotorized","SB Ped","MinNM2","Nonmotorized","SBR, SBT","MinR2, MinT2","Stop near",null,{"$error":"#VALUE!"},{"$error":"#VALUE!"},{"$error":"#VALUE!"},null,0,15,"","",0.1205004039155782,null,{"$f":"SSI_AGI_StopFactor","v":0.72500000000000009},null,null,1,null,null,2,null,{"$f":"IF(B47=\"Diverging\",\"\",SSI_AGI_VehSpeed_MnrThru)","v":29.75},0.66388888888888886,null,null,null,1,null,0.96263888888888893,null,{"$error":"#VALUE!"},null,null,"","","","","","","","","","","","","","","",1,null,"","","","","","","","","",1,"",1,"","","",""]
[null,null,null,null,null,null,null,null,null,null,null,null,null,null,null,null,null,null,null,null,null,null,null,null,null,null,null,null,null,null,null,null,null,null,null,null,null,null,"O",{"$f":"'SSI Inputs'!$D$26","v":{"$error":"#VALUE!"}},{"$f":"'SSI Inputs'!$D$27","v":{"$error":"#VALUE!"}},{"$f":"'SSI Inputs'!$D$28","v":{"$error":"#VALUE!"}},{"$f":"'SSI Inputs'!$D$30","v":{"$error":"#VALUE!"}},{"$f":"'SSI Inputs'!$D$31","v":{"$error":"#VALUE!"}},{"$f":"'SSI Inputs'!$D$32","v":{"$error":"#VALUE!"}},{"$f":"'SSI Inputs'!$D$34","v":{"$error":"#VALUE!"}},{"$f":"'SSI Inputs'!$D$35","v":{"$error":"#VALUE!"}},{"$f":"'SSI Inputs'!$D$36","v":{"$error":"#VALUE!"}},{"$f":"'SSI Inputs'!$D$38","v":{"$error":"#VALUE!"}},{"$f":"'SSI Inputs'!$D$39","v":{"$error":"#VALUE!"}},{"$f":"'SSI Inputs'!$D$40","v":{"$error":"#VALUE!"}},{"$f":"'SSI Inputs'!$Q$18","v":175},{"$f":"'SSI Inputs'!$Q$19","v":175},{"$f":"'SSI Inputs'!$Q$20","v":175},{"$f":"'SSI Inputs'!$Q$21","v":175},"O",{"$f":"'SSI Inputs'!$D$26","v":{"$error":"#VALUE!"}},{"$f":"'SSI Inputs'!$D$27","v":{"$error":"#VALUE!"}},{"$f":"'SSI Inputs'!$D$28","v":{"$error":"#VALUE!"}},{"$f":"'SSI Inputs'!$D$30","v":{"$error":"#VALUE!"}},{"$f":"'SSI Inputs'!$D$31","v":{"$error":"#VALUE!"}},{"$f":"'SSI Inputs'!$D$32","v":{"$error":"#VALUE!"}},{"$f":"'SSI Inputs'!$D$34","v":{"$error":"#VALUE!"}},{"$f":"'SSI Inputs'!$D$35","v":{"$error":"#VALUE!"}},{"$f":"'SSI Inputs'!$D$36","v":{"$error":"#VALUE!"}},{"$f":"'SSI Inputs'!$D$38","v":{"$error":"#VALUE!"}},{"$f":"'SSI Inputs'!$D$39","v":{"$error":"#VALUE!"}},{"$f":"'SSI Inputs'!$D$40","v":{"$error":"#VALUE!"}},{"$f":"'SSI Inputs'!$Q$18","v":175},{"$f":"'SSI Inputs'!$Q$19","v":175},{"$f":"'SSI Inputs'!$Q$20","v":175},{"$f":"'SSI Inputs'!$Q$21","v":175}]
[null,null,null,null,null,null,null,null,null,null,null,null,null,null,null,null,null,null,null,null,null,null,null,null,null,null,null,null,null,null,null,null,null,null,null,null,null,null,"D",{"$f":"'SSI Inputs'!$E$26","v":{"$error":"#VALUE!"}},{"$f":"'SSI Inputs'!$E$27","v":{"$error":"#VALUE!"}},{"$f":"'SSI Inputs'!$E$28","v":{"$error":"#VALUE!"}},{"$f":"'SSI Inputs'!$E$30","v":{"$error":"#VALUE!"}},{"$f":"'SSI Inputs'!$E$31","v":{"$error":"#VALUE!"}},{"$f":"'SSI Inputs'!$E$32","v":{"$error":"#VALUE!"}},{"$f":"'SSI Inputs'!$E$34","v":{"$error":"#VALUE!"}},{"$f":"'SSI Inputs'!$E$35","v":{"$error":"#VALUE!"}},{"$f":"'SSI Inputs'!$E$36","v":{"$error":"#VALUE!"}},{"$f":"'SSI Inputs'!$E$38","v":{"$error":"#VALUE!"}},{"$f":"'SSI Inputs'!$E$39","v":{"$error":"#VALUE!"}},{"$f":"'SSI Inputs'!$E$40","v":{"$error":"#VALUE!"}},{"$f":"'SSI Inputs'!$R$18","v":175},{"$f":"'SSI Inputs'!$R$19","v":175},{"$f":"'SSI Inputs'!$R$20","v":175},{"$f":"'SSI Inputs'!$R$21","v":175},"D",{"$f":"'SSI Inputs'!$E$26","v":{"$error":"#VALUE!"}},{"$f":"'SSI Inputs'!$E$27","v":{"$error":"#VALUE!"}},{"$f":"'SSI Inputs'!$E$28","v":{"$error":"#VALUE!"}},{"$f":"'SSI Inputs'!$E$30","v":{"$error":"#VALUE!"}},{"$f":"'SSI Inputs'!$E$31","v":{"$error":"#VALUE!"}},{"$f":"'SSI Inputs'!$E$32","v":{"$error":"#VALUE!"}},{"$f":"'SSI Inputs'!$E$34","v":{"$error":"#VALUE!"}},{"$f":"'SSI Inputs'!$E$35","v":{"$error":"#VALUE!"}},{"$f":"'SSI Inputs'!$E$36","v":{"$error":"#VALUE!"}},{"$f":"'SSI Inputs'!$E$38","v":{"$error":"#VALUE!"}},{"$f":"'SSI Inputs'!$E$39","v":{"$error":"#VALUE!"}},{"$f":"'SSI Inputs'!$E$40","v":{"$error":"#VALUE!"}},{"$f":"'SSI Inputs'!$R$18","v":175},{"$f":"'SSI Inputs'!$R$19","v":175},{"$f":"'SSI Inputs'!$R$20","v":175},{"$f":"'SSI Inputs'!$R$21","v":175}]
[]
[]
[]
[]
[]
[]
[]
[]
[]
[]
[]
[]
[]
[]
[]
[]
[]
[]
[]
[]
[]
[]
[]
[]
[]
[]
[]
[]
[]
[]
[]
[]
[]
[]
[]
[]
[]
[]
[]
[]
[]
[]
[]
[]
[]
[]
[]
[]
[]
[]
[]
[null,null,null,null,null,null,null,null,null,"Exposure",null,null,null,null,null,null,null,null,null,null,null,null,null,null,null,null,null,null,null,null,null,null,null,null,null,null,"Exposure-Severity-Complexity Product"]
[null,null,null,null,null,null,null,null,null,"Q1","Q2","I"]
[null,null,null,null,null,null,null,null,null,{"$f":"SUMPRODUCT($AN4:$BC4,$AN$49:$BC$49)","v":{"$error":"#VALUE!"}},{"$f":"SUMPRODUCT($BE4:$BT4,$BE$49:$BT$49)","v":{"$error":"#VALUE!"}},{"$f":"PRODUCT(J103:K103)","v":{"$error":"#VALUE!"}},null,null,null,null,null,null,null,null,null,null,null,null,null,null,null,null,null,null,null,null,null,null,null,null,{"$f":"L103*R4*AI4","v":{"$error":"#VALUE!"}}]
[null,null,null,null,null,null,null,null,null,{"$f":"SUMPRODUCT($AN5:$BC5,$AN$49:$BC$49)","v":{"$error":"#VALUE!"}},{"$f":"SUMPRODUCT($BE5:$BT5,$BE$49:$BT$49)","v":{"$error":"#VALUE!"}},{"$f":"PRODUCT(J104:K104)","v":{"$error":"#VALUE!"}},null,null,null,null,null,null,null,null,null,null,null,null,null,null,null,null,null,null,null,null,null,null,null,null,{"$f":"L104*R5*AI5","v":{"$error":"#VALUE!"}}]
[null,null,null,null,null,null,null,null,null,{"$error":"#VALUE!"},{"$error":"#VALUE!"},{"$error":"#VALUE!"},null,null,null,null,null,null,null,null,null,null,null,null,null,null,null,null,null,null,null,null,null,null,null,null,{"$error":"#VALUE!"}]
[null,null,null,null,null,null,null,null,null,{"$error":"#VALUE!"},{"$error":"#VALUE!"},{"$error":"#VALUE!"},null,null,null,null,null,null,null,null,null,null,null,null,null,null,null,null,null,null,null,null,null,null,null,null,{"$error":"#VALUE!"}]
[null,null,null,null,null,null,null,null,null,{"$error":"#VALUE!"},{"$error":"#VALUE!"},{"$error":"#VALUE!"},null,null,null,null,null,null,null,null,null,null,null,null,null,null,null,null,null,null,null,null,null,null,null,null,{"$error":"#VALUE!"}]
[null,null,null,null,null,null,null,null,null,{"$error":"#VALUE!"},{"$error":"#VALUE!"},{"$error":"#VALUE!"},null,null,null,null,null,null,null,null,null,null,null,null,null,null,null,null,null,null,null,null,null,null,null,null,{"$error":"#VALUE!"}]
[null,null,null,null,null,null,null,null,null,{"$error":"#VALUE!"},{"$error":"#VALUE!"},{"$error":"#VALUE!"},null,null,null,null,null,null,null,null,null,null,null,null,null,null,null,null,null,null,null,null,null,null,null,null,{"$error":"#VALUE!"}]
[null,null,null,null,null,null,null,null,null,{"$error":"#VALUE!"},{"$error":"#VALUE!"},{"$error":"#VALUE!"},null,null,null,null,null,null,null,null,null,null,null,null,null,null,null,null,null,null,null,null,null,null,null,null,{"$error":"#VALUE!"}]
[null,null,null,null,null,null,null,null,null,{"$error":"#VALUE!"},{"$error":"#VALUE!"},{"$error":"#VALUE!"},null,null,null,null,null,null,null,null,null,null,null,null,null,null,null,null,null,null,null,null,null,null,null,null,{"$error":"#VALUE!"}]
[null,null,null,null,null,null,null,null,null,{"$error":"#VALUE!"},{"$error":"#VALUE!"},{"$error":"#VALUE!"},null,null,null,null,null,null,null,null,null,null,null,null,null,null,null,null,null,null,null,null,null,null,null,null,{"$error":"#VALUE!"}]
[null,null,null,null,null,null,null,null,null,{"$error":"#VALUE!"},{"$error":"#VALUE!"},{"$error":"#VALUE!"},null,null,null,null,null,null,null,null,null,null,null,null,null,null,null,null,null,null,null,null,null,null,null,null,{"$error":"#VALUE!"}]
[null,null,null,null,null,null,null,null,null,{"$error":"#VALUE!"},{"$error":"#VALUE!"},{"$error":"#VALUE!"},null,null,null,null,null,null,null,null,null,null,null,null,null,null,null,null,null,null,null,null,null,null,null,null,{"$error":"#VALUE!"}]
[null,null,null,null,null,null,null,null,null,{"$error":"#VALUE!"},{"$error":"#VALUE!"},{"$error":"#VALUE!"},null,null,null,null,null,null,null,null,null,null,null,null,null,null,null,null,null,null,null,null,null,null,null,null,{"$error":"#VALUE!"}]
[null,null,null,null,null,null,null,null,null,{"$error":"#VALUE!"},{"$error":"#VALUE!"},{"$error":"#VALUE!"},null,null,null,null,null,null,null,null,null,null,null,null,null,null,null,null,null,null,null,null,null,null,null,null,{"$error":"#VALUE!"}]
[null,null,null,null,null,null,null,null,null,{"$error":"#VALUE!"},{"$error":"#VALUE!"},{"$error":"#VALUE!"},null,null,null,null,null,null,null,null,null,null,null,null,null,null,null,null,null,null,null,null,null,null,null,null,{"$error":"#VALUE!"}]
[null,null,null,null,null,null,null,null,null,{"$error":"#VALUE!"},{"$error":"#VALUE!"},{"$error":"#VALUE!"},null,null,null,null,null,null,null,null,null,null,null,null,null,null,null,null,null,null,null,null,null,null,null,null,{"$error":"#VALUE!"}]
[null,null,null,null,null,null,null,null,null,{"$error":"#VALUE!"},{"$error":"#VALUE!"},{"$error":"#VALUE!"},null,null,null,null,null,null,null,null,null,null,null,null,null,null,null,null,null,null,null,null,null,null,null,null,{"$error":"#VALUE!"}]
[null,null,null,null,null,null,null,null,null,{"$error":"#VALUE!"},{"$error":"#VALUE!"},{"$error":"#VALUE!"},null,null,null,null,null,null,null,null,null,null,null,null,null,null,null,null,null,null,null,null,null,null,null,null,{"$error":"#VALUE!"}]
[null,null,null,null,null,null,null,null,null,{"$error":"#VALUE!"},{"$error":"#VALUE!"},{"$error":"#VALUE!"},null,null,null,null,null,null,null,null,null,null,null,null,null,null,null,null,null,null,null,null,null,null,null,null,{"$error":"#VALUE!"}]
[null,null,null,null,null,null,null,null,null,{"$error":"#VALUE!"},{"$error":"#VALUE!"},{"$error":"#VALUE!"},null,null,null,null,null,null,null,null,null,null,null,null,null,null,null,null,null,null,null,null,null,null,null,null,{"$error":"#VALUE!"}]
[null,null,null,null,null,null,null,null,null,{"$error":"#VALUE!"},{"$error":"#VALUE!"},{"$error":"#VALUE!"},null,null,null,null,null,null,null,null,null,null,null,null,null,null,null,null,null,null,null,null,null,null,null,null,{"$error":"#VALUE!"}]
[null,null,null,null,null,null,null,null,null,{"$error":"#VALUE!"},{"$error":"#VALUE!"},{"$error":"#VALUE!"},null,null,null,null,null,null,null,null,null,null,null,null,null,null,null,null,null,null,null,null,null,null,null,null,{"$error":"#VALUE!"}]
[null,null,null,null,null,null,null,null,null,{"$error":"#VALUE!"},{"$error":"#VALUE!"},{"$error":"#VALUE!"},null,null,null,null,null,null,null,null,null,null,null,null,null,null,null,null,null,null,null,null,null,null,null,null,{"$error":"#VALUE!"}]
[null,null,null,null,null,null,null,null,null,{"$error":"#VALUE!"},{"$error":"#VALUE!"},{"$error":"#VALUE!"},null,null,null,null,null,null,null,null,null,null,null,null,null,null,null,null,null,null,null,null,null,null,null,null,{"$error":"#VALUE!"}]
[null,null,null,null,null,null,null,null,null,{"$error":"#VALUE!"},{"$error":"#VALUE!"},{"$error":"#VALUE!"},null,null,null,null,null,null,null,null,null,null,null,null,null,null,null,null,null,null,null,null,null,null,null,null,{"$error":"#VALUE!"}]
[null,null,null,null,null,null,null,null,null,{"$error":"#VALUE!"},{"$error":"#VALUE!"},{"$error":"#VALUE!"},null,null,null,null,null,null,null,null,null,null,null,null,null,null,null,null,null,null,null,null,null,null,null,null,{"$error":"#VALUE!"}]
[null,null,null,null,null,null,null,null,null,{"$error":"#VALUE!"},{"$error":"#VALUE!"},{"$error":"#VALUE!"},null,null,null,null,null,null,null,null,null,null,null,null,null,null,null,null,null,null,null,null,null,null,null,null,{"$error":"#VALUE!"}]
[null,null,null,null,null,null,null,null,null,{"$error":"#VALUE!"},{"$error":"#VALUE!"},{"$error":"#VALUE!"},null,null,null,null,null,null,null,null,null,null,null,null,null,null,null,null,null,null,null,null,null,null,null,null,{"$error":"#VALUE!"}]
[null,null,null,null,null,null,null,null,null,{"$error":"#VALUE!"},{"$error":"#VALUE!"},{"$error":"#VALUE!"},null,null,null,null,null,null,null,null,null,null,null,null,null,null,null,null,null,null,null,null,null,null,null,null,{"$error":"#VALUE!"}]
[null,null,null,null,null,null,null,null,null,{"$error":"#VALUE!"},{"$error":"#VALUE!"},{"$error":"#VALUE!"},null,null,null,null,null,null,null,null,null,null,null,null,null,null,null,null,null,null,null,null,null,null,null,null,{"$error":"#VALUE!"}]
[null,null,null,null,null,null,null,null,null,{"$error":"#VALUE!"},{"$error":"#VALUE!"},{"$error":"#VALUE!"},null,null,null,null,null,null,null,null,null,null,null,null,null,null,null,null,null,null,null,null,null,null,null,null,{"$error":"#VALUE!"}]
[null,null,null,null,null,null,null,null,null,{"$error":"#VALUE!"},{"$error":"#VALUE!"},{"$error":"#VALUE!"},null,null,null,null,null,null,null,null,null,null,null,null,null,null,null,null,null,null,null,null,null,null,null,null,{"$error":"#VALUE!"}]
[null,null,null,null,null,null,null,null,null,{"$error":"#VALUE!"},{"$error":"#VALUE!"},{"$error":"#VALUE!"},null,null,null,null,null,null,null,null,null,null,null,null,null,null,null,null,null,null,null,null,null,null,null,null,{"$error":"#VALUE!"}]
[null,null,null,null,null,null,null,null,null,{"$error":"#VALUE!"},{"$error":"#VALUE!"},{"$f":"PRODUCT(J136:K136)","v":{"$error":"#VALUE!"}},null,null,null,null,null,null,null,null,null,null,null,null,null,null,null,null,null,null,null,null,null,null,null,null,{"$error":"#VALUE!"}]
[null,null,null,null,null,null,null,null,null,{"$error":"#VALUE!"},{"$error":"#VALUE!"},{"$f":"PRODUCT(J137:K137)","v":{"$error":"#VALUE!"}},null,null,null,null,null,null,null,null,null,null,null,null,null,null,null,null,null,null,null,null,null,null,null,null,{"$error":"#VALUE!"}]
[null,null,null,null,null,null,null,null,null,{"$error":"#VALUE!"},{"$error":"#VALUE!"},{"$error":"#VALUE!"},null,null,null,null,null,null,null,null,null,null,null,null,null,null,null,null,null,null,null,null,null,null,null,null,{"$error":"#VALUE!"}]
[null,null,null,null,null,null,null,null,null,{"$error":"#VALUE!"},{"$error":"#VALUE!"},{"$error":"#VALUE!"},null,null,null,null,null,null,null,null,null,null,null,null,null,null,null,null,null,null,null,null,null,null,null,null,{"$error":"#VALUE!"}]
[null,null,null,null,null,null,null,null,null,{"$error":"#VALUE!"},{"$error":"#VALUE!"},{"$error":"#VALUE!"},null,null,null,null,null,null,null,null,null,null,null,null,null,null,null,null,null,null,null,null,null,null,null,null,{"$error":"#VALUE!"}]
[null,null,null,null,null,null,null,null,null,{"$error":"#VALUE!"},{"$error":"#VALUE!"},{"$error":"#VALUE!"},null,null,null,null,null,null,null,null,null,null,null,null,null,null,null,null,null,null,null,null,null,null,null,null,{"$error":"#VALUE!"}]
[null,null,null,null,null,null,null,null,null,{"$error":"#VALUE!"},{"$error":"#VALUE!"},{"$error":"#VALUE!"},null,null,null,null,null,null,null,null,null,null,null,null,null,null,null,null,null,null,null,null,null,null,null,null,{"$error":"#VALUE!"}]
[null,null,null,null,null,null,null,null,null,{"$error":"#VALUE!"},{"$error":"#VALUE!"},{"$error":"#VALUE!"},null,null,null,null,null,null,null,null,null,null,null,null,null,null,null,null,null,null,null,null,null,null,null,null,{"$error":"#VALUE!"}]
[null,null,null,null,null,null,null,null,null,{"$error":"#VALUE!"},{"$error":"#VALUE!"},{"$error":"#VALUE!"},null,null,null,null,null,null,null,null,null,null,null,null,null,null,null,null,null,null,null,null,null,null,null,null,{"$error":"#VALUE!"}]
[null,null,null,null,null,null,null,null,null,{"$error":"#VALUE!"},{"$error":"#VALUE!"},{"$error":"#VALUE!"},null,null,null,null,null,null,null,null,null,null,null,null,null,null,null,null,null,null,null,null,null,null,null,null,{"$error":"#VALUE!"}]
[null,null,null,null,null,null,null,null,null,{"$error":"#VALUE!"},{"$error":"#VALUE!"},{"$error":"#VALUE!"},null,null,null,null,null,null,null,null,null,null,null,null,null,null,null,null,null,null,null,null,null,null,null,null,{"$error":"#VALUE!"}]

{"sheet":"RCUT_Sig","index":31,"n_rows":126,"n_cols":72,"rows_kept":126,"cut":false,"hidden":true,"merged":[[1,56,1,71],[0,19,0,28],[0,30,0,32],[1,31,2,31],[1,32,2,32],[1,21,1,25],[1,27,1,28],[1,30,2,30],[100,9,100,11],[100,36,101,36],[1,34,2,34],[1,36,2,36],[1,39,1,54],[1,9,1,11],[1,13,1,17]]}
[null,null,null,null,null,null,null,null,null,null,null,null,null,null,null,null,null,null,null,"Conflicting Traffic Complexity",null,null,null,null,null,null,null,null,null,null,"Pedestrian Complexity"]
[null,null,null,null,null,null,null,null,null,"Exposure",null,null,null,"Severity",null,null,null,null,null,"Traffic Control",null,"Conflicting Lanes",null,null,null,null,null,"Conflicting Speed",null,null,"Indirect Paths Indicator","Non-intuitive movements indicator","Pedestrian Complexity factor",null,"Total Complexity Multiplier",null,"Exposure-Severity-Complexity Product",null,null,"Included in Mvmt1",null,null,null,null,null,null,null,null,null,null,null,null,null,null,null,null,"Included in Mvmt2"]
["#","Conflict Type","Mvmt1","Mvmt1_gen","Mvmt1_SpeedCat","Mvmt2","Mvmt2_gen","Mvmt2_SpeedCat",null,"Q1","Q2","I",null,"Speed_V1","Speed_V2","Angle","delta_V","P_FSI",null,null,null,"MajC","MinC","MajM/P","MinM/P","Score",null,"Speed","Factor",null,null,null,null,null,null,null,null,null,null,"MajT1","MajL1","MajR1","MajT2","MajL2","MajR2","MinT1","MinL1","MinR1","MinT2","MinL2","MinR2","MajNM1","MajNM2","MinNM1","MinNM2",null,"MajT1","MajL1","MajR1","MajT2","MajL2","MajR2","MinT1","MinL1","MinR1","MinT2","MinL2","MinR2","MajNM1","MajNM2","MinNM1","MinNM2"]
[1,"Crossing - LT","EBT, SBL","MajT1, MinL2","Major thru","WBL","MajL2","Major left",null,{"$f":"SUMPRODUCT($AN4:$BC4,$AN$28:$BC$28)","v":{"$error":"#VALUE!"}},{"$f":"SUMPRODUCT($BE4:$BT4,$BE$28:$BT$28)","v":{"$error":"#VALUE!"}},{"$f":"PRODUCT(J4:K4)","v":{"$error":"#VALUE!"}},null,{"$f":"VLOOKUP(E4,SSI_AGI_Range_VehSpeed,5,FALSE)","v":45},{"$f":"VLOOKUP(H4,SSI_AGI_Range_VehSpeed,5,FALSE)","v":20},{"$f":"IF(B4=\"Nonmotorized\",\"\",VLOOKUP(B4,SSI_AGI_Range_CollAngles,5,FALSE))","v":230},{"$f":"IF(B4=\"Nonmotorized\",\"\",SQRT(N4^2+O4^2-2*N4*O4*COS(RADIANS(P4)))/2)","v":29.924979939156898},{"$f":"IF(B4=\"Nonmotorized\",1/(1+EXP(3.8432-0.1237*O4)),(Q4/SSI_AGI_RegAlpha)^SSI_AGI_RegK+(Q4/SSI_AGI_RegAlpha)^SSI_AGI_RegK-((Q4/SSI_AGI_RegAlpha)^SSI_AGI_RegK)*((Q4/SSI_AGI_RegAlpha)^SSI_AGI_RegK))","v":9.0286582411373745E-2},null,{"$f":"SSI_AGI_ProtFactor","v":0.505},null,1,null,null,null,{"$f":"MAX(1,IF(B4<>\"Pedestrian\",V4*SSI_AGI_MajorThruLanes+W4*SSI_AGI_MinorThruLanes+X4*IF(SSI_AGI_MajorThruLanes=1,SSI_AGI_MergeWeightL1,IF(SSI_AGI_MajorThruLanes=2,SSI_AGI_MergeWeightL1+SSI_AGI_MergeWeightL2,SSI_AGI_MergeWeightL1+SSI_AGI_MergeWeightL2+SSI_AGI_MergeWeightL3*(SSI_AGI_MajorThruLanes-2)))+Y4*IF(SSI_AGI_MinorThruLanes=1,SSI_AGI_MergeWeightL1,IF(SSI_AGI_MinorThruLanes=2,SSI_AGI_MergeWeightL1+SSI_AGI_MergeWeightL2,SSI_AGI_MergeWeightL1+SSI_AGI_MergeWeightL2+SSI_AGI_MergeWeightL3*(SSI_AGI_MinorThruLanes-2))),V4*SSI_AGI_MajorThruLanes+W4*SSI_AGI_MinorThruLanes+X4*IF(SSI_AGI_MajorThruLanes=1,SSI_AGI_NM_MergeWeightL1,IF(SSI_AGI_MajorThruLanes=2,SSI_AGI_NM_MergeWeightL1+SSI_AGI_NM_MergeWeightL2,SSI_AGI_NM_MergeWeightL1+SSI_AGI_NM_MergeWeightL2+SSI_AGI_NM_MergeWeightL3*(SSI_AGI_MajorThruLanes-2)))+Y4*IF(SSI_AGI_MinorThruLanes=1,SSI_AGI_NM_MergeWeightL1,IF(SSI_AGI_MinorThruLanes=2,SSI_AGI_NM_MergeWeightL1+SSI_AGI_NM_MergeWeightL2,SSI_AGI_NM_MergeWeightL1+SSI_AGI_NM_MergeWeightL2+SSI_AGI_NM_MergeWeightL3*(SSI_AGI_MinorThruLanes-2)))))","v":2},null,{"$f":"IF(B4=\"Diverging\",\"\",SSI_AGI_VehSpeed_MjrThru)","v":45},{"$f":"IF(B4=\"Diverging\",1,1-((60-AB4)/60*0.1/0.15))","v":0.83333333333333326},null,null,null,{"$f":"IF(SSI_AGI_ConsiderNMComplexity=\"Yes\",1+AE4+AF4,1)","v":1},null,{"$f":"PRODUCT(Z4,T4,AC4,AG4)","v":0.84166666666666656},null,{"$f":"L4*R4*AI4","v":{"$error":"#VALUE!"}},null,null,{"$f":"IF(ISNUMBER(SEARCH(AN$3,$D4)),1,\"\")","v":1},{"$f":"IF(ISNUMBER(SEARCH(AO$3,$D4)),1,\"\")","v":""},"","","","","","","","",1,"","","","","",null,{"$f":"IF(ISNUMBER(SEARCH(BE$3,$G4)),1,\"\")","v":""},{"$f":"IF(ISNUMBER(SEARCH(BF$3,$G4)),1,\"\")","v":""},"","",1,"","","","","","","","","","",""]
[2,"Crossing - LT","WBT, NBL","MajT2, MinL1","Major thru","EBL","MajL1","Major left",null,{"$error":"#VALUE!"},{"$f":"SUMPRODUCT($BE5:$BT5,$BE$28:$BT$28)","v":{"$error":"#VALUE!"}},{"$f":"PRODUCT(J5:K5)","v":{"$error":"#VALUE!"}},null,45,20,230,{"$f":"IF(B5=\"Nonmotorized\",\"\",SQRT(N5^2+O5^2-2*N5*O5*COS(RADIANS(P5)))/2)","v":29.924979939156898},9.0286582411373745E-2,null,0.505,null,1,null,null,null,2,null,45,0.83333333333333326,null,null,null,1,null,0.84166666666666656,null,{"$f":"L5*R5*AI5","v":{"$error":"#VALUE!"}},null,null,{"$f":"IF(ISNUMBER(SEARCH(AN$3,$D5)),1,\"\")","v":""},"","",1,"","","",1,"","","","","","","","",null,{"$f":"IF(ISNUMBER(SEARCH(BE$3,$G5)),1,\"\")","v":""},1,"","","","","","","","","","","","","",""]
[3,"Merging","EBT, SBL","MajT1, MinL2","Major thru","NBT, NBL, NBR","MinT1, MinL1, MinR1","Signal near",null,{"$error":"#VALUE!"},{"$error":"#VALUE!"},{"$error":"#VALUE!"},null,45,15,45,17.995873453365363,1.3373938286506865E-2,null,0.505,null,null,null,1,null,1.75,null,45,0.83333333333333326,null,null,null,1,null,0.73645833333333333,null,{"$error":"#VALUE!"},null,null,1,"","","","","","","","","",1,"","","","","",null,"","","","","","",1,1,1,"","","","","","",""]
[4,"Merging","WBL","MajL2","Major left","EBR, SBT","MajR1, MinT2","Major right",null,{"$error":"#VALUE!"},{"$error":"#VALUE!"},{"$error":"#VALUE!"},null,20,15,45,7.0840654162717795,3.9022923271840544E-4,null,0.505,null,1,null,null,null,2,null,45,0.83333333333333326,null,null,null,1,null,0.84166666666666656,null,{"$error":"#VALUE!"},null,null,"","","","",1,"","","","","","","","","","","",null,"","",1,"","","","","","",1,"","","","","",""]
[5,"Merging","WBT, NBL","MajT2, MinL1","Major thru","SBT, SBL, SBR","MinT2, MinL2, MinR2","Signal near",null,{"$error":"#VALUE!"},{"$error":"#VALUE!"},{"$error":"#VALUE!"},null,45,15,45,17.995873453365363,1.3373938286506865E-2,null,0.505,null,null,null,1,null,1.75,null,45,0.83333333333333326,null,null,null,1,null,0.73645833333333333,null,{"$error":"#VALUE!"},null,null,"","","",1,"","","",1,"","","","","","","","",null,"","","","","","","","","",1,1,1,"","","",""]
[6,"Merging","EBL","MajL1","Major left","WBR, NBT","MajR2, MinT1","Major right",null,{"$error":"#VALUE!"},{"$error":"#VALUE!"},{"$error":"#VALUE!"},null,20,15,45,7.0840654162717795,3.9022923271840544E-4,null,0.505,null,1,null,null,null,2,null,45,0.83333333333333326,null,null,null,1,null,0.84166666666666656,null,{"$error":"#VALUE!"},null,null,"",1,"","","","","","","","","","","","","","",null,"","","","","",1,1,"","","","","","","","",""]
[7,"Merging","EBT, EBL, EBR","MajT1, MajL1, MajR1","Major thru","SBT, SBL","MinT2, MinL2","Signal near",null,{"$error":"#VALUE!"},{"$error":"#VALUE!"},{"$error":"#VALUE!"},null,45,15,45,17.995873453365363,1.3373938286506865E-2,null,0.505,null,null,null,1,null,1.75,null,45,0.83333333333333326,null,null,null,1,null,0.73645833333333333,null,{"$error":"#VALUE!"},null,null,1,1,1,"","","","","","","","","","","","","",null,"","","","","","","","","",1,1,"","","","",""]
[8,"Merging","WBT, WBL, WBR","MajT2, MajL2, MajR2","Major thru","NBT, NBL","MinT1, MinL1","Signal near",null,{"$error":"#VALUE!"},{"$error":"#VALUE!"},{"$error":"#VALUE!"},null,45,15,45,17.995873453365363,1.3373938286506865E-2,null,0.505,null,null,null,1,null,1.75,null,45,0.83333333333333326,null,null,null,1,null,0.73645833333333333,null,{"$error":"#VALUE!"},null,null,"","","",1,1,1,"","","","","","","","","","",null,"","","","","","",1,1,"","","","","","","",""]
[9,"Diverging","EBT, EBR, SBL, SBT","MajT1, MajR1, MinL2, MinT2","Major thru","EBL","MajL1","Major left",null,{"$error":"#VALUE!"},{"$error":"#VALUE!"},{"$error":"#VALUE!"},null,45,20,10,12.77053292327718,3.6481988362114144E-3,null,1,null,null,null,null,null,1,null,"",1,null,null,null,1,null,1,null,{"$error":"#VALUE!"},null,null,1,"",1,"","","","","","",1,1,"","","","","",null,"",1,"","","","","","","","","","","","","",""]
[10,"Diverging","EBT, SBL","MajT1, MinL2","Major thru","EBR, SBT","MajR1, MinT2","Major right",null,{"$error":"#VALUE!"},{"$error":"#VALUE!"},{"$error":"#VALUE!"},null,45,15,10,15.169950011729762,7.0056226631585675E-3,null,1,null,null,null,null,null,1,null,"",1,null,null,null,1,null,1,null,{"$error":"#VALUE!"},null,null,1,"","","","","","","","","",1,"","","","","",null,"","",1,"","","","","","",1,"","","","","",""]
[11,"Diverging","EBT, SBL, NBR","MajT1, MinL2, MinR1","Major thru","NBL, NBT","MinL1, MinT1","Major left",null,{"$error":"#VALUE!"},{"$error":"#VALUE!"},{"$error":"#VALUE!"},null,45,20,10,12.77053292327718,3.6481988362114144E-3,null,1,null,null,null,null,null,1,null,"",1,null,null,null,1,null,1,null,{"$error":"#VALUE!"},null,null,1,"","","","","","","",1,"",1,"","","","","",null,"","","","","","",1,1,"","","","","","","",""]
[12,"Diverging","WBT, WBR, NBL, NBT","MajT2, MajR2, MinL1, MinT1","Major thru","WBL","MajL2","Major left",null,{"$error":"#VALUE!"},{"$error":"#VALUE!"},{"$error":"#VALUE!"},null,45,20,10,12.77053292327718,3.6481988362114144E-3,null,1,null,null,null,null,null,1,null,"",1,null,null,null,1,null,1,null,{"$error":"#VALUE!"},null,null,"","","",1,"",1,1,1,"","","","","","","","",null,"","","","",1,"","","","","","","","","","",""]
[13,"Diverging","WBT, NBL","MajT2, MinL1","Major thru","WBR, NBT","MajR2, MinT1","Major right",null,{"$error":"#VALUE!"},{"$error":"#VALUE!"},{"$error":"#VALUE!"},null,45,15,10,15.169950011729762,7.0056226631585675E-3,null,1,null,null,null,null,null,1,null,"",1,null,null,null,1,null,1,null,{"$error":"#VALUE!"},null,null,"","","",1,"","","",1,"","","","","","","","",null,"","","","","",1,1,"","","","","","","","",""]
[14,"Diverging","WBT, NBL, SBR","MajT2, MinL1, MinR2","Major thru","SBL, SBT","MinL2, MinT2","Major left",null,{"$error":"#VALUE!"},{"$error":"#VALUE!"},{"$error":"#VALUE!"},null,45,20,10,12.77053292327718,3.6481988362114144E-3,null,1,null,null,null,null,null,1,null,"",1,null,null,null,1,null,1,null,{"$error":"#VALUE!"},null,null,"","","",1,"","","",1,"","","",1,"","","","",null,"","","","","","","","","",1,1,"","","","",""]
[15,"Nonmotorized","NB Ped","MinNM1","Nonmotorized","EBR, SBT","MajR1, MinT2","Major right",null,{"$error":"#VALUE!"},{"$error":"#VALUE!"},{"$error":"#VALUE!"},null,0,15,"","",0.1205004039155782,null,{"$f":"SSI_AGI_ProtFactor","v":0.505},null,null,1,2,null,5.5,null,45,0.83333333333333326,null,null,null,1,null,2.3145833333333332,null,{"$error":"#VALUE!"},null,null,"","","","","","","","","","","","","","",1,"",null,"","",1,"","","","","","",1,"","","","","",""]
[16,"Nonmotorized","NB Ped","MinNM1","Nonmotorized","WBL","MajL2","Major left",null,{"$error":"#VALUE!"},{"$error":"#VALUE!"},{"$error":"#VALUE!"},null,0,20,"","",0.20274912921655375,null,0.505,null,null,1,2,null,5.5,null,45,0.83333333333333326,null,null,null,1,null,2.3145833333333332,null,{"$error":"#VALUE!"},null,null,"","","","","","","","","","","","","","",1,"",null,"","","","",1,"","","","","","","","","","",""]
[17,"Nonmotorized","NB Ped","MinNM1","Nonmotorized","NBT, NBL, NBR","MinT1, MinL1, MinR1","Signal near",null,{"$error":"#VALUE!"},{"$error":"#VALUE!"},{"$error":"#VALUE!"},null,0,15,"","",0.1205004039155782,null,0.505,null,null,1,null,null,2,null,{"$f":"IF(B20=\"Diverging\",\"\",SSI_AGI_VehSpeed_MnrThru)","v":29.75},0.66388888888888886,null,null,null,1,null,0.67052777777777772,null,{"$error":"#VALUE!"},null,null,"","","","","","","","","","","","","","",1,"",null,"","","","","","",1,1,1,"","","","","","",""]
[18,"Nonmotorized","EB/WB Ped","MajNM1, MajNM2","Nonmotorized","EBR, SBT","MajR1, MinT2","Major right",null,{"$error":"#VALUE!"},{"$error":"#VALUE!"},{"$error":"#VALUE!"},null,0,15,"","",0.1205004039155782,null,0.505,null,1,null,null,null,2,null,{"$f":"IF(B21=\"Diverging\",\"\",SSI_AGI_VehSpeed_MjrThru)","v":45},0.83333333333333326,null,1,null,2,null,1.6833333333333331,null,{"$error":"#VALUE!"},null,null,"","","","","","","","","","","","",1,1,"","",null,"","",1,"","","","","","",1,"","","","","",""]
[19,"Nonmotorized","EB/WB Ped","MajNM1, MajNM2","Nonmotorized","EBT, SBL","MajT1, MinL2","Major thru",null,{"$error":"#VALUE!"},{"$error":"#VALUE!"},{"$error":"#VALUE!"},null,0,45,"","",0.84855340903216459,null,0.505,null,1,null,null,null,2,null,45,0.83333333333333326,null,1,null,2,null,1.6833333333333331,null,{"$error":"#VALUE!"},null,null,"","","","","","","","","","","","",1,1,"","",null,1,"","","","","","","","","",1,"","","","",""]
[20,"Nonmotorized","EB/WB Ped","MajNM1, MajNM2","Nonmotorized","WBT, NBL","MajT2, MinL1","Major thru",null,{"$error":"#VALUE!"},{"$error":"#VALUE!"},{"$error":"#VALUE!"},null,0,45,"","",0.84855340903216459,null,0.505,null,1,null,null,null,2,null,45,0.83333333333333326,null,1,null,2,null,1.6833333333333331,null,{"$error":"#VALUE!"},null,null,"","","","","","","","","","","","",1,1,"","",null,"","","",1,"","","",1,"","","","","","","",""]
[21,"Nonmotorized","EB/WB Ped","MajNM1, MajNM2","Nonmotorized","WBR, NBT","MajR2, MinT1","Major right",null,{"$error":"#VALUE!"},{"$error":"#VALUE!"},{"$error":"#VALUE!"},null,0,15,"","",0.1205004039155782,null,0.505,null,1,null,null,null,2,null,45,0.83333333333333326,null,1,null,2,null,1.6833333333333331,null,{"$error":"#VALUE!"},null,null,"","","","","","","","","","","","",1,1,"","",null,"","","","","",1,1,"","","","","","","","",""]
[22,"Nonmotorized","SB Ped","MinNM2","Nonmotorized","WBR, NBT","MajR2, MinT1","Major right",null,{"$error":"#VALUE!"},{"$error":"#VALUE!"},{"$error":"#VALUE!"},null,0,15,"","",0.1205004039155782,null,0.505,null,null,1,2,null,5.5,null,45,0.83333333333333326,null,null,null,1,null,2.3145833333333332,null,{"$error":"#VALUE!"},null,null,"","","","","","","","","","","","","","","",1,null,"","","","","",1,1,"","","","","","","","",""]
[23,"Nonmotorized","SB Ped","MinNM2","Nonmotorized","EBL","MajL1","Major left",null,{"$error":"#VALUE!"},{"$error":"#VALUE!"},{"$error":"#VALUE!"},null,0,20,"","",0.20274912921655375,null,0.505,null,null,1,2,null,5.5,null,45,0.83333333333333326,null,null,null,1,null,2.3145833333333332,null,{"$error":"#VALUE!"},null,null,"","","","","","","","","","","","","","","",1,null,"",1,"","","","","","","","","","","","","",""]
[24,"Nonmotorized","SB Ped","MinNM2","Nonmotorized","SBT, SBL, SBR","MinT2, MinL2, MinR2","Signal near",null,{"$error":"#VALUE!"},{"$error":"#VALUE!"},{"$error":"#VALUE!"},null,0,15,"","",0.1205004039155782,null,0.505,null,null,1,null,null,2,null,{"$f":"IF(B27=\"Diverging\",\"\",SSI_AGI_VehSpeed_MnrThru)","v":29.75},0.66388888888888886,null,null,null,1,null,0.67052777777777772,null,{"$error":"#VALUE!"},null,null,"","","","","","","","","","","","","","","",1,null,"","","","","","","","","",1,1,1,"","","",""]
[null,null,null,null,null,null,null,null,null,null,null,null,null,null,null,null,null,null,null,null,null,null,null,null,null,null,null,null,null,null,null,null,null,null,null,null,null,null,"O",{"$f":"'SSI Inputs'!$D$26","v":{"$error":"#VALUE!"}},{"$f":"'SSI Inputs'!$D$27","v":{"$error":"#VALUE!"}},{"$f":"'SSI Inputs'!$D$28","v":{"$error":"#VALUE!"}},{"$f":"'SSI Inputs'!$D$30","v":{"$error":"#VALUE!"}},{"$f":"'SSI Inputs'!$D$31","v":{"$error":"#VALUE!"}},{"$f":"'SSI Inputs'!$D$32","v":{"$error":"#VALUE!"}},{"$f":"'SSI Inputs'!$D$34","v":{"$error":"#VALUE!"}},{"$f":"'SSI Inputs'!$D$35","v":{"$error":"#VALUE!"}},{"$f":"'SSI Inputs'!$D$36","v":{"$error":"#VALUE!"}},{"$f":"'SSI Inputs'!$D$38","v":{"$error":"#VALUE!"}},{"$f":"'SSI Inputs'!$D$39","v":{"$error":"#VALUE!"}},{"$f":"'SSI Inputs'!$D$40","v":{"$error":"#VALUE!"}},{"$f":"'SSI Inputs'!$Q$18","v":175},{"$f":"'SSI Inputs'!$Q$19","v":175},{"$f":"'SSI Inputs'!$Q$20","v":175},{"$f":"'SSI Inputs'!$Q$21","v":175},"O",{"$f":"'SSI Inputs'!$D$26","v":{"$error":"#VALUE!"}},{"$f":"'SSI Inputs'!$D$27","v":{"$error":"#VALUE!"}},{"$f":"'SSI Inputs'!$D$28","v":{"$error":"#VALUE!"}},{"$f":"'SSI Inputs'!$D$30","v":{"$error":"#VALUE!"}},{"$f":"'SSI Inputs'!$D$31","v":{"$error":"#VALUE!"}},{"$f":"'SSI Inputs'!$D$32","v":{"$error":"#VALUE!"}},{"$f":"'SSI Inputs'!$D$34","v":{"$error":"#VALUE!"}},{"$f":"'SSI Inputs'!$D$35","v":{"$error":"#VALUE!"}},{"$f":"'SSI Inputs'!$D$36","v":{"$error":"#VALUE!"}},{"$f":"'SSI Inputs'!$D$38","v":{"$error":"#VALUE!"}},{"$f":"'SSI Inputs'!$D$39","v":{"$error":"#VALUE!"}},{"$f":"'SSI Inputs'!$D$40","v":{"$error":"#VALUE!"}},{"$f":"'SSI Inputs'!$Q$18","v":175},{"$f":"'SSI Inputs'!$Q$19","v":175},{"$f":"'SSI Inputs'!$Q$20","v":175},{"$f":"'SSI Inputs'!$Q$21","v":175}]
[null,null,null,null,null,null,null,null,null,null,null,null,null,null,null,null,null,null,null,null,null,null,null,null,null,null,null,null,null,null,null,null,null,null,null,null,null,null,"D",{"$f":"'SSI Inputs'!$E$26","v":{"$error":"#VALUE!"}},{"$f":"'SSI Inputs'!$E$27","v":{"$error":"#VALUE!"}},{"$f":"'SSI Inputs'!$E$28","v":{"$error":"#VALUE!"}},{"$f":"'SSI Inputs'!$E$30","v":{"$error":"#VALUE!"}},{"$f":"'SSI Inputs'!$E$31","v":{"$error":"#VALUE!"}},{"$f":"'SSI Inputs'!$E$32","v":{"$error":"#VALUE!"}},{"$f":"'SSI Inputs'!$E$34","v":{"$error":"#VALUE!"}},{"$f":"'SSI Inputs'!$E$35","v":{"$error":"#VALUE!"}},{"$f":"'SSI Inputs'!$E$36","v":{"$error":"#VALUE!"}},{"$f":"'SSI Inputs'!$E$38","v":{"$error":"#VALUE!"}},{"$f":"'SSI Inputs'!$E$39","v":{"$error":"#VALUE!"}},{"$f":"'SSI Inputs'!$E$40","v":{"$error":"#VALUE!"}},{"$f":"'SSI Inputs'!$R$18","v":175},{"$f":"'SSI Inputs'!$R$19","v":175},{"$f":"'SSI Inputs'!$R$20","v":175},{"$f":"'SSI Inputs'!$R$21","v":175},"D",{"$f":"'SSI Inputs'!$E$26","v":{"$error":"#VALUE!"}},{"$f":"'SSI Inputs'!$E$27","v":{"$error":"#VALUE!"}},{"$f":"'SSI Inputs'!$E$28","v":{"$error":"#VALUE!"}},{"$f":"'SSI Inputs'!$E$30","v":{"$error":"#VALUE!"}},{"$f":"'SSI Inputs'!$E$31","v":{"$error":"#VALUE!"}},{"$f":"'SSI Inputs'!$E$32","v":{"$error":"#VALUE!"}},{"$f":"'SSI Inputs'!$E$34","v":{"$error":"#VALUE!"}},{"$f":"'SSI Inputs'!$E$35","v":{"$error":"#VALUE!"}},{"$f":"'SSI Inputs'!$E$36","v":{"$error":"#VALUE!"}},{"$f":"'SSI Inputs'!$E$38","v":{"$error":"#VALUE!"}},{"$f":"'SSI Inputs'!$E$39","v":{"$error":"#VALUE!"}},{"$f":"'SSI Inputs'!$E$40","v":{"$error":"#VALUE!"}},{"$f":"'SSI Inputs'!$R$18","v":175},{"$f":"'SSI Inputs'!$R$19","v":175},{"$f":"'SSI Inputs'!$R$20","v":175},{"$f":"'SSI Inputs'!$R$21","v":175}]
[]
[]
[]
[]
[]
[]
[]
[]
[]
[]
[]
[]
[]
[]
[]
[]
[]
[]
[]
[]
[]
[]
[]
[]
[]
[]
[]
[]
[]
[]
[]
[]
[]
[]
[]
[]
[]
[]
[]
[]
[]
[]
[]
[]
[]
[]
[]
[]
[]
[]
[]
[]
[]
[]
[]
[]
[]
[]
[]
[]
[]
[]
[]
[]
[]
[]
[]
[]
[]
[]
[]
[null,null,null,null,null,null,null,null,null,"Exposure",null,null,null,null,null,null,null,null,null,null,null,null,null,null,null,null,null,null,null,null,null,null,null,null,null,null,"Exposure-Severity-Complexity Product"]
[null,null,null,null,null,null,null,null,null,"Q1","Q2","I"]
[null,null,null,null,null,null,null,null,null,{"$f":"SUMPRODUCT($AN4:$BC4,$AN$29:$BC$29)","v":{"$error":"#VALUE!"}},{"$f":"SUMPRODUCT($BE4:$BT4,$BE$29:$BT$29)","v":{"$error":"#VALUE!"}},{"$f":"PRODUCT(J103:K103)","v":{"$error":"#VALUE!"}},null,null,null,null,null,null,null,null,null,null,null,null,null,null,null,null,null,null,null,null,null,null,null,null,{"$f":"L103*R4*AI4","v":{"$error":"#VALUE!"}}]
[null,null,null,null,null,null,null,null,null,{"$f":"SUMPRODUCT($AN5:$BC5,$AN$29:$BC$29)","v":{"$error":"#VALUE!"}},{"$f":"SUMPRODUCT($BE5:$BT5,$BE$29:$BT$29)","v":{"$error":"#VALUE!"}},{"$f":"PRODUCT(J104:K104)","v":{"$error":"#VALUE!"}},null,null,null,null,null,null,null,null,null,null,null,null,null,null,null,null,null,null,null,null,null,null,null,null,{"$f":"L104*R5*AI5","v":{"$error":"#VALUE!"}}]
[null,null,null,null,null,null,null,null,null,{"$error":"#VALUE!"},{"$error":"#VALUE!"},{"$error":"#VALUE!"},null,null,null,null,null,null,null,null,null,null,null,null,null,null,null,null,null,null,null,null,null,null,null,null,{"$error":"#VALUE!"}]
[null,null,null,null,null,null,null,null,null,{"$error":"#VALUE!"},{"$error":"#VALUE!"},{"$error":"#VALUE!"},null,null,null,null,null,null,null,null,null,null,null,null,null,null,null,null,null,null,null,null,null,null,null,null,{"$error":"#VALUE!"}]
[null,null,null,null,null,null,null,null,null,{"$error":"#VALUE!"},{"$error":"#VALUE!"},{"$error":"#VALUE!"},null,null,null,null,null,null,null,null,null,null,null,null,null,null,null,null,null,null,null,null,null,null,null,null,{"$error":"#VALUE!"}]
[null,null,null,null,null,null,null,null,null,{"$error":"#VALUE!"},{"$error":"#VALUE!"},{"$error":"#VALUE!"},null,null,null,null,null,null,null,null,null,null,null,null,null,null,null,null,null,null,null,null,null,null,null,null,{"$error":"#VALUE!"}]
[null,null,null,null,null,null,null,null,null,{"$error":"#VALUE!"},{"$error":"#VALUE!"},{"$error":"#VALUE!"},null,null,null,null,null,null,null,null,null,null,null,null,null,null,null,null,null,null,null,null,null,null,null,null,{"$error":"#VALUE!"}]
[null,null,null,null,null,null,null,null,null,{"$error":"#VALUE!"},{"$error":"#VALUE!"},{"$error":"#VALUE!"},null,null,null,null,null,null,null,null,null,null,null,null,null,null,null,null,null,null,null,null,null,null,null,null,{"$error":"#VALUE!"}]
[null,null,null,null,null,null,null,null,null,{"$error":"#VALUE!"},{"$error":"#VALUE!"},{"$error":"#VALUE!"},null,null,null,null,null,null,null,null,null,null,null,null,null,null,null,null,null,null,null,null,null,null,null,null,{"$error":"#VALUE!"}]
[null,null,null,null,null,null,null,null,null,{"$error":"#VALUE!"},{"$error":"#VALUE!"},{"$error":"#VALUE!"},null,null,null,null,null,null,null,null,null,null,null,null,null,null,null,null,null,null,null,null,null,null,null,null,{"$error":"#VALUE!"}]
[null,null,null,null,null,null,null,null,null,{"$error":"#VALUE!"},{"$error":"#VALUE!"},{"$error":"#VALUE!"},null,null,null,null,null,null,null,null,null,null,null,null,null,null,null,null,null,null,null,null,null,null,null,null,{"$error":"#VALUE!"}]
[null,null,null,null,null,null,null,null,null,{"$error":"#VALUE!"},{"$error":"#VALUE!"},{"$error":"#VALUE!"},null,null,null,null,null,null,null,null,null,null,null,null,null,null,null,null,null,null,null,null,null,null,null,null,{"$error":"#VALUE!"}]
[null,null,null,null,null,null,null,null,null,{"$error":"#VALUE!"},{"$error":"#VALUE!"},{"$error":"#VALUE!"},null,null,null,null,null,null,null,null,null,null,null,null,null,null,null,null,null,null,null,null,null,null,null,null,{"$error":"#VALUE!"}]
[null,null,null,null,null,null,null,null,null,{"$error":"#VALUE!"},{"$error":"#VALUE!"},{"$error":"#VALUE!"},null,null,null,null,null,null,null,null,null,null,null,null,null,null,null,null,null,null,null,null,null,null,null,null,{"$error":"#VALUE!"}]
[null,null,null,null,null,null,null,null,null,{"$error":"#VALUE!"},{"$error":"#VALUE!"},{"$error":"#VALUE!"},null,null,null,null,null,null,null,null,null,null,null,null,null,null,null,null,null,null,null,null,null,null,null,null,{"$error":"#VALUE!"}]
[null,null,null,null,null,null,null,null,null,{"$error":"#VALUE!"},{"$error":"#VALUE!"},{"$error":"#VALUE!"},null,null,null,null,null,null,null,null,null,null,null,null,null,null,null,null,null,null,null,null,null,null,null,null,{"$error":"#VALUE!"}]
[null,null,null,null,null,null,null,null,null,{"$error":"#VALUE!"},{"$error":"#VALUE!"},{"$error":"#VALUE!"},null,null,null,null,null,null,null,null,null,null,null,null,null,null,null,null,null,null,null,null,null,null,null,null,{"$error":"#VALUE!"}]
[null,null,null,null,null,null,null,null,null,{"$error":"#VALUE!"},{"$error":"#VALUE!"},{"$error":"#VALUE!"},null,null,null,null,null,null,null,null,null,null,null,null,null,null,null,null,null,null,null,null,null,null,null,null,{"$error":"#VALUE!"}]
[null,null,null,null,null,null,null,null,null,{"$error":"#VALUE!"},{"$error":"#VALUE!"},{"$error":"#VALUE!"},null,null,null,null,null,null,null,null,null,null,null,null,null,null,null,null,null,null,null,null,null,null,null,null,{"$error":"#VALUE!"}]
[null,null,null,null,null,null,null,null,null,{"$error":"#VALUE!"},{"$error":"#VALUE!"},{"$error":"#VALUE!"},null,null,null,null,null,null,null,null,null,null,null,null,null,null,null,null,null,null,null,null,null,null,null,null,{"$error":"#VALUE!"}]
[null,null,null,null,null,null,null,null,null,{"$error":"#VALUE!"},{"$error":"#VALUE!"},{"$error":"#VALUE!"},null,null,null,null,null,null,null,null,null,null,null,null,null,null,null,null,null,null,null,null,null,null,null,null,{"$error":"#VALUE!"}]
[null,null,null,null,null,null,null,null,null,{"$error":"#VALUE!"},{"$error":"#VALUE!"},{"$error":"#VALUE!"},null,null,null,null,null,null,null,null,null,null,null,null,null,null,null,null,null,null,null,null,null,null,null,null,{"$error":"#VALUE!"}]
[null,null,null,null,null,null,null,null,null,{"$error":"#VALUE!"},{"$error":"#VALUE!"},{"$error":"#VALUE!"},null,null,null,null,null,null,null,null,null,null,null,null,null,null,null,null,null,null,null,null,null,null,null,null,{"$error":"#VALUE!"}]
[null,null,null,null,null,null,null,null,null,{"$error":"#VALUE!"},{"$error":"#VALUE!"},{"$error":"#VALUE!"},null,null,null,null,null,null,null,null,null,null,null,null,null,null,null,null,null,null,null,null,null,null,null,null,{"$error":"#VALUE!"}]

{"sheet":"RCUT_Unsig","index":32,"n_rows":126,"n_cols":72,"rows_kept":126,"cut":false,"hidden":true,"merged":[[1,56,1,71],[0,19,0,28],[0,30,0,32],[1,31,2,31],[1,32,2,32],[1,21,1,25],[1,27,1,28],[1,30,2,30],[100,9,100,11],[100,36,101,36],[1,34,2,34],[1,36,2,36],[1,39,1,54],[1,9,1,11],[1,13,1,17]]}
[null,null,null,null,null,null,null,null,null,null,null,null,null,null,null,null,null,null,null,"Conflicting Traffic Complexity",null,null,null,null,null,null,null,null,null,null,"Pedestrian Complexity"]
[null,null,null,null,null,null,null,null,null,"Exposure",null,null,null,"Severity",null,null,null,null,null,"Traffic Control",null,"Conflicting Lanes",null,null,null,null,null,"Conflicting Speed",null,null,"Indirect Paths Indicator","Non-intuitive movements indicator","Pedestrian Complexity factor",null,"Total Complexity Multiplier",null,"Exposure-Severity-Complexity Product",null,null,"Included in Mvmt1",null,null,null,null,null,null,null,null,null,null,null,null,null,null,null,null,"Included in Mvmt2"]
["#","Conflict Type","Mvmt1","Mvmt1_gen","Mvmt1_SpeedCat","Mvmt2","Mvmt2_gen","Mvmt2_SpeedCat",null,"Q1","Q2","I",null,"Speed_V1","Speed_V2","Angle","delta_V","P_FSI",null,null,null,"MajC","MinC","MajM/P","MinM/P","Score",null,"Speed","Factor",null,null,null,null,null,null,null,null,null,null,"MajT1","MajL1","MajR1","MajT2","MajL2","MajR2","MinT1","MinL1","MinR1","MinT2","MinL2","MinR2","MajNM1","MajNM2","MinNM1","MinNM2",null,"MajT1","MajL1","MajR1","MajT2","MajL2","MajR2","MinT1","MinL1","MinR1","MinT2","MinL2","MinR2","MajNM1","MajNM2","MinNM1","MinNM2"]
[1,"Crossing - LT","EBT, SBL","MajT1, MinL2","Major thru","WBL","MajL2","Major left",null,{"$f":"SUMPRODUCT($AN4:$BC4,$AN$28:$BC$28)","v":{"$error":"#VALUE!"}},{"$f":"SUMPRODUCT($BE4:$BT4,$BE$28:$BT$28)","v":{"$error":"#VALUE!"}},{"$f":"PRODUCT(J4:K4)","v":{"$error":"#VALUE!"}},null,{"$f":"VLOOKUP(E4,SSI_AGI_Range_VehSpeed,5,FALSE)","v":45},{"$f":"VLOOKUP(H4,SSI_AGI_Range_VehSpeed,5,FALSE)","v":20},{"$f":"IF(B4=\"Nonmotorized\",\"\",VLOOKUP(B4,SSI_AGI_Range_CollAngles,5,FALSE))","v":230},{"$f":"IF(B4=\"Nonmotorized\",\"\",SQRT(N4^2+O4^2-2*N4*O4*COS(RADIANS(P4)))/2)","v":29.924979939156898},{"$f":"IF(B4=\"Nonmotorized\",1/(1+EXP(3.8432-0.1237*O4)),(Q4/SSI_AGI_RegAlpha)^SSI_AGI_RegK+(Q4/SSI_AGI_RegAlpha)^SSI_AGI_RegK-((Q4/SSI_AGI_RegAlpha)^SSI_AGI_RegK)*((Q4/SSI_AGI_RegAlpha)^SSI_AGI_RegK))","v":9.0286582411373745E-2},null,{"$f":"SSI_AGI_StopFactor","v":0.72500000000000009},null,1,null,null,null,{"$f":"MAX(1,IF(B4<>\"Pedestrian\",V4*SSI_AGI_MajorThruLanes+W4*SSI_AGI_MinorThruLanes+X4*IF(SSI_AGI_MajorThruLanes=1,SSI_AGI_MergeWeightL1,IF(SSI_AGI_MajorThruLanes=2,SSI_AGI_MergeWeightL1+SSI_AGI_MergeWeightL2,SSI_AGI_MergeWeightL1+SSI_AGI_MergeWeightL2+SSI_AGI_MergeWeightL3*(SSI_AGI_MajorThruLanes-2)))+Y4*IF(SSI_AGI_MinorThruLanes=1,SSI_AGI_MergeWeightL1,IF(SSI_AGI_MinorThruLanes=2,SSI_AGI_MergeWeightL1+SSI_AGI_MergeWeightL2,SSI_AGI_MergeWeightL1+SSI_AGI_MergeWeightL2+SSI_AGI_MergeWeightL3*(SSI_AGI_MinorThruLanes-2))),V4*SSI_AGI_MajorThruLanes+W4*SSI_AGI_MinorThruLanes+X4*IF(SSI_AGI_MajorThruLanes=1,SSI_AGI_NM_MergeWeightL1,IF(SSI_AGI_MajorThruLanes=2,SSI_AGI_NM_MergeWeightL1+SSI_AGI_NM_MergeWeightL2,SSI_AGI_NM_MergeWeightL1+SSI_AGI_NM_MergeWeightL2+SSI_AGI_NM_MergeWeightL3*(SSI_AGI_MajorThruLanes-2)))+Y4*IF(SSI_AGI_MinorThruLanes=1,SSI_AGI_NM_MergeWeightL1,IF(SSI_AGI_MinorThruLanes=2,SSI_AGI_NM_MergeWeightL1+SSI_AGI_NM_MergeWeightL2,SSI_AGI_NM_MergeWeightL1+SSI_AGI_NM_MergeWeightL2+SSI_AGI_NM_MergeWeightL3*(SSI_AGI_MinorThruLanes-2)))))","v":2},null,{"$f":"IF(B4=\"Diverging\",\"\",SSI_AGI_VehSpeed_MjrThru)","v":45},{"$f":"IF(B4=\"Diverging\",1,1-((60-AB4)/60*0.1/0.15))","v":0.83333333333333326},null,null,null,{"$f":"IF(SSI_AGI_ConsiderNMComplexity=\"Yes\",1+AE4+AF4,1)","v":1},null,{"$f":"PRODUCT(Z4,T4,AC4,AG4)","v":1.2083333333333335},null,{"$f":"L4*R4*AI4","v":{"$error":"#VALUE!"}},null,null,{"$f":"IF(ISNUMBER(SEARCH(AN$3,$D4)),1,\"\")","v":1},{"$f":"IF(ISNUMBER(SEARCH(AO$3,$D4)),1,\"\")","v":""},"","","","","","","","",1,"","","","","",null,{"$f":"IF(ISNUMBER(SEARCH(BE$3,$G4)),1,\"\")","v":""},{"$f":"IF(ISNUMBER(SEARCH(BF$3,$G4)),1,\"\")","v":""},"","",1,"","","","","","","","","","",""]
[2,"Crossing - LT","WBT, NBL","MajT2, MinL1","Major thru","EBL","MajL1","Major left",null,{"$error":"#VALUE!"},{"$f":"SUMPRODUCT($BE5:$BT5,$BE$28:$BT$28)","v":{"$error":"#VALUE!"}},{"$f":"PRODUCT(J5:K5)","v":{"$error":"#VALUE!"}},null,45,20,230,{"$f":"IF(B5=\"Nonmotorized\",\"\",SQRT(N5^2+O5^2-2*N5*O5*COS(RADIANS(P5)))/2)","v":29.924979939156898},9.0286582411373745E-2,null,0.72500000000000009,null,1,null,null,null,2,null,45,0.83333333333333326,null,null,null,1,null,1.2083333333333335,null,{"$f":"L5*R5*AI5","v":{"$error":"#VALUE!"}},null,null,{"$f":"IF(ISNUMBER(SEARCH(AN$3,$D5)),1,\"\")","v":""},"","",1,"","","",1,"","","","","","","","",null,{"$f":"IF(ISNUMBER(SEARCH(BE$3,$G5)),1,\"\")","v":""},1,"","","","","","","","","","","","","",""]
[3,"Merging","EBT, SBL","MajT1, MinL2","Major thru","NBT, NBL, NBR","MinT1, MinL1, MinR1","Stop near",null,{"$error":"#VALUE!"},{"$error":"#VALUE!"},{"$error":"#VALUE!"},null,45,15,45,17.995873453365363,1.3373938286506865E-2,null,0.72500000000000009,null,null,null,1,null,1.75,null,45,0.83333333333333326,null,null,null,1,null,1.0572916666666667,null,{"$error":"#VALUE!"},null,null,1,"","","","","","","","","",1,"","","","","",null,"","","","","","",1,1,1,"","","","","","",""]
[4,"Merging","WBL","MajL2","Major left","EBR, SBT","MajR1, MinT2","Major right",null,{"$error":"#VALUE!"},{"$error":"#VALUE!"},{"$error":"#VALUE!"},null,20,15,45,7.0840654162717795,3.9022923271840544E-4,null,0.72500000000000009,null,1,null,null,null,2,null,45,0.83333333333333326,null,null,null,1,null,1.2083333333333335,null,{"$error":"#VALUE!"},null,null,"","","","",1,"","","","","","","","","","","",null,"","",1,"","","","","","",1,"","","","","",""]
[5,"Merging","WBT, NBL","MajT2, MinL1","Major thru","SBT, SBL, SBR","MinT2, MinL2, MinR2","Stop near",null,{"$error":"#VALUE!"},{"$error":"#VALUE!"},{"$error":"#VALUE!"},null,45,15,45,17.995873453365363,1.3373938286506865E-2,null,0.72500000000000009,null,null,null,1,null,1.75,null,45,0.83333333333333326,null,null,null,1,null,1.0572916666666667,null,{"$error":"#VALUE!"},null,null,"","","",1,"","","",1,"","","","","","","","",null,"","","","","","","","","",1,1,1,"","","",""]
[6,"Merging","EBL","MajL1","Major left","WBR, NBT","MajR2, MinT1","Major right",null,{"$error":"#VALUE!"},{"$error":"#VALUE!"},{"$error":"#VALUE!"},null,20,15,45,7.0840654162717795,3.9022923271840544E-4,null,0.72500000000000009,null,1,null,null,null,2,null,45,0.83333333333333326,null,null,null,1,null,1.2083333333333335,null,{"$error":"#VALUE!"},null,null,"",1,"","","","","","","","","","","","","","",null,"","","","","",1,1,"","","","","","","","",""]
[7,"Merging","EBT, EBL, EBR","MajT1, MajL1, MajR1","Major thru","SBT, SBL","MinT2, MinL2","Stop near",null,{"$error":"#VALUE!"},{"$error":"#VALUE!"},{"$error":"#VALUE!"},null,45,15,45,17.995873453365363,1.3373938286506865E-2,null,0.72500000000000009,null,null,null,1,null,1.75,null,45,0.83333333333333326,null,null,null,1,null,1.0572916666666667,null,{"$error":"#VALUE!"},null,null,1,1,1,"","","","","","","","","","","","","",null,"","","","","","","","","",1,1,"","","","",""]
[8,"Merging","WBT, WBL, WBR","MajT2, MajL2, MajR2","Major thru","NBT, NBL","MinT1, MinL1","Stop near",null,{"$error":"#VALUE!"},{"$error":"#VALUE!"},{"$error":"#VALUE!"},null,45,15,45,17.995873453365363,1.3373938286506865E-2,null,0.72500000000000009,null,null,null,1,null,1.75,null,45,0.83333333333333326,null,null,null,1,null,1.0572916666666667,null,{"$error":"#VALUE!"},null,null,"","","",1,1,1,"","","","","","","","","","",null,"","","","","","",1,1,"","","","","","","",""]
[9,"Diverging","EBT, EBR, SBL, SBT","MajT1, MajR1, MinL2, MinT2","Major thru","EBL","MajL1","Major left",null,{"$error":"#VALUE!"},{"$error":"#VALUE!"},{"$error":"#VALUE!"},null,45,20,10,12.77053292327718,3.6481988362114144E-3,null,1,null,null,null,null,null,1,null,"",1,null,null,null,1,null,1,null,{"$error":"#VALUE!"},null,null,1,"",1,"","","","","","",1,1,"","","","","",null,"",1,"","","","","","","","","","","","","",""]
[10,"Diverging","EBT, SBL","MajT1, MinL2","Major thru","EBR, SBT","MajR1, MinT2","Major right",null,{"$error":"#VALUE!"},{"$error":"#VALUE!"},{"$error":"#VALUE!"},null,45,15,10,15.169950011729762,7.0056226631585675E-3,null,1,null,null,null,null,null,1,null,"",1,null,null,null,1,null,1,null,{"$error":"#VALUE!"},null,null,1,"","","","","","","","","",1,"","","","","",null,"","",1,"","","","","","",1,"","","","","",""]
[11,"Diverging","EBT, SBL, NBR","MajT1, MinL2, MinR1","Major thru","NBL, NBT","MinL1, MinT1","Major left",null,{"$error":"#VALUE!"},{"$error":"#VALUE!"},{"$error":"#VALUE!"},null,45,20,10,12.77053292327718,3.6481988362114144E-3,null,1,null,null,null,null,null,1,null,"",1,null,null,null,1,null,1,null,{"$error":"#VALUE!"},null,null,1,"","","","","","","",1,"",1,"","","","","",null,"","","","","","",1,1,"","","","","","","",""]
[12,"Diverging","WBT, WBR, NBL, NBT","MajT2, MajR2, MinL1, MinT1","Major thru","WBL","MajL2","Major left",null,{"$error":"#VALUE!"},{"$error":"#VALUE!"},{"$error":"#VALUE!"},null,45,20,10,12.77053292327718,3.6481988362114144E-3,null,1,null,null,null,null,null,1,null,"",1,null,null,null,1,null,1,null,{"$error":"#VALUE!"},null,null,"","","",1,"",1,1,1,"","","","","","","","",null,"","","","",1,"","","","","","","","","","",""]
[13,"Diverging","WBT, NBL","MajT2, MinL1","Major thru","WBR, NBT","MajR2, MinT1","Major right",null,{"$error":"#VALUE!"},{"$error":"#VALUE!"},{"$error":"#VALUE!"},null,45,15,10,15.169950011729762,7.0056226631585675E-3,null,1,null,null,null,null,null,1,null,"",1,null,null,null,1,null,1,null,{"$error":"#VALUE!"},null,null,"","","",1,"","","",1,"","","","","","","","",null,"","","","","",1,1,"","","","","","","","",""]
[14,"Diverging","WBT, NBL, SBR","MajT2, MinL1, MinR2","Major thru","SBL, SBT","MinL2, MinT2","Major left",null,{"$error":"#VALUE!"},{"$error":"#VALUE!"},{"$error":"#VALUE!"},null,45,20,10,12.77053292327718,3.6481988362114144E-3,null,1,null,null,null,null,null,1,null,"",1,null,null,null,1,null,1,null,{"$error":"#VALUE!"},null,null,"","","",1,"","","",1,"","","",1,"","","","",null,"","","","","","","","","",1,1,"","","","",""]
[15,"Nonmotorized","NB Ped","MinNM1","Nonmotorized","EBR, SBT","MajR1, MinT2","Major right",null,{"$error":"#VALUE!"},{"$error":"#VALUE!"},{"$error":"#VALUE!"},null,0,15,"","",0.1205004039155782,null,1,null,null,1,2,null,5.5,null,45,0.83333333333333326,null,null,null,1,null,4.583333333333333,null,{"$error":"#VALUE!"},null,null,"","","","","","","","","","","","","","",1,"",null,"","",1,"","","","","","",1,"","","","","",""]
[16,"Nonmotorized","NB Ped","MinNM1","Nonmotorized","WBL","MajL2","Major left",null,{"$error":"#VALUE!"},{"$error":"#VALUE!"},{"$error":"#VALUE!"},null,0,20,"","",0.20274912921655375,null,{"$f":"SSI_AGI_StopFactor","v":0.72500000000000009},null,null,1,2,null,5.5,null,45,0.83333333333333326,null,null,null,1,null,3.322916666666667,null,{"$error":"#VALUE!"},null,null,"","","","","","","","","","","","","","",1,"",null,"","","","",1,"","","","","","","","","","",""]
[17,"Nonmotorized","NB Ped","MinNM1","Nonmotorized","NBT, NBL, NBR","MinT1, MinL1, MinR1","Stop near",null,{"$error":"#VALUE!"},{"$error":"#VALUE!"},{"$error":"#VALUE!"},null,0,15,"","",0.1205004039155782,null,{"$f":"SSI_AGI_StopFactor","v":0.72500000000000009},null,null,1,null,null,2,null,{"$f":"IF(B20=\"Diverging\",\"\",SSI_AGI_VehSpeed_MnrThru)","v":29.75},0.66388888888888886,null,null,null,1,null,0.96263888888888893,null,{"$error":"#VALUE!"},null,null,"","","","","","","","","","","","","","",1,"",null,"","","","","","",1,1,1,"","","","","","",""]
[18,"Nonmotorized","EB/WB Ped","MajNM1, MajNM2","Nonmotorized","EBR, SBT","MajR1, MinT2","Major right",null,{"$error":"#VALUE!"},{"$error":"#VALUE!"},{"$error":"#VALUE!"},null,0,15,"","",0.1205004039155782,null,1,null,1,null,null,null,2,null,{"$f":"IF(B21=\"Diverging\",\"\",SSI_AGI_VehSpeed_MjrThru)","v":45},0.83333333333333326,null,1,null,2,null,3.333333333333333,null,{"$error":"#VALUE!"},null,null,"","","","","","","","","","","","",1,1,"","",null,"","",1,"","","","","","",1,"","","","","",""]
[19,"Nonmotorized","EB/WB Ped","MajNM1, MajNM2","Nonmotorized","EBT, SBL","MajT1, MinL2","Major thru",null,{"$error":"#VALUE!"},{"$error":"#VALUE!"},{"$error":"#VALUE!"},null,0,45,"","",0.84855340903216459,null,1,null,1,null,null,null,2,null,45,0.83333333333333326,null,1,null,2,null,3.333333333333333,null,{"$error":"#VALUE!"},null,null,"","","","","","","","","","","","",1,1,"","",null,1,"","","","","","","","","",1,"","","","",""]
[20,"Nonmotorized","EB/WB Ped","MajNM1, MajNM2","Nonmotorized","WBT, NBL","MajT2, MinL1","Major thru",null,{"$error":"#VALUE!"},{"$error":"#VALUE!"},{"$error":"#VALUE!"},null,0,45,"","",0.84855340903216459,null,1,null,1,null,null,null,2,null,45,0.83333333333333326,null,1,null,2,null,3.333333333333333,null,{"$error":"#VALUE!"},null,null,"","","","","","","","","","","","",1,1,"","",null,"","","",1,"","","",1,"","","","","","","",""]
[21,"Nonmotorized","EB/WB Ped","MajNM1, MajNM2","Nonmotorized","WBR, NBT","MajR2, MinT1","Major right",null,{"$error":"#VALUE!"},{"$error":"#VALUE!"},{"$error":"#VALUE!"},null,0,15,"","",0.1205004039155782,null,1,null,1,null,null,null,2,null,45,0.83333333333333326,null,1,null,2,null,3.333333333333333,null,{"$error":"#VALUE!"},null,null,"","","","","","","","","","","","",1,1,"","",null,"","","","","",1,1,"","","","","","","","",""]
[22,"Nonmotorized","SB Ped","MinNM2","Nonmotorized","WBR, NBT","MajR2, MinT1","Major right",null,{"$error":"#VALUE!"},{"$error":"#VALUE!"},{"$error":"#VALUE!"},null,0,15,"","",0.1205004039155782,null,1,null,null,1,2,null,5.5,null,45,0.83333333333333326,null,null,null,1,null,4.583333333333333,null,{"$error":"#VALUE!"},null,null,"","","","","","","","","","","","","","","",1,null,"","","","","",1,1,"","","","","","","","",""]
[23,"Nonmotorized","SB Ped","MinNM2","Nonmotorized","EBL","MajL1","Major left",null,{"$error":"#VALUE!"},{"$error":"#VALUE!"},{"$error":"#VALUE!"},null,0,20,"","",0.20274912921655375,null,{"$f":"SSI_AGI_StopFactor","v":0.72500000000000009},null,null,1,2,null,5.5,null,45,0.83333333333333326,null,null,null,1,null,3.322916666666667,null,{"$error":"#VALUE!"},null,null,"","","","","","","","","","","","","","","",1,null,"",1,"","","","","","","","","","","","","",""]
[24,"Nonmotorized","SB Ped","MinNM2","Nonmotorized","SBT, SBL, SBR","MinT2, MinL2, MinR2","Stop near",null,{"$error":"#VALUE!"},{"$error":"#VALUE!"},{"$error":"#VALUE!"},null,0,15,"","",0.1205004039155782,null,{"$f":"SSI_AGI_StopFactor","v":0.72500000000000009},null,null,1,null,null,2,null,{"$f":"IF(B27=\"Diverging\",\"\",SSI_AGI_VehSpeed_MnrThru)","v":29.75},0.66388888888888886,null,null,null,1,null,0.96263888888888893,null,{"$error":"#VALUE!"},null,null,"","","","","","","","","","","","","","","",1,null,"","","","","","","","","",1,1,1,"","","",""]
[null,null,null,null,null,null,null,null,null,null,null,null,null,null,null,null,null,null,null,null,null,null,null,null,null,null,null,null,null,null,null,null,null,null,null,null,null,null,"O",{"$f":"'SSI Inputs'!$D$26","v":{"$error":"#VALUE!"}},{"$f":"'SSI Inputs'!$D$27","v":{"$error":"#VALUE!"}},{"$f":"'SSI Inputs'!$D$28","v":{"$error":"#VALUE!"}},{"$f":"'SSI Inputs'!$D$30","v":{"$error":"#VALUE!"}},{"$f":"'SSI Inputs'!$D$31","v":{"$error":"#VALUE!"}},{"$f":"'SSI Inputs'!$D$32","v":{"$error":"#VALUE!"}},{"$f":"'SSI Inputs'!$D$34","v":{"$error":"#VALUE!"}},{"$f":"'SSI Inputs'!$D$35","v":{"$error":"#VALUE!"}},{"$f":"'SSI Inputs'!$D$36","v":{"$error":"#VALUE!"}},{"$f":"'SSI Inputs'!$D$38","v":{"$error":"#VALUE!"}},{"$f":"'SSI Inputs'!$D$39","v":{"$error":"#VALUE!"}},{"$f":"'SSI Inputs'!$D$40","v":{"$error":"#VALUE!"}},{"$f":"'SSI Inputs'!$Q$18","v":175},{"$f":"'SSI Inputs'!$Q$19","v":175},{"$f":"'SSI Inputs'!$Q$20","v":175},{"$f":"'SSI Inputs'!$Q$21","v":175},"O",{"$f":"'SSI Inputs'!$D$26","v":{"$error":"#VALUE!"}},{"$f":"'SSI Inputs'!$D$27","v":{"$error":"#VALUE!"}},{"$f":"'SSI Inputs'!$D$28","v":{"$error":"#VALUE!"}},{"$f":"'SSI Inputs'!$D$30","v":{"$error":"#VALUE!"}},{"$f":"'SSI Inputs'!$D$31","v":{"$error":"#VALUE!"}},{"$f":"'SSI Inputs'!$D$32","v":{"$error":"#VALUE!"}},{"$f":"'SSI Inputs'!$D$34","v":{"$error":"#VALUE!"}},{"$f":"'SSI Inputs'!$D$35","v":{"$error":"#VALUE!"}},{"$f":"'SSI Inputs'!$D$36","v":{"$error":"#VALUE!"}},{"$f":"'SSI Inputs'!$D$38","v":{"$error":"#VALUE!"}},{"$f":"'SSI Inputs'!$D$39","v":{"$error":"#VALUE!"}},{"$f":"'SSI Inputs'!$D$40","v":{"$error":"#VALUE!"}},{"$f":"'SSI Inputs'!$Q$18","v":175},{"$f":"'SSI Inputs'!$Q$19","v":175},{"$f":"'SSI Inputs'!$Q$20","v":175},{"$f":"'SSI Inputs'!$Q$21","v":175}]
[null,null,null,null,null,null,null,null,null,null,null,null,null,null,null,null,null,null,null,null,null,null,null,null,null,null,null,null,null,null,null,null,null,null,null,null,null,null,"D",{"$f":"'SSI Inputs'!$E$26","v":{"$error":"#VALUE!"}},{"$f":"'SSI Inputs'!$E$27","v":{"$error":"#VALUE!"}},{"$f":"'SSI Inputs'!$E$28","v":{"$error":"#VALUE!"}},{"$f":"'SSI Inputs'!$E$30","v":{"$error":"#VALUE!"}},{"$f":"'SSI Inputs'!$E$31","v":{"$error":"#VALUE!"}},{"$f":"'SSI Inputs'!$E$32","v":{"$error":"#VALUE!"}},{"$f":"'SSI Inputs'!$E$34","v":{"$error":"#VALUE!"}},{"$f":"'SSI Inputs'!$E$35","v":{"$error":"#VALUE!"}},{"$f":"'SSI Inputs'!$E$36","v":{"$error":"#VALUE!"}},{"$f":"'SSI Inputs'!$E$38","v":{"$error":"#VALUE!"}},{"$f":"'SSI Inputs'!$E$39","v":{"$error":"#VALUE!"}},{"$f":"'SSI Inputs'!$E$40","v":{"$error":"#VALUE!"}},{"$f":"'SSI Inputs'!$R$18","v":175},{"$f":"'SSI Inputs'!$R$19","v":175},{"$f":"'SSI Inputs'!$R$20","v":175},{"$f":"'SSI Inputs'!$R$21","v":175},"D",{"$f":"'SSI Inputs'!$E$26","v":{"$error":"#VALUE!"}},{"$f":"'SSI Inputs'!$E$27","v":{"$error":"#VALUE!"}},{"$f":"'SSI Inputs'!$E$28","v":{"$error":"#VALUE!"}},{"$f":"'SSI Inputs'!$E$30","v":{"$error":"#VALUE!"}},{"$f":"'SSI Inputs'!$E$31","v":{"$error":"#VALUE!"}},{"$f":"'SSI Inputs'!$E$32","v":{"$error":"#VALUE!"}},{"$f":"'SSI Inputs'!$E$34","v":{"$error":"#VALUE!"}},{"$f":"'SSI Inputs'!$E$35","v":{"$error":"#VALUE!"}},{"$f":"'SSI Inputs'!$E$36","v":{"$error":"#VALUE!"}},{"$f":"'SSI Inputs'!$E$38","v":{"$error":"#VALUE!"}},{"$f":"'SSI Inputs'!$E$39","v":{"$error":"#VALUE!"}},{"$f":"'SSI Inputs'!$E$40","v":{"$error":"#VALUE!"}},{"$f":"'SSI Inputs'!$R$18","v":175},{"$f":"'SSI Inputs'!$R$19","v":175},{"$f":"'SSI Inputs'!$R$20","v":175},{"$f":"'SSI Inputs'!$R$21","v":175}]
[]
[]
[]
[]
[]
[]
[]
[]
[]
[]
[]
[]
[]
[]
[]
[]
[]
[]
[]
[]
[]
[]
[]
[]
[]
[]
[]
[]
[]
[]
[]
[]
[]
[]
[]
[]
[]
[]
[]
[]
[]
[]
[]
[]
[]
[]
[]
[]
[]
[]
[]
[]
[]
[]
[]
[]
[]
[]
[]
[]
[]
[]
[]
[]
[]
[]
[]
[]
[]
[]
[]
[null,null,null,null,null,null,null,null,null,"Exposure",null,null,null,null,null,null,null,null,null,null,null,null,null,null,null,null,null,null,null,null,null,null,null,null,null,null,"Exposure-Severity-Complexity Product"]
[null,null,null,null,null,null,null,null,null,"Q1","Q2","I"]
[null,null,null,null,null,null,null,null,null,{"$f":"SUMPRODUCT($AN4:$BC4,$AN$29:$BC$29)","v":{"$error":"#VALUE!"}},{"$f":"SUMPRODUCT($BE4:$BT4,$BE$29:$BT$29)","v":{"$error":"#VALUE!"}},{"$f":"PRODUCT(J103:K103)","v":{"$error":"#VALUE!"}},null,null,null,null,null,null,null,null,null,null,null,null,null,null,null,null,null,null,null,null,null,null,null,null,{"$f":"L103*R4*AI4","v":{"$error":"#VALUE!"}}]
[null,null,null,null,null,null,null,null,null,{"$f":"SUMPRODUCT($AN5:$BC5,$AN$29:$BC$29)","v":{"$error":"#VALUE!"}},{"$f":"SUMPRODUCT($BE5:$BT5,$BE$29:$BT$29)","v":{"$error":"#VALUE!"}},{"$f":"PRODUCT(J104:K104)","v":{"$error":"#VALUE!"}},null,null,null,null,null,null,null,null,null,null,null,null,null,null,null,null,null,null,null,null,null,null,null,null,{"$f":"L104*R5*AI5","v":{"$error":"#VALUE!"}}]
[null,null,null,null,null,null,null,null,null,{"$error":"#VALUE!"},{"$error":"#VALUE!"},{"$error":"#VALUE!"},null,null,null,null,null,null,null,null,null,null,null,null,null,null,null,null,null,null,null,null,null,null,null,null,{"$error":"#VALUE!"}]
[null,null,null,null,null,null,null,null,null,{"$error":"#VALUE!"},{"$error":"#VALUE!"},{"$error":"#VALUE!"},null,null,null,null,null,null,null,null,null,null,null,null,null,null,null,null,null,null,null,null,null,null,null,null,{"$error":"#VALUE!"}]
[null,null,null,null,null,null,null,null,null,{"$error":"#VALUE!"},{"$error":"#VALUE!"},{"$error":"#VALUE!"},null,null,null,null,null,null,null,null,null,null,null,null,null,null,null,null,null,null,null,null,null,null,null,null,{"$error":"#VALUE!"}]
[null,null,null,null,null,null,null,null,null,{"$error":"#VALUE!"},{"$error":"#VALUE!"},{"$error":"#VALUE!"},null,null,null,null,null,null,null,null,null,null,null,null,null,null,null,null,null,null,null,null,null,null,null,null,{"$error":"#VALUE!"}]
[null,null,null,null,null,null,null,null,null,{"$error":"#VALUE!"},{"$error":"#VALUE!"},{"$error":"#VALUE!"},null,null,null,null,null,null,null,null,null,null,null,null,null,null,null,null,null,null,null,null,null,null,null,null,{"$error":"#VALUE!"}]
[null,null,null,null,null,null,null,null,null,{"$error":"#VALUE!"},{"$error":"#VALUE!"},{"$error":"#VALUE!"},null,null,null,null,null,null,null,null,null,null,null,null,null,null,null,null,null,null,null,null,null,null,null,null,{"$error":"#VALUE!"}]
[null,null,null,null,null,null,null,null,null,{"$error":"#VALUE!"},{"$error":"#VALUE!"},{"$error":"#VALUE!"},null,null,null,null,null,null,null,null,null,null,null,null,null,null,null,null,null,null,null,null,null,null,null,null,{"$error":"#VALUE!"}]
[null,null,null,null,null,null,null,null,null,{"$error":"#VALUE!"},{"$error":"#VALUE!"},{"$error":"#VALUE!"},null,null,null,null,null,null,null,null,null,null,null,null,null,null,null,null,null,null,null,null,null,null,null,null,{"$error":"#VALUE!"}]
[null,null,null,null,null,null,null,null,null,{"$error":"#VALUE!"},{"$error":"#VALUE!"},{"$error":"#VALUE!"},null,null,null,null,null,null,null,null,null,null,null,null,null,null,null,null,null,null,null,null,null,null,null,null,{"$error":"#VALUE!"}]
[null,null,null,null,null,null,null,null,null,{"$error":"#VALUE!"},{"$error":"#VALUE!"},{"$error":"#VALUE!"},null,null,null,null,null,null,null,null,null,null,null,null,null,null,null,null,null,null,null,null,null,null,null,null,{"$error":"#VALUE!"}]
[null,null,null,null,null,null,null,null,null,{"$error":"#VALUE!"},{"$error":"#VALUE!"},{"$error":"#VALUE!"},null,null,null,null,null,null,null,null,null,null,null,null,null,null,null,null,null,null,null,null,null,null,null,null,{"$error":"#VALUE!"}]
[null,null,null,null,null,null,null,null,null,{"$error":"#VALUE!"},{"$error":"#VALUE!"},{"$error":"#VALUE!"},null,null,null,null,null,null,null,null,null,null,null,null,null,null,null,null,null,null,null,null,null,null,null,null,{"$error":"#VALUE!"}]
[null,null,null,null,null,null,null,null,null,{"$error":"#VALUE!"},{"$error":"#VALUE!"},{"$error":"#VALUE!"},null,null,null,null,null,null,null,null,null,null,null,null,null,null,null,null,null,null,null,null,null,null,null,null,{"$error":"#VALUE!"}]
[null,null,null,null,null,null,null,null,null,{"$error":"#VALUE!"},{"$error":"#VALUE!"},{"$error":"#VALUE!"},null,null,null,null,null,null,null,null,null,null,null,null,null,null,null,null,null,null,null,null,null,null,null,null,{"$error":"#VALUE!"}]
[null,null,null,null,null,null,null,null,null,{"$error":"#VALUE!"},{"$error":"#VALUE!"},{"$error":"#VALUE!"},null,null,null,null,null,null,null,null,null,null,null,null,null,null,null,null,null,null,null,null,null,null,null,null,{"$error":"#VALUE!"}]
[null,null,null,null,null,null,null,null,null,{"$error":"#VALUE!"},{"$error":"#VALUE!"},{"$error":"#VALUE!"},null,null,null,null,null,null,null,null,null,null,null,null,null,null,null,null,null,null,null,null,null,null,null,null,{"$error":"#VALUE!"}]
[null,null,null,null,null,null,null,null,null,{"$error":"#VALUE!"},{"$error":"#VALUE!"},{"$error":"#VALUE!"},null,null,null,null,null,null,null,null,null,null,null,null,null,null,null,null,null,null,null,null,null,null,null,null,{"$error":"#VALUE!"}]
[null,null,null,null,null,null,null,null,null,{"$error":"#VALUE!"},{"$error":"#VALUE!"},{"$error":"#VALUE!"},null,null,null,null,null,null,null,null,null,null,null,null,null,null,null,null,null,null,null,null,null,null,null,null,{"$error":"#VALUE!"}]
[null,null,null,null,null,null,null,null,null,{"$error":"#VALUE!"},{"$error":"#VALUE!"},{"$error":"#VALUE!"},null,null,null,null,null,null,null,null,null,null,null,null,null,null,null,null,null,null,null,null,null,null,null,null,{"$error":"#VALUE!"}]
[null,null,null,null,null,null,null,null,null,{"$error":"#VALUE!"},{"$error":"#VALUE!"},{"$error":"#VALUE!"},null,null,null,null,null,null,null,null,null,null,null,null,null,null,null,null,null,null,null,null,null,null,null,null,{"$error":"#VALUE!"}]
[null,null,null,null,null,null,null,null,null,{"$error":"#VALUE!"},{"$error":"#VALUE!"},{"$error":"#VALUE!"},null,null,null,null,null,null,null,null,null,null,null,null,null,null,null,null,null,null,null,null,null,null,null,null,{"$error":"#VALUE!"}]
[null,null,null,null,null,null,null,null,null,{"$error":"#VALUE!"},{"$error":"#VALUE!"},{"$error":"#VALUE!"},null,null,null,null,null,null,null,null,null,null,null,null,null,null,null,null,null,null,null,null,null,null,null,null,{"$error":"#VALUE!"}]

{"sheet":"Notes","index":33,"n_rows":77,"n_cols":18,"rows_kept":77,"cut":false,"hidden":false,"merged":[]}
["Notes:"]
["Alternative Selection Sheet"]
["Number of Alternatives"]
[1]
[2]
[3]
[4]
[5]
[]
["Analysis Year"]
["Opening Year Only"]
["Opening and Design Year"]
[]
["Intersection Type"]
["At-Grade Intersections"]
["Ramp Terminal Intersections"]
[]
["At-Grade Intersctions",null,null,null,null,null,null,null,null,"Ramp Terminal Intersections",null,null,null,null,null,null,"Predictive Inputs"]
["Traffic Signal",null,null,null,null,null,null,null,null,"Conventional Traffic Signal",null,null,null,null,null,null,"Yes"]
["Minor Road Stop",null,null,null,null,null,null,null,null,"Crossover Traffic Signal (of Diverging Diamond Interchange)",null,null,null,null,null,null,"No"]
["All Way Stop",null,null,null,null,null,null,null,null,"Single-Point Diamond Traffic Signal",null,null,null,null,null,null,"N/A"]
["1-lane Roundabout",null,null,null,null,null,null,null,null,"Minor Road (ramp) Stop",null,null,null,null,null,null,"Left Turn Phasing"]
["2-lane Roundabout",null,null,null,null,null,null,null,null,"1-lane Roundabout",null,null,null,null,null,null,"Protected"]
["Displaced Left Turn (DLT)",null,null,null,null,null,null,null,null,"2-lane Roundabout",null,null,null,null,null,null,"Permissive"]
["Median U-Turn (MUT)",null,null,null,null,null,null,null,null,"Freeway Orientation",null,null,null,null,null,null,"Protected/Permissive or Permissive/Protected"]
["Signalized Restricted Crossing U-Turn (RCUT), also known Superstreet",null,null,null,null,null,null,null,null,"North-South",null,null,null,null,null,null,"N/A"]
["Unsignalized Restricted Crossing U-Turn (RCUT), also known as J-Turn",null,null,null,null,null,null,null,null,"East-West"]
["Continuous Green-T Intersection"]
["Jughandle",null,null,null,null,null,null,null,null,null,null,null,null,null,null,null,0,0]
[null,null,null,null,null,null,null,null,null,null,null,null,null,null,null,null,1,1]
["Facility Type",null,null,null,null,null,null,null,null,null,null,null,null,null,null,null,2,2]
["On Rural Two Lane Highway",null,null,null,null,null,null,null,null,null,null,null,null,null,null,null,3,3]
["On Rural Multilane Highway",null,null,null,null,null,null,null,null,null,null,null,null,null,null,null,4,4]
["On Urban and Suburban Arterial",null,null,null,null,null,null,null,null,"Type",null,null,null,null,null,null,"N/A",5]
["N/A",null,null,null,null,null,null,null,null,"Three-leg terminals with diagonal exit ramp (D3ex)",null,null,null,null,null,null,null,6]
[null,null,null,null,null,null,null,null,null,"Three-leg terminals with diagonal entrance ramp (D3en)",null,null,null,null,null,null,null,7]
[null,null,null,null,null,null,null,null,null,"Four-leg terminals with diagonal ramps (D4)",null,null,null,null,null,null,null,8]
[null,null,null,null,null,null,null,null,null,"Four-leg terminals at four-quadrant parclo A (A4)"]
[null,null,null,null,null,null,null,null,null,"Four-leg terminals at four-quadrant parclo B (B4)"]
[null,null,null,null,null,null,null,null,null,"Three-leg terminals at two-quadrant parclo A (A2)"]
[null,null,null,null,null,null,null,null,null,"Three-leg terminals at two-quadrant parclo B (B2)"]
[null,null,null,null,null,null,null,null,null,"All types"]
[null,null,null,null,null,null,null,null,null,"1-lane roundabout with 3 legs"]
[null,null,null,null,null,null,null,null,null,"1-lane roundabout with 4 legs"]
[null,null,null,null,null,null,null,null,null,"2-lane roundabout with 3 legs"]
[null,null,null,null,null,null,null,null,null,"2-lane roundabout with 4 legs"]
["Number of Legs"]
["3-leg",null,null,null,null,null,null,null,null,"Area Type"]
["4-leg",null,null,null,null,null,null,null,null,"Urban"]
["N/A",null,null,null,null,null,null,null,null,"Rural"]
[]
[]
["1-way/2-way"]
["2-way Intersecting 2-way",null,null,null,null,null,null,null,null,"Ramp Terminal \"Other\" Base Intersections"]
["1-way Intersecting 2-way",null,null,null,null,null,null,null,null,{"$f":"Label_RTI_D4TS","v":"Signalized Diamond"}]
["1-way Intersecting 1-way",null,null,null,null,null,null,null,null,{"$f":"Label_RTI_D4TSA","v":"Signalized Diamond (Alt)"}]
[null,null,null,null,null,null,null,null,null,{"$f":"Label_RTI_D4MS","v":"Unsignalized Diamond"}]
[]
["Number of Lanes"]
["5 or fewer"]
["6 or more"]
[]
[]
[]
["Major Street Approach Speed",null,null,null,null,null,null,null,null,"3ST"]
["Less than 55 mph",null,null,null,null,null,null,null,null,"4ST"]
["55+ mph",null,null,null,null,null,null,null,null,"3SG"]
[null,null,null,null,null,null,null,null,null,"4SG"]
[null,null,null,null,null,null,null,null,null,"3AWSC"]
[null,null,null,null,null,null,null,null,null,"4AWSC"]
[]
[]
[]
[]
["Ranking Priority"]
["Total Crashes"]
["Fatal/Injury Crashes"]

{"sheet":"User Selections","index":34,"n_rows":50,"n_cols":8,"rows_kept":50,"cut":false,"hidden":false,"merged":[[43,0,45,0],[41,4,41,5],[41,6,41,7]]}
["Alternatives"]
["At-Grade Selections"]
["Traffic Signal #1",{"$f":"IF('Control Strategy Selection'!B19:C19=Notes!$Q$19,TRUE,FALSE)","v":true}]
["Traffic Signal #2",{"$f":"IF('Control Strategy Selection'!B20:C20=Notes!$Q$19,TRUE,FALSE)","v":true}]
["Minor Road Stop",{"$f":"IF('Control Strategy Selection'!B21:C21=Notes!$Q$19,TRUE,FALSE)","v":true}]
["All Way Stop",{"$f":"IF('Control Strategy Selection'!B22:C22=Notes!$Q$19,TRUE,FALSE)","v":true}]
["1-lane Roundabout",{"$f":"IF('Control Strategy Selection'!B23:C23=Notes!$Q$19,TRUE,FALSE)","v":true}]
["2-lane Roundabout",{"$f":"IF('Control Strategy Selection'!B24:C24=Notes!$Q$19,TRUE,FALSE)","v":true}]
["Displaced Left Turn (DLT)",{"$f":"IF('Control Strategy Selection'!B25:C25=Notes!$Q$19,TRUE,FALSE)","v":true}]
["Median U-Turn (MUT)",{"$f":"IF('Control Strategy Selection'!B26:C26=Notes!$Q$19,TRUE,FALSE)","v":true}]
["Signalized Restricted Crossing U-Turn (RCUT), also known Superstreet",{"$f":"IF('Control Strategy Selection'!B27:C27=Notes!$Q$19,TRUE,FALSE)","v":true}]
["Unsignalized Restricted Crossing U-Turn (RCUT), also known as J-Turn",{"$f":"IF('Control Strategy Selection'!B28:C28=Notes!$Q$19,TRUE,FALSE)","v":true}]
["Signalized Thru-Cut",{"$f":"IF(Input_Include_SigThruCut=Notes!$Q$19,TRUE,FALSE)","v":true}]
["Unsignalized Thru-Cut",{"$f":"IF(Input_Include_UnsigThruCut=Notes!$Q$19,TRUE,FALSE)","v":true}]
["Continuous Green-T Intersection",{"$f":"IF('Control Strategy Selection'!B31:C31=Notes!$Q$19,TRUE,FALSE)","v":false}]
["Jughandle",{"$f":"IF('Control Strategy Selection'!B32:C32=Notes!$Q$19,TRUE,FALSE)","v":true}]
["Other (Please Specify)",{"$f":"IF('Control Strategy Selection'!B33:C33=Notes!$Q$19,TRUE,FALSE)","v":false}]
["Other (Please Specify)",{"$f":"IF('Control Strategy Selection'!B34:C34=Notes!$Q$19,TRUE,FALSE)","v":false}]
[]
["Ramp Terminal Interchanges"]
[{"$f":"Label_RTI_D4TS","v":"Signalized Diamond"},{"$f":"IF('Control Strategy Selection'!B61:C61=Notes!$Q$19,TRUE,FALSE)","v":true}]
[{"$f":"Label_RTI_D4TSA","v":"Signalized Diamond (Alt)"},{"$f":"IF('Control Strategy Selection'!B62:C62=Notes!$Q$19,TRUE,FALSE)","v":true}]
[{"$f":"Label_RTI_DDI","v":"Diverging Diamond"},{"$f":"IF('Control Strategy Selection'!B63:C63=Notes!$Q$19,TRUE,FALSE)","v":true}]
[{"$f":"Label_RTI_SPUI","v":"Single-Point Diamond"},{"$f":"IF('Control Strategy Selection'!B64:C64=Notes!$Q$19,TRUE,FALSE)","v":true}]
[{"$f":"Label_RTI_D4MS","v":"Unsignalized Diamond"},{"$f":"IF('Control Strategy Selection'!B65:C65=Notes!$Q$19,TRUE,FALSE)","v":true}]
[{"$f":"Label_RTI_1LnRdbt","v":"1-lane Roundabout"},{"$f":"IF('Control Strategy Selection'!B66:C66=Notes!$Q$19,TRUE,FALSE)","v":true}]
[{"$f":"Label_RTI_2LnRdbt","v":"2-lane Roundabout"},{"$f":"IF('Control Strategy Selection'!B67:C67=Notes!$Q$19,TRUE,FALSE)","v":true}]
["Tight Diamond Interchange",{"$f":"IF('Control Strategy Selection'!B68:C68=Notes!$Q$19,TRUE,FALSE)","v":true}]
[{"$f":"Label_RTI_Other1","v":"Other 1"},{"$f":"IF('Control Strategy Selection'!B69:C69=Notes!$Q$19,TRUE,FALSE)","v":true}]
[{"$f":"Label_RTI_Other2","v":"Other 2"},{"$f":"IF('Control Strategy Selection'!B70:C70=Notes!$Q$19,TRUE,FALSE)","v":true}]
[]
[]
[]
[]
[]
[]
[]
[]
[]
[]
[]
[null,"Major","Allowable","Minor","Open",null,"Design"]
["RCUT AADT Ratios","Limit","Ratio","Limit","In Range","Under ratio","In Range","Under ratio"]
["This table is used to verify whether the ratio of major to minor AADT falls within the allowable ratios appropriate for the RCUT SPF methodology.",5000,{"$f":"D44/B44","v":1.06},5300,{"$f":"AND(Input_Base_OAADTMajor>0,Input_Base_OAADTMajor<=B44)","v":false},{"$f":"IF(E44,Input_Base_OAADTMinor/Input_Base_OAADTMajor<C44, TRUE)","v":true},{"$f":"AND(Input_Base_DAADTMajor>0,Input_Base_DAADTMajor<=B44)","v":false},{"$f":"IF(G44,Input_Base_DAADTMinor/Input_Base_DAADTMajor<C44, TRUE)","v":true}]
[null,15000,{"$f":"D45/B45","v":0.82466666666666666},12370,{"$f":"AND(Input_Base_OAADTMajor>B44,Input_Base_OAADTMajor<=B45)","v":false},true,{"$f":"AND(Input_Base_DAADTMajor>B44,Input_Base_DAADTMajor<=B45)","v":false},true]
[null,25000,0.64200000000000002,16050,false,true,false,true]
[null,35000,0.5,17500,false,true,false,true]
[null,45000,0.38955555555555554,17530,false,true,false,true]
[null,55000,0.30345454545454548,16690,false,true,false,true]
[null,65000,0.2363076923076923,15360,false,true,false,true]

{"sheet":"Labels","index":35,"n_rows":93,"n_cols":8,"rows_kept":93,"cut":false,"hidden":false,"merged":[]}
[]
[]
["Control Strategies"]
["At-Grade Selections"]
["Traffic Signal"]
["Minor Road Stop"]
["All Way Stop"]
["1-lane Roundabout"]
["2-lane Roundabout"]
["Displaced Left Turn (DLT)"]
["Median U-Turn (MUT)"]
["Signalized RCUT"]
["Unsignalized RCUT"]
["Continuous Green-T Intersection"]
["Jughandle"]
[{"$f":"'Control Strategy Selection'!A33","v":"Other 1*"}]
[{"$f":"'Control Strategy Selection'!A34","v":"Other 2*"}]
[]
["Ramp Terminal Interchanges"]
["Conventional Traffic Signal"]
["Crossover Traffic Signal (of Diverging Diamond Interchange)"]
["Single-Point Diamond Traffic Signal"]
["Minor Road (ramp) Stop"]
["1-lane Roundabout"]
["2-lane Roundabout"]
[]
[]
[]
[]
[]
[]
[]
["Facility Types"]
["On Rural Two Lane Highway"]
["On Rural Multilane Highway"]
["On Urban and Suburban Arterial"]
["On High Speed (50+ MPH) Urban and Suburban Arterial"]
[]
[]
[]
[]
[]
[]
["Analysis Year"]
["Opening Year Only"]
["Opening and Design Year"]
[]
[]
[]
[]
[null,null,null,true,{"$f":"NOT(D51)","v":false}]
["Pedestrian Activity",null,null,"4-Leg","3-Leg"]
[{"$f":"C53&\" (\" & IF($D$51,D53,E53) & \")\"","v":"High (3200)"},null,"High",3200,1700,4,{"$f":"IF(LEFT(Input_TrafficSignal_PedActivity,F53)=C53,TRUE, FALSE)","v":false},{"$f":"IF(LEFT(Input_TrafficSignal2_PedActivity,F53)=C53,TRUE, FALSE)","v":false}]
[{"$f":"C54&\" (\" & IF($D$51,D54,E54) & \")\"","v":"Med High (1500)"},null,"Med High",1500,750,8,false,false]
["Medium (700)",null,"Medium",700,400,6,false,false]
["Med Low (240)",null,"Med Low",240,120,7,false,false]
["Low (50)",null,"Low",50,20,3,true,true]
[{"$f":"C58","v":"Other - Enter Below"},null,"Other - Enter Below",null,null,null,false,false]
[]
[]
[]
["High (1,700)"]
["Medium High (750)"]
["Medium (400)"]
["Medium Low (120)"]
["Low (20)"]
["Other - Enter Below"]
[]
[]
[]
[]
[]
[]
[]
[]
[]
[]
["Exit ramp right turn control"]
["Merge/Free Flow"]
[" Signal/Stop/yield-controlled"]
[]
["Effective number of lanes serving exit ramp"]
[1]
[2]
[3]
[4]
[]
["# of driveways (or public street approaches) on the crossroad leg outside of the interchange"]
[0]
[1]
[2]
[3]
[4]

{"sheet":"Changelog","index":36,"n_rows":20,"n_cols":4,"rows_kept":20,"cut":false,"hidden":false,"merged":[[0,0,1,11],[19,0,21,1],[19,2,21,2],[19,3,21,11],[2,3,3,11],[7,3,9,11],[7,0,9,1],[7,2,9,2],[10,3,12,11],[10,2,12,2],[10,0,12,1],[4,3,6,11],[4,2,6,2],[4,0,6,1],[2,0,3,1],[2,2,3,2],[13,0,15,1],[13,2,15,2],[13,3,15,11],[16,0,18,1],[16,2,18,2],[16,3,18,11],[28,0,30,1],[28,2,30,2],[28,3,30,11],[22,0,24,1],[22,2,24,2],[22,3,24,11],[25,0,27,1],[25,2,27,2],[25,3,27,11]]}
["FDOT SPICE Tool Changelog"]
[]
["Date",null,"Version #","Description"]
[]
["2019-04-23",null,3.1,"Added new safety performance function (SPF) computations for signalized and unsignalized restricted crossing u-turns (RCUTS).  These methods replaced the previous crash modification factor (CMF) based approach."]
[]
[]
["2015-07-01",null,3.2,"Follow-up update to the Signalized RCUT methodology. These updates provided new coefficients for the safety performance function and improved AADT range and ratio limits to relflect the removal of high AADT outlier RCUT sample data sites."]
[]
[]
["2019-07-15",null,3.3,"Small bug fix to remove the deprecated display-only RCUT crash modification factors in the Calibration tab, as well as include new optional inputs to apply a calibration factor to the safety performance functions for signalized and unsignalized RCUTs."]
[]
[]
["2019-10-03",null,3.4,"Fixed bug where enabling Historical EB analysis could cause results to be reported for intersections missing an SPF.  As a note, this bug only occurred when Historical analysis was enabled, an invalid historical base intersection was chosen, and no historical crashes were input."]
[]
[]
["2020-02-17",null,3.5,"Added new safety performance function (SPF) computations for a set of new intersections as developed by the NCHRP 17-68 project.  The new intersections are the 3SG for rural two-lane highways, 3SG for rural multilane highways, 3ST, 4ST, 3SG, and 4SG for high speed arterials, 4AWSC for rural two-lane highways and 3AWSC amd 4AWSC for urban/suburban arterials."]
[]
[]
["2021-10-13",null,"4.0.0","Addition of SSI Methodology, new SPFS for the Tight Diamond interchange."]

{"sheet":"Trad_Sig","index":37,"n_rows":158,"n_cols":72,"rows_kept":158,"cut":false,"hidden":true,"merged":[[1,39,1,54],[1,56,1,71],[100,9,100,11],[1,9,1,11],[1,13,1,17],[1,21,1,25],[1,27,1,28],[0,19,0,28],[0,30,0,32],[1,31,2,31],[1,32,2,32],[100,36,101,36],[1,30,2,30],[1,34,2,34],[1,36,2,36]]}
[null,null,null,null,null,null,null,null,null,null,null,null,null,null,null,null,null,null,null,"Conflicting Traffic Complexity",null,null,null,null,null,null,null,null,null,null,"Pedestrian Complexity"]
[null,null,null,null,null,null,null,null,null,"Exposure",null,null,null,"Severity",null,null,null,null,null,"Traffic Control",null,"Conflicting Lanes",null,null,null,null,null,"Conflicting Speed",null,null,"Indirect Paths Indicator","Non-intuitive movements indicator","Pedestrian Complexity factor",null,"Total Complexity Multiplier",null,"Exposure-Severity-Complexity Product",null,null,"Included in Mvmt1",null,null,null,null,null,null,null,null,null,null,null,null,null,null,null,null,"Included in Mvmt2"]
["#","Conflict Type","Mvmt1","Mvmt1_gen","Mvmt1_SpeedCat","Mvmt2","Mvmt2_gen","Mvmt2_SpeedCat",null,"Q1","Q2","I",null,"Speed_V1","Speed_V2","Angle","delta_V","P_FSI",null,null,null,"MajC","MinC","MajM/P","MinM/P","Score",null,"Speed","Factor",null,null,null,null,null,null,null,null,null,null,"MajT1","MajL1","MajR1","MajT2","MajL2","MajR2","MinT1","MinL1","MinR1","MinT2","MinL2","MinR2","MajNM1","MajNM2","MinNM1","MinNM2",null,"MajT1","MajL1","MajR1","MajT2","MajL2","MajR2","MinT1","MinL1","MinR1","MinT2","MinL2","MinR2","MajNM1","MajNM2","MinNM1","MinNM2"]
[1,"Crossing","NBT","MinT1","Signal near","EBT","MajT1","Major thru",null,{"$f":"SUMPRODUCT($AN4:$BC4,$AN$60:$BC$60)","v":{"$error":"#VALUE!"}},{"$f":"SUMPRODUCT($BE4:$BT4,$BE$60:$BT$60)","v":{"$error":"#VALUE!"}},{"$f":"PRODUCT(J4:K4)","v":{"$error":"#VALUE!"}},null,{"$f":"VLOOKUP(E4,'SSI Inputs'!$B$49:$F$62,5,FALSE)","v":15},{"$f":"VLOOKUP(H4,'SSI Inputs'!$B$49:$F$62,5,FALSE)","v":45},{"$f":"IF(B4=\"Nonmotorized\",\"\",VLOOKUP(B4,'SSI Inputs'!$B$65:$F$69,5,FALSE))","v":90},{"$f":"IF(B4=\"Nonmotorized\",\"\",SQRT(N4^2+O4^2-2*N4*O4*COS(RADIANS(P4)))/2)","v":23.717082451262844},{"$f":"IF(B4=\"Nonmotorized\",1/(1+EXP(3.8432-0.1237*O4)),(Q4/'SSI Inputs'!$F$72)^'SSI Inputs'!$F$73+(Q4/'SSI Inputs'!$F$72)^'SSI Inputs'!$F$73-((Q4/'SSI Inputs'!$F$72)^'SSI Inputs'!$F$73)*((Q4/'SSI Inputs'!$F$72)^'SSI Inputs'!$F$73))","v":3.7884541771032863E-2},null,{"$f":"SSI_AGI_ProtFactor","v":0.505},null,2,null,null,null,{"$f":"MAX(1,IF(B4<>\"Pedestrian\",V4*SSI_AGI_MajorThruLanes+W4*SSI_AGI_MinorThruLanes+X4*IF(SSI_AGI_MajorThruLanes=1,SSI_AGI_MergeWeightL1,IF(SSI_AGI_MajorThruLanes=2,SSI_AGI_MergeWeightL1+SSI_AGI_MergeWeightL2,SSI_AGI_MergeWeightL1+SSI_AGI_MergeWeightL2+SSI_AGI_MergeWeightL3*(SSI_AGI_MajorThruLanes-2)))+Y4*IF(SSI_AGI_MinorThruLanes=1,SSI_AGI_MergeWeightL1,IF(SSI_AGI_MinorThruLanes=2,SSI_AGI_MergeWeightL1+SSI_AGI_MergeWeightL2,SSI_AGI_MergeWeightL1+SSI_AGI_MergeWeightL2+SSI_AGI_MergeWeightL3*(SSI_AGI_MinorThruLanes-2))),V4*SSI_AGI_MajorThruLanes+W4*SSI_AGI_MinorThruLanes+X4*IF(SSI_AGI_MajorThruLanes=1,SSI_AGI_NM_MergeWeightL1,IF(SSI_AGI_MajorThruLanes=2,SSI_AGI_NM_MergeWeightL1+SSI_AGI_NM_MergeWeightL2,SSI_AGI_NM_MergeWeightL1+SSI_AGI_NM_MergeWeightL2+SSI_AGI_NM_MergeWeightL3*(SSI_AGI_MajorThruLanes-2)))+Y4*IF(SSI_AGI_MinorThruLanes=1,SSI_AGI_NM_MergeWeightL1,IF(SSI_AGI_MinorThruLanes=2,SSI_AGI_NM_MergeWeightL1+SSI_AGI_NM_MergeWeightL2,SSI_AGI_NM_MergeWeightL1+SSI_AGI_NM_MergeWeightL2+SSI_AGI_NM_MergeWeightL3*(SSI_AGI_MinorThruLanes-2)))))","v":4},null,{"$f":"IF(B4=\"Diverging\",\"\",'SSI Inputs'!$F$49)","v":45},{"$f":"IF(B4=\"Diverging\",1,1-((60-AB4)/60*0.1/0.15))","v":0.83333333333333326},null,null,null,{"$f":"IF(SSI_AGI_ConsiderNMComplexity=\"Yes\",1+AE4+AF4,1)","v":1},null,{"$f":"PRODUCT(Z4,T4,AC4,AG4)","v":1.6833333333333331},null,{"$f":"L4*R4*AI4","v":{"$error":"#VALUE!"}},null,null,{"$f":"IF(ISNUMBER(SEARCH(AN$3,$D4)),1,\"\")","v":""},{"$f":"IF(ISNUMBER(SEARCH(AO$3,$D4)),1,\"\")","v":""},"","","","",1,"","","","","","","","","",null,{"$f":"IF(ISNUMBER(SEARCH(BE$3,$G4)),1,\"\")","v":1},{"$f":"IF(ISNUMBER(SEARCH(BF$3,$G4)),1,\"\")","v":""},"","","","","","","","","","","","","",""]
[2,"Crossing - LT","NBT","MinT1","Signal near","SBL","MinL2","Signal far",null,{"$f":"SUMPRODUCT($AN5:$BC5,$AN$60:$BC$60)","v":{"$error":"#VALUE!"}},{"$f":"SUMPRODUCT($BE5:$BT5,$BE$60:$BT$60)","v":{"$error":"#VALUE!"}},{"$f":"PRODUCT(J5:K5)","v":{"$error":"#VALUE!"}},null,{"$f":"VLOOKUP(E5,'SSI Inputs'!$B$49:$F$62,5,FALSE)","v":15},{"$f":"VLOOKUP(H5,'SSI Inputs'!$B$49:$F$62,5,FALSE)","v":25},{"$f":"IF(B5=\"Nonmotorized\",\"\",VLOOKUP(B5,'SSI Inputs'!$B$65:$F$69,5,FALSE))","v":230},{"$f":"IF(B5=\"Nonmotorized\",\"\",SQRT(N5^2+O5^2-2*N5*O5*COS(RADIANS(P5)))/2)","v":18.248908921254063},{"$f":"IF(B5=\"Nonmotorized\",1/(1+EXP(3.8432-0.1237*O5)),(Q5/'SSI Inputs'!$F$72)^'SSI Inputs'!$F$73+(Q5/'SSI Inputs'!$F$72)^'SSI Inputs'!$F$73-((Q5/'SSI Inputs'!$F$72)^'SSI Inputs'!$F$73)*((Q5/'SSI Inputs'!$F$72)^'SSI Inputs'!$F$73))","v":1.4099039069818802E-2},null,{"$f":"IF(SSI_AGI_MinorLTPhase=\"Protected/permitted\",SSI_AGI_ProtPermFactor,IF(SSI_AGI_MinorLTPhase=\"Protected\",SSI_AGI_ProtFactor,SSI_AGI_PermFactor))","v":0.92500000000000004},null,1,1,1,null,5.75,null,{"$f":"IF(B5=\"Diverging\",\"\",'SSI Inputs'!$F$49)","v":45},0.83333333333333326,null,null,null,1,null,4.432291666666667,null,{"$f":"L5*R5*AI5","v":{"$error":"#VALUE!"}},null,null,{"$f":"IF(ISNUMBER(SEARCH(AN$3,$D5)),1,\"\")","v":""},"","","","","",1,"","","","","","","","","",null,{"$f":"IF(ISNUMBER(SEARCH(BE$3,$G5)),1,\"\")","v":""},"","","","","","","","","",1,"","","","",""]
[3,"Crossing - LT","NBT","MinT1","Signal far","WBL","MajL2","Major left",null,{"$error":"#VALUE!"},{"$error":"#VALUE!"},{"$error":"#VALUE!"},null,{"$f":"VLOOKUP(E6,'SSI Inputs'!$B$49:$F$62,5,FALSE)","v":25},{"$f":"VLOOKUP(H6,'SSI Inputs'!$B$49:$F$62,5,FALSE)","v":20},{"$f":"IF(B6=\"Nonmotorized\",\"\",VLOOKUP(B6,'SSI Inputs'!$B$65:$F$69,5,FALSE))","v":230},20.419277715473552,{"$f":"IF(B6=\"Nonmotorized\",1/(1+EXP(3.8432-0.1237*O6)),(Q6/'SSI Inputs'!$F$72)^'SSI Inputs'!$F$73+(Q6/'SSI Inputs'!$F$72)^'SSI Inputs'!$F$73-((Q6/'SSI Inputs'!$F$72)^'SSI Inputs'!$F$73)*((Q6/'SSI Inputs'!$F$72)^'SSI Inputs'!$F$73))","v":2.1555284139167314E-2},null,{"$f":"SSI_AGI_ProtFactor","v":0.505},null,2,null,null,null,4,null,{"$f":"IF(B6=\"Diverging\",\"\",'SSI Inputs'!$F$49)","v":45},0.83333333333333326,null,null,null,1,null,1.6833333333333331,null,{"$error":"#VALUE!"},null,null,"","","","","","",1,"","","","","","","","","",null,"","","","",1,"","","","","","","","","","",""]
[4,"Crossing","NBT","MinT1","Signal far","WBT","MajT2","Major Thru",null,{"$error":"#VALUE!"},{"$error":"#VALUE!"},{"$error":"#VALUE!"},null,{"$f":"VLOOKUP(E7,'SSI Inputs'!$B$49:$F$62,5,FALSE)","v":25},{"$f":"VLOOKUP(H7,'SSI Inputs'!$B$49:$F$62,5,FALSE)","v":45},{"$f":"IF(B7=\"Nonmotorized\",\"\",VLOOKUP(B7,'SSI Inputs'!$B$65:$F$69,5,FALSE))","v":90},25.739075352467502,{"$f":"IF(B7=\"Nonmotorized\",1/(1+EXP(3.8432-0.1237*O7)),(Q7/'SSI Inputs'!$F$72)^'SSI Inputs'!$F$73+(Q7/'SSI Inputs'!$F$72)^'SSI Inputs'!$F$73-((Q7/'SSI Inputs'!$F$72)^'SSI Inputs'!$F$73)*((Q7/'SSI Inputs'!$F$72)^'SSI Inputs'!$F$73))","v":5.1494149230103807E-2},null,{"$f":"SSI_AGI_ProtFactor","v":0.505},null,2,null,null,null,4,null,{"$f":"IF(B7=\"Diverging\",\"\",'SSI Inputs'!$F$49)","v":45},0.83333333333333326,null,null,null,1,null,1.6833333333333331,null,{"$error":"#VALUE!"},null,null,"","","","","","",1,"","","","","","","","","",null,"","","",1,"","","","","","","","","","","",""]
[5,"Crossing - LT","WBT","MajT2","Major thru","EBL","MajL1","Major left",null,{"$error":"#VALUE!"},{"$error":"#VALUE!"},{"$error":"#VALUE!"},null,{"$f":"VLOOKUP(E8,'SSI Inputs'!$B$49:$F$62,5,FALSE)","v":45},{"$f":"VLOOKUP(H8,'SSI Inputs'!$B$49:$F$62,5,FALSE)","v":20},{"$f":"IF(B8=\"Nonmotorized\",\"\",VLOOKUP(B8,'SSI Inputs'!$B$65:$F$69,5,FALSE))","v":230},29.924979939156898,{"$f":"IF(B8=\"Nonmotorized\",1/(1+EXP(3.8432-0.1237*O8)),(Q8/'SSI Inputs'!$F$72)^'SSI Inputs'!$F$73+(Q8/'SSI Inputs'!$F$72)^'SSI Inputs'!$F$73-((Q8/'SSI Inputs'!$F$72)^'SSI Inputs'!$F$73)*((Q8/'SSI Inputs'!$F$72)^'SSI Inputs'!$F$73))","v":9.0286582411373745E-2},null,{"$f":"IF(SSI_AGI_MajorLTPhase=\"Protected/permitted\",SSI_AGI_ProtPermFactor,IF(SSI_AGI_MajorLTPhase=\"Protected\",SSI_AGI_ProtFactor,SSI_AGI_PermFactor))","v":0.92500000000000004},null,1,null,null,null,2,null,{"$f":"IF(B8=\"Diverging\",\"\",'SSI Inputs'!$F$49)","v":45},0.83333333333333326,null,null,null,1,null,1.5416666666666665,null,{"$error":"#VALUE!"},null,null,"","","",1,"","","","","","","","","","","","",null,"",1,"","","","","","","","","","","","","",""]
[6,"Crossing - LT","WBT","MajT2","Major thru","SBL","MinL2","Signal near",null,{"$error":"#VALUE!"},{"$error":"#VALUE!"},{"$error":"#VALUE!"},null,{"$f":"VLOOKUP(E9,'SSI Inputs'!$B$49:$F$62,5,FALSE)","v":45},{"$f":"VLOOKUP(H9,'SSI Inputs'!$B$49:$F$62,5,FALSE)","v":15},{"$f":"IF(B9=\"Nonmotorized\",\"\",VLOOKUP(B9,'SSI Inputs'!$B$65:$F$69,5,FALSE))","v":230},27.918467333813421,{"$f":"IF(B9=\"Nonmotorized\",1/(1+EXP(3.8432-0.1237*O9)),(Q9/'SSI Inputs'!$F$72)^'SSI Inputs'!$F$73+(Q9/'SSI Inputs'!$F$72)^'SSI Inputs'!$F$73-((Q9/'SSI Inputs'!$F$72)^'SSI Inputs'!$F$73)*((Q9/'SSI Inputs'!$F$72)^'SSI Inputs'!$F$73))","v":6.9762185672148203E-2},null,{"$f":"SSI_AGI_ProtFactor","v":0.505},null,1,1,1,null,5.75,null,{"$f":"IF(B9=\"Diverging\",\"\",'SSI Inputs'!$F$49)","v":45},0.83333333333333326,null,null,null,1,null,2.4197916666666663,null,{"$error":"#VALUE!"},null,null,"","","",1,"","","","","","","","","","","","",null,"","","","","","","","","","",1,"","","","",""]
[7,"Crossing","SBT","MinT2","Signal near","WBT","MajT2","Major thru",null,{"$error":"#VALUE!"},{"$error":"#VALUE!"},{"$error":"#VALUE!"},null,{"$f":"VLOOKUP(E10,'SSI Inputs'!$B$49:$F$62,5,FALSE)","v":15},{"$f":"VLOOKUP(H10,'SSI Inputs'!$B$49:$F$62,5,FALSE)","v":45},{"$f":"IF(B10=\"Nonmotorized\",\"\",VLOOKUP(B10,'SSI Inputs'!$B$65:$F$69,5,FALSE))","v":90},23.717082451262844,{"$f":"IF(B10=\"Nonmotorized\",1/(1+EXP(3.8432-0.1237*O10)),(Q10/'SSI Inputs'!$F$72)^'SSI Inputs'!$F$73+(Q10/'SSI Inputs'!$F$72)^'SSI Inputs'!$F$73-((Q10/'SSI Inputs'!$F$72)^'SSI Inputs'!$F$73)*((Q10/'SSI Inputs'!$F$72)^'SSI Inputs'!$F$73))","v":3.7884541771032863E-2},null,{"$f":"SSI_AGI_ProtFactor","v":0.505},null,2,null,null,null,4,null,{"$f":"IF(B10=\"Diverging\",\"\",'SSI Inputs'!$F$49)","v":45},0.83333333333333326,null,null,null,1,null,1.6833333333333331,null,{"$error":"#VALUE!"},null,null,"","","","","","","","","",1,"","","","","","",null,"","","",1,"","","","","","","","","","","",""]
[8,"Crossing - LT","SBT","MinT2","Signal near","NBL","MinL1","Signal far",null,{"$error":"#VALUE!"},{"$error":"#VALUE!"},{"$error":"#VALUE!"},null,{"$f":"VLOOKUP(E11,'SSI Inputs'!$B$49:$F$62,5,FALSE)","v":15},{"$f":"VLOOKUP(H11,'SSI Inputs'!$B$49:$F$62,5,FALSE)","v":25},{"$f":"IF(B11=\"Nonmotorized\",\"\",VLOOKUP(B11,'SSI Inputs'!$B$65:$F$69,5,FALSE))","v":230},18.248908921254063,{"$f":"IF(B11=\"Nonmotorized\",1/(1+EXP(3.8432-0.1237*O11)),(Q11/'SSI Inputs'!$F$72)^'SSI Inputs'!$F$73+(Q11/'SSI Inputs'!$F$72)^'SSI Inputs'!$F$73-((Q11/'SSI Inputs'!$F$72)^'SSI Inputs'!$F$73)*((Q11/'SSI Inputs'!$F$72)^'SSI Inputs'!$F$73))","v":1.4099039069818802E-2},null,{"$f":"IF(SSI_AGI_MinorLTPhase=\"Protected/permitted\",SSI_AGI_ProtPermFactor,IF(SSI_AGI_MinorLTPhase=\"Protected\",SSI_AGI_ProtFactor,SSI_AGI_PermFactor))","v":0.92500000000000004},null,1,1,1,null,5.75,null,{"$f":"IF(B11=\"Diverging\",\"\",'SSI Inputs'!$F$49)","v":45},0.83333333333333326,null,null,null,1,null,4.432291666666667,null,{"$error":"#VALUE!"},null,null,"","","","","","","","","",1,"","","","","","",null,"","","","","","","",1,"","","","","","","",""]
[9,"Crossing - LT","SBT","MinT2","Signal far","EBL","MajL1","Major left",null,{"$error":"#VALUE!"},{"$error":"#VALUE!"},{"$error":"#VALUE!"},null,{"$f":"VLOOKUP(E12,'SSI Inputs'!$B$49:$F$62,5,FALSE)","v":25},{"$f":"VLOOKUP(H12,'SSI Inputs'!$B$49:$F$62,5,FALSE)","v":20},{"$f":"IF(B12=\"Nonmotorized\",\"\",VLOOKUP(B12,'SSI Inputs'!$B$65:$F$69,5,FALSE))","v":230},20.419277715473552,{"$f":"IF(B12=\"Nonmotorized\",1/(1+EXP(3.8432-0.1237*O12)),(Q12/'SSI Inputs'!$F$72)^'SSI Inputs'!$F$73+(Q12/'SSI Inputs'!$F$72)^'SSI Inputs'!$F$73-((Q12/'SSI Inputs'!$F$72)^'SSI Inputs'!$F$73)*((Q12/'SSI Inputs'!$F$72)^'SSI Inputs'!$F$73))","v":2.1555284139167314E-2},null,{"$f":"SSI_AGI_ProtFactor","v":0.505},null,2,null,null,null,4,null,{"$f":"IF(B12=\"Diverging\",\"\",'SSI Inputs'!$F$49)","v":45},0.83333333333333326,null,null,null,1,null,1.6833333333333331,null,{"$error":"#VALUE!"},null,null,"","","","","","","","","",1,"","","","","","",null,"",1,"","","","","","","","","","","","","",""]
[10,"Crossing","SBT","MinT2","Signal far","EBT","MajT1","Major thru",null,{"$error":"#VALUE!"},{"$error":"#VALUE!"},{"$error":"#VALUE!"},null,{"$f":"VLOOKUP(E13,'SSI Inputs'!$B$49:$F$62,5,FALSE)","v":25},{"$f":"VLOOKUP(H13,'SSI Inputs'!$B$49:$F$62,5,FALSE)","v":45},{"$f":"IF(B13=\"Nonmotorized\",\"\",VLOOKUP(B13,'SSI Inputs'!$B$65:$F$69,5,FALSE))","v":90},25.739075352467502,{"$f":"IF(B13=\"Nonmotorized\",1/(1+EXP(3.8432-0.1237*O13)),(Q13/'SSI Inputs'!$F$72)^'SSI Inputs'!$F$73+(Q13/'SSI Inputs'!$F$72)^'SSI Inputs'!$F$73-((Q13/'SSI Inputs'!$F$72)^'SSI Inputs'!$F$73)*((Q13/'SSI Inputs'!$F$72)^'SSI Inputs'!$F$73))","v":5.1494149230103807E-2},null,{"$f":"SSI_AGI_ProtFactor","v":0.505},null,2,null,null,null,4,null,{"$f":"IF(B13=\"Diverging\",\"\",'SSI Inputs'!$F$49)","v":45},0.83333333333333326,null,null,null,1,null,1.6833333333333331,null,{"$error":"#VALUE!"},null,null,"","","","","","","","","",1,"","","","","","",null,1,"","","","","","","","","","","","","","",""]
[11,"Crossing - LT","EBT","MajT1","Major thru","WBL","MajL2","Major left",null,{"$error":"#VALUE!"},{"$error":"#VALUE!"},{"$error":"#VALUE!"},null,{"$f":"VLOOKUP(E14,'SSI Inputs'!$B$49:$F$62,5,FALSE)","v":45},{"$f":"VLOOKUP(H14,'SSI Inputs'!$B$49:$F$62,5,FALSE)","v":20},{"$f":"IF(B14=\"Nonmotorized\",\"\",VLOOKUP(B14,'SSI Inputs'!$B$65:$F$69,5,FALSE))","v":230},29.924979939156898,{"$f":"IF(B14=\"Nonmotorized\",1/(1+EXP(3.8432-0.1237*O14)),(Q14/'SSI Inputs'!$F$72)^'SSI Inputs'!$F$73+(Q14/'SSI Inputs'!$F$72)^'SSI Inputs'!$F$73-((Q14/'SSI Inputs'!$F$72)^'SSI Inputs'!$F$73)*((Q14/'SSI Inputs'!$F$72)^'SSI Inputs'!$F$73))","v":9.0286582411373745E-2},null,{"$f":"IF(SSI_AGI_MajorLTPhase=\"Protected/permitted\",SSI_AGI_ProtPermFactor,IF(SSI_AGI_MajorLTPhase=\"Protected\",SSI_AGI_ProtFactor,SSI_AGI_PermFactor))","v":0.92500000000000004},null,1,null,null,null,2,null,{"$f":"IF(B14=\"Diverging\",\"\",'SSI Inputs'!$F$49)","v":45},0.83333333333333326,null,null,null,1,null,1.5416666666666665,null,{"$error":"#VALUE!"},null,null,1,"","","","","","","","","","","","","","","",null,"","","","",1,"","","","","","","","","","",""]
[12,"Crossing - LT","EBT","MajT1","Major thru","NBL","MinL1","Signal near",null,{"$error":"#VALUE!"},{"$error":"#VALUE!"},{"$error":"#VALUE!"},null,{"$f":"VLOOKUP(E15,'SSI Inputs'!$B$49:$F$62,5,FALSE)","v":45},{"$f":"VLOOKUP(H15,'SSI Inputs'!$B$49:$F$62,5,FALSE)","v":15},{"$f":"IF(B15=\"Nonmotorized\",\"\",VLOOKUP(B15,'SSI Inputs'!$B$65:$F$69,5,FALSE))","v":230},27.918467333813421,{"$f":"IF(B15=\"Nonmotorized\",1/(1+EXP(3.8432-0.1237*O15)),(Q15/'SSI Inputs'!$F$72)^'SSI Inputs'!$F$73+(Q15/'SSI Inputs'!$F$72)^'SSI Inputs'!$F$73-((Q15/'SSI Inputs'!$F$72)^'SSI Inputs'!$F$73)*((Q15/'SSI Inputs'!$F$72)^'SSI Inputs'!$F$73))","v":6.9762185672148203E-2},null,{"$f":"SSI_AGI_ProtFactor","v":0.505},null,1,1,1,null,5.75,null,{"$f":"IF(B15=\"Diverging\",\"\",'SSI Inputs'!$F$49)","v":45},0.83333333333333326,null,null,null,1,null,2.4197916666666663,null,{"$error":"#VALUE!"},null,null,1,"","","","","","","","","","","","","","","",null,"","","","","","","",1,"","","","","","","",""]
[13,"Crossing - LT","NBL","MinL1","Signal near","WBL","MajL2","Major left",null,{"$error":"#VALUE!"},{"$error":"#VALUE!"},{"$error":"#VALUE!"},null,{"$f":"VLOOKUP(E16,'SSI Inputs'!$B$49:$F$62,5,FALSE)","v":15},{"$f":"VLOOKUP(H16,'SSI Inputs'!$B$49:$F$62,5,FALSE)","v":20},{"$f":"IF(B16=\"Nonmotorized\",\"\",VLOOKUP(B16,'SSI Inputs'!$B$65:$F$69,5,FALSE))","v":230},15.895538413434787,{"$f":"IF(B16=\"Nonmotorized\",1/(1+EXP(3.8432-0.1237*O16)),(Q16/'SSI Inputs'!$F$72)^'SSI Inputs'!$F$73+(Q16/'SSI Inputs'!$F$72)^'SSI Inputs'!$F$73-((Q16/'SSI Inputs'!$F$72)^'SSI Inputs'!$F$73)*((Q16/'SSI Inputs'!$F$72)^'SSI Inputs'!$F$73))","v":8.3616736100371545E-3},null,0.505,null,1,1,1,null,5.75,null,{"$f":"IF(B16=\"Diverging\",\"\",'SSI Inputs'!$F$49)","v":45},0.83333333333333326,null,null,null,1,null,2.4197916666666663,null,{"$error":"#VALUE!"},null,null,"","","","","","","",1,"","","","","","","","",null,"","","","",1,"","","","","","","","","","",""]
[14,"Crossing - LT","NBL","MinL1","Signal far","EBL","MajL1","Major left",null,{"$error":"#VALUE!"},{"$error":"#VALUE!"},{"$error":"#VALUE!"},null,{"$f":"VLOOKUP(E17,'SSI Inputs'!$B$49:$F$62,5,FALSE)","v":25},{"$f":"VLOOKUP(H17,'SSI Inputs'!$B$49:$F$62,5,FALSE)","v":20},{"$f":"IF(B17=\"Nonmotorized\",\"\",VLOOKUP(B17,'SSI Inputs'!$B$65:$F$69,5,FALSE))","v":230},20.419277715473552,{"$f":"IF(B17=\"Nonmotorized\",1/(1+EXP(3.8432-0.1237*O17)),(Q17/'SSI Inputs'!$F$72)^'SSI Inputs'!$F$73+(Q17/'SSI Inputs'!$F$72)^'SSI Inputs'!$F$73-((Q17/'SSI Inputs'!$F$72)^'SSI Inputs'!$F$73)*((Q17/'SSI Inputs'!$F$72)^'SSI Inputs'!$F$73))","v":2.1555284139167314E-2},null,0.505,null,1,1,1,null,5.75,null,{"$f":"IF(B17=\"Diverging\",\"\",'SSI Inputs'!$F$49)","v":45},0.83333333333333326,null,null,null,1,null,2.4197916666666663,null,{"$error":"#VALUE!"},null,null,"","","","","","","",1,"","","","","","","","",null,"",1,"","","","","","","","","","","","","",""]
[15,"Crossing - LT","SBL","MinL2","Signal near","EBL","MajL1","Major left",null,{"$error":"#VALUE!"},{"$error":"#VALUE!"},{"$error":"#VALUE!"},null,{"$f":"VLOOKUP(E18,'SSI Inputs'!$B$49:$F$62,5,FALSE)","v":15},{"$f":"VLOOKUP(H18,'SSI Inputs'!$B$49:$F$62,5,FALSE)","v":20},{"$f":"IF(B18=\"Nonmotorized\",\"\",VLOOKUP(B18,'SSI Inputs'!$B$65:$F$69,5,FALSE))","v":230},15.895538413434787,{"$f":"IF(B18=\"Nonmotorized\",1/(1+EXP(3.8432-0.1237*O18)),(Q18/'SSI Inputs'!$F$72)^'SSI Inputs'!$F$73+(Q18/'SSI Inputs'!$F$72)^'SSI Inputs'!$F$73-((Q18/'SSI Inputs'!$F$72)^'SSI Inputs'!$F$73)*((Q18/'SSI Inputs'!$F$72)^'SSI Inputs'!$F$73))","v":8.3616736100371545E-3},null,0.505,null,1,1,1,null,5.75,null,{"$f":"IF(B18=\"Diverging\",\"\",'SSI Inputs'!$F$49)","v":45},0.83333333333333326,null,null,null,1,null,2.4197916666666663,null,{"$error":"#VALUE!"},null,null,"","","","","","","","","","",1,"","","","","",null,"",1,"","","","","","","","","","","","","",""]
[16,"Crossing - LT","SBL","MinL2","Signal far","WBL","MajL2","Major left",null,{"$error":"#VALUE!"},{"$error":"#VALUE!"},{"$error":"#VALUE!"},null,{"$f":"VLOOKUP(E19,'SSI Inputs'!$B$49:$F$62,5,FALSE)","v":25},{"$f":"VLOOKUP(H19,'SSI Inputs'!$B$49:$F$62,5,FALSE)","v":20},{"$f":"IF(B19=\"Nonmotorized\",\"\",VLOOKUP(B19,'SSI Inputs'!$B$65:$F$69,5,FALSE))","v":230},20.419277715473552,{"$f":"IF(B19=\"Nonmotorized\",1/(1+EXP(3.8432-0.1237*O19)),(Q19/'SSI Inputs'!$F$72)^'SSI Inputs'!$F$73+(Q19/'SSI Inputs'!$F$72)^'SSI Inputs'!$F$73-((Q19/'SSI Inputs'!$F$72)^'SSI Inputs'!$F$73)*((Q19/'SSI Inputs'!$F$72)^'SSI Inputs'!$F$73))","v":2.1555284139167314E-2},null,0.505,null,1,1,1,null,5.75,null,{"$f":"IF(B19=\"Diverging\",\"\",'SSI Inputs'!$F$49)","v":45},0.83333333333333326,null,null,null,1,null,2.4197916666666663,null,{"$error":"#VALUE!"},null,null,"","","","","","","","","","",1,"","","","","",null,"","","","",1,"","","","","","","","","","",""]
[17,"Merging","EBT","MajT1","Major thru","SBL","MinL2","Signal far",null,{"$error":"#VALUE!"},{"$error":"#VALUE!"},{"$error":"#VALUE!"},null,{"$f":"VLOOKUP(E20,'SSI Inputs'!$B$49:$F$62,5,FALSE)","v":45},{"$f":"VLOOKUP(H20,'SSI Inputs'!$B$49:$F$62,5,FALSE)","v":25},{"$f":"IF(B20=\"Nonmotorized\",\"\",VLOOKUP(B20,'SSI Inputs'!$B$65:$F$69,5,FALSE))","v":45},16.271214938736659,{"$f":"IF(B20=\"Nonmotorized\",1/(1+EXP(3.8432-0.1237*O20)),(Q20/'SSI Inputs'!$F$72)^'SSI Inputs'!$F$73+(Q20/'SSI Inputs'!$F$72)^'SSI Inputs'!$F$73-((Q20/'SSI Inputs'!$F$72)^'SSI Inputs'!$F$73)*((Q20/'SSI Inputs'!$F$72)^'SSI Inputs'!$F$73))","v":9.1348815406664795E-3},null,0.505,null,1,1,1,null,5.75,null,{"$f":"IF(B20=\"Diverging\",\"\",'SSI Inputs'!$F$49)","v":45},0.83333333333333326,null,null,null,1,null,2.4197916666666663,null,{"$error":"#VALUE!"},null,null,1,"","","","","","","","","","","","","","","",null,"","","","","","","","","","",1,"","","","",""]
[18,"Merging","EBT","MajT1","Major thru","NBR","MinR1","Signal near",null,{"$f":"SUMPRODUCT($AN21:$BC21,$AN$60:$BC$60)","v":{"$error":"#VALUE!"}},{"$error":"#VALUE!"},{"$error":"#VALUE!"},null,{"$f":"VLOOKUP(E21,'SSI Inputs'!$B$49:$F$62,5,FALSE)","v":45},{"$f":"VLOOKUP(H21,'SSI Inputs'!$B$49:$F$62,5,FALSE)","v":15},{"$f":"IF(B21=\"Nonmotorized\",\"\",VLOOKUP(B21,'SSI Inputs'!$B$65:$F$69,5,FALSE))","v":45},17.995873453365363,{"$f":"IF(B21=\"Nonmotorized\",1/(1+EXP(3.8432-0.1237*O21)),(Q21/'SSI Inputs'!$F$72)^'SSI Inputs'!$F$73+(Q21/'SSI Inputs'!$F$72)^'SSI Inputs'!$F$73-((Q21/'SSI Inputs'!$F$72)^'SSI Inputs'!$F$73)*((Q21/'SSI Inputs'!$F$72)^'SSI Inputs'!$F$73))","v":1.3373938286506865E-2},null,0.505,null,null,null,1,null,1.75,null,{"$f":"IF(B21=\"Diverging\",\"\",'SSI Inputs'!$F$49)","v":45},0.83333333333333326,null,null,null,1,null,0.73645833333333333,null,{"$error":"#VALUE!"},null,null,1,"","","","","","","","","","","","","","","",null,"","","","","","","","",1,"","","","","","",""]
[19,"Merging","NBT","MinT1","Signal far","EBL","MajL1","Major left",null,{"$error":"#VALUE!"},{"$error":"#VALUE!"},{"$error":"#VALUE!"},null,{"$f":"VLOOKUP(E22,'SSI Inputs'!$B$49:$F$62,5,FALSE)","v":25},{"$f":"VLOOKUP(H22,'SSI Inputs'!$B$49:$F$62,5,FALSE)","v":20},{"$f":"IF(B22=\"Nonmotorized\",\"\",VLOOKUP(B22,'SSI Inputs'!$B$65:$F$69,5,FALSE))","v":45},8.9147801264732891,{"$f":"IF(B22=\"Nonmotorized\",1/(1+EXP(3.8432-0.1237*O22)),(Q22/'SSI Inputs'!$F$72)^'SSI Inputs'!$F$73+(Q22/'SSI Inputs'!$F$72)^'SSI Inputs'!$F$73-((Q22/'SSI Inputs'!$F$72)^'SSI Inputs'!$F$73)*((Q22/'SSI Inputs'!$F$72)^'SSI Inputs'!$F$73))","v":9.333798723087925E-4},null,0.505,null,2,null,null,null,4,null,{"$f":"IF(B22=\"Diverging\",\"\",'SSI Inputs'!$F$49)","v":45},0.83333333333333326,null,null,null,1,null,1.6833333333333331,null,{"$error":"#VALUE!"},null,null,"","","","","","",1,"","","","","","","","","",null,"",1,"","","","","","","","","","","","","",""]
[20,"Merging","NBT","MinT1","Signal far","WBR","MajR2","Major right",null,{"$error":"#VALUE!"},{"$error":"#VALUE!"},{"$error":"#VALUE!"},null,{"$f":"VLOOKUP(E23,'SSI Inputs'!$B$49:$F$62,5,FALSE)","v":25},{"$f":"VLOOKUP(H23,'SSI Inputs'!$B$49:$F$62,5,FALSE)","v":15},{"$f":"IF(B23=\"Nonmotorized\",\"\",VLOOKUP(B23,'SSI Inputs'!$B$65:$F$69,5,FALSE))","v":45},8.9396576292116645,{"$f":"IF(B23=\"Nonmotorized\",1/(1+EXP(3.8432-0.1237*O23)),(Q23/'SSI Inputs'!$F$72)^'SSI Inputs'!$F$73+(Q23/'SSI Inputs'!$F$72)^'SSI Inputs'!$F$73-((Q23/'SSI Inputs'!$F$72)^'SSI Inputs'!$F$73)*((Q23/'SSI Inputs'!$F$72)^'SSI Inputs'!$F$73))","v":9.4329959592674944E-4},null,0.505,null,2,null,null,null,4,null,{"$f":"IF(B23=\"Diverging\",\"\",'SSI Inputs'!$F$49)","v":45},0.83333333333333326,null,null,null,1,null,1.6833333333333331,null,{"$error":"#VALUE!"},null,null,"","","","","","",1,"","","","","","","","","",null,"","","","","",1,"","","","","","","","","",""]
[21,"Merging","WBT","MajT2","Major thru","NBL","MinL1","Signal far",null,{"$error":"#VALUE!"},{"$error":"#VALUE!"},{"$error":"#VALUE!"},null,{"$f":"VLOOKUP(E24,'SSI Inputs'!$B$49:$F$62,5,FALSE)","v":45},{"$f":"VLOOKUP(H24,'SSI Inputs'!$B$49:$F$62,5,FALSE)","v":25},{"$f":"IF(B24=\"Nonmotorized\",\"\",VLOOKUP(B24,'SSI Inputs'!$B$65:$F$69,5,FALSE))","v":45},16.271214938736659,{"$f":"IF(B24=\"Nonmotorized\",1/(1+EXP(3.8432-0.1237*O24)),(Q24/'SSI Inputs'!$F$72)^'SSI Inputs'!$F$73+(Q24/'SSI Inputs'!$F$72)^'SSI Inputs'!$F$73-((Q24/'SSI Inputs'!$F$72)^'SSI Inputs'!$F$73)*((Q24/'SSI Inputs'!$F$72)^'SSI Inputs'!$F$73))","v":9.1348815406664795E-3},null,0.505,null,1,1,1,null,5.75,null,{"$f":"IF(B24=\"Diverging\",\"\",'SSI Inputs'!$F$49)","v":45},0.83333333333333326,null,null,null,1,null,2.4197916666666663,null,{"$error":"#VALUE!"},null,null,"","","",1,"","","","","","","","","","","","",null,"","","","","","","",1,"","","","","","","",""]
[22,"Merging","WBT","MajT2","Major thru","SBR","MinR2","Signal near",null,{"$error":"#VALUE!"},{"$error":"#VALUE!"},{"$error":"#VALUE!"},null,{"$f":"VLOOKUP(E25,'SSI Inputs'!$B$49:$F$62,5,FALSE)","v":45},{"$f":"VLOOKUP(H25,'SSI Inputs'!$B$49:$F$62,5,FALSE)","v":15},{"$f":"IF(B25=\"Nonmotorized\",\"\",VLOOKUP(B25,'SSI Inputs'!$B$65:$F$69,5,FALSE))","v":45},17.995873453365363,{"$f":"IF(B25=\"Nonmotorized\",1/(1+EXP(3.8432-0.1237*O25)),(Q25/'SSI Inputs'!$F$72)^'SSI Inputs'!$F$73+(Q25/'SSI Inputs'!$F$72)^'SSI Inputs'!$F$73-((Q25/'SSI Inputs'!$F$72)^'SSI Inputs'!$F$73)*((Q25/'SSI Inputs'!$F$72)^'SSI Inputs'!$F$73))","v":1.3373938286506865E-2},null,0.505,null,null,null,1,null,1.75,null,{"$f":"IF(B25=\"Diverging\",\"\",'SSI Inputs'!$F$49)","v":45},0.83333333333333326,null,null,null,1,null,0.73645833333333333,null,{"$f":"L25*R25*AI25","v":{"$error":"#VALUE!"}},null,null,"","","",1,"","","","","","","","","","","","",null,"","","","","","","","","","","",1,"","","",""]
[23,"Merging","SBT","MinT2","Signal far","WBL","MajL2","Major left",null,{"$error":"#VALUE!"},{"$error":"#VALUE!"},{"$error":"#VALUE!"},null,{"$f":"VLOOKUP(E26,'SSI Inputs'!$B$49:$F$62,5,FALSE)","v":25},{"$f":"VLOOKUP(H26,'SSI Inputs'!$B$49:$F$62,5,FALSE)","v":20},{"$f":"IF(B26=\"Nonmotorized\",\"\",VLOOKUP(B26,'SSI Inputs'!$B$65:$F$69,5,FALSE))","v":45},8.9147801264732891,{"$f":"IF(B26=\"Nonmotorized\",1/(1+EXP(3.8432-0.1237*O26)),(Q26/'SSI Inputs'!$F$72)^'SSI Inputs'!$F$73+(Q26/'SSI Inputs'!$F$72)^'SSI Inputs'!$F$73-((Q26/'SSI Inputs'!$F$72)^'SSI Inputs'!$F$73)*((Q26/'SSI Inputs'!$F$72)^'SSI Inputs'!$F$73))","v":9.333798723087925E-4},null,0.505,null,2,null,null,null,4,null,{"$f":"IF(B26=\"Diverging\",\"\",'SSI Inputs'!$F$49)","v":45},0.83333333333333326,null,null,null,1,null,1.6833333333333331,null,{"$error":"#VALUE!"},null,null,"","","","","","","","","",1,"","","","","","",null,"","","","",1,"","","","","","","","","","",""]
[24,"Merging","SBT","MinT2","Signal far","EBR","MajR1","Major right",null,{"$error":"#VALUE!"},{"$error":"#VALUE!"},{"$error":"#VALUE!"},null,{"$f":"VLOOKUP(E27,'SSI Inputs'!$B$49:$F$62,5,FALSE)","v":25},{"$f":"VLOOKUP(H27,'SSI Inputs'!$B$49:$F$62,5,FALSE)","v":15},{"$f":"IF(B27=\"Nonmotorized\",\"\",VLOOKUP(B27,'SSI Inputs'!$B$65:$F$69,5,FALSE))","v":45},8.9396576292116645,{"$f":"IF(B27=\"Nonmotorized\",1/(1+EXP(3.8432-0.1237*O27)),(Q27/'SSI Inputs'!$F$72)^'SSI Inputs'!$F$73+(Q27/'SSI Inputs'!$F$72)^'SSI Inputs'!$F$73-((Q27/'SSI Inputs'!$F$72)^'SSI Inputs'!$F$73)*((Q27/'SSI Inputs'!$F$72)^'SSI Inputs'!$F$73))","v":9.4329959592674944E-4},null,0.505,null,2,null,null,null,4,null,{"$f":"IF(B27=\"Diverging\",\"\",'SSI Inputs'!$F$49)","v":45},0.83333333333333326,null,null,null,1,null,1.6833333333333331,null,{"$error":"#VALUE!"},null,null,"","","","","","","","","",1,"","","","","","",null,"","",1,"","","","","","","","","","","","",""]
[25,"Diverging","NBT","MinT1","Signal near","NBL","MinL1","Signal near",null,{"$error":"#VALUE!"},{"$error":"#VALUE!"},{"$error":"#VALUE!"},null,{"$f":"VLOOKUP(E28,'SSI Inputs'!$B$49:$F$62,5,FALSE)","v":15},{"$f":"VLOOKUP(H28,'SSI Inputs'!$B$49:$F$62,5,FALSE)","v":15},{"$f":"IF(B28=\"Nonmotorized\",\"\",VLOOKUP(B28,'SSI Inputs'!$B$65:$F$69,5,FALSE))","v":10},1.3073361412148754,{"$f":"IF(B28=\"Nonmotorized\",1/(1+EXP(3.8432-0.1237*O28)),(Q28/'SSI Inputs'!$F$72)^'SSI Inputs'!$F$73+(Q28/'SSI Inputs'!$F$72)^'SSI Inputs'!$F$73-((Q28/'SSI Inputs'!$F$72)^'SSI Inputs'!$F$73)*((Q28/'SSI Inputs'!$F$72)^'SSI Inputs'!$F$73))","v":6.4061388075216071E-7},null,{"$f":"SSI_AGI_PermFactor","v":1},null,null,null,null,null,1,null,{"$f":"IF(B28=\"Diverging\",\"\",'SSI Inputs'!$F$49)","v":""},1,null,null,null,1,null,1,null,{"$error":"#VALUE!"},null,null,"","","","","","",1,"","","","","","","","","",null,"","","","","","","",1,"","","","","","","",""]
[26,"Diverging","NBT","MinT1","Signal near","NBR","MinR1","Signal near",null,{"$error":"#VALUE!"},{"$error":"#VALUE!"},{"$error":"#VALUE!"},null,{"$f":"VLOOKUP(E29,'SSI Inputs'!$B$49:$F$62,5,FALSE)","v":15},{"$f":"VLOOKUP(H29,'SSI Inputs'!$B$49:$F$62,5,FALSE)","v":15},{"$f":"IF(B29=\"Nonmotorized\",\"\",VLOOKUP(B29,'SSI Inputs'!$B$65:$F$69,5,FALSE))","v":10},1.3073361412148754,{"$f":"IF(B29=\"Nonmotorized\",1/(1+EXP(3.8432-0.1237*O29)),(Q29/'SSI Inputs'!$F$72)^'SSI Inputs'!$F$73+(Q29/'SSI Inputs'!$F$72)^'SSI Inputs'!$F$73-((Q29/'SSI Inputs'!$F$72)^'SSI Inputs'!$F$73)*((Q29/'SSI Inputs'!$F$72)^'SSI Inputs'!$F$73))","v":6.4061388075216071E-7},null,1,null,null,null,null,null,1,null,{"$f":"IF(B29=\"Diverging\",\"\",'SSI Inputs'!$F$49)","v":""},1,null,null,null,1,null,1,null,{"$error":"#VALUE!"},null,null,"","","","","","",1,"","","","","","","","","",null,"","","","","","","","",1,"","","","","","",""]
[27,"Diverging","WBT","MajT2","Major thru","WBR","MajR2","Major right",null,{"$error":"#VALUE!"},{"$error":"#VALUE!"},{"$error":"#VALUE!"},null,{"$f":"VLOOKUP(E30,'SSI Inputs'!$B$49:$F$62,5,FALSE)","v":45},{"$f":"VLOOKUP(H30,'SSI Inputs'!$B$49:$F$62,5,FALSE)","v":15},{"$f":"IF(B30=\"Nonmotorized\",\"\",VLOOKUP(B30,'SSI Inputs'!$B$65:$F$69,5,FALSE))","v":10},15.169950011729762,{"$f":"IF(B30=\"Nonmotorized\",1/(1+EXP(3.8432-0.1237*O30)),(Q30/'SSI Inputs'!$F$72)^'SSI Inputs'!$F$73+(Q30/'SSI Inputs'!$F$72)^'SSI Inputs'!$F$73-((Q30/'SSI Inputs'!$F$72)^'SSI Inputs'!$F$73)*((Q30/'SSI Inputs'!$F$72)^'SSI Inputs'!$F$73))","v":7.0056226631585675E-3},null,1,null,null,null,null,null,1,null,{"$f":"IF(B30=\"Diverging\",\"\",'SSI Inputs'!$F$49)","v":""},1,null,null,null,1,null,1,null,{"$error":"#VALUE!"},null,null,"","","",1,"","","","","","","","","","","","",null,"","","","","",1,"","","","","","","","","",""]
[28,"Diverging","WBT","MajT2","Major thru","WBL","MajL2","Major left",null,{"$error":"#VALUE!"},{"$error":"#VALUE!"},{"$error":"#VALUE!"},null,{"$f":"VLOOKUP(E31,'SSI Inputs'!$B$49:$F$62,5,FALSE)","v":45},{"$f":"VLOOKUP(H31,'SSI Inputs'!$B$49:$F$62,5,FALSE)","v":20},{"$f":"IF(B31=\"Nonmotorized\",\"\",VLOOKUP(B31,'SSI Inputs'!$B$65:$F$69,5,FALSE))","v":10},12.77053292327718,{"$f":"IF(B31=\"Nonmotorized\",1/(1+EXP(3.8432-0.1237*O31)),(Q31/'SSI Inputs'!$F$72)^'SSI Inputs'!$F$73+(Q31/'SSI Inputs'!$F$72)^'SSI Inputs'!$F$73-((Q31/'SSI Inputs'!$F$72)^'SSI Inputs'!$F$73)*((Q31/'SSI Inputs'!$F$72)^'SSI Inputs'!$F$73))","v":3.6481988362114144E-3},null,1,null,null,null,null,null,1,null,{"$f":"IF(B31=\"Diverging\",\"\",'SSI Inputs'!$F$49)","v":""},1,null,null,null,1,null,1,null,{"$error":"#VALUE!"},null,null,"","","",1,"","","","","","","","","","","","",null,"","","","",1,"","","","","","","","","","",""]
[29,"Diverging","SBT","MinT2","Signal near","SBL","MinL2","Signal near",null,{"$error":"#VALUE!"},{"$error":"#VALUE!"},{"$error":"#VALUE!"},null,{"$f":"VLOOKUP(E32,'SSI Inputs'!$B$49:$F$62,5,FALSE)","v":15},{"$f":"VLOOKUP(H32,'SSI Inputs'!$B$49:$F$62,5,FALSE)","v":15},{"$f":"IF(B32=\"Nonmotorized\",\"\",VLOOKUP(B32,'SSI Inputs'!$B$65:$F$69,5,FALSE))","v":10},1.3073361412148754,{"$f":"IF(B32=\"Nonmotorized\",1/(1+EXP(3.8432-0.1237*O32)),(Q32/'SSI Inputs'!$F$72)^'SSI Inputs'!$F$73+(Q32/'SSI Inputs'!$F$72)^'SSI Inputs'!$F$73-((Q32/'SSI Inputs'!$F$72)^'SSI Inputs'!$F$73)*((Q32/'SSI Inputs'!$F$72)^'SSI Inputs'!$F$73))","v":6.4061388075216071E-7},null,1,null,null,null,null,null,1,null,{"$f":"IF(B32=\"Diverging\",\"\",'SSI Inputs'!$F$49)","v":""},1,null,null,null,1,null,1,null,{"$error":"#VALUE!"},null,null,"","","","","","","","","",1,"","","","","","",null,"","","","","","","","","","",1,"","","","",""]
[30,"Diverging","SBT","MinT2","Signal near","SBR","MinR2","Signal near",null,{"$error":"#VALUE!"},{"$error":"#VALUE!"},{"$error":"#VALUE!"},null,{"$f":"VLOOKUP(E33,'SSI Inputs'!$B$49:$F$62,5,FALSE)","v":15},{"$f":"VLOOKUP(H33,'SSI Inputs'!$B$49:$F$62,5,FALSE)","v":15},{"$f":"IF(B33=\"Nonmotorized\",\"\",VLOOKUP(B33,'SSI Inputs'!$B$65:$F$69,5,FALSE))","v":10},1.3073361412148754,{"$f":"IF(B33=\"Nonmotorized\",1/(1+EXP(3.8432-0.1237*O33)),(Q33/'SSI Inputs'!$F$72)^'SSI Inputs'!$F$73+(Q33/'SSI Inputs'!$F$72)^'SSI Inputs'!$F$73-((Q33/'SSI Inputs'!$F$72)^'SSI Inputs'!$F$73)*((Q33/'SSI Inputs'!$F$72)^'SSI Inputs'!$F$73))","v":6.4061388075216071E-7},null,1,null,null,null,null,null,1,null,{"$f":"IF(B33=\"Diverging\",\"\",'SSI Inputs'!$F$49)","v":""},1,null,null,null,1,null,1,null,{"$error":"#VALUE!"},null,null,"","","","","","","","","",1,"","","","","","",null,"","","","","","","","","","","",1,"","","",""]
[31,"Diverging","EBT","MajT1","Major thru","EBR","MajR1","Major right",null,{"$error":"#VALUE!"},{"$error":"#VALUE!"},{"$error":"#VALUE!"},null,{"$f":"VLOOKUP(E34,'SSI Inputs'!$B$49:$F$62,5,FALSE)","v":45},{"$f":"VLOOKUP(H34,'SSI Inputs'!$B$49:$F$62,5,FALSE)","v":15},{"$f":"IF(B34=\"Nonmotorized\",\"\",VLOOKUP(B34,'SSI Inputs'!$B$65:$F$69,5,FALSE))","v":10},15.169950011729762,{"$f":"IF(B34=\"Nonmotorized\",1/(1+EXP(3.8432-0.1237*O34)),(Q34/'SSI Inputs'!$F$72)^'SSI Inputs'!$F$73+(Q34/'SSI Inputs'!$F$72)^'SSI Inputs'!$F$73-((Q34/'SSI Inputs'!$F$72)^'SSI Inputs'!$F$73)*((Q34/'SSI Inputs'!$F$72)^'SSI Inputs'!$F$73))","v":7.0056226631585675E-3},null,1,null,null,null,null,null,1,null,{"$f":"IF(B34=\"Diverging\",\"\",'SSI Inputs'!$F$49)","v":""},1,null,null,null,1,null,1,null,{"$error":"#VALUE!"},null,null,1,"","","","","","","","","","","","","","","",null,"","",1,"","","","","","","","","","","","",""]
[32,"Diverging","EBT","MajT1","Major thru","EBL","MajL1","Major left",null,{"$error":"#VALUE!"},{"$error":"#VALUE!"},{"$error":"#VALUE!"},null,{"$f":"VLOOKUP(E35,'SSI Inputs'!$B$49:$F$62,5,FALSE)","v":45},{"$f":"VLOOKUP(H35,'SSI Inputs'!$B$49:$F$62,5,FALSE)","v":20},{"$f":"IF(B35=\"Nonmotorized\",\"\",VLOOKUP(B35,'SSI Inputs'!$B$65:$F$69,5,FALSE))","v":10},12.77053292327718,{"$f":"IF(B35=\"Nonmotorized\",1/(1+EXP(3.8432-0.1237*O35)),(Q35/'SSI Inputs'!$F$72)^'SSI Inputs'!$F$73+(Q35/'SSI Inputs'!$F$72)^'SSI Inputs'!$F$73-((Q35/'SSI Inputs'!$F$72)^'SSI Inputs'!$F$73)*((Q35/'SSI Inputs'!$F$72)^'SSI Inputs'!$F$73))","v":3.6481988362114144E-3},null,1,null,null,null,null,null,1,null,{"$f":"IF(B35=\"Diverging\",\"\",'SSI Inputs'!$F$49)","v":""},1,null,null,null,1,null,1,null,{"$error":"#VALUE!"},null,null,{"$f":"IF(ISNUMBER(SEARCH(AN$3,$D35)),1,\"\")","v":1},"","","","","","","","","","","","","","","",null,{"$f":"IF(ISNUMBER(SEARCH(BE$3,$G35)),1,\"\")","v":""},1,"","","","","","","","","","","","","",""]
[33,"Nonmotorized",null,"MajNM2","Nonmotorized",null,"MinR1","Signal near",null,{"$error":"#VALUE!"},{"$error":"#VALUE!"},{"$error":"#VALUE!"},null,{"$f":"VLOOKUP(E36,'SSI Inputs'!$B$49:$F$62,5,FALSE)","v":0},{"$f":"VLOOKUP(H36,'SSI Inputs'!$B$49:$F$62,5,FALSE)","v":15},{"$f":"IF(B36=\"Nonmotorized\",\"\",VLOOKUP(B36,'SSI Inputs'!$B$65:$F$69,5,FALSE))","v":""},{"$f":"IF(B36=\"Nonmotorized\",\"\",SQRT(N36^2+O36^2-2*N36*O36*COS(RADIANS(P36)))/2)","v":""},{"$f":"IF(B36=\"Nonmotorized\",1/(1+EXP(3.8432-0.1237*O36)),(Q36/'SSI Inputs'!$F$72)^'SSI Inputs'!$F$73+(Q36/'SSI Inputs'!$F$72)^'SSI Inputs'!$F$73-((Q36/'SSI Inputs'!$F$72)^'SSI Inputs'!$F$73)*((Q36/'SSI Inputs'!$F$72)^'SSI Inputs'!$F$73))","v":0.1205004039155782},null,{"$f":"SSI_AGI_ProtFactor","v":0.505},null,2,null,null,2,{"$f":"MAX(1,IF(B36<>\"Pedestrian\",V36*SSI_AGI_MajorThruLanes+W36*SSI_AGI_MinorThruLanes+X36*IF(SSI_AGI_MajorThruLanes=1,SSI_AGI_MergeWeightL1,IF(SSI_AGI_MajorThruLanes=2,SSI_AGI_MergeWeightL1+SSI_AGI_MergeWeightL2,SSI_AGI_MergeWeightL1+SSI_AGI_MergeWeightL2+SSI_AGI_MergeWeightL3*(SSI_AGI_MajorThruLanes-2)))+Y36*IF(SSI_AGI_MinorThruLanes=1,SSI_AGI_MergeWeightL1,IF(SSI_AGI_MinorThruLanes=2,SSI_AGI_MergeWeightL1+SSI_AGI_MergeWeightL2,SSI_AGI_MergeWeightL1+SSI_AGI_MergeWeightL2+SSI_AGI_MergeWeightL3*(SSI_AGI_MinorThruLanes-2))),V36*SSI_AGI_MajorThruLanes+W36*SSI_AGI_MinorThruLanes+X36*IF(SSI_AGI_MajorThruLanes=1,SSI_AGI_NM_MergeWeightL1,IF(SSI_AGI_MajorThruLanes=2,SSI_AGI_NM_MergeWeightL1+SSI_AGI_NM_MergeWeightL2,SSI_AGI_NM_MergeWeightL1+SSI_AGI_NM_MergeWeightL2+SSI_AGI_NM_MergeWeightL3*(SSI_AGI_MajorThruLanes-2)))+Y36*IF(SSI_AGI_MinorThruLanes=1,SSI_AGI_NM_MergeWeightL1,IF(SSI_AGI_MinorThruLanes=2,SSI_AGI_NM_MergeWeightL1+SSI_AGI_NM_MergeWeightL2,SSI_AGI_NM_MergeWeightL1+SSI_AGI_NM_MergeWeightL2+SSI_AGI_NM_MergeWeightL3*(SSI_AGI_MinorThruLanes-2)))))","v":7.5},null,{"$f":"IF(B36=\"Diverging\",\"\",'SSI Inputs'!$F$49)","v":45},0.83333333333333326,null,null,null,{"$f":"IF(SSI_AGI_ConsiderNMComplexity=\"Yes\",1+AE36+AF36,1)","v":1},null,3.15625,null,{"$error":"#VALUE!"},null,null,"","","","","","","","","","","","","",1,"","",null,"","","","","","","","",1,"","","","","","",""]
[34,"Nonmotorized",null,"MajNM2","Nonmotorized",null,"MajT1","Major thru",null,{"$error":"#VALUE!"},{"$error":"#VALUE!"},{"$f":"PRODUCT(J37:K37)","v":{"$error":"#VALUE!"}},null,{"$f":"VLOOKUP(E37,'SSI Inputs'!$B$49:$F$62,5,FALSE)","v":0},{"$f":"VLOOKUP(H37,'SSI Inputs'!$B$49:$F$62,5,FALSE)","v":45},{"$f":"IF(B37=\"Nonmotorized\",\"\",VLOOKUP(B37,'SSI Inputs'!$B$65:$F$69,5,FALSE))","v":""},"",{"$f":"IF(B37=\"Nonmotorized\",1/(1+EXP(3.8432-0.1237*O37)),(Q37/'SSI Inputs'!$F$72)^'SSI Inputs'!$F$73+(Q37/'SSI Inputs'!$F$72)^'SSI Inputs'!$F$73-((Q37/'SSI Inputs'!$F$72)^'SSI Inputs'!$F$73)*((Q37/'SSI Inputs'!$F$72)^'SSI Inputs'!$F$73))","v":0.84855340903216459},null,{"$f":"SSI_AGI_ProtFactor","v":0.505},null,2,null,null,2,7.5,null,{"$f":"IF(B37=\"Diverging\",\"\",'SSI Inputs'!$F$49)","v":45},0.83333333333333326,null,null,null,1,null,3.15625,null,{"$error":"#VALUE!"},null,null,"","","","","","","","","","","","","",1,"","",null,1,"","","","","","","","","","","","","","",""]
[35,"Nonmotorized",null,"MajNM2","Nonmotorized",null,"MinL2","Signal far",null,{"$error":"#VALUE!"},{"$error":"#VALUE!"},{"$error":"#VALUE!"},null,{"$f":"VLOOKUP(E38,'SSI Inputs'!$B$49:$F$62,5,FALSE)","v":0},{"$f":"VLOOKUP(H38,'SSI Inputs'!$B$49:$F$62,5,FALSE)","v":25},{"$f":"IF(B38=\"Nonmotorized\",\"\",VLOOKUP(B38,'SSI Inputs'!$B$65:$F$69,5,FALSE))","v":""},"",{"$f":"IF(B38=\"Nonmotorized\",1/(1+EXP(3.8432-0.1237*O38)),(Q38/'SSI Inputs'!$F$72)^'SSI Inputs'!$F$73+(Q38/'SSI Inputs'!$F$72)^'SSI Inputs'!$F$73-((Q38/'SSI Inputs'!$F$72)^'SSI Inputs'!$F$73)*((Q38/'SSI Inputs'!$F$72)^'SSI Inputs'!$F$73))","v":0.32066879346345062},null,{"$f":"IF(SSI_AGI_MinorLTPhase=\"Protected/permitted\",SSI_AGI_ProtPermFactor,IF(SSI_AGI_MinorLTPhase=\"Protected\",SSI_AGI_ProtFactor,SSI_AGI_PermFactor))","v":0.92500000000000004},null,2,null,null,2,7.5,null,{"$f":"IF(B38=\"Diverging\",\"\",'SSI Inputs'!$F$49)","v":45},0.83333333333333326,null,null,null,1,null,5.7812499999999991,null,{"$error":"#VALUE!"},null,null,"","","","","","","","","","","","","",1,"","",null,"","","","","","","","","","",1,"","","","",""]
[36,"Nonmotorized",null,"MajNM2","Nonmotorized",null,"MajL2","Major left",null,{"$error":"#VALUE!"},{"$error":"#VALUE!"},{"$error":"#VALUE!"},null,{"$f":"VLOOKUP(E39,'SSI Inputs'!$B$49:$F$62,5,FALSE)","v":0},{"$f":"VLOOKUP(H39,'SSI Inputs'!$B$49:$F$62,5,FALSE)","v":20},{"$f":"IF(B39=\"Nonmotorized\",\"\",VLOOKUP(B39,'SSI Inputs'!$B$65:$F$69,5,FALSE))","v":""},"",{"$f":"IF(B39=\"Nonmotorized\",1/(1+EXP(3.8432-0.1237*O39)),(Q39/'SSI Inputs'!$F$72)^'SSI Inputs'!$F$73+(Q39/'SSI Inputs'!$F$72)^'SSI Inputs'!$F$73-((Q39/'SSI Inputs'!$F$72)^'SSI Inputs'!$F$73)*((Q39/'SSI Inputs'!$F$72)^'SSI Inputs'!$F$73))","v":0.20274912921655375},null,{"$f":"SSI_AGI_ProtFactor","v":0.505},null,2,null,null,2,7.5,null,{"$f":"IF(B39=\"Diverging\",\"\",'SSI Inputs'!$F$49)","v":45},0.83333333333333326,null,null,null,1,null,3.15625,null,{"$error":"#VALUE!"},null,null,"","","","","","","","","","","","","",1,"","",null,"","","","",1,"","","","","","","","","","",""]
[37,"Nonmotorized",null,"MajNM2","Nonmotorized",null,"MajT2","Major thru",null,{"$error":"#VALUE!"},{"$error":"#VALUE!"},{"$error":"#VALUE!"},null,{"$f":"VLOOKUP(E40,'SSI Inputs'!$B$49:$F$62,5,FALSE)","v":0},{"$f":"VLOOKUP(H40,'SSI Inputs'!$B$49:$F$62,5,FALSE)","v":45},{"$f":"IF(B40=\"Nonmotorized\",\"\",VLOOKUP(B40,'SSI Inputs'!$B$65:$F$69,5,FALSE))","v":""},"",{"$f":"IF(B40=\"Nonmotorized\",1/(1+EXP(3.8432-0.1237*O40)),(Q40/'SSI Inputs'!$F$72)^'SSI Inputs'!$F$73+(Q40/'SSI Inputs'!$F$72)^'SSI Inputs'!$F$73-((Q40/'SSI Inputs'!$F$72)^'SSI Inputs'!$F$73)*((Q40/'SSI Inputs'!$F$72)^'SSI Inputs'!$F$73))","v":0.84855340903216459},null,{"$f":"SSI_AGI_ProtFactor","v":0.505},null,2,null,null,2,7.5,null,{"$f":"IF(B40=\"Diverging\",\"\",'SSI Inputs'!$F$49)","v":45},0.83333333333333326,null,null,null,1,null,3.15625,null,{"$error":"#VALUE!"},null,null,"","","","","","","","","","","","","",1,"","",null,"","","",1,"","","","","","","","","","","",""]
[38,"Nonmotorized",null,"MajNM2","Nonmotorized",null,"MajR2","Major right",null,{"$error":"#VALUE!"},{"$error":"#VALUE!"},{"$error":"#VALUE!"},null,{"$f":"VLOOKUP(E41,'SSI Inputs'!$B$49:$F$62,5,FALSE)","v":0},{"$f":"VLOOKUP(H41,'SSI Inputs'!$B$49:$F$62,5,FALSE)","v":15},{"$f":"IF(B41=\"Nonmotorized\",\"\",VLOOKUP(B41,'SSI Inputs'!$B$65:$F$69,5,FALSE))","v":""},"",{"$f":"IF(B41=\"Nonmotorized\",1/(1+EXP(3.8432-0.1237*O41)),(Q41/'SSI Inputs'!$F$72)^'SSI Inputs'!$F$73+(Q41/'SSI Inputs'!$F$72)^'SSI Inputs'!$F$73-((Q41/'SSI Inputs'!$F$72)^'SSI Inputs'!$F$73)*((Q41/'SSI Inputs'!$F$72)^'SSI Inputs'!$F$73))","v":0.1205004039155782},null,{"$f":"SSI_AGI_ProtFactor","v":0.505},null,2,null,null,2,7.5,null,{"$f":"IF(B41=\"Diverging\",\"\",'SSI Inputs'!$F$49)","v":45},0.83333333333333326,null,null,null,1,null,3.15625,null,{"$error":"#VALUE!"},null,null,"","","","","","","","","","","","","",1,"","",null,"","","","","",1,"","","","","","","","","",""]
[39,"Nonmotorized",null,"MinNM2","Nonmotorized",null,"MajR2","Major right",null,{"$error":"#VALUE!"},{"$error":"#VALUE!"},{"$error":"#VALUE!"},null,{"$f":"VLOOKUP(E42,'SSI Inputs'!$B$49:$F$62,5,FALSE)","v":0},{"$f":"VLOOKUP(H42,'SSI Inputs'!$B$49:$F$62,5,FALSE)","v":15},{"$f":"IF(B42=\"Nonmotorized\",\"\",VLOOKUP(B42,'SSI Inputs'!$B$65:$F$69,5,FALSE))","v":""},"",{"$f":"IF(B42=\"Nonmotorized\",1/(1+EXP(3.8432-0.1237*O42)),(Q42/'SSI Inputs'!$F$72)^'SSI Inputs'!$F$73+(Q42/'SSI Inputs'!$F$72)^'SSI Inputs'!$F$73-((Q42/'SSI Inputs'!$F$72)^'SSI Inputs'!$F$73)*((Q42/'SSI Inputs'!$F$72)^'SSI Inputs'!$F$73))","v":0.1205004039155782},null,{"$f":"SSI_AGI_ProtFactor","v":0.505},null,null,2,2,null,7.5,null,{"$f":"IF(B42=\"Diverging\",\"\",'SSI Inputs'!$F$49)","v":45},0.83333333333333326,null,null,null,1,null,3.15625,null,{"$error":"#VALUE!"},null,null,"","","","","","","","","","","","","","","",1,null,"","","","","",1,"","","","","","","","","",""]
[40,"Nonmotorized",null,"MinNM2","Nonmotorized",null,"MinT1","Signal far",null,{"$error":"#VALUE!"},{"$error":"#VALUE!"},{"$error":"#VALUE!"},null,{"$f":"VLOOKUP(E43,'SSI Inputs'!$B$49:$F$62,5,FALSE)","v":0},{"$f":"VLOOKUP(H43,'SSI Inputs'!$B$49:$F$62,5,FALSE)","v":25},{"$f":"IF(B43=\"Nonmotorized\",\"\",VLOOKUP(B43,'SSI Inputs'!$B$65:$F$69,5,FALSE))","v":""},"",{"$f":"IF(B43=\"Nonmotorized\",1/(1+EXP(3.8432-0.1237*O43)),(Q43/'SSI Inputs'!$F$72)^'SSI Inputs'!$F$73+(Q43/'SSI Inputs'!$F$72)^'SSI Inputs'!$F$73-((Q43/'SSI Inputs'!$F$72)^'SSI Inputs'!$F$73)*((Q43/'SSI Inputs'!$F$72)^'SSI Inputs'!$F$73))","v":0.32066879346345062},null,{"$f":"SSI_AGI_ProtFactor","v":0.505},null,null,2,2,null,7.5,null,{"$f":"IF(B43=\"Diverging\",\"\",'SSI Inputs'!$F$49)","v":45},0.83333333333333326,null,null,null,1,null,3.15625,null,{"$error":"#VALUE!"},null,null,"","","","","","","","","","","","","","","",1,null,"","","","","","",1,"","","","","","","","",""]
[41,"Nonmotorized",null,"MinNM2","Nonmotorized",null,"MajL1","Major left",null,{"$error":"#VALUE!"},{"$error":"#VALUE!"},{"$error":"#VALUE!"},null,{"$f":"VLOOKUP(E44,'SSI Inputs'!$B$49:$F$62,5,FALSE)","v":0},{"$f":"VLOOKUP(H44,'SSI Inputs'!$B$49:$F$62,5,FALSE)","v":20},{"$f":"IF(B44=\"Nonmotorized\",\"\",VLOOKUP(B44,'SSI Inputs'!$B$65:$F$69,5,FALSE))","v":""},"",{"$f":"IF(B44=\"Nonmotorized\",1/(1+EXP(3.8432-0.1237*O44)),(Q44/'SSI Inputs'!$F$72)^'SSI Inputs'!$F$73+(Q44/'SSI Inputs'!$F$72)^'SSI Inputs'!$F$73-((Q44/'SSI Inputs'!$F$72)^'SSI Inputs'!$F$73)*((Q44/'SSI Inputs'!$F$72)^'SSI Inputs'!$F$73))","v":0.20274912921655375},null,{"$f":"IF(SSI_AGI_MajorLTPhase=\"Protected/permitted\",SSI_AGI_ProtPermFactor,IF(SSI_AGI_MajorLTPhase=\"Protected\",SSI_AGI_ProtFactor,SSI_AGI_PermFactor))","v":0.92500000000000004},null,null,2,2,null,7.5,null,{"$f":"IF(B44=\"Diverging\",\"\",'SSI Inputs'!$F$49)","v":45},0.83333333333333326,null,null,null,1,null,5.7812499999999991,null,{"$error":"#VALUE!"},null,null,"","","","","","","","","","","","","","","",1,null,"",1,"","","","","","","","","","","","","",""]
[42,"Nonmotorized",null,"MinNM2","Nonmotorized",null,"MinL2","Signal near",null,{"$error":"#VALUE!"},{"$error":"#VALUE!"},{"$error":"#VALUE!"},null,{"$f":"VLOOKUP(E45,'SSI Inputs'!$B$49:$F$62,5,FALSE)","v":0},{"$f":"VLOOKUP(H45,'SSI Inputs'!$B$49:$F$62,5,FALSE)","v":15},{"$f":"IF(B45=\"Nonmotorized\",\"\",VLOOKUP(B45,'SSI Inputs'!$B$65:$F$69,5,FALSE))","v":""},"",{"$f":"IF(B45=\"Nonmotorized\",1/(1+EXP(3.8432-0.1237*O45)),(Q45/'SSI Inputs'!$F$72)^'SSI Inputs'!$F$73+(Q45/'SSI Inputs'!$F$72)^'SSI Inputs'!$F$73-((Q45/'SSI Inputs'!$F$72)^'SSI Inputs'!$F$73)*((Q45/'SSI Inputs'!$F$72)^'SSI Inputs'!$F$73))","v":0.1205004039155782},null,{"$f":"SSI_AGI_ProtFactor","v":0.505},null,null,2,2,null,7.5,null,{"$f":"IF(B45=\"Diverging\",\"\",'SSI Inputs'!$F$49)","v":45},0.83333333333333326,null,null,null,1,null,3.15625,null,{"$error":"#VALUE!"},null,null,"","","","","","","","","","","","","","","",1,null,"","","","","","","","","","",1,"","","","",""]
[43,"Nonmotorized",null,"MinNM2","Nonmotorized",null,"MinT2","Signal near",null,{"$error":"#VALUE!"},{"$error":"#VALUE!"},{"$error":"#VALUE!"},null,{"$f":"VLOOKUP(E46,'SSI Inputs'!$B$49:$F$62,5,FALSE)","v":0},{"$f":"VLOOKUP(H46,'SSI Inputs'!$B$49:$F$62,5,FALSE)","v":15},{"$f":"IF(B46=\"Nonmotorized\",\"\",VLOOKUP(B46,'SSI Inputs'!$B$65:$F$69,5,FALSE))","v":""},"",{"$f":"IF(B46=\"Nonmotorized\",1/(1+EXP(3.8432-0.1237*O46)),(Q46/'SSI Inputs'!$F$72)^'SSI Inputs'!$F$73+(Q46/'SSI Inputs'!$F$72)^'SSI Inputs'!$F$73-((Q46/'SSI Inputs'!$F$72)^'SSI Inputs'!$F$73)*((Q46/'SSI Inputs'!$F$72)^'SSI Inputs'!$F$73))","v":0.1205004039155782},null,{"$f":"SSI_AGI_ProtFactor","v":0.505},null,null,2,2,null,7.5,null,{"$f":"IF(B46=\"Diverging\",\"\",'SSI Inputs'!$F$49)","v":45},0.83333333333333326,null,null,null,1,null,3.15625,null,{"$error":"#VALUE!"},null,null,"","","","","","","","","","","","","","","",1,null,"","","","","","","","","",1,"","","","","",""]
[44,"Nonmotorized",null,"MinNM2","Nonmotorized",null,"MinR2","Signal near",null,{"$error":"#VALUE!"},{"$error":"#VALUE!"},{"$error":"#VALUE!"},null,{"$f":"VLOOKUP(E47,'SSI Inputs'!$B$49:$F$62,5,FALSE)","v":0},{"$f":"VLOOKUP(H47,'SSI Inputs'!$B$49:$F$62,5,FALSE)","v":15},{"$f":"IF(B47=\"Nonmotorized\",\"\",VLOOKUP(B47,'SSI Inputs'!$B$65:$F$69,5,FALSE))","v":""},"",{"$f":"IF(B47=\"Nonmotorized\",1/(1+EXP(3.8432-0.1237*O47)),(Q47/'SSI Inputs'!$F$72)^'SSI Inputs'!$F$73+(Q47/'SSI Inputs'!$F$72)^'SSI Inputs'!$F$73-((Q47/'SSI Inputs'!$F$72)^'SSI Inputs'!$F$73)*((Q47/'SSI Inputs'!$F$72)^'SSI Inputs'!$F$73))","v":0.1205004039155782},null,{"$f":"SSI_AGI_ProtFactor","v":0.505},null,null,2,2,null,7.5,null,{"$f":"IF(B47=\"Diverging\",\"\",'SSI Inputs'!$F$49)","v":45},0.83333333333333326,null,null,null,1,null,3.15625,null,{"$error":"#VALUE!"},null,null,"","","","","","","","","","","","","","","",1,null,"","","","","","","","","","","",1,"","","",""]
[45,"Nonmotorized",null,"MajNM1","Nonmotorized",null,"MinR2","Signal near",null,{"$error":"#VALUE!"},{"$error":"#VALUE!"},{"$error":"#VALUE!"},null,{"$f":"VLOOKUP(E48,'SSI Inputs'!$B$49:$F$62,5,FALSE)","v":0},{"$f":"VLOOKUP(H48,'SSI Inputs'!$B$49:$F$62,5,FALSE)","v":15},{"$f":"IF(B48=\"Nonmotorized\",\"\",VLOOKUP(B48,'SSI Inputs'!$B$65:$F$69,5,FALSE))","v":""},"",{"$f":"IF(B48=\"Nonmotorized\",1/(1+EXP(3.8432-0.1237*O48)),(Q48/'SSI Inputs'!$F$72)^'SSI Inputs'!$F$73+(Q48/'SSI Inputs'!$F$72)^'SSI Inputs'!$F$73-((Q48/'SSI Inputs'!$F$72)^'SSI Inputs'!$F$73)*((Q48/'SSI Inputs'!$F$72)^'SSI Inputs'!$F$73))","v":0.1205004039155782},null,{"$f":"SSI_AGI_ProtFactor","v":0.505},null,2,null,null,2,7.5,null,{"$f":"IF(B48=\"Diverging\",\"\",'SSI Inputs'!$F$49)","v":45},0.83333333333333326,null,null,null,1,null,3.15625,null,{"$error":"#VALUE!"},null,null,"","","","","","","","","","","","",1,"","","",null,"","","","","","","","","","","",1,"","","",""]
[46,"Nonmotorized",null,"MajNM1","Nonmotorized",null,"MajT2","Major thru",null,{"$error":"#VALUE!"},{"$error":"#VALUE!"},{"$error":"#VALUE!"},null,{"$f":"VLOOKUP(E49,'SSI Inputs'!$B$49:$F$62,5,FALSE)","v":0},{"$f":"VLOOKUP(H49,'SSI Inputs'!$B$49:$F$62,5,FALSE)","v":45},{"$f":"IF(B49=\"Nonmotorized\",\"\",VLOOKUP(B49,'SSI Inputs'!$B$65:$F$69,5,FALSE))","v":""},"",{"$f":"IF(B49=\"Nonmotorized\",1/(1+EXP(3.8432-0.1237*O49)),(Q49/'SSI Inputs'!$F$72)^'SSI Inputs'!$F$73+(Q49/'SSI Inputs'!$F$72)^'SSI Inputs'!$F$73-((Q49/'SSI Inputs'!$F$72)^'SSI Inputs'!$F$73)*((Q49/'SSI Inputs'!$F$72)^'SSI Inputs'!$F$73))","v":0.84855340903216459},null,{"$f":"SSI_AGI_ProtFactor","v":0.505},null,2,null,null,2,7.5,null,{"$f":"IF(B49=\"Diverging\",\"\",'SSI Inputs'!$F$49)","v":45},0.83333333333333326,null,null,null,1,null,3.15625,null,{"$error":"#VALUE!"},null,null,"","","","","","","","","","","","",1,"","","",null,"","","",1,"","","","","","","","","","","",""]
[47,"Nonmotorized",null,"MajNM1","Nonmotorized",null,"MinL1","Signal far",null,{"$error":"#VALUE!"},{"$error":"#VALUE!"},{"$error":"#VALUE!"},null,{"$f":"VLOOKUP(E50,'SSI Inputs'!$B$49:$F$62,5,FALSE)","v":0},{"$f":"VLOOKUP(H50,'SSI Inputs'!$B$49:$F$62,5,FALSE)","v":25},{"$f":"IF(B50=\"Nonmotorized\",\"\",VLOOKUP(B50,'SSI Inputs'!$B$65:$F$69,5,FALSE))","v":""},"",{"$f":"IF(B50=\"Nonmotorized\",1/(1+EXP(3.8432-0.1237*O50)),(Q50/'SSI Inputs'!$F$72)^'SSI Inputs'!$F$73+(Q50/'SSI Inputs'!$F$72)^'SSI Inputs'!$F$73-((Q50/'SSI Inputs'!$F$72)^'SSI Inputs'!$F$73)*((Q50/'SSI Inputs'!$F$72)^'SSI Inputs'!$F$73))","v":0.32066879346345062},null,{"$f":"IF(SSI_AGI_MinorLTPhase=\"Protected/permitted\",SSI_AGI_ProtPermFactor,IF(SSI_AGI_MinorLTPhase=\"Protected\",SSI_AGI_ProtFactor,SSI_AGI_PermFactor))","v":0.92500000000000004},null,2,null,null,2,7.5,null,{"$f":"IF(B50=\"Diverging\",\"\",'SSI Inputs'!$F$49)","v":45},0.83333333333333326,null,null,null,1,null,5.7812499999999991,null,{"$error":"#VALUE!"},null,null,"","","","","","","","","","","","",1,"","",{"$f":"IF(ISNUMBER(SEARCH(BC$3,$D50)),1,\"\")","v":""},null,"","","","","","","",1,"","","","","","","",{"$f":"IF(ISNUMBER(SEARCH(BT$3,$G50)),1,\"\")","v":""}]
[48,"Nonmotorized",null,"MajNM1","Nonmotorized",null,"MajL1","Major left",null,{"$error":"#VALUE!"},{"$error":"#VALUE!"},{"$error":"#VALUE!"},null,{"$f":"VLOOKUP(E51,'SSI Inputs'!$B$49:$F$62,5,FALSE)","v":0},{"$f":"VLOOKUP(H51,'SSI Inputs'!$B$49:$F$62,5,FALSE)","v":20},{"$f":"IF(B51=\"Nonmotorized\",\"\",VLOOKUP(B51,'SSI Inputs'!$B$65:$F$69,5,FALSE))","v":""},"",{"$f":"IF(B51=\"Nonmotorized\",1/(1+EXP(3.8432-0.1237*O51)),(Q51/'SSI Inputs'!$F$72)^'SSI Inputs'!$F$73+(Q51/'SSI Inputs'!$F$72)^'SSI Inputs'!$F$73-((Q51/'SSI Inputs'!$F$72)^'SSI Inputs'!$F$73)*((Q51/'SSI Inputs'!$F$72)^'SSI Inputs'!$F$73))","v":0.20274912921655375},null,{"$f":"SSI_AGI_ProtFactor","v":0.505},null,2,null,null,2,7.5,null,{"$f":"IF(B51=\"Diverging\",\"\",'SSI Inputs'!$F$49)","v":45},0.83333333333333326,null,null,null,1,null,3.15625,null,{"$error":"#VALUE!"},null,null,{"$f":"IF(ISNUMBER(SEARCH(AN$3,$D51)),1,\"\")","v":""},"","","","","","","","","","","",1,"","","",null,{"$f":"IF(ISNUMBER(SEARCH(BE$3,$G51)),1,\"\")","v":""},1,"","","","","","","","","","","","","",""]
[49,"Nonmotorized",null,"MajNM1","Nonmotorized",null,"MajT1","Major thru",null,{"$error":"#VALUE!"},{"$error":"#VALUE!"},{"$error":"#VALUE!"},null,{"$f":"VLOOKUP(E52,'SSI Inputs'!$B$49:$F$62,5,FALSE)","v":0},{"$f":"VLOOKUP(H52,'SSI Inputs'!$B$49:$F$62,5,FALSE)","v":45},{"$f":"IF(B52=\"Nonmotorized\",\"\",VLOOKUP(B52,'SSI Inputs'!$B$65:$F$69,5,FALSE))","v":""},"",{"$f":"IF(B52=\"Nonmotorized\",1/(1+EXP(3.8432-0.1237*O52)),(Q52/'SSI Inputs'!$F$72)^'SSI Inputs'!$F$73+(Q52/'SSI Inputs'!$F$72)^'SSI Inputs'!$F$73-((Q52/'SSI Inputs'!$F$72)^'SSI Inputs'!$F$73)*((Q52/'SSI Inputs'!$F$72)^'SSI Inputs'!$F$73))","v":0.84855340903216459},null,{"$f":"SSI_AGI_ProtFactor","v":0.505},null,2,null,null,2,7.5,null,{"$f":"IF(B52=\"Diverging\",\"\",'SSI Inputs'!$F$49)","v":45},0.83333333333333326,null,null,null,1,null,3.15625,null,{"$error":"#VALUE!"},null,null,"","","","","","","","","","","","",1,"","","",null,1,"","","","","","","","","","","","","","",""]
[50,"Nonmotorized",null,"MajNM1","Nonmotorized",null,"MajR1","Major right",null,{"$error":"#VALUE!"},{"$error":"#VALUE!"},{"$error":"#VALUE!"},null,{"$f":"VLOOKUP(E53,'SSI Inputs'!$B$49:$F$62,5,FALSE)","v":0},{"$f":"VLOOKUP(H53,'SSI Inputs'!$B$49:$F$62,5,FALSE)","v":15},{"$f":"IF(B53=\"Nonmotorized\",\"\",VLOOKUP(B53,'SSI Inputs'!$B$65:$F$69,5,FALSE))","v":""},"",{"$f":"IF(B53=\"Nonmotorized\",1/(1+EXP(3.8432-0.1237*O53)),(Q53/'SSI Inputs'!$F$72)^'SSI Inputs'!$F$73+(Q53/'SSI Inputs'!$F$72)^'SSI Inputs'!$F$73-((Q53/'SSI Inputs'!$F$72)^'SSI Inputs'!$F$73)*((Q53/'SSI Inputs'!$F$72)^'SSI Inputs'!$F$73))","v":0.1205004039155782},null,{"$f":"SSI_AGI_ProtFactor","v":0.505},null,2,null,null,2,7.5,null,{"$f":"IF(B53=\"Diverging\",\"\",'SSI Inputs'!$F$49)","v":45},0.83333333333333326,null,null,null,1,null,3.15625,null,{"$error":"#VALUE!"},null,null,"","","","","","","","","","","","",1,"","","",null,"","",1,"","","","","","","","","","","","",""]
[51,"Nonmotorized",null,"MinNM1","Nonmotorized",null,"MajR1","Major right",null,{"$error":"#VALUE!"},{"$error":"#VALUE!"},{"$error":"#VALUE!"},null,{"$f":"VLOOKUP(E54,'SSI Inputs'!$B$49:$F$62,5,FALSE)","v":0},{"$f":"VLOOKUP(H54,'SSI Inputs'!$B$49:$F$62,5,FALSE)","v":15},{"$f":"IF(B54=\"Nonmotorized\",\"\",VLOOKUP(B54,'SSI Inputs'!$B$65:$F$69,5,FALSE))","v":""},"",{"$f":"IF(B54=\"Nonmotorized\",1/(1+EXP(3.8432-0.1237*O54)),(Q54/'SSI Inputs'!$F$72)^'SSI Inputs'!$F$73+(Q54/'SSI Inputs'!$F$72)^'SSI Inputs'!$F$73-((Q54/'SSI Inputs'!$F$72)^'SSI Inputs'!$F$73)*((Q54/'SSI Inputs'!$F$72)^'SSI Inputs'!$F$73))","v":0.1205004039155782},null,{"$f":"SSI_AGI_ProtFactor","v":0.505},null,null,2,2,null,7.5,null,{"$f":"IF(B54=\"Diverging\",\"\",'SSI Inputs'!$F$49)","v":45},0.83333333333333326,null,null,null,1,null,3.15625,null,{"$error":"#VALUE!"},null,null,"","","","","","","","","","","","","","",1,"",null,"","",1,"","","","","","","","","","","","",""]
[52,"Nonmotorized",null,"MinNM1","Nonmotorized",null,"MinT2","Signal far",null,{"$error":"#VALUE!"},{"$error":"#VALUE!"},{"$error":"#VALUE!"},null,{"$f":"VLOOKUP(E55,'SSI Inputs'!$B$49:$F$62,5,FALSE)","v":0},{"$f":"VLOOKUP(H55,'SSI Inputs'!$B$49:$F$62,5,FALSE)","v":25},{"$f":"IF(B55=\"Nonmotorized\",\"\",VLOOKUP(B55,'SSI Inputs'!$B$65:$F$69,5,FALSE))","v":""},"",{"$f":"IF(B55=\"Nonmotorized\",1/(1+EXP(3.8432-0.1237*O55)),(Q55/'SSI Inputs'!$F$72)^'SSI Inputs'!$F$73+(Q55/'SSI Inputs'!$F$72)^'SSI Inputs'!$F$73-((Q55/'SSI Inputs'!$F$72)^'SSI Inputs'!$F$73)*((Q55/'SSI Inputs'!$F$72)^'SSI Inputs'!$F$73))","v":0.32066879346345062},null,{"$f":"SSI_AGI_ProtFactor","v":0.505},null,null,2,2,null,7.5,null,{"$f":"IF(B55=\"Diverging\",\"\",'SSI Inputs'!$F$49)","v":45},0.83333333333333326,null,null,null,1,null,3.15625,null,{"$error":"#VALUE!"},null,null,"","","","","","","","","","","","","","",1,"",null,"","","","","","","","","",1,"","","","","",""]
[53,"Nonmotorized",null,"MinNM1","Nonmotorized",null,"MajL2","Major left",null,{"$error":"#VALUE!"},{"$error":"#VALUE!"},{"$error":"#VALUE!"},null,{"$f":"VLOOKUP(E56,'SSI Inputs'!$B$49:$F$62,5,FALSE)","v":0},{"$f":"VLOOKUP(H56,'SSI Inputs'!$B$49:$F$62,5,FALSE)","v":20},{"$f":"IF(B56=\"Nonmotorized\",\"\",VLOOKUP(B56,'SSI Inputs'!$B$65:$F$69,5,FALSE))","v":""},"",{"$f":"IF(B56=\"Nonmotorized\",1/(1+EXP(3.8432-0.1237*O56)),(Q56/'SSI Inputs'!$F$72)^'SSI Inputs'!$F$73+(Q56/'SSI Inputs'!$F$72)^'SSI Inputs'!$F$73-((Q56/'SSI Inputs'!$F$72)^'SSI Inputs'!$F$73)*((Q56/'SSI Inputs'!$F$72)^'SSI Inputs'!$F$73))","v":0.20274912921655375},null,{"$f":"IF(SSI_AGI_MajorLTPhase=\"Protected/permitted\",SSI_AGI_ProtPermFactor,IF(SSI_AGI_MajorLTPhase=\"Protected\",SSI_AGI_ProtFactor,SSI_AGI_PermFactor))","v":0.92500000000000004},null,null,2,2,null,7.5,null,{"$f":"IF(B56=\"Diverging\",\"\",'SSI Inputs'!$F$49)","v":45},0.83333333333333326,null,null,null,1,null,5.7812499999999991,null,{"$error":"#VALUE!"},null,null,"","","","","","","","","","","","","","",1,"",null,"","","","",1,"","","","","","","","","","",""]
[54,"Nonmotorized",null,"MinNM1","Nonmotorized",null,"MinL1","Signal near",null,{"$error":"#VALUE!"},{"$error":"#VALUE!"},{"$error":"#VALUE!"},null,{"$f":"VLOOKUP(E57,'SSI Inputs'!$B$49:$F$62,5,FALSE)","v":0},{"$f":"VLOOKUP(H57,'SSI Inputs'!$B$49:$F$62,5,FALSE)","v":15},{"$f":"IF(B57=\"Nonmotorized\",\"\",VLOOKUP(B57,'SSI Inputs'!$B$65:$F$69,5,FALSE))","v":""},"",{"$f":"IF(B57=\"Nonmotorized\",1/(1+EXP(3.8432-0.1237*O57)),(Q57/'SSI Inputs'!$F$72)^'SSI Inputs'!$F$73+(Q57/'SSI Inputs'!$F$72)^'SSI Inputs'!$F$73-((Q57/'SSI Inputs'!$F$72)^'SSI Inputs'!$F$73)*((Q57/'SSI Inputs'!$F$72)^'SSI Inputs'!$F$73))","v":0.1205004039155782},null,{"$f":"SSI_AGI_ProtFactor","v":0.505},null,null,2,2,null,7.5,null,{"$f":"IF(B57=\"Diverging\",\"\",'SSI Inputs'!$F$49)","v":45},0.83333333333333326,null,null,null,1,null,3.15625,null,{"$error":"#VALUE!"},null,null,"","","","","","","","","","","","","","",1,"",null,"","","","","","","",1,"","","","","","","",""]
[55,"Nonmotorized",null,"MinNM1","Nonmotorized",null,"MinT1","Signal near",null,{"$error":"#VALUE!"},{"$error":"#VALUE!"},{"$error":"#VALUE!"},null,{"$f":"VLOOKUP(E58,'SSI Inputs'!$B$49:$F$62,5,FALSE)","v":0},{"$f":"VLOOKUP(H58,'SSI Inputs'!$B$49:$F$62,5,FALSE)","v":15},{"$f":"IF(B58=\"Nonmotorized\",\"\",VLOOKUP(B58,'SSI Inputs'!$B$65:$F$69,5,FALSE))","v":""},"",{"$f":"IF(B58=\"Nonmotorized\",1/(1+EXP(3.8432-0.1237*O58)),(Q58/'SSI Inputs'!$F$72)^'SSI Inputs'!$F$73+(Q58/'SSI Inputs'!$F$72)^'SSI Inputs'!$F$73-((Q58/'SSI Inputs'!$F$72)^'SSI Inputs'!$F$73)*((Q58/'SSI Inputs'!$F$72)^'SSI Inputs'!$F$73))","v":0.1205004039155782},null,{"$f":"SSI_AGI_ProtFactor","v":0.505},null,null,2,2,null,7.5,null,{"$f":"IF(B58=\"Diverging\",\"\",'SSI Inputs'!$F$49)","v":45},0.83333333333333326,null,null,null,1,null,3.15625,null,{"$error":"#VALUE!"},null,null,"","","","","","","","","","","","","","",1,"",null,"","","","","","",1,"","","","","","","","",""]
[56,"Nonmotorized",null,"MinNM1","Nonmotorized",null,"MinR1","Signal near",null,{"$error":"#VALUE!"},{"$error":"#VALUE!"},{"$error":"#VALUE!"},null,{"$f":"VLOOKUP(E59,'SSI Inputs'!$B$49:$F$62,5,FALSE)","v":0},{"$f":"VLOOKUP(H59,'SSI Inputs'!$B$49:$F$62,5,FALSE)","v":15},{"$f":"IF(B59=\"Nonmotorized\",\"\",VLOOKUP(B59,'SSI Inputs'!$B$65:$F$69,5,FALSE))","v":""},"",{"$f":"IF(B59=\"Nonmotorized\",1/(1+EXP(3.8432-0.1237*O59)),(Q59/'SSI Inputs'!$F$72)^'SSI Inputs'!$F$73+(Q59/'SSI Inputs'!$F$72)^'SSI Inputs'!$F$73-((Q59/'SSI Inputs'!$F$72)^'SSI Inputs'!$F$73)*((Q59/'SSI Inputs'!$F$72)^'SSI Inputs'!$F$73))","v":0.1205004039155782},null,{"$f":"SSI_AGI_ProtFactor","v":0.505},null,null,2,2,null,7.5,null,{"$f":"IF(B59=\"Diverging\",\"\",'SSI Inputs'!$F$49)","v":45},0.83333333333333326,null,null,null,1,null,3.15625,null,{"$error":"#VALUE!"},null,null,"","","","","","","","","","","","","","",1,"",null,"","","","","","","","",1,"","","","","","",""]
[null,null,null,null,null,null,null,null,null,null,null,null,null,null,null,null,null,null,null,null,null,null,null,null,null,null,null,null,null,null,null,null,null,null,null,null,null,null,"O",{"$f":"'SSI Inputs'!$D$26","v":{"$error":"#VALUE!"}},{"$f":"'SSI Inputs'!$D$27","v":{"$error":"#VALUE!"}},{"$f":"'SSI Inputs'!$D$28","v":{"$error":"#VALUE!"}},{"$f":"'SSI Inputs'!$D$30","v":{"$error":"#VALUE!"}},{"$f":"'SSI Inputs'!$D$31","v":{"$error":"#VALUE!"}},{"$f":"'SSI Inputs'!$D$32","v":{"$error":"#VALUE!"}},{"$f":"'SSI Inputs'!$D$34","v":{"$error":"#VALUE!"}},{"$f":"'SSI Inputs'!$D$35","v":{"$error":"#VALUE!"}},{"$f":"'SSI Inputs'!$D$36","v":{"$error":"#VALUE!"}},{"$f":"'SSI Inputs'!$D$38","v":{"$error":"#VALUE!"}},{"$f":"'SSI Inputs'!$D$39","v":{"$error":"#VALUE!"}},{"$f":"'SSI Inputs'!$D$40","v":{"$error":"#VALUE!"}},{"$f":"'SSI Inputs'!$Q$18","v":175},{"$f":"'SSI Inputs'!$Q$19","v":175},{"$f":"'SSI Inputs'!$Q$20","v":175},{"$f":"'SSI Inputs'!$Q$21","v":175},"O",{"$f":"'SSI Inputs'!$D$26","v":{"$error":"#VALUE!"}},{"$f":"'SSI Inputs'!$D$27","v":{"$error":"#VALUE!"}},{"$f":"'SSI Inputs'!$D$28","v":{"$error":"#VALUE!"}},{"$f":"'SSI Inputs'!$D$30","v":{"$error":"#VALUE!"}},{"$f":"'SSI Inputs'!$D$31","v":{"$error":"#VALUE!"}},{"$f":"'SSI Inputs'!$D$32","v":{"$error":"#VALUE!"}},{"$f":"'SSI Inputs'!$D$34","v":{"$error":"#VALUE!"}},{"$f":"'SSI Inputs'!$D$35","v":{"$error":"#VALUE!"}},{"$f":"'SSI Inputs'!$D$36","v":{"$error":"#VALUE!"}},{"$f":"'SSI Inputs'!$D$38","v":{"$error":"#VALUE!"}},{"$f":"'SSI Inputs'!$D$39","v":{"$error":"#VALUE!"}},{"$f":"'SSI Inputs'!$D$40","v":{"$error":"#VALUE!"}},{"$f":"'SSI Inputs'!$Q$18","v":175},{"$f":"'SSI Inputs'!$Q$19","v":175},{"$f":"'SSI Inputs'!$Q$20","v":175},{"$f":"'SSI Inputs'!$Q$21","v":175}]
[null,null,null,null,null,null,null,null,null,null,null,null,null,null,null,null,null,null,null,null,null,null,null,null,null,null,null,null,null,null,null,null,null,null,null,null,null,null,"D",{"$f":"'SSI Inputs'!$E$26","v":{"$error":"#VALUE!"}},{"$f":"'SSI Inputs'!$E$27","v":{"$error":"#VALUE!"}},{"$f":"'SSI Inputs'!$E$28","v":{"$error":"#VALUE!"}},{"$f":"'SSI Inputs'!$E$30","v":{"$error":"#VALUE!"}},{"$f":"'SSI Inputs'!$E$31","v":{"$error":"#VALUE!"}},{"$f":"'SSI Inputs'!$E$32","v":{"$error":"#VALUE!"}},{"$f":"'SSI Inputs'!$E$34","v":{"$error":"#VALUE!"}},{"$f":"'SSI Inputs'!$E$35","v":{"$error":"#VALUE!"}},{"$f":"'SSI Inputs'!$E$36","v":{"$error":"#VALUE!"}},{"$f":"'SSI Inputs'!$E$38","v":{"$error":"#VALUE!"}},{"$f":"'SSI Inputs'!$E$39","v":{"$error":"#VALUE!"}},{"$f":"'SSI Inputs'!$E$40","v":{"$error":"#VALUE!"}},{"$f":"'SSI Inputs'!$R$18","v":175},{"$f":"'SSI Inputs'!$R$19","v":175},{"$f":"'SSI Inputs'!$R$20","v":175},{"$f":"'SSI Inputs'!$R$21","v":175},"D",{"$f":"'SSI Inputs'!$E$26","v":{"$error":"#VALUE!"}},{"$f":"'SSI Inputs'!$E$27","v":{"$error":"#VALUE!"}},{"$f":"'SSI Inputs'!$E$28","v":{"$error":"#VALUE!"}},{"$f":"'SSI Inputs'!$E$30","v":{"$error":"#VALUE!"}},{"$f":"'SSI Inputs'!$E$31","v":{"$error":"#VALUE!"}},{"$f":"'SSI Inputs'!$E$32","v":{"$error":"#VALUE!"}},{"$f":"'SSI Inputs'!$E$34","v":{"$error":"#VALUE!"}},{"$f":"'SSI Inputs'!$E$35","v":{"$error":"#VALUE!"}},{"$f":"'SSI Inputs'!$E$36","v":{"$error":"#VALUE!"}},{"$f":"'SSI Inputs'!$E$38","v":{"$error":"#VALUE!"}},{"$f":"'SSI Inputs'!$E$39","v":{"$error":"#VALUE!"}},{"$f":"'SSI Inputs'!$E$40","v":{"$error":"#VALUE!"}},{"$f":"'SSI Inputs'!$R$18","v":175},{"$f":"'SSI Inputs'!$R$19","v":175},{"$f":"'SSI Inputs'!$R$20","v":175},{"$f":"'SSI Inputs'!$R$21","v":175}]
[]
[]
[]
[]
[]
[]
[]
[]
[]
[]
[]
[]
[]
[]
[]
[]
[]
[]
[]
[]
[]
[]
[]
[]
[]
[]
[]
[]
[]
[]
[]
[]
[]
[]
[]
[]
[]
[]
[]
[null,null,null,null,null,null,null,null,null,"Exposure",null,null,null,null,null,null,null,null,null,null,null,null,null,null,null,null,null,null,null,null,null,null,null,null,null,null,"Exposure-Severity-Complexity Product"]
[null,null,null,null,null,null,null,null,null,"Q1","Q2","I"]
[null,null,null,null,null,null,null,null,null,{"$f":"SUMPRODUCT($AN4:$BC4,$AN$61:$BC$61)","v":{"$error":"#VALUE!"}},{"$f":"SUMPRODUCT($BE4:$BT4,$BE$61:$BT$61)","v":{"$error":"#VALUE!"}},{"$f":"PRODUCT(J103:K103)","v":{"$error":"#VALUE!"}},null,null,null,null,null,null,null,null,null,null,null,null,null,null,null,null,null,null,null,null,null,null,null,null,{"$f":"L103*R4*AI4","v":{"$error":"#VALUE!"}}]
[null,null,null,null,null,null,null,null,null,{"$f":"SUMPRODUCT($AN5:$BC5,$AN$61:$BC$61)","v":{"$error":"#VALUE!"}},{"$f":"SUMPRODUCT($BE5:$BT5,$BE$61:$BT$61)","v":{"$error":"#VALUE!"}},{"$f":"PRODUCT(J104:K104)","v":{"$error":"#VALUE!"}},null,null,null,null,null,null,null,null,null,null,null,null,null,null,null,null,null,null,null,null,null,null,null,null,{"$f":"L104*R5*AI5","v":{"$error":"#VALUE!"}}]
[null,null,null,null,null,null,null,null,null,{"$error":"#VALUE!"},{"$error":"#VALUE!"},{"$error":"#VALUE!"},null,null,null,null,null,null,null,null,null,null,null,null,null,null,null,null,null,null,null,null,null,null,null,null,{"$error":"#VALUE!"}]
[null,null,null,null,null,null,null,null,null,{"$error":"#VALUE!"},{"$error":"#VALUE!"},{"$error":"#VALUE!"},null,null,null,null,null,null,null,null,null,null,null,null,null,null,null,null,null,null,null,null,null,null,null,null,{"$error":"#VALUE!"}]
[null,null,null,null,null,null,null,null,null,{"$error":"#VALUE!"},{"$error":"#VALUE!"},{"$error":"#VALUE!"},null,null,null,null,null,null,null,null,null,null,null,null,null,null,null,null,null,null,null,null,null,null,null,null,{"$error":"#VALUE!"}]
[null,null,null,null,null,null,null,null,null,{"$error":"#VALUE!"},{"$error":"#VALUE!"},{"$error":"#VALUE!"},null,null,null,null,null,null,null,null,null,null,null,null,null,null,null,null,null,null,null,null,null,null,null,null,{"$error":"#VALUE!"}]
[null,null,null,null,null,null,null,null,null,{"$error":"#VALUE!"},{"$error":"#VALUE!"},{"$error":"#VALUE!"},null,null,null,null,null,null,null,null,null,null,null,null,null,null,null,null,null,null,null,null,null,null,null,null,{"$error":"#VALUE!"}]
[null,null,null,null,null,null,null,null,null,{"$error":"#VALUE!"},{"$error":"#VALUE!"},{"$error":"#VALUE!"},null,null,null,null,null,null,null,null,null,null,null,null,null,null,null,null,null,null,null,null,null,null,null,null,{"$error":"#VALUE!"}]
[null,null,null,null,null,null,null,null,null,{"$error":"#VALUE!"},{"$error":"#VALUE!"},{"$error":"#VALUE!"},null,null,null,null,null,null,null,null,null,null,null,null,null,null,null,null,null,null,null,null,null,null,null,null,{"$error":"#VALUE!"}]
[null,null,null,null,null,null,null,null,null,{"$error":"#VALUE!"},{"$error":"#VALUE!"},{"$error":"#VALUE!"},null,null,null,null,null,null,null,null,null,null,null,null,null,null,null,null,null,null,null,null,null,null,null,null,{"$error":"#VALUE!"}]
[null,null,null,null,null,null,null,null,null,{"$error":"#VALUE!"},{"$error":"#VALUE!"},{"$error":"#VALUE!"},null,null,null,null,null,null,null,null,null,null,null,null,null,null,null,null,null,null,null,null,null,null,null,null,{"$error":"#VALUE!"}]
[null,null,null,null,null,null,null,null,null,{"$error":"#VALUE!"},{"$error":"#VALUE!"},{"$error":"#VALUE!"},null,null,null,null,null,null,null,null,null,null,null,null,null,null,null,null,null,null,null,null,null,null,null,null,{"$error":"#VALUE!"}]
[null,null,null,null,null,null,null,null,null,{"$error":"#VALUE!"},{"$error":"#VALUE!"},{"$error":"#VALUE!"},null,null,null,null,null,null,null,null,null,null,null,null,null,null,null,null,null,null,null,null,null,null,null,null,{"$error":"#VALUE!"}]
[null,null,null,null,null,null,null,null,null,{"$error":"#VALUE!"},{"$error":"#VALUE!"},{"$error":"#VALUE!"},null,null,null,null,null,null,null,null,null,null,null,null,null,null,null,null,null,null,null,null,null,null,null,null,{"$error":"#VALUE!"}]
[null,null,null,null,null,null,null,null,null,{"$error":"#VALUE!"},{"$error":"#VALUE!"},{"$error":"#VALUE!"},null,null,null,null,null,null,null,null,null,null,null,null,null,null,null,null,null,null,null,null,null,null,null,null,{"$error":"#VALUE!"}]
[null,null,null,null,null,null,null,null,null,{"$error":"#VALUE!"},{"$error":"#VALUE!"},{"$error":"#VALUE!"},null,null,null,null,null,null,null,null,null,null,null,null,null,null,null,null,null,null,null,null,null,null,null,null,{"$error":"#VALUE!"}]
[null,null,null,null,null,null,null,null,null,{"$error":"#VALUE!"},{"$error":"#VALUE!"},{"$error":"#VALUE!"},null,null,null,null,null,null,null,null,null,null,null,null,null,null,null,null,null,null,null,null,null,null,null,null,{"$error":"#VALUE!"}]
[null,null,null,null,null,null,null,null,null,{"$error":"#VALUE!"},{"$error":"#VALUE!"},{"$error":"#VALUE!"},null,null,null,null,null,null,null,null,null,null,null,null,null,null,null,null,null,null,null,null,null,null,null,null,{"$error":"#VALUE!"}]
[null,null,null,null,null,null,null,null,null,{"$error":"#VALUE!"},{"$error":"#VALUE!"},{"$error":"#VALUE!"},null,null,null,null,null,null,null,null,null,null,null,null,null,null,null,null,null,null,null,null,null,null,null,null,{"$error":"#VALUE!"}]
[null,null,null,null,null,null,null,null,null,{"$error":"#VALUE!"},{"$error":"#VALUE!"},{"$error":"#VALUE!"},null,null,null,null,null,null,null,null,null,null,null,null,null,null,null,null,null,null,null,null,null,null,null,null,{"$error":"#VALUE!"}]
[null,null,null,null,null,null,null,null,null,{"$error":"#VALUE!"},{"$error":"#VALUE!"},{"$error":"#VALUE!"},null,null,null,null,null,null,null,null,null,null,null,null,null,null,null,null,null,null,null,null,null,null,null,null,{"$error":"#VALUE!"}]
[null,null,null,null,null,null,null,null,null,{"$error":"#VALUE!"},{"$error":"#VALUE!"},{"$error":"#VALUE!"},null,null,null,null,null,null,null,null,null,null,null,null,null,null,null,null,null,null,null,null,null,null,null,null,{"$error":"#VALUE!"}]
[null,null,null,null,null,null,null,null,null,{"$error":"#VALUE!"},{"$error":"#VALUE!"},{"$error":"#VALUE!"},null,null,null,null,null,null,null,null,null,null,null,null,null,null,null,null,null,null,null,null,null,null,null,null,{"$error":"#VALUE!"}]
[null,null,null,null,null,null,null,null,null,{"$error":"#VALUE!"},{"$error":"#VALUE!"},{"$error":"#VALUE!"},null,null,null,null,null,null,null,null,null,null,null,null,null,null,null,null,null,null,null,null,null,null,null,null,{"$error":"#VALUE!"}]
[null,null,null,null,null,null,null,null,null,{"$error":"#VALUE!"},{"$error":"#VALUE!"},{"$error":"#VALUE!"},null,null,null,null,null,null,null,null,null,null,null,null,null,null,null,null,null,null,null,null,null,null,null,null,{"$error":"#VALUE!"}]
[null,null,null,null,null,null,null,null,null,{"$error":"#VALUE!"},{"$error":"#VALUE!"},{"$error":"#VALUE!"},null,null,null,null,null,null,null,null,null,null,null,null,null,null,null,null,null,null,null,null,null,null,null,null,{"$error":"#VALUE!"}]
[null,null,null,null,null,null,null,null,null,{"$error":"#VALUE!"},{"$error":"#VALUE!"},{"$error":"#VALUE!"},null,null,null,null,null,null,null,null,null,null,null,null,null,null,null,null,null,null,null,null,null,null,null,null,{"$error":"#VALUE!"}]
[null,null,null,null,null,null,null,null,null,{"$error":"#VALUE!"},{"$error":"#VALUE!"},{"$error":"#VALUE!"},null,null,null,null,null,null,null,null,null,null,null,null,null,null,null,null,null,null,null,null,null,null,null,null,{"$error":"#VALUE!"}]
[null,null,null,null,null,null,null,null,null,{"$error":"#VALUE!"},{"$error":"#VALUE!"},{"$error":"#VALUE!"},null,null,null,null,null,null,null,null,null,null,null,null,null,null,null,null,null,null,null,null,null,null,null,null,{"$error":"#VALUE!"}]
[null,null,null,null,null,null,null,null,null,{"$error":"#VALUE!"},{"$error":"#VALUE!"},{"$error":"#VALUE!"},null,null,null,null,null,null,null,null,null,null,null,null,null,null,null,null,null,null,null,null,null,null,null,null,{"$error":"#VALUE!"}]
[null,null,null,null,null,null,null,null,null,{"$error":"#VALUE!"},{"$error":"#VALUE!"},{"$error":"#VALUE!"},null,null,null,null,null,null,null,null,null,null,null,null,null,null,null,null,null,null,null,null,null,null,null,null,{"$error":"#VALUE!"}]
[null,null,null,null,null,null,null,null,null,{"$error":"#VALUE!"},{"$error":"#VALUE!"},{"$error":"#VALUE!"},null,null,null,null,null,null,null,null,null,null,null,null,null,null,null,null,null,null,null,null,null,null,null,null,{"$error":"#VALUE!"}]
[null,null,null,null,null,null,null,null,null,{"$error":"#VALUE!"},{"$error":"#VALUE!"},{"$error":"#VALUE!"},null,null,null,null,null,null,null,null,null,null,null,null,null,null,null,null,null,null,null,null,null,null,null,null,{"$error":"#VALUE!"}]
[null,null,null,null,null,null,null,null,null,{"$error":"#VALUE!"},{"$error":"#VALUE!"},{"$error":"#VALUE!"},null,null,null,null,null,null,null,null,null,null,null,null,null,null,null,null,null,null,null,null,null,null,null,null,{"$error":"#VALUE!"}]
[null,null,null,null,null,null,null,null,null,{"$error":"#VALUE!"},{"$error":"#VALUE!"},{"$error":"#VALUE!"},null,null,null,null,null,null,null,null,null,null,null,null,null,null,null,null,null,null,null,null,null,null,null,null,{"$error":"#VALUE!"}]
[null,null,null,null,null,null,null,null,null,{"$error":"#VALUE!"},{"$error":"#VALUE!"},{"$error":"#VALUE!"},null,null,null,null,null,null,null,null,null,null,null,null,null,null,null,null,null,null,null,null,null,null,null,null,{"$error":"#VALUE!"}]
[null,null,null,null,null,null,null,null,null,{"$error":"#VALUE!"},{"$error":"#VALUE!"},{"$error":"#VALUE!"},null,null,null,null,null,null,null,null,null,null,null,null,null,null,null,null,null,null,null,null,null,null,null,null,{"$error":"#VALUE!"}]
[null,null,null,null,null,null,null,null,null,{"$error":"#VALUE!"},{"$error":"#VALUE!"},{"$error":"#VALUE!"},null,null,null,null,null,null,null,null,null,null,null,null,null,null,null,null,null,null,null,null,null,null,null,null,{"$error":"#VALUE!"}]
[null,null,null,null,null,null,null,null,null,{"$error":"#VALUE!"},{"$error":"#VALUE!"},{"$error":"#VALUE!"},null,null,null,null,null,null,null,null,null,null,null,null,null,null,null,null,null,null,null,null,null,null,null,null,{"$error":"#VALUE!"}]
[null,null,null,null,null,null,null,null,null,{"$error":"#VALUE!"},{"$error":"#VALUE!"},{"$error":"#VALUE!"},null,null,null,null,null,null,null,null,null,null,null,null,null,null,null,null,null,null,null,null,null,null,null,null,{"$error":"#VALUE!"}]
[null,null,null,null,null,null,null,null,null,{"$error":"#VALUE!"},{"$error":"#VALUE!"},{"$error":"#VALUE!"},null,null,null,null,null,null,null,null,null,null,null,null,null,null,null,null,null,null,null,null,null,null,null,null,{"$error":"#VALUE!"}]
[null,null,null,null,null,null,null,null,null,{"$error":"#VALUE!"},{"$error":"#VALUE!"},{"$error":"#VALUE!"},null,null,null,null,null,null,null,null,null,null,null,null,null,null,null,null,null,null,null,null,null,null,null,null,{"$error":"#VALUE!"}]
[null,null,null,null,null,null,null,null,null,{"$error":"#VALUE!"},{"$error":"#VALUE!"},{"$error":"#VALUE!"},null,null,null,null,null,null,null,null,null,null,null,null,null,null,null,null,null,null,null,null,null,null,null,null,{"$error":"#VALUE!"}]
[null,null,null,null,null,null,null,null,null,{"$error":"#VALUE!"},{"$error":"#VALUE!"},{"$error":"#VALUE!"},null,null,null,null,null,null,null,null,null,null,null,null,null,null,null,null,null,null,null,null,null,null,null,null,{"$error":"#VALUE!"}]
[null,null,null,null,null,null,null,null,null,{"$error":"#VALUE!"},{"$error":"#VALUE!"},{"$error":"#VALUE!"},null,null,null,null,null,null,null,null,null,null,null,null,null,null,null,null,null,null,null,null,null,null,null,null,{"$error":"#VALUE!"}]
[null,null,null,null,null,null,null,null,null,{"$error":"#VALUE!"},{"$error":"#VALUE!"},{"$error":"#VALUE!"},null,null,null,null,null,null,null,null,null,null,null,null,null,null,null,null,null,null,null,null,null,null,null,null,{"$error":"#VALUE!"}]
[null,null,null,null,null,null,null,null,null,{"$error":"#VALUE!"},{"$error":"#VALUE!"},{"$error":"#VALUE!"},null,null,null,null,null,null,null,null,null,null,null,null,null,null,null,null,null,null,null,null,null,null,null,null,{"$error":"#VALUE!"}]
[null,null,null,null,null,null,null,null,null,{"$error":"#VALUE!"},{"$error":"#VALUE!"},{"$error":"#VALUE!"},null,null,null,null,null,null,null,null,null,null,null,null,null,null,null,null,null,null,null,null,null,null,null,null,{"$error":"#VALUE!"}]
[null,null,null,null,null,null,null,null,null,{"$error":"#VALUE!"},{"$error":"#VALUE!"},{"$error":"#VALUE!"},null,null,null,null,null,null,null,null,null,null,null,null,null,null,null,null,null,null,null,null,null,null,null,null,{"$error":"#VALUE!"}]
[null,null,null,null,null,null,null,null,null,{"$error":"#VALUE!"},{"$error":"#VALUE!"},{"$error":"#VALUE!"},null,null,null,null,null,null,null,null,null,null,null,null,null,null,null,null,null,null,null,null,null,null,null,null,{"$error":"#VALUE!"}]
[null,null,null,null,null,null,null,null,null,{"$error":"#VALUE!"},{"$error":"#VALUE!"},{"$error":"#VALUE!"},null,null,null,null,null,null,null,null,null,null,null,null,null,null,null,null,null,null,null,null,null,null,null,null,{"$error":"#VALUE!"}]
[null,null,null,null,null,null,null,null,null,{"$error":"#VALUE!"},{"$error":"#VALUE!"},{"$error":"#VALUE!"},null,null,null,null,null,null,null,null,null,null,null,null,null,null,null,null,null,null,null,null,null,null,null,null,{"$error":"#VALUE!"}]
[null,null,null,null,null,null,null,null,null,{"$error":"#VALUE!"},{"$error":"#VALUE!"},{"$error":"#VALUE!"},null,null,null,null,null,null,null,null,null,null,null,null,null,null,null,null,null,null,null,null,null,null,null,null,{"$error":"#VALUE!"}]
[null,null,null,null,null,null,null,null,null,{"$error":"#VALUE!"},{"$error":"#VALUE!"},{"$error":"#VALUE!"},null,null,null,null,null,null,null,null,null,null,null,null,null,null,null,null,null,null,null,null,null,null,null,null,{"$error":"#VALUE!"}]
[null,null,null,null,null,null,null,null,null,{"$error":"#VALUE!"},{"$error":"#VALUE!"},{"$error":"#VALUE!"},null,null,null,null,null,null,null,null,null,null,null,null,null,null,null,null,null,null,null,null,null,null,null,null,{"$error":"#VALUE!"}]
[null,null,null,null,null,null,null,null,null,{"$error":"#VALUE!"},{"$error":"#VALUE!"},{"$error":"#VALUE!"},null,null,null,null,null,null,null,null,null,null,null,null,null,null,null,null,null,null,null,null,null,null,null,null,{"$error":"#VALUE!"}]

{"sheet":"Trad_MinorStop","index":38,"n_rows":158,"n_cols":72,"rows_kept":158,"cut":false,"hidden":true,"merged":[[1,56,1,71],[0,19,0,28],[0,30,0,32],[1,31,2,31],[1,32,2,32],[1,21,1,25],[1,27,1,28],[1,30,2,30],[100,9,100,11],[100,36,101,36],[1,34,2,34],[1,36,2,36],[1,39,1,54],[1,9,1,11],[1,13,1,17]]}
[null,null,null,null,null,null,null,null,null,null,null,null,null,null,null,null,null,null,null,"Conflicting Traffic Complexity",null,null,null,null,null,null,null,null,null,null,"Pedestrian Complexity"]
[null,null,null,null,null,null,null,null,null,"Exposure",null,null,null,"Severity",null,null,null,null,null,"Traffic Control",null,"Conflicting Lanes",null,null,null,null,null,"Conflicting Speed",null,null,"Indirect Paths Indicator","Non-intuitive movements indicator","Pedestrian Complexity factor",null,"Total Complexity Multiplier",null,"Exposure-Severity-Complexity Product",null,null,"Included in Mvmt1",null,null,null,null,null,null,null,null,null,null,null,null,null,null,null,null,"Included in Mvmt2"]
["#","Conflict Type","Mvmt1","Mvmt1_gen","Mvmt1_SpeedCat","Mvmt2","Mvmt2_gen","Mvmt2_SpeedCat",null,"Q1","Q2","I",null,"Speed_V1","Speed_V2","Angle","delta_V","P_FSI",null,null,null,"MajC","MinC","MajM/P","MinM/P","Score",null,"Speed","Factor",null,null,null,null,null,null,null,null,null,null,"MajT1","MajL1","MajR1","MajT2","MajL2","MajR2","MinT1","MinL1","MinR1","MinT2","MinL2","MinR2","MajNM1","MajNM2","MinNM1","MinNM2",null,"MajT1","MajL1","MajR1","MajT2","MajL2","MajR2","MinT1","MinL1","MinR1","MinT2","MinL2","MinR2","MajNM1","MajNM2","MinNM1","MinNM2"]
[1,"Crossing","NBT","MinT1","Stop near","EBT","MajT1","Major thru",null,{"$f":"SUMPRODUCT($AN4:$BC4,$AN$60:$BC$60)","v":{"$error":"#VALUE!"}},{"$f":"SUMPRODUCT($BE4:$BT4,$BE$60:$BT$60)","v":{"$error":"#VALUE!"}},{"$f":"PRODUCT(J4:K4)","v":{"$error":"#VALUE!"}},null,{"$f":"VLOOKUP(E4,SSI_AGI_Range_VehSpeed,5,FALSE)","v":15},{"$f":"VLOOKUP(H4,SSI_AGI_Range_VehSpeed,5,FALSE)","v":45},{"$f":"IF(B4=\"Nonmotorized\",\"\",VLOOKUP(B4,SSI_AGI_Range_CollAngles,5,FALSE))","v":90},{"$f":"IF(B4=\"Nonmotorized\",\"\",SQRT(N4^2+O4^2-2*N4*O4*COS(RADIANS(P4)))/2)","v":23.717082451262844},{"$f":"IF(B4=\"Nonmotorized\",1/(1+EXP(3.8432-0.1237*O4)),(Q4/SSI_AGI_RegAlpha)^SSI_AGI_RegK+(Q4/SSI_AGI_RegAlpha)^SSI_AGI_RegK-((Q4/SSI_AGI_RegAlpha)^SSI_AGI_RegK)*((Q4/SSI_AGI_RegAlpha)^SSI_AGI_RegK))","v":3.7884541771032863E-2},null,{"$f":"SSI_AGI_StopFactor","v":0.72500000000000009},null,2,null,null,null,{"$f":"MAX(1,IF(B4<>\"Pedestrian\",V4*SSI_AGI_MajorThruLanes+W4*SSI_AGI_MinorThruLanes+X4*IF(SSI_AGI_MajorThruLanes=1,SSI_AGI_MergeWeightL1,IF(SSI_AGI_MajorThruLanes=2,SSI_AGI_MergeWeightL1+SSI_AGI_MergeWeightL2,SSI_AGI_MergeWeightL1+SSI_AGI_MergeWeightL2+SSI_AGI_MergeWeightL3*(SSI_AGI_MajorThruLanes-2)))+Y4*IF(SSI_AGI_MinorThruLanes=1,SSI_AGI_MergeWeightL1,IF(SSI_AGI_MinorThruLanes=2,SSI_AGI_MergeWeightL1+SSI_AGI_MergeWeightL2,SSI_AGI_MergeWeightL1+SSI_AGI_MergeWeightL2+SSI_AGI_MergeWeightL3*(SSI_AGI_MinorThruLanes-2))),V4*SSI_AGI_MajorThruLanes+W4*SSI_AGI_MinorThruLanes+X4*IF(SSI_AGI_MajorThruLanes=1,SSI_AGI_NM_MergeWeightL1,IF(SSI_AGI_MajorThruLanes=2,SSI_AGI_NM_MergeWeightL1+SSI_AGI_NM_MergeWeightL2,SSI_AGI_NM_MergeWeightL1+SSI_AGI_NM_MergeWeightL2+SSI_AGI_NM_MergeWeightL3*(SSI_AGI_MajorThruLanes-2)))+Y4*IF(SSI_AGI_MinorThruLanes=1,SSI_AGI_NM_MergeWeightL1,IF(SSI_AGI_MinorThruLanes=2,SSI_AGI_NM_MergeWeightL1+SSI_AGI_NM_MergeWeightL2,SSI_AGI_NM_MergeWeightL1+SSI_AGI_NM_MergeWeightL2+SSI_AGI_NM_MergeWeightL3*(SSI_AGI_MinorThruLanes-2)))))","v":4},null,{"$f":"IF(B4=\"Diverging\",\"\",SSI_AGI_VehSpeed_MjrThru)","v":45},{"$f":"IF(B4=\"Diverging\",1,1-((60-AB4)/60*0.1/0.15))","v":0.83333333333333326},null,null,null,{"$f":"IF(SSI_AGI_ConsiderNMComplexity=\"Yes\",1+AE4+AF4,1)","v":1},null,{"$f":"PRODUCT(Z4,T4,AC4,AG4)","v":2.416666666666667},null,{"$f":"L4*R4*AI4","v":{"$error":"#VALUE!"}},null,null,{"$f":"IF(ISNUMBER(SEARCH(AN$3,$D4)),1,\"\")","v":""},{"$f":"IF(ISNUMBER(SEARCH(AO$3,$D4)),1,\"\")","v":""},"","","","",1,"","","","","","","","","",null,{"$f":"IF(ISNUMBER(SEARCH(BE$3,$G4)),1,\"\")","v":1},{"$f":"IF(ISNUMBER(SEARCH(BF$3,$G4)),1,\"\")","v":""},"","","","","","","","","","","","","",""]
[2,"Crossing - LT","NBT","MinT1","Stop near","SBL","MinL2","Stop far",null,{"$f":"SUMPRODUCT($AN5:$BC5,$AN$60:$BC$60)","v":{"$error":"#VALUE!"}},{"$f":"SUMPRODUCT($BE5:$BT5,$BE$60:$BT$60)","v":{"$error":"#VALUE!"}},{"$f":"PRODUCT(J5:K5)","v":{"$error":"#VALUE!"}},null,15,25,230,{"$f":"IF(B5=\"Nonmotorized\",\"\",SQRT(N5^2+O5^2-2*N5*O5*COS(RADIANS(P5)))/2)","v":18.248908921254063},1.4099039069818802E-2,null,{"$f":"SSI_AGI_StopFactor","v":0.72500000000000009},null,1,1,1,null,5.75,null,45,0.83333333333333326,null,null,null,1,null,3.473958333333333,null,{"$f":"L5*R5*AI5","v":{"$error":"#VALUE!"}},null,null,{"$f":"IF(ISNUMBER(SEARCH(AN$3,$D5)),1,\"\")","v":""},"","","","","",1,"","","","","","","","","",null,{"$f":"IF(ISNUMBER(SEARCH(BE$3,$G5)),1,\"\")","v":""},"","","","","","","","","",1,"","","","",""]
[3,"Crossing - LT","NBT","MinT1","Stop far","WBL","MajL2","Major left",null,{"$error":"#VALUE!"},{"$error":"#VALUE!"},{"$error":"#VALUE!"},null,25,20,230,20.419277715473552,2.1555284139167314E-2,null,{"$f":"SSI_AGI_StopFactor","v":0.72500000000000009},null,2,null,null,null,4,null,45,0.83333333333333326,null,null,null,1,null,2.416666666666667,null,{"$error":"#VALUE!"},null,null,"","","","","","",1,"","","","","","","","","",null,"","","","",1,"","","","","","","","","","",""]
[4,"Crossing","NBT","MinT1","Stop far","WBT","MajT2","Major thru",null,{"$error":"#VALUE!"},{"$error":"#VALUE!"},{"$error":"#VALUE!"},null,25,45,90,25.739075352467502,5.1494149230103807E-2,null,{"$f":"SSI_AGI_StopFactor","v":0.72500000000000009},null,2,null,null,null,4,null,45,0.83333333333333326,null,null,null,1,null,2.416666666666667,null,{"$error":"#VALUE!"},null,null,"","","","","","",1,"","","","","","","","","",null,"","","",1,"","","","","","","","","","","",""]
[5,"Crossing - LT","WBT","MajT2","Major thru","EBL","MajL1","Major left",null,{"$error":"#VALUE!"},{"$error":"#VALUE!"},{"$error":"#VALUE!"},null,45,20,230,29.924979939156898,9.0286582411373745E-2,null,1,null,1,null,null,null,2,null,45,0.83333333333333326,null,null,null,1,null,1.6666666666666665,null,{"$error":"#VALUE!"},null,null,"","","",1,"","","","","","","","","","","","",null,"",1,"","","","","","","","","","","","","",""]
[6,"Crossing - LT","WBT","MajT2","Major thru","SBL","MinL2","Stop near",null,{"$error":"#VALUE!"},{"$error":"#VALUE!"},{"$error":"#VALUE!"},null,45,15,230,27.918467333813421,6.9762185672148203E-2,null,{"$f":"SSI_AGI_StopFactor","v":0.72500000000000009},null,1,1,1,null,5.75,null,45,0.83333333333333326,null,null,null,1,null,3.473958333333333,null,{"$error":"#VALUE!"},null,null,"","","",1,"","","","","","","","","","","","",null,"","","","","","","","","","",1,"","","","",""]
[7,"Crossing","SBT","MinT2","Stop near","WBT","MajT2","Major thru",null,{"$error":"#VALUE!"},{"$error":"#VALUE!"},{"$error":"#VALUE!"},null,15,45,90,23.717082451262844,3.7884541771032863E-2,null,{"$f":"SSI_AGI_StopFactor","v":0.72500000000000009},null,2,null,null,null,4,null,45,0.83333333333333326,null,null,null,1,null,2.416666666666667,null,{"$error":"#VALUE!"},null,null,"","","","","","","","","",1,"","","","","","",null,"","","",1,"","","","","","","","","","","",""]
[8,"Crossing - LT","SBT","MinT2","Stop near","NBL","MinL1","Stop far",null,{"$error":"#VALUE!"},{"$error":"#VALUE!"},{"$error":"#VALUE!"},null,15,25,230,18.248908921254063,1.4099039069818802E-2,null,{"$f":"SSI_AGI_StopFactor","v":0.72500000000000009},null,1,1,1,null,5.75,null,45,0.83333333333333326,null,null,null,1,null,3.473958333333333,null,{"$error":"#VALUE!"},null,null,"","","","","","","","","",1,"","","","","","",null,"","","","","","","",1,"","","","","","","",""]
[9,"Crossing - LT","SBT","MinT2","Stop far","EBL","MajL1","Major left",null,{"$error":"#VALUE!"},{"$error":"#VALUE!"},{"$error":"#VALUE!"},null,25,20,230,20.419277715473552,2.1555284139167314E-2,null,{"$f":"SSI_AGI_StopFactor","v":0.72500000000000009},null,2,null,null,null,4,null,45,0.83333333333333326,null,null,null,1,null,2.416666666666667,null,{"$error":"#VALUE!"},null,null,"","","","","","","","","",1,"","","","","","",null,"",1,"","","","","","","","","","","","","",""]
[10,"Crossing","SBT","MinT2","Stop far","EBT","MajT1","Major thru",null,{"$error":"#VALUE!"},{"$error":"#VALUE!"},{"$error":"#VALUE!"},null,25,45,90,25.739075352467502,5.1494149230103807E-2,null,{"$f":"SSI_AGI_StopFactor","v":0.72500000000000009},null,2,null,null,null,4,null,45,0.83333333333333326,null,null,null,1,null,2.416666666666667,null,{"$error":"#VALUE!"},null,null,"","","","","","","","","",1,"","","","","","",null,1,"","","","","","","","","","","","","","",""]
[11,"Crossing - LT","EBT","MajT1","Major thru","WBL","MajL2","Major left",null,{"$error":"#VALUE!"},{"$error":"#VALUE!"},{"$error":"#VALUE!"},null,45,20,230,29.924979939156898,9.0286582411373745E-2,null,1,null,1,null,null,null,2,null,45,0.83333333333333326,null,null,null,1,null,1.6666666666666665,null,{"$error":"#VALUE!"},null,null,1,"","","","","","","","","","","","","","","",null,"","","","",1,"","","","","","","","","","",""]
[12,"Crossing - LT","EBT","MajT1","Major thru","NBL","MinL1","Stop near",null,{"$error":"#VALUE!"},{"$error":"#VALUE!"},{"$error":"#VALUE!"},null,45,15,230,27.918467333813421,6.9762185672148203E-2,null,{"$f":"SSI_AGI_StopFactor","v":0.72500000000000009},null,1,1,1,null,5.75,null,45,0.83333333333333326,null,null,null,1,null,3.473958333333333,null,{"$error":"#VALUE!"},null,null,1,"","","","","","","","","","","","","","","",null,"","","","","","","",1,"","","","","","","",""]
[13,"Crossing - LT","NBL","MinL1","Stop near","WBL","MajL2","Major left",null,{"$error":"#VALUE!"},{"$error":"#VALUE!"},{"$error":"#VALUE!"},null,15,20,230,15.895538413434787,8.3616736100371545E-3,null,0.72500000000000009,null,1,1,1,null,5.75,null,45,0.83333333333333326,null,null,null,1,null,3.473958333333333,null,{"$error":"#VALUE!"},null,null,"","","","","","","",1,"","","","","","","","",null,"","","","",1,"","","","","","","","","","",""]
[14,"Crossing - LT","NBL","MinL1","Stop near","EBL","MajL1","Major left",null,{"$error":"#VALUE!"},{"$error":"#VALUE!"},{"$error":"#VALUE!"},null,15,20,230,15.895538413434787,8.3616736100371545E-3,null,0.72500000000000009,null,1,1,1,null,5.75,null,45,0.83333333333333326,null,null,null,1,null,3.473958333333333,null,{"$error":"#VALUE!"},null,null,"","","","","","","",1,"","","","","","","","",null,"",1,"","","","","","","","","","","","","",""]
[15,"Crossing - LT","SBL","MinL2","Stop near","EBL","MajL1","Major left",null,{"$error":"#VALUE!"},{"$error":"#VALUE!"},{"$error":"#VALUE!"},null,15,20,230,15.895538413434787,8.3616736100371545E-3,null,0.72500000000000009,null,1,1,1,null,5.75,null,45,0.83333333333333326,null,null,null,1,null,3.473958333333333,null,{"$error":"#VALUE!"},null,null,"","","","","","","","","","",1,"","","","","",null,"",1,"","","","","","","","","","","","","",""]
[16,"Crossing - LT","SBL","MinL2","Stop near","WBL","MajL2","Major left",null,{"$error":"#VALUE!"},{"$error":"#VALUE!"},{"$error":"#VALUE!"},null,15,20,230,15.895538413434787,8.3616736100371545E-3,null,0.72500000000000009,null,1,1,1,null,5.75,null,45,0.83333333333333326,null,null,null,1,null,3.473958333333333,null,{"$error":"#VALUE!"},null,null,"","","","","","","","","","",1,"","","","","",null,"","","","",1,"","","","","","","","","","",""]
[17,"Merging","EBT","MajT1","Major thru","SBL","MinL2","Stop far",null,{"$error":"#VALUE!"},{"$error":"#VALUE!"},{"$error":"#VALUE!"},null,45,25,45,16.271214938736659,9.1348815406664795E-3,null,0.72500000000000009,null,1,1,1,null,5.75,null,45,0.83333333333333326,null,null,null,1,null,3.473958333333333,null,{"$error":"#VALUE!"},null,null,1,"","","","","","","","","","","","","","","",null,"","","","","","","","","","",1,"","","","",""]
[18,"Merging","EBT","MajT1","Major thru","NBR","MinR1","Stop near",null,{"$error":"#VALUE!"},{"$error":"#VALUE!"},{"$error":"#VALUE!"},null,45,15,45,17.995873453365363,1.3373938286506865E-2,null,0.72500000000000009,null,null,null,1,null,1.75,null,45,0.83333333333333326,null,null,null,1,null,1.0572916666666667,null,{"$error":"#VALUE!"},null,null,1,"","","","","","","","","","","","","","","",null,"","","","","","","","",1,"","","","","","",""]
[19,"Merging","NBT","MinT1","Stop far","EBL","MajL1","Major left",null,{"$error":"#VALUE!"},{"$error":"#VALUE!"},{"$error":"#VALUE!"},null,25,20,45,8.9147801264732891,9.333798723087925E-4,null,0.72500000000000009,null,2,null,null,null,4,null,45,0.83333333333333326,null,null,null,1,null,2.416666666666667,null,{"$error":"#VALUE!"},null,null,"","","","","","",1,"","","","","","","","","",null,"",1,"","","","","","","","","","","","","",""]
[20,"Merging","NBT","MinT1","Stop far","WBR","MajR2","Major right",null,{"$error":"#VALUE!"},{"$error":"#VALUE!"},{"$error":"#VALUE!"},null,25,15,45,8.9396576292116645,9.4329959592674944E-4,null,0.72500000000000009,null,2,null,null,null,4,null,45,0.83333333333333326,null,null,null,1,null,2.416666666666667,null,{"$error":"#VALUE!"},null,null,"","","","","","",1,"","","","","","","","","",null,"","","","","",1,"","","","","","","","","",""]
[21,"Merging","WBT","MajT2","Major thru","NBL","MinL1","Stop far",null,{"$error":"#VALUE!"},{"$error":"#VALUE!"},{"$error":"#VALUE!"},null,45,25,45,16.271214938736659,9.1348815406664795E-3,null,0.72500000000000009,null,1,1,1,null,5.75,null,45,0.83333333333333326,null,null,null,1,null,3.473958333333333,null,{"$error":"#VALUE!"},null,null,"","","",1,"","","","","","","","","","","","",null,"","","","","","","",1,"","","","","","","",""]
[22,"Merging","WBT","MajT2","Major thru","SBR","MinR2","Stop near",null,{"$error":"#VALUE!"},{"$error":"#VALUE!"},{"$error":"#VALUE!"},null,45,15,45,17.995873453365363,1.3373938286506865E-2,null,0.72500000000000009,null,null,null,1,null,1.75,null,45,0.83333333333333326,null,null,null,1,null,1.0572916666666667,null,{"$error":"#VALUE!"},null,null,"","","",1,"","","","","","","","","","","","",null,"","","","","","","","","","","",1,"","","",""]
[23,"Merging","SBT","MinT2","Stop far","WBL","MajL2","Major left",null,{"$error":"#VALUE!"},{"$error":"#VALUE!"},{"$error":"#VALUE!"},null,25,20,45,8.9147801264732891,9.333798723087925E-4,null,0.72500000000000009,null,2,null,null,null,4,null,45,0.83333333333333326,null,null,null,1,null,2.416666666666667,null,{"$error":"#VALUE!"},null,null,"","","","","","","","","",1,"","","","","","",null,"","","","",1,"","","","","","","","","","",""]
[24,"Merging","SBT","MinT2","Stop far","EBR","MajR1","Major right",null,{"$error":"#VALUE!"},{"$error":"#VALUE!"},{"$error":"#VALUE!"},null,25,15,45,8.9396576292116645,9.4329959592674944E-4,null,0.72500000000000009,null,2,null,null,null,4,null,45,0.83333333333333326,null,null,null,1,null,2.416666666666667,null,{"$error":"#VALUE!"},null,null,"","","","","","","","","",1,"","","","","","",null,"","",1,"","","","","","","","","","","","",""]
[25,"Diverging","NBT","MinT1","Stop near","NBL","MinL1","Stop near",null,{"$error":"#VALUE!"},{"$error":"#VALUE!"},{"$error":"#VALUE!"},null,15,15,10,1.3073361412148754,6.4061388075216071E-7,null,1,null,null,null,null,null,1,null,"",1,null,null,null,1,null,1,null,{"$error":"#VALUE!"},null,null,"","","","","","",1,"","","","","","","","","",null,"","","","","","","",1,"","","","","","","",""]
[26,"Diverging","NBT","MinT1","Stop near","NBR","MinR1","Stop near",null,{"$error":"#VALUE!"},{"$error":"#VALUE!"},{"$error":"#VALUE!"},null,15,15,10,1.3073361412148754,6.4061388075216071E-7,null,1,null,null,null,null,null,1,null,"",1,null,null,null,1,null,1,null,{"$error":"#VALUE!"},null,null,"","","","","","",1,"","","","","","","","","",null,"","","","","","","","",1,"","","","","","",""]
[27,"Diverging","WBT","MajT2","Major thru","WBR","MajR2","Major right",null,{"$error":"#VALUE!"},{"$error":"#VALUE!"},{"$error":"#VALUE!"},null,45,15,10,15.169950011729762,7.0056226631585675E-3,null,1,null,null,null,null,null,1,null,"",1,null,null,null,1,null,1,null,{"$error":"#VALUE!"},null,null,"","","",1,"","","","","","","","","","","","",null,"","","","","",1,"","","","","","","","","",""]
[28,"Diverging","WBT","MajT2","Major thru","WBL","MajL2","Major left",null,{"$error":"#VALUE!"},{"$error":"#VALUE!"},{"$error":"#VALUE!"},null,45,20,10,12.77053292327718,3.6481988362114144E-3,null,1,null,null,null,null,null,1,null,"",1,null,null,null,1,null,1,null,{"$error":"#VALUE!"},null,null,"","","",1,"","","","","","","","","","","","",null,"","","","",1,"","","","","","","","","","",""]
[29,"Diverging","SBT","MinT2","Stop near","SBL","MinL2","Stop near",null,{"$error":"#VALUE!"},{"$error":"#VALUE!"},{"$error":"#VALUE!"},null,15,15,10,1.3073361412148754,6.4061388075216071E-7,null,1,null,null,null,null,null,1,null,"",1,null,null,null,1,null,1,null,{"$error":"#VALUE!"},null,null,"","","","","","","","","",1,"","","","","","",null,"","","","","","","","","","",1,"","","","",""]
[30,"Diverging","SBT","MinT2","Stop near","SBR","MinR2","Stop near",null,{"$error":"#VALUE!"},{"$error":"#VALUE!"},{"$error":"#VALUE!"},null,15,15,10,1.3073361412148754,6.4061388075216071E-7,null,1,null,null,null,null,null,1,null,"",1,null,null,null,1,null,1,null,{"$error":"#VALUE!"},null,null,"","","","","","","","","",1,"","","","","","",null,"","","","","","","","","","","",1,"","","",""]
[31,"Diverging","EBT","MajT1","Major thru","EBR","MajR1","Major right",null,{"$error":"#VALUE!"},{"$error":"#VALUE!"},{"$error":"#VALUE!"},null,45,15,10,15.169950011729762,7.0056226631585675E-3,null,1,null,null,null,null,null,1,null,"",1,null,null,null,1,null,1,null,{"$error":"#VALUE!"},null,null,1,"","","","","","","","","","","","","","","",null,"","",1,"","","","","","","","","","","","",""]
[32,"Diverging","EBT","MajT1","Major thru","EBL","MajL1","Major left",null,{"$error":"#VALUE!"},{"$error":"#VALUE!"},{"$error":"#VALUE!"},null,45,20,10,12.77053292327718,3.6481988362114144E-3,null,1,null,null,null,null,null,1,null,"",1,null,null,null,1,null,1,null,{"$error":"#VALUE!"},null,null,{"$f":"IF(ISNUMBER(SEARCH(AN$3,$D35)),1,\"\")","v":1},"","","","","","","","","","","","","","","",null,{"$f":"IF(ISNUMBER(SEARCH(BE$3,$G35)),1,\"\")","v":""},1,"","","","","","","","","","","","","",""]
[33,"Nonmotorized",null,"MajNM2","Nonmotorized",null,"MinR1","Stop near",null,{"$error":"#VALUE!"},{"$error":"#VALUE!"},{"$error":"#VALUE!"},null,{"$f":"VLOOKUP(E36,SSI_AGI_Range_VehSpeed,5,FALSE)","v":0},{"$f":"VLOOKUP(H36,SSI_AGI_Range_VehSpeed,5,FALSE)","v":15},{"$f":"IF(B36=\"Nonmotorized\",\"\",VLOOKUP(B36,SSI_AGI_Range_CollAngles,5,FALSE))","v":""},{"$f":"IF(B36=\"Nonmotorized\",\"\",SQRT(N36^2+O36^2-2*N36*O36*COS(RADIANS(P36)))/2)","v":""},{"$f":"IF(B36=\"Nonmotorized\",1/(1+EXP(3.8432-0.1237*O36)),(Q36/SSI_AGI_RegAlpha)^SSI_AGI_RegK+(Q36/SSI_AGI_RegAlpha)^SSI_AGI_RegK-((Q36/SSI_AGI_RegAlpha)^SSI_AGI_RegK)*((Q36/SSI_AGI_RegAlpha)^SSI_AGI_RegK))","v":0.1205004039155782},null,{"$f":"SSI_AGI_StopFactor","v":0.72500000000000009},null,2,null,null,2,{"$f":"MAX(1,IF(B36<>\"Pedestrian\",V36*SSI_AGI_MajorThruLanes+W36*SSI_AGI_MinorThruLanes+X36*IF(SSI_AGI_MajorThruLanes=1,SSI_AGI_MergeWeightL1,IF(SSI_AGI_MajorThruLanes=2,SSI_AGI_MergeWeightL1+SSI_AGI_MergeWeightL2,SSI_AGI_MergeWeightL1+SSI_AGI_MergeWeightL2+SSI_AGI_MergeWeightL3*(SSI_AGI_MajorThruLanes-2)))+Y36*IF(SSI_AGI_MinorThruLanes=1,SSI_AGI_MergeWeightL1,IF(SSI_AGI_MinorThruLanes=2,SSI_AGI_MergeWeightL1+SSI_AGI_MergeWeightL2,SSI_AGI_MergeWeightL1+SSI_AGI_MergeWeightL2+SSI_AGI_MergeWeightL3*(SSI_AGI_MinorThruLanes-2))),V36*SSI_AGI_MajorThruLanes+W36*SSI_AGI_MinorThruLanes+X36*IF(SSI_AGI_MajorThruLanes=1,SSI_AGI_NM_MergeWeightL1,IF(SSI_AGI_MajorThruLanes=2,SSI_AGI_NM_MergeWeightL1+SSI_AGI_NM_MergeWeightL2,SSI_AGI_NM_MergeWeightL1+SSI_AGI_NM_MergeWeightL2+SSI_AGI_NM_MergeWeightL3*(SSI_AGI_MajorThruLanes-2)))+Y36*IF(SSI_AGI_MinorThruLanes=1,SSI_AGI_NM_MergeWeightL1,IF(SSI_AGI_MinorThruLanes=2,SSI_AGI_NM_MergeWeightL1+SSI_AGI_NM_MergeWeightL2,SSI_AGI_NM_MergeWeightL1+SSI_AGI_NM_MergeWeightL2+SSI_AGI_NM_MergeWeightL3*(SSI_AGI_MinorThruLanes-2)))))","v":7.5},null,{"$f":"IF(B36=\"Diverging\",\"\",SSI_AGI_VehSpeed_MjrThru)","v":45},0.83333333333333326,null,null,null,{"$f":"IF(SSI_AGI_ConsiderNMComplexity=\"Yes\",1+AE36+AF36,1)","v":1},null,4.53125,null,{"$error":"#VALUE!"},null,null,"","","","","","","","","","","","","",1,"","",null,"","","","","","","","",1,"","","","","","",""]
[34,"Nonmotorized",null,"MajNM2","Nonmotorized",null,"MajT1","Major thru",null,{"$error":"#VALUE!"},{"$error":"#VALUE!"},{"$f":"PRODUCT(J37:K37)","v":{"$error":"#VALUE!"}},null,0,45,"","",0.84855340903216459,null,1,null,2,null,null,2,7.5,null,45,0.83333333333333326,null,null,null,1,null,6.2499999999999991,null,{"$error":"#VALUE!"},null,null,"","","","","","","","","","","","","",1,"","",null,1,"","","","","","","","","","","","","","",""]
[35,"Nonmotorized",null,"MajNM2","Nonmotorized",null,"MinL2","Stop far",null,{"$error":"#VALUE!"},{"$error":"#VALUE!"},{"$error":"#VALUE!"},null,0,25,"","",0.32066879346345062,null,{"$f":"SSI_AGI_StopFactor","v":0.72500000000000009},null,2,null,null,2,7.5,null,45,0.83333333333333326,null,null,null,1,null,4.53125,null,{"$error":"#VALUE!"},null,null,"","","","","","","","","","","","","",1,"","",null,"","","","","","","","","","",1,"","","","",""]
[36,"Nonmotorized",null,"MajNM2","Nonmotorized",null,"MajL2","Major left",null,{"$error":"#VALUE!"},{"$error":"#VALUE!"},{"$error":"#VALUE!"},null,0,20,"","",0.20274912921655375,null,1,null,2,null,null,2,7.5,null,45,0.83333333333333326,null,null,null,1,null,6.2499999999999991,null,{"$error":"#VALUE!"},null,null,"","","","","","","","","","","","","",1,"","",null,"","","","",1,"","","","","","","","","","",""]
[37,"Nonmotorized",null,"MajNM2","Nonmotorized",null,"MajT2","Major thru",null,{"$error":"#VALUE!"},{"$error":"#VALUE!"},{"$error":"#VALUE!"},null,0,45,"","",0.84855340903216459,null,1,null,2,null,null,2,7.5,null,45,0.83333333333333326,null,null,null,1,null,6.2499999999999991,null,{"$error":"#VALUE!"},null,null,"","","","","","","","","","","","","",1,"","",null,"","","",1,"","","","","","","","","","","",""]
[38,"Nonmotorized",null,"MajNM2","Nonmotorized",null,"MajR2","Major right",null,{"$error":"#VALUE!"},{"$error":"#VALUE!"},{"$error":"#VALUE!"},null,0,15,"","",0.1205004039155782,null,1,null,2,null,null,2,7.5,null,45,0.83333333333333326,null,null,null,1,null,6.2499999999999991,null,{"$error":"#VALUE!"},null,null,"","","","","","","","","","","","","",1,"","",null,"","","","","",1,"","","","","","","","","",""]
[39,"Nonmotorized",null,"MinNM2","Nonmotorized",null,"MajR2","Major right",null,{"$error":"#VALUE!"},{"$error":"#VALUE!"},{"$error":"#VALUE!"},null,0,15,"","",0.1205004039155782,null,1,null,null,2,2,null,7.5,null,45,0.83333333333333326,null,null,null,1,null,6.2499999999999991,null,{"$error":"#VALUE!"},null,null,"","","","","","","","","","","","","","","",1,null,"","","","","",1,"","","","","","","","","",""]
[40,"Nonmotorized",null,"MinNM2","Nonmotorized",null,"MinT1","Stop far",null,{"$error":"#VALUE!"},{"$error":"#VALUE!"},{"$error":"#VALUE!"},null,0,25,"","",0.32066879346345062,null,{"$f":"SSI_AGI_StopFactor","v":0.72500000000000009},null,null,2,2,null,7.5,null,45,0.83333333333333326,null,null,null,1,null,4.53125,null,{"$error":"#VALUE!"},null,null,"","","","","","","","","","","","","","","",1,null,"","","","","","",1,"","","","","","","","",""]
[41,"Nonmotorized",null,"MinNM2","Nonmotorized",null,"MajL1","Major left",null,{"$error":"#VALUE!"},{"$error":"#VALUE!"},{"$error":"#VALUE!"},null,0,20,"","",0.20274912921655375,null,1,null,null,2,2,null,7.5,null,45,0.83333333333333326,null,null,null,1,null,6.2499999999999991,null,{"$error":"#VALUE!"},null,null,"","","","","","","","","","","","","","","",1,null,"",1,"","","","","","","","","","","","","",""]
[42,"Nonmotorized",null,"MinNM2","Nonmotorized",null,"MinL2","Stop near",null,{"$error":"#VALUE!"},{"$error":"#VALUE!"},{"$error":"#VALUE!"},null,0,15,"","",0.1205004039155782,null,{"$f":"SSI_AGI_StopFactor","v":0.72500000000000009},null,null,2,2,null,7.5,null,45,0.83333333333333326,null,null,null,1,null,4.53125,null,{"$error":"#VALUE!"},null,null,"","","","","","","","","","","","","","","",1,null,"","","","","","","","","","",1,"","","","",""]
[43,"Nonmotorized",null,"MinNM2","Nonmotorized",null,"MinT2","Stop near",null,{"$error":"#VALUE!"},{"$error":"#VALUE!"},{"$error":"#VALUE!"},null,0,15,"","",0.1205004039155782,null,{"$f":"SSI_AGI_StopFactor","v":0.72500000000000009},null,null,2,2,null,7.5,null,45,0.83333333333333326,null,null,null,1,null,4.53125,null,{"$error":"#VALUE!"},null,null,"","","","","","","","","","","","","","","",1,null,"","","","","","","","","",1,"","","","","",""]
[44,"Nonmotorized",null,"MinNM2","Nonmotorized",null,"MinR2","Stop near",null,{"$error":"#VALUE!"},{"$error":"#VALUE!"},{"$error":"#VALUE!"},null,0,15,"","",0.1205004039155782,null,{"$f":"SSI_AGI_StopFactor","v":0.72500000000000009},null,null,2,2,null,7.5,null,45,0.83333333333333326,null,null,null,1,null,4.53125,null,{"$error":"#VALUE!"},null,null,"","","","","","","","","","","","","","","",1,null,"","","","","","","","","","","",1,"","","",""]
[45,"Nonmotorized",null,"MajNM1","Nonmotorized",null,"MinR2","Stop near",null,{"$error":"#VALUE!"},{"$error":"#VALUE!"},{"$error":"#VALUE!"},null,0,15,"","",0.1205004039155782,null,{"$f":"SSI_AGI_StopFactor","v":0.72500000000000009},null,2,null,null,2,7.5,null,45,0.83333333333333326,null,null,null,1,null,4.53125,null,{"$error":"#VALUE!"},null,null,"","","","","","","","","","","","",1,"","","",null,"","","","","","","","","","","",1,"","","",""]
[46,"Nonmotorized",null,"MajNM1","Nonmotorized",null,"MajT2","Major thru",null,{"$error":"#VALUE!"},{"$error":"#VALUE!"},{"$error":"#VALUE!"},null,0,45,"","",0.84855340903216459,null,1,null,2,null,null,2,7.5,null,45,0.83333333333333326,null,null,null,1,null,6.2499999999999991,null,{"$error":"#VALUE!"},null,null,"","","","","","","","","","","","",1,"","","",null,"","","",1,"","","","","","","","","","","",""]
[47,"Nonmotorized",null,"MajNM1","Nonmotorized",null,"MinL1","Stop far",null,{"$error":"#VALUE!"},{"$error":"#VALUE!"},{"$error":"#VALUE!"},null,0,25,"","",0.32066879346345062,null,{"$f":"SSI_AGI_StopFactor","v":0.72500000000000009},null,2,null,null,2,7.5,null,45,0.83333333333333326,null,null,null,1,null,4.53125,null,{"$error":"#VALUE!"},null,null,"","","","","","","","","","","","",1,"","",{"$f":"IF(ISNUMBER(SEARCH(BC$3,$D50)),1,\"\")","v":""},null,"","","","","","","",1,"","","","","","","",{"$f":"IF(ISNUMBER(SEARCH(BT$3,$G50)),1,\"\")","v":""}]
[48,"Nonmotorized",null,"MajNM1","Nonmotorized",null,"MajL1","Major left",null,{"$error":"#VALUE!"},{"$error":"#VALUE!"},{"$error":"#VALUE!"},null,0,20,"","",0.20274912921655375,null,1,null,2,null,null,2,7.5,null,45,0.83333333333333326,null,null,null,1,null,6.2499999999999991,null,{"$error":"#VALUE!"},null,null,{"$f":"IF(ISNUMBER(SEARCH(AN$3,$D51)),1,\"\")","v":""},"","","","","","","","","","","",1,"","","",null,{"$f":"IF(ISNUMBER(SEARCH(BE$3,$G51)),1,\"\")","v":""},1,"","","","","","","","","","","","","",""]
[49,"Nonmotorized",null,"MajNM1","Nonmotorized",null,"MajT1","Major thru",null,{"$error":"#VALUE!"},{"$error":"#VALUE!"},{"$error":"#VALUE!"},null,0,45,"","",0.84855340903216459,null,1,null,2,null,null,2,7.5,null,45,0.83333333333333326,null,null,null,1,null,6.2499999999999991,null,{"$error":"#VALUE!"},null,null,"","","","","","","","","","","","",1,"","","",null,1,"","","","","","","","","","","","","","",""]
[50,"Nonmotorized",null,"MajNM1","Nonmotorized",null,"MajR1","Major right",null,{"$error":"#VALUE!"},{"$error":"#VALUE!"},{"$error":"#VALUE!"},null,0,15,"","",0.1205004039155782,null,1,null,2,null,null,2,7.5,null,45,0.83333333333333326,null,null,null,1,null,6.2499999999999991,null,{"$error":"#VALUE!"},null,null,"","","","","","","","","","","","",1,"","","",null,"","",1,"","","","","","","","","","","","",""]
[51,"Nonmotorized",null,"MinNM1","Nonmotorized",null,"MajR1","Major right",null,{"$error":"#VALUE!"},{"$error":"#VALUE!"},{"$error":"#VALUE!"},null,0,15,"","",0.1205004039155782,null,1,null,null,2,2,null,7.5,null,45,0.83333333333333326,null,null,null,1,null,6.2499999999999991,null,{"$error":"#VALUE!"},null,null,"","","","","","","","","","","","","","",1,"",null,"","",1,"","","","","","","","","","","","",""]
[52,"Nonmotorized",null,"MinNM1","Nonmotorized",null,"MinT2","Stop far",null,{"$error":"#VALUE!"},{"$error":"#VALUE!"},{"$error":"#VALUE!"},null,0,25,"","",0.32066879346345062,null,{"$f":"SSI_AGI_StopFactor","v":0.72500000000000009},null,null,2,2,null,7.5,null,45,0.83333333333333326,null,null,null,1,null,4.53125,null,{"$error":"#VALUE!"},null,null,"","","","","","","","","","","","","","",1,"",null,"","","","","","","","","",1,"","","","","",""]
[53,"Nonmotorized",null,"MinNM1","Nonmotorized",null,"MajL2","Major left",null,{"$error":"#VALUE!"},{"$error":"#VALUE!"},{"$error":"#VALUE!"},null,0,20,"","",0.20274912921655375,null,1,null,null,2,2,null,7.5,null,45,0.83333333333333326,null,null,null,1,null,6.2499999999999991,null,{"$error":"#VALUE!"},null,null,"","","","","","","","","","","","","","",1,"",null,"","","","",1,"","","","","","","","","","",""]
[54,"Nonmotorized",null,"MinNM1","Nonmotorized",null,"MinL1","Stop near",null,{"$error":"#VALUE!"},{"$error":"#VALUE!"},{"$error":"#VALUE!"},null,0,15,"","",0.1205004039155782,null,{"$f":"SSI_AGI_StopFactor","v":0.72500000000000009},null,null,2,2,null,7.5,null,45,0.83333333333333326,null,null,null,1,null,4.53125,null,{"$error":"#VALUE!"},null,null,"","","","","","","","","","","","","","",1,"",null,"","","","","","","",1,"","","","","","","",""]
[55,"Nonmotorized",null,"MinNM1","Nonmotorized",null,"MinT1","Stop near",null,{"$error":"#VALUE!"},{"$error":"#VALUE!"},{"$error":"#VALUE!"},null,0,15,"","",0.1205004039155782,null,{"$f":"SSI_AGI_StopFactor","v":0.72500000000000009},null,null,2,2,null,7.5,null,45,0.83333333333333326,null,null,null,1,null,4.53125,null,{"$error":"#VALUE!"},null,null,"","","","","","","","","","","","","","",1,"",null,"","","","","","",1,"","","","","","","","",""]
[56,"Nonmotorized",null,"MinNM1","Nonmotorized",null,"MinR1","Stop near",null,{"$error":"#VALUE!"},{"$error":"#VALUE!"},{"$error":"#VALUE!"},null,0,15,"","",0.1205004039155782,null,{"$f":"SSI_AGI_StopFactor","v":0.72500000000000009},null,null,2,2,null,7.5,null,45,0.83333333333333326,null,null,null,1,null,4.53125,null,{"$error":"#VALUE!"},null,null,"","","","","","","","","","","","","","",1,"",null,"","","","","","","","",1,"","","","","","",""]
[null,null,null,null,null,null,null,null,null,null,null,null,null,null,null,null,null,null,null,null,null,null,null,null,null,null,null,null,null,null,null,null,null,null,null,null,null,null,"O",{"$f":"'SSI Inputs'!$D$26","v":{"$error":"#VALUE!"}},{"$f":"'SSI Inputs'!$D$27","v":{"$error":"#VALUE!"}},{"$f":"'SSI Inputs'!$D$28","v":{"$error":"#VALUE!"}},{"$f":"'SSI Inputs'!$D$30","v":{"$error":"#VALUE!"}},{"$f":"'SSI Inputs'!$D$31","v":{"$error":"#VALUE!"}},{"$f":"'SSI Inputs'!$D$32","v":{"$error":"#VALUE!"}},{"$f":"'SSI Inputs'!$D$34","v":{"$error":"#VALUE!"}},{"$f":"'SSI Inputs'!$D$35","v":{"$error":"#VALUE!"}},{"$f":"'SSI Inputs'!$D$36","v":{"$error":"#VALUE!"}},{"$f":"'SSI Inputs'!$D$38","v":{"$error":"#VALUE!"}},{"$f":"'SSI Inputs'!$D$39","v":{"$error":"#VALUE!"}},{"$f":"'SSI Inputs'!$D$40","v":{"$error":"#VALUE!"}},{"$f":"'SSI Inputs'!$Q$18","v":175},{"$f":"'SSI Inputs'!$Q$19","v":175},{"$f":"'SSI Inputs'!$Q$20","v":175},{"$f":"'SSI Inputs'!$Q$21","v":175},"O",{"$f":"'SSI Inputs'!$D$26","v":{"$error":"#VALUE!"}},{"$f":"'SSI Inputs'!$D$27","v":{"$error":"#VALUE!"}},{"$f":"'SSI Inputs'!$D$28","v":{"$error":"#VALUE!"}},{"$f":"'SSI Inputs'!$D$30","v":{"$error":"#VALUE!"}},{"$f":"'SSI Inputs'!$D$31","v":{"$error":"#VALUE!"}},{"$f":"'SSI Inputs'!$D$32","v":{"$error":"#VALUE!"}},{"$f":"'SSI Inputs'!$D$34","v":{"$error":"#VALUE!"}},{"$f":"'SSI Inputs'!$D$35","v":{"$error":"#VALUE!"}},{"$f":"'SSI Inputs'!$D$36","v":{"$error":"#VALUE!"}},{"$f":"'SSI Inputs'!$D$38","v":{"$error":"#VALUE!"}},{"$f":"'SSI Inputs'!$D$39","v":{"$error":"#VALUE!"}},{"$f":"'SSI Inputs'!$D$40","v":{"$error":"#VALUE!"}},{"$f":"'SSI Inputs'!$Q$18","v":175},{"$f":"'SSI Inputs'!$Q$19","v":175},{"$f":"'SSI Inputs'!$Q$20","v":175},{"$f":"'SSI Inputs'!$Q$21","v":175}]
[null,null,null,null,null,null,null,null,null,null,null,null,null,null,null,null,null,null,null,null,null,null,null,null,null,null,null,null,null,null,null,null,null,null,null,null,null,null,"D",{"$f":"'SSI Inputs'!$E$26","v":{"$error":"#VALUE!"}},{"$f":"'SSI Inputs'!$E$27","v":{"$error":"#VALUE!"}},{"$f":"'SSI Inputs'!$E$28","v":{"$error":"#VALUE!"}},{"$f":"'SSI Inputs'!$E$30","v":{"$error":"#VALUE!"}},{"$f":"'SSI Inputs'!$E$31","v":{"$error":"#VALUE!"}},{"$f":"'SSI Inputs'!$E$32","v":{"$error":"#VALUE!"}},{"$f":"'SSI Inputs'!$E$34","v":{"$error":"#VALUE!"}},{"$f":"'SSI Inputs'!$E$35","v":{"$error":"#VALUE!"}},{"$f":"'SSI Inputs'!$E$36","v":{"$error":"#VALUE!"}},{"$f":"'SSI Inputs'!$E$38","v":{"$error":"#VALUE!"}},{"$f":"'SSI Inputs'!$E$39","v":{"$error":"#VALUE!"}},{"$f":"'SSI Inputs'!$E$40","v":{"$error":"#VALUE!"}},{"$f":"'SSI Inputs'!$R$18","v":175},{"$f":"'SSI Inputs'!$R$19","v":175},{"$f":"'SSI Inputs'!$R$20","v":175},{"$f":"'SSI Inputs'!$R$21","v":175},"D",{"$f":"'SSI Inputs'!$E$26","v":{"$error":"#VALUE!"}},{"$f":"'SSI Inputs'!$E$27","v":{"$error":"#VALUE!"}},{"$f":"'SSI Inputs'!$E$28","v":{"$error":"#VALUE!"}},{"$f":"'SSI Inputs'!$E$30","v":{"$error":"#VALUE!"}},{"$f":"'SSI Inputs'!$E$31","v":{"$error":"#VALUE!"}},{"$f":"'SSI Inputs'!$E$32","v":{"$error":"#VALUE!"}},{"$f":"'SSI Inputs'!$E$34","v":{"$error":"#VALUE!"}},{"$f":"'SSI Inputs'!$E$35","v":{"$error":"#VALUE!"}},{"$f":"'SSI Inputs'!$E$36","v":{"$error":"#VALUE!"}},{"$f":"'SSI Inputs'!$E$38","v":{"$error":"#VALUE!"}},{"$f":"'SSI Inputs'!$E$39","v":{"$error":"#VALUE!"}},{"$f":"'SSI Inputs'!$E$40","v":{"$error":"#VALUE!"}},{"$f":"'SSI Inputs'!$R$18","v":175},{"$f":"'SSI Inputs'!$R$19","v":175},{"$f":"'SSI Inputs'!$R$20","v":175},{"$f":"'SSI Inputs'!$R$21","v":175}]
[]
[]
[]
[]
[]
[]
[]
[]
[]
[]
[]
[]
[]
[]
[]
[]
[]
[]
[]
[]
[]
[]
[]
[]
[]
[]
[]
[]
[]
[]
[]
[]
[]
[]
[]
[]
[]
[]
[]
[null,null,null,null,null,null,null,null,null,"Exposure",null,null,null,null,null,null,null,null,null,null,null,null,null,null,null,null,null,null,null,null,null,null,null,null,null,null,"Exposure-Severity-Complexity Product"]
[null,null,null,null,null,null,null,null,null,"Q1","Q2","I"]
[null,null,null,null,null,null,null,null,null,{"$f":"SUMPRODUCT($AN4:$BC4,$AN$61:$BC$61)","v":{"$error":"#VALUE!"}},{"$f":"SUMPRODUCT($BE4:$BT4,$BE$61:$BT$61)","v":{"$error":"#VALUE!"}},{"$f":"PRODUCT(J103:K103)","v":{"$error":"#VALUE!"}},null,null,null,null,null,null,null,null,null,null,null,null,null,null,null,null,null,null,null,null,null,null,null,null,{"$f":"L103*R4*AI4","v":{"$error":"#VALUE!"}}]
[null,null,null,null,null,null,null,null,null,{"$f":"SUMPRODUCT($AN5:$BC5,$AN$61:$BC$61)","v":{"$error":"#VALUE!"}},{"$f":"SUMPRODUCT($BE5:$BT5,$BE$61:$BT$61)","v":{"$error":"#VALUE!"}},{"$f":"PRODUCT(J104:K104)","v":{"$error":"#VALUE!"}},null,null,null,null,null,null,null,null,null,null,null,null,null,null,null,null,null,null,null,null,null,null,null,null,{"$f":"L104*R5*AI5","v":{"$error":"#VALUE!"}}]
[null,null,null,null,null,null,null,null,null,{"$error":"#VALUE!"},{"$error":"#VALUE!"},{"$error":"#VALUE!"},null,null,null,null,null,null,null,null,null,null,null,null,null,null,null,null,null,null,null,null,null,null,null,null,{"$error":"#VALUE!"}]
[null,null,null,null,null,null,null,null,null,{"$error":"#VALUE!"},{"$error":"#VALUE!"},{"$error":"#VALUE!"},null,null,null,null,null,null,null,null,null,null,null,null,null,null,null,null,null,null,null,null,null,null,null,null,{"$error":"#VALUE!"}]
[null,null,null,null,null,null,null,null,null,{"$error":"#VALUE!"},{"$error":"#VALUE!"},{"$error":"#VALUE!"},null,null,null,null,null,null,null,null,null,null,null,null,null,null,null,null,null,null,null,null,null,null,null,null,{"$error":"#VALUE!"}]
[null,null,null,null,null,null,null,null,null,{"$error":"#VALUE!"},{"$error":"#VALUE!"},{"$error":"#VALUE!"},null,null,null,null,null,null,null,null,null,null,null,null,null,null,null,null,null,null,null,null,null,null,null,null,{"$error":"#VALUE!"}]
[null,null,null,null,null,null,null,null,null,{"$error":"#VALUE!"},{"$error":"#VALUE!"},{"$error":"#VALUE!"},null,null,null,null,null,null,null,null,null,null,null,null,null,null,null,null,null,null,null,null,null,null,null,null,{"$error":"#VALUE!"}]
[null,null,null,null,null,null,null,null,null,{"$error":"#VALUE!"},{"$error":"#VALUE!"},{"$error":"#VALUE!"},null,null,null,null,null,null,null,null,null,null,null,null,null,null,null,null,null,null,null,null,null,null,null,null,{"$error":"#VALUE!"}]
[null,null,null,null,null,null,null,null,null,{"$error":"#VALUE!"},{"$error":"#VALUE!"},{"$error":"#VALUE!"},null,null,null,null,null,null,null,null,null,null,null,null,null,null,null,null,null,null,null,null,null,null,null,null,{"$error":"#VALUE!"}]
[null,null,null,null,null,null,null,null,null,{"$error":"#VALUE!"},{"$error":"#VALUE!"},{"$error":"#VALUE!"},null,null,null,null,null,null,null,null,null,null,null,null,null,null,null,null,null,null,null,null,null,null,null,null,{"$error":"#VALUE!"}]
[null,null,null,null,null,null,null,null,null,{"$error":"#VALUE!"},{"$error":"#VALUE!"},{"$error":"#VALUE!"},null,null,null,null,null,null,null,null,null,null,null,null,null,null,null,null,null,null,null,null,null,null,null,null,{"$error":"#VALUE!"}]
[null,null,null,null,null,null,null,null,null,{"$error":"#VALUE!"},{"$error":"#VALUE!"},{"$error":"#VALUE!"},null,null,null,null,null,null,null,null,null,null,null,null,null,null,null,null,null,null,null,null,null,null,null,null,{"$error":"#VALUE!"}]
[null,null,null,null,null,null,null,null,null,{"$error":"#VALUE!"},{"$error":"#VALUE!"},{"$error":"#VALUE!"},null,null,null,null,null,null,null,null,null,null,null,null,null,null,null,null,null,null,null,null,null,null,null,null,{"$error":"#VALUE!"}]
[null,null,null,null,null,null,null,null,null,{"$error":"#VALUE!"},{"$error":"#VALUE!"},{"$error":"#VALUE!"},null,null,null,null,null,null,null,null,null,null,null,null,null,null,null,null,null,null,null,null,null,null,null,null,{"$error":"#VALUE!"}]
[null,null,null,null,null,null,null,null,null,{"$error":"#VALUE!"},{"$error":"#VALUE!"},{"$error":"#VALUE!"},null,null,null,null,null,null,null,null,null,null,null,null,null,null,null,null,null,null,null,null,null,null,null,null,{"$error":"#VALUE!"}]
[null,null,null,null,null,null,null,null,null,{"$error":"#VALUE!"},{"$error":"#VALUE!"},{"$error":"#VALUE!"},null,null,null,null,null,null,null,null,null,null,null,null,null,null,null,null,null,null,null,null,null,null,null,null,{"$error":"#VALUE!"}]
[null,null,null,null,null,null,null,null,null,{"$error":"#VALUE!"},{"$error":"#VALUE!"},{"$error":"#VALUE!"},null,null,null,null,null,null,null,null,null,null,null,null,null,null,null,null,null,null,null,null,null,null,null,null,{"$error":"#VALUE!"}]
[null,null,null,null,null,null,null,null,null,{"$error":"#VALUE!"},{"$error":"#VALUE!"},{"$error":"#VALUE!"},null,null,null,null,null,null,null,null,null,null,null,null,null,null,null,null,null,null,null,null,null,null,null,null,{"$error":"#VALUE!"}]
[null,null,null,null,null,null,null,null,null,{"$error":"#VALUE!"},{"$error":"#VALUE!"},{"$error":"#VALUE!"},null,null,null,null,null,null,null,null,null,null,null,null,null,null,null,null,null,null,null,null,null,null,null,null,{"$error":"#VALUE!"}]
[null,null,null,null,null,null,null,null,null,{"$error":"#VALUE!"},{"$error":"#VALUE!"},{"$error":"#VALUE!"},null,null,null,null,null,null,null,null,null,null,null,null,null,null,null,null,null,null,null,null,null,null,null,null,{"$error":"#VALUE!"}]
[null,null,null,null,null,null,null,null,null,{"$error":"#VALUE!"},{"$error":"#VALUE!"},{"$error":"#VALUE!"},null,null,null,null,null,null,null,null,null,null,null,null,null,null,null,null,null,null,null,null,null,null,null,null,{"$error":"#VALUE!"}]
[null,null,null,null,null,null,null,null,null,{"$error":"#VALUE!"},{"$error":"#VALUE!"},{"$error":"#VALUE!"},null,null,null,null,null,null,null,null,null,null,null,null,null,null,null,null,null,null,null,null,null,null,null,null,{"$error":"#VALUE!"}]
[null,null,null,null,null,null,null,null,null,{"$error":"#VALUE!"},{"$error":"#VALUE!"},{"$error":"#VALUE!"},null,null,null,null,null,null,null,null,null,null,null,null,null,null,null,null,null,null,null,null,null,null,null,null,{"$error":"#VALUE!"}]
[null,null,null,null,null,null,null,null,null,{"$error":"#VALUE!"},{"$error":"#VALUE!"},{"$error":"#VALUE!"},null,null,null,null,null,null,null,null,null,null,null,null,null,null,null,null,null,null,null,null,null,null,null,null,{"$error":"#VALUE!"}]
[null,null,null,null,null,null,null,null,null,{"$error":"#VALUE!"},{"$error":"#VALUE!"},{"$error":"#VALUE!"},null,null,null,null,null,null,null,null,null,null,null,null,null,null,null,null,null,null,null,null,null,null,null,null,{"$error":"#VALUE!"}]
[null,null,null,null,null,null,null,null,null,{"$error":"#VALUE!"},{"$error":"#VALUE!"},{"$error":"#VALUE!"},null,null,null,null,null,null,null,null,null,null,null,null,null,null,null,null,null,null,null,null,null,null,null,null,{"$error":"#VALUE!"}]
[null,null,null,null,null,null,null,null,null,{"$error":"#VALUE!"},{"$error":"#VALUE!"},{"$error":"#VALUE!"},null,null,null,null,null,null,null,null,null,null,null,null,null,null,null,null,null,null,null,null,null,null,null,null,{"$error":"#VALUE!"}]
[null,null,null,null,null,null,null,null,null,{"$error":"#VALUE!"},{"$error":"#VALUE!"},{"$error":"#VALUE!"},null,null,null,null,null,null,null,null,null,null,null,null,null,null,null,null,null,null,null,null,null,null,null,null,{"$error":"#VALUE!"}]
[null,null,null,null,null,null,null,null,null,{"$error":"#VALUE!"},{"$error":"#VALUE!"},{"$error":"#VALUE!"},null,null,null,null,null,null,null,null,null,null,null,null,null,null,null,null,null,null,null,null,null,null,null,null,{"$error":"#VALUE!"}]
[null,null,null,null,null,null,null,null,null,{"$error":"#VALUE!"},{"$error":"#VALUE!"},{"$error":"#VALUE!"},null,null,null,null,null,null,null,null,null,null,null,null,null,null,null,null,null,null,null,null,null,null,null,null,{"$error":"#VALUE!"}]
[null,null,null,null,null,null,null,null,null,{"$error":"#VALUE!"},{"$error":"#VALUE!"},{"$error":"#VALUE!"},null,null,null,null,null,null,null,null,null,null,null,null,null,null,null,null,null,null,null,null,null,null,null,null,{"$error":"#VALUE!"}]
[null,null,null,null,null,null,null,null,null,{"$error":"#VALUE!"},{"$error":"#VALUE!"},{"$error":"#VALUE!"},null,null,null,null,null,null,null,null,null,null,null,null,null,null,null,null,null,null,null,null,null,null,null,null,{"$error":"#VALUE!"}]
[null,null,null,null,null,null,null,null,null,{"$error":"#VALUE!"},{"$error":"#VALUE!"},{"$error":"#VALUE!"},null,null,null,null,null,null,null,null,null,null,null,null,null,null,null,null,null,null,null,null,null,null,null,null,{"$error":"#VALUE!"}]
[null,null,null,null,null,null,null,null,null,{"$error":"#VALUE!"},{"$error":"#VALUE!"},{"$error":"#VALUE!"},null,null,null,null,null,null,null,null,null,null,null,null,null,null,null,null,null,null,null,null,null,null,null,null,{"$error":"#VALUE!"}]
[null,null,null,null,null,null,null,null,null,{"$error":"#VALUE!"},{"$error":"#VALUE!"},{"$error":"#VALUE!"},null,null,null,null,null,null,null,null,null,null,null,null,null,null,null,null,null,null,null,null,null,null,null,null,{"$error":"#VALUE!"}]
[null,null,null,null,null,null,null,null,null,{"$error":"#VALUE!"},{"$error":"#VALUE!"},{"$error":"#VALUE!"},null,null,null,null,null,null,null,null,null,null,null,null,null,null,null,null,null,null,null,null,null,null,null,null,{"$error":"#VALUE!"}]
[null,null,null,null,null,null,null,null,null,{"$error":"#VALUE!"},{"$error":"#VALUE!"},{"$error":"#VALUE!"},null,null,null,null,null,null,null,null,null,null,null,null,null,null,null,null,null,null,null,null,null,null,null,null,{"$error":"#VALUE!"}]
[null,null,null,null,null,null,null,null,null,{"$error":"#VALUE!"},{"$error":"#VALUE!"},{"$error":"#VALUE!"},null,null,null,null,null,null,null,null,null,null,null,null,null,null,null,null,null,null,null,null,null,null,null,null,{"$error":"#VALUE!"}]
[null,null,null,null,null,null,null,null,null,{"$error":"#VALUE!"},{"$error":"#VALUE!"},{"$error":"#VALUE!"},null,null,null,null,null,null,null,null,null,null,null,null,null,null,null,null,null,null,null,null,null,null,null,null,{"$error":"#VALUE!"}]
[null,null,null,null,null,null,null,null,null,{"$error":"#VALUE!"},{"$error":"#VALUE!"},{"$error":"#VALUE!"},null,null,null,null,null,null,null,null,null,null,null,null,null,null,null,null,null,null,null,null,null,null,null,null,{"$error":"#VALUE!"}]
[null,null,null,null,null,null,null,null,null,{"$error":"#VALUE!"},{"$error":"#VALUE!"},{"$error":"#VALUE!"},null,null,null,null,null,null,null,null,null,null,null,null,null,null,null,null,null,null,null,null,null,null,null,null,{"$error":"#VALUE!"}]
[null,null,null,null,null,null,null,null,null,{"$error":"#VALUE!"},{"$error":"#VALUE!"},{"$error":"#VALUE!"},null,null,null,null,null,null,null,null,null,null,null,null,null,null,null,null,null,null,null,null,null,null,null,null,{"$error":"#VALUE!"}]
[null,null,null,null,null,null,null,null,null,{"$error":"#VALUE!"},{"$error":"#VALUE!"},{"$error":"#VALUE!"},null,null,null,null,null,null,null,null,null,null,null,null,null,null,null,null,null,null,null,null,null,null,null,null,{"$error":"#VALUE!"}]
[null,null,null,null,null,null,null,null,null,{"$error":"#VALUE!"},{"$error":"#VALUE!"},{"$error":"#VALUE!"},null,null,null,null,null,null,null,null,null,null,null,null,null,null,null,null,null,null,null,null,null,null,null,null,{"$error":"#VALUE!"}]
[null,null,null,null,null,null,null,null,null,{"$error":"#VALUE!"},{"$error":"#VALUE!"},{"$error":"#VALUE!"},null,null,null,null,null,null,null,null,null,null,null,null,null,null,null,null,null,null,null,null,null,null,null,null,{"$error":"#VALUE!"}]
[null,null,null,null,null,null,null,null,null,{"$error":"#VALUE!"},{"$error":"#VALUE!"},{"$error":"#VALUE!"},null,null,null,null,null,null,null,null,null,null,null,null,null,null,null,null,null,null,null,null,null,null,null,null,{"$error":"#VALUE!"}]
[null,null,null,null,null,null,null,null,null,{"$error":"#VALUE!"},{"$error":"#VALUE!"},{"$error":"#VALUE!"},null,null,null,null,null,null,null,null,null,null,null,null,null,null,null,null,null,null,null,null,null,null,null,null,{"$error":"#VALUE!"}]
[null,null,null,null,null,null,null,null,null,{"$error":"#VALUE!"},{"$error":"#VALUE!"},{"$error":"#VALUE!"},null,null,null,null,null,null,null,null,null,null,null,null,null,null,null,null,null,null,null,null,null,null,null,null,{"$error":"#VALUE!"}]
[null,null,null,null,null,null,null,null,null,{"$error":"#VALUE!"},{"$error":"#VALUE!"},{"$error":"#VALUE!"},null,null,null,null,null,null,null,null,null,null,null,null,null,null,null,null,null,null,null,null,null,null,null,null,{"$error":"#VALUE!"}]
[null,null,null,null,null,null,null,null,null,{"$error":"#VALUE!"},{"$error":"#VALUE!"},{"$error":"#VALUE!"},null,null,null,null,null,null,null,null,null,null,null,null,null,null,null,null,null,null,null,null,null,null,null,null,{"$error":"#VALUE!"}]
[null,null,null,null,null,null,null,null,null,{"$error":"#VALUE!"},{"$error":"#VALUE!"},{"$error":"#VALUE!"},null,null,null,null,null,null,null,null,null,null,null,null,null,null,null,null,null,null,null,null,null,null,null,null,{"$error":"#VALUE!"}]
[null,null,null,null,null,null,null,null,null,{"$error":"#VALUE!"},{"$error":"#VALUE!"},{"$error":"#VALUE!"},null,null,null,null,null,null,null,null,null,null,null,null,null,null,null,null,null,null,null,null,null,null,null,null,{"$error":"#VALUE!"}]
[null,null,null,null,null,null,null,null,null,{"$error":"#VALUE!"},{"$error":"#VALUE!"},{"$error":"#VALUE!"},null,null,null,null,null,null,null,null,null,null,null,null,null,null,null,null,null,null,null,null,null,null,null,null,{"$error":"#VALUE!"}]
[null,null,null,null,null,null,null,null,null,{"$error":"#VALUE!"},{"$error":"#VALUE!"},{"$error":"#VALUE!"},null,null,null,null,null,null,null,null,null,null,null,null,null,null,null,null,null,null,null,null,null,null,null,null,{"$error":"#VALUE!"}]
[null,null,null,null,null,null,null,null,null,{"$error":"#VALUE!"},{"$error":"#VALUE!"},{"$error":"#VALUE!"},null,null,null,null,null,null,null,null,null,null,null,null,null,null,null,null,null,null,null,null,null,null,null,null,{"$error":"#VALUE!"}]
[null,null,null,null,null,null,null,null,null,{"$error":"#VALUE!"},{"$error":"#VALUE!"},{"$error":"#VALUE!"},null,null,null,null,null,null,null,null,null,null,null,null,null,null,null,null,null,null,null,null,null,null,null,null,{"$error":"#VALUE!"}]

{"sheet":"Trad_AllStop","index":39,"n_rows":158,"n_cols":72,"rows_kept":158,"cut":false,"hidden":true,"merged":[[1,56,1,71],[0,19,0,28],[0,30,0,32],[1,31,2,31],[1,32,2,32],[1,21,1,25],[1,27,1,28],[1,30,2,30],[100,9,100,11],[100,36,101,36],[1,34,2,34],[1,36,2,36],[1,39,1,54],[1,9,1,11],[1,13,1,17]]}
[null,null,null,null,null,null,null,null,null,null,null,null,null,null,null,null,null,null,null,"Conflicting Traffic Complexity",null,null,null,null,null,null,null,null,null,null,"Pedestrian Complexity"]
[null,null,null,null,null,null,null,null,null,"Exposure",null,null,null,"Severity",null,null,null,null,null,"Traffic Control",null,"Conflicting Lanes",null,null,null,null,null,"Conflicting Speed",null,null,"Indirect Paths Indicator","Non-intuitive movements indicator","Pedestrian Complexity factor",null,"Total Complexity Multiplier",null,"Exposure-Severity-Complexity Product",null,null,"Included in Mvmt1",null,null,null,null,null,null,null,null,null,null,null,null,null,null,null,null,"Included in Mvmt2"]
["#","Conflict Type","Mvmt1","Mvmt1_gen","Mvmt1_SpeedCat","Mvmt2","Mvmt2_gen","Mvmt2_SpeedCat",null,"Q1","Q2","I",null,"Speed_V1","Speed_V2","Angle","delta_V","P_FSI",null,null,null,"MajC","MinC","MajM/P","MinM/P","Score",null,"Speed","Factor",null,null,null,null,null,null,null,null,null,null,"MajT1","MajL1","MajR1","MajT2","MajL2","MajR2","MinT1","MinL1","MinR1","MinT2","MinL2","MinR2","MajNM1","MajNM2","MinNM1","MinNM2",null,"MajT1","MajL1","MajR1","MajT2","MajL2","MajR2","MinT1","MinL1","MinR1","MinT2","MinL2","MinR2","MajNM1","MajNM2","MinNM1","MinNM2"]
[1,"Crossing","NBT","MinT1","Stop near","EBT","MajT1","Stop far",null,{"$f":"SUMPRODUCT($AN4:$BC4,$AN$60:$BC$60)","v":{"$error":"#VALUE!"}},{"$f":"SUMPRODUCT($BE4:$BT4,$BE$60:$BT$60)","v":{"$error":"#VALUE!"}},{"$f":"PRODUCT(J4:K4)","v":{"$error":"#VALUE!"}},null,{"$f":"VLOOKUP(E4,SSI_AGI_Range_VehSpeed,5,FALSE)","v":15},{"$f":"VLOOKUP(H4,SSI_AGI_Range_VehSpeed,5,FALSE)","v":25},{"$f":"IF(B4=\"Nonmotorized\",\"\",VLOOKUP(B4,SSI_AGI_Range_CollAngles,5,FALSE))","v":90},{"$f":"IF(B4=\"Nonmotorized\",\"\",SQRT(N4^2+O4^2-2*N4*O4*COS(RADIANS(P4)))/2)","v":14.577379737113251},{"$f":"IF(B4=\"Nonmotorized\",1/(1+EXP(3.8432-0.1237*O4)),(Q4/SSI_AGI_RegAlpha)^SSI_AGI_RegK+(Q4/SSI_AGI_RegAlpha)^SSI_AGI_RegK-((Q4/SSI_AGI_RegAlpha)^SSI_AGI_RegK)*((Q4/SSI_AGI_RegAlpha)^SSI_AGI_RegK))","v":6.0240867167528703E-3},null,{"$f":"SSI_AGI_StopFactor","v":0.72500000000000009},null,2,null,null,null,{"$f":"MAX(1,IF(B4<>\"Pedestrian\",V4*SSI_AGI_MajorThruLanes+W4*SSI_AGI_MinorThruLanes+X4*IF(SSI_AGI_MajorThruLanes=1,SSI_AGI_MergeWeightL1,IF(SSI_AGI_MajorThruLanes=2,SSI_AGI_MergeWeightL1+SSI_AGI_MergeWeightL2,SSI_AGI_MergeWeightL1+SSI_AGI_MergeWeightL2+SSI_AGI_MergeWeightL3*(SSI_AGI_MajorThruLanes-2)))+Y4*IF(SSI_AGI_MinorThruLanes=1,SSI_AGI_MergeWeightL1,IF(SSI_AGI_MinorThruLanes=2,SSI_AGI_MergeWeightL1+SSI_AGI_MergeWeightL2,SSI_AGI_MergeWeightL1+SSI_AGI_MergeWeightL2+SSI_AGI_MergeWeightL3*(SSI_AGI_MinorThruLanes-2))),V4*SSI_AGI_MajorThruLanes+W4*SSI_AGI_MinorThruLanes+X4*IF(SSI_AGI_MajorThruLanes=1,SSI_AGI_NM_MergeWeightL1,IF(SSI_AGI_MajorThruLanes=2,SSI_AGI_NM_MergeWeightL1+SSI_AGI_NM_MergeWeightL2,SSI_AGI_NM_MergeWeightL1+SSI_AGI_NM_MergeWeightL2+SSI_AGI_NM_MergeWeightL3*(SSI_AGI_MajorThruLanes-2)))+Y4*IF(SSI_AGI_MinorThruLanes=1,SSI_AGI_NM_MergeWeightL1,IF(SSI_AGI_MinorThruLanes=2,SSI_AGI_NM_MergeWeightL1+SSI_AGI_NM_MergeWeightL2,SSI_AGI_NM_MergeWeightL1+SSI_AGI_NM_MergeWeightL2+SSI_AGI_NM_MergeWeightL3*(SSI_AGI_MinorThruLanes-2)))))","v":4},null,{"$f":"IF(B4=\"Diverging\",\"\",SSI_AGI_VehSpeed_MjrThru)","v":45},{"$f":"IF(B4=\"Diverging\",1,1-((60-AB4)/60*0.1/0.15))","v":0.83333333333333326},null,null,null,{"$f":"IF(SSI_AGI_ConsiderNMComplexity=\"Yes\",1+AE4+AF4,1)","v":1},null,{"$f":"PRODUCT(Z4,T4,AC4,AG4)","v":2.416666666666667},null,{"$f":"L4*R4*AI4","v":{"$error":"#VALUE!"}},null,null,{"$f":"IF(ISNUMBER(SEARCH(AN$3,$D4)),1,\"\")","v":""},{"$f":"IF(ISNUMBER(SEARCH(AO$3,$D4)),1,\"\")","v":""},"","","","",1,"","","","","","","","","",null,{"$f":"IF(ISNUMBER(SEARCH(BE$3,$G4)),1,\"\")","v":1},{"$f":"IF(ISNUMBER(SEARCH(BF$3,$G4)),1,\"\")","v":""},"","","","","","","","","","","","","",""]
[2,"Crossing - LT","NBT","MinT1","Stop near","SBL","MinL2","Stop far",null,{"$f":"SUMPRODUCT($AN5:$BC5,$AN$60:$BC$60)","v":{"$error":"#VALUE!"}},{"$f":"SUMPRODUCT($BE5:$BT5,$BE$60:$BT$60)","v":{"$error":"#VALUE!"}},{"$f":"PRODUCT(J5:K5)","v":{"$error":"#VALUE!"}},null,15,25,230,{"$f":"IF(B5=\"Nonmotorized\",\"\",SQRT(N5^2+O5^2-2*N5*O5*COS(RADIANS(P5)))/2)","v":18.248908921254063},1.4099039069818802E-2,null,0.72500000000000009,null,1,1,1,null,5.75,null,45,0.83333333333333326,null,null,null,1,null,3.473958333333333,null,{"$f":"L5*R5*AI5","v":{"$error":"#VALUE!"}},null,null,{"$f":"IF(ISNUMBER(SEARCH(AN$3,$D5)),1,\"\")","v":""},"","","","","",1,"","","","","","","","","",null,{"$f":"IF(ISNUMBER(SEARCH(BE$3,$G5)),1,\"\")","v":""},"","","","","","","","","",1,"","","","",""]
[3,"Crossing - LT","NBT","MinT1","Stop far","WBL","MajL2","Stop near",null,{"$error":"#VALUE!"},{"$error":"#VALUE!"},{"$error":"#VALUE!"},null,25,15,230,18.248908921254063,1.4099039069818802E-2,null,0.72500000000000009,null,2,null,null,null,4,null,45,0.83333333333333326,null,null,null,1,null,2.416666666666667,null,{"$error":"#VALUE!"},null,null,"","","","","","",1,"","","","","","","","","",null,"","","","",1,"","","","","","","","","","",""]
[4,"Crossing","NBT","MinT1","Stop far","WBT","MajT2","Stop near",null,{"$error":"#VALUE!"},{"$error":"#VALUE!"},{"$error":"#VALUE!"},null,25,15,90,14.577379737113251,6.0240867167528703E-3,null,0.72500000000000009,null,2,null,null,null,4,null,45,0.83333333333333326,null,null,null,1,null,2.416666666666667,null,{"$error":"#VALUE!"},null,null,"","","","","","",1,"","","","","","","","","",null,"","","",1,"","","","","","","","","","","",""]
[5,"Crossing - LT","WBT","MajT2","Stop near","EBL","MajL1","Stop far",null,{"$error":"#VALUE!"},{"$error":"#VALUE!"},{"$error":"#VALUE!"},null,15,25,230,18.248908921254063,1.4099039069818802E-2,null,0.72500000000000009,null,1,null,null,null,2,null,45,0.83333333333333326,null,null,null,1,null,1.2083333333333335,null,{"$error":"#VALUE!"},null,null,"","","",1,"","","","","","","","","","","","",null,"",1,"","","","","","","","","","","","","",""]
[6,"Crossing - LT","WBT","MajT2","Stop far","SBL","MinL2","Stop near",null,{"$error":"#VALUE!"},{"$error":"#VALUE!"},{"$error":"#VALUE!"},null,25,15,230,18.248908921254063,1.4099039069818802E-2,null,0.72500000000000009,null,1,1,1,null,5.75,null,45,0.83333333333333326,null,null,null,1,null,3.473958333333333,null,{"$error":"#VALUE!"},null,null,"","","",1,"","","","","","","","","","","","",null,"","","","","","","","","","",1,"","","","",""]
[7,"Crossing","SBT","MinT2","Stop near","WBT","MajT2","Stop far",null,{"$error":"#VALUE!"},{"$error":"#VALUE!"},{"$error":"#VALUE!"},null,15,25,90,14.577379737113251,6.0240867167528703E-3,null,0.72500000000000009,null,2,null,null,null,4,null,45,0.83333333333333326,null,null,null,1,null,2.416666666666667,null,{"$error":"#VALUE!"},null,null,"","","","","","","","","",1,"","","","","","",null,"","","",1,"","","","","","","","","","","",""]
[8,"Crossing - LT","SBT","MinT2","Stop near","NBL","MinL1","Stop far",null,{"$error":"#VALUE!"},{"$error":"#VALUE!"},{"$error":"#VALUE!"},null,15,25,230,18.248908921254063,1.4099039069818802E-2,null,0.72500000000000009,null,1,1,1,null,5.75,null,45,0.83333333333333326,null,null,null,1,null,3.473958333333333,null,{"$error":"#VALUE!"},null,null,"","","","","","","","","",1,"","","","","","",null,"","","","","","","",1,"","","","","","","",""]
[9,"Crossing - LT","SBT","MinT2","Stop far","EBL","MajL1","Stop near",null,{"$error":"#VALUE!"},{"$error":"#VALUE!"},{"$error":"#VALUE!"},null,25,15,230,18.248908921254063,1.4099039069818802E-2,null,0.72500000000000009,null,2,null,null,null,4,null,45,0.83333333333333326,null,null,null,1,null,2.416666666666667,null,{"$error":"#VALUE!"},null,null,"","","","","","","","","",1,"","","","","","",null,"",1,"","","","","","","","","","","","","",""]
[10,"Crossing","SBT","MinT2","Stop far","EBT","MajT1","Stop near",null,{"$error":"#VALUE!"},{"$error":"#VALUE!"},{"$error":"#VALUE!"},null,25,15,90,14.577379737113251,6.0240867167528703E-3,null,0.72500000000000009,null,2,null,null,null,4,null,45,0.83333333333333326,null,null,null,1,null,2.416666666666667,null,{"$error":"#VALUE!"},null,null,"","","","","","","","","",1,"","","","","","",null,1,"","","","","","","","","","","","","","",""]
[11,"Crossing - LT","EBT","MajT1","Stop near","WBL","MajL2","Stop far",null,{"$error":"#VALUE!"},{"$error":"#VALUE!"},{"$error":"#VALUE!"},null,15,25,230,18.248908921254063,1.4099039069818802E-2,null,0.72500000000000009,null,1,null,null,null,2,null,45,0.83333333333333326,null,null,null,1,null,1.2083333333333335,null,{"$error":"#VALUE!"},null,null,1,"","","","","","","","","","","","","","","",null,"","","","",1,"","","","","","","","","","",""]
[12,"Crossing - LT","EBT","MajT1","Stop far","NBL","MinL1","Stop near",null,{"$error":"#VALUE!"},{"$error":"#VALUE!"},{"$error":"#VALUE!"},null,25,15,230,18.248908921254063,1.4099039069818802E-2,null,0.72500000000000009,null,1,1,1,null,5.75,null,45,0.83333333333333326,null,null,null,1,null,3.473958333333333,null,{"$error":"#VALUE!"},null,null,1,"","","","","","","","","","","","","","","",null,"","","","","","","",1,"","","","","","","",""]
[13,"Crossing - LT","NBL","MinL1","Stop near","WBL","MajL2","Stop far",null,{"$error":"#VALUE!"},{"$error":"#VALUE!"},{"$error":"#VALUE!"},null,15,25,230,18.248908921254063,1.4099039069818802E-2,null,0.72500000000000009,null,1,1,1,null,5.75,null,45,0.83333333333333326,null,null,null,1,null,3.473958333333333,null,{"$error":"#VALUE!"},null,null,"","","","","","","",1,"","","","","","","","",null,"","","","",1,"","","","","","","","","","",""]
[14,"Crossing - LT","NBL","MinL1","Stop near","EBL","MajL1","Stop near",null,{"$error":"#VALUE!"},{"$error":"#VALUE!"},{"$error":"#VALUE!"},null,15,15,230,13.59461680554975,4.62405573320822E-3,null,0.72500000000000009,null,1,1,1,null,5.75,null,45,0.83333333333333326,null,null,null,1,null,3.473958333333333,null,{"$error":"#VALUE!"},null,null,"","","","","","","",1,"","","","","","","","",null,"",1,"","","","","","","","","","","","","",""]
[15,"Crossing - LT","SBL","MinL2","Stop near","EBL","MajL1","Stop far",null,{"$error":"#VALUE!"},{"$error":"#VALUE!"},{"$error":"#VALUE!"},null,15,25,230,18.248908921254063,1.4099039069818802E-2,null,0.72500000000000009,null,1,1,1,null,5.75,null,45,0.83333333333333326,null,null,null,1,null,3.473958333333333,null,{"$error":"#VALUE!"},null,null,"","","","","","","","","","",1,"","","","","",null,"",1,"","","","","","","","","","","","","",""]
[16,"Crossing - LT","SBL","MinL2","Stop near","WBL","MajL2","Stop near",null,{"$error":"#VALUE!"},{"$error":"#VALUE!"},{"$error":"#VALUE!"},null,15,15,230,13.59461680554975,4.62405573320822E-3,null,0.72500000000000009,null,1,1,1,null,5.75,null,45,0.83333333333333326,null,null,null,1,null,3.473958333333333,null,{"$error":"#VALUE!"},null,null,"","","","","","","","","","",1,"","","","","",null,"","","","",1,"","","","","","","","","","",""]
[17,"Merging","EBT","MajT1","Stop far","SBL","MinL2","Stop far",null,{"$error":"#VALUE!"},{"$error":"#VALUE!"},{"$error":"#VALUE!"},null,25,25,45,9.5670858091272439,1.2201154392262267E-3,null,0.72500000000000009,null,1,1,1,null,5.75,null,45,0.83333333333333326,null,null,null,1,null,3.473958333333333,null,{"$error":"#VALUE!"},null,null,1,"","","","","","","","","","","","","","","",null,"","","","","","","","","","",1,"","","","",""]
[18,"Merging","EBT","MajT1","Stop far","NBR","MinR1","Stop near",null,{"$error":"#VALUE!"},{"$error":"#VALUE!"},{"$error":"#VALUE!"},null,25,15,45,8.9396576292116645,9.4329959592674944E-4,null,0.72500000000000009,null,null,null,1,null,1.75,null,45,0.83333333333333326,null,null,null,1,null,1.0572916666666667,null,{"$error":"#VALUE!"},null,null,1,"","","","","","","","","","","","","","","",null,"","","","","","","","",1,"","","","","","",""]
[19,"Merging","NBT","MinT1","Stop far","EBL","MajL1","Stop far",null,{"$error":"#VALUE!"},{"$error":"#VALUE!"},{"$error":"#VALUE!"},null,25,25,45,9.5670858091272439,1.2201154392262267E-3,null,0.72500000000000009,null,2,null,null,null,4,null,45,0.83333333333333326,null,null,null,1,null,2.416666666666667,null,{"$error":"#VALUE!"},null,null,"","","","","","",1,"","","","","","","","","",null,"",1,"","","","","","","","","","","","","",""]
[20,"Merging","NBT","MinT1","Stop far","WBR","MajR2","Stop near",null,{"$error":"#VALUE!"},{"$error":"#VALUE!"},{"$error":"#VALUE!"},null,25,15,45,8.9396576292116645,9.4329959592674944E-4,null,0.72500000000000009,null,2,null,null,null,4,null,45,0.83333333333333326,null,null,null,1,null,2.416666666666667,null,{"$error":"#VALUE!"},null,null,"","","","","","",1,"","","","","","","","","",null,"","","","","",1,"","","","","","","","","",""]
[21,"Merging","WBT","MajT2","Stop far","NBL","MinL1","Stop far",null,{"$error":"#VALUE!"},{"$error":"#VALUE!"},{"$error":"#VALUE!"},null,25,25,45,9.5670858091272439,1.2201154392262267E-3,null,0.72500000000000009,null,1,1,1,null,5.75,null,45,0.83333333333333326,null,null,null,1,null,3.473958333333333,null,{"$error":"#VALUE!"},null,null,"","","",1,"","","","","","","","","","","","",null,"","","","","","","",1,"","","","","","","",""]
[22,"Merging","WBT","MajT2","Stop far","SBR","MinR2","Stop near",null,{"$error":"#VALUE!"},{"$error":"#VALUE!"},{"$error":"#VALUE!"},null,25,15,45,8.9396576292116645,9.4329959592674944E-4,null,0.72500000000000009,null,null,null,1,null,1.75,null,45,0.83333333333333326,null,null,null,1,null,1.0572916666666667,null,{"$error":"#VALUE!"},null,null,"","","",1,"","","","","","","","","","","","",null,"","","","","","","","","","","",1,"","","",""]
[23,"Merging","SBT","MinT2","Stop far","WBL","MajL2","Stop far",null,{"$error":"#VALUE!"},{"$error":"#VALUE!"},{"$error":"#VALUE!"},null,25,25,45,9.5670858091272439,1.2201154392262267E-3,null,0.72500000000000009,null,2,null,null,null,4,null,45,0.83333333333333326,null,null,null,1,null,2.416666666666667,null,{"$error":"#VALUE!"},null,null,"","","","","","","","","",1,"","","","","","",null,"","","","",1,"","","","","","","","","","",""]
[24,"Merging","SBT","MinT2","Stop far","EBR","MajR1","Stop near",null,{"$error":"#VALUE!"},{"$error":"#VALUE!"},{"$error":"#VALUE!"},null,25,15,45,8.9396576292116645,9.4329959592674944E-4,null,0.72500000000000009,null,2,null,null,null,4,null,45,0.83333333333333326,null,null,null,1,null,2.416666666666667,null,{"$error":"#VALUE!"},null,null,"","","","","","","","","",1,"","","","","","",null,"","",1,"","","","","","","","","","","","",""]
[25,"Diverging","NBT","MinT1","Stop near","NBL","MinL1","Stop near",null,{"$error":"#VALUE!"},{"$error":"#VALUE!"},{"$error":"#VALUE!"},null,15,15,10,1.3073361412148754,6.4061388075216071E-7,null,1,null,null,null,null,null,1,null,"",1,null,null,null,1,null,1,null,{"$error":"#VALUE!"},null,null,"","","","","","",1,"","","","","","","","","",null,"","","","","","","",1,"","","","","","","",""]
[26,"Diverging","NBT","MinT1","Stop near","NBR","MinR1","Stop near",null,{"$error":"#VALUE!"},{"$error":"#VALUE!"},{"$error":"#VALUE!"},null,15,15,10,1.3073361412148754,6.4061388075216071E-7,null,1,null,null,null,null,null,1,null,"",1,null,null,null,1,null,1,null,{"$error":"#VALUE!"},null,null,"","","","","","",1,"","","","","","","","","",null,"","","","","","","","",1,"","","","","","",""]
[27,"Diverging","WBT","MajT2","Stop near","WBR","MajR2","Stop near",null,{"$error":"#VALUE!"},{"$error":"#VALUE!"},{"$error":"#VALUE!"},null,15,15,10,1.3073361412148754,6.4061388075216071E-7,null,1,null,null,null,null,null,1,null,"",1,null,null,null,1,null,1,null,{"$error":"#VALUE!"},null,null,"","","",1,"","","","","","","","","","","","",null,"","","","","",1,"","","","","","","","","",""]
[28,"Diverging","WBT","MajT2","Stop near","WBL","MajL2","Stop near",null,{"$error":"#VALUE!"},{"$error":"#VALUE!"},{"$error":"#VALUE!"},null,15,15,10,1.3073361412148754,6.4061388075216071E-7,null,1,null,null,null,null,null,1,null,"",1,null,null,null,1,null,1,null,{"$error":"#VALUE!"},null,null,"","","",1,"","","","","","","","","","","","",null,"","","","",1,"","","","","","","","","","",""]
[29,"Diverging","SBT","MinT2","Stop near","SBL","MinL2","Stop near",null,{"$error":"#VALUE!"},{"$error":"#VALUE!"},{"$error":"#VALUE!"},null,15,15,10,1.3073361412148754,6.4061388075216071E-7,null,1,null,null,null,null,null,1,null,"",1,null,null,null,1,null,1,null,{"$error":"#VALUE!"},null,null,"","","","","","","","","",1,"","","","","","",null,"","","","","","","","","","",1,"","","","",""]
[30,"Diverging","SBT","MinT2","Stop near","SBR","MinR2","Stop near",null,{"$error":"#VALUE!"},{"$error":"#VALUE!"},{"$error":"#VALUE!"},null,15,15,10,1.3073361412148754,6.4061388075216071E-7,null,1,null,null,null,null,null,1,null,"",1,null,null,null,1,null,1,null,{"$error":"#VALUE!"},null,null,"","","","","","","","","",1,"","","","","","",null,"","","","","","","","","","","",1,"","","",""]
[31,"Diverging","EBT","MajT1","Stop near","EBR","MajR1","Stop near",null,{"$error":"#VALUE!"},{"$error":"#VALUE!"},{"$error":"#VALUE!"},null,15,15,10,1.3073361412148754,6.4061388075216071E-7,null,1,null,null,null,null,null,1,null,"",1,null,null,null,1,null,1,null,{"$error":"#VALUE!"},null,null,1,"","","","","","","","","","","","","","","",null,"","",1,"","","","","","","","","","","","",""]
[32,"Diverging","EBT","MajT1","Stop near","EBL","MajL1","Stop near",null,{"$error":"#VALUE!"},{"$error":"#VALUE!"},{"$error":"#VALUE!"},null,15,15,10,1.3073361412148754,6.4061388075216071E-7,null,1,null,null,null,null,null,1,null,"",1,null,null,null,1,null,1,null,{"$error":"#VALUE!"},null,null,{"$f":"IF(ISNUMBER(SEARCH(AN$3,$D35)),1,\"\")","v":1},"","","","","","","","","","","","","","","",null,{"$f":"IF(ISNUMBER(SEARCH(BE$3,$G35)),1,\"\")","v":""},1,"","","","","","","","","","","","","",""]
[33,"Nonmotorized",null,"MajNM2","Nonmotorized",null,"MinR1","Stop near",null,{"$error":"#VALUE!"},{"$error":"#VALUE!"},{"$error":"#VALUE!"},null,{"$f":"VLOOKUP(E36,SSI_AGI_Range_VehSpeed,5,FALSE)","v":0},{"$f":"VLOOKUP(H36,SSI_AGI_Range_VehSpeed,5,FALSE)","v":15},{"$f":"IF(B36=\"Nonmotorized\",\"\",VLOOKUP(B36,SSI_AGI_Range_CollAngles,5,FALSE))","v":""},{"$f":"IF(B36=\"Nonmotorized\",\"\",SQRT(N36^2+O36^2-2*N36*O36*COS(RADIANS(P36)))/2)","v":""},{"$f":"IF(B36=\"Nonmotorized\",1/(1+EXP(3.8432-0.1237*O36)),(Q36/SSI_AGI_RegAlpha)^SSI_AGI_RegK+(Q36/SSI_AGI_RegAlpha)^SSI_AGI_RegK-((Q36/SSI_AGI_RegAlpha)^SSI_AGI_RegK)*((Q36/SSI_AGI_RegAlpha)^SSI_AGI_RegK))","v":0.1205004039155782},null,{"$f":"SSI_AGI_StopFactor","v":0.72500000000000009},null,2,null,null,2,{"$f":"MAX(1,IF(B36<>\"Pedestrian\",V36*SSI_AGI_MajorThruLanes+W36*SSI_AGI_MinorThruLanes+X36*IF(SSI_AGI_MajorThruLanes=1,SSI_AGI_MergeWeightL1,IF(SSI_AGI_MajorThruLanes=2,SSI_AGI_MergeWeightL1+SSI_AGI_MergeWeightL2,SSI_AGI_MergeWeightL1+SSI_AGI_MergeWeightL2+SSI_AGI_MergeWeightL3*(SSI_AGI_MajorThruLanes-2)))+Y36*IF(SSI_AGI_MinorThruLanes=1,SSI_AGI_MergeWeightL1,IF(SSI_AGI_MinorThruLanes=2,SSI_AGI_MergeWeightL1+SSI_AGI_MergeWeightL2,SSI_AGI_MergeWeightL1+SSI_AGI_MergeWeightL2+SSI_AGI_MergeWeightL3*(SSI_AGI_MinorThruLanes-2))),V36*SSI_AGI_MajorThruLanes+W36*SSI_AGI_MinorThruLanes+X36*IF(SSI_AGI_MajorThruLanes=1,SSI_AGI_NM_MergeWeightL1,IF(SSI_AGI_MajorThruLanes=2,SSI_AGI_NM_MergeWeightL1+SSI_AGI_NM_MergeWeightL2,SSI_AGI_NM_MergeWeightL1+SSI_AGI_NM_MergeWeightL2+SSI_AGI_NM_MergeWeightL3*(SSI_AGI_MajorThruLanes-2)))+Y36*IF(SSI_AGI_MinorThruLanes=1,SSI_AGI_NM_MergeWeightL1,IF(SSI_AGI_MinorThruLanes=2,SSI_AGI_NM_MergeWeightL1+SSI_AGI_NM_MergeWeightL2,SSI_AGI_NM_MergeWeightL1+SSI_AGI_NM_MergeWeightL2+SSI_AGI_NM_MergeWeightL3*(SSI_AGI_MinorThruLanes-2)))))","v":7.5},null,{"$f":"IF(B36=\"Diverging\",\"\",SSI_AGI_VehSpeed_MjrThru)","v":45},0.83333333333333326,null,null,null,{"$f":"IF(SSI_AGI_ConsiderNMComplexity=\"Yes\",1+AE36+AF36,1)","v":1},null,4.53125,null,{"$error":"#VALUE!"},null,null,"","","","","","","","","","","","","",1,"","",null,"","","","","","","","",1,"","","","","","",""]
[34,"Nonmotorized",null,"MajNM2","Nonmotorized",null,"MajT1","Stop far",null,{"$error":"#VALUE!"},{"$error":"#VALUE!"},{"$f":"PRODUCT(J37:K37)","v":{"$error":"#VALUE!"}},null,0,25,"","",0.32066879346345062,null,0.72500000000000009,null,2,null,null,2,7.5,null,45,0.83333333333333326,null,null,null,1,null,4.53125,null,{"$error":"#VALUE!"},null,null,"","","","","","","","","","","","","",1,"","",null,1,"","","","","","","","","","","","","","",""]
[35,"Nonmotorized",null,"MajNM2","Nonmotorized",null,"MinL2","Stop far",null,{"$error":"#VALUE!"},{"$error":"#VALUE!"},{"$error":"#VALUE!"},null,0,25,"","",0.32066879346345062,null,0.72500000000000009,null,2,null,null,2,7.5,null,45,0.83333333333333326,null,null,null,1,null,4.53125,null,{"$error":"#VALUE!"},null,null,"","","","","","","","","","","","","",1,"","",null,"","","","","","","","","","",1,"","","","",""]
[36,"Nonmotorized",null,"MajNM2","Nonmotorized",null,"MajL2","Stop near",null,{"$error":"#VALUE!"},{"$error":"#VALUE!"},{"$error":"#VALUE!"},null,0,15,"","",0.1205004039155782,null,0.72500000000000009,null,2,null,null,2,7.5,null,45,0.83333333333333326,null,null,null,1,null,4.53125,null,{"$error":"#VALUE!"},null,null,"","","","","","","","","","","","","",1,"","",null,"","","","",1,"","","","","","","","","","",""]
[37,"Nonmotorized",null,"MajNM2","Nonmotorized",null,"MajT2","Stop near",null,{"$error":"#VALUE!"},{"$error":"#VALUE!"},{"$error":"#VALUE!"},null,0,15,"","",0.1205004039155782,null,0.72500000000000009,null,2,null,null,2,7.5,null,45,0.83333333333333326,null,null,null,1,null,4.53125,null,{"$error":"#VALUE!"},null,null,"","","","","","","","","","","","","",1,"","",null,"","","",1,"","","","","","","","","","","",""]
[38,"Nonmotorized",null,"MajNM2","Nonmotorized",null,"MajR2","Stop near",null,{"$error":"#VALUE!"},{"$error":"#VALUE!"},{"$error":"#VALUE!"},null,0,15,"","",0.1205004039155782,null,0.72500000000000009,null,2,null,null,2,7.5,null,45,0.83333333333333326,null,null,null,1,null,4.53125,null,{"$error":"#VALUE!"},null,null,"","","","","","","","","","","","","",1,"","",null,"","","","","",1,"","","","","","","","","",""]
[39,"Nonmotorized",null,"MinNM2","Nonmotorized",null,"MajR2","Stop near",null,{"$error":"#VALUE!"},{"$error":"#VALUE!"},{"$error":"#VALUE!"},null,0,15,"","",0.1205004039155782,null,0.72500000000000009,null,null,2,2,null,7.5,null,45,0.83333333333333326,null,null,null,1,null,4.53125,null,{"$error":"#VALUE!"},null,null,"","","","","","","","","","","","","","","",1,null,"","","","","",1,"","","","","","","","","",""]
[40,"Nonmotorized",null,"MinNM2","Nonmotorized",null,"MinT1","Stop far",null,{"$error":"#VALUE!"},{"$error":"#VALUE!"},{"$error":"#VALUE!"},null,0,25,"","",0.32066879346345062,null,0.72500000000000009,null,null,2,2,null,7.5,null,45,0.83333333333333326,null,null,null,1,null,4.53125,null,{"$error":"#VALUE!"},null,null,"","","","","","","","","","","","","","","",1,null,"","","","","","",1,"","","","","","","","",""]
[41,"Nonmotorized",null,"MinNM2","Nonmotorized",null,"MajL1","Stop far",null,{"$error":"#VALUE!"},{"$error":"#VALUE!"},{"$error":"#VALUE!"},null,0,25,"","",0.32066879346345062,null,0.72500000000000009,null,null,2,2,null,7.5,null,45,0.83333333333333326,null,null,null,1,null,4.53125,null,{"$error":"#VALUE!"},null,null,"","","","","","","","","","","","","","","",1,null,"",1,"","","","","","","","","","","","","",""]
[42,"Nonmotorized",null,"MinNM2","Nonmotorized",null,"MinL2","Stop near",null,{"$error":"#VALUE!"},{"$error":"#VALUE!"},{"$error":"#VALUE!"},null,0,15,"","",0.1205004039155782,null,0.72500000000000009,null,null,2,2,null,7.5,null,45,0.83333333333333326,null,null,null,1,null,4.53125,null,{"$error":"#VALUE!"},null,null,"","","","","","","","","","","","","","","",1,null,"","","","","","","","","","",1,"","","","",""]
[43,"Nonmotorized",null,"MinNM2","Nonmotorized",null,"MinT2","Stop near",null,{"$error":"#VALUE!"},{"$error":"#VALUE!"},{"$error":"#VALUE!"},null,0,15,"","",0.1205004039155782,null,0.72500000000000009,null,null,2,2,null,7.5,null,45,0.83333333333333326,null,null,null,1,null,4.53125,null,{"$error":"#VALUE!"},null,null,"","","","","","","","","","","","","","","",1,null,"","","","","","","","","",1,"","","","","",""]
[44,"Nonmotorized",null,"MinNM2","Nonmotorized",null,"MinR2","Stop near",null,{"$error":"#VALUE!"},{"$error":"#VALUE!"},{"$error":"#VALUE!"},null,0,15,"","",0.1205004039155782,null,0.72500000000000009,null,null,2,2,null,7.5,null,45,0.83333333333333326,null,null,null,1,null,4.53125,null,{"$error":"#VALUE!"},null,null,"","","","","","","","","","","","","","","",1,null,"","","","","","","","","","","",1,"","","",""]
[45,"Nonmotorized",null,"MajNM1","Nonmotorized",null,"MinR2","Stop near",null,{"$error":"#VALUE!"},{"$error":"#VALUE!"},{"$error":"#VALUE!"},null,0,15,"","",0.1205004039155782,null,0.72500000000000009,null,2,null,null,2,7.5,null,45,0.83333333333333326,null,null,null,1,null,4.53125,null,{"$error":"#VALUE!"},null,null,"","","","","","","","","","","","",1,"","","",null,"","","","","","","","","","","",1,"","","",""]
[46,"Nonmotorized",null,"MajNM1","Nonmotorized",null,"MajT2","Stop far",null,{"$error":"#VALUE!"},{"$error":"#VALUE!"},{"$error":"#VALUE!"},null,0,25,"","",0.32066879346345062,null,0.72500000000000009,null,2,null,null,2,7.5,null,45,0.83333333333333326,null,null,null,1,null,4.53125,null,{"$error":"#VALUE!"},null,null,"","","","","","","","","","","","",1,"","","",null,"","","",1,"","","","","","","","","","","",""]
[47,"Nonmotorized",null,"MajNM1","Nonmotorized",null,"MinL1","Stop far",null,{"$error":"#VALUE!"},{"$error":"#VALUE!"},{"$error":"#VALUE!"},null,0,25,"","",0.32066879346345062,null,0.72500000000000009,null,2,null,null,2,7.5,null,45,0.83333333333333326,null,null,null,1,null,4.53125,null,{"$error":"#VALUE!"},null,null,"","","","","","","","","","","","",1,"","",{"$f":"IF(ISNUMBER(SEARCH(BC$3,$D50)),1,\"\")","v":""},null,"","","","","","","",1,"","","","","","","",{"$f":"IF(ISNUMBER(SEARCH(BT$3,$G50)),1,\"\")","v":""}]
[48,"Nonmotorized",null,"MajNM1","Nonmotorized",null,"MajL1","Stop near",null,{"$error":"#VALUE!"},{"$error":"#VALUE!"},{"$error":"#VALUE!"},null,0,15,"","",0.1205004039155782,null,0.72500000000000009,null,2,null,null,2,7.5,null,45,0.83333333333333326,null,null,null,1,null,4.53125,null,{"$error":"#VALUE!"},null,null,{"$f":"IF(ISNUMBER(SEARCH(AN$3,$D51)),1,\"\")","v":""},"","","","","","","","","","","",1,"","","",null,{"$f":"IF(ISNUMBER(SEARCH(BE$3,$G51)),1,\"\")","v":""},1,"","","","","","","","","","","","","",""]
[49,"Nonmotorized",null,"MajNM1","Nonmotorized",null,"MajT1","Stop near",null,{"$error":"#VALUE!"},{"$error":"#VALUE!"},{"$error":"#VALUE!"},null,0,15,"","",0.1205004039155782,null,0.72500000000000009,null,2,null,null,2,7.5,null,45,0.83333333333333326,null,null,null,1,null,4.53125,null,{"$error":"#VALUE!"},null,null,"","","","","","","","","","","","",1,"","","",null,1,"","","","","","","","","","","","","","",""]
[50,"Nonmotorized",null,"MajNM1","Nonmotorized",null,"MajR1","Stop near",null,{"$error":"#VALUE!"},{"$error":"#VALUE!"},{"$error":"#VALUE!"},null,0,15,"","",0.1205004039155782,null,0.72500000000000009,null,2,null,null,2,7.5,null,45,0.83333333333333326,null,null,null,1,null,4.53125,null,{"$error":"#VALUE!"},null,null,"","","","","","","","","","","","",1,"","","",null,"","",1,"","","","","","","","","","","","",""]
[51,"Nonmotorized",null,"MinNM1","Nonmotorized",null,"MajR1","Stop near",null,{"$error":"#VALUE!"},{"$error":"#VALUE!"},{"$error":"#VALUE!"},null,0,15,"","",0.1205004039155782,null,0.72500000000000009,null,null,2,2,null,7.5,null,45,0.83333333333333326,null,null,null,1,null,4.53125,null,{"$error":"#VALUE!"},null,null,"","","","","","","","","","","","","","",1,"",null,"","",1,"","","","","","","","","","","","",""]
[52,"Nonmotorized",null,"MinNM1","Nonmotorized",null,"MinT2","Stop far",null,{"$error":"#VALUE!"},{"$error":"#VALUE!"},{"$error":"#VALUE!"},null,0,25,"","",0.32066879346345062,null,0.72500000000000009,null,null,2,2,null,7.5,null,45,0.83333333333333326,null,null,null,1,null,4.53125,null,{"$error":"#VALUE!"},null,null,"","","","","","","","","","","","","","",1,"",null,"","","","","","","","","",1,"","","","","",""]
[53,"Nonmotorized",null,"MinNM1","Nonmotorized",null,"MajL2","Stop far",null,{"$error":"#VALUE!"},{"$error":"#VALUE!"},{"$error":"#VALUE!"},null,0,25,"","",0.32066879346345062,null,0.72500000000000009,null,null,2,2,null,7.5,null,45,0.83333333333333326,null,null,null,1,null,4.53125,null,{"$error":"#VALUE!"},null,null,"","","","","","","","","","","","","","",1,"",null,"","","","",1,"","","","","","","","","","",""]
[54,"Nonmotorized",null,"MinNM1","Nonmotorized",null,"MinL1","Stop near",null,{"$error":"#VALUE!"},{"$error":"#VALUE!"},{"$error":"#VALUE!"},null,0,15,"","",0.1205004039155782,null,0.72500000000000009,null,null,2,2,null,7.5,null,45,0.83333333333333326,null,null,null,1,null,4.53125,null,{"$error":"#VALUE!"},null,null,"","","","","","","","","","","","","","",1,"",null,"","","","","","","",1,"","","","","","","",""]
[55,"Nonmotorized",null,"MinNM1","Nonmotorized",null,"MinT1","Stop near",null,{"$error":"#VALUE!"},{"$error":"#VALUE!"},{"$error":"#VALUE!"},null,0,15,"","",0.1205004039155782,null,0.72500000000000009,null,null,2,2,null,7.5,null,45,0.83333333333333326,null,null,null,1,null,4.53125,null,{"$error":"#VALUE!"},null,null,"","","","","","","","","","","","","","",1,"",null,"","","","","","",1,"","","","","","","","",""]
[56,"Nonmotorized",null,"MinNM1","Nonmotorized",null,"MinR1","Stop near",null,{"$error":"#VALUE!"},{"$error":"#VALUE!"},{"$error":"#VALUE!"},null,0,15,"","",0.1205004039155782,null,0.72500000000000009,null,null,2,2,null,7.5,null,45,0.83333333333333326,null,null,null,1,null,4.53125,null,{"$error":"#VALUE!"},null,null,"","","","","","","","","","","","","","",1,"",null,"","","","","","","","",1,"","","","","","",""]
[null,null,null,null,null,null,null,null,null,null,null,null,null,null,null,null,null,null,null,null,null,null,null,null,null,null,null,null,null,null,null,null,null,null,null,null,null,null,"O",{"$f":"'SSI Inputs'!$D$26","v":{"$error":"#VALUE!"}},{"$f":"'SSI Inputs'!$D$27","v":{"$error":"#VALUE!"}},{"$f":"'SSI Inputs'!$D$28","v":{"$error":"#VALUE!"}},{"$f":"'SSI Inputs'!$D$30","v":{"$error":"#VALUE!"}},{"$f":"'SSI Inputs'!$D$31","v":{"$error":"#VALUE!"}},{"$f":"'SSI Inputs'!$D$32","v":{"$error":"#VALUE!"}},{"$f":"'SSI Inputs'!$D$34","v":{"$error":"#VALUE!"}},{"$f":"'SSI Inputs'!$D$35","v":{"$error":"#VALUE!"}},{"$f":"'SSI Inputs'!$D$36","v":{"$error":"#VALUE!"}},{"$f":"'SSI Inputs'!$D$38","v":{"$error":"#VALUE!"}},{"$f":"'SSI Inputs'!$D$39","v":{"$error":"#VALUE!"}},{"$f":"'SSI Inputs'!$D$40","v":{"$error":"#VALUE!"}},{"$f":"'SSI Inputs'!$Q$18","v":175},{"$f":"'SSI Inputs'!$Q$19","v":175},{"$f":"'SSI Inputs'!$Q$20","v":175},{"$f":"'SSI Inputs'!$Q$21","v":175},"O",{"$f":"'SSI Inputs'!$D$26","v":{"$error":"#VALUE!"}},{"$f":"'SSI Inputs'!$D$27","v":{"$error":"#VALUE!"}},{"$f":"'SSI Inputs'!$D$28","v":{"$error":"#VALUE!"}},{"$f":"'SSI Inputs'!$D$30","v":{"$error":"#VALUE!"}},{"$f":"'SSI Inputs'!$D$31","v":{"$error":"#VALUE!"}},{"$f":"'SSI Inputs'!$D$32","v":{"$error":"#VALUE!"}},{"$f":"'SSI Inputs'!$D$34","v":{"$error":"#VALUE!"}},{"$f":"'SSI Inputs'!$D$35","v":{"$error":"#VALUE!"}},{"$f":"'SSI Inputs'!$D$36","v":{"$error":"#VALUE!"}},{"$f":"'SSI Inputs'!$D$38","v":{"$error":"#VALUE!"}},{"$f":"'SSI Inputs'!$D$39","v":{"$error":"#VALUE!"}},{"$f":"'SSI Inputs'!$D$40","v":{"$error":"#VALUE!"}},{"$f":"'SSI Inputs'!$Q$18","v":175},{"$f":"'SSI Inputs'!$Q$19","v":175},{"$f":"'SSI Inputs'!$Q$20","v":175},{"$f":"'SSI Inputs'!$Q$21","v":175}]
[null,null,null,null,null,null,null,null,null,null,null,null,null,null,null,null,null,null,null,null,null,null,null,null,null,null,null,null,null,null,null,null,null,null,null,null,null,null,"D",{"$f":"'SSI Inputs'!$E$26","v":{"$error":"#VALUE!"}},{"$f":"'SSI Inputs'!$E$27","v":{"$error":"#VALUE!"}},{"$f":"'SSI Inputs'!$E$28","v":{"$error":"#VALUE!"}},{"$f":"'SSI Inputs'!$E$30","v":{"$error":"#VALUE!"}},{"$f":"'SSI Inputs'!$E$31","v":{"$error":"#VALUE!"}},{"$f":"'SSI Inputs'!$E$32","v":{"$error":"#VALUE!"}},{"$f":"'SSI Inputs'!$E$34","v":{"$error":"#VALUE!"}},{"$f":"'SSI Inputs'!$E$35","v":{"$error":"#VALUE!"}},{"$f":"'SSI Inputs'!$E$36","v":{"$error":"#VALUE!"}},{"$f":"'SSI Inputs'!$E$38","v":{"$error":"#VALUE!"}},{"$f":"'SSI Inputs'!$E$39","v":{"$error":"#VALUE!"}},{"$f":"'SSI Inputs'!$E$40","v":{"$error":"#VALUE!"}},{"$f":"'SSI Inputs'!$R$18","v":175},{"$f":"'SSI Inputs'!$R$19","v":175},{"$f":"'SSI Inputs'!$R$20","v":175},{"$f":"'SSI Inputs'!$R$21","v":175},"D",{"$f":"'SSI Inputs'!$E$26","v":{"$error":"#VALUE!"}},{"$f":"'SSI Inputs'!$E$27","v":{"$error":"#VALUE!"}},{"$f":"'SSI Inputs'!$E$28","v":{"$error":"#VALUE!"}},{"$f":"'SSI Inputs'!$E$30","v":{"$error":"#VALUE!"}},{"$f":"'SSI Inputs'!$E$31","v":{"$error":"#VALUE!"}},{"$f":"'SSI Inputs'!$E$32","v":{"$error":"#VALUE!"}},{"$f":"'SSI Inputs'!$E$34","v":{"$error":"#VALUE!"}},{"$f":"'SSI Inputs'!$E$35","v":{"$error":"#VALUE!"}},{"$f":"'SSI Inputs'!$E$36","v":{"$error":"#VALUE!"}},{"$f":"'SSI Inputs'!$E$38","v":{"$error":"#VALUE!"}},{"$f":"'SSI Inputs'!$E$39","v":{"$error":"#VALUE!"}},{"$f":"'SSI Inputs'!$E$40","v":{"$error":"#VALUE!"}},{"$f":"'SSI Inputs'!$R$18","v":175},{"$f":"'SSI Inputs'!$R$19","v":175},{"$f":"'SSI Inputs'!$R$20","v":175},{"$f":"'SSI Inputs'!$R$21","v":175}]
[]
[]
[]
[]
[]
[]
[]
[]
[]
[]
[]
[]
[]
[]
[]
[]
[]
[]
[]
[]
[]
[]
[]
[]
[]
[]
[]
[]
[]
[]
[]
[]
[]
[]
[]
[]
[]
[]
[]
[null,null,null,null,null,null,null,null,null,"Exposure",null,null,null,null,null,null,null,null,null,null,null,null,null,null,null,null,null,null,null,null,null,null,null,null,null,null,"Exposure-Severity-Complexity Product"]
[null,null,null,null,null,null,null,null,null,"Q1","Q2","I"]
[null,null,null,null,null,null,null,null,null,{"$f":"SUMPRODUCT($AN4:$BC4,$AN$61:$BC$61)","v":{"$error":"#VALUE!"}},{"$f":"SUMPRODUCT($BE4:$BT4,$BE$61:$BT$61)","v":{"$error":"#VALUE!"}},{"$f":"PRODUCT(J103:K103)","v":{"$error":"#VALUE!"}},null,null,null,null,null,null,null,null,null,null,null,null,null,null,null,null,null,null,null,null,null,null,null,null,{"$f":"L103*R4*AI4","v":{"$error":"#VALUE!"}}]
[null,null,null,null,null,null,null,null,null,{"$f":"SUMPRODUCT($AN5:$BC5,$AN$61:$BC$61)","v":{"$error":"#VALUE!"}},{"$f":"SUMPRODUCT($BE5:$BT5,$BE$61:$BT$61)","v":{"$error":"#VALUE!"}},{"$f":"PRODUCT(J104:K104)","v":{"$error":"#VALUE!"}},null,null,null,null,null,null,null,null,null,null,null,null,null,null,null,null,null,null,null,null,null,null,null,null,{"$f":"L104*R5*AI5","v":{"$error":"#VALUE!"}}]
[null,null,null,null,null,null,null,null,null,{"$error":"#VALUE!"},{"$error":"#VALUE!"},{"$error":"#VALUE!"},null,null,null,null,null,null,null,null,null,null,null,null,null,null,null,null,null,null,null,null,null,null,null,null,{"$error":"#VALUE!"}]
[null,null,null,null,null,null,null,null,null,{"$error":"#VALUE!"},{"$error":"#VALUE!"},{"$error":"#VALUE!"},null,null,null,null,null,null,null,null,null,null,null,null,null,null,null,null,null,null,null,null,null,null,null,null,{"$error":"#VALUE!"}]
[null,null,null,null,null,null,null,null,null,{"$error":"#VALUE!"},{"$error":"#VALUE!"},{"$error":"#VALUE!"},null,null,null,null,null,null,null,null,null,null,null,null,null,null,null,null,null,null,null,null,null,null,null,null,{"$error":"#VALUE!"}]
[null,null,null,null,null,null,null,null,null,{"$error":"#VALUE!"},{"$error":"#VALUE!"},{"$error":"#VALUE!"},null,null,null,null,null,null,null,null,null,null,null,null,null,null,null,null,null,null,null,null,null,null,null,null,{"$error":"#VALUE!"}]
[null,null,null,null,null,null,null,null,null,{"$error":"#VALUE!"},{"$error":"#VALUE!"},{"$error":"#VALUE!"},null,null,null,null,null,null,null,null,null,null,null,null,null,null,null,null,null,null,null,null,null,null,null,null,{"$error":"#VALUE!"}]
[null,null,null,null,null,null,null,null,null,{"$error":"#VALUE!"},{"$error":"#VALUE!"},{"$error":"#VALUE!"},null,null,null,null,null,null,null,null,null,null,null,null,null,null,null,null,null,null,null,null,null,null,null,null,{"$error":"#VALUE!"}]
[null,null,null,null,null,null,null,null,null,{"$error":"#VALUE!"},{"$error":"#VALUE!"},{"$error":"#VALUE!"},null,null,null,null,null,null,null,null,null,null,null,null,null,null,null,null,null,null,null,null,null,null,null,null,{"$error":"#VALUE!"}]
[null,null,null,null,null,null,null,null,null,{"$error":"#VALUE!"},{"$error":"#VALUE!"},{"$error":"#VALUE!"},null,null,null,null,null,null,null,null,null,null,null,null,null,null,null,null,null,null,null,null,null,null,null,null,{"$error":"#VALUE!"}]
[null,null,null,null,null,null,null,null,null,{"$error":"#VALUE!"},{"$error":"#VALUE!"},{"$error":"#VALUE!"},null,null,null,null,null,null,null,null,null,null,null,null,null,null,null,null,null,null,null,null,null,null,null,null,{"$error":"#VALUE!"}]
[null,null,null,null,null,null,null,null,null,{"$error":"#VALUE!"},{"$error":"#VALUE!"},{"$error":"#VALUE!"},null,null,null,null,null,null,null,null,null,null,null,null,null,null,null,null,null,null,null,null,null,null,null,null,{"$error":"#VALUE!"}]
[null,null,null,null,null,null,null,null,null,{"$error":"#VALUE!"},{"$error":"#VALUE!"},{"$error":"#VALUE!"},null,null,null,null,null,null,null,null,null,null,null,null,null,null,null,null,null,null,null,null,null,null,null,null,{"$error":"#VALUE!"}]
[null,null,null,null,null,null,null,null,null,{"$error":"#VALUE!"},{"$error":"#VALUE!"},{"$error":"#VALUE!"},null,null,null,null,null,null,null,null,null,null,null,null,null,null,null,null,null,null,null,null,null,null,null,null,{"$error":"#VALUE!"}]
[null,null,null,null,null,null,null,null,null,{"$error":"#VALUE!"},{"$error":"#VALUE!"},{"$error":"#VALUE!"},null,null,null,null,null,null,null,null,null,null,null,null,null,null,null,null,null,null,null,null,null,null,null,null,{"$error":"#VALUE!"}]
[null,null,null,null,null,null,null,null,null,{"$error":"#VALUE!"},{"$error":"#VALUE!"},{"$error":"#VALUE!"},null,null,null,null,null,null,null,null,null,null,null,null,null,null,null,null,null,null,null,null,null,null,null,null,{"$error":"#VALUE!"}]
[null,null,null,null,null,null,null,null,null,{"$error":"#VALUE!"},{"$error":"#VALUE!"},{"$error":"#VALUE!"},null,null,null,null,null,null,null,null,null,null,null,null,null,null,null,null,null,null,null,null,null,null,null,null,{"$error":"#VALUE!"}]
[null,null,null,null,null,null,null,null,null,{"$error":"#VALUE!"},{"$error":"#VALUE!"},{"$error":"#VALUE!"},null,null,null,null,null,null,null,null,null,null,null,null,null,null,null,null,null,null,null,null,null,null,null,null,{"$error":"#VALUE!"}]
[null,null,null,null,null,null,null,null,null,{"$error":"#VALUE!"},{"$error":"#VALUE!"},{"$error":"#VALUE!"},null,null,null,null,null,null,null,null,null,null,null,null,null,null,null,null,null,null,null,null,null,null,null,null,{"$error":"#VALUE!"}]
[null,null,null,null,null,null,null,null,null,{"$error":"#VALUE!"},{"$error":"#VALUE!"},{"$error":"#VALUE!"},null,null,null,null,null,null,null,null,null,null,null,null,null,null,null,null,null,null,null,null,null,null,null,null,{"$error":"#VALUE!"}]
[null,null,null,null,null,null,null,null,null,{"$error":"#VALUE!"},{"$error":"#VALUE!"},{"$error":"#VALUE!"},null,null,null,null,null,null,null,null,null,null,null,null,null,null,null,null,null,null,null,null,null,null,null,null,{"$error":"#VALUE!"}]
[null,null,null,null,null,null,null,null,null,{"$error":"#VALUE!"},{"$error":"#VALUE!"},{"$error":"#VALUE!"},null,null,null,null,null,null,null,null,null,null,null,null,null,null,null,null,null,null,null,null,null,null,null,null,{"$error":"#VALUE!"}]
[null,null,null,null,null,null,null,null,null,{"$error":"#VALUE!"},{"$error":"#VALUE!"},{"$error":"#VALUE!"},null,null,null,null,null,null,null,null,null,null,null,null,null,null,null,null,null,null,null,null,null,null,null,null,{"$error":"#VALUE!"}]
[null,null,null,null,null,null,null,null,null,{"$error":"#VALUE!"},{"$error":"#VALUE!"},{"$error":"#VALUE!"},null,null,null,null,null,null,null,null,null,null,null,null,null,null,null,null,null,null,null,null,null,null,null,null,{"$error":"#VALUE!"}]
[null,null,null,null,null,null,null,null,null,{"$error":"#VALUE!"},{"$error":"#VALUE!"},{"$error":"#VALUE!"},null,null,null,null,null,null,null,null,null,null,null,null,null,null,null,null,null,null,null,null,null,null,null,null,{"$error":"#VALUE!"}]
[null,null,null,null,null,null,null,null,null,{"$error":"#VALUE!"},{"$error":"#VALUE!"},{"$error":"#VALUE!"},null,null,null,null,null,null,null,null,null,null,null,null,null,null,null,null,null,null,null,null,null,null,null,null,{"$error":"#VALUE!"}]
[null,null,null,null,null,null,null,null,null,{"$error":"#VALUE!"},{"$error":"#VALUE!"},{"$error":"#VALUE!"},null,null,null,null,null,null,null,null,null,null,null,null,null,null,null,null,null,null,null,null,null,null,null,null,{"$error":"#VALUE!"}]
[null,null,null,null,null,null,null,null,null,{"$error":"#VALUE!"},{"$error":"#VALUE!"},{"$error":"#VALUE!"},null,null,null,null,null,null,null,null,null,null,null,null,null,null,null,null,null,null,null,null,null,null,null,null,{"$error":"#VALUE!"}]
[null,null,null,null,null,null,null,null,null,{"$error":"#VALUE!"},{"$error":"#VALUE!"},{"$error":"#VALUE!"},null,null,null,null,null,null,null,null,null,null,null,null,null,null,null,null,null,null,null,null,null,null,null,null,{"$error":"#VALUE!"}]
[null,null,null,null,null,null,null,null,null,{"$error":"#VALUE!"},{"$error":"#VALUE!"},{"$error":"#VALUE!"},null,null,null,null,null,null,null,null,null,null,null,null,null,null,null,null,null,null,null,null,null,null,null,null,{"$error":"#VALUE!"}]
[null,null,null,null,null,null,null,null,null,{"$error":"#VALUE!"},{"$error":"#VALUE!"},{"$error":"#VALUE!"},null,null,null,null,null,null,null,null,null,null,null,null,null,null,null,null,null,null,null,null,null,null,null,null,{"$error":"#VALUE!"}]
[null,null,null,null,null,null,null,null,null,{"$error":"#VALUE!"},{"$error":"#VALUE!"},{"$error":"#VALUE!"},null,null,null,null,null,null,null,null,null,null,null,null,null,null,null,null,null,null,null,null,null,null,null,null,{"$error":"#VALUE!"}]
[null,null,null,null,null,null,null,null,null,{"$error":"#VALUE!"},{"$error":"#VALUE!"},{"$error":"#VALUE!"},null,null,null,null,null,null,null,null,null,null,null,null,null,null,null,null,null,null,null,null,null,null,null,null,{"$error":"#VALUE!"}]
[null,null,null,null,null,null,null,null,null,{"$error":"#VALUE!"},{"$error":"#VALUE!"},{"$error":"#VALUE!"},null,null,null,null,null,null,null,null,null,null,null,null,null,null,null,null,null,null,null,null,null,null,null,null,{"$error":"#VALUE!"}]
[null,null,null,null,null,null,null,null,null,{"$error":"#VALUE!"},{"$error":"#VALUE!"},{"$error":"#VALUE!"},null,null,null,null,null,null,null,null,null,null,null,null,null,null,null,null,null,null,null,null,null,null,null,null,{"$error":"#VALUE!"}]
[null,null,null,null,null,null,null,null,null,{"$error":"#VALUE!"},{"$error":"#VALUE!"},{"$error":"#VALUE!"},null,null,null,null,null,null,null,null,null,null,null,null,null,null,null,null,null,null,null,null,null,null,null,null,{"$error":"#VALUE!"}]
[null,null,null,null,null,null,null,null,null,{"$error":"#VALUE!"},{"$error":"#VALUE!"},{"$error":"#VALUE!"},null,null,null,null,null,null,null,null,null,null,null,null,null,null,null,null,null,null,null,null,null,null,null,null,{"$error":"#VALUE!"}]
[null,null,null,null,null,null,null,null,null,{"$error":"#VALUE!"},{"$error":"#VALUE!"},{"$error":"#VALUE!"},null,null,null,null,null,null,null,null,null,null,null,null,null,null,null,null,null,null,null,null,null,null,null,null,{"$error":"#VALUE!"}]
[null,null,null,null,null,null,null,null,null,{"$error":"#VALUE!"},{"$error":"#VALUE!"},{"$error":"#VALUE!"},null,null,null,null,null,null,null,null,null,null,null,null,null,null,null,null,null,null,null,null,null,null,null,null,{"$error":"#VALUE!"}]
[null,null,null,null,null,null,null,null,null,{"$error":"#VALUE!"},{"$error":"#VALUE!"},{"$error":"#VALUE!"},null,null,null,null,null,null,null,null,null,null,null,null,null,null,null,null,null,null,null,null,null,null,null,null,{"$error":"#VALUE!"}]
[null,null,null,null,null,null,null,null,null,{"$error":"#VALUE!"},{"$error":"#VALUE!"},{"$error":"#VALUE!"},null,null,null,null,null,null,null,null,null,null,null,null,null,null,null,null,null,null,null,null,null,null,null,null,{"$error":"#VALUE!"}]
[null,null,null,null,null,null,null,null,null,{"$error":"#VALUE!"},{"$error":"#VALUE!"},{"$error":"#VALUE!"},null,null,null,null,null,null,null,null,null,null,null,null,null,null,null,null,null,null,null,null,null,null,null,null,{"$error":"#VALUE!"}]
[null,null,null,null,null,null,null,null,null,{"$error":"#VALUE!"},{"$error":"#VALUE!"},{"$error":"#VALUE!"},null,null,null,null,null,null,null,null,null,null,null,null,null,null,null,null,null,null,null,null,null,null,null,null,{"$error":"#VALUE!"}]
[null,null,null,null,null,null,null,null,null,{"$error":"#VALUE!"},{"$error":"#VALUE!"},{"$error":"#VALUE!"},null,null,null,null,null,null,null,null,null,null,null,null,null,null,null,null,null,null,null,null,null,null,null,null,{"$error":"#VALUE!"}]
[null,null,null,null,null,null,null,null,null,{"$error":"#VALUE!"},{"$error":"#VALUE!"},{"$error":"#VALUE!"},null,null,null,null,null,null,null,null,null,null,null,null,null,null,null,null,null,null,null,null,null,null,null,null,{"$error":"#VALUE!"}]
[null,null,null,null,null,null,null,null,null,{"$error":"#VALUE!"},{"$error":"#VALUE!"},{"$error":"#VALUE!"},null,null,null,null,null,null,null,null,null,null,null,null,null,null,null,null,null,null,null,null,null,null,null,null,{"$error":"#VALUE!"}]
[null,null,null,null,null,null,null,null,null,{"$error":"#VALUE!"},{"$error":"#VALUE!"},{"$error":"#VALUE!"},null,null,null,null,null,null,null,null,null,null,null,null,null,null,null,null,null,null,null,null,null,null,null,null,{"$error":"#VALUE!"}]
[null,null,null,null,null,null,null,null,null,{"$error":"#VALUE!"},{"$error":"#VALUE!"},{"$error":"#VALUE!"},null,null,null,null,null,null,null,null,null,null,null,null,null,null,null,null,null,null,null,null,null,null,null,null,{"$error":"#VALUE!"}]
[null,null,null,null,null,null,null,null,null,{"$error":"#VALUE!"},{"$error":"#VALUE!"},{"$error":"#VALUE!"},null,null,null,null,null,null,null,null,null,null,null,null,null,null,null,null,null,null,null,null,null,null,null,null,{"$error":"#VALUE!"}]
[null,null,null,null,null,null,null,null,null,{"$error":"#VALUE!"},{"$error":"#VALUE!"},{"$error":"#VALUE!"},null,null,null,null,null,null,null,null,null,null,null,null,null,null,null,null,null,null,null,null,null,null,null,null,{"$error":"#VALUE!"}]
[null,null,null,null,null,null,null,null,null,{"$error":"#VALUE!"},{"$error":"#VALUE!"},{"$error":"#VALUE!"},null,null,null,null,null,null,null,null,null,null,null,null,null,null,null,null,null,null,null,null,null,null,null,null,{"$error":"#VALUE!"}]
[null,null,null,null,null,null,null,null,null,{"$error":"#VALUE!"},{"$error":"#VALUE!"},{"$error":"#VALUE!"},null,null,null,null,null,null,null,null,null,null,null,null,null,null,null,null,null,null,null,null,null,null,null,null,{"$error":"#VALUE!"}]
[null,null,null,null,null,null,null,null,null,{"$error":"#VALUE!"},{"$error":"#VALUE!"},{"$error":"#VALUE!"},null,null,null,null,null,null,null,null,null,null,null,null,null,null,null,null,null,null,null,null,null,null,null,null,{"$error":"#VALUE!"}]
[null,null,null,null,null,null,null,null,null,{"$error":"#VALUE!"},{"$error":"#VALUE!"},{"$error":"#VALUE!"},null,null,null,null,null,null,null,null,null,null,null,null,null,null,null,null,null,null,null,null,null,null,null,null,{"$error":"#VALUE!"}]
[null,null,null,null,null,null,null,null,null,{"$error":"#VALUE!"},{"$error":"#VALUE!"},{"$error":"#VALUE!"},null,null,null,null,null,null,null,null,null,null,null,null,null,null,null,null,null,null,null,null,null,null,null,null,{"$error":"#VALUE!"}]
[null,null,null,null,null,null,null,null,null,{"$error":"#VALUE!"},{"$error":"#VALUE!"},{"$error":"#VALUE!"},null,null,null,null,null,null,null,null,null,null,null,null,null,null,null,null,null,null,null,null,null,null,null,null,{"$error":"#VALUE!"}]

{"sheet":"RAB1x1","index":40,"n_rows":130,"n_cols":72,"rows_kept":130,"cut":false,"hidden":true,"merged":[[1,56,1,71],[0,19,0,28],[0,30,0,32],[1,31,2,31],[1,32,2,32],[1,21,1,25],[1,27,1,28],[1,30,2,30],[100,9,100,11],[100,36,101,36],[1,34,2,34],[1,36,2,36],[1,39,1,54],[1,9,1,11],[1,13,1,17]]}
[null,null,null,null,null,null,null,null,null,null,null,null,null,null,null,null,null,null,null,"Conflicting Traffic Complexity",null,null,null,null,null,null,null,null,null,null,"Pedestrian Complexity"]
[null,null,null,null,null,null,null,null,null,"Exposure",null,null,null,"Severity",null,null,null,null,null,"Traffic Control",null,"Conflicting Lanes",null,null,null,null,null,"Conflicting Speed",null,null,"Indirect Paths Indicator","Non-intuitive movements indicator","Pedestrian Complexity factor",null,"Total Complexity Multiplier",null,"Exposure-Severity-Complexity Product",null,null,"Included in Mvmt1",null,null,null,null,null,null,null,null,null,null,null,null,null,null,null,null,"Included in Mvmt2"]
["#","Conflict Type","Mvmt1","Mvmt1_gen","Mvmt1_SpeedCat","Mvmt2","Mvmt2_gen","Mvmt2_SpeedCat",null,"Q1","Q2","I",null,"Speed_V1","Speed_V2","Angle","delta_V","P_FSI",null,null,null,"MajC","MinC","MajM/P","MinM/P","Score",null,"Speed","Factor",null,null,null,null,null,null,null,null,null,null,"MajT1","MajL1","MajR1","MajT2","MajL2","MajR2","MinT1","MinL1","MinR1","MinT2","MinL2","MinR2","MajNM1","MajNM2","MinNM1","MinNM2",null,"MajT1","MajL1","MajR1","MajT2","MajL2","MajR2","MinT1","MinL1","MinR1","MinT2","MinL2","MinR2","MajNM1","MajNM2","MinNM1","MinNM2"]
[1,"Crossing - RAB","WBT, NBL","MajT2, MinL1","RAB Exiting","SBT, SBL","MinT2, MinL2","RAB Entering",null,{"$f":"SUMPRODUCT($AN4:$BC4,$AN$32:$BC$32)","v":{"$error":"#VALUE!"}},{"$f":"SUMPRODUCT($BE4:$BT4,$BE$32:$BT$32)","v":{"$error":"#VALUE!"}},{"$f":"PRODUCT(J4:K4)","v":{"$error":"#VALUE!"}},null,{"$f":"VLOOKUP(E4,SSI_AGI_Range_VehSpeed,5,FALSE)","v":30},{"$f":"VLOOKUP(H4,SSI_AGI_Range_VehSpeed,5,FALSE)","v":20},{"$f":"IF(B4=\"Nonmotorized\",\"\",VLOOKUP(B4,SSI_AGI_Range_CollAngles,5,FALSE))","v":60},{"$f":"IF(B4=\"Nonmotorized\",\"\",SQRT(N4^2+O4^2-2*N4*O4*COS(RADIANS(P4)))/2)","v":13.228756555322953},{"$f":"IF(B4=\"Nonmotorized\",1/(1+EXP(3.8432-0.1237*O4)),(Q4/SSI_AGI_RegAlpha)^SSI_AGI_RegK+(Q4/SSI_AGI_RegAlpha)^SSI_AGI_RegK-((Q4/SSI_AGI_RegAlpha)^SSI_AGI_RegK)*((Q4/SSI_AGI_RegAlpha)^SSI_AGI_RegK))","v":4.1698027385763141E-3},null,1,null,null,null,null,null,1,null,{"$f":"IF(B4=\"Diverging\",\"\",SSI_AGI_VehSpeed_RABCirc)","v":25},{"$f":"IF(B4=\"Diverging\",1,1-((60-AB4)/60*0.1/0.15))","v":0.61111111111111105},null,null,null,{"$f":"IF(SSI_AGI_ConsiderNMComplexity=\"Yes\",1+AE4+AF4,1)","v":1},null,{"$f":"PRODUCT(Z4,T4,AC4,AG4)","v":0.61111111111111105},null,{"$f":"L4*R4*AI4","v":{"$error":"#VALUE!"}},null,null,{"$f":"IF(ISNUMBER(SEARCH(AN$3,$D4)),1,\"\")","v":""},{"$f":"IF(ISNUMBER(SEARCH(AO$3,$D4)),1,\"\")","v":""},"",1,"","","",1,"","","","","","","","",null,{"$f":"IF(ISNUMBER(SEARCH(BE$3,$G4)),1,\"\")","v":""},{"$f":"IF(ISNUMBER(SEARCH(BF$3,$G4)),1,\"\")","v":""},"","","","","","","",1,1,"","","","",""]
[2,"Crossing - RAB","SBT, WBL","MinT2, MajL2","RAB Exiting","EBT, EBL","MajT1, MajL1","RAB Entering",null,{"$error":"#VALUE!"},{"$f":"SUMPRODUCT($BE5:$BT5,$BE$32:$BT$32)","v":{"$error":"#VALUE!"}},{"$f":"PRODUCT(J5:K5)","v":{"$error":"#VALUE!"}},null,30,20,60,{"$f":"IF(B5=\"Nonmotorized\",\"\",SQRT(N5^2+O5^2-2*N5*O5*COS(RADIANS(P5)))/2)","v":13.228756555322953},4.1698027385763141E-3,null,1,null,null,null,null,null,1,null,25,0.61111111111111105,null,null,null,1,null,0.61111111111111105,null,{"$f":"L5*R5*AI5","v":{"$error":"#VALUE!"}},null,null,{"$f":"IF(ISNUMBER(SEARCH(AN$3,$D5)),1,\"\")","v":""},"","","",1,"","","","",1,"","","","","","",null,{"$f":"IF(ISNUMBER(SEARCH(BE$3,$G5)),1,\"\")","v":1},1,"","","","","","","","","","","","","",""]
[3,"Crossing - RAB","EBT, SBL","MajT1, MinL2","RAB Exiting","NBT, NBL","MinT1, MinL1","RAB Entering",null,{"$error":"#VALUE!"},{"$error":"#VALUE!"},{"$error":"#VALUE!"},null,30,20,60,13.228756555322953,4.1698027385763141E-3,null,1,null,null,null,null,null,1,null,25,0.61111111111111105,null,null,null,1,null,0.61111111111111105,null,{"$error":"#VALUE!"},null,null,1,"","","","","","","","","",1,"","","","","",null,"","","","","","",1,1,"","","","","","","",""]
[4,"Crossing - RAB","NBT, EBL","MinT1, MajL1","RAB Exiting","WBT, WBL","MajT2, MajL2","RAB Entering",null,{"$error":"#VALUE!"},{"$error":"#VALUE!"},{"$error":"#VALUE!"},null,30,20,60,13.228756555322953,4.1698027385763141E-3,null,1,null,null,null,null,null,1,null,25,0.61111111111111105,null,null,null,1,null,0.61111111111111105,null,{"$error":"#VALUE!"},null,null,"",1,"","","","",1,"","","","","","","","","",null,"","","",1,1,"","","","","","","","","","",""]
[5,"Merging","WBT, NBL","MajT2, MinL1","RAB Exiting","SBR","MinR2","RAB Entering",null,{"$error":"#VALUE!"},{"$error":"#VALUE!"},{"$error":"#VALUE!"},null,30,20,45,10.623933623853066,1.8155470372595635E-3,null,1,null,null,null,null,null,1,null,25,0.61111111111111105,null,null,null,1,null,0.61111111111111105,null,{"$error":"#VALUE!"},null,null,"","","",1,"","","",1,"","","","","","","","",null,"","","","","","","","","","","",1,"","","",""]
[6,"Merging","WBL","MajL2","RAB Circulating","SBT, SBL","MinT2, MinL2","RAB Entering",null,{"$error":"#VALUE!"},{"$error":"#VALUE!"},{"$error":"#VALUE!"},null,25,20,45,8.9147801264732891,9.333798723087925E-4,null,1,null,null,null,null,null,1,null,25,0.61111111111111105,null,null,null,1,null,0.61111111111111105,null,{"$error":"#VALUE!"},null,null,"","","","",1,"","","","","","","","","","","",null,"","","","","","","","","",1,1,"","","","",""]
[7,"Merging","SBT, WBL","MinT2, MajL2","RAB Exiting","EBR","MajR1","RAB Entering",null,{"$error":"#VALUE!"},{"$error":"#VALUE!"},{"$error":"#VALUE!"},null,30,20,45,10.623933623853066,1.8155470372595635E-3,null,1,null,null,null,null,null,1,null,25,0.61111111111111105,null,null,null,1,null,0.61111111111111105,null,{"$error":"#VALUE!"},null,null,"","","","",1,"","","","",1,"","","","","","",null,"","",1,"","","","","","","","","","","","",""]
[8,"Merging","SBL","MinL2","RAB Circulating","EBT, EBL","MajT1, MajL1","RAB Entering",null,{"$error":"#VALUE!"},{"$error":"#VALUE!"},{"$error":"#VALUE!"},null,25,20,45,8.9147801264732891,9.333798723087925E-4,null,1,null,null,null,null,null,1,null,25,0.61111111111111105,null,null,null,1,null,0.61111111111111105,null,{"$error":"#VALUE!"},null,null,"","","","","","","","","","",1,"","","","","",null,1,1,"","","","","","","","","","","","","",""]
[9,"Merging","EBT, SBL","MajT1, MinL2","RAB Exiting","NBR","MinR1","RAB Entering",null,{"$error":"#VALUE!"},{"$error":"#VALUE!"},{"$error":"#VALUE!"},null,30,20,45,10.623933623853066,1.8155470372595635E-3,null,1,null,null,null,null,null,1,null,25,0.61111111111111105,null,null,null,1,null,0.61111111111111105,null,{"$error":"#VALUE!"},null,null,1,"","","","","","","","","",1,"","","","","",null,"","","","","","","","",1,"","","","","","",""]
[10,"Merging","EBL","MajL1","RAB Circulating","NBT, NBL","MinT1, MinL1","RAB Entering",null,{"$error":"#VALUE!"},{"$error":"#VALUE!"},{"$error":"#VALUE!"},null,25,20,45,8.9147801264732891,9.333798723087925E-4,null,1,null,null,null,null,null,1,null,25,0.61111111111111105,null,null,null,1,null,0.61111111111111105,null,{"$error":"#VALUE!"},null,null,"",1,"","","","","","","","","","","","","","",null,"","","","","","",1,1,"","","","","","","",""]
[11,"Merging","NBT, EBL","MinT1, MajL2","RAB Exiting","WBR","MajR2","RAB Entering",null,{"$error":"#VALUE!"},{"$error":"#VALUE!"},{"$error":"#VALUE!"},null,30,20,45,10.623933623853066,1.8155470372595635E-3,null,1,null,null,null,null,null,1,null,25,0.61111111111111105,null,null,null,1,null,0.61111111111111105,null,{"$error":"#VALUE!"},null,null,"","","","",1,"",1,"","","","","","","","","",null,"","","","","",1,"","","","","","","","","",""]
[12,"Merging","NBL","MinL1","RAB Circulating","WBT, WBL","MajT2, MajL2","RAB Entering",null,{"$error":"#VALUE!"},{"$error":"#VALUE!"},{"$error":"#VALUE!"},null,25,20,45,8.9147801264732891,9.333798723087925E-4,null,1,null,null,null,null,null,1,null,25,0.61111111111111105,null,null,null,1,null,0.61111111111111105,null,{"$error":"#VALUE!"},null,null,"","","","","","","",1,"","","","","","","","",null,"","","",1,1,"","","","","","","","","","",""]
[13,"Diverging","SBR","MinR2","RAB Circulating","SBT, SBL","MinT2, MinL2","RAB Entering",null,{"$error":"#VALUE!"},{"$error":"#VALUE!"},{"$error":"#VALUE!"},null,25,20,10,3.1698677806728797,1.8457105347369804E-5,null,1,null,null,null,null,null,1,null,"",1,null,null,null,1,null,1,null,{"$error":"#VALUE!"},null,null,"","","","","","","","","","","",1,"","","","",null,"","","","","","","","","",1,1,"","","","",""]
[14,"Diverging","WBL","MajL2","RAB Circulating","WBT, NBL","MajT2, MinL1","RAB Exiting",null,{"$error":"#VALUE!"},{"$error":"#VALUE!"},{"$error":"#VALUE!"},null,25,30,10,3.4564566568122888,2.5632912055290634E-5,null,1,null,null,null,null,null,1,null,"",1,null,null,null,1,null,1,null,{"$error":"#VALUE!"},null,null,"","","","",1,"","","","","","","","","","","",null,"","","",1,"","","",1,"","","","","","","",""]
[15,"Diverging","EBR","MajR1","RAB Circulating","EBT, EBL","MajT1, MajL1","RAB Entering",null,{"$error":"#VALUE!"},{"$error":"#VALUE!"},{"$error":"#VALUE!"},null,25,20,10,3.1698677806728797,1.8457105347369804E-5,null,1,null,null,null,null,null,1,null,"",1,null,null,null,1,null,1,null,{"$error":"#VALUE!"},null,null,"","",1,"","","","","","","","","","","","","",null,1,1,"","","","","","","","","","","","","",""]
[16,"Diverging","SBL","MinL2","RAB Circulating","SBT, WBL","MinT2, MajL1","RAB Exiting",null,{"$error":"#VALUE!"},{"$error":"#VALUE!"},{"$error":"#VALUE!"},null,25,30,10,3.4564566568122888,2.5632912055290634E-5,null,1,null,null,null,null,null,1,null,"",1,null,null,null,1,null,1,null,{"$error":"#VALUE!"},null,null,"","","","","","","","","","",1,"","","","","",null,"",1,"","","","","","","",1,"","","","","",""]
[17,"Diverging","NBR","MinR1","RAB Circulating","NBT, NBL","MinT1, MinL1","RAB Entering",null,{"$error":"#VALUE!"},{"$error":"#VALUE!"},{"$error":"#VALUE!"},null,25,20,10,3.1698677806728797,1.8457105347369804E-5,null,1,null,null,null,null,null,1,null,"",1,null,null,null,1,null,1,null,{"$error":"#VALUE!"},null,null,"","","","","","","","",1,"","","","","","","",null,"","","","","","",1,1,"","","","","","","",""]
[18,"Diverging","EBL","MajL1","RAB Circulating","EBT, SBL","MajT1, MinL2","RAB Exiting",null,{"$error":"#VALUE!"},{"$error":"#VALUE!"},{"$error":"#VALUE!"},null,25,30,10,3.4564566568122888,2.5632912055290634E-5,null,1,null,null,null,null,null,1,null,"",1,null,null,null,1,null,1,null,{"$error":"#VALUE!"},null,null,"",1,"","","","","","","","","","","","","","",null,1,"","","","","","","","","",1,"","","","",""]
[19,"Diverging","WBR","MajR2","RAB Circulating","WBT, WBL","MajT2, MajL2","RAB Entering",null,{"$error":"#VALUE!"},{"$error":"#VALUE!"},{"$error":"#VALUE!"},null,25,20,10,3.1698677806728797,1.8457105347369804E-5,null,1,null,null,null,null,null,1,null,"",1,null,null,null,1,null,1,null,{"$error":"#VALUE!"},null,null,"","","","","",1,"","","","","","","","","","",null,"","","",1,1,"","","","","","","","","","",""]
[20,"Diverging","NBL","MinL1","RAB Circulating","NBT, EBL","MinT1, MajL1","RAB Exiting",null,{"$error":"#VALUE!"},{"$error":"#VALUE!"},{"$error":"#VALUE!"},null,25,30,10,3.4564566568122888,2.5632912055290634E-5,null,1,null,null,null,null,null,1,null,"",1,null,null,null,1,null,1,null,{"$error":"#VALUE!"},null,null,"","","","","","","",1,"","","","","","","","",null,"",1,"","","","",1,"","","","","","","","",""]
[21,"Nonmotorized","EB Ped","MajNM1","Nonmotorized","WBT, NBL, SBR","MajT2, MinL1, MinR2","RAB Exiting",null,{"$error":"#VALUE!"},{"$error":"#VALUE!"},{"$error":"#VALUE!"},null,0,30,"","",0.46699805015542578,null,1,null,null,null,null,null,1,null,{"$f":"IF(B24=\"Diverging\",\"\",SSI_AGI_VehSpeed_RABExit)","v":30},0.66666666666666663,null,1,null,2,null,1.3333333333333333,null,{"$error":"#VALUE!"},null,null,"","","","","","","","","","","","",1,"","","",null,"","","",1,"","","",1,"","","",1,"","","",""]
[22,"Nonmotorized","EB Ped","MajNM1","Nonmotorized","EBT, EBL, EBR","MajT1, MajL1, MajR1","RAB Entering",null,{"$error":"#VALUE!"},{"$error":"#VALUE!"},{"$error":"#VALUE!"},null,0,20,"","",0.20274912921655375,null,1,null,null,null,null,null,1,null,{"$f":"IF(B25=\"Diverging\",\"\",SSI_AGI_VehSpeed_RABEnter)","v":20},0.55555555555555558,null,1,null,2,null,1.1111111111111112,null,{"$error":"#VALUE!"},null,null,"","","","","","","","","","","","",1,"","","",null,1,1,1,"","","","","","","","","","","","",""]
[23,"Nonmotorized","NB Ped","MinNM1","Nonmotorized","SBT, WBL, EBR","MinT2, MajL2, MajR1","RAB Exiting",null,{"$error":"#VALUE!"},{"$error":"#VALUE!"},{"$error":"#VALUE!"},null,0,30,"","",0.46699805015542578,null,1,null,null,null,null,null,1,null,{"$f":"IF(B26=\"Diverging\",\"\",SSI_AGI_VehSpeed_RABExit)","v":30},0.66666666666666663,null,1,null,2,null,1.3333333333333333,null,{"$error":"#VALUE!"},null,null,"","","","","","","","","","","","","","",1,"",null,"","",1,"",1,"","","","",1,"","","","","",""]
[24,"Nonmotorized","NB Ped","MinNM1","Nonmotorized","NBT, NBL, NBR","MinT1, MinL1, MinR1","RAB Entering",null,{"$error":"#VALUE!"},{"$error":"#VALUE!"},{"$error":"#VALUE!"},null,0,20,"","",0.20274912921655375,null,1,null,null,null,null,null,1,null,{"$f":"IF(B27=\"Diverging\",\"\",SSI_AGI_VehSpeed_RABEnter)","v":20},0.55555555555555558,null,1,null,2,null,1.1111111111111112,null,{"$error":"#VALUE!"},null,null,"","","","","","","","","","","","","","",1,"",null,"","","","","","",1,1,1,"","","","","","",""]
[25,"Nonmotorized","WB Ped","MajNM2","Nonmotorized","EBT, SBL, NBR","MajT1, MinL2, MinR1","RAB Exiting",null,{"$error":"#VALUE!"},{"$error":"#VALUE!"},{"$error":"#VALUE!"},null,0,30,"","",0.46699805015542578,null,1,null,null,null,null,null,1,null,{"$f":"IF(B28=\"Diverging\",\"\",SSI_AGI_VehSpeed_RABExit)","v":30},0.66666666666666663,null,1,null,2,null,1.3333333333333333,null,{"$error":"#VALUE!"},null,null,"","","","","","","","","","","","","",1,"","",null,1,"","","","","","","",1,"",1,"","","","",""]
[26,"Nonmotorized","WB Ped","MajNM2","Nonmotorized","WBT, WBL, WBR","MajT2, MajL2, MajR2","RAB Entering",null,{"$error":"#VALUE!"},{"$error":"#VALUE!"},{"$error":"#VALUE!"},null,0,20,"","",0.20274912921655375,null,1,null,null,null,null,null,1,null,{"$f":"IF(B29=\"Diverging\",\"\",SSI_AGI_VehSpeed_RABEnter)","v":20},0.55555555555555558,null,1,null,2,null,1.1111111111111112,null,{"$error":"#VALUE!"},null,null,"","","","","","","","","","","","","",1,"","",null,"","","",1,1,1,"","","","","","","","","",""]
[27,"Nonmotorized","SB Ped","MinNM2","Nonmotorized","NBT, EBL, WBR","MinT1, MajL1, MajR2","RAB Exiting",null,{"$error":"#VALUE!"},{"$error":"#VALUE!"},{"$error":"#VALUE!"},null,0,30,"","",0.46699805015542578,null,1,null,null,null,null,null,1,null,{"$f":"IF(B30=\"Diverging\",\"\",SSI_AGI_VehSpeed_RABExit)","v":30},0.66666666666666663,null,1,null,2,null,1.3333333333333333,null,{"$error":"#VALUE!"},null,null,"","","","","","","","","","","","","","","",1,null,"",1,"","","",1,1,"","","","","","","","",""]
[28,"Nonmotorized","SB Ped","MinNM2","Nonmotorized","SBT, SBL, SBR","MinT2, MinL2, MinR2","RAB Entering",null,{"$error":"#VALUE!"},{"$error":"#VALUE!"},{"$error":"#VALUE!"},null,0,20,"","",0.20274912921655375,null,1,null,null,null,null,null,1,null,{"$f":"IF(B31=\"Diverging\",\"\",SSI_AGI_VehSpeed_RABEnter)","v":20},0.55555555555555558,null,1,null,2,null,1.1111111111111112,null,{"$error":"#VALUE!"},null,null,"","","","","","","","","","","","","","","",1,null,"","","","","","","","","",1,1,1,"","","",""]
[null,null,null,null,null,null,null,null,null,null,null,null,null,null,null,null,null,null,null,null,null,null,null,null,null,null,null,null,null,null,null,null,null,null,null,null,null,null,"O",{"$f":"'SSI Inputs'!$D$26","v":{"$error":"#VALUE!"}},{"$f":"'SSI Inputs'!$D$27","v":{"$error":"#VALUE!"}},{"$f":"'SSI Inputs'!$D$28","v":{"$error":"#VALUE!"}},{"$f":"'SSI Inputs'!$D$30","v":{"$error":"#VALUE!"}},{"$f":"'SSI Inputs'!$D$31","v":{"$error":"#VALUE!"}},{"$f":"'SSI Inputs'!$D$32","v":{"$error":"#VALUE!"}},{"$f":"'SSI Inputs'!$D$34","v":{"$error":"#VALUE!"}},{"$f":"'SSI Inputs'!$D$35","v":{"$error":"#VALUE!"}},{"$f":"'SSI Inputs'!$D$36","v":{"$error":"#VALUE!"}},{"$f":"'SSI Inputs'!$D$38","v":{"$error":"#VALUE!"}},{"$f":"'SSI Inputs'!$D$39","v":{"$error":"#VALUE!"}},{"$f":"'SSI Inputs'!$D$40","v":{"$error":"#VALUE!"}},{"$f":"'SSI Inputs'!$Q$18","v":175},{"$f":"'SSI Inputs'!$Q$19","v":175},{"$f":"'SSI Inputs'!$Q$20","v":175},{"$f":"'SSI Inputs'!$Q$21","v":175},"O",{"$f":"'SSI Inputs'!$D$26","v":{"$error":"#VALUE!"}},{"$f":"'SSI Inputs'!$D$27","v":{"$error":"#VALUE!"}},{"$f":"'SSI Inputs'!$D$28","v":{"$error":"#VALUE!"}},{"$f":"'SSI Inputs'!$D$30","v":{"$error":"#VALUE!"}},{"$f":"'SSI Inputs'!$D$31","v":{"$error":"#VALUE!"}},{"$f":"'SSI Inputs'!$D$32","v":{"$error":"#VALUE!"}},{"$f":"'SSI Inputs'!$D$34","v":{"$error":"#VALUE!"}},{"$f":"'SSI Inputs'!$D$35","v":{"$error":"#VALUE!"}},{"$f":"'SSI Inputs'!$D$36","v":{"$error":"#VALUE!"}},{"$f":"'SSI Inputs'!$D$38","v":{"$error":"#VALUE!"}},{"$f":"'SSI Inputs'!$D$39","v":{"$error":"#VALUE!"}},{"$f":"'SSI Inputs'!$D$40","v":{"$error":"#VALUE!"}},{"$f":"'SSI Inputs'!$Q$18","v":175},{"$f":"'SSI Inputs'!$Q$19","v":175},{"$f":"'SSI Inputs'!$Q$20","v":175},{"$f":"'SSI Inputs'!$Q$21","v":175}]
[null,null,null,null,null,null,null,null,null,null,null,null,null,null,null,null,null,null,null,null,null,null,null,null,null,null,null,null,null,null,null,null,null,null,null,null,null,null,"D",{"$f":"'SSI Inputs'!$E$26","v":{"$error":"#VALUE!"}},{"$f":"'SSI Inputs'!$E$27","v":{"$error":"#VALUE!"}},{"$f":"'SSI Inputs'!$E$28","v":{"$error":"#VALUE!"}},{"$f":"'SSI Inputs'!$E$30","v":{"$error":"#VALUE!"}},{"$f":"'SSI Inputs'!$E$31","v":{"$error":"#VALUE!"}},{"$f":"'SSI Inputs'!$E$32","v":{"$error":"#VALUE!"}},{"$f":"'SSI Inputs'!$E$34","v":{"$error":"#VALUE!"}},{"$f":"'SSI Inputs'!$E$35","v":{"$error":"#VALUE!"}},{"$f":"'SSI Inputs'!$E$36","v":{"$error":"#VALUE!"}},{"$f":"'SSI Inputs'!$E$38","v":{"$error":"#VALUE!"}},{"$f":"'SSI Inputs'!$E$39","v":{"$error":"#VALUE!"}},{"$f":"'SSI Inputs'!$E$40","v":{"$error":"#VALUE!"}},{"$f":"'SSI Inputs'!$R$18","v":175},{"$f":"'SSI Inputs'!$R$19","v":175},{"$f":"'SSI Inputs'!$R$20","v":175},{"$f":"'SSI Inputs'!$R$21","v":175},"D",{"$f":"'SSI Inputs'!$E$26","v":{"$error":"#VALUE!"}},{"$f":"'SSI Inputs'!$E$27","v":{"$error":"#VALUE!"}},{"$f":"'SSI Inputs'!$E$28","v":{"$error":"#VALUE!"}},{"$f":"'SSI Inputs'!$E$30","v":{"$error":"#VALUE!"}},{"$f":"'SSI Inputs'!$E$31","v":{"$error":"#VALUE!"}},{"$f":"'SSI Inputs'!$E$32","v":{"$error":"#VALUE!"}},{"$f":"'SSI Inputs'!$E$34","v":{"$error":"#VALUE!"}},{"$f":"'SSI Inputs'!$E$35","v":{"$error":"#VALUE!"}},{"$f":"'SSI Inputs'!$E$36","v":{"$error":"#VALUE!"}},{"$f":"'SSI Inputs'!$E$38","v":{"$error":"#VALUE!"}},{"$f":"'SSI Inputs'!$E$39","v":{"$error":"#VALUE!"}},{"$f":"'SSI Inputs'!$E$40","v":{"$error":"#VALUE!"}},{"$f":"'SSI Inputs'!$R$18","v":175},{"$f":"'SSI Inputs'!$R$19","v":175},{"$f":"'SSI Inputs'!$R$20","v":175},{"$f":"'SSI Inputs'!$R$21","v":175}]
[]
[]
[]
[]
[]
[]
[]
[]
[]
[]
[]
[]
[]
[]
[]
[]
[]
[]
[]
[]
[]
[]
[]
[]
[]
[]
[]
[]
[]
[]
[]
[]
[]
[]
[]
[]
[]
[]
[]
[]
[]
[]
[]
[]
[]
[]
[]
[]
[]
[]
[]
[]
[]
[]
[]
[]
[]
[]
[]
[]
[]
[]
[]
[]
[]
[]
[]
[null,null,null,null,null,null,null,null,null,"Exposure",null,null,null,null,null,null,null,null,null,null,null,null,null,null,null,null,null,null,null,null,null,null,null,null,null,null,"Exposure-Severity-Complexity Product"]
[null,null,null,null,null,null,null,null,null,"Q1","Q2","I"]
[null,null,null,null,null,null,null,null,null,{"$f":"SUMPRODUCT($AN4:$BC4,$AN$33:$BC$33)","v":{"$error":"#VALUE!"}},{"$f":"SUMPRODUCT($BE4:$BT4,$BE$33:$BT$33)","v":{"$error":"#VALUE!"}},{"$f":"PRODUCT(J103:K103)","v":{"$error":"#VALUE!"}},null,null,null,null,null,null,null,null,null,null,null,null,null,null,null,null,null,null,null,null,null,null,null,null,{"$f":"L103*R4*AI4","v":{"$error":"#VALUE!"}}]
[null,null,null,null,null,null,null,null,null,{"$f":"SUMPRODUCT($AN5:$BC5,$AN$33:$BC$33)","v":{"$error":"#VALUE!"}},{"$f":"SUMPRODUCT($BE5:$BT5,$BE$33:$BT$33)","v":{"$error":"#VALUE!"}},{"$f":"PRODUCT(J104:K104)","v":{"$error":"#VALUE!"}},null,null,null,null,null,null,null,null,null,null,null,null,null,null,null,null,null,null,null,null,null,null,null,null,{"$f":"L104*R5*AI5","v":{"$error":"#VALUE!"}}]
[null,null,null,null,null,null,null,null,null,{"$error":"#VALUE!"},{"$error":"#VALUE!"},{"$error":"#VALUE!"},null,null,null,null,null,null,null,null,null,null,null,null,null,null,null,null,null,null,null,null,null,null,null,null,{"$error":"#VALUE!"}]
[null,null,null,null,null,null,null,null,null,{"$error":"#VALUE!"},{"$error":"#VALUE!"},{"$error":"#VALUE!"},null,null,null,null,null,null,null,null,null,null,null,null,null,null,null,null,null,null,null,null,null,null,null,null,{"$error":"#VALUE!"}]
[null,null,null,null,null,null,null,null,null,{"$error":"#VALUE!"},{"$error":"#VALUE!"},{"$error":"#VALUE!"},null,null,null,null,null,null,null,null,null,null,null,null,null,null,null,null,null,null,null,null,null,null,null,null,{"$error":"#VALUE!"}]
[null,null,null,null,null,null,null,null,null,{"$error":"#VALUE!"},{"$error":"#VALUE!"},{"$error":"#VALUE!"},null,null,null,null,null,null,null,null,null,null,null,null,null,null,null,null,null,null,null,null,null,null,null,null,{"$error":"#VALUE!"}]
[null,null,null,null,null,null,null,null,null,{"$error":"#VALUE!"},{"$error":"#VALUE!"},{"$error":"#VALUE!"},null,null,null,null,null,null,null,null,null,null,null,null,null,null,null,null,null,null,null,null,null,null,null,null,{"$error":"#VALUE!"}]
[null,null,null,null,null,null,null,null,null,{"$error":"#VALUE!"},{"$error":"#VALUE!"},{"$error":"#VALUE!"},null,null,null,null,null,null,null,null,null,null,null,null,null,null,null,null,null,null,null,null,null,null,null,null,{"$error":"#VALUE!"}]
[null,null,null,null,null,null,null,null,null,{"$error":"#VALUE!"},{"$error":"#VALUE!"},{"$error":"#VALUE!"},null,null,null,null,null,null,null,null,null,null,null,null,null,null,null,null,null,null,null,null,null,null,null,null,{"$error":"#VALUE!"}]
[null,null,null,null,null,null,null,null,null,{"$error":"#VALUE!"},{"$error":"#VALUE!"},{"$error":"#VALUE!"},null,null,null,null,null,null,null,null,null,null,null,null,null,null,null,null,null,null,null,null,null,null,null,null,{"$error":"#VALUE!"}]
[null,null,null,null,null,null,null,null,null,{"$error":"#VALUE!"},{"$error":"#VALUE!"},{"$error":"#VALUE!"},null,null,null,null,null,null,null,null,null,null,null,null,null,null,null,null,null,null,null,null,null,null,null,null,{"$error":"#VALUE!"}]
[null,null,null,null,null,null,null,null,null,{"$error":"#VALUE!"},{"$error":"#VALUE!"},{"$error":"#VALUE!"},null,null,null,null,null,null,null,null,null,null,null,null,null,null,null,null,null,null,null,null,null,null,null,null,{"$error":"#VALUE!"}]
[null,null,null,null,null,null,null,null,null,{"$error":"#VALUE!"},{"$error":"#VALUE!"},{"$error":"#VALUE!"},null,null,null,null,null,null,null,null,null,null,null,null,null,null,null,null,null,null,null,null,null,null,null,null,{"$error":"#VALUE!"}]
[null,null,null,null,null,null,null,null,null,{"$error":"#VALUE!"},{"$error":"#VALUE!"},{"$error":"#VALUE!"},null,null,null,null,null,null,null,null,null,null,null,null,null,null,null,null,null,null,null,null,null,null,null,null,{"$error":"#VALUE!"}]
[null,null,null,null,null,null,null,null,null,{"$error":"#VALUE!"},{"$error":"#VALUE!"},{"$error":"#VALUE!"},null,null,null,null,null,null,null,null,null,null,null,null,null,null,null,null,null,null,null,null,null,null,null,null,{"$error":"#VALUE!"}]
[null,null,null,null,null,null,null,null,null,{"$error":"#VALUE!"},{"$error":"#VALUE!"},{"$error":"#VALUE!"},null,null,null,null,null,null,null,null,null,null,null,null,null,null,null,null,null,null,null,null,null,null,null,null,{"$error":"#VALUE!"}]
[null,null,null,null,null,null,null,null,null,{"$error":"#VALUE!"},{"$error":"#VALUE!"},{"$error":"#VALUE!"},null,null,null,null,null,null,null,null,null,null,null,null,null,null,null,null,null,null,null,null,null,null,null,null,{"$error":"#VALUE!"}]
[null,null,null,null,null,null,null,null,null,{"$error":"#VALUE!"},{"$error":"#VALUE!"},{"$error":"#VALUE!"},null,null,null,null,null,null,null,null,null,null,null,null,null,null,null,null,null,null,null,null,null,null,null,null,{"$error":"#VALUE!"}]
[null,null,null,null,null,null,null,null,null,{"$error":"#VALUE!"},{"$error":"#VALUE!"},{"$error":"#VALUE!"},null,null,null,null,null,null,null,null,null,null,null,null,null,null,null,null,null,null,null,null,null,null,null,null,{"$error":"#VALUE!"}]
[null,null,null,null,null,null,null,null,null,{"$error":"#VALUE!"},{"$error":"#VALUE!"},{"$error":"#VALUE!"},null,null,null,null,null,null,null,null,null,null,null,null,null,null,null,null,null,null,null,null,null,null,null,null,{"$error":"#VALUE!"}]
[null,null,null,null,null,null,null,null,null,{"$error":"#VALUE!"},{"$error":"#VALUE!"},{"$error":"#VALUE!"},null,null,null,null,null,null,null,null,null,null,null,null,null,null,null,null,null,null,null,null,null,null,null,null,{"$error":"#VALUE!"}]
[null,null,null,null,null,null,null,null,null,{"$error":"#VALUE!"},{"$error":"#VALUE!"},{"$error":"#VALUE!"},null,null,null,null,null,null,null,null,null,null,null,null,null,null,null,null,null,null,null,null,null,null,null,null,{"$error":"#VALUE!"}]
[null,null,null,null,null,null,null,null,null,{"$error":"#VALUE!"},{"$error":"#VALUE!"},{"$error":"#VALUE!"},null,null,null,null,null,null,null,null,null,null,null,null,null,null,null,null,null,null,null,null,null,null,null,null,{"$error":"#VALUE!"}]
[null,null,null,null,null,null,null,null,null,{"$error":"#VALUE!"},{"$error":"#VALUE!"},{"$error":"#VALUE!"},null,null,null,null,null,null,null,null,null,null,null,null,null,null,null,null,null,null,null,null,null,null,null,null,{"$error":"#VALUE!"}]
[null,null,null,null,null,null,null,null,null,{"$error":"#VALUE!"},{"$error":"#VALUE!"},{"$error":"#VALUE!"},null,null,null,null,null,null,null,null,null,null,null,null,null,null,null,null,null,null,null,null,null,null,null,null,{"$error":"#VALUE!"}]
[null,null,null,null,null,null,null,null,null,{"$error":"#VALUE!"},{"$error":"#VALUE!"},{"$error":"#VALUE!"},null,null,null,null,null,null,null,null,null,null,null,null,null,null,null,null,null,null,null,null,null,null,null,null,{"$error":"#VALUE!"}]
[null,null,null,null,null,null,null,null,null,{"$error":"#VALUE!"},{"$error":"#VALUE!"},{"$error":"#VALUE!"},null,null,null,null,null,null,null,null,null,null,null,null,null,null,null,null,null,null,null,null,null,null,null,null,{"$error":"#VALUE!"}]
[null,null,null,null,null,null,null,null,null,{"$error":"#VALUE!"},{"$error":"#VALUE!"},{"$error":"#VALUE!"},null,null,null,null,null,null,null,null,null,null,null,null,null,null,null,null,null,null,null,null,null,null,null,null,{"$error":"#VALUE!"}]

{"sheet":"RAB2x1","index":41,"n_rows":130,"n_cols":72,"rows_kept":130,"cut":false,"hidden":true,"merged":[[1,56,1,71],[0,19,0,28],[0,30,0,32],[1,31,2,31],[1,32,2,32],[1,21,1,25],[1,27,1,28],[1,30,2,30],[100,9,100,11],[100,36,101,36],[1,34,2,34],[1,36,2,36],[1,39,1,54],[1,9,1,11],[1,13,1,17]]}
[null,null,null,null,null,null,null,null,null,null,null,null,null,null,null,null,null,null,null,"Conflicting Traffic Complexity",null,null,null,null,null,null,null,null,null,null,"Pedestrian Complexity"]
[null,null,null,null,null,null,null,null,null,"Exposure",null,null,null,"Severity",null,null,null,null,null,"Traffic Control",null,"Conflicting Lanes",null,null,null,null,null,"Conflicting Speed",null,null,"Indirect Paths Indicator","Non-intuitive movements indicator","Pedestrian Complexity factor",null,"Total Complexity Multiplier",null,"Exposure-Severity-Complexity Product",null,null,"Included in Mvmt1",null,null,null,null,null,null,null,null,null,null,null,null,null,null,null,null,"Included in Mvmt2"]
["#","Conflict Type","Mvmt1","Mvmt1_gen","Mvmt1_SpeedCat","Mvmt2","Mvmt2_gen","Mvmt2_SpeedCat",null,"Q1","Q2","I",null,"Speed_V1","Speed_V2","Angle","delta_V","P_FSI",null,null,null,"MajC","MinC","MajM/P","MinM/P","Score",null,"Speed","Factor",null,null,null,null,null,null,null,null,null,null,"MajT1","MajL1","MajR1","MajT2","MajL2","MajR2","MinT1","MinL1","MinR1","MinT2","MinL2","MinR2","MajNM1","MajNM2","MinNM1","MinNM2",null,"MajT1","MajL1","MajR1","MajT2","MajL2","MajR2","MinT1","MinL1","MinR1","MinT2","MinL2","MinR2","MajNM1","MajNM2","MinNM1","MinNM2"]
[1,"Crossing - RAB","WBT, NBL","MajT2, MinL1","RAB Exiting","SBT, SBL","MinT2, MinL2","RAB Entering",null,{"$f":"SUMPRODUCT($AN4:$BC4,$AN$32:$BC$32)","v":{"$error":"#VALUE!"}},{"$f":"SUMPRODUCT($BE4:$BT4,$BE$32:$BT$32)","v":{"$error":"#VALUE!"}},{"$f":"PRODUCT(J4:K4)","v":{"$error":"#VALUE!"}},null,{"$f":"VLOOKUP(E4,SSI_AGI_Range_VehSpeed,5,FALSE)","v":30},{"$f":"VLOOKUP(H4,SSI_AGI_Range_VehSpeed,5,FALSE)","v":20},{"$f":"IF(B4=\"Nonmotorized\",\"\",VLOOKUP(B4,SSI_AGI_Range_CollAngles,5,FALSE))","v":60},{"$f":"IF(B4=\"Nonmotorized\",\"\",SQRT(N4^2+O4^2-2*N4*O4*COS(RADIANS(P4)))/2)","v":13.228756555322953},{"$f":"IF(B4=\"Nonmotorized\",1/(1+EXP(3.8432-0.1237*O4)),(Q4/SSI_AGI_RegAlpha)^SSI_AGI_RegK+(Q4/SSI_AGI_RegAlpha)^SSI_AGI_RegK-((Q4/SSI_AGI_RegAlpha)^SSI_AGI_RegK)*((Q4/SSI_AGI_RegAlpha)^SSI_AGI_RegK))","v":4.1698027385763141E-3},null,1,null,null,null,null,null,2,null,{"$f":"IF(B4=\"Diverging\",\"\",SSI_AGI_VehSpeed_RABCirc)","v":25},{"$f":"IF(B4=\"Diverging\",1,1-((60-AB4)/60*0.1/0.15))","v":0.61111111111111105},null,null,null,{"$f":"IF(SSI_AGI_ConsiderNMComplexity=\"Yes\",1+AE4+AF4,1)","v":1},null,{"$f":"PRODUCT(Z4,T4,AC4,AG4)","v":1.2222222222222221},null,{"$f":"L4*R4*AI4","v":{"$error":"#VALUE!"}},null,null,{"$f":"IF(ISNUMBER(SEARCH(AN$3,$D4)),1,\"\")","v":""},{"$f":"IF(ISNUMBER(SEARCH(AO$3,$D4)),1,\"\")","v":""},"",1,"","","",1,"","","","","","","","",null,{"$f":"IF(ISNUMBER(SEARCH(BE$3,$G4)),1,\"\")","v":""},{"$f":"IF(ISNUMBER(SEARCH(BF$3,$G4)),1,\"\")","v":""},"","","","","","","",1,1,"","","","",""]
[2,"Crossing - RAB","SBT, WBL","MinT2, MajL2","RAB Exiting","EBT, EBL","MajT1, MajL1","RAB Entering",null,{"$error":"#VALUE!"},{"$f":"SUMPRODUCT($BE5:$BT5,$BE$32:$BT$32)","v":{"$error":"#VALUE!"}},{"$f":"PRODUCT(J5:K5)","v":{"$error":"#VALUE!"}},null,30,20,60,{"$f":"IF(B5=\"Nonmotorized\",\"\",SQRT(N5^2+O5^2-2*N5*O5*COS(RADIANS(P5)))/2)","v":13.228756555322953},4.1698027385763141E-3,null,1,null,null,null,null,null,1,null,25,0.61111111111111105,null,null,null,1,null,0.61111111111111105,null,{"$f":"L5*R5*AI5","v":{"$error":"#VALUE!"}},null,null,{"$f":"IF(ISNUMBER(SEARCH(AN$3,$D5)),1,\"\")","v":""},"","","",1,"","","","",1,"","","","","","",null,{"$f":"IF(ISNUMBER(SEARCH(BE$3,$G5)),1,\"\")","v":1},1,"","","","","","","","","","","","","",""]
[3,"Crossing - RAB","EBT, SBL","MajT1, MinL2","RAB Exiting","NBT, NBL","MinT1, MinL1","RAB Entering",null,{"$error":"#VALUE!"},{"$error":"#VALUE!"},{"$error":"#VALUE!"},null,30,20,60,13.228756555322953,4.1698027385763141E-3,null,1,null,null,null,null,null,2,null,25,0.61111111111111105,null,null,null,1,null,1.2222222222222221,null,{"$error":"#VALUE!"},null,null,1,"","","","","","","","","",1,"","","","","",null,"","","","","","",1,1,"","","","","","","",""]
[4,"Crossing - RAB","NBT, EBL","MinT1, MajL1","RAB Exiting","WBT, WBL","MajT2, MajL2","RAB Entering",null,{"$error":"#VALUE!"},{"$error":"#VALUE!"},{"$error":"#VALUE!"},null,30,20,60,13.228756555322953,4.1698027385763141E-3,null,1,null,null,null,null,null,1,null,25,0.61111111111111105,null,null,null,1,null,0.61111111111111105,null,{"$error":"#VALUE!"},null,null,"",1,"","","","",1,"","","","","","","","","",null,"","","",1,1,"","","","","","","","","","",""]
[5,"Merging","WBT, NBL","MajT2, MinL1","RAB Exiting","SBR","MinR2","RAB Entering",null,{"$error":"#VALUE!"},{"$error":"#VALUE!"},{"$error":"#VALUE!"},null,30,20,45,10.623933623853066,1.8155470372595635E-3,null,1,null,null,null,null,null,1.75,null,25,0.61111111111111105,null,null,null,1,null,1.0694444444444444,null,{"$error":"#VALUE!"},null,null,"","","",1,"","","",1,"","","","","","","","",null,"","","","","","","","","","","",1,"","","",""]
[6,"Merging","WBL","MajL2","RAB Circulating","SBT, SBL","MinT2, MinL2","RAB Entering",null,{"$error":"#VALUE!"},{"$error":"#VALUE!"},{"$error":"#VALUE!"},null,25,20,45,8.9147801264732891,9.333798723087925E-4,null,1,null,null,null,null,null,2,null,25,0.61111111111111105,null,null,null,1,null,1.2222222222222221,null,{"$error":"#VALUE!"},null,null,"","","","",1,"","","","","","","","","","","",null,"","","","","","","","","",1,1,"","","","",""]
[7,"Merging","SBT, WBL","MinT2, MajL2","RAB Exiting","EBR","MajR1","RAB Entering",null,{"$error":"#VALUE!"},{"$error":"#VALUE!"},{"$error":"#VALUE!"},null,30,20,45,10.623933623853066,1.8155470372595635E-3,null,1,null,null,null,null,null,1,null,25,0.61111111111111105,null,null,null,1,null,0.61111111111111105,null,{"$error":"#VALUE!"},null,null,"","","","",1,"","","","",1,"","","","","","",null,"","",1,"","","","","","","","","","","","",""]
[8,"Merging","SBL","MinL2","RAB Circulating","EBT, EBL","MajT1, MajL1","RAB Entering",null,{"$error":"#VALUE!"},{"$error":"#VALUE!"},{"$error":"#VALUE!"},null,25,20,45,8.9147801264732891,9.333798723087925E-4,null,1,null,null,null,null,null,1.75,null,25,0.61111111111111105,null,null,null,1,null,1.0694444444444444,null,{"$error":"#VALUE!"},null,null,"","","","","","","","","","",1,"","","","","",null,1,1,"","","","","","","","","","","","","",""]
[9,"Merging","EBT, SBL","MajT1, MinL2","RAB Exiting","NBR","MinR1","RAB Entering",null,{"$error":"#VALUE!"},{"$error":"#VALUE!"},{"$error":"#VALUE!"},null,30,20,45,10.623933623853066,1.8155470372595635E-3,null,1,null,null,null,null,null,1.75,null,25,0.61111111111111105,null,null,null,1,null,1.0694444444444444,null,{"$error":"#VALUE!"},null,null,1,"","","","","","","","","",1,"","","","","",null,"","","","","","","","",1,"","","","","","",""]
[10,"Merging","EBL","MajL1","RAB Circulating","NBT, NBL","MinT1, MinL1","RAB Entering",null,{"$error":"#VALUE!"},{"$error":"#VALUE!"},{"$error":"#VALUE!"},null,25,20,45,8.9147801264732891,9.333798723087925E-4,null,1,null,null,null,null,null,2,null,25,0.61111111111111105,null,null,null,1,null,1.2222222222222221,null,{"$error":"#VALUE!"},null,null,"",1,"","","","","","","","","","","","","","",null,"","","","","","",1,1,"","","","","","","",""]
[11,"Merging","NBT, EBL","MinT1, MajL2","RAB Exiting","WBR","MajR2","RAB Entering",null,{"$error":"#VALUE!"},{"$error":"#VALUE!"},{"$error":"#VALUE!"},null,30,20,45,10.623933623853066,1.8155470372595635E-3,null,1,null,null,null,null,null,1,null,25,0.61111111111111105,null,null,null,1,null,0.61111111111111105,null,{"$error":"#VALUE!"},null,null,"","","","",1,"",1,"","","","","","","","","",null,"","","","","",1,"","","","","","","","","",""]
[12,"Merging","NBL","MinL1","RAB Circulating","WBT, WBL","MajT2, MajL2","RAB Entering",null,{"$error":"#VALUE!"},{"$error":"#VALUE!"},{"$error":"#VALUE!"},null,25,20,45,8.9147801264732891,9.333798723087925E-4,null,1,null,null,null,null,null,1.75,null,25,0.61111111111111105,null,null,null,1,null,1.0694444444444444,null,{"$error":"#VALUE!"},null,null,"","","","","","","",1,"","","","","","","","",null,"","","",1,1,"","","","","","","","","","",""]
[13,"Diverging","SBR","MinR2","RAB Circulating","SBT, SBL","MinT2, MinL2","RAB Entering",null,{"$error":"#VALUE!"},{"$error":"#VALUE!"},{"$error":"#VALUE!"},null,25,20,10,3.1698677806728797,1.8457105347369804E-5,null,1,null,null,null,null,null,1,null,"",1,null,null,null,1,null,1,null,{"$error":"#VALUE!"},null,null,"","","","","","","","","","","",1,"","","","",null,"","","","","","","","","",1,1,"","","","",""]
[14,"Diverging","WBL","MajL2","RAB Circulating","WBT, NBL","MajT2, MinL1","RAB Exiting",null,{"$error":"#VALUE!"},{"$error":"#VALUE!"},{"$error":"#VALUE!"},null,25,30,10,3.4564566568122888,2.5632912055290634E-5,null,1,null,null,null,null,null,1,null,"",1,null,null,null,1,null,1,null,{"$error":"#VALUE!"},null,null,"","","","",1,"","","","","","","","","","","",null,"","","",1,"","","",1,"","","","","","","",""]
[15,"Diverging","EBR","MajR1","RAB Circulating","EBT, EBL","MajT1, MajL1","RAB Entering",null,{"$error":"#VALUE!"},{"$error":"#VALUE!"},{"$error":"#VALUE!"},null,25,20,10,3.1698677806728797,1.8457105347369804E-5,null,1,null,null,null,null,null,1,null,"",1,null,null,null,1,null,1,null,{"$error":"#VALUE!"},null,null,"","",1,"","","","","","","","","","","","","",null,1,1,"","","","","","","","","","","","","",""]
[16,"Diverging","SBL","MinL2","RAB Circulating","SBT, WBL","MinT2, MajL1","RAB Exiting",null,{"$error":"#VALUE!"},{"$error":"#VALUE!"},{"$error":"#VALUE!"},null,25,30,10,3.4564566568122888,2.5632912055290634E-5,null,1,null,null,null,null,null,1,null,"",1,null,null,null,1,null,1,null,{"$error":"#VALUE!"},null,null,"","","","","","","","","","",1,"","","","","",null,"",1,"","","","","","","",1,"","","","","",""]
[17,"Diverging","NBR","MinR1","RAB Circulating","NBT, NBL","MinT1, MinL1","RAB Entering",null,{"$error":"#VALUE!"},{"$error":"#VALUE!"},{"$error":"#VALUE!"},null,25,20,10,3.1698677806728797,1.8457105347369804E-5,null,1,null,null,null,null,null,1,null,"",1,null,null,null,1,null,1,null,{"$error":"#VALUE!"},null,null,"","","","","","","","",1,"","","","","","","",null,"","","","","","",1,1,"","","","","","","",""]
[18,"Diverging","EBL","MajL1","RAB Circulating","EBT, SBL","MajT1, MinL2","RAB Exiting",null,{"$error":"#VALUE!"},{"$error":"#VALUE!"},{"$error":"#VALUE!"},null,25,30,10,3.4564566568122888,2.5632912055290634E-5,null,1,null,null,null,null,null,1,null,"",1,null,null,null,1,null,1,null,{"$error":"#VALUE!"},null,null,"",1,"","","","","","","","","","","","","","",null,1,"","","","","","","","","",1,"","","","",""]
[19,"Diverging","WBR","MajR2","RAB Circulating","WBT, WBL","MajT2, MajL2","RAB Entering",null,{"$error":"#VALUE!"},{"$error":"#VALUE!"},{"$error":"#VALUE!"},null,25,20,10,3.1698677806728797,1.8457105347369804E-5,null,1,null,null,null,null,null,1,null,"",1,null,null,null,1,null,1,null,{"$error":"#VALUE!"},null,null,"","","","","",1,"","","","","","","","","","",null,"","","",1,1,"","","","","","","","","","",""]
[20,"Diverging","NBL","MinL1","RAB Circulating","NBT, EBL","MinT1, MajL1","RAB Exiting",null,{"$error":"#VALUE!"},{"$error":"#VALUE!"},{"$error":"#VALUE!"},null,25,30,10,3.4564566568122888,2.5632912055290634E-5,null,1,null,null,null,null,null,1,null,"",1,null,null,null,1,null,1,null,{"$error":"#VALUE!"},null,null,"","","","","","","",1,"","","","","","","","",null,"",1,"","","","",1,"","","","","","","","",""]
[21,"Nonmotorized","EB Ped","MajNM1","Nonmotorized","WBT, NBL, SBR","MajT2, MinL1, MinR2","RAB Exiting",null,{"$error":"#VALUE!"},{"$error":"#VALUE!"},{"$error":"#VALUE!"},null,0,30,"","",0.46699805015542578,null,1,null,null,null,null,null,2,null,{"$f":"IF(B24=\"Diverging\",\"\",SSI_AGI_VehSpeed_RABExit)","v":30},0.66666666666666663,null,1,null,2,null,2.6666666666666665,null,{"$error":"#VALUE!"},null,null,"","","","","","","","","","","","",1,"","","",null,"","","",1,"","","",1,"","","",1,"","","",""]
[22,"Nonmotorized","EB Ped","MajNM1","Nonmotorized","EBT, EBL, EBR","MajT1, MajL1, MajR1","RAB Entering",null,{"$error":"#VALUE!"},{"$error":"#VALUE!"},{"$error":"#VALUE!"},null,0,20,"","",0.20274912921655375,null,1,null,null,null,null,null,2,null,{"$f":"IF(B25=\"Diverging\",\"\",SSI_AGI_VehSpeed_RABEnter)","v":20},0.55555555555555558,null,1,null,2,null,2.2222222222222223,null,{"$error":"#VALUE!"},null,null,"","","","","","","","","","","","",1,"","","",null,1,1,1,"","","","","","","","","","","","",""]
[23,"Nonmotorized","NB Ped","MinNM1","Nonmotorized","SBT, WBL, EBR","MinT2, MajL2, MajR1","RAB Exiting",null,{"$error":"#VALUE!"},{"$error":"#VALUE!"},{"$error":"#VALUE!"},null,0,30,"","",0.46699805015542578,null,1,null,null,null,null,null,1,null,{"$f":"IF(B26=\"Diverging\",\"\",SSI_AGI_VehSpeed_RABExit)","v":30},0.66666666666666663,null,1,null,2,null,1.3333333333333333,null,{"$error":"#VALUE!"},null,null,"","","","","","","","","","","","","","",1,"",null,"","",1,"",1,"","","","",1,"","","","","",""]
[24,"Nonmotorized","NB Ped","MinNM1","Nonmotorized","NBT, NBL, NBR","MinT1, MinL1, MinR1","RAB Entering",null,{"$error":"#VALUE!"},{"$error":"#VALUE!"},{"$error":"#VALUE!"},null,0,20,"","",0.20274912921655375,null,1,null,null,null,null,null,1,null,{"$f":"IF(B27=\"Diverging\",\"\",SSI_AGI_VehSpeed_RABEnter)","v":20},0.55555555555555558,null,1,null,2,null,1.1111111111111112,null,{"$error":"#VALUE!"},null,null,"","","","","","","","","","","","","","",1,"",null,"","","","","","",1,1,1,"","","","","","",""]
[25,"Nonmotorized","WB Ped","MajNM2","Nonmotorized","EBT, SBL, NBR","MajT1, MinL2, MinR1","RAB Exiting",null,{"$error":"#VALUE!"},{"$error":"#VALUE!"},{"$error":"#VALUE!"},null,0,30,"","",0.46699805015542578,null,1,null,null,null,null,null,2,null,{"$f":"IF(B28=\"Diverging\",\"\",SSI_AGI_VehSpeed_RABExit)","v":30},0.66666666666666663,null,1,null,2,null,2.6666666666666665,null,{"$error":"#VALUE!"},null,null,"","","","","","","","","","","","","",1,"","",null,1,"","","","","","","",1,"",1,"","","","",""]
[26,"Nonmotorized","WB Ped","MajNM2","Nonmotorized","WBT, WBL, WBR","MajT2, MajL2, MajR2","RAB Entering",null,{"$error":"#VALUE!"},{"$error":"#VALUE!"},{"$error":"#VALUE!"},null,0,20,"","",0.20274912921655375,null,1,null,null,null,null,null,2,null,{"$f":"IF(B29=\"Diverging\",\"\",SSI_AGI_VehSpeed_RABEnter)","v":20},0.55555555555555558,null,1,null,2,null,2.2222222222222223,null,{"$error":"#VALUE!"},null,null,"","","","","","","","","","","","","",1,"","",null,"","","",1,1,1,"","","","","","","","","",""]
[27,"Nonmotorized","SB Ped","MinNM2","Nonmotorized","NBT, EBL, WBR","MinT1, MajL1, MajR2","RAB Exiting",null,{"$error":"#VALUE!"},{"$error":"#VALUE!"},{"$error":"#VALUE!"},null,0,30,"","",0.46699805015542578,null,1,null,null,null,null,null,1,null,{"$f":"IF(B30=\"Diverging\",\"\",SSI_AGI_VehSpeed_RABExit)","v":30},0.66666666666666663,null,1,null,2,null,1.3333333333333333,null,{"$error":"#VALUE!"},null,null,"","","","","","","","","","","","","","","",1,null,"",1,"","","",1,1,"","","","","","","","",""]
[28,"Nonmotorized","SB Ped","MinNM2","Nonmotorized","SBT, SBL, SBR","MinT2, MinL2, MinR2","RAB Entering",null,{"$error":"#VALUE!"},{"$error":"#VALUE!"},{"$error":"#VALUE!"},null,0,20,"","",0.20274912921655375,null,1,null,null,null,null,null,1,null,{"$f":"IF(B31=\"Diverging\",\"\",SSI_AGI_VehSpeed_RABEnter)","v":20},0.55555555555555558,null,1,null,2,null,1.1111111111111112,null,{"$error":"#VALUE!"},null,null,"","","","","","","","","","","","","","","",1,null,"","","","","","","","","",1,1,1,"","","",""]
[null,null,null,null,null,null,null,null,null,null,null,null,null,null,null,null,null,null,null,null,null,null,null,null,null,null,null,null,null,null,null,null,null,null,null,null,null,null,"O",{"$f":"'SSI Inputs'!$D$26","v":{"$error":"#VALUE!"}},{"$f":"'SSI Inputs'!$D$27","v":{"$error":"#VALUE!"}},{"$f":"'SSI Inputs'!$D$28","v":{"$error":"#VALUE!"}},{"$f":"'SSI Inputs'!$D$30","v":{"$error":"#VALUE!"}},{"$f":"'SSI Inputs'!$D$31","v":{"$error":"#VALUE!"}},{"$f":"'SSI Inputs'!$D$32","v":{"$error":"#VALUE!"}},{"$f":"'SSI Inputs'!$D$34","v":{"$error":"#VALUE!"}},{"$f":"'SSI Inputs'!$D$35","v":{"$error":"#VALUE!"}},{"$f":"'SSI Inputs'!$D$36","v":{"$error":"#VALUE!"}},{"$f":"'SSI Inputs'!$D$38","v":{"$error":"#VALUE!"}},{"$f":"'SSI Inputs'!$D$39","v":{"$error":"#VALUE!"}},{"$f":"'SSI Inputs'!$D$40","v":{"$error":"#VALUE!"}},{"$f":"'SSI Inputs'!$Q$18","v":175},{"$f":"'SSI Inputs'!$Q$19","v":175},{"$f":"'SSI Inputs'!$Q$20","v":175},{"$f":"'SSI Inputs'!$Q$21","v":175},"O",{"$f":"'SSI Inputs'!$D$26","v":{"$error":"#VALUE!"}},{"$f":"'SSI Inputs'!$D$27","v":{"$error":"#VALUE!"}},{"$f":"'SSI Inputs'!$D$28","v":{"$error":"#VALUE!"}},{"$f":"'SSI Inputs'!$D$30","v":{"$error":"#VALUE!"}},{"$f":"'SSI Inputs'!$D$31","v":{"$error":"#VALUE!"}},{"$f":"'SSI Inputs'!$D$32","v":{"$error":"#VALUE!"}},{"$f":"'SSI Inputs'!$D$34","v":{"$error":"#VALUE!"}},{"$f":"'SSI Inputs'!$D$35","v":{"$error":"#VALUE!"}},{"$f":"'SSI Inputs'!$D$36","v":{"$error":"#VALUE!"}},{"$f":"'SSI Inputs'!$D$38","v":{"$error":"#VALUE!"}},{"$f":"'SSI Inputs'!$D$39","v":{"$error":"#VALUE!"}},{"$f":"'SSI Inputs'!$D$40","v":{"$error":"#VALUE!"}},{"$f":"'SSI Inputs'!$Q$18","v":175},{"$f":"'SSI Inputs'!$Q$19","v":175},{"$f":"'SSI Inputs'!$Q$20","v":175},{"$f":"'SSI Inputs'!$Q$21","v":175}]
[null,null,null,null,null,null,null,null,null,null,null,null,null,null,null,null,null,null,null,null,null,null,null,null,null,null,null,null,null,null,null,null,null,null,null,null,null,null,"D",{"$f":"'SSI Inputs'!$E$26","v":{"$error":"#VALUE!"}},{"$f":"'SSI Inputs'!$E$27","v":{"$error":"#VALUE!"}},{"$f":"'SSI Inputs'!$E$28","v":{"$error":"#VALUE!"}},{"$f":"'SSI Inputs'!$E$30","v":{"$error":"#VALUE!"}},{"$f":"'SSI Inputs'!$E$31","v":{"$error":"#VALUE!"}},{"$f":"'SSI Inputs'!$E$32","v":{"$error":"#VALUE!"}},{"$f":"'SSI Inputs'!$E$34","v":{"$error":"#VALUE!"}},{"$f":"'SSI Inputs'!$E$35","v":{"$error":"#VALUE!"}},{"$f":"'SSI Inputs'!$E$36","v":{"$error":"#VALUE!"}},{"$f":"'SSI Inputs'!$E$38","v":{"$error":"#VALUE!"}},{"$f":"'SSI Inputs'!$E$39","v":{"$error":"#VALUE!"}},{"$f":"'SSI Inputs'!$E$40","v":{"$error":"#VALUE!"}},{"$f":"'SSI Inputs'!$R$18","v":175},{"$f":"'SSI Inputs'!$R$19","v":175},{"$f":"'SSI Inputs'!$R$20","v":175},{"$f":"'SSI Inputs'!$R$21","v":175},"D",{"$f":"'SSI Inputs'!$E$26","v":{"$error":"#VALUE!"}},{"$f":"'SSI Inputs'!$E$27","v":{"$error":"#VALUE!"}},{"$f":"'SSI Inputs'!$E$28","v":{"$error":"#VALUE!"}},{"$f":"'SSI Inputs'!$E$30","v":{"$error":"#VALUE!"}},{"$f":"'SSI Inputs'!$E$31","v":{"$error":"#VALUE!"}},{"$f":"'SSI Inputs'!$E$32","v":{"$error":"#VALUE!"}},{"$f":"'SSI Inputs'!$E$34","v":{"$error":"#VALUE!"}},{"$f":"'SSI Inputs'!$E$35","v":{"$error":"#VALUE!"}},{"$f":"'SSI Inputs'!$E$36","v":{"$error":"#VALUE!"}},{"$f":"'SSI Inputs'!$E$38","v":{"$error":"#VALUE!"}},{"$f":"'SSI Inputs'!$E$39","v":{"$error":"#VALUE!"}},{"$f":"'SSI Inputs'!$E$40","v":{"$error":"#VALUE!"}},{"$f":"'SSI Inputs'!$R$18","v":175},{"$f":"'SSI Inputs'!$R$19","v":175},{"$f":"'SSI Inputs'!$R$20","v":175},{"$f":"'SSI Inputs'!$R$21","v":175}]
[]
[]
[]
[]
[]
[]
[]
[]
[]
[]
[]
[]
[]
[]
[]
[]
[]
[]
[]
[]
[]
[]
[]
[]
[]
[]
[]
[]
[]
[]
[]
[]
[]
[]
[]
[]
[]
[]
[]
[]
[]
[]
[]
[]
[]
[]
[]
[]
[]
[]
[]
[]
[]
[]
[]
[]
[]
[]
[]
[]
[]
[]
[]
[]
[]
[]
[]
[null,null,null,null,null,null,null,null,null,"Exposure",null,null,null,null,null,null,null,null,null,null,null,null,null,null,null,null,null,null,null,null,null,null,null,null,null,null,"Exposure-Severity-Complexity Product"]
[null,null,null,null,null,null,null,null,null,"Q1","Q2","I"]
[null,null,null,null,null,null,null,null,null,{"$f":"SUMPRODUCT($AN4:$BC4,$AN$33:$BC$33)","v":{"$error":"#VALUE!"}},{"$f":"SUMPRODUCT($BE4:$BT4,$BE$33:$BT$33)","v":{"$error":"#VALUE!"}},{"$f":"PRODUCT(J103:K103)","v":{"$error":"#VALUE!"}},null,null,null,null,null,null,null,null,null,null,null,null,null,null,null,null,null,null,null,null,null,null,null,null,{"$f":"L103*R4*AI4","v":{"$error":"#VALUE!"}}]
[null,null,null,null,null,null,null,null,null,{"$f":"SUMPRODUCT($AN5:$BC5,$AN$33:$BC$33)","v":{"$error":"#VALUE!"}},{"$f":"SUMPRODUCT($BE5:$BT5,$BE$33:$BT$33)","v":{"$error":"#VALUE!"}},{"$f":"PRODUCT(J104:K104)","v":{"$error":"#VALUE!"}},null,null,null,null,null,null,null,null,null,null,null,null,null,null,null,null,null,null,null,null,null,null,null,null,{"$f":"L104*R5*AI5","v":{"$error":"#VALUE!"}}]
[null,null,null,null,null,null,null,null,null,{"$error":"#VALUE!"},{"$error":"#VALUE!"},{"$error":"#VALUE!"},null,null,null,null,null,null,null,null,null,null,null,null,null,null,null,null,null,null,null,null,null,null,null,null,{"$error":"#VALUE!"}]
[null,null,null,null,null,null,null,null,null,{"$error":"#VALUE!"},{"$error":"#VALUE!"},{"$error":"#VALUE!"},null,null,null,null,null,null,null,null,null,null,null,null,null,null,null,null,null,null,null,null,null,null,null,null,{"$error":"#VALUE!"}]
[null,null,null,null,null,null,null,null,null,{"$error":"#VALUE!"},{"$error":"#VALUE!"},{"$error":"#VALUE!"},null,null,null,null,null,null,null,null,null,null,null,null,null,null,null,null,null,null,null,null,null,null,null,null,{"$error":"#VALUE!"}]
[null,null,null,null,null,null,null,null,null,{"$error":"#VALUE!"},{"$error":"#VALUE!"},{"$error":"#VALUE!"},null,null,null,null,null,null,null,null,null,null,null,null,null,null,null,null,null,null,null,null,null,null,null,null,{"$error":"#VALUE!"}]
[null,null,null,null,null,null,null,null,null,{"$error":"#VALUE!"},{"$error":"#VALUE!"},{"$error":"#VALUE!"},null,null,null,null,null,null,null,null,null,null,null,null,null,null,null,null,null,null,null,null,null,null,null,null,{"$error":"#VALUE!"}]
[null,null,null,null,null,null,null,null,null,{"$error":"#VALUE!"},{"$error":"#VALUE!"},{"$error":"#VALUE!"},null,null,null,null,null,null,null,null,null,null,null,null,null,null,null,null,null,null,null,null,null,null,null,null,{"$error":"#VALUE!"}]
[null,null,null,null,null,null,null,null,null,{"$error":"#VALUE!"},{"$error":"#VALUE!"},{"$error":"#VALUE!"},null,null,null,null,null,null,null,null,null,null,null,null,null,null,null,null,null,null,null,null,null,null,null,null,{"$error":"#VALUE!"}]
[null,null,null,null,null,null,null,null,null,{"$error":"#VALUE!"},{"$error":"#VALUE!"},{"$error":"#VALUE!"},null,null,null,null,null,null,null,null,null,null,null,null,null,null,null,null,null,null,null,null,null,null,null,null,{"$error":"#VALUE!"}]
[null,null,null,null,null,null,null,null,null,{"$error":"#VALUE!"},{"$error":"#VALUE!"},{"$error":"#VALUE!"},null,null,null,null,null,null,null,null,null,null,null,null,null,null,null,null,null,null,null,null,null,null,null,null,{"$error":"#VALUE!"}]
[null,null,null,null,null,null,null,null,null,{"$error":"#VALUE!"},{"$error":"#VALUE!"},{"$error":"#VALUE!"},null,null,null,null,null,null,null,null,null,null,null,null,null,null,null,null,null,null,null,null,null,null,null,null,{"$error":"#VALUE!"}]
[null,null,null,null,null,null,null,null,null,{"$error":"#VALUE!"},{"$error":"#VALUE!"},{"$error":"#VALUE!"},null,null,null,null,null,null,null,null,null,null,null,null,null,null,null,null,null,null,null,null,null,null,null,null,{"$error":"#VALUE!"}]
[null,null,null,null,null,null,null,null,null,{"$error":"#VALUE!"},{"$error":"#VALUE!"},{"$error":"#VALUE!"},null,null,null,null,null,null,null,null,null,null,null,null,null,null,null,null,null,null,null,null,null,null,null,null,{"$error":"#VALUE!"}]
[null,null,null,null,null,null,null,null,null,{"$error":"#VALUE!"},{"$error":"#VALUE!"},{"$error":"#VALUE!"},null,null,null,null,null,null,null,null,null,null,null,null,null,null,null,null,null,null,null,null,null,null,null,null,{"$error":"#VALUE!"}]
[null,null,null,null,null,null,null,null,null,{"$error":"#VALUE!"},{"$error":"#VALUE!"},{"$error":"#VALUE!"},null,null,null,null,null,null,null,null,null,null,null,null,null,null,null,null,null,null,null,null,null,null,null,null,{"$error":"#VALUE!"}]
[null,null,null,null,null,null,null,null,null,{"$error":"#VALUE!"},{"$error":"#VALUE!"},{"$error":"#VALUE!"},null,null,null,null,null,null,null,null,null,null,null,null,null,null,null,null,null,null,null,null,null,null,null,null,{"$error":"#VALUE!"}]
[null,null,null,null,null,null,null,null,null,{"$error":"#VALUE!"},{"$error":"#VALUE!"},{"$error":"#VALUE!"},null,null,null,null,null,null,null,null,null,null,null,null,null,null,null,null,null,null,null,null,null,null,null,null,{"$error":"#VALUE!"}]
[null,null,null,null,null,null,null,null,null,{"$error":"#VALUE!"},{"$error":"#VALUE!"},{"$error":"#VALUE!"},null,null,null,null,null,null,null,null,null,null,null,null,null,null,null,null,null,null,null,null,null,null,null,null,{"$error":"#VALUE!"}]
[null,null,null,null,null,null,null,null,null,{"$error":"#VALUE!"},{"$error":"#VALUE!"},{"$error":"#VALUE!"},null,null,null,null,null,null,null,null,null,null,null,null,null,null,null,null,null,null,null,null,null,null,null,null,{"$error":"#VALUE!"}]
[null,null,null,null,null,null,null,null,null,{"$error":"#VALUE!"},{"$error":"#VALUE!"},{"$error":"#VALUE!"},null,null,null,null,null,null,null,null,null,null,null,null,null,null,null,null,null,null,null,null,null,null,null,null,{"$error":"#VALUE!"}]
[null,null,null,null,null,null,null,null,null,{"$error":"#VALUE!"},{"$error":"#VALUE!"},{"$error":"#VALUE!"},null,null,null,null,null,null,null,null,null,null,null,null,null,null,null,null,null,null,null,null,null,null,null,null,{"$error":"#VALUE!"}]
[null,null,null,null,null,null,null,null,null,{"$error":"#VALUE!"},{"$error":"#VALUE!"},{"$error":"#VALUE!"},null,null,null,null,null,null,null,null,null,null,null,null,null,null,null,null,null,null,null,null,null,null,null,null,{"$error":"#VALUE!"}]
[null,null,null,null,null,null,null,null,null,{"$error":"#VALUE!"},{"$error":"#VALUE!"},{"$error":"#VALUE!"},null,null,null,null,null,null,null,null,null,null,null,null,null,null,null,null,null,null,null,null,null,null,null,null,{"$error":"#VALUE!"}]
[null,null,null,null,null,null,null,null,null,{"$error":"#VALUE!"},{"$error":"#VALUE!"},{"$error":"#VALUE!"},null,null,null,null,null,null,null,null,null,null,null,null,null,null,null,null,null,null,null,null,null,null,null,null,{"$error":"#VALUE!"}]
[null,null,null,null,null,null,null,null,null,{"$error":"#VALUE!"},{"$error":"#VALUE!"},{"$error":"#VALUE!"},null,null,null,null,null,null,null,null,null,null,null,null,null,null,null,null,null,null,null,null,null,null,null,null,{"$error":"#VALUE!"}]
[null,null,null,null,null,null,null,null,null,{"$error":"#VALUE!"},{"$error":"#VALUE!"},{"$error":"#VALUE!"},null,null,null,null,null,null,null,null,null,null,null,null,null,null,null,null,null,null,null,null,null,null,null,null,{"$error":"#VALUE!"}]
[null,null,null,null,null,null,null,null,null,{"$error":"#VALUE!"},{"$error":"#VALUE!"},{"$error":"#VALUE!"},null,null,null,null,null,null,null,null,null,null,null,null,null,null,null,null,null,null,null,null,null,null,null,null,{"$error":"#VALUE!"}]

{"sheet":"RAB2x2","index":42,"n_rows":130,"n_cols":72,"rows_kept":130,"cut":false,"hidden":true,"merged":[[1,56,1,71],[0,19,0,28],[0,30,0,32],[1,31,2,31],[1,32,2,32],[1,21,1,25],[1,27,1,28],[1,30,2,30],[100,9,100,11],[100,36,101,36],[1,34,2,34],[1,36,2,36],[1,39,1,54],[1,9,1,11],[1,13,1,17]]}
[null,null,null,null,null,null,null,null,null,null,null,null,null,null,null,null,null,null,null,"Conflicting Traffic Complexity",null,null,null,null,null,null,null,null,null,null,"Pedestrian Complexity"]
[null,null,null,null,null,null,null,null,null,"Exposure",null,null,null,"Severity",null,null,null,null,null,"Traffic Control",null,"Conflicting Lanes",null,null,null,null,null,"Conflicting Speed",null,null,"Indirect Paths Indicator","Non-intuitive movements indicator","Pedestrian Complexity factor",null,"Total Complexity Multiplier",null,"Exposure-Severity-Complexity Product",null,null,"Included in Mvmt1",null,null,null,null,null,null,null,null,null,null,null,null,null,null,null,null,"Included in Mvmt2"]
["#","Conflict Type","Mvmt1","Mvmt1_gen","Mvmt1_SpeedCat","Mvmt2","Mvmt2_gen","Mvmt2_SpeedCat",null,"Q1","Q2","I",null,"Speed_V1","Speed_V2","Angle","delta_V","P_FSI",null,null,null,"MajC","MinC","MajM/P","MinM/P","Score",null,"Speed","Factor",null,null,null,null,null,null,null,null,null,null,"MajT1","MajL1","MajR1","MajT2","MajL2","MajR2","MinT1","MinL1","MinR1","MinT2","MinL2","MinR2","MajNM1","MajNM2","MinNM1","MinNM2",null,"MajT1","MajL1","MajR1","MajT2","MajL2","MajR2","MinT1","MinL1","MinR1","MinT2","MinL2","MinR2","MajNM1","MajNM2","MinNM1","MinNM2"]
[1,"Crossing - RAB","WBT, NBL","MajT2, MinL1","RAB Exiting","SBT, SBL","MinT2, MinL2","RAB Entering",null,{"$f":"SUMPRODUCT($AN4:$BC4,$AN$32:$BC$32)","v":{"$error":"#VALUE!"}},{"$f":"SUMPRODUCT($BE4:$BT4,$BE$32:$BT$32)","v":{"$error":"#VALUE!"}},{"$f":"PRODUCT(J4:K4)","v":{"$error":"#VALUE!"}},null,{"$f":"VLOOKUP(E4,SSI_AGI_Range_VehSpeed,5,FALSE)","v":30},{"$f":"VLOOKUP(H4,SSI_AGI_Range_VehSpeed,5,FALSE)","v":20},{"$f":"IF(B4=\"Nonmotorized\",\"\",VLOOKUP(B4,SSI_AGI_Range_CollAngles,5,FALSE))","v":60},{"$f":"IF(B4=\"Nonmotorized\",\"\",SQRT(N4^2+O4^2-2*N4*O4*COS(RADIANS(P4)))/2)","v":13.228756555322953},{"$f":"IF(B4=\"Nonmotorized\",1/(1+EXP(3.8432-0.1237*O4)),(Q4/SSI_AGI_RegAlpha)^SSI_AGI_RegK+(Q4/SSI_AGI_RegAlpha)^SSI_AGI_RegK-((Q4/SSI_AGI_RegAlpha)^SSI_AGI_RegK)*((Q4/SSI_AGI_RegAlpha)^SSI_AGI_RegK))","v":4.1698027385763141E-3},null,1,null,null,null,null,null,2,null,{"$f":"IF(B4=\"Diverging\",\"\",SSI_AGI_VehSpeed_RABCirc)","v":25},{"$f":"IF(B4=\"Diverging\",1,1-((60-AB4)/60*0.1/0.15))","v":0.61111111111111105},null,null,null,{"$f":"IF(SSI_AGI_ConsiderNMComplexity=\"Yes\",1+AE4+AF4,1)","v":1},null,{"$f":"PRODUCT(Z4,T4,AC4,AG4)","v":1.2222222222222221},null,{"$f":"L4*R4*AI4","v":{"$error":"#VALUE!"}},null,null,{"$f":"IF(ISNUMBER(SEARCH(AN$3,$D4)),1,\"\")","v":""},{"$f":"IF(ISNUMBER(SEARCH(AO$3,$D4)),1,\"\")","v":""},"",1,"","","",1,"","","","","","","","",null,{"$f":"IF(ISNUMBER(SEARCH(BE$3,$G4)),1,\"\")","v":""},{"$f":"IF(ISNUMBER(SEARCH(BF$3,$G4)),1,\"\")","v":""},"","","","","","","",1,1,"","","","",""]
[2,"Crossing - RAB","SBT, WBL","MinT2, MajL2","RAB Exiting","EBT, EBL","MajT1, MajL1","RAB Entering",null,{"$error":"#VALUE!"},{"$f":"SUMPRODUCT($BE5:$BT5,$BE$32:$BT$32)","v":{"$error":"#VALUE!"}},{"$f":"PRODUCT(J5:K5)","v":{"$error":"#VALUE!"}},null,30,20,60,{"$f":"IF(B5=\"Nonmotorized\",\"\",SQRT(N5^2+O5^2-2*N5*O5*COS(RADIANS(P5)))/2)","v":13.228756555322953},4.1698027385763141E-3,null,1,null,null,null,null,null,2,null,25,0.61111111111111105,null,null,null,1,null,1.2222222222222221,null,{"$f":"L5*R5*AI5","v":{"$error":"#VALUE!"}},null,null,{"$f":"IF(ISNUMBER(SEARCH(AN$3,$D5)),1,\"\")","v":""},"","","",1,"","","","",1,"","","","","","",null,{"$f":"IF(ISNUMBER(SEARCH(BE$3,$G5)),1,\"\")","v":1},1,"","","","","","","","","","","","","",""]
[3,"Crossing - RAB","EBT, SBL","MajT1, MinL2","RAB Exiting","NBT, NBL","MinT1, MinL1","RAB Entering",null,{"$error":"#VALUE!"},{"$error":"#VALUE!"},{"$error":"#VALUE!"},null,30,20,60,13.228756555322953,4.1698027385763141E-3,null,1,null,null,null,null,null,2,null,25,0.61111111111111105,null,null,null,1,null,1.2222222222222221,null,{"$error":"#VALUE!"},null,null,1,"","","","","","","","","",1,"","","","","",null,"","","","","","",1,1,"","","","","","","",""]
[4,"Crossing - RAB","NBT, EBL","MinT1, MajL1","RAB Exiting","WBT, WBL","MajT2, MajL2","RAB Entering",null,{"$error":"#VALUE!"},{"$error":"#VALUE!"},{"$error":"#VALUE!"},null,30,20,60,13.228756555322953,4.1698027385763141E-3,null,1,null,null,null,null,null,2,null,25,0.61111111111111105,null,null,null,1,null,1.2222222222222221,null,{"$error":"#VALUE!"},null,null,"",1,"","","","",1,"","","","","","","","","",null,"","","",1,1,"","","","","","","","","","",""]
[5,"Merging","WBT, NBL","MajT2, MinL1","RAB Exiting","SBR","MinR2","RAB Entering",null,{"$error":"#VALUE!"},{"$error":"#VALUE!"},{"$error":"#VALUE!"},null,30,20,45,10.623933623853066,1.8155470372595635E-3,null,1,null,null,null,null,null,1.75,null,25,0.61111111111111105,null,null,null,1,null,1.0694444444444444,null,{"$error":"#VALUE!"},null,null,"","","",1,"","","",1,"","","","","","","","",null,"","","","","","","","","","","",1,"","","",""]
[6,"Merging","WBL","MajL2","RAB Circulating","SBT, SBL","MinT2, MinL2","RAB Entering",null,{"$error":"#VALUE!"},{"$error":"#VALUE!"},{"$error":"#VALUE!"},null,25,20,45,8.9147801264732891,9.333798723087925E-4,null,1,null,null,null,null,null,2,null,25,0.61111111111111105,null,null,null,1,null,1.2222222222222221,null,{"$error":"#VALUE!"},null,null,"","","","",1,"","","","","","","","","","","",null,"","","","","","","","","",1,1,"","","","",""]
[7,"Merging","SBT, WBL","MinT2, MajL2","RAB Exiting","EBR","MajR1","RAB Entering",null,{"$error":"#VALUE!"},{"$error":"#VALUE!"},{"$error":"#VALUE!"},null,30,20,45,10.623933623853066,1.8155470372595635E-3,null,1,null,null,null,null,null,1.75,null,25,0.61111111111111105,null,null,null,1,null,1.0694444444444444,null,{"$error":"#VALUE!"},null,null,"","","","",1,"","","","",1,"","","","","","",null,"","",1,"","","","","","","","","","","","",""]
[8,"Merging","SBL","MinL2","RAB Circulating","EBT, EBL","MajT1, MajL1","RAB Entering",null,{"$error":"#VALUE!"},{"$error":"#VALUE!"},{"$error":"#VALUE!"},null,25,20,45,8.9147801264732891,9.333798723087925E-4,null,1,null,null,null,null,null,2,null,25,0.61111111111111105,null,null,null,1,null,1.2222222222222221,null,{"$error":"#VALUE!"},null,null,"","","","","","","","","","",1,"","","","","",null,1,1,"","","","","","","","","","","","","",""]
[9,"Merging","EBT, SBL","MajT1, MinL2","RAB Exiting","NBR","MinR1","RAB Entering",null,{"$error":"#VALUE!"},{"$error":"#VALUE!"},{"$error":"#VALUE!"},null,30,20,45,10.623933623853066,1.8155470372595635E-3,null,1,null,null,null,null,null,1.75,null,25,0.61111111111111105,null,null,null,1,null,1.0694444444444444,null,{"$error":"#VALUE!"},null,null,1,"","","","","","","","","",1,"","","","","",null,"","","","","","","","",1,"","","","","","",""]
[10,"Merging","EBL","MajL1","RAB Circulating","NBT, NBL","MinT1, MinL1","RAB Entering",null,{"$error":"#VALUE!"},{"$error":"#VALUE!"},{"$error":"#VALUE!"},null,25,20,45,8.9147801264732891,9.333798723087925E-4,null,1,null,null,null,null,null,2,null,25,0.61111111111111105,null,null,null,1,null,1.2222222222222221,null,{"$error":"#VALUE!"},null,null,"",1,"","","","","","","","","","","","","","",null,"","","","","","",1,1,"","","","","","","",""]
[11,"Merging","NBT, EBL","MinT1, MajL2","RAB Exiting","WBR","MajR2","RAB Entering",null,{"$error":"#VALUE!"},{"$error":"#VALUE!"},{"$error":"#VALUE!"},null,30,20,45,10.623933623853066,1.8155470372595635E-3,null,1,null,null,null,null,null,1.75,null,25,0.61111111111111105,null,null,null,1,null,1.0694444444444444,null,{"$error":"#VALUE!"},null,null,"","","","",1,"",1,"","","","","","","","","",null,"","","","","",1,"","","","","","","","","",""]
[12,"Merging","NBL","MinL1","RAB Circulating","WBT, WBL","MajT2, MajL2","RAB Entering",null,{"$error":"#VALUE!"},{"$error":"#VALUE!"},{"$error":"#VALUE!"},null,25,20,45,8.9147801264732891,9.333798723087925E-4,null,1,null,null,null,null,null,2,null,25,0.61111111111111105,null,null,null,1,null,1.2222222222222221,null,{"$error":"#VALUE!"},null,null,"","","","","","","",1,"","","","","","","","",null,"","","",1,1,"","","","","","","","","","",""]
[13,"Diverging","SBR","MinR2","RAB Circulating","SBT, SBL","MinT2, MinL2","RAB Entering",null,{"$error":"#VALUE!"},{"$error":"#VALUE!"},{"$error":"#VALUE!"},null,25,20,10,3.1698677806728797,1.8457105347369804E-5,null,1,null,null,null,null,null,1,null,"",1,null,null,null,1,null,1,null,{"$error":"#VALUE!"},null,null,"","","","","","","","","","","",1,"","","","",null,"","","","","","","","","",1,1,"","","","",""]
[14,"Diverging","WBL","MajL2","RAB Circulating","WBT, NBL","MajT2, MinL1","RAB Exiting",null,{"$error":"#VALUE!"},{"$error":"#VALUE!"},{"$error":"#VALUE!"},null,25,30,10,3.4564566568122888,2.5632912055290634E-5,null,1,null,null,null,null,null,1,null,"",1,null,null,null,1,null,1,null,{"$error":"#VALUE!"},null,null,"","","","",1,"","","","","","","","","","","",null,"","","",1,"","","",1,"","","","","","","",""]
[15,"Diverging","EBR","MajR1","RAB Circulating","EBT, EBL","MajT1, MajL1","RAB Entering",null,{"$error":"#VALUE!"},{"$error":"#VALUE!"},{"$error":"#VALUE!"},null,25,20,10,3.1698677806728797,1.8457105347369804E-5,null,1,null,null,null,null,null,1,null,"",1,null,null,null,1,null,1,null,{"$error":"#VALUE!"},null,null,"","",1,"","","","","","","","","","","","","",null,1,1,"","","","","","","","","","","","","",""]
[16,"Diverging","SBL","MinL2","RAB Circulating","SBT, WBL","MinT2, MajL1","RAB Exiting",null,{"$error":"#VALUE!"},{"$error":"#VALUE!"},{"$error":"#VALUE!"},null,25,30,10,3.4564566568122888,2.5632912055290634E-5,null,1,null,null,null,null,null,1,null,"",1,null,null,null,1,null,1,null,{"$error":"#VALUE!"},null,null,"","","","","","","","","","",1,"","","","","",null,"",1,"","","","","","","",1,"","","","","",""]
[17,"Diverging","NBR","MinR1","RAB Circulating","NBT, NBL","MinT1, MinL1","RAB Entering",null,{"$error":"#VALUE!"},{"$error":"#VALUE!"},{"$error":"#VALUE!"},null,25,20,10,3.1698677806728797,1.8457105347369804E-5,null,1,null,null,null,null,null,1,null,"",1,null,null,null,1,null,1,null,{"$error":"#VALUE!"},null,null,"","","","","","","","",1,"","","","","","","",null,"","","","","","",1,1,"","","","","","","",""]
[18,"Diverging","EBL","MajL1","RAB Circulating","EBT, SBL","MajT1, MinL2","RAB Exiting",null,{"$error":"#VALUE!"},{"$error":"#VALUE!"},{"$error":"#VALUE!"},null,25,30,10,3.4564566568122888,2.5632912055290634E-5,null,1,null,null,null,null,null,1,null,"",1,null,null,null,1,null,1,null,{"$error":"#VALUE!"},null,null,"",1,"","","","","","","","","","","","","","",null,1,"","","","","","","","","",1,"","","","",""]
[19,"Diverging","WBR","MajR2","RAB Circulating","WBT, WBL","MajT2, MajL2","RAB Entering",null,{"$error":"#VALUE!"},{"$error":"#VALUE!"},{"$error":"#VALUE!"},null,25,20,10,3.1698677806728797,1.8457105347369804E-5,null,1,null,null,null,null,null,1,null,"",1,null,null,null,1,null,1,null,{"$error":"#VALUE!"},null,null,"","","","","",1,"","","","","","","","","","",null,"","","",1,1,"","","","","","","","","","",""]
[20,"Diverging","NBL","MinL1","RAB Circulating","NBT, EBL","MinT1, MajL1","RAB Exiting",null,{"$error":"#VALUE!"},{"$error":"#VALUE!"},{"$error":"#VALUE!"},null,25,30,10,3.4564566568122888,2.5632912055290634E-5,null,1,null,null,null,null,null,1,null,"",1,null,null,null,1,null,1,null,{"$error":"#VALUE!"},null,null,"","","","","","","",1,"","","","","","","","",null,"",1,"","","","",1,"","","","","","","","",""]
[21,"Nonmotorized","EB Ped","MajNM1","Nonmotorized","WBT, NBL, SBR","MajT2, MinL1, MinR2","RAB Exiting",null,{"$error":"#VALUE!"},{"$error":"#VALUE!"},{"$error":"#VALUE!"},null,0,30,"","",0.46699805015542578,null,1,null,null,null,null,null,2,null,{"$f":"IF(B24=\"Diverging\",\"\",SSI_AGI_VehSpeed_RABExit)","v":30},0.66666666666666663,null,1,null,2,null,2.6666666666666665,null,{"$error":"#VALUE!"},null,null,"","","","","","","","","","","","",1,"","","",null,"","","",1,"","","",1,"","","",1,"","","",""]
[22,"Nonmotorized","EB Ped","MajNM1","Nonmotorized","EBT, EBL, EBR","MajT1, MajL1, MajR1","RAB Entering",null,{"$error":"#VALUE!"},{"$error":"#VALUE!"},{"$error":"#VALUE!"},null,0,20,"","",0.20274912921655375,null,1,null,null,null,null,null,2,null,{"$f":"IF(B25=\"Diverging\",\"\",SSI_AGI_VehSpeed_RABEnter)","v":20},0.55555555555555558,null,1,null,2,null,2.2222222222222223,null,{"$error":"#VALUE!"},null,null,"","","","","","","","","","","","",1,"","","",null,1,1,1,"","","","","","","","","","","","",""]
[23,"Nonmotorized","NB Ped","MinNM1","Nonmotorized","SBT, WBL, EBR","MinT2, MajL2, MajR1","RAB Exiting",null,{"$error":"#VALUE!"},{"$error":"#VALUE!"},{"$error":"#VALUE!"},null,0,30,"","",0.46699805015542578,null,1,null,null,null,null,null,2,null,{"$f":"IF(B26=\"Diverging\",\"\",SSI_AGI_VehSpeed_RABExit)","v":30},0.66666666666666663,null,1,null,2,null,2.6666666666666665,null,{"$error":"#VALUE!"},null,null,"","","","","","","","","","","","","","",1,"",null,"","",1,"",1,"","","","",1,"","","","","",""]
[24,"Nonmotorized","NB Ped","MinNM1","Nonmotorized","NBT, NBL, NBR","MinT1, MinL1, MinR1","RAB Entering",null,{"$error":"#VALUE!"},{"$error":"#VALUE!"},{"$error":"#VALUE!"},null,0,20,"","",0.20274912921655375,null,1,null,null,null,null,null,2,null,{"$f":"IF(B27=\"Diverging\",\"\",SSI_AGI_VehSpeed_RABEnter)","v":20},0.55555555555555558,null,1,null,2,null,2.2222222222222223,null,{"$error":"#VALUE!"},null,null,"","","","","","","","","","","","","","",1,"",null,"","","","","","",1,1,1,"","","","","","",""]
[25,"Nonmotorized","WB Ped","MajNM2","Nonmotorized","EBT, SBL, NBR","MajT1, MinL2, MinR1","RAB Exiting",null,{"$error":"#VALUE!"},{"$error":"#VALUE!"},{"$error":"#VALUE!"},null,0,30,"","",0.46699805015542578,null,1,null,null,null,null,null,2,null,{"$f":"IF(B28=\"Diverging\",\"\",SSI_AGI_VehSpeed_RABExit)","v":30},0.66666666666666663,null,1,null,2,null,2.6666666666666665,null,{"$error":"#VALUE!"},null,null,"","","","","","","","","","","","","",1,"","",null,1,"","","","","","","",1,"",1,"","","","",""]
[26,"Nonmotorized","WB Ped","MajNM2","Nonmotorized","WBT, WBL, WBR","MajT2, MajL2, MajR2","RAB Entering",null,{"$error":"#VALUE!"},{"$error":"#VALUE!"},{"$error":"#VALUE!"},null,0,20,"","",0.20274912921655375,null,1,null,null,null,null,null,2,null,{"$f":"IF(B29=\"Diverging\",\"\",SSI_AGI_VehSpeed_RABEnter)","v":20},0.55555555555555558,null,1,null,2,null,2.2222222222222223,null,{"$error":"#VALUE!"},null,null,"","","","","","","","","","","","","",1,"","",null,"","","",1,1,1,"","","","","","","","","",""]
[27,"Nonmotorized","SB Ped","MinNM2","Nonmotorized","NBT, EBL, WBR","MinT1, MajL1, MajR2","RAB Exiting",null,{"$error":"#VALUE!"},{"$error":"#VALUE!"},{"$error":"#VALUE!"},null,0,30,"","",0.46699805015542578,null,1,null,null,null,null,null,2,null,{"$f":"IF(B30=\"Diverging\",\"\",SSI_AGI_VehSpeed_RABExit)","v":30},0.66666666666666663,null,1,null,2,null,2.6666666666666665,null,{"$error":"#VALUE!"},null,null,"","","","","","","","","","","","","","","",1,null,"",1,"","","",1,1,"","","","","","","","",""]
[28,"Nonmotorized","SB Ped","MinNM2","Nonmotorized","SBT, SBL, SBR","MinT2, MinL2, MinR2","RAB Entering",null,{"$error":"#VALUE!"},{"$error":"#VALUE!"},{"$error":"#VALUE!"},null,0,20,"","",0.20274912921655375,null,1,null,null,null,null,null,2,null,{"$f":"IF(B31=\"Diverging\",\"\",SSI_AGI_VehSpeed_RABEnter)","v":20},0.55555555555555558,null,1,null,2,null,2.2222222222222223,null,{"$error":"#VALUE!"},null,null,"","","","","","","","","","","","","","","",1,null,"","","","","","","","","",1,1,1,"","","",""]
[null,null,null,null,null,null,null,null,null,null,null,null,null,null,null,null,null,null,null,null,null,null,null,null,null,null,null,null,null,null,null,null,null,null,null,null,null,null,"O",{"$f":"'SSI Inputs'!$D$26","v":{"$error":"#VALUE!"}},{"$f":"'SSI Inputs'!$D$27","v":{"$error":"#VALUE!"}},{"$f":"'SSI Inputs'!$D$28","v":{"$error":"#VALUE!"}},{"$f":"'SSI Inputs'!$D$30","v":{"$error":"#VALUE!"}},{"$f":"'SSI Inputs'!$D$31","v":{"$error":"#VALUE!"}},{"$f":"'SSI Inputs'!$D$32","v":{"$error":"#VALUE!"}},{"$f":"'SSI Inputs'!$D$34","v":{"$error":"#VALUE!"}},{"$f":"'SSI Inputs'!$D$35","v":{"$error":"#VALUE!"}},{"$f":"'SSI Inputs'!$D$36","v":{"$error":"#VALUE!"}},{"$f":"'SSI Inputs'!$D$38","v":{"$error":"#VALUE!"}},{"$f":"'SSI Inputs'!$D$39","v":{"$error":"#VALUE!"}},{"$f":"'SSI Inputs'!$D$40","v":{"$error":"#VALUE!"}},{"$f":"'SSI Inputs'!$Q$18","v":175},{"$f":"'SSI Inputs'!$Q$19","v":175},{"$f":"'SSI Inputs'!$Q$20","v":175},{"$f":"'SSI Inputs'!$Q$21","v":175},"O",{"$f":"'SSI Inputs'!$D$26","v":{"$error":"#VALUE!"}},{"$f":"'SSI Inputs'!$D$27","v":{"$error":"#VALUE!"}},{"$f":"'SSI Inputs'!$D$28","v":{"$error":"#VALUE!"}},{"$f":"'SSI Inputs'!$D$30","v":{"$error":"#VALUE!"}},{"$f":"'SSI Inputs'!$D$31","v":{"$error":"#VALUE!"}},{"$f":"'SSI Inputs'!$D$32","v":{"$error":"#VALUE!"}},{"$f":"'SSI Inputs'!$D$34","v":{"$error":"#VALUE!"}},{"$f":"'SSI Inputs'!$D$35","v":{"$error":"#VALUE!"}},{"$f":"'SSI Inputs'!$D$36","v":{"$error":"#VALUE!"}},{"$f":"'SSI Inputs'!$D$38","v":{"$error":"#VALUE!"}},{"$f":"'SSI Inputs'!$D$39","v":{"$error":"#VALUE!"}},{"$f":"'SSI Inputs'!$D$40","v":{"$error":"#VALUE!"}},{"$f":"'SSI Inputs'!$Q$18","v":175},{"$f":"'SSI Inputs'!$Q$19","v":175},{"$f":"'SSI Inputs'!$Q$20","v":175},{"$f":"'SSI Inputs'!$Q$21","v":175}]
[null,null,null,null,null,null,null,null,null,null,null,null,null,null,null,null,null,null,null,null,null,null,null,null,null,null,null,null,null,null,null,null,null,null,null,null,null,null,"D",{"$f":"'SSI Inputs'!$E$26","v":{"$error":"#VALUE!"}},{"$f":"'SSI Inputs'!$E$27","v":{"$error":"#VALUE!"}},{"$f":"'SSI Inputs'!$E$28","v":{"$error":"#VALUE!"}},{"$f":"'SSI Inputs'!$E$30","v":{"$error":"#VALUE!"}},{"$f":"'SSI Inputs'!$E$31","v":{"$error":"#VALUE!"}},{"$f":"'SSI Inputs'!$E$32","v":{"$error":"#VALUE!"}},{"$f":"'SSI Inputs'!$E$34","v":{"$error":"#VALUE!"}},{"$f":"'SSI Inputs'!$E$35","v":{"$error":"#VALUE!"}},{"$f":"'SSI Inputs'!$E$36","v":{"$error":"#VALUE!"}},{"$f":"'SSI Inputs'!$E$38","v":{"$error":"#VALUE!"}},{"$f":"'SSI Inputs'!$E$39","v":{"$error":"#VALUE!"}},{"$f":"'SSI Inputs'!$E$40","v":{"$error":"#VALUE!"}},{"$f":"'SSI Inputs'!$R$18","v":175},{"$f":"'SSI Inputs'!$R$19","v":175},{"$f":"'SSI Inputs'!$R$20","v":175},{"$f":"'SSI Inputs'!$R$21","v":175},"D",{"$f":"'SSI Inputs'!$E$26","v":{"$error":"#VALUE!"}},{"$f":"'SSI Inputs'!$E$27","v":{"$error":"#VALUE!"}},{"$f":"'SSI Inputs'!$E$28","v":{"$error":"#VALUE!"}},{"$f":"'SSI Inputs'!$E$30","v":{"$error":"#VALUE!"}},{"$f":"'SSI Inputs'!$E$31","v":{"$error":"#VALUE!"}},{"$f":"'SSI Inputs'!$E$32","v":{"$error":"#VALUE!"}},{"$f":"'SSI Inputs'!$E$34","v":{"$error":"#VALUE!"}},{"$f":"'SSI Inputs'!$E$35","v":{"$error":"#VALUE!"}},{"$f":"'SSI Inputs'!$E$36","v":{"$error":"#VALUE!"}},{"$f":"'SSI Inputs'!$E$38","v":{"$error":"#VALUE!"}},{"$f":"'SSI Inputs'!$E$39","v":{"$error":"#VALUE!"}},{"$f":"'SSI Inputs'!$E$40","v":{"$error":"#VALUE!"}},{"$f":"'SSI Inputs'!$R$18","v":175},{"$f":"'SSI Inputs'!$R$19","v":175},{"$f":"'SSI Inputs'!$R$20","v":175},{"$f":"'SSI Inputs'!$R$21","v":175}]
[]
[]
[]
[]
[]
[]
[]
[]
[]
[]
[]
[]
[]
[]
[]
[]
[]
[]
[]
[]
[]
[]
[]
[]
[]
[]
[]
[]
[]
[]
[]
[]
[]
[]
[]
[]
[]
[]
[]
[]
[]
[]
[]
[]
[]
[]
[]
[]
[]
[]
[]
[]
[]
[]
[]
[]
[]
[]
[]
[]
[]
[]
[]
[]
[]
[]
[]
[null,null,null,null,null,null,null,null,null,"Exposure",null,null,null,null,null,null,null,null,null,null,null,null,null,null,null,null,null,null,null,null,null,null,null,null,null,null,"Exposure-Severity-Complexity Product"]
[null,null,null,null,null,null,null,null,null,"Q1","Q2","I"]
[null,null,null,null,null,null,null,null,null,{"$f":"SUMPRODUCT($AN4:$BC4,$AN$33:$BC$33)","v":{"$error":"#VALUE!"}},{"$f":"SUMPRODUCT($BE4:$BT4,$BE$33:$BT$33)","v":{"$error":"#VALUE!"}},{"$f":"PRODUCT(J103:K103)","v":{"$error":"#VALUE!"}},null,null,null,null,null,null,null,null,null,null,null,null,null,null,null,null,null,null,null,null,null,null,null,null,{"$f":"L103*R4*AI4","v":{"$error":"#VALUE!"}}]
[null,null,null,null,null,null,null,null,null,{"$f":"SUMPRODUCT($AN5:$BC5,$AN$33:$BC$33)","v":{"$error":"#VALUE!"}},{"$f":"SUMPRODUCT($BE5:$BT5,$BE$33:$BT$33)","v":{"$error":"#VALUE!"}},{"$f":"PRODUCT(J104:K104)","v":{"$error":"#VALUE!"}},null,null,null,null,null,null,null,null,null,null,null,null,null,null,null,null,null,null,null,null,null,null,null,null,{"$f":"L104*R5*AI5","v":{"$error":"#VALUE!"}}]
[null,null,null,null,null,null,null,null,null,{"$error":"#VALUE!"},{"$error":"#VALUE!"},{"$error":"#VALUE!"},null,null,null,null,null,null,null,null,null,null,null,null,null,null,null,null,null,null,null,null,null,null,null,null,{"$error":"#VALUE!"}]
[null,null,null,null,null,null,null,null,null,{"$error":"#VALUE!"},{"$error":"#VALUE!"},{"$error":"#VALUE!"},null,null,null,null,null,null,null,null,null,null,null,null,null,null,null,null,null,null,null,null,null,null,null,null,{"$error":"#VALUE!"}]
[null,null,null,null,null,null,null,null,null,{"$error":"#VALUE!"},{"$error":"#VALUE!"},{"$error":"#VALUE!"},null,null,null,null,null,null,null,null,null,null,null,null,null,null,null,null,null,null,null,null,null,null,null,null,{"$error":"#VALUE!"}]
[null,null,null,null,null,null,null,null,null,{"$error":"#VALUE!"},{"$error":"#VALUE!"},{"$error":"#VALUE!"},null,null,null,null,null,null,null,null,null,null,null,null,null,null,null,null,null,null,null,null,null,null,null,null,{"$error":"#VALUE!"}]
[null,null,null,null,null,null,null,null,null,{"$error":"#VALUE!"},{"$error":"#VALUE!"},{"$error":"#VALUE!"},null,null,null,null,null,null,null,null,null,null,null,null,null,null,null,null,null,null,null,null,null,null,null,null,{"$error":"#VALUE!"}]
[null,null,null,null,null,null,null,null,null,{"$error":"#VALUE!"},{"$error":"#VALUE!"},{"$error":"#VALUE!"},null,null,null,null,null,null,null,null,null,null,null,null,null,null,null,null,null,null,null,null,null,null,null,null,{"$error":"#VALUE!"}]
[null,null,null,null,null,null,null,null,null,{"$error":"#VALUE!"},{"$error":"#VALUE!"},{"$error":"#VALUE!"},null,null,null,null,null,null,null,null,null,null,null,null,null,null,null,null,null,null,null,null,null,null,null,null,{"$error":"#VALUE!"}]
[null,null,null,null,null,null,null,null,null,{"$error":"#VALUE!"},{"$error":"#VALUE!"},{"$error":"#VALUE!"},null,null,null,null,null,null,null,null,null,null,null,null,null,null,null,null,null,null,null,null,null,null,null,null,{"$error":"#VALUE!"}]
[null,null,null,null,null,null,null,null,null,{"$error":"#VALUE!"},{"$error":"#VALUE!"},{"$error":"#VALUE!"},null,null,null,null,null,null,null,null,null,null,null,null,null,null,null,null,null,null,null,null,null,null,null,null,{"$error":"#VALUE!"}]
[null,null,null,null,null,null,null,null,null,{"$error":"#VALUE!"},{"$error":"#VALUE!"},{"$error":"#VALUE!"},null,null,null,null,null,null,null,null,null,null,null,null,null,null,null,null,null,null,null,null,null,null,null,null,{"$error":"#VALUE!"}]
[null,null,null,null,null,null,null,null,null,{"$error":"#VALUE!"},{"$error":"#VALUE!"},{"$error":"#VALUE!"},null,null,null,null,null,null,null,null,null,null,null,null,null,null,null,null,null,null,null,null,null,null,null,null,{"$error":"#VALUE!"}]
[null,null,null,null,null,null,null,null,null,{"$error":"#VALUE!"},{"$error":"#VALUE!"},{"$error":"#VALUE!"},null,null,null,null,null,null,null,null,null,null,null,null,null,null,null,null,null,null,null,null,null,null,null,null,{"$error":"#VALUE!"}]
[null,null,null,null,null,null,null,null,null,{"$error":"#VALUE!"},{"$error":"#VALUE!"},{"$error":"#VALUE!"},null,null,null,null,null,null,null,null,null,null,null,null,null,null,null,null,null,null,null,null,null,null,null,null,{"$error":"#VALUE!"}]
[null,null,null,null,null,null,null,null,null,{"$error":"#VALUE!"},{"$error":"#VALUE!"},{"$error":"#VALUE!"},null,null,null,null,null,null,null,null,null,null,null,null,null,null,null,null,null,null,null,null,null,null,null,null,{"$error":"#VALUE!"}]
[null,null,null,null,null,null,null,null,null,{"$error":"#VALUE!"},{"$error":"#VALUE!"},{"$error":"#VALUE!"},null,null,null,null,null,null,null,null,null,null,null,null,null,null,null,null,null,null,null,null,null,null,null,null,{"$error":"#VALUE!"}]
[null,null,null,null,null,null,null,null,null,{"$error":"#VALUE!"},{"$error":"#VALUE!"},{"$error":"#VALUE!"},null,null,null,null,null,null,null,null,null,null,null,null,null,null,null,null,null,null,null,null,null,null,null,null,{"$error":"#VALUE!"}]
[null,null,null,null,null,null,null,null,null,{"$error":"#VALUE!"},{"$error":"#VALUE!"},{"$error":"#VALUE!"},null,null,null,null,null,null,null,null,null,null,null,null,null,null,null,null,null,null,null,null,null,null,null,null,{"$error":"#VALUE!"}]
[null,null,null,null,null,null,null,null,null,{"$error":"#VALUE!"},{"$error":"#VALUE!"},{"$error":"#VALUE!"},null,null,null,null,null,null,null,null,null,null,null,null,null,null,null,null,null,null,null,null,null,null,null,null,{"$error":"#VALUE!"}]
[null,null,null,null,null,null,null,null,null,{"$error":"#VALUE!"},{"$error":"#VALUE!"},{"$error":"#VALUE!"},null,null,null,null,null,null,null,null,null,null,null,null,null,null,null,null,null,null,null,null,null,null,null,null,{"$error":"#VALUE!"}]
[null,null,null,null,null,null,null,null,null,{"$error":"#VALUE!"},{"$error":"#VALUE!"},{"$error":"#VALUE!"},null,null,null,null,null,null,null,null,null,null,null,null,null,null,null,null,null,null,null,null,null,null,null,null,{"$error":"#VALUE!"}]
[null,null,null,null,null,null,null,null,null,{"$error":"#VALUE!"},{"$error":"#VALUE!"},{"$error":"#VALUE!"},null,null,null,null,null,null,null,null,null,null,null,null,null,null,null,null,null,null,null,null,null,null,null,null,{"$error":"#VALUE!"}]
[null,null,null,null,null,null,null,null,null,{"$error":"#VALUE!"},{"$error":"#VALUE!"},{"$error":"#VALUE!"},null,null,null,null,null,null,null,null,null,null,null,null,null,null,null,null,null,null,null,null,null,null,null,null,{"$error":"#VALUE!"}]
[null,null,null,null,null,null,null,null,null,{"$error":"#VALUE!"},{"$error":"#VALUE!"},{"$error":"#VALUE!"},null,null,null,null,null,null,null,null,null,null,null,null,null,null,null,null,null,null,null,null,null,null,null,null,{"$error":"#VALUE!"}]
[null,null,null,null,null,null,null,null,null,{"$error":"#VALUE!"},{"$error":"#VALUE!"},{"$error":"#VALUE!"},null,null,null,null,null,null,null,null,null,null,null,null,null,null,null,null,null,null,null,null,null,null,null,null,{"$error":"#VALUE!"}]
[null,null,null,null,null,null,null,null,null,{"$error":"#VALUE!"},{"$error":"#VALUE!"},{"$error":"#VALUE!"},null,null,null,null,null,null,null,null,null,null,null,null,null,null,null,null,null,null,null,null,null,null,null,null,{"$error":"#VALUE!"}]
[null,null,null,null,null,null,null,null,null,{"$error":"#VALUE!"},{"$error":"#VALUE!"},{"$error":"#VALUE!"},null,null,null,null,null,null,null,null,null,null,null,null,null,null,null,null,null,null,null,null,null,null,null,null,{"$error":"#VALUE!"}]

{"sheet":"MUT","index":43,"n_rows":134,"n_cols":72,"rows_kept":134,"cut":false,"hidden":true,"merged":[[1,56,1,71],[0,19,0,28],[0,30,0,32],[1,31,2,31],[1,32,2,32],[1,21,1,25],[1,27,1,28],[1,30,2,30],[100,9,100,11],[100,36,101,36],[1,34,2,34],[1,36,2,36],[1,39,1,54],[1,9,1,11],[1,13,1,17]]}
[null,null,null,null,null,null,null,null,null,null,null,null,null,null,null,null,null,null,null,"Conflicting Traffic Complexity",null,null,null,null,null,null,null,null,null,null,"Pedestrian Complexity"]
[null,null,null,null,null,null,null,null,null,"Exposure",null,null,null,"Severity",null,null,null,null,null,"Traffic Control",null,"Conflicting Lanes",null,null,null,null,null,"Conflicting Speed",null,null,"Indirect Paths Indicator","Non-intuitive movements indicator","Pedestrian Complexity factor",null,"Total Complexity Multiplier",null,"Exposure-Severity-Complexity Product",null,null,"Included in Mvmt1",null,null,null,null,null,null,null,null,null,null,null,null,null,null,null,null,"Included in Mvmt2"]
["#","Conflict Type","Mvmt1","Mvmt1_gen","Mvmt1_SpeedCat","Mvmt2","Mvmt2_gen","Mvmt2_SpeedCat",null,"Q1","Q2","I",null,"Speed_V1","Speed_V2","Angle","delta_V","P_FSI",null,null,null,"MajC","MinC","MajM/P","MinM/P","Score",null,"Speed","Factor",null,null,null,null,null,null,null,null,null,null,"MajT1","MajL1","MajR1","MajT2","MajL2","MajR2","MinT1","MinL1","MinR1","MinT2","MinL2","MinR2","MajNM1","MajNM2","MinNM1","MinNM2",null,"MajT1","MajL1","MajR1","MajT2","MajL2","MajR2","MinT1","MinL1","MinR1","MinT2","MinL2","MinR2","MajNM1","MajNM2","MinNM1","MinNM2"]
[1,"Crossing","EBT, EBL, SBL","MajT1, MajL1, MinL2","Major thru","SBT","MinT2","Signal far",null,{"$f":"SUMPRODUCT($AN4:$BC4,$AN$36:$BC$36)","v":{"$error":"#VALUE!"}},{"$f":"SUMPRODUCT($BE4:$BT4,$BE$36:$BT$36)","v":{"$error":"#VALUE!"}},{"$f":"PRODUCT(J4:K4)","v":{"$error":"#VALUE!"}},null,{"$f":"VLOOKUP(E4,SSI_AGI_Range_VehSpeed,5,FALSE)","v":45},{"$f":"VLOOKUP(H4,SSI_AGI_Range_VehSpeed,5,FALSE)","v":25},{"$f":"IF(B4=\"Nonmotorized\",\"\",VLOOKUP(B4,SSI_AGI_Range_CollAngles,5,FALSE))","v":90},{"$f":"IF(B4=\"Nonmotorized\",\"\",SQRT(N4^2+O4^2-2*N4*O4*COS(RADIANS(P4)))/2)","v":25.739075352467502},{"$f":"IF(B4=\"Nonmotorized\",1/(1+EXP(3.8432-0.1237*O4)),(Q4/SSI_AGI_RegAlpha)^SSI_AGI_RegK+(Q4/SSI_AGI_RegAlpha)^SSI_AGI_RegK-((Q4/SSI_AGI_RegAlpha)^SSI_AGI_RegK)*((Q4/SSI_AGI_RegAlpha)^SSI_AGI_RegK))","v":5.1494149230103807E-2},null,{"$f":"SSI_AGI_ProtFactor","v":0.505},null,1,null,null,null,{"$f":"MAX(1,IF(B4<>\"Pedestrian\",V4*SSI_AGI_MajorThruLanes+W4*SSI_AGI_MinorThruLanes+X4*IF(SSI_AGI_MajorThruLanes=1,SSI_AGI_MergeWeightL1,IF(SSI_AGI_MajorThruLanes=2,SSI_AGI_MergeWeightL1+SSI_AGI_MergeWeightL2,SSI_AGI_MergeWeightL1+SSI_AGI_MergeWeightL2+SSI_AGI_MergeWeightL3*(SSI_AGI_MajorThruLanes-2)))+Y4*IF(SSI_AGI_MinorThruLanes=1,SSI_AGI_MergeWeightL1,IF(SSI_AGI_MinorThruLanes=2,SSI_AGI_MergeWeightL1+SSI_AGI_MergeWeightL2,SSI_AGI_MergeWeightL1+SSI_AGI_MergeWeightL2+SSI_AGI_MergeWeightL3*(SSI_AGI_MinorThruLanes-2))),V4*SSI_AGI_MajorThruLanes+W4*SSI_AGI_MinorThruLanes+X4*IF(SSI_AGI_MajorThruLanes=1,SSI_AGI_NM_MergeWeightL1,IF(SSI_AGI_MajorThruLanes=2,SSI_AGI_NM_MergeWeightL1+SSI_AGI_NM_MergeWeightL2,SSI_AGI_NM_MergeWeightL1+SSI_AGI_NM_MergeWeightL2+SSI_AGI_NM_MergeWeightL3*(SSI_AGI_MajorThruLanes-2)))+Y4*IF(SSI_AGI_MinorThruLanes=1,SSI_AGI_NM_MergeWeightL1,IF(SSI_AGI_MinorThruLanes=2,SSI_AGI_NM_MergeWeightL1+SSI_AGI_NM_MergeWeightL2,SSI_AGI_NM_MergeWeightL1+SSI_AGI_NM_MergeWeightL2+SSI_AGI_NM_MergeWeightL3*(SSI_AGI_MinorThruLanes-2)))))","v":2},null,{"$f":"IF(B4=\"Diverging\",\"\",SSI_AGI_VehSpeed_MjrThru)","v":45},{"$f":"IF(B4=\"Diverging\",1,1-((60-AB4)/60*0.1/0.15))","v":0.83333333333333326},null,null,null,{"$f":"IF(SSI_AGI_ConsiderNMComplexity=\"Yes\",1+AE4+AF4,1)","v":1},null,{"$f":"PRODUCT(Z4,T4,AC4,AG4)","v":0.84166666666666656},null,{"$f":"L4*R4*AI4","v":{"$error":"#VALUE!"}},null,null,{"$f":"IF(ISNUMBER(SEARCH(AN$3,$D4)),1,\"\")","v":1},{"$f":"IF(ISNUMBER(SEARCH(AO$3,$D4)),1,\"\")","v":1},"","","","","","","","",1,"","","","","",null,{"$f":"IF(ISNUMBER(SEARCH(BE$3,$G4)),1,\"\")","v":""},{"$f":"IF(ISNUMBER(SEARCH(BF$3,$G4)),1,\"\")","v":""},"","","","","","","",1,"","","","","",""]
[2,"Crossing","EBT, EBL, SBL","MajT1, MajL1, MinL2","Major thru","NBT","MinT1","Signal near",null,{"$f":"SUMPRODUCT($AN5:$BC5,$AN$36:$BC$36)","v":{"$error":"#VALUE!"}},{"$f":"SUMPRODUCT($BE5:$BT5,$BE$36:$BT$36)","v":{"$error":"#VALUE!"}},{"$f":"PRODUCT(J5:K5)","v":{"$error":"#VALUE!"}},null,45,15,90,{"$f":"IF(B5=\"Nonmotorized\",\"\",SQRT(N5^2+O5^2-2*N5*O5*COS(RADIANS(P5)))/2)","v":23.717082451262844},3.7884541771032863E-2,null,0.505,null,1,null,null,null,2,null,45,0.83333333333333326,null,null,null,1,null,0.84166666666666656,null,{"$f":"L5*R5*AI5","v":{"$error":"#VALUE!"}},null,null,{"$f":"IF(ISNUMBER(SEARCH(AN$3,$D5)),1,\"\")","v":1},1,"","","","","","","","",1,"","","","","",null,{"$f":"IF(ISNUMBER(SEARCH(BE$3,$G5)),1,\"\")","v":""},"","","","","",1,"","","","","","","","",""]
[3,"Crossing","WBT, WBL, NBL","MajT2, MajL2, MinL1","Major thru","NBT","MinT1","Signal far",null,{"$error":"#VALUE!"},{"$error":"#VALUE!"},{"$error":"#VALUE!"},null,45,25,90,25.739075352467502,5.1494149230103807E-2,null,0.505,null,1,null,null,null,2,null,45,0.83333333333333326,null,null,null,1,null,0.84166666666666656,null,{"$error":"#VALUE!"},null,null,"","","",1,1,"","",1,"","","","","","","","",null,"","","","","","",1,"","","","","","","","",""]
[4,"Crossing","WBT, WBL, NBL","MajT2, MajL2, MinL1","Major thru","SBT","MinT2","Signal near",null,{"$error":"#VALUE!"},{"$error":"#VALUE!"},{"$error":"#VALUE!"},null,45,15,90,23.717082451262844,3.7884541771032863E-2,null,0.505,null,1,null,null,null,2,null,45,0.83333333333333326,null,null,null,1,null,0.84166666666666656,null,{"$error":"#VALUE!"},null,null,"","","",1,1,"","",1,"","","","","","","","",null,"","","","","","","","","",1,"","","","","",""]
[5,"Merging","EBT, EBL, EBR","MajT1, MajL1, MajR1","Major thru","SBL, WBL","MinL2, MajL2","Signal near",null,{"$error":"#VALUE!"},{"$error":"#VALUE!"},{"$error":"#VALUE!"},null,45,15,45,17.995873453365363,1.3373938286506865E-2,null,0.505,null,null,null,1,null,1.75,null,45,0.83333333333333326,null,null,null,1,null,0.73645833333333333,null,{"$error":"#VALUE!"},null,null,1,1,1,"","","","","","","","","","","","","",null,"","","","",1,"","","","","",1,"","","","",""]
[6,"Merging","SBT","MinT2","Signal far","EBR, WBL","MajR1, MajL2","Major right",null,{"$error":"#VALUE!"},{"$error":"#VALUE!"},{"$error":"#VALUE!"},null,25,15,45,8.9396576292116645,9.4329959592674944E-4,null,0.505,null,1,null,null,null,2,null,45,0.83333333333333326,null,null,null,1,null,0.84166666666666656,null,{"$error":"#VALUE!"},null,null,"","","","","","","","","",1,"","","","","","",null,"","",1,"",1,"","","","","","","","","","",""]
[7,"Merging","EBT, EBL, SBL","MajT1, MajL1, MinL2","Major thru","NBL, NBR","MinL1, MinR1","Signal near",null,{"$error":"#VALUE!"},{"$error":"#VALUE!"},{"$error":"#VALUE!"},null,45,15,45,17.995873453365363,1.3373938286506865E-2,null,0.505,null,null,null,1,null,1.75,null,45,0.83333333333333326,null,null,null,1,null,0.73645833333333333,null,{"$error":"#VALUE!"},null,null,1,1,"","","","","","","","",1,"","","","","",null,"","","","","","","",1,1,"","","","","","",""]
[8,"Merging","WBT, WBL, WBR","MajT2, MajL2, MajR2","Major thru","NBL, EBL","MinL1, MajL1","Signal near",null,{"$error":"#VALUE!"},{"$error":"#VALUE!"},{"$error":"#VALUE!"},null,45,15,45,17.995873453365363,1.3373938286506865E-2,null,0.505,null,null,null,1,null,1.75,null,45,0.83333333333333326,null,null,null,1,null,0.73645833333333333,null,{"$error":"#VALUE!"},null,null,"","","",1,1,1,"","","","","","","","","","",null,"",1,"","","","","",1,"","","","","","","",""]
[9,"Merging","NBT","MinT1","Signal far","WBR, EBL","MajR2, MajL1","Major right",null,{"$error":"#VALUE!"},{"$error":"#VALUE!"},{"$error":"#VALUE!"},null,25,15,45,8.9396576292116645,9.4329959592674944E-4,null,0.505,null,1,null,null,null,2,null,45,0.83333333333333326,null,null,null,1,null,0.84166666666666656,null,{"$error":"#VALUE!"},null,null,"","","","","","",1,"","","","","","","","","",null,"",1,"","","",1,"","","","","","","","","",""]
[10,"Merging","WBT, WBL, NBL","MajT2, MajL2, MinL1","Major thru","SBL, SBR","MinL2, MinR2","Signal near",null,{"$error":"#VALUE!"},{"$error":"#VALUE!"},{"$error":"#VALUE!"},null,45,15,45,17.995873453365363,1.3373938286506865E-2,null,0.505,null,null,null,1,null,1.75,null,45,0.83333333333333326,null,null,null,1,null,0.73645833333333333,null,{"$error":"#VALUE!"},null,null,"","","",1,1,"","",1,"","","","","","","","",null,"","","","","","","","","","",1,1,"","","",""]
[11,"Diverging","EBT, EBL, SBL","MajT1, MajL1, MinL2","Major thru","EBR, SBT","MajR1, MinT2","Major right",null,{"$error":"#VALUE!"},{"$error":"#VALUE!"},{"$error":"#VALUE!"},null,45,15,10,15.169950011729762,7.0056226631585675E-3,null,1,null,null,null,null,null,1,null,"",1,null,null,null,1,null,1,null,{"$error":"#VALUE!"},null,null,1,1,"","","","","","","","",1,"","","","","",null,"","",1,"","","","","","",1,"","","","","",""]
[12,"Diverging","NBT","MinT1","Signal near","NBL, NBR","MinL1, MinR1","Signal near",null,{"$error":"#VALUE!"},{"$error":"#VALUE!"},{"$error":"#VALUE!"},null,15,15,10,1.3073361412148754,6.4061388075216071E-7,null,1,null,null,null,null,null,1,null,"",1,null,null,null,1,null,1,null,{"$error":"#VALUE!"},null,null,"","","","","","",1,"","","","","","","","","",null,"","","","","","","",1,1,"","","","","","",""]
[13,"Diverging","EBT, SBL, NBR","MajT1, MinL2, MinR1","Major thru","NBL, EBL","MinL1, MajL1","Major left",null,{"$error":"#VALUE!"},{"$error":"#VALUE!"},{"$error":"#VALUE!"},null,45,20,10,12.77053292327718,3.6481988362114144E-3,null,1,null,null,null,null,null,1,null,"",1,null,null,null,1,null,1,null,{"$error":"#VALUE!"},null,null,1,"","","","","","","",1,"",1,"","","","","",null,"",1,"","","","","",1,"","","","","","","",""]
[14,"Diverging","WBT, WBL, NBL","MajT2, MajL2, MinL1","Major thru","WBR, NBT","MajR2, MinT1","Major right",null,{"$error":"#VALUE!"},{"$error":"#VALUE!"},{"$error":"#VALUE!"},null,45,15,10,15.169950011729762,7.0056226631585675E-3,null,1,null,null,null,null,null,1,null,"",1,null,null,null,1,null,1,null,{"$error":"#VALUE!"},null,null,"","","",1,1,"","",1,"","","","","","","","",null,"","","","","",1,1,"","","","","","","","",""]
[15,"Diverging","SBT","MinT2","Signal near","SBL, SBR","MinL2, MinR2","Signal near",null,{"$error":"#VALUE!"},{"$error":"#VALUE!"},{"$error":"#VALUE!"},null,15,15,10,1.3073361412148754,6.4061388075216071E-7,null,1,null,null,null,null,null,1,null,"",1,null,null,null,1,null,1,null,{"$error":"#VALUE!"},null,null,"","","","","","","","","",1,"","","","","","",null,"","","","","","","","","","",1,1,"","","",""]
[16,"Diverging","WBT, NBL, SBR","MajT2, MinL1, MinR2","Major thru","SBL, WBL","MinL2, MajL2","Major left",null,{"$error":"#VALUE!"},{"$error":"#VALUE!"},{"$error":"#VALUE!"},null,45,20,10,12.77053292327718,3.6481988362114144E-3,null,1,null,null,null,null,null,1,null,"",1,null,null,null,1,null,1,null,{"$error":"#VALUE!"},null,null,"","","",1,"","","",1,"","","",1,"","","","",null,"","","","",1,"","","","","",1,"","","","",""]
[17,"Nonmotorized","NB Ped","MinNM1","Nonmotorized","EBR, WBL","MajR1, MajL2","Major right",null,{"$error":"#VALUE!"},{"$error":"#VALUE!"},{"$error":"#VALUE!"},null,0,15,"","",0.1205004039155782,null,1,null,null,1,1,null,3.75,null,45,0.83333333333333326,null,null,null,1,null,3.1249999999999996,null,{"$error":"#VALUE!"},null,null,"","","","","","","","","","","","","","",1,"",null,"","",1,"",1,"","","","","","","","","","",""]
[18,"Nonmotorized","NB Ped","MinNM1","Nonmotorized","SBT","MinT2","Signal far",null,{"$error":"#VALUE!"},{"$error":"#VALUE!"},{"$error":"#VALUE!"},null,0,25,"","",0.32066879346345062,null,{"$f":"SSI_AGI_ProtFactor","v":0.505},null,null,1,1,null,3.75,null,45,0.83333333333333326,null,null,null,1,null,1.578125,null,{"$error":"#VALUE!"},null,null,"","","","","","","","","","","","","","",1,"",null,"","","","","","","","","",1,"","","","","",""]
[19,"Nonmotorized","NB Ped","MinNM1","Nonmotorized","NBT","MinT1","Signal near",null,{"$error":"#VALUE!"},{"$error":"#VALUE!"},{"$error":"#VALUE!"},null,0,15,"","",0.1205004039155782,null,0.505,null,null,1,null,null,2,null,{"$f":"IF(B22=\"Diverging\",\"\",SSI_AGI_VehSpeed_MnrThru)","v":29.75},0.66388888888888886,null,null,null,1,null,0.67052777777777772,null,{"$error":"#VALUE!"},null,null,"","","","","","","","","","","","","","",1,"",null,"","","","","","",1,"","","","","","","","",""]
[20,"Nonmotorized","NB Ped","MinNM1","Nonmotorized","NBL, NBR","MinL1, MinR1","Signal near",null,{"$error":"#VALUE!"},{"$error":"#VALUE!"},{"$error":"#VALUE!"},null,0,15,"","",0.1205004039155782,null,0.505,null,null,1,null,null,2,null,{"$f":"IF(B23=\"Diverging\",\"\",SSI_AGI_VehSpeed_MnrThru)","v":29.75},0.66388888888888886,null,null,null,1,null,0.67052777777777772,null,{"$error":"#VALUE!"},null,null,"","","","","","","","","","","","","","",1,"",null,"","","","","","","",1,1,"","","","","","",""]
[21,"Nonmotorized","WB Ped","MajNM2","Nonmotorized","NBL, NBR","MinL1, MinR1","Signal near",null,{"$error":"#VALUE!"},{"$error":"#VALUE!"},{"$error":"#VALUE!"},null,0,15,"","",0.1205004039155782,null,0.505,null,1,null,null,1,3.75,null,{"$f":"IF(B24=\"Diverging\",\"\",SSI_AGI_VehSpeed_MjrThru)","v":45},0.83333333333333326,null,null,null,1,null,1.578125,null,{"$error":"#VALUE!"},null,null,"","","","","","","","","","","","","",1,"","",null,"","","","","","","",1,1,"","","","","","",""]
[22,"Nonmotorized","WB Ped","MajNM2","Nonmotorized","EBT, EBL, SBL","MajT1, MajL1, MinL2","Major thru",null,{"$error":"#VALUE!"},{"$error":"#VALUE!"},{"$error":"#VALUE!"},null,0,45,"","",0.84855340903216459,null,0.505,null,1,null,null,1,3.75,null,45,0.83333333333333326,null,null,null,1,null,1.578125,null,{"$error":"#VALUE!"},null,null,"","","","","","","","","","","","","",1,"","",null,1,1,"","","","","","","","",1,"","","","",""]
[23,"Nonmotorized","WB Ped","MajNM2","Nonmotorized","WBT, WBL, NBL","MajT2, MajL2, MinL1","Major thru",null,{"$error":"#VALUE!"},{"$error":"#VALUE!"},{"$error":"#VALUE!"},null,0,45,"","",0.84855340903216459,null,0.505,null,1,null,null,null,2,null,45,0.83333333333333326,null,null,null,1,null,0.84166666666666656,null,{"$error":"#VALUE!"},null,null,"","","","","","","","","","","","","",1,"","",null,"","","",1,1,"","",1,"","","","","","","",""]
[24,"Nonmotorized","WB Ped","MajNM2","Nonmotorized","WBR, EBL","MajR2, MajL1","Major right",null,{"$error":"#VALUE!"},{"$error":"#VALUE!"},{"$error":"#VALUE!"},null,0,15,"","",0.1205004039155782,null,0.505,null,1,null,null,null,2,null,45,0.83333333333333326,null,null,null,1,null,0.84166666666666656,null,{"$error":"#VALUE!"},null,null,"","","","","","","","","","","","","",1,"","",null,"",1,"","","",1,"","","","","","","","","",""]
[25,"Nonmotorized","SB Ped","MajNM2","Nonmotorized","WBR, EBL","MajR2, MajL1","Major right",null,{"$error":"#VALUE!"},{"$f":"SUMPRODUCT($BE28:$BT28,$BE$36:$BT$36)","v":{"$error":"#VALUE!"}},{"$error":"#VALUE!"},null,0,15,"","",0.1205004039155782,null,1,null,null,1,1,null,3.75,null,45,0.83333333333333326,null,null,null,1,null,3.1249999999999996,null,{"$error":"#VALUE!"},null,null,{"$f":"IF(ISNUMBER(SEARCH(AN$3,$D28)),1,\"\")","v":""},"","","","","","","","","","","","",1,"","",null,"",1,"","","",1,"","","","","","","","","",""]
[26,"Nonmotorized","SB Ped","MajNM2","Nonmotorized","NBT","MinT1","Signal far",null,{"$error":"#VALUE!"},{"$error":"#VALUE!"},{"$error":"#VALUE!"},null,0,25,"","",0.32066879346345062,null,{"$f":"SSI_AGI_ProtFactor","v":0.505},null,null,1,1,null,3.75,null,45,0.83333333333333326,null,null,null,1,null,1.578125,null,{"$error":"#VALUE!"},null,null,"","","","","","","","","","","","","",1,"","",null,{"$f":"IF(ISNUMBER(SEARCH(BE$3,$G29)),1,\"\")","v":""},"","","","","",1,"","","","","","","","",""]
[27,"Nonmotorized","SB Ped","MajNM2","Nonmotorized","SBT","MinT2","Signal near",null,{"$error":"#VALUE!"},{"$error":"#VALUE!"},{"$error":"#VALUE!"},null,0,15,"","",0.1205004039155782,null,0.505,null,null,1,null,null,2,null,{"$f":"IF(B30=\"Diverging\",\"\",SSI_AGI_VehSpeed_MnrThru)","v":29.75},0.66388888888888886,null,null,null,1,null,0.67052777777777772,null,{"$error":"#VALUE!"},null,null,"","","","","","","","","","","","","",1,"","",null,"","","","","","","","","",1,"","","","","",""]
[28,"Nonmotorized","SB Ped","MajNM2","Nonmotorized","SBL, SBR","MinL2, MinR2","Signal near",null,{"$error":"#VALUE!"},{"$error":"#VALUE!"},{"$error":"#VALUE!"},null,0,15,"","",0.1205004039155782,null,0.505,null,null,1,null,null,2,null,{"$f":"IF(B31=\"Diverging\",\"\",SSI_AGI_VehSpeed_MnrThru)","v":29.75},0.66388888888888886,null,null,null,1,null,0.67052777777777772,null,{"$error":"#VALUE!"},null,null,"","","","","","","","","","","","","",1,"","",null,"","","","","","","","","","",1,1,"","","",""]
[29,"Nonmotorized","EB Ped","MinNM1","Nonmotorized","SBL, SBR","MinL2, MinR2","Signal near",null,{"$error":"#VALUE!"},{"$error":"#VALUE!"},{"$error":"#VALUE!"},null,0,15,"","",0.1205004039155782,null,0.505,null,1,null,null,1,3.75,null,{"$f":"IF(B32=\"Diverging\",\"\",SSI_AGI_VehSpeed_MjrThru)","v":45},0.83333333333333326,null,null,null,1,null,1.578125,null,{"$error":"#VALUE!"},null,null,"","","","","","","","","","","","","","",1,"",null,"","","","","","","","","","",1,1,"","","",""]
[30,"Nonmotorized","EB Ped","MinNM1","Nonmotorized","WBT, WBL, NBL","MajT2, MajL2, MinL1","Major thru",null,{"$error":"#VALUE!"},{"$error":"#VALUE!"},{"$error":"#VALUE!"},null,0,45,"","",0.84855340903216459,null,0.505,null,1,null,null,1,3.75,null,{"$f":"IF(B33=\"Diverging\",\"\",SSI_AGI_VehSpeed_MjrThru)","v":45},0.83333333333333326,null,null,null,1,null,1.578125,null,{"$error":"#VALUE!"},null,null,"","","","","","","","","","","","","","",1,"",null,"","","",1,1,"","",1,"","","","","","","",""]
[31,"Nonmotorized","EB Ped","MinNM1","Nonmotorized","EBT, EBL, SBL","MajT1, MajL1, MinL2","Major thru",null,{"$error":"#VALUE!"},{"$error":"#VALUE!"},{"$error":"#VALUE!"},null,0,45,"","",0.84855340903216459,null,0.505,null,1,null,null,null,2,null,{"$f":"IF(B34=\"Diverging\",\"\",SSI_AGI_VehSpeed_MjrThru)","v":45},0.83333333333333326,null,null,null,1,null,0.84166666666666656,null,{"$error":"#VALUE!"},null,null,"","","","","","","","","","","","","","",1,"",null,1,1,"","","","","","","","",1,"","","","",""]
[32,"Nonmotorized","EB Ped","MinNM1","Nonmotorized","EBR, WBL","MajR1, MajL2","Major right",null,{"$error":"#VALUE!"},{"$error":"#VALUE!"},{"$error":"#VALUE!"},null,0,15,"","",0.1205004039155782,null,0.505,null,1,null,null,null,2,null,{"$f":"IF(B35=\"Diverging\",\"\",SSI_AGI_VehSpeed_MjrThru)","v":45},0.83333333333333326,null,null,null,1,null,0.84166666666666656,null,{"$error":"#VALUE!"},null,null,"","","","","","","","","","","","","","",1,"",null,"","",1,"",1,"","","","","","","","","","",""]
[null,null,null,null,null,null,null,null,null,null,null,null,null,null,null,null,null,null,null,null,null,null,null,null,null,null,null,null,null,null,null,null,null,null,null,null,null,null,"O",{"$f":"'SSI Inputs'!$D$26","v":{"$error":"#VALUE!"}},{"$f":"'SSI Inputs'!$D$27","v":{"$error":"#VALUE!"}},{"$f":"'SSI Inputs'!$D$28","v":{"$error":"#VALUE!"}},{"$f":"'SSI Inputs'!$D$30","v":{"$error":"#VALUE!"}},{"$f":"'SSI Inputs'!$D$31","v":{"$error":"#VALUE!"}},{"$f":"'SSI Inputs'!$D$32","v":{"$error":"#VALUE!"}},{"$f":"'SSI Inputs'!$D$34","v":{"$error":"#VALUE!"}},{"$f":"'SSI Inputs'!$D$35","v":{"$error":"#VALUE!"}},{"$f":"'SSI Inputs'!$D$36","v":{"$error":"#VALUE!"}},{"$f":"'SSI Inputs'!$D$38","v":{"$error":"#VALUE!"}},{"$f":"'SSI Inputs'!$D$39","v":{"$error":"#VALUE!"}},{"$f":"'SSI Inputs'!$D$40","v":{"$error":"#VALUE!"}},{"$f":"'SSI Inputs'!$Q$18","v":175},{"$f":"'SSI Inputs'!$Q$19","v":175},{"$f":"'SSI Inputs'!$Q$20","v":175},{"$f":"'SSI Inputs'!$Q$21","v":175},"O",{"$f":"'SSI Inputs'!$D$26","v":{"$error":"#VALUE!"}},{"$f":"'SSI Inputs'!$D$27","v":{"$error":"#VALUE!"}},{"$f":"'SSI Inputs'!$D$28","v":{"$error":"#VALUE!"}},{"$f":"'SSI Inputs'!$D$30","v":{"$error":"#VALUE!"}},{"$f":"'SSI Inputs'!$D$31","v":{"$error":"#VALUE!"}},{"$f":"'SSI Inputs'!$D$32","v":{"$error":"#VALUE!"}},{"$f":"'SSI Inputs'!$D$34","v":{"$error":"#VALUE!"}},{"$f":"'SSI Inputs'!$D$35","v":{"$error":"#VALUE!"}},{"$f":"'SSI Inputs'!$D$36","v":{"$error":"#VALUE!"}},{"$f":"'SSI Inputs'!$D$38","v":{"$error":"#VALUE!"}},{"$f":"'SSI Inputs'!$D$39","v":{"$error":"#VALUE!"}},{"$f":"'SSI Inputs'!$D$40","v":{"$error":"#VALUE!"}},{"$f":"'SSI Inputs'!$Q$18","v":175},{"$f":"'SSI Inputs'!$Q$19","v":175},{"$f":"'SSI Inputs'!$Q$20","v":175},{"$f":"'SSI Inputs'!$Q$21","v":175}]
[null,null,null,null,null,null,null,null,null,null,null,null,null,null,null,null,null,null,null,null,null,null,null,null,null,null,null,null,null,null,null,null,null,null,null,null,null,null,"D",{"$f":"'SSI Inputs'!$E$26","v":{"$error":"#VALUE!"}},{"$f":"'SSI Inputs'!$E$27","v":{"$error":"#VALUE!"}},{"$f":"'SSI Inputs'!$E$28","v":{"$error":"#VALUE!"}},{"$f":"'SSI Inputs'!$E$30","v":{"$error":"#VALUE!"}},{"$f":"'SSI Inputs'!$E$31","v":{"$error":"#VALUE!"}},{"$f":"'SSI Inputs'!$E$32","v":{"$error":"#VALUE!"}},{"$f":"'SSI Inputs'!$E$34","v":{"$error":"#VALUE!"}},{"$f":"'SSI Inputs'!$E$35","v":{"$error":"#VALUE!"}},{"$f":"'SSI Inputs'!$E$36","v":{"$error":"#VALUE!"}},{"$f":"'SSI Inputs'!$E$38","v":{"$error":"#VALUE!"}},{"$f":"'SSI Inputs'!$E$39","v":{"$error":"#VALUE!"}},{"$f":"'SSI Inputs'!$E$40","v":{"$error":"#VALUE!"}},{"$f":"'SSI Inputs'!$R$18","v":175},{"$f":"'SSI Inputs'!$R$19","v":175},{"$f":"'SSI Inputs'!$R$20","v":175},{"$f":"'SSI Inputs'!$R$21","v":175},"D",{"$f":"'SSI Inputs'!$E$26","v":{"$error":"#VALUE!"}},{"$f":"'SSI Inputs'!$E$27","v":{"$error":"#VALUE!"}},{"$f":"'SSI Inputs'!$E$28","v":{"$error":"#VALUE!"}},{"$f":"'SSI Inputs'!$E$30","v":{"$error":"#VALUE!"}},{"$f":"'SSI Inputs'!$E$31","v":{"$error":"#VALUE!"}},{"$f":"'SSI Inputs'!$E$32","v":{"$error":"#VALUE!"}},{"$f":"'SSI Inputs'!$E$34","v":{"$error":"#VALUE!"}},{"$f":"'SSI Inputs'!$E$35","v":{"$error":"#VALUE!"}},{"$f":"'SSI Inputs'!$E$36","v":{"$error":"#VALUE!"}},{"$f":"'SSI Inputs'!$E$38","v":{"$error":"#VALUE!"}},{"$f":"'SSI Inputs'!$E$39","v":{"$error":"#VALUE!"}},{"$f":"'SSI Inputs'!$E$40","v":{"$error":"#VALUE!"}},{"$f":"'SSI Inputs'!$R$18","v":175},{"$f":"'SSI Inputs'!$R$19","v":175},{"$f":"'SSI Inputs'!$R$20","v":175},{"$f":"'SSI Inputs'!$R$21","v":175}]
[]
[]
[]
[]
[]
[]
[]
[]
[]
[]
[]
[]
[]
[]
[]
[]
[]
[]
[]
[]
[]
[]
[]
[]
[]
[]
[]
[]
[]
[]
[]
[]
[]
[]
[]
[]
[]
[]
[]
[]
[]
[]
[]
[]
[]
[]
[]
[]
[]
[]
[]
[]
[]
[]
[]
[]
[]
[]
[]
[]
[]
[]
[]
[null,null,null,null,null,null,null,null,null,"Exposure",null,null,null,null,null,null,null,null,null,null,null,null,null,null,null,null,null,null,null,null,null,null,null,null,null,null,"Exposure-Severity-Complexity Product"]
[null,null,null,null,null,null,null,null,null,"Q1","Q2","I"]
[null,null,null,null,null,null,null,null,null,{"$f":"SUMPRODUCT($AN4:$BC4,$AN$37:$BC$37)","v":{"$error":"#VALUE!"}},{"$f":"SUMPRODUCT($BE4:$BT4,$BE$37:$BT$37)","v":{"$error":"#VALUE!"}},{"$f":"PRODUCT(J103:K103)","v":{"$error":"#VALUE!"}},null,null,null,null,null,null,null,null,null,null,null,null,null,null,null,null,null,null,null,null,null,null,null,null,{"$f":"L103*R4*AI4","v":{"$error":"#VALUE!"}}]
[null,null,null,null,null,null,null,null,null,{"$f":"SUMPRODUCT($AN5:$BC5,$AN$37:$BC$37)","v":{"$error":"#VALUE!"}},{"$f":"SUMPRODUCT($BE5:$BT5,$BE$37:$BT$37)","v":{"$error":"#VALUE!"}},{"$f":"PRODUCT(J104:K104)","v":{"$error":"#VALUE!"}},null,null,null,null,null,null,null,null,null,null,null,null,null,null,null,null,null,null,null,null,null,null,null,null,{"$f":"L104*R5*AI5","v":{"$error":"#VALUE!"}}]
[null,null,null,null,null,null,null,null,null,{"$error":"#VALUE!"},{"$error":"#VALUE!"},{"$error":"#VALUE!"},null,null,null,null,null,null,null,null,null,null,null,null,null,null,null,null,null,null,null,null,null,null,null,null,{"$error":"#VALUE!"}]
[null,null,null,null,null,null,null,null,null,{"$error":"#VALUE!"},{"$error":"#VALUE!"},{"$error":"#VALUE!"},null,null,null,null,null,null,null,null,null,null,null,null,null,null,null,null,null,null,null,null,null,null,null,null,{"$error":"#VALUE!"}]
[null,null,null,null,null,null,null,null,null,{"$error":"#VALUE!"},{"$error":"#VALUE!"},{"$error":"#VALUE!"},null,null,null,null,null,null,null,null,null,null,null,null,null,null,null,null,null,null,null,null,null,null,null,null,{"$error":"#VALUE!"}]
[null,null,null,null,null,null,null,null,null,{"$error":"#VALUE!"},{"$error":"#VALUE!"},{"$error":"#VALUE!"},null,null,null,null,null,null,null,null,null,null,null,null,null,null,null,null,null,null,null,null,null,null,null,null,{"$error":"#VALUE!"}]
[null,null,null,null,null,null,null,null,null,{"$error":"#VALUE!"},{"$error":"#VALUE!"},{"$error":"#VALUE!"},null,null,null,null,null,null,null,null,null,null,null,null,null,null,null,null,null,null,null,null,null,null,null,null,{"$error":"#VALUE!"}]
[null,null,null,null,null,null,null,null,null,{"$error":"#VALUE!"},{"$error":"#VALUE!"},{"$error":"#VALUE!"},null,null,null,null,null,null,null,null,null,null,null,null,null,null,null,null,null,null,null,null,null,null,null,null,{"$error":"#VALUE!"}]
[null,null,null,null,null,null,null,null,null,{"$error":"#VALUE!"},{"$error":"#VALUE!"},{"$error":"#VALUE!"},null,null,null,null,null,null,null,null,null,null,null,null,null,null,null,null,null,null,null,null,null,null,null,null,{"$error":"#VALUE!"}]
[null,null,null,null,null,null,null,null,null,{"$error":"#VALUE!"},{"$error":"#VALUE!"},{"$error":"#VALUE!"},null,null,null,null,null,null,null,null,null,null,null,null,null,null,null,null,null,null,null,null,null,null,null,null,{"$error":"#VALUE!"}]
[null,null,null,null,null,null,null,null,null,{"$error":"#VALUE!"},{"$error":"#VALUE!"},{"$error":"#VALUE!"},null,null,null,null,null,null,null,null,null,null,null,null,null,null,null,null,null,null,null,null,null,null,null,null,{"$error":"#VALUE!"}]
[null,null,null,null,null,null,null,null,null,{"$error":"#VALUE!"},{"$error":"#VALUE!"},{"$error":"#VALUE!"},null,null,null,null,null,null,null,null,null,null,null,null,null,null,null,null,null,null,null,null,null,null,null,null,{"$error":"#VALUE!"}]
[null,null,null,null,null,null,null,null,null,{"$error":"#VALUE!"},{"$error":"#VALUE!"},{"$error":"#VALUE!"},null,null,null,null,null,null,null,null,null,null,null,null,null,null,null,null,null,null,null,null,null,null,null,null,{"$error":"#VALUE!"}]
[null,null,null,null,null,null,null,null,null,{"$error":"#VALUE!"},{"$error":"#VALUE!"},{"$error":"#VALUE!"},null,null,null,null,null,null,null,null,null,null,null,null,null,null,null,null,null,null,null,null,null,null,null,null,{"$error":"#VALUE!"}]
[null,null,null,null,null,null,null,null,null,{"$error":"#VALUE!"},{"$error":"#VALUE!"},{"$error":"#VALUE!"},null,null,null,null,null,null,null,null,null,null,null,null,null,null,null,null,null,null,null,null,null,null,null,null,{"$error":"#VALUE!"}]
[null,null,null,null,null,null,null,null,null,{"$error":"#VALUE!"},{"$error":"#VALUE!"},{"$error":"#VALUE!"},null,null,null,null,null,null,null,null,null,null,null,null,null,null,null,null,null,null,null,null,null,null,null,null,{"$error":"#VALUE!"}]
[null,null,null,null,null,null,null,null,null,{"$error":"#VALUE!"},{"$error":"#VALUE!"},{"$error":"#VALUE!"},null,null,null,null,null,null,null,null,null,null,null,null,null,null,null,null,null,null,null,null,null,null,null,null,{"$error":"#VALUE!"}]
[null,null,null,null,null,null,null,null,null,{"$error":"#VALUE!"},{"$error":"#VALUE!"},{"$error":"#VALUE!"},null,null,null,null,null,null,null,null,null,null,null,null,null,null,null,null,null,null,null,null,null,null,null,null,{"$error":"#VALUE!"}]
[null,null,null,null,null,null,null,null,null,{"$error":"#VALUE!"},{"$error":"#VALUE!"},{"$error":"#VALUE!"},null,null,null,null,null,null,null,null,null,null,null,null,null,null,null,null,null,null,null,null,null,null,null,null,{"$error":"#VALUE!"}]
[null,null,null,null,null,null,null,null,null,{"$error":"#VALUE!"},{"$error":"#VALUE!"},{"$error":"#VALUE!"},null,null,null,null,null,null,null,null,null,null,null,null,null,null,null,null,null,null,null,null,null,null,null,null,{"$error":"#VALUE!"}]
[null,null,null,null,null,null,null,null,null,{"$error":"#VALUE!"},{"$error":"#VALUE!"},{"$error":"#VALUE!"},null,null,null,null,null,null,null,null,null,null,null,null,null,null,null,null,null,null,null,null,null,null,null,null,{"$error":"#VALUE!"}]
[null,null,null,null,null,null,null,null,null,{"$error":"#VALUE!"},{"$error":"#VALUE!"},{"$error":"#VALUE!"},null,null,null,null,null,null,null,null,null,null,null,null,null,null,null,null,null,null,null,null,null,null,null,null,{"$error":"#VALUE!"}]
[null,null,null,null,null,null,null,null,null,{"$error":"#VALUE!"},{"$error":"#VALUE!"},{"$error":"#VALUE!"},null,null,null,null,null,null,null,null,null,null,null,null,null,null,null,null,null,null,null,null,null,null,null,null,{"$error":"#VALUE!"}]
[null,null,null,null,null,null,null,null,null,{"$error":"#VALUE!"},{"$error":"#VALUE!"},{"$error":"#VALUE!"},null,null,null,null,null,null,null,null,null,null,null,null,null,null,null,null,null,null,null,null,null,null,null,null,{"$error":"#VALUE!"}]
[null,null,null,null,null,null,null,null,null,{"$error":"#VALUE!"},{"$error":"#VALUE!"},{"$error":"#VALUE!"},null,null,null,null,null,null,null,null,null,null,null,null,null,null,null,null,null,null,null,null,null,null,null,null,{"$error":"#VALUE!"}]
[null,null,null,null,null,null,null,null,null,{"$error":"#VALUE!"},{"$error":"#VALUE!"},{"$error":"#VALUE!"},null,null,null,null,null,null,null,null,null,null,null,null,null,null,null,null,null,null,null,null,null,null,null,null,{"$error":"#VALUE!"}]
[null,null,null,null,null,null,null,null,null,{"$error":"#VALUE!"},{"$error":"#VALUE!"},{"$error":"#VALUE!"},null,null,null,null,null,null,null,null,null,null,null,null,null,null,null,null,null,null,null,null,null,null,null,null,{"$error":"#VALUE!"}]
[null,null,null,null,null,null,null,null,null,{"$error":"#VALUE!"},{"$error":"#VALUE!"},{"$error":"#VALUE!"},null,null,null,null,null,null,null,null,null,null,null,null,null,null,null,null,null,null,null,null,null,null,null,null,{"$error":"#VALUE!"}]
[null,null,null,null,null,null,null,null,null,{"$error":"#VALUE!"},{"$error":"#VALUE!"},{"$error":"#VALUE!"},null,null,null,null,null,null,null,null,null,null,null,null,null,null,null,null,null,null,null,null,null,null,null,null,{"$error":"#VALUE!"}]
[null,null,null,null,null,null,null,null,null,{"$error":"#VALUE!"},{"$error":"#VALUE!"},{"$error":"#VALUE!"},null,null,null,null,null,null,null,null,null,null,null,null,null,null,null,null,null,null,null,null,null,null,null,null,{"$error":"#VALUE!"}]
[null,null,null,null,null,null,null,null,null,{"$error":"#VALUE!"},{"$error":"#VALUE!"},{"$error":"#VALUE!"},null,null,null,null,null,null,null,null,null,null,null,null,null,null,null,null,null,null,null,null,null,null,null,null,{"$error":"#VALUE!"}]
[null,null,null,null,null,null,null,null,null,{"$error":"#VALUE!"},{"$error":"#VALUE!"},{"$error":"#VALUE!"},null,null,null,null,null,null,null,null,null,null,null,null,null,null,null,null,null,null,null,null,null,null,null,null,{"$error":"#VALUE!"}]

{"sheet":"PDLT","index":44,"n_rows":152,"n_cols":72,"rows_kept":152,"cut":false,"hidden":true,"merged":[[1,56,1,71],[0,19,0,28],[0,30,0,32],[1,31,2,31],[1,32,2,32],[1,21,1,25],[1,27,1,28],[1,30,2,30],[100,9,100,11],[100,36,101,36],[1,34,2,34],[1,36,2,36],[1,39,1,54],[1,9,1,11],[1,13,1,17]]}
[null,null,null,null,null,null,null,null,null,null,null,null,null,null,null,null,null,null,null,"Conflicting Traffic Complexity",null,null,null,null,null,null,null,null,null,null,"Pedestrian Complexity"]
[null,null,null,null,null,null,null,null,null,"Exposure",null,null,null,"Severity",null,null,null,null,null,"Traffic Control",null,"Conflicting Lanes",null,null,null,null,null,"Conflicting Speed",null,null,"Indirect Paths Indicator","Non-intuitive movements indicator","Pedestrian Complexity factor",null,"Total Complexity Multiplier",null,"Exposure-Severity-Complexity Product",null,null,"Included in Mvmt1",null,null,null,null,null,null,null,null,null,null,null,null,null,null,null,null,"Included in Mvmt2"]
["#","Conflict Type","Mvmt1","Mvmt1_gen","Mvmt1_SpeedCat","Mvmt2","Mvmt2_gen","Mvmt2_SpeedCat",null,"Q1","Q2","I",null,"Speed_V1","Speed_V2","Angle","delta_V","P_FSI",null,null,null,"MajC","MinC","MajM/P","MinM/P","Score",null,"Speed","Factor",null,null,null,null,null,null,null,null,null,null,"MajT1","MajL1","MajR1","MajT2","MajL2","MajR2","MinT1","MinL1","MinR1","MinT2","MinL2","MinR2","MajNM1","MajNM2","MinNM1","MinNM2",null,"MajT1","MajL1","MajR1","MajT2","MajL2","MajR2","MinT1","MinL1","MinR1","MinT2","MinL2","MinR2","MajNM1","MajNM2","MinNM1","MinNM2"]
[1,"Crossing","SBT","MinT2","Signal near","WBT","MajT2","Major thru",null,{"$f":"SUMPRODUCT($AN4:$BC4,$AN$54:$BC$54)","v":{"$error":"#VALUE!"}},{"$f":"SUMPRODUCT($BE4:$BT4,$BE$54:$BT$54)","v":{"$error":"#VALUE!"}},{"$f":"PRODUCT(J4:K4)","v":{"$error":"#VALUE!"}},null,{"$f":"VLOOKUP(E4,SSI_AGI_Range_VehSpeed,5,FALSE)","v":15},{"$f":"VLOOKUP(H4,SSI_AGI_Range_VehSpeed,5,FALSE)","v":45},{"$f":"IF(B4=\"Nonmotorized\",\"\",VLOOKUP(B4,SSI_AGI_Range_CollAngles,5,FALSE))","v":90},{"$f":"IF(B4=\"Nonmotorized\",\"\",SQRT(N4^2+O4^2-2*N4*O4*COS(RADIANS(P4)))/2)","v":23.717082451262844},{"$f":"IF(B4=\"Nonmotorized\",1/(1+EXP(3.8432-0.1237*O4)),(Q4/SSI_AGI_RegAlpha)^SSI_AGI_RegK+(Q4/SSI_AGI_RegAlpha)^SSI_AGI_RegK-((Q4/SSI_AGI_RegAlpha)^SSI_AGI_RegK)*((Q4/SSI_AGI_RegAlpha)^SSI_AGI_RegK))","v":3.7884541771032863E-2},null,{"$f":"SSI_AGI_ProtFactor","v":0.505},null,2,null,null,null,{"$f":"MAX(1,IF(B4<>\"Pedestrian\",V4*SSI_AGI_MajorThruLanes+W4*SSI_AGI_MinorThruLanes+X4*IF(SSI_AGI_MajorThruLanes=1,SSI_AGI_MergeWeightL1,IF(SSI_AGI_MajorThruLanes=2,SSI_AGI_MergeWeightL1+SSI_AGI_MergeWeightL2,SSI_AGI_MergeWeightL1+SSI_AGI_MergeWeightL2+SSI_AGI_MergeWeightL3*(SSI_AGI_MajorThruLanes-2)))+Y4*IF(SSI_AGI_MinorThruLanes=1,SSI_AGI_MergeWeightL1,IF(SSI_AGI_MinorThruLanes=2,SSI_AGI_MergeWeightL1+SSI_AGI_MergeWeightL2,SSI_AGI_MergeWeightL1+SSI_AGI_MergeWeightL2+SSI_AGI_MergeWeightL3*(SSI_AGI_MinorThruLanes-2))),V4*SSI_AGI_MajorThruLanes+W4*SSI_AGI_MinorThruLanes+X4*IF(SSI_AGI_MajorThruLanes=1,SSI_AGI_NM_MergeWeightL1,IF(SSI_AGI_MajorThruLanes=2,SSI_AGI_NM_MergeWeightL1+SSI_AGI_NM_MergeWeightL2,SSI_AGI_NM_MergeWeightL1+SSI_AGI_NM_MergeWeightL2+SSI_AGI_NM_MergeWeightL3*(SSI_AGI_MajorThruLanes-2)))+Y4*IF(SSI_AGI_MinorThruLanes=1,SSI_AGI_NM_MergeWeightL1,IF(SSI_AGI_MinorThruLanes=2,SSI_AGI_NM_MergeWeightL1+SSI_AGI_NM_MergeWeightL2,SSI_AGI_NM_MergeWeightL1+SSI_AGI_NM_MergeWeightL2+SSI_AGI_NM_MergeWeightL3*(SSI_AGI_MinorThruLanes-2)))))","v":4},null,{"$f":"IF(B4=\"Diverging\",\"\",SSI_AGI_VehSpeed_MjrThru)","v":45},{"$f":"IF(B4=\"Diverging\",1,1-((60-AB4)/60*0.1/0.15))","v":0.83333333333333326},null,null,null,{"$f":"IF(SSI_AGI_ConsiderNMComplexity=\"Yes\",1+AE4+AF4,1)","v":1},null,{"$f":"PRODUCT(Z4,T4,AC4,AG4)","v":1.6833333333333331},null,{"$f":"L4*R4*AI4","v":{"$error":"#VALUE!"}},null,null,{"$f":"IF(ISNUMBER(SEARCH(AN$3,$D4)),1,\"\")","v":""},{"$f":"IF(ISNUMBER(SEARCH(AO$3,$D4)),1,\"\")","v":""},"","","","","","","",1,"","","","","","",null,{"$f":"IF(ISNUMBER(SEARCH(BE$3,$G4)),1,\"\")","v":""},{"$f":"IF(ISNUMBER(SEARCH(BF$3,$G4)),1,\"\")","v":""},"",1,"","","","","","","","","","","",""]
[2,"Crossing - LT","SBL","MinL2","Signal near","WBT","MajT2","Major thru",null,{"$error":"#VALUE!"},{"$error":"#VALUE!"},{"$f":"PRODUCT(J5:K5)","v":{"$error":"#VALUE!"}},null,15,45,230,{"$f":"IF(B5=\"Nonmotorized\",\"\",SQRT(N5^2+O5^2-2*N5*O5*COS(RADIANS(P5)))/2)","v":27.918467333813421},6.9762185672148203E-2,null,0.505,null,1,1,1,null,5.75,null,45,0.83333333333333326,null,null,null,1,null,2.4197916666666663,null,{"$f":"L5*R5*AI5","v":{"$error":"#VALUE!"}},null,null,{"$f":"IF(ISNUMBER(SEARCH(AN$3,$D5)),1,\"\")","v":""},"","","","","","","","","",1,"","","","","",null,{"$f":"IF(ISNUMBER(SEARCH(BE$3,$G5)),1,\"\")","v":""},"","",1,"","","","","","","","","","","",""]
[3,"Crossing","NBT","MinT1","Signal far","WBT","MajT2","Major thru",null,{"$error":"#VALUE!"},{"$error":"#VALUE!"},{"$error":"#VALUE!"},null,25,45,90,25.739075352467502,5.1494149230103807E-2,null,0.505,null,2,null,null,null,4,null,45,0.83333333333333326,null,null,null,1,null,1.6833333333333331,null,{"$error":"#VALUE!"},null,null,"","","","","","",1,"","","","","","","","","",null,"","","",1,"","","","","","","","","","","",""]
[4,"Crossing - LT","NBL","MinL1","Signal far","SBT","MinT2","Signal near",null,{"$error":"#VALUE!"},{"$error":"#VALUE!"},{"$error":"#VALUE!"},null,25,15,230,18.248908921254063,1.4099039069818802E-2,null,0.505,null,1,1,1,null,5.75,null,45,0.83333333333333326,null,null,null,1,null,2.4197916666666663,null,{"$error":"#VALUE!"},null,null,"","","","","","","",1,"","","","","","","","",null,"","","","","","","","","",1,"","","","","",""]
[5,"Crossing - LT","SBL","MinL2","Signal far","EBT","MajT1","Signal near",null,{"$error":"#VALUE!"},{"$error":"#VALUE!"},{"$error":"#VALUE!"},null,25,15,230,18.248908921254063,1.4099039069818802E-2,null,0.505,null,1,1,1,null,5.75,null,45,0.83333333333333326,null,null,null,1,null,2.4197916666666663,null,{"$error":"#VALUE!"},null,null,"","","","","","","","","","",1,"","","","","",null,1,"","","","","","","","","","","","","","",""]
[6,"Crossing","SBT","MinT2","Signal far","EBT","MajT1","Major thru",null,{"$error":"#VALUE!"},{"$error":"#VALUE!"},{"$error":"#VALUE!"},null,25,45,90,25.739075352467502,5.1494149230103807E-2,null,0.505,null,2,null,null,null,4,null,45,0.83333333333333326,null,null,null,1,null,1.6833333333333331,null,{"$error":"#VALUE!"},null,null,"","","","","","","","","",1,"","","","","","",null,1,"","","","","","","","","","","","","","",""]
[7,"Crossing - LT","NBL","MinL1","Signal near","EBT","MajT1","Major thru",null,{"$error":"#VALUE!"},{"$error":"#VALUE!"},{"$error":"#VALUE!"},null,15,45,230,27.918467333813421,6.9762185672148203E-2,null,0.505,null,1,1,1,null,5.75,null,45,0.83333333333333326,null,null,null,1,null,2.4197916666666663,null,{"$error":"#VALUE!"},null,null,"","","","","","","",1,"","","","","","","","",null,1,"","","","","","","","","","","","","","",""]
[8,"Crossing","NBT","MinT1","Signal near","EBT","MajT1","Major thru",null,{"$error":"#VALUE!"},{"$error":"#VALUE!"},{"$error":"#VALUE!"},null,15,45,90,23.717082451262844,3.7884541771032863E-2,null,0.505,null,2,null,null,null,4,null,45,0.83333333333333326,null,null,null,1,null,1.6833333333333331,null,{"$error":"#VALUE!"},null,null,"","","","","","",1,"","","","","","","","","",null,1,"","","","","","","","","","","","","","",""]
[9,"Crossing - LT","EBL","MajL1","Major left","SBT","MinT2","Signal near",null,{"$error":"#VALUE!"},{"$error":"#VALUE!"},{"$error":"#VALUE!"},null,20,15,230,15.895538413434787,8.3616736100371545E-3,null,0.505,null,2,null,null,null,4,null,45,0.83333333333333326,null,null,null,1,null,1.6833333333333331,null,{"$error":"#VALUE!"},null,null,"",1,"","","","","","","","","","","","","","",null,"","","","","","","","","",1,"","","","","",""]
[10,"Crossing - LT","EBL","MajL1","Major left","SBL","MinL2","Signal near",null,{"$error":"#VALUE!"},{"$error":"#VALUE!"},{"$error":"#VALUE!"},null,20,15,230,15.895538413434787,8.3616736100371545E-3,null,0.505,null,1,1,1,null,5.75,null,45,0.83333333333333326,null,null,null,1,null,2.4197916666666663,null,{"$error":"#VALUE!"},null,null,"",1,"","","","","","","","","","","","","","",null,"","","","","","","","","","",1,"","","","",""]
[11,"Crossing - LT","WBL","MajL2","Major left","NBL","MinL1","Signal near",null,{"$error":"#VALUE!"},{"$error":"#VALUE!"},{"$error":"#VALUE!"},null,20,15,230,15.895538413434787,8.3616736100371545E-3,null,0.505,null,1,1,1,null,5.75,null,45,0.83333333333333326,null,null,null,1,null,2.4197916666666663,null,{"$error":"#VALUE!"},null,null,"","","","",1,"","","","","","","","","","","",null,"","","","","","","",1,"","","","","","","",""]
[12,"Crossing - LT","WBL","MajL2","Major left","NBT","MinT1","Signal near",null,{"$error":"#VALUE!"},{"$error":"#VALUE!"},{"$error":"#VALUE!"},null,20,15,230,15.895538413434787,8.3616736100371545E-3,null,0.505,null,2,null,null,null,4,null,45,0.83333333333333326,null,null,null,1,null,1.6833333333333331,null,{"$error":"#VALUE!"},null,null,"","","","",1,"","","","","","","","","","","",null,"","","","","","",1,"","","","","","","","",""]
[13,"Crossing - LT","EBL","MajL1","Major left","WBT","MajT2","Major thru",null,{"$error":"#VALUE!"},{"$error":"#VALUE!"},{"$error":"#VALUE!"},null,20,45,230,29.924979939156898,9.0286582411373745E-2,null,0.505,null,1,null,null,null,2,null,45,0.83333333333333326,null,null,null,1,null,0.84166666666666656,null,{"$error":"#VALUE!"},null,null,"",1,"","","","","","","","","","","","","","",null,"","","",1,"","","","","","","","","","","",""]
[14,"Crossing - LT","WBL","MajL2","Major left","EBT","MajT1","Major thru",null,{"$error":"#VALUE!"},{"$error":"#VALUE!"},{"$error":"#VALUE!"},null,20,45,230,29.924979939156898,9.0286582411373745E-2,null,0.505,null,1,null,null,null,2,null,45,0.83333333333333326,null,null,null,1,null,0.84166666666666656,null,{"$error":"#VALUE!"},null,null,"","","","",1,"","","","","","","","","","","",null,1,"","","","","","","","","","","","","","",""]
[15,"Merging","EBL","MajL1","Major left","NBT","MinT1","Signal far",null,{"$error":"#VALUE!"},{"$error":"#VALUE!"},{"$error":"#VALUE!"},null,20,25,45,8.9147801264732891,9.333798723087925E-4,null,0.505,null,2,null,null,null,4,null,45,0.83333333333333326,null,null,null,1,null,1.6833333333333331,null,{"$error":"#VALUE!"},null,null,"",1,"","","","","","","","","","","","","","",null,"","","","","","",1,"","","","","","","","",""]
[16,"Merging","WBR","MajR2","Major right","NBT","MinT1","Signal far",null,{"$error":"#VALUE!"},{"$error":"#VALUE!"},{"$error":"#VALUE!"},null,15,25,45,8.9396576292116645,9.4329959592674944E-4,null,1,null,2,null,null,null,4,null,45,0.83333333333333326,null,null,null,1,null,3.333333333333333,null,{"$error":"#VALUE!"},null,null,"","","","","",1,"","","","","","","","","","",null,"","","","","","",1,"","","","","","","","",""]
[17,"Merging","NBL","MinL1","Signal far","WBT","MajT2","Major thru",null,{"$error":"#VALUE!"},{"$error":"#VALUE!"},{"$error":"#VALUE!"},null,25,45,45,16.271214938736659,9.1348815406664795E-3,null,{"$f":"SSI_AGI_ProtFactor","v":0.505},null,1,1,1,null,5.75,null,45,0.83333333333333326,null,null,null,1,null,2.4197916666666663,null,{"$error":"#VALUE!"},null,null,"","","","","","","",1,"","","","","","","","",null,"","","",1,"","","","","","","","","","","",""]
[18,"Merging","SBR","MinR2","Minor right","WBT","MajT2","Major thru",null,{"$error":"#VALUE!"},{"$error":"#VALUE!"},{"$error":"#VALUE!"},null,15,45,45,17.995873453365363,1.3373938286506865E-2,null,1,null,null,null,1,null,1.75,null,45,0.83333333333333326,null,null,null,1,null,1.4583333333333333,null,{"$error":"#VALUE!"},null,null,"","","","","","","","","","","",1,"","","","",null,"","","",1,"","","","","","","","","","","",""]
[19,"Merging","WBL","MajL2","Major left","SBT","MinT2","Signal far",null,{"$error":"#VALUE!"},{"$error":"#VALUE!"},{"$error":"#VALUE!"},null,20,25,45,8.9147801264732891,9.333798723087925E-4,null,{"$f":"SSI_AGI_ProtFactor","v":0.505},null,2,null,null,null,4,null,45,0.83333333333333326,null,null,null,1,null,1.6833333333333331,null,{"$error":"#VALUE!"},null,null,"","","","",1,"","","","","","","","","","","",null,"","","","","","","","","",1,"","","","","",""]
[20,"Merging","EBR","MajR1","Major right","SBT","MinT2","Signal far",null,{"$error":"#VALUE!"},{"$error":"#VALUE!"},{"$error":"#VALUE!"},null,15,25,45,8.9396576292116645,9.4329959592674944E-4,null,1,null,2,null,null,null,4,null,45,0.83333333333333326,null,null,null,1,null,3.333333333333333,null,{"$error":"#VALUE!"},null,null,"","",1,"","","","","","","","","","","","","",null,"","","","","","","","","",1,"","","","","",""]
[21,"Merging","SBL","MinL2","Signal far","EBT","MajT1","Major thru",null,{"$error":"#VALUE!"},{"$error":"#VALUE!"},{"$error":"#VALUE!"},null,25,45,45,16.271214938736659,9.1348815406664795E-3,null,{"$f":"SSI_AGI_ProtFactor","v":0.505},null,1,1,1,null,5.75,null,45,0.83333333333333326,null,null,null,1,null,2.4197916666666663,null,{"$error":"#VALUE!"},null,null,"","","","","","","","","","",1,"","","","","",null,1,"","","","","","","","","","","","","","",""]
[22,"Merging","NBR","MinR1","Minor right","EBT","MajT1","Major thru",null,{"$error":"#VALUE!"},{"$error":"#VALUE!"},{"$error":"#VALUE!"},null,15,45,45,17.995873453365363,1.3373938286506865E-2,null,1,null,null,null,1,null,1.75,null,45,0.83333333333333326,null,null,null,1,null,1.4583333333333333,null,{"$error":"#VALUE!"},null,null,"","","","","","","","",1,"","","","","","","",null,1,"","","","","","","","","","","","","","",""]
[23,"Diverging","SBT","MinT2","Signal near","SBL","MinL2","Signal near",null,{"$error":"#VALUE!"},{"$error":"#VALUE!"},{"$error":"#VALUE!"},null,15,15,10,1.3073361412148754,6.4061388075216071E-7,null,1,null,null,null,null,null,1,null,"",1,null,null,null,1,null,1,null,{"$error":"#VALUE!"},null,null,"","","","","","","","","",1,"","","","","","",null,"","","","","","","","","","",1,"","","","",""]
[24,"Diverging","SBT","MinT2","Signal near","SBR","MinR2","Minor right",null,{"$error":"#VALUE!"},{"$error":"#VALUE!"},{"$error":"#VALUE!"},null,15,15,10,1.3073361412148754,6.4061388075216071E-7,null,1,null,null,null,null,null,1,null,"",1,null,null,null,1,null,1,null,{"$error":"#VALUE!"},null,null,"","","","","","","","","",1,"","","","","","",null,"","","","","","","","","","","",1,"","","",""]
[25,"Diverging","EBT","MajT1","Major Thru","EBR","MajR1","Major right",null,{"$error":"#VALUE!"},{"$error":"#VALUE!"},{"$error":"#VALUE!"},null,45,15,10,15.169950011729762,7.0056226631585675E-3,null,1,null,null,null,null,null,1,null,"",1,null,null,null,1,null,1,null,{"$error":"#VALUE!"},null,null,1,"","","","","","","","","","","","","","","",null,"","",1,"","","","","","","","","","","","",""]
[26,"Diverging","EBT","MajT1","Major Thru","EBL","MajL1","Major left",null,{"$error":"#VALUE!"},{"$error":"#VALUE!"},{"$error":"#VALUE!"},null,45,20,10,12.77053292327718,3.6481988362114144E-3,null,1,null,null,null,null,null,1,null,"",1,null,null,null,1,null,1,null,{"$error":"#VALUE!"},null,null,1,"","","","","","","","","","","","","","","",null,"",1,"","","","","","","","","","","","","",""]
[27,"Diverging","NBT","MinT1","Signal near","NBL","MinL1","Signal near",null,{"$error":"#VALUE!"},{"$error":"#VALUE!"},{"$error":"#VALUE!"},null,15,15,10,1.3073361412148754,6.4061388075216071E-7,null,1,null,null,null,null,null,1,null,"",1,null,null,null,1,null,1,null,{"$error":"#VALUE!"},null,null,"","","","","","",1,"","","","","","","","","",null,"","","","","","","",1,"","","","","","","",""]
[28,"Diverging","NBT","MinT1","Signal near","NBR","MinR1","Minor right",null,{"$error":"#VALUE!"},{"$error":"#VALUE!"},{"$error":"#VALUE!"},null,15,15,10,1.3073361412148754,6.4061388075216071E-7,null,1,null,null,null,null,null,1,null,"",1,null,null,null,1,null,1,null,{"$error":"#VALUE!"},null,null,"","","","","","",1,"","","","","","","","","",null,"","","","","","","","",1,"","","","","","",""]
[29,"Diverging","WBT","MajT2","Major Thru","WBR","MajR2","Major right",null,{"$error":"#VALUE!"},{"$error":"#VALUE!"},{"$error":"#VALUE!"},null,45,15,10,15.169950011729762,7.0056226631585675E-3,null,1,null,null,null,null,null,1,null,"",1,null,null,null,1,null,1,null,{"$error":"#VALUE!"},null,null,"","","",1,"","","","","","","","","","","","",null,"","","","","",1,"","","","","","","","","",""]
[30,"Diverging","WBT","MajT2","Major Thru","WBL","MajL2","Major left",null,{"$error":"#VALUE!"},{"$error":"#VALUE!"},{"$error":"#VALUE!"},null,45,20,10,12.77053292327718,3.6481988362114144E-3,null,1,null,null,null,null,null,1,null,"",1,null,null,null,1,null,1,null,{"$error":"#VALUE!"},null,null,"","","",1,"","","","","","","","","","","","",null,"","","","",1,"","","","","","","","","","",""]
[31,"Nonmotorized",null,"MajNM1, MinNM2","Nonmotorized","SBR","MinR2","Minor right",null,{"$error":"#VALUE!"},{"$error":"#VALUE!"},{"$error":"#VALUE!"},null,0,15,"","",0.1205004039155782,null,1,null,null,1,null,null,2,null,{"$f":"IF(B34=\"Diverging\",\"\",SSI_AGI_VehSpeed_MnrThru)","v":29.75},0.66388888888888886,null,1,1,3,null,3.9833333333333334,null,{"$error":"#VALUE!"},null,null,"","","","","","","","","","","","",1,"","",1,null,"","","","","","","","","","","",1,"","","",""]
[32,"Nonmotorized",null,"MajNM1","Nonmotorized","EBL","MajL1","Major left",null,{"$error":"#VALUE!"},{"$error":"#VALUE!"},{"$error":"#VALUE!"},null,0,20,"","",0.20274912921655375,null,{"$f":"SSI_AGI_ProtFactor","v":0.505},null,1,null,null,null,2,null,{"$f":"IF(B35=\"Diverging\",\"\",SSI_AGI_VehSpeed_MjrThru)","v":45},0.83333333333333326,null,1,1,3,null,2.5249999999999995,null,{"$error":"#VALUE!"},null,null,{"$f":"IF(ISNUMBER(SEARCH(AN$3,$D35)),1,\"\")","v":""},"","","","","","","","","","","",1,"","","",null,{"$f":"IF(ISNUMBER(SEARCH(BE$3,$G35)),1,\"\")","v":""},1,"","","","","","","","","","","","","",""]
[33,"Nonmotorized",null,"MajNM1","Nonmotorized","WBT","MajT2","Major thru",null,{"$error":"#VALUE!"},{"$error":"#VALUE!"},{"$error":"#VALUE!"},null,{"$f":"VLOOKUP(E36,SSI_AGI_Range_VehSpeed,5,FALSE)","v":0},{"$f":"VLOOKUP(H36,SSI_AGI_Range_VehSpeed,5,FALSE)","v":45},"",{"$f":"IF(B36=\"Nonmotorized\",\"\",SQRT(N36^2+O36^2-2*N36*O36*COS(RADIANS(P36)))/2)","v":""},{"$f":"IF(B36=\"Nonmotorized\",1/(1+EXP(3.8432-0.1237*O36)),(Q36/SSI_AGI_RegAlpha)^SSI_AGI_RegK+(Q36/SSI_AGI_RegAlpha)^SSI_AGI_RegK-((Q36/SSI_AGI_RegAlpha)^SSI_AGI_RegK)*((Q36/SSI_AGI_RegAlpha)^SSI_AGI_RegK))","v":0.84855340903216459},null,{"$f":"SSI_AGI_ProtFactor","v":0.505},null,2,null,null,1,{"$f":"MAX(1,IF(B36<>\"Pedestrian\",V36*SSI_AGI_MajorThruLanes+W36*SSI_AGI_MinorThruLanes+X36*IF(SSI_AGI_MajorThruLanes=1,SSI_AGI_MergeWeightL1,IF(SSI_AGI_MajorThruLanes=2,SSI_AGI_MergeWeightL1+SSI_AGI_MergeWeightL2,SSI_AGI_MergeWeightL1+SSI_AGI_MergeWeightL2+SSI_AGI_MergeWeightL3*(SSI_AGI_MajorThruLanes-2)))+Y36*IF(SSI_AGI_MinorThruLanes=1,SSI_AGI_MergeWeightL1,IF(SSI_AGI_MinorThruLanes=2,SSI_AGI_MergeWeightL1+SSI_AGI_MergeWeightL2,SSI_AGI_MergeWeightL1+SSI_AGI_MergeWeightL2+SSI_AGI_MergeWeightL3*(SSI_AGI_MinorThruLanes-2))),V36*SSI_AGI_MajorThruLanes+W36*SSI_AGI_MinorThruLanes+X36*IF(SSI_AGI_MajorThruLanes=1,SSI_AGI_NM_MergeWeightL1,IF(SSI_AGI_MajorThruLanes=2,SSI_AGI_NM_MergeWeightL1+SSI_AGI_NM_MergeWeightL2,SSI_AGI_NM_MergeWeightL1+SSI_AGI_NM_MergeWeightL2+SSI_AGI_NM_MergeWeightL3*(SSI_AGI_MajorThruLanes-2)))+Y36*IF(SSI_AGI_MinorThruLanes=1,SSI_AGI_NM_MergeWeightL1,IF(SSI_AGI_MinorThruLanes=2,SSI_AGI_NM_MergeWeightL1+SSI_AGI_NM_MergeWeightL2,SSI_AGI_NM_MergeWeightL1+SSI_AGI_NM_MergeWeightL2+SSI_AGI_NM_MergeWeightL3*(SSI_AGI_MinorThruLanes-2)))))","v":5.75},null,45,0.83333333333333326,null,1,1,{"$f":"IF(SSI_AGI_ConsiderNMComplexity=\"Yes\",1+AE36+AF36,1)","v":3},null,7.2593749999999986,null,{"$error":"#VALUE!"},null,null,"","","","","","","","","","","","",1,"","","",null,"","","",1,"","","","","","","","","","","",""]
[34,"Nonmotorized",null,"MajNM1","Nonmotorized","NBL","MinL1","Signal far",null,{"$error":"#VALUE!"},{"$error":"#VALUE!"},{"$f":"PRODUCT(J37:K37)","v":{"$error":"#VALUE!"}},null,0,25,"","",0.32066879346345062,null,{"$f":"SSI_AGI_ProtFactor","v":0.505},null,2,null,null,1,5.75,null,45,0.83333333333333326,null,1,1,3,null,7.2593749999999986,null,{"$error":"#VALUE!"},null,null,"","","","","","","","","","","","",1,"","","",null,"","","","","","","",1,"","","","","","","",""]
[35,"Nonmotorized",null,"MajNM1","Nonmotorized","EBT","MajT1","Major thru",null,{"$error":"#VALUE!"},{"$error":"#VALUE!"},{"$error":"#VALUE!"},null,0,45,"","",0.84855340903216459,null,{"$f":"SSI_AGI_ProtFactor","v":0.505},null,2,null,null,1,5.75,null,45,0.83333333333333326,null,1,1,3,null,7.2593749999999986,null,{"$error":"#VALUE!"},null,null,"","","","","","","","","","","","",1,"","","",null,1,"","","","","","","","","","","","","","",""]
[36,"Nonmotorized",null,"MinNM1, MajNM1","Nonmotorized","EBR","MajR1","Major right",null,{"$error":"#VALUE!"},{"$error":"#VALUE!"},{"$error":"#VALUE!"},null,0,15,"","",0.1205004039155782,null,1,null,1,null,null,null,2,null,45,0.83333333333333326,null,1,1,3,null,5,null,{"$error":"#VALUE!"},null,null,"","","","","","","","","","","","",1,"",1,"",null,"","",1,"","","","","","","","","","","","",""]
[37,"Nonmotorized",null,"MinNM2","Nonmotorized","SBT","MinT2","Signal near",null,{"$error":"#VALUE!"},{"$error":"#VALUE!"},{"$error":"#VALUE!"},null,0,15,"","",0.1205004039155782,null,{"$f":"SSI_AGI_ProtFactor","v":0.505},null,null,2,1,null,5.75,null,45,0.83333333333333326,null,1,1,3,null,7.2593749999999986,null,{"$error":"#VALUE!"},null,null,"","","","","","","","","","","","","","","",1,null,"","","","","","","","","",1,"","","","","",""]
[38,"Nonmotorized",null,"MinNM2","Nonmotorized","SBL","MinL2","Signal near",null,{"$error":"#VALUE!"},{"$error":"#VALUE!"},{"$error":"#VALUE!"},null,0,15,"","",0.1205004039155782,null,{"$f":"SSI_AGI_ProtFactor","v":0.505},null,null,2,1,null,5.75,null,45,0.83333333333333326,null,1,1,3,null,7.2593749999999986,null,{"$error":"#VALUE!"},null,null,"","","","","","","","","","","","","","","",1,null,"","","","","","","","","","",1,"","","","",""]
[39,"Nonmotorized",null,"MinNM2","Nonmotorized","EBL","MajL1","Major left",null,{"$error":"#VALUE!"},{"$error":"#VALUE!"},{"$error":"#VALUE!"},null,0,20,"","",0.20274912921655375,null,{"$f":"SSI_AGI_ProtFactor","v":0.505},null,null,2,1,null,5.75,null,45,0.83333333333333326,null,1,1,3,null,7.2593749999999986,null,{"$error":"#VALUE!"},null,null,"","","","","","","","","","","","","","","",1,null,"",1,"","","","","","","","","","","","","",""]
[40,"Nonmotorized",null,"MinNM2","Nonmotorized","NBT","MinT1","Signal far",null,{"$error":"#VALUE!"},{"$error":"#VALUE!"},{"$error":"#VALUE!"},null,0,25,"","",0.32066879346345062,null,{"$f":"SSI_AGI_ProtFactor","v":0.505},null,null,2,1,null,5.75,null,45,0.83333333333333326,null,1,1,3,null,7.2593749999999986,null,{"$error":"#VALUE!"},null,null,"","","","","","","","","","","","","","","",1,null,"","","","","","",1,"","","","","","","","",""]
[41,"Nonmotorized",null,"MinNM1, MajNM2","Nonmotorized","WBR","MajR2","Major right",null,{"$error":"#VALUE!"},{"$error":"#VALUE!"},{"$error":"#VALUE!"},null,0,15,"","",0.1205004039155782,null,1,null,1,null,null,null,2,null,45,0.83333333333333326,null,1,1,3,null,5,null,{"$error":"#VALUE!"},null,null,"","","","","","","","","","","","","",1,1,"",null,"","","","","",1,"","","","","","","","","",""]
[42,"Nonmotorized",null,"MinNM1","Nonmotorized","SBT","MinT2","Signal far",null,{"$error":"#VALUE!"},{"$error":"#VALUE!"},{"$error":"#VALUE!"},null,0,25,"","",0.32066879346345062,null,{"$f":"SSI_AGI_ProtFactor","v":0.505},null,null,2,1,null,5.75,null,45,0.83333333333333326,null,1,1,3,null,7.2593749999999986,null,{"$error":"#VALUE!"},null,null,"","","","","","","","","","","","","","",1,"",null,"","","","","","","","","",1,"","","","","",""]
[43,"Nonmotorized",null,"MinNM1","Nonmotorized","WBL","MajL2","Major left",null,{"$error":"#VALUE!"},{"$error":"#VALUE!"},{"$error":"#VALUE!"},null,0,20,"","",0.20274912921655375,null,{"$f":"SSI_AGI_ProtFactor","v":0.505},null,null,2,1,null,5.75,null,45,0.83333333333333326,null,1,1,3,null,7.2593749999999986,null,{"$error":"#VALUE!"},null,null,"","","","","","","","","","","","","","",1,"",null,"","","","",1,"","","","","","","","","","",""]
[44,"Nonmotorized",null,"MinNM1","Nonmotorized","NBL","MinL1","Signal near",null,{"$error":"#VALUE!"},{"$error":"#VALUE!"},{"$error":"#VALUE!"},null,0,15,"","",0.1205004039155782,null,{"$f":"SSI_AGI_ProtFactor","v":0.505},null,null,2,1,null,5.75,null,45,0.83333333333333326,null,1,1,3,null,7.2593749999999986,null,{"$error":"#VALUE!"},null,null,"","","","","","","","","","","","","","",1,"",null,"","","","","","","",1,"","","","","","","",""]
[45,"Nonmotorized",null,"MinNM1","Nonmotorized","NBT","MinT1","Signal near",null,{"$error":"#VALUE!"},{"$error":"#VALUE!"},{"$error":"#VALUE!"},null,0,15,"","",0.1205004039155782,null,{"$f":"SSI_AGI_ProtFactor","v":0.505},null,null,2,1,null,5.75,null,45,0.83333333333333326,null,1,1,3,null,7.2593749999999986,null,{"$error":"#VALUE!"},null,null,"","","","","","","","","","","","","","",1,"",null,"","","","","","",1,"","","","","","","","",""]
[46,"Nonmotorized",null,"MajNM2, MinNM2","Nonmotorized","NBR","MinR1","Minor right",null,{"$error":"#VALUE!"},{"$error":"#VALUE!"},{"$error":"#VALUE!"},null,0,15,"","",0.1205004039155782,null,1,null,null,1,null,null,2,null,{"$f":"IF(B49=\"Diverging\",\"\",SSI_AGI_VehSpeed_MnrThru)","v":29.75},0.66388888888888886,null,1,1,3,null,3.9833333333333334,null,{"$error":"#VALUE!"},null,null,"","","","","","","","","","","","","",1,"",1,null,"","","","","","","","",1,"","","","","","",""]
[47,"Nonmotorized",null,"MajNM2","Nonmotorized","WBL","MajL2","Major left",null,{"$error":"#VALUE!"},{"$error":"#VALUE!"},{"$error":"#VALUE!"},null,0,20,"","",0.20274912921655375,null,{"$f":"SSI_AGI_ProtFactor","v":0.505},null,1,null,null,null,2,null,{"$f":"IF(B50=\"Diverging\",\"\",SSI_AGI_VehSpeed_MjrThru)","v":45},0.83333333333333326,null,1,1,3,null,2.5249999999999995,null,{"$error":"#VALUE!"},null,null,"","","","","","","","","","","","","",1,"",{"$f":"IF(ISNUMBER(SEARCH(BC$3,$D50)),1,\"\")","v":""},null,"","","","",1,"","","","","","","","","","",{"$f":"IF(ISNUMBER(SEARCH(BT$3,$G50)),1,\"\")","v":""}]
[48,"Nonmotorized",null,"MajNM2","Nonmotorized","EBT","MajT1","Major thru",null,{"$error":"#VALUE!"},{"$error":"#VALUE!"},{"$error":"#VALUE!"},null,0,45,"","",0.84855340903216459,null,{"$f":"SSI_AGI_ProtFactor","v":0.505},null,2,null,null,1,5.75,null,{"$f":"IF(B51=\"Diverging\",\"\",SSI_AGI_VehSpeed_MjrThru)","v":45},0.83333333333333326,null,1,1,3,null,7.2593749999999986,null,{"$error":"#VALUE!"},null,null,{"$f":"IF(ISNUMBER(SEARCH(AN$3,$D51)),1,\"\")","v":""},"","","","","","","","","","","","",1,"","",null,{"$f":"IF(ISNUMBER(SEARCH(BE$3,$G51)),1,\"\")","v":1},"","","","","","","","","","","","","","",""]
[49,"Nonmotorized",null,"MajNM2","Nonmotorized","SBL","MinL2","Signal far",null,{"$error":"#VALUE!"},{"$error":"#VALUE!"},{"$error":"#VALUE!"},null,0,25,null,null,0.32066879346345062,null,{"$f":"SSI_AGI_ProtFactor","v":0.505},null,2,null,null,1,5.75,null,{"$f":"IF(B52=\"Diverging\",\"\",SSI_AGI_VehSpeed_MjrThru)","v":45},0.83333333333333326,null,1,1,3,null,{"$f":"PRODUCT(Z52,T52,AC52,AG52)","v":7.2593749999999986},null,{"$error":"#VALUE!"},null,null,"","","","","","","","","","","","","",1,"","",null,"","","","","","","","","","",1,"","","","",""]
[50,"Nonmotorized",null,"MajNM2","Nonmotorized","WBT","MajT2","Major thru",null,{"$error":"#VALUE!"},{"$error":"#VALUE!"},{"$error":"#VALUE!"},null,0,45,null,null,0.84855340903216459,null,{"$f":"SSI_AGI_ProtFactor","v":0.505},null,2,null,null,1,5.75,null,{"$f":"IF(B53=\"Diverging\",\"\",SSI_AGI_VehSpeed_MjrThru)","v":45},0.83333333333333326,null,1,1,3,null,7.2593749999999986,null,{"$error":"#VALUE!"},null,null,"","","","","","","","","","","","","",1,"","",null,"","","",1,"","","","","","","","","","","",""]
[null,null,null,null,null,null,null,null,null,null,null,null,null,null,null,null,null,null,null,null,null,null,null,null,null,null,null,null,null,null,null,null,null,null,null,null,null,null,"O",{"$f":"'SSI Inputs'!$D$26","v":{"$error":"#VALUE!"}},{"$f":"'SSI Inputs'!$D$27","v":{"$error":"#VALUE!"}},{"$f":"'SSI Inputs'!$D$28","v":{"$error":"#VALUE!"}},{"$f":"'SSI Inputs'!$D$30","v":{"$error":"#VALUE!"}},{"$f":"'SSI Inputs'!$D$31","v":{"$error":"#VALUE!"}},{"$f":"'SSI Inputs'!$D$32","v":{"$error":"#VALUE!"}},{"$f":"'SSI Inputs'!$D$34","v":{"$error":"#VALUE!"}},{"$f":"'SSI Inputs'!$D$35","v":{"$error":"#VALUE!"}},{"$f":"'SSI Inputs'!$D$36","v":{"$error":"#VALUE!"}},{"$f":"'SSI Inputs'!$D$38","v":{"$error":"#VALUE!"}},{"$f":"'SSI Inputs'!$D$39","v":{"$error":"#VALUE!"}},{"$f":"'SSI Inputs'!$D$40","v":{"$error":"#VALUE!"}},{"$f":"'SSI Inputs'!$Q$18","v":175},{"$f":"'SSI Inputs'!$Q$19","v":175},{"$f":"'SSI Inputs'!$Q$20","v":175},{"$f":"'SSI Inputs'!$Q$21","v":175},"O",{"$f":"'SSI Inputs'!$D$26","v":{"$error":"#VALUE!"}},{"$f":"'SSI Inputs'!$D$27","v":{"$error":"#VALUE!"}},{"$f":"'SSI Inputs'!$D$28","v":{"$error":"#VALUE!"}},{"$f":"'SSI Inputs'!$D$30","v":{"$error":"#VALUE!"}},{"$f":"'SSI Inputs'!$D$31","v":{"$error":"#VALUE!"}},{"$f":"'SSI Inputs'!$D$32","v":{"$error":"#VALUE!"}},{"$f":"'SSI Inputs'!$D$34","v":{"$error":"#VALUE!"}},{"$f":"'SSI Inputs'!$D$35","v":{"$error":"#VALUE!"}},{"$f":"'SSI Inputs'!$D$36","v":{"$error":"#VALUE!"}},{"$f":"'SSI Inputs'!$D$38","v":{"$error":"#VALUE!"}},{"$f":"'SSI Inputs'!$D$39","v":{"$error":"#VALUE!"}},{"$f":"'SSI Inputs'!$D$40","v":{"$error":"#VALUE!"}},{"$f":"'SSI Inputs'!$Q$18","v":175},{"$f":"'SSI Inputs'!$Q$19","v":175},{"$f":"'SSI Inputs'!$Q$20","v":175},{"$f":"'SSI Inputs'!$Q$21","v":175}]
[null,null,null,null,null,null,null,null,null,null,null,null,null,null,null,null,null,null,null,null,null,null,null,null,null,null,null,null,null,null,null,null,null,null,null,null,null,null,"D",{"$f":"'SSI Inputs'!$E$26","v":{"$error":"#VALUE!"}},{"$f":"'SSI Inputs'!$E$27","v":{"$error":"#VALUE!"}},{"$f":"'SSI Inputs'!$E$28","v":{"$error":"#VALUE!"}},{"$f":"'SSI Inputs'!$E$30","v":{"$error":"#VALUE!"}},{"$f":"'SSI Inputs'!$E$31","v":{"$error":"#VALUE!"}},{"$f":"'SSI Inputs'!$E$32","v":{"$error":"#VALUE!"}},{"$f":"'SSI Inputs'!$E$34","v":{"$error":"#VALUE!"}},{"$f":"'SSI Inputs'!$E$35","v":{"$error":"#VALUE!"}},{"$f":"'SSI Inputs'!$E$36","v":{"$error":"#VALUE!"}},{"$f":"'SSI Inputs'!$E$38","v":{"$error":"#VALUE!"}},{"$f":"'SSI Inputs'!$E$39","v":{"$error":"#VALUE!"}},{"$f":"'SSI Inputs'!$E$40","v":{"$error":"#VALUE!"}},{"$f":"'SSI Inputs'!$R$18","v":175},{"$f":"'SSI Inputs'!$R$19","v":175},{"$f":"'SSI Inputs'!$R$20","v":175},{"$f":"'SSI Inputs'!$R$21","v":175},"D",{"$f":"'SSI Inputs'!$E$26","v":{"$error":"#VALUE!"}},{"$f":"'SSI Inputs'!$E$27","v":{"$error":"#VALUE!"}},{"$f":"'SSI Inputs'!$E$28","v":{"$error":"#VALUE!"}},{"$f":"'SSI Inputs'!$E$30","v":{"$error":"#VALUE!"}},{"$f":"'SSI Inputs'!$E$31","v":{"$error":"#VALUE!"}},{"$f":"'SSI Inputs'!$E$32","v":{"$error":"#VALUE!"}},{"$f":"'SSI Inputs'!$E$34","v":{"$error":"#VALUE!"}},{"$f":"'SSI Inputs'!$E$35","v":{"$error":"#VALUE!"}},{"$f":"'SSI Inputs'!$E$36","v":{"$error":"#VALUE!"}},{"$f":"'SSI Inputs'!$E$38","v":{"$error":"#VALUE!"}},{"$f":"'SSI Inputs'!$E$39","v":{"$error":"#VALUE!"}},{"$f":"'SSI Inputs'!$E$40","v":{"$error":"#VALUE!"}},{"$f":"'SSI Inputs'!$R$18","v":175},{"$f":"'SSI Inputs'!$R$19","v":175},{"$f":"'SSI Inputs'!$R$20","v":175},{"$f":"'SSI Inputs'!$R$21","v":175}]
[]
[]
[]
[]
[]
[]
[]
[]
[]
[]
[]
[]
[]
[]
[]
[]
[]
[]
[]
[]
[]
[]
[]
[]
[]
[]
[]
[]
[]
[]
[]
[]
[]
[]
[]
[]
[]
[]
[]
[]
[]
[]
[]
[]
[]
[null,null,null,null,null,null,null,null,null,"Exposure",null,null,null,null,null,null,null,null,null,null,null,null,null,null,null,null,null,null,null,null,null,null,null,null,null,null,"Exposure-Severity-Complexity Product"]
[null,null,null,null,null,null,null,null,null,"Q1","Q2","I"]
[null,null,null,null,null,null,null,null,null,{"$f":"SUMPRODUCT($AN4:$BC4,$AN$55:$BC$55)","v":{"$error":"#VALUE!"}},{"$f":"SUMPRODUCT($BE4:$BT4,$BE$55:$BT$55)","v":{"$error":"#VALUE!"}},{"$f":"PRODUCT(J103:K103)","v":{"$error":"#VALUE!"}},null,null,null,null,null,null,null,null,null,null,null,null,null,null,null,null,null,null,null,null,null,null,null,null,{"$f":"L103*R4*AI4","v":{"$error":"#VALUE!"}}]
[null,null,null,null,null,null,null,null,null,{"$f":"SUMPRODUCT($AN5:$BC5,$AN$55:$BC$55)","v":{"$error":"#VALUE!"}},{"$f":"SUMPRODUCT($BE5:$BT5,$BE$55:$BT$55)","v":{"$error":"#VALUE!"}},{"$f":"PRODUCT(J104:K104)","v":{"$error":"#VALUE!"}},null,null,null,null,null,null,null,null,null,null,null,null,null,null,null,null,null,null,null,null,null,null,null,null,{"$f":"L104*R5*AI5","v":{"$error":"#VALUE!"}}]
[null,null,null,null,null,null,null,null,null,{"$error":"#VALUE!"},{"$error":"#VALUE!"},{"$error":"#VALUE!"},null,null,null,null,null,null,null,null,null,null,null,null,null,null,null,null,null,null,null,null,null,null,null,null,{"$error":"#VALUE!"}]
[null,null,null,null,null,null,null,null,null,{"$error":"#VALUE!"},{"$error":"#VALUE!"},{"$error":"#VALUE!"},null,null,null,null,null,null,null,null,null,null,null,null,null,null,null,null,null,null,null,null,null,null,null,null,{"$error":"#VALUE!"}]
[null,null,null,null,null,null,null,null,null,{"$error":"#VALUE!"},{"$error":"#VALUE!"},{"$error":"#VALUE!"},null,null,null,null,null,null,null,null,null,null,null,null,null,null,null,null,null,null,null,null,null,null,null,null,{"$error":"#VALUE!"}]
[null,null,null,null,null,null,null,null,null,{"$error":"#VALUE!"},{"$error":"#VALUE!"},{"$error":"#VALUE!"},null,null,null,null,null,null,null,null,null,null,null,null,null,null,null,null,null,null,null,null,null,null,null,null,{"$error":"#VALUE!"}]
[null,null,null,null,null,null,null,null,null,{"$error":"#VALUE!"},{"$error":"#VALUE!"},{"$error":"#VALUE!"},null,null,null,null,null,null,null,null,null,null,null,null,null,null,null,null,null,null,null,null,null,null,null,null,{"$error":"#VALUE!"}]
[null,null,null,null,null,null,null,null,null,{"$error":"#VALUE!"},{"$error":"#VALUE!"},{"$error":"#VALUE!"},null,null,null,null,null,null,null,null,null,null,null,null,null,null,null,null,null,null,null,null,null,null,null,null,{"$error":"#VALUE!"}]
[null,null,null,null,null,null,null,null,null,{"$error":"#VALUE!"},{"$error":"#VALUE!"},{"$error":"#VALUE!"},null,null,null,null,null,null,null,null,null,null,null,null,null,null,null,null,null,null,null,null,null,null,null,null,{"$error":"#VALUE!"}]
[null,null,null,null,null,null,null,null,null,{"$error":"#VALUE!"},{"$error":"#VALUE!"},{"$error":"#VALUE!"},null,null,null,null,null,null,null,null,null,null,null,null,null,null,null,null,null,null,null,null,null,null,null,null,{"$error":"#VALUE!"}]
[null,null,null,null,null,null,null,null,null,{"$error":"#VALUE!"},{"$error":"#VALUE!"},{"$error":"#VALUE!"},null,null,null,null,null,null,null,null,null,null,null,null,null,null,null,null,null,null,null,null,null,null,null,null,{"$error":"#VALUE!"}]
[null,null,null,null,null,null,null,null,null,{"$error":"#VALUE!"},{"$error":"#VALUE!"},{"$error":"#VALUE!"},null,null,null,null,null,null,null,null,null,null,null,null,null,null,null,null,null,null,null,null,null,null,null,null,{"$error":"#VALUE!"}]
[null,null,null,null,null,null,null,null,null,{"$error":"#VALUE!"},{"$error":"#VALUE!"},{"$error":"#VALUE!"},null,null,null,null,null,null,null,null,null,null,null,null,null,null,null,null,null,null,null,null,null,null,null,null,{"$error":"#VALUE!"}]
[null,null,null,null,null,null,null,null,null,{"$error":"#VALUE!"},{"$error":"#VALUE!"},{"$error":"#VALUE!"},null,null,null,null,null,null,null,null,null,null,null,null,null,null,null,null,null,null,null,null,null,null,null,null,{"$error":"#VALUE!"}]
[null,null,null,null,null,null,null,null,null,{"$error":"#VALUE!"},{"$error":"#VALUE!"},{"$error":"#VALUE!"},null,null,null,null,null,null,null,null,null,null,null,null,null,null,null,null,null,null,null,null,null,null,null,null,{"$error":"#VALUE!"}]
[null,null,null,null,null,null,null,null,null,{"$error":"#VALUE!"},{"$error":"#VALUE!"},{"$error":"#VALUE!"},null,null,null,null,null,null,null,null,null,null,null,null,null,null,null,null,null,null,null,null,null,null,null,null,{"$error":"#VALUE!"}]
[null,null,null,null,null,null,null,null,null,{"$error":"#VALUE!"},{"$error":"#VALUE!"},{"$error":"#VALUE!"},null,null,null,null,null,null,null,null,null,null,null,null,null,null,null,null,null,null,null,null,null,null,null,null,{"$error":"#VALUE!"}]
[null,null,null,null,null,null,null,null,null,{"$error":"#VALUE!"},{"$error":"#VALUE!"},{"$error":"#VALUE!"},null,null,null,null,null,null,null,null,null,null,null,null,null,null,null,null,null,null,null,null,null,null,null,null,{"$error":"#VALUE!"}]
[null,null,null,null,null,null,null,null,null,{"$error":"#VALUE!"},{"$error":"#VALUE!"},{"$error":"#VALUE!"},null,null,null,null,null,null,null,null,null,null,null,null,null,null,null,null,null,null,null,null,null,null,null,null,{"$error":"#VALUE!"}]
[null,null,null,null,null,null,null,null,null,{"$error":"#VALUE!"},{"$error":"#VALUE!"},{"$error":"#VALUE!"},null,null,null,null,null,null,null,null,null,null,null,null,null,null,null,null,null,null,null,null,null,null,null,null,{"$error":"#VALUE!"}]
[null,null,null,null,null,null,null,null,null,{"$error":"#VALUE!"},{"$error":"#VALUE!"},{"$error":"#VALUE!"},null,null,null,null,null,null,null,null,null,null,null,null,null,null,null,null,null,null,null,null,null,null,null,null,{"$error":"#VALUE!"}]
[null,null,null,null,null,null,null,null,null,{"$error":"#VALUE!"},{"$error":"#VALUE!"},{"$error":"#VALUE!"},null,null,null,null,null,null,null,null,null,null,null,null,null,null,null,null,null,null,null,null,null,null,null,null,{"$error":"#VALUE!"}]
[null,null,null,null,null,null,null,null,null,{"$error":"#VALUE!"},{"$error":"#VALUE!"},{"$error":"#VALUE!"},null,null,null,null,null,null,null,null,null,null,null,null,null,null,null,null,null,null,null,null,null,null,null,null,{"$error":"#VALUE!"}]
[null,null,null,null,null,null,null,null,null,{"$error":"#VALUE!"},{"$error":"#VALUE!"},{"$error":"#VALUE!"},null,null,null,null,null,null,null,null,null,null,null,null,null,null,null,null,null,null,null,null,null,null,null,null,{"$error":"#VALUE!"}]
[null,null,null,null,null,null,null,null,null,{"$error":"#VALUE!"},{"$error":"#VALUE!"},{"$error":"#VALUE!"},null,null,null,null,null,null,null,null,null,null,null,null,null,null,null,null,null,null,null,null,null,null,null,null,{"$error":"#VALUE!"}]
[null,null,null,null,null,null,null,null,null,{"$error":"#VALUE!"},{"$error":"#VALUE!"},{"$error":"#VALUE!"},null,null,null,null,null,null,null,null,null,null,null,null,null,null,null,null,null,null,null,null,null,null,null,null,{"$error":"#VALUE!"}]
[null,null,null,null,null,null,null,null,null,{"$error":"#VALUE!"},{"$error":"#VALUE!"},{"$error":"#VALUE!"},null,null,null,null,null,null,null,null,null,null,null,null,null,null,null,null,null,null,null,null,null,null,null,null,{"$error":"#VALUE!"}]
[null,null,null,null,null,null,null,null,null,{"$error":"#VALUE!"},{"$error":"#VALUE!"},{"$error":"#VALUE!"},null,null,null,null,null,null,null,null,null,null,null,null,null,null,null,null,null,null,null,null,null,null,null,null,{"$error":"#VALUE!"}]
[null,null,null,null,null,null,null,null,null,{"$error":"#VALUE!"},{"$error":"#VALUE!"},{"$error":"#VALUE!"},null,null,null,null,null,null,null,null,null,null,null,null,null,null,null,null,null,null,null,null,null,null,null,null,{"$error":"#VALUE!"}]
[null,null,null,null,null,null,null,null,null,{"$error":"#VALUE!"},{"$error":"#VALUE!"},{"$error":"#VALUE!"},null,null,null,null,null,null,null,null,null,null,null,null,null,null,null,null,null,null,null,null,null,null,null,null,{"$error":"#VALUE!"}]
[null,null,null,null,null,null,null,null,null,{"$error":"#VALUE!"},{"$error":"#VALUE!"},{"$error":"#VALUE!"},null,null,null,null,null,null,null,null,null,null,null,null,null,null,null,null,null,null,null,null,null,null,null,null,{"$error":"#VALUE!"}]
[null,null,null,null,null,null,null,null,null,{"$error":"#VALUE!"},{"$error":"#VALUE!"},{"$error":"#VALUE!"},null,null,null,null,null,null,null,null,null,null,null,null,null,null,null,null,null,null,null,null,null,null,null,null,{"$error":"#VALUE!"}]
[null,null,null,null,null,null,null,null,null,{"$error":"#VALUE!"},{"$error":"#VALUE!"},{"$error":"#VALUE!"},null,null,null,null,null,null,null,null,null,null,null,null,null,null,null,null,null,null,null,null,null,null,null,null,{"$error":"#VALUE!"}]
[null,null,null,null,null,null,null,null,null,{"$error":"#VALUE!"},{"$error":"#VALUE!"},{"$error":"#VALUE!"},null,null,null,null,null,null,null,null,null,null,null,null,null,null,null,null,null,null,null,null,null,null,null,null,{"$error":"#VALUE!"}]
[null,null,null,null,null,null,null,null,null,{"$error":"#VALUE!"},{"$error":"#VALUE!"},{"$error":"#VALUE!"},null,null,null,null,null,null,null,null,null,null,null,null,null,null,null,null,null,null,null,null,null,null,null,null,{"$error":"#VALUE!"}]
[null,null,null,null,null,null,null,null,null,{"$error":"#VALUE!"},{"$error":"#VALUE!"},{"$error":"#VALUE!"},null,null,null,null,null,null,null,null,null,null,null,null,null,null,null,null,null,null,null,null,null,null,null,null,{"$error":"#VALUE!"}]
[null,null,null,null,null,null,null,null,null,{"$error":"#VALUE!"},{"$error":"#VALUE!"},{"$error":"#VALUE!"},null,null,null,null,null,null,null,null,null,null,null,null,null,null,null,null,null,null,null,null,null,null,null,null,{"$error":"#VALUE!"}]
[null,null,null,null,null,null,null,null,null,{"$error":"#VALUE!"},{"$error":"#VALUE!"},{"$error":"#VALUE!"},null,null,null,null,null,null,null,null,null,null,null,null,null,null,null,null,null,null,null,null,null,null,null,null,{"$error":"#VALUE!"}]
[null,null,null,null,null,null,null,null,null,{"$error":"#VALUE!"},{"$error":"#VALUE!"},{"$error":"#VALUE!"},null,null,null,null,null,null,null,null,null,null,null,null,null,null,null,null,null,null,null,null,null,null,null,null,{"$error":"#VALUE!"}]
[null,null,null,null,null,null,null,null,null,{"$error":"#VALUE!"},{"$error":"#VALUE!"},{"$error":"#VALUE!"},null,null,null,null,null,null,null,null,null,null,null,null,null,null,null,null,null,null,null,null,null,null,null,null,{"$error":"#VALUE!"}]
[null,null,null,null,null,null,null,null,null,{"$error":"#VALUE!"},{"$error":"#VALUE!"},{"$error":"#VALUE!"},null,null,null,null,null,null,null,null,null,null,null,null,null,null,null,null,null,null,null,null,null,null,null,null,{"$error":"#VALUE!"}]
[null,null,null,null,null,null,null,null,null,{"$error":"#VALUE!"},{"$error":"#VALUE!"},{"$error":"#VALUE!"},null,null,null,null,null,null,null,null,null,null,null,null,null,null,null,null,null,null,null,null,null,null,null,null,{"$error":"#VALUE!"}]
[null,null,null,null,null,null,null,null,null,{"$error":"#VALUE!"},{"$error":"#VALUE!"},{"$error":"#VALUE!"},null,null,null,null,null,null,null,null,null,null,null,null,null,null,null,null,null,null,null,null,null,null,null,null,{"$error":"#VALUE!"}]
[null,null,null,null,null,null,null,null,null,{"$error":"#VALUE!"},{"$error":"#VALUE!"},{"$error":"#VALUE!"},null,null,null,null,null,null,null,null,null,null,null,null,null,null,null,null,null,null,null,null,null,null,null,null,{"$error":"#VALUE!"}]
[null,null,null,null,null,null,null,null,null,{"$error":"#VALUE!"},{"$error":"#VALUE!"},{"$error":"#VALUE!"},null,null,null,null,null,null,null,null,null,null,null,null,null,null,null,null,null,null,null,null,null,null,null,null,{"$error":"#VALUE!"}]
[null,null,null,null,null,null,null,null,null,{"$error":"#VALUE!"},{"$error":"#VALUE!"},{"$error":"#VALUE!"},null,null,null,null,null,null,null,null,null,null,null,null,null,null,null,null,null,null,null,null,null,null,null,null,{"$error":"#VALUE!"}]
[null,null,null,null,null,null,null,null,null,{"$error":"#VALUE!"},{"$error":"#VALUE!"},{"$error":"#VALUE!"},null,null,null,null,null,null,null,null,null,null,null,null,null,null,null,null,null,null,null,null,null,null,null,null,{"$error":"#VALUE!"}]
[null,null,null,null,null,null,null,null,null,{"$error":"#VALUE!"},{"$error":"#VALUE!"},{"$error":"#VALUE!"},null,null,null,null,null,null,null,null,null,null,null,null,null,null,null,null,null,null,null,null,null,null,null,null,{"$error":"#VALUE!"}]
[null,null,null,null,null,null,null,null,null,{"$error":"#VALUE!"},{"$error":"#VALUE!"},{"$error":"#VALUE!"},null,null,null,null,null,null,null,null,null,null,null,null,null,null,null,null,null,null,null,null,null,null,null,null,{"$error":"#VALUE!"}]
[null,null,null,null,null,null,null,null,null,{"$error":"#VALUE!"},{"$error":"#VALUE!"},{"$error":"#VALUE!"},null,null,null,null,null,null,null,null,null,null,null,null,null,null,null,null,null,null,null,null,null,null,null,null,{"$error":"#VALUE!"}]

{"sheet":"FDLT","index":45,"n_rows":150,"n_cols":72,"rows_kept":150,"cut":false,"hidden":true,"merged":[[1,56,1,71],[0,19,0,28],[0,30,0,32],[1,31,2,31],[1,32,2,32],[1,21,1,25],[1,27,1,28],[1,30,2,30],[100,9,100,11],[100,36,101,36],[1,34,2,34],[1,36,2,36],[1,39,1,54],[1,9,1,11],[1,13,1,17]]}
[null,null,null,null,null,null,null,null,null,null,null,null,null,null,null,null,null,null,null,"Conflicting Traffic Complexity",null,null,null,null,null,null,null,null,null,null,"Pedestrian Complexity"]
[null,null,null,null,null,null,null,null,null,"Exposure",null,null,null,"Severity",null,null,null,null,null,"Traffic Control",null,"Conflicting Lanes",null,null,null,null,null,"Conflicting Speed",null,null,"Indirect Paths Indicator","Non-intuitive movements indicator","Pedestrian Complexity factor",null,"Total Complexity Multiplier",null,"Exposure-Severity-Complexity Product",null,null,"Included in Mvmt1",null,null,null,null,null,null,null,null,null,null,null,null,null,null,null,null,"Included in Mvmt2"]
["#","Conflict Type","Mvmt1","Mvmt1_gen","Mvmt1_SpeedCat","Mvmt2","Mvmt2_gen","Mvmt2_SpeedCat",null,"Q1","Q2","I",null,"Speed_V1","Speed_V2","Angle","delta_V","P_FSI",null,null,null,"MajC","MinC","MajM/P","MinM/P","Score",null,"Speed","Factor",null,null,null,null,null,null,null,null,null,null,"MajT1","MajL1","MajR1","MajT2","MajL2","MajR2","MinT1","MinL1","MinR1","MinT2","MinL2","MinR2","MajNM1","MajNM2","MinNM1","MinNM2",null,"MajT1","MajL1","MajR1","MajT2","MajL2","MajR2","MinT1","MinL1","MinR1","MinT2","MinL2","MinR2","MajNM1","MajNM2","MinNM1","MinNM2"]
[1,"Crossing","SBT","MinT2","Signal near","WBT","MajT2","Major thru",null,{"$f":"SUMPRODUCT($AN4:$BC4,$AN$52:$BC$52)","v":{"$error":"#VALUE!"}},{"$f":"SUMPRODUCT($BE4:$BT4,$BE$52:$BT$52)","v":{"$error":"#VALUE!"}},{"$f":"PRODUCT(J4:K4)","v":{"$error":"#VALUE!"}},null,{"$f":"VLOOKUP(E4,SSI_AGI_Range_VehSpeed,5,FALSE)","v":15},{"$f":"VLOOKUP(H4,SSI_AGI_Range_VehSpeed,5,FALSE)","v":45},{"$f":"IF(B4=\"Nonmotorized\",\"\",VLOOKUP(B4,SSI_AGI_Range_CollAngles,5,FALSE))","v":90},{"$f":"IF(B4=\"Nonmotorized\",\"\",SQRT(N4^2+O4^2-2*N4*O4*COS(RADIANS(P4)))/2)","v":23.717082451262844},{"$f":"IF(B4=\"Nonmotorized\",1/(1+EXP(3.8432-0.1237*O4)),(Q4/SSI_AGI_RegAlpha)^SSI_AGI_RegK+(Q4/SSI_AGI_RegAlpha)^SSI_AGI_RegK-((Q4/SSI_AGI_RegAlpha)^SSI_AGI_RegK)*((Q4/SSI_AGI_RegAlpha)^SSI_AGI_RegK))","v":3.7884541771032863E-2},null,{"$f":"SSI_AGI_ProtFactor","v":0.505},null,2,null,null,null,{"$f":"MAX(1,IF(B4<>\"Pedestrian\",V4*SSI_AGI_MajorThruLanes+W4*SSI_AGI_MinorThruLanes+X4*IF(SSI_AGI_MajorThruLanes=1,SSI_AGI_MergeWeightL1,IF(SSI_AGI_MajorThruLanes=2,SSI_AGI_MergeWeightL1+SSI_AGI_MergeWeightL2,SSI_AGI_MergeWeightL1+SSI_AGI_MergeWeightL2+SSI_AGI_MergeWeightL3*(SSI_AGI_MajorThruLanes-2)))+Y4*IF(SSI_AGI_MinorThruLanes=1,SSI_AGI_MergeWeightL1,IF(SSI_AGI_MinorThruLanes=2,SSI_AGI_MergeWeightL1+SSI_AGI_MergeWeightL2,SSI_AGI_MergeWeightL1+SSI_AGI_MergeWeightL2+SSI_AGI_MergeWeightL3*(SSI_AGI_MinorThruLanes-2))),V4*SSI_AGI_MajorThruLanes+W4*SSI_AGI_MinorThruLanes+X4*IF(SSI_AGI_MajorThruLanes=1,SSI_AGI_NM_MergeWeightL1,IF(SSI_AGI_MajorThruLanes=2,SSI_AGI_NM_MergeWeightL1+SSI_AGI_NM_MergeWeightL2,SSI_AGI_NM_MergeWeightL1+SSI_AGI_NM_MergeWeightL2+SSI_AGI_NM_MergeWeightL3*(SSI_AGI_MajorThruLanes-2)))+Y4*IF(SSI_AGI_MinorThruLanes=1,SSI_AGI_NM_MergeWeightL1,IF(SSI_AGI_MinorThruLanes=2,SSI_AGI_NM_MergeWeightL1+SSI_AGI_NM_MergeWeightL2,SSI_AGI_NM_MergeWeightL1+SSI_AGI_NM_MergeWeightL2+SSI_AGI_NM_MergeWeightL3*(SSI_AGI_MinorThruLanes-2)))))","v":4},null,{"$f":"IF(B4=\"Diverging\",\"\",SSI_AGI_VehSpeed_MjrThru)","v":45},{"$f":"IF(B4=\"Diverging\",1,1-((60-AB4)/60*0.1/0.15))","v":0.83333333333333326},null,null,null,{"$f":"IF(SSI_AGI_ConsiderNMComplexity=\"Yes\",1+AE4+AF4,1)","v":1},null,{"$f":"PRODUCT(Z4,T4,AC4,AG4)","v":1.6833333333333331},null,{"$f":"L4*R4*AI4","v":{"$error":"#VALUE!"}},null,null,{"$f":"IF(ISNUMBER(SEARCH(AN$3,$D4)),1,\"\")","v":""},{"$f":"IF(ISNUMBER(SEARCH(AO$3,$D4)),1,\"\")","v":""},"","","","","","","",1,"","","","","","",null,{"$f":"IF(ISNUMBER(SEARCH(BE$3,$G4)),1,\"\")","v":""},{"$f":"IF(ISNUMBER(SEARCH(BF$3,$G4)),1,\"\")","v":""},"",1,"","","","","","","","","","","",""]
[2,"Crossing","NBT","MinT1","Signal far","WBT","MajT2","Major thru",null,{"$error":"#VALUE!"},{"$error":"#VALUE!"},{"$f":"PRODUCT(J5:K5)","v":{"$error":"#VALUE!"}},null,25,45,90,{"$f":"IF(B5=\"Nonmotorized\",\"\",SQRT(N5^2+O5^2-2*N5*O5*COS(RADIANS(P5)))/2)","v":25.739075352467502},5.1494149230103807E-2,null,0.505,null,2,null,null,null,4,null,45,0.83333333333333326,null,null,null,1,null,1.6833333333333331,null,{"$f":"L5*R5*AI5","v":{"$error":"#VALUE!"}},null,null,{"$f":"IF(ISNUMBER(SEARCH(AN$3,$D5)),1,\"\")","v":""},"","","","","",1,"","","","","","","","","",null,{"$f":"IF(ISNUMBER(SEARCH(BE$3,$G5)),1,\"\")","v":""},"","",1,"","","","","","","","","","","",""]
[3,"Crossing","SBT","MinT2","Signal far","EBT","MajT1","Major thru",null,{"$error":"#VALUE!"},{"$error":"#VALUE!"},{"$error":"#VALUE!"},null,25,45,90,25.739075352467502,5.1494149230103807E-2,null,0.505,null,2,null,null,null,4,null,45,0.83333333333333326,null,null,null,1,null,1.6833333333333331,null,{"$error":"#VALUE!"},null,null,"","","","","","","","","",1,"","","","","","",null,1,"","","","","","","","","","","","","","",""]
[4,"Crossing","NBT","MinT1","Signal near","EBT","MajT1","Major thru",null,{"$error":"#VALUE!"},{"$error":"#VALUE!"},{"$error":"#VALUE!"},null,15,45,90,23.717082451262844,3.7884541771032863E-2,null,0.505,null,2,null,null,null,4,null,45,0.83333333333333326,null,null,null,1,null,1.6833333333333331,null,{"$error":"#VALUE!"},null,null,"","","","","","",1,"","","","","","","","","",null,1,"","","","","","","","","","","","","","",""]
[5,"Crossing - LT","SBT","MinT2","Signal near","EBL","MajL1","Major left",null,{"$error":"#VALUE!"},{"$error":"#VALUE!"},{"$error":"#VALUE!"},null,15,20,230,15.895538413434787,8.3616736100371545E-3,null,0.505,null,2,null,null,null,4,null,45,0.83333333333333326,null,null,null,1,null,1.6833333333333331,null,{"$error":"#VALUE!"},null,null,"","","","","","","","","",1,"","","","","","",null,"",1,"","","","","","","","","","","","","",""]
[6,"Crossing - LT","SBL","MinL2","Signal near","WBT","MajT2","Major thru",null,{"$error":"#VALUE!"},{"$error":"#VALUE!"},{"$error":"#VALUE!"},null,15,45,230,27.918467333813421,6.9762185672148203E-2,null,0.505,null,1,null,1,null,3.75,null,45,0.83333333333333326,null,null,null,1,null,1.578125,null,{"$error":"#VALUE!"},null,null,"","","","","","","","","","",1,"","","","","",null,"","","",1,"","","","","","","","","","","",""]
[7,"Crossing - LT","NBT","MinT1","Signal near","WBL","MajL2","Major left",null,{"$error":"#VALUE!"},{"$error":"#VALUE!"},{"$error":"#VALUE!"},null,15,20,230,15.895538413434787,8.3616736100371545E-3,null,0.505,null,2,null,null,null,4,null,45,0.83333333333333326,null,null,null,1,null,1.6833333333333331,null,{"$error":"#VALUE!"},null,null,"","","","","","",1,"","","","","","","","","",null,"","","","",1,"","","","","","","","","","",""]
[8,"Crossing - LT","NBL","MinL1","Signal near","EBT","MajT1","Major thru",null,{"$error":"#VALUE!"},{"$error":"#VALUE!"},{"$error":"#VALUE!"},null,15,45,230,27.918467333813421,6.9762185672148203E-2,null,0.505,null,1,null,1,null,3.75,null,45,0.83333333333333326,null,null,null,1,null,1.578125,null,{"$error":"#VALUE!"},null,null,"","","","","","","",1,"","","","","","","","",null,1,"","","","","","","","","","","","","","",""]
[9,"Crossing - LT","NBT","MinT1","Minor thru","SBL","MinL2","Signal near",null,{"$error":"#VALUE!"},{"$error":"#VALUE!"},{"$error":"#VALUE!"},null,29.75,15,230,20.516764131102867,2.1946207825979773E-2,null,0.505,null,null,1,null,null,2,null,{"$f":"IF(B12=\"Diverging\",\"\",SSI_AGI_VehSpeed_MnrThru)","v":29.75},0.66388888888888886,null,null,null,1,null,0.67052777777777772,null,{"$error":"#VALUE!"},null,null,"","","","","","",1,"","","","","","","","","",null,"","","","","","","","","","",1,"","","","",""]
[10,"Crossing - LT","EBT","MajT1","Major thru","WBL","MajL2","Signal near",null,{"$error":"#VALUE!"},{"$error":"#VALUE!"},{"$error":"#VALUE!"},null,45,15,230,27.918467333813421,6.9762185672148203E-2,null,0.505,null,1,null,null,null,2,null,{"$f":"IF(B13=\"Diverging\",\"\",SSI_AGI_VehSpeed_MjrThru)","v":45},0.83333333333333326,null,null,null,1,null,0.84166666666666656,null,{"$error":"#VALUE!"},null,null,1,"","","","","","","","","","","","","","","",null,"","","","",1,"","","","","","","","","","",""]
[11,"Crossing - LT","SBT","MinT2","Minor thru","NBL","MinL1","Signal near",null,{"$error":"#VALUE!"},{"$error":"#VALUE!"},{"$error":"#VALUE!"},null,29.75,15,230,20.516764131102867,2.1946207825979773E-2,null,0.505,null,null,1,null,null,2,null,{"$f":"IF(B14=\"Diverging\",\"\",SSI_AGI_VehSpeed_MnrThru)","v":29.75},0.66388888888888886,null,null,null,1,null,0.67052777777777772,null,{"$error":"#VALUE!"},null,null,"","","","","","","","","",1,"","","","","","",null,"","","","","","","",1,"","","","","","","",""]
[12,"Crossing - LT","WBT","MajT2","Major thru","EBL","MajL1","Signal near",null,{"$error":"#VALUE!"},{"$error":"#VALUE!"},{"$error":"#VALUE!"},null,45,15,230,27.918467333813421,6.9762185672148203E-2,null,0.505,null,1,null,null,null,2,null,{"$f":"IF(B15=\"Diverging\",\"\",SSI_AGI_VehSpeed_MjrThru)","v":45},0.83333333333333326,null,null,null,1,null,0.84166666666666656,null,{"$error":"#VALUE!"},null,null,"","","",1,"","","","","","","","","","","","",null,"",1,"","","","","","","","","","","","","",""]
[13,"Merging","NBT","MinT1","Signal far","EBL","MajL1","Major left",null,{"$error":"#VALUE!"},{"$error":"#VALUE!"},{"$error":"#VALUE!"},null,25,20,45,8.9147801264732891,9.333798723087925E-4,null,0.505,null,2,null,null,null,4,null,45,0.83333333333333326,null,null,null,1,null,1.6833333333333331,null,{"$error":"#VALUE!"},null,null,"","","","","","",1,"","","","","","","","","",null,"",1,"","","","","","","","","","","","","",""]
[14,"Merging","NBT","MinT1","Minor thru","WBR","MajR2","Major right",null,{"$error":"#VALUE!"},{"$error":"#VALUE!"},{"$error":"#VALUE!"},null,29.75,15,45,10.942688172828081,2.0309556354165454E-3,null,1,null,2,null,null,null,4,null,45,0.83333333333333326,null,null,null,1,null,3.333333333333333,null,{"$error":"#VALUE!"},null,null,"","","","","","",1,"","","","","","","","","",null,"","","","","",1,"","","","","","","","","",""]
[15,"Merging","NBL","MinL1","Signal far","WBT","MajT2","Major thru",null,{"$error":"#VALUE!"},{"$error":"#VALUE!"},{"$error":"#VALUE!"},null,25,45,45,16.271214938736659,9.1348815406664795E-3,null,{"$f":"SSI_AGI_ProtFactor","v":0.505},null,1,null,1,null,3.75,null,45,0.83333333333333326,null,null,null,1,null,1.578125,null,{"$error":"#VALUE!"},null,null,"","","","","","","",1,"","","","","","","","",null,"","","",1,"","","","","","","","","","","",""]
[16,"Merging","SBR","MinR2","Minor right","WBT","MajT2","Major thru",null,{"$error":"#VALUE!"},{"$error":"#VALUE!"},{"$error":"#VALUE!"},null,15,45,45,17.995873453365363,1.3373938286506865E-2,null,1,null,null,null,1,null,1.75,null,45,0.83333333333333326,null,null,null,1,null,1.4583333333333333,null,{"$error":"#VALUE!"},null,null,"","","","","","","","","","","",1,"","","","",null,"","","",1,"","","","","","","","","","","",""]
[17,"Merging","SBT","MinT2","Signal far","WBL","MajL2","Major left",null,{"$error":"#VALUE!"},{"$error":"#VALUE!"},{"$error":"#VALUE!"},null,25,20,45,8.9147801264732891,9.333798723087925E-4,null,{"$f":"SSI_AGI_ProtFactor","v":0.505},null,2,null,null,null,4,null,45,0.83333333333333326,null,null,null,1,null,1.6833333333333331,null,{"$error":"#VALUE!"},null,null,"","","","","","","","","",1,"","","","","","",null,"","","","",1,"","","","","","","","","","",""]
[18,"Merging","SBT","MinT2","Minor thru","EBR","MajR1","Major right",null,{"$error":"#VALUE!"},{"$error":"#VALUE!"},{"$error":"#VALUE!"},null,29.75,15,45,10.942688172828081,2.0309556354165454E-3,null,1,null,2,null,null,null,4,null,45,0.83333333333333326,null,null,null,1,null,3.333333333333333,null,{"$error":"#VALUE!"},null,null,"","","","","","","","","",1,"","","","","","",null,"","",1,"","","","","","","","","","","","",""]
[19,"Merging","SBL","MinL2","Signal far","EBT","MajT1","Major thru",null,{"$error":"#VALUE!"},{"$error":"#VALUE!"},{"$error":"#VALUE!"},null,25,45,45,16.271214938736659,9.1348815406664795E-3,null,{"$f":"SSI_AGI_ProtFactor","v":0.505},null,1,null,1,null,3.75,null,45,0.83333333333333326,null,null,null,1,null,1.578125,null,{"$error":"#VALUE!"},null,null,{"$f":"IF(ISNUMBER(SEARCH(AN$3,$D22)),1,\"\")","v":""},"","","","","","","","","",1,"","","","","",null,1,"","","","","","","","","","","","","","",""]
[20,"Merging","NBR","MinR1","Minor right","EBT","MajT1","Major thru",null,{"$error":"#VALUE!"},{"$error":"#VALUE!"},{"$error":"#VALUE!"},null,15,45,45,17.995873453365363,1.3373938286506865E-2,null,1,null,null,null,1,null,1.75,null,45,0.83333333333333326,null,null,null,1,null,1.4583333333333333,null,{"$error":"#VALUE!"},null,null,"","","","","","","","",1,"","","","","","","",null,1,"","","","","","","","","","","","","","",""]
[21,"Diverging","SBT","MinT2","Signal near","SBR","MinR2","Minor right",null,{"$error":"#VALUE!"},{"$error":"#VALUE!"},{"$error":"#VALUE!"},null,15,15,10,1.3073361412148754,6.4061388075216071E-7,null,1,null,null,null,null,null,1,null,"",1,null,null,null,1,null,1,null,{"$error":"#VALUE!"},null,null,"","","","","","","","","",1,"","","","","","",null,"","","","","","","","","","","",1,"","","",""]
[22,"Diverging","SBT","MinT2","Signal near","SBL","MinL2","Signal near",null,{"$error":"#VALUE!"},{"$error":"#VALUE!"},{"$error":"#VALUE!"},null,15,15,10,1.3073361412148754,6.4061388075216071E-7,null,1,null,null,null,null,null,1,null,"",1,null,null,null,1,null,1,null,{"$error":"#VALUE!"},null,null,"","","","","","","","","",1,"","","","","","",null,"","","","","","","","","","",1,"","","","",""]
[23,"Diverging","EBT","MajT1","Major thru","EBR","MajR1","Major right",null,{"$error":"#VALUE!"},{"$error":"#VALUE!"},{"$error":"#VALUE!"},null,45,15,10,15.169950011729762,7.0056226631585675E-3,null,1,null,null,null,null,null,1,null,"",1,null,null,null,1,null,1,null,{"$error":"#VALUE!"},null,null,1,"","","","","","","","","","","","","","","",null,"","",1,"","","","","","","","","","","","",""]
[24,"Diverging","EBT","MajT1","Major thru","EBL","MajL1","Major left",null,{"$error":"#VALUE!"},{"$error":"#VALUE!"},{"$error":"#VALUE!"},null,45,20,10,12.77053292327718,3.6481988362114144E-3,null,1,null,null,null,null,null,1,null,"",1,null,null,null,1,null,1,null,{"$error":"#VALUE!"},null,null,1,"","","","","","","","","","","","","","","",null,"",1,"","","","","","","","","","","","","",""]
[25,"Diverging","NBT","MinT1","Signal near","NBL","MinL1","Signal near",null,{"$error":"#VALUE!"},{"$error":"#VALUE!"},{"$error":"#VALUE!"},null,15,15,10,1.3073361412148754,6.4061388075216071E-7,null,1,null,null,null,null,null,1,null,"",1,null,null,null,1,null,1,null,{"$error":"#VALUE!"},null,null,"","","","","","",1,"","","","","","","","","",null,"","","","","","","",1,"","","","","","","",""]
[26,"Diverging","NBT","MinT1","Signal near","NBR","MinR1","Minor right",null,{"$error":"#VALUE!"},{"$error":"#VALUE!"},{"$error":"#VALUE!"},null,15,15,10,1.3073361412148754,6.4061388075216071E-7,null,1,null,null,null,null,null,1,null,"",1,null,null,null,1,null,1,null,{"$error":"#VALUE!"},null,null,"","","","","","",1,"","","","","","","","","",null,"","","","","","","","",1,"","","","","","",""]
[27,"Diverging","WBT","MajT2","Major thru","WBR","MajR2","Major right",null,{"$error":"#VALUE!"},{"$error":"#VALUE!"},{"$error":"#VALUE!"},null,45,15,10,15.169950011729762,7.0056226631585675E-3,null,1,null,null,null,null,null,1,null,"",1,null,null,null,1,null,1,null,{"$error":"#VALUE!"},null,null,"","","",1,"","","","","","","","","","","","",null,"","","","","",1,"","","","","","","","","",""]
[28,"Diverging","WBT","MajT2","Major thru","WBL","MajL2","Major left",null,{"$error":"#VALUE!"},{"$error":"#VALUE!"},{"$error":"#VALUE!"},null,45,20,10,12.77053292327718,3.6481988362114144E-3,null,1,null,null,null,null,null,1,null,"",1,null,null,null,1,null,1,null,{"$error":"#VALUE!"},null,null,"","","",1,"","","","","","","","","","","","",null,"","","","",1,"","","","","","","","","","",""]
[29,"Nonmotorized",null,"MajNM1, MinNM2","Nonmotorized","SBR","MinR2","Minor right",null,{"$error":"#VALUE!"},{"$error":"#VALUE!"},{"$error":"#VALUE!"},null,0,15,"","",0.1205004039155782,null,1,null,null,1,null,null,2,null,{"$f":"IF(B32=\"Diverging\",\"\",SSI_AGI_VehSpeed_MnrThru)","v":29.75},0.66388888888888886,null,1,1,3,null,3.9833333333333334,null,{"$error":"#VALUE!"},null,null,"","","","","","","","","","","","",1,"","",1,null,"","","","","","","","","","","",1,"","","",""]
[30,"Nonmotorized",null,"MajNM1","Nonmotorized","EBL","MajL1","Major left",null,{"$error":"#VALUE!"},{"$error":"#VALUE!"},{"$error":"#VALUE!"},null,0,20,"","",0.20274912921655375,null,{"$f":"SSI_AGI_ProtFactor","v":0.505},null,1,null,null,null,2,null,{"$f":"IF(B33=\"Diverging\",\"\",SSI_AGI_VehSpeed_MjrThru)","v":45},0.83333333333333326,null,1,1,3,null,2.5249999999999995,null,{"$error":"#VALUE!"},null,null,"","","","","","","","","","","","",1,"","","",null,"",1,"","","","","","","","","","","","","",""]
[31,"Nonmotorized",null,"MajNM1","Nonmotorized","WBT","MajT2","Major thru",null,{"$error":"#VALUE!"},{"$error":"#VALUE!"},{"$error":"#VALUE!"},null,0,45,"","",0.84855340903216459,null,{"$f":"SSI_AGI_ProtFactor","v":0.505},null,2,null,null,1,5.75,null,{"$f":"IF(B34=\"Diverging\",\"\",SSI_AGI_VehSpeed_MjrThru)","v":45},0.83333333333333326,null,1,1,3,null,7.2593749999999986,null,{"$error":"#VALUE!"},null,null,"","","","","","","","","","","","",1,"","","",null,"","","",1,"","","","","","","","","","","",""]
[32,"Nonmotorized",null,"MajNM1","Nonmotorized","NBL","MinL1","Signal far",null,{"$error":"#VALUE!"},{"$error":"#VALUE!"},{"$error":"#VALUE!"},null,0,25,"","",0.32066879346345062,null,{"$f":"SSI_AGI_ProtFactor","v":0.505},null,2,null,null,1,5.75,null,{"$f":"IF(B35=\"Diverging\",\"\",SSI_AGI_VehSpeed_MjrThru)","v":45},0.83333333333333326,null,1,1,3,null,7.2593749999999986,null,{"$error":"#VALUE!"},null,null,"","","","","","","","","","","","",1,"","","",null,{"$f":"IF(ISNUMBER(SEARCH(BE$3,$G35)),1,\"\")","v":""},"","","","","","",1,"","","","","","","",""]
[33,"Nonmotorized",null,"MajNM1","Nonmotorized","EBT","MajT1","Major thru",null,{"$error":"#VALUE!"},{"$error":"#VALUE!"},{"$error":"#VALUE!"},null,0,45,"",{"$f":"IF(B36=\"Nonmotorized\",\"\",SQRT(N36^2+O36^2-2*N36*O36*COS(RADIANS(P36)))/2)","v":""},0.84855340903216459,null,{"$f":"SSI_AGI_ProtFactor","v":0.505},null,2,null,null,1,5.75,null,{"$f":"IF(B36=\"Diverging\",\"\",SSI_AGI_VehSpeed_MjrThru)","v":45},0.83333333333333326,null,1,1,3,null,7.2593749999999986,null,{"$error":"#VALUE!"},null,null,"","","","","","","","","","","","",1,"","","",null,1,"","","","","","","","","","","","","","",""]
[34,"Nonmotorized",null,"MinNM1, MajNM1","Nonmotorized","EBR","MajR1","Major right",null,{"$error":"#VALUE!"},{"$error":"#VALUE!"},{"$f":"PRODUCT(J37:K37)","v":{"$error":"#VALUE!"}},null,0,15,"","",0.1205004039155782,null,1,null,1,null,null,null,2,null,{"$f":"IF(B37=\"Diverging\",\"\",SSI_AGI_VehSpeed_MjrThru)","v":45},0.83333333333333326,null,1,1,3,null,5,null,{"$error":"#VALUE!"},null,null,"","","","","","","","","","","","",1,"",1,{"$f":"IF(ISNUMBER(SEARCH(BC$3,$D37)),1,\"\")","v":""},null,"","",1,"","","","","","","","","","","","",""]
[35,"Nonmotorized",null,"MinNM1","Nonmotorized","NBL","MinL1","Signal near",null,{"$error":"#VALUE!"},{"$error":"#VALUE!"},{"$error":"#VALUE!"},null,0,15,"","",0.1205004039155782,null,{"$f":"SSI_AGI_ProtFactor","v":0.505},null,null,1,null,null,2,null,{"$f":"IF(B38=\"Diverging\",\"\",SSI_AGI_VehSpeed_MnrThru)","v":29.75},0.66388888888888886,null,1,1,3,null,2.0115833333333333,null,{"$error":"#VALUE!"},null,null,{"$f":"IF(ISNUMBER(SEARCH(AN$3,$D38)),1,\"\")","v":""},"","","","","","","","","","","","","",1,"",null,"","","","","","","",1,"","","","","","","",""]
[36,"Nonmotorized",null,"MinNM1","Nonmotorized","SBT","MinT2","Signal far",null,{"$error":"#VALUE!"},{"$error":"#VALUE!"},{"$error":"#VALUE!"},null,0,25,"","",0.32066879346345062,null,{"$f":"SSI_AGI_ProtFactor","v":0.505},null,null,2,1,null,5.75,null,{"$f":"IF(B39=\"Diverging\",\"\",SSI_AGI_VehSpeed_MjrThru)","v":45},0.83333333333333326,null,1,1,3,null,7.2593749999999986,null,{"$error":"#VALUE!"},null,null,"","","","","","","","","","","","","","",1,"",null,"","","","","","","","","",1,"","","","","",""]
[37,"Nonmotorized",null,"MinNM1","Nonmotorized","WBL","MajL2","Major left",null,{"$error":"#VALUE!"},{"$error":"#VALUE!"},{"$error":"#VALUE!"},null,0,20,"","",0.20274912921655375,null,{"$f":"SSI_AGI_ProtFactor","v":0.505},null,null,2,1,null,5.75,null,{"$f":"IF(B40=\"Diverging\",\"\",SSI_AGI_VehSpeed_MjrThru)","v":45},0.83333333333333326,null,1,1,3,null,7.2593749999999986,null,{"$error":"#VALUE!"},null,null,"","","","","","","","","","","","","","",1,"",null,"","","","",1,"","","","","","","","","","",""]
[38,"Nonmotorized",null,"MinNM1","Nonmotorized","NBT","MinT1","Signal near",null,{"$error":"#VALUE!"},{"$error":"#VALUE!"},{"$error":"#VALUE!"},null,0,15,"","",0.1205004039155782,null,{"$f":"SSI_AGI_ProtFactor","v":0.505},null,null,2,1,null,5.75,null,{"$f":"IF(B41=\"Diverging\",\"\",SSI_AGI_VehSpeed_MjrThru)","v":45},0.83333333333333326,null,1,1,3,null,7.2593749999999986,null,{"$error":"#VALUE!"},null,null,"","","","","","","","","","","","","","",1,"",null,"","","","","","",1,"","","","","","","","",""]
[39,"Nonmotorized",null,"MajNM2, MinNM1","Nonmotorized","NBR","MinR1","Minor right",null,{"$error":"#VALUE!"},{"$error":"#VALUE!"},{"$error":"#VALUE!"},null,0,15,"","",0.1205004039155782,null,1,null,null,1,null,null,2,null,{"$f":"IF(B42=\"Diverging\",\"\",SSI_AGI_VehSpeed_MnrThru)","v":29.75},0.66388888888888886,null,1,1,3,null,3.9833333333333334,null,{"$error":"#VALUE!"},null,null,"","","","","","","","","","","","","",1,1,"",null,"","","","","","","","",1,"","","","","","",""]
[40,"Nonmotorized",null,"MajNM2","Nonmotorized","WBL","MajL2","Major left",null,{"$error":"#VALUE!"},{"$error":"#VALUE!"},{"$error":"#VALUE!"},null,0,20,"","",0.20274912921655375,null,{"$f":"SSI_AGI_ProtFactor","v":0.505},null,1,null,null,null,2,null,{"$f":"IF(B43=\"Diverging\",\"\",SSI_AGI_VehSpeed_MjrThru)","v":45},0.83333333333333326,null,1,1,3,null,2.5249999999999995,null,{"$error":"#VALUE!"},null,null,"","","","","","","","","","","","","",1,"","",null,"","","","",1,"","","","","","","","","","",""]
[41,"Nonmotorized",null,"MajNM2","Nonmotorized","EBT","MajT1","Major thru",null,{"$error":"#VALUE!"},{"$error":"#VALUE!"},{"$error":"#VALUE!"},null,0,45,"","",0.84855340903216459,null,{"$f":"SSI_AGI_ProtFactor","v":0.505},null,2,null,null,1,5.75,null,{"$f":"IF(B44=\"Diverging\",\"\",SSI_AGI_VehSpeed_MjrThru)","v":45},0.83333333333333326,null,1,1,3,null,7.2593749999999986,null,{"$error":"#VALUE!"},null,null,"","","","","","","","","","","","","",1,"","",null,1,"","","","","","","","","","","","","","",""]
[42,"Nonmotorized",null,"MajNM2","Nonmotorized","SBL","MinL2","Signal far",null,{"$error":"#VALUE!"},{"$error":"#VALUE!"},{"$error":"#VALUE!"},null,0,25,"","",0.32066879346345062,null,{"$f":"SSI_AGI_ProtFactor","v":0.505},null,2,null,null,1,5.75,null,{"$f":"IF(B45=\"Diverging\",\"\",SSI_AGI_VehSpeed_MjrThru)","v":45},0.83333333333333326,null,1,1,3,null,7.2593749999999986,null,{"$error":"#VALUE!"},null,null,"","","","","","","","","","","","","",1,"","",null,"","","","","","","","","","",1,"","","","",""]
[43,"Nonmotorized",null,"MajNM2","Nonmotorized","WBT","MajT2","Major thru",null,{"$error":"#VALUE!"},{"$error":"#VALUE!"},{"$error":"#VALUE!"},null,0,45,"","",0.84855340903216459,null,{"$f":"SSI_AGI_ProtFactor","v":0.505},null,2,null,null,1,5.75,null,{"$f":"IF(B46=\"Diverging\",\"\",SSI_AGI_VehSpeed_MjrThru)","v":45},0.83333333333333326,null,1,1,3,null,7.2593749999999986,null,{"$error":"#VALUE!"},null,null,"","","","","","","","","","","","","",1,"","",null,"","","",1,"","","","","","","","","","","",""]
[44,"Nonmotorized",null,"MinNM2, MajNM2","Nonmotorized","WBR","MajR2","Major right",null,{"$error":"#VALUE!"},{"$error":"#VALUE!"},{"$error":"#VALUE!"},null,0,15,"","",0.1205004039155782,null,1,null,1,null,null,null,2,null,{"$f":"IF(B47=\"Diverging\",\"\",SSI_AGI_VehSpeed_MjrThru)","v":45},0.83333333333333326,null,1,1,3,null,5,null,{"$error":"#VALUE!"},null,null,"","","","","","","","","","","","","",1,"",1,null,"","","","","",1,"","","","","","","","","",""]
[45,"Nonmotorized",null,"MinNM2","Nonmotorized","SBL","MinL2","Signal near",null,{"$error":"#VALUE!"},{"$error":"#VALUE!"},{"$error":"#VALUE!"},null,0,15,"","",0.1205004039155782,null,{"$f":"SSI_AGI_ProtFactor","v":0.505},null,null,1,null,null,2,null,{"$f":"IF(B48=\"Diverging\",\"\",SSI_AGI_VehSpeed_MnrThru)","v":29.75},0.66388888888888886,null,1,1,3,null,2.0115833333333333,null,{"$error":"#VALUE!"},null,null,"","","","","","","","","","","","","","","",1,null,"","","","","","","","","","",1,"","","","",""]
[46,"Nonmotorized",null,"MinNM2","Nonmotorized","NBT","MinT1","Signal far",null,{"$error":"#VALUE!"},{"$error":"#VALUE!"},{"$error":"#VALUE!"},null,0,25,"","",0.32066879346345062,null,{"$f":"SSI_AGI_ProtFactor","v":0.505},null,null,2,1,null,5.75,null,{"$f":"IF(B49=\"Diverging\",\"\",SSI_AGI_VehSpeed_MjrThru)","v":45},0.83333333333333326,null,1,1,3,null,7.2593749999999986,null,{"$error":"#VALUE!"},null,null,"","","","","","","","","","","","","","","",1,null,"","","","","","",1,"","","","","","","","",""]
[47,"Nonmotorized",null,"MinNM2","Nonmotorized","EBL","MajL1","Major left",null,{"$error":"#VALUE!"},{"$error":"#VALUE!"},{"$error":"#VALUE!"},null,0,20,"","",0.20274912921655375,null,{"$f":"SSI_AGI_ProtFactor","v":0.505},null,null,2,1,null,5.75,null,{"$f":"IF(B50=\"Diverging\",\"\",SSI_AGI_VehSpeed_MjrThru)","v":45},0.83333333333333326,null,1,1,3,null,7.2593749999999986,null,{"$error":"#VALUE!"},null,null,"","","","","","","","","","","","","","","",1,null,"",1,"","","","","","","","","","","","","",{"$f":"IF(ISNUMBER(SEARCH(BT$3,$G50)),1,\"\")","v":""}]
[48,"Nonmotorized",null,"MinNM2","Nonmotorized","SBT","MinT2","Signal near",null,{"$error":"#VALUE!"},{"$error":"#VALUE!"},{"$error":"#VALUE!"},null,0,15,"","",0.1205004039155782,null,{"$f":"SSI_AGI_ProtFactor","v":0.505},null,null,2,1,null,5.75,null,{"$f":"IF(B51=\"Diverging\",\"\",SSI_AGI_VehSpeed_MjrThru)","v":45},0.83333333333333326,null,1,1,3,null,7.2593749999999986,null,{"$error":"#VALUE!"},null,null,"","","","","","","","","","","","","","","",1,null,{"$f":"IF(ISNUMBER(SEARCH(BE$3,$G51)),1,\"\")","v":""},"","","","","","","","",1,"","","","","",""]
[null,null,null,null,null,null,null,null,null,null,null,null,null,null,null,null,null,null,null,null,null,null,null,null,null,null,null,null,null,null,null,null,null,null,null,null,null,null,"O",{"$f":"'SSI Inputs'!$D$26","v":{"$error":"#VALUE!"}},{"$f":"'SSI Inputs'!$D$27","v":{"$error":"#VALUE!"}},{"$f":"'SSI Inputs'!$D$28","v":{"$error":"#VALUE!"}},{"$f":"'SSI Inputs'!$D$30","v":{"$error":"#VALUE!"}},{"$f":"'SSI Inputs'!$D$31","v":{"$error":"#VALUE!"}},{"$f":"'SSI Inputs'!$D$32","v":{"$error":"#VALUE!"}},{"$f":"'SSI Inputs'!$D$34","v":{"$error":"#VALUE!"}},{"$f":"'SSI Inputs'!$D$35","v":{"$error":"#VALUE!"}},{"$f":"'SSI Inputs'!$D$36","v":{"$error":"#VALUE!"}},{"$f":"'SSI Inputs'!$D$38","v":{"$error":"#VALUE!"}},{"$f":"'SSI Inputs'!$D$39","v":{"$error":"#VALUE!"}},{"$f":"'SSI Inputs'!$D$40","v":{"$error":"#VALUE!"}},{"$f":"'SSI Inputs'!$Q$18","v":175},{"$f":"'SSI Inputs'!$Q$19","v":175},{"$f":"'SSI Inputs'!$Q$20","v":175},{"$f":"'SSI Inputs'!$Q$21","v":175},"O",{"$f":"'SSI Inputs'!$D$26","v":{"$error":"#VALUE!"}},{"$f":"'SSI Inputs'!$D$27","v":{"$error":"#VALUE!"}},{"$f":"'SSI Inputs'!$D$28","v":{"$error":"#VALUE!"}},{"$f":"'SSI Inputs'!$D$30","v":{"$error":"#VALUE!"}},{"$f":"'SSI Inputs'!$D$31","v":{"$error":"#VALUE!"}},{"$f":"'SSI Inputs'!$D$32","v":{"$error":"#VALUE!"}},{"$f":"'SSI Inputs'!$D$34","v":{"$error":"#VALUE!"}},{"$f":"'SSI Inputs'!$D$35","v":{"$error":"#VALUE!"}},{"$f":"'SSI Inputs'!$D$36","v":{"$error":"#VALUE!"}},{"$f":"'SSI Inputs'!$D$38","v":{"$error":"#VALUE!"}},{"$f":"'SSI Inputs'!$D$39","v":{"$error":"#VALUE!"}},{"$f":"'SSI Inputs'!$D$40","v":{"$error":"#VALUE!"}},{"$f":"'SSI Inputs'!$Q$18","v":175},{"$f":"'SSI Inputs'!$Q$19","v":175},{"$f":"'SSI Inputs'!$Q$20","v":175},{"$f":"'SSI Inputs'!$Q$21","v":175}]
[null,null,null,null,null,null,null,null,null,null,null,null,null,null,null,null,null,null,null,null,null,null,null,null,null,null,null,null,null,null,null,null,null,null,null,null,null,null,"D",{"$f":"'SSI Inputs'!$E$26","v":{"$error":"#VALUE!"}},{"$f":"'SSI Inputs'!$E$27","v":{"$error":"#VALUE!"}},{"$f":"'SSI Inputs'!$E$28","v":{"$error":"#VALUE!"}},{"$f":"'SSI Inputs'!$E$30","v":{"$error":"#VALUE!"}},{"$f":"'SSI Inputs'!$E$31","v":{"$error":"#VALUE!"}},{"$f":"'SSI Inputs'!$E$32","v":{"$error":"#VALUE!"}},{"$f":"'SSI Inputs'!$E$34","v":{"$error":"#VALUE!"}},{"$f":"'SSI Inputs'!$E$35","v":{"$error":"#VALUE!"}},{"$f":"'SSI Inputs'!$E$36","v":{"$error":"#VALUE!"}},{"$f":"'SSI Inputs'!$E$38","v":{"$error":"#VALUE!"}},{"$f":"'SSI Inputs'!$E$39","v":{"$error":"#VALUE!"}},{"$f":"'SSI Inputs'!$E$40","v":{"$error":"#VALUE!"}},{"$f":"'SSI Inputs'!$R$18","v":175},{"$f":"'SSI Inputs'!$R$19","v":175},{"$f":"'SSI Inputs'!$R$20","v":175},{"$f":"'SSI Inputs'!$R$21","v":175},"D",{"$f":"'SSI Inputs'!$E$26","v":{"$error":"#VALUE!"}},{"$f":"'SSI Inputs'!$E$27","v":{"$error":"#VALUE!"}},{"$f":"'SSI Inputs'!$E$28","v":{"$error":"#VALUE!"}},{"$f":"'SSI Inputs'!$E$30","v":{"$error":"#VALUE!"}},{"$f":"'SSI Inputs'!$E$31","v":{"$error":"#VALUE!"}},{"$f":"'SSI Inputs'!$E$32","v":{"$error":"#VALUE!"}},{"$f":"'SSI Inputs'!$E$34","v":{"$error":"#VALUE!"}},{"$f":"'SSI Inputs'!$E$35","v":{"$error":"#VALUE!"}},{"$f":"'SSI Inputs'!$E$36","v":{"$error":"#VALUE!"}},{"$f":"'SSI Inputs'!$E$38","v":{"$error":"#VALUE!"}},{"$f":"'SSI Inputs'!$E$39","v":{"$error":"#VALUE!"}},{"$f":"'SSI Inputs'!$E$40","v":{"$error":"#VALUE!"}},{"$f":"'SSI Inputs'!$R$18","v":175},{"$f":"'SSI Inputs'!$R$19","v":175},{"$f":"'SSI Inputs'!$R$20","v":175},{"$f":"'SSI Inputs'!$R$21","v":175}]
[]
[]
[]
[]
[]
[]
[]
[]
[]
[]
[]
[]
[]
[]
[]
[]
[]
[]
[]
[]
[]
[]
[]
[]
[]
[]
[]
[]
[]
[]
[]
[]
[]
[]
[]
[]
[]
[]
[]
[]
[]
[]
[]
[]
[]
[]
[]
[null,null,null,null,null,null,null,null,null,"Exposure",null,null,null,null,null,null,null,null,null,null,null,null,null,null,null,null,null,null,null,null,null,null,null,null,null,null,"Exposure-Severity-Complexity Product"]
[null,null,null,null,null,null,null,null,null,"Q1","Q2","I"]
[null,null,null,null,null,null,null,null,null,{"$f":"SUMPRODUCT($AN4:$BC4,$AN$53:$BC$53)","v":{"$error":"#VALUE!"}},{"$f":"SUMPRODUCT($BE4:$BT4,$BE$53:$BT$53)","v":{"$error":"#VALUE!"}},{"$f":"PRODUCT(J103:K103)","v":{"$error":"#VALUE!"}},null,null,null,null,null,null,null,null,null,null,null,null,null,null,null,null,null,null,null,null,null,null,null,null,{"$f":"L103*R4*AI4","v":{"$error":"#VALUE!"}}]
[null,null,null,null,null,null,null,null,null,{"$f":"SUMPRODUCT($AN5:$BC5,$AN$53:$BC$53)","v":{"$error":"#VALUE!"}},{"$f":"SUMPRODUCT($BE5:$BT5,$BE$53:$BT$53)","v":{"$error":"#VALUE!"}},{"$f":"PRODUCT(J104:K104)","v":{"$error":"#VALUE!"}},null,null,null,null,null,null,null,null,null,null,null,null,null,null,null,null,null,null,null,null,null,null,null,null,{"$f":"L104*R5*AI5","v":{"$error":"#VALUE!"}}]
[null,null,null,null,null,null,null,null,null,{"$error":"#VALUE!"},{"$error":"#VALUE!"},{"$error":"#VALUE!"},null,null,null,null,null,null,null,null,null,null,null,null,null,null,null,null,null,null,null,null,null,null,null,null,{"$error":"#VALUE!"}]
[null,null,null,null,null,null,null,null,null,{"$error":"#VALUE!"},{"$error":"#VALUE!"},{"$error":"#VALUE!"},null,null,null,null,null,null,null,null,null,null,null,null,null,null,null,null,null,null,null,null,null,null,null,null,{"$error":"#VALUE!"}]
[null,null,null,null,null,null,null,null,null,{"$error":"#VALUE!"},{"$error":"#VALUE!"},{"$error":"#VALUE!"},null,null,null,null,null,null,null,null,null,null,null,null,null,null,null,null,null,null,null,null,null,null,null,null,{"$error":"#VALUE!"}]
[null,null,null,null,null,null,null,null,null,{"$error":"#VALUE!"},{"$error":"#VALUE!"},{"$error":"#VALUE!"},null,null,null,null,null,null,null,null,null,null,null,null,null,null,null,null,null,null,null,null,null,null,null,null,{"$error":"#VALUE!"}]
[null,null,null,null,null,null,null,null,null,{"$error":"#VALUE!"},{"$error":"#VALUE!"},{"$error":"#VALUE!"},null,null,null,null,null,null,null,null,null,null,null,null,null,null,null,null,null,null,null,null,null,null,null,null,{"$error":"#VALUE!"}]
[null,null,null,null,null,null,null,null,null,{"$error":"#VALUE!"},{"$error":"#VALUE!"},{"$error":"#VALUE!"},null,null,null,null,null,null,null,null,null,null,null,null,null,null,null,null,null,null,null,null,null,null,null,null,{"$error":"#VALUE!"}]
[null,null,null,null,null,null,null,null,null,{"$error":"#VALUE!"},{"$error":"#VALUE!"},{"$error":"#VALUE!"},null,null,null,null,null,null,null,null,null,null,null,null,null,null,null,null,null,null,null,null,null,null,null,null,{"$error":"#VALUE!"}]
[null,null,null,null,null,null,null,null,null,{"$error":"#VALUE!"},{"$error":"#VALUE!"},{"$error":"#VALUE!"},null,null,null,null,null,null,null,null,null,null,null,null,null,null,null,null,null,null,null,null,null,null,null,null,{"$error":"#VALUE!"}]
[null,null,null,null,null,null,null,null,null,{"$error":"#VALUE!"},{"$error":"#VALUE!"},{"$error":"#VALUE!"},null,null,null,null,null,null,null,null,null,null,null,null,null,null,null,null,null,null,null,null,null,null,null,null,{"$error":"#VALUE!"}]
[null,null,null,null,null,null,null,null,null,{"$error":"#VALUE!"},{"$error":"#VALUE!"},{"$error":"#VALUE!"},null,null,null,null,null,null,null,null,null,null,null,null,null,null,null,null,null,null,null,null,null,null,null,null,{"$error":"#VALUE!"}]
[null,null,null,null,null,null,null,null,null,{"$error":"#VALUE!"},{"$error":"#VALUE!"},{"$error":"#VALUE!"},null,null,null,null,null,null,null,null,null,null,null,null,null,null,null,null,null,null,null,null,null,null,null,null,{"$error":"#VALUE!"}]
[null,null,null,null,null,null,null,null,null,{"$error":"#VALUE!"},{"$error":"#VALUE!"},{"$error":"#VALUE!"},null,null,null,null,null,null,null,null,null,null,null,null,null,null,null,null,null,null,null,null,null,null,null,null,{"$error":"#VALUE!"}]
[null,null,null,null,null,null,null,null,null,{"$error":"#VALUE!"},{"$error":"#VALUE!"},{"$error":"#VALUE!"},null,null,null,null,null,null,null,null,null,null,null,null,null,null,null,null,null,null,null,null,null,null,null,null,{"$error":"#VALUE!"}]
[null,null,null,null,null,null,null,null,null,{"$error":"#VALUE!"},{"$error":"#VALUE!"},{"$error":"#VALUE!"},null,null,null,null,null,null,null,null,null,null,null,null,null,null,null,null,null,null,null,null,null,null,null,null,{"$error":"#VALUE!"}]
[null,null,null,null,null,null,null,null,null,{"$error":"#VALUE!"},{"$error":"#VALUE!"},{"$error":"#VALUE!"},null,null,null,null,null,null,null,null,null,null,null,null,null,null,null,null,null,null,null,null,null,null,null,null,{"$error":"#VALUE!"}]
[null,null,null,null,null,null,null,null,null,{"$error":"#VALUE!"},{"$error":"#VALUE!"},{"$error":"#VALUE!"},null,null,null,null,null,null,null,null,null,null,null,null,null,null,null,null,null,null,null,null,null,null,null,null,{"$error":"#VALUE!"}]
[null,null,null,null,null,null,null,null,null,{"$error":"#VALUE!"},{"$error":"#VALUE!"},{"$error":"#VALUE!"},null,null,null,null,null,null,null,null,null,null,null,null,null,null,null,null,null,null,null,null,null,null,null,null,{"$error":"#VALUE!"}]
[null,null,null,null,null,null,null,null,null,{"$error":"#VALUE!"},{"$error":"#VALUE!"},{"$error":"#VALUE!"},null,null,null,null,null,null,null,null,null,null,null,null,null,null,null,null,null,null,null,null,null,null,null,null,{"$error":"#VALUE!"}]
[null,null,null,null,null,null,null,null,null,{"$error":"#VALUE!"},{"$error":"#VALUE!"},{"$error":"#VALUE!"},null,null,null,null,null,null,null,null,null,null,null,null,null,null,null,null,null,null,null,null,null,null,null,null,{"$error":"#VALUE!"}]
[null,null,null,null,null,null,null,null,null,{"$error":"#VALUE!"},{"$error":"#VALUE!"},{"$error":"#VALUE!"},null,null,null,null,null,null,null,null,null,null,null,null,null,null,null,null,null,null,null,null,null,null,null,null,{"$error":"#VALUE!"}]
[null,null,null,null,null,null,null,null,null,{"$error":"#VALUE!"},{"$error":"#VALUE!"},{"$error":"#VALUE!"},null,null,null,null,null,null,null,null,null,null,null,null,null,null,null,null,null,null,null,null,null,null,null,null,{"$error":"#VALUE!"}]
[null,null,null,null,null,null,null,null,null,{"$error":"#VALUE!"},{"$error":"#VALUE!"},{"$error":"#VALUE!"},null,null,null,null,null,null,null,null,null,null,null,null,null,null,null,null,null,null,null,null,null,null,null,null,{"$error":"#VALUE!"}]
[null,null,null,null,null,null,null,null,null,{"$error":"#VALUE!"},{"$error":"#VALUE!"},{"$error":"#VALUE!"},null,null,null,null,null,null,null,null,null,null,null,null,null,null,null,null,null,null,null,null,null,null,null,null,{"$error":"#VALUE!"}]
[null,null,null,null,null,null,null,null,null,{"$error":"#VALUE!"},{"$error":"#VALUE!"},{"$error":"#VALUE!"},null,null,null,null,null,null,null,null,null,null,null,null,null,null,null,null,null,null,null,null,null,null,null,null,{"$error":"#VALUE!"}]
[null,null,null,null,null,null,null,null,null,{"$error":"#VALUE!"},{"$error":"#VALUE!"},{"$error":"#VALUE!"},null,null,null,null,null,null,null,null,null,null,null,null,null,null,null,null,null,null,null,null,null,null,null,null,{"$error":"#VALUE!"}]
[null,null,null,null,null,null,null,null,null,{"$error":"#VALUE!"},{"$error":"#VALUE!"},{"$error":"#VALUE!"},null,null,null,null,null,null,null,null,null,null,null,null,null,null,null,null,null,null,null,null,null,null,null,null,{"$error":"#VALUE!"}]
[null,null,null,null,null,null,null,null,null,{"$error":"#VALUE!"},{"$error":"#VALUE!"},{"$error":"#VALUE!"},null,null,null,null,null,null,null,null,null,null,null,null,null,null,null,null,null,null,null,null,null,null,null,null,{"$error":"#VALUE!"}]
[null,null,null,null,null,null,null,null,null,{"$error":"#VALUE!"},{"$error":"#VALUE!"},{"$error":"#VALUE!"},null,null,null,null,null,null,null,null,null,null,null,null,null,null,null,null,null,null,null,null,null,null,null,null,{"$error":"#VALUE!"}]
[null,null,null,null,null,null,null,null,null,{"$error":"#VALUE!"},{"$error":"#VALUE!"},{"$error":"#VALUE!"},null,null,null,null,null,null,null,null,null,null,null,null,null,null,null,null,null,null,null,null,null,null,null,null,{"$error":"#VALUE!"}]
[null,null,null,null,null,null,null,null,null,{"$error":"#VALUE!"},{"$error":"#VALUE!"},{"$error":"#VALUE!"},null,null,null,null,null,null,null,null,null,null,null,null,null,null,null,null,null,null,null,null,null,null,null,null,{"$error":"#VALUE!"}]
[null,null,null,null,null,null,null,null,null,{"$error":"#VALUE!"},{"$error":"#VALUE!"},{"$error":"#VALUE!"},null,null,null,null,null,null,null,null,null,null,null,null,null,null,null,null,null,null,null,null,null,null,null,null,{"$error":"#VALUE!"}]
[null,null,null,null,null,null,null,null,null,{"$error":"#VALUE!"},{"$error":"#VALUE!"},{"$error":"#VALUE!"},null,null,null,null,null,null,null,null,null,null,null,null,null,null,null,null,null,null,null,null,null,null,null,null,{"$error":"#VALUE!"}]
[null,null,null,null,null,null,null,null,null,{"$error":"#VALUE!"},{"$error":"#VALUE!"},{"$error":"#VALUE!"},null,null,null,null,null,null,null,null,null,null,null,null,null,null,null,null,null,null,null,null,null,null,null,null,{"$error":"#VALUE!"}]
[null,null,null,null,null,null,null,null,null,{"$error":"#VALUE!"},{"$error":"#VALUE!"},{"$error":"#VALUE!"},null,null,null,null,null,null,null,null,null,null,null,null,null,null,null,null,null,null,null,null,null,null,null,null,{"$error":"#VALUE!"}]
[null,null,null,null,null,null,null,null,null,{"$error":"#VALUE!"},{"$error":"#VALUE!"},{"$error":"#VALUE!"},null,null,null,null,null,null,null,null,null,null,null,null,null,null,null,null,null,null,null,null,null,null,null,null,{"$error":"#VALUE!"}]
[null,null,null,null,null,null,null,null,null,{"$error":"#VALUE!"},{"$error":"#VALUE!"},{"$error":"#VALUE!"},null,null,null,null,null,null,null,null,null,null,null,null,null,null,null,null,null,null,null,null,null,null,null,null,{"$error":"#VALUE!"}]
[null,null,null,null,null,null,null,null,null,{"$error":"#VALUE!"},{"$error":"#VALUE!"},{"$error":"#VALUE!"},null,null,null,null,null,null,null,null,null,null,null,null,null,null,null,null,null,null,null,null,null,null,null,null,{"$error":"#VALUE!"}]
[null,null,null,null,null,null,null,null,null,{"$error":"#VALUE!"},{"$error":"#VALUE!"},{"$error":"#VALUE!"},null,null,null,null,null,null,null,null,null,null,null,null,null,null,null,null,null,null,null,null,null,null,null,null,{"$error":"#VALUE!"}]
[null,null,null,null,null,null,null,null,null,{"$error":"#VALUE!"},{"$error":"#VALUE!"},{"$error":"#VALUE!"},null,null,null,null,null,null,null,null,null,null,null,null,null,null,null,null,null,null,null,null,null,null,null,null,{"$error":"#VALUE!"}]
[null,null,null,null,null,null,null,null,null,{"$error":"#VALUE!"},{"$error":"#VALUE!"},{"$error":"#VALUE!"},null,null,null,null,null,null,null,null,null,null,null,null,null,null,null,null,null,null,null,null,null,null,null,null,{"$error":"#VALUE!"}]
[null,null,null,null,null,null,null,null,null,{"$error":"#VALUE!"},{"$error":"#VALUE!"},{"$error":"#VALUE!"},null,null,null,null,null,null,null,null,null,null,null,null,null,null,null,null,null,null,null,null,null,null,null,null,{"$error":"#VALUE!"}]
[null,null,null,null,null,null,null,null,null,{"$error":"#VALUE!"},{"$error":"#VALUE!"},{"$error":"#VALUE!"},null,null,null,null,null,null,null,null,null,null,null,null,null,null,null,null,null,null,null,null,null,null,null,null,{"$error":"#VALUE!"}]
[null,null,null,null,null,null,null,null,null,{"$error":"#VALUE!"},{"$error":"#VALUE!"},{"$error":"#VALUE!"},null,null,null,null,null,null,null,null,null,null,null,null,null,null,null,null,null,null,null,null,null,null,null,null,{"$error":"#VALUE!"}]
[null,null,null,null,null,null,null,null,null,{"$error":"#VALUE!"},{"$error":"#VALUE!"},{"$error":"#VALUE!"},null,null,null,null,null,null,null,null,null,null,null,null,null,null,null,null,null,null,null,null,null,null,null,null,{"$error":"#VALUE!"}]
[null,null,null,null,null,null,null,null,null,{"$error":"#VALUE!"},{"$error":"#VALUE!"},{"$error":"#VALUE!"},null,null,null,null,null,null,null,null,null,null,null,null,null,null,null,null,null,null,null,null,null,null,null,null,{"$error":"#VALUE!"}]
[null,null,null,null,null,null,null,null,null,{"$error":"#VALUE!"},{"$error":"#VALUE!"},{"$error":"#VALUE!"},null,null,null,null,null,null,null,null,null,null,null,null,null,null,null,null,null,null,null,null,null,null,null,null,{"$error":"#VALUE!"}]

{"sheet":"QR","index":46,"n_rows":156,"n_cols":72,"rows_kept":156,"cut":false,"hidden":true,"merged":[[1,56,1,71],[0,19,0,28],[0,30,0,32],[1,31,2,31],[1,32,2,32],[1,21,1,25],[1,27,1,28],[1,30,2,30],[100,9,100,11],[100,36,101,36],[1,34,2,34],[1,36,2,36],[1,39,1,54],[1,9,1,11],[1,13,1,17]]}
[null,null,null,null,null,null,null,null,null,null,null,null,null,null,null,null,null,null,null,"Conflicting Traffic Complexity",null,null,null,null,null,null,null,null,null,null,"Pedestrian Complexity"]
[null,null,null,null,null,null,null,null,null,"Exposure",null,null,null,"Severity",null,null,null,null,null,"Traffic Control",null,"Conflicting Lanes",null,null,null,null,null,"Conflicting Speed",null,null,"Indirect Paths Indicator","Non-intuitive movements indicator","Pedestrian Complexity factor",null,"Total Complexity Multiplier",null,"Exposure-Severity-Complexity Product",null,null,"Included in Mvmt1",null,null,null,null,null,null,null,null,null,null,null,null,null,null,null,null,"Included in Mvmt2"]
["#","Conflict Type","Mvmt1","Mvmt1_gen","Mvmt1_SpeedCat","Mvmt2","Mvmt2_gen","Mvmt2_SpeedCat",null,"Q1","Q2","I",null,"Speed_V1","Speed_V2","Angle","delta_V","P_FSI",null,null,null,"MajC","MinC","MajM/P","MinM/P","Score",null,"Speed","Factor",null,null,null,null,null,null,null,null,null,null,"MajT1","MajL1","MajR1","MajT2","MajL2","MajR2","MinT1","MinL1","MinR1","MinT2","MinL2","MinR2","MajNM1","MajNM2","MinNM1","MinNM2",null,"MajT1","MajL1","MajR1","MajT2","MajL2","MajR2","MinT1","MinL1","MinR1","MinT2","MinL2","MinR2","MajNM1","MajNM2","MinNM1","MinNM2"]
[1,"Crossing","SBT, WBL","MinT2, MajL2","Signal near","WBT, NBL","MajT2, MinL1","Major thru",null,{"$f":"SUMPRODUCT($AN4:$BC4,$AN$58:$BC$58)","v":{"$error":"#VALUE!"}},{"$f":"SUMPRODUCT($BE4:$BT4,$BE$58:$BT$58)","v":{"$error":"#VALUE!"}},{"$f":"PRODUCT(J4:K4)","v":{"$error":"#VALUE!"}},null,{"$f":"VLOOKUP(E4,SSI_AGI_Range_VehSpeed,5,FALSE)","v":15},{"$f":"VLOOKUP(H4,SSI_AGI_Range_VehSpeed,5,FALSE)","v":45},{"$f":"IF(B4=\"Nonmotorized\",\"\",VLOOKUP(B4,SSI_AGI_Range_CollAngles,5,FALSE))","v":90},{"$f":"IF(B4=\"Nonmotorized\",\"\",SQRT(N4^2+O4^2-2*N4*O4*COS(RADIANS(P4)))/2)","v":23.717082451262844},{"$f":"IF(B4=\"Nonmotorized\",1/(1+EXP(3.8432-0.1237*O4)),(Q4/SSI_AGI_RegAlpha)^SSI_AGI_RegK+(Q4/SSI_AGI_RegAlpha)^SSI_AGI_RegK-((Q4/SSI_AGI_RegAlpha)^SSI_AGI_RegK)*((Q4/SSI_AGI_RegAlpha)^SSI_AGI_RegK))","v":3.7884541771032863E-2},null,{"$f":"SSI_AGI_ProtFactor","v":0.505},null,2,null,null,null,{"$f":"MAX(1,IF(B4<>\"Pedestrian\",V4*SSI_AGI_MajorThruLanes+W4*SSI_AGI_MinorThruLanes+X4*IF(SSI_AGI_MajorThruLanes=1,SSI_AGI_MergeWeightL1,IF(SSI_AGI_MajorThruLanes=2,SSI_AGI_MergeWeightL1+SSI_AGI_MergeWeightL2,SSI_AGI_MergeWeightL1+SSI_AGI_MergeWeightL2+SSI_AGI_MergeWeightL3*(SSI_AGI_MajorThruLanes-2)))+Y4*IF(SSI_AGI_MinorThruLanes=1,SSI_AGI_MergeWeightL1,IF(SSI_AGI_MinorThruLanes=2,SSI_AGI_MergeWeightL1+SSI_AGI_MergeWeightL2,SSI_AGI_MergeWeightL1+SSI_AGI_MergeWeightL2+SSI_AGI_MergeWeightL3*(SSI_AGI_MinorThruLanes-2))),V4*SSI_AGI_MajorThruLanes+W4*SSI_AGI_MinorThruLanes+X4*IF(SSI_AGI_MajorThruLanes=1,SSI_AGI_NM_MergeWeightL1,IF(SSI_AGI_MajorThruLanes=2,SSI_AGI_NM_MergeWeightL1+SSI_AGI_NM_MergeWeightL2,SSI_AGI_NM_MergeWeightL1+SSI_AGI_NM_MergeWeightL2+SSI_AGI_NM_MergeWeightL3*(SSI_AGI_MajorThruLanes-2)))+Y4*IF(SSI_AGI_MinorThruLanes=1,SSI_AGI_NM_MergeWeightL1,IF(SSI_AGI_MinorThruLanes=2,SSI_AGI_NM_MergeWeightL1+SSI_AGI_NM_MergeWeightL2,SSI_AGI_NM_MergeWeightL1+SSI_AGI_NM_MergeWeightL2+SSI_AGI_NM_MergeWeightL3*(SSI_AGI_MinorThruLanes-2)))))","v":4},null,{"$f":"IF(B4=\"Diverging\",\"\",SSI_AGI_VehSpeed_MjrThru)","v":45},{"$f":"IF(B4=\"Diverging\",1,1-((60-AB4)/60*0.1/0.15))","v":0.83333333333333326},null,null,null,{"$f":"IF(SSI_AGI_ConsiderNMComplexity=\"Yes\",1+AE4+AF4,1)","v":1},null,{"$f":"PRODUCT(Z4,T4,AC4,AG4)","v":1.6833333333333331},null,{"$f":"L4*R4*AI4","v":{"$error":"#VALUE!"}},null,null,{"$f":"IF(ISNUMBER(SEARCH(AN$3,$D4)),1,\"\")","v":""},{"$f":"IF(ISNUMBER(SEARCH(AO$3,$D4)),1,\"\")","v":""},"","",1,"","","","",1,"","","","","","",null,{"$f":"IF(ISNUMBER(SEARCH(BE$3,$G4)),1,\"\")","v":""},{"$f":"IF(ISNUMBER(SEARCH(BF$3,$G4)),1,\"\")","v":""},"",1,"","","",1,"","","","","","","",""]
[2,"Crossing","NBT, NBL","MinT1, MinL1","Signal far","WBT, NBL","MajT2, MinL1","Major thru",null,{"$error":"#VALUE!"},{"$error":"#VALUE!"},{"$f":"PRODUCT(J5:K5)","v":{"$error":"#VALUE!"}},null,25,45,90,{"$f":"IF(B5=\"Nonmotorized\",\"\",SQRT(N5^2+O5^2-2*N5*O5*COS(RADIANS(P5)))/2)","v":25.739075352467502},5.1494149230103807E-2,null,0.505,null,2,null,null,null,4,null,{"$f":"IF(B5=\"Diverging\",\"\",SSI_AGI_VehSpeed_MjrThru)","v":45},0.83333333333333326,null,null,null,1,null,1.6833333333333331,null,{"$f":"L5*R5*AI5","v":{"$error":"#VALUE!"}},null,null,{"$f":"IF(ISNUMBER(SEARCH(AN$3,$D5)),1,\"\")","v":""},"","","","","",1,1,"","","","","","","","",null,{"$f":"IF(ISNUMBER(SEARCH(BE$3,$G5)),1,\"\")","v":""},"","",1,"","","",1,"","","","","","","",""]
[3,"Crossing","NBT, NBL","MinT1, MinL1","Signal near","EBT, EBL","MajT1, MajL1","Major thru",null,{"$error":"#VALUE!"},{"$error":"#VALUE!"},{"$error":"#VALUE!"},null,15,45,90,23.717082451262844,3.7884541771032863E-2,null,0.505,null,2,null,null,null,4,null,{"$f":"IF(B6=\"Diverging\",\"\",SSI_AGI_VehSpeed_MjrThru)","v":45},0.83333333333333326,null,null,null,1,null,1.6833333333333331,null,{"$error":"#VALUE!"},null,null,"","","","","","",1,1,"","","","","","","","",null,1,1,"","","","","","","","","","","","","",""]
[4,"Crossing","SBT, WBL","MinT2, MajL2","Signal far","EBT, EBL","MajT1, MajL1","Major thru",null,{"$error":"#VALUE!"},{"$error":"#VALUE!"},{"$error":"#VALUE!"},null,25,45,90,25.739075352467502,5.1494149230103807E-2,null,0.505,null,2,null,null,null,4,null,{"$f":"IF(B7=\"Diverging\",\"\",SSI_AGI_VehSpeed_MjrThru)","v":45},0.83333333333333326,null,null,null,1,null,1.6833333333333331,null,{"$error":"#VALUE!"},null,null,"","","","",1,"","","","",1,"","","","","","",null,1,1,"","","","","","","","","","","","","",""]
[5,"Crossing - LT","SBL","MinL2","Minor left","WBL","MajL2","Signal near",null,{"$error":"#VALUE!"},{"$error":"#VALUE!"},{"$error":"#VALUE!"},null,20,15,230,15.895538413434787,8.3616736100371545E-3,null,0.505,null,null,1,null,1,3.75,null,{"$f":"IF(B8=\"Diverging\",\"\",SSI_AGI_VehSpeed_MnrThru)","v":29.75},0.66388888888888886,null,null,null,1,null,1.2572395833333334,null,{"$error":"#VALUE!"},null,null,"","","","","","","","","","",1,"","","","","",null,"","","","",1,"","","","","","","","","","",""]
[6,"Crossing - LT","NBT, WBR","MinT1, MajR2","Minor thru","WBL","MajL2","Signal near",null,{"$error":"#VALUE!"},{"$error":"#VALUE!"},{"$error":"#VALUE!"},null,29.75,15,230,20.516764131102867,2.1946207825979773E-2,null,0.505,null,null,1,null,1,3.75,null,{"$f":"IF(B9=\"Diverging\",\"\",SSI_AGI_VehSpeed_MnrThru)","v":29.75},0.66388888888888886,null,null,null,1,null,1.2572395833333334,null,{"$error":"#VALUE!"},null,null,"","","","","",1,1,"","","","","","","","","",null,"","","","",1,"","","","","","","","","","",""]
[7,"Crossing - LT","SBL","MinL2","Minor left","NBT, WBR","MinT1, MajR2","Minor thru",null,{"$error":"#VALUE!"},{"$error":"#VALUE!"},{"$error":"#VALUE!"},null,20,29.75,230,22.638351063665073,3.1800138918649752E-2,null,{"$f":"IF(SSI_AGI_MinorLTPhase=\"Protected/permitted\",SSI_AGI_ProtPermFactor,IF(SSI_AGI_MinorLTPhase=\"Protected\",SSI_AGI_ProtFactor,SSI_AGI_PermFactor))","v":0.92500000000000004},null,null,1,null,null,2,null,{"$f":"IF(B10=\"Diverging\",\"\",SSI_AGI_VehSpeed_MnrThru)","v":29.75},0.66388888888888886,null,null,null,1,null,1.2281944444444444,null,{"$error":"#VALUE!"},null,null,"","","","","","","","","","",1,"","","","","",null,"","","","","",1,1,"","","","","","","","",""]
[8,"Crossing - LT","SBL","MinL2","Signal near","WBT","MajT2","Major thru",null,{"$error":"#VALUE!"},{"$error":"#VALUE!"},{"$error":"#VALUE!"},null,15,45,230,27.918467333813421,6.9762185672148203E-2,null,{"$f":"SSI_AGI_ProtFactor","v":0.505},null,1,null,1,null,3.75,null,{"$f":"IF(B11=\"Diverging\",\"\",SSI_AGI_VehSpeed_MjrThru)","v":45},0.83333333333333326,null,null,null,1,null,1.578125,null,{"$error":"#VALUE!"},null,null,"","","","","","","","","","",1,"","","","","",null,"","","",1,"","","","","","","","","","","",""]
[9,"Crossing - LT","EBL","MajL1","Major left","WBT","MajT2","Major thru",null,{"$error":"#VALUE!"},{"$error":"#VALUE!"},{"$error":"#VALUE!"},null,20,45,230,29.924979939156898,9.0286582411373745E-2,null,{"$f":"IF(SSI_AGI_MajorLTPhase=\"Protected/permitted\",SSI_AGI_ProtPermFactor,IF(SSI_AGI_MajorLTPhase=\"Protected\",SSI_AGI_ProtFactor,SSI_AGI_PermFactor))","v":0.92500000000000004},null,1,null,null,null,2,null,45,0.83333333333333326,null,null,null,1,null,1.5416666666666665,null,{"$error":"#VALUE!"},null,null,"",1,"","","","","","","","","","","","","","",null,"","","",1,"","","","","","","","","","","",""]
[10,"Crossing - LT","SBL","MinL2","Signal near","EBL","MajL1","Major left",null,{"$error":"#VALUE!"},{"$error":"#VALUE!"},{"$error":"#VALUE!"},null,15,20,230,15.895538413434787,8.3616736100371545E-3,null,{"$f":"SSI_AGI_ProtFactor","v":0.505},null,1,null,1,null,3.75,null,45,0.83333333333333326,null,null,null,1,null,1.578125,null,{"$error":"#VALUE!"},null,null,"","","","","","","","","","",1,"","","","","",null,"",1,"","","","","","","","","","","","","",""]
[11,"Merging","NBT, NBL","MinT1, MinL1","Signal far","WBR","MajR2","Major right",null,{"$error":"#VALUE!"},{"$error":"#VALUE!"},{"$error":"#VALUE!"},null,25,15,45,8.9396576292116645,9.4329959592674944E-4,null,0.505,null,2,null,null,null,4,null,45,0.83333333333333326,null,null,null,1,null,1.6833333333333331,null,{"$error":"#VALUE!"},null,null,"","","","","","",1,1,"","","","","","","","",null,"","","","","",1,"","","","","","","","","",""]
[12,"Merging","NBR","MinR1","Signal near","EBT, EBL","MajT1, MajL1","Major thru",null,{"$error":"#VALUE!"},{"$error":"#VALUE!"},{"$error":"#VALUE!"},null,15,45,45,17.995873453365363,1.3373938286506865E-2,null,0.505,null,null,null,1,null,1.75,null,45,0.83333333333333326,null,null,null,1,null,0.73645833333333333,null,{"$error":"#VALUE!"},null,null,"","","","","","","","",1,"","","","","","","",null,1,1,"","","","","","","","","","","","","",""]
[13,"Merging","EBR","MajR1","Major right","SBT, WBL","MinT1, MajL2","Signal far",null,{"$error":"#VALUE!"},{"$error":"#VALUE!"},{"$error":"#VALUE!"},null,15,25,45,8.9396576292116645,9.4329959592674944E-4,null,0.505,null,2,null,null,null,4,null,45,0.83333333333333326,null,null,null,1,null,1.6833333333333331,null,{"$error":"#VALUE!"},null,null,"","",1,"","","","","","","","","","","","","",null,"","","","",1,"",1,"","","","","","","","",""]
[14,"Merging","SBR","MinR2","Signal near","WBT, NBL","MajT2, MinL1","Major thru",null,{"$error":"#VALUE!"},{"$error":"#VALUE!"},{"$error":"#VALUE!"},null,15,45,45,17.995873453365363,1.3373938286506865E-2,null,0.505,null,null,null,1,null,1.75,null,45,0.83333333333333326,null,null,null,1,null,0.73645833333333333,null,{"$error":"#VALUE!"},null,null,"","","","","","","","","","","",1,"","","","",null,"","","",1,"","","",1,"","","","","","","",""]
[15,"Merging","SBT, SBR","MinT2, MinR2","Minor thru","WBL","MajL2","Signal far",null,{"$error":"#VALUE!"},{"$error":"#VALUE!"},{"$error":"#VALUE!"},null,29.75,25,45,10.703284110321123,1.8675169807025405E-3,null,0.505,null,null,1,null,1,3.75,null,{"$f":"IF(B18=\"Diverging\",\"\",SSI_AGI_VehSpeed_MnrThru)","v":29.75},0.66388888888888886,null,null,null,1,null,1.2572395833333334,null,{"$error":"#VALUE!"},null,null,"","","","","","","","","",1,"",1,"","","","",null,"","","","",1,"","","","","","","","","","",""]
[16,"Merging","SBL","MinL2","Minor left","NBL","MinL1","Minor right",null,{"$error":"#VALUE!"},{"$error":"#VALUE!"},{"$error":"#VALUE!"},null,20,15,45,7.0840654162717795,3.9022923271840544E-4,null,0.505,null,null,null,1,null,1.75,null,{"$f":"IF(B19=\"Diverging\",\"\",SSI_AGI_VehSpeed_MnrThru)","v":29.75},0.66388888888888886,null,null,null,1,null,0.58671180555555558,null,{"$error":"#VALUE!"},null,null,"","","","","","","","","","",1,"","","","","",null,"","","","","","","",1,"","","","","","","",""]
[17,"Merging","NBT, WBR","MinT1, MajR2","Minor thru","EBL","MajL1","Signal near",null,{"$error":"#VALUE!"},{"$error":"#VALUE!"},{"$error":"#VALUE!"},null,29.75,15,45,10.942688172828081,2.0309556354165454E-3,null,0.505,null,null,null,null,1,1.75,null,{"$f":"IF(B20=\"Diverging\",\"\",SSI_AGI_VehSpeed_MnrThru)","v":29.75},0.66388888888888886,null,null,null,1,null,0.58671180555555558,null,{"$error":"#VALUE!"},null,null,"","","","","",1,1,"","","","","","","","","",null,"",1,"","","","","","","","","","","","","",""]
[18,"Merging","NBL","MinL1","Signal near","WBT","MajT2","Major thru",null,{"$error":"#VALUE!"},{"$error":"#VALUE!"},{"$error":"#VALUE!"},null,15,45,45,17.995873453365363,1.3373938286506865E-2,null,0.505,null,null,null,1,null,1.75,null,{"$f":"IF(B21=\"Diverging\",\"\",SSI_AGI_VehSpeed_MjrThru)","v":45},0.83333333333333326,null,null,null,1,null,0.73645833333333333,null,{"$error":"#VALUE!"},null,null,"","","","","","","",1,"","","","","","","","",null,"","","",1,"","","","","","","","","","","",""]
[19,"Merging","EBT, NBR","MajT1, MinR1","Major thru","SBL","MinL2","Signal far",null,{"$error":"#VALUE!"},{"$error":"#VALUE!"},{"$error":"#VALUE!"},null,45,25,45,16.271214938736659,9.1348815406664795E-3,null,0.505,null,1,null,1,null,3.75,null,45,0.83333333333333326,null,null,null,1,null,1.578125,null,{"$error":"#VALUE!"},null,null,1,"","","","","","","",1,"","","","","","","",null,"","","","","","","","","","",1,"","","","",""]
[20,"Merging","WBR","MajR2","Major right","EBL","MajL1","Major left",null,{"$error":"#VALUE!"},{"$error":"#VALUE!"},{"$error":"#VALUE!"},null,15,20,45,7.0840654162717795,3.9022923271840544E-4,null,0.505,null,1,null,null,null,2,null,45,0.83333333333333326,null,null,null,1,null,0.84166666666666656,null,{"$error":"#VALUE!"},null,null,"","","","","",1,"","","","","","","","","","",null,"",1,"","","","","","","","","","","","","",""]
[21,"Diverging","SBT, WBL","MinT2, MajL2","Signal near","SBR","MinR1","Signal near",null,{"$error":"#VALUE!"},{"$error":"#VALUE!"},{"$error":"#VALUE!"},null,15,15,10,1.3073361412148754,6.4061388075216071E-7,null,1,null,null,null,null,null,1,null,"",1,null,null,null,1,null,1,null,{"$error":"#VALUE!"},null,null,"","","","",1,"","","","",1,"","","","","","",null,"","","","","","","","",1,"","","","","","",""]
[22,"Diverging","WBT, NBL","MajT2, MinL1","Major thru","WBR","MajR2","Major right",null,{"$error":"#VALUE!"},{"$error":"#VALUE!"},{"$error":"#VALUE!"},null,45,15,10,15.169950011729762,7.0056226631585675E-3,null,1,null,null,null,null,null,1,null,"",1,null,null,null,1,null,1,null,{"$error":"#VALUE!"},null,null,"","","",1,"","","",1,"","","","","","","","",null,"","","","","",1,"","","","","","","","","",""]
[23,"Diverging","NBT, NBL","MinT1, MinL1","Signal near","NBR","MinR1","Signal near",null,{"$error":"#VALUE!"},{"$error":"#VALUE!"},{"$error":"#VALUE!"},null,15,15,10,1.3073361412148754,6.4061388075216071E-7,null,1,null,null,null,null,null,1,null,"",1,null,null,null,1,null,1,null,{"$error":"#VALUE!"},null,null,"","","","","","",1,1,"","","","","","","","",null,"","","","","","","","",1,"","","","","","",""]
[24,"Diverging","EBT, EBL","MajT1, MajL1","Major thru","EBR","MajR1","Major right",null,{"$error":"#VALUE!"},{"$error":"#VALUE!"},{"$error":"#VALUE!"},null,45,15,10,15.169950011729762,7.0056226631585675E-3,null,1,null,null,null,null,null,1,null,"",1,null,null,null,1,null,1,null,{"$error":"#VALUE!"},null,null,1,1,"","","","","","","","","","","","","","",null,"","",1,"","","","","","","","","","","","",""]
[25,"Diverging","NBT, WBR","MinT1, MajR2","Minor thru","NBL","MinL1","Minor right",null,{"$error":"#VALUE!"},{"$error":"#VALUE!"},{"$error":"#VALUE!"},null,29.75,15,10,7.6013416650714412,5.098561852088457E-4,null,1,null,null,null,null,null,1,null,"",1,null,null,null,1,null,1,null,{"$error":"#VALUE!"},null,null,"","","","","",1,1,"","","","","","","","","",null,"","","","","","","",1,"","","","","","","",""]
[26,"Diverging","SBT, SBR","MinT2, MinR2","Minor thru","SBL","MinL2","Minor left",null,{"$error":"#VALUE!"},{"$error":"#VALUE!"},{"$error":"#VALUE!"},null,29.75,20,10,5.3183943515753072,1.314997560105331E-4,null,1,null,null,null,null,null,1,null,"",1,null,null,null,1,null,1,null,{"$error":"#VALUE!"},null,null,"","","","","","","","","",1,"",1,"","","","",null,"","","","","","","","","","",1,"","","","",""]
[27,"Diverging","WBR, EBL","MajR2, MajL1","Signal near","WBL","MajL2","Signal near",null,{"$error":"#VALUE!"},{"$error":"#VALUE!"},{"$error":"#VALUE!"},null,15,15,10,1.3073361412148754,6.4061388075216071E-7,null,1,null,null,null,null,null,1,null,"",1,null,null,null,1,null,1,null,{"$error":"#VALUE!"},null,null,"",1,"","","",1,"","","","","","","","","","",null,"","","","",1,"","","","","","","","","","",""]
[28,"Diverging","EBT, NBR","MajT1, MinR1","Major thru","EBL","MajL1","Major left",null,{"$error":"#VALUE!"},{"$error":"#VALUE!"},{"$error":"#VALUE!"},null,45,20,10,12.77053292327718,3.6481988362114144E-3,null,1,null,null,null,null,null,1,null,"",1,null,null,null,1,null,1,null,{"$error":"#VALUE!"},null,null,1,"","","","","","","",1,"","","","","","","",null,"",1,"","","","","","","","","","","","","",""]
[29,"Diverging","NBL","MinL1","Signal near","SBL","MinL2","Signal near",null,{"$error":"#VALUE!"},{"$error":"#VALUE!"},{"$error":"#VALUE!"},null,15,15,10,1.3073361412148754,6.4061388075216071E-7,null,1,null,null,null,null,null,1,null,"",1,null,null,null,1,null,1,null,{"$error":"#VALUE!"},null,null,"","","","","","","",1,"","","","","","","","",null,"","","","","","","","","","",1,"","","","",""]
[30,"Diverging","WBT","MajT2","Major thru","WBR, WBL","MajR2, MajL2","Major right",null,{"$error":"#VALUE!"},{"$error":"#VALUE!"},{"$error":"#VALUE!"},null,45,15,10,15.169950011729762,7.0056226631585675E-3,null,1,null,null,null,null,null,1,null,"",1,null,null,null,1,null,1,null,{"$error":"#VALUE!"},null,null,"","","",1,"","","","","","","","","","","","",null,"","","","",1,1,"","","","","","","","","",""]
[31,"Nonmotorized",null,"MajNM1","Nonmotorized","SBR","MinR2","Signal near",null,{"$error":"#VALUE!"},{"$error":"#VALUE!"},{"$error":"#VALUE!"},null,0,15,"","",0.1205004039155782,null,{"$f":"SSI_AGI_ProtFactor","v":0.505},null,2,null,null,1,5.75,null,45,0.83333333333333326,null,null,null,1,null,2.4197916666666663,null,{"$error":"#VALUE!"},null,null,"","","","","","","","","","","","",1,"","","",null,"","","","","","","","","","","",1,"","","",""]
[32,"Nonmotorized",null,"MajNM1","Nonmotorized","WBT","MajT2","Major thru",null,{"$error":"#VALUE!"},{"$error":"#VALUE!"},{"$error":"#VALUE!"},null,0,45,"","",0.84855340903216459,null,0.505,null,2,null,null,1,5.75,null,45,0.83333333333333326,null,null,null,1,null,2.4197916666666663,null,{"$error":"#VALUE!"},null,null,{"$f":"IF(ISNUMBER(SEARCH(AN$3,$D35)),1,\"\")","v":""},"","","","","","","","","","","",1,"","","",null,{"$f":"IF(ISNUMBER(SEARCH(BE$3,$G35)),1,\"\")","v":""},"","",1,"","","","","","","","","","","",""]
[33,"Nonmotorized",null,"MajNM1","Nonmotorized","EBT","MajT1","Major thru",null,{"$error":"#VALUE!"},{"$error":"#VALUE!"},{"$error":"#VALUE!"},null,{"$f":"VLOOKUP(E36,SSI_AGI_Range_VehSpeed,5,FALSE)","v":0},{"$f":"VLOOKUP(H36,SSI_AGI_Range_VehSpeed,5,FALSE)","v":45},{"$f":"IF(B36=\"Nonmotorized\",\"\",VLOOKUP(B36,SSI_AGI_Range_CollAngles,5,FALSE))","v":""},{"$f":"IF(B36=\"Nonmotorized\",\"\",SQRT(N36^2+O36^2-2*N36*O36*COS(RADIANS(P36)))/2)","v":""},{"$f":"IF(B36=\"Nonmotorized\",1/(1+EXP(3.8432-0.1237*O36)),(Q36/SSI_AGI_RegAlpha)^SSI_AGI_RegK+(Q36/SSI_AGI_RegAlpha)^SSI_AGI_RegK-((Q36/SSI_AGI_RegAlpha)^SSI_AGI_RegK)*((Q36/SSI_AGI_RegAlpha)^SSI_AGI_RegK))","v":0.84855340903216459},null,0.505,null,2,null,null,1,{"$f":"MAX(1,IF(B36<>\"Pedestrian\",V36*SSI_AGI_MajorThruLanes+W36*SSI_AGI_MinorThruLanes+X36*IF(SSI_AGI_MajorThruLanes=1,SSI_AGI_MergeWeightL1,IF(SSI_AGI_MajorThruLanes=2,SSI_AGI_MergeWeightL1+SSI_AGI_MergeWeightL2,SSI_AGI_MergeWeightL1+SSI_AGI_MergeWeightL2+SSI_AGI_MergeWeightL3*(SSI_AGI_MajorThruLanes-2)))+Y36*IF(SSI_AGI_MinorThruLanes=1,SSI_AGI_MergeWeightL1,IF(SSI_AGI_MinorThruLanes=2,SSI_AGI_MergeWeightL1+SSI_AGI_MergeWeightL2,SSI_AGI_MergeWeightL1+SSI_AGI_MergeWeightL2+SSI_AGI_MergeWeightL3*(SSI_AGI_MinorThruLanes-2))),V36*SSI_AGI_MajorThruLanes+W36*SSI_AGI_MinorThruLanes+X36*IF(SSI_AGI_MajorThruLanes=1,SSI_AGI_NM_MergeWeightL1,IF(SSI_AGI_MajorThruLanes=2,SSI_AGI_NM_MergeWeightL1+SSI_AGI_NM_MergeWeightL2,SSI_AGI_NM_MergeWeightL1+SSI_AGI_NM_MergeWeightL2+SSI_AGI_NM_MergeWeightL3*(SSI_AGI_MajorThruLanes-2)))+Y36*IF(SSI_AGI_MinorThruLanes=1,SSI_AGI_NM_MergeWeightL1,IF(SSI_AGI_MinorThruLanes=2,SSI_AGI_NM_MergeWeightL1+SSI_AGI_NM_MergeWeightL2,SSI_AGI_NM_MergeWeightL1+SSI_AGI_NM_MergeWeightL2+SSI_AGI_NM_MergeWeightL3*(SSI_AGI_MinorThruLanes-2)))))","v":5.75},null,45,0.83333333333333326,null,null,null,{"$f":"IF(SSI_AGI_ConsiderNMComplexity=\"Yes\",1+AE36+AF36,1)","v":1},null,2.4197916666666663,null,{"$error":"#VALUE!"},null,null,"","","","","","","","","","","","",1,"","","",null,1,"","","","","","","","","","","","","","",""]
[34,"Nonmotorized",null,"MajNM1","Nonmotorized","EBR","MajR1","Major right",null,{"$error":"#VALUE!"},{"$error":"#VALUE!"},{"$f":"PRODUCT(J37:K37)","v":{"$error":"#VALUE!"}},null,0,15,"","",0.1205004039155782,null,0.505,null,2,null,null,1,5.75,null,45,0.83333333333333326,null,null,null,1,null,2.4197916666666663,null,{"$error":"#VALUE!"},null,null,"","","","","","","","","","","","",1,"","","",null,"","",1,"","","","","","","","","","","","",""]
[35,"Nonmotorized",null,"MinNM1","Nonmotorized","EBR","MajR1","Major right",null,{"$error":"#VALUE!"},{"$error":"#VALUE!"},{"$error":"#VALUE!"},null,0,15,"","",0.1205004039155782,null,0.505,null,null,2,1,null,5.75,null,45,0.83333333333333326,null,null,null,1,null,2.4197916666666663,null,{"$error":"#VALUE!"},null,null,"","","","","","","","","","","","","","",1,"",null,"","",1,"","","","","","","","","","","","",""]
[36,"Nonmotorized",null,"MinNM1","Nonmotorized","SBT","MinT2","Signal far",null,{"$error":"#VALUE!"},{"$error":"#VALUE!"},{"$error":"#VALUE!"},null,0,25,"","",0.32066879346345062,null,0.505,null,null,2,1,null,5.75,null,45,0.83333333333333326,null,null,null,1,null,2.4197916666666663,null,{"$error":"#VALUE!"},null,null,"","","","","","","","","","","","","","",1,"",null,"","","","","","","","","",1,"","","","","",""]
[37,"Nonmotorized",null,"MinNM1","Nonmotorized","NBT","MinT1","Signal near",null,{"$error":"#VALUE!"},{"$error":"#VALUE!"},{"$error":"#VALUE!"},null,0,15,"","",0.1205004039155782,null,0.505,null,null,2,1,null,5.75,null,45,0.83333333333333326,null,null,null,1,null,2.4197916666666663,null,{"$error":"#VALUE!"},null,null,"","","","","","","","","","","","","","",1,"",null,"","","","","","",1,"","","","","","","","",""]
[38,"Nonmotorized",null,"MinNM1","Nonmotorized","NBR","MinR1","Signal near",null,{"$error":"#VALUE!"},{"$error":"#VALUE!"},{"$error":"#VALUE!"},null,0,15,"","",0.1205004039155782,null,0.505,null,null,2,1,null,5.75,null,45,0.83333333333333326,null,null,null,1,null,2.4197916666666663,null,{"$error":"#VALUE!"},null,null,"","","","","","","","","","","","","","",1,"",null,"","","","","","","","",1,"","","","","","",""]
[39,"Nonmotorized",null,"MajNM2","Nonmotorized","NBR","MinR1","Signal near",null,{"$error":"#VALUE!"},{"$error":"#VALUE!"},{"$error":"#VALUE!"},null,0,15,"","",0.1205004039155782,null,0.505,null,2,null,null,1,5.75,null,45,0.83333333333333326,null,null,null,1,null,2.4197916666666663,null,{"$error":"#VALUE!"},null,null,"","","","","","","","","","","","","",1,"","",null,"","","","","","","","",1,"","","","","","",""]
[40,"Nonmotorized",null,"MajNM2","Nonmotorized","EBT","MajT1","Major thru",null,{"$error":"#VALUE!"},{"$error":"#VALUE!"},{"$error":"#VALUE!"},null,0,45,"","",0.84855340903216459,null,0.505,null,2,null,null,1,5.75,null,45,0.83333333333333326,null,null,null,1,null,2.4197916666666663,null,{"$error":"#VALUE!"},null,null,"","","","","","","","","","","","","",1,"","",null,1,"","","","","","","","","","","","","","",""]
[41,"Nonmotorized",null,"MajNM2","Nonmotorized","WBT","MajT2","Major thru",null,{"$error":"#VALUE!"},{"$error":"#VALUE!"},{"$error":"#VALUE!"},null,0,45,"","",0.84855340903216459,null,0.505,null,2,null,null,1,5.75,null,45,0.83333333333333326,null,null,null,1,null,2.4197916666666663,null,{"$error":"#VALUE!"},null,null,"","","","","","","","","","","","","",1,"","",null,"","","",1,"","","","","","","","","","","",""]
[42,"Nonmotorized",null,"MajNM2","Nonmotorized","WBR","MajR2","Major right",null,{"$error":"#VALUE!"},{"$error":"#VALUE!"},{"$error":"#VALUE!"},null,0,15,"","",0.1205004039155782,null,0.505,null,2,null,null,1,5.75,null,45,0.83333333333333326,null,null,null,1,null,2.4197916666666663,null,{"$error":"#VALUE!"},null,null,"","","","","","","","","","","","","",1,"","",null,"","","","","",1,"","","","","","","","","",""]
[43,"Nonmotorized",null,"MinNM2","Nonmotorized","WBR","MajR2","Major right",null,{"$error":"#VALUE!"},{"$error":"#VALUE!"},{"$error":"#VALUE!"},null,0,15,"","",0.1205004039155782,null,0.505,null,null,2,1,null,5.75,null,45,0.83333333333333326,null,null,null,1,null,2.4197916666666663,null,{"$error":"#VALUE!"},null,null,"","","","","","","","","","","","","","","",1,null,"","","","","",1,"","","","","","","","","",""]
[44,"Nonmotorized",null,"MinNM2","Nonmotorized","NBT","MinT1","Signal far",null,{"$error":"#VALUE!"},{"$error":"#VALUE!"},{"$error":"#VALUE!"},null,0,25,"","",0.32066879346345062,null,0.505,null,null,2,1,null,5.75,null,45,0.83333333333333326,null,null,null,1,null,2.4197916666666663,null,{"$error":"#VALUE!"},null,null,"","","","","","","","","","","","","","","",1,null,"","","","","","",1,"","","","","","","","",""]
[45,"Nonmotorized",null,"MinNM2","Nonmotorized","SBT","MinT2","Signal near",null,{"$error":"#VALUE!"},{"$error":"#VALUE!"},{"$error":"#VALUE!"},null,0,15,"","",0.1205004039155782,null,0.505,null,null,2,1,null,5.75,null,45,0.83333333333333326,null,null,null,1,null,2.4197916666666663,null,{"$error":"#VALUE!"},null,null,"","","","","","","","","","","","","","","",1,null,"","","","","","","","","",1,"","","","","",""]
[46,"Nonmotorized",null,"MinNM2","Nonmotorized","SBR","MinR2","Signal near",null,{"$error":"#VALUE!"},{"$error":"#VALUE!"},{"$error":"#VALUE!"},null,0,15,"","",0.1205004039155782,null,0.505,null,null,2,1,null,5.75,null,45,0.83333333333333326,null,null,null,1,null,2.4197916666666663,null,{"$error":"#VALUE!"},null,null,"","","","","","","","","","","","","","","",1,null,"","","","","","","","","","","",1,"","","",""]
[47,"Nonmotorized",null,"MinNM2","Nonmotorized","NBL","MinL1","Signal near",null,{"$error":"#VALUE!"},{"$error":"#VALUE!"},{"$error":"#VALUE!"},null,0,15,"","",0.1205004039155782,null,0.505,null,null,2,2,null,7.5,null,45,0.83333333333333326,null,null,null,1,null,3.15625,null,{"$error":"#VALUE!"},null,null,"","","","","","","","","","","","","","","",{"$f":"IF(ISNUMBER(SEARCH(BC$3,$D50)),1,\"\")","v":1},null,"","","","","","","",1,"","","","","","","",{"$f":"IF(ISNUMBER(SEARCH(BT$3,$G50)),1,\"\")","v":""}]
[48,"Nonmotorized",null,"MinNM2","Nonmotorized","SBL","MinL1","Signal near",null,{"$error":"#VALUE!"},{"$error":"#VALUE!"},{"$error":"#VALUE!"},null,0,15,"","",0.1205004039155782,null,0.505,null,null,2,2,null,7.5,null,45,0.83333333333333326,null,null,null,1,null,3.15625,null,{"$error":"#VALUE!"},null,null,{"$f":"IF(ISNUMBER(SEARCH(AN$3,$D51)),1,\"\")","v":""},"","","","","","","","","","","","","","",1,null,{"$f":"IF(ISNUMBER(SEARCH(BE$3,$G51)),1,\"\")","v":""},"","","","","","",1,"","","","","","","",""]
[49,"Nonmotorized",null,"MinNM2","Nonmotorized","EBL","MajL1","Major left",null,{"$error":"#VALUE!"},{"$error":"#VALUE!"},{"$error":"#VALUE!"},null,0,20,"","",0.20274912921655375,null,0.505,null,null,2,2,null,7.5,null,45,0.83333333333333326,null,null,null,1,null,3.15625,null,{"$error":"#VALUE!"},null,null,"","","","","","","","","","","","","","","",1,null,"",1,"","","","","","","","","","","","","",""]
[50,"Nonmotorized",null,"MinNM2","Nonmotorized","WBL","MajL2","Major right",null,{"$error":"#VALUE!"},{"$error":"#VALUE!"},{"$error":"#VALUE!"},null,0,15,"","",0.1205004039155782,null,0.505,null,null,2,2,null,7.5,null,45,0.83333333333333326,null,null,null,1,null,3.15625,null,{"$error":"#VALUE!"},null,null,"","","","","","","","","","","","","","","",1,null,"","","","",1,"","","","","","","","","","",""]
[51,"Nonmotorized",null,"MajNM2","Nonmotorized","EBL","MajL1","Signal near",null,{"$error":"#VALUE!"},{"$error":"#VALUE!"},{"$error":"#VALUE!"},null,0,15,"","",0.1205004039155782,null,0.505,null,null,2,null,2,7.5,null,{"$f":"IF(B54=\"Diverging\",\"\",SSI_AGI_VehSpeed_MnrThru)","v":29.75},0.66388888888888886,null,null,null,1,null,2.5144791666666668,null,{"$error":"#VALUE!"},null,null,"","","","","","","","","","","","","",1,"","",null,"",1,"","","","","","","","","","","","","",""]
[52,"Nonmotorized",null,"MajNM2","Nonmotorized","WBL","MajL2","Signal near",null,{"$error":"#VALUE!"},{"$error":"#VALUE!"},{"$error":"#VALUE!"},null,0,15,"","",0.1205004039155782,null,0.505,null,null,2,null,2,7.5,null,{"$f":"IF(B55=\"Diverging\",\"\",SSI_AGI_VehSpeed_MnrThru)","v":29.75},0.66388888888888886,null,null,null,1,null,2.5144791666666668,null,{"$error":"#VALUE!"},null,null,"","","","","","","","","","","","","",1,"","",null,"","","","",1,"","","","","","","","","","",""]
[53,"Nonmotorized",null,"MajNM2","Nonmotorized","SBL","MinL2","Minor left",null,{"$error":"#VALUE!"},{"$error":"#VALUE!"},{"$error":"#VALUE!"},null,0,20,"","",0.20274912921655375,null,0.505,null,null,2,null,2,7.5,null,{"$f":"IF(B56=\"Diverging\",\"\",SSI_AGI_VehSpeed_MnrThru)","v":29.75},0.66388888888888886,null,null,null,1,null,2.5144791666666668,null,{"$error":"#VALUE!"},null,null,"","","","","","","","","","","","","",1,"","",null,"","","","","","","","","","",1,"","","","",""]
[54,"Nonmotorized",null,"MajNM2","Nonmotorized","NBL","MinL1","Minor right",null,{"$error":"#VALUE!"},{"$error":"#VALUE!"},{"$error":"#VALUE!"},null,0,15,"","",0.1205004039155782,null,0.505,null,null,2,null,2,7.5,null,{"$f":"IF(B57=\"Diverging\",\"\",SSI_AGI_VehSpeed_MnrThru)","v":29.75},0.66388888888888886,null,null,null,1,null,2.5144791666666668,null,{"$error":"#VALUE!"},null,null,"","","","","","","","","","","","","",1,"","",null,"","","","","","","",1,"","","","","","","",""]
[null,null,null,null,null,null,null,null,null,null,null,null,null,null,null,null,null,null,null,null,null,null,null,null,null,null,null,null,null,null,null,null,null,null,null,null,null,null,"O",{"$f":"'SSI Inputs'!$D$26","v":{"$error":"#VALUE!"}},{"$f":"'SSI Inputs'!$D$27","v":{"$error":"#VALUE!"}},{"$f":"'SSI Inputs'!$D$28","v":{"$error":"#VALUE!"}},{"$f":"'SSI Inputs'!$D$30","v":{"$error":"#VALUE!"}},{"$f":"'SSI Inputs'!$D$31","v":{"$error":"#VALUE!"}},{"$f":"'SSI Inputs'!$D$32","v":{"$error":"#VALUE!"}},{"$f":"'SSI Inputs'!$D$34","v":{"$error":"#VALUE!"}},{"$f":"'SSI Inputs'!$D$35","v":{"$error":"#VALUE!"}},{"$f":"'SSI Inputs'!$D$36","v":{"$error":"#VALUE!"}},{"$f":"'SSI Inputs'!$D$38","v":{"$error":"#VALUE!"}},{"$f":"'SSI Inputs'!$D$39","v":{"$error":"#VALUE!"}},{"$f":"'SSI Inputs'!$D$40","v":{"$error":"#VALUE!"}},{"$f":"'SSI Inputs'!$Q$18","v":175},{"$f":"'SSI Inputs'!$Q$19","v":175},{"$f":"'SSI Inputs'!$Q$20","v":175},{"$f":"'SSI Inputs'!$Q$21","v":175},"O",{"$f":"'SSI Inputs'!$D$26","v":{"$error":"#VALUE!"}},{"$f":"'SSI Inputs'!$D$27","v":{"$error":"#VALUE!"}},{"$f":"'SSI Inputs'!$D$28","v":{"$error":"#VALUE!"}},{"$f":"'SSI Inputs'!$D$30","v":{"$error":"#VALUE!"}},{"$f":"'SSI Inputs'!$D$31","v":{"$error":"#VALUE!"}},{"$f":"'SSI Inputs'!$D$32","v":{"$error":"#VALUE!"}},{"$f":"'SSI Inputs'!$D$34","v":{"$error":"#VALUE!"}},{"$f":"'SSI Inputs'!$D$35","v":{"$error":"#VALUE!"}},{"$f":"'SSI Inputs'!$D$36","v":{"$error":"#VALUE!"}},{"$f":"'SSI Inputs'!$D$38","v":{"$error":"#VALUE!"}},{"$f":"'SSI Inputs'!$D$39","v":{"$error":"#VALUE!"}},{"$f":"'SSI Inputs'!$D$40","v":{"$error":"#VALUE!"}},{"$f":"'SSI Inputs'!$Q$18","v":175},{"$f":"'SSI Inputs'!$Q$19","v":175},{"$f":"'SSI Inputs'!$Q$20","v":175},{"$f":"'SSI Inputs'!$Q$21","v":175}]
[null,null,null,null,null,null,null,null,null,null,null,null,null,null,null,null,null,null,null,null,null,null,null,null,null,null,null,null,null,null,null,null,null,null,null,null,null,null,"D",{"$f":"'SSI Inputs'!$E$26","v":{"$error":"#VALUE!"}},{"$f":"'SSI Inputs'!$E$27","v":{"$error":"#VALUE!"}},{"$f":"'SSI Inputs'!$E$28","v":{"$error":"#VALUE!"}},{"$f":"'SSI Inputs'!$E$30","v":{"$error":"#VALUE!"}},{"$f":"'SSI Inputs'!$E$31","v":{"$error":"#VALUE!"}},{"$f":"'SSI Inputs'!$E$32","v":{"$error":"#VALUE!"}},{"$f":"'SSI Inputs'!$E$34","v":{"$error":"#VALUE!"}},{"$f":"'SSI Inputs'!$E$35","v":{"$error":"#VALUE!"}},{"$f":"'SSI Inputs'!$E$36","v":{"$error":"#VALUE!"}},{"$f":"'SSI Inputs'!$E$38","v":{"$error":"#VALUE!"}},{"$f":"'SSI Inputs'!$E$39","v":{"$error":"#VALUE!"}},{"$f":"'SSI Inputs'!$E$40","v":{"$error":"#VALUE!"}},{"$f":"'SSI Inputs'!$R$18","v":175},{"$f":"'SSI Inputs'!$R$19","v":175},{"$f":"'SSI Inputs'!$R$20","v":175},{"$f":"'SSI Inputs'!$R$21","v":175},"D",{"$f":"'SSI Inputs'!$E$26","v":{"$error":"#VALUE!"}},{"$f":"'SSI Inputs'!$E$27","v":{"$error":"#VALUE!"}},{"$f":"'SSI Inputs'!$E$28","v":{"$error":"#VALUE!"}},{"$f":"'SSI Inputs'!$E$30","v":{"$error":"#VALUE!"}},{"$f":"'SSI Inputs'!$E$31","v":{"$error":"#VALUE!"}},{"$f":"'SSI Inputs'!$E$32","v":{"$error":"#VALUE!"}},{"$f":"'SSI Inputs'!$E$34","v":{"$error":"#VALUE!"}},{"$f":"'SSI Inputs'!$E$35","v":{"$error":"#VALUE!"}},{"$f":"'SSI Inputs'!$E$36","v":{"$error":"#VALUE!"}},{"$f":"'SSI Inputs'!$E$38","v":{"$error":"#VALUE!"}},{"$f":"'SSI Inputs'!$E$39","v":{"$error":"#VALUE!"}},{"$f":"'SSI Inputs'!$E$40","v":{"$error":"#VALUE!"}},{"$f":"'SSI Inputs'!$R$18","v":175},{"$f":"'SSI Inputs'!$R$19","v":175},{"$f":"'SSI Inputs'!$R$20","v":175},{"$f":"'SSI Inputs'!$R$21","v":175}]
[]
[]
[]
[]
[]
[]
[]
[]
[]
[]
[]
[]
[]
[]
[]
[]
[]
[]
[]
[]
[]
[]
[]
[]
[]
[]
[]
[]
[]
[]
[]
[]
[]
[]
[]
[]
[]
[]
[]
[]
[]
[null,null,null,null,null,null,null,null,null,"Exposure",null,null,null,null,null,null,null,null,null,null,null,null,null,null,null,null,null,null,null,null,null,null,null,null,null,null,"Exposure-Severity-Complexity Product"]
[null,null,null,null,null,null,null,null,null,"Q1","Q2","I"]
[null,null,null,null,null,null,null,null,null,{"$f":"SUMPRODUCT($AN4:$BC4,$AN$59:$BC$59)","v":{"$error":"#VALUE!"}},{"$f":"SUMPRODUCT($BE4:$BT4,$BE$59:$BT$59)","v":{"$error":"#VALUE!"}},{"$f":"PRODUCT(J103:K103)","v":{"$error":"#VALUE!"}},null,null,null,null,null,null,null,null,null,null,null,null,null,null,null,null,null,null,null,null,null,null,null,null,{"$f":"L103*R4*AI4","v":{"$error":"#VALUE!"}}]
[null,null,null,null,null,null,null,null,null,{"$f":"SUMPRODUCT($AN5:$BC5,$AN$59:$BC$59)","v":{"$error":"#VALUE!"}},{"$f":"SUMPRODUCT($BE5:$BT5,$BE$59:$BT$59)","v":{"$error":"#VALUE!"}},{"$f":"PRODUCT(J104:K104)","v":{"$error":"#VALUE!"}},null,null,null,null,null,null,null,null,null,null,null,null,null,null,null,null,null,null,null,null,null,null,null,null,{"$f":"L104*R5*AI5","v":{"$error":"#VALUE!"}}]
[null,null,null,null,null,null,null,null,null,{"$error":"#VALUE!"},{"$error":"#VALUE!"},{"$error":"#VALUE!"},null,null,null,null,null,null,null,null,null,null,null,null,null,null,null,null,null,null,null,null,null,null,null,null,{"$error":"#VALUE!"}]
[null,null,null,null,null,null,null,null,null,{"$error":"#VALUE!"},{"$error":"#VALUE!"},{"$error":"#VALUE!"},null,null,null,null,null,null,null,null,null,null,null,null,null,null,null,null,null,null,null,null,null,null,null,null,{"$error":"#VALUE!"}]
[null,null,null,null,null,null,null,null,null,{"$error":"#VALUE!"},{"$error":"#VALUE!"},{"$error":"#VALUE!"},null,null,null,null,null,null,null,null,null,null,null,null,null,null,null,null,null,null,null,null,null,null,null,null,{"$error":"#VALUE!"}]
[null,null,null,null,null,null,null,null,null,{"$error":"#VALUE!"},{"$error":"#VALUE!"},{"$error":"#VALUE!"},null,null,null,null,null,null,null,null,null,null,null,null,null,null,null,null,null,null,null,null,null,null,null,null,{"$error":"#VALUE!"}]
[null,null,null,null,null,null,null,null,null,{"$error":"#VALUE!"},{"$error":"#VALUE!"},{"$error":"#VALUE!"},null,null,null,null,null,null,null,null,null,null,null,null,null,null,null,null,null,null,null,null,null,null,null,null,{"$error":"#VALUE!"}]
[null,null,null,null,null,null,null,null,null,{"$error":"#VALUE!"},{"$error":"#VALUE!"},{"$error":"#VALUE!"},null,null,null,null,null,null,null,null,null,null,null,null,null,null,null,null,null,null,null,null,null,null,null,null,{"$error":"#VALUE!"}]
[null,null,null,null,null,null,null,null,null,{"$error":"#VALUE!"},{"$error":"#VALUE!"},{"$error":"#VALUE!"},null,null,null,null,null,null,null,null,null,null,null,null,null,null,null,null,null,null,null,null,null,null,null,null,{"$error":"#VALUE!"}]
[null,null,null,null,null,null,null,null,null,{"$error":"#VALUE!"},{"$error":"#VALUE!"},{"$error":"#VALUE!"},null,null,null,null,null,null,null,null,null,null,null,null,null,null,null,null,null,null,null,null,null,null,null,null,{"$error":"#VALUE!"}]
[null,null,null,null,null,null,null,null,null,{"$error":"#VALUE!"},{"$error":"#VALUE!"},{"$error":"#VALUE!"},null,null,null,null,null,null,null,null,null,null,null,null,null,null,null,null,null,null,null,null,null,null,null,null,{"$error":"#VALUE!"}]
[null,null,null,null,null,null,null,null,null,{"$error":"#VALUE!"},{"$error":"#VALUE!"},{"$error":"#VALUE!"},null,null,null,null,null,null,null,null,null,null,null,null,null,null,null,null,null,null,null,null,null,null,null,null,{"$error":"#VALUE!"}]
[null,null,null,null,null,null,null,null,null,{"$error":"#VALUE!"},{"$error":"#VALUE!"},{"$error":"#VALUE!"},null,null,null,null,null,null,null,null,null,null,null,null,null,null,null,null,null,null,null,null,null,null,null,null,{"$error":"#VALUE!"}]
[null,null,null,null,null,null,null,null,null,{"$error":"#VALUE!"},{"$error":"#VALUE!"},{"$error":"#VALUE!"},null,null,null,null,null,null,null,null,null,null,null,null,null,null,null,null,null,null,null,null,null,null,null,null,{"$error":"#VALUE!"}]
[null,null,null,null,null,null,null,null,null,{"$error":"#VALUE!"},{"$error":"#VALUE!"},{"$error":"#VALUE!"},null,null,null,null,null,null,null,null,null,null,null,null,null,null,null,null,null,null,null,null,null,null,null,null,{"$error":"#VALUE!"}]
[null,null,null,null,null,null,null,null,null,{"$error":"#VALUE!"},{"$error":"#VALUE!"},{"$error":"#VALUE!"},null,null,null,null,null,null,null,null,null,null,null,null,null,null,null,null,null,null,null,null,null,null,null,null,{"$error":"#VALUE!"}]
[null,null,null,null,null,null,null,null,null,{"$error":"#VALUE!"},{"$error":"#VALUE!"},{"$error":"#VALUE!"},null,null,null,null,null,null,null,null,null,null,null,null,null,null,null,null,null,null,null,null,null,null,null,null,{"$error":"#VALUE!"}]
[null,null,null,null,null,null,null,null,null,{"$error":"#VALUE!"},{"$error":"#VALUE!"},{"$error":"#VALUE!"},null,null,null,null,null,null,null,null,null,null,null,null,null,null,null,null,null,null,null,null,null,null,null,null,{"$error":"#VALUE!"}]
[null,null,null,null,null,null,null,null,null,{"$error":"#VALUE!"},{"$error":"#VALUE!"},{"$error":"#VALUE!"},null,null,null,null,null,null,null,null,null,null,null,null,null,null,null,null,null,null,null,null,null,null,null,null,{"$error":"#VALUE!"}]
[null,null,null,null,null,null,null,null,null,{"$error":"#VALUE!"},{"$error":"#VALUE!"},{"$error":"#VALUE!"},null,null,null,null,null,null,null,null,null,null,null,null,null,null,null,null,null,null,null,null,null,null,null,null,{"$error":"#VALUE!"}]
[null,null,null,null,null,null,null,null,null,{"$error":"#VALUE!"},{"$error":"#VALUE!"},{"$error":"#VALUE!"},null,null,null,null,null,null,null,null,null,null,null,null,null,null,null,null,null,null,null,null,null,null,null,null,{"$error":"#VALUE!"}]
[null,null,null,null,null,null,null,null,null,{"$error":"#VALUE!"},{"$error":"#VALUE!"},{"$error":"#VALUE!"},null,null,null,null,null,null,null,null,null,null,null,null,null,null,null,null,null,null,null,null,null,null,null,null,{"$error":"#VALUE!"}]
[null,null,null,null,null,null,null,null,null,{"$error":"#VALUE!"},{"$error":"#VALUE!"},{"$error":"#VALUE!"},null,null,null,null,null,null,null,null,null,null,null,null,null,null,null,null,null,null,null,null,null,null,null,null,{"$error":"#VALUE!"}]
[null,null,null,null,null,null,null,null,null,{"$error":"#VALUE!"},{"$error":"#VALUE!"},{"$error":"#VALUE!"},null,null,null,null,null,null,null,null,null,null,null,null,null,null,null,null,null,null,null,null,null,null,null,null,{"$error":"#VALUE!"}]
[null,null,null,null,null,null,null,null,null,{"$error":"#VALUE!"},{"$error":"#VALUE!"},{"$error":"#VALUE!"},null,null,null,null,null,null,null,null,null,null,null,null,null,null,null,null,null,null,null,null,null,null,null,null,{"$error":"#VALUE!"}]
[null,null,null,null,null,null,null,null,null,{"$error":"#VALUE!"},{"$error":"#VALUE!"},{"$error":"#VALUE!"},null,null,null,null,null,null,null,null,null,null,null,null,null,null,null,null,null,null,null,null,null,null,null,null,{"$error":"#VALUE!"}]
[null,null,null,null,null,null,null,null,null,{"$error":"#VALUE!"},{"$error":"#VALUE!"},{"$error":"#VALUE!"},null,null,null,null,null,null,null,null,null,null,null,null,null,null,null,null,null,null,null,null,null,null,null,null,{"$error":"#VALUE!"}]
[null,null,null,null,null,null,null,null,null,{"$error":"#VALUE!"},{"$error":"#VALUE!"},{"$error":"#VALUE!"},null,null,null,null,null,null,null,null,null,null,null,null,null,null,null,null,null,null,null,null,null,null,null,null,{"$error":"#VALUE!"}]
[null,null,null,null,null,null,null,null,null,{"$error":"#VALUE!"},{"$error":"#VALUE!"},{"$error":"#VALUE!"},null,null,null,null,null,null,null,null,null,null,null,null,null,null,null,null,null,null,null,null,null,null,null,null,{"$error":"#VALUE!"}]
[null,null,null,null,null,null,null,null,null,{"$error":"#VALUE!"},{"$error":"#VALUE!"},{"$error":"#VALUE!"},null,null,null,null,null,null,null,null,null,null,null,null,null,null,null,null,null,null,null,null,null,null,null,null,{"$error":"#VALUE!"}]
[null,null,null,null,null,null,null,null,null,{"$error":"#VALUE!"},{"$error":"#VALUE!"},{"$error":"#VALUE!"},null,null,null,null,null,null,null,null,null,null,null,null,null,null,null,null,null,null,null,null,null,null,null,null,{"$error":"#VALUE!"}]
[null,null,null,null,null,null,null,null,null,{"$error":"#VALUE!"},{"$error":"#VALUE!"},{"$error":"#VALUE!"},null,null,null,null,null,null,null,null,null,null,null,null,null,null,null,null,null,null,null,null,null,null,null,null,{"$error":"#VALUE!"}]
[null,null,null,null,null,null,null,null,null,{"$error":"#VALUE!"},{"$error":"#VALUE!"},{"$error":"#VALUE!"},null,null,null,null,null,null,null,null,null,null,null,null,null,null,null,null,null,null,null,null,null,null,null,null,{"$error":"#VALUE!"}]
[null,null,null,null,null,null,null,null,null,{"$error":"#VALUE!"},{"$error":"#VALUE!"},{"$error":"#VALUE!"},null,null,null,null,null,null,null,null,null,null,null,null,null,null,null,null,null,null,null,null,null,null,null,null,{"$error":"#VALUE!"}]
[null,null,null,null,null,null,null,null,null,{"$error":"#VALUE!"},{"$error":"#VALUE!"},{"$error":"#VALUE!"},null,null,null,null,null,null,null,null,null,null,null,null,null,null,null,null,null,null,null,null,null,null,null,null,{"$error":"#VALUE!"}]
[null,null,null,null,null,null,null,null,null,{"$error":"#VALUE!"},{"$error":"#VALUE!"},{"$error":"#VALUE!"},null,null,null,null,null,null,null,null,null,null,null,null,null,null,null,null,null,null,null,null,null,null,null,null,{"$error":"#VALUE!"}]
[null,null,null,null,null,null,null,null,null,{"$error":"#VALUE!"},{"$error":"#VALUE!"},{"$error":"#VALUE!"},null,null,null,null,null,null,null,null,null,null,null,null,null,null,null,null,null,null,null,null,null,null,null,null,{"$error":"#VALUE!"}]
[null,null,null,null,null,null,null,null,null,{"$error":"#VALUE!"},{"$error":"#VALUE!"},{"$error":"#VALUE!"},null,null,null,null,null,null,null,null,null,null,null,null,null,null,null,null,null,null,null,null,null,null,null,null,{"$error":"#VALUE!"}]
[null,null,null,null,null,null,null,null,null,{"$error":"#VALUE!"},{"$error":"#VALUE!"},{"$error":"#VALUE!"},null,null,null,null,null,null,null,null,null,null,null,null,null,null,null,null,null,null,null,null,null,null,null,null,{"$error":"#VALUE!"}]
[null,null,null,null,null,null,null,null,null,{"$error":"#VALUE!"},{"$error":"#VALUE!"},{"$error":"#VALUE!"},null,null,null,null,null,null,null,null,null,null,null,null,null,null,null,null,null,null,null,null,null,null,null,null,{"$error":"#VALUE!"}]
[null,null,null,null,null,null,null,null,null,{"$error":"#VALUE!"},{"$error":"#VALUE!"},{"$error":"#VALUE!"},null,null,null,null,null,null,null,null,null,null,null,null,null,null,null,null,null,null,null,null,null,null,null,null,{"$error":"#VALUE!"}]
[null,null,null,null,null,null,null,null,null,{"$error":"#VALUE!"},{"$error":"#VALUE!"},{"$error":"#VALUE!"},null,null,null,null,null,null,null,null,null,null,null,null,null,null,null,null,null,null,null,null,null,null,null,null,{"$error":"#VALUE!"}]
[null,null,null,null,null,null,null,null,null,{"$error":"#VALUE!"},{"$error":"#VALUE!"},{"$error":"#VALUE!"},null,null,null,null,null,null,null,null,null,null,null,null,null,null,null,null,null,null,null,null,null,null,null,null,{"$error":"#VALUE!"}]
[null,null,null,null,null,null,null,null,null,{"$error":"#VALUE!"},{"$error":"#VALUE!"},{"$error":"#VALUE!"},null,null,null,null,null,null,null,null,null,null,null,null,null,null,null,null,null,null,null,null,null,null,null,null,{"$error":"#VALUE!"}]
[null,null,null,null,null,null,null,null,null,{"$error":"#VALUE!"},{"$error":"#VALUE!"},{"$error":"#VALUE!"},null,null,null,null,null,null,null,null,null,null,null,null,null,null,null,null,null,null,null,null,null,null,null,null,{"$error":"#VALUE!"}]
[null,null,null,null,null,null,null,null,null,{"$error":"#VALUE!"},{"$error":"#VALUE!"},{"$error":"#VALUE!"},null,null,null,null,null,null,null,null,null,null,null,null,null,null,null,null,null,null,null,null,null,null,null,null,{"$error":"#VALUE!"}]
[null,null,null,null,null,null,null,null,null,{"$error":"#VALUE!"},{"$error":"#VALUE!"},{"$error":"#VALUE!"},null,null,null,null,null,null,null,null,null,null,null,null,null,null,null,null,null,null,null,null,null,null,null,null,{"$error":"#VALUE!"}]
[null,null,null,null,null,null,null,null,null,{"$error":"#VALUE!"},{"$error":"#VALUE!"},{"$error":"#VALUE!"},null,null,null,null,null,null,null,null,null,null,null,null,null,null,null,null,null,null,null,null,null,null,null,null,{"$error":"#VALUE!"}]
[null,null,null,null,null,null,null,null,null,{"$error":"#VALUE!"},{"$error":"#VALUE!"},{"$error":"#VALUE!"},null,null,null,null,null,null,null,null,null,null,null,null,null,null,null,null,null,null,null,null,null,null,null,null,{"$error":"#VALUE!"}]
[null,null,null,null,null,null,null,null,null,{"$error":"#VALUE!"},{"$error":"#VALUE!"},{"$error":"#VALUE!"},null,null,null,null,null,null,null,null,null,null,null,null,null,null,null,null,null,null,null,null,null,null,null,null,{"$error":"#VALUE!"}]
[null,null,null,null,null,null,null,null,null,{"$error":"#VALUE!"},{"$error":"#VALUE!"},{"$error":"#VALUE!"},null,null,null,null,null,null,null,null,null,null,null,null,null,null,null,null,null,null,null,null,null,null,null,null,{"$error":"#VALUE!"}]
[null,null,null,null,null,null,null,null,null,{"$error":"#VALUE!"},{"$error":"#VALUE!"},{"$error":"#VALUE!"},null,null,null,null,null,null,null,null,null,null,null,null,null,null,null,null,null,null,null,null,null,null,null,null,{"$error":"#VALUE!"}]
[null,null,null,null,null,null,null,null,null,{"$error":"#VALUE!"},{"$error":"#VALUE!"},{"$error":"#VALUE!"},null,null,null,null,null,null,null,null,null,null,null,null,null,null,null,null,null,null,null,null,null,null,null,null,{"$error":"#VALUE!"}]
[null,null,null,null,null,null,null,null,null,{"$error":"#VALUE!"},{"$error":"#VALUE!"},{"$error":"#VALUE!"},null,null,null,null,null,null,null,null,null,null,null,null,null,null,null,null,null,null,null,null,null,null,null,null,{"$error":"#VALUE!"}]

{"sheet":"Jughandle","index":47,"n_rows":154,"n_cols":72,"rows_kept":154,"cut":false,"hidden":true,"merged":[[1,56,1,71],[0,19,0,28],[0,30,0,32],[1,31,2,31],[1,32,2,32],[1,21,1,25],[1,27,1,28],[1,30,2,30],[100,9,100,11],[100,36,101,36],[1,34,2,34],[1,36,2,36],[1,39,1,54],[1,9,1,11],[1,13,1,17]]}
[null,null,null,null,null,null,null,null,null,null,null,null,null,null,null,null,null,null,null,"Conflicting Traffic Complexity",null,null,null,null,null,null,null,null,null,null,"Pedestrian Complexity"]
[null,null,null,null,null,null,null,null,null,"Exposure",null,null,null,"Severity",null,null,null,null,null,"Traffic Control",null,"Conflicting Lanes",null,null,null,null,null,"Conflicting Speed",null,null,"Indirect Paths Indicator","Non-intuitive movements indicator","Pedestrian Complexity factor",null,"Total Complexity Multiplier",null,"Exposure-Severity-Complexity Product",null,null,"Included in Mvmt1",null,null,null,null,null,null,null,null,null,null,null,null,null,null,null,null,"Included in Mvmt2"]
["#","Conflict Type","Mvmt1","Mvmt1_gen","Mvmt1_SpeedCat","Mvmt2","Mvmt2_gen","Mvmt2_SpeedCat",null,"Q1","Q2","I",null,"Speed_V1","Speed_V2","Angle","delta_V","P_FSI",null,null,null,"MajC","MinC","MajM/P","MinM/P","Score",null,"Speed","Factor",null,null,null,null,null,null,null,null,null,null,"MajT1","MajL1","MajR1","MajT2","MajL2","MajR2","MinT1","MinL1","MinR1","MinT2","MinL2","MinR2","MajNM1","MajNM2","MinNM1","MinNM2",null,"MajT1","MajL1","MajR1","MajT2","MajL2","MajR2","MinT1","MinL1","MinR1","MinT2","MinL2","MinR2","MajNM1","MajNM2","MinNM1","MinNM2"]
[1,"Crossing","WBT","MajT2","Major thru","SBT, WBL","MinT2, MajL2","Signal near",null,{"$f":"SUMPRODUCT($AN4:$BC4,$AN$56:$BC$56)","v":{"$error":"#VALUE!"}},{"$f":"SUMPRODUCT($BE4:$BT4,$BE$56:$BT$56)","v":{"$error":"#VALUE!"}},{"$f":"PRODUCT(J4:K4)","v":{"$error":"#VALUE!"}},null,{"$f":"VLOOKUP(E4,SSI_AGI_Range_VehSpeed,5,FALSE)","v":45},{"$f":"VLOOKUP(H4,SSI_AGI_Range_VehSpeed,5,FALSE)","v":15},{"$f":"IF(B4=\"Nonmotorized\",\"\",VLOOKUP(B4,SSI_AGI_Range_CollAngles,5,FALSE))","v":90},{"$f":"IF(B4=\"Nonmotorized\",\"\",SQRT(N4^2+O4^2-2*N4*O4*COS(RADIANS(P4)))/2)","v":23.717082451262844},{"$f":"IF(B4=\"Nonmotorized\",1/(1+EXP(3.8432-0.1237*O4)),(Q4/SSI_AGI_RegAlpha)^SSI_AGI_RegK+(Q4/SSI_AGI_RegAlpha)^SSI_AGI_RegK-((Q4/SSI_AGI_RegAlpha)^SSI_AGI_RegK)*((Q4/SSI_AGI_RegAlpha)^SSI_AGI_RegK))","v":3.7884541771032863E-2},null,{"$f":"SSI_AGI_ProtFactor","v":0.505},null,2,null,null,null,{"$f":"MAX(1,IF(B4<>\"Pedestrian\",V4*SSI_AGI_MajorThruLanes+W4*SSI_AGI_MinorThruLanes+X4*IF(SSI_AGI_MajorThruLanes=1,SSI_AGI_MergeWeightL1,IF(SSI_AGI_MajorThruLanes=2,SSI_AGI_MergeWeightL1+SSI_AGI_MergeWeightL2,SSI_AGI_MergeWeightL1+SSI_AGI_MergeWeightL2+SSI_AGI_MergeWeightL3*(SSI_AGI_MajorThruLanes-2)))+Y4*IF(SSI_AGI_MinorThruLanes=1,SSI_AGI_MergeWeightL1,IF(SSI_AGI_MinorThruLanes=2,SSI_AGI_MergeWeightL1+SSI_AGI_MergeWeightL2,SSI_AGI_MergeWeightL1+SSI_AGI_MergeWeightL2+SSI_AGI_MergeWeightL3*(SSI_AGI_MinorThruLanes-2))),V4*SSI_AGI_MajorThruLanes+W4*SSI_AGI_MinorThruLanes+X4*IF(SSI_AGI_MajorThruLanes=1,SSI_AGI_NM_MergeWeightL1,IF(SSI_AGI_MajorThruLanes=2,SSI_AGI_NM_MergeWeightL1+SSI_AGI_NM_MergeWeightL2,SSI_AGI_NM_MergeWeightL1+SSI_AGI_NM_MergeWeightL2+SSI_AGI_NM_MergeWeightL3*(SSI_AGI_MajorThruLanes-2)))+Y4*IF(SSI_AGI_MinorThruLanes=1,SSI_AGI_NM_MergeWeightL1,IF(SSI_AGI_MinorThruLanes=2,SSI_AGI_NM_MergeWeightL1+SSI_AGI_NM_MergeWeightL2,SSI_AGI_NM_MergeWeightL1+SSI_AGI_NM_MergeWeightL2+SSI_AGI_NM_MergeWeightL3*(SSI_AGI_MinorThruLanes-2)))))","v":4},null,{"$f":"IF(B4=\"Diverging\",\"\",SSI_AGI_VehSpeed_MjrThru)","v":45},{"$f":"IF(B4=\"Diverging\",1,1-((60-AB4)/60*0.1/0.15))","v":0.83333333333333326},null,null,null,{"$f":"IF(SSI_AGI_ConsiderNMComplexity=\"Yes\",1+AE4+AF4,1)","v":1},null,{"$f":"PRODUCT(Z4,T4,AC4,AG4)","v":1.6833333333333331},null,{"$f":"L4*R4*AI4","v":{"$error":"#VALUE!"}},null,null,{"$f":"IF(ISNUMBER(SEARCH(AN$3,$D4)),1,\"\")","v":""},{"$f":"IF(ISNUMBER(SEARCH(AO$3,$D4)),1,\"\")","v":""},"",1,"","","","","","","","","","","","",null,{"$f":"IF(ISNUMBER(SEARCH(BE$3,$G4)),1,\"\")","v":""},{"$f":"IF(ISNUMBER(SEARCH(BF$3,$G4)),1,\"\")","v":""},"","",1,"","","","",1,"","","","","",""]
[2,"Crossing - LT","WBT","MajT2","Major thru","SBL","MinL2","Signal near",null,{"$error":"#VALUE!"},{"$error":"#VALUE!"},{"$f":"PRODUCT(J5:K5)","v":{"$error":"#VALUE!"}},null,45,15,230,{"$f":"IF(B5=\"Nonmotorized\",\"\",SQRT(N5^2+O5^2-2*N5*O5*COS(RADIANS(P5)))/2)","v":27.918467333813421},6.9762185672148203E-2,null,{"$f":"SSI_AGI_ProtFactor","v":0.505},null,1,1,1,null,5.75,null,45,0.83333333333333326,null,null,null,1,null,2.4197916666666663,null,{"$f":"L5*R5*AI5","v":{"$error":"#VALUE!"}},null,null,{"$f":"IF(ISNUMBER(SEARCH(AN$3,$D5)),1,\"\")","v":""},"","",1,"","","","","","","","","","","","",null,{"$f":"IF(ISNUMBER(SEARCH(BE$3,$G5)),1,\"\")","v":""},"","","","","","","","","",1,"","","","",""]
[3,"Crossing - LT","WBT","MajT2","Major thru","EBL","MajL1","Signal far",null,{"$error":"#VALUE!"},{"$error":"#VALUE!"},{"$error":"#VALUE!"},null,45,25,230,32.001062958106225,0.11565690546238376,null,{"$f":"IF(SSI_AGI_MajorLTPhase=\"Protected/permitted\",SSI_AGI_ProtPermFactor,IF(SSI_AGI_MajorLTPhase=\"Protected\",SSI_AGI_ProtFactor,SSI_AGI_PermFactor))","v":0.92500000000000004},null,1,null,null,null,2,null,45,0.83333333333333326,null,null,null,1,null,1.5416666666666665,null,{"$error":"#VALUE!"},null,null,"","","",1,"","","","","","","","","","","","",null,"",1,"","","","","","","","","","","","","",""]
[4,"Crossing","WBT","MajT2","Major thru","NBT","MinT1","Signal far",null,{"$error":"#VALUE!"},{"$error":"#VALUE!"},{"$error":"#VALUE!"},null,45,25,90,25.739075352467502,5.1494149230103807E-2,null,{"$f":"SSI_AGI_ProtFactor","v":0.505},null,2,null,null,null,4,null,45,0.83333333333333326,null,null,null,1,null,1.6833333333333331,null,{"$error":"#VALUE!"},null,null,"","","",1,"","","","","","","","","","","","",null,"","","","","","",1,"","","","","","","","",""]
[5,"Crossing - LT","SBT, WBL","MinT2, MajL2","Signal near","NBL","MinL1","Signal far",null,{"$error":"#VALUE!"},{"$error":"#VALUE!"},{"$error":"#VALUE!"},null,15,25,230,18.248908921254063,1.4099039069818802E-2,null,{"$f":"IF(SSI_AGI_MinorLTPhase=\"Protected/permitted\",SSI_AGI_ProtPermFactor,IF(SSI_AGI_MinorLTPhase=\"Protected\",SSI_AGI_ProtFactor,SSI_AGI_PermFactor))","v":0.92500000000000004},null,1,1,1,null,5.75,null,45,0.83333333333333326,null,null,null,1,null,4.432291666666667,null,{"$error":"#VALUE!"},null,null,"","","","",1,"","","","",1,"","","","","","",null,"","","","","","","",1,"","","","","","","",""]
[6,"Crossing - LT","EBL","MajL1","Major left","NBL","MinL1","Signal near",null,{"$error":"#VALUE!"},{"$error":"#VALUE!"},{"$error":"#VALUE!"},null,20,15,230,15.895538413434787,8.3616736100371545E-3,null,{"$f":"SSI_AGI_ProtFactor","v":0.505},null,1,1,1,null,5.75,null,45,0.83333333333333326,null,null,null,1,null,2.4197916666666663,null,{"$error":"#VALUE!"},null,null,"",1,"","","","","","","","","","","","","","",null,"","","","","","","",1,"","","","","","","",""]
[7,"Crossing - LT","EBL","MajL1","Major left","SBL","MinL2","Signal near",null,{"$error":"#VALUE!"},{"$error":"#VALUE!"},{"$error":"#VALUE!"},null,20,15,230,15.895538413434787,8.3616736100371545E-3,null,{"$f":"SSI_AGI_ProtFactor","v":0.505},null,1,1,1,null,5.75,null,45,0.83333333333333326,null,null,null,1,null,2.4197916666666663,null,{"$error":"#VALUE!"},null,null,"",1,"","","","","","","","","","","","","","",null,"","","","","","","","","","",1,"","","","",""]
[8,"Crossing - LT","SBL","MinL2","Signal far","NBT","MinT1","Signal near",null,{"$error":"#VALUE!"},{"$error":"#VALUE!"},{"$error":"#VALUE!"},null,25,15,230,18.248908921254063,1.4099039069818802E-2,null,{"$f":"IF(SSI_AGI_MinorLTPhase=\"Protected/permitted\",SSI_AGI_ProtPermFactor,IF(SSI_AGI_MinorLTPhase=\"Protected\",SSI_AGI_ProtFactor,SSI_AGI_PermFactor))","v":0.92500000000000004},null,1,1,1,null,5.75,null,45,0.83333333333333326,null,null,null,1,null,4.432291666666667,null,{"$error":"#VALUE!"},null,null,"","","","","","","","","","",1,"","","","","",null,"","","","","","",1,"","","","","","","","",""]
[9,"Crossing - LT","EBL","MajL1","Major left","SBT, WBL","MinT2, MajL2","Signal far",null,{"$error":"#VALUE!"},{"$error":"#VALUE!"},{"$error":"#VALUE!"},null,20,25,230,20.419277715473552,2.1555284139167314E-2,null,{"$f":"SSI_AGI_ProtFactor","v":0.505},null,2,null,null,null,4,null,45,0.83333333333333326,null,null,null,1,null,1.6833333333333331,null,{"$error":"#VALUE!"},null,null,"",1,"","","","","","","","","","","","","","",null,"","","","",1,"","","","",1,"","","","","",""]
[10,"Crossing","EBT","MajT1","Major thru","SBT, WBL","MinT2, MajL2","Signal far",null,{"$error":"#VALUE!"},{"$error":"#VALUE!"},{"$error":"#VALUE!"},null,45,25,90,25.739075352467502,5.1494149230103807E-2,null,0.505,null,2,null,null,null,4,null,45,0.83333333333333326,null,null,null,1,null,1.6833333333333331,null,{"$error":"#VALUE!"},null,null,1,"","","","","","","","","","","","","","","",null,"","","","",1,"","","","",1,"","","","","",""]
[11,"Crossing - LT","EBT","MajT1","Major thru","NBL","MinL1","Signal near",null,{"$error":"#VALUE!"},{"$error":"#VALUE!"},{"$error":"#VALUE!"},null,45,15,230,27.918467333813421,6.9762185672148203E-2,null,0.505,null,1,1,1,null,5.75,null,45,0.83333333333333326,null,null,null,1,null,2.4197916666666663,null,{"$error":"#VALUE!"},null,null,1,"","","","","","","","","","","","","","","",null,"","","","","","","",1,"","","","","","","",""]
[12,"Crossing","EBT","MajT1","Major thru","NBT","MinT1","Signal near",null,{"$error":"#VALUE!"},{"$error":"#VALUE!"},{"$error":"#VALUE!"},null,45,15,90,23.717082451262844,3.7884541771032863E-2,null,0.505,null,2,null,null,null,4,null,45,0.83333333333333326,null,null,null,1,null,1.6833333333333331,null,{"$error":"#VALUE!"},null,null,1,"","","","","","","","","","","","","","","",null,"","","","","","",1,"","","","","","","","",""]
[13,"Crossing - LT","WBL","MajL2","Signal near","NBT, EBL","MinT1, MajL1","Minor thru",null,{"$error":"#VALUE!"},{"$error":"#VALUE!"},{"$error":"#VALUE!"},null,15,29.75,230,20.516764131102867,2.1946207825979773E-2,null,0.505,null,null,1,null,1,3.75,null,{"$f":"IF(B16=\"Diverging\",\"\",SSI_AGI_VehSpeed_MnrThru)","v":29.75},0.66388888888888886,null,null,null,1,null,1.2572395833333334,null,{"$error":"#VALUE!"},null,null,"","","","",1,"","","","","","","","","","","",null,"",1,"","","","",1,"","","","","","","","",""]
[14,"Merging","WBT","MajT2","Major thru","SBR","MinR2","Signal near",null,{"$error":"#VALUE!"},{"$error":"#VALUE!"},{"$error":"#VALUE!"},null,45,15,45,17.995873453365363,1.3373938286506865E-2,null,0.505,null,null,null,1,null,1.75,null,{"$f":"IF(B17=\"Diverging\",\"\",SSI_AGI_VehSpeed_MjrThru)","v":45},0.83333333333333326,null,null,null,1,null,0.73645833333333333,null,{"$error":"#VALUE!"},null,null,"","","",1,"","","","","","","","","","","","",null,"","","","","","","","","","","",1,"","","",""]
[15,"Merging","WBT","MajT2","Major thru","NBL","MinL1","Signal far",null,{"$error":"#VALUE!"},{"$error":"#VALUE!"},{"$error":"#VALUE!"},null,45,25,45,16.271214938736659,9.1348815406664795E-3,null,0.505,null,1,1,1,null,5.75,null,45,0.83333333333333326,null,null,null,1,null,2.4197916666666663,null,{"$error":"#VALUE!"},null,null,"","","",1,"","","","","","","","","","","","",null,"","","","","","","",1,"","","","","","","",""]
[16,"Merging","EBR","MajR1","Major right","SBT, WBL","MinT2, MajL2","Signal far",null,{"$error":"#VALUE!"},{"$error":"#VALUE!"},{"$error":"#VALUE!"},null,15,25,45,8.9396576292116645,9.4329959592674944E-4,null,0.505,null,2,null,null,null,4,null,45,0.83333333333333326,null,null,null,1,null,1.6833333333333331,null,{"$error":"#VALUE!"},null,null,"","",1,"","","","","","","","","","","","","",null,"","","","",1,"","","","",1,"","","","","",""]
[17,"Merging","EBT","MajT1","Major thru","NBR","MinR1","Signal near",null,{"$error":"#VALUE!"},{"$error":"#VALUE!"},{"$error":"#VALUE!"},null,45,15,45,17.995873453365363,1.3373938286506865E-2,null,0.505,null,null,null,1,null,1.75,null,45,0.83333333333333326,null,null,null,1,null,0.73645833333333333,null,{"$error":"#VALUE!"},null,null,1,"","","","","","","","","","","","","","","",null,"","","","","","","","",1,"","","","","","",""]
[18,"Merging","EBT","MajT1","Major thru","SBL","MinL2","Signal far",null,{"$error":"#VALUE!"},{"$error":"#VALUE!"},{"$error":"#VALUE!"},null,45,25,45,16.271214938736659,9.1348815406664795E-3,null,0.505,null,1,1,1,null,5.75,null,45,0.83333333333333326,null,null,null,1,null,2.4197916666666663,null,{"$error":"#VALUE!"},null,null,1,"","","","","","","","","","","","","","","",null,"","","","","","","","","","",1,"","","","",""]
[19,"Merging","EBL","MajL1","Major left","NBT","MinT1","Signal far",null,{"$error":"#VALUE!"},{"$error":"#VALUE!"},{"$error":"#VALUE!"},null,20,25,45,8.9147801264732891,9.333798723087925E-4,null,0.505,null,2,null,null,null,4,null,45,0.83333333333333326,null,null,null,1,null,1.6833333333333331,null,{"$error":"#VALUE!"},null,null,"",1,"","","","","","","","","","","","","","",null,"","","","","","",1,"","","","","","","","",""]
[20,"Merging","WBL","MajL2","Signal far","SBT, SBR, SBL","MinT2, MinR2, MinL2","Minor thru",null,{"$error":"#VALUE!"},{"$error":"#VALUE!"},{"$error":"#VALUE!"},null,25,29.75,45,10.703284110321123,1.8675169807025405E-3,null,0.505,null,null,1,null,1,3.75,null,{"$f":"IF(B23=\"Diverging\",\"\",SSI_AGI_VehSpeed_MnrThru)","v":29.75},0.66388888888888886,null,null,null,1,null,1.2572395833333334,null,{"$error":"#VALUE!"},null,null,"","","","",1,"","","","","","","","","","","",null,"","","","","","","","","",1,1,1,"","","",""]
[21,"Merging","WBR","MajR2","Signal near","NBT, EBL","MinT1, MajL1","Minor thru",null,{"$error":"#VALUE!"},{"$error":"#VALUE!"},{"$error":"#VALUE!"},null,15,29.75,45,10.942688172828081,2.0309556354165454E-3,null,0.505,null,null,null,null,1,1.75,null,{"$f":"IF(B24=\"Diverging\",\"\",SSI_AGI_VehSpeed_MnrThru)","v":29.75},0.66388888888888886,null,null,null,1,null,0.58671180555555558,null,{"$error":"#VALUE!"},null,null,"","","","","",1,"","","","","","","","","","",null,"",1,"","","","",1,"","","","","","","","",""]
[22,"Diverging","SBT, WBL","MinT2, MajL2","Signal near","SBR","MinR2","Signal near",null,{"$error":"#VALUE!"},{"$error":"#VALUE!"},{"$error":"#VALUE!"},null,15,15,10,1.3073361412148754,6.4061388075216071E-7,null,1,null,null,null,null,null,1,null,{"$f":"IF(B25=\"Diverging\",\"\",SSI_AGI_VehSpeed_MjrThru)","v":""},1,null,null,null,1,null,1,null,{"$error":"#VALUE!"},null,null,"","","","",1,"","","","",1,"","","","","","",null,"","","","","","","","","","","",1,"","","",""]
[23,"Diverging","SBT, WBL","MinT2, MajL2","Signal near","SBL","MinL2","Signal near",null,{"$error":"#VALUE!"},{"$error":"#VALUE!"},{"$error":"#VALUE!"},null,15,15,10,1.3073361412148754,6.4061388075216071E-7,null,1,null,null,null,null,null,1,null,"",1,null,null,null,1,null,1,null,{"$error":"#VALUE!"},null,null,"","","","",1,"","","","",1,"","","","","","",null,"","","","","","","","","","",1,"","","","",""]
[24,"Diverging","EBT","MajT1","Major thru","EBL","MajL1","Major left",null,{"$error":"#VALUE!"},{"$error":"#VALUE!"},{"$error":"#VALUE!"},null,45,20,10,12.77053292327718,3.6481988362114144E-3,null,1,null,null,null,null,null,1,null,"",1,null,null,null,1,null,1,null,{"$error":"#VALUE!"},null,null,1,"","","","","","","","","","","","","","","",null,"",1,"","","","","","","","","","","","","",""]
[25,"Diverging","EBT","MajT1","Major thru","EBR","MajR1","Major right",null,{"$error":"#VALUE!"},{"$error":"#VALUE!"},{"$error":"#VALUE!"},null,45,15,10,15.169950011729762,7.0056226631585675E-3,null,1,null,null,null,null,null,1,null,"",1,null,null,null,1,null,1,null,{"$error":"#VALUE!"},null,null,1,"","","","","","","","","","","","","","","",null,"","",1,"","","","","","","","","","","","",""]
[26,"Diverging","NBT","MinT1","Signal near","NBL","MinL1","Signal near",null,{"$error":"#VALUE!"},{"$error":"#VALUE!"},{"$error":"#VALUE!"},null,15,15,10,1.3073361412148754,6.4061388075216071E-7,null,1,null,null,null,null,null,1,null,"",1,null,null,null,1,null,1,null,{"$error":"#VALUE!"},null,null,"","","","","","",1,"","","","","","","","","",null,"","","","","","","",1,"","","","","","","",""]
[27,"Diverging","NBT","MinT1","Signal near","NBR","MinR1","Signal near",null,{"$error":"#VALUE!"},{"$error":"#VALUE!"},{"$error":"#VALUE!"},null,15,15,10,1.3073361412148754,6.4061388075216071E-7,null,1,null,null,null,null,null,1,null,"",1,null,null,null,1,null,1,null,{"$error":"#VALUE!"},null,null,"","","","","","",1,"","","","","","","","","",null,"","","","","","","","",1,"","","","","","",""]
[28,"Diverging","WBT","MajT2","Major thru","WBL, WBR","MajL2, MajR2","Major right",null,{"$error":"#VALUE!"},{"$error":"#VALUE!"},{"$error":"#VALUE!"},null,45,15,10,15.169950011729762,7.0056226631585675E-3,null,1,null,null,null,null,null,1,null,"",1,null,null,null,1,null,1,null,{"$error":"#VALUE!"},null,null,"","","",1,"","","","","","","","","","","","",null,"","","","",1,1,"","","","","","","","","",""]
[29,"Diverging","WBL","MajL2","Signal near","WBR","MajR2","Signal near",null,{"$error":"#VALUE!"},{"$error":"#VALUE!"},{"$error":"#VALUE!"},null,15,15,10,1.3073361412148754,6.4061388075216071E-7,null,1,null,null,null,null,null,1,null,"",1,null,null,null,1,null,1,null,{"$error":"#VALUE!"},null,null,"","","","",1,"","","","","","","","","","","",null,"","","","","",1,"","","","","","","","","",""]
[30,"Nonmotorized",null,"MinNM2","Nonmotorized","SBR","MinR2","Signal near",null,{"$error":"#VALUE!"},{"$error":"#VALUE!"},{"$error":"#VALUE!"},null,0,15,"","",0.1205004039155782,null,{"$f":"SSI_AGI_ProtFactor","v":0.505},null,null,2,1,null,5.75,null,45,0.83333333333333326,null,null,null,1,null,2.4197916666666663,null,{"$error":"#VALUE!"},null,null,"","","","","","","","","","","","","","","",1,null,"","","","","","","","","","","",1,"","","",""]
[31,"Nonmotorized",null,"MinNM2","Nonmotorized","SBT, WBL","MinT2, MajL2","Signal near",null,{"$error":"#VALUE!"},{"$error":"#VALUE!"},{"$error":"#VALUE!"},null,0,15,"","",0.1205004039155782,null,{"$f":"SSI_AGI_ProtFactor","v":0.505},null,null,2,1,null,5.75,null,45,0.83333333333333326,null,null,null,1,null,2.4197916666666663,null,{"$error":"#VALUE!"},null,null,"","","","","","","","","","","","","","","",1,null,"","","","",1,"","","","",1,"","","","","",""]
[32,"Nonmotorized",null,"MinNM2","Nonmotorized","SBL","MinL2","Signal near",null,{"$error":"#VALUE!"},{"$error":"#VALUE!"},{"$error":"#VALUE!"},null,0,15,"","",0.1205004039155782,null,{"$f":"SSI_AGI_ProtFactor","v":0.505},null,null,2,1,null,5.75,null,45,0.83333333333333326,null,null,null,1,null,2.4197916666666663,null,{"$error":"#VALUE!"},null,null,{"$f":"IF(ISNUMBER(SEARCH(AN$3,$D35)),1,\"\")","v":""},"","","","","","","","","","","","","","",1,null,{"$f":"IF(ISNUMBER(SEARCH(BE$3,$G35)),1,\"\")","v":""},"","","","","","","","","",1,"","","","",""]
[33,"Nonmotorized",null,"MinNM2","Nonmotorized","EBL","MajL1","Major left",null,{"$error":"#VALUE!"},{"$error":"#VALUE!"},{"$error":"#VALUE!"},null,{"$f":"VLOOKUP(E36,SSI_AGI_Range_VehSpeed,5,FALSE)","v":0},{"$f":"VLOOKUP(H36,SSI_AGI_Range_VehSpeed,5,FALSE)","v":20},{"$f":"IF(B36=\"Nonmotorized\",\"\",VLOOKUP(B36,SSI_AGI_Range_CollAngles,5,FALSE))","v":""},{"$f":"IF(B36=\"Nonmotorized\",\"\",SQRT(N36^2+O36^2-2*N36*O36*COS(RADIANS(P36)))/2)","v":""},{"$f":"IF(B36=\"Nonmotorized\",1/(1+EXP(3.8432-0.1237*O36)),(Q36/SSI_AGI_RegAlpha)^SSI_AGI_RegK+(Q36/SSI_AGI_RegAlpha)^SSI_AGI_RegK-((Q36/SSI_AGI_RegAlpha)^SSI_AGI_RegK)*((Q36/SSI_AGI_RegAlpha)^SSI_AGI_RegK))","v":0.20274912921655375},null,{"$f":"IF(SSI_AGI_MajorLTPhase=\"Protected/permitted\",SSI_AGI_ProtPermFactor,IF(SSI_AGI_MajorLTPhase=\"Protected\",SSI_AGI_ProtFactor,SSI_AGI_PermFactor))","v":0.92500000000000004},null,null,2,1,null,{"$f":"MAX(1,IF(B36<>\"Pedestrian\",V36*SSI_AGI_MajorThruLanes+W36*SSI_AGI_MinorThruLanes+X36*IF(SSI_AGI_MajorThruLanes=1,SSI_AGI_MergeWeightL1,IF(SSI_AGI_MajorThruLanes=2,SSI_AGI_MergeWeightL1+SSI_AGI_MergeWeightL2,SSI_AGI_MergeWeightL1+SSI_AGI_MergeWeightL2+SSI_AGI_MergeWeightL3*(SSI_AGI_MajorThruLanes-2)))+Y36*IF(SSI_AGI_MinorThruLanes=1,SSI_AGI_MergeWeightL1,IF(SSI_AGI_MinorThruLanes=2,SSI_AGI_MergeWeightL1+SSI_AGI_MergeWeightL2,SSI_AGI_MergeWeightL1+SSI_AGI_MergeWeightL2+SSI_AGI_MergeWeightL3*(SSI_AGI_MinorThruLanes-2))),V36*SSI_AGI_MajorThruLanes+W36*SSI_AGI_MinorThruLanes+X36*IF(SSI_AGI_MajorThruLanes=1,SSI_AGI_NM_MergeWeightL1,IF(SSI_AGI_MajorThruLanes=2,SSI_AGI_NM_MergeWeightL1+SSI_AGI_NM_MergeWeightL2,SSI_AGI_NM_MergeWeightL1+SSI_AGI_NM_MergeWeightL2+SSI_AGI_NM_MergeWeightL3*(SSI_AGI_MajorThruLanes-2)))+Y36*IF(SSI_AGI_MinorThruLanes=1,SSI_AGI_NM_MergeWeightL1,IF(SSI_AGI_MinorThruLanes=2,SSI_AGI_NM_MergeWeightL1+SSI_AGI_NM_MergeWeightL2,SSI_AGI_NM_MergeWeightL1+SSI_AGI_NM_MergeWeightL2+SSI_AGI_NM_MergeWeightL3*(SSI_AGI_MinorThruLanes-2)))))","v":5.75},null,45,0.83333333333333326,null,null,null,{"$f":"IF(SSI_AGI_ConsiderNMComplexity=\"Yes\",1+AE36+AF36,1)","v":1},null,4.432291666666667,null,{"$error":"#VALUE!"},null,null,"","","","","","","","","","","","","","","",1,null,"",1,"","","","","","","","","","","","","",""]
[34,"Nonmotorized",null,"MinNM2","Nonmotorized","NBT","MinT1","Signal far",null,{"$error":"#VALUE!"},{"$error":"#VALUE!"},{"$f":"PRODUCT(J37:K37)","v":{"$error":"#VALUE!"}},null,0,25,"","",0.32066879346345062,null,{"$f":"SSI_AGI_ProtFactor","v":0.505},null,null,2,1,null,5.75,null,45,0.83333333333333326,null,null,null,1,null,2.4197916666666663,null,{"$error":"#VALUE!"},null,null,"","","","","","","","","","","","","","","",1,null,"","","","","","",1,"","","","","","","","",""]
[35,"Nonmotorized",null,"MajNM1","Nonmotorized","SBR","MinR2","Signal near",null,{"$error":"#VALUE!"},{"$error":"#VALUE!"},{"$error":"#VALUE!"},null,0,15,"","",0.1205004039155782,null,{"$f":"SSI_AGI_ProtFactor","v":0.505},null,2,null,null,2,7.5,null,45,0.83333333333333326,null,null,null,1,null,3.15625,null,{"$error":"#VALUE!"},null,null,"","","","","","","","","","","","",1,"","","",null,"","","","","","","","","","","",1,"","","",""]
[36,"Nonmotorized",null,"MajNM1","Nonmotorized","WBT","MajT2","Major thru",null,{"$error":"#VALUE!"},{"$error":"#VALUE!"},{"$error":"#VALUE!"},null,0,45,"","",0.84855340903216459,null,{"$f":"SSI_AGI_ProtFactor","v":0.505},null,2,null,null,2,7.5,null,45,0.83333333333333326,null,null,null,1,null,3.15625,null,{"$error":"#VALUE!"},null,null,"","","","","","","","","","","","",1,"","","",null,"","","",1,"","","","","","","","","","","",""]
[37,"Nonmotorized",null,"MajNM1","Nonmotorized","NBL","MinL1","Signal far",null,{"$error":"#VALUE!"},{"$error":"#VALUE!"},{"$error":"#VALUE!"},null,0,25,"","",0.32066879346345062,null,{"$f":"IF(SSI_AGI_MinorLTPhase=\"Protected/permitted\",SSI_AGI_ProtPermFactor,IF(SSI_AGI_MinorLTPhase=\"Protected\",SSI_AGI_ProtFactor,SSI_AGI_PermFactor))","v":0.92500000000000004},null,2,null,null,2,7.5,null,45,0.83333333333333326,null,null,null,1,null,5.7812499999999991,null,{"$error":"#VALUE!"},null,null,"","","","","","","","","","","","",1,"","","",null,"","","","","","","",1,"","","","","","","",""]
[38,"Nonmotorized",null,"MajNM1","Nonmotorized","EBL","MajL1","Major left",null,{"$error":"#VALUE!"},{"$error":"#VALUE!"},{"$error":"#VALUE!"},null,0,20,"","",0.20274912921655375,null,{"$f":"SSI_AGI_ProtFactor","v":0.505},null,2,null,null,2,7.5,null,45,0.83333333333333326,null,null,null,1,null,3.15625,null,{"$error":"#VALUE!"},null,null,"","","","","","","","","","","","",1,"","","",null,"",1,"","","","","","","","","","","","","",""]
[39,"Nonmotorized",null,"MajNM1","Nonmotorized","EBT","MajT1","Major thru",null,{"$error":"#VALUE!"},{"$error":"#VALUE!"},{"$error":"#VALUE!"},null,0,45,"","",0.84855340903216459,null,0.505,null,2,null,null,2,7.5,null,45,0.83333333333333326,null,null,null,1,null,3.15625,null,{"$error":"#VALUE!"},null,null,"","","","","","","","","","","","",1,"","","",null,1,"","","","","","","","","","","","","","",""]
[40,"Nonmotorized",null,"MajNM1","Nonmotorized","EBR","MajR1","Major right",null,{"$error":"#VALUE!"},{"$error":"#VALUE!"},{"$error":"#VALUE!"},null,0,15,"","",0.1205004039155782,null,0.505,null,2,null,null,2,7.5,null,45,0.83333333333333326,null,null,null,1,null,3.15625,null,{"$error":"#VALUE!"},null,null,"","","","","","","","","","","","",1,"","","",null,"","",1,"","","","","","","","","","","","",""]
[41,"Nonmotorized",null,"MinNM1","Nonmotorized","EBR","MajR1","Major right",null,{"$error":"#VALUE!"},{"$error":"#VALUE!"},{"$error":"#VALUE!"},null,0,15,"","",0.1205004039155782,null,0.505,null,null,2,1,null,5.75,null,45,0.83333333333333326,null,null,null,1,null,2.4197916666666663,null,{"$error":"#VALUE!"},null,null,"","","","","","","","","","","","","","",1,"",null,"","",1,"","","","","","","","","","","","",""]
[42,"Nonmotorized",null,"MinNM1","Nonmotorized","SBT, WBL","MinT2, MajL2","Signal far",null,{"$error":"#VALUE!"},{"$error":"#VALUE!"},{"$error":"#VALUE!"},null,0,25,"","",0.32066879346345062,null,0.505,null,null,2,1,null,5.75,null,45,0.83333333333333326,null,null,null,1,null,2.4197916666666663,null,{"$error":"#VALUE!"},null,null,"","","","","","","","","","","","","","",1,"",null,"","","","",1,"","","","",1,"","","","","",""]
[43,"Nonmotorized",null,"MinNM1","Nonmotorized","NBL","MinL1","Signal near",null,{"$error":"#VALUE!"},{"$error":"#VALUE!"},{"$error":"#VALUE!"},null,0,15,"","",0.1205004039155782,null,0.505,null,null,2,1,null,5.75,null,45,0.83333333333333326,null,null,null,1,null,2.4197916666666663,null,{"$error":"#VALUE!"},null,null,"","","","","","","","","","","","","","",1,"",null,"","","","","","","",1,"","","","","","","",""]
[44,"Nonmotorized",null,"MinNM1","Nonmotorized","NBT","MinT1","Signal near",null,{"$error":"#VALUE!"},{"$error":"#VALUE!"},{"$error":"#VALUE!"},null,0,15,"","",0.1205004039155782,null,0.505,null,null,2,1,null,5.75,null,45,0.83333333333333326,null,null,null,1,null,2.4197916666666663,null,{"$error":"#VALUE!"},null,null,"","","","","","","","","","","","","","",1,"",null,"","","","","","",1,"","","","","","","","",""]
[45,"Nonmotorized",null,"MinNM1","Nonmotorized","NBR","MinR1","Signal near",null,{"$error":"#VALUE!"},{"$error":"#VALUE!"},{"$error":"#VALUE!"},null,0,15,"","",0.1205004039155782,null,0.505,null,null,2,1,null,5.75,null,45,0.83333333333333326,null,null,null,1,null,2.4197916666666663,null,{"$error":"#VALUE!"},null,null,"","","","","","","","","","","","","","",1,"",null,"","","","","","","","",1,"","","","","","",""]
[46,"Nonmotorized",null,"MajNM2","Nonmotorized","NBR","MinR1","Signal near",null,{"$error":"#VALUE!"},{"$error":"#VALUE!"},{"$error":"#VALUE!"},null,0,15,"","",0.1205004039155782,null,0.505,null,2,null,null,2,7.5,null,45,0.83333333333333326,null,null,null,1,null,3.15625,null,{"$error":"#VALUE!"},null,null,"","","","","","","","","","","","","",1,"","",null,"","","","","","","","",1,"","","","","","",""]
[47,"Nonmotorized",null,"MajNM2","Nonmotorized","EBT","MajT1","Major thru",null,{"$error":"#VALUE!"},{"$error":"#VALUE!"},{"$error":"#VALUE!"},null,0,45,"","",0.84855340903216459,null,0.505,null,2,null,null,2,7.5,null,45,0.83333333333333326,null,null,null,1,null,3.15625,null,{"$error":"#VALUE!"},null,null,"","","","","","","","","","","","","",1,"",{"$f":"IF(ISNUMBER(SEARCH(BC$3,$D50)),1,\"\")","v":""},null,1,"","","","","","","","","","","","","","",{"$f":"IF(ISNUMBER(SEARCH(BT$3,$G50)),1,\"\")","v":""}]
[48,"Nonmotorized",null,"MajNM2","Nonmotorized","SBL","MinL2","Signal far",null,{"$error":"#VALUE!"},{"$error":"#VALUE!"},{"$error":"#VALUE!"},null,0,25,"","",0.32066879346345062,null,{"$f":"IF(SSI_AGI_MinorLTPhase=\"Protected/permitted\",SSI_AGI_ProtPermFactor,IF(SSI_AGI_MinorLTPhase=\"Protected\",SSI_AGI_ProtFactor,SSI_AGI_PermFactor))","v":0.92500000000000004},null,2,null,null,2,7.5,null,45,0.83333333333333326,null,null,null,1,null,5.7812499999999991,null,{"$error":"#VALUE!"},null,null,{"$f":"IF(ISNUMBER(SEARCH(AN$3,$D51)),1,\"\")","v":""},"","","","","","","","","","","","",1,"","",null,{"$f":"IF(ISNUMBER(SEARCH(BE$3,$G51)),1,\"\")","v":""},"","","","","","","","","",1,"","","","",""]
[49,"Nonmotorized",null,"MajNM2","Nonmotorized","WBT","MajT2","Major thru",null,{"$error":"#VALUE!"},{"$error":"#VALUE!"},{"$error":"#VALUE!"},null,0,45,"","",0.84855340903216459,null,{"$f":"SSI_AGI_ProtFactor","v":0.505},null,2,null,null,2,7.5,null,45,0.83333333333333326,null,null,null,1,null,3.15625,null,{"$error":"#VALUE!"},null,null,"","","","","","","","","","","","","",1,"","",null,"","","",1,"","","","","","","","","","","",""]
[50,"Nonmotorized",null,"MajNM2","Nonmotorized","WBL","MajL2","Signal near",null,{"$error":"#VALUE!"},{"$error":"#VALUE!"},{"$error":"#VALUE!"},null,0,15,"","",0.1205004039155782,null,{"$f":"SSI_AGI_ProtFactor","v":0.505},null,null,1,null,null,2,null,{"$f":"IF(B53=\"Diverging\",\"\",SSI_AGI_VehSpeed_MnrThru)","v":29.75},0.66388888888888886,null,null,null,1,null,0.67052777777777772,null,{"$error":"#VALUE!"},null,null,"","","","","","","","","","","","","",1,"","",null,"","","","",1,"","","","","","","","","","",""]
[51,"Nonmotorized",null,"MajNM2","Nonmotorized","WBR","MajR2","Signal near",null,{"$error":"#VALUE!"},{"$error":"#VALUE!"},{"$error":"#VALUE!"},null,0,15,"","",0.1205004039155782,null,{"$f":"SSI_AGI_ProtFactor","v":0.505},null,null,1,null,null,2,null,{"$f":"IF(B54=\"Diverging\",\"\",SSI_AGI_VehSpeed_MnrThru)","v":29.75},0.66388888888888886,null,null,null,1,null,0.67052777777777772,null,{"$error":"#VALUE!"},null,null,"","","","","","","","","","","","","",1,"","",null,"","","","","",1,"","","","","","","","","",""]
[52,"Nonmotorized",null,"MinNM2","Nonmotorized","WBL, WBR","MajL2, MajR2","Major right",null,{"$error":"#VALUE!"},{"$error":"#VALUE!"},{"$error":"#VALUE!"},null,0,15,"","",0.1205004039155782,null,{"$f":"SSI_AGI_ProtFactor","v":0.505},null,null,null,1,null,1.75,null,{"$f":"IF(B55=\"Diverging\",\"\",SSI_AGI_VehSpeed_MjrThru)","v":45},0.83333333333333326,null,null,null,1,null,0.73645833333333333,null,{"$error":"#VALUE!"},null,null,"","","","","","","","","","","","","","","",1,null,"","","","",1,1,"","","","","","","","","",""]
[null,null,null,null,null,null,null,null,null,null,null,null,null,null,null,null,null,null,null,null,null,null,null,null,null,null,null,null,null,null,null,null,null,null,null,null,null,null,"O",{"$f":"'SSI Inputs'!$D$26","v":{"$error":"#VALUE!"}},{"$f":"'SSI Inputs'!$D$27","v":{"$error":"#VALUE!"}},{"$f":"'SSI Inputs'!$D$28","v":{"$error":"#VALUE!"}},{"$f":"'SSI Inputs'!$D$30","v":{"$error":"#VALUE!"}},{"$f":"'SSI Inputs'!$D$31","v":{"$error":"#VALUE!"}},{"$f":"'SSI Inputs'!$D$32","v":{"$error":"#VALUE!"}},{"$f":"'SSI Inputs'!$D$34","v":{"$error":"#VALUE!"}},{"$f":"'SSI Inputs'!$D$35","v":{"$error":"#VALUE!"}},{"$f":"'SSI Inputs'!$D$36","v":{"$error":"#VALUE!"}},{"$f":"'SSI Inputs'!$D$38","v":{"$error":"#VALUE!"}},{"$f":"'SSI Inputs'!$D$39","v":{"$error":"#VALUE!"}},{"$f":"'SSI Inputs'!$D$40","v":{"$error":"#VALUE!"}},{"$f":"'SSI Inputs'!$Q$18","v":175},{"$f":"'SSI Inputs'!$Q$19","v":175},{"$f":"'SSI Inputs'!$Q$20","v":175},{"$f":"'SSI Inputs'!$Q$21","v":175},"O",{"$f":"'SSI Inputs'!$D$26","v":{"$error":"#VALUE!"}},{"$f":"'SSI Inputs'!$D$27","v":{"$error":"#VALUE!"}},{"$f":"'SSI Inputs'!$D$28","v":{"$error":"#VALUE!"}},{"$f":"'SSI Inputs'!$D$30","v":{"$error":"#VALUE!"}},{"$f":"'SSI Inputs'!$D$31","v":{"$error":"#VALUE!"}},{"$f":"'SSI Inputs'!$D$32","v":{"$error":"#VALUE!"}},{"$f":"'SSI Inputs'!$D$34","v":{"$error":"#VALUE!"}},{"$f":"'SSI Inputs'!$D$35","v":{"$error":"#VALUE!"}},{"$f":"'SSI Inputs'!$D$36","v":{"$error":"#VALUE!"}},{"$f":"'SSI Inputs'!$D$38","v":{"$error":"#VALUE!"}},{"$f":"'SSI Inputs'!$D$39","v":{"$error":"#VALUE!"}},{"$f":"'SSI Inputs'!$D$40","v":{"$error":"#VALUE!"}},{"$f":"'SSI Inputs'!$Q$18","v":175},{"$f":"'SSI Inputs'!$Q$19","v":175},{"$f":"'SSI Inputs'!$Q$20","v":175},{"$f":"'SSI Inputs'!$Q$21","v":175}]
[null,null,null,null,null,null,null,null,null,null,null,null,null,null,null,null,null,null,null,null,null,null,null,null,null,null,null,null,null,null,null,null,null,null,null,null,null,null,"D",{"$f":"'SSI Inputs'!$E$26","v":{"$error":"#VALUE!"}},{"$f":"'SSI Inputs'!$E$27","v":{"$error":"#VALUE!"}},{"$f":"'SSI Inputs'!$E$28","v":{"$error":"#VALUE!"}},{"$f":"'SSI Inputs'!$E$30","v":{"$error":"#VALUE!"}},{"$f":"'SSI Inputs'!$E$31","v":{"$error":"#VALUE!"}},{"$f":"'SSI Inputs'!$E$32","v":{"$error":"#VALUE!"}},{"$f":"'SSI Inputs'!$E$34","v":{"$error":"#VALUE!"}},{"$f":"'SSI Inputs'!$E$35","v":{"$error":"#VALUE!"}},{"$f":"'SSI Inputs'!$E$36","v":{"$error":"#VALUE!"}},{"$f":"'SSI Inputs'!$E$38","v":{"$error":"#VALUE!"}},{"$f":"'SSI Inputs'!$E$39","v":{"$error":"#VALUE!"}},{"$f":"'SSI Inputs'!$E$40","v":{"$error":"#VALUE!"}},{"$f":"'SSI Inputs'!$R$18","v":175},{"$f":"'SSI Inputs'!$R$19","v":175},{"$f":"'SSI Inputs'!$R$20","v":175},{"$f":"'SSI Inputs'!$R$21","v":175},"D",{"$f":"'SSI Inputs'!$E$26","v":{"$error":"#VALUE!"}},{"$f":"'SSI Inputs'!$E$27","v":{"$error":"#VALUE!"}},{"$f":"'SSI Inputs'!$E$28","v":{"$error":"#VALUE!"}},{"$f":"'SSI Inputs'!$E$30","v":{"$error":"#VALUE!"}},{"$f":"'SSI Inputs'!$E$31","v":{"$error":"#VALUE!"}},{"$f":"'SSI Inputs'!$E$32","v":{"$error":"#VALUE!"}},{"$f":"'SSI Inputs'!$E$34","v":{"$error":"#VALUE!"}},{"$f":"'SSI Inputs'!$E$35","v":{"$error":"#VALUE!"}},{"$f":"'SSI Inputs'!$E$36","v":{"$error":"#VALUE!"}},{"$f":"'SSI Inputs'!$E$38","v":{"$error":"#VALUE!"}},{"$f":"'SSI Inputs'!$E$39","v":{"$error":"#VALUE!"}},{"$f":"'SSI Inputs'!$E$40","v":{"$error":"#VALUE!"}},{"$f":"'SSI Inputs'!$R$18","v":175},{"$f":"'SSI Inputs'!$R$19","v":175},{"$f":"'SSI Inputs'!$R$20","v":175},{"$f":"'SSI Inputs'!$R$21","v":175}]
[]
[]
[]
[]
[]
[]
[]
[]
[]
[]
[]
[]
[]
[]
[]
[]
[]
[]
[]
[]
[]
[]
[]
[]
[]
[]
[]
[]
[]
[]
[]
[]
[]
[]
[]
[]
[]
[]
[]
[]
[]
[]
[]
[null,null,null,null,null,null,null,null,null,"Exposure",null,null,null,null,null,null,null,null,null,null,null,null,null,null,null,null,null,null,null,null,null,null,null,null,null,null,"Exposure-Severity-Complexity Product"]
[null,null,null,null,null,null,null,null,null,"Q1","Q2","I"]
[null,null,null,null,null,null,null,null,null,{"$f":"SUMPRODUCT($AN4:$BC4,$AN$57:$BC$57)","v":{"$error":"#VALUE!"}},{"$f":"SUMPRODUCT($BE4:$BT4,$BE$57:$BT$57)","v":{"$error":"#VALUE!"}},{"$f":"PRODUCT(J103:K103)","v":{"$error":"#VALUE!"}},null,null,null,null,null,null,null,null,null,null,null,null,null,null,null,null,null,null,null,null,null,null,null,null,{"$f":"L103*R4*AI4","v":{"$error":"#VALUE!"}}]
[null,null,null,null,null,null,null,null,null,{"$f":"SUMPRODUCT($AN5:$BC5,$AN$57:$BC$57)","v":{"$error":"#VALUE!"}},{"$f":"SUMPRODUCT($BE5:$BT5,$BE$57:$BT$57)","v":{"$error":"#VALUE!"}},{"$f":"PRODUCT(J104:K104)","v":{"$error":"#VALUE!"}},null,null,null,null,null,null,null,null,null,null,null,null,null,null,null,null,null,null,null,null,null,null,null,null,{"$f":"L104*R5*AI5","v":{"$error":"#VALUE!"}}]
[null,null,null,null,null,null,null,null,null,{"$error":"#VALUE!"},{"$error":"#VALUE!"},{"$error":"#VALUE!"},null,null,null,null,null,null,null,null,null,null,null,null,null,null,null,null,null,null,null,null,null,null,null,null,{"$error":"#VALUE!"}]
[null,null,null,null,null,null,null,null,null,{"$error":"#VALUE!"},{"$error":"#VALUE!"},{"$error":"#VALUE!"},null,null,null,null,null,null,null,null,null,null,null,null,null,null,null,null,null,null,null,null,null,null,null,null,{"$error":"#VALUE!"}]
[null,null,null,null,null,null,null,null,null,{"$error":"#VALUE!"},{"$error":"#VALUE!"},{"$error":"#VALUE!"},null,null,null,null,null,null,null,null,null,null,null,null,null,null,null,null,null,null,null,null,null,null,null,null,{"$error":"#VALUE!"}]
[null,null,null,null,null,null,null,null,null,{"$error":"#VALUE!"},{"$error":"#VALUE!"},{"$error":"#VALUE!"},null,null,null,null,null,null,null,null,null,null,null,null,null,null,null,null,null,null,null,null,null,null,null,null,{"$error":"#VALUE!"}]
[null,null,null,null,null,null,null,null,null,{"$error":"#VALUE!"},{"$error":"#VALUE!"},{"$error":"#VALUE!"},null,null,null,null,null,null,null,null,null,null,null,null,null,null,null,null,null,null,null,null,null,null,null,null,{"$error":"#VALUE!"}]
[null,null,null,null,null,null,null,null,null,{"$error":"#VALUE!"},{"$error":"#VALUE!"},{"$error":"#VALUE!"},null,null,null,null,null,null,null,null,null,null,null,null,null,null,null,null,null,null,null,null,null,null,null,null,{"$error":"#VALUE!"}]
[null,null,null,null,null,null,null,null,null,{"$error":"#VALUE!"},{"$error":"#VALUE!"},{"$error":"#VALUE!"},null,null,null,null,null,null,null,null,null,null,null,null,null,null,null,null,null,null,null,null,null,null,null,null,{"$error":"#VALUE!"}]
[null,null,null,null,null,null,null,null,null,{"$error":"#VALUE!"},{"$error":"#VALUE!"},{"$error":"#VALUE!"},null,null,null,null,null,null,null,null,null,null,null,null,null,null,null,null,null,null,null,null,null,null,null,null,{"$error":"#VALUE!"}]
[null,null,null,null,null,null,null,null,null,{"$error":"#VALUE!"},{"$error":"#VALUE!"},{"$error":"#VALUE!"},null,null,null,null,null,null,null,null,null,null,null,null,null,null,null,null,null,null,null,null,null,null,null,null,{"$error":"#VALUE!"}]
[null,null,null,null,null,null,null,null,null,{"$error":"#VALUE!"},{"$error":"#VALUE!"},{"$error":"#VALUE!"},null,null,null,null,null,null,null,null,null,null,null,null,null,null,null,null,null,null,null,null,null,null,null,null,{"$error":"#VALUE!"}]
[null,null,null,null,null,null,null,null,null,{"$error":"#VALUE!"},{"$error":"#VALUE!"},{"$error":"#VALUE!"},null,null,null,null,null,null,null,null,null,null,null,null,null,null,null,null,null,null,null,null,null,null,null,null,{"$error":"#VALUE!"}]
[null,null,null,null,null,null,null,null,null,{"$error":"#VALUE!"},{"$error":"#VALUE!"},{"$error":"#VALUE!"},null,null,null,null,null,null,null,null,null,null,null,null,null,null,null,null,null,null,null,null,null,null,null,null,{"$error":"#VALUE!"}]
[null,null,null,null,null,null,null,null,null,{"$error":"#VALUE!"},{"$error":"#VALUE!"},{"$error":"#VALUE!"},null,null,null,null,null,null,null,null,null,null,null,null,null,null,null,null,null,null,null,null,null,null,null,null,{"$error":"#VALUE!"}]
[null,null,null,null,null,null,null,null,null,{"$error":"#VALUE!"},{"$error":"#VALUE!"},{"$error":"#VALUE!"},null,null,null,null,null,null,null,null,null,null,null,null,null,null,null,null,null,null,null,null,null,null,null,null,{"$error":"#VALUE!"}]
[null,null,null,null,null,null,null,null,null,{"$error":"#VALUE!"},{"$error":"#VALUE!"},{"$error":"#VALUE!"},null,null,null,null,null,null,null,null,null,null,null,null,null,null,null,null,null,null,null,null,null,null,null,null,{"$error":"#VALUE!"}]
[null,null,null,null,null,null,null,null,null,{"$error":"#VALUE!"},{"$error":"#VALUE!"},{"$error":"#VALUE!"},null,null,null,null,null,null,null,null,null,null,null,null,null,null,null,null,null,null,null,null,null,null,null,null,{"$error":"#VALUE!"}]
[null,null,null,null,null,null,null,null,null,{"$error":"#VALUE!"},{"$error":"#VALUE!"},{"$error":"#VALUE!"},null,null,null,null,null,null,null,null,null,null,null,null,null,null,null,null,null,null,null,null,null,null,null,null,{"$error":"#VALUE!"}]
[null,null,null,null,null,null,null,null,null,{"$error":"#VALUE!"},{"$error":"#VALUE!"},{"$error":"#VALUE!"},null,null,null,null,null,null,null,null,null,null,null,null,null,null,null,null,null,null,null,null,null,null,null,null,{"$error":"#VALUE!"}]
[null,null,null,null,null,null,null,null,null,{"$error":"#VALUE!"},{"$error":"#VALUE!"},{"$error":"#VALUE!"},null,null,null,null,null,null,null,null,null,null,null,null,null,null,null,null,null,null,null,null,null,null,null,null,{"$error":"#VALUE!"}]
[null,null,null,null,null,null,null,null,null,{"$error":"#VALUE!"},{"$error":"#VALUE!"},{"$error":"#VALUE!"},null,null,null,null,null,null,null,null,null,null,null,null,null,null,null,null,null,null,null,null,null,null,null,null,{"$error":"#VALUE!"}]
[null,null,null,null,null,null,null,null,null,{"$error":"#VALUE!"},{"$error":"#VALUE!"},{"$error":"#VALUE!"},null,null,null,null,null,null,null,null,null,null,null,null,null,null,null,null,null,null,null,null,null,null,null,null,{"$error":"#VALUE!"}]
[null,null,null,null,null,null,null,null,null,{"$error":"#VALUE!"},{"$error":"#VALUE!"},{"$error":"#VALUE!"},null,null,null,null,null,null,null,null,null,null,null,null,null,null,null,null,null,null,null,null,null,null,null,null,{"$error":"#VALUE!"}]
[null,null,null,null,null,null,null,null,null,{"$error":"#VALUE!"},{"$error":"#VALUE!"},{"$error":"#VALUE!"},null,null,null,null,null,null,null,null,null,null,null,null,null,null,null,null,null,null,null,null,null,null,null,null,{"$error":"#VALUE!"}]
[null,null,null,null,null,null,null,null,null,{"$error":"#VALUE!"},{"$error":"#VALUE!"},{"$error":"#VALUE!"},null,null,null,null,null,null,null,null,null,null,null,null,null,null,null,null,null,null,null,null,null,null,null,null,{"$error":"#VALUE!"}]
[null,null,null,null,null,null,null,null,null,{"$error":"#VALUE!"},{"$error":"#VALUE!"},{"$error":"#VALUE!"},null,null,null,null,null,null,null,null,null,null,null,null,null,null,null,null,null,null,null,null,null,null,null,null,{"$error":"#VALUE!"}]
[null,null,null,null,null,null,null,null,null,{"$error":"#VALUE!"},{"$error":"#VALUE!"},{"$error":"#VALUE!"},null,null,null,null,null,null,null,null,null,null,null,null,null,null,null,null,null,null,null,null,null,null,null,null,{"$error":"#VALUE!"}]
[null,null,null,null,null,null,null,null,null,{"$error":"#VALUE!"},{"$error":"#VALUE!"},{"$error":"#VALUE!"},null,null,null,null,null,null,null,null,null,null,null,null,null,null,null,null,null,null,null,null,null,null,null,null,{"$error":"#VALUE!"}]
[null,null,null,null,null,null,null,null,null,{"$error":"#VALUE!"},{"$error":"#VALUE!"},{"$error":"#VALUE!"},null,null,null,null,null,null,null,null,null,null,null,null,null,null,null,null,null,null,null,null,null,null,null,null,{"$error":"#VALUE!"}]
[null,null,null,null,null,null,null,null,null,{"$error":"#VALUE!"},{"$error":"#VALUE!"},{"$error":"#VALUE!"},null,null,null,null,null,null,null,null,null,null,null,null,null,null,null,null,null,null,null,null,null,null,null,null,{"$error":"#VALUE!"}]
[null,null,null,null,null,null,null,null,null,{"$error":"#VALUE!"},{"$error":"#VALUE!"},{"$error":"#VALUE!"},null,null,null,null,null,null,null,null,null,null,null,null,null,null,null,null,null,null,null,null,null,null,null,null,{"$error":"#VALUE!"}]
[null,null,null,null,null,null,null,null,null,{"$error":"#VALUE!"},{"$error":"#VALUE!"},{"$error":"#VALUE!"},null,null,null,null,null,null,null,null,null,null,null,null,null,null,null,null,null,null,null,null,null,null,null,null,{"$error":"#VALUE!"}]
[null,null,null,null,null,null,null,null,null,{"$error":"#VALUE!"},{"$error":"#VALUE!"},{"$error":"#VALUE!"},null,null,null,null,null,null,null,null,null,null,null,null,null,null,null,null,null,null,null,null,null,null,null,null,{"$error":"#VALUE!"}]
[null,null,null,null,null,null,null,null,null,{"$error":"#VALUE!"},{"$error":"#VALUE!"},{"$error":"#VALUE!"},null,null,null,null,null,null,null,null,null,null,null,null,null,null,null,null,null,null,null,null,null,null,null,null,{"$error":"#VALUE!"}]
[null,null,null,null,null,null,null,null,null,{"$error":"#VALUE!"},{"$error":"#VALUE!"},{"$error":"#VALUE!"},null,null,null,null,null,null,null,null,null,null,null,null,null,null,null,null,null,null,null,null,null,null,null,null,{"$error":"#VALUE!"}]
[null,null,null,null,null,null,null,null,null,{"$error":"#VALUE!"},{"$error":"#VALUE!"},{"$error":"#VALUE!"},null,null,null,null,null,null,null,null,null,null,null,null,null,null,null,null,null,null,null,null,null,null,null,null,{"$error":"#VALUE!"}]
[null,null,null,null,null,null,null,null,null,{"$error":"#VALUE!"},{"$error":"#VALUE!"},{"$error":"#VALUE!"},null,null,null,null,null,null,null,null,null,null,null,null,null,null,null,null,null,null,null,null,null,null,null,null,{"$error":"#VALUE!"}]
[null,null,null,null,null,null,null,null,null,{"$error":"#VALUE!"},{"$error":"#VALUE!"},{"$error":"#VALUE!"},null,null,null,null,null,null,null,null,null,null,null,null,null,null,null,null,null,null,null,null,null,null,null,null,{"$error":"#VALUE!"}]
[null,null,null,null,null,null,null,null,null,{"$error":"#VALUE!"},{"$error":"#VALUE!"},{"$error":"#VALUE!"},null,null,null,null,null,null,null,null,null,null,null,null,null,null,null,null,null,null,null,null,null,null,null,null,{"$error":"#VALUE!"}]
[null,null,null,null,null,null,null,null,null,{"$error":"#VALUE!"},{"$error":"#VALUE!"},{"$error":"#VALUE!"},null,null,null,null,null,null,null,null,null,null,null,null,null,null,null,null,null,null,null,null,null,null,null,null,{"$error":"#VALUE!"}]
[null,null,null,null,null,null,null,null,null,{"$error":"#VALUE!"},{"$error":"#VALUE!"},{"$error":"#VALUE!"},null,null,null,null,null,null,null,null,null,null,null,null,null,null,null,null,null,null,null,null,null,null,null,null,{"$error":"#VALUE!"}]
[null,null,null,null,null,null,null,null,null,{"$error":"#VALUE!"},{"$error":"#VALUE!"},{"$error":"#VALUE!"},null,null,null,null,null,null,null,null,null,null,null,null,null,null,null,null,null,null,null,null,null,null,null,null,{"$error":"#VALUE!"}]
[null,null,null,null,null,null,null,null,null,{"$error":"#VALUE!"},{"$error":"#VALUE!"},{"$error":"#VALUE!"},null,null,null,null,null,null,null,null,null,null,null,null,null,null,null,null,null,null,null,null,null,null,null,null,{"$error":"#VALUE!"}]
[null,null,null,null,null,null,null,null,null,{"$error":"#VALUE!"},{"$error":"#VALUE!"},{"$error":"#VALUE!"},null,null,null,null,null,null,null,null,null,null,null,null,null,null,null,null,null,null,null,null,null,null,null,null,{"$error":"#VALUE!"}]
[null,null,null,null,null,null,null,null,null,{"$error":"#VALUE!"},{"$error":"#VALUE!"},{"$error":"#VALUE!"},null,null,null,null,null,null,null,null,null,null,null,null,null,null,null,null,null,null,null,null,null,null,null,null,{"$error":"#VALUE!"}]
[null,null,null,null,null,null,null,null,null,{"$error":"#VALUE!"},{"$error":"#VALUE!"},{"$error":"#VALUE!"},null,null,null,null,null,null,null,null,null,null,null,null,null,null,null,null,null,null,null,null,null,null,null,null,{"$error":"#VALUE!"}]
[null,null,null,null,null,null,null,null,null,{"$error":"#VALUE!"},{"$error":"#VALUE!"},{"$error":"#VALUE!"},null,null,null,null,null,null,null,null,null,null,null,null,null,null,null,null,null,null,null,null,null,null,null,null,{"$error":"#VALUE!"}]
[null,null,null,null,null,null,null,null,null,{"$error":"#VALUE!"},{"$error":"#VALUE!"},{"$error":"#VALUE!"},null,null,null,null,null,null,null,null,null,null,null,null,null,null,null,null,null,null,null,null,null,null,null,null,{"$error":"#VALUE!"}]
[null,null,null,null,null,null,null,null,null,{"$error":"#VALUE!"},{"$error":"#VALUE!"},{"$error":"#VALUE!"},null,null,null,null,null,null,null,null,null,null,null,null,null,null,null,null,null,null,null,null,null,null,null,null,{"$error":"#VALUE!"}]
[null,null,null,null,null,null,null,null,null,{"$error":"#VALUE!"},{"$error":"#VALUE!"},{"$error":"#VALUE!"},null,null,null,null,null,null,null,null,null,null,null,null,null,null,null,null,null,null,null,null,null,null,null,null,{"$error":"#VALUE!"}]
[null,null,null,null,null,null,null,null,null,{"$error":"#VALUE!"},{"$error":"#VALUE!"},{"$error":"#VALUE!"},null,null,null,null,null,null,null,null,null,null,null,null,null,null,null,null,null,null,null,null,null,null,null,null,{"$error":"#VALUE!"}]

{"sheet":"Bowtie","index":48,"n_rows":134,"n_cols":72,"rows_kept":134,"cut":false,"hidden":true,"merged":[[1,56,1,71],[0,19,0,28],[0,30,0,32],[1,31,2,31],[1,32,2,32],[1,21,1,25],[1,27,1,28],[1,30,2,30],[100,9,100,11],[100,36,101,36],[1,34,2,34],[1,36,2,36],[1,39,1,54],[1,9,1,11],[1,13,1,17]]}
[null,null,null,null,null,null,null,null,null,null,null,null,null,null,null,null,null,null,null,"Conflicting Traffic Complexity",null,null,null,null,null,null,null,null,null,null,"Pedestrian Complexity"]
[null,null,null,null,null,null,null,null,null,"Exposure",null,null,null,"Severity",null,null,null,null,null,"Traffic Control",null,"Conflicting Lanes",null,null,null,null,null,"Conflicting Speed",null,null,"Indirect Paths Indicator","Non-intuitive movements indicator","Pedestrian Complexity factor",null,"Total Complexity Multiplier",null,"Exposure-Severity-Complexity Product",null,null,"Included in Mvmt1",null,null,null,null,null,null,null,null,null,null,null,null,null,null,null,null,"Included in Mvmt2"]
["#","Conflict Type","Mvmt1","Mvmt1_gen","Mvmt1_SpeedCat","Mvmt2","Mvmt2_gen","Mvmt2_SpeedCat",null,"Q1","Q2","I",null,"Speed_V1","Speed_V2","Angle","delta_V","P_FSI",null,null,null,"MajC","MinC","MajM/P","MinM/P","Score",null,"Speed","Factor",null,null,null,null,null,null,null,null,null,null,"MajT1","MajL1","MajR1","MajT2","MajL2","MajR2","MinT1","MinL1","MinR1","MinT2","MinL2","MinR2","MajNM1","MajNM2","MinNM1","MinNM2",null,"MajT1","MajL1","MajR1","MajT2","MajL2","MajR2","MinT1","MinL1","MinR1","MinT2","MinL2","MinR2","MajNM1","MajNM2","MinNM1","MinNM2"]
[1,"Crossing","WBT","MajT2","Major thru","NBT, NBL, EBL","MinT1, MinL1, MajL1","Signal far",null,{"$f":"SUMPRODUCT($AN4:$BC4,$AN$36:$BC$36)","v":{"$error":"#VALUE!"}},{"$f":"SUMPRODUCT($BE4:$BT4,$BE$36:$BT$36)","v":{"$error":"#VALUE!"}},{"$f":"PRODUCT(J4:K4)","v":{"$error":"#VALUE!"}},null,{"$f":"VLOOKUP(E4,SSI_AGI_Range_VehSpeed,5,FALSE)","v":45},{"$f":"VLOOKUP(H4,SSI_AGI_Range_VehSpeed,5,FALSE)","v":25},{"$f":"IF(B4=\"Nonmotorized\",\"\",VLOOKUP(B4,SSI_AGI_Range_CollAngles,5,FALSE))","v":90},{"$f":"IF(B4=\"Nonmotorized\",\"\",SQRT(N4^2+O4^2-2*N4*O4*COS(RADIANS(P4)))/2)","v":25.739075352467502},{"$f":"IF(B4=\"Nonmotorized\",1/(1+EXP(3.8432-0.1237*O4)),(Q4/SSI_AGI_RegAlpha)^SSI_AGI_RegK+(Q4/SSI_AGI_RegAlpha)^SSI_AGI_RegK-((Q4/SSI_AGI_RegAlpha)^SSI_AGI_RegK)*((Q4/SSI_AGI_RegAlpha)^SSI_AGI_RegK))","v":5.1494149230103807E-2},null,{"$f":"SSI_AGI_ProtFactor","v":0.505},null,2,null,null,null,{"$f":"MAX(1,IF(B4<>\"Pedestrian\",V4*SSI_AGI_MajorThruLanes+W4*SSI_AGI_MinorThruLanes+X4*IF(SSI_AGI_MajorThruLanes=1,SSI_AGI_MergeWeightL1,IF(SSI_AGI_MajorThruLanes=2,SSI_AGI_MergeWeightL1+SSI_AGI_MergeWeightL2,SSI_AGI_MergeWeightL1+SSI_AGI_MergeWeightL2+SSI_AGI_MergeWeightL3*(SSI_AGI_MajorThruLanes-2)))+Y4*IF(SSI_AGI_MinorThruLanes=1,SSI_AGI_MergeWeightL1,IF(SSI_AGI_MinorThruLanes=2,SSI_AGI_MergeWeightL1+SSI_AGI_MergeWeightL2,SSI_AGI_MergeWeightL1+SSI_AGI_MergeWeightL2+SSI_AGI_MergeWeightL3*(SSI_AGI_MinorThruLanes-2))),V4*SSI_AGI_MajorThruLanes+W4*SSI_AGI_MinorThruLanes+X4*IF(SSI_AGI_MajorThruLanes=1,SSI_AGI_NM_MergeWeightL1,IF(SSI_AGI_MajorThruLanes=2,SSI_AGI_NM_MergeWeightL1+SSI_AGI_NM_MergeWeightL2,SSI_AGI_NM_MergeWeightL1+SSI_AGI_NM_MergeWeightL2+SSI_AGI_NM_MergeWeightL3*(SSI_AGI_MajorThruLanes-2)))+Y4*IF(SSI_AGI_MinorThruLanes=1,SSI_AGI_NM_MergeWeightL1,IF(SSI_AGI_MinorThruLanes=2,SSI_AGI_NM_MergeWeightL1+SSI_AGI_NM_MergeWeightL2,SSI_AGI_NM_MergeWeightL1+SSI_AGI_NM_MergeWeightL2+SSI_AGI_NM_MergeWeightL3*(SSI_AGI_MinorThruLanes-2)))))","v":4},null,{"$f":"IF(B4=\"Diverging\",\"\",SSI_AGI_VehSpeed_MjrThru)","v":45},{"$f":"IF(B4=\"Diverging\",1,1-((60-AB4)/60*0.1/0.15))","v":0.83333333333333326},null,null,null,{"$f":"IF(SSI_AGI_ConsiderNMComplexity=\"Yes\",1+AE4+AF4,1)","v":1},null,{"$f":"PRODUCT(Z4,T4,AC4,AG4)","v":1.6833333333333331},null,{"$f":"L4*R4*AI4","v":{"$error":"#VALUE!"}},null,null,{"$f":"IF(ISNUMBER(SEARCH(AN$3,$D4)),1,\"\")","v":""},{"$f":"IF(ISNUMBER(SEARCH(AO$3,$D4)),1,\"\")","v":""},"",1,"","","","","","","","","","","","",null,{"$f":"IF(ISNUMBER(SEARCH(BE$3,$G4)),1,\"\")","v":""},{"$f":"IF(ISNUMBER(SEARCH(BF$3,$G4)),1,\"\")","v":1},"","","","",1,1,"","","","","","","",""]
[2,"Crossing","WBT","MajT2","Major thru","SBT, SBL, WBL","MinT2, MinL2, MajL2","Signal near",null,{"$f":"SUMPRODUCT($AN5:$BC5,$AN$36:$BC$36)","v":{"$error":"#VALUE!"}},{"$f":"SUMPRODUCT($BE5:$BT5,$BE$36:$BT$36)","v":{"$error":"#VALUE!"}},{"$f":"PRODUCT(J5:K5)","v":{"$error":"#VALUE!"}},null,45,15,90,{"$f":"IF(B5=\"Nonmotorized\",\"\",SQRT(N5^2+O5^2-2*N5*O5*COS(RADIANS(P5)))/2)","v":23.717082451262844},3.7884541771032863E-2,null,0.505,null,2,null,null,null,4,null,45,0.83333333333333326,null,null,null,1,null,1.6833333333333331,null,{"$f":"L5*R5*AI5","v":{"$error":"#VALUE!"}},null,null,{"$f":"IF(ISNUMBER(SEARCH(AN$3,$D5)),1,\"\")","v":""},"","",1,"","","","","","","","","","","","",null,{"$f":"IF(ISNUMBER(SEARCH(BE$3,$G5)),1,\"\")","v":""},"","","",1,"","","","",1,1,"","","","",""]
[3,"Crossing","EBT","MajT1","Major thru","NBT, NBL, EBL","MinT1, MinL1, MajL1","Signal near",null,{"$error":"#VALUE!"},{"$error":"#VALUE!"},{"$error":"#VALUE!"},null,45,15,90,23.717082451262844,3.7884541771032863E-2,null,0.505,null,2,null,null,null,4,null,45,0.83333333333333326,null,null,null,1,null,1.6833333333333331,null,{"$error":"#VALUE!"},null,null,1,"","","","","","","","","","","","","","","",null,"",1,"","","","",1,1,"","","","","","","",""]
[4,"Crossing","EBT","MajT1","Major thru","SBT, SBL, WBL","MinT2, MinL2, MajL2","Signal far",null,{"$error":"#VALUE!"},{"$error":"#VALUE!"},{"$error":"#VALUE!"},null,45,25,90,25.739075352467502,5.1494149230103807E-2,null,0.505,null,2,null,null,null,4,null,45,0.83333333333333326,null,null,null,1,null,1.6833333333333331,null,{"$error":"#VALUE!"},null,null,1,"","","","","","","","","","","","","","","",null,"","","","",1,"","","","",1,1,"","","","",""]
[5,"Merging","WBR, WBL","MajR2, MajL2","Major right","NBT, NBL, EBL","MinT1, MinL1, MajL1","Signal far",null,{"$error":"#VALUE!"},{"$error":"#VALUE!"},{"$error":"#VALUE!"},null,15,25,45,8.9396576292116645,9.4329959592674944E-4,null,0.505,null,2,null,null,null,4,null,45,0.83333333333333326,null,null,null,1,null,1.6833333333333331,null,{"$error":"#VALUE!"},null,null,"","","","",1,1,"","","","","","","","","","",null,"",1,"","","","",1,1,"","","","","","","",""]
[6,"Merging","EBR, EBL","MajR1, MajL1","Major right","SBT, SBL, WBL","MinT2, MinL2, MajL2","Signal far",null,{"$error":"#VALUE!"},{"$error":"#VALUE!"},{"$error":"#VALUE!"},null,15,25,45,8.9396576292116645,9.4329959592674944E-4,null,0.505,null,2,null,null,null,4,null,45,0.83333333333333326,null,null,null,1,null,1.6833333333333331,null,{"$error":"#VALUE!"},null,null,"",1,1,"","","","","","","","","","","","","",null,"","","","",1,"","","","",1,1,"","","","",""]
[7,"Merging","EBT","MajT1","Major thru","NBR, SBL","MinR1, MinL2","Signal near",null,{"$error":"#VALUE!"},{"$error":"#VALUE!"},{"$error":"#VALUE!"},null,45,15,45,17.995873453365363,1.3373938286506865E-2,null,0.505,null,null,null,1,null,1.75,null,45,0.83333333333333326,null,null,null,1,null,0.73645833333333333,null,{"$error":"#VALUE!"},null,null,1,"","","","","","","","","","","","","","","",null,"","","","","","","","",1,"",1,"","","","",""]
[8,"Merging","WBT","MajT2","Major thru","SBR, NBL","MinR2, MinL1","Signal near",null,{"$error":"#VALUE!"},{"$error":"#VALUE!"},{"$error":"#VALUE!"},null,45,15,45,17.995873453365363,1.3373938286506865E-2,null,0.505,null,null,null,1,null,1.75,null,45,0.83333333333333326,null,null,null,1,null,0.73645833333333333,null,{"$error":"#VALUE!"},null,null,"","","",1,"","","","","","","","","","","","",null,"","","","","","","",1,"","","",1,"","","",""]
[9,"Merging","WBL, NBL","MajL2, MinL1","RAB Circulating","SBT, SBL, SBR","MinT2, MinL2, MinR2","RAB Entering",null,{"$error":"#VALUE!"},{"$error":"#VALUE!"},{"$error":"#VALUE!"},null,25,20,45,8.9147801264732891,9.333798723087925E-4,null,1,null,null,null,null,1,1.75,null,{"$f":"IF(B12=\"Diverging\",\"\",SSI_AGI_VehSpeed_RABCirc)","v":25},0.61111111111111105,null,null,null,1,null,1.0694444444444444,null,{"$error":"#VALUE!"},null,null,"","","","",1,"","",1,"","","","","","","","",null,"","","","","","","","","",1,1,1,"","","",""]
[10,"Merging","EBL, SBL","MajL1, MinL2","RAB Circulating","NBT, NBL, NBR","MinT1, MinL1, MinR1","RAB Entering",null,{"$error":"#VALUE!"},{"$error":"#VALUE!"},{"$error":"#VALUE!"},null,25,20,45,8.9147801264732891,9.333798723087925E-4,null,1,null,null,null,null,1,1.75,null,{"$f":"IF(B13=\"Diverging\",\"\",SSI_AGI_VehSpeed_RABCirc)","v":25},0.61111111111111105,null,null,null,1,null,1.0694444444444444,null,{"$error":"#VALUE!"},null,null,"",1,"","","","","","","","",1,"","","","","",null,"","","","","","",1,1,1,"","","","","","",""]
[11,"Diverging","WBT","MajT2","Major thru","WBR, WBL","MajR2, MajL2","Major right",null,{"$error":"#VALUE!"},{"$error":"#VALUE!"},{"$error":"#VALUE!"},null,45,15,10,15.169950011729762,7.0056226631585675E-3,null,1,null,null,null,null,null,1,null,{"$f":"IF(B14=\"Diverging\",\"\",SSI_AGI_VehSpeed_MjrThru)","v":""},1,null,null,null,1,null,1,null,{"$error":"#VALUE!"},null,null,"","","",1,"","","","","","","","","","","","",null,"","","","",1,1,"","","","","","","","","",""]
[12,"Diverging","EBT","MajT1","Major thru","EBR, EBL","MajR1, MajL1","Major right",null,{"$error":"#VALUE!"},{"$error":"#VALUE!"},{"$error":"#VALUE!"},null,45,15,10,15.169950011729762,7.0056226631585675E-3,null,1,null,null,null,null,null,1,null,"",1,null,null,null,1,null,1,null,{"$error":"#VALUE!"},null,null,1,"","","","","","","","","","","","","","","",null,"",1,1,"","","","","","","","","","","","",""]
[13,"Diverging","NBT, NBL, EBL","MinT1, MinL1, MajL1","Signal near","NBR, SBL","MinR1, MinL2","Signal near",null,{"$error":"#VALUE!"},{"$error":"#VALUE!"},{"$error":"#VALUE!"},null,15,15,10,1.3073361412148754,6.4061388075216071E-7,null,1,null,null,null,null,null,1,null,"",1,null,null,null,1,null,1,null,{"$error":"#VALUE!"},null,null,"",1,"","","","",1,1,"","","","","","","","",null,"","","","","","","","",1,"",1,"","","","",""]
[14,"Diverging","SBT, SBL, WBL","MinT2, MinL2, MajL2","Signal near","SBR, NBL","MinR2, MinL1","Signal near",null,{"$error":"#VALUE!"},{"$error":"#VALUE!"},{"$error":"#VALUE!"},null,15,15,10,1.3073361412148754,6.4061388075216071E-7,null,1,null,null,null,null,null,1,null,"",1,null,null,null,1,null,1,null,{"$error":"#VALUE!"},null,null,"","","","",1,"","","","",1,1,"","","","","",null,"","","","","","","",1,"","","",1,"","","",""]
[15,"Diverging","NBT, WBR, EBL","MinT1, MajR2, MajL1","RAB Exiting","WBL, NBL","MajL2, MinL1","RAB Circulating",null,{"$error":"#VALUE!"},{"$error":"#VALUE!"},{"$error":"#VALUE!"},null,30,25,10,3.4564566568122888,2.5632912055290634E-5,null,1,null,null,null,null,null,1,null,"",1,null,null,null,1,null,1,null,{"$error":"#VALUE!"},null,null,"",1,"","","",1,1,"","","","","","","","","",null,"","","","",1,"","",1,"","","","","","","",""]
[16,"Diverging","SBT, EBR, WBL","MinT2, MajR1, MajL2","RAB Exiting","EBL, SBL","MajL1, MinL2","RAB Circulating",null,{"$error":"#VALUE!"},{"$error":"#VALUE!"},{"$error":"#VALUE!"},null,30,25,10,3.4564566568122888,2.5632912055290634E-5,null,1,null,null,null,null,null,1,null,"",1,null,null,null,1,null,1,null,{"$error":"#VALUE!"},null,null,"","",1,"",1,"","","","",1,"","","","","","",null,"",1,"","","","","","","","",1,"","","","",""]
[17,"Nonmotorized","NB Ped","MinNM1","Nonmotorized","EBR, EBL","MajR1, MajL1","Major right",null,{"$error":"#VALUE!"},{"$error":"#VALUE!"},{"$error":"#VALUE!"},null,0,15,"","",0.1205004039155782,null,{"$f":"SSI_AGI_ProtFactor","v":0.505},null,null,2,1,null,5.75,null,45,0.83333333333333326,null,null,null,1,null,2.4197916666666663,null,{"$error":"#VALUE!"},null,null,"","","","","","","","","","","","","","",1,"",null,"",1,1,"","","","","","","","","","","","",""]
[18,"Nonmotorized","NB Ped","MinNM1","Nonmotorized","SBT, SBL, WBL","MinT2, MinL2, MajL2","Signal far",null,{"$error":"#VALUE!"},{"$error":"#VALUE!"},{"$error":"#VALUE!"},null,0,25,"","",0.32066879346345062,null,0.505,null,null,2,1,null,5.75,null,45,0.83333333333333326,null,null,null,1,null,2.4197916666666663,null,{"$error":"#VALUE!"},null,null,"","","","","","","","","","","","","","",1,"",null,"","","","",1,"","","","",1,1,"","","","",""]
[19,"Nonmotorized","NB Ped","MinNM1","Nonmotorized","NBT, NBL, EBL","MinT1, MinL1, MajL1","Signal near",null,{"$error":"#VALUE!"},{"$error":"#VALUE!"},{"$error":"#VALUE!"},null,0,15,"","",0.1205004039155782,null,0.505,null,null,2,1,null,5.75,null,45,0.83333333333333326,null,null,null,1,null,2.4197916666666663,null,{"$error":"#VALUE!"},null,null,"","","","","","","","","","","","","","",1,"",null,"",1,"","","","",1,1,"","","","","","","",""]
[20,"Nonmotorized","NB Ped","MinNM1","Nonmotorized","NBR, SBL","MinR1, MinL2","Signal near",null,{"$error":"#VALUE!"},{"$error":"#VALUE!"},{"$error":"#VALUE!"},null,0,15,"","",0.1205004039155782,null,0.505,null,null,2,1,null,5.75,null,45,0.83333333333333326,null,null,null,1,null,2.4197916666666663,null,{"$error":"#VALUE!"},null,null,"","","","","","","","","","","","","","",1,"",null,"","","","","","","","",1,"",1,"","","","",""]
[21,"Nonmotorized","WB Ped","MajNM2","Nonmotorized","NBR, SBL","MinR1, MinL2","Signal near",null,{"$error":"#VALUE!"},{"$error":"#VALUE!"},{"$error":"#VALUE!"},null,0,15,"","",0.1205004039155782,null,0.505,null,2,null,null,1,5.75,null,45,0.83333333333333326,null,null,null,1,null,2.4197916666666663,null,{"$error":"#VALUE!"},null,null,"","","","","","","","","","","","","",1,"","",null,"","","","","","","","",1,"",1,"","","","",""]
[22,"Nonmotorized","WB Ped","MajNM2","Nonmotorized","EBT","MajT1","Major thru",null,{"$error":"#VALUE!"},{"$error":"#VALUE!"},{"$error":"#VALUE!"},null,0,45,"","",0.84855340903216459,null,0.505,null,2,null,null,1,5.75,null,45,0.83333333333333326,null,null,null,1,null,2.4197916666666663,null,{"$error":"#VALUE!"},null,null,"","","","","","","","","","","","","",1,"","",null,1,"","","","","","","","","","","","","","",""]
[23,"Nonmotorized","WB Ped","MajNM2","Nonmotorized","WBT","MajT2","Major thru",null,{"$error":"#VALUE!"},{"$error":"#VALUE!"},{"$error":"#VALUE!"},null,0,45,"","",0.84855340903216459,null,0.505,null,2,null,null,1,5.75,null,45,0.83333333333333326,null,null,null,1,null,2.4197916666666663,null,{"$error":"#VALUE!"},null,null,"","","","","","","","","","","","","",1,"","",null,"","","",1,"","","","","","","","","","","",""]
[24,"Nonmotorized","WB Ped","MajNM2","Nonmotorized","WBR, WBL","MajR2, MajL2","Major right",null,{"$error":"#VALUE!"},{"$error":"#VALUE!"},{"$error":"#VALUE!"},null,0,15,"","",0.1205004039155782,null,0.505,null,2,null,null,1,5.75,null,45,0.83333333333333326,null,null,null,1,null,2.4197916666666663,null,{"$error":"#VALUE!"},null,null,"","","","","","","","","","","","","",1,"","",null,"","","","",1,1,"","","","","","","","","",""]
[25,"Nonmotorized","SB Ped","MinNM2","Nonmotorized","WBR, WBL","MajR2, MajL2","Major right",null,{"$error":"#VALUE!"},{"$f":"SUMPRODUCT($BE28:$BT28,$BE$36:$BT$36)","v":{"$error":"#VALUE!"}},{"$error":"#VALUE!"},null,0,15,"","",0.1205004039155782,null,0.505,null,null,2,1,null,5.75,null,45,0.83333333333333326,null,null,null,1,null,2.4197916666666663,null,{"$error":"#VALUE!"},null,null,{"$f":"IF(ISNUMBER(SEARCH(AN$3,$D28)),1,\"\")","v":""},"","","","","","","","","","","","","","",1,null,"","","","",1,1,"","","","","","","","","",""]
[26,"Nonmotorized","SB Ped","MinNM2","Nonmotorized","NBT, NBL, EBL","MinT1, MinL1, MajL1","Signal far",null,{"$error":"#VALUE!"},{"$error":"#VALUE!"},{"$error":"#VALUE!"},null,0,25,"","",0.32066879346345062,null,0.505,null,null,2,1,null,5.75,null,45,0.83333333333333326,null,null,null,1,null,2.4197916666666663,null,{"$error":"#VALUE!"},null,null,"","","","","","","","","","","","","","","",1,null,{"$f":"IF(ISNUMBER(SEARCH(BE$3,$G29)),1,\"\")","v":""},1,"","","","",1,1,"","","","","","","",""]
[27,"Nonmotorized","SB Ped","MinNM2","Nonmotorized","SBT, SBL, WBL","MinT2, MinL2, MajL2","Signal near",null,{"$error":"#VALUE!"},{"$error":"#VALUE!"},{"$error":"#VALUE!"},null,0,15,"","",0.1205004039155782,null,0.505,null,null,2,1,null,5.75,null,45,0.83333333333333326,null,null,null,1,null,2.4197916666666663,null,{"$error":"#VALUE!"},null,null,"","","","","","","","","","","","","","","",1,null,"","","","",1,"","","","",1,1,"","","","",""]
[28,"Nonmotorized","SB Ped","MinNM2","Nonmotorized","SBR, NBL","MinR2, MinL1","Signal near",null,{"$error":"#VALUE!"},{"$error":"#VALUE!"},{"$error":"#VALUE!"},null,0,15,"","",0.1205004039155782,null,0.505,null,null,2,1,null,5.75,null,45,0.83333333333333326,null,null,null,1,null,2.4197916666666663,null,{"$error":"#VALUE!"},null,null,"","","","","","","","","","","","","","","",1,null,"","","","","","","",1,"","","",1,"","","",""]
[29,"Nonmotorized","EB Ped","MajNM1","Nonmotorized","SBR, NBL","MinR2, MinL1","Signal far",null,{"$error":"#VALUE!"},{"$error":"#VALUE!"},{"$error":"#VALUE!"},null,0,25,"","",0.32066879346345062,null,0.505,null,2,null,null,1,5.75,null,45,0.83333333333333326,null,null,null,1,null,2.4197916666666663,null,{"$error":"#VALUE!"},null,null,"","","","","","","","","","","","",1,"","","",null,"","","","","","","",1,"","","",1,"","","",""]
[30,"Nonmotorized","EB Ped","MajNM1","Nonmotorized","WBT","MajT2","Major thru",null,{"$error":"#VALUE!"},{"$error":"#VALUE!"},{"$error":"#VALUE!"},null,0,45,"","",0.84855340903216459,null,0.505,null,2,null,null,1,5.75,null,45,0.83333333333333326,null,null,null,1,null,2.4197916666666663,null,{"$error":"#VALUE!"},null,null,"","","","","","","","","","","","",1,"","","",null,"","","",1,"","","","","","","","","","","",""]
[31,"Nonmotorized","EB Ped","MajNM1","Nonmotorized","EBT","MajT1","Major thru",null,{"$error":"#VALUE!"},{"$error":"#VALUE!"},{"$error":"#VALUE!"},null,0,45,"","",0.84855340903216459,null,0.505,null,2,null,null,1,5.75,null,45,0.83333333333333326,null,null,null,1,null,2.4197916666666663,null,{"$error":"#VALUE!"},null,null,"","","","","","","","","","","","",1,"","","",null,1,"","","","","","","","","","","","","","",""]
[32,"Nonmotorized","EB Ped","MajNM1","Nonmotorized","EBR, EBL","MajR1, MajL1","Major right",null,{"$error":"#VALUE!"},{"$error":"#VALUE!"},{"$error":"#VALUE!"},null,0,15,"","",0.1205004039155782,null,0.505,null,2,null,null,1,5.75,null,45,0.83333333333333326,null,null,null,1,null,2.4197916666666663,null,{"$error":"#VALUE!"},null,null,"","","","","","","","","","","","",1,"","","",null,"",1,1,"","","","","","","","","","","","",""]
[null,null,null,null,null,null,null,null,null,null,null,null,null,null,null,null,null,null,null,null,null,null,null,null,null,null,null,null,null,null,null,null,null,null,null,null,null,null,"O",{"$f":"'SSI Inputs'!$D$26","v":{"$error":"#VALUE!"}},{"$f":"'SSI Inputs'!$D$27","v":{"$error":"#VALUE!"}},{"$f":"'SSI Inputs'!$D$28","v":{"$error":"#VALUE!"}},{"$f":"'SSI Inputs'!$D$30","v":{"$error":"#VALUE!"}},{"$f":"'SSI Inputs'!$D$31","v":{"$error":"#VALUE!"}},{"$f":"'SSI Inputs'!$D$32","v":{"$error":"#VALUE!"}},{"$f":"'SSI Inputs'!$D$34","v":{"$error":"#VALUE!"}},{"$f":"'SSI Inputs'!$D$35","v":{"$error":"#VALUE!"}},{"$f":"'SSI Inputs'!$D$36","v":{"$error":"#VALUE!"}},{"$f":"'SSI Inputs'!$D$38","v":{"$error":"#VALUE!"}},{"$f":"'SSI Inputs'!$D$39","v":{"$error":"#VALUE!"}},{"$f":"'SSI Inputs'!$D$40","v":{"$error":"#VALUE!"}},{"$f":"'SSI Inputs'!$Q$18","v":175},{"$f":"'SSI Inputs'!$Q$19","v":175},{"$f":"'SSI Inputs'!$Q$20","v":175},{"$f":"'SSI Inputs'!$Q$21","v":175},"O",{"$f":"'SSI Inputs'!$D$26","v":{"$error":"#VALUE!"}},{"$f":"'SSI Inputs'!$D$27","v":{"$error":"#VALUE!"}},{"$f":"'SSI Inputs'!$D$28","v":{"$error":"#VALUE!"}},{"$f":"'SSI Inputs'!$D$30","v":{"$error":"#VALUE!"}},{"$f":"'SSI Inputs'!$D$31","v":{"$error":"#VALUE!"}},{"$f":"'SSI Inputs'!$D$32","v":{"$error":"#VALUE!"}},{"$f":"'SSI Inputs'!$D$34","v":{"$error":"#VALUE!"}},{"$f":"'SSI Inputs'!$D$35","v":{"$error":"#VALUE!"}},{"$f":"'SSI Inputs'!$D$36","v":{"$error":"#VALUE!"}},{"$f":"'SSI Inputs'!$D$38","v":{"$error":"#VALUE!"}},{"$f":"'SSI Inputs'!$D$39","v":{"$error":"#VALUE!"}},{"$f":"'SSI Inputs'!$D$40","v":{"$error":"#VALUE!"}},{"$f":"'SSI Inputs'!$Q$18","v":175},{"$f":"'SSI Inputs'!$Q$19","v":175},{"$f":"'SSI Inputs'!$Q$20","v":175},{"$f":"'SSI Inputs'!$Q$21","v":175}]
[null,null,null,null,null,null,null,null,null,null,null,null,null,null,null,null,null,null,null,null,null,null,null,null,null,null,null,null,null,null,null,null,null,null,null,null,null,null,"D",{"$f":"'SSI Inputs'!$E$26","v":{"$error":"#VALUE!"}},{"$f":"'SSI Inputs'!$E$27","v":{"$error":"#VALUE!"}},{"$f":"'SSI Inputs'!$E$28","v":{"$error":"#VALUE!"}},{"$f":"'SSI Inputs'!$E$30","v":{"$error":"#VALUE!"}},{"$f":"'SSI Inputs'!$E$31","v":{"$error":"#VALUE!"}},{"$f":"'SSI Inputs'!$E$32","v":{"$error":"#VALUE!"}},{"$f":"'SSI Inputs'!$E$34","v":{"$error":"#VALUE!"}},{"$f":"'SSI Inputs'!$E$35","v":{"$error":"#VALUE!"}},{"$f":"'SSI Inputs'!$E$36","v":{"$error":"#VALUE!"}},{"$f":"'SSI Inputs'!$E$38","v":{"$error":"#VALUE!"}},{"$f":"'SSI Inputs'!$E$39","v":{"$error":"#VALUE!"}},{"$f":"'SSI Inputs'!$E$40","v":{"$error":"#VALUE!"}},{"$f":"'SSI Inputs'!$R$18","v":175},{"$f":"'SSI Inputs'!$R$19","v":175},{"$f":"'SSI Inputs'!$R$20","v":175},{"$f":"'SSI Inputs'!$R$21","v":175},"D",{"$f":"'SSI Inputs'!$E$26","v":{"$error":"#VALUE!"}},{"$f":"'SSI Inputs'!$E$27","v":{"$error":"#VALUE!"}},{"$f":"'SSI Inputs'!$E$28","v":{"$error":"#VALUE!"}},{"$f":"'SSI Inputs'!$E$30","v":{"$error":"#VALUE!"}},{"$f":"'SSI Inputs'!$E$31","v":{"$error":"#VALUE!"}},{"$f":"'SSI Inputs'!$E$32","v":{"$error":"#VALUE!"}},{"$f":"'SSI Inputs'!$E$34","v":{"$error":"#VALUE!"}},{"$f":"'SSI Inputs'!$E$35","v":{"$error":"#VALUE!"}},{"$f":"'SSI Inputs'!$E$36","v":{"$error":"#VALUE!"}},{"$f":"'SSI Inputs'!$E$38","v":{"$error":"#VALUE!"}},{"$f":"'SSI Inputs'!$E$39","v":{"$error":"#VALUE!"}},{"$f":"'SSI Inputs'!$E$40","v":{"$error":"#VALUE!"}},{"$f":"'SSI Inputs'!$R$18","v":175},{"$f":"'SSI Inputs'!$R$19","v":175},{"$f":"'SSI Inputs'!$R$20","v":175},{"$f":"'SSI Inputs'!$R$21","v":175}]
[]
[]
[]
[]
[]
[]
[]
[]
[]
[]
[]
[]
[]
[]
[]
[]
[]
[]
[]
[]
[]
[]
[]
[]
[]
[]
[]
[]
[]
[]
[]
[]
[]
[]
[]
[]
[]
[]
[]
[]
[]
[]
[]
[]
[]
[]
[]
[]
[]
[]
[]
[]
[]
[]
[]
[]
[]
[]
[]
[]
[]
[]
[]
[null,null,null,null,null,null,null,null,null,"Exposure",null,null,null,null,null,null,null,null,null,null,null,null,null,null,null,null,null,null,null,null,null,null,null,null,null,null,"Exposure-Severity-Complexity Product"]
[null,null,null,null,null,null,null,null,null,"Q1","Q2","I"]
[null,null,null,null,null,null,null,null,null,{"$f":"SUMPRODUCT($AN4:$BC4,$AN$37:$BC$37)","v":{"$error":"#VALUE!"}},{"$f":"SUMPRODUCT($BE4:$BT4,$BE$37:$BT$37)","v":{"$error":"#VALUE!"}},{"$f":"PRODUCT(J103:K103)","v":{"$error":"#VALUE!"}},null,null,null,null,null,null,null,null,null,null,null,null,null,null,null,null,null,null,null,null,null,null,null,null,{"$f":"L103*R4*AI4","v":{"$error":"#VALUE!"}}]
[null,null,null,null,null,null,null,null,null,{"$f":"SUMPRODUCT($AN5:$BC5,$AN$37:$BC$37)","v":{"$error":"#VALUE!"}},{"$f":"SUMPRODUCT($BE5:$BT5,$BE$37:$BT$37)","v":{"$error":"#VALUE!"}},{"$f":"PRODUCT(J104:K104)","v":{"$error":"#VALUE!"}},null,null,null,null,null,null,null,null,null,null,null,null,null,null,null,null,null,null,null,null,null,null,null,null,{"$f":"L104*R5*AI5","v":{"$error":"#VALUE!"}}]
[null,null,null,null,null,null,null,null,null,{"$error":"#VALUE!"},{"$error":"#VALUE!"},{"$error":"#VALUE!"},null,null,null,null,null,null,null,null,null,null,null,null,null,null,null,null,null,null,null,null,null,null,null,null,{"$error":"#VALUE!"}]
[null,null,null,null,null,null,null,null,null,{"$error":"#VALUE!"},{"$error":"#VALUE!"},{"$error":"#VALUE!"},null,null,null,null,null,null,null,null,null,null,null,null,null,null,null,null,null,null,null,null,null,null,null,null,{"$error":"#VALUE!"}]
[null,null,null,null,null,null,null,null,null,{"$error":"#VALUE!"},{"$error":"#VALUE!"},{"$error":"#VALUE!"},null,null,null,null,null,null,null,null,null,null,null,null,null,null,null,null,null,null,null,null,null,null,null,null,{"$error":"#VALUE!"}]
[null,null,null,null,null,null,null,null,null,{"$error":"#VALUE!"},{"$error":"#VALUE!"},{"$error":"#VALUE!"},null,null,null,null,null,null,null,null,null,null,null,null,null,null,null,null,null,null,null,null,null,null,null,null,{"$error":"#VALUE!"}]
[null,null,null,null,null,null,null,null,null,{"$error":"#VALUE!"},{"$error":"#VALUE!"},{"$error":"#VALUE!"},null,null,null,null,null,null,null,null,null,null,null,null,null,null,null,null,null,null,null,null,null,null,null,null,{"$error":"#VALUE!"}]
[null,null,null,null,null,null,null,null,null,{"$error":"#VALUE!"},{"$error":"#VALUE!"},{"$error":"#VALUE!"},null,null,null,null,null,null,null,null,null,null,null,null,null,null,null,null,null,null,null,null,null,null,null,null,{"$error":"#VALUE!"}]
[null,null,null,null,null,null,null,null,null,{"$error":"#VALUE!"},{"$error":"#VALUE!"},{"$error":"#VALUE!"},null,null,null,null,null,null,null,null,null,null,null,null,null,null,null,null,null,null,null,null,null,null,null,null,{"$error":"#VALUE!"}]
[null,null,null,null,null,null,null,null,null,{"$error":"#VALUE!"},{"$error":"#VALUE!"},{"$error":"#VALUE!"},null,null,null,null,null,null,null,null,null,null,null,null,null,null,null,null,null,null,null,null,null,null,null,null,{"$error":"#VALUE!"}]
[null,null,null,null,null,null,null,null,null,{"$error":"#VALUE!"},{"$error":"#VALUE!"},{"$error":"#VALUE!"},null,null,null,null,null,null,null,null,null,null,null,null,null,null,null,null,null,null,null,null,null,null,null,null,{"$error":"#VALUE!"}]
[null,null,null,null,null,null,null,null,null,{"$error":"#VALUE!"},{"$error":"#VALUE!"},{"$error":"#VALUE!"},null,null,null,null,null,null,null,null,null,null,null,null,null,null,null,null,null,null,null,null,null,null,null,null,{"$error":"#VALUE!"}]
[null,null,null,null,null,null,null,null,null,{"$error":"#VALUE!"},{"$error":"#VALUE!"},{"$error":"#VALUE!"},null,null,null,null,null,null,null,null,null,null,null,null,null,null,null,null,null,null,null,null,null,null,null,null,{"$error":"#VALUE!"}]
[null,null,null,null,null,null,null,null,null,{"$error":"#VALUE!"},{"$error":"#VALUE!"},{"$error":"#VALUE!"},null,null,null,null,null,null,null,null,null,null,null,null,null,null,null,null,null,null,null,null,null,null,null,null,{"$error":"#VALUE!"}]
[null,null,null,null,null,null,null,null,null,{"$error":"#VALUE!"},{"$error":"#VALUE!"},{"$error":"#VALUE!"},null,null,null,null,null,null,null,null,null,null,null,null,null,null,null,null,null,null,null,null,null,null,null,null,{"$error":"#VALUE!"}]
[null,null,null,null,null,null,null,null,null,{"$error":"#VALUE!"},{"$error":"#VALUE!"},{"$error":"#VALUE!"},null,null,null,null,null,null,null,null,null,null,null,null,null,null,null,null,null,null,null,null,null,null,null,null,{"$error":"#VALUE!"}]
[null,null,null,null,null,null,null,null,null,{"$error":"#VALUE!"},{"$error":"#VALUE!"},{"$error":"#VALUE!"},null,null,null,null,null,null,null,null,null,null,null,null,null,null,null,null,null,null,null,null,null,null,null,null,{"$error":"#VALUE!"}]
[null,null,null,null,null,null,null,null,null,{"$error":"#VALUE!"},{"$error":"#VALUE!"},{"$error":"#VALUE!"},null,null,null,null,null,null,null,null,null,null,null,null,null,null,null,null,null,null,null,null,null,null,null,null,{"$error":"#VALUE!"}]
[null,null,null,null,null,null,null,null,null,{"$error":"#VALUE!"},{"$error":"#VALUE!"},{"$error":"#VALUE!"},null,null,null,null,null,null,null,null,null,null,null,null,null,null,null,null,null,null,null,null,null,null,null,null,{"$error":"#VALUE!"}]
[null,null,null,null,null,null,null,null,null,{"$error":"#VALUE!"},{"$error":"#VALUE!"},{"$error":"#VALUE!"},null,null,null,null,null,null,null,null,null,null,null,null,null,null,null,null,null,null,null,null,null,null,null,null,{"$error":"#VALUE!"}]
[null,null,null,null,null,null,null,null,null,{"$error":"#VALUE!"},{"$error":"#VALUE!"},{"$error":"#VALUE!"},null,null,null,null,null,null,null,null,null,null,null,null,null,null,null,null,null,null,null,null,null,null,null,null,{"$error":"#VALUE!"}]
[null,null,null,null,null,null,null,null,null,{"$error":"#VALUE!"},{"$error":"#VALUE!"},{"$error":"#VALUE!"},null,null,null,null,null,null,null,null,null,null,null,null,null,null,null,null,null,null,null,null,null,null,null,null,{"$error":"#VALUE!"}]
[null,null,null,null,null,null,null,null,null,{"$error":"#VALUE!"},{"$error":"#VALUE!"},{"$error":"#VALUE!"},null,null,null,null,null,null,null,null,null,null,null,null,null,null,null,null,null,null,null,null,null,null,null,null,{"$error":"#VALUE!"}]
[null,null,null,null,null,null,null,null,null,{"$error":"#VALUE!"},{"$error":"#VALUE!"},{"$error":"#VALUE!"},null,null,null,null,null,null,null,null,null,null,null,null,null,null,null,null,null,null,null,null,null,null,null,null,{"$error":"#VALUE!"}]
[null,null,null,null,null,null,null,null,null,{"$error":"#VALUE!"},{"$error":"#VALUE!"},{"$error":"#VALUE!"},null,null,null,null,null,null,null,null,null,null,null,null,null,null,null,null,null,null,null,null,null,null,null,null,{"$error":"#VALUE!"}]
[null,null,null,null,null,null,null,null,null,{"$error":"#VALUE!"},{"$error":"#VALUE!"},{"$error":"#VALUE!"},null,null,null,null,null,null,null,null,null,null,null,null,null,null,null,null,null,null,null,null,null,null,null,null,{"$error":"#VALUE!"}]
[null,null,null,null,null,null,null,null,null,{"$error":"#VALUE!"},{"$error":"#VALUE!"},{"$error":"#VALUE!"},null,null,null,null,null,null,null,null,null,null,null,null,null,null,null,null,null,null,null,null,null,null,null,null,{"$error":"#VALUE!"}]
[null,null,null,null,null,null,null,null,null,{"$error":"#VALUE!"},{"$error":"#VALUE!"},{"$error":"#VALUE!"},null,null,null,null,null,null,null,null,null,null,null,null,null,null,null,null,null,null,null,null,null,null,null,null,{"$error":"#VALUE!"}]
[null,null,null,null,null,null,null,null,null,{"$error":"#VALUE!"},{"$error":"#VALUE!"},{"$error":"#VALUE!"},null,null,null,null,null,null,null,null,null,null,null,null,null,null,null,null,null,null,null,null,null,null,null,null,{"$error":"#VALUE!"}]
[null,null,null,null,null,null,null,null,null,{"$error":"#VALUE!"},{"$error":"#VALUE!"},{"$error":"#VALUE!"},null,null,null,null,null,null,null,null,null,null,null,null,null,null,null,null,null,null,null,null,null,null,null,null,{"$error":"#VALUE!"}]
[null,null,null,null,null,null,null,null,null,{"$error":"#VALUE!"},{"$error":"#VALUE!"},{"$error":"#VALUE!"},null,null,null,null,null,null,null,null,null,null,null,null,null,null,null,null,null,null,null,null,null,null,null,null,{"$error":"#VALUE!"}]
[null,null,null,null,null,null,null,null,null,{"$error":"#VALUE!"},{"$error":"#VALUE!"},{"$error":"#VALUE!"},null,null,null,null,null,null,null,null,null,null,null,null,null,null,null,null,null,null,null,null,null,null,null,null,{"$error":"#VALUE!"}]

{"sheet":"TradT_Sig","index":49,"n_rows":123,"n_cols":72,"rows_kept":123,"cut":false,"hidden":true,"merged":[[1,34,2,34],[1,36,2,36],[1,39,1,54],[1,56,1,71],[100,9,100,11],[100,36,101,36],[0,19,0,28],[0,30,0,32],[1,9,1,11],[1,13,1,17],[1,21,1,25],[1,27,1,28],[1,30,2,30],[1,31,2,31],[1,32,2,32]]}
[null,null,null,null,null,null,null,null,null,null,null,null,null,null,null,null,null,null,null,"Conflicting Traffic Complexity",null,null,null,null,null,null,null,null,null,null,"Pedestrian Complexity"]
[null,null,null,null,null,null,null,null,null,"Exposure",null,null,null,"Severity",null,null,null,null,null,"Traffic Control",null,"Conflicting Lanes",null,null,null,null,null,"Conflicting Speed",null,null,"Indirect Paths Indicator","Non-intuitive movements indicator","Pedestrian Complexity factor",null,"Total Complexity Multiplier",null,"Exposure-Severity-Complexity Product",null,null,"Included in Mvmt1",null,null,null,null,null,null,null,null,null,null,null,null,null,null,null,null,"Included in Mvmt2"]
["#","Conflict Type","Mvmt1","Mvmt1_gen","Mvmt1_SpeedCat","Mvmt2","Mvmt2_gen","Mvmt2_SpeedCat",null,"Q1","Q2","I",null,"Speed_V1","Speed_V2","Angle","delta_V","P_FSI",null,null,null,"MajC","MinC","MajM/P","MinM/P","Score",null,"Speed","Factor",null,null,null,null,null,null,null,null,null,null,"MajT1","MajL1","MajR1","MajT2","MajL2","MajR2","MinT1","MinL1","MinR1","MinT2","MinL2","MinR2","MajNM1","MajNM2","MinNM1","MinNM2",null,"MajT1","MajL1","MajR1","MajT2","MajL2","MajR2","MinT1","MinL1","MinR1","MinT2","MinL2","MinR2","MajNM1","MajNM2","MinNM1","MinNM2"]
[1,"Crossing - LT","EBT","MajT1","Major thru","WBL","MajL2","Major left",null,{"$f":"SUMPRODUCT($AN4:$BC4,$AN$25:$BC$25)","v":{"$error":"#VALUE!"}},{"$f":"SUMPRODUCT($BE4:$BT4,$BE$25:$BT$25)","v":{"$error":"#VALUE!"}},{"$f":"PRODUCT(J4:K4)","v":{"$error":"#VALUE!"}},null,{"$f":"VLOOKUP(E4,SSI_AGI_Range_VehSpeed,5,FALSE)","v":45},{"$f":"VLOOKUP(H4,SSI_AGI_Range_VehSpeed,5,FALSE)","v":20},{"$f":"IF(B4=\"Nonmotorized\",\"\",VLOOKUP(B4,SSI_AGI_Range_CollAngles,5,FALSE))","v":230},{"$f":"IF(B4=\"Nonmotorized\",\"\",SQRT(N4^2+O4^2-2*N4*O4*COS(RADIANS(P4)))/2)","v":29.924979939156898},{"$f":"IF(B4=\"Nonmotorized\",1/(1+EXP(3.8432-0.1237*O4)),(Q4/SSI_AGI_RegAlpha)^SSI_AGI_RegK+(Q4/SSI_AGI_RegAlpha)^SSI_AGI_RegK-((Q4/SSI_AGI_RegAlpha)^SSI_AGI_RegK)*((Q4/SSI_AGI_RegAlpha)^SSI_AGI_RegK))","v":9.0286582411373745E-2},null,{"$f":"IF(SSI_AGI_MajorLTPhase=\"Protected/permitted\",SSI_AGI_ProtPermFactor,IF(SSI_AGI_MajorLTPhase=\"Protected\",SSI_AGI_ProtFactor,SSI_AGI_PermFactor))","v":0.92500000000000004},null,1,null,null,null,{"$f":"MAX(1,IF(B4<>\"Pedestrian\",V4*SSI_AGI_MajorThruLanes+W4*SSI_AGI_MinorThruLanes+X4*IF(SSI_AGI_MajorThruLanes=1,SSI_AGI_MergeWeightL1,IF(SSI_AGI_MajorThruLanes=2,SSI_AGI_MergeWeightL1+SSI_AGI_MergeWeightL2,SSI_AGI_MergeWeightL1+SSI_AGI_MergeWeightL2+SSI_AGI_MergeWeightL3*(SSI_AGI_MajorThruLanes-2)))+Y4*IF(SSI_AGI_MinorThruLanes=1,SSI_AGI_MergeWeightL1,IF(SSI_AGI_MinorThruLanes=2,SSI_AGI_MergeWeightL1+SSI_AGI_MergeWeightL2,SSI_AGI_MergeWeightL1+SSI_AGI_MergeWeightL2+SSI_AGI_MergeWeightL3*(SSI_AGI_MinorThruLanes-2))),V4*SSI_AGI_MajorThruLanes+W4*SSI_AGI_MinorThruLanes+X4*IF(SSI_AGI_MajorThruLanes=1,SSI_AGI_NM_MergeWeightL1,IF(SSI_AGI_MajorThruLanes=2,SSI_AGI_NM_MergeWeightL1+SSI_AGI_NM_MergeWeightL2,SSI_AGI_NM_MergeWeightL1+SSI_AGI_NM_MergeWeightL2+SSI_AGI_NM_MergeWeightL3*(SSI_AGI_MajorThruLanes-2)))+Y4*IF(SSI_AGI_MinorThruLanes=1,SSI_AGI_NM_MergeWeightL1,IF(SSI_AGI_MinorThruLanes=2,SSI_AGI_NM_MergeWeightL1+SSI_AGI_NM_MergeWeightL2,SSI_AGI_NM_MergeWeightL1+SSI_AGI_NM_MergeWeightL2+SSI_AGI_NM_MergeWeightL3*(SSI_AGI_MinorThruLanes-2)))))","v":2},null,{"$f":"IF(B4=\"Diverging\",\"\",SSI_AGI_VehSpeed_MjrThru)","v":45},{"$f":"IF(B4=\"Diverging\",1,1-((60-AB4)/60*0.1/0.15))","v":0.83333333333333326},null,null,null,{"$f":"IF(SSI_AGI_ConsiderNMComplexity=\"Yes\",1+AE4+AF4,1)","v":1},null,{"$f":"PRODUCT(Z4,T4,AC4,AG4)","v":1.5416666666666665},null,{"$f":"L4*R4*AI4","v":{"$error":"#VALUE!"}},null,null,{"$f":"IF(ISNUMBER(SEARCH(AN$3,$D4)),1,\"\")","v":1},{"$f":"IF(ISNUMBER(SEARCH(AO$3,$D4)),1,\"\")","v":""},"","","","","","","","","","","","","","",null,{"$f":"IF(ISNUMBER(SEARCH(BE$3,$G4)),1,\"\")","v":""},{"$f":"IF(ISNUMBER(SEARCH(BF$3,$G4)),1,\"\")","v":""},"","",1,"","","","","","","","","","",""]
[2,"Crossing - LT","WBL","MajL2","Major left","NBL","MinL1","Signal near",null,{"$error":"#VALUE!"},{"$error":"#VALUE!"},{"$f":"PRODUCT(J5:K5)","v":{"$error":"#VALUE!"}},null,20,15,230,{"$f":"IF(B5=\"Nonmotorized\",\"\",SQRT(N5^2+O5^2-2*N5*O5*COS(RADIANS(P5)))/2)","v":15.895538413434787},8.3616736100371545E-3,null,{"$f":"SSI_AGI_ProtFactor","v":0.505},null,1,null,1,null,3.75,null,45,0.83333333333333326,null,null,null,1,null,1.578125,null,{"$f":"L5*R5*AI5","v":{"$error":"#VALUE!"}},null,null,{"$f":"IF(ISNUMBER(SEARCH(AN$3,$D5)),1,\"\")","v":""},"","","",1,"","","","","","","","","","","",null,{"$f":"IF(ISNUMBER(SEARCH(BE$3,$G5)),1,\"\")","v":""},"","","","","","",1,"","","","","","","",""]
[3,"Crossing - LT","EBT","MajT1","Major thru","NBL","MinL1","Signal near",null,{"$error":"#VALUE!"},{"$error":"#VALUE!"},{"$error":"#VALUE!"},null,45,15,230,27.918467333813421,6.9762185672148203E-2,null,{"$f":"SSI_AGI_ProtFactor","v":0.505},null,1,null,1,null,3.75,null,45,0.83333333333333326,null,null,null,1,null,1.578125,null,{"$error":"#VALUE!"},null,null,1,"","","","","","","","","","","","","","","",null,"","","","","","","",1,"","","","","","","",""]
[4,"Merging","EBR","MajR1","Major right","WBL","MajL2","Major left",null,{"$error":"#VALUE!"},{"$error":"#VALUE!"},{"$error":"#VALUE!"},null,15,20,45,7.0840654162717795,3.9022923271840544E-4,null,{"$f":"IF(SSI_AGI_MajorLTPhase=\"Protected/permitted\",SSI_AGI_ProtPermFactor,IF(SSI_AGI_MajorLTPhase=\"Protected\",SSI_AGI_ProtFactor,SSI_AGI_PermFactor))","v":0.92500000000000004},null,1,null,null,null,2,null,45,0.83333333333333326,null,null,null,1,null,1.5416666666666665,null,{"$error":"#VALUE!"},null,null,"","",1,"","","","","","","","","","","","","",null,"","","","",1,"","","","","","","","","","",""]
[5,"Merging","NBL","MinL1","Signal far","WBT","MajT2","Major thru",null,{"$error":"#VALUE!"},{"$error":"#VALUE!"},{"$error":"#VALUE!"},null,25,45,45,16.271214938736659,9.1348815406664795E-3,null,{"$f":"SSI_AGI_ProtFactor","v":0.505},null,1,null,1,null,3.75,null,45,0.83333333333333326,null,null,null,1,null,1.578125,null,{"$error":"#VALUE!"},null,null,"","","","","","","",1,"","","","","","","","",null,"","","",1,"","","","","","","","","","","",""]
[6,"Merging","NBR","MinR1","Signal near","EBT","MajT1","Major thru",null,{"$error":"#VALUE!"},{"$error":"#VALUE!"},{"$error":"#VALUE!"},null,15,45,45,17.995873453365363,1.3373938286506865E-2,null,{"$f":"SSI_AGI_ProtFactor","v":0.505},null,null,null,1,null,1.75,null,45,0.83333333333333326,null,null,null,1,null,0.73645833333333333,null,{"$error":"#VALUE!"},null,null,"","","","","","","","",1,"","","","","","","",null,1,"","","","","","","","","","","","","","",""]
[7,"Diverging","NBR","MinR1","Signal near","NBL","MinL1","Signal near",null,{"$error":"#VALUE!"},{"$error":"#VALUE!"},{"$error":"#VALUE!"},null,15,15,10,1.3073361412148754,6.4061388075216071E-7,null,{"$f":"SSI_AGI_PermFactor","v":1},null,null,null,null,null,1,null,"",1,null,null,null,1,null,1,null,{"$error":"#VALUE!"},null,null,"","","","","","","","",1,"","","","","","","",null,"","","","","","","",1,"","","","","","","",""]
[8,"Diverging","EBR","MajR1","Major right","EBT","MajT1","Major thru",null,{"$error":"#VALUE!"},{"$error":"#VALUE!"},{"$error":"#VALUE!"},null,15,45,10,15.169950011729762,7.0056226631585675E-3,null,{"$f":"SSI_AGI_PermFactor","v":1},null,null,null,null,null,1,null,"",1,null,null,null,1,null,1,null,{"$error":"#VALUE!"},null,null,"","",1,"","","","","","","","","","","","","",null,1,"","","","","","","","","","","","","","",""]
[9,"Diverging","WBL","MajL2","Major left","WBT","MajT2","Major thru",null,{"$error":"#VALUE!"},{"$error":"#VALUE!"},{"$error":"#VALUE!"},null,20,45,10,12.77053292327718,3.6481988362114144E-3,null,{"$f":"SSI_AGI_PermFactor","v":1},null,null,null,null,null,1,null,"",1,null,null,null,1,null,1,null,{"$error":"#VALUE!"},null,null,"","","","",1,"","","","","","","","","","","",null,"","","",1,"","","","","","","","","","","",""]
[10,"Nonmotorized",null,"MajNM1","Nonmotorized","WBT","MajT2","Major thru",null,{"$error":"#VALUE!"},{"$error":"#VALUE!"},{"$error":"#VALUE!"},null,0,45,"","",0.84855340903216459,null,{"$f":"SSI_AGI_ProtFactor","v":0.505},null,2,null,null,1,5.75,null,45,0.83333333333333326,null,null,null,1,null,2.4197916666666663,null,{"$error":"#VALUE!"},null,null,"","","","","","","","","","","","",1,"","","",null,"","","",1,"","","","","","","","","","","",""]
[11,"Nonmotorized",null,"MajNM1","Nonmotorized","NBL","MinL1","Signal far",null,{"$error":"#VALUE!"},{"$error":"#VALUE!"},{"$error":"#VALUE!"},null,0,25,"","",0.32066879346345062,null,{"$f":"IF(SSI_AGI_MinorLTPhase=\"Protected/permitted\",SSI_AGI_ProtPermFactor,IF(SSI_AGI_MinorLTPhase=\"Protected\",SSI_AGI_ProtFactor,SSI_AGI_PermFactor))","v":0.92500000000000004},null,2,null,null,1,5.75,null,45,0.83333333333333326,null,null,null,1,null,4.432291666666667,null,{"$error":"#VALUE!"},null,null,"","","","","","","","","","","","",1,"","","",null,"","","","","","","",1,"","","","","","","",""]
[12,"Nonmotorized",null,"MajNM1","Nonmotorized","EBT","MajT1","Major thru",null,{"$error":"#VALUE!"},{"$error":"#VALUE!"},{"$error":"#VALUE!"},null,0,45,"","",0.84855340903216459,null,{"$f":"SSI_AGI_ProtFactor","v":0.505},null,2,null,null,1,5.75,null,45,0.83333333333333326,null,null,null,1,null,2.4197916666666663,null,{"$error":"#VALUE!"},null,null,"","","","","","","","","","","","",1,"","","",null,1,"","","","","","","","","","","","","","",""]
[13,"Nonmotorized",null,"MajNM1","Nonmotorized","EBR","MajR1","Major right",null,{"$error":"#VALUE!"},{"$error":"#VALUE!"},{"$error":"#VALUE!"},null,0,15,"","",0.1205004039155782,null,{"$f":"SSI_AGI_ProtFactor","v":0.505},null,2,null,null,1,5.75,null,45,0.83333333333333326,null,null,null,1,null,2.4197916666666663,null,{"$error":"#VALUE!"},null,null,"","","","","","","","","","","","",1,"","","",null,"","",1,"","","","","","","","","","","","",""]
[14,"Nonmotorized",null,"MinNM1","Nonmotorized","EBR","MajR1","Major right",null,{"$error":"#VALUE!"},{"$error":"#VALUE!"},{"$error":"#VALUE!"},null,0,15,"","",0.1205004039155782,null,{"$f":"SSI_AGI_ProtFactor","v":0.505},null,null,2,2,null,7.5,null,45,0.83333333333333326,null,null,null,1,null,3.15625,null,{"$error":"#VALUE!"},null,null,"","","","","","","","","","","","","","",1,"",null,"","",1,"","","","","","","","","","","","",""]
[15,"Nonmotorized",null,"MinNM1","Nonmotorized","WBL","MajL2","Major left",null,{"$error":"#VALUE!"},{"$error":"#VALUE!"},{"$error":"#VALUE!"},null,0,20,"","",0.20274912921655375,null,{"$f":"IF(SSI_AGI_MajorLTPhase=\"Protected/permitted\",SSI_AGI_ProtPermFactor,IF(SSI_AGI_MajorLTPhase=\"Protected\",SSI_AGI_ProtFactor,SSI_AGI_PermFactor))","v":0.92500000000000004},null,null,2,2,null,7.5,null,45,0.83333333333333326,null,null,null,1,null,5.7812499999999991,null,{"$error":"#VALUE!"},null,null,"","","","","","","","","","","","","","",1,"",null,"","","","",1,"","","","","","","","","","",""]
[16,"Nonmotorized",null,"MinNM1","Nonmotorized","NBL","MinL1","Signal near",null,{"$error":"#VALUE!"},{"$error":"#VALUE!"},{"$error":"#VALUE!"},null,0,15,"","",0.1205004039155782,null,{"$f":"SSI_AGI_ProtFactor","v":0.505},null,null,2,2,null,7.5,null,45,0.83333333333333326,null,null,null,1,null,3.15625,null,{"$error":"#VALUE!"},null,null,"","","","","","","","","","","","","","",1,"",null,"","","","","","","",1,"","","","","","","",""]
[17,"Nonmotorized",null,"MinNM1","Nonmotorized","NBR","MinR1","Signal near",null,{"$error":"#VALUE!"},{"$error":"#VALUE!"},{"$error":"#VALUE!"},null,0,15,"","",0.1205004039155782,null,0.505,null,null,2,2,null,7.5,null,45,0.83333333333333326,null,null,null,1,null,3.15625,null,{"$error":"#VALUE!"},null,null,"","","","","","","","","","","","","","",1,"",null,"","","","","","","","",1,"","","","","","",""]
[18,"Nonmotorized",null,"MajNM2","Nonmotorized","NBR","MinR1","Signal near",null,{"$error":"#VALUE!"},{"$error":"#VALUE!"},{"$error":"#VALUE!"},null,0,15,"","",0.1205004039155782,null,0.505,null,2,null,null,1,5.75,null,45,0.83333333333333326,null,null,null,1,null,2.4197916666666663,null,{"$error":"#VALUE!"},null,null,"","","","","","","","","","","","","",1,"","",null,"","","","","","","","",1,"","","","","","",""]
[19,"Nonmotorized",null,"MajNM2","Nonmotorized","EBT","MajT1","Major thru",null,{"$error":"#VALUE!"},{"$error":"#VALUE!"},{"$error":"#VALUE!"},null,0,45,"","",0.84855340903216459,null,0.505,null,2,null,null,1,5.75,null,45,0.83333333333333326,null,null,null,1,null,2.4197916666666663,null,{"$error":"#VALUE!"},null,null,"","","","","","","","","","","","","",1,"","",null,1,"","","","","","","","","","","","","","",""]
[20,"Nonmotorized",null,"MajNM2","Nonmotorized","WBL","MajL2","Major left",null,{"$error":"#VALUE!"},{"$error":"#VALUE!"},{"$error":"#VALUE!"},null,0,20,"","",0.20274912921655375,null,0.505,null,2,null,null,1,5.75,null,45,0.83333333333333326,null,null,null,1,null,2.4197916666666663,null,{"$error":"#VALUE!"},null,null,"","","","","","","","","","","","","",1,"","",null,"","","","",1,"","","","","","","","","","",""]
[21,"Nonmotorized",null,"MajNM2","Nonmotorized","WBT","MajT2","Major thru",null,{"$error":"#VALUE!"},{"$error":"#VALUE!"},{"$error":"#VALUE!"},null,0,45,"","",0.84855340903216459,null,0.505,null,2,null,null,1,5.75,null,45,0.83333333333333326,null,null,null,1,null,2.4197916666666663,null,{"$error":"#VALUE!"},null,null,"","","","","","","","","","","","","",1,"","",null,"","","",1,"","","","","","","","","","","",""]
[null,null,null,null,null,null,null,null,null,null,null,null,null,null,null,null,null,null,null,null,null,null,null,null,null,null,null,null,null,null,null,null,null,null,null,null,null,null,null,{"$f":"'SSI Inputs'!$D$26","v":{"$error":"#VALUE!"}},{"$f":"'SSI Inputs'!$D$27","v":{"$error":"#VALUE!"}},{"$f":"'SSI Inputs'!$D$28","v":{"$error":"#VALUE!"}},{"$f":"'SSI Inputs'!$D$30","v":{"$error":"#VALUE!"}},{"$f":"'SSI Inputs'!$D$31","v":{"$error":"#VALUE!"}},{"$f":"'SSI Inputs'!$D$32","v":{"$error":"#VALUE!"}},{"$f":"'SSI Inputs'!$D$34","v":{"$error":"#VALUE!"}},{"$f":"'SSI Inputs'!$D$35","v":{"$error":"#VALUE!"}},{"$f":"'SSI Inputs'!$D$36","v":{"$error":"#VALUE!"}},{"$f":"'SSI Inputs'!$D$38","v":{"$error":"#VALUE!"}},{"$f":"'SSI Inputs'!$D$39","v":{"$error":"#VALUE!"}},{"$f":"'SSI Inputs'!$D$40","v":{"$error":"#VALUE!"}},{"$f":"'SSI Inputs'!$Q$18","v":175},{"$f":"'SSI Inputs'!$Q$19","v":175},{"$f":"'SSI Inputs'!$Q$20","v":175},{"$f":"'SSI Inputs'!$Q$21","v":175},null,{"$f":"'SSI Inputs'!$D$26","v":{"$error":"#VALUE!"}},{"$f":"'SSI Inputs'!$D$27","v":{"$error":"#VALUE!"}},{"$f":"'SSI Inputs'!$D$28","v":{"$error":"#VALUE!"}},{"$f":"'SSI Inputs'!$D$30","v":{"$error":"#VALUE!"}},{"$f":"'SSI Inputs'!$D$31","v":{"$error":"#VALUE!"}},{"$f":"'SSI Inputs'!$D$32","v":{"$error":"#VALUE!"}},{"$f":"'SSI Inputs'!$D$34","v":{"$error":"#VALUE!"}},{"$f":"'SSI Inputs'!$D$35","v":{"$error":"#VALUE!"}},{"$f":"'SSI Inputs'!$D$36","v":{"$error":"#VALUE!"}},{"$f":"'SSI Inputs'!$D$38","v":{"$error":"#VALUE!"}},{"$f":"'SSI Inputs'!$D$39","v":{"$error":"#VALUE!"}},{"$f":"'SSI Inputs'!$D$40","v":{"$error":"#VALUE!"}},{"$f":"'SSI Inputs'!$Q$18","v":175},{"$f":"'SSI Inputs'!$Q$19","v":175},{"$f":"'SSI Inputs'!$Q$20","v":175},{"$f":"'SSI Inputs'!$Q$21","v":175}]
[null,null,null,null,null,null,null,null,null,null,null,null,null,null,null,null,null,null,null,null,null,null,null,null,null,null,null,null,null,null,null,null,null,null,null,null,null,null,"D",{"$f":"'SSI Inputs'!$E$26","v":{"$error":"#VALUE!"}},{"$f":"'SSI Inputs'!$E$27","v":{"$error":"#VALUE!"}},{"$f":"'SSI Inputs'!$E$28","v":{"$error":"#VALUE!"}},{"$f":"'SSI Inputs'!$E$30","v":{"$error":"#VALUE!"}},{"$f":"'SSI Inputs'!$E$31","v":{"$error":"#VALUE!"}},{"$f":"'SSI Inputs'!$E$32","v":{"$error":"#VALUE!"}},{"$f":"'SSI Inputs'!$E$34","v":{"$error":"#VALUE!"}},{"$f":"'SSI Inputs'!$E$35","v":{"$error":"#VALUE!"}},{"$f":"'SSI Inputs'!$E$36","v":{"$error":"#VALUE!"}},{"$f":"'SSI Inputs'!$E$38","v":{"$error":"#VALUE!"}},{"$f":"'SSI Inputs'!$E$39","v":{"$error":"#VALUE!"}},{"$f":"'SSI Inputs'!$E$40","v":{"$error":"#VALUE!"}},{"$f":"'SSI Inputs'!$R$18","v":175},{"$f":"'SSI Inputs'!$R$19","v":175},{"$f":"'SSI Inputs'!$R$20","v":175},{"$f":"'SSI Inputs'!$R$21","v":175},"D",{"$f":"'SSI Inputs'!$E$26","v":{"$error":"#VALUE!"}},{"$f":"'SSI Inputs'!$E$27","v":{"$error":"#VALUE!"}},{"$f":"'SSI Inputs'!$E$28","v":{"$error":"#VALUE!"}},{"$f":"'SSI Inputs'!$E$30","v":{"$error":"#VALUE!"}},{"$f":"'SSI Inputs'!$E$31","v":{"$error":"#VALUE!"}},{"$f":"'SSI Inputs'!$E$32","v":{"$error":"#VALUE!"}},{"$f":"'SSI Inputs'!$E$34","v":{"$error":"#VALUE!"}},{"$f":"'SSI Inputs'!$E$35","v":{"$error":"#VALUE!"}},{"$f":"'SSI Inputs'!$E$36","v":{"$error":"#VALUE!"}},{"$f":"'SSI Inputs'!$E$38","v":{"$error":"#VALUE!"}},{"$f":"'SSI Inputs'!$E$39","v":{"$error":"#VALUE!"}},{"$f":"'SSI Inputs'!$E$40","v":{"$error":"#VALUE!"}},{"$f":"'SSI Inputs'!$R$18","v":175},{"$f":"'SSI Inputs'!$R$19","v":175},{"$f":"'SSI Inputs'!$R$20","v":175},{"$f":"'SSI Inputs'!$R$21","v":175}]
[]
[]
[]
[]
[]
[]
[]
[]
[]
[]
[]
[]
[]
[]
[]
[]
[]
[]
[]
[]
[]
[]
[]
[]
[]
[]
[]
[]
[]
[]
[]
[]
[]
[]
[]
[]
[]
[]
[]
[]
[]
[]
[]
[]
[]
[]
[]
[]
[]
[]
[]
[]
[]
[]
[]
[]
[]
[]
[]
[]
[]
[]
[]
[]
[]
[]
[]
[]
[]
[]
[]
[]
[]
[]
[null,null,null,null,null,null,null,null,null,"Exposure",null,null,null,null,null,null,null,null,null,null,null,null,null,null,null,null,null,null,null,null,null,null,null,null,null,null,"Exposure-Severity-Complexity Product"]
[null,null,null,null,null,null,null,null,null,"Q1","Q2","I"]
[null,null,null,null,null,null,null,null,null,{"$f":"SUMPRODUCT($AN4:$BC4,$AN$26:$BC$26)","v":{"$error":"#VALUE!"}},{"$f":"SUMPRODUCT($BE4:$BT4,$BE$26:$BT$26)","v":{"$error":"#VALUE!"}},{"$f":"PRODUCT(J103:K103)","v":{"$error":"#VALUE!"}},null,null,null,null,null,null,null,null,null,null,null,null,null,null,null,null,null,null,null,null,null,null,null,null,{"$f":"L103*R4*AI4","v":{"$error":"#VALUE!"}}]
[null,null,null,null,null,null,null,null,null,{"$f":"SUMPRODUCT($AN5:$BC5,$AN$26:$BC$26)","v":{"$error":"#VALUE!"}},{"$f":"SUMPRODUCT($BE5:$BT5,$BE$26:$BT$26)","v":{"$error":"#VALUE!"}},{"$f":"PRODUCT(J104:K104)","v":{"$error":"#VALUE!"}},null,null,null,null,null,null,null,null,null,null,null,null,null,null,null,null,null,null,null,null,null,null,null,null,{"$f":"L104*R5*AI5","v":{"$error":"#VALUE!"}}]
[null,null,null,null,null,null,null,null,null,{"$error":"#VALUE!"},{"$error":"#VALUE!"},{"$error":"#VALUE!"},null,null,null,null,null,null,null,null,null,null,null,null,null,null,null,null,null,null,null,null,null,null,null,null,{"$error":"#VALUE!"}]
[null,null,null,null,null,null,null,null,null,{"$error":"#VALUE!"},{"$error":"#VALUE!"},{"$error":"#VALUE!"},null,null,null,null,null,null,null,null,null,null,null,null,null,null,null,null,null,null,null,null,null,null,null,null,{"$error":"#VALUE!"}]
[null,null,null,null,null,null,null,null,null,{"$error":"#VALUE!"},{"$error":"#VALUE!"},{"$error":"#VALUE!"},null,null,null,null,null,null,null,null,null,null,null,null,null,null,null,null,null,null,null,null,null,null,null,null,{"$error":"#VALUE!"}]
[null,null,null,null,null,null,null,null,null,{"$error":"#VALUE!"},{"$error":"#VALUE!"},{"$error":"#VALUE!"},null,null,null,null,null,null,null,null,null,null,null,null,null,null,null,null,null,null,null,null,null,null,null,null,{"$error":"#VALUE!"}]
[null,null,null,null,null,null,null,null,null,{"$error":"#VALUE!"},{"$error":"#VALUE!"},{"$error":"#VALUE!"},null,null,null,null,null,null,null,null,null,null,null,null,null,null,null,null,null,null,null,null,null,null,null,null,{"$error":"#VALUE!"}]
[null,null,null,null,null,null,null,null,null,{"$error":"#VALUE!"},{"$error":"#VALUE!"},{"$error":"#VALUE!"},null,null,null,null,null,null,null,null,null,null,null,null,null,null,null,null,null,null,null,null,null,null,null,null,{"$error":"#VALUE!"}]
[null,null,null,null,null,null,null,null,null,{"$error":"#VALUE!"},{"$error":"#VALUE!"},{"$error":"#VALUE!"},null,null,null,null,null,null,null,null,null,null,null,null,null,null,null,null,null,null,null,null,null,null,null,null,{"$error":"#VALUE!"}]
[null,null,null,null,null,null,null,null,null,{"$error":"#VALUE!"},{"$error":"#VALUE!"},{"$error":"#VALUE!"},null,null,null,null,null,null,null,null,null,null,null,null,null,null,null,null,null,null,null,null,null,null,null,null,{"$error":"#VALUE!"}]
[null,null,null,null,null,null,null,null,null,{"$error":"#VALUE!"},{"$error":"#VALUE!"},{"$error":"#VALUE!"},null,null,null,null,null,null,null,null,null,null,null,null,null,null,null,null,null,null,null,null,null,null,null,null,{"$error":"#VALUE!"}]
[null,null,null,null,null,null,null,null,null,{"$error":"#VALUE!"},{"$error":"#VALUE!"},{"$error":"#VALUE!"},null,null,null,null,null,null,null,null,null,null,null,null,null,null,null,null,null,null,null,null,null,null,null,null,{"$error":"#VALUE!"}]
[null,null,null,null,null,null,null,null,null,{"$error":"#VALUE!"},{"$error":"#VALUE!"},{"$error":"#VALUE!"},null,null,null,null,null,null,null,null,null,null,null,null,null,null,null,null,null,null,null,null,null,null,null,null,{"$error":"#VALUE!"}]
[null,null,null,null,null,null,null,null,null,{"$error":"#VALUE!"},{"$error":"#VALUE!"},{"$error":"#VALUE!"},null,null,null,null,null,null,null,null,null,null,null,null,null,null,null,null,null,null,null,null,null,null,null,null,{"$error":"#VALUE!"}]
[null,null,null,null,null,null,null,null,null,{"$error":"#VALUE!"},{"$error":"#VALUE!"},{"$error":"#VALUE!"},null,null,null,null,null,null,null,null,null,null,null,null,null,null,null,null,null,null,null,null,null,null,null,null,{"$error":"#VALUE!"}]
[null,null,null,null,null,null,null,null,null,{"$error":"#VALUE!"},{"$error":"#VALUE!"},{"$error":"#VALUE!"},null,null,null,null,null,null,null,null,null,null,null,null,null,null,null,null,null,null,null,null,null,null,null,null,{"$error":"#VALUE!"}]
[null,null,null,null,null,null,null,null,null,{"$error":"#VALUE!"},{"$error":"#VALUE!"},{"$error":"#VALUE!"},null,null,null,null,null,null,null,null,null,null,null,null,null,null,null,null,null,null,null,null,null,null,null,null,{"$error":"#VALUE!"}]
[null,null,null,null,null,null,null,null,null,{"$error":"#VALUE!"},{"$error":"#VALUE!"},{"$error":"#VALUE!"},null,null,null,null,null,null,null,null,null,null,null,null,null,null,null,null,null,null,null,null,null,null,null,null,{"$error":"#VALUE!"}]
[null,null,null,null,null,null,null,null,null,{"$error":"#VALUE!"},{"$error":"#VALUE!"},{"$error":"#VALUE!"},null,null,null,null,null,null,null,null,null,null,null,null,null,null,null,null,null,null,null,null,null,null,null,null,{"$error":"#VALUE!"}]
[null,null,null,null,null,null,null,null,null,{"$error":"#VALUE!"},{"$error":"#VALUE!"},{"$error":"#VALUE!"},null,null,null,null,null,null,null,null,null,null,null,null,null,null,null,null,null,null,null,null,null,null,null,null,{"$error":"#VALUE!"}]
[null,null,null,null,null,null,null,null,null,{"$error":"#VALUE!"},{"$error":"#VALUE!"},{"$error":"#VALUE!"},null,null,null,null,null,null,null,null,null,null,null,null,null,null,null,null,null,null,null,null,null,null,null,null,{"$error":"#VALUE!"}]

{"sheet":"TradT_AWSC","index":50,"n_rows":123,"n_cols":72,"rows_kept":123,"cut":false,"hidden":true,"merged":[[1,34,2,34],[1,36,2,36],[1,39,1,54],[1,56,1,71],[100,9,100,11],[100,36,101,36],[0,19,0,28],[0,30,0,32],[1,9,1,11],[1,13,1,17],[1,21,1,25],[1,27,1,28],[1,30,2,30],[1,31,2,31],[1,32,2,32]]}
[null,null,null,null,null,null,null,null,null,null,null,null,null,null,null,null,null,null,null,"Conflicting Traffic Complexity",null,null,null,null,null,null,null,null,null,null,"Pedestrian Complexity"]
[null,null,null,null,null,null,null,null,null,"Exposure",null,null,null,"Severity",null,null,null,null,null,"Traffic Control",null,"Conflicting Lanes",null,null,null,null,null,"Conflicting Speed",null,null,"Indirect Paths Indicator","Non-intuitive movements indicator","Pedestrian Complexity factor",null,"Total Complexity Multiplier",null,"Exposure-Severity-Complexity Product",null,null,"Included in Mvmt1",null,null,null,null,null,null,null,null,null,null,null,null,null,null,null,null,"Included in Mvmt2"]
["#","Conflict Type","Mvmt1","Mvmt1_gen","Mvmt1_SpeedCat","Mvmt2","Mvmt2_gen","Mvmt2_SpeedCat",null,"Q1","Q2","I",null,"Speed_V1","Speed_V2","Angle","delta_V","P_FSI",null,null,null,"MajC","MinC","MajM/P","MinM/P","Score",null,"Speed","Factor",null,null,null,null,null,null,null,null,null,null,"MajT1","MajL1","MajR1","MajT2","MajL2","MajR2","MinT1","MinL1","MinR1","MinT2","MinL2","MinR2","MajNM1","MajNM2","MinNM1","MinNM2",null,"MajT1","MajL1","MajR1","MajT2","MajL2","MajR2","MinT1","MinL1","MinR1","MinT2","MinL2","MinR2","MajNM1","MajNM2","MinNM1","MinNM2"]
[1,"Crossing - LT","EBT","MajT1","Stop near","WBL","MajL2","Stop far",null,{"$f":"SUMPRODUCT($AN4:$BC4,$AN$25:$BC$25)","v":{"$error":"#VALUE!"}},{"$f":"SUMPRODUCT($BE4:$BT4,$BE$25:$BT$25)","v":{"$error":"#VALUE!"}},{"$f":"PRODUCT(J4:K4)","v":{"$error":"#VALUE!"}},null,{"$f":"VLOOKUP(E4,SSI_AGI_Range_VehSpeed,5,FALSE)","v":15},{"$f":"VLOOKUP(H4,SSI_AGI_Range_VehSpeed,5,FALSE)","v":25},{"$f":"IF(B4=\"Nonmotorized\",\"\",VLOOKUP(B4,SSI_AGI_Range_CollAngles,5,FALSE))","v":230},{"$f":"IF(B4=\"Nonmotorized\",\"\",SQRT(N4^2+O4^2-2*N4*O4*COS(RADIANS(P4)))/2)","v":18.248908921254063},{"$f":"IF(B4=\"Nonmotorized\",1/(1+EXP(3.8432-0.1237*O4)),(Q4/SSI_AGI_RegAlpha)^SSI_AGI_RegK+(Q4/SSI_AGI_RegAlpha)^SSI_AGI_RegK-((Q4/SSI_AGI_RegAlpha)^SSI_AGI_RegK)*((Q4/SSI_AGI_RegAlpha)^SSI_AGI_RegK))","v":1.4099039069818802E-2},null,{"$f":"SSI_AGI_StopFactor","v":0.72500000000000009},null,1,null,null,null,{"$f":"MAX(1,IF(B4<>\"Pedestrian\",V4*SSI_AGI_MajorThruLanes+W4*SSI_AGI_MinorThruLanes+X4*IF(SSI_AGI_MajorThruLanes=1,SSI_AGI_MergeWeightL1,IF(SSI_AGI_MajorThruLanes=2,SSI_AGI_MergeWeightL1+SSI_AGI_MergeWeightL2,SSI_AGI_MergeWeightL1+SSI_AGI_MergeWeightL2+SSI_AGI_MergeWeightL3*(SSI_AGI_MajorThruLanes-2)))+Y4*IF(SSI_AGI_MinorThruLanes=1,SSI_AGI_MergeWeightL1,IF(SSI_AGI_MinorThruLanes=2,SSI_AGI_MergeWeightL1+SSI_AGI_MergeWeightL2,SSI_AGI_MergeWeightL1+SSI_AGI_MergeWeightL2+SSI_AGI_MergeWeightL3*(SSI_AGI_MinorThruLanes-2))),V4*SSI_AGI_MajorThruLanes+W4*SSI_AGI_MinorThruLanes+X4*IF(SSI_AGI_MajorThruLanes=1,SSI_AGI_NM_MergeWeightL1,IF(SSI_AGI_MajorThruLanes=2,SSI_AGI_NM_MergeWeightL1+SSI_AGI_NM_MergeWeightL2,SSI_AGI_NM_MergeWeightL1+SSI_AGI_NM_MergeWeightL2+SSI_AGI_NM_MergeWeightL3*(SSI_AGI_MajorThruLanes-2)))+Y4*IF(SSI_AGI_MinorThruLanes=1,SSI_AGI_NM_MergeWeightL1,IF(SSI_AGI_MinorThruLanes=2,SSI_AGI_NM_MergeWeightL1+SSI_AGI_NM_MergeWeightL2,SSI_AGI_NM_MergeWeightL1+SSI_AGI_NM_MergeWeightL2+SSI_AGI_NM_MergeWeightL3*(SSI_AGI_MinorThruLanes-2)))))","v":2},null,{"$f":"IF(B4=\"Diverging\",\"\",SSI_AGI_VehSpeed_MjrThru)","v":45},{"$f":"IF(B4=\"Diverging\",1,1-((60-AB4)/60*0.1/0.15))","v":0.83333333333333326},null,null,null,{"$f":"IF(SSI_AGI_ConsiderNMComplexity=\"Yes\",1+AE4+AF4,1)","v":1},null,{"$f":"PRODUCT(Z4,T4,AC4,AG4)","v":1.2083333333333335},null,{"$f":"L4*R4*AI4","v":{"$error":"#VALUE!"}},null,null,{"$f":"IF(ISNUMBER(SEARCH(AN$3,$D4)),1,\"\")","v":1},{"$f":"IF(ISNUMBER(SEARCH(AO$3,$D4)),1,\"\")","v":""},"","","","","","","","","","","","","","",null,{"$f":"IF(ISNUMBER(SEARCH(BE$3,$G4)),1,\"\")","v":""},{"$f":"IF(ISNUMBER(SEARCH(BF$3,$G4)),1,\"\")","v":""},"","",1,"","","","","","","","","","",""]
[2,"Crossing - LT","WBL","MajL2","Stop far","NBL","MinL1","Stop near",null,{"$error":"#VALUE!"},{"$error":"#VALUE!"},{"$f":"PRODUCT(J5:K5)","v":{"$error":"#VALUE!"}},null,25,15,230,{"$f":"IF(B5=\"Nonmotorized\",\"\",SQRT(N5^2+O5^2-2*N5*O5*COS(RADIANS(P5)))/2)","v":18.248908921254063},1.4099039069818802E-2,null,0.72500000000000009,null,1,null,1,null,3.75,null,45,0.83333333333333326,null,null,null,1,null,2.265625,null,{"$f":"L5*R5*AI5","v":{"$error":"#VALUE!"}},null,null,{"$f":"IF(ISNUMBER(SEARCH(AN$3,$D5)),1,\"\")","v":""},"","","",1,"","","","","","","","","","","",null,{"$f":"IF(ISNUMBER(SEARCH(BE$3,$G5)),1,\"\")","v":""},"","","","","","",1,"","","","","","","",""]
[3,"Crossing - LT","EBT","MajT1","Stop near","NBL","MinL1","Stop far",null,{"$error":"#VALUE!"},{"$error":"#VALUE!"},{"$error":"#VALUE!"},null,15,25,230,18.248908921254063,1.4099039069818802E-2,null,0.72500000000000009,null,1,null,1,null,3.75,null,45,0.83333333333333326,null,null,null,1,null,2.265625,null,{"$error":"#VALUE!"},null,null,1,"","","","","","","","","","","","","","","",null,"","","","","","","",1,"","","","","","","",""]
[4,"Merging","EBR","MajR1","Stop near","WBL","MajL2","Stop far",null,{"$error":"#VALUE!"},{"$error":"#VALUE!"},{"$error":"#VALUE!"},null,15,25,45,8.9396576292116645,9.4329959592674944E-4,null,0.72500000000000009,null,1,null,null,null,2,null,45,0.83333333333333326,null,null,null,1,null,1.2083333333333335,null,{"$error":"#VALUE!"},null,null,"","",1,"","","","","","","","","","","","","",null,"","","","",1,"","","","","","","","","","",""]
[5,"Merging","NBL","MinL1","Stop far","WBT","MajT2","Stop far",null,{"$error":"#VALUE!"},{"$error":"#VALUE!"},{"$error":"#VALUE!"},null,25,25,45,9.5670858091272439,1.2201154392262267E-3,null,0.72500000000000009,null,1,null,1,null,3.75,null,45,0.83333333333333326,null,null,null,1,null,2.265625,null,{"$error":"#VALUE!"},null,null,"","","","","","","",1,"","","","","","","","",null,"","","",1,"","","","","","","","","","","",""]
[6,"Merging","NBR","MinR1","Stop near","EBT","MajT1","Stop far",null,{"$error":"#VALUE!"},{"$error":"#VALUE!"},{"$error":"#VALUE!"},null,15,25,45,8.9396576292116645,9.4329959592674944E-4,null,0.72500000000000009,null,null,null,1,null,1.75,null,45,0.83333333333333326,null,null,null,1,null,1.0572916666666667,null,{"$error":"#VALUE!"},null,null,"","","","","","","","",1,"","","","","","","",null,1,"","","","","","","","","","","","","","",""]
[7,"Diverging","NBR","MinR1","Stop near","NBL","MinL1","Stop near",null,{"$error":"#VALUE!"},{"$error":"#VALUE!"},{"$error":"#VALUE!"},null,15,15,10,1.3073361412148754,6.4061388075216071E-7,null,{"$f":"SSI_AGI_PermFactor","v":1},null,null,null,null,null,1,null,"",1,null,null,null,1,null,1,null,{"$error":"#VALUE!"},null,null,"","","","","","","","",1,"","","","","","","",null,"","","","","","","",1,"","","","","","","",""]
[8,"Diverging","EBR","MajR1","Stop near","EBT","MajT1","Stop near",null,{"$error":"#VALUE!"},{"$error":"#VALUE!"},{"$error":"#VALUE!"},null,15,15,10,1.3073361412148754,6.4061388075216071E-7,null,{"$f":"SSI_AGI_PermFactor","v":1},null,null,null,null,null,1,null,"",1,null,null,null,1,null,1,null,{"$error":"#VALUE!"},null,null,"","",1,"","","","","","","","","","","","","",null,1,"","","","","","","","","","","","","","",""]
[9,"Diverging","WBL","MajL2","Stop near","WBT","MajT2","Stop near",null,{"$error":"#VALUE!"},{"$error":"#VALUE!"},{"$error":"#VALUE!"},null,15,15,10,1.3073361412148754,6.4061388075216071E-7,null,{"$f":"SSI_AGI_PermFactor","v":1},null,null,null,null,null,1,null,"",1,null,null,null,1,null,1,null,{"$error":"#VALUE!"},null,null,"","","","",1,"","","","","","","","","","","",null,"","","",1,"","","","","","","","","","","",""]
[10,"Nonmotorized",null,"MajNM1","Nonmotorized","WBT","MajT2","Stop far",null,{"$error":"#VALUE!"},{"$error":"#VALUE!"},{"$error":"#VALUE!"},null,0,25,"","",0.32066879346345062,null,{"$f":"SSI_AGI_StopFactor","v":0.72500000000000009},null,2,null,null,1,5.75,null,45,0.83333333333333326,null,null,null,1,null,3.473958333333333,null,{"$error":"#VALUE!"},null,null,"","","","","","","","","","","","",1,"","","",null,"","","",1,"","","","","","","","","","","",""]
[11,"Nonmotorized",null,"MajNM1","Nonmotorized","NBL","MinL1","Stop far",null,{"$error":"#VALUE!"},{"$error":"#VALUE!"},{"$error":"#VALUE!"},null,0,25,"","",0.32066879346345062,null,0.72500000000000009,null,2,null,null,1,5.75,null,45,0.83333333333333326,null,null,null,1,null,3.473958333333333,null,{"$error":"#VALUE!"},null,null,"","","","","","","","","","","","",1,"","","",null,"","","","","","","",1,"","","","","","","",""]
[12,"Nonmotorized",null,"MajNM1","Nonmotorized","EBT","MajT1","Stop near",null,{"$error":"#VALUE!"},{"$error":"#VALUE!"},{"$error":"#VALUE!"},null,0,15,"","",0.1205004039155782,null,0.72500000000000009,null,2,null,null,1,5.75,null,45,0.83333333333333326,null,null,null,1,null,3.473958333333333,null,{"$error":"#VALUE!"},null,null,"","","","","","","","","","","","",1,"","","",null,1,"","","","","","","","","","","","","","",""]
[13,"Nonmotorized",null,"MajNM1","Nonmotorized","EBR","MajR1","Stop near",null,{"$error":"#VALUE!"},{"$error":"#VALUE!"},{"$error":"#VALUE!"},null,0,15,"","",0.1205004039155782,null,0.72500000000000009,null,2,null,null,1,5.75,null,45,0.83333333333333326,null,null,null,1,null,3.473958333333333,null,{"$error":"#VALUE!"},null,null,"","","","","","","","","","","","",1,"","","",null,"","",1,"","","","","","","","","","","","",""]
[14,"Nonmotorized",null,"MinNM1","Nonmotorized","EBR","MajR1","Stop near",null,{"$error":"#VALUE!"},{"$error":"#VALUE!"},{"$error":"#VALUE!"},null,0,15,"","",0.1205004039155782,null,0.72500000000000009,null,null,2,2,null,7.5,null,45,0.83333333333333326,null,null,null,1,null,4.53125,null,{"$error":"#VALUE!"},null,null,"","","","","","","","","","","","","","",1,"",null,"","",1,"","","","","","","","","","","","",""]
[15,"Nonmotorized",null,"MinNM1","Nonmotorized","WBL","MajL2","Stop far",null,{"$error":"#VALUE!"},{"$error":"#VALUE!"},{"$error":"#VALUE!"},null,0,25,"","",0.32066879346345062,null,0.72500000000000009,null,null,2,2,null,7.5,null,45,0.83333333333333326,null,null,null,1,null,4.53125,null,{"$error":"#VALUE!"},null,null,"","","","","","","","","","","","","","",1,"",null,"","","","",1,"","","","","","","","","","",""]
[16,"Nonmotorized",null,"MinNM1","Nonmotorized","NBL","MinL1","Stop near",null,{"$error":"#VALUE!"},{"$error":"#VALUE!"},{"$error":"#VALUE!"},null,0,15,"","",0.1205004039155782,null,0.72500000000000009,null,null,2,2,null,7.5,null,45,0.83333333333333326,null,null,null,1,null,4.53125,null,{"$error":"#VALUE!"},null,null,"","","","","","","","","","","","","","",1,"",null,"","","","","","","",1,"","","","","","","",""]
[17,"Nonmotorized",null,"MinNM1","Nonmotorized","NBR","MinR1","Stop near",null,{"$error":"#VALUE!"},{"$error":"#VALUE!"},{"$error":"#VALUE!"},null,0,15,"","",0.1205004039155782,null,0.72500000000000009,null,null,2,2,null,7.5,null,45,0.83333333333333326,null,null,null,1,null,4.53125,null,{"$error":"#VALUE!"},null,null,"","","","","","","","","","","","","","",1,"",null,"","","","","","","","",1,"","","","","","",""]
[18,"Nonmotorized",null,"MajNM2","Nonmotorized","NBR","MinR1","Stop near",null,{"$error":"#VALUE!"},{"$error":"#VALUE!"},{"$error":"#VALUE!"},null,0,15,"","",0.1205004039155782,null,0.72500000000000009,null,2,null,null,1,5.75,null,45,0.83333333333333326,null,null,null,1,null,3.473958333333333,null,{"$error":"#VALUE!"},null,null,"","","","","","","","","","","","","",1,"","",null,"","","","","","","","",1,"","","","","","",""]
[19,"Nonmotorized",null,"MajNM2","Nonmotorized","EBT","MajT1","Stop far",null,{"$error":"#VALUE!"},{"$error":"#VALUE!"},{"$error":"#VALUE!"},null,0,25,"","",0.32066879346345062,null,0.72500000000000009,null,2,null,null,1,5.75,null,45,0.83333333333333326,null,null,null,1,null,3.473958333333333,null,{"$error":"#VALUE!"},null,null,"","","","","","","","","","","","","",1,"","",null,1,"","","","","","","","","","","","","","",""]
[20,"Nonmotorized",null,"MajNM2","Nonmotorized","WBL","MajL2","Stop near",null,{"$error":"#VALUE!"},{"$error":"#VALUE!"},{"$error":"#VALUE!"},null,0,15,"","",0.1205004039155782,null,0.72500000000000009,null,2,null,null,1,5.75,null,45,0.83333333333333326,null,null,null,1,null,3.473958333333333,null,{"$error":"#VALUE!"},null,null,"","","","","","","","","","","","","",1,"","",null,"","","","",1,"","","","","","","","","","",""]
[21,"Nonmotorized",null,"MajNM2","Nonmotorized","WBT","MajT2","Stop near",null,{"$error":"#VALUE!"},{"$error":"#VALUE!"},{"$error":"#VALUE!"},null,0,15,"","",0.1205004039155782,null,0.72500000000000009,null,2,null,null,1,5.75,null,45,0.83333333333333326,null,null,null,1,null,3.473958333333333,null,{"$error":"#VALUE!"},null,null,"","","","","","","","","","","","","",1,"","",null,"","","",1,"","","","","","","","","","","",""]
[null,null,null,null,null,null,null,null,null,null,null,null,null,null,null,null,null,null,null,null,null,null,null,null,null,null,null,null,null,null,null,null,null,null,null,null,null,null,null,{"$f":"'SSI Inputs'!$D$26","v":{"$error":"#VALUE!"}},{"$f":"'SSI Inputs'!$D$27","v":{"$error":"#VALUE!"}},{"$f":"'SSI Inputs'!$D$28","v":{"$error":"#VALUE!"}},{"$f":"'SSI Inputs'!$D$30","v":{"$error":"#VALUE!"}},{"$f":"'SSI Inputs'!$D$31","v":{"$error":"#VALUE!"}},{"$f":"'SSI Inputs'!$D$32","v":{"$error":"#VALUE!"}},{"$f":"'SSI Inputs'!$D$34","v":{"$error":"#VALUE!"}},{"$f":"'SSI Inputs'!$D$35","v":{"$error":"#VALUE!"}},{"$f":"'SSI Inputs'!$D$36","v":{"$error":"#VALUE!"}},{"$f":"'SSI Inputs'!$D$38","v":{"$error":"#VALUE!"}},{"$f":"'SSI Inputs'!$D$39","v":{"$error":"#VALUE!"}},{"$f":"'SSI Inputs'!$D$40","v":{"$error":"#VALUE!"}},{"$f":"'SSI Inputs'!$Q$18","v":175},{"$f":"'SSI Inputs'!$Q$19","v":175},{"$f":"'SSI Inputs'!$Q$20","v":175},{"$f":"'SSI Inputs'!$Q$21","v":175},null,{"$f":"'SSI Inputs'!$D$26","v":{"$error":"#VALUE!"}},{"$f":"'SSI Inputs'!$D$27","v":{"$error":"#VALUE!"}},{"$f":"'SSI Inputs'!$D$28","v":{"$error":"#VALUE!"}},{"$f":"'SSI Inputs'!$D$30","v":{"$error":"#VALUE!"}},{"$f":"'SSI Inputs'!$D$31","v":{"$error":"#VALUE!"}},{"$f":"'SSI Inputs'!$D$32","v":{"$error":"#VALUE!"}},{"$f":"'SSI Inputs'!$D$34","v":{"$error":"#VALUE!"}},{"$f":"'SSI Inputs'!$D$35","v":{"$error":"#VALUE!"}},{"$f":"'SSI Inputs'!$D$36","v":{"$error":"#VALUE!"}},{"$f":"'SSI Inputs'!$D$38","v":{"$error":"#VALUE!"}},{"$f":"'SSI Inputs'!$D$39","v":{"$error":"#VALUE!"}},{"$f":"'SSI Inputs'!$D$40","v":{"$error":"#VALUE!"}},{"$f":"'SSI Inputs'!$Q$18","v":175},{"$f":"'SSI Inputs'!$Q$19","v":175},{"$f":"'SSI Inputs'!$Q$20","v":175},{"$f":"'SSI Inputs'!$Q$21","v":175}]
[null,null,null,null,null,null,null,null,null,null,null,null,null,null,null,null,null,null,null,null,null,null,null,null,null,null,null,null,null,null,null,null,null,null,null,null,null,null,"D",{"$f":"'SSI Inputs'!$E$26","v":{"$error":"#VALUE!"}},{"$f":"'SSI Inputs'!$E$27","v":{"$error":"#VALUE!"}},{"$f":"'SSI Inputs'!$E$28","v":{"$error":"#VALUE!"}},{"$f":"'SSI Inputs'!$E$30","v":{"$error":"#VALUE!"}},{"$f":"'SSI Inputs'!$E$31","v":{"$error":"#VALUE!"}},{"$f":"'SSI Inputs'!$E$32","v":{"$error":"#VALUE!"}},{"$f":"'SSI Inputs'!$E$34","v":{"$error":"#VALUE!"}},{"$f":"'SSI Inputs'!$E$35","v":{"$error":"#VALUE!"}},{"$f":"'SSI Inputs'!$E$36","v":{"$error":"#VALUE!"}},{"$f":"'SSI Inputs'!$E$38","v":{"$error":"#VALUE!"}},{"$f":"'SSI Inputs'!$E$39","v":{"$error":"#VALUE!"}},{"$f":"'SSI Inputs'!$E$40","v":{"$error":"#VALUE!"}},{"$f":"'SSI Inputs'!$R$18","v":175},{"$f":"'SSI Inputs'!$R$19","v":175},{"$f":"'SSI Inputs'!$R$20","v":175},{"$f":"'SSI Inputs'!$R$21","v":175},"D",{"$f":"'SSI Inputs'!$E$26","v":{"$error":"#VALUE!"}},{"$f":"'SSI Inputs'!$E$27","v":{"$error":"#VALUE!"}},{"$f":"'SSI Inputs'!$E$28","v":{"$error":"#VALUE!"}},{"$f":"'SSI Inputs'!$E$30","v":{"$error":"#VALUE!"}},{"$f":"'SSI Inputs'!$E$31","v":{"$error":"#VALUE!"}},{"$f":"'SSI Inputs'!$E$32","v":{"$error":"#VALUE!"}},{"$f":"'SSI Inputs'!$E$34","v":{"$error":"#VALUE!"}},{"$f":"'SSI Inputs'!$E$35","v":{"$error":"#VALUE!"}},{"$f":"'SSI Inputs'!$E$36","v":{"$error":"#VALUE!"}},{"$f":"'SSI Inputs'!$E$38","v":{"$error":"#VALUE!"}},{"$f":"'SSI Inputs'!$E$39","v":{"$error":"#VALUE!"}},{"$f":"'SSI Inputs'!$E$40","v":{"$error":"#VALUE!"}},{"$f":"'SSI Inputs'!$R$18","v":175},{"$f":"'SSI Inputs'!$R$19","v":175},{"$f":"'SSI Inputs'!$R$20","v":175},{"$f":"'SSI Inputs'!$R$21","v":175}]
[]
[]
[]
[]
[]
[]
[]
[]
[]
[]
[]
[]
[]
[]
[]
[]
[]
[]
[]
[]
[]
[]
[]
[]
[]
[]
[]
[]
[]
[]
[]
[]
[]
[]
[]
[]
[]
[]
[]
[]
[]
[]
[]
[]
[]
[]
[]
[]
[]
[]
[]
[]
[]
[]
[]
[]
[]
[]
[]
[]
[]
[]
[]
[]
[]
[]
[]
[]
[]
[]
[]
[]
[]
[]
[null,null,null,null,null,null,null,null,null,"Exposure",null,null,null,null,null,null,null,null,null,null,null,null,null,null,null,null,null,null,null,null,null,null,null,null,null,null,"Exposure-Severity-Complexity Product"]
[null,null,null,null,null,null,null,null,null,"Q1","Q2","I"]
[null,null,null,null,null,null,null,null,null,{"$f":"SUMPRODUCT($AN4:$BC4,$AN$26:$BC$26)","v":{"$error":"#VALUE!"}},{"$f":"SUMPRODUCT($BE4:$BT4,$BE$26:$BT$26)","v":{"$error":"#VALUE!"}},{"$f":"PRODUCT(J103:K103)","v":{"$error":"#VALUE!"}},null,null,null,null,null,null,null,null,null,null,null,null,null,null,null,null,null,null,null,null,null,null,null,null,{"$f":"L103*R4*AI4","v":{"$error":"#VALUE!"}}]
[null,null,null,null,null,null,null,null,null,{"$f":"SUMPRODUCT($AN5:$BC5,$AN$26:$BC$26)","v":{"$error":"#VALUE!"}},{"$f":"SUMPRODUCT($BE5:$BT5,$BE$26:$BT$26)","v":{"$error":"#VALUE!"}},{"$f":"PRODUCT(J104:K104)","v":{"$error":"#VALUE!"}},null,null,null,null,null,null,null,null,null,null,null,null,null,null,null,null,null,null,null,null,null,null,null,null,{"$f":"L104*R5*AI5","v":{"$error":"#VALUE!"}}]
[null,null,null,null,null,null,null,null,null,{"$error":"#VALUE!"},{"$error":"#VALUE!"},{"$error":"#VALUE!"},null,null,null,null,null,null,null,null,null,null,null,null,null,null,null,null,null,null,null,null,null,null,null,null,{"$error":"#VALUE!"}]
[null,null,null,null,null,null,null,null,null,{"$error":"#VALUE!"},{"$error":"#VALUE!"},{"$error":"#VALUE!"},null,null,null,null,null,null,null,null,null,null,null,null,null,null,null,null,null,null,null,null,null,null,null,null,{"$error":"#VALUE!"}]
[null,null,null,null,null,null,null,null,null,{"$error":"#VALUE!"},{"$error":"#VALUE!"},{"$error":"#VALUE!"},null,null,null,null,null,null,null,null,null,null,null,null,null,null,null,null,null,null,null,null,null,null,null,null,{"$error":"#VALUE!"}]
[null,null,null,null,null,null,null,null,null,{"$error":"#VALUE!"},{"$error":"#VALUE!"},{"$error":"#VALUE!"},null,null,null,null,null,null,null,null,null,null,null,null,null,null,null,null,null,null,null,null,null,null,null,null,{"$error":"#VALUE!"}]
[null,null,null,null,null,null,null,null,null,{"$error":"#VALUE!"},{"$error":"#VALUE!"},{"$error":"#VALUE!"},null,null,null,null,null,null,null,null,null,null,null,null,null,null,null,null,null,null,null,null,null,null,null,null,{"$error":"#VALUE!"}]
[null,null,null,null,null,null,null,null,null,{"$error":"#VALUE!"},{"$error":"#VALUE!"},{"$error":"#VALUE!"},null,null,null,null,null,null,null,null,null,null,null,null,null,null,null,null,null,null,null,null,null,null,null,null,{"$error":"#VALUE!"}]
[null,null,null,null,null,null,null,null,null,{"$error":"#VALUE!"},{"$error":"#VALUE!"},{"$error":"#VALUE!"},null,null,null,null,null,null,null,null,null,null,null,null,null,null,null,null,null,null,null,null,null,null,null,null,{"$error":"#VALUE!"}]
[null,null,null,null,null,null,null,null,null,{"$error":"#VALUE!"},{"$error":"#VALUE!"},{"$error":"#VALUE!"},null,null,null,null,null,null,null,null,null,null,null,null,null,null,null,null,null,null,null,null,null,null,null,null,{"$error":"#VALUE!"}]
[null,null,null,null,null,null,null,null,null,{"$error":"#VALUE!"},{"$error":"#VALUE!"},{"$error":"#VALUE!"},null,null,null,null,null,null,null,null,null,null,null,null,null,null,null,null,null,null,null,null,null,null,null,null,{"$error":"#VALUE!"}]
[null,null,null,null,null,null,null,null,null,{"$error":"#VALUE!"},{"$error":"#VALUE!"},{"$error":"#VALUE!"},null,null,null,null,null,null,null,null,null,null,null,null,null,null,null,null,null,null,null,null,null,null,null,null,{"$error":"#VALUE!"}]
[null,null,null,null,null,null,null,null,null,{"$error":"#VALUE!"},{"$error":"#VALUE!"},{"$error":"#VALUE!"},null,null,null,null,null,null,null,null,null,null,null,null,null,null,null,null,null,null,null,null,null,null,null,null,{"$error":"#VALUE!"}]
[null,null,null,null,null,null,null,null,null,{"$error":"#VALUE!"},{"$error":"#VALUE!"},{"$error":"#VALUE!"},null,null,null,null,null,null,null,null,null,null,null,null,null,null,null,null,null,null,null,null,null,null,null,null,{"$error":"#VALUE!"}]
[null,null,null,null,null,null,null,null,null,{"$error":"#VALUE!"},{"$error":"#VALUE!"},{"$error":"#VALUE!"},null,null,null,null,null,null,null,null,null,null,null,null,null,null,null,null,null,null,null,null,null,null,null,null,{"$error":"#VALUE!"}]
[null,null,null,null,null,null,null,null,null,{"$error":"#VALUE!"},{"$error":"#VALUE!"},{"$error":"#VALUE!"},null,null,null,null,null,null,null,null,null,null,null,null,null,null,null,null,null,null,null,null,null,null,null,null,{"$error":"#VALUE!"}]
[null,null,null,null,null,null,null,null,null,{"$error":"#VALUE!"},{"$error":"#VALUE!"},{"$error":"#VALUE!"},null,null,null,null,null,null,null,null,null,null,null,null,null,null,null,null,null,null,null,null,null,null,null,null,{"$error":"#VALUE!"}]
[null,null,null,null,null,null,null,null,null,{"$error":"#VALUE!"},{"$error":"#VALUE!"},{"$error":"#VALUE!"},null,null,null,null,null,null,null,null,null,null,null,null,null,null,null,null,null,null,null,null,null,null,null,null,{"$error":"#VALUE!"}]
[null,null,null,null,null,null,null,null,null,{"$error":"#VALUE!"},{"$error":"#VALUE!"},{"$error":"#VALUE!"},null,null,null,null,null,null,null,null,null,null,null,null,null,null,null,null,null,null,null,null,null,null,null,null,{"$error":"#VALUE!"}]
[null,null,null,null,null,null,null,null,null,{"$error":"#VALUE!"},{"$error":"#VALUE!"},{"$error":"#VALUE!"},null,null,null,null,null,null,null,null,null,null,null,null,null,null,null,null,null,null,null,null,null,null,null,null,{"$error":"#VALUE!"}]
[null,null,null,null,null,null,null,null,null,{"$error":"#VALUE!"},{"$error":"#VALUE!"},{"$error":"#VALUE!"},null,null,null,null,null,null,null,null,null,null,null,null,null,null,null,null,null,null,null,null,null,null,null,null,{"$error":"#VALUE!"}]

{"sheet":"TradT_MRSC","index":51,"n_rows":123,"n_cols":72,"rows_kept":123,"cut":false,"hidden":true,"merged":[[1,34,2,34],[1,36,2,36],[1,39,1,54],[1,56,1,71],[100,9,100,11],[100,36,101,36],[0,19,0,28],[0,30,0,32],[1,9,1,11],[1,13,1,17],[1,21,1,25],[1,27,1,28],[1,30,2,30],[1,31,2,31],[1,32,2,32]]}
[null,null,null,null,null,null,null,null,null,null,null,null,null,null,null,null,null,null,null,"Conflicting Traffic Complexity",null,null,null,null,null,null,null,null,null,null,"Pedestrian Complexity"]
[null,null,null,null,null,null,null,null,null,"Exposure",null,null,null,"Severity",null,null,null,null,null,"Traffic Control",null,"Conflicting Lanes",null,null,null,null,null,"Conflicting Speed",null,null,"Indirect Paths Indicator","Non-intuitive movements indicator","Pedestrian Complexity factor",null,"Total Complexity Multiplier",null,"Exposure-Severity-Complexity Product",null,null,"Included in Mvmt1",null,null,null,null,null,null,null,null,null,null,null,null,null,null,null,null,"Included in Mvmt2"]
["#","Conflict Type","Mvmt1","Mvmt1_gen","Mvmt1_SpeedCat","Mvmt2","Mvmt2_gen","Mvmt2_SpeedCat",null,"Q1","Q2","I",null,"Speed_V1","Speed_V2","Angle","delta_V","P_FSI",null,null,null,"MajC","MinC","MajM/P","MinM/P","Score",null,"Speed","Factor",null,null,null,null,null,null,null,null,null,null,"MajT1","MajL1","MajR1","MajT2","MajL2","MajR2","MinT1","MinL1","MinR1","MinT2","MinL2","MinR2","MajNM1","MajNM2","MinNM1","MinNM2",null,"MajT1","MajL1","MajR1","MajT2","MajL2","MajR2","MinT1","MinL1","MinR1","MinT2","MinL2","MinR2","MajNM1","MajNM2","MinNM1","MinNM2"]
[1,"Crossing - LT","EBT","MajT1","Major thru","WBL","MajL2","Major left",null,{"$f":"SUMPRODUCT($AN4:$BC4,$AN$25:$BC$25)","v":{"$error":"#VALUE!"}},{"$f":"SUMPRODUCT($BE4:$BT4,$BE$25:$BT$25)","v":{"$error":"#VALUE!"}},{"$f":"PRODUCT(J4:K4)","v":{"$error":"#VALUE!"}},null,{"$f":"VLOOKUP(E4,SSI_AGI_Range_VehSpeed,5,FALSE)","v":45},{"$f":"VLOOKUP(H4,SSI_AGI_Range_VehSpeed,5,FALSE)","v":20},{"$f":"IF(B4=\"Nonmotorized\",\"\",VLOOKUP(B4,SSI_AGI_Range_CollAngles,5,FALSE))","v":230},{"$f":"IF(B4=\"Nonmotorized\",\"\",SQRT(N4^2+O4^2-2*N4*O4*COS(RADIANS(P4)))/2)","v":29.924979939156898},{"$f":"IF(B4=\"Nonmotorized\",1/(1+EXP(3.8432-0.1237*O4)),(Q4/SSI_AGI_RegAlpha)^SSI_AGI_RegK+(Q4/SSI_AGI_RegAlpha)^SSI_AGI_RegK-((Q4/SSI_AGI_RegAlpha)^SSI_AGI_RegK)*((Q4/SSI_AGI_RegAlpha)^SSI_AGI_RegK))","v":9.0286582411373745E-2},null,{"$f":"SSI_AGI_PermFactor","v":1},null,1,null,null,null,{"$f":"MAX(1,IF(B4<>\"Pedestrian\",V4*SSI_AGI_MajorThruLanes+W4*SSI_AGI_MinorThruLanes+X4*IF(SSI_AGI_MajorThruLanes=1,SSI_AGI_MergeWeightL1,IF(SSI_AGI_MajorThruLanes=2,SSI_AGI_MergeWeightL1+SSI_AGI_MergeWeightL2,SSI_AGI_MergeWeightL1+SSI_AGI_MergeWeightL2+SSI_AGI_MergeWeightL3*(SSI_AGI_MajorThruLanes-2)))+Y4*IF(SSI_AGI_MinorThruLanes=1,SSI_AGI_MergeWeightL1,IF(SSI_AGI_MinorThruLanes=2,SSI_AGI_MergeWeightL1+SSI_AGI_MergeWeightL2,SSI_AGI_MergeWeightL1+SSI_AGI_MergeWeightL2+SSI_AGI_MergeWeightL3*(SSI_AGI_MinorThruLanes-2))),V4*SSI_AGI_MajorThruLanes+W4*SSI_AGI_MinorThruLanes+X4*IF(SSI_AGI_MajorThruLanes=1,SSI_AGI_NM_MergeWeightL1,IF(SSI_AGI_MajorThruLanes=2,SSI_AGI_NM_MergeWeightL1+SSI_AGI_NM_MergeWeightL2,SSI_AGI_NM_MergeWeightL1+SSI_AGI_NM_MergeWeightL2+SSI_AGI_NM_MergeWeightL3*(SSI_AGI_MajorThruLanes-2)))+Y4*IF(SSI_AGI_MinorThruLanes=1,SSI_AGI_NM_MergeWeightL1,IF(SSI_AGI_MinorThruLanes=2,SSI_AGI_NM_MergeWeightL1+SSI_AGI_NM_MergeWeightL2,SSI_AGI_NM_MergeWeightL1+SSI_AGI_NM_MergeWeightL2+SSI_AGI_NM_MergeWeightL3*(SSI_AGI_MinorThruLanes-2)))))","v":2},null,{"$f":"IF(B4=\"Diverging\",\"\",SSI_AGI_VehSpeed_MjrThru)","v":45},{"$f":"IF(B4=\"Diverging\",1,1-((60-AB4)/60*0.1/0.15))","v":0.83333333333333326},null,null,null,{"$f":"IF(SSI_AGI_ConsiderNMComplexity=\"Yes\",1+AE4+AF4,1)","v":1},null,{"$f":"PRODUCT(Z4,T4,AC4,AG4)","v":1.6666666666666665},null,{"$f":"L4*R4*AI4","v":{"$error":"#VALUE!"}},null,null,{"$f":"IF(ISNUMBER(SEARCH(AN$3,$D4)),1,\"\")","v":1},{"$f":"IF(ISNUMBER(SEARCH(AO$3,$D4)),1,\"\")","v":""},"","","","","","","","","","","","","","",null,{"$f":"IF(ISNUMBER(SEARCH(BE$3,$G4)),1,\"\")","v":""},{"$f":"IF(ISNUMBER(SEARCH(BF$3,$G4)),1,\"\")","v":""},"","",1,"","","","","","","","","","",""]
[2,"Crossing - LT","WBL","MajL2","Major left","NBL","MinL1","Stop near",null,{"$error":"#VALUE!"},{"$error":"#VALUE!"},{"$f":"PRODUCT(J5:K5)","v":{"$error":"#VALUE!"}},null,20,15,230,{"$f":"IF(B5=\"Nonmotorized\",\"\",SQRT(N5^2+O5^2-2*N5*O5*COS(RADIANS(P5)))/2)","v":15.895538413434787},8.3616736100371545E-3,null,1,null,1,null,1,null,3.75,null,45,0.83333333333333326,null,null,null,1,null,3.1249999999999996,null,{"$f":"L5*R5*AI5","v":{"$error":"#VALUE!"}},null,null,{"$f":"IF(ISNUMBER(SEARCH(AN$3,$D5)),1,\"\")","v":""},"","","",1,"","","","","","","","","","","",null,{"$f":"IF(ISNUMBER(SEARCH(BE$3,$G5)),1,\"\")","v":""},"","","","","","",1,"","","","","","","",""]
[3,"Crossing - LT","EBT","MajT1","Major thru","NBL","MinL1","Stop far",null,{"$error":"#VALUE!"},{"$error":"#VALUE!"},{"$error":"#VALUE!"},null,45,25,230,32.001062958106225,0.11565690546238376,null,1,null,1,null,1,null,3.75,null,45,0.83333333333333326,null,null,null,1,null,3.1249999999999996,null,{"$error":"#VALUE!"},null,null,1,"","","","","","","","","","","","","","","",null,"","","","","","","",1,"","","","","","","",""]
[4,"Merging","EBR","MajR1","Major right","WBL","MajL2","Major left",null,{"$error":"#VALUE!"},{"$error":"#VALUE!"},{"$error":"#VALUE!"},null,15,20,45,7.0840654162717795,3.9022923271840544E-4,null,1,null,1,null,null,null,2,null,45,0.83333333333333326,null,null,null,1,null,1.6666666666666665,null,{"$error":"#VALUE!"},null,null,"","",1,"","","","","","","","","","","","","",null,"","","","",1,"","","","","","","","","","",""]
[5,"Merging","NBL","MinL1","Major thru","WBT","MajT2","Major thru",null,{"$error":"#VALUE!"},{"$error":"#VALUE!"},{"$error":"#VALUE!"},null,45,45,45,17.220754456429038,1.1322190404138437E-2,null,1,null,1,null,1,null,3.75,null,45,0.83333333333333326,null,null,null,1,null,3.1249999999999996,null,{"$error":"#VALUE!"},null,null,"","","","","","","",1,"","","","","","","","",null,"","","",1,"","","","","","","","","","","",""]
[6,"Merging","NBR","MinR1","Stop near","EBT","MajT1","Major thru",null,{"$error":"#VALUE!"},{"$error":"#VALUE!"},{"$error":"#VALUE!"},null,15,45,45,17.995873453365363,1.3373938286506865E-2,null,1,null,null,null,1,null,1.75,null,45,0.83333333333333326,null,null,null,1,null,1.4583333333333333,null,{"$error":"#VALUE!"},null,null,"","","","","","","","",1,"","","","","","","",null,1,"","","","","","","","","","","","","","",""]
[7,"Diverging","NBR","MinR1","Stop near","NBL","MinL1","Stop near",null,{"$error":"#VALUE!"},{"$error":"#VALUE!"},{"$error":"#VALUE!"},null,15,15,10,1.3073361412148754,6.4061388075216071E-7,null,1,null,null,null,null,null,1,null,"",1,null,null,null,1,null,1,null,{"$error":"#VALUE!"},null,null,"","","","","","","","",1,"","","","","","","",null,"","","","","","","",1,"","","","","","","",""]
[8,"Diverging","EBR","MajR1","Major right","EBT","MajT1","Major thru",null,{"$error":"#VALUE!"},{"$error":"#VALUE!"},{"$error":"#VALUE!"},null,15,45,10,15.169950011729762,7.0056226631585675E-3,null,1,null,null,null,null,null,1,null,"",1,null,null,null,1,null,1,null,{"$error":"#VALUE!"},null,null,"","",1,"","","","","","","","","","","","","",null,1,"","","","","","","","","","","","","","",""]
[9,"Diverging","WBL","MajL2","Major left","WBT","MajT2","Major thru",null,{"$error":"#VALUE!"},{"$error":"#VALUE!"},{"$error":"#VALUE!"},null,20,45,10,12.77053292327718,3.6481988362114144E-3,null,1,null,null,null,null,null,1,null,"",1,null,null,null,1,null,1,null,{"$error":"#VALUE!"},null,null,"","","","",1,"","","","","","","","","","","",null,"","","",1,"","","","","","","","","","","",""]
[10,"Nonmotorized",null,"MajNM1","Nonmotorized","WBT","MajT2","Major thru",null,{"$error":"#VALUE!"},{"$error":"#VALUE!"},{"$error":"#VALUE!"},null,0,45,"","",0.84855340903216459,null,1,null,2,null,null,1,5.75,null,45,0.83333333333333326,null,null,null,1,null,4.7916666666666661,null,{"$error":"#VALUE!"},null,null,"","","","","","","","","","","","",1,"","","",null,"","","",1,"","","","","","","","","","","",""]
[11,"Nonmotorized",null,"MajNM1","Nonmotorized","NBL","MinL1","Stop far",null,{"$error":"#VALUE!"},{"$error":"#VALUE!"},{"$error":"#VALUE!"},null,0,25,"","",0.32066879346345062,null,1,null,2,null,null,1,5.75,null,45,0.83333333333333326,null,null,null,1,null,4.7916666666666661,null,{"$error":"#VALUE!"},null,null,"","","","","","","","","","","","",1,"","","",null,"","","","","","","",1,"","","","","","","",""]
[12,"Nonmotorized",null,"MajNM1","Nonmotorized","EBT","MajT1","Major thru",null,{"$error":"#VALUE!"},{"$error":"#VALUE!"},{"$error":"#VALUE!"},null,0,45,"","",0.84855340903216459,null,1,null,2,null,null,1,5.75,null,45,0.83333333333333326,null,null,null,1,null,4.7916666666666661,null,{"$error":"#VALUE!"},null,null,"","","","","","","","","","","","",1,"","","",null,1,"","","","","","","","","","","","","","",""]
[13,"Nonmotorized",null,"MajNM1","Nonmotorized","EBR","MajR1","Major right",null,{"$error":"#VALUE!"},{"$error":"#VALUE!"},{"$error":"#VALUE!"},null,0,15,"","",0.1205004039155782,null,1,null,2,null,null,1,5.75,null,45,0.83333333333333326,null,null,null,1,null,4.7916666666666661,null,{"$error":"#VALUE!"},null,null,"","","","","","","","","","","","",1,"","","",null,"","",1,"","","","","","","","","","","","",""]
[14,"Nonmotorized",null,"MinNM1","Nonmotorized","EBR","MajR1","Major right",null,{"$error":"#VALUE!"},{"$error":"#VALUE!"},{"$error":"#VALUE!"},null,0,15,"","",0.1205004039155782,null,{"$f":"SSI_AGI_StopFactor","v":0.72500000000000009},null,null,2,2,null,7.5,null,45,0.83333333333333326,null,null,null,1,null,4.53125,null,{"$error":"#VALUE!"},null,null,"","","","","","","","","","","","","","",1,"",null,"","",1,"","","","","","","","","","","","",""]
[15,"Nonmotorized",null,"MinNM1","Nonmotorized","WBL","MajL2","Major left",null,{"$error":"#VALUE!"},{"$error":"#VALUE!"},{"$error":"#VALUE!"},null,0,20,"","",0.20274912921655375,null,{"$f":"SSI_AGI_StopFactor","v":0.72500000000000009},null,null,2,2,null,7.5,null,45,0.83333333333333326,null,null,null,1,null,4.53125,null,{"$error":"#VALUE!"},null,null,"","","","","","","","","","","","","","",1,"",null,"","","","",1,"","","","","","","","","","",""]
[16,"Nonmotorized",null,"MinNM1","Nonmotorized","NBL","MinL1","Stop near",null,{"$error":"#VALUE!"},{"$error":"#VALUE!"},{"$error":"#VALUE!"},null,0,15,"","",0.1205004039155782,null,{"$f":"SSI_AGI_StopFactor","v":0.72500000000000009},null,null,2,2,null,7.5,null,45,0.83333333333333326,null,null,null,1,null,4.53125,null,{"$error":"#VALUE!"},null,null,"","","","","","","","","","","","","","",1,"",null,"","","","","","","",1,"","","","","","","",""]
[17,"Nonmotorized",null,"MinNM1","Nonmotorized","NBR","MinR1","Stop near",null,{"$error":"#VALUE!"},{"$error":"#VALUE!"},{"$error":"#VALUE!"},null,0,15,"","",0.1205004039155782,null,{"$f":"SSI_AGI_StopFactor","v":0.72500000000000009},null,null,2,2,null,7.5,null,45,0.83333333333333326,null,null,null,1,null,4.53125,null,{"$error":"#VALUE!"},null,null,"","","","","","","","","","","","","","",1,"",null,"","","","","","","","",1,"","","","","","",""]
[18,"Nonmotorized",null,"MajNM2","Nonmotorized","NBR","MinR1","Stop near",null,{"$error":"#VALUE!"},{"$error":"#VALUE!"},{"$error":"#VALUE!"},null,0,15,"","",0.1205004039155782,null,{"$f":"SSI_AGI_PermFactor","v":1},null,2,null,null,1,5.75,null,45,0.83333333333333326,null,null,null,1,null,4.7916666666666661,null,{"$error":"#VALUE!"},null,null,"","","","","","","","","","","","","",1,"","",null,"","","","","","","","",1,"","","","","","",""]
[19,"Nonmotorized",null,"MajNM2","Nonmotorized","EBT","MajT1","Major thru",null,{"$error":"#VALUE!"},{"$error":"#VALUE!"},{"$error":"#VALUE!"},null,0,45,"","",0.84855340903216459,null,{"$f":"SSI_AGI_PermFactor","v":1},null,2,null,null,1,5.75,null,45,0.83333333333333326,null,null,null,1,null,4.7916666666666661,null,{"$error":"#VALUE!"},null,null,"","","","","","","","","","","","","",1,"","",null,1,"","","","","","","","","","","","","","",""]
[20,"Nonmotorized",null,"MajNM2","Nonmotorized","WBL","MajL2","Major left",null,{"$error":"#VALUE!"},{"$error":"#VALUE!"},{"$error":"#VALUE!"},null,0,20,"","",0.20274912921655375,null,{"$f":"SSI_AGI_PermFactor","v":1},null,2,null,null,1,5.75,null,45,0.83333333333333326,null,null,null,1,null,4.7916666666666661,null,{"$error":"#VALUE!"},null,null,"","","","","","","","","","","","","",1,"","",null,"","","","",1,"","","","","","","","","","",""]
[21,"Nonmotorized",null,"MajNM2","Nonmotorized","WBT","MajT2","Major thru",null,{"$error":"#VALUE!"},{"$error":"#VALUE!"},{"$error":"#VALUE!"},null,0,45,"","",0.84855340903216459,null,{"$f":"SSI_AGI_PermFactor","v":1},null,2,null,null,1,5.75,null,45,0.83333333333333326,null,null,null,1,null,4.7916666666666661,null,{"$error":"#VALUE!"},null,null,"","","","","","","","","","","","","",1,"","",null,"","","",1,"","","","","","","","","","","",""]
[null,null,null,null,null,null,null,null,null,null,null,null,null,null,null,null,null,null,null,null,null,null,null,null,null,null,null,null,null,null,null,null,null,null,null,null,null,null,null,{"$f":"'SSI Inputs'!$D$26","v":{"$error":"#VALUE!"}},{"$f":"'SSI Inputs'!$D$27","v":{"$error":"#VALUE!"}},{"$f":"'SSI Inputs'!$D$28","v":{"$error":"#VALUE!"}},{"$f":"'SSI Inputs'!$D$30","v":{"$error":"#VALUE!"}},{"$f":"'SSI Inputs'!$D$31","v":{"$error":"#VALUE!"}},{"$f":"'SSI Inputs'!$D$32","v":{"$error":"#VALUE!"}},{"$f":"'SSI Inputs'!$D$34","v":{"$error":"#VALUE!"}},{"$f":"'SSI Inputs'!$D$35","v":{"$error":"#VALUE!"}},{"$f":"'SSI Inputs'!$D$36","v":{"$error":"#VALUE!"}},{"$f":"'SSI Inputs'!$D$38","v":{"$error":"#VALUE!"}},{"$f":"'SSI Inputs'!$D$39","v":{"$error":"#VALUE!"}},{"$f":"'SSI Inputs'!$D$40","v":{"$error":"#VALUE!"}},{"$f":"'SSI Inputs'!$Q$18","v":175},{"$f":"'SSI Inputs'!$Q$19","v":175},{"$f":"'SSI Inputs'!$Q$20","v":175},{"$f":"'SSI Inputs'!$Q$21","v":175},null,{"$f":"'SSI Inputs'!$D$26","v":{"$error":"#VALUE!"}},{"$f":"'SSI Inputs'!$D$27","v":{"$error":"#VALUE!"}},{"$f":"'SSI Inputs'!$D$28","v":{"$error":"#VALUE!"}},{"$f":"'SSI Inputs'!$D$30","v":{"$error":"#VALUE!"}},{"$f":"'SSI Inputs'!$D$31","v":{"$error":"#VALUE!"}},{"$f":"'SSI Inputs'!$D$32","v":{"$error":"#VALUE!"}},{"$f":"'SSI Inputs'!$D$34","v":{"$error":"#VALUE!"}},{"$f":"'SSI Inputs'!$D$35","v":{"$error":"#VALUE!"}},{"$f":"'SSI Inputs'!$D$36","v":{"$error":"#VALUE!"}},{"$f":"'SSI Inputs'!$D$38","v":{"$error":"#VALUE!"}},{"$f":"'SSI Inputs'!$D$39","v":{"$error":"#VALUE!"}},{"$f":"'SSI Inputs'!$D$40","v":{"$error":"#VALUE!"}},{"$f":"'SSI Inputs'!$Q$18","v":175},{"$f":"'SSI Inputs'!$Q$19","v":175},{"$f":"'SSI Inputs'!$Q$20","v":175},{"$f":"'SSI Inputs'!$Q$21","v":175}]
[null,null,null,null,null,null,null,null,null,null,null,null,null,null,null,null,null,null,null,null,null,null,null,null,null,null,null,null,null,null,null,null,null,null,null,null,null,null,"D",{"$f":"'SSI Inputs'!$E$26","v":{"$error":"#VALUE!"}},{"$f":"'SSI Inputs'!$E$27","v":{"$error":"#VALUE!"}},{"$f":"'SSI Inputs'!$E$28","v":{"$error":"#VALUE!"}},{"$f":"'SSI Inputs'!$E$30","v":{"$error":"#VALUE!"}},{"$f":"'SSI Inputs'!$E$31","v":{"$error":"#VALUE!"}},{"$f":"'SSI Inputs'!$E$32","v":{"$error":"#VALUE!"}},{"$f":"'SSI Inputs'!$E$34","v":{"$error":"#VALUE!"}},{"$f":"'SSI Inputs'!$E$35","v":{"$error":"#VALUE!"}},{"$f":"'SSI Inputs'!$E$36","v":{"$error":"#VALUE!"}},{"$f":"'SSI Inputs'!$E$38","v":{"$error":"#VALUE!"}},{"$f":"'SSI Inputs'!$E$39","v":{"$error":"#VALUE!"}},{"$f":"'SSI Inputs'!$E$40","v":{"$error":"#VALUE!"}},{"$f":"'SSI Inputs'!$R$18","v":175},{"$f":"'SSI Inputs'!$R$19","v":175},{"$f":"'SSI Inputs'!$R$20","v":175},{"$f":"'SSI Inputs'!$R$21","v":175},"D",{"$f":"'SSI Inputs'!$E$26","v":{"$error":"#VALUE!"}},{"$f":"'SSI Inputs'!$E$27","v":{"$error":"#VALUE!"}},{"$f":"'SSI Inputs'!$E$28","v":{"$error":"#VALUE!"}},{"$f":"'SSI Inputs'!$E$30","v":{"$error":"#VALUE!"}},{"$f":"'SSI Inputs'!$E$31","v":{"$error":"#VALUE!"}},{"$f":"'SSI Inputs'!$E$32","v":{"$error":"#VALUE!"}},{"$f":"'SSI Inputs'!$E$34","v":{"$error":"#VALUE!"}},{"$f":"'SSI Inputs'!$E$35","v":{"$error":"#VALUE!"}},{"$f":"'SSI Inputs'!$E$36","v":{"$error":"#VALUE!"}},{"$f":"'SSI Inputs'!$E$38","v":{"$error":"#VALUE!"}},{"$f":"'SSI Inputs'!$E$39","v":{"$error":"#VALUE!"}},{"$f":"'SSI Inputs'!$E$40","v":{"$error":"#VALUE!"}},{"$f":"'SSI Inputs'!$R$18","v":175},{"$f":"'SSI Inputs'!$R$19","v":175},{"$f":"'SSI Inputs'!$R$20","v":175},{"$f":"'SSI Inputs'!$R$21","v":175}]
[]
[]
[]
[]
[]
[]
[]
[]
[]
[]
[]
[]
[]
[]
[]
[]
[]
[]
[]
[]
[]
[]
[]
[]
[]
[]
[]
[]
[]
[]
[]
[]
[]
[]
[]
[]
[]
[]
[]
[]
[]
[]
[]
[]
[]
[]
[]
[]
[]
[]
[]
[]
[]
[]
[]
[]
[]
[]
[]
[]
[]
[]
[]
[]
[]
[]
[]
[]
[]
[]
[]
[]
[]
[]
[null,null,null,null,null,null,null,null,null,"Exposure",null,null,null,null,null,null,null,null,null,null,null,null,null,null,null,null,null,null,null,null,null,null,null,null,null,null,"Exposure-Severity-Complexity Product"]
[null,null,null,null,null,null,null,null,null,"Q1","Q2","I"]
[null,null,null,null,null,null,null,null,null,{"$f":"SUMPRODUCT($AN4:$BC4,$AN$26:$BC$26)","v":{"$error":"#VALUE!"}},{"$f":"SUMPRODUCT($BE4:$BT4,$BE$26:$BT$26)","v":{"$error":"#VALUE!"}},{"$f":"PRODUCT(J103:K103)","v":{"$error":"#VALUE!"}},null,null,null,null,null,null,null,null,null,null,null,null,null,null,null,null,null,null,null,null,null,null,null,null,{"$f":"L103*R4*AI4","v":{"$error":"#VALUE!"}}]
[null,null,null,null,null,null,null,null,null,{"$f":"SUMPRODUCT($AN5:$BC5,$AN$26:$BC$26)","v":{"$error":"#VALUE!"}},{"$f":"SUMPRODUCT($BE5:$BT5,$BE$26:$BT$26)","v":{"$error":"#VALUE!"}},{"$f":"PRODUCT(J104:K104)","v":{"$error":"#VALUE!"}},null,null,null,null,null,null,null,null,null,null,null,null,null,null,null,null,null,null,null,null,null,null,null,null,{"$f":"L104*R5*AI5","v":{"$error":"#VALUE!"}}]
[null,null,null,null,null,null,null,null,null,{"$error":"#VALUE!"},{"$error":"#VALUE!"},{"$error":"#VALUE!"},null,null,null,null,null,null,null,null,null,null,null,null,null,null,null,null,null,null,null,null,null,null,null,null,{"$error":"#VALUE!"}]
[null,null,null,null,null,null,null,null,null,{"$error":"#VALUE!"},{"$error":"#VALUE!"},{"$error":"#VALUE!"},null,null,null,null,null,null,null,null,null,null,null,null,null,null,null,null,null,null,null,null,null,null,null,null,{"$error":"#VALUE!"}]
[null,null,null,null,null,null,null,null,null,{"$error":"#VALUE!"},{"$error":"#VALUE!"},{"$error":"#VALUE!"},null,null,null,null,null,null,null,null,null,null,null,null,null,null,null,null,null,null,null,null,null,null,null,null,{"$error":"#VALUE!"}]
[null,null,null,null,null,null,null,null,null,{"$error":"#VALUE!"},{"$error":"#VALUE!"},{"$error":"#VALUE!"},null,null,null,null,null,null,null,null,null,null,null,null,null,null,null,null,null,null,null,null,null,null,null,null,{"$error":"#VALUE!"}]
[null,null,null,null,null,null,null,null,null,{"$error":"#VALUE!"},{"$error":"#VALUE!"},{"$error":"#VALUE!"},null,null,null,null,null,null,null,null,null,null,null,null,null,null,null,null,null,null,null,null,null,null,null,null,{"$error":"#VALUE!"}]
[null,null,null,null,null,null,null,null,null,{"$error":"#VALUE!"},{"$error":"#VALUE!"},{"$error":"#VALUE!"},null,null,null,null,null,null,null,null,null,null,null,null,null,null,null,null,null,null,null,null,null,null,null,null,{"$error":"#VALUE!"}]
[null,null,null,null,null,null,null,null,null,{"$error":"#VALUE!"},{"$error":"#VALUE!"},{"$error":"#VALUE!"},null,null,null,null,null,null,null,null,null,null,null,null,null,null,null,null,null,null,null,null,null,null,null,null,{"$error":"#VALUE!"}]
[null,null,null,null,null,null,null,null,null,{"$error":"#VALUE!"},{"$error":"#VALUE!"},{"$error":"#VALUE!"},null,null,null,null,null,null,null,null,null,null,null,null,null,null,null,null,null,null,null,null,null,null,null,null,{"$error":"#VALUE!"}]
[null,null,null,null,null,null,null,null,null,{"$error":"#VALUE!"},{"$error":"#VALUE!"},{"$error":"#VALUE!"},null,null,null,null,null,null,null,null,null,null,null,null,null,null,null,null,null,null,null,null,null,null,null,null,{"$error":"#VALUE!"}]
[null,null,null,null,null,null,null,null,null,{"$error":"#VALUE!"},{"$error":"#VALUE!"},{"$error":"#VALUE!"},null,null,null,null,null,null,null,null,null,null,null,null,null,null,null,null,null,null,null,null,null,null,null,null,{"$error":"#VALUE!"}]
[null,null,null,null,null,null,null,null,null,{"$error":"#VALUE!"},{"$error":"#VALUE!"},{"$error":"#VALUE!"},null,null,null,null,null,null,null,null,null,null,null,null,null,null,null,null,null,null,null,null,null,null,null,null,{"$error":"#VALUE!"}]
[null,null,null,null,null,null,null,null,null,{"$error":"#VALUE!"},{"$error":"#VALUE!"},{"$error":"#VALUE!"},null,null,null,null,null,null,null,null,null,null,null,null,null,null,null,null,null,null,null,null,null,null,null,null,{"$error":"#VALUE!"}]
[null,null,null,null,null,null,null,null,null,{"$error":"#VALUE!"},{"$error":"#VALUE!"},{"$error":"#VALUE!"},null,null,null,null,null,null,null,null,null,null,null,null,null,null,null,null,null,null,null,null,null,null,null,null,{"$error":"#VALUE!"}]
[null,null,null,null,null,null,null,null,null,{"$error":"#VALUE!"},{"$error":"#VALUE!"},{"$error":"#VALUE!"},null,null,null,null,null,null,null,null,null,null,null,null,null,null,null,null,null,null,null,null,null,null,null,null,{"$error":"#VALUE!"}]
[null,null,null,null,null,null,null,null,null,{"$error":"#VALUE!"},{"$error":"#VALUE!"},{"$error":"#VALUE!"},null,null,null,null,null,null,null,null,null,null,null,null,null,null,null,null,null,null,null,null,null,null,null,null,{"$error":"#VALUE!"}]
[null,null,null,null,null,null,null,null,null,{"$error":"#VALUE!"},{"$error":"#VALUE!"},{"$error":"#VALUE!"},null,null,null,null,null,null,null,null,null,null,null,null,null,null,null,null,null,null,null,null,null,null,null,null,{"$error":"#VALUE!"}]
[null,null,null,null,null,null,null,null,null,{"$error":"#VALUE!"},{"$error":"#VALUE!"},{"$error":"#VALUE!"},null,null,null,null,null,null,null,null,null,null,null,null,null,null,null,null,null,null,null,null,null,null,null,null,{"$error":"#VALUE!"}]
[null,null,null,null,null,null,null,null,null,{"$error":"#VALUE!"},{"$error":"#VALUE!"},{"$error":"#VALUE!"},null,null,null,null,null,null,null,null,null,null,null,null,null,null,null,null,null,null,null,null,null,null,null,null,{"$error":"#VALUE!"}]
[null,null,null,null,null,null,null,null,null,{"$error":"#VALUE!"},{"$error":"#VALUE!"},{"$error":"#VALUE!"},null,null,null,null,null,null,null,null,null,null,null,null,null,null,null,null,null,null,null,null,null,null,null,null,{"$error":"#VALUE!"}]

{"sheet":"CGT","index":52,"n_rows":123,"n_cols":72,"rows_kept":123,"cut":false,"hidden":true,"merged":[[1,34,2,34],[1,36,2,36],[1,39,1,54],[1,56,1,71],[100,9,100,11],[100,36,101,36],[0,19,0,28],[0,30,0,32],[1,9,1,11],[1,13,1,17],[1,21,1,25],[1,27,1,28],[1,30,2,30],[1,31,2,31],[1,32,2,32]]}
[null,null,null,null,null,null,null,null,null,null,null,null,null,null,null,null,null,null,null,"Conflicting Traffic Complexity",null,null,null,null,null,null,null,null,null,null,"Pedestrian Complexity"]
[null,null,null,null,null,null,null,null,null,"Exposure",null,null,null,"Severity",null,null,null,null,null,"Traffic Control",null,"Conflicting Lanes",null,null,null,null,null,"Conflicting Speed",null,null,"Indirect Paths Indicator","Non-intuitive movements indicator","Pedestrian Complexity factor",null,"Total Complexity Multiplier",null,"Exposure-Severity-Complexity Product",null,null,"Included in Mvmt1",null,null,null,null,null,null,null,null,null,null,null,null,null,null,null,null,"Included in Mvmt2"]
["#","Conflict Type","Mvmt1","Mvmt1_gen","Mvmt1_SpeedCat","Mvmt2","Mvmt2_gen","Mvmt2_SpeedCat",null,"Q1","Q2","I",null,"Speed_V1","Speed_V2","Angle","delta_V","P_FSI",null,null,null,"MajC","MinC","MajM/P","MinM/P","Score",null,"Speed","Factor",null,null,null,null,null,null,null,null,null,null,"MajT1","MajL1","MajR1","MajT2","MajL2","MajR2","MinT1","MinL1","MinR1","MinT2","MinL2","MinR2","MajNM1","MajNM2","MinNM1","MinNM2",null,"MajT1","MajL1","MajR1","MajT2","MajL2","MajR2","MinT1","MinL1","MinR1","MinT2","MinL2","MinR2","MajNM1","MajNM2","MinNM1","MinNM2"]
[1,"Crossing - LT","EBT","MajT1","Major thru","WBL","MajL2","Major left",null,{"$f":"SUMPRODUCT($AN4:$BC4,$AN$25:$BC$25)","v":{"$error":"#VALUE!"}},{"$f":"SUMPRODUCT($BE4:$BT4,$BE$25:$BT$25)","v":{"$error":"#VALUE!"}},{"$f":"PRODUCT(J4:K4)","v":{"$error":"#VALUE!"}},null,{"$f":"VLOOKUP(E4,SSI_AGI_Range_VehSpeed,5,FALSE)","v":45},{"$f":"VLOOKUP(H4,SSI_AGI_Range_VehSpeed,5,FALSE)","v":20},{"$f":"IF(B4=\"Nonmotorized\",\"\",VLOOKUP(B4,SSI_AGI_Range_CollAngles,5,FALSE))","v":230},{"$f":"IF(B4=\"Nonmotorized\",\"\",SQRT(N4^2+O4^2-2*N4*O4*COS(RADIANS(P4)))/2)","v":29.924979939156898},{"$f":"IF(B4=\"Nonmotorized\",1/(1+EXP(3.8432-0.1237*O4)),(Q4/SSI_AGI_RegAlpha)^SSI_AGI_RegK+(Q4/SSI_AGI_RegAlpha)^SSI_AGI_RegK-((Q4/SSI_AGI_RegAlpha)^SSI_AGI_RegK)*((Q4/SSI_AGI_RegAlpha)^SSI_AGI_RegK))","v":9.0286582411373745E-2},null,{"$f":"IF(SSI_AGI_MajorLTPhase=\"Protected/permitted\",SSI_AGI_ProtPermFactor,IF(SSI_AGI_MajorLTPhase=\"Protected\",SSI_AGI_ProtFactor,SSI_AGI_PermFactor))","v":0.92500000000000004},null,1,null,null,null,{"$f":"MAX(1,IF(B4<>\"Pedestrian\",V4*SSI_AGI_MajorThruLanes+W4*SSI_AGI_MinorThruLanes+X4*IF(SSI_AGI_MajorThruLanes=1,SSI_AGI_MergeWeightL1,IF(SSI_AGI_MajorThruLanes=2,SSI_AGI_MergeWeightL1+SSI_AGI_MergeWeightL2,SSI_AGI_MergeWeightL1+SSI_AGI_MergeWeightL2+SSI_AGI_MergeWeightL3*(SSI_AGI_MajorThruLanes-2)))+Y4*IF(SSI_AGI_MinorThruLanes=1,SSI_AGI_MergeWeightL1,IF(SSI_AGI_MinorThruLanes=2,SSI_AGI_MergeWeightL1+SSI_AGI_MergeWeightL2,SSI_AGI_MergeWeightL1+SSI_AGI_MergeWeightL2+SSI_AGI_MergeWeightL3*(SSI_AGI_MinorThruLanes-2))),V4*SSI_AGI_MajorThruLanes+W4*SSI_AGI_MinorThruLanes+X4*IF(SSI_AGI_MajorThruLanes=1,SSI_AGI_NM_MergeWeightL1,IF(SSI_AGI_MajorThruLanes=2,SSI_AGI_NM_MergeWeightL1+SSI_AGI_NM_MergeWeightL2,SSI_AGI_NM_MergeWeightL1+SSI_AGI_NM_MergeWeightL2+SSI_AGI_NM_MergeWeightL3*(SSI_AGI_MajorThruLanes-2)))+Y4*IF(SSI_AGI_MinorThruLanes=1,SSI_AGI_NM_MergeWeightL1,IF(SSI_AGI_MinorThruLanes=2,SSI_AGI_NM_MergeWeightL1+SSI_AGI_NM_MergeWeightL2,SSI_AGI_NM_MergeWeightL1+SSI_AGI_NM_MergeWeightL2+SSI_AGI_NM_MergeWeightL3*(SSI_AGI_MinorThruLanes-2)))))","v":2},null,{"$f":"IF(B4=\"Diverging\",\"\",SSI_AGI_VehSpeed_MjrThru)","v":45},{"$f":"IF(B4=\"Diverging\",1,1-((60-AB4)/60*0.1/0.15))","v":0.83333333333333326},null,null,null,{"$f":"IF(SSI_AGI_ConsiderNMComplexity=\"Yes\",1+AE4+AF4,1)","v":1},null,{"$f":"PRODUCT(Z4,T4,AC4,AG4)","v":1.5416666666666665},null,{"$f":"L4*R4*AI4","v":{"$error":"#VALUE!"}},null,null,{"$f":"IF(ISNUMBER(SEARCH(AN$3,$D4)),1,\"\")","v":1},{"$f":"IF(ISNUMBER(SEARCH(AO$3,$D4)),1,\"\")","v":""},"","","","","","","","","","","","","","",null,{"$f":"IF(ISNUMBER(SEARCH(BE$3,$G4)),1,\"\")","v":""},{"$f":"IF(ISNUMBER(SEARCH(BF$3,$G4)),1,\"\")","v":""},"","",1,"","","","","","","","","","",""]
[2,"Crossing - LT","WBL","MajL2","Major left","NBL","MinL1","Signal near",null,{"$error":"#VALUE!"},{"$error":"#VALUE!"},{"$f":"PRODUCT(J5:K5)","v":{"$error":"#VALUE!"}},null,20,15,230,{"$f":"IF(B5=\"Nonmotorized\",\"\",SQRT(N5^2+O5^2-2*N5*O5*COS(RADIANS(P5)))/2)","v":15.895538413434787},8.3616736100371545E-3,null,{"$f":"SSI_AGI_ProtFactor","v":0.505},null,1,null,null,null,2,null,45,0.83333333333333326,null,null,null,1,null,0.84166666666666656,null,{"$f":"L5*R5*AI5","v":{"$error":"#VALUE!"}},null,null,{"$f":"IF(ISNUMBER(SEARCH(AN$3,$D5)),1,\"\")","v":""},"","","",1,"","","","","","","","","","","",null,{"$f":"IF(ISNUMBER(SEARCH(BE$3,$G5)),1,\"\")","v":""},"","","","","","",1,"","","","","","","",""]
[3,"Crossing - LT","EBT","MajT1","Major thru","NBL","MinL1","Signal near",null,{"$error":"#VALUE!"},{"$error":"#VALUE!"},{"$error":"#VALUE!"},null,45,15,230,27.918467333813421,6.9762185672148203E-2,null,{"$f":"SSI_AGI_ProtFactor","v":0.505},null,1,null,null,null,2,null,45,0.83333333333333326,null,null,null,1,null,0.84166666666666656,null,{"$error":"#VALUE!"},null,null,1,"","","","","","","","","","","","","","","",null,"","","","","","","",1,"","","","","","","",""]
[4,"Merging","EBR","MajR1","Major right","WBL","MajL2","Major left",null,{"$error":"#VALUE!"},{"$error":"#VALUE!"},{"$error":"#VALUE!"},null,15,20,45,7.0840654162717795,3.9022923271840544E-4,null,{"$f":"IF(SSI_AGI_MajorLTPhase=\"Protected/permitted\",SSI_AGI_ProtPermFactor,IF(SSI_AGI_MajorLTPhase=\"Protected\",SSI_AGI_ProtFactor,SSI_AGI_PermFactor))","v":0.92500000000000004},null,1,null,null,null,2,null,45,0.83333333333333326,null,null,null,1,null,1.5416666666666665,null,{"$error":"#VALUE!"},null,null,"","",1,"","","","","","","","","","","","","",null,"","","","",1,"","","","","","","","","","",""]
[5,"Merging","NBL","MinL1","Signal far","WBT","MajT2","Major thru",null,{"$error":"#VALUE!"},{"$error":"#VALUE!"},{"$error":"#VALUE!"},null,25,45,45,16.271214938736659,9.1348815406664795E-3,null,{"$f":"SSI_AGI_PermFactor","v":1},null,null,null,1,null,1.75,null,45,0.83333333333333326,null,null,null,1,null,1.4583333333333333,null,{"$error":"#VALUE!"},null,null,"","","","","","","",1,"","","","","","","","",null,"","","",1,"","","","","","","","","","","",""]
[6,"Merging","NBR","MinR1","Signal near","EBT","MajT1","Major thru",null,{"$error":"#VALUE!"},{"$error":"#VALUE!"},{"$error":"#VALUE!"},null,15,45,45,17.995873453365363,1.3373938286506865E-2,null,{"$f":"SSI_AGI_ProtFactor","v":0.505},null,null,null,1,null,1.75,null,45,0.83333333333333326,null,null,null,1,null,0.73645833333333333,null,{"$error":"#VALUE!"},null,null,"","","","","","","","",1,"","","","","","","",null,1,"","","","","","","","","","","","","","",""]
[7,"Diverging","NBR","MinR1","Signal near","NBL","MinL1","Signal near",null,{"$error":"#VALUE!"},{"$error":"#VALUE!"},{"$error":"#VALUE!"},null,15,15,10,1.3073361412148754,6.4061388075216071E-7,null,{"$f":"SSI_AGI_PermFactor","v":1},null,null,null,null,null,1,null,"",1,null,null,null,1,null,1,null,{"$error":"#VALUE!"},null,null,"","","","","","","","",1,"","","","","","","",null,"","","","","","","",1,"","","","","","","",""]
[8,"Diverging","EBR","MajR1","Major right","EBT","MajT1","Major thru",null,{"$error":"#VALUE!"},{"$error":"#VALUE!"},{"$error":"#VALUE!"},null,15,45,10,15.169950011729762,7.0056226631585675E-3,null,{"$f":"SSI_AGI_PermFactor","v":1},null,null,null,null,null,1,null,"",1,null,null,null,1,null,1,null,{"$error":"#VALUE!"},null,null,"","",1,"","","","","","","","","","","","","",null,1,"","","","","","","","","","","","","","",""]
[9,"Diverging","WBL","MajL2","Major left","WBT","MajT2","Major thru",null,{"$error":"#VALUE!"},{"$error":"#VALUE!"},{"$error":"#VALUE!"},null,20,45,10,12.77053292327718,3.6481988362114144E-3,null,{"$f":"SSI_AGI_PermFactor","v":1},null,null,null,null,null,1,null,"",1,null,null,null,1,null,1,null,{"$error":"#VALUE!"},null,null,"","","","",1,"","","","","","","","","","","",null,"","","",1,"","","","","","","","","","","",""]
[10,"Nonmotorized",null,"MajNM1","Nonmotorized","WBT","MajT2","Major thru",null,{"$error":"#VALUE!"},{"$error":"#VALUE!"},{"$error":"#VALUE!"},null,0,45,"","",0.84855340903216459,null,{"$f":"SSI_AGI_ProtFactor","v":0.505},null,1,null,null,1,3.75,null,45,0.83333333333333326,null,null,null,1,null,1.578125,null,{"$error":"#VALUE!"},null,null,"","","","","","","","","","","","",1,"","","",null,"","","",1,"","","","","","","","","","","",""]
[11,"Nonmotorized",null,"MajNM1","Nonmotorized","NBL","MinL1","Signal far",null,{"$error":"#VALUE!"},{"$error":"#VALUE!"},{"$error":"#VALUE!"},null,0,25,"","",0.32066879346345062,null,{"$f":"IF(SSI_AGI_MinorLTPhase=\"Protected/permitted\",SSI_AGI_ProtPermFactor,IF(SSI_AGI_MinorLTPhase=\"Protected\",SSI_AGI_ProtFactor,SSI_AGI_PermFactor))","v":0.92500000000000004},null,1,null,null,1,3.75,null,45,0.83333333333333326,null,null,null,1,null,2.8906249999999996,null,{"$error":"#VALUE!"},null,null,"","","","","","","","","","","","",1,"","","",null,"","","","","","","",1,"","","","","","","",""]
[12,"Nonmotorized",null,"MajNM1","Nonmotorized","EBT","MajT1","Major thru",null,{"$error":"#VALUE!"},{"$error":"#VALUE!"},{"$error":"#VALUE!"},null,0,45,"","",0.84855340903216459,null,{"$f":"SSI_AGI_ProtFactor","v":0.505},null,1,null,null,null,2,null,45,0.83333333333333326,null,null,null,1,null,0.84166666666666656,null,{"$error":"#VALUE!"},null,null,"","","","","","","","","","","","",1,"","","",null,1,"","","","","","","","","","","","","","",""]
[13,"Nonmotorized",null,"MajNM1","Nonmotorized","EBR","MajR1","Major right",null,{"$error":"#VALUE!"},{"$error":"#VALUE!"},{"$error":"#VALUE!"},null,0,15,"","",0.1205004039155782,null,{"$f":"SSI_AGI_ProtFactor","v":0.505},null,1,null,null,null,2,null,45,0.83333333333333326,null,null,null,1,null,0.84166666666666656,null,{"$error":"#VALUE!"},null,null,"","","","","","","","","","","","",1,"","","",null,"","",1,"","","","","","","","","","","","",""]
[14,"Nonmotorized",null,"MinNM1","Nonmotorized","EBR","MajR1","Major right",null,{"$error":"#VALUE!"},{"$error":"#VALUE!"},{"$error":"#VALUE!"},null,0,15,"","",0.1205004039155782,null,{"$f":"SSI_AGI_ProtFactor","v":0.505},null,null,2,2,null,7.5,null,45,0.83333333333333326,null,null,null,1,null,3.15625,null,{"$error":"#VALUE!"},null,null,"","","","","","","","","","","","","","",1,"",null,"","",1,"","","","","","","","","","","","",""]
[15,"Nonmotorized",null,"MinNM1","Nonmotorized","WBL","MajL2","Major left",null,{"$error":"#VALUE!"},{"$error":"#VALUE!"},{"$error":"#VALUE!"},null,0,20,"","",0.20274912921655375,null,{"$f":"IF(SSI_AGI_MajorLTPhase=\"Protected/permitted\",SSI_AGI_ProtPermFactor,IF(SSI_AGI_MajorLTPhase=\"Protected\",SSI_AGI_ProtFactor,SSI_AGI_PermFactor))","v":0.92500000000000004},null,null,2,2,null,7.5,null,45,0.83333333333333326,null,null,null,1,null,5.7812499999999991,null,{"$error":"#VALUE!"},null,null,"","","","","","","","","","","","","","",1,"",null,"","","","",1,"","","","","","","","","","",""]
[16,"Nonmotorized",null,"MinNM1","Nonmotorized","NBL","MinL1","Signal near",null,{"$error":"#VALUE!"},{"$error":"#VALUE!"},{"$error":"#VALUE!"},null,0,15,"","",0.1205004039155782,null,{"$f":"SSI_AGI_ProtFactor","v":0.505},null,null,2,2,null,7.5,null,45,0.83333333333333326,null,null,null,1,null,3.15625,null,{"$error":"#VALUE!"},null,null,"","","","","","","","","","","","","","",1,"",null,"","","","","","","",1,"","","","","","","",""]
[17,"Nonmotorized",null,"MinNM1","Nonmotorized","NBR","MinR1","Signal near",null,{"$error":"#VALUE!"},{"$error":"#VALUE!"},{"$error":"#VALUE!"},null,0,15,"","",0.1205004039155782,null,0.505,null,null,2,2,null,7.5,null,45,0.83333333333333326,null,null,null,1,null,3.15625,null,{"$error":"#VALUE!"},null,null,"","","","","","","","","","","","","","",1,"",null,"","","","","","","","",1,"","","","","","",""]
[18,"Nonmotorized",null,"MajNM2","Nonmotorized","NBR","MinR1","Signal near",null,{"$error":"#VALUE!"},{"$error":"#VALUE!"},{"$error":"#VALUE!"},null,0,15,"","",0.1205004039155782,null,0.505,null,2,null,null,1,5.75,null,45,0.83333333333333326,null,null,null,1,null,2.4197916666666663,null,{"$error":"#VALUE!"},null,null,"","","","","","","","","","","","","",1,"","",null,"","","","","","","","",1,"","","","","","",""]
[19,"Nonmotorized",null,"MajNM2","Nonmotorized","EBT","MajT1","Major thru",null,{"$error":"#VALUE!"},{"$error":"#VALUE!"},{"$error":"#VALUE!"},null,0,45,"","",0.84855340903216459,null,0.505,null,2,null,null,1,5.75,null,45,0.83333333333333326,null,null,null,1,null,2.4197916666666663,null,{"$error":"#VALUE!"},null,null,"","","","","","","","","","","","","",1,"","",null,1,"","","","","","","","","","","","","","",""]
[20,"Nonmotorized",null,"MajNM2","Nonmotorized","WBL","MajL2","Major left",null,{"$error":"#VALUE!"},{"$error":"#VALUE!"},{"$error":"#VALUE!"},null,0,20,"","",0.20274912921655375,null,0.505,null,2,null,null,1,5.75,null,45,0.83333333333333326,null,null,null,1,null,2.4197916666666663,null,{"$error":"#VALUE!"},null,null,"","","","","","","","","","","","","",1,"","",null,"","","","",1,"","","","","","","","","","",""]
[21,"Nonmotorized",null,"MajNM2","Nonmotorized","WBT","MajT2","Major thru",null,{"$error":"#VALUE!"},{"$error":"#VALUE!"},{"$error":"#VALUE!"},null,0,45,"","",0.84855340903216459,null,0.505,null,2,null,null,1,5.75,null,45,0.83333333333333326,null,null,null,1,null,2.4197916666666663,null,{"$error":"#VALUE!"},null,null,"","","","","","","","","","","","","",1,"","",null,"","","",1,"","","","","","","","","","","",""]
[null,null,null,null,null,null,null,null,null,null,null,null,null,null,null,null,null,null,null,null,null,null,null,null,null,null,null,null,null,null,null,null,null,null,null,null,null,null,null,{"$f":"'SSI Inputs'!$D$26","v":{"$error":"#VALUE!"}},{"$f":"'SSI Inputs'!$D$27","v":{"$error":"#VALUE!"}},{"$f":"'SSI Inputs'!$D$28","v":{"$error":"#VALUE!"}},{"$f":"'SSI Inputs'!$D$30","v":{"$error":"#VALUE!"}},{"$f":"'SSI Inputs'!$D$31","v":{"$error":"#VALUE!"}},{"$f":"'SSI Inputs'!$D$32","v":{"$error":"#VALUE!"}},{"$f":"'SSI Inputs'!$D$34","v":{"$error":"#VALUE!"}},{"$f":"'SSI Inputs'!$D$35","v":{"$error":"#VALUE!"}},{"$f":"'SSI Inputs'!$D$36","v":{"$error":"#VALUE!"}},{"$f":"'SSI Inputs'!$D$38","v":{"$error":"#VALUE!"}},{"$f":"'SSI Inputs'!$D$39","v":{"$error":"#VALUE!"}},{"$f":"'SSI Inputs'!$D$40","v":{"$error":"#VALUE!"}},{"$f":"'SSI Inputs'!$Q$18","v":175},{"$f":"'SSI Inputs'!$Q$19","v":175},{"$f":"'SSI Inputs'!$Q$20","v":175},{"$f":"'SSI Inputs'!$Q$21","v":175},null,{"$f":"'SSI Inputs'!$D$26","v":{"$error":"#VALUE!"}},{"$f":"'SSI Inputs'!$D$27","v":{"$error":"#VALUE!"}},{"$f":"'SSI Inputs'!$D$28","v":{"$error":"#VALUE!"}},{"$f":"'SSI Inputs'!$D$30","v":{"$error":"#VALUE!"}},{"$f":"'SSI Inputs'!$D$31","v":{"$error":"#VALUE!"}},{"$f":"'SSI Inputs'!$D$32","v":{"$error":"#VALUE!"}},{"$f":"'SSI Inputs'!$D$34","v":{"$error":"#VALUE!"}},{"$f":"'SSI Inputs'!$D$35","v":{"$error":"#VALUE!"}},{"$f":"'SSI Inputs'!$D$36","v":{"$error":"#VALUE!"}},{"$f":"'SSI Inputs'!$D$38","v":{"$error":"#VALUE!"}},{"$f":"'SSI Inputs'!$D$39","v":{"$error":"#VALUE!"}},{"$f":"'SSI Inputs'!$D$40","v":{"$error":"#VALUE!"}},{"$f":"'SSI Inputs'!$Q$18","v":175},{"$f":"'SSI Inputs'!$Q$19","v":175},{"$f":"'SSI Inputs'!$Q$20","v":175},{"$f":"'SSI Inputs'!$Q$21","v":175}]
[null,null,null,null,null,null,null,null,null,null,null,null,null,null,null,null,null,null,null,null,null,null,null,null,null,null,null,null,null,null,null,null,null,null,null,null,null,null,"D",{"$f":"'SSI Inputs'!$E$26","v":{"$error":"#VALUE!"}},{"$f":"'SSI Inputs'!$E$27","v":{"$error":"#VALUE!"}},{"$f":"'SSI Inputs'!$E$28","v":{"$error":"#VALUE!"}},{"$f":"'SSI Inputs'!$E$30","v":{"$error":"#VALUE!"}},{"$f":"'SSI Inputs'!$E$31","v":{"$error":"#VALUE!"}},{"$f":"'SSI Inputs'!$E$32","v":{"$error":"#VALUE!"}},{"$f":"'SSI Inputs'!$E$34","v":{"$error":"#VALUE!"}},{"$f":"'SSI Inputs'!$E$35","v":{"$error":"#VALUE!"}},{"$f":"'SSI Inputs'!$E$36","v":{"$error":"#VALUE!"}},{"$f":"'SSI Inputs'!$E$38","v":{"$error":"#VALUE!"}},{"$f":"'SSI Inputs'!$E$39","v":{"$error":"#VALUE!"}},{"$f":"'SSI Inputs'!$E$40","v":{"$error":"#VALUE!"}},{"$f":"'SSI Inputs'!$R$18","v":175},{"$f":"'SSI Inputs'!$R$19","v":175},{"$f":"'SSI Inputs'!$R$20","v":175},{"$f":"'SSI Inputs'!$R$21","v":175},"D",{"$f":"'SSI Inputs'!$E$26","v":{"$error":"#VALUE!"}},{"$f":"'SSI Inputs'!$E$27","v":{"$error":"#VALUE!"}},{"$f":"'SSI Inputs'!$E$28","v":{"$error":"#VALUE!"}},{"$f":"'SSI Inputs'!$E$30","v":{"$error":"#VALUE!"}},{"$f":"'SSI Inputs'!$E$31","v":{"$error":"#VALUE!"}},{"$f":"'SSI Inputs'!$E$32","v":{"$error":"#VALUE!"}},{"$f":"'SSI Inputs'!$E$34","v":{"$error":"#VALUE!"}},{"$f":"'SSI Inputs'!$E$35","v":{"$error":"#VALUE!"}},{"$f":"'SSI Inputs'!$E$36","v":{"$error":"#VALUE!"}},{"$f":"'SSI Inputs'!$E$38","v":{"$error":"#VALUE!"}},{"$f":"'SSI Inputs'!$E$39","v":{"$error":"#VALUE!"}},{"$f":"'SSI Inputs'!$E$40","v":{"$error":"#VALUE!"}},{"$f":"'SSI Inputs'!$R$18","v":175},{"$f":"'SSI Inputs'!$R$19","v":175},{"$f":"'SSI Inputs'!$R$20","v":175},{"$f":"'SSI Inputs'!$R$21","v":175}]
[]
[]
[]
[]
[]
[]
[]
[]
[]
[]
[]
[]
[]
[]
[]
[]
[]
[]
[]
[]
[]
[]
[]
[]
[]
[]
[]
[]
[]
[]
[]
[]
[]
[]
[]
[]
[]
[]
[]
[]
[]
[]
[]
[]
[]
[]
[]
[]
[]
[]
[]
[]
[]
[]
[]
[]
[]
[]
[]
[]
[]
[]
[]
[]
[]
[]
[]
[]
[]
[]
[]
[]
[]
[]
[null,null,null,null,null,null,null,null,null,"Exposure",null,null,null,null,null,null,null,null,null,null,null,null,null,null,null,null,null,null,null,null,null,null,null,null,null,null,"Exposure-Severity-Complexity Product"]
[null,null,null,null,null,null,null,null,null,"Q1","Q2","I"]
[null,null,null,null,null,null,null,null,null,{"$f":"SUMPRODUCT($AN4:$BC4,$AN$26:$BC$26)","v":{"$error":"#VALUE!"}},{"$f":"SUMPRODUCT($BE4:$BT4,$BE$26:$BT$26)","v":{"$error":"#VALUE!"}},{"$f":"PRODUCT(J103:K103)","v":{"$error":"#VALUE!"}},null,null,null,null,null,null,null,null,null,null,null,null,null,null,null,null,null,null,null,null,null,null,null,null,{"$f":"L103*R4*AI4","v":{"$error":"#VALUE!"}}]
[null,null,null,null,null,null,null,null,null,{"$f":"SUMPRODUCT($AN5:$BC5,$AN$26:$BC$26)","v":{"$error":"#VALUE!"}},{"$f":"SUMPRODUCT($BE5:$BT5,$BE$26:$BT$26)","v":{"$error":"#VALUE!"}},{"$f":"PRODUCT(J104:K104)","v":{"$error":"#VALUE!"}},null,null,null,null,null,null,null,null,null,null,null,null,null,null,null,null,null,null,null,null,null,null,null,null,{"$f":"L104*R5*AI5","v":{"$error":"#VALUE!"}}]
[null,null,null,null,null,null,null,null,null,{"$error":"#VALUE!"},{"$error":"#VALUE!"},{"$error":"#VALUE!"},null,null,null,null,null,null,null,null,null,null,null,null,null,null,null,null,null,null,null,null,null,null,null,null,{"$error":"#VALUE!"}]
[null,null,null,null,null,null,null,null,null,{"$error":"#VALUE!"},{"$error":"#VALUE!"},{"$error":"#VALUE!"},null,null,null,null,null,null,null,null,null,null,null,null,null,null,null,null,null,null,null,null,null,null,null,null,{"$error":"#VALUE!"}]
[null,null,null,null,null,null,null,null,null,{"$error":"#VALUE!"},{"$error":"#VALUE!"},{"$error":"#VALUE!"},null,null,null,null,null,null,null,null,null,null,null,null,null,null,null,null,null,null,null,null,null,null,null,null,{"$error":"#VALUE!"}]
[null,null,null,null,null,null,null,null,null,{"$error":"#VALUE!"},{"$error":"#VALUE!"},{"$error":"#VALUE!"},null,null,null,null,null,null,null,null,null,null,null,null,null,null,null,null,null,null,null,null,null,null,null,null,{"$error":"#VALUE!"}]
[null,null,null,null,null,null,null,null,null,{"$error":"#VALUE!"},{"$error":"#VALUE!"},{"$error":"#VALUE!"},null,null,null,null,null,null,null,null,null,null,null,null,null,null,null,null,null,null,null,null,null,null,null,null,{"$error":"#VALUE!"}]
[null,null,null,null,null,null,null,null,null,{"$error":"#VALUE!"},{"$error":"#VALUE!"},{"$error":"#VALUE!"},null,null,null,null,null,null,null,null,null,null,null,null,null,null,null,null,null,null,null,null,null,null,null,null,{"$error":"#VALUE!"}]
[null,null,null,null,null,null,null,null,null,{"$error":"#VALUE!"},{"$error":"#VALUE!"},{"$error":"#VALUE!"},null,null,null,null,null,null,null,null,null,null,null,null,null,null,null,null,null,null,null,null,null,null,null,null,{"$error":"#VALUE!"}]
[null,null,null,null,null,null,null,null,null,{"$error":"#VALUE!"},{"$error":"#VALUE!"},{"$error":"#VALUE!"},null,null,null,null,null,null,null,null,null,null,null,null,null,null,null,null,null,null,null,null,null,null,null,null,{"$error":"#VALUE!"}]
[null,null,null,null,null,null,null,null,null,{"$error":"#VALUE!"},{"$error":"#VALUE!"},{"$error":"#VALUE!"},null,null,null,null,null,null,null,null,null,null,null,null,null,null,null,null,null,null,null,null,null,null,null,null,{"$error":"#VALUE!"}]
[null,null,null,null,null,null,null,null,null,{"$error":"#VALUE!"},{"$error":"#VALUE!"},{"$error":"#VALUE!"},null,null,null,null,null,null,null,null,null,null,null,null,null,null,null,null,null,null,null,null,null,null,null,null,{"$error":"#VALUE!"}]
[null,null,null,null,null,null,null,null,null,{"$error":"#VALUE!"},{"$error":"#VALUE!"},{"$error":"#VALUE!"},null,null,null,null,null,null,null,null,null,null,null,null,null,null,null,null,null,null,null,null,null,null,null,null,{"$error":"#VALUE!"}]
[null,null,null,null,null,null,null,null,null,{"$error":"#VALUE!"},{"$error":"#VALUE!"},{"$error":"#VALUE!"},null,null,null,null,null,null,null,null,null,null,null,null,null,null,null,null,null,null,null,null,null,null,null,null,{"$error":"#VALUE!"}]
[null,null,null,null,null,null,null,null,null,{"$error":"#VALUE!"},{"$error":"#VALUE!"},{"$error":"#VALUE!"},null,null,null,null,null,null,null,null,null,null,null,null,null,null,null,null,null,null,null,null,null,null,null,null,{"$error":"#VALUE!"}]
[null,null,null,null,null,null,null,null,null,{"$error":"#VALUE!"},{"$error":"#VALUE!"},{"$error":"#VALUE!"},null,null,null,null,null,null,null,null,null,null,null,null,null,null,null,null,null,null,null,null,null,null,null,null,{"$error":"#VALUE!"}]
[null,null,null,null,null,null,null,null,null,{"$error":"#VALUE!"},{"$error":"#VALUE!"},{"$error":"#VALUE!"},null,null,null,null,null,null,null,null,null,null,null,null,null,null,null,null,null,null,null,null,null,null,null,null,{"$error":"#VALUE!"}]
[null,null,null,null,null,null,null,null,null,{"$error":"#VALUE!"},{"$error":"#VALUE!"},{"$error":"#VALUE!"},null,null,null,null,null,null,null,null,null,null,null,null,null,null,null,null,null,null,null,null,null,null,null,null,{"$error":"#VALUE!"}]
[null,null,null,null,null,null,null,null,null,{"$error":"#VALUE!"},{"$error":"#VALUE!"},{"$error":"#VALUE!"},null,null,null,null,null,null,null,null,null,null,null,null,null,null,null,null,null,null,null,null,null,null,null,null,{"$error":"#VALUE!"}]
[null,null,null,null,null,null,null,null,null,{"$error":"#VALUE!"},{"$error":"#VALUE!"},{"$error":"#VALUE!"},null,null,null,null,null,null,null,null,null,null,null,null,null,null,null,null,null,null,null,null,null,null,null,null,{"$error":"#VALUE!"}]
[null,null,null,null,null,null,null,null,null,{"$error":"#VALUE!"},{"$error":"#VALUE!"},{"$error":"#VALUE!"},null,null,null,null,null,null,null,null,null,null,null,null,null,null,null,null,null,null,null,null,null,null,null,null,{"$error":"#VALUE!"}]

{"sheet":"T_PDLT","index":53,"n_rows":123,"n_cols":72,"rows_kept":123,"cut":false,"hidden":true,"merged":[[1,34,2,34],[1,36,2,36],[1,39,1,54],[1,56,1,71],[100,9,100,11],[100,36,101,36],[0,19,0,28],[0,30,0,32],[1,9,1,11],[1,13,1,17],[1,21,1,25],[1,27,1,28],[1,30,2,30],[1,31,2,31],[1,32,2,32]]}
[null,null,null,null,null,null,null,null,null,null,null,null,null,null,null,null,null,null,null,"Conflicting Traffic Complexity",null,null,null,null,null,null,null,null,null,null,"Pedestrian Complexity"]
[null,null,null,null,null,null,null,null,null,"Exposure",null,null,null,"Severity",null,null,null,null,null,"Traffic Control",null,"Conflicting Lanes",null,null,null,null,null,"Conflicting Speed",null,null,"Indirect Paths Indicator","Non-intuitive movements indicator","Pedestrian Complexity factor",null,"Total Complexity Multiplier",null,"Exposure-Severity-Complexity Product",null,null,"Included in Mvmt1",null,null,null,null,null,null,null,null,null,null,null,null,null,null,null,null,"Included in Mvmt2"]
["#","Conflict Type","Mvmt1","Mvmt1_gen","Mvmt1_SpeedCat","Mvmt2","Mvmt2_gen","Mvmt2_SpeedCat",null,"Q1","Q2","I",null,"Speed_V1","Speed_V2","Angle","delta_V","P_FSI",null,null,null,"MajC","MinC","MajM/P","MinM/P","Score",null,"Speed","Factor",null,null,null,null,null,null,null,null,null,null,"MajT1","MajL1","MajR1","MajT2","MajL2","MajR2","MinT1","MinL1","MinR1","MinT2","MinL2","MinR2","MajNM1","MajNM2","MinNM1","MinNM2",null,"MajT1","MajL1","MajR1","MajT2","MajL2","MajR2","MinT1","MinL1","MinR1","MinT2","MinL2","MinR2","MajNM1","MajNM2","MinNM1","MinNM2"]
[1,"Crossing - LT","EBT","MajT1","Major thru","WBL","MajL2","Major left",null,{"$f":"SUMPRODUCT($AN4:$BC4,$AN$25:$BC$25)","v":{"$error":"#VALUE!"}},{"$f":"SUMPRODUCT($BE4:$BT4,$BE$25:$BT$25)","v":{"$error":"#VALUE!"}},{"$f":"PRODUCT(J4:K4)","v":{"$error":"#VALUE!"}},null,{"$f":"VLOOKUP(E4,SSI_AGI_Range_VehSpeed,5,FALSE)","v":45},{"$f":"VLOOKUP(H4,SSI_AGI_Range_VehSpeed,5,FALSE)","v":20},{"$f":"IF(B4=\"Nonmotorized\",\"\",VLOOKUP(B4,SSI_AGI_Range_CollAngles,5,FALSE))","v":230},{"$f":"IF(B4=\"Nonmotorized\",\"\",SQRT(N4^2+O4^2-2*N4*O4*COS(RADIANS(P4)))/2)","v":29.924979939156898},{"$f":"IF(B4=\"Nonmotorized\",1/(1+EXP(3.8432-0.1237*O4)),(Q4/SSI_AGI_RegAlpha)^SSI_AGI_RegK+(Q4/SSI_AGI_RegAlpha)^SSI_AGI_RegK-((Q4/SSI_AGI_RegAlpha)^SSI_AGI_RegK)*((Q4/SSI_AGI_RegAlpha)^SSI_AGI_RegK))","v":9.0286582411373745E-2},null,{"$f":"SSI_AGI_ProtFactor","v":0.505},null,1,null,null,null,{"$f":"MAX(1,IF(B4<>\"Pedestrian\",V4*SSI_AGI_MajorThruLanes+W4*SSI_AGI_MinorThruLanes+X4*IF(SSI_AGI_MajorThruLanes=1,SSI_AGI_MergeWeightL1,IF(SSI_AGI_MajorThruLanes=2,SSI_AGI_MergeWeightL1+SSI_AGI_MergeWeightL2,SSI_AGI_MergeWeightL1+SSI_AGI_MergeWeightL2+SSI_AGI_MergeWeightL3*(SSI_AGI_MajorThruLanes-2)))+Y4*IF(SSI_AGI_MinorThruLanes=1,SSI_AGI_MergeWeightL1,IF(SSI_AGI_MinorThruLanes=2,SSI_AGI_MergeWeightL1+SSI_AGI_MergeWeightL2,SSI_AGI_MergeWeightL1+SSI_AGI_MergeWeightL2+SSI_AGI_MergeWeightL3*(SSI_AGI_MinorThruLanes-2))),V4*SSI_AGI_MajorThruLanes+W4*SSI_AGI_MinorThruLanes+X4*IF(SSI_AGI_MajorThruLanes=1,SSI_AGI_NM_MergeWeightL1,IF(SSI_AGI_MajorThruLanes=2,SSI_AGI_NM_MergeWeightL1+SSI_AGI_NM_MergeWeightL2,SSI_AGI_NM_MergeWeightL1+SSI_AGI_NM_MergeWeightL2+SSI_AGI_NM_MergeWeightL3*(SSI_AGI_MajorThruLanes-2)))+Y4*IF(SSI_AGI_MinorThruLanes=1,SSI_AGI_NM_MergeWeightL1,IF(SSI_AGI_MinorThruLanes=2,SSI_AGI_NM_MergeWeightL1+SSI_AGI_NM_MergeWeightL2,SSI_AGI_NM_MergeWeightL1+SSI_AGI_NM_MergeWeightL2+SSI_AGI_NM_MergeWeightL3*(SSI_AGI_MinorThruLanes-2)))))","v":2},null,{"$f":"IF(B4=\"Diverging\",\"\",SSI_AGI_VehSpeed_MjrThru)","v":45},{"$f":"IF(B4=\"Diverging\",1,1-((60-AB4)/60*0.1/0.15))","v":0.83333333333333326},null,null,null,{"$f":"IF(SSI_AGI_ConsiderNMComplexity=\"Yes\",1+AE4+AF4,1)","v":1},null,{"$f":"PRODUCT(Z4,T4,AC4,AG4)","v":0.84166666666666656},null,{"$f":"L4*R4*AI4","v":{"$error":"#VALUE!"}},null,null,{"$f":"IF(ISNUMBER(SEARCH(AN$3,$D4)),1,\"\")","v":1},{"$f":"IF(ISNUMBER(SEARCH(AO$3,$D4)),1,\"\")","v":""},"","","","","","","","","","","","","","",null,{"$f":"IF(ISNUMBER(SEARCH(BE$3,$G4)),1,\"\")","v":""},{"$f":"IF(ISNUMBER(SEARCH(BF$3,$G4)),1,\"\")","v":""},"","",1,"","","","","","","","","","",""]
[2,"Crossing - LT","WBL","MajL2","Major left","NBL","MinL1","Signal near",null,{"$error":"#VALUE!"},{"$error":"#VALUE!"},{"$f":"PRODUCT(J5:K5)","v":{"$error":"#VALUE!"}},null,20,15,230,{"$f":"IF(B5=\"Nonmotorized\",\"\",SQRT(N5^2+O5^2-2*N5*O5*COS(RADIANS(P5)))/2)","v":15.895538413434787},8.3616736100371545E-3,null,{"$f":"SSI_AGI_ProtFactor","v":0.505},null,1,null,1,null,3.75,null,45,0.83333333333333326,null,null,null,1,null,1.578125,null,{"$f":"L5*R5*AI5","v":{"$error":"#VALUE!"}},null,null,{"$f":"IF(ISNUMBER(SEARCH(AN$3,$D5)),1,\"\")","v":""},"","","",1,"","","","","","","","","","","",null,{"$f":"IF(ISNUMBER(SEARCH(BE$3,$G5)),1,\"\")","v":""},"","","","","","",1,"","","","","","","",""]
[3,"Crossing - LT","EBT","MajT1","Major thru","NBL","MinL1","Signal near",null,{"$error":"#VALUE!"},{"$error":"#VALUE!"},{"$error":"#VALUE!"},null,45,15,230,27.918467333813421,6.9762185672148203E-2,null,{"$f":"SSI_AGI_ProtFactor","v":0.505},null,1,null,1,null,3.75,null,45,0.83333333333333326,null,null,null,1,null,1.578125,null,{"$error":"#VALUE!"},null,null,1,"","","","","","","","","","","","","","","",null,"","","","","","","",1,"","","","","","","",""]
[4,"Merging","EBR","MajR1","Major right","WBL","MajL2","Major left",null,{"$error":"#VALUE!"},{"$error":"#VALUE!"},{"$error":"#VALUE!"},null,15,20,45,7.0840654162717795,3.9022923271840544E-4,null,{"$f":"SSI_AGI_PermFactor","v":1},null,1,null,null,null,2,null,45,0.83333333333333326,null,null,null,1,null,1.6666666666666665,null,{"$error":"#VALUE!"},null,null,"","",1,"","","","","","","","","","","","","",null,"","","","",1,"","","","","","","","","","",""]
[5,"Merging","NBL","MinL1","Signal far","WBT","MajT2","Major thru",null,{"$error":"#VALUE!"},{"$error":"#VALUE!"},{"$error":"#VALUE!"},null,25,45,45,16.271214938736659,9.1348815406664795E-3,null,{"$f":"SSI_AGI_ProtFactor","v":0.505},null,1,null,1,null,3.75,null,45,0.83333333333333326,null,null,null,1,null,1.578125,null,{"$error":"#VALUE!"},null,null,"","","","","","","",1,"","","","","","","","",null,"","","",1,"","","","","","","","","","","",""]
[6,"Merging","NBR","MinR1","Signal far","EBT","MajT1","Major thru",null,{"$error":"#VALUE!"},{"$error":"#VALUE!"},{"$error":"#VALUE!"},null,25,45,45,16.271214938736659,9.1348815406664795E-3,null,{"$f":"SSI_AGI_PermFactor","v":1},null,null,null,1,null,1.75,null,45,0.83333333333333326,null,null,null,1,null,1.4583333333333333,null,{"$error":"#VALUE!"},null,null,"","","","","","","","",1,"","","","","","","",null,1,"","","","","","","","","","","","","","",""]
[7,"Diverging","NBR","MinR1","Signal near","NBL","MinL1","Signal near",null,{"$error":"#VALUE!"},{"$error":"#VALUE!"},{"$error":"#VALUE!"},null,15,15,10,1.3073361412148754,6.4061388075216071E-7,null,{"$f":"SSI_AGI_PermFactor","v":1},null,null,null,null,null,1,null,"",1,null,null,null,1,null,1,null,{"$error":"#VALUE!"},null,null,"","","","","","","","",1,"","","","","","","",null,"","","","","","","",1,"","","","","","","",""]
[8,"Diverging","EBR","MajR1","Major right","EBT","MajT1","Major thru",null,{"$error":"#VALUE!"},{"$error":"#VALUE!"},{"$error":"#VALUE!"},null,15,45,10,15.169950011729762,7.0056226631585675E-3,null,{"$f":"SSI_AGI_PermFactor","v":1},null,null,null,null,null,1,null,"",1,null,null,null,1,null,1,null,{"$error":"#VALUE!"},null,null,"","",1,"","","","","","","","","","","","","",null,1,"","","","","","","","","","","","","","",""]
[9,"Diverging","WBL","MajL2","Major left","WBT","MajT2","Major thru",null,{"$error":"#VALUE!"},{"$error":"#VALUE!"},{"$error":"#VALUE!"},null,20,45,10,12.77053292327718,3.6481988362114144E-3,null,{"$f":"SSI_AGI_PermFactor","v":1},null,null,null,null,null,1,null,"",1,null,null,null,1,null,1,null,{"$error":"#VALUE!"},null,null,"","","","",1,"","","","","","","","","","","",null,"","","",1,"","","","","","","","","","","",""]
[10,"Nonmotorized",null,"MajNM1","Nonmotorized","WBT","MajT2","Major thru",null,{"$error":"#VALUE!"},{"$error":"#VALUE!"},{"$error":"#VALUE!"},null,0,45,"","",0.84855340903216459,null,{"$f":"SSI_AGI_ProtFactor","v":0.505},null,1,null,null,1,3.75,null,45,0.83333333333333326,null,null,null,1,null,1.578125,null,{"$error":"#VALUE!"},null,null,"","","","","","","","","","","","",1,"","","",null,"","","",1,"","","","","","","","","","","",""]
[11,"Nonmotorized",null,"MajNM1","Nonmotorized","NBL","MinL1","Signal far",null,{"$error":"#VALUE!"},{"$error":"#VALUE!"},{"$error":"#VALUE!"},null,0,25,"","",0.32066879346345062,null,{"$f":"SSI_AGI_ProtFactor","v":0.505},null,1,null,null,1,3.75,null,45,0.83333333333333326,null,null,null,1,null,1.578125,null,{"$error":"#VALUE!"},null,null,"","","","","","","","","","","","",1,"","","",null,"","","","","","","",1,"","","","","","","",""]
[12,"Nonmotorized",null,"MajNM1","Nonmotorized","EBT","MajT1","Major thru",null,{"$error":"#VALUE!"},{"$error":"#VALUE!"},{"$error":"#VALUE!"},null,0,45,"","",0.84855340903216459,null,{"$f":"SSI_AGI_ProtFactor","v":0.505},null,1,null,null,null,2,null,45,0.83333333333333326,null,null,null,1,null,0.84166666666666656,null,{"$error":"#VALUE!"},null,null,"","","","","","","","","","","","",1,"","","",null,1,"","","","","","","","","","","","","","",""]
[13,"Nonmotorized",null,"MajNM1","Nonmotorized","EBR","MajR1","Major right",null,{"$error":"#VALUE!"},{"$error":"#VALUE!"},{"$error":"#VALUE!"},null,0,15,"","",0.1205004039155782,null,{"$f":"SSI_AGI_ProtFactor","v":0.505},null,1,null,null,null,2,null,45,0.83333333333333326,null,null,null,1,null,0.84166666666666656,null,{"$error":"#VALUE!"},null,null,"","","","","","","","","","","","",1,"","","",null,"","",1,"","","","","","","","","","","","",""]
[14,"Nonmotorized",null,"MinNM1","Nonmotorized","EBR","MajR1","Major right",null,{"$error":"#VALUE!"},{"$error":"#VALUE!"},{"$error":"#VALUE!"},null,0,15,"","",0.1205004039155782,null,{"$f":"SSI_AGI_PermFactor","v":1},null,1,null,null,null,2,null,45,0.83333333333333326,null,null,null,1,null,1.6666666666666665,null,{"$error":"#VALUE!"},null,null,"","","","","","","","","","","","","","",1,"",null,"","",1,"","","","","","","","","","","","",""]
[15,"Nonmotorized",null,"MinNM1","Nonmotorized","WBL","MajL2","Major left",null,{"$error":"#VALUE!"},{"$error":"#VALUE!"},{"$error":"#VALUE!"},null,0,20,"","",0.20274912921655375,null,{"$f":"SSI_AGI_ProtFactor","v":0.505},null,null,2,1,null,5.75,null,45,0.83333333333333326,null,null,null,1,null,2.4197916666666663,null,{"$error":"#VALUE!"},null,null,"","","","","","","","","","","","","","",1,"",null,"","","","",1,"","","","","","","","","","",""]
[16,"Nonmotorized",null,"MinNM1","Nonmotorized","NBL","MinL1","Signal near",null,{"$error":"#VALUE!"},{"$error":"#VALUE!"},{"$error":"#VALUE!"},null,0,15,"","",0.1205004039155782,null,{"$f":"SSI_AGI_ProtFactor","v":0.505},null,null,2,1,null,5.75,null,45,0.83333333333333326,null,null,null,1,null,2.4197916666666663,null,{"$error":"#VALUE!"},null,null,"","","","","","","","","","","","","","",1,"",null,"","","","","","","",1,"","","","","","","",""]
[17,"Nonmotorized",null,"MinNM1","Nonmotorized","NBR","MinR1","Signal near",null,{"$error":"#VALUE!"},{"$error":"#VALUE!"},{"$error":"#VALUE!"},null,0,15,"","",0.1205004039155782,null,{"$f":"SSI_AGI_ProtFactor","v":0.505},null,null,2,1,null,5.75,null,45,0.83333333333333326,null,null,null,1,null,2.4197916666666663,null,{"$error":"#VALUE!"},null,null,"","","","","","","","","","","","","","",1,"",null,"","","","","","","","",1,"","","","","","",""]
[18,"Nonmotorized",null,"MajNM2","Nonmotorized","NBR","MinR1","Signal near",null,{"$error":"#VALUE!"},{"$error":"#VALUE!"},{"$error":"#VALUE!"},null,0,15,"","",0.1205004039155782,null,{"$f":"SSI_AGI_PermFactor","v":1},null,null,1,null,null,2,null,{"$f":"IF(B21=\"Diverging\",\"\",SSI_AGI_VehSpeed_MnrThru)","v":29.75},0.66388888888888886,null,null,1,2,null,2.6555555555555554,null,{"$error":"#VALUE!"},null,null,"","","","","","","","","","","","","",1,"","",null,"","","","","","","","",1,"","","","","","",""]
[19,"Nonmotorized",null,"MajNM2","Nonmotorized","EBT","MajT1","Major left",null,{"$error":"#VALUE!"},{"$error":"#VALUE!"},{"$error":"#VALUE!"},null,0,20,"","",0.20274912921655375,null,{"$f":"SSI_AGI_ProtFactor","v":0.505},null,2,null,null,null,4,null,{"$f":"IF(B22=\"Diverging\",\"\",SSI_AGI_VehSpeed_MjrThru)","v":45},0.83333333333333326,null,null,1,2,null,3.3666666666666663,null,{"$error":"#VALUE!"},null,null,"","","","","","","","","","","","","",1,"","",null,1,"","","","","","","","","","","","","","",""]
[20,"Nonmotorized",null,"MajNM2","Nonmotorized","WBL","MajL2","Major thru",null,{"$error":"#VALUE!"},{"$error":"#VALUE!"},{"$error":"#VALUE!"},null,0,45,"","",0.84855340903216459,null,{"$f":"SSI_AGI_ProtFactor","v":0.505},null,2,null,null,null,4,null,{"$f":"IF(B23=\"Diverging\",\"\",SSI_AGI_VehSpeed_MjrThru)","v":45},0.83333333333333326,null,null,1,2,null,3.3666666666666663,null,{"$error":"#VALUE!"},null,null,"","","","","","","","","","","","","",1,"","",null,"","","","",1,"","","","","","","","","","",""]
[21,"Nonmotorized",null,"MajNM2","Nonmotorized","WBT","MajT2","Major thru",null,{"$error":"#VALUE!"},{"$error":"#VALUE!"},{"$error":"#VALUE!"},null,0,45,"","",0.84855340903216459,null,{"$f":"SSI_AGI_ProtFactor","v":0.505},null,2,null,null,null,4,null,{"$f":"IF(B24=\"Diverging\",\"\",SSI_AGI_VehSpeed_MjrThru)","v":45},0.83333333333333326,null,null,1,2,null,3.3666666666666663,null,{"$error":"#VALUE!"},null,null,"","","","","","","","","","","","","",1,"","",null,"","","",1,"","","","","","","","","","","",""]
[null,null,null,null,null,null,null,null,null,null,null,null,null,null,null,null,null,null,null,null,null,null,null,null,null,null,null,null,null,null,null,null,null,null,null,null,null,null,null,{"$f":"'SSI Inputs'!$D$26","v":{"$error":"#VALUE!"}},{"$f":"'SSI Inputs'!$D$27","v":{"$error":"#VALUE!"}},{"$f":"'SSI Inputs'!$D$28","v":{"$error":"#VALUE!"}},{"$f":"'SSI Inputs'!$D$30","v":{"$error":"#VALUE!"}},{"$f":"'SSI Inputs'!$D$31","v":{"$error":"#VALUE!"}},{"$f":"'SSI Inputs'!$D$32","v":{"$error":"#VALUE!"}},{"$f":"'SSI Inputs'!$D$34","v":{"$error":"#VALUE!"}},{"$f":"'SSI Inputs'!$D$35","v":{"$error":"#VALUE!"}},{"$f":"'SSI Inputs'!$D$36","v":{"$error":"#VALUE!"}},{"$f":"'SSI Inputs'!$D$38","v":{"$error":"#VALUE!"}},{"$f":"'SSI Inputs'!$D$39","v":{"$error":"#VALUE!"}},{"$f":"'SSI Inputs'!$D$40","v":{"$error":"#VALUE!"}},{"$f":"'SSI Inputs'!$Q$18","v":175},{"$f":"'SSI Inputs'!$Q$19","v":175},{"$f":"'SSI Inputs'!$Q$20","v":175},{"$f":"'SSI Inputs'!$Q$21","v":175},null,{"$f":"'SSI Inputs'!$D$26","v":{"$error":"#VALUE!"}},{"$f":"'SSI Inputs'!$D$27","v":{"$error":"#VALUE!"}},{"$f":"'SSI Inputs'!$D$28","v":{"$error":"#VALUE!"}},{"$f":"'SSI Inputs'!$D$30","v":{"$error":"#VALUE!"}},{"$f":"'SSI Inputs'!$D$31","v":{"$error":"#VALUE!"}},{"$f":"'SSI Inputs'!$D$32","v":{"$error":"#VALUE!"}},{"$f":"'SSI Inputs'!$D$34","v":{"$error":"#VALUE!"}},{"$f":"'SSI Inputs'!$D$35","v":{"$error":"#VALUE!"}},{"$f":"'SSI Inputs'!$D$36","v":{"$error":"#VALUE!"}},{"$f":"'SSI Inputs'!$D$38","v":{"$error":"#VALUE!"}},{"$f":"'SSI Inputs'!$D$39","v":{"$error":"#VALUE!"}},{"$f":"'SSI Inputs'!$D$40","v":{"$error":"#VALUE!"}},{"$f":"'SSI Inputs'!$Q$18","v":175},{"$f":"'SSI Inputs'!$Q$19","v":175},{"$f":"'SSI Inputs'!$Q$20","v":175},{"$f":"'SSI Inputs'!$Q$21","v":175}]
[null,null,null,null,null,null,null,null,null,null,null,null,null,null,null,null,null,null,null,null,null,null,null,null,null,null,null,null,null,null,null,null,null,null,null,null,null,null,"D",{"$f":"'SSI Inputs'!$E$26","v":{"$error":"#VALUE!"}},{"$f":"'SSI Inputs'!$E$27","v":{"$error":"#VALUE!"}},{"$f":"'SSI Inputs'!$E$28","v":{"$error":"#VALUE!"}},{"$f":"'SSI Inputs'!$E$30","v":{"$error":"#VALUE!"}},{"$f":"'SSI Inputs'!$E$31","v":{"$error":"#VALUE!"}},{"$f":"'SSI Inputs'!$E$32","v":{"$error":"#VALUE!"}},{"$f":"'SSI Inputs'!$E$34","v":{"$error":"#VALUE!"}},{"$f":"'SSI Inputs'!$E$35","v":{"$error":"#VALUE!"}},{"$f":"'SSI Inputs'!$E$36","v":{"$error":"#VALUE!"}},{"$f":"'SSI Inputs'!$E$38","v":{"$error":"#VALUE!"}},{"$f":"'SSI Inputs'!$E$39","v":{"$error":"#VALUE!"}},{"$f":"'SSI Inputs'!$E$40","v":{"$error":"#VALUE!"}},{"$f":"'SSI Inputs'!$R$18","v":175},{"$f":"'SSI Inputs'!$R$19","v":175},{"$f":"'SSI Inputs'!$R$20","v":175},{"$f":"'SSI Inputs'!$R$21","v":175},"D",{"$f":"'SSI Inputs'!$E$26","v":{"$error":"#VALUE!"}},{"$f":"'SSI Inputs'!$E$27","v":{"$error":"#VALUE!"}},{"$f":"'SSI Inputs'!$E$28","v":{"$error":"#VALUE!"}},{"$f":"'SSI Inputs'!$E$30","v":{"$error":"#VALUE!"}},{"$f":"'SSI Inputs'!$E$31","v":{"$error":"#VALUE!"}},{"$f":"'SSI Inputs'!$E$32","v":{"$error":"#VALUE!"}},{"$f":"'SSI Inputs'!$E$34","v":{"$error":"#VALUE!"}},{"$f":"'SSI Inputs'!$E$35","v":{"$error":"#VALUE!"}},{"$f":"'SSI Inputs'!$E$36","v":{"$error":"#VALUE!"}},{"$f":"'SSI Inputs'!$E$38","v":{"$error":"#VALUE!"}},{"$f":"'SSI Inputs'!$E$39","v":{"$error":"#VALUE!"}},{"$f":"'SSI Inputs'!$E$40","v":{"$error":"#VALUE!"}},{"$f":"'SSI Inputs'!$R$18","v":175},{"$f":"'SSI Inputs'!$R$19","v":175},{"$f":"'SSI Inputs'!$R$20","v":175},{"$f":"'SSI Inputs'!$R$21","v":175}]
[]
[]
[]
[]
[]
[]
[]
[]
[]
[]
[]
[]
[]
[]
[]
[]
[]
[]
[]
[]
[]
[]
[]
[]
[]
[]
[]
[]
[]
[]
[]
[]
[]
[]
[]
[]
[]
[]
[]
[]
[]
[]
[]
[]
[]
[]
[]
[]
[]
[]
[]
[]
[]
[]
[]
[]
[]
[]
[]
[]
[]
[]
[]
[]
[]
[]
[]
[]
[]
[]
[]
[]
[]
[]
[null,null,null,null,null,null,null,null,null,"Exposure",null,null,null,null,null,null,null,null,null,null,null,null,null,null,null,null,null,null,null,null,null,null,null,null,null,null,"Exposure-Severity-Complexity Product"]
[null,null,null,null,null,null,null,null,null,"Q1","Q2","I"]
[null,null,null,null,null,null,null,null,null,{"$f":"SUMPRODUCT($AN4:$BC4,$AN$26:$BC$26)","v":{"$error":"#VALUE!"}},{"$f":"SUMPRODUCT($BE4:$BT4,$BE$26:$BT$26)","v":{"$error":"#VALUE!"}},{"$f":"PRODUCT(J103:K103)","v":{"$error":"#VALUE!"}},null,null,null,null,null,null,null,null,null,null,null,null,null,null,null,null,null,null,null,null,null,null,null,null,{"$f":"L103*R4*AI4","v":{"$error":"#VALUE!"}}]
[null,null,null,null,null,null,null,null,null,{"$f":"SUMPRODUCT($AN5:$BC5,$AN$26:$BC$26)","v":{"$error":"#VALUE!"}},{"$f":"SUMPRODUCT($BE5:$BT5,$BE$26:$BT$26)","v":{"$error":"#VALUE!"}},{"$f":"PRODUCT(J104:K104)","v":{"$error":"#VALUE!"}},null,null,null,null,null,null,null,null,null,null,null,null,null,null,null,null,null,null,null,null,null,null,null,null,{"$f":"L104*R5*AI5","v":{"$error":"#VALUE!"}}]
[null,null,null,null,null,null,null,null,null,{"$error":"#VALUE!"},{"$error":"#VALUE!"},{"$error":"#VALUE!"},null,null,null,null,null,null,null,null,null,null,null,null,null,null,null,null,null,null,null,null,null,null,null,null,{"$error":"#VALUE!"}]
[null,null,null,null,null,null,null,null,null,{"$error":"#VALUE!"},{"$error":"#VALUE!"},{"$error":"#VALUE!"},null,null,null,null,null,null,null,null,null,null,null,null,null,null,null,null,null,null,null,null,null,null,null,null,{"$error":"#VALUE!"}]
[null,null,null,null,null,null,null,null,null,{"$error":"#VALUE!"},{"$error":"#VALUE!"},{"$error":"#VALUE!"},null,null,null,null,null,null,null,null,null,null,null,null,null,null,null,null,null,null,null,null,null,null,null,null,{"$error":"#VALUE!"}]
[null,null,null,null,null,null,null,null,null,{"$error":"#VALUE!"},{"$error":"#VALUE!"},{"$error":"#VALUE!"},null,null,null,null,null,null,null,null,null,null,null,null,null,null,null,null,null,null,null,null,null,null,null,null,{"$error":"#VALUE!"}]
[null,null,null,null,null,null,null,null,null,{"$error":"#VALUE!"},{"$error":"#VALUE!"},{"$error":"#VALUE!"},null,null,null,null,null,null,null,null,null,null,null,null,null,null,null,null,null,null,null,null,null,null,null,null,{"$error":"#VALUE!"}]
[null,null,null,null,null,null,null,null,null,{"$error":"#VALUE!"},{"$error":"#VALUE!"},{"$error":"#VALUE!"},null,null,null,null,null,null,null,null,null,null,null,null,null,null,null,null,null,null,null,null,null,null,null,null,{"$error":"#VALUE!"}]
[null,null,null,null,null,null,null,null,null,{"$error":"#VALUE!"},{"$error":"#VALUE!"},{"$error":"#VALUE!"},null,null,null,null,null,null,null,null,null,null,null,null,null,null,null,null,null,null,null,null,null,null,null,null,{"$error":"#VALUE!"}]
[null,null,null,null,null,null,null,null,null,{"$error":"#VALUE!"},{"$error":"#VALUE!"},{"$error":"#VALUE!"},null,null,null,null,null,null,null,null,null,null,null,null,null,null,null,null,null,null,null,null,null,null,null,null,{"$error":"#VALUE!"}]
[null,null,null,null,null,null,null,null,null,{"$error":"#VALUE!"},{"$error":"#VALUE!"},{"$error":"#VALUE!"},null,null,null,null,null,null,null,null,null,null,null,null,null,null,null,null,null,null,null,null,null,null,null,null,{"$error":"#VALUE!"}]
[null,null,null,null,null,null,null,null,null,{"$error":"#VALUE!"},{"$error":"#VALUE!"},{"$error":"#VALUE!"},null,null,null,null,null,null,null,null,null,null,null,null,null,null,null,null,null,null,null,null,null,null,null,null,{"$error":"#VALUE!"}]
[null,null,null,null,null,null,null,null,null,{"$error":"#VALUE!"},{"$error":"#VALUE!"},{"$error":"#VALUE!"},null,null,null,null,null,null,null,null,null,null,null,null,null,null,null,null,null,null,null,null,null,null,null,null,{"$error":"#VALUE!"}]
[null,null,null,null,null,null,null,null,null,{"$error":"#VALUE!"},{"$error":"#VALUE!"},{"$error":"#VALUE!"},null,null,null,null,null,null,null,null,null,null,null,null,null,null,null,null,null,null,null,null,null,null,null,null,{"$error":"#VALUE!"}]
[null,null,null,null,null,null,null,null,null,{"$error":"#VALUE!"},{"$error":"#VALUE!"},{"$error":"#VALUE!"},null,null,null,null,null,null,null,null,null,null,null,null,null,null,null,null,null,null,null,null,null,null,null,null,{"$error":"#VALUE!"}]
[null,null,null,null,null,null,null,null,null,{"$error":"#VALUE!"},{"$error":"#VALUE!"},{"$error":"#VALUE!"},null,null,null,null,null,null,null,null,null,null,null,null,null,null,null,null,null,null,null,null,null,null,null,null,{"$error":"#VALUE!"}]
[null,null,null,null,null,null,null,null,null,{"$error":"#VALUE!"},{"$error":"#VALUE!"},{"$error":"#VALUE!"},null,null,null,null,null,null,null,null,null,null,null,null,null,null,null,null,null,null,null,null,null,null,null,null,{"$error":"#VALUE!"}]
[null,null,null,null,null,null,null,null,null,{"$error":"#VALUE!"},{"$error":"#VALUE!"},{"$error":"#VALUE!"},null,null,null,null,null,null,null,null,null,null,null,null,null,null,null,null,null,null,null,null,null,null,null,null,{"$error":"#VALUE!"}]
[null,null,null,null,null,null,null,null,null,{"$error":"#VALUE!"},{"$error":"#VALUE!"},{"$error":"#VALUE!"},null,null,null,null,null,null,null,null,null,null,null,null,null,null,null,null,null,null,null,null,null,null,null,null,{"$error":"#VALUE!"}]
[null,null,null,null,null,null,null,null,null,{"$error":"#VALUE!"},{"$error":"#VALUE!"},{"$error":"#VALUE!"},null,null,null,null,null,null,null,null,null,null,null,null,null,null,null,null,null,null,null,null,null,null,null,null,{"$error":"#VALUE!"}]
[null,null,null,null,null,null,null,null,null,{"$error":"#VALUE!"},{"$error":"#VALUE!"},{"$error":"#VALUE!"},null,null,null,null,null,null,null,null,null,null,null,null,null,null,null,null,null,null,null,null,null,null,null,null,{"$error":"#VALUE!"}]

{"sheet":"T_1x1_RAB","index":54,"n_rows":116,"n_cols":72,"rows_kept":116,"cut":false,"hidden":true,"merged":[[1,34,2,34],[1,36,2,36],[1,39,1,54],[1,56,1,71],[100,9,100,11],[100,36,101,36],[0,19,0,28],[0,30,0,32],[1,9,1,11],[1,13,1,17],[1,21,1,25],[1,27,1,28],[1,30,2,30],[1,31,2,31],[1,32,2,32]]}
[null,null,null,null,null,null,null,null,null,null,null,null,null,null,null,null,null,null,null,"Conflicting Traffic Complexity",null,null,null,null,null,null,null,null,null,null,"Pedestrian Complexity"]
[null,null,null,null,null,null,null,null,null,"Exposure",null,null,null,"Severity",null,null,null,null,null,"Traffic Control",null,"Conflicting Lanes",null,null,null,null,null,"Conflicting Speed",null,null,"Indirect Paths Indicator","Non-intuitive movements indicator","Pedestrian Complexity factor",null,"Total Complexity Multiplier",null,"Exposure-Severity-Complexity Product",null,null,"Included in Mvmt1",null,null,null,null,null,null,null,null,null,null,null,null,null,null,null,null,"Included in Mvmt2"]
["#","Conflict Type","Mvmt1","Mvmt1_gen","Mvmt1_SpeedCat","Mvmt2","Mvmt2_gen","Mvmt2_SpeedCat",null,"Q1","Q2","I",null,"Speed_V1","Speed_V2","Angle","delta_V","P_FSI",null,null,null,"MajC","MinC","MajM/P","MinM/P","Score",null,"Speed","Factor",null,null,null,null,null,null,null,null,null,null,"MajT1","MajL1","MajR1","MajT2","MajL2","MajR2","MinT1","MinL1","MinR1","MinT2","MinL2","MinR2","MajNM1","MajNM2","MinNM1","MinNM2",null,"MajT1","MajL1","MajR1","MajT2","MajL2","MajR2","MinT1","MinL1","MinR1","MinT2","MinL2","MinR2","MajNM1","MajNM2","MinNM1","MinNM2"]
[1,"Crossing - RAB","EBT","MajT1","RAB Entering","WBL","MajL2","RAB Exiting",null,{"$f":"SUMPRODUCT($AN4:$BC4,$AN$18:$BC$18)","v":{"$error":"#VALUE!"}},{"$f":"SUMPRODUCT($BE4:$BT4,$BE$18:$BT$18)","v":{"$error":"#VALUE!"}},{"$f":"PRODUCT(J4:K4)","v":{"$error":"#VALUE!"}},null,{"$f":"VLOOKUP(E4,SSI_AGI_Range_VehSpeed,5,FALSE)","v":20},{"$f":"VLOOKUP(H4,SSI_AGI_Range_VehSpeed,5,FALSE)","v":30},{"$f":"IF(B4=\"Nonmotorized\",\"\",VLOOKUP(B4,SSI_AGI_Range_CollAngles,5,FALSE))","v":60},{"$f":"IF(B4=\"Nonmotorized\",\"\",SQRT(N4^2+O4^2-2*N4*O4*COS(RADIANS(P4)))/2)","v":13.228756555322953},{"$f":"IF(B4=\"Nonmotorized\",1/(1+EXP(3.8432-0.1237*O4)),(Q4/SSI_AGI_RegAlpha)^SSI_AGI_RegK+(Q4/SSI_AGI_RegAlpha)^SSI_AGI_RegK-((Q4/SSI_AGI_RegAlpha)^SSI_AGI_RegK)*((Q4/SSI_AGI_RegAlpha)^SSI_AGI_RegK))","v":4.1698027385763141E-3},null,{"$f":"SSI_AGI_PermFactor","v":1},null,null,null,null,null,1,null,{"$f":"IF(B4=\"Diverging\",\"\",SSI_AGI_VehSpeed_RABCirc)","v":25},{"$f":"IF(B4=\"Diverging\",1,1-((60-AB4)/60*0.1/0.15))","v":0.61111111111111105},null,null,null,{"$f":"IF(SSI_AGI_ConsiderNMComplexity=\"Yes\",1+AE4+AF4,1)","v":1},null,{"$f":"PRODUCT(Z4,T4,AC4,AG4)","v":0.61111111111111105},null,{"$f":"L4*R4*AI4","v":{"$error":"#VALUE!"}},null,null,{"$f":"IF(ISNUMBER(SEARCH(AN$3,$D4)),1,\"\")","v":1},{"$f":"IF(ISNUMBER(SEARCH(AO$3,$D4)),1,\"\")","v":""},"","","","","","","","","","","","","","",null,{"$f":"IF(ISNUMBER(SEARCH(BE$3,$G4)),1,\"\")","v":""},{"$f":"IF(ISNUMBER(SEARCH(BF$3,$G4)),1,\"\")","v":""},"","",1,"","","","","","","","","","",""]
[2,"Crossing - RAB","EBT","MajT1","RAB Exiting","NBL","MinL1","RAB Entering",null,{"$error":"#VALUE!"},{"$error":"#VALUE!"},{"$f":"PRODUCT(J5:K5)","v":{"$error":"#VALUE!"}},null,30,20,60,{"$f":"IF(B5=\"Nonmotorized\",\"\",SQRT(N5^2+O5^2-2*N5*O5*COS(RADIANS(P5)))/2)","v":13.228756555322953},4.1698027385763141E-3,null,1,null,null,null,null,null,1,null,25,0.61111111111111105,null,null,null,1,null,0.61111111111111105,null,{"$f":"L5*R5*AI5","v":{"$error":"#VALUE!"}},null,null,{"$f":"IF(ISNUMBER(SEARCH(AN$3,$D5)),1,\"\")","v":1},"","","","","","","","","","","","","","","",null,{"$f":"IF(ISNUMBER(SEARCH(BE$3,$G5)),1,\"\")","v":""},"","","","","","",1,"","","","","","","",""]
[3,"Merging","WBT, WBL","MajT2, MajL2","RAB Entering","NBL","MinL1","RAB Circulating",null,{"$error":"#VALUE!"},{"$error":"#VALUE!"},{"$error":"#VALUE!"},null,20,25,45,8.9147801264732891,9.333798723087925E-4,null,1,null,null,null,null,null,1,null,25,0.61111111111111105,null,null,null,1,null,0.61111111111111105,null,{"$error":"#VALUE!"},null,null,"","","",1,1,"","","","","","","","","","","",null,"","","","","","","",1,"","","","","","","",""]
[4,"Merging","EBR","MajR1","RAB Entering","WBL","MajL2","RAB Exiting",null,{"$error":"#VALUE!"},{"$error":"#VALUE!"},{"$error":"#VALUE!"},null,20,30,45,10.623933623853066,1.8155470372595635E-3,null,1,null,null,null,null,null,1,null,25,0.61111111111111105,null,null,null,1,null,0.61111111111111105,null,{"$error":"#VALUE!"},null,null,"","",1,"","","","","","","","","","","","","",null,"","","","",1,"","","","","","","","","","",""]
[5,"Merging","EBT","MajT1","RAB Exiting","NBR","MinR1","RAB Entering",null,{"$error":"#VALUE!"},{"$error":"#VALUE!"},{"$error":"#VALUE!"},null,30,20,45,10.623933623853066,1.8155470372595635E-3,null,1,null,null,null,null,null,1,null,25,0.61111111111111105,null,null,null,1,null,0.61111111111111105,null,{"$error":"#VALUE!"},null,null,1,"","","","","","","","","","","","","","","",null,"","","","","","","","",1,"","","","","","",""]
[6,"Diverging","EBT,NBL","MajT2, MinL1","RAB Exiting","WBL","MajL2","RAB Circulating",null,{"$error":"#VALUE!"},{"$error":"#VALUE!"},{"$error":"#VALUE!"},null,30,25,10,3.4564566568122888,2.5632912055290634E-5,null,1,null,null,null,null,null,1,null,"",1,null,null,null,1,null,1,null,{"$error":"#VALUE!"},null,null,"","","",1,"","","",1,"","","","","","","","",null,"","","","",1,"","","","","","","","","","",""]
[7,"Diverging","EBT","MajT1","RAB Entering","EBR","MajR1","RAB Entering",null,{"$error":"#VALUE!"},{"$error":"#VALUE!"},{"$error":"#VALUE!"},null,20,20,10,1.7431148549531654,1.908430081913129E-6,null,1,null,null,null,null,null,1,null,"",1,null,null,null,1,null,1,null,{"$error":"#VALUE!"},null,null,1,"","","","","","","","","","","","","","","",null,"","",1,"","","","","","","","","","","","",""]
[8,"Diverging","NBL","MinL1","RAB Entering","NBR","MinR1","RAB Entering",null,{"$error":"#VALUE!"},{"$error":"#VALUE!"},{"$error":"#VALUE!"},null,20,20,10,1.7431148549531654,1.908430081913129E-6,null,1,null,null,null,null,null,1,null,"",1,null,null,null,1,null,1,null,{"$error":"#VALUE!"},null,null,"","","","","","","",1,"","","","","","","","",null,"","","","","","","","",1,"","","","","","",""]
[9,"Nonmotorized",null,"MajNM1","Nonmotorized","WB Exiting","MajT2, MinL1","RAB Exiting",null,{"$error":"#VALUE!"},{"$error":"#VALUE!"},{"$error":"#VALUE!"},null,0,30,"","",0.46699805015542578,null,1,null,null,null,null,null,1,null,{"$f":"IF(B12=\"Diverging\",\"\",SSI_AGI_VehSpeed_RABExit)","v":30},0.66666666666666663,null,1,null,2,null,1.3333333333333333,null,{"$error":"#VALUE!"},null,null,"","","","","","","","","","","","",1,"","","",null,"","","",1,"","","",1,"","","","","","","",""]
[10,"Nonmotorized",null,"MajNM1","Nonmotorized","EB Entering","MajT1, MajR1","RAB Entering",null,{"$error":"#VALUE!"},{"$error":"#VALUE!"},{"$error":"#VALUE!"},null,0,20,"","",0.20274912921655375,null,1,null,null,null,null,null,1,null,{"$f":"IF(B13=\"Diverging\",\"\",SSI_AGI_VehSpeed_RABEnter)","v":20},0.55555555555555558,null,1,null,2,null,1.1111111111111112,null,{"$error":"#VALUE!"},null,null,"","","","","","","","","","","","",1,"","","",null,1,"",1,"","","","","","","","","","","","",""]
[11,"Nonmotorized",null,"MinNM1","Nonmotorized","SB Exiting","MajR1, MajL2","RAB Exiting",null,{"$error":"#VALUE!"},{"$error":"#VALUE!"},{"$error":"#VALUE!"},null,0,30,"","",0.46699805015542578,null,1,null,null,null,null,null,1,null,{"$f":"IF(B14=\"Diverging\",\"\",SSI_AGI_VehSpeed_RABExit)","v":30},0.66666666666666663,null,1,null,2,null,1.3333333333333333,null,{"$error":"#VALUE!"},null,null,"","","","","","","","","","","","","","",1,"",null,"","",1,"",1,"","","","","","","","","","",""]
[12,"Nonmotorized",null,"MinNM1","Nonmotorized","NB Entering","MinL1, MinR1","RAB Entering",null,{"$error":"#VALUE!"},{"$error":"#VALUE!"},{"$error":"#VALUE!"},null,0,20,"","",0.20274912921655375,null,1,null,null,null,null,null,1,null,{"$f":"IF(B15=\"Diverging\",\"\",SSI_AGI_VehSpeed_RABEnter)","v":20},0.55555555555555558,null,1,null,2,null,1.1111111111111112,null,{"$error":"#VALUE!"},null,null,"","","","","","","","","","","","","","",1,"",null,"","","","","","","",1,1,"","","","","","",""]
[13,"Nonmotorized",null,"MajNM2","Nonmotorized","EB Exiting","MajT1, MinR1","RAB Exiting",null,{"$error":"#VALUE!"},{"$error":"#VALUE!"},{"$error":"#VALUE!"},null,0,30,"","",0.46699805015542578,null,1,null,null,null,null,null,1,null,{"$f":"IF(B16=\"Diverging\",\"\",SSI_AGI_VehSpeed_RABExit)","v":30},0.66666666666666663,null,1,null,2,null,1.3333333333333333,null,{"$error":"#VALUE!"},null,null,"","","","","","","","","","","","","",1,"","",null,1,"","","","","","","",1,"","","","","","",""]
[14,"Nonmotorized",null,"MajNM2","Nonmotorized","WB Entering","MajT2, MajL2","RAB Entering",null,{"$error":"#VALUE!"},{"$error":"#VALUE!"},{"$error":"#VALUE!"},null,0,20,"","",0.20274912921655375,null,1,null,null,null,null,null,1,null,{"$f":"IF(B17=\"Diverging\",\"\",SSI_AGI_VehSpeed_RABEnter)","v":20},0.55555555555555558,null,1,null,2,null,1.1111111111111112,null,{"$error":"#VALUE!"},null,null,"","","","","","","","","","","","","",1,"","",null,"","","",1,1,"","","","","","","","","","",""]
[null,null,null,null,null,null,null,null,null,null,null,null,null,null,null,null,null,null,null,null,null,null,null,null,null,null,null,null,null,null,null,null,null,null,null,null,null,null,null,{"$f":"'SSI Inputs'!$D$26","v":{"$error":"#VALUE!"}},{"$f":"'SSI Inputs'!$D$27","v":{"$error":"#VALUE!"}},{"$f":"'SSI Inputs'!$D$28","v":{"$error":"#VALUE!"}},{"$f":"'SSI Inputs'!$D$30","v":{"$error":"#VALUE!"}},{"$f":"'SSI Inputs'!$D$31","v":{"$error":"#VALUE!"}},{"$f":"'SSI Inputs'!$D$32","v":{"$error":"#VALUE!"}},{"$f":"'SSI Inputs'!$D$34","v":{"$error":"#VALUE!"}},{"$f":"'SSI Inputs'!$D$35","v":{"$error":"#VALUE!"}},{"$f":"'SSI Inputs'!$D$36","v":{"$error":"#VALUE!"}},{"$f":"'SSI Inputs'!$D$38","v":{"$error":"#VALUE!"}},{"$f":"'SSI Inputs'!$D$39","v":{"$error":"#VALUE!"}},{"$f":"'SSI Inputs'!$D$40","v":{"$error":"#VALUE!"}},{"$f":"'SSI Inputs'!$Q$18","v":175},{"$f":"'SSI Inputs'!$Q$19","v":175},{"$f":"'SSI Inputs'!$Q$20","v":175},{"$f":"'SSI Inputs'!$Q$21","v":175},null,{"$f":"'SSI Inputs'!$D$26","v":{"$error":"#VALUE!"}},{"$f":"'SSI Inputs'!$D$27","v":{"$error":"#VALUE!"}},{"$f":"'SSI Inputs'!$D$28","v":{"$error":"#VALUE!"}},{"$f":"'SSI Inputs'!$D$30","v":{"$error":"#VALUE!"}},{"$f":"'SSI Inputs'!$D$31","v":{"$error":"#VALUE!"}},{"$f":"'SSI Inputs'!$D$32","v":{"$error":"#VALUE!"}},{"$f":"'SSI Inputs'!$D$34","v":{"$error":"#VALUE!"}},{"$f":"'SSI Inputs'!$D$35","v":{"$error":"#VALUE!"}},{"$f":"'SSI Inputs'!$D$36","v":{"$error":"#VALUE!"}},{"$f":"'SSI Inputs'!$D$38","v":{"$error":"#VALUE!"}},{"$f":"'SSI Inputs'!$D$39","v":{"$error":"#VALUE!"}},{"$f":"'SSI Inputs'!$D$40","v":{"$error":"#VALUE!"}},{"$f":"'SSI Inputs'!$Q$18","v":175},{"$f":"'SSI Inputs'!$Q$19","v":175},{"$f":"'SSI Inputs'!$Q$20","v":175},{"$f":"'SSI Inputs'!$Q$21","v":175}]
[null,null,null,null,null,null,null,null,null,null,null,null,null,null,null,null,null,null,null,null,null,null,null,null,null,null,null,null,null,null,null,null,null,null,null,null,null,null,"D",{"$f":"'SSI Inputs'!$E$26","v":{"$error":"#VALUE!"}},{"$f":"'SSI Inputs'!$E$27","v":{"$error":"#VALUE!"}},{"$f":"'SSI Inputs'!$E$28","v":{"$error":"#VALUE!"}},{"$f":"'SSI Inputs'!$E$30","v":{"$error":"#VALUE!"}},{"$f":"'SSI Inputs'!$E$31","v":{"$error":"#VALUE!"}},{"$f":"'SSI Inputs'!$E$32","v":{"$error":"#VALUE!"}},{"$f":"'SSI Inputs'!$E$34","v":{"$error":"#VALUE!"}},{"$f":"'SSI Inputs'!$E$35","v":{"$error":"#VALUE!"}},{"$f":"'SSI Inputs'!$E$36","v":{"$error":"#VALUE!"}},{"$f":"'SSI Inputs'!$E$38","v":{"$error":"#VALUE!"}},{"$f":"'SSI Inputs'!$E$39","v":{"$error":"#VALUE!"}},{"$f":"'SSI Inputs'!$E$40","v":{"$error":"#VALUE!"}},{"$f":"'SSI Inputs'!$R$18","v":175},{"$f":"'SSI Inputs'!$R$19","v":175},{"$f":"'SSI Inputs'!$R$20","v":175},{"$f":"'SSI Inputs'!$R$21","v":175},"D",{"$f":"'SSI Inputs'!$E$26","v":{"$error":"#VALUE!"}},{"$f":"'SSI Inputs'!$E$27","v":{"$error":"#VALUE!"}},{"$f":"'SSI Inputs'!$E$28","v":{"$error":"#VALUE!"}},{"$f":"'SSI Inputs'!$E$30","v":{"$error":"#VALUE!"}},{"$f":"'SSI Inputs'!$E$31","v":{"$error":"#VALUE!"}},{"$f":"'SSI Inputs'!$E$32","v":{"$error":"#VALUE!"}},{"$f":"'SSI Inputs'!$E$34","v":{"$error":"#VALUE!"}},{"$f":"'SSI Inputs'!$E$35","v":{"$error":"#VALUE!"}},{"$f":"'SSI Inputs'!$E$36","v":{"$error":"#VALUE!"}},{"$f":"'SSI Inputs'!$E$38","v":{"$error":"#VALUE!"}},{"$f":"'SSI Inputs'!$E$39","v":{"$error":"#VALUE!"}},{"$f":"'SSI Inputs'!$E$40","v":{"$error":"#VALUE!"}},{"$f":"'SSI Inputs'!$R$18","v":175},{"$f":"'SSI Inputs'!$R$19","v":175},{"$f":"'SSI Inputs'!$R$20","v":175},{"$f":"'SSI Inputs'!$R$21","v":175}]
[]
[]
[]
[]
[]
[]
[]
[]
[]
[]
[]
[]
[]
[]
[]
[]
[]
[]
[]
[]
[]
[]
[]
[]
[]
[]
[]
[]
[]
[]
[]
[]
[]
[]
[]
[]
[]
[]
[]
[]
[]
[]
[]
[]
[]
[]
[]
[]
[]
[]
[]
[]
[]
[]
[]
[]
[]
[]
[]
[]
[]
[]
[]
[]
[]
[]
[]
[]
[]
[]
[]
[]
[]
[]
[]
[]
[]
[]
[]
[]
[]
[null,null,null,null,null,null,null,null,null,"Exposure",null,null,null,null,null,null,null,null,null,null,null,null,null,null,null,null,null,null,null,null,null,null,null,null,null,null,"Exposure-Severity-Complexity Product"]
[null,null,null,null,null,null,null,null,null,"Q1","Q2","I"]
[null,null,null,null,null,null,null,null,null,{"$f":"SUMPRODUCT($AN4:$BC4,$AN$19:$BC$19)","v":{"$error":"#VALUE!"}},{"$f":"SUMPRODUCT($BE4:$BT4,$BE$19:$BT$19)","v":{"$error":"#VALUE!"}},{"$f":"PRODUCT(J103:K103)","v":{"$error":"#VALUE!"}},null,null,null,null,null,null,null,null,null,null,null,null,null,null,null,null,null,null,null,null,null,null,null,null,{"$f":"L103*R4*AI4","v":{"$error":"#VALUE!"}}]
[null,null,null,null,null,null,null,null,null,{"$f":"SUMPRODUCT($AN5:$BC5,$AN$19:$BC$19)","v":{"$error":"#VALUE!"}},{"$f":"SUMPRODUCT($BE5:$BT5,$BE$19:$BT$19)","v":{"$error":"#VALUE!"}},{"$f":"PRODUCT(J104:K104)","v":{"$error":"#VALUE!"}},null,null,null,null,null,null,null,null,null,null,null,null,null,null,null,null,null,null,null,null,null,null,null,null,{"$f":"L104*R5*AI5","v":{"$error":"#VALUE!"}}]
[null,null,null,null,null,null,null,null,null,{"$error":"#VALUE!"},{"$error":"#VALUE!"},{"$error":"#VALUE!"},null,null,null,null,null,null,null,null,null,null,null,null,null,null,null,null,null,null,null,null,null,null,null,null,{"$error":"#VALUE!"}]
[null,null,null,null,null,null,null,null,null,{"$error":"#VALUE!"},{"$error":"#VALUE!"},{"$error":"#VALUE!"},null,null,null,null,null,null,null,null,null,null,null,null,null,null,null,null,null,null,null,null,null,null,null,null,{"$error":"#VALUE!"}]
[null,null,null,null,null,null,null,null,null,{"$error":"#VALUE!"},{"$error":"#VALUE!"},{"$error":"#VALUE!"},null,null,null,null,null,null,null,null,null,null,null,null,null,null,null,null,null,null,null,null,null,null,null,null,{"$error":"#VALUE!"}]
[null,null,null,null,null,null,null,null,null,{"$error":"#VALUE!"},{"$error":"#VALUE!"},{"$error":"#VALUE!"},null,null,null,null,null,null,null,null,null,null,null,null,null,null,null,null,null,null,null,null,null,null,null,null,{"$error":"#VALUE!"}]
[null,null,null,null,null,null,null,null,null,{"$error":"#VALUE!"},{"$error":"#VALUE!"},{"$error":"#VALUE!"},null,null,null,null,null,null,null,null,null,null,null,null,null,null,null,null,null,null,null,null,null,null,null,null,{"$error":"#VALUE!"}]
[null,null,null,null,null,null,null,null,null,{"$error":"#VALUE!"},{"$error":"#VALUE!"},{"$error":"#VALUE!"},null,null,null,null,null,null,null,null,null,null,null,null,null,null,null,null,null,null,null,null,null,null,null,null,{"$error":"#VALUE!"}]
[null,null,null,null,null,null,null,null,null,{"$error":"#VALUE!"},{"$error":"#VALUE!"},{"$error":"#VALUE!"},null,null,null,null,null,null,null,null,null,null,null,null,null,null,null,null,null,null,null,null,null,null,null,null,{"$error":"#VALUE!"}]
[null,null,null,null,null,null,null,null,null,{"$error":"#VALUE!"},{"$error":"#VALUE!"},{"$error":"#VALUE!"},null,null,null,null,null,null,null,null,null,null,null,null,null,null,null,null,null,null,null,null,null,null,null,null,{"$error":"#VALUE!"}]
[null,null,null,null,null,null,null,null,null,{"$error":"#VALUE!"},{"$error":"#VALUE!"},{"$error":"#VALUE!"},null,null,null,null,null,null,null,null,null,null,null,null,null,null,null,null,null,null,null,null,null,null,null,null,{"$error":"#VALUE!"}]
[null,null,null,null,null,null,null,null,null,{"$error":"#VALUE!"},{"$error":"#VALUE!"},{"$error":"#VALUE!"},null,null,null,null,null,null,null,null,null,null,null,null,null,null,null,null,null,null,null,null,null,null,null,null,{"$error":"#VALUE!"}]
[null,null,null,null,null,null,null,null,null,{"$error":"#VALUE!"},{"$error":"#VALUE!"},{"$error":"#VALUE!"},null,null,null,null,null,null,null,null,null,null,null,null,null,null,null,null,null,null,null,null,null,null,null,null,{"$error":"#VALUE!"}]
[null,null,null,null,null,null,null,null,null,{"$error":"#VALUE!"},{"$error":"#VALUE!"},{"$error":"#VALUE!"},null,null,null,null,null,null,null,null,null,null,null,null,null,null,null,null,null,null,null,null,null,null,null,null,{"$error":"#VALUE!"}]

{"sheet":"T_2x1_RAB","index":55,"n_rows":116,"n_cols":72,"rows_kept":116,"cut":false,"hidden":true,"merged":[[1,34,2,34],[1,36,2,36],[1,39,1,54],[1,56,1,71],[100,9,100,11],[100,36,101,36],[0,19,0,28],[0,30,0,32],[1,9,1,11],[1,13,1,17],[1,21,1,25],[1,27,1,28],[1,30,2,30],[1,31,2,31],[1,32,2,32]]}
[null,null,null,null,null,null,null,null,null,null,null,null,null,null,null,null,null,null,null,"Conflicting Traffic Complexity",null,null,null,null,null,null,null,null,null,null,"Pedestrian Complexity"]
[null,null,null,null,null,null,null,null,null,"Exposure",null,null,null,"Severity",null,null,null,null,null,"Traffic Control",null,"Conflicting Lanes",null,null,null,null,null,"Conflicting Speed",null,null,"Indirect Paths Indicator","Non-intuitive movements indicator","Pedestrian Complexity factor",null,"Total Complexity Multiplier",null,"Exposure-Severity-Complexity Product",null,null,"Included in Mvmt1",null,null,null,null,null,null,null,null,null,null,null,null,null,null,null,null,"Included in Mvmt2"]
["#","Conflict Type","Mvmt1","Mvmt1_gen","Mvmt1_SpeedCat","Mvmt2","Mvmt2_gen","Mvmt2_SpeedCat",null,"Q1","Q2","I",null,"Speed_V1","Speed_V2","Angle","delta_V","P_FSI",null,null,null,"MajC","MinC","MajM/P","MinM/P","Score",null,"Speed","Factor",null,null,null,null,null,null,null,null,null,null,"MajT1","MajL1","MajR1","MajT2","MajL2","MajR2","MinT1","MinL1","MinR1","MinT2","MinL2","MinR2","MajNM1","MajNM2","MinNM1","MinNM2",null,"MajT1","MajL1","MajR1","MajT2","MajL2","MajR2","MinT1","MinL1","MinR1","MinT2","MinL2","MinR2","MajNM1","MajNM2","MinNM1","MinNM2"]
[1,"Crossing - RAB","EBT","MajT1","RAB Entering","WBL","MajL2","RAB Exiting",null,{"$f":"SUMPRODUCT($AN4:$BC4,$AN$18:$BC$18)","v":{"$error":"#VALUE!"}},{"$f":"SUMPRODUCT($BE4:$BT4,$BE$18:$BT$18)","v":{"$error":"#VALUE!"}},{"$f":"PRODUCT(J4:K4)","v":{"$error":"#VALUE!"}},null,{"$f":"VLOOKUP(E4,SSI_AGI_Range_VehSpeed,5,FALSE)","v":20},{"$f":"VLOOKUP(H4,SSI_AGI_Range_VehSpeed,5,FALSE)","v":30},{"$f":"IF(B4=\"Nonmotorized\",\"\",VLOOKUP(B4,SSI_AGI_Range_CollAngles,5,FALSE))","v":60},{"$f":"IF(B4=\"Nonmotorized\",\"\",SQRT(N4^2+O4^2-2*N4*O4*COS(RADIANS(P4)))/2)","v":13.228756555322953},{"$f":"IF(B4=\"Nonmotorized\",1/(1+EXP(3.8432-0.1237*O4)),(Q4/SSI_AGI_RegAlpha)^SSI_AGI_RegK+(Q4/SSI_AGI_RegAlpha)^SSI_AGI_RegK-((Q4/SSI_AGI_RegAlpha)^SSI_AGI_RegK)*((Q4/SSI_AGI_RegAlpha)^SSI_AGI_RegK))","v":4.1698027385763141E-3},null,{"$f":"SSI_AGI_PermFactor","v":1},null,null,null,null,null,1,null,{"$f":"IF(B4=\"Diverging\",\"\",SSI_AGI_VehSpeed_RABCirc)","v":25},{"$f":"IF(B4=\"Diverging\",1,1-((60-AB4)/60*0.1/0.15))","v":0.61111111111111105},null,null,null,{"$f":"IF(SSI_AGI_ConsiderNMComplexity=\"Yes\",1+AE4+AF4,1)","v":1},null,{"$f":"PRODUCT(Z4,T4,AC4,AG4)","v":0.61111111111111105},null,{"$f":"L4*R4*AI4","v":{"$error":"#VALUE!"}},null,null,{"$f":"IF(ISNUMBER(SEARCH(AN$3,$D4)),1,\"\")","v":1},{"$f":"IF(ISNUMBER(SEARCH(AO$3,$D4)),1,\"\")","v":""},"","","","","","","","","","","","","","",null,{"$f":"IF(ISNUMBER(SEARCH(BE$3,$G4)),1,\"\")","v":""},{"$f":"IF(ISNUMBER(SEARCH(BF$3,$G4)),1,\"\")","v":""},"","",1,"","","","","","","","","","",""]
[2,"Crossing - RAB","EBT","MajT1","RAB Exiting","NBL","MinL1","RAB Entering",null,{"$error":"#VALUE!"},{"$error":"#VALUE!"},{"$f":"PRODUCT(J5:K5)","v":{"$error":"#VALUE!"}},null,30,20,60,{"$f":"IF(B5=\"Nonmotorized\",\"\",SQRT(N5^2+O5^2-2*N5*O5*COS(RADIANS(P5)))/2)","v":13.228756555322953},4.1698027385763141E-3,null,1,null,null,null,null,null,2,null,25,0.61111111111111105,null,null,null,1,null,1.2222222222222221,null,{"$f":"L5*R5*AI5","v":{"$error":"#VALUE!"}},null,null,{"$f":"IF(ISNUMBER(SEARCH(AN$3,$D5)),1,\"\")","v":1},"","","","","","","","","","","","","","","",null,{"$f":"IF(ISNUMBER(SEARCH(BE$3,$G5)),1,\"\")","v":""},"","","","","","",1,"","","","","","","",""]
[3,"Merging","WBT, WBL","MajT2, MajL2","RAB Entering","NBL","MinL1","RAB Circulating",null,{"$error":"#VALUE!"},{"$error":"#VALUE!"},{"$error":"#VALUE!"},null,20,25,45,8.9147801264732891,9.333798723087925E-4,null,1,null,null,null,null,null,1.75,null,25,0.61111111111111105,null,null,null,1,null,1.0694444444444444,null,{"$error":"#VALUE!"},null,null,"","","",1,1,"","","","","","","","","","","",null,"","","","","","","",1,"","","","","","","",""]
[4,"Merging","EBR","MajR1","RAB Entering","WBL","MajL2","RAB Exiting",null,{"$error":"#VALUE!"},{"$error":"#VALUE!"},{"$error":"#VALUE!"},null,20,30,45,10.623933623853066,1.8155470372595635E-3,null,1,null,null,null,null,null,1,null,25,0.61111111111111105,null,null,null,1,null,0.61111111111111105,null,{"$error":"#VALUE!"},null,null,"","",1,"","","","","","","","","","","","","",null,"","","","",1,"","","","","","","","","","",""]
[5,"Merging","EBT","MajT1","RAB Exiting","NBR","MinR1","RAB Entering",null,{"$error":"#VALUE!"},{"$error":"#VALUE!"},{"$error":"#VALUE!"},null,30,20,45,10.623933623853066,1.8155470372595635E-3,null,1,null,null,null,null,null,1.75,null,25,0.61111111111111105,null,null,null,1,null,1.0694444444444444,null,{"$error":"#VALUE!"},null,null,1,"","","","","","","","","","","","","","","",null,"","","","","","","","",1,"","","","","","",""]
[6,"Diverging","EBT,NBL","MajT2, MinL1","RAB Exiting","WBL","MajL2","RAB Circulating",null,{"$error":"#VALUE!"},{"$error":"#VALUE!"},{"$error":"#VALUE!"},null,30,25,10,3.4564566568122888,2.5632912055290634E-5,null,1,null,null,null,null,null,1,null,"",1,null,null,null,1,null,1,null,{"$error":"#VALUE!"},null,null,"","","",1,"","","",1,"","","","","","","","",null,"","","","",1,"","","","","","","","","","",""]
[7,"Diverging","EBT","MajT1","RAB Entering","EBR","MajR1","RAB Entering",null,{"$error":"#VALUE!"},{"$error":"#VALUE!"},{"$error":"#VALUE!"},null,20,20,10,1.7431148549531654,1.908430081913129E-6,null,1,null,null,null,null,null,1,null,"",1,null,null,null,1,null,1,null,{"$error":"#VALUE!"},null,null,1,"","","","","","","","","","","","","","","",null,"","",1,"","","","","","","","","","","","",""]
[8,"Diverging","NBL","MinL1","RAB Entering","NBR","MinR1","RAB Entering",null,{"$error":"#VALUE!"},{"$error":"#VALUE!"},{"$error":"#VALUE!"},null,20,20,10,1.7431148549531654,1.908430081913129E-6,null,1,null,null,null,null,null,1,null,"",1,null,null,null,1,null,1,null,{"$error":"#VALUE!"},null,null,"","","","","","","",1,"","","","","","","","",null,"","","","","","","","",1,"","","","","","",""]
[9,"Nonmotorized",null,"MajNM1","Nonmotorized","WB Exiting","MajT2, MinL1","RAB Exiting",null,{"$error":"#VALUE!"},{"$error":"#VALUE!"},{"$error":"#VALUE!"},null,0,30,"","",0.46699805015542578,null,1,null,null,null,null,null,2,null,{"$f":"IF(B12=\"Diverging\",\"\",SSI_AGI_VehSpeed_RABExit)","v":30},0.66666666666666663,null,1,null,2,null,2.6666666666666665,null,{"$error":"#VALUE!"},null,null,"","","","","","","","","","","","",1,"","","",null,"","","",1,"","","",1,"","","","","","","",""]
[10,"Nonmotorized",null,"MajNM1","Nonmotorized","EB Entering","MajT1, MajR1","RAB Entering",null,{"$error":"#VALUE!"},{"$error":"#VALUE!"},{"$error":"#VALUE!"},null,0,20,"","",0.20274912921655375,null,1,null,null,null,null,null,2,null,{"$f":"IF(B13=\"Diverging\",\"\",SSI_AGI_VehSpeed_RABEnter)","v":20},0.55555555555555558,null,1,null,2,null,2.2222222222222223,null,{"$error":"#VALUE!"},null,null,"","","","","","","","","","","","",1,"","","",null,1,"",1,"","","","","","","","","","","","",""]
[11,"Nonmotorized",null,"MinNM1","Nonmotorized","SB Exiting","MajR1, MajL2","RAB Exiting",null,{"$error":"#VALUE!"},{"$error":"#VALUE!"},{"$error":"#VALUE!"},null,0,30,"","",0.46699805015542578,null,1,null,null,null,null,null,1,null,{"$f":"IF(B14=\"Diverging\",\"\",SSI_AGI_VehSpeed_RABExit)","v":30},0.66666666666666663,null,1,null,2,null,1.3333333333333333,null,{"$error":"#VALUE!"},null,null,"","","","","","","","","","","","","","",1,"",null,"","",1,"",1,"","","","","","","","","","",""]
[12,"Nonmotorized",null,"MinNM1","Nonmotorized","NB Entering","MinL1, MinR1","RAB Entering",null,{"$error":"#VALUE!"},{"$error":"#VALUE!"},{"$error":"#VALUE!"},null,0,20,"","",0.20274912921655375,null,1,null,null,null,null,null,1,null,{"$f":"IF(B15=\"Diverging\",\"\",SSI_AGI_VehSpeed_RABEnter)","v":20},0.55555555555555558,null,1,null,2,null,1.1111111111111112,null,{"$error":"#VALUE!"},null,null,"","","","","","","","","","","","","","",1,"",null,"","","","","","","",1,1,"","","","","","",""]
[13,"Nonmotorized",null,"MajNM2","Nonmotorized","EB Exiting","MajT1, MinR1","RAB Exiting",null,{"$error":"#VALUE!"},{"$error":"#VALUE!"},{"$error":"#VALUE!"},null,0,30,"","",0.46699805015542578,null,1,null,null,null,null,null,2,null,{"$f":"IF(B16=\"Diverging\",\"\",SSI_AGI_VehSpeed_RABExit)","v":30},0.66666666666666663,null,1,null,2,null,2.6666666666666665,null,{"$error":"#VALUE!"},null,null,"","","","","","","","","","","","","",1,"","",null,1,"","","","","","","",1,"","","","","","",""]
[14,"Nonmotorized",null,"MajNM2","Nonmotorized","WB Entering","MajT2, MajL2","RAB Entering",null,{"$error":"#VALUE!"},{"$error":"#VALUE!"},{"$error":"#VALUE!"},null,0,20,"","",0.20274912921655375,null,1,null,null,null,null,null,2,null,{"$f":"IF(B17=\"Diverging\",\"\",SSI_AGI_VehSpeed_RABEnter)","v":20},0.55555555555555558,null,1,null,2,null,2.2222222222222223,null,{"$error":"#VALUE!"},null,null,"","","","","","","","","","","","","",1,"","",null,"","","",1,1,"","","","","","","","","","",""]
[null,null,null,null,null,null,null,null,null,null,null,null,null,null,null,null,null,null,null,null,null,null,null,null,null,null,null,null,null,null,null,null,null,null,null,null,null,null,null,{"$f":"'SSI Inputs'!$D$26","v":{"$error":"#VALUE!"}},{"$f":"'SSI Inputs'!$D$27","v":{"$error":"#VALUE!"}},{"$f":"'SSI Inputs'!$D$28","v":{"$error":"#VALUE!"}},{"$f":"'SSI Inputs'!$D$30","v":{"$error":"#VALUE!"}},{"$f":"'SSI Inputs'!$D$31","v":{"$error":"#VALUE!"}},{"$f":"'SSI Inputs'!$D$32","v":{"$error":"#VALUE!"}},{"$f":"'SSI Inputs'!$D$34","v":{"$error":"#VALUE!"}},{"$f":"'SSI Inputs'!$D$35","v":{"$error":"#VALUE!"}},{"$f":"'SSI Inputs'!$D$36","v":{"$error":"#VALUE!"}},{"$f":"'SSI Inputs'!$D$38","v":{"$error":"#VALUE!"}},{"$f":"'SSI Inputs'!$D$39","v":{"$error":"#VALUE!"}},{"$f":"'SSI Inputs'!$D$40","v":{"$error":"#VALUE!"}},{"$f":"'SSI Inputs'!$Q$18","v":175},{"$f":"'SSI Inputs'!$Q$19","v":175},{"$f":"'SSI Inputs'!$Q$20","v":175},{"$f":"'SSI Inputs'!$Q$21","v":175},null,{"$f":"'SSI Inputs'!$D$26","v":{"$error":"#VALUE!"}},{"$f":"'SSI Inputs'!$D$27","v":{"$error":"#VALUE!"}},{"$f":"'SSI Inputs'!$D$28","v":{"$error":"#VALUE!"}},{"$f":"'SSI Inputs'!$D$30","v":{"$error":"#VALUE!"}},{"$f":"'SSI Inputs'!$D$31","v":{"$error":"#VALUE!"}},{"$f":"'SSI Inputs'!$D$32","v":{"$error":"#VALUE!"}},{"$f":"'SSI Inputs'!$D$34","v":{"$error":"#VALUE!"}},{"$f":"'SSI Inputs'!$D$35","v":{"$error":"#VALUE!"}},{"$f":"'SSI Inputs'!$D$36","v":{"$error":"#VALUE!"}},{"$f":"'SSI Inputs'!$D$38","v":{"$error":"#VALUE!"}},{"$f":"'SSI Inputs'!$D$39","v":{"$error":"#VALUE!"}},{"$f":"'SSI Inputs'!$D$40","v":{"$error":"#VALUE!"}},{"$f":"'SSI Inputs'!$Q$18","v":175},{"$f":"'SSI Inputs'!$Q$19","v":175},{"$f":"'SSI Inputs'!$Q$20","v":175},{"$f":"'SSI Inputs'!$Q$21","v":175}]
[null,null,null,null,null,null,null,null,null,null,null,null,null,null,null,null,null,null,null,null,null,null,null,null,null,null,null,null,null,null,null,null,null,null,null,null,null,null,"D",{"$f":"'SSI Inputs'!$E$26","v":{"$error":"#VALUE!"}},{"$f":"'SSI Inputs'!$E$27","v":{"$error":"#VALUE!"}},{"$f":"'SSI Inputs'!$E$28","v":{"$error":"#VALUE!"}},{"$f":"'SSI Inputs'!$E$30","v":{"$error":"#VALUE!"}},{"$f":"'SSI Inputs'!$E$31","v":{"$error":"#VALUE!"}},{"$f":"'SSI Inputs'!$E$32","v":{"$error":"#VALUE!"}},{"$f":"'SSI Inputs'!$E$34","v":{"$error":"#VALUE!"}},{"$f":"'SSI Inputs'!$E$35","v":{"$error":"#VALUE!"}},{"$f":"'SSI Inputs'!$E$36","v":{"$error":"#VALUE!"}},{"$f":"'SSI Inputs'!$E$38","v":{"$error":"#VALUE!"}},{"$f":"'SSI Inputs'!$E$39","v":{"$error":"#VALUE!"}},{"$f":"'SSI Inputs'!$E$40","v":{"$error":"#VALUE!"}},{"$f":"'SSI Inputs'!$R$18","v":175},{"$f":"'SSI Inputs'!$R$19","v":175},{"$f":"'SSI Inputs'!$R$20","v":175},{"$f":"'SSI Inputs'!$R$21","v":175},"D",{"$f":"'SSI Inputs'!$E$26","v":{"$error":"#VALUE!"}},{"$f":"'SSI Inputs'!$E$27","v":{"$error":"#VALUE!"}},{"$f":"'SSI Inputs'!$E$28","v":{"$error":"#VALUE!"}},{"$f":"'SSI Inputs'!$E$30","v":{"$error":"#VALUE!"}},{"$f":"'SSI Inputs'!$E$31","v":{"$error":"#VALUE!"}},{"$f":"'SSI Inputs'!$E$32","v":{"$error":"#VALUE!"}},{"$f":"'SSI Inputs'!$E$34","v":{"$error":"#VALUE!"}},{"$f":"'SSI Inputs'!$E$35","v":{"$error":"#VALUE!"}},{"$f":"'SSI Inputs'!$E$36","v":{"$error":"#VALUE!"}},{"$f":"'SSI Inputs'!$E$38","v":{"$error":"#VALUE!"}},{"$f":"'SSI Inputs'!$E$39","v":{"$error":"#VALUE!"}},{"$f":"'SSI Inputs'!$E$40","v":{"$error":"#VALUE!"}},{"$f":"'SSI Inputs'!$R$18","v":175},{"$f":"'SSI Inputs'!$R$19","v":175},{"$f":"'SSI Inputs'!$R$20","v":175},{"$f":"'SSI Inputs'!$R$21","v":175}]
[]
[]
[]
[]
[]
[]
[]
[]
[]
[]
[]
[]
[]
[]
[]
[]
[]
[]
[]
[]
[]
[]
[]
[]
[]
[]
[]
[]
[]
[]
[]
[]
[]
[]
[]
[]
[]
[]
[]
[]
[]
[]
[]
[]
[]
[]
[]
[]
[]
[]
[]
[]
[]
[]
[]
[]
[]
[]
[]
[]
[]
[]
[]
[]
[]
[]
[]
[]
[]
[]
[]
[]
[]
[]
[]
[]
[]
[]
[]
[]
[]
[null,null,null,null,null,null,null,null,null,"Exposure",null,null,null,null,null,null,null,null,null,null,null,null,null,null,null,null,null,null,null,null,null,null,null,null,null,null,"Exposure-Severity-Complexity Product"]
[null,null,null,null,null,null,null,null,null,"Q1","Q2","I"]
[null,null,null,null,null,null,null,null,null,{"$f":"SUMPRODUCT($AN4:$BC4,$AN$19:$BC$19)","v":{"$error":"#VALUE!"}},{"$f":"SUMPRODUCT($BE4:$BT4,$BE$19:$BT$19)","v":{"$error":"#VALUE!"}},{"$f":"PRODUCT(J103:K103)","v":{"$error":"#VALUE!"}},null,null,null,null,null,null,null,null,null,null,null,null,null,null,null,null,null,null,null,null,null,null,null,null,{"$f":"L103*R4*AI4","v":{"$error":"#VALUE!"}}]
[null,null,null,null,null,null,null,null,null,{"$f":"SUMPRODUCT($AN5:$BC5,$AN$19:$BC$19)","v":{"$error":"#VALUE!"}},{"$f":"SUMPRODUCT($BE5:$BT5,$BE$19:$BT$19)","v":{"$error":"#VALUE!"}},{"$f":"PRODUCT(J104:K104)","v":{"$error":"#VALUE!"}},null,null,null,null,null,null,null,null,null,null,null,null,null,null,null,null,null,null,null,null,null,null,null,null,{"$f":"L104*R5*AI5","v":{"$error":"#VALUE!"}}]
[null,null,null,null,null,null,null,null,null,{"$error":"#VALUE!"},{"$error":"#VALUE!"},{"$error":"#VALUE!"},null,null,null,null,null,null,null,null,null,null,null,null,null,null,null,null,null,null,null,null,null,null,null,null,{"$error":"#VALUE!"}]
[null,null,null,null,null,null,null,null,null,{"$error":"#VALUE!"},{"$error":"#VALUE!"},{"$error":"#VALUE!"},null,null,null,null,null,null,null,null,null,null,null,null,null,null,null,null,null,null,null,null,null,null,null,null,{"$error":"#VALUE!"}]
[null,null,null,null,null,null,null,null,null,{"$error":"#VALUE!"},{"$error":"#VALUE!"},{"$error":"#VALUE!"},null,null,null,null,null,null,null,null,null,null,null,null,null,null,null,null,null,null,null,null,null,null,null,null,{"$error":"#VALUE!"}]
[null,null,null,null,null,null,null,null,null,{"$error":"#VALUE!"},{"$error":"#VALUE!"},{"$error":"#VALUE!"},null,null,null,null,null,null,null,null,null,null,null,null,null,null,null,null,null,null,null,null,null,null,null,null,{"$error":"#VALUE!"}]
[null,null,null,null,null,null,null,null,null,{"$error":"#VALUE!"},{"$error":"#VALUE!"},{"$error":"#VALUE!"},null,null,null,null,null,null,null,null,null,null,null,null,null,null,null,null,null,null,null,null,null,null,null,null,{"$error":"#VALUE!"}]
[null,null,null,null,null,null,null,null,null,{"$error":"#VALUE!"},{"$error":"#VALUE!"},{"$error":"#VALUE!"},null,null,null,null,null,null,null,null,null,null,null,null,null,null,null,null,null,null,null,null,null,null,null,null,{"$error":"#VALUE!"}]
[null,null,null,null,null,null,null,null,null,{"$error":"#VALUE!"},{"$error":"#VALUE!"},{"$error":"#VALUE!"},null,null,null,null,null,null,null,null,null,null,null,null,null,null,null,null,null,null,null,null,null,null,null,null,{"$error":"#VALUE!"}]
[null,null,null,null,null,null,null,null,null,{"$error":"#VALUE!"},{"$error":"#VALUE!"},{"$error":"#VALUE!"},null,null,null,null,null,null,null,null,null,null,null,null,null,null,null,null,null,null,null,null,null,null,null,null,{"$error":"#VALUE!"}]
[null,null,null,null,null,null,null,null,null,{"$error":"#VALUE!"},{"$error":"#VALUE!"},{"$error":"#VALUE!"},null,null,null,null,null,null,null,null,null,null,null,null,null,null,null,null,null,null,null,null,null,null,null,null,{"$error":"#VALUE!"}]
[null,null,null,null,null,null,null,null,null,{"$error":"#VALUE!"},{"$error":"#VALUE!"},{"$error":"#VALUE!"},null,null,null,null,null,null,null,null,null,null,null,null,null,null,null,null,null,null,null,null,null,null,null,null,{"$error":"#VALUE!"}]
[null,null,null,null,null,null,null,null,null,{"$error":"#VALUE!"},{"$error":"#VALUE!"},{"$error":"#VALUE!"},null,null,null,null,null,null,null,null,null,null,null,null,null,null,null,null,null,null,null,null,null,null,null,null,{"$error":"#VALUE!"}]
[null,null,null,null,null,null,null,null,null,{"$error":"#VALUE!"},{"$error":"#VALUE!"},{"$error":"#VALUE!"},null,null,null,null,null,null,null,null,null,null,null,null,null,null,null,null,null,null,null,null,null,null,null,null,{"$error":"#VALUE!"}]

{"sheet":"T_2x2_RAB","index":56,"n_rows":116,"n_cols":72,"rows_kept":116,"cut":false,"hidden":true,"merged":[[1,34,2,34],[1,36,2,36],[1,39,1,54],[1,56,1,71],[100,9,100,11],[100,36,101,36],[0,19,0,28],[0,30,0,32],[1,9,1,11],[1,13,1,17],[1,21,1,25],[1,27,1,28],[1,30,2,30],[1,31,2,31],[1,32,2,32]]}
[null,null,null,null,null,null,null,null,null,null,null,null,null,null,null,null,null,null,null,"Conflicting Traffic Complexity",null,null,null,null,null,null,null,null,null,null,"Pedestrian Complexity"]
[null,null,null,null,null,null,null,null,null,"Exposure",null,null,null,"Severity",null,null,null,null,null,"Traffic Control",null,"Conflicting Lanes",null,null,null,null,null,"Conflicting Speed",null,null,"Indirect Paths Indicator","Non-intuitive movements indicator","Pedestrian Complexity factor",null,"Total Complexity Multiplier",null,"Exposure-Severity-Complexity Product",null,null,"Included in Mvmt1",null,null,null,null,null,null,null,null,null,null,null,null,null,null,null,null,"Included in Mvmt2"]
["#","Conflict Type","Mvmt1","Mvmt1_gen","Mvmt1_SpeedCat","Mvmt2","Mvmt2_gen","Mvmt2_SpeedCat",null,"Q1","Q2","I",null,"Speed_V1","Speed_V2","Angle","delta_V","P_FSI",null,null,null,"MajC","MinC","MajM/P","MinM/P","Score",null,"Speed","Factor",null,null,null,null,null,null,null,null,null,null,"MajT1","MajL1","MajR1","MajT2","MajL2","MajR2","MinT1","MinL1","MinR1","MinT2","MinL2","MinR2","MajNM1","MajNM2","MinNM1","MinNM2",null,"MajT1","MajL1","MajR1","MajT2","MajL2","MajR2","MinT1","MinL1","MinR1","MinT2","MinL2","MinR2","MajNM1","MajNM2","MinNM1","MinNM2"]
[1,"Crossing - RAB","EBT","MajT1","RAB Entering","WBL","MajL2","RAB Exiting",null,{"$f":"SUMPRODUCT($AN4:$BC4,$AN$18:$BC$18)","v":{"$error":"#VALUE!"}},{"$f":"SUMPRODUCT($BE4:$BT4,$BE$18:$BT$18)","v":{"$error":"#VALUE!"}},{"$f":"PRODUCT(J4:K4)","v":{"$error":"#VALUE!"}},null,{"$f":"VLOOKUP(E4,SSI_AGI_Range_VehSpeed,5,FALSE)","v":20},{"$f":"VLOOKUP(H4,SSI_AGI_Range_VehSpeed,5,FALSE)","v":30},{"$f":"IF(B4=\"Nonmotorized\",\"\",VLOOKUP(B4,SSI_AGI_Range_CollAngles,5,FALSE))","v":60},{"$f":"IF(B4=\"Nonmotorized\",\"\",SQRT(N4^2+O4^2-2*N4*O4*COS(RADIANS(P4)))/2)","v":13.228756555322953},{"$f":"IF(B4=\"Nonmotorized\",1/(1+EXP(3.8432-0.1237*O4)),(Q4/SSI_AGI_RegAlpha)^SSI_AGI_RegK+(Q4/SSI_AGI_RegAlpha)^SSI_AGI_RegK-((Q4/SSI_AGI_RegAlpha)^SSI_AGI_RegK)*((Q4/SSI_AGI_RegAlpha)^SSI_AGI_RegK))","v":4.1698027385763141E-3},null,{"$f":"SSI_AGI_PermFactor","v":1},null,null,null,null,null,2,null,{"$f":"IF(B4=\"Diverging\",\"\",SSI_AGI_VehSpeed_RABCirc)","v":25},{"$f":"IF(B4=\"Diverging\",1,1-((60-AB4)/60*0.1/0.15))","v":0.61111111111111105},null,null,null,{"$f":"IF(SSI_AGI_ConsiderNMComplexity=\"Yes\",1+AE4+AF4,1)","v":1},null,{"$f":"PRODUCT(Z4,T4,AC4,AG4)","v":1.2222222222222221},null,{"$f":"L4*R4*AI4","v":{"$error":"#VALUE!"}},null,null,{"$f":"IF(ISNUMBER(SEARCH(AN$3,$D4)),1,\"\")","v":1},{"$f":"IF(ISNUMBER(SEARCH(AO$3,$D4)),1,\"\")","v":""},"","","","","","","","","","","","","","",null,{"$f":"IF(ISNUMBER(SEARCH(BE$3,$G4)),1,\"\")","v":""},{"$f":"IF(ISNUMBER(SEARCH(BF$3,$G4)),1,\"\")","v":""},"","",1,"","","","","","","","","","",""]
[2,"Crossing - RAB","EBT","MajT1","RAB Exiting","NBL","MinL1","RAB Entering",null,{"$error":"#VALUE!"},{"$error":"#VALUE!"},{"$f":"PRODUCT(J5:K5)","v":{"$error":"#VALUE!"}},null,30,20,60,{"$f":"IF(B5=\"Nonmotorized\",\"\",SQRT(N5^2+O5^2-2*N5*O5*COS(RADIANS(P5)))/2)","v":13.228756555322953},4.1698027385763141E-3,null,1,null,null,null,null,null,2,null,25,0.61111111111111105,null,null,null,1,null,1.2222222222222221,null,{"$f":"L5*R5*AI5","v":{"$error":"#VALUE!"}},null,null,{"$f":"IF(ISNUMBER(SEARCH(AN$3,$D5)),1,\"\")","v":1},"","","","","","","","","","","","","","","",null,{"$f":"IF(ISNUMBER(SEARCH(BE$3,$G5)),1,\"\")","v":""},"","","","","","",1,"","","","","","","",""]
[3,"Merging","WBT, WBL","MajT2, MajL2","RAB Entering","NBL","MinL1","RAB Circulating",null,{"$error":"#VALUE!"},{"$error":"#VALUE!"},{"$error":"#VALUE!"},null,20,25,45,8.9147801264732891,9.333798723087925E-4,null,1,null,null,null,null,null,2,null,25,0.61111111111111105,null,null,null,1,null,1.2222222222222221,null,{"$error":"#VALUE!"},null,null,"","","",1,1,"","","","","","","","","","","",null,"","","","","","","",1,"","","","","","","",""]
[4,"Merging","EBR","MajR1","RAB Entering","WBL","MajL2","RAB Exiting",null,{"$error":"#VALUE!"},{"$error":"#VALUE!"},{"$error":"#VALUE!"},null,20,30,45,10.623933623853066,1.8155470372595635E-3,null,1,null,null,null,null,null,1.75,null,25,0.61111111111111105,null,null,null,1,null,1.0694444444444444,null,{"$error":"#VALUE!"},null,null,"","",1,"","","","","","","","","","","","","",null,"","","","",1,"","","","","","","","","","",""]
[5,"Merging","EBT","MajT1","RAB Exiting","NBR","MinR1","RAB Entering",null,{"$error":"#VALUE!"},{"$error":"#VALUE!"},{"$error":"#VALUE!"},null,30,20,45,10.623933623853066,1.8155470372595635E-3,null,1,null,null,null,null,null,1.75,null,25,0.61111111111111105,null,null,null,1,null,1.0694444444444444,null,{"$error":"#VALUE!"},null,null,1,"","","","","","","","","","","","","","","",null,"","","","","","","","",1,"","","","","","",""]
[6,"Diverging","EBT,NBL","MajT2, MinL1","RAB Exiting","WBL","MajL2","RAB Circulating",null,{"$error":"#VALUE!"},{"$error":"#VALUE!"},{"$error":"#VALUE!"},null,30,25,10,3.4564566568122888,2.5632912055290634E-5,null,1,null,null,null,null,null,1,null,"",1,null,null,null,1,null,1,null,{"$error":"#VALUE!"},null,null,"","","",1,"","","",1,"","","","","","","","",null,"","","","",1,"","","","","","","","","","",""]
[7,"Diverging","EBT","MajT1","RAB Entering","EBR","MajR1","RAB Entering",null,{"$error":"#VALUE!"},{"$error":"#VALUE!"},{"$error":"#VALUE!"},null,20,20,10,1.7431148549531654,1.908430081913129E-6,null,1,null,null,null,null,null,1,null,"",1,null,null,null,1,null,1,null,{"$error":"#VALUE!"},null,null,1,"","","","","","","","","","","","","","","",null,"","",1,"","","","","","","","","","","","",""]
[8,"Diverging","NBL","MinL1","RAB Entering","NBR","MinR1","RAB Entering",null,{"$error":"#VALUE!"},{"$error":"#VALUE!"},{"$error":"#VALUE!"},null,20,20,10,1.7431148549531654,1.908430081913129E-6,null,1,null,null,null,null,null,1,null,"",1,null,null,null,1,null,1,null,{"$error":"#VALUE!"},null,null,"","","","","","","",1,"","","","","","","","",null,"","","","","","","","",1,"","","","","","",""]
[9,"Nonmotorized",null,"MajNM1","Nonmotorized","WB Exiting","MajT2, MinL1","RAB Exiting",null,{"$error":"#VALUE!"},{"$error":"#VALUE!"},{"$error":"#VALUE!"},null,0,30,"","",0.46699805015542578,null,1,null,null,null,null,null,2,null,{"$f":"IF(B12=\"Diverging\",\"\",SSI_AGI_VehSpeed_RABExit)","v":30},0.66666666666666663,null,1,null,2,null,2.6666666666666665,null,{"$error":"#VALUE!"},null,null,"","","","","","","","","","","","",1,"","","",null,"","","",1,"","","",1,"","","","","","","",""]
[10,"Nonmotorized",null,"MajNM1","Nonmotorized","EB Entering","MajT1, MajR1","RAB Entering",null,{"$error":"#VALUE!"},{"$error":"#VALUE!"},{"$error":"#VALUE!"},null,0,20,"","",0.20274912921655375,null,1,null,null,null,null,null,2,null,{"$f":"IF(B13=\"Diverging\",\"\",SSI_AGI_VehSpeed_RABEnter)","v":20},0.55555555555555558,null,1,null,2,null,2.2222222222222223,null,{"$error":"#VALUE!"},null,null,"","","","","","","","","","","","",1,"","","",null,1,"",1,"","","","","","","","","","","","",""]
[11,"Nonmotorized",null,"MinNM1","Nonmotorized","SB Exiting","MajR1, MajL2","RAB Exiting",null,{"$error":"#VALUE!"},{"$error":"#VALUE!"},{"$error":"#VALUE!"},null,0,30,"","",0.46699805015542578,null,1,null,null,null,null,null,2,null,{"$f":"IF(B14=\"Diverging\",\"\",SSI_AGI_VehSpeed_RABExit)","v":30},0.66666666666666663,null,1,null,2,null,2.6666666666666665,null,{"$error":"#VALUE!"},null,null,"","","","","","","","","","","","","","",1,"",null,"","",1,"",1,"","","","","","","","","","",""]
[12,"Nonmotorized",null,"MinNM1","Nonmotorized","NB Entering","MinL1, MinR1","RAB Entering",null,{"$error":"#VALUE!"},{"$error":"#VALUE!"},{"$error":"#VALUE!"},null,0,20,"","",0.20274912921655375,null,1,null,null,null,null,null,2,null,{"$f":"IF(B15=\"Diverging\",\"\",SSI_AGI_VehSpeed_RABEnter)","v":20},0.55555555555555558,null,1,null,2,null,2.2222222222222223,null,{"$error":"#VALUE!"},null,null,"","","","","","","","","","","","","","",1,"",null,"","","","","","","",1,1,"","","","","","",""]
[13,"Nonmotorized",null,"MajNM2","Nonmotorized","EB Exiting","MajT1, MinR1","RAB Exiting",null,{"$error":"#VALUE!"},{"$error":"#VALUE!"},{"$error":"#VALUE!"},null,0,30,"","",0.46699805015542578,null,1,null,null,null,null,null,2,null,{"$f":"IF(B16=\"Diverging\",\"\",SSI_AGI_VehSpeed_RABExit)","v":30},0.66666666666666663,null,1,null,2,null,2.6666666666666665,null,{"$error":"#VALUE!"},null,null,"","","","","","","","","","","","","",1,"","",null,1,"","","","","","","",1,"","","","","","",""]
[14,"Nonmotorized",null,"MajNM2","Nonmotorized","WB Entering","MajT2, MajL2","RAB Entering",null,{"$error":"#VALUE!"},{"$error":"#VALUE!"},{"$error":"#VALUE!"},null,0,20,"","",0.20274912921655375,null,1,null,null,null,null,null,2,null,{"$f":"IF(B17=\"Diverging\",\"\",SSI_AGI_VehSpeed_RABEnter)","v":20},0.55555555555555558,null,1,null,2,null,2.2222222222222223,null,{"$error":"#VALUE!"},null,null,"","","","","","","","","","","","","",1,"","",null,"","","",1,1,"","","","","","","","","","",""]
[null,null,null,null,null,null,null,null,null,null,null,null,null,null,null,null,null,null,null,null,null,null,null,null,null,null,null,null,null,null,null,null,null,null,null,null,null,null,null,{"$f":"'SSI Inputs'!$D$26","v":{"$error":"#VALUE!"}},{"$f":"'SSI Inputs'!$D$27","v":{"$error":"#VALUE!"}},{"$f":"'SSI Inputs'!$D$28","v":{"$error":"#VALUE!"}},{"$f":"'SSI Inputs'!$D$30","v":{"$error":"#VALUE!"}},{"$f":"'SSI Inputs'!$D$31","v":{"$error":"#VALUE!"}},{"$f":"'SSI Inputs'!$D$32","v":{"$error":"#VALUE!"}},{"$f":"'SSI Inputs'!$D$34","v":{"$error":"#VALUE!"}},{"$f":"'SSI Inputs'!$D$35","v":{"$error":"#VALUE!"}},{"$f":"'SSI Inputs'!$D$36","v":{"$error":"#VALUE!"}},{"$f":"'SSI Inputs'!$D$38","v":{"$error":"#VALUE!"}},{"$f":"'SSI Inputs'!$D$39","v":{"$error":"#VALUE!"}},{"$f":"'SSI Inputs'!$D$40","v":{"$error":"#VALUE!"}},{"$f":"'SSI Inputs'!$Q$18","v":175},{"$f":"'SSI Inputs'!$Q$19","v":175},{"$f":"'SSI Inputs'!$Q$20","v":175},{"$f":"'SSI Inputs'!$Q$21","v":175},null,{"$f":"'SSI Inputs'!$D$26","v":{"$error":"#VALUE!"}},{"$f":"'SSI Inputs'!$D$27","v":{"$error":"#VALUE!"}},{"$f":"'SSI Inputs'!$D$28","v":{"$error":"#VALUE!"}},{"$f":"'SSI Inputs'!$D$30","v":{"$error":"#VALUE!"}},{"$f":"'SSI Inputs'!$D$31","v":{"$error":"#VALUE!"}},{"$f":"'SSI Inputs'!$D$32","v":{"$error":"#VALUE!"}},{"$f":"'SSI Inputs'!$D$34","v":{"$error":"#VALUE!"}},{"$f":"'SSI Inputs'!$D$35","v":{"$error":"#VALUE!"}},{"$f":"'SSI Inputs'!$D$36","v":{"$error":"#VALUE!"}},{"$f":"'SSI Inputs'!$D$38","v":{"$error":"#VALUE!"}},{"$f":"'SSI Inputs'!$D$39","v":{"$error":"#VALUE!"}},{"$f":"'SSI Inputs'!$D$40","v":{"$error":"#VALUE!"}},{"$f":"'SSI Inputs'!$Q$18","v":175},{"$f":"'SSI Inputs'!$Q$19","v":175},{"$f":"'SSI Inputs'!$Q$20","v":175},{"$f":"'SSI Inputs'!$Q$21","v":175}]
[null,null,null,null,null,null,null,null,null,null,null,null,null,null,null,null,null,null,null,null,null,null,null,null,null,null,null,null,null,null,null,null,null,null,null,null,null,null,"D",{"$f":"'SSI Inputs'!$E$26","v":{"$error":"#VALUE!"}},{"$f":"'SSI Inputs'!$E$27","v":{"$error":"#VALUE!"}},{"$f":"'SSI Inputs'!$E$28","v":{"$error":"#VALUE!"}},{"$f":"'SSI Inputs'!$E$30","v":{"$error":"#VALUE!"}},{"$f":"'SSI Inputs'!$E$31","v":{"$error":"#VALUE!"}},{"$f":"'SSI Inputs'!$E$32","v":{"$error":"#VALUE!"}},{"$f":"'SSI Inputs'!$E$34","v":{"$error":"#VALUE!"}},{"$f":"'SSI Inputs'!$E$35","v":{"$error":"#VALUE!"}},{"$f":"'SSI Inputs'!$E$36","v":{"$error":"#VALUE!"}},{"$f":"'SSI Inputs'!$E$38","v":{"$error":"#VALUE!"}},{"$f":"'SSI Inputs'!$E$39","v":{"$error":"#VALUE!"}},{"$f":"'SSI Inputs'!$E$40","v":{"$error":"#VALUE!"}},{"$f":"'SSI Inputs'!$R$18","v":175},{"$f":"'SSI Inputs'!$R$19","v":175},{"$f":"'SSI Inputs'!$R$20","v":175},{"$f":"'SSI Inputs'!$R$21","v":175},"D",{"$f":"'SSI Inputs'!$E$26","v":{"$error":"#VALUE!"}},{"$f":"'SSI Inputs'!$E$27","v":{"$error":"#VALUE!"}},{"$f":"'SSI Inputs'!$E$28","v":{"$error":"#VALUE!"}},{"$f":"'SSI Inputs'!$E$30","v":{"$error":"#VALUE!"}},{"$f":"'SSI Inputs'!$E$31","v":{"$error":"#VALUE!"}},{"$f":"'SSI Inputs'!$E$32","v":{"$error":"#VALUE!"}},{"$f":"'SSI Inputs'!$E$34","v":{"$error":"#VALUE!"}},{"$f":"'SSI Inputs'!$E$35","v":{"$error":"#VALUE!"}},{"$f":"'SSI Inputs'!$E$36","v":{"$error":"#VALUE!"}},{"$f":"'SSI Inputs'!$E$38","v":{"$error":"#VALUE!"}},{"$f":"'SSI Inputs'!$E$39","v":{"$error":"#VALUE!"}},{"$f":"'SSI Inputs'!$E$40","v":{"$error":"#VALUE!"}},{"$f":"'SSI Inputs'!$R$18","v":175},{"$f":"'SSI Inputs'!$R$19","v":175},{"$f":"'SSI Inputs'!$R$20","v":175},{"$f":"'SSI Inputs'!$R$21","v":175}]
[]
[]
[]
[]
[]
[]
[]
[]
[]
[]
[]
[]
[]
[]
[]
[]
[]
[]
[]
[]
[]
[]
[]
[]
[]
[]
[]
[]
[]
[]
[]
[]
[]
[]
[]
[]
[]
[]
[]
[]
[]
[]
[]
[]
[]
[]
[]
[]
[]
[]
[]
[]
[]
[]
[]
[]
[]
[]
[]
[]
[]
[]
[]
[]
[]
[]
[]
[]
[]
[]
[]
[]
[]
[]
[]
[]
[]
[]
[]
[]
[]
[null,null,null,null,null,null,null,null,null,"Exposure",null,null,null,null,null,null,null,null,null,null,null,null,null,null,null,null,null,null,null,null,null,null,null,null,null,null,"Exposure-Severity-Complexity Product"]
[null,null,null,null,null,null,null,null,null,"Q1","Q2","I"]
[null,null,null,null,null,null,null,null,null,{"$f":"SUMPRODUCT($AN4:$BC4,$AN$19:$BC$19)","v":{"$error":"#VALUE!"}},{"$f":"SUMPRODUCT($BE4:$BT4,$BE$19:$BT$19)","v":{"$error":"#VALUE!"}},{"$f":"PRODUCT(J103:K103)","v":{"$error":"#VALUE!"}},null,null,null,null,null,null,null,null,null,null,null,null,null,null,null,null,null,null,null,null,null,null,null,null,{"$f":"L103*R4*AI4","v":{"$error":"#VALUE!"}}]
[null,null,null,null,null,null,null,null,null,{"$f":"SUMPRODUCT($AN5:$BC5,$AN$19:$BC$19)","v":{"$error":"#VALUE!"}},{"$f":"SUMPRODUCT($BE5:$BT5,$BE$19:$BT$19)","v":{"$error":"#VALUE!"}},{"$f":"PRODUCT(J104:K104)","v":{"$error":"#VALUE!"}},null,null,null,null,null,null,null,null,null,null,null,null,null,null,null,null,null,null,null,null,null,null,null,null,{"$f":"L104*R5*AI5","v":{"$error":"#VALUE!"}}]
[null,null,null,null,null,null,null,null,null,{"$error":"#VALUE!"},{"$error":"#VALUE!"},{"$error":"#VALUE!"},null,null,null,null,null,null,null,null,null,null,null,null,null,null,null,null,null,null,null,null,null,null,null,null,{"$error":"#VALUE!"}]
[null,null,null,null,null,null,null,null,null,{"$error":"#VALUE!"},{"$error":"#VALUE!"},{"$error":"#VALUE!"},null,null,null,null,null,null,null,null,null,null,null,null,null,null,null,null,null,null,null,null,null,null,null,null,{"$error":"#VALUE!"}]
[null,null,null,null,null,null,null,null,null,{"$error":"#VALUE!"},{"$error":"#VALUE!"},{"$error":"#VALUE!"},null,null,null,null,null,null,null,null,null,null,null,null,null,null,null,null,null,null,null,null,null,null,null,null,{"$error":"#VALUE!"}]
[null,null,null,null,null,null,null,null,null,{"$error":"#VALUE!"},{"$error":"#VALUE!"},{"$error":"#VALUE!"},null,null,null,null,null,null,null,null,null,null,null,null,null,null,null,null,null,null,null,null,null,null,null,null,{"$error":"#VALUE!"}]
[null,null,null,null,null,null,null,null,null,{"$error":"#VALUE!"},{"$error":"#VALUE!"},{"$error":"#VALUE!"},null,null,null,null,null,null,null,null,null,null,null,null,null,null,null,null,null,null,null,null,null,null,null,null,{"$error":"#VALUE!"}]
[null,null,null,null,null,null,null,null,null,{"$error":"#VALUE!"},{"$error":"#VALUE!"},{"$error":"#VALUE!"},null,null,null,null,null,null,null,null,null,null,null,null,null,null,null,null,null,null,null,null,null,null,null,null,{"$error":"#VALUE!"}]
[null,null,null,null,null,null,null,null,null,{"$error":"#VALUE!"},{"$error":"#VALUE!"},{"$error":"#VALUE!"},null,null,null,null,null,null,null,null,null,null,null,null,null,null,null,null,null,null,null,null,null,null,null,null,{"$error":"#VALUE!"}]
[null,null,null,null,null,null,null,null,null,{"$error":"#VALUE!"},{"$error":"#VALUE!"},{"$error":"#VALUE!"},null,null,null,null,null,null,null,null,null,null,null,null,null,null,null,null,null,null,null,null,null,null,null,null,{"$error":"#VALUE!"}]
[null,null,null,null,null,null,null,null,null,{"$error":"#VALUE!"},{"$error":"#VALUE!"},{"$error":"#VALUE!"},null,null,null,null,null,null,null,null,null,null,null,null,null,null,null,null,null,null,null,null,null,null,null,null,{"$error":"#VALUE!"}]
[null,null,null,null,null,null,null,null,null,{"$error":"#VALUE!"},{"$error":"#VALUE!"},{"$error":"#VALUE!"},null,null,null,null,null,null,null,null,null,null,null,null,null,null,null,null,null,null,null,null,null,null,null,null,{"$error":"#VALUE!"}]
[null,null,null,null,null,null,null,null,null,{"$error":"#VALUE!"},{"$error":"#VALUE!"},{"$error":"#VALUE!"},null,null,null,null,null,null,null,null,null,null,null,null,null,null,null,null,null,null,null,null,null,null,null,null,{"$error":"#VALUE!"}]
[null,null,null,null,null,null,null,null,null,{"$error":"#VALUE!"},{"$error":"#VALUE!"},{"$error":"#VALUE!"},null,null,null,null,null,null,null,null,null,null,null,null,null,null,null,null,null,null,null,null,null,null,null,null,{"$error":"#VALUE!"}]

{"sheet":"T_RCUT_Sig","index":57,"n_rows":115,"n_cols":72,"rows_kept":115,"cut":false,"hidden":true,"merged":[[1,34,2,34],[1,36,2,36],[1,39,1,54],[1,56,1,71],[100,9,100,11],[100,36,101,36],[0,19,0,28],[0,30,0,32],[1,9,1,11],[1,13,1,17],[1,21,1,25],[1,27,1,28],[1,30,2,30],[1,31,2,31],[1,32,2,32]]}
[null,null,null,null,null,null,null,null,null,null,null,null,null,null,null,null,null,null,null,"Conflicting Traffic Complexity",null,null,null,null,null,null,null,null,null,null,"Pedestrian Complexity"]
[null,null,null,null,null,null,null,null,null,"Exposure",null,null,null,"Severity",null,null,null,null,null,"Traffic Control",null,"Conflicting Lanes",null,null,null,null,null,"Conflicting Speed",null,null,"Indirect Paths Indicator","Non-intuitive movements indicator","Pedestrian Complexity factor",null,"Total Complexity Multiplier",null,"Exposure-Severity-Complexity Product",null,null,"Included in Mvmt1",null,null,null,null,null,null,null,null,null,null,null,null,null,null,null,null,"Included in Mvmt2"]
["#","Conflict Type","Mvmt1","Mvmt1_gen","Mvmt1_SpeedCat","Mvmt2","Mvmt2_gen","Mvmt2_SpeedCat",null,"Q1","Q2","I",null,"Speed_V1","Speed_V2","Angle","delta_V","P_FSI",null,null,null,"MajC","MinC","MajM/P","MinM/P","Score",null,"Speed","Factor",null,null,null,null,null,null,null,null,null,null,"MajT1","MajL1","MajR1","MajT2","MajL2","MajR2","MinT1","MinL1","MinR1","MinT2","MinL2","MinR2","MajNM1","MajNM2","MinNM1","MinNM2",null,"MajT1","MajL1","MajR1","MajT2","MajL2","MajR2","MinT1","MinL1","MinR1","MinT2","MinL2","MinR2","MajNM1","MajNM2","MinNM1","MinNM2"]
[1,"Crossing","EBT","MajT1","Major thru","WBL","MajL2","Major left",null,{"$f":"SUMPRODUCT($AN4:$BC4,$AN$17:$BC$17)","v":{"$error":"#VALUE!"}},{"$f":"SUMPRODUCT($BE4:$BT4,$BE$17:$BT$17)","v":{"$error":"#VALUE!"}},{"$f":"PRODUCT(J4:K4)","v":{"$error":"#VALUE!"}},null,{"$f":"VLOOKUP(E4,SSI_AGI_Range_VehSpeed,5,FALSE)","v":45},{"$f":"VLOOKUP(H4,SSI_AGI_Range_VehSpeed,5,FALSE)","v":20},{"$f":"IF(B4=\"Nonmotorized\",\"\",VLOOKUP(B4,SSI_AGI_Range_CollAngles,5,FALSE))","v":90},{"$f":"IF(B4=\"Nonmotorized\",\"\",SQRT(N4^2+O4^2-2*N4*O4*COS(RADIANS(P4)))/2)","v":24.622144504490262},{"$f":"IF(B4=\"Nonmotorized\",1/(1+EXP(3.8432-0.1237*O4)),(Q4/SSI_AGI_RegAlpha)^SSI_AGI_RegK+(Q4/SSI_AGI_RegAlpha)^SSI_AGI_RegK-((Q4/SSI_AGI_RegAlpha)^SSI_AGI_RegK)*((Q4/SSI_AGI_RegAlpha)^SSI_AGI_RegK))","v":4.3605107328437018E-2},null,{"$f":"SSI_AGI_ProtFactor","v":0.505},null,1,null,null,null,{"$f":"MAX(1,IF(B4<>\"Pedestrian\",V4*SSI_AGI_MajorThruLanes+W4*SSI_AGI_MinorThruLanes+X4*IF(SSI_AGI_MajorThruLanes=1,SSI_AGI_MergeWeightL1,IF(SSI_AGI_MajorThruLanes=2,SSI_AGI_MergeWeightL1+SSI_AGI_MergeWeightL2,SSI_AGI_MergeWeightL1+SSI_AGI_MergeWeightL2+SSI_AGI_MergeWeightL3*(SSI_AGI_MajorThruLanes-2)))+Y4*IF(SSI_AGI_MinorThruLanes=1,SSI_AGI_MergeWeightL1,IF(SSI_AGI_MinorThruLanes=2,SSI_AGI_MergeWeightL1+SSI_AGI_MergeWeightL2,SSI_AGI_MergeWeightL1+SSI_AGI_MergeWeightL2+SSI_AGI_MergeWeightL3*(SSI_AGI_MinorThruLanes-2))),V4*SSI_AGI_MajorThruLanes+W4*SSI_AGI_MinorThruLanes+X4*IF(SSI_AGI_MajorThruLanes=1,SSI_AGI_NM_MergeWeightL1,IF(SSI_AGI_MajorThruLanes=2,SSI_AGI_NM_MergeWeightL1+SSI_AGI_NM_MergeWeightL2,SSI_AGI_NM_MergeWeightL1+SSI_AGI_NM_MergeWeightL2+SSI_AGI_NM_MergeWeightL3*(SSI_AGI_MajorThruLanes-2)))+Y4*IF(SSI_AGI_MinorThruLanes=1,SSI_AGI_NM_MergeWeightL1,IF(SSI_AGI_MinorThruLanes=2,SSI_AGI_NM_MergeWeightL1+SSI_AGI_NM_MergeWeightL2,SSI_AGI_NM_MergeWeightL1+SSI_AGI_NM_MergeWeightL2+SSI_AGI_NM_MergeWeightL3*(SSI_AGI_MinorThruLanes-2)))))","v":2},null,{"$f":"IF(B4=\"Diverging\",\"\",SSI_AGI_VehSpeed_MjrThru)","v":45},{"$f":"IF(B4=\"Diverging\",1,1-((60-AB4)/60*0.1/0.15))","v":0.83333333333333326},null,null,null,{"$f":"IF(SSI_AGI_ConsiderNMComplexity=\"Yes\",1+AE4+AF4,1)","v":1},null,{"$f":"PRODUCT(Z4,T4,AC4,AG4)","v":0.84166666666666656},null,{"$f":"L4*R4*AI4","v":{"$error":"#VALUE!"}},null,null,{"$f":"IF(ISNUMBER(SEARCH(AN$3,$D4)),1,\"\")","v":1},{"$f":"IF(ISNUMBER(SEARCH(AO$3,$D4)),1,\"\")","v":""},"","","","","","","","","","","","","","",null,{"$f":"IF(ISNUMBER(SEARCH(BE$3,$G4)),1,\"\")","v":""},{"$f":"IF(ISNUMBER(SEARCH(BF$3,$G4)),1,\"\")","v":""},"","",1,"","","","","","","","","","",""]
[2,"Merging","EBT","MajT1","Major thru","NBR, NBL","MinL1, MinR1","Signal near",null,{"$error":"#VALUE!"},{"$error":"#VALUE!"},{"$f":"PRODUCT(J5:K5)","v":{"$error":"#VALUE!"}},null,45,15,45,{"$f":"IF(B5=\"Nonmotorized\",\"\",SQRT(N5^2+O5^2-2*N5*O5*COS(RADIANS(P5)))/2)","v":17.995873453365363},1.3373938286506865E-2,null,{"$f":"SSI_AGI_ProtFactor","v":0.505},null,null,null,1,null,1.75,null,45,0.83333333333333326,null,null,null,1,null,0.73645833333333333,null,{"$f":"L5*R5*AI5","v":{"$error":"#VALUE!"}},null,null,{"$f":"IF(ISNUMBER(SEARCH(AN$3,$D5)),1,\"\")","v":1},"","","","","","","","","","","","","","","",null,{"$f":"IF(ISNUMBER(SEARCH(BE$3,$G5)),1,\"\")","v":""},"","","","","","",1,1,"","","","","","",""]
[3,"Merging","EBR","MajR1","Major right","WBL","MajL2","Major left",null,{"$error":"#VALUE!"},{"$error":"#VALUE!"},{"$error":"#VALUE!"},null,15,20,45,7.0840654162717795,3.9022923271840544E-4,null,{"$f":"SSI_AGI_ProtFactor","v":0.505},null,1,null,null,null,2,null,45,0.83333333333333326,null,null,null,1,null,0.84166666666666656,null,{"$error":"#VALUE!"},null,null,"","",1,"","","","","","","","","","","","","",null,"","","","",1,"","","","","","","","","","",""]
[4,"Merging","WBT, WBL","MajT2, MajL2","Major thru","NBL","MinL1","Signal near",null,{"$error":"#VALUE!"},{"$error":"#VALUE!"},{"$error":"#VALUE!"},null,45,15,45,17.995873453365363,1.3373938286506865E-2,null,{"$f":"SSI_AGI_ProtFactor","v":0.505},null,null,null,1,null,1.75,null,45,0.83333333333333326,null,null,null,1,null,0.73645833333333333,null,{"$error":"#VALUE!"},null,null,"","","",1,1,"","","","","","","","","","","",null,"","","","","","","",1,"","","","","","","",""]
[5,"Diverging","EBT, NBR","MajT1, MinR1","Major thru","NBL","MinL1","Major left",null,{"$error":"#VALUE!"},{"$error":"#VALUE!"},{"$error":"#VALUE!"},null,45,20,10,12.77053292327718,3.6481988362114144E-3,null,1,null,null,null,null,null,1,null,"",1,null,null,null,1,null,1,null,{"$error":"#VALUE!"},null,null,1,"","","","","","","",1,"","","","","","","",null,"","","","","","","",1,"","","","","","","",""]
[6,"Diverging","WBT, NBL","MajT2, MinL1","Major thru","WBL","MajL2","Major left",null,{"$error":"#VALUE!"},{"$error":"#VALUE!"},{"$error":"#VALUE!"},null,45,20,10,12.77053292327718,3.6481988362114144E-3,null,1,null,null,null,null,null,1,null,"",1,null,null,null,1,null,1,null,{"$error":"#VALUE!"},null,null,"","","",1,"","","",1,"","","","","","","","",null,"","","","",1,"","","","","","","","","","",""]
[7,"Diverging","EBT","MajT1","Major thru","EBR","MajR1","Major right",null,{"$error":"#VALUE!"},{"$error":"#VALUE!"},{"$error":"#VALUE!"},null,45,15,10,15.169950011729762,7.0056226631585675E-3,null,{"$f":"SSI_AGI_PermFactor","v":1},null,null,null,null,null,1,null,"",1,null,null,null,1,null,1,null,{"$error":"#VALUE!"},null,null,1,"","","","","","","","","","","","","","","",null,"","",1,"","","","","","","","","","","","",""]
[8,"Nonmotorized",null,"MajNM1, MajNM2","Nonmotorized","WBT, NBL","MajT2, MinL1","Major thru",null,{"$error":"#VALUE!"},{"$error":"#VALUE!"},{"$error":"#VALUE!"},null,0,45,"","",0.84855340903216459,null,{"$f":"SSI_AGI_ProtFactor","v":0.505},null,1,null,null,null,2,null,45,0.83333333333333326,null,1,null,2,null,1.6833333333333331,null,{"$error":"#VALUE!"},null,null,"","","","","","","","","","","","",1,1,"","",null,"","","",1,"","","",1,"","","","","","","",""]
[9,"Nonmotorized",null,"MajNM1, MajNM2","Nonmotorized","EBT","MajT1","Major thru",null,{"$error":"#VALUE!"},{"$error":"#VALUE!"},{"$error":"#VALUE!"},null,0,45,"","",0.84855340903216459,null,0.505,null,1,null,null,null,2,null,45,0.83333333333333326,null,1,null,2,null,1.6833333333333331,null,{"$error":"#VALUE!"},null,null,"","","","","","","","","","","","",1,1,"","",null,1,"","","","","","","","","","","","","","",""]
[10,"Nonmotorized",null,"MajNM1, MajNM2","Nonmotorized","EBR","MajR1","Major right",null,{"$error":"#VALUE!"},{"$error":"#VALUE!"},{"$error":"#VALUE!"},null,0,15,"","",0.1205004039155782,null,0.505,null,1,null,null,null,2,null,45,0.83333333333333326,null,1,null,2,null,1.6833333333333331,null,{"$error":"#VALUE!"},null,null,"","","","","","","","","","","","",1,1,"","",null,"","",1,"","","","","","","","","","","","",""]
[11,"Nonmotorized",null,"MinNM1","Nonmotorized","EBR","MajR1","Major right",null,{"$error":"#VALUE!"},{"$error":"#VALUE!"},{"$error":"#VALUE!"},null,0,15,"","",0.1205004039155782,null,0.505,null,null,1,2,null,5.5,null,45,0.83333333333333326,null,null,null,1,null,2.3145833333333332,null,{"$error":"#VALUE!"},null,null,"","","","","","","","","","","","","","",1,"",null,"","",1,"","","","","","","","","","","","",""]
[12,"Nonmotorized",null,"MinNM1","Nonmotorized","WBL","MajL2","Major left",null,{"$error":"#VALUE!"},{"$error":"#VALUE!"},{"$error":"#VALUE!"},null,0,20,"","",0.20274912921655375,null,0.505,null,null,1,2,null,5.5,null,45,0.83333333333333326,null,null,null,1,null,2.3145833333333332,null,{"$error":"#VALUE!"},null,null,"","","","","","","","","","","","","","",1,"",null,"","","","",1,"","","","","","","","","","",""]
[13,"Nonmotorized",null,"MinNM1","Nonmotorized","NBL,NBR","MinL1, MinR1","Signal near",null,{"$error":"#VALUE!"},{"$error":"#VALUE!"},{"$error":"#VALUE!"},null,0,15,"","",0.1205004039155782,null,0.505,null,null,1,null,null,2,null,{"$f":"IF(B16=\"Diverging\",\"\",SSI_AGI_VehSpeed_MnrThru)","v":29.75},0.66388888888888886,null,null,null,1,null,0.67052777777777772,null,{"$error":"#VALUE!"},null,null,"","","","","","","","","","","","","","",1,"",null,"","","","","","","",1,1,"","","","","","",""]
[null,null,null,null,null,null,null,null,null,null,null,null,null,null,null,null,null,null,null,null,null,null,null,null,null,null,null,null,null,null,null,null,null,null,null,null,null,null,null,{"$f":"'SSI Inputs'!$D$26","v":{"$error":"#VALUE!"}},{"$f":"'SSI Inputs'!$D$27","v":{"$error":"#VALUE!"}},{"$f":"'SSI Inputs'!$D$28","v":{"$error":"#VALUE!"}},{"$f":"'SSI Inputs'!$D$30","v":{"$error":"#VALUE!"}},{"$f":"'SSI Inputs'!$D$31","v":{"$error":"#VALUE!"}},{"$f":"'SSI Inputs'!$D$32","v":{"$error":"#VALUE!"}},{"$f":"'SSI Inputs'!$D$34","v":{"$error":"#VALUE!"}},{"$f":"'SSI Inputs'!$D$35","v":{"$error":"#VALUE!"}},{"$f":"'SSI Inputs'!$D$36","v":{"$error":"#VALUE!"}},{"$f":"'SSI Inputs'!$D$38","v":{"$error":"#VALUE!"}},{"$f":"'SSI Inputs'!$D$39","v":{"$error":"#VALUE!"}},{"$f":"'SSI Inputs'!$D$40","v":{"$error":"#VALUE!"}},{"$f":"'SSI Inputs'!$Q$18","v":175},{"$f":"'SSI Inputs'!$Q$19","v":175},{"$f":"'SSI Inputs'!$Q$20","v":175},{"$f":"'SSI Inputs'!$Q$21","v":175},null,{"$f":"'SSI Inputs'!$D$26","v":{"$error":"#VALUE!"}},{"$f":"'SSI Inputs'!$D$27","v":{"$error":"#VALUE!"}},{"$f":"'SSI Inputs'!$D$28","v":{"$error":"#VALUE!"}},{"$f":"'SSI Inputs'!$D$30","v":{"$error":"#VALUE!"}},{"$f":"'SSI Inputs'!$D$31","v":{"$error":"#VALUE!"}},{"$f":"'SSI Inputs'!$D$32","v":{"$error":"#VALUE!"}},{"$f":"'SSI Inputs'!$D$34","v":{"$error":"#VALUE!"}},{"$f":"'SSI Inputs'!$D$35","v":{"$error":"#VALUE!"}},{"$f":"'SSI Inputs'!$D$36","v":{"$error":"#VALUE!"}},{"$f":"'SSI Inputs'!$D$38","v":{"$error":"#VALUE!"}},{"$f":"'SSI Inputs'!$D$39","v":{"$error":"#VALUE!"}},{"$f":"'SSI Inputs'!$D$40","v":{"$error":"#VALUE!"}},{"$f":"'SSI Inputs'!$Q$18","v":175},{"$f":"'SSI Inputs'!$Q$19","v":175},{"$f":"'SSI Inputs'!$Q$20","v":175},{"$f":"'SSI Inputs'!$Q$21","v":175}]
[null,null,null,null,null,null,null,null,null,null,null,null,null,null,null,null,null,null,null,null,null,null,null,null,null,null,null,null,null,null,null,null,null,null,null,null,null,null,"D",{"$f":"'SSI Inputs'!$E$26","v":{"$error":"#VALUE!"}},{"$f":"'SSI Inputs'!$E$27","v":{"$error":"#VALUE!"}},{"$f":"'SSI Inputs'!$E$28","v":{"$error":"#VALUE!"}},{"$f":"'SSI Inputs'!$E$30","v":{"$error":"#VALUE!"}},{"$f":"'SSI Inputs'!$E$31","v":{"$error":"#VALUE!"}},{"$f":"'SSI Inputs'!$E$32","v":{"$error":"#VALUE!"}},{"$f":"'SSI Inputs'!$E$34","v":{"$error":"#VALUE!"}},{"$f":"'SSI Inputs'!$E$35","v":{"$error":"#VALUE!"}},{"$f":"'SSI Inputs'!$E$36","v":{"$error":"#VALUE!"}},{"$f":"'SSI Inputs'!$E$38","v":{"$error":"#VALUE!"}},{"$f":"'SSI Inputs'!$E$39","v":{"$error":"#VALUE!"}},{"$f":"'SSI Inputs'!$E$40","v":{"$error":"#VALUE!"}},{"$f":"'SSI Inputs'!$R$18","v":175},{"$f":"'SSI Inputs'!$R$19","v":175},{"$f":"'SSI Inputs'!$R$20","v":175},{"$f":"'SSI Inputs'!$R$21","v":175},"D",{"$f":"'SSI Inputs'!$E$26","v":{"$error":"#VALUE!"}},{"$f":"'SSI Inputs'!$E$27","v":{"$error":"#VALUE!"}},{"$f":"'SSI Inputs'!$E$28","v":{"$error":"#VALUE!"}},{"$f":"'SSI Inputs'!$E$30","v":{"$error":"#VALUE!"}},{"$f":"'SSI Inputs'!$E$31","v":{"$error":"#VALUE!"}},{"$f":"'SSI Inputs'!$E$32","v":{"$error":"#VALUE!"}},{"$f":"'SSI Inputs'!$E$34","v":{"$error":"#VALUE!"}},{"$f":"'SSI Inputs'!$E$35","v":{"$error":"#VALUE!"}},{"$f":"'SSI Inputs'!$E$36","v":{"$error":"#VALUE!"}},{"$f":"'SSI Inputs'!$E$38","v":{"$error":"#VALUE!"}},{"$f":"'SSI Inputs'!$E$39","v":{"$error":"#VALUE!"}},{"$f":"'SSI Inputs'!$E$40","v":{"$error":"#VALUE!"}},{"$f":"'SSI Inputs'!$R$18","v":175},{"$f":"'SSI Inputs'!$R$19","v":175},{"$f":"'SSI Inputs'!$R$20","v":175},{"$f":"'SSI Inputs'!$R$21","v":175}]
[]
[]
[]
[]
[]
[]
[]
[]
[]
[]
[]
[]
[]
[]
[]
[]
[]
[]
[]
[]
[]
[]
[]
[]
[]
[]
[]
[]
[]
[]
[]
[]
[]
[]
[]
[]
[]
[]
[]
[]
[]
[]
[]
[]
[]
[]
[]
[]
[]
[]
[]
[]
[]
[]
[]
[]
[]
[]
[]
[]
[]
[]
[]
[]
[]
[]
[]
[]
[]
[]
[]
[]
[]
[]
[]
[]
[]
[]
[]
[]
[]
[]
[null,null,null,null,null,null,null,null,null,"Exposure",null,null,null,null,null,null,null,null,null,null,null,null,null,null,null,null,null,null,null,null,null,null,null,null,null,null,"Exposure-Severity-Complexity Product"]
[null,null,null,null,null,null,null,null,null,"Q1","Q2","I"]
[null,null,null,null,null,null,null,null,null,{"$f":"SUMPRODUCT($AN4:$BC4,$AN$18:$BC$18)","v":{"$error":"#VALUE!"}},{"$f":"SUMPRODUCT($BE4:$BT4,$BE$18:$BT$18)","v":{"$error":"#VALUE!"}},{"$f":"PRODUCT(J103:K103)","v":{"$error":"#VALUE!"}},null,null,null,null,null,null,null,null,null,null,null,null,null,null,null,null,null,null,null,null,null,null,null,null,{"$f":"L103*R4*AI4","v":{"$error":"#VALUE!"}}]
[null,null,null,null,null,null,null,null,null,{"$f":"SUMPRODUCT($AN5:$BC5,$AN$18:$BC$18)","v":{"$error":"#VALUE!"}},{"$f":"SUMPRODUCT($BE5:$BT5,$BE$18:$BT$18)","v":{"$error":"#VALUE!"}},{"$f":"PRODUCT(J104:K104)","v":{"$error":"#VALUE!"}},null,null,null,null,null,null,null,null,null,null,null,null,null,null,null,null,null,null,null,null,null,null,null,null,{"$f":"L104*R5*AI5","v":{"$error":"#VALUE!"}}]
[null,null,null,null,null,null,null,null,null,{"$error":"#VALUE!"},{"$error":"#VALUE!"},{"$error":"#VALUE!"},null,null,null,null,null,null,null,null,null,null,null,null,null,null,null,null,null,null,null,null,null,null,null,null,{"$error":"#VALUE!"}]
[null,null,null,null,null,null,null,null,null,{"$error":"#VALUE!"},{"$error":"#VALUE!"},{"$error":"#VALUE!"},null,null,null,null,null,null,null,null,null,null,null,null,null,null,null,null,null,null,null,null,null,null,null,null,{"$error":"#VALUE!"}]
[null,null,null,null,null,null,null,null,null,{"$error":"#VALUE!"},{"$error":"#VALUE!"},{"$error":"#VALUE!"},null,null,null,null,null,null,null,null,null,null,null,null,null,null,null,null,null,null,null,null,null,null,null,null,{"$error":"#VALUE!"}]
[null,null,null,null,null,null,null,null,null,{"$error":"#VALUE!"},{"$error":"#VALUE!"},{"$error":"#VALUE!"},null,null,null,null,null,null,null,null,null,null,null,null,null,null,null,null,null,null,null,null,null,null,null,null,{"$error":"#VALUE!"}]
[null,null,null,null,null,null,null,null,null,{"$error":"#VALUE!"},{"$error":"#VALUE!"},{"$error":"#VALUE!"},null,null,null,null,null,null,null,null,null,null,null,null,null,null,null,null,null,null,null,null,null,null,null,null,{"$error":"#VALUE!"}]
[null,null,null,null,null,null,null,null,null,{"$error":"#VALUE!"},{"$error":"#VALUE!"},{"$error":"#VALUE!"},null,null,null,null,null,null,null,null,null,null,null,null,null,null,null,null,null,null,null,null,null,null,null,null,{"$error":"#VALUE!"}]
[null,null,null,null,null,null,null,null,null,{"$error":"#VALUE!"},{"$error":"#VALUE!"},{"$error":"#VALUE!"},null,null,null,null,null,null,null,null,null,null,null,null,null,null,null,null,null,null,null,null,null,null,null,null,{"$error":"#VALUE!"}]
[null,null,null,null,null,null,null,null,null,{"$error":"#VALUE!"},{"$error":"#VALUE!"},{"$error":"#VALUE!"},null,null,null,null,null,null,null,null,null,null,null,null,null,null,null,null,null,null,null,null,null,null,null,null,{"$error":"#VALUE!"}]
[null,null,null,null,null,null,null,null,null,{"$error":"#VALUE!"},{"$error":"#VALUE!"},{"$error":"#VALUE!"},null,null,null,null,null,null,null,null,null,null,null,null,null,null,null,null,null,null,null,null,null,null,null,null,{"$error":"#VALUE!"}]
[null,null,null,null,null,null,null,null,null,{"$error":"#VALUE!"},{"$error":"#VALUE!"},{"$error":"#VALUE!"},null,null,null,null,null,null,null,null,null,null,null,null,null,null,null,null,null,null,null,null,null,null,null,null,{"$error":"#VALUE!"}]
[null,null,null,null,null,null,null,null,null,{"$error":"#VALUE!"},{"$error":"#VALUE!"},{"$error":"#VALUE!"},null,null,null,null,null,null,null,null,null,null,null,null,null,null,null,null,null,null,null,null,null,null,null,null,{"$error":"#VALUE!"}]

{"sheet":"T_RCUT_Unsig","index":58,"n_rows":115,"n_cols":72,"rows_kept":115,"cut":false,"hidden":true,"merged":[[1,34,2,34],[1,36,2,36],[1,39,1,54],[1,56,1,71],[100,9,100,11],[100,36,101,36],[0,19,0,28],[0,30,0,32],[1,9,1,11],[1,13,1,17],[1,21,1,25],[1,27,1,28],[1,30,2,30],[1,31,2,31],[1,32,2,32]]}
[null,null,null,null,null,null,null,null,null,null,null,null,null,null,null,null,null,null,null,"Conflicting Traffic Complexity",null,null,null,null,null,null,null,null,null,null,"Pedestrian Complexity"]
[null,null,null,null,null,null,null,null,null,"Exposure",null,null,null,"Severity",null,null,null,null,null,"Traffic Control",null,"Conflicting Lanes",null,null,null,null,null,"Conflicting Speed",null,null,"Indirect Paths Indicator","Non-intuitive movements indicator","Pedestrian Complexity factor",null,"Total Complexity Multiplier",null,"Exposure-Severity-Complexity Product",null,null,"Included in Mvmt1",null,null,null,null,null,null,null,null,null,null,null,null,null,null,null,null,"Included in Mvmt2"]
["#","Conflict Type","Mvmt1","Mvmt1_gen","Mvmt1_SpeedCat","Mvmt2","Mvmt2_gen","Mvmt2_SpeedCat",null,"Q1","Q2","I",null,"Speed_V1","Speed_V2","Angle","delta_V","P_FSI",null,null,null,"MajC","MinC","MajM/P","MinM/P","Score",null,"Speed","Factor",null,null,null,null,null,null,null,null,null,null,"MajT1","MajL1","MajR1","MajT2","MajL2","MajR2","MinT1","MinL1","MinR1","MinT2","MinL2","MinR2","MajNM1","MajNM2","MinNM1","MinNM2",null,"MajT1","MajL1","MajR1","MajT2","MajL2","MajR2","MinT1","MinL1","MinR1","MinT2","MinL2","MinR2","MajNM1","MajNM2","MinNM1","MinNM2"]
[1,"Crossing","EBT","MajT1","Major thru","WBL","MajL2","Major left",null,{"$f":"SUMPRODUCT($AN4:$BC4,$AN$17:$BC$17)","v":{"$error":"#VALUE!"}},{"$f":"SUMPRODUCT($BE4:$BT4,$BE$17:$BT$17)","v":{"$error":"#VALUE!"}},{"$f":"PRODUCT(J4:K4)","v":{"$error":"#VALUE!"}},null,{"$f":"VLOOKUP(E4,SSI_AGI_Range_VehSpeed,5,FALSE)","v":45},{"$f":"VLOOKUP(H4,SSI_AGI_Range_VehSpeed,5,FALSE)","v":20},{"$f":"IF(B4=\"Nonmotorized\",\"\",VLOOKUP(B4,SSI_AGI_Range_CollAngles,5,FALSE))","v":90},{"$f":"IF(B4=\"Nonmotorized\",\"\",SQRT(N4^2+O4^2-2*N4*O4*COS(RADIANS(P4)))/2)","v":24.622144504490262},{"$f":"IF(B4=\"Nonmotorized\",1/(1+EXP(3.8432-0.1237*O4)),(Q4/SSI_AGI_RegAlpha)^SSI_AGI_RegK+(Q4/SSI_AGI_RegAlpha)^SSI_AGI_RegK-((Q4/SSI_AGI_RegAlpha)^SSI_AGI_RegK)*((Q4/SSI_AGI_RegAlpha)^SSI_AGI_RegK))","v":4.3605107328437018E-2},null,{"$f":"SSI_AGI_StopFactor","v":0.72500000000000009},null,1,null,null,null,{"$f":"MAX(1,IF(B4<>\"Pedestrian\",V4*SSI_AGI_MajorThruLanes+W4*SSI_AGI_MinorThruLanes+X4*IF(SSI_AGI_MajorThruLanes=1,SSI_AGI_MergeWeightL1,IF(SSI_AGI_MajorThruLanes=2,SSI_AGI_MergeWeightL1+SSI_AGI_MergeWeightL2,SSI_AGI_MergeWeightL1+SSI_AGI_MergeWeightL2+SSI_AGI_MergeWeightL3*(SSI_AGI_MajorThruLanes-2)))+Y4*IF(SSI_AGI_MinorThruLanes=1,SSI_AGI_MergeWeightL1,IF(SSI_AGI_MinorThruLanes=2,SSI_AGI_MergeWeightL1+SSI_AGI_MergeWeightL2,SSI_AGI_MergeWeightL1+SSI_AGI_MergeWeightL2+SSI_AGI_MergeWeightL3*(SSI_AGI_MinorThruLanes-2))),V4*SSI_AGI_MajorThruLanes+W4*SSI_AGI_MinorThruLanes+X4*IF(SSI_AGI_MajorThruLanes=1,SSI_AGI_NM_MergeWeightL1,IF(SSI_AGI_MajorThruLanes=2,SSI_AGI_NM_MergeWeightL1+SSI_AGI_NM_MergeWeightL2,SSI_AGI_NM_MergeWeightL1+SSI_AGI_NM_MergeWeightL2+SSI_AGI_NM_MergeWeightL3*(SSI_AGI_MajorThruLanes-2)))+Y4*IF(SSI_AGI_MinorThruLanes=1,SSI_AGI_NM_MergeWeightL1,IF(SSI_AGI_MinorThruLanes=2,SSI_AGI_NM_MergeWeightL1+SSI_AGI_NM_MergeWeightL2,SSI_AGI_NM_MergeWeightL1+SSI_AGI_NM_MergeWeightL2+SSI_AGI_NM_MergeWeightL3*(SSI_AGI_MinorThruLanes-2)))))","v":2},null,{"$f":"IF(B4=\"Diverging\",\"\",SSI_AGI_VehSpeed_MjrThru)","v":45},{"$f":"IF(B4=\"Diverging\",1,1-((60-AB4)/60*0.1/0.15))","v":0.83333333333333326},null,null,null,{"$f":"IF(SSI_AGI_ConsiderNMComplexity=\"Yes\",1+AE4+AF4,1)","v":1},null,{"$f":"PRODUCT(Z4,T4,AC4,AG4)","v":1.2083333333333335},null,{"$f":"L4*R4*AI4","v":{"$error":"#VALUE!"}},null,null,{"$f":"IF(ISNUMBER(SEARCH(AN$3,$D4)),1,\"\")","v":1},{"$f":"IF(ISNUMBER(SEARCH(AO$3,$D4)),1,\"\")","v":""},"","","","","","","","","","","","","","",null,{"$f":"IF(ISNUMBER(SEARCH(BE$3,$G4)),1,\"\")","v":""},{"$f":"IF(ISNUMBER(SEARCH(BF$3,$G4)),1,\"\")","v":""},"","",1,"","","","","","","","","","",""]
[2,"Merging","EBT","MajT1","Major thru","NBR, NBL","MinL1, MinR1","Stop near",null,{"$error":"#VALUE!"},{"$error":"#VALUE!"},{"$f":"PRODUCT(J5:K5)","v":{"$error":"#VALUE!"}},null,45,15,45,{"$f":"IF(B5=\"Nonmotorized\",\"\",SQRT(N5^2+O5^2-2*N5*O5*COS(RADIANS(P5)))/2)","v":17.995873453365363},1.3373938286506865E-2,null,{"$f":"SSI_AGI_StopFactor","v":0.72500000000000009},null,null,null,1,null,1.75,null,45,0.83333333333333326,null,null,null,1,null,1.0572916666666667,null,{"$f":"L5*R5*AI5","v":{"$error":"#VALUE!"}},null,null,{"$f":"IF(ISNUMBER(SEARCH(AN$3,$D5)),1,\"\")","v":1},"","","","","","","","","","","","","","","",null,{"$f":"IF(ISNUMBER(SEARCH(BE$3,$G5)),1,\"\")","v":""},"","","","","","",1,1,"","","","","","",""]
[3,"Merging","EBR","MajR1","Major right","WBL","MajL2","Major left",null,{"$error":"#VALUE!"},{"$error":"#VALUE!"},{"$error":"#VALUE!"},null,15,20,45,7.0840654162717795,3.9022923271840544E-4,null,{"$f":"SSI_AGI_StopFactor","v":0.72500000000000009},null,1,null,null,null,2,null,45,0.83333333333333326,null,null,null,1,null,1.2083333333333335,null,{"$error":"#VALUE!"},null,null,"","",1,"","","","","","","","","","","","","",null,"","","","",1,"","","","","","","","","","",""]
[4,"Merging","WBT, WBL","MajT2, MajL2","Major thru","NBL","MinL1","Stop near",null,{"$error":"#VALUE!"},{"$error":"#VALUE!"},{"$error":"#VALUE!"},null,45,15,45,17.995873453365363,1.3373938286506865E-2,null,{"$f":"SSI_AGI_StopFactor","v":0.72500000000000009},null,null,null,1,null,1.75,null,45,0.83333333333333326,null,null,null,1,null,1.0572916666666667,null,{"$error":"#VALUE!"},null,null,"","","",1,1,"","","","","","","","","","","",null,"","","","","","","",1,"","","","","","","",""]
[5,"Diverging","EBT, NBR","MajT1, MinR1","Major thru","NBL","MinL1","Major left",null,{"$error":"#VALUE!"},{"$error":"#VALUE!"},{"$error":"#VALUE!"},null,45,20,10,12.77053292327718,3.6481988362114144E-3,null,1,null,null,null,null,null,1,null,"",1,null,null,null,1,null,1,null,{"$error":"#VALUE!"},null,null,1,"","","","","","","",1,"","","","","","","",null,"","","","","","","",1,"","","","","","","",""]
[6,"Diverging","WBT, NBL","MajT2, MinL1","Major thru","WBL","MajL2","Major left",null,{"$error":"#VALUE!"},{"$error":"#VALUE!"},{"$error":"#VALUE!"},null,45,20,10,12.77053292327718,3.6481988362114144E-3,null,1,null,null,null,null,null,1,null,"",1,null,null,null,1,null,1,null,{"$error":"#VALUE!"},null,null,"","","",1,"","","",1,"","","","","","","","",null,"","","","",1,"","","","","","","","","","",""]
[7,"Diverging","EBT","MajT1","Major thru","EBR","MajR1","Major right",null,{"$error":"#VALUE!"},{"$error":"#VALUE!"},{"$error":"#VALUE!"},null,45,15,10,15.169950011729762,7.0056226631585675E-3,null,{"$f":"SSI_AGI_PermFactor","v":1},null,null,null,null,null,1,null,"",1,null,null,null,1,null,1,null,{"$error":"#VALUE!"},null,null,1,"","","","","","","","","","","","","","","",null,"","",1,"","","","","","","","","","","","",""]
[8,"Nonmotorized",null,"MajNM1, MajNM2","Nonmotorized","WBT, NBL","MajT2, MinL1","Major thru",null,{"$error":"#VALUE!"},{"$error":"#VALUE!"},{"$error":"#VALUE!"},null,0,45,"","",0.84855340903216459,null,{"$f":"SSI_AGI_StopFactor","v":0.72500000000000009},null,1,null,null,null,2,null,45,0.83333333333333326,null,1,null,2,null,2.416666666666667,null,{"$error":"#VALUE!"},null,null,"","","","","","","","","","","","",1,1,"","",null,"","","",1,"","","",1,"","","","","","","",""]
[9,"Nonmotorized",null,"MajNM1, MajNM2","Nonmotorized","EBT","MajT1","Major thru",null,{"$error":"#VALUE!"},{"$error":"#VALUE!"},{"$error":"#VALUE!"},null,0,45,"","",0.84855340903216459,null,0.72500000000000009,null,1,null,null,null,2,null,45,0.83333333333333326,null,1,null,2,null,2.416666666666667,null,{"$error":"#VALUE!"},null,null,"","","","","","","","","","","","",1,1,"","",null,1,"","","","","","","","","","","","","","",""]
[10,"Nonmotorized",null,"MajNM1, MajNM2","Nonmotorized","EBR","MajR1","Major right",null,{"$error":"#VALUE!"},{"$error":"#VALUE!"},{"$error":"#VALUE!"},null,0,15,"","",0.1205004039155782,null,0.72500000000000009,null,1,null,null,null,2,null,45,0.83333333333333326,null,1,null,2,null,2.416666666666667,null,{"$error":"#VALUE!"},null,null,"","","","","","","","","","","","",1,1,"","",null,"","",1,"","","","","","","","","","","","",""]
[11,"Nonmotorized",null,"MinNM1","Nonmotorized","EBR","MajR1","Major right",null,{"$error":"#VALUE!"},{"$error":"#VALUE!"},{"$error":"#VALUE!"},null,0,15,"","",0.1205004039155782,null,0.72500000000000009,null,null,1,2,null,5.5,null,45,0.83333333333333326,null,null,null,1,null,3.322916666666667,null,{"$error":"#VALUE!"},null,null,"","","","","","","","","","","","","","",1,"",null,"","",1,"","","","","","","","","","","","",""]
[12,"Nonmotorized",null,"MinNM1","Nonmotorized","WBL","MajL2","Major left",null,{"$error":"#VALUE!"},{"$error":"#VALUE!"},{"$error":"#VALUE!"},null,0,20,"","",0.20274912921655375,null,0.72500000000000009,null,null,1,2,null,5.5,null,45,0.83333333333333326,null,null,null,1,null,3.322916666666667,null,{"$error":"#VALUE!"},null,null,"","","","","","","","","","","","","","",1,"",null,"","","","",1,"","","","","","","","","","",""]
[13,"Nonmotorized",null,"MinNM1","Nonmotorized","NBL,NBR","MinL1, MinR1","Stop near",null,{"$error":"#VALUE!"},{"$error":"#VALUE!"},{"$error":"#VALUE!"},null,0,15,"","",0.1205004039155782,null,0.72500000000000009,null,null,1,null,null,2,null,{"$f":"IF(B16=\"Diverging\",\"\",SSI_AGI_VehSpeed_MnrThru)","v":29.75},0.66388888888888886,null,null,null,1,null,0.96263888888888893,null,{"$error":"#VALUE!"},null,null,"","","","","","","","","","","","","","",1,"",null,"","","","","","","",1,1,"","","","","","",""]
[null,null,null,null,null,null,null,null,null,null,null,null,null,null,null,null,null,null,null,null,null,null,null,null,null,null,null,null,null,null,null,null,null,null,null,null,null,null,null,{"$f":"'SSI Inputs'!$D$26","v":{"$error":"#VALUE!"}},{"$f":"'SSI Inputs'!$D$27","v":{"$error":"#VALUE!"}},{"$f":"'SSI Inputs'!$D$28","v":{"$error":"#VALUE!"}},{"$f":"'SSI Inputs'!$D$30","v":{"$error":"#VALUE!"}},{"$f":"'SSI Inputs'!$D$31","v":{"$error":"#VALUE!"}},{"$f":"'SSI Inputs'!$D$32","v":{"$error":"#VALUE!"}},{"$f":"'SSI Inputs'!$D$34","v":{"$error":"#VALUE!"}},{"$f":"'SSI Inputs'!$D$35","v":{"$error":"#VALUE!"}},{"$f":"'SSI Inputs'!$D$36","v":{"$error":"#VALUE!"}},{"$f":"'SSI Inputs'!$D$38","v":{"$error":"#VALUE!"}},{"$f":"'SSI Inputs'!$D$39","v":{"$error":"#VALUE!"}},{"$f":"'SSI Inputs'!$D$40","v":{"$error":"#VALUE!"}},{"$f":"'SSI Inputs'!$Q$18","v":175},{"$f":"'SSI Inputs'!$Q$19","v":175},{"$f":"'SSI Inputs'!$Q$20","v":175},{"$f":"'SSI Inputs'!$Q$21","v":175},null,{"$f":"'SSI Inputs'!$D$26","v":{"$error":"#VALUE!"}},{"$f":"'SSI Inputs'!$D$27","v":{"$error":"#VALUE!"}},{"$f":"'SSI Inputs'!$D$28","v":{"$error":"#VALUE!"}},{"$f":"'SSI Inputs'!$D$30","v":{"$error":"#VALUE!"}},{"$f":"'SSI Inputs'!$D$31","v":{"$error":"#VALUE!"}},{"$f":"'SSI Inputs'!$D$32","v":{"$error":"#VALUE!"}},{"$f":"'SSI Inputs'!$D$34","v":{"$error":"#VALUE!"}},{"$f":"'SSI Inputs'!$D$35","v":{"$error":"#VALUE!"}},{"$f":"'SSI Inputs'!$D$36","v":{"$error":"#VALUE!"}},{"$f":"'SSI Inputs'!$D$38","v":{"$error":"#VALUE!"}},{"$f":"'SSI Inputs'!$D$39","v":{"$error":"#VALUE!"}},{"$f":"'SSI Inputs'!$D$40","v":{"$error":"#VALUE!"}},{"$f":"'SSI Inputs'!$Q$18","v":175},{"$f":"'SSI Inputs'!$Q$19","v":175},{"$f":"'SSI Inputs'!$Q$20","v":175},{"$f":"'SSI Inputs'!$Q$21","v":175}]
[null,null,null,null,null,null,null,null,null,null,null,null,null,null,null,null,null,null,null,null,null,null,null,null,null,null,null,null,null,null,null,null,null,null,null,null,null,null,"D",{"$f":"'SSI Inputs'!$E$26","v":{"$error":"#VALUE!"}},{"$f":"'SSI Inputs'!$E$27","v":{"$error":"#VALUE!"}},{"$f":"'SSI Inputs'!$E$28","v":{"$error":"#VALUE!"}},{"$f":"'SSI Inputs'!$E$30","v":{"$error":"#VALUE!"}},{"$f":"'SSI Inputs'!$E$31","v":{"$error":"#VALUE!"}},{"$f":"'SSI Inputs'!$E$32","v":{"$error":"#VALUE!"}},{"$f":"'SSI Inputs'!$E$34","v":{"$error":"#VALUE!"}},{"$f":"'SSI Inputs'!$E$35","v":{"$error":"#VALUE!"}},{"$f":"'SSI Inputs'!$E$36","v":{"$error":"#VALUE!"}},{"$f":"'SSI Inputs'!$E$38","v":{"$error":"#VALUE!"}},{"$f":"'SSI Inputs'!$E$39","v":{"$error":"#VALUE!"}},{"$f":"'SSI Inputs'!$E$40","v":{"$error":"#VALUE!"}},{"$f":"'SSI Inputs'!$R$18","v":175},{"$f":"'SSI Inputs'!$R$19","v":175},{"$f":"'SSI Inputs'!$R$20","v":175},{"$f":"'SSI Inputs'!$R$21","v":175},"D",{"$f":"'SSI Inputs'!$E$26","v":{"$error":"#VALUE!"}},{"$f":"'SSI Inputs'!$E$27","v":{"$error":"#VALUE!"}},{"$f":"'SSI Inputs'!$E$28","v":{"$error":"#VALUE!"}},{"$f":"'SSI Inputs'!$E$30","v":{"$error":"#VALUE!"}},{"$f":"'SSI Inputs'!$E$31","v":{"$error":"#VALUE!"}},{"$f":"'SSI Inputs'!$E$32","v":{"$error":"#VALUE!"}},{"$f":"'SSI Inputs'!$E$34","v":{"$error":"#VALUE!"}},{"$f":"'SSI Inputs'!$E$35","v":{"$error":"#VALUE!"}},{"$f":"'SSI Inputs'!$E$36","v":{"$error":"#VALUE!"}},{"$f":"'SSI Inputs'!$E$38","v":{"$error":"#VALUE!"}},{"$f":"'SSI Inputs'!$E$39","v":{"$error":"#VALUE!"}},{"$f":"'SSI Inputs'!$E$40","v":{"$error":"#VALUE!"}},{"$f":"'SSI Inputs'!$R$18","v":175},{"$f":"'SSI Inputs'!$R$19","v":175},{"$f":"'SSI Inputs'!$R$20","v":175},{"$f":"'SSI Inputs'!$R$21","v":175}]
[]
[]
[]
[]
[]
[]
[]
[]
[]
[]
[]
[]
[]
[]
[]
[]
[]
[]
[]
[]
[]
[]
[]
[]
[]
[]
[]
[]
[]
[]
[]
[]
[]
[]
[]
[]
[]
[]
[]
[]
[]
[]
[]
[]
[]
[]
[]
[]
[]
[]
[]
[]
[]
[]
[]
[]
[]
[]
[]
[]
[]
[]
[]
[]
[]
[]
[]
[]
[]
[]
[]
[]
[]
[]
[]
[]
[]
[]
[]
[]
[]
[]
[null,null,null,null,null,null,null,null,null,"Exposure",null,null,null,null,null,null,null,null,null,null,null,null,null,null,null,null,null,null,null,null,null,null,null,null,null,null,"Exposure-Severity-Complexity Product"]
[null,null,null,null,null,null,null,null,null,"Q1","Q2","I"]
[null,null,null,null,null,null,null,null,null,{"$f":"SUMPRODUCT($AN4:$BC4,$AN$18:$BC$18)","v":{"$error":"#VALUE!"}},{"$f":"SUMPRODUCT($BE4:$BT4,$BE$18:$BT$18)","v":{"$error":"#VALUE!"}},{"$f":"PRODUCT(J103:K103)","v":{"$error":"#VALUE!"}},null,null,null,null,null,null,null,null,null,null,null,null,null,null,null,null,null,null,null,null,null,null,null,null,{"$f":"L103*R4*AI4","v":{"$error":"#VALUE!"}}]
[null,null,null,null,null,null,null,null,null,{"$f":"SUMPRODUCT($AN5:$BC5,$AN$18:$BC$18)","v":{"$error":"#VALUE!"}},{"$f":"SUMPRODUCT($BE5:$BT5,$BE$18:$BT$18)","v":{"$error":"#VALUE!"}},{"$f":"PRODUCT(J104:K104)","v":{"$error":"#VALUE!"}},null,null,null,null,null,null,null,null,null,null,null,null,null,null,null,null,null,null,null,null,null,null,null,null,{"$f":"L104*R5*AI5","v":{"$error":"#VALUE!"}}]
[null,null,null,null,null,null,null,null,null,{"$error":"#VALUE!"},{"$error":"#VALUE!"},{"$error":"#VALUE!"},null,null,null,null,null,null,null,null,null,null,null,null,null,null,null,null,null,null,null,null,null,null,null,null,{"$error":"#VALUE!"}]
[null,null,null,null,null,null,null,null,null,{"$error":"#VALUE!"},{"$error":"#VALUE!"},{"$error":"#VALUE!"},null,null,null,null,null,null,null,null,null,null,null,null,null,null,null,null,null,null,null,null,null,null,null,null,{"$error":"#VALUE!"}]
[null,null,null,null,null,null,null,null,null,{"$error":"#VALUE!"},{"$error":"#VALUE!"},{"$error":"#VALUE!"},null,null,null,null,null,null,null,null,null,null,null,null,null,null,null,null,null,null,null,null,null,null,null,null,{"$error":"#VALUE!"}]
[null,null,null,null,null,null,null,null,null,{"$error":"#VALUE!"},{"$error":"#VALUE!"},{"$error":"#VALUE!"},null,null,null,null,null,null,null,null,null,null,null,null,null,null,null,null,null,null,null,null,null,null,null,null,{"$error":"#VALUE!"}]
[null,null,null,null,null,null,null,null,null,{"$error":"#VALUE!"},{"$error":"#VALUE!"},{"$error":"#VALUE!"},null,null,null,null,null,null,null,null,null,null,null,null,null,null,null,null,null,null,null,null,null,null,null,null,{"$error":"#VALUE!"}]
[null,null,null,null,null,null,null,null,null,{"$error":"#VALUE!"},{"$error":"#VALUE!"},{"$error":"#VALUE!"},null,null,null,null,null,null,null,null,null,null,null,null,null,null,null,null,null,null,null,null,null,null,null,null,{"$error":"#VALUE!"}]
[null,null,null,null,null,null,null,null,null,{"$error":"#VALUE!"},{"$error":"#VALUE!"},{"$error":"#VALUE!"},null,null,null,null,null,null,null,null,null,null,null,null,null,null,null,null,null,null,null,null,null,null,null,null,{"$error":"#VALUE!"}]
[null,null,null,null,null,null,null,null,null,{"$error":"#VALUE!"},{"$error":"#VALUE!"},{"$error":"#VALUE!"},null,null,null,null,null,null,null,null,null,null,null,null,null,null,null,null,null,null,null,null,null,null,null,null,{"$error":"#VALUE!"}]
[null,null,null,null,null,null,null,null,null,{"$error":"#VALUE!"},{"$error":"#VALUE!"},{"$error":"#VALUE!"},null,null,null,null,null,null,null,null,null,null,null,null,null,null,null,null,null,null,null,null,null,null,null,null,{"$error":"#VALUE!"}]
[null,null,null,null,null,null,null,null,null,{"$error":"#VALUE!"},{"$error":"#VALUE!"},{"$error":"#VALUE!"},null,null,null,null,null,null,null,null,null,null,null,null,null,null,null,null,null,null,null,null,null,null,null,null,{"$error":"#VALUE!"}]
[null,null,null,null,null,null,null,null,null,{"$error":"#VALUE!"},{"$error":"#VALUE!"},{"$error":"#VALUE!"},null,null,null,null,null,null,null,null,null,null,null,null,null,null,null,null,null,null,null,null,null,null,null,null,{"$error":"#VALUE!"}]