{"text_format":"1","workbook":"xlsx","n_sheets":59,"sheets":["Introduction","Project Information","Definitions","Control Strategy Selection","At-Grade Inputs","Ramp Terminal Inputs","RTI_Ranges","SPUI","DDI","SSI Inputs","SSI Inputs RTI","Conv_Sig","Conv_Ramp_Stop","RTI_RAB1x1","RTI_RAB2x1","RTI_RAB2x2","TUDI","Calibration","Historical","Results","SSI Results","ExistingData","CalibrationDefaults","HistoricalRTI","ResultsRTI","SSI 3L Results_Full","RTI SSI Results","RTI SSI Results_Full","SSI 4L Results_Full","ThruCut_Sig","ThruCut_Unsig","RCUT_Sig","RCUT_Unsig","Notes","User Selections","Labels","Changelog","Trad_Sig","Trad_MinorStop","Trad_AllStop","RAB1x1","RAB2x1","RAB2x2","MUT","PDLT","FDLT","QR","Jughandle","Bowtie","TradT_Sig","TradT_AWSC","TradT_MRSC","CGT","T_PDLT","T_1x1_RAB","T_2x1_RAB","T_2x2_RAB","T_RCUT_Sig","T_RCUT_Unsig"],"not_rendered":{"charts":0,"images":11,"macros":1,"external_links":0,"defined_names":634,"comments":21,"pivot_tables":0},"unopened":[],"bounds":{"document_bytes":16777216,"sheet_cells":100000,"rows_first":2000,"rows_last":500,"rows_between":2000,"halvings":0,"cell_chars":16384,"cell_head_chars":4096},"cells_cut":0,"cells_raw":0,"read":"whole","date_system":"1900"}

{"sheet":"Introduction","index":0,"n_rows":20,"n_cols":3,"rows_kept":20,"cut":false,"hidden":false,"merged":[[14,1,14,2],[3,1,3,2],[0,0,0,2],[1,0,1,2],[2,1,2,2],[5,0,5,2],[4,0,4,2],[6,0,6,2],[7,0,7,2],[10,0,10,2],[11,0,11,2],[13,0,13,2],[9,0,9,2],[8,0,8,2]]}
["Federal Highway Administration (FHWA)"]
["Safety Performance for Intersection Control Evaluation Tool"]
["Introduction","Overview"]
["The Safety Performance for Intersection Control Evaluation (SPICE) Tool was developed to provide an easy-to-use tool that automates the predictive safety analysis of intersections. This tool will allow analysts conducting Intersection Control Evaluations (ICE) to be equipped with necessary safety information during the decision-making process, without having to research a myriad of crash modification factors (CMFs) and Safety Performance Functions (SPFs) in multiple sources.  The SPICE tool will perform a comparative predictive safety analysis of different intersection control strategies. The results – crash frequency and severity for each alternative – will then enable safety performance of alternatives to be considered quantitatively like traffic operations, construction cost, maintenance cost, or other factors. ","The SPICE Tool performs safety analysis of at-grade intersection forms/control types and ramp terminal intersections of diamond interchanges. This user-friendly tool requires only data inputs that are readily available to the analyst. In addition, the SPICE tool has an option to conduct planning level analysis, where the tool assumes default values for data inputs that are challenging to obtain in the early stages of a project and/or have a very minor impact on the results.  The SPICE tool assumes that certain attributes of the intersection – AADT, facility type, and number of legs – are the same for all alternatives. If they are not, users will be required to use the tool twice to get results. The tool will not allow simultaneous evaluation of at-grade intersections and ramp terminal intersections. For projects where analysis of both intersections and interchanges is needed, users are required to use the tool twice to get results."]
["Worksheets"]
["Project Information: Provide general project information for reference purposes only."]
["Definitions: Reference sheet with additional information related to inputs for the SPICE tool."]
["Control Strategy Selection: Choose between At-Grade or Ramp Terminal intersection types to be included in the SPICE analysis."]
["At-Grade Inputs: SPF and Part C CMF inputs for At-Grade intersections (hidden if Ramp Terminals are being analyzed)."]
["Ramp Terminal Inputs: SPF and Part C CMF inputs for Ramp Terminal intersections (hidden if At-Grade intersections are being analyzed)."]
["Calibration: Input optional override values for SPF calibration factors from locally-developed or updated information. "]
["Results: Summary of opening year and (if applicable) design year and total project life cycle crash frequency and crash severity. "]
[]
["Additional Worksheets: Additional worksheets to support the underlying Macros. Not to be updated by users unless updating future tool versions. "]
["Maintenance ","Input Legend"]
["Version: SPICE Tool 4.1  [Changelog]",null,"Required data entry field"]
["Maintained By: TBD",null,"Optional data entry field"]
["Contact Information: TBD",null,"Planning-Level Default Input"]
["Disclaimer",null,"Data entry field not used"]
["Disclaimers may be added, if needed."]

{"sheet":"Project Information","index":1,"n_rows":11,"n_cols":1,"rows_kept":11,"cut":false,"hidden":false,"merged":[[10,0,16,0],[0,0,0,2],[1,0,1,2],[2,1,2,2],[7,1,7,2],[8,1,8,2],[9,1,9,2],[3,1,3,2],[4,1,4,2],[5,1,5,2],[6,1,6,2]]}
["Project Information"]
["Provide general project information for reference purposes only."]
["Project Name:"]
["Intersection:"]
["Agency: "]
["Project Reference:"]
["City:"]
["State:"]
["Date:"]
["Analyst:"]
["Use this button to clear all inputs/outputs and reset the tool to its initial defaults"]

{"sheet":"Definitions","index":2,"n_rows":61,"n_cols":19,"rows_kept":61,"cut":false,"hidden":false,"merged":[[21,2,22,2],[23,2,24,2],[25,2,26,2],[27,2,28,2],[29,2,30,2],[27,1,28,1],[29,1,30,1],[31,1,32,1],[33,1,34,1],[25,1,26,1],[16,14,17,18],[18,14,19,14],[18,15,18,16],[18,17,18,18],[0,14,0,18],[1,15,1,16],[1,17,1,18],[35,1,36,1],[31,2,32,2],[33,2,34,2],[35,2,36,2],[19,0,20,0],[21,0,22,0],[23,0,24,0],[25,0,26,0],[27,0,28,0],[29,0,30,0],[31,0,32,0],[33,0,34,0],[35,0,36,0],[19,1,20,1],[21,1,22,1],[23,1,24,1],[21,11,21,12],[20,8,20,12],[2,9,2,10],[6,0,6,5],[11,9,11,10],[11,11,11,12],[10,8,10,12],[2,8,3,8],[11,8,12,8],[13,4,13,5],[2,3,2,5],[4,0,4,5],[2,0,3,0],[2,1,3,1],[2,2,3,2],[19,2,20,2],[7,3,7,5],[0,8,0,12],[1,8,1,12],[47,2,48,2],[0,0,0,5],[1,0,1,5],[41,2,42,2],[41,0,42,0],[41,1,42,1],[43,1,44,1],[45,1,46,1],[47,1,48,1],[36,9,36,10],[36,11,36,12],[2,11,2,12],[21,9,21,10],[51,9,51,10],[51,11,51,12],[51,1,52,1],[43,0,44,0],[47,0,48,0],[45,0,46,0],[51,0,52,0],[51,2,52,2],[45,2,46,2],[43,2,44,2]]}
["Definitions",null,null,null,null,null,null,null,"At-Grade AADT Ranges for Traffic Signals and Minor Stops",null,null,null,null,null,"At-Grade AADT 1 and 2 Lane Roundabouts"]
["Definitions of values and variables required for SPICE analysis.",null,null,null,null,null,null,null,"Rural Two-Lane Highway",null,null,null,null,null,"Intersection Type","Major Road AADT",null,"Minor Road AADT"]
["User Input Variable","Units","Definition","Applicable Ranges",null,null,null,null,"Intersection Type","Major Road AADT",null,"Minor Road AADT",null,null,"1 Circulating Lane","Min","Max","Min","Max"]
[null,null,null,"Range for:","Lower Limit","Upper Limit",null,null,null,"Min","Max","Min","Max",null,"3Leg",675,17369,409,14000]
["Control Strategy Selection",null,null,null,null,null,null,null,"3ST",0,19500,0,4300,null,"4Leg",1000,19733,280,11239]
["Number of Major Street Lanes","lanes","Number of lanes on the major street (both directions - does not include turn lanes)","-","-","-",null,null,"4ST",0,14700,0,3500,null,"2 Circulating Lanes","Min","Max","Min","Max"]
["At-Grade Intersection Inputs",null,null,null,null,null,null,null,"3SG",0,23591,0,23320,null,"3Leg",1000,22050,476,15108]
["Major/Minor Road AADT","veh/day","Average annual daily traffic (AADT) volume for the major and minor street approaches (see table for ranges).","See table starting in column I (to the right).",null,null,null,null,"4SG",0,25200,0,12500,null,"4Leg",1000,28333,390,19371]
["Skew Angle","degrees","Intersecting angle between major street and minor street approaches (hover cursor for graphical representation)","-","-","-",null,null,"3AWSC","--","--","--","--"]
["Number of Major Street Through Lanes","lanes","Number of through lanes on the major street (both directions - includes shared through lanes)","-","-","-",null,null,"4AWSC",0,12983,0,9985]
["Number of Minor Street Lanes","lanes","Number of lanes on the minor street (both directions - does not include turn lanes)","-","-","-",null,null,"Rural Multilane Highway"]
["Right-turn Channelization","-","An approach is considered to have right-turn channelization when a marked or raised-curb island is present separating the turn from the adjacent movements.  A standard exclusive right-turn lane (bay) that does not have this separation is not considered channelized.","-","-","-",null,null,"Intersection Type","Major Road AADT",null,"Minor Road AADT"]
["Inscribed Circle Diameter","ft",null,"Roundabout",90,160,null,null,null,"Min","Max","Min","Max"]
["Opening Year Entering AADT","veh/day",null,"Roundabout","See Table in Column O "]
["Leg has Right-Turn Bypass","yes/no",null,"Roundabout","-","-",null,null,"3ST",0,78300,0,23000]
["Access Point within 250' of Yield Line","-",null,"Roundabout",0,8,null,null,"4ST",0,78300,0,7400]
["Entering Width","ft",null,"Roundabout",24,34,null,null,"3SG",0,56000,0,27000,null,"At-Grade AADT Ranges for Restricted Crossing U-Turn (RCUT)"]
["Number of Entering Lanes","lanes","Number of lanes entering a leg of the roundabout (hover cursor for graphical representation).","Roundabout",1,2,null,null,"4SG",0,43500,0,18500]
["Number of Circulating Lanes","lanes","Number of lanes circulating a leg of the roundabout (hover cursor for graphical representation).","Roundabout",1,2,null,null,"3AWSC","--","--","--","--",null,"Intersection Type","Major Road AADT",null,"Minor Road AADT"]
["Number of U-Turns","-","Number of U-turns of the RCUT intersection, either 1 or 2.","Signalized RCUT",1,2,null,null,"4AWSC","--","--","--","--",null,null,"Min","Max","Min","Max"]
[null,null,null,"Unsignalized RCUT",1,2,null,null,"Urban and Suburban Arterials",null,null,null,null,null,"Signalized (3 & 4-leg)",9700,65500,1000,18218]
["Number of Major Road Lanes","lanes","Number of lanes on the major approach of the RCUT.  The highest number across both approaches was chosen (e.g. if one approach has 1 lane, and the other has 2, then 2 is chosen as the number of lanes).","Signalized RCUT",2,3,null,null,"Intersection Type","Major Road AADT",null,"Minor Road AADT",null,null,"Unsignalized (3 & 4-leg)",2950,47722,40,11500]
[null,null,null,"Unsignalized RCUT","-","-",null,null,"2x2 5 or Fewer Lanes","Min","Max","Min","Max"]
["Number of Minor Road Lanes","lanes","Number of lanes on the minor approach of the RCUT.  If the RCUT has two minor approaches, the highest number across both approaches is chosen.","Signalized RCUT",1,3,null,null,"3ST",0,45700,0,9300]
[null,null,null,"Unsignalized RCUT","-","-",null,null,"4ST",0,46800,0,5900]
["Total Offset Distance","ft","The total distance between the center of the intersetion and the U-turn locations (e.g. if one approach has 800 ft. offset and the other one has 600 ft., then the total offset distance is 1400 ft.).","Signalized RCUT",650,2675,null,null,"3SG",0,58100,0,16400]
[null,null,null,"Unsignalized RCUT",600,5575,null,null,"4SG",0,67700,0,33400]
["Number of Driveways","-","The number of driveways within the whole footprint (including intersection center, U-turns, and segment between intersection center and U-turns) of the RCUT intersection.","Signalized RCUT",0,10,null,null,"3AWSC",0,20131,0,11000]
[null,null,null,"Unsignalized RCUT",0,6,null,null,"4AWSC",0,12955,0,11982]
["Total Deceleration Lane Length","ft","The total length of the deceleration lanes before U-turn locations (e.g. if one approach has 400 ft. deceleration lane and the other one has 250 ft., then total deceleration lane length is 650 ft.).","Signalized RCUT",300,2300,null,null,"2x2 6+ Lanes","Min","Max","Min","Max"]
[null,null,null,"Unsignalized RCUT",0,1525,null,null,"3ST",0,66800,0,8600]
["Total Acceleration Lane Length","ft","The maximum length of the acceleration lanes before U-turn locations (e.g. if one approach has 400 ft. acceleration lane and the other one has 250 ft., then 400 ft. is chosen as maximum acceleration lane length).","Signalized RCUT","-","-",null,null,"4ST",0,54600,0,4600]
[null,null,null,"Unsignalized RCUT",1,1600,null,null,"3SG",0,94000,0,31000]
["Total Median Width","ft","The total median width of the major approaches (e.g. if one approach has 40 ft. median and the other one has 25 ft., then total median width is 65 ft.).","Signalized RCUT",0,145,null,null,"4SG",0,137600,0,68400]
[null,null,null,"Unsignalized RCUT","-","-",null,null,"3AWSC","--","--","--","--"]
["Maximum Median Width","ft","The maximum median width of the major approaches (e.g. if one approach has 40 ft. median and the other one has 25 ft., then 40 ft. is chosen as maximum median width).","Signalized RCUT","-","-",null,null,"4AWSC","--","--","--","--"]
[null,null,null,"Unsignalized RCUT",0,150,null,null,"Intersection Type","Major Road AADT",null,"Minor Road AADT"]
["Number of Left-Turn Lanes From Major Road","lanes","The maximum number of left turn lanes from major approach to minor approach.","Signalized RCUT",1,3,null,null,"1x2","Min","Max","Min","Max"]
["Major Road Speed Limit","mph","Major approach speed limit.","Signalized RCUT",35,70,null,null,"3ST",0,42700,0,13400]
["Ramp Terminal Intersection Inputs",null,null,null,null,null,null,null,"4ST",0,23400,0,19200]
["Crossroad","-","References the major street of the ramp terminal intersection (i.e., the non-ramp terminal legs)","-","-","-",null,null,"3SG",0,43800,0,58800]
["Crossroad AADT - Inside Leg","veh/day","AADT volume of the crossroad leg located between the two ramp terminals of the interchange","Stop-Controlled",0,14000,null,null,"4SG",0,77000,0,98900]
[null,null,null,"Signalized",14000,60000,null,null,"3AWSC","--","--","--","--"]
["Crossroad AADT - Outside Leg","veh/day","AADT volume of the crossroad leg located outside of the interchange","Stop-Controlled",0,14000,null,null,"4AWSC","--","--","--","--"]
[null,null,null,"Signalized",14000,60000,null,null,"1x1","Min","Max","Min","Max"]
["Ramp AADT - Exit","veh/day","AADT volume of the exit ramp","Stop-Controlled",0,10000,null,null,"3ST",0,16900,0,11100]
[null,null,null,"Signalized",0,31000,null,null,"4ST",0,11000,0,6800]
["Ramp AADT - Entrance","veh/day","AADT volume of the entrance ramp","Stop-Controlled",0,10000,null,null,"3SG",0,20100,0,7500]
[null,null,null,"Signalized",0,31000,null,null,"4SG",0,24300,0,16900]
["Exit Ramp Skew Angle","degrees","Skew angle equals 90 minus the intersection angle (in degrees) (hover cursor for graphical representation).","Stop-Controlled",0,70,null,null,"3AWSC","--","--","--","--"]
["Presence of Non-Ramp Public Street Leg","yes/no","Any ramp that has a fourth leg that: (1) is a public street serving two-way traffic and (2) intersects with the crossroad at the terminal. At most ramp terminals, the public street leg will be on the opposite side of the crossroad from the exit ramp.","-","-","-",null,null,"4AWSC","--","--","--","--"]
["Effective number of lanes serving exit ramp","lanes","Varies depending on exit ramp configuration (hover cursor for graphical representation of nex,eff)","Stop-Controlled",1,2,null,null,"Intersection Type","Major Road AADT",null,"Minor Road AADT"]
[null,null,null,"Signalized",1,4,null,null,"High Speed (55+ mph)","Min","Max","Min","Max"]
["Median Width","ft","Width of crossroad median measured from near edges of traveled way in both travel directions (hover cursor for graphical representation)","All",0,50,null,null,"3ST",0,58594,0,11335]
["Left-turn lane (bay) Width for crossroad leg","ft","Width of crossroad left-turn lane (hover cursor for graphical representation)","All",0,26,null,null,"4ST",0,59000,0,29800]
["Number of through traffic lanes that oppose the left-turn movement on the inside crossroad leg","lanes","Number of through lanes on crossroad outside leg that oppose crossroad inside leg left-turn movement","-","-","-",null,null,"3SG",0,47200,0,11282]
[{"$f":"'Ramp Terminal Inputs'!A30","v":"Distance (mi) to the adjacent ramp terminal"},"miles","Distance between subject ramp terminal and adjacent ramp terminal; measured along the crossroad from terminal center to terminal center (mi).","-","-","-",null,null,"4SG",0,59800,0,30029]
[{"$f":"'Ramp Terminal Inputs'!A31","v":"Distance (mi) to the next public street intersection on the outside crossroad leg"},"miles","Distance between subject ramp terminal and nearest public road intersection in a direction away form freeway; measured along the crossroad form terminal center to intersection center (mi).","-","-","-",null,null,"3AWSC","--","--","--","--"]
["Protected operation for crossroad leg","yes/no","\"Yes\" if a crossroad leg (inside or outside) has protected left-turn operation.  \"No\" if the crossroad leg has permissive or permissive-protected operation",null,null,null,null,null,"4AWSC","--","--","--","--"]
["Crossroad AADT - Single Point Diamond","veh/day","AADT volume for the crossroad. Not a required direct input of the SPICE tool, but is determined automatically as the maximum of the outside leg AADT values.","-",14000,70000]
["Ramp AADT - Single Point Diamond","veh/day","Sum of AADT volumes for all four ramps. Not a required direct input of the SPICE tool, this summation is done automatically.","-",14000,80000]

{"sheet":"Control Strategy Selection","index":3,"n_rows":71,"n_cols":24,"rows_kept":71,"cut":false,"hidden":false,"merged":[[17,1,17,2],[4,0,4,2],[5,0,5,2],[6,0,6,2],[7,0,7,2],[8,0,8,2],[13,0,13,2],[14,0,14,2],[15,0,15,2],[12,0,12,2],[0,0,0,7],[1,0,1,7],[16,0,16,4],[3,0,3,2],[9,0,9,2],[10,0,10,2],[11,0,11,2],[2,0,2,2],[4,4,4,7],[5,4,5,7],[12,4,12,7],[13,4,13,7],[14,4,14,7],[15,4,15,7],[7,4,10,7],[11,4,11,7],[18,1,18,2],[20,1,20,2],[21,1,21,2],[22,1,22,2],[23,1,23,2],[19,1,19,2],[69,1,69,2],[70,1,70,2],[60,1,60,2],[61,1,61,2],[63,1,63,2],[64,1,64,2],[62,1,62,2],[66,1,66,2],[67,1,67,2],[65,1,65,2],[68,1,68,2],[17,4,17,5],[17,6,17,7],[52,0,52,2],[53,0,53,2],[50,0,50,2],[44,0,44,2],[49,0,49,2],[51,0,51,2],[47,0,47,2],[48,0,48,2],[45,0,45,2],[33,1,33,2],[34,1,34,2],[25,1,25,2],[26,1,26,2],[27,1,27,2],[60,4,60,5],[60,6,60,7],[59,0,59,7],[32,1,32,2],[24,1,24,2],[54,0,54,2],[55,0,55,2],[56,0,56,2],[31,1,31,2],[28,1,28,2],[29,1,29,2],[30,1,30,2]]}
["Control Strategy Selection and Inputs"]
["Specify the Facility Level Inputs and the Control Strategies to be included in the SPICE Analysis."]
["Intersection Type",null,null,"At-Grade Intersection"]
["Analysis Year",null,null,"Opening and Design Year"]
["Opening Year",null,null,2025,{"$f":"IF(NOT(ISNUMBER(Input_OpenYear)),\"Please specify a valid Opening Year\",\"\")","v":""}]
["Design Year",null,null,2045,{"$f":"IF(Input_AnalysisYearType=Label_AnalysisYearType_OpenAndDesign,IF(NOT(ISNUMBER(Input_DesignYear)),\"Please specify a valid Design Year\",IF(Input_OpenYear>=Input_DesignYear,\"The Design Year must be later than the Opening Year\",\"\")),\"\")","v":""}]
[]
["Facility Type",null,null,"On Urban and Suburban Arterial","For more information on how to determine these values, see the \"Definitions\" worksheet"]
["Number of Legs",null,null,"4-leg"]
["1-Way/2-Way",null,null,"2-way Intersecting 2-way"]
["# of Major Street Lanes (both directions)",null,null,"5 or fewer"]
["Major Street Approach Speed",null,null,"Less than 55 mph"]
["Opening Year - Major Road AADT",null,null,18000,{"$f":"IF(Input_Base_OAADTMajor=\"\", \"Please specify a non-zero AADT value\",\"\")","v":""}]
["Opening Year - Minor Road AADT",null,null,8000,{"$f":"IF(Input_Base_OAADTMinor=\"\", \"Please specify a non-zero AADT value\",\"\")","v":""}]
["Design Year - Major Road AADT",null,null,20000,{"$f":"IF(AND(Input_AnalysisYearType=Label_AnalysisYearType_OpenAndDesign,Input_Base_DAADTMajor=\"\"), \"Please specify a non-zero AADT value\",\"\")","v":""}]
["Design Year - Minor Road AADT",null,null,10000,{"$f":"IF(AND(Input_AnalysisYearType=Label_AnalysisYearType_OpenAndDesign,Input_Base_DAADTMinor=\"\"), \"Please specify a non-zero AADT value\",\"\")","v":""}]
[null,null,null,null,null,null,null,null,null,null,null,null,null,null,"AADT Within Range?"]
["Control Strategy","Include",null,"Base Intersection",null,null,null,null,null,null,null,null,null,null,"Opening","Design"]
["Traffic Signal","Yes",null,"--",{"$f":"IF(NOT(ISNUMBER(K19)),\"No SPF Available\",IF(O19,\"\",\"Opening Year AADT Outside of SPF Development Range\"))","v":""},null,{"$f":"IF(NOT(ISNUMBER(M19)),\"No SPF\",IF(Input_AnalysisYearType=Label_AnalysisYearType_OpenAndDesign,IF(P19,\"\",\"Design Year AADT Outside of SPF Development Range\"),\"\"))","v":""},null,{"$f":"IF(Input_FacilityType=FacilityType_Label_Rural2Ln,1,IF(Input_FacilityType=FacilityType_Label_RuralMultiLn,2,IF(Input_FacilityType=FacilityType_Label_Urban,IF(Input_1Way2Way=Notes!$A$54,IF(Input_MajorApproachSpeed=Notes!$A$67,7,IF(Input_NumMajorLanes=Notes!$A$60,3,4)),IF(Input_1Way2Way=Notes!$A$55,5,6)))))","v":3},{"$f":"IF(Input_NumLegs=Notes!$A$49,\"4\",\"3\")&\"SG\"","v":"4SG"},{"$f":"VLOOKUP($J19,IF($I19=7,Range_USA_HS,IF($I19=6,Range_USA_1x1,IF($I19=5,Range_USA_1x2,IF($I19=4,Range_USA_2x2_6P,IF($I19=3,Range_USA_2x2_5F,IF($I19=2,Range_RML, Range_R2L)))))),2,FALSE)","v":0},{"$f":"VLOOKUP($J19,IF($I19=7,Range_USA_HS,IF($I19=6,Range_USA_1x1,IF($I19=5,Range_USA_1x2,IF($I19=4,Range_USA_2x2_6P,IF($I19=3,Range_USA_2x2_5F,IF($I19=2,Range_RML, Range_R2L)))))),3,FALSE)","v":67700},{"$f":"VLOOKUP($J19,IF($I19=7,Range_USA_HS,IF($I19=6,Range_USA_1x1,IF($I19=5,Range_USA_1x2,IF($I19=4,Range_USA_2x2_6P,IF($I19=3,Range_USA_2x2_5F,IF($I19=2,Range_RML, Range_R2L)))))),4,FALSE)","v":0},{"$f":"VLOOKUP($J19,IF($I19=7,Range_USA_HS,IF($I19=6,Range_USA_1x1,IF($I19=5,Range_USA_1x2,IF($I19=4,Range_USA_2x2_6P,IF($I19=3,Range_USA_2x2_5F,IF($I19=2,Range_RML, Range_R2L)))))),5,FALSE)","v":33400},{"$f":"AND(Input_Base_OAADTMajor>=K19,Input_Base_OAADTMajor<=L19,Input_Base_OAADTMinor>=M19,Input_Base_OAADTMinor<=N19)","v":true},{"$f":"AND(Input_Base_DAADTMajor>=K19,Input_Base_DAADTMajor<=L19,Input_Base_DAADTMinor>=M19,Input_Base_DAADTMinor<=N19)","v":true}]
["Traffic Signal (Alternative Configuration)","No",null,"--","",null,"",null,{"$f":"IF(Input_FacilityType=FacilityType_Label_Rural2Ln,1,IF(Input_FacilityType=FacilityType_Label_RuralMultiLn,2,IF(Input_FacilityType=FacilityType_Label_Urban,IF(Input_1Way2Way=Notes!$A$54,IF(Input_MajorApproachSpeed=Notes!$A$67,7,IF(Input_NumMajorLanes=Notes!$A$60,3,4)),IF(Input_1Way2Way=Notes!$A$55,5,6)))))","v":3},{"$f":"IF(Input_NumLegs=Notes!$A$49,\"4\",\"3\")&\"SG\"","v":"4SG"},{"$f":"VLOOKUP($J20,IF($I20=7,Range_USA_HS,IF($I20=6,Range_USA_1x1,IF($I20=5,Range_USA_1x2,IF($I20=4,Range_USA_2x2_6P,IF($I20=3,Range_USA_2x2_5F,IF($I20=2,Range_RML, Range_R2L)))))),2,FALSE)","v":0},{"$f":"VLOOKUP($J20,IF($I20=7,Range_USA_HS,IF($I20=6,Range_USA_1x1,IF($I20=5,Range_USA_1x2,IF($I20=4,Range_USA_2x2_6P,IF($I20=3,Range_USA_2x2_5F,IF($I20=2,Range_RML, Range_R2L)))))),3,FALSE)","v":67700},{"$f":"VLOOKUP($J20,IF($I20=7,Range_USA_HS,IF($I20=6,Range_USA_1x1,IF($I20=5,Range_USA_1x2,IF($I20=4,Range_USA_2x2_6P,IF($I20=3,Range_USA_2x2_5F,IF($I20=2,Range_RML, Range_R2L)))))),4,FALSE)","v":0},{"$f":"VLOOKUP($J20,IF($I20=7,Range_USA_HS,IF($I20=6,Range_USA_1x1,IF($I20=5,Range_USA_1x2,IF($I20=4,Range_USA_2x2_6P,IF($I20=3,Range_USA_2x2_5F,IF($I20=2,Range_RML, Range_R2L)))))),5,FALSE)","v":33400},true,true]
["Minor Road Stop","Yes",null,"--","Opening Year AADT Outside of SPF Development Range",null,"Design Year AADT Outside of SPF Development Range",null,{"$f":"IF(Input_FacilityType=FacilityType_Label_Rural2Ln,1,IF(Input_FacilityType=FacilityType_Label_RuralMultiLn,2,IF(Input_FacilityType=FacilityType_Label_Urban,IF(Input_1Way2Way=Notes!$A$54,IF(Input_MajorApproachSpeed=Notes!$A$67,7,IF(Input_NumMajorLanes=Notes!$A$60,3,4)),IF(Input_1Way2Way=Notes!$A$55,5,6)))))","v":3},{"$f":"IF(Input_NumLegs=Notes!$A$49,\"4\",\"3\")&\"ST\"","v":"4ST"},{"$f":"VLOOKUP($J21,IF($I21=7,Range_USA_HS,IF($I21=6,Range_USA_1x1,IF($I21=5,Range_USA_1x2,IF($I21=4,Range_USA_2x2_6P,IF($I21=3,Range_USA_2x2_5F,IF($I21=2,Range_RML, Range_R2L)))))),2,FALSE)","v":0},{"$f":"VLOOKUP($J21,IF($I21=7,Range_USA_HS,IF($I21=6,Range_USA_1x1,IF($I21=5,Range_USA_1x2,IF($I21=4,Range_USA_2x2_6P,IF($I21=3,Range_USA_2x2_5F,IF($I21=2,Range_RML, Range_R2L)))))),3,FALSE)","v":46800},{"$f":"VLOOKUP($J21,IF($I21=7,Range_USA_HS,IF($I21=6,Range_USA_1x1,IF($I21=5,Range_USA_1x2,IF($I21=4,Range_USA_2x2_6P,IF($I21=3,Range_USA_2x2_5F,IF($I21=2,Range_RML, Range_R2L)))))),4,FALSE)","v":0},{"$f":"VLOOKUP($J21,IF($I21=7,Range_USA_HS,IF($I21=6,Range_USA_1x1,IF($I21=5,Range_USA_1x2,IF($I21=4,Range_USA_2x2_6P,IF($I21=3,Range_USA_2x2_5F,IF($I21=2,Range_RML, Range_R2L)))))),5,FALSE)","v":5900},false,false]
["All Way Stop","Yes",null,"--","Opening Year AADT Outside of SPF Development Range",null,"Design Year AADT Outside of SPF Development Range",null,{"$f":"IF(Input_FacilityType=FacilityType_Label_Rural2Ln,1,IF(Input_FacilityType=FacilityType_Label_RuralMultiLn,2,IF(Input_FacilityType=FacilityType_Label_Urban,IF(Input_1Way2Way=Notes!$A$54,IF(Input_MajorApproachSpeed=Notes!$A$67,7,IF(Input_NumMajorLanes=Notes!$A$60,3,4)),IF(Input_1Way2Way=Notes!$A$55,5,6)))))","v":3},{"$f":"IF(Input_NumLegs=Notes!$A$49,\"4\",\"3\")&\"AWSC\"","v":"4AWSC"},{"$f":"VLOOKUP($J22,IF($I22=7,Range_USA_HS,IF($I22=6,Range_USA_1x1,IF($I22=5,Range_USA_1x2,IF($I22=4,Range_USA_2x2_6P,IF($I22=3,Range_USA_2x2_5F,IF($I22=2,Range_RML, Range_R2L)))))),2,FALSE)","v":0},{"$f":"VLOOKUP($J22,IF($I22=7,Range_USA_HS,IF($I22=6,Range_USA_1x1,IF($I22=5,Range_USA_1x2,IF($I22=4,Range_USA_2x2_6P,IF($I22=3,Range_USA_2x2_5F,IF($I22=2,Range_RML, Range_R2L)))))),3,FALSE)","v":12955},{"$f":"VLOOKUP($J22,IF($I22=7,Range_USA_HS,IF($I22=6,Range_USA_1x1,IF($I22=5,Range_USA_1x2,IF($I22=4,Range_USA_2x2_6P,IF($I22=3,Range_USA_2x2_5F,IF($I22=2,Range_RML, Range_R2L)))))),4,FALSE)","v":0},{"$f":"VLOOKUP($J22,IF($I22=7,Range_USA_HS,IF($I22=6,Range_USA_1x1,IF($I22=5,Range_USA_1x2,IF($I22=4,Range_USA_2x2_6P,IF($I22=3,Range_USA_2x2_5F,IF($I22=2,Range_RML, Range_R2L)))))),5,FALSE)","v":11982},false,false]
["1-Lane Roundabout","Yes",null,"--","",null,"Design Year AADT Outside of SPF Development Range",null,{"$f":"IF(Input_FacilityType=FacilityType_Label_Rural2Ln,1,IF(Input_FacilityType=FacilityType_Label_RuralMultiLn,2,IF(Input_FacilityType=FacilityType_Label_Urban,IF(Input_1Way2Way=Notes!$A$54,IF(Input_MajorApproachSpeed=Notes!$A$67,7,IF(Input_NumMajorLanes=Notes!$A$60,3,4)),IF(Input_1Way2Way=Notes!$A$55,5,6)))))","v":3},{"$f":"IF(Input_NumLegs=Notes!$A$49,\"4\",\"3\")&\"Leg\"","v":"4Leg"},{"$f":"VLOOKUP($J23,Range_RAB1,2,FALSE)","v":1000},{"$f":"VLOOKUP($J23,Range_RAB1,3,FALSE)","v":19733},{"$f":"VLOOKUP($J23,Range_RAB1,4,FALSE)","v":280},{"$f":"VLOOKUP($J23,Range_RAB1,5,FALSE)","v":11239},true,false]
["2-Lane Roundabout","Yes",null,"--","",null,"",null,{"$f":"IF(Input_FacilityType=FacilityType_Label_Rural2Ln,1,IF(Input_FacilityType=FacilityType_Label_RuralMultiLn,2,IF(Input_FacilityType=FacilityType_Label_Urban,IF(Input_1Way2Way=Notes!$A$54,IF(Input_MajorApproachSpeed=Notes!$A$67,7,IF(Input_NumMajorLanes=Notes!$A$60,3,4)),IF(Input_1Way2Way=Notes!$A$55,5,6)))))","v":3},{"$f":"IF(Input_NumLegs=Notes!$A$49,\"4\",\"3\")&\"Leg\"","v":"4Leg"},{"$f":"VLOOKUP($J24,Range_RAB2,2,FALSE)","v":1000},{"$f":"VLOOKUP($J24,Range_RAB2,3,FALSE)","v":28333},{"$f":"VLOOKUP($J24,Range_RAB2,4,FALSE)","v":390},{"$f":"VLOOKUP($J24,Range_RAB2,5,FALSE)","v":19371},true,true]
["Displaced Left Turn (DLT)","Yes",null,"Traffic Signal"]
["Median U-Turn (MUT)","Yes",null,"Traffic Signal"]
["Signalized Restricted Crossing U-Turn (RCUT)","Yes",null,"--",{"$f":"IF(NOT(ISNUMBER(K27)),\"No SPF Available\",IF(NOT(O27),\"Opening Year AADT Outside of SPF Development Range\", IF(NOT(AND(Range_SRCUT_OAADT_Ratio)),\"Open Major/Minor AADT Ratio Outside of SPF Development Range\",\"\")))","v":""},null,{"$f":"IF(NOT(ISNUMBER(M27)),\"No SPF\",IF(Input_AnalysisYearType=Label_AnalysisYearType_OpenAndDesign,IF(NOT(P27),\"Design Year AADT Outside of SPF Development Range\",IF(NOT(AND(Range_SRCUT_DAADT_Ratio)),\"Design Major/Minor AADT Ratio Outside of SPF Development Range\",\"\")),\"\"))","v":""},null,null,null,{"$f":"Definitions!P21","v":9700},{"$f":"Definitions!Q21","v":65500},{"$f":"Definitions!R21","v":1000},{"$f":"Definitions!S21","v":18218},{"$f":"AND(Input_Base_OAADTMajor>=K27,Input_Base_OAADTMajor<=L27,Input_Base_OAADTMinor>=M27,Input_Base_OAADTMinor<=N27)","v":true},{"$f":"AND(Input_Base_DAADTMajor>=K27,Input_Base_DAADTMajor<=L27,Input_Base_DAADTMinor>=M27,Input_Base_DAADTMinor<=N27)","v":true}]
["Unsignalized Restricted Crossing U-Turn (RCUT)","Yes",null,"--",{"$f":"IF(NOT(ISNUMBER(K28)),\"No SPF Available\",IF(O28,\"\",\"Opening Year AADT Outside of SPF Development Range\"))","v":""},null,{"$f":"IF(NOT(ISNUMBER(M28)),\"No SPF\",IF(Input_AnalysisYearType=Label_AnalysisYearType_OpenAndDesign,IF(P28,\"\",\"Design Year AADT Outside of SPF Development Range\"),\"\"))","v":""},null,null,null,{"$f":"Definitions!P22","v":2950},{"$f":"Definitions!Q22","v":47722},{"$f":"Definitions!R22","v":40},{"$f":"Definitions!S22","v":11500},{"$f":"AND(Input_Base_OAADTMajor>=K28,Input_Base_OAADTMajor<=L28,Input_Base_OAADTMinor>=M28,Input_Base_OAADTMinor<=N28)","v":true},{"$f":"AND(Input_Base_DAADTMajor>=K28,Input_Base_DAADTMajor<=L28,Input_Base_DAADTMinor>=M28,Input_Base_DAADTMinor<=N28)","v":true}]
["Signalized Thru-Cut*","No",null,"--","*SSI Only, No Crash Prediction Available"]
["Unsignalized Thru-Cut*","No",null,"--","*SSI Only, No Crash Prediction Available"]
["Bowtie*","No",null,"--","*SSI Only, No Crash Prediction Available"]
["Continuous Green-T Intersection","No",null,"Traffic Signal"]
["Jughandle","Yes",null,"Traffic Signal"]
["Other 1*","No",null,"Traffic Signal","*Please Select"]
["Other 2*","No",null,"Minor Road Stop","*Please Select"]
[null,null,{"$f":"IF(OR(Input_Include_R2=\"Yes\",Input_Include_DLT=\"Yes\",Input_Include_MUT=\"Yes\",Input_Include_SRCUT=\"Yes\",Input_Include_URCUT=\"Yes\",Input_Include_SigThruCut=\"Yes\",Input_Include_UnsigThruCut=\"Yes\",Input_Include_CGT=\"Yes\"),\"TRUE\",\"FALSE\")","v":"TRUE"}]
[]
[]
[]
[]
[]
[]
[]
[]
["Freeway Orientation",null,null,"North-South"]
["Area Type",null,null,"Urban"]
[]
["Opening Year AADT",null,null,{"$f":"IF($D$45=Notes!$J$26,\"NB\",\"EB\") & \" Ramp Terminal\"","v":"NB Ramp Terminal"},{"$f":"IF($D$45=Notes!$J$26,\"SB\",\"WB\") & \" Ramp Terminal\"","v":"SB Ramp Terminal"}]
["Crossroad - Inside Leg",null,null,12000,15000]
["Crossroad - Outside Leg",null,null,10000,15000]
["Exit Ramp",null,null,4500,4500]
["Entrance Ramp",null,null,3000,3000]
["Design Year AADT",null,null,{"$f":"IF($D$45=Notes!$J$26,\"NB\",\"EB\") & \" Ramp Terminal\"","v":"NB Ramp Terminal"},{"$f":"IF($D$45=Notes!$J$26,\"SB\",\"WB\") & \" Ramp Terminal\"","v":"SB Ramp Terminal"}]
["Crossroad - Inside Leg",null,null,30000,30000]
["Crossroad - Outside Leg",null,null,31000,29000]
["Exit Ramp",null,null,5000,5000]
["Entrance Ramp",null,null,3250,3250]
[]
[]
["Ramp Terminal Intersections",null,null,null,null,null,null,null,null,null,"XRD IN",null,"XRD Out",null,"EXIT",null,"ENTR",null,"Terminal 1",null,"Terminal 2",null,"AADT Within Range?"]
["Traffic Control (both intersections)","Include",null,"Base Intersection",null,null,null,null,null,null,"Min","Max","Min","Max","Min","Max","Min","Max","Opening","Design","Opening","Design","Opening","Design"]
["Signalized Diamond","Yes",null,"--",{"$f":"IF(NOT(ISNUMBER(K62)),\"No SPF Available\",IF(OR(NOT(IsChecked_RTI_D4TS),W62),\"\",\"Opening Year AADT Outside of SPF Development Range\"))","v":"Opening Year AADT Outside of SPF Development Range"},null,{"$f":"IF(NOT(ISNUMBER(L62)),\"No SPF Available\",IF(OR(NOT(Input_AnalysisYearType=Label_AnalysisYearType_OpenAndDesign),NOT(IsChecked_RTI_D4TS),X62),\"\",\"Design Year AADT Outside of SPF Development Range\"))","v":""},null,null,null,{"$f":"Definitions!E43","v":14000},{"$f":"Definitions!F43","v":60000},{"$f":"Definitions!E45","v":14000},{"$f":"Definitions!F45","v":60000},{"$f":"Definitions!E47","v":0},{"$f":"Definitions!F47","v":31000},{"$f":"Definitions!E49","v":0},{"$f":"Definitions!F49","v":31000},{"$f":"AND(Input_RTI_OAADTIn1>=K62,Input_RTI_OAADTIn1<=L62,Input_RTI_OAADTOut1>=M62,Input_RTI_OAADTOut1<=N62,Input_RTI_OAADTEx1>=O62,Input_RTI_OAADTEx1<=P62,Input_RTI_OAADTEn1>=Q62,Input_RTI_OAADTEn1<=R62)","v":false},{"$f":"AND(Input_RTI_DAADTIn1>=K62,Input_RTI_DAADTIn1<=L62,Input_RTI_DAADTOut1>=M62,Input_RTI_DAADTOut1<=N62,Input_RTI_DAADTEx1>=O62,Input_RTI_DAADTEx1<=P62,Input_RTI_DAADTEn1>=Q62,Input_RTI_DAADTEn1<=R62)","v":true},{"$f":"AND(Input_RTI_OAADTIn2>=K62,Input_RTI_OAADTIn2<=L62,Input_RTI_OAADTOut2>=M62,Input_RTI_OAADTOut2<=N62,Input_RTI_OAADTEx2>=O62,Input_RTI_OAADTEx2<=P62,Input_RTI_OAADTEn2>=Q62,Input_RTI_OAADTEn2<=R62)","v":true},{"$f":"AND(Input_RTI_DAADTIn2>=K62,Input_RTI_DAADTIn2<=L62,Input_RTI_DAADTOut2>=M62,Input_RTI_DAADTOut2<=N62,Input_RTI_DAADTEx2>=O62,Input_RTI_DAADTEx2<=P62,Input_RTI_DAADTEn2>=Q62,Input_RTI_DAADTEn2<=R62)","v":true},{"$f":"AND(S62,U62)","v":false},{"$f":"AND(T62,V62)","v":true}]
["Signalized Diamond (Alt)","Yes",null,"--",{"$f":"IF(NOT(ISNUMBER(K63)),\"No SPF Available\",IF(OR(NOT(IsChecked_RTI_D4TSA),W63),\"\",\"Opening Year AADT Outside of SPF Development Range\"))","v":"Opening Year AADT Outside of SPF Development Range"},null,{"$f":"IF(NOT(ISNUMBER(L63)),\"No SPF Available\",IF(OR(NOT(Input_AnalysisYearType=Label_AnalysisYearType_OpenAndDesign),NOT(IsChecked_RTI_D4TSA),X63),\"\",\"Design Year AADT Outside of SPF Development Range\"))","v":""},null,null,null,{"$f":"K62","v":14000},{"$f":"L62","v":60000},14000,60000,0,31000,0,31000,{"$f":"S62","v":false},{"$f":"T62","v":true},{"$f":"U62","v":true},{"$f":"V62","v":true},{"$f":"W62","v":false},{"$f":"X62","v":true}]
["Diverging Diamond","No",null,"--"]
["Single-Point Diamond","Yes",null,"--",{"$f":"IF(NOT(ISNUMBER(K65)),\"No SPF Available\",IF(OR(NOT(IsChecked_RTI_D4MS),W65),\"\",\"Opening Year AADT Outside of SPF Development Range\"))","v":""},null,{"$f":"IF(NOT(ISNUMBER(L65)),\"No SPF Available\",IF(OR(NOT(Input_AnalysisYearType=Label_AnalysisYearType_OpenAndDesign),NOT(IsChecked_RTI_D4MS),X65),\"\",\"Design Year AADT Outside of SPF Development Range\"))","v":""},null,null,null,14000,70000,14000,70000,14000,80000,14000,80000,"*14k<=Xrd<=70k, 14k<=sum all ramp <=80000",null,null,null,{"$f":"AND(MAX(D50:E50) >= 14000, MAX(D50:E50) <= 70000, SUM(D51:E52)>=14000, SUM(D51:E52)<=80000)","v":true},{"$f":"AND(MAX(D55:E55) <= 70000,SUM(D56:E57)<=80000)","v":true}]
["Unsignalized Diamond","Yes",null,"--",{"$f":"IF(NOT(ISNUMBER(K66)),\"No SPF Available\",IF(OR(NOT(IsChecked_RTI_D4MS),W66),\"\",\"Opening Year AADT Outside of SPF Development Range\"))","v":"Opening Year AADT Outside of SPF Development Range"},null,{"$f":"IF(NOT(ISNUMBER(L66)),\"No SPF Available\",IF(OR(NOT(Input_AnalysisYearType=Label_AnalysisYearType_OpenAndDesign),NOT(IsChecked_RTI_D4MS),X66),\"\",\"Design Year AADT Outside of SPF Development Range\"))","v":"Design Year AADT Outside of SPF Development Range"},null,null,null,{"$f":"Definitions!E42","v":0},{"$f":"Definitions!F42","v":14000},{"$f":"Definitions!E44","v":0},{"$f":"Definitions!F44","v":14000},{"$f":"Definitions!E46","v":0},{"$f":"Definitions!F46","v":10000},{"$f":"Definitions!E48","v":0},{"$f":"Definitions!F48","v":10000},{"$f":"AND(Input_RTI_OAADTIn1>=K66,Input_RTI_OAADTIn1<=L66,Input_RTI_OAADTOut1>=M66,Input_RTI_OAADTOut1<=N66,Input_RTI_OAADTEx1>=O66,Input_RTI_OAADTEx1<=P66,Input_RTI_OAADTEn1>=Q66,Input_RTI_OAADTEn1<=R66)","v":true},{"$f":"AND(Input_RTI_DAADTIn1>=K66,Input_RTI_DAADTIn1<=L66,Input_RTI_DAADTOut1>=M66,Input_RTI_DAADTOut1<=N66,Input_RTI_DAADTEx1>=O66,Input_RTI_DAADTEx1<=P66,Input_RTI_DAADTEn1>=Q66,Input_RTI_DAADTEn1<=R66)","v":false},{"$f":"AND(Input_RTI_OAADTIn2>=K66,Input_RTI_OAADTIn2<=L66,Input_RTI_OAADTOut2>=M66,Input_RTI_OAADTOut2<=N66,Input_RTI_OAADTEx2>=O66,Input_RTI_OAADTEx2<=P66,Input_RTI_OAADTEn2>=Q66,Input_RTI_OAADTEn2<=R66)","v":false},{"$f":"AND(Input_RTI_DAADTIn2>=K66,Input_RTI_DAADTIn2<=L66,Input_RTI_DAADTOut2>=M66,Input_RTI_DAADTOut2<=N66,Input_RTI_DAADTEx2>=O66,Input_RTI_DAADTEx2<=P66,Input_RTI_DAADTEn2>=Q66,Input_RTI_DAADTEn2<=R66)","v":false},{"$f":"AND(S66,U66)","v":false},false]
["1-lane Roundabout","Yes",null,"--",{"$f":"IF(NOT(ISNUMBER(K67)),\"No SPF Available\",IF(OR(NOT(IsChecked_RTI_D4MS),W67),\"\",\"Opening Year AADT Outside of SPF Development Range\"))","v":""},null,{"$f":"IF(NOT(ISNUMBER(L67)),\"No SPF Available\",IF(OR(NOT(Input_AnalysisYearType=Label_AnalysisYearType_OpenAndDesign),NOT(IsChecked_RTI_D4MS),X67),\"\",\"Design Year AADT Outside of SPF Development Range\"))","v":"Design Year AADT Outside of SPF Development Range"},null,null,null,{"$f":"Definitions!$P$5","v":1000},{"$f":"Definitions!$Q$5","v":19733},{"$f":"Definitions!$P$5","v":1000},{"$f":"Definitions!$Q$5","v":19733},{"$f":"Definitions!$R$5","v":280},{"$f":"Definitions!$S$5","v":11239},{"$f":"Definitions!$R$5","v":280},{"$f":"Definitions!$S$5","v":11239},{"$f":"AND(Input_RTI_OAADTIn1>=K67,Input_RTI_OAADTIn1<=L67,Input_RTI_OAADTOut1>=M67,Input_RTI_OAADTOut1<=N67,Input_RTI_OAADTEx1>=O67,Input_RTI_OAADTEx1<=P67,Input_RTI_OAADTEn1>=Q67,Input_RTI_OAADTEn1<=R67)","v":true},{"$f":"AND(Input_RTI_DAADTIn1>=K67,Input_RTI_DAADTIn1<=L67,Input_RTI_DAADTOut1>=M67,Input_RTI_DAADTOut1<=N67,Input_RTI_DAADTEx1>=O67,Input_RTI_DAADTEx1<=P67,Input_RTI_DAADTEn1>=Q67,Input_RTI_DAADTEn1<=R67)","v":false},{"$f":"AND(Input_RTI_OAADTIn2>=K67,Input_RTI_OAADTIn2<=L67,Input_RTI_OAADTOut2>=M67,Input_RTI_OAADTOut2<=N67,Input_RTI_OAADTEx2>=O67,Input_RTI_OAADTEx2<=P67,Input_RTI_OAADTEn2>=Q67,Input_RTI_OAADTEn2<=R67)","v":true},{"$f":"AND(Input_RTI_DAADTIn2>=K67,Input_RTI_DAADTIn2<=L67,Input_RTI_DAADTOut2>=M67,Input_RTI_DAADTOut2<=N67,Input_RTI_DAADTEx2>=O67,Input_RTI_DAADTEx2<=P67,Input_RTI_DAADTEn2>=Q67,Input_RTI_DAADTEn2<=R67)","v":false},true,false]
["2-lane Roundabout","Yes",null,"--",{"$f":"IF(NOT(ISNUMBER(K68)),\"No SPF Available\",IF(OR(NOT(IsChecked_RTI_D4MS),W68),\"\",\"Opening Year AADT Outside of SPF Development Range\"))","v":""},null,{"$f":"IF(NOT(ISNUMBER(L68)),\"No SPF Available\",IF(OR(NOT(Input_AnalysisYearType=Label_AnalysisYearType_OpenAndDesign),NOT(IsChecked_RTI_D4MS),X68),\"\",\"Design Year AADT Outside of SPF Development Range\"))","v":"Design Year AADT Outside of SPF Development Range"},null,null,null,{"$f":"Definitions!$P$8","v":1000},{"$f":"Definitions!$Q$8","v":28333},{"$f":"Definitions!$P$8","v":1000},{"$f":"Definitions!$Q$8","v":28333},{"$f":"Definitions!$R$8","v":390},{"$f":"Definitions!$S$8","v":19371},{"$f":"Definitions!$R$8","v":390},{"$f":"Definitions!$S$8","v":19371},{"$f":"AND(Input_RTI_OAADTIn1>=K68,Input_RTI_OAADTIn1<=L68,Input_RTI_OAADTOut1>=M68,Input_RTI_OAADTOut1<=N68,Input_RTI_OAADTEx1>=O68,Input_RTI_OAADTEx1<=P68,Input_RTI_OAADTEn1>=Q68,Input_RTI_OAADTEn1<=R68)","v":true},{"$f":"AND(Input_RTI_DAADTIn1>=K68,Input_RTI_DAADTIn1<=L68,Input_RTI_DAADTOut1>=M68,Input_RTI_DAADTOut1<=N68,Input_RTI_DAADTEx1>=O68,Input_RTI_DAADTEx1<=P68,Input_RTI_DAADTEn1>=Q68,Input_RTI_DAADTEn1<=R68)","v":false},{"$f":"AND(Input_RTI_OAADTIn2>=K68,Input_RTI_OAADTIn2<=L68,Input_RTI_OAADTOut2>=M68,Input_RTI_OAADTOut2<=N68,Input_RTI_OAADTEx2>=O68,Input_RTI_OAADTEx2<=P68,Input_RTI_OAADTEn2>=Q68,Input_RTI_OAADTEn2<=R68)","v":true},{"$f":"AND(Input_RTI_DAADTIn2>=K68,Input_RTI_DAADTIn2<=L68,Input_RTI_DAADTOut2>=M68,Input_RTI_DAADTOut2<=N68,Input_RTI_DAADTEx2>=O68,Input_RTI_DAADTEx2<=P68,Input_RTI_DAADTEn2>=Q68,Input_RTI_DAADTEn2<=R68)","v":false},true,false]
["Signalized Tight Diamond Interchange","Yes",null,"--",null,null,null,null,null,null,14000,51000,14000,51000,14000,74000,14000,74000,"*14k<=Xrd<=51k, 14k<=sum all ramp <=74k",null,null,null,{"$f":"AND(MAX(D54:E54) >= 14000, MAX(D54:E54) <= 51000, SUM(D55:E56)>=14000, SUM(D55:E56)<=74000)","v":true},{"$f":"AND(MAX(D59:E59) <= 51000,SUM(D60:E61)<=74000)","v":true}]
["Other 1","No",null,{"$f":"A62","v":"Signalized Diamond"},"*Please Select"]
["Other 2","No",null,"Unsignalized Diamond","*Please Select"]

{"sheet":"At-Grade Inputs","index":4,"n_rows":76,"n_cols":34,"rows_kept":76,"cut":false,"hidden":false,"merged":[[3,3,3,32],[16,29,32,30],[16,31,32,32],[14,0,14,36],[6,33,9,36],[10,33,13,36],[6,1,9,2],[11,5,11,6],[12,5,12,6],[13,9,13,10],[22,9,22,10],[23,7,23,8],[23,9,23,10],[23,3,23,4],[25,9,25,10],[16,3,16,4],[17,3,17,4],[24,5,24,6],[13,5,13,6],[16,5,16,6],[6,25,6,26],[7,23,7,24],[7,25,7,26],[8,23,8,24],[8,25,8,26],[9,23,9,24],[9,25,9,26],[16,27,32,28],[9,27,9,28],[8,27,8,28],[7,27,7,28],[6,27,6,28],[4,1,5,2],[10,1,13,2],[10,7,10,8],[11,7,11,8],[12,3,12,4],[13,3,13,4],[26,5,26,6],[27,5,27,6],[17,5,17,6],[18,5,18,6],[19,5,19,6],[20,5,20,6],[21,5,21,6],[22,5,22,6],[23,5,23,6],[22,7,22,8],[18,3,18,4],[62,1,62,2],[62,3,62,4],[62,5,62,6],[62,7,62,8],[62,9,62,10],[34,11,34,12],[40,11,40,12],[61,1,61,2],[61,3,61,4],[61,5,61,6],[61,7,61,8],[61,9,61,10],[55,3,55,4],[55,5,55,6],[55,7,55,8],[55,9,55,10],[57,1,57,2],[57,3,57,4],[57,5,57,6],[57,7,57,8],[57,9,57,10],[53,1,53,2],[53,3,53,4],[62,13,62,14],[57,11,57,12],[57,13,57,14],[58,11,58,12],[58,13,58,14],[59,11,59,12],[59,13,59,14],[60,11,60,12],[60,13,60,14],[61,11,61,12],[61,13,61,14],[62,11,62,12],[51,13,51,14],[52,11,52,12],[52,13,52,14],[53,11,53,12],[53,13,53,14],[54,11,54,12],[54,13,54,14],[55,11,55,12],[55,13,55,14],[51,11,51,12],[45,13,45,14],[46,11,46,12],[46,13,46,14],[47,11,47,12],[47,13,47,14],[48,11,48,12],[48,13,48,14],[50,11,50,12],[50,13,50,14],[34,13,34,14],[36,11,36,12],[36,13,36,14],[37,11,37,12],[37,13,37,14],[38,11,38,12],[38,13,38,14],[39,11,39,12],[39,13,39,14],[40,13,40,14],[41,11,41,12],[41,13,41,14],[43,11,43,12],[43,13,43,14],[44,11,44,12],[44,13,44,14],[45,11,45,12],[60,1,60,2],[60,3,60,4],[60,5,60,6],[60,7,60,8],[60,9,60,10],[58,1,58,2],[58,3,58,4],[58,5,58,6],[58,7,58,8],[58,9,58,10],[59,1,59,2],[59,3,59,4],[59,5,59,6],[59,7,59,8],[59,9,59,10],[55,1,55,2],[54,1,54,2],[54,3,54,4],[54,5,54,6],[54,7,54,8],[54,9,54,10],[51,1,51,2],[51,3,51,4],[51,5,51,6],[51,7,51,8],[51,9,51,10],[52,1,52,2],[52,3,52,4],[52,5,52,6],[52,7,52,8],[52,9,52,10],[53,5,53,6],[53,7,53,8],[53,9,53,10],[48,1,48,2],[48,3,48,4],[48,5,48,6],[48,7,48,8],[48,9,48,10],[50,1,50,2],[50,3,50,4],[50,5,50,6],[50,7,50,8],[50,9,50,10],[46,1,46,2],[46,3,46,4],[46,5,46,6],[46,7,46,8],[46,9,46,10],[47,1,47,2],[47,3,47,4],[47,5,47,6],[47,7,47,8],[47,9,47,10],[44,1,44,2],[44,3,44,4],[44,5,44,6],[44,7,44,8],[44,9,44,10],[45,1,45,2],[45,3,45,4],[45,5,45,6],[45,7,45,8],[45,9,45,10],[41,1,41,2],[41,3,41,4],[41,5,41,6],[41,7,41,8],[41,9,41,10],[43,1,43,2],[43,3,43,4],[43,5,43,6],[43,7,43,8],[43,9,43,10],[38,9,38,10],[39,1,39,2],[39,3,39,4],[39,5,39,6],[39,7,39,8],[39,9,39,10],[40,1,40,2],[40,3,40,4],[40,5,40,6],[40,7,40,8],[40,9,40,10],[33,1,33,14],[35,1,35,14],[42,1,42,14],[49,1,49,14],[56,1,56,14],[34,1,34,2],[34,3,34,4],[34,5,34,6],[34,7,34,8],[34,9,34,10],[36,1,36,2],[36,3,36,4],[36,5,36,6],[36,7,36,8],[36,9,36,10],[37,1,37,2],[37,3,37,4],[37,5,37,6],[37,7,37,8],[37,9,37,10],[38,1,38,2],[38,3,38,4],[38,5,38,6],[38,7,38,8],[21,3,21,4],[22,3,22,4],[28,5,28,6],[29,5,29,6],[30,5,30,6],[31,5,31,6],[32,5,32,6],[30,3,30,4],[31,3,31,4],[25,3,25,4],[29,3,29,4],[26,3,26,4],[28,3,28,4],[25,5,25,6],[23,13,23,14],[19,7,19,8],[20,7,20,8],[19,9,19,10],[20,9,20,10],[31,13,31,14],[28,11,28,12],[28,7,28,8],[28,13,28,14],[30,11,30,12],[22,11,22,12],[22,13,22,14],[25,7,25,8],[20,13,20,14],[21,9,21,10],[21,11,21,12],[19,11,19,12],[20,11,20,12],[29,9,29,10],[29,11,29,12],[29,13,29,14],[26,9,26,10],[26,7,26,8],[21,13,21,14],[7,29,7,30],[8,29,8,30],[9,29,9,30],[15,1,15,14],[7,21,7,22],[23,11,23,12],[25,11,25,12],[25,13,25,14],[16,7,16,8],[16,9,16,10],[16,11,16,12],[16,13,16,14],[16,1,32,2],[18,9,18,10],[18,11,18,12],[18,13,18,14],[21,7,21,8],[30,13,30,14],[29,7,29,8],[32,7,32,8],[32,9,32,10],[32,11,32,12],[19,13,19,14],[31,11,31,12],[4,0,5,0],[4,7,5,8],[4,9,5,10],[4,11,5,12],[4,13,5,14],[13,7,13,8],[11,9,11,10],[10,3,10,4],[4,3,5,4],[6,3,6,4],[7,3,7,4],[8,3,8,4],[9,3,9,4],[11,3,11,4],[12,7,12,8],[10,9,10,10],[4,5,5,6],[6,5,6,6],[7,5,7,6],[8,5,8,6],[9,5,9,6],[10,5,10,6],[28,9,28,10],[4,29,5,30],[4,31,5,32],[8,15,8,16],[9,15,9,16],[6,17,6,18],[7,17,7,18],[7,19,7,20],[8,19,8,20],[9,17,9,18],[9,19,9,20],[6,19,6,20],[8,21,8,22],[9,21,9,22],[8,17,8,18],[6,31,6,32],[7,31,7,32],[8,31,8,32],[9,31,9,32],[6,29,6,30],[6,21,6,22],[4,27,5,28],[4,23,5,24],[4,25,5,26],[6,23,6,24],[12,9,12,10],[4,15,5,16],[4,17,5,18],[4,19,5,20],[4,21,5,22],[6,15,6,16],[7,15,7,16],[6,7,6,8],[7,7,7,8],[8,7,8,8],[9,7,9,8],[6,9,6,10],[7,9,7,10],[8,9,8,10],[9,9,9,10],[6,11,6,12],[7,11,7,12],[8,11,8,12],[6,13,6,14],[7,13,7,14],[8,13,8,14],[9,13,9,14],[9,11,9,12],[16,25,32,26],[16,33,32,36],[19,3,19,4],[20,3,20,4],[27,3,27,4],[31,7,31,8],[31,9,31,10],[24,3,24,4],[16,15,32,16],[16,17,32,18],[16,19,32,20],[16,21,32,22],[16,23,32,24],[17,7,17,8],[17,9,17,10],[17,11,17,12],[17,13,17,14],[18,7,18,8],[32,3,32,4],[26,11,26,12],[26,13,26,14],[30,7,30,8],[30,9,30,10],[32,13,32,14],[72,1,72,2],[74,19,74,20],[75,19,75,20],[65,21,65,22],[66,21,66,22],[67,21,67,22],[68,21,68,22],[69,21,69,22],[70,21,70,22],[71,21,71,22],[72,21,72,22],[73,21,73,22],[74,21,74,22],[75,21,75,22],[65,19,65,20],[66,19,66,20],[67,19,67,20],[68,19,68,20],[69,19,69,20],[70,19,70,20],[71,19,71,20],[72,19,72,20],[73,19,73,20],[73,1,73,2],[74,1,74,2],[75,1,75,2],[66,3,66,4],[66,5,66,6],[66,7,66,8],[66,9,66,10],[66,11,66,12],[66,13,66,14],[68,3,68,4],[68,5,68,6],[68,7,68,8],[68,9,68,10],[68,11,68,12],[68,13,68,14],[70,3,70,4],[70,5,70,6],[70,7,70,8],[66,1,66,2],[67,1,67,2],[68,1,68,2],[69,1,69,2],[70,1,70,2],[71,1,71,2],[69,3,69,4],[75,3,75,4],[75,5,75,6],[75,7,75,8],[75,9,75,10],[75,11,75,12],[75,13,75,14],[75,15,75,16],[75,17,75,18],[72,3,72,4],[72,5,72,6],[72,7,72,8],[72,9,72,10],[72,11,72,12],[72,13,72,14],[72,15,72,16],[72,17,72,18],[73,9,73,10],[73,11,73,12],[73,13,73,14],[73,15,73,16],[73,17,73,18],[74,3,74,4],[74,5,74,6],[74,7,74,8],[63,19,64,22],[68,15,68,16],[68,17,68,18],[67,3,67,4],[67,5,67,6],[67,7,67,8],[67,9,67,10],[67,11,67,12],[67,13,67,14],[67,15,67,16],[67,17,67,18],[66,17,66,18],[65,3,65,4],[65,5,65,6],[65,7,65,8],[65,9,65,10],[65,11,65,12],[65,13,65,14],[65,15,65,16],[65,17,65,18],[63,1,64,18],[65,1,65,2],[66,15,66,16],[73,3,73,4],[73,5,73,6],[73,7,73,8],[74,9,74,10],[74,11,74,12],[74,13,74,14],[74,15,74,16],[74,17,74,18],[70,9,70,10],[70,11,70,12],[70,13,70,14],[70,15,70,16],[70,17,70,18],[69,5,69,6],[69,7,69,8],[69,9,69,10],[69,11,69,12],[69,13,69,14],[69,15,69,16],[69,17,69,18],[71,3,71,4],[71,5,71,6],[71,7,71,8],[71,9,71,10],[71,11,71,12],[71,13,71,14],[71,15,71,16],[71,17,71,18],[34,15,34,16],[34,17,34,18],[35,15,35,16],[35,17,35,18],[36,15,36,16],[36,17,36,18],[37,15,37,16],[37,17,37,18],[38,15,38,16],[38,17,38,18],[39,15,39,16],[39,17,39,18],[40,15,40,16],[40,17,40,18],[41,15,41,16],[41,17,41,18],[42,15,42,16],[42,17,42,18],[43,15,43,16],[43,17,43,18],[44,15,44,16],[44,17,44,18],[45,15,45,16],[45,17,45,18],[46,15,46,16],[46,17,46,18],[47,15,47,16],[47,17,47,18],[48,15,48,16],[48,17,48,18],[49,15,49,16],[49,17,49,18],[50,15,50,16],[50,17,50,18],[51,15,51,16],[51,17,51,18],[52,15,52,16],[52,17,52,18],[53,15,53,16],[53,17,53,18],[59,15,59,16],[59,17,59,18],[60,15,60,16],[60,17,60,18],[61,15,61,16],[61,17,61,18],[62,15,62,16],[62,17,62,18],[34,19,34,20],[39,19,39,20],[44,19,44,20],[49,19,49,20],[54,19,54,20],[59,19,59,20],[54,15,54,16],[54,17,54,18],[55,15,55,16],[55,17,55,18],[56,15,56,16],[56,17,56,18],[57,15,57,16],[57,17,57,18],[58,15,58,16],[58,17,58,18],[34,21,34,22],[35,19,35,20],[35,21,35,22],[36,19,36,20],[36,21,36,22],[37,19,37,20],[37,21,37,22],[38,19,38,20],[38,21,38,22],[39,21,39,22],[40,19,40,20],[40,21,40,22],[41,19,41,20],[41,21,41,22],[42,19,42,20],[42,21,42,22],[43,19,43,20],[43,21,43,22],[51,21,51,22],[52,19,52,20],[52,21,52,22],[53,19,53,20],[53,21,53,22],[44,21,44,22],[45,19,45,20],[45,21,45,22],[46,19,46,20],[46,21,46,22],[47,19,47,20],[47,21,47,22],[48,19,48,20],[48,21,48,22],[59,21,59,22],[60,19,60,20],[60,21,60,22],[61,19,61,20],[61,21,61,22],[62,19,62,20],[62,21,62,22],[33,15,33,16],[33,17,33,18],[33,19,33,20],[33,21,33,22],[54,21,54,22],[55,19,55,20],[55,21,55,22],[56,19,56,20],[56,21,56,22],[57,19,57,20],[57,21,57,22],[58,19,58,20],[58,21,58,22],[49,21,49,22],[50,19,50,20],[50,21,50,22],[51,19,51,20]]}
["At-Grade Intersection Inputs"]
["Provide inputs needed to compute and apply Part C CMFs."]
[]
[null,null,null,"Control Strategy"]
["Input",null,null,{"$f":"Label_AGI_TrafficSignal","v":"Traffic Signal"},null,{"$f":"Label_AGI_TrafficSignal&\" (Alt)\"","v":"Traffic Signal (Alt)"},null,{"$f":"Label_AGI_MinorStop","v":"Minor Road Stop"},null,{"$f":"Label_AGI_AllStop","v":"All Way Stop"},null,{"$f":"Label_AGI_1LnRdbt","v":"1-lane Roundabout"},null,{"$f":"Label_AGI_2LnRdbt","v":"2-lane Roundabout"},null,{"$f":"Label_AGI_DLT","v":"Displaced Left Turn (DLT)"},null,{"$f":"Label_AGI_MUT","v":"Median U-Turn (MUT)"},null,{"$f":"Label_AGI_RCUTSig","v":"Signalized RCUT"},null,{"$f":"Label_AGI_RCUTUnsig","v":"Unsignalized RCUT"},null,"Signalized Thru-Cut",null,"Unsignalized Thru-Cut",null,"Bowtie",null,{"$f":"Label_AGI_GreenT","v":"Continuous Green-T Intersection"},null,{"$f":"Label_AGI_Jughandle","v":"Jughandle"}]
[]
["Opening Year Major Road AADT","Optional AADT Overrides",null,{"$f":"Input_Base_OAADTMajor","v":18000},null,{"$f":"Input_Base_OAADTMajor","v":18000},null,{"$f":"Input_Base_OAADTMajor","v":18000},null,{"$f":"Input_Base_OAADTMajor","v":18000},null,{"$f":"Input_Base_OAADTMajor","v":18000},null,{"$f":"Input_Base_OAADTMajor","v":18000},null,{"$f":"Input_Base_OAADTMajor","v":18000},null,{"$f":"Input_Base_OAADTMajor","v":18000},null,{"$f":"Input_Base_OAADTMajor","v":18000},null,{"$f":"Input_Base_OAADTMajor","v":18000},null,{"$f":"Input_Base_OAADTMajor","v":18000},null,{"$f":"Input_Base_OAADTMajor","v":18000},null,{"$f":"Input_Base_OAADTMajor","v":18000},null,{"$f":"Input_Base_OAADTMajor","v":18000},null,{"$f":"Input_Base_OAADTMajor","v":18000},null,"All strategies will have the same AADT as the Base Conditions unless overridden by user."]
["Opening Year Minor Road AADT",null,null,{"$f":"Input_Base_OAADTMinor","v":8000},null,{"$f":"Input_Base_OAADTMinor","v":8000},null,{"$f":"Input_Base_OAADTMinor","v":8000},null,{"$f":"Input_Base_OAADTMinor","v":8000},null,{"$f":"Input_Base_OAADTMinor","v":8000},null,{"$f":"Input_Base_OAADTMinor","v":8000},null,{"$f":"Input_Base_OAADTMinor","v":8000},null,{"$f":"Input_Base_OAADTMinor","v":8000},null,{"$f":"Input_Base_OAADTMinor","v":8000},null,{"$f":"Input_Base_OAADTMinor","v":8000},null,{"$f":"Input_Base_OAADTMinor","v":8000},null,{"$f":"Input_Base_OAADTMinor","v":8000},null,{"$f":"Input_Base_OAADTMinor","v":8000},null,{"$f":"Input_Base_OAADTMinor","v":8000},null,{"$f":"Input_Base_OAADTMinor","v":8000}]
["Design Year Major Road AADT",null,null,{"$f":"Input_Base_DAADTMajor","v":20000},null,{"$f":"Input_Base_DAADTMajor","v":20000},null,{"$f":"Input_Base_DAADTMajor","v":20000},null,{"$f":"Input_Base_DAADTMajor","v":20000},null,{"$f":"Input_Base_DAADTMajor","v":20000},null,{"$f":"Input_Base_DAADTMajor","v":20000},null,{"$f":"Input_Base_DAADTMajor","v":20000},null,{"$f":"Input_Base_DAADTMajor","v":20000},null,{"$f":"Input_Base_DAADTMajor","v":20000},null,{"$f":"Input_Base_DAADTMajor","v":20000},null,{"$f":"Input_Base_DAADTMajor","v":20000},null,{"$f":"Input_Base_DAADTMajor","v":20000},null,{"$f":"Input_Base_DAADTMajor","v":20000},null,{"$f":"Input_Base_DAADTMajor","v":20000},null,{"$f":"Input_Base_DAADTMajor","v":20000}]
["Design Year Minor Road AADT",null,null,{"$f":"Input_Base_DAADTMinor","v":10000},null,{"$f":"Input_Base_DAADTMinor","v":10000},null,{"$f":"Input_Base_DAADTMinor","v":10000},null,{"$f":"Input_Base_DAADTMinor","v":10000},null,{"$f":"Input_Base_DAADTMinor","v":10000},null,{"$f":"Input_Base_DAADTMinor","v":10000},null,{"$f":"Input_Base_DAADTMinor","v":10000},null,{"$f":"Input_Base_DAADTMinor","v":10000},null,{"$f":"Input_Base_DAADTMinor","v":10000},null,{"$f":"Input_Base_DAADTMinor","v":10000},null,{"$f":"Input_Base_DAADTMinor","v":10000},null,{"$f":"Input_Base_DAADTMinor","v":10000},null,{"$f":"Input_Base_DAADTMinor","v":10000},null,{"$f":"Input_Base_DAADTMinor","v":10000},null,{"$f":"Input_Base_DAADTMinor","v":10000}]
["Number of Approaches with Left-Turn Lanes","Additional Required Control Strategy Inputs",null,0,null,4,null,null,null,0,null,null,null,null,null,null,null,null,null,null,null,null,null,null,null,null,null,null,null,null,null,null,null,"Do not include stop controlled approaches for minor stop"]
["Number of Approaches with Right-Turn Lanes",null,null,0,null,0,null,null,null,0]
["Number of Uncontrolled Approaches with Left-Turn Lanes",null,null,null,null,null,null,0]
["Number of Uncontrolled Approaches with Right-Turn Lanes",null,null,null,null,null,null,0]
["Keep default values below here for planning-level analysis, override with actual values for full HSM Analysis"]
[null,"Part C CMFS\nOptional For Stage 1 ICE, Required for Stage 2 ICE"]
["Skew Angle","A yellow cell indicates the value may be used in the SPF computation",null,"N/A",null,"N/A",null,0,null,"N/A",null,"N/A",null,"N/A",null,"CMF - No Inputs Required",null,"CMF - No Inputs Required",null,"Scroll Down for Signalized RCUT SPF Inputs",null,"Scroll Down for Unsignalized RCUT SPF Inputs",null,"CMF - No Inputs Required",null,"CMF - No Inputs Required",null,"CMF - No Inputs Required",null,"CMF - No Inputs Required",null,"CMF - No Inputs Required",null,"All yellow cells will be automatically populated by a macro. If users want to do a planning-level analysis, they can leave the automatic inputs as-is"]
["Lighting Present",null,null,"Yes",null,"Yes",null,"Yes",null,"Yes"]
["# of Approaches Permissive LT Signal Phasing",null,null,0,null,0,null,"N/A",null,"N/A",null,"N/A",null,"N/A"]
["# of Approaches Perm/Prot LT Signal Phasing",null,null,0,null,0]
["# of Approaches Protected LT Signal Phasing",null,null,0,null,0]
["Number of Approaches with Right-Turn-on-Red Prohibited",null,null,0,null,0,null,"N/A",null,"N/A",null,"N/A",null,"N/A"]
["Red Light Cameras Present",null,null,"No",null,"No",null,"N/A",null,"N/A",null,"N/A",null,"N/A"]
["Number of Major Street Through Lanes",null,null,0,null,0,null,"N/A",null,"N/A",null,"N/A",null,"N/A"]
["Number of Minor Street Lanes",null,null,0,null,0]
["# of Major St Approaches w/ Right-Turn Channelization",null,null,0,null,0,null,"N/A",null,"N/A",null,"N/A",null,"N/A"]
["Number of Approaches with U-Turn Prohibited",null,null,0,null,0,null,"N/A",null,"N/A",null,"N/A",null,"N/A"]
["Pedestrian Volume by Activity Level",null,null,"Low (50)",null,"Low (50)"]
["User Specified Sum of all daily pedestrian crossing volumes",null,null,50,null,50,null,"N/A",null,"N/A",null,"N/A",null,"N/A"]
["Max # of Lanes Crossed by Pedestrians",null,null,5,null,5,null,"N/A",null,"N/A",null,"N/A",null,"N/A"]
["Number of Bus Stops within 1000' of Intersection",null,null,0,null,0,null,{"$f":"Input_AGI_NumBusStops","v":0},null,{"$f":"Input_AGI_NumBusStops","v":0},null,{"$f":"Input_AGI_NumBusStops","v":0},null,{"$f":"Input_AGI_NumBusStops","v":0}]
["Schools within 1000' of intersection",null,null,"No",null,"No",null,{"$f":"Input_AGI_HasSchool","v":"No"},null,{"$f":"Input_AGI_HasSchool","v":"No"},null,{"$f":"Input_AGI_HasSchool","v":"No"},null,{"$f":"Input_AGI_HasSchool","v":"No"}]
["Number of Alcohol Sales Establishments within 1000' of Intersection",null,null,0,null,0,null,{"$f":"Input_AGI_NumABC","v":0},null,{"$f":"Input_AGI_NumABC","v":0},null,{"$f":"Input_AGI_NumABC","v":0},null,{"$f":"Input_AGI_NumABC","v":0}]
[null,"Roundabout CMF Inputs"]
["Inscribed Circle Diameter (ft)",null,null,null,null,null,null,null,null,null,null,130,null,125]
["Leg 1 (Major Leg #1)","Leg 1 (Major Leg #1)"]
["Opening Year Entering AADT",null,null,null,null,null,null,null,null,null,null,{"$f":"('Control Strategy Selection'!D13)*0.5","v":9000},null,{"$f":"('Control Strategy Selection'!D13)*0.5","v":9000}]
["Leg has Right-Turn Bypass",null,null,null,null,null,null,null,null,null,null,"No",null,"No"]
["# of Access Points within 250' of Yield Line",null,null,null,null,null,null,null,null,null,null,0,null,0]
["Entering Width (ft)",null,null,null,null,null,null,null,null,null,null,29,null,29]
["# of Entering Lanes",null,null,null,null,null,null,null,null,null,null,2,null,2]
["# of Circulating Lanes",null,null,null,null,null,null,null,null,null,null,2,null,2]
["Leg 2 (Major Leg #2)","Leg 2 (Major Leg #2)"]
["Opening Year Entering AADT",null,null,null,null,null,null,null,null,null,null,{"$f":"('Control Strategy Selection'!$D$13)-Input_AGI_R1_AADT_L1","v":9000},null,{"$f":"('Control Strategy Selection'!$D$13)-Input_AGI_R2_AADT_L1","v":9000}]
["Leg has Right-Turn Bypass",null,null,null,null,null,null,null,null,null,null,"No",null,"No"]
["# of Access Points within 250' of Yield Line",null,null,null,null,null,null,null,null,null,null,0,null,0]
["Entering Width (ft)",null,null,null,null,null,null,null,null,null,null,29,null,29]
["# of Entering Lanes",null,null,null,null,null,null,null,null,null,null,2,null,2]
["# of Circulating Lanes",null,null,null,null,null,null,null,null,null,null,2,null,2]
["Leg 3 (Minor Leg #1)","Leg 3 (Minor Leg #1)"]
["Opening Year Entering AADT",null,null,null,null,null,null,null,null,null,null,{"$f":"('Control Strategy Selection'!D14)*0.5","v":4000},null,{"$f":"('Control Strategy Selection'!D14)*0.5","v":4000}]
["Leg has Right-Turn Bypass",null,null,null,null,null,null,null,null,null,null,"No",null,"No"]
["# of Access Points within 250' of Yield Line",null,null,null,null,null,null,null,null,null,null,0,null,0]
["Entering Width (ft)",null,null,null,null,null,null,null,null,null,null,29,null,29]
["# of Entering Lanes",null,null,null,null,null,null,null,null,null,null,2,null,2]
["# of Circulating Lanes",null,null,null,null,null,null,null,null,null,null,2,null,2]
["Leg 4 (Minor Leg #2)","Leg 4 (Minor Leg #2)"]
["Opening Year Entering AADT",null,null,null,null,null,null,null,null,null,null,{"$f":"('Control Strategy Selection'!$D$14)-Input_AGI_R1_AADT_L3","v":4000},null,{"$f":"('Control Strategy Selection'!$D$14)-Input_AGI_R2_AADT_L3","v":4000}]
["Leg has Right-Turn Bypass",null,null,null,null,null,null,null,null,null,null,"No",null,"No"]
["# of Access Points within 250' of Yield Line",null,null,null,null,null,null,null,null,null,null,0,null,0]
["Entering Width (ft)",null,null,null,null,null,null,null,null,null,null,29,null,29]
["# of Entering Lanes",null,null,null,null,null,null,null,null,null,null,2,null,2]
["# of Circulating Lanes",null,null,null,null,null,null,null,null,null,null,2,null,2]
[null,null,null,null,null,null,null,null,null,null,null,null,null,null,null,null,null,null,null,"Restricted Crossing U-Turn (RCUT) CMF Inputs"]
[]
["# U-Turns",null,null,null,null,null,null,null,null,null,null,null,null,null,null,null,null,null,null,2,null,2]
["# of Major Roadway Lanes",null,null,null,null,null,null,null,null,null,null,null,null,null,null,null,null,null,null,2]
["# of Minor Roadway Lanes",null,null,null,null,null,null,null,null,null,null,null,null,null,null,null,null,null,null,2]
["Total Offset Distance (ft)",null,null,null,null,null,null,null,null,null,null,null,null,null,null,null,null,null,null,1250,null,1250]
["Number of Driveways",null,null,null,null,null,null,null,null,null,null,null,null,null,null,null,null,null,null,4,null,4]
["Total Deceleration Lane Length (ft)",null,null,null,null,null,null,null,null,null,null,null,null,null,null,null,null,null,null,750,null,750]
["Total Acceleration Lane Length (ft)",null,null,null,null,null,null,null,null,null,null,null,null,null,null,null,null,null,null,null,null,750]
["Number of Left-Turn Lanes From Major Road",null,null,null,null,null,null,null,null,null,null,null,null,null,null,null,null,null,null,1]
["Major Road Speed Limit (mph)",null,null,null,null,null,null,null,null,null,null,null,null,null,null,null,null,null,null,"<=50"]
["Total Median Width (ft)",null,null,null,null,null,null,null,null,null,null,null,null,null,null,null,null,null,null,65]
["Maximum Median Width (ft)",null,null,null,null,null,null,null,null,null,null,null,null,null,null,null,null,null,null,null,null,40]

{"sheet":"Ramp Terminal Inputs","index":5,"n_rows":68,"n_cols":13,"rows_kept":68,"cut":false,"hidden":true,"merged":[[2,12,3,12],[0,0,0,12],[1,0,1,12],[44,1,44,12],[45,12,67,12],[45,6,67,6],[47,7,47,10],[54,7,54,10],[61,7,61,10],[45,1,67,1],[45,2,67,2],[45,3,67,3],[45,4,67,4],[45,5,67,5],[3,3,3,4],[3,5,3,6],[13,1,13,2],[13,3,13,4],[13,5,13,6],[2,11,3,11],[45,11,67,11],[2,7,2,8],[3,7,3,8],[2,9,2,10],[3,9,3,10],[13,7,13,8],[13,9,13,10],[2,5,2,6],[2,1,2,2],[2,3,2,4],[23,1,23,6],[3,1,3,2]]}
["Ramp Terminal Inputs"]
["Provide inputs needed to compute and apply Part C CMFs."]
["Alternative","Signalized Diamond",null,"Signalized Diamond (Alt)",null,"Unsignalized Diamond",null,"1-lane Roundabout",null,"2-lane Roundabout",null,"Single-Point Diamond","Signalized Tight Diamond"]
[null,"4 Leg Terminal w/ Diagonal Ramps (D4)",null,"4 Leg Terminal w/ Diagonal Ramps (D4)",null,"4 Leg Terminal w/ Diagonal Ramps (D4)",null,"4 Leg Terminal w/ Diagonal Ramps (D4)",null,"4 Leg Terminal w/ Diagonal Ramps (D4)"]
["Ramp Terminal  ",{"$f":"'Control Strategy Selection'!$D$48","v":"NB Ramp Terminal"},{"$f":"'Control Strategy Selection'!$E$48","v":"SB Ramp Terminal"},{"$f":"'Control Strategy Selection'!$D$48","v":"NB Ramp Terminal"},{"$f":"'Control Strategy Selection'!$E$48","v":"SB Ramp Terminal"},{"$f":"'Control Strategy Selection'!$D$48","v":"NB Ramp Terminal"},{"$f":"'Control Strategy Selection'!$E$48","v":"SB Ramp Terminal"},{"$f":"'Control Strategy Selection'!$D$48","v":"NB Ramp Terminal"},{"$f":"'Control Strategy Selection'!$E$48","v":"SB Ramp Terminal"},{"$f":"'Control Strategy Selection'!$D$48","v":"NB Ramp Terminal"},{"$f":"'Control Strategy Selection'!$E$48","v":"SB Ramp Terminal"},"Both Ramps","Both Ramps"]
[{"$f":"'Control Strategy Selection'!$A$48:$C$48 & \" \" & 'Control Strategy Selection'!A49:C49","v":"Opening Year AADT Crossroad - Inside Leg"},{"$f":"Input_RTI_OAADTIn1","v":12000},{"$f":"Input_RTI_OAADTIn2","v":15000},{"$f":"Input_RTI_OAADTIn1","v":12000},{"$f":"Input_RTI_OAADTIn2","v":15000},{"$f":"Input_RTI_OAADTIn1","v":12000},{"$f":"Input_RTI_OAADTIn2","v":15000},{"$f":"Input_RTI_OAADTIn1","v":12000},{"$f":"Input_RTI_OAADTIn2","v":15000},{"$f":"Input_RTI_OAADTIn1","v":12000},{"$f":"Input_RTI_OAADTIn2","v":15000},"--","--"]
[{"$f":"'Control Strategy Selection'!$A$48:$C$48 & \" \" & 'Control Strategy Selection'!A50:C50","v":"Opening Year AADT Crossroad - Outside Leg"},{"$f":"Input_RTI_OAADTOut1","v":10000},{"$f":"Input_RTI_OAADTOut2","v":15000},{"$f":"Input_RTI_OAADTOut1","v":10000},{"$f":"Input_RTI_OAADTOut2","v":15000},{"$f":"Input_RTI_OAADTOut1","v":10000},{"$f":"Input_RTI_OAADTOut2","v":15000},{"$f":"Input_RTI_OAADTOut1","v":10000},{"$f":"Input_RTI_OAADTOut2","v":15000},{"$f":"Input_RTI_OAADTOut1","v":10000},{"$f":"Input_RTI_OAADTOut2","v":15000},{"$f":"MAX(Input_RTI_OAADTOut1, Input_RTI_OAADTOut2)","v":15000},{"$f":"MAX(Input_RTI_OAADTOut1, Input_RTI_OAADTOut2)","v":15000}]
[{"$f":"'Control Strategy Selection'!$A$48:$C$48 & \" \" & 'Control Strategy Selection'!A51:C51","v":"Opening Year AADT Exit Ramp"},{"$f":"Input_RTI_OAADTEx1","v":4500},{"$f":"Input_RTI_OAADTEx2","v":4500},{"$f":"Input_RTI_OAADTEx1","v":4500},{"$f":"Input_RTI_OAADTEx2","v":4500},{"$f":"Input_RTI_OAADTEx1","v":4500},{"$f":"Input_RTI_OAADTEx2","v":4500},{"$f":"Input_RTI_OAADTEx1","v":4500},{"$f":"Input_RTI_OAADTEx2","v":4500},{"$f":"Input_RTI_OAADTEx1","v":4500},{"$f":"Input_RTI_OAADTEx2","v":4500},{"$f":"Input_RTI_OAADTEx1 + Input_RTI_OAADTEx2","v":9000},{"$f":"Input_RTI_OAADTEx1 + Input_RTI_OAADTEx2","v":9000}]
[{"$f":"'Control Strategy Selection'!$A$48:$C$48 & \" \" & 'Control Strategy Selection'!A52:C52","v":"Opening Year AADT Entrance Ramp"},{"$f":"Input_RTI_OAADTEn1","v":3000},{"$f":"Input_RTI_OAADTEn2","v":3000},{"$f":"Input_RTI_OAADTEn1","v":3000},{"$f":"Input_RTI_OAADTEn2","v":3000},{"$f":"Input_RTI_OAADTEn1","v":3000},{"$f":"Input_RTI_OAADTEn2","v":3000},{"$f":"Input_RTI_OAADTEn1","v":3000},{"$f":"Input_RTI_OAADTEn2","v":3000},{"$f":"Input_RTI_OAADTEn1","v":3000},{"$f":"Input_RTI_OAADTEn2","v":3000},{"$f":"Input_RTI_OAADTEn1 + Input_RTI_OAADTEn2","v":6000},{"$f":"Input_RTI_OAADTEn1 + Input_RTI_OAADTEn2","v":6000}]
[{"$f":"'Control Strategy Selection'!$A$53:$C$53 & \" \" & 'Control Strategy Selection'!A54:C54","v":"Design Year AADT Crossroad - Inside Leg"},{"$f":"Input_RTI_DAADTIn1","v":30000},{"$f":"Input_RTI_DAADTIn2","v":30000},{"$f":"Input_RTI_DAADTIn1","v":30000},{"$f":"Input_RTI_DAADTIn2","v":30000},{"$f":"Input_RTI_DAADTIn1","v":30000},{"$f":"Input_RTI_DAADTIn2","v":30000},{"$f":"Input_RTI_DAADTIn1","v":30000},{"$f":"Input_RTI_DAADTIn2","v":30000},{"$f":"Input_RTI_DAADTIn1","v":30000},{"$f":"Input_RTI_DAADTIn2","v":30000},"--","--"]
[{"$f":"'Control Strategy Selection'!$A$53:$C$53 & \" \" & 'Control Strategy Selection'!A55:C55","v":"Design Year AADT Crossroad - Outside Leg"},{"$f":"Input_RTI_DAADTOut1","v":31000},{"$f":"Input_RTI_DAADTOut2","v":29000},{"$f":"Input_RTI_DAADTOut1","v":31000},{"$f":"Input_RTI_DAADTOut2","v":29000},{"$f":"Input_RTI_DAADTOut1","v":31000},{"$f":"Input_RTI_DAADTOut2","v":29000},{"$f":"Input_RTI_DAADTOut1","v":31000},{"$f":"Input_RTI_DAADTOut2","v":29000},{"$f":"Input_RTI_DAADTOut1","v":31000},{"$f":"Input_RTI_DAADTOut2","v":29000},{"$f":"MAX(Input_RTI_DAADTOut1, Input_RTI_DAADTOut2)","v":31000},{"$f":"MAX(Input_RTI_DAADTOut1, Input_RTI_DAADTOut2)","v":31000}]
[{"$f":"'Control Strategy Selection'!$A$53:$C$53 & \" \" & 'Control Strategy Selection'!A56:C56","v":"Design Year AADT Exit Ramp"},{"$f":"Input_RTI_DAADTEx1","v":5000},{"$f":"Input_RTI_DAADTEx2","v":5000},{"$f":"Input_RTI_DAADTEx1","v":5000},{"$f":"Input_RTI_DAADTEx2","v":5000},{"$f":"Input_RTI_DAADTEx1","v":5000},{"$f":"Input_RTI_DAADTEx2","v":5000},{"$f":"Input_RTI_DAADTEx1","v":5000},{"$f":"Input_RTI_DAADTEx2","v":5000},{"$f":"Input_RTI_DAADTEx1","v":5000},{"$f":"Input_RTI_DAADTEx2","v":5000},{"$f":"Input_RTI_DAADTEx1 + Input_RTI_DAADTEx2","v":10000},{"$f":"Input_RTI_DAADTEx1 + Input_RTI_DAADTEx2","v":10000}]
[{"$f":"'Control Strategy Selection'!$A$53:$C$53 & \" \" & 'Control Strategy Selection'!A57:C57","v":"Design Year AADT Entrance Ramp"},{"$f":"Input_RTI_DAADTEn1","v":3250},{"$f":"Input_RTI_DAADTEn2","v":3250},{"$f":"Input_RTI_DAADTEn1","v":3250},{"$f":"Input_RTI_DAADTEn2","v":3250},{"$f":"Input_RTI_DAADTEn1","v":3250},{"$f":"Input_RTI_DAADTEn2","v":3250},{"$f":"Input_RTI_DAADTEn1","v":3250},{"$f":"Input_RTI_DAADTEn2","v":3250},{"$f":"Input_RTI_DAADTEn1","v":3250},{"$f":"Input_RTI_DAADTEn2","v":3250},{"$f":"Input_RTI_DAADTEn1 + Input_RTI_DAADTEn2","v":6500},{"$f":"Input_RTI_DAADTEn1 + Input_RTI_DAADTEn2","v":6500}]
["Area Type",{"$f":"Input_RTI_AreaType","v":"Urban"},null,{"$f":"Input_RTI_AreaType","v":"Urban"},null,{"$f":"Input_RTI_AreaType","v":"Urban"},null,{"$f":"Input_RTI_AreaType","v":"Urban"},null,{"$f":"Input_RTI_AreaType","v":"Urban"},null,{"$f":"Input_RTI_AreaType","v":"Urban"}]
["Number of Crossroad Lanes",4,4,4,4,4,4,"N/A","N/A","N/A","N/A","N/A","N/A"]
["Number of through traffic lanes that oppose the left-turn movement on the inside crossroad leg",2,2,2,2,"N/A","N/A","N/A","N/A","N/A","N/A","N/A","N/A"]
["Number of through traffic lanes that oppose the left-turn movement on the outside crossroad leg",{"$f":"Input_D4TS_NLxst1-Input_D4TS_NLTOIn1","v":2},{"$f":"Input_D4TS_NLxst2-Input_D4TS_NLTOIn2","v":2},{"$f":"Input_D4TSA_NLxst1-Input_D4TSA_NLTOIn1","v":2},{"$f":"Input_D4TSA_NLxst2-Input_D4TSA_NLTOIn2","v":2},"N/A","N/A","N/A","N/A","N/A","N/A","N/A","N/A"]
["Number of free-flow right turns from exit ramp to crossroad","N/A","N/A","N/A","N/A","N/A","N/A","N/A","N/A","N/A","N/A",0,"N/A"]
[]
[]
[]
[]
[]
["CMF Inputs","Part C CMFs\nOptional For Stage 1 ICE, Required for Stage 2 ICE"]
["Exit Ramp Skew Angle","N/A","N/A","N/A","N/A",0,0]
["Is a non-ramp public street leg present?","No","No","No","No","N/A","N/A"]
["Exit ramp right turn control"," Signal/Stop/yield-controlled"," Signal/Stop/yield-controlled"," Signal/Stop/yield-controlled"," Signal/Stop/yield-controlled"," Signal/Stop/yield-controlled"," Signal/Stop/yield-controlled"]
["Effective number of lanes serving exit ramp",1,0.5,0.5,1.5,2,2.5]
["Number of unsignalized driveways on the outside crossroad leg within 250' of the interchange",0,0,0,0,"N/A","N/A"]
["Distance (mi) to the adjacent ramp terminal",0.1,0.1,0.1,0.1,0.1,0.1]
["Distance (mi) to the next public street intersection on the outside crossroad leg",0.15,0.15,0.15,0.15,0.15,0.15]
["# of unsignalized public street approaches on the outside crossroad leg within 250' (<0.05 mi) of the interchange",1,1,1,1,1,1]
["Median Width (ft)",12,12,12,12,12,12]
["Presence of right-turn lane/bay on \"in\" leg","N/A","N/A","N/A","N/A","N/A","N/A"]
["Presence of right-turn lane/bay on outside crossroad leg","Yes","Yes","Yes","Yes","Yes","Yes"]
["Presence of left-turn lane/bay on inside crossroad leg","Yes","Yes","Yes","Yes","Yes","Yes"]
["Left-turn lane/bay Width for inside crossroad leg",12,12,12,12,12,12]
["Presence of left-turn lane/bay on outside crossroad leg","N/A","N/A","N/A","N/A","N/A","N/A"]
["Left-turn lane/bay Width for outside crossroad leg",0,0,0,0,0,0]
["Protected Left-turn operation for inside crossroad leg","No","No","No","No","N/A","N/A"]
["Protected Left-turn operation for outside crossroad leg","N/A","N/A","N/A","N/A","N/A","N/A"]
["Right turn channelization for inside crossroad leg","N/A","N/A","N/A","N/A","N/A","N/A"]
["Right turn channelization for outside crossroad leg","No","No","No","No","N/A","N/A"]
["Right turn channelization for exit ramp","No","No","No","No","N/A","N/A"]
[null,"Roundabout CMF Inputs"]
["Inscribed Circle Diameter (ft)","N/A","N/A","N/A","N/A","N/A","N/A",130,130,125,125,"N/A","N/A"]
["Outbound Only Leg",null,null,null,null,null,null,"Yes","Yes","Yes","Yes"]
["Leg 1 (Crossroad Leg - Inside)",null,null,null,null,null,null,"Leg 1 (Crossroad Leg - Inside)"]
["Opening Year Entering AADT",null,null,null,null,null,null,{"$f":"'Control Strategy Selection'!$D$49*0.5","v":6000},{"$f":"'Control Strategy Selection'!$E$49*0.5","v":7500},{"$f":"'Control Strategy Selection'!$D$49*0.5","v":6000},{"$f":"'Control Strategy Selection'!$E$49*0.5","v":7500}]
["Leg has Right-Turn Bypass",null,null,null,null,null,null,"No","No","No","No"]
["# of Access Points within 250' of Yield Line",null,null,null,null,null,null,0,0,0,0]
["Entering Width (ft)",null,null,null,null,null,null,29,29,29,29]
["# of Entering Lanes",null,null,null,null,null,null,2,2,2,2]
["# of Circulating Lanes",null,null,null,null,null,null,2,2,2,2]
["Leg 2 (Crossroad Leg - Outside)",null,null,null,null,null,null,"Leg 2 (Crossroad Leg - Outside)"]
["Opening Year Entering AADT",null,null,null,null,null,null,{"$f":"'Control Strategy Selection'!$D$50*0.5","v":5000},{"$f":"'Control Strategy Selection'!$E$50*0.5","v":7500},{"$f":"'Control Strategy Selection'!$D$50*0.5","v":5000},{"$f":"'Control Strategy Selection'!$E$50*0.5","v":7500}]
["Leg has Right-Turn Bypass",null,null,null,null,null,null,"No","No","No","No"]
["# of Access Points within 250' of Yield Line",null,null,null,null,null,null,0,0,0,0]
["Entering Width (ft)",null,null,null,null,null,null,29,29,29,29]
["# of Entering Lanes",null,null,null,null,null,null,2,2,2,2]
["# of Circulating Lanes",null,null,null,null,null,null,2,2,2,2]
["Leg 3 (Exit Ramp Inside)",null,null,null,null,null,null,"Leg 3 (Exit Ramp Leg)"]
["Opening Year Entering AADT",null,null,null,null,null,null,{"$f":"('Control Strategy Selection'!$D$51)","v":4500},{"$f":"('Control Strategy Selection'!$E$51)","v":4500},{"$f":"('Control Strategy Selection'!$D$51)","v":4500},{"$f":"('Control Strategy Selection'!$E$51)","v":4500}]
["Leg has Right-Turn Bypass",null,null,null,null,null,null,"No","No","No","No"]
["# of Access Points within 250' of Yield Line",null,null,null,null,null,null,0,0,0,0]
["Entering Width (ft)",null,null,null,null,null,null,29,29,29,29]
["# of Entering Lanes",null,null,null,null,null,null,2,2,2,2]
["# of Circulating Lanes",null,null,null,null,null,null,2,2,2,2]

{"sheet":"RTI_Ranges","index":6,"n_rows":42,"n_cols":8,"rows_kept":42,"cut":false,"hidden":true,"merged":[[7,1,7,2],[7,3,7,4],[7,5,7,6],[17,1,17,6],[0,0,0,6],[1,0,1,6],[2,1,2,2],[2,3,2,4],[2,5,2,6],[3,1,3,2],[3,3,3,4],[3,5,3,6]]}
["Ramp Terminal Inputs"]
["Provide inputs needed to compute and apply Part C CMFs."]
["Alternative","Traffic Signal",null,"Traffic Signal (Alt)",null,"Minor Road (Ramp) Stop"]
[null,"4 Leg Terminal w/ Diagonal Ramps (D4)",null,"4 Leg Terminal w/ Diagonal Ramps (D4)",null,"4 Leg Terminal w/ Diagonal Ramps (D4)"]
["Ramp Terminal  ","NB","SB","NB","SB","NB","SB"]
["Crossroad AADT",18000,17000,{"$f":"B6","v":18000},{"$f":"C6","v":17000},{"$f":"B6","v":18000},{"$f":"C6","v":17000}]
["Ramp AADT",5000,4500,{"$f":"B7","v":5000},{"$f":"C7","v":4500},{"$f":"B7","v":5000},{"$f":"C7","v":4500}]
["Area Type","Urban",null,{"$f":"B8","v":"Urban"},null,{"$f":"B8","v":"Urban"}]
["# of Crossroad Lanes",2,2,2,2,2,2,"2-6  (5,6 Urban only)"]
[]
[]
[]
[]
[]
[]
[]
[]
["Other CMF Inputs","Part C CMFs\nOptional For Stage 1 ICE, Required for Stage 2 ICE"]
["Crossroad Left Turn Lane Present?","Yes ","Yes ","Yes ","Yes ","Yes ","Yes "]
["Crossroad Right Turn Lane Present?","Yes ","Yes ","Yes ","Yes ","Yes ","Yes "]
["Skew Angle","skew","Planning","Double","Not/ Applicable","Include in MRS","Include in MRS"]
["Exit ramp right turn control","mergeRT","Planning","Merge/FF or Signal/Stop/yeild-controlled","Include in TS","Include in MRS","Include in MRS"]
["Effective number of lanes serving exit ramp","nex","Planning","1-2, see graphic","Include in TS","Include in MRS","Include in MRS"]
["Presence of left-turn bay on \"in\" leg","i_LTBayIn","Planning","Yes/No (<100 ft?)","Include in TS","Include in MRS","Include in MRS"]
["Presence of left-turn bay on \"out\" leg","i_LTBayOut","Planning","Yes/No (<100 ft?)","Include in TS","Include in MRS","Include in MRS"]
["Presence of right-turn bay on \"in\" leg","i_RTBayIn","Planning","Yes/No (<100 ft?)","Include in TS","Include in MRS","Include in MRS"]
["Presence of right-turn bay on \"out\" leg","i_RTBayOut","Planning","Yes/No (<100 ft?)","Include in TS","Include in MRS","Include in MRS"]
["Number of Stop-controlled public street approaches to the crossroad leg outside of the interchange and within 250 feet of the ramp terminal","n_ps","Planning","Integer","Include in TS","Include in MRS","Include in MRS"]
["Number of Stop-controlled driveways to the crossroad leg outside of the interchange and within 250 feet of the ramp terminal","n_dw","Planning","Integer","Include in TS","Not Applicable","Not Applicable"]
["Distance between subject ramp terminal and adjacent ramp terminal (from terminal center to terminal center)","l_rmp","Planning","Double","Include in TS","Include in MRS","Include in MRS"]
["distance between subject ramp terminal and nearest public road intersection in a direction away form the freeway","l_str","Planning","Double","Include in TS","Include in MRS","Include in MRS"]
["Width of median adjacent to turn lane for crossroad leg","w_m","Planning","Double","Include in TS","Include in MRS","Include in MRS"]
["Left-turn lane width for \"in\" crossroad leg","w_bkIn","Planning","Double (0.0 if not present)","Include in TS","Include in MRS","Include in MRS"]
["Left-turn lane width for \"out\" crossroad leg","w_bkOut","Planning","Double (0.0 if not present)","Include in TS","Include in MRS","Include in MRS"]
["Number of through traffic lanes that oppose the left-turn movement on the crossroad leg \"in\"","n_oppLTIn","Planning","Integer","Include in TS","Not Applicable","Not Applicable"]
["Number of through traffic lanes that oppose the left-turn movement on the crossroad leg \"out\"","n_oppLTOut","Planning","Integer","Include in TS","Not Applicable","Not Applicable"]
["Protected Left-turn operation indicator for crossroad leg \"in\"","i_protLTIn","Planning","Boolean","Include in TS","Not Applicable","Not Applicable"]
["Protected Left-turn operation indicator for crossroad leg \"out\"","i_protLTOut","Planning","Boolean","Include in TS","Not Applicable","Not Applicable"]
["Right turn channelization indicator for crossroad leg \"in\"","i_crtIn","Planning","Boolean","Include in TS","Not Applicable","Not Applicable"]
["Right turn channelization indicator for crossroad leg \"out\"","i_crtOut","Planning","Boolean","Include in TS","Not Applicable","Not Applicable"]
["Right turn channelization indicator for exit ramp","i_crtEx","Planning","Boolean","Include in TS","Not Applicable","Not Applicable"]
["Non-ramp public street leg indicator","i_ps","Planning","Boolean","Include in TS","Not Applicable","Not Applicable"]

{"sheet":"SPUI","index":7,"n_rows":138,"n_cols":85,"rows_kept":138,"cut":false,"hidden":true,"merged":[[1,76,1,79],[1,81,1,84],[1,34,2,34],[1,36,2,36],[1,39,1,52],[1,56,1,69],[100,9,100,11],[100,36,101,36],[0,19,0,28],[0,30,0,32],[1,9,1,11],[1,13,1,17],[1,21,1,25],[1,27,1,28],[1,30,2,30],[1,31,2,31],[1,32,2,32]]}
[null,null,null,null,null,null,null,null,null,null,null,null,null,null,null,null,null,null,null,"Conflicting Traffic Complexity",null,null,null,null,null,null,null,null,null,null,"Pedestrian Complexity",null,null,null,null,null,null,null,null,null,null,null,null,null,null,null,null,null,null,null,null,null,null,null,null,null,null,null,null,null,null,null,null,null,null,null,null,null,null,null,null,null,null,null,"*impact of median on complexity factors"]
[null,null,null,null,null,null,null,null,null,"Exposure",null,null,null,"Severity",null,null,null,null,null,"Traffic Control",null,"Conflicting Lanes",null,null,null,null,null,"Conflicting Speed",null,null,"Indirect Paths Indicator","Non-intuitive movements indicator","Pedestrian Complexity factor",null,"Total Complexity Multiplier",null,"Exposure-Severity-Complexity Product",null,null,"Included in Mvmt1",null,null,null,null,null,null,null,null,null,null,null,null,null,null,null,null,"Included in Mvmt2",null,null,null,null,null,null,null,null,null,null,null,null,null,null,null,null,null,null,null,"Cross-street: No, Ramps: Yes",null,null,null,null,"Cross-street: Yes, Ramps: Yes"]
["#","Conflict Type","Mvmt1","Mvmt1_gen","Mvmt1_SpeedCat","Mvmt2","Mvmt2_gen","Mvmt2_SpeedCat",null,"Q1","Q2","I",null,"Speed_V1","Speed_V2","Angle","delta_V","P_FSI",null,null,null,"CrossC","RampC","CrossM/P","RampM/P","Score",null,"Speed","Factor",null,null,null,null,null,null,null,null,null,null,"CrossT1","CrossL1","CrossR1","CrossT2","CrossL2","CrossR2","RampT1","RampL1","RampR1","RampT2","RampL2","RampR2","CrossNM1","CrossNM2","RampNM1","RampNM2",null,"CrossT1","CrossL1","CrossR1","CrossT2","CrossL2","CrossR2","RampT1","RampL1","RampR1","RampT2","RampL2","RampR2","CrossNM1","CrossNM2","RampNM1","RampNM2",null,null,"#","Conflict Type","MajC","MinC","MajM/P","MinM/P",null,"MajC","MinC","MajM/P","MinM/P"]
[1,"Crossing - LT","EBL","CrossL1","Cross left","NBL","RampL1","Signal far",null,{"$f":"SUMPRODUCT($AN4:$BC4,$AN$40:$BC$40)","v":1875},{"$f":"SUMPRODUCT($BE4:$BT4,$BE$40:$BT$40)","v":1125},{"$f":"PRODUCT(J4:K4)","v":2109375},null,{"$f":"VLOOKUP(E4,SSI_RTI_Range_VehSpeed,5,FALSE)","v":20},{"$f":"VLOOKUP(H4,SSI_RTI_Range_VehSpeed,5,FALSE)","v":25},{"$f":"IF(B4=\"Nonmotorized\",\"\",VLOOKUP(B4,SSI_RTI_Range_CollAngles,5,FALSE))","v":230},{"$f":"IF(B4=\"Nonmotorized\",\"\",SQRT(N4^2+O4^2-2*N4*O4*COS(RADIANS(P4)))/2)","v":20.419277715473552},{"$f":"IF(B4=\"Nonmotorized\",1/(1+EXP(3.8432-0.1237*O4)),(Q4/SSI_RTI_RegAlpha)^SSI_RTI_RegK+(Q4/SSI_RTI_RegAlpha)^SSI_RTI_RegK-((Q4/SSI_RTI_RegAlpha)^SSI_RTI_RegK)*((Q4/SSI_RTI_RegAlpha)^SSI_RTI_RegK))","v":2.1555284139167373E-2},null,{"$f":"SSI_RTI_ProtFactor","v":0.505},null,{"$f":"IF(AND(SSI_RTI_CrossStMedian=\"No\",SSI_RTI_RampMedian=\"Yes\"),BY4,IF(AND(SSI_RTI_CrossStMedian=\"Yes\",SSI_RTI_RampMedian=\"Yes\"),CD4,0))","v":0},{"$f":"IF(AND(SSI_RTI_CrossStMedian=\"No\",SSI_RTI_RampMedian=\"Yes\"),BZ4,IF(AND(SSI_RTI_CrossStMedian=\"Yes\",SSI_RTI_RampMedian=\"Yes\"),CE4,0))","v":0},{"$f":"IF(AND(SSI_RTI_CrossStMedian=\"No\",SSI_RTI_RampMedian=\"Yes\"),CA4,IF(AND(SSI_RTI_CrossStMedian=\"Yes\",SSI_RTI_RampMedian=\"Yes\"),CF4,0))","v":0},{"$f":"IF(AND(SSI_RTI_CrossStMedian=\"No\",SSI_RTI_RampMedian=\"Yes\"),CB4,IF(AND(SSI_RTI_CrossStMedian=\"Yes\",SSI_RTI_RampMedian=\"Yes\"),CG4,0))","v":0},{"$f":"MAX(1,IF(B4<>\"Pedestrian\",V4*SSI_RTI_CrossThruLanes+W4*SSI_RTI_Ramp1ThruLanes+X4*IF(SSI_RTI_CrossThruLanes=1,SSI_RTI_MergeWeightL1,IF(SSI_RTI_CrossThruLanes=2,SSI_RTI_MergeWeightL1+SSI_RTI_MergeWeightL2,SSI_RTI_MergeWeightL1+SSI_RTI_MergeWeightL2+SSI_RTI_MergeWeightL3*(SSI_RTI_CrossThruLanes-2)))+Y4*IF(SSI_RTI_Ramp1ThruLanes=1,SSI_RTI_MergeWeightL1,IF(SSI_RTI_Ramp1ThruLanes=2,SSI_RTI_MergeWeightL1+SSI_RTI_MergeWeightL2,SSI_RTI_MergeWeightL1+SSI_RTI_MergeWeightL2+SSI_RTI_MergeWeightL3*(SSI_RTI_Ramp1ThruLanes-2))),V4*SSI_RTI_CrossThruLanes+W4*SSI_RTI_Ramp1ThruLanes+X4*IF(SSI_RTI_CrossThruLanes=1,SSI_RTI_NM_MergeWeightL1,IF(SSI_RTI_CrossThruLanes=2,SSI_RTI_NM_MergeWeightL1+SSI_RTI_NM_MergeWeightL2,SSI_RTI_NM_MergeWeightL1+SSI_RTI_NM_MergeWeightL2+SSI_RTI_NM_MergeWeightL3*(SSI_RTI_CrossThruLanes-2)))+Y4*IF(SSI_RTI_Ramp1ThruLanes=1,SSI_RTI_NM_MergeWeightL1,IF(SSI_RTI_Ramp1ThruLanes=2,SSI_RTI_NM_MergeWeightL1+SSI_RTI_NM_MergeWeightL2,SSI_RTI_NM_MergeWeightL1+SSI_RTI_NM_MergeWeightL2+SSI_RTI_NM_MergeWeightL3*(SSI_RTI_Ramp1ThruLanes-2)))))","v":1},null,{"$f":"IF(B4=\"Diverging\",\"\",SSI_RTI_VehSpeed_CrossThru)","v":40},{"$f":"IF(B4=\"Diverging\",1,1-((60-AB4)/60*0.1/0.15))","v":0.77777777777777779},null,null,null,{"$f":"IF(SSI_RTI_ConsiderNMComplexity=\"Yes\",1+AE4+AF4,1)","v":1},null,{"$f":"PRODUCT(Z4,T4,AC4,AG4)","v":0.39277777777777778},null,{"$f":"L4*R4*AI4","v":17858.889710614843},null,null,{"$f":"IF(ISNUMBER(SEARCH(AN$3,$D4)),1,\"\")","v":""},{"$f":"IF(ISNUMBER(SEARCH(AO$3,$D4)),1,\"\")","v":1},"","","","","","","","","","","","","","",null,{"$f":"IF(ISNUMBER(SEARCH(BE$3,$G4)),1,\"\")","v":""},{"$f":"IF(ISNUMBER(SEARCH(BF$3,$G4)),1,\"\")","v":""},"","","","","",1,"","","","","","","","",null,null,1,"Crossing - LT",1,0,1,0,null,1,0,0,0]
[2,"Crossing - LT","EBT","CrossT1","Cross thru","WBL","CrossL2","Cross left",null,{"$f":"SUMPRODUCT($AN5:$BC5,$AN$40:$BC$40)","v":3750},{"$f":"SUMPRODUCT($BE5:$BT5,$BE$40:$BT$40)","v":1875},{"$f":"PRODUCT(J5:K5)","v":7031250},null,40,20,230,{"$f":"IF(B5=\"Nonmotorized\",\"\",SQRT(N5^2+O5^2-2*N5*O5*COS(RADIANS(P5)))/2)","v":27.515723575341713},6.6083846594169424E-2,null,0.505,null,0,0,0,0,1,null,40,0.77777777777777779,null,null,null,1,null,0.39277777777777778,null,{"$f":"L5*R5*AI5","v":182504.99821124133},null,null,{"$f":"IF(ISNUMBER(SEARCH(AN$3,$D5)),1,\"\")","v":1},"","","","","","","","","","","","","","","",null,{"$f":"IF(ISNUMBER(SEARCH(BE$3,$G5)),1,\"\")","v":""},"","","",1,"","","","","","","","","","","",null,null,2,"Crossing - LT",1,0,0,0,null,1,0,0,0]
[3,"Crossing - LT","WBL","CrossL2","Cross left","NBL","RampL1","Signal near",null,1875,1125,2109375,null,20,15,230,15.895538413434787,8.3616736100371632E-3,null,0.505,null,0,0,0,0,1,null,40,0.77777777777777779,null,null,null,1,null,0.39277777777777778,null,6927.7772370659468,null,null,"","","","",1,"","","","","","","","","","","",null,"","","","","","","",1,"","","","","","","","",null,null,3,"Crossing - LT",1,0,1,0,null,1,0,0,0]
[4,"Crossing - LT","EBT","CrossT1","Cross thru","NBL","RampL1","Signal near",null,3750,1125,4218750,null,40,15,230,25.477171799592707,4.955895980669895E-2,null,0.505,null,0,0,0,0,1,null,40,0.77777777777777779,null,null,null,1,null,0.39277777777777778,null,82120.745117194121,null,null,1,"","","","","","","","","","","","","","","",null,"","","","","","","",1,"","","","","","","","",null,null,4,"Crossing - LT",1,0,1,0,null,1,0,0,0]
[5,"Crossing - LT","WBL","CrossL2","Cross left","SBL","RampL2","Signal far",null,1875,1125,2109375,null,20,25,230,20.419277715473552,2.1555284139167373E-2,null,0.505,null,0,0,0,0,1,null,40,0.77777777777777779,null,null,null,1,null,0.39277777777777778,null,17858.889710614843,null,null,"","","","",1,"","","","","","","","","","","",null,"","","","","","","","","","",1,"","","","","",null,null,5,"Crossing - LT",1,0,1,0,null,1,0,0,0]
[6,"Crossing - LT","WBT","CrossT2","Cross thru","EBL","CrossL1","Cross left",null,3750,1875,7031250,null,40,20,230,27.515723575341713,6.6083846594169424E-2,null,0.505,null,0,0,0,0,1,null,40,0.77777777777777779,null,null,null,1,null,0.39277777777777778,null,182504.99821124133,null,null,"","","",1,"","","","","","","","","","","","",null,"",1,"","","","","","","","","","","","","","",null,null,6,"Crossing - LT",1,0,0,0,null,1,0,0,0]
[7,"Crossing - LT","EBL","CrossL1","Cross left","SBL","RampL2","Signal near",null,1875,1125,2109375,null,20,15,230,15.895538413434787,8.3616736100371632E-3,null,0.505,null,0,0,0,0,1,null,40,0.77777777777777779,null,null,null,1,null,0.39277777777777778,null,6927.7772370659468,null,null,"",1,"","","","","","","","","","","","","","",null,"","","","","","","","","","",1,"","","","","",null,null,7,"Crossing - LT",1,0,1,0,null,1,0,0,0]
[8,"Crossing - LT","WBT","CrossT2","Cross thru","SBL","RampL2","Signal near",null,3750,1125,4218750,null,40,15,230,25.477171799592707,4.955895980669895E-2,null,0.505,null,0,0,0,0,1,null,40,0.77777777777777779,null,null,null,1,null,0.39277777777777778,null,82120.745117194121,null,null,"","","",1,"","","","","","","","","","","","",null,"","","","","","","","","","",1,"","","","","",null,null,8,"Crossing - LT",1,0,1,0,null,1,0,0,0]
[9,"Merging","WBT,NBL","CrossT2,RampL1","Cross thru","SBR","RampR2","Signal near",null,4875,1125,5484375,null,40,15,45,15.62427488378375,7.8340357658475412E-3,null,0.505,null,0,0,0,0,1,null,40,0.77777777777777779,null,null,null,1,null,0.39277777777777778,null,16875.614700915175,null,null,"","","",1,"","","",1,"","","","","","","","",null,"","","","","","","","","","","",1,"","","","",null,null,9,"Merging",0,0,1,0,null,0,0,1,0]
[10,"Merging","EBR","CrossR1","Cross right","WBL","CrossL2","Cross left",null,1875,1875,3515625,null,15,20,45,7.0840654162717795,3.9022923271840685E-4,null,{"$f":"SSI_RTI_PermFactor","v":1},null,0,0,0,0,1,null,40,0.77777777777777779,null,null,null,1,null,0.77777777777777779,null,1067.0330582143938,null,null,"","",1,"","","","","","","","","","","","","",null,"","","","",1,"","","","","","","","","","","",null,null,10,"Merging",0,0,0,1,null,0,0,0,1]
[11,"Merging","WBT","CrossT2","Cross thru","NBL","RampL1","Signal far",null,3750,1125,4218750,null,40,25,45,14.237155945157243,5.5084599291000359E-3,null,{"$f":"SSI_RTI_ProtFactor","v":0.505},null,0,0,0,0,1,null,40,0.77777777777777779,null,null,null,1,null,0.39277777777777778,null,9127.6902418915433,null,null,"","","",1,"","","","","","","","","","","","",null,"","","","","","","",1,"","","","","","","","",null,null,11,"Merging",1,0,1,0,null,0,0,1,0]
[12,"Merging","EBT","CrossT1","Cross thru","SBL","RampL2","Signal far",null,3750,1125,4218750,null,40,25,45,14.237155945157243,5.5084599291000359E-3,null,{"$f":"SSI_RTI_ProtFactor","v":0.505},null,0,0,0,0,1,null,40,0.77777777777777779,null,null,null,1,null,0.39277777777777778,null,9127.6902418915433,null,null,1,"","","","","","","","","","","","","","","",null,"","","","","","","","","","",1,"","","","","",null,null,12,"Merging",1,0,1,0,null,0,0,1,0]
[13,"Merging","EBT,SBL","CrossT1,RampL2","Cross thru","NBR","RampR1","Signal near",null,4875,1125,5484375,null,40,15,45,15.62427488378375,7.8340357658475412E-3,null,{"$f":"SSI_RTI_ProtFactor","v":0.505},null,0,0,0,0,1,null,40,0.77777777777777779,null,null,null,1,null,0.39277777777777778,null,16875.614700915175,null,null,1,"","","","","","","","","",1,"","","","","",null,"","","","","","","","",1,"","","","","","","",null,null,13,"Merging",0,0,1,0,null,0,0,1,0]
[14,"Merging","WBR","CrossR2","Cross right","WBL","CrossL2","Cross left",null,1875,1875,3515625,null,15,20,45,7.0840654162717795,3.9022923271840685E-4,null,{"$f":"SSI_RTI_PermFactor","v":1},null,0,0,0,0,1,null,40,0.77777777777777779,null,null,null,1,null,0.77777777777777779,null,1067.0330582143938,null,null,"","","","","",1,"","","","","","","","","","",null,"","","","",1,"","","","","","","","","","","",null,null,14,"Merging",0,0,0,1,null,0,0,0,1]
[15,"Diverging","SBR","RampR2","Signal near","SBL","RampL2","Signal near",null,1125,1125,1265625,null,15,15,10,1.3073361412148754,6.4061388075216188E-7,null,1,null,0,0,0,0,1,null,"",1,null,null,null,1,null,1,null,0.81077694282695489,null,null,"","","","","","","","","","","",1,"","","","",null,"","","","","","","","","","",1,"","","","","",null,null,15,"Diverging",0,0,0,0,null,0,0,0,0]
[16,"Diverging","EBT","CrossT1","Cross thru","EBL","CrossL1","Cross left",null,3750,1875,7031250,null,40,20,10,10.299363999544671,1.6139822402002194E-3,null,1,null,0,0,0,0,1,null,"",1,null,null,null,1,null,1,null,11348.312626407793,null,null,1,"","","","","","","","","","","","","","","",null,"",1,"","","","","","","","","","","","","","",null,null,16,"Diverging",0,0,0,0,null,0,0,0,0]
[17,"Diverging","EBT","CrossT1","Cross thru","EBR","CrossR1","Cross right",null,3750,1875,7031250,null,40,15,10,12.680996573469201,3.5521749218507754E-3,null,1,null,0,0,0,0,1,null,"",1,null,null,null,1,null,1,null,24976.229919263264,null,null,1,"","","","","","","","","","","","","","","",null,"","",1,"","","","","","","","","","","","","",null,null,17,"Diverging",0,0,0,0,null,0,0,0,0]
[18,"Diverging","NBR","RampR1","Signal near","NBL","RampL1","Signal near",null,1125,1125,1265625,null,15,15,10,1.3073361412148754,6.4061388075216188E-7,null,1,null,0,0,0,0,1,null,"",1,null,null,null,1,null,1,null,0.81077694282695489,null,null,"","","","","","","","",1,"","","","","","","",null,"","","","","","","",1,"","","","","","","","",null,null,18,"Diverging",0,0,0,0,null,0,0,0,0]
[19,"Diverging","WBT","CrossT2","Cross thru","WBL","CrossL2","Cross left",null,3750,1875,7031250,null,40,20,10,10.299363999544671,1.6139822402002194E-3,null,1,null,0,0,0,0,1,null,"",1,null,null,null,1,null,1,null,11348.312626407793,null,null,"","","",1,"","","","","","","","","","","","",null,"","","","",1,"","","","","","","","","","","",null,null,19,"Diverging",0,0,0,0,null,0,0,0,0]
[20,"Diverging","WBT","CrossT2","Cross thru","WBR","CrossR2","Cross right",null,3750,1875,7031250,null,40,15,10,12.680996573469201,3.5521749218507754E-3,null,1,null,0,0,0,0,1,null,"",1,null,null,null,1,null,1,null,24976.229919263264,null,null,"","","",1,"","","","","","","","","","","","",null,"","","","","",1,"","","","","","","","","","",null,null,20,"Diverging",0,0,0,0,null,0,0,0,0]
[21,"Nonmotorized",null,"RampNM2","Nonmotorized","SBL","RampL2","Signal near",null,375,1125,421875,null,0,15,"","",0.1205004039155782,null,{"$f":"SSI_RTI_ProtFactor","v":0.505},null,0,0,0,0,1,null,{"$f":"IF(B24=\"Diverging\",\"\",SSI_RTI_VehSpeed_SignalNear)","v":15},0.49999999999999989,null,null,null,1,null,0.25249999999999995,null,12836.117245225847,null,null,"","","","","","","","","","","","","","","",1,null,"","","","","","","","","","",1,"","","","","",null,null,21,"Nonmotorized",0,1,0,0,null,0,1,0,0]
[22,"Nonmotorized",null,"RampNM2","Nonmotorized","SBR","RampR2","Signal near",null,375,1125,421875,null,0,15,"","",0.1205004039155782,null,0.505,null,0,0,0,0,1,null,{"$f":"IF(B25=\"Diverging\",\"\",SSI_RTI_VehSpeed_SignalNear)","v":15},0.49999999999999989,null,null,null,1,null,0.25249999999999995,null,{"$f":"L25*R25*AI25","v":12836.117245225847},null,null,"","","","","","","","","","","","","","","",1,null,"","","","","","","","","","","",1,"","","","",null,null,22,"Nonmotorized",0,1,0,0,null,0,1,0,0]
[23,"Nonmotorized",null,"CrossNM1","Nonmotorized","WBT","CrossT2","Cross thru",null,375,3750,1406250,null,0,40,"","",0.75115840021714742,null,0.505,null,0,0,0,0,1,null,40,0.77777777777777779,null,1,null,2,null,0.78555555555555556,null,829795.29523987998,null,null,"","","","","","","","","","","","",1,"","","",null,"","","",1,"","","","","","","","","","","","",null,null,23,"Nonmotorized",2,0,0,1,null,1,0,0,1]
[24,"Nonmotorized",null,"CrossNM1","Nonmotorized","NBL","RampL1","Signal far",null,375,1125,421875,null,0,25,"","",0.32066879346345062,null,{"$f":"IF(SSI_RTI_PedExclusive=\"Yes\",SSI_RTI_ProtFactor,SSI_RTI_ProtPermFactor)","v":0.92500000000000004},null,0,0,0,0,1,null,40,0.77777777777777779,null,1,null,2,null,1.4388888888888889,null,194655.97853211025,null,null,"","","","","","","","","","","","",1,"","","",null,"","","","","","","",1,"","","","","","","","",null,null,24,"Nonmotorized",2,0,0,1,null,1,0,0,1]
[25,"Nonmotorized",null,"CrossNM1","Nonmotorized","EBL","CrossL1","Cross left",null,375,1875,703125,null,0,20,"","",0.20274912921655375,null,0.505,null,0,0,0,0,1,null,40,0.77777777777777779,null,1,null,2,null,0.78555555555555556,null,111987.21434070588,null,null,"","","","","","","","","","","","",1,"","","",null,"",1,"","","","","","","","","","","","","","",null,null,25,"Nonmotorized",2,0,0,1,null,1,0,0,0]
[26,"Nonmotorized",null,"CrossNM1","Nonmotorized","EBT","CrossT1","Cross thru",null,375,3750,1406250,null,0,40,"","",0.75115840021714742,null,0.505,null,0,0,0,0,1,null,40,0.77777777777777779,null,1,null,2,null,0.78555555555555556,null,829795.29523987998,null,null,"","","","","","","","","","","","",1,"","","",null,1,"","","","","","","","","","","","","","","",null,null,26,"Nonmotorized",2,0,0,1,null,1,0,0,0]
[27,"Nonmotorized",null,"RampNM1","Nonmotorized","EBR","CrossR1","Cross right",null,375,1875,703125,null,0,15,"","",0.1205004039155782,null,{"$f":"SSI_RTI_PermFactor","v":1},null,0,0,0,0,1,null,40,0.77777777777777779,null,null,null,1,null,0.77777777777777779,null,65898.658391331832,null,null,{"$f":"IF(ISNUMBER(SEARCH(AN$3,$D30)),1,\"\")","v":""},"","","","","","","","","","","","","",1,"",null,{"$f":"IF(ISNUMBER(SEARCH(BE$3,$G30)),1,\"\")","v":""},"",1,"","","","","","","","","","","","","",null,null,27,"Nonmotorized",0,1,0,0,null,0,1,0,0]
[28,"Nonmotorized",null,"RampNM1","Nonmotorized","WBL","CrossL2","Cross left",null,375,1875,703125,null,0,20,"","",0.20274912921655375,null,0.505,null,0,0,0,0,1,null,40,0.77777777777777779,null,null,null,1,null,0.39277777777777778,null,55993.607170352938,null,null,"","","","","","","","","","","","","","",1,"",null,"","","","",1,"","","","","","","","","","","",null,null,28,"Nonmotorized",0,1,0,0,null,0,1,0,0]
[29,"Nonmotorized",null,"RampNM1","Nonmotorized","NBL","RampL1","Signal near",null,375,1125,421875,null,0,15,"","",0.1205004039155782,null,0.505,null,0,0,0,0,1,null,{"$f":"IF(B32=\"Diverging\",\"\",SSI_RTI_VehSpeed_SignalNear)","v":15},0.49999999999999989,null,null,null,1,null,0.25249999999999995,null,12836.117245225847,null,null,"","","","","","","","","","","","","","",1,"",null,"","","","","","","",1,"","","","","","","","",null,null,29,"Nonmotorized",0,1,0,0,null,0,1,0,0]
[30,"Nonmotorized",null,"RampNM1","Nonmotorized","NBR","RampR1","Signal near",null,375,1125,421875,null,0,15,"","",0.1205004039155782,null,0.505,null,0,0,0,0,1,null,{"$f":"IF(B33=\"Diverging\",\"\",SSI_RTI_VehSpeed_SignalNear)","v":15},0.49999999999999989,null,null,null,1,null,0.25249999999999995,null,12836.117245225847,null,null,"","","","","","","","","","","","","","",1,"",null,"","","","","","","","",1,"","","","","","","",null,null,30,"Nonmotorized",0,1,0,0,null,0,1,0,0]
[31,"Nonmotorized",null,"CrossNM2","Nonmotorized","EBT","CrossT1","Cross thru",null,375,3750,1406250,null,0,40,"","",0.75115840021714742,null,0.505,null,0,0,0,0,1,null,40,0.77777777777777779,null,1,null,2,null,0.78555555555555556,null,829795.29523987998,null,null,"","","","","","","","","","","","","",1,"","",null,1,"","","","","","","","","","","","","","","",null,null,31,"Nonmotorized",2,0,0,1,null,1,0,0,1]
[32,"Nonmotorized",null,"CrossNM2","Nonmotorized","SBL","RampL2","Signal far",null,375,1125,421875,null,0,25,"","",0.32066879346345062,null,{"$f":"IF(SSI_RTI_PedExclusive=\"Yes\",SSI_RTI_ProtPermFactor,SSI_RTI_ProtFactor)","v":0.505},null,0,0,0,0,1,null,40,0.77777777777777779,null,1,null,2,null,0.78555555555555556,null,106271.64233374668,null,null,"","","","","","","","","","","","","",1,"","",null,"","","","","","","","","","",1,"","","","","",null,null,32,"Nonmotorized",2,0,0,1,null,1,0,0,1]
[33,"Nonmotorized",null,"CrossNM2","Nonmotorized","WBL","CrossL2","Cross left",null,375,1875,703125,null,0,20,"","",0.20274912921655375,null,0.505,null,0,0,0,0,1,null,40,0.77777777777777779,null,1,null,2,null,0.78555555555555556,null,111987.21434070588,null,null,"","","","","","","","","","","","","",1,"","",null,"","","","",1,"","","","","","","","","","","",null,null,33,"Nonmotorized",2,0,0,1,null,1,0,0,0]
[34,"Nonmotorized",null,"CrossNM2","Nonmotorized","WBT","CrossT2","Cross thru",null,375,3750,1406250,null,0,40,"","",0.75115840021714742,null,0.505,null,0,0,0,0,1,null,40,0.77777777777777779,null,1,null,2,null,0.78555555555555556,null,829795.29523987998,null,null,"","","","","","","","","","","","","",1,"","",null,"","","",1,"","","","","","","","","","","","",null,null,34,"Nonmotorized",2,0,0,1,null,1,0,0,0]
[35,"Nonmotorized",null,"RampNM2","Nonmotorized","EBL","CrossL1","Cross left",null,375,1875,703125,null,0,20,"","",0.20274912921655375,null,0.505,null,0,0,0,0,1,null,40,0.77777777777777779,null,null,null,1,null,0.39277777777777778,null,55993.607170352938,null,null,"","","","","","","","","","","","","","","",1,null,"",1,"","","","","","","","","","","","","","",null,null,35,"Nonmotorized",0,1,0,0,null,0,1,0,0]
[36,"Nonmotorized",null,"RampNM2","Nonmotorized","WBR","CrossR2","Cross right",null,375,1875,703125,null,0,15,"","",0.1205004039155782,null,{"$f":"SSI_RTI_PermFactor","v":1},null,0,0,0,0,1,null,40,0.77777777777777779,null,null,null,1,null,0.77777777777777779,null,65898.658391331832,null,null,"","","","","","","","","","","","","","","",1,null,"","","","","",1,"","","","","","","","","","",null,null,36,"Nonmotorized",0,1,0,0,null,0,1,0,0]
[null,null,null,null,null,null,null,null,null,null,null,null,null,null,null,null,null,null,null,null,null,null,null,null,null,null,null,null,null,null,null,null,null,null,null,null,null,null,"O",{"$f":"'SSI Inputs RTI'!$D$28","v":3750},{"$f":"'SSI Inputs RTI'!$D$29","v":1875},{"$f":"'SSI Inputs RTI'!$D$30","v":1875},{"$f":"'SSI Inputs RTI'!$D$32","v":3750},{"$f":"'SSI Inputs RTI'!$D$33","v":1875},{"$f":"'SSI Inputs RTI'!$D$34","v":1875},{"$f":"'SSI Inputs RTI'!$D$36","v":2250},{"$f":"'SSI Inputs RTI'!$D$37","v":1125},{"$f":"'SSI Inputs RTI'!$D$38","v":1125},{"$f":"'SSI Inputs RTI'!$D$40","v":2250},{"$f":"'SSI Inputs RTI'!$D$41","v":1125},{"$f":"'SSI Inputs RTI'!$D$42","v":1125},{"$f":"'SSI Inputs RTI'!$Q$20","v":375},{"$f":"'SSI Inputs RTI'!$Q$21","v":375},{"$f":"'SSI Inputs RTI'!$Q$22","v":375},{"$f":"'SSI Inputs RTI'!$Q$23","v":375},"O",{"$f":"'SSI Inputs RTI'!$D$28","v":3750},{"$f":"'SSI Inputs RTI'!$D$29","v":1875},{"$f":"'SSI Inputs RTI'!$D$30","v":1875},{"$f":"'SSI Inputs RTI'!$D$32","v":3750},{"$f":"'SSI Inputs RTI'!$D$33","v":1875},{"$f":"'SSI Inputs RTI'!$D$34","v":1875},{"$f":"'SSI Inputs RTI'!$D$36","v":2250},{"$f":"'SSI Inputs RTI'!$D$37","v":1125},{"$f":"'SSI Inputs RTI'!$D$38","v":1125},{"$f":"'SSI Inputs RTI'!$D$40","v":2250},{"$f":"'SSI Inputs RTI'!$D$41","v":1125},{"$f":"'SSI Inputs RTI'!$D$42","v":1125},{"$f":"'SSI Inputs RTI'!$Q$20","v":375},{"$f":"'SSI Inputs RTI'!$Q$21","v":375},{"$f":"'SSI Inputs RTI'!$Q$22","v":375},{"$f":"'SSI Inputs RTI'!$Q$23","v":375}]
[null,null,null,null,null,null,null,null,null,null,null,null,null,null,null,null,null,null,null,null,null,null,null,null,null,null,null,null,null,null,null,null,null,null,null,null,null,null,"D",{"$f":"'SSI Inputs RTI'!$E$28","v":7750},{"$f":"'SSI Inputs RTI'!$E$29","v":3875},{"$f":"'SSI Inputs RTI'!$E$30","v":3875},{"$f":"'SSI Inputs RTI'!$E$32","v":7750},{"$f":"'SSI Inputs RTI'!$E$33","v":3875},{"$f":"'SSI Inputs RTI'!$E$34","v":3875},{"$f":"'SSI Inputs RTI'!$E$36","v":2500},{"$f":"'SSI Inputs RTI'!$E$37","v":1250},{"$f":"'SSI Inputs RTI'!$E$38","v":1250},{"$f":"'SSI Inputs RTI'!$E$40","v":2500},{"$f":"'SSI Inputs RTI'!$E$41","v":1250},{"$f":"'SSI Inputs RTI'!$E$42","v":1250},{"$f":"'SSI Inputs RTI'!$R$20","v":425},{"$f":"'SSI Inputs RTI'!$R$21","v":425},{"$f":"'SSI Inputs RTI'!$R$22","v":425},{"$f":"'SSI Inputs RTI'!$R$23","v":425},"D",{"$f":"'SSI Inputs RTI'!$E$28","v":7750},{"$f":"'SSI Inputs RTI'!$E$29","v":3875},{"$f":"'SSI Inputs RTI'!$E$30","v":3875},{"$f":"'SSI Inputs RTI'!$E$32","v":7750},{"$f":"'SSI Inputs RTI'!$E$33","v":3875},{"$f":"'SSI Inputs RTI'!$E$34","v":3875},{"$f":"'SSI Inputs RTI'!$E$36","v":2500},{"$f":"'SSI Inputs RTI'!$E$37","v":1250},{"$f":"'SSI Inputs RTI'!$E$38","v":1250},{"$f":"'SSI Inputs RTI'!$E$40","v":2500},{"$f":"'SSI Inputs RTI'!$E$41","v":1250},{"$f":"'SSI Inputs RTI'!$E$42","v":1250},{"$f":"'SSI Inputs RTI'!$R$20","v":425},{"$f":"'SSI Inputs RTI'!$R$21","v":425},{"$f":"'SSI Inputs RTI'!$R$22","v":425},{"$f":"'SSI Inputs RTI'!$R$23","v":425}]
[]
[]
[]
[]
[]
[]
[]
[]
[]
[]
[]
[]
[]
[]
[]
[]
[]
[]
[]
[]
[]
[]
[]
[]
[]
[]
[]
[]
[]
[]
[]
[]
[]
[]
[]
[]
[]
[]
[]
[]
[]
[]
[]
[]
[]
[]
[]
[]
[]
[]
[]
[]
[]
[]
[]
[]
[]
[]
[]
[null,null,null,null,null,null,null,null,null,"Exposure",null,null,null,null,null,null,null,null,null,null,null,null,null,null,null,null,null,null,null,null,null,null,null,null,null,null,"Exposure-Severity-Complexity Product"]
[null,null,null,null,null,null,null,null,null,"Q1","Q2","I"]
[null,null,null,null,null,null,null,null,null,{"$f":"SUMPRODUCT($AN4:$BC4,$AN$41:$BC$41)","v":3875},{"$f":"SUMPRODUCT($BE4:$BT4,$BE$41:$BT$41)","v":1250},{"$f":"PRODUCT(J103:K103)","v":4843750},null,null,null,null,null,null,null,null,null,null,null,null,null,null,null,null,null,null,null,null,null,null,null,null,{"$f":"L103*R4*AI4","v":41009.3022984489}]
[null,null,null,null,null,null,null,null,null,{"$f":"SUMPRODUCT($AN5:$BC5,$AN$41:$BC$41)","v":7750},{"$f":"SUMPRODUCT($BE5:$BT5,$BE$41:$BT$41)","v":3875},{"$f":"PRODUCT(J104:K104)","v":30031250},null,null,null,null,null,null,null,null,null,null,null,null,null,null,null,null,null,null,null,null,null,null,null,null,{"$f":"L104*R5*AI5","v":779499.12569334637}]
[null,null,null,null,null,null,null,null,null,3875,1250,4843750,null,null,null,null,null,null,null,null,null,null,null,null,null,null,null,null,null,null,null,null,null,null,null,null,15908.229211040321]
[null,null,null,null,null,null,null,null,null,7750,1250,9687500,null,null,null,null,null,null,null,null,null,null,null,null,null,null,null,null,null,null,null,null,null,null,null,null,188573.56286170502]
[null,null,null,null,null,null,null,null,null,3875,1250,4843750,null,null,null,null,null,null,null,null,null,null,null,null,null,null,null,null,null,null,null,null,null,null,null,null,41009.3022984489]
[null,null,null,null,null,null,null,null,null,7750,3875,30031250,null,null,null,null,null,null,null,null,null,null,null,null,null,null,null,null,null,null,null,null,null,null,null,null,779499.12569334637]
[null,null,null,null,null,null,null,null,null,3875,1250,4843750,null,null,null,null,null,null,null,null,null,null,null,null,null,null,null,null,null,null,null,null,null,null,null,null,15908.229211040321]
[null,null,null,null,null,null,null,null,null,7750,1250,9687500,null,null,null,null,null,null,null,null,null,null,null,null,null,null,null,null,null,null,null,null,null,null,null,null,188573.56286170502]
[null,null,null,null,null,null,null,null,null,9000,1250,11250000,null,null,null,null,null,null,null,null,null,null,null,null,null,null,null,null,null,null,null,null,null,null,null,null,34616.645540338825]
[null,null,null,null,null,null,null,null,null,3875,3875,15015625,null,null,null,null,null,null,null,null,null,null,null,null,null,null,null,null,null,null,null,null,null,null,null,null,4557.4167508623659]
[null,null,null,null,null,null,null,null,null,7750,1250,9687500,null,null,null,null,null,null,null,null,null,null,null,null,null,null,null,null,null,null,null,null,null,null,null,null,20959.881296195395]
[null,null,null,null,null,null,null,null,null,7750,1250,9687500,null,null,null,null,null,null,null,null,null,null,null,null,null,null,null,null,null,null,null,null,null,null,null,null,20959.881296195395]
[null,null,null,null,null,null,null,null,null,9000,1250,11250000,null,null,null,null,null,null,null,null,null,null,null,null,null,null,null,null,null,null,null,null,null,null,null,null,34616.645540338825]
[null,null,null,null,null,null,null,null,null,3875,3875,15015625,null,null,null,null,null,null,null,null,null,null,null,null,null,null,null,null,null,null,null,null,null,null,null,null,4557.4167508623659]
[null,null,null,null,null,null,null,null,null,1250,1250,1562500,null,null,null,null,null,null,null,null,null,null,null,null,null,null,null,null,null,null,null,null,null,null,null,null,1.0009591886752529]
[null,null,null,null,null,null,null,null,null,7750,3875,30031250,null,null,null,null,null,null,null,null,null,null,null,null,null,null,null,null,null,null,null,null,null,null,null,null,48469.904151012837]
[null,null,null,null,null,null,null,null,null,7750,3875,30031250,null,null,null,null,null,null,null,null,null,null,null,null,null,null,null,null,null,null,null,null,null,null,null,null,106676.25312183109]
[null,null,null,null,null,null,null,null,null,1250,1250,1562500,null,null,null,null,null,null,null,null,null,null,null,null,null,null,null,null,null,null,null,null,null,null,null,null,1.0009591886752529]
[null,null,null,null,null,null,null,null,null,7750,3875,30031250,null,null,null,null,null,null,null,null,null,null,null,null,null,null,null,null,null,null,null,null,null,null,null,null,48469.904151012837]
[null,null,null,null,null,null,null,null,null,7750,3875,30031250,null,null,null,null,null,null,null,null,null,null,null,null,null,null,null,null,null,null,null,null,null,null,null,null,106676.25312183109]
[null,null,null,null,null,null,null,null,null,425,1250,531250,null,null,null,null,null,null,null,null,null,null,null,null,null,null,null,null,null,null,null,null,null,null,null,null,16163.999493988103]
[null,null,null,null,null,null,null,null,null,425,1250,531250,null,null,null,null,null,null,null,null,null,null,null,null,null,null,null,null,null,null,null,null,null,null,null,null,16163.999493988103]
[null,null,null,null,null,null,null,null,null,425,7750,3293750,null,null,null,null,null,null,null,null,null,null,null,null,null,null,null,null,null,null,null,null,null,null,null,null,1943564.9804062967]
[null,null,null,null,null,null,null,null,null,425,1250,531250,null,null,null,null,null,null,null,null,null,null,null,null,null,null,null,null,null,null,null,null,null,null,null,null,245122.34333673146]
[null,null,null,null,null,null,null,null,null,425,3875,1646875,null,null,null,null,null,null,null,null,null,null,null,null,null,null,null,null,null,null,null,null,null,null,null,null,262298.94203356438]
[null,null,null,null,null,null,null,null,null,425,7750,3293750,null,null,null,null,null,null,null,null,null,null,null,null,null,null,null,null,null,null,null,null,null,null,null,null,1943564.9804062967]
[null,null,null,null,null,null,null,null,null,425,3875,1646875,null,null,null,null,null,null,null,null,null,null,null,null,null,null,null,null,null,null,null,null,null,null,null,null,154349.30209880832]
[null,null,null,null,null,null,null,null,null,425,3875,1646875,null,null,null,null,null,null,null,null,null,null,null,null,null,null,null,null,null,null,null,null,null,null,null,null,131149.47101678219]
[null,null,null,null,null,null,null,null,null,425,1250,531250,null,null,null,null,null,null,null,null,null,null,null,null,null,null,null,null,null,null,null,null,null,null,null,null,16163.999493988103]
[null,null,null,null,null,null,null,null,null,425,1250,531250,null,null,null,null,null,null,null,null,null,null,null,null,null,null,null,null,null,null,null,null,null,null,null,null,16163.999493988103]
[null,null,null,null,null,null,null,null,null,425,7750,3293750,null,null,null,null,null,null,null,null,null,null,null,null,null,null,null,null,null,null,null,null,null,null,null,null,1943564.9804062967]
[null,null,null,null,null,null,null,null,null,425,1250,531250,null,null,null,null,null,null,null,null,null,null,null,null,null,null,null,null,null,null,null,null,null,null,null,null,133823.5496054588]
[null,null,null,null,null,null,null,null,null,425,3875,1646875,null,null,null,null,null,null,null,null,null,null,null,null,null,null,null,null,null,null,null,null,null,null,null,null,262298.94203356438]
[null,null,null,null,null,null,null,null,null,425,7750,3293750,null,null,null,null,null,null,null,null,null,null,null,null,null,null,null,null,null,null,null,null,null,null,null,null,1943564.9804062967]
[null,null,null,null,null,null,null,null,null,{"$f":"SUMPRODUCT($AN38:$BC38,$AN$41:$BC$41)","v":425},{"$f":"SUMPRODUCT($BE38:$BT38,$BE$41:$BT$41)","v":3875},{"$f":"PRODUCT(J137:K137)","v":1646875},null,null,null,null,null,null,null,null,null,null,null,null,null,null,null,null,null,null,null,null,null,null,null,null,131149.47101678219]
[null,null,null,null,null,null,null,null,null,425,3875,{"$f":"PRODUCT(J138:K138)","v":1646875},null,null,null,null,null,null,null,null,null,null,null,null,null,null,null,null,null,null,null,null,null,null,null,null,154349.30209880832]

{"sheet":"DDI","index":8,"n_rows":124,"n_cols":72,"rows_kept":124,"cut":false,"hidden":true,"merged":[[1,34,2,34],[1,36,2,36],[1,39,1,52],[1,56,1,69],[100,9,100,11],[100,36,101,36],[0,19,0,28],[0,30,0,32],[1,9,1,11],[1,13,1,17],[1,21,1,25],[1,27,1,28],[1,30,2,30],[1,31,2,31],[1,32,2,32]]}
[null,null,null,null,null,null,null,null,null,null,null,null,null,null,null,null,null,null,null,"Conflicting Traffic Complexity",null,null,null,null,null,null,null,null,null,null,"Pedestrian Complexity"]
[null,null,null,null,null,null,null,null,null,"Exposure",null,null,null,"Severity",null,null,null,null,null,"Traffic Control",null,"Conflicting Lanes",null,null,null,null,null,"Conflicting Speed",null,null,"Indirect Paths Indicator","Non-intuitive movements indicator","Pedestrian Complexity factor",null,"Total Complexity Multiplier",null,"Exposure-Severity-Complexity Product",null,null,"Included in Mvmt1",null,null,null,null,null,null,null,null,null,null,null,null,null,null,null,null,"Included in Mvmt2"]
["#","Conflict Type","Mvmt1","Mvmt1_gen","Mvmt1_SpeedCat","Mvmt2","Mvmt2_gen","Mvmt2_SpeedCat",null,"Q1","Q2","I",null,"Speed_V1","Speed_V2","Angle","delta_V","P_FSI",null,null,null,"CrossC","RampC","CrossM/P","RampM/P","Score",null,"Speed","Factor",null,null,null,null,null,null,null,null,null,null,"CrossT1","CrossL1","CrossR1","CrossT2","CrossL2","CrossR2","RampT1","RampL1","RampR1","RampT2","RampL2","RampR2","CrossNM1","CrossNM2","RampNM1","RampNM2",null,"CrossT1","CrossL1","CrossR1","CrossT2","CrossL2","CrossR2","RampT1","RampL1","RampR1","RampT2","RampL2","RampR2","CrossNM1","CrossNM2","RampNM1","RampNM2"]
[1,"Crossing","EBT,EBL","CrossT1,CrossL1","Cross thru","WBT,NBL","CrossT2,RampL1","Signal far",null,{"$f":"SUMPRODUCT($AN4:$BC4,$AN$26:$BC$26)","v":5625},{"$f":"SUMPRODUCT($BE4:$BT4,$BE$26:$BT$26)","v":4875},{"$f":"PRODUCT(J4:K4)","v":27421875},null,{"$f":"VLOOKUP(E4,SSI_RTI_Range_VehSpeed,5,FALSE)","v":40},{"$f":"VLOOKUP(H4,SSI_RTI_Range_VehSpeed,5,FALSE)","v":25},{"$f":"IF(B4=\"Nonmotorized\",\"\",VLOOKUP(B4,SSI_RTI_Range_CollAngles,5,FALSE))","v":90},{"$f":"IF(B4=\"Nonmotorized\",\"\",SQRT(N4^2+O4^2-2*N4*O4*COS(RADIANS(P4)))/2)","v":23.584952830141511},{"$f":"IF(B4=\"Nonmotorized\",1/(1+EXP(3.8432-0.1237*O4)),(Q4/SSI_RTI_RegAlpha)^SSI_RTI_RegK+(Q4/SSI_RTI_RegAlpha)^SSI_RTI_RegK-((Q4/SSI_RTI_RegAlpha)^SSI_RTI_RegK)*((Q4/SSI_RTI_RegAlpha)^SSI_RTI_RegK))","v":3.7097408311205816E-2},null,{"$f":"SSI_RTI_ProtFactor","v":0.505},null,1,null,null,null,{"$f":"MAX(1,IF(B4<>\"Pedestrian\",V4*SSI_RTI_CrossThruLanes+W4*SSI_RTI_Ramp1ThruLanes+X4*IF(SSI_RTI_CrossThruLanes=1,SSI_RTI_MergeWeightL1,IF(SSI_RTI_CrossThruLanes=2,SSI_RTI_MergeWeightL1+SSI_RTI_MergeWeightL2,SSI_RTI_MergeWeightL1+SSI_RTI_MergeWeightL2+SSI_RTI_MergeWeightL3*(SSI_RTI_CrossThruLanes-2)))+Y4*IF(SSI_RTI_Ramp1ThruLanes=1,SSI_RTI_MergeWeightL1,IF(SSI_RTI_Ramp1ThruLanes=2,SSI_RTI_MergeWeightL1+SSI_RTI_MergeWeightL2,SSI_RTI_MergeWeightL1+SSI_RTI_MergeWeightL2+SSI_RTI_MergeWeightL3*(SSI_RTI_Ramp1ThruLanes-2))),V4*SSI_RTI_CrossThruLanes+W4*SSI_RTI_Ramp1ThruLanes+X4*IF(SSI_RTI_CrossThruLanes=1,SSI_RTI_NM_MergeWeightL1,IF(SSI_RTI_CrossThruLanes=2,SSI_RTI_NM_MergeWeightL1+SSI_RTI_NM_MergeWeightL2,SSI_RTI_NM_MergeWeightL1+SSI_RTI_NM_MergeWeightL2+SSI_RTI_NM_MergeWeightL3*(SSI_RTI_CrossThruLanes-2)))+Y4*IF(SSI_RTI_Ramp1ThruLanes=1,SSI_RTI_NM_MergeWeightL1,IF(SSI_RTI_Ramp1ThruLanes=2,SSI_RTI_NM_MergeWeightL1+SSI_RTI_NM_MergeWeightL2,SSI_RTI_NM_MergeWeightL1+SSI_RTI_NM_MergeWeightL2+SSI_RTI_NM_MergeWeightL3*(SSI_RTI_Ramp1ThruLanes-2)))))","v":2},null,{"$f":"IF(B4=\"Diverging\",\"\",SSI_RTI_VehSpeed_CrossThru)","v":40},{"$f":"IF(B4=\"Diverging\",1,1-((60-AB4)/60*0.1/0.15))","v":0.77777777777777779},null,null,null,{"$f":"IF(SSI_RTI_ConsiderNMComplexity=\"Yes\",1+AE4+AF4,1)","v":1},null,{"$f":"PRODUCT(Z4,T4,AC4,AG4)","v":0.78555555555555556},null,{"$f":"L4*R4*AI4","v":799130.34325381101},null,null,{"$f":"IF(ISNUMBER(SEARCH(AN$3,$D4)),1,\"\")","v":1},{"$f":"IF(ISNUMBER(SEARCH(AO$3,$D4)),1,\"\")","v":1},"","","","","","","","","","","","","","",null,{"$f":"IF(ISNUMBER(SEARCH(BE$3,$G4)),1,\"\")","v":""},{"$f":"IF(ISNUMBER(SEARCH(BF$3,$G4)),1,\"\")","v":""},"",1,"","","",1,"","","","","","","",""]
[2,"Crossing","WBT,WBL","CrossT2,CrossL2","Cross thru","EBT,SBL","CrossT1,RampL2","Signal far",null,5625,4875,{"$f":"PRODUCT(J5:K5)","v":27421875},null,40,25,90,{"$f":"IF(B5=\"Nonmotorized\",\"\",SQRT(N5^2+O5^2-2*N5*O5*COS(RADIANS(P5)))/2)","v":23.584952830141511},3.7097408311205816E-2,null,0.505,null,1,null,null,null,2,null,40,0.77777777777777779,null,null,null,1,null,0.78555555555555556,null,{"$f":"L5*R5*AI5","v":799130.34325381101},null,null,{"$f":"IF(ISNUMBER(SEARCH(AN$3,$D5)),1,\"\")","v":""},"","",1,1,"","","","","","","","","","","",null,{"$f":"IF(ISNUMBER(SEARCH(BE$3,$G5)),1,\"\")","v":1},"","","","","","","","","",1,"","","","",""]
[3,"Merging","WBT,NBL","CrossT2,RampL1","Signal far","SBR","RampR2","Signal near",null,4875,1125,5484375,null,25,15,45,8.9396576292116645,9.432995959267502E-4,null,0.505,null,null,null,1,null,1.75,null,40,0.77777777777777779,null,null,null,1,null,0.6873611111111112,null,3555.9999669808203,null,null,"","","",1,"","","",1,"","","","","","","","",null,"","","","","","","","","","","",1,"","","",""]
[4,"Merging","EBR","CrossR1","Cross right","WBL","CrossL2","Cross left",null,1875,1875,3515625,null,15,20,45,7.0840654162717795,3.9022923271840685E-4,null,0.505,null,null,null,1,null,1.75,null,40,0.77777777777777779,null,null,null,1,null,0.6873611111111112,null,942.9904651969706,null,null,"","",1,"","","","","","","","","","","","","",null,"","","","",1,"","","","","","","","","","",""]
[5,"Merging","WBT,WBL","CrossT2,CrossL2","Cross thru","NBL","RampL1","Signal near",null,5625,1125,6328125,null,40,15,45,15.62427488378375,7.8340357658475412E-3,null,0.505,null,null,null,1,null,1.75,null,40,0.77777777777777779,null,null,null,1,null,0.6873611111111112,null,34075.760453771029,null,null,"","","",1,1,"","","","","","","","","","","",null,"","","","","","","",1,"","","","","","","",""]
[6,"Merging","EBT,SBL","CrossT1,RampL2","Signal far","NBR","RampR1","Signal near",null,4875,1125,5484375,null,25,15,45,8.9396576292116645,9.432995959267502E-4,null,0.505,null,null,null,1,null,1.75,null,40,0.77777777777777779,null,null,null,1,null,0.6873611111111112,null,3555.9999669808203,null,null,1,"","","","","","","","","",1,"","","","","",null,"","","","","","","","",1,"","","","","","",""]
[7,"Merging","WBR","CrossR2","Cross right","EBL","CrossL1","Cross left",null,1875,1875,3515625,null,15,20,45,7.0840654162717795,3.9022923271840685E-4,null,0.505,null,null,null,1,null,1.75,null,40,0.77777777777777779,null,null,null,1,null,0.6873611111111112,null,942.9904651969706,null,null,"","","","","",1,"","","","","","","","","","",null,"",1,"","","","","","","","","","","","","",""]
[8,"Merging","EBT,EBL","CrossT1,CrossL1","Cross thru","SBL","RampL1","Signal near",null,5625,1125,6328125,null,40,15,45,15.62427488378375,7.8340357658475412E-3,null,0.505,null,null,null,1,null,1.75,null,40,0.77777777777777779,null,null,null,1,null,0.6873611111111112,null,34075.760453771029,null,null,1,1,"","","","","","","","","","","","","","",null,"","","","","","","",1,"","","","","","","",""]
[9,"Diverging","SBR","RampR2","Signal near","SBL","RampL1","Signal near",null,1125,1125,1265625,null,15,15,10,1.3073361412148754,6.4061388075216188E-7,null,{"$f":"SSI_RTI_PermFactor","v":1},null,null,null,null,null,1,null,"",1,null,null,null,1,null,1,null,0.81077694282695489,null,null,"","","","","","","","","","","",1,"","","","",null,"","","","","","","",1,"","","","","","","",""]
[10,"Diverging","EBT,EBL","CrossT1,CrossL1","Cross thru","EBR","CrossR1","Cross right",null,5625,1875,10546875,null,40,15,10,12.680996573469201,3.5521749218507754E-3,null,1,null,null,null,null,null,1,null,"",1,null,null,null,1,null,1,null,37464.344878894895,null,null,1,1,"","","","","","","","","","","","","","",null,"","",1,"","","","","","","","","","","","",""]
[11,"Diverging","WBT","CrossT2","Cross thru","WBL","CrossL2","Cross left",null,3750,1875,7031250,null,40,20,10,10.299363999544671,1.6139822402002194E-3,null,1,null,null,null,null,null,1,null,"",1,null,null,null,1,null,1,null,11348.312626407793,null,null,"","","",1,"","","","","","","","","","","","",null,"","","","",1,"","","","","","","","","","",""]
[12,"Diverging","NBR","RampR1","Signal near","NBL","RampL1","Signal near",null,1125,1125,1265625,null,15,15,10,1.3073361412148754,6.4061388075216188E-7,null,1,null,null,null,null,null,1,null,"",1,null,null,null,1,null,1,null,0.81077694282695489,null,null,"","","","","","","","",1,"","","","","","","",null,"","","","","","","",1,"","","","","","","",""]
[13,"Diverging","WBT,WBL","CrossT2,CrossL2","Cross thru","WBR","CrossR2","Cross right",null,5625,1875,10546875,null,40,15,10,12.680996573469201,3.5521749218507754E-3,null,1,null,null,null,null,null,1,null,"",1,null,null,null,1,null,1,null,37464.344878894895,null,null,"","","",1,1,"","","","","","","","","","","",null,"","","","","",1,"","","","","","","","","",""]
[14,"Diverging","EBT","CrossT1","Cross thru","EBL","CrossL1","Cross left",null,3750,1875,7031250,null,40,20,10,10.299363999544671,1.6139822402002194E-3,null,1,null,null,null,null,null,1,null,"",1,null,null,null,1,null,1,null,11348.312626407793,null,null,1,"","","","","","","","","","","","","","","",null,"",1,"","","","","","","","","","","","","",""]
[15,"Nonmotorized",null,"CrossNM1","Nonmotorized","EBT,EBL","CrossT1,CrossL1","Cross thru",null,375,5625,2109375,null,0,40,"","",0.75115840021714742,null,{"$f":"SSI_RTI_ProtFactor","v":0.505},null,1,null,null,null,2,null,40,0.77777777777777779,null,1,1,3,null,2.3566666666666665,null,3734078.8285794598,null,null,"","","","","","","","","","","","",1,"","","",null,1,1,"","","","","","","","","","","","","",""]
[16,"Nonmotorized",null,"RampNM2","Nonmotorized","SBR","RampR2","Signal near",null,375,1125,421875,null,0,15,"","",0.1205004039155782,null,0.505,null,null,1,null,null,1,null,{"$f":"IF(B19=\"Diverging\",\"\",SSI_RTI_VehSpeed_SignalNear)","v":15},0.49999999999999989,null,1,1,3,null,0.75749999999999984,null,38508.351735677541,null,null,"","","","","","","","","","","","","","","",1,null,"","","","","","","","","","","",1,"","","",""]
[17,"Nonmotorized",null,"RampNM1","Nonmotorized","EBR","CrossR2","Cross right",null,375,1875,703125,null,0,15,"","",0.1205004039155782,null,{"$f":"SSI_RTI_PermFactor","v":1},null,1,null,null,null,2,null,40,0.77777777777777779,null,1,1,3,null,4.666666666666667,null,395391.95034799102,null,null,"","","","","","","","","","","","","","",1,"",null,"","","","","",1,"","","","","","","","","",""]
[18,"Nonmotorized",null,"CrossNM1","Nonmotorized","WBT,NBL","CrossT2,RampL1","Cross thru",null,375,4875,1828125,null,0,40,"","",0.75115840021714742,null,0.505,null,1,null,null,null,2,null,40,0.77777777777777779,null,1,1,3,null,2.3566666666666665,null,3236201.6514355321,null,null,"","","","","","","","","","","","",1,"","","",null,"","","",1,"","","",1,"","","","","","",{"$f":"IF(ISNUMBER(SEARCH(BS$3,$G21)),1,\"\")","v":""},""]
[19,"Nonmotorized",null,"CrossNM2","Nonmotorized","WBT,WBL","CrossT2,CrossL2","Cross thru",null,375,5625,2109375,null,0,40,"","",0.75115840021714742,null,0.505,null,1,null,null,null,2,null,40,0.77777777777777779,null,1,1,3,null,2.3566666666666665,null,3734078.8285794598,null,null,"","","","","","","","","","","","","",1,"","",null,{"$f":"IF(ISNUMBER(SEARCH(BE$3,$G22)),1,\"\")","v":""},"","",1,1,"","","","","","","","","","",""]
[20,"Nonmotorized",null,"RampNM1","Nonmotorized","NBR","RampR1","Signal near",null,375,1125,421875,null,0,15,"","",0.1205004039155782,null,0.505,null,null,1,null,null,1,null,{"$f":"IF(B23=\"Diverging\",\"\",SSI_RTI_VehSpeed_SignalNear)","v":15},0.49999999999999989,null,1,1,3,null,0.75749999999999984,null,38508.351735677541,null,null,"","","","","","","","","","","","",{"$f":"IF(ISNUMBER(SEARCH(AZ$3,$D23)),1,\"\")","v":""},"",1,"",null,"","","","","","","","",1,"","","","","","",""]
[21,"Nonmotorized",null,"RampNM2","Nonmotorized","WBR","CrossR2","Cross right",null,375,1875,703125,null,0,15,"","",0.1205004039155782,null,{"$f":"SSI_RTI_PermFactor","v":1},null,1,null,null,null,2,null,40,0.77777777777777779,null,1,1,3,null,4.666666666666667,null,395391.95034799102,null,null,{"$f":"IF(ISNUMBER(SEARCH(AN$3,$D24)),1,\"\")","v":""},"","","","","","","","","","","","","","",1,null,"","","","","",1,"","","","","","","","","",""]
[22,"Nonmotorized",null,"CrossNM2","Nonmotorized","EBT,SBL","CrossT1,RampL2","Cross thru",null,375,4875,1828125,null,0,40,"","",0.75115840021714742,null,0.505,null,1,null,null,null,2,null,40,0.77777777777777779,null,1,1,3,null,2.3566666666666665,null,{"$f":"L25*R25*AI25","v":3236201.6514355321},null,null,"","","","","","","","","","","","","",1,"","",null,1,"","","","","","","","","",1,"","","","",""]
[null,null,null,null,null,null,null,null,null,null,null,null,null,null,null,null,null,null,null,null,null,null,null,null,null,null,null,null,null,null,null,null,null,null,null,null,null,null,"O",{"$f":"'SSI Inputs RTI'!$D$28","v":3750},{"$f":"'SSI Inputs RTI'!$D$29","v":1875},{"$f":"'SSI Inputs RTI'!$D$30","v":1875},{"$f":"'SSI Inputs RTI'!$D$32","v":3750},{"$f":"'SSI Inputs RTI'!$D$33","v":1875},{"$f":"'SSI Inputs RTI'!$D$34","v":1875},{"$f":"'SSI Inputs RTI'!$D$36","v":2250},{"$f":"'SSI Inputs RTI'!$D$37","v":1125},{"$f":"'SSI Inputs RTI'!$D$38","v":1125},{"$f":"'SSI Inputs RTI'!$D$40","v":2250},{"$f":"'SSI Inputs RTI'!$D$41","v":1125},{"$f":"'SSI Inputs RTI'!$D$42","v":1125},{"$f":"'SSI Inputs RTI'!$Q$20","v":375},{"$f":"'SSI Inputs RTI'!$Q$21","v":375},{"$f":"'SSI Inputs RTI'!$Q$22","v":375},{"$f":"'SSI Inputs RTI'!$Q$23","v":375},"O",{"$f":"'SSI Inputs RTI'!$D$28","v":3750},{"$f":"'SSI Inputs RTI'!$D$29","v":1875},{"$f":"'SSI Inputs RTI'!$D$30","v":1875},{"$f":"'SSI Inputs RTI'!$D$32","v":3750},{"$f":"'SSI Inputs RTI'!$D$33","v":1875},{"$f":"'SSI Inputs RTI'!$D$34","v":1875},{"$f":"'SSI Inputs RTI'!$D$36","v":2250},{"$f":"'SSI Inputs RTI'!$D$37","v":1125},{"$f":"'SSI Inputs RTI'!$D$38","v":1125},{"$f":"'SSI Inputs RTI'!$D$40","v":2250},{"$f":"'SSI Inputs RTI'!$D$41","v":1125},{"$f":"'SSI Inputs RTI'!$D$42","v":1125},{"$f":"'SSI Inputs RTI'!$Q$20","v":375},{"$f":"'SSI Inputs RTI'!$Q$21","v":375},{"$f":"'SSI Inputs RTI'!$Q$22","v":375},{"$f":"'SSI Inputs RTI'!$Q$23","v":375}]
[null,null,null,null,null,null,null,null,null,null,null,null,null,null,null,null,null,null,null,null,null,null,null,null,null,null,null,null,null,null,null,null,null,null,null,null,null,null,"D",{"$f":"'SSI Inputs RTI'!$E$28","v":7750},{"$f":"'SSI Inputs RTI'!$E$29","v":3875},{"$f":"'SSI Inputs RTI'!$E$30","v":3875},{"$f":"'SSI Inputs RTI'!$E$32","v":7750},{"$f":"'SSI Inputs RTI'!$E$33","v":3875},{"$f":"'SSI Inputs RTI'!$E$34","v":3875},{"$f":"'SSI Inputs RTI'!$E$36","v":2500},{"$f":"'SSI Inputs RTI'!$E$37","v":1250},{"$f":"'SSI Inputs RTI'!$E$38","v":1250},{"$f":"'SSI Inputs RTI'!$E$40","v":2500},{"$f":"'SSI Inputs RTI'!$E$41","v":1250},{"$f":"'SSI Inputs RTI'!$E$42","v":1250},{"$f":"'SSI Inputs RTI'!$R$20","v":425},{"$f":"'SSI Inputs RTI'!$R$21","v":425},{"$f":"'SSI Inputs RTI'!$R$22","v":425},{"$f":"'SSI Inputs RTI'!$R$23","v":425},"D",{"$f":"'SSI Inputs RTI'!$E$28","v":7750},{"$f":"'SSI Inputs RTI'!$E$29","v":3875},{"$f":"'SSI Inputs RTI'!$E$30","v":3875},{"$f":"'SSI Inputs RTI'!$E$32","v":7750},{"$f":"'SSI Inputs RTI'!$E$33","v":3875},{"$f":"'SSI Inputs RTI'!$E$34","v":3875},{"$f":"'SSI Inputs RTI'!$E$36","v":2500},{"$f":"'SSI Inputs RTI'!$E$37","v":1250},{"$f":"'SSI Inputs RTI'!$E$38","v":1250},{"$f":"'SSI Inputs RTI'!$E$40","v":2500},{"$f":"'SSI Inputs RTI'!$E$41","v":1250},{"$f":"'SSI Inputs RTI'!$E$42","v":1250},{"$f":"'SSI Inputs RTI'!$R$20","v":425},{"$f":"'SSI Inputs RTI'!$R$21","v":425},{"$f":"'SSI Inputs RTI'!$R$22","v":425},{"$f":"'SSI Inputs RTI'!$R$23","v":425}]
[]
[]
[]
[]
[]
[]
[]
[]
[]
[]
[]
[]
[]
[]
[]
[]
[]
[]
[]
[]
[]
[]
[]
[]
[]
[]
[]
[]
[]
[]
[]
[]
[]
[]
[]
[]
[]
[]
[]
[]
[]
[]
[]
[]
[]
[]
[]
[]
[]
[]
[]
[]
[]
[]
[]
[]
[]
[]
[]
[]
[]
[]
[]
[]
[]
[]
[]
[]
[]
[]
[]
[]
[]
[null,null,null,null,null,null,null,null,null,"Exposure",null,null,null,null,null,null,null,null,null,null,null,null,null,null,null,null,null,null,null,null,null,null,null,null,null,null,"Exposure-Severity-Complexity Product"]
[null,null,null,null,null,null,null,null,null,"Q1","Q2","I"]
[null,null,null,null,null,null,null,null,null,{"$f":"SUMPRODUCT($AN4:$BC4,$AN$27:$BC$27)","v":11625},{"$f":"SUMPRODUCT($BE4:$BT4,$BE$27:$BT$27)","v":9000},{"$f":"PRODUCT(J103:K103)","v":104625000},null,null,null,null,null,null,null,null,null,null,null,null,null,null,null,null,null,null,null,null,null,null,null,null,{"$f":"L103*R4*AI4","v":3048989.6173376171}]
[null,null,null,null,null,null,null,null,null,{"$f":"SUMPRODUCT($AN5:$BC5,$AN$27:$BC$27)","v":11625},{"$f":"SUMPRODUCT($BE5:$BT5,$BE$27:$BT$27)","v":9000},{"$f":"PRODUCT(J104:K104)","v":104625000},null,null,null,null,null,null,null,null,null,null,null,null,null,null,null,null,null,null,null,null,null,null,null,null,{"$f":"L104*R5*AI5","v":3048989.6173376171}]
[null,null,null,null,null,null,null,null,null,9000,1250,11250000,null,null,null,null,null,null,null,null,null,null,null,null,null,null,null,null,null,null,null,null,null,null,null,null,7294.3589066273244]
[null,null,null,null,null,null,null,null,null,3875,3875,15015625,null,null,null,null,null,null,null,null,null,null,null,null,null,null,null,null,null,null,null,null,null,null,null,null,4027.6170535746164]
[null,null,null,null,null,null,null,null,null,11625,1250,14531250,null,null,null,null,null,null,null,null,null,null,null,null,null,null,null,null,null,null,null,null,null,null,null,null,78248.042523474229]
[null,null,null,null,null,null,null,null,null,9000,1250,11250000,null,null,null,null,null,null,null,null,null,null,null,null,null,null,null,null,null,null,null,null,null,null,null,null,7294.3589066273244]
[null,null,null,null,null,null,null,null,null,3875,3875,15015625,null,null,null,null,null,null,null,null,null,null,null,null,null,null,null,null,null,null,null,null,null,null,null,null,4027.6170535746164]
[null,null,null,null,null,null,null,null,null,11625,1250,14531250,null,null,null,null,null,null,null,null,null,null,null,null,null,null,null,null,null,null,null,null,null,null,null,null,78248.042523474229]
[null,null,null,null,null,null,null,null,null,1250,1250,1562500,null,null,null,null,null,null,null,null,null,null,null,null,null,null,null,null,null,null,null,null,null,null,null,null,1.0009591886752529]
[null,null,null,null,null,null,null,null,null,11625,3875,45046875,null,null,null,null,null,null,null,null,null,null,null,null,null,null,null,null,null,null,null,null,null,null,null,null,160014.37968274666]
[null,null,null,null,null,null,null,null,null,7750,3875,30031250,null,null,null,null,null,null,null,null,null,null,null,null,null,null,null,null,null,null,null,null,null,null,null,null,48469.904151012837]
[null,null,null,null,null,null,null,null,null,1250,1250,1562500,null,null,null,null,null,null,null,null,null,null,null,null,null,null,null,null,null,null,null,null,null,null,null,null,1.0009591886752529]
[null,null,null,null,null,null,null,null,null,11625,3875,45046875,null,null,null,null,null,null,null,null,null,null,null,null,null,null,null,null,null,null,null,null,null,null,null,null,160014.37968274666]
[null,null,null,null,null,null,null,null,null,7750,3875,30031250,null,null,null,null,null,null,null,null,null,null,null,null,null,null,null,null,null,null,null,null,null,null,null,null,48469.904151012837]
[null,null,null,null,null,null,null,null,null,425,11625,4940625,null,null,null,null,null,null,null,null,null,null,null,null,null,null,null,null,null,null,null,null,null,null,null,null,8746042.4118283335]
[null,null,null,null,null,null,null,null,null,425,1250,531250,null,null,null,null,null,null,null,null,null,null,null,null,null,null,null,null,null,null,null,null,null,null,null,null,48491.998481964307]
[null,null,null,null,null,null,null,null,null,425,3875,1646875,null,null,null,null,null,null,null,null,null,null,null,null,null,null,null,null,null,null,null,null,null,null,null,null,926095.81259285007]
[null,null,null,null,null,null,null,null,null,425,9000,3825000,null,null,null,null,null,null,null,null,null,null,null,null,null,null,null,null,null,null,null,null,null,null,null,null,6771129.6091574207]
[null,null,null,null,null,null,null,null,null,425,11625,4940625,null,null,null,null,null,null,null,null,null,null,null,null,null,null,null,null,null,null,null,null,null,null,null,null,8746042.4118283335]
[null,null,null,null,null,null,null,null,null,425,1250,531250,null,null,null,null,null,null,null,null,null,null,null,null,null,null,null,null,null,null,null,null,null,null,null,null,48491.998481964307]
[null,null,null,null,null,null,null,null,null,425,3875,1646875,null,null,null,null,null,null,null,null,null,null,null,null,null,null,null,null,null,null,null,null,null,null,null,null,926095.81259285007]
[null,null,null,null,null,null,null,null,null,425,9000,3825000,null,null,null,null,null,null,null,null,null,null,null,null,null,null,null,null,null,null,null,null,null,null,null,null,6771129.6091574207]

{"sheet":"SSI Inputs","index":9,"n_rows":76,"n_cols":22,"rows_kept":76,"cut":false,"hidden":false,"merged":[[23,19,27,26],[55,11,55,12],[56,11,56,12],[11,1,11,17],[12,12,12,15],[12,1,12,3],[54,1,54,4],[55,1,55,4],[9,1,9,11],[53,1,53,4],[12,8,12,9],[18,1,20,6],[16,7,16,10],[17,7,17,10],[58,1,58,4],[59,1,59,4],[60,1,60,4],[0,0,0,17],[1,0,1,17],[44,1,44,4],[45,1,45,4],[46,1,46,4],[47,1,47,4],[48,1,48,4],[49,1,49,4],[50,1,50,4],[51,1,51,4],[52,1,52,4],[7,1,7,11],[8,1,8,11],[71,1,71,4],[72,1,72,4],[42,1,42,5],[42,7,42,12],[66,1,66,4],[67,1,67,4],[68,1,68,4],[69,1,69,4],[70,1,70,4],[61,1,61,4],[62,1,62,4],[63,1,63,4],[64,1,64,4],[65,1,65,4],[56,1,56,4],[57,1,57,4]]}
["Safe System Intersection (SSI) Inputs"]
["Specify the geomtric, exposure, severity, and conflicting traffic complexity inputs required for an SSI analysis.",null,null,null,null,null,null,null,null,null,null,null,null,null,null,null,null,null,null,null,"Is Design?",{"$f":"Input_AnalysisYearType=Notes!A12","v":true}]
[null,null,null,null,null,null,null,null,null,null,null,null,null,null,null,null,null,null,null,null,"Is 3-Leg?",{"$f":"Input_NumLegs=Notes!A48","v":false}]
[null,"1. Roadway Geometry",null,null,null,"Lanes",null,"Optional Major Street Designation",null,null,null,null,null,"Required Inputs"]
[null,"Major number thru lanes (one direction)",null,null,null,2,null,"Select major street direction",null,null,"N-S",null,null,"Default Available, Override Optional"]
[null,"Minor number thru lanes (one direction)",null,null,null,1,null,"Median Presence on Major Road",null,null,"No",{"$f":"IF(K6=\"NO\", \"TRUE\",\"FALSE\")","v":"TRUE"},null,"Planning-Level Default Input"]
[null,null,null,null,null,null,null,"Median Presence on Minor Road",null,null,"No",{"$f":"IF(AND(L6=\"TRUE\",'Control Strategy Selection'!C36=\"TRUE\"),\"TRUE\",\"FALSE\")","v":"TRUE"},null,"Computed Value, Override Optional"]
[null,"2. Complete the \"Exposure\" inputs.  These inputs will apply to all interesections selected for analysis.",null,null,null,null,null,null,null,null,null,null,null,"Computed Value - No Override"]
[null,"3. Complete the \"Severity\" inputs",null,null,null,null,null,null,null,null,null,null,null,"Disabled Cell (Often based on input selections)"]
[null,"4. Complete the \"Conflicting Traffic Complexity\" inputs"]
[]
[null,"2. Exposure - All Intersections"]
[null,"Average Daily Traffic (veh/day)",null,null,"Open","Design",null,null,"ADT Directional Split",null,null,null,"Nonmotorized Total ADT (ped/day)",null,null,null,"Activity Level","ADT Value (ped/day)"]
[null,"Major",null,null,{"$f":"IF(Input_Base_OAADTMajor>0,Input_Base_OAADTMajor,\"--\")","v":18000},{"$f":"IF(Input_Base_DAADTMajor>0,Input_Base_DAADTMajor,\"--\")","v":20000},null,null,"Major",0.5,null,null,"Open Year Total Intersection NM",null,null,null,"Medium (700)",700]
[null,"Minor",null,null,{"$f":"IF(Input_Base_OAADTMinor>0,Input_Base_OAADTMinor,\"--\")","v":8000},{"$f":"IF(Input_Base_DAADTMinor>0,Input_Base_DAADTMinor,\"--\")","v":10000},null,null,"Minor",0.5,null,null,"Design Year Total Intersection NM",null,null,null,"Medium (700)",700]
[null,null,null,null,null,null,null,null,null,null,null,null,"(or overwrite ped movement ADTs below)"]
[null,"Are turning movement ADT values are available?",null,null,null,null,"No","If \"Yes\", input values in Table 2-A",null,null,null,null,"Nonmotorized Movement ADT (ped/day)",null,null,null,"Open","Design"]
[null,"Are peak hour turning movement counts available?",null,null,null,null,"No","If \"Yes\", input values in Table 2-B",null,null,null,null,"Major NM 1 (NM mvmt crossing Maj1)",null,null,null,{"$f":"$R$14/IF(IS_3LEG,3,4)","v":175},{"$f":"$R$15/IF(IS_3LEG,3,4)","v":175}]
[null,"If no turning movment volumes or counts are available, a user can optionally override the planning-level default turning movment proportions in Table 2-C",null,null,null,null,null,null,null,null,null,null,"Major NM 2",null,null,null,{"$f":"$R$14/IF(IS_3LEG,3,4)","v":175},{"$f":"$R$15/IF(IS_3LEG,3,4)","v":175}]
[null,null,null,null,null,null,null,null,null,null,null,null,"Minor NM 1",null,null,null,{"$f":"$R$14/IF(IS_3LEG,3,4)","v":175},{"$f":"$R$15/IF(IS_3LEG,3,4)","v":175}]
[null,null,null,null,null,null,null,null,null,null,null,null,"Minor NM 2",null,null,null,{"$f":"IF(IS_3LEG,0,$R$14/4)","v":175},{"$f":"IF(IS_3LEG,0,$R$15/4)","v":175}]
[]
[]
[null,"Table 2-A: Turning Movement (vol/day)",null,null,null,null,"Table 2-B: Turning Movement Counts (Optional)",null,null,null,null,null,null,null,null,"Table 2-C: Turning Proportions (optional)",null,null,null,"Turning movment proportions specified in Table 2-C (and by extension, the percentages determined in Table 2-B) are considered to be constant between the Open and Design years of the analysis."]
[null,null,null,"Open","Design",null,null,null,"Mvmt","AM Peak","AM %","PM Peak","PM %","Avg %",null,null,null,"Decimal"]
[null,"Major Thru 1",null,{"$f":"$E$14*$J$14*R26","v":6543.9560439560446},{"$f":"$F$14*$J$14*R26","v":7271.062271062272},null,"Major Thru 1",null,{"$f":"IF($K$5=\"N-S\",\"NBT\", \"EBT\")","v":"NBT"},400,{"$f":"J26/SUM(J$26:J$28)","v":0.76190476190476186},450,{"$f":"L26/SUM(L$26:L$28)","v":0.69230769230769229},{"$f":"AVERAGE(K26,M26)","v":0.72710622710622708},null,"Major Thru 1",null,{"$f":"1-SUM(R27:R28)","v":0.72710622710622719}]
[null,"Major Left Turn 1",null,{"$f":"$E$14*$J$14*R27","v":2068.6813186813188},{"$f":"$F$14*$J$14*R27","v":2298.5347985347985},null,"Major Left Turn 1",null,{"$f":"IF($K$5=\"N-S\",\"NBL\", \"EBL\")","v":"NBL"},100,{"$f":"J27/SUM(J$26:J$28)","v":0.19047619047619047},175,{"$f":"L27/SUM(L$26:L$28)","v":0.26923076923076922},{"$f":"AVERAGE(K27,M27)","v":0.22985347985347984},null,"Major Left Turn 1",null,{"$f":"IF(IS_3LEG,0,IF(AND(J27<>0,L27<>0),N27,0.25))","v":0.22985347985347984}]
[null,"Major Right Turn 1",null,{"$f":"$E$14*$J$14*R28","v":387.36263736263737},{"$f":"$F$14*$J$14*R28","v":430.40293040293039},null,"Major Right Turn 1",null,{"$f":"IF($K$5=\"N-S\",\"NBR\", \"EBR\")","v":"NBR"},25,{"$f":"J28/SUM(J$26:J$28)","v":4.7619047619047616E-2},25,{"$f":"L28/SUM(L$26:L$28)","v":3.8461538461538464E-2},{"$f":"AVERAGE(K28,M28)","v":4.304029304029304E-2},null,"Major Right Turn 1",null,{"$f":"IF(AND(J28<>0,L28<>0),N28,0.25)","v":4.304029304029304E-2}]
[]
[null,"Major Thru 2",null,{"$f":"$E$14*$J$14*R30","v":6502.7472527472528},{"$f":"$F$14*$J$14*R30","v":7225.2747252747249},null,"Major Thru 2",null,{"$f":"IF($K$5=\"N-S\",\"SBT\", \"WBT\")","v":"SBT"},450,{"$f":"J30/SUM(J$30:J$32)","v":0.69230769230769229},400,{"$f":"L30/SUM(L$30:L$32)","v":0.76190476190476186},{"$f":"AVERAGE(K30,M30)","v":0.72710622710622708},null,"Major Thru 2",null,{"$f":"1-SUM(R31:R32)","v":0.72252747252747251}]
[null,"Major Left Turn 2",null,{"$f":"$E$14*$J$14*R31","v":2068.6813186813188},{"$f":"$F$14*$J$14*R31","v":2298.5347985347985},null,"Major Left Turn 2",null,{"$f":"IF($K$5=\"N-S\",\"SBL\", \"WBL\")","v":"SBL"},175,{"$f":"J31/SUM(J$30:J$32)","v":0.26923076923076922},100,{"$f":"L31/SUM(L$30:L$32)","v":0.19047619047619047},{"$f":"AVERAGE(K31,M31)","v":0.22985347985347984},null,"Major Left Turn 2",null,{"$f":"IF(AND(J31<>0,L31<>0),N31,0.25)","v":0.22985347985347984}]
[null,"Major Right Turn 2",null,{"$f":"$E$14*$J$14*R32","v":428.57142857142856},{"$f":"$F$14*$J$14*R32","v":476.19047619047615},null,"Major Right Turn 2",null,{"$f":"IF($K$5=\"N-S\",\"SBR\", \"WBR\")","v":"SBR"},25,{"$f":"J32/SUM(J$30:J$32)","v":3.8461538461538464E-2},25,{"$f":"L32/SUM(L$30:L$32)","v":4.7619047619047616E-2},4.304029304029304E-2,null,"Major Right Turn 2",null,{"$f":"IF(IS_3LEG,0,IF(AND(J32<>0,L32<>0),M32,0.25))","v":4.7619047619047616E-2}]
[]
[null,"Minor Thru 1",null,{"$f":"$E$15*$J$15*R34","v":1785.7142857142856},{"$f":"$F$15*$J$15*R34","v":2232.1428571428569},null,"Minor Thru 1",null,{"$f":"IF($K$5=\"N-S\",\"EBT\", \"NBT\")","v":"EBT"},100,{"$f":"J34/SUM(J$34:J$36)","v":0.5},75,{"$f":"L34/SUM(L$34:L$36)","v":0.42857142857142855},{"$f":"AVERAGE(K34,M34)","v":0.4642857142857143},null,"Minor Thru 1",null,{"$f":"1-SUM(R35:R36)","v":0.4464285714285714}]
[null,"Minor Left Turn 1",null,{"$f":"$E$15*$J$15*R35","v":1071.4285714285713},{"$f":"$F$15*$J$15*R35","v":1339.2857142857142},null,"Minor Left Turn 1",null,{"$f":"IF($K$5=\"N-S\",\"EBL\", \"NBL\")","v":"EBL"},50,{"$f":"J35/SUM(J$34:J$36)","v":0.25},50,{"$f":"L35/SUM(L$34:L$36)","v":0.2857142857142857},{"$f":"AVERAGE(K35,M35)","v":0.26785714285714285},null,"Minor Left Turn 1",null,{"$f":"IF(AND(J35<>0,L35<>0),N35,IF(IS_3LEG,0.5,0.25))","v":0.26785714285714285}]
[null,"Minor Right Turn 1",null,{"$f":"$E$15*$J$15*R36","v":1142.8571428571429},{"$f":"$F$15*$J$15*R36","v":1428.5714285714284},null,"Minor Right Turn 1",null,{"$f":"IF($K$5=\"N-S\",\"EBR\", \"NBR\")","v":"EBR"},50,{"$f":"J36/SUM(J$34:J$36)","v":0.25},50,{"$f":"L36/SUM(L$34:L$36)","v":0.2857142857142857},0.26785714285714285,null,"Minor Right Turn 1",null,{"$f":"IF(AND(J36<>0,L36<>0),M36,IF(IS_3LEG,0.5,0.25))","v":0.2857142857142857}]
[]
[null,"Minor Thru 2",null,{"$f":"$E$15*$J$15*R38","v":1857.1428571428571},{"$f":"$F$15*$J$15*R38","v":2321.4285714285716},null,"Minor Thru 2",null,{"$f":"IF($K$5=\"N-S\",\"WBT\", \"SBT\")","v":"WBT"},75,{"$f":"J38/SUM(J$38:J$40)","v":0.42857142857142855},100,{"$f":"L38/SUM(L$38:L$40)","v":0.5},{"$f":"AVERAGE(K38,M38)","v":0.4642857142857143},null,"Minor Thru 2",null,{"$f":"IF(IS_3LEG,0,1-SUM(R39:R40))","v":0.4642857142857143}]
[null,"Minor Left Turn 2",null,{"$f":"$E$15*$J$15*R39","v":1071.4285714285713},{"$f":"$F$15*$J$15*R39","v":1339.2857142857142},null,"Minor Left Turn 2",null,{"$f":"IF($K$5=\"N-S\",\"WBL\", \"SBL\")","v":"WBL"},50,{"$f":"J39/SUM(J$38:J$40)","v":0.2857142857142857},50,{"$f":"L39/SUM(L$38:L$40)","v":0.25},{"$f":"AVERAGE(K39,M39)","v":0.26785714285714285},null,"Minor Left Turn 2",null,{"$f":"IF(IS_3LEG,0,IF(AND(J39<>0,L39<>0),N39,0.25))","v":0.26785714285714285}]
[null,"Minor Right Turn 2",null,{"$f":"$E$15*$J$15*R40","v":1071.4285714285713},{"$f":"$F$15*$J$15*R40","v":1339.2857142857142},null,"Minor Right Turn 2",null,{"$f":"IF($K$5=\"N-S\",\"WBR\", \"SBR\")","v":"WBR"},50,{"$f":"J40/SUM(J$38:J$40)","v":0.2857142857142857},50,{"$f":"L40/SUM(L$38:L$40)","v":0.25},0.26785714285714285,null,"Minor Right Turn 2",null,{"$f":"IF(IS_3LEG,0,IF(AND(J39<>0,L39<>0),N39,0.25))","v":0.26785714285714285}]
[]
[]
[null,"3. Severity",null,null,null,null,null,"4. Conflicting Traffic Complexity"]
[]
[null,"Vehicle Speeds",null,null,null,"mph",null,"Traffic Control",null,null,null,null,"Decimal"]
[null,"Major Posted Speed Limit",null,null,null,45,null,"Base Traffic Control Adjustment Value (BTCAV) for permitted",null,null,null,null,1]
[null,"Minor Posted Speed Limit",null,null,null,35,null,"Base Traffic Control Adjustment Value (BTCAV) for protected/permitted",null,null,null,null,0.85]
[null,null,null,null,null,null,null,"Base Traffic Control Adjustment Value (BTCAV) for protected",null,null,null,null,0.01]
[null,"Major thru",null,null,null,{"$f":"F46","v":45},null,"Base Traffic Control Adjustment Value (BTCAV) for stop-controlled",null,null,null,null,0.45]
[null,"Major left",null,null,null,20]
[null,"Major right",null,null,null,15,null,"Weight, f, for permitted",null,null,null,null,0.5]
[null,"Minor thru",null,null,null,{"$f":"F47*0.85","v":29.75},null,"Weight, f, for protected/permitted",null,null,null,null,0.5]
[null,"Minor left",null,null,null,20,null,"Weight, f, for protected",null,null,null,null,0.5]
[null,"Minor right",null,null,null,15,null,"Weight, f, for stop-controlled",null,null,null,null,0.5]
[null,"Stop near",null,null,null,15]
[null,"Stop far",null,null,null,25,null,"Major LT signal phasing (drop-down)",null,null,null,"Protected"]
[null,"Signal near",null,null,null,15,null,"Minor LT signal phasing (drop-down)",null,null,null,"Protected"]
[null,"Signal far",null,null,null,25,null,"Exclusive Pedestrian phasing (drop-down)",null,null,null,null,"No"]
[null,"RAB entering",null,null,null,20]
[null,"RAB circulating",null,null,null,25,null,"Traffic Control Parameter (a_traffic control)"]
[null,"RAB exiting",null,null,null,30,null,"Permitted",null,null,null,null,{"$f":"M46+(1-M51)*(1-M46)","v":1}]
[null,"Nonmotorized",null,null,null,0,null,"Protected/permitted",null,null,null,null,{"$f":"M47+(1-M52)*(1-M47)","v":0.92500000000000004}]
[null,null,null,null,null,null,null,"Protected",null,null,null,null,{"$f":"M48+(1-M53)*(1-M48)","v":0.505}]
[null,"Collision Angles",null,null,null,"deg",null,"Stop-controlled",null,null,null,null,{"$f":"M49+(1-M54)*(1-M49)","v":0.72500000000000009}]
[null,"Crossing",null,null,null,90]
[null,"Crossing - LT",null,null,null,230,null,"Driver Merging Weights (W)"]
[null,"Crossing - RAB",null,null,null,60,null,"Lane 1 (W1)",null,null,null,null,1]
[null,"Merging",null,null,null,45,null,"Lane 2 (W2)",null,null,null,null,0.75]
[null,"Diverging",null,null,null,10,null,"Lane 3+ (W3+)",null,null,null,null,0.5]
[]
[null,"P(FSI) Regression Parameters"]
[null,"alpha",null,null,null,67.286188107741197,null,"Nonmotorized Complexity",null,null,null,null,null,null,"Yes"]
[null,"k",null,null,null,3.7945000839454002,null,"Nonmotorized Turn Score Weights (W)"]
[null,null,null,null,null,null,null,"Lane 1 (W1)",null,null,null,null,1]
[null,null,null,null,null,null,null,"Lane 2 (W2)",null,null,null,null,0.75]
[null,null,null,null,null,null,null,"Lane 3+ (W3)",null,null,null,null,0.5]

{"sheet":"SSI Inputs RTI","index":10,"n_rows":78,"n_cols":20,"rows_kept":78,"cut":false,"hidden":true,"merged":[[71,1,71,4],[72,1,72,4],[73,1,73,4],[74,1,74,4],[65,1,65,4],[66,1,66,4],[67,1,67,4],[68,1,68,4],[69,1,69,4],[70,1,70,4],[64,1,64,4],[54,1,54,4],[55,1,55,4],[56,1,56,4],[57,1,57,4],[59,1,59,4],[60,1,60,4],[61,1,61,4],[62,1,62,4],[63,1,63,4],[57,11,57,12],[58,1,58,4],[58,11,58,12],[48,1,48,4],[49,1,49,4],[50,1,50,4],[51,1,51,4],[52,1,52,4],[53,1,53,4],[25,19,29,23],[44,1,44,5],[44,7,44,12],[46,1,46,4],[47,1,47,4],[13,1,13,3],[13,12,13,15],[18,7,18,10],[19,7,19,10],[20,1,22,6],[14,7,14,9],[15,7,15,9],[13,7,13,10],[12,1,12,17],[0,0,0,17],[1,0,1,17],[8,1,8,11],[9,1,9,11],[10,1,10,11]]}
["Safe System Intersection (SSI) Inputs"]
["Specify the geomtric, exposure, severity, and conflicting traffic complexity inputs required for an SSI analysis."]
[]
[null,"1. Roadway Geometry",null,null,null,"Lanes",null,"Optional Major Street Designation",null,null,null,null,null,"Required Inputs"]
[null,"Cross-Street # of Thru Lanes (one direction)",null,null,null,2,null,"Select major street direction",null,null,"N-S",null,null,"Default Available, Override Optional"]
[null,"Ramp 1 # of Thru Lanes",null,null,null,1,null,"Median Presence on Cross Street",null,null,"No",null,null,"Planning-Level Default Input"]
[null,"Ramp 2 # of Thru Lanes",null,null,null,1,null,"Median Presence on Ramps",null,null,"No",null,null,"Computed Value, Override Optional"]
[null,null,null,null,null,null,null,null,null,null,null,null,null,"Computed Value - No Override"]
[null,"2. Complete the \"Exposure\" inputs.  These inputs will apply to all interesections selected for analysis.",null,null,null,null,null,null,null,null,null,null,null,"Disabled Cell (Often based on input selections)"]
[null,"3. Complete the \"Severity\" inputs"]
[null,"4. Complete the \"Conflicting Traffic Complexity\" inputs"]
[]
[null,"2. Exposure - All Intersections"]
[null,"Average Daily Traffic (veh/day)",null,null,"Open","Design",null,"ADT Directional Split",null,null,null,null,"Nonmotorized Total ADT (ped/day)",null,null,null,"Activity Level","ADT Value (ped/day)"]
[null,"Cross-Street",null,null,{"$f":"IF(AND(Input_RTI_OAADTOut1 > 0, Input_RTI_OAADTOut2>0),MAX(Input_RTI_OAADTOut1, Input_RTI_OAADTOut2),\"--\")","v":15000},{"$f":"IF(AND(Input_RTI_DAADTOut1 > 0, Input_RTI_DAADTOut2>0),MAX(Input_RTI_DAADTOut1, Input_RTI_DAADTOut2),\"--\")","v":31000},null,"Cross-street Inner Leg",null,null,0.5,null,"Open Year Total Intersection NM",null,null,null,"Med High (1500)",1500]
[null,"Ramp 1",null,null,{"$f":"IF(Input_RTI_OAADTEx1>0,Input_RTI_OAADTEx1,\"--\")","v":4500},{"$f":"IF(Input_RTI_DAADTEx1>0,Input_RTI_DAADTEx1,\"--\")","v":5000},null,"Cross-Street Outer Leg",null,null,0.5,null,"Design Year Total Intersection NM",null,null,null,"High (1700)",1700]
[null,"Ramp 2",null,null,{"$f":"IF(Input_RTI_OAADTEx2>0,Input_RTI_OAADTEx2,\"--\")","v":4500},{"$f":"IF(Input_RTI_DAADTEx2>0,Input_RTI_DAADTEx2,\"--\")","v":5000},null,null,null,null,null,null,"(or overwrite ped movement ADTs below)"]
[]
[null,"Are turning movement ADT values are available?",null,null,null,null,"No","If \"Yes\", input values in Table 2-A",null,null,null,null,"Nonmotorized Movement ADT (ped/day)",null,null,null,"Open","Design"]
[null,"Are peak hour turning movement counts available?",null,null,null,null,"No","If \"Yes\", input values in Table 2-B",null,null,null,null,"Major NM 1 (NM mvmt crossing Maj1)",null,null,null,{"$f":"$R$15/4","v":375},{"$f":"$R$16/4","v":425}]
[null,"If no turning movment volumes or counts are available, a user can optionally override the planning-level default turning movment proportions in Table 2-C",null,null,null,null,null,null,null,null,null,null,"Major NM 2",null,null,null,{"$f":"$R$15/4","v":375},{"$f":"$R$16/4","v":425}]
[null,null,null,null,null,null,null,null,null,null,null,null,"Minor NM 1",null,null,null,375,425]
[null,null,null,null,null,null,null,null,null,null,null,null,"Minor NM 2",null,null,null,375,425]
[]
[]
[null,"Table 2-A: Turning Movement (vol/day)",null,null,null,null,"Table 2-B: Turning Movement Counts (Optional)",null,null,null,null,null,null,null,null,"Table 2-C: Turning Proportions (optional)",null,null,null,"Turning movment proportions specified in Table 2-C (and by extension, the percentages determined in Table 2-B) are considered to be constant between the Open and Design years of the analysis."]
[null,null,null,"Open","Design",null,null,null,"Mvmt","AM Peak","AM %","PM Peak","PM %","Avg %",null,null,null,"Decimal"]
[null,"Cross-Street Thru 1",null,{"$f":"$E$15*$K$15*R28","v":3750},{"$f":"$F$15*$K$15*R28","v":7750},null,"Cross-Street Thru 1",null,{"$f":"IF('Control Strategy Selection'!$D$45=Notes!$J$26,\"NB\", \"EB\")&\"T\"","v":"NBT"},null,{"$error":"#DIV/0!"},null,{"$error":"#DIV/0!"},{"$error":"#DIV/0!"},null,"Cross-Street Thru 1",null,0.5]
[null,"Cross-Street Left Turn 1",null,{"$f":"$E$15*$K$15*R29","v":1875},{"$f":"$F$15*$K$15*R29","v":3875},null,"Cross-Street Left Turn 1",null,{"$f":"IF('Control Strategy Selection'!$D$45=Notes!$J$26,\"NB\", \"EB\")&\"L\"","v":"NBL"},null,{"$error":"#DIV/0!"},null,{"$error":"#DIV/0!"},{"$error":"#DIV/0!"},null,"Cross-Street Left Turn 1",null,{"$f":"IF(AND(J29<>0,L29<>0),N29,0.25)","v":0.25}]
[null,"Cross-Street Right Turn 1",null,1875,3875,null,"Cross-Street Right Turn 1",null,{"$f":"IF('Control Strategy Selection'!$D$45=Notes!$J$26,\"NB\", \"EB\")&\"R\"","v":"NBR"},null,{"$error":"#DIV/0!"},null,{"$error":"#DIV/0!"},{"$error":"#DIV/0!"},null,"Cross-Street Right Turn 1",null,{"$f":"IF(AND(J30<>0,L30<>0),N30,0.25)","v":0.25}]
[]
[null,"Cross-Street Thru 2",null,{"$f":"$E$15*$K$15*R32","v":3750},{"$f":"$F$15*$K$15*R32","v":7750},null,"Cross-Street Thru 2",null,{"$f":"IF('Control Strategy Selection'!$D$45=Notes!$J$26,\"SB\", \"WB\")&\"T\"","v":"SBT"},null,{"$error":"#DIV/0!"},null,{"$error":"#DIV/0!"},{"$error":"#DIV/0!"},null,"Cross-Street Thru 2",null,0.5]
[null,"Cross-Street Left Turn 2",null,{"$f":"$E$15*$K$15*R33","v":1875},{"$f":"$F$15*$K$15*R33","v":3875},null,"Cross-Street Left Turn 2",null,{"$f":"IF('Control Strategy Selection'!$D$45=Notes!$J$26,\"SB\", \"WB\")&\"L\"","v":"SBL"},null,{"$error":"#DIV/0!"},null,{"$error":"#DIV/0!"},{"$error":"#DIV/0!"},null,"Cross-Street Left Turn 2",null,{"$f":"IF(AND(J33<>0,L33<>0),N33,0.25)","v":0.25}]
[null,"Cross-Street Right Turn 2",null,1875,3875,null,"Cross-Street Right Turn 2",null,{"$f":"IF('Control Strategy Selection'!$D$45=Notes!$J$26,\"SB\", \"WB\")&\"R\"","v":"SBR"},null,{"$error":"#DIV/0!"},null,{"$error":"#DIV/0!"},{"$error":"#DIV/0!"},null,"Cross-Street Right Turn 2",null,{"$f":"IF(AND(J34<>0,L34<>0),N34,0.25)","v":0.25}]
[]
[null,"Ramp Thru 1",null,{"$f":"$E$16*R36","v":2250},{"$f":"$F$16*R36","v":2500},null,"Ramp Thru 1",null,{"$f":"IF('Control Strategy Selection'!$D$45=Notes!$J$26,\"EB\", \"NB\")&\"T\"","v":"EBT"},null,{"$error":"#DIV/0!"},null,{"$error":"#DIV/0!"},{"$error":"#DIV/0!"},null,"Ramp Thru 1",null,0.5]
[null,"Ramp Left Turn 1",null,{"$f":"$E$16*R37","v":1125},{"$f":"$F$16*R37","v":1250},null,"Ramp Left Turn 1",null,{"$f":"IF('Control Strategy Selection'!$D$45=Notes!$J$26,\"EB\", \"NB\")&\"L\"","v":"EBL"},null,{"$error":"#DIV/0!"},null,{"$error":"#DIV/0!"},{"$error":"#DIV/0!"},null,"Ramp Left Turn 1",null,{"$f":"IF(AND(J37<>0,L37<>0),N37,0.25)","v":0.25}]
[null,"Ramp Right Turn 1",null,1125,1250,null,"Ramp Right Turn 1",null,{"$f":"IF('Control Strategy Selection'!$D$45=Notes!$J$26,\"EB\", \"NB\")&\"R\"","v":"EBR"},null,{"$error":"#DIV/0!"},null,{"$error":"#DIV/0!"},{"$error":"#DIV/0!"},null,"Ramp Right Turn 1",null,{"$f":"IF(AND(J38<>0,L38<>0),N38,0.25)","v":0.25}]
[]
[null,"Ramp Thru 2",null,{"$f":"$E$17*R40","v":2250},{"$f":"$F$17*R40","v":2500},null,"Ramp Thru 2",null,{"$f":"IF('Control Strategy Selection'!$D$45=Notes!$J$26,\"WB\", \"SB\")&\"T\"","v":"WBT"},null,{"$error":"#DIV/0!"},null,{"$error":"#DIV/0!"},{"$error":"#DIV/0!"},null,"Ramp Thru 2",null,0.5]
[null,"Ramp Left Turn 2",null,{"$f":"$E$17*R41","v":1125},{"$f":"$F$17*R41","v":1250},null,"Ramp Left Turn 2",null,{"$f":"IF('Control Strategy Selection'!$D$45=Notes!$J$26,\"WB\", \"SB\")&\"L\"","v":"WBL"},null,{"$error":"#DIV/0!"},null,{"$error":"#DIV/0!"},{"$error":"#DIV/0!"},null,"Ramp Left Turn 2",null,{"$f":"IF(AND(J41<>0,L41<>0),N41,0.25)","v":0.25}]
[null,"Ramp Right Turn 2",null,1125,1250,null,"Ramp Right Turn 2",null,{"$f":"IF('Control Strategy Selection'!$D$45=Notes!$J$26,\"WB\", \"SB\")&\"R\"","v":"WBR"},null,{"$error":"#DIV/0!"},null,{"$error":"#DIV/0!"},{"$error":"#DIV/0!"},null,"Ramp Right Turn 2",null,{"$f":"IF(AND(J42<>0,L42<>0),N42,0.25)","v":0.25}]
[]
[]
[null,"3. Severity",null,null,null,null,null,"4. Conflicting Traffic Complexity"]
[]
[null,"Vehicle Speeds",null,null,null,"mph",null,"Traffic Control",null,null,null,null,"Decimal"]
[null,"Cross-Street Posted Speed Limit",null,null,null,40,null,"Base Traffic Control Adjustment Value (BTCAV) for permitted",null,null,null,null,1]
[null,"Ramp Posted Speed Limit",null,null,null,30,null,"Base Traffic Control Adjustment Value (BTCAV) for protected/permitted",null,null,null,null,0.85]
[null,null,null,null,null,null,null,"Base Traffic Control Adjustment Value (BTCAV) for protected",null,null,null,null,0.01]
[null,"Cross thru",null,null,null,{"$f":"$F$48","v":40},null,"Base Traffic Control Adjustment Value (BTCAV) for stop-controlled",null,null,null,null,0.45]
[null,"Cross left",null,null,null,20]
[null,"Cross right",null,null,null,15,null,"Weight, f, for permitted",null,null,null,null,0.5]
[null,"Ramp thru",null,null,null,{"$f":"$F$49*0.85","v":25.5},null,"Weight, f, for protected/permitted",null,null,null,null,0.5]
[null,"Ramp left",null,null,null,20,null,"Weight, f, for protected",null,null,null,null,0.5]
[null,"Ramp right",null,null,null,15,null,"Weight, f, for stop-controlled",null,null,null,null,0.5]
[null,"Stop near",null,null,null,15]
[null,"Stop far",null,null,null,25,null,"Cross-Street LT signal phasing (drop-down)",null,null,null,"Protected"]
[null,"Signal near",null,null,null,15,null,"Ramp LT signal phasing (drop-down)",null,null,null,"Protected"]
[null,"Signal far",null,null,null,25,null,"Exclusive Pedestrian Phasing (drop-down)",null,null,null,null,"No"]
[null,"RAB entering",null,null,null,20]
[null,"RAB circulating",null,null,null,25,null,"Traffic Control Parameter (a_traffic control)"]
[null,"RAB exiting",null,null,null,30,null,"Permitted",null,null,null,null,{"$f":"M48+(1-M53)*(1-M48)","v":1}]
[null,"Nonmotorized",null,null,null,0,null,"Protected/permitted",null,null,null,null,{"$f":"M49+(1-M54)*(1-M49)","v":0.92500000000000004}]
[null,null,null,null,null,null,null,"Protected",null,null,null,null,{"$f":"M50+(1-M55)*(1-M50)","v":0.505}]
[null,"Collision Angles",null,null,null,"deg",null,"Stop-controlled",null,null,null,null,{"$f":"M51+(1-M56)*(1-M51)","v":0.72500000000000009}]
[null,"Crossing",null,null,null,90]
[null,"Crossing - LT",null,null,null,230,null,"Driver Merging Weights (W)"]
[null,"Crossing - RAB",null,null,null,60,null,"Lane 1 (W1)",null,null,null,null,1]
[null,"Merging",null,null,null,45,null,"Lane 2 (W2)",null,null,null,null,0.75]
[null,"Diverging",null,null,null,10,null,"Lane 3+ (W3+)",null,null,null,null,0.5]
[]
[null,"P(FSI) Regression Parameters",null,null,null,null,null,null,null,"Consider nonmotorized complexity factors (Y/N)"]
[null,"alpha",null,null,null,67.286188107741182,null,"Nonmotorized Complexity",null,null,null,null,null,null,"Yes"]
[null,"k",null,null,null,3.7945000839453997,null,"Nonmotorized Turn Score Weights (W)"]
[null,null,null,null,null,null,null,"Lane 1 (W1)",null,null,null,null,1]
[null,null,null,null,null,null,null,"Lane 2 (W2)",null,null,null,null,0.75]
[null,null,null,null,null,null,null,"Lane 3+ (W3)",null,null,null,null,0.5]

{"sheet":"Conv_Sig","index":11,"n_rows":136,"n_cols":95,"rows_kept":136,"cut":false,"hidden":true,"merged":[[1,76,1,79],[1,81,1,84],[1,86,1,89],[1,91,1,94],[1,34,2,34],[1,36,2,36],[1,39,1,52],[1,56,1,69],[100,9,100,11],[100,36,101,36],[0,19,0,28],[0,30,0,32],[1,9,1,11],[1,13,1,17],[1,21,1,25],[1,27,1,28],[1,30,2,30],[1,31,2,31],[1,32,2,32]]}
[null,null,null,null,null,null,null,null,null,null,null,null,null,null,null,null,null,null,null,"Conflicting Traffic Complexity",null,null,null,null,null,null,null,null,null,null,"Pedestrian Complexity",null,null,null,null,null,null,null,null,null,null,null,null,null,null,null,null,null,null,null,null,null,null,null,null,null,null,null,null,null,null,null,null,null,null,null,null,null,null,null,null,null,null,null,"*impact of median on complexity factors"]
[null,null,null,null,null,null,null,null,null,"Exposure",null,null,null,"Severity",null,null,null,null,null,"Traffic Control",null,"Conflicting Lanes",null,null,null,null,null,"Conflicting Speed",null,null,"Indirect Paths Indicator","Non-intuitive movements indicator","Pedestrian Complexity factor",null,"Total Complexity Multiplier",null,"Exposure-Severity-Complexity Product",null,null,"Included in Mvmt1",null,null,null,null,null,null,null,null,null,null,null,null,null,null,null,null,"Included in Mvmt2",null,null,null,null,null,null,null,null,null,null,null,null,null,null,null,null,null,null,null,"Cross-street: No, Ramps: No",null,null,null,null,"Cross-street: Yes, Ramps: No",null,null,null,null,"Cross-street: No, Ramps: Yes",null,null,null,null,"Cross-street: Yes, Ramps: Yes"]
["#","Conflict Type","Mvmt1","Mvmt1_gen","Mvmt1_SpeedCat","Mvmt2","Mvmt2_gen","Mvmt2_SpeedCat",null,"Q1","Q2","I",null,"Speed_V1","Speed_V2","Angle","delta_V","P_FSI",null,null,null,"CrossC","RampC","CrossM/P","RampM/P","Score",null,"Speed","Factor",null,null,null,null,null,null,null,null,null,null,"CrossT1","CrossL1","CrossR1","CrossT2","CrossL2","CrossR2","RampT1","RampL1","RampR1","RampT2","RampL2","RampR2","CrossNM1","CrossNM2","RampNM1","RampNM2",null,"CrossT1","CrossL1","CrossR1","CrossT2","CrossL2","CrossR2","RampT1","RampL1","RampR1","RampT2","RampL2","RampR2","CrossNM1","CrossNM2","RampNM1","RampNM2",null,null,"#","Conflict Type","MajC","MinC","MajM/P","MinM/P",null,"MajC","MinC","MajM/P","MinM/P",null,"MajC","MinC","MajM/P","MinM/P",null,"MajC","MinC","MajM/P","MinM/P"]
[1,"Crossing - LT","WBL","CrossL2","Cross left","EBT,EBL","CrossT1,CrossL1","Cross thru",null,{"$f":"SUMPRODUCT($AN4:$BC4,$AN$38:$BC$38)","v":1875},{"$f":"SUMPRODUCT($BE4:$BT4,$BE$38:$BT$38)","v":5625},{"$f":"PRODUCT(J4:K4)","v":10546875},null,{"$f":"VLOOKUP(E4,SSI_RTI_Range_VehSpeed,5,FALSE)","v":20},{"$f":"VLOOKUP(H4,SSI_RTI_Range_VehSpeed,5,FALSE)","v":40},{"$f":"IF(B4=\"Nonmotorized\",\"\",VLOOKUP(B4,SSI_RTI_Range_CollAngles,5,FALSE))","v":230},{"$f":"IF(B4=\"Nonmotorized\",\"\",SQRT(N4^2+O4^2-2*N4*O4*COS(RADIANS(P4)))/2)","v":27.515723575341713},{"$f":"IF(B4=\"Nonmotorized\",1/(1+EXP(3.8432-0.1237*O4)),(Q4/SSI_RTI_RegAlpha)^SSI_RTI_RegK+(Q4/SSI_RTI_RegAlpha)^SSI_RTI_RegK-((Q4/SSI_RTI_RegAlpha)^SSI_RTI_RegK)*((Q4/SSI_RTI_RegAlpha)^SSI_RTI_RegK))","v":6.6083846594169424E-2},null,{"$f":"IF(SSI_RTI_CrossLTPhase=\"Protected/permitted\",SSI_RTI_ProtPermFactor,IF(SSI_RTI_CrossLTPhase=\"Protected\",SSI_RTI_ProtFactor,SSI_RTI_PermFactor))","v":0.505},null,{"$f":"IF(AND(SSI_RTI_CrossStMedian=\"No\", SSI_RTI_RampMedian=\"No\"),BY4,IF(AND(SSI_RTI_CrossStMedian=\"Yes\",SSI_RTI_RampMedian=\"No\"),CD4,IF(AND(SSI_RTI_CrossStMedian=\"No\",SSI_RTI_RampMedian=\"Yes\"),CI4,IF(AND(SSI_RTI_CrossStMedian=\"Yes\",SSI_RTI_RampMedian=\"Yes\"),CN4))))","v":1},{"$f":"IF(AND(SSI_RTI_CrossStMedian=\"No\", SSI_RTI_RampMedian=\"No\"),BZ4,IF(AND(SSI_RTI_CrossStMedian=\"Yes\",SSI_RTI_RampMedian=\"No\"),CE4,IF(AND(SSI_RTI_CrossStMedian=\"No\",SSI_RTI_RampMedian=\"Yes\"),CJ4,IF(AND(SSI_RTI_CrossStMedian=\"Yes\",SSI_RTI_RampMedian=\"Yes\"),CO4))))","v":0},{"$f":"IF(AND(SSI_RTI_CrossStMedian=\"No\", SSI_RTI_RampMedian=\"No\"),CA4,IF(AND(SSI_RTI_CrossStMedian=\"Yes\",SSI_RTI_RampMedian=\"No\"),CF4,IF(AND(SSI_RTI_CrossStMedian=\"No\",SSI_RTI_RampMedian=\"Yes\"),CK4,IF(AND(SSI_RTI_CrossStMedian=\"Yes\",SSI_RTI_RampMedian=\"Yes\"),CP4))))","v":1},{"$f":"IF(AND(SSI_RTI_CrossStMedian=\"No\", SSI_RTI_RampMedian=\"No\"),CB4,IF(AND(SSI_RTI_CrossStMedian=\"Yes\",SSI_RTI_RampMedian=\"No\"),CG4,IF(AND(SSI_RTI_CrossStMedian=\"No\",SSI_RTI_RampMedian=\"Yes\"),CL4,IF(AND(SSI_RTI_CrossStMedian=\"Yes\",SSI_RTI_RampMedian=\"Yes\"),CQ4))))","v":0},{"$f":"MAX(1,IF(B4<>\"Pedestrian\",V4*SSI_RTI_CrossThruLanes+W4*SSI_RTI_Ramp1ThruLanes+X4*IF(SSI_RTI_CrossThruLanes=1,SSI_RTI_MergeWeightL1,IF(SSI_RTI_CrossThruLanes=2,SSI_RTI_MergeWeightL1+SSI_RTI_MergeWeightL2,SSI_RTI_MergeWeightL1+SSI_RTI_MergeWeightL2+SSI_RTI_MergeWeightL3*(SSI_RTI_CrossThruLanes-2)))+Y4*IF(SSI_RTI_Ramp1ThruLanes=1,SSI_RTI_MergeWeightL1,IF(SSI_RTI_Ramp1ThruLanes=2,SSI_RTI_MergeWeightL1+SSI_RTI_MergeWeightL2,SSI_RTI_MergeWeightL1+SSI_RTI_MergeWeightL2+SSI_RTI_MergeWeightL3*(SSI_RTI_Ramp1ThruLanes-2))),V4*SSI_RTI_CrossThruLanes+W4*SSI_RTI_Ramp1ThruLanes+X4*IF(SSI_RTI_CrossThruLanes=1,SSI_RTI_NM_MergeWeightL1,IF(SSI_RTI_CrossThruLanes=2,SSI_RTI_NM_MergeWeightL1+SSI_RTI_NM_MergeWeightL2,SSI_RTI_NM_MergeWeightL1+SSI_RTI_NM_MergeWeightL2+SSI_RTI_NM_MergeWeightL3*(SSI_RTI_CrossThruLanes-2)))+Y4*IF(SSI_RTI_Ramp1ThruLanes=1,SSI_RTI_NM_MergeWeightL1,IF(SSI_RTI_Ramp1ThruLanes=2,SSI_RTI_NM_MergeWeightL1+SSI_RTI_NM_MergeWeightL2,SSI_RTI_NM_MergeWeightL1+SSI_RTI_NM_MergeWeightL2+SSI_RTI_NM_MergeWeightL3*(SSI_RTI_Ramp1ThruLanes-2)))))","v":3.75},null,{"$f":"IF(B4=\"Diverging\",\"\",SSI_RTI_VehSpeed_CrossThru)","v":40},{"$f":"IF(B4=\"Diverging\",1,1-((60-AB4)/60*0.1/0.15))","v":0.77777777777777779},null,null,null,{"$f":"IF(SSI_RTI_ConsiderNMComplexity=\"Yes\",1+AE4+AF4,1)","v":1},null,{"$f":"PRODUCT(Z4,T4,AC4,AG4)","v":1.4729166666666667},null,{"$f":"L4*R4*AI4","v":1026590.6149382326},null,null,{"$f":"IF(ISNUMBER(SEARCH(AN$3,$D4)),1,\"\")","v":""},{"$f":"IF(ISNUMBER(SEARCH(AO$3,$D4)),1,\"\")","v":""},"","",1,"","","","","","","","","","","",null,{"$f":"IF(ISNUMBER(SEARCH(BE$3,$G4)),1,\"\")","v":1},{"$f":"IF(ISNUMBER(SEARCH(BF$3,$G4)),1,\"\")","v":1},"","","","","","","","","","","","","","",null,null,1,"Crossing - LT",1,0,1,0,null,1,0,1,0,null,1,0,1,0,null,{"$f":"IF(OR(CD4=\"\",CI4=\"\"),\"\",MIN(CD4,CI4))","v":1},{"$f":"IF(OR(CE4=\"\",CJ4=\"\"),\"\",MIN(CE4,CJ4))","v":0},1,0]
[2,"Crossing - LT","SBL","RampL2","Signal far","WBL","CrossL2","Cross left",null,{"$f":"SUMPRODUCT($AN5:$BC5,$AN$38:$BC$38)","v":1125},{"$f":"SUMPRODUCT($BE5:$BT5,$BE$38:$BT$38)","v":1875},{"$f":"PRODUCT(J5:K5)","v":2109375},null,25,20,230,{"$f":"IF(B5=\"Nonmotorized\",\"\",SQRT(N5^2+O5^2-2*N5*O5*COS(RADIANS(P5)))/2)","v":20.419277715473552},2.1555284139167373E-2,null,{"$f":"SSI_RTI_ProtFactor","v":0.505},null,1,0,1,0,3.75,null,40,0.77777777777777779,null,null,null,1,null,1.4729166666666667,null,{"$f":"L5*R5*AI5","v":66970.836414805657},null,null,{"$f":"IF(ISNUMBER(SEARCH(AN$3,$D5)),1,\"\")","v":""},"","","","","","","","","",1,"","","","","",null,{"$f":"IF(ISNUMBER(SEARCH(BE$3,$G5)),1,\"\")","v":""},"","","",1,"","","","","","","","","","","",null,null,2,"Crossing - LT",1,0,1,0,null,1,0,0,0,null,1,0,1,0,null,{"$f":"IF(OR(CD5=\"\",CI5=\"\"),\"\",MIN(CD5,CI5))","v":1},0,0,0]
[3,"Crossing - LT","SBL","RampL2","Signal near","WBT,NBL","CrossT2,RampL1","Cross thru",null,1125,4875,5484375,null,15,40,230,25.477171799592707,4.955895980669895E-2,null,{"$f":"SSI_RTI_ProtFactor","v":0.505},null,1,0,1,0,3.75,null,40,0.77777777777777779,null,null,null,1,null,1.4729166666666667,null,400338.63244632137,null,null,"","","","","","","","","","",1,"","","","","",null,"","","",1,"","","",1,"","","","","","","","",null,null,3,"Crossing - LT",1,0,1,0,null,1,0,0,0,null,1,0,1,0,null,1,0,0,0]
[4,"Crossing - LT","EBL","CrossL1","Cross left","WBT,WBL","CrossT2,CrossL2","Cross thru",null,1875,5625,10546875,null,20,40,230,27.515723575341713,6.6083846594169424E-2,null,{"$f":"IF(SSI_RTI_CrossLTPhase=\"Protected/permitted\",SSI_RTI_ProtPermFactor,IF(SSI_RTI_CrossLTPhase=\"Protected\",SSI_RTI_ProtFactor,SSI_RTI_PermFactor))","v":0.505},null,1,0,1,0,3.75,null,40,0.77777777777777779,null,null,null,1,null,1.4729166666666667,null,1026590.6149382326,null,null,"",1,"","","","","","","","","","","","","","",null,"","","",1,1,"","","","","","","","","","","",null,null,4,"Crossing - LT",1,0,1,0,null,1,0,1,0,null,1,0,1,0,null,1,0,1,0]
[5,"Crossing - LT","NBL","RampL1","Signal far","EBL","CrossL1","Cross left",null,1125,1875,2109375,null,25,20,230,20.419277715473552,2.1555284139167373E-2,null,{"$f":"SSI_RTI_ProtFactor","v":0.505},null,1,0,1,0,3.75,null,40,0.77777777777777779,null,null,null,1,null,1.4729166666666667,null,66970.836414805657,null,null,"","","","","","","",1,"","","","","","","","",null,"",1,"","","","","","","","","","","","","","",null,null,5,"Crossing - LT",1,0,1,0,null,1,0,0,0,null,1,0,1,0,null,1,0,0,0]
[6,"Crossing - LT","NBL","RampL1","Signal near","EBT,SBL","CrossT1,RampL2","Cross thru",null,1125,4875,5484375,null,15,40,230,25.477171799592707,4.955895980669895E-2,null,0.505,null,1,0,1,0,3.75,null,40,0.77777777777777779,null,null,null,1,null,1.4729166666666667,null,400338.63244632137,null,null,"","","","","","","",1,"","","","","","","","",null,1,"","","","","","","","","",1,"","","","","",null,null,6,"Crossing - LT",1,0,1,0,null,1,0,0,0,null,1,0,1,0,null,1,0,0,0]
[7,"Merging","SBR","RampR2","Signal near","WBT,NBL","CrossT2,RampL1","Cross thru",null,1125,4875,5484375,null,15,40,45,15.62427488378375,7.8340357658475412E-3,null,0.505,null,0,0,1,0,1.75,null,40,0.77777777777777779,null,null,null,1,null,0.6873611111111112,null,29532.325726601564,null,null,"","","","","","","","","","","",1,"","","","",null,"","","",1,"","","",1,"","","","","","","","",null,null,7,"Merging",0,0,1,0,null,0,0,1,0,null,0,0,1,0,null,0,0,1,0]
[8,"Merging","EBR","CrossR1","Cross right","WBL","CrossL2","Cross left",null,1875,1875,3515625,null,15,20,45,7.0840654162717795,3.9022923271840685E-4,null,0.505,null,1,0,1,0,3.75,null,40,0.77777777777777779,null,null,null,1,null,1.4729166666666667,null,2020.6938539935081,null,null,"","",1,"","","","","","","","","","","","","",null,"","","","",1,"","","","","","","","","","","",null,null,8,"Merging",1,0,1,0,null,1,0,1,0,null,1,0,1,0,null,1,0,1,0]
[9,"Merging","SBL","RampL2","Signal far","EBT,EBL","CrossT1,CrossL1","Cross thru",null,1125,5625,6328125,null,25,40,45,14.237155945157243,5.5084599291000359E-3,null,0.505,null,1,0,1,0,3.75,null,40,0.77777777777777779,null,null,null,1,null,1.4729166666666667,null,51343.257610639928,null,null,"","","","","","","","","","",1,"","","","","",null,1,1,"","","","","","","","","","","","","","",null,null,9,"Merging",1,0,1,0,null,0,0,1,0,null,1,0,1,0,null,0,0,1,0]
[10,"Merging","NBR","RampR1","Signal near","EBT,SBL","CrossT1,RampL2","Cross thru",null,1125,4875,5484375,null,15,40,45,15.62427488378375,7.8340357658475412E-3,null,0.505,null,0,0,1,0,1.75,null,40,0.77777777777777779,null,null,null,1,null,0.6873611111111112,null,29532.325726601564,null,null,"","","","","","","","",1,"","","","","","","",null,1,"","","","","","","","","",1,"","","","","",null,null,10,"Merging",0,0,1,0,null,0,0,1,0,null,0,0,1,0,null,0,0,1,0]
[11,"Merging","WBR","CrossR2","Cross right","EBL","CrossL1","Cross left",null,1875,1875,3515625,null,15,20,45,7.0840654162717795,3.9022923271840685E-4,null,0.505,null,1,0,1,0,3.75,null,40,0.77777777777777779,null,null,null,1,null,1.4729166666666667,null,2020.6938539935081,null,null,"","","","","",1,"","","","","","","","","","",null,"",1,"","","","","","","","","","","","","","",null,null,11,"Merging",1,0,1,0,null,1,0,1,0,null,1,0,1,0,null,1,0,1,0]
[12,"Merging","NBL","RampL1","Signal far","WBT,WBL","CrossT2,CrossL2","Cross thru",null,1125,5625,6328125,null,25,40,45,14.237155945157243,5.5084599291000359E-3,null,0.505,null,1,0,1,0,3.75,null,40,0.77777777777777779,null,null,null,1,null,1.4729166666666667,null,51343.257610639928,null,null,"","","","","","","",1,"","","","","","","","",null,"","","",1,1,"","","","","","","","","","","",null,null,12,"Merging",1,0,1,0,null,0,0,1,0,null,1,0,1,0,null,0,0,1,0]
[13,"Diverging","SBR","RampR2","Signal near","SBL","RampL2","Signal near",null,1125,1125,1265625,null,15,15,10,1.3073361412148754,6.4061388075216188E-7,null,{"$f":"SSI_RTI_PermFactor","v":1},null,0,0,0,0,1,null,"",1,null,null,null,1,null,1,null,0.81077694282695489,null,null,"","","","","","","","","","","",1,"","","","",null,"","","","","","","","","","",1,"","","","","",null,null,13,"Diverging",0,0,0,0,null,0,0,0,0,null,0,0,0,0,null,0,0,0,0]
[14,"Diverging","EBT, EBL","CrossT1, CrossL1","Cross thru","EBR","CrossR1","Cross right",null,5625,1875,10546875,null,40,15,10,12.680996573469201,3.5521749218507754E-3,null,1,null,0,0,0,0,1,null,"",1,null,null,null,1,null,1,null,37464.344878894895,null,null,1,1,"","","","","","","","","","","","","","",null,"","",1,"","","","","","","","","","","","","",null,null,14,"Diverging",0,0,0,0,null,0,0,0,0,null,0,0,0,0,null,0,0,0,0]
[15,"Diverging","EBT, SBL","CrossT1, RampL2","Cross thru","EBL","CrossL1","Cross left",null,4875,1875,9140625,null,40,20,10,10.299363999544671,1.6139822402002194E-3,null,1,null,0,0,0,0,1,null,"",1,null,null,null,1,null,1,null,14752.806414330131,null,null,1,"","","","","","","","","",1,"","","","","",null,"",1,"","","","","","","","","","","","","","",null,null,15,"Diverging",0,0,0,0,null,0,0,0,0,null,0,0,0,0,null,0,0,0,0]
[16,"Diverging","NBR","RampR1","Signal near","NBL","RampL1","Signal near",null,1125,1125,1265625,null,15,15,10,1.3073361412148754,6.4061388075216188E-7,null,1,null,0,0,0,0,1,null,"",1,null,null,null,1,null,1,null,0.81077694282695489,null,null,"","","","","","","","",1,"","","","","","","",null,"","","","","","","",1,"","","","","","","","",null,null,16,"Diverging",0,0,0,0,null,0,0,0,0,null,0,0,0,0,null,0,0,0,0]
[17,"Diverging","WBT, WBL","CrossT2, CrossL2","Cross thru","WBR","CrossR2","Cross right",null,5625,1875,10546875,null,40,15,10,12.680996573469201,3.5521749218507754E-3,null,1,null,0,0,0,0,1,null,"",1,null,null,null,1,null,1,null,37464.344878894895,null,null,"","","",1,1,"","","","","","","","","","","",null,"","","","","",1,"","","","","","","","","","",null,null,17,"Diverging",0,0,0,0,null,0,0,0,0,null,0,0,0,0,null,0,0,0,0]
[18,"Diverging","WBT, NBL","CrossT2, RampL1","Cross thru","WBL","CrossL2","Cross left",null,4875,1875,9140625,null,40,20,10,10.299363999544671,1.6139822402002194E-3,null,1,null,0,0,0,0,1,null,"",1,null,null,null,1,null,1,null,14752.806414330131,null,null,"","","",1,"","","",1,"","","","","","","","",null,"","","","",1,"","","","","","","","","","","",null,null,18,"Diverging",0,0,0,0,null,0,0,0,0,null,0,0,0,0,null,0,0,0,0]
[19,"Nonmotorized",null,"RampNM2","Nonmotorized","SBL","RampL2","Signal near",null,375,1125,421875,null,0,15,"","",0.1205004039155782,null,{"$f":"SSI_RTI_ProtFactor","v":0.505},null,0,1,0,0,1,null,{"$f":"IF(B22=\"Diverging\",\"\",SSI_RTI_VehSpeed_SignalNear)","v":15},0.49999999999999989,null,null,null,1,null,0.25249999999999995,null,12836.117245225847,null,null,"","","","","","","","","","","","","","","",1,null,"","","","","","","","","","",1,"","","","","",null,null,19,"Nonmotorized",0,1,0,0,null,0,1,0,0,null,0,1,0,0,null,0,1,0,0]
[20,"Nonmotorized",null,"RampNM2","Nonmotorized","SBR","RampR2","Signal near",null,375,1125,421875,null,0,15,"","",0.1205004039155782,null,0.505,null,0,1,0,0,1,null,{"$f":"IF(B23=\"Diverging\",\"\",SSI_RTI_VehSpeed_SignalNear)","v":15},0.49999999999999989,null,null,null,1,null,0.25249999999999995,null,12836.117245225847,null,null,"","","","","","","","","","","","","","","",1,null,"","","","","","","","","","","",1,"","","","",null,null,20,"Nonmotorized",0,1,0,0,null,0,1,0,0,null,0,1,0,0,null,0,1,0,0]
[21,"Nonmotorized",null,"CrossNM1","Nonmotorized","SBR","RampR2","Signal near",null,375,1125,421875,null,0,15,"","",0.1205004039155782,null,0.505,null,2,0,0,1,5,null,40,0.77777777777777779,null,null,null,1,null,1.9638888888888888,null,99836.467462867717,null,null,"","","","","","","","","","","","",1,"","","",null,"","","","","","","","","","","",1,"","","","",null,null,21,"Nonmotorized",2,0,0,1,null,1,0,0,1,null,2,0,0,1,null,1,0,0,1]
[22,"Nonmotorized",null,"CrossNM1","Nonmotorized","WBT,NBL","CrossT2,RampL1","Cross thru",null,375,4875,1828125,null,0,40,"","",0.75115840021714742,null,0.505,null,2,0,0,1,5,null,40,0.77777777777777779,null,null,null,1,null,1.9638888888888888,null,{"$f":"L25*R25*AI25","v":2696834.7095296104},null,null,"","","","","","","","","","","","",1,"","","",null,"","","",1,"","","",1,"","","","","","","","",null,null,22,"Nonmotorized",2,0,0,1,null,1,0,0,1,null,2,0,0,1,null,1,0,0,1]
[23,"Nonmotorized",null,"CrossNM1","Nonmotorized","EBT,EBL","CrossT1,CrossL1","Cross thru",null,375,5625,2109375,null,0,40,"","",0.75115840021714742,null,0.505,null,2,0,0,1,5,null,40,0.77777777777777779,null,null,null,1,null,1.9638888888888888,null,3111732.3571495502,null,null,"","","","","","","","","","","","",1,"","","",null,1,1,"","","","","","","","","","","","","","",null,null,23,"Nonmotorized",2,0,0,1,null,1,0,0,0,null,2,0,0,1,null,1,0,0,0]
[24,"Nonmotorized",null,"CrossNM1","Nonmotorized","EBR","CrossR1","Cross right",null,375,1875,703125,null,0,15,"","",0.1205004039155782,null,0.505,null,2,0,0,1,5,null,40,0.77777777777777779,null,null,null,1,null,1.9638888888888888,null,166394.11243811288,null,null,"","","","","","","","","","","","",1,"","","",null,"","",1,"","","","","","","","","","","","","",null,null,24,"Nonmotorized",2,0,0,1,null,1,0,0,0,null,2,0,0,1,null,1,0,0,0]
[25,"Nonmotorized",null,"RampNM1","Nonmotorized","EBR","CrossR1","Cross right",null,375,1875,703125,null,0,15,"","",0.1205004039155782,null,0.505,null,0,1,2,0,4.5,null,40,0.77777777777777779,null,null,null,1,null,1.7675000000000001,null,149754.7011943016,null,null,"","","","","","","","","","","","","","",1,"",null,"","",1,"","","","","","","","","","","","","",null,null,25,"Nonmotorized",0,1,2,0,null,0,1,2,0,null,0,1,1,0,null,0,1,1,0]
[26,"Nonmotorized",null,"RampNM1","Nonmotorized","WBL","CrossL2","Cross left",null,375,1875,703125,null,0,20,"","",0.20274912921655375,null,{"$f":"IF(SSI_RTI_CrossLTPhase=\"Protected/permitted\",SSI_RTI_ProtPermFactor,IF(SSI_RTI_CrossLTPhase=\"Protected\",SSI_RTI_ProtFactor,SSI_RTI_PermFactor))","v":0.505},null,0,1,2,0,4.5,null,40,0.77777777777777779,null,null,null,1,null,1.7675000000000001,null,251971.23226658822,null,null,"","","","","","","","","","","","","","",1,"",null,"","","","",1,"","","","","","","","","","","",null,null,26,"Nonmotorized",0,1,2,0,null,0,1,2,0,null,0,1,1,0,null,0,1,1,0]
[27,"Nonmotorized",null,"RampNM1","Nonmotorized","NBL","RampL1","Signal near",null,375,1125,421875,null,0,15,"","",0.1205004039155782,null,{"$f":"SSI_RTI_ProtFactor","v":0.505},null,0,1,0,0,1,null,{"$f":"IF(B30=\"Diverging\",\"\",SSI_RTI_VehSpeed_SignalNear)","v":15},0.49999999999999989,null,null,null,1,null,0.25249999999999995,null,12836.117245225847,null,null,"","","","","","","","","","","","","","",1,"",null,"","","","","","","",1,"","","","","","","","",null,null,27,"Nonmotorized",0,1,0,0,null,0,1,0,0,null,0,1,0,0,null,0,1,0,0]
[28,"Nonmotorized",null,"RampNM1","Nonmotorized","NBR","RampR1","Signal near",null,375,1125,421875,null,0,15,"","",0.1205004039155782,null,0.505,null,0,1,0,0,1,null,{"$f":"IF(B31=\"Diverging\",\"\",SSI_RTI_VehSpeed_SignalNear)","v":15},0.49999999999999989,null,null,null,1,null,0.25249999999999995,null,12836.117245225847,null,null,"","","","","","","","","","","","","","",1,"",null,"","","","","","","","",1,"","","","","","","",null,null,28,"Nonmotorized",0,1,0,0,null,0,1,0,0,null,0,1,0,0,null,0,1,0,0]
[29,"Nonmotorized",null,"CrossNM2","Nonmotorized","NBR","RampR1","Signal near",null,375,1125,421875,null,0,15,"","",0.1205004039155782,null,0.505,null,2,0,0,1,5,null,40,0.77777777777777779,null,null,null,1,null,1.9638888888888888,null,99836.467462867717,null,null,"","","","","","","","","","","","","",1,"","",null,"","","","","","","","",1,"","","","","","","",null,null,29,"Nonmotorized",2,0,0,1,null,1,0,0,1,null,2,0,0,1,null,1,0,0,1]
[30,"Nonmotorized",null,"CrossNM2","Nonmotorized","EBT,SBL","CrossT1,RampL2","Cross thru",null,375,4875,1828125,null,0,40,"","",0.75115840021714742,null,0.505,null,2,0,0,1,5,null,40,0.77777777777777779,null,null,null,1,null,1.9638888888888888,null,2696834.7095296104,null,null,"","","","","","","","","","","","","",1,"","",null,1,"","","","","","","","","",1,"","","","","",null,null,30,"Nonmotorized",2,0,0,1,null,1,0,0,1,null,2,0,0,1,null,1,0,0,1]
[31,"Nonmotorized",null,"CrossNM2","Nonmotorized","WBT,WBL","CrossT2,CrossL2","Cross thru",null,375,5625,2109375,null,0,40,"","",0.75115840021714742,null,0.505,null,2,0,0,1,5,null,40,0.77777777777777779,null,null,null,1,null,1.9638888888888888,null,3111732.3571495502,null,null,"","","","","","","","","","","","","",1,"","",null,"","","",1,1,"","","","","","","","","","","",null,null,31,"Nonmotorized",2,0,0,1,null,1,0,0,0,null,2,0,0,1,null,1,0,0,0]
[32,"Nonmotorized",null,"CrossNM2","Nonmotorized","WBR","CrossR2","Cross right",null,375,1875,703125,null,0,15,"","",0.1205004039155782,null,0.505,null,2,0,0,1,5,null,40,0.77777777777777779,null,null,null,1,null,1.9638888888888888,null,166394.11243811288,null,null,{"$f":"IF(ISNUMBER(SEARCH(AN$3,$D35)),1,\"\")","v":""},"","","","","","","","","","","","",1,"","",null,{"$f":"IF(ISNUMBER(SEARCH(BE$3,$G35)),1,\"\")","v":""},"","","","",1,"","","","","","","","","","",null,null,32,"Nonmotorized",2,0,0,1,null,1,0,0,0,null,2,0,0,1,null,1,0,0,0]
[33,"Nonmotorized",null,"RampNM2","Nonmotorized","WBR","CrossR2","Cross right",null,375,1875,703125,null,0,15,"",{"$f":"IF(B36=\"Nonmotorized\",\"\",SQRT(N36^2+O36^2-2*N36*O36*COS(RADIANS(P36)))/2)","v":""},0.1205004039155782,null,0.505,null,0,1,2,0,4.5,null,40,0.77777777777777779,null,null,null,1,null,1.7675000000000001,null,149754.7011943016,null,null,"","","","","","","","","","","","","","","",1,null,"","","","","",1,"","","","","","","","","","",null,null,33,"Nonmotorized",0,1,2,0,null,0,1,2,0,null,0,1,1,0,null,0,1,1,0]
[34,"Nonmotorized",null,"RampNM2","Nonmotorized","EBL","CrossL1","Cross left",null,375,1875,{"$f":"PRODUCT(J37:K37)","v":703125},null,0,20,"","",0.20274912921655375,null,{"$f":"IF(SSI_RTI_CrossLTPhase=\"Protected/permitted\",SSI_RTI_ProtPermFactor,IF(SSI_RTI_CrossLTPhase=\"Protected\",SSI_RTI_ProtFactor,SSI_RTI_PermFactor))","v":0.505},null,0,1,2,0,4.5,null,40,0.77777777777777779,null,null,null,1,null,1.7675000000000001,null,251971.23226658822,null,null,"","","","","","","","","","","","","","","",1,null,"",1,"","","","","","","","","","","","","","",null,null,34,"Nonmotorized",0,1,2,0,null,0,1,2,0,null,0,1,1,0,null,0,1,1,0]
[null,null,null,null,null,null,null,null,null,null,null,null,null,null,null,null,null,null,null,null,null,null,null,null,null,null,null,null,null,null,null,null,null,null,null,null,null,null,"O",{"$f":"'SSI Inputs RTI'!$D$28","v":3750},{"$f":"'SSI Inputs RTI'!$D$29","v":1875},{"$f":"'SSI Inputs RTI'!$D$30","v":1875},{"$f":"'SSI Inputs RTI'!$D$32","v":3750},{"$f":"'SSI Inputs RTI'!$D$33","v":1875},{"$f":"'SSI Inputs RTI'!$D$34","v":1875},{"$f":"'SSI Inputs RTI'!$D$36","v":2250},{"$f":"'SSI Inputs RTI'!$D$37","v":1125},{"$f":"'SSI Inputs RTI'!$D$38","v":1125},{"$f":"'SSI Inputs RTI'!$D$40","v":2250},{"$f":"'SSI Inputs RTI'!$D$41","v":1125},{"$f":"'SSI Inputs RTI'!$D$42","v":1125},{"$f":"'SSI Inputs RTI'!$Q$20","v":375},{"$f":"'SSI Inputs RTI'!$Q$21","v":375},{"$f":"'SSI Inputs RTI'!$Q$22","v":375},{"$f":"'SSI Inputs RTI'!$Q$23","v":375},"O",{"$f":"'SSI Inputs RTI'!$D$28","v":3750},{"$f":"'SSI Inputs RTI'!$D$29","v":1875},{"$f":"'SSI Inputs RTI'!$D$30","v":1875},{"$f":"'SSI Inputs RTI'!$D$32","v":3750},{"$f":"'SSI Inputs RTI'!$D$33","v":1875},{"$f":"'SSI Inputs RTI'!$D$34","v":1875},{"$f":"'SSI Inputs RTI'!$D$36","v":2250},{"$f":"'SSI Inputs RTI'!$D$37","v":1125},{"$f":"'SSI Inputs RTI'!$D$38","v":1125},{"$f":"'SSI Inputs RTI'!$D$40","v":2250},{"$f":"'SSI Inputs RTI'!$D$41","v":1125},{"$f":"'SSI Inputs RTI'!$D$42","v":1125},{"$f":"'SSI Inputs RTI'!$Q$20","v":375},{"$f":"'SSI Inputs RTI'!$Q$21","v":375},{"$f":"'SSI Inputs RTI'!$Q$22","v":375},{"$f":"'SSI Inputs RTI'!$Q$23","v":375}]
[null,null,null,null,null,null,null,null,null,null,null,null,null,null,null,null,null,null,null,null,null,null,null,null,null,null,null,null,null,null,null,null,null,null,null,null,null,null,"D",{"$f":"'SSI Inputs RTI'!$E$28","v":7750},{"$f":"'SSI Inputs RTI'!$E$29","v":3875},{"$f":"'SSI Inputs RTI'!$E$30","v":3875},{"$f":"'SSI Inputs RTI'!$E$32","v":7750},{"$f":"'SSI Inputs RTI'!$E$33","v":3875},{"$f":"'SSI Inputs RTI'!$E$34","v":3875},{"$f":"'SSI Inputs RTI'!$E$36","v":2500},{"$f":"'SSI Inputs RTI'!$E$37","v":1250},{"$f":"'SSI Inputs RTI'!$E$38","v":1250},{"$f":"'SSI Inputs RTI'!$E$40","v":2500},{"$f":"'SSI Inputs RTI'!$E$41","v":1250},{"$f":"'SSI Inputs RTI'!$E$42","v":1250},{"$f":"'SSI Inputs RTI'!$R$20","v":425},{"$f":"'SSI Inputs RTI'!$R$21","v":425},{"$f":"'SSI Inputs RTI'!$R$22","v":425},{"$f":"'SSI Inputs RTI'!$R$23","v":425},"D",{"$f":"'SSI Inputs RTI'!$E$28","v":7750},{"$f":"'SSI Inputs RTI'!$E$29","v":3875},{"$f":"'SSI Inputs RTI'!$E$30","v":3875},{"$f":"'SSI Inputs RTI'!$E$32","v":7750},{"$f":"'SSI Inputs RTI'!$E$33","v":3875},{"$f":"'SSI Inputs RTI'!$E$34","v":3875},{"$f":"'SSI Inputs RTI'!$E$36","v":2500},{"$f":"'SSI Inputs RTI'!$E$37","v":1250},{"$f":"'SSI Inputs RTI'!$E$38","v":1250},{"$f":"'SSI Inputs RTI'!$E$40","v":2500},{"$f":"'SSI Inputs RTI'!$E$41","v":1250},{"$f":"'SSI Inputs RTI'!$E$42","v":1250},{"$f":"'SSI Inputs RTI'!$R$20","v":425},{"$f":"'SSI Inputs RTI'!$R$21","v":425},{"$f":"'SSI Inputs RTI'!$R$22","v":425},{"$f":"'SSI Inputs RTI'!$R$23","v":425}]
[]
[]
[]
[]
[]
[]
[]
[]
[]
[]
[]
[]
[]
[]
[]
[]
[]
[]
[]
[]
[]
[]
[]
[]
[]
[]
[]
[]
[]
[]
[]
[]
[]
[]
[]
[]
[]
[]
[]
[]
[]
[]
[]
[]
[]
[]
[]
[]
[]
[]
[]
[]
[]
[]
[]
[]
[]
[]
[]
[]
[]
[null,null,null,null,null,null,null,null,null,"Exposure",null,null,null,null,null,null,null,null,null,null,null,null,null,null,null,null,null,null,null,null,null,null,null,null,null,null,"Exposure-Severity-Complexity Product"]
[null,null,null,null,null,null,null,null,null,"Q1","Q2","I"]
[null,null,null,null,null,null,null,null,null,{"$f":"SUMPRODUCT($AN4:$BC4,$AN$39:$BC$39)","v":3875},{"$f":"SUMPRODUCT($BE4:$BT4,$BE$39:$BT$39)","v":11625},{"$f":"PRODUCT(J103:K103)","v":45046875},null,null,null,null,null,null,null,null,null,null,null,null,null,null,null,null,null,null,null,null,null,null,null,null,{"$f":"L103*R4*AI4","v":4384682.5820250725}]
[null,null,null,null,null,null,null,null,null,{"$f":"SUMPRODUCT($AN5:$BC5,$AN$39:$BC$39)","v":1250},{"$f":"SUMPRODUCT($BE5:$BT5,$BE$39:$BT$39)","v":3875},{"$f":"PRODUCT(J104:K104)","v":4843750},null,null,null,null,null,null,null,null,null,null,null,null,null,null,null,null,null,null,null,null,null,null,null,null,{"$f":"L104*R5*AI5","v":153784.88361918338}]
[null,null,null,null,null,null,null,null,null,1250,9000,11250000,null,null,null,null,null,null,null,null,null,null,null,null,null,null,null,null,null,null,null,null,null,null,null,null,821207.45117194124]
[null,null,null,null,null,null,null,null,null,3875,11625,45046875,null,null,null,null,null,null,null,null,null,null,null,null,null,null,null,null,null,null,null,null,null,null,null,null,4384682.5820250725]
[null,null,null,null,null,null,null,null,null,1250,3875,4843750,null,null,null,null,null,null,null,null,null,null,null,null,null,null,null,null,null,null,null,null,null,null,null,null,153784.88361918338]
[null,null,null,null,null,null,null,null,null,1250,9000,11250000,null,null,null,null,null,null,null,null,null,null,null,null,null,null,null,null,null,null,null,null,null,null,null,null,821207.45117194124]
[null,null,null,null,null,null,null,null,null,1250,9000,11250000,null,null,null,null,null,null,null,null,null,null,null,null,null,null,null,null,null,null,null,null,null,null,null,null,60579.12969559295]
[null,null,null,null,null,null,null,null,null,3875,3875,15015625,null,null,null,null,null,null,null,null,null,null,null,null,null,null,null,null,null,null,null,null,null,null,null,null,8630.6079719456047]
[null,null,null,null,null,null,null,null,null,1250,11625,14531250,null,null,null,null,null,null,null,null,null,null,null,null,null,null,null,null,null,null,null,null,null,null,null,null,117899.3322910991]
[null,null,null,null,null,null,null,null,null,1250,9000,11250000,null,null,null,null,null,null,null,null,null,null,null,null,null,null,null,null,null,null,null,null,null,null,null,null,60579.12969559295]
[null,null,null,null,null,null,null,null,null,3875,3875,15015625,null,null,null,null,null,null,null,null,null,null,null,null,null,null,null,null,null,null,null,null,null,null,null,null,8630.6079719456047]
[null,null,null,null,null,null,null,null,null,1250,11625,14531250,null,null,null,null,null,null,null,null,null,null,null,null,null,null,null,null,null,null,null,null,null,null,null,null,117899.3322910991]
[null,null,null,null,null,null,null,null,null,1250,1250,1562500,null,null,null,null,null,null,null,null,null,null,null,null,null,null,null,null,null,null,null,null,null,null,null,null,1.0009591886752529]
[null,null,null,null,null,null,null,null,null,11625,3875,45046875,null,null,null,null,null,null,null,null,null,null,null,null,null,null,null,null,null,null,null,null,null,null,null,null,160014.37968274666]
[null,null,null,null,null,null,null,null,null,9000,3875,34875000,null,null,null,null,null,null,null,null,null,null,null,null,null,null,null,null,null,null,null,null,null,null,null,null,56287.630626982653]
[null,null,null,null,null,null,null,null,null,1250,1250,1562500,null,null,null,null,null,null,null,null,null,null,null,null,null,null,null,null,null,null,null,null,null,null,null,null,1.0009591886752529]
[null,null,null,null,null,null,null,null,null,11625,3875,45046875,null,null,null,null,null,null,null,null,null,null,null,null,null,null,null,null,null,null,null,null,null,null,null,null,160014.37968274666]
[null,null,null,null,null,null,null,null,null,9000,3875,34875000,null,null,null,null,null,null,null,null,null,null,null,null,null,null,null,null,null,null,null,null,null,null,null,null,56287.630626982653]
[null,null,null,null,null,null,null,null,null,425,1250,531250,null,null,null,null,null,null,null,null,null,null,null,null,null,null,null,null,null,null,null,null,null,null,null,null,16163.999493988103]
[null,null,null,null,null,null,null,null,null,425,1250,531250,null,null,null,null,null,null,null,null,null,null,null,null,null,null,null,null,null,null,null,null,null,null,null,null,16163.999493988103]
[null,null,null,null,null,null,null,null,null,425,1250,531250,null,null,null,null,null,null,null,null,null,null,null,null,null,null,null,null,null,null,null,null,null,null,null,null,125719.99606435193]
[null,null,null,null,null,null,null,null,null,425,9000,3825000,null,null,null,null,null,null,null,null,null,null,null,null,null,null,null,null,null,null,null,null,null,null,null,null,5642608.0076311836]
[null,null,null,null,null,null,null,null,null,425,11625,4940625,null,null,null,null,null,null,null,null,null,null,null,null,null,null,null,null,null,null,null,null,null,null,null,null,7288368.6765236119]
[null,null,null,null,null,null,null,null,null,425,3875,1646875,null,null,null,null,null,null,null,null,null,null,null,null,null,null,null,null,null,null,null,null,null,null,null,null,389731.98779949098]
[null,null,null,null,null,null,null,null,null,425,3875,1646875,null,null,null,null,null,null,null,null,null,null,null,null,null,null,null,null,null,null,null,null,null,null,null,null,350758.78901954193]
[null,null,null,null,null,null,null,null,null,425,3875,1646875,null,null,null,null,null,null,null,null,null,null,null,null,null,null,null,null,null,null,null,null,null,null,null,null,590172.61957551993]
[null,null,null,null,null,null,null,null,null,425,1250,531250,null,null,null,null,null,null,null,null,null,null,null,null,null,null,null,null,null,null,null,null,null,null,null,null,16163.999493988103]
[null,null,null,null,null,null,null,null,null,425,1250,531250,null,null,null,null,null,null,null,null,null,null,null,null,null,null,null,null,null,null,null,null,null,null,null,null,16163.999493988103]
[null,null,null,null,null,null,null,null,null,425,1250,531250,null,null,null,null,null,null,null,null,null,null,null,null,null,null,null,null,null,null,null,null,null,null,null,null,125719.99606435193]
[null,null,null,null,null,null,null,null,null,425,9000,3825000,null,null,null,null,null,null,null,null,null,null,null,null,null,null,null,null,null,null,null,null,null,null,null,null,5642608.0076311836]
[null,null,null,null,null,null,null,null,null,425,11625,4940625,null,null,null,null,null,null,null,null,null,null,null,null,null,null,null,null,null,null,null,null,null,null,null,null,7288368.6765236119]
[null,null,null,null,null,null,null,null,null,425,3875,1646875,null,null,null,null,null,null,null,null,null,null,null,null,null,null,null,null,null,null,null,null,null,null,null,null,389731.98779949098]
[null,null,null,null,null,null,null,null,null,425,3875,1646875,null,null,null,null,null,null,null,null,null,null,null,null,null,null,null,null,null,null,null,null,null,null,null,null,350758.78901954193]
[null,null,null,null,null,null,null,null,null,425,3875,1646875,null,null,null,null,null,null,null,null,null,null,null,null,null,null,null,null,null,null,null,null,null,null,null,null,590172.61957551993]

{"sheet":"Conv_Ramp_Stop","index":12,"n_rows":136,"n_cols":72,"rows_kept":136,"cut":false,"hidden":true,"merged":[[1,34,2,34],[1,36,2,36],[1,39,1,52],[1,56,1,69],[100,9,100,11],[100,36,101,36],[0,19,0,28],[0,30,0,32],[1,9,1,11],[1,13,1,17],[1,21,1,25],[1,27,1,28],[1,30,2,30],[1,31,2,31],[1,32,2,32]]}
[null,null,null,null,null,null,null,null,null,null,null,null,null,null,null,null,null,null,null,"Conflicting Traffic Complexity",null,null,null,null,null,null,null,null,null,null,"Pedestrian Complexity"]
[null,null,null,null,null,null,null,null,null,"Exposure",null,null,null,"Severity",null,null,null,null,null,"Traffic Control",null,"Conflicting Lanes",null,null,null,null,null,"Conflicting Speed",null,null,"Indirect Paths Indicator","Non-intuitive movements indicator","Pedestrian Complexity factor",null,"Total Complexity Multiplier",null,"Exposure-Severity-Complexity Product",null,null,"Included in Mvmt1",null,null,null,null,null,null,null,null,null,null,null,null,null,null,null,null,"Included in Mvmt2"]
["#","Conflict Type","Mvmt1","Mvmt1_gen","Mvmt1_SpeedCat","Mvmt2","Mvmt2_gen","Mvmt2_SpeedCat",null,"Q1","Q2","I",null,"Speed_V1","Speed_V2","Angle","delta_V","P_FSI",null,null,null,"CrossC","RampC","CrossM/P","RampM/P","Score",null,"Speed","Factor",null,null,null,null,null,null,null,null,null,null,"CrossT1","CrossL1","CrossR1","CrossT2","CrossL2","CrossR2","RampT1","RampL1","RampR1","RampT2","RampL2","RampR2","CrossNM1","CrossNM2","RampNM1","RampNM2",null,"CrossT1","CrossL1","CrossR1","CrossT2","CrossL2","CrossR2","RampT1","RampL1","RampR1","RampT2","RampL2","RampR2","CrossNM1","CrossNM2","RampNM1","RampNM2"]
[1,"Crossing - LT","WBL","CrossL2","Cross left","EBT,EBL","CrossT1,CrossL1","Cross thru",null,{"$f":"SUMPRODUCT($AN4:$BC4,$AN$38:$BC$38)","v":1875},{"$f":"SUMPRODUCT($BE4:$BT4,$BE$38:$BT$38)","v":5625},{"$f":"PRODUCT(J4:K4)","v":10546875},null,{"$f":"VLOOKUP(E4,SSI_RTI_Range_VehSpeed,5,FALSE)","v":20},{"$f":"VLOOKUP(H4,SSI_RTI_Range_VehSpeed,5,FALSE)","v":40},{"$f":"IF(B4=\"Nonmotorized\",\"\",VLOOKUP(B4,SSI_RTI_Range_CollAngles,5,FALSE))","v":230},{"$f":"IF(B4=\"Nonmotorized\",\"\",SQRT(N4^2+O4^2-2*N4*O4*COS(RADIANS(P4)))/2)","v":27.515723575341713},{"$f":"IF(B4=\"Nonmotorized\",1/(1+EXP(3.8432-0.1237*O4)),(Q4/SSI_RTI_RegAlpha)^SSI_RTI_RegK+(Q4/SSI_RTI_RegAlpha)^SSI_RTI_RegK-((Q4/SSI_RTI_RegAlpha)^SSI_RTI_RegK)*((Q4/SSI_RTI_RegAlpha)^SSI_RTI_RegK))","v":6.6083846594169424E-2},null,{"$f":"SSI_RTI_PermFactor","v":1},null,1,null,1,null,{"$f":"MAX(1,IF(B4<>\"Pedestrian\",V4*SSI_RTI_CrossThruLanes+W4*SSI_RTI_Ramp1ThruLanes+X4*IF(SSI_RTI_CrossThruLanes=1,SSI_RTI_MergeWeightL1,IF(SSI_RTI_CrossThruLanes=2,SSI_RTI_MergeWeightL1+SSI_RTI_MergeWeightL2,SSI_RTI_MergeWeightL1+SSI_RTI_MergeWeightL2+SSI_RTI_MergeWeightL3*(SSI_RTI_CrossThruLanes-2)))+Y4*IF(SSI_RTI_Ramp1ThruLanes=1,SSI_RTI_MergeWeightL1,IF(SSI_RTI_Ramp1ThruLanes=2,SSI_RTI_MergeWeightL1+SSI_RTI_MergeWeightL2,SSI_RTI_MergeWeightL1+SSI_RTI_MergeWeightL2+SSI_RTI_MergeWeightL3*(SSI_RTI_Ramp1ThruLanes-2))),V4*SSI_RTI_CrossThruLanes+W4*SSI_RTI_Ramp1ThruLanes+X4*IF(SSI_RTI_CrossThruLanes=1,SSI_RTI_NM_MergeWeightL1,IF(SSI_RTI_CrossThruLanes=2,SSI_RTI_NM_MergeWeightL1+SSI_RTI_NM_MergeWeightL2,SSI_RTI_NM_MergeWeightL1+SSI_RTI_NM_MergeWeightL2+SSI_RTI_NM_MergeWeightL3*(SSI_RTI_CrossThruLanes-2)))+Y4*IF(SSI_RTI_Ramp1ThruLanes=1,SSI_RTI_NM_MergeWeightL1,IF(SSI_RTI_Ramp1ThruLanes=2,SSI_RTI_NM_MergeWeightL1+SSI_RTI_NM_MergeWeightL2,SSI_RTI_NM_MergeWeightL1+SSI_RTI_NM_MergeWeightL2+SSI_RTI_NM_MergeWeightL3*(SSI_RTI_Ramp1ThruLanes-2)))))","v":3.75},null,{"$f":"IF(B4=\"Diverging\",\"\",SSI_RTI_VehSpeed_CrossThru)","v":40},{"$f":"IF(B4=\"Diverging\",1,1-((60-AB4)/60*0.1/0.15))","v":0.77777777777777779},null,null,null,{"$f":"IF(SSI_RTI_ConsiderNMComplexity=\"Yes\",1+AE4+AF4,1)","v":1},null,{"$f":"PRODUCT(Z4,T4,AC4,AG4)","v":2.9166666666666665},null,{"$f":"L4*R4*AI4","v":2032852.7028479851},null,null,{"$f":"IF(ISNUMBER(SEARCH(AN$3,$D4)),1,\"\")","v":""},{"$f":"IF(ISNUMBER(SEARCH(AO$3,$D4)),1,\"\")","v":""},"","",1,"","","","","","","","","","","",null,{"$f":"IF(ISNUMBER(SEARCH(BE$3,$G4)),1,\"\")","v":1},{"$f":"IF(ISNUMBER(SEARCH(BF$3,$G4)),1,\"\")","v":1},"","","","","","","","","","","","","",""]
[2,"Crossing - LT","SBL","RampL2","Signal far","WBL","CrossL2","Cross left",null,{"$f":"SUMPRODUCT($AN5:$BC5,$AN$38:$BC$38)","v":1125},{"$f":"SUMPRODUCT($BE5:$BT5,$BE$38:$BT$38)","v":1875},{"$f":"PRODUCT(J5:K5)","v":2109375},null,25,20,230,{"$f":"IF(B5=\"Nonmotorized\",\"\",SQRT(N5^2+O5^2-2*N5*O5*COS(RADIANS(P5)))/2)","v":20.419277715473552},2.1555284139167373E-2,null,{"$f":"SSI_RTI_StopFactor","v":0.72500000000000009},null,1,null,1,null,3.75,null,40,0.77777777777777779,null,null,null,1,null,2.1145833333333339,null,{"$f":"L5*R5*AI5","v":96146.250298483399},null,null,{"$f":"IF(ISNUMBER(SEARCH(AN$3,$D5)),1,\"\")","v":""},"","","","","","","","","",1,"","","","","",null,{"$f":"IF(ISNUMBER(SEARCH(BE$3,$G5)),1,\"\")","v":""},"","","",1,"","","","","","","","","","",""]
[3,"Crossing - LT","SBL","RampL2","Signal near","WBT,NBL","CrossT2,RampL1","Cross thru",null,1125,4875,5484375,null,15,40,230,25.477171799592707,4.955895980669895E-2,null,{"$f":"SSI_RTI_StopFactor","v":0.72500000000000009},null,1,null,1,null,3.75,null,40,0.77777777777777779,null,null,null,1,null,2.1145833333333339,null,574743.58123481798,null,null,"","","","","","","","","","",1,"","","","","",null,"","","",1,"","","",1,"","","","","","","",""]
[4,"Crossing - LT","EBL","CrossL1","Cross left","WBT,WBL","CrossT2,CrossL2","Cross thru",null,1875,5625,10546875,null,20,40,230,27.515723575341713,6.6083846594169424E-2,null,{"$f":"SSI_RTI_PermFactor","v":1},null,1,null,1,null,3.75,null,40,0.77777777777777779,null,null,null,1,null,2.9166666666666665,null,2032852.7028479851,null,null,"",1,"","","","","","","","","","","","","","",null,"","","",1,1,"","","","","","","","","","",""]
[5,"Crossing - LT","NBL","RampL1","Signal far","EBL","CrossL1","Cross left",null,1125,1875,2109375,null,25,20,230,20.419277715473552,2.1555284139167373E-2,null,{"$f":"SSI_RTI_StopFactor","v":0.72500000000000009},null,1,null,1,null,3.75,null,40,0.77777777777777779,null,null,null,1,null,2.1145833333333339,null,96146.250298483399,null,null,"","","","","","","",1,"","","","","","","","",null,"",1,"","","","","","","","","","","","","",""]
[6,"Crossing - LT","NBL","RampL1","Signal near","EBT,SBL","CrossT1,RampL2","Cross thru",null,1125,4875,5484375,null,15,40,230,25.477171799592707,4.955895980669895E-2,null,{"$f":"SSI_RTI_StopFactor","v":0.72500000000000009},null,1,null,1,null,3.75,null,40,0.77777777777777779,null,null,null,1,null,2.1145833333333339,null,574743.58123481798,null,null,"","","","","","","",1,"","","","","","","","",null,1,"","","","","","","","","",1,"","","","",""]
[7,"Merging","SBR","RampR2","Signal near","WBT,NBL","CrossT2,RampL1","Cross thru",null,1125,4875,5484375,null,15,40,45,15.62427488378375,7.8340357658475412E-3,null,{"$f":"SSI_RTI_StopFactor","v":0.72500000000000009},null,null,null,1,null,1.75,null,40,0.77777777777777779,null,null,null,1,null,0.98680555555555582,null,42397.893369873535,null,null,"","","","","","","","","","","",1,"","","","",null,"","","",1,"","","",1,"","","","","","","",""]
[8,"Merging","EBR","CrossR1","Cross right","WBL","CrossL2","Cross left",null,1875,1875,3515625,null,15,20,45,7.0840654162717795,3.9022923271840685E-4,null,{"$f":"SSI_RTI_PermFactor","v":1},null,1,null,1,null,3.75,null,40,0.77777777777777779,null,null,null,1,null,2.9166666666666665,null,4001.3739683039762,null,null,"","",1,"","","","","","","","","","","","","",null,"","","","",1,"","","","","","","","","","",""]
[9,"Merging","SBL","RampL2","Signal far","EBT,EBL","CrossT1,CrossL1","Cross thru",null,1125,5625,6328125,null,25,40,45,14.237155945157243,5.5084599291000359E-3,null,{"$f":"SSI_RTI_StopFactor","v":0.72500000000000009},null,1,null,1,null,3.75,null,40,0.77777777777777779,null,null,null,1,null,2.1145833333333339,null,73710.617361809826,null,null,"","","","","","","","","","",1,"","","","","",null,1,1,"","","","","","","","","","","","","",""]
[10,"Merging","NBR","RampR1","Signal near","EBT,SBL","CrossT1,RampL2","Cross thru",null,1125,4875,5484375,null,15,40,45,15.62427488378375,7.8340357658475412E-3,null,{"$f":"SSI_RTI_StopFactor","v":0.72500000000000009},null,null,null,1,null,1.75,null,40,0.77777777777777779,null,null,null,1,null,0.98680555555555582,null,42397.893369873535,null,null,"","","","","","","","",1,"","","","","","","",null,1,"","","","","","","","","",1,"","","","",""]
[11,"Merging","WBR","CrossR2","Cross right","EBL","CrossL1","Cross left",null,1875,1875,3515625,null,15,20,45,7.0840654162717795,3.9022923271840685E-4,null,{"$f":"SSI_RTI_PermFactor","v":1},null,1,null,1,null,3.75,null,40,0.77777777777777779,null,null,null,1,null,2.9166666666666665,null,4001.3739683039762,null,null,"","","","","",1,"","","","","","","","","","",null,"",1,"","","","","","","","","","","","","",""]
[12,"Merging","NBL","RampL1","Signal far","WBT,WBL","CrossT2,CrossL2","Cross thru",null,1125,5625,6328125,null,25,40,45,14.237155945157243,5.5084599291000359E-3,null,{"$f":"SSI_RTI_StopFactor","v":0.72500000000000009},null,1,null,1,null,3.75,null,40,0.77777777777777779,null,null,null,1,null,2.1145833333333339,null,73710.617361809826,null,null,"","","","","","","",1,"","","","","","","","",null,"","","",1,1,"","","","","","","","","","",""]
[13,"Diverging","SBR","RampR2","Signal near","SBL","RampL2","Signal near",null,1125,1125,1265625,null,15,15,10,1.3073361412148754,6.4061388075216188E-7,null,{"$f":"SSI_RTI_PermFactor","v":1},null,null,null,null,null,1,null,"",1,null,null,null,1,null,1,null,0.81077694282695489,null,null,"","","","","","","","","","","",1,"","","","",null,"","","","","","","","","","",1,"","","","",""]
[14,"Diverging","EBT, EBL","CrossT1, CrossL1","Cross thru","EBR","CrossR1","Cross right",null,5625,1875,10546875,null,40,15,10,12.680996573469201,3.5521749218507754E-3,null,1,null,null,null,null,null,1,null,"",1,null,null,null,1,null,1,null,37464.344878894895,null,null,1,1,"","","","","","","","","","","","","","",null,"","",1,"","","","","","","","","","","","",""]
[15,"Diverging","EBT, SBL","CrossT1, RampL2","Cross thru","EBL","CrossL1","Cross left",null,4875,1875,9140625,null,40,20,10,10.299363999544671,1.6139822402002194E-3,null,1,null,null,null,null,null,1,null,"",1,null,null,null,1,null,1,null,14752.806414330131,null,null,1,"","","","","","","","","",1,"","","","","",null,"",1,"","","","","","","","","","","","","",""]
[16,"Diverging","NBR","RampR1","Signal near","NBL","RampL1","Signal near",null,1125,1125,1265625,null,15,15,10,1.3073361412148754,6.4061388075216188E-7,null,1,null,null,null,null,null,1,null,"",1,null,null,null,1,null,1,null,0.81077694282695489,null,null,"","","","","","","","",1,"","","","","","","",null,"","","","","","","",1,"","","","","","","",""]
[17,"Diverging","WBT, WBL","CrossT2, CrossL2","Cross thru","WBR","CrossR2","Cross right",null,5625,1875,10546875,null,40,15,10,12.680996573469201,3.5521749218507754E-3,null,1,null,null,null,null,null,1,null,"",1,null,null,null,1,null,1,null,37464.344878894895,null,null,"","","",1,1,"","","","","","","","","","","",null,"","","","","",1,"","","","","","","","","",""]
[18,"Diverging","WBT, NBL","CrossT2, RampL1","Cross thru","WBL","CrossL2","Cross left",null,4875,1875,9140625,null,40,20,10,10.299363999544671,1.6139822402002194E-3,null,1,null,null,null,null,null,1,null,"",1,null,null,null,1,null,1,null,14752.806414330131,null,null,"","","",1,"","","",1,"","","","","","","","",null,"","","","",1,"","","","","","","","","","",""]
[19,"Nonmotorized",null,"RampNM2","Nonmotorized","SBL","RampL2","Signal near",null,375,1125,421875,null,0,15,"","",0.1205004039155782,null,{"$f":"SSI_RTI_StopFactor","v":0.72500000000000009},null,null,1,null,null,1,null,{"$f":"IF(B22=\"Diverging\",\"\",SSI_RTI_VehSpeed_StopNear)","v":15},0.49999999999999989,null,null,null,1,null,0.36249999999999999,null,18428.089114433151,null,null,"","","","","","","","","","","","","","","",1,null,"","","","","","","","","","",1,"","","","",""]
[20,"Nonmotorized",null,"RampNM2","Nonmotorized","SBR","RampR2","Signal near",null,375,1125,421875,null,0,15,"","",0.1205004039155782,null,{"$f":"SSI_RTI_StopFactor","v":0.72500000000000009},null,null,1,null,null,1,null,{"$f":"IF(B23=\"Diverging\",\"\",SSI_RTI_VehSpeed_StopNear)","v":15},0.49999999999999989,null,null,null,1,null,0.36249999999999999,null,18428.089114433151,null,null,"","","","","","","","","","","","","","","",1,null,"","","","","","","","","","","",1,"","","",""]
[21,"Nonmotorized",null,"CrossNM1","Nonmotorized","SBR","RampR2","Signal near",null,375,1125,421875,null,0,15,"","",0.1205004039155782,null,{"$f":"SSI_RTI_StopFactor","v":0.72500000000000009},null,2,null,null,1,5,null,40,0.77777777777777779,null,null,null,1,null,2.8194444444444446,null,143329.58200114674,null,null,"","","","","","","","","","","","",1,"","","",null,"","","","","","","","","","","",1,"","","",""]
[22,"Nonmotorized",null,"CrossNM1","Nonmotorized","WBT,NBL","CrossT2,RampL1","Cross thru",null,375,4875,1828125,null,0,40,"","",0.75115840021714742,null,{"$f":"SSI_RTI_PermFactor","v":1},null,2,null,null,1,5,null,40,0.77777777777777779,null,null,null,1,null,3.8888888888888888,null,{"$f":"L25*R25*AI25","v":5340266.7515437827},null,null,"","","","","","","","","","","","",1,"","","",null,"","","",1,"","","",1,"","","","","","","",""]
[23,"Nonmotorized",null,"CrossNM1","Nonmotorized","EBT,EBL","CrossT1,CrossL1","Cross thru",null,375,5625,2109375,null,0,40,"","",0.75115840021714742,null,{"$f":"SSI_RTI_PermFactor","v":1},null,2,null,null,1,5,null,40,0.77777777777777779,null,null,null,1,null,3.8888888888888888,null,6161846.2517812876,null,null,"","","","","","","","","","","","",1,"","","",null,1,1,"","","","","","","","","","","","","",""]
[24,"Nonmotorized",null,"CrossNM1","Nonmotorized","EBR","CrossR1","Cross right",null,375,1875,703125,null,0,15,"","",0.1205004039155782,null,{"$f":"SSI_RTI_PermFactor","v":1},null,2,null,null,1,5,null,40,0.77777777777777779,null,null,null,1,null,3.8888888888888888,null,329493.29195665917,null,null,"","","","","","","","","","","","",1,"","","",null,"","",1,"","","","","","","","","","","","",""]
[25,"Nonmotorized",null,"RampNM1","Nonmotorized","EBR","CrossR1","Cross right",null,375,1875,703125,null,0,15,"","",0.1205004039155782,null,{"$f":"SSI_RTI_PermFactor","v":1},null,null,1,2,null,4.5,null,{"$f":"IF(B28=\"Diverging\",\"\",SSI_RTI_VehSpeed_StopNear)","v":15},0.49999999999999989,null,null,null,1,null,2.2499999999999996,null,190635.40463206705,null,null,"","","","","","","","","","","","","","",1,"",null,"","",1,"","","","","","","","","","","","",""]
[26,"Nonmotorized",null,"RampNM1","Nonmotorized","WBL","CrossL2","Cross left",null,375,1875,703125,null,0,20,"","",0.20274912921655375,null,{"$f":"SSI_RTI_PermFactor","v":1},null,null,1,2,null,4.5,null,{"$f":"IF(B29=\"Diverging\",\"\",SSI_RTI_VehSpeed_StopNear)","v":15},0.49999999999999989,null,null,null,1,null,2.2499999999999996,null,320755.45833087602,null,null,"","","","","","","","","","","","","","",1,"",null,"","","","",1,"","","","","","","","","","",""]
[27,"Nonmotorized",null,"RampNM1","Nonmotorized","NBL","RampL1","Signal near",null,375,1125,421875,null,0,15,"","",0.1205004039155782,null,{"$f":"SSI_RTI_StopFactor","v":0.72500000000000009},null,null,1,null,null,1,null,40,0.77777777777777779,null,null,null,1,null,0.56388888888888899,null,28665.916400229351,null,null,"","","","","","","","","","","","","","",1,"",null,"","","","","","","",1,"","","","","","","",""]
[28,"Nonmotorized",null,"RampNM1","Nonmotorized","NBR","RampR1","Signal near",null,375,1125,421875,null,0,15,"","",0.1205004039155782,null,{"$f":"SSI_RTI_StopFactor","v":0.72500000000000009},null,null,1,null,null,1,null,40,0.77777777777777779,null,null,null,1,null,0.56388888888888899,null,28665.916400229351,null,null,"","","","","","","","","","","","","","",1,"",null,"","","","","","","","",1,"","","","","","",""]
[29,"Nonmotorized",null,"CrossNM2","Nonmotorized","NBR","RampR1","Signal near",null,375,1125,421875,null,0,15,"","",0.1205004039155782,null,{"$f":"SSI_RTI_StopFactor","v":0.72500000000000009},null,2,null,null,1,5,null,40,0.77777777777777779,null,null,null,1,null,2.8194444444444446,null,143329.58200114674,null,null,"","","","","","","","","","","","","",1,"","",null,"","","","","","","","",1,"","","","","","",""]
[30,"Nonmotorized",null,"CrossNM2","Nonmotorized","EBT,SBL","CrossT1,RampL2","Cross thru",null,375,4875,1828125,null,0,40,"","",0.75115840021714742,null,{"$f":"SSI_RTI_PermFactor","v":1},null,2,null,null,1,5,null,40,0.77777777777777779,null,null,null,1,null,3.8888888888888888,null,5340266.7515437827,null,null,"","","","","","","","","","","","","",1,"","",null,1,"","","","","","","","","",1,"","","","",""]
[31,"Nonmotorized",null,"CrossNM2","Nonmotorized","WBT,WBL","CrossT2,CrossL2","Cross thru",null,375,5625,2109375,null,0,40,"","",0.75115840021714742,null,{"$f":"SSI_RTI_PermFactor","v":1},null,2,null,null,1,5,null,40,0.77777777777777779,null,null,null,1,null,3.8888888888888888,null,6161846.2517812876,null,null,"","","","","","","","","","","","","",1,"","",null,"","","",1,1,"","","","","","","","","","",""]
[32,"Nonmotorized",null,"CrossNM2","Nonmotorized","WBR","CrossR2","Cross right",null,375,1875,703125,null,0,15,"","",0.1205004039155782,null,{"$f":"SSI_RTI_PermFactor","v":1},null,2,null,null,1,5,null,40,0.77777777777777779,null,null,null,1,null,3.8888888888888888,null,329493.29195665917,null,null,{"$f":"IF(ISNUMBER(SEARCH(AN$3,$D35)),1,\"\")","v":""},"","","","","","","","","","","","",1,"","",null,{"$f":"IF(ISNUMBER(SEARCH(BE$3,$G35)),1,\"\")","v":""},"","","","",1,"","","","","","","","","",""]
[33,"Nonmotorized",null,"RampNM2","Nonmotorized","WBR","CrossR2","Cross right",null,375,1875,703125,null,0,15,"",{"$f":"IF(B36=\"Nonmotorized\",\"\",SQRT(N36^2+O36^2-2*N36*O36*COS(RADIANS(P36)))/2)","v":""},0.1205004039155782,null,{"$f":"SSI_RTI_PermFactor","v":1},null,null,1,2,null,4.5,null,40,0.77777777777777779,null,null,null,1,null,3.5,null,296543.96276099328,null,null,"","","","","","","","","","","","","","","",1,null,"","","","","",1,"","","","","","","","","",""]
[34,"Nonmotorized",null,"RampNM2","Nonmotorized","EBL","CrossL1","Cross left",null,375,1875,{"$f":"PRODUCT(J37:K37)","v":703125},null,0,20,"","",0.20274912921655375,null,{"$f":"SSI_RTI_PermFactor","v":1},null,null,1,2,null,4.5,null,40,0.77777777777777779,null,null,null,1,null,3.5,null,498952.93518136279,null,null,"","","","","","","","","","","","","","","",1,null,"",1,"","","","","","","","","","","","","",""]
[null,null,null,null,null,null,null,null,null,null,null,null,null,null,null,null,null,null,null,null,null,null,null,null,null,null,null,null,null,null,null,null,null,null,null,null,null,null,"O",{"$f":"'SSI Inputs RTI'!$D$28","v":3750},{"$f":"'SSI Inputs RTI'!$D$29","v":1875},{"$f":"'SSI Inputs RTI'!$D$30","v":1875},{"$f":"'SSI Inputs RTI'!$D$32","v":3750},{"$f":"'SSI Inputs RTI'!$D$33","v":1875},{"$f":"'SSI Inputs RTI'!$D$34","v":1875},{"$f":"'SSI Inputs RTI'!$D$36","v":2250},{"$f":"'SSI Inputs RTI'!$D$37","v":1125},{"$f":"'SSI Inputs RTI'!$D$38","v":1125},{"$f":"'SSI Inputs RTI'!$D$40","v":2250},{"$f":"'SSI Inputs RTI'!$D$41","v":1125},{"$f":"'SSI Inputs RTI'!$D$42","v":1125},{"$f":"'SSI Inputs RTI'!$Q$20","v":375},{"$f":"'SSI Inputs RTI'!$Q$21","v":375},{"$f":"'SSI Inputs RTI'!$Q$22","v":375},{"$f":"'SSI Inputs RTI'!$Q$23","v":375},"O",{"$f":"'SSI Inputs RTI'!$D$28","v":3750},{"$f":"'SSI Inputs RTI'!$D$29","v":1875},{"$f":"'SSI Inputs RTI'!$D$30","v":1875},{"$f":"'SSI Inputs RTI'!$D$32","v":3750},{"$f":"'SSI Inputs RTI'!$D$33","v":1875},{"$f":"'SSI Inputs RTI'!$D$34","v":1875},{"$f":"'SSI Inputs RTI'!$D$36","v":2250},{"$f":"'SSI Inputs RTI'!$D$37","v":1125},{"$f":"'SSI Inputs RTI'!$D$38","v":1125},{"$f":"'SSI Inputs RTI'!$D$40","v":2250},{"$f":"'SSI Inputs RTI'!$D$41","v":1125},{"$f":"'SSI Inputs RTI'!$D$42","v":1125},{"$f":"'SSI Inputs RTI'!$Q$20","v":375},{"$f":"'SSI Inputs RTI'!$Q$21","v":375},{"$f":"'SSI Inputs RTI'!$Q$22","v":375},{"$f":"'SSI Inputs RTI'!$Q$23","v":375}]
[null,null,null,null,null,null,null,null,null,null,null,null,null,null,null,null,null,null,null,null,null,null,null,null,null,null,null,null,null,null,null,null,null,null,null,null,null,null,"D",{"$f":"'SSI Inputs RTI'!$E$28","v":7750},{"$f":"'SSI Inputs RTI'!$E$29","v":3875},{"$f":"'SSI Inputs RTI'!$E$30","v":3875},{"$f":"'SSI Inputs RTI'!$E$32","v":7750},{"$f":"'SSI Inputs RTI'!$E$33","v":3875},{"$f":"'SSI Inputs RTI'!$E$34","v":3875},{"$f":"'SSI Inputs RTI'!$E$36","v":2500},{"$f":"'SSI Inputs RTI'!$E$37","v":1250},{"$f":"'SSI Inputs RTI'!$E$38","v":1250},{"$f":"'SSI Inputs RTI'!$E$40","v":2500},{"$f":"'SSI Inputs RTI'!$E$41","v":1250},{"$f":"'SSI Inputs RTI'!$E$42","v":1250},{"$f":"'SSI Inputs RTI'!$R$20","v":425},{"$f":"'SSI Inputs RTI'!$R$21","v":425},{"$f":"'SSI Inputs RTI'!$R$22","v":425},{"$f":"'SSI Inputs RTI'!$R$23","v":425},"D",{"$f":"'SSI Inputs RTI'!$E$28","v":7750},{"$f":"'SSI Inputs RTI'!$E$29","v":3875},{"$f":"'SSI Inputs RTI'!$E$30","v":3875},{"$f":"'SSI Inputs RTI'!$E$32","v":7750},{"$f":"'SSI Inputs RTI'!$E$33","v":3875},{"$f":"'SSI Inputs RTI'!$E$34","v":3875},{"$f":"'SSI Inputs RTI'!$E$36","v":2500},{"$f":"'SSI Inputs RTI'!$E$37","v":1250},{"$f":"'SSI Inputs RTI'!$E$38","v":1250},{"$f":"'SSI Inputs RTI'!$E$40","v":2500},{"$f":"'SSI Inputs RTI'!$E$41","v":1250},{"$f":"'SSI Inputs RTI'!$E$42","v":1250},{"$f":"'SSI Inputs RTI'!$R$20","v":425},{"$f":"'SSI Inputs RTI'!$R$21","v":425},{"$f":"'SSI Inputs RTI'!$R$22","v":425},{"$f":"'SSI Inputs RTI'!$R$23","v":425}]
[]
[]
[]
[]
[]
[]
[]
[]
[]
[]
[]
[]
[]
[]
[]
[]
[]
[]
[]
[]
[]
[]
[]
[]
[]
[]
[]
[]
[]
[]
[]
[]
[]
[]
[]
[]
[]
[]
[]
[]
[]
[]
[]
[]
[]
[]
[]
[]
[]
[]
[]
[]
[]
[]
[]
[]
[]
[]
[]
[]
[]
[null,null,null,null,null,null,null,null,null,"Exposure",null,null,null,null,null,null,null,null,null,null,null,null,null,null,null,null,null,null,null,null,null,null,null,null,null,null,"Exposure-Severity-Complexity Product"]
[null,null,null,null,null,null,null,null,null,"Q1","Q2","I"]
[null,null,null,null,null,null,null,null,null,{"$f":"SUMPRODUCT($AN4:$BC4,$AN$39:$BC$39)","v":3875},{"$f":"SUMPRODUCT($BE4:$BT4,$BE$39:$BT$39)","v":11625},{"$f":"PRODUCT(J103:K103)","v":45046875},null,null,null,null,null,null,null,null,null,null,null,null,null,null,null,null,null,null,null,null,null,null,null,null,{"$f":"L103*R4*AI4","v":8682539.7663862817}]
[null,null,null,null,null,null,null,null,null,{"$f":"SUMPRODUCT($AN5:$BC5,$AN$39:$BC$39)","v":1250},{"$f":"SUMPRODUCT($BE5:$BT5,$BE$39:$BT$39)","v":3875},{"$f":"PRODUCT(J104:K104)","v":4843750},null,null,null,null,null,null,null,null,null,null,null,null,null,null,null,null,null,null,null,null,null,null,null,null,{"$f":"L104*R5*AI5","v":220780.27846318411}]
[null,null,null,null,null,null,null,null,null,1250,9000,11250000,null,null,null,null,null,null,null,null,null,null,null,null,null,null,null,null,null,null,null,null,null,null,null,null,1178961.1922765498]
[null,null,null,null,null,null,null,null,null,3875,11625,45046875,null,null,null,null,null,null,null,null,null,null,null,null,null,null,null,null,null,null,null,null,null,null,null,null,8682539.7663862817]
[null,null,null,null,null,null,null,null,null,1250,3875,4843750,null,null,null,null,null,null,null,null,null,null,null,null,null,null,null,null,null,null,null,null,null,null,null,null,220780.27846318411]
[null,null,null,null,null,null,null,null,null,1250,9000,11250000,null,null,null,null,null,null,null,null,null,null,null,null,null,null,null,null,null,null,null,null,null,null,null,null,1178961.1922765498]
[null,null,null,null,null,null,null,null,null,1250,9000,11250000,null,null,null,null,null,null,null,null,null,null,null,null,null,null,null,null,null,null,null,null,null,null,null,null,86970.037681791873]
[null,null,null,null,null,null,null,null,null,3875,3875,15015625,null,null,null,null,null,null,null,null,null,null,null,null,null,null,null,null,null,null,null,null,null,null,null,null,17090.312815733872]
[null,null,null,null,null,null,null,null,null,1250,11625,14531250,null,null,null,null,null,null,null,null,null,null,null,null,null,null,null,null,null,null,null,null,null,null,null,null,169261.41764563738]
[null,null,null,null,null,null,null,null,null,1250,9000,11250000,null,null,null,null,null,null,null,null,null,null,null,null,null,null,null,null,null,null,null,null,null,null,null,null,86970.037681791873]
[null,null,null,null,null,null,null,null,null,3875,3875,15015625,null,null,null,null,null,null,null,null,null,null,null,null,null,null,null,null,null,null,null,null,null,null,null,null,17090.312815733872]
[null,null,null,null,null,null,null,null,null,1250,11625,14531250,null,null,null,null,null,null,null,null,null,null,null,null,null,null,null,null,null,null,null,null,null,null,null,null,169261.41764563738]
[null,null,null,null,null,null,null,null,null,1250,1250,1562500,null,null,null,null,null,null,null,null,null,null,null,null,null,null,null,null,null,null,null,null,null,null,null,null,1.0009591886752529]
[null,null,null,null,null,null,null,null,null,11625,3875,45046875,null,null,null,null,null,null,null,null,null,null,null,null,null,null,null,null,null,null,null,null,null,null,null,null,160014.37968274666]
[null,null,null,null,null,null,null,null,null,9000,3875,34875000,null,null,null,null,null,null,null,null,null,null,null,null,null,null,null,null,null,null,null,null,null,null,null,null,56287.630626982653]
[null,null,null,null,null,null,null,null,null,1250,1250,1562500,null,null,null,null,null,null,null,null,null,null,null,null,null,null,null,null,null,null,null,null,null,null,null,null,1.0009591886752529]
[null,null,null,null,null,null,null,null,null,11625,3875,45046875,null,null,null,null,null,null,null,null,null,null,null,null,null,null,null,null,null,null,null,null,null,null,null,null,160014.37968274666]
[null,null,null,null,null,null,null,null,null,9000,3875,34875000,null,null,null,null,null,null,null,null,null,null,null,null,null,null,null,null,null,null,null,null,null,null,null,null,56287.630626982653]
[null,null,null,null,null,null,null,null,null,425,1250,531250,null,null,null,null,null,null,null,null,null,null,null,null,null,null,null,null,null,null,null,null,null,null,null,null,23205.741847804708]
[null,null,null,null,null,null,null,null,null,425,1250,531250,null,null,null,null,null,null,null,null,null,null,null,null,null,null,null,null,null,null,null,null,null,null,null,null,23205.741847804708]
[null,null,null,null,null,null,null,null,null,425,1250,531250,null,null,null,null,null,null,null,null,null,null,null,null,null,null,null,null,null,null,null,null,null,null,null,null,180489.1032607033]
[null,null,null,null,null,null,null,null,null,425,9000,3825000,null,null,null,null,null,null,null,null,null,null,null,null,null,null,null,null,null,null,null,null,null,null,null,null,11173481.203230068]
[null,null,null,null,null,null,null,null,null,425,11625,4940625,null,null,null,null,null,null,null,null,null,null,null,null,null,null,null,null,null,null,null,null,null,null,null,null,14432413.220838837]
[null,null,null,null,null,null,null,null,null,425,3875,1646875,null,null,null,null,null,null,null,null,null,null,null,null,null,null,null,null,null,null,null,null,null,null,null,null,771746.51049404161]
[null,null,null,null,null,null,null,null,null,425,3875,1646875,null,null,null,null,null,null,null,null,null,null,null,null,null,null,null,null,null,null,null,null,null,null,null,null,446510.48107155255]
[null,null,null,null,null,null,null,null,null,425,3875,1646875,null,null,null,null,null,null,null,null,null,null,null,null,null,null,null,null,null,null,null,null,null,null,null,null,751280.56240165175]
[null,null,null,null,null,null,null,null,null,425,1250,531250,null,null,null,null,null,null,null,null,null,null,null,null,null,null,null,null,null,null,null,null,null,null,null,null,36097.820652140661]
[null,null,null,null,null,null,null,null,null,425,1250,531250,null,null,null,null,null,null,null,null,null,null,null,null,null,null,null,null,null,null,null,null,null,null,null,null,36097.820652140661]
[null,null,null,null,null,null,null,null,null,425,1250,531250,null,null,null,null,null,null,null,null,null,null,null,null,null,null,null,null,null,null,null,null,null,null,null,null,180489.1032607033]
[null,null,null,null,null,null,null,null,null,425,9000,3825000,null,null,null,null,null,null,null,null,null,null,null,null,null,null,null,null,null,null,null,null,null,null,null,null,11173481.203230068]
[null,null,null,null,null,null,null,null,null,425,11625,4940625,null,null,null,null,null,null,null,null,null,null,null,null,null,null,null,null,null,null,null,null,null,null,null,null,14432413.220838837]
[null,null,null,null,null,null,null,null,null,425,3875,1646875,null,null,null,null,null,null,null,null,null,null,null,null,null,null,null,null,null,null,null,null,null,null,null,null,771746.51049404161]
[null,null,null,null,null,null,null,null,null,425,3875,1646875,null,null,null,null,null,null,null,null,null,null,null,null,null,null,null,null,null,null,null,null,null,null,null,null,694571.85944463743]
[null,null,null,null,null,null,null,null,null,425,3875,1646875,null,null,null,null,null,null,null,null,null,null,null,null,null,null,null,null,null,null,null,null,null,null,null,null,1168658.652624792]

{"sheet":"RTI_RAB1x1","index":13,"n_rows":124,"n_cols":72,"rows_kept":124,"cut":false,"hidden":true,"merged":[[1,34,2,34],[1,36,2,36],[1,39,1,52],[1,56,1,69],[100,9,100,11],[100,36,101,36],[0,19,0,28],[0,30,0,32],[1,9,1,11],[1,13,1,17],[1,21,1,25],[1,27,1,28],[1,30,2,30],[1,31,2,31],[1,32,2,32]]}
[null,null,null,null,null,null,null,null,null,null,null,null,null,null,null,null,null,null,null,"Conflicting Traffic Complexity",null,null,null,null,null,null,null,null,null,null,"Pedestrian Complexity"]
[null,null,null,null,null,null,null,null,null,"Exposure",null,null,null,"Severity",null,null,null,null,null,"Traffic Control",null,"Conflicting Lanes",null,null,null,null,null,"Conflicting Speed",null,null,"Indirect Paths Indicator","Non-intuitive movements indicator","Pedestrian Complexity factor",null,"Total Complexity Multiplier",null,"Exposure-Severity-Complexity Product",null,null,"Included in Mvmt1",null,null,null,null,null,null,null,null,null,null,null,null,null,null,null,null,"Included in Mvmt2"]
["#","Conflict Type","Mvmt1","Mvmt1_gen","Mvmt1_SpeedCat","Mvmt2","Mvmt2_gen","Mvmt2_SpeedCat",null,"Q1","Q2","I",null,"Speed_V1","Speed_V2","Angle","delta_V","P_FSI",null,null,null,"CrossC","RampC","CrossM/P","RampM/P","Score",null,"Speed","Factor",null,null,null,null,null,null,null,null,null,null,"CrossT1","CrossL1","CrossR1","CrossT2","CrossL2","CrossR2","RampT1","RampL1","RampR1","RampT2","RampL2","RampR2","CrossNM1","CrossNM2","RampNM1","RampNM2",null,"CrossT1","CrossL1","CrossR1","CrossT2","CrossL2","CrossR2","RampT1","RampL1","RampR1","RampT2","RampL2","RampR2","CrossNM1","CrossNM2","RampNM1","RampNM2"]
[1,"Crossing - RAB","WBT,NBL","CrossT2,RampL1","RAB exiting","SBL","RampL2","RAB entering",null,{"$f":"SUMPRODUCT($AN4:$BC4,$AN$26:$BC$26)","v":4875},{"$f":"SUMPRODUCT($BE4:$BT4,$BE$26:$BT$26)","v":1125},{"$f":"PRODUCT(J4:K4)","v":5484375},null,{"$f":"VLOOKUP(E4,SSI_RTI_Range_VehSpeed,5,FALSE)","v":30},{"$f":"VLOOKUP(H4,SSI_RTI_Range_VehSpeed,5,FALSE)","v":20},{"$f":"IF(B4=\"Nonmotorized\",\"\",VLOOKUP(B4,SSI_RTI_Range_CollAngles,5,FALSE))","v":60},{"$f":"IF(B4=\"Nonmotorized\",\"\",SQRT(N4^2+O4^2-2*N4*O4*COS(RADIANS(P4)))/2)","v":13.228756555322953},{"$f":"IF(B4=\"Nonmotorized\",1/(1+EXP(3.8432-0.1237*O4)),(Q4/SSI_RTI_RegAlpha)^SSI_RTI_RegK+(Q4/SSI_RTI_RegAlpha)^SSI_RTI_RegK-((Q4/SSI_RTI_RegAlpha)^SSI_RTI_RegK)*((Q4/SSI_RTI_RegAlpha)^SSI_RTI_RegK))","v":4.1698027385763175E-3},null,{"$f":"SSI_RTI_PermFactor","v":1},null,null,null,null,null,1,null,{"$f":"IF(B4=\"Diverging\",\"\",SSI_RTI_VehSpeed_RABCirc)","v":25},{"$f":"IF(B4=\"Diverging\",1,1-((60-AB4)/60*0.1/0.15))","v":0.61111111111111105},null,null,null,{"$f":"IF(SSI_RTI_ConsiderNMComplexity=\"Yes\",1+AE4+AF4,1)","v":1},null,{"$f":"PRODUCT(Z4,T4,AC4,AG4)","v":0.61111111111111105},null,{"$f":"L4*R4*AI4","v":13975.354491009688},null,null,{"$f":"IF(ISNUMBER(SEARCH(AN$3,$D4)),1,\"\")","v":""},{"$f":"IF(ISNUMBER(SEARCH(AO$3,$D4)),1,\"\")","v":""},"",1,"","","",1,"","","","","","","","",null,{"$f":"IF(ISNUMBER(SEARCH(BE$3,$G4)),1,\"\")","v":""},{"$f":"IF(ISNUMBER(SEARCH(BF$3,$G4)),1,\"\")","v":""},"","","","","","","","",1,"","","","",""]
[2,"Crossing - RAB","EBT,SBL","CrossT1,RampL2","RAB exiting","NBL","RampL1","RAB entering",null,4875,1125,{"$f":"PRODUCT(J5:K5)","v":5484375},null,30,20,60,{"$f":"IF(B5=\"Nonmotorized\",\"\",SQRT(N5^2+O5^2-2*N5*O5*COS(RADIANS(P5)))/2)","v":13.228756555322953},4.1698027385763175E-3,null,1,null,null,null,null,null,1,null,25,0.61111111111111105,null,null,null,1,null,0.61111111111111105,null,{"$f":"L5*R5*AI5","v":13975.354491009688},null,null,{"$f":"IF(ISNUMBER(SEARCH(AN$3,$D5)),1,\"\")","v":1},"","","","","","","","","",1,"","","","","",null,{"$f":"IF(ISNUMBER(SEARCH(BE$3,$G5)),1,\"\")","v":""},"","","","","","",1,"","","","","","","",""]
[3,"Merging","WBT,NBL","CrossT2,RampL1","RAB exiting","SBR","RampR2","RAB entering",null,4875,1125,5484375,null,30,20,45,10.623933623853066,1.8155470372595668E-3,null,1,null,null,null,null,null,1,null,25,0.61111111111111105,null,null,null,1,null,0.61111111111111105,null,6084.9193670652658,null,null,"","","",1,"","","",1,"","","","","","","","",null,"","","","","","","","","","","",1,"","","",""]
[4,"Merging","WBL","CrossL2","RAB circulating","SBL","RampL2","RAB entering",null,1875,1125,2109375,null,25,20,45,8.9147801264732891,9.3337987230879336E-4,null,1,null,null,null,null,null,1,null,25,0.61111111111111105,null,null,null,1,null,0.61111111111111105,null,1203.1849916480539,null,null,"","","","",1,"","","","","","","","","","","",null,"","","","","","","","","","",1,"","","","",""]
[5,"Merging","EBT,EBL,EBR","CrossT1,CrossL1,CrossR1","RAB entering","WBL,SBL","CrossL2,RampL2","RAB circulating",null,7500,3000,22500000,null,20,25,45,8.9147801264732891,9.3337987230879336E-4,null,1,null,null,null,null,null,1,null,25,0.61111111111111105,null,null,null,1,null,0.61111111111111105,null,12833.973244245908,null,null,1,1,1,"","","","","","","","","","","","","",null,"","","","",1,"","","","","",1,"","","","",""]
[6,"Merging","EBL","CrossL1","RAB circulating","NBL","RampL1","RAB entering",null,1875,1125,2109375,null,25,20,45,8.9147801264732891,9.3337987230879336E-4,null,1,null,null,null,null,null,1,null,25,0.61111111111111105,null,null,null,1,null,0.61111111111111105,null,1203.1849916480539,null,null,"",1,"","","","","","","","","","","","","","",null,"","","","","","","",1,"","","","","","","",""]
[7,"Merging","EBT,SBL","CrossT1,RampL2","RAB exiting","NBR","RampR1","RAB entering",null,4875,1125,5484375,null,30,20,45,10.623933623853066,1.8155470372595668E-3,null,1,null,null,null,null,null,1,null,25,0.61111111111111105,null,null,null,1,null,0.61111111111111105,null,6084.9193670652658,null,null,1,"","","","","","","","","",1,"","","","","",null,"","","","","","","","",1,"","","","","","",""]
[8,"Merging","WBT,WBL,WBR","CrossT2,CrossL2,CrossR2","RAB entering","EBL,NBL","CrossL1,RampL1","RAB circulating",null,7500,3000,22500000,null,20,25,45,8.9147801264732891,9.3337987230879336E-4,null,1,null,null,null,null,null,1,null,25,0.61111111111111105,null,null,null,1,null,0.61111111111111105,null,12833.973244245908,null,null,"","","",1,1,1,"","","","","","","","","","",null,"",1,"","","","","",1,"","","","","","","",""]
[9,"Diverging","SBL","RampL2","RAB entering","SBR","RampR2","RAB circulating",null,1125,1125,1265625,null,20,25,10,3.1698677806728797,1.8457105347369838E-5,null,1,null,null,null,null,null,1,null,{"$f":"IF(B12=\"Diverging\",\"\",SSI_RTI_VehSpeed_RABEnter)","v":""},1,null,null,null,1,null,1,null,23.359773955264952,null,null,"","","","","","","","","","",1,"","","","","",null,"","","","","","","","","","","",1,"","","",""]
[10,"Diverging","WBT,NBL","CrossT2,RampL1","RAB exiting","WBL","CrossL2","RAB circulating",null,4875,1875,9140625,null,30,25,10,3.4564566568122888,2.5632912055290725E-5,null,1,null,null,null,null,null,1,null,"",1,null,null,null,1,null,1,null,234.3008367553918,null,null,"","","",1,"","","",1,"","","","","","","","",null,"","","","",1,"","","","","","","","","","",""]
[11,"Diverging","EBT,EBL,SBL","CrossT1,CrossL1,RampL2","RAB circulating","EBR,WBL","CrossR1,CrossL2","RAB exiting",null,6750,3750,25312500,null,25,30,10,3.4564566568122888,2.5632912055290725E-5,null,1,null,null,null,null,null,1,null,"",1,null,null,null,1,null,1,null,648.83308639954646,null,null,1,1,"","","","","","","","",1,"","","","","",null,"","",1,"",1,"","","","","","","","","","",""]
[12,"Diverging","NBL","RampL1","RAB entering","NBR","RampR1","RAB circulating",null,1125,1125,1265625,null,20,25,10,3.1698677806728797,1.8457105347369838E-5,null,1,null,null,null,null,null,1,null,"",1,null,null,null,1,null,1,null,23.359773955264952,null,null,"","","","","","","",1,"","","","","","","","",null,"","","","","","","","",1,"","","","","","",""]
[13,"Diverging","EBT,SBL","CrossT1,RampL2","RAB exiting","EBL","CrossL1","RAB circulating",null,4875,1875,9140625,null,30,25,10,3.4564566568122888,2.5632912055290725E-5,null,1,null,null,null,null,null,1,null,"",1,null,null,null,1,null,1,null,234.3008367553918,null,null,1,"","","","","","","","","",1,"","","","","",null,"",1,"","","","","","","","","","","","","",""]
[14,"Diverging","WBT,WBL,NBL","CrossT2,CrossL2,RampL1","RAB circulating","WBR,EBL","CrossR2,CrossL1","RAB exiting",null,6750,3750,25312500,null,25,30,10,3.4564566568122888,2.5632912055290725E-5,null,1,null,null,null,null,null,1,null,"",1,null,null,null,1,null,1,null,648.83308639954646,null,null,"","","",1,1,"","",1,"","","","","","","","",null,"",1,"","","",1,"","","","","","","","","",""]
[15,"Nonmotorized",null,"RampNM2","Nonmotorized","SBR,SBL","RampR2,RampL2","RAB entering",null,375,2250,843750,null,0,20,"","",0.20274912921655375,null,1,null,null,null,null,null,1,null,20,0.55555555555555558,null,1,null,2,null,1.1111111111111112,null,190077.30864051916,null,null,"","","","","","","","","","","","","","","",1,null,"","","","","","","","","","",1,1,"","","",""]
[16,"Nonmotorized",null,"CrossNM1","Nonmotorized","WBT,SBR,NBL","CrossT2,RampR2,RampL1","RAB exiting",null,375,6000,2250000,null,0,30,"","",0.46699805015542578,null,1,null,null,null,null,null,1,null,{"$f":"IF(B19=\"Diverging\",\"\",SSI_RTI_VehSpeed_RABExit)","v":30},0.66666666666666663,null,1,null,2,null,1.3333333333333333,null,1400994.1504662773,null,null,"","","","","","","","","","","","",1,"","","",null,"","","",1,"","","",1,"","","",1,"","","",""]
[17,"Nonmotorized",null,"CrossNM1","Nonmotorized","EBT,EBR,EBL","CrossT1,CrossR1,CrossL1","RAB entering",null,375,7500,2812500,null,0,20,"","",0.20274912921655375,null,1,null,null,null,null,null,1,null,{"$f":"IF(B20=\"Diverging\",\"\",SSI_RTI_VehSpeed_RABEnter)","v":20},0.55555555555555558,null,1,null,2,null,1.1111111111111112,null,633591.0288017306,null,null,"","","","","","","","","","","","",1,"","","",null,1,1,1,"","","","","","","","","","","","",""]
[18,"Nonmotorized",null,"RampNM1","Nonmotorized","EBR,WBL","CrossR1,CrossL2","RAB exiting",null,375,3750,1406250,null,0,30,"","",0.46699805015542578,null,1,null,null,null,null,null,1,null,{"$f":"IF(B21=\"Diverging\",\"\",SSI_RTI_VehSpeed_RABExit)","v":30},0.66666666666666663,null,1,null,2,null,1.3333333333333333,null,875621.34404142341,null,null,"","","","","","","","","","","","","","",1,"",null,{"$f":"IF(ISNUMBER(SEARCH(BE$3,$G21)),1,\"\")","v":""},"",1,"",1,"","","","","","","","","","",""]
[19,"Nonmotorized",null,"RampNM1","Nonmotorized","NBR,NBL","RampR1,RampL1","RAB entering",null,375,2250,843750,null,0,20,"","",0.20274912921655375,null,1,null,null,null,null,null,1,null,{"$f":"IF(B22=\"Diverging\",\"\",SSI_RTI_VehSpeed_RABEnter)","v":20},0.55555555555555558,null,1,null,2,null,1.1111111111111112,null,190077.30864051916,null,null,"","","","","","","","","","","","","","",1,"",null,"","","","","","","",1,1,"","","","","","",""]
[20,"Nonmotorized",null,"CrossNM2","Nonmotorized","EBT,NBR,SBL","CrossT1,RampR1,RampL2","RAB exiting",null,375,6000,2250000,null,0,30,"","",0.46699805015542578,null,1,null,null,null,null,null,1,null,{"$f":"IF(B23=\"Diverging\",\"\",SSI_RTI_VehSpeed_RABExit)","v":30},0.66666666666666663,null,1,null,2,null,1.3333333333333333,null,1400994.1504662773,null,null,"","","","","","","","","","","","",{"$f":"IF(ISNUMBER(SEARCH(AZ$3,$D23)),1,\"\")","v":""},1,"","",null,1,"","","","","","","",1,"",1,"","","","",""]
[21,"Nonmotorized",null,"CrossNM2","Nonmotorized","WBT,WBR,WBL","CrossT2,CrossR2,CrossL2","RAB entering",null,375,7500,2812500,null,0,20,"","",0.20274912921655375,null,1,null,null,null,null,null,1,null,{"$f":"IF(B24=\"Diverging\",\"\",SSI_RTI_VehSpeed_RABEnter)","v":20},0.55555555555555558,null,1,null,2,null,1.1111111111111112,null,633591.0288017306,null,null,{"$f":"IF(ISNUMBER(SEARCH(AN$3,$D24)),1,\"\")","v":""},"","","","","","","","","","","","",1,"","",null,"","","",1,1,1,"","","","","","","","","",""]
[22,"Nonmotorized",null,"RampNM2","Nonmotorized","WBR,EBL","CrossR2,CrossL1","RAB exiting",null,375,3750,1406250,null,0,30,"","",0.46699805015542578,null,1,null,null,null,null,null,1,null,{"$f":"IF(B25=\"Diverging\",\"\",SSI_RTI_VehSpeed_RABExit)","v":30},0.66666666666666663,null,1,null,2,null,1.3333333333333333,null,{"$f":"L25*R25*AI25","v":875621.34404142341},null,null,"","","","","","","","","","","","","","","",1,null,"",1,"","","",1,"","","","","","","","","",""]
[null,null,null,null,null,null,null,null,null,null,null,null,null,null,null,null,null,null,null,null,null,null,null,null,null,null,null,null,null,null,null,null,null,null,null,null,null,null,"O",{"$f":"'SSI Inputs RTI'!$D$28","v":3750},{"$f":"'SSI Inputs RTI'!$D$29","v":1875},{"$f":"'SSI Inputs RTI'!$D$30","v":1875},{"$f":"'SSI Inputs RTI'!$D$32","v":3750},{"$f":"'SSI Inputs RTI'!$D$33","v":1875},{"$f":"'SSI Inputs RTI'!$D$34","v":1875},{"$f":"'SSI Inputs RTI'!$D$36","v":2250},{"$f":"'SSI Inputs RTI'!$D$37","v":1125},{"$f":"'SSI Inputs RTI'!$D$38","v":1125},{"$f":"'SSI Inputs RTI'!$D$40","v":2250},{"$f":"'SSI Inputs RTI'!$D$41","v":1125},{"$f":"'SSI Inputs RTI'!$D$42","v":1125},{"$f":"'SSI Inputs RTI'!$Q$20","v":375},{"$f":"'SSI Inputs RTI'!$Q$21","v":375},{"$f":"'SSI Inputs RTI'!$Q$22","v":375},{"$f":"'SSI Inputs RTI'!$Q$23","v":375},"O",{"$f":"'SSI Inputs RTI'!$D$28","v":3750},{"$f":"'SSI Inputs RTI'!$D$29","v":1875},{"$f":"'SSI Inputs RTI'!$D$30","v":1875},{"$f":"'SSI Inputs RTI'!$D$32","v":3750},{"$f":"'SSI Inputs RTI'!$D$33","v":1875},{"$f":"'SSI Inputs RTI'!$D$34","v":1875},{"$f":"'SSI Inputs RTI'!$D$36","v":2250},{"$f":"'SSI Inputs RTI'!$D$37","v":1125},{"$f":"'SSI Inputs RTI'!$D$38","v":1125},{"$f":"'SSI Inputs RTI'!$D$40","v":2250},{"$f":"'SSI Inputs RTI'!$D$41","v":1125},{"$f":"'SSI Inputs RTI'!$D$42","v":1125},{"$f":"'SSI Inputs RTI'!$Q$20","v":375},{"$f":"'SSI Inputs RTI'!$Q$21","v":375},{"$f":"'SSI Inputs RTI'!$Q$22","v":375},{"$f":"'SSI Inputs RTI'!$Q$23","v":375}]
[null,null,null,null,null,null,null,null,null,null,null,null,null,null,null,null,null,null,null,null,null,null,null,null,null,null,null,null,null,null,null,null,null,null,null,null,null,null,"D",{"$f":"'SSI Inputs RTI'!$E$28","v":7750},{"$f":"'SSI Inputs RTI'!$E$29","v":3875},{"$f":"'SSI Inputs RTI'!$E$30","v":3875},{"$f":"'SSI Inputs RTI'!$E$32","v":7750},{"$f":"'SSI Inputs RTI'!$E$33","v":3875},{"$f":"'SSI Inputs RTI'!$E$34","v":3875},{"$f":"'SSI Inputs RTI'!$E$36","v":2500},{"$f":"'SSI Inputs RTI'!$E$37","v":1250},{"$f":"'SSI Inputs RTI'!$E$38","v":1250},{"$f":"'SSI Inputs RTI'!$E$40","v":2500},{"$f":"'SSI Inputs RTI'!$E$41","v":1250},{"$f":"'SSI Inputs RTI'!$E$42","v":1250},{"$f":"'SSI Inputs RTI'!$R$20","v":425},{"$f":"'SSI Inputs RTI'!$R$21","v":425},{"$f":"'SSI Inputs RTI'!$R$22","v":425},{"$f":"'SSI Inputs RTI'!$R$23","v":425},"D",{"$f":"'SSI Inputs RTI'!$E$28","v":7750},{"$f":"'SSI Inputs RTI'!$E$29","v":3875},{"$f":"'SSI Inputs RTI'!$E$30","v":3875},{"$f":"'SSI Inputs RTI'!$E$32","v":7750},{"$f":"'SSI Inputs RTI'!$E$33","v":3875},{"$f":"'SSI Inputs RTI'!$E$34","v":3875},{"$f":"'SSI Inputs RTI'!$E$36","v":2500},{"$f":"'SSI Inputs RTI'!$E$37","v":1250},{"$f":"'SSI Inputs RTI'!$E$38","v":1250},{"$f":"'SSI Inputs RTI'!$E$40","v":2500},{"$f":"'SSI Inputs RTI'!$E$41","v":1250},{"$f":"'SSI Inputs RTI'!$E$42","v":1250},{"$f":"'SSI Inputs RTI'!$R$20","v":425},{"$f":"'SSI Inputs RTI'!$R$21","v":425},{"$f":"'SSI Inputs RTI'!$R$22","v":425},{"$f":"'SSI Inputs RTI'!$R$23","v":425}]
[]
[]
[]
[]
[]
[]
[]
[]
[]
[]
[]
[]
[]
[]
[]
[]
[]
[]
[]
[]
[]
[]
[]
[]
[]
[]
[]
[]
[]
[]
[]
[]
[]
[]
[]
[]
[]
[]
[]
[]
[]
[]
[]
[]
[]
[]
[]
[]
[]
[]
[]
[]
[]
[]
[]
[]
[]
[]
[]
[]
[]
[]
[]
[]
[]
[]
[]
[]
[]
[]
[]
[]
[]
[null,null,null,null,null,null,null,null,null,"Exposure",null,null,null,null,null,null,null,null,null,null,null,null,null,null,null,null,null,null,null,null,null,null,null,null,null,null,"Exposure-Severity-Complexity Product"]
[null,null,null,null,null,null,null,null,null,"Q1","Q2","I"]
[null,null,null,null,null,null,null,null,null,{"$f":"SUMPRODUCT($AN4:$BC4,$AN$27:$BC$27)","v":9000},{"$f":"SUMPRODUCT($BE4:$BT4,$BE$27:$BT$27)","v":1250},{"$f":"PRODUCT(J103:K103)","v":11250000},null,null,null,null,null,null,null,null,null,null,null,null,null,null,null,null,null,null,null,null,null,null,null,null,{"$f":"L103*R4*AI4","v":28667.393827712182}]
[null,null,null,null,null,null,null,null,null,{"$f":"SUMPRODUCT($AN5:$BC5,$AN$27:$BC$27)","v":9000},{"$f":"SUMPRODUCT($BE5:$BT5,$BE$27:$BT$27)","v":1250},{"$f":"PRODUCT(J104:K104)","v":11250000},null,null,null,null,null,null,null,null,null,null,null,null,null,null,null,null,null,null,null,null,null,null,null,null,{"$f":"L104*R5*AI5","v":28667.393827712182}]
[null,null,null,null,null,null,null,null,null,9000,1250,11250000,null,null,null,null,null,null,null,null,null,null,null,null,null,null,null,null,null,null,null,null,null,null,null,null,12481.885881159522]
[null,null,null,null,null,null,null,null,null,3875,1250,4843750,null,null,null,null,null,null,null,null,null,null,null,null,null,null,null,null,null,null,null,null,null,null,null,null,2762.8692400807163]
[null,null,null,null,null,null,null,null,null,15500,5125,79437500,null,null,null,null,null,null,null,null,null,null,null,null,null,null,null,null,null,null,null,null,null,null,null,null,45311.055537323744]
[null,null,null,null,null,null,null,null,null,3875,1250,4843750,null,null,null,null,null,null,null,null,null,null,null,null,null,null,null,null,null,null,null,null,null,null,null,null,2762.8692400807163]
[null,null,null,null,null,null,null,null,null,9000,1250,11250000,null,null,null,null,null,null,null,null,null,null,null,null,null,null,null,null,null,null,null,null,null,null,null,null,12481.885881159522]
[null,null,null,null,null,null,null,null,null,15500,5125,79437500,null,null,null,null,null,null,null,null,null,null,null,null,null,null,null,null,null,null,null,null,null,null,null,null,45311.055537323744]
[null,null,null,null,null,null,null,null,null,1250,1250,1562500,null,null,null,null,null,null,null,null,null,null,null,null,null,null,null,null,null,null,null,null,null,null,null,null,28.839227105265373]
[null,null,null,null,null,null,null,null,null,9000,3875,34875000,null,null,null,null,null,null,null,null,null,null,null,null,null,null,null,null,null,null,null,null,null,null,null,null,893.94780792826407]
[null,null,null,null,null,null,null,null,null,12875,7750,99781250,null,null,null,null,null,null,null,null,null,null,null,null,null,null,null,null,null,null,null,null,null,null,null,null,2557.6840060169775]
[null,null,null,null,null,null,null,null,null,1250,1250,1562500,null,null,null,null,null,null,null,null,null,null,null,null,null,null,null,null,null,null,null,null,null,null,null,null,28.839227105265373]
[null,null,null,null,null,null,null,null,null,9000,3875,34875000,null,null,null,null,null,null,null,null,null,null,null,null,null,null,null,null,null,null,null,null,null,null,null,null,893.94780792826407]
[null,null,null,null,null,null,null,null,null,12875,7750,99781250,null,null,null,null,null,null,null,null,null,null,null,null,null,null,null,null,null,null,null,null,null,null,null,null,2557.6840060169775]
[null,null,null,null,null,null,null,null,null,425,2500,1062500,null,null,null,null,null,null,null,null,null,null,null,null,null,null,null,null,null,null,null,null,null,null,null,null,239356.61088065375]
[null,null,null,null,null,null,null,null,null,425,10250,4356250,null,null,null,null,null,null,null,null,null,null,null,null,null,null,null,null,null,null,null,null,null,null,null,null,2712480.3413194316]
[null,null,null,null,null,null,null,null,null,425,15500,6587500,null,null,null,null,null,null,null,null,null,null,null,null,null,null,null,null,null,null,null,null,null,null,null,null,1484010.9874600533]
[null,null,null,null,null,null,null,null,null,425,7750,3293750,null,null,null,null,null,null,null,null,null,null,null,null,null,null,null,null,null,null,null,null,null,null,null,null,2050899.7702659117]
[null,null,null,null,null,null,null,null,null,425,2500,1062500,null,null,null,null,null,null,null,null,null,null,null,null,null,null,null,null,null,null,null,null,null,null,null,null,239356.61088065375]
[null,null,null,null,null,null,null,null,null,425,10250,4356250,null,null,null,null,null,null,null,null,null,null,null,null,null,null,null,null,null,null,null,null,null,null,null,null,2712480.3413194316]
[null,null,null,null,null,null,null,null,null,425,15500,6587500,null,null,null,null,null,null,null,null,null,null,null,null,null,null,null,null,null,null,null,null,null,null,null,null,1484010.9874600533]
[null,null,null,null,null,null,null,null,null,425,7750,3293750,null,null,null,null,null,null,null,null,null,null,null,null,null,null,null,null,null,null,null,null,null,null,null,null,2050899.7702659117]

{"sheet":"RTI_RAB2x1","index":14,"n_rows":124,"n_cols":72,"rows_kept":124,"cut":false,"hidden":true,"merged":[[1,34,2,34],[1,36,2,36],[1,39,1,52],[1,56,1,69],[100,9,100,11],[100,36,101,36],[0,19,0,28],[0,30,0,32],[1,9,1,11],[1,13,1,17],[1,21,1,25],[1,27,1,28],[1,30,2,30],[1,31,2,31],[1,32,2,32]]}
[null,null,null,null,null,null,null,null,null,null,null,null,null,null,null,null,null,null,null,"Conflicting Traffic Complexity",null,null,null,null,null,null,null,null,null,null,"Pedestrian Complexity"]
[null,null,null,null,null,null,null,null,null,"Exposure",null,null,null,"Severity",null,null,null,null,null,"Traffic Control",null,"Conflicting Lanes",null,null,null,null,null,"Conflicting Speed",null,null,"Indirect Paths Indicator","Non-intuitive movements indicator","Pedestrian Complexity factor",null,"Total Complexity Multiplier",null,"Exposure-Severity-Complexity Product",null,null,"Included in Mvmt1",null,null,null,null,null,null,null,null,null,null,null,null,null,null,null,null,"Included in Mvmt2"]
["#","Conflict Type","Mvmt1","Mvmt1_gen","Mvmt1_SpeedCat","Mvmt2","Mvmt2_gen","Mvmt2_SpeedCat",null,"Q1","Q2","I",null,"Speed_V1","Speed_V2","Angle","delta_V","P_FSI",null,null,null,"CrossC","RampC","CrossM/P","RampM/P","Score",null,"Speed","Factor",null,null,null,null,null,null,null,null,null,null,"CrossT1","CrossL1","CrossR1","CrossT2","CrossL2","CrossR2","RampT1","RampL1","RampR1","RampT2","RampL2","RampR2","CrossNM1","CrossNM2","RampNM1","RampNM2",null,"CrossT1","CrossL1","CrossR1","CrossT2","CrossL2","CrossR2","RampT1","RampL1","RampR1","RampT2","RampL2","RampR2","CrossNM1","CrossNM2","RampNM1","RampNM2"]
[1,"Crossing - RAB","WBT,NBL","CrossT2,RampL1","RAB exiting","SBL","RampL2","RAB entering",null,{"$f":"SUMPRODUCT($AN4:$BC4,$AN$26:$BC$26)","v":4875},{"$f":"SUMPRODUCT($BE4:$BT4,$BE$26:$BT$26)","v":1125},{"$f":"PRODUCT(J4:K4)","v":5484375},null,{"$f":"VLOOKUP(E4,SSI_RTI_Range_VehSpeed,5,FALSE)","v":30},{"$f":"VLOOKUP(H4,SSI_RTI_Range_VehSpeed,5,FALSE)","v":20},{"$f":"IF(B4=\"Nonmotorized\",\"\",VLOOKUP(B4,SSI_RTI_Range_CollAngles,5,FALSE))","v":60},{"$f":"IF(B4=\"Nonmotorized\",\"\",SQRT(N4^2+O4^2-2*N4*O4*COS(RADIANS(P4)))/2)","v":13.228756555322953},{"$f":"IF(B4=\"Nonmotorized\",1/(1+EXP(3.8432-0.1237*O4)),(Q4/SSI_RTI_RegAlpha)^SSI_RTI_RegK+(Q4/SSI_RTI_RegAlpha)^SSI_RTI_RegK-((Q4/SSI_RTI_RegAlpha)^SSI_RTI_RegK)*((Q4/SSI_RTI_RegAlpha)^SSI_RTI_RegK))","v":4.1698027385763175E-3},null,{"$f":"SSI_RTI_PermFactor","v":1},null,null,null,null,null,2,null,{"$f":"IF(B4=\"Diverging\",\"\",SSI_RTI_VehSpeed_RABCirc)","v":25},{"$f":"IF(B4=\"Diverging\",1,1-((60-AB4)/60*0.1/0.15))","v":0.61111111111111105},null,null,null,{"$f":"IF(SSI_RTI_ConsiderNMComplexity=\"Yes\",1+AE4+AF4,1)","v":1},null,{"$f":"PRODUCT(Z4,T4,AC4,AG4)","v":1.2222222222222221},null,{"$f":"L4*R4*AI4","v":27950.708982019376},null,null,{"$f":"IF(ISNUMBER(SEARCH(AN$3,$D4)),1,\"\")","v":""},{"$f":"IF(ISNUMBER(SEARCH(AO$3,$D4)),1,\"\")","v":""},"",1,"","","",1,"","","","","","","","",null,{"$f":"IF(ISNUMBER(SEARCH(BE$3,$G4)),1,\"\")","v":""},{"$f":"IF(ISNUMBER(SEARCH(BF$3,$G4)),1,\"\")","v":""},"","","","","","","","",1,"","","","",""]
[2,"Crossing - RAB","EBT,SBL","CrossT1,RampL2","RAB exiting","NBL","RampL1","RAB entering",null,4875,1125,{"$f":"PRODUCT(J5:K5)","v":5484375},null,30,20,60,{"$f":"IF(B5=\"Nonmotorized\",\"\",SQRT(N5^2+O5^2-2*N5*O5*COS(RADIANS(P5)))/2)","v":13.228756555322953},4.1698027385763175E-3,null,1,null,null,null,null,null,2,null,25,0.61111111111111105,null,null,null,1,null,1.2222222222222221,null,{"$f":"L5*R5*AI5","v":27950.708982019376},null,null,{"$f":"IF(ISNUMBER(SEARCH(AN$3,$D5)),1,\"\")","v":1},"","","","","","","","","",1,"","","","","",null,{"$f":"IF(ISNUMBER(SEARCH(BE$3,$G5)),1,\"\")","v":""},"","","","","","",1,"","","","","","","",""]
[3,"Merging","WBT,NBL","CrossT2,RampL1","RAB exiting","SBR","RampR2","RAB entering",null,4875,1125,5484375,null,30,20,45,10.623933623853066,1.8155470372595668E-3,null,1,null,null,null,null,null,1.75,null,25,0.61111111111111105,null,null,null,1,null,1.0694444444444444,null,10648.608892364216,null,null,"","","",1,"","","",1,"","","","","","","","",null,"","","","","","","","","","","",1,"","","",""]
[4,"Merging","WBL","CrossL2","RAB circulating","SBL","RampL2","RAB entering",null,1875,1125,2109375,null,25,20,45,8.9147801264732891,9.3337987230879336E-4,null,1,null,null,null,null,null,2,null,25,0.61111111111111105,null,null,null,1,null,1.2222222222222221,null,2406.3699832961079,null,null,"","","","",1,"","","","","","","","","","","",null,"","","","","","","","","","",1,"","","","",""]
[5,"Merging","EBT,EBL,EBR","CrossT1,CrossL1,CrossR1","RAB entering","WBL,SBL","CrossL2,RampL2","RAB circulating",null,7500,3000,22500000,null,20,25,45,8.9147801264732891,9.3337987230879336E-4,null,1,null,null,null,null,null,1,null,25,0.61111111111111105,null,null,null,1,null,0.61111111111111105,null,12833.973244245908,null,null,1,1,1,"","","","","","","","","","","","","",null,"","","","",1,"","","","","",1,"","","","",""]
[6,"Merging","EBL","CrossL1","RAB circulating","NBL","RampL1","RAB entering",null,1875,1125,2109375,null,25,20,45,8.9147801264732891,9.3337987230879336E-4,null,1,null,null,null,null,null,2,null,25,0.61111111111111105,null,null,null,1,null,1.2222222222222221,null,2406.3699832961079,null,null,"",1,"","","","","","","","","","","","","","",null,"","","","","","","",1,"","","","","","","",""]
[7,"Merging","EBT,SBL","CrossT1,RampL2","RAB exiting","NBR","RampR1","RAB entering",null,4875,1125,5484375,null,30,20,45,10.623933623853066,1.8155470372595668E-3,null,1,null,null,null,null,null,1.75,null,25,0.61111111111111105,null,null,null,1,null,1.0694444444444444,null,10648.608892364216,null,null,1,"","","","","","","","","",1,"","","","","",null,"","","","","","","","",1,"","","","","","",""]
[8,"Merging","WBT,WBL,WBR","CrossT2,CrossL2,CrossR2","RAB entering","EBL,NBL","CrossL1,RampL1","RAB circulating",null,7500,3000,22500000,null,20,25,45,8.9147801264732891,9.3337987230879336E-4,null,1,null,null,null,null,null,1,null,25,0.61111111111111105,null,null,null,1,null,0.61111111111111105,null,12833.973244245908,null,null,"","","",1,1,1,"","","","","","","","","","",null,"",1,"","","","","",1,"","","","","","","",""]
[9,"Diverging","SBL","RampL2","RAB entering","SBR","RampR2","RAB circulating",null,1125,1125,1265625,null,20,25,10,3.1698677806728797,1.8457105347369838E-5,null,1,null,null,null,null,null,1,null,{"$f":"IF(B12=\"Diverging\",\"\",SSI_RTI_VehSpeed_RABEnter)","v":""},1,null,null,null,1,null,1,null,23.359773955264952,null,null,"","","","","","","","","","",1,"","","","","",null,"","","","","","","","","","","",1,"","","",""]
[10,"Diverging","WBT,NBL","CrossT2,RampL1","RAB exiting","WBL","CrossL2","RAB circulating",null,4875,1875,9140625,null,30,25,10,3.4564566568122888,2.5632912055290725E-5,null,1,null,null,null,null,null,1,null,"",1,null,null,null,1,null,1,null,234.3008367553918,null,null,"","","",1,"","","",1,"","","","","","","","",null,"","","","",1,"","","","","","","","","","",""]
[11,"Diverging","EBT,EBL,SBL","CrossT1,CrossL1,RampL2","RAB circulating","EBR,WBL","CrossR1,CrossL2","RAB exiting",null,6750,3750,25312500,null,25,30,10,3.4564566568122888,2.5632912055290725E-5,null,1,null,null,null,null,null,1,null,"",1,null,null,null,1,null,1,null,648.83308639954646,null,null,1,1,"","","","","","","","",1,"","","","","",null,"","",1,"",1,"","","","","","","","","","",""]
[12,"Diverging","NBL","RampL1","RAB entering","NBR","RampR1","RAB circulating",null,1125,1125,1265625,null,20,25,10,3.1698677806728797,1.8457105347369838E-5,null,1,null,null,null,null,null,1,null,"",1,null,null,null,1,null,1,null,23.359773955264952,null,null,"","","","","","","",1,"","","","","","","","",null,"","","","","","","","",1,"","","","","","",""]
[13,"Diverging","EBT,SBL","CrossT1,RampL2","RAB exiting","EBL","CrossL1","RAB circulating",null,4875,1875,9140625,null,30,25,10,3.4564566568122888,2.5632912055290725E-5,null,1,null,null,null,null,null,1,null,"",1,null,null,null,1,null,1,null,234.3008367553918,null,null,1,"","","","","","","","","",1,"","","","","",null,"",1,"","","","","","","","","","","","","",""]
[14,"Diverging","WBT,WBL,NBL","CrossT2,CrossL2,RampL1","RAB circulating","WBR,EBL","CrossR2,CrossL1","RAB exiting",null,6750,3750,25312500,null,25,30,10,3.4564566568122888,2.5632912055290725E-5,null,1,null,null,null,null,null,1,null,"",1,null,null,null,1,null,1,null,648.83308639954646,null,null,"","","",1,1,"","",1,"","","","","","","","",null,"",1,"","","",1,"","","","","","","","","",""]
[15,"Nonmotorized",null,"RampNM2","Nonmotorized","SBR,SBL","RampR2,RampL2","RAB entering",null,375,2250,843750,null,0,20,"","",0.20274912921655375,null,1,null,null,null,null,null,1,null,20,0.55555555555555558,null,1,null,2,null,1.1111111111111112,null,190077.30864051916,null,null,"","","","","","","","","","","","","","","",1,null,"","","","","","","","","","",1,1,"","","",""]
[16,"Nonmotorized",null,"CrossNM1","Nonmotorized","WBT,SBR,NBL","CrossT2,RampR2,RampL1","RAB exiting",null,375,6000,2250000,null,0,30,"","",0.46699805015542578,null,1,null,null,null,null,null,2,null,{"$f":"IF(B19=\"Diverging\",\"\",SSI_RTI_VehSpeed_RABExit)","v":30},0.66666666666666663,null,1,null,2,null,2.6666666666666665,null,2801988.3009325545,null,null,"","","","","","","","","","","","",1,"","","",null,"","","",1,"","","",1,"","","",1,"","","",""]
[17,"Nonmotorized",null,"CrossNM1","Nonmotorized","EBT,EBR,EBL","CrossT1,CrossR1,CrossL1","RAB entering",null,375,7500,2812500,null,0,20,"","",0.20274912921655375,null,1,null,null,null,null,null,2,null,{"$f":"IF(B20=\"Diverging\",\"\",SSI_RTI_VehSpeed_RABEnter)","v":20},0.55555555555555558,null,1,null,2,null,2.2222222222222223,null,1267182.0576034612,null,null,"","","","","","","","","","","","",1,"","","",null,1,1,1,"","","","","","","","","","","","",""]
[18,"Nonmotorized",null,"RampNM1","Nonmotorized","EBR,WBL","CrossR1,CrossL2","RAB exiting",null,375,3750,1406250,null,0,30,"","",0.46699805015542578,null,1,null,null,null,null,null,1,null,{"$f":"IF(B21=\"Diverging\",\"\",SSI_RTI_VehSpeed_RABExit)","v":30},0.66666666666666663,null,1,null,2,null,1.3333333333333333,null,875621.34404142341,null,null,"","","","","","","","","","","","","","",1,"",null,"","",1,"",1,"","","","","","","","","",{"$f":"IF(ISNUMBER(SEARCH(BS$3,$G21)),1,\"\")","v":""},""]
[19,"Nonmotorized",null,"RampNM1","Nonmotorized","NBR,NBL","RampR1,RampL1","RAB entering",null,375,2250,843750,null,0,20,"","",0.20274912921655375,null,1,null,null,null,null,null,1,null,{"$f":"IF(B22=\"Diverging\",\"\",SSI_RTI_VehSpeed_RABEnter)","v":20},0.55555555555555558,null,1,null,2,null,1.1111111111111112,null,190077.30864051916,null,null,"","","","","","","","","","","","","","",1,"",null,{"$f":"IF(ISNUMBER(SEARCH(BE$3,$G22)),1,\"\")","v":""},"","","","","","",1,1,"","","","","","",""]
[20,"Nonmotorized",null,"CrossNM2","Nonmotorized","EBT,NBR,SBL","CrossT1,RampR1,RampL2","RAB exiting",null,375,6000,2250000,null,0,30,"","",0.46699805015542578,null,1,null,null,null,null,null,2,null,{"$f":"IF(B23=\"Diverging\",\"\",SSI_RTI_VehSpeed_RABExit)","v":30},0.66666666666666663,null,1,null,2,null,2.6666666666666665,null,2801988.3009325545,null,null,"","","","","","","","","","","","",{"$f":"IF(ISNUMBER(SEARCH(AZ$3,$D23)),1,\"\")","v":""},1,"","",null,1,"","","","","","","",1,"",1,"","","","",""]
[21,"Nonmotorized",null,"CrossNM2","Nonmotorized","WBT,WBR,WBL","CrossT2,CrossR2,CrossL2","RAB entering",null,375,7500,2812500,null,0,20,"","",0.20274912921655375,null,1,null,null,null,null,null,2,null,{"$f":"IF(B24=\"Diverging\",\"\",SSI_RTI_VehSpeed_RABEnter)","v":20},0.55555555555555558,null,1,null,2,null,2.2222222222222223,null,1267182.0576034612,null,null,{"$f":"IF(ISNUMBER(SEARCH(AN$3,$D24)),1,\"\")","v":""},"","","","","","","","","","","","",1,"","",null,"","","",1,1,1,"","","","","","","","","",""]
[22,"Nonmotorized",null,"RampNM2","Nonmotorized","WBR,EBL","CrossR2,CrossL1","RAB exiting",null,375,3750,1406250,null,0,30,"","",0.46699805015542578,null,1,null,null,null,null,null,1,null,{"$f":"IF(B25=\"Diverging\",\"\",SSI_RTI_VehSpeed_RABExit)","v":30},0.66666666666666663,null,1,null,2,null,1.3333333333333333,null,{"$f":"L25*R25*AI25","v":875621.34404142341},null,null,"","","","","","","","","","","","","","","",1,null,"",1,"","","",1,"","","","","","","","","",""]
[null,null,null,null,null,null,null,null,null,null,null,null,null,null,null,null,null,null,null,null,null,null,null,null,null,null,null,null,null,null,null,null,null,null,null,null,null,null,"O",{"$f":"'SSI Inputs RTI'!$D$28","v":3750},{"$f":"'SSI Inputs RTI'!$D$29","v":1875},{"$f":"'SSI Inputs RTI'!$D$30","v":1875},{"$f":"'SSI Inputs RTI'!$D$32","v":3750},{"$f":"'SSI Inputs RTI'!$D$33","v":1875},{"$f":"'SSI Inputs RTI'!$D$34","v":1875},{"$f":"'SSI Inputs RTI'!$D$36","v":2250},{"$f":"'SSI Inputs RTI'!$D$37","v":1125},{"$f":"'SSI Inputs RTI'!$D$38","v":1125},{"$f":"'SSI Inputs RTI'!$D$40","v":2250},{"$f":"'SSI Inputs RTI'!$D$41","v":1125},{"$f":"'SSI Inputs RTI'!$D$42","v":1125},{"$f":"'SSI Inputs RTI'!$Q$20","v":375},{"$f":"'SSI Inputs RTI'!$Q$21","v":375},{"$f":"'SSI Inputs RTI'!$Q$22","v":375},{"$f":"'SSI Inputs RTI'!$Q$23","v":375},"O",{"$f":"'SSI Inputs RTI'!$D$28","v":3750},{"$f":"'SSI Inputs RTI'!$D$29","v":1875},{"$f":"'SSI Inputs RTI'!$D$30","v":1875},{"$f":"'SSI Inputs RTI'!$D$32","v":3750},{"$f":"'SSI Inputs RTI'!$D$33","v":1875},{"$f":"'SSI Inputs RTI'!$D$34","v":1875},{"$f":"'SSI Inputs RTI'!$D$36","v":2250},{"$f":"'SSI Inputs RTI'!$D$37","v":1125},{"$f":"'SSI Inputs RTI'!$D$38","v":1125},{"$f":"'SSI Inputs RTI'!$D$40","v":2250},{"$f":"'SSI Inputs RTI'!$D$41","v":1125},{"$f":"'SSI Inputs RTI'!$D$42","v":1125},{"$f":"'SSI Inputs RTI'!$Q$20","v":375},{"$f":"'SSI Inputs RTI'!$Q$21","v":375},{"$f":"'SSI Inputs RTI'!$Q$22","v":375},{"$f":"'SSI Inputs RTI'!$Q$23","v":375}]
[null,null,null,null,null,null,null,null,null,null,null,null,null,null,null,null,null,null,null,null,null,null,null,null,null,null,null,null,null,null,null,null,null,null,null,null,null,null,"D",{"$f":"'SSI Inputs RTI'!$E$28","v":7750},{"$f":"'SSI Inputs RTI'!$E$29","v":3875},{"$f":"'SSI Inputs RTI'!$E$30","v":3875},{"$f":"'SSI Inputs RTI'!$E$32","v":7750},{"$f":"'SSI Inputs RTI'!$E$33","v":3875},{"$f":"'SSI Inputs RTI'!$E$34","v":3875},{"$f":"'SSI Inputs RTI'!$E$36","v":2500},{"$f":"'SSI Inputs RTI'!$E$37","v":1250},{"$f":"'SSI Inputs RTI'!$E$38","v":1250},{"$f":"'SSI Inputs RTI'!$E$40","v":2500},{"$f":"'SSI Inputs RTI'!$E$41","v":1250},{"$f":"'SSI Inputs RTI'!$E$42","v":1250},{"$f":"'SSI Inputs RTI'!$R$20","v":425},{"$f":"'SSI Inputs RTI'!$R$21","v":425},{"$f":"'SSI Inputs RTI'!$R$22","v":425},{"$f":"'SSI Inputs RTI'!$R$23","v":425},"D",{"$f":"'SSI Inputs RTI'!$E$28","v":7750},{"$f":"'SSI Inputs RTI'!$E$29","v":3875},{"$f":"'SSI Inputs RTI'!$E$30","v":3875},{"$f":"'SSI Inputs RTI'!$E$32","v":7750},{"$f":"'SSI Inputs RTI'!$E$33","v":3875},{"$f":"'SSI Inputs RTI'!$E$34","v":3875},{"$f":"'SSI Inputs RTI'!$E$36","v":2500},{"$f":"'SSI Inputs RTI'!$E$37","v":1250},{"$f":"'SSI Inputs RTI'!$E$38","v":1250},{"$f":"'SSI Inputs RTI'!$E$40","v":2500},{"$f":"'SSI Inputs RTI'!$E$41","v":1250},{"$f":"'SSI Inputs RTI'!$E$42","v":1250},{"$f":"'SSI Inputs RTI'!$R$20","v":425},{"$f":"'SSI Inputs RTI'!$R$21","v":425},{"$f":"'SSI Inputs RTI'!$R$22","v":425},{"$f":"'SSI Inputs RTI'!$R$23","v":425}]
[]
[]
[]
[]
[]
[]
[]
[]
[]
[]
[]
[]
[]
[]
[]
[]
[]
[]
[]
[]
[]
[]
[]
[]
[]
[]
[]
[]
[]
[]
[]
[]
[]
[]
[]
[]
[]
[]
[]
[]
[]
[]
[]
[]
[]
[]
[]
[]
[]
[]
[]
[]
[]
[]
[]
[]
[]
[]
[]
[]
[]
[]
[]
[]
[]
[]
[]
[]
[]
[]
[]
[]
[]
[null,null,null,null,null,null,null,null,null,"Exposure",null,null,null,null,null,null,null,null,null,null,null,null,null,null,null,null,null,null,null,null,null,null,null,null,null,null,"Exposure-Severity-Complexity Product"]
[null,null,null,null,null,null,null,null,null,"Q1","Q2","I"]
[null,null,null,null,null,null,null,null,null,{"$f":"SUMPRODUCT($AN4:$BC4,$AN$27:$BC$27)","v":9000},{"$f":"SUMPRODUCT($BE4:$BT4,$BE$27:$BT$27)","v":1250},{"$f":"PRODUCT(J103:K103)","v":11250000},null,null,null,null,null,null,null,null,null,null,null,null,null,null,null,null,null,null,null,null,null,null,null,null,{"$f":"L103*R4*AI4","v":57334.787655424363}]
[null,null,null,null,null,null,null,null,null,{"$f":"SUMPRODUCT($AN5:$BC5,$AN$27:$BC$27)","v":9000},{"$f":"SUMPRODUCT($BE5:$BT5,$BE$27:$BT$27)","v":1250},{"$f":"PRODUCT(J104:K104)","v":11250000},null,null,null,null,null,null,null,null,null,null,null,null,null,null,null,null,null,null,null,null,null,null,null,null,{"$f":"L104*R5*AI5","v":57334.787655424363}]
[null,null,null,null,null,null,null,null,null,9000,1250,11250000,null,null,null,null,null,null,null,null,null,null,null,null,null,null,null,null,null,null,null,null,null,null,null,null,21843.300292029166]
[null,null,null,null,null,null,null,null,null,3875,1250,4843750,null,null,null,null,null,null,null,null,null,null,null,null,null,null,null,null,null,null,null,null,null,null,null,null,5525.7384801614326]
[null,null,null,null,null,null,null,null,null,15500,5125,79437500,null,null,null,null,null,null,null,null,null,null,null,null,null,null,null,null,null,null,null,null,null,null,null,null,45311.055537323744]
[null,null,null,null,null,null,null,null,null,3875,1250,4843750,null,null,null,null,null,null,null,null,null,null,null,null,null,null,null,null,null,null,null,null,null,null,null,null,5525.7384801614326]
[null,null,null,null,null,null,null,null,null,9000,1250,11250000,null,null,null,null,null,null,null,null,null,null,null,null,null,null,null,null,null,null,null,null,null,null,null,null,21843.300292029166]
[null,null,null,null,null,null,null,null,null,15500,5125,79437500,null,null,null,null,null,null,null,null,null,null,null,null,null,null,null,null,null,null,null,null,null,null,null,null,45311.055537323744]
[null,null,null,null,null,null,null,null,null,1250,1250,1562500,null,null,null,null,null,null,null,null,null,null,null,null,null,null,null,null,null,null,null,null,null,null,null,null,28.839227105265373]
[null,null,null,null,null,null,null,null,null,9000,3875,34875000,null,null,null,null,null,null,null,null,null,null,null,null,null,null,null,null,null,null,null,null,null,null,null,null,893.94780792826407]
[null,null,null,null,null,null,null,null,null,12875,7750,99781250,null,null,null,null,null,null,null,null,null,null,null,null,null,null,null,null,null,null,null,null,null,null,null,null,2557.6840060169775]
[null,null,null,null,null,null,null,null,null,1250,1250,1562500,null,null,null,null,null,null,null,null,null,null,null,null,null,null,null,null,null,null,null,null,null,null,null,null,28.839227105265373]
[null,null,null,null,null,null,null,null,null,9000,3875,34875000,null,null,null,null,null,null,null,null,null,null,null,null,null,null,null,null,null,null,null,null,null,null,null,null,893.94780792826407]
[null,null,null,null,null,null,null,null,null,12875,7750,99781250,null,null,null,null,null,null,null,null,null,null,null,null,null,null,null,null,null,null,null,null,null,null,null,null,2557.6840060169775]
[null,null,null,null,null,null,null,null,null,425,2500,1062500,null,null,null,null,null,null,null,null,null,null,null,null,null,null,null,null,null,null,null,null,null,null,null,null,239356.61088065375]
[null,null,null,null,null,null,null,null,null,425,10250,4356250,null,null,null,null,null,null,null,null,null,null,null,null,null,null,null,null,null,null,null,null,null,null,null,null,5424960.6826388631]
[null,null,null,null,null,null,null,null,null,425,15500,6587500,null,null,null,null,null,null,null,null,null,null,null,null,null,null,null,null,null,null,null,null,null,null,null,null,2968021.9749201066]
[null,null,null,null,null,null,null,null,null,425,7750,3293750,null,null,null,null,null,null,null,null,null,null,null,null,null,null,null,null,null,null,null,null,null,null,null,null,2050899.7702659117]
[null,null,null,null,null,null,null,null,null,425,2500,1062500,null,null,null,null,null,null,null,null,null,null,null,null,null,null,null,null,null,null,null,null,null,null,null,null,239356.61088065375]
[null,null,null,null,null,null,null,null,null,425,10250,4356250,null,null,null,null,null,null,null,null,null,null,null,null,null,null,null,null,null,null,null,null,null,null,null,null,5424960.6826388631]
[null,null,null,null,null,null,null,null,null,425,15500,6587500,null,null,null,null,null,null,null,null,null,null,null,null,null,null,null,null,null,null,null,null,null,null,null,null,2968021.9749201066]
[null,null,null,null,null,null,null,null,null,425,7750,3293750,null,null,null,null,null,null,null,null,null,null,null,null,null,null,null,null,null,null,null,null,null,null,null,null,2050899.7702659117]

{"sheet":"RTI_RAB2x2","index":15,"n_rows":124,"n_cols":72,"rows_kept":124,"cut":false,"hidden":true,"merged":[[1,34,2,34],[1,36,2,36],[1,39,1,52],[1,56,1,69],[100,9,100,11],[100,36,101,36],[0,19,0,28],[0,30,0,32],[1,9,1,11],[1,13,1,17],[1,21,1,25],[1,27,1,28],[1,30,2,30],[1,31,2,31],[1,32,2,32]]}
[null,null,null,null,null,null,null,null,null,null,null,null,null,null,null,null,null,null,null,"Conflicting Traffic Complexity",null,null,null,null,null,null,null,null,null,null,"Pedestrian Complexity"]
[null,null,null,null,null,null,null,null,null,"Exposure",null,null,null,"Severity",null,null,null,null,null,"Traffic Control",null,"Conflicting Lanes",null,null,null,null,null,"Conflicting Speed",null,null,"Indirect Paths Indicator","Non-intuitive movements indicator","Pedestrian Complexity factor",null,"Total Complexity Multiplier",null,"Exposure-Severity-Complexity Product",null,null,"Included in Mvmt1",null,null,null,null,null,null,null,null,null,null,null,null,null,null,null,null,"Included in Mvmt2"]
["#","Conflict Type","Mvmt1","Mvmt1_gen","Mvmt1_SpeedCat","Mvmt2","Mvmt2_gen","Mvmt2_SpeedCat",null,"Q1","Q2","I",null,"Speed_V1","Speed_V2","Angle","delta_V","P_FSI",null,null,null,"CrossC","RampC","CrossM/P","RampM/P","Score",null,"Speed","Factor",null,null,null,null,null,null,null,null,null,null,"CrossT1","CrossL1","CrossR1","CrossT2","CrossL2","CrossR2","RampT1","RampL1","RampR1","RampT2","RampL2","RampR2","CrossNM1","CrossNM2","RampNM1","RampNM2",null,"CrossT1","CrossL1","CrossR1","CrossT2","CrossL2","CrossR2","RampT1","RampL1","RampR1","RampT2","RampL2","RampR2","CrossNM1","CrossNM2","RampNM1","RampNM2"]
[1,"Crossing - RAB","WBT,NBL","CrossT2,RampL1","RAB exiting","SBL","RampL2","RAB entering",null,{"$f":"SUMPRODUCT($AN4:$BC4,$AN$26:$BC$26)","v":4875},{"$f":"SUMPRODUCT($BE4:$BT4,$BE$26:$BT$26)","v":1125},{"$f":"PRODUCT(J4:K4)","v":5484375},null,{"$f":"VLOOKUP(E4,SSI_RTI_Range_VehSpeed,5,FALSE)","v":30},{"$f":"VLOOKUP(H4,SSI_RTI_Range_VehSpeed,5,FALSE)","v":20},{"$f":"IF(B4=\"Nonmotorized\",\"\",VLOOKUP(B4,SSI_RTI_Range_CollAngles,5,FALSE))","v":60},{"$f":"IF(B4=\"Nonmotorized\",\"\",SQRT(N4^2+O4^2-2*N4*O4*COS(RADIANS(P4)))/2)","v":13.228756555322953},{"$f":"IF(B4=\"Nonmotorized\",1/(1+EXP(3.8432-0.1237*O4)),(Q4/SSI_RTI_RegAlpha)^SSI_RTI_RegK+(Q4/SSI_RTI_RegAlpha)^SSI_RTI_RegK-((Q4/SSI_RTI_RegAlpha)^SSI_RTI_RegK)*((Q4/SSI_RTI_RegAlpha)^SSI_RTI_RegK))","v":4.1698027385763175E-3},null,{"$f":"SSI_RTI_PermFactor","v":1},null,null,null,null,null,2,null,{"$f":"IF(B4=\"Diverging\",\"\",SSI_RTI_VehSpeed_RABCirc)","v":25},{"$f":"IF(B4=\"Diverging\",1,1-((60-AB4)/60*0.1/0.15))","v":0.61111111111111105},null,null,null,{"$f":"IF(SSI_RTI_ConsiderNMComplexity=\"Yes\",1+AE4+AF4,1)","v":1},null,{"$f":"PRODUCT(Z4,T4,AC4,AG4)","v":1.2222222222222221},null,{"$f":"L4*R4*AI4","v":27950.708982019376},null,null,{"$f":"IF(ISNUMBER(SEARCH(AN$3,$D4)),1,\"\")","v":""},{"$f":"IF(ISNUMBER(SEARCH(AO$3,$D4)),1,\"\")","v":""},"",1,"","","",1,"","","","","","","","",null,{"$f":"IF(ISNUMBER(SEARCH(BE$3,$G4)),1,\"\")","v":""},{"$f":"IF(ISNUMBER(SEARCH(BF$3,$G4)),1,\"\")","v":""},"","","","","","","","",1,"","","","",""]
[2,"Crossing - RAB","EBT,SBL","CrossT1,RampL2","RAB exiting","NBL","RampL1","RAB entering",null,4875,1125,{"$f":"PRODUCT(J5:K5)","v":5484375},null,30,20,60,{"$f":"IF(B5=\"Nonmotorized\",\"\",SQRT(N5^2+O5^2-2*N5*O5*COS(RADIANS(P5)))/2)","v":13.228756555322953},4.1698027385763175E-3,null,1,null,null,null,null,null,2,null,25,0.61111111111111105,null,null,null,1,null,1.2222222222222221,null,{"$f":"L5*R5*AI5","v":27950.708982019376},null,null,{"$f":"IF(ISNUMBER(SEARCH(AN$3,$D5)),1,\"\")","v":1},"","","","","","","","","",1,"","","","","",null,{"$f":"IF(ISNUMBER(SEARCH(BE$3,$G5)),1,\"\")","v":""},"","","","","","",1,"","","","","","","",""]
[3,"Merging","WBT,NBL","CrossT2,RampL1","RAB exiting","SBR","RampR2","RAB entering",null,4875,1125,5484375,null,30,20,45,10.623933623853066,1.8155470372595668E-3,null,1,null,null,null,null,null,1.75,null,25,0.61111111111111105,null,null,null,1,null,1.0694444444444444,null,10648.608892364216,null,null,"","","",1,"","","",1,"","","","","","","","",null,"","","","","","","","","","","",1,"","","",""]
[4,"Merging","WBL","CrossL2","RAB circulating","SBL","RampL2","RAB entering",null,1875,1125,2109375,null,25,20,45,8.9147801264732891,9.3337987230879336E-4,null,1,null,null,null,null,null,2,null,25,0.61111111111111105,null,null,null,1,null,1.2222222222222221,null,2406.3699832961079,null,null,"","","","",1,"","","","","","","","","","","",null,"","","","","","","","","","",1,"","","","",""]
[5,"Merging","EBT,EBL,EBR","CrossT1,CrossL1,CrossR1","RAB entering","WBL,SBL","CrossL2,RampL2","RAB circulating",null,7500,3000,22500000,null,20,25,45,8.9147801264732891,9.3337987230879336E-4,null,1,null,null,null,null,null,2,null,25,0.61111111111111105,null,null,null,1,null,1.2222222222222221,null,25667.946488491816,null,null,1,1,1,"","","","","","","","","","","","","",null,"","","","",1,"","","","","",1,"","","","",""]
[6,"Merging","EBL","CrossL1","RAB circulating","NBL","RampL1","RAB entering",null,1875,1125,2109375,null,25,20,45,8.9147801264732891,9.3337987230879336E-4,null,1,null,null,null,null,null,2,null,25,0.61111111111111105,null,null,null,1,null,1.2222222222222221,null,2406.3699832961079,null,null,"",1,"","","","","","","","","","","","","","",null,"","","","","","","",1,"","","","","","","",""]
[7,"Merging","EBT,SBL","CrossT1,RampL2","RAB exiting","NBR","RampR1","RAB entering",null,4875,1125,5484375,null,30,20,45,10.623933623853066,1.8155470372595668E-3,null,1,null,null,null,null,null,1.75,null,25,0.61111111111111105,null,null,null,1,null,1.0694444444444444,null,10648.608892364216,null,null,1,"","","","","","","","","",1,"","","","","",null,"","","","","","","","",1,"","","","","","",""]
[8,"Merging","WBT,WBL,WBR","CrossT2,CrossL2,CrossR2","RAB entering","EBL,NBL","CrossL1,RampL1","RAB circulating",null,7500,3000,22500000,null,20,25,45,8.9147801264732891,9.3337987230879336E-4,null,1,null,null,null,null,null,2,null,25,0.61111111111111105,null,null,null,1,null,1.2222222222222221,null,25667.946488491816,null,null,"","","",1,1,1,"","","","","","","","","","",null,"",1,"","","","","",1,"","","","","","","",""]
[9,"Diverging","SBL","RampL2","RAB entering","SBR","RampR2","RAB circulating",null,1125,1125,1265625,null,20,25,10,3.1698677806728797,1.8457105347369838E-5,null,1,null,null,null,null,null,1,null,{"$f":"IF(B12=\"Diverging\",\"\",SSI_RTI_VehSpeed_RABEnter)","v":""},1,null,null,null,1,null,1,null,23.359773955264952,null,null,"","","","","","","","","","",1,"","","","","",null,"","","","","","","","","","","",1,"","","",""]
[10,"Diverging","WBT,NBL","CrossT2,RampL1","RAB exiting","WBL","CrossL2","RAB circulating",null,4875,1875,9140625,null,30,25,10,3.4564566568122888,2.5632912055290725E-5,null,1,null,null,null,null,null,1,null,"",1,null,null,null,1,null,1,null,234.3008367553918,null,null,"","","",1,"","","",1,"","","","","","","","",null,"","","","",1,"","","","","","","","","","",""]
[11,"Diverging","EBT,EBL,SBL","CrossT1,CrossL1,RampL2","RAB circulating","EBR,WBL","CrossR1,CrossL2","RAB exiting",null,6750,3750,25312500,null,25,30,10,3.4564566568122888,2.5632912055290725E-5,null,1,null,null,null,null,null,1,null,"",1,null,null,null,1,null,1,null,648.83308639954646,null,null,1,1,"","","","","","","","",1,"","","","","",null,"","",1,"",1,"","","","","","","","","","",""]
[12,"Diverging","NBL","RampL1","RAB entering","NBR","RampR1","RAB circulating",null,1125,1125,1265625,null,20,25,10,3.1698677806728797,1.8457105347369838E-5,null,1,null,null,null,null,null,1,null,"",1,null,null,null,1,null,1,null,23.359773955264952,null,null,"","","","","","","",1,"","","","","","","","",null,"","","","","","","","",1,"","","","","","",""]
[13,"Diverging","EBT,SBL","CrossT1,RampL2","RAB exiting","EBL","CrossL1","RAB circulating",null,4875,1875,9140625,null,30,25,10,3.4564566568122888,2.5632912055290725E-5,null,1,null,null,null,null,null,1,null,"",1,null,null,null,1,null,1,null,234.3008367553918,null,null,1,"","","","","","","","","",1,"","","","","",null,"",1,"","","","","","","","","","","","","",""]
[14,"Diverging","WBT,WBL,NBL","CrossT2,CrossL2,RampL1","RAB circulating","WBR,EBL","CrossR2,CrossL1","RAB exiting",null,6750,3750,25312500,null,25,30,10,3.4564566568122888,2.5632912055290725E-5,null,1,null,null,null,null,null,1,null,"",1,null,null,null,1,null,1,null,648.83308639954646,null,null,"","","",1,1,"","",1,"","","","","","","","",null,"",1,"","","",1,"","","","","","","","","",""]
[15,"Nonmotorized",null,"RampNM2","Nonmotorized","SBR,SBL","RampR2,RampL2","RAB entering",null,375,2250,843750,null,0,20,"","",0.20274912921655375,null,1,null,null,null,null,null,2,null,20,0.55555555555555558,null,1,null,2,null,2.2222222222222223,null,380154.61728103831,null,null,"","","","","","","","","","","","","","","",1,null,"","","","","","","","","","",1,1,"","","",""]
[16,"Nonmotorized",null,"CrossNM1","Nonmotorized","WBT,SBR,NBL","CrossT2,RampR2,RampL1","RAB exiting",null,375,6000,2250000,null,0,30,"","",0.46699805015542578,null,1,null,null,null,null,null,2,null,{"$f":"IF(B19=\"Diverging\",\"\",SSI_RTI_VehSpeed_RABExit)","v":30},0.66666666666666663,null,1,null,2,null,2.6666666666666665,null,2801988.3009325545,null,null,"","","","","","","","","","","","",1,"","","",null,"","","",1,"","","",1,"","","",1,"","","",""]
[17,"Nonmotorized",null,"CrossNM1","Nonmotorized","EBT,EBR,EBL","CrossT1,CrossR1,CrossL1","RAB entering",null,375,7500,2812500,null,0,20,"","",0.20274912921655375,null,1,null,null,null,null,null,2,null,{"$f":"IF(B20=\"Diverging\",\"\",SSI_RTI_VehSpeed_RABEnter)","v":20},0.55555555555555558,null,1,null,2,null,2.2222222222222223,null,1267182.0576034612,null,null,"","","","","","","","","","","","",1,"","","",null,1,1,1,"","","","","","","","","","","","",""]
[18,"Nonmotorized",null,"RampNM1","Nonmotorized","EBR,WBL","CrossR1,CrossL2","RAB exiting",null,375,3750,1406250,null,0,30,"","",0.46699805015542578,null,1,null,null,null,null,null,2,null,{"$f":"IF(B21=\"Diverging\",\"\",SSI_RTI_VehSpeed_RABExit)","v":30},0.66666666666666663,null,1,null,2,null,2.6666666666666665,null,1751242.6880828468,null,null,"","","","","","","","","","","","","","",1,"",null,"","",1,"",1,"","","","","","","","","",{"$f":"IF(ISNUMBER(SEARCH(BS$3,$G21)),1,\"\")","v":""},""]
[19,"Nonmotorized",null,"RampNM1","Nonmotorized","NBR,NBL","RampR1,RampL1","RAB entering",null,375,2250,843750,null,0,20,"","",0.20274912921655375,null,1,null,null,null,null,null,2,null,{"$f":"IF(B22=\"Diverging\",\"\",SSI_RTI_VehSpeed_RABEnter)","v":20},0.55555555555555558,null,1,null,2,null,2.2222222222222223,null,380154.61728103831,null,null,"","","","","","","","","","","","","","",1,"",null,{"$f":"IF(ISNUMBER(SEARCH(BE$3,$G22)),1,\"\")","v":""},"","","","","","",1,1,"","","","","","",""]
[20,"Nonmotorized",null,"CrossNM2","Nonmotorized","EBT,NBR,SBL","CrossT1,RampR1,RampL2","RAB exiting",null,375,6000,2250000,null,0,30,"","",0.46699805015542578,null,1,null,null,null,null,null,2,null,{"$f":"IF(B23=\"Diverging\",\"\",SSI_RTI_VehSpeed_RABExit)","v":30},0.66666666666666663,null,1,null,2,null,2.6666666666666665,null,2801988.3009325545,null,null,"","","","","","","","","","","","",{"$f":"IF(ISNUMBER(SEARCH(AZ$3,$D23)),1,\"\")","v":""},1,"","",null,1,"","","","","","","",1,"",1,"","","","",""]
[21,"Nonmotorized",null,"CrossNM2","Nonmotorized","WBT,WBR,WBL","CrossT2,CrossR2,CrossL2","RAB entering",null,375,7500,2812500,null,0,20,"","",0.20274912921655375,null,1,null,null,null,null,null,2,null,{"$f":"IF(B24=\"Diverging\",\"\",SSI_RTI_VehSpeed_RABEnter)","v":20},0.55555555555555558,null,1,null,2,null,2.2222222222222223,null,1267182.0576034612,null,null,{"$f":"IF(ISNUMBER(SEARCH(AN$3,$D24)),1,\"\")","v":""},"","","","","","","","","","","","",1,"","",null,"","","",1,1,1,"","","","","","","","","",""]
[22,"Nonmotorized",null,"RampNM2","Nonmotorized","WBR,EBL","CrossR2,CrossL1","RAB exiting",null,375,3750,1406250,null,0,30,"","",0.46699805015542578,null,1,null,null,null,null,null,2,null,{"$f":"IF(B25=\"Diverging\",\"\",SSI_RTI_VehSpeed_RABExit)","v":30},0.66666666666666663,null,1,null,2,null,2.6666666666666665,null,{"$f":"L25*R25*AI25","v":1751242.6880828468},null,null,"","","","","","","","","","","","","","","",1,null,"",1,"","","",1,"","","","","","","","","",""]
[null,null,null,null,null,null,null,null,null,null,null,null,null,null,null,null,null,null,null,null,null,null,null,null,null,null,null,null,null,null,null,null,null,null,null,null,null,null,"O",{"$f":"'SSI Inputs RTI'!$D$28","v":3750},{"$f":"'SSI Inputs RTI'!$D$29","v":1875},{"$f":"'SSI Inputs RTI'!$D$30","v":1875},{"$f":"'SSI Inputs RTI'!$D$32","v":3750},{"$f":"'SSI Inputs RTI'!$D$33","v":1875},{"$f":"'SSI Inputs RTI'!$D$34","v":1875},{"$f":"'SSI Inputs RTI'!$D$36","v":2250},{"$f":"'SSI Inputs RTI'!$D$37","v":1125},{"$f":"'SSI Inputs RTI'!$D$38","v":1125},{"$f":"'SSI Inputs RTI'!$D$40","v":2250},{"$f":"'SSI Inputs RTI'!$D$41","v":1125},{"$f":"'SSI Inputs RTI'!$D$42","v":1125},{"$f":"'SSI Inputs RTI'!$Q$20","v":375},{"$f":"'SSI Inputs RTI'!$Q$21","v":375},{"$f":"'SSI Inputs RTI'!$Q$22","v":375},{"$f":"'SSI Inputs RTI'!$Q$23","v":375},"O",{"$f":"'SSI Inputs RTI'!$D$28","v":3750},{"$f":"'SSI Inputs RTI'!$D$29","v":1875},{"$f":"'SSI Inputs RTI'!$D$30","v":1875},{"$f":"'SSI Inputs RTI'!$D$32","v":3750},{"$f":"'SSI Inputs RTI'!$D$33","v":1875},{"$f":"'SSI Inputs RTI'!$D$34","v":1875},{"$f":"'SSI Inputs RTI'!$D$36","v":2250},{"$f":"'SSI Inputs RTI'!$D$37","v":1125},{"$f":"'SSI Inputs RTI'!$D$38","v":1125},{"$f":"'SSI Inputs RTI'!$D$40","v":2250},{"$f":"'SSI Inputs RTI'!$D$41","v":1125},{"$f":"'SSI Inputs RTI'!$D$42","v":1125},{"$f":"'SSI Inputs RTI'!$Q$20","v":375},{"$f":"'SSI Inputs RTI'!$Q$21","v":375},{"$f":"'SSI Inputs RTI'!$Q$22","v":375},{"$f":"'SSI Inputs RTI'!$Q$23","v":375}]
[null,null,null,null,null,null,null,null,null,null,null,null,null,null,null,null,null,null,null,null,null,null,null,null,null,null,null,null,null,null,null,null,null,null,null,null,null,null,"D",{"$f":"'SSI Inputs RTI'!$E$28","v":7750},{"$f":"'SSI Inputs RTI'!$E$29","v":3875},{"$f":"'SSI Inputs RTI'!$E$30","v":3875},{"$f":"'SSI Inputs RTI'!$E$32","v":7750},{"$f":"'SSI Inputs RTI'!$E$33","v":3875},{"$f":"'SSI Inputs RTI'!$E$34","v":3875},{"$f":"'SSI Inputs RTI'!$E$36","v":2500},{"$f":"'SSI Inputs RTI'!$E$37","v":1250},{"$f":"'SSI Inputs RTI'!$E$38","v":1250},{"$f":"'SSI Inputs RTI'!$E$40","v":2500},{"$f":"'SSI Inputs RTI'!$E$41","v":1250},{"$f":"'SSI Inputs RTI'!$E$42","v":1250},{"$f":"'SSI Inputs RTI'!$R$20","v":425},{"$f":"'SSI Inputs RTI'!$R$21","v":425},{"$f":"'SSI Inputs RTI'!$R$22","v":425},{"$f":"'SSI Inputs RTI'!$R$23","v":425},"D",{"$f":"'SSI Inputs RTI'!$E$28","v":7750},{"$f":"'SSI Inputs RTI'!$E$29","v":3875},{"$f":"'SSI Inputs RTI'!$E$30","v":3875},{"$f":"'SSI Inputs RTI'!$E$32","v":7750},{"$f":"'SSI Inputs RTI'!$E$33","v":3875},{"$f":"'SSI Inputs RTI'!$E$34","v":3875},{"$f":"'SSI Inputs RTI'!$E$36","v":2500},{"$f":"'SSI Inputs RTI'!$E$37","v":1250},{"$f":"'SSI Inputs RTI'!$E$38","v":1250},{"$f":"'SSI Inputs RTI'!$E$40","v":2500},{"$f":"'SSI Inputs RTI'!$E$41","v":1250},{"$f":"'SSI Inputs RTI'!$E$42","v":1250},{"$f":"'SSI Inputs RTI'!$R$20","v":425},{"$f":"'SSI Inputs RTI'!$R$21","v":425},{"$f":"'SSI Inputs RTI'!$R$22","v":425},{"$f":"'SSI Inputs RTI'!$R$23","v":425}]
[]
[]
[]
[]
[]
[]
[]
[]
[]
[]
[]
[]
[]
[]
[]
[]
[]
[]
[]
[]
[]
[]
[]
[]
[]
[]
[]
[]
[]
[]
[]
[]
[]
[]
[]
[]
[]
[]
[]
[]
[]
[]
[]
[]
[]
[]
[]
[]
[]
[]
[]
[]
[]
[]
[]
[]
[]
[]
[]
[]
[]
[]
[]
[]
[]
[]
[]
[]
[]
[]
[]
[]
[]
[null,null,null,null,null,null,null,null,null,"Exposure",null,null,null,null,null,null,null,null,null,null,null,null,null,null,null,null,null,null,null,null,null,null,null,null,null,null,"Exposure-Severity-Complexity Product"]
[null,null,null,null,null,null,null,null,null,"Q1","Q2","I"]
[null,null,null,null,null,null,null,null,null,{"$f":"SUMPRODUCT($AN4:$BC4,$AN$27:$BC$27)","v":9000},{"$f":"SUMPRODUCT($BE4:$BT4,$BE$27:$BT$27)","v":1250},{"$f":"PRODUCT(J103:K103)","v":11250000},null,null,null,null,null,null,null,null,null,null,null,null,null,null,null,null,null,null,null,null,null,null,null,null,{"$f":"L103*R4*AI4","v":57334.787655424363}]
[null,null,null,null,null,null,null,null,null,{"$f":"SUMPRODUCT($AN5:$BC5,$AN$27:$BC$27)","v":9000},{"$f":"SUMPRODUCT($BE5:$BT5,$BE$27:$BT$27)","v":1250},{"$f":"PRODUCT(J104:K104)","v":11250000},null,null,null,null,null,null,null,null,null,null,null,null,null,null,null,null,null,null,null,null,null,null,null,null,{"$f":"L104*R5*AI5","v":57334.787655424363}]
[null,null,null,null,null,null,null,null,null,9000,1250,11250000,null,null,null,null,null,null,null,null,null,null,null,null,null,null,null,null,null,null,null,null,null,null,null,null,21843.300292029166]
[null,null,null,null,null,null,null,null,null,3875,1250,4843750,null,null,null,null,null,null,null,null,null,null,null,null,null,null,null,null,null,null,null,null,null,null,null,null,5525.7384801614326]
[null,null,null,null,null,null,null,null,null,15500,5125,79437500,null,null,null,null,null,null,null,null,null,null,null,null,null,null,null,null,null,null,null,null,null,null,null,null,90622.111074647488]
[null,null,null,null,null,null,null,null,null,3875,1250,4843750,null,null,null,null,null,null,null,null,null,null,null,null,null,null,null,null,null,null,null,null,null,null,null,null,5525.7384801614326]
[null,null,null,null,null,null,null,null,null,9000,1250,11250000,null,null,null,null,null,null,null,null,null,null,null,null,null,null,null,null,null,null,null,null,null,null,null,null,21843.300292029166]
[null,null,null,null,null,null,null,null,null,15500,5125,79437500,null,null,null,null,null,null,null,null,null,null,null,null,null,null,null,null,null,null,null,null,null,null,null,null,90622.111074647488]
[null,null,null,null,null,null,null,null,null,1250,1250,1562500,null,null,null,null,null,null,null,null,null,null,null,null,null,null,null,null,null,null,null,null,null,null,null,null,28.839227105265373]
[null,null,null,null,null,null,null,null,null,9000,3875,34875000,null,null,null,null,null,null,null,null,null,null,null,null,null,null,null,null,null,null,null,null,null,null,null,null,893.94780792826407]
[null,null,null,null,null,null,null,null,null,12875,7750,99781250,null,null,null,null,null,null,null,null,null,null,null,null,null,null,null,null,null,null,null,null,null,null,null,null,2557.6840060169775]
[null,null,null,null,null,null,null,null,null,1250,1250,1562500,null,null,null,null,null,null,null,null,null,null,null,null,null,null,null,null,null,null,null,null,null,null,null,null,28.839227105265373]
[null,null,null,null,null,null,null,null,null,9000,3875,34875000,null,null,null,null,null,null,null,null,null,null,null,null,null,null,null,null,null,null,null,null,null,null,null,null,893.94780792826407]
[null,null,null,null,null,null,null,null,null,12875,7750,99781250,null,null,null,null,null,null,null,null,null,null,null,null,null,null,null,null,null,null,null,null,null,null,null,null,2557.6840060169775]
[null,null,null,null,null,null,null,null,null,425,2500,1062500,null,null,null,null,null,null,null,null,null,null,null,null,null,null,null,null,null,null,null,null,null,null,null,null,478713.2217613075]
[null,null,null,null,null,null,null,null,null,425,10250,4356250,null,null,null,null,null,null,null,null,null,null,null,null,null,null,null,null,null,null,null,null,null,null,null,null,5424960.6826388631]
[null,null,null,null,null,null,null,null,null,425,15500,6587500,null,null,null,null,null,null,null,null,null,null,null,null,null,null,null,null,null,null,null,null,null,null,null,null,2968021.9749201066]
[null,null,null,null,null,null,null,null,null,425,7750,3293750,null,null,null,null,null,null,null,null,null,null,null,null,null,null,null,null,null,null,null,null,null,null,null,null,4101799.5405318234]
[null,null,null,null,null,null,null,null,null,425,2500,1062500,null,null,null,null,null,null,null,null,null,null,null,null,null,null,null,null,null,null,null,null,null,null,null,null,478713.2217613075]
[null,null,null,null,null,null,null,null,null,425,10250,4356250,null,null,null,null,null,null,null,null,null,null,null,null,null,null,null,null,null,null,null,null,null,null,null,null,5424960.6826388631]
[null,null,null,null,null,null,null,null,null,425,15500,6587500,null,null,null,null,null,null,null,null,null,null,null,null,null,null,null,null,null,null,null,null,null,null,null,null,2968021.9749201066]
[null,null,null,null,null,null,null,null,null,425,7750,3293750,null,null,null,null,null,null,null,null,null,null,null,null,null,null,null,null,null,null,null,null,null,null,null,null,4101799.5405318234]

{"sheet":"TUDI","index":16,"n_rows":142,"n_cols":95,"rows_kept":142,"cut":false,"hidden":true,"merged":[[1,76,1,79],[1,81,1,84],[1,86,1,89],[1,91,1,94],[1,34,2,34],[1,36,2,36],[1,39,1,52],[1,56,1,69],[100,9,100,11],[100,36,101,36],[0,19,0,28],[0,30,0,32],[1,9,1,11],[1,13,1,17],[1,21,1,25],[1,27,1,28],[1,30,2,30],[1,31,2,31],[1,32,2,32]]}
[null,null,null,null,null,null,null,null,null,null,null,null,null,null,null,null,null,null,null,"Conflicting Traffic Complexity",null,null,null,null,null,null,null,null,null,null,"Pedestrian Complexity",null,null,null,null,null,null,null,null,null,null,null,null,null,null,null,null,null,null,null,null,null,null,null,null,null,null,null,null,null,null,null,null,null,null,null,null,null,null,null,null,null,null,null,"* median impacts traffic complexity score"]
[null,null,null,null,null,null,null,null,null,"Exposure",null,null,null,"Severity",null,null,null,null,null,"Traffic Control",null,"Conflicting Lanes",null,null,null,null,null,"Conflicting Speed",null,null,"Indirect Paths Indicator","Non-intuitive movements indicator","Pedestrian Complexity factor",null,"Total Complexity Multiplier",null,"Exposure-Severity-Complexity Product",null,null,"Included in Mvmt1",null,null,null,null,null,null,null,null,null,null,null,null,null,null,null,null,"Included in Mvmt2",null,null,null,null,null,null,null,null,null,null,null,null,null,null,null,null,null,null,null,"Cross-street: No, Ramps: No",null,null,null,null,"Cross-street: Yes, Ramps: No",null,null,null,null,"Cross-street: No, Ramps: Yes",null,null,null,null,"Cross-street: Yes, Ramps: Yes"]
["#","Conflict Type","Mvmt1","Mvmt1_gen","Mvmt1_SpeedCat","Mvmt2","Mvmt2_gen","Mvmt2_SpeedCat",null,"Q1","Q2","I",null,"Speed_V1","Speed_V2","Angle","delta_V","P_FSI",null,null,null,"CrossC","RampC","CrossM/P","RampM/P","Score",null,"Speed","Factor",null,null,null,null,null,null,null,null,null,null,"CrossT1","CrossL1","CrossR1","CrossT2","CrossL2","CrossR2","RampT1","RampL1","RampR1","RampT2","RampL2","RampR2","CrossNM1","CrossNM2","RampNM1","RampNM2",null,"CrossT1","CrossL1","CrossR1","CrossT2","CrossL2","CrossR2","RampT1","RampL1","RampR1","RampT2","RampL2","RampR2","CrossNM1","CrossNM2","RampNM1","RampNM2",null,null,"#","Conflict Type","MajC","MinC","MajM/P","MinM/P",null,"MajC","MinC","MajM/P","MinM/P",null,"MajC","MinC","MajM/P","MinM/P",null,"MajC","MinC","MajM/P","MinM/P"]
[1,"Crossing - LT","WBT, NBL","CrossT2, RampL1","Cross thru","SBL","RampL2","Signal near",null,{"$f":"SUMPRODUCT($AN4:$BC4,$AN$44:$BC$44)","v":4875},{"$f":"SUMPRODUCT($BE4:$BT4,$BE$44:$BT$44)","v":1125},{"$f":"PRODUCT(J4:K4)","v":5484375},null,{"$f":"VLOOKUP(E4,SSI_RTI_Range_VehSpeed,5,FALSE)","v":40},{"$f":"VLOOKUP(H4,SSI_RTI_Range_VehSpeed,5,FALSE)","v":15},{"$f":"IF(B4=\"Nonmotorized\",\"\",VLOOKUP(B4,SSI_RTI_Range_CollAngles,5,FALSE))","v":230},{"$f":"IF(B4=\"Nonmotorized\",\"\",SQRT(N4^2+O4^2-2*N4*O4*COS(RADIANS(P4)))/2)","v":25.477171799592707},{"$f":"IF(B4=\"Nonmotorized\",1/(1+EXP(3.8432-0.1237*O4)),(Q4/SSI_RTI_RegAlpha)^SSI_RTI_RegK+(Q4/SSI_RTI_RegAlpha)^SSI_RTI_RegK-((Q4/SSI_RTI_RegAlpha)^SSI_RTI_RegK)*((Q4/SSI_RTI_RegAlpha)^SSI_RTI_RegK))","v":4.955895980669895E-2},null,{"$f":"SSI_RTI_ProtFactor","v":0.505},null,{"$f":"IF(AND(SSI_RTI_CrossStMedian=\"No\", SSI_RTI_RampMedian=\"No\"),BY4,IF(AND(SSI_RTI_CrossStMedian=\"Yes\",SSI_RTI_RampMedian=\"No\"),CD4,IF(AND(SSI_RTI_CrossStMedian=\"No\",SSI_RTI_RampMedian=\"Yes\"),CI4,IF(AND(SSI_RTI_CrossStMedian=\"Yes\",SSI_RTI_RampMedian=\"Yes\"),CN4))))","v":1},{"$f":"IF(AND(SSI_RTI_CrossStMedian=\"No\", SSI_RTI_RampMedian=\"No\"),BZ4,IF(AND(SSI_RTI_CrossStMedian=\"Yes\",SSI_RTI_RampMedian=\"No\"),CE4,IF(AND(SSI_RTI_CrossStMedian=\"No\",SSI_RTI_RampMedian=\"Yes\"),CJ4,IF(AND(SSI_RTI_CrossStMedian=\"Yes\",SSI_RTI_RampMedian=\"Yes\"),CO4))))","v":0},{"$f":"IF(AND(SSI_RTI_CrossStMedian=\"No\", SSI_RTI_RampMedian=\"No\"),CA4,IF(AND(SSI_RTI_CrossStMedian=\"Yes\",SSI_RTI_RampMedian=\"No\"),CF4,IF(AND(SSI_RTI_CrossStMedian=\"No\",SSI_RTI_RampMedian=\"Yes\"),CK4,IF(AND(SSI_RTI_CrossStMedian=\"Yes\",SSI_RTI_RampMedian=\"Yes\"),CP4))))","v":1},{"$f":"IF(AND(SSI_RTI_CrossStMedian=\"No\", SSI_RTI_RampMedian=\"No\"),CB4,IF(AND(SSI_RTI_CrossStMedian=\"Yes\",SSI_RTI_RampMedian=\"No\"),CG4,IF(AND(SSI_RTI_CrossStMedian=\"No\",SSI_RTI_RampMedian=\"Yes\"),CL4,IF(AND(SSI_RTI_CrossStMedian=\"Yes\",SSI_RTI_RampMedian=\"Yes\"),CQ4))))","v":0},{"$f":"MAX(1,IF(B4<>\"Pedestrian\",V4*SSI_RTI_CrossThruLanes+W4*SSI_RTI_Ramp1ThruLanes+X4*IF(SSI_RTI_CrossThruLanes=1,SSI_RTI_MergeWeightL1,IF(SSI_RTI_CrossThruLanes=2,SSI_RTI_MergeWeightL1+SSI_RTI_MergeWeightL2,SSI_RTI_MergeWeightL1+SSI_RTI_MergeWeightL2+SSI_RTI_MergeWeightL3*(SSI_RTI_CrossThruLanes-2)))+Y4*IF(SSI_RTI_Ramp1ThruLanes=1,SSI_RTI_MergeWeightL1,IF(SSI_RTI_Ramp1ThruLanes=2,SSI_RTI_MergeWeightL1+SSI_RTI_MergeWeightL2,SSI_RTI_MergeWeightL1+SSI_RTI_MergeWeightL2+SSI_RTI_MergeWeightL3*(SSI_RTI_Ramp1ThruLanes-2))),V4*SSI_RTI_CrossThruLanes+W4*SSI_RTI_Ramp1ThruLanes+X4*IF(SSI_RTI_CrossThruLanes=1,SSI_RTI_NM_MergeWeightL1,IF(SSI_RTI_CrossThruLanes=2,SSI_RTI_NM_MergeWeightL1+SSI_RTI_NM_MergeWeightL2,SSI_RTI_NM_MergeWeightL1+SSI_RTI_NM_MergeWeightL2+SSI_RTI_NM_MergeWeightL3*(SSI_RTI_CrossThruLanes-2)))+Y4*IF(SSI_RTI_Ramp1ThruLanes=1,SSI_RTI_NM_MergeWeightL1,IF(SSI_RTI_Ramp1ThruLanes=2,SSI_RTI_NM_MergeWeightL1+SSI_RTI_NM_MergeWeightL2,SSI_RTI_NM_MergeWeightL1+SSI_RTI_NM_MergeWeightL2+SSI_RTI_NM_MergeWeightL3*(SSI_RTI_Ramp1ThruLanes-2)))))","v":3.75},null,{"$f":"IF(B4=\"Diverging\",\"\",SSI_RTI_VehSpeed_CrossThru)","v":40},{"$f":"IF(B4=\"Diverging\",1,1-((60-AB4)/60*0.1/0.15))","v":0.77777777777777779},null,null,null,{"$f":"IF(SSI_RTI_ConsiderNMComplexity=\"Yes\",1+AE4+AF4,1)","v":1},null,{"$f":"PRODUCT(Z4,T4,AC4,AG4)","v":1.4729166666666667},null,{"$f":"L4*R4*AI4","v":400338.63244632137},null,null,{"$f":"IF(ISNUMBER(SEARCH(AN$3,$D4)),1,\"\")","v":""},{"$f":"IF(ISNUMBER(SEARCH(AO$3,$D4)),1,\"\")","v":""},"",1,"","","",1,"","","","","","","","",null,{"$f":"IF(ISNUMBER(SEARCH(BE$3,$G4)),1,\"\")","v":""},{"$f":"IF(ISNUMBER(SEARCH(BF$3,$G4)),1,\"\")","v":""},"","","","","","","","",1,"","","","","",null,null,1,"Crossing - LT",1,0,1,0,null,1,0,0,0,null,1,0,1,0,null,{"$f":"IF(OR(CD4=\"\",CI4=\"\"),\"\",MIN(CD4,CI4))","v":1},{"$f":"IF(OR(CE4=\"\",CJ4=\"\"),\"\",MIN(CE4,CJ4))","v":0},0,0]
[2,"Crossing - LT","WBL","CrossL2","Cross left","SBL","RampL2","Signal far",null,{"$f":"SUMPRODUCT($AN5:$BC5,$AN$44:$BC$44)","v":1875},{"$f":"SUMPRODUCT($BE5:$BT5,$BE$44:$BT$44)","v":1125},{"$f":"PRODUCT(J5:K5)","v":2109375},null,20,25,230,{"$f":"IF(B5=\"Nonmotorized\",\"\",SQRT(N5^2+O5^2-2*N5*O5*COS(RADIANS(P5)))/2)","v":20.419277715473552},2.1555284139167373E-2,null,0.505,null,1,0,1,0,3.75,null,40,0.77777777777777779,null,null,null,1,null,1.4729166666666667,null,{"$f":"L5*R5*AI5","v":66970.836414805657},null,null,{"$f":"IF(ISNUMBER(SEARCH(AN$3,$D5)),1,\"\")","v":""},"","","",1,"","","","","","","","","","","",null,{"$f":"IF(ISNUMBER(SEARCH(BE$3,$G5)),1,\"\")","v":""},"","","","","","","","","",1,"","","","","",null,null,2,"Crossing - LT",1,0,1,0,null,1,0,0,0,null,1,0,1,0,null,{"$f":"IF(OR(CD5=\"\",CI5=\"\"),\"\",MIN(CD5,CI5))","v":1},0,0,0]
[3,"Crossing - LT","EBL","CrossL1","Cross left","WBL","CrossL2","Cross left",null,1875,1875,3515625,null,20,20,230,18.126155740733001,1.3743775999266584E-2,null,{"$f":"IF(SSI_RTI_CrossLTPhase  =\"Protected/permitted\",SSI_RTI_ProtPermFactor,IF(SSI_RTI_CrossLTPhase=\"Protected\",SSI_RTI_ProtFactor,SSI_RTI_PermFactor))","v":0.505},null,1,0,1,0,3.75,null,40,0.77777777777777779,null,null,null,1,null,1.4729166666666667,null,71168.332261827207,null,null,"",1,"","","","","","","","","","","","","","",null,"","","","",1,"","","","","","","","","","","",null,null,3,"Crossing - LT",1,0,1,0,null,1,0,1,0,null,1,0,1,0,null,1,0,1,0]
[4,"Crossing - LT","EBL","CrossL1","Cross left","SBL","RampL2","Signal far",null,1875,1125,2109375,null,20,25,230,20.419277715473552,2.1555284139167373E-2,null,0.505,null,1,0,1,0,3.75,null,40,0.77777777777777779,null,null,null,1,null,1.4729166666666667,null,66970.836414805657,null,null,"",1,"","","","","","","","","","","","","","",null,"","","","","","","","","","",1,"","","","","",null,null,4,"Crossing - LT",1,0,1,0,null,1,0,1,0,null,1,0,1,0,null,1,0,1,0]
[5,"Crossing - LT","EBT","CrossT1","Cross thru","WBL","CrossL2","Cross left",null,3750,1875,7031250,null,40,20,230,27.515723575341713,6.6083846594169424E-2,null,{"$f":"IF(SSI_RTI_CrossLTPhase =\"Protected/permitted\",SSI_RTI_ProtPermFactor,IF(SSI_RTI_CrossLTPhase=\"Protected\",SSI_RTI_ProtFactor,SSI_RTI_PermFactor))","v":0.505},null,1,0,1,0,3.75,null,40,0.77777777777777779,null,null,null,1,null,1.4729166666666667,null,684393.74329215498,null,null,1,"","","","","","","","","","","","","","","",null,"","","","",1,"","","","","","","","","","","",null,null,5,"Crossing - LT",1,0,1,0,null,1,0,1,0,null,1,0,1,0,null,1,0,1,0]
[6,"Crossing - LT","EBT, SBL","CrossT1, RampL2","Cross thru","NBL","RampL1","Signal near",null,4875,1125,5484375,null,40,15,230,25.477171799592707,4.955895980669895E-2,null,0.505,null,1,0,1,0,3.75,null,40,0.77777777777777779,null,null,null,1,null,1.4729166666666667,null,400338.63244632137,null,null,{"$f":"IF(ISNUMBER(SEARCH(AN$3,$D9)),1,\"\")","v":1},"","","","","","","","","",1,"","","","","",null,"","","","","","","",1,"","","","","","","","",null,null,6,"Crossing - LT",1,0,1,0,null,1,0,0,0,null,1,0,1,0,null,1,0,0,0]
[7,"Crossing - LT","EBL","CrossL1","Cross left","NBL","RampL1","Signal far",null,1875,1125,2109375,null,20,25,230,20.419277715473552,2.1555284139167373E-2,null,0.505,null,1,0,1,0,3.75,null,40,0.77777777777777779,null,null,null,1,null,1.4729166666666667,null,66970.836414805657,null,null,{"$f":"IF(ISNUMBER(SEARCH(AN$3,$D10)),1,\"\")","v":""},1,"","","","","","","","","","","","","","",null,"","","","","","","",1,"","","","","","","","",null,null,7,"Crossing - LT",1,0,1,0,null,1,0,0,0,null,1,0,1,0,null,1,0,0,0]
[8,"Crossing - LT","WBL","CrossL2","Cross left","EBL","CrossL1","Cross left",null,1875,1875,3515625,null,20,20,230,18.126155740733001,1.3743775999266584E-2,null,{"$f":"IF(SSI_RTI_CrossLTPhase =\"Protected/permitted\",SSI_RTI_ProtPermFactor,IF(SSI_RTI_CrossLTPhase=\"Protected\",SSI_RTI_ProtFactor,SSI_RTI_PermFactor))","v":0.505},null,1,0,1,0,3.75,null,40,0.77777777777777779,null,null,null,1,null,1.4729166666666667,null,71168.332261827207,null,null,"","","","",1,"","","","","","","","","","","",null,"",1,"","","","","","","","","","","","","","",null,null,8,"Crossing - LT",1,0,1,0,null,1,0,1,0,null,1,0,1,0,null,1,0,1,0]
[9,"Crossing - LT","WBL","CrossL2","Cross left","NBL","RampL1","Signal far",null,1875,1125,2109375,null,20,25,230,20.419277715473552,2.1555284139167373E-2,null,0.505,null,1,0,1,0,3.75,null,40,0.77777777777777779,null,null,null,1,null,1.4729166666666667,null,66970.836414805657,null,null,"","","","",1,"","","","","","","","","","","",null,"","","","","","","",1,"","","","","","","","",null,null,9,"Crossing - LT",1,0,1,0,null,1,0,1,0,null,1,0,1,0,null,1,0,1,0]
[10,"Crossing - LT","WBT","CrossT2","Cross thru","EBL","CrossL1","Cross left",null,3750,1875,7031250,null,40,20,230,27.515723575341713,6.6083846594169424E-2,null,{"$f":"IF(SSI_RTI_CrossLTPhase =\"Protected/permitted\",SSI_RTI_ProtPermFactor,IF(SSI_RTI_CrossLTPhase=\"Protected\",SSI_RTI_ProtFactor,SSI_RTI_PermFactor))","v":0.505},null,1,0,1,0,3.75,null,40,0.77777777777777779,null,null,null,1,null,1.4729166666666667,null,684393.74329215498,null,null,"","","",1,"","","","","","","","","","","","",null,"",1,"","","","","","","","","","","","","","",null,null,10,"Crossing - LT",1,0,1,0,null,1,0,1,0,null,1,0,1,0,null,1,0,1,0]
[11,"Merging","WBT, NBL","CrossT2, RampL1","Cross thru","SBR","RampR2","Signal near",null,4875,1125,5484375,null,40,15,45,15.62427488378375,7.8340357658475412E-3,null,0.505,null,0,0,1,0,1.75,null,40,0.77777777777777779,null,null,null,1,null,0.6873611111111112,null,29532.325726601564,null,null,"","","",1,"","","",1,"","","","","","","","",null,"","","","","","","","","","","",1,"","","","",null,null,11,"Merging",0,0,1,0,null,0,0,1,0,null,0,0,1,0,null,0,0,1,0]
[12,"Merging","EBR","CrossR1","Cross right","WBL","CrossL2","Cross left",null,1875,1875,3515625,null,15,20,45,7.0840654162717795,3.9022923271840685E-4,null,0.505,null,1,0,1,0,3.75,null,40,0.77777777777777779,null,null,null,1,null,1.4729166666666667,null,2020.6938539935081,null,null,"","",1,"","","","","","","","","","","","","",null,"","","","",1,"","","","","","","","","","","",null,null,12,"Merging",1,0,1,0,null,1,0,1,0,null,1,0,1,0,null,1,0,1,0]
[13,"Merging","EBT","CrossT1","Cross thru","SBL","RampL2","Signal far",null,3750,1125,4218750,null,40,25,45,14.237155945157243,5.5084599291000359E-3,null,0.505,null,1,0,1,0,3.75,null,40,0.77777777777777779,null,null,null,1,null,1.4729166666666667,null,34228.838407093288,null,null,1,"","","","","","","","","","","","","","","",null,"","","","","","","","","","",1,"","","","","",null,null,13,"Merging",1,0,1,0,null,1,0,1,0,null,1,0,1,0,null,1,0,1,0]
[14,"Merging","EBT, SBL","CrossT1, RampL2","Cross thru","NBR","RampR1","Signal near",null,4875,1125,5484375,null,40,15,45,15.62427488378375,7.8340357658475412E-3,null,0.505,null,0,0,1,0,1.75,null,40,0.77777777777777779,null,null,null,1,null,0.6873611111111112,null,29532.325726601564,null,null,1,"","","","","","","","","",1,"","","","","",null,"","","","","","","","",1,"","","","","","","",null,null,14,"Merging",0,0,1,0,null,0,0,1,0,null,0,0,1,0,null,0,0,1,0]
[15,"Merging","WBR","CrossR2","Cross right","EBL","CrossL1","Cross left",null,1875,1875,3515625,null,15,20,45,7.0840654162717795,3.9022923271840685E-4,null,0.505,null,1,0,1,0,3.75,null,40,0.77777777777777779,null,null,null,1,null,1.4729166666666667,null,2020.6938539935081,null,null,"","","","","",1,"","","","","","","","","","",null,"",1,"","","","","","","","","","","","","","",null,null,15,"Merging",1,0,1,0,null,1,0,1,0,null,1,0,1,0,null,1,0,1,0]
[16,"Merging","WBT","CrossT2","Cross thru","NBL","RampL1","Signal far",null,3750,1125,4218750,null,40,25,45,14.237155945157243,5.5084599291000359E-3,null,0.505,null,1,0,1,0,3.75,null,40,0.77777777777777779,null,null,null,1,null,1.4729166666666667,null,34228.838407093288,null,null,"","","",1,"","","","","","","","","","","","",null,"","","","","","","",1,"","","","","","","","",null,null,16,"Merging",1,0,1,0,null,1,0,1,0,null,1,0,1,0,null,1,0,1,0]
[17,"Diverging","SBR","RampR2","Signal near","SBL","RampL2","Signal near",null,1125,1125,1265625,null,15,15,10,1.3073361412148754,6.4061388075216188E-7,null,{"$f":"SSI_RTI_PermFactor","v":1},null,0,0,0,0,1,null,"",1,null,null,null,1,null,1,null,0.81077694282695489,null,null,"","","","","","","","","","","",1,"","","","",null,"","","","","","","","","","",1,"","","","","",null,null,17,"Diverging",0,0,0,0,null,0,0,0,0,null,0,0,0,0,null,0,0,0,0]
[18,"Diverging","EBT, EBR","CrossT1, CrossR1","Cross thru","EBL","CrossL1","Cross left",null,5625,1875,10546875,null,40,20,10,10.299363999544671,1.6139822402002194E-3,null,1,null,0,0,0,0,1,null,"",1,null,null,null,1,null,1,null,17022.468939611688,null,null,1,"",1,"","","","","","","","","","","","","",null,"",1,"","","","","","","","","","","","","","",null,null,18,"Diverging",0,0,0,0,null,0,0,0,0,null,0,0,0,0,null,0,0,0,0]
[19,"Diverging","EBT","CrossT1","Cross thru","EBR","CrossR1","Cross right",null,3750,1875,7031250,null,40,15,10,12.680996573469201,3.5521749218507754E-3,null,1,null,0,0,0,0,1,null,"",1,null,null,null,1,null,1,null,24976.229919263264,null,null,1,"","","","","","","","","","","","","","","",null,"","",1,"","","","","","","","","","","","","",null,null,19,"Diverging",0,0,0,0,null,0,0,0,0,null,0,0,0,0,null,0,0,0,0]
[20,"Diverging","NBR","RampR1","Signal near","NBL","RampL1","Signal near",null,1125,1125,1265625,null,15,15,10,1.3073361412148754,6.4061388075216188E-7,null,1,null,0,0,0,0,1,null,"",1,null,null,null,1,null,1,null,0.81077694282695489,null,null,"","","","","","","","",1,"","","","","","","",null,"","","","","","","",1,"","","","","","","","",null,null,20,"Diverging",0,0,0,0,null,0,0,0,0,null,0,0,0,0,null,0,0,0,0]
[21,"Diverging","WBT, WBR","CrossT2, CrossR2","Cross thru","WBL","CrossL2","Cross left",null,5625,1875,10546875,null,40,20,10,10.299363999544671,1.6139822402002194E-3,null,1,null,0,0,0,0,1,null,"",1,null,null,null,1,null,1,null,17022.468939611688,null,null,"","","",1,"",1,"","","","","","","","","","",null,"","","","",1,"","","","","","","","","","","",null,null,21,"Diverging",0,0,0,0,null,0,0,0,0,null,0,0,0,0,null,0,0,0,0]
[22,"Diverging","WBT","CrossT2","Cross thru","WBR","CrossR2","Cross right",null,3750,1875,7031250,null,40,15,10,12.680996573469201,3.5521749218507754E-3,null,1,null,0,0,0,0,1,null,"",1,null,null,null,1,null,1,null,24976.229919263264,null,null,"","","",1,"","","","","","","","","","","","",null,"","","","","",1,"","","","","","","","","","",null,null,22,"Diverging",0,0,0,0,null,0,0,0,0,null,0,0,0,0,null,0,0,0,0]
[23,"Nonmotorized",null,"RampNM2","Nonmotorized","SBL","RampL2","Signal near",null,375,1125,421875,null,0,15,"","",0.1205004039155782,null,{"$f":"SSI_RTI_ProtFactor","v":0.505},null,0,1,0,0,1,null,{"$f":"IF(B26=\"Diverging\",\"\",SSI_RTI_VehSpeed_SignalNear)","v":15},0.49999999999999989,null,null,null,1,null,0.25249999999999995,null,12836.117245225847,null,null,"","","","","","","","","","","","","","","",1,null,"","","","","","","","","","",1,"","","","","",null,null,23,"Nonmotorized",0,1,0,0,null,0,1,0,0,null,0,1,0,0,null,0,1,0,0]
[24,"Nonmotorized",null,"RampNM2","Nonmotorized","SBR","RampR2","Signal near",null,375,1125,421875,null,0,15,"","",0.1205004039155782,null,0.505,null,0,1,0,0,1,null,{"$f":"IF(B27=\"Diverging\",\"\",SSI_RTI_VehSpeed_SignalNear)","v":15},0.49999999999999989,null,null,null,1,null,0.25249999999999995,null,12836.117245225847,null,null,"","","","","","","","","","","","","","","",1,null,"","","","","","","","","","","",1,"","","","",null,null,24,"Nonmotorized",0,1,0,0,null,0,1,0,0,null,0,1,0,0,null,0,1,0,0]
[25,"Nonmotorized",null,"CrossNM1","Nonmotorized","SBR","RampR2","Signal near",null,375,1125,421875,null,0,15,"","",0.1205004039155782,null,0.505,null,2,0,0,1,5,null,{"$f":"IF(B28=\"Diverging\",\"\",SSI_RTI_VehSpeed_CrossThru)","v":40},0.77777777777777779,null,null,null,1,null,1.9638888888888888,null,99836.467462867717,null,null,"","","","","","","","","","","","",1,"","","",null,"","","","","","","","","","","",1,"","","","",null,null,25,"Nonmotorized",2,0,0,1,null,1,0,0,1,null,2,0,0,1,null,1,0,0,1]
[26,"Nonmotorized",null,"CrossNM1","Nonmotorized","WBT, NBL","CrossT2, RampL1","Cross thru",null,375,4875,1828125,null,0,40,"","",0.75115840021714742,null,0.505,null,2,0,0,1,5,null,40,0.77777777777777779,null,null,null,1,null,1.9638888888888888,null,2696834.7095296104,null,null,"","","","","","","","","","","","",1,"","","",null,"","","",1,"","","",1,"","","","","","","","",null,null,26,"Nonmotorized",2,0,0,1,null,1,0,0,1,null,2,0,0,1,null,1,0,0,1]
[27,"Nonmotorized",null,"CrossNM1","Nonmotorized","EBL","CrossL1","Cross left",null,375,1875,703125,null,0,20,"","",0.20274912921655375,null,0.505,null,2,0,0,1,5,null,40,0.77777777777777779,null,null,null,1,null,1.9638888888888888,null,279968.03585176467,null,null,"","","","","","","","","","","","",1,"","","",null,"",1,"","","","","","","","","","","","","","",null,null,27,"Nonmotorized",2,0,0,1,null,1,0,0,0,null,2,0,0,1,null,1,0,0,0]
[28,"Nonmotorized",null,"CrossNM1","Nonmotorized","EBT","CrossT1","Cross thru",null,375,3750,1406250,null,0,40,"","",0.75115840021714742,null,0.505,null,2,0,0,1,5,null,40,0.77777777777777779,null,null,null,1,null,1.9638888888888888,null,{"$f":"L31*R31*AI31","v":2074488.2380996998},null,null,"","","","","","","","","","","","",1,"","","",null,1,"","","","","","","","","","","","","","","",null,null,28,"Nonmotorized",2,0,0,1,null,1,0,0,0,null,2,0,0,1,null,1,0,0,0]
[29,"Nonmotorized",null,"CrossNM1","Nonmotorized","EBR","CrossR1","Cross right",null,375,1875,703125,null,0,15,"","",0.1205004039155782,null,0.505,null,2,0,0,1,5,null,40,0.77777777777777779,null,null,null,1,null,1.9638888888888888,null,166394.11243811288,null,null,"","","","","","","","","","","","",1,"","","",null,"","",1,"","","","","","","","","","","","","",null,null,29,"Nonmotorized",2,0,0,1,null,1,0,0,0,null,2,0,0,1,null,1,0,0,0]
[30,"Nonmotorized",null,"RampNM1","Nonmotorized","EBR","CrossR1","Cross right",null,375,1875,703125,null,0,15,"","",0.1205004039155782,null,0.505,null,0,1,2,0,4.5,null,40,0.77777777777777779,null,null,null,1,null,1.7675000000000001,null,149754.7011943016,null,null,"","","","","","","","","","","","","","",1,"",null,"","",{"$f":"IF(ISNUMBER(SEARCH(BG$3,$G33)),1,\"\")","v":1},"","","","","","","","","","","","","",null,null,30,"Nonmotorized",0,1,2,0,null,0,1,2,0,null,0,1,1,0,null,0,1,1,0]
[31,"Nonmotorized",null,"RampNM1","Nonmotorized","WBL","CrossL2","Cross left",null,375,1875,703125,null,0,20,"","",0.20274912921655375,null,0.505,null,0,1,2,0,4.5,null,40,0.77777777777777779,null,null,null,1,null,1.7675000000000001,null,251971.23226658822,null,null,"","","","","","","","","","","","","","",1,"",null,{"$f":"IF(ISNUMBER(SEARCH(BE$3,$G34)),1,\"\")","v":""},"","","",1,"","","","","","","","","","","",null,null,31,"Nonmotorized",0,1,2,0,null,0,1,2,0,null,0,1,1,0,null,0,1,1,0]
[32,"Nonmotorized",null,"RampNM1","Nonmotorized","NBL","RampL1","Signal near",null,375,1125,421875,null,0,15,"","",0.1205004039155782,null,0.505,null,0,1,0,0,1,null,{"$f":"IF(B35=\"Diverging\",\"\",SSI_RTI_VehSpeed_SignalNear)","v":15},0.49999999999999989,null,null,null,1,null,0.25249999999999995,null,12836.117245225847,null,null,"","","","","","","","","","","","","","",1,"",null,"","","","","","","",1,"","","","","","","","",null,null,32,"Nonmotorized",0,1,0,0,null,0,1,0,0,null,0,1,0,0,null,0,1,0,0]
[33,"Nonmotorized",null,"RampNM1","Nonmotorized","NBR","RampR1","Signal near",null,375,1125,421875,null,0,15,"","",0.1205004039155782,null,0.505,null,0,1,0,0,1,null,{"$f":"IF(B36=\"Diverging\",\"\",SSI_RTI_VehSpeed_SignalNear)","v":15},0.49999999999999989,null,null,null,1,null,0.25249999999999995,null,12836.117245225847,null,null,"","","","","","","","","","","","","","",1,"",null,"","","","","","","","",1,"","","","","","","",null,null,33,"Nonmotorized",0,1,0,0,null,0,1,0,0,null,0,1,0,0,null,0,1,0,0]
[34,"Nonmotorized",null,"CrossNM2","Nonmotorized","NBR","RampR1","Signal near",null,375,1125,421875,null,0,15,"","",0.1205004039155782,null,0.505,null,2,0,0,1,5,null,{"$f":"IF(B37=\"Diverging\",\"\",SSI_RTI_VehSpeed_CrossThru)","v":40},0.77777777777777779,null,null,null,1,null,1.9638888888888888,null,99836.467462867717,null,null,"","","","","","","","","","","","","",1,"","",null,"","","","","","","","",1,"","","","","","","",null,null,34,"Nonmotorized",2,0,0,1,null,1,0,0,1,null,2,0,0,1,null,1,0,0,1]
[35,"Nonmotorized",null,"CrossNM2","Nonmotorized","EBT, SBL","CrossT1, RampL2","Cross thru",null,375,4875,1828125,null,0,40,"","",0.75115840021714742,null,0.505,null,2,0,0,1,5,null,40,0.77777777777777779,null,null,null,1,null,1.9638888888888888,null,2696834.7095296104,null,null,"","","","","","","","","","","","","",1,"","",null,1,"","","","","","","","","",1,"","","","","",null,null,35,"Nonmotorized",2,0,0,1,null,1,0,0,1,null,2,0,0,1,null,1,0,0,1]
[36,"Nonmotorized",null,"CrossNM2","Nonmotorized","WBL","CrossL2","Cross left",null,375,1875,703125,null,0,20,"","",0.20274912921655375,null,0.505,null,2,0,0,1,5,null,40,0.77777777777777779,null,null,null,1,null,1.9638888888888888,null,279968.03585176467,null,null,"","",{"$f":"IF(ISNUMBER(SEARCH(AP$3,$D39)),1,\"\")","v":""},"","","","","","","","","","",1,"","",null,"","","","",1,"","","","","","","","","","","",null,null,36,"Nonmotorized",2,0,0,1,null,1,0,0,0,null,2,0,0,1,null,1,0,0,0]
[37,"Nonmotorized",null,"CrossNM2","Nonmotorized","WBT","CrossT2","Cross thru",null,375,3750,1406250,null,0,40,"","",0.75115840021714742,null,0.505,null,2,0,0,1,5,null,40,0.77777777777777779,null,null,null,1,null,1.9638888888888888,null,2074488.2380996998,null,null,{"$f":"IF(ISNUMBER(SEARCH(AN$3,$D40)),1,\"\")","v":""},"","","","","","","","","","","","",1,"","",null,"","","",1,"","","","","","","","","","","","",null,null,37,"Nonmotorized",2,0,0,1,null,1,0,0,0,null,2,0,0,1,null,1,0,0,0]
[38,"Nonmotorized",null,"CrossNM2","Nonmotorized","WBR","CrossR2","Cross right",null,375,1875,703125,null,0,15,"","",0.1205004039155782,null,0.505,null,2,0,0,1,5,null,40,0.77777777777777779,null,null,null,1,null,1.9638888888888888,null,166394.11243811288,null,null,"","","","","","","","","","","","","",1,"","",null,"","","","","",1,"","","","","","","","","","",null,null,38,"Nonmotorized",2,0,0,1,null,1,0,0,0,null,2,0,0,1,null,1,0,0,0]
[39,"Nonmotorized",null,"RampNM2","Nonmotorized","WBR","CrossR2","Cross right",null,375,1875,703125,null,0,15,"",{"$f":"IF(B42=\"Nonmotorized\",\"\",SQRT(N42^2+O42^2-2*N42*O42*COS(RADIANS(P42)))/2)","v":""},0.1205004039155782,null,0.505,null,0,1,2,0,4.5,null,40,0.77777777777777779,null,null,null,1,null,1.7675000000000001,null,149754.7011943016,null,null,"","","","","","","","","","","","","","","",1,null,"","","","","",1,"","","","","","","","","","",null,null,39,"Nonmotorized",0,1,2,0,null,0,1,2,0,null,0,1,1,0,null,0,1,1,0]
[40,"Nonmotorized",null,"RampNM2","Nonmotorized","EBL","CrossL1","Cross left",null,375,1875,{"$f":"PRODUCT(J43:K43)","v":703125},null,0,20,"","",0.20274912921655375,null,0.505,null,0,1,2,0,4.5,null,40,0.77777777777777779,null,null,null,1,null,1.7675000000000001,null,251971.23226658822,null,null,"","","","","","","","","","","","","","","",1,null,"",1,"","","","","","","","","","","","","","",null,null,40,"Nonmotorized",0,1,2,0,null,0,1,2,0,null,0,1,1,0,null,0,1,1,0]
[null,null,null,null,null,null,null,null,null,null,null,null,null,null,null,null,null,null,null,null,null,null,null,null,null,null,null,null,null,null,null,null,null,null,null,null,null,null,"O",{"$f":"'SSI Inputs RTI'!$D$28","v":3750},{"$f":"'SSI Inputs RTI'!$D$29","v":1875},{"$f":"'SSI Inputs RTI'!$D$30","v":1875},{"$f":"'SSI Inputs RTI'!$D$32","v":3750},{"$f":"'SSI Inputs RTI'!$D$33","v":1875},{"$f":"'SSI Inputs RTI'!$D$34","v":1875},{"$f":"'SSI Inputs RTI'!$D$36","v":2250},{"$f":"'SSI Inputs RTI'!$D$37","v":1125},{"$f":"'SSI Inputs RTI'!$D$38","v":1125},{"$f":"'SSI Inputs RTI'!$D$40","v":2250},{"$f":"'SSI Inputs RTI'!$D$41","v":1125},{"$f":"'SSI Inputs RTI'!$D$42","v":1125},{"$f":"'SSI Inputs RTI'!$Q$20","v":375},{"$f":"'SSI Inputs RTI'!$Q$21","v":375},{"$f":"'SSI Inputs RTI'!$Q$22","v":375},{"$f":"'SSI Inputs RTI'!$Q$23","v":375},"O",{"$f":"'SSI Inputs RTI'!$D$28","v":3750},{"$f":"'SSI Inputs RTI'!$D$29","v":1875},{"$f":"'SSI Inputs RTI'!$D$30","v":1875},{"$f":"'SSI Inputs RTI'!$D$32","v":3750},{"$f":"'SSI Inputs RTI'!$D$33","v":1875},{"$f":"'SSI Inputs RTI'!$D$34","v":1875},{"$f":"'SSI Inputs RTI'!$D$36","v":2250},{"$f":"'SSI Inputs RTI'!$D$37","v":1125},{"$f":"'SSI Inputs RTI'!$D$38","v":1125},{"$f":"'SSI Inputs RTI'!$D$40","v":2250},{"$f":"'SSI Inputs RTI'!$D$41","v":1125},{"$f":"'SSI Inputs RTI'!$D$42","v":1125},{"$f":"'SSI Inputs RTI'!$Q$20","v":375},{"$f":"'SSI Inputs RTI'!$Q$21","v":375},{"$f":"'SSI Inputs RTI'!$Q$22","v":375},{"$f":"'SSI Inputs RTI'!$Q$23","v":375}]
[null,null,null,null,null,null,null,null,null,null,null,null,null,null,null,null,null,null,null,null,null,null,null,null,null,null,null,null,null,null,null,null,null,null,null,null,null,null,"D",{"$f":"'SSI Inputs RTI'!$E$28","v":7750},{"$f":"'SSI Inputs RTI'!$E$29","v":3875},{"$f":"'SSI Inputs RTI'!$E$30","v":3875},{"$f":"'SSI Inputs RTI'!$E$32","v":7750},{"$f":"'SSI Inputs RTI'!$E$33","v":3875},{"$f":"'SSI Inputs RTI'!$E$34","v":3875},{"$f":"'SSI Inputs RTI'!$E$36","v":2500},{"$f":"'SSI Inputs RTI'!$E$37","v":1250},{"$f":"'SSI Inputs RTI'!$E$38","v":1250},{"$f":"'SSI Inputs RTI'!$E$40","v":2500},{"$f":"'SSI Inputs RTI'!$E$41","v":1250},{"$f":"'SSI Inputs RTI'!$E$42","v":1250},{"$f":"'SSI Inputs RTI'!$R$20","v":425},{"$f":"'SSI Inputs RTI'!$R$21","v":425},{"$f":"'SSI Inputs RTI'!$R$22","v":425},{"$f":"'SSI Inputs RTI'!$R$23","v":425},"D",{"$f":"'SSI Inputs RTI'!$E$28","v":7750},{"$f":"'SSI Inputs RTI'!$E$29","v":3875},{"$f":"'SSI Inputs RTI'!$E$30","v":3875},{"$f":"'SSI Inputs RTI'!$E$32","v":7750},{"$f":"'SSI Inputs RTI'!$E$33","v":3875},{"$f":"'SSI Inputs RTI'!$E$34","v":3875},{"$f":"'SSI Inputs RTI'!$E$36","v":2500},{"$f":"'SSI Inputs RTI'!$E$37","v":1250},{"$f":"'SSI Inputs RTI'!$E$38","v":1250},{"$f":"'SSI Inputs RTI'!$E$40","v":2500},{"$f":"'SSI Inputs RTI'!$E$41","v":1250},{"$f":"'SSI Inputs RTI'!$E$42","v":1250},{"$f":"'SSI Inputs RTI'!$R$20","v":425},{"$f":"'SSI Inputs RTI'!$R$21","v":425},{"$f":"'SSI Inputs RTI'!$R$22","v":425},{"$f":"'SSI Inputs RTI'!$R$23","v":425}]
[]
[]
[]
[]
[]
[]
[]
[]
[]
[]
[]
[]
[]
[]
[]
[]
[]
[]
[]
[]
[]
[]
[]
[]
[]
[]
[]
[]
[]
[]
[]
[]
[]
[]
[]
[]
[]
[]
[]
[]
[]
[]
[]
[]
[]
[]
[]
[]
[]
[]
[]
[]
[]
[]
[]
[null,null,null,null,null,null,null,null,null,"Exposure",null,null,null,null,null,null,null,null,null,null,null,null,null,null,null,null,null,null,null,null,null,null,null,null,null,null,"Exposure-Severity-Complexity Product"]
[null,null,null,null,null,null,null,null,null,"Q1","Q2","I"]
[null,null,null,null,null,null,null,null,null,{"$f":"SUMPRODUCT($AN4:$BC4,$AN$45:$BC$45)","v":9000},{"$f":"SUMPRODUCT($BE4:$BT4,$BE$45:$BT$45)","v":1250},{"$f":"PRODUCT(J103:K103)","v":11250000},null,null,null,null,null,null,null,null,null,null,null,null,null,null,null,null,null,null,null,null,null,null,null,null,{"$f":"L103*R4*AI4","v":821207.45117194124}]
[null,null,null,null,null,null,null,null,null,{"$f":"SUMPRODUCT($AN5:$BC5,$AN$45:$BC$45)","v":3875},{"$f":"SUMPRODUCT($BE5:$BT5,$BE$45:$BT$45)","v":1250},{"$f":"PRODUCT(J104:K104)","v":4843750},null,null,null,null,null,null,null,null,null,null,null,null,null,null,null,null,null,null,null,null,null,null,null,null,{"$f":"L104*R5*AI5","v":153784.88361918338}]
[null,null,null,null,null,null,null,null,null,3875,3875,15015625,null,null,null,null,null,null,null,null,null,null,null,null,null,null,null,null,null,null,null,null,null,null,null,null,303967.85468273755]
[null,null,null,null,null,null,null,null,null,3875,1250,4843750,null,null,null,null,null,null,null,null,null,null,null,null,null,null,null,null,null,null,null,null,null,null,null,null,153784.88361918338]
[null,null,null,null,null,null,null,null,null,7750,3875,30031250,null,null,null,null,null,null,null,null,null,null,null,null,null,null,null,null,null,null,null,null,null,null,null,null,2923121.7213500487]
[null,null,null,null,null,null,null,null,null,9000,1250,11250000,null,null,null,null,null,null,null,null,null,null,null,null,null,null,null,null,null,null,null,null,null,null,null,null,821207.45117194124]
[null,null,null,null,null,null,null,null,null,3875,1250,4843750,null,null,null,null,null,null,null,null,null,null,null,null,null,null,null,null,null,null,null,null,null,null,null,null,153784.88361918338]
[null,null,null,null,null,null,null,null,null,3875,3875,15015625,null,null,null,null,null,null,null,null,null,null,null,null,null,null,null,null,null,null,null,null,null,null,null,null,303967.85468273755]
[null,null,null,null,null,null,null,null,null,3875,1250,4843750,null,null,null,null,null,null,null,null,null,null,null,null,null,null,null,null,null,null,null,null,null,null,null,null,153784.88361918338]
[null,null,null,null,null,null,null,null,null,7750,3875,30031250,null,null,null,null,null,null,null,null,null,null,null,null,null,null,null,null,null,null,null,null,null,null,null,null,2923121.7213500487]
[null,null,null,null,null,null,null,null,null,9000,1250,11250000,null,null,null,null,null,null,null,null,null,null,null,null,null,null,null,null,null,null,null,null,null,null,null,null,60579.12969559295]
[null,null,null,null,null,null,null,null,null,3875,3875,15015625,null,null,null,null,null,null,null,null,null,null,null,null,null,null,null,null,null,null,null,null,null,null,null,null,8630.6079719456047]
[null,null,null,null,null,null,null,null,null,7750,1250,9687500,null,null,null,null,null,null,null,null,null,null,null,null,null,null,null,null,null,null,null,null,null,null,null,null,78599.554860732736]
[null,null,null,null,null,null,null,null,null,9000,1250,11250000,null,null,null,null,null,null,null,null,null,null,null,null,null,null,null,null,null,null,null,null,null,null,null,null,60579.12969559295]
[null,null,null,null,null,null,null,null,null,3875,3875,15015625,null,null,null,null,null,null,null,null,null,null,null,null,null,null,null,null,null,null,null,null,null,null,null,null,8630.6079719456047]
[null,null,null,null,null,null,null,null,null,7750,1250,9687500,null,null,null,null,null,null,null,null,null,null,null,null,null,null,null,null,null,null,null,null,null,null,null,null,78599.554860732736]
[null,null,null,null,null,null,null,null,null,1250,1250,1562500,null,null,null,null,null,null,null,null,null,null,null,null,null,null,null,null,null,null,null,null,null,null,null,null,1.0009591886752529]
[null,null,null,null,null,null,null,null,null,11625,3875,45046875,null,null,null,null,null,null,null,null,null,null,null,null,null,null,null,null,null,null,null,null,null,null,null,null,72704.85622651926]
[null,null,null,null,null,null,null,null,null,7750,3875,30031250,null,null,null,null,null,null,null,null,null,null,null,null,null,null,null,null,null,null,null,null,null,null,null,null,106676.25312183109]
[null,null,null,null,null,null,null,null,null,1250,1250,1562500,null,null,null,null,null,null,null,null,null,null,null,null,null,null,null,null,null,null,null,null,null,null,null,null,1.0009591886752529]
[null,null,null,null,null,null,null,null,null,11625,3875,45046875,null,null,null,null,null,null,null,null,null,null,null,null,null,null,null,null,null,null,null,null,null,null,null,null,72704.85622651926]
[null,null,null,null,null,null,null,null,null,7750,3875,30031250,null,null,null,null,null,null,null,null,null,null,null,null,null,null,null,null,null,null,null,null,null,null,null,null,106676.25312183109]
[null,null,null,null,null,null,null,null,null,425,1250,531250,null,null,null,null,null,null,null,null,null,null,null,null,null,null,null,null,null,null,null,null,null,null,null,null,16163.999493988103]
[null,null,null,null,null,null,null,null,null,425,1250,531250,null,null,null,null,null,null,null,null,null,null,null,null,null,null,null,null,null,null,null,null,null,null,null,null,16163.999493988103]
[null,null,null,null,null,null,null,null,null,425,1250,531250,null,null,null,null,null,null,null,null,null,null,null,null,null,null,null,null,null,null,null,null,null,null,null,null,125719.99606435193]
[null,null,null,null,null,null,null,null,null,425,9000,3825000,null,null,null,null,null,null,null,null,null,null,null,null,null,null,null,null,null,null,null,null,null,null,null,null,5642608.0076311836]
[null,null,null,null,null,null,null,null,null,425,3875,1646875,null,null,null,null,null,null,null,null,null,null,null,null,null,null,null,null,null,null,null,null,null,null,null,null,655747.35508391098]
[null,null,null,null,null,null,null,null,null,425,7750,3293750,null,null,null,null,null,null,null,null,null,null,null,null,null,null,null,null,null,null,null,null,null,null,null,null,4858912.4510157416]
[null,null,null,null,null,null,null,null,null,425,3875,1646875,null,null,null,null,null,null,null,null,null,null,null,null,null,null,null,null,null,null,null,null,null,null,null,null,389731.98779949098]
[null,null,null,null,null,null,null,null,null,425,3875,1646875,null,null,null,null,null,null,null,null,null,null,null,null,null,null,null,null,null,null,null,null,null,null,null,null,350758.78901954193]
[null,null,null,null,null,null,null,null,null,425,3875,1646875,null,null,null,null,null,null,null,null,null,null,null,null,null,null,null,null,null,null,null,null,null,null,null,null,590172.61957551993]
[null,null,null,null,null,null,null,null,null,425,1250,531250,null,null,null,null,null,null,null,null,null,null,null,null,null,null,null,null,null,null,null,null,null,null,null,null,16163.999493988103]
[null,null,null,null,null,null,null,null,null,425,1250,531250,null,null,null,null,null,null,null,null,null,null,null,null,null,null,null,null,null,null,null,null,null,null,null,null,16163.999493988103]
[null,null,null,null,null,null,null,null,null,425,1250,531250,null,null,null,null,null,null,null,null,null,null,null,null,null,null,null,null,null,null,null,null,null,null,null,null,125719.99606435193]
[null,null,null,null,null,null,null,null,null,425,9000,3825000,null,null,null,null,null,null,null,null,null,null,null,null,null,null,null,null,null,null,null,null,null,null,null,null,5642608.0076311836]
[null,null,null,null,null,null,null,null,null,425,3875,1646875,null,null,null,null,null,null,null,null,null,null,null,null,null,null,null,null,null,null,null,null,null,null,null,null,655747.35508391098]
[null,null,null,null,null,null,null,null,null,425,7750,3293750,null,null,null,null,null,null,null,null,null,null,null,null,null,null,null,null,null,null,null,null,null,null,null,null,4858912.4510157416]
[null,null,null,null,null,null,null,null,null,425,3875,1646875,null,null,null,null,null,null,null,null,null,null,null,null,null,null,null,null,null,null,null,null,null,null,null,null,389731.98779949098]
[null,null,null,null,null,null,null,null,null,425,3875,1646875,null,null,null,null,null,null,null,null,null,null,null,null,null,null,null,null,null,null,null,null,null,null,null,null,350758.78901954193]
[null,null,null,null,null,null,null,null,null,425,3875,1646875,null,null,null,null,null,null,null,null,null,null,null,null,null,null,null,null,null,null,null,null,null,null,null,null,590172.61957551993]

{"sheet":"Calibration","index":17,"n_rows":84,"n_cols":9,"rows_kept":84,"cut":false,"hidden":false,"merged":[[72,0,72,1],[73,0,73,1],[72,2,73,3],[72,6,72,7],[73,6,73,7],[72,8,72,9],[73,8,73,9],[68,0,68,1],[68,2,69,3],[68,6,68,7],[68,8,68,9],[69,0,69,1],[69,6,69,7],[69,8,69,9],[70,0,70,1],[70,2,71,3],[70,6,70,7],[70,8,70,9],[71,0,71,1],[71,6,71,7],[71,8,71,9],[83,8,83,9],[64,8,64,9],[65,8,65,9],[66,8,66,9],[67,8,67,9],[74,8,74,9],[83,6,83,7],[64,6,64,7],[65,6,65,7],[66,6,66,7],[67,6,67,7],[74,6,74,7],[80,8,80,9],[81,8,81,9],[76,8,76,9],[77,8,77,9],[82,8,82,9],[82,6,82,7],[75,8,75,9],[78,6,78,7],[79,6,79,7],[80,6,80,7],[81,6,81,7],[78,8,78,9],[75,6,75,7],[76,6,76,7],[77,6,77,7],[50,1,50,4],[51,1,51,4],[52,1,52,4],[58,0,58,9],[3,6,4,7],[3,8,4,9],[7,8,7,9],[8,8,8,9],[9,8,9,9],[10,8,10,9],[11,8,11,9],[12,8,12,9],[13,8,13,9],[48,8,49,9],[48,5,49,5],[31,1,32,1],[39,0,42,0],[39,1,40,1],[41,1,42,1],[48,1,49,4],[33,0,38,0],[33,1,34,1],[35,1,36,1],[25,6,25,7],[26,6,26,7],[27,6,27,7],[28,6,28,7],[29,6,29,7],[35,6,35,7],[19,0,32,0],[33,6,33,7],[34,6,34,7],[19,1,20,1],[21,1,22,1],[23,1,30,1],[20,6,20,7],[21,6,21,7],[22,6,22,7],[23,6,23,7],[30,6,30,7],[31,6,31,7],[32,6,32,7],[48,6,49,7],[83,0,83,1],[74,0,74,1],[76,0,76,1],[82,0,82,1],[77,0,77,1],[75,0,75,1],[78,0,78,1],[79,0,79,1],[80,0,80,1],[81,0,81,1],[54,0,55,0],[54,1,54,4],[55,1,55,4],[53,1,53,4],[57,0,57,9],[48,0,49,0],[54,6,54,7],[54,8,54,9],[67,0,67,1],[65,0,65,1],[62,0,62,1],[64,0,64,1],[66,0,66,1],[47,0,47,9],[40,6,40,7],[41,6,41,7],[37,1,38,1],[42,6,42,7],[40,8,40,9],[41,8,41,9],[42,8,42,9],[38,8,38,9],[39,8,39,9],[43,0,44,1],[45,0,46,1],[43,8,43,9],[44,8,44,9],[45,8,45,9],[46,8,46,9],[43,6,43,7],[44,6,44,7],[45,6,45,7],[46,6,46,7],[33,8,33,9],[34,8,34,9],[35,8,35,9],[36,8,36,9],[37,8,37,9],[39,6,39,7],[30,8,30,9],[31,8,31,9],[32,8,32,9],[36,6,36,7],[37,6,37,7],[38,6,38,7],[63,0,63,1],[59,0,59,1],[60,0,60,1],[61,0,61,1],[55,6,55,7],[55,8,55,9],[60,8,60,9],[61,8,61,9],[62,8,62,9],[63,8,63,9],[56,1,56,4],[56,6,56,7],[56,8,56,9],[50,6,50,7],[0,0,0,9],[1,0,1,9],[2,0,2,9],[5,8,5,9],[6,8,6,9],[15,6,15,7],[16,6,16,7],[17,6,17,7],[10,6,10,7],[11,6,11,7],[12,6,12,7],[13,6,13,7],[14,6,14,7],[5,6,5,7],[6,6,6,7],[7,6,7,7],[17,1,18,1],[3,5,4,5],[3,0,4,0],[3,1,4,1],[3,2,4,2],[5,0,18,0],[5,1,6,1],[7,1,8,1],[14,8,14,9],[8,6,8,7],[18,8,18,9],[18,6,18,7],[3,3,4,3],[3,4,4,4],[9,1,16,1],[28,8,28,9],[19,6,19,7],[24,6,24,7],[9,6,9,7],[15,8,15,9],[16,8,16,9],[17,8,17,9],[29,8,29,9],[23,8,23,9],[24,8,24,9],[25,8,25,9],[26,8,26,9],[27,8,27,9],[19,8,19,9],[20,8,20,9],[21,8,21,9],[22,8,22,9],[50,8,50,9],[51,6,51,7],[51,8,51,9],[52,6,52,7],[52,8,52,9],[82,2,83,3],[59,2,59,3],[60,2,61,3],[62,2,63,3],[64,2,65,3],[66,2,67,3],[74,2,75,3],[76,2,77,3],[78,2,79,3],[80,2,81,3],[59,6,59,7],[60,6,60,7],[61,6,61,7],[62,6,62,7],[63,6,63,7],[59,8,59,9],[53,6,53,7],[53,8,53,9],[79,8,79,9]]}
["Calibration"]
["Optional - Input locally-developed calibration factors for SPFs. "]
["At-Grade Intersection SPFs"]
["Traffic Control","Facility Type","# legs","1 way/ 2 way","# of lanes on arterial","Default Calibration Factor","Optional User Override",null,"Use Value"]
[]
["Traffic Signal\n\n(For more information on determining signal type, refer to the \"Definitions\" worksheet)","On Rural Two Lane Highway","3 leg","-","-",{"$f":"CalibrationDefaults!F6","v":1},null,null,{"$f":"IF(ISNUMBER(G6),G6,F6)","v":1}]
[null,null,"4 leg","-","-",{"$f":"CalibrationDefaults!F7","v":0.92},null,null,{"$f":"IF(ISNUMBER(G7),G7,F7)","v":0.92}]
[null,"On Rural Multilane Highway","3 leg","-","-",{"$f":"CalibrationDefaults!F8","v":1},null,null,1]
[null,null,"4 leg","-","-",{"$f":"CalibrationDefaults!F9","v":0.45},null,null,0.45]
[null,"On Urban and Suburban Arterial","3 leg","2x2","5 or fewer",{"$f":"CalibrationDefaults!F10","v":2.5},null,null,2.5]
[null,null,"4 leg","2x2","5 or fewer",{"$f":"CalibrationDefaults!F11","v":2.27},null,null,2.27]
[null,null,"3 leg","2x2","6 or more",{"$f":"CalibrationDefaults!F12","v":1},null,null,1]
[null,null,"4 leg","2x2","6 or more",{"$f":"CalibrationDefaults!F13","v":1},null,null,1]
[null,null,"3 leg","1x2","-",{"$f":"CalibrationDefaults!F14","v":1},null,null,1]
[null,null,"4 leg","1x2","-",{"$f":"CalibrationDefaults!F15","v":1},null,null,1]
[null,null,"3 leg","1x1","-",{"$f":"CalibrationDefaults!F16","v":1},null,null,1]
[null,null,"4 leg","1x1","-",{"$f":"CalibrationDefaults!F17","v":1},null,null,1]
[null,"On High Speed (50+ MPH) Urban and Suburban Arterial","3 leg","-","-",{"$f":"CalibrationDefaults!F18","v":1},null,null,1]
[null,null,"4 leg","-","-",{"$f":"CalibrationDefaults!F19","v":1},null,null,1]
["Minor Road Stop","On Rural Two Lane Highway","3 leg","-","-",{"$f":"CalibrationDefaults!F20","v":1.27},null,null,1.27]
[null,null,"4 leg","-","-",{"$f":"CalibrationDefaults!F21","v":0.74},null,null,0.74]
[null,"On Rural Multilane Highway","3 leg","-","-",{"$f":"CalibrationDefaults!F22","v":2.2000000000000002},null,null,2.2000000000000002]
[null,null,"4 leg","-","-",{"$f":"CalibrationDefaults!F23","v":1.64},null,null,1.64]
[null,"On Urban and Suburban Arterial","3 leg","2x2","5 or fewer",{"$f":"CalibrationDefaults!F24","v":1.1399999999999999},null,null,1.1399999999999999]
[null,null,"4 leg","2x2","5 or fewer",{"$f":"CalibrationDefaults!F25","v":1.87},null,null,1.87]
[null,null,"3 leg","2x2","6 or more",{"$f":"CalibrationDefaults!F26","v":1},null,null,1]
[null,null,"4 leg","2x2","6 or more",{"$f":"CalibrationDefaults!F27","v":1},null,null,1]
[null,null,"3 leg","1x2","-",{"$f":"CalibrationDefaults!F28","v":1},null,null,1]
[null,null,"4 leg","1x2","-",{"$f":"CalibrationDefaults!F29","v":1},null,null,1]
[null,null,"3 leg","1x1","-",{"$f":"CalibrationDefaults!F30","v":1},null,null,1]
[null,null,"4 leg","1x1","-",{"$f":"CalibrationDefaults!F31","v":1},null,null,1]
[null,"On High Speed (50+ MPH) Urban and Suburban Arterial","3 leg","-","-",{"$f":"CalibrationDefaults!F32","v":1},null,null,1]
[null,null,"4 leg","-","-",{"$f":"CalibrationDefaults!F33","v":1},null,null,1]
["All-Way Stop","On Rural Two Lane Highway","3 leg","-","-",{"$f":"CalibrationDefaults!F34","v":1},null,null,1]
[null,null,"4 leg","-","-",{"$f":"CalibrationDefaults!F35","v":1},null,null,1]
[null,"On Rural Multilane Highway","3 leg","-","-",{"$f":"CalibrationDefaults!F36","v":1},null,null,1]
[null,null,"4 leg","-","-",{"$f":"CalibrationDefaults!F37","v":1},null,null,1]
[null,"On Urban and Suburban Arterial","3 leg","-","-",{"$f":"CalibrationDefaults!F38","v":1},null,null,1]
[null,null,"4 leg","-","-",{"$f":"CalibrationDefaults!F39","v":1},null,null,1]
["Roundabout","1-lane roundabout","3 leg","-","-",{"$f":"CalibrationDefaults!F40","v":1},null,null,1]
[null,null,"4 leg","-","-",{"$f":"CalibrationDefaults!F41","v":1},null,null,1]
[null,"2-lane roundabout","3 leg","-","-",{"$f":"CalibrationDefaults!F42","v":1},null,null,1]
[null,null,"4 leg","-","-",{"$f":"CalibrationDefaults!F43","v":1},null,null,1]
["Signalized Restricted Crossing U-Turn (RCUT), also known Superstreet",null,"3 leg","-","-",{"$f":"CalibrationDefaults!F44","v":1},null,null,{"$f":"IF(ISNUMBER(G44),G44,F44)","v":1}]
[null,null,"4 leg","-","-",{"$f":"CalibrationDefaults!F45","v":1},null,null,1]
["Unsignalized Restricted Crossing U-Turn (RCUT), also known as J-Turn",null,"3 leg","-","-",{"$f":"CalibrationDefaults!F46","v":1},null,null,1]
[null,null,"4 leg","-","-",{"$f":"CalibrationDefaults!F47","v":1},null,null,1]
["Ramp Terminal Intersection SPFs"]
["Control","Ramp and Intersection Type",null,null,null,"SPF Calibration Factor","Optional User Override",null,"Use Value"]
[]
["Signalized Diamond","Four-leg terminals with diagonal ramps (D4)",null,null,null,1,null,null,1]
["Diverging Diamond","All types",null,null,null,1,null,null,{"$f":"IF(ISNUMBER(G52),G52,F52)","v":1}]
["Single-Point Diamond","All types",null,null,null,1,null,null,1]
["Unsignalized Diamond","Four-leg terminals with diagonal ramps (D4)",null,null,null,1,null,null,1]
["Roundabout","1-lane roundabout with 4 legs",null,null,null,1,null,null,1]
[null,"2-lane roundabout with 4 legs",null,null,null,1,null,null,1]
["Signalized Tight Diamond",null,null,null,null,1,null,null,{"$f":"IF(ISNUMBER(G57),G57,F57)","v":1}]
["Local CMFs"]
["Optional - Override default CMFs with locally-developed or new CMFs"]
["Control",null,"Default Base Intersection",null,"Type of Crashes","Default CMF","Optional User Override",null,"Use Value"]
["Displaced Left Turn (DLT)",null,"Traffic Signal",null,"Total",0.88,null,null,{"$f":"IF(ISNUMBER(G61),G61,F61)","v":0.88}]
[null,null,null,null,"Fatal-Injury",0.88,null,null,{"$f":"IF(ISNUMBER(G62),G62,F62)","v":0.88}]
["Median U-Turn (MUT)",null,"Traffic Signal",null,"Total",0.85,null,null,0.85]
[null,null,null,null,"Fatal-Injury",0.7,null,null,0.7]
["Signalized Restricted Crossing U-Turn (RCUT), also known Superstreet",null,"Traffic Signal",null,"Total",0.85,null,null,0.85]
[null,null,null,null,"Fatal-Injury",0.78,null,null,0.78]
["Unsignalized Restricted Crossing U-Turn (RCUT), also known as J-Turn",null,"Minor Road Stop (TWSC)",null,"Total",0.65,null,null,0.65]
[null,null,null,null,"Fatal-Injury",0.46,null,null,0.46]
["Signalized Thru-Cut",null,"Traffic Signal",null,"Total",1,null,null,{"$f":"IF(ISNUMBER(G69),G69,F69)","v":1}]
[null,null,null,null,"Fatal-Injury",1,null,null,{"$f":"IF(ISNUMBER(G70),G70,F70)","v":1}]
["Unsignalized Thru-Cut",null,"Minor Road Stop (TWSC)",null,"Total",1,null,null,{"$f":"IF(ISNUMBER(G71),G71,F71)","v":1}]
[null,null,null,null,"Fatal-Injury",1,null,null,{"$f":"IF(ISNUMBER(G72),G72,F72)","v":1}]
["Bowtie",null,"Taffic Signal",null,"Total",1,null,null,1]
[null,null,null,null,"Fatal-Injury",1,null,null,{"$f":"IF(ISNUMBER(G74),G74,F74)","v":1}]
["Continuous Green-T Intersection",null,"Traffic Signal",null,"Total",0.96,null,null,{"$f":"IF(ISNUMBER(G75),G75,F75)","v":0.96}]
[null,null,null,null,"Fatal-Injury",0.85,null,null,{"$f":"IF(ISNUMBER(G76),G76,F76)","v":0.85}]
["Jughandles",null,"Traffic Signal",null,"Total",0.74,null,null,{"$f":"IF(ISNUMBER(G77),G77,F77)","v":0.74}]
[null,null,null,null,"Fatal-Injury",0.74,null,null,{"$f":"IF(ISNUMBER(G78),G78,F78)","v":0.74}]
[{"$f":"Label_AGI_Other1","v":"Other 1*"},null,"User Selection",null,"Total",1,null,null,{"$f":"IF(ISNUMBER(G79),G79,F79)","v":1}]
[null,null,null,null,"Fatal-Injury",1,null,null,1]
[{"$f":"Label_AGI_Other2","v":"Other 2*"},null,"User Selection",null,"Total",1,null,null,1]
[null,null,null,null,"Fatal-Injury",1,null,null,1]
["Crossover Traffic Signal (of Diverging Diamond Interchange)",null,"Traffic Signal",null,"Total",0.67,null,null,{"$f":"IF(ISNUMBER(G83),G83,F83)","v":0.67}]
[null,null,null,null,"Fatal-Injury",0.59,null,null,{"$f":"IF(ISNUMBER(G84),G84,F84)","v":0.59}]

{"sheet":"Historical","index":18,"n_rows":92,"n_cols":35,"rows_kept":92,"cut":false,"hidden":false,"merged":[[18,1,20,1],[0,0,0,13],[1,0,2,13],[4,1,5,2],[4,3,5,4],[6,3,6,4],[6,10,6,11],[7,3,7,4],[10,1,11,2],[10,3,10,12],[12,1,14,1],[15,1,17,1],[38,1,38,14],[38,18,41,20],[38,21,38,26],[39,1,54,1],[39,2,39,3],[39,21,41,21],[39,22,41,22],[39,23,41,23],[39,24,41,26],[40,2,42,2],[42,18,56,18],[42,19,46,19],[43,2,45,2],[46,2,48,2],[47,19,51,19],[49,2,51,2],[71,1,76,1],[71,2,71,3],[72,18,86,18],[72,19,76,19],[76,2,76,12],[77,1,82,1],[77,2,77,3],[77,19,81,19],[82,2,82,12],[57,18,71,18],[57,19,61,19],[59,2,61,2],[62,2,64,2],[62,19,66,19],[65,2,67,2],[67,19,71,19],[55,1,70,1],[55,2,55,3],[56,2,58,2],[39,32,41,32],[39,33,41,33],[52,2,54,12],[52,19,56,19],[68,2,70,12],[39,34,41,34],[82,19,86,19],[87,18,91,18],[87,19,91,19],[39,27,41,27],[42,29,50,29],[48,30,50,30],[45,30,47,30],[42,30,44,30],[38,29,41,31]]}
["Historical Crash Data Input"]
["Note: In order to use Empirical Bayes (EB), the historical intersection type must be a traffic signal or a minor road stop.  Additionally, this alternative must be selected to be included in the analysis, and the historical intersection specified below.  Up to 10 years of historical data can be used to perform the EB adjustment."]
[]
[]
[null,"Is historical crash data available?",null,"Yes"]
[]
[null,"Number of years available:",null,5,null,"(Up to 10)",null,"First Year Data is available: ",null,null,2016]
[null,"Historical Intx Type:",null,"4ST"]
[null,"Facility Type",null,{"$f":"IF(Input_FacilityType=FacilityType_Label_Rural2Ln,1,IF(Input_FacilityType=FacilityType_Label_RuralMultiLn,2,IF(Input_FacilityType=FacilityType_Label_Urban,IF(Input_1Way2Way=Notes!$A$54,IF(Input_MajorApproachSpeed=Notes!$A$67,7,IF(Input_NumMajorLanes=Notes!$A$60,3,4)),IF(Input_1Way2Way=Notes!$A$55,5,6)))))","v":3}]
[]
[null,"Historical Crash Counts",null,"Year"]
[null,null,null,{"$f":"IF($D$7>0,$K$7,\"--\")","v":2016},{"$f":"IF($D$7>1,$K$7+1,\"--\")","v":2017},{"$f":"IF($D$7>2,$K$7+2,\"--\")","v":2018},{"$f":"IF($D$7>3,$K$7+3,\"--\")","v":2019},{"$f":"IF($D$7>4,$K$7+4,\"--\")","v":2020},{"$f":"IF($D$7>5,$K$7+5,\"--\")","v":"--"},{"$f":"IF($D$7>6,$K$7+6,\"--\")","v":"--"},{"$f":"IF($D$7>7,$K$7+7,\"--\")","v":"--"},{"$f":"IF($D$7>8,$K$7+8,\"--\")","v":"--"},{"$f":"IF($D$7>9,$K$7+9,\"--\")","v":"--"},"Total"]
[{"$f":"OR(AND(EB_Facility_Type<>3,EB_Facility_Type<>7),EB_Intx_Type=Notes!J69,EB_Intx_Type=Notes!J70)","v":false},"Combined","Total",{"$f":"IF(ISNUMBER(D$12),SUM(D14:D15),\"--\")","v":0},{"$f":"IF(ISNUMBER(E12),SUM(E14:E15),\"--\")","v":0},0,0,0,"--","--","--","--","--",{"$f":"IF(ISNUMBER(D13),SUM(D13:M13),\"--\")","v":0},{"$f":"IF(AND(A13,COUNTIF(D13:M13,\"=0\")>0),\"One or more years has 0 total crashes.\",\"\")","v":""}]
[null,null,"Fatal/Injury",null,null,null,null,null,null,null,null,null,null,{"$f":"SUMPRODUCT(D14:M14,--(ISNUMBER($D$12:$M$12)))","v":0}]
[null,null,"PDO",null,null,null,null,null,null,null,null,null,null,0]
[{"$f":"AND(OR(EB_Facility_Type=3,EB_Facility_Type=7),EB_Intx_Type<>Notes!J69,EB_Intx_Type<>Notes!J70)","v":true},"Single-Vehicle","Total",{"$f":"IF(ISNUMBER(D$12),SUM(D17:D18),\"--\")","v":0},{"$f":"IF(ISNUMBER(E$12),SUM(E17:E18),\"--\")","v":0},0,0,0,"--","--","--","--","--",0,{"$f":"IF(AND(A16,COUNTIF(D16:M16,\"=0\")>0),\"One or more years has 0 total crashes.\",\"\")","v":"One or more years has 0 total crashes."}]
[null,null,"Fatal/Injury",null,null,null,null,null,null,null,null,null,null,0]
[null,null,"PDO",null,null,null,null,null,null,null,null,null,null,0]
[{"$f":"AND(OR(EB_Facility_Type=3,EB_Facility_Type=7),EB_Intx_Type<>Notes!J69,EB_Intx_Type<>Notes!J70)","v":true},"Multiple-Vehicle","Total",{"$f":"IF(ISNUMBER(D$12),SUM(D20:D21),\"--\")","v":0},{"$f":"IF(ISNUMBER(E$12),SUM(E20:E21),\"--\")","v":0},0,0,0,"--","--","--","--","--",0,{"$f":"IF(AND(A19,COUNTIF(D19:M19,\"=0\")>0),\"One or more years has 0 total crashes.\",\"\")","v":"One or more years has 0 total crashes."}]
[null,null,"Fatal/Injury",null,null,null,null,null,null,null,null,null,null,0]
[null,null,"PDO",null,null,null,null,null,null,null,null,null,null,0]
[true,"Veh-Ped","Fatal/Injury",null,null,null,null,null,null,null,null,null,null,0]
[{"$f":"TRUE","v":true},"Veh-Bike","Fatal/Injury",null,null,null,null,null,null,null,null,null,null,0]
[null,"Total","All",{"$f":"IF($A$13,SUM(D14:D15),0)+IF($A$16,SUM(D20:D21),0)+IF($A$16,SUM(D17:D18),0)+IF($A$22,D22,0)+IF($A$23,D23,0)","v":0},{"$f":"IF(ISNUMBER(E12),IF($A$13,SUM(E14:E15),0)+IF($A$16,SUM(E20:E21),0)+IF($A$16,SUM(E17:E18),0)+IF($A$22,E22,0)+IF($A$23,E23,0),\"--\")","v":0},0,0,0,"--","--","--","--","--",{"$f":"IF($A$13,SUM(N14:N15),0)+IF($A$16,SUM(N20:N21),0)+IF($A$16,SUM(N17:N18),0)+IF($A$22,N22,0)+IF($A$23,N23,0)","v":0}]
[]
[]
[]
[]
[]
[null,"Computations Only Below This Point"]
[]
[]
[]
[]
[]
[]
[]
[]
[null,"Empirical Bayes Computations (No Data Entry)",null,null,null,null,null,null,null,null,null,null,null,null,null,null,null,null,"Dispersion Parameters",null,null,"At-Grade Intersection Facility Type",null,null,null,null,null,null,null,"AWSC Dispersion Parameters\n17-68 Report Update",null,null,"Intersection Facility Type"]
[null,{"$f":"IF(AND($D$9<>3,EB_Facility_Type<>7),\"Combined Collisions\",\"Single-Vehicle Only\")","v":"Single-Vehicle Only"},"Year",null,{"$f":"D$12","v":2016},2017,2018,2019,2020,"--","--","--","--","--","Total",null,null,null,null,null,null,"Rural Two-Lane Highways","Rural Multilane Highways","Urban/Suburban Arterials w/ 5 or Fewer Lanes","Urban/Suburban Arterials w/ 6 or More Lanes",null,null,"High Speed",null,null,null,null,"Rural Two-Lane Highways","Rural Multilane Highways","Urban/Suburban Arterials w/ 5 or Fewer Lanes"]
[null,null,"Npredicted","Total",0.61677108744776798,{"$f":"IF(AND(ISNUMBER(E$12),ISNUMBER(NPred_Total)),NPred_Total,\"--\")","v":0.61677108744776798},0.61677108744776798,0.61677108744776798,0.61677108744776798,"--","--","--","--","--",{"$f":"IF(ISNUMBER(E44),SUM(E41:N41),\"--\")","v":3.08385543723884}]
[null,null,null,"Fatal/Injury",0.1628318744484567,{"$f":"IF(AND(ISNUMBER(E$12),ISNUMBER(NPred_FI)),NPred_FI,\"--\")","v":0.1628318744484567},0.1628318744484567,0.1628318744484567,0.1628318744484567,"--","--","--","--","--",{"$f":"IF(ISNUMBER(E45),SUM(E42:N42),\"--\")","v":"--"}]
[null,null,null,"PDO",0.45393921299931134,{"$f":"IF(AND(ISNUMBER(E$12),ISNUMBER(NPred_PDO)),NPred_PDO,\"--\")","v":0.45393921299931134},0.45393921299931134,0.45393921299931134,0.45393921299931134,"--","--","--","--","--",{"$f":"IF(ISNUMBER(E46),SUM(E43:N43),\"--\")","v":2.2696960649965567},null,null,null,"Combined Multi and Single Vehicle","Total","Intx","R2L","RML","U/S Art.","2x2","1x2","1x1","U/S Art.",null,"Combined Multi and Single Vehicle","Total","Intx","R2L","RML","U/S Art."]
[null,null,"Dispersion Parameter (k)","Total",{"$f":"IF(OR(EB_Intx_Type=Notes!J69,EB_Intx_Type=Notes!J70),IF(OR(EB_Facility_Type=1, EB_Facility_Type=2), VLOOKUP(EB_Intx_Type,$AF$44:$AI$45,EB_Facility_Type + 1,FALSE),VLOOKUP(EB_Intx_Type,$AF$44:$AI$45,4,FALSE)),IF(AND($D$9<>3,EB_Facility_Type<>7),VLOOKUP(EB_Intx_Type,U44:AB47,EB_Facility_Type+1,FALSE),VLOOKUP(EB_Intx_Type,U59:AB62,EB_Facility_Type+1,FALSE)))","v":0.65},{"$f":"IF(AND(ISNUMBER(E$12),ISNUMBER(E44)),E44,\"--\")","v":0.65},0.65,0.65,0.65,"--","--","--","--","--","--",null,null,null,null,null,"3ST",0.54,0.46,"--","--","--","--","--",null,null,null,"3AWSC","--","--","--"]
[null,null,null,"Fatal/Injury",{"$f":"IF(OR(EB_Intx_Type=Notes!J69,EB_Intx_Type=Notes!J70),VLOOKUP(EB_Intx_Type,$AF$47:$AI$48,MIN(EB_Facility_Type,3)+1,FALSE),IF(AND($D$9<>3,EB_Facility_Type<>7),VLOOKUP(EB_Intx_Type,U49:AB52,EB_Facility_Type+1,FALSE),VLOOKUP(EB_Intx_Type,U64:AB67,EB_Facility_Type+1,FALSE)))","v":"--"},"--","--","--","--","--","--","--","--","--","--",null,null,null,null,null,"3SG",0.31,0.4,"--","--","--","--","--",null,null,null,"4AWSC",0.39,"--","--"]
[null,null,null,"PDO",{"$f":"IF(OR(EB_Intx_Type=Notes!J69,EB_Intx_Type=Notes!J70),VLOOKUP(EB_Intx_Type,$AF$50:$AI$51,MIN(EB_Facility_Type,3)+1,FALSE),IF(AND($D$9<>3,EB_Facility_Type<>7),VLOOKUP(EB_Intx_Type,U54:AB57,EB_Facility_Type+1,FALSE),VLOOKUP(EB_Intx_Type,U69:AB72,EB_Facility_Type+1,FALSE)))","v":0.54},0.54,0.54,0.54,0.54,"--","--","--","--","--","--",null,null,null,null,null,"4ST",0.24,0.49399999999999999,"--","--","--","--","--",null,null,"Fatal / Injury","Intx","R2L","RML","U/S Art."]
[null,null,"Weighted Adjustment (w)","Total",{"$f":"IF(ISNUMBER(E44),1/(1+E44*E41),\"--\")","v":0.71382621066830398},0.71382621066830398,0.71382621066830398,0.71382621066830398,0.71382621066830398,{"$f":"IF(ISNUMBER(J44),1/(1+J44*J41),\"--\")","v":"--"},{"$f":"IF(ISNUMBER(K44),1/(1+K44*K41),\"--\")","v":"--"},"--","--","--","--",null,null,null,null,null,"4SG",0.11,0.27700000000000002,"--","--","--","--","--",null,null,null,"3AWSC","--","--",7.0000000000000007E-2]
[null,null,null,"Fatal/Injury","--","--","--","--","--","--","--","--","--","--","--",null,null,null,null,"Fatal / Injury","Intx","R2L","RML","U/S Art.","2x2","1x2","1x1","U/S Art.",null,null,null,"4AWSC","--","--",0.66]
[null,null,null,"PDO",0.80313081270934106,0.80313081270934106,0.80313081270934106,0.80313081270934106,0.80313081270934106,"--","--","--","--","--","--",null,null,null,null,null,"3ST","--",0.56899999999999995,"--",0.64935064935064934,2,2,"--",null,null,"PDO","Intx","R2L","RML","U/S Art."]
[null,null,"Nexpected","Total",{"$f":"IF(ISNUMBER(E44),E47*E41+(1-E47)*IF($A$13,D13,D16),IF(ISNUMBER(E51),SUM(E51:E52),\"--\"))","v":0.44026736820260937},0.44026736820260937,0.44026736820260937,0.44026736820260937,0.44026736820260937,"--","--","--","--","--",{"$f":"IF(ISNUMBER(E44),SUM(E50:N50),\"--\")","v":2.2013368410130467},null,null,null,null,null,"3SG","--",1.1499999999999999,"--",0.5181347150259068,0.95238095238095233,0.95238095238095233,"--",null,null,null,"3AWSC","--","--",0.37]
[null,null,null,"Fatal/Injury",{"$f":"IF(ISNUMBER(E45),E48*E42+(1-E48)*IF($A$13,D14,D17),\"--\")","v":"--"},"--","--","--","--","--","--","--","--","--",{"$f":"IF(ISNUMBER(E45),SUM(E51:N51),\"--\")","v":"--"},null,null,null,null,null,"4ST","--",0.74199999999999999,"--",0.5988023952095809,0.53191489361702127,0.53191489361702127,"--",null,null,null,"4AWSC","--","--",0.78]
[null,null,null,"PDO",{"$f":"IF(ISNUMBER(E46),E49*E43+(1-E49)*IF($A$13,D15,D18),\"--\")","v":0.3645725690567756},0.3645725690567756,0.3645725690567756,0.3645725690567756,0.3645725690567756,"--","--","--","--","--",{"$f":"IF(ISNUMBER(E46),SUM(E52:N52),\"--\")","v":1.822862845283878},null,null,null,null,null,"4SG","--",0.218,"--",0.56497175141242939,1.3333333333333333,1.3333333333333333,"--"]
[null,null,"Nexpected / Npredicted",null,null,null,null,null,null,null,null,null,null,"Total",{"$f":"IF(AND(ISNUMBER(E41),ISNUMBER(E44)),O50/O41,1)","v":0.71382621066830387},null,null,null,null,"PDO","Intx","R2L","RML","U/S Art.","2x2","1x2","1x1","U/S Art."]
[null,null,null,null,null,null,null,null,null,null,null,null,null,"F/I",{"$f":"IF(AND(ISNUMBER(E42),ISNUMBER(E45)),O51/O42,1)","v":1},null,null,null,null,null,"3ST","--","--","--",0.74626865671641784,1.0309278350515465,1.0309278350515465,"--"]
[null,null,null,null,null,null,null,null,null,null,null,null,null,"PDO",{"$f":"IF(AND(ISNUMBER(E43),ISNUMBER(E46)),O52/O43,1)","v":0.80313081270934106},null,null,null,null,null,"3SG","--","--","--",1,0.9009009009009008,0.9009009009009008,"--"]
[null,"Multiple-Vehicle Only \n(When Applicable)","Year",null,{"$f":"D$12","v":2016},2017,2018,2019,2020,"--","--","--","--","--","Total",null,null,null,null,null,"4ST","--","--","--",1.1363636363636365,0.96153846153846145,0.96153846153846145,"--"]
[null,null,"Npredicted","Total",6.7948196239341687,{"$f":"IF(AND(ISNUMBER(E$12),ISNUMBER(E57)),E57,\"--\")","v":6.7948196239341687},6.7948196239341687,6.7948196239341687,6.7948196239341687,"--","--","--","--","--",{"$f":"IF(ISNUMBER(E60),SUM(E57:N57),\"--\")","v":33.974098119670842},null,null,null,null,null,"4SG","--","--","--",0.99009900990099009,2,2,"--"]
[null,null,null,"Fatal/Injury",2.7711370336976437,2.7711370336976437,2.7711370336976437,2.7711370336976437,2.7711370336976437,"--","--","--","--","--",{"$f":"IF(ISNUMBER(E61),SUM(E58:N58),\"--\")","v":13.855685168488218},null,null,null,"Single-Vehicle","Total","Intx","R2L","RML","U/S Art.","2x2","1x2","1x1","U/S Art."]
[null,null,null,"PDO",4.0236825902365245,4.0236825902365245,4.0236825902365245,4.0236825902365245,4.0236825902365245,"--","--","--","--","--",{"$f":"IF(ISNUMBER(E62),SUM(E59:N59),\"--\")","v":20.118412951182624},null,null,null,null,null,"3ST","--","--",1.1399999999999999,"--","--","--",0.69]
[null,null,"Dispersion Parameter (k)","Total",{"$f":"IF(OR(EB_Facility_Type=3,EB_Facility_Type=7),VLOOKUP(EB_Intx_Type,U74:AB77,EB_Facility_Type+1,FALSE),\"--\")","v":0.4},0.4,0.4,0.4,0.4,"--","--","--","--","--","--",null,null,null,null,null,"3SG","--","--",0.36,"--","--","--",0.56999999999999995]
[null,null,null,"Fatal/Injury",{"$f":"IF(OR(EB_Facility_Type=3,EB_Facility_Type=7),VLOOKUP(EB_Intx_Type,U79:AB82,EB_Facility_Type+1,FALSE),\"--\")","v":0.48},0.48,0.48,0.48,0.48,"--","--","--","--","--","--",null,null,null,null,null,"4ST","--","--",0.65,"--","--","--",1.1200000000000001]
[null,null,null,"PDO",{"$f":"IF(OR(EB_Facility_Type=3,EB_Facility_Type=7),VLOOKUP(EB_Intx_Type,U84:AB87,EB_Facility_Type+1,FALSE),\"--\")","v":0.4},0.4,0.4,0.4,0.4,"--","--","--","--","--","--",null,null,null,null,null,"4SG","--","--",0.36,"--","--","--",0.55000000000000004]
[null,null,"Weighted Adjustment (w)","Total",{"$f":"IF(ISNUMBER(E60),1/(1+E60*E57),\"--\")","v":0.26896702691922042},{"$f":"IF(ISNUMBER(F60),1/(1+F60*F57),\"--\")","v":0.26896702691922042},0.26896702691922042,0.26896702691922042,0.26896702691922042,"--","--","--","--","--","--",null,null,null,null,"Fatal / Injury","Intx","R2L","RML","U/S Art.","2x2","1x2","1x1","U/S Art."]
[null,null,null,"Fatal/Injury",{"$f":"IF(ISNUMBER(E61),1/(1+E61*E58),\"--\")","v":0.42915769915545127},0.42915769915545127,0.42915769915545127,0.42915769915545127,0.42915769915545127,"--","--","--","--","--","--",null,null,null,null,null,"3ST","--","--","--","--","--","--",2.1]
[null,null,null,"PDO",{"$f":"IF(ISNUMBER(E62),1/(1+E62*E59),\"--\")","v":0.38321913511573213},0.38321913511573213,0.38321913511573213,0.38321913511573213,0.38321913511573213,"--","--","--","--","--","--",null,null,null,null,null,"3SG","--","--",0.24,"--","--","--",1.04]
[null,null,"Nexpected","Total",{"$f":"IF(ISNUMBER(E60),E63*E57+(1-E63)*D19,IF(ISNUMBER(E67),SUM(E67:E68),\"--\"))","v":1.8275824327019488},1.8275824327019488,1.8275824327019488,1.8275824327019488,1.8275824327019488,"--","--","--","--","--",{"$f":"IF(ISNUMBER(E60),SUM(E66:N66),\"--\")","v":9.1379121635097444},null,null,null,null,null,"4ST","--","--","--","--","--","--",1.64]
[null,null,null,"Fatal/Injury",{"$f":"IF(ISNUMBER(E61),E64*E58+(1-E64)*D20,\"--\")","v":1.189254793426143},1.189254793426143,1.189254793426143,1.189254793426143,1.189254793426143,"--","--","--","--","--",{"$f":"IF(ISNUMBER(E61),SUM(E67:N67),\"--\")","v":5.9462739671307148},null,null,null,null,null,"4SG","--","--",0.09,"--","--","--",0.98]
[null,null,null,"PDO",1.5419521622106698,1.5419521622106698,1.5419521622106698,1.5419521622106698,1.5419521622106698,"--","--","--","--","--",{"$f":"IF(ISNUMBER(E62),SUM(E68:N68),\"--\")","v":7.7097608110533491},null,null,null,null,"PDO","Intx","R2L","RML","U/S Art.","2x2","1x2","1x1","U/S Art."]
[null,null,"Nexpected / Npredicted",null,null,null,null,null,null,null,null,null,null,"Total",{"$f":"IF(AND(ISNUMBER(E57),ISNUMBER(E60)),O66/O57,1)","v":0.26896702691922048},null,null,null,null,null,"3ST","--","--",0.28999999999999998,"--","--","--",0.75]
[null,null,null,null,null,null,null,null,null,null,null,null,null,"F/I",{"$f":"IF(AND(ISNUMBER(E58),ISNUMBER(E61)),O67/O58,1)","v":0.42915769915545127},null,null,null,null,null,"3SG","--","--",0.53,"--","--","--",0.74]
[null,null,null,null,null,null,null,null,null,null,null,null,null,"PDO",{"$f":"IF(AND(ISNUMBER(E59),ISNUMBER(E62)),O68/O59,1)","v":0.38321913511573213},null,null,null,null,null,"4ST","--","--",0.54,"--","--","--",1.4]
[null,"Vehicle-Pedestrian","Year",null,{"$f":"D$12","v":2016},2017,2018,2019,2020,"--","--","--","--","--","Total",null,null,null,null,null,"4SG","--","--",0.44,"--","--","--",0.84]
[null,null,"Npredicted","Fatal/Injury",null,{"$f":"IF(AND(ISNUMBER(E$12),ISNUMBER(E73)),E73,\"--\")","v":"--"},"--","--","--","--","--","--","--","--",{"$f":"IF(ISNUMBER(E76),SUM(E73:N73),\"--\")","v":"--"},null,null,null,"Multiple-Vehicle","Total","Intx","R2L","RML","U/S Art.","2x2","1x2","1x1","U/S Art."]
[null,null,"Disp. (k)","Fatal/Injury",{"$f":"IF(AND(EB_Facility_Type>=3,EB_Facility_Type<7),VLOOKUP(EB_Intx_Type,U89:AB92,EB_Facility_Type+1,FALSE),\"--\")","v":"--"},"--","--","--","--","--","--","--","--","--","--",null,null,null,null,null,"3ST","--","--",0.8,"--","--","--",0.85]
[null,null,"Weight (w)","Fatal/Injury",{"$f":"IF(ISNUMBER(E74),1/(1+E74*E73),\"--\")","v":"--"},"--","--","--","--","--","--","--","--","--","--",null,null,null,null,null,"3SG","--","--",0.33,"--","--","--",0.21]
[null,null,"Nexpected","Fatal/Injury",{"$f":"IF(ISNUMBER(E74),E75*E73+(1-E75)*D22,\"--\")","v":"--"},"--","--","--","--","--","--","--","--","--",{"$f":"IF(AND(ISNUMBER(NPred_Ped),ISNUMBER(E74)),SUM(E76:N76),\"--\")","v":"--"},null,null,null,null,null,"4ST","--","--",0.4,"--","--","--",0.91]
[null,null,"Nexpected / Npredicted",null,null,null,null,null,null,null,null,null,null,"F/I",{"$f":"IF(AND(ISNUMBER(E73),ISNUMBER(E74)),O76/O73,1)","v":1},null,null,null,null,null,"4SG","--","--",0.39,"--","--","--",0.39]
[null,"Vehicle-Bicylce","Year",null,{"$f":"D$12","v":2016},2017,2018,2019,2020,"--","--","--","--","--","Total",null,null,null,null,"Fatal / Injury","Intx","R2L","RML","U/S Art.","2x2","1x2","1x1","U/S Art."]
[null,null,"Npredicted","Fatal/Injury",0,{"$f":"IF(AND(ISNUMBER(E$12),ISNUMBER(E79)),E79,\"--\")","v":0},0,0,0,"--","--","--","--","--",{"$f":"IF(ISNUMBER(E82),SUM(E79:N79),\"--\")","v":"--"},null,null,null,null,null,"3ST","--","--",0.69,"--","--","--",0.76]
[null,null,"Disp. (k)","Fatal/Injury","--","--","--","--","--","--","--","--","--","--","--",null,null,null,null,null,"3SG","--","--",0.3,"--","--","--",0.09]
[null,null,"Weight (w)","Fatal/Injury",{"$f":"IF(ISNUMBER(E80),1/(1+E80*E79),\"--\")","v":"--"},"--","--","--","--","--","--","--","--","--","--",null,null,null,null,null,"4ST","--","--",0.48,"--","--","--",0.89]
[null,null,"Nexpected","Fatal/Injury",{"$f":"IF(ISNUMBER(E80),E81*E79+(1-E81)*E41,\"--\")","v":"--"},"--","--","--","--","--","--","--","--","--",{"$f":"IF(ISNUMBER(E80),SUM(E82:N82),\"--\")","v":"--"},null,null,null,null,null,"4SG","--","--",0.33,"--","--","--",0.31]
[null,null,"Nexpected / Npredicted",null,null,null,null,null,null,null,null,null,null,"F/I",{"$f":"IF(AND(ISNUMBER(E79),ISNUMBER(E80)),O82/O79,1)","v":1},null,null,null,null,"PDO","Intx","R2L","RML","U/S Art.","2x2","1x2","1x1","U/S Art."]
[null,null,null,null,null,null,null,null,null,null,null,null,null,null,null,null,null,null,null,null,"3ST","--","--",0.77,"--","--","--",1.1100000000000001]
[null,null,null,null,null,null,null,null,null,null,null,null,null,null,null,null,null,null,null,null,"3SG","--","--",0.36,"--","--","--",0.34]
[null,null,null,null,null,null,null,null,null,null,null,null,null,null,null,null,null,null,null,null,"4ST","--","--",0.4,"--","--","--",0.94]
[null,null,null,null,null,null,null,null,null,null,null,null,null,null,null,null,null,null,null,null,"4SG","--","--",0.44,"--","--","--",0.38]
[null,null,null,null,null,null,null,null,null,null,null,null,null,null,null,null,null,null,"Veh-Pedestrian","Fatal / Injury","Intx","R2L","RML","U/S Art.","2x2","1x2","1x1","U/S Art."]
[null,null,null,null,null,null,null,null,null,null,null,null,null,null,null,null,null,null,null,null,"3ST","--","--","--","--","--","--","--"]
[null,null,null,null,null,null,null,null,null,null,null,null,null,null,null,null,null,null,null,null,"3SG","--","--",0.52,0.52,0.52,0.52,"--"]
[null,null,null,null,null,null,null,null,null,null,null,null,null,null,null,null,null,null,null,null,"4ST","--","--","--","--","--","--","--"]
[null,null,null,null,null,null,null,null,null,null,null,null,null,null,null,null,null,null,null,null,"4SG","--","--",0.24,0.24,0.24,0.24,"--"]

{"sheet":"Results","index":19,"n_rows":52,"n_cols":27,"rows_kept":52,"cut":false,"hidden":false,"merged":[[13,0,13,7],[36,10,37,10],[46,10,47,10],[34,10,35,10],[28,10,29,10],[30,10,31,10],[32,10,33,10],[26,11,27,17],[28,11,29,17],[30,11,31,17],[32,11,33,17],[34,11,35,17],[36,11,37,17],[38,11,39,17],[20,7,21,7],[22,7,23,7],[28,7,29,7],[30,7,31,7],[32,7,33,7],[30,8,31,8],[34,0,35,0],[42,0,43,0],[44,0,45,0],[38,0,39,0],[48,10,49,10],[48,8,49,8],[48,9,49,9],[46,8,47,8],[46,0,47,0],[46,7,47,7],[46,9,47,9],[40,6,41,6],[40,7,41,7],[40,8,41,8],[40,9,41,9],[40,10,41,10],[44,10,45,10],[42,10,43,10],[42,9,43,9],[44,9,45,9],[42,8,43,8],[48,0,49,0],[46,5,47,5],[48,5,49,5],[48,6,49,6],[48,7,49,7],[46,6,47,6],[44,8,45,8],[44,6,45,6],[42,7,43,7],[44,7,45,7],[42,6,43,6],[26,5,27,5],[44,5,45,5],[28,5,29,5],[30,5,31,5],[32,5,33,5],[34,5,35,5],[42,5,43,5],[34,6,35,6],[34,7,35,7],[32,8,33,8],[32,9,33,9],[40,0,41,0],[40,5,41,5],[22,0,23,0],[24,0,25,0],[26,0,27,0],[30,0,31,0],[32,0,33,0],[22,5,23,5],[24,5,25,5],[28,0,29,0],[38,5,39,5],[24,9,25,9],[26,8,27,8],[38,6,39,6],[34,8,35,8],[38,7,39,7],[38,8,39,8],[36,0,37,0],[36,5,37,5],[38,9,39,9],[38,10,39,10],[36,7,37,7],[28,8,29,8],[28,9,29,9],[24,6,25,6],[26,6,27,6],[28,6,29,6],[14,1,15,1],[14,2,15,2],[14,3,15,3],[16,6,17,6],[20,10,21,10],[22,10,23,10],[24,10,25,10],[26,10,27,10],[26,9,27,9],[36,8,37,8],[36,9,37,9],[30,6,31,6],[32,6,33,6],[24,7,25,7],[26,7,27,7],[36,6,37,6],[30,9,31,9],[14,0,15,0],[16,0,17,0],[18,0,19,0],[22,9,23,9],[20,9,21,9],[18,9,19,9],[18,5,19,5],[14,5,15,5],[20,0,21,0],[20,5,21,5],[0,0,0,10],[1,0,1,10],[2,0,2,10],[3,0,3,10],[4,0,4,10],[10,1,10,3],[11,1,11,3],[12,1,12,3],[5,1,5,3],[6,1,6,3],[7,1,7,3],[8,1,8,3],[9,1,9,3],[5,8,5,10],[6,8,6,10],[5,4,5,7],[6,4,6,7],[7,4,7,7],[8,4,8,7],[9,4,9,7],[7,8,7,10],[8,8,8,10],[9,8,9,10],[10,8,10,10],[10,4,10,7],[11,4,11,7],[12,4,12,7],[20,6,21,6],[22,6,23,6],[20,8,21,8],[16,5,17,5],[34,9,35,9],[24,8,25,8],[22,8,23,8],[11,8,11,10],[12,8,12,10],[14,8,14,10],[16,10,17,10],[18,10,19,10],[14,6,15,6],[14,7,15,7],[16,8,17,8],[16,9,17,9],[16,7,17,7],[18,7,19,7],[18,6,19,6],[18,8,19,8],[14,4,15,4]]}
["Federal Highway Administration (FHWA)"]
["Safety Performance for Intersection Control Evaluation Tool"]
["Results",null,null,null,null,null,null,null,null,null,null,{"$f":"IF(OR(OR(ISBLANK('Control Strategy Selection'!D5),ISBLANK('Control Strategy Selection'!D13),ISBLANK('Control Strategy Selection'!D14)),IF('Control Strategy Selection'!D4=Label_AnalysisYearType_OpenAndDesign,OR(ISBLANK('Control Strategy Selection'!D6),ISBLANK('Control Strategy Selection'!D15),ISBLANK('Control Strategy Selection'!D16)),FALSE)),\"Please complete the Opening/Design Year Inputs and AADTs Before Viewing Results\",\"\")","v":""}]
["Summary of crash prediction results for each alternative"]
["Project Information"]
["Project Name:",{"$f":"IF(ISBLANK('Project Information'!B3:C3),\"\",'Project Information'!B3:C3)","v":""},null,null,"Intersection Type",null,null,null,{"$f":"'Control Strategy Selection'!D3","v":"At-Grade Intersection"}]
["Intersection:",{"$f":"IF(ISBLANK('Project Information'!B4:C4),\"\",'Project Information'!B4:C4)","v":""},null,null,"Opening Year",null,null,null,{"$f":"'Control Strategy Selection'!D5","v":2025}]
["Agency: ",{"$f":"IF(ISBLANK('Project Information'!B5:C5),\"\",'Project Information'!B5:C5)","v":""},null,null,"Design Year",null,null,null,{"$f":"'Control Strategy Selection'!D6","v":2045}]
["Project Reference:",{"$f":"IF(ISBLANK('Project Information'!B6:C6),\"\",'Project Information'!B6:C6)","v":""},null,null,"Facility Type",null,null,null,{"$f":"'Control Strategy Selection'!D8","v":"On Urban and Suburban Arterial"}]
["City:",{"$f":"IF(ISBLANK('Project Information'!B7:C7),\"\",'Project Information'!B7:C7)","v":""},null,null,"Number of Legs",null,null,null,{"$f":"'Control Strategy Selection'!D9","v":"4-leg"}]
["State:",{"$f":"IF(ISBLANK('Project Information'!B8:C8),\"\",'Project Information'!B8:C8)","v":""},null,null,"1-Way/2-Way",null,null,null,{"$f":"'Control Strategy Selection'!D10","v":"2-way Intersecting 2-way"}]
["Date:",{"$f":"IF(ISBLANK('Project Information'!B9:C9),\"\",'Project Information'!B9:C9)","v":""},null,null,"# of Major Street Lanes (both directions)",null,null,null,{"$f":"'Control Strategy Selection'!D11","v":"5 or fewer"}]
["Analyst:",{"$f":"IF(ISBLANK('Project Information'!B10:C10),\"\",'Project Information'!B10:C10)","v":""},null,null,"Major Street Approach Speed",null,null,null,{"$f":"'Control Strategy Selection'!D12","v":"Less than 55 mph"}]
["Crash Prediction Summary"]
["Control Strategy","Crash Type","Opening Year","Design Year","Total Project Life Cycle","Crash Prediction Rank","AADT Within SPF Prediction Range?","Source of Prediction","SSI Score",null,null,null,null,null,null,null,null,null,"Use Val (open vs design)",null,"Included","Total","FI",false]
[null,null,null,null,null,null,null,null,"Opening Year","Design Year","Rank"]
[{"$f":"Label_AGI_TrafficSignal","v":"Traffic Signal"},"Total",10.735398445895047,12.619044319881557,245.1622149699098,{"$f":"IF(OR(AND(ISNUMBER(C17),C17>0),AND(ISNUMBER(E17),E17>0)),AA17,\"--\")","v":10},{"$f":"IF(AND('Control Strategy Selection'!O19:P19),\"Yes\",\"No\")","v":"Yes"},"Calibrated SPF",{"$f":"IF(IsChecked_AGI_TrafficSignal,'SSI Results'!C13,\"\")","v":68.623130508053762},{"$f":"IF(IsChecked_AGI_TrafficSignal,'SSI Results'!C54,\"\")","v":63.110100809474048},{"$f":"IF(ISNUMBER(J17),_xlfn.RANK.EQ(J17,$J$17:$J$50),IF(ISNUMBER(I17),_xlfn.RANK.EQ(I17,$I$17:$I$50),\"--\"))","v":6},null,null,null,null,null,null,null,{"$f":"IF(Input_AnalysisYearType=Notes!$A$11,Results!C17,Results!E17)","v":245.1622149699098},{"$f":"IF(Input_AnalysisYearType=Notes!$A$11,Results!C18,Results!E18)","v":82.36126566597855},{"$f":"AND(IsChecked_AGI_TrafficSignal,ISNUMBER(S17))","v":true},{"$f":"IF(AND(S17>0,U17),S17,99999999999)","v":245.1622149699098},{"$f":"IF(AND(T17>0,U17),T17,99999999999)","v":82.36126566597855},{"$f":"RANK(V17,$V$17:$V$32,1)","v":9},{"$f":"RANK(W17,$W$17:$W$32,1)","v":10},{"$f":"IF($X$15,X17+0.01*Y17,Y17+0.01*X17)","v":10.09},{"$f":"RANK(Z17,$Z$17:$Z$32,1)","v":10}]
[null,"Fatal & Injury",3.5952945193322714,4.251624724238436,82.36126566597855,null,null,null,null,null,null,null,null,null,null,null,null,null,{"$f":"IF(Input_AnalysisYearType=Notes!$A$11,Results!C19,Results!E19)","v":162.2206563295407},{"$f":"IF(Input_AnalysisYearType=Notes!$A$11,Results!C20,Results!E20)","v":54.772029788946114},{"$f":"AND(IsChecked_AGI_TrafficSignal2,ISNUMBER(S18))","v":false},99999999999,99999999999,11,11,11.11,11]
[{"$f":"Label_AGI_TrafficSignal&\" (Alt)\"","v":"Traffic Signal (Alt)"},"Total",7.1041776026621379,8.3491118063408631,162.2206563295407,{"$f":"IF(OR(AND(ISNUMBER(C19),C19>0),AND(ISNUMBER(E19),E19>0)),AA18,\"--\")","v":11},{"$f":"IF(AND('Control Strategy Selection'!O20:P20),\"Yes\",\"No\")","v":"Yes"},"Calibrated SPF",{"$f":"IF(IsChecked_AGI_TrafficSignal2,'SSI Results'!C14,\"\")","v":""},{"$f":"IF(IsChecked_AGI_TrafficSignal2,'SSI Results'!C55,\"\")","v":""},{"$f":"IF(ISNUMBER(J19),_xlfn.RANK.EQ(J19,$J$17:$J$50),IF(ISNUMBER(I19),_xlfn.RANK.EQ(I19,$I$17:$I$50),\"--\"))","v":"--"},null,null,null,null,null,null,null,{"$f":"IF(Input_AnalysisYearType=Notes!$A$11,Results!C21,Results!E21)","v":50.858952250673276},{"$f":"IF(Input_AnalysisYearType=Notes!$A$11,Results!C22,Results!E22)","v":30.605841058385476},{"$f":"AND(IsChecked_AGI_MinorStop,ISNUMBER(S19))","v":true},50.858952250673276,30.605841058385476,1,4,4.01,4]
[null,"Fatal & Injury",2.3917090111307067,2.8266148732164034,54.772029788946114,null,null,null,null,null,null,null,null,null,null,null,null,null,{"$f":"IF(Input_AnalysisYearType=Notes!$A$11,Results!C23,Results!E23)","v":80.132100357229291},{"$f":"IF(Input_AnalysisYearType=Notes!$A$11,Results!C24,Results!E24)","v":28.900720337309021},{"$f":"AND(IsChecked_AGI_AllStop,ISNUMBER(S20))","v":true},80.132100357229291,28.900720337309021,3,3,3.03,3]
[{"$f":"Label_AGI_MinorStop","v":"Minor Road Stop"},"Total",2.2678498009045582,2.5750265845181328,50.858952250673276,{"$f":"IF(OR(AND(ISNUMBER(C21),C21>0),AND(ISNUMBER(E21),E21>0)),AA19,\"--\")","v":4},{"$f":"IF(AND('Control Strategy Selection'!O21:P21),\"Yes\",\"No\")","v":"No"},"Calibrated SPF w/ EB",{"$f":"IF(IsChecked_AGI_MinorStop,'SSI Results'!C15,\"\")","v":51.585624761846269},{"$f":"IF(IsChecked_AGI_MinorStop,'SSI Results'!C56,\"\")","v":45.059968551258969},{"$f":"IF(ISNUMBER(J21),_xlfn.RANK.EQ(J21,$J$17:$J$50),IF(ISNUMBER(I21),_xlfn.RANK.EQ(I21,$I$17:$I$50),\"--\"))","v":10},null,null,null,null,null,null,null,{"$f":"IF(Input_AnalysisYearType=Notes!$A$11,Results!C25,Results!E25)","v":62.75348942947155},{"$f":"IF(Input_AnalysisYearType=Notes!$A$11,Results!C26,Results!E26)","v":12.927628522644998},{"$f":"AND(IsChecked_AGI_Rdbt1Ln,ISNUMBER(S21))","v":true},62.75348942947155,12.927628522644998,2,1,1.02,1]
[null,"Fatal & Injury",1.3520866678745997,1.5628566315871903,30.605841058385476,null,null,null,null,null,null,null,null,null,null,null,null,null,{"$f":"IF(Input_AnalysisYearType=Notes!$A$11,Results!C27,Results!E27)","v":238.88034797443754},{"$f":"IF(Input_AnalysisYearType=Notes!$A$11,Results!C28,Results!E28)","v":43.023430813811935},{"$f":"AND(IsChecked_AGI_Rdbt2Ln,ISNUMBER(S22))","v":true},238.88034797443754,43.023430813811935,8,5,5.08,5]
[{"$f":"Label_AGI_AllStop","v":"All Way Stop"},"Total",3.5206127433516086,4.1102111360257494,80.132100357229291,{"$f":"IF(OR(AND(ISNUMBER(C23),C23>0),AND(ISNUMBER(E23),E23>0)),AA20,\"--\")","v":3},{"$f":"IF(AND('Control Strategy Selection'!O22:P22),\"Yes\",\"No\")","v":"No"},{"$f":"IF(AND(ISNUMBER(Historical!N13), Historical!N13 > 0), \"Uncalibrated SPF w/ EB\", \"Uncalibrated SPF\")","v":"Uncalibrated SPF"},{"$f":"IF(IsChecked_AGI_AllStop,'SSI Results'!C16,\"\")","v":84.602560838647165},{"$f":"IF(IsChecked_AGI_AllStop,'SSI Results'!C57,\"\")","v":81.698784286248355},{"$f":"IF(ISNUMBER(J23),_xlfn.RANK.EQ(J23,$J$17:$J$50),IF(ISNUMBER(I23),_xlfn.RANK.EQ(I23,$I$17:$I$50),\"--\"))","v":3},null,null,null,null,null,null,null,{"$f":"IF(Input_AnalysisYearType=Notes!$A$11,Results!C29,Results!E29)","v":215.74274917352062},{"$f":"IF(Input_AnalysisYearType=Notes!$A$11,Results!C30,Results!E30)","v":72.477913786061123},{"$f":"AND(IsChecked_AGI_DLT,ISNUMBER(S23))","v":true},215.74274917352062,72.477913786061123,6,9,9.06,9]
[null,"Fatal & Injury",1.2615047247642743,1.4913685428744143,28.900720337309021,null,null,null,null,null,null,null,null,null,null,null,null,null,{"$f":"IF(Input_AnalysisYearType=Notes!$A$11,Results!C31,Results!E31)","v":208.38788272442326},{"$f":"IF(Input_AnalysisYearType=Notes!$A$11,Results!C32,Results!E32)","v":57.652885966184982},{"$f":"AND(IsChecked_AGI_MUT,ISNUMBER(S24))","v":true},208.38788272442326,57.652885966184982,5,6,6.05,6]
[{"$f":"Label_AGI_1LnRdbt","v":"1-lane Roundabout"},"Total",2.8281061369506868,3.1466551538771439,62.75348942947155,{"$f":"IF(OR(AND(ISNUMBER(C25),C25>0),AND(ISNUMBER(E25),E25>0)),AA21,\"--\")","v":1},{"$f":"IF(AND('Control Strategy Selection'!O23:P23),\"Yes\",\"No\")","v":"No"},"Uncalibrated SPF",{"$f":"IF(IsChecked_AGI_Rdbt1Ln,'SSI Results'!C17,\"\")","v":92.653852508163794},{"$f":"IF(IsChecked_AGI_Rdbt1Ln,'SSI Results'!C58,\"\")","v":91.464412741221764},{"$f":"IF(ISNUMBER(J25),_xlfn.RANK.EQ(J25,$J$17:$J$50),IF(ISNUMBER(I25),_xlfn.RANK.EQ(I25,$I$17:$I$50),\"--\"))","v":1},null,null,null,null,null,null,null,{"$f":"IF(Input_AnalysisYearType=Notes!$A$11,Results!C33,Results!E33)","v":258.91202397901611},{"$f":"IF(Input_AnalysisYearType=Notes!$A$11,Results!C34,Results!E34)","v":59.885267058718057},{"$f":"AND(IsChecked_AGI_RCUTSig,ISNUMBER(S25))","v":true},258.91202397901611,59.885267058718057,10,7,7.1,7]
[null,"Fatal & Injury",0.57528387307272533,0.65576394431529783,12.927628522644998,null,null,null,null,null,null,null,null,null,null,null,null,null,{"$f":"IF(Input_AnalysisYearType=Notes!$A$11,Results!C35,Results!E35)","v":100.71562570623493},{"$f":"IF(Input_AnalysisYearType=Notes!$A$11,Results!C36,Results!E36)","v":20.720995425221364},{"$f":"AND(IsChecked_AGI_RCUTUnsig,ISNUMBER(S26))","v":true},100.71562570623493,20.720995425221364,4,2,2.04,2]
[{"$f":"Label_AGI_2LnRdbt","v":"2-lane Roundabout"},"Total",10.438748452636755,12.318561188954185,238.88034797443754,{"$f":"IF(OR(AND(ISNUMBER(C27),C27>0),AND(ISNUMBER(E27),E27>0)),AA22,\"--\")","v":5},{"$f":"IF(AND('Control Strategy Selection'!O24:P24),\"Yes\",\"No\")","v":"Yes"},"Uncalibrated SPF",{"$f":"IF(IsChecked_AGI_Rdbt2Ln,'SSI Results'!C19,\"\")","v":85.858035452770324},{"$f":"IF(IsChecked_AGI_Rdbt2Ln,'SSI Results'!C60,\"\")","v":83.671760377342395},{"$f":"IF(ISNUMBER(J27),_xlfn.RANK.EQ(J27,$J$17:$J$50),IF(ISNUMBER(I27),_xlfn.RANK.EQ(I27,$I$17:$I$50),\"--\"))","v":2},{"$f":"IF(AND('Control Strategy Selection'!B24=\"Yes\",'SSI Inputs'!$K$6=\"No\"),\"Warning--Major road median presence set to NO in SSI Input tab Sheet, but design requires median presence. Analysis assumes Median present.\",\"\")","v":"Warning--Major road median presence set to NO in SSI Input tab Sheet, but design requires median presence. Analysis assumes Median present."},null,null,null,null,null,null,{"$f":"IF(Input_AnalysisYearType=Notes!$A$11,Results!C37,Results!E37)","v":0},{"$f":"IF(Input_AnalysisYearType=Notes!$A$11,Results!C38,Results!E38)","v":0},{"$f":"AND(IsChecked_AGI_SigThruCut,ISNUMBER(S27))","v":false},99999999999,99999999999,11,11,11.11,11]
[null,"Fatal & Injury",1.8632665974125493,2.2365351471200081,43.023430813811935,null,null,null,null,null,null,null,null,null,null,null,null,null,{"$f":"IF(Input_AnalysisYearType=Notes!$A$11,Results!C39,Results!E39)","v":0},{"$f":"IF(Input_AnalysisYearType=Notes!$A$11,Results!C40,Results!E40)","v":0},{"$f":"AND(IsChecked_AGI_UnsigThruCut,ISNUMBER(S28))","v":false},99999999999,99999999999,11,11,11.11,11]
[{"$f":"Label_AGI_DLT","v":"Displaced Left Turn (DLT)"},"Total",9.4471506323876415,11.10475900149577,215.74274917352062,{"$f":"IF(OR(AND(ISNUMBER(C29),C29>0),AND(ISNUMBER(E29),E29>0)),AA23,\"--\")","v":9},"N/A","CMF",{"$f":"IF(IsChecked_AGI_DLT,'SSI Results'!C21,\"\")","v":51.011756725457793},{"$f":"IF(IsChecked_AGI_DLT,'SSI Results'!C62,\"\")","v":45.278854762495115},{"$f":"IF(ISNUMBER(J29),_xlfn.RANK.EQ(J29,$J$17:$J$50),IF(ISNUMBER(I29),_xlfn.RANK.EQ(I29,$I$17:$I$50),\"--\"))","v":9},{"$f":"IF(AND('Control Strategy Selection'!B25=\"Yes\",'SSI Inputs'!$K$6=\"No\"),\"Warning--Major road median presence set to NO in SSI Input tab Sheet, but design requires median presence. Analysis assumes Median present.\",\"\")","v":"Warning--Major road median presence set to NO in SSI Input tab Sheet, but design requires median presence. Analysis assumes Median present."},null,null,null,null,null,null,{"$f":"IF(Input_AnalysisYearType=Notes!$A$11,Results!C41,Results!E41)","v":0},{"$f":"IF(Input_AnalysisYearType=Notes!$A$11,Results!C42,Results!E42)","v":0},{"$f":"AND(IsChecked_AGI_GreenT,ISNUMBER(S29))","v":false},{"$f":"IF(AND(S29>0,U29),S29,99999999999)","v":99999999999},{"$f":"IF(AND(T29>0,U29),T29,99999999999)","v":99999999999},11,11,{"$f":"IF($X$15,X29+0.01*Y29,Y29+0.01*X29)","v":11.11},11]
[null,"Fatal & Injury",3.1638591770123989,3.7414297573298239,72.477913786061123,null,null,null,null,null,null,null,null,null,null,null,null,null,{"$f":"IF(Input_AnalysisYearType=Notes!$A$11,Results!C43,Results!E43)","v":235.35572637111338},{"$f":"IF(Input_AnalysisYearType=Notes!$A$11,Results!C44,Results!E44)","v":70.007075816081766},{"$f":"AND(IsChecked_AGI_Jughandle,ISNUMBER(S30))","v":true},{"$f":"IF(AND(S30>0,U30),S30,99999999999)","v":235.35572637111338},{"$f":"IF(AND(T30>0,U30),T30,99999999999)","v":70.007075816081766},7,8,{"$f":"IF($X$15,X30+0.01*Y30,Y30+0.01*X30)","v":8.07},8]
[{"$f":"Label_AGI_MUT","v":"Median U-Turn (MUT)"},"Total",9.1250886790107906,10.726187671899323,208.38788272442326,{"$f":"IF(OR(AND(ISNUMBER(C31),C31>0),AND(ISNUMBER(E31),E31>0)),AA24,\"--\")","v":6},"N/A","CMF",{"$f":"IF(IsChecked_AGI_MUT,'SSI Results'!C22,\"\")","v":82.047087385610098},{"$f":"IF(IsChecked_AGI_MUT,'SSI Results'!C63,\"\")","v":78.404414467159825},{"$f":"IF(ISNUMBER(J31),_xlfn.RANK.EQ(J31,$J$17:$J$50),IF(ISNUMBER(I31),_xlfn.RANK.EQ(I31,$I$17:$I$50),\"--\"))","v":4},{"$f":"IF(AND('Control Strategy Selection'!B26=\"Yes\",'SSI Inputs'!$K$6=\"No\"),\"Warning--Major road median presence set to NO in SSI Input tab Sheet, but design requires median presence. Analysis assumes Median present.\",\"\")","v":"Warning--Major road median presence set to NO in SSI Input tab Sheet, but design requires median presence. Analysis assumes Median present."},null,null,null,null,null,null,{"$f":"IF(Input_AnalysisYearType=Notes!$A$11,Results!C45,Results!E45)","v":181.42003907773324},{"$f":"IF(Input_AnalysisYearType=Notes!$A$11,Results!C46,Results!E46)","v":60.947336592824129},{"$f":"AND(IsChecked_AGI_Other1,ISNUMBER(S31))","v":false},{"$f":"IF(AND(S31>0,U31),S31,99999999999)","v":99999999999},{"$f":"IF(AND(T31>0,U31),T31,99999999999)","v":99999999999},11,11,{"$f":"IF($X$15,X31+0.01*Y31,Y31+0.01*X31)","v":11.11},11]
[null,"Fatal & Injury",2.5167061635325898,2.9761373069669048,57.652885966184982,null,null,null,null,null,null,null,null,null,null,null,null,null,{"$f":"IF(Input_AnalysisYearType=Notes!$A$11,Results!C47,Results!E47)","v":0},{"$f":"IF(Input_AnalysisYearType=Notes!$A$11,Results!C48,Results!E48)","v":0},{"$f":"AND(IsChecked_AGI_Other2,ISNUMBER(S32))","v":false},{"$f":"IF(AND(S32>0,U32),S32,99999999999)","v":99999999999},{"$f":"IF(AND(T32>0,U32),T32,99999999999)","v":99999999999},11,11,11.11,11]
[{"$f":"Label_AGI_RCUTSig","v":"Signalized RCUT"},"Total",11.031430008597711,13.649291821353575,258.91202397901611,{"$f":"IF(OR(AND(ISNUMBER(C33),C33>0),AND(ISNUMBER(E33),E33>0)),AA25,\"--\")","v":7},{"$f":"IF(OR(NOT(AND('Control Strategy Selection'!O27:P27)),NOT(AND(Range_SRCUT_OAADT_Ratio,Range_SRCUT_DAADT_Ratio))),\"No\",\"Yes\")","v":"Yes"},"Uncalibrated SPF",{"$f":"IF(IsChecked_AGI_RCUTSig,'SSI Results'!C23,\"\")","v":79.612476029944773},{"$f":"IF(IsChecked_AGI_RCUTSig,'SSI Results'!C64,\"\")","v":76.172050260341734},{"$f":"IF(ISNUMBER(J33),_xlfn.RANK.EQ(J33,$J$17:$J$50),IF(ISNUMBER(I33),_xlfn.RANK.EQ(I33,$I$17:$I$50),\"--\"))","v":5},{"$f":"IF(AND('Control Strategy Selection'!B27=\"Yes\",'SSI Inputs'!$K$6=\"No\"),\"Warning--Major road median presence set to NO in SSI Input tab Sheet, but design requires median presence. Analysis assumes Median present.\",\"\")","v":"Warning--Major road median presence set to NO in SSI Input tab Sheet, but design requires median presence. Analysis assumes Median present."}]
[null,"Fatal & Injury",2.5097550327364768,3.2017830883408602,59.885267058718057]
[{"$f":"Label_AGI_RCUTUnsig","v":"Unsignalized RCUT"},"Total",4.5077243209025122,5.0819379952261521,100.71562570623493,{"$f":"IF(OR(AND(ISNUMBER(C35),C35>0),AND(ISNUMBER(E35),E35>0)),AA26,\"--\")","v":2},{"$f":"IF(AND('Control Strategy Selection'!O28:P28),\"Yes\",\"No\")","v":"Yes"},"Uncalibrated SPF",{"$f":"IF(IsChecked_AGI_RCUTUnsig,'SSI Results'!C24,\"\")","v":66.819373836624123},{"$f":"IF(IsChecked_AGI_RCUTUnsig,'SSI Results'!C65,\"\")","v":62.133890081913876},{"$f":"IF(ISNUMBER(J35),_xlfn.RANK.EQ(J35,$J$17:$J$50),IF(ISNUMBER(I35),_xlfn.RANK.EQ(I35,$I$17:$I$50),\"--\"))","v":7},{"$f":"IF(AND('Control Strategy Selection'!B28=\"Yes\",'SSI Inputs'!$K$6=\"No\"),\"Warning--Major road median presence set to NO in SSI Input tab Sheet, but design requires median presence. Analysis assumes Median present.\",\"\")","v":"Warning--Major road median presence set to NO in SSI Input tab Sheet, but design requires median presence. Analysis assumes Median present."}]
[null,"Fatal & Injury",0.9384153296591492,1.0342631764789258,20.720995425221364]
["Signalized Thru-Cut","Total",0,0,0,{"$f":"IF(OR(AND(ISNUMBER(C37),C37>0),AND(ISNUMBER(E37),E37>0)),AA27,\"--\")","v":"--"},"N/A","N/A",{"$f":"IF(IsChecked_AGI_SigThruCut,'SSI Results'!C25,\"\")","v":""},{"$f":"IF(IsChecked_AGI_SigThruCut,'SSI Results'!C66,\"\")","v":""},{"$f":"IF(ISNUMBER(J37),_xlfn.RANK.EQ(J37,$J$17:$J$50),IF(ISNUMBER(I37),_xlfn.RANK.EQ(I37,$I$17:$I$50),\"--\"))","v":"--"},{"$f":"IF(AND('Control Strategy Selection'!B29=\"Yes\",'SSI Inputs'!$K$6=\"No\"),\"Warning--Major road median presence set to NO in SSI Input tab Sheet, but design requires median presence. Analysis assumes Median present.\",\"\")","v":""}]
[null,"Fatal & Injury",0,0,0]
["Unsignalized Thru-Cut","Total",0,0,0,{"$f":"IF(OR(AND(ISNUMBER(C39),C39>0),AND(ISNUMBER(E39),E39>0)),AA28,\"--\")","v":"--"},"N/A","N/A",{"$f":"IF(IsChecked_AGI_UnsigThruCut,'SSI Results'!C26,\"\")","v":""},{"$f":"IF(IsChecked_AGI_UnsigThruCut,'SSI Results'!C67,\"\")","v":""},{"$f":"IF(ISNUMBER(J39),_xlfn.RANK.EQ(J39,$J$17:$J$50),IF(ISNUMBER(I39),_xlfn.RANK.EQ(I39,$I$17:$I$50),\"--\"))","v":"--"},{"$f":"IF(AND('Control Strategy Selection'!B30=\"Yes\",'SSI Inputs'!$K$6=\"No\"),\"Warning--Major road median presence set to NO in SSI Input tab Sheet, but design requires median presence. Analysis assumes Median present.\",\"\")","v":""}]
[null,"Fatal & Injury",0,0,0]
["Bowtie","Total",0,0,0,{"$f":"IF(OR(AND(ISNUMBER(C41),C41>0),AND(ISNUMBER(E41),E41>0)),AA30,\"--\")","v":"--"},"N/A","N/A",{"$f":"IF(IsChecked_AGI_Bowtie,'SSI Results'!C29,\"\")","v":""},{"$f":"IF(IsChecked_AGI_Bowtie,'SSI Results'!C70,\"\")","v":""},"--"]
[null,"Fatal & Injury",0,0,0]
[{"$f":"Label_AGI_GreenT","v":"Continuous Green-T Intersection"},"Total",10.305982508059245,12.114282547086294,235.35572637111338,{"$f":"IF(OR(AND(ISNUMBER(C43),C43>0),AND(ISNUMBER(E43),E43>0)),AA29,\"--\")","v":11},"N/A","CMF",{"$f":"IF(IsChecked_AGI_GreenT,'SSI Results'!C27,\"\")","v":""},{"$f":"IF(IsChecked_AGI_GreenT,'SSI Results'!C68,\"\")","v":""},{"$f":"IF(ISNUMBER(J43),_xlfn.RANK.EQ(J43,$J$17:$J$50),IF(ISNUMBER(I43),_xlfn.RANK.EQ(I43,$I$17:$I$50),\"--\"))","v":"--"}]
[null,"Fatal & Injury",3.0560003414324308,3.6138810156026704,70.007075816081766]
[{"$f":"Label_AGI_Jughandle","v":"Jughandle"},"Total",7.9441948499623347,9.3380927967123508,181.42003907773324,{"$f":"IF(OR(AND(ISNUMBER(C45),C45>0),AND(ISNUMBER(E45),E45>0)),AA30,\"--\")","v":8},"N/A","CMF",{"$f":"IF(IsChecked_AGI_Jughandle,'SSI Results'!C28,\"\")","v":67.474258348865618},{"$f":"IF(IsChecked_AGI_Jughandle,'SSI Results'!C69,\"\")","v":61.827692225551282},{"$f":"IF(ISNUMBER(J45),_xlfn.RANK.EQ(J45,$J$17:$J$50),IF(ISNUMBER(I45),_xlfn.RANK.EQ(I45,$I$17:$I$50),\"--\"))","v":8}]
[null,"Fatal & Injury",2.6605179443058806,3.1462022959364426,60.947336592824129]
[{"$f":"Label_AGI_Other1","v":"Other 1*"},"Total",0,0,0,{"$f":"IF(OR(AND(ISNUMBER(C47),C47>0),AND(ISNUMBER(E47),E47>0)),AA31,\"--\")","v":"--"},"N/A","CMF","--","--",{"$f":"IF(ISNUMBER(J47),_xlfn.RANK.EQ(J47,$J$17:$J$50),IF(ISNUMBER(I47),_xlfn.RANK.EQ(I47,$I$17:$I$50),\"--\"))","v":"--"}]
[null,"Fatal & Injury",0,0,0]
[{"$f":"Label_AGI_Other2","v":"Other 2*"},"Total",0,0,0,{"$f":"IF(OR(AND(ISNUMBER(C49),C49>0),AND(ISNUMBER(E49),E49>0)),AA32,\"--\")","v":"--"},"N/A","CMF","--","--",{"$f":"IF(ISNUMBER(J49),_xlfn.RANK.EQ(J49,$J$17:$J$50),IF(ISNUMBER(I49),_xlfn.RANK.EQ(I49,$I$17:$I$50),\"--\"))","v":"--"}]
[null,"Fatal & Injury",0,0,0]
[null,null,null,"--","--"]
[null,null,null,"--","--"]

{"sheet":"SSI Results","index":20,"n_rows":71,"n_cols":25,"rows_kept":71,"cut":false,"hidden":false,"merged":[[51,15,51,18],[8,0,9,6],[49,0,50,6],[51,0,52,0],[51,2,52,2],[51,3,51,6],[51,7,51,10],[51,11,51,14],[51,1,52,1],[0,0,0,18],[1,0,1,18],[2,0,2,18],[3,0,3,18],[10,7,10,10],[10,11,10,14],[10,15,10,18],[10,3,10,6],[10,2,11,2],[10,0,11,0],[5,0,6,0],[5,1,6,3],[5,4,6,5],[10,1,11,1]]}
["Federal Highway Administration (FHWA)",null,null,null,null,null,null,null,null,null,null,null,null,null,null,null,null,null,null,null,"Is 3L?",{"$f":"Input_NumLegs=Notes!$A$48","v":false},null,"Score_O",{"$f":"IF($V$1,\"SSI_AGI_3L_ResultsRange_Score_O\", \"SSI_AGI_4L_ResultsRange_Score_O\")","v":"SSI_AGI_4L_ResultsRange_Score_O"}]
["Safety Performance for Intersection Control Evaluation Tool",null,null,null,null,null,null,null,null,null,null,null,null,null,null,null,null,null,null,null,"is 2x2?",{"$f":"AND(AND(Input_AGI_R2_CL_L1=2,Input_AGI_R2_CL_L2=2,Input_AGI_R2_CL_L3=2),IF($V$1,TRUE,Input_AGI_R2_CL_L4=2))","v":true},null,"Score_D",{"$f":"IF($V$1,\"SSI_AGI_3L_ResultsRange_Score_D\", \"SSI_AGI_4L_ResultsRange_Score_D\")","v":"SSI_AGI_4L_ResultsRange_Score_D"}]
["Safe System Intersection (SSI) Results",null,null,null,null,null,null,null,null,null,null,null,null,null,null,null,null,null,null,null,null,null,null,"Exp_O",{"$f":"IF($V$1,\"SSI_AGI_3L_ResultsRange_Exposure_O\", \"SSI_AGI_4L_ResultsRange_Exposure_O\")","v":"SSI_AGI_4L_ResultsRange_Exposure_O"}]
["Summary of the safe system intersection results for each alternative",null,null,null,null,null,null,null,null,null,null,null,null,null,null,null,null,null,null,null,null,null,null,"Exp_D",{"$f":"IF($V$1,\"SSI_AGI_3L_ResultsRange_Exposure_D\", \"SSI_AGI_4L_ResultsRange_Exposure_D\")","v":"SSI_AGI_4L_ResultsRange_Exposure_D"}]
[null,null,null,null,null,null,null,null,null,null,null,null,null,null,null,null,null,null,null,null,null,null,null,"ExistExp_O",{"$f":"IF($V$1,\"SSI_AGI_3L_ResultsRange_ExistExp_O\", \"SSI_AGI_4L_ResultsRange_ExistExp_O\")","v":"SSI_AGI_4L_ResultsRange_ExistExp_O"}]
["Conversion of Existing Intersection Type:","Traffic Signal",null,null,"Select from Dropdown List",null,null,null,null,null,null,null,null,null,null,null,null,null,null,null,null,null,null,"ExistExp_D",{"$f":"IF($V$1,\"SSI_AGI_3L_ResultsRange_ExistExp_D\", \"SSI_AGI_4L_ResultsRange_ExistExp_D\")","v":"SSI_AGI_4L_ResultsRange_ExistExp_D"}]
[null,null,null,null,null,null,null,null,null,null,null,null,null,null,null,null,null,null,null,null,null,null,null,"AvgPFSI_O",{"$f":"IF($V$1,\"SSI_AGI_3L_ResultsRange_AvgPFSI_O\",\"SSI_AGI_4L_ResultsRange_AvgPFSI_O\")","v":"SSI_AGI_4L_ResultsRange_AvgPFSI_O"}]
[null,null,null,null,null,null,null,null,null,null,null,null,null,null,null,null,null,null,null,null,null,null,null,"AvgPFSI_D",{"$f":"IF($V$1,\"SSI_AGI_3L_ResultsRange_AvgPFSI_D\",\"SSI_AGI_4L_ResultsRange_AvgPFSI_D\")","v":"SSI_AGI_4L_ResultsRange_AvgPFSI_D"}]
["Opening Year Results",null,null,null,null,null,null,null,null,null,null,null,null,null,null,null,null,null,null,null,null,null,null,"AvgComp_O",{"$f":"IF($V$1,\"SSI_AGI_3L_ResultsRange_AvgComp_O\",\"SSI_AGI_4L_ResultsRange_AvgComp_O\")","v":"SSI_AGI_4L_ResultsRange_AvgComp_O"}]
[null,null,null,null,null,null,null,null,null,null,null,null,null,null,null,null,null,null,null,null,null,null,null,"AvgComp_D",{"$f":"IF($V$1,\"SSI_AGI_3L_ResultsRange_AvgComp_D\",\"SSI_AGI_4L_ResultsRange_AvgComp_D\")","v":"SSI_AGI_4L_ResultsRange_AvgComp_D"}]
["Control Strategy","SSI Ref Worksheet Name","SSI Score","SSI Conflict Type Score",null,null,null,"Exposure (Relative to Existing)",null,null,null,"Average P(FSI)",null,null,null,"Average Complexity"]
[null,null,null,"Nonmotorized","Crossing","Merging","Diverging","Nonmotorized","Crossing","Merging","Diverging","Nonmotorized","Crossing","Merging","Diverging","Nonmotorized","Crossing","Merging","Diverging",null,null,null,null,"3L","4L"]
["Traffic Signal",{"$f":"IF($V$1,X13,Y13)","v":"Trad_Sig"},{"$f":"IF($B13=\"--\",\"--\",HLOOKUP($B13,INDIRECT($Y$1),6,FALSE)*100)","v":68.623130508053762},{"$f":"IF($B13=\"--\",\"--\",HLOOKUP($B13,INDIRECT($Y$1),5,FALSE)*100)","v":42.067608999578603},{"$f":"IF($B13=\"--\",\"--\",HLOOKUP($B13,INDIRECT($Y$1),2,FALSE)*100)","v":54.864286530229393},{"$f":"IF($B13=\"--\",\"--\",HLOOKUP($B13,INDIRECT($Y$1),3,FALSE)*100)","v":97.039348484194221},{"$f":"IF($B13=\"--\",\"--\",HLOOKUP($B13,INDIRECT($Y$1),4,FALSE)*100)","v":99.01401424582744},{"$f":"IF($B13=\"--\",\"--\",HLOOKUP($B13,INDIRECT($Y$3),5,FALSE)/VLOOKUP(H$12,INDIRECT($Y$5),2,FALSE))","v":1},{"$f":"IF($B13=\"--\",\"--\",HLOOKUP($B13,INDIRECT($Y$3),2,FALSE)/VLOOKUP(I$12,INDIRECT($Y$5),2,FALSE))","v":1},{"$f":"IF($B13=\"--\",\"--\",HLOOKUP($B13,INDIRECT($Y$3),3,FALSE)/VLOOKUP(J$12,INDIRECT($Y$5),2,FALSE))","v":1},{"$f":"IF($B13=\"--\",\"--\",HLOOKUP($B13,INDIRECT($Y$3),4,FALSE)/VLOOKUP(K$12,INDIRECT($Y$5),2,FALSE))","v":1},{"$f":"IF($B13=\"--\",\"--\",HLOOKUP($B13,INDIRECT($Y$7),5,FALSE))","v":0.28891209057648393},{"$f":"IF($B13=\"--\",\"--\",HLOOKUP($B13,INDIRECT($Y$7),2,FALSE))","v":3.9374842505356146E-2},{"$f":"IF($B13=\"--\",\"--\",HLOOKUP($B13,INDIRECT($Y$7),3,FALSE))","v":6.0963748238522207E-3},{"$f":"IF($B13=\"--\",\"--\",HLOOKUP($B13,INDIRECT($Y$7),4,FALSE))","v":2.6637756817828712E-3},{"$f":"IF($B13=\"--\",\"--\",HLOOKUP($B13,INDIRECT($Y$9),5,FALSE))","v":2.4197916666666655},{"$f":"IF($B13=\"--\",\"--\",HLOOKUP($B13,INDIRECT($Y$9),2,FALSE))","v":1.7359375000000004},{"$f":"IF($B13=\"--\",\"--\",HLOOKUP($B13,INDIRECT($Y$9),3,FALSE))","v":1.5255208333333334},{"$f":"IF($B13=\"--\",\"--\",HLOOKUP($B13,INDIRECT($Y$9),4,FALSE))","v":1},null,null,null,null,"TradT_Sig","Trad_Sig"]
["Traffic Signal (Alt)","Trad_Sig",68.623130508053762,42.067608999578603,54.864286530229393,97.039348484194221,99.01401424582744,{"$f":"IF($B14=\"--\",\"--\",HLOOKUP($B14,INDIRECT($Y$3),5,FALSE)/VLOOKUP(H$12,INDIRECT($Y$5),2,FALSE))","v":1},{"$f":"IF($B14=\"--\",\"--\",HLOOKUP($B14,INDIRECT($Y$3),2,FALSE)/VLOOKUP(I$12,INDIRECT($Y$5),2,FALSE))","v":1},{"$f":"IF($B14=\"--\",\"--\",HLOOKUP($B14,INDIRECT($Y$3),3,FALSE)/VLOOKUP(J$12,INDIRECT($Y$5),2,FALSE))","v":1},{"$f":"IF($B14=\"--\",\"--\",HLOOKUP($B14,INDIRECT($Y$3),4,FALSE)/VLOOKUP(K$12,INDIRECT($Y$5),2,FALSE))","v":1},{"$f":"IF($B14=\"--\",\"--\",HLOOKUP($B14,INDIRECT($Y$7),5,FALSE))","v":0.28891209057648393},{"$f":"IF($B14=\"--\",\"--\",HLOOKUP($B14,INDIRECT($Y$7),2,FALSE))","v":3.9374842505356146E-2},{"$f":"IF($B14=\"--\",\"--\",HLOOKUP($B14,INDIRECT($Y$7),3,FALSE))","v":6.0963748238522207E-3},{"$f":"IF($B14=\"--\",\"--\",HLOOKUP($B14,INDIRECT($Y$7),4,FALSE))","v":2.6637756817828712E-3},{"$f":"IF($B14=\"--\",\"--\",HLOOKUP($B14,INDIRECT($Y$9),5,FALSE))","v":2.4197916666666655},{"$f":"IF($B14=\"--\",\"--\",HLOOKUP($B14,INDIRECT($Y$9),2,FALSE))","v":1.7359375000000004},{"$f":"IF($B14=\"--\",\"--\",HLOOKUP($B14,INDIRECT($Y$9),3,FALSE))","v":1.5255208333333334},{"$f":"IF($B14=\"--\",\"--\",HLOOKUP($B14,INDIRECT($Y$9),4,FALSE))","v":1},null,null,null,null,"TradT_Sig","Trad_Sig"]
["Minor Road Stop","Trad_MinorStop",51.585624761846269,18.946436129134803,39.412028133139842,95.777125016932644,99.01401424582744,1,1,1,1,{"$f":"IF($B15=\"--\",\"--\",HLOOKUP($B15,INDIRECT($Y$7),5,FALSE))","v":0.28891209057648393},3.7725641189214877E-2,6.0963748238522207E-3,2.6637756817828712E-3,4.1423611111111116,2.5494791666666665,2.190104166666667,1,null,null,null,null,"TradT_MRSC","Trad_MinorStop"]
["All Way Stop","Trad_AllSTop",84.602560838647165,61.304232230844633,84.113248931249288,99.352771614207029,99.999811814375846,1,1,1,1,0.18722320043153562,1.0895928064475997E-2,1.0817075175764881E-3,6.4061388075216071E-7,3.4739583333333344,2.4921875,2.190104166666667,1,null,null,null,null,"TradT_AWSC","Trad_AllSTop"]
["1-Lane Roundabout","RAB1x1",92.653852508163794,75.456383338557146,97.960398867598414,99.712028458844898,99.990754575630959,0.99999999999999978,1.0182814717327691,1.3452008789550252,1.3211867094275238,0.33487358968598979,4.1698027385763141E-3,1.374463454784178E-3,2.2045008701330221E-5,1.2222222222222223,0.61111111111111105,0.61111111111111105,1,null,null,null,null,"T_1x1_RAB","RAB1x1"]
["Mixed Lane Roundabout",0,{"$error":"#N/A"},{"$error":"#N/A"},{"$error":"#N/A"},{"$error":"#N/A"},{"$error":"#N/A"},{"$error":"#N/A"},{"$error":"#N/A"},{"$error":"#N/A"},{"$error":"#N/A"},{"$error":"#N/A"},{"$error":"#N/A"},{"$error":"#N/A"},{"$error":"#N/A"},{"$error":"#N/A"},{"$error":"#N/A"},{"$error":"#N/A"},{"$error":"#N/A"}]
["2-Lane Roundabout","RAB2x2",85.858035452770324,56.936657865352849,95.962397462989756,99.465136252718324,99.990754575630959,0.99999999999999978,1.0182814717327691,1.3452008789550252,1.3211867094275238,0.33487358968598979,4.1698027385763141E-3,1.374463454784178E-3,2.2045008701330221E-5,2.4444444444444446,1.2222222222222221,1.1458333333333333,1,null,null,null,null,{"$f":"IF($V$2,\"T_2x2_RAB\",\"T_2x1_RAB\")","v":"T_2x2_RAB"},{"$f":"IF($V$2,\"RAB2x2\",\"RAB2x1\")","v":"RAB2x2"}]
["Displaced Left Turn (DLT)","FDLT",52.324626894955308,12.935301765494966,60.724645300266232,96.379871159583288,99.01401424582744,0.99999999999999978,0.9185131585765649,0.99999999999999978,1.0000000000000002,0.3225944279086651,4.3201823963574998E-2,6.3682888337246706E-3,2.6637756817828712E-3,4.3663083333333335,1.3008425925925926,2.0132812499999999,1,null,null,null,null,"--","FDLT"]
["Partial Displaced Left Turn","PDLT",51.011756725457793,12.777194499314168,55.730823804689564,96.040294419822885,99.01401424582744,1,1.0061142185131793,0.99999999999999978,1.0000000000000002,0.32259442790866505,4.0035692196364533E-2,6.0963748238522224E-3,2.6637756817828712E-3,4.7391666666666667,1.6983630952380953,2.118489583333333,1,null,null,null,null,"T_PDLT","PDLT"]
["Median U-Turn (MUT)","MUT",82.047087385610098,61.250922017417885,82.423491462438619,93.106161142911247,96.407454374709786,1.2415469146238374,0.6471061620209636,2.8748408194066695,2.6257137879384302,0.32753470388820882,4.4689345500568335E-2,9.2303920563134925E-3,3.5514873710835782E-3,0.97007899305555534,0.84166666666666656,0.7715277777777777,1,null,null,null,null,"--","MUT"]
["Signalized RCUT","RCUT_Sig",79.612476029944773,54.073842508262494,84.005017776796407,92.188220282575713,95.930483592079554,1.0748626373626369,0.28880817066036679,3.2595184855077632,3.1023333122667163,0.28256074999909059,9.0286582411373745E-2,9.0460352685773782E-3,4.7673401118604655E-3,1.4978861111111113,0.84166666666666656,0.7715277777777777,1,null,null,null,null,"T_RCUT_Sig","RCUT_Sig"]
["Unsignalized RCUT",{"$f":"IF($V$1,X24,Y24)","v":"RCUT_Unsig"},66.819373836624123,29.994192536269175,77.862669231646663,88.97879288913488,95.930483592079554,1.0748626373626369,0.28880817066036679,3.2595184855077632,3.1023333122667163,0.28256074999909059,9.0286582411373745E-2,9.0460352685773782E-3,4.7673401118604655E-3,2.7233472222222219,1.2083333333333335,1.1076388888888891,1,null,null,null,null,"T_RCUT_Unsig","RCUT_Unsig"]
["Signalized Thru-Cut","ThruCut_Sig",80.860362290873951,62.279131427956557,75.781635048175218,93.615896554990087,96.757939679076827,1.1401098901098898,0.45803134234150417,2.5155752088243792,2.5660760074797122,0.30257758895387782,4.7491431458181604E-2,9.0682468365996527E-3,3.5756652373655374E-3,1.6566513888888885,1.3940104166666667,0.9731770833333333,1,null,null,null,null,"--","ThruCut_Sig"]
["Unsignalized Thru-Cut","ThruCut_Unsig",70.744311604964722,42.37546318398595,67.157850978485087,90.963725483093356,96.757939679076827,1.1401098901098898,0.45803134234150417,2.5155752088243792,2.5660760074797122,0.30257758895387782,4.7491431458181604E-2,9.0682468365996527E-3,3.5756652373655374E-3,2.3866736111111106,2.0013020833333335,1.3971354166666665,1,null,null,null,null,"--","ThruCut_Unsig"]
["Continuous Green-T","--",{"$f":"IF($B27=\"--\",\"--\",HLOOKUP($B27,INDIRECT($Y$1),6,FALSE)*100)","v":"--"},{"$f":"IF($B27=\"--\",\"--\",HLOOKUP($B27,INDIRECT($Y$1),5,FALSE)*100)","v":"--"},{"$f":"IF($B27=\"--\",\"--\",HLOOKUP($B27,INDIRECT($Y$1),2,FALSE)*100)","v":"--"},{"$f":"IF($B27=\"--\",\"--\",HLOOKUP($B27,INDIRECT($Y$1),3,FALSE)*100)","v":"--"},{"$f":"IF($B27=\"--\",\"--\",HLOOKUP($B27,INDIRECT($Y$1),4,FALSE)*100)","v":"--"},{"$f":"IF($B27=\"--\",\"--\",HLOOKUP($B27,INDIRECT($Y$3),5,FALSE)/VLOOKUP(H$12,INDIRECT($Y$5),2,FALSE))","v":"--"},{"$f":"IF($B27=\"--\",\"--\",HLOOKUP($B27,INDIRECT($Y$3),2,FALSE)/VLOOKUP(I$12,INDIRECT($Y$5),2,FALSE))","v":"--"},{"$f":"IF($B27=\"--\",\"--\",HLOOKUP($B27,INDIRECT($Y$3),3,FALSE)/VLOOKUP(J$12,INDIRECT($Y$5),2,FALSE))","v":"--"},{"$f":"IF($B27=\"--\",\"--\",HLOOKUP($B27,INDIRECT($Y$3),4,FALSE)/VLOOKUP(K$12,INDIRECT($Y$5),2,FALSE))","v":"--"},{"$f":"IF($B27=\"--\",\"--\",HLOOKUP($B27,INDIRECT($Y$7),5,FALSE))","v":"--"},{"$f":"IF($B27=\"--\",\"--\",HLOOKUP($B27,INDIRECT($Y$7),2,FALSE))","v":"--"},{"$f":"IF($B27=\"--\",\"--\",HLOOKUP($B27,INDIRECT($Y$7),3,FALSE))","v":"--"},{"$f":"IF($B27=\"--\",\"--\",HLOOKUP($B27,INDIRECT($Y$7),4,FALSE))","v":"--"},{"$f":"IF($B27=\"--\",\"--\",HLOOKUP($B27,INDIRECT($Y$9),5,FALSE))","v":"--"},{"$f":"IF($B27=\"--\",\"--\",HLOOKUP($B27,INDIRECT($Y$9),2,FALSE))","v":"--"},{"$f":"IF($B27=\"--\",\"--\",HLOOKUP($B27,INDIRECT($Y$9),3,FALSE))","v":"--"},{"$f":"IF($B27=\"--\",\"--\",HLOOKUP($B27,INDIRECT($Y$9),4,FALSE))","v":"--"},null,null,null,null,"CGT","--"]
["Jughandle","Jughandle",{"$f":"IF($B28=\"--\",\"--\",HLOOKUP($B28,INDIRECT($Y$1),6,FALSE)*100)","v":67.474258348865618},{"$f":"IF($B28=\"--\",\"--\",HLOOKUP($B28,INDIRECT($Y$1),5,FALSE)*100)","v":43.394154127259398},{"$f":"IF($B28=\"--\",\"--\",HLOOKUP($B28,INDIRECT($Y$1),2,FALSE)*100)","v":49.897999807663581},{"$f":"IF($B28=\"--\",\"--\",HLOOKUP($B28,INDIRECT($Y$1),3,FALSE)*100)","v":97.000345662356807},{"$f":"IF($B28=\"--\",\"--\",HLOOKUP($B28,INDIRECT($Y$1),4,FALSE)*100)","v":98.688110177538135},{"$f":"IF($B28=\"--\",\"--\",HLOOKUP($B28,INDIRECT($Y$3),5,FALSE)/VLOOKUP(H$12,INDIRECT($Y$5),2,FALSE))","v":1.0795646661031275},{"$f":"IF($B28=\"--\",\"--\",HLOOKUP($B28,INDIRECT($Y$3),2,FALSE)/VLOOKUP(I$12,INDIRECT($Y$5),2,FALSE))","v":1.1819350440242462},{"$f":"IF($B28=\"--\",\"--\",HLOOKUP($B28,INDIRECT($Y$3),3,FALSE)/VLOOKUP(J$12,INDIRECT($Y$5),2,FALSE))","v":1.1634598756063372},{"$f":"IF($B28=\"--\",\"--\",HLOOKUP($B28,INDIRECT($Y$3),4,FALSE)/VLOOKUP(K$12,INDIRECT($Y$5),2,FALSE))","v":1.1321773324074023},{"$f":"IF($B28=\"--\",\"--\",HLOOKUP($B28,INDIRECT($Y$7),5,FALSE))","v":0.28908227475296017},{"$f":"IF($B28=\"--\",\"--\",HLOOKUP($B28,INDIRECT($Y$7),2,FALSE))","v":4.0181659702600965E-2},{"$f":"IF($B28=\"--\",\"--\",HLOOKUP($B28,INDIRECT($Y$7),3,FALSE))","v":6.3490989673376649E-3},{"$f":"IF($B28=\"--\",\"--\",HLOOKUP($B28,INDIRECT($Y$7),4,FALSE))","v":2.2078309039915383E-3},{"$f":"IF($B28=\"--\",\"--\",HLOOKUP($B28,INDIRECT($Y$9),5,FALSE))","v":1.8451407004830913},{"$f":"IF($B28=\"--\",\"--\",HLOOKUP($B28,INDIRECT($Y$9),2,FALSE))","v":1.6863547008547013},{"$f":"IF($B28=\"--\",\"--\",HLOOKUP($B28,INDIRECT($Y$9),3,FALSE))","v":1.2304114583333332},{"$f":"IF($B28=\"--\",\"--\",HLOOKUP($B28,INDIRECT($Y$9),4,FALSE))","v":1},null,null,null,null,"--","Jughandle"]
["Bowtie","Bowtie",{"$f":"IF($B29=\"--\",\"--\",HLOOKUP($B29,INDIRECT($Y$1),6,FALSE)*100)","v":68.738096862924223},{"$f":"IF($B29=\"--\",\"--\",HLOOKUP($B29,INDIRECT($Y$1),5,FALSE)*100)","v":47.346701547008614},{"$f":"IF($B29=\"--\",\"--\",HLOOKUP($B29,INDIRECT($Y$1),2,FALSE)*100)","v":49.12069953691541},{"$f":"IF($B29=\"--\",\"--\",HLOOKUP($B29,INDIRECT($Y$1),3,FALSE)*100)","v":97.596403658967731},{"$f":"IF($B29=\"--\",\"--\",HLOOKUP($B29,INDIRECT($Y$1),4,FALSE)*100)","v":98.356242376173441},{"$f":"IF($B29=\"--\",\"--\",HLOOKUP($B29,INDIRECT($Y$3),5,FALSE)/VLOOKUP(H$12,INDIRECT($Y$5),2,FALSE))","v":1.2415469146238376},{"$f":"IF($B29=\"--\",\"--\",HLOOKUP($B29,INDIRECT($Y$3),2,FALSE)/VLOOKUP(I$12,INDIRECT($Y$5),2,FALSE))","v":1.1899201551321661},{"$f":"IF($B29=\"--\",\"--\",HLOOKUP($B29,INDIRECT($Y$3),3,FALSE)/VLOOKUP(J$12,INDIRECT($Y$5),2,FALSE))","v":2.0862465548663605},{"$f":"IF($B29=\"--\",\"--\",HLOOKUP($B29,INDIRECT($Y$3),4,FALSE)/VLOOKUP(K$12,INDIRECT($Y$5),2,FALSE))","v":2.0106809624606008},{"$f":"IF($B29=\"--\",\"--\",HLOOKUP($B29,INDIRECT($Y$7),5,FALSE))","v":0.34004522823495081},{"$f":"IF($B29=\"--\",\"--\",HLOOKUP($B29,INDIRECT($Y$7),2,FALSE))","v":4.4689345500568335E-2},{"$f":"IF($B29=\"--\",\"--\",HLOOKUP($B29,INDIRECT($Y$7),3,FALSE))","v":5.0835392515808028E-3},{"$f":"IF($B29=\"--\",\"--\",HLOOKUP($B29,INDIRECT($Y$7),4,FALSE))","v":2.3439653963648697E-3},{"$f":"IF($B29=\"--\",\"--\",HLOOKUP($B29,INDIRECT($Y$9),5,FALSE))","v":1.8411458333333335},{"$f":"IF($B29=\"--\",\"--\",HLOOKUP($B29,INDIRECT($Y$9),2,FALSE))","v":1.6833333333333331},{"$f":"IF($B29=\"--\",\"--\",HLOOKUP($B29,INDIRECT($Y$9),3,FALSE))","v":1.0103009259259257},{"$f":"IF($B29=\"--\",\"--\",HLOOKUP($B29,INDIRECT($Y$9),4,FALSE))","v":1},null,null,null,null,"--","Bowtie"]
["QR","QR",56.743450103153428,{"$f":"IF($B30=\"--\",\"--\",HLOOKUP($B30,INDIRECT($Y$1),5,FALSE)*100)","v":22.796865460788386},{"$f":"IF($B30=\"--\",\"--\",HLOOKUP($B30,INDIRECT($Y$1),2,FALSE)*100)","v":47.510165021252156},{"$f":"IF($B30=\"--\",\"--\",HLOOKUP($B30,INDIRECT($Y$1),3,FALSE)*100)","v":97.265798111582754},{"$f":"IF($B30=\"--\",\"--\",HLOOKUP($B30,INDIRECT($Y$1),4,FALSE)*100)","v":98.410428486657224},{"$f":"IF($B30=\"--\",\"--\",HLOOKUP($B30,INDIRECT($Y$3),5,FALSE)/VLOOKUP(H$12,INDIRECT($Y$5),2,FALSE))","v":2.0015849535080301},{"$f":"IF($B30=\"--\",\"--\",HLOOKUP($B30,INDIRECT($Y$3),2,FALSE)/VLOOKUP(I$12,INDIRECT($Y$5),2,FALSE))","v":1.3014688483896482},{"$f":"IF($B30=\"--\",\"--\",HLOOKUP($B30,INDIRECT($Y$3),3,FALSE)/VLOOKUP(J$12,INDIRECT($Y$5),2,FALSE))","v":1.2966213201014398},{"$f":"IF($B30=\"--\",\"--\",HLOOKUP($B30,INDIRECT($Y$3),4,FALSE)/VLOOKUP(K$12,INDIRECT($Y$5),2,FALSE))","v":1.4486052992981817},{"$f":"IF($B30=\"--\",\"--\",HLOOKUP($B30,INDIRECT($Y$7),5,FALSE))","v":0.3232293604570397},{"$f":"IF($B30=\"--\",\"--\",HLOOKUP($B30,INDIRECT($Y$7),2,FALSE))","v":4.0927584405049913E-2},{"$f":"IF($B30=\"--\",\"--\",HLOOKUP($B30,INDIRECT($Y$7),3,FALSE))","v":5.5822226673596471E-3},{"$f":"IF($B30=\"--\",\"--\",HLOOKUP($B30,INDIRECT($Y$7),4,FALSE))","v":2.5308985222429504E-3},{"$f":"IF($B30=\"--\",\"--\",HLOOKUP($B30,INDIRECT($Y$9),5,FALSE))","v":1.8646847222222227},{"$f":"IF($B30=\"--\",\"--\",HLOOKUP($B30,INDIRECT($Y$9),2,FALSE))","v":1.2407569444444444},{"$f":"IF($B30=\"--\",\"--\",HLOOKUP($B30,INDIRECT($Y$9),3,FALSE))","v":0.95883368055555551},{"$f":"IF($B30=\"--\",\"--\",HLOOKUP($B30,INDIRECT($Y$9),4,FALSE))","v":1}]
[]
[]
[]
[]
[]
[]
[]
[]
[]
[]
[]
[]
[]
[]
[]
[]
[]
[]
[]
["Design Year Results"]
[]
["Control Strategy","SSI Ref Worksheet Name","SSI Score","SSI Conflict Type Score",null,null,null,"Exposure (Relative to Existing)",null,null,null,"Average P(FSI)",null,null,null,"Average Complexity"]
[null,null,null,"Nonmotorized","Crossing","Merging","Diverging","Nonmotorized","Crossing","Merging","Diverging","Nonmotorized","Crossing","Merging","Diverging","Nonmotorized","Crossing","Merging","Diverging"]
["Traffic Signal",{"$f":"IF($V$1,X13,Y13)","v":"Trad_Sig"},{"$f":"IF($B54=\"--\",\"--\",HLOOKUP($B54,INDIRECT($Y$2),6,FALSE)*100)","v":63.110100809474048},{"$f":"IF($B54=\"--\",\"--\",HLOOKUP($B54,INDIRECT($Y$2),5,FALSE)*100)","v":37.714285411588058},{"$f":"IF($B54=\"--\",\"--\",HLOOKUP($B54,INDIRECT($Y$2),2,FALSE)*100)","v":44.394623374108512},{"$f":"IF($B54=\"--\",\"--\",HLOOKUP($B54,INDIRECT($Y$2),3,FALSE)*100)","v":95.911800646523659},{"$f":"IF($B54=\"--\",\"--\",HLOOKUP($B54,INDIRECT($Y$2),4,FALSE)*100)","v":98.784132826354636},{"$f":"IF($B54=\"--\",\"--\",HLOOKUP($B54,INDIRECT($Y$4),5,FALSE)/VLOOKUP(H$53,INDIRECT($Y$6),2,FALSE))","v":1},{"$f":"IF($B54=\"--\",\"--\",HLOOKUP($B54,INDIRECT($Y$4),2,FALSE)/VLOOKUP(I$53,INDIRECT($Y$6),2,FALSE))","v":1},{"$f":"IF($B54=\"--\",\"--\",HLOOKUP($B54,INDIRECT($Y$4),3,FALSE)/VLOOKUP(J$53,INDIRECT($Y$6),2,FALSE))","v":1},{"$f":"IF($B54=\"--\",\"--\",HLOOKUP($B54,INDIRECT($Y$4),4,FALSE)/VLOOKUP(K$53,INDIRECT($Y$6),2,FALSE))","v":1},{"$f":"IF($B54=\"--\",\"--\",HLOOKUP($B54,INDIRECT($Y$8),5,FALSE))","v":0.28891209057648393},{"$f":"IF($B54=\"--\",\"--\",HLOOKUP($B54,INDIRECT($Y$8),2,FALSE))","v":3.9374842505356146E-2},{"$f":"IF($B54=\"--\",\"--\",HLOOKUP($B54,INDIRECT($Y$8),3,FALSE))","v":6.0963748238522207E-3},{"$f":"IF($B54=\"--\",\"--\",HLOOKUP($B54,INDIRECT($Y$8),4,FALSE))","v":2.6637756817828712E-3},{"$f":"IF($B54=\"--\",\"--\",HLOOKUP($B54,INDIRECT($Y$10),5,FALSE))","v":2.4197916666666655},{"$f":"IF($B54=\"--\",\"--\",HLOOKUP($B54,INDIRECT($Y$10),2,FALSE))","v":1.7359375000000004},{"$f":"IF($B54=\"--\",\"--\",HLOOKUP($B54,INDIRECT($Y$10),3,FALSE))","v":1.5255208333333334},{"$f":"IF($B54=\"--\",\"--\",HLOOKUP($B54,INDIRECT($Y$10),4,FALSE))","v":1}]
["Traffic Signal (Alt)","Trad_Sig",63.110100809474048,37.714285411588058,44.394623374108512,95.911800646523659,98.784132826354636,{"$f":"IF($B55=\"--\",\"--\",HLOOKUP($B55,INDIRECT($Y$4),5,FALSE)/VLOOKUP(H$53,INDIRECT($Y$6),2,FALSE))","v":1},{"$f":"IF($B55=\"--\",\"--\",HLOOKUP($B55,INDIRECT($Y$4),2,FALSE)/VLOOKUP(I$53,INDIRECT($Y$6),2,FALSE))","v":1},{"$f":"IF($B55=\"--\",\"--\",HLOOKUP($B55,INDIRECT($Y$4),3,FALSE)/VLOOKUP(J$53,INDIRECT($Y$6),2,FALSE))","v":1},{"$f":"IF($B55=\"--\",\"--\",HLOOKUP($B55,INDIRECT($Y$4),4,FALSE)/VLOOKUP(K$53,INDIRECT($Y$6),2,FALSE))","v":1},{"$f":"IF($B55=\"--\",\"--\",HLOOKUP($B55,INDIRECT($Y$8),5,FALSE))","v":0.28891209057648393},{"$f":"IF($B55=\"--\",\"--\",HLOOKUP($B55,INDIRECT($Y$8),2,FALSE))","v":3.9374842505356146E-2},{"$f":"IF($B55=\"--\",\"--\",HLOOKUP($B55,INDIRECT($Y$8),3,FALSE))","v":6.0963748238522207E-3},{"$f":"IF($B55=\"--\",\"--\",HLOOKUP($B55,INDIRECT($Y$8),4,FALSE))","v":2.6637756817828712E-3},{"$f":"IF($B55=\"--\",\"--\",HLOOKUP($B55,INDIRECT($Y$10),5,FALSE))","v":2.4197916666666655},{"$f":"IF($B55=\"--\",\"--\",HLOOKUP($B55,INDIRECT($Y$10),2,FALSE))","v":1.7359375000000004},{"$f":"IF($B55=\"--\",\"--\",HLOOKUP($B55,INDIRECT($Y$10),3,FALSE))","v":1.5255208333333334},{"$f":"IF($B55=\"--\",\"--\",HLOOKUP($B55,INDIRECT($Y$10),4,FALSE))","v":1}]
["Minor Road Stop","Trad_MinorStop",45.059968551258969,15.457149512369286,28.666338197888997,94.183476560856988,98.784132826354636,1,1,1,1,0.28891209057648393,3.7725641189214877E-2,6.0963748238522207E-3,2.6637756817828712E-3,4.1423611111111116,2.5494791666666665,2.190104166666667,1]
["All Way Stop","Trad_AllSTop",81.698784286248355,56.984256060359016,78.890596541479624,99.10220448279739,99.999755506535365,1,1,1,1,0.18722320043153562,1.0895928064475997E-2,1.0817075175764881E-3,6.4061388075216071E-7,3.4739583333333344,2.4921875,2.190104166666667,1]
["1-Lane Roundabout","RAB1x1",91.464412741221764,72.257009451656756,97.258240538070581,99.5990423703266,99.987807757099915,1.0000000000000002,1.0124662635793789,1.3481120849059911,1.3462512451109003,0.33487358968598979,4.1698027385763141E-3,1.374463454784178E-3,2.2045008701330221E-5,1.2222222222222223,0.61111111111111105,0.61111111111111105,1]
["RAB2x1",0,{"$error":"#N/A"},{"$error":"#N/A"},{"$error":"#N/A"},{"$error":"#N/A"},{"$error":"#N/A"},{"$error":"#N/A"},{"$error":"#N/A"},{"$error":"#N/A"},{"$error":"#N/A"},{"$error":"#N/A"},{"$error":"#N/A"},{"$error":"#N/A"},{"$error":"#N/A"},{"$error":"#N/A"},{"$error":"#N/A"},{"$error":"#N/A"},{"$error":"#N/A"}]
["2-Lane Roundabout","RAB2x2",83.671760377342395,52.210754148968142,94.59165352561196,99.255777298904135,99.987807757099915,1.0000000000000002,1.0124662635793789,1.3481120849059911,1.3462512451109003,0.33487358968598979,4.1698027385763141E-3,1.374463454784178E-3,2.2045008701330221E-5,2.4444444444444446,1.2222222222222221,1.1458333333333333,1]
["Displaced Left Turn (DLT)","FDLT",46.82793444375848,10.066105833489262,50.899382702852989,95.007700640802511,98.784132826354636,1,0.91658813460036992,0.99999999999999989,1,0.3225944279086651,4.3201823963574998E-2,6.3682888337246706E-3,2.6637756817828712E-3,4.3663083333333335,1.3008425925925926,2.0132812499999999,1]
["Partial Displaced Left Turn","PDLT",45.278854762495115,9.9125449235274061,45.402475986237405,94.543099729152942,98.784132826354636,1,1.0040085881529208,0.99999999999999989,1,0.32259442790866505,4.0035692196364533E-2,6.0963748238522224E-3,2.6637756817828712E-3,4.7391666666666667,1.6983630952380953,2.118489583333333,1]
["Median U-Turn (MUT)","MUT",78.404414467159825,57.373209197821076,76.170753808614862,90.877335169064494,95.150063641177312,1.2425213675213673,0.67157351987839731,2.779933812316254,2.7614020181797971,0.32753470388820882,4.4689345500568335E-2,9.2303920563134925E-3,3.5514873710835782E-3,0.97007899305555534,0.84166666666666656,0.7715277777777777,1]
["Signalized RCUT","RCUT_Sig",76.172050260341734,49.724933015779108,80.334433182409185,89.222869431058783,94.456196673200054,1.0887896825396826,0.2674170146273615,3.2831231685917488,3.2709186901107543,0.28256074999909059,9.0286582411373745E-2,9.0460352685773782E-3,4.7673401118604655E-3,1.4978861111111113,0.84166666666666656,0.7715277777777777,1]
["Unsignalized RCUT","RCUT_Unsig",62.133890081913876,25.451271465693999,73.025205215947764,84.898781156860196,94.456196673200054,1.0887896825396826,0.2674170146273615,3.2831231685917488,3.2709186901107543,0.28256074999909059,9.0286582411373745E-2,9.0460352685773782E-3,4.7673401118604655E-3,2.7233472222222219,1.2083333333333335,1.1076388888888891,1]
["Signalized Thru Cut",{"$f":"IF($V$1,X25,Y25)","v":"ThruCut_Sig"},77.227431705446264,58.540928137131964,69.624341287260066,91.24529740053984,95.643436974408274,1.1517857142857144,0.44063787056185261,2.5105666889590039,2.6900246481086292,0.30257758895387782,4.7491431458181604E-2,9.0682468365996527E-3,3.5756652373655374E-3,1.6566513888888885,1.3940104166666667,0.9731770833333333,1]
["Unsignalized Thru Cut","ThruCut_Unsig",66.002706471376442,38.058736959224589,59.46493989231363,87.675135860410478,95.643436974408274,1.1517857142857144,0.44063787056185261,2.5105666889590039,2.6900246481086292,0.30257758895387782,4.7491431458181604E-2,9.0682468365996527E-3,3.5756652373655374E-3,2.3866736111111106,2.0013020833333335,1.3971354166666665,1]
["Continuous Green-T",{"$f":"IF($V$1,X27,Y27)","v":"--"},{"$f":"IF($B68=\"--\",\"--\",HLOOKUP($B68,INDIRECT($Y$2),6,FALSE)*100)","v":"--"},{"$f":"IF($B68=\"--\",\"--\",HLOOKUP($B68,INDIRECT($Y$2),5,FALSE)*100)","v":"--"},{"$f":"IF($B68=\"--\",\"--\",HLOOKUP($B68,INDIRECT($Y$2),2,FALSE)*100)","v":"--"},{"$f":"IF($B68=\"--\",\"--\",HLOOKUP($B68,INDIRECT($Y$2),3,FALSE)*100)","v":"--"},{"$f":"IF($B68=\"--\",\"--\",HLOOKUP($B68,INDIRECT($Y$2),4,FALSE)*100)","v":"--"},{"$f":"IF($B68=\"--\",\"--\",HLOOKUP($B68,INDIRECT($Y$4),5,FALSE)/VLOOKUP(H$53,INDIRECT($Y$6),2,FALSE))","v":"--"},{"$f":"IF($B68=\"--\",\"--\",HLOOKUP($B68,INDIRECT($Y$4),2,FALSE)/VLOOKUP(I$53,INDIRECT($Y$6),2,FALSE))","v":"--"},{"$f":"IF($B68=\"--\",\"--\",HLOOKUP($B68,INDIRECT($Y$4),3,FALSE)/VLOOKUP(J$53,INDIRECT($Y$6),2,FALSE))","v":"--"},{"$f":"IF($B68=\"--\",\"--\",HLOOKUP($B68,INDIRECT($Y$4),4,FALSE)/VLOOKUP(K$53,INDIRECT($Y$6),2,FALSE))","v":"--"},{"$f":"IF($B68=\"--\",\"--\",HLOOKUP($B68,INDIRECT($Y$8),5,FALSE))","v":"--"},{"$f":"IF($B68=\"--\",\"--\",HLOOKUP($B68,INDIRECT($Y$8),2,FALSE))","v":"--"},{"$f":"IF($B68=\"--\",\"--\",HLOOKUP($B68,INDIRECT($Y$8),3,FALSE))","v":"--"},{"$f":"IF($B68=\"--\",\"--\",HLOOKUP($B68,INDIRECT($Y$8),4,FALSE))","v":"--"},{"$f":"IF($B68=\"--\",\"--\",HLOOKUP($B68,INDIRECT($Y$10),5,FALSE))","v":"--"},{"$f":"IF($B68=\"--\",\"--\",HLOOKUP($B68,INDIRECT($Y$10),2,FALSE))","v":"--"},{"$f":"IF($B68=\"--\",\"--\",HLOOKUP($B68,INDIRECT($Y$10),3,FALSE))","v":"--"},{"$f":"IF($B68=\"--\",\"--\",HLOOKUP($B68,INDIRECT($Y$10),4,FALSE))","v":"--"}]
["Jughandle",{"$f":"IF($V$1,X28,Y28)","v":"Jughandle"},{"$f":"IF($B69=\"--\",\"--\",HLOOKUP($B69,INDIRECT($Y$2),6,FALSE)*100)","v":61.827692225551282},{"$f":"IF($B69=\"--\",\"--\",HLOOKUP($B69,INDIRECT($Y$2),5,FALSE)*100)","v":39.146893085664182},{"$f":"IF($B69=\"--\",\"--\",HLOOKUP($B69,INDIRECT($Y$2),2,FALSE)*100)","v":39.580076565985465},{"$f":"IF($B69=\"--\",\"--\",HLOOKUP($B69,INDIRECT($Y$2),3,FALSE)*100)","v":95.860289468395536},{"$f":"IF($B69=\"--\",\"--\",HLOOKUP($B69,INDIRECT($Y$2),4,FALSE)*100)","v":98.382868210640126},{"$f":"IF($B69=\"--\",\"--\",HLOOKUP($B69,INDIRECT($Y$4),5,FALSE)/VLOOKUP(H$53,INDIRECT($Y$6),2,FALSE))","v":1.0766178266178268},{"$f":"IF($B69=\"--\",\"--\",HLOOKUP($B69,INDIRECT($Y$4),2,FALSE)/VLOOKUP(I$53,INDIRECT($Y$6),2,FALSE))","v":1.1632234750704733},{"$f":"IF($B69=\"--\",\"--\",HLOOKUP($B69,INDIRECT($Y$4),3,FALSE)/VLOOKUP(J$53,INDIRECT($Y$6),2,FALSE))","v":1.1584513557409621},{"$f":"IF($B69=\"--\",\"--\",HLOOKUP($B69,INDIRECT($Y$4),4,FALSE)/VLOOKUP(K$53,INDIRECT($Y$6),2,FALSE))","v":1.1386837775669836},{"$f":"IF($B69=\"--\",\"--\",HLOOKUP($B69,INDIRECT($Y$8),5,FALSE))","v":0.28908227475296017},{"$f":"IF($B69=\"--\",\"--\",HLOOKUP($B69,INDIRECT($Y$8),2,FALSE))","v":4.0181659702600965E-2},{"$f":"IF($B69=\"--\",\"--\",HLOOKUP($B69,INDIRECT($Y$8),3,FALSE))","v":6.3490989673376649E-3},{"$f":"IF($B69=\"--\",\"--\",HLOOKUP($B69,INDIRECT($Y$8),4,FALSE))","v":2.2078309039915383E-3},{"$f":"IF($B69=\"--\",\"--\",HLOOKUP($B69,INDIRECT($Y$10),5,FALSE))","v":1.8451407004830913},{"$f":"IF($B69=\"--\",\"--\",HLOOKUP($B69,INDIRECT($Y$10),2,FALSE))","v":1.6863547008547013},{"$f":"IF($B69=\"--\",\"--\",HLOOKUP($B69,INDIRECT($Y$10),3,FALSE))","v":1.2304114583333332},{"$f":"IF($B69=\"--\",\"--\",HLOOKUP($B69,INDIRECT($Y$10),4,FALSE))","v":1}]
["Bowtie",{"$f":"IF($V$1,X29,Y29)","v":"Bowtie"},{"$f":"IF($B70=\"--\",\"--\",HLOOKUP($B70,INDIRECT($Y$2),6,FALSE)*100)","v":63.149366031511313},{"$f":"IF($B70=\"--\",\"--\",HLOOKUP($B70,INDIRECT($Y$2),5,FALSE)*100)","v":43.044941861533303},{"$f":"IF($B70=\"--\",\"--\",HLOOKUP($B70,INDIRECT($Y$2),2,FALSE)*100)","v":39.000097518412993},{"$f":"IF($B70=\"--\",\"--\",HLOOKUP($B70,INDIRECT($Y$2),3,FALSE)*100)","v":96.689080899005944},{"$f":"IF($B70=\"--\",\"--\",HLOOKUP($B70,INDIRECT($Y$2),4,FALSE)*100)","v":97.973975154959106},{"$f":"IF($B70=\"--\",\"--\",HLOOKUP($B70,INDIRECT($Y$4),5,FALSE)/VLOOKUP(H$53,INDIRECT($Y$6),2,FALSE))","v":1.2425213675213673},{"$f":"IF($B70=\"--\",\"--\",HLOOKUP($B70,INDIRECT($Y$4),2,FALSE)/VLOOKUP(I$53,INDIRECT($Y$6),2,FALSE))","v":1.1616027493223426},{"$f":"IF($B70=\"--\",\"--\",HLOOKUP($B70,INDIRECT($Y$4),3,FALSE)/VLOOKUP(J$53,INDIRECT($Y$6),2,FALSE))","v":2.0844545008552107},{"$f":"IF($B70=\"--\",\"--\",HLOOKUP($B70,INDIRECT($Y$4),4,FALSE)/VLOOKUP(K$53,INDIRECT($Y$6),2,FALSE))","v":2.0786575286193822},{"$f":"IF($B70=\"--\",\"--\",HLOOKUP($B70,INDIRECT($Y$8),5,FALSE))","v":0.34004522823495081},{"$f":"IF($B70=\"--\",\"--\",HLOOKUP($B70,INDIRECT($Y$8),2,FALSE))","v":4.4689345500568335E-2},{"$f":"IF($B70=\"--\",\"--\",HLOOKUP($B70,INDIRECT($Y$8),3,FALSE))","v":5.0835392515808028E-3},{"$f":"IF($B70=\"--\",\"--\",HLOOKUP($B70,INDIRECT($Y$8),4,FALSE))","v":2.3439653963648697E-3},{"$f":"IF($B70=\"--\",\"--\",HLOOKUP($B70,INDIRECT($Y$10),5,FALSE))","v":1.8411458333333335},{"$f":"IF($B70=\"--\",\"--\",HLOOKUP($B70,INDIRECT($Y$10),2,FALSE))","v":1.6833333333333331},{"$f":"IF($B70=\"--\",\"--\",HLOOKUP($B70,INDIRECT($Y$10),3,FALSE))","v":1.0103009259259257},{"$f":"IF($B70=\"--\",\"--\",HLOOKUP($B70,INDIRECT($Y$10),4,FALSE))","v":1}]
["QR","QR",{"$f":"IF($B71=\"--\",\"--\",HLOOKUP($B71,INDIRECT($Y$2),6,FALSE)*100)","v":63.045213690098599},{"$f":"IF($B71=\"--\",\"--\",HLOOKUP($B71,INDIRECT($Y$2),5,FALSE)*100)","v":45.552001107441178},{"$f":"IF($B71=\"--\",\"--\",HLOOKUP($B71,INDIRECT($Y$2),2,FALSE)*100)","v":36.782226586951857},{"$f":"IF($B71=\"--\",\"--\",HLOOKUP($B71,INDIRECT($Y$2),3,FALSE)*100)","v":96.189523338171824},{"$f":"IF($B71=\"--\",\"--\",HLOOKUP($B71,INDIRECT($Y$2),4,FALSE)*100)","v":98.024635478600018},{"$f":"IF($B71=\"--\",\"--\",HLOOKUP($B71,INDIRECT($Y$4),5,FALSE)/VLOOKUP(H$53,INDIRECT($Y$6),2,FALSE))","v":1},{"$f":"IF($B71=\"--\",\"--\",HLOOKUP($B71,INDIRECT($Y$4),2,FALSE)/VLOOKUP(I$53,INDIRECT($Y$6),2,FALSE))","v":1.292728015278968},{"$f":"IF($B71=\"--\",\"--\",HLOOKUP($B71,INDIRECT($Y$4),3,FALSE)/VLOOKUP(J$53,INDIRECT($Y$6),2,FALSE))","v":1.3007339137403435},{"$f":"IF($B71=\"--\",\"--\",HLOOKUP($B71,INDIRECT($Y$4),4,FALSE)/VLOOKUP(K$53,INDIRECT($Y$6),2,FALSE))","v":1.4658607807382884},{"$f":"IF($B71=\"--\",\"--\",HLOOKUP($B71,INDIRECT($Y$8),5,FALSE))","v":0.3232293604570397},{"$f":"IF($B71=\"--\",\"--\",HLOOKUP($B71,INDIRECT($Y$8),2,FALSE))","v":4.0927584405049913E-2},{"$f":"IF($B71=\"--\",\"--\",HLOOKUP($B71,INDIRECT($Y$8),3,FALSE))","v":5.5822226673596471E-3},{"$f":"IF($B71=\"--\",\"--\",HLOOKUP($B71,INDIRECT($Y$8),4,FALSE))","v":2.5308985222429504E-3},{"$f":"IF($B71=\"--\",\"--\",HLOOKUP($B71,INDIRECT($Y$10),5,FALSE))","v":1.8646847222222227},{"$f":"IF($B71=\"--\",\"--\",HLOOKUP($B71,INDIRECT($Y$10),2,FALSE))","v":1.2407569444444444},{"$f":"IF($B71=\"--\",\"--\",HLOOKUP($B71,INDIRECT($Y$10),3,FALSE))","v":0.95883368055555551},{"$f":"IF($B71=\"--\",\"--\",HLOOKUP($B71,INDIRECT($Y$10),4,FALSE))","v":1}]

{"sheet":"ExistingData","index":21,"n_rows":15,"n_cols":11,"rows_kept":15,"cut":false,"hidden":true,"merged":[[2,5,2,8]]}
[]
[]
["Intersetion Type","Traffic Signal or Minor Road Stop"]
["Years of Data",5]
[null,null,null,null,null,null,null,null,1,"Predicted","Based on SPF only"]
[null,null,null,null,null,null,null,null,2,"Expected","Based on SPF w/ EB applied"]
[null,"Total ","FI","PDO","Ped",null,null,null,3,"Observed","Historical crash data"]
["Historical Crashes Year 1"]
["Historical Crashes Year 2"]
["Historical Crashes Year 3"]
["Historical Crashes Year 4"]
["Historical Crashes Year 5"]
[]
["Historical Crash Data (Sum Over All Years)",35,7,28,1]
["Average Crashes (per year)",{"$f":"B14/$B$4","v":7},{"$f":"C14/$B$4","v":1.4},5.6,0.2]

{"sheet":"CalibrationDefaults","index":22,"n_rows":47,"n_cols":11,"rows_kept":47,"cut":false,"hidden":true,"merged":[[43,0,44,1],[45,0,46,1],[19,0,32,0],[19,1,20,1],[21,1,22,1],[23,1,30,1],[31,1,32,1],[33,0,38,0],[33,1,34,1],[35,1,36,1],[37,1,38,1],[39,0,42,0],[39,1,40,1],[41,1,42,1],[5,0,18,0],[5,1,6,1],[7,1,8,1],[9,1,16,1],[17,1,18,1],[0,0,0,10],[1,0,1,10],[3,7,4,7],[3,6,4,6],[3,8,4,8],[2,0,2,1],[2,2,2,4],[3,9,4,9],[3,10,4,10],[3,0,4,0],[3,1,4,1],[3,2,4,2],[3,3,4,3],[3,4,4,4],[3,5,4,5]]}
["Default Calibration ReferenceCalibration"]
["At-Grade Intersection SPFs"]
["Select From the Dropdown Menu:",null,"FDOT"]
["Traffic Control","Facility Type","# legs","1 way/ 2 way","# of lanes on arterial","Use Value","Empty","FDOT","Future1","Future2","Future3"]
[]
["Traffic Signal\n\n(For more information on determining signal type, refer to the \"Definitions\" worksheet)","On Rural Two Lane Highway","3 leg","-","-",{"$f":"IF(ISNUMBER(IF($C$3=$G$4,G6,IF($C$3=$H$4,H6,IF($C$3=$I$4,I6,IF($C$3=$J$4,J6,IF($C$3=$K$4,K6,1)))))),IF($C$3=$G$4,G6,IF($C$3=$H$4,H6,IF($C$3=$I$4,I6,IF($C$3=$J$4,J6,IF($C$3=$K$4,K6,1))))),1)","v":1},1,"--",1,1,1]
[null,null,"4 leg","-","-",{"$f":"IF(ISNUMBER(IF($C$3=$G$4,G7,IF($C$3=$H$4,H7,IF($C$3=$I$4,I7,IF($C$3=$J$4,J7,IF($C$3=$K$4,K7,1)))))),IF($C$3=$G$4,G7,IF($C$3=$H$4,H7,IF($C$3=$I$4,I7,IF($C$3=$J$4,J7,IF($C$3=$K$4,K7,1))))),1)","v":0.92},1,0.92,1,1,1]
[null,"On Rural Multilane Highway","3 leg","-","-",1,1,"--",1,1,1]
[null,null,"4 leg","-","-",0.45,1,0.45,1,1,1]
[null,"On Urban and Suburban Arterial","3 leg","2x2","5 or fewer",2.5,1,2.5,1,1,1]
[null,null,"4 leg","2x2","5 or fewer",2.27,1,2.27,1,1,1]
[null,null,"3 leg","2x2","6 or more",1,1,"--",1,1,1]
[null,null,"4 leg","2x2","6 or more",1,1,"--",1,1,1]
[null,null,"3 leg","1x2","-",1,1,"--",1,1,1]
[null,null,"4 leg","1x2","-",1,1,"--",1,1,1]
[null,null,"3 leg","1x1","-",1,1,"--",1,1,1]
[null,null,"4 leg","1x1","-",1,1,"--",1,1,1]
[null,"On High Speed (50+ MPH) Urban and Suburban Arterial","3 leg","-","-",1,1,"--",1,1,1]
[null,null,"4 leg","-","-",1,1,"--",1,1,1]
["Minor Road Stop","On Rural Two Lane Highway","3 leg","-","-",1.27,1,1.27,1,1,1]
[null,null,"4 leg","-","-",0.74,1,0.74,1,1,1]
[null,"On Rural Multilane Highway","3 leg","-","-",2.2000000000000002,1,2.2000000000000002,1,1,1]
[null,null,"4 leg","-","-",1.64,1,1.64,1,1,1]
[null,"On Urban and Suburban Arterial","3 leg","2x2","5 or fewer",1.1399999999999999,1,1.1399999999999999,1,1,1]
[null,null,"4 leg","2x2","5 or fewer",1.87,1,1.87,1,1,1]
[null,null,"3 leg","2x2","6 or more",1,1,"--",1,1,1]
[null,null,"4 leg","2x2","6 or more",1,1,"--",1,1,1]
[null,null,"3 leg","1x2","-",1,1,"--",1,1,1]
[null,null,"4 leg","1x2","-",1,1,"--",1,1,1]
[null,null,"3 leg","1x1","-",1,1,"--",1,1,1]
[null,null,"4 leg","1x1","-",1,1,"--",1,1,1]
[null,"On High Speed (50+ MPH) Urban and Suburban Arterial","3 leg","-","-",1,1,"--",1,1,1]
[null,null,"4 leg","-","-",1,1,"--",1,1,1]
["All-Way Stop","On Rural Two Lane Highway","3 leg","-","-",1,1,"--",1,1,1]
[null,null,"4 leg","-","-",1,1,"--",1,1,1]
[null,"On Rural Multilane Highway","3 leg","-","-",1,1,"--",1,1,1]
[null,null,"4 leg","-","-",1,1,"--",1,1,1]
[null,"On Urban and Suburban Arterial","3 leg","-","-",1,1,"--",1,1,1]
[null,null,"4 leg","-","-",1,1,"--",1,1,1]
["Roundabout","1-lane roundabout","3 leg","-","-",1,1,"--",1,1,1]
[null,null,"4 leg","-","-",1,1,"--",1,1,1]
[null,"2-lane roundabout","3 leg","-","-",1,1,"--",1,1,1]
[null,null,"4 leg","-","-",1,1,"--",1,1,1]
["Signalized Restricted Crossing U-Turn (RCUT), also known Superstreet",null,"3 leg","-","-",1,1,"--",1,1,1]
[null,null,"4 leg","-","-",1,1,"--",1,1,1]
["Unsignalized Restricted Crossing U-Turn (RCUT), also known as J-Turn",null,"3 leg","-","-",1,1,"--",1,1,1]
[null,null,"4 leg","-","-",1,1,"--",1,1,1]

{"sheet":"HistoricalRTI","index":23,"n_rows":71,"n_cols":24,"rows_kept":71,"cut":false,"hidden":true,"merged":[[7,3,7,4],[10,1,11,2],[10,3,10,12],[39,2,39,3],[39,18,41,21],[12,1,14,1],[15,1,17,1],[38,1,38,14],[39,1,54,1],[42,18,56,18],[42,19,46,19],[43,2,45,2],[40,2,42,2],[55,1,70,1],[67,19,70,19],[63,18,70,18],[0,0,0,13],[1,0,2,13],[4,1,5,2],[4,3,5,4],[6,3,6,4],[6,10,6,11],[46,2,48,2],[47,19,51,19],[49,2,51,2],[52,2,54,12],[52,19,56,19],[68,2,70,12],[60,18,62,21],[63,19,66,19],[55,2,55,3],[56,2,58,2],[59,2,61,2],[62,2,64,2],[65,2,67,2]]}
["Historical Crash Data Input"]
["Note: In order to use Empirical Bayes (EB), the historical intersection type must be a traffic signal or a minor road stop.  Additionally, this alternative must be selected to be included in the analysis, and the historical intersection specified below.  Up to 10 years of historical data can be used to perform the EB adjustment."]
[]
[]
[null,"Use historical Emprical Bayes Adjustment?",null,"Yes"]
[]
[null,"Number of years available:",null,2,null,"(Up to 10)",null,"First Year Data is available: ",null,null,2010]
[null,"Historical Intx Type:",null,"4ST"]
[]
[]
[null,"Historical Crash Counts",null,"Year"]
[null,null,null,{"$f":"IF($D$7>0,$K$7,\"--\")","v":2010},{"$f":"IF($D$7>1,$K$7+1,\"--\")","v":2011},{"$f":"IF($D$7>2,$K$7+2,\"--\")","v":"--"},{"$f":"IF($D$7>3,$K$7+3,\"--\")","v":"--"},{"$f":"IF($D$7>4,$K$7+4,\"--\")","v":"--"},{"$f":"IF($D$7>5,$K$7+5,\"--\")","v":"--"},{"$f":"IF($D$7>6,$K$7+6,\"--\")","v":"--"},{"$f":"IF($D$7>7,$K$7+7,\"--\")","v":"--"},{"$f":"IF($D$7>8,$K$7+8,\"--\")","v":"--"},{"$f":"IF($D$7>9,$K$7+9,\"--\")","v":"--"},"Total"]
[null,{"$f":"IF(EB_RTI_Intx_Type=X43,\"Single Point Diamond\",\"NB Ramp Terminal\")","v":"NB Ramp Terminal"},"Total",{"$f":"IF(ISNUMBER(D$12),SUM(D14:D15),\"--\")","v":10},{"$f":"IF(ISNUMBER(E12),SUM(E14:E15),\"--\")","v":10},"--","--","--","--","--","--","--","--",{"$f":"IF(ISNUMBER(D13),SUM(D13:M13),\"--\")","v":20},{"$f":"IF(COUNTIF(D13:M13,\"=0\")>0,\"One or more years has 0 total crashes.\",\"\")","v":""}]
[null,null,"Fatal/Injury",5,5,null,null,null,null,null,null,null,null,{"$f":"SUMPRODUCT(D14:M14,--(ISNUMBER($D$12:$M$12)))","v":10}]
[null,null,"PDO",5,5,null,null,null,null,null,null,null,null,10]
[null,"SB Ramp Terminal","Total",{"$f":"IF(ISNUMBER(D$12),SUM(D17:D18),\"--\")","v":12},{"$f":"IF(ISNUMBER(E12),SUM(E17:E18),\"--\")","v":12},{"$f":"IF(ISNUMBER(F12),SUM(F17:F18),\"--\")","v":"--"},"--","--","--","--","--","--","--",{"$f":"IF(ISNUMBER(D16),SUM(D16:M16),\"--\")","v":24},{"$f":"IF(COUNTIF(D16:M16,\"=0\")>0,\"One or more years has 0 total crashes.\",\"\")","v":""}]
[null,null,"Fatal/Injury",6,6,null,null,null,null,null,null,null,null,12]
[null,null,"PDO",6,6,null,null,null,null,null,null,null,null,12]
[]
[]
[]
[]
[]
[]
[]
[]
[]
[]
[]
[null,"Computations Only Below This Point"]
[]
[]
[]
[]
[]
[]
[]
[]
[]
[null,{"$f":"\"Combined Colisions - \"&B13","v":"Combined Colisions - NB Ramp Terminal"},"Year",null,{"$f":"D$12","v":2010},2011,"--","--","--","--","--","--","--","--","Total",null,null,null,"Ramp Terminal\n Dispersion Parameters",null,null,null,null,"Available Types"]
[null,null,"Npredicted","Total",null,{"$f":"IF(AND(ISNUMBER(E$12),ISNUMBER(Npred_RTI_Total1)),Npred_RTI_Total1,\"--\")","v":"--"},"--","--","--","--","--","--","--","--",{"$f":"IF(ISNUMBER(E44),SUM(E41:N41),\"--\")","v":"--"},null,null,null,null,null,null,null,null,"4ST"]
[null,null,null,"Fatal/Injury",0.50246693856738756,{"$f":"IF(AND(ISNUMBER(E$12),ISNUMBER(Npred_RTI_FI1)),Npred_RTI_FI1,\"--\")","v":0.50246693856738756},"--","--","--","--","--","--","--","--",{"$f":"IF(ISNUMBER(E45),SUM(E42:N42),\"--\")","v":1.0049338771347751},null,null,null,null,null,null,null,null,"4SG"]
[null,null,null,"PDO",1.2903815592623198,{"$f":"IF(AND(ISNUMBER(E$12),ISNUMBER(Npred_RTI_PDO1)),Npred_RTI_PDO1,\"--\")","v":1.2903815592623198},"--","--","--","--","--","--","--","--",{"$f":"IF(ISNUMBER(E46),SUM(E43:N43),\"--\")","v":2.5807631185246396},null,null,null,"Combined Multi and Single Vehicle","Total","Intx","D4",null,"SPDI"]
[null,null,"Dispersion Parameter (k)","Total",{"$f":"IF(EB_RTI_Intx_Type=X43,\"--\",VLOOKUP(EB_RTI_Intx_Type,U44:V47,2,FALSE))","v":"--"},{"$f":"IF(AND(ISNUMBER(E$12),ISNUMBER(E44)),E44,\"--\")","v":"--"},"--","--","--","--","--","--","--","--","--",null,null,null,null,null,"3ST","--",null,"TD"]
[null,null,null,"Fatal/Injury",{"$f":"IF(EB_RTI_Intx_Type=X43,VLOOKUP(Input_SPUI_NFFRT,HistoricalRTI!U65:V67,2,FALSE),VLOOKUP(EB_RTI_Intx_Type,U49:V52,2,FALSE))","v":0.38759689922480617},0.38759689922480617,"--","--","--","--","--","--","--","--","--",null,null,null,null,null,"3SG","--"]
[null,null,null,"PDO",{"$f":"IF(EB_RTI_Intx_Type=X43,VLOOKUP(Input_SPUI_NFFRT,HistoricalRTI!U69:V71,2,FALSE),VLOOKUP(EB_RTI_Intx_Type,U54:V57,2,FALSE))","v":0.23419203747072601},0.23419203747072601,"--","--","--","--","--","--","--","--","--",null,null,null,null,null,"4ST","--"]
[null,null,"Weighted Adjustment (w)","Total",{"$f":"IF(AND(ISNUMBER(Npred_RTI_Total1),ISNUMBER(E44)),1/(1+E44*E41),\"--\")","v":"--"},"--","--","--","--","--","--","--","--","--","--",null,null,null,null,null,"4SG","--"]
[null,null,null,"Fatal/Injury",{"$f":"IF(AND(ISNUMBER(Npred_RTI_FI1),ISNUMBER(E45)),1/(1+E45*E42),\"--\")","v":0.8369919455483551},0.8369919455483551,"--","--","--","--","--","--","--","--","--",null,null,null,null,"Fatal / Injury","Intx","D4"]
[null,null,null,"PDO",{"$f":"IF(AND(ISNUMBER(Npred_RTI_PDO1),ISNUMBER(E46)),1/(1+E46*E43),\"--\")","v":0.76793291152603727},0.76793291152603727,"--","--","--","--","--","--","--","--","--",null,null,null,null,null,"3ST","--"]
[null,null,"Nexpected","Total",{"$f":"IF(AND(ISNUMBER(Npred_RTI_Total1),ISNUMBER(E44)),E47*E41+(1-E47)*D13,IF(ISNUMBER(E51),SUM(E51:E52),\"--\"))","v":3.3868629628971023},3.3868629628971023,"--","--","--","--","--","--","--","--",{"$f":"IF(ISNUMBER(E44),SUM(E50:N50),\"--\")","v":"--"},null,null,null,null,null,"3SG","--"]
[null,null,null,"Fatal/Injury",{"$f":"IF(AND(ISNUMBER(Npred_RTI_FI1),ISNUMBER(E45)),E48*E42+(1-E48)*D14,\"--\")","v":1.235601052743468},1.235601052743468,"--","--","--","--","--","--","--","--",{"$f":"IF(ISNUMBER(E45),SUM(E51:N51),\"--\")","v":2.471202105486936},null,null,null,null,null,"4ST",0.38759689922480617]
[null,null,null,"PDO",{"$f":"IF(AND(ISNUMBER(Npred_RTI_PDO1),ISNUMBER(E46)),E49*E43+(1-E49)*D15,\"--\")","v":2.1512619101536345},2.1512619101536345,"--","--","--","--","--","--","--","--",{"$f":"IF(ISNUMBER(E46),SUM(E52:N52),\"--\")","v":4.3025238203072691},null,null,null,null,null,"4SG",8.6956521739130432E-2]
[null,null,"Nexpected / Npredicted",null,null,null,null,null,null,null,null,null,null,"Total",{"$f":"IF(AND(ISNUMBER(E41),ISNUMBER(E44)),O50/O41,1)","v":1},null,null,null,null,"PDO","Intx","D4"]
[null,null,null,null,null,null,null,null,null,null,null,null,null,"F/I",{"$f":"IF(AND(ISNUMBER(E42),ISNUMBER(E45)),O51/O42,1)","v":2.4590693594017576},null,null,null,null,null,"3ST","--"]
[null,null,null,null,null,null,null,null,null,null,null,null,null,"PDO",{"$f":"IF(AND(ISNUMBER(E43),ISNUMBER(E46)),O52/O43,1)","v":1.6671517774815841},null,null,null,null,null,"3SG","--"]
[null,{"$f":"IF(EB_RTI_Intx_Type=X43,\"--\",\"Combined Colisions - \"&B16)","v":"Combined Colisions - SB Ramp Terminal"},"Year",null,{"$f":"D$12","v":2010},2011,"--","--","--","--","--","--","--","--","Total",null,null,null,null,null,"4ST",0.23419203747072601]
[null,null,"Npredicted","Total",null,{"$f":"IF(AND(ISNUMBER(E$12),ISNUMBER(Npred_RTI_Total2)),Npred_RTI_Total2,\"--\")","v":"--"},"--","--","--","--","--","--","--","--",{"$f":"IF(ISNUMBER(E60),SUM(E57:N57),\"--\")","v":"--"},null,null,null,null,null,"4SG",0.13869625520110956]
[null,null,null,"Fatal/Injury",0.66785377441719729,{"$f":"IF(AND(ISNUMBER(E$12),ISNUMBER(Npred_RTI_FI2)),Npred_RTI_FI2,\"--\")","v":0.66785377441719729},"--","--","--","--","--","--","--","--",{"$f":"IF(ISNUMBER(E61),SUM(E58:N58),\"--\")","v":1.3357075488343946}]
[null,null,null,"PDO",1.6472121148239491,{"$f":"IF(AND(ISNUMBER(E$12),ISNUMBER(Npred_RTI_PDO2)),Npred_RTI_PDO2,\"--\")","v":1.6472121148239491},"--","--","--","--","--","--","--","--",{"$f":"IF(ISNUMBER(E62),SUM(E59:N59),\"--\")","v":3.2944242296478983}]
[null,null,"Dispersion Parameter (k)","Total",{"$f":"IF(EB_RTI_Intx_Type=X43,\"--\",VLOOKUP(EB_RTI_Intx_Type,U44:V47,2,FALSE))","v":"--"},{"$f":"IF(AND(ISNUMBER(E$12),ISNUMBER(E60)),E60,\"--\")","v":"--"},"--","--","--","--","--","--","--","--","--"]
[null,null,null,"Fatal/Injury",{"$f":"IF(EB_RTI_Intx_Type=X43,\"--\",VLOOKUP(EB_RTI_Intx_Type,U49:V52,2,FALSE))","v":0.38759689922480617},0.38759689922480617,"--","--","--","--","--","--","--","--","--",null,null,null,"Single Point Diamond Interchange\n Dispersion Parameters"]
[null,null,null,"PDO",{"$f":"IF(EB_RTI_Intx_Type=X43,\"--\",VLOOKUP(EB_RTI_Intx_Type,U54:V57,2,FALSE))","v":0.23419203747072601},0.23419203747072601,"--","--","--","--","--","--","--","--","--"]
[null,null,"Weighted Adjustment (w)","Total",{"$f":"IF(AND(ISNUMBER(Npred_RTI_Total2),ISNUMBER(E60)),1/(1+E60*E57),\"--\")","v":"--"},"--","--","--","--","--","--","--","--","--","--"]
[null,null,null,"Fatal/Injury",{"$f":"IF(AND(ISNUMBER(Npred_RTI_FI2),ISNUMBER(E61)),1/(1+E61*E58),\"--\")","v":0.79437073809240732},0.79437073809240732,"--","--","--","--","--","--","--","--","--",null,null,null,"Combined Multi and Single Vehicle","Fatal / \nInjury","# FF RT","k"]
[null,null,null,"PDO",{"$f":"IF(AND(ISNUMBER(Npred_RTI_PDO2),ISNUMBER(E62)),1/(1+E62*E59),\"--\")","v":0.72162361550343757},0.72162361550343757,"--","--","--","--","--","--","--","--","--",null,null,null,null,null,0,0.11]
[null,null,"Nexpected","Total",{"$f":"IF(AND(ISNUMBER(Npred_RTI_Total2),ISNUMBER(E60)),E63*E57+(1-E63)*D16,IF(ISNUMBER(E67),SUM(E67:E68),\"--\"))","v":4.6232245359468411},4.6232245359468411,"--","--","--","--","--","--","--","--",{"$f":"IF(ISNUMBER(E60),SUM(E66:N66),\"--\")","v":"--"},null,null,null,null,null,1,0.11]
[null,null,null,"Fatal/Injury",{"$f":"IF(AND(ISNUMBER(Npred_RTI_FI2),ISNUMBER(E61)),E64*E58+(1-E64)*D17,\"--\")","v":1.764299067167145},1.764299067167145,"--","--","--","--","--","--","--","--",{"$f":"IF(ISNUMBER(E61),SUM(E67:N67),\"--\")","v":3.52859813433429},null,null,null,null,null,2,0.11]
[null,null,null,"PDO",{"$f":"IF(AND(ISNUMBER(Npred_RTI_PDO2),ISNUMBER(E62)),E65*E59+(1-E65)*D18,\"--\")","v":2.8589254687796961},2.8589254687796961,"--","--","--","--","--","--","--","--",{"$f":"IF(ISNUMBER(E62),SUM(E68:N68),\"--\")","v":5.7178509375593922},null,null,null,null,"PDO","# FF RT","k"]
[null,null,"Nexpected / Npredicted",null,null,null,null,null,null,null,null,null,null,"Total",{"$f":"IF(AND(ISNUMBER(E57),ISNUMBER(E60)),O66/O57,1)","v":1},null,null,null,null,null,0,0.1]
[null,null,null,null,null,null,null,null,null,null,null,null,null,"F/I",{"$f":"IF(AND(ISNUMBER(E58),ISNUMBER(E61)),O67/O58,1)","v":2.6417445476096333},null,null,null,null,null,1,0.1]
[null,null,null,null,null,null,null,null,null,null,null,null,null,"PDO",{"$f":"IF(AND(ISNUMBER(E59),ISNUMBER(E62)),O68/O59,1)","v":1.7356146443138882},null,null,null,null,null,2,0.1]

{"sheet":"ResultsRTI","index":24,"n_rows":39,"n_cols":24,"rows_kept":39,"cut":false,"hidden":true,"merged":[[30,0,31,0],[30,5,31,5],[30,6,31,7],[30,8,31,8],[30,9,31,9],[34,8,35,8],[34,9,35,9],[34,10,35,10],[28,8,29,8],[28,9,29,9],[28,10,29,10],[32,8,33,8],[32,9,33,9],[32,10,33,10],[30,10,31,10],[24,8,25,8],[24,9,25,9],[24,10,25,10],[26,8,27,8],[26,9,27,9],[26,10,27,10],[20,8,21,8],[20,9,21,9],[20,10,21,10],[22,8,23,8],[22,9,23,9],[22,10,23,10],[14,4,15,4],[14,3,15,3],[18,8,19,8],[18,9,19,9],[18,10,19,10],[5,1,5,3],[5,4,5,5],[5,6,5,10],[0,0,0,10],[1,0,1,10],[2,0,2,10],[3,0,3,10],[4,0,4,10],[6,1,6,3],[6,4,6,5],[7,1,7,3],[7,4,7,5],[6,6,6,10],[7,6,7,10],[8,1,8,3],[8,4,8,5],[9,1,9,3],[9,4,9,5],[8,6,8,10],[9,6,9,10],[10,1,10,3],[10,4,10,5],[11,1,11,3],[11,4,11,5],[10,6,10,10],[11,6,11,10],[12,1,12,3],[12,4,12,5],[16,0,17,0],[16,5,17,5],[16,6,17,7],[14,2,15,2],[14,1,15,1],[14,0,15,0],[12,6,12,10],[13,0,13,10],[16,8,17,8],[16,9,17,9],[16,10,17,10],[14,8,14,10],[14,6,15,7],[14,5,15,5],[18,0,19,0],[18,5,19,5],[20,0,21,0],[20,5,21,5],[18,6,19,7],[20,6,21,7],[22,0,23,0],[22,5,23,5],[24,0,25,0],[24,5,25,5],[22,6,23,7],[24,6,25,7],[26,0,27,0],[26,5,27,5],[28,0,29,0],[28,5,29,5],[26,6,27,7],[28,6,29,7],[32,0,33,0],[32,5,33,5],[34,0,35,0],[34,5,35,5],[32,6,33,7],[34,6,35,7]]}
["Federal Highway Administration (FHWA)"]
["Safety Performance for Intersection Control Evaluation Tool"]
["Results",null,null,null,null,null,null,null,null,null,null,{"$f":"IF(OR(OR(ISBLANK('Control Strategy Selection'!D5),ISBLANK('Control Strategy Selection'!D13),ISBLANK('Control Strategy Selection'!D14)),IF('Control Strategy Selection'!D4=Label_AnalysisYearType_OpenAndDesign,OR(ISBLANK('Control Strategy Selection'!D6),ISBLANK('Control Strategy Selection'!D15),ISBLANK('Control Strategy Selection'!D16)),FALSE)),\"Please complete the Opening/Design Year Inputs and AADTs Before Viewing Results\",\"\")","v":""}]
["Summary of crash prediction results for each alternative"]
["Project Information"]
["Project Name:",{"$f":"IF(ISBLANK('Project Information'!B3:C3),\"\",'Project Information'!B3:C3)","v":""},null,null,"Intersection Type",null,{"$f":"'Control Strategy Selection'!D3","v":"At-Grade Intersection"}]
["Intersection:",{"$f":"IF(ISBLANK('Project Information'!B4:C4),\"\",'Project Information'!B4:C4)","v":""},null,null,"Opening Year",null,{"$f":"'Control Strategy Selection'!D5","v":2025}]
["Agency: ",{"$f":"IF(ISBLANK('Project Information'!B5:C5),\"\",'Project Information'!B5:C5)","v":""},null,null,"Design Year",null,{"$f":"'Control Strategy Selection'!D6","v":2045}]
["Project Reference:",{"$f":"IF(ISBLANK('Project Information'!B6:C6),\"\",'Project Information'!B6:C6)","v":""},null,null,"Area Type",null,{"$f":"Input_RTI_AreaType","v":"Urban"}]
["City:",{"$f":"IF(ISBLANK('Project Information'!B7:C7),\"\",'Project Information'!B7:C7)","v":""}]
["State:",{"$f":"IF(ISBLANK('Project Information'!B8:C8),\"\",'Project Information'!B8:C8)","v":""}]
["Date:",{"$f":"IF(ISBLANK('Project Information'!B9:C9),\"\",'Project Information'!B9:C9)","v":""}]
["Analyst:",{"$f":"IF(ISBLANK('Project Information'!B10:C10),\"\",'Project Information'!B10:C10)","v":""}]
["Crash Prediction Summary"]
["Control Strategy","Crash Type","Opening Year","Design Year","Total Project Life Cycle","Rank","AADT Within range?",null,"SSI Score",null,null,null,null,null,null,"Use Val (open vs design)",null,"Included","Total","FI",false]
[null,null,null,null,null,null,null,null,"Open","Design","Rank",null,null,null,null,{"$f":"IF(Input_AnalysisYearType=Notes!$A$11,ResultsRTI!C17,ResultsRTI!E17)","v":"--"},{"$f":"IF(Input_AnalysisYearType=Notes!$A$11,ResultsRTI!C18,ResultsRTI!E18)","v":"--"},{"$f":"AND(IsChecked_RTI_D4TS,ISNUMBER(P16))","v":false},{"$f":"IF(AND(P16>0,R16),P16,99999999999)","v":99999999999},{"$f":"IF(AND(Q16>0,R16),Q16,99999999999)","v":99999999999},{"$f":"RANK(S16,$S$16:$S$29,1)","v":1},{"$f":"RANK(T16,$T$16:$T$29,1)","v":1},{"$f":"IF($U$15,U16+0.01*V16,V16+0.01*U16)","v":1.01},{"$f":"RANK(W16,$W$16:$W$29,1)","v":1}]
[{"$f":"Label_RTI_D4TS","v":"Signalized Diamond"},"Total",7.8641250289127456,"--","--",{"$f":"IF(OR(AND(ISNUMBER(C17),C17>0),AND(ISNUMBER(E17),E17>0)),X16,\"--\")","v":1},{"$f":"IF(AND('Control Strategy Selection'!W62:X62),\"Yes\",\"No\")","v":"No"},null,{"$f":"IF(IsChecked_RTI_D4TS, 'RTI SSI Results'!C13,\"\")","v":74.322274034285826},{"$f":"IF(IsChecked_RTI_D4TS, 'RTI SSI Results'!C54,\"\")","v":47.873999808928964},{"$f":"IF(ISNUMBER(J17),_xlfn.RANK.EQ(J17,$J$17:$J$39),IF(ISNUMBER(I17),_xlfn.RANK.EQ(I17,$I$17:$I$39),\"--\"))","v":5},null,null,null,null,{"$f":"IF(Input_AnalysisYearType=Notes!$A$11,ResultsRTI!C19,ResultsRTI!E19)","v":"--"},{"$f":"IF(Input_AnalysisYearType=Notes!$A$11,ResultsRTI!C20,ResultsRTI!E20)","v":"--"},{"$f":"AND(IsChecked_RTI_D4TSA,ISNUMBER(P17))","v":false},99999999999,99999999999,{"$f":"RANK(S17,$S$16:$S$29,1)","v":1},{"$f":"RANK(T17,$T$16:$T$29,1)","v":1},1.01,{"$f":"RANK(W17,$W$16:$W$29,1)","v":1}]
[null,"Fatal & Injury",3.3479228219418546,"--","--",null,null,null,null,null,null,null,null,null,null,{"$f":"IF(Input_AnalysisYearType=Notes!$A$11,ResultsRTI!C21,ResultsRTI!E21)","v":"--"},{"$f":"IF(Input_AnalysisYearType=Notes!$A$11,ResultsRTI!C22,ResultsRTI!E22)","v":"--"},{"$f":"AND(IsChecked_RTI_DDI,ISNUMBER(P18))","v":false},99999999999,99999999999,1,1,1.01,1]
[{"$f":"Label_RTI_D4TSA","v":"Signalized Diamond (Alt)"},"Total",7.8245993076194136,"--","--",{"$f":"IF(OR(AND(ISNUMBER(C19),C19>0),AND(ISNUMBER(E19),E19>0)),X17,\"--\")","v":1},{"$f":"IF(AND('Control Strategy Selection'!W63:X63),\"Yes\",\"No\")","v":"No"},null,{"$f":"IF(IsChecked_RTI_D4TSA,'RTI SSI Results'!C14,\"\")","v":74.322274034285826},{"$f":"IF(IsChecked_RTI_D4TSA,'RTI SSI Results'!C55,\"\")","v":47.873999808928964},{"$f":"IF(ISNUMBER(J19),_xlfn.RANK.EQ(J19,$J$17:$J$39),IF(ISNUMBER(I19),_xlfn.RANK.EQ(I19,$I$17:$I$39),\"--\"))","v":5},null,null,null,null,{"$f":"IF(Input_AnalysisYearType=Notes!$A$11,ResultsRTI!C23,ResultsRTI!E23)","v":"--"},{"$f":"IF(Input_AnalysisYearType=Notes!$A$11,ResultsRTI!C24,ResultsRTI!E24)","v":"--"},{"$f":"AND(IsChecked_RTI_SPUI,ISNUMBER(P19))","v":false},99999999999,99999999999,1,1,1.01,1]
[null,"Fatal & Injury",3.3083971006485235,"--","--",null,null,null,null,null,null,null,null,null,null,{"$f":"IF(Input_AnalysisYearType=Notes!$A$11,ResultsRTI!C25,ResultsRTI!E25)","v":"--"},{"$f":"IF(Input_AnalysisYearType=Notes!$A$11,ResultsRTI!C26,ResultsRTI!E26)","v":"--"},{"$f":"AND(IsChecked_RTI_D4MS,ISNUMBER(P20))","v":false},99999999999,99999999999,1,1,1.01,1]
[{"$f":"Label_RTI_DDI","v":"Diverging Diamond"},"Total",5.2689637693715401,"--","--",{"$f":"IF(OR(AND(ISNUMBER(C21),C21>0),AND(ISNUMBER(E21),E21>0)),X18,\"--\")","v":1},"N/A",null,{"$f":"IF(IsChecked_RTI_DDI,'RTI SSI Results'!C15,\"\")","v":""},{"$f":"IF(IsChecked_RTI_DDI,'RTI SSI Results'!C56,\"\")","v":""},{"$f":"IF(ISNUMBER(J21),_xlfn.RANK.EQ(J21,$J$17:$J$39),IF(ISNUMBER(I21),_xlfn.RANK.EQ(I21,$I$17:$I$39),\"--\"))","v":"--"},null,null,null,null,{"$f":"IF(Input_AnalysisYearType=Notes!$A$11,ResultsRTI!C27,ResultsRTI!E27)","v":"--"},{"$f":"IF(Input_AnalysisYearType=Notes!$A$11,ResultsRTI!C28,ResultsRTI!E28)","v":"--"},{"$f":"AND(IsChecked_RTI_Rdbt1Ln,ISNUMBER(P21))","v":false},99999999999,99999999999,1,1,1.01,1]
[null,"Fatal & Injury",1.9752744649456941,"--","--",null,null,null,null,null,null,null,null,null,null,{"$f":"IF(Input_AnalysisYearType=Notes!$A$11,ResultsRTI!C29,ResultsRTI!E29)","v":"--"},{"$f":"IF(Input_AnalysisYearType=Notes!$A$11,ResultsRTI!C30,ResultsRTI!E30)","v":"--"},{"$f":"AND(IsChecked_RTI_Rdbt2Ln,ISNUMBER(P22))","v":false},99999999999,99999999999,1,1,1.01,1]
[{"$f":"Label_RTI_SPUI","v":"Single-Point Diamond"},"Total",4.9961365510916185,"--","--",{"$f":"IF(OR(AND(ISNUMBER(C23),C23>0),AND(ISNUMBER(E23),E23>0)),X19,\"--\")","v":1},{"$f":"IF(AND('Control Strategy Selection'!W65:X65),\"Yes\",\"No\")","v":"Yes"},null,{"$f":"IF(IsChecked_RTI_SPUI,'RTI SSI Results'!C16,\"\")","v":91.53861526414623},{"$f":"IF(IsChecked_RTI_SPUI,'RTI SSI Results'!C57,\"\")","v":80.636484626791187},{"$f":"IF(ISNUMBER(J23),_xlfn.RANK.EQ(J23,$J$17:$J$39),IF(ISNUMBER(I23),_xlfn.RANK.EQ(I23,$I$17:$I$39),\"--\"))","v":1},null,null,null,null,{"$f":"IF(Input_AnalysisYearType=Notes!$A$11,ResultsRTI!C31,ResultsRTI!E31)","v":"--"},{"$f":"IF(Input_AnalysisYearType=Notes!$A$11,ResultsRTI!C32,ResultsRTI!E32)","v":"--"},{"$f":"AND(IsChecked_RTI_TD,ISNUMBER(P23))","v":false},{"$f":"IF(AND(P23>0,R23),P23,99999999999)","v":99999999999},{"$f":"IF(AND(Q23>0,R23),Q23,99999999999)","v":99999999999},{"$f":"RANK(S23,$S$16:$S$29,1)","v":1},{"$f":"RANK(T23,$T$16:$T$29,1)","v":1},{"$f":"IF($U$15,U23+0.01*V23,V23+0.01*U23)","v":1.01},{"$f":"RANK(W23,$W$16:$W$29,1)","v":1}]
[null,"Fatal & Injury",1.2383968062883208,"--","--",null,null,null,null,null,null,null,null,null,null,{"$f":"IF(Input_AnalysisYearType=Notes!$A$11,ResultsRTI!C33,ResultsRTI!E33)","v":"--"},{"$f":"IF(Input_AnalysisYearType=Notes!$A$11,ResultsRTI!C34,ResultsRTI!E34)","v":"--"},{"$f":"AND(IsChecked_RTI_Other1,ISNUMBER(P24))","v":false},{"$f":"IF(AND(P24>0,R24),P24,99999999999)","v":99999999999},{"$f":"IF(AND(Q24>0,R24),Q24,99999999999)","v":99999999999},{"$f":"RANK(S24,$S$16:$S$29,1)","v":1},{"$f":"RANK(T24,$T$16:$T$29,1)","v":1},{"$f":"IF($U$15,U24+0.01*V24,V24+0.01*U24)","v":1.01},{"$f":"RANK(W24,$W$16:$W$29,1)","v":1}]
[{"$f":"Label_RTI_D4MS","v":"Unsignalized Diamond"},"Total",8.0100874988439443,"--","--",{"$f":"IF(OR(AND(ISNUMBER(C25),C25>0),AND(ISNUMBER(E25),E25>0)),X20,\"--\")","v":1},{"$f":"IF(AND('Control Strategy Selection'!W66:X66),\"Yes\",\"No\")","v":"No"},null,{"$f":"IF(IsChecked_RTI_D4MS,'RTI SSI Results'!C17,\"\")","v":56.689872665423344},{"$f":"IF(IsChecked_RTI_D4MS,'RTI SSI Results'!C58,\"\")","v":24.337952419061477},{"$f":"IF(ISNUMBER(J25),_xlfn.RANK.EQ(J25,$J$17:$J$39),IF(ISNUMBER(I25),_xlfn.RANK.EQ(I25,$I$17:$I$39),\"--\"))","v":7},null,null,null,null,{"$f":"IF(Input_AnalysisYearType=Notes!$A$11,ResultsRTI!C35,ResultsRTI!E35)","v":"--"},{"$f":"IF(Input_AnalysisYearType=Notes!$A$11,ResultsRTI!C36,ResultsRTI!E36)","v":"--"},{"$f":"AND(IsChecked_RTI_Other2,ISNUMBER(P25))","v":false},{"$f":"IF(AND(P25>0,R25),P25,99999999999)","v":99999999999},{"$f":"IF(AND(Q25>0,R25),Q25,99999999999)","v":99999999999},{"$f":"RANK(S25,$S$16:$S$29,1)","v":1},{"$f":"RANK(T25,$T$16:$T$29,1)","v":1},{"$f":"IF($U$15,U25+0.01*V25,V25+0.01*U25)","v":1.01},{"$f":"RANK(W25,$W$16:$W$29,1)","v":1}]
[null,"Fatal & Injury",2.9999001199106132,"--","--"]
[{"$f":"Label_RTI_1LnRdbt","v":"1-lane Roundabout"},"Total",5.5976639847692837,"--","--",{"$f":"IF(OR(AND(ISNUMBER(C27),C27>0),AND(ISNUMBER(E27),E27>0)),X21,\"--\")","v":1},"N/A",null,{"$f":"IF(IsChecked_RTI_Rdbt1Ln,'RTI SSI Results'!C18,\"\")","v":89.187743504463157},{"$f":"IF(IsChecked_RTI_Rdbt1Ln,'RTI SSI Results'!C59,\"\")","v":78.652878132304522},{"$f":"IF(ISNUMBER(J27),_xlfn.RANK.EQ(J27,$J$17:$J$39),IF(ISNUMBER(I27),_xlfn.RANK.EQ(I27,$I$17:$I$39),\"--\"))","v":2}]
[null,"Fatal & Injury",0.56684459319417768,"--","--"]
[{"$f":"Label_RTI_2LnRdbt","v":"2-lane Roundabout"},"Total",25.153072378348242,"--","--",{"$f":"IF(OR(AND(ISNUMBER(C29),C29>0),AND(ISNUMBER(E29),E29>0)),X22,\"--\")","v":1},"N/A",null,{"$f":"IF(IsChecked_RTI_Rdbt2Ln,'RTI SSI Results'!C19,\"\")","v":79.551584114822987},{"$f":"IF(IsChecked_RTI_Rdbt2Ln,'RTI SSI Results'!C60,\"\")","v":61.877657555177649},{"$f":"IF(ISNUMBER(J29),_xlfn.RANK.EQ(J29,$J$17:$J$39),IF(ISNUMBER(I29),_xlfn.RANK.EQ(I29,$I$17:$I$39),\"--\"))","v":3}]
[null,"Fatal & Injury",4.5822765692494238,"--","--"]
[{"$f":"Label_RTI_TD","v":"Signalized Tight Diamond Interchange"},"Total",6.3656274099427836,"--","--",{"$f":"IF(OR(AND(ISNUMBER(C31),C31>0),AND(ISNUMBER(E31),E31>0)),X23,\"--\")","v":1},{"$f":"IF(AND('Control Strategy Selection'!W69:X69),\"Yes\",\"No\")","v":"Yes"},null,{"$f":"IF(IsChecked_RTI_TD,'RTI SSI Results'!C20,\"\")","v":77.052993827180828},{"$f":"IF(IsChecked_RTI_TD,'RTI SSI Results'!C61,\"\")","v":53.129034370899021},{"$f":"IF(ISNUMBER(J31),_xlfn.RANK.EQ(J31,$J$17:$J$39),IF(ISNUMBER(I31),_xlfn.RANK.EQ(I31,$I$17:$I$39),\"--\"))","v":4}]
[null,"Fatal & Injury",2.0071286710807112,"--","--"]
[{"$f":"Label_RTI_Other1","v":"Other 1"},"Total",0,"--","--",{"$f":"IF(OR(AND(ISNUMBER(C33),C33>0),AND(ISNUMBER(E33),E33>0)),X24,\"--\")","v":"--"},"N/A",null,"--","--","--"]
[null,"Fatal & Injury",0,"--","--"]
[{"$f":"Label_RTI_Other2","v":"Other 2"},"Total",0,"--","--",{"$f":"IF(OR(AND(ISNUMBER(C35),C35>0),AND(ISNUMBER(E35),E35>0)),X25,\"--\")","v":"--"},"N/A",null,"--","--","--"]
[null,"Fatal & Injury",0,"--","--"]
[null,null,null,"--","--"]
[null,null,null,"--","--"]
[null,null,null,"--","--"]

{"sheet":"SSI 3L Results_Full","index":25,"n_rows":56,"n_cols":41,"rows_kept":56,"cut":false,"hidden":true,"merged":[[1,39,1,40],[41,1,41,11],[49,1,49,11],[1,22,1,32],[10,22,10,32],[18,22,18,32],[25,22,25,32],[33,22,33,32],[41,22,41,32],[49,22,49,32],[1,1,1,11],[1,18,1,19],[10,1,10,11],[18,1,18,11],[25,1,25,11],[33,1,33,11]]}
[]
[null,"SSI Score (Open Year)",null,null,null,null,null,null,null,null,null,null,null,null,null,"Alpha",null,null,"Existing Exposure",null,null,null,"SSI Score (Design Year)",null,null,null,null,null,null,null,null,null,null,null,null,null,null,null,null,"Existing Exposure"]
[null,null,"TradT_Sig","TradT_AWSC","TradT_MRSC","CGT","T_PDLT","T_1x1_RAB","T_2x1_RAB","T_2x2_RAB","T_RCUT_Sig","T_RCUT_Unsig",null,null,null,13700000,null,null,"Existing alt",{"$f":"VLOOKUP('SSI Results'!B6,'SSI 3L Results_Full'!S11:T21,2, FALSE)","v":"TradT_Sig"},null,null,null,"TradT_Sig","TradT_AWSC","TradT_MRSC","CGT","T_PDLT","T_1x1_RAB","T_2x1_RAB","T_2x2_RAB","T_RCUT_Sig","T_RCUT_Unsig",null,null,null,null,null,null,"Existing alt",{"$f":"VLOOKUP('SSI Results'!B6,'SSI 3L Results_Full'!S11:T21,2, FALSE)","v":"TradT_Sig"}]
[null,"Crossing",{"$f":"EXP(-C52/$P$3)","v":0.87496838131253929},{"$f":"EXP(-D52/$P$3)","v":0.96237620956147307},{"$f":"EXP(-E52/$P$3)","v":0.71327366669104575},0.94824839469522848,0.87496838131253929,0.9961852098507662,0.99488690806775826,0.99238497232541523,0.96438443960684395,0.94926811360458418,null,null,null,null,null,null,"Nonmotorized",{"$f":"HLOOKUP($T$3,$B$20:$L$24,5,FALSE)","v":6200961.538461539},null,null,"Crossing",{"$f":"EXP(-X52/$P$3)","v":0.84036190807700295},{"$f":"EXP(-Y52/$P$3)","v":0.95059630147714702},0.63996253802018899,0.93425116192599578,0.84036190807700295,0.99509220566517631,0.99329144376922851,0.99020849777558562,0.95621553597151832,0.93774563875598416,null,null,null,null,null,null,"Nonmotorized",{"$f":"HLOOKUP($T$3,$W$20:$AG$24,5,FALSE)","v":6997596.1538461549}]
[null,"Merging",{"$f":"EXP(-C53/$P$3)","v":0.98735334766805516},{"$f":"EXP(-D53/$P$3)","v":0.99798509939591429},0.97172859445083859,0.99307074984144272,0.98546498352292111,0.9989476215719203,0.99820764824916175,0.99806365470203973,0.98310527086617128,0.97583473508973406,null,null,null,null,null,null,"Crossing",{"$f":"HLOOKUP($T$3,$B$20:$L$24,2,FALSE)","v":22765185.364086464},null,null,"Merging",{"$f":"EXP(-X53/$P$3)","v":0.98248142274492878},0.99721288356648086,0.96095691070064593,0.99039049476870211,0.97987545455755165,0.99854866269356102,0.99752148041989097,0.99732912349243519,0.97661534509157621,0.96659973532468546,null,null,null,null,null,null,"Crossing",{"$f":"HLOOKUP($T$3,$W$20:$AG$24,2,FALSE)","v":29529214.299131885}]
[null,"Diverging",{"$f":"EXP(-C54/$P$3)","v":0.99513339840762505},0.99999919518889302,0.99513339840762505,0.99513339840762505,0.99513339840762505,0.99997016064805067,0.99997016064805067,0.99997016064805067,0.99236748508862405,0.99236748508862405,null,null,null,null,null,null,"Merging",{"$f":"HLOOKUP($T$3,$B$20:$L$24,3,FALSE)","v":15247365.958217608},null,null,"Diverging",0.99399526478691047,0.99999898762964323,0.99399526478691047,0.99399526478691047,0.99399526478691047,0.99996246554288459,0.99996246554288459,0.99996246554288459,0.99010414582453432,0.99010414582453432,null,null,null,null,null,null,"Merging",{"$f":"HLOOKUP($T$3,$W$20:$AG$24,3,FALSE)","v":21053235.150075808}]
[null,"Nonmotorized",{"$f":"EXP(-C55/$P$3)","v":0.52610334401865855},0.74560716753692757,0.28365486641629734,0.87980276078505537,0.58173584216062957,0.82538974171864976,0.69914818111225474,0.68126822573437928,0.5888269479954793,0.46750287877424501,null,null,null,null,null,null,"Diverging",{"$f":"HLOOKUP($T$3,$B$20:$L$24,4,FALSE)","v":17211485.62975486},null,null,"Nonmotorized",0.48845305084108026,0.71868928464063164,0.24533577830936226,0.86688869019073056,0.54674486036326564,0.80528998214688741,0.6680210635653957,0.64849195534613424,0.55208183540027922,0.42619556405486592,null,null,null,null,null,null,"Diverging",{"$f":"HLOOKUP($T$3,$W$20:$AG$24,4,FALSE)","v":21650297.199747749}]
[null,"Average",{"$f":"EXP(-(C56/4)/$P$3)","v":0.82007643329514102},{"$f":"EXP(-(D56/4)/$P$3)","v":0.91990857048585761},0.66507125640872178,0.95288882162634758,0.84054345394650287,0.95198965404961633,{"$f":"EXP(-(I56/4)/$P$3)","v":0.91282540915011579},0.90632904634288602,0.86273537450400839,0.80966524099952786,null,null,null,null,null,null,null,null,null,null,"Average",{"$f":"EXP(-(X56/4)/$P$3)","v":0.7957001903266443},{"$f":"EXP(-(Y56/4)/$P$3)","v":0.9085130768209283},0.62230159974496124,0.94494045104253277,0.81790255623982189,0.94578438287704392,0.90197230246790805,0.89456800354290045,0.8452611710718364,0.78642150741682293]
[]
[]
[null,"Conflict Points",null,null,null,null,null,null,null,null,null,null,null,null,null,null,null,null,"Traffic Signal","TradT_Sig",null,null,"Conflict Points"]
[null,null,"TradT_Sig","TradT_AWSC","TradT_MRSC","CGT","T_PDLT","T_1x1_RAB","T_2x1_RAB","T_2x2_RAB","T_RCUT_Sig","T_RCUT_Unsig",null,null,null,null,null,null,"Traffic Signal (Alt)","TradT_Sig",null,null,null,"TradT_Sig","TradT_AWSC","TradT_MRSC","CGT","T_PDLT","T_1x1_RAB","T_2x1_RAB","T_2x2_RAB","T_RCUT_Sig","T_RCUT_Unsig"]
[null,"Crossing",{"$f":"COUNTIF(INDIRECT(C$12&\"!$B$4:$B$100\"),\"*\"&$B13&\"*\")","v":3},{"$f":"COUNTIF(INDIRECT(D$12&\"!$B$4:$B$100\"),\"*\"&$B13&\"*\")","v":3},3,3,3,2,2,2,{"$f":"COUNTIF(INDIRECT(K$12&\"!$B$4:$B$100\"),\"*\"&$B13&\"*\")","v":1},1,null,null,null,null,null,null,"Minor Road Stop","TradT_MRSC",null,null,"Crossing",{"$f":"C13","v":3},{"$f":"D13","v":3},3,3,3,2,2,2,1,1]
[null,"Merging",3,3,3,3,3,3,3,3,3,3,null,null,null,null,null,null,"All Way Stop","TradT_AWSC",null,null,"Merging",{"$f":"C14","v":3},{"$f":"D14","v":3},{"$f":"E14","v":3},{"$f":"F14","v":3},{"$f":"G14","v":3},{"$f":"H14","v":3},{"$f":"I14","v":3},{"$f":"J14","v":3},{"$f":"K14","v":3},{"$f":"L14","v":3}]
[null,"Diverging",3,3,3,3,3,3,3,3,{"$f":"COUNTIF(INDIRECT(K$12&\"!$B$4:$B$100\"),\"*\"&$B15&\"*\")","v":3},3,null,null,null,null,null,null,"1-Lane Roundabout","T_1x1_RAB",null,null,"Diverging",3,3,3,3,3,3,3,3,3,3]
[null,"Nonmotorized",12,12,12,12,12,6,6,6,6,6,null,null,null,null,null,null,"RAB2x1","T_2x1_RAB",null,null,"Nonmotorized",12,12,12,12,12,6,6,6,6,6]
[null,"Total",{"$f":"SUM(C13:C16)","v":21},21,21,21,21,14,14,14,13,13,null,null,null,null,null,null,"2-Lane Roundabout","T_2x2_RAB",null,null,"Total",{"$f":"SUM(X13:X16)","v":21},21,21,21,21,14,14,14,13,13]
[null,null,null,null,null,null,null,null,null,null,null,null,null,null,null,null,null,null,"Partial Displaced Left Turn","T_PDLT"]
[null,"Exposure",null,null,null,null,null,null,null,null,null,null,null,null,null,null,null,null,"Signalized RCUT","T_RCUT_Sig",null,null,"Exposure"]
[null,null,"TradT_Sig","TradT_AWSC","TradT_MRSC","CGT","T_PDLT","T_1x1_RAB","T_2x1_RAB","T_2x2_RAB","T_RCUT_Sig","T_RCUT_Unsig",null,null,null,null,null,null,"Unsignalized RCDUT","T_RCUT_Unsig",null,null,null,"TradT_Sig","TradT_AWSC","TradT_MRSC","CGT","T_PDLT","T_1x1_RAB","T_2x1_RAB","T_2x2_RAB","T_RCUT_Sig","T_RCUT_Unsig"]
[null,"Crossing",{"$f":"SUMIF(INDIRECT(C$20&\"!$B$4:$B$100\"),\"*\"&$B21&\"*\",INDIRECT(C$20&\"!$L$4:$L$100\"))","v":22765185.364086464},{"$f":"SUMIF(INDIRECT(D$20&\"!$B$4:$B$100\"),\"*\"&$B21&\"*\",INDIRECT(D$20&\"!$L$4:$L$100\"))","v":22765185.364086464},22765185.364086464,22765185.364086464,22765185.364086464,20548741.094070766,20548741.094070766,20548741.094070766,{"$f":"SUMIF(INDIRECT(K$20&\"!$B$4:$B$100\"),\"*\"&$B21&\"*\",INDIRECT(K$20&\"!$L$4:$L$100\"))","v":13537359.618403576},13537359.618403576,null,null,null,null,null,null,"Continuous Green-T","CGT",null,null,"Crossing",{"$f":"SUMIF(INDIRECT(X$20&\"!$B$4:$B$100\"),\"*\"&$W21&\"*\",INDIRECT(X$20&\"!$L$103:$L$200\"))","v":29529214.299131885},{"$f":"SUMIF(INDIRECT(Y$20&\"!$B$4:$B$100\"),\"*\"&$W21&\"*\",INDIRECT(Y$20&\"!$L$103:$L$200\"))","v":29529214.299131885},29529214.299131885,29529214.299131885,29529214.299131885,26450819.479665637,26450819.479665637,26450819.479665637,16712789.652350094,16712789.652350094]
[null,"Merging",15247365.958217608,15247365.958217608,15247365.958217608,15247365.958217608,15247365.958217608,17463810.228233308,17463810.228233308,17463810.228233308,24475191.703900494,24475191.703900494,null,null,null,null,null,null,null,null,null,null,"Merging",{"$f":"SUMIF(INDIRECT(X$20&\"!$B$4:$B$100\"),\"*\"&$W22&\"*\",INDIRECT(X$20&\"!$L$103:$L$200\"))","v":21053235.150075808},21053235.150075808,21053235.150075808,21053235.150075808,21053235.150075808,24131629.969542056,24131629.969542056,24131629.969542056,33869659.796857595,33869659.796857595]
[null,"Diverging",17211485.62975486,17211485.62975486,17211485.62975486,17211485.62975486,17211485.62975486,19427929.899770562,19427929.899770562,19427929.899770562,26439311.375437751,26439311.375437751,null,null,null,null,null,null,null,null,null,null,"Diverging",21650297.199747749,21650297.199747749,21650297.199747749,21650297.199747749,21650297.199747749,24728692.019213993,24728692.019213993,24728692.019213993,34466721.846529536,34466721.846529536]
[null,"Nonmotorized",6200961.538461539,6200961.538461539,6200961.538461539,6200961.538461539,6200961.538461539,6200961.538461539,6200961.538461539,6200961.538461539,5894230.7692307699,5894230.7692307699,null,null,null,null,null,null,null,null,null,null,"Nonmotorized",6997596.1538461549,6997596.1538461549,6997596.1538461549,6997596.1538461549,6997596.1538461549,6997596.153846154,6997596.153846154,6997596.153846154,6655048.076923077,6655048.076923077]
[]
[null,"Sum of P(FSI)",null,null,null,null,null,null,null,null,null,null,null,null,null,null,null,null,null,null,null,null,"Sum of P(FSI)"]
[null,null,"TradT_Sig","TradT_AWSC","TradT_MRSC","CGT","T_PDLT","T_1x1_RAB","T_2x1_RAB","T_2x2_RAB","T_RCUT_Sig","T_RCUT_Unsig",null,null,null,null,null,null,null,null,null,null,null,"TradT_Sig","TradT_AWSC","TradT_MRSC","CGT","T_PDLT","T_1x1_RAB","T_2x1_RAB","T_2x2_RAB","T_RCUT_Sig","T_RCUT_Unsig"]
[null,"Crossing",{"$f":"SUMIF(INDIRECT(C$27&\"!$B$4:$B$100\"),\"*\"&$B28&\"*\",INDIRECT(C$27&\"!$R$4:$R$100\"))","v":0.16841044169355912},4.2297117209456406E-2,0.21430516148379467,0.16841044169355912,0.16841044169355912,8.3396054771526281E-3,8.3396054771526281E-3,8.3396054771526281E-3,4.3605107328437018E-2,4.3605107328437018E-2,null,null,null,null,null,null,null,null,null,null,"Crossing",{"$f":"C28","v":0.16841044169355912},{"$f":"D28","v":4.2297117209456406E-2},0.21430516148379467,0.16841044169355912,0.16841044169355912,8.3396054771526281E-3,8.3396054771526281E-3,8.3396054771526281E-3,4.3605107328437018E-2,4.3605107328437018E-2]
[null,"Merging",2.2899049059891749E-2,3.1067146310797258E-3,2.5086357923363709E-2,2.2899049059891749E-2,1.8659992314051365E-2,4.5644739468279193E-3,4.5644739468279193E-3,4.5644739468279193E-3,2.7138105805732136E-2,2.7138105805732136E-2,null,null,null,null,null,null,null,null,null,null,"Merging",{"$f":"C29","v":2.2899049059891749E-2},{"$f":"D29","v":3.1067146310797258E-3},{"$f":"E29","v":2.5086357923363709E-2},{"$f":"F29","v":2.2899049059891749E-2},{"$f":"G29","v":1.8659992314051365E-2},{"$f":"H29","v":4.5644739468279193E-3},{"$f":"I29","v":4.5644739468279193E-3},{"$f":"J29","v":4.5644739468279193E-3},{"$f":"K29","v":2.7138105805732136E-2},{"$f":"L29","v":2.7138105805732136E-2}]
[null,"Diverging",1.0654462113250735E-2,1.921841642256482E-6,1.0654462113250735E-2,1.0654462113250735E-2,1.0654462113250735E-2,2.9449772219116894E-5,2.9449772219116894E-5,2.9449772219116894E-5,1.4302020335581396E-2,1.4302020335581396E-2,null,null,null,null,null,null,null,null,null,null,"Diverging",1.0654462113250735E-2,1.921841642256482E-6,1.0654462113250735E-2,1.0654462113250735E-2,1.0654462113250735E-2,2.9449772219116894E-5,2.9449772219116894E-5,2.9449772219116894E-5,1.4302020335581396E-2,1.4302020335581396E-2]
[null,"Nonmotorized",4.722882707603107,2.2466784051784279,4.722882707603107,4.722882707603107,4.722882707603107,2.0092415381159388,2.0092415381159388,2.0092415381159388,2.2613571590276171,2.2613571590276171,null,null,null,null,null,null,null,null,null,null,"Nonmotorized",4.722882707603107,2.2466784051784279,4.722882707603107,4.722882707603107,4.722882707603107,2.0092415381159388,2.0092415381159388,2.0092415381159388,2.2613571590276171,2.2613571590276171]
[null,"Total",{"$f":"SUM(C28:C31)","v":4.9248466604698082},2.2920841588606065,4.972928689123516,4.9248466604698082,4.9206076037239681,2.0221750673121384,2.0221750673121384,2.0221750673121384,2.3464023924973678,2.3464023924973678,null,null,null,null,null,null,null,null,null,null,"Total",{"$f":"SUM(X28:X31)","v":4.9248466604698082},2.2920841588606065,4.972928689123516,4.9248466604698082,4.9206076037239681,2.0221750673121384,2.0221750673121384,2.0221750673121384,2.3464023924973678,2.3464023924973678]
[]
[null,"Average P(FSI)",null,null,null,null,null,null,null,null,null,null,null,null,null,null,null,null,null,null,null,null,"Average P(FSI)"]
[null,null,"TradT_Sig","TradT_AWSC","TradT_MRSC","CGT","T_PDLT","T_1x1_RAB","T_2x1_RAB","T_2x2_RAB","T_RCUT_Sig","T_RCUT_Unsig",null,null,null,null,null,null,null,null,null,null,null,"TradT_Sig","TradT_AWSC","TradT_MRSC","CGT","T_PDLT","T_1x1_RAB","T_2x1_RAB","T_2x2_RAB","T_RCUT_Sig","T_RCUT_Unsig"]
[null,"Crossing",{"$f":"C28/C13","v":5.6136813897853043E-2},{"$f":"D28/D13","v":1.4099039069818802E-2},7.1435053827931555E-2,5.6136813897853043E-2,5.6136813897853043E-2,{"$f":"H28/H13","v":4.1698027385763141E-3},4.1698027385763141E-3,4.1698027385763141E-3,4.3605107328437018E-2,4.3605107328437018E-2,null,null,null,null,null,null,null,null,null,null,"Crossing",{"$f":"X28/X13","v":5.6136813897853043E-2},{"$f":"Y28/Y13","v":1.4099039069818802E-2},7.1435053827931555E-2,5.6136813897853043E-2,5.6136813897853043E-2,4.1698027385763141E-3,4.1698027385763141E-3,4.1698027385763141E-3,4.3605107328437018E-2,4.3605107328437018E-2]
[null,"Merging",{"$f":"C29/C14","v":7.6330163532972494E-3},1.035571543693242E-3,8.3621193077879023E-3,7.6330163532972494E-3,6.2199974380171214E-3,1.5214913156093065E-3,1.5214913156093065E-3,1.5214913156093065E-3,9.0460352685773782E-3,9.0460352685773782E-3,null,null,null,null,null,null,null,null,null,null,"Merging",{"$f":"X29/X14","v":7.6330163532972494E-3},1.035571543693242E-3,8.3621193077879023E-3,7.6330163532972494E-3,6.2199974380171214E-3,1.5214913156093065E-3,1.5214913156093065E-3,1.5214913156093065E-3,9.0460352685773782E-3,9.0460352685773782E-3]
[null,"Diverging",3.5514873710835782E-3,6.4061388075216071E-7,3.5514873710835782E-3,3.5514873710835782E-3,3.5514873710835782E-3,9.8165907397056307E-6,9.8165907397056307E-6,9.8165907397056307E-6,4.7673401118604655E-3,4.7673401118604655E-3,null,null,null,null,null,null,null,null,null,null,"Diverging",{"$f":"X30/X15","v":3.5514873710835782E-3},6.4061388075216071E-7,3.5514873710835782E-3,3.5514873710835782E-3,3.5514873710835782E-3,9.8165907397056307E-6,9.8165907397056307E-6,9.8165907397056307E-6,4.7673401118604655E-3,4.7673401118604655E-3]
[null,"Nonmotorized",0.39357355896692559,0.18722320043153565,0.39357355896692559,0.39357355896692559,0.39357355896692559,0.33487358968598979,0.33487358968598979,0.33487358968598979,0.37689285983793619,0.37689285983793619,null,null,null,null,null,null,null,null,null,null,"Nonmotorized",{"$f":"X31/X16","v":0.39357355896692559},0.18722320043153565,0.39357355896692559,0.39357355896692559,0.39357355896692559,0.33487358968598979,0.33487358968598979,0.33487358968598979,0.37689285983793619,0.37689285983793619]
[null,"Total",0.23451650764141943,0.10914686470764792,0.23680612805350076,0.23451650764141943,0.23431464779637942,0.14444107623658131,0.14444107623658131,0.14444107623658131,0.18049249173056675,0.18049249173056675,null,null,null,null,null,null,null,null,null,null,"Total",0.23451650764141943,0.10914686470764792,0.23680612805350076,0.23451650764141943,0.23431464779637942,0.14444107623658131,0.14444107623658131,0.14444107623658131,0.18049249173056675,0.18049249173056675]
[]
[null,"Average Complexity",null,null,null,null,null,null,null,null,null,null,null,null,null,null,null,null,null,null,null,null,"Average Complexity"]
[null,null,"TradT_Sig","TradT_AWSC","TradT_MRSC","CGT","T_PDLT","T_1x1_RAB","T_2x1_RAB","T_2x2_RAB","T_RCUT_Sig","T_RCUT_Unsig",null,null,null,null,null,null,null,null,null,null,null,"TradT_Sig","TradT_AWSC","TradT_MRSC","CGT","T_PDLT","T_1x1_RAB","T_2x1_RAB","T_2x2_RAB","T_RCUT_Sig","T_RCUT_Unsig"]
[null,"Crossing",{"$f":"AVERAGEIF(INDIRECT(C$43&\"!$B$4:$B$100\"),\"*\"&$B44&\"*\",INDIRECT(C$43&\"!$AI$4:$AI$100\"))","v":1.3326388888888889},1.9131944444444446,2.6388888888888888,0.42083333333333323,1.3326388888888889,0.61111111111111105,0.91666666666666652,1.2222222222222221,0.84166666666666656,1.2083333333333335,null,null,null,null,null,null,null,null,null,null,"Crossing",{"$f":"C44","v":1.3326388888888889},{"$f":"D44","v":1.9131944444444446},2.6388888888888888,0.42083333333333323,1.3326388888888889,0.61111111111111105,0.91666666666666652,1.2222222222222221,0.84166666666666656,1.2083333333333335]
[null,"Merging",1.0520833333333333,1.5104166666666667,2.083333333333333,0.55833333333333324,1.5677083333333333,0.61111111111111105,0.91666666666666663,1.1203703703703702,0.7715277777777777,1.1076388888888891,null,null,null,null,null,null,null,null,null,null,"Merging",{"$f":"C45","v":1.0520833333333333},{"$f":"D45","v":1.5104166666666667},{"$f":"E45","v":2.083333333333333},{"$f":"F45","v":0.55833333333333324},{"$f":"G45","v":1.5677083333333333},{"$f":"H45","v":0.61111111111111105},{"$f":"I45","v":0.91666666666666663},{"$f":"J45","v":1.1203703703703702},{"$f":"K45","v":0.7715277777777777},{"$f":"L45","v":1.1076388888888891}]
[null,"Diverging",1,1,1,1,1,1,1,1,1,1,null,null,null,null,null,null,null,null,null,null,"Diverging",1,1,1,1,1,1,1,1,1,1]
[null,"Nonmotorized",2.1743055555555557,3.1215277777777781,3.8854166666666661,0.42083333333333334,1.8364293981481481,1.2222222222222223,2.0370370370370368,2.4444444444444446,1.5287939814814813,2.194803240740741,null,null,null,null,null,null,null,null,null,null,"Nonmotorized",2.1743055555555557,3.1215277777777781,3.8854166666666661,0.42083333333333334,1.8364293981481481,1.2222222222222223,2.0370370370370368,2.4444444444444446,1.5287939814814813,2.194803240740741]
[null,"Total",{"$f":"AVERAGE(INDIRECT(C$43&\"!$AI$4:$AI$100\"))","v":1.7259920634920629},2.4156746031746033,3.0376984126984112,0.52321428571428541,1.6065806878306879,{"$f":"AVERAGE(INDIRECT(H$43&\"!$AI$4:$AI$100\"))","v":0.95634920634920639},1.4146825396825395,1.6765873015873016,1.1791549145299147,1.5923130341880345,null,null,null,null,null,null,null,null,null,null,"Total",{"$f":"AVERAGE(INDIRECT(X$43&\"!$AI$4:$AI$100\"))","v":1.7259920634920629},{"$f":"AVERAGE(INDIRECT(Y$43&\"!$AI$4:$AI$100\"))","v":2.4156746031746033},3.0376984126984112,0.52321428571428541,1.6065806878306879,0.95634920634920639,1.4146825396825395,1.6765873015873016,1.1791549145299147,1.5923130341880345]
[]
[null,"Exposure-Severity-Complexity Product",null,null,null,null,null,null,null,null,null,null,null,null,null,null,null,null,null,null,null,null,"Exposure-Severity-Complexity Product"]
[null,null,"TradT_Sig","TradT_AWSC","TradT_MRSC","CGT","T_PDLT","T_1x1_RAB","T_2x1_RAB","T_2x2_RAB","T_RCUT_Sig","T_RCUT_Unsig",null,null,null,null,null,null,null,null,null,null,null,"TradT_Sig","TradT_AWSC","TradT_MRSC","CGT","T_PDLT","T_1x1_RAB","T_2x1_RAB","T_2x2_RAB","T_RCUT_Sig","T_RCUT_Unsig"]
[null,"Crossing",{"$f":"SUMIF(INDIRECT(C$51&\"!$B$4:$B$100\"),\"*\"&$B52&\"*\",INDIRECT(C$51&\"!$AK$4:$AK$100\"))","v":1829875.146207328},525392.73311910476,4629094.4790302161,728001.44118787465,1829875.146207328,52362.564765103947,70229.056679706351,104725.12953020789,496834.1660793153,713276.77308416576,null,null,null,null,null,null,null,null,null,null,"Crossing",{"$f":"SUMIF(INDIRECT(X$51&\"!$B$4:$B$100\"),\"*\"&$W52&\"*\",INDIRECT(X$51&\"!$AK$103:$AK$200\"))","v":2382740.1266552918},{"$f":"SUMIF(INDIRECT(Y$51&\"!$B$4:$B$100\"),\"*\"&$W52&\"*\",INDIRECT(Y$51&\"!$AK$103:$AK$200\"))","v":694121.53582193237},6114935.2499855375,931736.54677793849,2382740.1266552918,67402.316363492893,92216.888467107347,134804.63272698579,613375.51367816713,880588.60874588368]
[null,"Merging",174364.03638544207,27631.98548594617,392898.70139271754,95261.153841097839,200591.08048810772,14425.17616882762,24577.251111502985,26553.64740200404,233435.30213486982,335129.88920352608,null,null,null,null,null,null,null,null,null,null,"Merging",{"$f":"SUMIF(INDIRECT(X$51&\"!$B$4:$B$100\"),\"*\"&$W53&\"*\",INDIRECT(X$51&\"!$AK$103:$AK$200\"))","v":242131.65684238053},38236.805139767712,545612.21326841111,132286.85015504691,278518.29534534179,19897.763776880878,33997.867863929991,36639.96036864668,324175.08149436349,465399.8694721061]
[null,"Diverging",66835.204202466703,11.025916602787309,66835.204202466703,66835.204202466703,66835.204202466703,408.80522097721905,408.80522097721905,408.80522097721905,104966.54517189079,104966.54517189079,null,null,null,null,null,null,null,null,null,null,"Diverging",82512.855019012146,13.869480908568043,82512.855019012146,82512.855019012146,82512.855019012146,514.23171324610496,514.23171324610496,514.23171324610496,136248.4670986397,136248.4670986397]
[null,"Nonmotorized",8798929.3121297061,4021722.7148545706,17261959.433541186,1754388.1898182449,7421821.7481591478,2629024.3829382285,4903128.1962422263,5258048.7658764571,7255834.3459439455,10416791.882790817,null,null,null,null,null,null,null,null,null,null,"Nonmotorized",9816213.3168610707,4525468.4465552717,19250246.517594974,1956972.3278035787,8271690.3714104053,2966773.9101927364,5527067.3591296263,5933547.8203854728,8138608.178845766,11684140.454778576]
[null,"Total",{"$f":"SUM(C52:C55)","v":10870003.698924944},4574758.4593762243,22350787.818166588,2644485.9890496843,9519123.1790570505,2696220.9290931374,{"$f":"SUM(I52:I55)","v":4998343.3092544125},5389736.3480296461,8091070.3593300208,11570165.090250399,null,null,null,null,null,null,null,null,null,null,"Total",{"$f":"SUM(X52:X55)","v":12523597.955377756},5257840.65699788,25993306.835867934,3103508.5797555763,11015461.648430051,3054588.2220463562,5653796.3471739097,6105506.6451943517,9212407.2411169372,13166377.400095206]

{"sheet":"RTI SSI Results","index":26,"n_rows":61,"n_cols":25,"rows_kept":61,"cut":false,"hidden":true,"merged":[[10,11,10,14],[10,15,10,18],[49,0,50,6],[51,0,52,0],[51,1,52,1],[51,2,52,2],[51,3,51,6],[51,7,51,10],[51,11,51,14],[51,15,51,18],[10,7,10,10],[8,0,9,6],[10,0,11,0],[10,1,11,1],[10,2,11,2],[10,3,10,6],[0,0,0,18],[1,0,1,18],[2,0,2,18],[3,0,3,18],[5,0,6,0],[5,1,6,3],[5,4,6,5]]}
["Federal Highway Administration (FHWA)",null,null,null,null,null,null,null,null,null,null,null,null,null,null,null,null,null,null,null,null,null,null,"Score_O","SSI_RTI_ResultsRange_Score_O"]
["Safety Performance for Intersection Control Evaluation Tool",null,null,null,null,null,null,null,null,null,null,null,null,null,null,null,null,null,null,null,"is 2x2?",{"$f":"AND(AND(Input_AGI_R2_CL_L1=2,Input_AGI_R2_CL_L2=2,Input_AGI_R2_CL_L3=2),IF($V$1,TRUE,Input_AGI_R2_CL_L4=2))","v":true},null,"Score_D","SSI_RTI_ResultsRange_Score_D"]
["Safe System Intersection (SSI) Results",null,null,null,null,null,null,null,null,null,null,null,null,null,null,null,null,null,null,null,null,null,null,"Exp_O","SSI_RTI_ResultsRange_Exposure_O"]
["Summary of the safe system intersection results for each alternative",null,null,null,null,null,null,null,null,null,null,null,null,null,null,null,null,null,null,null,null,null,null,"Exp_D","SSI_RTI_ResultsRange_Exposure_D"]
[null,null,null,null,null,null,null,null,null,null,null,null,null,null,null,null,null,null,null,null,null,null,null,"ExistExp_O","SSI_RTI_ResultsRange_ExistExp_O"]
["Conversion of Existing Intersection Type:","Signalized Diamond",null,null,"Select from Dropdown List",null,null,null,null,null,null,null,null,null,null,null,null,null,null,null,null,null,null,"ExistExp_D","SSI_RTI_ResultsRange_ExistExp_D"]
[null,null,null,null,null,null,null,null,null,null,null,null,null,null,null,null,null,null,null,null,null,null,null,"AvgPFSI_O","SSI_RTI_ResultsRange_AvgPFSI_O"]
[null,null,null,null,null,null,null,null,null,null,null,null,null,null,null,null,null,null,null,null,null,null,null,"AvgPFSI_D","SSI_RTI_ResultsRange_AvgPFSI_D"]
["Opening Year Results",null,null,null,null,null,null,null,null,null,null,null,null,null,null,null,null,null,null,null,null,null,null,"AvgComp_O","SSI_RTI_ResultsRange_AvgComp_O"]
[null,null,null,null,null,null,null,null,null,null,null,null,null,null,null,null,null,null,null,null,null,null,null,"AvgComp_D","SSI_RTI_ResultsRange_AvgComp_D"]
["Control Strategy","SSI Ref Worksheet Name","SSI Score","SSI Conflict Type Score",null,null,null,"Exposure (Relative to Existing)",null,null,null,"Average P(FSI)",null,null,null,"Average Complexity"]
[null,null,null,"Nonmotorized","Crossing","Merging","Diverging","Nonmotorized","Crossing","Merging","Diverging","Nonmotorized","Crossing","Merging","Diverging","Nonmotorized","Crossing","Merging","Diverging",null,null,null,null,"RTI"]
["Signalized Diamond",{"$f":"X13","v":"Conv_Sig"},{"$f":"IF($B13=\"--\",\"--\",HLOOKUP($B13,INDIRECT($Y$1),6,FALSE)*100)","v":74.322274034285826},{"$f":"IF($B13=\"--\",\"--\",HLOOKUP($B13,INDIRECT($Y$1),5,FALSE)*100)","v":38.704060601433767},{"$f":"IF($B13=\"--\",\"--\",HLOOKUP($B13,INDIRECT($Y$1),2,FALSE)*100)","v":80.405500056953656},{"$f":"IF($B13=\"--\",\"--\",HLOOKUP($B13,INDIRECT($Y$1),3,FALSE)*100)","v":98.797128412714812},{"$f":"IF($B13=\"--\",\"--\",HLOOKUP($B13,INDIRECT($Y$1),4,FALSE)*100)","v":99.240592167666676},{"$f":"IF($B13=\"--\",\"--\",HLOOKUP($B13,INDIRECT($Y$3),5,FALSE)/VLOOKUP(H$12,INDIRECT($Y$5),2,FALSE))","v":1},{"$f":"IF($B13=\"--\",\"--\",HLOOKUP($B13,INDIRECT($Y$3),2,FALSE)/VLOOKUP(I$12,INDIRECT($Y$5),2,FALSE))","v":1},{"$f":"IF($B13=\"--\",\"--\",HLOOKUP($B13,INDIRECT($Y$3),3,FALSE)/VLOOKUP(J$12,INDIRECT($Y$5),2,FALSE))","v":1},{"$f":"IF($B13=\"--\",\"--\",HLOOKUP($B13,INDIRECT($Y$3),4,FALSE)/VLOOKUP(K$12,INDIRECT($Y$5),2,FALSE))","v":1},{"$f":"IF($B13=\"--\",\"--\",HLOOKUP($B13,INDIRECT($Y$7),5,FALSE))","v":0.28844599365359247},{"$f":"IF($B13=\"--\",\"--\",HLOOKUP($B13,INDIRECT($Y$7),2,FALSE))","v":4.5732696846678585E-2},{"$f":"IF($B13=\"--\",\"--\",HLOOKUP($B13,INDIRECT($Y$7),3,FALSE))","v":4.5775749758886616E-3},{"$f":"IF($B13=\"--\",\"--\",HLOOKUP($B13,INDIRECT($Y$7),4,FALSE))","v":1.7222659253105822E-3},{"$f":"IF($B13=\"--\",\"--\",HLOOKUP($B13,INDIRECT($Y$9),5,FALSE))","v":1.4869444444444442},{"$f":"IF($B13=\"--\",\"--\",HLOOKUP($B13,INDIRECT($Y$9),2,FALSE))","v":1.4729166666666667},{"$f":"IF($B13=\"--\",\"--\",HLOOKUP($B13,INDIRECT($Y$9),3,FALSE))","v":1.2110648148148149},{"$f":"IF($B13=\"--\",\"--\",HLOOKUP($B13,INDIRECT($Y$9),4,FALSE))","v":1},null,null,null,null,"Conv_Sig"]
["Signalized Diamond (Alt)",{"$f":"X14","v":"Conv_Sig"},74.322274034285826,38.704060601433767,80.405500056953656,98.797128412714812,99.240592167666676,{"$f":"IF($B14=\"--\",\"--\",HLOOKUP($B14,INDIRECT($Y$3),5,FALSE)/VLOOKUP(H$12,INDIRECT($Y$5),2,FALSE))","v":1},{"$f":"IF($B14=\"--\",\"--\",HLOOKUP($B14,INDIRECT($Y$3),2,FALSE)/VLOOKUP(I$12,INDIRECT($Y$5),2,FALSE))","v":1},{"$f":"IF($B14=\"--\",\"--\",HLOOKUP($B14,INDIRECT($Y$3),3,FALSE)/VLOOKUP(J$12,INDIRECT($Y$5),2,FALSE))","v":1},{"$f":"IF($B14=\"--\",\"--\",HLOOKUP($B14,INDIRECT($Y$3),4,FALSE)/VLOOKUP(K$12,INDIRECT($Y$5),2,FALSE))","v":1},{"$f":"IF($B14=\"--\",\"--\",HLOOKUP($B14,INDIRECT($Y$7),5,FALSE))","v":0.28844599365359247},{"$f":"IF($B14=\"--\",\"--\",HLOOKUP($B14,INDIRECT($Y$7),2,FALSE))","v":4.5732696846678585E-2},{"$f":"IF($B14=\"--\",\"--\",HLOOKUP($B14,INDIRECT($Y$7),3,FALSE))","v":4.5775749758886616E-3},{"$f":"IF($B14=\"--\",\"--\",HLOOKUP($B14,INDIRECT($Y$7),4,FALSE))","v":1.7222659253105822E-3},{"$f":"IF($B14=\"--\",\"--\",HLOOKUP($B14,INDIRECT($Y$9),5,FALSE))","v":1.4869444444444442},{"$f":"IF($B14=\"--\",\"--\",HLOOKUP($B14,INDIRECT($Y$9),2,FALSE))","v":1.4729166666666667},{"$f":"IF($B14=\"--\",\"--\",HLOOKUP($B14,INDIRECT($Y$9),3,FALSE))","v":1.2110648148148149},{"$f":"IF($B14=\"--\",\"--\",HLOOKUP($B14,INDIRECT($Y$9),4,FALSE))","v":1},null,null,null,null,"Conv_Sig"]
["Diverging Diamond","DDI",73.890917508121916,33.92892454583987,88.988648976593055,99.438447583808482,99.289927635365174,0.69230769230769229,1.5116279069767442,1,0.89932885906040272,{"$f":"IF($B15=\"--\",\"--\",HLOOKUP($B15,INDIRECT($Y$7),5,FALSE))","v":0.43582940206636278},3.7097408311205816E-2,3.0558548648308994E-3,1.7222659253105822E-3,2.5343749999999998,0.78555555555555556,0.6873611111111112,1,null,null,null,null,"DDI"]
["Single-Point Diamond","SPUI",91.53861526414623,73.92402720092737,95.863010564602376,99.605592421783911,99.471106464259506,0.84615384615384615,0.8527131782945736,0.86238532110091748,0.73154362416107388,0.3237481330096984,3.6389941037518234E-2,4.5775749758886616E-3,1.7222659253105822E-3,0.6430555555555556,0.39277777777777784,0.52111111111111119,1,null,null,null,null,"SPUI"]
["Unsignalized Diamond","Conv_Ramp_Stop",56.689872665423344,15.716892038285609,67.38774973075914,98.2618541355817,99.240592167666676,1,1,1,1,0.28844599365359247,4.5732696846678585E-2,4.5775749758886616E-3,1.7222659253105822E-3,2.6453125000000002,2.3819444444444446,2.0060185185185184,1,null,null,null,null,"Conv_Ramp_Stop"]
["1-lane Roundabout","RTI_RAB1x1",89.187743504463157,63.597490126106926,99.796188205285304,99.706678074133819,99.98676739095761,1,0.30232558139534882,1.963302752293578,1.7046979865771812,0.33487358968598979,4.1698027385763175E-3,1.2274355939590512E-3,2.3240976485983762E-5,1.2222222222222223,0.61111111111111105,0.61111111111111105,1,null,null,null,null,"RTI_RAB1x1"]
["2-lane Roundabout","RTI_RAB2x2",79.551584114822987,40.446407503402682,99.592791803047263,99.436296623118722,99.98676739095761,1,0.30232558139534882,1.963302752293578,1.7046979865771812,0.33487358968598979,4.1698027385763175E-3,1.2274355939590512E-3,2.3240976485983762E-5,2.4444444444444446,1.2222222222222221,1.1712962962962963,1,null,null,null,null,{"$f":"IF($V$2,\"RTI_RAB2x2\",\"RTI_RAB2x1\")","v":"RTI_RAB2x2"}]
["Signalized Tight Diamond",{"$f":"X20","v":"TUDI"},77.052993827180828,43.228317260699647,82.836768613409319,99.044277244167347,99.388744288122993,1,1.1162790697674418,0.86238532110091748,0.89932885906040272,0.27892411982725485,3.449943013569394E-2,4.5775749758886616E-3,1.7222659253105822E-3,1.5399382716049379,1.4729166666666667,1.2110648148148149,1,null,null,null,null,"TUDI"]
[]
[]
[]
[]
[]
[]
[]
[]
[]
[]
[]
[]
[]
[]
[]
[]
[]
[]
[]
[]
[]
[]
[]
[]
[]
[]
[]
[]
[]
["Design Year Results"]
[]
["Control Strategy","SSI Ref Worksheet Name","SSI Score","SSI Conflict Type Score",null,null,null,"Exposure (Relative to Existing)",null,null,null,"Average P(FSI)",null,null,null,"Average Complexity"]
[null,null,null,"Nonmotorized","Crossing","Merging","Diverging","Nonmotorized","Crossing","Merging","Diverging","Nonmotorized","Crossing","Merging","Diverging","Nonmotorized","Crossing","Merging","Diverging"]
["Signalized Diamond",{"$f":"X13","v":"Conv_Sig"},{"$f":"IF($B54=\"--\",\"--\",HLOOKUP($B54,INDIRECT($Y$2),6,FALSE)*100)","v":47.873999808928964},{"$f":"IF($B54=\"--\",\"--\",HLOOKUP($B54,INDIRECT($Y$2),5,FALSE)*100)","v":12.183788216538929},{"$f":"IF($B54=\"--\",\"--\",HLOOKUP($B54,INDIRECT($Y$2),2,FALSE)*100)","v":45.729147321449283},{"$f":"IF($B54=\"--\",\"--\",HLOOKUP($B54,INDIRECT($Y$2),3,FALSE)*100)","v":97.30544935166175},{"$f":"IF($B54=\"--\",\"--\",HLOOKUP($B54,INDIRECT($Y$2),4,FALSE)*100)","v":96.891626763243096},{"$f":"IF($B54=\"--\",\"--\",HLOOKUP($B54,INDIRECT($Y$4),5,FALSE)/VLOOKUP(H$53,INDIRECT($Y$6),2,FALSE))","v":1},{"$f":"IF($B54=\"--\",\"--\",HLOOKUP($B54,INDIRECT($Y$4),2,FALSE)/VLOOKUP(I$53,INDIRECT($Y$6),2,FALSE))","v":1},{"$f":"IF($B54=\"--\",\"--\",HLOOKUP($B54,INDIRECT($Y$4),3,FALSE)/VLOOKUP(J$53,INDIRECT($Y$6),2,FALSE))","v":1},{"$f":"IF($B54=\"--\",\"--\",HLOOKUP($B54,INDIRECT($Y$4),4,FALSE)/VLOOKUP(K$53,INDIRECT($Y$6),2,FALSE))","v":1},{"$f":"IF($B54=\"--\",\"--\",HLOOKUP($B54,INDIRECT($Y$8),5,FALSE))","v":0.28844599365359247},{"$f":"IF($B54=\"--\",\"--\",HLOOKUP($B54,INDIRECT($Y$8),2,FALSE))","v":4.5732696846678585E-2},{"$f":"IF($B54=\"--\",\"--\",HLOOKUP($B54,INDIRECT($Y$8),3,FALSE))","v":4.5775749758886616E-3},{"$f":"IF($B54=\"--\",\"--\",HLOOKUP($B54,INDIRECT($Y$8),4,FALSE))","v":1.7222659253105822E-3},{"$f":"IF($B54=\"--\",\"--\",HLOOKUP($B54,INDIRECT($Y$10),5,FALSE))","v":1.4869444444444442},{"$f":"IF($B54=\"--\",\"--\",HLOOKUP($B54,INDIRECT($Y$10),2,FALSE))","v":1.4729166666666667},{"$f":"IF($B54=\"--\",\"--\",HLOOKUP($B54,INDIRECT($Y$10),3,FALSE))","v":1.2110648148148149},{"$f":"IF($B54=\"--\",\"--\",HLOOKUP($B54,INDIRECT($Y$10),4,FALSE))","v":1}]
["Signalized Diamond (Alt)",{"$f":"X14","v":"Conv_Sig"},47.873999808928964,12.183788216538929,45.729147321449283,97.30544935166175,96.891626763243096,{"$f":"IF($B55=\"--\",\"--\",HLOOKUP($B55,INDIRECT($Y$4),5,FALSE)/VLOOKUP(H$53,INDIRECT($Y$6),2,FALSE))","v":1},{"$f":"IF($B55=\"--\",\"--\",HLOOKUP($B55,INDIRECT($Y$4),2,FALSE)/VLOOKUP(I$53,INDIRECT($Y$6),2,FALSE))","v":1},{"$f":"IF($B55=\"--\",\"--\",HLOOKUP($B55,INDIRECT($Y$4),3,FALSE)/VLOOKUP(J$53,INDIRECT($Y$6),2,FALSE))","v":1},{"$f":"IF($B55=\"--\",\"--\",HLOOKUP($B55,INDIRECT($Y$4),4,FALSE)/VLOOKUP(K$53,INDIRECT($Y$6),2,FALSE))","v":1},{"$f":"IF($B55=\"--\",\"--\",HLOOKUP($B55,INDIRECT($Y$8),5,FALSE))","v":0.28844599365359247},{"$f":"IF($B55=\"--\",\"--\",HLOOKUP($B55,INDIRECT($Y$8),2,FALSE))","v":4.5732696846678585E-2},{"$f":"IF($B55=\"--\",\"--\",HLOOKUP($B55,INDIRECT($Y$8),3,FALSE))","v":4.5775749758886616E-3},{"$f":"IF($B55=\"--\",\"--\",HLOOKUP($B55,INDIRECT($Y$8),4,FALSE))","v":1.7222659253105822E-3},{"$f":"IF($B55=\"--\",\"--\",HLOOKUP($B55,INDIRECT($Y$10),5,FALSE))","v":1.4869444444444442},{"$f":"IF($B55=\"--\",\"--\",HLOOKUP($B55,INDIRECT($Y$10),2,FALSE))","v":1.4729166666666667},{"$f":"IF($B55=\"--\",\"--\",HLOOKUP($B55,INDIRECT($Y$10),3,FALSE))","v":1.2110648148148149},{"$f":"IF($B55=\"--\",\"--\",HLOOKUP($B55,INDIRECT($Y$10),4,FALSE))","v":1}]
["Diverging Diamond","DDI",48.478781962637051,9.0035055416362564,64.075508783406136,98.700920326671692,97.002269776672293,0.71527777777777779,1.711219013544595,1,0.94055608820709491,0.43582940206636278,3.7097408311205816E-2,3.0558548648308994E-3,1.7222659253105822E-3,2.5343749999999998,0.78555555555555556,0.6873611111111112,1]
["Single-Point Diamond","SPUI",80.636484626791187,50.671103058006828,86.102339005932876,99.125974218878298,97.760534786295196,0.85763888888888884,0.80807564528494757,0.88127154346993486,0.75627996164908917,0.3237481330096984,3.6389941037518234E-2,4.5775749758886616E-3,1.7222659253105822E-3,0.6430555555555556,0.39277777777777784,0.52111111111111119,1]
["Unsignalized Diamond","Conv_Ramp_Stop",24.337952419061477,1.6421087280582847,22.949687318674115,96.088457349778082,96.891626763243096,1,1,1,1,0.28844599365359247,4.5732696846678585E-2,4.5775749758886616E-3,1.7222659253105822E-3,2.6453125000000002,2.3819444444444446,2.0060185185185184,1]
["1-lane Roundabout","RTI_RAB1x1",78.652878132304522,38.791444408766701,99.582372400004033,99.119869591617487,99.949203109771318,1,0.18400204446716076,2.3416315587897358,1.6717162032598274,0.33487358968598979,4.1698027385763175E-3,1.2274355939590512E-3,2.3240976485983762E-5,1.2222222222222223,0.61111111111111105,0.61111111111111105,1]
["2-lane Roundabout","RTI_RAB2x2",61.877657555177649,15.047761593184372,99.166488928130832,98.29225165610363,99.949203109771318,1,0.18400204446716076,2.3416315587897358,1.6717162032598274,0.33487358968598979,4.1698027385763175E-3,1.2274355939590512E-3,2.3240976485983762E-5,2.4444444444444446,1.2222222222222221,1.1712962962962963,1]
["Signalized Tight Diamond",{"$f":"X20","v":"TUDI"},53.129034370899021,15.784711340091896,52.946248691484342,97.865314061460168,97.415274097193119,1,1.0792231024789165,0.88127154346993486,0.94055608820709491,0.27892411982725485,3.449943013569394E-2,4.5775749758886616E-3,1.7222659253105822E-3,1.5399382716049379,1.4729166666666667,1.2110648148148149,1]

{"sheet":"RTI SSI Results_Full","index":27,"n_rows":56,"n_cols":35,"rows_kept":56,"cut":false,"hidden":true,"merged":[[1,33,1,34],[41,1,41,8],[49,1,49,8],[1,21,1,28],[10,21,10,28],[18,21,18,28],[25,21,25,28],[33,21,33,28],[41,21,41,28],[49,21,49,28],[1,1,1,8],[1,16,1,17],[10,1,10,8],[18,1,18,8],[25,1,25,8],[33,1,33,8]]}
[]
[null,"SSI Score (Open Year0",null,null,null,null,null,null,null,null,null,null,null,"z",null,null,"Existing Exposure",null,null,null,null,"SSI Score (Design Year)",null,null,null,null,null,null,null,null,null,null,null,"Existing Exposure"]
[null,null,"Conv_Sig","Conv_Ramp_Stop","SPUI","DDI","RTI_RAB1x1","RTI_RAB2x1","RTI_RAB2x2","TUDI",null,null,null,13700000,null,null,"Existing alt",{"$f":"VLOOKUP('RTI SSI Results'!$B$6,'RTI SSI Results_Full'!Q$18:$R$26,2,FALSE)","v":"Conv_Sig"},null,null,null,null,"Conv_Sig","Conv_Ramp_Stop","SPUI","DDI","RTI_RAB1x1","RTI_RAB2x1","RTI_RAB2x2","TUDI",null,null,null,"Existing alt",{"$f":"R3","v":"Conv_Sig"}]
[null,"Crossing",{"$f":"EXP(-C52/$N$3)","v":0.8040550005695366},0.67387749730759139,0.9586301056460238,0.88988648976593054,0.99796188205285308,0.99592791803047265,0.99592791803047265,0.82836768613409317,null,null,null,null,null,null,"Nonmotorized",{"$f":"HLOOKUP($R$3,$B$20:$J$24,5,FALSE)","v":14625000},null,null,null,"Crossing",{"$f":"EXP(-W52/$N$3)","v":0.45729147321449282},0.22949687318674114,0.86102339005932882,0.64075508783406132,0.99582372400004027,0.99166488928130825,0.99166488928130825,{"$f":"EXP(-AD52/$N$3)","v":0.52946248691484343},null,null,null,"Nonmotorized",{"$f":"HLOOKUP($AI$3,$V$20:$AD$24,5,FALSE)","v":30600000}]
[null,"Merging",0.98797128412714819,0.98261854135581705,0.99605592421783906,0.99438447583808476,0.99706678074133814,0.99622772390887837,0.99436296623118725,0.99044277244167345,null,null,null,null,null,null,"Crossing",{"$f":"HLOOKUP($R$3,$B$20:$J$24,2,FALSE)","v":36281250},null,null,null,"Merging",{"$f":"EXP(-W53/$N$3)","v":0.97305449351661744},0.96088457349778089,0.99125974218878299,0.98700920326671693,0.99119869591617493,0.98944585722239686,0.98292251656103624,{"$f":"EXP(-AD53/$N$3)","v":0.97865314061460162},null,null,null,"Crossing",{"$f":"HLOOKUP($R$3,$V$20:$AD$24,2,FALSE)","v":122281250}]
[null,"Diverging",0.99240592167666675,0.99240592167666675,0.99471106464259507,0.99289927635365172,0.99986767390957609,0.99986767390957609,0.99986767390957609,0.99388744288122999,null,null,null,null,null,null,"Merging",{"$f":"HLOOKUP($R$3,$B$20:$J$24,3,FALSE)","v":30656250},null,null,null,"Diverging",{"$f":"EXP(-W54/$N$3)","v":0.96891626763243099},0.96891626763243099,0.97760534786295195,0.9700226977667229,0.99949203109771312,0.99949203109771312,0.99949203109771312,{"$f":"EXP(-AD54/$N$3)","v":0.97415274097193116},null,null,null,"Merging",{"$f":"HLOOKUP($R$3,$V$20:$AD$24,3,FALSE)","v":81593750}]
[null,"Nonmotorized",0.38704060601433765,0.1571689203828561,0.73924027200927367,0.33928924545839872,0.63597490126106926,0.47254801694555998,0.40446407503402682,0.43228317260699645,null,null,null,null,null,null,"Diverging",{"$f":"HLOOKUP($R$3,$B$20:$J$24,4,FALSE)","v":41906250},null,null,null,"Nonmotorized",{"$f":"EXP(-W55/$N$3)","v":0.12183788216538928},1.6421087280582846E-2,0.50671103058006828,9.0035055416362572E-2,0.38791444408766701,0.21022078572602937,0.15047761593184372,{"$f":"EXP(-AD55/$N$3)","v":0.15784711340091895},null,null,null,"Diverging",{"$f":"HLOOKUP($R$3,$V$20:$AD$24,4,FALSE)","v":162968750}]
[null,"Average",{"$f":"EXP(-(C56/4)/$N$3)","v":0.74322274034285829},0.56689872665423346,0.91538615264146228,0.73890917508121912,0.89187743504463157,0.82745379234352245,0.79551584114822993,0.77052993827180827,null,null,null,null,null,null,null,null,null,null,null,"Average",{"$f":"EXP(-(W56/4)/$N$3)","v":0.47873999808928963},0.24337952419061476,0.80636484626791194,0.48478781962637052,0.78652878132304527,0.67383410851485803,0.61877657555177645,{"$f":"EXP(-(AD56/4)/$N$3)","v":0.5312903437089902}]
[]
[]
[null,"Conflict Points",null,null,null,null,null,null,null,null,null,null,null,null,null,null,null,null,null,null,null,"Conflict Points"]
[null,null,"Conv_Sig","Conv_Ramp_Stop","SPUI","DDI","RTI_RAB1x1","RTI_RAB2x1","RTI_RAB2x2","TUDI",null,null,null,null,null,null,null,null,null,null,null,null,"Conv_Sig","Conv_Ramp_Stop","SPUI","DDI","RTI_RAB1x1","RTI_RAB2x1","RTI_RAB2x2","TUDI"]
[null,"Crossing",{"$f":"COUNTIF(INDIRECT(C$12&\"!$B$4:$B$100\"),\"*\"&$B13&\"*\")","v":6},6,8,2,2,2,2,10,null,null,null,null,null,null,null,null,null,null,null,"Crossing",{"$f":"C13","v":6},6,8,2,2,2,2,10]
[null,"Merging",6,6,6,6,6,6,6,6,null,null,null,null,null,null,null,null,null,null,null,"Merging",{"$f":"C14","v":6},{"$f":"D14","v":6},{"$f":"E14","v":6},{"$f":"F14","v":6},{"$f":"G14","v":6},{"$f":"H14","v":6},{"$f":"I14","v":6},6]
[null,"Diverging",6,6,6,6,6,6,6,6,null,null,null,null,null,null,null,null,null,null,null,"Diverging",6,6,6,6,6,6,6,6]
[null,"Nonmotorized",16,16,16,8,8,8,8,18,null,null,null,null,null,null,null,null,null,null,null,"Nonmotorized",16,16,16,8,8,8,8,18]
[null,"Total",{"$f":"SUM(C13:C16)","v":34},{"$f":"SUM(D13:D16)","v":34},36,22,22,22,22,{"$f":"SUM(J13:J16)","v":40},null,null,null,null,null,null,null,null,null,null,null,"Total",{"$f":"SUM(W13:W16)","v":34},{"$f":"SUM(X13:X16)","v":34},36,22,22,22,22,{"$f":"SUM(AD13:AD16)","v":40}]
[null,null,null,null,null,null,null,null,null,null,null,null,null,null,null,null,"Control Strategy","SSI Ref Name"]
[null,"Exposure",null,null,null,null,null,null,null,null,null,null,null,null,null,null,"Signalized Diamond","Conv_Sig",null,null,null,"Exposure"]
[null,null,"Conv_Sig","Conv_Ramp_Stop","SPUI","DDI","RTI_RAB1x1","RTI_RAB2x1","RTI_RAB2x2","TUDI",null,null,null,null,null,null,"Signalized Diamond (Alt)","Conv_Ramp_Stop",null,null,null,null,"Conv_Sig","Conv_Ramp_Stop","SPUI","DDI","RTI_RAB1x1","RTI_RAB2x1","RTI_RAB2x2","TUDI"]
[null,"Crossing",{"$f":"SUMIF(INDIRECT(C$20&\"!$B$4:$B$100\"),\"*\"&$B21&\"*\",INDIRECT(C$20&\"!$L$4:$L$100\"))","v":36281250},36281250,30937500,54843750,10968750,10968750,10968750,40500000,null,null,null,null,null,null,"Diverging Diamond","DDI",null,null,null,"Crossing",{"$f":"SUMIF(INDIRECT(W$20&\"!$B$4:$B$100\"),\"*\"&$V21&\"*\",INDIRECT(C$20&\"!$L$103:$L$200\"))","v":122281250},122281250,98812500,209250000,22500000,22500000,22500000,131968750]
[null,"Merging",30656250,30656250,26437500,30656250,60187500,60187500,60187500,26437500,null,null,null,null,null,null,"Single-Point Diamond","SPUI",null,null,null,"Merging",{"$f":"SUMIF(INDIRECT(W$20&\"!$B$4:$B$100\"),\"*\"&$V22&\"*\",INDIRECT(C$20&\"!$L$103:$L$200\"))","v":81593750},{"$f":"SUMIF(INDIRECT(X$20&\"!$B$4:$B$100\"),\"*\"&$V22&\"*\",INDIRECT(D$20&\"!$L$103:$L$200\"))","v":81593750},{"$f":"SUMIF(INDIRECT(Y$20&\"!$B$4:$B$100\"),\"*\"&$V22&\"*\",INDIRECT(E$20&\"!$L$103:$L$200\"))","v":71906250},{"$f":"SUMIF(INDIRECT(Z$20&\"!$B$4:$B$100\"),\"*\"&$V22&\"*\",INDIRECT(F$20&\"!$L$103:$L$200\"))","v":81593750},{"$f":"SUMIF(INDIRECT(AA$20&\"!$B$4:$B$100\"),\"*\"&$V22&\"*\",INDIRECT(G$20&\"!$L$103:$L$200\"))","v":191062500},{"$f":"SUMIF(INDIRECT(AB$20&\"!$B$4:$B$100\"),\"*\"&$V22&\"*\",INDIRECT(H$20&\"!$L$103:$L$200\"))","v":191062500},{"$f":"SUMIF(INDIRECT(AC$20&\"!$B$4:$B$100\"),\"*\"&$V22&\"*\",INDIRECT(I$20&\"!$L$103:$L$200\"))","v":191062500},71906250]
[null,"Diverging",41906250,41906250,30656250,37687500,71437500,71437500,71437500,37687500,null,null,null,null,null,null,"Unsignalized Diamond","Conv_Ramp_Stop",null,null,null,"Diverging",162968750,162968750,123250000,153281250,272437500,272437500,272437500,153281250]
[null,"Nonmotorized",14625000,14625000,12375000,10125000,14625000,14625000,14625000,14625000,null,null,null,null,null,null,"1-lane Roundabout","RTI_RAB1x1",null,null,null,"Nonmotorized",30600000,30600000,26243750,21887500,30600000,30600000,30600000,30600000]
[null,null,null,null,null,null,null,null,null,null,null,null,null,null,null,null,"2-lane Roundabout","RTI_RAB2x2"]
[null,"Sum of P(FSI)",null,null,null,null,null,null,null,null,null,null,null,null,null,null,"Signalized Tight Diamond","TUDI",null,null,null,"Sum of P(FSI)"]
[null,null,"Conv_Sig","Conv_Ramp_Stop","SPUI","DDI","RTI_RAB1x1","RTI_RAB2x1","RTI_RAB2x2","TUDI",null,null,null,null,null,null,null,null,null,null,null,null,"Conv_Sig","Conv_Ramp_Stop","SPUI","DDI","RTI_RAB1x1","RTI_RAB2x1","RTI_RAB2x2","TUDI"]
[null,"Crossing",{"$f":"SUMIF(INDIRECT(C$27&\"!$B$4:$B$100\"),\"*\"&$B28&\"*\",INDIRECT(C$27&\"!$R$4:$R$100\"))","v":0.27439618108007152},0.27439618108007152,0.29111952830014587,7.4194816622411633E-2,8.339605477152635E-3,8.339605477152635E-3,8.339605477152635E-3,0.34499430135693943,null,null,null,null,null,null,null,null,null,null,null,"Crossing",{"$f":"C28","v":0.27439618108007152},0.27439618108007152,0.29111952830014587,7.4194816622411633E-2,8.339605477152635E-3,8.339605477152635E-3,8.339605477152635E-3,0.34499430135693943]
[null,"Merging",2.7465449855331968E-2,2.7465449855331968E-2,2.7465449855331968E-2,1.8335129188985395E-2,7.3646135637543079E-3,7.3646135637543079E-3,7.3646135637543079E-3,2.7465449855331968E-2,null,null,null,null,null,null,null,null,null,null,null,"Merging",{"$f":"C29","v":2.7465449855331968E-2},{"$f":"D29","v":2.7465449855331968E-2},{"$f":"E29","v":2.7465449855331968E-2},{"$f":"F29","v":1.8335129188985395E-2},{"$f":"G29","v":7.3646135637543079E-3},{"$f":"H29","v":7.3646135637543079E-3},{"$f":"I29","v":7.3646135637543079E-3},2.7465449855331968E-2]
[null,"Diverging",1.0333595551863493E-2,1.0333595551863493E-2,1.0333595551863493E-2,1.0333595551863493E-2,1.3944585891590257E-4,1.3944585891590257E-4,1.3944585891590257E-4,1.0333595551863493E-2,null,null,null,null,null,null,null,null,null,null,null,"Diverging",1.0333595551863493E-2,1.0333595551863493E-2,1.0333595551863493E-2,1.0333595551863493E-2,1.3944585891590257E-4,1.3944585891590257E-4,1.3944585891590257E-4,1.0333595551863493E-2]
[null,"Nonmotorized",4.6151358984574795,4.6151358984574795,5.1799701281551744,3.4866352165309022,2.6789887174879183,2.6789887174879183,2.6789887174879183,5.020634156890587,null,null,null,null,null,null,null,null,null,null,null,"Nonmotorized",4.6151358984574795,4.6151358984574795,5.1799701281551744,3.4866352165309022,2.6789887174879183,2.6789887174879183,2.6789887174879183,5.020634156890587]
[null,"Total",{"$f":"SUM(C28:C31)","v":4.9273311249447467},{"$f":"SUM(D28:D31)","v":4.9273311249447467},5.5088887018625154,3.5894987578941628,2.6948323823877414,2.6948323823877414,2.6948323823877414,{"$f":"SUM(J28:J31)","v":5.4034275036547221},null,null,null,null,null,null,null,null,null,null,null,"Total",{"$f":"SUM(W28:W31)","v":4.9273311249447467},{"$f":"SUM(X28:X31)","v":4.9273311249447467},5.5088887018625154,3.5894987578941628,2.6948323823877414,2.6948323823877414,2.6948323823877414,{"$f":"SUM(AD28:AD31)","v":5.4034275036547221}]
[]
[null,"Average P(FSI)",null,null,null,null,null,null,null,null,null,null,null,null,null,null,null,null,null,null,null,"Average P(FSI)"]
[null,null,"Conv_Sig","Conv_Ramp_Stop","SPUI","DDI","RTI_RAB1x1","RTI_RAB2x1","RTI_RAB2x2","TUDI",null,null,null,null,null,null,null,null,null,null,null,null,"Conv_Sig","Conv_Ramp_Stop","SPUI","DDI","RTI_RAB1x1","RTI_RAB2x1","RTI_RAB2x2","TUDI"]
[null,"Crossing",{"$f":"C28/C13","v":4.5732696846678585E-2},{"$f":"D28/D13","v":4.5732696846678585E-2},3.6389941037518234E-2,3.7097408311205816E-2,4.1698027385763175E-3,4.1698027385763175E-3,4.1698027385763175E-3,{"$f":"J28/J13","v":3.449943013569394E-2},null,null,null,null,null,null,null,null,null,null,null,"Crossing",{"$f":"W28/W13","v":4.5732696846678585E-2},{"$f":"X28/X13","v":4.5732696846678585E-2},3.6389941037518234E-2,3.7097408311205816E-2,4.1698027385763175E-3,4.1698027385763175E-3,4.1698027385763175E-3,{"$f":"AD28/AD13","v":3.449943013569394E-2}]
[null,"Merging",{"$f":"C29/C14","v":4.5775749758886616E-3},4.5775749758886616E-3,4.5775749758886616E-3,3.0558548648308994E-3,1.2274355939590512E-3,1.2274355939590512E-3,1.2274355939590512E-3,{"$f":"J29/J14","v":4.5775749758886616E-3},null,null,null,null,null,null,null,null,null,null,null,"Merging",{"$f":"W29/W14","v":4.5775749758886616E-3},4.5775749758886616E-3,4.5775749758886616E-3,3.0558548648308994E-3,1.2274355939590512E-3,1.2274355939590512E-3,1.2274355939590512E-3,{"$f":"AD29/AD14","v":4.5775749758886616E-3}]
[null,"Diverging",1.7222659253105822E-3,1.7222659253105822E-3,1.7222659253105822E-3,1.7222659253105822E-3,2.3240976485983762E-5,2.3240976485983762E-5,2.3240976485983762E-5,{"$f":"J30/J15","v":1.7222659253105822E-3},null,null,null,null,null,null,null,null,null,null,null,"Diverging",{"$f":"W30/W15","v":1.7222659253105822E-3},1.7222659253105822E-3,1.7222659253105822E-3,1.7222659253105822E-3,2.3240976485983762E-5,2.3240976485983762E-5,2.3240976485983762E-5,{"$f":"AD30/AD15","v":1.7222659253105822E-3}]
[null,"Nonmotorized",0.28844599365359247,0.28844599365359247,0.3237481330096984,0.43582940206636278,0.33487358968598979,0.33487358968598979,0.33487358968598979,{"$f":"J31/J16","v":0.27892411982725485},null,null,null,null,null,null,null,null,null,null,null,"Nonmotorized",{"$f":"W31/W16","v":0.28844599365359247},0.28844599365359247,0.3237481330096984,0.43582940206636278,0.33487358968598979,0.33487358968598979,0.33487358968598979,{"$f":"AD31/AD16","v":0.27892411982725485}]
[null,"Total",{"$f":"C32/C17","v":0.14492150367484549},0.14492150367484549,0.15302468616284765,0.16315903444973467,0.12249238101762461,0.12249238101762461,0.12249238101762461,{"$f":"J32/J17","v":0.13508568759136805},null,null,null,null,null,null,null,null,null,null,null,"Total",{"$f":"W32/W17","v":0.14492150367484549},{"$f":"X32/X17","v":0.14492150367484549},0.15302468616284765,0.16315903444973467,0.12249238101762461,0.12249238101762461,0.12249238101762461,{"$f":"AD32/AD17","v":0.13508568759136805}]
[]
[null,"Average Complexity",null,null,null,null,null,null,null,null,null,null,null,null,null,null,null,null,null,null,null,"Average Complexity"]
[null,null,"Conv_Sig","Conv_Ramp_Stop","SPUI","DDI","RTI_RAB1x1","RTI_RAB2x1","RTI_RAB2x2","TUDI",null,null,null,null,null,null,null,null,null,null,null,null,"Conv_Sig","Conv_Ramp_Stop","SPUI","DDI","RTI_RAB1x1","RTI_RAB2x1","RTI_RAB2x2","TUDI"]
[null,"Crossing",{"$f":"AVERAGEIF(INDIRECT(C$43&\"!$B$4:$B$100\"),\"*\"&$B44&\"*\",INDIRECT(C$43&\"!$AI$4:$AI$100\"))","v":1.4729166666666667},2.3819444444444446,0.39277777777777784,0.78555555555555556,0.61111111111111105,1.2222222222222221,1.2222222222222221,1.4729166666666667,null,null,null,null,null,null,null,null,null,null,null,"Crossing",{"$f":"C44","v":1.4729166666666667},2.3819444444444446,0.39277777777777784,0.78555555555555556,0.61111111111111105,1.2222222222222221,1.2222222222222221,1.4729166666666667]
[null,"Merging",1.2110648148148149,2.0060185185185184,0.52111111111111119,0.6873611111111112,0.61111111111111105,0.96759259259259256,1.1712962962962963,1.2110648148148149,null,null,null,null,null,null,null,null,null,null,null,"Merging",{"$f":"C45","v":1.2110648148148149},{"$f":"D45","v":2.0060185185185184},{"$f":"E45","v":0.52111111111111119},{"$f":"F45","v":0.6873611111111112},{"$f":"G45","v":0.61111111111111105},{"$f":"H45","v":0.96759259259259256},{"$f":"I45","v":1.1712962962962963},1.2110648148148149]
[null,"Diverging",1,1,1,1,1,1,1,1,null,null,null,null,null,null,null,null,null,null,null,"Diverging",1,1,1,1,1,1,1,1]
[null,"Nonmotorized",1.4869444444444442,2.6453125000000002,0.6430555555555556,2.5343749999999998,1.2222222222222223,1.8333333333333333,2.4444444444444446,1.5399382716049379,null,null,null,null,null,null,null,null,null,null,null,"Nonmotorized",1.4869444444444442,2.6453125000000002,0.6430555555555556,2.5343749999999998,1.2222222222222223,1.8333333333333333,2.4444444444444446,1.5399382716049379]
[null,"Total",{"$f":"AVERAGE(INDIRECT(C$43&\"!$AI$4:$AI$100\"))","v":1.3498529411764704},{"$f":"AVERAGE(INDIRECT(D$43&\"!$AI$4:$AI$100\"))","v":2.1956699346405224},0.62660493827160479,1.4531944444444445,0.93939393939393934,1.3143939393939392,1.5921717171717171,1.3928611111111109,null,null,null,null,null,null,null,null,null,null,null,"Total",{"$f":"AVERAGE(INDIRECT(W$43&\"!$AI$4:$AI$100\"))","v":1.3498529411764704},{"$f":"AVERAGE(INDIRECT(X$43&\"!$AI$4:$AI$100\"))","v":2.1956699346405224},0.62660493827160479,1.4531944444444445,0.93939393939393934,1.3143939393939392,1.5921717171717171,1.3928611111111109]
[]
[null,"Exposure-Severity-Complexity Product",null,null,null,null,null,null,null,null,null,null,null,null,null,null,null,null,null,null,null,"Exposure-Severity-Complexity Product"]
[null,null,"Conv_Sig","Conv_Ramp_Stop","SPUI","DDI","RTI_RAB1x1","RTI_RAB2x1","RTI_RAB2x2","TUDI",null,null,null,null,null,null,null,null,null,null,null,null,"Conv_Sig","Conv_Ramp_Stop","SPUI","DDI","RTI_RAB1x1","RTI_RAB2x1","RTI_RAB2x2","TUDI"]
[null,"Crossing",{"$f":"SUMIF(INDIRECT(C$51&\"!$B$4:$B$100\"),\"*\"&$B52&\"*\",INDIRECT(C$51&\"!$AK$4:$AK$100\"))","v":2987800.1675987192},5407485.0687625725,578824.82055223244,1598260.686507622,27950.708982019376,55901.417964038752,55901.417964038752,2579684.7616598299,null,null,null,null,null,null,null,null,null,null,null,"Crossing",{"$f":"SUMIF(INDIRECT(W$51&\"!$B$4:$B$100\"),\"*\"&$V52&\"*\",INDIRECT(C$51&\"!$AK$103:$AK$200\"))","v":10719349.833632397},20164562.474252034,2049980.4401290813,6097979.2346752342,57334.787655424363,114669.57531084873,114669.57531084873,8711733.5888861902]
[null,"Merging",165792.55438247,240219.7693999747,54140.676002042223,77149.501771897645,40244.155205918454,51777.904239812458,77445.850728304285,131563.71597537672,null,null,null,null,null,null,null,null,null,null,null,"Merging",{"$f":"SUMIF(INDIRECT(W$51&\"!$B$4:$B$100\"),\"*\"&$V53&\"*\",INDIRECT(C$51&\"!$AK$103:$AK$200\"))","v":374218.13991727529},{"$f":"SUMIF(INDIRECT(X$51&\"!$B$4:$B$100\"),\"*\"&$V53&\"*\",INDIRECT(D$51&\"!$AK$103:$AK$200\"))","v":546643.53628632624},{"$f":"SUMIF(INDIRECT(Y$51&\"!$B$4:$B$100\"),\"*\"&$V53&\"*\",INDIRECT(E$51&\"!$AK$103:$AK$200\"))","v":120267.88717479317},{"$f":"SUMIF(INDIRECT(Z$51&\"!$B$4:$B$100\"),\"*\"&$V53&\"*\",INDIRECT(F$51&\"!$AK$103:$AK$200\"))","v":179140.03696735232},{"$f":"SUMIF(INDIRECT(AA$51&\"!$B$4:$B$100\"),\"*\"&$V53&\"*\",INDIRECT(G$51&\"!$AK$103:$AK$200\"))","v":121111.62131712797},{"$f":"SUMIF(INDIRECT(AB$51&\"!$B$4:$B$100\"),\"*\"&$V53&\"*\",INDIRECT(H$51&\"!$AK$103:$AK$200\"))","v":145360.18861902869},{"$f":"SUMIF(INDIRECT(AC$51&\"!$B$4:$B$100\"),\"*\"&$V53&\"*\",INDIRECT(I$51&\"!$AK$103:$AK$200\"))","v":235982.29969367618},295618.58505654259]
[null,"Diverging",104435.9241403357,104435.9241403357,72650.706645227765,97626.936564491029,1812.9873942204063,1812.9873942204063,1812.9873942204063,83999.019271635567,null,null,null,null,null,null,null,null,null,null,null,"Diverging",432606.02253783599,432606.02253783599,310294.31646406522,416970.56958589633,6960.9420821010135,6960.9420821010135,6960.9420821010135,358764.22061507805]
[null,"Nonmotorized",13004391.629062966,25350947.526500378,4139212.2306110612,14808361.56419732,6200567.6638999004,10269738.022435918,12401135.327799801,11489839.462666793,null,null,null,null,null,null,null,null,null,null,null,"Nonmotorized",28839376.151203353,56295888.756189831,9313457.2428416386,32983519.664121132,12973495.4198521,21366478.07741107,25946990.839704201,25291958.410355438]
[null,"Total",{"$f":"SUM(C52:C55)","v":16262420.27518449},{"$f":"SUM(D52:D55)","v":31103088.288803261},4844828.4338105638,16581398.689041331,6270575.5154820587,10379230.33203399,12536295.583886364,{"$f":"SUM(J52:J55)","v":14285086.959573634},null,null,null,null,null,null,null,null,null,null,null,"Total",{"$f":"SUM(W52:W55)","v":40365550.147290863},{"$f":"SUM(X52:X55)","v":77439700.78926602},11793999.886609579,39677609.505349614,13158902.770906754,21633468.783423048,26304603.656790826,{"$f":"SUM(AD52:AD55)","v":34658074.804913253}]

{"sheet":"SSI 4L Results_Full","index":28,"n_rows":56,"n_cols":53,"rows_kept":56,"cut":false,"hidden":true,"merged":[[41,1,41,17],[49,1,49,17],[1,1,1,17],[1,24,1,25],[10,1,10,17],[18,1,18,17],[25,1,25,17],[33,1,33,17],[41,28,41,44],[49,28,49,44],[1,51,1,52],[1,28,1,44],[10,28,10,44],[18,28,18,44],[25,28,25,44],[33,28,33,44]]}
[]
[null,"SSI Score (Open Year)",null,null,null,null,null,null,null,null,null,null,null,null,null,null,null,null,null,null,null,"z",null,null,"Existing Exposure (Open)",null,null,null,"SSI Score (Design Year)",null,null,null,null,null,null,null,null,null,null,null,null,null,null,null,null,null,null,null,null,null,null,"Existing Exposure (Open)"]
[null,null,"Trad_Sig","Trad_MinorStop","Trad_AllStop","RAB1x1","RAB2x1","RAB2x2","RCUT_Sig","RCUT_Unsig","ThruCut_Sig","ThruCut_Unsig","MUT","PDLT","FDLT","QR","Jughandle","Bowtie",null,null,null,13700000,null,null,"Existing alt",{"$f":"VLOOKUP('SSI Results'!B6,'SSI 4L Results_Full'!Y16:Z31,2, FALSE)","v":"Trad_Sig"},null,null,null,"Trad_Sig","Trad_MinorStop","Trad_AllStop","RAB1x1","RAB2x1","RAB2x2","RCUT_Sig","RCUT_Unsig","ThruCut_Sig","ThruCut_Unsig","MUT","PDLT","FDLT","QR","Jughandle","Bowtie",null,null,null,null,null,null,"Existing alt",{"$f":"VLOOKUP('SSI Results'!B6,'SSI 4L Results_Full'!Y16:Z31,2, FALSE)","v":"Trad_Sig"}]
[null,"Crossing",{"$f":"EXP(-C52/$V$3)","v":0.54864286530229389},0.39412028133139843,0.84113248931249285,0.97960398867598408,0.97163047367821531,0.95962397462989757,0.84005017776796409,0.77862669231646664,{"$f":"EXP(-K52/$V$3)","v":0.75781635048175222},0.6715785097848509,{"$f":"EXP(-M52/$V$3)","v":0.82423491462438614},0.55730823804689567,0.60724645300266233,0.47510165021252154,0.49897999807663579,0.49120699536915408,null,null,null,null,null,null,"Nonmotorized",{"$f":"HLOOKUP($Z$3,$B$20:$R$24,5,FALSE)","v":9100000.0000000019},null,null,"Crossing",{"$f":"EXP(-AD52/$V$3)","v":0.44394623374108511},{"$f":"EXP(-AE52/$V$3)","v":0.28666338197888996},0.7889059654147963,0.97258240538070584,0.96141241647357056,0.94591653525611963,0.80334433182409182,0.73025205215947764,{"$f":"EXP(-AL52/$V$3)","v":0.69624341287260061},0.59464939892313629,0.76170753808614855,0.45402475986237406,0.50899382702852991,0.36782226586951861,0.39580076565985461,0.39000097518412991,null,null,null,null,null,null,"Nonmotorized",{"$f":"HLOOKUP($Z$3,$AC$20:$AS$24,5,FALSE)","v":10500000}]
[null,"Merging",0.97039348484194221,0.9577712501693264,0.99352771614207036,0.99712028458844892,0.99503372172743809,0.99465136252718322,0.92188220282575717,0.88978792889134883,{"$f":"EXP(-K53/$V$3)","v":0.93615896554990086},0.90963725483093349,0.93106161142911248,0.96040294419822891,0.96379871159583286,0.97265798111582757,0.97000345662356802,0.97596403658967734,null,null,null,null,null,null,"Crossing",{"$f":"HLOOKUP($Z$3,$B$20:$R$24,2,FALSE)","v":108800107.17304675},null,null,"Merging",{"$f":"EXP(-AD53/$V$3)","v":0.95911800646523659},{"$f":"EXP(-AE53/$V$3)","v":0.94183476560856982},0.99102204482797396,0.99599042370326596,0.99307203744331363,0.99255777298904135,0.89222869431058782,0.84898781156860192,{"$f":"EXP(-AL53/$V$3)","v":0.91245297400539838},0.8767513586041048,0.90877335169064499,0.94543099729152935,0.95007700640802517,0.96189523338171823,0.95860289468395532,0.96689080899005941,null,null,null,null,null,null,"Crossing",{"$f":"HLOOKUP($Z$3,$AC$20:$AS$24,2,FALSE)","v":147623832.87881222}]
[null,"Diverging",0.99014014245827442,0.99014014245827442,0.9999981181437585,0.99990754575630958,0.99990754575630958,0.99990754575630958,0.95930483592079552,0.95930483592079552,{"$f":"EXP(-K54/$V$3)","v":0.96757939679076832},0.96757939679076832,0.96407454374709789,0.99014014245827442,0.99014014245827442,0.9841042848665722,0.98688110177538135,0.98356242376173442,null,null,null,null,null,null,"Merging",{"$f":"HLOOKUP($Z$3,$B$20:$R$24,3,FALSE)","v":37445251.17739404},null,null,"Diverging",{"$f":"EXP(-AD54/$V$3)","v":0.98784132826354643},{"$f":"EXP(-AE54/$V$3)","v":0.98784132826354643},0.99999755506535359,0.99987807757099922,0.99987807757099922,0.99987807757099922,0.94456196673200055,0.94456196673200055,{"$f":"EXP(-AL54/$V$3)","v":0.9564343697440828},0.9564343697440828,0.95150063641177307,0.98784132826354643,0.98784132826354643,0.9802463547860002,0.98382868210640129,0.97973975154959103,null,null,null,null,null,null,"Merging",{"$f":"HLOOKUP($Z$3,$AC$20:$AS$24,3,FALSE)","v":52007293.301936164}]
[null,"Nonmotorized",0.42067608999578604,0.18946436129134803,0.61304232230844635,0.75456383338557143,0.62385440853765228,0.56936657865352847,0.54073842508262493,0.29994192536269176,{"$f":"EXP(-K55/$V$3)","v":0.62279131427956558},0.42375463183985951,0.61250922017417886,0.12777194499314168,0.12935301765494966,0.22796865460788385,0.43394154127259399,0.47346701547008613,null,null,null,null,null,null,"Diverging",{"$f":"HLOOKUP($Z$3,$B$20:$R$24,4,FALSE)","v":40244920.601376645},null,null,"Nonmotorized",{"$f":"EXP(-AD55/$V$3)","v":0.37714285411588061},{"$f":"EXP(-AE55/$V$3)","v":0.15457149512369286},0.56984256060359018,0.72257009451656762,0.58210010124965272,0.52210754148968141,0.4972493301577911,0.25451271465693998,{"$f":"EXP(-AL55/$V$3)","v":0.58540928137131965},0.38058736959224587,0.57373209197821073,9.9125449235274068E-2,0.10066105833489261,0.45552001107441176,0.39146893085664181,0.43044941861533303,null,null,null,null,null,null,"Diverging",{"$f":"HLOOKUP($Z$3,$AC$20:$AS$24,4,FALSE)","v":52286793.353929341}]
[null,"Average",{"$f":"EXP(-(C56/4)/$V$3)","v":0.68623130508053765},0.51585624761846272,0.84602560838647167,0.92653852508163792,0.8812426447403876,0.8585803545277032,0.79612476029944779,0.66819373836624119,{"$f":"EXP(-(K56/4)/$V$3)","v":0.80860362290873955},0.70744311604964727,{"$f":"EXP(-(M56/4)/$V$3)","v":0.82047087385610096},0.51011756725457791,0.52324626894955306,0.56743450103153426,0.67474258348865623,0.68738096862924225,null,null,null,null,null,null,null,null,null,null,"Average",{"$f":"EXP(-(AD56/4)/$V$3)","v":0.63110100809474046},{"$f":"EXP(-(AE56/4)/$V$3)","v":0.45059968551258972},0.81698784286248349,0.91464412741221768,0.86339355083480018,0.83671760377342397,0.76172050260341739,0.62133890081913878,{"$f":"EXP(-(AL56/4)/$V$3)","v":0.7722743170544627},0.66002706471376438,0.78404414467159822,0.45278854762495113,0.46827934443758479,0.630452136900986,0.61827692225551278,0.63149366031511311]
[]
[]
[null,"Conflict Points",null,null,null,null,null,null,null,null,null,null,null,null,null,null,null,null,null,null,null,null,null,null,null,null,null,null,"Conflict Points"]
[null,null,"Trad_Sig","Trad_MinorStop","Trad_AllStop","RAB1x1","RAB2x1","RAB2x2","RCUT_Sig","RCUT_Unsig","ThruCut_Sig","ThruCut_Unsig","MUT","PDLT","FDLT","QR","Jughandle","Bowtie",null,null,null,null,null,null,null,null,null,null,null,"Trad_Sig","Trad_MinorStop","Trad_AllStop","RAB1x1","RAB2x1","RAB2x2","RCUT_Sig","RCUT_Unsig","ThruCut_Sig","ThruCut_Unsig","MUT","PDLT","FDLT","QR","Jughandle","Bowtie"]
[null,"Crossing",{"$f":"COUNTIF(INDIRECT(C$12&\"!$B$4:$B$100\"),\"*\"&$B13&\"*\")","v":16},16,16,4,4,4,2,2,8,8,4,14,12,10,13,4,null,null,null,null,null,null,null,null,null,null,"Crossing",{"$f":"C13","v":16},16,16,4,4,4,2,2,8,8,{"$f":"M13","v":4},14,12,10,13,4]
[null,"Merging",8,8,8,8,8,8,6,6,8,8,6,8,8,10,8,6,null,null,null,null,null,null,null,null,null,null,"Merging",{"$f":"C14","v":8},{"$f":"D14","v":8},{"$f":"E14","v":8},{"$f":"F14","v":8},{"$f":"G14","v":8},{"$f":"H14","v":8},{"$f":"I14","v":6},{"$f":"J14","v":6},8,8,{"$f":"M14","v":6},{"$f":"N14","v":8},{"$f":"O14","v":8},{"$f":"P14","v":10},{"$f":"Q14","v":8},{"$f":"R14","v":6}]
[null,"Diverging",8,8,8,8,8,8,6,6,8,8,6,8,8,10,8,6,null,null,null,null,null,null,"Control Strategy","SSI Ref Name",null,null,"Diverging",8,8,8,8,8,8,6,6,8,8,6,8,8,10,8,6]
[null,"Nonmotorized",24,24,24,8,8,8,10,10,20,20,16,20,20,40,23,16,null,null,null,null,null,null,"Traffic Signal","Trad_Sig",null,null,"Nonmotorized",24,24,24,8,8,8,10,10,20,20,16,20,20,40,23,16]
[null,"Total",{"$f":"SUM(C13:C16)","v":56},{"$f":"SUM(D13:D16)","v":56},56,28,28,28,24,24,{"$f":"SUM(K13:K16)","v":44},44,32,50,48,70,52,32,null,null,null,null,null,null,"Traffic Signal (Alt)","Trad_Sig",null,null,"Total",{"$f":"SUM(C13:C16)","v":56},56,56,28,28,28,24,24,44,44,{"$f":"SUM(M13:M16)","v":32},50,48,70,52,32]
[null,null,null,null,null,null,null,null,null,null,null,null,null,null,null,null,null,null,null,null,null,null,null,null,"Minor Road Stop","Trad_MinorStop"]
[null,"Exposure",null,null,null,null,null,null,null,null,null,null,null,null,null,null,null,null,null,null,null,null,null,null,"All Way Stop","Trad_AllStop",null,null,"Exposure"]
[null,null,"Trad_Sig","Trad_MinorStop","Trad_AllStop","RAB1x1","RAB2x1","RAB2x2","RCUT_Sig","RCUT_Unsig","ThruCut_Sig","ThruCut_Unsig","MUT","PDLT","FDLT","QR","Jughandle","Bowtie",null,null,null,null,null,null,"1-Lane Roundabout","RAB1x1",null,null,null,"Trad_Sig","Trad_MinorStop","Trad_AllStop","RAB1x1","RAB2x1","RAB2x2","RCUT_Sig","RCUT_Unsig","ThruCut_Sig","ThruCut_Unsig","MUT","PDLT","FDLT","QR","Jughandle","Bowtie"]
[null,"Crossing",{"$f":"SUMIF(INDIRECT(C$20&\"!$B$4:$B$100\"),\"*\"&$B21&\"*\",INDIRECT(C$20&\"!$L$4:$L$100\"))","v":108800107.17304675},108800107.17304675,108800107.17304675,110789133.25685304,110789133.25685304,110789133.25685304,31422359.920299485,31422359.920299485,49833859.13537012,49833859.13537012,70405219.780219793,109465334.80256009,99934330.092983946,141599950.18717545,128594659.46141772,129463440.4057481,null,null,null,null,null,null,"Mixed Lane Roundabout","RAB2x1",null,null,"Crossing",{"$f":"SUMIF(INDIRECT(AD$20&\"!$B$4:$B$100\"),\"*\"&$AC21&\"*\",INDIRECT(AD$20&\"!$L$103:$L$200\"))","v":147623832.87881222},{"$f":"SUMIF(INDIRECT(AE$20&\"!$B$4:$B$100\"),\"*\"&$AC21&\"*\",INDIRECT(AE$20&\"!$L$103:$L$200\"))","v":147623832.87881222},147623832.87881222,149464150.49007767,149464150.49007767,149464150.49007767,39477124.676300496,39477124.676300496,65048651.36389862,65048651.36389862,99140257.064364195,148215596.02637899,135310253.60094726,190837464.48530099,171719507.88451475,171480250.13753033]
[null,"Merging",37445251.17739404,37445251.17739404,37445251.17739404,50371384.796522155,50371384.796522155,50371384.796522155,122053488.40719721,122053488.40719721,94196345.550054342,94196345.550054342,107649136.57770804,37445251.177394032,37445251.177394032,48552311.013162658,43566047.276898921,78120026.264943838,null,null,null,null,null,null,"2-Lane Roundabout","RAB2x2",null,null,"Merging",{"$f":"SUMIF(INDIRECT(AD$20&\"!$B$4:$B$100\"),\"*\"&$AC22&\"*\",INDIRECT(AD$20&\"!$L$103:$L$200\"))","v":52007293.301936164},52007293.301936164,52007293.301936164,70111660.603590548,70111660.603590548,70111660.603590548,170746349.57533309,170746349.57533309,130567778.14676166,130567778.14676166,144576833.13710099,52007293.301936157,52007293.301936157,67647650.159669384,60247919.434045807,108406836.6005179]
[null,"Diverging",40244920.601376645,40244920.601376645,40244920.601376645,53171054.220504776,53171054.220504776,53171054.220504776,124853157.83117981,124853157.83117981,103271525.1781186,103271525.1781186,105671642.91752204,40244920.601376653,40244920.601376653,58299005.252988771,45564386.849414319,80919695.688926458,null,null,null,null,null,null,"Displaced Left Turn (DLT)","FDLT",null,null,"Diverging",52286793.353929341,52286793.353929341,52286793.353929341,70391160.655583724,70391160.655583724,70391160.655583724,171025849.62732625,171025849.62732625,140652762.8926324,140652762.8926324,144384856.69169047,52286793.353929341,52286793.353929341,76645159.728092417,59538123.373116508,108686336.6525111]
[null,"Nonmotorized",9100000.0000000019,9100000.0000000019,9100000.0000000019,9100000,9100000,9100000,9781249.9999999981,9781249.9999999981,10375000,10375000,11298076.923076922,9100000.0000000019,9100000,18214423.076923076,9824038.461538462,11298076.923076924,null,null,null,null,null,null,"Partial Displaced Left Turn",null,null,null,"Nonmotorized",10500000,10500000,10500000,10500000.000000002,10500000.000000002,10500000.000000002,11432291.666666666,11432291.666666666,12093750.000000002,12093750.000000002,13046474.358974358,10500000,10500000,10500000,11304487.179487182,13046474.358974358]
[null,null,null,null,null,null,null,null,null,null,null,null,null,null,null,null,null,null,null,null,null,null,null,null,"Median U-Turn (MUT)","MUT"]
[null,"Sum of P(FSI)",null,null,null,null,null,null,null,null,null,null,null,null,null,null,null,null,null,null,null,null,null,null,"Signalized RCUT","RCUT_Sig",null,null,"Sum of P(FSI)"]
[null,null,"Trad_Sig","Trad_MinorStop","Trad_AllStop","RAB1x1","RAB2x1","RAB2x2","RCUT_Sig","RCUT_Unsig","ThruCut_Sig","ThruCut_Unsig","MUT","PDLT","FDLT","QR","Jughandle","Bowtie",null,null,null,null,null,null,"Unsignalized RCUT","RCUT_Unsig",null,null,null,"Trad_Sig","Trad_MinorStop","Trad_AllStop","RAB1x1","RAB2x1","RAB2x2","RCUT_Sig","RCUT_Unsig","ThruCut_Sig","ThruCut_Unsig","MUT","PDLT","FDLT","QR","Jughandle","Bowtie"]
[null,"Crossing",{"$f":"SUMIF(INDIRECT(C$27&\"!$B$4:$B$100\"),\"*\"&$B28&\"*\",INDIRECT(C$27&\"!$R$4:$R$100\"))","v":0.62999748008569834},0.60361025902743803,0.17433484903161595,1.6679210954305256E-2,1.6679210954305256E-2,1.6679210954305256E-2,0.18057316482274749,0.18057316482274749,0.37993145166545284,0.37993145166545284,0.17875738200227334,0.56049969074910344,0.51842188756289997,0.4092758440504991,0.52236157613381251,0.17875738200227334,null,null,null,null,null,null,"Signalized ThruCut","ThruCut_Sig",null,null,"Crossing",{"$f":"C28","v":0.62999748008569834},0.60361025902743803,0.17433484903161595,1.6679210954305256E-2,1.6679210954305256E-2,1.6679210954305256E-2,0.18057316482274749,0.18057316482274749,0.37993145166545284,0.37993145166545284,{"$f":"M28","v":0.17875738200227334},0.56049969074910344,0.51842188756289997,0.4092758440504991,0.52236157613381251,0.17875738200227334]
[null,"Merging",4.8770998590817766E-2,4.8770998590817766E-2,8.6536601406119046E-3,1.0995707638273424E-2,1.0995707638273424E-2,1.0995707638273424E-2,5.4276211611464273E-2,5.4276211611464273E-2,7.2545974692797222E-2,7.2545974692797222E-2,5.5382352337880955E-2,4.877099859081778E-2,5.0946310669797365E-2,5.5822226673596473E-2,5.0792791738701319E-2,3.0501235509484817E-2,null,null,null,null,null,null,"Unsignalized ThruCUt","ThruCut_Unsig",null,null,"Merging",{"$f":"C29","v":4.8770998590817766E-2},{"$f":"D29","v":4.8770998590817766E-2},{"$f":"E29","v":8.6536601406119046E-3},{"$f":"F29","v":1.0995707638273424E-2},{"$f":"G29","v":1.0995707638273424E-2},{"$f":"H29","v":1.0995707638273424E-2},{"$f":"I29","v":5.4276211611464273E-2},{"$f":"J29","v":5.4276211611464273E-2},7.2545974692797222E-2,7.2545974692797222E-2,{"$f":"M29","v":5.5382352337880955E-2},{"$f":"N29","v":4.877099859081778E-2},{"$f":"O29","v":5.0946310669797365E-2},{"$f":"P29","v":5.5822226673596473E-2},{"$f":"Q29","v":5.0792791738701319E-2},{"$f":"R29","v":3.0501235509484817E-2}]
[null,"Diverging",2.131020545426297E-2,2.131020545426297E-2,5.1249110460172857E-6,1.7636006961064177E-4,1.7636006961064177E-4,1.7636006961064177E-4,2.8604040671162793E-2,2.8604040671162793E-2,2.8605321898924299E-2,2.8605321898924299E-2,2.130892422650147E-2,2.131020545426297E-2,2.131020545426297E-2,2.5308985222429504E-2,1.7662647231932307E-2,1.4063792378189218E-2,null,null,null,null,null,null,"Continuous Green-T","CGT",null,null,"Diverging",2.131020545426297E-2,2.131020545426297E-2,5.1249110460172857E-6,1.7636006961064177E-4,1.7636006961064177E-4,1.7636006961064177E-4,2.8604040671162793E-2,2.8604040671162793E-2,2.8605321898924299E-2,2.8605321898924299E-2,2.130892422650147E-2,2.131020545426297E-2,2.131020545426297E-2,2.5308985222429504E-2,1.7662647231932307E-2,1.4063792378189218E-2]
[null,"Nonmotorized",6.9338901738356142,6.9338901738356142,4.4933568103568549,2.6789887174879183,2.6789887174879183,2.6789887174879183,2.8256074999909058,2.8256074999909058,6.0515517790775561,6.0515517790775561,5.2405552622113412,6.4518885581733008,6.4518885581733016,12.929174418281589,6.648892319318084,5.440723651759213,null,null,null,null,null,null,"Jughandle","Jughandle",null,null,"Nonmotorized",6.9338901738356142,6.9338901738356142,4.4933568103568549,2.6789887174879183,2.6789887174879183,2.6789887174879183,2.8256074999909058,2.8256074999909058,6.0515517790775561,6.0515517790775561,5.2405552622113412,6.4518885581733008,6.4518885581733016,12.929174418281589,6.648892319318084,5.440723651759213]
[null,"Total",{"$f":"SUM(C28:C31)","v":7.6339688579663934},{"$f":"SUM(D28:D31)","v":7.607581636908133},4.6763504444401285,2.7068399961501077,2.7068399961501077,2.7068399961501077,3.0890609170962802,3.0890609170962802,{"$f":"SUM(K28:K31)","v":6.5326345273347304},6.5326345273347304,5.4960039207779969,7.0824694529674854,7.0425669618602615,13.419581474228114,7.2397093344225301,5.6640460616491604,null,null,null,null,null,null,null,null,null,null,"Total",{"$f":"SUM(AD28:AD31)","v":7.6339688579663934},{"$f":"SUM(AE28:AE31)","v":7.607581636908133},4.6763504444401285,2.7068399961501077,2.7068399961501077,2.7068399961501077,3.0890609170962802,3.0890609170962802,{"$f":"SUM(AL28:AL31)","v":6.5326345273347304},6.5326345273347304,5.4960039207779969,7.0824694529674854,7.0425669618602615,13.419581474228114,7.2397093344225301,5.6640460616491604]
[]
[null,"Average P(FSI)",null,null,null,null,null,null,null,null,null,null,null,null,null,null,null,null,null,null,null,null,null,null,null,null,null,null,"Average P(FSI)"]
[null,null,"Trad_Sig","Trad_MinorStop","Trad_AllStop","RAB1x1","RAB2x1","RAB2x2","RCUT_Sig","RCUT_Unsig","ThruCut_Sig","ThruCut_Unsig","MUT","PDLT","FDLT","QR","Jughandle","Bowtie",null,null,null,null,null,null,null,null,null,null,null,"Trad_Sig","Trad_MinorStop","Trad_AllStop","RAB1x1","RAB2x1","RAB2x2","RCUT_Sig","RCUT_Unsig","ThruCut_Sig","ThruCut_Unsig","MUT","PDLT","FDLT","QR","Jughandle","Bowtie"]
[null,"Crossing",{"$f":"C28/C13","v":3.9374842505356146E-2},{"$f":"D28/D13","v":3.7725641189214877E-2},1.0895928064475997E-2,4.1698027385763141E-3,4.1698027385763141E-3,4.1698027385763141E-3,9.0286582411373745E-2,9.0286582411373745E-2,{"$f":"K28/K13","v":4.7491431458181604E-2},4.7491431458181604E-2,4.4689345500568335E-2,4.0035692196364533E-2,4.3201823963574998E-2,4.0927584405049913E-2,4.0181659702600965E-2,4.4689345500568335E-2,null,null,null,null,null,null,null,null,null,null,"Crossing",{"$f":"AD28/AD13","v":3.9374842505356146E-2},{"$f":"AE28/AE13","v":3.7725641189214877E-2},1.0895928064475997E-2,4.1698027385763141E-3,4.1698027385763141E-3,4.1698027385763141E-3,9.0286582411373745E-2,9.0286582411373745E-2,{"$f":"AL28/AL13","v":4.7491431458181604E-2},4.7491431458181604E-2,4.4689345500568335E-2,4.0035692196364533E-2,4.3201823963574998E-2,4.0927584405049913E-2,4.0181659702600965E-2,4.4689345500568335E-2]
[null,"Merging",{"$f":"C29/C14","v":6.0963748238522207E-3},6.0963748238522207E-3,1.0817075175764881E-3,1.374463454784178E-3,1.374463454784178E-3,1.374463454784178E-3,9.0460352685773782E-3,9.0460352685773782E-3,{"$f":"K29/K14","v":9.0682468365996527E-3},9.0682468365996527E-3,9.2303920563134925E-3,6.0963748238522224E-3,6.3682888337246706E-3,5.5822226673596471E-3,6.3490989673376649E-3,5.0835392515808028E-3,null,null,null,null,null,null,null,null,null,null,"Merging",{"$f":"AD29/AD14","v":6.0963748238522207E-3},6.0963748238522207E-3,1.0817075175764881E-3,1.374463454784178E-3,1.374463454784178E-3,1.374463454784178E-3,9.0460352685773782E-3,9.0460352685773782E-3,{"$f":"AL29/AL14","v":9.0682468365996527E-3},9.0682468365996527E-3,9.2303920563134925E-3,6.0963748238522224E-3,6.3682888337246706E-3,5.5822226673596471E-3,6.3490989673376649E-3,5.0835392515808028E-3]
[null,"Diverging",2.6637756817828712E-3,2.6637756817828712E-3,6.4061388075216071E-7,2.2045008701330221E-5,2.2045008701330221E-5,2.2045008701330221E-5,4.7673401118604655E-3,4.7673401118604655E-3,{"$f":"K30/K15","v":3.5756652373655374E-3},3.5756652373655374E-3,3.5514873710835782E-3,2.6637756817828712E-3,2.6637756817828712E-3,2.5308985222429504E-3,2.2078309039915383E-3,2.3439653963648697E-3,null,null,null,null,null,null,null,null,null,null,"Diverging",{"$f":"AD30/AD15","v":2.6637756817828712E-3},2.6637756817828712E-3,6.4061388075216071E-7,2.2045008701330221E-5,2.2045008701330221E-5,2.2045008701330221E-5,4.7673401118604655E-3,4.7673401118604655E-3,{"$f":"AL30/AL15","v":3.5756652373655374E-3},3.5756652373655374E-3,3.5514873710835782E-3,2.6637756817828712E-3,2.6637756817828712E-3,2.5308985222429504E-3,2.2078309039915383E-3,2.3439653963648697E-3]
[null,"Nonmotorized",0.28891209057648393,0.28891209057648393,0.18722320043153562,0.33487358968598979,0.33487358968598979,0.33487358968598979,0.28256074999909059,0.28256074999909059,{"$f":"K31/K16","v":0.30257758895387782},0.30257758895387782,0.32753470388820882,0.32259442790866505,0.3225944279086651,0.3232293604570397,0.28908227475296017,0.34004522823495081,null,null,null,null,null,null,null,null,null,null,"Nonmotorized",{"$f":"AD31/AD16","v":0.28891209057648393},0.28891209057648393,0.18722320043153562,0.33487358968598979,0.33487358968598979,0.33487358968598979,0.28256074999909059,0.28256074999909059,{"$f":"AL31/AL16","v":0.30257758895387782},0.30257758895387782,0.32753470388820882,0.32259442790866505,0.3225944279086651,0.3232293604570397,0.28908227475296017,0.34004522823495081]
[null,"Total",{"$f":"C32/C17","v":0.1363208724636856},0.13584967208764523,8.3506257936430864E-2,9.667285700536099E-2,9.667285700536099E-2,9.667285700536099E-2,0.12871087154567834,0.12871087154567834,{"$f":"K32/K17","v":0.14846896653033478},0.14846896653033478,0.1717501225243124,0.14164938905934971,0.14672014503875544,0.19170830677468734,0.13922517950812557,0.17700143942653626,null,null,null,null,null,null,null,null,null,null,"Total",{"$f":"AD32/AD17","v":0.1363208724636856},{"$f":"AE32/AE17","v":0.13584967208764523},8.3506257936430864E-2,9.667285700536099E-2,9.667285700536099E-2,9.667285700536099E-2,0.12871087154567834,0.12871087154567834,{"$f":"AL32/AL17","v":0.14846896653033478},0.14846896653033478,0.1717501225243124,0.14164938905934971,0.14672014503875544,0.19170830677468734,0.13922517950812557,0.17700143942653626]
[]
[null,"Average Complexity",null,null,null,null,null,null,null,null,null,null,null,null,null,null,null,null,null,null,null,null,null,null,null,null,null,null,"Average Complexity"]
[null,null,"Trad_Sig","Trad_MinorStop","Trad_AllStop","RAB1x1","RAB2x1","RAB2x2","RCUT_Sig","RCUT_Unsig","ThruCut_Sig","ThruCut_Unsig","MUT","PDLT","FDLT","QR","Jughandle","Bowtie",null,null,null,null,null,null,null,null,null,null,null,"Trad_Sig","Trad_MinorStop","Trad_AllStop","RAB1x1","RAB2x1","RAB2x2","RCUT_Sig","RCUT_Unsig","ThruCut_Sig","ThruCut_Unsig","MUT","PDLT","FDLT","QR","Jughandle","Bowtie"]
[null,"Crossing",{"$f":"AVERAGEIF(INDIRECT(C$43&\"!$B$4:$B$100\"),\"*\"&$B44&\"*\",INDIRECT(C$43&\"!$AI$4:$AI$100\"))","v":1.7359375000000004},2.5494791666666665,2.4921875,0.61111111111111105,0.91666666666666663,1.2222222222222221,0.84166666666666656,1.2083333333333335,1.3940104166666667,2.0013020833333335,0.84166666666666656,1.6983630952380953,1.3008425925925926,1.2407569444444444,1.6863547008547013,1.6833333333333331,null,null,null,null,null,null,null,null,null,null,"Crossing",{"$f":"C44","v":1.7359375000000004},2.5494791666666665,2.4921875,0.61111111111111105,0.91666666666666663,1.2222222222222221,0.84166666666666656,1.2083333333333335,1.3940104166666667,2.0013020833333335,{"$f":"M44","v":0.84166666666666656},1.6983630952380953,1.3008425925925926,1.2407569444444444,1.6863547008547013,1.6833333333333331]
[null,"Merging",1.5255208333333334,2.190104166666667,2.190104166666667,0.61111111111111105,0.99305555555555558,1.1458333333333333,0.7715277777777777,1.1076388888888891,0.9731770833333333,1.3971354166666665,0.7715277777777777,2.118489583333333,2.0132812499999999,0.95883368055555551,1.2304114583333332,1.0103009259259257,null,null,null,null,null,null,null,null,null,null,"Merging",{"$f":"C45","v":1.5255208333333334},{"$f":"D45","v":2.190104166666667},2.190104166666667,0.61111111111111105,0.99305555555555558,1.1458333333333333,0.7715277777777777,1.1076388888888891,0.9731770833333333,1.3971354166666665,0.7715277777777777,2.118489583333333,2.0132812499999999,0.95883368055555551,1.2304114583333332,1.0103009259259257]
[null,"Diverging",1,1,1,1,1,1,1,1,1,1,1,1,1,1,1,1,null,null,null,null,null,null,null,null,null,null,"Diverging",1,1,1,1,1,1,1,1,1,1,1,1,1,1,1,1]
[null,"Nonmotorized",2.4197916666666655,4.1423611111111116,3.4739583333333344,1.2222222222222223,1.8333333333333333,2.4444444444444446,1.4978861111111113,2.7233472222222219,1.6566513888888885,2.3866736111111106,0.97007899305555534,4.7391666666666667,4.3663083333333335,1.8646847222222227,1.8451407004830913,1.8411458333333335,null,null,null,null,null,null,null,null,null,null,"Nonmotorized",2.4197916666666655,4.1423611111111116,3.4739583333333344,1.2222222222222223,1.8333333333333333,2.4444444444444446,1.4978861111111113,2.7233472222222219,1.6566513888888885,2.3866736111111106,0.97007899305555534,4.7391666666666667,4.3663083333333335,1.8646847222222227,1.8451407004830913,1.8411458333333335]
[null,"Total",{"$f":"AVERAGE(INDIRECT(C$43&\"!$AI$4:$AI$100\"))","v":1.8938244047619048},{"$f":"AVERAGE(INDIRECT(D$43&\"!$AI$4:$AI$100\"))","v":2.9594494047619042},2.6566220238095228,0.89682539682539653,1.2242063492063493,1.4861111111111109,1.1371400462962964,1.7623321759259261,1.3652392676767677,1.8845675505050503,0.92240928819444412,2.8701666666666665,2.6467193287037039,1.5226185019841274,1.580848824786325,1.5079210069444442,null,null,null,null,null,null,null,null,null,null,"Total",{"$f":"AVERAGE(INDIRECT(AD$43&\"!$AI$4:$AI$100\"))","v":1.8938244047619048},{"$f":"AVERAGE(INDIRECT(AE$43&\"!$AI$4:$AI$100\"))","v":2.9594494047619042},2.6566220238095228,0.89682539682539653,1.2242063492063493,1.4861111111111109,1.1371400462962964,1.7623321759259261,1.3652392676767677,1.8845675505050503,0.92240928819444412,2.8701666666666665,2.6467193287037039,1.5226185019841274,1.580848824786325,1.5079210069444442]
[]
[null,"Exposure-Severity-Complexity Product",null,null,null,null,null,null,null,null,null,null,null,null,null,null,null,null,null,null,null,null,null,null,null,null,null,null,"Exposure-Severity-Complexity Product"]
[null,null,"Trad_Sig","Trad_MinorStop","Trad_AllStop","RAB1x1","RAB2x1","RAB2x2","RCUT_Sig","RCUT_Unsig","ThruCut_Sig","ThruCut_Unsig","MUT","PDLT","FDLT","QR","Jughandle","Bowtie",null,null,null,null,null,null,null,null,null,null,null,"Trad_Sig","Trad_MinorStop","Trad_AllStop","RAB1x1","RAB2x1","RAB2x2","RCUT_Sig","RCUT_Unsig","ThruCut_Sig","ThruCut_Unsig","MUT","PDLT","FDLT","QR","Jughandle","Bowtie"]
[null,"Crossing",{"$f":"SUMIF(INDIRECT(C$51&\"!$B$4:$B$100\"),\"*\"&$B52&\"*\",INDIRECT(C$51&\"!$AK$4:$AK$100\"))","v":8224213.6778554749},12756058.131778274,2370183.482182811,282314.28576934116,394282.13547664665,564628.57153868233,2387823.0528241717,3428062.7986089601,3799204.6000204873,5454303.6336927796,2648205.8782136524,8009524.1935264179,6833841.5651317416,10195903.014310287,9524092.9722680375,9739188.3538353965,null,null,null,null,null,null,null,null,null,null,"Crossing",{"$f":"SUMIF(INDIRECT(AD$51&\"!$B$4:$B$100\"),\"*\"&$AC52&\"*\",INDIRECT(AD$51&\"!$AK$103:$AK$200\"))","v":11125109.921125583},{"$f":"SUMIF(INDIRECT(AE$51&\"!$B$4:$B$100\"),\"*\"&$AC52&\"*\",INDIRECT(AE$51&\"!$AK$103:$AK$200\"))","v":17117418.922536738},3248381.6169521059,380866.45913097722,539119.77800361032,761732.91826195444,2999914.3476294908,4306807.7267948147,4960166.4965132633,7121031.1088556768,3729038.6919885231,10817568.570419457,9251875.6450615637,13702129.400082767,12697767.065550631,12900002.739635373]
[null,"Merging",411734.80311697011,591104.42031644227,88958.482681110923,39509.015841777102,68207.521638411708,73472.999225219799,1114328.2196216569,1599778.1370805965,903788.75251859415,1297518.506091051,978588.61900870269,553512.18190162652,505157.51854992652,379801.92481544957,417242.32227400609,333314.71176052646,null,null,null,null,null,null,null,null,null,null,"Merging",{"$f":"SUMIF(INDIRECT(AD$51&\"!$B$4:$B$100\"),\"*\"&$AC53&\"*\",INDIRECT(AD$51&\"!$AK$103:$AK$200\"))","v":571853.89321801404},820978.36155061424,123553.44816820961,55041.615933395653,95243.390621107363,102339.80219192831,1562249.2984399004,2242833.1512255999,1255176.6036034289,1801986.2130940319,1310535.889370667,768766.91930781479,701607.66465267574,532241.42780200019,579213.70409460808,461274.98842991714]
[null,"Diverging",135750.39331530817,135750.39331530817,25.781454767010477,1266.6816945104983,1266.6816945104983,1266.6816945104983,569185.48926379043,569185.48926379043,451521.77202994155,451521.77202994155,501237.23957137502,135750.39331530815,135750.39331530815,219520.67576254025,180918.24159126478,227066.15822802065,null,null,null,null,null,null,null,null,null,null,"Diverging",167594.74485614718,167594.74485614718,33.495645602546965,1670.4391113771117,1670.4391113771117,1670.4391113771117,781365.61118785397,781365.61118785397,610240.57226703153,610240.57226703153,681094.45051297417,167594.74485614715,167594.74485614715,273333.58369510737,223357.95874157673,280415.74052359664]
[null,"Nonmotorized",11862722.096870098,22790694.447185364,6703701.8667585002,3858130.990871049,6464184.1275742576,7716261.981742098,8423028.7896249704,16497079.751099365,6487549.8594733151,11762829.449597973,6715620.5816341164,28187863.489193235,28019377.565055899,20256095.807983819,11437382.685314966,10243120.509362495,null,null,null,null,null,null,null,null,null,null,"Nonmotorized",13359297.98694733,25579249.971575178,7704813.7711008862,4451689.6048512105,7413246.0554924635,8903379.209702421,9571692.8042908031,18747141.442858659,7335583.4863548335,13234741.289571451,7611620.4055608232,31665756.21830532,31455148.81313365,10772524.146629345,12848533.025414782,11548078.754364908]
[null,"Total",{"$f":"SUM(C52:C55)","v":20634420.971157849},{"$f":"SUM(D52:D55)","v":36273607.392595388},9162869.6130771898,4181220.9741766779,6927940.466383826,8355630.2342005111,12494365.55133459,22094106.176052712,{"$f":"SUM(K52:K55)","v":11642064.984042339},18966173.361411747,10843652.318427846,36886650.257936589,35494127.042052872,31051321.422872096,21559636.221448276,20542689.733186439,null,null,null,null,null,null,null,null,null,null,"Total",{"$f":"SUM(AD52:AD55)","v":25223856.546147075},{"$f":"SUM(AE52:AE55)","v":43685242.00051868},11076782.331866805,4889268.1190269608,8049279.6632285584,9769122.3692676816,14915222.061548047,26078147.932066929,{"$f":"SUM(AL52:AL55)","v":14161167.158738557},22767999.183788192,13332289.437432988,43419686.452888742,41576226.867704034,25280228.558209218,26348871.753801599,25189772.222953796]

{"sheet":"ThruCut_Sig","index":29,"n_rows":146,"n_cols":72,"rows_kept":146,"cut":false,"hidden":true,"merged":[[1,34,2,34],[1,36,2,36],[1,39,1,54],[1,56,1,71],[100,9,100,11],[100,36,101,36],[0,19,0,28],[0,30,0,32],[1,9,1,11],[1,13,1,17],[1,21,1,25],[1,27,1,28],[1,30,2,30],[1,31,2,31],[1,32,2,32]]}
[null,null,null,null,null,null,null,null,null,null,null,null,null,null,null,null,null,null,null,"Conflicting Traffic Complexity",null,null,null,null,null,null,null,null,null,null,"Pedestrian Complexity"]
[null,null,null,null,null,null,null,null,null,"Exposure",null,null,null,"Severity",null,null,null,null,null,"Traffic Control",null,"Conflicting Lanes",null,null,null,null,null,"Conflicting Speed",null,null,"Indirect Paths Indicator","Non-intuitive movements indicator","Pedestrian Complexity factor",null,"Total Complexity Multiplier",null,"Exposure-Severity-Complexity Product",null,null,"Included in Mvmt1",null,null,null,null,null,null,null,null,null,null,null,null,null,null,null,null,"Included in Mvmt2"]
["#","Conflict Type","Mvmt1","Mvmt1_gen","Mvmt1_SpeedCat","Mvmt2","Mvmt2_gen","Mvmt2_SpeedCat",null,"Q1","Q2","I",null,"Speed_V1","Speed_V2","Angle","delta_V","P_FSI",null,null,null,"MajC","MinC","MajM/P","MinM/P","Score",null,"Speed","Factor",null,null,null,null,null,null,null,null,null,null,"MajT1","MajL1","MajR1","MajT2","MajL2","MajR2","MinT1","MinL1","MinR1","MinT2","MinL2","MinR2","MajNM1","MajNM2","MinNM1","MinNM2",null,"MajT1","MajL1","MajR1","MajT2","MajL2","MajR2","MinT1","MinL1","MinR1","MinT2","MinL2","MinR2","MajNM1","MajNM2","MinNM1","MinNM2"]
[1,"Crossing - LT","NBL","MinL1","Signal far","EBL","MajL1","Major left",null,{"$f":"SUMPRODUCT($AN4:$BC4,$AN$48:$BC$48)","v":1071.4285714285713},{"$f":"SUMPRODUCT($BE4:$BT4,$BE$48:$BT$48)","v":2068.6813186813188},{"$f":"PRODUCT(J4:K4)","v":2216444.2700156984},null,{"$f":"VLOOKUP(E4,SSI_AGI_Range_VehSpeed,5,FALSE)","v":25},{"$f":"VLOOKUP(H4,SSI_AGI_Range_VehSpeed,5,FALSE)","v":20},{"$f":"IF(B4=\"Nonmotorized\",\"\",VLOOKUP(B4,SSI_AGI_Range_CollAngles,5,FALSE))","v":230},{"$f":"IF(B4=\"Nonmotorized\",\"\",SQRT(N4^2+O4^2-2*N4*O4*COS(RADIANS(P4)))/2)","v":20.419277715473552},{"$f":"IF(B4=\"Nonmotorized\",1/(1+EXP(3.8432-0.1237*O4)),(Q4/SSI_AGI_RegAlpha)^SSI_AGI_RegK+(Q4/SSI_AGI_RegAlpha)^SSI_AGI_RegK-((Q4/SSI_AGI_RegAlpha)^SSI_AGI_RegK)*((Q4/SSI_AGI_RegAlpha)^SSI_AGI_RegK))","v":2.1555284139167314E-2},null,{"$f":"SSI_AGI_ProtFactor","v":0.505},null,1,null,1,null,{"$f":"MAX(1,IF(B4<>\"Pedestrian\",V4*SSI_AGI_MajorThruLanes+W4*SSI_AGI_MinorThruLanes+X4*IF(SSI_AGI_MajorThruLanes=1,SSI_AGI_MergeWeightL1,IF(SSI_AGI_MajorThruLanes=2,SSI_AGI_MergeWeightL1+SSI_AGI_MergeWeightL2,SSI_AGI_MergeWeightL1+SSI_AGI_MergeWeightL2+SSI_AGI_MergeWeightL3*(SSI_AGI_MajorThruLanes-2)))+Y4*IF(SSI_AGI_MinorThruLanes=1,SSI_AGI_MergeWeightL1,IF(SSI_AGI_MinorThruLanes=2,SSI_AGI_MergeWeightL1+SSI_AGI_MergeWeightL2,SSI_AGI_MergeWeightL1+SSI_AGI_MergeWeightL2+SSI_AGI_MergeWeightL3*(SSI_AGI_MinorThruLanes-2))),V4*SSI_AGI_MajorThruLanes+W4*SSI_AGI_MinorThruLanes+X4*IF(SSI_AGI_MajorThruLanes=1,SSI_AGI_NM_MergeWeightL1,IF(SSI_AGI_MajorThruLanes=2,SSI_AGI_NM_MergeWeightL1+SSI_AGI_NM_MergeWeightL2,SSI_AGI_NM_MergeWeightL1+SSI_AGI_NM_MergeWeightL2+SSI_AGI_NM_MergeWeightL3*(SSI_AGI_MajorThruLanes-2)))+Y4*IF(SSI_AGI_MinorThruLanes=1,SSI_AGI_NM_MergeWeightL1,IF(SSI_AGI_MinorThruLanes=2,SSI_AGI_NM_MergeWeightL1+SSI_AGI_NM_MergeWeightL2,SSI_AGI_NM_MergeWeightL1+SSI_AGI_NM_MergeWeightL2+SSI_AGI_NM_MergeWeightL3*(SSI_AGI_MinorThruLanes-2)))))","v":3.75},null,{"$f":"IF(B4=\"Diverging\",\"\",SSI_AGI_VehSpeed_MjrThru)","v":45},{"$f":"IF(B4=\"Diverging\",1,1-((60-AB4)/60*0.1/0.15))","v":0.83333333333333326},null,null,null,{"$f":"IF(SSI_AGI_ConsiderNMComplexity=\"Y\",1+AE4+AF4,1)","v":1},null,{"$f":"PRODUCT(Z4,T4,AC4,AG4)","v":1.578125},null,{"$f":"L4*R4*AI4","v":75396.635748446613},null,null,{"$f":"IF(ISNUMBER(SEARCH(AN$3,$D4)),1,\"\")","v":""},{"$f":"IF(ISNUMBER(SEARCH(AO$3,$D4)),1,\"\")","v":""},"","","","","",1,"","","","","","","","",null,{"$f":"IF(ISNUMBER(SEARCH(BE$3,$G4)),1,\"\")","v":""},{"$f":"IF(ISNUMBER(SEARCH(BF$3,$G4)),1,\"\")","v":1},"","","","","","","","","","","","","",""]
[2,"Crossing - LT","NBL","MinL1","Signal near","WBL","MajL2","Major left",null,1071.4285714285713,2068.6813186813188,{"$f":"PRODUCT(J5:K5)","v":2216444.2700156984},null,15,20,230,{"$f":"IF(B5=\"Nonmotorized\",\"\",SQRT(N5^2+O5^2-2*N5*O5*COS(RADIANS(P5)))/2)","v":15.895538413434787},8.3616736100371545E-3,null,0.505,null,1,null,1,null,3.75,null,45,0.83333333333333326,null,null,null,1,null,1.578125,null,{"$f":"L5*R5*AI5","v":29247.680306742834},null,null,{"$f":"IF(ISNUMBER(SEARCH(AN$3,$D5)),1,\"\")","v":""},"","","","","","",1,"","","","","","","","",null,{"$f":"IF(ISNUMBER(SEARCH(BE$3,$G5)),1,\"\")","v":""},"","","",1,"","","","","","","","","","",""]
[3,"Crossing - LT","WBL","MajL2","Major left","EBT","MajT1","Major thru",null,2068.6813186813188,6543.9560439560446,13537359.618403576,null,20,45,230,29.924979939156898,9.0286582411373745E-2,null,0.505,null,1,null,null,null,2,null,45,0.83333333333333326,null,null,null,1,null,0.84166666666666656,null,1028720.2951396594,null,null,"","","","",1,"","","","","","","","","","","",null,1,"","","","","","","","","","","","","","",""]
[4,"Crossing - LT","NBL","MinL1","Signal near","EBT","MajT1","Major thru",null,1071.4285714285713,6543.9560439560446,7011381.4756671898,null,15,45,230,27.918467333813421,6.9762185672148203E-2,null,0.505,null,1,null,1,null,3.75,null,45,0.83333333333333326,null,null,null,1,null,1.578125,null,771907.17076092574,null,null,"","","","","","","",1,"","","","","","","","",null,1,"","","","","","","","","","","","","","",""]
[5,"Crossing - LT","SBL","MinL2","Signal far","WBL","MajL2","Major left",null,1071.4285714285713,2068.6813186813188,2216444.2700156984,null,25,20,230,20.419277715473552,2.1555284139167314E-2,null,0.505,null,1,null,1,null,3.75,null,45,0.83333333333333326,null,null,null,1,null,1.578125,null,75396.635748446613,null,null,"","","","","","","","","","",1,"","","","","",null,"","","","",1,"","","","","","","","","","",""]
[6,"Crossing - LT","SBL","MinL2","Signal near","EBL","MajL1","Major left",null,1071.4285714285713,2068.6813186813188,2216444.2700156984,null,15,20,230,15.895538413434787,8.3616736100371545E-3,null,0.505,null,1,null,1,null,3.75,null,45,0.83333333333333326,null,null,null,1,null,1.578125,null,29247.680306742834,null,null,"","","","","","","","","","",1,"","","","","",null,"",1,"","","","","","","","","","","","","",""]
[7,"Crossing - LT","EBL","MajL1","Major left","WBT","MajT2","Major thru",null,2068.6813186813188,6502.7472527472528,13452111.761864509,null,20,45,230,29.924979939156898,9.0286582411373745E-2,null,0.505,null,1,null,null,null,2,null,45,0.83333333333333326,null,null,null,1,null,0.84166666666666656,null,1022242.2076387798,null,null,"",1,"","","","","","","","","","","","","","",null,"","","",1,"","","","","","","","","","","",""]
[8,"Crossing - LT","SBL","MinL2","Signal near","WBT","MajT2","Major thru",null,1071.4285714285713,6502.7472527472528,6967229.1993720559,null,15,45,230,27.918467333813421,6.9762185672148203E-2,null,0.505,null,1,null,1,null,3.75,null,45,0.83333333333333326,null,null,null,1,null,1.578125,null,767046.29437074356,null,null,"","","","","","","","","","",1,"","","","","",null,"","","",1,"","","","","","","","","","","",""]
[9,"Merging","EBL","MajL1","Major left","WBR, NBT","MajR2, MinT1","Major right",null,2068.6813186813188,2214.2857142857142,4580651.4913657773,null,20,15,45,7.0840654162717795,3.9022923271840544E-4,null,0.505,null,1,null,null,null,2,null,45,0.83333333333333326,null,null,null,1,null,0.84166666666666656,null,1504.4826316619562,null,null,"",1,"","","","","","","","","","","","","","",null,"","","","","",1,1,"","","","","","","","",""]
[10,"Merging","SBR, SBT","MinR2, MinT2","Signal near","WBT","MajT2","Major thru",null,2928.5714285714284,6502.7472527472528,19043759.811616953,null,15,45,45,17.995873453365363,1.3373938286506865E-2,null,0.505,null,null,null,1,null,1.75,null,45,0.83333333333333326,null,null,null,1,null,0.73645833333333333,null,187568.62333727363,null,null,"","","","","","","","","",1,"",1,"","","","",null,"","","",1,"","","","","","","","","","","",""]
[11,"Merging","NBL","MinL1","Signal far","WBT","MajT2","Major thru",null,1071.4285714285713,6502.7472527472528,6967229.1993720559,null,25,45,45,16.271214938736659,9.1348815406664795E-3,null,0.505,null,1,null,1,null,3.75,null,45,0.83333333333333326,null,null,null,1,null,1.578125,null,100439.47115150884,null,null,"","","","","","","",1,"","","","","","","","",null,"","","",1,"","","","","","","","","","","",""]
[12,"Merging","SBT","MinT2","Signal near","EBT, EBL, EBR","MajT1, MajL1, MajR1","Major thru",null,1857.1428571428571,9000.0000000000018,16714285.714285718,null,15,45,45,17.995873453365363,1.3373938286506865E-2,null,0.505,null,null,null,1,null,1.75,null,45,0.83333333333333326,null,null,null,1,null,0.73645833333333333,null,164624.82159547048,null,null,"","","","","","","","","",1,"","","","","","",null,1,1,1,"","","","","","","","","","","","",""]
[13,"Merging","WBL","MajL2","Major left","EBR, SBT","MajR1, MinT2","Major right",null,2068.6813186813188,2244.5054945054944,4643166.5861610919,null,20,15,45,7.0840654162717795,3.9022923271840544E-4,null,0.505,null,1,null,null,null,2,null,45,0.83333333333333326,null,null,null,1,null,0.84166666666666656,null,1525.0152730369953,null,null,"","","","",1,"","","","","","","","","","","",null,"","",1,"","","","","","",1,"","","","","",""]
[14,"Merging","SBL","MinL2","Signal far","EBT","MajT1","Major thru",null,1071.4285714285713,6543.9560439560446,7011381.4756671898,null,25,45,45,16.271214938736659,9.1348815406664795E-3,null,0.505,null,1,null,1,null,3.75,null,45,0.83333333333333326,null,null,null,1,null,1.578125,null,101075.96970126491,null,null,"","","","","","","","","","",1,"","","","","",null,1,"","","","","","","","","","","","","","",""]
[15,"Merging","NBR, NBT","MinR1, MinT1","Signal near","EBT","MajT1","Major thru",null,2928.5714285714284,6543.9560439560446,19164442.700156987,null,15,45,45,17.995873453365363,1.3373938286506865E-2,null,0.505,null,null,null,1,null,1.75,null,45,0.83333333333333326,null,null,null,1,null,0.73645833333333333,null,188757.27114042494,null,null,"","","","","","",1,"",1,"","","","","","","",null,1,"","","","","","","","","","","","","","",""]
[16,"Merging","NBT","MinT1","Signal near","WBT, WBL, WBR","MajT2, MajL2, MajR2","Major thru",null,1785.7142857142856,9000.0000000000018,16071428.571428573,null,15,45,45,17.995873453365363,1.3373938286506865E-2,null,0.505,null,null,null,1,null,1.75,null,45,0.83333333333333326,null,null,null,1,null,0.73645833333333333,null,158293.09768795237,null,null,"","","","","","",1,"","","","","","","","","",null,"","","",1,1,1,"","","","","","","","","",""]
[17,"Diverging","SBR, SBT","MinT2, MinR2","Signal near","SBL","MinL2","Signal near",null,2928.5714285714284,1071.4285714285713,3137755.1020408161,null,15,15,10,1.3073361412148754,6.4061388075216071E-7,null,1,null,null,null,null,null,1,null,"",1,null,null,null,1,null,1,null,2.0100894727682594,null,null,"","","","","","","","","",1,"",1,"","","","",null,"","","","","","","","","","",1,"","","","",""]
[18,"Diverging","SBT","MinT2","Major left","WBT, SBR, NBL","MajT2, MinR2, MinL1","Major thru",null,1857.1428571428571,8645.6043956043959,16056122.448979592,null,20,45,10,12.77053292327718,3.6481988362114144E-3,null,1,null,null,null,null,null,1,null,"",1,null,null,null,1,null,1,null,58575.927232435315,null,null,"","","","","","","","","",1,"","","","","","",null,"","","",1,"","","",1,"","","",1,"","","",""]
[19,"Diverging","EBT, EBR, SBL, SBT","MajT1, MajR1, MinT2","Major thru","EBL","MajL1","Major left",null,8788.461538461539,2068.6813186813188,18180526.204564668,null,45,20,10,12.77053292327718,3.6481988362114144E-3,null,1,null,null,null,null,null,1,null,"",1,null,null,null,1,null,1,null,66326.174541203945,null,null,1,"",1,"","","","","","",1,"","","","","","",null,"",1,"","","","","","","","","","","","","",""]
[20,"Diverging","EBT, SBL","MajT1","Major thru","EBR, SBT","MajR1, MinT2","Major right",null,6543.9560439560446,2244.5054945054944,14687945.296461781,null,45,15,10,15.169950011729762,7.0056226631585675E-3,null,1,null,null,null,null,null,1,null,"",1,null,null,null,1,null,1,null,102898.20244412594,null,null,1,"","","","","","","","","","","","","","","",null,"","",1,"","","","","","",1,"","","","","",""]
[21,"Diverging","NBR, NBT","MinT1, MinR1","Signal near","NBL","MinL1","Signal near",null,2928.5714285714284,1071.4285714285713,3137755.1020408161,null,15,15,10,1.3073361412148754,6.4061388075216071E-7,null,1,null,null,null,null,null,1,null,"",1,null,null,null,1,null,1,null,2.0100894727682594,null,null,"","","","","","",1,"",1,"","","","","","","",null,"","","","","","","",1,"","","","","","","",""]
[22,"Diverging","NBT","MinT1","Major left","EBT, NBR, SBL","MajT1, MinR1, MinL2","Major thru",null,1785.7142857142856,8758.2417582417584,15639717.42543171,null,20,45,10,12.77053292327718,3.6481988362114144E-3,null,1,null,null,null,null,null,1,null,"",1,null,null,null,1,null,1,null,{"$f":"L25*R25*AI25","v":57056.798910135345},null,null,"","","","","","",1,"","","","","","","","","",null,1,"","","","","","","",1,"",1,"","","","",""]
[23,"Diverging","WBT, WBR, NBL, NBT","MajT2, MajR2, MinT1","Major thru","WBL","MajL2","Major left",null,8717.0329670329666,2068.6813186813188,18032763.253230285,null,45,20,10,12.77053292327718,3.6481988362114144E-3,null,1,null,null,null,null,null,1,null,"",1,null,null,null,1,null,1,null,65787.105914110682,null,null,"","","",1,"",1,1,"","","","","","","","","",null,"","","","",1,"","","","","","","","","","",""]
[24,"Diverging","WBT, NBL","MajT2","Major thru","WBR, NBT","MajR2, MinT1","Major right",null,6502.7472527472528,2214.2857142857142,14398940.345368916,null,45,15,10,15.169950011729762,7.0056226631585675E-3,null,1,null,null,null,null,null,1,null,"",1,null,null,null,1,null,1,null,100873.54280898473,null,null,"","","",1,"","","","","","","","","","","","",null,"","","","","",1,1,"","","","","","","","",""]
[25,"Nonmotorized","EB Ped","MajNM1","Nonmotorized","SBR, SBT","MinR2, MinT2","Signal near",null,175,2928.5714285714284,512500,null,0,15,"","",0.1205004039155782,null,{"$f":"SSI_AGI_ProtFactor","v":0.505},null,1,null,null,2,4,null,45,0.83333333333333326,null,null,null,1,null,1.6833333333333331,null,103956.70262800193,null,null,"","","","","","","","","","","","",1,"","","",null,"","","","","","","","","",1,"",1,"","","",""]
[26,"Nonmotorized","EB Ped","MajNM1","Nonmotorized","WBT","MajT2","Major thru",null,175,6502.7472527472528,1137980.7692307692,null,0,45,"","",0.84855340903216459,null,0.505,null,1,null,null,2,4,null,45,0.83333333333333326,null,null,null,1,null,1.6833333333333331,null,1625489.7262587538,null,null,"","","","","","","","","","","","",1,"","","",null,"","","",1,"","","","","","","","","","","",""]
[27,"Nonmotorized","EB Ped","MajNM1","Nonmotorized","NBL","MinL1","Signal far",null,175,1071.4285714285713,187499.99999999997,null,0,25,"","",0.32066879346345062,null,{"$f":"IF(SSI_AGI_PedExclusive=\"Yes\", SSI_AGI_ProtFactor,SSI_AGI_ProtPermFactor)","v":0.92500000000000004},null,1,null,null,2,4,null,45,0.83333333333333326,null,null,null,1,null,3.083333333333333,null,185386.64622105734,null,null,"","","","","","","","","","","","",1,"","","",null,"","","","","","","",1,"","","","","","","",""]
[28,"Nonmotorized","EB Ped","MajNM1","Nonmotorized","EBL","MajL1","Major left",null,175,2068.6813186813188,362019.23076923081,null,0,20,"","",0.20274912921655375,null,0.505,null,1,null,null,null,2,null,45,0.83333333333333326,null,null,null,1,null,0.84166666666666656,null,61777.562196741033,null,null,"","","","","","","","","","","","",1,"","","",null,"",1,"","","","","","","","","","","","","",""]
[29,"Nonmotorized","EB Ped","MajNM1","Nonmotorized","EBT","MajT1","Major thru",null,175,6543.9560439560446,1145192.3076923077,null,0,45,"","",0.84855340903216459,null,0.505,null,1,null,null,null,2,null,45,0.83333333333333326,null,null,null,1,null,0.84166666666666656,null,817895.33754718036,null,null,"","","","","","","","","","","","",1,"","","",null,1,"","","","","","","","","","","","","","",""]
[30,"Nonmotorized","EB Ped","MajNM1","Nonmotorized","EBR, SBT","MajR1, MinT2","Major right",null,175,2244.5054945054944,392788.4615384615,null,0,15,"","",0.1205004039155782,null,0.505,null,1,null,null,null,2,null,45,0.83333333333333326,null,null,null,1,null,0.84166666666666656,null,39837.066626208987,null,null,"","","","","","","","","","","","",1,"","","",null,"","",1,"","","","","","",1,"","","","","",""]
[31,"Nonmotorized","NB Ped","MinNM1","Nonmotorized","EBR, SBT","MajR1, MinT2","Major right",null,175,2244.5054945054944,392788.4615384615,null,0,15,"","",0.1205004039155782,null,0.505,null,null,1,2,null,4.5,null,45,0.83333333333333326,null,null,null,1,null,1.8937499999999998,null,89633.399908970227,null,null,"","","","","","","","","","","","","","",1,"",null,"","",1,"","","","","","",1,"","","","","",""]
[32,"Nonmotorized","NB Ped","MinNM1","Nonmotorized","WBL","MajL2","Major left",null,175,2068.6813186813188,362019.23076923081,null,0,20,"","",0.20274912921655375,null,{"$f":"IF(SSI_AGI_PedExclusive=\"Yes\", SSI_AGI_ProtFactor,SSI_AGI_ProtPermFactor)","v":0.92500000000000004},null,null,1,2,null,4.5,null,45,0.83333333333333326,null,null,null,1,null,3.46875,null,254603.07192468771,null,null,{"$f":"IF(ISNUMBER(SEARCH(AN$3,$D35)),1,\"\")","v":""},"","","","","","","","","","","","","",1,"",null,{"$f":"IF(ISNUMBER(SEARCH(BE$3,$G35)),1,\"\")","v":""},"","","",1,"","","","","","","","","","",""]
[33,"Nonmotorized","NB Ped","MinNM1","Nonmotorized","NBL","MinL1","Signal near",null,175,1071.4285714285713,187499.99999999997,null,0,15,"",{"$f":"IF(B36=\"Nonmotorized\",\"\",SQRT(N36^2+O36^2-2*N36*O36*COS(RADIANS(P36)))/2)","v":""},0.1205004039155782,null,0.505,null,null,1,2,null,4.5,null,45,0.83333333333333326,null,null,null,1,null,1.8937499999999998,null,42787.057484086159,null,null,"","","","","","","","","","","","","","",1,"",null,"","","","","","","",1,"","","","","","","",""]
[34,"Nonmotorized","NB Ped","MinNM1","Nonmotorized","NBR, NBT","MinR1, MinT1","Signal near",null,175,2928.5714285714284,{"$f":"PRODUCT(J37:K37)","v":512500},null,0,15,"","",0.1205004039155782,null,0.505,null,null,1,null,null,1,null,{"$f":"IF(B37=\"Diverging\",\"\",SSI_AGI_VehSpeed_MnrThru)","v":29.75},0.66388888888888886,null,null,null,1,null,0.33526388888888886,null,20704.709940077053,null,null,"","","","","","","","","","","","","","",1,"",null,"","","","","","",1,"",1,"","","","","","",""]
[35,"Nonmotorized","WB Ped","MajNM2","Nonmotorized","NBR, NBT","MinR1, MinT1","Signal near",null,175,2928.5714285714284,512500,null,0,15,"","",0.1205004039155782,null,0.505,null,1,null,null,2,4,null,{"$f":"IF(B38=\"Diverging\",\"\",SSI_AGI_VehSpeed_MjrThru)","v":45},0.83333333333333326,null,null,null,1,null,1.6833333333333331,null,103956.70262800193,null,null,"","","","","","","","","","","","","",1,"","",null,"","","","","","",1,"",1,"","","","","","",""]
[36,"Nonmotorized","WB Ped","MajNM2","Nonmotorized","EBT","MajT1","Major thru",null,175,6543.9560439560446,1145192.3076923077,null,0,45,"","",0.84855340903216459,null,0.505,null,1,null,null,2,4,null,45,0.83333333333333326,null,null,null,1,null,1.6833333333333331,null,1635790.6750943607,null,null,"","","","","","","","","","","","","",1,"","",null,1,"","","","","","","","","","","","","","",""]
[37,"Nonmotorized","WB Ped","MajNM2","Nonmotorized","SBL","MinL2","Signal far",null,175,1071.4285714285713,187499.99999999997,null,0,25,"","",0.32066879346345062,null,{"$f":"IF(SSI_AGI_PedExclusive=\"Yes\", SSI_AGI_ProtFactor,SSI_AGI_ProtPermFactor)","v":0.92500000000000004},null,1,null,null,2,4,null,45,0.83333333333333326,null,null,null,1,null,3.083333333333333,null,185386.64622105734,null,null,"","","","","","","","","","","","","",1,"","",null,"","","","","","","","","","",1,"","","","",""]
[38,"Nonmotorized","WB Ped","MajNM2","Nonmotorized","WBL","MajL2","Major left",null,175,2068.6813186813188,362019.23076923081,null,0,20,"","",0.20274912921655375,null,0.505,null,1,null,null,null,2,null,45,0.83333333333333326,null,null,null,1,null,0.84166666666666656,null,61777.562196741033,null,null,"","","","","","","","","","","","","",1,"","",null,"","","","",1,"","","","","","","","","","",""]
[39,"Nonmotorized","WB Ped","MajNM2","Nonmotorized","WBT","MajT2","Major thru",null,175,6502.7472527472528,1137980.7692307692,null,0,45,"","",0.84855340903216459,null,0.505,null,1,null,null,null,2,null,45,0.83333333333333326,null,null,null,1,null,0.84166666666666656,null,812744.8631293769,null,null,"","","","","","","","","","","","","",1,"","",null,"","","",1,"","","","","","","","","","","",""]
[40,"Nonmotorized","WB Ped","MajNM2","Nonmotorized","WBR, NBT","MajR2, MinT1","Major right",null,175,2214.2857142857142,387500,null,0,15,"","",0.1205004039155782,null,0.505,null,1,null,null,null,2,null,45,0.83333333333333326,null,null,null,1,null,0.84166666666666656,null,39300.704652049513,null,null,"","","","","","","","","","","","","",1,"","",null,"","","","","",1,1,"","","","","","","","",""]
[41,"Nonmotorized","SB Ped","MinNM2","Nonmotorized","WBR, NBT","MajR2, MinT1","Major right",null,175,2214.2857142857142,387500,null,0,15,"","",0.1205004039155782,null,0.505,null,null,1,2,null,4.5,null,45,0.83333333333333326,null,null,null,1,null,1.8937499999999998,null,88426.585467111407,null,null,"","","","","","","","","","","","","","","",1,null,"","","","","",1,1,"","","","","","","","",""]
[42,"Nonmotorized","SB Ped","MinNM2","Nonmotorized","EBL","MajL1","Major left",null,175,2068.6813186813188,362019.23076923081,null,0,20,"","",0.20274912921655375,null,{"$f":"IF(SSI_AGI_PedExclusive=\"Yes\", SSI_AGI_ProtFactor,SSI_AGI_ProtPermFactor)","v":0.92500000000000004},null,null,1,2,null,4.5,null,45,0.83333333333333326,null,null,null,1,null,3.46875,null,254603.07192468771,null,null,"","","","","","","","","","","","","","","",1,null,"",1,"","","","","","","","","","","","","",""]
[43,"Nonmotorized","SB Ped","MinNM2","Nonmotorized","SBL","MinL2","Signal near",null,175,1071.4285714285713,187499.99999999997,null,0,15,"","",0.1205004039155782,null,0.505,null,null,1,2,null,4.5,null,45,0.83333333333333326,null,null,null,1,null,1.8937499999999998,null,42787.057484086159,null,null,"","","","","","","","","","","","","","","",1,null,"","","","","","","","","","",1,"","","","",""]
[44,"Nonmotorized","SB Ped","MinNM2","Nonmotorized","SBR, SBT","MinR2, MinT2","Signal near",null,175,2928.5714285714284,512500,null,0,15,"","",0.1205004039155782,null,0.505,null,null,1,null,null,1,null,{"$f":"IF(B47=\"Diverging\",\"\",SSI_AGI_VehSpeed_MnrThru)","v":29.75},0.66388888888888886,null,null,null,1,null,0.33526388888888886,null,20704.709940077053,null,null,"","","","","","","","","","","","","","","",1,null,"","","","","","","","","",1,"",1,"","","",""]
[null,null,null,null,null,null,null,null,null,null,null,null,null,null,null,null,null,null,null,null,null,null,null,null,null,null,null,null,null,null,null,null,null,null,null,null,null,null,"O",{"$f":"'SSI Inputs'!$D$26","v":6543.9560439560446},{"$f":"'SSI Inputs'!$D$27","v":2068.6813186813188},{"$f":"'SSI Inputs'!$D$28","v":387.36263736263737},{"$f":"'SSI Inputs'!$D$30","v":6502.7472527472528},{"$f":"'SSI Inputs'!$D$31","v":2068.6813186813188},{"$f":"'SSI Inputs'!$D$32","v":428.57142857142856},{"$f":"'SSI Inputs'!$D$34","v":1785.7142857142856},{"$f":"'SSI Inputs'!$D$35","v":1071.4285714285713},{"$f":"'SSI Inputs'!$D$36","v":1142.8571428571429},{"$f":"'SSI Inputs'!$D$38","v":1857.1428571428571},{"$f":"'SSI Inputs'!$D$39","v":1071.4285714285713},{"$f":"'SSI Inputs'!$D$40","v":1071.4285714285713},{"$f":"'SSI Inputs'!$Q$18","v":175},{"$f":"'SSI Inputs'!$Q$19","v":175},{"$f":"'SSI Inputs'!$Q$20","v":175},{"$f":"'SSI Inputs'!$Q$21","v":175},"O",{"$f":"'SSI Inputs'!$D$26","v":6543.9560439560446},{"$f":"'SSI Inputs'!$D$27","v":2068.6813186813188},{"$f":"'SSI Inputs'!$D$28","v":387.36263736263737},{"$f":"'SSI Inputs'!$D$30","v":6502.7472527472528},{"$f":"'SSI Inputs'!$D$31","v":2068.6813186813188},{"$f":"'SSI Inputs'!$D$32","v":428.57142857142856},{"$f":"'SSI Inputs'!$D$34","v":1785.7142857142856},{"$f":"'SSI Inputs'!$D$35","v":1071.4285714285713},{"$f":"'SSI Inputs'!$D$36","v":1142.8571428571429},{"$f":"'SSI Inputs'!$D$38","v":1857.1428571428571},{"$f":"'SSI Inputs'!$D$39","v":1071.4285714285713},{"$f":"'SSI Inputs'!$D$40","v":1071.4285714285713},{"$f":"'SSI Inputs'!$Q$18","v":175},{"$f":"'SSI Inputs'!$Q$19","v":175},{"$f":"'SSI Inputs'!$Q$20","v":175},{"$f":"'SSI Inputs'!$Q$21","v":175}]
[null,null,null,null,null,null,null,null,null,null,null,null,null,null,null,null,null,null,null,null,null,null,null,null,null,null,null,null,null,null,null,null,null,null,null,null,null,null,"D",{"$f":"'SSI Inputs'!$E$26","v":7271.062271062272},{"$f":"'SSI Inputs'!$E$27","v":2298.5347985347985},{"$f":"'SSI Inputs'!$E$28","v":430.40293040293039},{"$f":"'SSI Inputs'!$E$30","v":7225.2747252747249},{"$f":"'SSI Inputs'!$E$31","v":2298.5347985347985},{"$f":"'SSI Inputs'!$E$32","v":476.19047619047615},{"$f":"'SSI Inputs'!$E$34","v":2232.1428571428569},{"$f":"'SSI Inputs'!$E$35","v":1339.2857142857142},{"$f":"'SSI Inputs'!$E$36","v":1428.5714285714284},{"$f":"'SSI Inputs'!$E$38","v":2321.4285714285716},{"$f":"'SSI Inputs'!$E$39","v":1339.2857142857142},{"$f":"'SSI Inputs'!$E$40","v":1339.2857142857142},{"$f":"'SSI Inputs'!$R$18","v":175},{"$f":"'SSI Inputs'!$R$19","v":175},{"$f":"'SSI Inputs'!$R$20","v":175},{"$f":"'SSI Inputs'!$R$21","v":175},"D",{"$f":"'SSI Inputs'!$E$26","v":7271.062271062272},{"$f":"'SSI Inputs'!$E$27","v":2298.5347985347985},{"$f":"'SSI Inputs'!$E$28","v":430.40293040293039},{"$f":"'SSI Inputs'!$E$30","v":7225.2747252747249},{"$f":"'SSI Inputs'!$E$31","v":2298.5347985347985},{"$f":"'SSI Inputs'!$E$32","v":476.19047619047615},{"$f":"'SSI Inputs'!$E$34","v":2232.1428571428569},{"$f":"'SSI Inputs'!$E$35","v":1339.2857142857142},{"$f":"'SSI Inputs'!$E$36","v":1428.5714285714284},{"$f":"'SSI Inputs'!$E$38","v":2321.4285714285716},{"$f":"'SSI Inputs'!$E$39","v":1339.2857142857142},{"$f":"'SSI Inputs'!$E$40","v":1339.2857142857142},{"$f":"'SSI Inputs'!$R$18","v":175},{"$f":"'SSI Inputs'!$R$19","v":175},{"$f":"'SSI Inputs'!$R$20","v":175},{"$f":"'SSI Inputs'!$R$21","v":175}]
[]
[]
[]
[]
[]
[]
[]
[]
[]
[]
[]
[]
[]
[]
[]
[]
[]
[]
[]
[]
[]
[]
[]
[]
[]
[]
[]
[]
[]
[]
[]
[]
[]
[]
[]
[]
[]
[]
[]
[]
[]
[]
[]
[]
[]
[]
[]
[]
[]
[]
[]
[null,null,null,null,null,null,null,null,null,"Exposure",null,null,null,null,null,null,null,null,null,null,null,null,null,null,null,null,null,null,null,null,null,null,null,null,null,null,"Exposure-Severity-Complexity Product"]
[null,null,null,null,null,null,null,null,null,"Q1","Q2","I"]
[null,null,null,null,null,null,null,null,null,{"$f":"SUMPRODUCT($AN4:$BC4,$AN$49:$BC$49)","v":1339.2857142857142},{"$f":"SUMPRODUCT($BE4:$BT4,$BE$49:$BT$49)","v":2298.5347985347985},{"$f":"PRODUCT(J103:K103)","v":3078394.8194662477},null,null,null,null,null,null,null,null,null,null,null,null,null,null,null,null,null,null,null,null,null,null,null,null,{"$f":"L103*R4*AI4","v":104717.54965062031}]
[null,null,null,null,null,null,null,null,null,{"$f":"SUMPRODUCT($AN5:$BC5,$AN$49:$BC$49)","v":1339.2857142857142},{"$f":"SUMPRODUCT($BE5:$BT5,$BE$49:$BT$49)","v":2298.5347985347985},{"$f":"PRODUCT(J104:K104)","v":3078394.8194662477},null,null,null,null,null,null,null,null,null,null,null,null,null,null,null,null,null,null,null,null,null,null,null,null,{"$f":"L104*R5*AI5","v":40621.778203809496}]
[null,null,null,null,null,null,null,null,null,2298.5347985347985,7271.062271062272,16712789.652350094,null,null,null,null,null,null,null,null,null,null,null,null,null,null,null,null,null,null,null,null,null,null,null,null,1270025.0557279745]
[null,null,null,null,null,null,null,null,null,1339.2857142857142,7271.062271062272,9738029.8273155428,null,null,null,null,null,null,null,null,null,null,null,null,null,null,null,null,null,null,null,null,null,null,null,null,1072093.2927235081]
[null,null,null,null,null,null,null,null,null,1339.2857142857142,2298.5347985347985,3078394.8194662477,null,null,null,null,null,null,null,null,null,null,null,null,null,null,null,null,null,null,null,null,null,null,null,null,104717.54965062031]
[null,null,null,null,null,null,null,null,null,1339.2857142857142,2298.5347985347985,3078394.8194662477,null,null,null,null,null,null,null,null,null,null,null,null,null,null,null,null,null,null,null,null,null,null,null,null,40621.778203809496]
[null,null,null,null,null,null,null,null,null,2298.5347985347985,7225.2747252747249,16607545.385017911,null,null,null,null,null,null,null,null,null,null,null,null,null,null,null,null,null,null,null,null,null,null,null,null,1262027.4168379996]
[null,null,null,null,null,null,null,null,null,1339.2857142857142,7225.2747252747249,9676707.2213500775,null,null,null,null,null,null,null,null,null,null,null,null,null,null,null,null,null,null,null,null,null,null,null,null,1065342.0755149217]
[null,null,null,null,null,null,null,null,null,2298.5347985347985,2708.333333333333,6225198.4126984123,null,null,null,null,null,null,null,null,null,null,null,null,null,null,null,null,null,null,null,null,null,null,null,null,2044.6224534235066]
[null,null,null,null,null,null,null,null,null,3660.7142857142858,7225.2747252747249,26449666.405023549,null,null,null,null,null,null,null,null,null,null,null,null,null,null,null,null,null,null,null,null,null,null,null,null,260511.97685732451]
[null,null,null,null,null,null,null,null,null,1339.2857142857142,7225.2747252747249,9676707.2213500775,null,null,null,null,null,null,null,null,null,null,null,null,null,null,null,null,null,null,null,null,null,null,null,null,139499.2654882067]
[null,null,null,null,null,null,null,null,null,2321.4285714285716,10000,23214285.714285716,null,null,null,null,null,null,null,null,null,null,null,null,null,null,null,null,null,null,null,null,null,null,null,null,228645.58554926454]
[null,null,null,null,null,null,null,null,null,2298.5347985347985,2751.831501831502,6325180.4666639837,null,null,null,null,null,null,null,null,null,null,null,null,null,null,null,null,null,null,null,null,null,null,null,null,2077.4608529290408]
[null,null,null,null,null,null,null,null,null,1339.2857142857142,7271.062271062272,9738029.8273155428,null,null,null,null,null,null,null,null,null,null,null,null,null,null,null,null,null,null,null,null,null,null,null,null,140383.29125175683]
[null,null,null,null,null,null,null,null,null,3660.7142857142853,7271.062271062272,26617281.527995814,null,null,null,null,null,null,null,null,null,null,null,null,null,null,null,null,null,null,null,null,null,null,null,null,262162.87658392353]
[null,null,null,null,null,null,null,null,null,2232.1428571428569,10000,22321428.571428567,null,null,null,null,null,null,null,null,null,null,null,null,null,null,null,null,null,null,null,null,null,null,null,null,219851.52456660042]
[null,null,null,null,null,null,null,null,null,3660.7142857142858,1339.2857142857142,4902742.3469387749,null,null,null,null,null,null,null,null,null,null,null,null,null,null,null,null,null,null,null,null,null,null,null,null,3.140764801200405]
[null,null,null,null,null,null,null,null,null,2321.4285714285716,9903.8461538461524,22991071.428571425,null,null,null,null,null,null,null,null,null,null,null,null,null,null,null,null,null,null,null,null,null,null,null,null,83876.00002896777]
[null,null,null,null,null,null,null,null,null,10022.893772893774,2298.5347985347985,23037970.119014077,null,null,null,null,null,null,null,null,null,null,null,null,null,null,null,null,null,null,null,null,null,null,null,null,84047.0957768605]
[null,null,null,null,null,null,null,null,null,7271.062271062272,2751.831501831502,20008738.209287662,null,null,null,null,null,null,null,null,null,null,null,null,null,null,null,null,null,null,null,null,null,null,null,null,140173.66986019243]
[null,null,null,null,null,null,null,null,null,3660.7142857142853,1339.2857142857142,4902742.3469387749,null,null,null,null,null,null,null,null,null,null,null,null,null,null,null,null,null,null,null,null,null,null,null,null,3.140764801200405]
[null,null,null,null,null,null,null,null,null,2232.1428571428569,10038.919413919415,22408302.263212979,null,null,null,null,null,null,null,null,null,null,null,null,null,null,null,null,null,null,null,null,null,null,null,null,81749.942238127187]
[null,null,null,null,null,null,null,null,null,9933.608058608057,2298.5347985347985,22832743.79771632,null,null,null,null,null,null,null,null,null,null,null,null,null,null,null,null,null,null,null,null,null,null,null,null,83298.38935034207]
[null,null,null,null,null,null,null,null,null,7225.2747252747249,2708.333333333333,19568452.380952377,null,null,null,null,null,null,null,null,null,null,null,null,null,null,null,null,null,null,null,null,null,null,null,null,137089.19348293921]
[null,null,null,null,null,null,null,null,null,175,3660.7142857142858,640625,null,null,null,null,null,null,null,null,null,null,null,null,null,null,null,null,null,null,null,null,null,null,null,null,129945.87828500241]
[null,null,null,null,null,null,null,null,null,175,7225.2747252747249,1264423.0769230768,null,null,null,null,null,null,null,null,null,null,null,null,null,null,null,null,null,null,null,null,null,null,null,null,1806099.6958430593]
[null,null,null,null,null,null,null,null,null,175,1339.2857142857142,234375,null,null,null,null,null,null,null,null,null,null,null,null,null,null,null,null,null,null,null,null,null,null,null,null,231733.30777632172]
[null,null,null,null,null,null,null,null,null,175,2298.5347985347985,402243.58974358975,null,null,null,null,null,null,null,null,null,null,null,null,null,null,null,null,null,null,null,null,null,null,null,null,68641.735774156696]
[null,null,null,null,null,null,null,null,null,175,7271.062271062272,1272435.8974358975,null,null,null,null,null,null,null,null,null,null,null,null,null,null,null,null,null,null,null,null,null,null,null,null,908772.59727464488]
[null,null,null,null,null,null,null,null,null,175,2751.831501831502,481570.51282051287,null,null,null,null,null,null,null,null,null,null,null,null,null,null,null,null,null,null,null,null,null,null,null,null,48841.446434825804]
[null,null,null,null,null,null,null,null,null,175,2751.831501831502,481570.51282051287,null,null,null,null,null,null,null,null,null,null,null,null,null,null,null,null,null,null,null,null,null,null,null,null,109893.25447835807]
[null,null,null,null,null,null,null,null,null,175,2298.5347985347985,402243.58974358975,null,null,null,null,null,null,null,null,null,null,null,null,null,null,null,null,null,null,null,null,null,null,null,null,282892.30213854188]
[null,null,null,null,null,null,null,null,null,175,1339.2857142857142,234375,null,null,null,null,null,null,null,null,null,null,null,null,null,null,null,null,null,null,null,null,null,null,null,null,53483.821855107701]
[null,null,null,null,null,null,null,null,null,175,3660.7142857142853,{"$f":"PRODUCT(J136:K136)","v":640624.99999999988},null,null,null,null,null,null,null,null,null,null,null,null,null,null,null,null,null,null,null,null,null,null,null,null,25880.887425096313]
[null,null,null,null,null,null,null,null,null,175,3660.7142857142853,{"$f":"PRODUCT(J137:K137)","v":640624.99999999988},null,null,null,null,null,null,null,null,null,null,null,null,null,null,null,null,null,null,null,null,null,null,null,null,129945.8782850024]
[null,null,null,null,null,null,null,null,null,175,7271.062271062272,1272435.8974358975,null,null,null,null,null,null,null,null,null,null,null,null,null,null,null,null,null,null,null,null,null,null,null,null,1817545.1945492898]
[null,null,null,null,null,null,null,null,null,175,1339.2857142857142,234375,null,null,null,null,null,null,null,null,null,null,null,null,null,null,null,null,null,null,null,null,null,null,null,null,231733.30777632172]
[null,null,null,null,null,null,null,null,null,175,2298.5347985347985,402243.58974358975,null,null,null,null,null,null,null,null,null,null,null,null,null,null,null,null,null,null,null,null,null,null,null,null,68641.735774156696]
[null,null,null,null,null,null,null,null,null,175,7225.2747252747249,1264423.0769230768,null,null,null,null,null,null,null,null,null,null,null,null,null,null,null,null,null,null,null,null,null,null,null,null,903049.84792152967]
[null,null,null,null,null,null,null,null,null,175,2708.333333333333,473958.33333333326,null,null,null,null,null,null,null,null,null,null,null,null,null,null,null,null,null,null,null,null,null,null,null,null,48069.410259899261]
[null,null,null,null,null,null,null,null,null,175,2708.333333333333,473958.33333333326,null,null,null,null,null,null,null,null,null,null,null,null,null,null,null,null,null,null,null,null,null,null,null,null,108156.17308477334]
[null,null,null,null,null,null,null,null,null,175,2298.5347985347985,402243.58974358975,null,null,null,null,null,null,null,null,null,null,null,null,null,null,null,null,null,null,null,null,null,null,null,null,282892.30213854188]
[null,null,null,null,null,null,null,null,null,175,1339.2857142857142,234375,null,null,null,null,null,null,null,null,null,null,null,null,null,null,null,null,null,null,null,null,null,null,null,null,53483.821855107701]
[null,null,null,null,null,null,null,null,null,175,3660.7142857142858,640625,null,null,null,null,null,null,null,null,null,null,null,null,null,null,null,null,null,null,null,null,null,null,null,null,25880.887425096316]

{"sheet":"ThruCut_Unsig","index":30,"n_rows":146,"n_cols":72,"rows_kept":146,"cut":false,"hidden":true,"merged":[[1,34,2,34],[1,36,2,36],[1,39,1,54],[1,56,1,71],[100,9,100,11],[100,36,101,36],[0,19,0,28],[0,30,0,32],[1,9,1,11],[1,13,1,17],[1,21,1,25],[1,27,1,28],[1,30,2,30],[1,31,2,31],[1,32,2,32]]}
[null,null,null,null,null,null,null,null,null,null,null,null,null,null,null,null,null,null,null,"Conflicting Traffic Complexity",null,null,null,null,null,null,null,null,null,null,"Pedestrian Complexity"]
[null,null,null,null,null,null,null,null,null,"Exposure",null,null,null,"Severity",null,null,null,null,null,"Traffic Control",null,"Conflicting Lanes",null,null,null,null,null,"Conflicting Speed",null,null,"Indirect Paths Indicator","Non-intuitive movements indicator","Pedestrian Complexity factor",null,"Total Complexity Multiplier",null,"Exposure-Severity-Complexity Product",null,null,"Included in Mvmt1",null,null,null,null,null,null,null,null,null,null,null,null,null,null,null,null,"Included in Mvmt2"]
["#","Conflict Type","Mvmt1","Mvmt1_gen","Mvmt1_SpeedCat","Mvmt2","Mvmt2_gen","Mvmt2_SpeedCat",null,"Q1","Q2","I",null,"Speed_V1","Speed_V2","Angle","delta_V","P_FSI",null,null,null,"MajC","MinC","MajM/P","MinM/P","Score",null,"Speed","Factor",null,null,null,null,null,null,null,null,null,null,"MajT1","MajL1","MajR1","MajT2","MajL2","MajR2","MinT1","MinL1","MinR1","MinT2","MinL2","MinR2","MajNM1","MajNM2","MinNM1","MinNM2",null,"MajT1","MajL1","MajR1","MajT2","MajL2","MajR2","MinT1","MinL1","MinR1","MinT2","MinL2","MinR2","MajNM1","MajNM2","MinNM1","MinNM2"]
[1,"Crossing - LT","NBL","MinL1","Stop far","EBL","MajL1","Major left",null,{"$f":"SUMPRODUCT($AN4:$BC4,$AN$48:$BC$48)","v":1071.4285714285713},{"$f":"SUMPRODUCT($BE4:$BT4,$BE$48:$BT$48)","v":2068.6813186813188},{"$f":"PRODUCT(J4:K4)","v":2216444.2700156984},null,{"$f":"VLOOKUP(E4,SSI_AGI_Range_VehSpeed,5,FALSE)","v":25},{"$f":"VLOOKUP(H4,SSI_AGI_Range_VehSpeed,5,FALSE)","v":20},{"$f":"IF(B4=\"Nonmotorized\",\"\",VLOOKUP(B4,SSI_AGI_Range_CollAngles,5,FALSE))","v":230},{"$f":"IF(B4=\"Nonmotorized\",\"\",SQRT(N4^2+O4^2-2*N4*O4*COS(RADIANS(P4)))/2)","v":20.419277715473552},{"$f":"IF(B4=\"Nonmotorized\",1/(1+EXP(3.8432-0.1237*O4)),(Q4/SSI_AGI_RegAlpha)^SSI_AGI_RegK+(Q4/SSI_AGI_RegAlpha)^SSI_AGI_RegK-((Q4/SSI_AGI_RegAlpha)^SSI_AGI_RegK)*((Q4/SSI_AGI_RegAlpha)^SSI_AGI_RegK))","v":2.1555284139167314E-2},null,{"$f":"SSI_AGI_StopFactor","v":0.72500000000000009},null,1,null,1,null,{"$f":"MAX(1,IF(B4<>\"Pedestrian\",V4*SSI_AGI_MajorThruLanes+W4*SSI_AGI_MinorThruLanes+X4*IF(SSI_AGI_MajorThruLanes=1,SSI_AGI_MergeWeightL1,IF(SSI_AGI_MajorThruLanes=2,SSI_AGI_MergeWeightL1+SSI_AGI_MergeWeightL2,SSI_AGI_MergeWeightL1+SSI_AGI_MergeWeightL2+SSI_AGI_MergeWeightL3*(SSI_AGI_MajorThruLanes-2)))+Y4*IF(SSI_AGI_MinorThruLanes=1,SSI_AGI_MergeWeightL1,IF(SSI_AGI_MinorThruLanes=2,SSI_AGI_MergeWeightL1+SSI_AGI_MergeWeightL2,SSI_AGI_MergeWeightL1+SSI_AGI_MergeWeightL2+SSI_AGI_MergeWeightL3*(SSI_AGI_MinorThruLanes-2))),V4*SSI_AGI_MajorThruLanes+W4*SSI_AGI_MinorThruLanes+X4*IF(SSI_AGI_MajorThruLanes=1,SSI_AGI_NM_MergeWeightL1,IF(SSI_AGI_MajorThruLanes=2,SSI_AGI_NM_MergeWeightL1+SSI_AGI_NM_MergeWeightL2,SSI_AGI_NM_MergeWeightL1+SSI_AGI_NM_MergeWeightL2+SSI_AGI_NM_MergeWeightL3*(SSI_AGI_MajorThruLanes-2)))+Y4*IF(SSI_AGI_MinorThruLanes=1,SSI_AGI_NM_MergeWeightL1,IF(SSI_AGI_MinorThruLanes=2,SSI_AGI_NM_MergeWeightL1+SSI_AGI_NM_MergeWeightL2,SSI_AGI_NM_MergeWeightL1+SSI_AGI_NM_MergeWeightL2+SSI_AGI_NM_MergeWeightL3*(SSI_AGI_MinorThruLanes-2)))))","v":3.75},null,{"$f":"IF(B4=\"Diverging\",\"\",SSI_AGI_VehSpeed_MjrThru)","v":45},{"$f":"IF(B4=\"Diverging\",1,1-((60-AB4)/60*0.1/0.15))","v":0.83333333333333326},null,null,null,{"$f":"IF(SSI_AGI_ConsiderNMComplexity=\"Y\",1+AE4+AF4,1)","v":1},null,{"$f":"PRODUCT(Z4,T4,AC4,AG4)","v":2.265625},null,{"$f":"L4*R4*AI4","v":108242.69488638376},null,null,{"$f":"IF(ISNUMBER(SEARCH(AN$3,$D4)),1,\"\")","v":""},{"$f":"IF(ISNUMBER(SEARCH(AO$3,$D4)),1,\"\")","v":""},"","","","","",1,"","","","","","","","",null,{"$f":"IF(ISNUMBER(SEARCH(BE$3,$G4)),1,\"\")","v":""},{"$f":"IF(ISNUMBER(SEARCH(BF$3,$G4)),1,\"\")","v":1},"","","","","","","","","","","","","",""]
[2,"Crossing - LT","NBL","MinL1","Stop near","WBL","MajL2","Major left",null,1071.4285714285713,2068.6813186813188,{"$f":"PRODUCT(J5:K5)","v":2216444.2700156984},null,15,20,230,{"$f":"IF(B5=\"Nonmotorized\",\"\",SQRT(N5^2+O5^2-2*N5*O5*COS(RADIANS(P5)))/2)","v":15.895538413434787},8.3616736100371545E-3,null,0.72500000000000009,null,1,null,1,null,3.75,null,45,0.83333333333333326,null,null,null,1,null,2.265625,null,{"$f":"L5*R5*AI5","v":41989.244004729808},null,null,{"$f":"IF(ISNUMBER(SEARCH(AN$3,$D5)),1,\"\")","v":""},"","","","","","",1,"","","","","","","","",null,{"$f":"IF(ISNUMBER(SEARCH(BE$3,$G5)),1,\"\")","v":""},"","","",1,"","","","","","","","","","",""]
[3,"Crossing - LT","WBL","MajL2","Major left","EBT","MajT1","Major thru",null,2068.6813186813188,6543.9560439560446,13537359.618403576,null,20,45,230,29.924979939156898,9.0286582411373745E-2,null,0.72500000000000009,null,1,null,null,null,2,null,45,0.83333333333333326,null,null,null,1,null,1.2083333333333335,null,1476875.6712401055,null,null,"","","","",1,"","","","","","","","","","","",null,1,"","","","","","","","","","","","","","",""]
[4,"Crossing - LT","NBL","MinL1","Stop near","EBT","MajT1","Major thru",null,1071.4285714285713,6543.9560439560446,7011381.4756671898,null,15,45,230,27.918467333813421,6.9762185672148203E-2,null,0.72500000000000009,null,1,null,1,null,3.75,null,45,0.83333333333333326,null,null,null,1,null,2.265625,null,1108183.5619835074,null,null,"","","","","","","",1,"","","","","","","","",null,1,"","","","","","","","","","","","","","",""]
[5,"Crossing - LT","SBL","MinL2","Stop far","WBL","MajL2","Major left",null,1071.4285714285713,2068.6813186813188,2216444.2700156984,null,25,20,230,20.419277715473552,2.1555284139167314E-2,null,0.72500000000000009,null,1,null,1,null,3.75,null,45,0.83333333333333326,null,null,null,1,null,2.265625,null,108242.69488638376,null,null,"","","","","","","","","","",1,"","","","","",null,"","","","",1,"","","","","","","","","","",""]
[6,"Crossing - LT","SBL","MinL2","Stop near","EBL","MajL1","Major left",null,1071.4285714285713,2068.6813186813188,2216444.2700156984,null,15,20,230,15.895538413434787,8.3616736100371545E-3,null,0.72500000000000009,null,1,null,1,null,3.75,null,45,0.83333333333333326,null,null,null,1,null,2.265625,null,41989.244004729808,null,null,"","","","","","","","","","",1,"","","","","",null,"",1,"","","","","","","","","","","","","",""]
[7,"Crossing - LT","EBL","MajL1","Major left","WBT","MajT2","Major thru",null,2068.6813186813188,6502.7472527472528,13452111.761864509,null,20,45,230,29.924979939156898,9.0286582411373745E-2,null,0.72500000000000009,null,1,null,null,null,2,null,45,0.83333333333333326,null,null,null,1,null,1.2083333333333335,null,1467575.4466101297,null,null,"",1,"","","","","","","","","","","","","","",null,"","","",1,"","","","","","","","","","","",""]
[8,"Crossing - LT","SBL","MinL2","Stop near","WBT","MajT2","Major thru",null,1071.4285714285713,6502.7472527472528,6967229.1993720559,null,15,45,230,27.918467333813421,6.9762185672148203E-2,null,0.72500000000000009,null,1,null,1,null,3.75,null,45,0.83333333333333326,null,null,null,1,null,2.265625,null,1101205.07607681,null,null,"","","","","","","","","","",1,"","","","","",null,"","","",1,"","","","","","","","","","","",""]
[9,"Merging","EBL","MajL1","Major left","WBR, NBT","MajR2, MinT1","Major right",null,2068.6813186813188,2214.2857142857142,4580651.4913657773,null,20,15,45,7.0840654162717795,3.9022923271840544E-4,null,0.72500000000000009,null,1,null,null,null,2,null,45,0.83333333333333326,null,null,null,1,null,1.2083333333333335,null,2159.9008078315219,null,null,"",1,"","","","","","","","","","","","","","",null,"","","","","",1,1,"","","","","","","","",""]
[10,"Merging","SBR, SBT","MinR2, MinT2","Stop near","WBT","MajT2","Major thru",null,2928.5714285714284,6502.7472527472528,19043759.811616953,null,15,45,45,17.995873453365363,1.3373938286506865E-2,null,0.72500000000000009,null,null,null,1,null,1.75,null,45,0.83333333333333326,null,null,null,1,null,1.0572916666666667,null,269281.68696935329,null,null,"","","","","","","","","",1,"",1,"","","","",null,"","","",1,"","","","","","","","","","","",""]
[11,"Merging","NBL","MinL1","Stop far","WBT","MajT2","Major thru",null,1071.4285714285713,6502.7472527472528,6967229.1993720559,null,25,45,45,16.271214938736659,9.1348815406664795E-3,null,0.72500000000000009,null,1,null,1,null,3.75,null,45,0.83333333333333326,null,null,null,1,null,2.265625,null,144195.28036602752,null,null,"","","","","","","",1,"","","","","","","","",null,"","","",1,"","","","","","","","","","","",""]
[12,"Merging","SBT","MinT2","Stop near","EBT, EBL, EBR","MajT1, MajL1, MajR1","Major thru",null,1857.1428571428571,9000.0000000000018,16714285.714285718,null,15,45,45,17.995873453365363,1.3373938286506865E-2,null,0.72500000000000009,null,null,null,1,null,1.75,null,45,0.83333333333333326,null,null,null,1,null,1.0572916666666667,null,236342.56565686356,null,null,"","","","","","","","","",1,"","","","","","",null,1,1,1,"","","","","","","","","","","","",""]
[13,"Merging","WBL","MajL2","Major left","EBR, SBT","MajR1, MinT2","Major right",null,2068.6813186813188,2244.5054945054944,4643166.5861610919,null,20,15,45,7.0840654162717795,3.9022923271840544E-4,null,0.72500000000000009,null,1,null,null,null,2,null,45,0.83333333333333326,null,null,null,1,null,1.2083333333333335,null,2189.3783622808355,null,null,"","","","",1,"","","","","","","","","","","",null,"","",1,"","","","","","",1,"","","","","",""]
[14,"Merging","SBL","MinL2","Stop far","EBT","MajT1","Major thru",null,1071.4285714285713,6543.9560439560446,7011381.4756671898,null,25,45,45,16.271214938736659,9.1348815406664795E-3,null,0.72500000000000009,null,1,null,1,null,3.75,null,45,0.83333333333333326,null,null,null,1,null,2.265625,null,145109.06541270704,null,null,"","","","","","","","","","",1,"","","","","",null,1,"","","","","","","","","","","","","","",""]
[15,"Merging","NBR, NBT","MinR1, MinT1","Stop near","EBT","MajT1","Major thru",null,2928.5714285714284,6543.9560439560446,19164442.700156987,null,15,45,45,17.995873453365363,1.3373938286506865E-2,null,0.72500000000000009,null,null,null,1,null,1.75,null,45,0.83333333333333326,null,null,null,1,null,1.0572916666666667,null,270988.16153823386,null,null,"","","","","","",1,"",1,"","","","","","","",null,1,"","","","","","","","","","","","","","",""]
[16,"Merging","NBT","MinT1","Stop near","WBT, WBL, WBR","MajT2, MajL2, MajR2","Major thru",null,1785.7142857142856,9000.0000000000018,16071428.571428573,null,15,45,45,17.995873453365363,1.3373938286506865E-2,null,0.72500000000000009,null,null,null,1,null,1.75,null,45,0.83333333333333326,null,null,null,1,null,1.0572916666666667,null,227252.46697775339,null,null,"","","","","","",1,"","","","","","","","","",null,"","","",1,1,1,"","","","","","","","","",""]
[17,"Diverging","SBR, SBT","MinT2, MinR2","Stop near","SBL","MinL2","Stop near",null,2928.5714285714284,1071.4285714285713,3137755.1020408161,null,15,15,10,1.3073361412148754,6.4061388075216071E-7,null,1,null,null,null,null,null,1,null,"",1,null,null,null,1,null,1,null,2.0100894727682594,null,null,"","","","","","","","","",1,"",1,"","","","",null,"","","","","","","","","","",1,"","","","",""]
[18,"Diverging","SBT","MinT2","Major left","WBT, SBR, NBL","MajT2, MinR2, MinL1","Major thru",null,1857.1428571428571,8645.6043956043959,16056122.448979592,null,20,45,10,12.77053292327718,3.6481988362114144E-3,null,1,null,null,null,null,null,1,null,"",1,null,null,null,1,null,1,null,58575.927232435315,null,null,"","","","","","","","","",1,"","","","","","",null,"","","",1,"","","",1,"","","",1,"","","",""]
[19,"Diverging","EBT, EBR, SBL, SBT","MajT1, MajR1, MinT2","Major thru","EBL","MajL1","Major left",null,8788.461538461539,2068.6813186813188,18180526.204564668,null,45,20,10,12.77053292327718,3.6481988362114144E-3,null,1,null,null,null,null,null,1,null,"",1,null,null,null,1,null,1,null,66326.174541203945,null,null,1,"",1,"","","","","","",1,"","","","","","",null,"",1,"","","","","","","","","","","","","",""]
[20,"Diverging","EBT, SBL","MajT1","Major thru","EBR, SBT","MajR1, MinT2","Major right",null,6543.9560439560446,2244.5054945054944,14687945.296461781,null,45,15,10,15.169950011729762,7.0056226631585675E-3,null,1,null,null,null,null,null,1,null,"",1,null,null,null,1,null,1,null,102898.20244412594,null,null,1,"","","","","","","","","","","","","","","",null,"","",1,"","","","","","",1,"","","","","",""]
[21,"Diverging","NBR, NBT","MinT1, MinR1","Stop near","NBL","MinL1","Stop near",null,2928.5714285714284,1071.4285714285713,3137755.1020408161,null,15,15,10,1.3073361412148754,6.4061388075216071E-7,null,1,null,null,null,null,null,1,null,"",1,null,null,null,1,null,1,null,2.0100894727682594,null,null,"","","","","","",1,"",1,"","","","","","","",null,"","","","","","","",1,"","","","","","","",""]
[22,"Diverging","NBT","MinT1","Major left","EBT, NBR, SBL","MajT1, MinR1, MinL2","Major thru",null,1785.7142857142856,8758.2417582417584,15639717.42543171,null,20,45,10,12.77053292327718,3.6481988362114144E-3,null,1,null,null,null,null,null,1,null,"",1,null,null,null,1,null,1,null,{"$f":"L25*R25*AI25","v":57056.798910135345},null,null,"","","","","","",1,"","","","","","","","","",null,1,"","","","","","","",1,"",1,"","","","",""]
[23,"Diverging","WBT, WBR, NBL, NBT","MajT2, MajR2, MinT1","Major thru","WBL","MajL2","Major left",null,8717.0329670329666,2068.6813186813188,18032763.253230285,null,45,20,10,12.77053292327718,3.6481988362114144E-3,null,1,null,null,null,null,null,1,null,"",1,null,null,null,1,null,1,null,65787.105914110682,null,null,"","","",1,"",1,1,"","","","","","","","","",null,"","","","",1,"","","","","","","","","","",""]
[24,"Diverging","WBT, NBL","MajT2","Major thru","WBR, NBT","MajR2, MinT1","Major right",null,6502.7472527472528,2214.2857142857142,14398940.345368916,null,45,15,10,15.169950011729762,7.0056226631585675E-3,null,1,null,null,null,null,null,1,null,"",1,null,null,null,1,null,1,null,100873.54280898473,null,null,"","","",1,"","","","","","","","","","","","",null,"","","","","",1,1,"","","","","","","","",""]
[25,"Nonmotorized","EB Ped","MajNM1","Nonmotorized","SBR, SBT","MinR2, MinT2","Stop near",null,175,2928.5714285714284,512500,null,0,15,"","",0.1205004039155782,null,{"$f":"SSI_AGI_StopFactor","v":0.72500000000000009},null,1,null,null,2,4,null,45,0.83333333333333326,null,null,null,1,null,2.416666666666667,null,149244.77109960676,null,null,"","","","","","","","","","","","",1,"","","",null,"","","","","","","","","",1,"",1,"","","",""]
[26,"Nonmotorized","EB Ped","MajNM1","Nonmotorized","WBT","MajT2","Major thru",null,175,6502.7472527472528,1137980.7692307692,null,0,45,"","",0.84855340903216459,null,{"$f":"SSI_AGI_PermFactor","v":1},null,1,null,null,2,4,null,45,0.83333333333333326,null,null,null,1,null,3.333333333333333,null,3218791.5371460472,null,null,"","","","","","","","","","","","",1,"","","",null,"","","",1,"","","","","","","","","","","",""]
[27,"Nonmotorized","EB Ped","MajNM1","Nonmotorized","NBL","MinL1","Stop far",null,175,1071.4285714285713,187499.99999999997,null,0,25,"","",0.32066879346345062,null,{"$f":"SSI_AGI_StopFactor","v":0.72500000000000009},null,1,null,null,2,4,null,45,0.83333333333333326,null,null,null,1,null,2.416666666666667,null,145303.04703812607,null,null,"","","","","","","","","","","","",1,"","","",null,"","","","","","","",1,"","","","","","","",""]
[28,"Nonmotorized","EB Ped","MajNM1","Nonmotorized","EBL","MajL1","Major left",null,175,2068.6813186813188,362019.23076923081,null,0,20,"","",0.20274912921655375,null,{"$f":"SSI_AGI_PermFactor","v":1},null,1,null,null,null,2,null,45,0.83333333333333326,null,null,null,1,null,1.6666666666666665,null,122331.80633018028,null,null,"","","","","","","","","","","","",1,"","","",null,"",1,"","","","","","","","","","","","","",""]
[29,"Nonmotorized","EB Ped","MajNM1","Nonmotorized","EBT","MajT1","Major thru",null,175,6543.9560439560446,1145192.3076923077,null,0,45,"","",0.84855340903216459,null,{"$f":"SSI_AGI_PermFactor","v":1},null,1,null,null,null,2,null,45,0.83333333333333326,null,null,null,1,null,1.6666666666666665,null,1619594.7278161987,null,null,"","","","","","","","","","","","",1,"","","",null,1,"","","","","","","","","","","","","","",""]
[30,"Nonmotorized","EB Ped","MajNM1","Nonmotorized","EBR, SBT","MajR1, MinT2","Major right",null,175,2244.5054945054944,392788.4615384615,null,0,15,"","",0.1205004039155782,null,{"$f":"SSI_AGI_PermFactor","v":1},null,1,null,null,null,2,null,45,0.83333333333333326,null,null,null,1,null,1.6666666666666665,null,78885.280447938596,null,null,"","","","","","","","","","","","",1,"","","",null,"","",1,"","","","","","",1,"","","","","",""]
[31,"Nonmotorized","NB Ped","MinNM1","Nonmotorized","EBR, SBT","MajR1, MinT2","Major right",null,175,2244.5054945054944,392788.4615384615,null,0,15,"","",0.1205004039155782,null,{"$f":"SSI_AGI_PermFactor","v":1},null,null,1,2,null,4.5,null,45,0.83333333333333326,null,null,null,1,null,3.7499999999999996,null,177491.88100786184,null,null,"","","","","","","","","","","","","","",1,"",null,"","",1,"","","","","","",1,"","","","","",""]
[32,"Nonmotorized","NB Ped","MinNM1","Nonmotorized","WBL","MajL2","Major left",null,175,2068.6813186813188,362019.23076923081,null,0,20,"","",0.20274912921655375,null,{"$f":"SSI_AGI_PermFactor","v":1},null,null,1,2,null,4.5,null,45,0.83333333333333326,null,null,null,1,null,3.7499999999999996,null,275246.56424290559,null,null,{"$f":"IF(ISNUMBER(SEARCH(AN$3,$D35)),1,\"\")","v":""},"","","","","","","","","","","","","",1,"",null,{"$f":"IF(ISNUMBER(SEARCH(BE$3,$G35)),1,\"\")","v":""},"","","",1,"","","","","","","","","","",""]
[33,"Nonmotorized","NB Ped","MinNM1","Nonmotorized","NBL","MinL1","Stop near",null,175,1071.4285714285713,187499.99999999997,null,0,15,"",{"$f":"IF(B36=\"Nonmotorized\",\"\",SQRT(N36^2+O36^2-2*N36*O36*COS(RADIANS(P36)))/2)","v":""},0.1205004039155782,null,{"$f":"SSI_AGI_StopFactor","v":0.72500000000000009},null,null,1,2,null,4.5,null,45,0.83333333333333326,null,null,null,1,null,2.71875,null,61426.963714777165,null,null,"","","","","","","","","","","","","","",1,"",null,"","","","","","","",1,"","","","","","","",""]
[34,"Nonmotorized","NB Ped","MinNM1","Nonmotorized","NBR, NBT","MinR1, MinT1","Stop near",null,175,2928.5714285714284,{"$f":"PRODUCT(J37:K37)","v":512500},null,0,15,"","",0.1205004039155782,null,{"$f":"SSI_AGI_StopFactor","v":0.72500000000000009},null,null,1,null,null,1,null,{"$f":"IF(B37=\"Diverging\",\"\",SSI_AGI_VehSpeed_MnrThru)","v":29.75},0.66388888888888886,null,null,null,1,null,0.48131944444444447,null,29724.583577338348,null,null,"","","","","","","","","","","","","","",1,"",null,"","","","","","",1,"",1,"","","","","","",""]
[35,"Nonmotorized","WB Ped","MajNM2","Nonmotorized","NBR, NBT","MinR1, MinT1","Stop near",null,175,2928.5714285714284,512500,null,0,15,"","",0.1205004039155782,null,{"$f":"SSI_AGI_StopFactor","v":0.72500000000000009},null,1,null,null,2,4,null,{"$f":"IF(B38=\"Diverging\",\"\",SSI_AGI_VehSpeed_MjrThru)","v":45},0.83333333333333326,null,null,null,1,null,2.416666666666667,null,149244.77109960676,null,null,"","","","","","","","","","","","","",1,"","",null,"","","","","","",1,"",1,"","","","","","",""]
[36,"Nonmotorized","WB Ped","MajNM2","Nonmotorized","EBT","MajT1","Major thru",null,175,6543.9560439560446,1145192.3076923077,null,0,45,"","",0.84855340903216459,null,{"$f":"SSI_AGI_PermFactor","v":1},null,1,null,null,2,4,null,45,0.83333333333333326,null,null,null,1,null,3.333333333333333,null,3239189.4556323974,null,null,"","","","","","","","","","","","","",1,"","",null,1,"","","","","","","","","","","","","","",""]
[37,"Nonmotorized","WB Ped","MajNM2","Nonmotorized","SBL","MinL2","Stop far",null,175,1071.4285714285713,187499.99999999997,null,0,25,"","",0.32066879346345062,null,{"$f":"SSI_AGI_StopFactor","v":0.72500000000000009},null,1,null,null,2,4,null,45,0.83333333333333326,null,null,null,1,null,2.416666666666667,null,145303.04703812607,null,null,"","","","","","","","","","","","","",1,"","",null,"","","","","","","","","","",1,"","","","",""]
[38,"Nonmotorized","WB Ped","MajNM2","Nonmotorized","WBL","MajL2","Major left",null,175,2068.6813186813188,362019.23076923081,null,0,20,"","",0.20274912921655375,null,{"$f":"SSI_AGI_PermFactor","v":1},null,1,null,null,null,2,null,45,0.83333333333333326,null,null,null,1,null,1.6666666666666665,null,122331.80633018028,null,null,"","","","","","","","","","","","","",1,"","",null,"","","","",1,"","","","","","","","","","",""]
[39,"Nonmotorized","WB Ped","MajNM2","Nonmotorized","WBT","MajT2","Major thru",null,175,6502.7472527472528,1137980.7692307692,null,0,45,"","",0.84855340903216459,null,{"$f":"SSI_AGI_PermFactor","v":1},null,1,null,null,null,2,null,45,0.83333333333333326,null,null,null,1,null,1.6666666666666665,null,1609395.7685730236,null,null,"","","","","","","","","","","","","",1,"","",null,"","","",1,"","","","","","","","","","","",""]
[40,"Nonmotorized","WB Ped","MajNM2","Nonmotorized","WBR, NBT","MajR2, MinT1","Major right",null,175,2214.2857142857142,387500,null,0,15,"","",0.1205004039155782,null,{"$f":"SSI_AGI_PermFactor","v":1},null,1,null,null,null,2,null,45,0.83333333333333326,null,null,null,1,null,1.6666666666666665,null,77823.17752881092,null,null,"","","","","","","","","","","","","",1,"","",null,"","","","","",1,1,"","","","","","","","",""]
[41,"Nonmotorized","SB Ped","MinNM2","Nonmotorized","WBR, NBT","MajR2, MinT1","Major right",null,175,2214.2857142857142,387500,null,0,15,"","",0.1205004039155782,null,{"$f":"SSI_AGI_PermFactor","v":1},null,null,1,2,null,4.5,null,45,0.83333333333333326,null,null,null,1,null,3.7499999999999996,null,175102.14943982454,null,null,"","","","","","","","","","","","","","","",1,null,"","","","","",1,1,"","","","","","","","",""]
[42,"Nonmotorized","SB Ped","MinNM2","Nonmotorized","EBL","MajL1","Major left",null,175,2068.6813186813188,362019.23076923081,null,0,20,"","",0.20274912921655375,null,{"$f":"SSI_AGI_PermFactor","v":1},null,null,1,2,null,4.5,null,45,0.83333333333333326,null,null,null,1,null,3.7499999999999996,null,275246.56424290559,null,null,"","","","","","","","","","","","","","","",1,null,"",1,"","","","","","","","","","","","","",""]
[43,"Nonmotorized","SB Ped","MinNM2","Nonmotorized","SBL","MinL2","Stop near",null,175,1071.4285714285713,187499.99999999997,null,0,15,"","",0.1205004039155782,null,{"$f":"SSI_AGI_StopFactor","v":0.72500000000000009},null,null,1,2,null,4.5,null,45,0.83333333333333326,null,null,null,1,null,2.71875,null,61426.963714777165,null,null,"","","","","","","","","","","","","","","",1,null,"","","","","","","","","","",1,"","","","",""]
[44,"Nonmotorized","SB Ped","MinNM2","Nonmotorized","SBR, SBT","MinR2, MinT2","Stop near",null,175,2928.5714285714284,512500,null,0,15,"","",0.1205004039155782,null,{"$f":"SSI_AGI_StopFactor","v":0.72500000000000009},null,null,1,null,null,1,null,{"$f":"IF(B47=\"Diverging\",\"\",SSI_AGI_VehSpeed_MnrThru)","v":29.75},0.66388888888888886,null,null,null,1,null,0.48131944444444447,null,29724.583577338348,null,null,"","","","","","","","","","","","","","","",1,null,"","","","","","","","","",1,"",1,"","","",""]
[null,null,null,null,null,null,null,null,null,null,null,null,null,null,null,null,null,null,null,null,null,null,null,null,null,null,null,null,null,null,null,null,null,null,null,null,null,null,"O",{"$f":"'SSI Inputs'!$D$26","v":6543.9560439560446},{"$f":"'SSI Inputs'!$D$27","v":2068.6813186813188},{"$f":"'SSI Inputs'!$D$28","v":387.36263736263737},{"$f":"'SSI Inputs'!$D$30","v":6502.7472527472528},{"$f":"'SSI Inputs'!$D$31","v":2068.6813186813188},{"$f":"'SSI Inputs'!$D$32","v":428.57142857142856},{"$f":"'SSI Inputs'!$D$34","v":1785.7142857142856},{"$f":"'SSI Inputs'!$D$35","v":1071.4285714285713},{"$f":"'SSI Inputs'!$D$36","v":1142.8571428571429},{"$f":"'SSI Inputs'!$D$38","v":1857.1428571428571},{"$f":"'SSI Inputs'!$D$39","v":1071.4285714285713},{"$f":"'SSI Inputs'!$D$40","v":1071.4285714285713},{"$f":"'SSI Inputs'!$Q$18","v":175},{"$f":"'SSI Inputs'!$Q$19","v":175},{"$f":"'SSI Inputs'!$Q$20","v":175},{"$f":"'SSI Inputs'!$Q$21","v":175},"O",{"$f":"'SSI Inputs'!$D$26","v":6543.9560439560446},{"$f":"'SSI Inputs'!$D$27","v":2068.6813186813188},{"$f":"'SSI Inputs'!$D$28","v":387.36263736263737},{"$f":"'SSI Inputs'!$D$30","v":6502.7472527472528},{"$f":"'SSI Inputs'!$D$31","v":2068.6813186813188},{"$f":"'SSI Inputs'!$D$32","v":428.57142857142856},{"$f":"'SSI Inputs'!$D$34","v":1785.7142857142856},{"$f":"'SSI Inputs'!$D$35","v":1071.4285714285713},{"$f":"'SSI Inputs'!$D$36","v":1142.8571428571429},{"$f":"'SSI Inputs'!$D$38","v":1857.1428571428571},{"$f":"'SSI Inputs'!$D$39","v":1071.4285714285713},{"$f":"'SSI Inputs'!$D$40","v":1071.4285714285713},{"$f":"'SSI Inputs'!$Q$18","v":175},{"$f":"'SSI Inputs'!$Q$19","v":175},{"$f":"'SSI Inputs'!$Q$20","v":175},{"$f":"'SSI Inputs'!$Q$21","v":175}]
[null,null,null,null,null,null,null,null,null,null,null,null,null,null,null,null,null,null,null,null,null,null,null,null,null,null,null,null,null,null,null,null,null,null,null,null,null,null,"D",{"$f":"'SSI Inputs'!$E$26","v":7271.062271062272},{"$f":"'SSI Inputs'!$E$27","v":2298.5347985347985},{"$f":"'SSI Inputs'!$E$28","v":430.40293040293039},{"$f":"'SSI Inputs'!$E$30","v":7225.2747252747249},{"$f":"'SSI Inputs'!$E$31","v":2298.5347985347985},{"$f":"'SSI Inputs'!$E$32","v":476.19047619047615},{"$f":"'SSI Inputs'!$E$34","v":2232.1428571428569},{"$f":"'SSI Inputs'!$E$35","v":1339.2857142857142},{"$f":"'SSI Inputs'!$E$36","v":1428.5714285714284},{"$f":"'SSI Inputs'!$E$38","v":2321.4285714285716},{"$f":"'SSI Inputs'!$E$39","v":1339.2857142857142},{"$f":"'SSI Inputs'!$E$40","v":1339.2857142857142},{"$f":"'SSI Inputs'!$R$18","v":175},{"$f":"'SSI Inputs'!$R$19","v":175},{"$f":"'SSI Inputs'!$R$20","v":175},{"$f":"'SSI Inputs'!$R$21","v":175},"D",{"$f":"'SSI Inputs'!$E$26","v":7271.062271062272},{"$f":"'SSI Inputs'!$E$27","v":2298.5347985347985},{"$f":"'SSI Inputs'!$E$28","v":430.40293040293039},{"$f":"'SSI Inputs'!$E$30","v":7225.2747252747249},{"$f":"'SSI Inputs'!$E$31","v":2298.5347985347985},{"$f":"'SSI Inputs'!$E$32","v":476.19047619047615},{"$f":"'SSI Inputs'!$E$34","v":2232.1428571428569},{"$f":"'SSI Inputs'!$E$35","v":1339.2857142857142},{"$f":"'SSI Inputs'!$E$36","v":1428.5714285714284},{"$f":"'SSI Inputs'!$E$38","v":2321.4285714285716},{"$f":"'SSI Inputs'!$E$39","v":1339.2857142857142},{"$f":"'SSI Inputs'!$E$40","v":1339.2857142857142},{"$f":"'SSI Inputs'!$R$18","v":175},{"$f":"'SSI Inputs'!$R$19","v":175},{"$f":"'SSI Inputs'!$R$20","v":175},{"$f":"'SSI Inputs'!$R$21","v":175}]
[]
[]
[]
[]
[]
[]
[]
[]
[]
[]
[]
[]
[]
[]
[]
[]
[]
[]
[]
[]
[]
[]
[]
[]
[]
[]
[]
[]
[]
[]
[]
[]
[]
[]
[]
[]
[]
[]
[]
[]
[]
[]
[]
[]
[]
[]
[]
[]
[]
[]
[]
[null,null,null,null,null,null,null,null,null,"Exposure",null,null,null,null,null,null,null,null,null,null,null,null,null,null,null,null,null,null,null,null,null,null,null,null,null,null,"Exposure-Severity-Complexity Product"]
[null,null,null,null,null,null,null,null,null,"Q1","Q2","I"]
[null,null,null,null,null,null,null,null,null,{"$f":"SUMPRODUCT($AN4:$BC4,$AN$49:$BC$49)","v":1339.2857142857142},{"$f":"SUMPRODUCT($BE4:$BT4,$BE$49:$BT$49)","v":2298.5347985347985},{"$f":"PRODUCT(J103:K103)","v":3078394.8194662477},null,null,null,null,null,null,null,null,null,null,null,null,null,null,null,null,null,null,null,null,null,null,null,null,{"$f":"L103*R4*AI4","v":150337.07623108855}]
[null,null,null,null,null,null,null,null,null,{"$f":"SUMPRODUCT($AN5:$BC5,$AN$49:$BC$49)","v":1339.2857142857142},{"$f":"SUMPRODUCT($BE5:$BT5,$BE$49:$BT$49)","v":2298.5347985347985},{"$f":"PRODUCT(J104:K104)","v":3078394.8194662477},null,null,null,null,null,null,null,null,null,null,null,null,null,null,null,null,null,null,null,null,null,null,null,null,{"$f":"L104*R5*AI5","v":58318.394451013628}]
[null,null,null,null,null,null,null,null,null,2298.5347985347985,7271.062271062272,16712789.652350094,null,null,null,null,null,null,null,null,null,null,null,null,null,null,null,null,null,null,null,null,null,null,null,null,1823303.2978272908]
[null,null,null,null,null,null,null,null,null,1339.2857142857142,7271.062271062272,9738029.8273155428,null,null,null,null,null,null,null,null,null,null,null,null,null,null,null,null,null,null,null,null,null,null,null,null,1539143.8360882048]
[null,null,null,null,null,null,null,null,null,1339.2857142857142,2298.5347985347985,3078394.8194662477,null,null,null,null,null,null,null,null,null,null,null,null,null,null,null,null,null,null,null,null,null,null,null,null,150337.07623108855]
[null,null,null,null,null,null,null,null,null,1339.2857142857142,2298.5347985347985,3078394.8194662477,null,null,null,null,null,null,null,null,null,null,null,null,null,null,null,null,null,null,null,null,null,null,null,null,58318.394451013628]
[null,null,null,null,null,null,null,null,null,2298.5347985347985,7225.2747252747249,16607545.385017911,null,null,null,null,null,null,null,null,null,null,null,null,null,null,null,null,null,null,null,null,null,null,null,null,1811821.5390248513]
[null,null,null,null,null,null,null,null,null,1339.2857142857142,7225.2747252747249,9676707.2213500775,null,null,null,null,null,null,null,null,null,null,null,null,null,null,null,null,null,null,null,null,null,null,null,null,1529451.4945511252]
[null,null,null,null,null,null,null,null,null,2298.5347985347985,2708.333333333333,6225198.4126984123,null,null,null,null,null,null,null,null,null,null,null,null,null,null,null,null,null,null,null,null,null,null,null,null,2935.3490667961241]
[null,null,null,null,null,null,null,null,null,3660.7142857142858,7225.2747252747249,26449666.405023549,null,null,null,null,null,null,null,null,null,null,null,null,null,null,null,null,null,null,null,null,null,null,null,null,374002.34301299066]
[null,null,null,null,null,null,null,null,null,1339.2857142857142,7225.2747252747249,9676707.2213500775,null,null,null,null,null,null,null,null,null,null,null,null,null,null,null,null,null,null,null,null,null,null,null,null,200271.22273059378]
[null,null,null,null,null,null,null,null,null,2321.4285714285716,10000,23214285.714285716,null,null,null,null,null,null,null,null,null,null,null,null,null,null,null,null,null,null,null,null,null,null,null,null,328253.5634123105]
[null,null,null,null,null,null,null,null,null,2298.5347985347985,2751.831501831502,6325180.4666639837,null,null,null,null,null,null,null,null,null,null,null,null,null,null,null,null,null,null,null,null,null,null,null,null,2982.49330371001]
[null,null,null,null,null,null,null,null,null,1339.2857142857142,7271.062271062272,9738029.8273155428,null,null,null,null,null,null,null,null,null,null,null,null,null,null,null,null,null,null,null,null,null,null,null,null,201540.36862875981]
[null,null,null,null,null,null,null,null,null,3660.7142857142853,7271.062271062272,26617281.527995814,null,null,null,null,null,null,null,null,null,null,null,null,null,null,null,null,null,null,null,null,null,null,null,null,376372.44658088032]
[null,null,null,null,null,null,null,null,null,2232.1428571428569,10000,22321428.571428567,null,null,null,null,null,null,null,null,null,null,null,null,null,null,null,null,null,null,null,null,null,null,null,null,315628.42635799071]
[null,null,null,null,null,null,null,null,null,3660.7142857142858,1339.2857142857142,4902742.3469387749,null,null,null,null,null,null,null,null,null,null,null,null,null,null,null,null,null,null,null,null,null,null,null,null,3.140764801200405]
[null,null,null,null,null,null,null,null,null,2321.4285714285716,9903.8461538461524,22991071.428571425,null,null,null,null,null,null,null,null,null,null,null,null,null,null,null,null,null,null,null,null,null,null,null,null,83876.00002896777]
[null,null,null,null,null,null,null,null,null,10022.893772893774,2298.5347985347985,23037970.119014077,null,null,null,null,null,null,null,null,null,null,null,null,null,null,null,null,null,null,null,null,null,null,null,null,84047.0957768605]
[null,null,null,null,null,null,null,null,null,7271.062271062272,2751.831501831502,20008738.209287662,null,null,null,null,null,null,null,null,null,null,null,null,null,null,null,null,null,null,null,null,null,null,null,null,140173.66986019243]
[null,null,null,null,null,null,null,null,null,3660.7142857142853,1339.2857142857142,4902742.3469387749,null,null,null,null,null,null,null,null,null,null,null,null,null,null,null,null,null,null,null,null,null,null,null,null,3.140764801200405]
[null,null,null,null,null,null,null,null,null,2232.1428571428569,10038.919413919415,22408302.263212979,null,null,null,null,null,null,null,null,null,null,null,null,null,null,null,null,null,null,null,null,null,null,null,null,81749.942238127187]
[null,null,null,null,null,null,null,null,null,9933.608058608057,2298.5347985347985,22832743.79771632,null,null,null,null,null,null,null,null,null,null,null,null,null,null,null,null,null,null,null,null,null,null,null,null,83298.38935034207]
[null,null,null,null,null,null,null,null,null,7225.2747252747249,2708.333333333333,19568452.380952377,null,null,null,null,null,null,null,null,null,null,null,null,null,null,null,null,null,null,null,null,null,null,null,null,137089.19348293921]
[null,null,null,null,null,null,null,null,null,175,3660.7142857142858,640625,null,null,null,null,null,null,null,null,null,null,null,null,null,null,null,null,null,null,null,null,null,null,null,null,186555.96387450845]
[null,null,null,null,null,null,null,null,null,175,7225.2747252747249,1264423.0769230768,null,null,null,null,null,null,null,null,null,null,null,null,null,null,null,null,null,null,null,null,null,null,null,null,3576435.0412733848]
[null,null,null,null,null,null,null,null,null,175,1339.2857142857142,234375,null,null,null,null,null,null,null,null,null,null,null,null,null,null,null,null,null,null,null,null,null,null,null,null,181628.80879765761]
[null,null,null,null,null,null,null,null,null,175,2298.5347985347985,402243.58974358975,null,null,null,null,null,null,null,null,null,null,null,null,null,null,null,null,null,null,null,null,null,null,null,null,135924.22925575584]
[null,null,null,null,null,null,null,null,null,175,7271.062271062272,1272435.8974358975,null,null,null,null,null,null,null,null,null,null,null,null,null,null,null,null,null,null,null,null,null,null,null,null,1799549.6975735542]
[null,null,null,null,null,null,null,null,null,175,2751.831501831502,481570.51282051287,null,null,null,null,null,null,null,null,null,null,null,null,null,null,null,null,null,null,null,null,null,null,null,null,96715.735514506552]
[null,null,null,null,null,null,null,null,null,175,2751.831501831502,481570.51282051287,null,null,null,null,null,null,null,null,null,null,null,null,null,null,null,null,null,null,null,null,null,null,null,null,217610.40490763972]
[null,null,null,null,null,null,null,null,null,175,2298.5347985347985,402243.58974358975,null,null,null,null,null,null,null,null,null,null,null,null,null,null,null,null,null,null,null,null,null,null,null,null,305829.51582545065]
[null,null,null,null,null,null,null,null,null,175,1339.2857142857142,234375,null,null,null,null,null,null,null,null,null,null,null,null,null,null,null,null,null,null,null,null,null,null,null,null,76783.704643471458]
[null,null,null,null,null,null,null,null,null,175,3660.7142857142853,{"$f":"PRODUCT(J136:K136)","v":640624.99999999988},null,null,null,null,null,null,null,null,null,null,null,null,null,null,null,null,null,null,null,null,null,null,null,null,37155.729471672923]
[null,null,null,null,null,null,null,null,null,175,3660.7142857142853,{"$f":"PRODUCT(J137:K137)","v":640624.99999999988},null,null,null,null,null,null,null,null,null,null,null,null,null,null,null,null,null,null,null,null,null,null,null,null,186555.96387450842]
[null,null,null,null,null,null,null,null,null,175,7271.062271062272,1272435.8974358975,null,null,null,null,null,null,null,null,null,null,null,null,null,null,null,null,null,null,null,null,null,null,null,null,3599099.3951471085]
[null,null,null,null,null,null,null,null,null,175,1339.2857142857142,234375,null,null,null,null,null,null,null,null,null,null,null,null,null,null,null,null,null,null,null,null,null,null,null,null,181628.80879765761]
[null,null,null,null,null,null,null,null,null,175,2298.5347985347985,402243.58974358975,null,null,null,null,null,null,null,null,null,null,null,null,null,null,null,null,null,null,null,null,null,null,null,null,135924.22925575584]
[null,null,null,null,null,null,null,null,null,175,7225.2747252747249,1264423.0769230768,null,null,null,null,null,null,null,null,null,null,null,null,null,null,null,null,null,null,null,null,null,null,null,null,1788217.5206366924]
[null,null,null,null,null,null,null,null,null,175,2708.333333333333,473958.33333333326,null,null,null,null,null,null,null,null,null,null,null,null,null,null,null,null,null,null,null,null,null,null,null,null,95186.951009701501]
[null,null,null,null,null,null,null,null,null,175,2708.333333333333,473958.33333333326,null,null,null,null,null,null,null,null,null,null,null,null,null,null,null,null,null,null,null,null,null,null,null,null,214170.6397718284]
[null,null,null,null,null,null,null,null,null,175,2298.5347985347985,402243.58974358975,null,null,null,null,null,null,null,null,null,null,null,null,null,null,null,null,null,null,null,null,null,null,null,null,305829.51582545065]
[null,null,null,null,null,null,null,null,null,175,1339.2857142857142,234375,null,null,null,null,null,null,null,null,null,null,null,null,null,null,null,null,null,null,null,null,null,null,null,null,76783.704643471458]
[null,null,null,null,null,null,null,null,null,175,3660.7142857142858,640625,null,null,null,null,null,null,null,null,null,null,null,null,null,null,null,null,null,null,null,null,null,null,null,null,37155.72947167293]

{"sheet":"RCUT_Sig","index":31,"n_rows":126,"n_cols":72,"rows_kept":126,"cut":false,"hidden":true,"merged":[[1,56,1,71],[0,19,0,28],[0,30,0,32],[1,31,2,31],[1,32,2,32],[1,21,1,25],[1,27,1,28],[1,30,2,30],[100,9,100,11],[100,36,101,36],[1,34,2,34],[1,36,2,36],[1,39,1,54],[1,9,1,11],[1,13,1,17]]}
[null,null,null,null,null,null,null,null,null,null,null,null,null,null,null,null,null,null,null,"Conflicting Traffic Complexity",null,null,null,null,null,null,null,null,null,null,"Pedestrian Complexity"]
[null,null,null,null,null,null,null,null,null,"Exposure",null,null,null,"Severity",null,null,null,null,null,"Traffic Control",null,"Conflicting Lanes",null,null,null,null,null,"Conflicting Speed",null,null,"Indirect Paths Indicator","Non-intuitive movements indicator","Pedestrian Complexity factor",null,"Total Complexity Multiplier",null,"Exposure-Severity-Complexity Product",null,null,"Included in Mvmt1",null,null,null,null,null,null,null,null,null,null,null,null,null,null,null,null,"Included in Mvmt2"]
["#","Conflict Type","Mvmt1","Mvmt1_gen","Mvmt1_SpeedCat","Mvmt2","Mvmt2_gen","Mvmt2_SpeedCat",null,"Q1","Q2","I",null,"Speed_V1","Speed_V2","Angle","delta_V","P_FSI",null,null,null,"MajC","MinC","MajM/P","MinM/P","Score",null,"Speed","Factor",null,null,null,null,null,null,null,null,null,null,"MajT1","MajL1","MajR1","MajT2","MajL2","MajR2","MinT1","MinL1","MinR1","MinT2","MinL2","MinR2","MajNM1","MajNM2","MinNM1","MinNM2",null,"MajT1","MajL1","MajR1","MajT2","MajL2","MajR2","MinT1","MinL1","MinR1","MinT2","MinL2","MinR2","MajNM1","MajNM2","MinNM1","MinNM2"]
[1,"Crossing - LT","EBT, SBL","MajT1, MinL2","Major thru","WBL","MajL2","Major left",null,{"$f":"SUMPRODUCT($AN4:$BC4,$AN$28:$BC$28)","v":7615.3846153846162},{"$f":"SUMPRODUCT($BE4:$BT4,$BE$28:$BT$28)","v":2068.6813186813188},{"$f":"PRODUCT(J4:K4)","v":15753803.888419276},null,{"$f":"VLOOKUP(E4,SSI_AGI_Range_VehSpeed,5,FALSE)","v":45},{"$f":"VLOOKUP(H4,SSI_AGI_Range_VehSpeed,5,FALSE)","v":20},{"$f":"IF(B4=\"Nonmotorized\",\"\",VLOOKUP(B4,SSI_AGI_Range_CollAngles,5,FALSE))","v":230},{"$f":"IF(B4=\"Nonmotorized\",\"\",SQRT(N4^2+O4^2-2*N4*O4*COS(RADIANS(P4)))/2)","v":29.924979939156898},{"$f":"IF(B4=\"Nonmotorized\",1/(1+EXP(3.8432-0.1237*O4)),(Q4/SSI_AGI_RegAlpha)^SSI_AGI_RegK+(Q4/SSI_AGI_RegAlpha)^SSI_AGI_RegK-((Q4/SSI_AGI_RegAlpha)^SSI_AGI_RegK)*((Q4/SSI_AGI_RegAlpha)^SSI_AGI_RegK))","v":9.0286582411373745E-2},null,{"$f":"SSI_AGI_ProtFactor","v":0.505},null,1,null,null,null,{"$f":"MAX(1,IF(B4<>\"Pedestrian\",V4*SSI_AGI_MajorThruLanes+W4*SSI_AGI_MinorThruLanes+X4*IF(SSI_AGI_MajorThruLanes=1,SSI_AGI_MergeWeightL1,IF(SSI_AGI_MajorThruLanes=2,SSI_AGI_MergeWeightL1+SSI_AGI_MergeWeightL2,SSI_AGI_MergeWeightL1+SSI_AGI_MergeWeightL2+SSI_AGI_MergeWeightL3*(SSI_AGI_MajorThruLanes-2)))+Y4*IF(SSI_AGI_MinorThruLanes=1,SSI_AGI_MergeWeightL1,IF(SSI_AGI_MinorThruLanes=2,SSI_AGI_MergeWeightL1+SSI_AGI_MergeWeightL2,SSI_AGI_MergeWeightL1+SSI_AGI_MergeWeightL2+SSI_AGI_MergeWeightL3*(SSI_AGI_MinorThruLanes-2))),V4*SSI_AGI_MajorThruLanes+W4*SSI_AGI_MinorThruLanes+X4*IF(SSI_AGI_MajorThruLanes=1,SSI_AGI_NM_MergeWeightL1,IF(SSI_AGI_MajorThruLanes=2,SSI_AGI_NM_MergeWeightL1+SSI_AGI_NM_MergeWeightL2,SSI_AGI_NM_MergeWeightL1+SSI_AGI_NM_MergeWeightL2+SSI_AGI_NM_MergeWeightL3*(SSI_AGI_MajorThruLanes-2)))+Y4*IF(SSI_AGI_MinorThruLanes=1,SSI_AGI_NM_MergeWeightL1,IF(SSI_AGI_MinorThruLanes=2,SSI_AGI_NM_MergeWeightL1+SSI_AGI_NM_MergeWeightL2,SSI_AGI_NM_MergeWeightL1+SSI_AGI_NM_MergeWeightL2+SSI_AGI_NM_MergeWeightL3*(SSI_AGI_MinorThruLanes-2)))))","v":2},null,{"$f":"IF(B4=\"Diverging\",\"\",SSI_AGI_VehSpeed_MjrThru)","v":45},{"$f":"IF(B4=\"Diverging\",1,1-((60-AB4)/60*0.1/0.15))","v":0.83333333333333326},null,null,null,{"$f":"IF(SSI_AGI_ConsiderNMComplexity=\"Yes\",1+AE4+AF4,1)","v":1},null,{"$f":"PRODUCT(Z4,T4,AC4,AG4)","v":0.84166666666666656},null,{"$f":"L4*R4*AI4","v":1197150.5701625256},null,null,{"$f":"IF(ISNUMBER(SEARCH(AN$3,$D4)),1,\"\")","v":1},{"$f":"IF(ISNUMBER(SEARCH(AO$3,$D4)),1,\"\")","v":""},"","","","","","","","",1,"","","","","",null,{"$f":"IF(ISNUMBER(SEARCH(BE$3,$G4)),1,\"\")","v":""},{"$f":"IF(ISNUMBER(SEARCH(BF$3,$G4)),1,\"\")","v":""},"","",1,"","","","","","","","","","",""]
[2,"Crossing - LT","WBT, NBL","MajT2, MinL1","Major thru","EBL","MajL1","Major left",null,7574.1758241758243,{"$f":"SUMPRODUCT($BE5:$BT5,$BE$28:$BT$28)","v":2068.6813186813188},{"$f":"PRODUCT(J5:K5)","v":15668556.031880209},null,45,20,230,{"$f":"IF(B5=\"Nonmotorized\",\"\",SQRT(N5^2+O5^2-2*N5*O5*COS(RADIANS(P5)))/2)","v":29.924979939156898},9.0286582411373745E-2,null,0.505,null,1,null,null,null,2,null,45,0.83333333333333326,null,null,null,1,null,0.84166666666666656,null,{"$f":"L5*R5*AI5","v":1190672.4826616461},null,null,{"$f":"IF(ISNUMBER(SEARCH(AN$3,$D5)),1,\"\")","v":""},"","",1,"","","",1,"","","","","","","","",null,{"$f":"IF(ISNUMBER(SEARCH(BE$3,$G5)),1,\"\")","v":""},1,"","","","","","","","","","","","","",""]
[3,"Merging","EBT, SBL","MajT1, MinL2","Major thru","NBT, NBL, NBR","MinT1, MinL1, MinR1","Signal near",null,7615.3846153846162,4000,30461538.461538464,null,45,15,45,17.995873453365363,1.3373938286506865E-2,null,0.505,null,null,null,1,null,1.75,null,45,0.83333333333333326,null,null,null,1,null,0.73645833333333333,null,300026.30207931896,null,null,1,"","","","","","","","","",1,"","","","","",null,"","","","","","",1,1,1,"","","","","","",""]
[4,"Merging","WBL","MajL2","Major left","EBR, SBT","MajR1, MinT2","Major right",null,2068.6813186813188,2244.5054945054944,4643166.5861610919,null,20,15,45,7.0840654162717795,3.9022923271840544E-4,null,0.505,null,1,null,null,null,2,null,45,0.83333333333333326,null,null,null,1,null,0.84166666666666656,null,1525.0152730369953,null,null,"","","","",1,"","","","","","","","","","","",null,"","",1,"","","","","","",1,"","","","","",""]
[5,"Merging","WBT, NBL","MajT2, MinL1","Major thru","SBT, SBL, SBR","MinT2, MinL2, MinR2","Signal near",null,7574.1758241758243,4000,30296703.296703298,null,45,15,45,17.995873453365363,1.3373938286506865E-2,null,0.505,null,null,null,1,null,1.75,null,45,0.83333333333333326,null,null,null,1,null,0.73645833333333333,null,298402.78312867327,null,null,"","","",1,"","","",1,"","","","","","","","",null,"","","","","","","","","",1,1,1,"","","",""]
[6,"Merging","EBL","MajL1","Major left","WBR, NBT","MajR2, MinT1","Major right",null,2068.6813186813188,2214.2857142857142,4580651.4913657773,null,20,15,45,7.0840654162717795,3.9022923271840544E-4,null,0.505,null,1,null,null,null,2,null,45,0.83333333333333326,null,null,null,1,null,0.84166666666666656,null,1504.4826316619562,null,null,"",1,"","","","","","","","","","","","","","",null,"","","","","",1,1,"","","","","","","","",""]
[7,"Merging","EBT, EBL, EBR","MajT1, MajL1, MajR1","Major thru","SBT, SBL","MinT2, MinL2","Signal near",null,9000.0000000000018,2928.5714285714284,26357142.857142862,null,45,15,45,17.995873453365363,1.3373938286506865E-2,null,0.505,null,null,null,1,null,1.75,null,45,0.83333333333333326,null,null,null,1,null,0.73645833333333333,null,259600.68020824189,null,null,1,1,1,"","","","","","","","","","","","","",null,"","","","","","","","","",1,1,"","","","",""]
[8,"Merging","WBT, WBL, WBR","MajT2, MajL2, MajR2","Major thru","NBT, NBL","MinT1, MinL1","Signal near",null,9000.0000000000018,2857.1428571428569,25714285.714285716,null,45,15,45,17.995873453365363,1.3373938286506865E-2,null,0.505,null,null,null,1,null,1.75,null,45,0.83333333333333326,null,null,null,1,null,0.73645833333333333,null,253268.95630072377,null,null,"","","",1,1,1,"","","","","","","","","","",null,"","","","","","",1,1,"","","","","","","",""]
[9,"Diverging","EBT, EBR, SBL, SBT","MajT1, MajR1, MinL2, MinT2","Major thru","EBL","MajL1","Major left",null,9859.8901098901097,2068.6813186813188,20396970.474580366,null,45,20,10,12.77053292327718,3.6481988362114144E-3,null,1,null,null,null,null,null,1,null,"",1,null,null,null,1,null,1,null,74412.203947602669,null,null,1,"",1,"","","","","","",1,1,"","","","","",null,"",1,"","","","","","","","","","","","","",""]
[10,"Diverging","EBT, SBL","MajT1, MinL2","Major thru","EBR, SBT","MajR1, MinT2","Major right",null,7615.3846153846162,2244.5054945054944,17092772.612003382,null,45,15,10,15.169950011729762,7.0056226631585675E-3,null,1,null,null,null,null,null,1,null,"",1,null,null,null,1,null,1,null,119745.51518686696,null,null,1,"","","","","","","","","",1,"","","","","",null,"","",1,"","","","","","",1,"","","","","",""]
[11,"Diverging","EBT, SBL, NBR","MajT1, MinL2, MinR1","Major thru","NBL, NBT","MinL1, MinT1","Major left",null,8758.2417582417584,2857.1428571428569,25023547.880690735,null,45,20,10,12.77053292327718,3.6481988362114144E-3,null,1,null,null,null,null,null,1,null,"",1,null,null,null,1,null,1,null,91290.878256216543,null,null,1,"","","","","","","",1,"",1,"","","","","",null,"","","","","","",1,1,"","","","","","","",""]
[12,"Diverging","WBT, WBR, NBL, NBT","MajT2, MajR2, MinL1, MinT1","Major thru","WBL","MajL2","Major left",null,9788.4615384615372,2068.6813186813188,20249207.523245983,null,45,20,10,12.77053292327718,3.6481988362114144E-3,null,1,null,null,null,null,null,1,null,"",1,null,null,null,1,null,1,null,73873.135320509406,null,null,"","","",1,"",1,1,1,"","","","","","","","",null,"","","","",1,"","","","","","","","","","",""]
[13,"Diverging","WBT, NBL","MajT2, MinL1","Major thru","WBR, NBT","MajR2, MinT1","Major right",null,7574.1758241758243,2214.2857142857142,16771389.324960753,null,45,15,10,15.169950011729762,7.0056226631585675E-3,null,1,null,null,null,null,null,1,null,"",1,null,null,null,1,null,1,null,117494.02514760073,null,null,"","","",1,"","","",1,"","","","","","","","",null,"","","","","",1,1,"","","","","","","","",""]
[14,"Diverging","WBT, NBL, SBR","MajT2, MinL1, MinR2","Major thru","SBL, SBT","MinL2, MinT2","Major left",null,8645.6043956043959,2928.5714285714284,25319270.015698586,null,45,20,10,12.77053292327718,3.6481988362114144E-3,null,1,null,null,null,null,null,1,null,"",1,null,null,null,1,null,1,null,92369.731404994134,null,null,"","","",1,"","","",1,"","","",1,"","","","",null,"","","","","","","","","",1,1,"","","","",""]
[15,"Nonmotorized","NB Ped","MinNM1","Nonmotorized","EBR, SBT","MajR1, MinT2","Major right",null,175,2244.5054945054944,392788.4615384615,null,0,15,"","",0.1205004039155782,null,{"$f":"SSI_AGI_ProtFactor","v":0.505},null,null,1,2,null,4.5,null,45,0.83333333333333326,null,null,null,1,null,1.8937499999999998,null,89633.399908970227,null,null,"","","","","","","","","","","","","","",1,"",null,"","",1,"","","","","","",1,"","","","","",""]
[16,"Nonmotorized","NB Ped","MinNM1","Nonmotorized","WBL","MajL2","Major left",null,175,2068.6813186813188,362019.23076923081,null,0,20,"","",0.20274912921655375,null,0.505,null,null,1,2,null,4.5,null,45,0.83333333333333326,null,null,null,1,null,1.8937499999999998,null,138999.51494266733,null,null,"","","","","","","","","","","","","","",1,"",null,"","","","",1,"","","","","","","","","","",""]
[17,"Nonmotorized","NB Ped","MinNM1","Nonmotorized","NBT, NBL, NBR","MinT1, MinL1, MinR1","Signal near",null,175,4000,700000,null,0,15,"","",0.1205004039155782,null,0.505,null,null,1,null,null,1,null,{"$f":"IF(B20=\"Diverging\",\"\",SSI_AGI_VehSpeed_MnrThru)","v":29.75},0.66388888888888886,null,null,null,1,null,0.33526388888888886,null,28279.603820593049,null,null,"","","","","","","","","","","","","","",1,"",null,"","","","","","",1,1,1,"","","","","","",""]
[18,"Nonmotorized","EB/WB Ped","MajNM1, MajNM2","Nonmotorized","EBR, SBT","MajR1, MinT2","Major right",null,350,2244.5054945054944,785576.92307692301,null,0,15,"","",0.1205004039155782,null,0.505,null,1,null,null,null,2,null,{"$f":"IF(B21=\"Diverging\",\"\",SSI_AGI_VehSpeed_MjrThru)","v":45},0.83333333333333326,null,1,null,2,null,1.6833333333333331,null,159348.26650483595,null,null,"","","","","","","","","","","","",1,1,"","",null,"","",1,"","","","","","",1,"","","","","",""]
[19,"Nonmotorized","EB/WB Ped","MajNM1, MajNM2","Nonmotorized","EBT, SBL","MajT1, MinL2","Major thru",null,350,7615.3846153846162,2665384.6153846155,null,0,45,"","",0.84855340903216459,null,0.505,null,1,null,null,null,2,null,45,0.83333333333333326,null,1,null,2,null,1.6833333333333331,null,3807230.6896402747,null,null,"","","","","","","","","","","","",1,1,"","",null,1,"","","","","","","","","",1,"","","","",""]
[20,"Nonmotorized","EB/WB Ped","MajNM1, MajNM2","Nonmotorized","WBT, NBL","MajT2, MinL1","Major thru",null,350,7574.1758241758243,2650961.5384615385,null,0,45,"","",0.84855340903216459,null,0.505,null,1,null,null,null,2,null,45,0.83333333333333326,null,1,null,2,null,1.6833333333333331,null,3786628.7919690614,null,null,"","","","","","","","","","","","",1,1,"","",null,"","","",1,"","","",1,"","","","","","","",""]
[21,"Nonmotorized","EB/WB Ped","MajNM1, MajNM2","Nonmotorized","WBR, NBT","MajR2, MinT1","Major right",null,350,2214.2857142857142,775000,null,0,15,"","",0.1205004039155782,null,0.505,null,1,null,null,null,2,null,45,0.83333333333333326,null,1,null,2,null,1.6833333333333331,null,157202.81860819805,null,null,"","","","","","","","","","","","",1,1,"","",null,"","","","","",1,1,"","","","","","","","",""]
[22,"Nonmotorized","SB Ped","MinNM2","Nonmotorized","WBR, NBT","MajR2, MinT1","Major right",null,175,2214.2857142857142,387500,null,0,15,"","",0.1205004039155782,null,0.505,null,null,1,2,null,4.5,null,45,0.83333333333333326,null,null,null,1,null,1.8937499999999998,null,88426.585467111407,null,null,"","","","","","","","","","","","","","","",1,null,"","","","","",1,1,"","","","","","","","",""]
[23,"Nonmotorized","SB Ped","MinNM2","Nonmotorized","EBL","MajL1","Major left",null,175,2068.6813186813188,362019.23076923081,null,0,20,"","",0.20274912921655375,null,0.505,null,null,1,2,null,4.5,null,45,0.83333333333333326,null,null,null,1,null,1.8937499999999998,null,138999.51494266733,null,null,"","","","","","","","","","","","","","","",1,null,"",1,"","","","","","","","","","","","","",""]
[24,"Nonmotorized","SB Ped","MinNM2","Nonmotorized","SBT, SBL, SBR","MinT2, MinL2, MinR2","Signal near",null,175,4000,700000,null,0,15,"","",0.1205004039155782,null,0.505,null,null,1,null,null,1,null,{"$f":"IF(B27=\"Diverging\",\"\",SSI_AGI_VehSpeed_MnrThru)","v":29.75},0.66388888888888886,null,null,null,1,null,0.33526388888888886,null,28279.603820593049,null,null,"","","","","","","","","","","","","","","",1,null,"","","","","","","","","",1,1,1,"","","",""]
[null,null,null,null,null,null,null,null,null,null,null,null,null,null,null,null,null,null,null,null,null,null,null,null,null,null,null,null,null,null,null,null,null,null,null,null,null,null,"O",{"$f":"'SSI Inputs'!$D$26","v":6543.9560439560446},{"$f":"'SSI Inputs'!$D$27","v":2068.6813186813188},{"$f":"'SSI Inputs'!$D$28","v":387.36263736263737},{"$f":"'SSI Inputs'!$D$30","v":6502.7472527472528},{"$f":"'SSI Inputs'!$D$31","v":2068.6813186813188},{"$f":"'SSI Inputs'!$D$32","v":428.57142857142856},{"$f":"'SSI Inputs'!$D$34","v":1785.7142857142856},{"$f":"'SSI Inputs'!$D$35","v":1071.4285714285713},{"$f":"'SSI Inputs'!$D$36","v":1142.8571428571429},{"$f":"'SSI Inputs'!$D$38","v":1857.1428571428571},{"$f":"'SSI Inputs'!$D$39","v":1071.4285714285713},{"$f":"'SSI Inputs'!$D$40","v":1071.4285714285713},{"$f":"'SSI Inputs'!$Q$18","v":175},{"$f":"'SSI Inputs'!$Q$19","v":175},{"$f":"'SSI Inputs'!$Q$20","v":175},{"$f":"'SSI Inputs'!$Q$21","v":175},"O",{"$f":"'SSI Inputs'!$D$26","v":6543.9560439560446},{"$f":"'SSI Inputs'!$D$27","v":2068.6813186813188},{"$f":"'SSI Inputs'!$D$28","v":387.36263736263737},{"$f":"'SSI Inputs'!$D$30","v":6502.7472527472528},{"$f":"'SSI Inputs'!$D$31","v":2068.6813186813188},{"$f":"'SSI Inputs'!$D$32","v":428.57142857142856},{"$f":"'SSI Inputs'!$D$34","v":1785.7142857142856},{"$f":"'SSI Inputs'!$D$35","v":1071.4285714285713},{"$f":"'SSI Inputs'!$D$36","v":1142.8571428571429},{"$f":"'SSI Inputs'!$D$38","v":1857.1428571428571},{"$f":"'SSI Inputs'!$D$39","v":1071.4285714285713},{"$f":"'SSI Inputs'!$D$40","v":1071.4285714285713},{"$f":"'SSI Inputs'!$Q$18","v":175},{"$f":"'SSI Inputs'!$Q$19","v":175},{"$f":"'SSI Inputs'!$Q$20","v":175},{"$f":"'SSI Inputs'!$Q$21","v":175}]
[null,null,null,null,null,null,null,null,null,null,null,null,null,null,null,null,null,null,null,null,null,null,null,null,null,null,null,null,null,null,null,null,null,null,null,null,null,null,"D",{"$f":"'SSI Inputs'!$E$26","v":7271.062271062272},{"$f":"'SSI Inputs'!$E$27","v":2298.5347985347985},{"$f":"'SSI Inputs'!$E$28","v":430.40293040293039},{"$f":"'SSI Inputs'!$E$30","v":7225.2747252747249},{"$f":"'SSI Inputs'!$E$31","v":2298.5347985347985},{"$f":"'SSI Inputs'!$E$32","v":476.19047619047615},{"$f":"'SSI Inputs'!$E$34","v":2232.1428571428569},{"$f":"'SSI Inputs'!$E$35","v":1339.2857142857142},{"$f":"'SSI Inputs'!$E$36","v":1428.5714285714284},{"$f":"'SSI Inputs'!$E$38","v":2321.4285714285716},{"$f":"'SSI Inputs'!$E$39","v":1339.2857142857142},{"$f":"'SSI Inputs'!$E$40","v":1339.2857142857142},{"$f":"'SSI Inputs'!$R$18","v":175},{"$f":"'SSI Inputs'!$R$19","v":175},{"$f":"'SSI Inputs'!$R$20","v":175},{"$f":"'SSI Inputs'!$R$21","v":175},"D",{"$f":"'SSI Inputs'!$E$26","v":7271.062271062272},{"$f":"'SSI Inputs'!$E$27","v":2298.5347985347985},{"$f":"'SSI Inputs'!$E$28","v":430.40293040293039},{"$f":"'SSI Inputs'!$E$30","v":7225.2747252747249},{"$f":"'SSI Inputs'!$E$31","v":2298.5347985347985},{"$f":"'SSI Inputs'!$E$32","v":476.19047619047615},{"$f":"'SSI Inputs'!$E$34","v":2232.1428571428569},{"$f":"'SSI Inputs'!$E$35","v":1339.2857142857142},{"$f":"'SSI Inputs'!$E$36","v":1428.5714285714284},{"$f":"'SSI Inputs'!$E$38","v":2321.4285714285716},{"$f":"'SSI Inputs'!$E$39","v":1339.2857142857142},{"$f":"'SSI Inputs'!$E$40","v":1339.2857142857142},{"$f":"'SSI Inputs'!$R$18","v":175},{"$f":"'SSI Inputs'!$R$19","v":175},{"$f":"'SSI Inputs'!$R$20","v":175},{"$f":"'SSI Inputs'!$R$21","v":175}]
[]
[]
[]
[]
[]
[]
[]
[]
[]
[]
[]
[]
[]
[]
[]
[]
[]
[]
[]
[]
[]
[]
[]
[]
[]
[]
[]
[]
[]
[]
[]
[]
[]
[]
[]
[]
[]
[]
[]
[]
[]
[]
[]
[]
[]
[]
[]
[]
[]
[]
[]
[]
[]
[]
[]
[]
[]
[]
[]
[]
[]
[]
[]
[]
[]
[]
[]
[]
[]
[]
[]
[null,null,null,null,null,null,null,null,null,"Exposure",null,null,null,null,null,null,null,null,null,null,null,null,null,null,null,null,null,null,null,null,null,null,null,null,null,null,"Exposure-Severity-Complexity Product"]
[null,null,null,null,null,null,null,null,null,"Q1","Q2","I"]
[null,null,null,null,null,null,null,null,null,{"$f":"SUMPRODUCT($AN4:$BC4,$AN$29:$BC$29)","v":8610.3479853479857},{"$f":"SUMPRODUCT($BE4:$BT4,$BE$29:$BT$29)","v":2298.5347985347985},{"$f":"PRODUCT(J103:K103)","v":19791184.471816339},null,null,null,null,null,null,null,null,null,null,null,null,null,null,null,null,null,null,null,null,null,null,null,null,{"$f":"L103*R4*AI4","v":1503955.9932597328}]
[null,null,null,null,null,null,null,null,null,{"$f":"SUMPRODUCT($AN5:$BC5,$AN$29:$BC$29)","v":8564.5604395604387},{"$f":"SUMPRODUCT($BE5:$BT5,$BE$29:$BT$29)","v":2298.5347985347985},{"$f":"PRODUCT(J104:K104)","v":19685940.204484157},null,null,null,null,null,null,null,null,null,null,null,null,null,null,null,null,null,null,null,null,null,null,null,null,{"$f":"L104*R5*AI5","v":1495958.3543697579}]
[null,null,null,null,null,null,null,null,null,8610.3479853479857,5000,43051739.926739931,null,null,null,null,null,null,null,null,null,null,null,null,null,null,null,null,null,null,null,null,null,null,null,null,424031.58148460742]
[null,null,null,null,null,null,null,null,null,2298.5347985347985,2751.831501831502,6325180.4666639837,null,null,null,null,null,null,null,null,null,null,null,null,null,null,null,null,null,null,null,null,null,null,null,null,2077.4608529290408]
[null,null,null,null,null,null,null,null,null,8564.5604395604387,5000,42822802.197802193,null,null,null,null,null,null,null,null,null,null,null,null,null,null,null,null,null,null,null,null,null,null,null,null,421776.69405315502]
[null,null,null,null,null,null,null,null,null,2298.5347985347985,2708.333333333333,6225198.4126984123,null,null,null,null,null,null,null,null,null,null,null,null,null,null,null,null,null,null,null,null,null,null,null,null,2044.6224534235066]
[null,null,null,null,null,null,null,null,null,10000,3660.7142857142858,36607142.857142858,null,null,null,null,null,null,null,null,null,null,null,null,null,null,null,null,null,null,null,null,null,null,null,null,360556.50028922479]
[null,null,null,null,null,null,null,null,null,10000,3571.4285714285711,35714285.714285709,null,null,null,null,null,null,null,null,null,null,null,null,null,null,null,null,null,null,null,null,null,null,null,null,351762.43930656073]
[null,null,null,null,null,null,null,null,null,11362.179487179488,2298.5347985347985,26116364.938480325,null,null,null,null,null,null,null,null,null,null,null,null,null,null,null,null,null,null,null,null,null,null,null,null,95277.692174636511]
[null,null,null,null,null,null,null,null,null,8610.3479853479857,2751.831501831502,23694226.827811994,null,null,null,null,null,null,null,null,null,null,null,null,null,null,null,null,null,null,null,null,null,null,null,null,165992.81245093944]
[null,null,null,null,null,null,null,null,null,10038.919413919415,3571.4285714285711,35853283.621140763,null,null,null,null,null,null,null,null,null,null,null,null,null,null,null,null,null,null,null,null,null,null,null,null,130799.9075810035]
[null,null,null,null,null,null,null,null,null,11272.893772893771,2298.5347985347985,25911138.617182568,null,null,null,null,null,null,null,null,null,null,null,null,null,null,null,null,null,null,null,null,null,null,null,null,94528.985748118081]
[null,null,null,null,null,null,null,null,null,8564.5604395604387,2708.333333333333,23195684.523809519,null,null,null,null,null,null,null,null,null,null,null,null,null,null,null,null,null,null,null,null,null,null,null,null,162500.21318747642]
[null,null,null,null,null,null,null,null,null,9903.8461538461524,3660.7142857142858,36255151.098901093,null,null,null,null,null,null,null,null,null,null,null,null,null,null,null,null,null,null,null,null,null,null,null,null,132266.00004567995]
[null,null,null,null,null,null,null,null,null,175,2751.831501831502,481570.51282051287,null,null,null,null,null,null,null,null,null,null,null,null,null,null,null,null,null,null,null,null,null,null,null,null,109893.25447835807]
[null,null,null,null,null,null,null,null,null,175,2298.5347985347985,402243.58974358975,null,null,null,null,null,null,null,null,null,null,null,null,null,null,null,null,null,null,null,null,null,null,null,null,154443.90549185258]
[null,null,null,null,null,null,null,null,null,175,5000,875000,null,null,null,null,null,null,null,null,null,null,null,null,null,null,null,null,null,null,null,null,null,null,null,null,35349.504775741305]
[null,null,null,null,null,null,null,null,null,350,2751.831501831502,963141.02564102574,null,null,null,null,null,null,null,null,null,null,null,null,null,null,null,null,null,null,null,null,null,null,null,null,195365.78573930322]
[null,null,null,null,null,null,null,null,null,350,8610.3479853479857,3013621.794871795,null,null,null,null,null,null,null,null,null,null,null,null,null,null,null,null,null,null,null,null,null,null,null,null,4304652.0634130212]
[null,null,null,null,null,null,null,null,null,350,8564.5604395604387,2997596.1538461535,null,null,null,null,null,null,null,null,null,null,null,null,null,null,null,null,null,null,null,null,null,null,null,null,4281761.0660005612]
[null,null,null,null,null,null,null,null,null,350,2708.333333333333,947916.66666666651,null,null,null,null,null,null,null,null,null,null,null,null,null,null,null,null,null,null,null,null,null,null,null,null,192277.64103959705]
[null,null,null,null,null,null,null,null,null,175,2708.333333333333,473958.33333333326,null,null,null,null,null,null,null,null,null,null,null,null,null,null,null,null,null,null,null,null,null,null,null,null,108156.17308477334]
[null,null,null,null,null,null,null,null,null,175,2298.5347985347985,402243.58974358975,null,null,null,null,null,null,null,null,null,null,null,null,null,null,null,null,null,null,null,null,null,null,null,null,154443.90549185258]
[null,null,null,null,null,null,null,null,null,175,5000,875000,null,null,null,null,null,null,null,null,null,null,null,null,null,null,null,null,null,null,null,null,null,null,null,null,35349.504775741305]

{"sheet":"RCUT_Unsig","index":32,"n_rows":126,"n_cols":72,"rows_kept":126,"cut":false,"hidden":true,"merged":[[1,56,1,71],[0,19,0,28],[0,30,0,32],[1,31,2,31],[1,32,2,32],[1,21,1,25],[1,27,1,28],[1,30,2,30],[100,9,100,11],[100,36,101,36],[1,34,2,34],[1,36,2,36],[1,39,1,54],[1,9,1,11],[1,13,1,17]]}
[null,null,null,null,null,null,null,null,null,null,null,null,null,null,null,null,null,null,null,"Conflicting Traffic Complexity",null,null,null,null,null,null,null,null,null,null,"Pedestrian Complexity"]
[null,null,null,null,null,null,null,null,null,"Exposure",null,null,null,"Severity",null,null,null,null,null,"Traffic Control",null,"Conflicting Lanes",null,null,null,null,null,"Conflicting Speed",null,null,"Indirect Paths Indicator","Non-intuitive movements indicator","Pedestrian Complexity factor",null,"Total Complexity Multiplier",null,"Exposure-Severity-Complexity Product",null,null,"Included in Mvmt1",null,null,null,null,null,null,null,null,null,null,null,null,null,null,null,null,"Included in Mvmt2"]
["#","Conflict Type","Mvmt1","Mvmt1_gen","Mvmt1_SpeedCat","Mvmt2","Mvmt2_gen","Mvmt2_SpeedCat",null,"Q1","Q2","I",null,"Speed_V1","Speed_V2","Angle","delta_V","P_FSI",null,null,null,"MajC","MinC","MajM/P","MinM/P","Score",null,"Speed","Factor",null,null,null,null,null,null,null,null,null,null,"MajT1","MajL1","MajR1","MajT2","MajL2","MajR2","MinT1","MinL1","MinR1","MinT2","MinL2","MinR2","MajNM1","MajNM2","MinNM1","MinNM2",null,"MajT1","MajL1","MajR1","MajT2","MajL2","MajR2","MinT1","MinL1","MinR1","MinT2","MinL2","MinR2","MajNM1","MajNM2","MinNM1","MinNM2"]
[1,"Crossing - LT","EBT, SBL","MajT1, MinL2","Major thru","WBL","MajL2","Major left",null,{"$f":"SUMPRODUCT($AN4:$BC4,$AN$28:$BC$28)","v":7615.3846153846162},{"$f":"SUMPRODUCT($BE4:$BT4,$BE$28:$BT$28)","v":2068.6813186813188},{"$f":"PRODUCT(J4:K4)","v":15753803.888419276},null,{"$f":"VLOOKUP(E4,SSI_AGI_Range_VehSpeed,5,FALSE)","v":45},{"$f":"VLOOKUP(H4,SSI_AGI_Range_VehSpeed,5,FALSE)","v":20},{"$f":"IF(B4=\"Nonmotorized\",\"\",VLOOKUP(B4,SSI_AGI_Range_CollAngles,5,FALSE))","v":230},{"$f":"IF(B4=\"Nonmotorized\",\"\",SQRT(N4^2+O4^2-2*N4*O4*COS(RADIANS(P4)))/2)","v":29.924979939156898},{"$f":"IF(B4=\"Nonmotorized\",1/(1+EXP(3.8432-0.1237*O4)),(Q4/SSI_AGI_RegAlpha)^SSI_AGI_RegK+(Q4/SSI_AGI_RegAlpha)^SSI_AGI_RegK-((Q4/SSI_AGI_RegAlpha)^SSI_AGI_RegK)*((Q4/SSI_AGI_RegAlpha)^SSI_AGI_RegK))","v":9.0286582411373745E-2},null,{"$f":"SSI_AGI_StopFactor","v":0.72500000000000009},null,1,null,null,null,{"$f":"MAX(1,IF(B4<>\"Pedestrian\",V4*SSI_AGI_MajorThruLanes+W4*SSI_AGI_MinorThruLanes+X4*IF(SSI_AGI_MajorThruLanes=1,SSI_AGI_MergeWeightL1,IF(SSI_AGI_MajorThruLanes=2,SSI_AGI_MergeWeightL1+SSI_AGI_MergeWeightL2,SSI_AGI_MergeWeightL1+SSI_AGI_MergeWeightL2+SSI_AGI_MergeWeightL3*(SSI_AGI_MajorThruLanes-2)))+Y4*IF(SSI_AGI_MinorThruLanes=1,SSI_AGI_MergeWeightL1,IF(SSI_AGI_MinorThruLanes=2,SSI_AGI_MergeWeightL1+SSI_AGI_MergeWeightL2,SSI_AGI_MergeWeightL1+SSI_AGI_MergeWeightL2+SSI_AGI_MergeWeightL3*(SSI_AGI_MinorThruLanes-2))),V4*SSI_AGI_MajorThruLanes+W4*SSI_AGI_MinorThruLanes+X4*IF(SSI_AGI_MajorThruLanes=1,SSI_AGI_NM_MergeWeightL1,IF(SSI_AGI_MajorThruLanes=2,SSI_AGI_NM_MergeWeightL1+SSI_AGI_NM_MergeWeightL2,SSI_AGI_NM_MergeWeightL1+SSI_AGI_NM_MergeWeightL2+SSI_AGI_NM_MergeWeightL3*(SSI_AGI_MajorThruLanes-2)))+Y4*IF(SSI_AGI_MinorThruLanes=1,SSI_AGI_NM_MergeWeightL1,IF(SSI_AGI_MinorThruLanes=2,SSI_AGI_NM_MergeWeightL1+SSI_AGI_NM_MergeWeightL2,SSI_AGI_NM_MergeWeightL1+SSI_AGI_NM_MergeWeightL2+SSI_AGI_NM_MergeWeightL3*(SSI_AGI_MinorThruLanes-2)))))","v":2},null,{"$f":"IF(B4=\"Diverging\",\"\",SSI_AGI_VehSpeed_MjrThru)","v":45},{"$f":"IF(B4=\"Diverging\",1,1-((60-AB4)/60*0.1/0.15))","v":0.83333333333333326},null,null,null,{"$f":"IF(SSI_AGI_ConsiderNMComplexity=\"Yes\",1+AE4+AF4,1)","v":1},null,{"$f":"PRODUCT(Z4,T4,AC4,AG4)","v":1.2083333333333335},null,{"$f":"L4*R4*AI4","v":1718681.511619468},null,null,{"$f":"IF(ISNUMBER(SEARCH(AN$3,$D4)),1,\"\")","v":1},{"$f":"IF(ISNUMBER(SEARCH(AO$3,$D4)),1,\"\")","v":""},"","","","","","","","",1,"","","","","",null,{"$f":"IF(ISNUMBER(SEARCH(BE$3,$G4)),1,\"\")","v":""},{"$f":"IF(ISNUMBER(SEARCH(BF$3,$G4)),1,\"\")","v":""},"","",1,"","","","","","","","","","",""]
[2,"Crossing - LT","WBT, NBL","MajT2, MinL1","Major thru","EBL","MajL1","Major left",null,7574.1758241758243,{"$f":"SUMPRODUCT($BE5:$BT5,$BE$28:$BT$28)","v":2068.6813186813188},{"$f":"PRODUCT(J5:K5)","v":15668556.031880209},null,45,20,230,{"$f":"IF(B5=\"Nonmotorized\",\"\",SQRT(N5^2+O5^2-2*N5*O5*COS(RADIANS(P5)))/2)","v":29.924979939156898},9.0286582411373745E-2,null,0.72500000000000009,null,1,null,null,null,2,null,45,0.83333333333333326,null,null,null,1,null,1.2083333333333335,null,{"$f":"L5*R5*AI5","v":1709381.2869894921},null,null,{"$f":"IF(ISNUMBER(SEARCH(AN$3,$D5)),1,\"\")","v":""},"","",1,"","","",1,"","","","","","","","",null,{"$f":"IF(ISNUMBER(SEARCH(BE$3,$G5)),1,\"\")","v":""},1,"","","","","","","","","","","","","",""]
[3,"Merging","EBT, SBL","MajT1, MinL2","Major thru","NBT, NBL, NBR","MinT1, MinL1, MinR1","Stop near",null,7615.3846153846162,4000,30461538.461538464,null,45,15,45,17.995873453365363,1.3373938286506865E-2,null,0.72500000000000009,null,null,null,1,null,1.75,null,45,0.83333333333333326,null,null,null,1,null,1.0572916666666667,null,430730.82971783419,null,null,1,"","","","","","","","","",1,"","","","","",null,"","","","","","",1,1,1,"","","","","","",""]
[4,"Merging","WBL","MajL2","Major left","EBR, SBT","MajR1, MinT2","Major right",null,2068.6813186813188,2244.5054945054944,4643166.5861610919,null,20,15,45,7.0840654162717795,3.9022923271840544E-4,null,0.72500000000000009,null,1,null,null,null,2,null,45,0.83333333333333326,null,null,null,1,null,1.2083333333333335,null,2189.3783622808355,null,null,"","","","",1,"","","","","","","","","","","",null,"","",1,"","","","","","",1,"","","","","",""]
[5,"Merging","WBT, NBL","MajT2, MinL1","Major thru","SBT, SBL, SBR","MinT2, MinL2, MinR2","Stop near",null,7574.1758241758243,4000,30296703.296703298,null,45,15,45,17.995873453365363,1.3373938286506865E-2,null,0.72500000000000009,null,null,null,1,null,1.75,null,45,0.83333333333333326,null,null,null,1,null,1.0572916666666667,null,428400.03518472897,null,null,"","","",1,"","","",1,"","","","","","","","",null,"","","","","","","","","",1,1,1,"","","",""]
[6,"Merging","EBL","MajL1","Major left","WBR, NBT","MajR2, MinT1","Major right",null,2068.6813186813188,2214.2857142857142,4580651.4913657773,null,20,15,45,7.0840654162717795,3.9022923271840544E-4,null,0.72500000000000009,null,1,null,null,null,2,null,45,0.83333333333333326,null,null,null,1,null,1.2083333333333335,null,2159.9008078315219,null,null,"",1,"","","","","","","","","","","","","","",null,"","","","","",1,1,"","","","","","","","",""]
[7,"Merging","EBT, EBL, EBR","MajT1, MajL1, MajR1","Major thru","SBT, SBL","MinT2, MinL2","Stop near",null,9000.0000000000018,2928.5714285714284,26357142.857142862,null,45,15,45,17.995873453365363,1.3373938286506865E-2,null,0.72500000000000009,null,null,null,1,null,1.75,null,45,0.83333333333333326,null,null,null,1,null,1.0572916666666667,null,372694.0458435156,null,null,1,1,1,"","","","","","","","","","","","","",null,"","","","","","","","","",1,1,"","","","",""]
[8,"Merging","WBT, WBL, WBR","MajT2, MajL2, MajR2","Major thru","NBT, NBL","MinT1, MinL1","Stop near",null,9000.0000000000018,2857.1428571428569,25714285.714285716,null,45,15,45,17.995873453365363,1.3373938286506865E-2,null,0.72500000000000009,null,null,null,1,null,1.75,null,45,0.83333333333333326,null,null,null,1,null,1.0572916666666667,null,363603.94716440543,null,null,"","","",1,1,1,"","","","","","","","","","",null,"","","","","","",1,1,"","","","","","","",""]
[9,"Diverging","EBT, EBR, SBL, SBT","MajT1, MajR1, MinL2, MinT2","Major thru","EBL","MajL1","Major left",null,9859.8901098901097,2068.6813186813188,20396970.474580366,null,45,20,10,12.77053292327718,3.6481988362114144E-3,null,1,null,null,null,null,null,1,null,"",1,null,null,null,1,null,1,null,74412.203947602669,null,null,1,"",1,"","","","","","",1,1,"","","","","",null,"",1,"","","","","","","","","","","","","",""]
[10,"Diverging","EBT, SBL","MajT1, MinL2","Major thru","EBR, SBT","MajR1, MinT2","Major right",null,7615.3846153846162,2244.5054945054944,17092772.612003382,null,45,15,10,15.169950011729762,7.0056226631585675E-3,null,1,null,null,null,null,null,1,null,"",1,null,null,null,1,null,1,null,119745.51518686696,null,null,1,"","","","","","","","","",1,"","","","","",null,"","",1,"","","","","","",1,"","","","","",""]
[11,"Diverging","EBT, SBL, NBR","MajT1, MinL2, MinR1","Major thru","NBL, NBT","MinL1, MinT1","Major left",null,8758.2417582417584,2857.1428571428569,25023547.880690735,null,45,20,10,12.77053292327718,3.6481988362114144E-3,null,1,null,null,null,null,null,1,null,"",1,null,null,null,1,null,1,null,91290.878256216543,null,null,1,"","","","","","","",1,"",1,"","","","","",null,"","","","","","",1,1,"","","","","","","",""]
[12,"Diverging","WBT, WBR, NBL, NBT","MajT2, MajR2, MinL1, MinT1","Major thru","WBL","MajL2","Major left",null,9788.4615384615372,2068.6813186813188,20249207.523245983,null,45,20,10,12.77053292327718,3.6481988362114144E-3,null,1,null,null,null,null,null,1,null,"",1,null,null,null,1,null,1,null,73873.135320509406,null,null,"","","",1,"",1,1,1,"","","","","","","","",null,"","","","",1,"","","","","","","","","","",""]
[13,"Diverging","WBT, NBL","MajT2, MinL1","Major thru","WBR, NBT","MajR2, MinT1","Major right",null,7574.1758241758243,2214.2857142857142,16771389.324960753,null,45,15,10,15.169950011729762,7.0056226631585675E-3,null,1,null,null,null,null,null,1,null,"",1,null,null,null,1,null,1,null,117494.02514760073,null,null,"","","",1,"","","",1,"","","","","","","","",null,"","","","","",1,1,"","","","","","","","",""]
[14,"Diverging","WBT, NBL, SBR","MajT2, MinL1, MinR2","Major thru","SBL, SBT","MinL2, MinT2","Major left",null,8645.6043956043959,2928.5714285714284,25319270.015698586,null,45,20,10,12.77053292327718,3.6481988362114144E-3,null,1,null,null,null,null,null,1,null,"",1,null,null,null,1,null,1,null,92369.731404994134,null,null,"","","",1,"","","",1,"","","",1,"","","","",null,"","","","","","","","","",1,1,"","","","",""]
[15,"Nonmotorized","NB Ped","MinNM1","Nonmotorized","EBR, SBT","MajR1, MinT2","Major right",null,175,2244.5054945054944,392788.4615384615,null,0,15,"","",0.1205004039155782,null,1,null,null,1,2,null,4.5,null,45,0.83333333333333326,null,null,null,1,null,3.7499999999999996,null,177491.88100786184,null,null,"","","","","","","","","","","","","","",1,"",null,"","",1,"","","","","","",1,"","","","","",""]
[16,"Nonmotorized","NB Ped","MinNM1","Nonmotorized","WBL","MajL2","Major left",null,175,2068.6813186813188,362019.23076923081,null,0,20,"","",0.20274912921655375,null,{"$f":"SSI_AGI_StopFactor","v":0.72500000000000009},null,null,1,2,null,4.5,null,45,0.83333333333333326,null,null,null,1,null,2.71875,null,199553.75907610659,null,null,"","","","","","","","","","","","","","",1,"",null,"","","","",1,"","","","","","","","","","",""]
[17,"Nonmotorized","NB Ped","MinNM1","Nonmotorized","NBT, NBL, NBR","MinT1, MinL1, MinR1","Stop near",null,175,4000,700000,null,0,15,"","",0.1205004039155782,null,{"$f":"SSI_AGI_StopFactor","v":0.72500000000000009},null,null,1,null,null,1,null,{"$f":"IF(B20=\"Diverging\",\"\",SSI_AGI_VehSpeed_MnrThru)","v":29.75},0.66388888888888886,null,null,null,1,null,0.48131944444444447,null,40599.431227584086,null,null,"","","","","","","","","","","","","","",1,"",null,"","","","","","",1,1,1,"","","","","","",""]
[18,"Nonmotorized","EB/WB Ped","MajNM1, MajNM2","Nonmotorized","EBR, SBT","MajR1, MinT2","Major right",null,350,2244.5054945054944,785576.92307692301,null,0,15,"","",0.1205004039155782,null,1,null,1,null,null,null,2,null,{"$f":"IF(B21=\"Diverging\",\"\",SSI_AGI_VehSpeed_MjrThru)","v":45},0.83333333333333326,null,1,null,2,null,3.333333333333333,null,315541.12179175438,null,null,"","","","","","","","","","","","",1,1,"","",null,"","",1,"","","","","","",1,"","","","","",""]
[19,"Nonmotorized","EB/WB Ped","MajNM1, MajNM2","Nonmotorized","EBT, SBL","MajT1, MinL2","Major thru",null,350,7615.3846153846162,2665384.6153846155,null,0,45,"","",0.84855340903216459,null,1,null,1,null,null,null,2,null,45,0.83333333333333326,null,1,null,2,null,3.333333333333333,null,7539070.6725550005,null,null,"","","","","","","","","","","","",1,1,"","",null,1,"","","","","","","","","",1,"","","","",""]
[20,"Nonmotorized","EB/WB Ped","MajNM1, MajNM2","Nonmotorized","WBT, NBL","MajT2, MinL1","Major thru",null,350,7574.1758241758243,2650961.5384615385,null,0,45,"","",0.84855340903216459,null,1,null,1,null,null,null,2,null,45,0.83333333333333326,null,1,null,2,null,3.333333333333333,null,7498274.8355823001,null,null,"","","","","","","","","","","","",1,1,"","",null,"","","",1,"","","",1,"","","","","","","",""]
[21,"Nonmotorized","EB/WB Ped","MajNM1, MajNM2","Nonmotorized","WBR, NBT","MajR2, MinT1","Major right",null,350,2214.2857142857142,775000,null,0,15,"","",0.1205004039155782,null,1,null,1,null,null,null,2,null,45,0.83333333333333326,null,1,null,2,null,3.333333333333333,null,311292.71011524368,null,null,"","","","","","","","","","","","",1,1,"","",null,"","","","","",1,1,"","","","","","","","",""]
[22,"Nonmotorized","SB Ped","MinNM2","Nonmotorized","WBR, NBT","MajR2, MinT1","Major right",null,175,2214.2857142857142,387500,null,0,15,"","",0.1205004039155782,null,1,null,null,1,2,null,4.5,null,45,0.83333333333333326,null,null,null,1,null,3.7499999999999996,null,175102.14943982454,null,null,"","","","","","","","","","","","","","","",1,null,"","","","","",1,1,"","","","","","","","",""]
[23,"Nonmotorized","SB Ped","MinNM2","Nonmotorized","EBL","MajL1","Major left",null,175,2068.6813186813188,362019.23076923081,null,0,20,"","",0.20274912921655375,null,{"$f":"SSI_AGI_StopFactor","v":0.72500000000000009},null,null,1,2,null,4.5,null,45,0.83333333333333326,null,null,null,1,null,2.71875,null,199553.75907610659,null,null,"","","","","","","","","","","","","","","",1,null,"",1,"","","","","","","","","","","","","",""]
[24,"Nonmotorized","SB Ped","MinNM2","Nonmotorized","SBT, SBL, SBR","MinT2, MinL2, MinR2","Stop near",null,175,4000,700000,null,0,15,"","",0.1205004039155782,null,{"$f":"SSI_AGI_StopFactor","v":0.72500000000000009},null,null,1,null,null,1,null,{"$f":"IF(B27=\"Diverging\",\"\",SSI_AGI_VehSpeed_MnrThru)","v":29.75},0.66388888888888886,null,null,null,1,null,0.48131944444444447,null,40599.431227584086,null,null,"","","","","","","","","","","","","","","",1,null,"","","","","","","","","",1,1,1,"","","",""]
[null,null,null,null,null,null,null,null,null,null,null,null,null,null,null,null,null,null,null,null,null,null,null,null,null,null,null,null,null,null,null,null,null,null,null,null,null,null,"O",{"$f":"'SSI Inputs'!$D$26","v":6543.9560439560446},{"$f":"'SSI Inputs'!$D$27","v":2068.6813186813188},{"$f":"'SSI Inputs'!$D$28","v":387.36263736263737},{"$f":"'SSI Inputs'!$D$30","v":6502.7472527472528},{"$f":"'SSI Inputs'!$D$31","v":2068.6813186813188},{"$f":"'SSI Inputs'!$D$32","v":428.57142857142856},{"$f":"'SSI Inputs'!$D$34","v":1785.7142857142856},{"$f":"'SSI Inputs'!$D$35","v":1071.4285714285713},{"$f":"'SSI Inputs'!$D$36","v":1142.8571428571429},{"$f":"'SSI Inputs'!$D$38","v":1857.1428571428571},{"$f":"'SSI Inputs'!$D$39","v":1071.4285714285713},{"$f":"'SSI Inputs'!$D$40","v":1071.4285714285713},{"$f":"'SSI Inputs'!$Q$18","v":175},{"$f":"'SSI Inputs'!$Q$19","v":175},{"$f":"'SSI Inputs'!$Q$20","v":175},{"$f":"'SSI Inputs'!$Q$21","v":175},"O",{"$f":"'SSI Inputs'!$D$26","v":6543.9560439560446},{"$f":"'SSI Inputs'!$D$27","v":2068.6813186813188},{"$f":"'SSI Inputs'!$D$28","v":387.36263736263737},{"$f":"'SSI Inputs'!$D$30","v":6502.7472527472528},{"$f":"'SSI Inputs'!$D$31","v":2068.6813186813188},{"$f":"'SSI Inputs'!$D$32","v":428.57142857142856},{"$f":"'SSI Inputs'!$D$34","v":1785.7142857142856},{"$f":"'SSI Inputs'!$D$35","v":1071.4285714285713},{"$f":"'SSI Inputs'!$D$36","v":1142.8571428571429},{"$f":"'SSI Inputs'!$D$38","v":1857.1428571428571},{"$f":"'SSI Inputs'!$D$39","v":1071.4285714285713},{"$f":"'SSI Inputs'!$D$40","v":1071.4285714285713},{"$f":"'SSI Inputs'!$Q$18","v":175},{"$f":"'SSI Inputs'!$Q$19","v":175},{"$f":"'SSI Inputs'!$Q$20","v":175},{"$f":"'SSI Inputs'!$Q$21","v":175}]
[null,null,null,null,null,null,null,null,null,null,null,null,null,null,null,null,null,null,null,null,null,null,null,null,null,null,null,null,null,null,null,null,null,null,null,null,null,null,"D",{"$f":"'SSI Inputs'!$E$26","v":7271.062271062272},{"$f":"'SSI Inputs'!$E$27","v":2298.5347985347985},{"$f":"'SSI Inputs'!$E$28","v":430.40293040293039},{"$f":"'SSI Inputs'!$E$30","v":7225.2747252747249},{"$f":"'SSI Inputs'!$E$31","v":2298.5347985347985},{"$f":"'SSI Inputs'!$E$32","v":476.19047619047615},{"$f":"'SSI Inputs'!$E$34","v":2232.1428571428569},{"$f":"'SSI Inputs'!$E$35","v":1339.2857142857142},{"$f":"'SSI Inputs'!$E$36","v":1428.5714285714284},{"$f":"'SSI Inputs'!$E$38","v":2321.4285714285716},{"$f":"'SSI Inputs'!$E$39","v":1339.2857142857142},{"$f":"'SSI Inputs'!$E$40","v":1339.2857142857142},{"$f":"'SSI Inputs'!$R$18","v":175},{"$f":"'SSI Inputs'!$R$19","v":175},{"$f":"'SSI Inputs'!$R$20","v":175},{"$f":"'SSI Inputs'!$R$21","v":175},"D",{"$f":"'SSI Inputs'!$E$26","v":7271.062271062272},{"$f":"'SSI Inputs'!$E$27","v":2298.5347985347985},{"$f":"'SSI Inputs'!$E$28","v":430.40293040293039},{"$f":"'SSI Inputs'!$E$30","v":7225.2747252747249},{"$f":"'SSI Inputs'!$E$31","v":2298.5347985347985},{"$f":"'SSI Inputs'!$E$32","v":476.19047619047615},{"$f":"'SSI Inputs'!$E$34","v":2232.1428571428569},{"$f":"'SSI Inputs'!$E$35","v":1339.2857142857142},{"$f":"'SSI Inputs'!$E$36","v":1428.5714285714284},{"$f":"'SSI Inputs'!$E$38","v":2321.4285714285716},{"$f":"'SSI Inputs'!$E$39","v":1339.2857142857142},{"$f":"'SSI Inputs'!$E$40","v":1339.2857142857142},{"$f":"'SSI Inputs'!$R$18","v":175},{"$f":"'SSI Inputs'!$R$19","v":175},{"$f":"'SSI Inputs'!$R$20","v":175},{"$f":"'SSI Inputs'!$R$21","v":175}]
[]
[]
[]
[]
[]
[]
[]
[]
[]
[]
[]
[]
[]
[]
[]
[]
[]
[]
[]
[]
[]
[]
[]
[]
[]
[]
[]
[]
[]
[]
[]
[]
[]
[]
[]
[]
[]
[]
[]
[]
[]
[]
[]
[]
[]
[]
[]
[]
[]
[]
[]
[]
[]
[]
[]
[]
[]
[]
[]
[]
[]
[]
[]
[]
[]
[]
[]
[]
[]
[]
[]
[null,null,null,null,null,null,null,null,null,"Exposure",null,null,null,null,null,null,null,null,null,null,null,null,null,null,null,null,null,null,null,null,null,null,null,null,null,null,"Exposure-Severity-Complexity Product"]
[null,null,null,null,null,null,null,null,null,"Q1","Q2","I"]
[null,null,null,null,null,null,null,null,null,{"$f":"SUMPRODUCT($AN4:$BC4,$AN$29:$BC$29)","v":8610.3479853479857},{"$f":"SUMPRODUCT($BE4:$BT4,$BE$29:$BT$29)","v":2298.5347985347985},{"$f":"PRODUCT(J103:K103)","v":19791184.471816339},null,null,null,null,null,null,null,null,null,null,null,null,null,null,null,null,null,null,null,null,null,null,null,null,{"$f":"L103*R4*AI4","v":2159144.7427986269}]
[null,null,null,null,null,null,null,null,null,{"$f":"SUMPRODUCT($AN5:$BC5,$AN$29:$BC$29)","v":8564.5604395604387},{"$f":"SUMPRODUCT($BE5:$BT5,$BE$29:$BT$29)","v":2298.5347985347985},{"$f":"PRODUCT(J104:K104)","v":19685940.204484157},null,null,null,null,null,null,null,null,null,null,null,null,null,null,null,null,null,null,null,null,null,null,null,null,{"$f":"L104*R5*AI5","v":2147662.9839961878}]
[null,null,null,null,null,null,null,null,null,8610.3479853479857,5000,43051739.926739931,null,null,null,null,null,null,null,null,null,null,null,null,null,null,null,null,null,null,null,null,null,null,null,null,608758.21104225819]
[null,null,null,null,null,null,null,null,null,2298.5347985347985,2751.831501831502,6325180.4666639837,null,null,null,null,null,null,null,null,null,null,null,null,null,null,null,null,null,null,null,null,null,null,null,null,2982.49330371001]
[null,null,null,null,null,null,null,null,null,8564.5604395604387,5000,42822802.197802193,null,null,null,null,null,null,null,null,null,null,null,null,null,null,null,null,null,null,null,null,null,null,null,null,605520.99641294533]
[null,null,null,null,null,null,null,null,null,2298.5347985347985,2708.333333333333,6225198.4126984123,null,null,null,null,null,null,null,null,null,null,null,null,null,null,null,null,null,null,null,null,null,null,null,null,2935.3490667961241]
[null,null,null,null,null,null,null,null,null,10000,3660.7142857142858,36607142.857142858,null,null,null,null,null,null,null,null,null,null,null,null,null,null,null,null,null,null,null,null,null,null,null,null,517630.61922710494]
[null,null,null,null,null,null,null,null,null,10000,3571.4285714285711,35714285.714285709,null,null,null,null,null,null,null,null,null,null,null,null,null,null,null,null,null,null,null,null,null,null,null,null,505005.48217278521]
[null,null,null,null,null,null,null,null,null,11362.179487179488,2298.5347985347985,26116364.938480325,null,null,null,null,null,null,null,null,null,null,null,null,null,null,null,null,null,null,null,null,null,null,null,null,95277.692174636511]
[null,null,null,null,null,null,null,null,null,8610.3479853479857,2751.831501831502,23694226.827811994,null,null,null,null,null,null,null,null,null,null,null,null,null,null,null,null,null,null,null,null,null,null,null,null,165992.81245093944]
[null,null,null,null,null,null,null,null,null,10038.919413919415,3571.4285714285711,35853283.621140763,null,null,null,null,null,null,null,null,null,null,null,null,null,null,null,null,null,null,null,null,null,null,null,null,130799.9075810035]
[null,null,null,null,null,null,null,null,null,11272.893772893771,2298.5347985347985,25911138.617182568,null,null,null,null,null,null,null,null,null,null,null,null,null,null,null,null,null,null,null,null,null,null,null,null,94528.985748118081]
[null,null,null,null,null,null,null,null,null,8564.5604395604387,2708.333333333333,23195684.523809519,null,null,null,null,null,null,null,null,null,null,null,null,null,null,null,null,null,null,null,null,null,null,null,null,162500.21318747642]
[null,null,null,null,null,null,null,null,null,9903.8461538461524,3660.7142857142858,36255151.098901093,null,null,null,null,null,null,null,null,null,null,null,null,null,null,null,null,null,null,null,null,null,null,null,null,132266.00004567995]
[null,null,null,null,null,null,null,null,null,175,2751.831501831502,481570.51282051287,null,null,null,null,null,null,null,null,null,null,null,null,null,null,null,null,null,null,null,null,null,null,null,null,217610.40490763972]
[null,null,null,null,null,null,null,null,null,175,2298.5347985347985,402243.58974358975,null,null,null,null,null,null,null,null,null,null,null,null,null,null,null,null,null,null,null,null,null,null,null,null,221726.39897345172]
[null,null,null,null,null,null,null,null,null,175,5000,875000,null,null,null,null,null,null,null,null,null,null,null,null,null,null,null,null,null,null,null,null,null,null,null,null,50749.289034480105]
[null,null,null,null,null,null,null,null,null,350,2751.831501831502,963141.02564102574,null,null,null,null,null,null,null,null,null,null,null,null,null,null,null,null,null,null,null,null,null,null,null,null,386862.94205802621]
[null,null,null,null,null,null,null,null,null,350,8610.3479853479857,3013621.794871795,null,null,null,null,null,null,null,null,null,null,null,null,null,null,null,null,null,null,null,null,null,null,null,null,8524063.4919069726]
[null,null,null,null,null,null,null,null,null,350,8564.5604395604387,2997596.1538461535,null,null,null,null,null,null,null,null,null,null,null,null,null,null,null,null,null,null,null,null,null,null,null,null,8478734.7841595281]
[null,null,null,null,null,null,null,null,null,350,2708.333333333333,947916.66666666651,null,null,null,null,null,null,null,null,null,null,null,null,null,null,null,null,null,null,null,null,null,null,null,null,380747.804038806]
[null,null,null,null,null,null,null,null,null,175,2708.333333333333,473958.33333333326,null,null,null,null,null,null,null,null,null,null,null,null,null,null,null,null,null,null,null,null,null,null,null,null,214170.6397718284]
[null,null,null,null,null,null,null,null,null,175,2298.5347985347985,402243.58974358975,null,null,null,null,null,null,null,null,null,null,null,null,null,null,null,null,null,null,null,null,null,null,null,null,221726.39897345172]
[null,null,null,null,null,null,null,null,null,175,5000,875000,null,null,null,null,null,null,null,null,null,null,null,null,null,null,null,null,null,null,null,null,null,null,null,null,50749.289034480105]

{"sheet":"Notes","index":33,"n_rows":77,"n_cols":18,"rows_kept":77,"cut":false,"hidden":false,"merged":[]}
["Notes:"]
["Alternative Selection Sheet"]
["Number of Alternatives"]
[1]
[2]
[3]
[4]
[5]
[]
["Analysis Year"]
["Opening Year Only"]
["Opening and Design Year"]
[]
["Intersection Type"]
["At-Grade Intersection"]
["Ramp Terminal Intersection"]
[]
["At-Grade Intersctions",null,null,null,null,null,null,null,null,"Ramp Terminal Intersections",null,null,null,null,null,null,"Predictive Inputs"]
["Traffic Signal",null,null,null,null,null,null,null,null,"Conventional Traffic Signal",null,null,null,null,null,null,"Yes"]
["Minor Road Stop",null,null,null,null,null,null,null,null,"Crossover Traffic Signal (of Diverging Diamond Interchange)",null,null,null,null,null,null,"No"]
["All Way Stop",null,null,null,null,null,null,null,null,"Single-Point Diamond Traffic Signal",null,null,null,null,null,null,"N/A"]
["1-lane Roundabout",null,null,null,null,null,null,null,null,"Minor Road (ramp) Stop",null,null,null,null,null,null,"Left Turn Phasing"]
["2-lane Roundabout",null,null,null,null,null,null,null,null,"1-lane Roundabout",null,null,null,null,null,null,"Protected"]
["Displaced Left Turn (DLT)",null,null,null,null,null,null,null,null,"2-lane Roundabout",null,null,null,null,null,null,"Permissive"]
["Median U-Turn (MUT)",null,null,null,null,null,null,null,null,"Freeway Orientation",null,null,null,null,null,null,"Protected/Permissive or Permissive/Protected"]
["Signalized Restricted Crossing U-Turn (RCUT), also known Superstreet",null,null,null,null,null,null,null,null,"North-South",null,null,null,null,null,null,"N/A"]
["Unsignalized Restricted Crossing U-Turn (RCUT), also known as J-Turn",null,null,null,null,null,null,null,null,"East-West"]
["Continuous Green-T Intersection"]
["Jughandle",null,null,null,null,null,null,null,null,null,null,null,null,null,null,null,0,0]
[null,null,null,null,null,null,null,null,null,null,null,null,null,null,null,null,1,1]
["Facility Type",null,null,null,null,null,null,null,null,null,null,null,null,null,null,null,2,2]
["On Rural Two Lane Highway",null,null,null,null,null,null,null,null,null,null,null,null,null,null,null,3,3]
["On Rural Multilane Highway",null,null,null,null,null,null,null,null,null,null,null,null,null,null,null,4,4]
["On Urban and Suburban Arterial",null,null,null,null,null,null,null,null,"Type",null,null,null,null,null,null,"N/A",5]
["N/A",null,null,null,null,null,null,null,null,"Three-leg terminals with diagonal exit ramp (D3ex)",null,null,null,null,null,null,null,6]
[null,null,null,null,null,null,null,null,null,"Three-leg terminals with diagonal entrance ramp (D3en)",null,null,null,null,null,null,null,7]
[null,null,null,null,null,null,null,null,null,"Four-leg terminals with diagonal ramps (D4)",null,null,null,null,null,null,null,8]
[null,null,null,null,null,null,null,null,null,"Four-leg terminals at four-quadrant parclo A (A4)"]
[null,null,null,null,null,null,null,null,null,"Four-leg terminals at four-quadrant parclo B (B4)"]
[null,null,null,null,null,null,null,null,null,"Three-leg terminals at two-quadrant parclo A (A2)"]
[null,null,null,null,null,null,null,null,null,"Three-leg terminals at two-quadrant parclo B (B2)"]
[null,null,null,null,null,null,null,null,null,"All types"]
[null,null,null,null,null,null,null,null,null,"1-lane roundabout with 3 legs"]
[null,null,null,null,null,null,null,null,null,"1-lane roundabout with 4 legs"]
[null,null,null,null,null,null,null,null,null,"2-lane roundabout with 3 legs"]
[null,null,null,null,null,null,null,null,null,"2-lane roundabout with 4 legs"]
["Number of Legs"]
["3-leg",null,null,null,null,null,null,null,null,"Area Type"]
["4-leg",null,null,null,null,null,null,null,null,"Urban"]
["N/A",null,null,null,null,null,null,null,null,"Rural"]
[]
[]
["1-way/2-way"]
["2-way Intersecting 2-way",null,null,null,null,null,null,null,null,"Ramp Terminal \"Other\" Base Intersections"]
["1-way Intersecting 2-way",null,null,null,null,null,null,null,null,{"$f":"Label_RTI_D4TS","v":"Signalized Diamond"}]
["1-way Intersecting 1-way",null,null,null,null,null,null,null,null,{"$f":"Label_RTI_D4TSA","v":"Signalized Diamond (Alt)"}]
[null,null,null,null,null,null,null,null,null,{"$f":"Label_RTI_D4MS","v":"Unsignalized Diamond"}]
[]
["Number of Lanes"]
["5 or fewer"]
["6 or more"]
[]
[]
[]
["Major Street Approach Speed",null,null,null,null,null,null,null,null,"3ST"]
["Less than 55 mph",null,null,null,null,null,null,null,null,"4ST"]
["55+ mph",null,null,null,null,null,null,null,null,"3SG"]
[null,null,null,null,null,null,null,null,null,"4SG"]
[null,null,null,null,null,null,null,null,null,"3AWSC"]
[null,null,null,null,null,null,null,null,null,"4AWSC"]
[]
[]
[]
[]
["Ranking Priority"]
["Total Crashes"]
["Fatal/Injury Crashes"]

{"sheet":"User Selections","index":34,"n_rows":51,"n_cols":8,"rows_kept":51,"cut":false,"hidden":false,"merged":[[44,0,46,0],[42,4,42,5],[42,6,42,7]]}
["Alternatives"]
["At-Grade Selections"]
["Traffic Signal #1",{"$f":"IF('Control Strategy Selection'!B19:C19=Notes!$Q$19,TRUE,FALSE)","v":true}]
["Traffic Signal #2",{"$f":"IF('Control Strategy Selection'!B20:C20=Notes!$Q$19,TRUE,FALSE)","v":false}]
["Minor Road Stop",{"$f":"IF('Control Strategy Selection'!B21:C21=Notes!$Q$19,TRUE,FALSE)","v":true}]
["All Way Stop",{"$f":"IF('Control Strategy Selection'!B22:C22=Notes!$Q$19,TRUE,FALSE)","v":true}]
["1-lane Roundabout",{"$f":"IF('Control Strategy Selection'!B23:C23=Notes!$Q$19,TRUE,FALSE)","v":true}]
["2-lane Roundabout",{"$f":"IF('Control Strategy Selection'!B24:C24=Notes!$Q$19,TRUE,FALSE)","v":true}]
["Displaced Left Turn (DLT)",{"$f":"IF('Control Strategy Selection'!B25:C25=Notes!$Q$19,TRUE,FALSE)","v":true}]
["Median U-Turn (MUT)",{"$f":"IF('Control Strategy Selection'!B26:C26=Notes!$Q$19,TRUE,FALSE)","v":true}]
["Signalized Restricted Crossing U-Turn (RCUT), also known Superstreet",{"$f":"IF('Control Strategy Selection'!B27:C27=Notes!$Q$19,TRUE,FALSE)","v":true}]
["Unsignalized Restricted Crossing U-Turn (RCUT), also known as J-Turn",{"$f":"IF('Control Strategy Selection'!B28:C28=Notes!$Q$19,TRUE,FALSE)","v":true}]
["Signalized Thru-Cut",{"$f":"IF(Input_Include_SigThruCut=Notes!$Q$19,TRUE,FALSE)","v":false}]
["Unsignalized Thru-Cut",{"$f":"IF(Input_Include_UnsigThruCut=Notes!$Q$19,TRUE,FALSE)","v":false}]
["Bowtie",{"$f":"IF(Input_Include_Bowtie=Notes!$Q$19,TRUE,FALSE)","v":false}]
["Continuous Green-T Intersection",{"$f":"IF('Control Strategy Selection'!B32:C32=Notes!$Q$19,TRUE,FALSE)","v":false}]
["Jughandle",{"$f":"IF('Control Strategy Selection'!B33:C33=Notes!$Q$19,TRUE,FALSE)","v":true}]
["Other (Please Specify)",{"$f":"IF('Control Strategy Selection'!B34:C34=Notes!$Q$19,TRUE,FALSE)","v":false}]
["Other (Please Specify)",{"$f":"IF('Control Strategy Selection'!B35:C35=Notes!$Q$19,TRUE,FALSE)","v":false}]
[]
["Ramp Terminal Interchanges"]
[{"$f":"Label_RTI_D4TS","v":"Signalized Diamond"},{"$f":"IF('Control Strategy Selection'!B62:C62=Notes!$Q$19,TRUE,FALSE)","v":true}]
[{"$f":"Label_RTI_D4TSA","v":"Signalized Diamond (Alt)"},{"$f":"IF('Control Strategy Selection'!B63:C63=Notes!$Q$19,TRUE,FALSE)","v":true}]
[{"$f":"Label_RTI_DDI","v":"Diverging Diamond"},{"$f":"IF('Control Strategy Selection'!B64:C64=Notes!$Q$19,TRUE,FALSE)","v":false}]
[{"$f":"Label_RTI_SPUI","v":"Single-Point Diamond"},{"$f":"IF('Control Strategy Selection'!B65:C65=Notes!$Q$19,TRUE,FALSE)","v":true}]
[{"$f":"Label_RTI_D4MS","v":"Unsignalized Diamond"},{"$f":"IF('Control Strategy Selection'!B66:C66=Notes!$Q$19,TRUE,FALSE)","v":true}]
[{"$f":"Label_RTI_1LnRdbt","v":"1-lane Roundabout"},{"$f":"IF('Control Strategy Selection'!B67:C67=Notes!$Q$19,TRUE,FALSE)","v":true}]
[{"$f":"Label_RTI_2LnRdbt","v":"2-lane Roundabout"},{"$f":"IF('Control Strategy Selection'!B68:C68=Notes!$Q$19,TRUE,FALSE)","v":true}]
["Tight Diamond Interchange",{"$f":"IF('Control Strategy Selection'!B69:C69=Notes!$Q$19,TRUE,FALSE)","v":true}]
[{"$f":"Label_RTI_Other1","v":"Other 1"},{"$f":"IF('Control Strategy Selection'!B70:C70=Notes!$Q$19,TRUE,FALSE)","v":false}]
[{"$f":"Label_RTI_Other2","v":"Other 2"},{"$f":"IF('Control Strategy Selection'!B71:C71=Notes!$Q$19,TRUE,FALSE)","v":false}]
[]
[]
[]
[]
[]
[]
[]
[]
[]
[]
[]
[null,"Major","Allowable","Minor","Open",null,"Design"]
["RCUT AADT Ratios","Limit","Ratio","Limit","In Range","Under ratio","In Range","Under ratio"]
["This table is used to verify whether the ratio of major to minor AADT falls within the allowable ratios appropriate for the RCUT SPF methodology.",5000,{"$f":"D45/B45","v":1.06},5300,{"$f":"AND(Input_Base_OAADTMajor>0,Input_Base_OAADTMajor<=B45)","v":false},{"$f":"IF(E45,Input_Base_OAADTMinor/Input_Base_OAADTMajor<C45, TRUE)","v":true},{"$f":"AND(Input_Base_DAADTMajor>0,Input_Base_DAADTMajor<=B45)","v":false},{"$f":"IF(G45,Input_Base_DAADTMinor/Input_Base_DAADTMajor<C45, TRUE)","v":true}]
[null,15000,{"$f":"D46/B46","v":0.82466666666666666},12370,{"$f":"AND(Input_Base_OAADTMajor>B45,Input_Base_OAADTMajor<=B46)","v":false},true,{"$f":"AND(Input_Base_DAADTMajor>B45,Input_Base_DAADTMajor<=B46)","v":false},true]
[null,25000,0.64200000000000002,16050,true,true,true,true]
[null,35000,0.5,17500,false,true,false,true]
[null,45000,0.38955555555555554,17530,false,true,false,true]
[null,55000,0.30345454545454548,16690,false,true,false,true]
[null,65000,0.2363076923076923,15360,false,true,false,true]

{"sheet":"Labels","index":35,"n_rows":93,"n_cols":8,"rows_kept":93,"cut":false,"hidden":false,"merged":[]}
[]
[]
["Control Strategies"]
["At-Grade Selections"]
["Traffic Signal"]
["Minor Road Stop"]
["All Way Stop"]
["1-lane Roundabout"]
["2-lane Roundabout"]
["Displaced Left Turn (DLT)"]
["Median U-Turn (MUT)"]
["Signalized RCUT"]
["Unsignalized RCUT"]
["Continuous Green-T Intersection"]
["Jughandle"]
[{"$f":"'Control Strategy Selection'!A34","v":"Other 1*"}]
[{"$f":"'Control Strategy Selection'!A35","v":"Other 2*"}]
[]
["Ramp Terminal Interchanges"]
["Conventional Traffic Signal"]
["Crossover Traffic Signal (of Diverging Diamond Interchange)"]
["Single-Point Diamond Traffic Signal"]
["Minor Road (ramp) Stop"]
["1-lane Roundabout"]
["2-lane Roundabout"]
[]
[]
[]
[]
[]
[]
[]
["Facility Types"]
["On Rural Two Lane Highway"]
["On Rural Multilane Highway"]
["On Urban and Suburban Arterial"]
["On High Speed (50+ MPH) Urban and Suburban Arterial"]
[]
[]
[]
[]
[]
[]
["Analysis Year"]
["Opening Year Only"]
["Opening and Design Year"]
[]
[]
[]
[]
[null,null,null,true,{"$f":"NOT(D51)","v":false}]
["Pedestrian Activity",null,null,"4-Leg","3-Leg"]
[{"$f":"C53&\" (\" & IF($D$51,D53,E53) & \")\"","v":"High (3200)"},null,"High",3200,1700,4,{"$f":"IF(LEFT(Input_TrafficSignal_PedActivity,F53)=C53,TRUE, FALSE)","v":false},{"$f":"IF(LEFT(Input_TrafficSignal2_PedActivity,F53)=C53,TRUE, FALSE)","v":false}]
[{"$f":"C54&\" (\" & IF($D$51,D54,E54) & \")\"","v":"Med High (1500)"},null,"Med High",1500,750,8,false,false]
["Medium (700)",null,"Medium",700,400,6,false,false]
["Med Low (240)",null,"Med Low",240,120,7,false,false]
["Low (50)",null,"Low",50,20,3,true,true]
[{"$f":"C58","v":"Other - Enter Below"},null,"Other - Enter Below",null,null,null,false,false]
[]
[]
[]
["High (1,700)"]
["Medium High (750)"]
["Medium (400)"]
["Medium Low (120)"]
["Low (20)"]
["Other - Enter Below"]
[]
[]
[]
[]
[]
[]
[]
[]
[]
[]
["Exit ramp right turn control"]
["Merge/Free Flow"]
[" Signal/Stop/yield-controlled"]
[]
["Effective number of lanes serving exit ramp"]
[0.5,1,1.5,2,2.5,3,3.5,4]
[]
[]
[]
[]
["# of driveways (or public street approaches) on the crossroad leg outside of the interchange"]
[0]
[1]
[2]
[3]
[4]

{"sheet":"Changelog","index":36,"n_rows":23,"n_cols":4,"rows_kept":23,"cut":false,"hidden":false,"merged":[[0,0,1,11],[19,0,21,1],[19,2,21,2],[19,3,21,11],[2,3,3,11],[7,3,9,11],[7,0,9,1],[7,2,9,2],[10,3,12,11],[10,2,12,2],[10,0,12,1],[4,3,6,11],[4,2,6,2],[4,0,6,1],[2,0,3,1],[2,2,3,2],[13,0,15,1],[13,2,15,2],[13,3,15,11],[16,0,18,1],[16,2,18,2],[16,3,18,11],[28,0,30,1],[28,2,30,2],[28,3,30,11],[22,0,24,1],[22,2,24,2],[22,3,24,11],[25,0,27,1],[25,2,27,2],[25,3,27,11]]}
["FDOT SPICE Tool Changelog"]
[]
["Date",null,"Version #","Description"]
[]
["2019-04-23",null,3.1,"Added new safety performance function (SPF) computations for signalized and unsignalized restricted crossing u-turns (RCUTS).  These methods replaced the previous crash modification factor (CMF) based approach."]
[]
[]
["2015-07-01",null,3.2,"Follow-up update to the Signalized RCUT methodology. These updates provided new coefficients for the safety performance function and improved AADT range and ratio limits to relflect the removal of high AADT outlier RCUT sample data sites."]
[]
[]
["2019-07-15",null,3.3,"Small bug fix to remove the deprecated display-only RCUT crash modification factors in the Calibration tab, as well as include new optional inputs to apply a calibration factor to the safety performance functions for signalized and unsignalized RCUTs."]
[]
[]
["2019-10-03",null,3.4,"Fixed bug where enabling Historical EB analysis could cause results to be reported for intersections missing an SPF.  As a note, this bug only occurred when Historical analysis was enabled, an invalid historical base intersection was chosen, and no historical crashes were input."]
[]
[]
["2020-02-17",null,3.5,"Added new safety performance function (SPF) computations for a set of new intersections as developed by the NCHRP 17-68 project.  The new intersections are the 3SG for rural two-lane highways, 3SG for rural multilane highways, 3ST, 4ST, 3SG, and 4SG for high speed arterials, 4AWSC for rural two-lane highways and 3AWSC amd 4AWSC for urban/suburban arterials."]
[]
[]
["2021-10-13",null,"4.0.0","Addition of SSI Methodology, new SPFS for the Tight Diamond interchange."]
[]
[]
["2022-10-31",null,4.0999999999999996,"Addition of Bowtie SSI Methodology. Modification of Traffic Control scores for Nonmotorized conflict points. Update HSM formula (effective number of lanes for ramps), update SSI traffic complexity scoring due to presence of median."]

{"sheet":"Trad_Sig","index":37,"n_rows":158,"n_cols":95,"rows_kept":158,"cut":false,"hidden":true,"merged":[[100,9,100,11],[1,9,1,11],[1,13,1,17],[1,21,1,25],[1,27,1,28],[100,36,101,36],[1,30,2,30],[1,34,2,34],[1,36,2,36],[1,39,1,54],[1,76,1,79],[1,81,1,84],[1,86,1,89],[1,91,1,94],[0,19,0,28],[0,30,0,32],[1,31,2,31],[1,32,2,32],[1,56,1,71]]}
[null,null,null,null,null,null,null,null,null,null,null,null,null,null,null,null,null,null,null,"Conflicting Traffic Complexity",null,null,null,null,null,null,null,null,null,null,"Pedestrian Complexity",null,null,null,null,null,null,null,null,null,null,null,null,null,null,null,null,null,null,null,null,null,null,null,null,null,null,null,null,null,null,null,null,null,null,null,null,null,null,null,null,null,null,null,null,"*impact of median on complexity factors"]
[null,null,null,null,null,null,null,null,null,"Exposure",null,null,null,"Severity",null,null,null,null,null,"Traffic Control",null,"Conflicting Lanes",null,null,null,null,null,"Conflicting Speed",null,null,"Indirect Paths Indicator","Non-intuitive movements indicator","Pedestrian Complexity factor",null,"Total Complexity Multiplier",null,"Exposure-Severity-Complexity Product",null,null,"Included in Mvmt1",null,null,null,null,null,null,null,null,null,null,null,null,null,null,null,null,"Included in Mvmt2",null,null,null,null,null,null,null,null,null,null,null,null,null,null,null,null,null,null,null,"Major:No, Minor: No",null,null,null,null,"Major:Yes, Minor: No",null,null,null,null,"Major:No, Minor: Yes",null,null,null,null,"Major:Yes, Minor: Yes"]
["#","Conflict Type","Mvmt1","Mvmt1_gen","Mvmt1_SpeedCat","Mvmt2","Mvmt2_gen","Mvmt2_SpeedCat",null,"Q1","Q2","I",null,"Speed_V1","Speed_V2","Angle","delta_V","P_FSI",null,null,null,"MajC","MinC","MajM/P","MinM/P","Score",null,"Speed","Factor",null,null,null,null,null,null,null,null,null,null,"MajT1","MajL1","MajR1","MajT2","MajL2","MajR2","MinT1","MinL1","MinR1","MinT2","MinL2","MinR2","MajNM1","MajNM2","MinNM1","MinNM2",null,"MajT1","MajL1","MajR1","MajT2","MajL2","MajR2","MinT1","MinL1","MinR1","MinT2","MinL2","MinR2","MajNM1","MajNM2","MinNM1","MinNM2",null,null,"#","Conflict Type","MajC","MinC","MajM/P","MinM/P",null,"MajC","MinC","MajM/P","MinM/P",null,"MajC","MinC","MajM/P","MinM/P",null,"MajC","MinC","MajM/P","MinM/P"]
[1,"Crossing","NBT","MinT1","Signal near","EBT","MajT1","Major thru",null,{"$f":"SUMPRODUCT($AN4:$BC4,$AN$60:$BC$60)","v":1785.7142857142856},{"$f":"SUMPRODUCT($BE4:$BT4,$BE$60:$BT$60)","v":6543.9560439560446},{"$f":"PRODUCT(J4:K4)","v":11685635.79277865},null,{"$f":"VLOOKUP(E4,'SSI Inputs'!$B$49:$F$62,5,FALSE)","v":15},{"$f":"VLOOKUP(H4,'SSI Inputs'!$B$49:$F$62,5,FALSE)","v":45},{"$f":"IF(B4=\"Nonmotorized\",\"\",VLOOKUP(B4,'SSI Inputs'!$B$65:$F$69,5,FALSE))","v":90},{"$f":"IF(B4=\"Nonmotorized\",\"\",SQRT(N4^2+O4^2-2*N4*O4*COS(RADIANS(P4)))/2)","v":23.717082451262844},{"$f":"IF(B4=\"Nonmotorized\",1/(1+EXP(3.8432-0.1237*O4)),(Q4/'SSI Inputs'!$F$72)^'SSI Inputs'!$F$73+(Q4/'SSI Inputs'!$F$72)^'SSI Inputs'!$F$73-((Q4/'SSI Inputs'!$F$72)^'SSI Inputs'!$F$73)*((Q4/'SSI Inputs'!$F$72)^'SSI Inputs'!$F$73))","v":3.7884541771032863E-2},null,{"$f":"SSI_AGI_ProtFactor","v":0.505},null,{"$f":"IF(AND(SS_AGI_MajMedian=\"No\", SS_AGI_MinMedian=\"No\"),BY4,IF(AND(SS_AGI_MajMedian=\"Yes\",SS_AGI_MinMedian=\"No\"),CD4,IF(AND(SS_AGI_MajMedian=\"No\",SS_AGI_MinMedian=\"Yes\"),CI4,IF(AND(SS_AGI_MajMedian=\"Yes\",SS_AGI_MinMedian=\"Yes\"),CN4))))","v":2},{"$f":"IF(AND(SS_AGI_MajMedian=\"No\", SS_AGI_MinMedian=\"No\"),BZ4,IF(AND(SS_AGI_MajMedian=\"Yes\",SS_AGI_MinMedian=\"No\"),CE4,IF(AND(SS_AGI_MajMedian=\"No\",SS_AGI_MinMedian=\"Yes\"),CJ4,IF(AND(SS_AGI_MajMedian=\"Yes\",SS_AGI_MinMedian=\"Yes\"),CO4))))","v":0},{"$f":"IF(AND(SS_AGI_MajMedian=\"No\", SS_AGI_MinMedian=\"No\"),CA4,IF(AND(SS_AGI_MajMedian=\"Yes\",SS_AGI_MinMedian=\"No\"),CF4,IF(AND(SS_AGI_MajMedian=\"No\",SS_AGI_MinMedian=\"Yes\"),CK4,IF(AND(SS_AGI_MajMedian=\"Yes\",SS_AGI_MinMedian=\"Yes\"),CP4))))","v":0},{"$f":"IF(AND(SS_AGI_MajMedian=\"No\", SS_AGI_MinMedian=\"No\"),CB4,IF(AND(SS_AGI_MajMedian=\"Yes\",SS_AGI_MinMedian=\"No\"),CG4,IF(AND(SS_AGI_MajMedian=\"No\",SS_AGI_MinMedian=\"Yes\"),CL4,IF(AND(SS_AGI_MajMedian=\"Yes\",SS_AGI_MinMedian=\"Yes\"),CQ4))))","v":0},{"$f":"MAX(1,IF(B4<>\"Pedestrian\",V4*SSI_AGI_MajorThruLanes+W4*SSI_AGI_MinorThruLanes+X4*IF(SSI_AGI_MajorThruLanes=1,SSI_AGI_MergeWeightL1,IF(SSI_AGI_MajorThruLanes=2,SSI_AGI_MergeWeightL1+SSI_AGI_MergeWeightL2,SSI_AGI_MergeWeightL1+SSI_AGI_MergeWeightL2+SSI_AGI_MergeWeightL3*(SSI_AGI_MajorThruLanes-2)))+Y4*IF(SSI_AGI_MinorThruLanes=1,SSI_AGI_MergeWeightL1,IF(SSI_AGI_MinorThruLanes=2,SSI_AGI_MergeWeightL1+SSI_AGI_MergeWeightL2,SSI_AGI_MergeWeightL1+SSI_AGI_MergeWeightL2+SSI_AGI_MergeWeightL3*(SSI_AGI_MinorThruLanes-2))),V4*SSI_AGI_MajorThruLanes+W4*SSI_AGI_MinorThruLanes+X4*IF(SSI_AGI_MajorThruLanes=1,SSI_AGI_NM_MergeWeightL1,IF(SSI_AGI_MajorThruLanes=2,SSI_AGI_NM_MergeWeightL1+SSI_AGI_NM_MergeWeightL2,SSI_AGI_NM_MergeWeightL1+SSI_AGI_NM_MergeWeightL2+SSI_AGI_NM_MergeWeightL3*(SSI_AGI_MajorThruLanes-2)))+Y4*IF(SSI_AGI_MinorThruLanes=1,SSI_AGI_NM_MergeWeightL1,IF(SSI_AGI_MinorThruLanes=2,SSI_AGI_NM_MergeWeightL1+SSI_AGI_NM_MergeWeightL2,SSI_AGI_NM_MergeWeightL1+SSI_AGI_NM_MergeWeightL2+SSI_AGI_NM_MergeWeightL3*(SSI_AGI_MinorThruLanes-2)))))","v":4},null,{"$f":"IF(B4=\"Diverging\",\"\",'SSI Inputs'!$F$49)","v":45},{"$f":"IF(B4=\"Diverging\",1,1-((60-AB4)/60*0.1/0.15))","v":0.83333333333333326},null,null,null,{"$f":"IF(SSI_AGI_ConsiderNMComplexity=\"Yes\",1+AE4+AF4,1)","v":1},null,{"$f":"PRODUCT(Z4,T4,AC4,AG4)","v":1.6833333333333331},null,{"$f":"L4*R4*AI4","v":745220.01147620915},null,null,{"$f":"IF(ISNUMBER(SEARCH(AN$3,$D4)),1,\"\")","v":""},{"$f":"IF(ISNUMBER(SEARCH(AO$3,$D4)),1,\"\")","v":""},"","","","",1,"","","","","","","","","",null,{"$f":"IF(ISNUMBER(SEARCH(BE$3,$G4)),1,\"\")","v":1},{"$f":"IF(ISNUMBER(SEARCH(BF$3,$G4)),1,\"\")","v":""},"","","","","","","","","","","","","","",null,null,1,"Crossing",2,0,0,0,null,1,0,0,0,null,2,0,0,0,null,1,0,0,0]
[2,"Crossing - LT","NBT","MinT1","Signal near","SBL","MinL2","Signal far",null,{"$f":"SUMPRODUCT($AN5:$BC5,$AN$60:$BC$60)","v":1785.7142857142856},{"$f":"SUMPRODUCT($BE5:$BT5,$BE$60:$BT$60)","v":1071.4285714285713},{"$f":"PRODUCT(J5:K5)","v":1913265.3061224485},null,{"$f":"VLOOKUP(E5,'SSI Inputs'!$B$49:$F$62,5,FALSE)","v":15},{"$f":"VLOOKUP(H5,'SSI Inputs'!$B$49:$F$62,5,FALSE)","v":25},{"$f":"IF(B5=\"Nonmotorized\",\"\",VLOOKUP(B5,'SSI Inputs'!$B$65:$F$69,5,FALSE))","v":230},{"$f":"IF(B5=\"Nonmotorized\",\"\",SQRT(N5^2+O5^2-2*N5*O5*COS(RADIANS(P5)))/2)","v":18.248908921254063},{"$f":"IF(B5=\"Nonmotorized\",1/(1+EXP(3.8432-0.1237*O5)),(Q5/'SSI Inputs'!$F$72)^'SSI Inputs'!$F$73+(Q5/'SSI Inputs'!$F$72)^'SSI Inputs'!$F$73-((Q5/'SSI Inputs'!$F$72)^'SSI Inputs'!$F$73)*((Q5/'SSI Inputs'!$F$72)^'SSI Inputs'!$F$73))","v":1.4099039069818802E-2},null,{"$f":"IF(SSI_AGI_MinorLTPhase=\"Protected/permitted\",SSI_AGI_ProtPermFactor,IF(SSI_AGI_MinorLTPhase=\"Protected\",SSI_AGI_ProtFactor,SSI_AGI_PermFactor))","v":0.505},null,1,1,1,0,4.75,null,{"$f":"IF(B5=\"Diverging\",\"\",'SSI Inputs'!$F$49)","v":45},0.83333333333333326,null,null,null,1,null,1.9989583333333334,null,{"$f":"L5*R5*AI5","v":53922.305434833936},null,null,{"$f":"IF(ISNUMBER(SEARCH(AN$3,$D5)),1,\"\")","v":""},"","","","","",1,"","","","","","","","","",null,{"$f":"IF(ISNUMBER(SEARCH(BE$3,$G5)),1,\"\")","v":""},"","","","","","","","","",1,"","","","","",null,null,2,"Crossing - LT",1,1,1,0,null,1,1,0,0,null,0,1,1,0,null,0,1,0,0]
[3,"Crossing - LT","NBT","MinT1","Signal far","WBL","MajL2","Major left",null,1785.7142857142856,2068.6813186813188,3694073.7833594973,null,{"$f":"VLOOKUP(E6,'SSI Inputs'!$B$49:$F$62,5,FALSE)","v":25},{"$f":"VLOOKUP(H6,'SSI Inputs'!$B$49:$F$62,5,FALSE)","v":20},{"$f":"IF(B6=\"Nonmotorized\",\"\",VLOOKUP(B6,'SSI Inputs'!$B$65:$F$69,5,FALSE))","v":230},20.419277715473552,{"$f":"IF(B6=\"Nonmotorized\",1/(1+EXP(3.8432-0.1237*O6)),(Q6/'SSI Inputs'!$F$72)^'SSI Inputs'!$F$73+(Q6/'SSI Inputs'!$F$72)^'SSI Inputs'!$F$73-((Q6/'SSI Inputs'!$F$72)^'SSI Inputs'!$F$73)*((Q6/'SSI Inputs'!$F$72)^'SSI Inputs'!$F$73))","v":2.1555284139167314E-2},null,{"$f":"SSI_AGI_ProtFactor","v":0.505},null,2,0,0,0,4,null,{"$f":"IF(B6=\"Diverging\",\"\",'SSI Inputs'!$F$49)","v":45},0.83333333333333326,null,null,null,1,null,1.6833333333333331,null,134038.46355279398,null,null,"","","","","","",1,"","","","","","","","","",null,"","","","",1,"","","","","","","","","","","",null,null,3,"Crossing - LT",2,0,0,0,null,1,0,0,0,null,2,0,0,0,null,1,0,0,0]
[4,"Crossing","NBT","MinT1","Signal far","WBT","MajT2","Major Thru",null,1785.7142857142856,6502.7472527472528,11612048.665620092,null,{"$f":"VLOOKUP(E7,'SSI Inputs'!$B$49:$F$62,5,FALSE)","v":25},{"$f":"VLOOKUP(H7,'SSI Inputs'!$B$49:$F$62,5,FALSE)","v":45},{"$f":"IF(B7=\"Nonmotorized\",\"\",VLOOKUP(B7,'SSI Inputs'!$B$65:$F$69,5,FALSE))","v":90},25.739075352467502,{"$f":"IF(B7=\"Nonmotorized\",1/(1+EXP(3.8432-0.1237*O7)),(Q7/'SSI Inputs'!$F$72)^'SSI Inputs'!$F$73+(Q7/'SSI Inputs'!$F$72)^'SSI Inputs'!$F$73-((Q7/'SSI Inputs'!$F$72)^'SSI Inputs'!$F$73)*((Q7/'SSI Inputs'!$F$72)^'SSI Inputs'!$F$73))","v":5.1494149230103807E-2},null,{"$f":"SSI_AGI_ProtFactor","v":0.505},null,2,0,0,0,4,null,{"$f":"IF(B7=\"Diverging\",\"\",'SSI Inputs'!$F$49)","v":45},0.83333333333333326,null,null,null,1,null,1.6833333333333331,null,1006553.4875386923,null,null,"","","","","","",1,"","","","","","","","","",null,"","","",1,"","","","","","","","","","","","",null,null,4,"Crossing",2,0,0,0,null,1,0,0,0,null,2,0,0,0,null,1,0,0,0]
[5,"Crossing - LT","WBT","MajT2","Major thru","EBL","MajL1","Major left",null,6502.7472527472528,2068.6813186813188,13452111.761864509,null,{"$f":"VLOOKUP(E8,'SSI Inputs'!$B$49:$F$62,5,FALSE)","v":45},{"$f":"VLOOKUP(H8,'SSI Inputs'!$B$49:$F$62,5,FALSE)","v":20},{"$f":"IF(B8=\"Nonmotorized\",\"\",VLOOKUP(B8,'SSI Inputs'!$B$65:$F$69,5,FALSE))","v":230},29.924979939156898,{"$f":"IF(B8=\"Nonmotorized\",1/(1+EXP(3.8432-0.1237*O8)),(Q8/'SSI Inputs'!$F$72)^'SSI Inputs'!$F$73+(Q8/'SSI Inputs'!$F$72)^'SSI Inputs'!$F$73-((Q8/'SSI Inputs'!$F$72)^'SSI Inputs'!$F$73)*((Q8/'SSI Inputs'!$F$72)^'SSI Inputs'!$F$73))","v":9.0286582411373745E-2},null,{"$f":"IF(SSI_AGI_MajorLTPhase=\"Protected/permitted\",SSI_AGI_ProtPermFactor,IF(SSI_AGI_MajorLTPhase=\"Protected\",SSI_AGI_ProtFactor,SSI_AGI_PermFactor))","v":0.505},null,1,0,0,0,2,null,{"$f":"IF(B8=\"Diverging\",\"\",'SSI Inputs'!$F$49)","v":45},0.83333333333333326,null,null,null,1,null,0.84166666666666656,null,1022242.2076387798,null,null,"","","",1,"","","","","","","","","","","","",null,"",1,"","","","","","","","","","","","","","",null,null,5,"Crossing - LT",1,0,0,0,null,1,0,0,0,null,1,0,0,0,null,1,0,0,0]
[6,"Crossing - LT","WBT","MajT2","Major thru","SBL","MinL2","Signal near",null,6502.7472527472528,1071.4285714285713,6967229.1993720559,null,{"$f":"VLOOKUP(E9,'SSI Inputs'!$B$49:$F$62,5,FALSE)","v":45},{"$f":"VLOOKUP(H9,'SSI Inputs'!$B$49:$F$62,5,FALSE)","v":15},{"$f":"IF(B9=\"Nonmotorized\",\"\",VLOOKUP(B9,'SSI Inputs'!$B$65:$F$69,5,FALSE))","v":230},27.918467333813421,{"$f":"IF(B9=\"Nonmotorized\",1/(1+EXP(3.8432-0.1237*O9)),(Q9/'SSI Inputs'!$F$72)^'SSI Inputs'!$F$73+(Q9/'SSI Inputs'!$F$72)^'SSI Inputs'!$F$73-((Q9/'SSI Inputs'!$F$72)^'SSI Inputs'!$F$73)*((Q9/'SSI Inputs'!$F$72)^'SSI Inputs'!$F$73))","v":6.9762185672148203E-2},null,{"$f":"SSI_AGI_ProtFactor","v":0.505},null,1,1,1,0,4.75,null,{"$f":"IF(B9=\"Diverging\",\"\",'SSI Inputs'!$F$49)","v":45},0.83333333333333326,null,null,null,1,null,1.9989583333333334,null,971591.97286960855,null,null,"","","",1,"","","","","","","","","","","","",null,"","","","","","","","","","",1,"","","","","",null,null,6,"Crossing - LT",1,1,1,0,null,1,1,0,0,null,1,0,0,0,null,1,0,0,0]
[7,"Crossing","SBT","MinT2","Signal near","WBT","MajT2","Major thru",null,1857.1428571428571,6502.7472527472528,12076530.612244898,null,{"$f":"VLOOKUP(E10,'SSI Inputs'!$B$49:$F$62,5,FALSE)","v":15},{"$f":"VLOOKUP(H10,'SSI Inputs'!$B$49:$F$62,5,FALSE)","v":45},{"$f":"IF(B10=\"Nonmotorized\",\"\",VLOOKUP(B10,'SSI Inputs'!$B$65:$F$69,5,FALSE))","v":90},23.717082451262844,{"$f":"IF(B10=\"Nonmotorized\",1/(1+EXP(3.8432-0.1237*O10)),(Q10/'SSI Inputs'!$F$72)^'SSI Inputs'!$F$73+(Q10/'SSI Inputs'!$F$72)^'SSI Inputs'!$F$73-((Q10/'SSI Inputs'!$F$72)^'SSI Inputs'!$F$73)*((Q10/'SSI Inputs'!$F$72)^'SSI Inputs'!$F$73))","v":3.7884541771032863E-2},null,{"$f":"SSI_AGI_ProtFactor","v":0.505},null,2,0,0,0,4,null,{"$f":"IF(B10=\"Diverging\",\"\",'SSI Inputs'!$F$49)","v":45},0.83333333333333326,null,null,null,1,null,1.6833333333333331,null,770148.27785506065,null,null,"","","","","","","","","",1,"","","","","","",null,"","","",1,"","","","","","","","","","","","",null,null,7,"Crossing",2,0,0,0,null,1,0,0,0,null,2,0,0,0,null,1,0,0,0]
[8,"Crossing - LT","SBT","MinT2","Signal near","NBL","MinL1","Signal far",null,1857.1428571428571,1071.4285714285713,1989795.9183673467,null,{"$f":"VLOOKUP(E11,'SSI Inputs'!$B$49:$F$62,5,FALSE)","v":15},{"$f":"VLOOKUP(H11,'SSI Inputs'!$B$49:$F$62,5,FALSE)","v":25},{"$f":"IF(B11=\"Nonmotorized\",\"\",VLOOKUP(B11,'SSI Inputs'!$B$65:$F$69,5,FALSE))","v":230},18.248908921254063,{"$f":"IF(B11=\"Nonmotorized\",1/(1+EXP(3.8432-0.1237*O11)),(Q11/'SSI Inputs'!$F$72)^'SSI Inputs'!$F$73+(Q11/'SSI Inputs'!$F$72)^'SSI Inputs'!$F$73-((Q11/'SSI Inputs'!$F$72)^'SSI Inputs'!$F$73)*((Q11/'SSI Inputs'!$F$72)^'SSI Inputs'!$F$73))","v":1.4099039069818802E-2},null,{"$f":"IF(SSI_AGI_MinorLTPhase=\"Protected/permitted\",SSI_AGI_ProtPermFactor,IF(SSI_AGI_MinorLTPhase=\"Protected\",SSI_AGI_ProtFactor,SSI_AGI_PermFactor))","v":0.505},null,1,1,1,0,4.75,null,{"$f":"IF(B11=\"Diverging\",\"\",'SSI Inputs'!$F$49)","v":45},0.83333333333333326,null,null,null,1,null,1.9989583333333334,null,56079.197652227303,null,null,"","","","","","","","","",1,"","","","","","",null,"","","","","","","",1,"","","","","","","","",null,null,8,"Crossing - LT",1,1,1,0,null,1,1,0,0,null,0,1,1,0,null,0,1,0,0]
[9,"Crossing - LT","SBT","MinT2","Signal far","EBL","MajL1","Major left",null,1857.1428571428571,2068.6813186813188,3841836.7346938779,null,{"$f":"VLOOKUP(E12,'SSI Inputs'!$B$49:$F$62,5,FALSE)","v":25},{"$f":"VLOOKUP(H12,'SSI Inputs'!$B$49:$F$62,5,FALSE)","v":20},{"$f":"IF(B12=\"Nonmotorized\",\"\",VLOOKUP(B12,'SSI Inputs'!$B$65:$F$69,5,FALSE))","v":230},20.419277715473552,{"$f":"IF(B12=\"Nonmotorized\",1/(1+EXP(3.8432-0.1237*O12)),(Q12/'SSI Inputs'!$F$72)^'SSI Inputs'!$F$73+(Q12/'SSI Inputs'!$F$72)^'SSI Inputs'!$F$73-((Q12/'SSI Inputs'!$F$72)^'SSI Inputs'!$F$73)*((Q12/'SSI Inputs'!$F$72)^'SSI Inputs'!$F$73))","v":2.1555284139167314E-2},null,{"$f":"SSI_AGI_ProtFactor","v":0.505},null,2,0,0,0,4,null,{"$f":"IF(B12=\"Diverging\",\"\",'SSI Inputs'!$F$49)","v":45},0.83333333333333326,null,null,null,1,null,1.6833333333333331,null,139400.00209490577,null,null,"","","","","","","","","",1,"","","","","","",null,"",1,"","","","","","","","","","","","","","",null,null,9,"Crossing - LT",2,0,0,0,null,1,0,0,0,null,2,0,0,0,null,1,0,0,0]
[10,"Crossing","SBT","MinT2","Signal far","EBT","MajT1","Major thru",null,1857.1428571428571,6543.9560439560446,12153061.224489797,null,{"$f":"VLOOKUP(E13,'SSI Inputs'!$B$49:$F$62,5,FALSE)","v":25},{"$f":"VLOOKUP(H13,'SSI Inputs'!$B$49:$F$62,5,FALSE)","v":45},{"$f":"IF(B13=\"Nonmotorized\",\"\",VLOOKUP(B13,'SSI Inputs'!$B$65:$F$69,5,FALSE))","v":90},25.739075352467502,{"$f":"IF(B13=\"Nonmotorized\",1/(1+EXP(3.8432-0.1237*O13)),(Q13/'SSI Inputs'!$F$72)^'SSI Inputs'!$F$73+(Q13/'SSI Inputs'!$F$72)^'SSI Inputs'!$F$73-((Q13/'SSI Inputs'!$F$72)^'SSI Inputs'!$F$73)*((Q13/'SSI Inputs'!$F$72)^'SSI Inputs'!$F$73))","v":5.1494149230103807E-2},null,{"$f":"SSI_AGI_ProtFactor","v":0.505},null,2,0,0,0,4,null,{"$f":"IF(B13=\"Diverging\",\"\",'SSI Inputs'!$F$49)","v":45},0.83333333333333326,null,null,null,1,null,1.6833333333333331,null,1053449.4396323836,null,null,"","","","","","","","","",1,"","","","","","",null,1,"","","","","","","","","","","","","","","",null,null,10,"Crossing",2,0,0,0,null,1,0,0,0,null,2,0,0,0,null,1,0,0,0]
[11,"Crossing - LT","EBT","MajT1","Major thru","WBL","MajL2","Major left",null,6543.9560439560446,2068.6813186813188,13537359.618403576,null,{"$f":"VLOOKUP(E14,'SSI Inputs'!$B$49:$F$62,5,FALSE)","v":45},{"$f":"VLOOKUP(H14,'SSI Inputs'!$B$49:$F$62,5,FALSE)","v":20},{"$f":"IF(B14=\"Nonmotorized\",\"\",VLOOKUP(B14,'SSI Inputs'!$B$65:$F$69,5,FALSE))","v":230},29.924979939156898,{"$f":"IF(B14=\"Nonmotorized\",1/(1+EXP(3.8432-0.1237*O14)),(Q14/'SSI Inputs'!$F$72)^'SSI Inputs'!$F$73+(Q14/'SSI Inputs'!$F$72)^'SSI Inputs'!$F$73-((Q14/'SSI Inputs'!$F$72)^'SSI Inputs'!$F$73)*((Q14/'SSI Inputs'!$F$72)^'SSI Inputs'!$F$73))","v":9.0286582411373745E-2},null,{"$f":"IF(SSI_AGI_MajorLTPhase=\"Protected/permitted\",SSI_AGI_ProtPermFactor,IF(SSI_AGI_MajorLTPhase=\"Protected\",SSI_AGI_ProtFactor,SSI_AGI_PermFactor))","v":0.505},null,1,0,0,0,2,null,{"$f":"IF(B14=\"Diverging\",\"\",'SSI Inputs'!$F$49)","v":45},0.83333333333333326,null,null,null,1,null,0.84166666666666656,null,1028720.2951396594,null,null,1,"","","","","","","","","","","","","","","",null,"","","","",1,"","","","","","","","","","","",null,null,11,"Crossing - LT",1,0,0,0,null,1,0,0,0,null,1,0,0,0,null,1,0,0,0]
[12,"Crossing - LT","EBT","MajT1","Major thru","NBL","MinL1","Signal near",null,6543.9560439560446,1071.4285714285713,7011381.4756671898,null,{"$f":"VLOOKUP(E15,'SSI Inputs'!$B$49:$F$62,5,FALSE)","v":45},{"$f":"VLOOKUP(H15,'SSI Inputs'!$B$49:$F$62,5,FALSE)","v":15},{"$f":"IF(B15=\"Nonmotorized\",\"\",VLOOKUP(B15,'SSI Inputs'!$B$65:$F$69,5,FALSE))","v":230},27.918467333813421,{"$f":"IF(B15=\"Nonmotorized\",1/(1+EXP(3.8432-0.1237*O15)),(Q15/'SSI Inputs'!$F$72)^'SSI Inputs'!$F$73+(Q15/'SSI Inputs'!$F$72)^'SSI Inputs'!$F$73-((Q15/'SSI Inputs'!$F$72)^'SSI Inputs'!$F$73)*((Q15/'SSI Inputs'!$F$72)^'SSI Inputs'!$F$73))","v":6.9762185672148203E-2},null,{"$f":"SSI_AGI_ProtFactor","v":0.505},null,1,1,1,0,4.75,null,{"$f":"IF(B15=\"Diverging\",\"\",'SSI Inputs'!$F$49)","v":45},0.83333333333333326,null,null,null,1,null,1.9989583333333334,null,977749.08296383929,null,null,1,"","","","","","","","","","","","","","","",null,"","","","","","","",1,"","","","","","","","",null,null,12,"Crossing - LT",1,1,1,0,null,1,1,0,0,null,1,0,0,0,null,1,0,0,0]
[13,"Crossing - LT","NBL","MinL1","Signal near","WBL","MajL2","Major left",null,1071.4285714285713,2068.6813186813188,2216444.2700156984,null,{"$f":"VLOOKUP(E16,'SSI Inputs'!$B$49:$F$62,5,FALSE)","v":15},{"$f":"VLOOKUP(H16,'SSI Inputs'!$B$49:$F$62,5,FALSE)","v":20},{"$f":"IF(B16=\"Nonmotorized\",\"\",VLOOKUP(B16,'SSI Inputs'!$B$65:$F$69,5,FALSE))","v":230},15.895538413434787,{"$f":"IF(B16=\"Nonmotorized\",1/(1+EXP(3.8432-0.1237*O16)),(Q16/'SSI Inputs'!$F$72)^'SSI Inputs'!$F$73+(Q16/'SSI Inputs'!$F$72)^'SSI Inputs'!$F$73-((Q16/'SSI Inputs'!$F$72)^'SSI Inputs'!$F$73)*((Q16/'SSI Inputs'!$F$72)^'SSI Inputs'!$F$73))","v":8.3616736100371545E-3},null,0.505,null,1,1,1,0,4.75,null,{"$f":"IF(B16=\"Diverging\",\"\",'SSI Inputs'!$F$49)","v":45},0.83333333333333326,null,null,null,1,null,1.9989583333333334,null,37047.061721874255,null,null,"","","","","","","",1,"","","","","","","","",null,"","","","",1,"","","","","","","","","","","",null,null,13,"Crossing - LT",1,1,1,0,null,1,1,0,0,null,1,0,0,0,null,1,0,0,0]
[14,"Crossing - LT","NBL","MinL1","Signal far","EBL","MajL1","Major left",null,1071.4285714285713,2068.6813186813188,2216444.2700156984,null,{"$f":"VLOOKUP(E17,'SSI Inputs'!$B$49:$F$62,5,FALSE)","v":25},{"$f":"VLOOKUP(H17,'SSI Inputs'!$B$49:$F$62,5,FALSE)","v":20},{"$f":"IF(B17=\"Nonmotorized\",\"\",VLOOKUP(B17,'SSI Inputs'!$B$65:$F$69,5,FALSE))","v":230},20.419277715473552,{"$f":"IF(B17=\"Nonmotorized\",1/(1+EXP(3.8432-0.1237*O17)),(Q17/'SSI Inputs'!$F$72)^'SSI Inputs'!$F$73+(Q17/'SSI Inputs'!$F$72)^'SSI Inputs'!$F$73-((Q17/'SSI Inputs'!$F$72)^'SSI Inputs'!$F$73)*((Q17/'SSI Inputs'!$F$72)^'SSI Inputs'!$F$73))","v":2.1555284139167314E-2},null,0.505,null,1,1,1,0,4.75,null,{"$f":"IF(B17=\"Diverging\",\"\",'SSI Inputs'!$F$49)","v":45},0.83333333333333326,null,null,null,1,null,1.9989583333333334,null,95502.405281365718,null,null,"","","","","","","",1,"","","","","","","","",null,"",1,"","","","","","","","","","","","","","",null,null,14,"Crossing - LT",1,1,1,0,null,1,1,0,0,null,1,0,0,0,null,1,0,0,0]
[15,"Crossing - LT","SBL","MinL2","Signal near","EBL","MajL1","Major left",null,1071.4285714285713,2068.6813186813188,2216444.2700156984,null,{"$f":"VLOOKUP(E18,'SSI Inputs'!$B$49:$F$62,5,FALSE)","v":15},{"$f":"VLOOKUP(H18,'SSI Inputs'!$B$49:$F$62,5,FALSE)","v":20},{"$f":"IF(B18=\"Nonmotorized\",\"\",VLOOKUP(B18,'SSI Inputs'!$B$65:$F$69,5,FALSE))","v":230},15.895538413434787,{"$f":"IF(B18=\"Nonmotorized\",1/(1+EXP(3.8432-0.1237*O18)),(Q18/'SSI Inputs'!$F$72)^'SSI Inputs'!$F$73+(Q18/'SSI Inputs'!$F$72)^'SSI Inputs'!$F$73-((Q18/'SSI Inputs'!$F$72)^'SSI Inputs'!$F$73)*((Q18/'SSI Inputs'!$F$72)^'SSI Inputs'!$F$73))","v":8.3616736100371545E-3},null,0.505,null,1,1,1,0,4.75,null,{"$f":"IF(B18=\"Diverging\",\"\",'SSI Inputs'!$F$49)","v":45},0.83333333333333326,null,null,null,1,null,1.9989583333333334,null,37047.061721874255,null,null,"","","","","","","","","","",1,"","","","","",null,"",1,"","","","","","","","","","","","","","",null,null,15,"Crossing - LT",1,1,1,0,null,1,1,0,0,null,1,0,0,0,null,1,0,0,0]
[16,"Crossing - LT","SBL","MinL2","Signal far","WBL","MajL2","Major left",null,1071.4285714285713,2068.6813186813188,2216444.2700156984,null,{"$f":"VLOOKUP(E19,'SSI Inputs'!$B$49:$F$62,5,FALSE)","v":25},{"$f":"VLOOKUP(H19,'SSI Inputs'!$B$49:$F$62,5,FALSE)","v":20},{"$f":"IF(B19=\"Nonmotorized\",\"\",VLOOKUP(B19,'SSI Inputs'!$B$65:$F$69,5,FALSE))","v":230},20.419277715473552,{"$f":"IF(B19=\"Nonmotorized\",1/(1+EXP(3.8432-0.1237*O19)),(Q19/'SSI Inputs'!$F$72)^'SSI Inputs'!$F$73+(Q19/'SSI Inputs'!$F$72)^'SSI Inputs'!$F$73-((Q19/'SSI Inputs'!$F$72)^'SSI Inputs'!$F$73)*((Q19/'SSI Inputs'!$F$72)^'SSI Inputs'!$F$73))","v":2.1555284139167314E-2},null,0.505,null,1,1,1,0,4.75,null,{"$f":"IF(B19=\"Diverging\",\"\",'SSI Inputs'!$F$49)","v":45},0.83333333333333326,null,null,null,1,null,1.9989583333333334,null,95502.405281365718,null,null,"","","","","","","","","","",1,"","","","","",null,"","","","",1,"","","","","","","","","","","",null,null,16,"Crossing - LT",1,1,1,0,null,1,1,0,0,null,1,0,0,0,null,1,0,0,0]
[17,"Merging","EBT","MajT1","Major thru","SBL","MinL2","Signal far",null,6543.9560439560446,1071.4285714285713,7011381.4756671898,null,{"$f":"VLOOKUP(E20,'SSI Inputs'!$B$49:$F$62,5,FALSE)","v":45},{"$f":"VLOOKUP(H20,'SSI Inputs'!$B$49:$F$62,5,FALSE)","v":25},{"$f":"IF(B20=\"Nonmotorized\",\"\",VLOOKUP(B20,'SSI Inputs'!$B$65:$F$69,5,FALSE))","v":45},16.271214938736659,{"$f":"IF(B20=\"Nonmotorized\",1/(1+EXP(3.8432-0.1237*O20)),(Q20/'SSI Inputs'!$F$72)^'SSI Inputs'!$F$73+(Q20/'SSI Inputs'!$F$72)^'SSI Inputs'!$F$73-((Q20/'SSI Inputs'!$F$72)^'SSI Inputs'!$F$73)*((Q20/'SSI Inputs'!$F$72)^'SSI Inputs'!$F$73))","v":9.1348815406664795E-3},null,0.505,null,1,1,1,0,4.75,null,{"$f":"IF(B20=\"Diverging\",\"\",'SSI Inputs'!$F$49)","v":45},0.83333333333333326,null,null,null,1,null,1.9989583333333334,null,128029.56162160222,null,null,1,"","","","","","","","","","","","","","","",null,"","","","","","","","","","",1,"","","","","",null,null,17,"Merging",1,1,1,0,null,0,0,1,0,null,0,1,1,0,null,0,0,1,0]
[18,"Merging","EBT","MajT1","Major thru","NBR","MinR1","Signal near",null,{"$f":"SUMPRODUCT($AN21:$BC21,$AN$60:$BC$60)","v":6543.9560439560446},1142.8571428571429,7478806.9073783373,null,{"$f":"VLOOKUP(E21,'SSI Inputs'!$B$49:$F$62,5,FALSE)","v":45},{"$f":"VLOOKUP(H21,'SSI Inputs'!$B$49:$F$62,5,FALSE)","v":15},{"$f":"IF(B21=\"Nonmotorized\",\"\",VLOOKUP(B21,'SSI Inputs'!$B$65:$F$69,5,FALSE))","v":45},17.995873453365363,{"$f":"IF(B21=\"Nonmotorized\",1/(1+EXP(3.8432-0.1237*O21)),(Q21/'SSI Inputs'!$F$72)^'SSI Inputs'!$F$73+(Q21/'SSI Inputs'!$F$72)^'SSI Inputs'!$F$73-((Q21/'SSI Inputs'!$F$72)^'SSI Inputs'!$F$73)*((Q21/'SSI Inputs'!$F$72)^'SSI Inputs'!$F$73))","v":1.3373938286506865E-2},null,0.505,null,0,0,1,0,1.75,null,{"$f":"IF(B21=\"Diverging\",\"\",'SSI Inputs'!$F$49)","v":45},0.83333333333333326,null,null,null,1,null,0.73645833333333333,null,73661.374103580471,null,null,1,"","","","","","","","","","","","","","","",null,"","","","","","","","",1,"","","","","","","",null,null,18,"Merging",0,0,1,0,null,0,0,1,0,null,0,0,1,0,null,0,0,1,0]
[19,"Merging","NBT","MinT1","Signal far","EBL","MajL1","Major left",null,1785.7142857142856,2068.6813186813188,3694073.7833594973,null,{"$f":"VLOOKUP(E22,'SSI Inputs'!$B$49:$F$62,5,FALSE)","v":25},{"$f":"VLOOKUP(H22,'SSI Inputs'!$B$49:$F$62,5,FALSE)","v":20},{"$f":"IF(B22=\"Nonmotorized\",\"\",VLOOKUP(B22,'SSI Inputs'!$B$65:$F$69,5,FALSE))","v":45},8.9147801264732891,{"$f":"IF(B22=\"Nonmotorized\",1/(1+EXP(3.8432-0.1237*O22)),(Q22/'SSI Inputs'!$F$72)^'SSI Inputs'!$F$73+(Q22/'SSI Inputs'!$F$72)^'SSI Inputs'!$F$73-((Q22/'SSI Inputs'!$F$72)^'SSI Inputs'!$F$73)*((Q22/'SSI Inputs'!$F$72)^'SSI Inputs'!$F$73))","v":9.333798723087925E-4},null,0.505,null,2,0,0,0,4,null,{"$f":"IF(B22=\"Diverging\",\"\",'SSI Inputs'!$F$49)","v":45},0.83333333333333326,null,null,null,1,null,1.6833333333333331,null,5804.089762289098,null,null,"","","","","","",1,"","","","","","","","","",null,"",1,"","","","","","","","","","","","","","",null,null,19,"Merging",2,0,0,0,null,1,0,0,0,null,2,0,0,0,null,1,0,0,0]
[20,"Merging","NBT","MinT1","Signal far","WBR","MajR2","Major right",null,1785.7142857142856,428.57142857142856,765306.12244897953,null,{"$f":"VLOOKUP(E23,'SSI Inputs'!$B$49:$F$62,5,FALSE)","v":25},{"$f":"VLOOKUP(H23,'SSI Inputs'!$B$49:$F$62,5,FALSE)","v":15},{"$f":"IF(B23=\"Nonmotorized\",\"\",VLOOKUP(B23,'SSI Inputs'!$B$65:$F$69,5,FALSE))","v":45},8.9396576292116645,{"$f":"IF(B23=\"Nonmotorized\",1/(1+EXP(3.8432-0.1237*O23)),(Q23/'SSI Inputs'!$F$72)^'SSI Inputs'!$F$73+(Q23/'SSI Inputs'!$F$72)^'SSI Inputs'!$F$73-((Q23/'SSI Inputs'!$F$72)^'SSI Inputs'!$F$73)*((Q23/'SSI Inputs'!$F$72)^'SSI Inputs'!$F$73))","v":9.4329959592674944E-4},null,0.505,null,2,0,0,0,4,null,{"$f":"IF(B23=\"Diverging\",\"\",'SSI Inputs'!$F$49)","v":45},0.83333333333333326,null,null,null,1,null,1.6833333333333331,null,1215.2201427117561,null,null,"","","","","","",1,"","","","","","","","","",null,"","","","","",1,"","","","","","","","","","",null,null,20,"Merging",2,0,0,0,null,1,0,0,0,null,2,0,0,0,null,1,0,0,0]
[21,"Merging","WBT","MajT2","Major thru","NBL","MinL1","Signal far",null,6502.7472527472528,1071.4285714285713,6967229.1993720559,null,{"$f":"VLOOKUP(E24,'SSI Inputs'!$B$49:$F$62,5,FALSE)","v":45},{"$f":"VLOOKUP(H24,'SSI Inputs'!$B$49:$F$62,5,FALSE)","v":25},{"$f":"IF(B24=\"Nonmotorized\",\"\",VLOOKUP(B24,'SSI Inputs'!$B$65:$F$69,5,FALSE))","v":45},16.271214938736659,{"$f":"IF(B24=\"Nonmotorized\",1/(1+EXP(3.8432-0.1237*O24)),(Q24/'SSI Inputs'!$F$72)^'SSI Inputs'!$F$73+(Q24/'SSI Inputs'!$F$72)^'SSI Inputs'!$F$73-((Q24/'SSI Inputs'!$F$72)^'SSI Inputs'!$F$73)*((Q24/'SSI Inputs'!$F$72)^'SSI Inputs'!$F$73))","v":9.1348815406664795E-3},null,0.505,null,1,1,1,0,4.75,null,{"$f":"IF(B24=\"Diverging\",\"\",'SSI Inputs'!$F$49)","v":45},0.83333333333333326,null,null,null,1,null,1.9989583333333334,null,127223.33012524452,null,null,"","","",1,"","","","","","","","","","","","",null,"","","","","","","",1,"","","","","","","","",null,null,21,"Merging",1,1,1,0,null,0,0,1,0,null,0,1,1,0,null,0,0,1,0]
[22,"Merging","WBT","MajT2","Major thru","SBR","MinR2","Signal near",null,6502.7472527472528,1071.4285714285713,6967229.1993720559,null,{"$f":"VLOOKUP(E25,'SSI Inputs'!$B$49:$F$62,5,FALSE)","v":45},{"$f":"VLOOKUP(H25,'SSI Inputs'!$B$49:$F$62,5,FALSE)","v":15},{"$f":"IF(B25=\"Nonmotorized\",\"\",VLOOKUP(B25,'SSI Inputs'!$B$65:$F$69,5,FALSE))","v":45},17.995873453365363,{"$f":"IF(B25=\"Nonmotorized\",1/(1+EXP(3.8432-0.1237*O25)),(Q25/'SSI Inputs'!$F$72)^'SSI Inputs'!$F$73+(Q25/'SSI Inputs'!$F$72)^'SSI Inputs'!$F$73-((Q25/'SSI Inputs'!$F$72)^'SSI Inputs'!$F$73)*((Q25/'SSI Inputs'!$F$72)^'SSI Inputs'!$F$73))","v":1.3373938286506865E-2},null,0.505,null,0,0,1,0,1.75,null,{"$f":"IF(B25=\"Diverging\",\"\",'SSI Inputs'!$F$49)","v":45},0.83333333333333326,null,null,null,1,null,0.73645833333333333,null,{"$f":"L25*R25*AI25","v":68622.667074612313},null,null,"","","",1,"","","","","","","","","","","","",null,"","","","","","","","","","","",1,"","","","",null,null,22,"Merging",0,0,1,0,null,0,0,1,0,null,0,0,1,0,null,0,0,1,0]
[23,"Merging","SBT","MinT2","Signal far","WBL","MajL2","Major left",null,1857.1428571428571,2068.6813186813188,3841836.7346938779,null,{"$f":"VLOOKUP(E26,'SSI Inputs'!$B$49:$F$62,5,FALSE)","v":25},{"$f":"VLOOKUP(H26,'SSI Inputs'!$B$49:$F$62,5,FALSE)","v":20},{"$f":"IF(B26=\"Nonmotorized\",\"\",VLOOKUP(B26,'SSI Inputs'!$B$65:$F$69,5,FALSE))","v":45},8.9147801264732891,{"$f":"IF(B26=\"Nonmotorized\",1/(1+EXP(3.8432-0.1237*O26)),(Q26/'SSI Inputs'!$F$72)^'SSI Inputs'!$F$73+(Q26/'SSI Inputs'!$F$72)^'SSI Inputs'!$F$73-((Q26/'SSI Inputs'!$F$72)^'SSI Inputs'!$F$73)*((Q26/'SSI Inputs'!$F$72)^'SSI Inputs'!$F$73))","v":9.333798723087925E-4},null,0.505,null,2,0,0,0,4,null,{"$f":"IF(B26=\"Diverging\",\"\",'SSI Inputs'!$F$49)","v":45},0.83333333333333326,null,null,null,1,null,1.6833333333333331,null,6036.2533527806627,null,null,"","","","","","","","","",1,"","","","","","",null,"","","","",1,"","","","","","","","","","","",null,null,23,"Merging",2,0,0,0,null,1,0,0,0,null,2,0,0,0,null,1,0,0,0]
[24,"Merging","SBT","MinT2","Signal far","EBR","MajR1","Major right",null,1857.1428571428571,387.36263736263737,719387.75510204083,null,{"$f":"VLOOKUP(E27,'SSI Inputs'!$B$49:$F$62,5,FALSE)","v":25},{"$f":"VLOOKUP(H27,'SSI Inputs'!$B$49:$F$62,5,FALSE)","v":15},{"$f":"IF(B27=\"Nonmotorized\",\"\",VLOOKUP(B27,'SSI Inputs'!$B$65:$F$69,5,FALSE))","v":45},8.9396576292116645,{"$f":"IF(B27=\"Nonmotorized\",1/(1+EXP(3.8432-0.1237*O27)),(Q27/'SSI Inputs'!$F$72)^'SSI Inputs'!$F$73+(Q27/'SSI Inputs'!$F$72)^'SSI Inputs'!$F$73-((Q27/'SSI Inputs'!$F$72)^'SSI Inputs'!$F$73)*((Q27/'SSI Inputs'!$F$72)^'SSI Inputs'!$F$73))","v":9.4329959592674944E-4},null,0.505,null,2,0,0,0,4,null,{"$f":"IF(B27=\"Diverging\",\"\",'SSI Inputs'!$F$49)","v":45},0.83333333333333326,null,null,null,1,null,1.6833333333333331,null,1142.3069341490507,null,null,"","","","","","","","","",1,"","","","","","",null,"","",1,"","","","","","","","","","","","","",null,null,24,"Merging",2,0,0,0,null,1,0,0,0,null,2,0,0,0,null,1,0,0,0]
[25,"Diverging","NBT","MinT1","Signal near","NBL","MinL1","Signal near",null,1785.7142857142856,1071.4285714285713,1913265.3061224485,null,{"$f":"VLOOKUP(E28,'SSI Inputs'!$B$49:$F$62,5,FALSE)","v":15},{"$f":"VLOOKUP(H28,'SSI Inputs'!$B$49:$F$62,5,FALSE)","v":15},{"$f":"IF(B28=\"Nonmotorized\",\"\",VLOOKUP(B28,'SSI Inputs'!$B$65:$F$69,5,FALSE))","v":10},1.3073361412148754,{"$f":"IF(B28=\"Nonmotorized\",1/(1+EXP(3.8432-0.1237*O28)),(Q28/'SSI Inputs'!$F$72)^'SSI Inputs'!$F$73+(Q28/'SSI Inputs'!$F$72)^'SSI Inputs'!$F$73-((Q28/'SSI Inputs'!$F$72)^'SSI Inputs'!$F$73)*((Q28/'SSI Inputs'!$F$72)^'SSI Inputs'!$F$73))","v":6.4061388075216071E-7},null,{"$f":"SSI_AGI_PermFactor","v":1},null,0,0,0,0,1,null,{"$f":"IF(B28=\"Diverging\",\"\",'SSI Inputs'!$F$49)","v":""},1,null,null,null,1,null,1,null,1.2256643126635725,null,null,"","","","","","",1,"","","","","","","","","",null,"","","","","","","",1,"","","","","","","","",null,null,25,"Diverging",0,0,0,0,null,0,0,0,0,null,0,0,0,0,null,0,0,0,0]
[26,"Diverging","NBT","MinT1","Signal near","NBR","MinR1","Signal near",null,1785.7142857142856,1142.8571428571429,2040816.3265306121,null,{"$f":"VLOOKUP(E29,'SSI Inputs'!$B$49:$F$62,5,FALSE)","v":15},{"$f":"VLOOKUP(H29,'SSI Inputs'!$B$49:$F$62,5,FALSE)","v":15},{"$f":"IF(B29=\"Nonmotorized\",\"\",VLOOKUP(B29,'SSI Inputs'!$B$65:$F$69,5,FALSE))","v":10},1.3073361412148754,{"$f":"IF(B29=\"Nonmotorized\",1/(1+EXP(3.8432-0.1237*O29)),(Q29/'SSI Inputs'!$F$72)^'SSI Inputs'!$F$73+(Q29/'SSI Inputs'!$F$72)^'SSI Inputs'!$F$73-((Q29/'SSI Inputs'!$F$72)^'SSI Inputs'!$F$73)*((Q29/'SSI Inputs'!$F$72)^'SSI Inputs'!$F$73))","v":6.4061388075216071E-7},null,1,null,0,0,0,0,1,null,{"$f":"IF(B29=\"Diverging\",\"\",'SSI Inputs'!$F$49)","v":""},1,null,null,null,1,null,1,null,1.3073752668411442,null,null,"","","","","","",1,"","","","","","","","","",null,"","","","","","","","",1,"","","","","","","",null,null,26,"Diverging",0,0,0,0,null,0,0,0,0,null,0,0,0,0,null,0,0,0,0]
[27,"Diverging","WBT","MajT2","Major thru","WBR","MajR2","Major right",null,6502.7472527472528,428.57142857142856,2786891.6797488225,null,{"$f":"VLOOKUP(E30,'SSI Inputs'!$B$49:$F$62,5,FALSE)","v":45},{"$f":"VLOOKUP(H30,'SSI Inputs'!$B$49:$F$62,5,FALSE)","v":15},{"$f":"IF(B30=\"Nonmotorized\",\"\",VLOOKUP(B30,'SSI Inputs'!$B$65:$F$69,5,FALSE))","v":10},15.169950011729762,{"$f":"IF(B30=\"Nonmotorized\",1/(1+EXP(3.8432-0.1237*O30)),(Q30/'SSI Inputs'!$F$72)^'SSI Inputs'!$F$73+(Q30/'SSI Inputs'!$F$72)^'SSI Inputs'!$F$73-((Q30/'SSI Inputs'!$F$72)^'SSI Inputs'!$F$73)*((Q30/'SSI Inputs'!$F$72)^'SSI Inputs'!$F$73))","v":7.0056226631585675E-3},null,1,null,0,0,0,0,1,null,{"$f":"IF(B30=\"Diverging\",\"\",'SSI Inputs'!$F$49)","v":""},1,null,null,null,1,null,1,null,19523.911511416398,null,null,"","","",1,"","","","","","","","","","","","",null,"","","","","",1,"","","","","","","","","","",null,null,27,"Diverging",0,0,0,0,null,0,0,0,0,null,0,0,0,0,null,0,0,0,0]
[28,"Diverging","WBT","MajT2","Major thru","WBL","MajL2","Major left",null,6502.7472527472528,2068.6813186813188,13452111.761864509,null,{"$f":"VLOOKUP(E31,'SSI Inputs'!$B$49:$F$62,5,FALSE)","v":45},{"$f":"VLOOKUP(H31,'SSI Inputs'!$B$49:$F$62,5,FALSE)","v":20},{"$f":"IF(B31=\"Nonmotorized\",\"\",VLOOKUP(B31,'SSI Inputs'!$B$65:$F$69,5,FALSE))","v":10},12.77053292327718,{"$f":"IF(B31=\"Nonmotorized\",1/(1+EXP(3.8432-0.1237*O31)),(Q31/'SSI Inputs'!$F$72)^'SSI Inputs'!$F$73+(Q31/'SSI Inputs'!$F$72)^'SSI Inputs'!$F$73-((Q31/'SSI Inputs'!$F$72)^'SSI Inputs'!$F$73)*((Q31/'SSI Inputs'!$F$72)^'SSI Inputs'!$F$73))","v":3.6481988362114144E-3},null,1,null,0,0,0,0,1,null,{"$f":"IF(B31=\"Diverging\",\"\",'SSI Inputs'!$F$49)","v":""},1,null,null,null,1,null,1,null,49075.978474219984,null,null,"","","",1,"","","","","","","","","","","","",null,"","","","",1,"","","","","","","","","","","",null,null,28,"Diverging",0,0,0,0,null,0,0,0,0,null,0,0,0,0,null,0,0,0,0]
[29,"Diverging","SBT","MinT2","Signal near","SBL","MinL2","Signal near",null,1857.1428571428571,1071.4285714285713,1989795.9183673467,null,{"$f":"VLOOKUP(E32,'SSI Inputs'!$B$49:$F$62,5,FALSE)","v":15},{"$f":"VLOOKUP(H32,'SSI Inputs'!$B$49:$F$62,5,FALSE)","v":15},{"$f":"IF(B32=\"Nonmotorized\",\"\",VLOOKUP(B32,'SSI Inputs'!$B$65:$F$69,5,FALSE))","v":10},1.3073361412148754,{"$f":"IF(B32=\"Nonmotorized\",1/(1+EXP(3.8432-0.1237*O32)),(Q32/'SSI Inputs'!$F$72)^'SSI Inputs'!$F$73+(Q32/'SSI Inputs'!$F$72)^'SSI Inputs'!$F$73-((Q32/'SSI Inputs'!$F$72)^'SSI Inputs'!$F$73)*((Q32/'SSI Inputs'!$F$72)^'SSI Inputs'!$F$73))","v":6.4061388075216071E-7},null,1,null,0,0,0,0,1,null,{"$f":"IF(B32=\"Diverging\",\"\",'SSI Inputs'!$F$49)","v":""},1,null,null,null,1,null,1,null,1.2746908851701155,null,null,"","","","","","","","","",1,"","","","","","",null,"","","","","","","","","","",1,"","","","","",null,null,29,"Diverging",0,0,0,0,null,0,0,0,0,null,0,0,0,0,null,0,0,0,0]
[30,"Diverging","SBT","MinT2","Signal near","SBR","MinR2","Signal near",null,1857.1428571428571,1071.4285714285713,1989795.9183673467,null,{"$f":"VLOOKUP(E33,'SSI Inputs'!$B$49:$F$62,5,FALSE)","v":15},{"$f":"VLOOKUP(H33,'SSI Inputs'!$B$49:$F$62,5,FALSE)","v":15},{"$f":"IF(B33=\"Nonmotorized\",\"\",VLOOKUP(B33,'SSI Inputs'!$B$65:$F$69,5,FALSE))","v":10},1.3073361412148754,{"$f":"IF(B33=\"Nonmotorized\",1/(1+EXP(3.8432-0.1237*O33)),(Q33/'SSI Inputs'!$F$72)^'SSI Inputs'!$F$73+(Q33/'SSI Inputs'!$F$72)^'SSI Inputs'!$F$73-((Q33/'SSI Inputs'!$F$72)^'SSI Inputs'!$F$73)*((Q33/'SSI Inputs'!$F$72)^'SSI Inputs'!$F$73))","v":6.4061388075216071E-7},null,1,null,0,0,0,0,1,null,{"$f":"IF(B33=\"Diverging\",\"\",'SSI Inputs'!$F$49)","v":""},1,null,null,null,1,null,1,null,1.2746908851701155,null,null,"","","","","","","","","",1,"","","","","","",null,"","","","","","","","","","","",1,"","","","",null,null,30,"Diverging",0,0,0,0,null,0,0,0,0,null,0,0,0,0,null,0,0,0,0]
[31,"Diverging","EBT","MajT1","Major thru","EBR","MajR1","Major right",null,6543.9560439560446,387.36263736263737,2534884.0719719846,null,{"$f":"VLOOKUP(E34,'SSI Inputs'!$B$49:$F$62,5,FALSE)","v":45},{"$f":"VLOOKUP(H34,'SSI Inputs'!$B$49:$F$62,5,FALSE)","v":15},{"$f":"IF(B34=\"Nonmotorized\",\"\",VLOOKUP(B34,'SSI Inputs'!$B$65:$F$69,5,FALSE))","v":10},15.169950011729762,{"$f":"IF(B34=\"Nonmotorized\",1/(1+EXP(3.8432-0.1237*O34)),(Q34/'SSI Inputs'!$F$72)^'SSI Inputs'!$F$73+(Q34/'SSI Inputs'!$F$72)^'SSI Inputs'!$F$73-((Q34/'SSI Inputs'!$F$72)^'SSI Inputs'!$F$73)*((Q34/'SSI Inputs'!$F$72)^'SSI Inputs'!$F$73))","v":7.0056226631585675E-3},null,1,null,0,0,0,0,1,null,{"$f":"IF(B34=\"Diverging\",\"\",'SSI Inputs'!$F$49)","v":""},1,null,null,null,1,null,1,null,17758.441303086609,null,null,1,"","","","","","","","","","","","","","","",null,"","",1,"","","","","","","","","","","","","",null,null,31,"Diverging",0,0,0,0,null,0,0,0,0,null,0,0,0,0,null,0,0,0,0]
[32,"Diverging","EBT","MajT1","Major thru","EBL","MajL1","Major left",null,6543.9560439560446,2068.6813186813188,13537359.618403576,null,{"$f":"VLOOKUP(E35,'SSI Inputs'!$B$49:$F$62,5,FALSE)","v":45},{"$f":"VLOOKUP(H35,'SSI Inputs'!$B$49:$F$62,5,FALSE)","v":20},{"$f":"IF(B35=\"Nonmotorized\",\"\",VLOOKUP(B35,'SSI Inputs'!$B$65:$F$69,5,FALSE))","v":10},12.77053292327718,{"$f":"IF(B35=\"Nonmotorized\",1/(1+EXP(3.8432-0.1237*O35)),(Q35/'SSI Inputs'!$F$72)^'SSI Inputs'!$F$73+(Q35/'SSI Inputs'!$F$72)^'SSI Inputs'!$F$73-((Q35/'SSI Inputs'!$F$72)^'SSI Inputs'!$F$73)*((Q35/'SSI Inputs'!$F$72)^'SSI Inputs'!$F$73))","v":3.6481988362114144E-3},null,1,null,0,0,0,0,1,null,{"$f":"IF(B35=\"Diverging\",\"\",'SSI Inputs'!$F$49)","v":""},1,null,null,null,1,null,1,null,49386.979605235327,null,null,{"$f":"IF(ISNUMBER(SEARCH(AN$3,$D35)),1,\"\")","v":1},"","","","","","","","","","","","","","","",null,{"$f":"IF(ISNUMBER(SEARCH(BE$3,$G35)),1,\"\")","v":""},1,"","","","","","","","","","","","","","",null,null,32,"Diverging",0,0,0,0,null,0,0,0,0,null,0,0,0,0,null,0,0,0,0]
[33,"Nonmotorized",null,"MajNM2","Nonmotorized",null,"MinR1","Signal near",null,175,1142.8571428571429,200000,null,{"$f":"VLOOKUP(E36,'SSI Inputs'!$B$49:$F$62,5,FALSE)","v":0},{"$f":"VLOOKUP(H36,'SSI Inputs'!$B$49:$F$62,5,FALSE)","v":15},{"$f":"IF(B36=\"Nonmotorized\",\"\",VLOOKUP(B36,'SSI Inputs'!$B$65:$F$69,5,FALSE))","v":""},{"$f":"IF(B36=\"Nonmotorized\",\"\",SQRT(N36^2+O36^2-2*N36*O36*COS(RADIANS(P36)))/2)","v":""},{"$f":"IF(B36=\"Nonmotorized\",1/(1+EXP(3.8432-0.1237*O36)),(Q36/'SSI Inputs'!$F$72)^'SSI Inputs'!$F$73+(Q36/'SSI Inputs'!$F$72)^'SSI Inputs'!$F$73-((Q36/'SSI Inputs'!$F$72)^'SSI Inputs'!$F$73)*((Q36/'SSI Inputs'!$F$72)^'SSI Inputs'!$F$73))","v":0.1205004039155782},null,{"$f":"SSI_AGI_ProtFactor","v":0.505},null,{"$f":"IF(AND(SS_AGI_MajMedian=\"No\", SS_AGI_MinMedian=\"No\"),BY36,IF(AND(SS_AGI_MajMedian=\"Yes\",SS_AGI_MinMedian=\"No\"),CD36,IF(AND(SS_AGI_MajMedian=\"No\",SS_AGI_MinMedian=\"Yes\"),CI36,IF(AND(SS_AGI_MajMedian=\"Yes\",SS_AGI_MinMedian=\"Yes\"),CN36))))","v":2},{"$f":"IF(AND(SS_AGI_MajMedian=\"No\", SS_AGI_MinMedian=\"No\"),BZ36,IF(AND(SS_AGI_MajMedian=\"Yes\",SS_AGI_MinMedian=\"No\"),CE36,IF(AND(SS_AGI_MajMedian=\"No\",SS_AGI_MinMedian=\"Yes\"),CJ36,IF(AND(SS_AGI_MajMedian=\"Yes\",SS_AGI_MinMedian=\"Yes\"),CO36))))","v":0},{"$f":"IF(AND(SS_AGI_MajMedian=\"No\", SS_AGI_MinMedian=\"No\"),CA36,IF(AND(SS_AGI_MajMedian=\"Yes\",SS_AGI_MinMedian=\"No\"),CF36,IF(AND(SS_AGI_MajMedian=\"No\",SS_AGI_MinMedian=\"Yes\"),CK36,IF(AND(SS_AGI_MajMedian=\"Yes\",SS_AGI_MinMedian=\"Yes\"),CP36))))","v":0},{"$f":"IF(AND(SS_AGI_MajMedian=\"No\", SS_AGI_MinMedian=\"No\"),CB36,IF(AND(SS_AGI_MajMedian=\"Yes\",SS_AGI_MinMedian=\"No\"),CG36,IF(AND(SS_AGI_MajMedian=\"No\",SS_AGI_MinMedian=\"Yes\"),CL36,IF(AND(SS_AGI_MajMedian=\"Yes\",SS_AGI_MinMedian=\"Yes\"),CQ36))))","v":2},{"$f":"MAX(1,IF(B36<>\"Pedestrian\",V36*SSI_AGI_MajorThruLanes+W36*SSI_AGI_MinorThruLanes+X36*IF(SSI_AGI_MajorThruLanes=1,SSI_AGI_MergeWeightL1,IF(SSI_AGI_MajorThruLanes=2,SSI_AGI_MergeWeightL1+SSI_AGI_MergeWeightL2,SSI_AGI_MergeWeightL1+SSI_AGI_MergeWeightL2+SSI_AGI_MergeWeightL3*(SSI_AGI_MajorThruLanes-2)))+Y36*IF(SSI_AGI_MinorThruLanes=1,SSI_AGI_MergeWeightL1,IF(SSI_AGI_MinorThruLanes=2,SSI_AGI_MergeWeightL1+SSI_AGI_MergeWeightL2,SSI_AGI_MergeWeightL1+SSI_AGI_MergeWeightL2+SSI_AGI_MergeWeightL3*(SSI_AGI_MinorThruLanes-2))),V36*SSI_AGI_MajorThruLanes+W36*SSI_AGI_MinorThruLanes+X36*IF(SSI_AGI_MajorThruLanes=1,SSI_AGI_NM_MergeWeightL1,IF(SSI_AGI_MajorThruLanes=2,SSI_AGI_NM_MergeWeightL1+SSI_AGI_NM_MergeWeightL2,SSI_AGI_NM_MergeWeightL1+SSI_AGI_NM_MergeWeightL2+SSI_AGI_NM_MergeWeightL3*(SSI_AGI_MajorThruLanes-2)))+Y36*IF(SSI_AGI_MinorThruLanes=1,SSI_AGI_NM_MergeWeightL1,IF(SSI_AGI_MinorThruLanes=2,SSI_AGI_NM_MergeWeightL1+SSI_AGI_NM_MergeWeightL2,SSI_AGI_NM_MergeWeightL1+SSI_AGI_NM_MergeWeightL2+SSI_AGI_NM_MergeWeightL3*(SSI_AGI_MinorThruLanes-2)))))","v":6},null,{"$f":"IF(B36=\"Diverging\",\"\",'SSI Inputs'!$F$49)","v":45},0.83333333333333326,null,null,null,{"$f":"IF(SSI_AGI_ConsiderNMComplexity=\"Yes\",1+AE36+AF36,1)","v":1},null,2.5249999999999999,null,60852.703977366997,null,null,"","","","","","","","","","","","","",1,"","",null,"","","","","","","","",1,"","","","","","","",null,null,33,"Nonmotorized",2,0,0,2,null,1,0,0,2,null,2,0,0,2,null,1,0,0,2]
[34,"Nonmotorized",null,"MajNM2","Nonmotorized",null,"MajT1","Major thru",null,175,6543.9560439560446,{"$f":"PRODUCT(J37:K37)","v":1145192.3076923077},null,{"$f":"VLOOKUP(E37,'SSI Inputs'!$B$49:$F$62,5,FALSE)","v":0},{"$f":"VLOOKUP(H37,'SSI Inputs'!$B$49:$F$62,5,FALSE)","v":45},{"$f":"IF(B37=\"Nonmotorized\",\"\",VLOOKUP(B37,'SSI Inputs'!$B$65:$F$69,5,FALSE))","v":""},"",{"$f":"IF(B37=\"Nonmotorized\",1/(1+EXP(3.8432-0.1237*O37)),(Q37/'SSI Inputs'!$F$72)^'SSI Inputs'!$F$73+(Q37/'SSI Inputs'!$F$72)^'SSI Inputs'!$F$73-((Q37/'SSI Inputs'!$F$72)^'SSI Inputs'!$F$73)*((Q37/'SSI Inputs'!$F$72)^'SSI Inputs'!$F$73))","v":0.84855340903216459},null,{"$f":"SSI_AGI_ProtFactor","v":0.505},null,2,0,0,2,6,null,{"$f":"IF(B37=\"Diverging\",\"\",'SSI Inputs'!$F$49)","v":45},0.83333333333333326,null,null,null,1,null,2.5249999999999999,null,2453686.0126415412,null,null,"","","","","","","","","","","","","",1,"","",null,1,"","","","","","","","","","","","","","","",null,null,34,"Nonmotorized",2,0,0,2,null,1,0,0,2,null,2,0,0,2,null,1,0,0,2]
[35,"Nonmotorized",null,"MajNM2","Nonmotorized",null,"MinL2","Signal far",null,175,1071.4285714285713,187499.99999999997,null,{"$f":"VLOOKUP(E38,'SSI Inputs'!$B$49:$F$62,5,FALSE)","v":0},{"$f":"VLOOKUP(H38,'SSI Inputs'!$B$49:$F$62,5,FALSE)","v":25},{"$f":"IF(B38=\"Nonmotorized\",\"\",VLOOKUP(B38,'SSI Inputs'!$B$65:$F$69,5,FALSE))","v":""},"",{"$f":"IF(B38=\"Nonmotorized\",1/(1+EXP(3.8432-0.1237*O38)),(Q38/'SSI Inputs'!$F$72)^'SSI Inputs'!$F$73+(Q38/'SSI Inputs'!$F$72)^'SSI Inputs'!$F$73-((Q38/'SSI Inputs'!$F$72)^'SSI Inputs'!$F$73)*((Q38/'SSI Inputs'!$F$72)^'SSI Inputs'!$F$73))","v":0.32066879346345062},null,{"$f":"IF(SSI_AGI_MinorLTPhase=\"Protected/permitted\",SSI_AGI_ProtPermFactor,IF(SSI_AGI_MinorLTPhase=\"Protected\",SSI_AGI_ProtFactor,SSI_AGI_PermFactor))","v":0.505},null,2,0,0,2,6,null,{"$f":"IF(B38=\"Diverging\",\"\",'SSI Inputs'!$F$49)","v":45},0.83333333333333326,null,null,null,1,null,2.5249999999999999,null,151816.63190535238,null,null,"","","","","","","","","","","","","",1,"","",null,"","","","","","","","","","",1,"","","","","",null,null,35,"Nonmotorized",2,0,0,2,null,1,0,0,2,null,2,0,0,2,null,1,0,0,2]
[36,"Nonmotorized",null,"MajNM2","Nonmotorized",null,"MajL2","Major left",null,175,2068.6813186813188,362019.23076923081,null,{"$f":"VLOOKUP(E39,'SSI Inputs'!$B$49:$F$62,5,FALSE)","v":0},{"$f":"VLOOKUP(H39,'SSI Inputs'!$B$49:$F$62,5,FALSE)","v":20},{"$f":"IF(B39=\"Nonmotorized\",\"\",VLOOKUP(B39,'SSI Inputs'!$B$65:$F$69,5,FALSE))","v":""},"",{"$f":"IF(B39=\"Nonmotorized\",1/(1+EXP(3.8432-0.1237*O39)),(Q39/'SSI Inputs'!$F$72)^'SSI Inputs'!$F$73+(Q39/'SSI Inputs'!$F$72)^'SSI Inputs'!$F$73-((Q39/'SSI Inputs'!$F$72)^'SSI Inputs'!$F$73)*((Q39/'SSI Inputs'!$F$72)^'SSI Inputs'!$F$73))","v":0.20274912921655375},null,{"$f":"SSI_AGI_ProtFactor","v":0.505},null,2,0,0,2,6,null,{"$f":"IF(B39=\"Diverging\",\"\",'SSI Inputs'!$F$49)","v":45},0.83333333333333326,null,null,null,1,null,2.5249999999999999,null,185332.68659022314,null,null,"","","","","","","","","","","","","",1,"","",null,"","","","",1,"","","","","","","","","","","",null,null,36,"Nonmotorized",2,0,0,2,null,1,0,0,0,null,2,0,0,2,null,1,0,0,0]
[37,"Nonmotorized",null,"MajNM2","Nonmotorized",null,"MajT2","Major thru",null,175,6502.7472527472528,1137980.7692307692,null,{"$f":"VLOOKUP(E40,'SSI Inputs'!$B$49:$F$62,5,FALSE)","v":0},{"$f":"VLOOKUP(H40,'SSI Inputs'!$B$49:$F$62,5,FALSE)","v":45},{"$f":"IF(B40=\"Nonmotorized\",\"\",VLOOKUP(B40,'SSI Inputs'!$B$65:$F$69,5,FALSE))","v":""},"",{"$f":"IF(B40=\"Nonmotorized\",1/(1+EXP(3.8432-0.1237*O40)),(Q40/'SSI Inputs'!$F$72)^'SSI Inputs'!$F$73+(Q40/'SSI Inputs'!$F$72)^'SSI Inputs'!$F$73-((Q40/'SSI Inputs'!$F$72)^'SSI Inputs'!$F$73)*((Q40/'SSI Inputs'!$F$72)^'SSI Inputs'!$F$73))","v":0.84855340903216459},null,{"$f":"SSI_AGI_ProtFactor","v":0.505},null,2,0,0,2,6,null,{"$f":"IF(B40=\"Diverging\",\"\",'SSI Inputs'!$F$49)","v":45},0.83333333333333326,null,null,null,1,null,2.5249999999999999,null,2438234.5893881307,null,null,"","","","","","","","","","","","","",1,"","",null,"","","",1,"","","","","","","","","","","","",null,null,37,"Nonmotorized",2,0,0,2,null,1,0,0,0,null,2,0,0,2,null,1,0,0,0]
[38,"Nonmotorized",null,"MajNM2","Nonmotorized",null,"MajR2","Major right",null,175,428.57142857142856,75000,null,{"$f":"VLOOKUP(E41,'SSI Inputs'!$B$49:$F$62,5,FALSE)","v":0},{"$f":"VLOOKUP(H41,'SSI Inputs'!$B$49:$F$62,5,FALSE)","v":15},{"$f":"IF(B41=\"Nonmotorized\",\"\",VLOOKUP(B41,'SSI Inputs'!$B$65:$F$69,5,FALSE))","v":""},"",{"$f":"IF(B41=\"Nonmotorized\",1/(1+EXP(3.8432-0.1237*O41)),(Q41/'SSI Inputs'!$F$72)^'SSI Inputs'!$F$73+(Q41/'SSI Inputs'!$F$72)^'SSI Inputs'!$F$73-((Q41/'SSI Inputs'!$F$72)^'SSI Inputs'!$F$73)*((Q41/'SSI Inputs'!$F$72)^'SSI Inputs'!$F$73))","v":0.1205004039155782},null,{"$f":"SSI_AGI_ProtFactor","v":0.505},null,2,0,0,2,6,null,{"$f":"IF(B41=\"Diverging\",\"\",'SSI Inputs'!$F$49)","v":45},0.83333333333333326,null,null,null,1,null,2.5249999999999999,null,22819.763991512624,null,null,"","","","","","","","","","","","","",1,"","",null,"","","","","",1,"","","","","","","","","","",null,null,38,"Nonmotorized",2,0,0,2,null,1,0,0,0,null,2,0,0,2,null,1,0,0,0]
[39,"Nonmotorized",null,"MinNM2","Nonmotorized",null,"MajR2","Major right",null,175,428.57142857142856,75000,null,{"$f":"VLOOKUP(E42,'SSI Inputs'!$B$49:$F$62,5,FALSE)","v":0},{"$f":"VLOOKUP(H42,'SSI Inputs'!$B$49:$F$62,5,FALSE)","v":15},{"$f":"IF(B42=\"Nonmotorized\",\"\",VLOOKUP(B42,'SSI Inputs'!$B$65:$F$69,5,FALSE))","v":""},"",{"$f":"IF(B42=\"Nonmotorized\",1/(1+EXP(3.8432-0.1237*O42)),(Q42/'SSI Inputs'!$F$72)^'SSI Inputs'!$F$73+(Q42/'SSI Inputs'!$F$72)^'SSI Inputs'!$F$73-((Q42/'SSI Inputs'!$F$72)^'SSI Inputs'!$F$73)*((Q42/'SSI Inputs'!$F$72)^'SSI Inputs'!$F$73))","v":0.1205004039155782},null,{"$f":"SSI_AGI_ProtFactor","v":0.505},null,0,2,2,0,5.5,null,{"$f":"IF(B42=\"Diverging\",\"\",'SSI Inputs'!$F$49)","v":45},0.83333333333333326,null,null,null,1,null,2.3145833333333332,null,20918.116992219904,null,null,"","","","","","","","","","","","","","","",1,null,"","","","","",1,"","","","","","","","","","",null,null,39,"Nonmotorized",0,2,2,0,null,0,2,2,0,null,0,2,1,0,null,0,2,1,0]
[40,"Nonmotorized",null,"MinNM2","Nonmotorized",null,"MinT1","Signal far",null,175,1785.7142857142856,312500,null,{"$f":"VLOOKUP(E43,'SSI Inputs'!$B$49:$F$62,5,FALSE)","v":0},{"$f":"VLOOKUP(H43,'SSI Inputs'!$B$49:$F$62,5,FALSE)","v":25},{"$f":"IF(B43=\"Nonmotorized\",\"\",VLOOKUP(B43,'SSI Inputs'!$B$65:$F$69,5,FALSE))","v":""},"",{"$f":"IF(B43=\"Nonmotorized\",1/(1+EXP(3.8432-0.1237*O43)),(Q43/'SSI Inputs'!$F$72)^'SSI Inputs'!$F$73+(Q43/'SSI Inputs'!$F$72)^'SSI Inputs'!$F$73-((Q43/'SSI Inputs'!$F$72)^'SSI Inputs'!$F$73)*((Q43/'SSI Inputs'!$F$72)^'SSI Inputs'!$F$73))","v":0.32066879346345062},null,{"$f":"SSI_AGI_ProtFactor","v":0.505},null,0,2,2,0,5.5,null,{"$f":"IF(B43=\"Diverging\",\"\",'SSI Inputs'!$F$49)","v":45},0.83333333333333326,null,null,null,1,null,2.3145833333333332,null,231942.07652206617,null,null,"","","","","","","","","","","","","","","",1,null,"","","","","","",1,"","","","","","","","","",null,null,40,"Nonmotorized",0,2,2,0,null,0,2,2,0,null,0,2,1,0,null,0,2,1,0]
[41,"Nonmotorized",null,"MinNM2","Nonmotorized",null,"MajL1","Major left",null,175,2068.6813186813188,362019.23076923081,null,{"$f":"VLOOKUP(E44,'SSI Inputs'!$B$49:$F$62,5,FALSE)","v":0},{"$f":"VLOOKUP(H44,'SSI Inputs'!$B$49:$F$62,5,FALSE)","v":20},{"$f":"IF(B44=\"Nonmotorized\",\"\",VLOOKUP(B44,'SSI Inputs'!$B$65:$F$69,5,FALSE))","v":""},"",{"$f":"IF(B44=\"Nonmotorized\",1/(1+EXP(3.8432-0.1237*O44)),(Q44/'SSI Inputs'!$F$72)^'SSI Inputs'!$F$73+(Q44/'SSI Inputs'!$F$72)^'SSI Inputs'!$F$73-((Q44/'SSI Inputs'!$F$72)^'SSI Inputs'!$F$73)*((Q44/'SSI Inputs'!$F$72)^'SSI Inputs'!$F$73))","v":0.20274912921655375},null,{"$f":"IF(SSI_AGI_MajorLTPhase=\"Protected/permitted\",SSI_AGI_ProtPermFactor,IF(SSI_AGI_MajorLTPhase=\"Protected\",SSI_AGI_ProtFactor,SSI_AGI_PermFactor))","v":0.505},null,0,2,2,0,5.5,null,{"$f":"IF(B44=\"Diverging\",\"\",'SSI Inputs'!$F$49)","v":45},0.83333333333333326,null,null,null,1,null,2.3145833333333332,null,169888.29604103786,null,null,"","","","","","","","","","","","","","","",1,null,"",1,"","","","","","","","","","","","","","",null,null,41,"Nonmotorized",0,2,2,0,null,0,2,2,0,null,0,2,1,0,null,0,2,1,0]
[42,"Nonmotorized",null,"MinNM2","Nonmotorized",null,"MinL2","Signal near",null,175,1071.4285714285713,187499.99999999997,null,{"$f":"VLOOKUP(E45,'SSI Inputs'!$B$49:$F$62,5,FALSE)","v":0},{"$f":"VLOOKUP(H45,'SSI Inputs'!$B$49:$F$62,5,FALSE)","v":15},{"$f":"IF(B45=\"Nonmotorized\",\"\",VLOOKUP(B45,'SSI Inputs'!$B$65:$F$69,5,FALSE))","v":""},"",{"$f":"IF(B45=\"Nonmotorized\",1/(1+EXP(3.8432-0.1237*O45)),(Q45/'SSI Inputs'!$F$72)^'SSI Inputs'!$F$73+(Q45/'SSI Inputs'!$F$72)^'SSI Inputs'!$F$73-((Q45/'SSI Inputs'!$F$72)^'SSI Inputs'!$F$73)*((Q45/'SSI Inputs'!$F$72)^'SSI Inputs'!$F$73))","v":0.1205004039155782},null,{"$f":"SSI_AGI_ProtFactor","v":0.505},null,0,2,2,0,5.5,null,{"$f":"IF(B45=\"Diverging\",\"\",'SSI Inputs'!$F$49)","v":45},0.83333333333333326,null,null,null,1,null,2.3145833333333332,null,52295.292480549753,null,null,"","","","","","","","","","","","","","","",1,null,"","","","","","","","","","",1,"","","","","",null,null,42,"Nonmotorized",0,2,2,0,null,0,2,2,0,null,0,0,1,0,null,0,0,1,0]
[43,"Nonmotorized",null,"MinNM2","Nonmotorized",null,"MinT2","Signal near",null,175,1857.1428571428571,325000,null,{"$f":"VLOOKUP(E46,'SSI Inputs'!$B$49:$F$62,5,FALSE)","v":0},{"$f":"VLOOKUP(H46,'SSI Inputs'!$B$49:$F$62,5,FALSE)","v":15},{"$f":"IF(B46=\"Nonmotorized\",\"\",VLOOKUP(B46,'SSI Inputs'!$B$65:$F$69,5,FALSE))","v":""},"",{"$f":"IF(B46=\"Nonmotorized\",1/(1+EXP(3.8432-0.1237*O46)),(Q46/'SSI Inputs'!$F$72)^'SSI Inputs'!$F$73+(Q46/'SSI Inputs'!$F$72)^'SSI Inputs'!$F$73-((Q46/'SSI Inputs'!$F$72)^'SSI Inputs'!$F$73)*((Q46/'SSI Inputs'!$F$72)^'SSI Inputs'!$F$73))","v":0.1205004039155782},null,{"$f":"SSI_AGI_ProtFactor","v":0.505},null,0,2,2,0,5.5,null,{"$f":"IF(B46=\"Diverging\",\"\",'SSI Inputs'!$F$49)","v":45},0.83333333333333326,null,null,null,1,null,2.3145833333333332,null,90645.173632952909,null,null,"","","","","","","","","","","","","","","",1,null,"","","","","","","","","",1,"","","","","","",null,null,43,"Nonmotorized",0,2,2,0,null,0,2,2,0,null,0,0,1,0,null,0,0,1,0]
[44,"Nonmotorized",null,"MinNM2","Nonmotorized",null,"MinR2","Signal near",null,175,1071.4285714285713,187499.99999999997,null,{"$f":"VLOOKUP(E47,'SSI Inputs'!$B$49:$F$62,5,FALSE)","v":0},{"$f":"VLOOKUP(H47,'SSI Inputs'!$B$49:$F$62,5,FALSE)","v":15},{"$f":"IF(B47=\"Nonmotorized\",\"\",VLOOKUP(B47,'SSI Inputs'!$B$65:$F$69,5,FALSE))","v":""},"",{"$f":"IF(B47=\"Nonmotorized\",1/(1+EXP(3.8432-0.1237*O47)),(Q47/'SSI Inputs'!$F$72)^'SSI Inputs'!$F$73+(Q47/'SSI Inputs'!$F$72)^'SSI Inputs'!$F$73-((Q47/'SSI Inputs'!$F$72)^'SSI Inputs'!$F$73)*((Q47/'SSI Inputs'!$F$72)^'SSI Inputs'!$F$73))","v":0.1205004039155782},null,{"$f":"SSI_AGI_ProtFactor","v":0.505},null,0,2,2,0,5.5,null,{"$f":"IF(B47=\"Diverging\",\"\",'SSI Inputs'!$F$49)","v":45},0.83333333333333326,null,null,null,1,null,2.3145833333333332,null,52295.292480549753,null,null,"","","","","","","","","","","","","","","",1,null,"","","","","","","","","","","",1,"","","","",null,null,44,"Nonmotorized",0,2,2,0,null,0,2,2,0,null,0,0,1,0,null,0,0,1,0]
[45,"Nonmotorized",null,"MajNM1","Nonmotorized",null,"MinR2","Signal near",null,175,1071.4285714285713,187499.99999999997,null,{"$f":"VLOOKUP(E48,'SSI Inputs'!$B$49:$F$62,5,FALSE)","v":0},{"$f":"VLOOKUP(H48,'SSI Inputs'!$B$49:$F$62,5,FALSE)","v":15},{"$f":"IF(B48=\"Nonmotorized\",\"\",VLOOKUP(B48,'SSI Inputs'!$B$65:$F$69,5,FALSE))","v":""},"",{"$f":"IF(B48=\"Nonmotorized\",1/(1+EXP(3.8432-0.1237*O48)),(Q48/'SSI Inputs'!$F$72)^'SSI Inputs'!$F$73+(Q48/'SSI Inputs'!$F$72)^'SSI Inputs'!$F$73-((Q48/'SSI Inputs'!$F$72)^'SSI Inputs'!$F$73)*((Q48/'SSI Inputs'!$F$72)^'SSI Inputs'!$F$73))","v":0.1205004039155782},null,{"$f":"SSI_AGI_ProtFactor","v":0.505},null,2,0,0,2,6,null,{"$f":"IF(B48=\"Diverging\",\"\",'SSI Inputs'!$F$49)","v":45},0.83333333333333326,null,null,null,1,null,2.5249999999999999,null,57049.40997878155,null,null,"","","","","","","","","","","","",1,"","","",null,"","","","","","","","","","","",1,"","","","",null,null,45,"Nonmotorized",2,0,0,2,null,1,0,0,2,null,2,0,0,2,null,1,0,0,2]
[46,"Nonmotorized",null,"MajNM1","Nonmotorized",null,"MajT2","Major thru",null,175,6502.7472527472528,1137980.7692307692,null,{"$f":"VLOOKUP(E49,'SSI Inputs'!$B$49:$F$62,5,FALSE)","v":0},{"$f":"VLOOKUP(H49,'SSI Inputs'!$B$49:$F$62,5,FALSE)","v":45},{"$f":"IF(B49=\"Nonmotorized\",\"\",VLOOKUP(B49,'SSI Inputs'!$B$65:$F$69,5,FALSE))","v":""},"",{"$f":"IF(B49=\"Nonmotorized\",1/(1+EXP(3.8432-0.1237*O49)),(Q49/'SSI Inputs'!$F$72)^'SSI Inputs'!$F$73+(Q49/'SSI Inputs'!$F$72)^'SSI Inputs'!$F$73-((Q49/'SSI Inputs'!$F$72)^'SSI Inputs'!$F$73)*((Q49/'SSI Inputs'!$F$72)^'SSI Inputs'!$F$73))","v":0.84855340903216459},null,{"$f":"SSI_AGI_ProtFactor","v":0.505},null,2,0,0,2,6,null,{"$f":"IF(B49=\"Diverging\",\"\",'SSI Inputs'!$F$49)","v":45},0.83333333333333326,null,null,null,1,null,2.5249999999999999,null,2438234.5893881307,null,null,"","","","","","","","","","","","",1,"","","",null,"","","",1,"","","","","","","","","","","","",null,null,46,"Nonmotorized",2,0,0,2,null,1,0,0,2,null,2,0,0,2,null,1,0,0,2]
[47,"Nonmotorized",null,"MajNM1","Nonmotorized",null,"MinL1","Signal far",null,175,1071.4285714285713,187499.99999999997,null,{"$f":"VLOOKUP(E50,'SSI Inputs'!$B$49:$F$62,5,FALSE)","v":0},{"$f":"VLOOKUP(H50,'SSI Inputs'!$B$49:$F$62,5,FALSE)","v":25},{"$f":"IF(B50=\"Nonmotorized\",\"\",VLOOKUP(B50,'SSI Inputs'!$B$65:$F$69,5,FALSE))","v":""},"",{"$f":"IF(B50=\"Nonmotorized\",1/(1+EXP(3.8432-0.1237*O50)),(Q50/'SSI Inputs'!$F$72)^'SSI Inputs'!$F$73+(Q50/'SSI Inputs'!$F$72)^'SSI Inputs'!$F$73-((Q50/'SSI Inputs'!$F$72)^'SSI Inputs'!$F$73)*((Q50/'SSI Inputs'!$F$72)^'SSI Inputs'!$F$73))","v":0.32066879346345062},null,{"$f":"IF(SSI_AGI_MinorLTPhase=\"Protected/permitted\",SSI_AGI_ProtPermFactor,IF(SSI_AGI_MinorLTPhase=\"Protected\",SSI_AGI_ProtFactor,SSI_AGI_PermFactor))","v":0.505},null,2,0,0,2,6,null,{"$f":"IF(B50=\"Diverging\",\"\",'SSI Inputs'!$F$49)","v":45},0.83333333333333326,null,null,null,1,null,2.5249999999999999,null,151816.63190535238,null,null,"","","","","","","","","","","","",1,"","",{"$f":"IF(ISNUMBER(SEARCH(BC$3,$D50)),1,\"\")","v":""},null,"","","","","","","",1,"","","","","","","",{"$f":"IF(ISNUMBER(SEARCH(BT$3,$G50)),1,\"\")","v":""},null,null,47,"Nonmotorized",2,0,0,2,null,1,0,0,2,null,2,0,0,2,null,1,0,0,2]
[48,"Nonmotorized",null,"MajNM1","Nonmotorized",null,"MajL1","Major left",null,175,2068.6813186813188,362019.23076923081,null,{"$f":"VLOOKUP(E51,'SSI Inputs'!$B$49:$F$62,5,FALSE)","v":0},{"$f":"VLOOKUP(H51,'SSI Inputs'!$B$49:$F$62,5,FALSE)","v":20},{"$f":"IF(B51=\"Nonmotorized\",\"\",VLOOKUP(B51,'SSI Inputs'!$B$65:$F$69,5,FALSE))","v":""},"",{"$f":"IF(B51=\"Nonmotorized\",1/(1+EXP(3.8432-0.1237*O51)),(Q51/'SSI Inputs'!$F$72)^'SSI Inputs'!$F$73+(Q51/'SSI Inputs'!$F$72)^'SSI Inputs'!$F$73-((Q51/'SSI Inputs'!$F$72)^'SSI Inputs'!$F$73)*((Q51/'SSI Inputs'!$F$72)^'SSI Inputs'!$F$73))","v":0.20274912921655375},null,{"$f":"SSI_AGI_ProtFactor","v":0.505},null,2,0,0,2,6,null,{"$f":"IF(B51=\"Diverging\",\"\",'SSI Inputs'!$F$49)","v":45},0.83333333333333326,null,null,null,1,null,2.5249999999999999,null,185332.68659022314,null,null,{"$f":"IF(ISNUMBER(SEARCH(AN$3,$D51)),1,\"\")","v":""},"","","","","","","","","","","",1,"","","",null,{"$f":"IF(ISNUMBER(SEARCH(BE$3,$G51)),1,\"\")","v":""},1,"","","","","","","","","","","","","","",null,null,48,"Nonmotorized",2,0,0,2,null,1,0,0,0,null,2,0,0,2,null,1,0,0,0]
[49,"Nonmotorized",null,"MajNM1","Nonmotorized",null,"MajT1","Major thru",null,175,6543.9560439560446,1145192.3076923077,null,{"$f":"VLOOKUP(E52,'SSI Inputs'!$B$49:$F$62,5,FALSE)","v":0},{"$f":"VLOOKUP(H52,'SSI Inputs'!$B$49:$F$62,5,FALSE)","v":45},{"$f":"IF(B52=\"Nonmotorized\",\"\",VLOOKUP(B52,'SSI Inputs'!$B$65:$F$69,5,FALSE))","v":""},"",{"$f":"IF(B52=\"Nonmotorized\",1/(1+EXP(3.8432-0.1237*O52)),(Q52/'SSI Inputs'!$F$72)^'SSI Inputs'!$F$73+(Q52/'SSI Inputs'!$F$72)^'SSI Inputs'!$F$73-((Q52/'SSI Inputs'!$F$72)^'SSI Inputs'!$F$73)*((Q52/'SSI Inputs'!$F$72)^'SSI Inputs'!$F$73))","v":0.84855340903216459},null,{"$f":"SSI_AGI_ProtFactor","v":0.505},null,2,0,0,2,6,null,{"$f":"IF(B52=\"Diverging\",\"\",'SSI Inputs'!$F$49)","v":45},0.83333333333333326,null,null,null,1,null,2.5249999999999999,null,2453686.0126415412,null,null,"","","","","","","","","","","","",1,"","","",null,1,"","","","","","","","","","","","","","","",null,null,49,"Nonmotorized",2,0,0,2,null,1,0,0,0,null,2,0,0,2,null,1,0,0,0]
[50,"Nonmotorized",null,"MajNM1","Nonmotorized",null,"MajR1","Major right",null,175,387.36263736263737,67788.461538461546,null,{"$f":"VLOOKUP(E53,'SSI Inputs'!$B$49:$F$62,5,FALSE)","v":0},{"$f":"VLOOKUP(H53,'SSI Inputs'!$B$49:$F$62,5,FALSE)","v":15},{"$f":"IF(B53=\"Nonmotorized\",\"\",VLOOKUP(B53,'SSI Inputs'!$B$65:$F$69,5,FALSE))","v":""},"",{"$f":"IF(B53=\"Nonmotorized\",1/(1+EXP(3.8432-0.1237*O53)),(Q53/'SSI Inputs'!$F$72)^'SSI Inputs'!$F$73+(Q53/'SSI Inputs'!$F$72)^'SSI Inputs'!$F$73-((Q53/'SSI Inputs'!$F$72)^'SSI Inputs'!$F$73)*((Q53/'SSI Inputs'!$F$72)^'SSI Inputs'!$F$73))","v":0.1205004039155782},null,{"$f":"SSI_AGI_ProtFactor","v":0.505},null,2,0,0,2,6,null,{"$f":"IF(B53=\"Diverging\",\"\",'SSI Inputs'!$F$49)","v":45},0.83333333333333326,null,null,null,1,null,2.5249999999999999,null,20625.555915405643,null,null,"","","","","","","","","","","","",1,"","","",null,"","",1,"","","","","","","","","","","","","",null,null,50,"Nonmotorized",2,0,0,2,null,1,0,0,0,null,2,0,0,2,null,1,0,0,0]
[51,"Nonmotorized",null,"MinNM1","Nonmotorized",null,"MajR1","Major right",null,175,387.36263736263737,67788.461538461546,null,{"$f":"VLOOKUP(E54,'SSI Inputs'!$B$49:$F$62,5,FALSE)","v":0},{"$f":"VLOOKUP(H54,'SSI Inputs'!$B$49:$F$62,5,FALSE)","v":15},{"$f":"IF(B54=\"Nonmotorized\",\"\",VLOOKUP(B54,'SSI Inputs'!$B$65:$F$69,5,FALSE))","v":""},"",{"$f":"IF(B54=\"Nonmotorized\",1/(1+EXP(3.8432-0.1237*O54)),(Q54/'SSI Inputs'!$F$72)^'SSI Inputs'!$F$73+(Q54/'SSI Inputs'!$F$72)^'SSI Inputs'!$F$73-((Q54/'SSI Inputs'!$F$72)^'SSI Inputs'!$F$73)*((Q54/'SSI Inputs'!$F$72)^'SSI Inputs'!$F$73))","v":0.1205004039155782},null,{"$f":"SSI_AGI_ProtFactor","v":0.505},null,0,2,2,0,5.5,null,{"$f":"IF(B54=\"Diverging\",\"\",'SSI Inputs'!$F$49)","v":45},0.83333333333333326,null,null,null,1,null,2.3145833333333332,null,18906.759589121837,null,null,"","","","","","","","","","","","","","",1,"",null,"","",1,"","","","","","","","","","","","","",null,null,51,"Nonmotorized",0,2,2,0,null,0,2,2,0,null,0,2,1,0,null,0,2,1,0]
[52,"Nonmotorized",null,"MinNM1","Nonmotorized",null,"MinT2","Signal far",null,175,1857.1428571428571,325000,null,{"$f":"VLOOKUP(E55,'SSI Inputs'!$B$49:$F$62,5,FALSE)","v":0},{"$f":"VLOOKUP(H55,'SSI Inputs'!$B$49:$F$62,5,FALSE)","v":25},{"$f":"IF(B55=\"Nonmotorized\",\"\",VLOOKUP(B55,'SSI Inputs'!$B$65:$F$69,5,FALSE))","v":""},"",{"$f":"IF(B55=\"Nonmotorized\",1/(1+EXP(3.8432-0.1237*O55)),(Q55/'SSI Inputs'!$F$72)^'SSI Inputs'!$F$73+(Q55/'SSI Inputs'!$F$72)^'SSI Inputs'!$F$73-((Q55/'SSI Inputs'!$F$72)^'SSI Inputs'!$F$73)*((Q55/'SSI Inputs'!$F$72)^'SSI Inputs'!$F$73))","v":0.32066879346345062},null,{"$f":"SSI_AGI_ProtFactor","v":0.505},null,0,2,2,0,5.5,null,{"$f":"IF(B55=\"Diverging\",\"\",'SSI Inputs'!$F$49)","v":45},0.83333333333333326,null,null,null,1,null,2.3145833333333332,null,241219.75958294881,null,null,"","","","","","","","","","","","","","",1,"",null,"","","","","","","","","",1,"","","","","","",null,null,52,"Nonmotorized",0,2,2,0,null,0,2,2,0,null,0,2,1,0,null,0,2,1,0]
[53,"Nonmotorized",null,"MinNM1","Nonmotorized",null,"MajL2","Major left",null,175,2068.6813186813188,362019.23076923081,null,{"$f":"VLOOKUP(E56,'SSI Inputs'!$B$49:$F$62,5,FALSE)","v":0},{"$f":"VLOOKUP(H56,'SSI Inputs'!$B$49:$F$62,5,FALSE)","v":20},{"$f":"IF(B56=\"Nonmotorized\",\"\",VLOOKUP(B56,'SSI Inputs'!$B$65:$F$69,5,FALSE))","v":""},"",{"$f":"IF(B56=\"Nonmotorized\",1/(1+EXP(3.8432-0.1237*O56)),(Q56/'SSI Inputs'!$F$72)^'SSI Inputs'!$F$73+(Q56/'SSI Inputs'!$F$72)^'SSI Inputs'!$F$73-((Q56/'SSI Inputs'!$F$72)^'SSI Inputs'!$F$73)*((Q56/'SSI Inputs'!$F$72)^'SSI Inputs'!$F$73))","v":0.20274912921655375},null,{"$f":"IF(SSI_AGI_MajorLTPhase=\"Protected/permitted\",SSI_AGI_ProtPermFactor,IF(SSI_AGI_MajorLTPhase=\"Protected\",SSI_AGI_ProtFactor,SSI_AGI_PermFactor))","v":0.505},null,0,2,2,0,5.5,null,{"$f":"IF(B56=\"Diverging\",\"\",'SSI Inputs'!$F$49)","v":45},0.83333333333333326,null,null,null,1,null,2.3145833333333332,null,169888.29604103786,null,null,"","","","","","","","","","","","","","",1,"",null,"","","","",1,"","","","","","","","","","","",null,null,53,"Nonmotorized",0,2,2,0,null,0,2,2,0,null,0,2,1,0,null,0,2,1,0]
[54,"Nonmotorized",null,"MinNM1","Nonmotorized",null,"MinL1","Signal near",null,175,1071.4285714285713,187499.99999999997,null,{"$f":"VLOOKUP(E57,'SSI Inputs'!$B$49:$F$62,5,FALSE)","v":0},{"$f":"VLOOKUP(H57,'SSI Inputs'!$B$49:$F$62,5,FALSE)","v":15},{"$f":"IF(B57=\"Nonmotorized\",\"\",VLOOKUP(B57,'SSI Inputs'!$B$65:$F$69,5,FALSE))","v":""},"",{"$f":"IF(B57=\"Nonmotorized\",1/(1+EXP(3.8432-0.1237*O57)),(Q57/'SSI Inputs'!$F$72)^'SSI Inputs'!$F$73+(Q57/'SSI Inputs'!$F$72)^'SSI Inputs'!$F$73-((Q57/'SSI Inputs'!$F$72)^'SSI Inputs'!$F$73)*((Q57/'SSI Inputs'!$F$72)^'SSI Inputs'!$F$73))","v":0.1205004039155782},null,{"$f":"SSI_AGI_ProtFactor","v":0.505},null,0,2,2,0,5.5,null,{"$f":"IF(B57=\"Diverging\",\"\",'SSI Inputs'!$F$49)","v":45},0.83333333333333326,null,null,null,1,null,2.3145833333333332,null,52295.292480549753,null,null,"","","","","","","","","","","","","","",1,"",null,"","","","","","","",1,"","","","","","","","",null,null,54,"Nonmotorized",0,2,2,0,null,0,2,2,0,null,0,0,1,0,null,0,0,1,0]
[55,"Nonmotorized",null,"MinNM1","Nonmotorized",null,"MinT1","Signal near",null,175,1785.7142857142856,312500,null,{"$f":"VLOOKUP(E58,'SSI Inputs'!$B$49:$F$62,5,FALSE)","v":0},{"$f":"VLOOKUP(H58,'SSI Inputs'!$B$49:$F$62,5,FALSE)","v":15},{"$f":"IF(B58=\"Nonmotorized\",\"\",VLOOKUP(B58,'SSI Inputs'!$B$65:$F$69,5,FALSE))","v":""},"",{"$f":"IF(B58=\"Nonmotorized\",1/(1+EXP(3.8432-0.1237*O58)),(Q58/'SSI Inputs'!$F$72)^'SSI Inputs'!$F$73+(Q58/'SSI Inputs'!$F$72)^'SSI Inputs'!$F$73-((Q58/'SSI Inputs'!$F$72)^'SSI Inputs'!$F$73)*((Q58/'SSI Inputs'!$F$72)^'SSI Inputs'!$F$73))","v":0.1205004039155782},null,{"$f":"SSI_AGI_ProtFactor","v":0.505},null,0,2,2,0,5.5,null,{"$f":"IF(B58=\"Diverging\",\"\",'SSI Inputs'!$F$49)","v":45},0.83333333333333326,null,null,null,1,null,2.3145833333333332,null,87158.820800916263,null,null,"","","","","","","","","","","","","","",1,"",null,"","","","","","",1,"","","","","","","","","",null,null,55,"Nonmotorized",0,2,2,0,null,0,2,2,0,null,0,0,1,0,null,0,0,1,0]
[56,"Nonmotorized",null,"MinNM1","Nonmotorized",null,"MinR1","Signal near",null,175,1142.8571428571429,200000,null,{"$f":"VLOOKUP(E59,'SSI Inputs'!$B$49:$F$62,5,FALSE)","v":0},{"$f":"VLOOKUP(H59,'SSI Inputs'!$B$49:$F$62,5,FALSE)","v":15},{"$f":"IF(B59=\"Nonmotorized\",\"\",VLOOKUP(B59,'SSI Inputs'!$B$65:$F$69,5,FALSE))","v":""},"",{"$f":"IF(B59=\"Nonmotorized\",1/(1+EXP(3.8432-0.1237*O59)),(Q59/'SSI Inputs'!$F$72)^'SSI Inputs'!$F$73+(Q59/'SSI Inputs'!$F$72)^'SSI Inputs'!$F$73-((Q59/'SSI Inputs'!$F$72)^'SSI Inputs'!$F$73)*((Q59/'SSI Inputs'!$F$72)^'SSI Inputs'!$F$73))","v":0.1205004039155782},null,{"$f":"SSI_AGI_ProtFactor","v":0.505},null,0,2,2,0,5.5,null,{"$f":"IF(B59=\"Diverging\",\"\",'SSI Inputs'!$F$49)","v":45},0.83333333333333326,null,null,null,1,null,2.3145833333333332,null,55781.645312586406,null,null,"","","","","","","","","","","","","","",1,"",null,"","","","","","","","",1,"","","","","","","",null,null,56,"Nonmotorized",0,2,2,0,null,0,2,2,0,null,0,0,1,0,null,0,0,1,0]
[null,null,null,null,null,null,null,null,null,null,null,null,null,null,null,null,null,null,null,null,null,null,null,null,null,null,null,null,null,null,null,null,null,null,null,null,null,null,"O",{"$f":"'SSI Inputs'!$D$26","v":6543.9560439560446},{"$f":"'SSI Inputs'!$D$27","v":2068.6813186813188},{"$f":"'SSI Inputs'!$D$28","v":387.36263736263737},{"$f":"'SSI Inputs'!$D$30","v":6502.7472527472528},{"$f":"'SSI Inputs'!$D$31","v":2068.6813186813188},{"$f":"'SSI Inputs'!$D$32","v":428.57142857142856},{"$f":"'SSI Inputs'!$D$34","v":1785.7142857142856},{"$f":"'SSI Inputs'!$D$35","v":1071.4285714285713},{"$f":"'SSI Inputs'!$D$36","v":1142.8571428571429},{"$f":"'SSI Inputs'!$D$38","v":1857.1428571428571},{"$f":"'SSI Inputs'!$D$39","v":1071.4285714285713},{"$f":"'SSI Inputs'!$D$40","v":1071.4285714285713},{"$f":"'SSI Inputs'!$Q$18","v":175},{"$f":"'SSI Inputs'!$Q$19","v":175},{"$f":"'SSI Inputs'!$Q$20","v":175},{"$f":"'SSI Inputs'!$Q$21","v":175},"O",{"$f":"'SSI Inputs'!$D$26","v":6543.9560439560446},{"$f":"'SSI Inputs'!$D$27","v":2068.6813186813188},{"$f":"'SSI Inputs'!$D$28","v":387.36263736263737},{"$f":"'SSI Inputs'!$D$30","v":6502.7472527472528},{"$f":"'SSI Inputs'!$D$31","v":2068.6813186813188},{"$f":"'SSI Inputs'!$D$32","v":428.57142857142856},{"$f":"'SSI Inputs'!$D$34","v":1785.7142857142856},{"$f":"'SSI Inputs'!$D$35","v":1071.4285714285713},{"$f":"'SSI Inputs'!$D$36","v":1142.8571428571429},{"$f":"'SSI Inputs'!$D$38","v":1857.1428571428571},{"$f":"'SSI Inputs'!$D$39","v":1071.4285714285713},{"$f":"'SSI Inputs'!$D$40","v":1071.4285714285713},{"$f":"'SSI Inputs'!$Q$18","v":175},{"$f":"'SSI Inputs'!$Q$19","v":175},{"$f":"'SSI Inputs'!$Q$20","v":175},{"$f":"'SSI Inputs'!$Q$21","v":175}]
[null,null,null,null,null,null,null,null,null,null,null,null,null,null,null,null,null,null,null,null,null,null,null,null,null,null,null,null,null,null,null,null,null,null,null,null,null,null,"D",{"$f":"'SSI Inputs'!$E$26","v":7271.062271062272},{"$f":"'SSI Inputs'!$E$27","v":2298.5347985347985},{"$f":"'SSI Inputs'!$E$28","v":430.40293040293039},{"$f":"'SSI Inputs'!$E$30","v":7225.2747252747249},{"$f":"'SSI Inputs'!$E$31","v":2298.5347985347985},{"$f":"'SSI Inputs'!$E$32","v":476.19047619047615},{"$f":"'SSI Inputs'!$E$34","v":2232.1428571428569},{"$f":"'SSI Inputs'!$E$35","v":1339.2857142857142},{"$f":"'SSI Inputs'!$E$36","v":1428.5714285714284},{"$f":"'SSI Inputs'!$E$38","v":2321.4285714285716},{"$f":"'SSI Inputs'!$E$39","v":1339.2857142857142},{"$f":"'SSI Inputs'!$E$40","v":1339.2857142857142},{"$f":"'SSI Inputs'!$R$18","v":175},{"$f":"'SSI Inputs'!$R$19","v":175},{"$f":"'SSI Inputs'!$R$20","v":175},{"$f":"'SSI Inputs'!$R$21","v":175},"D",{"$f":"'SSI Inputs'!$E$26","v":7271.062271062272},{"$f":"'SSI Inputs'!$E$27","v":2298.5347985347985},{"$f":"'SSI Inputs'!$E$28","v":430.40293040293039},{"$f":"'SSI Inputs'!$E$30","v":7225.2747252747249},{"$f":"'SSI Inputs'!$E$31","v":2298.5347985347985},{"$f":"'SSI Inputs'!$E$32","v":476.19047619047615},{"$f":"'SSI Inputs'!$E$34","v":2232.1428571428569},{"$f":"'SSI Inputs'!$E$35","v":1339.2857142857142},{"$f":"'SSI Inputs'!$E$36","v":1428.5714285714284},{"$f":"'SSI Inputs'!$E$38","v":2321.4285714285716},{"$f":"'SSI Inputs'!$E$39","v":1339.2857142857142},{"$f":"'SSI Inputs'!$E$40","v":1339.2857142857142},{"$f":"'SSI Inputs'!$R$18","v":175},{"$f":"'SSI Inputs'!$R$19","v":175},{"$f":"'SSI Inputs'!$R$20","v":175},{"$f":"'SSI Inputs'!$R$21","v":175}]
[]
[]
[]
[]
[]
[]
[]
[]
[]
[]
[]
[]
[]
[]
[]
[]
[]
[]
[]
[]
[]
[]
[]
[]
[]
[]
[]
[]
[]
[]
[]
[]
[]
[]
[]
[]
[]
[]
[]
[null,null,null,null,null,null,null,null,null,"Exposure",null,null,null,null,null,null,null,null,null,null,null,null,null,null,null,null,null,null,null,null,null,null,null,null,null,null,"Exposure-Severity-Complexity Product"]
[null,null,null,null,null,null,null,null,null,"Q1","Q2","I"]
[null,null,null,null,null,null,null,null,null,{"$f":"SUMPRODUCT($AN4:$BC4,$AN$61:$BC$61)","v":2232.1428571428569},{"$f":"SUMPRODUCT($BE4:$BT4,$BE$61:$BT$61)","v":7271.062271062272},{"$f":"PRODUCT(J103:K103)","v":16230049.712192569},null,null,null,null,null,null,null,null,null,null,null,null,null,null,null,null,null,null,null,null,null,null,null,null,{"$f":"L103*R4*AI4","v":1035027.793716957}]
[null,null,null,null,null,null,null,null,null,{"$f":"SUMPRODUCT($AN5:$BC5,$AN$61:$BC$61)","v":2232.1428571428569},{"$f":"SUMPRODUCT($BE5:$BT5,$BE$61:$BT$61)","v":1339.2857142857142},{"$f":"PRODUCT(J104:K104)","v":2989477.0408163262},null,null,null,null,null,null,null,null,null,null,null,null,null,null,null,null,null,null,null,null,null,null,null,null,{"$f":"L104*R5*AI5","v":84253.602241928034}]
[null,null,null,null,null,null,null,null,null,2232.1428571428569,2298.5347985347985,5130658.032443746,null,null,null,null,null,null,null,null,null,null,null,null,null,null,null,null,null,null,null,null,null,null,null,null,186164.53271221384]
[null,null,null,null,null,null,null,null,null,2232.1428571428569,7225.2747252747249,16127845.368916795,null,null,null,null,null,null,null,null,null,null,null,null,null,null,null,null,null,null,null,null,null,null,null,null,1397990.9549148506]
[null,null,null,null,null,null,null,null,null,7225.2747252747249,2298.5347985347985,16607545.385017911,null,null,null,null,null,null,null,null,null,null,null,null,null,null,null,null,null,null,null,null,null,null,null,null,1262027.4168379996]
[null,null,null,null,null,null,null,null,null,7225.2747252747249,1339.2857142857142,9676707.2213500775,null,null,null,null,null,null,null,null,null,null,null,null,null,null,null,null,null,null,null,null,null,null,null,null,1349433.2956522342]
[null,null,null,null,null,null,null,null,null,2321.4285714285716,7225.2747252747249,16772959.183673469,null,null,null,null,null,null,null,null,null,null,null,null,null,null,null,null,null,null,null,null,null,null,null,null,1069650.3859098062]
[null,null,null,null,null,null,null,null,null,2321.4285714285716,1339.2857142857142,3109056.1224489794,null,null,null,null,null,null,null,null,null,null,null,null,null,null,null,null,null,null,null,null,null,null,null,null,87623.746331605158]
[null,null,null,null,null,null,null,null,null,2321.4285714285716,2298.5347985347985,5335884.3537414968,null,null,null,null,null,null,null,null,null,null,null,null,null,null,null,null,null,null,null,null,null,null,null,null,193611.11402070243]
[null,null,null,null,null,null,null,null,null,2321.4285714285716,7271.062271062272,16879251.700680275,null,null,null,null,null,null,null,null,null,null,null,null,null,null,null,null,null,null,null,null,null,null,null,null,1463124.2217116442]
[null,null,null,null,null,null,null,null,null,7271.062271062272,2298.5347985347985,16712789.652350094,null,null,null,null,null,null,null,null,null,null,null,null,null,null,null,null,null,null,null,null,null,null,null,null,1270025.0557279745]
[null,null,null,null,null,null,null,null,null,7271.062271062272,1339.2857142857142,9738029.8273155428,null,null,null,null,null,null,null,null,null,null,null,null,null,null,null,null,null,null,null,null,null,null,null,null,1357984.8374497772]
[null,null,null,null,null,null,null,null,null,1339.2857142857142,2298.5347985347985,3078394.8194662477,null,null,null,null,null,null,null,null,null,null,null,null,null,null,null,null,null,null,null,null,null,null,null,null,51454.252391492024]
[null,null,null,null,null,null,null,null,null,1339.2857142857142,2298.5347985347985,3078394.8194662477,null,null,null,null,null,null,null,null,null,null,null,null,null,null,null,null,null,null,null,null,null,null,null,null,132642.22955745237]
[null,null,null,null,null,null,null,null,null,1339.2857142857142,2298.5347985347985,3078394.8194662477,null,null,null,null,null,null,null,null,null,null,null,null,null,null,null,null,null,null,null,null,null,null,null,null,51454.252391492024]
[null,null,null,null,null,null,null,null,null,1339.2857142857142,2298.5347985347985,3078394.8194662477,null,null,null,null,null,null,null,null,null,null,null,null,null,null,null,null,null,null,null,null,null,null,null,null,132642.22955745237]
[null,null,null,null,null,null,null,null,null,7271.062271062272,1339.2857142857142,9738029.8273155428,null,null,null,null,null,null,null,null,null,null,null,null,null,null,null,null,null,null,null,null,null,null,null,null,177818.83558555867]
[null,null,null,null,null,null,null,null,null,7271.062271062272,1428.5714285714284,10387231.815803245,null,null,null,null,null,null,null,null,null,null,null,null,null,null,null,null,null,null,null,null,null,null,null,null,102307.46403275065]
[null,null,null,null,null,null,null,null,null,2232.1428571428569,2298.5347985347985,5130658.032443746,null,null,null,null,null,null,null,null,null,null,null,null,null,null,null,null,null,null,null,null,null,null,null,null,8061.2357809570794]
[null,null,null,null,null,null,null,null,null,2232.1428571428569,476.19047619047615,1062925.170068027,null,null,null,null,null,null,null,null,null,null,null,null,null,null,null,null,null,null,null,null,null,null,null,null,1687.8057537663276]
[null,null,null,null,null,null,null,null,null,7225.2747252747249,1339.2857142857142,9676707.2213500775,null,null,null,null,null,null,null,null,null,null,null,null,null,null,null,null,null,null,null,null,null,null,null,null,176699.06961839518]
[null,null,null,null,null,null,null,null,null,7225.2747252747249,1339.2857142857142,9676707.2213500775,null,null,null,null,null,null,null,null,null,null,null,null,null,null,null,null,null,null,null,null,null,null,null,null,95309.259825850429]
[null,null,null,null,null,null,null,null,null,2321.4285714285716,2298.5347985347985,5335884.3537414968,null,null,null,null,null,null,null,null,null,null,null,null,null,null,null,null,null,null,null,null,null,null,null,null,8383.6852121953634]
[null,null,null,null,null,null,null,null,null,2321.4285714285716,430.40293040293039,999149.65986394556,null,null,null,null,null,null,null,null,null,null,null,null,null,null,null,null,null,null,null,null,null,null,null,null,1586.5374085403482]
[null,null,null,null,null,null,null,null,null,2232.1428571428569,1339.2857142857142,2989477.0408163262,null,null,null,null,null,null,null,null,null,null,null,null,null,null,null,null,null,null,null,null,null,null,null,null,1.9151004885368323]
[null,null,null,null,null,null,null,null,null,2232.1428571428569,1428.5714285714284,3188775.510204081,null,null,null,null,null,null,null,null,null,null,null,null,null,null,null,null,null,null,null,null,null,null,null,null,2.0427738544392877]
[null,null,null,null,null,null,null,null,null,7225.2747252747249,476.19047619047615,3440607.0120355831,null,null,null,null,null,null,null,null,null,null,null,null,null,null,null,null,null,null,null,null,null,null,null,null,24103.594458538762]
[null,null,null,null,null,null,null,null,null,7225.2747252747249,2298.5347985347985,16607545.385017911,null,null,null,null,null,null,null,null,null,null,null,null,null,null,null,null,null,null,null,null,null,null,null,null,60587.627745950587]
[null,null,null,null,null,null,null,null,null,2321.4285714285716,1339.2857142857142,3109056.1224489794,null,null,null,null,null,null,null,null,null,null,null,null,null,null,null,null,null,null,null,null,null,null,null,null,1.9917045080783056]
[null,null,null,null,null,null,null,null,null,2321.4285714285716,1339.2857142857142,3109056.1224489794,null,null,null,null,null,null,null,null,null,null,null,null,null,null,null,null,null,null,null,null,null,null,null,null,1.9917045080783056]
[null,null,null,null,null,null,null,null,null,7271.062271062272,430.40293040293039,3129486.508607388,null,null,null,null,null,null,null,null,null,null,null,null,null,null,null,null,null,null,null,null,null,null,null,null,21924.001608748898]
[null,null,null,null,null,null,null,null,null,7271.062271062272,2298.5347985347985,16712789.652350094,null,null,null,null,null,null,null,null,null,null,null,null,null,null,null,null,null,null,null,null,null,null,null,null,60971.579759549786]
[null,null,null,null,null,null,null,null,null,175,1428.5714285714284,249999.99999999997,null,null,null,null,null,null,null,null,null,null,null,null,null,null,null,null,null,null,null,null,null,null,null,null,76065.879971708739]
[null,null,null,null,null,null,null,null,null,175,7271.062271062272,1272435.8974358975,null,null,null,null,null,null,null,null,null,null,null,null,null,null,null,null,null,null,null,null,null,null,null,null,2726317.7918239348]
[null,null,null,null,null,null,null,null,null,175,1339.2857142857142,234375,null,null,null,null,null,null,null,null,null,null,null,null,null,null,null,null,null,null,null,null,null,null,null,null,189770.78988169049]
[null,null,null,null,null,null,null,null,null,175,2298.5347985347985,402243.58974358975,null,null,null,null,null,null,null,null,null,null,null,null,null,null,null,null,null,null,null,null,null,null,null,null,205925.20732247012]
[null,null,null,null,null,null,null,null,null,175,7225.2747252747249,1264423.0769230768,null,null,null,null,null,null,null,null,null,null,null,null,null,null,null,null,null,null,null,null,null,null,null,null,2709149.5437645894]
[null,null,null,null,null,null,null,null,null,175,476.19047619047615,83333.333333333328,null,null,null,null,null,null,null,null,null,null,null,null,null,null,null,null,null,null,null,null,null,null,null,null,25355.293323902912]
[null,null,null,null,null,null,null,null,null,175,476.19047619047615,83333.333333333328,null,null,null,null,null,null,null,null,null,null,null,null,null,null,null,null,null,null,null,null,null,null,null,null,23242.352213577669]
[null,null,null,null,null,null,null,null,null,175,2232.1428571428569,390624.99999999994,null,null,null,null,null,null,null,null,null,null,null,null,null,null,null,null,null,null,null,null,null,null,null,null,289927.59565258265]
[null,null,null,null,null,null,null,null,null,175,2298.5347985347985,402243.58974358975,null,null,null,null,null,null,null,null,null,null,null,null,null,null,null,null,null,null,null,null,null,null,null,null,188764.77337893093]
[null,null,null,null,null,null,null,null,null,175,1339.2857142857142,234375,null,null,null,null,null,null,null,null,null,null,null,null,null,null,null,null,null,null,null,null,null,null,null,null,65369.115600687197]
[null,null,null,null,null,null,null,null,null,175,2321.4285714285716,406250,null,null,null,null,null,null,null,null,null,null,null,null,null,null,null,null,null,null,null,null,null,null,null,null,113306.46704119114]
[null,null,null,null,null,null,null,null,null,175,1339.2857142857142,234375,null,null,null,null,null,null,null,null,null,null,null,null,null,null,null,null,null,null,null,null,null,null,null,null,65369.115600687197]
[null,null,null,null,null,null,null,null,null,175,1339.2857142857142,234375,null,null,null,null,null,null,null,null,null,null,null,null,null,null,null,null,null,null,null,null,null,null,null,null,71311.762473476949]
[null,null,null,null,null,null,null,null,null,175,7225.2747252747249,1264423.0769230768,null,null,null,null,null,null,null,null,null,null,null,null,null,null,null,null,null,null,null,null,null,null,null,null,2709149.5437645894]
[null,null,null,null,null,null,null,null,null,175,1339.2857142857142,234375,null,null,null,null,null,null,null,null,null,null,null,null,null,null,null,null,null,null,null,null,null,null,null,null,189770.78988169049]
[null,null,null,null,null,null,null,null,null,175,2298.5347985347985,402243.58974358975,null,null,null,null,null,null,null,null,null,null,null,null,null,null,null,null,null,null,null,null,null,null,null,null,205925.20732247012]
[null,null,null,null,null,null,null,null,null,175,7271.062271062272,1272435.8974358975,null,null,null,null,null,null,null,null,null,null,null,null,null,null,null,null,null,null,null,null,null,null,null,null,2726317.7918239348]
[null,null,null,null,null,null,null,null,null,175,430.40293040293039,75320.512820512813,null,null,null,null,null,null,null,null,null,null,null,null,null,null,null,null,null,null,null,null,null,null,null,null,22917.284350450711]
[null,null,null,null,null,null,null,null,null,175,430.40293040293039,75320.512820512813,null,null,null,null,null,null,null,null,null,null,null,null,null,null,null,null,null,null,null,null,null,null,null,null,21007.510654579815]
[null,null,null,null,null,null,null,null,null,175,2321.4285714285716,406250,null,null,null,null,null,null,null,null,null,null,null,null,null,null,null,null,null,null,null,null,null,null,null,null,301524.69947868597]
[null,null,null,null,null,null,null,null,null,175,2298.5347985347985,402243.58974358975,null,null,null,null,null,null,null,null,null,null,null,null,null,null,null,null,null,null,null,null,null,null,null,null,188764.77337893093]
[null,null,null,null,null,null,null,null,null,175,1339.2857142857142,234375,null,null,null,null,null,null,null,null,null,null,null,null,null,null,null,null,null,null,null,null,null,null,null,null,65369.115600687197]
[null,null,null,null,null,null,null,null,null,175,2232.1428571428569,390624.99999999994,null,null,null,null,null,null,null,null,null,null,null,null,null,null,null,null,null,null,null,null,null,null,null,null,108948.52600114531]
[null,null,null,null,null,null,null,null,null,175,1428.5714285714284,249999.99999999997,null,null,null,null,null,null,null,null,null,null,null,null,null,null,null,null,null,null,null,null,null,null,null,null,69727.056640733004]

{"sheet":"Trad_MinorStop","index":38,"n_rows":158,"n_cols":95,"rows_kept":158,"cut":false,"hidden":true,"merged":[[0,19,0,28],[0,30,0,32],[1,31,2,31],[1,32,2,32],[1,21,1,25],[1,27,1,28],[1,30,2,30],[1,76,1,79],[1,81,1,84],[1,86,1,89],[1,91,1,94],[100,9,100,11],[100,36,101,36],[1,34,2,34],[1,36,2,36],[1,39,1,54],[1,9,1,11],[1,13,1,17],[1,56,1,71]]}
[null,null,null,null,null,null,null,null,null,null,null,null,null,null,null,null,null,null,null,"Conflicting Traffic Complexity",null,null,null,null,null,null,null,null,null,null,"Pedestrian Complexity",null,null,null,null,null,null,null,null,null,null,null,null,null,null,null,null,null,null,null,null,null,null,null,null,null,null,null,null,null,null,null,null,null,null,null,null,null,null,null,null,null,null,null,null,"*impact of median on complexity factors"]
[null,null,null,null,null,null,null,null,null,"Exposure",null,null,null,"Severity",null,null,null,null,null,"Traffic Control",null,"Conflicting Lanes",null,null,null,null,null,"Conflicting Speed",null,null,"Indirect Paths Indicator","Non-intuitive movements indicator","Pedestrian Complexity factor",null,"Total Complexity Multiplier",null,"Exposure-Severity-Complexity Product",null,null,"Included in Mvmt1",null,null,null,null,null,null,null,null,null,null,null,null,null,null,null,null,"Included in Mvmt2",null,null,null,null,null,null,null,null,null,null,null,null,null,null,null,null,null,null,null,"Major:No, Minor: No",null,null,null,null,"Major:Yes, Minor: No",null,null,null,null,"Major:No, Minor: Yes",null,null,null,null,"Major:Yes, Minor: Yes"]
["#","Conflict Type","Mvmt1","Mvmt1_gen","Mvmt1_SpeedCat","Mvmt2","Mvmt2_gen","Mvmt2_SpeedCat",null,"Q1","Q2","I",null,"Speed_V1","Speed_V2","Angle","delta_V","P_FSI",null,null,null,"MajC","MinC","MajM/P","MinM/P","Score",null,"Speed","Factor",null,null,null,null,null,null,null,null,null,null,"MajT1","MajL1","MajR1","MajT2","MajL2","MajR2","MinT1","MinL1","MinR1","MinT2","MinL2","MinR2","MajNM1","MajNM2","MinNM1","MinNM2",null,"MajT1","MajL1","MajR1","MajT2","MajL2","MajR2","MinT1","MinL1","MinR1","MinT2","MinL2","MinR2","MajNM1","MajNM2","MinNM1","MinNM2",null,null,"#","Conflict Type","MajC","MinC","MajM/P","MinM/P",null,"MajC","MinC","MajM/P","MinM/P",null,"MajC","MinC","MajM/P","MinM/P",null,"MajC","MinC","MajM/P","MinM/P"]
[1,"Crossing","NBT","MinT1","Stop near","EBT","MajT1","Major thru",null,{"$f":"SUMPRODUCT($AN4:$BC4,$AN$60:$BC$60)","v":1785.7142857142856},{"$f":"SUMPRODUCT($BE4:$BT4,$BE$60:$BT$60)","v":6543.9560439560446},{"$f":"PRODUCT(J4:K4)","v":11685635.79277865},null,{"$f":"VLOOKUP(E4,SSI_AGI_Range_VehSpeed,5,FALSE)","v":15},{"$f":"VLOOKUP(H4,SSI_AGI_Range_VehSpeed,5,FALSE)","v":45},{"$f":"IF(B4=\"Nonmotorized\",\"\",VLOOKUP(B4,SSI_AGI_Range_CollAngles,5,FALSE))","v":90},{"$f":"IF(B4=\"Nonmotorized\",\"\",SQRT(N4^2+O4^2-2*N4*O4*COS(RADIANS(P4)))/2)","v":23.717082451262844},{"$f":"IF(B4=\"Nonmotorized\",1/(1+EXP(3.8432-0.1237*O4)),(Q4/SSI_AGI_RegAlpha)^SSI_AGI_RegK+(Q4/SSI_AGI_RegAlpha)^SSI_AGI_RegK-((Q4/SSI_AGI_RegAlpha)^SSI_AGI_RegK)*((Q4/SSI_AGI_RegAlpha)^SSI_AGI_RegK))","v":3.7884541771032863E-2},null,{"$f":"SSI_AGI_StopFactor","v":0.72500000000000009},null,{"$f":"IF(AND(SS_AGI_MajMedian=\"No\", SS_AGI_MinMedian=\"No\"),BY4,IF(AND(SS_AGI_MajMedian=\"Yes\",SS_AGI_MinMedian=\"No\"),CD4,IF(AND(SS_AGI_MajMedian=\"No\",SS_AGI_MinMedian=\"Yes\"),CI4,IF(AND(SS_AGI_MajMedian=\"Yes\",SS_AGI_MinMedian=\"Yes\"),CN4))))","v":2},{"$f":"IF(AND(SS_AGI_MajMedian=\"No\", SS_AGI_MinMedian=\"No\"),BZ4,IF(AND(SS_AGI_MajMedian=\"Yes\",SS_AGI_MinMedian=\"No\"),CE4,IF(AND(SS_AGI_MajMedian=\"No\",SS_AGI_MinMedian=\"Yes\"),CJ4,IF(AND(SS_AGI_MajMedian=\"Yes\",SS_AGI_MinMedian=\"Yes\"),CO4))))","v":0},{"$f":"IF(AND(SS_AGI_MajMedian=\"No\", SS_AGI_MinMedian=\"No\"),CA4,IF(AND(SS_AGI_MajMedian=\"Yes\",SS_AGI_MinMedian=\"No\"),CF4,IF(AND(SS_AGI_MajMedian=\"No\",SS_AGI_MinMedian=\"Yes\"),CK4,IF(AND(SS_AGI_MajMedian=\"Yes\",SS_AGI_MinMedian=\"Yes\"),CP4))))","v":0},{"$f":"IF(AND(SS_AGI_MajMedian=\"No\", SS_AGI_MinMedian=\"No\"),CB4,IF(AND(SS_AGI_MajMedian=\"Yes\",SS_AGI_MinMedian=\"No\"),CG4,IF(AND(SS_AGI_MajMedian=\"No\",SS_AGI_MinMedian=\"Yes\"),CL4,IF(AND(SS_AGI_MajMedian=\"Yes\",SS_AGI_MinMedian=\"Yes\"),CQ4))))","v":0},{"$f":"MAX(1,IF(B4<>\"Pedestrian\",V4*SSI_AGI_MajorThruLanes+W4*SSI_AGI_MinorThruLanes+X4*IF(SSI_AGI_MajorThruLanes=1,SSI_AGI_MergeWeightL1,IF(SSI_AGI_MajorThruLanes=2,SSI_AGI_MergeWeightL1+SSI_AGI_MergeWeightL2,SSI_AGI_MergeWeightL1+SSI_AGI_MergeWeightL2+SSI_AGI_MergeWeightL3*(SSI_AGI_MajorThruLanes-2)))+Y4*IF(SSI_AGI_MinorThruLanes=1,SSI_AGI_MergeWeightL1,IF(SSI_AGI_MinorThruLanes=2,SSI_AGI_MergeWeightL1+SSI_AGI_MergeWeightL2,SSI_AGI_MergeWeightL1+SSI_AGI_MergeWeightL2+SSI_AGI_MergeWeightL3*(SSI_AGI_MinorThruLanes-2))),V4*SSI_AGI_MajorThruLanes+W4*SSI_AGI_MinorThruLanes+X4*IF(SSI_AGI_MajorThruLanes=1,SSI_AGI_NM_MergeWeightL1,IF(SSI_AGI_MajorThruLanes=2,SSI_AGI_NM_MergeWeightL1+SSI_AGI_NM_MergeWeightL2,SSI_AGI_NM_MergeWeightL1+SSI_AGI_NM_MergeWeightL2+SSI_AGI_NM_MergeWeightL3*(SSI_AGI_MajorThruLanes-2)))+Y4*IF(SSI_AGI_MinorThruLanes=1,SSI_AGI_NM_MergeWeightL1,IF(SSI_AGI_MinorThruLanes=2,SSI_AGI_NM_MergeWeightL1+SSI_AGI_NM_MergeWeightL2,SSI_AGI_NM_MergeWeightL1+SSI_AGI_NM_MergeWeightL2+SSI_AGI_NM_MergeWeightL3*(SSI_AGI_MinorThruLanes-2)))))","v":4},null,{"$f":"IF(B4=\"Diverging\",\"\",SSI_AGI_VehSpeed_MjrThru)","v":45},{"$f":"IF(B4=\"Diverging\",1,1-((60-AB4)/60*0.1/0.15))","v":0.83333333333333326},null,null,null,{"$f":"IF(SSI_AGI_ConsiderNMComplexity=\"Yes\",1+AE4+AF4,1)","v":1},null,{"$f":"PRODUCT(Z4,T4,AC4,AG4)","v":2.416666666666667},null,{"$f":"L4*R4*AI4","v":1069870.3135054489},null,null,{"$f":"IF(ISNUMBER(SEARCH(AN$3,$D4)),1,\"\")","v":""},{"$f":"IF(ISNUMBER(SEARCH(AO$3,$D4)),1,\"\")","v":""},"","","","",1,"","","","","","","","","",null,{"$f":"IF(ISNUMBER(SEARCH(BE$3,$G4)),1,\"\")","v":1},{"$f":"IF(ISNUMBER(SEARCH(BF$3,$G4)),1,\"\")","v":""},"","","","","","","","","","","","","","",null,null,1,"Crossing",2,0,0,0,null,1,0,0,0,null,2,0,0,0,null,1,0,0,0]
[2,"Crossing - LT","NBT","MinT1","Stop near","SBL","MinL2","Stop far",null,{"$f":"SUMPRODUCT($AN5:$BC5,$AN$60:$BC$60)","v":1785.7142857142856},{"$f":"SUMPRODUCT($BE5:$BT5,$BE$60:$BT$60)","v":1071.4285714285713},{"$f":"PRODUCT(J5:K5)","v":1913265.3061224485},null,15,25,230,{"$f":"IF(B5=\"Nonmotorized\",\"\",SQRT(N5^2+O5^2-2*N5*O5*COS(RADIANS(P5)))/2)","v":18.248908921254063},1.4099039069818802E-2,null,{"$f":"SSI_AGI_StopFactor","v":0.72500000000000009},null,1,1,1,0,4.75,null,45,0.83333333333333326,null,null,null,1,null,2.869791666666667,null,{"$f":"L5*R5*AI5","v":77413.2107727814},null,null,{"$f":"IF(ISNUMBER(SEARCH(AN$3,$D5)),1,\"\")","v":""},"","","","","",1,"","","","","","","","","",null,{"$f":"IF(ISNUMBER(SEARCH(BE$3,$G5)),1,\"\")","v":""},"","","","","","","","","",1,"","","","","",null,null,2,"Crossing - LT",1,1,1,0,null,1,1,0,0,null,0,1,1,0,null,0,1,0,0]
[3,"Crossing - LT","NBT","MinT1","Stop far","WBL","MajL2","Major left",null,1785.7142857142856,2068.6813186813188,3694073.7833594973,null,25,20,230,20.419277715473552,2.1555284139167314E-2,null,{"$f":"SSI_AGI_StopFactor","v":0.72500000000000009},null,2,0,0,0,4,null,45,0.83333333333333326,null,null,null,1,null,2.416666666666667,null,192431.45757579338,null,null,"","","","","","",1,"","","","","","","","","",null,"","","","",1,"","","","","","","","","","","",null,null,3,"Crossing - LT",2,0,0,0,null,1,0,0,0,null,2,0,0,0,null,1,0,0,0]
[4,"Crossing","NBT","MinT1","Stop far","WBT","MajT2","Major thru",null,1785.7142857142856,6502.7472527472528,11612048.665620092,null,25,45,90,25.739075352467502,5.1494149230103807E-2,null,{"$f":"SSI_AGI_StopFactor","v":0.72500000000000009},null,2,0,0,0,4,null,45,0.83333333333333326,null,null,null,1,null,2.416666666666667,null,1445052.0365654498,null,null,"","","","","","",1,"","","","","","","","","",null,"","","",1,"","","","","","","","","","","","",null,null,4,"Crossing",2,0,0,0,null,1,0,0,0,null,2,0,0,0,null,1,0,0,0]
[5,"Crossing - LT","WBT","MajT2","Major thru","EBL","MajL1","Major left",null,6502.7472527472528,2068.6813186813188,13452111.761864509,null,45,20,230,29.924979939156898,9.0286582411373745E-2,null,1,null,1,0,0,0,2,null,45,0.83333333333333326,null,null,null,1,null,1.6666666666666665,null,2024241.9953243164,null,null,"","","",1,"","","","","","","","","","","","",null,"",1,"","","","","","","","","","","","","","",null,null,5,"Crossing - LT",1,0,0,0,null,1,0,0,0,null,1,0,0,0,null,1,0,0,0]
[6,"Crossing - LT","WBT","MajT2","Major thru","SBL","MinL2","Stop near",null,6502.7472527472528,1071.4285714285713,6967229.1993720559,null,45,15,230,27.918467333813421,6.9762185672148203E-2,null,{"$f":"SSI_AGI_StopFactor","v":0.72500000000000009},null,1,1,1,0,4.75,null,45,0.83333333333333326,null,null,null,1,null,2.869791666666667,null,1394859.7630306263,null,null,"","","",1,"","","","","","","","","","","","",null,"","","","","","","","","","",1,"","","","","",null,null,6,"Crossing - LT",1,1,1,0,null,1,1,0,0,null,1,0,0,0,null,1,0,0,0]
[7,"Crossing","SBT","MinT2","Stop near","WBT","MajT2","Major thru",null,1857.1428571428571,6502.7472527472528,12076530.612244898,null,15,45,90,23.717082451262844,3.7884541771032863E-2,null,{"$f":"SSI_AGI_StopFactor","v":0.72500000000000009},null,2,0,0,0,4,null,45,0.83333333333333326,null,null,null,1,null,2.416666666666667,null,1105658.4187028101,null,null,"","","","","","","","","",1,"","","","","","",null,"","","",1,"","","","","","","","","","","","",null,null,7,"Crossing",2,0,0,0,null,1,0,0,0,null,2,0,0,0,null,1,0,0,0]
[8,"Crossing - LT","SBT","MinT2","Stop near","NBL","MinL1","Stop far",null,1857.1428571428571,1071.4285714285713,1989795.9183673467,null,15,25,230,18.248908921254063,1.4099039069818802E-2,null,{"$f":"SSI_AGI_StopFactor","v":0.72500000000000009},null,1,1,1,0,4.75,null,45,0.83333333333333326,null,null,null,1,null,2.869791666666667,null,80509.739203692661,null,null,"","","","","","","","","",1,"","","","","","",null,"","","","","","","",1,"","","","","","","","",null,null,8,"Crossing - LT",1,1,1,0,null,1,1,0,0,null,0,1,1,0,null,0,1,0,0]
[9,"Crossing - LT","SBT","MinT2","Stop far","EBL","MajL1","Major left",null,1857.1428571428571,2068.6813186813188,3841836.7346938779,null,25,20,230,20.419277715473552,2.1555284139167314E-2,null,{"$f":"SSI_AGI_StopFactor","v":0.72500000000000009},null,2,0,0,0,4,null,45,0.83333333333333326,null,null,null,1,null,2.416666666666667,null,200128.71587882514,null,null,"","","","","","","","","",1,"","","","","","",null,"",1,"","","","","","","","","","","","","","",null,null,9,"Crossing - LT",2,0,0,0,null,1,0,0,0,null,2,0,0,0,null,1,0,0,0]
[10,"Crossing","SBT","MinT2","Stop far","EBT","MajT1","Major thru",null,1857.1428571428571,6543.9560439560446,12153061.224489797,null,25,45,90,25.739075352467502,5.1494149230103807E-2,null,{"$f":"SSI_AGI_StopFactor","v":0.72500000000000009},null,2,0,0,0,4,null,45,0.83333333333333326,null,null,null,1,null,2.416666666666667,null,1512377.9083831254,null,null,"","","","","","","","","",1,"","","","","","",null,1,"","","","","","","","","","","","","","","",null,null,10,"Crossing",2,0,0,0,null,1,0,0,0,null,2,0,0,0,null,1,0,0,0]
[11,"Crossing - LT","EBT","MajT1","Major thru","WBL","MajL2","Major left",null,6543.9560439560446,2068.6813186813188,13537359.618403576,null,45,20,230,29.924979939156898,9.0286582411373745E-2,null,1,null,1,0,0,0,2,null,45,0.83333333333333326,null,null,null,1,null,1.6666666666666665,null,2037069.8913656624,null,null,1,"","","","","","","","","","","","","","","",null,"","","","",1,"","","","","","","","","","","",null,null,11,"Crossing - LT",1,0,0,0,null,1,0,0,0,null,1,0,0,0,null,1,0,0,0]
[12,"Crossing - LT","EBT","MajT1","Major thru","NBL","MinL1","Stop near",null,6543.9560439560446,1071.4285714285713,7011381.4756671898,null,45,15,230,27.918467333813421,6.9762185672148203E-2,null,{"$f":"SSI_AGI_StopFactor","v":0.72500000000000009},null,1,1,1,0,4.75,null,45,0.83333333333333326,null,null,null,1,null,2.869791666666667,null,1403699.1785124426,null,null,1,"","","","","","","","","","","","","","","",null,"","","","","","","",1,"","","","","","","","",null,null,12,"Crossing - LT",1,1,1,0,null,1,1,0,0,null,1,0,0,0,null,1,0,0,0]
[13,"Crossing - LT","NBL","MinL1","Stop near","WBL","MajL2","Major left",null,1071.4285714285713,2068.6813186813188,2216444.2700156984,null,15,20,230,15.895538413434787,8.3616736100371545E-3,null,0.72500000000000009,null,1,1,1,0,4.75,null,45,0.83333333333333326,null,null,null,1,null,2.869791666666667,null,53186.37573932443,null,null,"","","","","","","",1,"","","","","","","","",null,"","","","",1,"","","","","","","","","","","",null,null,13,"Crossing - LT",1,1,1,0,null,1,1,0,0,null,1,0,0,0,null,1,0,0,0]
[14,"Crossing - LT","NBL","MinL1","Stop near","EBL","MajL1","Major left",null,1071.4285714285713,2068.6813186813188,2216444.2700156984,null,15,20,230,15.895538413434787,8.3616736100371545E-3,null,0.72500000000000009,null,1,1,1,0,4.75,null,45,0.83333333333333326,null,null,null,1,null,2.869791666666667,null,53186.37573932443,null,null,"","","","","","","",1,"","","","","","","","",null,"",1,"","","","","","","","","","","","","","",null,null,14,"Crossing - LT",1,1,1,0,null,1,1,0,0,null,1,0,0,0,null,1,0,0,0]
[15,"Crossing - LT","SBL","MinL2","Stop near","EBL","MajL1","Major left",null,1071.4285714285713,2068.6813186813188,2216444.2700156984,null,15,20,230,15.895538413434787,8.3616736100371545E-3,null,0.72500000000000009,null,1,1,1,0,4.75,null,45,0.83333333333333326,null,null,null,1,null,2.869791666666667,null,53186.37573932443,null,null,"","","","","","","","","","",1,"","","","","",null,"",1,"","","","","","","","","","","","","","",null,null,15,"Crossing - LT",1,1,1,0,null,1,1,0,0,null,1,0,0,0,null,1,0,0,0]
[16,"Crossing - LT","SBL","MinL2","Stop near","WBL","MajL2","Major left",null,1071.4285714285713,2068.6813186813188,2216444.2700156984,null,15,20,230,15.895538413434787,8.3616736100371545E-3,null,0.72500000000000009,null,1,1,1,0,4.75,null,45,0.83333333333333326,null,null,null,1,null,2.869791666666667,null,53186.37573932443,null,null,"","","","","","","","","","",1,"","","","","",null,"","","","",1,"","","","","","","","","","","",null,null,16,"Crossing - LT",1,1,1,0,null,1,1,0,0,null,1,0,0,0,null,1,0,0,0]
[17,"Merging","EBT","MajT1","Major thru","SBL","MinL2","Stop far",null,6543.9560439560446,1071.4285714285713,7011381.4756671898,null,45,25,45,16.271214938736659,9.1348815406664795E-3,null,0.72500000000000009,null,1,1,1,0,4.75,null,45,0.83333333333333326,null,null,null,1,null,2.869791666666667,null,183804.81618942894,null,null,1,"","","","","","","","","","","","","","","",null,"","","","","","","","","","",1,"","","","","",null,null,17,"Merging",1,1,1,0,null,0,0,1,0,null,0,1,1,0,null,0,0,1,0]
[18,"Merging","EBT","MajT1","Major thru","NBR","MinR1","Stop near",null,6543.9560439560446,1142.8571428571429,7478806.9073783373,null,45,15,45,17.995873453365363,1.3373938286506865E-2,null,0.72500000000000009,null,0,0,1,0,1.75,null,45,0.83333333333333326,null,null,null,1,null,1.0572916666666667,null,105751.47767345712,null,null,1,"","","","","","","","","","","","","","","",null,"","","","","","","","",1,"","","","","","","",null,null,18,"Merging",0,0,1,0,null,0,0,1,0,null,0,0,1,0,null,0,0,1,0]
[19,"Merging","NBT","MinT1","Stop far","EBL","MajL1","Major left",null,1785.7142857142856,2068.6813186813188,3694073.7833594973,null,25,20,45,8.9147801264732891,9.333798723087925E-4,null,0.72500000000000009,null,2,0,0,0,4,null,45,0.83333333333333326,null,null,null,1,null,2.416666666666667,null,8332.6041141774185,null,null,"","","","","","",1,"","","","","","","","","",null,"",1,"","","","","","","","","","","","","","",null,null,19,"Merging",2,0,0,0,null,1,0,0,0,null,2,0,0,0,null,1,0,0,0]
[20,"Merging","NBT","MinT1","Stop far","WBR","MajR2","Major right",null,1785.7142857142856,428.57142857142856,765306.12244897953,null,25,15,45,8.9396576292116645,9.4329959592674944E-4,null,0.72500000000000009,null,2,0,0,0,4,null,45,0.83333333333333326,null,null,null,1,null,2.416666666666667,null,1744.6229771604424,null,null,"","","","","","",1,"","","","","","","","","",null,"","","","","",1,"","","","","","","","","","",null,null,20,"Merging",2,0,0,0,null,1,0,0,0,null,2,0,0,0,null,1,0,0,0]
[21,"Merging","WBT","MajT2","Major thru","NBL","MinL1","Stop far",null,6502.7472527472528,1071.4285714285713,6967229.1993720559,null,45,25,45,16.271214938736659,9.1348815406664795E-3,null,0.72500000000000009,null,1,1,1,0,4.75,null,45,0.83333333333333326,null,null,null,1,null,2.869791666666667,null,182647.35513030156,null,null,"","","",1,"","","","","","","","","","","","",null,"","","","","","","",1,"","","","","","","","",null,null,21,"Merging",1,1,1,0,null,0,0,1,0,null,0,1,1,0,null,0,0,1,0]
[22,"Merging","WBT","MajT2","Major thru","SBR","MinR2","Stop near",null,6502.7472527472528,1071.4285714285713,6967229.1993720559,null,45,15,45,17.995873453365363,1.3373938286506865E-2,null,0.72500000000000009,null,0,0,1,0,1.75,null,45,0.83333333333333326,null,null,null,1,null,1.0572916666666667,null,98517.69035464144,null,null,"","","",1,"","","","","","","","","","","","",null,"","","","","","","","","","","",1,"","","","",null,null,22,"Merging",0,0,1,0,null,0,0,1,0,null,0,0,1,0,null,0,0,1,0]
[23,"Merging","SBT","MinT2","Stop far","WBL","MajL2","Major left",null,1857.1428571428571,2068.6813186813188,3841836.7346938779,null,25,20,45,8.9147801264732891,9.333798723087925E-4,null,0.72500000000000009,null,2,0,0,0,4,null,45,0.83333333333333326,null,null,null,1,null,2.416666666666667,null,8665.9082787445186,null,null,"","","","","","","","","",1,"","","","","","",null,"","","","",1,"","","","","","","","","","","",null,null,23,"Merging",2,0,0,0,null,1,0,0,0,null,2,0,0,0,null,1,0,0,0]
[24,"Merging","SBT","MinT2","Stop far","EBR","MajR1","Major right",null,1857.1428571428571,387.36263736263737,719387.75510204083,null,25,15,45,8.9396576292116645,9.4329959592674944E-4,null,0.72500000000000009,null,2,0,0,0,4,null,45,0.83333333333333326,null,null,null,1,null,2.416666666666667,null,1639.9455985308159,null,null,"","","","","","","","","",1,"","","","","","",null,"","",1,"","","","","","","","","","","","","",null,null,24,"Merging",2,0,0,0,null,1,0,0,0,null,2,0,0,0,null,1,0,0,0]
[25,"Diverging","NBT","MinT1","Stop near","NBL","MinL1","Stop near",null,1785.7142857142856,1071.4285714285713,1913265.3061224485,null,15,15,10,1.3073361412148754,6.4061388075216071E-7,null,1,null,0,0,0,0,1,null,"",1,null,null,null,1,null,1,null,1.2256643126635725,null,null,"","","","","","",1,"","","","","","","","","",null,"","","","","","","",1,"","","","","","","","",null,null,25,"Diverging",0,0,0,0,null,0,0,0,0,null,0,0,0,0,null,0,0,0,0]
[26,"Diverging","NBT","MinT1","Stop near","NBR","MinR1","Stop near",null,1785.7142857142856,1142.8571428571429,2040816.3265306121,null,15,15,10,1.3073361412148754,6.4061388075216071E-7,null,1,null,0,0,0,0,1,null,"",1,null,null,null,1,null,1,null,1.3073752668411442,null,null,"","","","","","",1,"","","","","","","","","",null,"","","","","","","","",1,"","","","","","","",null,null,26,"Diverging",0,0,0,0,null,0,0,0,0,null,0,0,0,0,null,0,0,0,0]
[27,"Diverging","WBT","MajT2","Major thru","WBR","MajR2","Major right",null,6502.7472527472528,428.57142857142856,2786891.6797488225,null,45,15,10,15.169950011729762,7.0056226631585675E-3,null,1,null,0,0,0,0,1,null,"",1,null,null,null,1,null,1,null,19523.911511416398,null,null,"","","",1,"","","","","","","","","","","","",null,"","","","","",1,"","","","","","","","","","",null,null,27,"Diverging",0,0,0,0,null,0,0,0,0,null,0,0,0,0,null,0,0,0,0]
[28,"Diverging","WBT","MajT2","Major thru","WBL","MajL2","Major left",null,6502.7472527472528,2068.6813186813188,13452111.761864509,null,45,20,10,12.77053292327718,3.6481988362114144E-3,null,1,null,0,0,0,0,1,null,"",1,null,null,null,1,null,1,null,49075.978474219984,null,null,"","","",1,"","","","","","","","","","","","",null,"","","","",1,"","","","","","","","","","","",null,null,28,"Diverging",0,0,0,0,null,0,0,0,0,null,0,0,0,0,null,0,0,0,0]
[29,"Diverging","SBT","MinT2","Stop near","SBL","MinL2","Stop near",null,1857.1428571428571,1071.4285714285713,1989795.9183673467,null,15,15,10,1.3073361412148754,6.4061388075216071E-7,null,1,null,0,0,0,0,1,null,"",1,null,null,null,1,null,1,null,1.2746908851701155,null,null,"","","","","","","","","",1,"","","","","","",null,"","","","","","","","","","",1,"","","","","",null,null,29,"Diverging",0,0,0,0,null,0,0,0,0,null,0,0,0,0,null,0,0,0,0]
[30,"Diverging","SBT","MinT2","Stop near","SBR","MinR2","Stop near",null,1857.1428571428571,1071.4285714285713,1989795.9183673467,null,15,15,10,1.3073361412148754,6.4061388075216071E-7,null,1,null,0,0,0,0,1,null,"",1,null,null,null,1,null,1,null,1.2746908851701155,null,null,"","","","","","","","","",1,"","","","","","",null,"","","","","","","","","","","",1,"","","","",null,null,30,"Diverging",0,0,0,0,null,0,0,0,0,null,0,0,0,0,null,0,0,0,0]
[31,"Diverging","EBT","MajT1","Major thru","EBR","MajR1","Major right",null,6543.9560439560446,387.36263736263737,2534884.0719719846,null,45,15,10,15.169950011729762,7.0056226631585675E-3,null,1,null,0,0,0,0,1,null,"",1,null,null,null,1,null,1,null,17758.441303086609,null,null,1,"","","","","","","","","","","","","","","",null,"","",1,"","","","","","","","","","","","","",null,null,31,"Diverging",0,0,0,0,null,0,0,0,0,null,0,0,0,0,null,0,0,0,0]
[32,"Diverging","EBT","MajT1","Major thru","EBL","MajL1","Major left",null,6543.9560439560446,2068.6813186813188,13537359.618403576,null,45,20,10,12.77053292327718,3.6481988362114144E-3,null,1,null,0,0,0,0,1,null,"",1,null,null,null,1,null,1,null,49386.979605235327,null,null,{"$f":"IF(ISNUMBER(SEARCH(AN$3,$D35)),1,\"\")","v":1},"","","","","","","","","","","","","","","",null,{"$f":"IF(ISNUMBER(SEARCH(BE$3,$G35)),1,\"\")","v":""},1,"","","","","","","","","","","","","","",null,null,32,"Diverging",0,0,0,0,null,0,0,0,0,null,0,0,0,0,null,0,0,0,0]
[33,"Nonmotorized",null,"MajNM2","Nonmotorized",null,"MinR1","Stop near",null,175,1142.8571428571429,200000,null,{"$f":"VLOOKUP(E36,SSI_AGI_Range_VehSpeed,5,FALSE)","v":0},{"$f":"VLOOKUP(H36,SSI_AGI_Range_VehSpeed,5,FALSE)","v":15},{"$f":"IF(B36=\"Nonmotorized\",\"\",VLOOKUP(B36,SSI_AGI_Range_CollAngles,5,FALSE))","v":""},{"$f":"IF(B36=\"Nonmotorized\",\"\",SQRT(N36^2+O36^2-2*N36*O36*COS(RADIANS(P36)))/2)","v":""},{"$f":"IF(B36=\"Nonmotorized\",1/(1+EXP(3.8432-0.1237*O36)),(Q36/SSI_AGI_RegAlpha)^SSI_AGI_RegK+(Q36/SSI_AGI_RegAlpha)^SSI_AGI_RegK-((Q36/SSI_AGI_RegAlpha)^SSI_AGI_RegK)*((Q36/SSI_AGI_RegAlpha)^SSI_AGI_RegK))","v":0.1205004039155782},null,{"$f":"SSI_AGI_StopFactor","v":0.72500000000000009},null,{"$f":"IF(AND(SS_AGI_MajMedian=\"No\", SS_AGI_MinMedian=\"No\"),BY36,IF(AND(SS_AGI_MajMedian=\"Yes\",SS_AGI_MinMedian=\"No\"),CD36,IF(AND(SS_AGI_MajMedian=\"No\",SS_AGI_MinMedian=\"Yes\"),CI36,IF(AND(SS_AGI_MajMedian=\"Yes\",SS_AGI_MinMedian=\"Yes\"),CN36))))","v":2},{"$f":"IF(AND(SS_AGI_MajMedian=\"No\", SS_AGI_MinMedian=\"No\"),BZ36,IF(AND(SS_AGI_MajMedian=\"Yes\",SS_AGI_MinMedian=\"No\"),CE36,IF(AND(SS_AGI_MajMedian=\"No\",SS_AGI_MinMedian=\"Yes\"),CJ36,IF(AND(SS_AGI_MajMedian=\"Yes\",SS_AGI_MinMedian=\"Yes\"),CO36))))","v":0},{"$f":"IF(AND(SS_AGI_MajMedian=\"No\", SS_AGI_MinMedian=\"No\"),CA36,IF(AND(SS_AGI_MajMedian=\"Yes\",SS_AGI_MinMedian=\"No\"),CF36,IF(AND(SS_AGI_MajMedian=\"No\",SS_AGI_MinMedian=\"Yes\"),CK36,IF(AND(SS_AGI_MajMedian=\"Yes\",SS_AGI_MinMedian=\"Yes\"),CP36))))","v":0},{"$f":"IF(AND(SS_AGI_MajMedian=\"No\", SS_AGI_MinMedian=\"No\"),CB36,IF(AND(SS_AGI_MajMedian=\"Yes\",SS_AGI_MinMedian=\"No\"),CG36,IF(AND(SS_AGI_MajMedian=\"No\",SS_AGI_MinMedian=\"Yes\"),CL36,IF(AND(SS_AGI_MajMedian=\"Yes\",SS_AGI_MinMedian=\"Yes\"),CQ36))))","v":2},{"$f":"MAX(1,IF(B36<>\"Pedestrian\",V36*SSI_AGI_MajorThruLanes+W36*SSI_AGI_MinorThruLanes+X36*IF(SSI_AGI_MajorThruLanes=1,SSI_AGI_MergeWeightL1,IF(SSI_AGI_MajorThruLanes=2,SSI_AGI_MergeWeightL1+SSI_AGI_MergeWeightL2,SSI_AGI_MergeWeightL1+SSI_AGI_MergeWeightL2+SSI_AGI_MergeWeightL3*(SSI_AGI_MajorThruLanes-2)))+Y36*IF(SSI_AGI_MinorThruLanes=1,SSI_AGI_MergeWeightL1,IF(SSI_AGI_MinorThruLanes=2,SSI_AGI_MergeWeightL1+SSI_AGI_MergeWeightL2,SSI_AGI_MergeWeightL1+SSI_AGI_MergeWeightL2+SSI_AGI_MergeWeightL3*(SSI_AGI_MinorThruLanes-2))),V36*SSI_AGI_MajorThruLanes+W36*SSI_AGI_MinorThruLanes+X36*IF(SSI_AGI_MajorThruLanes=1,SSI_AGI_NM_MergeWeightL1,IF(SSI_AGI_MajorThruLanes=2,SSI_AGI_NM_MergeWeightL1+SSI_AGI_NM_MergeWeightL2,SSI_AGI_NM_MergeWeightL1+SSI_AGI_NM_MergeWeightL2+SSI_AGI_NM_MergeWeightL3*(SSI_AGI_MajorThruLanes-2)))+Y36*IF(SSI_AGI_MinorThruLanes=1,SSI_AGI_NM_MergeWeightL1,IF(SSI_AGI_MinorThruLanes=2,SSI_AGI_NM_MergeWeightL1+SSI_AGI_NM_MergeWeightL2,SSI_AGI_NM_MergeWeightL1+SSI_AGI_NM_MergeWeightL2+SSI_AGI_NM_MergeWeightL3*(SSI_AGI_MinorThruLanes-2)))))","v":6},null,{"$f":"IF(B36=\"Diverging\",\"\",SSI_AGI_VehSpeed_MjrThru)","v":45},0.83333333333333326,null,null,null,{"$f":"IF(SSI_AGI_ConsiderNMComplexity=\"Yes\",1+AE36+AF36,1)","v":1},null,3.625,null,87362.792838794208,null,null,"","","","","","","","","","","","","",1,"","",null,"","","","","","","","",1,"","","","","","","",null,null,33,"Nonmotorized",2,0,0,2,null,1,0,0,2,null,2,0,0,2,null,1,0,0,2]
[34,"Nonmotorized",null,"MajNM2","Nonmotorized",null,"MajT1","Major thru",null,175,6543.9560439560446,{"$f":"PRODUCT(J37:K37)","v":1145192.3076923077},null,0,45,"","",0.84855340903216459,null,1,null,2,0,0,2,6,null,45,0.83333333333333326,null,null,null,1,null,5,null,4858784.1834485969,null,null,"","","","","","","","","","","","","",1,"","",null,1,"","","","","","","","","","","","","","","",null,null,34,"Nonmotorized",2,0,0,2,null,1,0,0,2,null,2,0,0,2,null,1,0,0,2]
[35,"Nonmotorized",null,"MajNM2","Nonmotorized",null,"MinL2","Stop far",null,175,1071.4285714285713,187499.99999999997,null,0,25,"","",0.32066879346345062,null,{"$f":"SSI_AGI_StopFactor","v":0.72500000000000009},null,2,0,0,2,6,null,45,0.83333333333333326,null,null,null,1,null,3.625,null,217954.57055718906,null,null,"","","","","","","","","","","","","",1,"","",null,"","","","","","","","","","",1,"","","","","",null,null,35,"Nonmotorized",2,0,0,2,null,1,0,0,2,null,2,0,0,2,null,1,0,0,2]
[36,"Nonmotorized",null,"MajNM2","Nonmotorized",null,"MajL2","Major left",null,175,2068.6813186813188,362019.23076923081,null,0,20,"","",0.20274912921655375,null,1,null,2,0,0,2,6,null,45,0.83333333333333326,null,null,null,1,null,5,null,366995.41899054084,null,null,"","","","","","","","","","","","","",1,"","",null,"","","","",1,"","","","","","","","","","","",null,null,36,"Nonmotorized",2,0,0,2,null,1,0,0,0,null,2,0,0,2,null,1,0,0,0]
[37,"Nonmotorized",null,"MajNM2","Nonmotorized",null,"MajT2","Major thru",null,175,6502.7472527472528,1137980.7692307692,null,0,45,"","",0.84855340903216459,null,1,null,2,0,0,2,6,null,45,0.83333333333333326,null,null,null,1,null,5,null,4828187.3057190711,null,null,"","","","","","","","","","","","","",1,"","",null,"","","",1,"","","","","","","","","","","","",null,null,37,"Nonmotorized",2,0,0,2,null,1,0,0,0,null,2,0,0,2,null,1,0,0,0]
[38,"Nonmotorized",null,"MajNM2","Nonmotorized",null,"MajR2","Major right",null,175,428.57142857142856,75000,null,0,15,"","",0.1205004039155782,null,1,null,2,0,0,2,6,null,45,0.83333333333333326,null,null,null,1,null,5,null,45187.651468341828,null,null,"","","","","","","","","","","","","",1,"","",null,"","","","","",1,"","","","","","","","","","",null,null,38,"Nonmotorized",2,0,0,2,null,1,0,0,0,null,2,0,0,2,null,1,0,0,0]
[39,"Nonmotorized",null,"MinNM2","Nonmotorized",null,"MajR2","Major right",null,175,428.57142857142856,75000,null,0,15,"","",0.1205004039155782,null,1,null,0,2,2,0,5.5,null,45,0.83333333333333326,null,null,null,1,null,4.583333333333333,null,41422.013845980007,null,null,"","","","","","","","","","","","","","","",1,null,"","","","","",1,"","","","","","","","","","",null,null,39,"Nonmotorized",0,2,2,0,null,0,2,2,0,null,0,2,1,0,null,0,2,1,0]
[40,"Nonmotorized",null,"MinNM2","Nonmotorized",null,"MinT1","Stop far",null,175,1785.7142857142856,312500,null,0,25,"","",0.32066879346345062,null,{"$f":"SSI_AGI_StopFactor","v":0.72500000000000009},null,0,2,2,0,5.5,null,45,0.83333333333333326,null,null,null,1,null,3.322916666666667,null,332986.14946237224,null,null,"","","","","","","","","","","","","","","",1,null,"","","","","","",1,"","","","","","","","","",null,null,40,"Nonmotorized",0,2,2,0,null,0,2,2,0,null,0,2,1,0,null,0,2,1,0]
[41,"Nonmotorized",null,"MinNM2","Nonmotorized",null,"MajL1","Major left",null,175,2068.6813186813188,362019.23076923081,null,0,20,"","",0.20274912921655375,null,1,null,0,2,2,0,5.5,null,45,0.83333333333333326,null,null,null,1,null,4.583333333333333,null,336412.46740799578,null,null,"","","","","","","","","","","","","","","",1,null,"",1,"","","","","","","","","","","","","","",null,null,41,"Nonmotorized",0,2,2,0,null,0,2,2,0,null,0,2,1,0,null,0,2,1,0]
[42,"Nonmotorized",null,"MinNM2","Nonmotorized",null,"MinL2","Stop near",null,175,1071.4285714285713,187499.99999999997,null,0,15,"","",0.1205004039155782,null,{"$f":"SSI_AGI_StopFactor","v":0.72500000000000009},null,0,2,2,0,5.5,null,45,0.83333333333333326,null,null,null,1,null,3.322916666666667,null,75077.400095838762,null,null,"","","","","","","","","","","","","","","",1,null,"","","","","","","","","","",1,"","","","","",null,null,42,"Nonmotorized",0,2,2,0,null,0,2,2,0,null,0,0,1,0,null,0,0,1,0]
[43,"Nonmotorized",null,"MinNM2","Nonmotorized",null,"MinT2","Stop near",null,175,1857.1428571428571,325000,null,0,15,"","",0.1205004039155782,null,{"$f":"SSI_AGI_StopFactor","v":0.72500000000000009},null,0,2,2,0,5.5,null,45,0.83333333333333326,null,null,null,1,null,3.322916666666667,null,130134.16016612053,null,null,"","","","","","","","","","","","","","","",1,null,"","","","","","","","","",1,"","","","","","",null,null,43,"Nonmotorized",0,2,2,0,null,0,2,2,0,null,0,0,1,0,null,0,0,1,0]
[44,"Nonmotorized",null,"MinNM2","Nonmotorized",null,"MinR2","Stop near",null,175,1071.4285714285713,187499.99999999997,null,0,15,"","",0.1205004039155782,null,{"$f":"SSI_AGI_StopFactor","v":0.72500000000000009},null,0,2,2,0,5.5,null,45,0.83333333333333326,null,null,null,1,null,3.322916666666667,null,75077.400095838762,null,null,"","","","","","","","","","","","","","","",1,null,"","","","","","","","","","","",1,"","","","",null,null,44,"Nonmotorized",0,2,2,0,null,0,2,2,0,null,0,0,1,0,null,0,0,1,0]
[45,"Nonmotorized",null,"MajNM1","Nonmotorized",null,"MinR2","Stop near",null,175,1071.4285714285713,187499.99999999997,null,0,15,"","",0.1205004039155782,null,{"$f":"SSI_AGI_StopFactor","v":0.72500000000000009},null,2,0,0,2,6,null,45,0.83333333333333326,null,null,null,1,null,3.625,null,81902.618286369543,null,null,"","","","","","","","","","","","",1,"","","",null,"","","","","","","","","","","",1,"","","","",null,null,45,"Nonmotorized",2,0,0,2,null,1,0,0,2,null,2,0,0,2,null,1,0,0,2]
[46,"Nonmotorized",null,"MajNM1","Nonmotorized",null,"MajT2","Major thru",null,175,6502.7472527472528,1137980.7692307692,null,0,45,"","",0.84855340903216459,null,1,null,2,0,0,2,6,null,45,0.83333333333333326,null,null,null,1,null,5,null,4828187.3057190711,null,null,"","","","","","","","","","","","",1,"","","",null,"","","",1,"","","","","","","","","","","","",null,null,46,"Nonmotorized",2,0,0,2,null,1,0,0,2,null,2,0,0,2,null,1,0,0,2]
[47,"Nonmotorized",null,"MajNM1","Nonmotorized",null,"MinL1","Stop far",null,175,1071.4285714285713,187499.99999999997,null,0,25,"","",0.32066879346345062,null,{"$f":"SSI_AGI_StopFactor","v":0.72500000000000009},null,2,0,0,2,6,null,45,0.83333333333333326,null,null,null,1,null,3.625,null,217954.57055718906,null,null,"","","","","","","","","","","","",1,"","",{"$f":"IF(ISNUMBER(SEARCH(BC$3,$D50)),1,\"\")","v":""},null,"","","","","","","",1,"","","","","","","",{"$f":"IF(ISNUMBER(SEARCH(BT$3,$G50)),1,\"\")","v":""},null,null,47,"Nonmotorized",2,0,0,2,null,1,0,0,2,null,2,0,0,2,null,1,0,0,2]
[48,"Nonmotorized",null,"MajNM1","Nonmotorized",null,"MajL1","Major left",null,175,2068.6813186813188,362019.23076923081,null,0,20,"","",0.20274912921655375,null,1,null,2,0,0,2,6,null,45,0.83333333333333326,null,null,null,1,null,5,null,366995.41899054084,null,null,{"$f":"IF(ISNUMBER(SEARCH(AN$3,$D51)),1,\"\")","v":""},"","","","","","","","","","","",1,"","","",null,{"$f":"IF(ISNUMBER(SEARCH(BE$3,$G51)),1,\"\")","v":""},1,"","","","","","","","","","","","","","",null,null,48,"Nonmotorized",2,0,0,2,null,1,0,0,0,null,2,0,0,2,null,1,0,0,0]
[49,"Nonmotorized",null,"MajNM1","Nonmotorized",null,"MajT1","Major thru",null,175,6543.9560439560446,1145192.3076923077,null,0,45,"","",0.84855340903216459,null,1,null,2,0,0,2,6,null,45,0.83333333333333326,null,null,null,1,null,5,null,4858784.1834485969,null,null,"","","","","","","","","","","","",1,"","","",null,1,"","","","","","","","","","","","","","","",null,null,49,"Nonmotorized",2,0,0,2,null,1,0,0,0,null,2,0,0,2,null,1,0,0,0]
[50,"Nonmotorized",null,"MajNM1","Nonmotorized",null,"MajR1","Major right",null,175,387.36263736263737,67788.461538461546,null,0,15,"","",0.1205004039155782,null,1,null,2,0,0,2,6,null,45,0.83333333333333326,null,null,null,1,null,5,null,40842.684981001272,null,null,"","","","","","","","","","","","",1,"","","",null,"","",1,"","","","","","","","","","","","","",null,null,50,"Nonmotorized",2,0,0,2,null,1,0,0,0,null,2,0,0,2,null,1,0,0,0]
[51,"Nonmotorized",null,"MinNM1","Nonmotorized",null,"MajR1","Major right",null,175,387.36263736263737,67788.461538461546,null,0,15,"","",0.1205004039155782,null,1,null,0,2,2,0,5.5,null,45,0.83333333333333326,null,null,null,1,null,4.583333333333333,null,37439.127899251165,null,null,"","","","","","","","","","","","","","",1,"",null,"","",1,"","","","","","","","","","","","","",null,null,51,"Nonmotorized",0,2,2,0,null,0,2,2,0,null,0,2,1,0,null,0,2,1,0]
[52,"Nonmotorized",null,"MinNM1","Nonmotorized",null,"MinT2","Stop far",null,175,1857.1428571428571,325000,null,0,25,"","",0.32066879346345062,null,{"$f":"SSI_AGI_StopFactor","v":0.72500000000000009},null,0,2,2,0,5.5,null,45,0.83333333333333326,null,null,null,1,null,3.322916666666667,null,346305.59544086718,null,null,"","","","","","","","","","","","","","",1,"",null,"","","","","","","","","",1,"","","","","","",null,null,52,"Nonmotorized",0,2,2,0,null,0,2,2,0,null,0,2,1,0,null,0,2,1,0]
[53,"Nonmotorized",null,"MinNM1","Nonmotorized",null,"MajL2","Major left",null,175,2068.6813186813188,362019.23076923081,null,0,20,"","",0.20274912921655375,null,1,null,0,2,2,0,5.5,null,45,0.83333333333333326,null,null,null,1,null,4.583333333333333,null,336412.46740799578,null,null,"","","","","","","","","","","","","","",1,"",null,"","","","",1,"","","","","","","","","","","",null,null,53,"Nonmotorized",0,2,2,0,null,0,2,2,0,null,0,2,1,0,null,0,2,1,0]
[54,"Nonmotorized",null,"MinNM1","Nonmotorized",null,"MinL1","Stop near",null,175,1071.4285714285713,187499.99999999997,null,0,15,"","",0.1205004039155782,null,{"$f":"SSI_AGI_StopFactor","v":0.72500000000000009},null,0,2,2,0,5.5,null,45,0.83333333333333326,null,null,null,1,null,3.322916666666667,null,75077.400095838762,null,null,"","","","","","","","","","","","","","",1,"",null,"","","","","","","",1,"","","","","","","","",null,null,54,"Nonmotorized",0,2,2,0,null,0,2,2,0,null,0,0,1,0,null,0,0,1,0]
[55,"Nonmotorized",null,"MinNM1","Nonmotorized",null,"MinT1","Stop near",null,175,1785.7142857142856,312500,null,0,15,"","",0.1205004039155782,null,{"$f":"SSI_AGI_StopFactor","v":0.72500000000000009},null,0,2,2,0,5.5,null,45,0.83333333333333326,null,null,null,1,null,3.322916666666667,null,125129.00015973128,null,null,"","","","","","","","","","","","","","",1,"",null,"","","","","","",1,"","","","","","","","","",null,null,55,"Nonmotorized",0,2,2,0,null,0,2,2,0,null,0,0,1,0,null,0,0,1,0]
[56,"Nonmotorized",null,"MinNM1","Nonmotorized",null,"MinR1","Stop near",null,175,1142.8571428571429,200000,null,0,15,"","",0.1205004039155782,null,{"$f":"SSI_AGI_StopFactor","v":0.72500000000000009},null,0,2,2,0,5.5,null,45,0.83333333333333326,null,null,null,1,null,3.322916666666667,null,80082.560102228032,null,null,"","","","","","","","","","","","","","",1,"",null,"","","","","","","","",1,"","","","","","","",null,null,56,"Nonmotorized",0,2,2,0,null,0,2,2,0,null,0,0,1,0,null,0,0,1,0]
[null,null,null,null,null,null,null,null,null,null,null,null,null,null,null,null,null,null,null,null,null,null,null,null,null,null,null,null,null,null,null,null,null,null,null,null,null,null,"O",{"$f":"'SSI Inputs'!$D$26","v":6543.9560439560446},{"$f":"'SSI Inputs'!$D$27","v":2068.6813186813188},{"$f":"'SSI Inputs'!$D$28","v":387.36263736263737},{"$f":"'SSI Inputs'!$D$30","v":6502.7472527472528},{"$f":"'SSI Inputs'!$D$31","v":2068.6813186813188},{"$f":"'SSI Inputs'!$D$32","v":428.57142857142856},{"$f":"'SSI Inputs'!$D$34","v":1785.7142857142856},{"$f":"'SSI Inputs'!$D$35","v":1071.4285714285713},{"$f":"'SSI Inputs'!$D$36","v":1142.8571428571429},{"$f":"'SSI Inputs'!$D$38","v":1857.1428571428571},{"$f":"'SSI Inputs'!$D$39","v":1071.4285714285713},{"$f":"'SSI Inputs'!$D$40","v":1071.4285714285713},{"$f":"'SSI Inputs'!$Q$18","v":175},{"$f":"'SSI Inputs'!$Q$19","v":175},{"$f":"'SSI Inputs'!$Q$20","v":175},{"$f":"'SSI Inputs'!$Q$21","v":175},"O",{"$f":"'SSI Inputs'!$D$26","v":6543.9560439560446},{"$f":"'SSI Inputs'!$D$27","v":2068.6813186813188},{"$f":"'SSI Inputs'!$D$28","v":387.36263736263737},{"$f":"'SSI Inputs'!$D$30","v":6502.7472527472528},{"$f":"'SSI Inputs'!$D$31","v":2068.6813186813188},{"$f":"'SSI Inputs'!$D$32","v":428.57142857142856},{"$f":"'SSI Inputs'!$D$34","v":1785.7142857142856},{"$f":"'SSI Inputs'!$D$35","v":1071.4285714285713},{"$f":"'SSI Inputs'!$D$36","v":1142.8571428571429},{"$f":"'SSI Inputs'!$D$38","v":1857.1428571428571},{"$f":"'SSI Inputs'!$D$39","v":1071.4285714285713},{"$f":"'SSI Inputs'!$D$40","v":1071.4285714285713},{"$f":"'SSI Inputs'!$Q$18","v":175},{"$f":"'SSI Inputs'!$Q$19","v":175},{"$f":"'SSI Inputs'!$Q$20","v":175},{"$f":"'SSI Inputs'!$Q$21","v":175}]
[null,null,null,null,null,null,null,null,null,null,null,null,null,null,null,null,null,null,null,null,null,null,null,null,null,null,null,null,null,null,null,null,null,null,null,null,null,null,"D",{"$f":"'SSI Inputs'!$E$26","v":7271.062271062272},{"$f":"'SSI Inputs'!$E$27","v":2298.5347985347985},{"$f":"'SSI Inputs'!$E$28","v":430.40293040293039},{"$f":"'SSI Inputs'!$E$30","v":7225.2747252747249},{"$f":"'SSI Inputs'!$E$31","v":2298.5347985347985},{"$f":"'SSI Inputs'!$E$32","v":476.19047619047615},{"$f":"'SSI Inputs'!$E$34","v":2232.1428571428569},{"$f":"'SSI Inputs'!$E$35","v":1339.2857142857142},{"$f":"'SSI Inputs'!$E$36","v":1428.5714285714284},{"$f":"'SSI Inputs'!$E$38","v":2321.4285714285716},{"$f":"'SSI Inputs'!$E$39","v":1339.2857142857142},{"$f":"'SSI Inputs'!$E$40","v":1339.2857142857142},{"$f":"'SSI Inputs'!$R$18","v":175},{"$f":"'SSI Inputs'!$R$19","v":175},{"$f":"'SSI Inputs'!$R$20","v":175},{"$f":"'SSI Inputs'!$R$21","v":175},"D",{"$f":"'SSI Inputs'!$E$26","v":7271.062271062272},{"$f":"'SSI Inputs'!$E$27","v":2298.5347985347985},{"$f":"'SSI Inputs'!$E$28","v":430.40293040293039},{"$f":"'SSI Inputs'!$E$30","v":7225.2747252747249},{"$f":"'SSI Inputs'!$E$31","v":2298.5347985347985},{"$f":"'SSI Inputs'!$E$32","v":476.19047619047615},{"$f":"'SSI Inputs'!$E$34","v":2232.1428571428569},{"$f":"'SSI Inputs'!$E$35","v":1339.2857142857142},{"$f":"'SSI Inputs'!$E$36","v":1428.5714285714284},{"$f":"'SSI Inputs'!$E$38","v":2321.4285714285716},{"$f":"'SSI Inputs'!$E$39","v":1339.2857142857142},{"$f":"'SSI Inputs'!$E$40","v":1339.2857142857142},{"$f":"'SSI Inputs'!$R$18","v":175},{"$f":"'SSI Inputs'!$R$19","v":175},{"$f":"'SSI Inputs'!$R$20","v":175},{"$f":"'SSI Inputs'!$R$21","v":175}]
[]
[]
[]
[]
[]
[]
[]
[]
[]
[]
[]
[]
[]
[]
[]
[]
[]
[]
[]
[]
[]
[]
[]
[]
[]
[]
[]
[]
[]
[]
[]
[]
[]
[]
[]
[]
[]
[]
[]
[null,null,null,null,null,null,null,null,null,"Exposure",null,null,null,null,null,null,null,null,null,null,null,null,null,null,null,null,null,null,null,null,null,null,null,null,null,null,"Exposure-Severity-Complexity Product"]
[null,null,null,null,null,null,null,null,null,"Q1","Q2","I"]
[null,null,null,null,null,null,null,null,null,{"$f":"SUMPRODUCT($AN4:$BC4,$AN$61:$BC$61)","v":2232.1428571428569},{"$f":"SUMPRODUCT($BE4:$BT4,$BE$61:$BT$61)","v":7271.062271062272},{"$f":"PRODUCT(J103:K103)","v":16230049.712192569},null,null,null,null,null,null,null,null,null,null,null,null,null,null,null,null,null,null,null,null,null,null,null,null,{"$f":"L103*R4*AI4","v":1485930.9909797902}]
[null,null,null,null,null,null,null,null,null,{"$f":"SUMPRODUCT($AN5:$BC5,$AN$61:$BC$61)","v":2232.1428571428569},{"$f":"SUMPRODUCT($BE5:$BT5,$BE$61:$BT$61)","v":1339.2857142857142},{"$f":"PRODUCT(J104:K104)","v":2989477.0408163262},null,null,null,null,null,null,null,null,null,null,null,null,null,null,null,null,null,null,null,null,null,null,null,null,{"$f":"L104*R5*AI5","v":120958.14183247095}]
[null,null,null,null,null,null,null,null,null,2232.1428571428569,2298.5347985347985,5130658.032443746,null,null,null,null,null,null,null,null,null,null,null,null,null,null,null,null,null,null,null,null,null,null,null,null,267265.91329971299]
[null,null,null,null,null,null,null,null,null,2232.1428571428569,7225.2747252747249,16127845.368916795,null,null,null,null,null,null,null,null,null,null,null,null,null,null,null,null,null,null,null,null,null,null,null,null,2007016.7174520136]
[null,null,null,null,null,null,null,null,null,7225.2747252747249,2298.5347985347985,16607545.385017911,null,null,null,null,null,null,null,null,null,null,null,null,null,null,null,null,null,null,null,null,null,null,null,null,2499064.1917584152]
[null,null,null,null,null,null,null,null,null,7225.2747252747249,1339.2857142857142,9676707.2213500775,null,null,null,null,null,null,null,null,null,null,null,null,null,null,null,null,null,null,null,null,null,null,null,null,1937305.2264314254]
[null,null,null,null,null,null,null,null,null,2321.4285714285716,7225.2747252747249,16772959.183673469,null,null,null,null,null,null,null,null,null,null,null,null,null,null,null,null,null,null,null,null,null,null,null,null,1535636.6926427917]
[null,null,null,null,null,null,null,null,null,2321.4285714285716,1339.2857142857142,3109056.1224489794,null,null,null,null,null,null,null,null,null,null,null,null,null,null,null,null,null,null,null,null,null,null,null,null,125796.46750576979]
[null,null,null,null,null,null,null,null,null,2321.4285714285716,2298.5347985347985,5335884.3537414968,null,null,null,null,null,null,null,null,null,null,null,null,null,null,null,null,null,null,null,null,null,null,null,null,277956.54983170162]
[null,null,null,null,null,null,null,null,null,2321.4285714285716,7271.062271062272,16879251.700680275,null,null,null,null,null,null,null,null,null,null,null,null,null,null,null,null,null,null,null,null,null,null,null,null,2100524.872754341]
[null,null,null,null,null,null,null,null,null,7271.062271062272,2298.5347985347985,16712789.652350094,null,null,null,null,null,null,null,null,null,null,null,null,null,null,null,null,null,null,null,null,null,null,null,null,2514901.100451435]
[null,null,null,null,null,null,null,null,null,7271.062271062272,1339.2857142857142,9738029.8273155428,null,null,null,null,null,null,null,null,null,null,null,null,null,null,null,null,null,null,null,null,null,null,null,null,1949582.1923783929]
[null,null,null,null,null,null,null,null,null,1339.2857142857142,2298.5347985347985,3078394.8194662477,null,null,null,null,null,null,null,null,null,null,null,null,null,null,null,null,null,null,null,null,null,null,null,null,73869.966304617265]
[null,null,null,null,null,null,null,null,null,1339.2857142857142,2298.5347985347985,3078394.8194662477,null,null,null,null,null,null,null,null,null,null,null,null,null,null,null,null,null,null,null,null,null,null,null,null,73869.966304617265]
[null,null,null,null,null,null,null,null,null,1339.2857142857142,2298.5347985347985,3078394.8194662477,null,null,null,null,null,null,null,null,null,null,null,null,null,null,null,null,null,null,null,null,null,null,null,null,73869.966304617265]
[null,null,null,null,null,null,null,null,null,1339.2857142857142,2298.5347985347985,3078394.8194662477,null,null,null,null,null,null,null,null,null,null,null,null,null,null,null,null,null,null,null,null,null,null,null,null,73869.966304617265]
[null,null,null,null,null,null,null,null,null,7271.062271062272,1339.2857142857142,9738029.8273155428,null,null,null,null,null,null,null,null,null,null,null,null,null,null,null,null,null,null,null,null,null,null,null,null,255284.46692976245]
[null,null,null,null,null,null,null,null,null,7271.062271062272,1428.5714285714284,10387231.815803245,null,null,null,null,null,null,null,null,null,null,null,null,null,null,null,null,null,null,null,null,null,null,null,null,146877.05232424597]
[null,null,null,null,null,null,null,null,null,2232.1428571428569,2298.5347985347985,5130658.032443746,null,null,null,null,null,null,null,null,null,null,null,null,null,null,null,null,null,null,null,null,null,null,null,null,11573.061269690859]
[null,null,null,null,null,null,null,null,null,2232.1428571428569,476.19047619047615,1062925.170068027,null,null,null,null,null,null,null,null,null,null,null,null,null,null,null,null,null,null,null,null,null,null,null,null,2423.087468278392]
[null,null,null,null,null,null,null,null,null,7225.2747252747249,1339.2857142857142,9676707.2213500775,null,null,null,null,null,null,null,null,null,null,null,null,null,null,null,null,null,null,null,null,null,null,null,null,253676.88212541884]
[null,null,null,null,null,null,null,null,null,7225.2747252747249,1339.2857142857142,9676707.2213500775,null,null,null,null,null,null,null,null,null,null,null,null,null,null,null,null,null,null,null,null,null,null,null,null,136830.12549255756]
[null,null,null,null,null,null,null,null,null,2321.4285714285716,2298.5347985347985,5335884.3537414968,null,null,null,null,null,null,null,null,null,null,null,null,null,null,null,null,null,null,null,null,null,null,null,null,12035.983720478496]
[null,null,null,null,null,null,null,null,null,2321.4285714285716,430.40293040293039,999149.65986394556,null,null,null,null,null,null,null,null,null,null,null,null,null,null,null,null,null,null,null,null,null,null,null,null,2277.7022201816885]
[null,null,null,null,null,null,null,null,null,2232.1428571428569,1339.2857142857142,2989477.0408163262,null,null,null,null,null,null,null,null,null,null,null,null,null,null,null,null,null,null,null,null,null,null,null,null,1.9151004885368323]
[null,null,null,null,null,null,null,null,null,2232.1428571428569,1428.5714285714284,3188775.510204081,null,null,null,null,null,null,null,null,null,null,null,null,null,null,null,null,null,null,null,null,null,null,null,null,2.0427738544392877]
[null,null,null,null,null,null,null,null,null,7225.2747252747249,476.19047619047615,3440607.0120355831,null,null,null,null,null,null,null,null,null,null,null,null,null,null,null,null,null,null,null,null,null,null,null,null,24103.594458538762]
[null,null,null,null,null,null,null,null,null,7225.2747252747249,2298.5347985347985,16607545.385017911,null,null,null,null,null,null,null,null,null,null,null,null,null,null,null,null,null,null,null,null,null,null,null,null,60587.627745950587]
[null,null,null,null,null,null,null,null,null,2321.4285714285716,1339.2857142857142,3109056.1224489794,null,null,null,null,null,null,null,null,null,null,null,null,null,null,null,null,null,null,null,null,null,null,null,null,1.9917045080783056]
[null,null,null,null,null,null,null,null,null,2321.4285714285716,1339.2857142857142,3109056.1224489794,null,null,null,null,null,null,null,null,null,null,null,null,null,null,null,null,null,null,null,null,null,null,null,null,1.9917045080783056]
[null,null,null,null,null,null,null,null,null,7271.062271062272,430.40293040293039,3129486.508607388,null,null,null,null,null,null,null,null,null,null,null,null,null,null,null,null,null,null,null,null,null,null,null,null,21924.001608748898]
[null,null,null,null,null,null,null,null,null,7271.062271062272,2298.5347985347985,16712789.652350094,null,null,null,null,null,null,null,null,null,null,null,null,null,null,null,null,null,null,null,null,null,null,null,null,60971.579759549786]
[null,null,null,null,null,null,null,null,null,175,1428.5714285714284,249999.99999999997,null,null,null,null,null,null,null,null,null,null,null,null,null,null,null,null,null,null,null,null,null,null,null,null,109203.49104849274]
[null,null,null,null,null,null,null,null,null,175,7271.062271062272,1272435.8974358975,null,null,null,null,null,null,null,null,null,null,null,null,null,null,null,null,null,null,null,null,null,null,null,null,5398649.0927206632]
[null,null,null,null,null,null,null,null,null,175,1339.2857142857142,234375,null,null,null,null,null,null,null,null,null,null,null,null,null,null,null,null,null,null,null,null,null,null,null,null,272443.21319648635]
[null,null,null,null,null,null,null,null,null,175,2298.5347985347985,402243.58974358975,null,null,null,null,null,null,null,null,null,null,null,null,null,null,null,null,null,null,null,null,null,null,null,null,407772.68776726758]
[null,null,null,null,null,null,null,null,null,175,7225.2747252747249,1264423.0769230768,null,null,null,null,null,null,null,null,null,null,null,null,null,null,null,null,null,null,null,null,null,null,null,null,5364652.5619100779]
[null,null,null,null,null,null,null,null,null,175,476.19047619047615,83333.333333333328,null,null,null,null,null,null,null,null,null,null,null,null,null,null,null,null,null,null,null,null,null,null,null,null,50208.501631490915]
[null,null,null,null,null,null,null,null,null,175,476.19047619047615,83333.333333333328,null,null,null,null,null,null,null,null,null,null,null,null,null,null,null,null,null,null,null,null,null,null,null,null,46024.459828866668]
[null,null,null,null,null,null,null,null,null,175,2232.1428571428569,390624.99999999994,null,null,null,null,null,null,null,null,null,null,null,null,null,null,null,null,null,null,null,null,null,null,null,null,416232.68682796526]
[null,null,null,null,null,null,null,null,null,175,2298.5347985347985,402243.58974358975,null,null,null,null,null,null,null,null,null,null,null,null,null,null,null,null,null,null,null,null,null,null,null,null,373791.6304533286]
[null,null,null,null,null,null,null,null,null,175,1339.2857142857142,234375,null,null,null,null,null,null,null,null,null,null,null,null,null,null,null,null,null,null,null,null,null,null,null,null,93846.750119798467]
[null,null,null,null,null,null,null,null,null,175,2321.4285714285716,406250,null,null,null,null,null,null,null,null,null,null,null,null,null,null,null,null,null,null,null,null,null,null,null,null,162667.70020765066]
[null,null,null,null,null,null,null,null,null,175,1339.2857142857142,234375,null,null,null,null,null,null,null,null,null,null,null,null,null,null,null,null,null,null,null,null,null,null,null,null,93846.750119798467]
[null,null,null,null,null,null,null,null,null,175,1339.2857142857142,234375,null,null,null,null,null,null,null,null,null,null,null,null,null,null,null,null,null,null,null,null,null,null,null,null,102378.27285796196]
[null,null,null,null,null,null,null,null,null,175,7225.2747252747249,1264423.0769230768,null,null,null,null,null,null,null,null,null,null,null,null,null,null,null,null,null,null,null,null,null,null,null,null,5364652.5619100779]
[null,null,null,null,null,null,null,null,null,175,1339.2857142857142,234375,null,null,null,null,null,null,null,null,null,null,null,null,null,null,null,null,null,null,null,null,null,null,null,null,272443.21319648635]
[null,null,null,null,null,null,null,null,null,175,2298.5347985347985,402243.58974358975,null,null,null,null,null,null,null,null,null,null,null,null,null,null,null,null,null,null,null,null,null,null,null,null,407772.68776726758]
[null,null,null,null,null,null,null,null,null,175,7271.062271062272,1272435.8974358975,null,null,null,null,null,null,null,null,null,null,null,null,null,null,null,null,null,null,null,null,null,null,null,null,5398649.0927206632]
[null,null,null,null,null,null,null,null,null,175,430.40293040293039,75320.512820512813,null,null,null,null,null,null,null,null,null,null,null,null,null,null,null,null,null,null,null,null,null,null,null,null,45380.761090001404]
[null,null,null,null,null,null,null,null,null,175,430.40293040293039,75320.512820512813,null,null,null,null,null,null,null,null,null,null,null,null,null,null,null,null,null,null,null,null,null,null,null,null,41599.030999167953]
[null,null,null,null,null,null,null,null,null,175,2321.4285714285716,406250,null,null,null,null,null,null,null,null,null,null,null,null,null,null,null,null,null,null,null,null,null,null,null,null,432881.99430108391]
[null,null,null,null,null,null,null,null,null,175,2298.5347985347985,402243.58974358975,null,null,null,null,null,null,null,null,null,null,null,null,null,null,null,null,null,null,null,null,null,null,null,null,373791.6304533286]
[null,null,null,null,null,null,null,null,null,175,1339.2857142857142,234375,null,null,null,null,null,null,null,null,null,null,null,null,null,null,null,null,null,null,null,null,null,null,null,null,93846.750119798467]
[null,null,null,null,null,null,null,null,null,175,2232.1428571428569,390624.99999999994,null,null,null,null,null,null,null,null,null,null,null,null,null,null,null,null,null,null,null,null,null,null,null,null,156411.25019966406]
[null,null,null,null,null,null,null,null,null,175,1428.5714285714284,249999.99999999997,null,null,null,null,null,null,null,null,null,null,null,null,null,null,null,null,null,null,null,null,null,null,null,null,100103.20012778502]

{"sheet":"Trad_AllStop","index":39,"n_rows":158,"n_cols":95,"rows_kept":158,"cut":false,"hidden":true,"merged":[[0,19,0,28],[0,30,0,32],[1,31,2,31],[1,32,2,32],[1,21,1,25],[1,27,1,28],[1,30,2,30],[1,76,1,79],[1,81,1,84],[1,86,1,89],[1,91,1,94],[100,9,100,11],[100,36,101,36],[1,34,2,34],[1,36,2,36],[1,39,1,54],[1,9,1,11],[1,13,1,17],[1,56,1,71]]}
[null,null,null,null,null,null,null,null,null,null,null,null,null,null,null,null,null,null,null,"Conflicting Traffic Complexity",null,null,null,null,null,null,null,null,null,null,"Pedestrian Complexity",null,null,null,null,null,null,null,null,null,null,null,null,null,null,null,null,null,null,null,null,null,null,null,null,null,null,null,null,null,null,null,null,null,null,null,null,null,null,null,null,null,null,null,null,"*impact of median on complexity factors"]
[null,null,null,null,null,null,null,null,null,"Exposure",null,null,null,"Severity",null,null,null,null,null,"Traffic Control",null,"Conflicting Lanes",null,null,null,null,null,"Conflicting Speed",null,null,"Indirect Paths Indicator","Non-intuitive movements indicator","Pedestrian Complexity factor",null,"Total Complexity Multiplier",null,"Exposure-Severity-Complexity Product",null,null,"Included in Mvmt1",null,null,null,null,null,null,null,null,null,null,null,null,null,null,null,null,"Included in Mvmt2",null,null,null,null,null,null,null,null,null,null,null,null,null,null,null,null,null,null,null,"Major:No, Minor: No",null,null,null,null,"Major:Yes, Minor: No",null,null,null,null,"Major:No, Minor: Yes",null,null,null,null,"Major:Yes, Minor: Yes"]
["#","Conflict Type","Mvmt1","Mvmt1_gen","Mvmt1_SpeedCat","Mvmt2","Mvmt2_gen","Mvmt2_SpeedCat",null,"Q1","Q2","I",null,"Speed_V1","Speed_V2","Angle","delta_V","P_FSI",null,null,null,"MajC","MinC","MajM/P","MinM/P","Score",null,"Speed","Factor",null,null,null,null,null,null,null,null,null,null,"MajT1","MajL1","MajR1","MajT2","MajL2","MajR2","MinT1","MinL1","MinR1","MinT2","MinL2","MinR2","MajNM1","MajNM2","MinNM1","MinNM2",null,"MajT1","MajL1","MajR1","MajT2","MajL2","MajR2","MinT1","MinL1","MinR1","MinT2","MinL2","MinR2","MajNM1","MajNM2","MinNM1","MinNM2",null,null,"#","Conflict Type","MajC","MinC","MajM/P","MinM/P",null,"MajC","MinC","MajM/P","MinM/P",null,"MajC","MinC","MajM/P","MinM/P",null,"MajC","MinC","MajM/P","MinM/P"]
[1,"Crossing","NBT","MinT1","Stop near","EBT","MajT1","Stop far",null,{"$f":"SUMPRODUCT($AN4:$BC4,$AN$60:$BC$60)","v":1785.7142857142856},{"$f":"SUMPRODUCT($BE4:$BT4,$BE$60:$BT$60)","v":6543.9560439560446},{"$f":"PRODUCT(J4:K4)","v":11685635.79277865},null,{"$f":"VLOOKUP(E4,SSI_AGI_Range_VehSpeed,5,FALSE)","v":15},{"$f":"VLOOKUP(H4,SSI_AGI_Range_VehSpeed,5,FALSE)","v":25},{"$f":"IF(B4=\"Nonmotorized\",\"\",VLOOKUP(B4,SSI_AGI_Range_CollAngles,5,FALSE))","v":90},{"$f":"IF(B4=\"Nonmotorized\",\"\",SQRT(N4^2+O4^2-2*N4*O4*COS(RADIANS(P4)))/2)","v":14.577379737113251},{"$f":"IF(B4=\"Nonmotorized\",1/(1+EXP(3.8432-0.1237*O4)),(Q4/SSI_AGI_RegAlpha)^SSI_AGI_RegK+(Q4/SSI_AGI_RegAlpha)^SSI_AGI_RegK-((Q4/SSI_AGI_RegAlpha)^SSI_AGI_RegK)*((Q4/SSI_AGI_RegAlpha)^SSI_AGI_RegK))","v":6.0240867167528703E-3},null,{"$f":"SSI_AGI_StopFactor","v":0.72500000000000009},null,{"$f":"IF(AND(SS_AGI_MajMedian=\"No\", SS_AGI_MinMedian=\"No\"),BY4,IF(AND(SS_AGI_MajMedian=\"Yes\",SS_AGI_MinMedian=\"No\"),CD4,IF(AND(SS_AGI_MajMedian=\"No\",SS_AGI_MinMedian=\"Yes\"),CI4,IF(AND(SS_AGI_MajMedian=\"Yes\",SS_AGI_MinMedian=\"Yes\"),CN4))))","v":2},{"$f":"IF(AND(SS_AGI_MajMedian=\"No\", SS_AGI_MinMedian=\"No\"),BZ4,IF(AND(SS_AGI_MajMedian=\"Yes\",SS_AGI_MinMedian=\"No\"),CE4,IF(AND(SS_AGI_MajMedian=\"No\",SS_AGI_MinMedian=\"Yes\"),CJ4,IF(AND(SS_AGI_MajMedian=\"Yes\",SS_AGI_MinMedian=\"Yes\"),CO4))))","v":0},{"$f":"IF(AND(SS_AGI_MajMedian=\"No\", SS_AGI_MinMedian=\"No\"),CA4,IF(AND(SS_AGI_MajMedian=\"Yes\",SS_AGI_MinMedian=\"No\"),CF4,IF(AND(SS_AGI_MajMedian=\"No\",SS_AGI_MinMedian=\"Yes\"),CK4,IF(AND(SS_AGI_MajMedian=\"Yes\",SS_AGI_MinMedian=\"Yes\"),CP4))))","v":0},{"$f":"IF(AND(SS_AGI_MajMedian=\"No\", SS_AGI_MinMedian=\"No\"),CB4,IF(AND(SS_AGI_MajMedian=\"Yes\",SS_AGI_MinMedian=\"No\"),CG4,IF(AND(SS_AGI_MajMedian=\"No\",SS_AGI_MinMedian=\"Yes\"),CL4,IF(AND(SS_AGI_MajMedian=\"Yes\",SS_AGI_MinMedian=\"Yes\"),CQ4))))","v":0},{"$f":"MAX(1,IF(B4<>\"Pedestrian\",V4*SSI_AGI_MajorThruLanes+W4*SSI_AGI_MinorThruLanes+X4*IF(SSI_AGI_MajorThruLanes=1,SSI_AGI_MergeWeightL1,IF(SSI_AGI_MajorThruLanes=2,SSI_AGI_MergeWeightL1+SSI_AGI_MergeWeightL2,SSI_AGI_MergeWeightL1+SSI_AGI_MergeWeightL2+SSI_AGI_MergeWeightL3*(SSI_AGI_MajorThruLanes-2)))+Y4*IF(SSI_AGI_MinorThruLanes=1,SSI_AGI_MergeWeightL1,IF(SSI_AGI_MinorThruLanes=2,SSI_AGI_MergeWeightL1+SSI_AGI_MergeWeightL2,SSI_AGI_MergeWeightL1+SSI_AGI_MergeWeightL2+SSI_AGI_MergeWeightL3*(SSI_AGI_MinorThruLanes-2))),V4*SSI_AGI_MajorThruLanes+W4*SSI_AGI_MinorThruLanes+X4*IF(SSI_AGI_MajorThruLanes=1,SSI_AGI_NM_MergeWeightL1,IF(SSI_AGI_MajorThruLanes=2,SSI_AGI_NM_MergeWeightL1+SSI_AGI_NM_MergeWeightL2,SSI_AGI_NM_MergeWeightL1+SSI_AGI_NM_MergeWeightL2+SSI_AGI_NM_MergeWeightL3*(SSI_AGI_MajorThruLanes-2)))+Y4*IF(SSI_AGI_MinorThruLanes=1,SSI_AGI_NM_MergeWeightL1,IF(SSI_AGI_MinorThruLanes=2,SSI_AGI_NM_MergeWeightL1+SSI_AGI_NM_MergeWeightL2,SSI_AGI_NM_MergeWeightL1+SSI_AGI_NM_MergeWeightL2+SSI_AGI_NM_MergeWeightL3*(SSI_AGI_MinorThruLanes-2)))))","v":4},null,{"$f":"IF(B4=\"Diverging\",\"\",SSI_AGI_VehSpeed_MjrThru)","v":45},{"$f":"IF(B4=\"Diverging\",1,1-((60-AB4)/60*0.1/0.15))","v":0.83333333333333326},null,null,null,{"$f":"IF(SSI_AGI_ConsiderNMComplexity=\"Yes\",1+AE4+AF4,1)","v":1},null,{"$f":"PRODUCT(Z4,T4,AC4,AG4)","v":2.416666666666667},null,{"$f":"L4*R4*AI4","v":170121.93477721696},null,null,{"$f":"IF(ISNUMBER(SEARCH(AN$3,$D4)),1,\"\")","v":""},{"$f":"IF(ISNUMBER(SEARCH(AO$3,$D4)),1,\"\")","v":""},"","","","",1,"","","","","","","","","",null,{"$f":"IF(ISNUMBER(SEARCH(BE$3,$G4)),1,\"\")","v":1},{"$f":"IF(ISNUMBER(SEARCH(BF$3,$G4)),1,\"\")","v":""},"","","","","","","","","","","","","","",null,null,1,"Crossing",2,0,0,0,null,1,0,0,0,null,2,0,0,0,null,1,0,0,0]
[2,"Crossing - LT","NBT","MinT1","Stop near","SBL","MinL2","Stop far",null,{"$f":"SUMPRODUCT($AN5:$BC5,$AN$60:$BC$60)","v":1785.7142857142856},{"$f":"SUMPRODUCT($BE5:$BT5,$BE$60:$BT$60)","v":1071.4285714285713},{"$f":"PRODUCT(J5:K5)","v":1913265.3061224485},null,15,25,230,{"$f":"IF(B5=\"Nonmotorized\",\"\",SQRT(N5^2+O5^2-2*N5*O5*COS(RADIANS(P5)))/2)","v":18.248908921254063},1.4099039069818802E-2,null,0.72500000000000009,null,1,1,1,0,4.75,null,45,0.83333333333333326,null,null,null,1,null,2.869791666666667,null,{"$f":"L5*R5*AI5","v":77413.2107727814},null,null,{"$f":"IF(ISNUMBER(SEARCH(AN$3,$D5)),1,\"\")","v":""},"","","","","",1,"","","","","","","","","",null,{"$f":"IF(ISNUMBER(SEARCH(BE$3,$G5)),1,\"\")","v":""},"","","","","","","","","",1,"","","","","",null,null,2,"Crossing - LT",1,1,1,0,null,1,1,0,0,null,0,1,1,0,null,0,1,0,0]
[3,"Crossing - LT","NBT","MinT1","Stop far","WBL","MajL2","Stop near",null,1785.7142857142856,2068.6813186813188,3694073.7833594973,null,25,15,230,18.248908921254063,1.4099039069818802E-2,null,0.72500000000000009,null,2,0,0,0,4,null,45,0.83333333333333326,null,null,null,1,null,2.416666666666667,null,125866.98561274905,null,null,"","","","","","",1,"","","","","","","","","",null,"","","","",1,"","","","","","","","","","","",null,null,3,"Crossing - LT",2,0,0,0,null,1,0,0,0,null,2,0,0,0,null,1,0,0,0]
[4,"Crossing","NBT","MinT1","Stop far","WBT","MajT2","Stop near",null,1785.7142857142856,6502.7472527472528,11612048.665620092,null,25,15,90,14.577379737113251,6.0240867167528703E-3,null,0.72500000000000009,null,2,0,0,0,4,null,45,0.83333333333333326,null,null,null,1,null,2.416666666666667,null,169050.63795872059,null,null,"","","","","","",1,"","","","","","","","","",null,"","","",1,"","","","","","","","","","","","",null,null,4,"Crossing",2,0,0,0,null,1,0,0,0,null,2,0,0,0,null,1,0,0,0]
[5,"Crossing - LT","WBT","MajT2","Stop near","EBL","MajL1","Stop far",null,6502.7472527472528,2068.6813186813188,13452111.761864509,null,15,25,230,18.248908921254063,1.4099039069818802E-2,null,0.72500000000000009,null,1,0,0,0,2,null,45,0.83333333333333326,null,null,null,1,null,1.2083333333333335,null,229174.73457336694,null,null,"","","",1,"","","","","","","","","","","","",null,"",1,"","","","","","","","","","","","","","",null,null,5,"Crossing - LT",1,0,0,0,null,1,0,0,0,null,1,0,0,0,null,1,0,0,0]
[6,"Crossing - LT","WBT","MajT2","Stop far","SBL","MinL2","Stop near",null,6502.7472527472528,1071.4285714285713,6967229.1993720559,null,25,15,230,18.248908921254063,1.4099039069818802E-2,null,0.72500000000000009,null,1,1,1,0,4.75,null,45,0.83333333333333326,null,null,null,1,null,2.869791666666667,null,281903.18446026708,null,null,"","","",1,"","","","","","","","","","","","",null,"","","","","","","","","","",1,"","","","","",null,null,6,"Crossing - LT",1,1,1,0,null,1,1,0,0,null,1,0,0,0,null,1,0,0,0]
[7,"Crossing","SBT","MinT2","Stop near","WBT","MajT2","Stop far",null,1857.1428571428571,6502.7472527472528,12076530.612244898,null,15,25,90,14.577379737113251,6.0240867167528703E-3,null,0.72500000000000009,null,2,0,0,0,4,null,45,0.83333333333333326,null,null,null,1,null,2.416666666666667,null,175812.66347706944,null,null,"","","","","","","","","",1,"","","","","","",null,"","","",1,"","","","","","","","","","","","",null,null,7,"Crossing",2,0,0,0,null,1,0,0,0,null,2,0,0,0,null,1,0,0,0]
[8,"Crossing - LT","SBT","MinT2","Stop near","NBL","MinL1","Stop far",null,1857.1428571428571,1071.4285714285713,1989795.9183673467,null,15,25,230,18.248908921254063,1.4099039069818802E-2,null,0.72500000000000009,null,1,1,1,0,4.75,null,45,0.83333333333333326,null,null,null,1,null,2.869791666666667,null,80509.739203692661,null,null,"","","","","","","","","",1,"","","","","","",null,"","","","","","","",1,"","","","","","","","",null,null,8,"Crossing - LT",1,1,1,0,null,1,1,0,0,null,0,1,1,0,null,0,1,0,0]
[9,"Crossing - LT","SBT","MinT2","Stop far","EBL","MajL1","Stop near",null,1857.1428571428571,2068.6813186813188,3841836.7346938779,null,25,15,230,18.248908921254063,1.4099039069818802E-2,null,0.72500000000000009,null,2,0,0,0,4,null,45,0.83333333333333326,null,null,null,1,null,2.416666666666667,null,130901.66503725902,null,null,"","","","","","","","","",1,"","","","","","",null,"",1,"","","","","","","","","","","","","","",null,null,9,"Crossing - LT",2,0,0,0,null,1,0,0,0,null,2,0,0,0,null,1,0,0,0]
[10,"Crossing","SBT","MinT2","Stop far","EBT","MajT1","Stop near",null,1857.1428571428571,6543.9560439560446,12153061.224489797,null,25,15,90,14.577379737113251,6.0240867167528703E-3,null,0.72500000000000009,null,2,0,0,0,4,null,45,0.83333333333333326,null,null,null,1,null,2.416666666666667,null,176926.81216830562,null,null,"","","","","","","","","",1,"","","","","","",null,1,"","","","","","","","","","","","","","","",null,null,10,"Crossing",2,0,0,0,null,1,0,0,0,null,2,0,0,0,null,1,0,0,0]
[11,"Crossing - LT","EBT","MajT1","Stop near","WBL","MajL2","Stop far",null,6543.9560439560446,2068.6813186813188,13537359.618403576,null,15,25,230,18.248908921254063,1.4099039069818802E-2,null,0.72500000000000009,null,1,0,0,0,2,null,45,0.83333333333333326,null,null,null,1,null,1.2083333333333335,null,230627.04594582177,null,null,1,"","","","","","","","","","","","","","","",null,"","","","",1,"","","","","","","","","","","",null,null,11,"Crossing - LT",1,0,0,0,null,1,0,0,0,null,1,0,0,0,null,1,0,0,0]
[12,"Crossing - LT","EBT","MajT1","Stop far","NBL","MinL1","Stop near",null,6543.9560439560446,1071.4285714285713,7011381.4756671898,null,25,15,230,18.248908921254063,1.4099039069818802E-2,null,0.72500000000000009,null,1,1,1,0,4.75,null,45,0.83333333333333326,null,null,null,1,null,2.869791666666667,null,283689.64317040821,null,null,1,"","","","","","","","","","","","","","","",null,"","","","","","","",1,"","","","","","","","",null,null,12,"Crossing - LT",1,1,1,0,null,1,1,0,0,null,1,0,0,0,null,1,0,0,0]
[13,"Crossing - LT","NBL","MinL1","Stop near","WBL","MajL2","Stop far",null,1071.4285714285713,2068.6813186813188,2216444.2700156984,null,15,25,230,18.248908921254063,1.4099039069818802E-2,null,0.72500000000000009,null,1,1,1,0,4.75,null,45,0.83333333333333326,null,null,null,1,null,2.869791666666667,null,89680.227249083706,null,null,"","","","","","","",1,"","","","","","","","",null,"","","","",1,"","","","","","","","","","","",null,null,13,"Crossing - LT",1,1,1,0,null,1,1,0,0,null,1,0,0,0,null,1,0,0,0]
[14,"Crossing - LT","NBL","MinL1","Stop near","EBL","MajL1","Stop near",null,1071.4285714285713,2068.6813186813188,2216444.2700156984,null,15,15,230,13.59461680554975,4.62405573320822E-3,null,0.72500000000000009,null,1,1,1,0,4.75,null,45,0.83333333333333326,null,null,null,1,null,2.869791666666667,null,29412.385263492353,null,null,"","","","","","","",1,"","","","","","","","",null,"",1,"","","","","","","","","","","","","","",null,null,14,"Crossing - LT",1,1,1,0,null,1,1,0,0,null,1,0,0,0,null,1,0,0,0]
[15,"Crossing - LT","SBL","MinL2","Stop near","EBL","MajL1","Stop far",null,1071.4285714285713,2068.6813186813188,2216444.2700156984,null,15,25,230,18.248908921254063,1.4099039069818802E-2,null,0.72500000000000009,null,1,1,1,0,4.75,null,45,0.83333333333333326,null,null,null,1,null,2.869791666666667,null,89680.227249083706,null,null,"","","","","","","","","","",1,"","","","","",null,"",1,"","","","","","","","","","","","","","",null,null,15,"Crossing - LT",1,1,1,0,null,1,1,0,0,null,1,0,0,0,null,1,0,0,0]
[16,"Crossing - LT","SBL","MinL2","Stop near","WBL","MajL2","Stop near",null,1071.4285714285713,2068.6813186813188,2216444.2700156984,null,15,15,230,13.59461680554975,4.62405573320822E-3,null,0.72500000000000009,null,1,1,1,0,4.75,null,45,0.83333333333333326,null,null,null,1,null,2.869791666666667,null,29412.385263492353,null,null,"","","","","","","","","","",1,"","","","","",null,"","","","",1,"","","","","","","","","","","",null,null,16,"Crossing - LT",1,1,1,0,null,1,1,0,0,null,1,0,0,0,null,1,0,0,0]
[17,"Merging","EBT","MajT1","Stop far","SBL","MinL2","Stop far",null,6543.9560439560446,1071.4285714285713,7011381.4756671898,null,25,25,45,9.5670858091272439,1.2201154392262267E-3,null,0.72500000000000009,null,1,1,1,0,4.75,null,45,0.83333333333333326,null,null,null,1,null,2.869791666666667,null,24550.191815678299,null,null,1,"","","","","","","","","","","","","","","",null,"","","","","","","","","","",1,"","","","","",null,null,17,"Merging",1,1,1,0,null,0,0,1,0,null,0,1,1,0,null,0,0,1,0]
[18,"Merging","EBT","MajT1","Stop far","NBR","MinR1","Stop near",null,6543.9560439560446,1142.8571428571429,7478806.9073783373,null,25,15,45,8.9396576292116645,9.4329959592674944E-4,null,0.72500000000000009,null,0,0,1,0,1.75,null,45,0.83333333333333326,null,null,null,1,null,1.0572916666666667,null,7458.9342361982617,null,null,1,"","","","","","","","","","","","","","","",null,"","","","","","","","",1,"","","","","","","",null,null,18,"Merging",0,0,1,0,null,0,0,1,0,null,0,0,1,0,null,0,0,1,0]
[19,"Merging","NBT","MinT1","Stop far","EBL","MajL1","Stop far",null,1785.7142857142856,2068.6813186813188,3694073.7833594973,null,25,25,45,9.5670858091272439,1.2201154392262267E-3,null,0.72500000000000009,null,2,0,0,0,4,null,45,0.83333333333333326,null,null,null,1,null,2.416666666666667,null,10892.391437067927,null,null,"","","","","","",1,"","","","","","","","","",null,"",1,"","","","","","","","","","","","","","",null,null,19,"Merging",2,0,0,0,null,1,0,0,0,null,2,0,0,0,null,1,0,0,0]
[20,"Merging","NBT","MinT1","Stop far","WBR","MajR2","Stop near",null,1785.7142857142856,428.57142857142856,765306.12244897953,null,25,15,45,8.9396576292116645,9.4329959592674944E-4,null,0.72500000000000009,null,2,0,0,0,4,null,45,0.83333333333333326,null,null,null,1,null,2.416666666666667,null,1744.6229771604424,null,null,"","","","","","",1,"","","","","","","","","",null,"","","","","",1,"","","","","","","","","","",null,null,20,"Merging",2,0,0,0,null,1,0,0,0,null,2,0,0,0,null,1,0,0,0]
[21,"Merging","WBT","MajT2","Stop far","NBL","MinL1","Stop far",null,6502.7472527472528,1071.4285714285713,6967229.1993720559,null,25,25,45,9.5670858091272439,1.2201154392262267E-3,null,0.72500000000000009,null,1,1,1,0,4.75,null,45,0.83333333333333326,null,null,null,1,null,2.869791666666667,null,24395.593630441028,null,null,"","","",1,"","","","","","","","","","","","",null,"","","","","","","",1,"","","","","","","","",null,null,21,"Merging",1,1,1,0,null,0,0,1,0,null,0,1,1,0,null,0,0,1,0]
[22,"Merging","WBT","MajT2","Stop far","SBR","MinR2","Stop near",null,6502.7472527472528,1071.4285714285713,6967229.1993720559,null,25,15,45,8.9396576292116645,9.4329959592674944E-4,null,0.72500000000000009,null,0,0,1,0,1.75,null,45,0.83333333333333326,null,null,null,1,null,1.0572916666666667,null,6948.7158914835018,null,null,"","","",1,"","","","","","","","","","","","",null,"","","","","","","","","","","",1,"","","","",null,null,22,"Merging",0,0,1,0,null,0,0,1,0,null,0,0,1,0,null,0,0,1,0]
[23,"Merging","SBT","MinT2","Stop far","WBL","MajL2","Stop far",null,1857.1428571428571,2068.6813186813188,3841836.7346938779,null,25,25,45,9.5670858091272439,1.2201154392262267E-3,null,0.72500000000000009,null,2,0,0,0,4,null,45,0.83333333333333326,null,null,null,1,null,2.416666666666667,null,11328.087094550647,null,null,"","","","","","","","","",1,"","","","","","",null,"","","","",1,"","","","","","","","","","","",null,null,23,"Merging",2,0,0,0,null,1,0,0,0,null,2,0,0,0,null,1,0,0,0]
[24,"Merging","SBT","MinT2","Stop far","EBR","MajR1","Stop near",null,1857.1428571428571,387.36263736263737,719387.75510204083,null,25,15,45,8.9396576292116645,9.4329959592674944E-4,null,0.72500000000000009,null,2,0,0,0,4,null,45,0.83333333333333326,null,null,null,1,null,2.416666666666667,null,1639.9455985308159,null,null,"","","","","","","","","",1,"","","","","","",null,"","",1,"","","","","","","","","","","","","",null,null,24,"Merging",2,0,0,0,null,1,0,0,0,null,2,0,0,0,null,1,0,0,0]
[25,"Diverging","NBT","MinT1","Stop near","NBL","MinL1","Stop near",null,1785.7142857142856,1071.4285714285713,1913265.3061224485,null,15,15,10,1.3073361412148754,6.4061388075216071E-7,null,1,null,0,0,0,0,1,null,"",1,null,null,null,1,null,1,null,1.2256643126635725,null,null,"","","","","","",1,"","","","","","","","","",null,"","","","","","","",1,"","","","","","","","",null,null,25,"Diverging",0,0,0,0,null,0,0,0,0,null,0,0,0,0,null,0,0,0,0]
[26,"Diverging","NBT","MinT1","Stop near","NBR","MinR1","Stop near",null,1785.7142857142856,1142.8571428571429,2040816.3265306121,null,15,15,10,1.3073361412148754,6.4061388075216071E-7,null,1,null,0,0,0,0,1,null,"",1,null,null,null,1,null,1,null,1.3073752668411442,null,null,"","","","","","",1,"","","","","","","","","",null,"","","","","","","","",1,"","","","","","","",null,null,26,"Diverging",0,0,0,0,null,0,0,0,0,null,0,0,0,0,null,0,0,0,0]
[27,"Diverging","WBT","MajT2","Stop near","WBR","MajR2","Stop near",null,6502.7472527472528,428.57142857142856,2786891.6797488225,null,15,15,10,1.3073361412148754,6.4061388075216071E-7,null,1,null,0,0,0,0,1,null,"",1,null,null,null,1,null,1,null,1.785321494199801,null,null,"","","",1,"","","","","","","","","","","","",null,"","","","","",1,"","","","","","","","","","",null,null,27,"Diverging",0,0,0,0,null,0,0,0,0,null,0,0,0,0,null,0,0,0,0]
[28,"Diverging","WBT","MajT2","Stop near","WBL","MajL2","Stop near",null,6502.7472527472528,2068.6813186813188,13452111.761864509,null,15,15,10,1.3073361412148754,6.4061388075216071E-7,null,1,null,0,0,0,0,1,null,"",1,null,null,null,1,null,1,null,8.6176095200798102,null,null,"","","",1,"","","","","","","","","","","","",null,"","","","",1,"","","","","","","","","","","",null,null,28,"Diverging",0,0,0,0,null,0,0,0,0,null,0,0,0,0,null,0,0,0,0]
[29,"Diverging","SBT","MinT2","Stop near","SBL","MinL2","Stop near",null,1857.1428571428571,1071.4285714285713,1989795.9183673467,null,15,15,10,1.3073361412148754,6.4061388075216071E-7,null,1,null,0,0,0,0,1,null,"",1,null,null,null,1,null,1,null,1.2746908851701155,null,null,"","","","","","","","","",1,"","","","","","",null,"","","","","","","","","","",1,"","","","","",null,null,29,"Diverging",0,0,0,0,null,0,0,0,0,null,0,0,0,0,null,0,0,0,0]
[30,"Diverging","SBT","MinT2","Stop near","SBR","MinR2","Stop near",null,1857.1428571428571,1071.4285714285713,1989795.9183673467,null,15,15,10,1.3073361412148754,6.4061388075216071E-7,null,1,null,0,0,0,0,1,null,"",1,null,null,null,1,null,1,null,1.2746908851701155,null,null,"","","","","","","","","",1,"","","","","","",null,"","","","","","","","","","","",1,"","","","",null,null,30,"Diverging",0,0,0,0,null,0,0,0,0,null,0,0,0,0,null,0,0,0,0]
[31,"Diverging","EBT","MajT1","Stop near","EBR","MajR1","Stop near",null,6543.9560439560446,387.36263736263737,2534884.0719719846,null,15,15,10,1.3073361412148754,6.4061388075216071E-7,null,1,null,0,0,0,0,1,null,"",1,null,null,null,1,null,1,null,1.6238819226028125,null,null,1,"","","","","","","","","","","","","","","",null,"","",1,"","","","","","","","","","","","","",null,null,31,"Diverging",0,0,0,0,null,0,0,0,0,null,0,0,0,0,null,0,0,0,0]
[32,"Diverging","EBT","MajT1","Stop near","EBL","MajL1","Stop near",null,6543.9560439560446,2068.6813186813188,13537359.618403576,null,15,15,10,1.3073361412148754,6.4061388075216071E-7,null,1,null,0,0,0,0,1,null,"",1,null,null,null,1,null,1,null,8.6722204802831051,null,null,{"$f":"IF(ISNUMBER(SEARCH(AN$3,$D35)),1,\"\")","v":1},"","","","","","","","","","","","","","","",null,{"$f":"IF(ISNUMBER(SEARCH(BE$3,$G35)),1,\"\")","v":""},1,"","","","","","","","","","","","","","",null,null,32,"Diverging",0,0,0,0,null,0,0,0,0,null,0,0,0,0,null,0,0,0,0]
[33,"Nonmotorized",null,"MajNM2","Nonmotorized",null,"MinR1","Stop near",null,175,1142.8571428571429,200000,null,{"$f":"VLOOKUP(E36,SSI_AGI_Range_VehSpeed,5,FALSE)","v":0},{"$f":"VLOOKUP(H36,SSI_AGI_Range_VehSpeed,5,FALSE)","v":15},{"$f":"IF(B36=\"Nonmotorized\",\"\",VLOOKUP(B36,SSI_AGI_Range_CollAngles,5,FALSE))","v":""},{"$f":"IF(B36=\"Nonmotorized\",\"\",SQRT(N36^2+O36^2-2*N36*O36*COS(RADIANS(P36)))/2)","v":""},{"$f":"IF(B36=\"Nonmotorized\",1/(1+EXP(3.8432-0.1237*O36)),(Q36/SSI_AGI_RegAlpha)^SSI_AGI_RegK+(Q36/SSI_AGI_RegAlpha)^SSI_AGI_RegK-((Q36/SSI_AGI_RegAlpha)^SSI_AGI_RegK)*((Q36/SSI_AGI_RegAlpha)^SSI_AGI_RegK))","v":0.1205004039155782},null,{"$f":"SSI_AGI_StopFactor","v":0.72500000000000009},null,{"$f":"IF(AND(SS_AGI_MajMedian=\"No\", SS_AGI_MinMedian=\"No\"),BY36,IF(AND(SS_AGI_MajMedian=\"Yes\",SS_AGI_MinMedian=\"No\"),CD36,IF(AND(SS_AGI_MajMedian=\"No\",SS_AGI_MinMedian=\"Yes\"),CI36,IF(AND(SS_AGI_MajMedian=\"Yes\",SS_AGI_MinMedian=\"Yes\"),CN36))))","v":2},{"$f":"IF(AND(SS_AGI_MajMedian=\"No\", SS_AGI_MinMedian=\"No\"),BZ36,IF(AND(SS_AGI_MajMedian=\"Yes\",SS_AGI_MinMedian=\"No\"),CE36,IF(AND(SS_AGI_MajMedian=\"No\",SS_AGI_MinMedian=\"Yes\"),CJ36,IF(AND(SS_AGI_MajMedian=\"Yes\",SS_AGI_MinMedian=\"Yes\"),CO36))))","v":0},{"$f":"IF(AND(SS_AGI_MajMedian=\"No\", SS_AGI_MinMedian=\"No\"),CA36,IF(AND(SS_AGI_MajMedian=\"Yes\",SS_AGI_MinMedian=\"No\"),CF36,IF(AND(SS_AGI_MajMedian=\"No\",SS_AGI_MinMedian=\"Yes\"),CK36,IF(AND(SS_AGI_MajMedian=\"Yes\",SS_AGI_MinMedian=\"Yes\"),CP36))))","v":0},{"$f":"IF(AND(SS_AGI_MajMedian=\"No\", SS_AGI_MinMedian=\"No\"),CB36,IF(AND(SS_AGI_MajMedian=\"Yes\",SS_AGI_MinMedian=\"No\"),CG36,IF(AND(SS_AGI_MajMedian=\"No\",SS_AGI_MinMedian=\"Yes\"),CL36,IF(AND(SS_AGI_MajMedian=\"Yes\",SS_AGI_MinMedian=\"Yes\"),CQ36))))","v":2},{"$f":"MAX(1,IF(B36<>\"Pedestrian\",V36*SSI_AGI_MajorThruLanes+W36*SSI_AGI_MinorThruLanes+X36*IF(SSI_AGI_MajorThruLanes=1,SSI_AGI_MergeWeightL1,IF(SSI_AGI_MajorThruLanes=2,SSI_AGI_MergeWeightL1+SSI_AGI_MergeWeightL2,SSI_AGI_MergeWeightL1+SSI_AGI_MergeWeightL2+SSI_AGI_MergeWeightL3*(SSI_AGI_MajorThruLanes-2)))+Y36*IF(SSI_AGI_MinorThruLanes=1,SSI_AGI_MergeWeightL1,IF(SSI_AGI_MinorThruLanes=2,SSI_AGI_MergeWeightL1+SSI_AGI_MergeWeightL2,SSI_AGI_MergeWeightL1+SSI_AGI_MergeWeightL2+SSI_AGI_MergeWeightL3*(SSI_AGI_MinorThruLanes-2))),V36*SSI_AGI_MajorThruLanes+W36*SSI_AGI_MinorThruLanes+X36*IF(SSI_AGI_MajorThruLanes=1,SSI_AGI_NM_MergeWeightL1,IF(SSI_AGI_MajorThruLanes=2,SSI_AGI_NM_MergeWeightL1+SSI_AGI_NM_MergeWeightL2,SSI_AGI_NM_MergeWeightL1+SSI_AGI_NM_MergeWeightL2+SSI_AGI_NM_MergeWeightL3*(SSI_AGI_MajorThruLanes-2)))+Y36*IF(SSI_AGI_MinorThruLanes=1,SSI_AGI_NM_MergeWeightL1,IF(SSI_AGI_MinorThruLanes=2,SSI_AGI_NM_MergeWeightL1+SSI_AGI_NM_MergeWeightL2,SSI_AGI_NM_MergeWeightL1+SSI_AGI_NM_MergeWeightL2+SSI_AGI_NM_MergeWeightL3*(SSI_AGI_MinorThruLanes-2)))))","v":6},null,{"$f":"IF(B36=\"Diverging\",\"\",SSI_AGI_VehSpeed_MjrThru)","v":45},0.83333333333333326,null,null,null,{"$f":"IF(SSI_AGI_ConsiderNMComplexity=\"Yes\",1+AE36+AF36,1)","v":1},null,3.625,null,87362.792838794208,null,null,"","","","","","","","","","","","","",1,"","",null,"","","","","","","","",1,"","","","","","","",null,null,33,"Nonmotorized",2,0,0,2,null,1,0,0,2,null,2,0,0,2,null,1,0,0,2]
[34,"Nonmotorized",null,"MajNM2","Nonmotorized",null,"MajT1","Stop far",null,175,6543.9560439560446,{"$f":"PRODUCT(J37:K37)","v":1145192.3076923077},null,0,25,"","",0.32066879346345062,null,0.72500000000000009,null,2,0,0,2,6,null,45,0.83333333333333326,null,null,null,1,null,3.625,null,1331199.4540185241,null,null,"","","","","","","","","","","","","",1,"","",null,1,"","","","","","","","","","","","","","","",null,null,34,"Nonmotorized",2,0,0,2,null,1,0,0,2,null,2,0,0,2,null,1,0,0,2]
[35,"Nonmotorized",null,"MajNM2","Nonmotorized",null,"MinL2","Stop far",null,175,1071.4285714285713,187499.99999999997,null,0,25,"","",0.32066879346345062,null,0.72500000000000009,null,2,0,0,2,6,null,45,0.83333333333333326,null,null,null,1,null,3.625,null,217954.57055718906,null,null,"","","","","","","","","","","","","",1,"","",null,"","","","","","","","","","",1,"","","","","",null,null,35,"Nonmotorized",2,0,0,2,null,1,0,0,2,null,2,0,0,2,null,1,0,0,2]
[36,"Nonmotorized",null,"MajNM2","Nonmotorized",null,"MajL2","Stop near",null,175,2068.6813186813188,362019.23076923081,null,0,15,"","",0.1205004039155782,null,0.72500000000000009,null,2,0,0,2,6,null,45,0.83333333333333326,null,null,null,1,null,3.625,null,158135.05530675972,null,null,"","","","","","","","","","","","","",1,"","",null,"","","","",1,"","","","","","","","","","","",null,null,36,"Nonmotorized",2,0,0,2,null,1,0,0,0,null,2,0,0,2,null,1,0,0,0]
[37,"Nonmotorized",null,"MajNM2","Nonmotorized",null,"MajT2","Stop near",null,175,6502.7472527472528,1137980.7692307692,null,0,15,"","",0.1205004039155782,null,0.72500000000000009,null,2,0,0,2,6,null,45,0.83333333333333326,null,null,null,1,null,3.625,null,497085.89098419674,null,null,"","","","","","","","","","","","","",1,"","",null,"","","",1,"","","","","","","","","","","","",null,null,37,"Nonmotorized",2,0,0,2,null,1,0,0,0,null,2,0,0,2,null,1,0,0,0]
[38,"Nonmotorized",null,"MajNM2","Nonmotorized",null,"MajR2","Stop near",null,175,428.57142857142856,75000,null,0,15,"","",0.1205004039155782,null,0.72500000000000009,null,2,0,0,2,6,null,45,0.83333333333333326,null,null,null,1,null,3.625,null,32761.047314547824,null,null,"","","","","","","","","","","","","",1,"","",null,"","","","","",1,"","","","","","","","","","",null,null,38,"Nonmotorized",2,0,0,2,null,1,0,0,0,null,2,0,0,2,null,1,0,0,0]
[39,"Nonmotorized",null,"MinNM2","Nonmotorized",null,"MajR2","Stop near",null,175,428.57142857142856,75000,null,0,15,"","",0.1205004039155782,null,0.72500000000000009,null,0,2,2,0,5.5,null,45,0.83333333333333326,null,null,null,1,null,3.322916666666667,null,30030.96003833551,null,null,"","","","","","","","","","","","","","","",1,null,"","","","","",1,"","","","","","","","","","",null,null,39,"Nonmotorized",0,2,2,0,null,0,2,2,0,null,0,2,1,0,null,0,2,1,0]
[40,"Nonmotorized",null,"MinNM2","Nonmotorized",null,"MinT1","Stop far",null,175,1785.7142857142856,312500,null,0,25,"","",0.32066879346345062,null,0.72500000000000009,null,0,2,2,0,5.5,null,45,0.83333333333333326,null,null,null,1,null,3.322916666666667,null,332986.14946237224,null,null,"","","","","","","","","","","","","","","",1,null,"","","","","","",1,"","","","","","","","","",null,null,40,"Nonmotorized",0,2,2,0,null,0,2,2,0,null,0,2,1,0,null,0,2,1,0]
[41,"Nonmotorized",null,"MinNM2","Nonmotorized",null,"MajL1","Stop far",null,175,2068.6813186813188,362019.23076923081,null,0,25,"","",0.32066879346345062,null,0.72500000000000009,null,0,2,2,0,5.5,null,45,0.83333333333333326,null,null,null,1,null,3.322916666666667,null,385751.64699256362,null,null,"","","","","","","","","","","","","","","",1,null,"",1,"","","","","","","","","","","","","","",null,null,41,"Nonmotorized",0,2,2,0,null,0,2,2,0,null,0,2,1,0,null,0,2,1,0]
[42,"Nonmotorized",null,"MinNM2","Nonmotorized",null,"MinL2","Stop near",null,175,1071.4285714285713,187499.99999999997,null,0,15,"","",0.1205004039155782,null,0.72500000000000009,null,0,2,2,0,5.5,null,45,0.83333333333333326,null,null,null,1,null,3.322916666666667,null,75077.400095838762,null,null,"","","","","","","","","","","","","","","",1,null,"","","","","","","","","","",1,"","","","","",null,null,42,"Nonmotorized",0,2,2,0,null,0,2,2,0,null,0,0,1,0,null,0,0,1,0]
[43,"Nonmotorized",null,"MinNM2","Nonmotorized",null,"MinT2","Stop near",null,175,1857.1428571428571,325000,null,0,15,"","",0.1205004039155782,null,0.72500000000000009,null,0,2,2,0,5.5,null,45,0.83333333333333326,null,null,null,1,null,3.322916666666667,null,130134.16016612053,null,null,"","","","","","","","","","","","","","","",1,null,"","","","","","","","","",1,"","","","","","",null,null,43,"Nonmotorized",0,2,2,0,null,0,2,2,0,null,0,0,1,0,null,0,0,1,0]
[44,"Nonmotorized",null,"MinNM2","Nonmotorized",null,"MinR2","Stop near",null,175,1071.4285714285713,187499.99999999997,null,0,15,"","",0.1205004039155782,null,0.72500000000000009,null,0,2,2,0,5.5,null,45,0.83333333333333326,null,null,null,1,null,3.322916666666667,null,75077.400095838762,null,null,"","","","","","","","","","","","","","","",1,null,"","","","","","","","","","","",1,"","","","",null,null,44,"Nonmotorized",0,2,2,0,null,0,2,2,0,null,0,0,1,0,null,0,0,1,0]
[45,"Nonmotorized",null,"MajNM1","Nonmotorized",null,"MinR2","Stop near",null,175,1071.4285714285713,187499.99999999997,null,0,15,"","",0.1205004039155782,null,0.72500000000000009,null,2,0,0,2,6,null,45,0.83333333333333326,null,null,null,1,null,3.625,null,81902.618286369543,null,null,"","","","","","","","","","","","",1,"","","",null,"","","","","","","","","","","",1,"","","","",null,null,45,"Nonmotorized",2,0,0,2,null,1,0,0,2,null,2,0,0,2,null,1,0,0,2]
[46,"Nonmotorized",null,"MajNM1","Nonmotorized",null,"MajT2","Stop far",null,175,6502.7472527472528,1137980.7692307692,null,0,25,"","",0.32066879346345062,null,0.72500000000000009,null,2,0,0,2,6,null,45,0.83333333333333326,null,null,null,1,null,3.625,null,1322816.5859201709,null,null,"","","","","","","","","","","","",1,"","","",null,"","","",1,"","","","","","","","","","","","",null,null,46,"Nonmotorized",2,0,0,2,null,1,0,0,2,null,2,0,0,2,null,1,0,0,2]
[47,"Nonmotorized",null,"MajNM1","Nonmotorized",null,"MinL1","Stop far",null,175,1071.4285714285713,187499.99999999997,null,0,25,"","",0.32066879346345062,null,0.72500000000000009,null,2,0,0,2,6,null,45,0.83333333333333326,null,null,null,1,null,3.625,null,217954.57055718906,null,null,"","","","","","","","","","","","",1,"","",{"$f":"IF(ISNUMBER(SEARCH(BC$3,$D50)),1,\"\")","v":""},null,"","","","","","","",1,"","","","","","","",{"$f":"IF(ISNUMBER(SEARCH(BT$3,$G50)),1,\"\")","v":""},null,null,47,"Nonmotorized",2,0,0,2,null,1,0,0,2,null,2,0,0,2,null,1,0,0,2]
[48,"Nonmotorized",null,"MajNM1","Nonmotorized",null,"MajL1","Stop near",null,175,2068.6813186813188,362019.23076923081,null,0,15,"","",0.1205004039155782,null,0.72500000000000009,null,2,0,0,2,6,null,45,0.83333333333333326,null,null,null,1,null,3.625,null,158135.05530675972,null,null,{"$f":"IF(ISNUMBER(SEARCH(AN$3,$D51)),1,\"\")","v":""},"","","","","","","","","","","",1,"","","",null,{"$f":"IF(ISNUMBER(SEARCH(BE$3,$G51)),1,\"\")","v":""},1,"","","","","","","","","","","","","","",null,null,48,"Nonmotorized",2,0,0,2,null,1,0,0,0,null,2,0,0,2,null,1,0,0,0]
[49,"Nonmotorized",null,"MajNM1","Nonmotorized",null,"MajT1","Stop near",null,175,6543.9560439560446,1145192.3076923077,null,0,15,"","",0.1205004039155782,null,0.72500000000000009,null,2,0,0,2,6,null,45,0.83333333333333326,null,null,null,1,null,3.625,null,500235.99168751878,null,null,"","","","","","","","","","","","",1,"","","",null,1,"","","","","","","","","","","","","","","",null,null,49,"Nonmotorized",2,0,0,2,null,1,0,0,0,null,2,0,0,2,null,1,0,0,0]
[50,"Nonmotorized",null,"MajNM1","Nonmotorized",null,"MajR1","Stop near",null,175,387.36263736263737,67788.461538461546,null,0,15,"","",0.1205004039155782,null,0.72500000000000009,null,2,0,0,2,6,null,45,0.83333333333333326,null,null,null,1,null,3.625,null,29610.946611225922,null,null,"","","","","","","","","","","","",1,"","","",null,"","",1,"","","","","","","","","","","","","",null,null,50,"Nonmotorized",2,0,0,2,null,1,0,0,0,null,2,0,0,2,null,1,0,0,0]
[51,"Nonmotorized",null,"MinNM1","Nonmotorized",null,"MajR1","Stop near",null,175,387.36263736263737,67788.461538461546,null,0,15,"","",0.1205004039155782,null,0.72500000000000009,null,0,2,2,0,5.5,null,45,0.83333333333333326,null,null,null,1,null,3.322916666666667,null,27143.367726957098,null,null,"","","","","","","","","","","","","","",1,"",null,"","",1,"","","","","","","","","","","","","",null,null,51,"Nonmotorized",0,2,2,0,null,0,2,2,0,null,0,2,1,0,null,0,2,1,0]
[52,"Nonmotorized",null,"MinNM1","Nonmotorized",null,"MinT2","Stop far",null,175,1857.1428571428571,325000,null,0,25,"","",0.32066879346345062,null,0.72500000000000009,null,0,2,2,0,5.5,null,45,0.83333333333333326,null,null,null,1,null,3.322916666666667,null,346305.59544086718,null,null,"","","","","","","","","","","","","","",1,"",null,"","","","","","","","","",1,"","","","","","",null,null,52,"Nonmotorized",0,2,2,0,null,0,2,2,0,null,0,2,1,0,null,0,2,1,0]
[53,"Nonmotorized",null,"MinNM1","Nonmotorized",null,"MajL2","Stop far",null,175,2068.6813186813188,362019.23076923081,null,0,25,"","",0.32066879346345062,null,0.72500000000000009,null,0,2,2,0,5.5,null,45,0.83333333333333326,null,null,null,1,null,3.322916666666667,null,385751.64699256362,null,null,"","","","","","","","","","","","","","",1,"",null,"","","","",1,"","","","","","","","","","","",null,null,53,"Nonmotorized",0,2,2,0,null,0,2,2,0,null,0,2,1,0,null,0,2,1,0]
[54,"Nonmotorized",null,"MinNM1","Nonmotorized",null,"MinL1","Stop near",null,175,1071.4285714285713,187499.99999999997,null,0,15,"","",0.1205004039155782,null,0.72500000000000009,null,0,2,2,0,5.5,null,45,0.83333333333333326,null,null,null,1,null,3.322916666666667,null,75077.400095838762,null,null,"","","","","","","","","","","","","","",1,"",null,"","","","","","","",1,"","","","","","","","",null,null,54,"Nonmotorized",0,2,2,0,null,0,2,2,0,null,0,0,1,0,null,0,0,1,0]
[55,"Nonmotorized",null,"MinNM1","Nonmotorized",null,"MinT1","Stop near",null,175,1785.7142857142856,312500,null,0,15,"","",0.1205004039155782,null,0.72500000000000009,null,0,2,2,0,5.5,null,45,0.83333333333333326,null,null,null,1,null,3.322916666666667,null,125129.00015973128,null,null,"","","","","","","","","","","","","","",1,"",null,"","","","","","",1,"","","","","","","","","",null,null,55,"Nonmotorized",0,2,2,0,null,0,2,2,0,null,0,0,1,0,null,0,0,1,0]
[56,"Nonmotorized",null,"MinNM1","Nonmotorized",null,"MinR1","Stop near",null,175,1142.8571428571429,200000,null,0,15,"","",0.1205004039155782,null,0.72500000000000009,null,0,2,2,0,5.5,null,45,0.83333333333333326,null,null,null,1,null,3.322916666666667,null,80082.560102228032,null,null,"","","","","","","","","","","","","","",1,"",null,"","","","","","","","",1,"","","","","","","",null,null,56,"Nonmotorized",0,2,2,0,null,0,2,2,0,null,0,0,1,0,null,0,0,1,0]
[null,null,null,null,null,null,null,null,null,null,null,null,null,null,null,null,null,null,null,null,null,null,null,null,null,null,null,null,null,null,null,null,null,null,null,null,null,null,"O",{"$f":"'SSI Inputs'!$D$26","v":6543.9560439560446},{"$f":"'SSI Inputs'!$D$27","v":2068.6813186813188},{"$f":"'SSI Inputs'!$D$28","v":387.36263736263737},{"$f":"'SSI Inputs'!$D$30","v":6502.7472527472528},{"$f":"'SSI Inputs'!$D$31","v":2068.6813186813188},{"$f":"'SSI Inputs'!$D$32","v":428.57142857142856},{"$f":"'SSI Inputs'!$D$34","v":1785.7142857142856},{"$f":"'SSI Inputs'!$D$35","v":1071.4285714285713},{"$f":"'SSI Inputs'!$D$36","v":1142.8571428571429},{"$f":"'SSI Inputs'!$D$38","v":1857.1428571428571},{"$f":"'SSI Inputs'!$D$39","v":1071.4285714285713},{"$f":"'SSI Inputs'!$D$40","v":1071.4285714285713},{"$f":"'SSI Inputs'!$Q$18","v":175},{"$f":"'SSI Inputs'!$Q$19","v":175},{"$f":"'SSI Inputs'!$Q$20","v":175},{"$f":"'SSI Inputs'!$Q$21","v":175},"O",{"$f":"'SSI Inputs'!$D$26","v":6543.9560439560446},{"$f":"'SSI Inputs'!$D$27","v":2068.6813186813188},{"$f":"'SSI Inputs'!$D$28","v":387.36263736263737},{"$f":"'SSI Inputs'!$D$30","v":6502.7472527472528},{"$f":"'SSI Inputs'!$D$31","v":2068.6813186813188},{"$f":"'SSI Inputs'!$D$32","v":428.57142857142856},{"$f":"'SSI Inputs'!$D$34","v":1785.7142857142856},{"$f":"'SSI Inputs'!$D$35","v":1071.4285714285713},{"$f":"'SSI Inputs'!$D$36","v":1142.8571428571429},{"$f":"'SSI Inputs'!$D$38","v":1857.1428571428571},{"$f":"'SSI Inputs'!$D$39","v":1071.4285714285713},{"$f":"'SSI Inputs'!$D$40","v":1071.4285714285713},{"$f":"'SSI Inputs'!$Q$18","v":175},{"$f":"'SSI Inputs'!$Q$19","v":175},{"$f":"'SSI Inputs'!$Q$20","v":175},{"$f":"'SSI Inputs'!$Q$21","v":175}]
[null,null,null,null,null,null,null,null,null,null,null,null,null,null,null,null,null,null,null,null,null,null,null,null,null,null,null,null,null,null,null,null,null,null,null,null,null,null,"D",{"$f":"'SSI Inputs'!$E$26","v":7271.062271062272},{"$f":"'SSI Inputs'!$E$27","v":2298.5347985347985},{"$f":"'SSI Inputs'!$E$28","v":430.40293040293039},{"$f":"'SSI Inputs'!$E$30","v":7225.2747252747249},{"$f":"'SSI Inputs'!$E$31","v":2298.5347985347985},{"$f":"'SSI Inputs'!$E$32","v":476.19047619047615},{"$f":"'SSI Inputs'!$E$34","v":2232.1428571428569},{"$f":"'SSI Inputs'!$E$35","v":1339.2857142857142},{"$f":"'SSI Inputs'!$E$36","v":1428.5714285714284},{"$f":"'SSI Inputs'!$E$38","v":2321.4285714285716},{"$f":"'SSI Inputs'!$E$39","v":1339.2857142857142},{"$f":"'SSI Inputs'!$E$40","v":1339.2857142857142},{"$f":"'SSI Inputs'!$R$18","v":175},{"$f":"'SSI Inputs'!$R$19","v":175},{"$f":"'SSI Inputs'!$R$20","v":175},{"$f":"'SSI Inputs'!$R$21","v":175},"D",{"$f":"'SSI Inputs'!$E$26","v":7271.062271062272},{"$f":"'SSI Inputs'!$E$27","v":2298.5347985347985},{"$f":"'SSI Inputs'!$E$28","v":430.40293040293039},{"$f":"'SSI Inputs'!$E$30","v":7225.2747252747249},{"$f":"'SSI Inputs'!$E$31","v":2298.5347985347985},{"$f":"'SSI Inputs'!$E$32","v":476.19047619047615},{"$f":"'SSI Inputs'!$E$34","v":2232.1428571428569},{"$f":"'SSI Inputs'!$E$35","v":1339.2857142857142},{"$f":"'SSI Inputs'!$E$36","v":1428.5714285714284},{"$f":"'SSI Inputs'!$E$38","v":2321.4285714285716},{"$f":"'SSI Inputs'!$E$39","v":1339.2857142857142},{"$f":"'SSI Inputs'!$E$40","v":1339.2857142857142},{"$f":"'SSI Inputs'!$R$18","v":175},{"$f":"'SSI Inputs'!$R$19","v":175},{"$f":"'SSI Inputs'!$R$20","v":175},{"$f":"'SSI Inputs'!$R$21","v":175}]
[]
[]
[]
[]
[]
[]
[]
[]
[]
[]
[]
[]
[]
[]
[]
[]
[]
[]
[]
[]
[]
[]
[]
[]
[]
[]
[]
[]
[]
[]
[]
[]
[]
[]
[]
[]
[]
[]
[]
[null,null,null,null,null,null,null,null,null,"Exposure",null,null,null,null,null,null,null,null,null,null,null,null,null,null,null,null,null,null,null,null,null,null,null,null,null,null,"Exposure-Severity-Complexity Product"]
[null,null,null,null,null,null,null,null,null,"Q1","Q2","I"]
[null,null,null,null,null,null,null,null,null,{"$f":"SUMPRODUCT($AN4:$BC4,$AN$61:$BC$61)","v":2232.1428571428569},{"$f":"SUMPRODUCT($BE4:$BT4,$BE$61:$BT$61)","v":7271.062271062272},{"$f":"PRODUCT(J103:K103)","v":16230049.712192569},null,null,null,null,null,null,null,null,null,null,null,null,null,null,null,null,null,null,null,null,null,null,null,null,{"$f":"L103*R4*AI4","v":236280.46496835686}]
[null,null,null,null,null,null,null,null,null,{"$f":"SUMPRODUCT($AN5:$BC5,$AN$61:$BC$61)","v":2232.1428571428569},{"$f":"SUMPRODUCT($BE5:$BT5,$BE$61:$BT$61)","v":1339.2857142857142},{"$f":"PRODUCT(J104:K104)","v":2989477.0408163262},null,null,null,null,null,null,null,null,null,null,null,null,null,null,null,null,null,null,null,null,null,null,null,null,{"$f":"L104*R5*AI5","v":120958.14183247095}]
[null,null,null,null,null,null,null,null,null,2232.1428571428569,2298.5347985347985,5130658.032443746,null,null,null,null,null,null,null,null,null,null,null,null,null,null,null,null,null,null,null,null,null,null,null,null,174815.25779548479]
[null,null,null,null,null,null,null,null,null,2232.1428571428569,7225.2747252747249,16127845.368916795,null,null,null,null,null,null,null,null,null,null,null,null,null,null,null,null,null,null,null,null,null,null,null,null,234792.55272044527]
[null,null,null,null,null,null,null,null,null,7225.2747252747249,2298.5347985347985,16607545.385017911,null,null,null,null,null,null,null,null,null,null,null,null,null,null,null,null,null,null,null,null,null,null,null,null,282931.77107823075]
[null,null,null,null,null,null,null,null,null,7225.2747252747249,1339.2857142857142,9676707.2213500775,null,null,null,null,null,null,null,null,null,null,null,null,null,null,null,null,null,null,null,null,null,null,null,null,391532.20063925983]
[null,null,null,null,null,null,null,null,null,2321.4285714285716,7225.2747252747249,16772959.183673469,null,null,null,null,null,null,null,null,null,null,null,null,null,null,null,null,null,null,null,null,null,null,null,null,244184.25482926308]
[null,null,null,null,null,null,null,null,null,2321.4285714285716,1339.2857142857142,3109056.1224489794,null,null,null,null,null,null,null,null,null,null,null,null,null,null,null,null,null,null,null,null,null,null,null,null,125796.46750576979]
[null,null,null,null,null,null,null,null,null,2321.4285714285716,2298.5347985347985,5335884.3537414968,null,null,null,null,null,null,null,null,null,null,null,null,null,null,null,null,null,null,null,null,null,null,null,null,181807.86810730421]
[null,null,null,null,null,null,null,null,null,2321.4285714285716,7271.062271062272,16879251.700680275,null,null,null,null,null,null,null,null,null,null,null,null,null,null,null,null,null,null,null,null,null,null,null,null,245731.68356709118]
[null,null,null,null,null,null,null,null,null,7271.062271062272,2298.5347985347985,16712789.652350094,null,null,null,null,null,null,null,null,null,null,null,null,null,null,null,null,null,null,null,null,null,null,null,null,284724.74808126147]
[null,null,null,null,null,null,null,null,null,7271.062271062272,1339.2857142857142,9738029.8273155428,null,null,null,null,null,null,null,null,null,null,null,null,null,null,null,null,null,null,null,null,null,null,null,null,394013.3932922337]
[null,null,null,null,null,null,null,null,null,1339.2857142857142,2298.5347985347985,3078394.8194662477,null,null,null,null,null,null,null,null,null,null,null,null,null,null,null,null,null,null,null,null,null,null,null,null,124555.8711792829]
[null,null,null,null,null,null,null,null,null,1339.2857142857142,2298.5347985347985,3078394.8194662477,null,null,null,null,null,null,null,null,null,null,null,null,null,null,null,null,null,null,null,null,null,null,null,null,40850.535088183824]
[null,null,null,null,null,null,null,null,null,1339.2857142857142,2298.5347985347985,3078394.8194662477,null,null,null,null,null,null,null,null,null,null,null,null,null,null,null,null,null,null,null,null,null,null,null,null,124555.8711792829]
[null,null,null,null,null,null,null,null,null,1339.2857142857142,2298.5347985347985,3078394.8194662477,null,null,null,null,null,null,null,null,null,null,null,null,null,null,null,null,null,null,null,null,null,null,null,null,40850.535088183824]
[null,null,null,null,null,null,null,null,null,7271.062271062272,1339.2857142857142,9738029.8273155428,null,null,null,null,null,null,null,null,null,null,null,null,null,null,null,null,null,null,null,null,null,null,null,null,34097.488632886532]
[null,null,null,null,null,null,null,null,null,7271.062271062272,1428.5714285714284,10387231.815803245,null,null,null,null,null,null,null,null,null,null,null,null,null,null,null,null,null,null,null,null,null,null,null,null,10359.630883608696]
[null,null,null,null,null,null,null,null,null,2232.1428571428569,2298.5347985347985,5130658.032443746,null,null,null,null,null,null,null,null,null,null,null,null,null,null,null,null,null,null,null,null,null,null,null,null,15128.321440372119]
[null,null,null,null,null,null,null,null,null,2232.1428571428569,476.19047619047615,1062925.170068027,null,null,null,null,null,null,null,null,null,null,null,null,null,null,null,null,null,null,null,null,null,null,null,null,2423.087468278392]
[null,null,null,null,null,null,null,null,null,7225.2747252747249,1339.2857142857142,9676707.2213500775,null,null,null,null,null,null,null,null,null,null,null,null,null,null,null,null,null,null,null,null,null,null,null,null,33882.768931168095]
[null,null,null,null,null,null,null,null,null,7225.2747252747249,1339.2857142857142,9676707.2213500775,null,null,null,null,null,null,null,null,null,null,null,null,null,null,null,null,null,null,null,null,null,null,null,null,9650.9942937270844]
[null,null,null,null,null,null,null,null,null,2321.4285714285716,2298.5347985347985,5335884.3537414968,null,null,null,null,null,null,null,null,null,null,null,null,null,null,null,null,null,null,null,null,null,null,null,null,15733.454297987008]
[null,null,null,null,null,null,null,null,null,2321.4285714285716,430.40293040293039,999149.65986394556,null,null,null,null,null,null,null,null,null,null,null,null,null,null,null,null,null,null,null,null,null,null,null,null,2277.7022201816885]
[null,null,null,null,null,null,null,null,null,2232.1428571428569,1339.2857142857142,2989477.0408163262,null,null,null,null,null,null,null,null,null,null,null,null,null,null,null,null,null,null,null,null,null,null,null,null,1.9151004885368323]
[null,null,null,null,null,null,null,null,null,2232.1428571428569,1428.5714285714284,3188775.510204081,null,null,null,null,null,null,null,null,null,null,null,null,null,null,null,null,null,null,null,null,null,null,null,null,2.0427738544392877]
[null,null,null,null,null,null,null,null,null,7225.2747252747249,476.19047619047615,3440607.0120355831,null,null,null,null,null,null,null,null,null,null,null,null,null,null,null,null,null,null,null,null,null,null,null,null,2.204100610123211]
[null,null,null,null,null,null,null,null,null,7225.2747252747249,2298.5347985347985,16607545.385017911,null,null,null,null,null,null,null,null,null,null,null,null,null,null,null,null,null,null,null,null,null,null,null,null,10.639024098863961]
[null,null,null,null,null,null,null,null,null,2321.4285714285716,1339.2857142857142,3109056.1224489794,null,null,null,null,null,null,null,null,null,null,null,null,null,null,null,null,null,null,null,null,null,null,null,null,1.9917045080783056]
[null,null,null,null,null,null,null,null,null,2321.4285714285716,1339.2857142857142,3109056.1224489794,null,null,null,null,null,null,null,null,null,null,null,null,null,null,null,null,null,null,null,null,null,null,null,null,1.9917045080783056]
[null,null,null,null,null,null,null,null,null,7271.062271062272,430.40293040293039,3129486.508607388,null,null,null,null,null,null,null,null,null,null,null,null,null,null,null,null,null,null,null,null,null,null,null,null,2.0047924970405089]
[null,null,null,null,null,null,null,null,null,7271.062271062272,2298.5347985347985,16712789.652350094,null,null,null,null,null,null,null,null,null,null,null,null,null,null,null,null,null,null,null,null,null,null,null,null,10.706445037386549]
[null,null,null,null,null,null,null,null,null,175,1428.5714285714284,249999.99999999997,null,null,null,null,null,null,null,null,null,null,null,null,null,null,null,null,null,null,null,null,null,null,null,null,109203.49104849274]
[null,null,null,null,null,null,null,null,null,175,7271.062271062272,1272435.8974358975,null,null,null,null,null,null,null,null,null,null,null,null,null,null,null,null,null,null,null,null,null,null,null,null,1479110.504465027]
[null,null,null,null,null,null,null,null,null,175,1339.2857142857142,234375,null,null,null,null,null,null,null,null,null,null,null,null,null,null,null,null,null,null,null,null,null,null,null,null,272443.21319648635]
[null,null,null,null,null,null,null,null,null,175,2298.5347985347985,402243.58974358975,null,null,null,null,null,null,null,null,null,null,null,null,null,null,null,null,null,null,null,null,null,null,null,null,175705.61700751077]
[null,null,null,null,null,null,null,null,null,175,7225.2747252747249,1264423.0769230768,null,null,null,null,null,null,null,null,null,null,null,null,null,null,null,null,null,null,null,null,null,null,null,null,552317.65664910746]
[null,null,null,null,null,null,null,null,null,175,476.19047619047615,83333.333333333328,null,null,null,null,null,null,null,null,null,null,null,null,null,null,null,null,null,null,null,null,null,null,null,null,36401.163682830913]
[null,null,null,null,null,null,null,null,null,175,476.19047619047615,83333.333333333328,null,null,null,null,null,null,null,null,null,null,null,null,null,null,null,null,null,null,null,null,null,null,null,null,33367.733375928343]
[null,null,null,null,null,null,null,null,null,175,2232.1428571428569,390624.99999999994,null,null,null,null,null,null,null,null,null,null,null,null,null,null,null,null,null,null,null,null,null,null,null,null,416232.68682796526]
[null,null,null,null,null,null,null,null,null,175,2298.5347985347985,402243.58974358975,null,null,null,null,null,null,null,null,null,null,null,null,null,null,null,null,null,null,null,null,null,null,null,null,428612.94110284839]
[null,null,null,null,null,null,null,null,null,175,1339.2857142857142,234375,null,null,null,null,null,null,null,null,null,null,null,null,null,null,null,null,null,null,null,null,null,null,null,null,93846.750119798467]
[null,null,null,null,null,null,null,null,null,175,2321.4285714285716,406250,null,null,null,null,null,null,null,null,null,null,null,null,null,null,null,null,null,null,null,null,null,null,null,null,162667.70020765066]
[null,null,null,null,null,null,null,null,null,175,1339.2857142857142,234375,null,null,null,null,null,null,null,null,null,null,null,null,null,null,null,null,null,null,null,null,null,null,null,null,93846.750119798467]
[null,null,null,null,null,null,null,null,null,175,1339.2857142857142,234375,null,null,null,null,null,null,null,null,null,null,null,null,null,null,null,null,null,null,null,null,null,null,null,null,102378.27285796196]
[null,null,null,null,null,null,null,null,null,175,7225.2747252747249,1264423.0769230768,null,null,null,null,null,null,null,null,null,null,null,null,null,null,null,null,null,null,null,null,null,null,null,null,1469796.2065779672]
[null,null,null,null,null,null,null,null,null,175,1339.2857142857142,234375,null,null,null,null,null,null,null,null,null,null,null,null,null,null,null,null,null,null,null,null,null,null,null,null,272443.21319648635]
[null,null,null,null,null,null,null,null,null,175,2298.5347985347985,402243.58974358975,null,null,null,null,null,null,null,null,null,null,null,null,null,null,null,null,null,null,null,null,null,null,null,null,175705.61700751077]
[null,null,null,null,null,null,null,null,null,175,7271.062271062272,1272435.8974358975,null,null,null,null,null,null,null,null,null,null,null,null,null,null,null,null,null,null,null,null,null,null,null,null,555817.76854168752]
[null,null,null,null,null,null,null,null,null,175,430.40293040293039,75320.512820512813,null,null,null,null,null,null,null,null,null,null,null,null,null,null,null,null,null,null,null,null,null,null,null,null,32901.051790251018]
[null,null,null,null,null,null,null,null,null,175,430.40293040293039,75320.512820512813,null,null,null,null,null,null,null,null,null,null,null,null,null,null,null,null,null,null,null,null,null,null,null,null,30159.297474396772]
[null,null,null,null,null,null,null,null,null,175,2321.4285714285716,406250,null,null,null,null,null,null,null,null,null,null,null,null,null,null,null,null,null,null,null,null,null,null,null,null,432881.99430108391]
[null,null,null,null,null,null,null,null,null,175,2298.5347985347985,402243.58974358975,null,null,null,null,null,null,null,null,null,null,null,null,null,null,null,null,null,null,null,null,null,null,null,null,428612.94110284839]
[null,null,null,null,null,null,null,null,null,175,1339.2857142857142,234375,null,null,null,null,null,null,null,null,null,null,null,null,null,null,null,null,null,null,null,null,null,null,null,null,93846.750119798467]
[null,null,null,null,null,null,null,null,null,175,2232.1428571428569,390624.99999999994,null,null,null,null,null,null,null,null,null,null,null,null,null,null,null,null,null,null,null,null,null,null,null,null,156411.25019966406]
[null,null,null,null,null,null,null,null,null,175,1428.5714285714284,249999.99999999997,null,null,null,null,null,null,null,null,null,null,null,null,null,null,null,null,null,null,null,null,null,null,null,null,100103.20012778502]

{"sheet":"RAB1x1","index":40,"n_rows":130,"n_cols":72,"rows_kept":130,"cut":false,"hidden":true,"merged":[[1,56,1,71],[0,19,0,28],[0,30,0,32],[1,31,2,31],[1,32,2,32],[1,21,1,25],[1,27,1,28],[1,30,2,30],[100,9,100,11],[100,36,101,36],[1,34,2,34],[1,36,2,36],[1,39,1,54],[1,9,1,11],[1,13,1,17]]}
[null,null,null,null,null,null,null,null,null,null,null,null,null,null,null,null,null,null,null,"Conflicting Traffic Complexity",null,null,null,null,null,null,null,null,null,null,"Pedestrian Complexity"]
[null,null,null,null,null,null,null,null,null,"Exposure",null,null,null,"Severity",null,null,null,null,null,"Traffic Control",null,"Conflicting Lanes",null,null,null,null,null,"Conflicting Speed",null,null,"Indirect Paths Indicator","Non-intuitive movements indicator","Pedestrian Complexity factor",null,"Total Complexity Multiplier",null,"Exposure-Severity-Complexity Product",null,null,"Included in Mvmt1",null,null,null,null,null,null,null,null,null,null,null,null,null,null,null,null,"Included in Mvmt2"]
["#","Conflict Type","Mvmt1","Mvmt1_gen","Mvmt1_SpeedCat","Mvmt2","Mvmt2_gen","Mvmt2_SpeedCat",null,"Q1","Q2","I",null,"Speed_V1","Speed_V2","Angle","delta_V","P_FSI",null,null,null,"MajC","MinC","MajM/P","MinM/P","Score",null,"Speed","Factor",null,null,null,null,null,null,null,null,null,null,"MajT1","MajL1","MajR1","MajT2","MajL2","MajR2","MinT1","MinL1","MinR1","MinT2","MinL2","MinR2","MajNM1","MajNM2","MinNM1","MinNM2",null,"MajT1","MajL1","MajR1","MajT2","MajL2","MajR2","MinT1","MinL1","MinR1","MinT2","MinL2","MinR2","MajNM1","MajNM2","MinNM1","MinNM2"]
[1,"Crossing - RAB","WBT, NBL","MajT2, MinL1","RAB Exiting","SBT, SBL","MinT2, MinL2","RAB Entering",null,{"$f":"SUMPRODUCT($AN4:$BC4,$AN$32:$BC$32)","v":7574.1758241758243},{"$f":"SUMPRODUCT($BE4:$BT4,$BE$32:$BT$32)","v":2928.5714285714284},{"$f":"PRODUCT(J4:K4)","v":22181514.91365777},null,{"$f":"VLOOKUP(E4,SSI_AGI_Range_VehSpeed,5,FALSE)","v":30},{"$f":"VLOOKUP(H4,SSI_AGI_Range_VehSpeed,5,FALSE)","v":20},{"$f":"IF(B4=\"Nonmotorized\",\"\",VLOOKUP(B4,SSI_AGI_Range_CollAngles,5,FALSE))","v":60},{"$f":"IF(B4=\"Nonmotorized\",\"\",SQRT(N4^2+O4^2-2*N4*O4*COS(RADIANS(P4)))/2)","v":13.228756555322953},{"$f":"IF(B4=\"Nonmotorized\",1/(1+EXP(3.8432-0.1237*O4)),(Q4/SSI_AGI_RegAlpha)^SSI_AGI_RegK+(Q4/SSI_AGI_RegAlpha)^SSI_AGI_RegK-((Q4/SSI_AGI_RegAlpha)^SSI_AGI_RegK)*((Q4/SSI_AGI_RegAlpha)^SSI_AGI_RegK))","v":4.1698027385763141E-3},null,1,null,null,null,null,null,1,null,{"$f":"IF(B4=\"Diverging\",\"\",SSI_AGI_VehSpeed_RABCirc)","v":25},{"$f":"IF(B4=\"Diverging\",1,1-((60-AB4)/60*0.1/0.15))","v":0.61111111111111105},null,null,null,{"$f":"IF(SSI_AGI_ConsiderNMComplexity=\"Yes\",1+AE4+AF4,1)","v":1},null,{"$f":"PRODUCT(Z4,T4,AC4,AG4)","v":0.61111111111111105},null,{"$f":"L4*R4*AI4","v":56523.219886675368},null,null,{"$f":"IF(ISNUMBER(SEARCH(AN$3,$D4)),1,\"\")","v":""},{"$f":"IF(ISNUMBER(SEARCH(AO$3,$D4)),1,\"\")","v":""},"",1,"","","",1,"","","","","","","","",null,{"$f":"IF(ISNUMBER(SEARCH(BE$3,$G4)),1,\"\")","v":""},{"$f":"IF(ISNUMBER(SEARCH(BF$3,$G4)),1,\"\")","v":""},"","","","","","","",1,1,"","","","",""]
[2,"Crossing - RAB","SBT, WBL","MinT2, MajL2","RAB Exiting","EBT, EBL","MajT1, MajL1","RAB Entering",null,3925.8241758241757,{"$f":"SUMPRODUCT($BE5:$BT5,$BE$32:$BT$32)","v":8612.6373626373643},{"$f":"PRODUCT(J5:K5)","v":33811699.975848332},null,30,20,60,{"$f":"IF(B5=\"Nonmotorized\",\"\",SQRT(N5^2+O5^2-2*N5*O5*COS(RADIANS(P5)))/2)","v":13.228756555322953},4.1698027385763141E-3,null,1,null,null,null,null,null,1,null,25,0.61111111111111105,null,null,null,1,null,0.61111111111111105,null,{"$f":"L5*R5*AI5","v":86159.406150407973},null,null,{"$f":"IF(ISNUMBER(SEARCH(AN$3,$D5)),1,\"\")","v":""},"","","",1,"","","","",1,"","","","","","",null,{"$f":"IF(ISNUMBER(SEARCH(BE$3,$G5)),1,\"\")","v":1},1,"","","","","","","","","","","","","",""]
[3,"Crossing - RAB","EBT, SBL","MajT1, MinL2","RAB Exiting","NBT, NBL","MinT1, MinL1","RAB Entering",null,7615.3846153846162,2857.1428571428569,21758241.758241758,null,30,20,60,13.228756555322953,4.1698027385763141E-3,null,1,null,null,null,null,null,1,null,25,0.61111111111111105,null,null,null,1,null,0.61111111111111105,null,55444.629820630107,null,null,1,"","","","","","","","","",1,"","","","","",null,"","","","","","",1,1,"","","","","","","",""]
[4,"Crossing - RAB","NBT, EBL","MinT1, MajL1","RAB Exiting","WBT, WBL","MajT2, MajL2","RAB Entering",null,3854.3956043956041,8571.4285714285725,33037676.609105181,null,30,20,60,13.228756555322953,4.1698027385763141E-3,null,1,null,null,null,null,null,1,null,25,0.61111111111111105,null,null,null,1,null,0.61111111111111105,null,84187.029911627746,null,null,"",1,"","","","",1,"","","","","","","","","",null,"","","",1,1,"","","","","","","","","","",""]
[5,"Merging","WBT, NBL","MajT2, MinL1","RAB Exiting","SBR","MinR2","RAB Entering",null,7574.1758241758243,1071.4285714285713,8115188.3830455253,null,30,20,45,10.623933623853066,1.8155470372595635E-3,null,1,null,null,null,null,null,1,null,25,0.61111111111111105,null,null,null,1,null,0.61111111111111105,null,9003.8093601142682,null,null,"","","",1,"","","",1,"","","","","","","","",null,"","","","","","","","","","","",1,"","","",""]
[6,"Merging","WBL","MajL2","RAB Circulating","SBT, SBL","MinT2, MinL2","RAB Entering",null,2068.6813186813188,2928.5714285714284,6058281.0047095763,null,25,20,45,8.9147801264732891,9.333798723087925E-4,null,1,null,null,null,null,null,1,null,25,0.61111111111111105,null,null,null,1,null,0.61111111111111105,null,3455.6362809140373,null,null,"","","","",1,"","","","","","","","","","","",null,"","","","","","","","","",1,1,"","","","",""]
[7,"Merging","SBT, WBL","MinT2, MajL2","RAB Exiting","EBR","MajR1","RAB Entering",null,3925.8241758241757,387.36263736263737,1520717.606569255,null,30,20,45,10.623933623853066,1.8155470372595635E-3,null,1,null,null,null,null,null,1,null,25,0.61111111111111105,null,null,null,1,null,0.61111111111111105,null,1687.2376553482175,null,null,"","","","",1,"","","","",1,"","","","","","",null,"","",1,"","","","","","","","","","","","",""]
[8,"Merging","SBL","MinL2","RAB Circulating","EBT, EBL","MajT1, MajL1","RAB Entering",null,1071.4285714285713,8612.6373626373643,9227825.7456828896,null,25,20,45,8.9147801264732891,9.333798723087925E-4,null,1,null,null,null,null,null,1,null,25,0.61111111111111105,null,null,null,1,null,0.61111111111111105,null,5263.5408321181167,null,null,"","","","","","","","","","",1,"","","","","",null,1,1,"","","","","","","","","","","","","",""]
[9,"Merging","EBT, SBL","MajT1, MinL2","RAB Exiting","NBR","MinR1","RAB Entering",null,7615.3846153846162,1142.8571428571429,8703296.7032967042,null,30,20,45,10.623933623853066,1.8155470372595635E-3,null,1,null,null,null,null,null,1,null,25,0.61111111111111105,null,null,null,1,null,0.61111111111111105,null,9656.3161102596569,null,null,1,"","","","","","","","","",1,"","","","","",null,"","","","","","","","",1,"","","","","","",""]
[10,"Merging","EBL","MajL1","RAB Circulating","NBT, NBL","MinT1, MinL1","RAB Entering",null,2068.6813186813188,2857.1428571428569,5910518.0533751957,null,25,20,45,8.9147801264732891,9.333798723087925E-4,null,1,null,null,null,null,null,1,null,25,0.61111111111111105,null,null,null,1,null,0.61111111111111105,null,3371.3524691844268,null,null,"",1,"","","","","","","","","","","","","","",null,"","","","","","",1,1,"","","","","","","",""]
[11,"Merging","NBT, EBL","MinT1, MajL2","RAB Exiting","WBR","MajR2","RAB Entering",null,3854.3956043956041,428.57142857142856,1651883.8304552587,null,30,20,45,10.623933623853066,1.8155470372595635E-3,null,1,null,null,null,null,null,1,null,25,0.61111111111111105,null,null,null,1,null,0.61111111111111105,null,1832.7667076155701,null,null,"","","","",1,"",1,"","","","","","","","","",null,"","","","","",1,"","","","","","","","","",""]
[12,"Merging","NBL","MinL1","RAB Circulating","WBT, WBL","MajT2, MajL2","RAB Entering",null,1071.4285714285713,8571.4285714285725,9183673.4693877548,null,25,20,45,8.9147801264732891,9.333798723087925E-4,null,1,null,null,null,null,null,1,null,25,0.61111111111111105,null,null,null,1,null,0.61111111111111105,null,5238.3564262228138,null,null,"","","","","","","",1,"","","","","","","","",null,"","","",1,1,"","","","","","","","","","",""]
[13,"Diverging","SBR","MinR2","RAB Circulating","SBT, SBL","MinT2, MinL2","RAB Entering",null,1071.4285714285713,2928.5714285714284,3137755.1020408161,null,25,20,10,3.1698677806728797,1.8457105347369804E-5,null,1,null,null,null,null,null,1,null,"",1,null,null,null,1,null,1,null,57.913876472614433,null,null,"","","","","","","","","","","",1,"","","","",null,"","","","","","","","","",1,1,"","","","",""]
[14,"Diverging","WBL","MajL2","RAB Circulating","WBT, NBL","MajT2, MinL1","RAB Exiting",null,2068.6813186813188,7574.1758241758243,15668556.031880209,null,25,30,10,3.4564566568122888,2.5632912055290634E-5,null,1,null,null,null,null,null,1,null,"",1,null,null,null,1,null,1,null,401.63071879857898,null,null,"","","","",1,"","","","","","","","","","","",null,"","","",1,"","","",1,"","","","","","","",""]
[15,"Diverging","EBR","MajR1","RAB Circulating","EBT, EBL","MajT1, MajL1","RAB Entering",null,387.36263736263737,8612.6373626373643,3336213.9234391991,null,25,20,10,3.1698677806728797,1.8457105347369804E-5,null,1,null,null,null,null,null,1,null,"",1,null,null,null,1,null,1,null,61.57685184627924,null,null,"","",1,"","","","","","","","","","","","","",null,1,1,"","","","","","","","","","","","","",""]
[16,"Diverging","SBL","MinL2","RAB Circulating","SBT, WBL","MinT2, MajL1","RAB Exiting",null,1071.4285714285713,3925.8241758241757,4206240.1883830447,null,25,30,10,3.4564566568122888,2.5632912055290634E-5,null,1,null,null,null,null,null,1,null,"",1,null,null,null,1,null,1,null,107.81818483225169,null,null,"","","","","","","","","","",1,"","","","","",null,"",1,"","","","","","","",1,"","","","","",""]
[17,"Diverging","NBR","MinR1","RAB Circulating","NBT, NBL","MinT1, MinL1","RAB Entering",null,1142.8571428571429,2857.1428571428569,3265306.1224489794,null,25,20,10,3.1698677806728797,1.8457105347369804E-5,null,1,null,null,null,null,null,1,null,"",1,null,null,null,1,null,1,null,60.26809909345242,null,null,"","","","","","","","",1,"","","","","","","",null,"","","","","","",1,1,"","","","","","","",""]
[18,"Diverging","EBL","MajL1","RAB Circulating","EBT, SBL","MajT1, MinL2","RAB Exiting",null,2068.6813186813188,7615.3846153846162,15753803.888419276,null,25,30,10,3.4564566568122888,2.5632912055290634E-5,null,1,null,null,null,null,null,1,null,"",1,null,null,null,1,null,1,null,403.81586960814695,null,null,"",1,"","","","","","","","","","","","","","",null,1,"","","","","","","","","",1,"","","","",""]
[19,"Diverging","WBR","MajR2","RAB Circulating","WBT, WBL","MajT2, MajL2","RAB Entering",null,428.57142857142856,8571.4285714285725,3673469.3877551025,null,25,20,10,3.1698677806728797,1.8457105347369804E-5,null,1,null,null,null,null,null,1,null,"",1,null,null,null,1,null,1,null,67.801611480133985,null,null,"","","","","",1,"","","","","","","","","","",null,"","","",1,1,"","","","","","","","","","",""]
[20,"Diverging","NBL","MinL1","RAB Circulating","NBT, EBL","MinT1, MajL1","RAB Exiting",null,1071.4285714285713,3854.3956043956041,4129709.5761381467,null,25,30,10,3.4564566568122888,2.5632912055290634E-5,null,1,null,null,null,null,null,1,null,"",1,null,null,null,1,null,1,null,105.85648237904067,null,null,"","","","","","","",1,"","","","","","","","",null,"",1,"","","","",1,"","","","","","","","",""]
[21,"Nonmotorized","EB Ped","MajNM1","Nonmotorized","WBT, NBL, SBR","MajT2, MinL1, MinR2","RAB Exiting",null,175,8645.6043956043959,1512980.7692307692,null,0,30,"","",0.46699805015542578,null,1,null,null,null,null,null,1,null,{"$f":"IF(B24=\"Diverging\",\"\",SSI_AGI_VehSpeed_RABExit)","v":30},0.66666666666666663,null,1,null,2,null,1.3333333333333333,null,942078.75887123379,null,null,"","","","","","","","","","","","",1,"","","",null,"","","",1,"","","",1,"","","",1,"","","",""]
[22,"Nonmotorized","EB Ped","MajNM1","Nonmotorized","EBT, EBL, EBR","MajT1, MajL1, MajR1","RAB Entering",null,175,9000.0000000000018,1575000.0000000002,null,0,20,"","",0.20274912921655375,null,1,null,null,null,null,null,1,null,{"$f":"IF(B25=\"Diverging\",\"\",SSI_AGI_VehSpeed_RABEnter)","v":20},0.55555555555555558,null,1,null,2,null,1.1111111111111112,null,354810.97612896911,null,null,"","","","","","","","","","","","",1,"","","",null,1,1,1,"","","","","","","","","","","","",""]
[23,"Nonmotorized","NB Ped","MinNM1","Nonmotorized","SBT, WBL, EBR","MinT2, MajL2, MajR1","RAB Exiting",null,175,4313.1868131868132,754807.69230769225,null,0,30,"","",0.46699805015542578,null,1,null,null,null,null,null,1,null,{"$f":"IF(B26=\"Diverging\",\"\",SSI_AGI_VehSpeed_RABExit)","v":30},0.66666666666666663,null,1,null,2,null,1.3333333333333333,null,469991.62740001181,null,null,"","","","","","","","","","","","","","",1,"",null,"","",1,"",1,"","","","",1,"","","","","",""]
[24,"Nonmotorized","NB Ped","MinNM1","Nonmotorized","NBT, NBL, NBR","MinT1, MinL1, MinR1","RAB Entering",null,175,4000,700000,null,0,20,"","",0.20274912921655375,null,1,null,null,null,null,null,1,null,{"$f":"IF(B27=\"Diverging\",\"\",SSI_AGI_VehSpeed_RABEnter)","v":20},0.55555555555555558,null,1,null,2,null,1.1111111111111112,null,157693.7671684307,null,null,"","","","","","","","","","","","","","",1,"",null,"","","","","","",1,1,1,"","","","","","",""]
[25,"Nonmotorized","WB Ped","MajNM2","Nonmotorized","EBT, SBL, NBR","MajT1, MinL2, MinR1","RAB Exiting",null,175,8758.2417582417584,1532692.3076923077,null,0,30,"","",0.46699805015542578,null,1,null,null,null,null,null,1,null,{"$f":"IF(B28=\"Diverging\",\"\",SSI_AGI_VehSpeed_RABExit)","v":30},0.66666666666666663,null,1,null,2,null,1.3333333333333333,null,954352.42557403678,null,null,"","","","","","","","","","","","","",1,"","",null,1,"","","","","","","",1,"",1,"","","","",""]
[26,"Nonmotorized","WB Ped","MajNM2","Nonmotorized","WBT, WBL, WBR","MajT2, MajL2, MajR2","RAB Entering",null,175,9000.0000000000018,1575000.0000000002,null,0,20,"","",0.20274912921655375,null,1,null,null,null,null,null,1,null,{"$f":"IF(B29=\"Diverging\",\"\",SSI_AGI_VehSpeed_RABEnter)","v":20},0.55555555555555558,null,1,null,2,null,1.1111111111111112,null,354810.97612896911,null,null,"","","","","","","","","","","","","",1,"","",null,"","","",1,1,1,"","","","","","","","","",""]
[27,"Nonmotorized","SB Ped","MinNM2","Nonmotorized","NBT, EBL, WBR","MinT1, MajL1, MajR2","RAB Exiting",null,175,4282.9670329670325,749519.23076923075,null,0,30,"","",0.46699805015542578,null,1,null,null,null,null,null,1,null,{"$f":"IF(B30=\"Diverging\",\"\",SSI_AGI_VehSpeed_RABExit)","v":30},0.66666666666666663,null,1,null,2,null,1.3333333333333333,null,466698.69243096712,null,null,"","","","","","","","","","","","","","","",1,null,"",1,"","","",1,1,"","","","","","","","",""]
[28,"Nonmotorized","SB Ped","MinNM2","Nonmotorized","SBT, SBL, SBR","MinT2, MinL2, MinR2","RAB Entering",null,175,4000,700000,null,0,20,"","",0.20274912921655375,null,1,null,null,null,null,null,1,null,{"$f":"IF(B31=\"Diverging\",\"\",SSI_AGI_VehSpeed_RABEnter)","v":20},0.55555555555555558,null,1,null,2,null,1.1111111111111112,null,157693.7671684307,null,null,"","","","","","","","","","","","","","","",1,null,"","","","","","","","","",1,1,1,"","","",""]
[null,null,null,null,null,null,null,null,null,null,null,null,null,null,null,null,null,null,null,null,null,null,null,null,null,null,null,null,null,null,null,null,null,null,null,null,null,null,"O",{"$f":"'SSI Inputs'!$D$26","v":6543.9560439560446},{"$f":"'SSI Inputs'!$D$27","v":2068.6813186813188},{"$f":"'SSI Inputs'!$D$28","v":387.36263736263737},{"$f":"'SSI Inputs'!$D$30","v":6502.7472527472528},{"$f":"'SSI Inputs'!$D$31","v":2068.6813186813188},{"$f":"'SSI Inputs'!$D$32","v":428.57142857142856},{"$f":"'SSI Inputs'!$D$34","v":1785.7142857142856},{"$f":"'SSI Inputs'!$D$35","v":1071.4285714285713},{"$f":"'SSI Inputs'!$D$36","v":1142.8571428571429},{"$f":"'SSI Inputs'!$D$38","v":1857.1428571428571},{"$f":"'SSI Inputs'!$D$39","v":1071.4285714285713},{"$f":"'SSI Inputs'!$D$40","v":1071.4285714285713},{"$f":"'SSI Inputs'!$Q$18","v":175},{"$f":"'SSI Inputs'!$Q$19","v":175},{"$f":"'SSI Inputs'!$Q$20","v":175},{"$f":"'SSI Inputs'!$Q$21","v":175},"O",{"$f":"'SSI Inputs'!$D$26","v":6543.9560439560446},{"$f":"'SSI Inputs'!$D$27","v":2068.6813186813188},{"$f":"'SSI Inputs'!$D$28","v":387.36263736263737},{"$f":"'SSI Inputs'!$D$30","v":6502.7472527472528},{"$f":"'SSI Inputs'!$D$31","v":2068.6813186813188},{"$f":"'SSI Inputs'!$D$32","v":428.57142857142856},{"$f":"'SSI Inputs'!$D$34","v":1785.7142857142856},{"$f":"'SSI Inputs'!$D$35","v":1071.4285714285713},{"$f":"'SSI Inputs'!$D$36","v":1142.8571428571429},{"$f":"'SSI Inputs'!$D$38","v":1857.1428571428571},{"$f":"'SSI Inputs'!$D$39","v":1071.4285714285713},{"$f":"'SSI Inputs'!$D$40","v":1071.4285714285713},{"$f":"'SSI Inputs'!$Q$18","v":175},{"$f":"'SSI Inputs'!$Q$19","v":175},{"$f":"'SSI Inputs'!$Q$20","v":175},{"$f":"'SSI Inputs'!$Q$21","v":175}]
[null,null,null,null,null,null,null,null,null,null,null,null,null,null,null,null,null,null,null,null,null,null,null,null,null,null,null,null,null,null,null,null,null,null,null,null,null,null,"D",{"$f":"'SSI Inputs'!$E$26","v":7271.062271062272},{"$f":"'SSI Inputs'!$E$27","v":2298.5347985347985},{"$f":"'SSI Inputs'!$E$28","v":430.40293040293039},{"$f":"'SSI Inputs'!$E$30","v":7225.2747252747249},{"$f":"'SSI Inputs'!$E$31","v":2298.5347985347985},{"$f":"'SSI Inputs'!$E$32","v":476.19047619047615},{"$f":"'SSI Inputs'!$E$34","v":2232.1428571428569},{"$f":"'SSI Inputs'!$E$35","v":1339.2857142857142},{"$f":"'SSI Inputs'!$E$36","v":1428.5714285714284},{"$f":"'SSI Inputs'!$E$38","v":2321.4285714285716},{"$f":"'SSI Inputs'!$E$39","v":1339.2857142857142},{"$f":"'SSI Inputs'!$E$40","v":1339.2857142857142},{"$f":"'SSI Inputs'!$R$18","v":175},{"$f":"'SSI Inputs'!$R$19","v":175},{"$f":"'SSI Inputs'!$R$20","v":175},{"$f":"'SSI Inputs'!$R$21","v":175},"D",{"$f":"'SSI Inputs'!$E$26","v":7271.062271062272},{"$f":"'SSI Inputs'!$E$27","v":2298.5347985347985},{"$f":"'SSI Inputs'!$E$28","v":430.40293040293039},{"$f":"'SSI Inputs'!$E$30","v":7225.2747252747249},{"$f":"'SSI Inputs'!$E$31","v":2298.5347985347985},{"$f":"'SSI Inputs'!$E$32","v":476.19047619047615},{"$f":"'SSI Inputs'!$E$34","v":2232.1428571428569},{"$f":"'SSI Inputs'!$E$35","v":1339.2857142857142},{"$f":"'SSI Inputs'!$E$36","v":1428.5714285714284},{"$f":"'SSI Inputs'!$E$38","v":2321.4285714285716},{"$f":"'SSI Inputs'!$E$39","v":1339.2857142857142},{"$f":"'SSI Inputs'!$E$40","v":1339.2857142857142},{"$f":"'SSI Inputs'!$R$18","v":175},{"$f":"'SSI Inputs'!$R$19","v":175},{"$f":"'SSI Inputs'!$R$20","v":175},{"$f":"'SSI Inputs'!$R$21","v":175}]
[]
[]
[]
[]
[]
[]
[]
[]
[]
[]
[]
[]
[]
[]
[]
[]
[]
[]
[]
[]
[]
[]
[]
[]
[]
[]
[]
[]
[]
[]
[]
[]
[]
[]
[]
[]
[]
[]
[]
[]
[]
[]
[]
[]
[]
[]
[]
[]
[]
[]
[]
[]
[]
[]
[]
[]
[]
[]
[]
[]
[]
[]
[]
[]
[]
[]
[]
[null,null,null,null,null,null,null,null,null,"Exposure",null,null,null,null,null,null,null,null,null,null,null,null,null,null,null,null,null,null,null,null,null,null,null,null,null,null,"Exposure-Severity-Complexity Product"]
[null,null,null,null,null,null,null,null,null,"Q1","Q2","I"]
[null,null,null,null,null,null,null,null,null,{"$f":"SUMPRODUCT($AN4:$BC4,$AN$33:$BC$33)","v":8564.5604395604387},{"$f":"SUMPRODUCT($BE4:$BT4,$BE$33:$BT$33)","v":3660.7142857142858},{"$f":"PRODUCT(J103:K103)","v":31352408.751962319},null,null,null,null,null,null,null,null,null,null,null,null,null,null,null,null,null,null,null,null,null,null,null,null,{"$f":"L103*R4*AI4","v":79892.608812436723}]
[null,null,null,null,null,null,null,null,null,{"$f":"SUMPRODUCT($AN5:$BC5,$AN$33:$BC$33)","v":4619.9633699633705},{"$f":"SUMPRODUCT($BE5:$BT5,$BE$33:$BT$33)","v":9569.59706959707},{"$f":"PRODUCT(J104:K104)","v":44211187.926847272},null,null,null,null,null,null,null,null,null,null,null,null,null,null,null,null,null,null,null,null,null,null,null,null,{"$f":"L104*R5*AI5","v":112659.51430132655}]
[null,null,null,null,null,null,null,null,null,8610.3479853479857,3571.4285714285711,30751242.804814231,null,null,null,null,null,null,null,null,null,null,null,null,null,null,null,null,null,null,null,null,null,null,null,null,78360.71006019639]
[null,null,null,null,null,null,null,null,null,4530.6776556776549,9523.8095238095229,43149311.006453849,null,null,null,null,null,null,null,null,null,null,null,null,null,null,null,null,null,null,null,null,null,null,null,null,109953.62595701755]
[null,null,null,null,null,null,null,null,null,8564.5604395604387,1339.2857142857142,11470393.445839873,null,null,null,null,null,null,null,null,null,null,null,null,null,null,null,null,null,null,null,null,null,null,null,null,12726.412622486501]
[null,null,null,null,null,null,null,null,null,2298.5347985347985,3660.7142857142858,8414279.173207745,null,null,null,null,null,null,null,null,null,null,null,null,null,null,null,null,null,null,null,null,null,null,null,null,4799.4948346028295]
[null,null,null,null,null,null,null,null,null,4619.9633699633705,430.40293040293039,1988445.7727864324,null,null,null,null,null,null,null,null,null,null,null,null,null,null,null,null,null,null,null,null,null,null,null,null,2206.1825081594893]
[null,null,null,null,null,null,null,null,null,1339.2857142857142,9569.59706959707,12816424.646781789,null,null,null,null,null,null,null,null,null,null,null,null,null,null,null,null,null,null,null,null,null,null,null,null,7310.4733779418275]
[null,null,null,null,null,null,null,null,null,8610.3479853479857,1428.5714285714284,12300497.121925693,null,null,null,null,null,null,null,null,null,null,null,null,null,null,null,null,null,null,null,null,null,null,null,null,13647.413453991763]
[null,null,null,null,null,null,null,null,null,2298.5347985347985,3571.4285714285711,8209052.8519099941,null,null,null,null,null,null,null,null,null,null,null,null,null,null,null,null,null,null,null,null,null,null,null,null,4682.4339849783701]
[null,null,null,null,null,null,null,null,null,4530.6776556776549,476.19047619047615,2157465.5503226928,null,null,null,null,null,null,null,null,null,null,null,null,null,null,null,null,null,null,null,null,null,null,null,null,2393.7101148142956]
[null,null,null,null,null,null,null,null,null,1339.2857142857142,9523.8095238095229,12755102.040816324,null,null,null,null,null,null,null,null,null,null,null,null,null,null,null,null,null,null,null,null,null,null,null,null,7275.4950364205743]
[null,null,null,null,null,null,null,null,null,1339.2857142857142,3660.7142857142858,4902742.3469387749,null,null,null,null,null,null,null,null,null,null,null,null,null,null,null,null,null,null,null,null,null,null,null,null,90.490431988460045]
[null,null,null,null,null,null,null,null,null,2298.5347985347985,8564.5604395604387,19685940.204484157,null,null,null,null,null,null,null,null,null,null,null,null,null,null,null,null,null,null,null,null,null,null,null,null,504.60797398725254]
[null,null,null,null,null,null,null,null,null,430.40293040293039,9569.59706959707,4118782.6215298744,null,null,null,null,null,null,null,null,null,null,null,null,null,null,null,null,null,null,null,null,null,null,null,null,76.020804748492864]
[null,null,null,null,null,null,null,null,null,1339.2857142857142,4619.9633699633705,6187450.941915228,null,null,null,null,null,null,null,null,null,null,null,null,null,null,null,null,null,null,null,null,null,null,null,null,158.60238584053823]
[null,null,null,null,null,null,null,null,null,1428.5714285714284,3571.4285714285711,5102040.8163265297,null,null,null,null,null,null,null,null,null,null,null,null,null,null,null,null,null,null,null,null,null,null,null,null,94.168904833519392]
[null,null,null,null,null,null,null,null,null,2298.5347985347985,8610.3479853479857,19791184.471816339,null,null,null,null,null,null,null,null,null,null,null,null,null,null,null,null,null,null,null,null,null,null,null,null,507.30569103610185]
[null,null,null,null,null,null,null,null,null,476.19047619047615,9523.8095238095229,4535147.3922902485,null,null,null,null,null,null,null,null,null,null,null,null,null,null,null,null,null,null,null,null,null,null,null,null,83.705693185350569]
[null,null,null,null,null,null,null,null,null,1339.2857142857142,4530.6776556776549,6067871.8602825729,null,null,null,null,null,null,null,null,null,null,null,null,null,null,null,null,null,null,null,null,null,null,null,null,155.53722575739596]
[null,null,null,null,null,null,null,null,null,175,9903.8461538461524,1733173.0769230768,null,null,null,null,null,null,null,null,null,null,null,null,null,null,null,null,null,null,null,null,null,null,null,null,1079184.5966732753]
[null,null,null,null,null,null,null,null,null,175,10000,1750000,null,null,null,null,null,null,null,null,null,null,null,null,null,null,null,null,null,null,null,null,null,null,null,null,394234.41792107676]
[null,null,null,null,null,null,null,null,null,175,5050.3663003663005,883814.10256410262,null,null,null,null,null,null,null,null,null,null,null,null,null,null,null,null,null,null,null,null,null,null,null,null,550319.28346307122]
[null,null,null,null,null,null,null,null,null,175,5000,875000,null,null,null,null,null,null,null,null,null,null,null,null,null,null,null,null,null,null,null,null,null,null,null,null,197117.20896053838]
[null,null,null,null,null,null,null,null,null,175,10038.919413919415,1756810.8974358977,null,null,null,null,null,null,null,null,null,null,null,null,null,null,null,null,null,null,null,null,null,null,null,null,1093903.0181258237]
[null,null,null,null,null,null,null,null,null,175,10000,1750000,null,null,null,null,null,null,null,null,null,null,null,null,null,null,null,null,null,null,null,null,null,null,null,null,394234.41792107676]
[null,null,null,null,null,null,null,null,null,175,5006.868131868132,876201.92307692312,null,null,null,null,null,null,null,null,null,null,null,null,null,null,null,null,null,null,null,null,null,null,null,null,545579.45282580995]
[null,null,null,null,null,null,null,null,null,175,5000,875000,null,null,null,null,null,null,null,null,null,null,null,null,null,null,null,null,null,null,null,null,null,null,null,null,197117.20896053838]

{"sheet":"RAB2x1","index":41,"n_rows":130,"n_cols":72,"rows_kept":130,"cut":false,"hidden":true,"merged":[[1,56,1,71],[0,19,0,28],[0,30,0,32],[1,31,2,31],[1,32,2,32],[1,21,1,25],[1,27,1,28],[1,30,2,30],[100,9,100,11],[100,36,101,36],[1,34,2,34],[1,36,2,36],[1,39,1,54],[1,9,1,11],[1,13,1,17]]}
[null,null,null,null,null,null,null,null,null,null,null,null,null,null,null,null,null,null,null,"Conflicting Traffic Complexity",null,null,null,null,null,null,null,null,null,null,"Pedestrian Complexity"]
[null,null,null,null,null,null,null,null,null,"Exposure",null,null,null,"Severity",null,null,null,null,null,"Traffic Control",null,"Conflicting Lanes",null,null,null,null,null,"Conflicting Speed",null,null,"Indirect Paths Indicator","Non-intuitive movements indicator","Pedestrian Complexity factor",null,"Total Complexity Multiplier",null,"Exposure-Severity-Complexity Product",null,null,"Included in Mvmt1",null,null,null,null,null,null,null,null,null,null,null,null,null,null,null,null,"Included in Mvmt2"]
["#","Conflict Type","Mvmt1","Mvmt1_gen","Mvmt1_SpeedCat","Mvmt2","Mvmt2_gen","Mvmt2_SpeedCat",null,"Q1","Q2","I",null,"Speed_V1","Speed_V2","Angle","delta_V","P_FSI",null,null,null,"MajC","MinC","MajM/P","MinM/P","Score",null,"Speed","Factor",null,null,null,null,null,null,null,null,null,null,"MajT1","MajL1","MajR1","MajT2","MajL2","MajR2","MinT1","MinL1","MinR1","MinT2","MinL2","MinR2","MajNM1","MajNM2","MinNM1","MinNM2",null,"MajT1","MajL1","MajR1","MajT2","MajL2","MajR2","MinT1","MinL1","MinR1","MinT2","MinL2","MinR2","MajNM1","MajNM2","MinNM1","MinNM2"]
[1,"Crossing - RAB","WBT, NBL","MajT2, MinL1","RAB Exiting","SBT, SBL","MinT2, MinL2","RAB Entering",null,{"$f":"SUMPRODUCT($AN4:$BC4,$AN$32:$BC$32)","v":7574.1758241758243},{"$f":"SUMPRODUCT($BE4:$BT4,$BE$32:$BT$32)","v":2928.5714285714284},{"$f":"PRODUCT(J4:K4)","v":22181514.91365777},null,{"$f":"VLOOKUP(E4,SSI_AGI_Range_VehSpeed,5,FALSE)","v":30},{"$f":"VLOOKUP(H4,SSI_AGI_Range_VehSpeed,5,FALSE)","v":20},{"$f":"IF(B4=\"Nonmotorized\",\"\",VLOOKUP(B4,SSI_AGI_Range_CollAngles,5,FALSE))","v":60},{"$f":"IF(B4=\"Nonmotorized\",\"\",SQRT(N4^2+O4^2-2*N4*O4*COS(RADIANS(P4)))/2)","v":13.228756555322953},{"$f":"IF(B4=\"Nonmotorized\",1/(1+EXP(3.8432-0.1237*O4)),(Q4/SSI_AGI_RegAlpha)^SSI_AGI_RegK+(Q4/SSI_AGI_RegAlpha)^SSI_AGI_RegK-((Q4/SSI_AGI_RegAlpha)^SSI_AGI_RegK)*((Q4/SSI_AGI_RegAlpha)^SSI_AGI_RegK))","v":4.1698027385763141E-3},null,1,null,null,null,null,null,2,null,{"$f":"IF(B4=\"Diverging\",\"\",SSI_AGI_VehSpeed_RABCirc)","v":25},{"$f":"IF(B4=\"Diverging\",1,1-((60-AB4)/60*0.1/0.15))","v":0.61111111111111105},null,null,null,{"$f":"IF(SSI_AGI_ConsiderNMComplexity=\"Yes\",1+AE4+AF4,1)","v":1},null,{"$f":"PRODUCT(Z4,T4,AC4,AG4)","v":1.2222222222222221},null,{"$f":"L4*R4*AI4","v":113046.43977335074},null,null,{"$f":"IF(ISNUMBER(SEARCH(AN$3,$D4)),1,\"\")","v":""},{"$f":"IF(ISNUMBER(SEARCH(AO$3,$D4)),1,\"\")","v":""},"",1,"","","",1,"","","","","","","","",null,{"$f":"IF(ISNUMBER(SEARCH(BE$3,$G4)),1,\"\")","v":""},{"$f":"IF(ISNUMBER(SEARCH(BF$3,$G4)),1,\"\")","v":""},"","","","","","","",1,1,"","","","",""]
[2,"Crossing - RAB","SBT, WBL","MinT2, MajL2","RAB Exiting","EBT, EBL","MajT1, MajL1","RAB Entering",null,3925.8241758241757,{"$f":"SUMPRODUCT($BE5:$BT5,$BE$32:$BT$32)","v":8612.6373626373643},{"$f":"PRODUCT(J5:K5)","v":33811699.975848332},null,30,20,60,{"$f":"IF(B5=\"Nonmotorized\",\"\",SQRT(N5^2+O5^2-2*N5*O5*COS(RADIANS(P5)))/2)","v":13.228756555322953},4.1698027385763141E-3,null,1,null,null,null,null,null,1,null,25,0.61111111111111105,null,null,null,1,null,0.61111111111111105,null,{"$f":"L5*R5*AI5","v":86159.406150407973},null,null,{"$f":"IF(ISNUMBER(SEARCH(AN$3,$D5)),1,\"\")","v":""},"","","",1,"","","","",1,"","","","","","",null,{"$f":"IF(ISNUMBER(SEARCH(BE$3,$G5)),1,\"\")","v":1},1,"","","","","","","","","","","","","",""]
[3,"Crossing - RAB","EBT, SBL","MajT1, MinL2","RAB Exiting","NBT, NBL","MinT1, MinL1","RAB Entering",null,7615.3846153846162,2857.1428571428569,21758241.758241758,null,30,20,60,13.228756555322953,4.1698027385763141E-3,null,1,null,null,null,null,null,2,null,25,0.61111111111111105,null,null,null,1,null,1.2222222222222221,null,110889.25964126021,null,null,1,"","","","","","","","","",1,"","","","","",null,"","","","","","",1,1,"","","","","","","",""]
[4,"Crossing - RAB","NBT, EBL","MinT1, MajL1","RAB Exiting","WBT, WBL","MajT2, MajL2","RAB Entering",null,3854.3956043956041,8571.4285714285725,33037676.609105181,null,30,20,60,13.228756555322953,4.1698027385763141E-3,null,1,null,null,null,null,null,1,null,25,0.61111111111111105,null,null,null,1,null,0.61111111111111105,null,84187.029911627746,null,null,"",1,"","","","",1,"","","","","","","","","",null,"","","",1,1,"","","","","","","","","","",""]
[5,"Merging","WBT, NBL","MajT2, MinL1","RAB Exiting","SBR","MinR2","RAB Entering",null,7574.1758241758243,1071.4285714285713,8115188.3830455253,null,30,20,45,10.623933623853066,1.8155470372595635E-3,null,1,null,null,null,null,null,1.75,null,25,0.61111111111111105,null,null,null,1,null,1.0694444444444444,null,15756.666380199971,null,null,"","","",1,"","","",1,"","","","","","","","",null,"","","","","","","","","","","",1,"","","",""]
[6,"Merging","WBL","MajL2","RAB Circulating","SBT, SBL","MinT2, MinL2","RAB Entering",null,2068.6813186813188,2928.5714285714284,6058281.0047095763,null,25,20,45,8.9147801264732891,9.333798723087925E-4,null,1,null,null,null,null,null,2,null,25,0.61111111111111105,null,null,null,1,null,1.2222222222222221,null,6911.2725618280747,null,null,"","","","",1,"","","","","","","","","","","",null,"","","","","","","","","",1,1,"","","","",""]
[7,"Merging","SBT, WBL","MinT2, MajL2","RAB Exiting","EBR","MajR1","RAB Entering",null,3925.8241758241757,387.36263736263737,1520717.606569255,null,30,20,45,10.623933623853066,1.8155470372595635E-3,null,1,null,null,null,null,null,1,null,25,0.61111111111111105,null,null,null,1,null,0.61111111111111105,null,1687.2376553482175,null,null,"","","","",1,"","","","",1,"","","","","","",null,"","",1,"","","","","","","","","","","","",""]
[8,"Merging","SBL","MinL2","RAB Circulating","EBT, EBL","MajT1, MajL1","RAB Entering",null,1071.4285714285713,8612.6373626373643,9227825.7456828896,null,25,20,45,8.9147801264732891,9.333798723087925E-4,null,1,null,null,null,null,null,1.75,null,25,0.61111111111111105,null,null,null,1,null,1.0694444444444444,null,9211.1964562067042,null,null,"","","","","","","","","","",1,"","","","","",null,1,1,"","","","","","","","","","","","","",""]
[9,"Merging","EBT, SBL","MajT1, MinL2","RAB Exiting","NBR","MinR1","RAB Entering",null,7615.3846153846162,1142.8571428571429,8703296.7032967042,null,30,20,45,10.623933623853066,1.8155470372595635E-3,null,1,null,null,null,null,null,1.75,null,25,0.61111111111111105,null,null,null,1,null,1.0694444444444444,null,16898.553192954401,null,null,1,"","","","","","","","","",1,"","","","","",null,"","","","","","","","",1,"","","","","","",""]
[10,"Merging","EBL","MajL1","RAB Circulating","NBT, NBL","MinT1, MinL1","RAB Entering",null,2068.6813186813188,2857.1428571428569,5910518.0533751957,null,25,20,45,8.9147801264732891,9.333798723087925E-4,null,1,null,null,null,null,null,2,null,25,0.61111111111111105,null,null,null,1,null,1.2222222222222221,null,6742.7049383688536,null,null,"",1,"","","","","","","","","","","","","","",null,"","","","","","",1,1,"","","","","","","",""]
[11,"Merging","NBT, EBL","MinT1, MajL2","RAB Exiting","WBR","MajR2","RAB Entering",null,3854.3956043956041,428.57142857142856,1651883.8304552587,null,30,20,45,10.623933623853066,1.8155470372595635E-3,null,1,null,null,null,null,null,1,null,25,0.61111111111111105,null,null,null,1,null,0.61111111111111105,null,1832.7667076155701,null,null,"","","","",1,"",1,"","","","","","","","","",null,"","","","","",1,"","","","","","","","","",""]
[12,"Merging","NBL","MinL1","RAB Circulating","WBT, WBL","MajT2, MajL2","RAB Entering",null,1071.4285714285713,8571.4285714285725,9183673.4693877548,null,25,20,45,8.9147801264732891,9.333798723087925E-4,null,1,null,null,null,null,null,1.75,null,25,0.61111111111111105,null,null,null,1,null,1.0694444444444444,null,9167.123745889925,null,null,"","","","","","","",1,"","","","","","","","",null,"","","",1,1,"","","","","","","","","","",""]
[13,"Diverging","SBR","MinR2","RAB Circulating","SBT, SBL","MinT2, MinL2","RAB Entering",null,1071.4285714285713,2928.5714285714284,3137755.1020408161,null,25,20,10,3.1698677806728797,1.8457105347369804E-5,null,1,null,null,null,null,null,1,null,"",1,null,null,null,1,null,1,null,57.913876472614433,null,null,"","","","","","","","","","","",1,"","","","",null,"","","","","","","","","",1,1,"","","","",""]
[14,"Diverging","WBL","MajL2","RAB Circulating","WBT, NBL","MajT2, MinL1","RAB Exiting",null,2068.6813186813188,7574.1758241758243,15668556.031880209,null,25,30,10,3.4564566568122888,2.5632912055290634E-5,null,1,null,null,null,null,null,1,null,"",1,null,null,null,1,null,1,null,401.63071879857898,null,null,"","","","",1,"","","","","","","","","","","",null,"","","",1,"","","",1,"","","","","","","",""]
[15,"Diverging","EBR","MajR1","RAB Circulating","EBT, EBL","MajT1, MajL1","RAB Entering",null,387.36263736263737,8612.6373626373643,3336213.9234391991,null,25,20,10,3.1698677806728797,1.8457105347369804E-5,null,1,null,null,null,null,null,1,null,"",1,null,null,null,1,null,1,null,61.57685184627924,null,null,"","",1,"","","","","","","","","","","","","",null,1,1,"","","","","","","","","","","","","",""]
[16,"Diverging","SBL","MinL2","RAB Circulating","SBT, WBL","MinT2, MajL1","RAB Exiting",null,1071.4285714285713,3925.8241758241757,4206240.1883830447,null,25,30,10,3.4564566568122888,2.5632912055290634E-5,null,1,null,null,null,null,null,1,null,"",1,null,null,null,1,null,1,null,107.81818483225169,null,null,"","","","","","","","","","",1,"","","","","",null,"",1,"","","","","","","",1,"","","","","",""]
[17,"Diverging","NBR","MinR1","RAB Circulating","NBT, NBL","MinT1, MinL1","RAB Entering",null,1142.8571428571429,2857.1428571428569,3265306.1224489794,null,25,20,10,3.1698677806728797,1.8457105347369804E-5,null,1,null,null,null,null,null,1,null,"",1,null,null,null,1,null,1,null,60.26809909345242,null,null,"","","","","","","","",1,"","","","","","","",null,"","","","","","",1,1,"","","","","","","",""]
[18,"Diverging","EBL","MajL1","RAB Circulating","EBT, SBL","MajT1, MinL2","RAB Exiting",null,2068.6813186813188,7615.3846153846162,15753803.888419276,null,25,30,10,3.4564566568122888,2.5632912055290634E-5,null,1,null,null,null,null,null,1,null,"",1,null,null,null,1,null,1,null,403.81586960814695,null,null,"",1,"","","","","","","","","","","","","","",null,1,"","","","","","","","","",1,"","","","",""]
[19,"Diverging","WBR","MajR2","RAB Circulating","WBT, WBL","MajT2, MajL2","RAB Entering",null,428.57142857142856,8571.4285714285725,3673469.3877551025,null,25,20,10,3.1698677806728797,1.8457105347369804E-5,null,1,null,null,null,null,null,1,null,"",1,null,null,null,1,null,1,null,67.801611480133985,null,null,"","","","","",1,"","","","","","","","","","",null,"","","",1,1,"","","","","","","","","","",""]
[20,"Diverging","NBL","MinL1","RAB Circulating","NBT, EBL","MinT1, MajL1","RAB Exiting",null,1071.4285714285713,3854.3956043956041,4129709.5761381467,null,25,30,10,3.4564566568122888,2.5632912055290634E-5,null,1,null,null,null,null,null,1,null,"",1,null,null,null,1,null,1,null,105.85648237904067,null,null,"","","","","","","",1,"","","","","","","","",null,"",1,"","","","",1,"","","","","","","","",""]
[21,"Nonmotorized","EB Ped","MajNM1","Nonmotorized","WBT, NBL, SBR","MajT2, MinL1, MinR2","RAB Exiting",null,175,8645.6043956043959,1512980.7692307692,null,0,30,"","",0.46699805015542578,null,1,null,null,null,null,null,2,null,{"$f":"IF(B24=\"Diverging\",\"\",SSI_AGI_VehSpeed_RABExit)","v":30},0.66666666666666663,null,1,null,2,null,2.6666666666666665,null,1884157.5177424676,null,null,"","","","","","","","","","","","",1,"","","",null,"","","",1,"","","",1,"","","",1,"","","",""]
[22,"Nonmotorized","EB Ped","MajNM1","Nonmotorized","EBT, EBL, EBR","MajT1, MajL1, MajR1","RAB Entering",null,175,9000.0000000000018,1575000.0000000002,null,0,20,"","",0.20274912921655375,null,1,null,null,null,null,null,2,null,{"$f":"IF(B25=\"Diverging\",\"\",SSI_AGI_VehSpeed_RABEnter)","v":20},0.55555555555555558,null,1,null,2,null,2.2222222222222223,null,709621.95225793822,null,null,"","","","","","","","","","","","",1,"","","",null,1,1,1,"","","","","","","","","","","","",""]
[23,"Nonmotorized","NB Ped","MinNM1","Nonmotorized","SBT, WBL, EBR","MinT2, MajL2, MajR1","RAB Exiting",null,175,4313.1868131868132,754807.69230769225,null,0,30,"","",0.46699805015542578,null,1,null,null,null,null,null,1,null,{"$f":"IF(B26=\"Diverging\",\"\",SSI_AGI_VehSpeed_RABExit)","v":30},0.66666666666666663,null,1,null,2,null,1.3333333333333333,null,469991.62740001181,null,null,"","","","","","","","","","","","","","",1,"",null,"","",1,"",1,"","","","",1,"","","","","",""]
[24,"Nonmotorized","NB Ped","MinNM1","Nonmotorized","NBT, NBL, NBR","MinT1, MinL1, MinR1","RAB Entering",null,175,4000,700000,null,0,20,"","",0.20274912921655375,null,1,null,null,null,null,null,1,null,{"$f":"IF(B27=\"Diverging\",\"\",SSI_AGI_VehSpeed_RABEnter)","v":20},0.55555555555555558,null,1,null,2,null,1.1111111111111112,null,157693.7671684307,null,null,"","","","","","","","","","","","","","",1,"",null,"","","","","","",1,1,1,"","","","","","",""]
[25,"Nonmotorized","WB Ped","MajNM2","Nonmotorized","EBT, SBL, NBR","MajT1, MinL2, MinR1","RAB Exiting",null,175,8758.2417582417584,1532692.3076923077,null,0,30,"","",0.46699805015542578,null,1,null,null,null,null,null,2,null,{"$f":"IF(B28=\"Diverging\",\"\",SSI_AGI_VehSpeed_RABExit)","v":30},0.66666666666666663,null,1,null,2,null,2.6666666666666665,null,1908704.8511480736,null,null,"","","","","","","","","","","","","",1,"","",null,1,"","","","","","","",1,"",1,"","","","",""]
[26,"Nonmotorized","WB Ped","MajNM2","Nonmotorized","WBT, WBL, WBR","MajT2, MajL2, MajR2","RAB Entering",null,175,9000.0000000000018,1575000.0000000002,null,0,20,"","",0.20274912921655375,null,1,null,null,null,null,null,2,null,{"$f":"IF(B29=\"Diverging\",\"\",SSI_AGI_VehSpeed_RABEnter)","v":20},0.55555555555555558,null,1,null,2,null,2.2222222222222223,null,709621.95225793822,null,null,"","","","","","","","","","","","","",1,"","",null,"","","",1,1,1,"","","","","","","","","",""]
[27,"Nonmotorized","SB Ped","MinNM2","Nonmotorized","NBT, EBL, WBR","MinT1, MajL1, MajR2","RAB Exiting",null,175,4282.9670329670325,749519.23076923075,null,0,30,"","",0.46699805015542578,null,1,null,null,null,null,null,1,null,{"$f":"IF(B30=\"Diverging\",\"\",SSI_AGI_VehSpeed_RABExit)","v":30},0.66666666666666663,null,1,null,2,null,1.3333333333333333,null,466698.69243096712,null,null,"","","","","","","","","","","","","","","",1,null,"",1,"","","",1,1,"","","","","","","","",""]
[28,"Nonmotorized","SB Ped","MinNM2","Nonmotorized","SBT, SBL, SBR","MinT2, MinL2, MinR2","RAB Entering",null,175,4000,700000,null,0,20,"","",0.20274912921655375,null,1,null,null,null,null,null,1,null,{"$f":"IF(B31=\"Diverging\",\"\",SSI_AGI_VehSpeed_RABEnter)","v":20},0.55555555555555558,null,1,null,2,null,1.1111111111111112,null,157693.7671684307,null,null,"","","","","","","","","","","","","","","",1,null,"","","","","","","","","",1,1,1,"","","",""]
[null,null,null,null,null,null,null,null,null,null,null,null,null,null,null,null,null,null,null,null,null,null,null,null,null,null,null,null,null,null,null,null,null,null,null,null,null,null,"O",{"$f":"'SSI Inputs'!$D$26","v":6543.9560439560446},{"$f":"'SSI Inputs'!$D$27","v":2068.6813186813188},{"$f":"'SSI Inputs'!$D$28","v":387.36263736263737},{"$f":"'SSI Inputs'!$D$30","v":6502.7472527472528},{"$f":"'SSI Inputs'!$D$31","v":2068.6813186813188},{"$f":"'SSI Inputs'!$D$32","v":428.57142857142856},{"$f":"'SSI Inputs'!$D$34","v":1785.7142857142856},{"$f":"'SSI Inputs'!$D$35","v":1071.4285714285713},{"$f":"'SSI Inputs'!$D$36","v":1142.8571428571429},{"$f":"'SSI Inputs'!$D$38","v":1857.1428571428571},{"$f":"'SSI Inputs'!$D$39","v":1071.4285714285713},{"$f":"'SSI Inputs'!$D$40","v":1071.4285714285713},{"$f":"'SSI Inputs'!$Q$18","v":175},{"$f":"'SSI Inputs'!$Q$19","v":175},{"$f":"'SSI Inputs'!$Q$20","v":175},{"$f":"'SSI Inputs'!$Q$21","v":175},"O",{"$f":"'SSI Inputs'!$D$26","v":6543.9560439560446},{"$f":"'SSI Inputs'!$D$27","v":2068.6813186813188},{"$f":"'SSI Inputs'!$D$28","v":387.36263736263737},{"$f":"'SSI Inputs'!$D$30","v":6502.7472527472528},{"$f":"'SSI Inputs'!$D$31","v":2068.6813186813188},{"$f":"'SSI Inputs'!$D$32","v":428.57142857142856},{"$f":"'SSI Inputs'!$D$34","v":1785.7142857142856},{"$f":"'SSI Inputs'!$D$35","v":1071.4285714285713},{"$f":"'SSI Inputs'!$D$36","v":1142.8571428571429},{"$f":"'SSI Inputs'!$D$38","v":1857.1428571428571},{"$f":"'SSI Inputs'!$D$39","v":1071.4285714285713},{"$f":"'SSI Inputs'!$D$40","v":1071.4285714285713},{"$f":"'SSI Inputs'!$Q$18","v":175},{"$f":"'SSI Inputs'!$Q$19","v":175},{"$f":"'SSI Inputs'!$Q$20","v":175},{"$f":"'SSI Inputs'!$Q$21","v":175}]
[null,null,null,null,null,null,null,null,null,null,null,null,null,null,null,null,null,null,null,null,null,null,null,null,null,null,null,null,null,null,null,null,null,null,null,null,null,null,"D",{"$f":"'SSI Inputs'!$E$26","v":7271.062271062272},{"$f":"'SSI Inputs'!$E$27","v":2298.5347985347985},{"$f":"'SSI Inputs'!$E$28","v":430.40293040293039},{"$f":"'SSI Inputs'!$E$30","v":7225.2747252747249},{"$f":"'SSI Inputs'!$E$31","v":2298.5347985347985},{"$f":"'SSI Inputs'!$E$32","v":476.19047619047615},{"$f":"'SSI Inputs'!$E$34","v":2232.1428571428569},{"$f":"'SSI Inputs'!$E$35","v":1339.2857142857142},{"$f":"'SSI Inputs'!$E$36","v":1428.5714285714284},{"$f":"'SSI Inputs'!$E$38","v":2321.4285714285716},{"$f":"'SSI Inputs'!$E$39","v":1339.2857142857142},{"$f":"'SSI Inputs'!$E$40","v":1339.2857142857142},{"$f":"'SSI Inputs'!$R$18","v":175},{"$f":"'SSI Inputs'!$R$19","v":175},{"$f":"'SSI Inputs'!$R$20","v":175},{"$f":"'SSI Inputs'!$R$21","v":175},"D",{"$f":"'SSI Inputs'!$E$26","v":7271.062271062272},{"$f":"'SSI Inputs'!$E$27","v":2298.5347985347985},{"$f":"'SSI Inputs'!$E$28","v":430.40293040293039},{"$f":"'SSI Inputs'!$E$30","v":7225.2747252747249},{"$f":"'SSI Inputs'!$E$31","v":2298.5347985347985},{"$f":"'SSI Inputs'!$E$32","v":476.19047619047615},{"$f":"'SSI Inputs'!$E$34","v":2232.1428571428569},{"$f":"'SSI Inputs'!$E$35","v":1339.2857142857142},{"$f":"'SSI Inputs'!$E$36","v":1428.5714285714284},{"$f":"'SSI Inputs'!$E$38","v":2321.4285714285716},{"$f":"'SSI Inputs'!$E$39","v":1339.2857142857142},{"$f":"'SSI Inputs'!$E$40","v":1339.2857142857142},{"$f":"'SSI Inputs'!$R$18","v":175},{"$f":"'SSI Inputs'!$R$19","v":175},{"$f":"'SSI Inputs'!$R$20","v":175},{"$f":"'SSI Inputs'!$R$21","v":175}]
[]
[]
[]
[]
[]
[]
[]
[]
[]
[]
[]
[]
[]
[]
[]
[]
[]
[]
[]
[]
[]
[]
[]
[]
[]
[]
[]
[]
[]
[]
[]
[]
[]
[]
[]
[]
[]
[]
[]
[]
[]
[]
[]
[]
[]
[]
[]
[]
[]
[]
[]
[]
[]
[]
[]
[]
[]
[]
[]
[]
[]
[]
[]
[]
[]
[]
[]
[null,null,null,null,null,null,null,null,null,"Exposure",null,null,null,null,null,null,null,null,null,null,null,null,null,null,null,null,null,null,null,null,null,null,null,null,null,null,"Exposure-Severity-Complexity Product"]
[null,null,null,null,null,null,null,null,null,"Q1","Q2","I"]
[null,null,null,null,null,null,null,null,null,{"$f":"SUMPRODUCT($AN4:$BC4,$AN$33:$BC$33)","v":8564.5604395604387},{"$f":"SUMPRODUCT($BE4:$BT4,$BE$33:$BT$33)","v":3660.7142857142858},{"$f":"PRODUCT(J103:K103)","v":31352408.751962319},null,null,null,null,null,null,null,null,null,null,null,null,null,null,null,null,null,null,null,null,null,null,null,null,{"$f":"L103*R4*AI4","v":159785.21762487345}]
[null,null,null,null,null,null,null,null,null,{"$f":"SUMPRODUCT($AN5:$BC5,$AN$33:$BC$33)","v":4619.9633699633705},{"$f":"SUMPRODUCT($BE5:$BT5,$BE$33:$BT$33)","v":9569.59706959707},{"$f":"PRODUCT(J104:K104)","v":44211187.926847272},null,null,null,null,null,null,null,null,null,null,null,null,null,null,null,null,null,null,null,null,null,null,null,null,{"$f":"L104*R5*AI5","v":112659.51430132655}]
[null,null,null,null,null,null,null,null,null,8610.3479853479857,3571.4285714285711,30751242.804814231,null,null,null,null,null,null,null,null,null,null,null,null,null,null,null,null,null,null,null,null,null,null,null,null,156721.42012039278]
[null,null,null,null,null,null,null,null,null,4530.6776556776549,9523.8095238095229,43149311.006453849,null,null,null,null,null,null,null,null,null,null,null,null,null,null,null,null,null,null,null,null,null,null,null,null,109953.62595701755]
[null,null,null,null,null,null,null,null,null,8564.5604395604387,1339.2857142857142,11470393.445839873,null,null,null,null,null,null,null,null,null,null,null,null,null,null,null,null,null,null,null,null,null,null,null,null,22271.22208935138]
[null,null,null,null,null,null,null,null,null,2298.5347985347985,3660.7142857142858,8414279.173207745,null,null,null,null,null,null,null,null,null,null,null,null,null,null,null,null,null,null,null,null,null,null,null,null,9598.9896692056591]
[null,null,null,null,null,null,null,null,null,4619.9633699633705,430.40293040293039,1988445.7727864324,null,null,null,null,null,null,null,null,null,null,null,null,null,null,null,null,null,null,null,null,null,null,null,null,2206.1825081594893]
[null,null,null,null,null,null,null,null,null,1339.2857142857142,9569.59706959707,12816424.646781789,null,null,null,null,null,null,null,null,null,null,null,null,null,null,null,null,null,null,null,null,null,null,null,null,12793.328411398199]
[null,null,null,null,null,null,null,null,null,8610.3479853479857,1428.5714285714284,12300497.121925693,null,null,null,null,null,null,null,null,null,null,null,null,null,null,null,null,null,null,null,null,null,null,null,null,23882.973544485587]
[null,null,null,null,null,null,null,null,null,2298.5347985347985,3571.4285714285711,8209052.8519099941,null,null,null,null,null,null,null,null,null,null,null,null,null,null,null,null,null,null,null,null,null,null,null,null,9364.8679699567401]
[null,null,null,null,null,null,null,null,null,4530.6776556776549,476.19047619047615,2157465.5503226928,null,null,null,null,null,null,null,null,null,null,null,null,null,null,null,null,null,null,null,null,null,null,null,null,2393.7101148142956]
[null,null,null,null,null,null,null,null,null,1339.2857142857142,9523.8095238095229,12755102.040816324,null,null,null,null,null,null,null,null,null,null,null,null,null,null,null,null,null,null,null,null,null,null,null,null,12732.116313736005]
[null,null,null,null,null,null,null,null,null,1339.2857142857142,3660.7142857142858,4902742.3469387749,null,null,null,null,null,null,null,null,null,null,null,null,null,null,null,null,null,null,null,null,null,null,null,null,90.490431988460045]
[null,null,null,null,null,null,null,null,null,2298.5347985347985,8564.5604395604387,19685940.204484157,null,null,null,null,null,null,null,null,null,null,null,null,null,null,null,null,null,null,null,null,null,null,null,null,504.60797398725254]
[null,null,null,null,null,null,null,null,null,430.40293040293039,9569.59706959707,4118782.6215298744,null,null,null,null,null,null,null,null,null,null,null,null,null,null,null,null,null,null,null,null,null,null,null,null,76.020804748492864]
[null,null,null,null,null,null,null,null,null,1339.2857142857142,4619.9633699633705,6187450.941915228,null,null,null,null,null,null,null,null,null,null,null,null,null,null,null,null,null,null,null,null,null,null,null,null,158.60238584053823]
[null,null,null,null,null,null,null,null,null,1428.5714285714284,3571.4285714285711,5102040.8163265297,null,null,null,null,null,null,null,null,null,null,null,null,null,null,null,null,null,null,null,null,null,null,null,null,94.168904833519392]
[null,null,null,null,null,null,null,null,null,2298.5347985347985,8610.3479853479857,19791184.471816339,null,null,null,null,null,null,null,null,null,null,null,null,null,null,null,null,null,null,null,null,null,null,null,null,507.30569103610185]
[null,null,null,null,null,null,null,null,null,476.19047619047615,9523.8095238095229,4535147.3922902485,null,null,null,null,null,null,null,null,null,null,null,null,null,null,null,null,null,null,null,null,null,null,null,null,83.705693185350569]
[null,null,null,null,null,null,null,null,null,1339.2857142857142,4530.6776556776549,6067871.8602825729,null,null,null,null,null,null,null,null,null,null,null,null,null,null,null,null,null,null,null,null,null,null,null,null,155.53722575739596]
[null,null,null,null,null,null,null,null,null,175,9903.8461538461524,1733173.0769230768,null,null,null,null,null,null,null,null,null,null,null,null,null,null,null,null,null,null,null,null,null,null,null,null,2158369.1933465507]
[null,null,null,null,null,null,null,null,null,175,10000,1750000,null,null,null,null,null,null,null,null,null,null,null,null,null,null,null,null,null,null,null,null,null,null,null,null,788468.83584215352]
[null,null,null,null,null,null,null,null,null,175,5050.3663003663005,883814.10256410262,null,null,null,null,null,null,null,null,null,null,null,null,null,null,null,null,null,null,null,null,null,null,null,null,550319.28346307122]
[null,null,null,null,null,null,null,null,null,175,5000,875000,null,null,null,null,null,null,null,null,null,null,null,null,null,null,null,null,null,null,null,null,null,null,null,null,197117.20896053838]
[null,null,null,null,null,null,null,null,null,175,10038.919413919415,1756810.8974358977,null,null,null,null,null,null,null,null,null,null,null,null,null,null,null,null,null,null,null,null,null,null,null,null,2187806.0362516474]
[null,null,null,null,null,null,null,null,null,175,10000,1750000,null,null,null,null,null,null,null,null,null,null,null,null,null,null,null,null,null,null,null,null,null,null,null,null,788468.83584215352]
[null,null,null,null,null,null,null,null,null,175,5006.868131868132,876201.92307692312,null,null,null,null,null,null,null,null,null,null,null,null,null,null,null,null,null,null,null,null,null,null,null,null,545579.45282580995]
[null,null,null,null,null,null,null,null,null,175,5000,875000,null,null,null,null,null,null,null,null,null,null,null,null,null,null,null,null,null,null,null,null,null,null,null,null,197117.20896053838]

{"sheet":"RAB2x2","index":42,"n_rows":130,"n_cols":72,"rows_kept":130,"cut":false,"hidden":true,"merged":[[1,56,1,71],[0,19,0,28],[0,30,0,32],[1,31,2,31],[1,32,2,32],[1,21,1,25],[1,27,1,28],[1,30,2,30],[100,9,100,11],[100,36,101,36],[1,34,2,34],[1,36,2,36],[1,39,1,54],[1,9,1,11],[1,13,1,17]]}
[null,null,null,null,null,null,null,null,null,null,null,null,null,null,null,null,null,null,null,"Conflicting Traffic Complexity",null,null,null,null,null,null,null,null,null,null,"Pedestrian Complexity"]
[null,null,null,null,null,null,null,null,null,"Exposure",null,null,null,"Severity",null,null,null,null,null,"Traffic Control",null,"Conflicting Lanes",null,null,null,null,null,"Conflicting Speed",null,null,"Indirect Paths Indicator","Non-intuitive movements indicator","Pedestrian Complexity factor",null,"Total Complexity Multiplier",null,"Exposure-Severity-Complexity Product",null,null,"Included in Mvmt1",null,null,null,null,null,null,null,null,null,null,null,null,null,null,null,null,"Included in Mvmt2"]
["#","Conflict Type","Mvmt1","Mvmt1_gen","Mvmt1_SpeedCat","Mvmt2","Mvmt2_gen","Mvmt2_SpeedCat",null,"Q1","Q2","I",null,"Speed_V1","Speed_V2","Angle","delta_V","P_FSI",null,null,null,"MajC","MinC","MajM/P","MinM/P","Score",null,"Speed","Factor",null,null,null,null,null,null,null,null,null,null,"MajT1","MajL1","MajR1","MajT2","MajL2","MajR2","MinT1","MinL1","MinR1","MinT2","MinL2","MinR2","MajNM1","MajNM2","MinNM1","MinNM2",null,"MajT1","MajL1","MajR1","MajT2","MajL2","MajR2","MinT1","MinL1","MinR1","MinT2","MinL2","MinR2","MajNM1","MajNM2","MinNM1","MinNM2"]
[1,"Crossing - RAB","WBT, NBL","MajT2, MinL1","RAB Exiting","SBT, SBL","MinT2, MinL2","RAB Entering",null,{"$f":"SUMPRODUCT($AN4:$BC4,$AN$32:$BC$32)","v":7574.1758241758243},{"$f":"SUMPRODUCT($BE4:$BT4,$BE$32:$BT$32)","v":2928.5714285714284},{"$f":"PRODUCT(J4:K4)","v":22181514.91365777},null,{"$f":"VLOOKUP(E4,SSI_AGI_Range_VehSpeed,5,FALSE)","v":30},{"$f":"VLOOKUP(H4,SSI_AGI_Range_VehSpeed,5,FALSE)","v":20},{"$f":"IF(B4=\"Nonmotorized\",\"\",VLOOKUP(B4,SSI_AGI_Range_CollAngles,5,FALSE))","v":60},{"$f":"IF(B4=\"Nonmotorized\",\"\",SQRT(N4^2+O4^2-2*N4*O4*COS(RADIANS(P4)))/2)","v":13.228756555322953},{"$f":"IF(B4=\"Nonmotorized\",1/(1+EXP(3.8432-0.1237*O4)),(Q4/SSI_AGI_RegAlpha)^SSI_AGI_RegK+(Q4/SSI_AGI_RegAlpha)^SSI_AGI_RegK-((Q4/SSI_AGI_RegAlpha)^SSI_AGI_RegK)*((Q4/SSI_AGI_RegAlpha)^SSI_AGI_RegK))","v":4.1698027385763141E-3},null,1,null,null,null,null,null,2,null,{"$f":"IF(B4=\"Diverging\",\"\",SSI_AGI_VehSpeed_RABCirc)","v":25},{"$f":"IF(B4=\"Diverging\",1,1-((60-AB4)/60*0.1/0.15))","v":0.61111111111111105},null,null,null,{"$f":"IF(SSI_AGI_ConsiderNMComplexity=\"Yes\",1+AE4+AF4,1)","v":1},null,{"$f":"PRODUCT(Z4,T4,AC4,AG4)","v":1.2222222222222221},null,{"$f":"L4*R4*AI4","v":113046.43977335074},null,null,{"$f":"IF(ISNUMBER(SEARCH(AN$3,$D4)),1,\"\")","v":""},{"$f":"IF(ISNUMBER(SEARCH(AO$3,$D4)),1,\"\")","v":""},"",1,"","","",1,"","","","","","","","",null,{"$f":"IF(ISNUMBER(SEARCH(BE$3,$G4)),1,\"\")","v":""},{"$f":"IF(ISNUMBER(SEARCH(BF$3,$G4)),1,\"\")","v":""},"","","","","","","",1,1,"","","","",""]
[2,"Crossing - RAB","SBT, WBL","MinT2, MajL2","RAB Exiting","EBT, EBL","MajT1, MajL1","RAB Entering",null,3925.8241758241757,{"$f":"SUMPRODUCT($BE5:$BT5,$BE$32:$BT$32)","v":8612.6373626373643},{"$f":"PRODUCT(J5:K5)","v":33811699.975848332},null,30,20,60,{"$f":"IF(B5=\"Nonmotorized\",\"\",SQRT(N5^2+O5^2-2*N5*O5*COS(RADIANS(P5)))/2)","v":13.228756555322953},4.1698027385763141E-3,null,1,null,null,null,null,null,2,null,25,0.61111111111111105,null,null,null,1,null,1.2222222222222221,null,{"$f":"L5*R5*AI5","v":172318.81230081595},null,null,{"$f":"IF(ISNUMBER(SEARCH(AN$3,$D5)),1,\"\")","v":""},"","","",1,"","","","",1,"","","","","","",null,{"$f":"IF(ISNUMBER(SEARCH(BE$3,$G5)),1,\"\")","v":1},1,"","","","","","","","","","","","","",""]
[3,"Crossing - RAB","EBT, SBL","MajT1, MinL2","RAB Exiting","NBT, NBL","MinT1, MinL1","RAB Entering",null,7615.3846153846162,2857.1428571428569,21758241.758241758,null,30,20,60,13.228756555322953,4.1698027385763141E-3,null,1,null,null,null,null,null,2,null,25,0.61111111111111105,null,null,null,1,null,1.2222222222222221,null,110889.25964126021,null,null,1,"","","","","","","","","",1,"","","","","",null,"","","","","","",1,1,"","","","","","","",""]
[4,"Crossing - RAB","NBT, EBL","MinT1, MajL1","RAB Exiting","WBT, WBL","MajT2, MajL2","RAB Entering",null,3854.3956043956041,8571.4285714285725,33037676.609105181,null,30,20,60,13.228756555322953,4.1698027385763141E-3,null,1,null,null,null,null,null,2,null,25,0.61111111111111105,null,null,null,1,null,1.2222222222222221,null,168374.05982325549,null,null,"",1,"","","","",1,"","","","","","","","","",null,"","","",1,1,"","","","","","","","","","",""]
[5,"Merging","WBT, NBL","MajT2, MinL1","RAB Exiting","SBR","MinR2","RAB Entering",null,7574.1758241758243,1071.4285714285713,8115188.3830455253,null,30,20,45,10.623933623853066,1.8155470372595635E-3,null,1,null,null,null,null,null,1.75,null,25,0.61111111111111105,null,null,null,1,null,1.0694444444444444,null,15756.666380199971,null,null,"","","",1,"","","",1,"","","","","","","","",null,"","","","","","","","","","","",1,"","","",""]
[6,"Merging","WBL","MajL2","RAB Circulating","SBT, SBL","MinT2, MinL2","RAB Entering",null,2068.6813186813188,2928.5714285714284,6058281.0047095763,null,25,20,45,8.9147801264732891,9.333798723087925E-4,null,1,null,null,null,null,null,2,null,25,0.61111111111111105,null,null,null,1,null,1.2222222222222221,null,6911.2725618280747,null,null,"","","","",1,"","","","","","","","","","","",null,"","","","","","","","","",1,1,"","","","",""]
[7,"Merging","SBT, WBL","MinT2, MajL2","RAB Exiting","EBR","MajR1","RAB Entering",null,3925.8241758241757,387.36263736263737,1520717.606569255,null,30,20,45,10.623933623853066,1.8155470372595635E-3,null,1,null,null,null,null,null,1.75,null,25,0.61111111111111105,null,null,null,1,null,1.0694444444444444,null,2952.6658968593811,null,null,"","","","",1,"","","","",1,"","","","","","",null,"","",1,"","","","","","","","","","","","",""]
[8,"Merging","SBL","MinL2","RAB Circulating","EBT, EBL","MajT1, MajL1","RAB Entering",null,1071.4285714285713,8612.6373626373643,9227825.7456828896,null,25,20,45,8.9147801264732891,9.333798723087925E-4,null,1,null,null,null,null,null,2,null,25,0.61111111111111105,null,null,null,1,null,1.2222222222222221,null,10527.081664236233,null,null,"","","","","","","","","","",1,"","","","","",null,1,1,"","","","","","","","","","","","","",""]
[9,"Merging","EBT, SBL","MajT1, MinL2","RAB Exiting","NBR","MinR1","RAB Entering",null,7615.3846153846162,1142.8571428571429,8703296.7032967042,null,30,20,45,10.623933623853066,1.8155470372595635E-3,null,1,null,null,null,null,null,1.75,null,25,0.61111111111111105,null,null,null,1,null,1.0694444444444444,null,16898.553192954401,null,null,1,"","","","","","","","","",1,"","","","","",null,"","","","","","","","",1,"","","","","","",""]
[10,"Merging","EBL","MajL1","RAB Circulating","NBT, NBL","MinT1, MinL1","RAB Entering",null,2068.6813186813188,2857.1428571428569,5910518.0533751957,null,25,20,45,8.9147801264732891,9.333798723087925E-4,null,1,null,null,null,null,null,2,null,25,0.61111111111111105,null,null,null,1,null,1.2222222222222221,null,6742.7049383688536,null,null,"",1,"","","","","","","","","","","","","","",null,"","","","","","",1,1,"","","","","","","",""]
[11,"Merging","NBT, EBL","MinT1, MajL2","RAB Exiting","WBR","MajR2","RAB Entering",null,3854.3956043956041,428.57142857142856,1651883.8304552587,null,30,20,45,10.623933623853066,1.8155470372595635E-3,null,1,null,null,null,null,null,1.75,null,25,0.61111111111111105,null,null,null,1,null,1.0694444444444444,null,3207.3417383272476,null,null,"","","","",1,"",1,"","","","","","","","","",null,"","","","","",1,"","","","","","","","","",""]
[12,"Merging","NBL","MinL1","RAB Circulating","WBT, WBL","MajT2, MajL2","RAB Entering",null,1071.4285714285713,8571.4285714285725,9183673.4693877548,null,25,20,45,8.9147801264732891,9.333798723087925E-4,null,1,null,null,null,null,null,2,null,25,0.61111111111111105,null,null,null,1,null,1.2222222222222221,null,10476.712852445628,null,null,"","","","","","","",1,"","","","","","","","",null,"","","",1,1,"","","","","","","","","","",""]
[13,"Diverging","SBR","MinR2","RAB Circulating","SBT, SBL","MinT2, MinL2","RAB Entering",null,1071.4285714285713,2928.5714285714284,3137755.1020408161,null,25,20,10,3.1698677806728797,1.8457105347369804E-5,null,1,null,null,null,null,null,1,null,"",1,null,null,null,1,null,1,null,57.913876472614433,null,null,"","","","","","","","","","","",1,"","","","",null,"","","","","","","","","",1,1,"","","","",""]
[14,"Diverging","WBL","MajL2","RAB Circulating","WBT, NBL","MajT2, MinL1","RAB Exiting",null,2068.6813186813188,7574.1758241758243,15668556.031880209,null,25,30,10,3.4564566568122888,2.5632912055290634E-5,null,1,null,null,null,null,null,1,null,"",1,null,null,null,1,null,1,null,401.63071879857898,null,null,"","","","",1,"","","","","","","","","","","",null,"","","",1,"","","",1,"","","","","","","",""]
[15,"Diverging","EBR","MajR1","RAB Circulating","EBT, EBL","MajT1, MajL1","RAB Entering",null,387.36263736263737,8612.6373626373643,3336213.9234391991,null,25,20,10,3.1698677806728797,1.8457105347369804E-5,null,1,null,null,null,null,null,1,null,"",1,null,null,null,1,null,1,null,61.57685184627924,null,null,"","",1,"","","","","","","","","","","","","",null,1,1,"","","","","","","","","","","","","",""]
[16,"Diverging","SBL","MinL2","RAB Circulating","SBT, WBL","MinT2, MajL1","RAB Exiting",null,1071.4285714285713,3925.8241758241757,4206240.1883830447,null,25,30,10,3.4564566568122888,2.5632912055290634E-5,null,1,null,null,null,null,null,1,null,"",1,null,null,null,1,null,1,null,107.81818483225169,null,null,"","","","","","","","","","",1,"","","","","",null,"",1,"","","","","","","",1,"","","","","",""]
[17,"Diverging","NBR","MinR1","RAB Circulating","NBT, NBL","MinT1, MinL1","RAB Entering",null,1142.8571428571429,2857.1428571428569,3265306.1224489794,null,25,20,10,3.1698677806728797,1.8457105347369804E-5,null,1,null,null,null,null,null,1,null,"",1,null,null,null,1,null,1,null,60.26809909345242,null,null,"","","","","","","","",1,"","","","","","","",null,"","","","","","",1,1,"","","","","","","",""]
[18,"Diverging","EBL","MajL1","RAB Circulating","EBT, SBL","MajT1, MinL2","RAB Exiting",null,2068.6813186813188,7615.3846153846162,15753803.888419276,null,25,30,10,3.4564566568122888,2.5632912055290634E-5,null,1,null,null,null,null,null,1,null,"",1,null,null,null,1,null,1,null,403.81586960814695,null,null,"",1,"","","","","","","","","","","","","","",null,1,"","","","","","","","","",1,"","","","",""]
[19,"Diverging","WBR","MajR2","RAB Circulating","WBT, WBL","MajT2, MajL2","RAB Entering",null,428.57142857142856,8571.4285714285725,3673469.3877551025,null,25,20,10,3.1698677806728797,1.8457105347369804E-5,null,1,null,null,null,null,null,1,null,"",1,null,null,null,1,null,1,null,67.801611480133985,null,null,"","","","","",1,"","","","","","","","","","",null,"","","",1,1,"","","","","","","","","","",""]
[20,"Diverging","NBL","MinL1","RAB Circulating","NBT, EBL","MinT1, MajL1","RAB Exiting",null,1071.4285714285713,3854.3956043956041,4129709.5761381467,null,25,30,10,3.4564566568122888,2.5632912055290634E-5,null,1,null,null,null,null,null,1,null,"",1,null,null,null,1,null,1,null,105.85648237904067,null,null,"","","","","","","",1,"","","","","","","","",null,"",1,"","","","",1,"","","","","","","","",""]
[21,"Nonmotorized","EB Ped","MajNM1","Nonmotorized","WBT, NBL, SBR","MajT2, MinL1, MinR2","RAB Exiting",null,175,8645.6043956043959,1512980.7692307692,null,0,30,"","",0.46699805015542578,null,1,null,null,null,null,null,2,null,{"$f":"IF(B24=\"Diverging\",\"\",SSI_AGI_VehSpeed_RABExit)","v":30},0.66666666666666663,null,1,null,2,null,2.6666666666666665,null,1884157.5177424676,null,null,"","","","","","","","","","","","",1,"","","",null,"","","",1,"","","",1,"","","",1,"","","",""]
[22,"Nonmotorized","EB Ped","MajNM1","Nonmotorized","EBT, EBL, EBR","MajT1, MajL1, MajR1","RAB Entering",null,175,9000.0000000000018,1575000.0000000002,null,0,20,"","",0.20274912921655375,null,1,null,null,null,null,null,2,null,{"$f":"IF(B25=\"Diverging\",\"\",SSI_AGI_VehSpeed_RABEnter)","v":20},0.55555555555555558,null,1,null,2,null,2.2222222222222223,null,709621.95225793822,null,null,"","","","","","","","","","","","",1,"","","",null,1,1,1,"","","","","","","","","","","","",""]
[23,"Nonmotorized","NB Ped","MinNM1","Nonmotorized","SBT, WBL, EBR","MinT2, MajL2, MajR1","RAB Exiting",null,175,4313.1868131868132,754807.69230769225,null,0,30,"","",0.46699805015542578,null,1,null,null,null,null,null,2,null,{"$f":"IF(B26=\"Diverging\",\"\",SSI_AGI_VehSpeed_RABExit)","v":30},0.66666666666666663,null,1,null,2,null,2.6666666666666665,null,939983.25480002363,null,null,"","","","","","","","","","","","","","",1,"",null,"","",1,"",1,"","","","",1,"","","","","",""]
[24,"Nonmotorized","NB Ped","MinNM1","Nonmotorized","NBT, NBL, NBR","MinT1, MinL1, MinR1","RAB Entering",null,175,4000,700000,null,0,20,"","",0.20274912921655375,null,1,null,null,null,null,null,2,null,{"$f":"IF(B27=\"Diverging\",\"\",SSI_AGI_VehSpeed_RABEnter)","v":20},0.55555555555555558,null,1,null,2,null,2.2222222222222223,null,315387.5343368614,null,null,"","","","","","","","","","","","","","",1,"",null,"","","","","","",1,1,1,"","","","","","",""]
[25,"Nonmotorized","WB Ped","MajNM2","Nonmotorized","EBT, SBL, NBR","MajT1, MinL2, MinR1","RAB Exiting",null,175,8758.2417582417584,1532692.3076923077,null,0,30,"","",0.46699805015542578,null,1,null,null,null,null,null,2,null,{"$f":"IF(B28=\"Diverging\",\"\",SSI_AGI_VehSpeed_RABExit)","v":30},0.66666666666666663,null,1,null,2,null,2.6666666666666665,null,1908704.8511480736,null,null,"","","","","","","","","","","","","",1,"","",null,1,"","","","","","","",1,"",1,"","","","",""]
[26,"Nonmotorized","WB Ped","MajNM2","Nonmotorized","WBT, WBL, WBR","MajT2, MajL2, MajR2","RAB Entering",null,175,9000.0000000000018,1575000.0000000002,null,0,20,"","",0.20274912921655375,null,1,null,null,null,null,null,2,null,{"$f":"IF(B29=\"Diverging\",\"\",SSI_AGI_VehSpeed_RABEnter)","v":20},0.55555555555555558,null,1,null,2,null,2.2222222222222223,null,709621.95225793822,null,null,"","","","","","","","","","","","","",1,"","",null,"","","",1,1,1,"","","","","","","","","",""]
[27,"Nonmotorized","SB Ped","MinNM2","Nonmotorized","NBT, EBL, WBR","MinT1, MajL1, MajR2","RAB Exiting",null,175,4282.9670329670325,749519.23076923075,null,0,30,"","",0.46699805015542578,null,1,null,null,null,null,null,2,null,{"$f":"IF(B30=\"Diverging\",\"\",SSI_AGI_VehSpeed_RABExit)","v":30},0.66666666666666663,null,1,null,2,null,2.6666666666666665,null,933397.38486193423,null,null,"","","","","","","","","","","","","","","",1,null,"",1,"","","",1,1,"","","","","","","","",""]
[28,"Nonmotorized","SB Ped","MinNM2","Nonmotorized","SBT, SBL, SBR","MinT2, MinL2, MinR2","RAB Entering",null,175,4000,700000,null,0,20,"","",0.20274912921655375,null,1,null,null,null,null,null,2,null,{"$f":"IF(B31=\"Diverging\",\"\",SSI_AGI_VehSpeed_RABEnter)","v":20},0.55555555555555558,null,1,null,2,null,2.2222222222222223,null,315387.5343368614,null,null,"","","","","","","","","","","","","","","",1,null,"","","","","","","","","",1,1,1,"","","",""]
[null,null,null,null,null,null,null,null,null,null,null,null,null,null,null,null,null,null,null,null,null,null,null,null,null,null,null,null,null,null,null,null,null,null,null,null,null,null,"O",{"$f":"'SSI Inputs'!$D$26","v":6543.9560439560446},{"$f":"'SSI Inputs'!$D$27","v":2068.6813186813188},{"$f":"'SSI Inputs'!$D$28","v":387.36263736263737},{"$f":"'SSI Inputs'!$D$30","v":6502.7472527472528},{"$f":"'SSI Inputs'!$D$31","v":2068.6813186813188},{"$f":"'SSI Inputs'!$D$32","v":428.57142857142856},{"$f":"'SSI Inputs'!$D$34","v":1785.7142857142856},{"$f":"'SSI Inputs'!$D$35","v":1071.4285714285713},{"$f":"'SSI Inputs'!$D$36","v":1142.8571428571429},{"$f":"'SSI Inputs'!$D$38","v":1857.1428571428571},{"$f":"'SSI Inputs'!$D$39","v":1071.4285714285713},{"$f":"'SSI Inputs'!$D$40","v":1071.4285714285713},{"$f":"'SSI Inputs'!$Q$18","v":175},{"$f":"'SSI Inputs'!$Q$19","v":175},{"$f":"'SSI Inputs'!$Q$20","v":175},{"$f":"'SSI Inputs'!$Q$21","v":175},"O",{"$f":"'SSI Inputs'!$D$26","v":6543.9560439560446},{"$f":"'SSI Inputs'!$D$27","v":2068.6813186813188},{"$f":"'SSI Inputs'!$D$28","v":387.36263736263737},{"$f":"'SSI Inputs'!$D$30","v":6502.7472527472528},{"$f":"'SSI Inputs'!$D$31","v":2068.6813186813188},{"$f":"'SSI Inputs'!$D$32","v":428.57142857142856},{"$f":"'SSI Inputs'!$D$34","v":1785.7142857142856},{"$f":"'SSI Inputs'!$D$35","v":1071.4285714285713},{"$f":"'SSI Inputs'!$D$36","v":1142.8571428571429},{"$f":"'SSI Inputs'!$D$38","v":1857.1428571428571},{"$f":"'SSI Inputs'!$D$39","v":1071.4285714285713},{"$f":"'SSI Inputs'!$D$40","v":1071.4285714285713},{"$f":"'SSI Inputs'!$Q$18","v":175},{"$f":"'SSI Inputs'!$Q$19","v":175},{"$f":"'SSI Inputs'!$Q$20","v":175},{"$f":"'SSI Inputs'!$Q$21","v":175}]
[null,null,null,null,null,null,null,null,null,null,null,null,null,null,null,null,null,null,null,null,null,null,null,null,null,null,null,null,null,null,null,null,null,null,null,null,null,null,"D",{"$f":"'SSI Inputs'!$E$26","v":7271.062271062272},{"$f":"'SSI Inputs'!$E$27","v":2298.5347985347985},{"$f":"'SSI Inputs'!$E$28","v":430.40293040293039},{"$f":"'SSI Inputs'!$E$30","v":7225.2747252747249},{"$f":"'SSI Inputs'!$E$31","v":2298.5347985347985},{"$f":"'SSI Inputs'!$E$32","v":476.19047619047615},{"$f":"'SSI Inputs'!$E$34","v":2232.1428571428569},{"$f":"'SSI Inputs'!$E$35","v":1339.2857142857142},{"$f":"'SSI Inputs'!$E$36","v":1428.5714285714284},{"$f":"'SSI Inputs'!$E$38","v":2321.4285714285716},{"$f":"'SSI Inputs'!$E$39","v":1339.2857142857142},{"$f":"'SSI Inputs'!$E$40","v":1339.2857142857142},{"$f":"'SSI Inputs'!$R$18","v":175},{"$f":"'SSI Inputs'!$R$19","v":175},{"$f":"'SSI Inputs'!$R$20","v":175},{"$f":"'SSI Inputs'!$R$21","v":175},"D",{"$f":"'SSI Inputs'!$E$26","v":7271.062271062272},{"$f":"'SSI Inputs'!$E$27","v":2298.5347985347985},{"$f":"'SSI Inputs'!$E$28","v":430.40293040293039},{"$f":"'SSI Inputs'!$E$30","v":7225.2747252747249},{"$f":"'SSI Inputs'!$E$31","v":2298.5347985347985},{"$f":"'SSI Inputs'!$E$32","v":476.19047619047615},{"$f":"'SSI Inputs'!$E$34","v":2232.1428571428569},{"$f":"'SSI Inputs'!$E$35","v":1339.2857142857142},{"$f":"'SSI Inputs'!$E$36","v":1428.5714285714284},{"$f":"'SSI Inputs'!$E$38","v":2321.4285714285716},{"$f":"'SSI Inputs'!$E$39","v":1339.2857142857142},{"$f":"'SSI Inputs'!$E$40","v":1339.2857142857142},{"$f":"'SSI Inputs'!$R$18","v":175},{"$f":"'SSI Inputs'!$R$19","v":175},{"$f":"'SSI Inputs'!$R$20","v":175},{"$f":"'SSI Inputs'!$R$21","v":175}]
[]
[]
[]
[]
[]
[]
[]
[]
[]
[]
[]
[]
[]
[]
[]
[]
[]
[]
[]
[]
[]
[]
[]
[]
[]
[]
[]
[]
[]
[]
[]
[]
[]
[]
[]
[]
[]
[]
[]
[]
[]
[]
[]
[]
[]
[]
[]
[]
[]
[]
[]
[]
[]
[]
[]
[]
[]
[]
[]
[]
[]
[]
[]
[]
[]
[]
[]
[null,null,null,null,null,null,null,null,null,"Exposure",null,null,null,null,null,null,null,null,null,null,null,null,null,null,null,null,null,null,null,null,null,null,null,null,null,null,"Exposure-Severity-Complexity Product"]
[null,null,null,null,null,null,null,null,null,"Q1","Q2","I"]
[null,null,null,null,null,null,null,null,null,{"$f":"SUMPRODUCT($AN4:$BC4,$AN$33:$BC$33)","v":8564.5604395604387},{"$f":"SUMPRODUCT($BE4:$BT4,$BE$33:$BT$33)","v":3660.7142857142858},{"$f":"PRODUCT(J103:K103)","v":31352408.751962319},null,null,null,null,null,null,null,null,null,null,null,null,null,null,null,null,null,null,null,null,null,null,null,null,{"$f":"L103*R4*AI4","v":159785.21762487345}]
[null,null,null,null,null,null,null,null,null,{"$f":"SUMPRODUCT($AN5:$BC5,$AN$33:$BC$33)","v":4619.9633699633705},{"$f":"SUMPRODUCT($BE5:$BT5,$BE$33:$BT$33)","v":9569.59706959707},{"$f":"PRODUCT(J104:K104)","v":44211187.926847272},null,null,null,null,null,null,null,null,null,null,null,null,null,null,null,null,null,null,null,null,null,null,null,null,{"$f":"L104*R5*AI5","v":225319.0286026531}]
[null,null,null,null,null,null,null,null,null,8610.3479853479857,3571.4285714285711,30751242.804814231,null,null,null,null,null,null,null,null,null,null,null,null,null,null,null,null,null,null,null,null,null,null,null,null,156721.42012039278]
[null,null,null,null,null,null,null,null,null,4530.6776556776549,9523.8095238095229,43149311.006453849,null,null,null,null,null,null,null,null,null,null,null,null,null,null,null,null,null,null,null,null,null,null,null,null,219907.25191403509]
[null,null,null,null,null,null,null,null,null,8564.5604395604387,1339.2857142857142,11470393.445839873,null,null,null,null,null,null,null,null,null,null,null,null,null,null,null,null,null,null,null,null,null,null,null,null,22271.22208935138]
[null,null,null,null,null,null,null,null,null,2298.5347985347985,3660.7142857142858,8414279.173207745,null,null,null,null,null,null,null,null,null,null,null,null,null,null,null,null,null,null,null,null,null,null,null,null,9598.9896692056591]
[null,null,null,null,null,null,null,null,null,4619.9633699633705,430.40293040293039,1988445.7727864324,null,null,null,null,null,null,null,null,null,null,null,null,null,null,null,null,null,null,null,null,null,null,null,null,3860.8193892791069]
[null,null,null,null,null,null,null,null,null,1339.2857142857142,9569.59706959707,12816424.646781789,null,null,null,null,null,null,null,null,null,null,null,null,null,null,null,null,null,null,null,null,null,null,null,null,14620.946755883655]
[null,null,null,null,null,null,null,null,null,8610.3479853479857,1428.5714285714284,12300497.121925693,null,null,null,null,null,null,null,null,null,null,null,null,null,null,null,null,null,null,null,null,null,null,null,null,23882.973544485587]
[null,null,null,null,null,null,null,null,null,2298.5347985347985,3571.4285714285711,8209052.8519099941,null,null,null,null,null,null,null,null,null,null,null,null,null,null,null,null,null,null,null,null,null,null,null,null,9364.8679699567401]
[null,null,null,null,null,null,null,null,null,4530.6776556776549,476.19047619047615,2157465.5503226928,null,null,null,null,null,null,null,null,null,null,null,null,null,null,null,null,null,null,null,null,null,null,null,null,4188.9927009250177]
[null,null,null,null,null,null,null,null,null,1339.2857142857142,9523.8095238095229,12755102.040816324,null,null,null,null,null,null,null,null,null,null,null,null,null,null,null,null,null,null,null,null,null,null,null,null,14550.990072841149]
[null,null,null,null,null,null,null,null,null,1339.2857142857142,3660.7142857142858,4902742.3469387749,null,null,null,null,null,null,null,null,null,null,null,null,null,null,null,null,null,null,null,null,null,null,null,null,90.490431988460045]
[null,null,null,null,null,null,null,null,null,2298.5347985347985,8564.5604395604387,19685940.204484157,null,null,null,null,null,null,null,null,null,null,null,null,null,null,null,null,null,null,null,null,null,null,null,null,504.60797398725254]
[null,null,null,null,null,null,null,null,null,430.40293040293039,9569.59706959707,4118782.6215298744,null,null,null,null,null,null,null,null,null,null,null,null,null,null,null,null,null,null,null,null,null,null,null,null,76.020804748492864]
[null,null,null,null,null,null,null,null,null,1339.2857142857142,4619.9633699633705,6187450.941915228,null,null,null,null,null,null,null,null,null,null,null,null,null,null,null,null,null,null,null,null,null,null,null,null,158.60238584053823]
[null,null,null,null,null,null,null,null,null,1428.5714285714284,3571.4285714285711,5102040.8163265297,null,null,null,null,null,null,null,null,null,null,null,null,null,null,null,null,null,null,null,null,null,null,null,null,94.168904833519392]
[null,null,null,null,null,null,null,null,null,2298.5347985347985,8610.3479853479857,19791184.471816339,null,null,null,null,null,null,null,null,null,null,null,null,null,null,null,null,null,null,null,null,null,null,null,null,507.30569103610185]
[null,null,null,null,null,null,null,null,null,476.19047619047615,9523.8095238095229,4535147.3922902485,null,null,null,null,null,null,null,null,null,null,null,null,null,null,null,null,null,null,null,null,null,null,null,null,83.705693185350569]
[null,null,null,null,null,null,null,null,null,1339.2857142857142,4530.6776556776549,6067871.8602825729,null,null,null,null,null,null,null,null,null,null,null,null,null,null,null,null,null,null,null,null,null,null,null,null,155.53722575739596]
[null,null,null,null,null,null,null,null,null,175,9903.8461538461524,1733173.0769230768,null,null,null,null,null,null,null,null,null,null,null,null,null,null,null,null,null,null,null,null,null,null,null,null,2158369.1933465507]
[null,null,null,null,null,null,null,null,null,175,10000,1750000,null,null,null,null,null,null,null,null,null,null,null,null,null,null,null,null,null,null,null,null,null,null,null,null,788468.83584215352]
[null,null,null,null,null,null,null,null,null,175,5050.3663003663005,883814.10256410262,null,null,null,null,null,null,null,null,null,null,null,null,null,null,null,null,null,null,null,null,null,null,null,null,1100638.5669261424]
[null,null,null,null,null,null,null,null,null,175,5000,875000,null,null,null,null,null,null,null,null,null,null,null,null,null,null,null,null,null,null,null,null,null,null,null,null,394234.41792107676]
[null,null,null,null,null,null,null,null,null,175,10038.919413919415,1756810.8974358977,null,null,null,null,null,null,null,null,null,null,null,null,null,null,null,null,null,null,null,null,null,null,null,null,2187806.0362516474]
[null,null,null,null,null,null,null,null,null,175,10000,1750000,null,null,null,null,null,null,null,null,null,null,null,null,null,null,null,null,null,null,null,null,null,null,null,null,788468.83584215352]
[null,null,null,null,null,null,null,null,null,175,5006.868131868132,876201.92307692312,null,null,null,null,null,null,null,null,null,null,null,null,null,null,null,null,null,null,null,null,null,null,null,null,1091158.9056516199]
[null,null,null,null,null,null,null,null,null,175,5000,875000,null,null,null,null,null,null,null,null,null,null,null,null,null,null,null,null,null,null,null,null,null,null,null,null,394234.41792107676]

{"sheet":"MUT","index":43,"n_rows":134,"n_cols":72,"rows_kept":134,"cut":false,"hidden":true,"merged":[[1,56,1,71],[0,19,0,28],[0,30,0,32],[1,31,2,31],[1,32,2,32],[1,21,1,25],[1,27,1,28],[1,30,2,30],[100,9,100,11],[100,36,101,36],[1,34,2,34],[1,36,2,36],[1,39,1,54],[1,9,1,11],[1,13,1,17]]}
[null,null,null,null,null,null,null,null,null,null,null,null,null,null,null,null,null,null,null,"Conflicting Traffic Complexity",null,null,null,null,null,null,null,null,null,null,"Pedestrian Complexity"]
[null,null,null,null,null,null,null,null,null,"Exposure",null,null,null,"Severity",null,null,null,null,null,"Traffic Control",null,"Conflicting Lanes",null,null,null,null,null,"Conflicting Speed",null,null,"Indirect Paths Indicator","Non-intuitive movements indicator","Pedestrian Complexity factor",null,"Total Complexity Multiplier",null,"Exposure-Severity-Complexity Product",null,null,"Included in Mvmt1",null,null,null,null,null,null,null,null,null,null,null,null,null,null,null,null,"Included in Mvmt2"]
["#","Conflict Type","Mvmt1","Mvmt1_gen","Mvmt1_SpeedCat","Mvmt2","Mvmt2_gen","Mvmt2_SpeedCat",null,"Q1","Q2","I",null,"Speed_V1","Speed_V2","Angle","delta_V","P_FSI",null,null,null,"MajC","MinC","MajM/P","MinM/P","Score",null,"Speed","Factor",null,null,null,null,null,null,null,null,null,null,"MajT1","MajL1","MajR1","MajT2","MajL2","MajR2","MinT1","MinL1","MinR1","MinT2","MinL2","MinR2","MajNM1","MajNM2","MinNM1","MinNM2",null,"MajT1","MajL1","MajR1","MajT2","MajL2","MajR2","MinT1","MinL1","MinR1","MinT2","MinL2","MinR2","MajNM1","MajNM2","MinNM1","MinNM2"]
[1,"Crossing","EBT, EBL, SBL","MajT1, MajL1, MinL2","Major thru","SBT","MinT2","Signal far",null,{"$f":"SUMPRODUCT($AN4:$BC4,$AN$36:$BC$36)","v":9684.0659340659349},{"$f":"SUMPRODUCT($BE4:$BT4,$BE$36:$BT$36)","v":1857.1428571428571},{"$f":"PRODUCT(J4:K4)","v":17984693.877551023},null,{"$f":"VLOOKUP(E4,SSI_AGI_Range_VehSpeed,5,FALSE)","v":45},{"$f":"VLOOKUP(H4,SSI_AGI_Range_VehSpeed,5,FALSE)","v":25},{"$f":"IF(B4=\"Nonmotorized\",\"\",VLOOKUP(B4,SSI_AGI_Range_CollAngles,5,FALSE))","v":90},{"$f":"IF(B4=\"Nonmotorized\",\"\",SQRT(N4^2+O4^2-2*N4*O4*COS(RADIANS(P4)))/2)","v":25.739075352467502},{"$f":"IF(B4=\"Nonmotorized\",1/(1+EXP(3.8432-0.1237*O4)),(Q4/SSI_AGI_RegAlpha)^SSI_AGI_RegK+(Q4/SSI_AGI_RegAlpha)^SSI_AGI_RegK-((Q4/SSI_AGI_RegAlpha)^SSI_AGI_RegK)*((Q4/SSI_AGI_RegAlpha)^SSI_AGI_RegK))","v":5.1494149230103807E-2},null,{"$f":"SSI_AGI_ProtFactor","v":0.505},null,1,null,null,null,{"$f":"MAX(1,IF(B4<>\"Pedestrian\",V4*SSI_AGI_MajorThruLanes+W4*SSI_AGI_MinorThruLanes+X4*IF(SSI_AGI_MajorThruLanes=1,SSI_AGI_MergeWeightL1,IF(SSI_AGI_MajorThruLanes=2,SSI_AGI_MergeWeightL1+SSI_AGI_MergeWeightL2,SSI_AGI_MergeWeightL1+SSI_AGI_MergeWeightL2+SSI_AGI_MergeWeightL3*(SSI_AGI_MajorThruLanes-2)))+Y4*IF(SSI_AGI_MinorThruLanes=1,SSI_AGI_MergeWeightL1,IF(SSI_AGI_MinorThruLanes=2,SSI_AGI_MergeWeightL1+SSI_AGI_MergeWeightL2,SSI_AGI_MergeWeightL1+SSI_AGI_MergeWeightL2+SSI_AGI_MergeWeightL3*(SSI_AGI_MinorThruLanes-2))),V4*SSI_AGI_MajorThruLanes+W4*SSI_AGI_MinorThruLanes+X4*IF(SSI_AGI_MajorThruLanes=1,SSI_AGI_NM_MergeWeightL1,IF(SSI_AGI_MajorThruLanes=2,SSI_AGI_NM_MergeWeightL1+SSI_AGI_NM_MergeWeightL2,SSI_AGI_NM_MergeWeightL1+SSI_AGI_NM_MergeWeightL2+SSI_AGI_NM_MergeWeightL3*(SSI_AGI_MajorThruLanes-2)))+Y4*IF(SSI_AGI_MinorThruLanes=1,SSI_AGI_NM_MergeWeightL1,IF(SSI_AGI_MinorThruLanes=2,SSI_AGI_NM_MergeWeightL1+SSI_AGI_NM_MergeWeightL2,SSI_AGI_NM_MergeWeightL1+SSI_AGI_NM_MergeWeightL2+SSI_AGI_NM_MergeWeightL3*(SSI_AGI_MinorThruLanes-2)))))","v":2},null,{"$f":"IF(B4=\"Diverging\",\"\",SSI_AGI_VehSpeed_MjrThru)","v":45},{"$f":"IF(B4=\"Diverging\",1,1-((60-AB4)/60*0.1/0.15))","v":0.83333333333333326},null,null,null,{"$f":"IF(SSI_AGI_ConsiderNMComplexity=\"Yes\",1+AE4+AF4,1)","v":1},null,{"$f":"PRODUCT(Z4,T4,AC4,AG4)","v":0.84166666666666656},null,{"$f":"L4*R4*AI4","v":779472.97957685834},null,null,{"$f":"IF(ISNUMBER(SEARCH(AN$3,$D4)),1,\"\")","v":1},{"$f":"IF(ISNUMBER(SEARCH(AO$3,$D4)),1,\"\")","v":1},"","","","","","","","",1,"","","","","",null,{"$f":"IF(ISNUMBER(SEARCH(BE$3,$G4)),1,\"\")","v":""},{"$f":"IF(ISNUMBER(SEARCH(BF$3,$G4)),1,\"\")","v":""},"","","","","","","",1,"","","","","",""]
[2,"Crossing","EBT, EBL, SBL","MajT1, MajL1, MinL2","Major thru","NBT","MinT1","Signal near",null,{"$f":"SUMPRODUCT($AN5:$BC5,$AN$36:$BC$36)","v":9684.0659340659349},{"$f":"SUMPRODUCT($BE5:$BT5,$BE$36:$BT$36)","v":1785.7142857142856},{"$f":"PRODUCT(J5:K5)","v":17292974.882260598},null,45,15,90,{"$f":"IF(B5=\"Nonmotorized\",\"\",SQRT(N5^2+O5^2-2*N5*O5*COS(RADIANS(P5)))/2)","v":23.717082451262844},3.7884541771032863E-2,null,0.505,null,1,null,null,null,2,null,45,0.83333333333333326,null,null,null,1,null,0.84166666666666656,null,{"$f":"L5*R5*AI5","v":551406.4946376232},null,null,{"$f":"IF(ISNUMBER(SEARCH(AN$3,$D5)),1,\"\")","v":1},1,"","","","","","","","",1,"","","","","",null,{"$f":"IF(ISNUMBER(SEARCH(BE$3,$G5)),1,\"\")","v":""},"","","","","",1,"","","","","","","","",""]
[3,"Crossing","WBT, WBL, NBL","MajT2, MajL2, MinL1","Major thru","NBT","MinT1","Signal far",null,9642.8571428571431,1785.7142857142856,17219387.755102038,null,45,25,90,25.739075352467502,5.1494149230103807E-2,null,0.505,null,1,null,null,null,2,null,45,0.83333333333333326,null,null,null,1,null,0.84166666666666656,null,746303.91661614075,null,null,"","","",1,1,"","",1,"","","","","","","","",null,"","","","","","",1,"","","","","","","","",""]
[4,"Crossing","WBT, WBL, NBL","MajT2, MajL2, MinL1","Major thru","SBT","MinT2","Signal near",null,9642.8571428571431,1857.1428571428571,17908163.265306123,null,45,15,90,23.717082451262844,3.7884541771032863E-2,null,0.505,null,1,null,null,null,2,null,45,0.83333333333333326,null,null,null,1,null,0.84166666666666656,null,571022.48738302966,null,null,"","","",1,1,"","",1,"","","","","","","","",null,"","","","","","","","","",1,"","","","","",""]
[5,"Merging","EBT, EBL, EBR","MajT1, MajL1, MajR1","Major thru","SBL, WBL","MinL2, MajL2","Signal near",null,9000.0000000000018,3140.1098901098903,28260989.010989018,null,45,15,45,17.995873453365363,1.3373938286506865E-2,null,0.505,null,null,null,1,null,1.75,null,45,0.83333333333333326,null,null,null,1,null,0.73645833333333333,null,278352.32408819936,null,null,1,1,1,"","","","","","","","","","","","","",null,"","","","",1,"","","","","",1,"","","","",""]
[6,"Merging","SBT","MinT2","Signal far","EBR, WBL","MajR1, MajL2","Major right",null,1857.1428571428571,2456.0439560439563,4561224.4897959186,null,25,15,45,8.9396576292116645,9.4329959592674944E-4,null,0.505,null,1,null,null,null,2,null,45,0.83333333333333326,null,null,null,1,null,0.84166666666666656,null,3621.356025281033,null,null,"","","","","","","","","",1,"","","","","","",null,"","",1,"",1,"","","","","","","","","","",""]
[7,"Merging","EBT, EBL, SBL","MajT1, MajL1, MinL2","Major thru","NBL, NBR","MinL1, MinR1","Signal near",null,9684.0659340659349,2214.2857142857142,21443288.854003143,null,45,15,45,17.995873453365363,1.3373938286506865E-2,null,0.505,null,null,null,1,null,1.75,null,45,0.83333333333333326,null,null,null,1,null,0.73645833333333333,null,211202.42063310125,null,null,1,1,"","","","","","","","",1,"","","","","",null,"","","","","","","",1,1,"","","","","","",""]
[8,"Merging","WBT, WBL, WBR","MajT2, MajL2, MajR2","Major thru","NBL, EBL","MinL1, MajL1","Signal near",null,9000.0000000000018,3140.1098901098903,28260989.010989018,null,45,15,45,17.995873453365363,1.3373938286506865E-2,null,0.505,null,null,null,1,null,1.75,null,45,0.83333333333333326,null,null,null,1,null,0.73645833333333333,null,278352.32408819936,null,null,"","","",1,1,1,"","","","","","","","","","",null,"",1,"","","","","",1,"","","","","","","",""]
[9,"Merging","NBT","MinT1","Signal far","WBR, EBL","MajR2, MajL1","Major right",null,1785.7142857142856,2497.2527472527472,4459379.9058084767,null,25,15,45,8.9396576292116645,9.4329959592674944E-4,null,0.505,null,1,null,null,null,2,null,45,0.83333333333333326,null,null,null,1,null,0.84166666666666656,null,3540.4971465544431,null,null,"","","","","","",1,"","","","","","","","","",null,"",1,"","","",1,"","","","","","","","","",""]
[10,"Merging","WBT, WBL, NBL","MajT2, MajL2, MinL1","Major thru","SBL, SBR","MinL2, MinR2","Signal near",null,9642.8571428571431,2142.8571428571427,20663265.306122448,null,45,15,45,17.995873453365363,1.3373938286506865E-2,null,0.505,null,null,null,1,null,1.75,null,45,0.83333333333333326,null,null,null,1,null,0.73645833333333333,null,203519.69702736728,null,null,"","","",1,1,"","",1,"","","","","","","","",null,"","","","","","","","","","",1,1,"","","",""]
[11,"Diverging","EBT, EBL, SBL","MajT1, MajL1, MinL2","Major thru","EBR, SBT","MajR1, MinT2","Major right",null,9684.0659340659349,2244.5054945054944,21735939.198164474,null,45,15,10,15.169950011729762,7.0056226631585675E-3,null,1,null,null,null,null,null,1,null,"",1,null,null,null,1,null,1,null,152273.7882516977,null,null,1,1,"","","","","","","","",1,"","","","","",null,"","",1,"","","","","","",1,"","","","","",""]
[12,"Diverging","NBT","MinT1","Signal near","NBL, NBR","MinL1, MinR1","Signal near",null,1785.7142857142856,2214.2857142857142,3954081.6326530608,null,15,15,10,1.3073361412148754,6.4061388075216071E-7,null,1,null,null,null,null,null,1,null,"",1,null,null,null,1,null,1,null,2.5330395795047167,null,null,"","","","","","",1,"","","","","","","","","",null,"","","","","","","",1,1,"","","","","","",""]
[13,"Diverging","EBT, SBL, NBR","MajT1, MinL2, MinR1","Major thru","NBL, EBL","MinL1, MajL1","Major left",null,8758.2417582417584,3140.1098901098903,27501841.565028381,null,45,20,10,12.77053292327718,3.6481988362114144E-3,null,1,null,null,null,null,null,1,null,"",1,null,null,null,1,null,1,null,100332.18639120724,null,null,1,"","","","","","","",1,"",1,"","","","","",null,"",1,"","","","","",1,"","","","","","","",""]
[14,"Diverging","WBT, WBL, NBL","MajT2, MajL2, MinL1","Major thru","WBR, NBT","MajR2, MinT1","Major right",null,9642.8571428571431,2214.2857142857142,21352040.816326529,null,45,15,10,15.169950011729762,7.0056226631585675E-3,null,1,null,null,null,null,null,1,null,"",1,null,null,null,1,null,1,null,149584.34104754389,null,null,"","","",1,1,"","",1,"","","","","","","","",null,"","","","","",1,1,"","","","","","","","",""]
[15,"Diverging","SBT","MinT2","Signal near","SBL, SBR","MinL2, MinR2","Signal near",null,1857.1428571428571,2142.8571428571427,3979591.8367346935,null,15,15,10,1.3073361412148754,6.4061388075216071E-7,null,1,null,null,null,null,null,1,null,"",1,null,null,null,1,null,1,null,2.5493817703402311,null,null,"","","","","","","","","",1,"","","","","","",null,"","","","","","","","","","",1,1,"","","",""]
[16,"Diverging","WBT, NBL, SBR","MajT2, MinL1, MinR2","Major thru","SBL, WBL","MinL2, MajL2","Major left",null,8645.6043956043959,3140.1098901098903,27148147.868614905,null,45,20,10,12.77053292327718,3.6481988362114144E-3,null,1,null,null,null,null,null,1,null,"",1,null,null,null,1,null,1,null,99041.841459576288,null,null,"","","",1,"","","",1,"","","",1,"","","","",null,"","","","",1,"","","","","",1,"","","","",""]
[17,"Nonmotorized","NB Ped","MinNM1","Nonmotorized","EBR, WBL","MajR1, MajL2","Major right",null,175,2456.0439560439563,429807.69230769237,null,0,15,"","",0.1205004039155782,null,1,null,null,1,1,null,2.75,null,45,0.83333333333333326,null,null,null,1,null,2.2916666666666665,null,118690.00121251964,null,null,"","","","","","","","","","","","","","",1,"",null,"","",1,"",1,"","","","","","","","","","",""]
[18,"Nonmotorized","NB Ped","MinNM1","Nonmotorized","SBT","MinT2","Signal far",null,175,1857.1428571428571,325000,null,0,25,"","",0.32066879346345062,null,{"$f":"SSI_AGI_ProtFactor","v":0.505},null,null,1,1,null,2.75,null,45,0.83333333333333326,null,null,null,1,null,1.1572916666666666,null,120609.87979147441,null,null,"","","","","","","","","","","","","","",1,"",null,"","","","","","","","","",1,"","","","","",""]
[19,"Nonmotorized","NB Ped","MinNM1","Nonmotorized","NBT","MinT1","Signal near",null,175,1785.7142857142856,312500,null,0,15,"","",0.1205004039155782,null,0.505,null,null,1,null,null,1,null,{"$f":"IF(B22=\"Diverging\",\"\",SSI_AGI_VehSpeed_MnrThru)","v":29.75},0.66388888888888886,null,null,null,1,null,0.33526388888888886,null,12624.823134193324,null,null,"","","","","","","","","","","","","","",1,"",null,"","","","","","",1,"","","","","","","","",""]
[20,"Nonmotorized","NB Ped","MinNM1","Nonmotorized","NBL, NBR","MinL1, MinR1","Signal near",null,175,2214.2857142857142,387500,null,0,15,"","",0.1205004039155782,null,0.505,null,null,1,null,null,1,null,{"$f":"IF(B23=\"Diverging\",\"\",SSI_AGI_VehSpeed_MnrThru)","v":29.75},0.66388888888888886,null,null,null,1,null,0.33526388888888886,null,15654.780686399721,null,null,"","","","","","","","","","","","","","",1,"",null,"","","","","","","",1,1,"","","","","","",""]
[21,"Nonmotorized","WB Ped","MajNM2","Nonmotorized","NBL, NBR","MinL1, MinR1","Signal near",null,175,2214.2857142857142,387500,null,0,15,"","",0.1205004039155782,null,0.505,null,1,null,null,1,3,null,{"$f":"IF(B24=\"Diverging\",\"\",SSI_AGI_VehSpeed_MjrThru)","v":45},0.83333333333333326,null,null,null,1,null,1.2625,null,58951.056978074274,null,null,"","","","","","","","","","","","","",1,"","",null,"","","","","","","",1,1,"","","","","","",""]
[22,"Nonmotorized","WB Ped","MajNM2","Nonmotorized","EBT, EBL, SBL","MajT1, MajL1, MinL2","Major thru",null,175,9684.0659340659349,1694711.5384615385,null,0,45,"","",0.84855340903216459,null,0.505,null,1,null,null,1,3,null,45,0.83333333333333326,null,null,null,1,null,1.2625,null,1815542.2322756995,null,null,"","","","","","","","","","","","","",1,"","",null,1,1,"","","","","","","","",1,"","","","",""]
[23,"Nonmotorized","WB Ped","MajNM2","Nonmotorized","WBT, WBL, NBL","MajT2, MajL2, MinL1","Major thru",null,175,9642.8571428571431,1687500,null,0,45,"","",0.84855340903216459,null,0.505,null,1,null,null,null,2,null,45,0.83333333333333326,null,null,null,1,null,0.84166666666666656,null,1205211.0137659961,null,null,"","","","","","","","","","","","","",1,"","",null,"","","",1,1,"","",1,"","","","","","","",""]
[24,"Nonmotorized","WB Ped","MajNM2","Nonmotorized","WBR, EBL","MajR2, MajL1","Major right",null,175,2497.2527472527472,437019.23076923075,null,0,15,"","",0.1205004039155782,null,0.505,null,1,null,null,null,2,null,45,0.83333333333333326,null,null,null,1,null,0.84166666666666656,null,44323.003137361047,null,null,"","","","","","","","","","","","","",1,"","",null,"",1,"","","",1,"","","","","","","","","",""]
[25,"Nonmotorized","SB Ped","MajNM2","Nonmotorized","WBR, EBL","MajR2, MajL1","Major right",null,175,{"$f":"SUMPRODUCT($BE28:$BT28,$BE$36:$BT$36)","v":2497.2527472527472},437019.23076923075,null,0,15,"","",0.1205004039155782,null,0.505,null,null,1,1,null,2.75,null,45,0.83333333333333326,null,null,null,1,null,1.1572916666666666,null,60944.129313871446,null,null,{"$f":"IF(ISNUMBER(SEARCH(AN$3,$D28)),1,\"\")","v":""},"","","","","","","","","","","","",1,"","",null,"",1,"","","",1,"","","","","","","","","",""]
[26,"Nonmotorized","SB Ped","MajNM2","Nonmotorized","NBT","MinT1","Signal far",null,175,1785.7142857142856,312500,null,0,25,"","",0.32066879346345062,null,{"$f":"SSI_AGI_ProtFactor","v":0.505},null,null,1,1,null,2.75,null,45,0.83333333333333326,null,null,null,1,null,1.1572916666666666,null,115971.03826103309,null,null,"","","","","","","","","","","","","",1,"","",null,{"$f":"IF(ISNUMBER(SEARCH(BE$3,$G29)),1,\"\")","v":""},"","","","","",1,"","","","","","","","",""]
[27,"Nonmotorized","SB Ped","MajNM2","Nonmotorized","SBT","MinT2","Signal near",null,175,1857.1428571428571,325000,null,0,15,"","",0.1205004039155782,null,0.505,null,null,1,null,null,1,null,{"$f":"IF(B30=\"Diverging\",\"\",SSI_AGI_VehSpeed_MnrThru)","v":29.75},0.66388888888888886,null,null,null,1,null,0.33526388888888886,null,13129.816059561059,null,null,"","","","","","","","","","","","","",1,"","",null,"","","","","","","","","",1,"","","","","",""]
[28,"Nonmotorized","SB Ped","MajNM2","Nonmotorized","SBL, SBR","MinL2, MinR2","Signal near",null,175,2142.8571428571427,374999.99999999994,null,0,15,"","",0.1205004039155782,null,0.505,null,null,1,null,null,1,null,{"$f":"IF(B31=\"Diverging\",\"\",SSI_AGI_VehSpeed_MnrThru)","v":29.75},0.66388888888888886,null,null,null,1,null,0.33526388888888886,null,15149.787761031988,null,null,"","","","","","","","","","","","","",1,"","",null,"","","","","","","","","","",1,1,"","","",""]
[29,"Nonmotorized","EB Ped","MinNM1","Nonmotorized","SBL, SBR","MinL2, MinR2","Signal near",null,175,2142.8571428571427,374999.99999999994,null,0,15,"","",0.1205004039155782,null,0.505,null,1,null,null,1,3,null,{"$f":"IF(B32=\"Diverging\",\"\",SSI_AGI_VehSpeed_MjrThru)","v":45},0.83333333333333326,null,null,null,1,null,1.2625,null,57049.40997878155,null,null,"","","","","","","","","","","","","","",1,"",null,"","","","","","","","","","",1,1,"","","",""]
[30,"Nonmotorized","EB Ped","MinNM1","Nonmotorized","WBT, WBL, NBL","MajT2, MajL2, MinL1","Major thru",null,175,9642.8571428571431,1687500,null,0,45,"","",0.84855340903216459,null,0.505,null,1,null,null,1,3,null,{"$f":"IF(B33=\"Diverging\",\"\",SSI_AGI_VehSpeed_MjrThru)","v":45},0.83333333333333326,null,null,null,1,null,1.2625,null,1807816.5206489945,null,null,"","","","","","","","","","","","","","",1,"",null,"","","",1,1,"","",1,"","","","","","","",""]
[31,"Nonmotorized","EB Ped","MinNM1","Nonmotorized","EBT, EBL, SBL","MajT1, MajL1, MinL2","Major thru",null,175,9684.0659340659349,1694711.5384615385,null,0,45,"","",0.84855340903216459,null,0.505,null,1,null,null,null,2,null,{"$f":"IF(B34=\"Diverging\",\"\",SSI_AGI_VehSpeed_MjrThru)","v":45},0.83333333333333326,null,null,null,1,null,0.84166666666666656,null,1210361.4881837994,null,null,"","","","","","","","","","","","","","",1,"",null,1,1,"","","","","","","","",1,"","","","",""]
[32,"Nonmotorized","EB Ped","MinNM1","Nonmotorized","EBR, WBL","MajR1, MajL2","Major right",null,175,2456.0439560439563,429807.69230769237,null,0,15,"","",0.1205004039155782,null,0.505,null,1,null,null,null,2,null,{"$f":"IF(B35=\"Diverging\",\"\",SSI_AGI_VehSpeed_MjrThru)","v":45},0.83333333333333326,null,null,null,1,null,0.84166666666666656,null,43591.600445325392,null,null,"","","","","","","","","","","","","","",1,"",null,"","",1,"",1,"","","","","","","","","","",""]
[null,null,null,null,null,null,null,null,null,null,null,null,null,null,null,null,null,null,null,null,null,null,null,null,null,null,null,null,null,null,null,null,null,null,null,null,null,null,"O",{"$f":"'SSI Inputs'!$D$26","v":6543.9560439560446},{"$f":"'SSI Inputs'!$D$27","v":2068.6813186813188},{"$f":"'SSI Inputs'!$D$28","v":387.36263736263737},{"$f":"'SSI Inputs'!$D$30","v":6502.7472527472528},{"$f":"'SSI Inputs'!$D$31","v":2068.6813186813188},{"$f":"'SSI Inputs'!$D$32","v":428.57142857142856},{"$f":"'SSI Inputs'!$D$34","v":1785.7142857142856},{"$f":"'SSI Inputs'!$D$35","v":1071.4285714285713},{"$f":"'SSI Inputs'!$D$36","v":1142.8571428571429},{"$f":"'SSI Inputs'!$D$38","v":1857.1428571428571},{"$f":"'SSI Inputs'!$D$39","v":1071.4285714285713},{"$f":"'SSI Inputs'!$D$40","v":1071.4285714285713},{"$f":"'SSI Inputs'!$Q$18","v":175},{"$f":"'SSI Inputs'!$Q$19","v":175},{"$f":"'SSI Inputs'!$Q$20","v":175},{"$f":"'SSI Inputs'!$Q$21","v":175},"O",{"$f":"'SSI Inputs'!$D$26","v":6543.9560439560446},{"$f":"'SSI Inputs'!$D$27","v":2068.6813186813188},{"$f":"'SSI Inputs'!$D$28","v":387.36263736263737},{"$f":"'SSI Inputs'!$D$30","v":6502.7472527472528},{"$f":"'SSI Inputs'!$D$31","v":2068.6813186813188},{"$f":"'SSI Inputs'!$D$32","v":428.57142857142856},{"$f":"'SSI Inputs'!$D$34","v":1785.7142857142856},{"$f":"'SSI Inputs'!$D$35","v":1071.4285714285713},{"$f":"'SSI Inputs'!$D$36","v":1142.8571428571429},{"$f":"'SSI Inputs'!$D$38","v":1857.1428571428571},{"$f":"'SSI Inputs'!$D$39","v":1071.4285714285713},{"$f":"'SSI Inputs'!$D$40","v":1071.4285714285713},{"$f":"'SSI Inputs'!$Q$18","v":175},{"$f":"'SSI Inputs'!$Q$19","v":175},{"$f":"'SSI Inputs'!$Q$20","v":175},{"$f":"'SSI Inputs'!$Q$21","v":175}]
[null,null,null,null,null,null,null,null,null,null,null,null,null,null,null,null,null,null,null,null,null,null,null,null,null,null,null,null,null,null,null,null,null,null,null,null,null,null,"D",{"$f":"'SSI Inputs'!$E$26","v":7271.062271062272},{"$f":"'SSI Inputs'!$E$27","v":2298.5347985347985},{"$f":"'SSI Inputs'!$E$28","v":430.40293040293039},{"$f":"'SSI Inputs'!$E$30","v":7225.2747252747249},{"$f":"'SSI Inputs'!$E$31","v":2298.5347985347985},{"$f":"'SSI Inputs'!$E$32","v":476.19047619047615},{"$f":"'SSI Inputs'!$E$34","v":2232.1428571428569},{"$f":"'SSI Inputs'!$E$35","v":1339.2857142857142},{"$f":"'SSI Inputs'!$E$36","v":1428.5714285714284},{"$f":"'SSI Inputs'!$E$38","v":2321.4285714285716},{"$f":"'SSI Inputs'!$E$39","v":1339.2857142857142},{"$f":"'SSI Inputs'!$E$40","v":1339.2857142857142},{"$f":"'SSI Inputs'!$R$18","v":175},{"$f":"'SSI Inputs'!$R$19","v":175},{"$f":"'SSI Inputs'!$R$20","v":175},{"$f":"'SSI Inputs'!$R$21","v":175},"D",{"$f":"'SSI Inputs'!$E$26","v":7271.062271062272},{"$f":"'SSI Inputs'!$E$27","v":2298.5347985347985},{"$f":"'SSI Inputs'!$E$28","v":430.40293040293039},{"$f":"'SSI Inputs'!$E$30","v":7225.2747252747249},{"$f":"'SSI Inputs'!$E$31","v":2298.5347985347985},{"$f":"'SSI Inputs'!$E$32","v":476.19047619047615},{"$f":"'SSI Inputs'!$E$34","v":2232.1428571428569},{"$f":"'SSI Inputs'!$E$35","v":1339.2857142857142},{"$f":"'SSI Inputs'!$E$36","v":1428.5714285714284},{"$f":"'SSI Inputs'!$E$38","v":2321.4285714285716},{"$f":"'SSI Inputs'!$E$39","v":1339.2857142857142},{"$f":"'SSI Inputs'!$E$40","v":1339.2857142857142},{"$f":"'SSI Inputs'!$R$18","v":175},{"$f":"'SSI Inputs'!$R$19","v":175},{"$f":"'SSI Inputs'!$R$20","v":175},{"$f":"'SSI Inputs'!$R$21","v":175}]
[]
[]
[]
[]
[]
[]
[]
[]
[]
[]
[]
[]
[]
[]
[]
[]
[]
[]
[]
[]
[]
[]
[]
[]
[]
[]
[]
[]
[]
[]
[]
[]
[]
[]
[]
[]
[]
[]
[]
[]
[]
[]
[]
[]
[]
[]
[]
[]
[]
[]
[]
[]
[]
[]
[]
[]
[]
[]
[]
[]
[]
[]
[]
[null,null,null,null,null,null,null,null,null,"Exposure",null,null,null,null,null,null,null,null,null,null,null,null,null,null,null,null,null,null,null,null,null,null,null,null,null,null,"Exposure-Severity-Complexity Product"]
[null,null,null,null,null,null,null,null,null,"Q1","Q2","I"]
[null,null,null,null,null,null,null,null,null,{"$f":"SUMPRODUCT($AN4:$BC4,$AN$37:$BC$37)","v":10908.882783882784},{"$f":"SUMPRODUCT($BE4:$BT4,$BE$37:$BT$37)","v":2321.4285714285716},{"$f":"PRODUCT(J103:K103)","v":25324192.176870748},null,null,null,null,null,null,null,null,null,null,null,null,null,null,null,null,null,null,null,null,null,null,null,null,{"$f":"L103*R4*AI4","v":1097573.506998738}]
[null,null,null,null,null,null,null,null,null,{"$f":"SUMPRODUCT($AN5:$BC5,$AN$37:$BC$37)","v":10908.882783882784},{"$f":"SUMPRODUCT($BE5:$BT5,$BE$37:$BT$37)","v":2232.1428571428569},{"$f":"PRODUCT(J104:K104)","v":24350184.785452638},null,null,null,null,null,null,null,null,null,null,null,null,null,null,null,null,null,null,null,null,null,null,null,null,{"$f":"L104*R5*AI5","v":776433.79046934808}]
[null,null,null,null,null,null,null,null,null,10863.095238095237,2232.1428571428569,24247980.442176864,null,null,null,null,null,null,null,null,null,null,null,null,null,null,null,null,null,null,null,null,null,null,null,null,1050929.5122102289]
[null,null,null,null,null,null,null,null,null,10863.095238095237,2321.4285714285716,25217899.659863945,null,null,null,null,null,null,null,null,null,null,null,null,null,null,null,null,null,null,null,null,null,null,null,null,804101.8823102077]
[null,null,null,null,null,null,null,null,null,10000,3637.8205128205127,36378205.128205128,null,null,null,null,null,null,null,null,null,null,null,null,null,null,null,null,null,null,null,null,null,null,null,null,358301.6128577725]
[null,null,null,null,null,null,null,null,null,2321.4285714285716,2728.9377289377289,6335034.0136054428,null,null,null,null,null,null,null,null,null,null,null,null,null,null,null,null,null,null,null,null,null,null,null,null,5029.6611462236579]
[null,null,null,null,null,null,null,null,null,10908.882783882784,2767.8571428571427,30194229.133961275,null,null,null,null,null,null,null,null,null,null,null,null,null,null,null,null,null,null,null,null,null,null,null,null,297393.47940801637]
[null,null,null,null,null,null,null,null,null,10000,3637.8205128205127,36378205.128205128,null,null,null,null,null,null,null,null,null,null,null,null,null,null,null,null,null,null,null,null,null,null,null,null,358301.6128577725]
[null,null,null,null,null,null,null,null,null,2232.1428571428569,2774.7252747252746,6193583.2025117734,null,null,null,null,null,null,null,null,null,null,null,null,null,null,null,null,null,null,null,null,null,null,null,null,4917.3571479922821]
[null,null,null,null,null,null,null,null,null,10863.095238095237,2678.5714285714284,29097576.530612241,null,null,null,null,null,null,null,null,null,null,null,null,null,null,null,null,null,null,null,null,null,null,null,null,286592.16595288989]
[null,null,null,null,null,null,null,null,null,10908.882783882784,2751.831501831502,30019407.294475976,null,null,null,null,null,null,null,null,null,null,null,null,null,null,null,null,null,null,null,null,null,null,null,null,210304.64007676853]
[null,null,null,null,null,null,null,null,null,2232.1428571428569,2767.8571428571427,6178252.5510204071,null,null,null,null,null,null,null,null,null,null,null,null,null,null,null,null,null,null,null,null,null,null,null,null,3.9578743429761198]
[null,null,null,null,null,null,null,null,null,10038.919413919415,3637.8205128205127,36519786.970508128,null,null,null,null,null,null,null,null,null,null,null,null,null,null,null,null,null,null,null,null,null,null,null,null,133231.44432449652]
[null,null,null,null,null,null,null,null,null,10863.095238095237,2708.333333333333,29420882.936507929,null,null,null,null,null,null,null,null,null,null,null,null,null,null,null,null,null,null,null,null,null,null,null,null,206111.60427013514]
[null,null,null,null,null,null,null,null,null,2321.4285714285716,2678.5714285714284,6218112.2448979588,null,null,null,null,null,null,null,null,null,null,null,null,null,null,null,null,null,null,null,null,null,null,null,null,3.9834090161566111]
[null,null,null,null,null,null,null,null,null,9903.8461538461524,3637.8205128205127,36028414.694280073,null,null,null,null,null,null,null,null,null,null,null,null,null,null,null,null,null,null,null,null,null,null,null,null,131438.82055821479]
[null,null,null,null,null,null,null,null,null,175,2728.9377289377289,477564.10256410256,null,null,null,null,null,null,null,null,null,null,null,null,null,null,null,null,null,null,null,null,null,null,null,null,131877.7791250218]
[null,null,null,null,null,null,null,null,null,175,2321.4285714285716,406250,null,null,null,null,null,null,null,null,null,null,null,null,null,null,null,null,null,null,null,null,null,null,null,null,150762.34973934299]
[null,null,null,null,null,null,null,null,null,175,2232.1428571428569,390624.99999999994,null,null,null,null,null,null,null,null,null,null,null,null,null,null,null,null,null,null,null,null,null,null,null,null,15781.028917741653]
[null,null,null,null,null,null,null,null,null,175,2767.8571428571427,484374.99999999994,null,null,null,null,null,null,null,null,null,null,null,null,null,null,null,null,null,null,null,null,null,null,null,null,19568.475857999649]
[null,null,null,null,null,null,null,null,null,175,2767.8571428571427,484374.99999999994,null,null,null,null,null,null,null,null,null,null,null,null,null,null,null,null,null,null,null,null,null,null,null,null,73688.821222592829]
[null,null,null,null,null,null,null,null,null,175,10908.882783882784,1909054.4871794872,null,null,null,null,null,null,null,null,null,null,null,null,null,null,null,null,null,null,null,null,null,null,null,null,2045167.5500694348]
[null,null,null,null,null,null,null,null,null,175,10863.095238095237,1901041.6666666665,null,null,null,null,null,null,null,null,null,null,null,null,null,null,null,null,null,null,null,null,null,null,null,null,1357722.2840265078]
[null,null,null,null,null,null,null,null,null,175,2774.7252747252746,485576.92307692306,null,null,null,null,null,null,null,null,null,null,null,null,null,null,null,null,null,null,null,null,null,null,null,null,49247.781263734498]
[null,null,null,null,null,null,null,null,null,175,2774.7252747252746,485576.92307692306,null,null,null,null,null,null,null,null,null,null,null,null,null,null,null,null,null,null,null,null,null,null,null,null,67715.699237634937]
[null,null,null,null,null,null,null,null,null,175,2232.1428571428569,390624.99999999994,null,null,null,null,null,null,null,null,null,null,null,null,null,null,null,null,null,null,null,null,null,null,null,null,144963.79782629132]
[null,null,null,null,null,null,null,null,null,175,2321.4285714285716,406250,null,null,null,null,null,null,null,null,null,null,null,null,null,null,null,null,null,null,null,null,null,null,null,null,16412.27007445132]
[null,null,null,null,null,null,null,null,null,175,2678.5714285714284,468750,null,null,null,null,null,null,null,null,null,null,null,null,null,null,null,null,null,null,null,null,null,null,null,null,18937.234701289988]
[null,null,null,null,null,null,null,null,null,175,2678.5714285714284,468750,null,null,null,null,null,null,null,null,null,null,null,null,null,null,null,null,null,null,null,null,null,null,null,null,71311.762473476949]
[null,null,null,null,null,null,null,null,null,175,10863.095238095237,1901041.6666666665,null,null,null,null,null,null,null,null,null,null,null,null,null,null,null,null,null,null,null,null,null,null,null,null,2036583.4260397619]
[null,null,null,null,null,null,null,null,null,175,10908.882783882784,1909054.4871794872,null,null,null,null,null,null,null,null,null,null,null,null,null,null,null,null,null,null,null,null,null,null,null,null,1363445.033379623]
[null,null,null,null,null,null,null,null,null,175,2728.9377289377289,477564.10256410256,null,null,null,null,null,null,null,null,null,null,null,null,null,null,null,null,null,null,null,null,null,null,null,null,48435.111605917096]

{"sheet":"PDLT","index":44,"n_rows":152,"n_cols":72,"rows_kept":152,"cut":false,"hidden":true,"merged":[[1,56,1,71],[0,19,0,28],[0,30,0,32],[1,31,2,31],[1,32,2,32],[1,21,1,25],[1,27,1,28],[1,30,2,30],[100,9,100,11],[100,36,101,36],[1,34,2,34],[1,36,2,36],[1,39,1,54],[1,9,1,11],[1,13,1,17]]}
[null,null,null,null,null,null,null,null,null,null,null,null,null,null,null,null,null,null,null,"Conflicting Traffic Complexity",null,null,null,null,null,null,null,null,null,null,"Pedestrian Complexity"]
[null,null,null,null,null,null,null,null,null,"Exposure",null,null,null,"Severity",null,null,null,null,null,"Traffic Control",null,"Conflicting Lanes",null,null,null,null,null,"Conflicting Speed",null,null,"Indirect Paths Indicator","Non-intuitive movements indicator","Pedestrian Complexity factor",null,"Total Complexity Multiplier",null,"Exposure-Severity-Complexity Product",null,null,"Included in Mvmt1",null,null,null,null,null,null,null,null,null,null,null,null,null,null,null,null,"Included in Mvmt2"]
["#","Conflict Type","Mvmt1","Mvmt1_gen","Mvmt1_SpeedCat","Mvmt2","Mvmt2_gen","Mvmt2_SpeedCat",null,"Q1","Q2","I",null,"Speed_V1","Speed_V2","Angle","delta_V","P_FSI",null,null,null,"MajC","MinC","MajM/P","MinM/P","Score",null,"Speed","Factor",null,null,null,null,null,null,null,null,null,null,"MajT1","MajL1","MajR1","MajT2","MajL2","MajR2","MinT1","MinL1","MinR1","MinT2","MinL2","MinR2","MajNM1","MajNM2","MinNM1","MinNM2",null,"MajT1","MajL1","MajR1","MajT2","MajL2","MajR2","MinT1","MinL1","MinR1","MinT2","MinL2","MinR2","MajNM1","MajNM2","MinNM1","MinNM2"]
[1,"Crossing","SBT","MinT2","Signal near","WBT","MajT2","Major thru",null,{"$f":"SUMPRODUCT($AN4:$BC4,$AN$54:$BC$54)","v":1857.1428571428571},{"$f":"SUMPRODUCT($BE4:$BT4,$BE$54:$BT$54)","v":6502.7472527472528},{"$f":"PRODUCT(J4:K4)","v":12076530.612244898},null,{"$f":"VLOOKUP(E4,SSI_AGI_Range_VehSpeed,5,FALSE)","v":15},{"$f":"VLOOKUP(H4,SSI_AGI_Range_VehSpeed,5,FALSE)","v":45},{"$f":"IF(B4=\"Nonmotorized\",\"\",VLOOKUP(B4,SSI_AGI_Range_CollAngles,5,FALSE))","v":90},{"$f":"IF(B4=\"Nonmotorized\",\"\",SQRT(N4^2+O4^2-2*N4*O4*COS(RADIANS(P4)))/2)","v":23.717082451262844},{"$f":"IF(B4=\"Nonmotorized\",1/(1+EXP(3.8432-0.1237*O4)),(Q4/SSI_AGI_RegAlpha)^SSI_AGI_RegK+(Q4/SSI_AGI_RegAlpha)^SSI_AGI_RegK-((Q4/SSI_AGI_RegAlpha)^SSI_AGI_RegK)*((Q4/SSI_AGI_RegAlpha)^SSI_AGI_RegK))","v":3.7884541771032863E-2},null,{"$f":"SSI_AGI_ProtFactor","v":0.505},null,2,null,null,null,{"$f":"MAX(1,IF(B4<>\"Pedestrian\",V4*SSI_AGI_MajorThruLanes+W4*SSI_AGI_MinorThruLanes+X4*IF(SSI_AGI_MajorThruLanes=1,SSI_AGI_MergeWeightL1,IF(SSI_AGI_MajorThruLanes=2,SSI_AGI_MergeWeightL1+SSI_AGI_MergeWeightL2,SSI_AGI_MergeWeightL1+SSI_AGI_MergeWeightL2+SSI_AGI_MergeWeightL3*(SSI_AGI_MajorThruLanes-2)))+Y4*IF(SSI_AGI_MinorThruLanes=1,SSI_AGI_MergeWeightL1,IF(SSI_AGI_MinorThruLanes=2,SSI_AGI_MergeWeightL1+SSI_AGI_MergeWeightL2,SSI_AGI_MergeWeightL1+SSI_AGI_MergeWeightL2+SSI_AGI_MergeWeightL3*(SSI_AGI_MinorThruLanes-2))),V4*SSI_AGI_MajorThruLanes+W4*SSI_AGI_MinorThruLanes+X4*IF(SSI_AGI_MajorThruLanes=1,SSI_AGI_NM_MergeWeightL1,IF(SSI_AGI_MajorThruLanes=2,SSI_AGI_NM_MergeWeightL1+SSI_AGI_NM_MergeWeightL2,SSI_AGI_NM_MergeWeightL1+SSI_AGI_NM_MergeWeightL2+SSI_AGI_NM_MergeWeightL3*(SSI_AGI_MajorThruLanes-2)))+Y4*IF(SSI_AGI_MinorThruLanes=1,SSI_AGI_NM_MergeWeightL1,IF(SSI_AGI_MinorThruLanes=2,SSI_AGI_NM_MergeWeightL1+SSI_AGI_NM_MergeWeightL2,SSI_AGI_NM_MergeWeightL1+SSI_AGI_NM_MergeWeightL2+SSI_AGI_NM_MergeWeightL3*(SSI_AGI_MinorThruLanes-2)))))","v":4},null,{"$f":"IF(B4=\"Diverging\",\"\",SSI_AGI_VehSpeed_MjrThru)","v":45},{"$f":"IF(B4=\"Diverging\",1,1-((60-AB4)/60*0.1/0.15))","v":0.83333333333333326},null,null,null,{"$f":"IF(SSI_AGI_ConsiderNMComplexity=\"Yes\",1+AE4+AF4,1)","v":1},null,{"$f":"PRODUCT(Z4,T4,AC4,AG4)","v":1.6833333333333331},null,{"$f":"L4*R4*AI4","v":770148.27785506065},null,null,{"$f":"IF(ISNUMBER(SEARCH(AN$3,$D4)),1,\"\")","v":""},{"$f":"IF(ISNUMBER(SEARCH(AO$3,$D4)),1,\"\")","v":""},"","","","","","","",1,"","","","","","",null,{"$f":"IF(ISNUMBER(SEARCH(BE$3,$G4)),1,\"\")","v":""},{"$f":"IF(ISNUMBER(SEARCH(BF$3,$G4)),1,\"\")","v":""},"",1,"","","","","","","","","","","",""]
[2,"Crossing - LT","SBL","MinL2","Signal near","WBT","MajT2","Major thru",null,1071.4285714285713,6502.7472527472528,{"$f":"PRODUCT(J5:K5)","v":6967229.1993720559},null,15,45,230,{"$f":"IF(B5=\"Nonmotorized\",\"\",SQRT(N5^2+O5^2-2*N5*O5*COS(RADIANS(P5)))/2)","v":27.918467333813421},6.9762185672148203E-2,null,0.505,null,1,1,1,null,4.75,null,45,0.83333333333333326,null,null,null,1,null,1.9989583333333334,null,{"$f":"L5*R5*AI5","v":971591.97286960855},null,null,{"$f":"IF(ISNUMBER(SEARCH(AN$3,$D5)),1,\"\")","v":""},"","","","","","","","","",1,"","","","","",null,{"$f":"IF(ISNUMBER(SEARCH(BE$3,$G5)),1,\"\")","v":""},"","",1,"","","","","","","","","","","",""]
[3,"Crossing","NBT","MinT1","Signal far","WBT","MajT2","Major thru",null,1785.7142857142856,6502.7472527472528,11612048.665620092,null,25,45,90,25.739075352467502,5.1494149230103807E-2,null,0.505,null,2,null,null,null,4,null,45,0.83333333333333326,null,null,null,1,null,1.6833333333333331,null,1006553.4875386923,null,null,"","","","","","",1,"","","","","","","","","",null,"","","",1,"","","","","","","","","","","",""]
[4,"Crossing - LT","NBL","MinL1","Signal far","SBT","MinT2","Signal near",null,1071.4285714285713,1857.1428571428571,1989795.9183673467,null,25,15,230,18.248908921254063,1.4099039069818802E-2,null,{"$f":"IF(SSI_AGI_MinorLTPhase=\"Protected/permitted\",SSI_AGI_ProtPermFactor,IF(SSI_AGI_MinorLTPhase=\"Protected\",SSI_AGI_ProtFactor,SSI_AGI_PermFactor))","v":0.505},null,1,1,1,null,4.75,null,45,0.83333333333333326,null,null,null,1,null,1.9989583333333334,null,56079.197652227303,null,null,"","","","","","","",1,"","","","","","","","",null,"","","","","","","","","",1,"","","","","",""]
[5,"Crossing - LT","SBL","MinL2","Signal far","EBT","MajT1","Signal near",null,1071.4285714285713,6543.9560439560446,7011381.4756671898,null,25,15,230,18.248908921254063,1.4099039069818802E-2,null,{"$f":"IF(SSI_AGI_MinorLTPhase=\"Protected/permitted\",SSI_AGI_ProtPermFactor,IF(SSI_AGI_MinorLTPhase=\"Protected\",SSI_AGI_ProtFactor,SSI_AGI_PermFactor))","v":0.505},null,1,1,1,null,4.75,null,45,0.83333333333333326,null,null,null,1,null,1.9989583333333334,null,197604.51007042226,null,null,"","","","","","","","","","",1,"","","","","",null,1,"","","","","","","","","","","","","","",""]
[6,"Crossing","SBT","MinT2","Signal far","EBT","MajT1","Major thru",null,1857.1428571428571,6543.9560439560446,12153061.224489797,null,25,45,90,25.739075352467502,5.1494149230103807E-2,null,0.505,null,2,null,null,null,4,null,45,0.83333333333333326,null,null,null,1,null,1.6833333333333331,null,1053449.4396323836,null,null,"","","","","","","","","",1,"","","","","","",null,1,"","","","","","","","","","","","","","",""]
[7,"Crossing - LT","NBL","MinL1","Signal near","EBT","MajT1","Major thru",null,1071.4285714285713,6543.9560439560446,7011381.4756671898,null,15,45,230,27.918467333813421,6.9762185672148203E-2,null,0.505,null,1,1,1,null,4.75,null,45,0.83333333333333326,null,null,null,1,null,1.9989583333333334,null,977749.08296383929,null,null,"","","","","","","",1,"","","","","","","","",null,1,"","","","","","","","","","","","","","",""]
[8,"Crossing","NBT","MinT1","Signal near","EBT","MajT1","Major thru",null,1785.7142857142856,6543.9560439560446,11685635.79277865,null,15,45,90,23.717082451262844,3.7884541771032863E-2,null,0.505,null,2,null,null,null,4,null,45,0.83333333333333326,null,null,null,1,null,1.6833333333333331,null,745220.01147620915,null,null,"","","","","","",1,"","","","","","","","","",null,1,"","","","","","","","","","","","","","",""]
[9,"Crossing - LT","EBL","MajL1","Major left","SBT","MinT2","Signal near",null,2068.6813186813188,1857.1428571428571,3841836.7346938779,null,20,15,230,15.895538413434787,8.3616736100371545E-3,null,0.505,null,2,null,null,null,4,null,45,0.83333333333333326,null,null,null,1,null,1.6833333333333331,null,54075.711144911198,null,null,"",1,"","","","","","","","","","","","","","",null,"","","","","","","","","",1,"","","","","",""]
[10,"Crossing - LT","EBL","MajL1","Major left","SBL","MinL2","Signal near",null,2068.6813186813188,1071.4285714285713,2216444.2700156984,null,20,15,230,15.895538413434787,8.3616736100371545E-3,null,0.505,null,1,1,1,null,4.75,null,45,0.83333333333333326,null,null,null,1,null,1.9989583333333334,null,37047.061721874255,null,null,"",1,"","","","","","","","","","","","","","",null,"","","","","","","","","","",1,"","","","",""]
[11,"Crossing - LT","WBL","MajL2","Major left","NBL","MinL1","Signal near",null,2068.6813186813188,1071.4285714285713,2216444.2700156984,null,20,15,230,15.895538413434787,8.3616736100371545E-3,null,0.505,null,1,1,1,null,4.75,null,45,0.83333333333333326,null,null,null,1,null,1.9989583333333334,null,37047.061721874255,null,null,"","","","",1,"","","","","","","","","","","",null,"","","","","","","",1,"","","","","","","",""]
[12,"Crossing - LT","WBL","MajL2","Major left","NBT","MinT1","Signal near",null,2068.6813186813188,1785.7142857142856,3694073.7833594973,null,20,15,230,15.895538413434787,8.3616736100371545E-3,null,0.505,null,2,null,null,null,4,null,45,0.83333333333333326,null,null,null,1,null,1.6833333333333331,null,51995.876100876143,null,null,"","","","",1,"","","","","","","","","","","",null,"","","","","","",1,"","","","","","","","",""]
[13,"Crossing - LT","EBL","MajL1","Major left","WBT","MajT2","Major thru",null,2068.6813186813188,6502.7472527472528,13452111.761864509,null,20,45,230,29.924979939156898,9.0286582411373745E-2,null,0.505,null,1,null,null,null,2,null,45,0.83333333333333326,null,null,null,1,null,0.84166666666666656,null,1022242.2076387798,null,null,"",1,"","","","","","","","","","","","","","",null,"","","",1,"","","","","","","","","","","",""]
[14,"Crossing - LT","WBL","MajL2","Major left","EBT","MajT1","Major thru",null,2068.6813186813188,6543.9560439560446,13537359.618403576,null,20,45,230,29.924979939156898,9.0286582411373745E-2,null,0.505,null,1,null,null,null,2,null,45,0.83333333333333326,null,null,null,1,null,0.84166666666666656,null,1028720.2951396594,null,null,"","","","",1,"","","","","","","","","","","",null,1,"","","","","","","","","","","","","","",""]
[15,"Merging","EBL","MajL1","Major left","NBT","MinT1","Signal far",null,2068.6813186813188,1785.7142857142856,3694073.7833594973,null,20,25,45,8.9147801264732891,9.333798723087925E-4,null,0.505,null,2,null,null,null,4,null,45,0.83333333333333326,null,null,null,1,null,1.6833333333333331,null,5804.089762289098,null,null,"",1,"","","","","","","","","","","","","","",null,"","","","","","",1,"","","","","","","","",""]
[16,"Merging","WBR","MajR2","Major right","NBT","MinT1","Signal far",null,428.57142857142856,1785.7142857142856,765306.12244897953,null,15,25,45,8.9396576292116645,9.4329959592674944E-4,null,1,null,2,null,null,null,4,null,45,0.83333333333333326,null,null,null,1,null,3.333333333333333,null,2406.3765202212994,null,null,"","","","","",1,"","","","","","","","","","",null,"","","","","","",1,"","","","","","","","",""]
[17,"Merging","NBL","MinL1","Signal far","WBT","MajT2","Major thru",null,1071.4285714285713,6502.7472527472528,6967229.1993720559,null,25,45,45,16.271214938736659,9.1348815406664795E-3,null,{"$f":"SSI_AGI_ProtFactor","v":0.505},null,1,1,1,null,4.75,null,45,0.83333333333333326,null,null,null,1,null,1.9989583333333334,null,127223.33012524452,null,null,"","","","","","","",1,"","","","","","","","",null,"","","",1,"","","","","","","","","","","",""]
[18,"Merging","SBR","MinR2","Minor right","WBT","MajT2","Major thru",null,1071.4285714285713,6502.7472527472528,6967229.1993720559,null,15,45,45,17.995873453365363,1.3373938286506865E-2,null,1,null,null,null,1,null,1.75,null,45,0.83333333333333326,null,null,null,1,null,1.4583333333333333,null,135886.46945467783,null,null,"","","","","","","","","","","",1,"","","","",null,"","","",1,"","","","","","","","","","","",""]
[19,"Merging","WBL","MajL2","Major left","SBT","MinT2","Signal far",null,2068.6813186813188,1857.1428571428571,3841836.7346938779,null,20,25,45,8.9147801264732891,9.333798723087925E-4,null,{"$f":"SSI_AGI_ProtFactor","v":0.505},null,2,null,null,null,4,null,45,0.83333333333333326,null,null,null,1,null,1.6833333333333331,null,6036.2533527806627,null,null,"","","","",1,"","","","","","","","","","","",null,"","","","","","","","","",1,"","","","","",""]
[20,"Merging","EBR","MajR1","Major right","SBT","MinT2","Signal far",null,387.36263736263737,1857.1428571428571,719387.75510204083,null,15,25,45,8.9396576292116645,9.4329959592674944E-4,null,1,null,2,null,null,null,4,null,45,0.83333333333333326,null,null,null,1,null,3.333333333333333,null,2261.9939290080215,null,null,"","",1,"","","","","","","","","","","","","",null,"","","","","","","","","",1,"","","","","",""]
[21,"Merging","SBL","MinL2","Signal far","EBT","MajT1","Major thru",null,1071.4285714285713,6543.9560439560446,7011381.4756671898,null,25,45,45,16.271214938736659,9.1348815406664795E-3,null,{"$f":"SSI_AGI_ProtFactor","v":0.505},null,1,1,1,null,4.75,null,45,0.83333333333333326,null,null,null,1,null,1.9989583333333334,null,128029.56162160222,null,null,"","","","","","","","","","",1,"","","","","",null,1,"","","","","","","","","","","","","","",""]
[22,"Merging","NBR","MinR1","Minor right","EBT","MajT1","Major thru",null,1142.8571428571429,6543.9560439560446,7478806.9073783373,null,15,45,45,17.995873453365363,1.3373938286506865E-2,null,1,null,null,null,1,null,1.75,null,45,0.83333333333333326,null,null,null,1,null,1.4583333333333333,null,145864.10713580291,null,null,"","","","","","","","",1,"","","","","","","",null,1,"","","","","","","","","","","","","","",""]
[23,"Diverging","SBT","MinT2","Signal near","SBL","MinL2","Signal near",null,1857.1428571428571,1071.4285714285713,1989795.9183673467,null,15,15,10,1.3073361412148754,6.4061388075216071E-7,null,1,null,null,null,null,null,1,null,"",1,null,null,null,1,null,1,null,1.2746908851701155,null,null,"","","","","","","","","",1,"","","","","","",null,"","","","","","","","","","",1,"","","","",""]
[24,"Diverging","SBT","MinT2","Signal near","SBR","MinR2","Minor right",null,1857.1428571428571,1071.4285714285713,1989795.9183673467,null,15,15,10,1.3073361412148754,6.4061388075216071E-7,null,1,null,null,null,null,null,1,null,"",1,null,null,null,1,null,1,null,1.2746908851701155,null,null,"","","","","","","","","",1,"","","","","","",null,"","","","","","","","","","","",1,"","","",""]
[25,"Diverging","EBT","MajT1","Major Thru","EBR","MajR1","Major right",null,6543.9560439560446,387.36263736263737,2534884.0719719846,null,45,15,10,15.169950011729762,7.0056226631585675E-3,null,1,null,null,null,null,null,1,null,"",1,null,null,null,1,null,1,null,17758.441303086609,null,null,1,"","","","","","","","","","","","","","","",null,"","",1,"","","","","","","","","","","","",""]
[26,"Diverging","EBT","MajT1","Major Thru","EBL","MajL1","Major left",null,6543.9560439560446,2068.6813186813188,13537359.618403576,null,45,20,10,12.77053292327718,3.6481988362114144E-3,null,1,null,null,null,null,null,1,null,"",1,null,null,null,1,null,1,null,49386.979605235327,null,null,1,"","","","","","","","","","","","","","","",null,"",1,"","","","","","","","","","","","","",""]
[27,"Diverging","NBT","MinT1","Signal near","NBL","MinL1","Signal near",null,1785.7142857142856,1071.4285714285713,1913265.3061224485,null,15,15,10,1.3073361412148754,6.4061388075216071E-7,null,1,null,null,null,null,null,1,null,"",1,null,null,null,1,null,1,null,1.2256643126635725,null,null,"","","","","","",1,"","","","","","","","","",null,"","","","","","","",1,"","","","","","","",""]
[28,"Diverging","NBT","MinT1","Signal near","NBR","MinR1","Minor right",null,1785.7142857142856,1142.8571428571429,2040816.3265306121,null,15,15,10,1.3073361412148754,6.4061388075216071E-7,null,1,null,null,null,null,null,1,null,"",1,null,null,null,1,null,1,null,1.3073752668411442,null,null,"","","","","","",1,"","","","","","","","","",null,"","","","","","","","",1,"","","","","","",""]
[29,"Diverging","WBT","MajT2","Major Thru","WBR","MajR2","Major right",null,6502.7472527472528,428.57142857142856,2786891.6797488225,null,45,15,10,15.169950011729762,7.0056226631585675E-3,null,1,null,null,null,null,null,1,null,"",1,null,null,null,1,null,1,null,19523.911511416398,null,null,"","","",1,"","","","","","","","","","","","",null,"","","","","",1,"","","","","","","","","",""]
[30,"Diverging","WBT","MajT2","Major Thru","WBL","MajL2","Major left",null,6502.7472527472528,2068.6813186813188,13452111.761864509,null,45,20,10,12.77053292327718,3.6481988362114144E-3,null,1,null,null,null,null,null,1,null,"",1,null,null,null,1,null,1,null,49075.978474219984,null,null,"","","",1,"","","","","","","","","","","","",null,"","","","",1,"","","","","","","","","","",""]
[31,"Nonmotorized",null,"MajNM1, MinNM2","Nonmotorized","SBR","MinR2","Minor right",null,350,1071.4285714285713,374999.99999999994,null,0,15,"","",0.1205004039155782,null,1,null,null,1,null,null,1,null,{"$f":"IF(B34=\"Diverging\",\"\",SSI_AGI_VehSpeed_MnrThru)","v":29.75},0.66388888888888886,null,1,1,3,null,1.9916666666666667,null,89998.739174447459,null,null,"","","","","","","","","","","","",1,"","",1,null,"","","","","","","","","","","",1,"","","",""]
[32,"Nonmotorized",null,"MajNM1","Nonmotorized","EBL","MajL1","Major left",null,175,2068.6813186813188,362019.23076923081,null,0,20,"","",0.20274912921655375,null,{"$f":"SSI_AGI_ProtFactor","v":0.505},null,1,null,null,null,2,null,{"$f":"IF(B35=\"Diverging\",\"\",SSI_AGI_VehSpeed_MjrThru)","v":45},0.83333333333333326,null,1,1,3,null,2.5249999999999995,null,185332.68659022311,null,null,{"$f":"IF(ISNUMBER(SEARCH(AN$3,$D35)),1,\"\")","v":""},"","","","","","","","","","","",1,"","","",null,{"$f":"IF(ISNUMBER(SEARCH(BE$3,$G35)),1,\"\")","v":""},1,"","","","","","","","","","","","","",""]
[33,"Nonmotorized",null,"MajNM1","Nonmotorized","WBT","MajT2","Major thru",null,175,6502.7472527472528,1137980.7692307692,null,{"$f":"VLOOKUP(E36,SSI_AGI_Range_VehSpeed,5,FALSE)","v":0},{"$f":"VLOOKUP(H36,SSI_AGI_Range_VehSpeed,5,FALSE)","v":45},"",{"$f":"IF(B36=\"Nonmotorized\",\"\",SQRT(N36^2+O36^2-2*N36*O36*COS(RADIANS(P36)))/2)","v":""},{"$f":"IF(B36=\"Nonmotorized\",1/(1+EXP(3.8432-0.1237*O36)),(Q36/SSI_AGI_RegAlpha)^SSI_AGI_RegK+(Q36/SSI_AGI_RegAlpha)^SSI_AGI_RegK-((Q36/SSI_AGI_RegAlpha)^SSI_AGI_RegK)*((Q36/SSI_AGI_RegAlpha)^SSI_AGI_RegK))","v":0.84855340903216459},null,{"$f":"SSI_AGI_ProtFactor","v":0.505},null,2,null,null,1,{"$f":"MAX(1,IF(B36<>\"Pedestrian\",V36*SSI_AGI_MajorThruLanes+W36*SSI_AGI_MinorThruLanes+X36*IF(SSI_AGI_MajorThruLanes=1,SSI_AGI_MergeWeightL1,IF(SSI_AGI_MajorThruLanes=2,SSI_AGI_MergeWeightL1+SSI_AGI_MergeWeightL2,SSI_AGI_MergeWeightL1+SSI_AGI_MergeWeightL2+SSI_AGI_MergeWeightL3*(SSI_AGI_MajorThruLanes-2)))+Y36*IF(SSI_AGI_MinorThruLanes=1,SSI_AGI_MergeWeightL1,IF(SSI_AGI_MinorThruLanes=2,SSI_AGI_MergeWeightL1+SSI_AGI_MergeWeightL2,SSI_AGI_MergeWeightL1+SSI_AGI_MergeWeightL2+SSI_AGI_MergeWeightL3*(SSI_AGI_MinorThruLanes-2))),V36*SSI_AGI_MajorThruLanes+W36*SSI_AGI_MinorThruLanes+X36*IF(SSI_AGI_MajorThruLanes=1,SSI_AGI_NM_MergeWeightL1,IF(SSI_AGI_MajorThruLanes=2,SSI_AGI_NM_MergeWeightL1+SSI_AGI_NM_MergeWeightL2,SSI_AGI_NM_MergeWeightL1+SSI_AGI_NM_MergeWeightL2+SSI_AGI_NM_MergeWeightL3*(SSI_AGI_MajorThruLanes-2)))+Y36*IF(SSI_AGI_MinorThruLanes=1,SSI_AGI_NM_MergeWeightL1,IF(SSI_AGI_MinorThruLanes=2,SSI_AGI_NM_MergeWeightL1+SSI_AGI_NM_MergeWeightL2,SSI_AGI_NM_MergeWeightL1+SSI_AGI_NM_MergeWeightL2+SSI_AGI_NM_MergeWeightL3*(SSI_AGI_MinorThruLanes-2)))))","v":5},null,45,0.83333333333333326,null,1,1,{"$f":"IF(SSI_AGI_ConsiderNMComplexity=\"Yes\",1+AE36+AF36,1)","v":3},null,6.3125,null,6095586.4734703274,null,null,"","","","","","","","","","","","",1,"","","",null,"","","",1,"","","","","","","","","","","",""]
[34,"Nonmotorized",null,"MajNM1","Nonmotorized","NBL","MinL1","Signal far",null,175,1071.4285714285713,{"$f":"PRODUCT(J37:K37)","v":187499.99999999997},null,0,25,"","",0.32066879346345062,null,{"$f":"IF(SSI_AGI_MinorLTPhase=\"Protected/permitted\",SSI_AGI_ProtPermFactor,IF(SSI_AGI_MinorLTPhase=\"Protected\",SSI_AGI_ProtFactor,SSI_AGI_PermFactor))","v":0.505},null,2,null,null,1,5,null,45,0.83333333333333326,null,1,1,3,null,6.3125,null,379541.57976338099,null,null,"","","","","","","","","","","","",1,"","","",null,"","","","","","","",1,"","","","","","","",""]
[35,"Nonmotorized",null,"MajNM1","Nonmotorized","EBT","MajT1","Major thru",null,175,6543.9560439560446,1145192.3076923077,null,0,45,"","",0.84855340903216459,null,{"$f":"SSI_AGI_ProtFactor","v":0.505},null,2,null,null,1,5,null,45,0.83333333333333326,null,1,1,3,null,6.3125,null,6134215.0316038532,null,null,"","","","","","","","","","","","",1,"","","",null,1,"","","","","","","","","","","","","","",""]
[36,"Nonmotorized",null,"MinNM1, MajNM1","Nonmotorized","EBR","MajR1","Major right",null,350,387.36263736263737,135576.92307692309,null,0,15,"","",0.1205004039155782,null,1,null,1,null,null,null,2,null,45,0.83333333333333326,null,1,1,3,null,5,null,81685.369962002544,null,null,"","","","","","","","","","","","",1,"",1,"",null,"","",1,"","","","","","","","","","","","",""]
[37,"Nonmotorized",null,"MinNM2","Nonmotorized","SBT","MinT2","Signal near",null,175,1857.1428571428571,325000,null,0,15,"","",0.1205004039155782,null,{"$f":"SSI_AGI_ProtFactor","v":0.505},null,null,2,1,null,3.75,null,45,0.83333333333333326,null,1,1,3,null,4.734375,null,185410.58243104006,null,null,"","","","","","","","","","","","","","","",1,null,"","","","","","","","","",1,"","","","","",""]
[38,"Nonmotorized",null,"MinNM2","Nonmotorized","SBL","MinL2","Signal near",null,175,1071.4285714285713,187499.99999999997,null,0,15,"","",0.1205004039155782,null,{"$f":"SSI_AGI_ProtFactor","v":0.505},null,null,2,1,null,3.75,null,45,0.83333333333333326,null,1,1,3,null,4.734375,null,106967.6437102154,null,null,"","","","","","","","","","","","","","","",1,null,"","","","","","","","","","",1,"","","","",""]
[39,"Nonmotorized",null,"MinNM2","Nonmotorized","EBL","MajL1","Major left",null,175,2068.6813186813188,362019.23076923081,null,0,20,"","",0.20274912921655375,null,{"$f":"SSI_AGI_ProtFactor","v":0.505},null,null,2,1,null,3.75,null,45,0.83333333333333326,null,1,1,3,null,4.734375,null,347498.78735666838,null,null,"","","","","","","","","","","","","","","",1,null,"",1,"","","","","","","","","","","","","",""]
[40,"Nonmotorized",null,"MinNM2","Nonmotorized","NBT","MinT1","Signal far",null,175,1785.7142857142856,312500,null,0,25,"","",0.32066879346345062,null,{"$f":"SSI_AGI_ProtFactor","v":0.505},null,null,2,1,null,3.75,null,45,0.83333333333333326,null,1,1,3,null,4.734375,null,474426.97470422625,null,null,"","","","","","","","","","","","","","","",1,null,"","","","","","",1,"","","","","","","","",""]
[41,"Nonmotorized",null,"MinNM1, MajNM2","Nonmotorized","WBR","MajR2","Major right",null,350,428.57142857142856,150000,null,0,15,"","",0.1205004039155782,null,1,null,1,null,null,null,2,null,45,0.83333333333333326,null,1,1,3,null,5,null,90375.302936683656,null,null,"","","","","","","","","","","","","",1,1,"",null,"","","","","",1,"","","","","","","","","",""]
[42,"Nonmotorized",null,"MinNM1","Nonmotorized","SBT","MinT2","Signal far",null,175,1857.1428571428571,325000,null,0,25,"","",0.32066879346345062,null,{"$f":"SSI_AGI_ProtFactor","v":0.505},null,null,2,1,null,3.75,null,45,0.83333333333333326,null,1,1,3,null,4.734375,null,493404.05369239533,null,null,"","","","","","","","","","","","","","",1,"",null,"","","","","","","","","",1,"","","","","",""]
[43,"Nonmotorized",null,"MinNM1","Nonmotorized","WBL","MajL2","Major left",null,175,2068.6813186813188,362019.23076923081,null,0,20,"","",0.20274912921655375,null,{"$f":"SSI_AGI_ProtFactor","v":0.505},null,null,2,1,null,3.75,null,45,0.83333333333333326,null,1,1,3,null,4.734375,null,347498.78735666838,null,null,"","","","","","","","","","","","","","",1,"",null,"","","","",1,"","","","","","","","","","",""]
[44,"Nonmotorized",null,"MinNM1","Nonmotorized","NBL","MinL1","Signal near",null,175,1071.4285714285713,187499.99999999997,null,0,15,"","",0.1205004039155782,null,{"$f":"SSI_AGI_ProtFactor","v":0.505},null,null,2,1,null,3.75,null,45,0.83333333333333326,null,1,1,3,null,4.734375,null,106967.6437102154,null,null,"","","","","","","","","","","","","","",1,"",null,"","","","","","","",1,"","","","","","","",""]
[45,"Nonmotorized",null,"MinNM1","Nonmotorized","NBT","MinT1","Signal near",null,175,1785.7142857142856,312500,null,0,15,"","",0.1205004039155782,null,{"$f":"SSI_AGI_ProtFactor","v":0.505},null,null,2,1,null,3.75,null,45,0.83333333333333326,null,1,1,3,null,4.734375,null,178279.40618369236,null,null,"","","","","","","","","","","","","","",1,"",null,"","","","","","",1,"","","","","","","","",""]
[46,"Nonmotorized",null,"MajNM2, MinNM2","Nonmotorized","NBR","MinR1","Minor right",null,350,1142.8571428571429,400000,null,0,15,"","",0.1205004039155782,null,1,null,null,1,null,null,1,null,{"$f":"IF(B49=\"Diverging\",\"\",SSI_AGI_VehSpeed_MnrThru)","v":29.75},0.66388888888888886,null,1,1,3,null,1.9916666666666667,null,95998.655119410643,null,null,"","","","","","","","","","","","","",1,"",1,null,"","","","","","","","",1,"","","","","","",""]
[47,"Nonmotorized",null,"MajNM2","Nonmotorized","WBL","MajL2","Major left",null,175,2068.6813186813188,362019.23076923081,null,0,20,"","",0.20274912921655375,null,{"$f":"SSI_AGI_ProtFactor","v":0.505},null,1,null,null,null,2,null,{"$f":"IF(B50=\"Diverging\",\"\",SSI_AGI_VehSpeed_MjrThru)","v":45},0.83333333333333326,null,1,1,3,null,2.5249999999999995,null,185332.68659022311,null,null,"","","","","","","","","","","","","",1,"",{"$f":"IF(ISNUMBER(SEARCH(BC$3,$D50)),1,\"\")","v":""},null,"","","","",1,"","","","","","","","","","",{"$f":"IF(ISNUMBER(SEARCH(BT$3,$G50)),1,\"\")","v":""}]
[48,"Nonmotorized",null,"MajNM2","Nonmotorized","EBT","MajT1","Major thru",null,175,6543.9560439560446,1145192.3076923077,null,0,45,"","",0.84855340903216459,null,{"$f":"SSI_AGI_ProtFactor","v":0.505},null,2,null,null,1,5,null,{"$f":"IF(B51=\"Diverging\",\"\",SSI_AGI_VehSpeed_MjrThru)","v":45},0.83333333333333326,null,1,1,3,null,6.3125,null,6134215.0316038532,null,null,{"$f":"IF(ISNUMBER(SEARCH(AN$3,$D51)),1,\"\")","v":""},"","","","","","","","","","","","",1,"","",null,{"$f":"IF(ISNUMBER(SEARCH(BE$3,$G51)),1,\"\")","v":1},"","","","","","","","","","","","","","",""]
[49,"Nonmotorized",null,"MajNM2","Nonmotorized","SBL","MinL2","Signal far",null,175,1071.4285714285713,187499.99999999997,null,0,25,null,null,0.32066879346345062,null,{"$f":"IF(SSI_AGI_MinorLTPhase=\"Protected/permitted\",SSI_AGI_ProtPermFactor,IF(SSI_AGI_MinorLTPhase=\"Protected\",SSI_AGI_ProtFactor,SSI_AGI_PermFactor))","v":0.505},null,2,null,null,1,5,null,{"$f":"IF(B52=\"Diverging\",\"\",SSI_AGI_VehSpeed_MjrThru)","v":45},0.83333333333333326,null,1,1,3,null,{"$f":"PRODUCT(Z52,T52,AC52,AG52)","v":6.3125},null,379541.57976338099,null,null,"","","","","","","","","","","","","",1,"","",null,"","","","","","","","","","",1,"","","","",""]
[50,"Nonmotorized",null,"MajNM2","Nonmotorized","WBT","MajT2","Major thru",null,175,6502.7472527472528,1137980.7692307692,null,0,45,null,null,0.84855340903216459,null,{"$f":"SSI_AGI_ProtFactor","v":0.505},null,2,null,null,1,5,null,{"$f":"IF(B53=\"Diverging\",\"\",SSI_AGI_VehSpeed_MjrThru)","v":45},0.83333333333333326,null,1,1,3,null,6.3125,null,6095586.4734703274,null,null,"","","","","","","","","","","","","",1,"","",null,"","","",1,"","","","","","","","","","","",""]
[null,null,null,null,null,null,null,null,null,null,null,null,null,null,null,null,null,null,null,null,null,null,null,null,null,null,null,null,null,null,null,null,null,null,null,null,null,null,"O",{"$f":"'SSI Inputs'!$D$26","v":6543.9560439560446},{"$f":"'SSI Inputs'!$D$27","v":2068.6813186813188},{"$f":"'SSI Inputs'!$D$28","v":387.36263736263737},{"$f":"'SSI Inputs'!$D$30","v":6502.7472527472528},{"$f":"'SSI Inputs'!$D$31","v":2068.6813186813188},{"$f":"'SSI Inputs'!$D$32","v":428.57142857142856},{"$f":"'SSI Inputs'!$D$34","v":1785.7142857142856},{"$f":"'SSI Inputs'!$D$35","v":1071.4285714285713},{"$f":"'SSI Inputs'!$D$36","v":1142.8571428571429},{"$f":"'SSI Inputs'!$D$38","v":1857.1428571428571},{"$f":"'SSI Inputs'!$D$39","v":1071.4285714285713},{"$f":"'SSI Inputs'!$D$40","v":1071.4285714285713},{"$f":"'SSI Inputs'!$Q$18","v":175},{"$f":"'SSI Inputs'!$Q$19","v":175},{"$f":"'SSI Inputs'!$Q$20","v":175},{"$f":"'SSI Inputs'!$Q$21","v":175},"O",{"$f":"'SSI Inputs'!$D$26","v":6543.9560439560446},{"$f":"'SSI Inputs'!$D$27","v":2068.6813186813188},{"$f":"'SSI Inputs'!$D$28","v":387.36263736263737},{"$f":"'SSI Inputs'!$D$30","v":6502.7472527472528},{"$f":"'SSI Inputs'!$D$31","v":2068.6813186813188},{"$f":"'SSI Inputs'!$D$32","v":428.57142857142856},{"$f":"'SSI Inputs'!$D$34","v":1785.7142857142856},{"$f":"'SSI Inputs'!$D$35","v":1071.4285714285713},{"$f":"'SSI Inputs'!$D$36","v":1142.8571428571429},{"$f":"'SSI Inputs'!$D$38","v":1857.1428571428571},{"$f":"'SSI Inputs'!$D$39","v":1071.4285714285713},{"$f":"'SSI Inputs'!$D$40","v":1071.4285714285713},{"$f":"'SSI Inputs'!$Q$18","v":175},{"$f":"'SSI Inputs'!$Q$19","v":175},{"$f":"'SSI Inputs'!$Q$20","v":175},{"$f":"'SSI Inputs'!$Q$21","v":175}]
[null,null,null,null,null,null,null,null,null,null,null,null,null,null,null,null,null,null,null,null,null,null,null,null,null,null,null,null,null,null,null,null,null,null,null,null,null,null,"D",{"$f":"'SSI Inputs'!$E$26","v":7271.062271062272},{"$f":"'SSI Inputs'!$E$27","v":2298.5347985347985},{"$f":"'SSI Inputs'!$E$28","v":430.40293040293039},{"$f":"'SSI Inputs'!$E$30","v":7225.2747252747249},{"$f":"'SSI Inputs'!$E$31","v":2298.5347985347985},{"$f":"'SSI Inputs'!$E$32","v":476.19047619047615},{"$f":"'SSI Inputs'!$E$34","v":2232.1428571428569},{"$f":"'SSI Inputs'!$E$35","v":1339.2857142857142},{"$f":"'SSI Inputs'!$E$36","v":1428.5714285714284},{"$f":"'SSI Inputs'!$E$38","v":2321.4285714285716},{"$f":"'SSI Inputs'!$E$39","v":1339.2857142857142},{"$f":"'SSI Inputs'!$E$40","v":1339.2857142857142},{"$f":"'SSI Inputs'!$R$18","v":175},{"$f":"'SSI Inputs'!$R$19","v":175},{"$f":"'SSI Inputs'!$R$20","v":175},{"$f":"'SSI Inputs'!$R$21","v":175},"D",{"$f":"'SSI Inputs'!$E$26","v":7271.062271062272},{"$f":"'SSI Inputs'!$E$27","v":2298.5347985347985},{"$f":"'SSI Inputs'!$E$28","v":430.40293040293039},{"$f":"'SSI Inputs'!$E$30","v":7225.2747252747249},{"$f":"'SSI Inputs'!$E$31","v":2298.5347985347985},{"$f":"'SSI Inputs'!$E$32","v":476.19047619047615},{"$f":"'SSI Inputs'!$E$34","v":2232.1428571428569},{"$f":"'SSI Inputs'!$E$35","v":1339.2857142857142},{"$f":"'SSI Inputs'!$E$36","v":1428.5714285714284},{"$f":"'SSI Inputs'!$E$38","v":2321.4285714285716},{"$f":"'SSI Inputs'!$E$39","v":1339.2857142857142},{"$f":"'SSI Inputs'!$E$40","v":1339.2857142857142},{"$f":"'SSI Inputs'!$R$18","v":175},{"$f":"'SSI Inputs'!$R$19","v":175},{"$f":"'SSI Inputs'!$R$20","v":175},{"$f":"'SSI Inputs'!$R$21","v":175}]
[]
[]
[]
[]
[]
[]
[]
[]
[]
[]
[]
[]
[]
[]
[]
[]
[]
[]
[]
[]
[]
[]
[]
[]
[]
[]
[]
[]
[]
[]
[]
[]
[]
[]
[]
[]
[]
[]
[]
[]
[]
[]
[]
[]
[]
[null,null,null,null,null,null,null,null,null,"Exposure",null,null,null,null,null,null,null,null,null,null,null,null,null,null,null,null,null,null,null,null,null,null,null,null,null,null,"Exposure-Severity-Complexity Product"]
[null,null,null,null,null,null,null,null,null,"Q1","Q2","I"]
[null,null,null,null,null,null,null,null,null,{"$f":"SUMPRODUCT($AN4:$BC4,$AN$55:$BC$55)","v":2321.4285714285716},{"$f":"SUMPRODUCT($BE4:$BT4,$BE$55:$BT$55)","v":7225.2747252747249},{"$f":"PRODUCT(J103:K103)","v":16772959.183673469},null,null,null,null,null,null,null,null,null,null,null,null,null,null,null,null,null,null,null,null,null,null,null,null,{"$f":"L103*R4*AI4","v":1069650.3859098062}]
[null,null,null,null,null,null,null,null,null,{"$f":"SUMPRODUCT($AN5:$BC5,$AN$55:$BC$55)","v":1339.2857142857142},{"$f":"SUMPRODUCT($BE5:$BT5,$BE$55:$BT$55)","v":7225.2747252747249},{"$f":"PRODUCT(J104:K104)","v":9676707.2213500775},null,null,null,null,null,null,null,null,null,null,null,null,null,null,null,null,null,null,null,null,null,null,null,null,{"$f":"L104*R5*AI5","v":1349433.2956522342}]
[null,null,null,null,null,null,null,null,null,2232.1428571428569,7225.2747252747249,16127845.368916795,null,null,null,null,null,null,null,null,null,null,null,null,null,null,null,null,null,null,null,null,null,null,null,null,1397990.9549148506]
[null,null,null,null,null,null,null,null,null,1339.2857142857142,2321.4285714285716,3109056.1224489794,null,null,null,null,null,null,null,null,null,null,null,null,null,null,null,null,null,null,null,null,null,null,null,null,87623.746331605158]
[null,null,null,null,null,null,null,null,null,1339.2857142857142,7271.062271062272,9738029.8273155428,null,null,null,null,null,null,null,null,null,null,null,null,null,null,null,null,null,null,null,null,null,null,null,null,274450.70843114203]
[null,null,null,null,null,null,null,null,null,2321.4285714285716,7271.062271062272,16879251.700680275,null,null,null,null,null,null,null,null,null,null,null,null,null,null,null,null,null,null,null,null,null,null,null,null,1463124.2217116442]
[null,null,null,null,null,null,null,null,null,1339.2857142857142,7271.062271062272,9738029.8273155428,null,null,null,null,null,null,null,null,null,null,null,null,null,null,null,null,null,null,null,null,null,null,null,null,1357984.8374497772]
[null,null,null,null,null,null,null,null,null,2232.1428571428569,7271.062271062272,16230049.712192569,null,null,null,null,null,null,null,null,null,null,null,null,null,null,null,null,null,null,null,null,null,null,null,null,1035027.793716957]
[null,null,null,null,null,null,null,null,null,2298.5347985347985,2321.4285714285716,5335884.3537414968,null,null,null,null,null,null,null,null,null,null,null,null,null,null,null,null,null,null,null,null,null,null,null,null,75105.15436793222]
[null,null,null,null,null,null,null,null,null,2298.5347985347985,1339.2857142857142,3078394.8194662477,null,null,null,null,null,null,null,null,null,null,null,null,null,null,null,null,null,null,null,null,null,null,null,null,51454.252391492024]
[null,null,null,null,null,null,null,null,null,2298.5347985347985,1339.2857142857142,3078394.8194662477,null,null,null,null,null,null,null,null,null,null,null,null,null,null,null,null,null,null,null,null,null,null,null,null,51454.252391492024]
[null,null,null,null,null,null,null,null,null,2298.5347985347985,2232.1428571428569,5130658.032443746,null,null,null,null,null,null,null,null,null,null,null,null,null,null,null,null,null,null,null,null,null,null,null,null,72216.494584550193]
[null,null,null,null,null,null,null,null,null,2298.5347985347985,7225.2747252747249,16607545.385017911,null,null,null,null,null,null,null,null,null,null,null,null,null,null,null,null,null,null,null,null,null,null,null,null,1262027.4168379996]
[null,null,null,null,null,null,null,null,null,2298.5347985347985,7271.062271062272,16712789.652350094,null,null,null,null,null,null,null,null,null,null,null,null,null,null,null,null,null,null,null,null,null,null,null,null,1270025.0557279745]
[null,null,null,null,null,null,null,null,null,2298.5347985347985,2232.1428571428569,5130658.032443746,null,null,null,null,null,null,null,null,null,null,null,null,null,null,null,null,null,null,null,null,null,null,null,null,8061.2357809570794]
[null,null,null,null,null,null,null,null,null,476.19047619047615,2232.1428571428569,1062925.170068027,null,null,null,null,null,null,null,null,null,null,null,null,null,null,null,null,null,null,null,null,null,null,null,null,3342.1896114184706]
[null,null,null,null,null,null,null,null,null,1339.2857142857142,7225.2747252747249,9676707.2213500775,null,null,null,null,null,null,null,null,null,null,null,null,null,null,null,null,null,null,null,null,null,null,null,null,176699.06961839518]
[null,null,null,null,null,null,null,null,null,1339.2857142857142,7225.2747252747249,9676707.2213500775,null,null,null,null,null,null,null,null,null,null,null,null,null,null,null,null,null,null,null,null,null,null,null,null,188731.20757594143]
[null,null,null,null,null,null,null,null,null,2298.5347985347985,2321.4285714285716,5335884.3537414968,null,null,null,null,null,null,null,null,null,null,null,null,null,null,null,null,null,null,null,null,null,null,null,null,8383.6852121953634]
[null,null,null,null,null,null,null,null,null,430.40293040293039,2321.4285714285716,999149.65986394556,null,null,null,null,null,null,null,null,null,null,null,null,null,null,null,null,null,null,null,null,null,null,null,null,3141.6582347333629]
[null,null,null,null,null,null,null,null,null,1339.2857142857142,7271.062271062272,9738029.8273155428,null,null,null,null,null,null,null,null,null,null,null,null,null,null,null,null,null,null,null,null,null,null,null,null,177818.83558555867]
[null,null,null,null,null,null,null,null,null,1428.5714285714284,7271.062271062272,10387231.815803245,null,null,null,null,null,null,null,null,null,null,null,null,null,null,null,null,null,null,null,null,null,null,null,null,202589.03768861512]
[null,null,null,null,null,null,null,null,null,2321.4285714285716,1339.2857142857142,3109056.1224489794,null,null,null,null,null,null,null,null,null,null,null,null,null,null,null,null,null,null,null,null,null,null,null,null,1.9917045080783056]
[null,null,null,null,null,null,null,null,null,2321.4285714285716,1339.2857142857142,3109056.1224489794,null,null,null,null,null,null,null,null,null,null,null,null,null,null,null,null,null,null,null,null,null,null,null,null,1.9917045080783056]
[null,null,null,null,null,null,null,null,null,7271.062271062272,430.40293040293039,3129486.508607388,null,null,null,null,null,null,null,null,null,null,null,null,null,null,null,null,null,null,null,null,null,null,null,null,21924.001608748898]
[null,null,null,null,null,null,null,null,null,7271.062271062272,2298.5347985347985,16712789.652350094,null,null,null,null,null,null,null,null,null,null,null,null,null,null,null,null,null,null,null,null,null,null,null,null,60971.579759549786]
[null,null,null,null,null,null,null,null,null,2232.1428571428569,1339.2857142857142,2989477.0408163262,null,null,null,null,null,null,null,null,null,null,null,null,null,null,null,null,null,null,null,null,null,null,null,null,1.9151004885368323]
[null,null,null,null,null,null,null,null,null,2232.1428571428569,1428.5714285714284,3188775.510204081,null,null,null,null,null,null,null,null,null,null,null,null,null,null,null,null,null,null,null,null,null,null,null,null,2.0427738544392877]
[null,null,null,null,null,null,null,null,null,7225.2747252747249,476.19047619047615,3440607.0120355831,null,null,null,null,null,null,null,null,null,null,null,null,null,null,null,null,null,null,null,null,null,null,null,null,24103.594458538762]
[null,null,null,null,null,null,null,null,null,7225.2747252747249,2298.5347985347985,16607545.385017911,null,null,null,null,null,null,null,null,null,null,null,null,null,null,null,null,null,null,null,null,null,null,null,null,60587.627745950587]
[null,null,null,null,null,null,null,null,null,350,1339.2857142857142,468750,null,null,null,null,null,null,null,null,null,null,null,null,null,null,null,null,null,null,null,null,null,null,null,null,112498.42396805935]
[null,null,null,null,null,null,null,null,null,175,2298.5347985347985,402243.58974358975,null,null,null,null,null,null,null,null,null,null,null,null,null,null,null,null,null,null,null,null,null,null,null,null,205925.20732247009]
[null,null,null,null,null,null,null,null,null,175,7225.2747252747249,1264423.0769230768,null,null,null,null,null,null,null,null,null,null,null,null,null,null,null,null,null,null,null,null,null,null,null,null,6772873.8594114734]
[null,null,null,null,null,null,null,null,null,175,1339.2857142857142,234375,null,null,null,null,null,null,null,null,null,null,null,null,null,null,null,null,null,null,null,null,null,null,null,null,474426.97470422625]
[null,null,null,null,null,null,null,null,null,175,7271.062271062272,1272435.8974358975,null,null,null,null,null,null,null,null,null,null,null,null,null,null,null,null,null,null,null,null,null,null,null,null,6815794.4795598369]
[null,null,null,null,null,null,null,null,null,350,430.40293040293039,150641.02564102563,null,null,null,null,null,null,null,null,null,null,null,null,null,null,null,null,null,null,null,null,null,null,null,null,90761.522180002808]
[null,null,null,null,null,null,null,null,null,175,2321.4285714285716,406250,null,null,null,null,null,null,null,null,null,null,null,null,null,null,null,null,null,null,null,null,null,null,null,null,231763.22803880007]
[null,null,null,null,null,null,null,null,null,175,1339.2857142857142,234375,null,null,null,null,null,null,null,null,null,null,null,null,null,null,null,null,null,null,null,null,null,null,null,null,133709.55463776927]
[null,null,null,null,null,null,null,null,null,175,2298.5347985347985,402243.58974358975,null,null,null,null,null,null,null,null,null,null,null,null,null,null,null,null,null,null,null,null,null,null,null,null,386109.76372963149]
[null,null,null,null,null,null,null,null,null,175,2232.1428571428569,390624.99999999994,null,null,null,null,null,null,null,null,null,null,null,null,null,null,null,null,null,null,null,null,null,null,null,null,593033.71838028275]
[null,null,null,null,null,null,null,null,null,350,476.19047619047615,166666.66666666666,null,null,null,null,null,null,null,null,null,null,null,null,null,null,null,null,null,null,null,null,null,null,null,null,100417.00326298183]
[null,null,null,null,null,null,null,null,null,175,2321.4285714285716,406250,null,null,null,null,null,null,null,null,null,null,null,null,null,null,null,null,null,null,null,null,null,null,null,null,616755.06711549417]
[null,null,null,null,null,null,null,null,null,175,2298.5347985347985,402243.58974358975,null,null,null,null,null,null,null,null,null,null,null,null,null,null,null,null,null,null,null,null,null,null,null,null,386109.76372963149]
[null,null,null,null,null,null,null,null,null,175,1339.2857142857142,234375,null,null,null,null,null,null,null,null,null,null,null,null,null,null,null,null,null,null,null,null,null,null,null,null,133709.55463776927]
[null,null,null,null,null,null,null,null,null,175,2232.1428571428569,390624.99999999994,null,null,null,null,null,null,null,null,null,null,null,null,null,null,null,null,null,null,null,null,null,null,null,null,222849.2577296154]
[null,null,null,null,null,null,null,null,null,350,1428.5714285714284,499999.99999999994,null,null,null,null,null,null,null,null,null,null,null,null,null,null,null,null,null,null,null,null,null,null,null,null,119998.31889926329]
[null,null,null,null,null,null,null,null,null,175,2298.5347985347985,402243.58974358975,null,null,null,null,null,null,null,null,null,null,null,null,null,null,null,null,null,null,null,null,null,null,null,null,205925.20732247009]
[null,null,null,null,null,null,null,null,null,175,7271.062271062272,1272435.8974358975,null,null,null,null,null,null,null,null,null,null,null,null,null,null,null,null,null,null,null,null,null,null,null,null,6815794.4795598369]
[null,null,null,null,null,null,null,null,null,175,1339.2857142857142,234375,null,null,null,null,null,null,null,null,null,null,null,null,null,null,null,null,null,null,null,null,null,null,null,null,474426.97470422625]
[null,null,null,null,null,null,null,null,null,175,7225.2747252747249,1264423.0769230768,null,null,null,null,null,null,null,null,null,null,null,null,null,null,null,null,null,null,null,null,null,null,null,null,6772873.8594114734]

{"sheet":"FDLT","index":45,"n_rows":150,"n_cols":72,"rows_kept":150,"cut":false,"hidden":true,"merged":[[1,56,1,71],[0,19,0,28],[0,30,0,32],[1,31,2,31],[1,32,2,32],[1,21,1,25],[1,27,1,28],[1,30,2,30],[100,9,100,11],[100,36,101,36],[1,34,2,34],[1,36,2,36],[1,39,1,54],[1,9,1,11],[1,13,1,17]]}
[null,null,null,null,null,null,null,null,null,null,null,null,null,null,null,null,null,null,null,"Conflicting Traffic Complexity",null,null,null,null,null,null,null,null,null,null,"Pedestrian Complexity"]
[null,null,null,null,null,null,null,null,null,"Exposure",null,null,null,"Severity",null,null,null,null,null,"Traffic Control",null,"Conflicting Lanes",null,null,null,null,null,"Conflicting Speed",null,null,"Indirect Paths Indicator","Non-intuitive movements indicator","Pedestrian Complexity factor",null,"Total Complexity Multiplier",null,"Exposure-Severity-Complexity Product",null,null,"Included in Mvmt1",null,null,null,null,null,null,null,null,null,null,null,null,null,null,null,null,"Included in Mvmt2"]
["#","Conflict Type","Mvmt1","Mvmt1_gen","Mvmt1_SpeedCat","Mvmt2","Mvmt2_gen","Mvmt2_SpeedCat",null,"Q1","Q2","I",null,"Speed_V1","Speed_V2","Angle","delta_V","P_FSI",null,null,null,"MajC","MinC","MajM/P","MinM/P","Score",null,"Speed","Factor",null,null,null,null,null,null,null,null,null,null,"MajT1","MajL1","MajR1","MajT2","MajL2","MajR2","MinT1","MinL1","MinR1","MinT2","MinL2","MinR2","MajNM1","MajNM2","MinNM1","MinNM2",null,"MajT1","MajL1","MajR1","MajT2","MajL2","MajR2","MinT1","MinL1","MinR1","MinT2","MinL2","MinR2","MajNM1","MajNM2","MinNM1","MinNM2"]
[1,"Crossing","SBT","MinT2","Signal near","WBT","MajT2","Major thru",null,{"$f":"SUMPRODUCT($AN4:$BC4,$AN$52:$BC$52)","v":1857.1428571428571},{"$f":"SUMPRODUCT($BE4:$BT4,$BE$52:$BT$52)","v":6502.7472527472528},{"$f":"PRODUCT(J4:K4)","v":12076530.612244898},null,{"$f":"VLOOKUP(E4,SSI_AGI_Range_VehSpeed,5,FALSE)","v":15},{"$f":"VLOOKUP(H4,SSI_AGI_Range_VehSpeed,5,FALSE)","v":45},{"$f":"IF(B4=\"Nonmotorized\",\"\",VLOOKUP(B4,SSI_AGI_Range_CollAngles,5,FALSE))","v":90},{"$f":"IF(B4=\"Nonmotorized\",\"\",SQRT(N4^2+O4^2-2*N4*O4*COS(RADIANS(P4)))/2)","v":23.717082451262844},{"$f":"IF(B4=\"Nonmotorized\",1/(1+EXP(3.8432-0.1237*O4)),(Q4/SSI_AGI_RegAlpha)^SSI_AGI_RegK+(Q4/SSI_AGI_RegAlpha)^SSI_AGI_RegK-((Q4/SSI_AGI_RegAlpha)^SSI_AGI_RegK)*((Q4/SSI_AGI_RegAlpha)^SSI_AGI_RegK))","v":3.7884541771032863E-2},null,{"$f":"SSI_AGI_ProtFactor","v":0.505},null,2,null,null,null,{"$f":"MAX(1,IF(B4<>\"Pedestrian\",V4*SSI_AGI_MajorThruLanes+W4*SSI_AGI_MinorThruLanes+X4*IF(SSI_AGI_MajorThruLanes=1,SSI_AGI_MergeWeightL1,IF(SSI_AGI_MajorThruLanes=2,SSI_AGI_MergeWeightL1+SSI_AGI_MergeWeightL2,SSI_AGI_MergeWeightL1+SSI_AGI_MergeWeightL2+SSI_AGI_MergeWeightL3*(SSI_AGI_MajorThruLanes-2)))+Y4*IF(SSI_AGI_MinorThruLanes=1,SSI_AGI_MergeWeightL1,IF(SSI_AGI_MinorThruLanes=2,SSI_AGI_MergeWeightL1+SSI_AGI_MergeWeightL2,SSI_AGI_MergeWeightL1+SSI_AGI_MergeWeightL2+SSI_AGI_MergeWeightL3*(SSI_AGI_MinorThruLanes-2))),V4*SSI_AGI_MajorThruLanes+W4*SSI_AGI_MinorThruLanes+X4*IF(SSI_AGI_MajorThruLanes=1,SSI_AGI_NM_MergeWeightL1,IF(SSI_AGI_MajorThruLanes=2,SSI_AGI_NM_MergeWeightL1+SSI_AGI_NM_MergeWeightL2,SSI_AGI_NM_MergeWeightL1+SSI_AGI_NM_MergeWeightL2+SSI_AGI_NM_MergeWeightL3*(SSI_AGI_MajorThruLanes-2)))+Y4*IF(SSI_AGI_MinorThruLanes=1,SSI_AGI_NM_MergeWeightL1,IF(SSI_AGI_MinorThruLanes=2,SSI_AGI_NM_MergeWeightL1+SSI_AGI_NM_MergeWeightL2,SSI_AGI_NM_MergeWeightL1+SSI_AGI_NM_MergeWeightL2+SSI_AGI_NM_MergeWeightL3*(SSI_AGI_MinorThruLanes-2)))))","v":4},null,{"$f":"IF(B4=\"Diverging\",\"\",SSI_AGI_VehSpeed_MjrThru)","v":45},{"$f":"IF(B4=\"Diverging\",1,1-((60-AB4)/60*0.1/0.15))","v":0.83333333333333326},null,null,null,{"$f":"IF(SSI_AGI_ConsiderNMComplexity=\"Yes\",1+AE4+AF4,1)","v":1},null,{"$f":"PRODUCT(Z4,T4,AC4,AG4)","v":1.6833333333333331},null,{"$f":"L4*R4*AI4","v":770148.27785506065},null,null,{"$f":"IF(ISNUMBER(SEARCH(AN$3,$D4)),1,\"\")","v":""},{"$f":"IF(ISNUMBER(SEARCH(AO$3,$D4)),1,\"\")","v":""},"","","","","","","",1,"","","","","","",null,{"$f":"IF(ISNUMBER(SEARCH(BE$3,$G4)),1,\"\")","v":""},{"$f":"IF(ISNUMBER(SEARCH(BF$3,$G4)),1,\"\")","v":""},"",1,"","","","","","","","","","","",""]
[2,"Crossing","NBT","MinT1","Signal far","WBT","MajT2","Major thru",null,1785.7142857142856,6502.7472527472528,{"$f":"PRODUCT(J5:K5)","v":11612048.665620092},null,25,45,90,{"$f":"IF(B5=\"Nonmotorized\",\"\",SQRT(N5^2+O5^2-2*N5*O5*COS(RADIANS(P5)))/2)","v":25.739075352467502},5.1494149230103807E-2,null,0.505,null,2,null,null,null,4,null,45,0.83333333333333326,null,null,null,1,null,1.6833333333333331,null,{"$f":"L5*R5*AI5","v":1006553.4875386923},null,null,{"$f":"IF(ISNUMBER(SEARCH(AN$3,$D5)),1,\"\")","v":""},"","","","","",1,"","","","","","","","","",null,{"$f":"IF(ISNUMBER(SEARCH(BE$3,$G5)),1,\"\")","v":""},"","",1,"","","","","","","","","","","",""]
[3,"Crossing","SBT","MinT2","Signal far","EBT","MajT1","Major thru",null,1857.1428571428571,6543.9560439560446,12153061.224489797,null,25,45,90,25.739075352467502,5.1494149230103807E-2,null,0.505,null,2,null,null,null,4,null,45,0.83333333333333326,null,null,null,1,null,1.6833333333333331,null,1053449.4396323836,null,null,"","","","","","","","","",1,"","","","","","",null,1,"","","","","","","","","","","","","","",""]
[4,"Crossing","NBT","MinT1","Signal near","EBT","MajT1","Major thru",null,1785.7142857142856,6543.9560439560446,11685635.79277865,null,15,45,90,23.717082451262844,3.7884541771032863E-2,null,0.505,null,2,null,null,null,4,null,45,0.83333333333333326,null,null,null,1,null,1.6833333333333331,null,745220.01147620915,null,null,"","","","","","",1,"","","","","","","","","",null,1,"","","","","","","","","","","","","","",""]
[5,"Crossing - LT","SBT","MinT2","Signal near","EBL","MajL1","Major left",null,1857.1428571428571,2068.6813186813188,3841836.7346938779,null,15,20,230,15.895538413434787,8.3616736100371545E-3,null,0.505,null,2,null,null,null,4,null,45,0.83333333333333326,null,null,null,1,null,1.6833333333333331,null,54075.711144911198,null,null,"","","","","","","","","",1,"","","","","","",null,"",1,"","","","","","","","","","","","","",""]
[6,"Crossing - LT","SBL","MinL2","Signal near","WBT","MajT2","Major thru",null,1071.4285714285713,6502.7472527472528,6967229.1993720559,null,15,45,230,27.918467333813421,6.9762185672148203E-2,null,0.505,null,1,null,1,null,3.75,null,45,0.83333333333333326,null,null,null,1,null,1.578125,null,767046.29437074356,null,null,"","","","","","","","","","",1,"","","","","",null,"","","",1,"","","","","","","","","","","",""]
[7,"Crossing - LT","NBT","MinT1","Signal near","WBL","MajL2","Major left",null,1785.7142857142856,2068.6813186813188,3694073.7833594973,null,15,20,230,15.895538413434787,8.3616736100371545E-3,null,0.505,null,2,null,null,null,4,null,45,0.83333333333333326,null,null,null,1,null,1.6833333333333331,null,51995.876100876143,null,null,"","","","","","",1,"","","","","","","","","",null,"","","","",1,"","","","","","","","","","",""]
[8,"Crossing - LT","NBL","MinL1","Signal near","EBT","MajT1","Major thru",null,1071.4285714285713,6543.9560439560446,7011381.4756671898,null,15,45,230,27.918467333813421,6.9762185672148203E-2,null,0.505,null,1,null,1,null,3.75,null,45,0.83333333333333326,null,null,null,1,null,1.578125,null,771907.17076092574,null,null,"","","","","","","",1,"","","","","","","","",null,1,"","","","","","","","","","","","","","",""]
[9,"Crossing - LT","NBT","MinT1","Minor thru","SBL","MinL2","Signal near",null,1785.7142857142856,1071.4285714285713,1913265.3061224485,null,29.75,15,230,20.516764131102867,2.1946207825979773E-2,null,0.505,null,null,1,null,null,1,null,{"$f":"IF(B12=\"Diverging\",\"\",SSI_AGI_VehSpeed_MnrThru)","v":29.75},0.66388888888888886,null,null,null,1,null,0.33526388888888886,null,14077.367950449765,null,null,"","","","","","",1,"","","","","","","","","",null,"","","","","","","","","","",1,"","","","",""]
[10,"Crossing - LT","EBT","MajT1","Major thru","WBL","MajL2","Signal near",null,6543.9560439560446,2068.6813186813188,13537359.618403576,null,45,15,230,27.918467333813421,6.9762185672148203E-2,null,0.505,null,1,null,null,null,2,null,{"$f":"IF(B13=\"Diverging\",\"\",SSI_AGI_VehSpeed_MjrThru)","v":45},0.83333333333333326,null,null,null,1,null,0.84166666666666656,null,794866.46096817392,null,null,1,"","","","","","","","","","","","","","","",null,"","","","",1,"","","","","","","","","","",""]
[11,"Crossing - LT","SBT","MinT2","Minor thru","NBL","MinL1","Signal near",null,1857.1428571428571,1071.4285714285713,1989795.9183673467,null,29.75,15,230,20.516764131102867,2.1946207825979773E-2,null,0.505,null,null,1,null,null,1,null,{"$f":"IF(B14=\"Diverging\",\"\",SSI_AGI_VehSpeed_MnrThru)","v":29.75},0.66388888888888886,null,null,null,1,null,0.33526388888888886,null,14640.462668467757,null,null,"","","","","","","","","",1,"","","","","","",null,"","","","","","","",1,"","","","","","","",""]
[12,"Crossing - LT","WBT","MajT2","Major thru","EBL","MajL1","Signal near",null,6502.7472527472528,2068.6813186813188,13452111.761864509,null,45,15,230,27.918467333813421,6.9762185672148203E-2,null,0.505,null,1,null,null,null,2,null,{"$f":"IF(B15=\"Diverging\",\"\",SSI_AGI_VehSpeed_MjrThru)","v":45},0.83333333333333326,null,null,null,1,null,0.84166666666666656,null,789861.00466484774,null,null,"","","",1,"","","","","","","","","","","","",null,"",1,"","","","","","","","","","","","","",""]
[13,"Merging","NBT","MinT1","Signal far","EBL","MajL1","Major left",null,1785.7142857142856,2068.6813186813188,3694073.7833594973,null,25,20,45,8.9147801264732891,9.333798723087925E-4,null,0.505,null,2,null,null,null,4,null,45,0.83333333333333326,null,null,null,1,null,1.6833333333333331,null,5804.089762289098,null,null,"","","","","","",1,"","","","","","","","","",null,"",1,"","","","","","","","","","","","","",""]
[14,"Merging","NBT","MinT1","Minor thru","WBR","MajR2","Major right",null,1785.7142857142856,428.57142857142856,765306.12244897953,null,29.75,15,45,10.942688172828081,2.0309556354165454E-3,null,1,null,2,null,null,null,4,null,45,0.83333333333333326,null,null,null,1,null,3.333333333333333,null,5181.0092740217979,null,null,"","","","","","",1,"","","","","","","","","",null,"","","","","",1,"","","","","","","","","",""]
[15,"Merging","NBL","MinL1","Signal far","WBT","MajT2","Major thru",null,1071.4285714285713,6502.7472527472528,6967229.1993720559,null,25,45,45,16.271214938736659,9.1348815406664795E-3,null,{"$f":"SSI_AGI_ProtFactor","v":0.505},null,1,null,1,null,3.75,null,45,0.83333333333333326,null,null,null,1,null,1.578125,null,100439.47115150884,null,null,"","","","","","","",1,"","","","","","","","",null,"","","",1,"","","","","","","","","","","",""]
[16,"Merging","SBR","MinR2","Minor right","WBT","MajT2","Major thru",null,1071.4285714285713,6502.7472527472528,6967229.1993720559,null,15,45,45,17.995873453365363,1.3373938286506865E-2,null,1,null,null,null,1,null,1.75,null,45,0.83333333333333326,null,null,null,1,null,1.4583333333333333,null,135886.46945467783,null,null,"","","","","","","","","","","",1,"","","","",null,"","","",1,"","","","","","","","","","","",""]
[17,"Merging","SBT","MinT2","Signal far","WBL","MajL2","Major left",null,1857.1428571428571,2068.6813186813188,3841836.7346938779,null,25,20,45,8.9147801264732891,9.333798723087925E-4,null,{"$f":"SSI_AGI_ProtFactor","v":0.505},null,2,null,null,null,4,null,45,0.83333333333333326,null,null,null,1,null,1.6833333333333331,null,6036.2533527806627,null,null,"","","","","","","","","",1,"","","","","","",null,"","","","",1,"","","","","","","","","","",""]
[18,"Merging","SBT","MinT2","Minor thru","EBR","MajR1","Major right",null,1857.1428571428571,387.36263736263737,719387.75510204083,null,29.75,15,45,10.942688172828081,2.0309556354165454E-3,null,1,null,2,null,null,null,4,null,45,0.83333333333333326,null,null,null,1,null,3.333333333333333,null,4870.1487175804914,null,null,"","","","","","","","","",1,"","","","","","",null,"","",1,"","","","","","","","","","","","",""]
[19,"Merging","SBL","MinL2","Signal far","EBT","MajT1","Major thru",null,1071.4285714285713,6543.9560439560446,7011381.4756671898,null,25,45,45,16.271214938736659,9.1348815406664795E-3,null,{"$f":"SSI_AGI_ProtFactor","v":0.505},null,1,null,1,null,3.75,null,45,0.83333333333333326,null,null,null,1,null,1.578125,null,101075.96970126491,null,null,{"$f":"IF(ISNUMBER(SEARCH(AN$3,$D22)),1,\"\")","v":""},"","","","","","","","","",1,"","","","","",null,1,"","","","","","","","","","","","","","",""]
[20,"Merging","NBR","MinR1","Minor right","EBT","MajT1","Major thru",null,1142.8571428571429,6543.9560439560446,7478806.9073783373,null,15,45,45,17.995873453365363,1.3373938286506865E-2,null,1,null,null,null,1,null,1.75,null,45,0.83333333333333326,null,null,null,1,null,1.4583333333333333,null,145864.10713580291,null,null,"","","","","","","","",1,"","","","","","","",null,1,"","","","","","","","","","","","","","",""]
[21,"Diverging","SBT","MinT2","Signal near","SBR","MinR2","Minor right",null,1857.1428571428571,1071.4285714285713,1989795.9183673467,null,15,15,10,1.3073361412148754,6.4061388075216071E-7,null,1,null,null,null,null,null,1,null,"",1,null,null,null,1,null,1,null,1.2746908851701155,null,null,"","","","","","","","","",1,"","","","","","",null,"","","","","","","","","","","",1,"","","",""]
[22,"Diverging","SBT","MinT2","Signal near","SBL","MinL2","Signal near",null,1857.1428571428571,1071.4285714285713,1989795.9183673467,null,15,15,10,1.3073361412148754,6.4061388075216071E-7,null,1,null,null,null,null,null,1,null,"",1,null,null,null,1,null,1,null,1.2746908851701155,null,null,"","","","","","","","","",1,"","","","","","",null,"","","","","","","","","","",1,"","","","",""]
[23,"Diverging","EBT","MajT1","Major thru","EBR","MajR1","Major right",null,6543.9560439560446,387.36263736263737,2534884.0719719846,null,45,15,10,15.169950011729762,7.0056226631585675E-3,null,1,null,null,null,null,null,1,null,"",1,null,null,null,1,null,1,null,17758.441303086609,null,null,1,"","","","","","","","","","","","","","","",null,"","",1,"","","","","","","","","","","","",""]
[24,"Diverging","EBT","MajT1","Major thru","EBL","MajL1","Major left",null,6543.9560439560446,2068.6813186813188,13537359.618403576,null,45,20,10,12.77053292327718,3.6481988362114144E-3,null,1,null,null,null,null,null,1,null,"",1,null,null,null,1,null,1,null,49386.979605235327,null,null,1,"","","","","","","","","","","","","","","",null,"",1,"","","","","","","","","","","","","",""]
[25,"Diverging","NBT","MinT1","Signal near","NBL","MinL1","Signal near",null,1785.7142857142856,1071.4285714285713,1913265.3061224485,null,15,15,10,1.3073361412148754,6.4061388075216071E-7,null,1,null,null,null,null,null,1,null,"",1,null,null,null,1,null,1,null,1.2256643126635725,null,null,"","","","","","",1,"","","","","","","","","",null,"","","","","","","",1,"","","","","","","",""]
[26,"Diverging","NBT","MinT1","Signal near","NBR","MinR1","Minor right",null,1785.7142857142856,1142.8571428571429,2040816.3265306121,null,15,15,10,1.3073361412148754,6.4061388075216071E-7,null,1,null,null,null,null,null,1,null,"",1,null,null,null,1,null,1,null,1.3073752668411442,null,null,"","","","","","",1,"","","","","","","","","",null,"","","","","","","","",1,"","","","","","",""]
[27,"Diverging","WBT","MajT2","Major thru","WBR","MajR2","Major right",null,6502.7472527472528,428.57142857142856,2786891.6797488225,null,45,15,10,15.169950011729762,7.0056226631585675E-3,null,1,null,null,null,null,null,1,null,"",1,null,null,null,1,null,1,null,19523.911511416398,null,null,"","","",1,"","","","","","","","","","","","",null,"","","","","",1,"","","","","","","","","",""]
[28,"Diverging","WBT","MajT2","Major thru","WBL","MajL2","Major left",null,6502.7472527472528,2068.6813186813188,13452111.761864509,null,45,20,10,12.77053292327718,3.6481988362114144E-3,null,1,null,null,null,null,null,1,null,"",1,null,null,null,1,null,1,null,49075.978474219984,null,null,"","","",1,"","","","","","","","","","","","",null,"","","","",1,"","","","","","","","","","",""]
[29,"Nonmotorized",null,"MajNM1, MinNM2","Nonmotorized","SBR","MinR2","Minor right",null,350,1071.4285714285713,374999.99999999994,null,0,15,"","",0.1205004039155782,null,1,null,null,1,null,null,1,null,{"$f":"IF(B32=\"Diverging\",\"\",SSI_AGI_VehSpeed_MnrThru)","v":29.75},0.66388888888888886,null,1,1,3,null,1.9916666666666667,null,89998.739174447459,null,null,"","","","","","","","","","","","",1,"","",1,null,"","","","","","","","","","","",1,"","","",""]
[30,"Nonmotorized",null,"MajNM1","Nonmotorized","EBL","MajL1","Major left",null,175,2068.6813186813188,362019.23076923081,null,0,20,"","",0.20274912921655375,null,{"$f":"SSI_AGI_ProtFactor","v":0.505},null,1,null,null,null,2,null,{"$f":"IF(B33=\"Diverging\",\"\",SSI_AGI_VehSpeed_MjrThru)","v":45},0.83333333333333326,null,1,1,3,null,2.5249999999999995,null,185332.68659022311,null,null,"","","","","","","","","","","","",1,"","","",null,"",1,"","","","","","","","","","","","","",""]
[31,"Nonmotorized",null,"MajNM1","Nonmotorized","WBT","MajT2","Major thru",null,175,6502.7472527472528,1137980.7692307692,null,0,45,"","",0.84855340903216459,null,{"$f":"SSI_AGI_ProtFactor","v":0.505},null,2,null,null,1,5,null,{"$f":"IF(B34=\"Diverging\",\"\",SSI_AGI_VehSpeed_MjrThru)","v":45},0.83333333333333326,null,1,1,3,null,6.3125,null,6095586.4734703274,null,null,"","","","","","","","","","","","",1,"","","",null,"","","",1,"","","","","","","","","","","",""]
[32,"Nonmotorized",null,"MajNM1","Nonmotorized","NBL","MinL1","Signal far",null,175,1071.4285714285713,187499.99999999997,null,0,25,"","",0.32066879346345062,null,{"$f":"SSI_AGI_ProtFactor","v":0.505},null,2,null,null,1,5,null,{"$f":"IF(B35=\"Diverging\",\"\",SSI_AGI_VehSpeed_MjrThru)","v":45},0.83333333333333326,null,1,1,3,null,6.3125,null,379541.57976338099,null,null,"","","","","","","","","","","","",1,"","","",null,{"$f":"IF(ISNUMBER(SEARCH(BE$3,$G35)),1,\"\")","v":""},"","","","","","",1,"","","","","","","",""]
[33,"Nonmotorized",null,"MajNM1","Nonmotorized","EBT","MajT1","Major thru",null,175,6543.9560439560446,1145192.3076923077,null,0,45,"",{"$f":"IF(B36=\"Nonmotorized\",\"\",SQRT(N36^2+O36^2-2*N36*O36*COS(RADIANS(P36)))/2)","v":""},0.84855340903216459,null,{"$f":"SSI_AGI_ProtFactor","v":0.505},null,2,null,null,1,5,null,{"$f":"IF(B36=\"Diverging\",\"\",SSI_AGI_VehSpeed_MjrThru)","v":45},0.83333333333333326,null,1,1,3,null,6.3125,null,6134215.0316038532,null,null,"","","","","","","","","","","","",1,"","","",null,1,"","","","","","","","","","","","","","",""]
[34,"Nonmotorized",null,"MinNM1, MajNM1","Nonmotorized","EBR","MajR1","Major right",null,350,387.36263736263737,{"$f":"PRODUCT(J37:K37)","v":135576.92307692309},null,0,15,"","",0.1205004039155782,null,1,null,1,null,null,null,2,null,{"$f":"IF(B37=\"Diverging\",\"\",SSI_AGI_VehSpeed_MjrThru)","v":45},0.83333333333333326,null,1,1,3,null,5,null,81685.369962002544,null,null,"","","","","","","","","","","","",1,"",1,{"$f":"IF(ISNUMBER(SEARCH(BC$3,$D37)),1,\"\")","v":""},null,"","",1,"","","","","","","","","","","","",""]
[35,"Nonmotorized",null,"MinNM1","Nonmotorized","NBL","MinL1","Signal near",null,175,1071.4285714285713,187499.99999999997,null,0,15,"","",0.1205004039155782,null,{"$f":"SSI_AGI_ProtFactor","v":0.505},null,null,1,null,null,1,null,{"$f":"IF(B38=\"Diverging\",\"\",SSI_AGI_VehSpeed_MnrThru)","v":29.75},0.66388888888888886,null,1,1,3,null,1.0057916666666666,null,22724.681641547984,null,null,{"$f":"IF(ISNUMBER(SEARCH(AN$3,$D38)),1,\"\")","v":""},"","","","","","","","","","","","","",1,"",null,"","","","","","","",1,"","","","","","","",""]
[36,"Nonmotorized",null,"MinNM1","Nonmotorized","SBT","MinT2","Signal far",null,175,1857.1428571428571,325000,null,0,25,"","",0.32066879346345062,null,{"$f":"SSI_AGI_ProtFactor","v":0.505},null,null,2,1,null,3.75,null,{"$f":"IF(B39=\"Diverging\",\"\",SSI_AGI_VehSpeed_MjrThru)","v":45},0.83333333333333326,null,1,1,3,null,4.734375,null,493404.05369239533,null,null,"","","","","","","","","","","","","","",1,"",null,"","","","","","","","","",1,"","","","","",""]
[37,"Nonmotorized",null,"MinNM1","Nonmotorized","WBL","MajL2","Major left",null,175,2068.6813186813188,362019.23076923081,null,0,20,"","",0.20274912921655375,null,{"$f":"SSI_AGI_ProtFactor","v":0.505},null,null,2,1,null,3.75,null,{"$f":"IF(B40=\"Diverging\",\"\",SSI_AGI_VehSpeed_MjrThru)","v":45},0.83333333333333326,null,1,1,3,null,4.734375,null,347498.78735666838,null,null,"","","","","","","","","","","","","","",1,"",null,"","","","",1,"","","","","","","","","","",""]
[38,"Nonmotorized",null,"MinNM1","Nonmotorized","NBT","MinT1","Signal near",null,175,1785.7142857142856,312500,null,0,15,"","",0.1205004039155782,null,{"$f":"SSI_AGI_ProtFactor","v":0.505},null,null,2,1,null,3.75,null,{"$f":"IF(B41=\"Diverging\",\"\",SSI_AGI_VehSpeed_MjrThru)","v":45},0.83333333333333326,null,1,1,3,null,4.734375,null,178279.40618369236,null,null,"","","","","","","","","","","","","","",1,"",null,"","","","","","",1,"","","","","","","","",""]
[39,"Nonmotorized",null,"MajNM2, MinNM1","Nonmotorized","NBR","MinR1","Minor right",null,350,1142.8571428571429,400000,null,0,15,"","",0.1205004039155782,null,1,null,null,1,null,null,1,null,{"$f":"IF(B42=\"Diverging\",\"\",SSI_AGI_VehSpeed_MnrThru)","v":29.75},0.66388888888888886,null,1,1,3,null,1.9916666666666667,null,95998.655119410643,null,null,"","","","","","","","","","","","","",1,1,"",null,"","","","","","","","",1,"","","","","","",""]
[40,"Nonmotorized",null,"MajNM2","Nonmotorized","WBL","MajL2","Major left",null,175,2068.6813186813188,362019.23076923081,null,0,20,"","",0.20274912921655375,null,{"$f":"SSI_AGI_ProtFactor","v":0.505},null,1,null,null,null,2,null,{"$f":"IF(B43=\"Diverging\",\"\",SSI_AGI_VehSpeed_MjrThru)","v":45},0.83333333333333326,null,1,1,3,null,2.5249999999999995,null,185332.68659022311,null,null,"","","","","","","","","","","","","",1,"","",null,"","","","",1,"","","","","","","","","","",""]
[41,"Nonmotorized",null,"MajNM2","Nonmotorized","EBT","MajT1","Major thru",null,175,6543.9560439560446,1145192.3076923077,null,0,45,"","",0.84855340903216459,null,{"$f":"SSI_AGI_ProtFactor","v":0.505},null,2,null,null,1,5,null,{"$f":"IF(B44=\"Diverging\",\"\",SSI_AGI_VehSpeed_MjrThru)","v":45},0.83333333333333326,null,1,1,3,null,6.3125,null,6134215.0316038532,null,null,"","","","","","","","","","","","","",1,"","",null,1,"","","","","","","","","","","","","","",""]
[42,"Nonmotorized",null,"MajNM2","Nonmotorized","SBL","MinL2","Signal far",null,175,1071.4285714285713,187499.99999999997,null,0,25,"","",0.32066879346345062,null,{"$f":"SSI_AGI_ProtFactor","v":0.505},null,2,null,null,1,5,null,{"$f":"IF(B45=\"Diverging\",\"\",SSI_AGI_VehSpeed_MjrThru)","v":45},0.83333333333333326,null,1,1,3,null,6.3125,null,379541.57976338099,null,null,"","","","","","","","","","","","","",1,"","",null,"","","","","","","","","","",1,"","","","",""]
[43,"Nonmotorized",null,"MajNM2","Nonmotorized","WBT","MajT2","Major thru",null,175,6502.7472527472528,1137980.7692307692,null,0,45,"","",0.84855340903216459,null,{"$f":"SSI_AGI_ProtFactor","v":0.505},null,2,null,null,1,5,null,{"$f":"IF(B46=\"Diverging\",\"\",SSI_AGI_VehSpeed_MjrThru)","v":45},0.83333333333333326,null,1,1,3,null,6.3125,null,6095586.4734703274,null,null,"","","","","","","","","","","","","",1,"","",null,"","","",1,"","","","","","","","","","","",""]
[44,"Nonmotorized",null,"MinNM2, MajNM2","Nonmotorized","WBR","MajR2","Major right",null,350,428.57142857142856,150000,null,0,15,"","",0.1205004039155782,null,1,null,1,null,null,null,2,null,{"$f":"IF(B47=\"Diverging\",\"\",SSI_AGI_VehSpeed_MjrThru)","v":45},0.83333333333333326,null,1,1,3,null,5,null,90375.302936683656,null,null,"","","","","","","","","","","","","",1,"",1,null,"","","","","",1,"","","","","","","","","",""]
[45,"Nonmotorized",null,"MinNM2","Nonmotorized","SBL","MinL2","Signal near",null,175,1071.4285714285713,187499.99999999997,null,0,15,"","",0.1205004039155782,null,{"$f":"SSI_AGI_ProtFactor","v":0.505},null,null,1,null,null,1,null,{"$f":"IF(B48=\"Diverging\",\"\",SSI_AGI_VehSpeed_MnrThru)","v":29.75},0.66388888888888886,null,1,1,3,null,1.0057916666666666,null,22724.681641547984,null,null,"","","","","","","","","","","","","","","",1,null,"","","","","","","","","","",1,"","","","",""]
[46,"Nonmotorized",null,"MinNM2","Nonmotorized","NBT","MinT1","Signal far",null,175,1785.7142857142856,312500,null,0,25,"","",0.32066879346345062,null,{"$f":"SSI_AGI_ProtFactor","v":0.505},null,null,2,1,null,3.75,null,{"$f":"IF(B49=\"Diverging\",\"\",SSI_AGI_VehSpeed_MjrThru)","v":45},0.83333333333333326,null,1,1,3,null,4.734375,null,474426.97470422625,null,null,"","","","","","","","","","","","","","","",1,null,"","","","","","",1,"","","","","","","","",""]
[47,"Nonmotorized",null,"MinNM2","Nonmotorized","EBL","MajL1","Major left",null,175,2068.6813186813188,362019.23076923081,null,0,20,"","",0.20274912921655375,null,{"$f":"SSI_AGI_ProtFactor","v":0.505},null,null,2,1,null,3.75,null,{"$f":"IF(B50=\"Diverging\",\"\",SSI_AGI_VehSpeed_MjrThru)","v":45},0.83333333333333326,null,1,1,3,null,4.734375,null,347498.78735666838,null,null,"","","","","","","","","","","","","","","",1,null,"",1,"","","","","","","","","","","","","",{"$f":"IF(ISNUMBER(SEARCH(BT$3,$G50)),1,\"\")","v":""}]
[48,"Nonmotorized",null,"MinNM2","Nonmotorized","SBT","MinT2","Signal near",null,175,1857.1428571428571,325000,null,0,15,"","",0.1205004039155782,null,{"$f":"SSI_AGI_ProtFactor","v":0.505},null,null,2,1,null,3.75,null,{"$f":"IF(B51=\"Diverging\",\"\",SSI_AGI_VehSpeed_MjrThru)","v":45},0.83333333333333326,null,1,1,3,null,4.734375,null,185410.58243104006,null,null,"","","","","","","","","","","","","","","",1,null,{"$f":"IF(ISNUMBER(SEARCH(BE$3,$G51)),1,\"\")","v":""},"","","","","","","","",1,"","","","","",""]
[null,null,null,null,null,null,null,null,null,null,null,null,null,null,null,null,null,null,null,null,null,null,null,null,null,null,null,null,null,null,null,null,null,null,null,null,null,null,"O",{"$f":"'SSI Inputs'!$D$26","v":6543.9560439560446},{"$f":"'SSI Inputs'!$D$27","v":2068.6813186813188},{"$f":"'SSI Inputs'!$D$28","v":387.36263736263737},{"$f":"'SSI Inputs'!$D$30","v":6502.7472527472528},{"$f":"'SSI Inputs'!$D$31","v":2068.6813186813188},{"$f":"'SSI Inputs'!$D$32","v":428.57142857142856},{"$f":"'SSI Inputs'!$D$34","v":1785.7142857142856},{"$f":"'SSI Inputs'!$D$35","v":1071.4285714285713},{"$f":"'SSI Inputs'!$D$36","v":1142.8571428571429},{"$f":"'SSI Inputs'!$D$38","v":1857.1428571428571},{"$f":"'SSI Inputs'!$D$39","v":1071.4285714285713},{"$f":"'SSI Inputs'!$D$40","v":1071.4285714285713},{"$f":"'SSI Inputs'!$Q$18","v":175},{"$f":"'SSI Inputs'!$Q$19","v":175},{"$f":"'SSI Inputs'!$Q$20","v":175},{"$f":"'SSI Inputs'!$Q$21","v":175},"O",{"$f":"'SSI Inputs'!$D$26","v":6543.9560439560446},{"$f":"'SSI Inputs'!$D$27","v":2068.6813186813188},{"$f":"'SSI Inputs'!$D$28","v":387.36263736263737},{"$f":"'SSI Inputs'!$D$30","v":6502.7472527472528},{"$f":"'SSI Inputs'!$D$31","v":2068.6813186813188},{"$f":"'SSI Inputs'!$D$32","v":428.57142857142856},{"$f":"'SSI Inputs'!$D$34","v":1785.7142857142856},{"$f":"'SSI Inputs'!$D$35","v":1071.4285714285713},{"$f":"'SSI Inputs'!$D$36","v":1142.8571428571429},{"$f":"'SSI Inputs'!$D$38","v":1857.1428571428571},{"$f":"'SSI Inputs'!$D$39","v":1071.4285714285713},{"$f":"'SSI Inputs'!$D$40","v":1071.4285714285713},{"$f":"'SSI Inputs'!$Q$18","v":175},{"$f":"'SSI Inputs'!$Q$19","v":175},{"$f":"'SSI Inputs'!$Q$20","v":175},{"$f":"'SSI Inputs'!$Q$21","v":175}]
[null,null,null,null,null,null,null,null,null,null,null,null,null,null,null,null,null,null,null,null,null,null,null,null,null,null,null,null,null,null,null,null,null,null,null,null,null,null,"D",{"$f":"'SSI Inputs'!$E$26","v":7271.062271062272},{"$f":"'SSI Inputs'!$E$27","v":2298.5347985347985},{"$f":"'SSI Inputs'!$E$28","v":430.40293040293039},{"$f":"'SSI Inputs'!$E$30","v":7225.2747252747249},{"$f":"'SSI Inputs'!$E$31","v":2298.5347985347985},{"$f":"'SSI Inputs'!$E$32","v":476.19047619047615},{"$f":"'SSI Inputs'!$E$34","v":2232.1428571428569},{"$f":"'SSI Inputs'!$E$35","v":1339.2857142857142},{"$f":"'SSI Inputs'!$E$36","v":1428.5714285714284},{"$f":"'SSI Inputs'!$E$38","v":2321.4285714285716},{"$f":"'SSI Inputs'!$E$39","v":1339.2857142857142},{"$f":"'SSI Inputs'!$E$40","v":1339.2857142857142},{"$f":"'SSI Inputs'!$R$18","v":175},{"$f":"'SSI Inputs'!$R$19","v":175},{"$f":"'SSI Inputs'!$R$20","v":175},{"$f":"'SSI Inputs'!$R$21","v":175},"D",{"$f":"'SSI Inputs'!$E$26","v":7271.062271062272},{"$f":"'SSI Inputs'!$E$27","v":2298.5347985347985},{"$f":"'SSI Inputs'!$E$28","v":430.40293040293039},{"$f":"'SSI Inputs'!$E$30","v":7225.2747252747249},{"$f":"'SSI Inputs'!$E$31","v":2298.5347985347985},{"$f":"'SSI Inputs'!$E$32","v":476.19047619047615},{"$f":"'SSI Inputs'!$E$34","v":2232.1428571428569},{"$f":"'SSI Inputs'!$E$35","v":1339.2857142857142},{"$f":"'SSI Inputs'!$E$36","v":1428.5714285714284},{"$f":"'SSI Inputs'!$E$38","v":2321.4285714285716},{"$f":"'SSI Inputs'!$E$39","v":1339.2857142857142},{"$f":"'SSI Inputs'!$E$40","v":1339.2857142857142},{"$f":"'SSI Inputs'!$R$18","v":175},{"$f":"'SSI Inputs'!$R$19","v":175},{"$f":"'SSI Inputs'!$R$20","v":175},{"$f":"'SSI Inputs'!$R$21","v":175}]
[]
[]
[]
[]
[]
[]
[]
[]
[]
[]
[]
[]
[]
[]
[]
[]
[]
[]
[]
[]
[]
[]
[]
[]
[]
[]
[]
[]
[]
[]
[]
[]
[]
[]
[]
[]
[]
[]
[]
[]
[]
[]
[]
[]
[]
[]
[]
[null,null,null,null,null,null,null,null,null,"Exposure",null,null,null,null,null,null,null,null,null,null,null,null,null,null,null,null,null,null,null,null,null,null,null,null,null,null,"Exposure-Severity-Complexity Product"]
[null,null,null,null,null,null,null,null,null,"Q1","Q2","I"]
[null,null,null,null,null,null,null,null,null,{"$f":"SUMPRODUCT($AN4:$BC4,$AN$53:$BC$53)","v":2321.4285714285716},{"$f":"SUMPRODUCT($BE4:$BT4,$BE$53:$BT$53)","v":7225.2747252747249},{"$f":"PRODUCT(J103:K103)","v":16772959.183673469},null,null,null,null,null,null,null,null,null,null,null,null,null,null,null,null,null,null,null,null,null,null,null,null,{"$f":"L103*R4*AI4","v":1069650.3859098062}]
[null,null,null,null,null,null,null,null,null,{"$f":"SUMPRODUCT($AN5:$BC5,$AN$53:$BC$53)","v":2232.1428571428569},{"$f":"SUMPRODUCT($BE5:$BT5,$BE$53:$BT$53)","v":7225.2747252747249},{"$f":"PRODUCT(J104:K104)","v":16127845.368916795},null,null,null,null,null,null,null,null,null,null,null,null,null,null,null,null,null,null,null,null,null,null,null,null,{"$f":"L104*R5*AI5","v":1397990.9549148506}]
[null,null,null,null,null,null,null,null,null,2321.4285714285716,7271.062271062272,16879251.700680275,null,null,null,null,null,null,null,null,null,null,null,null,null,null,null,null,null,null,null,null,null,null,null,null,1463124.2217116442]
[null,null,null,null,null,null,null,null,null,2232.1428571428569,7271.062271062272,16230049.712192569,null,null,null,null,null,null,null,null,null,null,null,null,null,null,null,null,null,null,null,null,null,null,null,null,1035027.793716957]
[null,null,null,null,null,null,null,null,null,2321.4285714285716,2298.5347985347985,5335884.3537414968,null,null,null,null,null,null,null,null,null,null,null,null,null,null,null,null,null,null,null,null,null,null,null,null,75105.15436793222]
[null,null,null,null,null,null,null,null,null,1339.2857142857142,7225.2747252747249,9676707.2213500775,null,null,null,null,null,null,null,null,null,null,null,null,null,null,null,null,null,null,null,null,null,null,null,null,1065342.0755149217]
[null,null,null,null,null,null,null,null,null,2232.1428571428569,2298.5347985347985,5130658.032443746,null,null,null,null,null,null,null,null,null,null,null,null,null,null,null,null,null,null,null,null,null,null,null,null,72216.494584550193]
[null,null,null,null,null,null,null,null,null,1339.2857142857142,7271.062271062272,9738029.8273155428,null,null,null,null,null,null,null,null,null,null,null,null,null,null,null,null,null,null,null,null,null,null,null,null,1072093.2927235081]
[null,null,null,null,null,null,null,null,null,2232.1428571428569,1339.2857142857142,2989477.0408163262,null,null,null,null,null,null,null,null,null,null,null,null,null,null,null,null,null,null,null,null,null,null,null,null,21995.887422577762]
[null,null,null,null,null,null,null,null,null,7271.062271062272,2298.5347985347985,16712789.652350094,null,null,null,null,null,null,null,null,null,null,null,null,null,null,null,null,null,null,null,null,null,null,null,null,981316.61847922695]
[null,null,null,null,null,null,null,null,null,2321.4285714285716,1339.2857142857142,3109056.1224489794,null,null,null,null,null,null,null,null,null,null,null,null,null,null,null,null,null,null,null,null,null,null,null,null,22875.722919480875]
[null,null,null,null,null,null,null,null,null,7225.2747252747249,2298.5347985347985,16607545.385017911,null,null,null,null,null,null,null,null,null,null,null,null,null,null,null,null,null,null,null,null,null,null,null,null,975137.04279610817]
[null,null,null,null,null,null,null,null,null,2232.1428571428569,2298.5347985347985,5130658.032443746,null,null,null,null,null,null,null,null,null,null,null,null,null,null,null,null,null,null,null,null,null,null,null,null,8061.2357809570794]
[null,null,null,null,null,null,null,null,null,2232.1428571428569,476.19047619047615,1062925.170068027,null,null,null,null,null,null,null,null,null,null,null,null,null,null,null,null,null,null,null,null,null,null,null,null,7195.8462139191633]
[null,null,null,null,null,null,null,null,null,1339.2857142857142,7225.2747252747249,9676707.2213500775,null,null,null,null,null,null,null,null,null,null,null,null,null,null,null,null,null,null,null,null,null,null,null,null,139499.2654882067]
[null,null,null,null,null,null,null,null,null,1339.2857142857142,7225.2747252747249,9676707.2213500775,null,null,null,null,null,null,null,null,null,null,null,null,null,null,null,null,null,null,null,null,null,null,null,null,188731.20757594143]
[null,null,null,null,null,null,null,null,null,2321.4285714285716,2298.5347985347985,5335884.3537414968,null,null,null,null,null,null,null,null,null,null,null,null,null,null,null,null,null,null,null,null,null,null,null,null,8383.6852121953634]
[null,null,null,null,null,null,null,null,null,2321.4285714285716,430.40293040293039,999149.65986394556,null,null,null,null,null,null,null,null,null,null,null,null,null,null,null,null,null,null,null,null,null,null,null,null,6764.0954410840159]
[null,null,null,null,null,null,null,null,null,1339.2857142857142,7271.062271062272,9738029.8273155428,null,null,null,null,null,null,null,null,null,null,null,null,null,null,null,null,null,null,null,null,null,null,null,null,140383.29125175683]
[null,null,null,null,null,null,null,null,null,1428.5714285714284,7271.062271062272,10387231.815803245,null,null,null,null,null,null,null,null,null,null,null,null,null,null,null,null,null,null,null,null,null,null,null,null,202589.03768861512]
[null,null,null,null,null,null,null,null,null,2321.4285714285716,1339.2857142857142,3109056.1224489794,null,null,null,null,null,null,null,null,null,null,null,null,null,null,null,null,null,null,null,null,null,null,null,null,1.9917045080783056]
[null,null,null,null,null,null,null,null,null,2321.4285714285716,1339.2857142857142,3109056.1224489794,null,null,null,null,null,null,null,null,null,null,null,null,null,null,null,null,null,null,null,null,null,null,null,null,1.9917045080783056]
[null,null,null,null,null,null,null,null,null,7271.062271062272,430.40293040293039,3129486.508607388,null,null,null,null,null,null,null,null,null,null,null,null,null,null,null,null,null,null,null,null,null,null,null,null,21924.001608748898]
[null,null,null,null,null,null,null,null,null,7271.062271062272,2298.5347985347985,16712789.652350094,null,null,null,null,null,null,null,null,null,null,null,null,null,null,null,null,null,null,null,null,null,null,null,null,60971.579759549786]
[null,null,null,null,null,null,null,null,null,2232.1428571428569,1339.2857142857142,2989477.0408163262,null,null,null,null,null,null,null,null,null,null,null,null,null,null,null,null,null,null,null,null,null,null,null,null,1.9151004885368323]
[null,null,null,null,null,null,null,null,null,2232.1428571428569,1428.5714285714284,3188775.510204081,null,null,null,null,null,null,null,null,null,null,null,null,null,null,null,null,null,null,null,null,null,null,null,null,2.0427738544392877]
[null,null,null,null,null,null,null,null,null,7225.2747252747249,476.19047619047615,3440607.0120355831,null,null,null,null,null,null,null,null,null,null,null,null,null,null,null,null,null,null,null,null,null,null,null,null,24103.594458538762]
[null,null,null,null,null,null,null,null,null,7225.2747252747249,2298.5347985347985,16607545.385017911,null,null,null,null,null,null,null,null,null,null,null,null,null,null,null,null,null,null,null,null,null,null,null,null,60587.627745950587]
[null,null,null,null,null,null,null,null,null,350,1339.2857142857142,468750,null,null,null,null,null,null,null,null,null,null,null,null,null,null,null,null,null,null,null,null,null,null,null,null,112498.42396805935]
[null,null,null,null,null,null,null,null,null,175,2298.5347985347985,402243.58974358975,null,null,null,null,null,null,null,null,null,null,null,null,null,null,null,null,null,null,null,null,null,null,null,null,205925.20732247009]
[null,null,null,null,null,null,null,null,null,175,7225.2747252747249,1264423.0769230768,null,null,null,null,null,null,null,null,null,null,null,null,null,null,null,null,null,null,null,null,null,null,null,null,6772873.8594114734]
[null,null,null,null,null,null,null,null,null,175,1339.2857142857142,234375,null,null,null,null,null,null,null,null,null,null,null,null,null,null,null,null,null,null,null,null,null,null,null,null,474426.97470422625]
[null,null,null,null,null,null,null,null,null,175,7271.062271062272,1272435.8974358975,null,null,null,null,null,null,null,null,null,null,null,null,null,null,null,null,null,null,null,null,null,null,null,null,6815794.4795598369]
[null,null,null,null,null,null,null,null,null,350,430.40293040293039,150641.02564102563,null,null,null,null,null,null,null,null,null,null,null,null,null,null,null,null,null,null,null,null,null,null,null,null,90761.522180002808]
[null,null,null,null,null,null,null,null,null,175,1339.2857142857142,234375,null,null,null,null,null,null,null,null,null,null,null,null,null,null,null,null,null,null,null,null,null,null,null,null,28405.852051934984]
[null,null,null,null,null,null,null,null,null,175,2321.4285714285716,406250,null,null,null,null,null,null,null,null,null,null,null,null,null,null,null,null,null,null,null,null,null,null,null,null,616755.06711549417]
[null,null,null,null,null,null,null,null,null,175,2298.5347985347985,402243.58974358975,null,null,null,null,null,null,null,null,null,null,null,null,null,null,null,null,null,null,null,null,null,null,null,null,386109.76372963149]
[null,null,null,null,null,null,null,null,null,175,2232.1428571428569,390624.99999999994,null,null,null,null,null,null,null,null,null,null,null,null,null,null,null,null,null,null,null,null,null,null,null,null,222849.2577296154]
[null,null,null,null,null,null,null,null,null,350,1428.5714285714284,499999.99999999994,null,null,null,null,null,null,null,null,null,null,null,null,null,null,null,null,null,null,null,null,null,null,null,null,119998.31889926329]
[null,null,null,null,null,null,null,null,null,175,2298.5347985347985,402243.58974358975,null,null,null,null,null,null,null,null,null,null,null,null,null,null,null,null,null,null,null,null,null,null,null,null,205925.20732247009]
[null,null,null,null,null,null,null,null,null,175,7271.062271062272,1272435.8974358975,null,null,null,null,null,null,null,null,null,null,null,null,null,null,null,null,null,null,null,null,null,null,null,null,6815794.4795598369]
[null,null,null,null,null,null,null,null,null,175,1339.2857142857142,234375,null,null,null,null,null,null,null,null,null,null,null,null,null,null,null,null,null,null,null,null,null,null,null,null,474426.97470422625]
[null,null,null,null,null,null,null,null,null,175,7225.2747252747249,1264423.0769230768,null,null,null,null,null,null,null,null,null,null,null,null,null,null,null,null,null,null,null,null,null,null,null,null,6772873.8594114734]
[null,null,null,null,null,null,null,null,null,350,476.19047619047615,166666.66666666666,null,null,null,null,null,null,null,null,null,null,null,null,null,null,null,null,null,null,null,null,null,null,null,null,100417.00326298183]
[null,null,null,null,null,null,null,null,null,175,1339.2857142857142,234375,null,null,null,null,null,null,null,null,null,null,null,null,null,null,null,null,null,null,null,null,null,null,null,null,28405.852051934984]
[null,null,null,null,null,null,null,null,null,175,2232.1428571428569,390624.99999999994,null,null,null,null,null,null,null,null,null,null,null,null,null,null,null,null,null,null,null,null,null,null,null,null,593033.71838028275]
[null,null,null,null,null,null,null,null,null,175,2298.5347985347985,402243.58974358975,null,null,null,null,null,null,null,null,null,null,null,null,null,null,null,null,null,null,null,null,null,null,null,null,386109.76372963149]
[null,null,null,null,null,null,null,null,null,175,2321.4285714285716,406250,null,null,null,null,null,null,null,null,null,null,null,null,null,null,null,null,null,null,null,null,null,null,null,null,231763.22803880007]

{"sheet":"QR","index":46,"n_rows":156,"n_cols":95,"rows_kept":156,"cut":false,"hidden":true,"merged":[[0,19,0,28],[0,30,0,32],[1,31,2,31],[1,32,2,32],[1,21,1,25],[1,27,1,28],[1,30,2,30],[1,76,1,79],[1,81,1,84],[1,86,1,89],[1,91,1,94],[100,9,100,11],[100,36,101,36],[1,34,2,34],[1,36,2,36],[1,39,1,54],[1,9,1,11],[1,13,1,17],[1,56,1,71]]}
[null,null,null,null,null,null,null,null,null,null,null,null,null,null,null,null,null,null,null,"Conflicting Traffic Complexity",null,null,null,null,null,null,null,null,null,null,"Pedestrian Complexity",null,null,null,null,null,null,null,null,null,null,null,null,null,null,null,null,null,null,null,null,null,null,null,null,null,null,null,null,null,null,null,null,null,null,null,null,null,null,null,null,null,null,null,null,null,"*impact of median on complexity factors"]
[null,null,null,null,null,null,null,null,null,"Exposure",null,null,null,"Severity",null,null,null,null,null,"Traffic Control",null,"Conflicting Lanes",null,null,null,null,null,"Conflicting Speed",null,null,"Indirect Paths Indicator","Non-intuitive movements indicator","Pedestrian Complexity factor",null,"Total Complexity Multiplier",null,"Exposure-Severity-Complexity Product",null,null,"Included in Mvmt1",null,null,null,null,null,null,null,null,null,null,null,null,null,null,null,null,"Included in Mvmt2",null,null,null,null,null,null,null,null,null,null,null,null,null,null,null,null,null,null,null,"Major:No, Minor: No",null,null,null,null,"Major:Yes, Minor: No",null,null,null,null,"Major:No, Minor: Yes",null,null,null,null,"Major:Yes, Minor: Yes"]
["#","Conflict Type","Mvmt1","Mvmt1_gen","Mvmt1_SpeedCat","Mvmt2","Mvmt2_gen","Mvmt2_SpeedCat",null,"Q1","Q2","I",null,"Speed_V1","Speed_V2","Angle","delta_V","P_FSI",null,null,null,"MajC","MinC","MajM/P","MinM/P","Score",null,"Speed","Factor",null,null,null,null,null,null,null,null,null,null,"MajT1","MajL1","MajR1","MajT2","MajL2","MajR2","MinT1","MinL1","MinR1","MinT2","MinL2","MinR2","MajNM1","MajNM2","MinNM1","MinNM2",null,"MajT1","MajL1","MajR1","MajT2","MajL2","MajR2","MinT1","MinL1","MinR1","MinT2","MinL2","MinR2","MajNM1","MajNM2","MinNM1","MinNM2",null,null,"#","Conflict Type","MajC","MinC","MajM/P","MinM/P",null,"MajC","MinC","MajM/P","MinM/P",null,"MajC","MinC","MajM/P","MinM/P",null,"MajC","MinC","MajM/P","MinM/P"]
[1,"Crossing","SBT, WBL","MinT2, MajL2","Signal near","WBT, NBL","MajT2, MinL1","Major thru",null,{"$f":"SUMPRODUCT($AN4:$BC4,$AN$74:$BC$74)","v":3925.8241758241757},{"$f":"SUMPRODUCT($BE4:$BT4,$BE$74:$BT$74)","v":7574.1758241758243},{"$f":"PRODUCT(J4:K4)","v":29734882.562492453},null,{"$f":"VLOOKUP(E4,SSI_AGI_Range_VehSpeed,5,FALSE)","v":15},{"$f":"VLOOKUP(H4,SSI_AGI_Range_VehSpeed,5,FALSE)","v":45},{"$f":"IF(B4=\"Nonmotorized\",\"\",VLOOKUP(B4,SSI_AGI_Range_CollAngles,5,FALSE))","v":90},{"$f":"IF(B4=\"Nonmotorized\",\"\",SQRT(N4^2+O4^2-2*N4*O4*COS(RADIANS(P4)))/2)","v":23.717082451262844},{"$f":"IF(B4=\"Nonmotorized\",1/(1+EXP(3.8432-0.1237*O4)),(Q4/SSI_AGI_RegAlpha)^SSI_AGI_RegK+(Q4/SSI_AGI_RegAlpha)^SSI_AGI_RegK-((Q4/SSI_AGI_RegAlpha)^SSI_AGI_RegK)*((Q4/SSI_AGI_RegAlpha)^SSI_AGI_RegK))","v":3.7884541771032863E-2},null,{"$f":"SSI_AGI_ProtFactor","v":0.505},null,{"$f":"IF(AND(SS_AGI_MajMedian=\"No\", SS_AGI_MinMedian=\"No\"),BY4,IF(AND(SS_AGI_MajMedian=\"Yes\",SS_AGI_MinMedian=\"No\"),CD4,IF(AND(SS_AGI_MajMedian=\"No\",SS_AGI_MinMedian=\"Yes\"),CI4,IF(AND(SS_AGI_MajMedian=\"Yes\",SS_AGI_MinMedian=\"Yes\"),CN4))))","v":2},{"$f":"IF(AND(SS_AGI_MajMedian=\"No\", SS_AGI_MinMedian=\"No\"),BZ4,IF(AND(SS_AGI_MajMedian=\"Yes\",SS_AGI_MinMedian=\"No\"),CE4,IF(AND(SS_AGI_MajMedian=\"No\",SS_AGI_MinMedian=\"Yes\"),CJ4,IF(AND(SS_AGI_MajMedian=\"Yes\",SS_AGI_MinMedian=\"Yes\"),CO4))))","v":0},{"$f":"IF(AND(SS_AGI_MajMedian=\"No\", SS_AGI_MinMedian=\"No\"),CA4,IF(AND(SS_AGI_MajMedian=\"Yes\",SS_AGI_MinMedian=\"No\"),CF4,IF(AND(SS_AGI_MajMedian=\"No\",SS_AGI_MinMedian=\"Yes\"),CK4,IF(AND(SS_AGI_MajMedian=\"Yes\",SS_AGI_MinMedian=\"Yes\"),CP4))))","v":0},{"$f":"IF(AND(SS_AGI_MajMedian=\"No\", SS_AGI_MinMedian=\"No\"),CB4,IF(AND(SS_AGI_MajMedian=\"Yes\",SS_AGI_MinMedian=\"No\"),CG4,IF(AND(SS_AGI_MajMedian=\"No\",SS_AGI_MinMedian=\"Yes\"),CL4,IF(AND(SS_AGI_MajMedian=\"Yes\",SS_AGI_MinMedian=\"Yes\"),CQ4))))","v":0},{"$f":"MAX(1,IF(B4<>\"Pedestrian\",V4*SSI_AGI_MajorThruLanes+W4*SSI_AGI_MinorThruLanes+X4*IF(SSI_AGI_MajorThruLanes=1,SSI_AGI_MergeWeightL1,IF(SSI_AGI_MajorThruLanes=2,SSI_AGI_MergeWeightL1+SSI_AGI_MergeWeightL2,SSI_AGI_MergeWeightL1+SSI_AGI_MergeWeightL2+SSI_AGI_MergeWeightL3*(SSI_AGI_MajorThruLanes-2)))+Y4*IF(SSI_AGI_MinorThruLanes=1,SSI_AGI_MergeWeightL1,IF(SSI_AGI_MinorThruLanes=2,SSI_AGI_MergeWeightL1+SSI_AGI_MergeWeightL2,SSI_AGI_MergeWeightL1+SSI_AGI_MergeWeightL2+SSI_AGI_MergeWeightL3*(SSI_AGI_MinorThruLanes-2))),V4*SSI_AGI_MajorThruLanes+W4*SSI_AGI_MinorThruLanes+X4*IF(SSI_AGI_MajorThruLanes=1,SSI_AGI_NM_MergeWeightL1,IF(SSI_AGI_MajorThruLanes=2,SSI_AGI_NM_MergeWeightL1+SSI_AGI_NM_MergeWeightL2,SSI_AGI_NM_MergeWeightL1+SSI_AGI_NM_MergeWeightL2+SSI_AGI_NM_MergeWeightL3*(SSI_AGI_MajorThruLanes-2)))+Y4*IF(SSI_AGI_MinorThruLanes=1,SSI_AGI_NM_MergeWeightL1,IF(SSI_AGI_MinorThruLanes=2,SSI_AGI_NM_MergeWeightL1+SSI_AGI_NM_MergeWeightL2,SSI_AGI_NM_MergeWeightL1+SSI_AGI_NM_MergeWeightL2+SSI_AGI_NM_MergeWeightL3*(SSI_AGI_MinorThruLanes-2)))))","v":4},null,{"$f":"IF(B4=\"Diverging\",\"\",SSI_AGI_VehSpeed_MjrThru)","v":45},{"$f":"IF(B4=\"Diverging\",1,1-((60-AB4)/60*0.1/0.15))","v":0.83333333333333326},null,null,null,{"$f":"IF(SSI_AGI_ConsiderNMComplexity=\"Yes\",1+AE4+AF4,1)","v":1},null,{"$f":"PRODUCT(Z4,T4,AC4,AG4)","v":1.6833333333333331},null,{"$f":"L4*R4*AI4","v":1896262.2075007614},null,null,{"$f":"IF(ISNUMBER(SEARCH(AN$3,$D4)),1,\"\")","v":""},{"$f":"IF(ISNUMBER(SEARCH(AO$3,$D4)),1,\"\")","v":""},"","",1,"","","","",1,"","","","","","",null,{"$f":"IF(ISNUMBER(SEARCH(BE$3,$G4)),1,\"\")","v":""},{"$f":"IF(ISNUMBER(SEARCH(BF$3,$G4)),1,\"\")","v":""},"",1,"","","",1,"","","","","","","","",null,null,1,"Crossing",2,0,0,0,null,1,0,0,0,null,2,0,0,0,null,{"$f":"IF(OR(CD4=\"\",CI4=\"\"),\"\",MIN(CD4,CI4))","v":1},{"$f":"IF(OR(CE4=\"\",CJ4=\"\"),\"\",MIN(CE4,CJ4))","v":0},0,0]
[2,"Crossing","NBT, NBL","MinT1, MinL1","Signal far","WBT, NBL","MajT2, MinL1","Major thru",null,2857.1428571428569,7574.1758241758243,{"$f":"PRODUCT(J5:K5)","v":21640502.354788069},null,25,45,90,{"$f":"IF(B5=\"Nonmotorized\",\"\",SQRT(N5^2+O5^2-2*N5*O5*COS(RADIANS(P5)))/2)","v":25.739075352467502},5.1494149230103807E-2,null,0.505,null,2,0,0,0,4,null,{"$f":"IF(B5=\"Diverging\",\"\",SSI_AGI_VehSpeed_MjrThru)","v":45},0.83333333333333326,null,null,null,1,null,1.6833333333333331,null,{"$f":"L5*R5*AI5","v":1875838.083747647},null,null,{"$f":"IF(ISNUMBER(SEARCH(AN$3,$D5)),1,\"\")","v":""},"","","","","",1,1,"","","","","","","","",null,{"$f":"IF(ISNUMBER(SEARCH(BE$3,$G5)),1,\"\")","v":""},"","",1,"","","",1,"","","","","","","","",null,null,2,"Crossing",2,0,0,0,null,1,0,0,0,null,2,0,0,0,null,{"$f":"IF(OR(CD5=\"\",CI5=\"\"),\"\",MIN(CD5,CI5))","v":1},0,0,0]
[3,"Crossing","NBT, NBL","MinT1, MinL1","Signal near","EBT, EBL","MajT1, MajL1","Major thru",null,2857.1428571428569,8612.6373626373643,24607535.321821038,null,15,45,90,23.717082451262844,3.7884541771032863E-2,null,0.505,null,2,0,0,0,4,null,{"$f":"IF(B6=\"Diverging\",\"\",SSI_AGI_VehSpeed_MjrThru)","v":45},0.83333333333333326,null,null,null,1,null,1.6833333333333331,null,1569279.419632521,null,null,"","","","","","",1,1,"","","","","","","","",null,1,1,"","","","","","","","","","","","","","",null,null,3,"Crossing",2,0,0,0,null,1,0,0,0,null,2,0,0,0,null,1,0,0,0]
[4,"Crossing","SBT, WBL","MinT2, MajL2","Signal far","EBT, EBL","MajT1, MajL1","Major thru",null,3925.8241758241757,8612.6373626373643,33811699.975848332,null,25,45,90,25.739075352467502,5.1494149230103807E-2,null,0.505,null,2,0,0,0,4,null,{"$f":"IF(B7=\"Diverging\",\"\",SSI_AGI_VehSpeed_MjrThru)","v":45},0.83333333333333326,null,null,null,1,null,1.6833333333333331,null,2930859.6192043824,null,null,"","","","",1,"","","","",1,"","","","","","",null,1,1,"","","","","","","","","","","","","","",null,null,4,"Crossing",2,0,0,0,null,1,0,0,0,null,2,0,0,0,null,1,0,0,0]
[5,"Crossing - LT","SBL","MinL2","Minor left","WBL","MajL2","Signal near",null,1071.4285714285713,2068.6813186813188,2216444.2700156984,null,20,15,230,15.895538413434787,8.3616736100371545E-3,null,0.505,null,0,1,0,1,2,null,{"$f":"IF(B8=\"Diverging\",\"\",SSI_AGI_VehSpeed_MnrThru)","v":29.75},0.66388888888888886,null,null,null,1,null,0.67052777777777772,null,12427.014388109399,null,null,"","","","","","","","","","",1,"","","","","",null,"","","","",1,"","","","","","","","","","","",null,null,5,"Crossing - LT",0,1,0,1,null,0,1,0,1,null,0,1,0,0,null,{"$f":"IF(OR(CD8=\"\",CI8=\"\"),\"\",MIN(CD8,CI8))","v":0},1,0,0]
[6,"Crossing - LT","NBT, WBR","MinT1, MajR2","Minor thru","WBL","MajL2","Signal near",null,2214.2857142857142,2068.6813186813188,4580651.4913657773,null,29.75,15,230,20.516764131102867,2.1946207825979773E-2,null,0.505,null,0,1,0,1,2,null,{"$f":"IF(B9=\"Diverging\",\"\",SSI_AGI_VehSpeed_MnrThru)","v":29.75},0.66388888888888886,null,null,null,1,null,0.67052777777777772,null,67406.7692445844,null,null,"","","","","",1,1,"","","","","","","","","",null,"","","","",1,"","","","","","","","","","","",null,null,6,"Crossing - LT",0,1,0,1,null,0,1,0,1,null,0,1,0,0,null,{"$f":"IF(OR(CD9=\"\",CI9=\"\"),\"\",MIN(CD9,CI9))","v":0},1,0,0]
[7,"Crossing - LT","SBL","MinL2","Minor left","NBT, WBR","MinT1, MajR2","Minor thru",null,1071.4285714285713,2214.2857142857142,2372448.9795918362,null,20,29.75,230,22.638351063665073,3.1800138918649752E-2,null,{"$f":"IF(SSI_AGI_MinorLTPhase=\"Protected/permitted\",SSI_AGI_ProtPermFactor,IF(SSI_AGI_MinorLTPhase=\"Protected\",SSI_AGI_ProtFactor,SSI_AGI_PermFactor))","v":0.505},null,0,1,0,0,1,null,{"$f":"IF(B10=\"Diverging\",\"\",SSI_AGI_VehSpeed_MnrThru)","v":29.75},0.66388888888888886,null,null,null,1,null,0.33526388888888886,null,25293.718276016021,null,null,"","","","","","","","","","",1,"","","","","",null,"","","","","",1,1,"","","","","","","","","",null,null,7,"Crossing - LT",0,1,0,0,null,0,1,0,0,null,0,1,0,0,null,0,1,0,0]
[8,"Crossing - LT","SBL","MinL2","Signal near","WBT","MajT2","Major thru",null,1071.4285714285713,6502.7472527472528,6967229.1993720559,null,15,45,230,27.918467333813421,6.9762185672148203E-2,null,{"$f":"SSI_AGI_ProtFactor","v":0.505},null,1,0,1,0,3.75,null,{"$f":"IF(B11=\"Diverging\",\"\",SSI_AGI_VehSpeed_MjrThru)","v":45},0.83333333333333326,null,null,null,1,null,1.578125,null,767046.29437074356,null,null,"","","","","","","","","","",1,"","","","","",null,"","","",1,"","","","","","","","","","","","",null,null,8,"Crossing - LT",1,0,1,0,null,1,0,0,0,null,1,0,1,0,null,1,0,0,0]
[9,"Crossing - LT","EBL","MajL1","Major left","WBT","MajT2","Major thru",null,2068.6813186813188,6502.7472527472528,13452111.761864509,null,20,45,230,29.924979939156898,9.0286582411373745E-2,null,{"$f":"IF(SSI_AGI_MajorLTPhase=\"Protected/permitted\",SSI_AGI_ProtPermFactor,IF(SSI_AGI_MajorLTPhase=\"Protected\",SSI_AGI_ProtFactor,SSI_AGI_PermFactor))","v":0.505},null,1,0,0,0,2,null,45,0.83333333333333326,null,null,null,1,null,0.84166666666666656,null,1022242.2076387798,null,null,"",1,"","","","","","","","","","","","","","",null,"","","",1,"","","","","","","","","","","","",null,null,9,"Crossing - LT",1,0,0,0,null,1,0,0,0,null,1,0,0,0,null,1,0,0,0]
[10,"Crossing - LT","SBL","MinL2","Signal near","EBL","MajL1","Major left",null,1071.4285714285713,2068.6813186813188,2216444.2700156984,null,15,20,230,15.895538413434787,8.3616736100371545E-3,null,{"$f":"SSI_AGI_ProtFactor","v":0.505},null,1,0,1,0,3.75,null,45,0.83333333333333326,null,null,null,1,null,1.578125,null,29247.680306742834,null,null,"","","","","","","","","","",1,"","","","","",null,"",1,"","","","","","","","","","","","","","",null,null,10,"Crossing - LT",1,0,1,0,null,0,0,1,0,null,1,0,1,0,null,0,0,1,0]
[11,"Merging","NBT, NBL","MinT1, MinL1","Signal far","WBR","MajR2","Major right",null,2857.1428571428569,428.57142857142856,1224489.7959183671,null,25,15,45,8.9396576292116645,9.4329959592674944E-4,null,0.505,null,2,0,0,0,4,null,45,0.83333333333333326,null,null,null,1,null,1.6833333333333331,null,1944.3522283388095,null,null,"","","","","","",1,1,"","","","","","","","",null,"","","","","",1,"","","","","","","","","","",null,null,11,"Merging",2,0,0,0,null,1,0,0,0,null,2,0,0,0,null,1,0,0,0]
[12,"Merging","NBR","MinR1","Signal near","EBT, EBL","MajT1, MajL1","Major thru",null,1142.8571428571429,8612.6373626373643,9843014.1287284158,null,15,45,45,17.995873453365363,1.3373938286506865E-2,null,0.505,null,0,0,1,0,1.75,null,45,0.83333333333333326,null,null,null,1,null,0.73645833333333333,null,96947.274481412605,null,null,"","","","","","","","",1,"","","","","","","",null,1,1,"","","","","","","","","","","","","","",null,null,12,"Merging",0,0,1,0,null,0,0,1,0,null,0,0,1,0,null,0,0,1,0]
[13,"Merging","EBR","MajR1","Major right","SBT, WBL","MinT1, MajL2","Signal far",null,387.36263736263737,3854.3956043956041,1493048.8467576378,null,15,25,45,8.9396576292116645,9.4329959592674944E-4,null,0.505,null,2,0,0,0,4,null,45,0.83333333333333326,null,null,null,1,null,1.6833333333333331,null,2370.793829306388,null,null,"","",1,"","","","","","","","","","","","","",null,"","","","",1,"",1,"","","","","","","","","",null,null,13,"Merging",2,0,0,0,null,1,0,0,0,null,2,0,0,0,null,1,0,0,0]
[14,"Merging","SBR","MinR2","Signal near","WBT, NBL","MajT2, MinL1","Major thru",null,1071.4285714285713,7574.1758241758243,8115188.3830455253,null,15,45,45,17.995873453365363,1.3373938286506865E-2,null,0.505,null,0,0,1,0,1.75,null,45,0.83333333333333326,null,null,null,1,null,0.73645833333333333,null,79929.316909466041,null,null,"","","","","","","","","","","",1,"","","","",null,"","","",1,"","","",1,"","","","","","","","",null,null,14,"Merging",0,0,1,0,null,0,0,1,0,null,0,0,1,0,null,0,0,1,0]
[15,"Merging","SBT, SBR","MinT2, MinR2","Minor thru","WBL","MajL2","Signal far",null,2928.5714285714284,2068.6813186813188,6058281.0047095763,null,29.75,25,45,10.703284110321123,1.8675169807025405E-3,null,0.505,null,0,1,0,1,2,null,{"$f":"IF(B18=\"Diverging\",\"\",SSI_AGI_VehSpeed_MnrThru)","v":29.75},0.66388888888888886,null,null,null,1,null,0.67052777777777772,null,7586.3128231188712,null,null,"","","","","","","","","",1,"",1,"","","","",null,"","","","",1,"","","","","","","","","","","",null,null,15,"Merging",0,1,0,1,null,0,1,0,1,null,0,0,0,1,null,0,0,0,1]
[16,"Merging","SBL","MinL2","Minor left","NBL","MinL1","Minor right",null,1071.4285714285713,1071.4285714285713,1147959.1836734691,null,20,15,45,7.0840654162717795,3.9022923271840544E-4,null,0.505,null,0,0,1,0,1.75,null,{"$f":"IF(B19=\"Diverging\",\"\",SSI_AGI_VehSpeed_MnrThru)","v":29.75},0.66388888888888886,null,null,null,1,null,0.58671180555555558,null,262.82766318609339,null,null,"","","","","","","","","","",1,"","","","","",null,"","","","","","","",1,"","","","","","","","",null,null,16,"Merging",0,0,1,0,null,0,0,1,0,null,0,0,1,0,null,0,0,1,0]
[17,"Merging","NBT, WBR","MinT1, MajR2","Minor thru","EBL","MajL1","Signal near",null,2214.2857142857142,2068.6813186813188,4580651.4913657773,null,29.75,15,45,10.942688172828081,2.0309556354165454E-3,null,0.505,null,0,0,0,1,1,null,{"$f":"IF(B20=\"Diverging\",\"\",SSI_AGI_VehSpeed_MnrThru)","v":29.75},0.66388888888888886,null,null,null,1,null,0.33526388888888886,null,3118.993471401694,null,null,"","","","","",1,1,"","","","","","","","","",null,"",1,"","","","","","","","","","","","","","",null,null,17,"Merging",0,0,0,1,null,0,0,0,1,null,0,0,0,1,null,0,0,0,1]
[18,"Merging","NBL","MinL1","Signal near","WBT","MajT2","Major thru",null,1071.4285714285713,6502.7472527472528,6967229.1993720559,null,15,45,45,17.995873453365363,1.3373938286506865E-2,null,0.505,null,0,0,1,0,1.75,null,{"$f":"IF(B21=\"Diverging\",\"\",SSI_AGI_VehSpeed_MjrThru)","v":45},0.83333333333333326,null,null,null,1,null,0.73645833333333333,null,68622.667074612313,null,null,"","","","","","","",1,"","","","","","","","",null,"","","",1,"","","","","","","","","","","","",null,null,18,"Merging",0,0,1,0,null,0,0,1,0,null,0,0,1,0,null,0,0,1,0]
[19,"Merging","EBT, NBR","MajT1, MinR1","Major thru","SBL","MinL2","Signal far",null,7686.8131868131877,1071.4285714285713,8235871.2715855576,null,45,25,45,16.271214938736659,9.1348815406664795E-3,null,0.505,null,1,0,1,0,3.75,null,45,0.83333333333333326,null,null,null,1,null,1.578125,null,118728.19614783343,null,null,1,"","","","","","","",1,"","","","","","","",null,"","","","","","","","","","",1,"","","","","",null,null,19,"Merging",1,0,1,0,null,0,0,1,0,null,1,0,1,0,null,0,0,1,0]
[20,"Merging","WBR","MajR2","Major right","EBL","MajL1","Major left",null,428.57142857142856,2068.6813186813188,886577.70800627943,null,15,20,45,7.0840654162717795,3.9022923271840544E-4,null,0.505,null,1,0,0,0,2,null,45,0.83333333333333326,null,null,null,1,null,0.84166666666666656,null,291.19018677328182,null,null,"","","","","",1,"","","","","","","","","","",null,"",1,"","","","","","","","","","","","","","",null,null,20,"Merging",1,0,0,0,null,1,0,0,0,null,1,0,0,0,null,1,0,0,0]
[21,"Diverging","SBT, WBL","MinT2, MajL2","Signal near","SBR","MinR1","Signal near",null,3925.8241758241757,1142.8571428571429,4486656.2009419156,null,15,15,10,1.3073361412148754,6.4061388075216071E-7,null,1,null,0,0,0,0,1,null,"",1,null,null,null,1,null,1,null,2.8742142404861468,null,null,"","","","",1,"","","","",1,"","","","","","",null,"","","","","","","","",1,"","","","","","","",null,null,21,"Diverging",0,0,0,0,null,0,0,0,0,null,0,0,0,0,null,0,0,0,0]
[22,"Diverging","WBT, NBL","MajT2, MinL1","Major thru","WBR","MajR2","Major right",null,7574.1758241758243,428.57142857142856,3246075.3532182104,null,45,15,10,15.169950011729762,7.0056226631585675E-3,null,1,null,0,0,0,0,1,null,"",1,null,null,null,1,null,1,null,22740.779060825946,null,null,"","","",1,"","","",1,"","","","","","","","",null,"","","","","",1,"","","","","","","","","","",null,null,22,"Diverging",0,0,0,0,null,0,0,0,0,null,0,0,0,0,null,{"$f":"IF(OR(CD25=\"\",CI25=\"\"),\"\",MIN(CD25,CI25))","v":0},0,0,0]
[23,"Diverging","NBT, NBL","MinT1, MinL1","Signal near","NBR","MinR1","Signal near",null,2857.1428571428569,1142.8571428571429,3265306.1224489794,null,15,15,10,1.3073361412148754,6.4061388075216071E-7,null,1,null,0,0,0,0,1,null,"",1,null,null,null,1,null,1,null,2.0918004269458308,null,null,"","","","","","",1,1,"","","","","","","","",null,"","","","","","","","",1,"","","","","","","",null,null,23,"Diverging",0,0,0,0,null,0,0,0,0,null,0,0,0,0,null,0,0,0,0]
[24,"Diverging","EBT, EBL","MajT1, MajL1","Major thru","EBR","MajR1","Major right",null,8612.6373626373643,387.36263736263737,3336213.9234391991,null,45,15,10,15.169950011729762,7.0056226631585675E-3,null,1,null,0,0,0,0,1,null,"",1,null,null,null,1,null,1,null,23372.255871190817,null,null,1,1,"","","","","","","","","","","","","","",null,"","",1,"","","","","","","","","","","","","",null,null,24,"Diverging",0,0,0,0,null,0,0,0,0,null,0,0,0,0,null,0,0,0,0]
[25,"Diverging","NBT, WBR","MinT1, MajR2","Minor thru","NBL","MinL1","Minor right",null,2214.2857142857142,1071.4285714285713,2372448.9795918362,null,29.75,15,10,7.6013416650714412,5.098561852088457E-4,null,1,null,0,0,0,0,1,null,"",1,null,null,null,1,null,1,null,1209.6077863373123,null,null,"","","","","",1,1,"","","","","","","","","",null,"","","","","","","",1,"","","","","","","","",null,null,25,"Diverging",0,0,0,0,null,0,0,0,0,null,0,0,0,0,null,0,0,0,0]
[26,"Diverging","SBT, SBR","MinT2, MinR2","Minor thru","SBL","MinL2","Minor left",null,2928.5714285714284,1071.4285714285713,3137755.1020408161,null,29.75,20,10,5.3183943515753072,1.314997560105331E-4,null,1,null,0,0,0,0,1,null,"",1,null,null,null,1,null,1,null,412.6140303391727,null,null,"","","","","","","","","",1,"",1,"","","","",null,"","","","","","","","","","",1,"","","","","",null,null,26,"Diverging",0,0,0,0,null,0,0,0,0,null,0,0,0,0,null,0,0,0,0]
[27,"Diverging","WBR, EBL","MajR2, MajL1","Signal near","WBL","MajL2","Signal near",null,2497.2527472527472,2068.6813186813188,5166020.1062673591,null,15,15,10,1.3073361412148754,6.4061388075216071E-7,null,1,null,0,0,0,0,1,null,"",1,null,null,null,1,null,1,null,3.3094241883196225,null,null,"",1,"","","",1,"","","","","","","","","","",null,"","","","",1,"","","","","","","","","","","",null,null,27,"Diverging",0,0,0,0,null,0,0,0,0,null,0,0,0,0,null,0,0,0,0]
[28,"Diverging","EBT, NBR","MajT1, MinR1","Major thru","EBL","MajL1","Major left",null,7686.8131868131877,2068.6813186813188,15901566.839753656,null,45,20,10,12.77053292327718,3.6481988362114144E-3,null,1,null,0,0,0,0,1,null,"",1,null,null,null,1,null,1,null,58012.077638727307,null,null,1,"","","","","","","",1,"","","","","","","",null,"",1,"","","","","","","","","","","","","","",null,null,28,"Diverging",0,0,0,0,null,0,0,0,0,null,0,0,0,0,null,0,0,0,0]
[29,"Diverging","NBL","MinL1","Signal near","SBL","MinL2","Signal near",null,1071.4285714285713,1071.4285714285713,1147959.1836734691,null,15,15,10,1.3073361412148754,6.4061388075216071E-7,null,1,null,0,0,0,0,1,null,"",1,null,null,null,1,null,1,null,0.73539858759814347,null,null,"","","","","","","",1,"","","","","","","","",null,"","","","","","","","","","",1,"","","","","",null,null,29,"Diverging",0,0,0,0,null,0,0,0,0,null,0,0,0,0,null,0,0,0,0]
[30,"Diverging","WBT","MajT2","Major thru","WBR, WBL","MajR2, MajL2","Major right",null,6502.7472527472528,2497.2527472527472,16239003.441613331,null,45,15,10,15.169950011729762,7.0056226631585675E-3,null,1,null,0,0,0,0,1,null,"",1,null,null,null,1,null,1,null,113764.33053767633,null,null,"","","",1,"","","","","","","","","","","","",null,"","","","",1,1,"","","","","","","","","","",null,null,30,"Diverging",0,0,0,0,null,0,0,0,0,null,0,0,0,0,null,0,0,0,0]
[31,"Nonmotorized",null,"MajNM1","Nonmotorized","SBR","MinR2","Signal near",null,175,1071.4285714285713,187499.99999999997,null,0,15,"","",0.1205004039155782,null,{"$f":"SSI_AGI_ProtFactor","v":0.505},null,2,0,0,1,5,null,45,0.83333333333333326,null,null,null,1,null,2.1041666666666665,null,47541.174982317956,null,null,"","","","","","","","","","","","",1,"","","",null,"","","","","","","","","","","",1,"","","","",null,null,31,"Nonmotorized",2,0,0,1,null,1,0,0,1,null,2,0,0,1,null,1,0,0,1]
[32,"Nonmotorized",null,"MajNM1","Nonmotorized","WBT","MajT2","Major thru",null,175,6502.7472527472528,1137980.7692307692,null,0,45,"","",0.84855340903216459,null,0.505,null,2,0,0,1,5,null,45,0.83333333333333326,null,null,null,1,null,2.1041666666666665,null,2031862.1578234422,null,null,{"$f":"IF(ISNUMBER(SEARCH(AN$3,$D35)),1,\"\")","v":""},"","","","","","","","","","","",1,"","","",null,{"$f":"IF(ISNUMBER(SEARCH(BE$3,$G35)),1,\"\")","v":""},"","",1,"","","","","","","","","","","","",null,null,32,"Nonmotorized",2,0,0,1,null,1,0,0,1,null,2,0,0,1,null,1,0,0,1]
[33,"Nonmotorized",null,"MajNM1","Nonmotorized","EBT","MajT1","Major thru",null,{"$f":"SUMPRODUCT($AN36:$BC36,$AN$74:$BC$74)","v":175},{"$f":"SUMPRODUCT($BE36:$BT36,$BE$74:$BT$74)","v":6543.9560439560446},1145192.3076923077,null,{"$f":"VLOOKUP(E36,SSI_AGI_Range_VehSpeed,5,FALSE)","v":0},{"$f":"VLOOKUP(H36,SSI_AGI_Range_VehSpeed,5,FALSE)","v":45},{"$f":"IF(B36=\"Nonmotorized\",\"\",VLOOKUP(B36,SSI_AGI_Range_CollAngles,5,FALSE))","v":""},{"$f":"IF(B36=\"Nonmotorized\",\"\",SQRT(N36^2+O36^2-2*N36*O36*COS(RADIANS(P36)))/2)","v":""},{"$f":"IF(B36=\"Nonmotorized\",1/(1+EXP(3.8432-0.1237*O36)),(Q36/SSI_AGI_RegAlpha)^SSI_AGI_RegK+(Q36/SSI_AGI_RegAlpha)^SSI_AGI_RegK-((Q36/SSI_AGI_RegAlpha)^SSI_AGI_RegK)*((Q36/SSI_AGI_RegAlpha)^SSI_AGI_RegK))","v":0.84855340903216459},null,0.505,null,{"$f":"IF(AND(SS_AGI_MajMedian=\"No\", SS_AGI_MinMedian=\"No\"),BY36,IF(AND(SS_AGI_MajMedian=\"Yes\",SS_AGI_MinMedian=\"No\"),CD36,IF(AND(SS_AGI_MajMedian=\"No\",SS_AGI_MinMedian=\"Yes\"),CI36,IF(AND(SS_AGI_MajMedian=\"Yes\",SS_AGI_MinMedian=\"Yes\"),CN36))))","v":2},{"$f":"IF(AND(SS_AGI_MajMedian=\"No\", SS_AGI_MinMedian=\"No\"),BZ36,IF(AND(SS_AGI_MajMedian=\"Yes\",SS_AGI_MinMedian=\"No\"),CE36,IF(AND(SS_AGI_MajMedian=\"No\",SS_AGI_MinMedian=\"Yes\"),CJ36,IF(AND(SS_AGI_MajMedian=\"Yes\",SS_AGI_MinMedian=\"Yes\"),CO36))))","v":0},{"$f":"IF(AND(SS_AGI_MajMedian=\"No\", SS_AGI_MinMedian=\"No\"),CA36,IF(AND(SS_AGI_MajMedian=\"Yes\",SS_AGI_MinMedian=\"No\"),CF36,IF(AND(SS_AGI_MajMedian=\"No\",SS_AGI_MinMedian=\"Yes\"),CK36,IF(AND(SS_AGI_MajMedian=\"Yes\",SS_AGI_MinMedian=\"Yes\"),CP36))))","v":0},{"$f":"IF(AND(SS_AGI_MajMedian=\"No\", SS_AGI_MinMedian=\"No\"),CB36,IF(AND(SS_AGI_MajMedian=\"Yes\",SS_AGI_MinMedian=\"No\"),CG36,IF(AND(SS_AGI_MajMedian=\"No\",SS_AGI_MinMedian=\"Yes\"),CL36,IF(AND(SS_AGI_MajMedian=\"Yes\",SS_AGI_MinMedian=\"Yes\"),CQ36))))","v":1},{"$f":"MAX(1,IF(B36<>\"Pedestrian\",V36*SSI_AGI_MajorThruLanes+W36*SSI_AGI_MinorThruLanes+X36*IF(SSI_AGI_MajorThruLanes=1,SSI_AGI_MergeWeightL1,IF(SSI_AGI_MajorThruLanes=2,SSI_AGI_MergeWeightL1+SSI_AGI_MergeWeightL2,SSI_AGI_MergeWeightL1+SSI_AGI_MergeWeightL2+SSI_AGI_MergeWeightL3*(SSI_AGI_MajorThruLanes-2)))+Y36*IF(SSI_AGI_MinorThruLanes=1,SSI_AGI_MergeWeightL1,IF(SSI_AGI_MinorThruLanes=2,SSI_AGI_MergeWeightL1+SSI_AGI_MergeWeightL2,SSI_AGI_MergeWeightL1+SSI_AGI_MergeWeightL2+SSI_AGI_MergeWeightL3*(SSI_AGI_MinorThruLanes-2))),V36*SSI_AGI_MajorThruLanes+W36*SSI_AGI_MinorThruLanes+X36*IF(SSI_AGI_MajorThruLanes=1,SSI_AGI_NM_MergeWeightL1,IF(SSI_AGI_MajorThruLanes=2,SSI_AGI_NM_MergeWeightL1+SSI_AGI_NM_MergeWeightL2,SSI_AGI_NM_MergeWeightL1+SSI_AGI_NM_MergeWeightL2+SSI_AGI_NM_MergeWeightL3*(SSI_AGI_MajorThruLanes-2)))+Y36*IF(SSI_AGI_MinorThruLanes=1,SSI_AGI_NM_MergeWeightL1,IF(SSI_AGI_MinorThruLanes=2,SSI_AGI_NM_MergeWeightL1+SSI_AGI_NM_MergeWeightL2,SSI_AGI_NM_MergeWeightL1+SSI_AGI_NM_MergeWeightL2+SSI_AGI_NM_MergeWeightL3*(SSI_AGI_MinorThruLanes-2)))))","v":5},null,45,0.83333333333333326,null,null,null,{"$f":"IF(SSI_AGI_ConsiderNMComplexity=\"Yes\",1+AE36+AF36,1)","v":1},null,2.1041666666666665,null,2044738.3438679511,null,null,"","","","","","","","","","","","",1,"","","",null,1,"","","","","","","","","","","","","","","",null,null,33,"Nonmotorized",2,0,0,1,null,1,0,0,0,null,2,0,0,1,null,1,0,0,0]
[34,"Nonmotorized",null,"MajNM1","Nonmotorized","EBR","MajR1","Major right",null,175,387.36263736263737,{"$f":"PRODUCT(J37:K37)","v":67788.461538461546},null,0,15,"","",0.1205004039155782,null,0.505,null,2,0,0,1,5,null,45,0.83333333333333326,null,null,null,1,null,2.1041666666666665,null,17187.963262838035,null,null,"","","","","","","","","","","","",1,"","","",null,"","",1,"","","","","","","","","","","","","",null,null,34,"Nonmotorized",2,0,0,1,null,1,0,0,0,null,2,0,0,1,null,1,0,0,0]
[35,"Nonmotorized",null,"MinNM1","Nonmotorized","EBR","MajR1","Major right",null,175,387.36263736263737,67788.461538461546,null,0,15,"","",0.1205004039155782,null,0.505,null,0,2,1,0,3.75,null,45,0.83333333333333326,null,null,null,1,null,1.578125,null,12890.972447128526,null,null,"","","","","","","","","","","","","","",1,"",null,"","",1,"","","","","","","","","","","","","",null,null,35,"Nonmotorized",0,2,1,0,null,0,2,1,0,null,0,1,1,0,null,0,1,1,0]
[36,"Nonmotorized",null,"MinNM1","Nonmotorized","SBT","MinT2","Signal far",null,175,1857.1428571428571,325000,null,0,25,"","",0.32066879346345062,null,0.505,null,0,2,1,0,3.75,null,45,0.83333333333333326,null,null,null,1,null,1.578125,null,164468.01789746512,null,null,"","","","","","","","","","","","","","",1,"",null,"","","","","","","","","",1,"","","","","","",null,null,36,"Nonmotorized",0,2,1,0,null,0,2,1,0,null,0,1,1,0,null,0,1,1,0]
[37,"Nonmotorized",null,"MinNM1","Nonmotorized","NBT","MinT1","Signal near",null,175,1785.7142857142856,312500,null,0,15,"","",0.1205004039155782,null,0.505,null,0,2,1,0,3.75,null,45,0.83333333333333326,null,null,null,1,null,1.578125,null,59426.468727897452,null,null,"","","","","","","","","","","","","","",1,"",null,"","","","","","",1,"","","","","","","","","",null,null,37,"Nonmotorized",0,2,1,0,null,0,2,1,0,null,0,1,0,0,null,0,1,0,0]
[38,"Nonmotorized",null,"MinNM1","Nonmotorized","NBR","MinR1","Signal near",null,175,1142.8571428571429,200000,null,0,15,"","",0.1205004039155782,null,0.505,null,0,2,1,0,3.75,null,45,0.83333333333333326,null,null,null,1,null,1.578125,null,38032.939985854369,null,null,"","","","","","","","","","","","","","",1,"",null,"","","","","","","","",1,"","","","","","","",null,null,38,"Nonmotorized",0,2,1,0,null,0,2,1,0,null,0,1,0,0,null,0,1,0,0]
[39,"Nonmotorized",null,"MajNM2","Nonmotorized","NBR","MinR1","Signal near",null,175,1142.8571428571429,200000,null,0,15,"","",0.1205004039155782,null,0.505,null,2,0,0,1,5,null,45,0.83333333333333326,null,null,null,1,null,2.1041666666666665,null,50710.586647805823,null,null,"","","","","","","","","","","","","",1,"","",null,"","","","","","","","",1,"","","","","","","",null,null,39,"Nonmotorized",2,0,0,1,null,1,0,0,1,null,2,0,0,1,null,1,0,0,1]
[40,"Nonmotorized",null,"MajNM2","Nonmotorized","EBT","MajT1","Major thru",null,175,6543.9560439560446,1145192.3076923077,null,0,45,"","",0.84855340903216459,null,0.505,null,2,0,0,1,5,null,45,0.83333333333333326,null,null,null,1,null,2.1041666666666665,null,2044738.3438679511,null,null,"","","","","","","","","","","","","",1,"","",null,1,"","","","","","","","","","","","","","","",null,null,40,"Nonmotorized",2,0,0,1,null,1,0,0,1,null,2,0,0,1,null,1,0,0,1]
[41,"Nonmotorized",null,"MajNM2","Nonmotorized","WBT","MajT2","Major thru",null,175,6502.7472527472528,1137980.7692307692,null,0,45,"","",0.84855340903216459,null,0.505,null,2,0,0,1,5,null,45,0.83333333333333326,null,null,null,1,null,2.1041666666666665,null,2031862.1578234422,null,null,"","","","","","","","","","","","","",1,"","",null,"","","",1,"","","","","","","","","","","","",null,null,41,"Nonmotorized",2,0,0,1,null,1,0,0,0,null,2,0,0,1,null,1,0,0,0]
[42,"Nonmotorized",null,"MajNM2","Nonmotorized","WBR","MajR2","Major right",null,175,428.57142857142856,75000,null,0,15,"","",0.1205004039155782,null,0.505,null,2,0,0,1,5,null,45,0.83333333333333326,null,null,null,1,null,2.1041666666666665,null,19016.469992927185,null,null,"","","","","","","","","","","","","",1,"","",null,"","","","","",1,"","","","","","","","","","",null,null,42,"Nonmotorized",2,0,0,1,null,1,0,0,0,null,2,0,0,1,null,1,0,0,0]
[43,"Nonmotorized",null,"MinNM2","Nonmotorized","WBR","MajR2","Major right",null,175,428.57142857142856,75000,null,0,15,"","",0.1205004039155782,null,0.505,null,0,2,1,0,3.75,null,45,0.83333333333333326,null,null,null,1,null,1.578125,null,14262.352494695389,null,null,"","","","","","","","","","","","","","","",1,null,"","","","","",1,"","","","","","","","","","",null,null,43,"Nonmotorized",0,2,1,0,null,0,2,1,0,null,0,1,1,0,null,0,1,1,0]
[44,"Nonmotorized",null,"MinNM2","Nonmotorized","NBT","MinT1","Signal far",null,175,1785.7142857142856,312500,null,0,25,"","",0.32066879346345062,null,0.505,null,0,2,1,0,3.75,null,45,0.83333333333333326,null,null,null,1,null,1.578125,null,158142.32490140875,null,null,"","","","","","","","","","","","","","","",1,null,"","","","","","",1,"","","","","","","","","",null,null,44,"Nonmotorized",0,2,1,0,null,0,2,1,0,null,0,1,1,0,null,0,1,1,0]
[45,"Nonmotorized",null,"MinNM2","Nonmotorized","SBT","MinT2","Signal near",null,175,1857.1428571428571,325000,null,0,15,"","",0.1205004039155782,null,0.505,null,0,2,1,0,3.75,null,45,0.83333333333333326,null,null,null,1,null,1.578125,null,61803.527477013355,null,null,"","","","","","","","","","","","","","","",1,null,"","","","","","","","","",1,"","","","","","",null,null,45,"Nonmotorized",0,2,1,0,null,0,2,1,0,null,0,1,0,0,null,0,1,0,0]
[46,"Nonmotorized",null,"MinNM2","Nonmotorized","SBR","MinR2","Signal near",null,175,1071.4285714285713,187499.99999999997,null,0,15,"","",0.1205004039155782,null,0.505,null,0,2,1,0,3.75,null,45,0.83333333333333326,null,null,null,1,null,1.578125,null,35655.881236738467,null,null,"","","","","","","","","","","","","","","",1,null,"","","","","","","","","","","",1,"","","","",null,null,46,"Nonmotorized",0,2,1,0,null,0,2,1,0,null,0,1,0,0,null,0,1,0,0]
[47,"Nonmotorized",null,"MinNM2","Nonmotorized","NBL","MinL1","Signal near",null,175,1071.4285714285713,187499.99999999997,null,0,15,"","",0.1205004039155782,null,0.505,null,0,2,2,0,5.5,null,45,0.83333333333333326,null,null,null,1,null,2.3145833333333332,null,52295.292480549753,null,null,"","","","","","","","","","","","","","","",{"$f":"IF(ISNUMBER(SEARCH(BC$3,$D50)),1,\"\")","v":1},null,"","","","","","","",1,"","","","","","","",{"$f":"IF(ISNUMBER(SEARCH(BT$3,$G50)),1,\"\")","v":""},null,null,47,"Nonmotorized",0,2,2,0,null,0,2,2,0,null,0,1,0,0,null,0,1,0,0]
[48,"Nonmotorized",null,"MinNM2","Nonmotorized","SBL","MinL1","Signal near",null,175,1071.4285714285713,187499.99999999997,null,0,15,"","",0.1205004039155782,null,0.505,null,0,2,2,0,5.5,null,45,0.83333333333333326,null,null,null,1,null,2.3145833333333332,null,52295.292480549753,null,null,{"$f":"IF(ISNUMBER(SEARCH(AN$3,$D51)),1,\"\")","v":""},"","","","","","","","","","","","","","",1,null,{"$f":"IF(ISNUMBER(SEARCH(BE$3,$G51)),1,\"\")","v":""},"","","","","","",1,"","","","","","","","",null,null,48,"Nonmotorized",0,2,2,0,null,0,2,2,0,null,0,1,0,0,null,0,1,0,0]
[49,"Nonmotorized",null,"MinNM2","Nonmotorized","EBL","MajL1","Major left",null,175,2068.6813186813188,362019.23076923081,null,0,20,"","",0.20274912921655375,null,{"$f":"IF(SSI_AGI_PedExclusive=\"Yes\",SSI_AGI_ProtFactor, SSI_AGI_ProtPermFactor)","v":0.92500000000000004},null,0,2,2,0,5.5,null,45,0.83333333333333326,null,null,null,1,null,4.239583333333333,null,311181.53235239605,null,null,"","","","","","","","","","","","","","","",1,null,"",1,"","","","","","","","","","","","","","",null,null,49,"Nonmotorized",0,2,2,0,null,0,2,2,0,null,0,1,2,0,null,0,1,2,0]
[50,"Nonmotorized",null,"MinNM2","Nonmotorized","WBL","MajL2","Major right",null,175,2068.6813186813188,362019.23076923081,null,0,15,"","",0.1205004039155782,null,0.505,null,0,2,2,0,5.5,null,45,0.83333333333333326,null,null,null,1,null,2.3145833333333332,null,100970.141635523,null,null,"","","","","","","","","","","","","","","",1,null,"","","","",1,"","","","","","","","","","","",null,null,50,"Nonmotorized",0,2,2,0,null,0,2,2,0,null,0,1,2,0,null,0,1,2,0]
[51,"Nonmotorized",null,"MajNM2","Nonmotorized","EBL","MajL1","Signal near",null,175,2068.6813186813188,362019.23076923081,null,0,15,"","",0.1205004039155782,null,0.505,null,0,2,0,2,4,null,{"$f":"IF(B54=\"Diverging\",\"\",SSI_AGI_VehSpeed_MnrThru)","v":29.75},0.66388888888888886,null,null,null,1,null,1.3410555555555554,null,58501.488123369687,null,null,"","","","","","","","","","","","","",1,"","",null,"",1,"","","","","","","","","","","","","","",null,null,51,"Nonmotorized",0,2,0,2,null,0,2,0,2,null,0,1,0,0,null,0,1,0,0]
[52,"Nonmotorized",null,"MajNM2","Nonmotorized","WBL","MajL2","Signal near",null,175,2068.6813186813188,362019.23076923081,null,0,15,"","",0.1205004039155782,null,0.505,null,0,2,0,2,4,null,29.75,0.66388888888888886,null,null,null,1,null,1.3410555555555554,null,58501.488123369687,null,null,"","","","","","","","","","","","","",1,"","",null,"","","","",1,"","","","","","","","","","","",null,null,52,"Nonmotorized",0,2,0,2,null,0,2,0,2,null,0,1,0,0,null,0,1,0,0]
[53,"Nonmotorized",null,"MajNM2","Nonmotorized","SBL","MinL2","Minor left",null,175,1071.4285714285713,187499.99999999997,null,0,20,"","",0.20274912921655375,null,{"$f":"IF(SSI_AGI_PedExclusive=\"Yes\",SSI_AGI_ProtFactor,SSI_AGI_ProtPermFactor)","v":0.92500000000000004},null,0,2,0,2,4,null,29.75,0.66388888888888886,null,null,null,1,null,2.4563888888888887,null,93380.75779489502,null,null,"","","","","","","","","","","","","",1,"","",null,"","","","","","","","","","",1,"","","","","",null,null,53,"Nonmotorized",0,2,0,2,null,0,2,0,2,null,0,1,0,2,null,0,1,0,2]
[54,"Nonmotorized",null,"MajNM2","Nonmotorized","NBL","MinL1","Minor right",null,175,1071.4285714285713,187499.99999999997,null,0,15,"","",0.1205004039155782,null,0.505,null,0,2,0,2,4,null,29.75,0.66388888888888886,null,null,null,1,null,1.3410555555555554,null,30299.575522063977,null,null,"","","","","","","","","","","","","",1,"","",null,"","","","","","","",1,"","","","","","","","",null,null,54,"Nonmotorized",0,2,0,2,null,0,2,0,2,null,0,1,0,2,null,0,1,0,2]
[55,"Nonmotorized",null,"MinNM2","Nonmotorized","NBL","MinL1","Minor right",null,{"$f":"SUMPRODUCT($AN58:$BC58,$AN$74:$BC$74)","v":175},{"$f":"SUMPRODUCT($BE58:$BT58,$BE$74:$BT$74)","v":1071.4285714285713},{"$f":"PRODUCT(J58:K58)","v":187499.99999999997},null,{"$f":"VLOOKUP(E58,SSI_AGI_Range_VehSpeed,5,FALSE)","v":0},{"$f":"VLOOKUP(H58,SSI_AGI_Range_VehSpeed,5,FALSE)","v":15},{"$f":"IF(B58=\"Nonmotorized\",\"\",VLOOKUP(B58,SSI_AGI_Range_CollAngles,5,FALSE))","v":""},{"$f":"IF(B58=\"Nonmotorized\",\"\",SQRT(N58^2+O58^2-2*N58*O58*COS(RADIANS(P58)))/2)","v":""},{"$f":"IF(B58=\"Nonmotorized\",1/(1+EXP(3.8432-0.1237*O58)),(Q58/SSI_AGI_RegAlpha)^SSI_AGI_RegK+(Q58/SSI_AGI_RegAlpha)^SSI_AGI_RegK-((Q58/SSI_AGI_RegAlpha)^SSI_AGI_RegK)*((Q58/SSI_AGI_RegAlpha)^SSI_AGI_RegK))","v":0.1205004039155782},null,0.505,null,0,2,0,1,3,null,29.75,0.66388888888888886,null,null,null,1,null,1.0057916666666666,null,22724.681641547984,null,null,"","","","","","","","","","","","","","","",1,null,"","","","","","","",1,"","","","","","","","",null,null,55,"Nonmotorized",0,2,0,1,null,0,2,0,1,null,0,1,0,0,null,0,1,0,0]
[56,"Nonmotorized",null,"MinNM2","Nonmotorized","NBT, WBR","MinT1, MajR2","Minor thru",null,175,2214.2857142857142,387500,null,0,29.75,"","",0.45930894163513947,null,0.505,null,0,2,0,1,3,null,29.75,0.66388888888888886,null,null,null,1,null,1.0057916666666666,null,179013.0285448175,null,null,"","","","","","","","","","","","","","","",1,null,"","","","","",1,1,"","","","","","","","","",null,null,56,"Nonmotorized",0,2,0,1,null,0,2,0,1,null,0,1,0,0,null,0,1,0,0]
[57,"Nonmotorized",null,"MinNM2","Nonmotorized","WBL","MajL2","Signal far",null,175,2068.6813186813188,362019.23076923081,null,0,25,"","",0.32066879346345062,null,{"$f":"IF(SSI_AGI_PedExclusive=\"Yes\",SSI_AGI_ProtFactor, SSI_AGI_ProtPermFactor)","v":0.92500000000000004},null,0,2,0,1,3,null,29.75,0.66388888888888886,null,null,null,1,null,1.8422916666666669,null,213868.45231067337,null,null,"","","","","","","","","","","","","","","",1,null,"","","","",1,"","","","","","","","","","","",null,null,57,"Nonmotorized",0,2,0,1,null,0,2,0,1,null,0,1,0,1,null,0,1,0,1]
[58,"Nonmotorized",null,"MinNM2","Nonmotorized","SBT, SBR","MinT2, MinR2","Minor thru",null,175,2928.5714285714284,512500,null,0,29.75,"","",0.45930894163513947,null,0.505,null,0,2,0,1,3,null,29.75,0.66388888888888886,null,null,null,1,null,1.0057916666666666,null,236759.16678508121,null,null,"","","","","","","","","","","","","","","",1,null,"","","","","","","","","",1,"",1,"","","","",null,null,58,"Nonmotorized",0,2,0,1,null,0,2,0,1,null,0,1,0,1,null,0,1,0,1]
[59,"Nonmotorized",null,"MinNM2","Nonmotorized","SBT, SBR","MinT2, MinR2","Minor thru",null,175,2928.5714285714284,512500,null,0,29.75,"","",0.45930894163513947,null,0.505,null,0,2,0,1,3,null,29.75,0.66388888888888886,null,null,null,1,null,1.0057916666666666,null,236759.16678508121,null,null,"","","","","","","","","","","","","","","",1,null,"","","","","","","","","",1,"",1,"","","","",null,null,59,"Nonmotorized",0,2,0,1,null,0,2,0,1,null,0,1,0,0,null,0,1,0,0]
[60,"Nonmotorized",null,"MinNM2","Nonmotorized","SBL","MinL2","Minor left",null,175,1071.4285714285713,187499.99999999997,null,0,20,"","",0.20274912921655375,null,0.505,null,0,2,0,1,3,null,29.75,0.66388888888888886,null,null,null,1,null,1.0057916666666666,null,38235.634610612426,null,null,"","","","","","","","","","","","","","","",1,null,"","","","","","","","","","",1,"","","","","",null,null,60,"Nonmotorized",0,2,0,1,null,0,2,0,1,null,0,1,0,0,null,0,1,0,0]
[61,"Nonmotorized",null,"MinNM2","Nonmotorized","NBT, WBR","MinT1, MajR2","Minor thru",null,175,2214.2857142857142,387500,null,0,29.75,"","",0.45930894163513947,null,0.505,null,0,2,0,1,3,null,29.75,0.66388888888888886,null,null,null,1,null,1.0057916666666666,null,179013.0285448175,null,null,"","","","","","","","","","","","","","","",1,null,"","","","","",1,1,"","","","","","","","","",null,null,61,"Nonmotorized",0,2,0,1,null,0,2,0,1,null,0,1,0,1,null,0,1,0,1]
[62,"Nonmotorized",null,"MinNM2","Nonmotorized","EBL","MajL1","Signal near",null,175,2068.6813186813188,362019.23076923081,null,0,15,"","",0.1205004039155782,null,0.505,null,0,2,0,1,3,null,29.75,0.66388888888888886,null,null,null,1,null,1.0057916666666666,null,43876.116092527271,null,null,"","","","","","","","","","","","","","","",1,null,"",1,"","","","","","","","","","","","","","",null,null,62,"Nonmotorized",0,2,0,1,null,0,2,0,1,null,0,1,0,1,null,0,1,0,1]
[63,"Nonmotorized",null,"MajNM2","Nonmotorized","NBL","MinL1","Signal near",null,175,1071.4285714285713,187499.99999999997,null,0,15,"","",0.1205004039155782,null,0.505,null,2,0,0,1,5,null,{"$f":"IF(B66=\"Diverging\",\"\",SSI_AGI_VehSpeed_MjrThru)","v":45},0.83333333333333326,null,null,null,1,null,2.1041666666666665,null,47541.174982317956,null,null,"","","","","","","","","","","","","",1,"",{"$f":"IF(ISNUMBER(SEARCH(BC$3,$D66)),1,\"\")","v":""},null,"","","","","","","",1,"","","","","","","",{"$f":"IF(ISNUMBER(SEARCH(BT$3,$G66)),1,\"\")","v":""},null,null,63,"Nonmotorized",2,0,0,1,null,1,0,0,1,null,2,0,0,1,null,1,0,0,1]
[64,"Nonmotorized",null,"MajNM2","Nonmotorized","WBT, WBR","MajT2, MajR2","Major thru",null,175,6931.3186813186812,1212980.7692307692,null,0,45,"","",0.84855340903216459,null,0.505,null,2,0,0,1,5,null,45,0.83333333333333326,null,null,null,1,null,2.1041666666666665,null,2165774.4926863308,null,null,"","","","","","","","","","","","","",1,"","",null,"","","",1,"",1,"","","","","","","","","","",null,null,64,"Nonmotorized",2,0,0,1,null,1,0,0,1,null,2,0,0,1,null,1,0,0,1]
[65,"Nonmotorized",null,"MajNM2","Nonmotorized","EBL","MajL1","Major left",null,175,2068.6813186813188,362019.23076923081,null,0,20,"","",0.20274912921655375,null,0.505,null,{"$f":"IF(AND(SS_AGI_MajMedian=\"No\", SS_AGI_MinMedian=\"No\"),BY68,IF(AND(SS_AGI_MajMedian=\"Yes\",SS_AGI_MinMedian=\"No\"),CD68,IF(AND(SS_AGI_MajMedian=\"No\",SS_AGI_MinMedian=\"Yes\"),CI68,IF(AND(SS_AGI_MajMedian=\"Yes\",SS_AGI_MinMedian=\"Yes\"),CN68))))","v":2},{"$f":"IF(AND(SS_AGI_MajMedian=\"No\", SS_AGI_MinMedian=\"No\"),BZ68,IF(AND(SS_AGI_MajMedian=\"Yes\",SS_AGI_MinMedian=\"No\"),CE68,IF(AND(SS_AGI_MajMedian=\"No\",SS_AGI_MinMedian=\"Yes\"),CJ68,IF(AND(SS_AGI_MajMedian=\"Yes\",SS_AGI_MinMedian=\"Yes\"),CO68))))","v":0},{"$f":"IF(AND(SS_AGI_MajMedian=\"No\", SS_AGI_MinMedian=\"No\"),CA68,IF(AND(SS_AGI_MajMedian=\"Yes\",SS_AGI_MinMedian=\"No\"),CF68,IF(AND(SS_AGI_MajMedian=\"No\",SS_AGI_MinMedian=\"Yes\"),CK68,IF(AND(SS_AGI_MajMedian=\"Yes\",SS_AGI_MinMedian=\"Yes\"),CP68))))","v":0},{"$f":"IF(AND(SS_AGI_MajMedian=\"No\", SS_AGI_MinMedian=\"No\"),CB68,IF(AND(SS_AGI_MajMedian=\"Yes\",SS_AGI_MinMedian=\"No\"),CG68,IF(AND(SS_AGI_MajMedian=\"No\",SS_AGI_MinMedian=\"Yes\"),CL68,IF(AND(SS_AGI_MajMedian=\"Yes\",SS_AGI_MinMedian=\"Yes\"),CQ68))))","v":1},5,null,45,{"$f":"IF(B68=\"Diverging\",1,1-((60-AB68)/60*0.1/0.15))","v":0.83333333333333326},null,null,null,1,null,{"$f":"PRODUCT(Z68,T68,AC68,AG68)","v":2.1041666666666665},null,154443.90549185261,null,null,"","","","","","","","","","","","","",1,"","",null,"",1,"","","","","","","","","","","","","","",null,null,65,"Nonmotorized",2,0,0,1,null,1,0,0,0,null,2,0,0,1,null,1,0,0,0]
[66,"Nonmotorized",null,"MajNM2","Nonmotorized","EBT, NBR","MajT1, MinR1","Major thru",null,175,7686.8131868131877,1345192.3076923077,null,0,45,"","",0.84855340903216459,null,0.505,null,2,0,0,1,5,null,45,0.83333333333333326,null,null,null,1,null,2.1041666666666665,null,{"$f":"L69*R69*AI69","v":2401837.9035023204},null,null,"","","","","","","","","","","","","",1,"","",null,1,"","","","","","","",1,"","","","","","","",null,null,66,"Nonmotorized",2,0,0,1,null,1,0,0,0,null,2,0,0,1,null,1,0,0,0]
[67,"Nonmotorized",null,"MajNM2","Nonmotorized","EBT, NBR","MajT1, MinR1","Major thru",null,175,7686.8131868131877,1345192.3076923077,null,0,45,"","",0.84855340903216459,null,0.505,null,2,0,0,1,5,null,45,0.83333333333333326,null,null,null,1,null,2.1041666666666665,null,2401837.9035023204,null,null,"","","","","","","","","","","","","",1,"","",null,1,"","","","","","","",1,"","","","","","","",null,null,67,"Nonmotorized",2,0,0,1,null,1,0,0,1,null,2,0,0,1,null,1,0,0,1]
[68,"Nonmotorized",null,"MajNM2","Nonmotorized","SBL","MinL2","Signal near",null,175,1071.4285714285713,187499.99999999997,null,0,15,"","",0.1205004039155782,null,{"$f":"IF(SSI_AGI_PedExclusive=\"Yes\",SSI_AGI_ProtFactor, SSI_AGI_ProtPermFactor)","v":0.92500000000000004},null,2,0,0,1,5,null,45,0.83333333333333326,null,null,null,1,null,3.8541666666666665,null,87080.370017117049,null,null,"","","","","","","","","","","","","",1,"","",null,"","","","","","","","","","",1,"","","","","",null,null,68,"Nonmotorized",2,0,0,1,null,1,0,0,1,null,2,0,0,1,null,1,0,0,1]
[69,"Nonmotorized",null,"MajNM2","Nonmotorized","WBT, WBR","MajT2, MajR2","Major thru",null,175,6931.3186813186812,1212980.7692307692,null,0,45,"","",0.84855340903216459,null,0.505,null,2,0,0,1,5,null,45,0.83333333333333326,null,null,null,1,null,2.1041666666666665,null,2165774.4926863308,null,null,"","","","","","","","","","","","","",1,"","",null,"","","",1,"",1,"","","","","","","","","","",null,null,69,"Nonmotorized",2,0,0,1,null,1,0,0,0,null,2,0,0,1,null,1,0,0,0]
[70,"Nonmotorized",null,"MajNM2","Nonmotorized","WBL","MajL2","Major right",null,175,2068.6813186813188,362019.23076923081,null,0,15,"","",0.1205004039155782,null,0.505,null,2,0,0,1,5,null,45,0.83333333333333326,null,null,null,1,null,2.1041666666666665,null,91791.037850475463,null,null,"","","","","","","","","","","","","",1,"","",null,"","","","",1,"","","","","","","","","","","",null,null,70,"Nonmotorized",2,0,0,1,null,1,0,0,0,null,2,0,0,1,null,1,0,0,0]
[null,null,null,null,null,null,null,null,null,null,null,null,null,null,null,null,null,null,null,null,null,null,null,null,null,null,null,null,null,null,null,null,null,null,null,null,null,null,"O",{"$f":"'SSI Inputs'!$D$26","v":6543.9560439560446},{"$f":"'SSI Inputs'!$D$27","v":2068.6813186813188},{"$f":"'SSI Inputs'!$D$28","v":387.36263736263737},{"$f":"'SSI Inputs'!$D$30","v":6502.7472527472528},{"$f":"'SSI Inputs'!$D$31","v":2068.6813186813188},{"$f":"'SSI Inputs'!$D$32","v":428.57142857142856},{"$f":"'SSI Inputs'!$D$34","v":1785.7142857142856},{"$f":"'SSI Inputs'!$D$35","v":1071.4285714285713},{"$f":"'SSI Inputs'!$D$36","v":1142.8571428571429},{"$f":"'SSI Inputs'!$D$38","v":1857.1428571428571},{"$f":"'SSI Inputs'!$D$39","v":1071.4285714285713},{"$f":"'SSI Inputs'!$D$40","v":1071.4285714285713},{"$f":"'SSI Inputs'!$Q$18","v":175},{"$f":"'SSI Inputs'!$Q$19","v":175},{"$f":"'SSI Inputs'!$Q$20","v":175},{"$f":"'SSI Inputs'!$Q$21","v":175},"O",{"$f":"'SSI Inputs'!$D$26","v":6543.9560439560446},{"$f":"'SSI Inputs'!$D$27","v":2068.6813186813188},{"$f":"'SSI Inputs'!$D$28","v":387.36263736263737},{"$f":"'SSI Inputs'!$D$30","v":6502.7472527472528},{"$f":"'SSI Inputs'!$D$31","v":2068.6813186813188},{"$f":"'SSI Inputs'!$D$32","v":428.57142857142856},{"$f":"'SSI Inputs'!$D$34","v":1785.7142857142856},{"$f":"'SSI Inputs'!$D$35","v":1071.4285714285713},{"$f":"'SSI Inputs'!$D$36","v":1142.8571428571429},{"$f":"'SSI Inputs'!$D$38","v":1857.1428571428571},{"$f":"'SSI Inputs'!$D$39","v":1071.4285714285713},{"$f":"'SSI Inputs'!$D$40","v":1071.4285714285713},{"$f":"'SSI Inputs'!$Q$18","v":175},{"$f":"'SSI Inputs'!$Q$19","v":175},{"$f":"'SSI Inputs'!$Q$20","v":175},{"$f":"'SSI Inputs'!$Q$21","v":175}]
[null,null,null,null,null,null,null,null,null,null,null,null,null,null,null,null,null,null,null,null,null,null,null,null,null,null,null,null,null,null,null,null,null,null,null,null,null,null,"D",{"$f":"'SSI Inputs'!$E$26","v":7271.062271062272},{"$f":"'SSI Inputs'!$E$27","v":2298.5347985347985},{"$f":"'SSI Inputs'!$E$28","v":430.40293040293039},{"$f":"'SSI Inputs'!$E$30","v":7225.2747252747249},{"$f":"'SSI Inputs'!$E$31","v":2298.5347985347985},{"$f":"'SSI Inputs'!$E$32","v":476.19047619047615},{"$f":"'SSI Inputs'!$E$34","v":2232.1428571428569},{"$f":"'SSI Inputs'!$E$35","v":1339.2857142857142},{"$f":"'SSI Inputs'!$E$36","v":1428.5714285714284},{"$f":"'SSI Inputs'!$E$38","v":2321.4285714285716},{"$f":"'SSI Inputs'!$E$39","v":1339.2857142857142},{"$f":"'SSI Inputs'!$E$40","v":1339.2857142857142},{"$f":"'SSI Inputs'!$R$18","v":175},{"$f":"'SSI Inputs'!$R$19","v":175},{"$f":"'SSI Inputs'!$R$20","v":175},{"$f":"'SSI Inputs'!$R$21","v":175},"D",{"$f":"'SSI Inputs'!$E$26","v":7271.062271062272},{"$f":"'SSI Inputs'!$E$27","v":2298.5347985347985},{"$f":"'SSI Inputs'!$E$28","v":430.40293040293039},{"$f":"'SSI Inputs'!$E$30","v":7225.2747252747249},{"$f":"'SSI Inputs'!$E$31","v":2298.5347985347985},{"$f":"'SSI Inputs'!$E$32","v":476.19047619047615},{"$f":"'SSI Inputs'!$E$34","v":2232.1428571428569},{"$f":"'SSI Inputs'!$E$35","v":1339.2857142857142},{"$f":"'SSI Inputs'!$E$36","v":1428.5714285714284},{"$f":"'SSI Inputs'!$E$38","v":2321.4285714285716},{"$f":"'SSI Inputs'!$E$39","v":1339.2857142857142},{"$f":"'SSI Inputs'!$E$40","v":1339.2857142857142},{"$f":"'SSI Inputs'!$R$18","v":175},{"$f":"'SSI Inputs'!$R$19","v":175},{"$f":"'SSI Inputs'!$R$20","v":175},{"$f":"'SSI Inputs'!$R$21","v":175}]
[]
[]
[]
[]
[]
[]
[]
[]
[]
[]
[]
[]
[]
[]
[]
[]
[]
[]
[]
[]
[]
[]
[]
[]
[]
[null,null,null,null,null,null,null,null,null,"Exposure",null,null,null,null,null,null,null,null,null,null,null,null,null,null,null,null,null,null,null,null,null,null,null,null,null,null,"Exposure-Severity-Complexity Product"]
[null,null,null,null,null,null,null,null,null,"Q1","Q2","I"]
[null,null,null,null,null,null,null,null,null,{"$f":"SUMPRODUCT($AN4:$BC4,$AN$75:$BC$75)","v":4619.9633699633705},{"$f":"SUMPRODUCT($BE4:$BT4,$BE$75:$BT$75)","v":8564.5604395604387},{"$f":"PRODUCT(J103:K103)","v":39567955.510606609},null,null,null,null,null,null,null,null,null,null,null,null,null,null,null,null,null,null,null,null,null,null,null,null,{"$f":"L103*R4*AI4","v":2523340.0032821759}]
[null,null,null,null,null,null,null,null,null,3571.4285714285711,8564.5604395604387,{"$f":"PRODUCT(J104:K104)","v":30587715.855572991},null,null,null,null,null,null,null,null,null,null,null,null,null,null,null,null,null,null,null,null,null,null,null,null,{"$f":"L104*R5*AI5","v":2651398.8148727277}]
[null,null,null,null,null,null,null,null,null,3571.4285714285711,9569.59706959707,34177132.391418107,null,null,null,null,null,null,null,null,null,null,null,null,null,null,null,null,null,null,null,null,null,null,null,null,2179554.7494896124]
[null,null,null,null,null,null,null,null,null,4619.9633699633705,9569.59706959707,44211187.926847272,null,null,null,null,null,null,null,null,null,null,null,null,null,null,null,null,null,null,null,null,null,null,null,null,3832306.1397211491]
[null,null,null,null,null,null,null,null,null,1339.2857142857142,2298.5347985347985,3078394.8194662477,null,null,null,null,null,null,null,null,null,null,null,null,null,null,null,null,null,null,null,null,null,null,null,null,17259.742205707498]
[null,null,null,null,null,null,null,null,null,2708.333333333333,2298.5347985347985,6225198.4126984123,null,null,null,null,null,null,null,null,null,null,null,null,null,null,null,null,null,null,null,null,null,null,null,null,91607.16847755645]
[null,null,null,null,null,null,null,null,null,1339.2857142857142,2708.333333333333,3627232.1428571423,null,null,null,null,null,null,null,null,null,null,null,null,null,null,null,null,null,null,null,null,null,null,null,null,38671.511477107822]
[null,null,null,null,null,null,null,null,null,1339.2857142857142,7225.2747252747249,9676707.2213500775,null,null,null,null,null,null,null,null,null,null,null,null,null,null,null,null,null,null,null,null,null,null,null,null,1065342.0755149217]
[null,null,null,null,null,null,null,null,null,2298.5347985347985,7225.2747252747249,16607545.385017911,null,null,null,null,null,null,null,null,null,null,null,null,null,null,null,null,null,null,null,null,null,null,null,null,1262027.4168379996]
[null,null,null,null,null,null,null,null,null,1339.2857142857142,2298.5347985347985,3078394.8194662477,null,null,null,null,null,null,null,null,null,null,null,null,null,null,null,null,null,null,null,null,null,null,null,null,40621.778203809496]
[null,null,null,null,null,null,null,null,null,3571.4285714285711,476.19047619047615,1700680.2721088433,null,null,null,null,null,null,null,null,null,null,null,null,null,null,null,null,null,null,null,null,null,null,null,null,2700.4892060261245]
[null,null,null,null,null,null,null,null,null,1428.5714285714284,9569.59706959707,13670852.956567241,null,null,null,null,null,null,null,null,null,null,null,null,null,null,null,null,null,null,null,null,null,null,null,null,134648.99233529525]
[null,null,null,null,null,null,null,null,null,430.40293040293039,4530.6776556776549,1950016.9397147417,null,null,null,null,null,null,null,null,null,null,null,null,null,null,null,null,null,null,null,null,null,null,null,null,3096.4078219934404]
[null,null,null,null,null,null,null,null,null,1339.2857142857142,8564.5604395604387,11470393.445839873,null,null,null,null,null,null,null,null,null,null,null,null,null,null,null,null,null,null,null,null,null,null,null,null,112975.90019280939]
[null,null,null,null,null,null,null,null,null,3660.7142857142858,2298.5347985347985,8414279.173207745,null,null,null,null,null,null,null,null,null,null,null,null,null,null,null,null,null,null,null,null,null,null,null,null,10536.545587665098]
[null,null,null,null,null,null,null,null,null,1339.2857142857142,1339.2857142857142,1793686.2244897957,null,null,null,null,null,null,null,null,null,null,null,null,null,null,null,null,null,null,null,null,null,null,null,null,410.66822372827102]
[null,null,null,null,null,null,null,null,null,2708.333333333333,2298.5347985347985,6225198.4126984123,null,null,null,null,null,null,null,null,null,null,null,null,null,null,null,null,null,null,null,null,null,null,null,null,4238.7754763672965]
[null,null,null,null,null,null,null,null,null,1339.2857142857142,7225.2747252747249,9676707.2213500775,null,null,null,null,null,null,null,null,null,null,null,null,null,null,null,null,null,null,null,null,null,null,null,null,95309.259825850429]
[null,null,null,null,null,null,null,null,null,8699.6336996337013,1339.2857142857142,11651295.133437993,null,null,null,null,null,null,null,null,null,null,null,null,null,null,null,null,null,null,null,null,null,null,null,null,167964.89507452017]
[null,null,null,null,null,null,null,null,null,476.19047619047615,2298.5347985347985,1094540.3802546659,null,null,null,null,null,null,null,null,null,null,null,null,null,null,null,null,null,null,null,null,null,null,null,null,359.49405774479237]
[null,null,null,null,null,null,null,null,null,4619.9633699633705,1428.5714285714284,6599947.6713762432,null,null,null,null,null,null,null,null,null,null,null,null,null,null,null,null,null,null,null,null,null,null,null,null,4.2280180905215214]
[null,null,null,null,null,null,null,null,null,8564.5604395604387,476.19047619047615,4078362.1140763988,null,null,null,null,null,null,null,null,null,null,null,null,null,null,null,null,null,null,null,null,null,null,null,null,28571.466054940905]
[null,null,null,null,null,null,null,null,null,3571.4285714285711,1428.5714285714284,5102040.8163265297,null,null,null,null,null,null,null,null,null,null,null,null,null,null,null,null,null,null,null,null,null,null,null,null,3.2684381671028602]
[null,null,null,null,null,null,null,null,null,9569.59706959707,430.40293040293039,4118782.6215298744,null,null,null,null,null,null,null,null,null,null,null,null,null,null,null,null,null,null,null,null,null,null,null,null,28854.636878013345]
[null,null,null,null,null,null,null,null,null,2708.333333333333,1339.2857142857142,3627232.1428571423,null,null,null,null,null,null,null,null,null,null,null,null,null,null,null,null,null,null,null,null,null,null,null,null,1849.3667432240493]
[null,null,null,null,null,null,null,null,null,3660.7142857142858,1339.2857142857142,4902742.3469387749,null,null,null,null,null,null,null,null,null,null,null,null,null,null,null,null,null,null,null,null,null,null,null,null,644.70942240495731]
[null,null,null,null,null,null,null,null,null,2774.7252747252746,2298.5347985347985,6377802.6003300725,null,null,null,null,null,null,null,null,null,null,null,null,null,null,null,null,null,null,null,null,null,null,null,null,4.0857088744686694]
[null,null,null,null,null,null,null,null,null,8699.6336996337013,2298.5347985347985,19996410.793114092,null,null,null,null,null,null,null,null,null,null,null,null,null,null,null,null,null,null,null,null,null,null,null,null,72950.882583844199]
[null,null,null,null,null,null,null,null,null,1339.2857142857142,1339.2857142857142,1793686.2244897957,null,null,null,null,null,null,null,null,null,null,null,null,null,null,null,null,null,null,null,null,null,null,null,null,1.1490602931220995]
[null,null,null,null,null,null,null,null,null,7225.2747252747249,2774.7252747252746,20048152.397053495,null,null,null,null,null,null,null,null,null,null,null,null,null,null,null,null,null,null,null,null,null,null,null,null,140449.79078725472]
[null,null,null,null,null,null,null,null,null,175,1339.2857142857142,234375,null,null,null,null,null,null,null,null,null,null,null,null,null,null,null,null,null,null,null,null,null,null,null,null,59426.468727897452]
[null,null,null,null,null,null,null,null,null,175,7225.2747252747249,1264423.0769230768,null,null,null,null,null,null,null,null,null,null,null,null,null,null,null,null,null,null,null,null,null,null,null,null,2257624.6198038245]
[null,null,null,null,null,null,null,null,null,{"$f":"SUMPRODUCT($AN36:$BC36,$AN$75:$BC$75)","v":175},{"$f":"SUMPRODUCT($BE36:$BT36,$BE$75:$BT$75)","v":7271.062271062272},1272435.8974358975,null,null,null,null,null,null,null,null,null,null,null,null,null,null,null,null,null,null,null,null,null,null,null,null,2271931.4931866121]
[null,null,null,null,null,null,null,null,null,175,430.40293040293039,75320.512820512813,null,null,null,null,null,null,null,null,null,null,null,null,null,null,null,null,null,null,null,null,null,null,null,null,19097.736958708923]
[null,null,null,null,null,null,null,null,null,175,430.40293040293039,75320.512820512813,null,null,null,null,null,null,null,null,null,null,null,null,null,null,null,null,null,null,null,null,null,null,null,null,14323.302719031693]
[null,null,null,null,null,null,null,null,null,175,2321.4285714285716,406250,null,null,null,null,null,null,null,null,null,null,null,null,null,null,null,null,null,null,null,null,null,null,null,null,205585.02237183138]
[null,null,null,null,null,null,null,null,null,175,2232.1428571428569,390624.99999999994,null,null,null,null,null,null,null,null,null,null,null,null,null,null,null,null,null,null,null,null,null,null,null,null,74283.085909871807]
[null,null,null,null,null,null,null,null,null,175,1428.5714285714284,249999.99999999997,null,null,null,null,null,null,null,null,null,null,null,null,null,null,null,null,null,null,null,null,null,null,null,null,47541.174982317956]
[null,null,null,null,null,null,null,null,null,175,1428.5714285714284,249999.99999999997,null,null,null,null,null,null,null,null,null,null,null,null,null,null,null,null,null,null,null,null,null,null,null,null,63388.233309757277]
[null,null,null,null,null,null,null,null,null,175,7271.062271062272,1272435.8974358975,null,null,null,null,null,null,null,null,null,null,null,null,null,null,null,null,null,null,null,null,null,null,null,null,2271931.4931866121]
[null,null,null,null,null,null,null,null,null,175,7225.2747252747249,1264423.0769230768,null,null,null,null,null,null,null,null,null,null,null,null,null,null,null,null,null,null,null,null,null,null,null,null,2257624.6198038245]
[null,null,null,null,null,null,null,null,null,175,476.19047619047615,83333.333333333328,null,null,null,null,null,null,null,null,null,null,null,null,null,null,null,null,null,null,null,null,null,null,null,null,21129.411103252427]
[null,null,null,null,null,null,null,null,null,175,476.19047619047615,83333.333333333328,null,null,null,null,null,null,null,null,null,null,null,null,null,null,null,null,null,null,null,null,null,null,null,null,15847.058327439321]
[null,null,null,null,null,null,null,null,null,175,2232.1428571428569,390624.99999999994,null,null,null,null,null,null,null,null,null,null,null,null,null,null,null,null,null,null,null,null,null,null,null,null,197677.90612676091]
[null,null,null,null,null,null,null,null,null,175,2321.4285714285716,406250,null,null,null,null,null,null,null,null,null,null,null,null,null,null,null,null,null,null,null,null,null,null,null,null,77254.409346266679]
[null,null,null,null,null,null,null,null,null,175,1339.2857142857142,234375,null,null,null,null,null,null,null,null,null,null,null,null,null,null,null,null,null,null,null,null,null,null,null,null,44569.851545923091]
[null,null,null,null,null,null,null,null,null,175,1339.2857142857142,234375,null,null,null,null,null,null,null,null,null,null,null,null,null,null,null,null,null,null,null,null,null,null,null,null,65369.115600687197]
[null,null,null,null,null,null,null,null,null,175,1339.2857142857142,234375,null,null,null,null,null,null,null,null,null,null,null,null,null,null,null,null,null,null,null,null,null,null,null,null,65369.115600687197]
[null,null,null,null,null,null,null,null,null,175,2298.5347985347985,402243.58974358975,null,null,null,null,null,null,null,null,null,null,null,null,null,null,null,null,null,null,null,null,null,null,null,null,345757.25816932891]
[null,null,null,null,null,null,null,null,null,175,2298.5347985347985,402243.58974358975,null,null,null,null,null,null,null,null,null,null,null,null,null,null,null,null,null,null,null,null,null,null,null,null,112189.04626169222]
[null,null,null,null,null,null,null,null,null,175,2298.5347985347985,402243.58974358975,null,null,null,null,null,null,null,null,null,null,null,null,null,null,null,null,null,null,null,null,null,null,null,null,65001.653470410762]
[null,null,null,null,null,null,null,null,null,175,2298.5347985347985,402243.58974358975,null,null,null,null,null,null,null,null,null,null,null,null,null,null,null,null,null,null,null,null,null,null,null,null,65001.653470410762]
[null,null,null,null,null,null,null,null,null,175,1339.2857142857142,234375,null,null,null,null,null,null,null,null,null,null,null,null,null,null,null,null,null,null,null,null,null,null,null,null,116725.94724361879]
[null,null,null,null,null,null,null,null,null,175,1339.2857142857142,234375,null,null,null,null,null,null,null,null,null,null,null,null,null,null,null,null,null,null,null,null,null,null,null,null,37874.469402579976]

{"sheet":"Jughandle","index":47,"n_rows":154,"n_cols":95,"rows_kept":154,"cut":false,"hidden":true,"merged":[[0,19,0,28],[0,30,0,32],[1,31,2,31],[1,32,2,32],[1,21,1,25],[1,27,1,28],[1,30,2,30],[1,76,1,79],[1,81,1,84],[1,86,1,89],[1,91,1,94],[100,9,100,11],[100,36,101,36],[1,34,2,34],[1,36,2,36],[1,39,1,54],[1,9,1,11],[1,13,1,17],[1,56,1,71]]}
[null,null,null,null,null,null,null,null,null,null,null,null,null,null,null,null,null,null,null,"Conflicting Traffic Complexity",null,null,null,null,null,null,null,null,null,null,"Pedestrian Complexity",null,null,null,null,null,null,null,null,null,null,null,null,null,null,null,null,null,null,null,null,null,null,null,null,null,null,null,null,null,null,null,null,null,null,null,null,null,null,null,null,null,null,null,null,null,"*impact of median on complexity factors"]
[null,null,null,null,null,null,null,null,null,"Exposure",null,null,null,"Severity",null,null,null,null,null,"Traffic Control",null,"Conflicting Lanes",null,null,null,null,null,"Conflicting Speed",null,null,"Indirect Paths Indicator","Non-intuitive movements indicator","Pedestrian Complexity factor",null,"Total Complexity Multiplier",null,"Exposure-Severity-Complexity Product",null,null,"Included in Mvmt1",null,null,null,null,null,null,null,null,null,null,null,null,null,null,null,null,"Included in Mvmt2",null,null,null,null,null,null,null,null,null,null,null,null,null,null,null,null,null,null,null,"Major:No, Minor: No",null,null,null,null,"Major:Yes, Minor: No",null,null,null,null,"Major:No, Minor: Yes",null,null,null,null,"Major:Yes, Minor: Yes"]
["#","Conflict Type","Mvmt1","Mvmt1_gen","Mvmt1_SpeedCat","Mvmt2","Mvmt2_gen","Mvmt2_SpeedCat",null,"Q1","Q2","I",null,"Speed_V1","Speed_V2","Angle","delta_V","P_FSI",null,null,null,"MajC","MinC","MajM/P","MinM/P","Score",null,"Speed","Factor",null,null,null,null,null,null,null,null,null,null,"MajT1","MajL1","MajR1","MajT2","MajL2","MajR2","MinT1","MinL1","MinR1","MinT2","MinL2","MinR2","MajNM1","MajNM2","MinNM1","MinNM2",null,"MajT1","MajL1","MajR1","MajT2","MajL2","MajR2","MinT1","MinL1","MinR1","MinT2","MinL2","MinR2","MajNM1","MajNM2","MinNM1","MinNM2",null,null,"#","Conflict Type","MajC","MinC","MajM/P","MinM/P",null,"MajC","MinC","MajM/P","MinM/P",null,"MajC","MinC","MajM/P","MinM/P",null,"MajC","MinC","MajM/P","MinM/P"]
[1,"Crossing","WBT","MajT2","Major thru","SBT, WBL","MinT2, MajL2","Signal near",null,{"$f":"SUMPRODUCT($AN4:$BC4,$AN$56:$BC$56)","v":6502.7472527472528},{"$f":"SUMPRODUCT($BE4:$BT4,$BE$56:$BT$56)","v":3925.8241758241757},{"$f":"PRODUCT(J4:K4)","v":25528642.374109406},null,{"$f":"VLOOKUP(E4,SSI_AGI_Range_VehSpeed,5,FALSE)","v":45},{"$f":"VLOOKUP(H4,SSI_AGI_Range_VehSpeed,5,FALSE)","v":15},{"$f":"IF(B4=\"Nonmotorized\",\"\",VLOOKUP(B4,SSI_AGI_Range_CollAngles,5,FALSE))","v":90},{"$f":"IF(B4=\"Nonmotorized\",\"\",SQRT(N4^2+O4^2-2*N4*O4*COS(RADIANS(P4)))/2)","v":23.717082451262844},{"$f":"IF(B4=\"Nonmotorized\",1/(1+EXP(3.8432-0.1237*O4)),(Q4/SSI_AGI_RegAlpha)^SSI_AGI_RegK+(Q4/SSI_AGI_RegAlpha)^SSI_AGI_RegK-((Q4/SSI_AGI_RegAlpha)^SSI_AGI_RegK)*((Q4/SSI_AGI_RegAlpha)^SSI_AGI_RegK))","v":3.7884541771032863E-2},null,{"$f":"SSI_AGI_ProtFactor","v":0.505},null,{"$f":"IF(AND(SS_AGI_MajMedian=\"No\", SS_AGI_MinMedian=\"No\"),BY4,IF(AND(SS_AGI_MajMedian=\"Yes\",SS_AGI_MinMedian=\"No\"),CD4,IF(AND(SS_AGI_MajMedian=\"No\",SS_AGI_MinMedian=\"Yes\"),CI4,IF(AND(SS_AGI_MajMedian=\"Yes\",SS_AGI_MinMedian=\"Yes\"),CN4))))","v":2},{"$f":"IF(AND(SS_AGI_MajMedian=\"No\", SS_AGI_MinMedian=\"No\"),BZ4,IF(AND(SS_AGI_MajMedian=\"Yes\",SS_AGI_MinMedian=\"No\"),CE4,IF(AND(SS_AGI_MajMedian=\"No\",SS_AGI_MinMedian=\"Yes\"),CJ4,IF(AND(SS_AGI_MajMedian=\"Yes\",SS_AGI_MinMedian=\"Yes\"),CO4))))","v":0},{"$f":"IF(AND(SS_AGI_MajMedian=\"No\", SS_AGI_MinMedian=\"No\"),CA4,IF(AND(SS_AGI_MajMedian=\"Yes\",SS_AGI_MinMedian=\"No\"),CF4,IF(AND(SS_AGI_MajMedian=\"No\",SS_AGI_MinMedian=\"Yes\"),CK4,IF(AND(SS_AGI_MajMedian=\"Yes\",SS_AGI_MinMedian=\"Yes\"),CP4))))","v":0},{"$f":"IF(AND(SS_AGI_MajMedian=\"No\", SS_AGI_MinMedian=\"No\"),CB4,IF(AND(SS_AGI_MajMedian=\"Yes\",SS_AGI_MinMedian=\"No\"),CG4,IF(AND(SS_AGI_MajMedian=\"No\",SS_AGI_MinMedian=\"Yes\"),CL4,IF(AND(SS_AGI_MajMedian=\"Yes\",SS_AGI_MinMedian=\"Yes\"),CQ4))))","v":0},{"$f":"MAX(1,IF(B4<>\"Pedestrian\",V4*SSI_AGI_MajorThruLanes+W4*SSI_AGI_MinorThruLanes+X4*IF(SSI_AGI_MajorThruLanes=1,SSI_AGI_MergeWeightL1,IF(SSI_AGI_MajorThruLanes=2,SSI_AGI_MergeWeightL1+SSI_AGI_MergeWeightL2,SSI_AGI_MergeWeightL1+SSI_AGI_MergeWeightL2+SSI_AGI_MergeWeightL3*(SSI_AGI_MajorThruLanes-2)))+Y4*IF(SSI_AGI_MinorThruLanes=1,SSI_AGI_MergeWeightL1,IF(SSI_AGI_MinorThruLanes=2,SSI_AGI_MergeWeightL1+SSI_AGI_MergeWeightL2,SSI_AGI_MergeWeightL1+SSI_AGI_MergeWeightL2+SSI_AGI_MergeWeightL3*(SSI_AGI_MinorThruLanes-2))),V4*SSI_AGI_MajorThruLanes+W4*SSI_AGI_MinorThruLanes+X4*IF(SSI_AGI_MajorThruLanes=1,SSI_AGI_NM_MergeWeightL1,IF(SSI_AGI_MajorThruLanes=2,SSI_AGI_NM_MergeWeightL1+SSI_AGI_NM_MergeWeightL2,SSI_AGI_NM_MergeWeightL1+SSI_AGI_NM_MergeWeightL2+SSI_AGI_NM_MergeWeightL3*(SSI_AGI_MajorThruLanes-2)))+Y4*IF(SSI_AGI_MinorThruLanes=1,SSI_AGI_NM_MergeWeightL1,IF(SSI_AGI_MinorThruLanes=2,SSI_AGI_NM_MergeWeightL1+SSI_AGI_NM_MergeWeightL2,SSI_AGI_NM_MergeWeightL1+SSI_AGI_NM_MergeWeightL2+SSI_AGI_NM_MergeWeightL3*(SSI_AGI_MinorThruLanes-2)))))","v":4},null,{"$f":"IF(B4=\"Diverging\",\"\",SSI_AGI_VehSpeed_MjrThru)","v":45},{"$f":"IF(B4=\"Diverging\",1,1-((60-AB4)/60*0.1/0.15))","v":0.83333333333333326},null,null,null,{"$f":"IF(SSI_AGI_ConsiderNMComplexity=\"Yes\",1+AE4+AF4,1)","v":1},null,{"$f":"PRODUCT(Z4,T4,AC4,AG4)","v":1.6833333333333331},null,{"$f":"L4*R4*AI4","v":1628020.5459391738},null,null,{"$f":"IF(ISNUMBER(SEARCH(AN$3,$D4)),1,\"\")","v":""},{"$f":"IF(ISNUMBER(SEARCH(AO$3,$D4)),1,\"\")","v":""},"",1,"","","","","","","","","","","","",null,{"$f":"IF(ISNUMBER(SEARCH(BE$3,$G4)),1,\"\")","v":""},{"$f":"IF(ISNUMBER(SEARCH(BF$3,$G4)),1,\"\")","v":""},"","",1,"","","","",1,"","","","","","",null,null,1,"Crossing",2,0,0,0,null,1,0,0,0,null,2,0,0,0,null,{"$f":"IF(OR(CD4=\"\",CI4=\"\"),\"\",MIN(CD4,CI4))","v":1},{"$f":"IF(OR(CE4=\"\",CJ4=\"\"),\"\",MIN(CE4,CJ4))","v":0},0,0]
[2,"Crossing - LT","WBT","MajT2","Major thru","SBL","MinL2","Signal near",null,6502.7472527472528,1071.4285714285713,{"$f":"PRODUCT(J5:K5)","v":6967229.1993720559},null,45,15,230,{"$f":"IF(B5=\"Nonmotorized\",\"\",SQRT(N5^2+O5^2-2*N5*O5*COS(RADIANS(P5)))/2)","v":27.918467333813421},6.9762185672148203E-2,null,{"$f":"SSI_AGI_ProtFactor","v":0.505},null,1,1,1,0,4.75,null,45,0.83333333333333326,null,null,null,1,null,1.9989583333333334,null,{"$f":"L5*R5*AI5","v":971591.97286960855},null,null,{"$f":"IF(ISNUMBER(SEARCH(AN$3,$D5)),1,\"\")","v":""},"","",1,"","","","","","","","","","","","",null,{"$f":"IF(ISNUMBER(SEARCH(BE$3,$G5)),1,\"\")","v":""},"","","","","","","","","",1,"","","","","",null,null,2,"Crossing - LT",1,1,1,0,null,1,1,0,0,null,1,0,0,0,null,{"$f":"IF(OR(CD5=\"\",CI5=\"\"),\"\",MIN(CD5,CI5))","v":1},0,0,0]
[3,"Crossing - LT","WBT","MajT2","Major thru","EBL","MajL1","Signal far",null,6502.7472527472528,2068.6813186813188,13452111.761864509,null,45,25,230,32.001062958106225,0.11565690546238376,null,{"$f":"IF(SSI_AGI_MajorLTPhase=\"Protected/permitted\",SSI_AGI_ProtPermFactor,IF(SSI_AGI_MajorLTPhase=\"Protected\",SSI_AGI_ProtFactor,SSI_AGI_PermFactor))","v":0.505},null,1,0,0,0,2,null,45,0.83333333333333326,null,null,null,1,null,0.84166666666666656,null,1309489.9287454148,null,null,"","","",1,"","","","","","","","","","","","",null,"",1,"","","","","","","","","","","","","","",null,null,3,"Crossing - LT",1,0,0,0,null,1,0,0,0,null,1,0,0,0,null,1,0,0,0]
[4,"Crossing","WBT","MajT2","Major thru","NBT","MinT1","Signal far",null,6502.7472527472528,1785.7142857142856,11612048.665620092,null,45,25,90,25.739075352467502,5.1494149230103807E-2,null,{"$f":"SSI_AGI_ProtFactor","v":0.505},null,2,0,0,0,4,null,45,0.83333333333333326,null,null,null,1,null,1.6833333333333331,null,1006553.4875386923,null,null,"","","",1,"","","","","","","","","","","","",null,"","","","","","",1,"","","","","","","","","",null,null,4,"Crossing",2,0,0,0,null,1,0,0,0,null,2,0,0,0,null,1,0,0,0]
[5,"Crossing - LT","SBT, WBL","MinT2, MajL2","Signal near","NBL","MinL1","Signal far",null,3925.8241758241757,1071.4285714285713,4206240.1883830447,null,15,25,230,18.248908921254063,1.4099039069818802E-2,null,{"$f":"IF(SSI_AGI_MinorLTPhase=\"Protected/permitted\",SSI_AGI_ProtPermFactor,IF(SSI_AGI_MinorLTPhase=\"Protected\",SSI_AGI_ProtFactor,SSI_AGI_PermFactor))","v":0.505},null,1,1,1,0,4.75,null,45,0.83333333333333326,null,null,null,1,null,1.9989583333333334,null,118546.11456365799,null,null,"","","","",1,"","","","",1,"","","","","","",null,"","","","","","","",1,"","","","","","","","",null,null,5,"Crossing - LT",1,1,1,0,null,1,1,0,0,null,0,1,1,0,null,0,1,0,0]
[6,"Crossing - LT","EBL","MajL1","Major left","NBL","MinL1","Signal near",null,2068.6813186813188,1071.4285714285713,2216444.2700156984,null,20,15,230,15.895538413434787,8.3616736100371545E-3,null,{"$f":"SSI_AGI_ProtFactor","v":0.505},null,1,1,1,0,4.75,null,45,0.83333333333333326,null,null,null,1,null,1.9989583333333334,null,37047.061721874255,null,null,"",1,"","","","","","","","","","","","","","",null,"","","","","","","",1,"","","","","","","","",null,null,6,"Crossing - LT",1,1,1,0,null,1,1,0,0,null,1,0,0,0,null,1,0,0,0]
[7,"Crossing - LT","EBL","MajL1","Major left","SBL","MinL2","Signal near",null,2068.6813186813188,1071.4285714285713,2216444.2700156984,null,20,15,230,15.895538413434787,8.3616736100371545E-3,null,{"$f":"SSI_AGI_ProtFactor","v":0.505},null,1,1,1,0,4.75,null,45,0.83333333333333326,null,null,null,1,null,1.9989583333333334,null,37047.061721874255,null,null,"",1,"","","","","","","","","","","","","","",null,"","","","","","","","","","",1,"","","","","",null,null,7,"Crossing - LT",1,1,1,0,null,1,1,0,0,null,1,0,0,0,null,1,0,0,0]
[8,"Crossing - LT","SBL","MinL2","Signal far","NBT","MinT1","Signal near",null,1071.4285714285713,1785.7142857142856,1913265.3061224485,null,25,15,230,18.248908921254063,1.4099039069818802E-2,null,{"$f":"IF(SSI_AGI_MinorLTPhase=\"Protected/permitted\",SSI_AGI_ProtPermFactor,IF(SSI_AGI_MinorLTPhase=\"Protected\",SSI_AGI_ProtFactor,SSI_AGI_PermFactor))","v":0.505},null,1,1,1,0,4.75,null,45,0.83333333333333326,null,null,null,1,null,1.9989583333333334,null,53922.305434833936,null,null,"","","","","","","","","","",1,"","","","","",null,"","","","","","",1,"","","","","","","","","",null,null,8,"Crossing - LT",1,1,1,0,null,1,1,0,0,null,0,1,1,0,null,0,1,0,0]
[9,"Crossing - LT","EBL","MajL1","Major left","SBT, WBL","MinT2, MajL2","Signal far",null,2068.6813186813188,3925.8241758241757,8121279.132954957,null,20,25,230,20.419277715473552,2.1555284139167314E-2,null,{"$f":"SSI_AGI_ProtFactor","v":0.505},null,2,0,0,0,4,null,45,0.83333333333333326,null,null,null,1,null,1.6833333333333331,null,294678.40679529629,null,null,"",1,"","","","","","","","","","","","","","",null,"","","","",1,"","","","",1,"","","","","","",null,null,9,"Crossing - LT",2,0,0,0,null,1,0,0,0,null,2,0,0,0,null,1,0,0,0]
[10,"Crossing","EBT","MajT1","Major thru","SBT, WBL","MinT2, MajL2","Signal far",null,6543.9560439560446,3925.8241758241757,25690420.842893373,null,45,25,90,25.739075352467502,5.1494149230103807E-2,null,0.505,null,2,0,0,0,4,null,45,0.83333333333333326,null,null,null,1,null,1.6833333333333331,null,2226892.3805246693,null,null,1,"","","","","","","","","","","","","","","",null,"","","","",1,"","","","",1,"","","","","","",null,null,10,"Crossing",2,0,0,0,null,1,0,0,0,null,2,0,0,0,null,1,0,0,0]
[11,"Crossing - LT","EBT","MajT1","Major thru","NBL","MinL1","Signal near",null,6543.9560439560446,1071.4285714285713,7011381.4756671898,null,45,15,230,27.918467333813421,6.9762185672148203E-2,null,0.505,null,1,1,1,0,4.75,null,45,0.83333333333333326,null,null,null,1,null,1.9989583333333334,null,977749.08296383929,null,null,1,"","","","","","","","","","","","","","","",null,"","","","","","","",1,"","","","","","","","",null,null,11,"Crossing - LT",1,1,1,0,null,1,1,0,0,null,1,0,0,0,null,1,0,0,0]
[12,"Crossing","EBT","MajT1","Major thru","NBT","MinT1","Signal near",null,6543.9560439560446,1785.7142857142856,11685635.79277865,null,45,15,90,23.717082451262844,3.7884541771032863E-2,null,0.505,null,2,0,0,0,4,null,45,0.83333333333333326,null,null,null,1,null,1.6833333333333331,null,745220.01147620915,null,null,1,"","","","","","","","","","","","","","","",null,"","","","","","",1,"","","","","","","","","",null,null,12,"Crossing",2,0,0,0,null,1,0,0,0,null,2,0,0,0,null,1,0,0,0]
[13,"Crossing - LT","WBL","MajL2","Signal near","NBT, EBL","MinT1, MajL1","Minor thru",null,2068.6813186813188,3854.3956043956041,7973516.1816205774,null,15,29.75,230,20.516764131102867,2.1946207825979773E-2,null,0.505,null,0,1,0,1,2,null,{"$f":"IF(B16=\"Diverging\",\"\",SSI_AGI_VehSpeed_MnrThru)","v":29.75},0.66388888888888886,null,null,null,1,null,0.67052777777777772,null,117334.61197289318,null,null,"","","","",1,"","","","","","","","","","","",null,"",1,"","","","",1,"","","","","","","","","",null,null,13,"Crossing - LT",0,1,0,1,null,0,1,0,1,null,0,1,0,0,null,0,1,0,0]
[14,"Merging","WBT","MajT2","Major thru","SBR","MinR2","Signal near",null,6502.7472527472528,1071.4285714285713,6967229.1993720559,null,45,15,45,17.995873453365363,1.3373938286506865E-2,null,0.505,null,0,0,1,0,1.75,null,{"$f":"IF(B17=\"Diverging\",\"\",SSI_AGI_VehSpeed_MjrThru)","v":45},0.83333333333333326,null,null,null,1,null,0.73645833333333333,null,68622.667074612313,null,null,"","","",1,"","","","","","","","","","","","",null,"","","","","","","","","","","",1,"","","","",null,null,14,"Merging",0,0,1,0,null,0,0,1,0,null,0,0,1,0,null,0,0,1,0]
[15,"Merging","WBT","MajT2","Major thru","NBL","MinL1","Signal far",null,6502.7472527472528,1071.4285714285713,6967229.1993720559,null,45,25,45,16.271214938736659,9.1348815406664795E-3,null,0.505,null,1,1,1,0,4.75,null,45,0.83333333333333326,null,null,null,1,null,1.9989583333333334,null,127223.33012524452,null,null,"","","",1,"","","","","","","","","","","","",null,"","","","","","","",1,"","","","","","","","",null,null,15,"Merging",1,1,1,0,null,0,0,1,0,null,0,1,1,0,null,0,0,1,0]
[16,"Merging","EBR","MajR1","Major right","SBT, WBL","MinT2, MajL2","Signal far",null,387.36263736263737,3925.8241758241757,1520717.606569255,null,15,25,45,8.9396576292116645,9.4329959592674944E-4,null,0.505,null,2,0,0,0,4,null,45,0.83333333333333326,null,null,null,1,null,1.6833333333333331,null,2414.7287113890438,null,null,"","",1,"","","","","","","","","","","","","",null,"","","","",1,"","","","",1,"","","","","","",null,null,16,"Merging",2,0,0,0,null,1,0,0,0,null,2,0,0,0,null,1,0,0,0]
[17,"Merging","EBT","MajT1","Major thru","NBR","MinR1","Signal near",null,6543.9560439560446,1142.8571428571429,7478806.9073783373,null,45,15,45,17.995873453365363,1.3373938286506865E-2,null,0.505,null,0,0,1,0,1.75,null,45,0.83333333333333326,null,null,null,1,null,0.73645833333333333,null,73661.374103580471,null,null,1,"","","","","","","","","","","","","","","",null,"","","","","","","","",1,"","","","","","","",null,null,17,"Merging",0,0,1,0,null,0,0,1,0,null,0,0,1,0,null,0,0,1,0]
[18,"Merging","EBT","MajT1","Major thru","SBL","MinL2","Signal far",null,6543.9560439560446,1071.4285714285713,7011381.4756671898,null,45,25,45,16.271214938736659,9.1348815406664795E-3,null,0.505,null,1,1,1,0,4.75,null,45,0.83333333333333326,null,null,null,1,null,1.9989583333333334,null,128029.56162160222,null,null,1,"","","","","","","","","","","","","","","",null,"","","","","","","","","","",1,"","","","","",null,null,18,"Merging",1,1,1,0,null,0,0,1,0,null,0,1,1,0,null,{"$f":"IF(OR(CD21=\"\",CI21=\"\"),\"\",MIN(CD21,CI21))","v":0},0,1,0]
[19,"Merging","EBL","MajL1","Major left","NBT","MinT1","Signal far",null,2068.6813186813188,1785.7142857142856,3694073.7833594973,null,20,25,45,8.9147801264732891,9.333798723087925E-4,null,0.505,null,2,0,0,0,4,null,45,0.83333333333333326,null,null,null,1,null,1.6833333333333331,null,5804.089762289098,null,null,"",1,"","","","","","","","","","","","","","",null,"","","","","","",1,"","","","","","","","","",null,null,19,"Merging",2,0,0,0,null,1,0,0,0,null,2,0,0,0,null,1,0,0,0]
[20,"Merging","WBL","MajL2","Signal far","SBT, SBR, SBL","MinT2, MinR2, MinL2","Minor thru",null,2068.6813186813188,4000,8274725.2747252751,null,25,29.75,45,10.703284110321123,1.8675169807025405E-3,null,0.505,null,0,1,0,1,2,null,{"$f":"IF(B23=\"Diverging\",\"\",SSI_AGI_VehSpeed_MnrThru)","v":29.75},0.66388888888888886,null,null,null,1,null,0.67052777777777772,null,10361.793124259922,null,null,"","","","",1,"","","","","","","","","","","",null,"","","","","","","","","",1,1,1,"","","","",null,null,20,"Merging",0,1,0,1,null,0,1,0,1,null,0,0,0,1,null,0,0,0,1]
[21,"Merging","WBR","MajR2","Signal near","NBT, EBL","MinT1, MajL1","Minor thru",null,428.57142857142856,3854.3956043956041,1651883.8304552587,null,15,29.75,45,10.942688172828081,2.0309556354165454E-3,null,0.505,null,0,0,0,1,1,null,{"$f":"IF(B24=\"Diverging\",\"\",SSI_AGI_VehSpeed_MnrThru)","v":29.75},0.66388888888888886,null,null,null,1,null,0.33526388888888886,null,1124.7777510285505,null,null,"","","","","",1,"","","","","","","","","","",null,"",1,"","","","",1,"","","","","","","","","",null,null,21,"Merging",0,0,0,1,null,0,0,0,1,null,0,0,0,1,null,0,0,0,1]
[22,"Diverging","SBT, WBL","MinT2, MajL2","Signal near","SBR","MinR2","Signal near",null,3925.8241758241757,1071.4285714285713,4206240.1883830447,null,15,15,10,1.3073361412148754,6.4061388075216071E-7,null,1,null,0,0,0,0,1,null,{"$f":"IF(B25=\"Diverging\",\"\",SSI_AGI_VehSpeed_MjrThru)","v":""},1,null,null,null,1,null,1,null,2.6945758504557618,null,null,"","","","",1,"","","","",1,"","","","","","",null,"","","","","","","","","","","",1,"","","","",null,null,22,"Diverging",0,0,0,0,null,0,0,0,0,null,0,0,0,0,null,0,0,0,0]
[23,"Diverging","SBT, WBL","MinT2, MajL2","Signal near","SBL","MinL2","Signal near",null,3925.8241758241757,1071.4285714285713,4206240.1883830447,null,15,15,10,1.3073361412148754,6.4061388075216071E-7,null,1,null,0,0,0,0,1,null,"",1,null,null,null,1,null,1,null,2.6945758504557618,null,null,"","","","",1,"","","","",1,"","","","","","",null,"","","","","","","","","","",1,"","","","","",null,null,23,"Diverging",0,0,0,0,null,0,0,0,0,null,0,0,0,0,null,0,0,0,0]
[24,"Diverging","EBT","MajT1","Major thru","EBL","MajL1","Major left",null,6543.9560439560446,2068.6813186813188,13537359.618403576,null,45,20,10,12.77053292327718,3.6481988362114144E-3,null,1,null,0,0,0,0,1,null,"",1,null,null,null,1,null,1,null,49386.979605235327,null,null,1,"","","","","","","","","","","","","","","",null,"",1,"","","","","","","","","","","","","","",null,null,24,"Diverging",0,0,0,0,null,0,0,0,0,null,0,0,0,0,null,0,0,0,0]
[25,"Diverging","EBT","MajT1","Major thru","EBR","MajR1","Major right",null,6543.9560439560446,387.36263736263737,2534884.0719719846,null,45,15,10,15.169950011729762,7.0056226631585675E-3,null,1,null,0,0,0,0,1,null,"",1,null,null,null,1,null,1,null,17758.441303086609,null,null,1,"","","","","","","","","","","","","","","",null,"","",1,"","","","","","","","","","","","","",null,null,25,"Diverging",0,0,0,0,null,0,0,0,0,null,0,0,0,0,null,0,0,0,0]
[26,"Diverging","NBT","MinT1","Signal near","NBL","MinL1","Signal near",null,1785.7142857142856,1071.4285714285713,1913265.3061224485,null,15,15,10,1.3073361412148754,6.4061388075216071E-7,null,1,null,0,0,0,0,1,null,"",1,null,null,null,1,null,1,null,1.2256643126635725,null,null,"","","","","","",1,"","","","","","","","","",null,"","","","","","","",1,"","","","","","","","",null,null,26,"Diverging",0,0,0,0,null,0,0,0,0,null,0,0,0,0,null,0,0,0,0]
[27,"Diverging","NBT","MinT1","Signal near","NBR","MinR1","Signal near",null,1785.7142857142856,1142.8571428571429,2040816.3265306121,null,15,15,10,1.3073361412148754,6.4061388075216071E-7,null,1,null,0,0,0,0,1,null,"",1,null,null,null,1,null,1,null,1.3073752668411442,null,null,"","","","","","",1,"","","","","","","","","",null,"","","","","","","","",1,"","","","","","","",null,null,27,"Diverging",0,0,0,0,null,0,0,0,0,null,0,0,0,0,null,0,0,0,0]
[28,"Diverging","WBT","MajT2","Major thru","WBL, WBR","MajL2, MajR2","Major right",null,6502.7472527472528,2497.2527472527472,16239003.441613331,null,45,15,10,15.169950011729762,7.0056226631585675E-3,null,1,null,0,0,0,0,1,null,"",1,null,null,null,1,null,1,null,113764.33053767633,null,null,"","","",1,"","","","","","","","","","","","",null,"","","","",1,1,"","","","","","","","","","",null,null,28,"Diverging",0,0,0,0,null,0,0,0,0,null,0,0,0,0,null,0,0,0,0]
[29,"Diverging","WBL","MajL2","Signal near","WBR","MajR2","Signal near",null,2068.6813186813188,428.57142857142856,886577.70800627943,null,15,15,10,1.3073361412148754,6.4061388075216071E-7,null,1,null,0,0,0,0,1,null,"",1,null,null,null,1,null,1,null,0.56795398611425862,null,null,"","","","",1,"","","","","","","","","","","",null,"","","","","",1,"","","","","","","","","","",null,null,29,"Diverging",0,0,0,0,null,0,0,0,0,null,0,0,0,0,null,0,0,0,0]
[30,"Nonmotorized",null,"MinNM2","Nonmotorized","SBR","MinR2","Signal near",null,175,1071.4285714285713,187499.99999999997,null,0,15,"","",0.1205004039155782,null,{"$f":"SSI_AGI_ProtFactor","v":0.505},null,0,2,1,0,3.75,null,45,0.83333333333333326,null,null,null,1,null,1.578125,null,35655.881236738467,null,null,"","","","","","","","","","","","","","","",1,null,"","","","","","","","","","","",1,"","","","",null,null,30,"Nonmotorized",0,2,1,0,null,0,2,1,0,null,0,1,0,0,null,0,1,0,0]
[31,"Nonmotorized",null,"MinNM2","Nonmotorized","SBT, WBL","MinT2, MajL2","Signal near",null,175,3925.8241758241757,687019.23076923075,null,0,15,"","",0.1205004039155782,null,{"$f":"SSI_AGI_ProtFactor","v":0.505},null,0,2,1,0,3.75,null,45,0.83333333333333326,null,null,null,1,null,1.578125,null,130646.80586486994,null,null,"","","","","","","","","","","","","","","",1,null,"","","","",1,"","","","",1,"","","","","","",null,null,31,"Nonmotorized",0,2,1,0,null,0,2,1,0,null,0,1,0,0,null,0,1,0,0]
[32,"Nonmotorized",null,"MinNM2","Nonmotorized","SBL","MinL2","Signal near",null,175,1071.4285714285713,187499.99999999997,null,0,15,"","",0.1205004039155782,null,{"$f":"SSI_AGI_ProtFactor","v":0.505},null,0,2,1,0,3.75,null,45,0.83333333333333326,null,null,null,1,null,1.578125,null,35655.881236738467,null,null,{"$f":"IF(ISNUMBER(SEARCH(AN$3,$D35)),1,\"\")","v":""},"","","","","","","","","","","","","","",1,null,{"$f":"IF(ISNUMBER(SEARCH(BE$3,$G35)),1,\"\")","v":""},"","","","","","","","","",1,"","","","","",null,null,32,"Nonmotorized",0,2,1,0,null,0,2,1,0,null,0,1,0,0,null,0,1,0,0]
[33,"Nonmotorized",null,"MinNM2","Nonmotorized","EBL","MajL1","Major left",null,175,2068.6813186813188,362019.23076923081,null,{"$f":"VLOOKUP(E36,SSI_AGI_Range_VehSpeed,5,FALSE)","v":0},{"$f":"VLOOKUP(H36,SSI_AGI_Range_VehSpeed,5,FALSE)","v":20},{"$f":"IF(B36=\"Nonmotorized\",\"\",VLOOKUP(B36,SSI_AGI_Range_CollAngles,5,FALSE))","v":""},{"$f":"IF(B36=\"Nonmotorized\",\"\",SQRT(N36^2+O36^2-2*N36*O36*COS(RADIANS(P36)))/2)","v":""},{"$f":"IF(B36=\"Nonmotorized\",1/(1+EXP(3.8432-0.1237*O36)),(Q36/SSI_AGI_RegAlpha)^SSI_AGI_RegK+(Q36/SSI_AGI_RegAlpha)^SSI_AGI_RegK-((Q36/SSI_AGI_RegAlpha)^SSI_AGI_RegK)*((Q36/SSI_AGI_RegAlpha)^SSI_AGI_RegK))","v":0.20274912921655375},null,{"$f":"IF(SSI_AGI_MajorLTPhase=\"Protected/permitted\",SSI_AGI_ProtPermFactor,IF(SSI_AGI_MajorLTPhase=\"Protected\",SSI_AGI_ProtFactor,SSI_AGI_PermFactor))","v":0.505},null,{"$f":"IF(AND(SS_AGI_MajMedian=\"No\", SS_AGI_MinMedian=\"No\"),BY36,IF(AND(SS_AGI_MajMedian=\"Yes\",SS_AGI_MinMedian=\"No\"),CD36,IF(AND(SS_AGI_MajMedian=\"No\",SS_AGI_MinMedian=\"Yes\"),CI36,IF(AND(SS_AGI_MajMedian=\"Yes\",SS_AGI_MinMedian=\"Yes\"),CN36))))","v":0},{"$f":"IF(AND(SS_AGI_MajMedian=\"No\", SS_AGI_MinMedian=\"No\"),BZ36,IF(AND(SS_AGI_MajMedian=\"Yes\",SS_AGI_MinMedian=\"No\"),CE36,IF(AND(SS_AGI_MajMedian=\"No\",SS_AGI_MinMedian=\"Yes\"),CJ36,IF(AND(SS_AGI_MajMedian=\"Yes\",SS_AGI_MinMedian=\"Yes\"),CO36))))","v":2},{"$f":"IF(AND(SS_AGI_MajMedian=\"No\", SS_AGI_MinMedian=\"No\"),CA36,IF(AND(SS_AGI_MajMedian=\"Yes\",SS_AGI_MinMedian=\"No\"),CF36,IF(AND(SS_AGI_MajMedian=\"No\",SS_AGI_MinMedian=\"Yes\"),CK36,IF(AND(SS_AGI_MajMedian=\"Yes\",SS_AGI_MinMedian=\"Yes\"),CP36))))","v":1},{"$f":"IF(AND(SS_AGI_MajMedian=\"No\", SS_AGI_MinMedian=\"No\"),CB36,IF(AND(SS_AGI_MajMedian=\"Yes\",SS_AGI_MinMedian=\"No\"),CG36,IF(AND(SS_AGI_MajMedian=\"No\",SS_AGI_MinMedian=\"Yes\"),CL36,IF(AND(SS_AGI_MajMedian=\"Yes\",SS_AGI_MinMedian=\"Yes\"),CQ36))))","v":0},{"$f":"MAX(1,IF(B36<>\"Pedestrian\",V36*SSI_AGI_MajorThruLanes+W36*SSI_AGI_MinorThruLanes+X36*IF(SSI_AGI_MajorThruLanes=1,SSI_AGI_MergeWeightL1,IF(SSI_AGI_MajorThruLanes=2,SSI_AGI_MergeWeightL1+SSI_AGI_MergeWeightL2,SSI_AGI_MergeWeightL1+SSI_AGI_MergeWeightL2+SSI_AGI_MergeWeightL3*(SSI_AGI_MajorThruLanes-2)))+Y36*IF(SSI_AGI_MinorThruLanes=1,SSI_AGI_MergeWeightL1,IF(SSI_AGI_MinorThruLanes=2,SSI_AGI_MergeWeightL1+SSI_AGI_MergeWeightL2,SSI_AGI_MergeWeightL1+SSI_AGI_MergeWeightL2+SSI_AGI_MergeWeightL3*(SSI_AGI_MinorThruLanes-2))),V36*SSI_AGI_MajorThruLanes+W36*SSI_AGI_MinorThruLanes+X36*IF(SSI_AGI_MajorThruLanes=1,SSI_AGI_NM_MergeWeightL1,IF(SSI_AGI_MajorThruLanes=2,SSI_AGI_NM_MergeWeightL1+SSI_AGI_NM_MergeWeightL2,SSI_AGI_NM_MergeWeightL1+SSI_AGI_NM_MergeWeightL2+SSI_AGI_NM_MergeWeightL3*(SSI_AGI_MajorThruLanes-2)))+Y36*IF(SSI_AGI_MinorThruLanes=1,SSI_AGI_NM_MergeWeightL1,IF(SSI_AGI_MinorThruLanes=2,SSI_AGI_NM_MergeWeightL1+SSI_AGI_NM_MergeWeightL2,SSI_AGI_NM_MergeWeightL1+SSI_AGI_NM_MergeWeightL2+SSI_AGI_NM_MergeWeightL3*(SSI_AGI_MinorThruLanes-2)))))","v":3.75},null,45,0.83333333333333326,null,null,null,{"$f":"IF(SSI_AGI_ConsiderNMComplexity=\"Yes\",1+AE36+AF36,1)","v":1},null,1.578125,null,115832.92911888946,null,null,"","","","","","","","","","","","","","","",1,null,"",1,"","","","","","","","","","","","","","",null,null,33,"Nonmotorized",0,2,1,0,null,0,2,1,0,null,0,1,1,0,null,0,1,1,0]
[34,"Nonmotorized",null,"MinNM2","Nonmotorized","NBT","MinT1","Signal far",null,175,1785.7142857142856,{"$f":"PRODUCT(J37:K37)","v":312500},null,0,25,"","",0.32066879346345062,null,{"$f":"SSI_AGI_ProtFactor","v":0.505},null,0,2,1,0,3.75,null,45,0.83333333333333326,null,null,null,1,null,1.578125,null,158142.32490140875,null,null,"","","","","","","","","","","","","","","",1,null,"","","","","","",1,"","","","","","","","","",null,null,34,"Nonmotorized",0,2,1,0,null,0,2,1,0,null,0,1,1,0,null,{"$f":"IF(OR(CD37=\"\",CI37=\"\"),\"\",MIN(CD37,CI37))","v":0},1,1,0]
[35,"Nonmotorized",null,"MajNM1","Nonmotorized","SBR","MinR2","Signal near",null,175,1071.4285714285713,187499.99999999997,null,0,15,"","",0.1205004039155782,null,{"$f":"SSI_AGI_ProtFactor","v":0.505},null,2,0,0,2,6,null,45,0.83333333333333326,null,null,null,1,null,2.5249999999999999,null,57049.40997878155,null,null,"","","","","","","","","","","","",1,"","","",null,"","","","","","","","","","","",1,"","","","",null,null,35,"Nonmotorized",2,0,0,2,null,1,0,0,2,null,2,0,0,2,null,1,0,0,2]
[36,"Nonmotorized",null,"MajNM1","Nonmotorized","WBT","MajT2","Major thru",null,175,6502.7472527472528,1137980.7692307692,null,0,45,"","",0.84855340903216459,null,{"$f":"SSI_AGI_ProtFactor","v":0.505},null,2,0,0,2,6,null,45,0.83333333333333326,null,null,null,1,null,2.5249999999999999,null,2438234.5893881307,null,null,"","","","","","","","","","","","",1,"","","",null,"","","",1,"","","","","","","","","","","","",null,null,36,"Nonmotorized",2,0,0,2,null,1,0,0,2,null,2,0,0,2,null,1,0,0,2]
[37,"Nonmotorized",null,"MajNM1","Nonmotorized","NBL","MinL1","Signal far",null,175,1071.4285714285713,187499.99999999997,null,0,25,"","",0.32066879346345062,null,{"$f":"IF(SSI_AGI_MinorLTPhase=\"Protected/permitted\",SSI_AGI_ProtPermFactor,IF(SSI_AGI_MinorLTPhase=\"Protected\",SSI_AGI_ProtFactor,SSI_AGI_PermFactor))","v":0.505},null,2,0,0,2,6,null,45,0.83333333333333326,null,null,null,1,null,2.5249999999999999,null,151816.63190535238,null,null,"","","","","","","","","","","","",1,"","","",null,"","","","","","","",1,"","","","","","","","",null,null,37,"Nonmotorized",2,0,0,2,null,1,0,0,2,null,2,0,0,2,null,1,0,0,2]
[38,"Nonmotorized",null,"MajNM1","Nonmotorized","EBL","MajL1","Major left",null,175,2068.6813186813188,362019.23076923081,null,0,20,"","",0.20274912921655375,null,{"$f":"SSI_AGI_ProtFactor","v":0.505},null,2,0,0,2,6,null,45,0.83333333333333326,null,null,null,1,null,2.5249999999999999,null,185332.68659022314,null,null,"","","","","","","","","","","","",1,"","","",null,"",1,"","","","","","","","","","","","","","",null,null,38,"Nonmotorized",2,0,0,2,null,1,0,0,0,null,2,0,0,2,null,1,0,0,0]
[39,"Nonmotorized",null,"MajNM1","Nonmotorized","EBT","MajT1","Major thru",null,175,6543.9560439560446,1145192.3076923077,null,0,45,"","",0.84855340903216459,null,0.505,null,2,0,0,2,6,null,45,0.83333333333333326,null,null,null,1,null,2.5249999999999999,null,2453686.0126415412,null,null,"","","","","","","","","","","","",1,"","","",null,1,"","","","","","","","","","","","","","","",null,null,39,"Nonmotorized",2,0,0,2,null,1,0,0,0,null,2,0,0,2,null,1,0,0,0]
[40,"Nonmotorized",null,"MajNM1","Nonmotorized","EBR","MajR1","Major right",null,175,387.36263736263737,67788.461538461546,null,0,15,"","",0.1205004039155782,null,0.505,null,2,0,0,2,6,null,45,0.83333333333333326,null,null,null,1,null,2.5249999999999999,null,20625.555915405643,null,null,"","","","","","","","","","","","",1,"","","",null,"","",1,"","","","","","","","","","","","","",null,null,40,"Nonmotorized",2,0,0,2,null,1,0,0,0,null,2,0,0,2,null,1,0,0,0]
[41,"Nonmotorized",null,"MinNM1","Nonmotorized","EBR","MajR1","Major right",null,175,387.36263736263737,67788.461538461546,null,0,15,"","",0.1205004039155782,null,0.505,null,0,2,1,0,3.75,null,45,0.83333333333333326,null,null,null,1,null,1.578125,null,12890.972447128526,null,null,"","","","","","","","","","","","","","",1,"",null,"","",1,"","","","","","","","","","","","","",null,null,41,"Nonmotorized",0,2,1,0,null,0,2,1,0,null,0,1,1,0,null,0,1,1,0]
[42,"Nonmotorized",null,"MinNM1","Nonmotorized","SBT, WBL","MinT2, MajL2","Signal far",null,175,3925.8241758241757,687019.23076923075,null,0,25,"","",0.32066879346345062,null,0.505,null,0,2,1,0,3.75,null,45,0.83333333333333326,null,null,null,1,null,1.578125,null,347669.81889863551,null,null,"","","","","","","","","","","","","","",1,"",null,"","","","",1,"","","","",1,"","","","","","",null,null,42,"Nonmotorized",0,2,1,0,null,0,2,1,0,null,0,1,1,0,null,0,1,1,0]
[43,"Nonmotorized",null,"MinNM1","Nonmotorized","NBL","MinL1","Signal near",null,175,1071.4285714285713,187499.99999999997,null,0,15,"","",0.1205004039155782,null,0.505,null,0,2,1,0,3.75,null,45,0.83333333333333326,null,null,null,1,null,1.578125,null,35655.881236738467,null,null,"","","","","","","","","","","","","","",1,"",null,"","","","","","","",1,"","","","","","","","",null,null,43,"Nonmotorized",0,2,1,0,null,0,2,1,0,null,0,1,0,0,null,0,1,0,0]
[44,"Nonmotorized",null,"MinNM1","Nonmotorized","NBT","MinT1","Signal near",null,175,1785.7142857142856,312500,null,0,15,"","",0.1205004039155782,null,0.505,null,0,2,1,0,3.75,null,45,0.83333333333333326,null,null,null,1,null,1.578125,null,59426.468727897452,null,null,"","","","","","","","","","","","","","",1,"",null,"","","","","","",1,"","","","","","","","","",null,null,44,"Nonmotorized",0,2,1,0,null,0,2,1,0,null,0,1,0,0,null,0,1,0,0]
[45,"Nonmotorized",null,"MinNM1","Nonmotorized","NBR","MinR1","Signal near",null,175,1142.8571428571429,200000,null,0,15,"","",0.1205004039155782,null,0.505,null,0,2,1,0,3.75,null,45,0.83333333333333326,null,null,null,1,null,1.578125,null,38032.939985854369,null,null,"","","","","","","","","","","","","","",1,"",null,"","","","","","","","",1,"","","","","","","",null,null,45,"Nonmotorized",0,2,1,0,null,0,2,1,0,null,0,1,0,0,null,0,1,0,0]
[46,"Nonmotorized",null,"MajNM2","Nonmotorized","NBR","MinR1","Signal near",null,175,1142.8571428571429,200000,null,0,15,"","",0.1205004039155782,null,0.505,null,2,0,0,2,6,null,45,0.83333333333333326,null,null,null,1,null,2.5249999999999999,null,60852.703977366997,null,null,"","","","","","","","","","","","","",1,"","",null,"","","","","","","","",1,"","","","","","","",null,null,46,"Nonmotorized",2,0,0,2,null,1,0,0,2,null,2,0,0,2,null,1,0,0,2]
[47,"Nonmotorized",null,"MajNM2","Nonmotorized","EBT","MajT1","Major thru",null,175,6543.9560439560446,1145192.3076923077,null,0,45,"","",0.84855340903216459,null,0.505,null,2,0,0,2,6,null,45,0.83333333333333326,null,null,null,1,null,2.5249999999999999,null,2453686.0126415412,null,null,"","","","","","","","","","","","","",1,"",{"$f":"IF(ISNUMBER(SEARCH(BC$3,$D50)),1,\"\")","v":""},null,1,"","","","","","","","","","","","","","",{"$f":"IF(ISNUMBER(SEARCH(BT$3,$G50)),1,\"\")","v":""},null,null,47,"Nonmotorized",2,0,0,2,null,1,0,0,2,null,2,0,0,2,null,1,0,0,2]
[48,"Nonmotorized",null,"MajNM2","Nonmotorized","SBL","MinL2","Signal far",null,175,1071.4285714285713,187499.99999999997,null,0,25,"","",0.32066879346345062,null,{"$f":"IF(SSI_AGI_MinorLTPhase=\"Protected/permitted\",SSI_AGI_ProtPermFactor,IF(SSI_AGI_MinorLTPhase=\"Protected\",SSI_AGI_ProtFactor,SSI_AGI_PermFactor))","v":0.505},null,2,0,0,2,6,null,45,0.83333333333333326,null,null,null,1,null,2.5249999999999999,null,151816.63190535238,null,null,{"$f":"IF(ISNUMBER(SEARCH(AN$3,$D51)),1,\"\")","v":""},"","","","","","","","","","","","",1,"","",null,{"$f":"IF(ISNUMBER(SEARCH(BE$3,$G51)),1,\"\")","v":""},"","","","","","","","","",1,"","","","","",null,null,48,"Nonmotorized",2,0,0,2,null,1,0,0,2,null,2,0,0,2,null,1,0,0,2]
[49,"Nonmotorized",null,"MajNM2","Nonmotorized","WBT","MajT2","Major thru",null,175,6502.7472527472528,1137980.7692307692,null,0,45,"","",0.84855340903216459,null,{"$f":"SSI_AGI_ProtFactor","v":0.505},null,2,0,0,2,6,null,45,0.83333333333333326,null,null,null,1,null,2.5249999999999999,null,2438234.5893881307,null,null,"","","","","","","","","","","","","",1,"","",null,"","","",1,"","","","","","","","","","","","",null,null,49,"Nonmotorized",2,0,0,2,null,1,0,0,0,null,2,0,0,2,null,1,0,0,0]
[50,"Nonmotorized",null,"MajNM2","Nonmotorized","WBL","MajL2","Signal near",null,175,2068.6813186813188,362019.23076923081,null,0,15,"","",0.1205004039155782,null,{"$f":"SSI_AGI_ProtFactor","v":0.505},null,0,1,0,0,1,null,{"$f":"IF(B53=\"Diverging\",\"\",SSI_AGI_VehSpeed_MnrThru)","v":29.75},0.66388888888888886,null,null,null,1,null,0.33526388888888886,null,14625.372030842422,null,null,"","","","","","","","","","","","","",1,"","",null,"","","","",1,"","","","","","","","","","","",null,null,50,"Nonmotorized",0,1,0,0,null,0,1,0,0,null,0,1,0,0,null,0,1,0,0]
[51,"Nonmotorized",null,"MajNM2","Nonmotorized","WBR","MajR2","Signal near",null,175,428.57142857142856,75000,null,0,15,"","",0.1205004039155782,null,{"$f":"SSI_AGI_ProtFactor","v":0.505},null,0,1,0,0,1,null,{"$f":"IF(B54=\"Diverging\",\"\",SSI_AGI_VehSpeed_MnrThru)","v":29.75},0.66388888888888886,null,null,null,1,null,0.33526388888888886,null,3029.9575522063978,null,null,"","","","","","","","","","","","","",1,"","",null,"","","","","",1,"","","","","","","","","","",null,null,51,"Nonmotorized",0,1,0,0,null,0,1,0,0,null,0,1,0,0,null,0,1,0,0]
[52,"Nonmotorized",null,"MinNM2","Nonmotorized","WBL, WBR","MajL2, MajR2","Major right",null,175,2497.2527472527472,437019.23076923075,null,0,15,"","",0.1205004039155782,null,{"$f":"SSI_AGI_ProtFactor","v":0.505},null,0,0,1,0,1.75,null,{"$f":"IF(B55=\"Diverging\",\"\",SSI_AGI_VehSpeed_MjrThru)","v":45},0.83333333333333326,null,null,null,1,null,0.73645833333333333,null,38782.627745190919,null,null,"","","","","","","","","","","","","","","",1,null,"","","","",1,1,"","","","","","","","","","",null,null,52,"Nonmotorized",0,0,1,0,null,0,0,1,0,null,0,0,1,0,null,0,0,1,0]
[null,null,null,null,null,null,null,null,null,null,null,null,null,null,null,null,null,null,null,null,null,null,null,null,null,null,null,null,null,null,null,null,null,null,null,null,null,null,"O",{"$f":"'SSI Inputs'!$D$26","v":6543.9560439560446},{"$f":"'SSI Inputs'!$D$27","v":2068.6813186813188},{"$f":"'SSI Inputs'!$D$28","v":387.36263736263737},{"$f":"'SSI Inputs'!$D$30","v":6502.7472527472528},{"$f":"'SSI Inputs'!$D$31","v":2068.6813186813188},{"$f":"'SSI Inputs'!$D$32","v":428.57142857142856},{"$f":"'SSI Inputs'!$D$34","v":1785.7142857142856},{"$f":"'SSI Inputs'!$D$35","v":1071.4285714285713},{"$f":"'SSI Inputs'!$D$36","v":1142.8571428571429},{"$f":"'SSI Inputs'!$D$38","v":1857.1428571428571},{"$f":"'SSI Inputs'!$D$39","v":1071.4285714285713},{"$f":"'SSI Inputs'!$D$40","v":1071.4285714285713},{"$f":"'SSI Inputs'!$Q$18","v":175},{"$f":"'SSI Inputs'!$Q$19","v":175},{"$f":"'SSI Inputs'!$Q$20","v":175},{"$f":"'SSI Inputs'!$Q$21","v":175},"O",{"$f":"'SSI Inputs'!$D$26","v":6543.9560439560446},{"$f":"'SSI Inputs'!$D$27","v":2068.6813186813188},{"$f":"'SSI Inputs'!$D$28","v":387.36263736263737},{"$f":"'SSI Inputs'!$D$30","v":6502.7472527472528},{"$f":"'SSI Inputs'!$D$31","v":2068.6813186813188},{"$f":"'SSI Inputs'!$D$32","v":428.57142857142856},{"$f":"'SSI Inputs'!$D$34","v":1785.7142857142856},{"$f":"'SSI Inputs'!$D$35","v":1071.4285714285713},{"$f":"'SSI Inputs'!$D$36","v":1142.8571428571429},{"$f":"'SSI Inputs'!$D$38","v":1857.1428571428571},{"$f":"'SSI Inputs'!$D$39","v":1071.4285714285713},{"$f":"'SSI Inputs'!$D$40","v":1071.4285714285713},{"$f":"'SSI Inputs'!$Q$18","v":175},{"$f":"'SSI Inputs'!$Q$19","v":175},{"$f":"'SSI Inputs'!$Q$20","v":175},{"$f":"'SSI Inputs'!$Q$21","v":175}]
[null,null,null,null,null,null,null,null,null,null,null,null,null,null,null,null,null,null,null,null,null,null,null,null,null,null,null,null,null,null,null,null,null,null,null,null,null,null,"D",{"$f":"'SSI Inputs'!$E$26","v":7271.062271062272},{"$f":"'SSI Inputs'!$E$27","v":2298.5347985347985},{"$f":"'SSI Inputs'!$E$28","v":430.40293040293039},{"$f":"'SSI Inputs'!$E$30","v":7225.2747252747249},{"$f":"'SSI Inputs'!$E$31","v":2298.5347985347985},{"$f":"'SSI Inputs'!$E$32","v":476.19047619047615},{"$f":"'SSI Inputs'!$E$34","v":2232.1428571428569},{"$f":"'SSI Inputs'!$E$35","v":1339.2857142857142},{"$f":"'SSI Inputs'!$E$36","v":1428.5714285714284},{"$f":"'SSI Inputs'!$E$38","v":2321.4285714285716},{"$f":"'SSI Inputs'!$E$39","v":1339.2857142857142},{"$f":"'SSI Inputs'!$E$40","v":1339.2857142857142},{"$f":"'SSI Inputs'!$R$18","v":175},{"$f":"'SSI Inputs'!$R$19","v":175},{"$f":"'SSI Inputs'!$R$20","v":175},{"$f":"'SSI Inputs'!$R$21","v":175},"D",{"$f":"'SSI Inputs'!$E$26","v":7271.062271062272},{"$f":"'SSI Inputs'!$E$27","v":2298.5347985347985},{"$f":"'SSI Inputs'!$E$28","v":430.40293040293039},{"$f":"'SSI Inputs'!$E$30","v":7225.2747252747249},{"$f":"'SSI Inputs'!$E$31","v":2298.5347985347985},{"$f":"'SSI Inputs'!$E$32","v":476.19047619047615},{"$f":"'SSI Inputs'!$E$34","v":2232.1428571428569},{"$f":"'SSI Inputs'!$E$35","v":1339.2857142857142},{"$f":"'SSI Inputs'!$E$36","v":1428.5714285714284},{"$f":"'SSI Inputs'!$E$38","v":2321.4285714285716},{"$f":"'SSI Inputs'!$E$39","v":1339.2857142857142},{"$f":"'SSI Inputs'!$E$40","v":1339.2857142857142},{"$f":"'SSI Inputs'!$R$18","v":175},{"$f":"'SSI Inputs'!$R$19","v":175},{"$f":"'SSI Inputs'!$R$20","v":175},{"$f":"'SSI Inputs'!$R$21","v":175}]
[]
[]
[]
[]
[]
[]
[]
[]
[]
[]
[]
[]
[]
[]
[]
[]
[]
[]
[]
[]
[]
[]
[]
[]
[]
[]
[]
[]
[]
[]
[]
[]
[]
[]
[]
[]
[]
[]
[]
[]
[]
[]
[]
[null,null,null,null,null,null,null,null,null,"Exposure",null,null,null,null,null,null,null,null,null,null,null,null,null,null,null,null,null,null,null,null,null,null,null,null,null,null,"Exposure-Severity-Complexity Product"]
[null,null,null,null,null,null,null,null,null,"Q1","Q2","I"]
[null,null,null,null,null,null,null,null,null,{"$f":"SUMPRODUCT($AN4:$BC4,$AN$57:$BC$57)","v":7225.2747252747249},{"$f":"SUMPRODUCT($BE4:$BT4,$BE$57:$BT$57)","v":4619.9633699633705},{"$f":"PRODUCT(J103:K103)","v":33380504.568691384},null,null,null,null,null,null,null,null,null,null,null,null,null,null,null,null,null,null,null,null,null,null,null,null,{"$f":"L103*R4*AI4","v":2128751.9514457486}]
[null,null,null,null,null,null,null,null,null,{"$f":"SUMPRODUCT($AN5:$BC5,$AN$57:$BC$57)","v":7225.2747252747249},{"$f":"SUMPRODUCT($BE5:$BT5,$BE$57:$BT$57)","v":1339.2857142857142},{"$f":"PRODUCT(J104:K104)","v":9676707.2213500775},null,null,null,null,null,null,null,null,null,null,null,null,null,null,null,null,null,null,null,null,null,null,null,null,{"$f":"L104*R5*AI5","v":1349433.2956522342}]
[null,null,null,null,null,null,null,null,null,7225.2747252747249,2298.5347985347985,16607545.385017911,null,null,null,null,null,null,null,null,null,null,null,null,null,null,null,null,null,null,null,null,null,null,null,null,1616654.2330190304]
[null,null,null,null,null,null,null,null,null,7225.2747252747249,2232.1428571428569,16127845.368916795,null,null,null,null,null,null,null,null,null,null,null,null,null,null,null,null,null,null,null,null,null,null,null,null,1397990.9549148506]
[null,null,null,null,null,null,null,null,null,4619.9633699633705,1339.2857142857142,6187450.941915228,null,null,null,null,null,null,null,null,null,null,null,null,null,null,null,null,null,null,null,null,null,null,null,null,174383.3531530367]
[null,null,null,null,null,null,null,null,null,2298.5347985347985,1339.2857142857142,3078394.8194662477,null,null,null,null,null,null,null,null,null,null,null,null,null,null,null,null,null,null,null,null,null,null,null,null,51454.252391492024]
[null,null,null,null,null,null,null,null,null,2298.5347985347985,1339.2857142857142,3078394.8194662477,null,null,null,null,null,null,null,null,null,null,null,null,null,null,null,null,null,null,null,null,null,null,null,null,51454.252391492024]
[null,null,null,null,null,null,null,null,null,1339.2857142857142,2232.1428571428569,2989477.0408163262,null,null,null,null,null,null,null,null,null,null,null,null,null,null,null,null,null,null,null,null,null,null,null,null,84253.602241928034]
[null,null,null,null,null,null,null,null,null,2298.5347985347985,4619.9633699633705,10619146.573816905,null,null,null,null,null,null,null,null,null,null,null,null,null,null,null,null,null,null,null,null,null,null,null,null,385312.84821871552]
[null,null,null,null,null,null,null,null,null,7271.062271062272,4619.9633699633705,33592041.353030369,null,null,null,null,null,null,null,null,null,null,null,null,null,null,null,null,null,null,null,null,null,null,null,null,2911819.2104675523]
[null,null,null,null,null,null,null,null,null,7271.062271062272,1339.2857142857142,9738029.8273155428,null,null,null,null,null,null,null,null,null,null,null,null,null,null,null,null,null,null,null,null,null,null,null,null,1357984.8374497772]
[null,null,null,null,null,null,null,null,null,7271.062271062272,2232.1428571428569,16230049.712192569,null,null,null,null,null,null,null,null,null,null,null,null,null,null,null,null,null,null,null,null,null,null,null,null,1035027.793716957]
[null,null,null,null,null,null,null,null,null,2298.5347985347985,4530.6776556776549,10413920.252519151,null,null,null,null,null,null,null,null,null,null,null,null,null,null,null,null,null,null,null,null,null,null,null,null,153246.4804878142]
[null,null,null,null,null,null,null,null,null,7225.2747252747249,1339.2857142857142,9676707.2213500775,null,null,null,null,null,null,null,null,null,null,null,null,null,null,null,null,null,null,null,null,null,null,null,null,95309.259825850429]
[null,null,null,null,null,null,null,null,null,7225.2747252747249,1339.2857142857142,9676707.2213500775,null,null,null,null,null,null,null,null,null,null,null,null,null,null,null,null,null,null,null,null,null,null,null,null,176699.06961839518]
[null,null,null,null,null,null,null,null,null,430.40293040293039,4619.9633699633705,1988445.7727864324,null,null,null,null,null,null,null,null,null,null,null,null,null,null,null,null,null,null,null,null,null,null,null,null,3157.428491552686]
[null,null,null,null,null,null,null,null,null,7271.062271062272,1428.5714285714284,10387231.815803245,null,null,null,null,null,null,null,null,null,null,null,null,null,null,null,null,null,null,null,null,null,null,null,null,102307.46403275065]
[null,null,null,null,null,null,null,null,null,7271.062271062272,1339.2857142857142,9738029.8273155428,null,null,null,null,null,null,null,null,null,null,null,null,null,null,null,null,null,null,null,null,null,null,null,null,177818.83558555867]
[null,null,null,null,null,null,null,null,null,2298.5347985347985,2232.1428571428569,5130658.032443746,null,null,null,null,null,null,null,null,null,null,null,null,null,null,null,null,null,null,null,null,null,null,null,null,8061.2357809570794]
[null,null,null,null,null,null,null,null,null,2298.5347985347985,5000,11492673.992673993,null,null,null,null,null,null,null,null,null,null,null,null,null,null,null,null,null,null,null,null,null,null,null,null,14391.37933924989]
[null,null,null,null,null,null,null,null,null,476.19047619047615,4530.6776556776549,2157465.5503226928,null,null,null,null,null,null,null,null,null,null,null,null,null,null,null,null,null,null,null,null,null,null,null,null,1469.031420293486]
[null,null,null,null,null,null,null,null,null,4619.9633699633705,1339.2857142857142,6187450.941915228,null,null,null,null,null,null,null,null,null,null,null,null,null,null,null,null,null,null,null,null,null,null,null,null,3.9637669598639262]
[null,null,null,null,null,null,null,null,null,4619.9633699633705,1339.2857142857142,6187450.941915228,null,null,null,null,null,null,null,null,null,null,null,null,null,null,null,null,null,null,null,null,null,null,null,null,3.9637669598639262]
[null,null,null,null,null,null,null,null,null,7271.062271062272,2298.5347985347985,16712789.652350094,null,null,null,null,null,null,null,null,null,null,null,null,null,null,null,null,null,null,null,null,null,null,null,null,60971.579759549786]
[null,null,null,null,null,null,null,null,null,7271.062271062272,430.40293040293039,3129486.508607388,null,null,null,null,null,null,null,null,null,null,null,null,null,null,null,null,null,null,null,null,null,null,null,null,21924.001608748898]
[null,null,null,null,null,null,null,null,null,2232.1428571428569,1339.2857142857142,2989477.0408163262,null,null,null,null,null,null,null,null,null,null,null,null,null,null,null,null,null,null,null,null,null,null,null,null,1.9151004885368323]
[null,null,null,null,null,null,null,null,null,2232.1428571428569,1428.5714285714284,3188775.510204081,null,null,null,null,null,null,null,null,null,null,null,null,null,null,null,null,null,null,null,null,null,null,null,null,2.0427738544392877]
[null,null,null,null,null,null,null,null,null,7225.2747252747249,2774.7252747252746,20048152.397053495,null,null,null,null,null,null,null,null,null,null,null,null,null,null,null,null,null,null,null,null,null,null,null,null,140449.79078725472]
[null,null,null,null,null,null,null,null,null,2298.5347985347985,476.19047619047615,1094540.3802546659,null,null,null,null,null,null,null,null,null,null,null,null,null,null,null,null,null,null,null,null,null,null,null,null,0.70117776063488713]
[null,null,null,null,null,null,null,null,null,175,1339.2857142857142,234375,null,null,null,null,null,null,null,null,null,null,null,null,null,null,null,null,null,null,null,null,null,null,null,null,44569.851545923091]
[null,null,null,null,null,null,null,null,null,175,4619.9633699633705,808493.58974358987,null,null,null,null,null,null,null,null,null,null,null,null,null,null,null,null,null,null,null,null,null,null,null,null,153746.94088832958]
[null,null,null,null,null,null,null,null,null,175,1339.2857142857142,234375,null,null,null,null,null,null,null,null,null,null,null,null,null,null,null,null,null,null,null,null,null,null,null,null,44569.851545923091]
[null,null,null,null,null,null,null,null,null,175,2298.5347985347985,402243.58974358975,null,null,null,null,null,null,null,null,null,null,null,null,null,null,null,null,null,null,null,null,null,null,null,null,128703.25457654383]
[null,null,null,null,null,null,null,null,null,175,2232.1428571428569,390624.99999999994,null,null,null,null,null,null,null,null,null,null,null,null,null,null,null,null,null,null,null,null,null,null,null,null,197677.90612676091]
[null,null,null,null,null,null,null,null,null,175,1339.2857142857142,234375,null,null,null,null,null,null,null,null,null,null,null,null,null,null,null,null,null,null,null,null,null,null,null,null,71311.762473476949]
[null,null,null,null,null,null,null,null,null,175,7225.2747252747249,1264423.0769230768,null,null,null,null,null,null,null,null,null,null,null,null,null,null,null,null,null,null,null,null,null,null,null,null,2709149.5437645894]
[null,null,null,null,null,null,null,null,null,175,1339.2857142857142,234375,null,null,null,null,null,null,null,null,null,null,null,null,null,null,null,null,null,null,null,null,null,null,null,null,189770.78988169049]
[null,null,null,null,null,null,null,null,null,175,2298.5347985347985,402243.58974358975,null,null,null,null,null,null,null,null,null,null,null,null,null,null,null,null,null,null,null,null,null,null,null,null,205925.20732247012]
[null,null,null,null,null,null,null,null,null,175,7271.062271062272,1272435.8974358975,null,null,null,null,null,null,null,null,null,null,null,null,null,null,null,null,null,null,null,null,null,null,null,null,2726317.7918239348]
[null,null,null,null,null,null,null,null,null,175,430.40293040293039,75320.512820512813,null,null,null,null,null,null,null,null,null,null,null,null,null,null,null,null,null,null,null,null,null,null,null,null,22917.284350450711]
[null,null,null,null,null,null,null,null,null,175,430.40293040293039,75320.512820512813,null,null,null,null,null,null,null,null,null,null,null,null,null,null,null,null,null,null,null,null,null,null,null,null,14323.302719031693]
[null,null,null,null,null,null,null,null,null,175,4619.9633699633705,808493.58974358987,null,null,null,null,null,null,null,null,null,null,null,null,null,null,null,null,null,null,null,null,null,null,null,null,409142.57903979858]
[null,null,null,null,null,null,null,null,null,175,1339.2857142857142,234375,null,null,null,null,null,null,null,null,null,null,null,null,null,null,null,null,null,null,null,null,null,null,null,null,44569.851545923091]
[null,null,null,null,null,null,null,null,null,175,2232.1428571428569,390624.99999999994,null,null,null,null,null,null,null,null,null,null,null,null,null,null,null,null,null,null,null,null,null,null,null,null,74283.085909871807]
[null,null,null,null,null,null,null,null,null,175,1428.5714285714284,249999.99999999997,null,null,null,null,null,null,null,null,null,null,null,null,null,null,null,null,null,null,null,null,null,null,null,null,47541.174982317956]
[null,null,null,null,null,null,null,null,null,175,1428.5714285714284,249999.99999999997,null,null,null,null,null,null,null,null,null,null,null,null,null,null,null,null,null,null,null,null,null,null,null,null,76065.879971708739]
[null,null,null,null,null,null,null,null,null,175,7271.062271062272,1272435.8974358975,null,null,null,null,null,null,null,null,null,null,null,null,null,null,null,null,null,null,null,null,null,null,null,null,2726317.7918239348]
[null,null,null,null,null,null,null,null,null,175,1339.2857142857142,234375,null,null,null,null,null,null,null,null,null,null,null,null,null,null,null,null,null,null,null,null,null,null,null,null,189770.78988169049]
[null,null,null,null,null,null,null,null,null,175,7225.2747252747249,1264423.0769230768,null,null,null,null,null,null,null,null,null,null,null,null,null,null,null,null,null,null,null,null,null,null,null,null,2709149.5437645894]
[null,null,null,null,null,null,null,null,null,175,2298.5347985347985,402243.58974358975,null,null,null,null,null,null,null,null,null,null,null,null,null,null,null,null,null,null,null,null,null,null,null,null,16250.41336760269]
[null,null,null,null,null,null,null,null,null,175,476.19047619047615,83333.333333333328,null,null,null,null,null,null,null,null,null,null,null,null,null,null,null,null,null,null,null,null,null,null,null,null,3366.6195024515532]
[null,null,null,null,null,null,null,null,null,175,2774.7252747252746,485576.92307692306,null,null,null,null,null,null,null,null,null,null,null,null,null,null,null,null,null,null,null,null,null,null,null,null,43091.808605767692]

{"sheet":"Bowtie","index":48,"n_rows":134,"n_cols":95,"rows_kept":134,"cut":false,"hidden":true,"merged":[[1,56,1,71],[0,19,0,28],[0,30,0,32],[1,31,2,31],[1,32,2,32],[1,21,1,25],[1,27,1,28],[1,30,2,30],[100,9,100,11],[100,36,101,36],[1,34,2,34],[1,36,2,36],[1,39,1,54],[1,9,1,11],[1,13,1,17]]}
[null,null,null,null,null,null,null,null,null,null,null,null,null,null,null,null,null,null,null,"Conflicting Traffic Complexity",null,null,null,null,null,null,null,null,null,null,"Pedestrian Complexity",null,null,null,null,null,null,null,null,null,null,null,null,null,null,null,null,null,null,null,null,null,null,null,null,null,null,null,null,null,null,null,null,null,null,null,null,null,null,null,null,null,null,null,null,null,"*impact of median on complexity factors"]
[null,null,null,null,null,null,null,null,null,"Exposure",null,null,null,"Severity",null,null,null,null,null,"Traffic Control",null,"Conflicting Lanes",null,null,null,null,null,"Conflicting Speed",null,null,"Indirect Paths Indicator","Non-intuitive movements indicator","Pedestrian Complexity factor",null,"Total Complexity Multiplier",null,"Exposure-Severity-Complexity Product",null,null,"Included in Mvmt1",null,null,null,null,null,null,null,null,null,null,null,null,null,null,null,null,"Included in Mvmt2",null,null,null,null,null,null,null,null,null,null,null,null,null,null,null,null,null,null,null,"Major:No, Minor: No",null,null,null,null,"Major:Yes, Minor: No",null,null,null,null,"Major:No, Minor: Yes",null,null,null,null,"Major:Yes, Minor: Yes"]
["#","Conflict Type","Mvmt1","Mvmt1_gen","Mvmt1_SpeedCat","Mvmt2","Mvmt2_gen","Mvmt2_SpeedCat",null,"Q1","Q2","I",null,"Speed_V1","Speed_V2","Angle","delta_V","P_FSI",null,null,null,"MajC","MinC","MajM/P","MinM/P","Score",null,"Speed","Factor",null,null,null,null,null,null,null,null,null,null,"MajT1","MajL1","MajR1","MajT2","MajL2","MajR2","MinT1","MinL1","MinR1","MinT2","MinL2","MinR2","MajNM1","MajNM2","MinNM1","MinNM2",null,"MajT1","MajL1","MajR1","MajT2","MajL2","MajR2","MinT1","MinL1","MinR1","MinT2","MinL2","MinR2","MajNM1","MajNM2","MinNM1","MinNM2",null,null,"#","Conflict Type","MajC","MinC","MajM/P","MinM/P",null,"MajC","MinC","MajM/P","MinM/P",null,"MajC","MinC","MajM/P","MinM/P",null,"MajC","MinC","MajM/P","MinM/P"]
[1,"Crossing","WBT","MajT2","Major thru","NBT, NBL, EBL","MinT1, MinL1, MajL1","Signal far",null,{"$f":"SUMPRODUCT($AN4:$BC4,$AN$36:$BC$36)","v":6502.7472527472528},{"$f":"SUMPRODUCT($BE4:$BT4,$BE$36:$BT$36)","v":4925.8241758241757},{"$f":"PRODUCT(J4:K4)","v":32031389.626856659},null,{"$f":"VLOOKUP(E4,SSI_AGI_Range_VehSpeed,5,FALSE)","v":45},{"$f":"VLOOKUP(H4,SSI_AGI_Range_VehSpeed,5,FALSE)","v":25},{"$f":"IF(B4=\"Nonmotorized\",\"\",VLOOKUP(B4,SSI_AGI_Range_CollAngles,5,FALSE))","v":90},{"$f":"IF(B4=\"Nonmotorized\",\"\",SQRT(N4^2+O4^2-2*N4*O4*COS(RADIANS(P4)))/2)","v":25.739075352467502},{"$f":"IF(B4=\"Nonmotorized\",1/(1+EXP(3.8432-0.1237*O4)),(Q4/SSI_AGI_RegAlpha)^SSI_AGI_RegK+(Q4/SSI_AGI_RegAlpha)^SSI_AGI_RegK-((Q4/SSI_AGI_RegAlpha)^SSI_AGI_RegK)*((Q4/SSI_AGI_RegAlpha)^SSI_AGI_RegK))","v":5.1494149230103807E-2},null,{"$f":"SSI_AGI_ProtFactor","v":0.505},null,{"$f":"IF(AND(SS_AGI_MajMedian=\"No\", SS_AGI_MinMedian=\"No\"),BY4,IF(AND(SS_AGI_MajMedian=\"Yes\",SS_AGI_MinMedian=\"No\"),CD4,IF(AND(SS_AGI_MajMedian=\"No\",SS_AGI_MinMedian=\"Yes\"),CI4,IF(AND(SS_AGI_MajMedian=\"Yes\",SS_AGI_MinMedian=\"Yes\"),CN4))))","v":2},{"$f":"IF(AND(SS_AGI_MajMedian=\"No\", SS_AGI_MinMedian=\"No\"),BZ4,IF(AND(SS_AGI_MajMedian=\"Yes\",SS_AGI_MinMedian=\"No\"),CE4,IF(AND(SS_AGI_MajMedian=\"No\",SS_AGI_MinMedian=\"Yes\"),CJ4,IF(AND(SS_AGI_MajMedian=\"Yes\",SS_AGI_MinMedian=\"Yes\"),CO4))))","v":0},{"$f":"IF(AND(SS_AGI_MajMedian=\"No\", SS_AGI_MinMedian=\"No\"),CA4,IF(AND(SS_AGI_MajMedian=\"Yes\",SS_AGI_MinMedian=\"No\"),CF4,IF(AND(SS_AGI_MajMedian=\"No\",SS_AGI_MinMedian=\"Yes\"),CK4,IF(AND(SS_AGI_MajMedian=\"Yes\",SS_AGI_MinMedian=\"Yes\"),CP4))))","v":0},{"$f":"IF(AND(SS_AGI_MajMedian=\"No\", SS_AGI_MinMedian=\"No\"),CB4,IF(AND(SS_AGI_MajMedian=\"Yes\",SS_AGI_MinMedian=\"No\"),CG4,IF(AND(SS_AGI_MajMedian=\"No\",SS_AGI_MinMedian=\"Yes\"),CL4,IF(AND(SS_AGI_MajMedian=\"Yes\",SS_AGI_MinMedian=\"Yes\"),CQ4))))","v":0},{"$f":"MAX(1,IF(B4<>\"Pedestrian\",V4*SSI_AGI_MajorThruLanes+W4*SSI_AGI_MinorThruLanes+X4*IF(SSI_AGI_MajorThruLanes=1,SSI_AGI_MergeWeightL1,IF(SSI_AGI_MajorThruLanes=2,SSI_AGI_MergeWeightL1+SSI_AGI_MergeWeightL2,SSI_AGI_MergeWeightL1+SSI_AGI_MergeWeightL2+SSI_AGI_MergeWeightL3*(SSI_AGI_MajorThruLanes-2)))+Y4*IF(SSI_AGI_MinorThruLanes=1,SSI_AGI_MergeWeightL1,IF(SSI_AGI_MinorThruLanes=2,SSI_AGI_MergeWeightL1+SSI_AGI_MergeWeightL2,SSI_AGI_MergeWeightL1+SSI_AGI_MergeWeightL2+SSI_AGI_MergeWeightL3*(SSI_AGI_MinorThruLanes-2))),V4*SSI_AGI_MajorThruLanes+W4*SSI_AGI_MinorThruLanes+X4*IF(SSI_AGI_MajorThruLanes=1,SSI_AGI_NM_MergeWeightL1,IF(SSI_AGI_MajorThruLanes=2,SSI_AGI_NM_MergeWeightL1+SSI_AGI_NM_MergeWeightL2,SSI_AGI_NM_MergeWeightL1+SSI_AGI_NM_MergeWeightL2+SSI_AGI_NM_MergeWeightL3*(SSI_AGI_MajorThruLanes-2)))+Y4*IF(SSI_AGI_MinorThruLanes=1,SSI_AGI_NM_MergeWeightL1,IF(SSI_AGI_MinorThruLanes=2,SSI_AGI_NM_MergeWeightL1+SSI_AGI_NM_MergeWeightL2,SSI_AGI_NM_MergeWeightL1+SSI_AGI_NM_MergeWeightL2+SSI_AGI_NM_MergeWeightL3*(SSI_AGI_MinorThruLanes-2)))))","v":4},null,{"$f":"IF(B4=\"Diverging\",\"\",SSI_AGI_VehSpeed_MjrThru)","v":45},{"$f":"IF(B4=\"Diverging\",1,1-((60-AB4)/60*0.1/0.15))","v":0.83333333333333326},null,null,null,{"$f":"IF(SSI_AGI_ConsiderNMComplexity=\"Yes\",1+AE4+AF4,1)","v":1},null,{"$f":"PRODUCT(Z4,T4,AC4,AG4)","v":1.6833333333333331},null,{"$f":"L4*R4*AI4","v":2776539.0817798087},null,null,{"$f":"IF(ISNUMBER(SEARCH(AN$3,$D4)),1,\"\")","v":""},{"$f":"IF(ISNUMBER(SEARCH(AO$3,$D4)),1,\"\")","v":""},"",1,"","","","","","","","","","","","",null,{"$f":"IF(ISNUMBER(SEARCH(BE$3,$G4)),1,\"\")","v":""},{"$f":"IF(ISNUMBER(SEARCH(BF$3,$G4)),1,\"\")","v":1},"","","","",1,1,"","","","","","","","",null,null,1,"Crossing",2,0,0,0,null,1,0,0,0,null,2,0,0,0,null,1,0,0,0]
[2,"Crossing","WBT","MajT2","Major thru","SBT, SBL, WBL","MinT2, MinL2, MajL2","Signal near",null,{"$f":"SUMPRODUCT($AN5:$BC5,$AN$36:$BC$36)","v":6502.7472527472528},{"$f":"SUMPRODUCT($BE5:$BT5,$BE$36:$BT$36)","v":4997.2527472527472},{"$f":"PRODUCT(J5:K5)","v":32495871.573481463},null,45,15,90,{"$f":"IF(B5=\"Nonmotorized\",\"\",SQRT(N5^2+O5^2-2*N5*O5*COS(RADIANS(P5)))/2)","v":23.717082451262844},3.7884541771032863E-2,null,0.505,null,2,0,0,0,4,null,45,0.83333333333333326,null,null,null,1,null,1.6833333333333331,null,{"$f":"L5*R5*AI5","v":2072336.8600863244},null,null,{"$f":"IF(ISNUMBER(SEARCH(AN$3,$D5)),1,\"\")","v":""},"","",1,"","","","","","","","","","","","",null,{"$f":"IF(ISNUMBER(SEARCH(BE$3,$G5)),1,\"\")","v":""},"","","",1,"","","","",1,1,"","","","","",null,null,2,"Crossing",2,0,0,0,null,1,0,0,0,null,2,0,0,0,null,1,0,0,0]
[3,"Crossing","EBT","MajT1","Major thru","NBT, NBL, EBL","MinT1, MinL1, MajL1","Signal near",null,6543.9560439560446,4925.8241758241757,32234376.886849415,null,45,15,90,23.717082451262844,3.7884541771032863E-2,null,0.505,null,2,0,0,0,4,null,45,0.83333333333333326,null,null,null,1,null,1.6833333333333331,null,2055660.739348989,null,null,1,"","","","","","","","","","","","","","","",null,"",1,"","","","",1,1,"","","","","","","","",null,null,3,"Crossing",2,0,0,0,null,1,0,0,0,null,2,0,0,0,null,1,0,0,0]
[4,"Crossing","EBT","MajT1","Major thru","SBT, SBL, WBL","MinT2, MinL2, MajL2","Signal far",null,6543.9560439560446,4997.2527472527472,32701802.318560563,null,45,25,90,25.739075352467502,5.1494149230103807E-2,null,0.505,null,2,0,0,0,4,null,45,0.83333333333333326,null,null,null,1,null,1.6833333333333331,null,2834651.6726202751,null,null,1,"","","","","","","","","","","","","","","",null,"","","","",1,"","","","",1,1,"","","","","",null,null,4,"Crossing",2,0,0,0,null,1,0,0,0,null,2,0,0,0,null,1,0,0,0]
[5,"Merging","WBR, WBL","MajR2, MajL2","Major right","NBT, NBL, EBL","MinT1, MinL1, MajL1","Signal far",null,2497.2527472527472,4925.8241758241757,12301027.955560923,null,15,25,45,8.9396576292116645,9.4329959592674944E-4,null,0.505,null,2,0,0,0,4,null,45,0.83333333333333326,null,null,null,1,null,1.6833333333333331,null,19532.650411606512,null,null,"","","","",1,1,"","","","","","","","","","",null,"",1,"","","","",1,1,"","","","","","","","",null,null,5,"Merging",2,0,0,0,null,1,0,0,0,null,2,0,0,0,null,1,0,0,0]
[6,"Merging","EBR, EBL","MajR1, MajL1","Major right","SBT, SBL, WBL","MinT2, MinL2, MajL2","Signal far",null,2456.0439560439563,4997.2527472527472,12273472.406714166,null,15,25,45,8.9396576292116645,9.4329959592674944E-4,null,0.505,null,2,0,0,0,4,null,45,0.83333333333333326,null,null,null,1,null,1.6833333333333331,null,19488.895295817161,null,null,"",1,1,"","","","","","","","","","","","","",null,"","","","",1,"","","","",1,1,"","","","","",null,null,6,"Merging",2,0,0,0,null,1,0,0,0,null,2,0,0,0,null,1,0,0,0]
[7,"Merging","EBT","MajT1","Major thru","NBR, SBL","MinR1, MinL2","Signal near",null,6543.9560439560446,2214.2857142857142,14490188.383045526,null,45,15,45,17.995873453365363,1.3373938286506865E-2,null,0.505,null,0,0,1,0,1.75,null,45,0.83333333333333326,null,null,null,1,null,0.73645833333333333,null,142718.91232568715,null,null,1,"","","","","","","","","","","","","","","",null,"","","","","","","","",1,"",1,"","","","","",null,null,7,"Merging",0,0,1,0,null,0,0,1,0,null,0,0,1,0,null,0,0,1,0]
[8,"Merging","WBT","MajT2","Major thru","SBR, NBL","MinR2, MinL1","Signal near",null,6502.7472527472528,2142.8571428571427,13934458.398744112,null,45,15,45,17.995873453365363,1.3373938286506865E-2,null,0.505,null,0,0,1,0,1.75,null,45,0.83333333333333326,null,null,null,1,null,0.73645833333333333,null,137245.33414922463,null,null,"","","",1,"","","","","","","","","","","","",null,"","","","","","","",1,"","","",1,"","","","",null,null,8,"Merging",0,0,1,0,null,0,0,1,0,null,0,0,1,0,null,0,0,1,0]
[9,"Merging","WBL, NBL","MajL2, MinL1","RAB Circulating","SBT, SBL, SBR","MinT2, MinL2, MinR2","RAB Entering",null,3140.1098901098903,4000,12560439.560439561,null,25,20,45,8.9147801264732891,9.333798723087925E-4,null,1,null,0,0,0,1,1,null,{"$f":"IF(B12=\"Diverging\",\"\",SSI_AGI_VehSpeed_RABCirc)","v":25},0.61111111111111105,null,null,null,1,null,0.61111111111111105,null,7164.459789095512,null,null,"","","","",1,"","",1,"","","","","","","","",null,"","","","","","","","","",1,1,1,"","","","",null,null,9,"Merging",0,0,0,1,null,0,0,0,1,null,0,0,0,1,null,0,0,0,1]
[10,"Merging","EBL, SBL","MajL1, MinL2","RAB Circulating","NBT, NBL, NBR","MinT1, MinL1, MinR1","RAB Entering",null,3140.1098901098903,4000,12560439.560439561,null,25,20,45,8.9147801264732891,9.333798723087925E-4,null,1,null,0,0,0,1,1,null,{"$f":"IF(B13=\"Diverging\",\"\",SSI_AGI_VehSpeed_RABCirc)","v":25},0.61111111111111105,null,null,null,1,null,0.61111111111111105,null,7164.459789095512,null,null,"",1,"","","","","","","","",1,"","","","","",null,"","","","","","",1,1,1,"","","","","","","",null,null,10,"Merging",0,0,0,1,null,0,0,0,1,null,0,0,0,1,null,0,0,0,1]
[11,"Diverging","WBT","MajT2","Major thru","WBR, WBL","MajR2, MajL2","Major right",null,6502.7472527472528,2497.2527472527472,16239003.441613331,null,45,15,10,15.169950011729762,7.0056226631585675E-3,null,1,null,0,0,0,0,1,null,{"$f":"IF(B14=\"Diverging\",\"\",SSI_AGI_VehSpeed_MjrThru)","v":""},1,null,null,null,1,null,1,null,113764.33053767633,null,null,"","","",1,"","","","","","","","","","","","",null,"","","","",1,1,"","","","","","","","","","",null,null,11,"Diverging",0,0,0,0,null,0,0,0,0,null,0,0,0,0,null,0,0,0,0]
[12,"Diverging","EBT","MajT1","Major thru","EBR, EBL","MajR1, MajL1","Major right",null,6543.9560439560446,2456.0439560439563,16072243.690375563,null,45,15,10,15.169950011729762,7.0056226631585675E-3,null,1,null,0,0,0,0,1,null,"",1,null,null,null,1,null,1,null,112596.07464510233,null,null,1,"","","","","","","","","","","","","","","",null,"",1,1,"","","","","","","","","","","","","",null,null,12,"Diverging",0,0,0,0,null,0,0,0,0,null,0,0,0,0,null,0,0,0,0]
[13,"Diverging","NBT, NBL, EBL","MinT1, MinL1, MajL1","Signal near","NBR, SBL","MinR1, MinL2","Signal near",null,4925.8241758241757,2214.2857142857142,10907182.103610674,null,15,15,10,1.3073361412148754,6.4061388075216071E-7,null,1,null,0,0,0,0,1,null,"",1,null,null,null,1,null,1,null,6.98729225546455,null,null,"",1,"","","","",1,1,"","","","","","","","",null,"","","","","","","","",1,"",1,"","","","","",null,null,13,"Diverging",0,0,0,0,null,0,0,0,0,null,0,0,0,0,null,0,0,0,0]
[14,"Diverging","SBT, SBL, WBL","MinT2, MinL2, MajL2","Signal near","SBR, NBL","MinR2, MinL1","Signal near",null,4997.2527472527472,2142.8571428571427,10708398.744113028,null,15,15,10,1.3073361412148754,6.4061388075216071E-7,null,1,null,0,0,0,0,1,null,"",1,null,null,null,1,null,1,null,6.8599488761078113,null,null,"","","","",1,"","","","",1,1,"","","","","",null,"","","","","","","",1,"","","",1,"","","","",null,null,14,"Diverging",0,0,0,0,null,0,0,0,0,null,0,0,0,0,null,0,0,0,0]
[15,"Diverging","NBT, WBR, EBL","MinT1, MajR2, MajL1","RAB Exiting","WBL, NBL","MajL2, MinL1","RAB Circulating",null,4282.9670329670325,3140.1098901098903,13448987.139234392,null,30,25,10,3.4564566568122888,2.5632912055290634E-5,null,1,null,0,0,0,0,1,null,"",1,null,null,null,1,null,1,null,344.73670457272993,null,null,"",1,"","","",1,1,"","","","","","","","","",null,"","","","",1,"","",1,"","","","","","","","",null,null,15,"Diverging",0,0,0,0,null,0,0,0,0,null,0,0,0,0,null,0,0,0,0]
[16,"Diverging","SBT, EBR, WBL","MinT2, MajR1, MajL2","RAB Exiting","EBL, SBL","MajL1, MinL2","RAB Circulating",null,4313.1868131868132,3140.1098901098903,13543880.569979472,null,30,25,10,3.4564566568122888,2.5632912055290634E-5,null,1,null,0,0,0,0,1,null,"",1,null,null,null,1,null,1,null,347.16909953764338,null,null,"","",1,"",1,"","","","",1,"","","","","","",null,"",1,"","","","","","","","",1,"","","","","",null,null,16,"Diverging",0,0,0,0,null,0,0,0,0,null,0,0,0,0,null,0,0,0,0]
[17,"Nonmotorized","NB Ped","MinNM1","Nonmotorized","EBR, EBL","MajR1, MajL1","Major right",null,175,2456.0439560439563,429807.69230769237,null,0,15,"","",0.1205004039155782,null,{"$f":"SSI_AGI_ProtFactor","v":0.505},null,0,2,1,0,3.75,null,45,0.83333333333333326,null,null,null,1,null,1.578125,null,81734.250834985112,null,null,"","","","","","","","","","","","","","",1,"",null,"",1,1,"","","","","","","","","","","","","",null,null,17,"Nonmotorized",0,2,1,0,null,0,2,1,0,null,0,1,1,0,null,0,1,1,0]
[18,"Nonmotorized","NB Ped","MinNM1","Nonmotorized","SBT, SBL, WBL","MinT2, MinL2, MajL2","Signal far",null,175,4997.2527472527472,874519.23076923075,null,0,25,"","",0.32066879346345062,null,0.505,null,0,2,1,0,3.75,null,45,0.83333333333333326,null,null,null,1,null,1.578125,null,442555.21383948077,null,null,"","","","","","","","","","","","","","",1,"",null,"","","","",1,"","","","",1,1,"","","","","",null,null,18,"Nonmotorized",0,2,1,0,null,0,2,1,0,null,0,1,1,0,null,0,1,1,0]
[19,"Nonmotorized","NB Ped","MinNM1","Nonmotorized","NBT, NBL, EBL","MinT1, MinL1, MajL1","Signal near",null,175,4925.8241758241757,862019.23076923075,null,0,15,"","",0.1205004039155782,null,0.505,null,0,2,1,0,3.75,null,45,0.83333333333333326,null,null,null,1,null,1.578125,null,163925.62835249249,null,null,"","","","","","","","","","","","","","",1,"",null,"",1,"","","","",1,1,"","","","","","","","",null,null,19,"Nonmotorized",0,2,1,0,null,0,2,1,0,null,0,1,0,0,null,0,1,0,0]
[20,"Nonmotorized","NB Ped","MinNM1","Nonmotorized","NBR, SBL","MinR1, MinL2","Signal near",null,175,2214.2857142857142,387500,null,0,15,"","",0.1205004039155782,null,0.505,null,0,2,1,0,3.75,null,45,0.83333333333333326,null,null,null,1,null,1.578125,null,73688.821222592844,null,null,"","","","","","","","","","","","","","",1,"",null,"","","","","","","","",1,"",1,"","","","","",null,null,20,"Nonmotorized",0,2,1,0,null,0,2,1,0,null,0,1,0,0,null,0,1,0,0]
[21,"Nonmotorized","WB Ped","MajNM2","Nonmotorized","NBR, SBL","MinR1, MinL2","Signal near",null,175,2214.2857142857142,387500,null,0,15,"","",0.1205004039155782,null,0.505,null,2,0,0,1,5,null,45,0.83333333333333326,null,null,null,1,null,2.1041666666666665,null,98251.761630123787,null,null,"","","","","","","","","","","","","",1,"","",null,"","","","","","","","",1,"",1,"","","","","",null,null,21,"Nonmotorized",2,0,0,1,null,1,0,0,1,null,2,0,0,1,null,1,0,0,1]
[22,"Nonmotorized","WB Ped","MajNM2","Nonmotorized","EBT","MajT1","Major thru",null,175,6543.9560439560446,1145192.3076923077,null,0,45,"","",0.84855340903216459,null,0.505,null,2,0,0,1,5,null,45,0.83333333333333326,null,null,null,1,null,2.1041666666666665,null,2044738.3438679511,null,null,"","","","","","","","","","","","","",1,"","",null,1,"","","","","","","","","","","","","","","",null,null,22,"Nonmotorized",2,0,0,1,null,1,0,0,1,null,2,0,0,1,null,1,0,0,1]
[23,"Nonmotorized","WB Ped","MajNM2","Nonmotorized","WBT","MajT2","Major thru",null,175,6502.7472527472528,1137980.7692307692,null,0,45,"","",0.84855340903216459,null,0.505,null,2,0,0,1,5,null,45,0.83333333333333326,null,null,null,1,null,2.1041666666666665,null,2031862.1578234422,null,null,"","","","","","","","","","","","","",1,"","",null,"","","",1,"","","","","","","","","","","","",null,null,23,"Nonmotorized",2,0,0,1,null,1,0,0,0,null,2,0,0,1,null,1,0,0,0]
[24,"Nonmotorized","WB Ped","MajNM2","Nonmotorized","WBR, WBL","MajR2, MajL2","Major right",null,175,2497.2527472527472,437019.23076923075,null,0,15,"","",0.1205004039155782,null,0.505,null,2,0,0,1,5,null,45,0.83333333333333326,null,null,null,1,null,2.1041666666666665,null,110807.50784340262,null,null,"","","","","","","","","","","","","",1,"","",null,"","","","",1,1,"","","","","","","","","","",null,null,24,"Nonmotorized",2,0,0,1,null,1,0,0,0,null,2,0,0,1,null,1,0,0,0]
[25,"Nonmotorized","SB Ped","MinNM2","Nonmotorized","WBR, WBL","MajR2, MajL2","Major right",null,175,{"$f":"SUMPRODUCT($BE28:$BT28,$BE$36:$BT$36)","v":2497.2527472527472},437019.23076923075,null,0,15,"","",0.1205004039155782,null,0.505,null,0,2,1,0,3.75,null,45,0.83333333333333326,null,null,null,1,null,1.578125,null,83105.630882551981,null,null,{"$f":"IF(ISNUMBER(SEARCH(AN$3,$D28)),1,\"\")","v":""},"","","","","","","","","","","","","","",1,null,"","","","",1,1,"","","","","","","","","","",null,null,25,"Nonmotorized",0,2,1,0,null,0,2,1,0,null,0,1,1,0,null,0,1,1,0]
[26,"Nonmotorized","SB Ped","MinNM2","Nonmotorized","NBT, NBL, EBL","MinT1, MinL1, MajL1","Signal far",null,175,4925.8241758241757,862019.23076923075,null,0,25,"","",0.32066879346345062,null,0.505,null,0,2,1,0,3.75,null,45,0.83333333333333326,null,null,null,1,null,1.578125,null,436229.52084342443,null,null,"","","","","","","","","","","","","","","",1,null,{"$f":"IF(ISNUMBER(SEARCH(BE$3,$G29)),1,\"\")","v":""},1,"","","","",1,1,"","","","","","","","",null,null,26,"Nonmotorized",0,2,1,0,null,0,2,1,0,null,0,1,1,0,null,0,1,1,0]
[27,"Nonmotorized","SB Ped","MinNM2","Nonmotorized","SBT, SBL, WBL","MinT2, MinL2, MajL2","Signal near",null,175,4997.2527472527472,874519.23076923075,null,0,15,"","",0.1205004039155782,null,0.505,null,0,2,1,0,3.75,null,45,0.83333333333333326,null,null,null,1,null,1.578125,null,166302.6871016084,null,null,"","","","","","","","","","","","","","","",1,null,"","","","",1,"","","","",1,1,"","","","","",null,null,27,"Nonmotorized",0,2,1,0,null,0,2,1,0,null,0,1,0,0,null,0,1,0,0]
[28,"Nonmotorized","SB Ped","MinNM2","Nonmotorized","SBR, NBL","MinR2, MinL1","Signal near",null,175,2142.8571428571427,374999.99999999994,null,0,15,"","",0.1205004039155782,null,0.505,null,0,2,1,0,3.75,null,45,0.83333333333333326,null,null,null,1,null,1.578125,null,71311.762473476934,null,null,"","","","","","","","","","","","","","","",1,null,"","","","","","","",1,"","","",1,"","","","",null,null,28,"Nonmotorized",0,2,1,0,null,0,2,1,0,null,0,1,0,0,null,0,1,0,0]
[29,"Nonmotorized","EB Ped","MajNM1","Nonmotorized","SBR, NBL","MinR2, MinL1","Signal far",null,175,2142.8571428571427,374999.99999999994,null,0,25,"","",0.32066879346345062,null,0.505,null,2,0,0,1,5,null,45,0.83333333333333326,null,null,null,1,null,2.1041666666666665,null,253027.71984225395,null,null,"","","","","","","","","","","","",1,"","","",null,"","","","","","","",1,"","","",1,"","","","",null,null,29,"Nonmotorized",2,0,0,1,null,1,0,0,1,null,2,0,0,1,null,1,0,0,1]
[30,"Nonmotorized","EB Ped","MajNM1","Nonmotorized","WBT","MajT2","Major thru",null,175,6502.7472527472528,1137980.7692307692,null,0,45,"","",0.84855340903216459,null,0.505,null,2,0,0,1,5,null,45,0.83333333333333326,null,null,null,1,null,2.1041666666666665,null,2031862.1578234422,null,null,"","","","","","","","","","","","",1,"","","",null,"","","",1,"","","","","","","","","","","","",null,null,30,"Nonmotorized",2,0,0,1,null,1,0,0,1,null,2,0,0,1,null,1,0,0,1]
[31,"Nonmotorized","EB Ped","MajNM1","Nonmotorized","EBT","MajT1","Major thru",null,175,6543.9560439560446,1145192.3076923077,null,0,45,"","",0.84855340903216459,null,0.505,null,2,0,0,1,5,null,45,0.83333333333333326,null,null,null,1,null,2.1041666666666665,null,2044738.3438679511,null,null,"","","","","","","","","","","","",1,"","","",null,1,"","","","","","","","","","","","","","","",null,null,31,"Nonmotorized",2,0,0,1,null,1,0,0,0,null,2,0,0,1,null,1,0,0,0]
[32,"Nonmotorized","EB Ped","MajNM1","Nonmotorized","EBR, EBL","MajR1, MajL1","Major right",null,175,2456.0439560439563,429807.69230769237,null,0,15,"","",0.1205004039155782,null,0.505,null,2,0,0,1,5,null,45,0.83333333333333326,null,null,null,1,null,2.1041666666666665,null,108979.00111331348,null,null,"","","","","","","","","","","","",1,"","","",null,"",1,1,"","","","","","","","","","","","","",null,null,32,"Nonmotorized",2,0,0,1,null,1,0,0,0,null,2,0,0,1,null,1,0,0,0]
[null,null,null,null,null,null,null,null,null,null,null,null,null,null,null,null,null,null,null,null,null,null,null,null,null,null,null,null,null,null,null,null,null,null,null,null,null,null,"O",{"$f":"'SSI Inputs'!$D$26","v":6543.9560439560446},{"$f":"'SSI Inputs'!$D$27","v":2068.6813186813188},{"$f":"'SSI Inputs'!$D$28","v":387.36263736263737},{"$f":"'SSI Inputs'!$D$30","v":6502.7472527472528},{"$f":"'SSI Inputs'!$D$31","v":2068.6813186813188},{"$f":"'SSI Inputs'!$D$32","v":428.57142857142856},{"$f":"'SSI Inputs'!$D$34","v":1785.7142857142856},{"$f":"'SSI Inputs'!$D$35","v":1071.4285714285713},{"$f":"'SSI Inputs'!$D$36","v":1142.8571428571429},{"$f":"'SSI Inputs'!$D$38","v":1857.1428571428571},{"$f":"'SSI Inputs'!$D$39","v":1071.4285714285713},{"$f":"'SSI Inputs'!$D$40","v":1071.4285714285713},{"$f":"'SSI Inputs'!$Q$18","v":175},{"$f":"'SSI Inputs'!$Q$19","v":175},{"$f":"'SSI Inputs'!$Q$20","v":175},{"$f":"'SSI Inputs'!$Q$21","v":175},"O",{"$f":"'SSI Inputs'!$D$26","v":6543.9560439560446},{"$f":"'SSI Inputs'!$D$27","v":2068.6813186813188},{"$f":"'SSI Inputs'!$D$28","v":387.36263736263737},{"$f":"'SSI Inputs'!$D$30","v":6502.7472527472528},{"$f":"'SSI Inputs'!$D$31","v":2068.6813186813188},{"$f":"'SSI Inputs'!$D$32","v":428.57142857142856},{"$f":"'SSI Inputs'!$D$34","v":1785.7142857142856},{"$f":"'SSI Inputs'!$D$35","v":1071.4285714285713},{"$f":"'SSI Inputs'!$D$36","v":1142.8571428571429},{"$f":"'SSI Inputs'!$D$38","v":1857.1428571428571},{"$f":"'SSI Inputs'!$D$39","v":1071.4285714285713},{"$f":"'SSI Inputs'!$D$40","v":1071.4285714285713},{"$f":"'SSI Inputs'!$Q$18","v":175},{"$f":"'SSI Inputs'!$Q$19","v":175},{"$f":"'SSI Inputs'!$Q$20","v":175},{"$f":"'SSI Inputs'!$Q$21","v":175}]
[null,null,null,null,null,null,null,null,null,null,null,null,null,null,null,null,null,null,null,null,null,null,null,null,null,null,null,null,null,null,null,null,null,null,null,null,null,null,"D",{"$f":"'SSI Inputs'!$E$26","v":7271.062271062272},{"$f":"'SSI Inputs'!$E$27","v":2298.5347985347985},{"$f":"'SSI Inputs'!$E$28","v":430.40293040293039},{"$f":"'SSI Inputs'!$E$30","v":7225.2747252747249},{"$f":"'SSI Inputs'!$E$31","v":2298.5347985347985},{"$f":"'SSI Inputs'!$E$32","v":476.19047619047615},{"$f":"'SSI Inputs'!$E$34","v":2232.1428571428569},{"$f":"'SSI Inputs'!$E$35","v":1339.2857142857142},{"$f":"'SSI Inputs'!$E$36","v":1428.5714285714284},{"$f":"'SSI Inputs'!$E$38","v":2321.4285714285716},{"$f":"'SSI Inputs'!$E$39","v":1339.2857142857142},{"$f":"'SSI Inputs'!$E$40","v":1339.2857142857142},{"$f":"'SSI Inputs'!$R$18","v":175},{"$f":"'SSI Inputs'!$R$19","v":175},{"$f":"'SSI Inputs'!$R$20","v":175},{"$f":"'SSI Inputs'!$R$21","v":175},"D",{"$f":"'SSI Inputs'!$E$26","v":7271.062271062272},{"$f":"'SSI Inputs'!$E$27","v":2298.5347985347985},{"$f":"'SSI Inputs'!$E$28","v":430.40293040293039},{"$f":"'SSI Inputs'!$E$30","v":7225.2747252747249},{"$f":"'SSI Inputs'!$E$31","v":2298.5347985347985},{"$f":"'SSI Inputs'!$E$32","v":476.19047619047615},{"$f":"'SSI Inputs'!$E$34","v":2232.1428571428569},{"$f":"'SSI Inputs'!$E$35","v":1339.2857142857142},{"$f":"'SSI Inputs'!$E$36","v":1428.5714285714284},{"$f":"'SSI Inputs'!$E$38","v":2321.4285714285716},{"$f":"'SSI Inputs'!$E$39","v":1339.2857142857142},{"$f":"'SSI Inputs'!$E$40","v":1339.2857142857142},{"$f":"'SSI Inputs'!$R$18","v":175},{"$f":"'SSI Inputs'!$R$19","v":175},{"$f":"'SSI Inputs'!$R$20","v":175},{"$f":"'SSI Inputs'!$R$21","v":175}]
[]
[]
[]
[]
[]
[]
[]
[]
[]
[]
[]
[]
[]
[]
[]
[]
[]
[]
[]
[]
[]
[]
[]
[]
[]
[]
[]
[]
[]
[]
[]
[]
[]
[]
[]
[]
[]
[]
[]
[]
[]
[]
[]
[]
[]
[]
[]
[]
[]
[]
[]
[]
[]
[]
[]
[]
[]
[]
[]
[]
[]
[]
[]
[null,null,null,null,null,null,null,null,null,"Exposure",null,null,null,null,null,null,null,null,null,null,null,null,null,null,null,null,null,null,null,null,null,null,null,null,null,null,"Exposure-Severity-Complexity Product"]
[null,null,null,null,null,null,null,null,null,"Q1","Q2","I"]
[null,null,null,null,null,null,null,null,null,{"$f":"SUMPRODUCT($AN4:$BC4,$AN$37:$BC$37)","v":7225.2747252747249},{"$f":"SUMPRODUCT($BE4:$BT4,$BE$37:$BT$37)","v":5869.9633699633687},{"$f":"PRODUCT(J103:K103)","v":42412097.975284778},null,null,null,null,null,null,null,null,null,null,null,null,null,null,null,null,null,null,null,null,null,null,null,null,{"$f":"L103*R4*AI4","v":3676357.7522068475}]
[null,null,null,null,null,null,null,null,null,{"$f":"SUMPRODUCT($AN5:$BC5,$AN$37:$BC$37)","v":7225.2747252747249},{"$f":"SUMPRODUCT($BE5:$BT5,$BE$37:$BT$37)","v":5959.2490842490843},{"$f":"PRODUCT(J104:K104)","v":43057211.790041462},null,null,null,null,null,null,null,null,null,null,null,null,null,null,null,null,null,null,null,null,null,null,null,null,{"$f":"L104*R5*AI5","v":2745857.9433167912}]
[null,null,null,null,null,null,null,null,null,7271.062271062272,5869.9633699633687,42680869.191858202,null,null,null,null,null,null,null,null,null,null,null,null,null,null,null,null,null,null,null,null,null,null,null,null,2721857.7057336182]
[null,null,null,null,null,null,null,null,null,7271.062271062272,5959.2490842490843,43330071.180345908,null,null,null,null,null,null,null,null,null,null,null,null,null,null,null,null,null,null,null,null,null,null,null,null,3755929.3383781165]
[null,null,null,null,null,null,null,null,null,2774.7252747252746,5869.9633699633687,16287535.724348906,null,null,null,null,null,null,null,null,null,null,null,null,null,null,null,null,null,null,null,null,null,null,null,null,25862.776876825043]
[null,null,null,null,null,null,null,null,null,2728.9377289377289,5959.2490842490843,16262419.662144937,null,null,null,null,null,null,null,null,null,null,null,null,null,null,null,null,null,null,null,null,null,null,null,null,25822.895391755781]
[null,null,null,null,null,null,null,null,null,7271.062271062272,2767.8571428571427,20125261.643118788,null,null,null,null,null,null,null,null,null,null,null,null,null,null,null,null,null,null,null,null,null,null,null,null,198220.71156345439]
[null,null,null,null,null,null,null,null,null,7225.2747252747249,2678.5714285714284,19353414.442700155,null,null,null,null,null,null,null,null,null,null,null,null,null,null,null,null,null,null,null,null,null,null,null,null,190618.51965170086]
[null,null,null,null,null,null,null,null,null,3637.8205128205127,5000,18189102.564102564,null,null,null,null,null,null,null,null,null,null,null,null,null,null,null,null,null,null,null,null,null,null,null,null,10375.042473090522]
[null,null,null,null,null,null,null,null,null,3637.8205128205127,5000,18189102.564102564,null,null,null,null,null,null,null,null,null,null,null,null,null,null,null,null,null,null,null,null,null,null,null,null,10375.042473090522]
[null,null,null,null,null,null,null,null,null,7225.2747252747249,2774.7252747252746,20048152.397053495,null,null,null,null,null,null,null,null,null,null,null,null,null,null,null,null,null,null,null,null,null,null,null,null,140449.79078725472]
[null,null,null,null,null,null,null,null,null,7271.062271062272,2728.9377289377289,19842276.160957482,null,null,null,null,null,null,null,null,null,null,null,null,null,null,null,null,null,null,null,null,null,null,null,null,139007.4995618547]
[null,null,null,null,null,null,null,null,null,5869.9633699633687,2767.8571428571427,16247220.041862894,null,null,null,null,null,null,null,null,null,null,null,null,null,null,null,null,null,null,null,null,null,null,null,null,10.408194682452072]
[null,null,null,null,null,null,null,null,null,5959.2490842490843,2678.5714285714284,15962274.332810046,null,null,null,null,null,null,null,null,null,null,null,null,null,null,null,null,null,null,null,null,null,null,null,null,10.225654505972051]
[null,null,null,null,null,null,null,null,null,5006.868131868132,3637.8205128205127,18214087.59509721,null,null,null,null,null,null,null,null,null,null,null,null,null,null,null,null,null,null,null,null,null,null,null,null,466.88010549248685]
[null,null,null,null,null,null,null,null,null,5050.3663003663005,3637.8205128205127,18372326.124729972,null,null,null,null,null,null,null,null,null,null,null,null,null,null,null,null,null,null,null,null,null,null,null,null,470.93621980632196]
[null,null,null,null,null,null,null,null,null,175,2728.9377289377289,477564.10256410256,null,null,null,null,null,null,null,null,null,null,null,null,null,null,null,null,null,null,null,null,null,null,null,null,90815.834261094569]
[null,null,null,null,null,null,null,null,null,175,5959.2490842490843,1042868.5897435897,null,null,null,null,null,null,null,null,null,null,null,null,null,null,null,null,null,null,null,null,null,null,null,null,527749.32271585509]
[null,null,null,null,null,null,null,null,null,175,5869.9633699633687,1027243.5897435895,null,null,null,null,null,null,null,null,null,null,null,null,null,null,null,null,null,null,null,null,null,null,null,null,195345.46899785774]
[null,null,null,null,null,null,null,null,null,175,2767.8571428571427,484374.99999999994,null,null,null,null,null,null,null,null,null,null,null,null,null,null,null,null,null,null,null,null,null,null,null,null,92111.02652824104]
[null,null,null,null,null,null,null,null,null,175,2767.8571428571427,484374.99999999994,null,null,null,null,null,null,null,null,null,null,null,null,null,null,null,null,null,null,null,null,null,null,null,null,122814.70203765472]
[null,null,null,null,null,null,null,null,null,175,7271.062271062272,1272435.8974358975,null,null,null,null,null,null,null,null,null,null,null,null,null,null,null,null,null,null,null,null,null,null,null,null,2271931.4931866121]
[null,null,null,null,null,null,null,null,null,175,7225.2747252747249,1264423.0769230768,null,null,null,null,null,null,null,null,null,null,null,null,null,null,null,null,null,null,null,null,null,null,null,null,2257624.6198038245]
[null,null,null,null,null,null,null,null,null,175,2774.7252747252746,485576.92307692306,null,null,null,null,null,null,null,null,null,null,null,null,null,null,null,null,null,null,null,null,null,null,null,null,123119.45315933625]
[null,null,null,null,null,null,null,null,null,175,2774.7252747252746,485576.92307692306,null,null,null,null,null,null,null,null,null,null,null,null,null,null,null,null,null,null,null,null,null,null,null,null,92339.58986950219]
[null,null,null,null,null,null,null,null,null,175,5869.9633699633687,1027243.5897435895,null,null,null,null,null,null,null,null,null,null,null,null,null,null,null,null,null,null,null,null,null,null,null,null,519842.20647078456]
[null,null,null,null,null,null,null,null,null,175,5959.2490842490843,1042868.5897435897,null,null,null,null,null,null,null,null,null,null,null,null,null,null,null,null,null,null,null,null,null,null,null,null,198316.79243425265]
[null,null,null,null,null,null,null,null,null,175,2678.5714285714284,468750,null,null,null,null,null,null,null,null,null,null,null,null,null,null,null,null,null,null,null,null,null,null,null,null,89139.703091846182]
[null,null,null,null,null,null,null,null,null,175,2678.5714285714284,468750,null,null,null,null,null,null,null,null,null,null,null,null,null,null,null,null,null,null,null,null,null,null,null,null,316284.6498028175]
[null,null,null,null,null,null,null,null,null,175,7225.2747252747249,1264423.0769230768,null,null,null,null,null,null,null,null,null,null,null,null,null,null,null,null,null,null,null,null,null,null,null,null,2257624.6198038245]
[null,null,null,null,null,null,null,null,null,175,7271.062271062272,1272435.8974358975,null,null,null,null,null,null,null,null,null,null,null,null,null,null,null,null,null,null,null,null,null,null,null,null,2271931.4931866121]
[null,null,null,null,null,null,null,null,null,175,2728.9377289377289,477564.10256410256,null,null,null,null,null,null,null,null,null,null,null,null,null,null,null,null,null,null,null,null,null,null,null,null,121087.77901479274]

{"sheet":"TradT_Sig","index":49,"n_rows":123,"n_cols":95,"rows_kept":123,"cut":false,"hidden":true,"merged":[[1,76,1,79],[1,81,1,84],[1,86,1,89],[1,91,1,94],[1,34,2,34],[1,36,2,36],[1,39,1,54],[1,56,1,71],[100,9,100,11],[100,36,101,36],[0,19,0,28],[0,30,0,32],[1,9,1,11],[1,13,1,17],[1,21,1,25],[1,27,1,28],[1,30,2,30],[1,31,2,31],[1,32,2,32]]}
[null,null,null,null,null,null,null,null,null,null,null,null,null,null,null,null,null,null,null,"Conflicting Traffic Complexity",null,null,null,null,null,null,null,null,null,null,"Pedestrian Complexity"]
[null,null,null,null,null,null,null,null,null,"Exposure",null,null,null,"Severity",null,null,null,null,null,"Traffic Control",null,"Conflicting Lanes",null,null,null,null,null,"Conflicting Speed",null,null,"Indirect Paths Indicator","Non-intuitive movements indicator","Pedestrian Complexity factor",null,"Total Complexity Multiplier",null,"Exposure-Severity-Complexity Product",null,null,"Included in Mvmt1",null,null,null,null,null,null,null,null,null,null,null,null,null,null,null,null,"Included in Mvmt2",null,null,null,null,null,null,null,null,null,null,null,null,null,null,null,null,null,null,null,"Major: No, Minor: No",null,null,null,null,"Major: Yes, Minor: No",null,null,null,null,"Major: No, Minor: Yes",null,null,null,null,"Major: Yes, Minor: Yes"]
["#","Conflict Type","Mvmt1","Mvmt1_gen","Mvmt1_SpeedCat","Mvmt2","Mvmt2_gen","Mvmt2_SpeedCat",null,"Q1","Q2","I",null,"Speed_V1","Speed_V2","Angle","delta_V","P_FSI",null,null,null,"MajC","MinC","MajM/P","MinM/P","Score",null,"Speed","Factor",null,null,null,null,null,null,null,null,null,null,"MajT1","MajL1","MajR1","MajT2","MajL2","MajR2","MinT1","MinL1","MinR1","MinT2","MinL2","MinR2","MajNM1","MajNM2","MinNM1","MinNM2",null,"MajT1","MajL1","MajR1","MajT2","MajL2","MajR2","MinT1","MinL1","MinR1","MinT2","MinL2","MinR2","MajNM1","MajNM2","MinNM1","MinNM2",null,null,"#","Conflict Type","MajC","MinC","MajM/P","MinM/P",null,"MajC","MinC","MajM/P","MinM/P",null,"MajC","MinC","MajM/P","MinM/P",null,"MajC","MinC","MajM/P","MinM/P"]
[1,"Crossing - LT","EBT","MajT1","Major thru","WBL","MajL2","Major left",null,{"$f":"SUMPRODUCT($AN4:$BC4,$AN$25:$BC$25)","v":6543.9560439560446},{"$f":"SUMPRODUCT($BE4:$BT4,$BE$25:$BT$25)","v":2068.6813186813188},{"$f":"PRODUCT(J4:K4)","v":13537359.618403576},null,{"$f":"VLOOKUP(E4,SSI_AGI_Range_VehSpeed,5,FALSE)","v":45},{"$f":"VLOOKUP(H4,SSI_AGI_Range_VehSpeed,5,FALSE)","v":20},{"$f":"IF(B4=\"Nonmotorized\",\"\",VLOOKUP(B4,SSI_AGI_Range_CollAngles,5,FALSE))","v":230},{"$f":"IF(B4=\"Nonmotorized\",\"\",SQRT(N4^2+O4^2-2*N4*O4*COS(RADIANS(P4)))/2)","v":29.924979939156898},{"$f":"IF(B4=\"Nonmotorized\",1/(1+EXP(3.8432-0.1237*O4)),(Q4/SSI_AGI_RegAlpha)^SSI_AGI_RegK+(Q4/SSI_AGI_RegAlpha)^SSI_AGI_RegK-((Q4/SSI_AGI_RegAlpha)^SSI_AGI_RegK)*((Q4/SSI_AGI_RegAlpha)^SSI_AGI_RegK))","v":9.0286582411373745E-2},null,{"$f":"IF(SSI_AGI_MajorLTPhase=\"Protected/permitted\",SSI_AGI_ProtPermFactor,IF(SSI_AGI_MajorLTPhase=\"Protected\",SSI_AGI_ProtFactor,SSI_AGI_PermFactor))","v":0.505},null,{"$f":"IF(AND(SS_AGI_MajMedian=\"No\", SS_AGI_MinMedian=\"No\"),BY4,IF(AND(SS_AGI_MajMedian=\"Yes\",SS_AGI_MinMedian=\"No\"),CD4,IF(AND(SS_AGI_MajMedian=\"No\",SS_AGI_MinMedian=\"Yes\"),CI4,IF(AND(SS_AGI_MajMedian=\"Yes\",SS_AGI_MinMedian=\"Yes\"),CN4))))","v":1},{"$f":"IF(AND(SS_AGI_MajMedian=\"No\", SS_AGI_MinMedian=\"No\"),BZ4,IF(AND(SS_AGI_MajMedian=\"Yes\",SS_AGI_MinMedian=\"No\"),CE4,IF(AND(SS_AGI_MajMedian=\"No\",SS_AGI_MinMedian=\"Yes\"),CJ4,IF(AND(SS_AGI_MajMedian=\"Yes\",SS_AGI_MinMedian=\"Yes\"),CO4))))","v":0},{"$f":"IF(AND(SS_AGI_MajMedian=\"No\", SS_AGI_MinMedian=\"No\"),CA4,IF(AND(SS_AGI_MajMedian=\"Yes\",SS_AGI_MinMedian=\"No\"),CF4,IF(AND(SS_AGI_MajMedian=\"No\",SS_AGI_MinMedian=\"Yes\"),CK4,IF(AND(SS_AGI_MajMedian=\"Yes\",SS_AGI_MinMedian=\"Yes\"),CP4))))","v":0},{"$f":"IF(AND(SS_AGI_MajMedian=\"No\", SS_AGI_MinMedian=\"No\"),CB4,IF(AND(SS_AGI_MajMedian=\"Yes\",SS_AGI_MinMedian=\"No\"),CG4,IF(AND(SS_AGI_MajMedian=\"No\",SS_AGI_MinMedian=\"Yes\"),CL4,IF(AND(SS_AGI_MajMedian=\"Yes\",SS_AGI_MinMedian=\"Yes\"),CQ4))))","v":0},{"$f":"MAX(1,IF(B4<>\"Pedestrian\",V4*SSI_AGI_MajorThruLanes+W4*SSI_AGI_MinorThruLanes+X4*IF(SSI_AGI_MajorThruLanes=1,SSI_AGI_MergeWeightL1,IF(SSI_AGI_MajorThruLanes=2,SSI_AGI_MergeWeightL1+SSI_AGI_MergeWeightL2,SSI_AGI_MergeWeightL1+SSI_AGI_MergeWeightL2+SSI_AGI_MergeWeightL3*(SSI_AGI_MajorThruLanes-2)))+Y4*IF(SSI_AGI_MinorThruLanes=1,SSI_AGI_MergeWeightL1,IF(SSI_AGI_MinorThruLanes=2,SSI_AGI_MergeWeightL1+SSI_AGI_MergeWeightL2,SSI_AGI_MergeWeightL1+SSI_AGI_MergeWeightL2+SSI_AGI_MergeWeightL3*(SSI_AGI_MinorThruLanes-2))),V4*SSI_AGI_MajorThruLanes+W4*SSI_AGI_MinorThruLanes+X4*IF(SSI_AGI_MajorThruLanes=1,SSI_AGI_NM_MergeWeightL1,IF(SSI_AGI_MajorThruLanes=2,SSI_AGI_NM_MergeWeightL1+SSI_AGI_NM_MergeWeightL2,SSI_AGI_NM_MergeWeightL1+SSI_AGI_NM_MergeWeightL2+SSI_AGI_NM_MergeWeightL3*(SSI_AGI_MajorThruLanes-2)))+Y4*IF(SSI_AGI_MinorThruLanes=1,SSI_AGI_NM_MergeWeightL1,IF(SSI_AGI_MinorThruLanes=2,SSI_AGI_NM_MergeWeightL1+SSI_AGI_NM_MergeWeightL2,SSI_AGI_NM_MergeWeightL1+SSI_AGI_NM_MergeWeightL2+SSI_AGI_NM_MergeWeightL3*(SSI_AGI_MinorThruLanes-2)))))","v":2},null,{"$f":"IF(B4=\"Diverging\",\"\",SSI_AGI_VehSpeed_MjrThru)","v":45},{"$f":"IF(B4=\"Diverging\",1,1-((60-AB4)/60*0.1/0.15))","v":0.83333333333333326},null,null,null,{"$f":"IF(SSI_AGI_ConsiderNMComplexity=\"Yes\",1+AE4+AF4,1)","v":1},null,{"$f":"PRODUCT(Z4,T4,AC4,AG4)","v":0.84166666666666656},null,{"$f":"L4*R4*AI4","v":1028720.2951396594},null,null,{"$f":"IF(ISNUMBER(SEARCH(AN$3,$D4)),1,\"\")","v":1},{"$f":"IF(ISNUMBER(SEARCH(AO$3,$D4)),1,\"\")","v":""},"","","","","","","","","","","","","","",null,{"$f":"IF(ISNUMBER(SEARCH(BE$3,$G4)),1,\"\")","v":""},{"$f":"IF(ISNUMBER(SEARCH(BF$3,$G4)),1,\"\")","v":""},"","",1,"","","","","","","","","","","",null,null,1,"Crossing - LT",1,0,0,0,null,1,0,0,0,null,1,0,0,0,null,1,0,0,0]
[2,"Crossing - LT","WBL","MajL2","Major left","NBL","MinL1","Signal near",null,2068.6813186813188,1071.4285714285713,{"$f":"PRODUCT(J5:K5)","v":2216444.2700156984},null,20,15,230,{"$f":"IF(B5=\"Nonmotorized\",\"\",SQRT(N5^2+O5^2-2*N5*O5*COS(RADIANS(P5)))/2)","v":15.895538413434787},8.3616736100371545E-3,null,{"$f":"SSI_AGI_ProtFactor","v":0.505},null,1,0,1,0,3.75,null,45,0.83333333333333326,null,null,null,1,null,1.578125,null,{"$f":"L5*R5*AI5","v":29247.680306742834},null,null,{"$f":"IF(ISNUMBER(SEARCH(AN$3,$D5)),1,\"\")","v":""},"","","",1,"","","","","","","","","","","",null,{"$f":"IF(ISNUMBER(SEARCH(BE$3,$G5)),1,\"\")","v":""},"","","","","","",1,"","","","","","","","",null,null,2,"Crossing - LT",1,0,1,0,null,1,0,0,0,null,1,0,1,0,null,1,0,0,0]
[3,"Crossing - LT","EBT","MajT1","Major thru","NBL","MinL1","Signal near",null,6543.9560439560446,1071.4285714285713,7011381.4756671898,null,45,15,230,27.918467333813421,6.9762185672148203E-2,null,{"$f":"SSI_AGI_ProtFactor","v":0.505},null,1,0,1,0,3.75,null,45,0.83333333333333326,null,null,null,1,null,1.578125,null,771907.17076092574,null,null,1,"","","","","","","","","","","","","","","",null,"","","","","","","",1,"","","","","","","","",null,null,3,"Crossing - LT",1,0,1,0,null,1,0,0,0,null,1,0,1,0,null,1,0,0,0]
[4,"Merging","EBR","MajR1","Major right","WBL","MajL2","Major left",null,387.36263736263737,2068.6813186813188,801329.85146721418,null,15,20,45,7.0840654162717795,3.9022923271840544E-4,null,{"$f":"IF(SSI_AGI_MajorLTPhase=\"Protected/permitted\",SSI_AGI_ProtPermFactor,IF(SSI_AGI_MajorLTPhase=\"Protected\",SSI_AGI_ProtFactor,SSI_AGI_PermFactor))","v":0.505},null,1,0,0,0,2,null,45,0.83333333333333326,null,null,null,1,null,0.84166666666666656,null,263.191130352774,null,null,"","",1,"","","","","","","","","","","","","",null,"","","","",1,"","","","","","","","","","","",null,null,4,"Merging",1,0,0,0,null,1,0,0,0,null,1,0,0,0,null,1,0,0,0]
[5,"Merging","NBL","MinL1","Signal far","WBT","MajT2","Major thru",null,1071.4285714285713,6502.7472527472528,6967229.1993720559,null,25,45,45,16.271214938736659,9.1348815406664795E-3,null,{"$f":"SSI_AGI_ProtFactor","v":0.505},null,1,0,1,0,3.75,null,45,0.83333333333333326,null,null,null,1,null,1.578125,null,100439.47115150884,null,null,"","","","","","","",1,"","","","","","","","",null,"","","",1,"","","","","","","","","","","","",null,null,5,"Merging",1,0,1,0,null,0,0,1,0,null,1,0,1,0,null,0,0,1,0]
[6,"Merging","NBR","MinR1","Signal near","EBT","MajT1","Major thru",null,1142.8571428571429,6543.9560439560446,7478806.9073783373,null,15,45,45,17.995873453365363,1.3373938286506865E-2,null,{"$f":"SSI_AGI_ProtFactor","v":0.505},null,0,0,1,0,1.75,null,45,0.83333333333333326,null,null,null,1,null,0.73645833333333333,null,73661.374103580471,null,null,"","","","","","","","",1,"","","","","","","",null,1,"","","","","","","","","","","","","","","",null,null,6,"Merging",0,0,1,0,null,0,0,1,0,null,0,0,1,0,null,0,0,1,0]
[7,"Diverging","NBR","MinR1","Signal near","NBL","MinL1","Signal near",null,1142.8571428571429,1071.4285714285713,1224489.7959183673,null,15,15,10,1.3073361412148754,6.4061388075216071E-7,null,{"$f":"SSI_AGI_PermFactor","v":1},null,0,0,0,0,1,null,"",1,null,null,null,1,null,1,null,0.78442516010468655,null,null,"","","","","","","","",1,"","","","","","","",null,"","","","","","","",1,"","","","","","","","",null,null,7,"Diverging",0,0,0,0,null,0,0,0,0,null,0,0,0,0,null,0,0,0,0]
[8,"Diverging","EBR","MajR1","Major right","EBT","MajT1","Major thru",null,387.36263736263737,6543.9560439560446,2534884.0719719846,null,15,45,10,15.169950011729762,7.0056226631585675E-3,null,{"$f":"SSI_AGI_PermFactor","v":1},null,0,0,0,0,1,null,"",1,null,null,null,1,null,1,null,17758.441303086609,null,null,"","",1,"","","","","","","","","","","","","",null,1,"","","","","","","","","","","","","","","",null,null,8,"Diverging",0,0,0,0,null,0,0,0,0,null,0,0,0,0,null,0,0,0,0]
[9,"Diverging","WBL","MajL2","Major left","WBT","MajT2","Major thru",null,2068.6813186813188,6502.7472527472528,13452111.761864509,null,20,45,10,12.77053292327718,3.6481988362114144E-3,null,{"$f":"SSI_AGI_PermFactor","v":1},null,0,0,0,0,1,null,"",1,null,null,null,1,null,1,null,49075.978474219984,null,null,"","","","",1,"","","","","","","","","","","",null,"","","",1,"","","","","","","","","","","","",null,null,9,"Diverging",0,0,0,0,null,0,0,0,0,null,0,0,0,0,null,0,0,0,0]
[10,"Nonmotorized",null,"MajNM1","Nonmotorized","WBT","MajT2","Major thru",null,175,6502.7472527472528,1137980.7692307692,null,0,45,"","",0.84855340903216459,null,{"$f":"SSI_AGI_ProtFactor","v":0.505},null,2,0,0,1,5,null,45,0.83333333333333326,null,null,null,1,null,2.1041666666666665,null,2031862.1578234422,null,null,"","","","","","","","","","","","",1,"","","",null,"","","",1,"","","","","","","","","","","","",null,null,10,"Nonmotorized",2,0,0,1,null,1,0,0,1,null,2,0,0,1,null,1,0,0,1]
[11,"Nonmotorized",null,"MajNM1","Nonmotorized","NBL","MinL1","Signal far",null,175,1071.4285714285713,187499.99999999997,null,0,25,"","",0.32066879346345062,null,{"$f":"IF(SSI_AGI_MinorLTPhase=\"Protected/permitted\",SSI_AGI_ProtPermFactor,IF(SSI_AGI_MinorLTPhase=\"Protected\",SSI_AGI_ProtFactor,SSI_AGI_PermFactor))","v":0.505},null,2,0,0,1,5,null,45,0.83333333333333326,null,null,null,1,null,2.1041666666666665,null,126513.85992112698,null,null,"","","","","","","","","","","","",1,"","","",null,"","","","","","","",1,"","","","","","","","",null,null,11,"Nonmotorized",2,0,0,1,null,1,0,0,1,null,2,0,0,1,null,1,0,0,1]
[12,"Nonmotorized",null,"MajNM1","Nonmotorized","EBT","MajT1","Major thru",null,175,6543.9560439560446,1145192.3076923077,null,0,45,"","",0.84855340903216459,null,{"$f":"SSI_AGI_ProtFactor","v":0.505},null,2,0,0,1,5,null,45,0.83333333333333326,null,null,null,1,null,2.1041666666666665,null,2044738.3438679511,null,null,"","","","","","","","","","","","",1,"","","",null,1,"","","","","","","","","","","","","","","",null,null,12,"Nonmotorized",2,0,0,1,null,1,0,0,0,null,2,0,0,1,null,1,0,0,0]
[13,"Nonmotorized",null,"MajNM1","Nonmotorized","EBR","MajR1","Major right",null,175,387.36263736263737,67788.461538461546,null,0,15,"","",0.1205004039155782,null,{"$f":"SSI_AGI_ProtFactor","v":0.505},null,2,0,0,1,5,null,45,0.83333333333333326,null,null,null,1,null,2.1041666666666665,null,17187.963262838035,null,null,"","","","","","","","","","","","",1,"","","",null,"","",1,"","","","","","","","","","","","","",null,null,13,"Nonmotorized",2,0,0,1,null,1,0,0,0,null,2,0,0,1,null,1,0,0,0]
[14,"Nonmotorized",null,"MinNM1","Nonmotorized","EBR","MajR1","Major right",null,175,387.36263736263737,67788.461538461546,null,0,15,"","",0.1205004039155782,null,{"$f":"SSI_AGI_ProtFactor","v":0.505},null,0,2,2,0,5.5,null,45,0.83333333333333326,null,null,null,1,null,2.3145833333333332,null,18906.759589121837,null,null,"","","","","","","","","","","","","","",1,"",null,"","",1,"","","","","","","","","","","","","",null,null,14,"Nonmotorized",0,2,2,0,null,0,2,2,0,null,0,1,2,0,null,0,1,2,0]
[15,"Nonmotorized",null,"MinNM1","Nonmotorized","WBL","MajL2","Major left",null,175,2068.6813186813188,362019.23076923081,null,0,20,"","",0.20274912921655375,null,{"$f":"IF(SSI_AGI_MajorLTPhase=\"Protected/permitted\",SSI_AGI_ProtPermFactor,IF(SSI_AGI_MajorLTPhase=\"Protected\",SSI_AGI_ProtFactor,SSI_AGI_PermFactor))","v":0.505},null,0,2,2,0,5.5,null,45,0.83333333333333326,null,null,null,1,null,2.3145833333333332,null,169888.29604103786,null,null,"","","","","","","","","","","","","","",1,"",null,"","","","",1,"","","","","","","","","","","",null,null,15,"Nonmotorized",0,2,2,0,null,0,2,2,0,null,0,1,2,0,null,0,1,2,0]
[16,"Nonmotorized",null,"MinNM1","Nonmotorized","NBL","MinL1","Signal near",null,175,1071.4285714285713,187499.99999999997,null,0,15,"","",0.1205004039155782,null,{"$f":"SSI_AGI_ProtFactor","v":0.505},null,0,2,2,0,5.5,null,45,0.83333333333333326,null,null,null,1,null,2.3145833333333332,null,52295.292480549753,null,null,"","","","","","","","","","","","","","",1,"",null,"","","","","","","",1,"","","","","","","","",null,null,16,"Nonmotorized",0,2,2,0,null,0,2,2,0,null,0,1,0,0,null,0,1,0,0]
[17,"Nonmotorized",null,"MinNM1","Nonmotorized","NBR","MinR1","Signal near",null,175,1142.8571428571429,200000,null,0,15,"","",0.1205004039155782,null,0.505,null,0,2,2,0,5.5,null,45,0.83333333333333326,null,null,null,1,null,2.3145833333333332,null,55781.645312586406,null,null,"","","","","","","","","","","","","","",1,"",null,"","","","","","","","",1,"","","","","","","",null,null,17,"Nonmotorized",0,2,2,0,null,0,2,2,0,null,0,1,0,0,null,0,1,0,0]
[18,"Nonmotorized",null,"MajNM2","Nonmotorized","NBR","MinR1","Signal near",null,175,1142.8571428571429,200000,null,0,15,"","",0.1205004039155782,null,0.505,null,2,0,0,1,5,null,45,0.83333333333333326,null,null,null,1,null,2.1041666666666665,null,50710.586647805823,null,null,"","","","","","","","","","","","","",1,"","",null,"","","","","","","","",1,"","","","","","","",null,null,18,"Nonmotorized",2,0,0,1,null,1,0,0,1,null,2,0,0,1,null,1,0,0,1]
[19,"Nonmotorized",null,"MajNM2","Nonmotorized","EBT","MajT1","Major thru",null,175,6543.9560439560446,1145192.3076923077,null,0,45,"","",0.84855340903216459,null,0.505,null,2,0,0,1,5,null,45,0.83333333333333326,null,null,null,1,null,2.1041666666666665,null,2044738.3438679511,null,null,"","","","","","","","","","","","","",1,"","",null,1,"","","","","","","","","","","","","","","",null,null,19,"Nonmotorized",2,0,0,1,null,1,0,0,1,null,2,0,0,1,null,1,0,0,1]
[20,"Nonmotorized",null,"MajNM2","Nonmotorized","WBL","MajL2","Major left",null,175,2068.6813186813188,362019.23076923081,null,0,20,"","",0.20274912921655375,null,0.505,null,2,0,0,1,5,null,45,0.83333333333333326,null,null,null,1,null,2.1041666666666665,null,154443.90549185261,null,null,"","","","","","","","","","","","","",1,"","",null,"","","","",1,"","","","","","","","","","","",null,null,20,"Nonmotorized",2,0,0,1,null,1,0,0,0,null,2,0,0,1,null,1,0,0,0]
[21,"Nonmotorized",null,"MajNM2","Nonmotorized","WBT","MajT2","Major thru",null,175,6502.7472527472528,1137980.7692307692,null,0,45,"","",0.84855340903216459,null,0.505,null,2,0,0,1,5,null,45,0.83333333333333326,null,null,null,1,null,2.1041666666666665,null,2031862.1578234422,null,null,"","","","","","","","","","","","","",1,"","",null,"","","",1,"","","","","","","","","","","","",null,null,21,"Nonmotorized",2,0,0,1,null,1,0,0,0,null,2,0,0,1,null,1,0,0,0]
[null,null,null,null,null,null,null,null,null,null,null,null,null,null,null,null,null,null,null,null,null,null,null,null,null,null,null,null,null,null,null,null,null,null,null,null,null,null,null,{"$f":"'SSI Inputs'!$D$26","v":6543.9560439560446},{"$f":"'SSI Inputs'!$D$27","v":2068.6813186813188},{"$f":"'SSI Inputs'!$D$28","v":387.36263736263737},{"$f":"'SSI Inputs'!$D$30","v":6502.7472527472528},{"$f":"'SSI Inputs'!$D$31","v":2068.6813186813188},{"$f":"'SSI Inputs'!$D$32","v":428.57142857142856},{"$f":"'SSI Inputs'!$D$34","v":1785.7142857142856},{"$f":"'SSI Inputs'!$D$35","v":1071.4285714285713},{"$f":"'SSI Inputs'!$D$36","v":1142.8571428571429},{"$f":"'SSI Inputs'!$D$38","v":1857.1428571428571},{"$f":"'SSI Inputs'!$D$39","v":1071.4285714285713},{"$f":"'SSI Inputs'!$D$40","v":1071.4285714285713},{"$f":"'SSI Inputs'!$Q$18","v":175},{"$f":"'SSI Inputs'!$Q$19","v":175},{"$f":"'SSI Inputs'!$Q$20","v":175},{"$f":"'SSI Inputs'!$Q$21","v":175},null,{"$f":"'SSI Inputs'!$D$26","v":6543.9560439560446},{"$f":"'SSI Inputs'!$D$27","v":2068.6813186813188},{"$f":"'SSI Inputs'!$D$28","v":387.36263736263737},{"$f":"'SSI Inputs'!$D$30","v":6502.7472527472528},{"$f":"'SSI Inputs'!$D$31","v":2068.6813186813188},{"$f":"'SSI Inputs'!$D$32","v":428.57142857142856},{"$f":"'SSI Inputs'!$D$34","v":1785.7142857142856},{"$f":"'SSI Inputs'!$D$35","v":1071.4285714285713},{"$f":"'SSI Inputs'!$D$36","v":1142.8571428571429},{"$f":"'SSI Inputs'!$D$38","v":1857.1428571428571},{"$f":"'SSI Inputs'!$D$39","v":1071.4285714285713},{"$f":"'SSI Inputs'!$D$40","v":1071.4285714285713},{"$f":"'SSI Inputs'!$Q$18","v":175},{"$f":"'SSI Inputs'!$Q$19","v":175},{"$f":"'SSI Inputs'!$Q$20","v":175},{"$f":"'SSI Inputs'!$Q$21","v":175}]
[null,null,null,null,null,null,null,null,null,null,null,null,null,null,null,null,null,null,null,null,null,null,null,null,null,null,null,null,null,null,null,null,null,null,null,null,null,null,"D",{"$f":"'SSI Inputs'!$E$26","v":7271.062271062272},{"$f":"'SSI Inputs'!$E$27","v":2298.5347985347985},{"$f":"'SSI Inputs'!$E$28","v":430.40293040293039},{"$f":"'SSI Inputs'!$E$30","v":7225.2747252747249},{"$f":"'SSI Inputs'!$E$31","v":2298.5347985347985},{"$f":"'SSI Inputs'!$E$32","v":476.19047619047615},{"$f":"'SSI Inputs'!$E$34","v":2232.1428571428569},{"$f":"'SSI Inputs'!$E$35","v":1339.2857142857142},{"$f":"'SSI Inputs'!$E$36","v":1428.5714285714284},{"$f":"'SSI Inputs'!$E$38","v":2321.4285714285716},{"$f":"'SSI Inputs'!$E$39","v":1339.2857142857142},{"$f":"'SSI Inputs'!$E$40","v":1339.2857142857142},{"$f":"'SSI Inputs'!$R$18","v":175},{"$f":"'SSI Inputs'!$R$19","v":175},{"$f":"'SSI Inputs'!$R$20","v":175},{"$f":"'SSI Inputs'!$R$21","v":175},"D",{"$f":"'SSI Inputs'!$E$26","v":7271.062271062272},{"$f":"'SSI Inputs'!$E$27","v":2298.5347985347985},{"$f":"'SSI Inputs'!$E$28","v":430.40293040293039},{"$f":"'SSI Inputs'!$E$30","v":7225.2747252747249},{"$f":"'SSI Inputs'!$E$31","v":2298.5347985347985},{"$f":"'SSI Inputs'!$E$32","v":476.19047619047615},{"$f":"'SSI Inputs'!$E$34","v":2232.1428571428569},{"$f":"'SSI Inputs'!$E$35","v":1339.2857142857142},{"$f":"'SSI Inputs'!$E$36","v":1428.5714285714284},{"$f":"'SSI Inputs'!$E$38","v":2321.4285714285716},{"$f":"'SSI Inputs'!$E$39","v":1339.2857142857142},{"$f":"'SSI Inputs'!$E$40","v":1339.2857142857142},{"$f":"'SSI Inputs'!$R$18","v":175},{"$f":"'SSI Inputs'!$R$19","v":175},{"$f":"'SSI Inputs'!$R$20","v":175},{"$f":"'SSI Inputs'!$R$21","v":175}]
[]
[]
[]
[]
[]
[]
[]
[]
[]
[]
[]
[]
[]
[]
[]
[]
[]
[]
[]
[]
[]
[]
[]
[]
[]
[]
[]
[]
[]
[]
[]
[]
[]
[]
[]
[]
[]
[]
[]
[]
[]
[]
[]
[]
[]
[]
[]
[]
[]
[]
[]
[]
[]
[]
[]
[]
[]
[]
[]
[]
[]
[]
[]
[]
[]
[]
[]
[]
[]
[]
[]
[]
[]
[]
[null,null,null,null,null,null,null,null,null,"Exposure",null,null,null,null,null,null,null,null,null,null,null,null,null,null,null,null,null,null,null,null,null,null,null,null,null,null,"Exposure-Severity-Complexity Product"]
[null,null,null,null,null,null,null,null,null,"Q1","Q2","I"]
[null,null,null,null,null,null,null,null,null,{"$f":"SUMPRODUCT($AN4:$BC4,$AN$26:$BC$26)","v":7271.062271062272},{"$f":"SUMPRODUCT($BE4:$BT4,$BE$26:$BT$26)","v":2298.5347985347985},{"$f":"PRODUCT(J103:K103)","v":16712789.652350094},null,null,null,null,null,null,null,null,null,null,null,null,null,null,null,null,null,null,null,null,null,null,null,null,{"$f":"L103*R4*AI4","v":1270025.0557279745}]
[null,null,null,null,null,null,null,null,null,{"$f":"SUMPRODUCT($AN5:$BC5,$AN$26:$BC$26)","v":2298.5347985347985},{"$f":"SUMPRODUCT($BE5:$BT5,$BE$26:$BT$26)","v":1339.2857142857142},{"$f":"PRODUCT(J104:K104)","v":3078394.8194662477},null,null,null,null,null,null,null,null,null,null,null,null,null,null,null,null,null,null,null,null,null,null,null,null,{"$f":"L104*R5*AI5","v":40621.778203809496}]
[null,null,null,null,null,null,null,null,null,7271.062271062272,1339.2857142857142,9738029.8273155428,null,null,null,null,null,null,null,null,null,null,null,null,null,null,null,null,null,null,null,null,null,null,null,null,1072093.2927235081]
[null,null,null,null,null,null,null,null,null,430.40293040293039,2298.5347985347985,989296.1129224865,null,null,null,null,null,null,null,null,null,null,null,null,null,null,null,null,null,null,null,null,null,null,null,null,324.92732142317772]
[null,null,null,null,null,null,null,null,null,1339.2857142857142,7225.2747252747249,9676707.2213500775,null,null,null,null,null,null,null,null,null,null,null,null,null,null,null,null,null,null,null,null,null,null,null,null,139499.2654882067]
[null,null,null,null,null,null,null,null,null,1428.5714285714284,7271.062271062272,10387231.815803245,null,null,null,null,null,null,null,null,null,null,null,null,null,null,null,null,null,null,null,null,null,null,null,null,102307.46403275065]
[null,null,null,null,null,null,null,null,null,1428.5714285714284,1339.2857142857142,1913265.3061224488,null,null,null,null,null,null,null,null,null,null,null,null,null,null,null,null,null,null,null,null,null,null,null,null,1.2256643126635727]
[null,null,null,null,null,null,null,null,null,430.40293040293039,7271.062271062272,3129486.508607388,null,null,null,null,null,null,null,null,null,null,null,null,null,null,null,null,null,null,null,null,null,null,null,null,21924.001608748898]
[null,null,null,null,null,null,null,null,null,2298.5347985347985,7225.2747252747249,16607545.385017911,null,null,null,null,null,null,null,null,null,null,null,null,null,null,null,null,null,null,null,null,null,null,null,null,60587.627745950587]
[null,null,null,null,null,null,null,null,null,175,7225.2747252747249,1264423.0769230768,null,null,null,null,null,null,null,null,null,null,null,null,null,null,null,null,null,null,null,null,null,null,null,null,2257624.6198038245]
[null,null,null,null,null,null,null,null,null,175,1339.2857142857142,234375,null,null,null,null,null,null,null,null,null,null,null,null,null,null,null,null,null,null,null,null,null,null,null,null,158142.32490140875]
[null,null,null,null,null,null,null,null,null,175,7271.062271062272,1272435.8974358975,null,null,null,null,null,null,null,null,null,null,null,null,null,null,null,null,null,null,null,null,null,null,null,null,2271931.4931866121]
[null,null,null,null,null,null,null,null,null,175,430.40293040293039,75320.512820512813,null,null,null,null,null,null,null,null,null,null,null,null,null,null,null,null,null,null,null,null,null,null,null,null,19097.736958708923]
[null,null,null,null,null,null,null,null,null,175,430.40293040293039,75320.512820512813,null,null,null,null,null,null,null,null,null,null,null,null,null,null,null,null,null,null,null,null,null,null,null,null,21007.510654579815]
[null,null,null,null,null,null,null,null,null,175,2298.5347985347985,402243.58974358975,null,null,null,null,null,null,null,null,null,null,null,null,null,null,null,null,null,null,null,null,null,null,null,null,188764.77337893093]
[null,null,null,null,null,null,null,null,null,175,1339.2857142857142,234375,null,null,null,null,null,null,null,null,null,null,null,null,null,null,null,null,null,null,null,null,null,null,null,null,65369.115600687197]
[null,null,null,null,null,null,null,null,null,175,1428.5714285714284,249999.99999999997,null,null,null,null,null,null,null,null,null,null,null,null,null,null,null,null,null,null,null,null,null,null,null,null,69727.056640733004]
[null,null,null,null,null,null,null,null,null,175,1428.5714285714284,249999.99999999997,null,null,null,null,null,null,null,null,null,null,null,null,null,null,null,null,null,null,null,null,null,null,null,null,63388.233309757277]
[null,null,null,null,null,null,null,null,null,175,7271.062271062272,1272435.8974358975,null,null,null,null,null,null,null,null,null,null,null,null,null,null,null,null,null,null,null,null,null,null,null,null,2271931.4931866121]
[null,null,null,null,null,null,null,null,null,175,2298.5347985347985,402243.58974358975,null,null,null,null,null,null,null,null,null,null,null,null,null,null,null,null,null,null,null,null,null,null,null,null,171604.33943539174]
[null,null,null,null,null,null,null,null,null,175,7225.2747252747249,1264423.0769230768,null,null,null,null,null,null,null,null,null,null,null,null,null,null,null,null,null,null,null,null,null,null,null,null,2257624.6198038245]

{"sheet":"TradT_AWSC","index":50,"n_rows":123,"n_cols":95,"rows_kept":123,"cut":false,"hidden":true,"merged":[[1,76,1,79],[1,81,1,84],[1,86,1,89],[1,91,1,94],[1,34,2,34],[1,36,2,36],[1,39,1,54],[1,56,1,71],[100,9,100,11],[100,36,101,36],[0,19,0,28],[0,30,0,32],[1,9,1,11],[1,13,1,17],[1,21,1,25],[1,27,1,28],[1,30,2,30],[1,31,2,31],[1,32,2,32]]}
[null,null,null,null,null,null,null,null,null,null,null,null,null,null,null,null,null,null,null,"Conflicting Traffic Complexity",null,null,null,null,null,null,null,null,null,null,"Pedestrian Complexity"]
[null,null,null,null,null,null,null,null,null,"Exposure",null,null,null,"Severity",null,null,null,null,null,"Traffic Control",null,"Conflicting Lanes",null,null,null,null,null,"Conflicting Speed",null,null,"Indirect Paths Indicator","Non-intuitive movements indicator","Pedestrian Complexity factor",null,"Total Complexity Multiplier",null,"Exposure-Severity-Complexity Product",null,null,"Included in Mvmt1",null,null,null,null,null,null,null,null,null,null,null,null,null,null,null,null,"Included in Mvmt2",null,null,null,null,null,null,null,null,null,null,null,null,null,null,null,null,null,null,null,"Major: No, Minor: No",null,null,null,null,"Major: Yes, Minor: No",null,null,null,null,"Major: No, Minor: Yes",null,null,null,null,"Major: Yes, Minor: Yes"]
["#","Conflict Type","Mvmt1","Mvmt1_gen","Mvmt1_SpeedCat","Mvmt2","Mvmt2_gen","Mvmt2_SpeedCat",null,"Q1","Q2","I",null,"Speed_V1","Speed_V2","Angle","delta_V","P_FSI",null,null,null,"MajC","MinC","MajM/P","MinM/P","Score",null,"Speed","Factor",null,null,null,null,null,null,null,null,null,null,"MajT1","MajL1","MajR1","MajT2","MajL2","MajR2","MinT1","MinL1","MinR1","MinT2","MinL2","MinR2","MajNM1","MajNM2","MinNM1","MinNM2",null,"MajT1","MajL1","MajR1","MajT2","MajL2","MajR2","MinT1","MinL1","MinR1","MinT2","MinL2","MinR2","MajNM1","MajNM2","MinNM1","MinNM2",null,null,"#","Conflict Type","MajC","MinC","MajM/P","MinM/P",null,"MajC","MinC","MajM/P","MinM/P",null,"MajC","MinC","MajM/P","MinM/P",null,"MajC","MinC","MajM/P","MinM/P"]
[1,"Crossing - LT","EBT","MajT1","Stop near","WBL","MajL2","Stop far",null,{"$f":"SUMPRODUCT($AN4:$BC4,$AN$25:$BC$25)","v":6543.9560439560446},{"$f":"SUMPRODUCT($BE4:$BT4,$BE$25:$BT$25)","v":2068.6813186813188},{"$f":"PRODUCT(J4:K4)","v":13537359.618403576},null,{"$f":"VLOOKUP(E4,SSI_AGI_Range_VehSpeed,5,FALSE)","v":15},{"$f":"VLOOKUP(H4,SSI_AGI_Range_VehSpeed,5,FALSE)","v":25},{"$f":"IF(B4=\"Nonmotorized\",\"\",VLOOKUP(B4,SSI_AGI_Range_CollAngles,5,FALSE))","v":230},{"$f":"IF(B4=\"Nonmotorized\",\"\",SQRT(N4^2+O4^2-2*N4*O4*COS(RADIANS(P4)))/2)","v":18.248908921254063},{"$f":"IF(B4=\"Nonmotorized\",1/(1+EXP(3.8432-0.1237*O4)),(Q4/SSI_AGI_RegAlpha)^SSI_AGI_RegK+(Q4/SSI_AGI_RegAlpha)^SSI_AGI_RegK-((Q4/SSI_AGI_RegAlpha)^SSI_AGI_RegK)*((Q4/SSI_AGI_RegAlpha)^SSI_AGI_RegK))","v":1.4099039069818802E-2},null,{"$f":"SSI_AGI_StopFactor","v":0.72500000000000009},null,{"$f":"IF(AND(SS_AGI_MajMedian=\"No\", SS_AGI_MinMedian=\"No\"),BY4,IF(AND(SS_AGI_MajMedian=\"Yes\",SS_AGI_MinMedian=\"No\"),CD4,IF(AND(SS_AGI_MajMedian=\"No\",SS_AGI_MinMedian=\"Yes\"),CI4,IF(AND(SS_AGI_MajMedian=\"Yes\",SS_AGI_MinMedian=\"Yes\"),CN4))))","v":1},{"$f":"IF(AND(SS_AGI_MajMedian=\"No\", SS_AGI_MinMedian=\"No\"),BZ4,IF(AND(SS_AGI_MajMedian=\"Yes\",SS_AGI_MinMedian=\"No\"),CE4,IF(AND(SS_AGI_MajMedian=\"No\",SS_AGI_MinMedian=\"Yes\"),CJ4,IF(AND(SS_AGI_MajMedian=\"Yes\",SS_AGI_MinMedian=\"Yes\"),CO4))))","v":0},{"$f":"IF(AND(SS_AGI_MajMedian=\"No\", SS_AGI_MinMedian=\"No\"),CA4,IF(AND(SS_AGI_MajMedian=\"Yes\",SS_AGI_MinMedian=\"No\"),CF4,IF(AND(SS_AGI_MajMedian=\"No\",SS_AGI_MinMedian=\"Yes\"),CK4,IF(AND(SS_AGI_MajMedian=\"Yes\",SS_AGI_MinMedian=\"Yes\"),CP4))))","v":0},{"$f":"IF(AND(SS_AGI_MajMedian=\"No\", SS_AGI_MinMedian=\"No\"),CB4,IF(AND(SS_AGI_MajMedian=\"Yes\",SS_AGI_MinMedian=\"No\"),CG4,IF(AND(SS_AGI_MajMedian=\"No\",SS_AGI_MinMedian=\"Yes\"),CL4,IF(AND(SS_AGI_MajMedian=\"Yes\",SS_AGI_MinMedian=\"Yes\"),CQ4))))","v":0},{"$f":"MAX(1,IF(B4<>\"Pedestrian\",V4*SSI_AGI_MajorThruLanes+W4*SSI_AGI_MinorThruLanes+X4*IF(SSI_AGI_MajorThruLanes=1,SSI_AGI_MergeWeightL1,IF(SSI_AGI_MajorThruLanes=2,SSI_AGI_MergeWeightL1+SSI_AGI_MergeWeightL2,SSI_AGI_MergeWeightL1+SSI_AGI_MergeWeightL2+SSI_AGI_MergeWeightL3*(SSI_AGI_MajorThruLanes-2)))+Y4*IF(SSI_AGI_MinorThruLanes=1,SSI_AGI_MergeWeightL1,IF(SSI_AGI_MinorThruLanes=2,SSI_AGI_MergeWeightL1+SSI_AGI_MergeWeightL2,SSI_AGI_MergeWeightL1+SSI_AGI_MergeWeightL2+SSI_AGI_MergeWeightL3*(SSI_AGI_MinorThruLanes-2))),V4*SSI_AGI_MajorThruLanes+W4*SSI_AGI_MinorThruLanes+X4*IF(SSI_AGI_MajorThruLanes=1,SSI_AGI_NM_MergeWeightL1,IF(SSI_AGI_MajorThruLanes=2,SSI_AGI_NM_MergeWeightL1+SSI_AGI_NM_MergeWeightL2,SSI_AGI_NM_MergeWeightL1+SSI_AGI_NM_MergeWeightL2+SSI_AGI_NM_MergeWeightL3*(SSI_AGI_MajorThruLanes-2)))+Y4*IF(SSI_AGI_MinorThruLanes=1,SSI_AGI_NM_MergeWeightL1,IF(SSI_AGI_MinorThruLanes=2,SSI_AGI_NM_MergeWeightL1+SSI_AGI_NM_MergeWeightL2,SSI_AGI_NM_MergeWeightL1+SSI_AGI_NM_MergeWeightL2+SSI_AGI_NM_MergeWeightL3*(SSI_AGI_MinorThruLanes-2)))))","v":2},null,{"$f":"IF(B4=\"Diverging\",\"\",SSI_AGI_VehSpeed_MjrThru)","v":45},{"$f":"IF(B4=\"Diverging\",1,1-((60-AB4)/60*0.1/0.15))","v":0.83333333333333326},null,null,null,{"$f":"IF(SSI_AGI_ConsiderNMComplexity=\"Yes\",1+AE4+AF4,1)","v":1},null,{"$f":"PRODUCT(Z4,T4,AC4,AG4)","v":1.2083333333333335},null,{"$f":"L4*R4*AI4","v":230627.04594582177},null,null,{"$f":"IF(ISNUMBER(SEARCH(AN$3,$D4)),1,\"\")","v":1},{"$f":"IF(ISNUMBER(SEARCH(AO$3,$D4)),1,\"\")","v":""},"","","","","","","","","","","","","","",null,{"$f":"IF(ISNUMBER(SEARCH(BE$3,$G4)),1,\"\")","v":""},{"$f":"IF(ISNUMBER(SEARCH(BF$3,$G4)),1,\"\")","v":""},"","",1,"","","","","","","","","","","",null,null,1,"Crossing - LT",1,0,0,0,null,1,0,0,0,null,1,0,0,0,null,1,0,0,0]
[2,"Crossing - LT","WBL","MajL2","Stop far","NBL","MinL1","Stop near",null,2068.6813186813188,1071.4285714285713,{"$f":"PRODUCT(J5:K5)","v":2216444.2700156984},null,25,15,230,{"$f":"IF(B5=\"Nonmotorized\",\"\",SQRT(N5^2+O5^2-2*N5*O5*COS(RADIANS(P5)))/2)","v":18.248908921254063},1.4099039069818802E-2,null,0.72500000000000009,null,{"$f":"IF(AND(SS_AGI_MajMedian=\"No\", SS_AGI_MinMedian=\"No\"),BY5,IF(AND(SS_AGI_MajMedian=\"Yes\",SS_AGI_MinMedian=\"No\"),CD5,IF(AND(SS_AGI_MajMedian=\"No\",SS_AGI_MinMedian=\"Yes\"),CI5,IF(AND(SS_AGI_MajMedian=\"Yes\",SS_AGI_MinMedian=\"Yes\"),CN5))))","v":1},{"$f":"IF(AND(SS_AGI_MajMedian=\"No\", SS_AGI_MinMedian=\"No\"),BZ5,IF(AND(SS_AGI_MajMedian=\"Yes\",SS_AGI_MinMedian=\"No\"),CE5,IF(AND(SS_AGI_MajMedian=\"No\",SS_AGI_MinMedian=\"Yes\"),CJ5,IF(AND(SS_AGI_MajMedian=\"Yes\",SS_AGI_MinMedian=\"Yes\"),CO5))))","v":0},{"$f":"IF(AND(SS_AGI_MajMedian=\"No\", SS_AGI_MinMedian=\"No\"),CA5,IF(AND(SS_AGI_MajMedian=\"Yes\",SS_AGI_MinMedian=\"No\"),CF5,IF(AND(SS_AGI_MajMedian=\"No\",SS_AGI_MinMedian=\"Yes\"),CK5,IF(AND(SS_AGI_MajMedian=\"Yes\",SS_AGI_MinMedian=\"Yes\"),CP5))))","v":1},{"$f":"IF(AND(SS_AGI_MajMedian=\"No\", SS_AGI_MinMedian=\"No\"),CB5,IF(AND(SS_AGI_MajMedian=\"Yes\",SS_AGI_MinMedian=\"No\"),CG5,IF(AND(SS_AGI_MajMedian=\"No\",SS_AGI_MinMedian=\"Yes\"),CL5,IF(AND(SS_AGI_MajMedian=\"Yes\",SS_AGI_MinMedian=\"Yes\"),CQ5))))","v":0},3.75,null,45,0.83333333333333326,null,null,null,1,null,2.265625,null,{"$f":"L5*R5*AI5","v":70800.179407171338},null,null,{"$f":"IF(ISNUMBER(SEARCH(AN$3,$D5)),1,\"\")","v":""},"","","",1,"","","","","","","","","","","",null,{"$f":"IF(ISNUMBER(SEARCH(BE$3,$G5)),1,\"\")","v":""},"","","","","","",1,"","","","","","","","",null,null,2,"Crossing - LT",1,0,1,0,null,1,0,0,0,null,1,0,1,0,null,1,0,0,0]
[3,"Crossing - LT","EBT","MajT1","Stop near","NBL","MinL1","Stop far",null,6543.9560439560446,1071.4285714285713,7011381.4756671898,null,15,25,230,18.248908921254063,1.4099039069818802E-2,null,0.72500000000000009,null,1,0,1,0,3.75,null,45,0.83333333333333326,null,null,null,1,null,2.265625,null,223965.5077661117,null,null,1,"","","","","","","","","","","","","","","",null,"","","","","","","",1,"","","","","","","","",null,null,3,"Crossing - LT",1,0,1,0,null,1,0,0,0,null,1,0,1,0,null,1,0,0,0]
[4,"Merging","EBR","MajR1","Stop near","WBL","MajL2","Stop far",null,387.36263736263737,2068.6813186813188,801329.85146721418,null,15,25,45,8.9396576292116645,9.4329959592674944E-4,null,0.72500000000000009,null,1,0,0,0,2,null,45,0.83333333333333326,null,null,null,1,null,1.2083333333333335,null,913.37206782078738,null,null,"","",1,"","","","","","","","","","","","","",null,"","","","",1,"","","","","","","","","","","",null,null,4,"Merging",1,0,0,0,null,1,0,0,0,null,1,0,0,0,null,1,0,0,0]
[5,"Merging","NBL","MinL1","Stop far","WBT","MajT2","Stop far",null,1071.4285714285713,6502.7472527472528,6967229.1993720559,null,25,25,45,9.5670858091272439,1.2201154392262267E-3,null,0.72500000000000009,null,{"$f":"IF(AND(SS_AGI_MajMedian=\"No\", SS_AGI_MinMedian=\"No\"),BY8,IF(AND(SS_AGI_MajMedian=\"Yes\",SS_AGI_MinMedian=\"No\"),CD8,IF(AND(SS_AGI_MajMedian=\"No\",SS_AGI_MinMedian=\"Yes\"),CI8,IF(AND(SS_AGI_MajMedian=\"Yes\",SS_AGI_MinMedian=\"Yes\"),CN8))))","v":1},{"$f":"IF(AND(SS_AGI_MajMedian=\"No\", SS_AGI_MinMedian=\"No\"),BZ8,IF(AND(SS_AGI_MajMedian=\"Yes\",SS_AGI_MinMedian=\"No\"),CE8,IF(AND(SS_AGI_MajMedian=\"No\",SS_AGI_MinMedian=\"Yes\"),CJ8,IF(AND(SS_AGI_MajMedian=\"Yes\",SS_AGI_MinMedian=\"Yes\"),CO8))))","v":0},{"$f":"IF(AND(SS_AGI_MajMedian=\"No\", SS_AGI_MinMedian=\"No\"),CA8,IF(AND(SS_AGI_MajMedian=\"Yes\",SS_AGI_MinMedian=\"No\"),CF8,IF(AND(SS_AGI_MajMedian=\"No\",SS_AGI_MinMedian=\"Yes\"),CK8,IF(AND(SS_AGI_MajMedian=\"Yes\",SS_AGI_MinMedian=\"Yes\"),CP8))))","v":1},{"$f":"IF(AND(SS_AGI_MajMedian=\"No\", SS_AGI_MinMedian=\"No\"),CB8,IF(AND(SS_AGI_MajMedian=\"Yes\",SS_AGI_MinMedian=\"No\"),CG8,IF(AND(SS_AGI_MajMedian=\"No\",SS_AGI_MinMedian=\"Yes\"),CL8,IF(AND(SS_AGI_MajMedian=\"Yes\",SS_AGI_MinMedian=\"Yes\"),CQ8))))","v":0},3.75,null,45,0.83333333333333326,null,null,null,1,null,2.265625,null,19259.679181927124,null,null,"","","","","","","",1,"","","","","","","","",null,"","","",1,"","","","","","","","","","","","",null,null,5,"Merging",1,0,1,0,null,0,0,1,0,null,1,0,1,0,null,0,0,1,0]
[6,"Merging","NBR","MinR1","Stop near","EBT","MajT1","Stop far",null,1142.8571428571429,6543.9560439560446,7478806.9073783373,null,15,25,45,8.9396576292116645,9.4329959592674944E-4,null,0.72500000000000009,null,0,0,1,0,1.75,null,45,0.83333333333333326,null,null,null,1,null,1.0572916666666667,null,7458.9342361982617,null,null,"","","","","","","","",1,"","","","","","","",null,1,"","","","","","","","","","","","","","","",null,null,6,"Merging",0,0,1,0,null,0,0,1,0,null,0,0,1,0,null,0,0,1,0]
[7,"Diverging","NBR","MinR1","Stop near","NBL","MinL1","Stop near",null,1142.8571428571429,1071.4285714285713,1224489.7959183673,null,15,15,10,1.3073361412148754,6.4061388075216071E-7,null,{"$f":"SSI_AGI_PermFactor","v":1},null,0,0,0,0,1,null,"",1,null,null,null,1,null,1,null,0.78442516010468655,null,null,"","","","","","","","",1,"","","","","","","",null,"","","","","","","",1,"","","","","","","","",null,null,7,"Diverging",0,0,0,0,null,0,0,0,0,null,0,0,0,0,null,0,0,0,0]
[8,"Diverging","EBR","MajR1","Stop near","EBT","MajT1","Stop near",null,387.36263736263737,6543.9560439560446,2534884.0719719846,null,15,15,10,1.3073361412148754,6.4061388075216071E-7,null,{"$f":"SSI_AGI_PermFactor","v":1},null,0,0,0,0,1,null,"",1,null,null,null,1,null,1,null,1.6238819226028125,null,null,"","",1,"","","","","","","","","","","","","",null,1,"","","","","","","","","","","","","","","",null,null,8,"Diverging",0,0,0,0,null,0,0,0,0,null,0,0,0,0,null,0,0,0,0]
[9,"Diverging","WBL","MajL2","Stop near","WBT","MajT2","Stop near",null,2068.6813186813188,6502.7472527472528,13452111.761864509,null,15,15,10,1.3073361412148754,6.4061388075216071E-7,null,{"$f":"SSI_AGI_PermFactor","v":1},null,0,0,0,0,1,null,"",1,null,null,null,1,null,1,null,8.6176095200798102,null,null,"","","","",1,"","","","","","","","","","","",null,"","","",1,"","","","","","","","","","","","",null,null,9,"Diverging",0,0,0,0,null,0,0,0,0,null,0,0,0,0,null,0,0,0,0]
[10,"Nonmotorized",null,"MajNM1","Nonmotorized","WBT","MajT2","Stop far",null,175,6502.7472527472528,1137980.7692307692,null,0,25,"","",0.32066879346345062,null,{"$f":"SSI_AGI_StopFactor","v":0.72500000000000009},null,2,0,0,1,5,null,45,0.83333333333333326,null,null,null,1,null,3.0208333333333335,null,1102347.1549334757,null,null,"","","","","","","","","","","","",1,"","","",null,"","","",1,"","","","","","","","","","","","",null,null,10,"Nonmotorized",2,0,0,1,null,1,0,0,1,null,2,0,0,1,null,1,0,0,1]
[11,"Nonmotorized",null,"MajNM1","Nonmotorized","NBL","MinL1","Stop far",null,175,1071.4285714285713,187499.99999999997,null,0,25,"","",0.32066879346345062,null,0.72500000000000009,null,2,0,0,1,5,null,45,0.83333333333333326,null,null,null,1,null,3.0208333333333335,null,181628.80879765758,null,null,"","","","","","","","","","","","",1,"","","",null,"","","","","","","",1,"","","","","","","","",null,null,11,"Nonmotorized",2,0,0,1,null,1,0,0,1,null,2,0,0,1,null,1,0,0,1]
[12,"Nonmotorized",null,"MajNM1","Nonmotorized","EBT","MajT1","Stop near",null,175,6543.9560439560446,1145192.3076923077,null,0,15,"","",0.1205004039155782,null,0.72500000000000009,null,2,0,0,1,5,null,45,0.83333333333333326,null,null,null,1,null,3.0208333333333335,null,416863.32640626567,null,null,"","","","","","","","","","","","",1,"","","",null,1,"","","","","","","","","","","","","","","",null,null,12,"Nonmotorized",2,0,0,1,null,1,0,0,0,null,2,0,0,1,null,1,0,0,0]
[13,"Nonmotorized",null,"MajNM1","Nonmotorized","EBR","MajR1","Stop near",null,175,387.36263736263737,67788.461538461546,null,0,15,"","",0.1205004039155782,null,0.72500000000000009,null,2,0,0,1,5,null,45,0.83333333333333326,null,null,null,1,null,3.0208333333333335,null,24675.788842688267,null,null,"","","","","","","","","","","","",1,"","","",null,"","",1,"","","","","","","","","","","","","",null,null,13,"Nonmotorized",2,0,0,1,null,1,0,0,0,null,2,0,0,1,null,1,0,0,0]
[14,"Nonmotorized",null,"MinNM1","Nonmotorized","EBR","MajR1","Stop near",null,175,387.36263736263737,67788.461538461546,null,0,15,"","",0.1205004039155782,null,0.72500000000000009,null,0,2,2,0,5.5,null,45,0.83333333333333326,null,null,null,1,null,3.322916666666667,null,27143.367726957098,null,null,"","","","","","","","","","","","","","",1,"",null,"","",1,"","","","","","","","","","","","","",null,null,14,"Nonmotorized",0,2,2,0,null,0,2,2,0,null,0,1,2,0,null,0,1,2,0]
[15,"Nonmotorized",null,"MinNM1","Nonmotorized","WBL","MajL2","Stop far",null,175,2068.6813186813188,362019.23076923081,null,0,25,"","",0.32066879346345062,null,0.72500000000000009,null,0,2,2,0,5.5,null,45,0.83333333333333326,null,null,null,1,null,3.322916666666667,null,385751.64699256362,null,null,"","","","","","","","","","","","","","",1,"",null,"","","","",1,"","","","","","","","","","","",null,null,15,"Nonmotorized",0,2,2,0,null,0,2,2,0,null,0,1,2,0,null,0,1,2,0]
[16,"Nonmotorized",null,"MinNM1","Nonmotorized","NBL","MinL1","Stop near",null,175,1071.4285714285713,187499.99999999997,null,0,15,"","",0.1205004039155782,null,0.72500000000000009,null,0,2,2,0,5.5,null,45,0.83333333333333326,null,null,null,1,null,3.322916666666667,null,75077.400095838762,null,null,"","","","","","","","","","","","","","",1,"",null,"","","","","","","",1,"","","","","","","","",null,null,16,"Nonmotorized",0,2,2,0,null,0,2,2,0,null,0,1,0,0,null,0,1,0,0]
[17,"Nonmotorized",null,"MinNM1","Nonmotorized","NBR","MinR1","Stop near",null,175,1142.8571428571429,200000,null,0,15,"","",0.1205004039155782,null,0.72500000000000009,null,0,2,2,0,5.5,null,45,0.83333333333333326,null,null,null,1,null,3.322916666666667,null,80082.560102228032,null,null,"","","","","","","","","","","","","","",1,"",null,"","","","","","","","",1,"","","","","","","",null,null,17,"Nonmotorized",0,2,2,0,null,0,2,2,0,null,0,1,0,0,null,0,1,0,0]
[18,"Nonmotorized",null,"MajNM2","Nonmotorized","NBR","MinR1","Stop near",null,175,1142.8571428571429,200000,null,0,15,"","",0.1205004039155782,null,0.72500000000000009,null,2,0,0,1,5,null,45,0.83333333333333326,null,null,null,1,null,3.0208333333333335,null,72802.32736566184,null,null,"","","","","","","","","","","","","",1,"","",null,"","","","","","","","",1,"","","","","","","",null,null,18,"Nonmotorized",2,0,0,1,null,1,0,0,1,null,2,0,0,1,null,1,0,0,1]
[19,"Nonmotorized",null,"MajNM2","Nonmotorized","EBT","MajT1","Stop far",null,175,6543.9560439560446,1145192.3076923077,null,0,25,"","",0.32066879346345062,null,0.72500000000000009,null,2,0,0,1,5,null,45,0.83333333333333326,null,null,null,1,null,3.0208333333333335,null,1109332.8783487703,null,null,"","","","","","","","","","","","","",1,"","",null,1,"","","","","","","","","","","","","","","",null,null,19,"Nonmotorized",2,0,0,1,null,1,0,0,1,null,2,0,0,1,null,1,0,0,1]
[20,"Nonmotorized",null,"MajNM2","Nonmotorized","WBL","MajL2","Stop near",null,175,2068.6813186813188,362019.23076923081,null,0,15,"","",0.1205004039155782,null,0.72500000000000009,null,2,0,0,1,5,null,45,0.83333333333333326,null,null,null,1,null,3.0208333333333335,null,131779.21275563311,null,null,"","","","","","","","","","","","","",1,"","",null,"","","","",1,"","","","","","","","","","","",null,null,20,"Nonmotorized",2,0,0,1,null,1,0,0,0,null,2,0,0,1,null,1,0,0,0]
[21,"Nonmotorized",null,"MajNM2","Nonmotorized","WBT","MajT2","Stop near",null,175,6502.7472527472528,1137980.7692307692,null,0,15,"","",0.1205004039155782,null,0.72500000000000009,null,2,0,0,1,5,null,45,0.83333333333333326,null,null,null,1,null,3.0208333333333335,null,414238.24248683063,null,null,"","","","","","","","","","","","","",1,"","",null,"","","",1,"","","","","","","","","","","","",null,null,21,"Nonmotorized",2,0,0,1,null,1,0,0,0,null,2,0,0,1,null,1,0,0,0]
[null,null,null,null,null,null,null,null,null,null,null,null,null,null,null,null,null,null,null,null,null,null,null,null,null,null,null,null,null,null,null,null,null,null,null,null,null,null,null,{"$f":"'SSI Inputs'!$D$26","v":6543.9560439560446},{"$f":"'SSI Inputs'!$D$27","v":2068.6813186813188},{"$f":"'SSI Inputs'!$D$28","v":387.36263736263737},{"$f":"'SSI Inputs'!$D$30","v":6502.7472527472528},{"$f":"'SSI Inputs'!$D$31","v":2068.6813186813188},{"$f":"'SSI Inputs'!$D$32","v":428.57142857142856},{"$f":"'SSI Inputs'!$D$34","v":1785.7142857142856},{"$f":"'SSI Inputs'!$D$35","v":1071.4285714285713},{"$f":"'SSI Inputs'!$D$36","v":1142.8571428571429},{"$f":"'SSI Inputs'!$D$38","v":1857.1428571428571},{"$f":"'SSI Inputs'!$D$39","v":1071.4285714285713},{"$f":"'SSI Inputs'!$D$40","v":1071.4285714285713},{"$f":"'SSI Inputs'!$Q$18","v":175},{"$f":"'SSI Inputs'!$Q$19","v":175},{"$f":"'SSI Inputs'!$Q$20","v":175},{"$f":"'SSI Inputs'!$Q$21","v":175},null,{"$f":"'SSI Inputs'!$D$26","v":6543.9560439560446},{"$f":"'SSI Inputs'!$D$27","v":2068.6813186813188},{"$f":"'SSI Inputs'!$D$28","v":387.36263736263737},{"$f":"'SSI Inputs'!$D$30","v":6502.7472527472528},{"$f":"'SSI Inputs'!$D$31","v":2068.6813186813188},{"$f":"'SSI Inputs'!$D$32","v":428.57142857142856},{"$f":"'SSI Inputs'!$D$34","v":1785.7142857142856},{"$f":"'SSI Inputs'!$D$35","v":1071.4285714285713},{"$f":"'SSI Inputs'!$D$36","v":1142.8571428571429},{"$f":"'SSI Inputs'!$D$38","v":1857.1428571428571},{"$f":"'SSI Inputs'!$D$39","v":1071.4285714285713},{"$f":"'SSI Inputs'!$D$40","v":1071.4285714285713},{"$f":"'SSI Inputs'!$Q$18","v":175},{"$f":"'SSI Inputs'!$Q$19","v":175},{"$f":"'SSI Inputs'!$Q$20","v":175},{"$f":"'SSI Inputs'!$Q$21","v":175}]
[null,null,null,null,null,null,null,null,null,null,null,null,null,null,null,null,null,null,null,null,null,null,null,null,null,null,null,null,null,null,null,null,null,null,null,null,null,null,"D",{"$f":"'SSI Inputs'!$E$26","v":7271.062271062272},{"$f":"'SSI Inputs'!$E$27","v":2298.5347985347985},{"$f":"'SSI Inputs'!$E$28","v":430.40293040293039},{"$f":"'SSI Inputs'!$E$30","v":7225.2747252747249},{"$f":"'SSI Inputs'!$E$31","v":2298.5347985347985},{"$f":"'SSI Inputs'!$E$32","v":476.19047619047615},{"$f":"'SSI Inputs'!$E$34","v":2232.1428571428569},{"$f":"'SSI Inputs'!$E$35","v":1339.2857142857142},{"$f":"'SSI Inputs'!$E$36","v":1428.5714285714284},{"$f":"'SSI Inputs'!$E$38","v":2321.4285714285716},{"$f":"'SSI Inputs'!$E$39","v":1339.2857142857142},{"$f":"'SSI Inputs'!$E$40","v":1339.2857142857142},{"$f":"'SSI Inputs'!$R$18","v":175},{"$f":"'SSI Inputs'!$R$19","v":175},{"$f":"'SSI Inputs'!$R$20","v":175},{"$f":"'SSI Inputs'!$R$21","v":175},"D",{"$f":"'SSI Inputs'!$E$26","v":7271.062271062272},{"$f":"'SSI Inputs'!$E$27","v":2298.5347985347985},{"$f":"'SSI Inputs'!$E$28","v":430.40293040293039},{"$f":"'SSI Inputs'!$E$30","v":7225.2747252747249},{"$f":"'SSI Inputs'!$E$31","v":2298.5347985347985},{"$f":"'SSI Inputs'!$E$32","v":476.19047619047615},{"$f":"'SSI Inputs'!$E$34","v":2232.1428571428569},{"$f":"'SSI Inputs'!$E$35","v":1339.2857142857142},{"$f":"'SSI Inputs'!$E$36","v":1428.5714285714284},{"$f":"'SSI Inputs'!$E$38","v":2321.4285714285716},{"$f":"'SSI Inputs'!$E$39","v":1339.2857142857142},{"$f":"'SSI Inputs'!$E$40","v":1339.2857142857142},{"$f":"'SSI Inputs'!$R$18","v":175},{"$f":"'SSI Inputs'!$R$19","v":175},{"$f":"'SSI Inputs'!$R$20","v":175},{"$f":"'SSI Inputs'!$R$21","v":175}]
[]
[]
[]
[]
[]
[]
[]
[]
[]
[]
[]
[]
[]
[]
[]
[]
[]
[]
[]
[]
[]
[]
[]
[]
[]
[]
[]
[]
[]
[]
[]
[]
[]
[]
[]
[]
[]
[]
[]
[]
[]
[]
[]
[]
[]
[]
[]
[]
[]
[]
[]
[]
[]
[]
[]
[]
[]
[]
[]
[]
[]
[]
[]
[]
[]
[]
[]
[]
[]
[]
[]
[]
[]
[]
[null,null,null,null,null,null,null,null,null,"Exposure",null,null,null,null,null,null,null,null,null,null,null,null,null,null,null,null,null,null,null,null,null,null,null,null,null,null,"Exposure-Severity-Complexity Product"]
[null,null,null,null,null,null,null,null,null,"Q1","Q2","I"]
[null,null,null,null,null,null,null,null,null,{"$f":"SUMPRODUCT($AN4:$BC4,$AN$26:$BC$26)","v":7271.062271062272},{"$f":"SUMPRODUCT($BE4:$BT4,$BE$26:$BT$26)","v":2298.5347985347985},{"$f":"PRODUCT(J103:K103)","v":16712789.652350094},null,null,null,null,null,null,null,null,null,null,null,null,null,null,null,null,null,null,null,null,null,null,null,null,{"$f":"L103*R4*AI4","v":284724.74808126147}]
[null,null,null,null,null,null,null,null,null,{"$f":"SUMPRODUCT($AN5:$BC5,$AN$26:$BC$26)","v":2298.5347985347985},{"$f":"SUMPRODUCT($BE5:$BT5,$BE$26:$BT$26)","v":1339.2857142857142},{"$f":"PRODUCT(J104:K104)","v":3078394.8194662477},null,null,null,null,null,null,null,null,null,null,null,null,null,null,null,null,null,null,null,null,null,null,null,null,{"$f":"L104*R5*AI5","v":98333.582509960179}]
[null,null,null,null,null,null,null,null,null,7271.062271062272,1339.2857142857142,9738029.8273155428,null,null,null,null,null,null,null,null,null,null,null,null,null,null,null,null,null,null,null,null,null,null,null,null,311063.2052307108]
[null,null,null,null,null,null,null,null,null,430.40293040293039,2298.5347985347985,989296.1129224865,null,null,null,null,null,null,null,null,null,null,null,null,null,null,null,null,null,null,null,null,null,null,null,null,1127.6198368157866]
[null,null,null,null,null,null,null,null,null,1339.2857142857142,7225.2747252747249,9676707.2213500775,null,null,null,null,null,null,null,null,null,null,null,null,null,null,null,null,null,null,null,null,null,null,null,null,26749.554419343229]
[null,null,null,null,null,null,null,null,null,1428.5714285714284,7271.062271062272,10387231.815803245,null,null,null,null,null,null,null,null,null,null,null,null,null,null,null,null,null,null,null,null,null,null,null,null,10359.630883608696]
[null,null,null,null,null,null,null,null,null,1428.5714285714284,1339.2857142857142,1913265.3061224488,null,null,null,null,null,null,null,null,null,null,null,null,null,null,null,null,null,null,null,null,null,null,null,null,1.2256643126635727]
[null,null,null,null,null,null,null,null,null,430.40293040293039,7271.062271062272,3129486.508607388,null,null,null,null,null,null,null,null,null,null,null,null,null,null,null,null,null,null,null,null,null,null,null,null,2.0047924970405089]
[null,null,null,null,null,null,null,null,null,2298.5347985347985,7225.2747252747249,16607545.385017911,null,null,null,null,null,null,null,null,null,null,null,null,null,null,null,null,null,null,null,null,null,null,null,null,10.639024098863961]
[null,null,null,null,null,null,null,null,null,175,7225.2747252747249,1264423.0769230768,null,null,null,null,null,null,null,null,null,null,null,null,null,null,null,null,null,null,null,null,null,null,null,null,1224830.1721483062]
[null,null,null,null,null,null,null,null,null,175,1339.2857142857142,234375,null,null,null,null,null,null,null,null,null,null,null,null,null,null,null,null,null,null,null,null,null,null,null,null,227036.01099707198]
[null,null,null,null,null,null,null,null,null,175,7271.062271062272,1272435.8974358975,null,null,null,null,null,null,null,null,null,null,null,null,null,null,null,null,null,null,null,null,null,null,null,null,463181.47378473962]
[null,null,null,null,null,null,null,null,null,175,430.40293040293039,75320.512820512813,null,null,null,null,null,null,null,null,null,null,null,null,null,null,null,null,null,null,null,null,null,null,null,null,27417.543158542518]
[null,null,null,null,null,null,null,null,null,175,430.40293040293039,75320.512820512813,null,null,null,null,null,null,null,null,null,null,null,null,null,null,null,null,null,null,null,null,null,null,null,null,30159.297474396772]
[null,null,null,null,null,null,null,null,null,175,2298.5347985347985,402243.58974358975,null,null,null,null,null,null,null,null,null,null,null,null,null,null,null,null,null,null,null,null,null,null,null,null,428612.94110284839]
[null,null,null,null,null,null,null,null,null,175,1339.2857142857142,234375,null,null,null,null,null,null,null,null,null,null,null,null,null,null,null,null,null,null,null,null,null,null,null,null,93846.750119798467]
[null,null,null,null,null,null,null,null,null,175,1428.5714285714284,249999.99999999997,null,null,null,null,null,null,null,null,null,null,null,null,null,null,null,null,null,null,null,null,null,null,null,null,100103.20012778502]
[null,null,null,null,null,null,null,null,null,175,1428.5714285714284,249999.99999999997,null,null,null,null,null,null,null,null,null,null,null,null,null,null,null,null,null,null,null,null,null,null,null,null,91002.909207077289]
[null,null,null,null,null,null,null,null,null,175,7271.062271062272,1272435.8974358975,null,null,null,null,null,null,null,null,null,null,null,null,null,null,null,null,null,null,null,null,null,null,null,null,1232592.0870541891]
[null,null,null,null,null,null,null,null,null,175,2298.5347985347985,402243.58974358975,null,null,null,null,null,null,null,null,null,null,null,null,null,null,null,null,null,null,null,null,null,null,null,null,146421.34750625899]
[null,null,null,null,null,null,null,null,null,175,7225.2747252747249,1264423.0769230768,null,null,null,null,null,null,null,null,null,null,null,null,null,null,null,null,null,null,null,null,null,null,null,null,460264.71387425624]

{"sheet":"TradT_MRSC","index":51,"n_rows":123,"n_cols":95,"rows_kept":123,"cut":false,"hidden":true,"merged":[[1,76,1,79],[1,81,1,84],[1,86,1,89],[1,91,1,94],[1,34,2,34],[1,36,2,36],[1,39,1,54],[1,56,1,71],[100,9,100,11],[100,36,101,36],[0,19,0,28],[0,30,0,32],[1,9,1,11],[1,13,1,17],[1,21,1,25],[1,27,1,28],[1,30,2,30],[1,31,2,31],[1,32,2,32]]}
[null,null,null,null,null,null,null,null,null,null,null,null,null,null,null,null,null,null,null,"Conflicting Traffic Complexity",null,null,null,null,null,null,null,null,null,null,"Pedestrian Complexity"]
[null,null,null,null,null,null,null,null,null,"Exposure",null,null,null,"Severity",null,null,null,null,null,"Traffic Control",null,"Conflicting Lanes",null,null,null,null,null,"Conflicting Speed",null,null,"Indirect Paths Indicator","Non-intuitive movements indicator","Pedestrian Complexity factor",null,"Total Complexity Multiplier",null,"Exposure-Severity-Complexity Product",null,null,"Included in Mvmt1",null,null,null,null,null,null,null,null,null,null,null,null,null,null,null,null,"Included in Mvmt2",null,null,null,null,null,null,null,null,null,null,null,null,null,null,null,null,null,null,null,"Major: No, Minor: No",null,null,null,null,"Major: Yes, Minor: No",null,null,null,null,"Major: No, Minor: Yes",null,null,null,null,"Major: Yes, Minor: Yes"]
["#","Conflict Type","Mvmt1","Mvmt1_gen","Mvmt1_SpeedCat","Mvmt2","Mvmt2_gen","Mvmt2_SpeedCat",null,"Q1","Q2","I",null,"Speed_V1","Speed_V2","Angle","delta_V","P_FSI",null,null,null,"MajC","MinC","MajM/P","MinM/P","Score",null,"Speed","Factor",null,null,null,null,null,null,null,null,null,null,"MajT1","MajL1","MajR1","MajT2","MajL2","MajR2","MinT1","MinL1","MinR1","MinT2","MinL2","MinR2","MajNM1","MajNM2","MinNM1","MinNM2",null,"MajT1","MajL1","MajR1","MajT2","MajL2","MajR2","MinT1","MinL1","MinR1","MinT2","MinL2","MinR2","MajNM1","MajNM2","MinNM1","MinNM2",null,null,"#","Conflict Type","MajC","MinC","MajM/P","MinM/P",null,"MajC","MinC","MajM/P","MinM/P",null,"MajC","MinC","MajM/P","MinM/P",null,"MajC","MinC","MajM/P","MinM/P"]
[1,"Crossing - LT","EBT","MajT1","Major thru","WBL","MajL2","Major left",null,{"$f":"SUMPRODUCT($AN4:$BC4,$AN$25:$BC$25)","v":6543.9560439560446},{"$f":"SUMPRODUCT($BE4:$BT4,$BE$25:$BT$25)","v":2068.6813186813188},{"$f":"PRODUCT(J4:K4)","v":13537359.618403576},null,{"$f":"VLOOKUP(E4,SSI_AGI_Range_VehSpeed,5,FALSE)","v":45},{"$f":"VLOOKUP(H4,SSI_AGI_Range_VehSpeed,5,FALSE)","v":20},{"$f":"IF(B4=\"Nonmotorized\",\"\",VLOOKUP(B4,SSI_AGI_Range_CollAngles,5,FALSE))","v":230},{"$f":"IF(B4=\"Nonmotorized\",\"\",SQRT(N4^2+O4^2-2*N4*O4*COS(RADIANS(P4)))/2)","v":29.924979939156898},{"$f":"IF(B4=\"Nonmotorized\",1/(1+EXP(3.8432-0.1237*O4)),(Q4/SSI_AGI_RegAlpha)^SSI_AGI_RegK+(Q4/SSI_AGI_RegAlpha)^SSI_AGI_RegK-((Q4/SSI_AGI_RegAlpha)^SSI_AGI_RegK)*((Q4/SSI_AGI_RegAlpha)^SSI_AGI_RegK))","v":9.0286582411373745E-2},null,{"$f":"SSI_AGI_PermFactor","v":1},null,{"$f":"IF(AND(SS_AGI_MajMedian=\"No\", SS_AGI_MinMedian=\"No\"),BY4,IF(AND(SS_AGI_MajMedian=\"Yes\",SS_AGI_MinMedian=\"No\"),CD4,IF(AND(SS_AGI_MajMedian=\"No\",SS_AGI_MinMedian=\"Yes\"),CI4,IF(AND(SS_AGI_MajMedian=\"Yes\",SS_AGI_MinMedian=\"Yes\"),CN4))))","v":1},{"$f":"IF(AND(SS_AGI_MajMedian=\"No\", SS_AGI_MinMedian=\"No\"),BZ4,IF(AND(SS_AGI_MajMedian=\"Yes\",SS_AGI_MinMedian=\"No\"),CE4,IF(AND(SS_AGI_MajMedian=\"No\",SS_AGI_MinMedian=\"Yes\"),CJ4,IF(AND(SS_AGI_MajMedian=\"Yes\",SS_AGI_MinMedian=\"Yes\"),CO4))))","v":0},{"$f":"IF(AND(SS_AGI_MajMedian=\"No\", SS_AGI_MinMedian=\"No\"),CA4,IF(AND(SS_AGI_MajMedian=\"Yes\",SS_AGI_MinMedian=\"No\"),CF4,IF(AND(SS_AGI_MajMedian=\"No\",SS_AGI_MinMedian=\"Yes\"),CK4,IF(AND(SS_AGI_MajMedian=\"Yes\",SS_AGI_MinMedian=\"Yes\"),CP4))))","v":0},{"$f":"IF(AND(SS_AGI_MajMedian=\"No\", SS_AGI_MinMedian=\"No\"),CB4,IF(AND(SS_AGI_MajMedian=\"Yes\",SS_AGI_MinMedian=\"No\"),CG4,IF(AND(SS_AGI_MajMedian=\"No\",SS_AGI_MinMedian=\"Yes\"),CL4,IF(AND(SS_AGI_MajMedian=\"Yes\",SS_AGI_MinMedian=\"Yes\"),CQ4))))","v":0},{"$f":"MAX(1,IF(B4<>\"Pedestrian\",V4*SSI_AGI_MajorThruLanes+W4*SSI_AGI_MinorThruLanes+X4*IF(SSI_AGI_MajorThruLanes=1,SSI_AGI_MergeWeightL1,IF(SSI_AGI_MajorThruLanes=2,SSI_AGI_MergeWeightL1+SSI_AGI_MergeWeightL2,SSI_AGI_MergeWeightL1+SSI_AGI_MergeWeightL2+SSI_AGI_MergeWeightL3*(SSI_AGI_MajorThruLanes-2)))+Y4*IF(SSI_AGI_MinorThruLanes=1,SSI_AGI_MergeWeightL1,IF(SSI_AGI_MinorThruLanes=2,SSI_AGI_MergeWeightL1+SSI_AGI_MergeWeightL2,SSI_AGI_MergeWeightL1+SSI_AGI_MergeWeightL2+SSI_AGI_MergeWeightL3*(SSI_AGI_MinorThruLanes-2))),V4*SSI_AGI_MajorThruLanes+W4*SSI_AGI_MinorThruLanes+X4*IF(SSI_AGI_MajorThruLanes=1,SSI_AGI_NM_MergeWeightL1,IF(SSI_AGI_MajorThruLanes=2,SSI_AGI_NM_MergeWeightL1+SSI_AGI_NM_MergeWeightL2,SSI_AGI_NM_MergeWeightL1+SSI_AGI_NM_MergeWeightL2+SSI_AGI_NM_MergeWeightL3*(SSI_AGI_MajorThruLanes-2)))+Y4*IF(SSI_AGI_MinorThruLanes=1,SSI_AGI_NM_MergeWeightL1,IF(SSI_AGI_MinorThruLanes=2,SSI_AGI_NM_MergeWeightL1+SSI_AGI_NM_MergeWeightL2,SSI_AGI_NM_MergeWeightL1+SSI_AGI_NM_MergeWeightL2+SSI_AGI_NM_MergeWeightL3*(SSI_AGI_MinorThruLanes-2)))))","v":2},null,{"$f":"IF(B4=\"Diverging\",\"\",SSI_AGI_VehSpeed_MjrThru)","v":45},{"$f":"IF(B4=\"Diverging\",1,1-((60-AB4)/60*0.1/0.15))","v":0.83333333333333326},null,null,null,{"$f":"IF(SSI_AGI_ConsiderNMComplexity=\"Yes\",1+AE4+AF4,1)","v":1},null,{"$f":"PRODUCT(Z4,T4,AC4,AG4)","v":1.6666666666666665},null,{"$f":"L4*R4*AI4","v":2037069.8913656624},null,null,{"$f":"IF(ISNUMBER(SEARCH(AN$3,$D4)),1,\"\")","v":1},{"$f":"IF(ISNUMBER(SEARCH(AO$3,$D4)),1,\"\")","v":""},"","","","","","","","","","","","","","",null,{"$f":"IF(ISNUMBER(SEARCH(BE$3,$G4)),1,\"\")","v":""},{"$f":"IF(ISNUMBER(SEARCH(BF$3,$G4)),1,\"\")","v":""},"","",1,"","","","","","","","","","","",null,null,1,"Crossing - LT",1,0,0,0,null,1,0,0,0,null,1,0,0,0,null,1,0,0,0]
[2,"Crossing - LT","WBL","MajL2","Major left","NBL","MinL1","Stop near",null,2068.6813186813188,1071.4285714285713,{"$f":"PRODUCT(J5:K5)","v":2216444.2700156984},null,20,15,230,{"$f":"IF(B5=\"Nonmotorized\",\"\",SQRT(N5^2+O5^2-2*N5*O5*COS(RADIANS(P5)))/2)","v":15.895538413434787},8.3616736100371545E-3,null,1,null,{"$f":"IF(AND(SS_AGI_MajMedian=\"No\", SS_AGI_MinMedian=\"No\"),BY5,IF(AND(SS_AGI_MajMedian=\"Yes\",SS_AGI_MinMedian=\"No\"),CD5,IF(AND(SS_AGI_MajMedian=\"No\",SS_AGI_MinMedian=\"Yes\"),CI5,IF(AND(SS_AGI_MajMedian=\"Yes\",SS_AGI_MinMedian=\"Yes\"),CN5))))","v":1},{"$f":"IF(AND(SS_AGI_MajMedian=\"No\", SS_AGI_MinMedian=\"No\"),BZ5,IF(AND(SS_AGI_MajMedian=\"Yes\",SS_AGI_MinMedian=\"No\"),CE5,IF(AND(SS_AGI_MajMedian=\"No\",SS_AGI_MinMedian=\"Yes\"),CJ5,IF(AND(SS_AGI_MajMedian=\"Yes\",SS_AGI_MinMedian=\"Yes\"),CO5))))","v":0},{"$f":"IF(AND(SS_AGI_MajMedian=\"No\", SS_AGI_MinMedian=\"No\"),CA5,IF(AND(SS_AGI_MajMedian=\"Yes\",SS_AGI_MinMedian=\"No\"),CF5,IF(AND(SS_AGI_MajMedian=\"No\",SS_AGI_MinMedian=\"Yes\"),CK5,IF(AND(SS_AGI_MajMedian=\"Yes\",SS_AGI_MinMedian=\"Yes\"),CP5))))","v":1},{"$f":"IF(AND(SS_AGI_MajMedian=\"No\", SS_AGI_MinMedian=\"No\"),CB5,IF(AND(SS_AGI_MajMedian=\"Yes\",SS_AGI_MinMedian=\"No\"),CG5,IF(AND(SS_AGI_MajMedian=\"No\",SS_AGI_MinMedian=\"Yes\"),CL5,IF(AND(SS_AGI_MajMedian=\"Yes\",SS_AGI_MinMedian=\"Yes\"),CQ5))))","v":0},3.75,null,45,0.83333333333333326,null,null,null,1,null,3.1249999999999996,null,{"$f":"L5*R5*AI5","v":57916.198627213525},null,null,{"$f":"IF(ISNUMBER(SEARCH(AN$3,$D5)),1,\"\")","v":""},"","","",1,"","","","","","","","","","","",null,{"$f":"IF(ISNUMBER(SEARCH(BE$3,$G5)),1,\"\")","v":""},"","","","","","",1,"","","","","","","","",null,null,2,"Crossing - LT",1,0,1,0,null,1,0,0,0,null,1,0,1,0,null,1,0,0,0]
[3,"Crossing - LT","EBT","MajT1","Major thru","NBL","MinL1","Stop far",null,6543.9560439560446,1071.4285714285713,7011381.4756671898,null,45,25,230,32.001062958106225,0.11565690546238376,null,1,null,1,0,1,0,3.75,null,45,0.83333333333333326,null,null,null,1,null,3.1249999999999996,null,2534108.3890373399,null,null,1,"","","","","","","","","","","","","","","",null,"","","","","","","",1,"","","","","","","","",null,null,3,"Crossing - LT",1,0,1,0,null,1,0,0,0,null,1,0,1,0,null,1,0,0,0]
[4,"Merging","EBR","MajR1","Major right","WBL","MajL2","Major left",null,387.36263736263737,2068.6813186813188,801329.85146721418,null,15,20,45,7.0840654162717795,3.9022923271840544E-4,null,1,null,1,0,0,0,2,null,45,0.83333333333333326,null,null,null,1,null,1.6666666666666665,null,521.17055515400796,null,null,"","",1,"","","","","","","","","","","","","",null,"","","","",1,"","","","","","","","","","","",null,null,4,"Merging",1,0,0,0,null,1,0,0,0,null,1,0,0,0,null,1,0,0,0]
[5,"Merging","NBL","MinL1","Major thru","WBT","MajT2","Major thru",null,1071.4285714285713,6502.7472527472528,6967229.1993720559,null,45,45,45,17.220754456429038,1.1322190404138437E-2,null,1,null,1,0,1,0,3.75,null,45,0.83333333333333326,null,null,null,1,null,3.1249999999999996,null,246513.42370176062,null,null,"","","","","","","",1,"","","","","","","","",null,"","","",1,"","","","","","","","","","","","",null,null,5,"Merging",1,0,1,0,null,0,0,1,0,null,1,0,1,0,null,0,0,1,0]
[6,"Merging","NBR","MinR1","Stop near","EBT","MajT1","Major thru",null,1142.8571428571429,6543.9560439560446,7478806.9073783373,null,15,45,45,17.995873453365363,1.3373938286506865E-2,null,1,null,0,0,1,0,1.75,null,45,0.83333333333333326,null,null,null,1,null,1.4583333333333333,null,145864.10713580291,null,null,"","","","","","","","",1,"","","","","","","",null,1,"","","","","","","","","","","","","","","",null,null,6,"Merging",0,0,1,0,null,0,0,1,0,null,0,0,1,0,null,0,0,1,0]
[7,"Diverging","NBR","MinR1","Stop near","NBL","MinL1","Stop near",null,1142.8571428571429,1071.4285714285713,1224489.7959183673,null,15,15,10,1.3073361412148754,6.4061388075216071E-7,null,1,null,0,0,0,0,1,null,"",1,null,null,null,1,null,1,null,0.78442516010468655,null,null,"","","","","","","","",1,"","","","","","","",null,"","","","","","","",1,"","","","","","","","",null,null,7,"Diverging",0,0,0,0,null,0,0,0,0,null,0,0,0,0,null,0,0,0,0]
[8,"Diverging","EBR","MajR1","Major right","EBT","MajT1","Major thru",null,387.36263736263737,6543.9560439560446,2534884.0719719846,null,15,45,10,15.169950011729762,7.0056226631585675E-3,null,1,null,0,0,0,0,1,null,"",1,null,null,null,1,null,1,null,17758.441303086609,null,null,"","",1,"","","","","","","","","","","","","",null,1,"","","","","","","","","","","","","","","",null,null,8,"Diverging",0,0,0,0,null,0,0,0,0,null,0,0,0,0,null,0,0,0,0]
[9,"Diverging","WBL","MajL2","Major left","WBT","MajT2","Major thru",null,2068.6813186813188,6502.7472527472528,13452111.761864509,null,20,45,10,12.77053292327718,3.6481988362114144E-3,null,1,null,0,0,0,0,1,null,"",1,null,null,null,1,null,1,null,49075.978474219984,null,null,"","","","",1,"","","","","","","","","","","",null,"","","",1,"","","","","","","","","","","","",null,null,9,"Diverging",0,0,0,0,null,0,0,0,0,null,0,0,0,0,null,0,0,0,0]
[10,"Nonmotorized",null,"MajNM1","Nonmotorized","WBT","MajT2","Major thru",null,175,6502.7472527472528,1137980.7692307692,null,0,45,"","",0.84855340903216459,null,1,null,2,0,0,1,5,null,45,0.83333333333333326,null,null,null,1,null,4.1666666666666661,null,4023489.4214325589,null,null,"","","","","","","","","","","","",1,"","","",null,"","","",1,"","","","","","","","","","","","",null,null,10,"Nonmotorized",2,0,0,1,null,1,0,0,1,null,2,0,0,1,null,1,0,0,1]
[11,"Nonmotorized",null,"MajNM1","Nonmotorized","NBL","MinL1","Stop far",null,175,1071.4285714285713,187499.99999999997,null,0,25,"","",0.32066879346345062,null,1,null,2,0,0,1,5,null,45,0.83333333333333326,null,null,null,1,null,4.1666666666666661,null,250522.49489332072,null,null,"","","","","","","","","","","","",1,"","","",null,"","","","","","","",1,"","","","","","","","",null,null,11,"Nonmotorized",2,0,0,1,null,1,0,0,1,null,2,0,0,1,null,1,0,0,1]
[12,"Nonmotorized",null,"MajNM1","Nonmotorized","EBT","MajT1","Major thru",null,175,6543.9560439560446,1145192.3076923077,null,0,45,"","",0.84855340903216459,null,1,null,2,0,0,1,5,null,45,0.83333333333333326,null,null,null,1,null,4.1666666666666661,null,4048986.8195404969,null,null,"","","","","","","","","","","","",1,"","","",null,1,"","","","","","","","","","","","","","","",null,null,12,"Nonmotorized",2,0,0,1,null,1,0,0,0,null,2,0,0,1,null,1,0,0,0]
[13,"Nonmotorized",null,"MajNM1","Nonmotorized","EBR","MajR1","Major right",null,175,387.36263736263737,67788.461538461546,null,0,15,"","",0.1205004039155782,null,1,null,2,0,0,1,5,null,45,0.83333333333333326,null,null,null,1,null,4.1666666666666661,null,34035.570817501051,null,null,"","","","","","","","","","","","",1,"","","",null,"","",1,"","","","","","","","","","","","","",null,null,13,"Nonmotorized",2,0,0,1,null,1,0,0,0,null,2,0,0,1,null,1,0,0,0]
[14,"Nonmotorized",null,"MinNM1","Nonmotorized","EBR","MajR1","Major right",null,175,387.36263736263737,67788.461538461546,null,0,15,"","",0.1205004039155782,null,{"$f":"SSI_AGI_StopFactor","v":0.72500000000000009},null,0,2,2,0,5.5,null,45,0.83333333333333326,null,null,null,1,null,3.322916666666667,null,27143.367726957098,null,null,"","","","","","","","","","","","","","",1,"",null,"","",1,"","","","","","","","","","","","","",null,null,14,"Nonmotorized",0,2,2,0,null,0,2,2,0,null,0,1,2,0,null,0,1,2,0]
[15,"Nonmotorized",null,"MinNM1","Nonmotorized","WBL","MajL2","Major left",null,175,2068.6813186813188,362019.23076923081,null,0,20,"","",0.20274912921655375,null,{"$f":"SSI_AGI_StopFactor","v":0.72500000000000009},null,0,2,2,0,5.5,null,45,0.83333333333333326,null,null,null,1,null,3.322916666666667,null,243899.03887079697,null,null,"","","","","","","","","","","","","","",1,"",null,"","","","",1,"","","","","","","","","","","",null,null,15,"Nonmotorized",0,2,2,0,null,0,2,2,0,null,0,1,2,0,null,0,1,2,0]
[16,"Nonmotorized",null,"MinNM1","Nonmotorized","NBL","MinL1","Stop near",null,175,1071.4285714285713,187499.99999999997,null,0,15,"","",0.1205004039155782,null,{"$f":"SSI_AGI_StopFactor","v":0.72500000000000009},null,0,2,2,0,5.5,null,45,0.83333333333333326,null,null,null,1,null,3.322916666666667,null,75077.400095838762,null,null,"","","","","","","","","","","","","","",1,"",null,"","","","","","","",1,"","","","","","","","",null,null,16,"Nonmotorized",0,2,2,0,null,0,2,2,0,null,0,1,0,0,null,0,1,0,0]
[17,"Nonmotorized",null,"MinNM1","Nonmotorized","NBR","MinR1","Stop near",null,175,1142.8571428571429,200000,null,0,15,"","",0.1205004039155782,null,{"$f":"SSI_AGI_StopFactor","v":0.72500000000000009},null,0,2,2,0,5.5,null,45,0.83333333333333326,null,null,null,1,null,3.322916666666667,null,80082.560102228032,null,null,"","","","","","","","","","","","","","",1,"",null,"","","","","","","","",1,"","","","","","","",null,null,17,"Nonmotorized",0,2,2,0,null,0,2,2,0,null,0,1,0,0,null,0,1,0,0]
[18,"Nonmotorized",null,"MajNM2","Nonmotorized","NBR","MinR1","Stop near",null,175,1142.8571428571429,200000,null,0,15,"","",0.1205004039155782,null,{"$f":"SSI_AGI_PermFactor","v":1},null,2,0,0,1,5,null,45,0.83333333333333326,null,null,null,1,null,4.1666666666666661,null,100417.00326298183,null,null,"","","","","","","","","","","","","",1,"","",null,"","","","","","","","",1,"","","","","","","",null,null,18,"Nonmotorized",2,0,0,1,null,1,0,0,1,null,2,0,0,1,null,1,0,0,1]
[19,"Nonmotorized",null,"MajNM2","Nonmotorized","EBT","MajT1","Major thru",null,175,6543.9560439560446,1145192.3076923077,null,0,45,"","",0.84855340903216459,null,{"$f":"SSI_AGI_PermFactor","v":1},null,2,0,0,1,5,null,45,0.83333333333333326,null,null,null,1,null,4.1666666666666661,null,4048986.8195404969,null,null,"","","","","","","","","","","","","",1,"","",null,1,"","","","","","","","","","","","","","","",null,null,19,"Nonmotorized",2,0,0,1,null,1,0,0,1,null,2,0,0,1,null,1,0,0,1]
[20,"Nonmotorized",null,"MajNM2","Nonmotorized","WBL","MajL2","Major left",null,175,2068.6813186813188,362019.23076923081,null,0,20,"","",0.20274912921655375,null,{"$f":"SSI_AGI_PermFactor","v":1},null,2,0,0,1,5,null,45,0.83333333333333326,null,null,null,1,null,4.1666666666666661,null,305829.51582545065,null,null,"","","","","","","","","","","","","",1,"","",null,"","","","",1,"","","","","","","","","","","",null,null,20,"Nonmotorized",2,0,0,1,null,1,0,0,0,null,2,0,0,1,null,1,0,0,0]
[21,"Nonmotorized",null,"MajNM2","Nonmotorized","WBT","MajT2","Major thru",null,175,6502.7472527472528,1137980.7692307692,null,0,45,"","",0.84855340903216459,null,{"$f":"SSI_AGI_PermFactor","v":1},null,2,0,0,1,5,null,45,0.83333333333333326,null,null,null,1,null,4.1666666666666661,null,4023489.4214325589,null,null,"","","","","","","","","","","","","",1,"","",null,"","","",1,"","","","","","","","","","","","",null,null,21,"Nonmotorized",2,0,0,1,null,1,0,0,0,null,2,0,0,1,null,1,0,0,0]
[null,null,null,null,null,null,null,null,null,null,null,null,null,null,null,null,null,null,null,null,null,null,null,null,null,null,null,null,null,null,null,null,null,null,null,null,null,null,null,{"$f":"'SSI Inputs'!$D$26","v":6543.9560439560446},{"$f":"'SSI Inputs'!$D$27","v":2068.6813186813188},{"$f":"'SSI Inputs'!$D$28","v":387.36263736263737},{"$f":"'SSI Inputs'!$D$30","v":6502.7472527472528},{"$f":"'SSI Inputs'!$D$31","v":2068.6813186813188},{"$f":"'SSI Inputs'!$D$32","v":428.57142857142856},{"$f":"'SSI Inputs'!$D$34","v":1785.7142857142856},{"$f":"'SSI Inputs'!$D$35","v":1071.4285714285713},{"$f":"'SSI Inputs'!$D$36","v":1142.8571428571429},{"$f":"'SSI Inputs'!$D$38","v":1857.1428571428571},{"$f":"'SSI Inputs'!$D$39","v":1071.4285714285713},{"$f":"'SSI Inputs'!$D$40","v":1071.4285714285713},{"$f":"'SSI Inputs'!$Q$18","v":175},{"$f":"'SSI Inputs'!$Q$19","v":175},{"$f":"'SSI Inputs'!$Q$20","v":175},{"$f":"'SSI Inputs'!$Q$21","v":175},null,{"$f":"'SSI Inputs'!$D$26","v":6543.9560439560446},{"$f":"'SSI Inputs'!$D$27","v":2068.6813186813188},{"$f":"'SSI Inputs'!$D$28","v":387.36263736263737},{"$f":"'SSI Inputs'!$D$30","v":6502.7472527472528},{"$f":"'SSI Inputs'!$D$31","v":2068.6813186813188},{"$f":"'SSI Inputs'!$D$32","v":428.57142857142856},{"$f":"'SSI Inputs'!$D$34","v":1785.7142857142856},{"$f":"'SSI Inputs'!$D$35","v":1071.4285714285713},{"$f":"'SSI Inputs'!$D$36","v":1142.8571428571429},{"$f":"'SSI Inputs'!$D$38","v":1857.1428571428571},{"$f":"'SSI Inputs'!$D$39","v":1071.4285714285713},{"$f":"'SSI Inputs'!$D$40","v":1071.4285714285713},{"$f":"'SSI Inputs'!$Q$18","v":175},{"$f":"'SSI Inputs'!$Q$19","v":175},{"$f":"'SSI Inputs'!$Q$20","v":175},{"$f":"'SSI Inputs'!$Q$21","v":175}]
[null,null,null,null,null,null,null,null,null,null,null,null,null,null,null,null,null,null,null,null,null,null,null,null,null,null,null,null,null,null,null,null,null,null,null,null,null,null,"D",{"$f":"'SSI Inputs'!$E$26","v":7271.062271062272},{"$f":"'SSI Inputs'!$E$27","v":2298.5347985347985},{"$f":"'SSI Inputs'!$E$28","v":430.40293040293039},{"$f":"'SSI Inputs'!$E$30","v":7225.2747252747249},{"$f":"'SSI Inputs'!$E$31","v":2298.5347985347985},{"$f":"'SSI Inputs'!$E$32","v":476.19047619047615},{"$f":"'SSI Inputs'!$E$34","v":2232.1428571428569},{"$f":"'SSI Inputs'!$E$35","v":1339.2857142857142},{"$f":"'SSI Inputs'!$E$36","v":1428.5714285714284},{"$f":"'SSI Inputs'!$E$38","v":2321.4285714285716},{"$f":"'SSI Inputs'!$E$39","v":1339.2857142857142},{"$f":"'SSI Inputs'!$E$40","v":1339.2857142857142},{"$f":"'SSI Inputs'!$R$18","v":175},{"$f":"'SSI Inputs'!$R$19","v":175},{"$f":"'SSI Inputs'!$R$20","v":175},{"$f":"'SSI Inputs'!$R$21","v":175},"D",{"$f":"'SSI Inputs'!$E$26","v":7271.062271062272},{"$f":"'SSI Inputs'!$E$27","v":2298.5347985347985},{"$f":"'SSI Inputs'!$E$28","v":430.40293040293039},{"$f":"'SSI Inputs'!$E$30","v":7225.2747252747249},{"$f":"'SSI Inputs'!$E$31","v":2298.5347985347985},{"$f":"'SSI Inputs'!$E$32","v":476.19047619047615},{"$f":"'SSI Inputs'!$E$34","v":2232.1428571428569},{"$f":"'SSI Inputs'!$E$35","v":1339.2857142857142},{"$f":"'SSI Inputs'!$E$36","v":1428.5714285714284},{"$f":"'SSI Inputs'!$E$38","v":2321.4285714285716},{"$f":"'SSI Inputs'!$E$39","v":1339.2857142857142},{"$f":"'SSI Inputs'!$E$40","v":1339.2857142857142},{"$f":"'SSI Inputs'!$R$18","v":175},{"$f":"'SSI Inputs'!$R$19","v":175},{"$f":"'SSI Inputs'!$R$20","v":175},{"$f":"'SSI Inputs'!$R$21","v":175}]
[]
[]
[]
[]
[]
[]
[]
[]
[]
[]
[]
[]
[]
[]
[]
[]
[]
[]
[]
[]
[]
[]
[]
[]
[]
[]
[]
[]
[]
[]
[]
[]
[]
[]
[]
[]
[]
[]
[]
[]
[]
[]
[]
[]
[]
[]
[]
[]
[]
[]
[]
[]
[]
[]
[]
[]
[]
[]
[]
[]
[]
[]
[]
[]
[]
[]
[]
[]
[]
[]
[]
[]
[]
[]
[null,null,null,null,null,null,null,null,null,"Exposure",null,null,null,null,null,null,null,null,null,null,null,null,null,null,null,null,null,null,null,null,null,null,null,null,null,null,"Exposure-Severity-Complexity Product"]
[null,null,null,null,null,null,null,null,null,"Q1","Q2","I"]
[null,null,null,null,null,null,null,null,null,{"$f":"SUMPRODUCT($AN4:$BC4,$AN$26:$BC$26)","v":7271.062271062272},{"$f":"SUMPRODUCT($BE4:$BT4,$BE$26:$BT$26)","v":2298.5347985347985},{"$f":"PRODUCT(J103:K103)","v":16712789.652350094},null,null,null,null,null,null,null,null,null,null,null,null,null,null,null,null,null,null,null,null,null,null,null,null,{"$f":"L103*R4*AI4","v":2514901.100451435}]
[null,null,null,null,null,null,null,null,null,{"$f":"SUMPRODUCT($AN5:$BC5,$AN$26:$BC$26)","v":2298.5347985347985},{"$f":"SUMPRODUCT($BE5:$BT5,$BE$26:$BT$26)","v":1339.2857142857142},{"$f":"PRODUCT(J104:K104)","v":3078394.8194662477},null,null,null,null,null,null,null,null,null,null,null,null,null,null,null,null,null,null,null,null,null,null,null,null,{"$f":"L104*R5*AI5","v":80439.164760018786}]
[null,null,null,null,null,null,null,null,null,7271.062271062272,1339.2857142857142,9738029.8273155428,null,null,null,null,null,null,null,null,null,null,null,null,null,null,null,null,null,null,null,null,null,null,null,null,3519594.9847740838]
[null,null,null,null,null,null,null,null,null,430.40293040293039,2298.5347985347985,989296.1129224865,null,null,null,null,null,null,null,null,null,null,null,null,null,null,null,null,null,null,null,null,null,null,null,null,643.42043846173806]
[null,null,null,null,null,null,null,null,null,1339.2857142857142,7225.2747252747249,9676707.2213500775,null,null,null,null,null,null,null,null,null,null,null,null,null,null,null,null,null,null,null,null,null,null,null,null,342379.7551413342]
[null,null,null,null,null,null,null,null,null,1428.5714285714284,7271.062271062272,10387231.815803245,null,null,null,null,null,null,null,null,null,null,null,null,null,null,null,null,null,null,null,null,null,null,null,null,202589.03768861512]
[null,null,null,null,null,null,null,null,null,1428.5714285714284,1339.2857142857142,1913265.3061224488,null,null,null,null,null,null,null,null,null,null,null,null,null,null,null,null,null,null,null,null,null,null,null,null,1.2256643126635727]
[null,null,null,null,null,null,null,null,null,430.40293040293039,7271.062271062272,3129486.508607388,null,null,null,null,null,null,null,null,null,null,null,null,null,null,null,null,null,null,null,null,null,null,null,null,21924.001608748898]
[null,null,null,null,null,null,null,null,null,2298.5347985347985,7225.2747252747249,16607545.385017911,null,null,null,null,null,null,null,null,null,null,null,null,null,null,null,null,null,null,null,null,null,null,null,null,60587.627745950587]
[null,null,null,null,null,null,null,null,null,175,7225.2747252747249,1264423.0769230768,null,null,null,null,null,null,null,null,null,null,null,null,null,null,null,null,null,null,null,null,null,null,null,null,4470543.8015917307]
[null,null,null,null,null,null,null,null,null,175,1339.2857142857142,234375,null,null,null,null,null,null,null,null,null,null,null,null,null,null,null,null,null,null,null,null,null,null,null,null,313153.11861665093]
[null,null,null,null,null,null,null,null,null,175,7271.062271062272,1272435.8974358975,null,null,null,null,null,null,null,null,null,null,null,null,null,null,null,null,null,null,null,null,null,null,null,null,4498874.2439338854]
[null,null,null,null,null,null,null,null,null,175,430.40293040293039,75320.512820512813,null,null,null,null,null,null,null,null,null,null,null,null,null,null,null,null,null,null,null,null,null,null,null,null,37817.300908334502]
[null,null,null,null,null,null,null,null,null,175,430.40293040293039,75320.512820512813,null,null,null,null,null,null,null,null,null,null,null,null,null,null,null,null,null,null,null,null,null,null,null,null,30159.297474396772]
[null,null,null,null,null,null,null,null,null,175,2298.5347985347985,402243.58974358975,null,null,null,null,null,null,null,null,null,null,null,null,null,null,null,null,null,null,null,null,null,null,null,null,270998.93207866326]
[null,null,null,null,null,null,null,null,null,175,1339.2857142857142,234375,null,null,null,null,null,null,null,null,null,null,null,null,null,null,null,null,null,null,null,null,null,null,null,null,93846.750119798467]
[null,null,null,null,null,null,null,null,null,175,1428.5714285714284,249999.99999999997,null,null,null,null,null,null,null,null,null,null,null,null,null,null,null,null,null,null,null,null,null,null,null,null,100103.20012778502]
[null,null,null,null,null,null,null,null,null,175,1428.5714285714284,249999.99999999997,null,null,null,null,null,null,null,null,null,null,null,null,null,null,null,null,null,null,null,null,null,null,null,null,125521.25407872727]
[null,null,null,null,null,null,null,null,null,175,7271.062271062272,1272435.8974358975,null,null,null,null,null,null,null,null,null,null,null,null,null,null,null,null,null,null,null,null,null,null,null,null,4498874.2439338854]
[null,null,null,null,null,null,null,null,null,175,2298.5347985347985,402243.58974358975,null,null,null,null,null,null,null,null,null,null,null,null,null,null,null,null,null,null,null,null,null,null,null,null,339810.57313938957]
[null,null,null,null,null,null,null,null,null,175,7225.2747252747249,1264423.0769230768,null,null,null,null,null,null,null,null,null,null,null,null,null,null,null,null,null,null,null,null,null,null,null,null,4470543.8015917307]

{"sheet":"CGT","index":52,"n_rows":123,"n_cols":95,"rows_kept":123,"cut":false,"hidden":true,"merged":[[100,9,100,11],[100,36,101,36],[1,9,1,11],[1,13,1,17],[1,21,1,25],[1,27,1,28],[1,30,2,30],[1,76,1,79],[1,81,1,84],[1,86,1,89],[1,91,1,94],[0,19,0,28],[0,30,0,32],[1,31,2,31],[1,32,2,32],[1,34,2,34],[1,36,2,36],[1,39,1,54],[1,56,1,71]]}
[null,null,null,null,null,null,null,null,null,null,null,null,null,null,null,null,null,null,null,"Conflicting Traffic Complexity",null,null,null,null,null,null,null,null,null,null,"Pedestrian Complexity",null,null,null,null,null,null,null,null,null,null,null,null,null,null,null,null,null,null,null,null,null,null,null,null,null,null,null,null,null,null,null,null,null,null,null,null,null,null,null,null,null,null,null,null,"* median impacts traffic compexity factor"]
[null,null,null,null,null,null,null,null,null,"Exposure",null,null,null,"Severity",null,null,null,null,null,"Traffic Control",null,"Conflicting Lanes",null,null,null,null,null,"Conflicting Speed",null,null,"Indirect Paths Indicator","Non-intuitive movements indicator","Pedestrian Complexity factor",null,"Total Complexity Multiplier",null,"Exposure-Severity-Complexity Product",null,null,"Included in Mvmt1",null,null,null,null,null,null,null,null,null,null,null,null,null,null,null,null,"Included in Mvmt2",null,null,null,null,null,null,null,null,null,null,null,null,null,null,null,null,null,null,null,"Major: Yes on CGT Leg Only, Minor: No",null,null,null,null,"Major: Yes, Minor: No",null,null,null,null,"Major: Yes on CGT Leg Only, Minor: Yes",null,null,null,null,"Major: Yes, Minor: Yes"]
["#","Conflict Type","Mvmt1","Mvmt1_gen","Mvmt1_SpeedCat","Mvmt2","Mvmt2_gen","Mvmt2_SpeedCat",null,"Q1","Q2","I",null,"Speed_V1","Speed_V2","Angle","delta_V","P_FSI",null,null,null,"MajC","MinC","MajM/P","MinM/P","Score",null,"Speed","Factor",null,null,null,null,null,null,null,null,null,null,"MajT1","MajL1","MajR1","MajT2","MajL2","MajR2","MinT1","MinL1","MinR1","MinT2","MinL2","MinR2","MajNM1","MajNM2","MinNM1","MinNM2",null,"MajT1","MajL1","MajR1","MajT2","MajL2","MajR2","MinT1","MinL1","MinR1","MinT2","MinL2","MinR2","MajNM1","MajNM2","MinNM1","MinNM2",null,null,"#","Conflict Type","MajC","MinC","MajM/P","MinM/P",null,"MajC","MinC","MajM/P","MinM/P",null,"MajC","MinC","MajM/P","MinM/P",null,"MajC","MinC","MajM/P","MinM/P"]
[1,"Crossing - LT","EBT","MajT1","Major thru","WBL","MajL2","Major left",null,{"$f":"SUMPRODUCT($AN4:$BC4,$AN$25:$BC$25)","v":6543.9560439560446},{"$f":"SUMPRODUCT($BE4:$BT4,$BE$25:$BT$25)","v":2068.6813186813188},{"$f":"PRODUCT(J4:K4)","v":13537359.618403576},null,{"$f":"VLOOKUP(E4,SSI_AGI_Range_VehSpeed,5,FALSE)","v":45},{"$f":"VLOOKUP(H4,SSI_AGI_Range_VehSpeed,5,FALSE)","v":20},{"$f":"IF(B4=\"Nonmotorized\",\"\",VLOOKUP(B4,SSI_AGI_Range_CollAngles,5,FALSE))","v":230},{"$f":"IF(B4=\"Nonmotorized\",\"\",SQRT(N4^2+O4^2-2*N4*O4*COS(RADIANS(P4)))/2)","v":29.924979939156898},{"$f":"IF(B4=\"Nonmotorized\",1/(1+EXP(3.8432-0.1237*O4)),(Q4/SSI_AGI_RegAlpha)^SSI_AGI_RegK+(Q4/SSI_AGI_RegAlpha)^SSI_AGI_RegK-((Q4/SSI_AGI_RegAlpha)^SSI_AGI_RegK)*((Q4/SSI_AGI_RegAlpha)^SSI_AGI_RegK))","v":9.0286582411373745E-2},null,{"$f":"IF(SSI_AGI_MajorLTPhase=\"Protected/permitted\",SSI_AGI_ProtPermFactor,IF(SSI_AGI_MajorLTPhase=\"Protected\",SSI_AGI_ProtFactor,SSI_AGI_PermFactor))","v":0.505},null,{"$f":"IF(AND(SS_AGI_MajMedian=\"Yes\", SS_AGI_MinMedian=\"No\"),CD4,IF(AND(SS_AGI_MajMedian=\"Yes\",SS_AGI_MinMedian=\"Yes\"),CN4,0))","v":0},{"$f":"IF(AND(SS_AGI_MajMedian=\"Yes\", SS_AGI_MinMedian=\"No\"),CE4,IF(AND(SS_AGI_MajMedian=\"Yes\",SS_AGI_MinMedian=\"Yes\"),CO4,0))","v":0},{"$f":"IF(AND(SS_AGI_MajMedian=\"Yes\", SS_AGI_MinMedian=\"No\"),CF4,IF(AND(SS_AGI_MajMedian=\"Yes\",SS_AGI_MinMedian=\"Yes\"),CP4,0))","v":0},{"$f":"IF(AND(SS_AGI_MajMedian=\"Yes\", SS_AGI_MinMedian=\"No\"),CG4,IF(AND(SS_AGI_MajMedian=\"Yes\",SS_AGI_MinMedian=\"Yes\"),CQ4,0))","v":0},{"$f":"MAX(1,IF(B4<>\"Pedestrian\",V4*SSI_AGI_MajorThruLanes+W4*SSI_AGI_MinorThruLanes+X4*IF(SSI_AGI_MajorThruLanes=1,SSI_AGI_MergeWeightL1,IF(SSI_AGI_MajorThruLanes=2,SSI_AGI_MergeWeightL1+SSI_AGI_MergeWeightL2,SSI_AGI_MergeWeightL1+SSI_AGI_MergeWeightL2+SSI_AGI_MergeWeightL3*(SSI_AGI_MajorThruLanes-2)))+Y4*IF(SSI_AGI_MinorThruLanes=1,SSI_AGI_MergeWeightL1,IF(SSI_AGI_MinorThruLanes=2,SSI_AGI_MergeWeightL1+SSI_AGI_MergeWeightL2,SSI_AGI_MergeWeightL1+SSI_AGI_MergeWeightL2+SSI_AGI_MergeWeightL3*(SSI_AGI_MinorThruLanes-2))),V4*SSI_AGI_MajorThruLanes+W4*SSI_AGI_MinorThruLanes+X4*IF(SSI_AGI_MajorThruLanes=1,SSI_AGI_NM_MergeWeightL1,IF(SSI_AGI_MajorThruLanes=2,SSI_AGI_NM_MergeWeightL1+SSI_AGI_NM_MergeWeightL2,SSI_AGI_NM_MergeWeightL1+SSI_AGI_NM_MergeWeightL2+SSI_AGI_NM_MergeWeightL3*(SSI_AGI_MajorThruLanes-2)))+Y4*IF(SSI_AGI_MinorThruLanes=1,SSI_AGI_NM_MergeWeightL1,IF(SSI_AGI_MinorThruLanes=2,SSI_AGI_NM_MergeWeightL1+SSI_AGI_NM_MergeWeightL2,SSI_AGI_NM_MergeWeightL1+SSI_AGI_NM_MergeWeightL2+SSI_AGI_NM_MergeWeightL3*(SSI_AGI_MinorThruLanes-2)))))","v":1},null,{"$f":"IF(B4=\"Diverging\",\"\",SSI_AGI_VehSpeed_MjrThru)","v":45},{"$f":"IF(B4=\"Diverging\",1,1-((60-AB4)/60*0.1/0.15))","v":0.83333333333333326},null,null,null,{"$f":"IF(SSI_AGI_ConsiderNMComplexity=\"Yes\",1+AE4+AF4,1)","v":1},null,{"$f":"PRODUCT(Z4,T4,AC4,AG4)","v":0.42083333333333328},null,{"$f":"L4*R4*AI4","v":514360.14756982971},null,null,{"$f":"IF(ISNUMBER(SEARCH(AN$3,$D4)),1,\"\")","v":1},{"$f":"IF(ISNUMBER(SEARCH(AO$3,$D4)),1,\"\")","v":""},"","","","","","","","","","","","","","",null,{"$f":"IF(ISNUMBER(SEARCH(BE$3,$G4)),1,\"\")","v":""},{"$f":"IF(ISNUMBER(SEARCH(BF$3,$G4)),1,\"\")","v":""},"","",1,"","","","","","","","","","","",null,null,1,"Crossing - LT",1,null,null,null,null,1,0,0,0,null,1,null,null,null,null,1,0,0,0]
[2,"Crossing - LT","WBL","MajL2","Major left","NBL","MinL1","Signal near",null,2068.6813186813188,1071.4285714285713,{"$f":"PRODUCT(J5:K5)","v":2216444.2700156984},null,20,15,230,{"$f":"IF(B5=\"Nonmotorized\",\"\",SQRT(N5^2+O5^2-2*N5*O5*COS(RADIANS(P5)))/2)","v":15.895538413434787},8.3616736100371545E-3,null,{"$f":"SSI_AGI_ProtFactor","v":0.505},null,0,0,0,0,1,null,45,0.83333333333333326,null,null,null,1,null,0.42083333333333328,null,{"$f":"L5*R5*AI5","v":7799.3814151314218},null,null,{"$f":"IF(ISNUMBER(SEARCH(AN$3,$D5)),1,\"\")","v":""},"","","",1,"","","","","","","","","","","",null,{"$f":"IF(ISNUMBER(SEARCH(BE$3,$G5)),1,\"\")","v":""},"","","","","","",1,"","","","","","","","",null,null,2,"Crossing - LT",1,null,null,null,null,1,0,0,0,null,1,null,null,null,null,1,0,0,0]
[3,"Crossing - LT","EBT","MajT1","Major thru","NBL","MinL1","Signal near",null,6543.9560439560446,1071.4285714285713,7011381.4756671898,null,45,15,230,27.918467333813421,6.9762185672148203E-2,null,{"$f":"SSI_AGI_ProtFactor","v":0.505},null,0,0,0,0,1,null,45,0.83333333333333326,null,null,null,1,null,0.42083333333333328,null,205841.91220291352,null,null,1,"","","","","","","","","","","","","","","",null,"","","","","","","",1,"","","","","","","","",null,null,3,"Crossing - LT",1,null,null,null,null,1,0,0,0,null,1,null,null,null,null,1,0,0,0]
[4,"Merging","EBR","MajR1","Major right","WBL","MajL2","Major left",null,387.36263736263737,2068.6813186813188,801329.85146721418,null,15,20,45,7.0840654162717795,3.9022923271840544E-4,null,{"$f":"IF(SSI_AGI_MajorLTPhase=\"Protected/permitted\",SSI_AGI_ProtPermFactor,IF(SSI_AGI_MajorLTPhase=\"Protected\",SSI_AGI_ProtFactor,SSI_AGI_PermFactor))","v":0.505},null,0,0,0,0,1,null,45,0.83333333333333326,null,null,null,1,null,0.42083333333333328,null,131.595565176387,null,null,"","",1,"","","","","","","","","","","","","",null,"","","","",1,"","","","","","","","","","","",null,null,4,"Merging",1,null,null,null,null,1,0,0,0,null,1,null,null,null,null,1,0,0,0]
[5,"Merging","NBL","MinL1","Signal far","WBT","MajT2","Major thru",null,1071.4285714285713,6502.7472527472528,6967229.1993720559,null,25,45,45,16.271214938736659,9.1348815406664795E-3,null,{"$f":"SSI_AGI_PermFactor","v":1},null,0,0,0,0,1,null,45,0.83333333333333326,null,null,null,1,null,0.83333333333333326,null,53037.344502446904,null,null,"","","","","","","",1,"","","","","","","","",null,"","","",1,"","","","","","","","","","","","",null,null,5,"Merging",null,null,1,null,null,0,0,1,0,null,null,null,1,null,null,0,0,1,0]
[6,"Merging","NBR","MinR1","Signal near","EBT","MajT1","Major thru",null,1142.8571428571429,6543.9560439560446,7478806.9073783373,null,15,45,45,17.995873453365363,1.3373938286506865E-2,null,{"$f":"SSI_AGI_ProtFactor","v":0.505},null,0,0,0,0,1,null,45,0.83333333333333326,null,null,null,1,null,0.42083333333333328,null,42092.213773474548,null,null,"","","","","","","","",1,"","","","","","","",null,1,"","","","","","","","","","","","","","","",null,null,6,"Merging",null,null,1,null,null,0,0,1,0,null,null,null,1,null,null,0,0,1,0]
[7,"Diverging","NBR","MinR1","Signal near","NBL","MinL1","Signal near",null,1142.8571428571429,1071.4285714285713,1224489.7959183673,null,15,15,10,1.3073361412148754,6.4061388075216071E-7,null,{"$f":"SSI_AGI_PermFactor","v":1},null,0,0,0,0,1,null,"",1,null,null,null,1,null,1,null,0.78442516010468655,null,null,"","","","","","","","",1,"","","","","","","",null,"","","","","","","",1,"","","","","","","","",null,null,7,"Diverging",null,null,null,null,null,0,0,0,0,null,null,null,null,null,null,0,0,0,0]
[8,"Diverging","EBR","MajR1","Major right","EBT","MajT1","Major thru",null,387.36263736263737,6543.9560439560446,2534884.0719719846,null,15,45,10,15.169950011729762,7.0056226631585675E-3,null,{"$f":"SSI_AGI_PermFactor","v":1},null,0,0,0,0,1,null,"",1,null,null,null,1,null,1,null,17758.441303086609,null,null,"","",1,"","","","","","","","","","","","","",null,1,"","","","","","","","","","","","","","","",null,null,8,"Diverging",null,null,null,null,null,0,0,0,0,null,null,null,null,null,null,0,0,0,0]
[9,"Diverging","WBL","MajL2","Major left","WBT","MajT2","Major thru",null,2068.6813186813188,6502.7472527472528,13452111.761864509,null,20,45,10,12.77053292327718,3.6481988362114144E-3,null,{"$f":"SSI_AGI_PermFactor","v":1},null,0,0,0,0,1,null,"",1,null,null,null,1,null,1,null,49075.978474219984,null,null,"","","","",1,"","","","","","","","","","","",null,"","","",1,"","","","","","","","","","","","",null,null,9,"Diverging",null,null,null,null,null,0,0,0,0,null,null,null,null,null,null,0,0,0,0]
[10,"Nonmotorized",null,"MajNM1","Nonmotorized","WBT","MajT2","Major thru",null,175,6502.7472527472528,1137980.7692307692,null,0,45,"","",0.84855340903216459,null,{"$f":"SSI_AGI_ProtFactor","v":0.505},null,0,0,0,0,1,null,45,0.83333333333333326,null,null,null,1,null,0.42083333333333328,null,406372.43156468845,null,null,"","","","","","","","","","","","",1,"","","",null,"","","",1,"","","","","","","","","","","","",null,null,10,"Nonmotorized",1,null,null,1,null,1,0,0,1,null,1,null,null,1,null,1,0,0,1]
[11,"Nonmotorized",null,"MajNM1","Nonmotorized","NBL","MinL1","Signal far",null,175,1071.4285714285713,187499.99999999997,null,0,25,"","",0.32066879346345062,null,{"$f":"IF(SSI_AGI_MinorLTPhase=\"Protected/permitted\",SSI_AGI_ProtPermFactor,IF(SSI_AGI_MinorLTPhase=\"Protected\",SSI_AGI_ProtFactor,SSI_AGI_PermFactor))","v":0.505},null,0,0,0,0,1,null,45,0.83333333333333326,null,null,null,1,null,0.42083333333333328,null,25302.771984225394,null,null,"","","","","","","","","","","","",1,"","","",null,"","","","","","","",1,"","","","","","","","",null,null,11,"Nonmotorized",1,null,null,1,null,1,0,0,1,null,1,null,null,1,null,1,0,0,1]
[12,"Nonmotorized",null,"MajNM1","Nonmotorized","EBT","MajT1","Major thru",null,175,6543.9560439560446,1145192.3076923077,null,0,45,"","",0.84855340903216459,null,{"$f":"SSI_AGI_ProtFactor","v":0.505},null,0,0,0,0,1,null,45,0.83333333333333326,null,null,null,1,null,0.42083333333333328,null,408947.66877359018,null,null,"","","","","","","","","","","","",1,"","","",null,1,"","","","","","","","","","","","","","","",null,null,12,"Nonmotorized",1,null,null,null,null,1,0,0,0,null,1,null,null,null,null,1,0,0,0]
[13,"Nonmotorized",null,"MajNM1","Nonmotorized","EBR","MajR1","Major right",null,175,387.36263736263737,67788.461538461546,null,0,15,"","",0.1205004039155782,null,{"$f":"SSI_AGI_ProtFactor","v":0.505},null,0,0,0,0,1,null,45,0.83333333333333326,null,null,null,1,null,0.42083333333333328,null,3437.5926525676064,null,null,"","","","","","","","","","","","",1,"","","",null,"","",1,"","","","","","","","","","","","","",null,null,13,"Nonmotorized",1,null,null,null,null,1,0,0,0,null,1,null,null,null,null,1,0,0,0]
[14,"Nonmotorized",null,"MinNM1","Nonmotorized","EBR","MajR1","Major right",null,175,387.36263736263737,67788.461538461546,null,0,15,"","",0.1205004039155782,null,{"$f":"SSI_AGI_ProtFactor","v":0.505},null,0,0,0,0,1,null,45,0.83333333333333326,null,null,null,1,null,0.42083333333333328,null,3437.5926525676064,null,null,"","","","","","","","","","","","","","",1,"",null,"","",1,"","","","","","","","","","","","","",null,null,14,"Nonmotorized",null,2,2,null,null,0,2,2,0,null,null,1,2,null,null,0,1,2,0]
[15,"Nonmotorized",null,"MinNM1","Nonmotorized","WBL","MajL2","Major left",null,175,2068.6813186813188,362019.23076923081,null,0,20,"","",0.20274912921655375,null,{"$f":"IF(SSI_AGI_MajorLTPhase=\"Protected/permitted\",SSI_AGI_ProtPermFactor,IF(SSI_AGI_MajorLTPhase=\"Protected\",SSI_AGI_ProtFactor,SSI_AGI_PermFactor))","v":0.505},null,0,0,0,0,1,null,45,0.83333333333333326,null,null,null,1,null,0.42083333333333328,null,30888.781098370517,null,null,"","","","","","","","","","","","","","",1,"",null,"","","","",1,"","","","","","","","","","","",null,null,15,"Nonmotorized",null,2,2,null,null,0,2,2,0,null,null,1,2,null,null,0,1,2,0]
[16,"Nonmotorized",null,"MinNM1","Nonmotorized","NBL","MinL1","Signal near",null,175,1071.4285714285713,187499.99999999997,null,0,15,"","",0.1205004039155782,null,{"$f":"SSI_AGI_ProtFactor","v":0.505},null,0,0,0,0,1,null,45,0.83333333333333326,null,null,null,1,null,0.42083333333333328,null,9508.2349964635905,null,null,"","","","","","","","","","","","","","",1,"",null,"","","","","","","",1,"","","","","","","","",null,null,16,"Nonmotorized",null,2,2,null,null,0,2,2,0,null,null,1,null,null,null,0,1,0,0]
[17,"Nonmotorized",null,"MinNM1","Nonmotorized","NBR","MinR1","Signal near",null,175,1142.8571428571429,200000,null,0,15,"","",0.1205004039155782,null,0.505,null,0,0,0,0,1,null,45,0.83333333333333326,null,null,null,1,null,0.42083333333333328,null,10142.117329561164,null,null,"","","","","","","","","","","","","","",1,"",null,"","","","","","","","",1,"","","","","","","",null,null,17,"Nonmotorized",null,2,2,null,null,0,2,2,0,null,null,1,null,null,null,0,1,0,0]
[18,"Nonmotorized",null,"MajNM2","Nonmotorized","NBR","MinR1","Signal near",null,175,1142.8571428571429,200000,null,0,15,"","",0.1205004039155782,null,0.505,null,0,0,0,0,1,null,45,0.83333333333333326,null,null,null,1,null,0.42083333333333328,null,10142.117329561164,null,null,"","","","","","","","","","","","","",1,"","",null,"","","","","","","","",1,"","","","","","","",null,null,18,"Nonmotorized",2,null,null,1,null,1,0,0,1,null,2,null,null,1,null,1,0,0,1]
[19,"Nonmotorized",null,"MajNM2","Nonmotorized","EBT","MajT1","Major thru",null,175,6543.9560439560446,1145192.3076923077,null,0,45,"","",0.84855340903216459,null,0.505,null,0,0,0,0,1,null,45,0.83333333333333326,null,null,null,1,null,0.42083333333333328,null,408947.66877359018,null,null,"","","","","","","","","","","","","",1,"","",null,1,"","","","","","","","","","","","","","","",null,null,19,"Nonmotorized",2,null,null,1,null,1,0,0,1,null,2,null,null,1,null,1,0,0,1]
[20,"Nonmotorized",null,"MajNM2","Nonmotorized","WBL","MajL2","Major left",null,175,2068.6813186813188,362019.23076923081,null,0,20,"","",0.20274912921655375,null,0.505,null,0,0,0,0,1,null,45,0.83333333333333326,null,null,null,1,null,0.42083333333333328,null,30888.781098370517,null,null,"","","","","","","","","","","","","",1,"","",null,"","","","",1,"","","","","","","","","","","",null,null,20,"Nonmotorized",2,null,null,1,null,1,0,0,0,null,2,null,null,1,null,1,0,0,0]
[21,"Nonmotorized",null,"MajNM2","Nonmotorized","WBT","MajT2","Major thru",null,175,6502.7472527472528,1137980.7692307692,null,0,45,"","",0.84855340903216459,null,0.505,null,0,0,0,0,1,null,45,0.83333333333333326,null,null,null,1,null,0.42083333333333328,null,406372.43156468845,null,null,"","","","","","","","","","","","","",1,"","",null,"","","",1,"","","","","","","","","","","","",null,null,21,"Nonmotorized",2,null,null,1,null,1,0,0,0,null,2,null,null,1,null,1,0,0,0]
[null,null,null,null,null,null,null,null,null,null,null,null,null,null,null,null,null,null,null,null,null,null,null,null,null,null,null,null,null,null,null,null,null,null,null,null,null,null,null,{"$f":"'SSI Inputs'!$D$26","v":6543.9560439560446},{"$f":"'SSI Inputs'!$D$27","v":2068.6813186813188},{"$f":"'SSI Inputs'!$D$28","v":387.36263736263737},{"$f":"'SSI Inputs'!$D$30","v":6502.7472527472528},{"$f":"'SSI Inputs'!$D$31","v":2068.6813186813188},{"$f":"'SSI Inputs'!$D$32","v":428.57142857142856},{"$f":"'SSI Inputs'!$D$34","v":1785.7142857142856},{"$f":"'SSI Inputs'!$D$35","v":1071.4285714285713},{"$f":"'SSI Inputs'!$D$36","v":1142.8571428571429},{"$f":"'SSI Inputs'!$D$38","v":1857.1428571428571},{"$f":"'SSI Inputs'!$D$39","v":1071.4285714285713},{"$f":"'SSI Inputs'!$D$40","v":1071.4285714285713},{"$f":"'SSI Inputs'!$Q$18","v":175},{"$f":"'SSI Inputs'!$Q$19","v":175},{"$f":"'SSI Inputs'!$Q$20","v":175},{"$f":"'SSI Inputs'!$Q$21","v":175},null,{"$f":"'SSI Inputs'!$D$26","v":6543.9560439560446},{"$f":"'SSI Inputs'!$D$27","v":2068.6813186813188},{"$f":"'SSI Inputs'!$D$28","v":387.36263736263737},{"$f":"'SSI Inputs'!$D$30","v":6502.7472527472528},{"$f":"'SSI Inputs'!$D$31","v":2068.6813186813188},{"$f":"'SSI Inputs'!$D$32","v":428.57142857142856},{"$f":"'SSI Inputs'!$D$34","v":1785.7142857142856},{"$f":"'SSI Inputs'!$D$35","v":1071.4285714285713},{"$f":"'SSI Inputs'!$D$36","v":1142.8571428571429},{"$f":"'SSI Inputs'!$D$38","v":1857.1428571428571},{"$f":"'SSI Inputs'!$D$39","v":1071.4285714285713},{"$f":"'SSI Inputs'!$D$40","v":1071.4285714285713},{"$f":"'SSI Inputs'!$Q$18","v":175},{"$f":"'SSI Inputs'!$Q$19","v":175},{"$f":"'SSI Inputs'!$Q$20","v":175},{"$f":"'SSI Inputs'!$Q$21","v":175}]
[null,null,null,null,null,null,null,null,null,null,null,null,null,null,null,null,null,null,null,null,null,null,null,null,null,null,null,null,null,null,null,null,null,null,null,null,null,null,"D",{"$f":"'SSI Inputs'!$E$26","v":7271.062271062272},{"$f":"'SSI Inputs'!$E$27","v":2298.5347985347985},{"$f":"'SSI Inputs'!$E$28","v":430.40293040293039},{"$f":"'SSI Inputs'!$E$30","v":7225.2747252747249},{"$f":"'SSI Inputs'!$E$31","v":2298.5347985347985},{"$f":"'SSI Inputs'!$E$32","v":476.19047619047615},{"$f":"'SSI Inputs'!$E$34","v":2232.1428571428569},{"$f":"'SSI Inputs'!$E$35","v":1339.2857142857142},{"$f":"'SSI Inputs'!$E$36","v":1428.5714285714284},{"$f":"'SSI Inputs'!$E$38","v":2321.4285714285716},{"$f":"'SSI Inputs'!$E$39","v":1339.2857142857142},{"$f":"'SSI Inputs'!$E$40","v":1339.2857142857142},{"$f":"'SSI Inputs'!$R$18","v":175},{"$f":"'SSI Inputs'!$R$19","v":175},{"$f":"'SSI Inputs'!$R$20","v":175},{"$f":"'SSI Inputs'!$R$21","v":175},"D",{"$f":"'SSI Inputs'!$E$26","v":7271.062271062272},{"$f":"'SSI Inputs'!$E$27","v":2298.5347985347985},{"$f":"'SSI Inputs'!$E$28","v":430.40293040293039},{"$f":"'SSI Inputs'!$E$30","v":7225.2747252747249},{"$f":"'SSI Inputs'!$E$31","v":2298.5347985347985},{"$f":"'SSI Inputs'!$E$32","v":476.19047619047615},{"$f":"'SSI Inputs'!$E$34","v":2232.1428571428569},{"$f":"'SSI Inputs'!$E$35","v":1339.2857142857142},{"$f":"'SSI Inputs'!$E$36","v":1428.5714285714284},{"$f":"'SSI Inputs'!$E$38","v":2321.4285714285716},{"$f":"'SSI Inputs'!$E$39","v":1339.2857142857142},{"$f":"'SSI Inputs'!$E$40","v":1339.2857142857142},{"$f":"'SSI Inputs'!$R$18","v":175},{"$f":"'SSI Inputs'!$R$19","v":175},{"$f":"'SSI Inputs'!$R$20","v":175},{"$f":"'SSI Inputs'!$R$21","v":175}]
[]
[]
[]
[]
[]
[]
[]
[]
[]
[]
[]
[]
[]
[]
[]
[]
[]
[]
[]
[]
[]
[]
[]
[]
[]
[]
[]
[]
[]
[]
[]
[]
[]
[]
[]
[]
[]
[]
[]
[]
[]
[]
[]
[]
[]
[]
[]
[]
[]
[]
[]
[]
[]
[]
[]
[]
[]
[]
[]
[]
[]
[]
[]
[]
[]
[]
[]
[]
[]
[]
[]
[]
[]
[]
[null,null,null,null,null,null,null,null,null,"Exposure",null,null,null,null,null,null,null,null,null,null,null,null,null,null,null,null,null,null,null,null,null,null,null,null,null,null,"Exposure-Severity-Complexity Product"]
[null,null,null,null,null,null,null,null,null,"Q1","Q2","I"]
[null,null,null,null,null,null,null,null,null,{"$f":"SUMPRODUCT($AN4:$BC4,$AN$26:$BC$26)","v":7271.062271062272},{"$f":"SUMPRODUCT($BE4:$BT4,$BE$26:$BT$26)","v":2298.5347985347985},{"$f":"PRODUCT(J103:K103)","v":16712789.652350094},null,null,null,null,null,null,null,null,null,null,null,null,null,null,null,null,null,null,null,null,null,null,null,null,{"$f":"L103*R4*AI4","v":635012.52786398726}]
[null,null,null,null,null,null,null,null,null,{"$f":"SUMPRODUCT($AN5:$BC5,$AN$26:$BC$26)","v":2298.5347985347985},{"$f":"SUMPRODUCT($BE5:$BT5,$BE$26:$BT$26)","v":1339.2857142857142},{"$f":"PRODUCT(J104:K104)","v":3078394.8194662477},null,null,null,null,null,null,null,null,null,null,null,null,null,null,null,null,null,null,null,null,null,null,null,null,{"$f":"L104*R5*AI5","v":10832.47418768253}]
[null,null,null,null,null,null,null,null,null,7271.062271062272,1339.2857142857142,9738029.8273155428,null,null,null,null,null,null,null,null,null,null,null,null,null,null,null,null,null,null,null,null,null,null,null,null,285891.5447262688]
[null,null,null,null,null,null,null,null,null,430.40293040293039,2298.5347985347985,989296.1129224865,null,null,null,null,null,null,null,null,null,null,null,null,null,null,null,null,null,null,null,null,null,null,null,null,162.46366071158886]
[null,null,null,null,null,null,null,null,null,1339.2857142857142,7225.2747252747249,9676707.2213500775,null,null,null,null,null,null,null,null,null,null,null,null,null,null,null,null,null,null,null,null,null,null,null,null,73662.978475620694]
[null,null,null,null,null,null,null,null,null,1428.5714285714284,7271.062271062272,10387231.815803245,null,null,null,null,null,null,null,null,null,null,null,null,null,null,null,null,null,null,null,null,null,null,null,null,58461.408018714646]
[null,null,null,null,null,null,null,null,null,1428.5714285714284,1339.2857142857142,1913265.3061224488,null,null,null,null,null,null,null,null,null,null,null,null,null,null,null,null,null,null,null,null,null,null,null,null,1.2256643126635727]
[null,null,null,null,null,null,null,null,null,430.40293040293039,7271.062271062272,3129486.508607388,null,null,null,null,null,null,null,null,null,null,null,null,null,null,null,null,null,null,null,null,null,null,null,null,21924.001608748898]
[null,null,null,null,null,null,null,null,null,2298.5347985347985,7225.2747252747249,16607545.385017911,null,null,null,null,null,null,null,null,null,null,null,null,null,null,null,null,null,null,null,null,null,null,null,null,60587.627745950587]
[null,null,null,null,null,null,null,null,null,175,7225.2747252747249,1264423.0769230768,null,null,null,null,null,null,null,null,null,null,null,null,null,null,null,null,null,null,null,null,null,null,null,null,451524.92396076483]
[null,null,null,null,null,null,null,null,null,175,1339.2857142857142,234375,null,null,null,null,null,null,null,null,null,null,null,null,null,null,null,null,null,null,null,null,null,null,null,null,31628.464980281744]
[null,null,null,null,null,null,null,null,null,175,7271.062271062272,1272435.8974358975,null,null,null,null,null,null,null,null,null,null,null,null,null,null,null,null,null,null,null,null,null,null,null,null,454386.29863732244]
[null,null,null,null,null,null,null,null,null,175,430.40293040293039,75320.512820512813,null,null,null,null,null,null,null,null,null,null,null,null,null,null,null,null,null,null,null,null,null,null,null,null,3819.5473917417844]
[null,null,null,null,null,null,null,null,null,175,430.40293040293039,75320.512820512813,null,null,null,null,null,null,null,null,null,null,null,null,null,null,null,null,null,null,null,null,null,null,null,null,3819.5473917417844]
[null,null,null,null,null,null,null,null,null,175,2298.5347985347985,402243.58974358975,null,null,null,null,null,null,null,null,null,null,null,null,null,null,null,null,null,null,null,null,null,null,null,null,34320.867887078348]
[null,null,null,null,null,null,null,null,null,175,1339.2857142857142,234375,null,null,null,null,null,null,null,null,null,null,null,null,null,null,null,null,null,null,null,null,null,null,null,null,11885.293745579489]
[null,null,null,null,null,null,null,null,null,175,1428.5714285714284,249999.99999999997,null,null,null,null,null,null,null,null,null,null,null,null,null,null,null,null,null,null,null,null,null,null,null,null,12677.646661951454]
[null,null,null,null,null,null,null,null,null,175,1428.5714285714284,249999.99999999997,null,null,null,null,null,null,null,null,null,null,null,null,null,null,null,null,null,null,null,null,null,null,null,null,12677.646661951454]
[null,null,null,null,null,null,null,null,null,175,7271.062271062272,1272435.8974358975,null,null,null,null,null,null,null,null,null,null,null,null,null,null,null,null,null,null,null,null,null,null,null,null,454386.29863732244]
[null,null,null,null,null,null,null,null,null,175,2298.5347985347985,402243.58974358975,null,null,null,null,null,null,null,null,null,null,null,null,null,null,null,null,null,null,null,null,null,null,null,null,34320.867887078348]
[null,null,null,null,null,null,null,null,null,175,7225.2747252747249,1264423.0769230768,null,null,null,null,null,null,null,null,null,null,null,null,null,null,null,null,null,null,null,null,null,null,null,null,451524.92396076483]

{"sheet":"T_PDLT","index":53,"n_rows":123,"n_cols":72,"rows_kept":123,"cut":false,"hidden":true,"merged":[[1,34,2,34],[1,36,2,36],[1,39,1,54],[1,56,1,71],[100,9,100,11],[100,36,101,36],[0,19,0,28],[0,30,0,32],[1,9,1,11],[1,13,1,17],[1,21,1,25],[1,27,1,28],[1,30,2,30],[1,31,2,31],[1,32,2,32]]}
[null,null,null,null,null,null,null,null,null,null,null,null,null,null,null,null,null,null,null,"Conflicting Traffic Complexity",null,null,null,null,null,null,null,null,null,null,"Pedestrian Complexity"]
[null,null,null,null,null,null,null,null,null,"Exposure",null,null,null,"Severity",null,null,null,null,null,"Traffic Control",null,"Conflicting Lanes",null,null,null,null,null,"Conflicting Speed",null,null,"Indirect Paths Indicator","Non-intuitive movements indicator","Pedestrian Complexity factor",null,"Total Complexity Multiplier",null,"Exposure-Severity-Complexity Product",null,null,"Included in Mvmt1",null,null,null,null,null,null,null,null,null,null,null,null,null,null,null,null,"Included in Mvmt2"]
["#","Conflict Type","Mvmt1","Mvmt1_gen","Mvmt1_SpeedCat","Mvmt2","Mvmt2_gen","Mvmt2_SpeedCat",null,"Q1","Q2","I",null,"Speed_V1","Speed_V2","Angle","delta_V","P_FSI",null,null,null,"MajC","MinC","MajM/P","MinM/P","Score",null,"Speed","Factor",null,null,null,null,null,null,null,null,null,null,"MajT1","MajL1","MajR1","MajT2","MajL2","MajR2","MinT1","MinL1","MinR1","MinT2","MinL2","MinR2","MajNM1","MajNM2","MinNM1","MinNM2",null,"MajT1","MajL1","MajR1","MajT2","MajL2","MajR2","MinT1","MinL1","MinR1","MinT2","MinL2","MinR2","MajNM1","MajNM2","MinNM1","MinNM2"]
[1,"Crossing - LT","EBT","MajT1","Major thru","WBL","MajL2","Major left",null,{"$f":"SUMPRODUCT($AN4:$BC4,$AN$25:$BC$25)","v":6543.9560439560446},{"$f":"SUMPRODUCT($BE4:$BT4,$BE$25:$BT$25)","v":2068.6813186813188},{"$f":"PRODUCT(J4:K4)","v":13537359.618403576},null,{"$f":"VLOOKUP(E4,SSI_AGI_Range_VehSpeed,5,FALSE)","v":45},{"$f":"VLOOKUP(H4,SSI_AGI_Range_VehSpeed,5,FALSE)","v":20},{"$f":"IF(B4=\"Nonmotorized\",\"\",VLOOKUP(B4,SSI_AGI_Range_CollAngles,5,FALSE))","v":230},{"$f":"IF(B4=\"Nonmotorized\",\"\",SQRT(N4^2+O4^2-2*N4*O4*COS(RADIANS(P4)))/2)","v":29.924979939156898},{"$f":"IF(B4=\"Nonmotorized\",1/(1+EXP(3.8432-0.1237*O4)),(Q4/SSI_AGI_RegAlpha)^SSI_AGI_RegK+(Q4/SSI_AGI_RegAlpha)^SSI_AGI_RegK-((Q4/SSI_AGI_RegAlpha)^SSI_AGI_RegK)*((Q4/SSI_AGI_RegAlpha)^SSI_AGI_RegK))","v":9.0286582411373745E-2},null,{"$f":"SSI_AGI_ProtFactor","v":0.505},null,1,null,null,null,{"$f":"MAX(1,IF(B4<>\"Pedestrian\",V4*SSI_AGI_MajorThruLanes+W4*SSI_AGI_MinorThruLanes+X4*IF(SSI_AGI_MajorThruLanes=1,SSI_AGI_MergeWeightL1,IF(SSI_AGI_MajorThruLanes=2,SSI_AGI_MergeWeightL1+SSI_AGI_MergeWeightL2,SSI_AGI_MergeWeightL1+SSI_AGI_MergeWeightL2+SSI_AGI_MergeWeightL3*(SSI_AGI_MajorThruLanes-2)))+Y4*IF(SSI_AGI_MinorThruLanes=1,SSI_AGI_MergeWeightL1,IF(SSI_AGI_MinorThruLanes=2,SSI_AGI_MergeWeightL1+SSI_AGI_MergeWeightL2,SSI_AGI_MergeWeightL1+SSI_AGI_MergeWeightL2+SSI_AGI_MergeWeightL3*(SSI_AGI_MinorThruLanes-2))),V4*SSI_AGI_MajorThruLanes+W4*SSI_AGI_MinorThruLanes+X4*IF(SSI_AGI_MajorThruLanes=1,SSI_AGI_NM_MergeWeightL1,IF(SSI_AGI_MajorThruLanes=2,SSI_AGI_NM_MergeWeightL1+SSI_AGI_NM_MergeWeightL2,SSI_AGI_NM_MergeWeightL1+SSI_AGI_NM_MergeWeightL2+SSI_AGI_NM_MergeWeightL3*(SSI_AGI_MajorThruLanes-2)))+Y4*IF(SSI_AGI_MinorThruLanes=1,SSI_AGI_NM_MergeWeightL1,IF(SSI_AGI_MinorThruLanes=2,SSI_AGI_NM_MergeWeightL1+SSI_AGI_NM_MergeWeightL2,SSI_AGI_NM_MergeWeightL1+SSI_AGI_NM_MergeWeightL2+SSI_AGI_NM_MergeWeightL3*(SSI_AGI_MinorThruLanes-2)))))","v":2},null,{"$f":"IF(B4=\"Diverging\",\"\",SSI_AGI_VehSpeed_MjrThru)","v":45},{"$f":"IF(B4=\"Diverging\",1,1-((60-AB4)/60*0.1/0.15))","v":0.83333333333333326},null,null,null,{"$f":"IF(SSI_AGI_ConsiderNMComplexity=\"Yes\",1+AE4+AF4,1)","v":1},null,{"$f":"PRODUCT(Z4,T4,AC4,AG4)","v":0.84166666666666656},null,{"$f":"L4*R4*AI4","v":1028720.2951396594},null,null,{"$f":"IF(ISNUMBER(SEARCH(AN$3,$D4)),1,\"\")","v":1},{"$f":"IF(ISNUMBER(SEARCH(AO$3,$D4)),1,\"\")","v":""},"","","","","","","","","","","","","","",null,{"$f":"IF(ISNUMBER(SEARCH(BE$3,$G4)),1,\"\")","v":""},{"$f":"IF(ISNUMBER(SEARCH(BF$3,$G4)),1,\"\")","v":""},"","",1,"","","","","","","","","","",""]
[2,"Crossing - LT","WBL","MajL2","Major left","NBL","MinL1","Signal near",null,2068.6813186813188,1071.4285714285713,{"$f":"PRODUCT(J5:K5)","v":2216444.2700156984},null,20,15,230,{"$f":"IF(B5=\"Nonmotorized\",\"\",SQRT(N5^2+O5^2-2*N5*O5*COS(RADIANS(P5)))/2)","v":15.895538413434787},8.3616736100371545E-3,null,{"$f":"SSI_AGI_ProtFactor","v":0.505},null,1,null,1,null,3.75,null,45,0.83333333333333326,null,null,null,1,null,1.578125,null,{"$f":"L5*R5*AI5","v":29247.680306742834},null,null,{"$f":"IF(ISNUMBER(SEARCH(AN$3,$D5)),1,\"\")","v":""},"","","",1,"","","","","","","","","","","",null,{"$f":"IF(ISNUMBER(SEARCH(BE$3,$G5)),1,\"\")","v":""},"","","","","","",1,"","","","","","","",""]
[3,"Crossing - LT","EBT","MajT1","Major thru","NBL","MinL1","Signal near",null,6543.9560439560446,1071.4285714285713,7011381.4756671898,null,45,15,230,27.918467333813421,6.9762185672148203E-2,null,{"$f":"SSI_AGI_ProtFactor","v":0.505},null,1,null,1,null,3.75,null,45,0.83333333333333326,null,null,null,1,null,1.578125,null,771907.17076092574,null,null,1,"","","","","","","","","","","","","","","",null,"","","","","","","",1,"","","","","","","",""]
[4,"Merging","EBR","MajR1","Major right","WBL","MajL2","Major left",null,387.36263736263737,2068.6813186813188,801329.85146721418,null,15,20,45,7.0840654162717795,3.9022923271840544E-4,null,{"$f":"SSI_AGI_PermFactor","v":1},null,1,null,null,null,2,null,45,0.83333333333333326,null,null,null,1,null,1.6666666666666665,null,521.17055515400796,null,null,"","",1,"","","","","","","","","","","","","",null,"","","","",1,"","","","","","","","","","",""]
[5,"Merging","NBL","MinL1","Signal far","WBT","MajT2","Major thru",null,1071.4285714285713,6502.7472527472528,6967229.1993720559,null,25,45,45,16.271214938736659,9.1348815406664795E-3,null,{"$f":"SSI_AGI_ProtFactor","v":0.505},null,1,null,1,null,3.75,null,45,0.83333333333333326,null,null,null,1,null,1.578125,null,100439.47115150884,null,null,"","","","","","","",1,"","","","","","","","",null,"","","",1,"","","","","","","","","","","",""]
[6,"Merging","NBR","MinR1","Signal far","EBT","MajT1","Major thru",null,1142.8571428571429,6543.9560439560446,7478806.9073783373,null,25,45,45,16.271214938736659,9.1348815406664795E-3,null,{"$f":"SSI_AGI_PermFactor","v":1},null,null,null,1,null,1.75,null,45,0.83333333333333326,null,null,null,1,null,1.4583333333333333,null,99630.438781444871,null,null,"","","","","","","","",1,"","","","","","","",null,1,"","","","","","","","","","","","","","",""]
[7,"Diverging","NBR","MinR1","Signal near","NBL","MinL1","Signal near",null,1142.8571428571429,1071.4285714285713,1224489.7959183673,null,15,15,10,1.3073361412148754,6.4061388075216071E-7,null,{"$f":"SSI_AGI_PermFactor","v":1},null,null,null,null,null,1,null,"",1,null,null,null,1,null,1,null,0.78442516010468655,null,null,"","","","","","","","",1,"","","","","","","",null,"","","","","","","",1,"","","","","","","",""]
[8,"Diverging","EBR","MajR1","Major right","EBT","MajT1","Major thru",null,387.36263736263737,6543.9560439560446,2534884.0719719846,null,15,45,10,15.169950011729762,7.0056226631585675E-3,null,{"$f":"SSI_AGI_PermFactor","v":1},null,null,null,null,null,1,null,"",1,null,null,null,1,null,1,null,17758.441303086609,null,null,"","",1,"","","","","","","","","","","","","",null,1,"","","","","","","","","","","","","","",""]
[9,"Diverging","WBL","MajL2","Major left","WBT","MajT2","Major thru",null,2068.6813186813188,6502.7472527472528,13452111.761864509,null,20,45,10,12.77053292327718,3.6481988362114144E-3,null,{"$f":"SSI_AGI_PermFactor","v":1},null,null,null,null,null,1,null,"",1,null,null,null,1,null,1,null,49075.978474219984,null,null,"","","","",1,"","","","","","","","","","","",null,"","","",1,"","","","","","","","","","","",""]
[10,"Nonmotorized",null,"MajNM1","Nonmotorized","WBT","MajT2","Major thru",null,175,6502.7472527472528,1137980.7692307692,null,0,45,"","",0.84855340903216459,null,{"$f":"SSI_AGI_ProtFactor","v":0.505},null,1,null,null,1,3,null,45,0.83333333333333326,null,null,null,1,null,1.2625,null,1219117.2946940653,null,null,"","","","","","","","","","","","",1,"","","",null,"","","",1,"","","","","","","","","","","",""]
[11,"Nonmotorized",null,"MajNM1","Nonmotorized","NBL","MinL1","Signal far",null,175,1071.4285714285713,187499.99999999997,null,0,25,"","",0.32066879346345062,null,{"$f":"SSI_AGI_ProtFactor","v":0.505},null,1,null,null,1,3,null,45,0.83333333333333326,null,null,null,1,null,1.2625,null,75908.315952676188,null,null,"","","","","","","","","","","","",1,"","","",null,"","","","","","","",1,"","","","","","","",""]
[12,"Nonmotorized",null,"MajNM1","Nonmotorized","EBT","MajT1","Major thru",null,175,6543.9560439560446,1145192.3076923077,null,0,45,"","",0.84855340903216459,null,{"$f":"SSI_AGI_ProtFactor","v":0.505},null,1,null,null,null,2,null,45,0.83333333333333326,null,null,null,1,null,0.84166666666666656,null,817895.33754718036,null,null,"","","","","","","","","","","","",1,"","","",null,1,"","","","","","","","","","","","","","",""]
[13,"Nonmotorized",null,"MajNM1","Nonmotorized","EBR","MajR1","Major right",null,175,387.36263736263737,67788.461538461546,null,0,15,"","",0.1205004039155782,null,{"$f":"SSI_AGI_ProtFactor","v":0.505},null,1,null,null,null,2,null,45,0.83333333333333326,null,null,null,1,null,0.84166666666666656,null,6875.1853051352127,null,null,"","","","","","","","","","","","",1,"","","",null,"","",1,"","","","","","","","","","","","",""]
[14,"Nonmotorized",null,"MinNM1","Nonmotorized","EBR","MajR1","Major right",null,175,387.36263736263737,67788.461538461546,null,0,15,"","",0.1205004039155782,null,{"$f":"SSI_AGI_PermFactor","v":1},null,1,null,null,null,2,null,45,0.83333333333333326,null,null,null,1,null,1.6666666666666665,null,13614.228327000423,null,null,"","","","","","","","","","","","","","",1,"",null,"","",1,"","","","","","","","","","","","",""]
[15,"Nonmotorized",null,"MinNM1","Nonmotorized","WBL","MajL2","Major left",null,175,2068.6813186813188,362019.23076923081,null,0,20,"","",0.20274912921655375,null,{"$f":"SSI_AGI_ProtFactor","v":0.505},null,null,2,1,null,3.75,null,45,0.83333333333333326,null,null,null,1,null,1.578125,null,115832.92911888946,null,null,"","","","","","","","","","","","","","",1,"",null,"","","","",1,"","","","","","","","","","",""]
[16,"Nonmotorized",null,"MinNM1","Nonmotorized","NBL","MinL1","Signal near",null,175,1071.4285714285713,187499.99999999997,null,0,15,"","",0.1205004039155782,null,{"$f":"SSI_AGI_ProtFactor","v":0.505},null,null,2,1,null,3.75,null,45,0.83333333333333326,null,null,null,1,null,1.578125,null,35655.881236738467,null,null,"","","","","","","","","","","","","","",1,"",null,"","","","","","","",1,"","","","","","","",""]
[17,"Nonmotorized",null,"MinNM1","Nonmotorized","NBR","MinR1","Signal near",null,175,1142.8571428571429,200000,null,0,15,"","",0.1205004039155782,null,{"$f":"SSI_AGI_ProtFactor","v":0.505},null,null,2,1,null,3.75,null,45,0.83333333333333326,null,null,null,1,null,1.578125,null,38032.939985854369,null,null,"","","","","","","","","","","","","","",1,"",null,"","","","","","","","",1,"","","","","","",""]
[18,"Nonmotorized",null,"MajNM2","Nonmotorized","NBR","MinR1","Signal near",null,175,1142.8571428571429,200000,null,0,15,"","",0.1205004039155782,null,{"$f":"SSI_AGI_PermFactor","v":1},null,null,1,null,null,1,null,{"$f":"IF(B21=\"Diverging\",\"\",SSI_AGI_VehSpeed_MnrThru)","v":29.75},0.66388888888888886,null,null,1,2,null,1.3277777777777777,null,31999.551706470211,null,null,"","","","","","","","","","","","","",1,"","",null,"","","","","","","","",1,"","","","","","",""]
[19,"Nonmotorized",null,"MajNM2","Nonmotorized","EBT","MajT1","Major left",null,175,6543.9560439560446,1145192.3076923077,null,0,20,"","",0.20274912921655375,null,{"$f":"SSI_AGI_ProtFactor","v":0.505},null,2,null,null,null,4,null,{"$f":"IF(B22=\"Diverging\",\"\",SSI_AGI_VehSpeed_MjrThru)","v":45},0.83333333333333326,null,null,1,2,null,3.3666666666666663,null,781695.36867270723,null,null,"","","","","","","","","","","","","",1,"","",null,1,"","","","","","","","","","","","","","",""]
[20,"Nonmotorized",null,"MajNM2","Nonmotorized","WBL","MajL2","Major thru",null,175,2068.6813186813188,362019.23076923081,null,0,45,"","",0.84855340903216459,null,{"$f":"SSI_AGI_ProtFactor","v":0.505},null,2,null,null,null,4,null,{"$f":"IF(B23=\"Diverging\",\"\",SSI_AGI_VehSpeed_MjrThru)","v":45},0.83333333333333326,null,null,1,2,null,3.3666666666666663,null,1034215.2630949233,null,null,"","","","","","","","","","","","","",1,"","",null,"","","","",1,"","","","","","","","","","",""]
[21,"Nonmotorized",null,"MajNM2","Nonmotorized","WBT","MajT2","Major thru",null,175,6502.7472527472528,1137980.7692307692,null,0,45,"","",0.84855340903216459,null,{"$f":"SSI_AGI_ProtFactor","v":0.505},null,2,null,null,null,4,null,{"$f":"IF(B24=\"Diverging\",\"\",SSI_AGI_VehSpeed_MjrThru)","v":45},0.83333333333333326,null,null,1,2,null,3.3666666666666663,null,3250979.4525175076,null,null,"","","","","","","","","","","","","",1,"","",null,"","","",1,"","","","","","","","","","","",""]
[null,null,null,null,null,null,null,null,null,null,null,null,null,null,null,null,null,null,null,null,null,null,null,null,null,null,null,null,null,null,null,null,null,null,null,null,null,null,null,{"$f":"'SSI Inputs'!$D$26","v":6543.9560439560446},{"$f":"'SSI Inputs'!$D$27","v":2068.6813186813188},{"$f":"'SSI Inputs'!$D$28","v":387.36263736263737},{"$f":"'SSI Inputs'!$D$30","v":6502.7472527472528},{"$f":"'SSI Inputs'!$D$31","v":2068.6813186813188},{"$f":"'SSI Inputs'!$D$32","v":428.57142857142856},{"$f":"'SSI Inputs'!$D$34","v":1785.7142857142856},{"$f":"'SSI Inputs'!$D$35","v":1071.4285714285713},{"$f":"'SSI Inputs'!$D$36","v":1142.8571428571429},{"$f":"'SSI Inputs'!$D$38","v":1857.1428571428571},{"$f":"'SSI Inputs'!$D$39","v":1071.4285714285713},{"$f":"'SSI Inputs'!$D$40","v":1071.4285714285713},{"$f":"'SSI Inputs'!$Q$18","v":175},{"$f":"'SSI Inputs'!$Q$19","v":175},{"$f":"'SSI Inputs'!$Q$20","v":175},{"$f":"'SSI Inputs'!$Q$21","v":175},null,{"$f":"'SSI Inputs'!$D$26","v":6543.9560439560446},{"$f":"'SSI Inputs'!$D$27","v":2068.6813186813188},{"$f":"'SSI Inputs'!$D$28","v":387.36263736263737},{"$f":"'SSI Inputs'!$D$30","v":6502.7472527472528},{"$f":"'SSI Inputs'!$D$31","v":2068.6813186813188},{"$f":"'SSI Inputs'!$D$32","v":428.57142857142856},{"$f":"'SSI Inputs'!$D$34","v":1785.7142857142856},{"$f":"'SSI Inputs'!$D$35","v":1071.4285714285713},{"$f":"'SSI Inputs'!$D$36","v":1142.8571428571429},{"$f":"'SSI Inputs'!$D$38","v":1857.1428571428571},{"$f":"'SSI Inputs'!$D$39","v":1071.4285714285713},{"$f":"'SSI Inputs'!$D$40","v":1071.4285714285713},{"$f":"'SSI Inputs'!$Q$18","v":175},{"$f":"'SSI Inputs'!$Q$19","v":175},{"$f":"'SSI Inputs'!$Q$20","v":175},{"$f":"'SSI Inputs'!$Q$21","v":175}]
[null,null,null,null,null,null,null,null,null,null,null,null,null,null,null,null,null,null,null,null,null,null,null,null,null,null,null,null,null,null,null,null,null,null,null,null,null,null,"D",{"$f":"'SSI Inputs'!$E$26","v":7271.062271062272},{"$f":"'SSI Inputs'!$E$27","v":2298.5347985347985},{"$f":"'SSI Inputs'!$E$28","v":430.40293040293039},{"$f":"'SSI Inputs'!$E$30","v":7225.2747252747249},{"$f":"'SSI Inputs'!$E$31","v":2298.5347985347985},{"$f":"'SSI Inputs'!$E$32","v":476.19047619047615},{"$f":"'SSI Inputs'!$E$34","v":2232.1428571428569},{"$f":"'SSI Inputs'!$E$35","v":1339.2857142857142},{"$f":"'SSI Inputs'!$E$36","v":1428.5714285714284},{"$f":"'SSI Inputs'!$E$38","v":2321.4285714285716},{"$f":"'SSI Inputs'!$E$39","v":1339.2857142857142},{"$f":"'SSI Inputs'!$E$40","v":1339.2857142857142},{"$f":"'SSI Inputs'!$R$18","v":175},{"$f":"'SSI Inputs'!$R$19","v":175},{"$f":"'SSI Inputs'!$R$20","v":175},{"$f":"'SSI Inputs'!$R$21","v":175},"D",{"$f":"'SSI Inputs'!$E$26","v":7271.062271062272},{"$f":"'SSI Inputs'!$E$27","v":2298.5347985347985},{"$f":"'SSI Inputs'!$E$28","v":430.40293040293039},{"$f":"'SSI Inputs'!$E$30","v":7225.2747252747249},{"$f":"'SSI Inputs'!$E$31","v":2298.5347985347985},{"$f":"'SSI Inputs'!$E$32","v":476.19047619047615},{"$f":"'SSI Inputs'!$E$34","v":2232.1428571428569},{"$f":"'SSI Inputs'!$E$35","v":1339.2857142857142},{"$f":"'SSI Inputs'!$E$36","v":1428.5714285714284},{"$f":"'SSI Inputs'!$E$38","v":2321.4285714285716},{"$f":"'SSI Inputs'!$E$39","v":1339.2857142857142},{"$f":"'SSI Inputs'!$E$40","v":1339.2857142857142},{"$f":"'SSI Inputs'!$R$18","v":175},{"$f":"'SSI Inputs'!$R$19","v":175},{"$f":"'SSI Inputs'!$R$20","v":175},{"$f":"'SSI Inputs'!$R$21","v":175}]
[]
[]
[]
[]
[]
[]
[]
[]
[]
[]
[]
[]
[]
[]
[]
[]
[]
[]
[]
[]
[]
[]
[]
[]
[]
[]
[]
[]
[]
[]
[]
[]
[]
[]
[]
[]
[]
[]
[]
[]
[]
[]
[]
[]
[]
[]
[]
[]
[]
[]
[]
[]
[]
[]
[]
[]
[]
[]
[]
[]
[]
[]
[]
[]
[]
[]
[]
[]
[]
[]
[]
[]
[]
[]
[null,null,null,null,null,null,null,null,null,"Exposure",null,null,null,null,null,null,null,null,null,null,null,null,null,null,null,null,null,null,null,null,null,null,null,null,null,null,"Exposure-Severity-Complexity Product"]
[null,null,null,null,null,null,null,null,null,"Q1","Q2","I"]
[null,null,null,null,null,null,null,null,null,{"$f":"SUMPRODUCT($AN4:$BC4,$AN$26:$BC$26)","v":7271.062271062272},{"$f":"SUMPRODUCT($BE4:$BT4,$BE$26:$BT$26)","v":2298.5347985347985},{"$f":"PRODUCT(J103:K103)","v":16712789.652350094},null,null,null,null,null,null,null,null,null,null,null,null,null,null,null,null,null,null,null,null,null,null,null,null,{"$f":"L103*R4*AI4","v":1270025.0557279745}]
[null,null,null,null,null,null,null,null,null,{"$f":"SUMPRODUCT($AN5:$BC5,$AN$26:$BC$26)","v":2298.5347985347985},{"$f":"SUMPRODUCT($BE5:$BT5,$BE$26:$BT$26)","v":1339.2857142857142},{"$f":"PRODUCT(J104:K104)","v":3078394.8194662477},null,null,null,null,null,null,null,null,null,null,null,null,null,null,null,null,null,null,null,null,null,null,null,null,{"$f":"L104*R5*AI5","v":40621.778203809496}]
[null,null,null,null,null,null,null,null,null,7271.062271062272,1339.2857142857142,9738029.8273155428,null,null,null,null,null,null,null,null,null,null,null,null,null,null,null,null,null,null,null,null,null,null,null,null,1072093.2927235081]
[null,null,null,null,null,null,null,null,null,430.40293040293039,2298.5347985347985,989296.1129224865,null,null,null,null,null,null,null,null,null,null,null,null,null,null,null,null,null,null,null,null,null,null,null,null,643.42043846173806]
[null,null,null,null,null,null,null,null,null,1339.2857142857142,7225.2747252747249,9676707.2213500775,null,null,null,null,null,null,null,null,null,null,null,null,null,null,null,null,null,null,null,null,null,null,null,null,139499.2654882067]
[null,null,null,null,null,null,null,null,null,1428.5714285714284,7271.062271062272,10387231.815803245,null,null,null,null,null,null,null,null,null,null,null,null,null,null,null,null,null,null,null,null,null,null,null,null,138375.60941867338]
[null,null,null,null,null,null,null,null,null,1428.5714285714284,1339.2857142857142,1913265.3061224488,null,null,null,null,null,null,null,null,null,null,null,null,null,null,null,null,null,null,null,null,null,null,null,null,1.2256643126635727]
[null,null,null,null,null,null,null,null,null,430.40293040293039,7271.062271062272,3129486.508607388,null,null,null,null,null,null,null,null,null,null,null,null,null,null,null,null,null,null,null,null,null,null,null,null,21924.001608748898]
[null,null,null,null,null,null,null,null,null,2298.5347985347985,7225.2747252747249,16607545.385017911,null,null,null,null,null,null,null,null,null,null,null,null,null,null,null,null,null,null,null,null,null,null,null,null,60587.627745950587]
[null,null,null,null,null,null,null,null,null,175,7225.2747252747249,1264423.0769230768,null,null,null,null,null,null,null,null,null,null,null,null,null,null,null,null,null,null,null,null,null,null,null,null,1354574.7718822947]
[null,null,null,null,null,null,null,null,null,175,1339.2857142857142,234375,null,null,null,null,null,null,null,null,null,null,null,null,null,null,null,null,null,null,null,null,null,null,null,null,94885.394940845246]
[null,null,null,null,null,null,null,null,null,175,7271.062271062272,1272435.8974358975,null,null,null,null,null,null,null,null,null,null,null,null,null,null,null,null,null,null,null,null,null,null,null,null,908772.59727464488]
[null,null,null,null,null,null,null,null,null,175,430.40293040293039,75320.512820512813,null,null,null,null,null,null,null,null,null,null,null,null,null,null,null,null,null,null,null,null,null,null,null,null,7639.0947834835688]
[null,null,null,null,null,null,null,null,null,175,430.40293040293039,75320.512820512813,null,null,null,null,null,null,null,null,null,null,null,null,null,null,null,null,null,null,null,null,null,null,null,null,15126.9203633338]
[null,null,null,null,null,null,null,null,null,175,2298.5347985347985,402243.58974358975,null,null,null,null,null,null,null,null,null,null,null,null,null,null,null,null,null,null,null,null,null,null,null,null,128703.25457654383]
[null,null,null,null,null,null,null,null,null,175,1339.2857142857142,234375,null,null,null,null,null,null,null,null,null,null,null,null,null,null,null,null,null,null,null,null,null,null,null,null,44569.851545923091]
[null,null,null,null,null,null,null,null,null,175,1428.5714285714284,249999.99999999997,null,null,null,null,null,null,null,null,null,null,null,null,null,null,null,null,null,null,null,null,null,null,null,null,47541.174982317956]
[null,null,null,null,null,null,null,null,null,175,1428.5714285714284,249999.99999999997,null,null,null,null,null,null,null,null,null,null,null,null,null,null,null,null,null,null,null,null,null,null,null,null,39999.439633087757]
[null,null,null,null,null,null,null,null,null,175,7271.062271062272,1272435.8974358975,null,null,null,null,null,null,null,null,null,null,null,null,null,null,null,null,null,null,null,null,null,null,null,null,868550.40963634138]
[null,null,null,null,null,null,null,null,null,175,2298.5347985347985,402243.58974358975,null,null,null,null,null,null,null,null,null,null,null,null,null,null,null,null,null,null,null,null,null,null,null,null,1149128.0701054703]
[null,null,null,null,null,null,null,null,null,175,7225.2747252747249,1264423.0769230768,null,null,null,null,null,null,null,null,null,null,null,null,null,null,null,null,null,null,null,null,null,null,null,null,3612199.3916861187]

{"sheet":"T_1x1_RAB","index":54,"n_rows":116,"n_cols":72,"rows_kept":116,"cut":false,"hidden":true,"merged":[[1,34,2,34],[1,36,2,36],[1,39,1,54],[1,56,1,71],[100,9,100,11],[100,36,101,36],[0,19,0,28],[0,30,0,32],[1,9,1,11],[1,13,1,17],[1,21,1,25],[1,27,1,28],[1,30,2,30],[1,31,2,31],[1,32,2,32]]}
[null,null,null,null,null,null,null,null,null,null,null,null,null,null,null,null,null,null,null,"Conflicting Traffic Complexity",null,null,null,null,null,null,null,null,null,null,"Pedestrian Complexity"]
[null,null,null,null,null,null,null,null,null,"Exposure",null,null,null,"Severity",null,null,null,null,null,"Traffic Control",null,"Conflicting Lanes",null,null,null,null,null,"Conflicting Speed",null,null,"Indirect Paths Indicator","Non-intuitive movements indicator","Pedestrian Complexity factor",null,"Total Complexity Multiplier",null,"Exposure-Severity-Complexity Product",null,null,"Included in Mvmt1",null,null,null,null,null,null,null,null,null,null,null,null,null,null,null,null,"Included in Mvmt2"]
["#","Conflict Type","Mvmt1","Mvmt1_gen","Mvmt1_SpeedCat","Mvmt2","Mvmt2_gen","Mvmt2_SpeedCat",null,"Q1","Q2","I",null,"Speed_V1","Speed_V2","Angle","delta_V","P_FSI",null,null,null,"MajC","MinC","MajM/P","MinM/P","Score",null,"Speed","Factor",null,null,null,null,null,null,null,null,null,null,"MajT1","MajL1","MajR1","MajT2","MajL2","MajR2","MinT1","MinL1","MinR1","MinT2","MinL2","MinR2","MajNM1","MajNM2","MinNM1","MinNM2",null,"MajT1","MajL1","MajR1","MajT2","MajL2","MajR2","MinT1","MinL1","MinR1","MinT2","MinL2","MinR2","MajNM1","MajNM2","MinNM1","MinNM2"]
[1,"Crossing - RAB","EBT","MajT1","RAB Entering","WBL","MajL2","RAB Exiting",null,{"$f":"SUMPRODUCT($AN4:$BC4,$AN$18:$BC$18)","v":6543.9560439560446},{"$f":"SUMPRODUCT($BE4:$BT4,$BE$18:$BT$18)","v":2068.6813186813188},{"$f":"PRODUCT(J4:K4)","v":13537359.618403576},null,{"$f":"VLOOKUP(E4,SSI_AGI_Range_VehSpeed,5,FALSE)","v":20},{"$f":"VLOOKUP(H4,SSI_AGI_Range_VehSpeed,5,FALSE)","v":30},{"$f":"IF(B4=\"Nonmotorized\",\"\",VLOOKUP(B4,SSI_AGI_Range_CollAngles,5,FALSE))","v":60},{"$f":"IF(B4=\"Nonmotorized\",\"\",SQRT(N4^2+O4^2-2*N4*O4*COS(RADIANS(P4)))/2)","v":13.228756555322953},{"$f":"IF(B4=\"Nonmotorized\",1/(1+EXP(3.8432-0.1237*O4)),(Q4/SSI_AGI_RegAlpha)^SSI_AGI_RegK+(Q4/SSI_AGI_RegAlpha)^SSI_AGI_RegK-((Q4/SSI_AGI_RegAlpha)^SSI_AGI_RegK)*((Q4/SSI_AGI_RegAlpha)^SSI_AGI_RegK))","v":4.1698027385763141E-3},null,{"$f":"SSI_AGI_PermFactor","v":1},null,null,null,null,null,1,null,{"$f":"IF(B4=\"Diverging\",\"\",SSI_AGI_VehSpeed_RABCirc)","v":25},{"$f":"IF(B4=\"Diverging\",1,1-((60-AB4)/60*0.1/0.15))","v":0.61111111111111105},null,null,null,{"$f":"IF(SSI_AGI_ConsiderNMComplexity=\"Yes\",1+AE4+AF4,1)","v":1},null,{"$f":"PRODUCT(Z4,T4,AC4,AG4)","v":0.61111111111111105},null,{"$f":"L4*R4*AI4","v":34496.07285050155},null,null,{"$f":"IF(ISNUMBER(SEARCH(AN$3,$D4)),1,\"\")","v":1},{"$f":"IF(ISNUMBER(SEARCH(AO$3,$D4)),1,\"\")","v":""},"","","","","","","","","","","","","","",null,{"$f":"IF(ISNUMBER(SEARCH(BE$3,$G4)),1,\"\")","v":""},{"$f":"IF(ISNUMBER(SEARCH(BF$3,$G4)),1,\"\")","v":""},"","",1,"","","","","","","","","","",""]
[2,"Crossing - RAB","EBT","MajT1","RAB Exiting","NBL","MinL1","RAB Entering",null,6543.9560439560446,1071.4285714285713,{"$f":"PRODUCT(J5:K5)","v":7011381.4756671898},null,30,20,60,{"$f":"IF(B5=\"Nonmotorized\",\"\",SQRT(N5^2+O5^2-2*N5*O5*COS(RADIANS(P5)))/2)","v":13.228756555322953},4.1698027385763141E-3,null,1,null,null,null,null,null,1,null,25,0.61111111111111105,null,null,null,1,null,0.61111111111111105,null,{"$f":"L5*R5*AI5","v":17866.491914602397},null,null,{"$f":"IF(ISNUMBER(SEARCH(AN$3,$D5)),1,\"\")","v":1},"","","","","","","","","","","","","","","",null,{"$f":"IF(ISNUMBER(SEARCH(BE$3,$G5)),1,\"\")","v":""},"","","","","","",1,"","","","","","","",""]
[3,"Merging","WBT, WBL","MajT2, MajL2","RAB Entering","NBL","MinL1","RAB Circulating",null,8571.4285714285725,1071.4285714285713,9183673.4693877548,null,20,25,45,8.9147801264732891,9.333798723087925E-4,null,1,null,null,null,null,null,1,null,25,0.61111111111111105,null,null,null,1,null,0.61111111111111105,null,5238.3564262228138,null,null,"","","",1,1,"","","","","","","","","","","",null,"","","","","","","",1,"","","","","","","",""]
[4,"Merging","EBR","MajR1","RAB Entering","WBL","MajL2","RAB Exiting",null,387.36263736263737,2068.6813186813188,801329.85146721418,null,20,30,45,10.623933623853066,1.8155470372595635E-3,null,1,null,null,null,null,null,1,null,25,0.61111111111111105,null,null,null,1,null,0.61111111111111105,null,889.07624526046743,null,null,"","",1,"","","","","","","","","","","","","",null,"","","","",1,"","","","","","","","","","",""]
[5,"Merging","EBT","MajT1","RAB Exiting","NBR","MinR1","RAB Entering",null,6543.9560439560446,1142.8571428571429,7478806.9073783373,null,30,20,45,10.623933623853066,1.8155470372595635E-3,null,1,null,null,null,null,null,1,null,25,0.61111111111111105,null,null,null,1,null,0.61111111111111105,null,8297.7434973443378,null,null,1,"","","","","","","","","","","","","","","",null,"","","","","","","","",1,"","","","","","",""]
[6,"Diverging","EBT,NBL","MajT2, MinL1","RAB Exiting","WBL","MajL2","RAB Circulating",null,7574.1758241758243,2068.6813186813188,15668556.031880209,null,30,25,10,3.4564566568122888,2.5632912055290634E-5,null,1,null,null,null,null,null,1,null,"",1,null,null,null,1,null,1,null,401.63071879857898,null,null,"","","",1,"","","",1,"","","","","","","","",null,"","","","",1,"","","","","","","","","","",""]
[7,"Diverging","EBT","MajT1","RAB Entering","EBR","MajR1","RAB Entering",null,6543.9560439560446,387.36263736263737,2534884.0719719846,null,20,20,10,1.7431148549531654,1.908430081913129E-6,null,1,null,null,null,null,null,1,null,"",1,null,null,null,1,null,1,null,4.8376490171137805,null,null,1,"","","","","","","","","","","","","","","",null,"","",1,"","","","","","","","","","","","",""]
[8,"Diverging","NBL","MinL1","RAB Entering","NBR","MinR1","RAB Entering",null,1071.4285714285713,1142.8571428571429,1224489.7959183673,null,20,20,10,1.7431148549531654,1.908430081913129E-6,null,1,null,null,null,null,null,1,null,"",1,null,null,null,1,null,1,null,2.3368531615262804,null,null,"","","","","","","",1,"","","","","","","","",null,"","","","","","","","",1,"","","","","","",""]
[9,"Nonmotorized",null,"MajNM1","Nonmotorized","WB Exiting","MajT2, MinL1","RAB Exiting",null,175,7574.1758241758243,1325480.7692307692,null,0,30,"","",0.46699805015542578,null,1,null,null,null,null,null,1,null,{"$f":"IF(B12=\"Diverging\",\"\",SSI_AGI_VehSpeed_RABExit)","v":30},0.66666666666666663,null,1,null,2,null,1.3333333333333333,null,825329.24633237743,null,null,"","","","","","","","","","","","",1,"","","",null,"","","",1,"","","",1,"","","","","","","",""]
[10,"Nonmotorized",null,"MajNM1","Nonmotorized","EB Entering","MajT1, MajR1","RAB Entering",null,175,6931.3186813186821,1212980.7692307695,null,0,20,"","",0.20274912921655375,null,1,null,null,null,null,null,1,null,{"$f":"IF(B13=\"Diverging\",\"\",SSI_AGI_VehSpeed_RABEnter)","v":20},0.55555555555555558,null,1,null,2,null,1.1111111111111112,null,273256.43857551564,null,null,"","","","","","","","","","","","",1,"","","",null,1,"",1,"","","","","","","","","","","","",""]
[11,"Nonmotorized",null,"MinNM1","Nonmotorized","SB Exiting","MajR1, MajL2","RAB Exiting",null,175,2456.0439560439563,429807.69230769237,null,0,30,"","",0.46699805015542578,null,1,null,null,null,null,null,1,null,{"$f":"IF(B14=\"Diverging\",\"\",SSI_AGI_VehSpeed_RABExit)","v":30},0.66666666666666663,null,1,null,2,null,1.3333333333333333,null,267625.80566599406,null,null,"","","","","","","","","","","","","","",1,"",null,"","",1,"",1,"","","","","","","","","","",""]
[12,"Nonmotorized",null,"MinNM1","Nonmotorized","NB Entering","MinL1, MinR1","RAB Entering",null,175,2214.2857142857142,387500,null,0,20,"","",0.20274912921655375,null,1,null,null,null,null,null,1,null,{"$f":"IF(B15=\"Diverging\",\"\",SSI_AGI_VehSpeed_RABEnter)","v":20},0.55555555555555558,null,1,null,2,null,1.1111111111111112,null,87294.763968238418,null,null,"","","","","","","","","","","","","","",1,"",null,"","","","","","","",1,1,"","","","","","",""]
[13,"Nonmotorized",null,"MajNM2","Nonmotorized","EB Exiting","MajT1, MinR1","RAB Exiting",null,175,7686.8131868131877,1345192.3076923077,null,0,30,"","",0.46699805015542578,null,1,null,null,null,null,null,1,null,{"$f":"IF(B16=\"Diverging\",\"\",SSI_AGI_VehSpeed_RABExit)","v":30},0.66666666666666663,null,1,null,2,null,1.3333333333333333,null,837602.91303518042,null,null,"","","","","","","","","","","","","",1,"","",null,1,"","","","","","","",1,"","","","","","",""]
[14,"Nonmotorized",null,"MajNM2","Nonmotorized","WB Entering","MajT2, MajL2","RAB Entering",null,175,8571.4285714285725,1500000.0000000002,null,0,20,"","",0.20274912921655375,null,1,null,null,null,null,null,1,null,{"$f":"IF(B17=\"Diverging\",\"\",SSI_AGI_VehSpeed_RABEnter)","v":20},0.55555555555555558,null,1,null,2,null,1.1111111111111112,null,337915.21536092297,null,null,"","","","","","","","","","","","","",1,"","",null,"","","",1,1,"","","","","","","","","","",""]
[null,null,null,null,null,null,null,null,null,null,null,null,null,null,null,null,null,null,null,null,null,null,null,null,null,null,null,null,null,null,null,null,null,null,null,null,null,null,null,{"$f":"'SSI Inputs'!$D$26","v":6543.9560439560446},{"$f":"'SSI Inputs'!$D$27","v":2068.6813186813188},{"$f":"'SSI Inputs'!$D$28","v":387.36263736263737},{"$f":"'SSI Inputs'!$D$30","v":6502.7472527472528},{"$f":"'SSI Inputs'!$D$31","v":2068.6813186813188},{"$f":"'SSI Inputs'!$D$32","v":428.57142857142856},{"$f":"'SSI Inputs'!$D$34","v":1785.7142857142856},{"$f":"'SSI Inputs'!$D$35","v":1071.4285714285713},{"$f":"'SSI Inputs'!$D$36","v":1142.8571428571429},{"$f":"'SSI Inputs'!$D$38","v":1857.1428571428571},{"$f":"'SSI Inputs'!$D$39","v":1071.4285714285713},{"$f":"'SSI Inputs'!$D$40","v":1071.4285714285713},{"$f":"'SSI Inputs'!$Q$18","v":175},{"$f":"'SSI Inputs'!$Q$19","v":175},{"$f":"'SSI Inputs'!$Q$20","v":175},{"$f":"'SSI Inputs'!$Q$21","v":175},null,{"$f":"'SSI Inputs'!$D$26","v":6543.9560439560446},{"$f":"'SSI Inputs'!$D$27","v":2068.6813186813188},{"$f":"'SSI Inputs'!$D$28","v":387.36263736263737},{"$f":"'SSI Inputs'!$D$30","v":6502.7472527472528},{"$f":"'SSI Inputs'!$D$31","v":2068.6813186813188},{"$f":"'SSI Inputs'!$D$32","v":428.57142857142856},{"$f":"'SSI Inputs'!$D$34","v":1785.7142857142856},{"$f":"'SSI Inputs'!$D$35","v":1071.4285714285713},{"$f":"'SSI Inputs'!$D$36","v":1142.8571428571429},{"$f":"'SSI Inputs'!$D$38","v":1857.1428571428571},{"$f":"'SSI Inputs'!$D$39","v":1071.4285714285713},{"$f":"'SSI Inputs'!$D$40","v":1071.4285714285713},{"$f":"'SSI Inputs'!$Q$18","v":175},{"$f":"'SSI Inputs'!$Q$19","v":175},{"$f":"'SSI Inputs'!$Q$20","v":175},{"$f":"'SSI Inputs'!$Q$21","v":175}]
[null,null,null,null,null,null,null,null,null,null,null,null,null,null,null,null,null,null,null,null,null,null,null,null,null,null,null,null,null,null,null,null,null,null,null,null,null,null,"D",{"$f":"'SSI Inputs'!$E$26","v":7271.062271062272},{"$f":"'SSI Inputs'!$E$27","v":2298.5347985347985},{"$f":"'SSI Inputs'!$E$28","v":430.40293040293039},{"$f":"'SSI Inputs'!$E$30","v":7225.2747252747249},{"$f":"'SSI Inputs'!$E$31","v":2298.5347985347985},{"$f":"'SSI Inputs'!$E$32","v":476.19047619047615},{"$f":"'SSI Inputs'!$E$34","v":2232.1428571428569},{"$f":"'SSI Inputs'!$E$35","v":1339.2857142857142},{"$f":"'SSI Inputs'!$E$36","v":1428.5714285714284},{"$f":"'SSI Inputs'!$E$38","v":2321.4285714285716},{"$f":"'SSI Inputs'!$E$39","v":1339.2857142857142},{"$f":"'SSI Inputs'!$E$40","v":1339.2857142857142},{"$f":"'SSI Inputs'!$R$18","v":175},{"$f":"'SSI Inputs'!$R$19","v":175},{"$f":"'SSI Inputs'!$R$20","v":175},{"$f":"'SSI Inputs'!$R$21","v":175},"D",{"$f":"'SSI Inputs'!$E$26","v":7271.062271062272},{"$f":"'SSI Inputs'!$E$27","v":2298.5347985347985},{"$f":"'SSI Inputs'!$E$28","v":430.40293040293039},{"$f":"'SSI Inputs'!$E$30","v":7225.2747252747249},{"$f":"'SSI Inputs'!$E$31","v":2298.5347985347985},{"$f":"'SSI Inputs'!$E$32","v":476.19047619047615},{"$f":"'SSI Inputs'!$E$34","v":2232.1428571428569},{"$f":"'SSI Inputs'!$E$35","v":1339.2857142857142},{"$f":"'SSI Inputs'!$E$36","v":1428.5714285714284},{"$f":"'SSI Inputs'!$E$38","v":2321.4285714285716},{"$f":"'SSI Inputs'!$E$39","v":1339.2857142857142},{"$f":"'SSI Inputs'!$E$40","v":1339.2857142857142},{"$f":"'SSI Inputs'!$R$18","v":175},{"$f":"'SSI Inputs'!$R$19","v":175},{"$f":"'SSI Inputs'!$R$20","v":175},{"$f":"'SSI Inputs'!$R$21","v":175}]
[]
[]
[]
[]
[]
[]
[]
[]
[]
[]
[]
[]
[]
[]
[]
[]
[]
[]
[]
[]
[]
[]
[]
[]
[]
[]
[]
[]
[]
[]
[]
[]
[]
[]
[]
[]
[]
[]
[]
[]
[]
[]
[]
[]
[]
[]
[]
[]
[]
[]
[]
[]
[]
[]
[]
[]
[]
[]
[]
[]
[]
[]
[]
[]
[]
[]
[]
[]
[]
[]
[]
[]
[]
[]
[]
[]
[]
[]
[]
[]
[]
[null,null,null,null,null,null,null,null,null,"Exposure",null,null,null,null,null,null,null,null,null,null,null,null,null,null,null,null,null,null,null,null,null,null,null,null,null,null,"Exposure-Severity-Complexity Product"]
[null,null,null,null,null,null,null,null,null,"Q1","Q2","I"]
[null,null,null,null,null,null,null,null,null,{"$f":"SUMPRODUCT($AN4:$BC4,$AN$19:$BC$19)","v":7271.062271062272},{"$f":"SUMPRODUCT($BE4:$BT4,$BE$19:$BT$19)","v":2298.5347985347985},{"$f":"PRODUCT(J103:K103)","v":16712789.652350094},null,null,null,null,null,null,null,null,null,null,null,null,null,null,null,null,null,null,null,null,null,null,null,null,{"$f":"L103*R4*AI4","v":42587.744259878462}]
[null,null,null,null,null,null,null,null,null,{"$f":"SUMPRODUCT($AN5:$BC5,$AN$19:$BC$19)","v":7271.062271062272},{"$f":"SUMPRODUCT($BE5:$BT5,$BE$19:$BT$19)","v":1339.2857142857142},{"$f":"PRODUCT(J104:K104)","v":9738029.8273155428},null,null,null,null,null,null,null,null,null,null,null,null,null,null,null,null,null,null,null,null,null,null,null,null,{"$f":"L104*R5*AI5","v":24814.572103614439}]
[null,null,null,null,null,null,null,null,null,9523.8095238095229,1339.2857142857142,12755102.040816324,null,null,null,null,null,null,null,null,null,null,null,null,null,null,null,null,null,null,null,null,null,null,null,null,7275.4950364205743]
[null,null,null,null,null,null,null,null,null,430.40293040293039,2298.5347985347985,989296.1129224865,null,null,null,null,null,null,null,null,null,null,null,null,null,null,null,null,null,null,null,null,null,null,null,null,1097.6249941487251]
[null,null,null,null,null,null,null,null,null,7271.062271062272,1428.5714285714284,10387231.815803245,null,null,null,null,null,null,null,null,null,null,null,null,null,null,null,null,null,null,null,null,null,null,null,null,11524.643746311578]
[null,null,null,null,null,null,null,null,null,8564.5604395604387,2298.5347985347985,19685940.204484157,null,null,null,null,null,null,null,null,null,null,null,null,null,null,null,null,null,null,null,null,null,null,null,null,504.60797398725254]
[null,null,null,null,null,null,null,null,null,7271.062271062272,430.40293040293039,3129486.508607388,null,null,null,null,null,null,null,null,null,null,null,null,null,null,null,null,null,null,null,null,null,null,null,null,5.9724061939676298]
[null,null,null,null,null,null,null,null,null,1339.2857142857142,1428.5714285714284,1913265.3061224488,null,null,null,null,null,null,null,null,null,null,null,null,null,null,null,null,null,null,null,null,null,null,null,null,3.6513330648848128]
[null,null,null,null,null,null,null,null,null,175,8564.5604395604387,1498798.0769230768,null,null,null,null,null,null,null,null,null,null,null,null,null,null,null,null,null,null,null,null,null,null,null,null,933247.70599970501]
[null,null,null,null,null,null,null,null,null,175,7701.465201465202,1347756.4102564103,null,null,null,null,null,null,null,null,null,null,null,null,null,null,null,null,null,null,null,null,null,null,null,null,303618.26508390612]
[null,null,null,null,null,null,null,null,null,175,2728.9377289377289,477564.10256410256,null,null,null,null,null,null,null,null,null,null,null,null,null,null,null,null,null,null,null,null,null,null,null,null,297362.00629554887]
[null,null,null,null,null,null,null,null,null,175,2767.8571428571427,484374.99999999994,null,null,null,null,null,null,null,null,null,null,null,null,null,null,null,null,null,null,null,null,null,null,null,null,109118.45496029803]
[null,null,null,null,null,null,null,null,null,175,8699.6336996337013,1522435.8974358977,null,null,null,null,null,null,null,null,null,null,null,null,null,null,null,null,null,null,null,null,null,null,null,null,947966.12745225336]
[null,null,null,null,null,null,null,null,null,175,9523.8095238095229,1666666.6666666665,null,null,null,null,null,null,null,null,null,null,null,null,null,null,null,null,null,null,null,null,null,null,null,null,375461.35040102544]

{"sheet":"T_2x1_RAB","index":55,"n_rows":116,"n_cols":72,"rows_kept":116,"cut":false,"hidden":true,"merged":[[1,34,2,34],[1,36,2,36],[1,39,1,54],[1,56,1,71],[100,9,100,11],[100,36,101,36],[0,19,0,28],[0,30,0,32],[1,9,1,11],[1,13,1,17],[1,21,1,25],[1,27,1,28],[1,30,2,30],[1,31,2,31],[1,32,2,32]]}
[null,null,null,null,null,null,null,null,null,null,null,null,null,null,null,null,null,null,null,"Conflicting Traffic Complexity",null,null,null,null,null,null,null,null,null,null,"Pedestrian Complexity"]
[null,null,null,null,null,null,null,null,null,"Exposure",null,null,null,"Severity",null,null,null,null,null,"Traffic Control",null,"Conflicting Lanes",null,null,null,null,null,"Conflicting Speed",null,null,"Indirect Paths Indicator","Non-intuitive movements indicator","Pedestrian Complexity factor",null,"Total Complexity Multiplier",null,"Exposure-Severity-Complexity Product",null,null,"Included in Mvmt1",null,null,null,null,null,null,null,null,null,null,null,null,null,null,null,null,"Included in Mvmt2"]
["#","Conflict Type","Mvmt1","Mvmt1_gen","Mvmt1_SpeedCat","Mvmt2","Mvmt2_gen","Mvmt2_SpeedCat",null,"Q1","Q2","I",null,"Speed_V1","Speed_V2","Angle","delta_V","P_FSI",null,null,null,"MajC","MinC","MajM/P","MinM/P","Score",null,"Speed","Factor",null,null,null,null,null,null,null,null,null,null,"MajT1","MajL1","MajR1","MajT2","MajL2","MajR2","MinT1","MinL1","MinR1","MinT2","MinL2","MinR2","MajNM1","MajNM2","MinNM1","MinNM2",null,"MajT1","MajL1","MajR1","MajT2","MajL2","MajR2","MinT1","MinL1","MinR1","MinT2","MinL2","MinR2","MajNM1","MajNM2","MinNM1","MinNM2"]
[1,"Crossing - RAB","EBT","MajT1","RAB Entering","WBL","MajL2","RAB Exiting",null,{"$f":"SUMPRODUCT($AN4:$BC4,$AN$18:$BC$18)","v":6543.9560439560446},{"$f":"SUMPRODUCT($BE4:$BT4,$BE$18:$BT$18)","v":2068.6813186813188},{"$f":"PRODUCT(J4:K4)","v":13537359.618403576},null,{"$f":"VLOOKUP(E4,SSI_AGI_Range_VehSpeed,5,FALSE)","v":20},{"$f":"VLOOKUP(H4,SSI_AGI_Range_VehSpeed,5,FALSE)","v":30},{"$f":"IF(B4=\"Nonmotorized\",\"\",VLOOKUP(B4,SSI_AGI_Range_CollAngles,5,FALSE))","v":60},{"$f":"IF(B4=\"Nonmotorized\",\"\",SQRT(N4^2+O4^2-2*N4*O4*COS(RADIANS(P4)))/2)","v":13.228756555322953},{"$f":"IF(B4=\"Nonmotorized\",1/(1+EXP(3.8432-0.1237*O4)),(Q4/SSI_AGI_RegAlpha)^SSI_AGI_RegK+(Q4/SSI_AGI_RegAlpha)^SSI_AGI_RegK-((Q4/SSI_AGI_RegAlpha)^SSI_AGI_RegK)*((Q4/SSI_AGI_RegAlpha)^SSI_AGI_RegK))","v":4.1698027385763141E-3},null,{"$f":"SSI_AGI_PermFactor","v":1},null,null,null,null,null,1,null,{"$f":"IF(B4=\"Diverging\",\"\",SSI_AGI_VehSpeed_RABCirc)","v":25},{"$f":"IF(B4=\"Diverging\",1,1-((60-AB4)/60*0.1/0.15))","v":0.61111111111111105},null,null,null,{"$f":"IF(SSI_AGI_ConsiderNMComplexity=\"Yes\",1+AE4+AF4,1)","v":1},null,{"$f":"PRODUCT(Z4,T4,AC4,AG4)","v":0.61111111111111105},null,{"$f":"L4*R4*AI4","v":34496.07285050155},null,null,{"$f":"IF(ISNUMBER(SEARCH(AN$3,$D4)),1,\"\")","v":1},{"$f":"IF(ISNUMBER(SEARCH(AO$3,$D4)),1,\"\")","v":""},"","","","","","","","","","","","","","",null,{"$f":"IF(ISNUMBER(SEARCH(BE$3,$G4)),1,\"\")","v":""},{"$f":"IF(ISNUMBER(SEARCH(BF$3,$G4)),1,\"\")","v":""},"","",1,"","","","","","","","","","",""]
[2,"Crossing - RAB","EBT","MajT1","RAB Exiting","NBL","MinL1","RAB Entering",null,6543.9560439560446,1071.4285714285713,{"$f":"PRODUCT(J5:K5)","v":7011381.4756671898},null,30,20,60,{"$f":"IF(B5=\"Nonmotorized\",\"\",SQRT(N5^2+O5^2-2*N5*O5*COS(RADIANS(P5)))/2)","v":13.228756555322953},4.1698027385763141E-3,null,1,null,null,null,null,null,2,null,25,0.61111111111111105,null,null,null,1,null,1.2222222222222221,null,{"$f":"L5*R5*AI5","v":35732.983829204793},null,null,{"$f":"IF(ISNUMBER(SEARCH(AN$3,$D5)),1,\"\")","v":1},"","","","","","","","","","","","","","","",null,{"$f":"IF(ISNUMBER(SEARCH(BE$3,$G5)),1,\"\")","v":""},"","","","","","",1,"","","","","","","",""]
[3,"Merging","WBT, WBL","MajT2, MajL2","RAB Entering","NBL","MinL1","RAB Circulating",null,8571.4285714285725,1071.4285714285713,9183673.4693877548,null,20,25,45,8.9147801264732891,9.333798723087925E-4,null,1,null,null,null,null,null,1.75,null,25,0.61111111111111105,null,null,null,1,null,1.0694444444444444,null,9167.123745889925,null,null,"","","",1,1,"","","","","","","","","","","",null,"","","","","","","",1,"","","","","","","",""]
[4,"Merging","EBR","MajR1","RAB Entering","WBL","MajL2","RAB Exiting",null,387.36263736263737,2068.6813186813188,801329.85146721418,null,20,30,45,10.623933623853066,1.8155470372595635E-3,null,1,null,null,null,null,null,1,null,25,0.61111111111111105,null,null,null,1,null,0.61111111111111105,null,889.07624526046743,null,null,"","",1,"","","","","","","","","","","","","",null,"","","","",1,"","","","","","","","","","",""]
[5,"Merging","EBT","MajT1","RAB Exiting","NBR","MinR1","RAB Entering",null,6543.9560439560446,1142.8571428571429,7478806.9073783373,null,30,20,45,10.623933623853066,1.8155470372595635E-3,null,1,null,null,null,null,null,1.75,null,25,0.61111111111111105,null,null,null,1,null,1.0694444444444444,null,14521.051120352593,null,null,1,"","","","","","","","","","","","","","","",null,"","","","","","","","",1,"","","","","","",""]
[6,"Diverging","EBT,NBL","MajT2, MinL1","RAB Exiting","WBL","MajL2","RAB Circulating",null,7574.1758241758243,2068.6813186813188,15668556.031880209,null,30,25,10,3.4564566568122888,2.5632912055290634E-5,null,1,null,null,null,null,null,1,null,"",1,null,null,null,1,null,1,null,401.63071879857898,null,null,"","","",1,"","","",1,"","","","","","","","",null,"","","","",1,"","","","","","","","","","",""]
[7,"Diverging","EBT","MajT1","RAB Entering","EBR","MajR1","RAB Entering",null,6543.9560439560446,387.36263736263737,2534884.0719719846,null,20,20,10,1.7431148549531654,1.908430081913129E-6,null,1,null,null,null,null,null,1,null,"",1,null,null,null,1,null,1,null,4.8376490171137805,null,null,1,"","","","","","","","","","","","","","","",null,"","",1,"","","","","","","","","","","","",""]
[8,"Diverging","NBL","MinL1","RAB Entering","NBR","MinR1","RAB Entering",null,1071.4285714285713,1142.8571428571429,1224489.7959183673,null,20,20,10,1.7431148549531654,1.908430081913129E-6,null,1,null,null,null,null,null,1,null,"",1,null,null,null,1,null,1,null,2.3368531615262804,null,null,"","","","","","","",1,"","","","","","","","",null,"","","","","","","","",1,"","","","","","",""]
[9,"Nonmotorized",null,"MajNM1","Nonmotorized","WB Exiting","MajT2, MinL1","RAB Exiting",null,175,7574.1758241758243,1325480.7692307692,null,0,30,"","",0.46699805015542578,null,1,null,null,null,null,null,2,null,{"$f":"IF(B12=\"Diverging\",\"\",SSI_AGI_VehSpeed_RABExit)","v":30},0.66666666666666663,null,1,null,2,null,2.6666666666666665,null,1650658.4926647549,null,null,"","","","","","","","","","","","",1,"","","",null,"","","",1,"","","",1,"","","","","","","",""]
[10,"Nonmotorized",null,"MajNM1","Nonmotorized","EB Entering","MajT1, MajR1","RAB Entering",null,175,6931.3186813186821,1212980.7692307695,null,0,20,"","",0.20274912921655375,null,1,null,null,null,null,null,2,null,{"$f":"IF(B13=\"Diverging\",\"\",SSI_AGI_VehSpeed_RABEnter)","v":20},0.55555555555555558,null,1,null,2,null,2.2222222222222223,null,546512.87715103128,null,null,"","","","","","","","","","","","",1,"","","",null,1,"",1,"","","","","","","","","","","","",""]
[11,"Nonmotorized",null,"MinNM1","Nonmotorized","SB Exiting","MajR1, MajL2","RAB Exiting",null,175,2456.0439560439563,429807.69230769237,null,0,30,"","",0.46699805015542578,null,1,null,null,null,null,null,1,null,{"$f":"IF(B14=\"Diverging\",\"\",SSI_AGI_VehSpeed_RABExit)","v":30},0.66666666666666663,null,1,null,2,null,1.3333333333333333,null,267625.80566599406,null,null,"","","","","","","","","","","","","","",1,"",null,"","",1,"",1,"","","","","","","","","","",""]
[12,"Nonmotorized",null,"MinNM1","Nonmotorized","NB Entering","MinL1, MinR1","RAB Entering",null,175,2214.2857142857142,387500,null,0,20,"","",0.20274912921655375,null,1,null,null,null,null,null,1,null,{"$f":"IF(B15=\"Diverging\",\"\",SSI_AGI_VehSpeed_RABEnter)","v":20},0.55555555555555558,null,1,null,2,null,1.1111111111111112,null,87294.763968238418,null,null,"","","","","","","","","","","","","","",1,"",null,"","","","","","","",1,1,"","","","","","",""]
[13,"Nonmotorized",null,"MajNM2","Nonmotorized","EB Exiting","MajT1, MinR1","RAB Exiting",null,175,7686.8131868131877,1345192.3076923077,null,0,30,"","",0.46699805015542578,null,1,null,null,null,null,null,2,null,{"$f":"IF(B16=\"Diverging\",\"\",SSI_AGI_VehSpeed_RABExit)","v":30},0.66666666666666663,null,1,null,2,null,2.6666666666666665,null,1675205.8260703608,null,null,"","","","","","","","","","","","","",1,"","",null,1,"","","","","","","",1,"","","","","","",""]
[14,"Nonmotorized",null,"MajNM2","Nonmotorized","WB Entering","MajT2, MajL2","RAB Entering",null,175,8571.4285714285725,1500000.0000000002,null,0,20,"","",0.20274912921655375,null,1,null,null,null,null,null,2,null,{"$f":"IF(B17=\"Diverging\",\"\",SSI_AGI_VehSpeed_RABEnter)","v":20},0.55555555555555558,null,1,null,2,null,2.2222222222222223,null,675830.43072184594,null,null,"","","","","","","","","","","","","",1,"","",null,"","","",1,1,"","","","","","","","","","",""]
[null,null,null,null,null,null,null,null,null,null,null,null,null,null,null,null,null,null,null,null,null,null,null,null,null,null,null,null,null,null,null,null,null,null,null,null,null,null,null,{"$f":"'SSI Inputs'!$D$26","v":6543.9560439560446},{"$f":"'SSI Inputs'!$D$27","v":2068.6813186813188},{"$f":"'SSI Inputs'!$D$28","v":387.36263736263737},{"$f":"'SSI Inputs'!$D$30","v":6502.7472527472528},{"$f":"'SSI Inputs'!$D$31","v":2068.6813186813188},{"$f":"'SSI Inputs'!$D$32","v":428.57142857142856},{"$f":"'SSI Inputs'!$D$34","v":1785.7142857142856},{"$f":"'SSI Inputs'!$D$35","v":1071.4285714285713},{"$f":"'SSI Inputs'!$D$36","v":1142.8571428571429},{"$f":"'SSI Inputs'!$D$38","v":1857.1428571428571},{"$f":"'SSI Inputs'!$D$39","v":1071.4285714285713},{"$f":"'SSI Inputs'!$D$40","v":1071.4285714285713},{"$f":"'SSI Inputs'!$Q$18","v":175},{"$f":"'SSI Inputs'!$Q$19","v":175},{"$f":"'SSI Inputs'!$Q$20","v":175},{"$f":"'SSI Inputs'!$Q$21","v":175},null,{"$f":"'SSI Inputs'!$D$26","v":6543.9560439560446},{"$f":"'SSI Inputs'!$D$27","v":2068.6813186813188},{"$f":"'SSI Inputs'!$D$28","v":387.36263736263737},{"$f":"'SSI Inputs'!$D$30","v":6502.7472527472528},{"$f":"'SSI Inputs'!$D$31","v":2068.6813186813188},{"$f":"'SSI Inputs'!$D$32","v":428.57142857142856},{"$f":"'SSI Inputs'!$D$34","v":1785.7142857142856},{"$f":"'SSI Inputs'!$D$35","v":1071.4285714285713},{"$f":"'SSI Inputs'!$D$36","v":1142.8571428571429},{"$f":"'SSI Inputs'!$D$38","v":1857.1428571428571},{"$f":"'SSI Inputs'!$D$39","v":1071.4285714285713},{"$f":"'SSI Inputs'!$D$40","v":1071.4285714285713},{"$f":"'SSI Inputs'!$Q$18","v":175},{"$f":"'SSI Inputs'!$Q$19","v":175},{"$f":"'SSI Inputs'!$Q$20","v":175},{"$f":"'SSI Inputs'!$Q$21","v":175}]
[null,null,null,null,null,null,null,null,null,null,null,null,null,null,null,null,null,null,null,null,null,null,null,null,null,null,null,null,null,null,null,null,null,null,null,null,null,null,"D",{"$f":"'SSI Inputs'!$E$26","v":7271.062271062272},{"$f":"'SSI Inputs'!$E$27","v":2298.5347985347985},{"$f":"'SSI Inputs'!$E$28","v":430.40293040293039},{"$f":"'SSI Inputs'!$E$30","v":7225.2747252747249},{"$f":"'SSI Inputs'!$E$31","v":2298.5347985347985},{"$f":"'SSI Inputs'!$E$32","v":476.19047619047615},{"$f":"'SSI Inputs'!$E$34","v":2232.1428571428569},{"$f":"'SSI Inputs'!$E$35","v":1339.2857142857142},{"$f":"'SSI Inputs'!$E$36","v":1428.5714285714284},{"$f":"'SSI Inputs'!$E$38","v":2321.4285714285716},{"$f":"'SSI Inputs'!$E$39","v":1339.2857142857142},{"$f":"'SSI Inputs'!$E$40","v":1339.2857142857142},{"$f":"'SSI Inputs'!$R$18","v":175},{"$f":"'SSI Inputs'!$R$19","v":175},{"$f":"'SSI Inputs'!$R$20","v":175},{"$f":"'SSI Inputs'!$R$21","v":175},"D",{"$f":"'SSI Inputs'!$E$26","v":7271.062271062272},{"$f":"'SSI Inputs'!$E$27","v":2298.5347985347985},{"$f":"'SSI Inputs'!$E$28","v":430.40293040293039},{"$f":"'SSI Inputs'!$E$30","v":7225.2747252747249},{"$f":"'SSI Inputs'!$E$31","v":2298.5347985347985},{"$f":"'SSI Inputs'!$E$32","v":476.19047619047615},{"$f":"'SSI Inputs'!$E$34","v":2232.1428571428569},{"$f":"'SSI Inputs'!$E$35","v":1339.2857142857142},{"$f":"'SSI Inputs'!$E$36","v":1428.5714285714284},{"$f":"'SSI Inputs'!$E$38","v":2321.4285714285716},{"$f":"'SSI Inputs'!$E$39","v":1339.2857142857142},{"$f":"'SSI Inputs'!$E$40","v":1339.2857142857142},{"$f":"'SSI Inputs'!$R$18","v":175},{"$f":"'SSI Inputs'!$R$19","v":175},{"$f":"'SSI Inputs'!$R$20","v":175},{"$f":"'SSI Inputs'!$R$21","v":175}]
[]
[]
[]
[]
[]
[]
[]
[]
[]
[]
[]
[]
[]
[]
[]
[]
[]
[]
[]
[]
[]
[]
[]
[]
[]
[]
[]
[]
[]
[]
[]
[]
[]
[]
[]
[]
[]
[]
[]
[]
[]
[]
[]
[]
[]
[]
[]
[]
[]
[]
[]
[]
[]
[]
[]
[]
[]
[]
[]
[]
[]
[]
[]
[]
[]
[]
[]
[]
[]
[]
[]
[]
[]
[]
[]
[]
[]
[]
[]
[]
[]
[null,null,null,null,null,null,null,null,null,"Exposure",null,null,null,null,null,null,null,null,null,null,null,null,null,null,null,null,null,null,null,null,null,null,null,null,null,null,"Exposure-Severity-Complexity Product"]
[null,null,null,null,null,null,null,null,null,"Q1","Q2","I"]
[null,null,null,null,null,null,null,null,null,{"$f":"SUMPRODUCT($AN4:$BC4,$AN$19:$BC$19)","v":7271.062271062272},{"$f":"SUMPRODUCT($BE4:$BT4,$BE$19:$BT$19)","v":2298.5347985347985},{"$f":"PRODUCT(J103:K103)","v":16712789.652350094},null,null,null,null,null,null,null,null,null,null,null,null,null,null,null,null,null,null,null,null,null,null,null,null,{"$f":"L103*R4*AI4","v":42587.744259878462}]
[null,null,null,null,null,null,null,null,null,{"$f":"SUMPRODUCT($AN5:$BC5,$AN$19:$BC$19)","v":7271.062271062272},{"$f":"SUMPRODUCT($BE5:$BT5,$BE$19:$BT$19)","v":1339.2857142857142},{"$f":"PRODUCT(J104:K104)","v":9738029.8273155428},null,null,null,null,null,null,null,null,null,null,null,null,null,null,null,null,null,null,null,null,null,null,null,null,{"$f":"L104*R5*AI5","v":49629.144207228877}]
[null,null,null,null,null,null,null,null,null,9523.8095238095229,1339.2857142857142,12755102.040816324,null,null,null,null,null,null,null,null,null,null,null,null,null,null,null,null,null,null,null,null,null,null,null,null,12732.116313736005]
[null,null,null,null,null,null,null,null,null,430.40293040293039,2298.5347985347985,989296.1129224865,null,null,null,null,null,null,null,null,null,null,null,null,null,null,null,null,null,null,null,null,null,null,null,null,1097.6249941487251]
[null,null,null,null,null,null,null,null,null,7271.062271062272,1428.5714285714284,10387231.815803245,null,null,null,null,null,null,null,null,null,null,null,null,null,null,null,null,null,null,null,null,null,null,null,null,20168.126556045263]
[null,null,null,null,null,null,null,null,null,8564.5604395604387,2298.5347985347985,19685940.204484157,null,null,null,null,null,null,null,null,null,null,null,null,null,null,null,null,null,null,null,null,null,null,null,null,504.60797398725254]
[null,null,null,null,null,null,null,null,null,7271.062271062272,430.40293040293039,3129486.508607388,null,null,null,null,null,null,null,null,null,null,null,null,null,null,null,null,null,null,null,null,null,null,null,null,5.9724061939676298]
[null,null,null,null,null,null,null,null,null,1339.2857142857142,1428.5714285714284,1913265.3061224488,null,null,null,null,null,null,null,null,null,null,null,null,null,null,null,null,null,null,null,null,null,null,null,null,3.6513330648848128]
[null,null,null,null,null,null,null,null,null,175,8564.5604395604387,1498798.0769230768,null,null,null,null,null,null,null,null,null,null,null,null,null,null,null,null,null,null,null,null,null,null,null,null,1866495.41199941]
[null,null,null,null,null,null,null,null,null,175,7701.465201465202,1347756.4102564103,null,null,null,null,null,null,null,null,null,null,null,null,null,null,null,null,null,null,null,null,null,null,null,null,607236.53016781225]
[null,null,null,null,null,null,null,null,null,175,2728.9377289377289,477564.10256410256,null,null,null,null,null,null,null,null,null,null,null,null,null,null,null,null,null,null,null,null,null,null,null,null,297362.00629554887]
[null,null,null,null,null,null,null,null,null,175,2767.8571428571427,484374.99999999994,null,null,null,null,null,null,null,null,null,null,null,null,null,null,null,null,null,null,null,null,null,null,null,null,109118.45496029803]
[null,null,null,null,null,null,null,null,null,175,8699.6336996337013,1522435.8974358977,null,null,null,null,null,null,null,null,null,null,null,null,null,null,null,null,null,null,null,null,null,null,null,null,1895932.2549045067]
[null,null,null,null,null,null,null,null,null,175,9523.8095238095229,1666666.6666666665,null,null,null,null,null,null,null,null,null,null,null,null,null,null,null,null,null,null,null,null,null,null,null,null,750922.70080205088]

{"sheet":"T_2x2_RAB","index":56,"n_rows":116,"n_cols":72,"rows_kept":116,"cut":false,"hidden":true,"merged":[[1,34,2,34],[1,36,2,36],[1,39,1,54],[1,56,1,71],[100,9,100,11],[100,36,101,36],[0,19,0,28],[0,30,0,32],[1,9,1,11],[1,13,1,17],[1,21,1,25],[1,27,1,28],[1,30,2,30],[1,31,2,31],[1,32,2,32]]}
[null,null,null,null,null,null,null,null,null,null,null,null,null,null,null,null,null,null,null,"Conflicting Traffic Complexity",null,null,null,null,null,null,null,null,null,null,"Pedestrian Complexity"]
[null,null,null,null,null,null,null,null,null,"Exposure",null,null,null,"Severity",null,null,null,null,null,"Traffic Control",null,"Conflicting Lanes",null,null,null,null,null,"Conflicting Speed",null,null,"Indirect Paths Indicator","Non-intuitive movements indicator","Pedestrian Complexity factor",null,"Total Complexity Multiplier",null,"Exposure-Severity-Complexity Product",null,null,"Included in Mvmt1",null,null,null,null,null,null,null,null,null,null,null,null,null,null,null,null,"Included in Mvmt2"]
["#","Conflict Type","Mvmt1","Mvmt1_gen","Mvmt1_SpeedCat","Mvmt2","Mvmt2_gen","Mvmt2_SpeedCat",null,"Q1","Q2","I",null,"Speed_V1","Speed_V2","Angle","delta_V","P_FSI",null,null,null,"MajC","MinC","MajM/P","MinM/P","Score",null,"Speed","Factor",null,null,null,null,null,null,null,null,null,null,"MajT1","MajL1","MajR1","MajT2","MajL2","MajR2","MinT1","MinL1","MinR1","MinT2","MinL2","MinR2","MajNM1","MajNM2","MinNM1","MinNM2",null,"MajT1","MajL1","MajR1","MajT2","MajL2","MajR2","MinT1","MinL1","MinR1","MinT2","MinL2","MinR2","MajNM1","MajNM2","MinNM1","MinNM2"]
[1,"Crossing - RAB","EBT","MajT1","RAB Entering","WBL","MajL2","RAB Exiting",null,{"$f":"SUMPRODUCT($AN4:$BC4,$AN$18:$BC$18)","v":6543.9560439560446},{"$f":"SUMPRODUCT($BE4:$BT4,$BE$18:$BT$18)","v":2068.6813186813188},{"$f":"PRODUCT(J4:K4)","v":13537359.618403576},null,{"$f":"VLOOKUP(E4,SSI_AGI_Range_VehSpeed,5,FALSE)","v":20},{"$f":"VLOOKUP(H4,SSI_AGI_Range_VehSpeed,5,FALSE)","v":30},{"$f":"IF(B4=\"Nonmotorized\",\"\",VLOOKUP(B4,SSI_AGI_Range_CollAngles,5,FALSE))","v":60},{"$f":"IF(B4=\"Nonmotorized\",\"\",SQRT(N4^2+O4^2-2*N4*O4*COS(RADIANS(P4)))/2)","v":13.228756555322953},{"$f":"IF(B4=\"Nonmotorized\",1/(1+EXP(3.8432-0.1237*O4)),(Q4/SSI_AGI_RegAlpha)^SSI_AGI_RegK+(Q4/SSI_AGI_RegAlpha)^SSI_AGI_RegK-((Q4/SSI_AGI_RegAlpha)^SSI_AGI_RegK)*((Q4/SSI_AGI_RegAlpha)^SSI_AGI_RegK))","v":4.1698027385763141E-3},null,{"$f":"SSI_AGI_PermFactor","v":1},null,null,null,null,null,2,null,{"$f":"IF(B4=\"Diverging\",\"\",SSI_AGI_VehSpeed_RABCirc)","v":25},{"$f":"IF(B4=\"Diverging\",1,1-((60-AB4)/60*0.1/0.15))","v":0.61111111111111105},null,null,null,{"$f":"IF(SSI_AGI_ConsiderNMComplexity=\"Yes\",1+AE4+AF4,1)","v":1},null,{"$f":"PRODUCT(Z4,T4,AC4,AG4)","v":1.2222222222222221},null,{"$f":"L4*R4*AI4","v":68992.145701003101},null,null,{"$f":"IF(ISNUMBER(SEARCH(AN$3,$D4)),1,\"\")","v":1},{"$f":"IF(ISNUMBER(SEARCH(AO$3,$D4)),1,\"\")","v":""},"","","","","","","","","","","","","","",null,{"$f":"IF(ISNUMBER(SEARCH(BE$3,$G4)),1,\"\")","v":""},{"$f":"IF(ISNUMBER(SEARCH(BF$3,$G4)),1,\"\")","v":""},"","",1,"","","","","","","","","","",""]
[2,"Crossing - RAB","EBT","MajT1","RAB Exiting","NBL","MinL1","RAB Entering",null,6543.9560439560446,1071.4285714285713,{"$f":"PRODUCT(J5:K5)","v":7011381.4756671898},null,30,20,60,{"$f":"IF(B5=\"Nonmotorized\",\"\",SQRT(N5^2+O5^2-2*N5*O5*COS(RADIANS(P5)))/2)","v":13.228756555322953},4.1698027385763141E-3,null,1,null,null,null,null,null,2,null,25,0.61111111111111105,null,null,null,1,null,1.2222222222222221,null,{"$f":"L5*R5*AI5","v":35732.983829204793},null,null,{"$f":"IF(ISNUMBER(SEARCH(AN$3,$D5)),1,\"\")","v":1},"","","","","","","","","","","","","","","",null,{"$f":"IF(ISNUMBER(SEARCH(BE$3,$G5)),1,\"\")","v":""},"","","","","","",1,"","","","","","","",""]
[3,"Merging","WBT, WBL","MajT2, MajL2","RAB Entering","NBL","MinL1","RAB Circulating",null,8571.4285714285725,1071.4285714285713,9183673.4693877548,null,20,25,45,8.9147801264732891,9.333798723087925E-4,null,1,null,null,null,null,null,2,null,25,0.61111111111111105,null,null,null,1,null,1.2222222222222221,null,10476.712852445628,null,null,"","","",1,1,"","","","","","","","","","","",null,"","","","","","","",1,"","","","","","","",""]
[4,"Merging","EBR","MajR1","RAB Entering","WBL","MajL2","RAB Exiting",null,387.36263736263737,2068.6813186813188,801329.85146721418,null,20,30,45,10.623933623853066,1.8155470372595635E-3,null,1,null,null,null,null,null,1.75,null,25,0.61111111111111105,null,null,null,1,null,1.0694444444444444,null,1555.8834292058179,null,null,"","",1,"","","","","","","","","","","","","",null,"","","","",1,"","","","","","","","","","",""]
[5,"Merging","EBT","MajT1","RAB Exiting","NBR","MinR1","RAB Entering",null,6543.9560439560446,1142.8571428571429,7478806.9073783373,null,30,20,45,10.623933623853066,1.8155470372595635E-3,null,1,null,null,null,null,null,1.75,null,25,0.61111111111111105,null,null,null,1,null,1.0694444444444444,null,14521.051120352593,null,null,1,"","","","","","","","","","","","","","","",null,"","","","","","","","",1,"","","","","","",""]
[6,"Diverging","EBT,NBL","MajT2, MinL1","RAB Exiting","WBL","MajL2","RAB Circulating",null,7574.1758241758243,2068.6813186813188,15668556.031880209,null,30,25,10,3.4564566568122888,2.5632912055290634E-5,null,1,null,null,null,null,null,1,null,"",1,null,null,null,1,null,1,null,401.63071879857898,null,null,"","","",1,"","","",1,"","","","","","","","",null,"","","","",1,"","","","","","","","","","",""]
[7,"Diverging","EBT","MajT1","RAB Entering","EBR","MajR1","RAB Entering",null,6543.9560439560446,387.36263736263737,2534884.0719719846,null,20,20,10,1.7431148549531654,1.908430081913129E-6,null,1,null,null,null,null,null,1,null,"",1,null,null,null,1,null,1,null,4.8376490171137805,null,null,1,"","","","","","","","","","","","","","","",null,"","",1,"","","","","","","","","","","","",""]
[8,"Diverging","NBL","MinL1","RAB Entering","NBR","MinR1","RAB Entering",null,1071.4285714285713,1142.8571428571429,1224489.7959183673,null,20,20,10,1.7431148549531654,1.908430081913129E-6,null,1,null,null,null,null,null,1,null,"",1,null,null,null,1,null,1,null,2.3368531615262804,null,null,"","","","","","","",1,"","","","","","","","",null,"","","","","","","","",1,"","","","","","",""]
[9,"Nonmotorized",null,"MajNM1","Nonmotorized","WB Exiting","MajT2, MinL1","RAB Exiting",null,175,7574.1758241758243,1325480.7692307692,null,0,30,"","",0.46699805015542578,null,1,null,null,null,null,null,2,null,{"$f":"IF(B12=\"Diverging\",\"\",SSI_AGI_VehSpeed_RABExit)","v":30},0.66666666666666663,null,1,null,2,null,2.6666666666666665,null,1650658.4926647549,null,null,"","","","","","","","","","","","",1,"","","",null,"","","",1,"","","",1,"","","","","","","",""]
[10,"Nonmotorized",null,"MajNM1","Nonmotorized","EB Entering","MajT1, MajR1","RAB Entering",null,175,6931.3186813186821,1212980.7692307695,null,0,20,"","",0.20274912921655375,null,1,null,null,null,null,null,2,null,{"$f":"IF(B13=\"Diverging\",\"\",SSI_AGI_VehSpeed_RABEnter)","v":20},0.55555555555555558,null,1,null,2,null,2.2222222222222223,null,546512.87715103128,null,null,"","","","","","","","","","","","",1,"","","",null,1,"",1,"","","","","","","","","","","","",""]
[11,"Nonmotorized",null,"MinNM1","Nonmotorized","SB Exiting","MajR1, MajL2","RAB Exiting",null,175,2456.0439560439563,429807.69230769237,null,0,30,"","",0.46699805015542578,null,1,null,null,null,null,null,2,null,{"$f":"IF(B14=\"Diverging\",\"\",SSI_AGI_VehSpeed_RABExit)","v":30},0.66666666666666663,null,1,null,2,null,2.6666666666666665,null,535251.61133198813,null,null,"","","","","","","","","","","","","","",1,"",null,"","",1,"",1,"","","","","","","","","","",""]
[12,"Nonmotorized",null,"MinNM1","Nonmotorized","NB Entering","MinL1, MinR1","RAB Entering",null,175,2214.2857142857142,387500,null,0,20,"","",0.20274912921655375,null,1,null,null,null,null,null,2,null,{"$f":"IF(B15=\"Diverging\",\"\",SSI_AGI_VehSpeed_RABEnter)","v":20},0.55555555555555558,null,1,null,2,null,2.2222222222222223,null,174589.52793647684,null,null,"","","","","","","","","","","","","","",1,"",null,"","","","","","","",1,1,"","","","","","",""]
[13,"Nonmotorized",null,"MajNM2","Nonmotorized","EB Exiting","MajT1, MinR1","RAB Exiting",null,175,7686.8131868131877,1345192.3076923077,null,0,30,"","",0.46699805015542578,null,1,null,null,null,null,null,2,null,{"$f":"IF(B16=\"Diverging\",\"\",SSI_AGI_VehSpeed_RABExit)","v":30},0.66666666666666663,null,1,null,2,null,2.6666666666666665,null,1675205.8260703608,null,null,"","","","","","","","","","","","","",1,"","",null,1,"","","","","","","",1,"","","","","","",""]
[14,"Nonmotorized",null,"MajNM2","Nonmotorized","WB Entering","MajT2, MajL2","RAB Entering",null,175,8571.4285714285725,1500000.0000000002,null,0,20,"","",0.20274912921655375,null,1,null,null,null,null,null,2,null,{"$f":"IF(B17=\"Diverging\",\"\",SSI_AGI_VehSpeed_RABEnter)","v":20},0.55555555555555558,null,1,null,2,null,2.2222222222222223,null,675830.43072184594,null,null,"","","","","","","","","","","","","",1,"","",null,"","","",1,1,"","","","","","","","","","",""]
[null,null,null,null,null,null,null,null,null,null,null,null,null,null,null,null,null,null,null,null,null,null,null,null,null,null,null,null,null,null,null,null,null,null,null,null,null,null,null,{"$f":"'SSI Inputs'!$D$26","v":6543.9560439560446},{"$f":"'SSI Inputs'!$D$27","v":2068.6813186813188},{"$f":"'SSI Inputs'!$D$28","v":387.36263736263737},{"$f":"'SSI Inputs'!$D$30","v":6502.7472527472528},{"$f":"'SSI Inputs'!$D$31","v":2068.6813186813188},{"$f":"'SSI Inputs'!$D$32","v":428.57142857142856},{"$f":"'SSI Inputs'!$D$34","v":1785.7142857142856},{"$f":"'SSI Inputs'!$D$35","v":1071.4285714285713},{"$f":"'SSI Inputs'!$D$36","v":1142.8571428571429},{"$f":"'SSI Inputs'!$D$38","v":1857.1428571428571},{"$f":"'SSI Inputs'!$D$39","v":1071.4285714285713},{"$f":"'SSI Inputs'!$D$40","v":1071.4285714285713},{"$f":"'SSI Inputs'!$Q$18","v":175},{"$f":"'SSI Inputs'!$Q$19","v":175},{"$f":"'SSI Inputs'!$Q$20","v":175},{"$f":"'SSI Inputs'!$Q$21","v":175},null,{"$f":"'SSI Inputs'!$D$26","v":6543.9560439560446},{"$f":"'SSI Inputs'!$D$27","v":2068.6813186813188},{"$f":"'SSI Inputs'!$D$28","v":387.36263736263737},{"$f":"'SSI Inputs'!$D$30","v":6502.7472527472528},{"$f":"'SSI Inputs'!$D$31","v":2068.6813186813188},{"$f":"'SSI Inputs'!$D$32","v":428.57142857142856},{"$f":"'SSI Inputs'!$D$34","v":1785.7142857142856},{"$f":"'SSI Inputs'!$D$35","v":1071.4285714285713},{"$f":"'SSI Inputs'!$D$36","v":1142.8571428571429},{"$f":"'SSI Inputs'!$D$38","v":1857.1428571428571},{"$f":"'SSI Inputs'!$D$39","v":1071.4285714285713},{"$f":"'SSI Inputs'!$D$40","v":1071.4285714285713},{"$f":"'SSI Inputs'!$Q$18","v":175},{"$f":"'SSI Inputs'!$Q$19","v":175},{"$f":"'SSI Inputs'!$Q$20","v":175},{"$f":"'SSI Inputs'!$Q$21","v":175}]
[null,null,null,null,null,null,null,null,null,null,null,null,null,null,null,null,null,null,null,null,null,null,null,null,null,null,null,null,null,null,null,null,null,null,null,null,null,null,"D",{"$f":"'SSI Inputs'!$E$26","v":7271.062271062272},{"$f":"'SSI Inputs'!$E$27","v":2298.5347985347985},{"$f":"'SSI Inputs'!$E$28","v":430.40293040293039},{"$f":"'SSI Inputs'!$E$30","v":7225.2747252747249},{"$f":"'SSI Inputs'!$E$31","v":2298.5347985347985},{"$f":"'SSI Inputs'!$E$32","v":476.19047619047615},{"$f":"'SSI Inputs'!$E$34","v":2232.1428571428569},{"$f":"'SSI Inputs'!$E$35","v":1339.2857142857142},{"$f":"'SSI Inputs'!$E$36","v":1428.5714285714284},{"$f":"'SSI Inputs'!$E$38","v":2321.4285714285716},{"$f":"'SSI Inputs'!$E$39","v":1339.2857142857142},{"$f":"'SSI Inputs'!$E$40","v":1339.2857142857142},{"$f":"'SSI Inputs'!$R$18","v":175},{"$f":"'SSI Inputs'!$R$19","v":175},{"$f":"'SSI Inputs'!$R$20","v":175},{"$f":"'SSI Inputs'!$R$21","v":175},"D",{"$f":"'SSI Inputs'!$E$26","v":7271.062271062272},{"$f":"'SSI Inputs'!$E$27","v":2298.5347985347985},{"$f":"'SSI Inputs'!$E$28","v":430.40293040293039},{"$f":"'SSI Inputs'!$E$30","v":7225.2747252747249},{"$f":"'SSI Inputs'!$E$31","v":2298.5347985347985},{"$f":"'SSI Inputs'!$E$32","v":476.19047619047615},{"$f":"'SSI Inputs'!$E$34","v":2232.1428571428569},{"$f":"'SSI Inputs'!$E$35","v":1339.2857142857142},{"$f":"'SSI Inputs'!$E$36","v":1428.5714285714284},{"$f":"'SSI Inputs'!$E$38","v":2321.4285714285716},{"$f":"'SSI Inputs'!$E$39","v":1339.2857142857142},{"$f":"'SSI Inputs'!$E$40","v":1339.2857142857142},{"$f":"'SSI Inputs'!$R$18","v":175},{"$f":"'SSI Inputs'!$R$19","v":175},{"$f":"'SSI Inputs'!$R$20","v":175},{"$f":"'SSI Inputs'!$R$21","v":175}]
[]
[]
[]
[]
[]
[]
[]
[]
[]
[]
[]
[]
[]
[]
[]
[]
[]
[]
[]
[]
[]
[]
[]
[]
[]
[]
[]
[]
[]
[]
[]
[]
[]
[]
[]
[]
[]
[]
[]
[]
[]
[]
[]
[]
[]
[]
[]
[]
[]
[]
[]
[]
[]
[]
[]
[]
[]
[]
[]
[]
[]
[]
[]
[]
[]
[]
[]
[]
[]
[]
[]
[]
[]
[]
[]
[]
[]
[]
[]
[]
[]
[null,null,null,null,null,null,null,null,null,"Exposure",null,null,null,null,null,null,null,null,null,null,null,null,null,null,null,null,null,null,null,null,null,null,null,null,null,null,"Exposure-Severity-Complexity Product"]
[null,null,null,null,null,null,null,null,null,"Q1","Q2","I"]
[null,null,null,null,null,null,null,null,null,{"$f":"SUMPRODUCT($AN4:$BC4,$AN$19:$BC$19)","v":7271.062271062272},{"$f":"SUMPRODUCT($BE4:$BT4,$BE$19:$BT$19)","v":2298.5347985347985},{"$f":"PRODUCT(J103:K103)","v":16712789.652350094},null,null,null,null,null,null,null,null,null,null,null,null,null,null,null,null,null,null,null,null,null,null,null,null,{"$f":"L103*R4*AI4","v":85175.488519756924}]
[null,null,null,null,null,null,null,null,null,{"$f":"SUMPRODUCT($AN5:$BC5,$AN$19:$BC$19)","v":7271.062271062272},{"$f":"SUMPRODUCT($BE5:$BT5,$BE$19:$BT$19)","v":1339.2857142857142},{"$f":"PRODUCT(J104:K104)","v":9738029.8273155428},null,null,null,null,null,null,null,null,null,null,null,null,null,null,null,null,null,null,null,null,null,null,null,null,{"$f":"L104*R5*AI5","v":49629.144207228877}]
[null,null,null,null,null,null,null,null,null,9523.8095238095229,1339.2857142857142,12755102.040816324,null,null,null,null,null,null,null,null,null,null,null,null,null,null,null,null,null,null,null,null,null,null,null,null,14550.990072841149]
[null,null,null,null,null,null,null,null,null,430.40293040293039,2298.5347985347985,989296.1129224865,null,null,null,null,null,null,null,null,null,null,null,null,null,null,null,null,null,null,null,null,null,null,null,null,1920.843739760269]
[null,null,null,null,null,null,null,null,null,7271.062271062272,1428.5714285714284,10387231.815803245,null,null,null,null,null,null,null,null,null,null,null,null,null,null,null,null,null,null,null,null,null,null,null,null,20168.126556045263]
[null,null,null,null,null,null,null,null,null,8564.5604395604387,2298.5347985347985,19685940.204484157,null,null,null,null,null,null,null,null,null,null,null,null,null,null,null,null,null,null,null,null,null,null,null,null,504.60797398725254]
[null,null,null,null,null,null,null,null,null,7271.062271062272,430.40293040293039,3129486.508607388,null,null,null,null,null,null,null,null,null,null,null,null,null,null,null,null,null,null,null,null,null,null,null,null,5.9724061939676298]
[null,null,null,null,null,null,null,null,null,1339.2857142857142,1428.5714285714284,1913265.3061224488,null,null,null,null,null,null,null,null,null,null,null,null,null,null,null,null,null,null,null,null,null,null,null,null,3.6513330648848128]
[null,null,null,null,null,null,null,null,null,175,8564.5604395604387,1498798.0769230768,null,null,null,null,null,null,null,null,null,null,null,null,null,null,null,null,null,null,null,null,null,null,null,null,1866495.41199941]
[null,null,null,null,null,null,null,null,null,175,7701.465201465202,1347756.4102564103,null,null,null,null,null,null,null,null,null,null,null,null,null,null,null,null,null,null,null,null,null,null,null,null,607236.53016781225]
[null,null,null,null,null,null,null,null,null,175,2728.9377289377289,477564.10256410256,null,null,null,null,null,null,null,null,null,null,null,null,null,null,null,null,null,null,null,null,null,null,null,null,594724.01259109774]
[null,null,null,null,null,null,null,null,null,175,2767.8571428571427,484374.99999999994,null,null,null,null,null,null,null,null,null,null,null,null,null,null,null,null,null,null,null,null,null,null,null,null,218236.90992059605]
[null,null,null,null,null,null,null,null,null,175,8699.6336996337013,1522435.8974358977,null,null,null,null,null,null,null,null,null,null,null,null,null,null,null,null,null,null,null,null,null,null,null,null,1895932.2549045067]
[null,null,null,null,null,null,null,null,null,175,9523.8095238095229,1666666.6666666665,null,null,null,null,null,null,null,null,null,null,null,null,null,null,null,null,null,null,null,null,null,null,null,null,750922.70080205088]

{"sheet":"T_RCUT_Sig","index":57,"n_rows":115,"n_cols":72,"rows_kept":115,"cut":false,"hidden":true,"merged":[[1,34,2,34],[1,36,2,36],[1,39,1,54],[1,56,1,71],[100,9,100,11],[100,36,101,36],[0,19,0,28],[0,30,0,32],[1,9,1,11],[1,13,1,17],[1,21,1,25],[1,27,1,28],[1,30,2,30],[1,31,2,31],[1,32,2,32]]}
[null,null,null,null,null,null,null,null,null,null,null,null,null,null,null,null,null,null,null,"Conflicting Traffic Complexity",null,null,null,null,null,null,null,null,null,null,"Pedestrian Complexity"]
[null,null,null,null,null,null,null,null,null,"Exposure",null,null,null,"Severity",null,null,null,null,null,"Traffic Control",null,"Conflicting Lanes",null,null,null,null,null,"Conflicting Speed",null,null,"Indirect Paths Indicator","Non-intuitive movements indicator","Pedestrian Complexity factor",null,"Total Complexity Multiplier",null,"Exposure-Severity-Complexity Product",null,null,"Included in Mvmt1",null,null,null,null,null,null,null,null,null,null,null,null,null,null,null,null,"Included in Mvmt2"]
["#","Conflict Type","Mvmt1","Mvmt1_gen","Mvmt1_SpeedCat","Mvmt2","Mvmt2_gen","Mvmt2_SpeedCat",null,"Q1","Q2","I",null,"Speed_V1","Speed_V2","Angle","delta_V","P_FSI",null,null,null,"MajC","MinC","MajM/P","MinM/P","Score",null,"Speed","Factor",null,null,null,null,null,null,null,null,null,null,"MajT1","MajL1","MajR1","MajT2","MajL2","MajR2","MinT1","MinL1","MinR1","MinT2","MinL2","MinR2","MajNM1","MajNM2","MinNM1","MinNM2",null,"MajT1","MajL1","MajR1","MajT2","MajL2","MajR2","MinT1","MinL1","MinR1","MinT2","MinL2","MinR2","MajNM1","MajNM2","MinNM1","MinNM2"]
[1,"Crossing","EBT","MajT1","Major thru","WBL","MajL2","Major left",null,{"$f":"SUMPRODUCT($AN4:$BC4,$AN$17:$BC$17)","v":6543.9560439560446},{"$f":"SUMPRODUCT($BE4:$BT4,$BE$17:$BT$17)","v":2068.6813186813188},{"$f":"PRODUCT(J4:K4)","v":13537359.618403576},null,{"$f":"VLOOKUP(E4,SSI_AGI_Range_VehSpeed,5,FALSE)","v":45},{"$f":"VLOOKUP(H4,SSI_AGI_Range_VehSpeed,5,FALSE)","v":20},{"$f":"IF(B4=\"Nonmotorized\",\"\",VLOOKUP(B4,SSI_AGI_Range_CollAngles,5,FALSE))","v":90},{"$f":"IF(B4=\"Nonmotorized\",\"\",SQRT(N4^2+O4^2-2*N4*O4*COS(RADIANS(P4)))/2)","v":24.622144504490262},{"$f":"IF(B4=\"Nonmotorized\",1/(1+EXP(3.8432-0.1237*O4)),(Q4/SSI_AGI_RegAlpha)^SSI_AGI_RegK+(Q4/SSI_AGI_RegAlpha)^SSI_AGI_RegK-((Q4/SSI_AGI_RegAlpha)^SSI_AGI_RegK)*((Q4/SSI_AGI_RegAlpha)^SSI_AGI_RegK))","v":4.3605107328437018E-2},null,{"$f":"SSI_AGI_ProtFactor","v":0.505},null,1,null,null,null,{"$f":"MAX(1,IF(B4<>\"Pedestrian\",V4*SSI_AGI_MajorThruLanes+W4*SSI_AGI_MinorThruLanes+X4*IF(SSI_AGI_MajorThruLanes=1,SSI_AGI_MergeWeightL1,IF(SSI_AGI_MajorThruLanes=2,SSI_AGI_MergeWeightL1+SSI_AGI_MergeWeightL2,SSI_AGI_MergeWeightL1+SSI_AGI_MergeWeightL2+SSI_AGI_MergeWeightL3*(SSI_AGI_MajorThruLanes-2)))+Y4*IF(SSI_AGI_MinorThruLanes=1,SSI_AGI_MergeWeightL1,IF(SSI_AGI_MinorThruLanes=2,SSI_AGI_MergeWeightL1+SSI_AGI_MergeWeightL2,SSI_AGI_MergeWeightL1+SSI_AGI_MergeWeightL2+SSI_AGI_MergeWeightL3*(SSI_AGI_MinorThruLanes-2))),V4*SSI_AGI_MajorThruLanes+W4*SSI_AGI_MinorThruLanes+X4*IF(SSI_AGI_MajorThruLanes=1,SSI_AGI_NM_MergeWeightL1,IF(SSI_AGI_MajorThruLanes=2,SSI_AGI_NM_MergeWeightL1+SSI_AGI_NM_MergeWeightL2,SSI_AGI_NM_MergeWeightL1+SSI_AGI_NM_MergeWeightL2+SSI_AGI_NM_MergeWeightL3*(SSI_AGI_MajorThruLanes-2)))+Y4*IF(SSI_AGI_MinorThruLanes=1,SSI_AGI_NM_MergeWeightL1,IF(SSI_AGI_MinorThruLanes=2,SSI_AGI_NM_MergeWeightL1+SSI_AGI_NM_MergeWeightL2,SSI_AGI_NM_MergeWeightL1+SSI_AGI_NM_MergeWeightL2+SSI_AGI_NM_MergeWeightL3*(SSI_AGI_MinorThruLanes-2)))))","v":2},null,{"$f":"IF(B4=\"Diverging\",\"\",SSI_AGI_VehSpeed_MjrThru)","v":45},{"$f":"IF(B4=\"Diverging\",1,1-((60-AB4)/60*0.1/0.15))","v":0.83333333333333326},null,null,null,{"$f":"IF(SSI_AGI_ConsiderNMComplexity=\"Yes\",1+AE4+AF4,1)","v":1},null,{"$f":"PRODUCT(Z4,T4,AC4,AG4)","v":0.84166666666666656},null,{"$f":"L4*R4*AI4","v":496834.1660793153},null,null,{"$f":"IF(ISNUMBER(SEARCH(AN$3,$D4)),1,\"\")","v":1},{"$f":"IF(ISNUMBER(SEARCH(AO$3,$D4)),1,\"\")","v":""},"","","","","","","","","","","","","","",null,{"$f":"IF(ISNUMBER(SEARCH(BE$3,$G4)),1,\"\")","v":""},{"$f":"IF(ISNUMBER(SEARCH(BF$3,$G4)),1,\"\")","v":""},"","",1,"","","","","","","","","","",""]
[2,"Merging","EBT","MajT1","Major thru","NBR, NBL","MinL1, MinR1","Signal near",null,6543.9560439560446,2214.2857142857142,{"$f":"PRODUCT(J5:K5)","v":14490188.383045526},null,45,15,45,{"$f":"IF(B5=\"Nonmotorized\",\"\",SQRT(N5^2+O5^2-2*N5*O5*COS(RADIANS(P5)))/2)","v":17.995873453365363},1.3373938286506865E-2,null,{"$f":"SSI_AGI_ProtFactor","v":0.505},null,null,null,1,null,1.75,null,45,0.83333333333333326,null,null,null,1,null,0.73645833333333333,null,{"$f":"L5*R5*AI5","v":142718.91232568715},null,null,{"$f":"IF(ISNUMBER(SEARCH(AN$3,$D5)),1,\"\")","v":1},"","","","","","","","","","","","","","","",null,{"$f":"IF(ISNUMBER(SEARCH(BE$3,$G5)),1,\"\")","v":""},"","","","","","",1,1,"","","","","","",""]
[3,"Merging","EBR","MajR1","Major right","WBL","MajL2","Major left",null,387.36263736263737,2068.6813186813188,801329.85146721418,null,15,20,45,7.0840654162717795,3.9022923271840544E-4,null,{"$f":"SSI_AGI_ProtFactor","v":0.505},null,1,null,null,null,2,null,45,0.83333333333333326,null,null,null,1,null,0.84166666666666656,null,263.191130352774,null,null,"","",1,"","","","","","","","","","","","","",null,"","","","",1,"","","","","","","","","","",""]
[4,"Merging","WBT, WBL","MajT2, MajL2","Major thru","NBL","MinL1","Signal near",null,8571.4285714285725,1071.4285714285713,9183673.4693877548,null,45,15,45,17.995873453365363,1.3373938286506865E-2,null,{"$f":"SSI_AGI_ProtFactor","v":0.505},null,null,null,1,null,1.75,null,45,0.83333333333333326,null,null,null,1,null,0.73645833333333333,null,90453.198678829911,null,null,"","","",1,1,"","","","","","","","","","","",null,"","","","","","","",1,"","","","","","","",""]
[5,"Diverging","EBT, NBR","MajT1, MinR1","Major thru","NBL","MinL1","Major left",null,7686.8131868131877,1071.4285714285713,8235871.2715855576,null,45,20,10,12.77053292327718,3.6481988362114144E-3,null,1,null,null,null,null,null,1,null,"",1,null,null,null,1,null,1,null,30046.095988185454,null,null,1,"","","","","","","",1,"","","","","","","",null,"","","","","","","",1,"","","","","","","",""]
[6,"Diverging","WBT, NBL","MajT2, MinL1","Major thru","WBL","MajL2","Major left",null,7574.1758241758243,2068.6813186813188,15668556.031880209,null,45,20,10,12.77053292327718,3.6481988362114144E-3,null,1,null,null,null,null,null,1,null,"",1,null,null,null,1,null,1,null,57162.007880618716,null,null,"","","",1,"","","",1,"","","","","","","","",null,"","","","",1,"","","","","","","","","","",""]
[7,"Diverging","EBT","MajT1","Major thru","EBR","MajR1","Major right",null,6543.9560439560446,387.36263736263737,2534884.0719719846,null,45,15,10,15.169950011729762,7.0056226631585675E-3,null,{"$f":"SSI_AGI_PermFactor","v":1},null,null,null,null,null,1,null,"",1,null,null,null,1,null,1,null,17758.441303086609,null,null,1,"","","","","","","","","","","","","","","",null,"","",1,"","","","","","","","","","","","",""]
[8,"Nonmotorized",null,"MajNM1, MajNM2","Nonmotorized","WBT, NBL","MajT2, MinL1","Major thru",null,350,7574.1758241758243,2650961.5384615385,null,0,45,"","",0.84855340903216459,null,{"$f":"SSI_AGI_ProtFactor","v":0.505},null,1,null,null,null,2,null,45,0.83333333333333326,null,1,null,2,null,1.6833333333333331,null,3786628.7919690614,null,null,"","","","","","","","","","","","",1,1,"","",null,"","","",1,"","","",1,"","","","","","","",""]
[9,"Nonmotorized",null,"MajNM1, MajNM2","Nonmotorized","EBT","MajT1","Major thru",null,350,6543.9560439560446,2290384.6153846155,null,0,45,"","",0.84855340903216459,null,0.505,null,1,null,null,null,2,null,45,0.83333333333333326,null,1,null,2,null,1.6833333333333331,null,3271581.3501887214,null,null,"","","","","","","","","","","","",1,1,"","",null,1,"","","","","","","","","","","","","","",""]
[10,"Nonmotorized",null,"MajNM1, MajNM2","Nonmotorized","EBR","MajR1","Major right",null,350,387.36263736263737,135576.92307692309,null,0,15,"","",0.1205004039155782,null,0.505,null,1,null,null,null,2,null,45,0.83333333333333326,null,1,null,2,null,1.6833333333333331,null,27500.741220540851,null,null,"","","","","","","","","","","","",1,1,"","",null,"","",1,"","","","","","","","","","","","",""]
[11,"Nonmotorized",null,"MinNM1","Nonmotorized","EBR","MajR1","Major right",null,175,387.36263736263737,67788.461538461546,null,0,15,"","",0.1205004039155782,null,0.505,null,null,1,2,null,4.5,null,45,0.83333333333333326,null,null,null,1,null,1.8937499999999998,null,15469.166936554229,null,null,"","","","","","","","","","","","","","",1,"",null,"","",1,"","","","","","","","","","","","",""]
[12,"Nonmotorized",null,"MinNM1","Nonmotorized","WBL","MajL2","Major left",null,175,2068.6813186813188,362019.23076923081,null,0,20,"","",0.20274912921655375,null,0.505,null,null,1,2,null,4.5,null,45,0.83333333333333326,null,null,null,1,null,1.8937499999999998,null,138999.51494266733,null,null,"","","","","","","","","","","","","","",1,"",null,"","","","",1,"","","","","","","","","","",""]
[13,"Nonmotorized",null,"MinNM1","Nonmotorized","NBL,NBR","MinL1, MinR1","Signal near",null,175,2214.2857142857142,387500,null,0,15,"","",0.1205004039155782,null,0.505,null,null,1,null,null,1,null,{"$f":"IF(B16=\"Diverging\",\"\",SSI_AGI_VehSpeed_MnrThru)","v":29.75},0.66388888888888886,null,null,null,1,null,0.33526388888888886,null,15654.780686399721,null,null,"","","","","","","","","","","","","","",1,"",null,"","","","","","","",1,1,"","","","","","",""]
[null,null,null,null,null,null,null,null,null,null,null,null,null,null,null,null,null,null,null,null,null,null,null,null,null,null,null,null,null,null,null,null,null,null,null,null,null,null,null,{"$f":"'SSI Inputs'!$D$26","v":6543.9560439560446},{"$f":"'SSI Inputs'!$D$27","v":2068.6813186813188},{"$f":"'SSI Inputs'!$D$28","v":387.36263736263737},{"$f":"'SSI Inputs'!$D$30","v":6502.7472527472528},{"$f":"'SSI Inputs'!$D$31","v":2068.6813186813188},{"$f":"'SSI Inputs'!$D$32","v":428.57142857142856},{"$f":"'SSI Inputs'!$D$34","v":1785.7142857142856},{"$f":"'SSI Inputs'!$D$35","v":1071.4285714285713},{"$f":"'SSI Inputs'!$D$36","v":1142.8571428571429},{"$f":"'SSI Inputs'!$D$38","v":1857.1428571428571},{"$f":"'SSI Inputs'!$D$39","v":1071.4285714285713},{"$f":"'SSI Inputs'!$D$40","v":1071.4285714285713},{"$f":"'SSI Inputs'!$Q$18","v":175},{"$f":"'SSI Inputs'!$Q$19","v":175},{"$f":"'SSI Inputs'!$Q$20","v":175},{"$f":"'SSI Inputs'!$Q$21","v":175},null,{"$f":"'SSI Inputs'!$D$26","v":6543.9560439560446},{"$f":"'SSI Inputs'!$D$27","v":2068.6813186813188},{"$f":"'SSI Inputs'!$D$28","v":387.36263736263737},{"$f":"'SSI Inputs'!$D$30","v":6502.7472527472528},{"$f":"'SSI Inputs'!$D$31","v":2068.6813186813188},{"$f":"'SSI Inputs'!$D$32","v":428.57142857142856},{"$f":"'SSI Inputs'!$D$34","v":1785.7142857142856},{"$f":"'SSI Inputs'!$D$35","v":1071.4285714285713},{"$f":"'SSI Inputs'!$D$36","v":1142.8571428571429},{"$f":"'SSI Inputs'!$D$38","v":1857.1428571428571},{"$f":"'SSI Inputs'!$D$39","v":1071.4285714285713},{"$f":"'SSI Inputs'!$D$40","v":1071.4285714285713},{"$f":"'SSI Inputs'!$Q$18","v":175},{"$f":"'SSI Inputs'!$Q$19","v":175},{"$f":"'SSI Inputs'!$Q$20","v":175},{"$f":"'SSI Inputs'!$Q$21","v":175}]
[null,null,null,null,null,null,null,null,null,null,null,null,null,null,null,null,null,null,null,null,null,null,null,null,null,null,null,null,null,null,null,null,null,null,null,null,null,null,"D",{"$f":"'SSI Inputs'!$E$26","v":7271.062271062272},{"$f":"'SSI Inputs'!$E$27","v":2298.5347985347985},{"$f":"'SSI Inputs'!$E$28","v":430.40293040293039},{"$f":"'SSI Inputs'!$E$30","v":7225.2747252747249},{"$f":"'SSI Inputs'!$E$31","v":2298.5347985347985},{"$f":"'SSI Inputs'!$E$32","v":476.19047619047615},{"$f":"'SSI Inputs'!$E$34","v":2232.1428571428569},{"$f":"'SSI Inputs'!$E$35","v":1339.2857142857142},{"$f":"'SSI Inputs'!$E$36","v":1428.5714285714284},{"$f":"'SSI Inputs'!$E$38","v":2321.4285714285716},{"$f":"'SSI Inputs'!$E$39","v":1339.2857142857142},{"$f":"'SSI Inputs'!$E$40","v":1339.2857142857142},{"$f":"'SSI Inputs'!$R$18","v":175},{"$f":"'SSI Inputs'!$R$19","v":175},{"$f":"'SSI Inputs'!$R$20","v":175},{"$f":"'SSI Inputs'!$R$21","v":175},"D",{"$f":"'SSI Inputs'!$E$26","v":7271.062271062272},{"$f":"'SSI Inputs'!$E$27","v":2298.5347985347985},{"$f":"'SSI Inputs'!$E$28","v":430.40293040293039},{"$f":"'SSI Inputs'!$E$30","v":7225.2747252747249},{"$f":"'SSI Inputs'!$E$31","v":2298.5347985347985},{"$f":"'SSI Inputs'!$E$32","v":476.19047619047615},{"$f":"'SSI Inputs'!$E$34","v":2232.1428571428569},{"$f":"'SSI Inputs'!$E$35","v":1339.2857142857142},{"$f":"'SSI Inputs'!$E$36","v":1428.5714285714284},{"$f":"'SSI Inputs'!$E$38","v":2321.4285714285716},{"$f":"'SSI Inputs'!$E$39","v":1339.2857142857142},{"$f":"'SSI Inputs'!$E$40","v":1339.2857142857142},{"$f":"'SSI Inputs'!$R$18","v":175},{"$f":"'SSI Inputs'!$R$19","v":175},{"$f":"'SSI Inputs'!$R$20","v":175},{"$f":"'SSI Inputs'!$R$21","v":175}]
[]
[]
[]
[]
[]
[]
[]
[]
[]
[]
[]
[]
[]
[]
[]
[]
[]
[]
[]
[]
[]
[]
[]
[]
[]
[]
[]
[]
[]
[]
[]
[]
[]
[]
[]
[]
[]
[]
[]
[]
[]
[]
[]
[]
[]
[]
[]
[]
[]
[]
[]
[]
[]
[]
[]
[]
[]
[]
[]
[]
[]
[]
[]
[]
[]
[]
[]
[]
[]
[]
[]
[]
[]
[]
[]
[]
[]
[]
[]
[]
[]
[]
[null,null,null,null,null,null,null,null,null,"Exposure",null,null,null,null,null,null,null,null,null,null,null,null,null,null,null,null,null,null,null,null,null,null,null,null,null,null,"Exposure-Severity-Complexity Product"]
[null,null,null,null,null,null,null,null,null,"Q1","Q2","I"]
[null,null,null,null,null,null,null,null,null,{"$f":"SUMPRODUCT($AN4:$BC4,$AN$18:$BC$18)","v":7271.062271062272},{"$f":"SUMPRODUCT($BE4:$BT4,$BE$18:$BT$18)","v":2298.5347985347985},{"$f":"PRODUCT(J103:K103)","v":16712789.652350094},null,null,null,null,null,null,null,null,null,null,null,null,null,null,null,null,null,null,null,null,null,null,null,null,{"$f":"L103*R4*AI4","v":613375.51367816713}]
[null,null,null,null,null,null,null,null,null,{"$f":"SUMPRODUCT($AN5:$BC5,$AN$18:$BC$18)","v":7271.062271062272},{"$f":"SUMPRODUCT($BE5:$BT5,$BE$18:$BT$18)","v":2767.8571428571427},{"$f":"PRODUCT(J104:K104)","v":20125261.643118788},null,null,null,null,null,null,null,null,null,null,null,null,null,null,null,null,null,null,null,null,null,null,null,null,{"$f":"L104*R5*AI5","v":198220.71156345439}]
[null,null,null,null,null,null,null,null,null,430.40293040293039,2298.5347985347985,989296.1129224865,null,null,null,null,null,null,null,null,null,null,null,null,null,null,null,null,null,null,null,null,null,null,null,null,324.92732142317772]
[null,null,null,null,null,null,null,null,null,9523.8095238095229,1339.2857142857142,12755102.040816324,null,null,null,null,null,null,null,null,null,null,null,null,null,null,null,null,null,null,null,null,null,null,null,null,125629.44260948597]
[null,null,null,null,null,null,null,null,null,8699.6336996337013,1339.2857142857142,11651295.133437993,null,null,null,null,null,null,null,null,null,null,null,null,null,null,null,null,null,null,null,null,null,null,null,null,42506.241346164199]
[null,null,null,null,null,null,null,null,null,8564.5604395604387,2298.5347985347985,19685940.204484157,null,null,null,null,null,null,null,null,null,null,null,null,null,null,null,null,null,null,null,null,null,null,null,null,71818.224143726591]
[null,null,null,null,null,null,null,null,null,7271.062271062272,430.40293040293039,3129486.508607388,null,null,null,null,null,null,null,null,null,null,null,null,null,null,null,null,null,null,null,null,null,null,null,null,21924.001608748898]
[null,null,null,null,null,null,null,null,null,350,8564.5604395604387,2997596.1538461535,null,null,null,null,null,null,null,null,null,null,null,null,null,null,null,null,null,null,null,null,null,null,null,null,4281761.0660005612]
[null,null,null,null,null,null,null,null,null,350,7271.062271062272,2544871.794871795,null,null,null,null,null,null,null,null,null,null,null,null,null,null,null,null,null,null,null,null,null,null,null,null,3635090.3890985795]
[null,null,null,null,null,null,null,null,null,350,430.40293040293039,150641.02564102563,null,null,null,null,null,null,null,null,null,null,null,null,null,null,null,null,null,null,null,null,null,null,null,null,30556.379133934275]
[null,null,null,null,null,null,null,null,null,175,430.40293040293039,75320.512820512813,null,null,null,null,null,null,null,null,null,null,null,null,null,null,null,null,null,null,null,null,null,null,null,null,17187.963262838031]
[null,null,null,null,null,null,null,null,null,175,2298.5347985347985,402243.58974358975,null,null,null,null,null,null,null,null,null,null,null,null,null,null,null,null,null,null,null,null,null,null,null,null,154443.90549185258]
[null,null,null,null,null,null,null,null,null,175,2767.8571428571427,484374.99999999994,null,null,null,null,null,null,null,null,null,null,null,null,null,null,null,null,null,null,null,null,null,null,null,null,19568.475857999649]

{"sheet":"T_RCUT_Unsig","index":58,"n_rows":115,"n_cols":72,"rows_kept":115,"cut":false,"hidden":true,"merged":[[1,34,2,34],[1,36,2,36],[1,39,1,54],[1,56,1,71],[100,9,100,11],[100,36,101,36],[0,19,0,28],[0,30,0,32],[1,9,1,11],[1,13,1,17],[1,21,1,25],[1,27,1,28],[1,30,2,30],[1,31,2,31],[1,32,2,32]]}
[null,null,null,null,null,null,null,null,null,null,null,null,null,null,null,null,null,null,null,"Conflicting Traffic Complexity",null,null,null,null,null,null,null,null,null,null,"Pedestrian Complexity"]
[null,null,null,null,null,null,null,null,null,"Exposure",null,null,null,"Severity",null,null,null,null,null,"Traffic Control",null,"Conflicting Lanes",null,null,null,null,null,"Conflicting Speed",null,null,"Indirect Paths Indicator","Non-intuitive movements indicator","Pedestrian Complexity factor",null,"Total Complexity Multiplier",null,"Exposure-Severity-Complexity Product",null,null,"Included in Mvmt1",null,null,null,null,null,null,null,null,null,null,null,null,null,null,null,null,"Included in Mvmt2"]
["#","Conflict Type","Mvmt1","Mvmt1_gen","Mvmt1_SpeedCat","Mvmt2","Mvmt2_gen","Mvmt2_SpeedCat",null,"Q1","Q2","I",null,"Speed_V1","Speed_V2","Angle","delta_V","P_FSI",null,null,null,"MajC","MinC","MajM/P","MinM/P","Score",null,"Speed","Factor",null,null,null,null,null,null,null,null,null,null,"MajT1","MajL1","MajR1","MajT2","MajL2","MajR2","MinT1","MinL1","MinR1","MinT2","MinL2","MinR2","MajNM1","MajNM2","MinNM1","MinNM2",null,"MajT1","MajL1","MajR1","MajT2","MajL2","MajR2","MinT1","MinL1","MinR1","MinT2","MinL2","MinR2","MajNM1","MajNM2","MinNM1","MinNM2"]
[1,"Crossing","EBT","MajT1","Major thru","WBL","MajL2","Major left",null,{"$f":"SUMPRODUCT($AN4:$BC4,$AN$17:$BC$17)","v":6543.9560439560446},{"$f":"SUMPRODUCT($BE4:$BT4,$BE$17:$BT$17)","v":2068.6813186813188},{"$f":"PRODUCT(J4:K4)","v":13537359.618403576},null,{"$f":"VLOOKUP(E4,SSI_AGI_Range_VehSpeed,5,FALSE)","v":45},{"$f":"VLOOKUP(H4,SSI_AGI_Range_VehSpeed,5,FALSE)","v":20},{"$f":"IF(B4=\"Nonmotorized\",\"\",VLOOKUP(B4,SSI_AGI_Range_CollAngles,5,FALSE))","v":90},{"$f":"IF(B4=\"Nonmotorized\",\"\",SQRT(N4^2+O4^2-2*N4*O4*COS(RADIANS(P4)))/2)","v":24.622144504490262},{"$f":"IF(B4=\"Nonmotorized\",1/(1+EXP(3.8432-0.1237*O4)),(Q4/SSI_AGI_RegAlpha)^SSI_AGI_RegK+(Q4/SSI_AGI_RegAlpha)^SSI_AGI_RegK-((Q4/SSI_AGI_RegAlpha)^SSI_AGI_RegK)*((Q4/SSI_AGI_RegAlpha)^SSI_AGI_RegK))","v":4.3605107328437018E-2},null,{"$f":"SSI_AGI_StopFactor","v":0.72500000000000009},null,1,null,null,null,{"$f":"MAX(1,IF(B4<>\"Pedestrian\",V4*SSI_AGI_MajorThruLanes+W4*SSI_AGI_MinorThruLanes+X4*IF(SSI_AGI_MajorThruLanes=1,SSI_AGI_MergeWeightL1,IF(SSI_AGI_MajorThruLanes=2,SSI_AGI_MergeWeightL1+SSI_AGI_MergeWeightL2,SSI_AGI_MergeWeightL1+SSI_AGI_MergeWeightL2+SSI_AGI_MergeWeightL3*(SSI_AGI_MajorThruLanes-2)))+Y4*IF(SSI_AGI_MinorThruLanes=1,SSI_AGI_MergeWeightL1,IF(SSI_AGI_MinorThruLanes=2,SSI_AGI_MergeWeightL1+SSI_AGI_MergeWeightL2,SSI_AGI_MergeWeightL1+SSI_AGI_MergeWeightL2+SSI_AGI_MergeWeightL3*(SSI_AGI_MinorThruLanes-2))),V4*SSI_AGI_MajorThruLanes+W4*SSI_AGI_MinorThruLanes+X4*IF(SSI_AGI_MajorThruLanes=1,SSI_AGI_NM_MergeWeightL1,IF(SSI_AGI_MajorThruLanes=2,SSI_AGI_NM_MergeWeightL1+SSI_AGI_NM_MergeWeightL2,SSI_AGI_NM_MergeWeightL1+SSI_AGI_NM_MergeWeightL2+SSI_AGI_NM_MergeWeightL3*(SSI_AGI_MajorThruLanes-2)))+Y4*IF(SSI_AGI_MinorThruLanes=1,SSI_AGI_NM_MergeWeightL1,IF(SSI_AGI_MinorThruLanes=2,SSI_AGI_NM_MergeWeightL1+SSI_AGI_NM_MergeWeightL2,SSI_AGI_NM_MergeWeightL1+SSI_AGI_NM_MergeWeightL2+SSI_AGI_NM_MergeWeightL3*(SSI_AGI_MinorThruLanes-2)))))","v":2},null,{"$f":"IF(B4=\"Diverging\",\"\",SSI_AGI_VehSpeed_MjrThru)","v":45},{"$f":"IF(B4=\"Diverging\",1,1-((60-AB4)/60*0.1/0.15))","v":0.83333333333333326},null,null,null,{"$f":"IF(SSI_AGI_ConsiderNMComplexity=\"Yes\",1+AE4+AF4,1)","v":1},null,{"$f":"PRODUCT(Z4,T4,AC4,AG4)","v":1.2083333333333335},null,{"$f":"L4*R4*AI4","v":713276.77308416576},null,null,{"$f":"IF(ISNUMBER(SEARCH(AN$3,$D4)),1,\"\")","v":1},{"$f":"IF(ISNUMBER(SEARCH(AO$3,$D4)),1,\"\")","v":""},"","","","","","","","","","","","","","",null,{"$f":"IF(ISNUMBER(SEARCH(BE$3,$G4)),1,\"\")","v":""},{"$f":"IF(ISNUMBER(SEARCH(BF$3,$G4)),1,\"\")","v":""},"","",1,"","","","","","","","","","",""]
[2,"Merging","EBT","MajT1","Major thru","NBR, NBL","MinL1, MinR1","Stop near",null,6543.9560439560446,2214.2857142857142,{"$f":"PRODUCT(J5:K5)","v":14490188.383045526},null,45,15,45,{"$f":"IF(B5=\"Nonmotorized\",\"\",SQRT(N5^2+O5^2-2*N5*O5*COS(RADIANS(P5)))/2)","v":17.995873453365363},1.3373938286506865E-2,null,{"$f":"SSI_AGI_StopFactor","v":0.72500000000000009},null,null,null,1,null,1.75,null,45,0.83333333333333326,null,null,null,1,null,1.0572916666666667,null,{"$f":"L5*R5*AI5","v":204893.48799232318},null,null,{"$f":"IF(ISNUMBER(SEARCH(AN$3,$D5)),1,\"\")","v":1},"","","","","","","","","","","","","","","",null,{"$f":"IF(ISNUMBER(SEARCH(BE$3,$G5)),1,\"\")","v":""},"","","","","","",1,1,"","","","","","",""]
[3,"Merging","EBR","MajR1","Major right","WBL","MajL2","Major left",null,387.36263736263737,2068.6813186813188,801329.85146721418,null,15,20,45,7.0840654162717795,3.9022923271840544E-4,null,{"$f":"SSI_AGI_StopFactor","v":0.72500000000000009},null,1,null,null,null,2,null,45,0.83333333333333326,null,null,null,1,null,1.2083333333333335,null,377.84865248665585,null,null,"","",1,"","","","","","","","","","","","","",null,"","","","",1,"","","","","","","","","","",""]
[4,"Merging","WBT, WBL","MajT2, MajL2","Major thru","NBL","MinL1","Stop near",null,8571.4285714285725,1071.4285714285713,9183673.4693877548,null,45,15,45,17.995873453365363,1.3373938286506865E-2,null,{"$f":"SSI_AGI_StopFactor","v":0.72500000000000009},null,null,null,1,null,1.75,null,45,0.83333333333333326,null,null,null,1,null,1.0572916666666667,null,129858.55255871623,null,null,"","","",1,1,"","","","","","","","","","","",null,"","","","","","","",1,"","","","","","","",""]
[5,"Diverging","EBT, NBR","MajT1, MinR1","Major thru","NBL","MinL1","Major left",null,7686.8131868131877,1071.4285714285713,8235871.2715855576,null,45,20,10,12.77053292327718,3.6481988362114144E-3,null,1,null,null,null,null,null,1,null,"",1,null,null,null,1,null,1,null,30046.095988185454,null,null,1,"","","","","","","",1,"","","","","","","",null,"","","","","","","",1,"","","","","","","",""]
[6,"Diverging","WBT, NBL","MajT2, MinL1","Major thru","WBL","MajL2","Major left",null,7574.1758241758243,2068.6813186813188,15668556.031880209,null,45,20,10,12.77053292327718,3.6481988362114144E-3,null,1,null,null,null,null,null,1,null,"",1,null,null,null,1,null,1,null,57162.007880618716,null,null,"","","",1,"","","",1,"","","","","","","","",null,"","","","",1,"","","","","","","","","","",""]
[7,"Diverging","EBT","MajT1","Major thru","EBR","MajR1","Major right",null,6543.9560439560446,387.36263736263737,2534884.0719719846,null,45,15,10,15.169950011729762,7.0056226631585675E-3,null,{"$f":"SSI_AGI_PermFactor","v":1},null,null,null,null,null,1,null,"",1,null,null,null,1,null,1,null,17758.441303086609,null,null,1,"","","","","","","","","","","","","","","",null,"","",1,"","","","","","","","","","","","",""]
[8,"Nonmotorized",null,"MajNM1, MajNM2","Nonmotorized","WBT, NBL","MajT2, MinL1","Major thru",null,350,7574.1758241758243,2650961.5384615385,null,0,45,"","",0.84855340903216459,null,{"$f":"SSI_AGI_StopFactor","v":0.72500000000000009},null,1,null,null,null,2,null,45,0.83333333333333326,null,1,null,2,null,2.416666666666667,null,5436249.2557971692,null,null,"","","","","","","","","","","","",1,1,"","",null,"","","",1,"","","",1,"","","","","","","",""]
[9,"Nonmotorized",null,"MajNM1, MajNM2","Nonmotorized","EBT","MajT1","Major thru",null,350,6543.9560439560446,2290384.6153846155,null,0,45,"","",0.84855340903216459,null,0.72500000000000009,null,1,null,null,null,2,null,45,0.83333333333333326,null,1,null,2,null,2.416666666666667,null,4696824.7106669778,null,null,"","","","","","","","","","","","",1,1,"","",null,1,"","","","","","","","","","","","","","",""]
[10,"Nonmotorized",null,"MajNM1, MajNM2","Nonmotorized","EBR","MajR1","Major right",null,350,387.36263736263737,135576.92307692309,null,0,15,"","",0.1205004039155782,null,0.72500000000000009,null,1,null,null,null,2,null,45,0.83333333333333326,null,1,null,2,null,2.416666666666667,null,39481.262148301234,null,null,"","","","","","","","","","","","",1,1,"","",null,"","",1,"","","","","","","","","","","","",""]
[11,"Nonmotorized",null,"MinNM1","Nonmotorized","EBR","MajR1","Major right",null,175,387.36263736263737,67788.461538461546,null,0,15,"","",0.1205004039155782,null,0.72500000000000009,null,null,1,2,null,4.5,null,45,0.83333333333333326,null,null,null,1,null,2.71875,null,22208.20995841944,null,null,"","","","","","","","","","","","","","",1,"",null,"","",1,"","","","","","","","","","","","",""]
[12,"Nonmotorized",null,"MinNM1","Nonmotorized","WBL","MajL2","Major left",null,175,2068.6813186813188,362019.23076923081,null,0,20,"","",0.20274912921655375,null,0.72500000000000009,null,null,1,2,null,4.5,null,45,0.83333333333333326,null,null,null,1,null,2.71875,null,199553.75907610659,null,null,"","","","","","","","","","","","","","",1,"",null,"","","","",1,"","","","","","","","","","",""]
[13,"Nonmotorized",null,"MinNM1","Nonmotorized","NBL,NBR","MinL1, MinR1","Stop near",null,175,2214.2857142857142,387500,null,0,15,"","",0.1205004039155782,null,0.72500000000000009,null,null,1,null,null,1,null,{"$f":"IF(B16=\"Diverging\",\"\",SSI_AGI_VehSpeed_MnrThru)","v":29.75},0.66388888888888886,null,null,null,1,null,0.48131944444444447,null,22474.685143841187,null,null,"","","","","","","","","","","","","","",1,"",null,"","","","","","","",1,1,"","","","","","",""]
[null,null,null,null,null,null,null,null,null,null,null,null,null,null,null,null,null,null,null,null,null,null,null,null,null,null,null,null,null,null,null,null,null,null,null,null,null,null,null,{"$f":"'SSI Inputs'!$D$26","v":6543.9560439560446},{"$f":"'SSI Inputs'!$D$27","v":2068.6813186813188},{"$f":"'SSI Inputs'!$D$28","v":387.36263736263737},{"$f":"'SSI Inputs'!$D$30","v":6502.7472527472528},{"$f":"'SSI Inputs'!$D$31","v":2068.6813186813188},{"$f":"'SSI Inputs'!$D$32","v":428.57142857142856},{"$f":"'SSI Inputs'!$D$34","v":1785.7142857142856},{"$f":"'SSI Inputs'!$D$35","v":1071.4285714285713},{"$f":"'SSI Inputs'!$D$36","v":1142.8571428571429},{"$f":"'SSI Inputs'!$D$38","v":1857.1428571428571},{"$f":"'SSI Inputs'!$D$39","v":1071.4285714285713},{"$f":"'SSI Inputs'!$D$40","v":1071.4285714285713},{"$f":"'SSI Inputs'!$Q$18","v":175},{"$f":"'SSI Inputs'!$Q$19","v":175},{"$f":"'SSI Inputs'!$Q$20","v":175},{"$f":"'SSI Inputs'!$Q$21","v":175},null,{"$f":"'SSI Inputs'!$D$26","v":6543.9560439560446},{"$f":"'SSI Inputs'!$D$27","v":2068.6813186813188},{"$f":"'SSI Inputs'!$D$28","v":387.36263736263737},{"$f":"'SSI Inputs'!$D$30","v":6502.7472527472528},{"$f":"'SSI Inputs'!$D$31","v":2068.6813186813188},{"$f":"'SSI Inputs'!$D$32","v":428.57142857142856},{"$f":"'SSI Inputs'!$D$34","v":1785.7142857142856},{"$f":"'SSI Inputs'!$D$35","v":1071.4285714285713},{"$f":"'SSI Inputs'!$D$36","v":1142.8571428571429},{"$f":"'SSI Inputs'!$D$38","v":1857.1428571428571},{"$f":"'SSI Inputs'!$D$39","v":1071.4285714285713},{"$f":"'SSI Inputs'!$D$40","v":1071.4285714285713},{"$f":"'SSI Inputs'!$Q$18","v":175},{"$f":"'SSI Inputs'!$Q$19","v":175},{"$f":"'SSI Inputs'!$Q$20","v":175},{"$f":"'SSI Inputs'!$Q$21","v":175}]
[null,null,null,null,null,null,null,null,null,null,null,null,null,null,null,null,null,null,null,null,null,null,null,null,null,null,null,null,null,null,null,null,null,null,null,null,null,null,"D",{"$f":"'SSI Inputs'!$E$26","v":7271.062271062272},{"$f":"'SSI Inputs'!$E$27","v":2298.5347985347985},{"$f":"'SSI Inputs'!$E$28","v":430.40293040293039},{"$f":"'SSI Inputs'!$E$30","v":7225.2747252747249},{"$f":"'SSI Inputs'!$E$31","v":2298.5347985347985},{"$f":"'SSI Inputs'!$E$32","v":476.19047619047615},{"$f":"'SSI Inputs'!$E$34","v":2232.1428571428569},{"$f":"'SSI Inputs'!$E$35","v":1339.2857142857142},{"$f":"'SSI Inputs'!$E$36","v":1428.5714285714284},{"$f":"'SSI Inputs'!$E$38","v":2321.4285714285716},{"$f":"'SSI Inputs'!$E$39","v":1339.2857142857142},{"$f":"'SSI Inputs'!$E$40","v":1339.2857142857142},{"$f":"'SSI Inputs'!$R$18","v":175},{"$f":"'SSI Inputs'!$R$19","v":175},{"$f":"'SSI Inputs'!$R$20","v":175},{"$f":"'SSI Inputs'!$R$21","v":175},"D",{"$f":"'SSI Inputs'!$E$26","v":7271.062271062272},{"$f":"'SSI Inputs'!$E$27","v":2298.5347985347985},{"$f":"'SSI Inputs'!$E$28","v":430.40293040293039},{"$f":"'SSI Inputs'!$E$30","v":7225.2747252747249},{"$f":"'SSI Inputs'!$E$31","v":2298.5347985347985},{"$f":"'SSI Inputs'!$E$32","v":476.19047619047615},{"$f":"'SSI Inputs'!$E$34","v":2232.1428571428569},{"$f":"'SSI Inputs'!$E$35","v":1339.2857142857142},{"$f":"'SSI Inputs'!$E$36","v":1428.5714285714284},{"$f":"'SSI Inputs'!$E$38","v":2321.4285714285716},{"$f":"'SSI Inputs'!$E$39","v":1339.2857142857142},{"$f":"'SSI Inputs'!$E$40","v":1339.2857142857142},{"$f":"'SSI Inputs'!$R$18","v":175},{"$f":"'SSI Inputs'!$R$19","v":175},{"$f":"'SSI Inputs'!$R$20","v":175},{"$f":"'SSI Inputs'!$R$21","v":175}]
[]
[]
[]
[]
[]
[]
[]
[]
[]
[]
[]
[]
[]
[]
[]
[]
[]
[]
[]
[]
[]
[]
[]
[]
[]
[]
[]
[]
[]
[]
[]
[]
[]
[]
[]
[]
[]
[]
[]
[]
[]
[]
[]
[]
[]
[]
[]
[]
[]
[]
[]
[]
[]
[]
[]
[]
[]
[]
[]
[]
[]
[]
[]
[]
[]
[]
[]
[]
[]
[]
[]
[]
[]
[]
[]
[]
[]
[]
[]
[]
[]
[]
[null,null,null,null,null,null,null,null,null,"Exposure",null,null,null,null,null,null,null,null,null,null,null,null,null,null,null,null,null,null,null,null,null,null,null,null,null,null,"Exposure-Severity-Complexity Product"]
[null,null,null,null,null,null,null,null,null,"Q1","Q2","I"]
[null,null,null,null,null,null,null,null,null,{"$f":"SUMPRODUCT($AN4:$BC4,$AN$18:$BC$18)","v":7271.062271062272},{"$f":"SUMPRODUCT($BE4:$BT4,$BE$18:$BT$18)","v":2298.5347985347985},{"$f":"PRODUCT(J103:K103)","v":16712789.652350094},null,null,null,null,null,null,null,null,null,null,null,null,null,null,null,null,null,null,null,null,null,null,null,null,{"$f":"L103*R4*AI4","v":880588.60874588368}]
[null,null,null,null,null,null,null,null,null,{"$f":"SUMPRODUCT($AN5:$BC5,$AN$18:$BC$18)","v":7271.062271062272},{"$f":"SUMPRODUCT($BE5:$BT5,$BE$18:$BT$18)","v":2767.8571428571427},{"$f":"PRODUCT(J104:K104)","v":20125261.643118788},null,null,null,null,null,null,null,null,null,null,null,null,null,null,null,null,null,null,null,null,null,null,null,null,{"$f":"L104*R5*AI5","v":284574.28887822665}]
[null,null,null,null,null,null,null,null,null,430.40293040293039,2298.5347985347985,989296.1129224865,null,null,null,null,null,null,null,null,null,null,null,null,null,null,null,null,null,null,null,null,null,null,null,null,466.47981788476022]
[null,null,null,null,null,null,null,null,null,9523.8095238095229,1339.2857142857142,12755102.040816324,null,null,null,null,null,null,null,null,null,null,null,null,null,null,null,null,null,null,null,null,null,null,null,null,180359.10077599471]
[null,null,null,null,null,null,null,null,null,8699.6336996337013,1339.2857142857142,11651295.133437993,null,null,null,null,null,null,null,null,null,null,null,null,null,null,null,null,null,null,null,null,null,null,null,null,42506.241346164199]
[null,null,null,null,null,null,null,null,null,8564.5604395604387,2298.5347985347985,19685940.204484157,null,null,null,null,null,null,null,null,null,null,null,null,null,null,null,null,null,null,null,null,null,null,null,null,71818.224143726591]
[null,null,null,null,null,null,null,null,null,7271.062271062272,430.40293040293039,3129486.508607388,null,null,null,null,null,null,null,null,null,null,null,null,null,null,null,null,null,null,null,null,null,null,null,null,21924.001608748898]
[null,null,null,null,null,null,null,null,null,350,8564.5604395604387,2997596.1538461535,null,null,null,null,null,null,null,null,null,null,null,null,null,null,null,null,null,null,null,null,null,null,null,null,6147082.7185156588]
[null,null,null,null,null,null,null,null,null,350,7271.062271062272,2544871.794871795,null,null,null,null,null,null,null,null,null,null,null,null,null,null,null,null,null,null,null,null,null,null,null,null,5218694.1229633084]
[null,null,null,null,null,null,null,null,null,350,430.40293040293039,150641.02564102563,null,null,null,null,null,null,null,null,null,null,null,null,null,null,null,null,null,null,null,null,null,null,null,null,43868.069053668034]
[null,null,null,null,null,null,null,null,null,175,430.40293040293039,75320.512820512813,null,null,null,null,null,null,null,null,null,null,null,null,null,null,null,null,null,null,null,null,null,null,null,null,24675.788842688264]
[null,null,null,null,null,null,null,null,null,175,2298.5347985347985,402243.58974358975,null,null,null,null,null,null,null,null,null,null,null,null,null,null,null,null,null,null,null,null,null,null,null,null,221726.39897345172]
[null,null,null,null,null,null,null,null,null,175,2767.8571428571427,484374.99999999994,null,null,null,null,null,null,null,null,null,null,null,null,null,null,null,null,null,null,null,null,null,null,null,null,28093.356429801483]