{"text_format":"1","workbook":"xlsx","n_sheets":57,"sheets":["Introduction","Abbreviations & Assumptions","1 - Volume Input","2 - Base and Alt Sel","Multimodal Scoring","LanesDefaults","MMScoreDefaults","3 - Alt Num Lanes Input","4a - Detailed Results","MMDataComp","SumComp","4b - Summary Results","5a - Summary Report","5b - Detailed Report","Traffic Signal","Conventional Shared RT LT","CGT W","CGT N","CGT E","CGT S","TWSC N-S","TWSC E-W","AWSC","QR S-W","QR N-E","QR S-E","QR N-W","P DLT N-S","P DLT E-W","Full DLT","RCUT N-S","RCUT E-W","Unsig RCUT N-S","Unsig RCUT E-W","MUT N-S ","MUT E-W","PMUT N-S","PMUT E-W","50 Mini-Rndabt","75 Mini-Rndabt","1x1 Rndabt ","1NS x 2 EW Rndabt","2 NS x 1 EW Rndabt","2x2 Rndabt","3x3 Rndabt","TD N-S","TD E-W","PCLA N-S","PCLA E-W","PCLB N-S","PCLB E-W","DLTI N-S","DLTI E-W ","DDI N-S","DDI E-W","SPI N-S ","SPI E-W"],"not_rendered":{"charts":0,"images":29,"macros":1,"external_links":0,"defined_names":416,"comments":0,"pivot_tables":0},"unopened":[],"bounds":{"document_bytes":16777216,"sheet_cells":100000,"rows_first":2000,"rows_last":500,"rows_between":2000,"halvings":0,"cell_chars":16384,"cell_head_chars":4096},"cells_cut":0,"cells_raw":0,"read":"whole","date_system":"1900"}

{"sheet":"Introduction","index":0,"n_rows":0,"n_cols":0,"rows_kept":0,"cut":false,"hidden":false,"merged":[]}

{"sheet":"Abbreviations & Assumptions","index":1,"n_rows":77,"n_cols":49,"rows_kept":77,"cut":false,"hidden":false,"merged":[[0,1,1,60],[2,1,3,60],[33,1,34,60],[47,1,48,60],[70,48,71,56],[58,40,59,47],[58,48,59,56],[59,21,59,23],[58,24,58,29],[58,30,58,35],[59,15,59,17],[59,18,59,20],[58,12,58,23],[60,40,61,47],[62,40,63,47],[64,40,65,47],[66,40,67,47],[68,40,69,47],[59,12,59,14],[58,4,59,8],[60,4,65,8],[66,4,71,8],[59,24,59,26],[59,27,59,29],[72,4,77,8],[58,9,59,11],[60,9,61,11],[62,9,63,11],[64,9,65,11],[66,9,67,11],[68,9,69,11],[70,9,71,11],[72,9,73,11],[74,9,75,11],[76,9,77,11],[59,30,59,32],[59,33,59,35],[58,36,59,39],[60,48,61,56],[62,48,63,56],[64,48,65,56],[66,48,67,56],[66,36,67,39],[62,36,63,39],[64,36,65,39],[60,36,61,39],[62,33,63,35],[72,48,73,56],[74,48,75,56],[76,48,77,56],[68,48,69,56],[68,36,69,39],[76,36,77,39],[70,40,71,47],[72,40,73,47],[74,40,75,47],[76,40,77,47],[70,36,71,39],[72,36,73,39],[74,36,75,39],[60,15,61,17],[60,18,61,20],[60,21,61,23],[60,12,61,14],[74,24,75,26],[74,27,75,29],[70,24,71,26],[70,27,71,29],[70,30,71,32],[74,30,75,32],[68,21,69,23],[62,12,63,14],[62,15,63,17],[62,18,63,20],[62,21,63,23],[64,12,65,14],[64,15,65,17],[64,18,65,20],[64,21,65,23],[74,12,75,14],[74,15,75,17],[74,18,75,20],[74,21,75,23],[70,12,71,14],[76,30,77,32],[76,33,77,35],[70,33,71,35],[72,24,73,26],[72,27,73,29],[72,30,73,32],[72,33,73,35],[70,21,71,23],[72,12,73,14],[72,15,73,17],[72,18,73,20],[72,21,73,23],[76,12,77,14],[76,15,77,17],[76,18,77,20],[76,21,77,23],[70,15,71,17],[70,18,71,20],[74,33,75,35],[76,24,77,26],[76,27,77,29],[66,12,67,14],[66,15,67,17],[66,18,67,20],[66,21,67,23],[68,12,69,14],[68,15,69,17],[68,18,69,20],[68,30,69,32],[68,33,69,35],[66,24,67,26],[66,27,67,29],[66,30,67,32],[66,33,67,35],[68,24,69,26],[68,27,69,29],[64,24,65,26],[64,27,65,29],[64,30,65,32],[64,33,65,35],[60,24,61,26],[60,27,61,29],[60,30,61,32],[60,33,61,35],[62,24,63,26],[62,27,63,29],[62,30,63,32]]}
[null,"Capacity Analysis for Planning of Junctions\n\nCapacity Analysis for Planning of Junctions"]
[]
[null,"Abbreviation Definitions   "]
[]
[]
[]
[]
[]
[]
[]
[]
[]
[]
[]
[]
[]
[]
[]
[]
[]
[]
[]
[]
[]
[]
[]
[]
[]
[]
[]
[]
[]
[]
[null,"General Assumptions"]
[]
[]
[]
[]
[]
[]
[]
[]
[]
[]
[]
[]
[]
[null,"Multimodal Capacity Adjustment Factor Definitions"]
[]
[]
[]
[]
[]
[]
[]
[]
[]
[]
[null,null,null,null,"Mode",null,null,null,null,"Activity Level",null,null,"Signalized Intersections (Conventional, QR, TD, DLTI, SPI)",null,null,null,null,null,null,null,null,null,null,null,"Mini- or         Single-lane Roundabout",null,null,null,null,null,"Multilane Roundabout",null,null,null,null,null,"Other",null,null,null,"Threshold (Adapted from HSM Table 12-26)",null,null,null,null,null,null,null,"Associated Context Classification Zones"]
[null,null,null,null,null,null,null,null,null,null,null,null,"2-lane Major Street",null,null,"4-lane Major Street",null,null,"6-lane Major Street",null,null,"8-lane Major Street",null,null,"3-leg",null,null,"4-leg",null,null,"3-leg",null,null,"4-leg"]
[null,null,null,null,"Pedestrian",null,null,null,null,"Low",null,null,1,null,null,1,null,null,1,null,null,1,null,null,1,null,null,1,null,null,1,null,null,1,null,null,1,null,null,null,"Fewer than 240 pedestrians per day",null,null,null,null,null,null,null,"Natural, Rural"]
[]
[null,null,null,null,null,null,null,null,null,"Medium",null,null,1,null,null,1,null,null,0.9,null,null,0.8,null,null,0.99,null,null,0.99,null,null,0.97,null,null,0.95,null,null,1,null,null,null,"240 to 3,200 pedestrians per day",null,null,null,null,null,null,null,"Rural Town, Suburban Residential/ Commercial"]
[]
[null,null,null,null,null,null,null,null,null,"High",null,null,1,null,null,1,null,null,0.9,null,null,0.8,null,null,0.98,null,null,0.98,null,null,0.93,null,null,0.91,null,null,1,null,null,null,"More than 3,200 pedestrians per day",null,null,null,null,null,null,null,"Urban Center, Urban Core"]
[]
[null,null,null,null,"Bicycle",null,null,null,null,"Low",null,null,1,null,null,1,null,null,1,null,null,1,null,null,1,null,null,1,null,null,1,null,null,1,null,null,1,null,null,null,"Fewer than 240 bicycles per day",null,null,null,null,null,null,null,"Natural, Rural"]
[]
[null,null,null,null,null,null,null,null,null,"Medium",null,null,1,null,null,1,null,null,0.9,null,null,0.8,null,null,0.99,null,null,0.99,null,null,0.97,null,null,0.95,null,null,1,null,null,null,"240 to 3,200 bicycles per day",null,null,null,null,null,null,null,"Rural Town, Suburban Residential/ Commercial"]
[]
[null,null,null,null,null,null,null,null,null,"High",null,null,1,null,null,1,null,null,0.9,null,null,0.8,null,null,0.98,null,null,0.98,null,null,0.93,null,null,0.91,null,null,1,null,null,null,"More than 3,200 bicycles per day",null,null,null,null,null,null,null,"Urban Residential, Urban Center, Urban Core"]
[]
[null,null,null,null,"Transit",null,null,null,null,"Low",null,null,1,null,null,1,null,null,1,null,null,1,null,null,1,null,null,1,null,null,1,null,null,1,null,null,1,null,null,null,"No transit stops",null,null,null,null,null,null,null,"Natural, Rural"]
[]
[null,null,null,null,null,null,null,null,null,"Medium",null,null,1,null,null,1,null,null,1,null,null,1,null,null,1,null,null,1,null,null,1,null,null,1,null,null,1,null,null,null,"A transit stop serving a single route",null,null,null,null,null,null,null,"Rural Town, Suburban Residential/ Commercial"]
[]
[null,null,null,null,null,null,null,null,null,"High",null,null,1,null,null,1,null,null,1,null,null,1,null,null,1,null,null,1,null,null,1,null,null,1,null,null,1,null,null,null,"A transit stop serving multiple routes",null,null,null,null,null,null,null,"Urban Residential, Urban Center, Urban Core"]

{"sheet":"1 - Volume Input","index":2,"n_rows":90,"n_cols":61,"rows_kept":90,"cut":false,"hidden":false,"merged":[[63,12,64,49],[47,34,48,45],[47,46,48,57],[49,34,50,45],[49,46,50,57],[47,22,48,33],[59,34,60,45],[53,34,54,45],[53,46,54,57],[51,22,52,33],[53,22,54,33],[51,4,52,21],[53,4,54,21],[51,34,52,45],[51,46,52,57],[49,22,50,33],[47,4,48,21],[49,4,50,21],[39,34,40,41],[23,4,30,9],[31,4,32,9],[33,4,34,9],[33,10,34,17],[33,42,34,49],[35,42,36,49],[37,42,38,49],[33,50,34,57],[23,10,24,41],[23,42,24,57],[33,18,34,25],[33,26,34,33],[33,34,34,41],[31,18,32,25],[31,26,32,33],[31,34,32,41],[37,50,38,57],[45,22,46,57],[13,12,14,57],[21,4,22,57],[39,42,40,49],[39,50,40,57],[41,42,42,49],[41,50,42,57],[15,4,16,11],[15,12,16,57],[17,4,18,11],[17,12,18,57],[35,50,36,57],[35,34,36,41],[37,34,38,41],[39,26,40,33],[41,26,42,33],[37,4,38,9],[35,4,36,9],[35,10,36,17],[37,10,38,17],[35,18,36,25],[37,18,38,25],[35,26,36,33],[37,26,38,33],[7,4,8,11],[7,12,8,57],[9,4,10,11],[9,12,10,57],[25,10,26,17],[27,10,30,17],[31,10,32,17],[25,18,26,25],[25,26,26,33],[25,34,26,41],[25,42,26,49],[25,50,26,57],[27,50,30,57],[27,42,30,49],[31,50,32,57],[27,18,30,25],[27,26,30,33],[27,34,30,41],[31,42,32,49],[11,4,12,11],[11,12,12,57],[13,4,14,11],[19,4,19,11],[19,12,19,57],[77,18,78,25],[79,18,80,25],[69,34,72,41],[67,42,68,49],[39,4,40,9],[39,10,40,17],[41,10,42,17],[41,4,42,9],[43,4,44,33],[43,34,44,45],[43,46,44,57],[55,4,60,18],[55,19,56,33],[57,19,58,33],[59,19,60,33],[55,46,56,57],[57,46,58,57],[59,46,60,57],[55,34,56,45],[57,34,58,45],[41,34,42,41],[39,18,40,25],[41,18,42,25],[45,4,46,21],[75,12,76,17],[73,12,74,17],[65,12,72,17],[75,18,76,25],[69,18,72,25],[69,26,72,33],[67,34,68,41],[67,26,68,33],[67,18,68,25],[65,18,66,49],[73,34,74,41],[75,34,76,41],[69,42,72,49],[73,42,74,49],[75,42,76,49],[0,1,1,60],[2,1,3,60],[89,4,89,21],[89,22,89,57],[84,4,84,57],[85,4,85,21],[85,22,85,57],[86,4,86,21],[86,22,86,57],[87,4,87,21],[87,22,87,57],[79,12,80,17],[77,12,78,17],[77,42,78,49],[79,42,80,49],[77,34,78,41],[79,34,80,41],[77,26,78,33],[79,26,80,33],[88,4,88,21],[88,22,88,57],[73,26,74,33],[75,26,76,33],[73,18,74,25]]}
[null,"Capacity Analysis for Planning of Junctions\n\nCapacity Analysis for Planning of Junctions"]
[]
[null,"Input Worksheet 1"]
[]
[]
[]
[]
[null,null,null,null,"Project Name:",null,null,null,null,null,null,null,"Cap-X Sample Street"]
[]
[null,null,null,null,"Project Number:",null,null,null,null,null,null,null,10000]
[]
[null,null,null,null,"Location",null,null,null,null,null,null,null,"Tallahassee, FL"]
[]
[null,null,null,null,"Date",null,null,null,null,null,null,null,"2017 AM"]
[]
[null,null,null,null,"Number of Intersection Legs",null,null,null,null,null,null,null,null,null,null,null,null,null,null,null,null,null,null,null,null,null,null,null,null,null,null,null,null,null,null,null,null,null,null,null,null,null,null,null,null,null,null,null,null,null,null,null,null,null,null,null,null,null,null,3,"N"]
[null,null,null,null,null,null,null,null,null,null,null,null,null,null,null,null,null,null,null,null,null,null,null,null,null,null,null,null,null,null,null,null,null,null,null,null,null,null,null,null,null,null,null,null,null,null,null,null,null,null,null,null,null,null,null,null,null,null,null,4,"S"]
[null,null,null,null,"Major Street Direction",null,null,null,null,null,null,null,"East-West",null,null,null,null,null,null,null,null,null,null,null,null,null,null,null,null,null,null,null,null,null,null,null,null,null,null,null,null,null,null,null,null,null,null,null,null,null,null,null,null,null,null,null,null,null,"North-South",null,"E"]
[null,null,null,null,null,null,null,null,null,null,null,null,null,null,null,null,null,null,null,null,null,null,null,null,null,null,null,null,null,null,null,null,null,null,null,null,null,null,null,null,null,null,null,null,null,null,null,null,null,null,null,null,null,null,null,null,null,null,"East-West",null,"W"]
[null,null,null,null,"Which leg is the minor street?",null,null,null,null,null,null,null,"N"]
[]
[null,null,null,null,"Traffic Volume Demand"]
[]
[null,null,null,null,null,null,null,null,null,null,"Volume (Veh/hr)",null,null,null,null,null,null,null,null,null,null,null,null,null,null,null,null,null,null,null,null,null,null,null,null,null,null,null,null,null,null,null,"Percent (%)"]
[]
[null,null,null,null,null,null,null,null,null,null,"U-Turn",null,null,null,null,null,null,null,"Left",null,null,null,null,null,null,null,"Thru",null,null,null,null,null,null,null,"Right",null,null,null,null,null,null,null,"Heavy Vehicles",null,null,null,null,null,null,null,"Volume Growth"]
[]
[]
[]
[]
[]
[null,null,null,null,"Eastbound",null,null,null,null,null,0,null,null,null,null,null,null,null,30,null,null,null,null,null,null,null,200,null,null,null,null,null,null,null,50,null,null,null,null,null,null,null,0.02,null,null,null,null,null,null,null,0]
[]
[null,null,null,null,"Westbound",null,null,null,null,null,0,null,null,null,null,null,null,null,30,null,null,null,null,null,null,null,200,null,null,null,null,null,null,null,50,null,null,null,null,null,null,null,0.02,null,null,null,null,null,null,null,0]
[]
[null,null,null,null,"Southbound",null,null,null,null,null,0,null,null,null,null,null,null,null,100,null,null,null,null,null,null,null,500,null,null,null,null,null,null,null,200,null,null,null,null,null,null,null,0.02,null,null,null,null,null,null,null,0]
[]
[null,null,null,null,"Northbound",null,null,null,null,null,0,null,null,null,null,null,null,null,100,null,null,null,null,null,null,null,500,null,null,null,null,null,null,null,200,null,null,null,null,null,null,null,0.02,null,null,null,null,null,null,null,0]
[null,null,null,null,null,null,null,null,null,null,null,null,null,null,null,null,null,null,null,null,null,null,null,null,null,null,null,null,null,null,null,null,null,null,null,null,null,null,null,null,null,null,null,null,null,null,null,null,null,null,null,null,null,null,null,null,null,null,null,"C1-Natural"]
[null,null,null,null,"Adjustment Factor",null,null,null,null,null,0.8,null,null,null,null,null,null,null,0.95,null,null,null,null,null,null,null,null,null,null,null,null,null,null,null,0.85,null,null,null,null,null,null,null,null,null,null,null,null,null,null,null,null,null,null,null,null,null,null,null,null,"C2-Rural"]
[null,null,null,null,null,null,null,null,null,null,null,null,null,null,null,null,null,null,null,null,null,null,null,null,null,null,null,null,null,null,null,null,null,null,null,null,null,null,null,null,null,null,null,null,null,null,null,null,null,null,null,null,null,null,null,null,null,null,null,"C2T-Rural Town"]
[null,null,null,null,"Suggested",null,null,null,null,null,0.8,null,null,null,null,null,null,null,0.95,null,null,null,null,null,null,null,null,null,null,null,null,null,null,null,0.85,null,null,null,null,null,null,null,null,null,null,null,null,null,null,null,null,null,null,null,null,null,null,null,null,"C3R-Suburban Residential"]
[null,null,null,null,null,null,null,null,null,null,null,null,null,null,null,null,null,null,null,null,null,null,null,null,null,null,null,null,null,null,null,null,null,null,null,null,null,null,null,null,null,null,null,null,null,null,null,null,null,null,null,null,null,null,null,null,null,null,null,"C3C-Suburban Commercial"]
[null,null,null,null,"Truck to PCE Factor ",null,null,null,null,null,null,null,null,null,null,null,null,null,null,null,null,null,null,null,null,null,null,null,null,null,null,null,null,null,"Suggested = 2.00",null,null,null,null,null,null,null,null,null,null,null,2,null,null,null,null,null,null,null,null,null,null,null,null,"C4-General Urban Residential"]
[null,null,null,null,null,null,null,null,null,null,null,null,null,null,null,null,null,null,null,null,null,null,null,null,null,null,null,null,null,null,null,null,null,null,null,null,null,null,null,null,null,null,null,null,null,null,null,null,null,null,null,null,null,null,null,null,null,null,null,"C5-Urban Center"]
[null,null,null,null,"FDOT Context Zone",null,null,null,null,null,null,null,null,null,null,null,null,null,null,null,null,null,"C2-Rural",null,null,null,null,null,null,null,null,null,null,null,null,null,null,null,null,null,null,null,null,null,null,null,null,null,null,null,null,null,null,null,null,null,null,null,null,"C6-Urban Core"]
[]
[null,null,null,null,"E-W / Crossing East-West Legs",null,null,null,null,null,null,null,null,null,null,null,null,null,null,null,null,null,{"$f":"IF(Multimodal=1,\"Low\",IF(Multimodal=2,\"Medium\",\"High\"))","v":"Low"},null,null,null,null,null,null,null,null,null,null,null,{"$f":"IF(Multimodal=1,\"Low\",IF(Multimodal=2,\"Medium\",\"High\"))","v":"Low"},null,null,null,null,null,null,null,null,null,null,null,{"$f":"IF(Multimodal=1,\"Low\",IF(Multimodal=2,\"Medium\",\"High\"))","v":"Low"}]
[]
[null,null,null,null,"Westbound / Crossing East Leg",null,null,null,null,null,null,null,null,null,null,null,null,null,null,null,null,null,{"$f":"IF(Multimodal=1,\"Low\",IF(Multimodal=2,\"Medium\",\"High\"))","v":"Low"},null,null,null,null,null,null,null,null,null,null,null,{"$f":"IF(Multimodal=1,\"Low\",IF(Multimodal=2,\"Medium\",\"High\"))","v":"Low"},null,null,null,null,null,null,null,null,null,null,null,{"$f":"IF(Multimodal=1,\"Low\",IF(Multimodal=2,\"Medium\",\"High\"))","v":"Low"}]
[]
[null,null,null,null,"N-S / Crossing North-South Legs",null,null,null,null,null,null,null,null,null,null,null,null,null,null,null,null,null,{"$f":"IF(Multimodal=1,\"Low\",IF(Multimodal=2,\"Medium\",\"High\"))","v":"Low"},null,null,null,null,null,null,null,null,null,null,null,{"$f":"IF(Multimodal=1,\"Low\",IF(Multimodal=2,\"Medium\",\"High\"))","v":"Low"},null,null,null,null,null,null,null,null,null,null,null,{"$f":"IF(Multimodal=1,\"Low\",IF(Multimodal=2,\"Medium\",\"High\"))","v":"Low"}]
[]
[null,null,null,null,"Northbound / Crossing South Leg",null,null,null,null,null,null,null,null,null,null,null,null,null,null,null,null,null,{"$f":"IF(Multimodal=1,\"Low\",IF(Multimodal=2,\"Medium\",\"High\"))","v":"Low"},null,null,null,null,null,null,null,null,null,null,null,{"$f":"IF(Multimodal=1,\"Low\",IF(Multimodal=2,\"Medium\",\"High\"))","v":"Low"},null,null,null,null,null,null,null,null,null,null,null,{"$f":"IF(Multimodal=1,\"Low\",IF(Multimodal=2,\"Medium\",\"High\"))","v":"Low"}]
[]
[null,null,null,null,"Critical Lane Volume Threshold",null,null,null,null,null,null,null,null,null,null,null,null,null,null,"2-phase signal",null,null,null,null,null,null,null,null,null,null,null,null,null,null,"Suggested = 1800",null,null,null,null,null,null,null,null,null,null,null,1800]
[]
[null,null,null,null,null,null,null,null,null,null,null,null,null,null,null,null,null,null,null,"3-phase signal",null,null,null,null,null,null,null,null,null,null,null,null,null,null,"Suggested = 1750",null,null,null,null,null,null,null,null,null,null,null,1750]
[]
[null,null,null,null,null,null,null,null,null,null,null,null,null,null,null,null,null,null,null,"4-phase signal",null,null,null,null,null,null,null,null,null,null,null,null,null,null,"Suggested = 1700",null,null,null,null,null,null,null,null,null,null,null,1700]
[]
[]
[]
[null,null,null,null,null,null,null,null,null,null,null,null,"Equivalent Passenger Car Volume",null,null,null,null,null,null,null,null,null,null,null,null,null,null,null,null,null,null,null,null,null,null,null,null,null,null,null,null,null,null,null,null,null,null,null,null,null,null,null,null,{"$f":"IF(W48=\"Low\",1,IF(W48=\"Medium\",2,3))","v":1},{"$f":"IF(AI48=\"Low\",1,IF(AI48=\"Medium\",2,3))","v":1},null,null,null,{"$f":"IF(W46=BH40,1,IF(W46=BH39,1,IF(OR(W46=BH44,W46=BH45),3,IF(W46=BH46,3,2))))","v":1}]
[]
[null,null,null,null,null,null,null,null,null,null,null,null,null,null,null,null,null,null,"Volume (Veh/hr)",null,null,null,null,null,null,null,null,null,null,null,null,null,null,null,null,null,null,null,null,null,null,null,null,null,null,null,null,null,null,null,null,null,null,{"$f":"IF(W50=\"Low\",1,IF(W50=\"Medium\",2,3))","v":1},{"$f":"IF(AI50=\"Low\",1,IF(AI50=\"Medium\",2,3))","v":1}]
[]
[null,null,null,null,null,null,null,null,null,null,null,null,null,null,null,null,null,null,"U-Turn",null,null,null,null,null,null,null,"Left",null,null,null,null,null,null,null,"Thru",null,null,null,null,null,null,null,"Right",null,null,null,null,null,null,null,null,null,null,{"$f":"IF(W52=\"Low\",1,IF(W52=\"Medium\",2,3))","v":1},{"$f":"IF(AI52=\"Low\",1,IF(AI52=\"Medium\",2,3))","v":1}]
[]
[null,null,null,null,null,null,null,null,null,null,null,null,null,null,null,null,null,null,null,null,null,null,null,null,null,null,null,null,null,null,null,null,null,null,null,null,null,null,null,null,null,null,null,null,null,null,null,null,null,null,null,null,null,{"$f":"IF(W54=\"Low\",1,IF(W54=\"Medium\",2,3))","v":1},{"$f":"IF(AI54=\"Low\",1,IF(AI54=\"Medium\",2,3))","v":1}]
[]
[]
[]
[null,null,null,null,null,null,null,null,null,null,null,null,"Eastbound",null,null,null,null,null,{"$f":"+ROUND((K32*(1-EB_Truck_Percentage) +K32* EB_Truck_Percentage*Truck_Adjustment_Factor)*(1+EB_Growth_Factor),0)","v":0},null,null,null,null,null,null,null,{"$f":"+ROUND((S32*(1-WB_Truck_Percentage) +S32* WB_Truck_Percentage*Truck_Adjustment_Factor)*(1+WB_Growth_Factor),0)","v":31},null,null,null,null,null,null,null,{"$f":"+ROUND((AA32*(1-EB_Truck_Percentage) +AA32* EB_Truck_Percentage*Truck_Adjustment_Factor)*(1+EB_Growth_Factor),0)","v":204},null,null,null,null,null,null,null,{"$f":"+ROUND((AI32*(1-WB_Truck_Percentage) +AI32* WB_Truck_Percentage*Truck_Adjustment_Factor)*(1+WB_Growth_Factor),0)","v":51}]
[]
[null,null,null,null,null,null,null,null,null,null,null,null,"Westbound",null,null,null,null,null,{"$f":"+ROUND((K34*(1-WB_Truck_Percentage) +K34*WB_Truck_Percentage*Truck_Adjustment_Factor)*(1+WB_Growth_Factor),0)","v":0},null,null,null,null,null,null,null,{"$f":"+ROUND((S34*(1-WB_Truck_Percentage) +S34* WB_Truck_Percentage*Truck_Adjustment_Factor)*(1+WB_Growth_Factor),0)","v":31},null,null,null,null,null,null,null,{"$f":"+ROUND((AA34*(1-WB_Truck_Percentage) +AA34* WB_Truck_Percentage*Truck_Adjustment_Factor)*(1+WB_Growth_Factor),0)","v":204},null,null,null,null,null,null,null,{"$f":"+ROUND((AI34*(1-WB_Truck_Percentage) +AI34* WB_Truck_Percentage*Truck_Adjustment_Factor)*(1+WB_Growth_Factor),0)","v":51}]
[]
[null,null,null,null,null,null,null,null,null,null,null,null,"Southbound",null,null,null,null,null,{"$f":"+ROUND((K36*(1-SB_Truck_Percentage) +K36* SB_Truck_Percentage*Truck_Adjustment_Factor)*(1+SB_Growth_Factor),0)","v":0},null,null,null,null,null,null,null,{"$f":"+ROUND((S36*(1-SB_Truck_Percentage) +S36* SB_Truck_Percentage*Truck_Adjustment_Factor)*(1+SB_Growth_Factor),0)","v":102},null,null,null,null,null,null,null,{"$f":"+ROUND((AA36*(1-SB_Truck_Percentage) +AA36* SB_Truck_Percentage*Truck_Adjustment_Factor)*(1+SB_Growth_Factor),0)","v":510},null,null,null,null,null,null,null,{"$f":"+ROUND((AI36*(1-SB_Truck_Percentage) +AI36* SB_Truck_Percentage*Truck_Adjustment_Factor)*(1+SB_Growth_Factor),0)","v":204}]
[]
[null,null,null,null,null,null,null,null,null,null,null,null,"Northbound",null,null,null,null,null,{"$f":"+ROUND((K38*(1-NB_Truck_Percentage) +K38* NB_Truck_Percentage*Truck_Adjustment_Factor)*(1+NB_Growth_Factor),0)","v":0},null,null,null,null,null,null,null,{"$f":"+ROUND((S38*(1-NB_Truck_Percentage) +S38* NB_Truck_Percentage*Truck_Adjustment_Factor)*(1+NB_Growth_Factor),0)","v":102},null,null,null,null,null,null,null,{"$f":"+ROUND((AA38*(1-NB_Truck_Percentage) +AA38* NB_Truck_Percentage*Truck_Adjustment_Factor)*(1+NB_Growth_Factor),0)","v":510},null,null,null,null,null,null,null,{"$f":"+ROUND((AI38*(1-NB_Truck_Percentage) +AI38* NB_Truck_Percentage*Truck_Adjustment_Factor)*(1+NB_Growth_Factor),0)","v":204}]
[]
[]
[]
[]
[null,null,null,null,"Notes: "]
[null,null,null,null,"Left-Turn Adjustment Factor",null,null,null,null,null,null,null,null,null,null,null,null,null,null,null,null,null,"Conversion of left-turning vehicles to equivalent through vehicles"]
[null,null,null,null,"Right-turn Adjustment Factor",null,null,null,null,null,null,null,null,null,null,null,null,null,null,null,null,null,"Conversion of right-turning vehicles to equivalent through vehicles"]
[null,null,null,null,"U-turn Adjustment Factor",null,null,null,null,null,null,null,null,null,null,null,null,null,null,null,null,null,"Conversion of U-turning vehicles to equivalent through vehicles"]
[null,null,null,null,"Truck to PCE Factor ",null,null,null,null,null,null,null,null,null,null,null,null,null,null,null,null,null,"1 truck = X Passenger Car Equivalents"]
[null,null,null,null,"Critical Lane Volume Sum Limit",null,null,null,null,null,null,null,null,null,null,null,null,null,null,null,null,null,"Saturation Value for Critical Lane Volume Sum at an intersection"]

{"sheet":"2 - Base and Alt Sel","index":3,"n_rows":77,"n_cols":99,"rows_kept":77,"cut":false,"hidden":false,"merged":[[70,3,70,32],[70,33,70,38],[70,39,70,57],[71,3,71,32],[71,33,71,38],[71,39,71,57],[68,3,68,32],[68,33,68,38],[68,39,68,57],[69,3,69,32],[69,33,69,38],[69,39,69,57],[74,3,74,32],[74,33,74,38],[74,39,74,57],[76,0,78,60],[72,3,72,32],[72,33,72,38],[72,39,72,57],[73,3,73,32],[73,33,73,38],[73,39,73,57],[66,3,66,32],[66,33,66,38],[66,39,66,57],[67,3,67,32],[67,33,67,38],[67,39,67,57],[64,3,64,32],[64,33,64,38],[64,39,64,57],[65,3,65,32],[65,33,65,38],[65,39,65,57],[62,3,62,32],[62,33,62,38],[62,39,62,57],[63,3,63,32],[63,33,63,38],[63,39,63,57],[60,3,60,32],[60,33,60,38],[60,39,60,57],[61,3,61,32],[61,33,61,38],[61,39,61,57],[57,3,57,32],[57,33,57,38],[57,39,57,57],[59,3,59,32],[59,33,59,38],[59,39,59,57],[55,3,55,32],[55,33,55,38],[55,39,55,57],[56,3,56,32],[56,33,56,38],[56,39,56,57],[58,3,58,32],[58,33,58,38],[58,39,58,57],[50,3,50,32],[50,33,50,38],[50,39,50,57],[51,33,51,38],[51,39,51,57],[46,3,46,32],[46,33,46,38],[46,39,46,57],[47,3,47,32],[47,33,47,38],[47,39,47,57],[48,3,48,32],[48,33,48,38],[48,39,48,57],[49,3,49,32],[49,33,49,38],[49,39,49,57],[51,3,54,26],[51,27,51,32],[52,27,52,32],[53,27,53,32],[54,27,54,32],[52,33,52,38],[52,39,52,57],[42,0,43,60],[45,3,45,32],[45,33,45,38],[45,39,45,57],[34,40,35,42],[34,43,35,45],[34,46,35,48],[34,49,35,51],[37,3,38,57],[39,3,40,8],[39,9,40,15],[39,16,40,24],[39,25,40,29],[39,30,40,38],[34,16,35,21],[34,22,35,24],[34,25,35,27],[34,28,35,30],[34,31,35,33],[34,34,35,36],[34,37,35,39],[34,52,35,54],[34,55,35,57],[30,46,31,51],[32,22,33,24],[32,25,33,27],[32,46,33,48],[32,49,33,51],[32,40,33,42],[32,43,33,45],[30,3,33,15],[39,39,40,43],[39,44,40,52],[34,3,35,15],[30,52,31,57],[32,52,33,54],[32,55,33,57],[32,28,33,30],[32,31,33,33],[32,34,33,36],[32,37,33,39],[39,53,40,57],[25,50,26,51],[25,52,26,53],[25,54,26,55],[25,56,26,57],[25,34,26,35],[25,36,26,37],[25,38,26,39],[25,40,26,41],[25,42,26,43],[25,44,26,45],[25,48,26,49],[28,3,29,57],[30,16,33,21],[30,22,31,27],[30,28,31,33],[30,34,31,39],[30,40,31,45],[23,46,24,47],[23,48,24,49],[25,3,26,19],[25,20,26,25],[25,26,26,27],[25,28,26,29],[25,30,26,31],[25,32,26,33],[23,38,24,39],[23,40,24,41],[23,42,24,43],[23,26,24,27],[23,28,24,29],[23,30,24,31],[23,32,24,33],[23,34,24,35],[23,36,24,37],[25,46,26,47],[53,33,53,38],[53,39,53,57],[54,33,54,38],[54,39,54,57],[0,87,1,88],[0,89,1,90],[0,91,1,92],[0,93,1,94],[0,95,2,95],[11,11,12,57],[16,3,17,32],[16,33,17,57],[19,3,20,57],[21,3,24,19],[21,20,24,25],[21,26,22,33],[21,34,22,41],[21,42,22,49],[21,50,22,57],[23,50,24,51],[23,52,24,53],[23,54,24,55],[23,56,24,57],[23,44,24,45],[0,96,2,96],[0,97,2,97],[0,98,2,98],[13,3,14,10],[13,11,14,57],[0,67,1,70],[0,71,1,74],[0,75,1,78],[0,79,1,82],[0,83,1,84],[0,85,1,86],[0,0,1,60],[2,0,3,60],[5,3,6,10],[5,11,6,57],[7,3,8,10],[7,11,8,57],[9,3,10,10],[9,11,10,57],[11,3,12,10]]}
["Capacity Analysis for Planning of Junctions\n\nCapacity Analysis for Planning of Junctions",null,null,null,null,null,null,null,null,null,null,null,null,null,null,null,null,null,null,null,null,null,null,null,null,null,null,null,null,null,null,null,null,null,null,null,null,null,null,null,null,null,null,null,null,null,null,null,null,null,null,null,null,null,null,null,null,null,null,null,null,null,null,"Major Str Offset",null,{"$f":"IF($L$14='1 - Volume Input'!$BG$18,0,2)","v":2},null,"NB Lanes",null,null,null,"SB Lanes",null,null,null,"EB Lanes",null,null,null,"WB Lanes",null,null,null,"Zone 1",null,"Zone 2",null,"Zone 3",null,"Zone 4",null,"Zone 5",null,"Zone 6",null,"Overall V/C","Ped Accom.","Bike Accom.","Transit Accom."]
[]
["Step 2A: Base Conditions Analysis",null,null,null,null,null,null,null,null,null,null,null,null,null,null,null,null,null,null,null,null,null,null,null,null,null,null,null,null,null,null,null,null,null,null,null,null,null,null,null,null,null,null,null,null,null,null,null,null,null,null,null,null,null,null,null,null,null,null,null,null,null,null,"Existing Intx List:",null,"No Lanes","Outputs","U","L","T","R","U","L","T","R","U","L","T","R","U","L","T","R","CLV","VC","CLV","VC","CLV","VC","CLV","VC","CLV","VC","CLV","VC"]
[null,null,null,null,null,null,null,null,null,null,null,null,null,null,null,null,null,null,null,null,null,null,null,null,null,null,null,null,null,null,null,null,null,null,null,null,null,null,null,null,null,null,null,null,null,null,null,null,null,null,null,null,null,null,null,null,null,null,null,null,null,null,null,{"$f":"'3 - Alt Num Lanes Input'!E24","v":"Traffic Signal"},null,{"$f":"24","v":24},{"$f":"24","v":24},{"$f":"INDIRECT(\"'3 - Alt Num Lanes Input'!AA\"&$BN4)","v":0},{"$f":"INDIRECT(\"'3 - Alt Num Lanes Input'!AC\"&$BN4)","v":1},{"$f":"INDIRECT(\"'3 - Alt Num Lanes Input'!AE\"&$BN4)","v":2},{"$f":"INDIRECT(\"'3 - Alt Num Lanes Input'!AG\"&$BN4)","v":1},{"$f":"INDIRECT(\"'3 - Alt Num Lanes Input'!AI\"&$BN4)","v":0},{"$f":"INDIRECT(\"'3 - Alt Num Lanes Input'!AK\"&$BN4)","v":1},{"$f":"INDIRECT(\"'3 - Alt Num Lanes Input'!AM\"&$BN4)","v":2},{"$f":"INDIRECT(\"'3 - Alt Num Lanes Input'!AO\"&$BN4)","v":1},{"$f":"INDIRECT(\"'3 - Alt Num Lanes Input'!AQ\"&$BN4)","v":0},{"$f":"INDIRECT(\"'3 - Alt Num Lanes Input'!AS\"&$BN4)","v":1},{"$f":"INDIRECT(\"'3 - Alt Num Lanes Input'!AU\"&$BN4)","v":2},{"$f":"INDIRECT(\"'3 - Alt Num Lanes Input'!AW\"&$BN4)","v":1},{"$f":"INDIRECT(\"'3 - Alt Num Lanes Input'!AY\"&$BN4)","v":0},{"$f":"INDIRECT(\"'3 - Alt Num Lanes Input'!BA\"&$BN4)","v":1},{"$f":"INDIRECT(\"'3 - Alt Num Lanes Input'!BC\"&$BN4)","v":2},{"$f":"INDIRECT(\"'3 - Alt Num Lanes Input'!BE\"&$BN4)","v":1},{"$f":"INDIRECT(\"'4a - Detailed Results'!AD\"&$BO4)","v":0},{"$f":"INDIRECT(\"'4a - Detailed Results'!AG\"&$BO4)","v":0},{"$f":"INDIRECT(\"'4a - Detailed Results'!AJ\"&$BO4)","v":0},{"$f":"INDIRECT(\"'4a - Detailed Results'!AM\"&$BO4)","v":0},{"$f":"INDIRECT(\"'4a - Detailed Results'!AP\"&$BO4)","v":0},{"$f":"INDIRECT(\"'4a - Detailed Results'!AS\"&$BO4)","v":0},{"$f":"INDIRECT(\"'4a - Detailed Results'!AV\"&$BO4)","v":0},{"$f":"INDIRECT(\"'4a - Detailed Results'!AY\"&$BO4)","v":0},{"$f":"INDIRECT(\"'4a - Detailed Results'!BB\"&$BO4)","v":502.6509695290859},{"$f":"INDIRECT(\"'4a - Detailed Results'!BE\"&$BO4)","v":0.3},0,0,{"$f":"INDIRECT(\"'4a - Detailed Results'!BH\"&$BO4)","v":0.3},{"$f":"INDIRECT(\"'4a - Detailed Results'!BO\"&$BO4)","v":"Good"},{"$f":"INDIRECT(\"'4a - Detailed Results'!BS\"&$BO4)","v":"Good"},{"$f":"INDIRECT(\"'4a - Detailed Results'!BW\"&$BO4)","v":"Excellent"}]
[null,null,null,null,null,null,null,null,null,null,null,null,null,null,null,null,null,null,null,null,null,null,null,null,null,null,null,null,null,null,null,null,null,null,null,null,null,null,null,null,null,null,null,null,null,null,null,null,null,null,null,null,null,null,null,null,null,null,null,null,null,null,null,{"$f":"'3 - Alt Num Lanes Input'!E28","v":"Two-Way Stop Control"},null,{"$f":"28 +$BN$1","v":30},{"$f":"28 +$BN$1","v":30},{"$f":"INDIRECT(\"'3 - Alt Num Lanes Input'!AA\"&$BN5)","v":0},{"$f":"INDIRECT(\"'3 - Alt Num Lanes Input'!AC\"&$BN5)","v":1},{"$f":"INDIRECT(\"'3 - Alt Num Lanes Input'!AE\"&$BN5)","v":2},{"$f":"INDIRECT(\"'3 - Alt Num Lanes Input'!AG\"&$BN5)","v":1},{"$f":"INDIRECT(\"'3 - Alt Num Lanes Input'!AI\"&$BN5)","v":0},{"$f":"INDIRECT(\"'3 - Alt Num Lanes Input'!AK\"&$BN5)","v":1},{"$f":"INDIRECT(\"'3 - Alt Num Lanes Input'!AM\"&$BN5)","v":2},{"$f":"INDIRECT(\"'3 - Alt Num Lanes Input'!AO\"&$BN5)","v":1},{"$f":"INDIRECT(\"'3 - Alt Num Lanes Input'!AQ\"&$BN5)","v":0},{"$f":"INDIRECT(\"'3 - Alt Num Lanes Input'!AS\"&$BN5)","v":1},{"$f":"INDIRECT(\"'3 - Alt Num Lanes Input'!AU\"&$BN5)","v":2},{"$f":"INDIRECT(\"'3 - Alt Num Lanes Input'!AW\"&$BN5)","v":1},{"$f":"INDIRECT(\"'3 - Alt Num Lanes Input'!AY\"&$BN5)","v":0},{"$f":"INDIRECT(\"'3 - Alt Num Lanes Input'!BA\"&$BN5)","v":1},{"$f":"INDIRECT(\"'3 - Alt Num Lanes Input'!BC\"&$BN5)","v":2},{"$f":"INDIRECT(\"'3 - Alt Num Lanes Input'!BE\"&$BN5)","v":1},{"$f":"INDIRECT(\"'4a - Detailed Results'!AD\"&$BO5)","v":0},{"$f":"INDIRECT(\"'4a - Detailed Results'!AG\"&$BO5)","v":0},{"$f":"INDIRECT(\"'4a - Detailed Results'!AJ\"&$BO5)","v":0},{"$f":"INDIRECT(\"'4a - Detailed Results'!AM\"&$BO5)","v":0},{"$f":"INDIRECT(\"'4a - Detailed Results'!AP\"&$BO5)","v":0},{"$f":"INDIRECT(\"'4a - Detailed Results'!AS\"&$BO5)","v":0},{"$f":"INDIRECT(\"'4a - Detailed Results'!AV\"&$BO5)","v":0},{"$f":"INDIRECT(\"'4a - Detailed Results'!AY\"&$BO5)","v":0},{"$f":"INDIRECT(\"'4a - Detailed Results'!BB\"&$BO5)","v":"--"},{"$f":"INDIRECT(\"'4a - Detailed Results'!BE\"&$BO5)","v":1.3097947217873753},0,0,{"$f":"INDIRECT(\"'4a - Detailed Results'!BH\"&$BO5)","v":1.3097947217873753},{"$f":"INDIRECT(\"'4a - Detailed Results'!BO\"&$BO5)","v":"Fair"},{"$f":"INDIRECT(\"'4a - Detailed Results'!BS\"&$BO5)","v":"Good"},{"$f":"INDIRECT(\"'4a - Detailed Results'!BW\"&$BO5)","v":"Excellent"}]
[null,null,null,"Project Name:",null,null,null,null,null,null,null,{"$f":"'1 - Volume Input'!M8","v":"Cap-X Sample Street"},null,null,null,null,null,null,null,null,null,null,null,null,null,null,null,null,null,null,null,null,null,null,null,null,null,null,null,null,null,null,null,null,null,null,null,null,null,null,null,null,null,null,null,null,null,null,null,null,null,null,null,{"$f":"'3 - Alt Num Lanes Input'!E32","v":"All-Way Stop Control"},null,{"$f":"32","v":32},{"$f":"32","v":32},0,1,2,1,0,1,2,1,0,1,2,1,0,1,2,1,0,0,0,0,0,0,0,0,2204,1.22,0,0,1.22,"Excellent","Excellent","Excellent"]
[null,null,null,null,null,null,null,null,null,null,null,null,null,null,null,null,null,null,null,null,null,null,null,null,null,null,null,null,null,null,null,null,null,null,null,null,null,null,null,null,null,null,null,null,null,null,null,null,null,null,null,null,null,null,null,null,null,null,null,null,null,null,null,"1x1 Roundabout",null,{"$f":"-1","v":-1},91,"--","--","--","--","--","--","--","--","--","--","--","--","--","--","--","--",{"$f":"INDIRECT(\"'4a - Detailed Results'!L\"&$BO7)","v":0.83386444718295072},{"$f":"INDIRECT(\"'4a - Detailed Results'!P\"&$BO7)","v":0},{"$f":"INDIRECT(\"'4a - Detailed Results'!T\"&$BO7)","v":0},{"$f":"INDIRECT(\"'4a - Detailed Results'!X\"&$BO7)","v":0.39932208093482385},{"$f":"INDIRECT(\"'4a - Detailed Results'!AB\"&$BO7)","v":0},{"$f":"INDIRECT(\"'4a - Detailed Results'!AF\"&$BO7)","v":0},{"$f":"INDIRECT(\"'4a - Detailed Results'!AJ\"&$BO7)","v":0.83386444718295072},{"$f":"INDIRECT(\"'4a - Detailed Results'!AN\"&$BO7)","v":0},{"$f":"INDIRECT(\"'4a - Detailed Results'!AR\"&$BO7)","v":0},{"$f":"INDIRECT(\"'4a - Detailed Results'!AV\"&$BO7)","v":0.39932208093482385},{"$f":"INDIRECT(\"'4a - Detailed Results'!AZ\"&$BO7)","v":0},{"$f":"INDIRECT(\"'4a - Detailed Results'!BD\"&$BO7)","v":0},0.83386444718295072,"Excellent","Excellent","Excellent"]
[null,null,null,"Project Number:",null,null,null,null,null,null,null,{"$f":"'1 - Volume Input'!M10","v":10000},null,null,null,null,null,null,null,null,null,null,null,null,null,null,null,null,null,null,null,null,null,null,null,null,null,null,null,null,null,null,null,null,null,null,null,null,null,null,null,null,null,null,null,null,null,null,null,null,null,null,null,"1x2 Roundabout",null,-1,{"$f":"93 +$BN$1","v":95},"--","--","--","--","--","--","--","--","--","--","--","--","--","--","--","--",{"$f":"INDIRECT(\"'4a - Detailed Results'!L\"&$BO8)","v":0.38734941942391848},{"$f":"INDIRECT(\"'4a - Detailed Results'!P\"&$BO8)","v":0.40558448960014193},{"$f":"INDIRECT(\"'4a - Detailed Results'!T\"&$BO8)","v":0},{"$f":"INDIRECT(\"'4a - Detailed Results'!X\"&$BO8)","v":0.34788951342532187},{"$f":"INDIRECT(\"'4a - Detailed Results'!AB\"&$BO8)","v":0},{"$f":"INDIRECT(\"'4a - Detailed Results'!AF\"&$BO8)","v":0},{"$f":"INDIRECT(\"'4a - Detailed Results'!AJ\"&$BO8)","v":0.38734941942391848},{"$f":"INDIRECT(\"'4a - Detailed Results'!AN\"&$BO8)","v":0.40558448960014193},{"$f":"INDIRECT(\"'4a - Detailed Results'!AR\"&$BO8)","v":0},{"$f":"INDIRECT(\"'4a - Detailed Results'!AV\"&$BO8)","v":0.34788951342532187},{"$f":"INDIRECT(\"'4a - Detailed Results'!AZ\"&$BO8)","v":0},{"$f":"INDIRECT(\"'4a - Detailed Results'!BD\"&$BO8)","v":0},0.40558448960014193,"Good","Excellent","Excellent"]
[null,null,null,null,null,null,null,null,null,null,null,null,null,null,null,null,null,null,null,null,null,null,null,null,null,null,null,null,null,null,null,null,null,null,null,null,null,null,null,null,null,null,null,null,null,null,null,null,null,null,null,null,null,null,null,null,null,null,null,null,null,null,null,"2x2 Roundabout",null,-1,97,"--","--","--","--","--","--","--","--","--","--","--","--","--","--","--","--",0.38734941942391848,0.40558448960014193,0,0.17990422646463175,0.18438144211542062,0,0.38734941942391848,0.40558448960014193,0,0.17990422646463175,0.18438144211542062,0,0.40558448960014193,"Good","Excellent","Excellent"]
[null,null,null,"Location:",null,null,null,null,null,null,null,{"$f":"'1 - Volume Input'!M12","v":"Tallahassee, FL"},null,null,null,null,null,null,null,null,null,null,null,null,null,null,null,null,null,null,null,null,null,null,null,null,null,null,null,null,null,null,null,null,null,null,null,null,null,null,null,null,null,null,null,null,null,null,null,null,null,null,null,"Traditional Diamond",null,{"$f":"87 +(2-$BN$1)","v":87},{"$f":"108 +(2-$BN$1)","v":108},0,1,2,1,0,1,2,1,0,1,2,1,0,1,2,1,{"$f":"INDIRECT(\"'4a - Detailed Results'!X\"&$BO10)","v":0},{"$f":"INDIRECT(\"'4a - Detailed Results'!AA\"&$BO10)","v":0},{"$f":"INDIRECT(\"'4a - Detailed Results'!AD\"&$BO10)","v":0},{"$f":"INDIRECT(\"'4a - Detailed Results'!AG\"&$BO10)","v":0},{"$f":"INDIRECT(\"'4a - Detailed Results'!AJ\"&$BO10)","v":503.15789473684208},{"$f":"INDIRECT(\"'4a - Detailed Results'!AM\"&$BO10)","v":0.28999999999999998},{"$f":"INDIRECT(\"'4a - Detailed Results'!AP\"&$BO10)","v":520.73684210526312},{"$f":"INDIRECT(\"'4a - Detailed Results'!AS\"&$BO10)","v":0.3},{"$f":"INDIRECT(\"'4a - Detailed Results'!AV\"&$BO10)","v":0},{"$f":"INDIRECT(\"'4a - Detailed Results'!AY\"&$BO10)","v":0},{"$f":"INDIRECT(\"'4a - Detailed Results'!BB\"&$BO10)","v":0},{"$f":"INDIRECT(\"'4a - Detailed Results'!BE\"&$BO10)","v":0},0.3,"Good","Good","Excellent"]
[null,null,null,null,null,null,null,null,null,null,null,null,null,null,null,null,null,null,null,null,null,null,null,null,null,null,null,null,null,null,null,null,null,null,null,null,null,null,null,null,null,null,null,null,null,null,null,null,null,null,null,null,null,null,null,null,null,null,null,null,null,null,null,"Partial Cloverleaf A",null,{"$f":"91 +(2-$BN$1)","v":91},{"$f":"112 +(2-$BN$1)","v":112},0,0,2,0,0,0,2,0,0,1,0,1,0,1,0,1,{"$f":"INDIRECT(\"'4a - Detailed Results'!X\"&$BO11)","v":0},{"$f":"INDIRECT(\"'4a - Detailed Results'!AA\"&$BO11)","v":0},{"$f":"INDIRECT(\"'4a - Detailed Results'!AD\"&$BO11)","v":0},{"$f":"INDIRECT(\"'4a - Detailed Results'!AG\"&$BO11)","v":0},{"$f":"INDIRECT(\"'4a - Detailed Results'!AJ\"&$BO11)","v":338.63157894736844},{"$f":"INDIRECT(\"'4a - Detailed Results'!AM\"&$BO11)","v":0.19},{"$f":"INDIRECT(\"'4a - Detailed Results'!AP\"&$BO11)","v":338.63157894736844},{"$f":"INDIRECT(\"'4a - Detailed Results'!AS\"&$BO11)","v":0.19},{"$f":"INDIRECT(\"'4a - Detailed Results'!AV\"&$BO11)","v":0},{"$f":"INDIRECT(\"'4a - Detailed Results'!AY\"&$BO11)","v":0},{"$f":"INDIRECT(\"'4a - Detailed Results'!BB\"&$BO11)","v":0},{"$f":"INDIRECT(\"'4a - Detailed Results'!BE\"&$BO11)","v":0},0.19,"Fair","Fair","Excellent"]
[null,null,null,"Date:",null,null,null,null,null,null,null,{"$f":"'1 - Volume Input'!M14","v":"2017 AM"},null,null,null,null,null,null,null,null,null,null,null,null,null,null,null,null,null,null,null,null,null,null,null,null,null,null,null,null,null,null,null,null,null,null,null,null,null,null,null,null,null,null,null,null,null,null,null,null,null,null,null,"Partial Cloverleaf B",null,{"$f":"95 +(2-$BN$1)","v":95},{"$f":"116 +(2-$BN$1)","v":116},0,1,2,1,0,1,2,1,0,1,0,1,0,1,0,1,0,0,0,0,413.36842105263156,0.23,413.36842105263156,0.23,0,0,0,0,0.23,"Fair","Fair","Excellent"]
[null,null,null,null,null,null,null,null,null,null,null,null,null,null,null,null,null,null,null,null,null,null,null,null,null,null,null,null,null,null,null,null,null,null,null,null,null,null,null,null,null,null,null,null,null,null,null,null,null,null,null,null,null,null,null,null,null,null,null,null,null,null,null,"*Will likely want note that existing lanes needs to be configured in step 3"]
[null,null,null,{"$f":"IF(Input_NumLegs = 3,'1 - Volume Input'!E20, '1 - Volume Input'!E18)","v":"Major Street Direction"},null,null,null,null,null,null,null,{"$f":"IF(Input_NumLegs = 3, Input_MinorStreetLeg, '1 - Volume Input'!M18)","v":"East-West"}]
[]
[]
[null,null,null,"Existing Intersection Configuration",null,null,null,null,null,null,null,null,null,null,null,null,null,null,null,null,null,null,null,null,null,null,null,null,null,null,null,null,null,"Traffic Signal"]
[]
[]
[null,null,null,"Number of Lanes for Existing Configuration\n(Can be edited in \"3- Alt Num Lanes Input\" as needed)"]
[]
[null,null,null,"TYPE OF INTERSECTION",null,null,null,null,null,null,null,null,null,null,null,null,null,null,null,null,"Sheet",null,null,null,null,null,"Northbound",null,null,null,null,null,null,null,"Southbound",null,null,null,null,null,null,null,"Eastbound",null,null,null,null,null,null,null,"Westbound"]
[]
[null,null,null,null,null,null,null,null,null,null,null,null,null,null,null,null,null,null,null,null,null,null,null,null,null,null,"U",null,"L",null,"T",null,"R",null,"U",null,"L",null,"T",null,"R",null,"U",null,"L",null,"T",null,"R",null,"U",null,"L",null,"T",null,"R"]
[]
[null,null,null,{"$f":"AH17","v":"Traffic Signal"},null,null,null,null,null,null,null,null,null,null,null,null,null,null,null,null,{"$f":"IF(VLOOKUP(AH17,$BL$4:$BO$12,3,FALSE)>0,INDIRECT(\"'3 - Alt Num Lanes Input'!V\"&VLOOKUP(AH17,$BL$4:$BO$12,3,FALSE)),INDIRECT(\"'4a - Detailed Results'!E\"&VLOOKUP(AH17,$BL$4:$BO$12,4,FALSE)))","v":"FULL"},null,null,null,null,null,null,null,{"$f":"VLOOKUP($AH$17,$BL$4:$CE$12,6,FALSE)","v":1},null,{"$f":"VLOOKUP($AH$17,$BL$4:$CE$12,7,FALSE)","v":2},null,{"$f":"VLOOKUP($AH$17,$BL$4:$CE$12,8,FALSE)","v":1},null,null,null,{"$f":"VLOOKUP($AH$17,$BL$4:$CE$12,10,FALSE)","v":1},null,{"$f":"VLOOKUP($AH$17,$BL$4:$CE$12,11,FALSE)","v":2},null,{"$f":"VLOOKUP($AH$17,$BL$4:$CE$12,12,FALSE)","v":1},null,null,null,{"$f":"VLOOKUP($AH$17,$BL$4:$CE$12,14,FALSE)","v":1},null,{"$f":"VLOOKUP($AH$17,$BL$4:$CE$12,15,FALSE)","v":2},null,{"$f":"VLOOKUP($AH$17,$BL$4:$CE$12,16,FALSE)","v":1},null,null,null,{"$f":"VLOOKUP($AH$17,$BL$4:$CE$12,18,FALSE)","v":1},null,{"$f":"VLOOKUP($AH$17,$BL$4:$CE$12,19,FALSE)","v":2},null,{"$f":"VLOOKUP($AH$17,$BL$4:$CE$12,20,FALSE)","v":1}]
[]
[]
[null,null,null,"Results for Existing Configuration"]
[]
[null,null,null,"TYPE OF INTERSECTION",null,null,null,null,null,null,null,null,null,null,null,null,"Sheet",null,null,null,null,null,{"$f":"IF($C$35=1,'4a - Detailed Results'!AD20,IF($C$35=2,'4a - Detailed Results'!L83,'4a - Detailed Results'!X104))","v":"Zone 1 (North)"},null,null,null,null,null,{"$f":"IF($C$35=1,'4a - Detailed Results'!AJ20,IF($C$35=2,'4a - Detailed Results'!X83,'4a - Detailed Results'!AD104))","v":"Zone 2 (South)"},null,null,null,null,null,{"$f":"IF($C$35=1,'4a - Detailed Results'!AP20,IF($C$35=2,'4a - Detailed Results'!AJ83,'4a - Detailed Results'!AJ104))","v":"Zone 3 (East)"},null,null,null,null,null,{"$f":"IF($C$35=1,'4a - Detailed Results'!AV20,IF($C$35=2,'4a - Detailed Results'!AV83,'4a - Detailed Results'!AP104))","v":"Zone 4 (West)"},null,null,null,null,null,{"$f":"IF($C$35=1,'4a - Detailed Results'!BB20,IF($C$35=2,\"\",'4a - Detailed Results'!AV104))","v":"Zone 5 (Center) "},null,null,null,null,null,{"$f":"IF($C$35=1,\"\",IF($C$35=2,\"\",'4a - Detailed Results'!BB104))","v":""}]
[]
[null,null,null,null,null,null,null,null,null,null,null,null,null,null,null,null,null,null,null,null,null,null,{"$f":"IF(W31<>\"\",IF($C$35=2,\"V/C\",\"CLV\"),\"\")","v":"CLV"},null,null,{"$f":"IF(W31<>\"\",\"V/C\",\"\")","v":"V/C"},null,null,{"$f":"IF(AC31<>\"\",IF($C$35=2,\"V/C\",\"CLV\"),\"\")","v":"CLV"},null,null,{"$f":"IF(AC31<>\"\",\"V/C\",\"\")","v":"V/C"},null,null,{"$f":"IF(AI31<>\"\",IF($C$35=2,\"V/C\",\"CLV\"),\"\")","v":"CLV"},null,null,{"$f":"IF(AI31<>\"\",\"V/C\",\"\")","v":"V/C"},null,null,{"$f":"IF(AO31<>\"\",IF($C$35=2,\"V/C\",\"CLV\"),\"\")","v":"CLV"},null,null,{"$f":"IF(AO31<>\"\",\"V/C\",\"\")","v":"V/C"},null,null,{"$f":"IF(AU31<>\"\",\"CLV\",\"\")","v":"CLV"},null,null,{"$f":"IF(AU31<>\"\",\"V/C\",\"\")","v":"V/C"},null,null,{"$f":"IF(BA31<>\"\",\"CLV\",\"\")","v":""},null,null,{"$f":"IF(BA31<>\"\",\"V/C\",\"\")","v":""}]
[]
[null,null,{"$f":"IF(VLOOKUP(AH17,$BL$4:$BO$12,3,FALSE)<0,2,IF(VLOOKUP(AH17,$BL$4:$BO$12,3,FALSE)>80,3,1))","v":1},{"$f":"AH17","v":"Traffic Signal"},null,null,null,null,null,null,null,null,null,null,null,null,{"$f":"IF(VLOOKUP(AH17,$BL$4:$BO$12,3,FALSE)>0,INDIRECT(\"'3 - Alt Num Lanes Input'!V\"&VLOOKUP(AH17,$BL$4:$BO$12,3,FALSE)),INDIRECT(\"'4a - Detailed Results'!E\"&VLOOKUP(AH17,$BL$4:$BO$12,4,FALSE)))","v":"FULL"},null,null,null,null,null,{"$f":"VLOOKUP($AH$17,$BL$4:$CQ$12,21,FALSE)","v":0},null,null,{"$f":"VLOOKUP($AH$17,$BL$4:$CQ$12,22,FALSE)","v":0},null,null,{"$f":"IF($C$35<>2,VLOOKUP($AH$17,$BL$4:$CQ$12,23,FALSE),VLOOKUP($AH$17,$BL$4:$CQ$12,24,FALSE))","v":0},null,null,{"$f":"IF($C$35<>2,VLOOKUP($AH$17,$BL$4:$CQ$12,24,FALSE),VLOOKUP($AH$17,$BL$4:$CQ$12,25,FALSE))","v":0},null,null,{"$f":"IF($C$35<>2,VLOOKUP($AH$17,$BL$4:$CQ$12,25,FALSE),VLOOKUP($AH$17,$BL$4:$CQ$12,27,FALSE))","v":0},null,null,{"$f":"IF($C$35<>2,VLOOKUP($AH$17,$BL$4:$CQ$12,26,FALSE),VLOOKUP($AH$17,$BL$4:$CQ$12,28,FALSE))","v":0},null,null,{"$f":"IF($C$35<>2,VLOOKUP($AH$17,$BL$4:$CQ$12,27,FALSE),VLOOKUP($AH$17,$BL$4:$CQ$12,30,FALSE))","v":0},null,null,{"$f":"IF($C$35<>2,VLOOKUP($AH$17,$BL$4:$CQ$12,28,FALSE),VLOOKUP($AH$17,$BL$4:$CQ$12,31,FALSE))","v":0},null,null,{"$f":"IF($C$35<>2,VLOOKUP($AH$17,$BL$4:$CQ$12,29,FALSE),0)","v":502.6509695290859},null,null,{"$f":"IF($C$35<>2,VLOOKUP($AH$17,$BL$4:$CQ$12,30,FALSE),0)","v":0.3},null,null,{"$f":"IF($C$35<>2,VLOOKUP($AH$17,$BL$4:$CQ$12,31,FALSE),0)","v":0},null,null,{"$f":"IF($C$35<>2,VLOOKUP($AH$17,$BL$4:$CQ$12,32,FALSE),0)","v":0}]
[]
[]
[null,null,null,"Existing Configuration Results"]
[]
[null,null,null,"Overall v/c Ratio ",null,null,null,null,null,{"$f":"VLOOKUP($AH$17,$BL$4:$CU$12,33,FALSE)","v":0.3},null,null,null,null,null,null,"Pedestrian Accommodation",null,null,null,null,null,null,null,null,{"$f":"VLOOKUP($AH$17,$BL$4:$CU$12,34,FALSE)","v":"Good"},null,null,null,null,"Bicycle Accommodation",null,null,null,null,null,null,null,null,{"$f":"VLOOKUP($AH$17,$BL$4:$CU$12,35,FALSE)","v":"Good"},null,null,null,null,"Transit Accommodation",null,null,null,null,null,null,null,null,{"$f":"VLOOKUP($AH$17,$BL$4:$CU$12,36,FALSE)","v":"Excellent"}]
[]
[]
["Step 2B: Alternative Selection"]
[]
[null,null,null,null,null,null,null,null,null,null,null,null,null,null,null,null,null,null,null,null,null,null,null,null,null,null,null,null,null,null,null,null,null,null,null,null,null,null,null,null,null,null,null,null,null,null,null,null,null,null,null,null,null,null,null,null,null,null,"Yes"]
[null,null,null,"Rankings Inclusion",null,null,null,null,null,null,null,null,null,null,null,null,null,null,null,null,null,null,null,null,null,null,null,null,null,null,null,null,null,"Yes/No",null,null,null,null,null,"Comment",null,null,null,null,null,null,null,null,null,null,null,null,null,null,null,null,null,null,"No"]
[null,null,{"$f":"IF(AH47=$BG$45,TRUE,FALSE)","v":true},"At-Grade Non-Roundabout Intersections?",null,null,null,null,null,null,null,null,null,null,null,null,null,null,null,null,null,null,null,null,null,null,null,null,null,null,null,null,null,"Yes"]
[null,null,{"$f":"IF(AH48=$BG$45,TRUE,FALSE)","v":true},{"$f":"'3 - Alt Num Lanes Input'!E24","v":"Traffic Signal"},null,null,null,null,null,null,null,null,null,null,null,null,null,null,null,null,null,null,null,null,null,null,null,null,null,null,null,null,null,"Yes"]
[null,null,true,{"$f":"'3 - Alt Num Lanes Input'!E28","v":"Two-Way Stop Control"},null,null,null,null,null,null,null,null,null,null,null,null,null,null,null,null,null,null,null,null,null,null,null,null,null,null,null,null,null,"Yes"]
[null,null,true,{"$f":"'3 - Alt Num Lanes Input'!E32","v":"All-Way Stop Control"},null,null,null,null,null,null,null,null,null,null,null,null,null,null,null,null,null,null,null,null,null,null,null,null,null,null,null,null,null,"Yes"]
[null,null,true,"Continuous Green T",null,null,null,null,null,null,null,null,null,null,null,null,null,null,null,null,null,null,null,null,null,null,null,null,null,null,null,null,null,"Yes"]
[null,null,true,"Quadrant Roadway",null,null,null,null,null,null,null,null,null,null,null,null,null,null,null,null,null,null,null,null,null,null,null,"S-W",null,null,null,null,null,"Yes"]
[null,null,true,null,null,null,null,null,null,null,null,null,null,null,null,null,null,null,null,null,null,null,null,null,null,null,null,"N-E",null,null,null,null,null,"Yes"]
[null,null,true,null,null,null,null,null,null,null,null,null,null,null,null,null,null,null,null,null,null,null,null,null,null,null,null,"S-E",null,null,null,null,null,"Yes"]
[null,null,true,null,null,null,null,null,null,null,null,null,null,null,null,null,null,null,null,null,null,null,null,null,null,null,null,"N-W",null,null,null,null,null,"Yes"]
[null,null,true,"Partial Displaced Left Turn",null,null,null,null,null,null,null,null,null,null,null,null,null,null,null,null,null,null,null,null,null,null,null,null,null,null,null,null,null,"Yes"]
[null,null,true,"Displaced Left Turn",null,null,null,null,null,null,null,null,null,null,null,null,null,null,null,null,null,null,null,null,null,null,null,null,null,null,null,null,null,"Yes"]
[null,null,true,{"$f":"'3 - Alt Num Lanes Input'!E56","v":"Signalized Restricted Crossing U-Turn"},null,null,null,null,null,null,null,null,null,null,null,null,null,null,null,null,null,null,null,null,null,null,null,null,null,null,null,null,null,"Yes"]
[null,null,true,{"$f":"'3 - Alt Num Lanes Input'!E60","v":"Unsignalized Restricted Crossing U-Turn"},null,null,null,null,null,null,null,null,null,null,null,null,null,null,null,null,null,null,null,null,null,null,null,null,null,null,null,null,null,"Yes"]
[null,null,true,"Median U-Turn",null,null,null,null,null,null,null,null,null,null,null,null,null,null,null,null,null,null,null,null,null,null,null,null,null,null,null,null,null,"Yes"]
[null,null,true,"Partial Median U-Turn",null,null,null,null,null,null,null,null,null,null,null,null,null,null,null,null,null,null,null,null,null,null,null,null,null,null,null,null,null,"Yes"]
[null,null,true,"Roundabouts?",null,null,null,null,null,null,null,null,null,null,null,null,null,null,null,null,null,null,null,null,null,null,null,null,null,null,null,null,null,"Yes"]
[null,null,true,"50 ICD Miniroundabout",null,null,null,null,null,null,null,null,null,null,null,null,null,null,null,null,null,null,null,null,null,null,null,null,null,null,null,null,null,"Yes"]
[null,null,true,"75 ICD Miniroundaobut",null,null,null,null,null,null,null,null,null,null,null,null,null,null,null,null,null,null,null,null,null,null,null,null,null,null,null,null,null,"Yes"]
[null,null,true,"1x1",null,null,null,null,null,null,null,null,null,null,null,null,null,null,null,null,null,null,null,null,null,null,null,null,null,null,null,null,null,"Yes"]
[null,null,true,"1x2",null,null,null,null,null,null,null,null,null,null,null,null,null,null,null,null,null,null,null,null,null,null,null,null,null,null,null,null,null,"Yes"]
[null,null,true,"2x1",null,null,null,null,null,null,null,null,null,null,null,null,null,null,null,null,null,null,null,null,null,null,null,null,null,null,null,null,null,"Yes"]
[null,null,true,"2x2",null,null,null,null,null,null,null,null,null,null,null,null,null,null,null,null,null,null,null,null,null,null,null,null,null,null,null,null,null,"Yes"]
[null,null,true,"Grade Separated Interchanges?",null,null,null,null,null,null,null,null,null,null,null,null,null,null,null,null,null,null,null,null,null,null,null,null,null,null,null,null,null,"Yes"]
[null,null,true,"Diamond",null,null,null,null,null,null,null,null,null,null,null,null,null,null,null,null,null,null,null,null,null,null,null,null,null,null,null,null,null,"Yes"]
[null,null,true,"Partial Cloverleaf A",null,null,null,null,null,null,null,null,null,null,null,null,null,null,null,null,null,null,null,null,null,null,null,null,null,null,null,null,null,"Yes"]
[null,null,true,"Partial Cloverleaf B",null,null,null,null,null,null,null,null,null,null,null,null,null,null,null,null,null,null,null,null,null,null,null,null,null,null,null,null,null,"Yes"]
[null,null,true,"Displaced Left Turn Interchange",null,null,null,null,null,null,null,null,null,null,null,null,null,null,null,null,null,null,null,null,null,null,null,null,null,null,null,null,null,"Yes"]
[null,null,true,"Diverging Diamond Interchange",null,null,null,null,null,null,null,null,null,null,null,null,null,null,null,null,null,null,null,null,null,null,null,null,null,null,null,null,null,"Yes"]
[null,null,true,"Single Point",null,null,null,null,null,null,null,null,null,null,null,null,null,null,null,null,null,null,null,null,null,null,null,null,null,null,null,null,null,"Yes"]
[]
["Continue to Step 3"]

{"sheet":"Multimodal Scoring","index":4,"n_rows":64,"n_cols":23,"rows_kept":64,"cut":false,"hidden":true,"merged":[[43,12,43,14],[43,15,43,17],[51,12,51,14],[51,15,51,17],[16,12,16,14],[16,15,16,17],[18,3,18,6],[18,8,18,11],[18,12,18,14],[18,15,18,17],[0,0,0,5],[2,0,5,0],[2,7,9,9],[6,0,9,0],[16,2,16,6],[16,7,16,11]]}
["Multimodal Scoring Framework (1 - poor; 2 - adequate; 3 - good)"]
["Control Type","Speed","Exposure","Ped","Bike","Transit"]
["Yield/Uncontrolled","Slow","Short",3,3,"-",null,"All Inputs in this worksheet are OPTIONAL. Customization can occur in any of the yellow highlighted cells. ",null,null,null,null,null,null,null,null,null,null,null,"signalized","Slow","short","No accommodations"]
[null,"Slow","Long",2,3,"-",null,null,null,null,null,null,null,null,null,null,null,null,null,"unsignalized","Fast","long","Out of direction travel"]
[null,"Fast","Short",2,2,"-",null,null,null,null,null,null,null,null,null,null,null,null,null,null,null,null,"Same as signal"]
[null,"Fast","Long",1,2,"-"]
["Signalized","Slow","Short",3,3,"-"]
[null,"Slow","Long",2,3,"-"]
[null,"Fast","Short",3,3,"-"]
[null,"Fast","Long",2,2,"-"]
[]
["No accommodations","N/A",null,1,1,1]
["Out of direction travel",null,null,"-","-",2]
["Same As Signal",null,null,"-","-",3]
[]
[]
[null,null,"Crossing Major Street",null,null,null,null,"Crossing Minor Street",null,null,null,null,"Major Street Scores",null,null,"Minor Street Scores"]
["Type","Subtype","Signal","Speed","Exposure","Ped/Bike Accom.","Transit","Signal","Speed","Exposure","Ped/Bike Accom.","Transit","Ped","Bike","Transit","Ped","Bike","Transit"]
["At-Grade Non-Roundabout",null,null,"Select from drop-down menu",null,null,null,null,"Select from drop-down menu",null,null,null,"Scoring Results",null,null,"Scoring Results"]
["Conventional Traffic Signal",null,"signalized","Fast","long","Same as signal","Same as signal","signalized","Fast","short","Same as signal","Same as signal",{"$f":"IF($C20=$T$3,IF($F20=$W$3,1,IF($D20=$U$3,IF($E20=$V$3,$D$7,$D$8),IF($E20=$V$3,$D$9,$D$10))),IF($F20=$W$3,1,IF($D20=$U$3,IF($E20=$V$3,$D$3,$D$4),IF($E20=$V$3,$D$5,$D$6))))","v":2},{"$f":"IF($C20=$T$3,IF($F20=$W$3,1,IF($D20=$U$3,IF($E20=$V$3,$E$7,$E$8),IF($E20=$V$3,$E$9,$E$10))),IF($F20=$W$3,1,IF($D20=$U$3,IF($E20=$V$3,$E$3,$E$4),IF($E20=$V$3,$E$5,$E$6))))","v":2},{"$f":"IF($G20=$W$3,$F$12,IF($G20=$W$4,$F$13,$F$14))","v":3},{"$f":"IF($H20=$T$3,IF($K20=$W$3,1,IF($I20=$U$3,IF($J20=$V$3,$D$7,$D$8),IF($J20=$V$3,$D$9,$D$10))),IF($K20=$W$3,1,IF($I20=$U$3,IF($J20=$V$3,$D$3,$D$4),IF($J20=$V$3,$D$5,$D$6))))","v":3},{"$f":"IF($H20=$T$3,IF($K20=$W$3,1,IF($I20=$U$3,IF($J20=$V$3,$E$7,$E$8),IF($J20=$V$3,$E$9,$E$10))),IF($K20=$W$3,1,IF($I20=$U$3,IF($J20=$V$3,$E$3,$E$4),IF($J20=$V$3,$E$5,$E$6))))","v":3},{"$f":"IF($L20=$W$3,$F$12,IF($L20=$W$4,$F$13,$F$14))","v":3}]
["Conventional Signal Shared RTLT",null,"signalized","Fast","long","Same as signal","Same as signal","signalized","Fast","short","Same as signal","Same as signal",{"$f":"IF($C21=$T$3,IF($F21=$W$3,1,IF($D21=$U$3,IF($E21=$V$3,$D$7,$D$8),IF($E21=$V$3,$D$9,$D$10))),IF($F21=$W$3,1,IF($D21=$U$3,IF($E21=$V$3,$D$3,$D$4),IF($E21=$V$3,$D$5,$D$6))))","v":2},{"$f":"IF($C21=$T$3,IF($F21=$W$3,1,IF($D21=$U$3,IF($E21=$V$3,$E$7,$E$8),IF($E21=$V$3,$E$9,$E$10))),IF($F21=$W$3,1,IF($D21=$U$3,IF($E21=$V$3,$E$3,$E$4),IF($E21=$V$3,$E$5,$E$6))))","v":2},3,{"$f":"IF($H21=$T$3,IF($K21=$W$3,1,IF($I21=$U$3,IF($J21=$V$3,$D$7,$D$8),IF($J21=$V$3,$D$9,$D$10))),IF($K21=$W$3,1,IF($I21=$U$3,IF($J21=$V$3,$D$3,$D$4),IF($J21=$V$3,$D$5,$D$6))))","v":3},{"$f":"IF($H21=$T$3,IF($K21=$W$3,1,IF($I21=$U$3,IF($J21=$V$3,$E$7,$E$8),IF($J21=$V$3,$E$9,$E$10))),IF($K21=$W$3,1,IF($I21=$U$3,IF($J21=$V$3,$E$3,$E$4),IF($J21=$V$3,$E$5,$E$6))))","v":3},{"$f":"IF($L21=$W$3,$F$12,IF($L21=$W$4,$F$13,$F$14))","v":3}]
["Two-Way Stop Control","N-S","unsignalized","Fast","long","Same as signal","Same as signal","signalized","Slow","short","Same as signal","Same as signal",1,2,3,3,3,3]
[null,"E-W","unsignalized","Fast","long","Same as signal","Same as signal","signalized","Slow","short","Same as signal","Same as signal",1,2,3,3,3,3]
["All-Way Stop Control",null,"signalized","Slow","short","Same as signal","Same as signal","signalized","Slow","short","Same as signal","Same as signal",3,3,3,3,3,3]
["CGT","W","signalized","Fast","long","No accommodations","Same as signal","signalized","Fast","short","Same as signal","Same as signal",1,1,3,3,3,3]
[null,"N","signalized","Fast","long","No accommodations","Same as signal","signalized","Fast","short","Same as signal","Same as signal",1,1,3,3,3,3]
[null,"E","signalized","Fast","long","No accommodations","Same as signal","signalized","Fast","short","Same as signal","Same as signal",1,1,3,3,3,3]
[null,"S","signalized","Fast","long","No accommodations","Same as signal","signalized","Fast","short","Same as signal","Same as signal",1,1,3,3,3,3]
["Quadrant Roadway","S-W","signalized","Fast","long","Same as signal","Out of direction travel","signalized","Fast","long","Same as signal","Out of direction travel",2,2,2,2,2,2]
[null,"N-E","signalized","Fast","long","Same as signal","Out of direction travel","signalized","Fast","long","Same as signal","Out of direction travel",2,2,2,2,2,2]
[null,"S-E","signalized","Fast","long","Same as signal","Out of direction travel","signalized","Fast","long","Same as signal","Out of direction travel",2,2,2,2,2,2]
[null,"N-W","signalized","Fast","long","Same as signal","Out of direction travel","signalized","Fast","long","Same as signal","Out of direction travel",2,2,2,2,2,2]
["Partial Displaced Left Turn","N-S","signalized","Fast","long","Same as signal","Same as signal","signalized","Fast","long","Same as signal","Same as signal",2,2,3,2,2,3]
[null,"E-W","signalized","Fast","long","Same as signal","Same as signal","signalized","Fast","long","Same as signal","Same as signal",2,2,3,2,2,3]
["Displaced Left Turn",null,"signalized","Fast","long","Same as signal","Same as signal","signalized","Fast","long","Same as signal","Same as signal",2,2,3,2,2,3]
["Signalized RCUT","N-S","signalized","Fast","short","Same as signal","Same as signal","signalized","Slow","short","Same as signal","Out of direction travel",3,3,3,3,3,2]
[null,"E-W","signalized","Fast","short","Same as signal","Same as signal","signalized","Slow","short","Same as signal","Out of direction travel",3,3,3,3,3,2]
["Unsignalized RCUT","N-S","unsignalized","Fast","short","Same as signal","Same as signal","signalized","Slow","short","Same as signal","Out of direction travel",2,2,3,3,3,2]
[null,"E-W","unsignalized","Fast","short","Same as signal","Same as signal","signalized","Slow","short","Same as signal","Out of direction travel",2,2,3,3,3,2]
["MUT","N-S","signalized","Fast","short","Same as signal","Same as signal","signalized","Fast","short","Same as signal","Out of direction travel",3,3,3,3,3,2]
[null,"E-W","signalized","Fast","short","Same as signal","Same as signal","signalized","Fast","short","Same as signal","Out of direction travel",3,3,3,3,3,2]
["PMUT","N-S","signalized","Fast","short","Same as signal","Same as signal","signalized","Fast","short","Same as signal","Out of direction travel",3,3,3,3,3,2]
[null,"E-W","signalized","Fast","short","Same as signal","Same as signal","signalized","Fast","short","Same as signal","Out of direction travel",3,3,3,3,3,2]
["Roundabouts",null,null,null,null,null,null,null,null,null,null,null,"Scoring Results",null,null,"Scoring Results"]
["50 ICD",null,"unsignalized","slow","short","Same as signal","Same as signal","unsignalized","slow","short","Same as signal","Same as signal",3,3,{"$f":"IF($G45=$W$3,$F$12,IF($G45=$W$4,$F$13,$F$14))","v":3},3,3,3]
["75 ICD",null,"unsignalized","slow","short","Same as signal","Same as signal","unsignalized","slow","short","Same as signal","Same as signal",3,3,3,3,3,3]
["1x1",null,"unsignalized","slow","short","Same as signal","Same as signal","unsignalized","slow","short","Same as signal","Same as signal",3,3,3,3,3,3]
["1x2",null,"unsignalized","slow","long","Same as signal","Same as signal","unsignalized","slow","short","Same as signal","Same as signal",2,3,3,3,3,3]
["2x1",null,"unsignalized","slow","long","Same as signal","Same as signal","unsignalized","slow","short","Same as signal","Same as signal",2,3,3,3,3,3]
["2x2",null,"unsignalized","slow","long","Same as signal","Same as signal","unsignalized","slow","long","Same as signal","Same as signal",2,3,3,2,3,3]
["3x3",null,"unsignalized","Fast","long","Same as signal","Same as signal","unsignalized","Fast","long","Same as signal","Same as signal",1,2,3,1,2,3]
["Grade Separated",null,null,null,null,null,null,null,null,null,null,null,"Scoring Results",null,null,"Scoring Results"]
["Traditional Diamond","N-S","signalized","Fast","long","Same as signal","Same as signal","signalized","Fast","short","Same as signal","Same as signal",2,2,{"$f":"IF($G53=$W$3,$F$12,IF($G53=$W$4,$F$13,$F$14))","v":3},3,3,3]
[null,"E-W","signalized","Fast","long","Same as signal","Same as signal","signalized","Fast","short","Same as signal","Same as signal",2,2,3,3,3,3]
["PCLA","N-S","unsignalized","Fast","long","No accommodations","Same as signal","unsignalized","Fast","long","No accommodations","Same as signal",1,1,3,1,1,3]
[null,"E-W","unsignalized","Fast","long","No accommodations","Same as signal","unsignalized","Fast","long","No accommodations","Same as signal",1,1,3,1,1,3]
["PCLB","N-S","unsignalized","Fast","long","No accommodations","Same as signal","unsignalized","Fast","long","No accommodations","Same as signal",1,1,3,1,1,3]
[null,"E-W","unsignalized","Fast","long","No accommodations","Same as signal","unsignalized","Fast","long","No accommodations","Same as signal",1,1,3,1,1,3]
["DLTI","N-S","signalized","Fast","long","Same as signal","Same as signal","signalized","Fast","long","Same as signal","Same as signal",2,2,3,2,2,3]
[null,"E-W","signalized","Fast","long","Same as signal","Same as signal","signalized","Fast","long","Same as signal","Same as signal",2,2,3,2,2,3]
["DDI","N-S","signalized","Slow","short","Same as signal","Same as signal","signalized","Slow","short","Same as signal","Same as signal",3,3,3,3,3,3]
[null,"E-W","signalized","Slow","short","Same as signal","Same as signal","signalized","Slow","short","Same as signal","Same as signal",3,3,3,3,3,3]
["SPI","N-S","signalized","Fast","long","Same as signal","Same as signal","signalized","Fast","long","Same as signal","Same as signal",2,2,3,2,2,3]
[null,"E-W","signalized","Fast","long","Same as signal","Same as signal","signalized","Fast","long","Same as signal","Same as signal",2,2,3,2,2,3]

{"sheet":"LanesDefaults","index":5,"n_rows":109,"n_cols":57,"rows_kept":109,"cut":false,"hidden":true,"merged":[[31,40,32,41],[31,42,32,43],[31,44,32,45],[31,46,32,47],[31,48,32,49],[31,50,32,51],[31,52,32,53],[31,54,32,55],[31,56,32,57],[31,4,32,20],[31,21,32,25],[31,26,32,27],[31,28,32,29],[31,30,32,31],[31,32,32,33],[31,34,32,35],[31,36,32,37],[31,38,32,39],[29,40,30,41],[29,42,30,43],[29,44,30,45],[29,46,30,47],[29,48,30,49],[29,50,30,51],[29,52,30,53],[29,54,30,55],[29,56,30,57],[29,21,30,25],[29,26,30,27],[29,28,30,29],[29,30,30,31],[29,32,30,33],[29,34,30,35],[29,36,30,37],[29,38,30,39],[27,4,30,20],[27,21,28,25],[27,26,28,27],[27,28,28,29],[27,30,28,31],[27,32,28,33],[27,34,28,35],[27,36,28,37],[27,38,28,39],[27,40,28,41],[27,42,28,43],[27,44,28,45],[27,46,28,47],[27,48,28,49],[27,50,28,51],[27,52,28,53],[27,54,28,55],[27,56,28,57],[118,22,119,23],[120,22,121,23],[122,22,123,23],[108,54,109,55],[108,56,109,57],[110,22,111,23],[112,22,113,23],[114,22,115,23],[116,22,117,23],[108,42,109,43],[108,44,109,45],[108,46,109,47],[108,48,109,49],[108,50,109,51],[108,52,109,53],[108,38,109,39],[108,40,109,41],[106,44,107,45],[106,46,107,47],[106,48,107,49],[106,50,107,51],[106,52,107,53],[106,54,107,55],[106,32,107,33],[106,34,107,35],[106,36,107,37],[106,38,107,39],[106,40,107,41],[106,42,107,43],[104,48,105,49],[104,50,105,51],[104,52,105,53],[104,54,105,55],[104,56,105,57],[106,4,109,20],[106,21,107,25],[106,26,107,27],[106,28,107,29],[106,30,107,31],[104,36,105,37],[104,38,105,39],[104,40,105,41],[104,42,105,43],[104,44,105,45],[104,46,105,47],[106,56,107,57],[108,21,109,25],[108,26,109,27],[108,28,109,29],[108,30,109,31],[108,32,109,33],[108,34,109,35],[108,36,109,37],[100,44,101,45],[100,46,101,47],[100,48,101,49],[100,50,101,51],[100,52,101,53],[102,50,103,51],[102,52,103,53],[102,54,103,55],[102,56,103,57],[102,44,103,45],[102,46,103,47],[102,48,103,49],[102,4,105,20],[102,21,103,25],[102,26,103,27],[102,28,103,29],[102,30,103,31],[102,32,103,33],[102,34,103,35],[102,36,103,37],[100,42,101,43],[104,21,105,25],[104,26,105,27],[104,28,105,29],[104,30,105,31],[104,32,105,33],[104,34,105,35],[102,38,103,39],[102,40,103,41],[102,42,103,43],[98,4,101,20],[98,21,99,25],[98,26,99,27],[98,28,99,29],[98,30,99,31],[98,56,99,57],[100,21,101,25],[100,26,101,27],[100,28,101,29],[100,30,101,31],[100,32,101,33],[100,34,101,35],[100,36,101,37],[100,38,101,39],[100,40,101,41],[98,44,99,45],[98,46,99,47],[98,48,99,49],[98,50,99,51],[98,52,99,53],[98,54,99,55],[98,32,99,33],[98,34,99,35],[98,36,99,37],[98,38,99,39],[98,40,99,41],[98,42,99,43],[100,54,101,55],[100,56,101,57],[96,36,97,37],[96,38,97,39],[96,40,97,41],[96,42,97,43],[94,56,95,57],[94,44,95,45],[94,46,95,47],[94,48,95,49],[96,48,97,49],[96,50,97,51],[96,52,97,53],[96,54,97,55],[96,56,97,57],[96,44,97,45],[96,46,97,47],[92,44,93,45],[92,46,93,47],[92,48,93,49],[92,50,93,51],[92,52,93,53],[94,50,95,51],[94,52,95,53],[94,54,95,55],[92,54,93,55],[92,56,93,57],[94,4,97,20],[94,21,95,25],[94,26,95,27],[94,28,95,29],[94,30,95,31],[94,32,95,33],[94,34,95,35],[94,36,95,37],[92,42,93,43],[96,21,97,25],[96,26,97,27],[96,28,97,29],[96,30,97,31],[96,32,97,33],[96,34,97,35],[94,38,95,39],[94,40,95,41],[94,42,95,43],[90,4,93,20],[90,21,91,25],[90,26,91,27],[90,28,91,29],[90,30,91,31],[88,52,89,53],[88,54,89,55],[90,56,91,57],[92,21,93,25],[92,26,93,27],[92,28,93,29],[92,30,93,31],[92,32,93,33],[92,34,93,35],[92,36,93,37],[92,38,93,39],[92,40,93,41],[90,44,91,45],[90,46,91,47],[90,48,91,49],[90,50,91,51],[90,52,91,53],[90,54,91,55],[90,32,91,33],[90,34,91,35],[90,36,91,37],[90,38,91,39],[90,40,91,41],[90,42,91,43],[88,34,89,35],[86,38,87,39],[86,40,87,41],[86,42,87,43],[86,44,87,45],[86,46,87,47],[86,48,87,49],[88,48,89,49],[88,50,89,51],[88,56,89,57],[88,44,89,45],[88,46,89,47],[86,4,89,20],[86,21,87,25],[86,26,87,27],[86,28,87,29],[86,30,87,31],[86,32,87,33],[86,34,87,35],[86,36,87,37],[88,36,89,37],[88,38,89,39],[88,40,89,41],[88,42,89,43],[86,50,87,51],[86,52,87,53],[86,54,87,55],[86,56,87,57],[88,21,89,25],[88,26,89,27],[88,28,89,29],[88,30,89,31],[88,32,89,33],[84,42,85,43],[84,30,85,31],[84,32,85,33],[84,34,85,35],[84,36,85,37],[84,38,85,39],[84,40,85,41],[76,1,77,60],[80,4,81,57],[82,4,85,20],[82,21,85,25],[82,26,83,33],[82,34,83,41],[82,42,83,49],[82,50,83,57],[84,26,85,27],[84,28,85,29],[84,54,85,55],[84,56,85,57],[84,44,85,45],[84,46,85,47],[84,48,85,49],[84,50,85,51],[84,52,85,53],[69,48,70,49],[69,50,70,51],[69,52,70,53],[69,54,70,55],[69,56,70,57],[74,1,75,60],[69,36,70,37],[69,38,70,39],[69,40,70,41],[69,42,70,43],[69,44,70,45],[69,46,70,47],[69,21,70,25],[69,26,70,27],[69,28,70,29],[69,30,70,31],[69,32,70,33],[69,34,70,35],[67,4,70,20],[67,21,68,25],[67,26,68,27],[67,28,68,29],[67,30,68,31],[67,32,68,33],[67,46,68,47],[67,48,68,49],[67,50,68,51],[67,52,68,53],[67,54,68,55],[67,56,68,57],[67,34,68,35],[67,36,68,37],[67,38,68,39],[67,40,68,41],[67,42,68,43],[67,44,68,45],[65,38,66,39],[65,40,66,41],[65,42,66,43],[63,52,64,53],[63,54,64,55],[63,56,64,57],[65,21,66,25],[65,26,66,27],[65,28,66,29],[65,30,66,31],[65,32,66,33],[65,34,66,35],[65,36,66,37],[63,40,64,41],[63,42,64,43],[63,44,64,45],[63,46,64,47],[63,48,64,49],[63,50,64,51],[65,50,66,51],[65,52,66,53],[65,54,66,55],[65,56,66,57],[65,44,66,45],[65,46,66,47],[65,48,66,49],[57,56,58,57],[63,4,66,20],[63,21,64,25],[63,26,64,27],[63,28,64,29],[63,30,64,31],[63,32,64,33],[63,34,64,35],[63,36,64,37],[63,38,64,39],[57,44,58,45],[57,46,58,47],[57,48,58,49],[57,50,58,51],[57,52,58,53],[57,54,58,55],[57,32,58,33],[57,34,58,35],[57,36,58,37],[57,38,58,39],[57,40,58,41],[57,42,58,43],[55,52,56,53],[55,54,56,55],[55,56,56,57],[55,34,56,35],[55,36,56,37],[55,38,56,39],[55,40,56,41],[55,42,56,43],[55,44,56,45],[55,46,56,47],[53,36,54,37],[53,38,54,39],[53,40,54,41],[53,42,54,43],[53,44,54,45],[55,4,58,20],[55,21,56,25],[55,48,56,49],[55,50,56,51],[55,26,56,27],[55,28,56,29],[55,30,56,31],[55,32,56,33],[57,21,58,25],[57,26,58,27],[57,28,58,29],[57,30,58,31],[51,54,52,55],[51,56,52,57],[51,34,52,35],[51,36,52,37],[51,38,52,39],[51,40,52,41],[51,42,52,43],[51,44,52,45],[53,4,54,20],[53,21,54,25],[53,26,54,27],[53,28,54,29],[53,30,54,31],[53,32,54,33],[51,46,52,47],[51,48,52,49],[51,50,52,51],[53,48,54,49],[53,50,54,51],[53,46,54,47],[53,52,54,53],[53,54,54,55],[53,56,54,57],[53,34,54,35],[51,30,52,31],[51,32,52,33],[49,36,50,37],[49,38,50,39],[49,40,50,41],[49,42,50,43],[49,44,50,45],[49,46,50,47],[51,52,52,53],[39,40,40,41],[39,42,40,43],[39,44,40,45],[41,26,48,57],[45,21,46,25],[43,21,44,25],[47,21,48,25],[49,4,52,20],[49,21,50,25],[49,26,50,27],[49,28,50,29],[49,30,50,31],[49,32,50,33],[49,34,50,35],[41,4,48,20],[41,21,42,25],[49,48,50,49],[49,50,50,51],[49,52,50,53],[49,54,50,55],[49,56,50,57],[51,21,52,25],[51,26,52,27],[51,28,52,29],[35,46,36,47],[35,48,36,49],[37,48,38,49],[37,50,38,51],[37,52,38,53],[37,54,38,55],[37,56,38,57],[39,21,40,25],[39,26,40,27],[39,28,40,29],[39,30,40,31],[39,32,40,33],[37,36,38,37],[37,38,38,39],[37,40,38,41],[37,42,38,43],[37,44,38,45],[37,46,38,47],[39,46,40,47],[39,48,40,49],[39,50,40,51],[39,52,40,53],[39,54,40,55],[39,56,40,57],[33,52,34,53],[33,54,34,55],[33,56,34,57],[35,21,36,25],[35,26,36,27],[35,28,36,29],[35,30,36,31],[35,32,36,33],[35,34,36,35],[35,36,36,37],[33,40,34,41],[33,42,34,43],[33,44,34,45],[33,46,34,47],[33,48,34,49],[33,50,34,51],[35,50,36,51],[35,52,36,53],[35,54,36,55],[35,56,36,57],[35,38,36,39],[35,40,36,41],[35,42,36,43],[35,44,36,45],[33,4,40,20],[33,21,34,25],[33,26,34,27],[33,28,34,29],[33,30,34,31],[33,32,34,33],[33,34,34,35],[33,36,34,37],[33,38,34,39],[37,21,38,25],[37,26,38,27],[37,28,38,29],[37,30,38,31],[37,32,38,33],[37,34,38,35],[39,34,40,35],[39,36,40,37],[39,38,40,39],[23,52,24,53],[23,54,24,55],[23,56,24,57],[25,4,26,20],[25,21,26,25],[25,26,26,27],[25,28,26,29],[25,30,26,33],[25,34,26,35],[25,36,26,37],[23,40,24,41],[23,42,24,43],[23,44,24,45],[23,46,24,47],[23,48,24,49],[23,50,24,51],[25,54,26,57],[25,38,26,41],[25,42,26,43],[25,44,26,45],[25,46,26,49],[25,50,26,51],[25,52,26,53],[23,4,24,20],[23,21,24,25],[23,26,24,27],[23,28,24,29],[23,30,24,31],[23,32,24,33],[23,34,24,35],[23,36,24,37],[23,38,24,39],[17,4,18,57],[19,4,22,20],[19,21,22,25],[19,26,20,33],[19,34,20,41],[19,42,20,49],[19,50,20,57],[21,26,22,27],[21,28,22,29],[21,30,22,31],[21,32,22,33],[21,34,22,35],[21,36,22,37],[21,38,22,39],[21,40,22,41],[21,42,22,43],[21,56,22,57],[21,44,22,45],[21,46,22,47],[21,48,22,49],[21,50,22,51],[21,52,22,53],[21,54,22,55],[0,1,1,60],[2,1,3,60],[7,4,8,11],[7,12,8,57],[9,4,10,11],[9,12,10,57],[11,4,12,11],[11,12,12,57],[13,4,14,11],[13,12,14,57],[59,4,62,20],[59,21,60,25],[59,26,60,27],[59,28,60,29],[59,30,60,31],[59,32,60,33],[59,34,60,35],[59,36,60,37],[59,38,60,39],[61,21,62,25],[61,26,62,27],[61,28,62,29],[61,30,62,31],[61,32,62,33],[61,34,62,35],[61,36,62,37],[61,38,62,39],[59,40,60,41],[59,42,60,43],[59,44,60,45],[59,46,60,47],[59,48,60,49],[59,50,60,51],[59,52,60,53],[59,54,60,55],[59,56,60,57],[61,40,62,41],[61,42,62,43],[61,44,62,45],[61,46,62,47],[61,48,62,49],[61,50,62,51],[61,52,62,53],[61,54,62,55],[61,56,62,57]]}
[null,"Capacity Analysis for Planning of Junctions\nCapacity Analysis for Planning of Junctions"]
[]
[null,"Input Worksheet 2"]
[]
[]
[]
[]
[null,null,null,null,"Project Name:",null,null,null,null,null,null,null,"Defaults for No Lanes Inputs"]
[]
[null,null,null,null,"Project Number:",null,null,null,null,null,null,null,"--"]
[]
[null,null,null,null,"Location",null,null,null,null,null,null,null,"--"]
[]
[null,null,null,null,"Date",null,null,null,null,null,null,null,"--"]
[]
[]
[]
[null,null,null,null,"Number of Lanes for Non-roundabout Intersections"]
[]
[null,null,null,null,"TYPE OF INTERSECTION",null,null,null,null,null,null,null,null,null,null,null,null,null,null,null,null,"Sheet",null,null,null,null,"Northbound",null,null,null,null,null,null,null,"Southbound",null,null,null,null,null,null,null,"Eastbound",null,null,null,null,null,null,null,"Westbound"]
[]
[null,null,null,null,null,null,null,null,null,null,null,null,null,null,null,null,null,null,null,null,null,null,null,null,null,null,"U",null,"L",null,"T",null,"R",null,"U",null,"L",null,"T",null,"R",null,"U",null,"L",null,"T",null,"R",null,"U",null,"L",null,"T",null,"R"]
[]
[null,null,null,null,"Traffic Signal",null,null,null,null,null,null,null,null,null,null,null,null,null,null,null,null,"FULL",null,null,null,null,null,null,1,null,2,null,1,null,null,null,1,null,2,null,1,null,null,null,1,null,2,null,1,null,null,null,1,null,2,null,1]
[]
[null,null,null,null,"Conventional Shared RT LN",null,null,null,null,null,null,null,null,null,null,null,null,null,null,null,null,"CSRL",null,null,null,null,null,null,1,null,2,null,null,null,null,null,1,null,2,null,null,null,null,null,1,null,2,null,null,null,null,null,1,null,2]
[]
[null,null,null,null,"Two-Way Stop Control",null,null,null,null,null,null,null,null,null,null,null,null,null,null,null,null,"FULL",null,null,null,null,null,null,1,null,2,null,1,null,null,null,1,null,2,null,1,null,null,null,1,null,2,null,1,null,null,null,1,null,2,null,1]
[]
[null,null,null,null,null,null,null,null,null,null,null,null,null,null,null,null,null,null,null,null,null,"N-S",null,null,null,null,null,null,1,null,2,null,1,null,null,null,1,null,2,null,1,null,null,null,1,null,2,null,1,null,null,null,1,null,2,null,1]
[]
[null,null,null,null,"All-Way Stop Control",null,null,null,null,null,null,null,null,null,null,null,null,null,null,null,null,"E-W",null,null,null,null,null,null,1,null,2,null,1,null,null,null,1,null,2,null,1,null,null,null,1,null,2,null,1,null,null,null,1,null,2,null,1]
[]
[null,null,null,null,"Continuous Green T",null,null,null,null,null,null,null,null,null,null,null,null,null,null,null,null,"W",null,null,null,null,null,null,1,null,2,null,null,null,null,null,null,null,2,null,1,null,null,null,1,null,null,null,1]
[]
[null,null,null,null,null,null,null,null,null,null,null,null,null,null,null,null,null,null,null,null,null,"N",null,null,null,null,null,null,null,null,null,null,null,null,null,null,1,null,null,null,1,null,null,null,1,null,2,null,null,null,null,null,null,null,2,null,1]
[]
[null,null,null,null,null,null,null,null,null,null,null,null,null,null,null,null,null,null,null,null,null,"E",null,null,null,null,null,null,null,null,2,null,1,null,null,null,1,null,2,null,null,null,null,null,null,null,null,null,null,null,null,null,1,null,null,null,1]
[]
[null,null,null,null,null,null,null,null,null,null,null,null,null,null,null,null,null,null,null,null,null,"S",null,null,null,null,null,null,1,null,null,null,1,null,null,null,null,null,null,null,null,null,null,null,null,null,2,null,1,null,null,null,1,null,2]
[]
[null,null,null,null,"Quadrant Roadway",null,null,null,null,null,null,null,null,null,null,null,null,null,null,null,null,"S-W",null,null,null,null,"Use the respective intersection tab(s) to specify the # of lanes inputs."]
[]
[null,null,null,null,null,null,null,null,null,null,null,null,null,null,null,null,null,null,null,null,null,"N-E"]
[]
[null,null,null,null,null,null,null,null,null,null,null,null,null,null,null,null,null,null,null,null,null,"S-E"]
[]
[null,null,null,null,null,null,null,null,null,null,null,null,null,null,null,null,null,null,null,null,null,"N-W"]
[]
[null,null,null,null,"Partial Displaced Left Turn",null,null,null,null,null,null,null,null,null,null,null,null,null,null,null,null,"N-S",null,null,null,null,null,null,1,null,2,null,1,null,null,null,1,null,2,null,1,null,null,null,1,null,2,null,1,null,null,null,1,null,2,null,1]
[]
[null,null,null,null,null,null,null,null,null,null,null,null,null,null,null,null,null,null,null,null,null,"E-W",null,null,null,null,null,null,1,null,2,null,1,null,null,null,1,null,2,null,1,null,null,null,1,null,2,null,1,null,null,null,1,null,2,null,1]
[]
[null,null,null,null,"Displaced Left Turn",null,null,null,null,null,null,null,null,null,null,null,null,null,null,null,null,"FULL",null,null,null,null,null,null,1,null,2,null,1,null,null,null,1,null,2,null,1,null,null,null,1,null,2,null,1,null,null,null,1,null,2,null,1]
[]
[null,null,null,null,"Signalized Restricted Crossing U-Turn",null,null,null,null,null,null,null,null,null,null,null,null,null,null,null,null,"N-S",null,null,null,null,1,null,1,null,2,null,1,null,1,null,1,null,2,null,1,null,null,null,null,null,null,null,1,null,null,null,null,null,null,null,1]
[]
[null,null,null,null,null,null,null,null,null,null,null,null,null,null,null,null,null,null,null,null,null,"E-W",null,null,null,null,null,null,null,null,null,null,1,null,null,null,null,null,null,null,1,null,1,null,1,null,2,null,1,null,1,null,1,null,2,null,1]
[]
[null,null,null,null,"Unsignalized Restricted Crossing U-Turn",null,null,null,null,null,null,null,null,null,null,null,null,null,null,null,null,"N-S",null,null,null,null,1,null,1,null,2,null,1,null,1,null,1,null,2,null,1,null,null,null,null,null,null,null,1,null,null,null,null,null,null,null,1]
[]
[null,null,null,null,null,null,null,null,null,null,null,null,null,null,null,null,null,null,null,null,null,"E-W",null,null,null,null,null,null,null,null,null,null,1,null,null,null,null,null,null,null,1,null,1,null,1,null,2,null,1,null,1,null,1,null,2,null,1]
[]
[null,null,null,null,"Median U-Turn",null,null,null,null,null,null,null,null,null,null,null,null,null,null,null,null,"N-S",null,null,null,null,1,null,null,null,2,null,1,null,1,null,null,null,2,null,1,null,null,null,null,null,2,null,1,null,null,null,null,null,2,null,1]
[]
[null,null,null,null,null,null,null,null,null,null,null,null,null,null,null,null,null,null,null,null,null,"E-W",null,null,null,null,null,null,null,null,2,null,1,null,null,null,null,null,2,null,1,null,1,null,null,null,2,null,1,null,1,null,null,null,2,null,1]
[]
[null,null,null,null,"Partial Median U-Turn",null,null,null,null,null,null,null,null,null,null,null,null,null,null,null,null,"N-S",null,null,null,null,1,null,null,null,2,null,1,null,1,null,null,null,2,null,1,null,null,null,1,null,2,null,1,null,null,null,1,null,2,null,1]
[]
[null,null,null,null,null,null,null,null,null,null,null,null,null,null,null,null,null,null,null,null,null,"E-W",null,null,null,null,null,null,1,null,2,null,1,null,null,null,1,null,2,null,1,null,1,null,null,null,2,null,1,null,1,null,null,null,2,null,1]
[]
[]
[]
[]
[null,"Capacity Analysis for Planning of Junctions\n\nCapacity Analysis for Planning of Junctions"]
[]
[null,"Input Worksheet 2"]
[]
[]
[]
[null,null,null,null,"Number of Lanes for Interchanges"]
[]
[null,null,null,null,"TYPE OF INTERCHANGE",null,null,null,null,null,null,null,null,null,null,null,null,null,null,null,null,"Sheet",null,null,null,null,"Northbound",null,null,null,null,null,null,null,"Southbound",null,null,null,null,null,null,null,"Eastbound",null,null,null,null,null,null,null,"Westbound"]
[]
[null,null,null,null,null,null,null,null,null,null,null,null,null,null,null,null,null,null,null,null,null,null,null,null,null,null,"U",null,"L",null,"T",null,"R",null,"U",null,"L",null,"T",null,"R",null,"U",null,"L",null,"T",null,"R",null,"U",null,"L",null,"T",null,"R"]
[]
[null,null,null,null,"Diamond",null,null,null,null,null,null,null,null,null,null,null,null,null,null,null,null,"N-S",null,null,null,null,null,null,1,null,2,null,1,null,null,null,1,null,2,null,1,null,null,null,1,null,2,null,1,null,null,null,1,null,2,null,1]
[]
[null,null,null,null,null,null,null,null,null,null,null,null,null,null,null,null,null,null,null,null,null,"E-W",null,null,null,null,null,null,1,null,2,null,1,null,null,null,1,null,2,null,1,null,null,null,1,null,2,null,1,null,null,null,1,null,2,null,1]
[]
[null,null,null,null,"Partial Cloverleaf A",null,null,null,null,null,null,null,null,null,null,null,null,null,null,null,null,"N-S",null,null,null,null,null,null,null,null,2,null,null,null,null,null,null,null,2,null,null,null,null,null,1,null,null,null,1,null,null,null,1,null,null,null,1]
[]
[null,null,null,null,null,null,null,null,null,null,null,null,null,null,null,null,null,null,null,null,null,"E-W",null,null,null,null,null,null,1,null,null,null,1,null,null,null,1,null,null,null,1,null,null,null,null,null,2,null,null,null,null,null,null,null,2]
[]
[null,null,null,null,"Partial Cloverleaf B",null,null,null,null,null,null,null,null,null,null,null,null,null,null,null,null,"N-S",null,null,null,null,null,null,1,null,2,null,1,null,null,null,1,null,2,null,1,null,null,null,1,null,null,null,1,null,null,null,1,null,null,null,1]
[]
[null,null,null,null,null,null,null,null,null,null,null,null,null,null,null,null,null,null,null,null,null,"E-W",null,null,null,null,null,null,1,null,null,null,1,null,null,null,1,null,null,null,1,null,null,null,1,null,2,null,1,null,null,null,1,null,2,null,1]
[]
[null,null,null,null,"Displaced Left Turn",null,null,null,null,null,null,null,null,null,null,null,null,null,null,null,null,"N-S",null,null,null,null,null,null,1,null,2,null,1,null,null,null,1,null,2,null,1,null,null,null,1,null,2,null,1,null,null,null,1,null,2,null,1]
[]
[null,null,null,null,null,null,null,null,null,null,null,null,null,null,null,null,null,null,null,null,null,"E-W",null,null,null,null,null,null,1,null,2,null,1,null,null,null,1,null,2,null,1,null,null,null,1,null,2,null,1,null,null,null,1,null,2,null,1]
[]
[null,null,null,null,"Diverging Diamond Interchange",null,null,null,null,null,null,null,null,null,null,null,null,null,null,null,null,"N-S",null,null,null,null,null,null,1,null,2,null,1,null,null,null,1,null,2,null,1,null,null,null,1,null,null,null,1,null,null,null,1,null,null,null,1]
[]
[null,null,null,null,null,null,null,null,null,null,null,null,null,null,null,null,null,null,null,null,null,"E-W",null,null,null,null,null,null,1,null,null,null,1,null,null,null,1,null,null,null,1,null,null,null,1,null,2,null,1,null,null,null,1,null,2,null,1]
[]
[null,null,null,null,"Single Point ",null,null,null,null,null,null,null,null,null,null,null,null,null,null,null,null,"N-S",null,null,null,null,null,null,1,null,2,null,1,null,null,null,1,null,2,null,1,null,null,null,1,null,2,null,1,null,null,null,1,null,2,null,1]
[]
[null,null,null,null,null,null,null,null,null,null,null,null,null,null,null,null,null,null,null,null,null,"E-W",null,null,null,null,null,null,1,null,2,null,1,null,null,null,1,null,2,null,1,null,null,null,1,null,2,null,1,null,null,null,1,null,2,null,1]

{"sheet":"MMScoreDefaults","index":6,"n_rows":64,"n_cols":23,"rows_kept":64,"cut":false,"hidden":true,"merged":[[18,3,18,6],[18,8,18,11],[18,12,18,14],[18,15,18,17],[0,0,0,5],[2,0,5,0],[2,7,9,9],[6,0,9,0],[16,2,16,6],[16,7,16,11],[43,12,43,14],[43,15,43,17],[51,12,51,14],[51,15,51,17],[16,12,16,14],[16,15,16,17]]}
["Multimodal Scoring Framework (1 - poor; 2 - adequate; 3 - good)"]
["Control Type","Speed","Exposure","Ped","Bike","Transit"]
["Yield/Uncontrolled","Slow","Short",3,3,"-",null,"All Inputs in this worksheet are OPTIONAL. Customization can occur in any of the yellow highlighted cells. ",null,null,null,null,null,null,null,null,null,null,null,"signalized","Slow","short","No accommodations"]
[null,"Slow","Long",2,3,"-",null,null,null,null,null,null,null,null,null,null,null,null,null,"unsignalized","Fast","long","Out of direction travel"]
[null,"Fast","Short",2,2,"-",null,null,null,null,null,null,null,null,null,null,null,null,null,null,null,null,"Same as signal"]
[null,"Fast","Long",1,2,"-"]
["Signalized","Slow","Short",3,3,"-"]
[null,"Slow","Long",2,3,"-"]
[null,"Fast","Short",3,3,"-"]
[null,"Fast","Long",2,2,"-"]
[]
["No accommodations","N/A",null,1,1,1]
["Out of direction travel",null,null,"-","-",2]
["Same As Signal",null,null,"-","-",3]
[]
[]
[null,null,"Crossing Major Street",null,null,null,null,"Crossing Minor Street",null,null,null,null,"Major Street Scores",null,null,"Minor Street Scores"]
["Type","Subtype","Signal","Speed","Exposure","Ped/Bike Accom.","Transit","Signal","Speed","Exposure","Ped/Bike Accom.","Transit","Ped","Bike","Transit","Ped","Bike","Transit"]
["At-Grade Non-Roundabout",null,null,"Select from drop-down menu",null,null,null,null,"Select from drop-down menu",null,null,null,"Scoring Results",null,null,"Scoring Results"]
["Conventional Traffic Signal",null,"signalized","Fast","long","Same as signal","Same as signal","signalized","Fast","short","Same as signal","Same as signal",{"$f":"IF($C20=$T$3,IF($F20=$W$3,1,IF($D20=$U$3,IF($E20=$V$3,$D$7,$D$8),IF($E20=$V$3,$D$9,$D$10))),IF($F20=$W$3,1,IF($D20=$U$3,IF($E20=$V$3,$D$3,$D$4),IF($E20=$V$3,$D$5,$D$6))))","v":2},{"$f":"IF($C20=$T$3,IF($F20=$W$3,1,IF($D20=$U$3,IF($E20=$V$3,$E$7,$E$8),IF($E20=$V$3,$E$9,$E$10))),IF($F20=$W$3,1,IF($D20=$U$3,IF($E20=$V$3,$E$3,$E$4),IF($E20=$V$3,$E$5,$E$6))))","v":2},{"$f":"IF($G20=$W$3,$F$12,IF($G20=$W$4,$F$13,$F$14))","v":3},{"$f":"IF($H20=$T$3,IF($K20=$W$3,1,IF($I20=$U$3,IF($J20=$V$3,$D$7,$D$8),IF($J20=$V$3,$D$9,$D$10))),IF($K20=$W$3,1,IF($I20=$U$3,IF($J20=$V$3,$D$3,$D$4),IF($J20=$V$3,$D$5,$D$6))))","v":3},{"$f":"IF($H20=$T$3,IF($K20=$W$3,1,IF($I20=$U$3,IF($J20=$V$3,$E$7,$E$8),IF($J20=$V$3,$E$9,$E$10))),IF($K20=$W$3,1,IF($I20=$U$3,IF($J20=$V$3,$E$3,$E$4),IF($J20=$V$3,$E$5,$E$6))))","v":3},{"$f":"IF($L20=$W$3,$F$12,IF($L20=$W$4,$F$13,$F$14))","v":3}]
["Conventional Signal Shared RTLT",null,"signalized","Fast","long","Same as signal","Same as signal","signalized","Fast","short","Same as signal","Same as signal",{"$f":"IF($C21=$T$3,IF($F21=$W$3,1,IF($D21=$U$3,IF($E21=$V$3,$D$7,$D$8),IF($E21=$V$3,$D$9,$D$10))),IF($F21=$W$3,1,IF($D21=$U$3,IF($E21=$V$3,$D$3,$D$4),IF($E21=$V$3,$D$5,$D$6))))","v":2},{"$f":"IF($C21=$T$3,IF($F21=$W$3,1,IF($D21=$U$3,IF($E21=$V$3,$E$7,$E$8),IF($E21=$V$3,$E$9,$E$10))),IF($F21=$W$3,1,IF($D21=$U$3,IF($E21=$V$3,$E$3,$E$4),IF($E21=$V$3,$E$5,$E$6))))","v":2},3,{"$f":"IF($H21=$T$3,IF($K21=$W$3,1,IF($I21=$U$3,IF($J21=$V$3,$D$7,$D$8),IF($J21=$V$3,$D$9,$D$10))),IF($K21=$W$3,1,IF($I21=$U$3,IF($J21=$V$3,$D$3,$D$4),IF($J21=$V$3,$D$5,$D$6))))","v":3},{"$f":"IF($H21=$T$3,IF($K21=$W$3,1,IF($I21=$U$3,IF($J21=$V$3,$E$7,$E$8),IF($J21=$V$3,$E$9,$E$10))),IF($K21=$W$3,1,IF($I21=$U$3,IF($J21=$V$3,$E$3,$E$4),IF($J21=$V$3,$E$5,$E$6))))","v":3},{"$f":"IF($L21=$W$3,$F$12,IF($L21=$W$4,$F$13,$F$14))","v":3}]
["Two-Way Stop Control",null,"unsignalized","Fast","long","Same as signal","Same as signal","signalized","Slow","short","Same as signal","Same as signal",1,2,3,3,3,3]
[null,null,"unsignalized","Fast","long","Same as signal","Same as signal","signalized","Slow","short","Same as signal","Same as signal",1,2,3,3,3,3]
["All-Way Stop Control",null,"signalized","Slow","short","Same as signal","Same as signal","signalized","Slow","short","Same as signal","Same as signal",3,3,3,3,3,3]
["CGT","W","signalized","Fast","long","No accommodations","Same as signal","signalized","Fast","short","Same as signal","Same as signal",1,1,3,3,3,3]
[null,"N","signalized","Fast","long","No accommodations","Same as signal","signalized","Fast","short","Same as signal","Same as signal",1,1,3,3,3,3]
[null,"E","signalized","Fast","long","No accommodations","Same as signal","signalized","Fast","short","Same as signal","Same as signal",1,1,3,3,3,3]
[null,"S","signalized","Fast","long","No accommodations","Same as signal","signalized","Fast","short","Same as signal","Same as signal",1,1,3,3,3,3]
["Quadrant Roadway","S-W","signalized","Fast","long","Same as signal","Out of direction travel","signalized","Fast","long","Same as signal","Out of direction travel",2,2,2,2,2,2]
[null,"N-E","signalized","Fast","long","Same as signal","Out of direction travel","signalized","Fast","long","Same as signal","Out of direction travel",2,2,2,2,2,2]
[null,"S-E","signalized","Fast","long","Same as signal","Out of direction travel","signalized","Fast","long","Same as signal","Out of direction travel",2,2,2,2,2,2]
[null,"N-W","signalized","Fast","long","Same as signal","Out of direction travel","signalized","Fast","long","Same as signal","Out of direction travel",2,2,2,2,2,2]
["Partial Displaced Left Turn","N-S","signalized","Fast","long","Same as signal","Same as signal","signalized","Fast","long","Same as signal","Same as signal",2,2,3,2,2,3]
[null,"E-W","signalized","Fast","long","Same as signal","Same as signal","signalized","Fast","long","Same as signal","Same as signal",2,2,3,2,2,3]
["Displaced Left Turn",null,"signalized","Fast","long","Same as signal","Same as signal","signalized","Fast","long","Same as signal","Same as signal",2,2,3,2,2,3]
["RCUT","N-S","signalized","Fast","short","Same as signal","Same as signal","signalized","Slow","short","Same as signal","Out of direction travel",3,3,3,3,3,2]
[null,"E-W","signalized","Fast","short","Same as signal","Same as signal","signalized","Slow","short","Same as signal","Out of direction travel",3,3,3,3,3,2]
["Unsignalized RCUT",null,"unsignalized","Fast","short","Same as signal","Same as signal","signalized","Slow","short","Same as signal","Out of direction travel",2,2,3,3,3,2]
[null,null,"unsignalized","Fast","short","Same as signal","Same as signal","signalized","Slow","short","Same as signal","Out of direction travel",2,2,3,3,3,2]
["MUT","N-S","signalized","Fast","short","Same as signal","Same as signal","signalized","Fast","short","Same as signal","Out of direction travel",3,3,3,3,3,2]
[null,"E-W","signalized","Fast","short","Same as signal","Same as signal","signalized","Fast","short","Same as signal","Out of direction travel",3,3,3,3,3,2]
["PMUT","N-S","signalized","Fast","short","Same as signal","Same as signal","signalized","Fast","short","Same as signal","Out of direction travel",3,3,3,3,3,2]
[null,"E-W","signalized","Fast","short","Same as signal","Same as signal","signalized","Fast","short","Same as signal","Out of direction travel",3,3,3,3,3,2]
["Roundabouts",null,null,null,null,null,null,null,null,null,null,null,"Scoring Results",null,null,"Scoring Results"]
["50 ICD",null,"unsignalized","slow","short","Same as signal","Same as signal","unsignalized","slow","short","Same as signal","Same as signal",3,3,{"$f":"IF($G45=$W$3,$F$12,IF($G45=$W$4,$F$13,$F$14))","v":3},3,3,3]
["75 ICD",null,"unsignalized","slow","short","Same as signal","Same as signal","unsignalized","slow","short","Same as signal","Same as signal",3,3,3,3,3,3]
["1x1",null,"unsignalized","slow","short","Same as signal","Same as signal","unsignalized","slow","short","Same as signal","Same as signal",3,3,3,3,3,3]
["1x2",null,"unsignalized","slow","long","Same as signal","Same as signal","unsignalized","slow","short","Same as signal","Same as signal",2,3,3,3,3,3]
["2x1",null,"unsignalized","slow","long","Same as signal","Same as signal","unsignalized","slow","short","Same as signal","Same as signal",2,3,3,3,3,3]
["2x2",null,"unsignalized","slow","long","Same as signal","Same as signal","unsignalized","slow","long","Same as signal","Same as signal",2,3,3,2,3,3]
["3x3",null,"unsignalized","Fast","long","Same as signal","Same as signal","unsignalized","Fast","long","Same as signal","Same as signal",1,2,3,1,2,3]
["Grade Separated",null,null,null,null,null,null,null,null,null,null,null,"Scoring Results",null,null,"Scoring Results"]
["Traditional Diamond","N-S","signalized","Fast","long","Same as signal","Same as signal","signalized","Fast","short","Same as signal","Same as signal",2,2,{"$f":"IF($G53=$W$3,$F$12,IF($G53=$W$4,$F$13,$F$14))","v":3},3,3,3]
[null,"E-W","signalized","Fast","long","Same as signal","Same as signal","signalized","Fast","short","Same as signal","Same as signal",2,2,3,3,3,3]
["PCLA","N-S","unsignalized","Fast","long","No accommodations","Same as signal","unsignalized","Fast","long","No accommodations","Same as signal",1,1,3,1,1,3]
[null,"E-W","unsignalized","Fast","long","No accommodations","Same as signal","unsignalized","Fast","long","No accommodations","Same as signal",1,1,3,1,1,3]
["PCLB","N-S","unsignalized","Fast","long","No accommodations","Same as signal","unsignalized","Fast","long","No accommodations","Same as signal",1,1,3,1,1,3]
[null,"E-W","unsignalized","Fast","long","No accommodations","Same as signal","unsignalized","Fast","long","No accommodations","Same as signal",1,1,3,1,1,3]
["DLTI","N-S","signalized","Fast","long","Same as signal","Same as signal","signalized","Fast","long","Same as signal","Same as signal",2,2,3,2,2,3]
[null,"E-W","signalized","Fast","long","Same as signal","Same as signal","signalized","Fast","long","Same as signal","Same as signal",2,2,3,2,2,3]
["DDI","N-S","signalized","Slow","short","Same as signal","Same as signal","signalized","Slow","short","Same as signal","Same as signal",3,3,3,3,3,3]
[null,"E-W","signalized","Slow","short","Same as signal","Same as signal","signalized","Slow","short","Same as signal","Same as signal",3,3,3,3,3,3]
["SPI","N-S","signalized","Fast","long","Same as signal","Same as signal","signalized","Fast","long","Same as signal","Same as signal",2,2,3,2,2,3]
[null,"E-W","signalized","Fast","long","Same as signal","Same as signal","signalized","Fast","long","Same as signal","Same as signal",2,2,3,2,2,3]

{"sheet":"3 - Alt Num Lanes Input","index":7,"n_rows":109,"n_cols":119,"rows_kept":109,"cut":false,"hidden":false,"merged":[[31,112,32,113],[31,114,32,115],[31,116,32,117],[31,118,32,119],[31,94,32,95],[31,96,32,97],[31,98,32,99],[31,100,32,101],[31,102,32,103],[31,104,32,105],[31,106,32,107],[31,108,32,109],[31,110,32,111],[27,112,28,113],[27,114,28,115],[27,116,28,117],[27,118,28,119],[29,94,30,95],[29,96,30,97],[29,98,30,99],[29,100,30,101],[29,102,30,103],[29,104,30,105],[29,106,30,107],[29,108,30,109],[29,110,30,111],[29,112,30,113],[29,114,30,115],[29,116,30,117],[29,118,30,119],[27,94,28,95],[27,96,28,97],[27,98,28,99],[27,100,28,101],[27,102,28,103],[27,104,28,105],[27,106,28,107],[27,108,28,109],[27,110,28,111],[27,66,30,82],[31,66,32,82],[27,83,28,87],[29,83,30,87],[31,83,32,87],[27,88,28,89],[27,90,28,91],[27,92,28,93],[31,88,32,89],[31,90,32,91],[31,92,32,93],[29,88,30,89],[29,90,30,91],[29,92,30,93],[31,30,32,31],[31,32,32,33],[31,34,32,35],[31,36,32,37],[31,38,32,39],[31,40,32,41],[31,42,32,43],[31,44,32,45],[31,46,32,47],[29,30,30,31],[29,32,30,33],[29,34,30,35],[29,36,30,37],[29,38,30,39],[29,40,30,41],[27,30,28,31],[27,32,28,33],[27,34,28,35],[92,21,93,25],[94,21,95,25],[96,21,97,25],[98,21,99,25],[25,30,26,33],[25,38,26,41],[96,28,97,29],[96,30,97,31],[96,32,97,33],[96,34,97,35],[96,36,97,37],[94,38,95,39],[94,40,95,41],[92,26,93,27],[92,28,93,29],[92,30,93,31],[92,32,93,33],[92,34,93,35],[92,36,93,37],[90,38,91,39],[90,40,91,41],[98,38,99,39],[98,40,99,41],[80,4,81,57],[74,1,75,60],[76,1,77,60],[82,26,83,33],[82,34,83,41],[82,42,83,49],[27,36,28,37],[27,38,28,39],[27,40,28,41],[82,4,85,20],[86,4,89,20],[90,4,93,20],[94,4,97,20],[98,4,101,20],[102,4,105,20],[108,38,109,39],[108,40,109,41],[108,42,109,43],[108,44,109,45],[108,46,109,47],[108,48,109,49],[106,50,107,51],[106,52,107,53],[106,54,107,55],[106,56,107,57],[108,26,109,27],[108,28,109,29],[108,30,109,31],[108,32,109,33],[106,21,107,25],[108,34,109,35],[108,36,109,37],[106,38,107,39],[106,40,107,41],[106,42,107,43],[106,44,107,45],[106,46,107,47],[106,48,107,49],[86,21,87,25],[88,21,89,25],[90,21,91,25],[104,50,105,51],[108,50,109,51],[104,52,105,53],[104,54,105,55],[104,56,105,57],[106,26,107,27],[106,28,107,29],[106,30,107,31],[106,32,107,33],[106,34,107,35],[106,36,107,37],[104,38,105,39],[104,40,105,41],[104,42,105,43],[104,44,105,45],[104,46,105,47],[104,48,105,49],[104,26,105,27],[104,28,105,29],[104,30,105,31],[104,32,105,33],[104,34,105,35],[104,36,105,37],[108,52,109,53],[108,54,109,55],[108,56,109,57],[102,26,103,27],[102,28,103,29],[102,30,103,31],[102,32,103,33],[102,34,103,35],[102,36,103,37],[100,38,101,39],[100,40,101,41],[100,42,101,43],[100,44,101,45],[100,46,101,47],[100,48,101,49],[102,50,103,51],[102,52,103,53],[102,54,103,55],[102,56,103,57],[102,44,103,45],[102,46,103,47],[102,48,103,49],[100,26,101,27],[100,28,101,29],[100,30,101,31],[100,32,101,33],[100,34,101,35],[100,36,101,37],[98,42,99,43],[102,38,103,39],[102,40,103,41],[102,42,103,43],[96,50,97,51],[96,52,97,53],[96,54,97,55],[96,56,97,57],[98,26,99,27],[98,28,99,29],[98,30,99,31],[98,32,99,33],[98,34,99,35],[98,36,99,37],[96,38,97,39],[96,40,97,41],[96,42,97,43],[96,44,97,45],[96,46,97,47],[96,48,97,49],[98,50,99,51],[98,52,99,53],[98,54,99,55],[98,56,99,57],[98,44,99,45],[98,46,99,47],[98,48,99,49],[96,26,97,27],[100,50,101,51],[100,52,101,53],[100,54,101,55],[100,56,101,57],[90,46,91,47],[90,48,91,49],[94,42,95,43],[92,50,93,51],[92,52,93,53],[92,54,93,55],[92,56,93,57],[94,26,95,27],[94,28,95,29],[94,30,95,31],[94,32,95,33],[94,34,95,35],[94,36,95,37],[92,38,93,39],[92,40,93,41],[92,42,93,43],[92,44,93,45],[92,46,93,47],[92,48,93,49],[94,50,95,51],[94,52,95,53],[94,54,95,55],[94,56,95,57],[94,44,95,45],[94,46,95,47],[94,48,95,49],[86,42,87,43],[86,44,87,45],[86,46,87,47],[86,48,87,49],[86,26,87,27],[86,28,87,29],[86,30,87,31],[86,32,87,33],[86,34,87,35],[86,36,87,37],[88,50,89,51],[88,52,89,53],[90,42,91,43],[88,54,89,55],[88,56,89,57],[90,26,91,27],[90,28,91,29],[90,30,91,31],[90,32,91,33],[90,34,91,35],[90,36,91,37],[88,38,89,39],[88,40,89,41],[88,42,89,43],[88,44,89,45],[88,46,89,47],[88,48,89,49],[90,50,91,51],[90,52,91,53],[90,54,91,55],[90,56,91,57],[90,44,91,45],[19,42,20,49],[19,50,20,57],[53,26,54,27],[57,26,58,27],[63,26,64,27],[69,26,70,27],[19,26,20,33],[19,34,20,41],[25,26,26,27],[33,26,34,27],[51,26,52,27],[63,56,64,57],[65,56,66,57],[67,56,68,57],[51,56,52,57],[53,56,54,57],[55,56,56,57],[25,46,26,49],[25,54,26,57],[57,56,58,57],[21,56,22,57],[65,42,66,43],[65,44,66,45],[65,46,66,47],[63,38,64,39],[63,40,64,41],[63,46,64,47],[63,48,64,49],[27,26,28,27],[27,28,28,29],[29,26,30,27],[29,28,30,29],[53,4,54,20],[63,4,66,20],[23,21,24,25],[25,21,26,25],[33,21,34,25],[41,21,42,25],[45,21,46,25],[47,21,48,25],[51,21,52,25],[53,21,54,25],[23,4,24,20],[25,4,26,20],[33,4,40,20],[41,4,48,20],[63,21,64,25],[55,4,58,20],[55,21,56,25],[49,4,52,20],[49,21,50,25],[43,21,44,25],[39,21,40,25],[35,21,36,25],[37,21,38,25],[31,4,32,20],[27,4,30,20],[27,21,28,25],[29,21,30,25],[31,21,32,25],[122,22,123,23],[106,4,109,20],[100,21,101,25],[102,21,103,25],[104,21,105,25],[110,22,111,23],[112,22,113,23],[114,22,115,23],[116,22,117,23],[118,22,119,23],[120,22,121,23],[108,21,109,25],[84,50,85,51],[84,52,85,53],[84,54,85,55],[84,56,85,57],[84,26,85,27],[84,28,85,29],[84,30,85,31],[84,32,85,33],[86,50,87,51],[86,52,87,53],[86,54,87,55],[86,56,87,57],[88,26,89,27],[88,28,89,29],[88,30,89,31],[88,32,89,33],[88,34,89,35],[88,36,89,37],[86,38,87,39],[86,40,87,41],[82,50,83,57],[82,21,85,25],[49,56,50,57],[37,56,38,57],[39,56,40,57],[23,56,24,57],[33,56,34,57],[35,56,36,57],[27,56,28,57],[29,56,30,57],[31,56,32,57],[69,50,70,51],[69,52,70,53],[69,54,70,55],[67,54,68,55],[69,28,70,29],[69,30,70,31],[69,32,70,33],[69,34,70,35],[69,36,70,37],[69,38,70,39],[69,40,70,41],[67,34,68,35],[67,36,68,37],[67,38,68,39],[67,40,68,41],[67,42,68,43],[67,44,68,45],[65,40,66,41],[31,26,32,27],[31,28,32,29],[55,54,56,55],[55,42,56,43],[55,44,56,45],[57,50,58,51],[55,46,56,47],[55,48,56,49],[55,50,56,51],[67,4,70,20],[67,21,68,25],[67,26,68,27],[67,28,68,29],[67,30,68,31],[67,32,68,33],[69,21,70,25],[65,36,66,37],[65,38,66,39],[65,21,66,25],[65,26,66,27],[65,28,66,29],[65,30,66,31],[65,32,66,33],[65,34,66,35],[63,42,64,43],[63,44,64,45],[63,28,64,29],[63,30,64,31],[63,32,64,33],[63,34,64,35],[63,36,64,37],[55,52,56,53],[61,38,62,39],[61,40,62,41],[61,42,62,43],[61,44,62,45],[61,46,62,47],[61,48,62,49],[55,26,56,27],[55,28,56,29],[55,30,56,31],[55,32,56,33],[57,21,58,25],[53,38,54,39],[53,40,54,41],[53,42,54,43],[53,44,54,45],[57,42,58,43],[53,46,54,47],[53,48,54,49],[61,50,62,51],[61,52,62,53],[57,28,58,29],[57,30,58,31],[57,32,58,33],[57,34,58,35],[57,36,58,37],[57,38,58,39],[57,40,58,41],[55,34,56,35],[55,36,56,37],[55,38,56,39],[55,40,56,41],[51,52,52,53],[51,54,52,55],[53,28,54,29],[53,30,54,31],[53,32,54,33],[53,34,54,35],[53,36,54,37],[53,50,54,51],[53,52,54,53],[53,54,54,55],[57,52,58,53],[57,54,58,55],[49,54,50,55],[51,28,52,29],[51,30,52,31],[51,32,52,33],[51,34,52,35],[51,36,52,37],[51,38,52,39],[51,40,52,41],[49,34,50,35],[49,36,50,37],[49,38,50,39],[49,40,50,41],[49,42,50,43],[49,44,50,45],[51,44,52,45],[51,46,52,47],[51,48,52,49],[51,50,52,51],[51,42,52,43],[49,46,50,47],[39,50,40,51],[39,52,40,53],[39,54,40,55],[39,36,40,37],[39,38,40,39],[39,40,40,41],[39,42,40,43],[39,44,40,45],[39,46,40,47],[41,26,48,57],[49,26,50,27],[49,28,50,29],[49,30,50,31],[49,32,50,33],[49,48,50,49],[49,50,50,51],[49,52,50,53],[39,26,40,27],[39,28,40,29],[39,30,40,31],[39,32,40,33],[39,34,40,35],[39,48,40,49],[37,42,38,43],[37,44,38,45],[37,46,38,47],[37,48,38,49],[37,30,38,31],[37,32,38,33],[37,34,38,35],[37,36,38,37],[37,38,38,39],[37,40,38,41],[35,36,36,37],[35,38,36,39],[35,40,36,41],[35,26,36,27],[35,28,36,29],[35,30,36,31],[35,32,36,33],[35,34,36,35],[33,46,34,47],[35,42,36,43],[35,44,36,45],[35,46,36,47],[23,50,24,51],[23,52,24,53],[23,54,24,55],[27,48,28,49],[27,50,28,51],[27,52,28,53],[27,54,28,55],[29,48,30,49],[29,50,30,51],[29,52,30,53],[29,54,30,55],[31,48,32,49],[31,50,32,51],[31,52,32,53],[31,54,32,55],[33,48,34,49],[33,50,34,51],[27,42,28,43],[27,44,28,45],[27,46,28,47],[29,42,30,43],[29,44,30,45],[29,46,30,47],[21,50,22,51],[21,52,22,53],[21,54,22,55],[23,28,24,29],[23,30,24,31],[23,32,24,33],[23,34,24,35],[23,40,24,41],[23,42,24,43],[23,44,24,45],[23,46,24,47],[23,36,24,37],[23,38,24,39],[25,34,26,35],[25,36,26,37],[21,26,22,27],[21,28,22,29],[21,30,22,31],[21,32,22,33],[21,34,22,35],[21,36,22,37],[21,38,22,39],[21,40,22,41],[21,42,22,43],[25,52,26,53],[19,4,22,20],[19,21,22,25],[21,44,22,45],[21,46,22,47],[21,48,22,49],[69,56,70,57],[69,42,70,43],[69,44,70,45],[69,46,70,47],[69,48,70,49],[67,46,68,47],[67,48,68,49],[67,50,68,51],[67,52,68,53],[65,48,66,49],[65,50,66,51],[65,52,66,53],[65,54,66,55],[63,50,64,51],[63,52,64,53],[63,54,64,55],[57,44,58,45],[57,46,58,47],[57,48,58,49],[37,54,38,55],[35,48,36,49],[35,50,36,51],[35,52,36,53],[35,54,36,55],[33,52,34,53],[33,54,34,55],[25,50,26,51],[37,50,38,51],[37,52,38,53],[23,26,24,27],[84,34,85,35],[84,36,85,37],[84,38,85,39],[84,40,85,41],[84,42,85,43],[84,44,85,45],[84,46,85,47],[84,48,85,49],[37,26,38,27],[37,28,38,29],[23,48,24,49],[33,28,34,29],[33,30,34,31],[33,32,34,33],[33,34,34,35],[33,36,34,37],[33,38,34,39],[25,42,26,43],[25,44,26,45],[61,26,62,27],[61,28,62,29],[61,30,62,31],[61,32,62,33],[61,34,62,35],[61,36,62,37],[25,28,26,29],[33,40,34,41],[33,42,34,43],[33,44,34,45],[11,4,12,11],[11,12,12,57],[13,4,14,11],[13,12,14,57],[17,4,18,57],[0,1,1,60],[2,1,3,60],[7,4,8,11],[7,12,8,57],[9,4,10,11],[9,12,10,57],[15,4,15,11],[15,12,15,57],[0,63,1,122],[2,63,3,122],[7,66,8,73],[7,74,8,119],[9,66,10,73],[9,74,10,119],[11,66,12,73],[11,74,12,119],[13,66,14,73],[13,74,14,119],[15,66,15,73],[15,74,15,119],[17,66,18,119],[19,66,22,82],[19,83,22,87],[19,88,20,95],[19,96,20,103],[19,104,20,111],[19,112,20,119],[21,88,22,89],[21,90,22,91],[21,92,22,93],[21,94,22,95],[21,96,22,97],[21,98,22,99],[21,100,22,101],[21,102,22,103],[21,104,22,105],[21,106,22,107],[21,108,22,109],[21,110,22,111],[21,112,22,113],[21,114,22,115],[21,116,22,117],[21,118,22,119],[23,66,24,82],[23,83,24,87],[23,88,24,89],[23,90,24,91],[23,92,24,93],[23,94,24,95],[23,96,24,97],[23,98,24,99],[23,100,24,101],[23,102,24,103],[23,104,24,105],[23,106,24,107],[23,108,24,109],[23,110,24,111],[23,112,24,113],[23,114,24,115],[23,116,24,117],[23,118,24,119],[25,66,26,82],[25,83,26,87],[25,88,26,89],[25,90,26,91],[25,92,26,95],[25,96,26,97],[25,98,26,99],[25,100,26,103],[25,104,26,105],[25,106,26,107],[25,108,26,111],[25,112,26,113],[25,114,26,115],[25,116,26,119],[33,66,40,82],[33,83,34,87],[33,88,34,89],[33,90,34,91],[33,92,34,93],[33,94,34,95],[33,96,34,97],[33,98,34,99],[33,100,34,101],[33,102,34,103],[33,104,34,105],[33,106,34,107],[33,108,34,109],[33,110,34,111],[33,112,34,113],[33,114,34,115],[33,116,34,117],[33,118,34,119],[35,83,36,87],[35,88,36,89],[35,90,36,91],[35,92,36,93],[35,94,36,95],[35,96,36,97],[35,98,36,99],[35,100,36,101],[35,102,36,103],[35,104,36,105],[35,106,36,107],[35,108,36,109],[35,110,36,111],[35,112,36,113],[35,114,36,115],[35,116,36,117],[35,118,36,119],[37,83,38,87],[37,88,38,89],[37,90,38,91],[37,92,38,93],[37,94,38,95],[37,96,38,97],[37,98,38,99],[37,100,38,101],[37,102,38,103],[37,104,38,105],[37,106,38,107],[37,108,38,109],[37,110,38,111],[37,112,38,113],[37,114,38,115],[37,116,38,117],[37,118,38,119],[39,83,40,87],[39,88,40,89],[39,90,40,91],[39,92,40,93],[39,94,40,95],[39,96,40,97],[39,98,40,99],[39,100,40,101],[39,102,40,103],[39,104,40,105],[39,106,40,107],[39,108,40,109],[39,110,40,111],[39,112,40,113],[39,114,40,115],[39,116,40,117],[39,118,40,119],[41,66,48,82],[41,83,42,87],[41,88,42,89],[41,90,42,91],[41,92,42,93],[41,94,42,95],[41,96,42,97],[41,98,42,99],[41,100,42,101],[41,102,42,103],[41,104,42,105],[41,106,42,107],[41,108,42,109],[41,110,42,111],[41,112,42,113],[41,114,42,115],[41,116,42,117],[47,106,48,107],[47,108,48,109],[47,110,48,111],[47,112,48,113],[47,114,48,115],[47,116,48,117],[45,83,46,87],[45,88,46,89],[45,90,46,91],[45,92,46,93],[45,94,46,95],[45,96,46,97],[45,98,46,99],[45,100,46,101],[45,102,46,103],[41,118,42,119],[43,83,44,87],[43,88,44,89],[43,90,44,91],[43,92,44,93],[43,94,44,95],[43,96,44,97],[43,98,44,99],[43,100,44,101],[43,102,44,103],[43,104,44,105],[43,106,44,107],[43,108,44,109],[43,110,44,111],[43,112,44,113],[43,114,44,115],[43,116,44,117],[43,118,44,119],[49,118,50,119],[51,83,52,87],[51,88,52,89],[51,90,52,91],[51,92,52,93],[51,94,52,95],[45,104,46,105],[45,106,46,107],[45,108,46,109],[45,110,46,111],[45,112,46,113],[45,114,46,115],[45,116,46,117],[45,118,46,119],[47,83,48,87],[47,88,48,89],[47,90,48,91],[47,92,48,93],[47,94,48,95],[47,96,48,97],[47,98,48,99],[47,100,48,101],[47,102,48,103],[47,104,48,105],[51,102,52,103],[51,104,52,105],[51,106,52,107],[51,108,52,109],[51,110,52,111],[51,112,52,113],[47,118,48,119],[51,118,52,119],[49,66,52,82],[49,83,50,87],[49,88,50,89],[49,90,50,91],[49,92,50,93],[49,94,50,95],[49,96,50,97],[49,98,50,99],[49,100,50,101],[49,102,50,103],[49,104,50,105],[49,106,50,107],[49,108,50,109],[49,110,50,111],[49,112,50,113],[49,114,50,115],[49,116,50,117],[51,114,52,115],[51,116,52,117],[53,66,54,82],[53,83,54,87],[53,88,54,89],[53,90,54,91],[53,92,54,93],[53,94,54,95],[53,96,54,97],[53,98,54,99],[53,100,54,101],[53,102,54,103],[53,104,54,105],[53,106,54,107],[53,108,54,109],[53,110,54,111],[53,112,54,113],[53,114,54,115],[53,116,54,117],[53,118,54,119],[51,96,52,97],[51,98,52,99],[51,100,52,101],[55,66,58,82],[55,83,56,87],[55,88,56,89],[55,90,56,91],[55,92,56,93],[55,94,56,95],[55,96,56,97],[55,98,56,99],[55,100,56,101],[57,83,58,87],[57,88,58,89],[57,90,58,91],[57,92,58,93],[57,94,58,95],[57,96,58,97],[57,98,58,99],[57,100,58,101],[55,102,56,103],[55,104,56,105],[55,106,56,107],[55,108,56,109],[55,110,56,111],[55,112,56,113],[55,114,56,115],[55,116,56,117],[55,118,56,119],[57,102,58,103],[57,104,58,105],[57,106,58,107],[57,108,58,109],[57,110,58,111],[57,112,58,113],[57,114,58,115],[57,116,58,117],[57,118,58,119],[63,66,66,82],[63,83,64,87],[63,88,64,89],[63,90,64,91],[63,92,64,93],[63,94,64,95],[63,96,64,97],[63,98,64,99],[63,100,64,101],[65,83,66,87],[65,88,66,89],[65,90,66,91],[65,92,66,93],[65,94,66,95],[65,96,66,97],[65,98,66,99],[65,100,66,101],[63,102,64,103],[63,104,64,105],[63,106,64,107],[63,108,64,109],[63,110,64,111],[63,112,64,113],[63,114,64,115],[63,116,64,117],[63,118,64,119],[65,102,66,103],[65,104,66,105],[65,106,66,107],[65,108,66,109],[65,110,66,111],[65,112,66,113],[65,114,66,115],[65,116,66,117],[65,118,66,119],[67,66,70,82],[67,83,68,87],[67,88,68,89],[67,90,68,91],[67,92,68,93],[67,94,68,95],[67,96,68,97],[67,98,68,99],[67,100,68,101],[69,83,70,87]],"merged_total":1081,"flags":["merged_cut"]}
[null,"Capacity Analysis for Planning of Junctions\nCapacity Analysis for Planning of Junctions",null,null,null,null,null,null,null,null,null,null,null,null,null,null,null,null,null,null,null,null,null,null,null,null,null,null,null,null,null,null,null,null,null,null,null,null,null,null,null,null,null,null,null,null,null,null,null,null,null,null,null,null,null,null,null,null,null,null,null,null,null,"Capacity Analysis for Planning of Junctions\nCapacity Analysis for Planning of Junctions"]
[]
[null,"Input Worksheet 2",null,null,null,null,null,null,null,null,null,null,null,null,null,null,null,null,null,null,null,null,null,null,null,null,null,null,null,null,null,null,null,null,null,null,null,null,null,null,null,null,null,null,null,null,null,null,null,null,null,null,null,null,null,null,null,null,null,null,null,null,null,"Input Worksheet 2"]
[]
[]
[]
[]
[null,null,null,null,"Project Name:",null,null,null,null,null,null,null,{"$f":"'1 - Volume Input'!M8","v":"Cap-X Sample Street"},null,null,null,null,null,null,null,null,null,null,null,null,null,null,null,null,null,null,null,null,null,null,null,null,null,null,null,null,null,null,null,null,null,null,null,null,null,null,null,null,null,null,null,null,null,null,null,null,null,null,null,null,null,"Project Name:",null,null,null,null,null,null,null,{"$f":"M8","v":"Cap-X Sample Street"}]
[]
[null,null,null,null,"Project Number:",null,null,null,null,null,null,null,{"$f":"'1 - Volume Input'!M10","v":10000},null,null,null,null,null,null,null,null,null,null,null,null,null,null,null,null,null,null,null,null,null,null,null,null,null,null,null,null,null,null,null,null,null,null,null,null,null,null,null,null,null,null,null,null,null,null,null,null,null,null,null,null,null,"Project Number:",null,null,null,null,null,null,null,{"$f":"M10","v":10000}]
[]
[null,null,null,null,"Location:",null,null,null,null,null,null,null,{"$f":"'1 - Volume Input'!M12","v":"Tallahassee, FL"},null,null,null,null,null,null,null,null,null,null,null,null,null,null,null,null,null,null,null,null,null,null,null,null,null,null,null,null,null,null,null,null,null,null,null,null,null,null,null,null,null,null,null,null,null,null,null,null,null,null,null,null,null,"Location:",null,null,null,null,null,null,null,{"$f":"M12","v":"Tallahassee, FL"}]
[]
[null,null,null,null,"Date:",null,null,null,null,null,null,null,{"$f":"'1 - Volume Input'!M14","v":"2017 AM"},null,null,null,null,null,null,null,null,null,null,null,null,null,null,null,null,null,null,null,null,null,null,null,null,null,null,null,null,null,null,null,null,null,null,null,null,null,null,null,null,null,null,null,null,null,null,null,null,null,null,null,null,null,"Date:",null,null,null,null,null,null,null,{"$f":"M14","v":"2017 AM"}]
[]
[null,null,null,null,"Analysis Type:",null,null,null,null,null,null,null,"At-Grade Intersections and Interchanges",null,null,null,null,null,null,null,null,null,null,null,null,null,null,null,null,null,null,null,null,null,null,null,null,null,null,null,null,null,null,null,null,null,null,null,null,null,null,null,null,null,null,null,null,null,null,"At-Grade Intersections and Interchanges",null,null,null,null,null,null,"Analysis Type:",null,null,null,null,null,null,null,{"$f":"AnalysisType","v":"At-Grade Intersections and Interchanges"}]
[null,null,null,null,null,null,null,null,null,null,null,null,null,null,null,null,null,null,null,null,null,null,null,null,null,null,null,null,null,null,null,null,null,null,null,null,null,null,null,null,null,null,null,null,null,null,null,null,null,null,null,null,null,null,null,null,null,null,null,"At-Grade Intersections Only"]
[null,null,null,null,"Number of Lanes for Non-roundabout Intersections",null,null,null,null,null,null,null,null,null,null,null,null,null,null,null,null,null,null,null,null,null,null,null,null,null,null,null,null,null,null,null,null,null,null,null,null,null,null,null,null,null,null,null,null,null,null,null,null,null,null,null,null,null,null,null,null,null,null,null,null,null,"Volume Echo with Shared Lane Adjustment for Non-roundabout Intersections"]
[]
[null,null,null,null,"TYPE OF INTERSECTION",null,null,null,null,null,null,null,null,null,null,null,null,null,null,null,null,"Sheet",null,null,null,null,"Northbound",null,null,null,null,null,null,null,"Southbound",null,null,null,null,null,null,null,"Eastbound",null,null,null,null,null,null,null,"Westbound",null,null,null,null,null,null,null,null,null,null,null,null,null,null,null,"TYPE OF INTERSECTION",null,null,null,null,null,null,null,null,null,null,null,null,null,null,null,null,"Sheet",null,null,null,null,"Northbound",null,null,null,null,null,null,null,"Southbound",null,null,null,null,null,null,null,"Eastbound",null,null,null,null,null,null,null,"Westbound"]
[]
[null,null,null,null,null,null,null,null,null,null,null,null,null,null,null,null,null,null,null,null,null,null,null,null,null,null,"U",null,"L",null,"T",null,"R",null,"U",null,"L",null,"T",null,"R",null,"U",null,"L",null,"T",null,"R",null,"U",null,"L",null,"T",null,"R",null,null,null,null,null,null,null,null,null,null,null,null,null,null,null,null,null,null,null,null,null,null,null,null,null,null,null,null,null,null,null,"U",null,"L",null,"T",null,"R",null,"U",null,"L",null,"T",null,"R",null,"U",null,"L",null,"T",null,"R",null,"U",null,"L",null,"T",null,"R"]
[]
[null,null,null,null,"Traffic Signal",null,null,null,null,null,null,null,null,null,null,null,null,null,null,null,null,"FULL",null,null,null,null,null,null,1,null,2,null,1,null,null,null,1,null,2,null,1,null,null,null,1,null,2,null,1,null,null,null,1,null,2,null,1,null,null,null,null,null,null,null,null,null,{"$f":"'3 - Alt Num Lanes Input'!E24","v":"Traffic Signal"},null,null,null,null,null,null,null,null,null,null,null,null,null,null,null,null,"FULL",null,null,null,null,null,null,{"$f":"IF(AC24>0,NBL_Master,0)","v":102},null,{"$f":"NBT_Master + IF(AC24=0,NBL_Master,0) + IF(AG24=0,NBR_Master)","v":510},null,{"$f":"IF(AG24>0,NBR_Master,0)","v":204},null,null,null,{"$f":"IF(AK24>0,SBL_Master,0)","v":102},null,{"$f":"SBT_Master + IF(AK24=0,SBL_Master,0) + IF(AO24=0,SBR_Master)","v":510},null,{"$f":"IF(AO24>0,SBR_Master,0)","v":204},null,null,null,{"$f":"IF(AS24>0,EBL_Master,0)","v":31},null,{"$f":"EBT_Master + IF(AS24=0,EBL_Master,0) + IF(AW24=0,EBR_Master)","v":204},null,{"$f":"IF(AW24>0,EBR_Master,0)","v":51},null,null,null,{"$f":"IF(BA24>0,WBL_Master,0)","v":31},null,{"$f":"WBT_Master + IF(BA24=0,WBL_Master,0) + IF(BE24=0,WBR_Master)","v":204},null,{"$f":"IF(BE24>0,WBR_Master,0)","v":51}]
[]
[null,null,null,null,"Conventional Shared RT LN",null,null,null,null,null,null,null,null,null,null,null,null,null,null,null,null,"CSRL",null,null,null,null,null,null,1,null,2,null,null,null,null,null,1,null,2,null,null,null,null,null,1,null,2,null,null,null,null,null,1,null,2,null,null,null,null,null,null,null,null,null,null,null,"Conventional Shared RT LN",null,null,null,null,null,null,null,null,null,null,null,null,null,null,null,null,"CSRL",null,null,null,null,null,null,{"$f":"IF(AC26>0,NBL_Master,0)","v":102},null,{"$f":"NBT_Master + NBR_Master","v":714},null,null,null,null,null,{"$f":"IF(AK26>0,SBL_Master,0)","v":102},null,{"$f":"SBT_Master + SBR_Master","v":714},null,null,null,null,null,{"$f":"IF(AS26>0,EBL_Master,0)","v":31},null,{"$f":"EBT_Master + EBR_Master","v":255},null,null,null,null,null,{"$f":"IF(BA26>0,WBL_Master,0)","v":31},null,{"$f":"WBT_Master + WBR_Master","v":255}]
[]
[null,null,null,null,"Two-Way Stop Control",null,null,null,null,null,null,null,null,null,null,null,null,null,null,null,null,"N-S",null,null,null,null,null,null,1,null,2,null,1,null,null,null,1,null,2,null,1,null,null,null,1,null,2,null,1,null,null,null,1,null,2,null,1,null,null,null,null,null,null,null,null,null,{"$f":"E28","v":"Two-Way Stop Control"},null,null,null,null,null,null,null,null,null,null,null,null,null,null,null,null,"N-S",null,null,null,null,null,null,{"$f":"IF(AC28>0,NBL_Master,0)","v":102},null,{"$f":"NBT_Master + IF(AC28=0,NBL_Master,0) + IF(AG28=0,NBR_Master)","v":510},null,{"$f":"IF(AG28>0,NBR_Master,0)","v":204},null,null,null,{"$f":"IF(AK28>0,SBL_Master,0)","v":102},null,{"$f":"SBT_Master + IF(AK28=0,SBL_Master,0) + IF(AO28=0,SBR_Master)","v":510},null,{"$f":"IF(AO28>0,SBR_Master,0)","v":204},null,null,null,{"$f":"IF(AS28>0,EBL_Master,0)","v":31},null,{"$f":"EBT_Master + IF(AS28=0,EBL_Master,0) + IF(AW28=0,EBR_Master)","v":204},null,{"$f":"IF(AW28>0,EBR_Master,0)","v":51},null,null,null,{"$f":"IF(BA28>0,WBL_Master,0)","v":31},null,{"$f":"WBT_Master + IF(BA28=0,WBL_Master,0) + IF(BE28=0,WBR_Master)","v":204},null,{"$f":"IF(BE28>0,WBR_Master,0)","v":51}]
[]
[null,null,null,null,null,null,null,null,null,null,null,null,null,null,null,null,null,null,null,null,null,"E-W",null,null,null,null,null,null,1,null,2,null,1,null,null,null,1,null,2,null,1,null,null,null,1,null,2,null,1,null,null,null,1,null,2,null,1,null,null,null,null,null,null,null,null,null,null,null,null,null,null,null,null,null,null,null,null,null,null,null,null,null,null,"E-W",null,null,null,null,null,null,{"$f":"IF(AC30>0,NBL_Master,0)","v":102},null,{"$f":"NBT_Master + IF(AC30=0,NBL_Master,0) + IF(AG30=0,NBR_Master)","v":510},null,{"$f":"IF(AG30>0,NBR_Master,0)","v":204},null,null,null,{"$f":"IF(AK30>0,SBL_Master,0)","v":102},null,{"$f":"SBT_Master + IF(AK30=0,SBL_Master,0) + IF(AO30=0,SBR_Master)","v":510},null,{"$f":"IF(AO30>0,SBR_Master,0)","v":204},null,null,null,{"$f":"IF(AS30>0,EBL_Master,0)","v":31},null,{"$f":"EBT_Master + IF(AS30=0,EBL_Master,0) + IF(AW30=0,EBR_Master)","v":204},null,{"$f":"IF(AW30>0,EBR_Master,0)","v":51},null,null,null,{"$f":"IF(BA30>0,WBL_Master,0)","v":31},null,{"$f":"WBT_Master + IF(BA30=0,WBL_Master,0) + IF(BE30=0,WBR_Master)","v":204},null,{"$f":"IF(BE30>0,WBR_Master,0)","v":51}]
[]
[null,null,null,null,"All-Way Stop Control",null,null,null,null,null,null,null,null,null,null,null,null,null,null,null,null,"FULL",null,null,null,null,null,null,1,null,2,null,1,null,null,null,1,null,2,null,1,null,null,null,1,null,2,null,1,null,null,null,1,null,2,null,1,null,null,null,null,null,null,null,null,null,{"$f":"E32","v":"All-Way Stop Control"},null,null,null,null,null,null,null,null,null,null,null,null,null,null,null,null,"FULL",null,null,null,null,null,null,{"$f":"IF(AC32>0,NBL_Master,0)","v":102},null,{"$f":"NBT_Master + IF(AC32=0,NBL_Master,0) + IF(AG32=0,NBR_Master)","v":510},null,{"$f":"IF(AG32>0,NBR_Master,0)","v":204},null,null,null,{"$f":"IF(AK32>0,SBL_Master,0)","v":102},null,{"$f":"SBT_Master + IF(AK32=0,SBL_Master,0) + IF(AO32=0,SBR_Master)","v":510},null,{"$f":"IF(AO32>0,SBR_Master,0)","v":204},null,null,null,{"$f":"IF(AS32>0,EBL_Master,0)","v":31},null,{"$f":"EBT_Master + IF(AS32=0,EBL_Master,0) + IF(AW32=0,EBR_Master)","v":204},null,{"$f":"IF(AW32>0,EBR_Master,0)","v":51},null,null,null,{"$f":"IF(BA32>0,WBL_Master,0)","v":31},null,{"$f":"WBT_Master + IF(BA32=0,WBL_Master,0) + IF(BE32=0,WBR_Master)","v":204},null,{"$f":"IF(BE32>0,WBR_Master,0)","v":51}]
[]
[null,null,null,null,"Continuous Green T",null,null,null,null,null,null,null,null,null,null,null,null,null,null,null,null,"W",null,null,null,null,null,null,1,null,2,null,null,null,null,null,null,null,2,null,1,null,null,null,1,null,null,null,1,null,null,null,null,null,null,null,null,null,null,null,null,null,null,null,null,null,"Continuous Green T",null,null,null,null,null,null,null,null,null,null,null,null,null,null,null,null,"W",null,null,null,null,null,null,{"$f":"IF(AC34>0,NBL_Master,0)","v":102},null,{"$f":"NBT_Master + IF(AC34=0,NBL_Master,0)","v":510},null,null,null,null,null,null,null,{"$f":"SBT_Master + IF(AO34=0,SBR_Master)","v":510},null,{"$f":"IF(AO34>0,SBR_Master,0)","v":204},null,null,null,{"$f":"IF(AS34>0,EBL_Master,0)","v":31},null,null,null,{"$f":"IF(AW34>0,EBR_Master,0)","v":51}]
[]
[null,null,null,null,null,null,null,null,null,null,null,null,null,null,null,null,null,null,null,null,null,"N",null,null,null,null,null,null,null,null,null,null,null,null,null,null,1,null,null,null,1,null,null,null,1,null,2,null,null,null,null,null,null,null,2,null,1,null,null,null,null,null,null,null,null,null,null,null,null,null,null,null,null,null,null,null,null,null,null,null,null,null,null,"N",null,null,null,null,null,null,null,null,null,null,null,null,null,null,{"$f":"IF(AK36>0,SBL_Master,0)","v":102},null,null,null,{"$f":"IF(AO36>0,SBR_Master,0)","v":204},null,null,null,{"$f":"IF(AS36>0,EBL_Master,0)","v":31},null,{"$f":"EBT_Master + IF(AS36=0,EBL_Master,0)","v":204},null,null,null,null,null,null,null,{"$f":"WBT_Master + IF(BE36=0,WBR_Master)","v":204},null,{"$f":"IF(BE36>0,WBL_Master,0)","v":31}]
[]
[null,null,null,null,null,null,null,null,null,null,null,null,null,null,null,null,null,null,null,null,null,"E",null,null,null,null,null,null,null,null,2,null,1,null,null,null,1,null,2,null,null,null,null,null,null,null,null,null,null,null,null,null,1,null,null,null,1,null,null,null,null,null,null,null,null,null,null,null,null,null,null,null,null,null,null,null,null,null,null,null,null,null,null,"E",null,null,null,null,null,null,null,null,{"$f":"NBT_Master + IF(AG38=0,NBR_Master)","v":510},null,{"$f":"IF(AG38>0,NBR_Master,0)","v":204},null,null,null,{"$f":"IF(AK38>0,SBL_Master,0)","v":102},null,{"$f":"SBT_Master + IF(AK38=0,SBL_Master,0)","v":510},null,null,null,null,null,null,null,null,null,null,null,null,null,{"$f":"IF(BA38>0,WBL_Master,0)","v":31},null,null,null,{"$f":"IF(BE38>0,WBL_Master,0)","v":31}]
[]
[null,null,null,null,null,null,null,null,null,null,null,null,null,null,null,null,null,null,null,null,null,"S",null,null,null,null,null,null,1,null,null,null,1,null,null,null,null,null,null,null,null,null,null,null,null,null,2,null,1,null,null,null,1,null,2,null,null,null,null,null,null,null,null,null,null,null,null,null,null,null,null,null,null,null,null,null,null,null,null,null,null,null,null,"S",null,null,null,null,null,null,{"$f":"IF(AC40>0,NBL_Master,0)","v":102},null,null,null,{"$f":"IF(AG40>0,NBR_Master,0)","v":204},null,null,null,null,null,null,null,null,null,null,null,null,null,{"$f":"EBT_Master+ IF(AW40=0,EBR_Master)","v":204},null,{"$f":"IF(AW40>0,EBR_Master,0)","v":51},null,null,null,{"$f":"IF(BA40>0,WBL_Master,0)","v":31},null,{"$f":"WBT_Master + IF(BA40=0,WBL_Master,0)","v":204}]
[]
[null,null,null,null,"Quadrant Roadway",null,null,null,null,null,null,null,null,null,null,null,null,null,null,null,null,"S-W",null,null,null,null,"Use the respective intersection tab(s) to specify the # of lanes inputs.",null,null,null,null,null,null,null,null,null,null,null,null,null,null,null,null,null,null,null,null,null,null,null,null,null,null,null,null,null,null,null,null,null,null,null,null,null,null,null,"Quadrant Roadway",null,null,null,null,null,null,null,null,null,null,null,null,null,null,null,null,"S-W",null,null,null,null,null,null,{"$f":"NBL_Master","v":102},null,{"$f":"NBT_Master","v":510},null,{"$f":"NBR_Master","v":204},null,null,null,null,null,{"$f":"SBT_Master","v":510},null,{"$f":"SBR_Master","v":204},null,null,null,{"$f":"EBL_Master","v":31},null,{"$f":"EBT_Master","v":204},null,{"$f":"EBR_Master","v":51},null,null,null,{"$f":"WBL_Master","v":31},null,{"$f":"WBT_Master","v":204},null,{"$f":"WBR_Master","v":51}]
[]
[null,null,null,null,null,null,null,null,null,null,null,null,null,null,null,null,null,null,null,null,null,"N-E",null,null,null,null,null,null,null,null,null,null,null,null,null,null,null,null,null,null,null,null,null,null,null,null,null,null,null,null,null,null,null,null,null,null,null,null,null,null,null,null,null,null,null,null,null,null,null,null,null,null,null,null,null,null,null,null,null,null,null,null,null,"N-E",null,null,null,null,null,null,null,null,{"$f":"NBT_Master","v":510},null,{"$f":"NBR_Master","v":204},null,null,null,{"$f":"SBL_Master","v":102},null,{"$f":"SBT_Master","v":510},null,{"$f":"SBR_Master","v":204},null,null,null,{"$f":"EBL_Master","v":31},null,{"$f":"EBT_Master","v":204},null,{"$f":"EBR_Master","v":51},null,null,null,{"$f":"WBL_Master","v":31},null,{"$f":"WBT_Master","v":204},null,{"$f":"WBR_Master","v":51}]
[]
[null,null,null,null,null,null,null,null,null,null,null,null,null,null,null,null,null,null,null,null,null,"S-E",null,null,null,null,null,null,null,null,null,null,null,null,null,null,null,null,null,null,null,null,null,null,null,null,null,null,null,null,null,null,null,null,null,null,null,null,null,null,null,null,null,null,null,null,null,null,null,null,null,null,null,null,null,null,null,null,null,null,null,null,null,"S-E",null,null,null,null,null,null,{"$f":"NBL_Master","v":102},null,{"$f":"NBT_Master","v":510},null,{"$f":"NBR_Master","v":204},null,null,null,{"$f":"SBL_Master","v":102},null,{"$f":"SBT_Master","v":510},null,{"$f":"SBR_Master","v":204},null,null,null,null,null,{"$f":"EBT_Master","v":204},null,{"$f":"EBR_Master","v":51},null,null,null,{"$f":"WBL_Master","v":31},null,{"$f":"WBT_Master","v":204},null,{"$f":"WBR_Master","v":51}]
[]
[null,null,null,null,null,null,null,null,null,null,null,null,null,null,null,null,null,null,null,null,null,"N-W",null,null,null,null,null,null,null,null,null,null,null,null,null,null,null,null,null,null,null,null,null,null,null,null,null,null,null,null,null,null,null,null,null,null,null,null,null,null,null,null,null,null,null,null,null,null,null,null,null,null,null,null,null,null,null,null,null,null,null,null,null,"N-W",null,null,null,null,null,null,{"$f":"NBL_Master","v":102},null,{"$f":"NBT_Master","v":510},null,{"$f":"NBR_Master","v":204},null,null,null,{"$f":"SBL_Master","v":102},null,{"$f":"SBT_Master","v":510},null,{"$f":"SBR_Master","v":204},null,null,null,{"$f":"EBL_Master","v":31},null,{"$f":"EBT_Master","v":204},null,{"$f":"EBR_Master","v":51},null,null,null,null,null,{"$f":"WBT_Master","v":204},null,{"$f":"WBR_Master","v":51}]
[]
[null,null,null,null,"Partial Displaced Left Turn",null,null,null,null,null,null,null,null,null,null,null,null,null,null,null,null,"N-S",null,null,null,null,null,null,1,null,2,null,1,null,null,null,1,null,2,null,1,null,null,null,1,null,2,null,1,null,null,null,1,null,2,null,1,null,null,null,null,null,null,null,null,null,"Partial Displaced Left Turn",null,null,null,null,null,null,null,null,null,null,null,null,null,null,null,null,"N-S",null,null,null,null,null,null,{"$f":"NBL_Master","v":102},null,{"$f":"NBT_Master + IF(AG50=0,NBR_Master)","v":510},null,{"$f":"IF(AG50>0,NBR_Master,0)","v":204},null,null,null,{"$f":"SBL_Master","v":102},null,{"$f":"SBT_Master + IF(AO50=0,SBR_Master)","v":510},null,{"$f":"IF(AO50>0,SBR_Master,0)","v":204},null,null,null,{"$f":"IF(AS50>0,EBL_Master,0)","v":31},null,{"$f":"EBT_Master + IF(AS50=0,EBL_Master,0) + IF(AW50=0,EBR_Master)","v":204},null,{"$f":"IF(AW50>0,EBR_Master,0)","v":51},null,null,null,{"$f":"IF(BA50>0,WBL_Master,0)","v":31},null,{"$f":"WBT_Master + IF(BA50=0,WBL_Master,0) + IF(BE50=0,WBR_Master)","v":204},null,{"$f":"IF(BE50>0,WBR_Master,0)","v":51}]
[]
[null,null,null,null,null,null,null,null,null,null,null,null,null,null,null,null,null,null,null,null,null,"E-W",null,null,null,null,null,null,1,null,2,null,1,null,null,null,1,null,2,null,1,null,null,null,1,null,2,null,1,null,null,null,1,null,2,null,1,null,null,null,null,null,null,null,null,null,null,null,null,null,null,null,null,null,null,null,null,null,null,null,null,null,null,"E-W",null,null,null,null,null,null,{"$f":"IF(AC52>0,NBL_Master,0)","v":102},null,{"$f":"NBT_Master + IF(AC52=0,NBL_Master,0) + IF(AG52=0,NBR_Master)","v":510},null,{"$f":"IF(AG52>0,NBR_Master,0)","v":204},null,null,null,{"$f":"IF(AK52>0,SBL_Master,0)","v":102},null,{"$f":"SBT_Master + IF(AK52=0,SBL_Master,0) + IF(AO52=0,SBR_Master)","v":510},null,{"$f":"IF(AO52>0,SBR_Master,0)","v":204},null,null,null,{"$f":"EBL_Master","v":31},null,{"$f":"EBT_Master+ IF(AW52=0,EBR_Master)","v":204},null,{"$f":"IF(AW52>0,EBR_Master,0)","v":51},null,null,null,{"$f":"WBL_Master","v":31},null,{"$f":"WBT_Master + IF(BE52=0,WBR_Master)","v":204},null,{"$f":"IF(BE52>0,WBR_Master,0)","v":51}]
[]
[null,null,null,null,"Displaced Left Turn",null,null,null,null,null,null,null,null,null,null,null,null,null,null,null,null,"FULL",null,null,null,null,null,null,1,null,2,null,1,null,null,null,1,null,2,null,1,null,null,null,1,null,2,null,1,null,null,null,1,null,2,null,1,null,null,null,null,null,null,null,null,null,"Displaced Left Turn",null,null,null,null,null,null,null,null,null,null,null,null,null,null,null,null,"FULL",null,null,null,null,null,null,{"$f":"NBL_Master","v":102},null,{"$f":"NBT_Master + IF(AG54=0,NBR_Master)","v":510},null,{"$f":"IF(AG54>0,NBR_Master,0)","v":204},null,null,null,{"$f":"SBL_Master","v":102},null,{"$f":"SBT_Master + IF(AO54=0,SBR_Master)","v":510},null,{"$f":"IF(AO54>0,SBR_Master,0)","v":204},null,null,null,{"$f":"EBL_Master","v":31},null,{"$f":"EBT_Master + IF(AW54=0,EBR_Master)","v":204},null,{"$f":"IF(AW54>0,EBR_Master,0)","v":51},null,null,null,{"$f":"WBL_Master","v":31},null,{"$f":"WBT_Master + IF(BE54=0,WBR_Master)","v":204},null,{"$f":"IF(BE54>0,WBR_Master,0)","v":51}]
[]
[null,null,null,null,"Signalized Restricted Crossing U-Turn",null,null,null,null,null,null,null,null,null,null,null,null,null,null,null,null,"N-S",null,null,null,null,1,null,1,null,2,null,1,null,1,null,1,null,2,null,1,null,null,null,null,null,null,null,1,null,null,null,null,null,null,null,1,null,null,null,null,null,null,null,null,null,{"$f":"E56","v":"Signalized Restricted Crossing U-Turn"},null,null,null,null,null,null,null,null,null,null,null,null,null,null,null,null,"N-S",null,null,null,null,{"$f":"IF(AA56>0,NBU_Master,0)","v":0},null,{"$f":"NBL_Master","v":102},null,{"$f":"NBT_Master + IF(AG56=0,NBR_Master)","v":510},null,{"$f":"IF(AG56>0,NBR_Master,0)","v":204},null,{"$f":"IF(AI56>0,SBU_Master,0)","v":0},null,{"$f":"IF(AK56>0,SBL_Master,0)","v":102},null,{"$f":"SBT_Master + IF(AK56=0,SBL_Master,0) + IF(AO56=0,SBR_Master)+ IF(AI56=0,SBU_Master)","v":510},null,{"$f":"IF(AO56>0,SBR_Master,0)","v":204},null,null,null,null,null,null,null,{"$f":"IF(AW56>0,EBR_Master,0)","v":51},null,null,null,null,null,null,null,{"$f":"IF(BE56>0,WBR_Master,0)","v":51}]
[]
[null,null,null,null,null,null,null,null,null,null,null,null,null,null,null,null,null,null,null,null,null,"E-W",null,null,null,null,null,null,null,null,null,null,1,null,null,null,null,null,null,null,1,null,1,null,1,null,2,null,1,null,1,null,1,null,2,null,1,null,null,null,null,null,null,null,null,null,null,null,null,null,null,null,null,null,null,null,null,null,null,null,null,null,null,"E-W",null,null,null,null,null,null,null,null,null,null,{"$f":"IF(AG58>0,NBR_Master,0)","v":204},null,null,null,null,null,null,null,{"$f":"IF(AO58>0,SBR_Master,0)","v":204},null,{"$f":"IF(AQ58>0,EBU_Master,0)","v":0},null,{"$f":"IF(AS58>0,EBL_Master,0)","v":31},null,{"$f":"EBT_Master + IF(AS58=0,EBL_Master,0) + IF(AW58=0,EBR_Master)+ IF(AQ58=0,EBU_Master)","v":204},null,{"$f":"IF(AW58>0,EBR_Master,0)","v":51},null,{"$f":"IF(AY58>0,WBU_Master,0)","v":0},null,{"$f":"IF(BA58>0,WBL_Master,0)","v":31},null,{"$f":"WBT_Master + IF(BA58=0,WBL_Master,0) + IF(BE58=0,WBR_Master)+ IF(AY58=0,WBU_Master)","v":204},null,{"$f":"IF(BE58>0,WBR_Master,0)","v":51}]
[]
[null,null,null,null,"Unsignalized Restricted Crossing U-Turn",null,null,null,null,null,null,null,null,null,null,null,null,null,null,null,null,"N-S",null,null,null,null,1,null,1,null,2,null,1,null,1,null,1,null,2,null,1,null,null,null,null,null,null,null,1,null,null,null,null,null,null,null,1,null,null,null,null,null,null,null,null,null,{"$f":"E60","v":"Unsignalized Restricted Crossing U-Turn"},null,null,null,null,null,null,null,null,null,null,null,null,null,null,null,null,"N-S",null,null,null,null,{"$f":"IF(AA60>0,NBU_Master,0)","v":0},null,{"$f":"NBL_Master","v":102},null,{"$f":"NBT_Master + IF(AG60=0,NBR_Master)","v":510},null,{"$f":"IF(AG60>0,NBR_Master,0)","v":204},null,{"$f":"IF(AI60>0,SBU_Master,0)","v":0},null,{"$f":"IF(AK60>0,SBL_Master,0)","v":102},null,{"$f":"SBT_Master + IF(AK60=0,SBL_Master,0) + IF(AO60=0,SBR_Master)+ IF(AI60=0,SBU_Master)","v":510},null,{"$f":"IF(AO60>0,SBR_Master,0)","v":204},null,null,null,null,null,null,null,{"$f":"IF(AW60>0,EBR_Master,0)","v":51},null,null,null,null,null,null,null,{"$f":"IF(BE60>0,WBR_Master,0)","v":51}]
[]
[null,null,null,null,null,null,null,null,null,null,null,null,null,null,null,null,null,null,null,null,null,"E-W",null,null,null,null,null,null,null,null,null,null,1,null,null,null,null,null,null,null,1,null,1,null,1,null,2,null,1,null,1,null,1,null,2,null,1,null,null,null,null,null,null,null,null,null,null,null,null,null,null,null,null,null,null,null,null,null,null,null,null,null,null,"E-W",null,null,null,null,null,null,null,null,null,null,{"$f":"IF(AG62>0,NBR_Master,0)","v":204},null,null,null,null,null,null,null,{"$f":"IF(AO62>0,SBR_Master,0)","v":204},null,{"$f":"IF(AQ62>0,EBU_Master,0)","v":0},null,{"$f":"IF(AS62>0,EBL_Master,0)","v":31},null,{"$f":"EBT_Master + IF(AS62=0,EBL_Master,0) + IF(AW62=0,EBR_Master)+ IF(AQ62=0,EBU_Master)","v":204},null,{"$f":"IF(AW62>0,EBR_Master,0)","v":51},null,{"$f":"IF(AY62>0,WBU_Master,0)","v":0},null,{"$f":"IF(BA62>0,WBL_Master,0)","v":31},null,{"$f":"WBT_Master + IF(BA62=0,WBL_Master,0) + IF(BE62=0,WBR_Master)+ IF(AY62=0,WBU_Master)","v":204},null,{"$f":"IF(BE62>0,WBR_Master,0)","v":51}]
[]
[null,null,null,null,"Median U-Turn",null,null,null,null,null,null,null,null,null,null,null,null,null,null,null,null,"N-S",null,null,null,null,1,null,null,null,2,null,1,null,1,null,null,null,2,null,1,null,null,null,null,null,2,null,1,null,null,null,null,null,2,null,1,null,null,null,null,null,null,null,null,null,"Median U-Turn",null,null,null,null,null,null,null,null,null,null,null,null,null,null,null,null,"N-S",null,null,null,null,{"$f":"IF(AA64>0,NBU_Master,0)","v":0},null,null,null,{"$f":"NBT_Master + IF(AG64=0,NBR_Master)+ IF(AA56=0,NBU_Master)","v":510},null,{"$f":"IF(AG64>0,NBR_Master,0)","v":204},null,{"$f":"IF(AI64>0,SBU_Master,0)","v":0},null,null,null,{"$f":"SBT_Master + IF(AO64=0,SBR_Master)+ IF(AI56=0,SBU_Master)","v":510},null,{"$f":"IF(AO64>0,SBR_Master,0)","v":204},null,null,null,null,null,{"$f":"EBT_Master+ IF(AW64=0,EBR_Master)","v":204},null,{"$f":"IF(AW64>0,EBR_Master,0)","v":51},null,null,null,null,null,{"$f":"WBT_Master + IF(BE64=0,WBR_Master)","v":204},null,{"$f":"IF(BE64>0,WBR_Master,0)","v":51}]
[]
[null,null,null,null,null,null,null,null,null,null,null,null,null,null,null,null,null,null,null,null,null,"E-W",null,null,null,null,null,null,null,null,2,null,1,null,null,null,null,null,2,null,1,null,1,null,null,null,2,null,1,null,1,null,null,null,2,null,1,null,null,null,null,null,null,null,null,null,null,null,null,null,null,null,null,null,null,null,null,null,null,null,null,null,null,"E-W",null,null,null,null,null,null,null,null,{"$f":"NBT_Master + IF(AG66=0,NBR_Master)","v":510},null,{"$f":"IF(AG66>0,NBR_Master,0)","v":204},null,null,null,null,null,{"$f":"SBT_Master + IF(AO66=0,SBR_Master)","v":510},null,{"$f":"IF(AO66>0,SBR_Master,0)","v":204},null,{"$f":"IF(AQ66>0,EBU_Master,0)","v":0},null,null,null,{"$f":"EBT_Master+ IF(AW66=0,EBR_Master)+ IF(AQ58=0,EBU_Master)","v":204},null,{"$f":"IF(AW66>0,EBR_Master,0)","v":51},null,{"$f":"IF(AY66>0,WBU_Master,0)","v":0},null,null,null,{"$f":"WBT_Master + IF(BE66=0,WBR_Master)+ IF(AY58=0,WBU_Master)","v":204},null,{"$f":"IF(BE66>0,WBR_Master,0)","v":51}]
[]
[null,null,null,null,"Partial Median U-Turn",null,null,null,null,null,null,null,null,null,null,null,null,null,null,null,null,"N-S",null,null,null,null,1,null,null,null,2,null,1,null,1,null,null,null,2,null,1,null,null,null,1,null,2,null,1,null,null,null,1,null,2,null,1,null,null,null,null,null,null,null,null,null,"Partial Median U-Turn",null,null,null,null,null,null,null,null,null,null,null,null,null,null,null,null,"N-S",null,null,null,null,{"$f":"IF(AA68>0,NBU_Master,0)","v":0},null,null,null,{"$f":"NBT_Master + IF(AG68=0,NBR_Master)+ IF(AA56=0,NBU_Master)","v":510},null,{"$f":"IF(AG68>0,NBR_Master,0)","v":204},null,{"$f":"IF(AI68>0,SBU_Master,0)","v":0},null,null,null,{"$f":"SBT_Master + IF(AO68=0,SBR_Master)+ IF(AI56=0,SBU_Master)","v":510},null,{"$f":"IF(AO68>0,SBR_Master,0)","v":204},null,null,null,{"$f":"IF(AS68>0,EBL_Master,0)","v":31},null,{"$f":"EBT_Master + IF(AS68=0,EBL_Master,0) + IF(AW68=0,EBR_Master)","v":204},null,{"$f":"IF(AW68>0,EBR_Master,0)","v":51},null,null,null,{"$f":"IF(BA68>0,WBL_Master,0)","v":31},null,{"$f":"WBT_Master + IF(BA68=0,WBL_Master,0) + IF(BE68=0,WBR_Master)","v":204},null,{"$f":"IF(BE68>0,WBR_Master,0)","v":51}]
[]
[null,null,null,null,null,null,null,null,null,null,null,null,null,null,null,null,null,null,null,null,null,"E-W",null,null,null,null,null,null,1,null,2,null,1,null,null,null,1,null,2,null,1,null,1,null,null,null,2,null,1,null,1,null,null,null,2,null,1,null,null,null,null,null,null,null,null,null,null,null,null,null,null,null,null,null,null,null,null,null,null,null,null,null,null,"E-W",null,null,null,null,null,null,{"$f":"IF(AC70>0,NBL_Master,0)","v":102},null,{"$f":"NBT_Master + IF(AC70=0,NBL_Master,0) + IF(AG70=0,NBR_Master)","v":510},null,{"$f":"IF(AG70>0,NBR_Master,0)","v":204},null,null,null,{"$f":"IF(AK70>0,SBL_Master,0)","v":102},null,{"$f":"SBT_Master + IF(AK70=0,SBL_Master,0) + IF(AO70=0,SBR_Master)","v":510},null,{"$f":"IF(AO70>0,SBR_Master,0)","v":204},null,{"$f":"IF(AQ70>0,EBU_Master,0)","v":0},null,null,null,{"$f":"EBT_Master+ IF(AW70=0,EBR_Master)+ IF(AQ58=0,EBU_Master)","v":204},null,{"$f":"IF(AW70>0,EBR_Master,0)","v":51},null,{"$f":"IF(AY70>0,WBU_Master,0)","v":0},null,null,null,{"$f":"WBT_Master + IF(BE70=0,WBR_Master)+ IF(AY58=0,WBU_Master)","v":204},null,{"$f":"IF(BE70>0,WBR_Master,0)","v":51}]
[]
[]
[null,null,null,null,"For shared lanes, enter \"0\" in L or R "]
[]
[null,"Capacity Analysis for Planning of Junctions\n\nCapacity Analysis for Planning of Junctions"]
[]
[null,"Input Worksheet 2"]
[]
[]
[]
[null,null,null,null,"Number of Lanes for Interchanges"]
[]
[null,null,null,null,"TYPE OF INTERCHANGE",null,null,null,null,null,null,null,null,null,null,null,null,null,null,null,null,"Sheet",null,null,null,null,"Northbound",null,null,null,null,null,null,null,"Southbound",null,null,null,null,null,null,null,"Eastbound",null,null,null,null,null,null,null,"Westbound"]
[]
[null,null,null,null,null,null,null,null,null,null,null,null,null,null,null,null,null,null,null,null,null,null,null,null,null,null,"U",null,"L",null,"T",null,"R",null,"U",null,"L",null,"T",null,"R",null,"U",null,"L",null,"T",null,"R",null,"U",null,"L",null,"T",null,"R"]
[]
[null,null,null,null,"Diamond",null,null,null,null,null,null,null,null,null,null,null,null,null,null,null,null,"N-S",null,null,null,null,null,null,1,null,2,null,1,null,null,null,1,null,2,null,1,null,null,null,1,null,2,null,1,null,null,null,1,null,2,null,1]
[]
[null,null,null,null,null,null,null,null,null,null,null,null,null,null,null,null,null,null,null,null,null,"E-W",null,null,null,null,null,null,1,null,2,null,1,null,null,null,1,null,2,null,1,null,null,null,1,null,2,null,1,null,null,null,1,null,2,null,1]
[]
[null,null,null,null,"Partial Cloverleaf A",null,null,null,null,null,null,null,null,null,null,null,null,null,null,null,null,"N-S",null,null,null,null,null,null,null,null,2,null,null,null,null,null,null,null,2,null,null,null,null,null,1,null,null,null,1,null,null,null,1,null,null,null,1]
[]
[null,null,null,null,null,null,null,null,null,null,null,null,null,null,null,null,null,null,null,null,null,"E-W",null,null,null,null,null,null,1,null,null,null,1,null,null,null,1,null,null,null,1,null,null,null,null,null,2,null,null,null,null,null,null,null,2]
[]
[null,null,null,null,"Partial Cloverleaf B",null,null,null,null,null,null,null,null,null,null,null,null,null,null,null,null,"N-S",null,null,null,null,null,null,1,null,2,null,1,null,null,null,1,null,2,null,1,null,null,null,1,null,null,null,1,null,null,null,1,null,null,null,1]
[]
[null,null,null,null,null,null,null,null,null,null,null,null,null,null,null,null,null,null,null,null,null,"E-W",null,null,null,null,null,null,1,null,null,null,1,null,null,null,1,null,null,null,1,null,null,null,1,null,2,null,1,null,null,null,1,null,2,null,1]
[]
[null,null,null,null,"Displaced Left Turn",null,null,null,null,null,null,null,null,null,null,null,null,null,null,null,null,"N-S",null,null,null,null,null,null,1,null,2,null,1,null,null,null,1,null,2,null,1,null,null,null,1,null,2,null,1,null,null,null,1,null,2,null,1]
[]
[null,null,null,null,null,null,null,null,null,null,null,null,null,null,null,null,null,null,null,null,null,"E-W",null,null,null,null,null,null,1,null,2,null,1,null,null,null,1,null,2,null,1,null,null,null,1,null,2,null,1,null,null,null,1,null,2,null,1]
[]
[null,null,null,null,"Diverging Diamond Interchange",null,null,null,null,null,null,null,null,null,null,null,null,null,null,null,null,"N-S",null,null,null,null,null,null,1,null,2,null,1,null,null,null,1,null,2,null,1,null,null,null,1,null,null,null,1,null,null,null,1,null,null,null,1]
[]
[null,null,null,null,null,null,null,null,null,null,null,null,null,null,null,null,null,null,null,null,null,"E-W",null,null,null,null,null,null,1,null,null,null,1,null,null,null,1,null,null,null,1,null,null,null,1,null,2,null,1,null,null,null,1,null,2,null,1]
[]
[null,null,null,null,"Single Point ",null,null,null,null,null,null,null,null,null,null,null,null,null,null,null,null,"N-S",null,null,null,null,null,null,1,null,2,null,1,null,null,null,1,null,2,null,1,null,null,null,1,null,2,null,1,null,null,null,1,null,2,null,1]
[]
[null,null,null,null,null,null,null,null,null,null,null,null,null,null,null,null,null,null,null,null,null,"E-W",null,null,null,null,null,null,1,null,2,null,1,null,null,null,1,null,2,null,1,null,null,null,1,null,2,null,1,null,null,null,1,null,2,null,1]

{"sheet":"4a - Detailed Results","index":8,"n_rows":130,"n_cols":78,"rows_kept":130,"cut":false,"hidden":false,"merged":[[107,70,108,73],[107,74,108,75],[109,66,110,69],[109,70,110,73],[109,74,110,75],[107,59,108,65],[109,59,110,65],[111,74,112,75],[113,66,114,69],[113,70,114,73],[113,74,114,75],[111,66,112,69],[111,70,112,73],[113,59,114,65],[92,74,93,75],[94,55,95,58],[94,59,95,65],[94,66,95,69],[94,70,95,73],[94,74,95,75],[96,55,97,58],[96,59,97,65],[96,66,97,69],[96,70,97,73],[96,74,97,75],[92,55,93,58],[92,59,93,65],[92,66,93,69],[92,70,93,73],[69,56,70,58],[69,59,70,65],[69,66,70,69],[69,70,70,73],[69,74,70,75],[55,56,56,58],[55,59,56,65],[55,66,56,69],[55,70,56,73],[55,74,56,75],[57,70,58,73],[57,74,58,75],[63,56,64,58],[63,59,64,65],[63,66,64,69],[63,70,64,73],[63,74,64,75],[59,74,60,75],[41,74,42,75],[43,70,44,73],[43,74,44,75],[45,70,46,73],[45,74,46,75],[47,66,48,69],[47,70,48,73],[47,74,48,75],[49,56,50,58],[49,59,50,65],[49,66,50,69],[49,70,50,73],[49,74,50,75],[17,4,18,75],[80,4,81,75],[101,4,102,75],[86,76,87,76],[86,77,87,77],[88,76,89,76],[88,77,89,77],[53,4,54,22],[55,4,58,22],[23,23,24,28],[41,23,42,28],[43,23,44,28],[45,23,46,28],[41,4,48,22],[25,23,26,28],[23,4,24,22],[25,4,26,22],[47,23,48,28],[55,77,56,77],[49,77,50,77],[51,77,52,77],[43,32,44,34],[43,35,44,37],[45,29,46,31],[49,4,52,22],[49,23,50,28],[63,4,66,22],[57,23,58,28],[55,23,56,28],[51,23,52,28],[53,23,54,28],[55,76,56,76],[49,76,50,76],[51,76,52,76],[53,76,54,76],[63,23,64,28],[51,56,52,58],[65,56,66,58],[65,59,66,65],[65,66,66,69],[65,70,66,73],[65,74,66,75],[51,47,52,49],[51,50,52,52],[51,53,52,55],[49,29,50,31],[49,32,50,34],[49,35,50,37],[0,1,1,78],[2,1,3,78],[6,50,7,73],[12,50,13,55],[12,56,13,61],[12,62,13,67],[12,68,13,73],[8,50,9,73],[10,50,11,55],[10,56,11,61],[10,62,11,67],[10,68,11,73],[6,16,7,23],[6,24,7,49],[8,16,9,23],[8,24,9,49],[10,16,11,23],[10,24,11,49],[12,16,13,23],[12,24,13,49],[23,77,24,77],[25,77,26,77],[23,76,24,76],[43,77,44,77],[25,76,26,76],[41,76,42,76],[43,76,44,76],[41,77,42,77],[45,76,46,76],[45,77,46,77],[33,77,34,77],[35,77,36,77],[37,77,38,77],[39,77,40,77],[65,23,66,28],[69,76,70,76],[67,76,68,76],[67,23,68,28],[63,77,64,77],[90,76,91,76],[65,77,66,77],[57,76,58,76],[63,76,64,76],[57,29,58,31],[57,32,58,34],[57,35,58,37],[57,38,58,40],[57,41,58,43],[57,44,58,46],[57,47,58,49],[57,50,58,52],[57,53,58,55],[57,56,58,58],[57,59,58,65],[57,66,58,69],[67,66,68,69],[67,70,68,73],[67,74,68,75],[69,23,70,28],[74,1,75,78],[76,1,77,78],[67,4,70,22],[94,77,95,77],[107,17,108,22],[109,17,110,22],[111,17,112,22],[98,77,99,77],[92,77,93,77],[90,77,91,77],[96,77,97,77],[67,29,68,31],[67,32,68,34],[67,35,68,37],[67,38,68,40],[67,41,68,43],[67,44,68,46],[67,47,68,49],[67,50,68,52],[67,53,68,55],[67,56,68,58],[67,59,68,65],[109,76,110,76],[127,77,128,77],[129,77,130,77],[109,77,110,77],[115,77,116,77],[117,77,118,77],[119,77,120,77],[121,77,122,77],[123,77,124,77],[107,77,108,77],[125,77,126,77],[111,77,112,77],[113,77,114,77],[41,29,42,31],[41,32,42,34],[41,35,42,37],[41,38,42,40],[43,29,44,31],[123,76,124,76],[125,76,126,76],[129,76,130,76],[127,76,128,76],[117,76,118,76],[94,76,95,76],[115,76,116,76],[119,76,120,76],[121,76,122,76],[65,76,66,76],[96,76,97,76],[98,76,99,76],[92,76,93,76],[107,76,108,76],[45,32,46,34],[45,35,46,37],[47,29,48,31],[47,32,48,34],[105,29,106,31],[19,70,22,73],[19,74,22,75],[23,29,24,31],[23,32,24,34],[23,35,24,37],[23,38,24,40],[23,41,24,43],[23,44,24,46],[23,47,24,49],[23,50,24,52],[19,29,20,34],[19,35,20,40],[19,53,20,58],[21,38,22,40],[19,59,22,65],[19,66,22,69],[21,53,22,55],[21,56,22,58],[23,53,24,55],[23,56,24,58],[23,59,24,65],[23,66,24,69],[23,70,24,73],[23,74,24,75],[33,4,40,22],[33,23,34,28],[35,23,36,28],[37,23,38,28],[39,23,40,28],[21,41,22,43],[21,44,22,46],[21,47,22,49],[21,50,22,52],[19,23,22,28],[19,4,22,22],[33,29,34,31],[33,32,34,34],[33,35,34,37],[33,38,34,40],[37,29,38,31],[37,32,38,34],[37,35,38,37],[37,38,38,40],[19,41,20,46],[19,47,20,52],[21,29,22,31],[21,32,22,34],[21,35,22,37],[25,29,26,31],[25,32,26,34],[25,35,26,37],[25,38,26,40],[25,41,26,43],[25,44,26,46],[25,47,26,49],[25,50,26,52],[25,53,26,55],[25,56,26,58],[25,59,26,65],[25,66,26,69],[25,70,26,73],[25,74,26,75],[33,74,34,75],[35,29,36,31],[35,32,36,34],[35,35,36,37],[35,38,36,40],[35,41,36,43],[35,44,36,46],[35,47,36,49],[35,50,36,52],[35,53,36,55],[35,56,36,58],[35,59,36,65],[35,66,36,69],[35,70,36,73],[35,74,36,75],[33,41,34,43],[33,44,34,46],[33,47,34,49],[33,50,34,52],[33,66,34,69],[33,70,34,73],[37,74,38,75],[39,29,40,31],[39,32,40,34],[39,35,40,37],[39,38,40,40],[39,41,40,43],[39,44,40,46],[39,47,40,49],[39,50,40,52],[39,53,40,55],[39,56,40,58],[39,59,40,65],[39,66,40,69],[39,70,40,73],[39,74,40,75],[37,41,38,43],[37,44,38,46],[37,47,38,49],[37,50,38,52],[33,56,34,58],[41,41,42,43],[41,44,42,46],[41,47,42,49],[41,50,42,52],[41,53,42,55],[41,56,42,58],[41,59,42,65],[41,66,42,69],[41,70,42,73],[43,38,44,40],[43,41,44,43],[43,44,44,46],[43,47,44,49],[43,50,44,52],[43,53,44,55],[43,56,44,58],[43,59,44,65],[43,66,44,69],[45,38,46,40],[45,41,46,43],[45,44,46,46],[45,47,46,49],[45,50,46,52],[45,53,46,55],[45,56,46,58],[45,59,46,65],[45,66,46,69],[47,35,48,37],[47,38,48,40],[47,41,48,43],[47,44,48,46],[47,47,48,49],[47,50,48,52],[47,53,48,55],[47,56,48,58],[47,59,48,65],[51,29,52,31],[51,32,52,34],[51,35,52,37],[51,38,52,40],[51,41,52,43],[51,44,52,46],[49,38,50,40],[49,41,50,43],[49,44,50,46],[53,29,54,31],[53,32,54,34],[53,35,54,37],[53,38,54,40],[53,41,54,43],[53,44,54,46],[53,47,54,49],[53,50,54,52],[53,53,54,55],[55,29,56,31],[55,32,56,34],[55,35,56,37],[55,38,56,40],[55,41,56,43],[55,44,56,46],[55,47,56,49],[55,50,56,52],[55,53,56,55],[63,29,64,31],[63,32,64,34],[63,35,64,37],[63,38,64,40],[63,41,64,43],[63,44,64,46],[63,47,64,49],[63,50,64,52],[63,53,64,55],[65,29,66,31],[65,32,66,34],[65,35,66,37],[65,38,66,40],[65,41,66,43],[65,44,66,46],[65,47,66,49],[65,50,66,52],[65,53,66,55],[69,29,70,31],[69,32,70,34],[69,35,70,37],[69,38,70,40],[69,41,70,43],[69,44,70,46],[69,47,70,49],[69,50,70,52],[69,53,70,55],[103,29,104,34],[103,47,104,52],[103,53,104,58],[103,41,104,46],[103,35,104,40],[111,41,112,43],[109,35,110,37],[109,41,110,43],[107,35,108,37],[109,44,110,46],[107,38,108,40],[111,56,112,58],[105,47,106,49],[105,50,106,52],[105,53,106,55],[105,56,106,58],[115,44,116,46],[121,53,122,55],[96,47,97,50],[96,51,97,54],[98,55,99,58],[117,74,118,75],[117,56,118,58],[115,56,116,58],[117,59,118,65],[115,59,116,65],[98,74,99,75],[98,47,99,50],[98,51,99,54],[98,59,99,65],[103,59,106,65],[111,59,112,65],[98,66,99,69],[98,70,99,73],[111,44,112,46],[105,44,106,46],[103,66,106,69],[103,70,106,73],[103,74,106,75],[107,66,108,69],[119,66,120,69],[119,70,120,73],[119,74,120,75],[121,66,122,69],[121,70,122,73],[121,74,122,75],[115,74,116,75],[117,66,118,69],[121,56,122,58],[119,59,120,65],[121,59,122,65],[115,66,116,69],[115,70,116,73],[117,70,118,73],[119,56,120,58],[129,53,130,55],[125,74,126,75],[127,66,128,69],[127,70,128,73],[127,74,128,75],[127,53,128,55],[127,59,128,65],[123,56,124,58],[125,66,126,69],[129,70,130,73],[129,74,130,75],[125,53,126,55],[125,70,126,73],[127,56,128,58],[129,56,130,58],[123,66,124,69],[123,70,124,73],[123,74,124,75],[129,38,130,40],[115,29,116,31],[115,32,116,34],[115,38,116,40],[115,41,116,43],[115,35,116,37],[107,32,108,34],[113,38,114,40],[129,66,130,69],[113,44,114,46],[107,44,108,46],[107,47,108,49],[107,50,108,52],[107,53,108,55],[107,56,108,58],[109,56,110,58],[125,56,126,58],[123,29,124,31],[125,29,126,31],[129,35,130,37],[127,50,128,52],[129,47,130,49],[129,50,130,52],[121,35,122,37],[105,26,106,28],[117,35,118,37],[119,35,120,37],[117,41,118,43],[119,41,120,43],[117,29,118,31],[117,32,118,34],[119,29,120,31],[119,32,120,34],[117,38,118,40],[119,38,120,40],[105,32,106,34],[105,35,106,37],[105,38,106,40],[105,41,106,43],[113,41,114,43],[107,41,108,43],[107,29,108,31],[117,26,118,28],[103,4,106,16],[107,4,110,16],[111,4,114,16],[115,4,118,16],[119,4,122,16],[123,4,126,16],[127,4,130,16],[127,23,128,25],[129,23,130,25],[121,23,122,25],[103,17,106,22],[129,17,130,22],[113,17,114,22],[115,17,116,22],[117,17,118,22],[119,17,120,22],[121,17,122,22],[123,17,124,22],[125,17,126,22],[127,17,128,22],[103,23,104,28],[127,26,128,28],[129,26,130,28],[105,23,106,25],[123,35,124,37],[125,35,126,37],[123,38,124,40],[125,38,126,40],[121,41,122,43],[123,41,124,43],[125,41,126,43],[121,47,122,49],[121,50,122,52],[123,47,124,49],[125,47,126,49],[123,50,124,52],[125,50,126,52],[127,47,128,49],[117,47,118,49],[117,50,118,52],[117,53,118,55],[109,47,110,49],[109,50,110,52],[109,53,110,55],[119,47,120,49],[111,47,112,49],[111,50,112,52],[113,47,114,49],[113,50,114,52],[119,53,120,55],[115,47,116,49],[115,50,116,52],[115,53,116,55],[119,50,120,52],[111,53,112,55],[113,53,114,55],[123,53,124,55],[127,41,128,43],[127,44,128,46],[129,41,130,43],[129,44,130,46],[109,29,110,31],[109,32,110,34],[127,35,128,37],[117,44,118,46],[119,44,120,46],[121,44,122,46],[123,44,124,46],[125,44,126,46],[109,38,110,40],[111,29,112,31],[111,32,112,34],[113,29,114,31],[113,32,114,34],[111,35,112,37],[111,38,112,40],[113,35,114,37],[127,38,128,40],[123,32,124,34],[125,32,126,34],[121,38,122,40],[119,23,120,25],[119,26,120,28],[121,26,122,28],[123,26,124,28],[125,26,126,28],[127,29,128,31],[127,32,128,34],[129,29,130,31],[129,32,130,34],[86,19,87,22],[86,23,87,26],[86,27,87,30],[86,31,87,34],[121,29,122,31],[121,32,122,34],[129,59,130,65],[123,59,124,65],[125,59,126,65],[86,55,87,58],[86,59,87,65],[107,23,108,25],[107,26,108,28],[109,23,110,25],[109,26,110,28],[115,23,116,25],[115,26,116,28],[117,23,118,25],[125,23,126,25],[111,23,112,25],[111,26,112,28],[113,23,114,25],[113,26,114,28],[123,23,124,25],[84,19,85,22],[84,23,85,26],[84,27,85,30],[82,4,85,10],[82,11,83,22],[82,35,83,46],[84,11,85,14],[84,15,85,18],[84,51,85,54],[84,31,85,34],[84,35,85,38],[84,39,85,42],[84,43,85,46],[84,47,85,50],[82,23,83,34],[82,47,83,58],[84,55,85,58],[92,4,93,10],[94,4,95,10],[96,4,97,10],[98,4,99,10],[86,11,87,14],[86,15,87,18],[88,11,89,14],[88,15,89,18],[90,11,91,14],[90,15,91,18],[92,11,93,14],[92,15,93,18],[94,11,95,14],[94,15,95,18],[96,11,97,14],[96,15,97,18],[98,11,99,14],[98,15,99,18],[86,4,87,10],[88,4,89,10],[90,4,91,10],[88,19,89,22],[88,23,89,26],[88,27,89,30],[88,31,89,34],[88,35,89,38],[88,39,89,42],[88,43,89,46],[88,47,89,50],[88,51,89,54],[90,19,91,22],[90,23,91,26],[90,27,91,30],[90,31,91,34],[90,35,91,38],[90,39,91,42],[90,43,91,46],[90,47,91,50],[90,51,91,54],[92,19,93,22],[92,23,93,26],[92,27,93,30],[92,31,93,34],[92,35,93,38],[92,39,93,42],[92,43,93,46],[92,47,93,50],[92,51,93,54],[94,19,95,22],[94,23,95,26],[94,27,95,30],[94,31,95,34],[94,35,95,38],[94,39,95,42],[94,43,95,46],[94,47,95,50],[94,51,95,54],[96,19,97,22],[96,23,97,26],[96,27,97,30],[96,31,97,34],[96,35,97,38],[96,39,97,42],[96,43,97,46],[98,19,99,22],[98,23,99,26],[98,27,99,30],[98,31,99,34],[98,35,99,38],[98,39,99,42],[98,43,99,46],[57,77,58,77],[67,77,68,77],[69,77,70,77],[53,77,54,77],[47,77,48,77],[27,32,28,34],[27,35,28,37],[27,38,28,40],[27,41,28,43],[27,44,28,46],[27,47,28,49],[27,50,28,52],[27,53,28,55],[27,56,28,58],[27,59,28,65],[27,66,28,69],[27,70,28,73],[27,74,28,75],[29,53,30,55],[29,56,30,58],[29,59,30,65],[29,66,30,69],[29,70,30,73],[29,74,30,75],[86,35,87,38],[86,39,87,42],[86,43,87,46],[86,47,87,50],[86,51,87,54],[90,70,91,73],[90,74,91,75],[82,59,85,65],[82,66,85,69],[82,70,85,73],[82,74,85,75],[86,66,87,69],[86,70,87,73],[86,74,87,75],[88,55,89,58],[88,59,89,65],[88,66,89,69],[88,70,89,73],[88,74,89,75],[90,55,91,58],[90,59,91,65],[90,66,91,69],[29,44,30,46],[29,47,30,49],[29,50,30,52],[111,76,112,76],[113,76,114,76],[33,76,34,76],[35,76,36,76],[37,76,38,76],[39,76,40,76],[47,76,48,76],[59,50,60,52],[59,53,60,55],[59,56,60,58],[59,59,60,65],[59,66,60,69],[59,70,60,73],[113,56,114,58],[49,47,50,49],[49,50,50,52],[49,53,50,55],[51,59,52,65],[51,66,52,69],[51,70,52,73],[33,59,34,65],[27,23,28,28],[27,29,28,31],[31,4,32,22],[31,23,32,28],[31,29,32,31],[31,32,32,34],[31,35,32,37],[31,38,32,40],[31,41,32,43],[27,4,30,22],[29,23,30,28],[29,29,30,31],[29,32,30,34],[29,35,30,37],[29,38,30,40],[29,41,30,43],[31,44,32,46],[31,47,32,49],[31,50,32,52],[31,53,32,55],[31,56,32,58],[31,59,32,65],[31,66,32,69],[31,70,32,73],[31,74,32,75],[59,4,62,22],[59,23,60,28],[59,29,60,31],[59,32,60,34],[59,35,60,37],[59,38,60,40],[59,41,60,43],[59,44,60,46],[59,47,60,49],[61,23,62,28],[61,29,62,31],[61,32,62,34],[61,35,62,37],[61,38,62,40],[61,41,62,43],[61,44,62,46],[61,47,62,49],[61,50,62,52],[61,53,62,55],[61,56,62,58],[61,59,62,65],[61,66,62,69],[61,70,62,73],[61,74,62,75],[27,76,28,76],[29,76,30,76],[31,76,32,76],[59,76,60,76],[61,76,62,76],[51,74,52,75],[53,56,54,58],[53,59,54,65],[53,66,54,69],[53,70,54,73],[53,74,54,75],[37,53,38,55],[37,56,38,58],[37,59,38,65],[37,66,38,69],[37,70,38,73],[33,53,34,55]]}
[null,"Capacity Analysis for Planning of Junctions"]
[]
[null,"Results Worksheet"]
[]
[]
[]
[null,null,null,null,null,null,null,null,null,null,null,null,null,null,null,null,"Project Name:",null,null,null,null,null,null,null,{"$f":"P_Name","v":"Cap-X Sample Street"},null,null,null,null,null,null,null,null,null,null,null,null,null,null,null,null,null,null,null,null,null,null,null,null,null,"Estimated Volume-to-Capacity Ratio"]
[]
[null,null,null,null,null,null,null,null,null,null,null,null,null,null,null,null,"Project Number:",null,null,null,null,null,null,null,{"$f":"P_Number","v":10000},null,null,null,null,null,null,null,null,null,null,null,null,null,null,null,null,null,null,null,null,null,null,null,null,null,"Number of Configurations"]
[]
[null,null,null,null,null,null,null,null,null,null,null,null,null,null,null,null,"Location",null,null,null,null,null,null,null,{"$f":"Location","v":"Tallahassee, FL"},null,null,null,null,null,null,null,null,null,null,null,null,null,null,null,null,null,null,null,null,null,null,null,null,null,"< 0.750",null,null,null,null,null,"0.750 - 0.875",null,null,null,null,null,"0.875 - 1.00",null,null,null,null,null,"≥ 1.00"]
[]
[null,null,null,null,null,null,null,null,null,null,null,null,null,null,null,null,"Date",null,null,null,null,null,null,null,{"$f":"Date","v":"2017 AM"},null,null,null,null,null,null,null,null,null,null,null,null,null,null,null,null,null,null,null,null,null,null,null,null,null,{"$f":"COUNTIF(BZ24:BZ71,0)+COUNTIF(BZ108:BZ131,0)+COUNTIF(BZ87:BZ100,0)","v":31},null,null,null,null,null,{"$f":"COUNTIF(BZ24:BZ71,1)+COUNTIF(BZ108:BZ131,1)+COUNTIF(BZ87:BZ100,1)","v":2},null,null,null,null,null,{"$f":"COUNTIF(BZ24:BZ71,2)+COUNTIF(BZ108:BZ131,2)+COUNTIF(BZ87:BZ100,2)","v":1},null,null,null,null,null,{"$f":"COUNTIF(BZ24:BZ71,3)+COUNTIF(BZ108:BZ131,3)+COUNTIF(BZ87:BZ100,3)","v":2}]
[]
[]
[]
[]
[null,null,null,null,"Results for Non-roundabout Intersections"]
[]
[null,null,null,null,"TYPE OF INTERSECTION",null,null,null,null,null,null,null,null,null,null,null,null,null,null,null,null,null,null,"Sheet",null,null,null,null,null,"Zone 1 (North)",null,null,null,null,null,"Zone 2 (South)",null,null,null,null,null,"Zone 3 (East)",null,null,null,null,null,"Zone 4 (West)",null,null,null,null,null,"Zone 5 (Center) ",null,null,null,null,null,"Overall v/c Ratio ",null,null,null,null,null,null,"Pedestrian Accommodations",null,null,null,"Bicycle Accommodations",null,null,null,"Transit Accommodations"]
[]
[null,null,null,null,null,null,null,null,null,null,null,null,null,null,null,null,null,null,null,null,null,null,null,null,null,null,null,null,null,"CLV",null,null,"V/C",null,null,"CLV",null,null,"V/C",null,null,"CLV",null,null,"V/C",null,null,"CLV",null,null,"V/C",null,null,"CLV",null,null,"V/C"]
[]
[null,null,null,null,{"$f":"'3 - Alt Num Lanes Input'!E24","v":"Traffic Signal"},null,null,null,null,null,null,null,null,null,null,null,null,null,null,null,null,null,null,"FULL",null,null,null,null,null,null,null,null,null,null,null,null,null,null,null,null,null,null,null,null,null,null,null,null,null,null,null,null,null,{"$f":"Result_Conventional_CLV_Z5","v":502.6509695290859},null,null,{"$f":"Result_Conventional_VC_Z5","v":0.3},null,null,{"$f":"MAX(AG24,AM24,AS24,AY24,BE24)","v":0.3},null,null,null,null,null,null,{"$f":"MMDataComp!AL4","v":"Good"},null,null,null,{"$f":"MMDataComp!AM4","v":"Good"},null,null,null,{"$f":"MMDataComp!AN4","v":"Excellent"},null,true,{"$f":"IF(NOT(BY24),-1,IF(BH24<0.75,0,IF(BH24<0.875,1,IF(BH24<1,2,3))))","v":0}]
[]
[null,null,null,null,"Conventional Shared RT LN",null,null,null,null,null,null,null,null,null,null,null,null,null,null,null,null,null,null,"CSRL",null,null,null,null,null,null,null,null,null,null,null,null,null,null,null,null,null,null,null,null,null,null,null,null,null,null,null,null,null,{"$f":"Result_ConventionalSharedRTLT_CLV_Z5","v":617.5},null,null,{"$f":"Result_ConventionalSharedRTLT_VC_Z5","v":0.36},null,null,{"$f":"MAX(AG26,AM26,AS26,AY26,BE26)","v":0.36},null,null,null,null,null,null,{"$f":"MMDataComp!AL6","v":"Good"},null,null,null,{"$f":"MMDataComp!AM6","v":"Good"},null,null,null,{"$f":"MMDataComp!AN6","v":"Excellent"},null,false,{"$f":"IF(NOT(BY26),-1,IF(BH26<0.75,0,IF(BH26<0.875,1,IF(BH26<1,2,3))))","v":-1}]
[]
[null,null,null,null,{"$f":"'3 - Alt Num Lanes Input'!E28","v":"Two-Way Stop Control"},null,null,null,null,null,null,null,null,null,null,null,null,null,null,null,null,null,null,"N-S",null,null,null,null,null,null,null,null,null,null,null,null,null,null,null,null,null,null,null,null,null,null,null,null,null,null,null,null,null,"--",null,null,{"$f":"Result_TWSC_NS_VC_Z5","v":3.004391956229405},null,null,{"$f":"MAX(AG28,AM28,AS28,AY28,BE28)","v":3.004391956229405},null,null,null,null,null,null,{"$f":"MMDataComp!AL8","v":"Fair"},null,null,null,{"$f":"MMDataComp!AM8","v":"Good"},null,null,null,{"$f":"MMDataComp!AN8","v":"Excellent"},null,true]
[]
[null,null,null,null,null,null,null,null,null,null,null,null,null,null,null,null,null,null,null,null,null,null,null,"E-W",null,null,null,null,null,null,null,null,null,null,null,null,null,null,null,null,null,null,null,null,null,null,null,null,null,null,null,null,null,"--",null,null,{"$f":"Result_TWSC_EW_VC_Z5","v":1.3097947217873753},null,null,{"$f":"MAX(AG30,AM30,AS30,AY30,BE30)","v":1.3097947217873753},null,null,null,null,null,null,{"$f":"MMDataComp!AL10","v":"Fair"},null,null,null,{"$f":"MMDataComp!AM10","v":"Good"},null,null,null,{"$f":"MMDataComp!AN10","v":"Excellent"},null,true]
[]
[null,null,null,null,{"$f":"'3 - Alt Num Lanes Input'!E32","v":"All-Way Stop Control"},null,null,null,null,null,null,null,null,null,null,null,null,null,null,null,null,null,null,"FULL",null,null,null,null,null,null,null,null,null,null,null,null,null,null,null,null,null,null,null,null,null,null,null,null,null,null,null,null,null,{"$f":"Result_AWSC_CLV_Z5","v":2204},null,null,{"$f":"Result_AWSC_VC_Z5","v":1.22},null,null,{"$f":"MAX(AG32,AM32,AS32,AY32,BE32)","v":1.22},null,null,null,null,null,null,{"$f":"MMDataComp!AL12","v":"Excellent"},null,null,null,{"$f":"MMDataComp!AM12","v":"Excellent"},null,null,null,{"$f":"MMDataComp!AN12","v":"Excellent"},null,true]
[]
[null,null,null,null,"Continuous Green T",null,null,null,null,null,null,null,null,null,null,null,null,null,null,null,null,null,null,"W",null,null,null,null,null,null,null,null,null,null,null,null,null,null,null,null,null,null,null,null,null,null,null,null,null,null,null,null,null,{"$f":"Result_CGT_W_CLV_Z5","v":395},null,null,{"$f":"Result_CGT_W_VC_Z5","v":0.23},null,null,{"$f":"MAX(AG34,AM34,AS34,AY34,BE34)","v":0.23},null,null,null,null,null,null,{"$f":"MMDataComp!AL14","v":"Fair"},null,null,null,{"$f":"MMDataComp!AM14","v":"Fair"},null,null,null,{"$f":"MMDataComp!AN14","v":"Excellent"},null,true,{"$f":"IF(NOT(BY34),-1,IF(BH34<0.75,0,IF(BH34<0.875,1,IF(BH34<1,2,3))))","v":0}]
[]
[null,null,null,null,null,null,null,null,null,null,null,null,null,null,null,null,null,null,null,null,null,null,null,"N",null,null,null,null,null,null,null,null,null,null,null,null,null,null,null,null,null,null,null,null,null,null,null,null,null,null,null,null,null,{"$f":"Result_CGT_N_CLV_Z5","v":242.00000000000003},null,null,{"$f":"Result_CGT_N_VC_Z5","v":0.14000000000000001},null,null,{"$f":"MAX(AG36,AM36,AS36,AY36,BE36)","v":0.14000000000000001},null,null,null,null,null,null,{"$f":"MMDataComp!AL16","v":"Fair"},null,null,null,{"$f":"MMDataComp!AM16","v":"Fair"},null,null,null,{"$f":"MMDataComp!AN16","v":"Excellent"},null,true,{"$f":"IF(NOT(BY36),-1,IF(BH36<0.75,0,IF(BH36<0.875,1,IF(BH36<1,2,3))))","v":0}]
[]
[null,null,null,null,null,null,null,null,null,null,null,null,null,null,null,null,null,null,null,null,null,null,null,"E",null,null,null,null,null,null,null,null,null,null,null,null,null,null,null,null,null,null,null,null,null,null,null,null,null,null,null,null,null,{"$f":"Result_CGT_E_CLV_Z5","v":395},null,null,{"$f":"Result_CGT_E_VC_Z5","v":0.23},null,null,{"$f":"MAX(AG38,AM38,AS38,AY38,BE38)","v":0.23},null,null,null,null,null,null,{"$f":"MMDataComp!AL18","v":"Fair"},null,null,null,{"$f":"MMDataComp!AM18","v":"Fair"},null,null,null,{"$f":"MMDataComp!AN18","v":"Excellent"},null,true,{"$f":"IF(NOT(BY38),-1,IF(BH38<0.75,0,IF(BH38<0.875,1,IF(BH38<1,2,3))))","v":0}]
[]
[null,null,null,null,null,null,null,null,null,null,null,null,null,null,null,null,null,null,null,null,null,null,null,"S",null,null,null,null,null,null,null,null,null,null,null,null,null,null,null,null,null,null,null,null,null,null,null,null,null,null,null,null,null,{"$f":"Result_CGT_S_CLV_Z5","v":242},null,null,{"$f":"Result_CGT_S_VC_Z5","v":0.14000000000000001},null,null,{"$f":"MAX(AG40,AM40,AS40,AY40,BE40)","v":0.14000000000000001},null,null,null,null,null,null,{"$f":"MMDataComp!AL20","v":"Fair"},null,null,null,{"$f":"MMDataComp!AM20","v":"Fair"},null,null,null,{"$f":"MMDataComp!AN20","v":"Excellent"},null,true,{"$f":"IF(NOT(BY40),-1,IF(BH40<0.75,0,IF(BH40<0.875,1,IF(BH40<1,2,3))))","v":0}]
[]
[null,null,null,null,"Quadrant Roadway",null,null,null,null,null,null,null,null,null,null,null,null,null,null,null,null,null,null,"S-W",null,null,null,null,null,null,null,null,null,null,null,{"$f":"Result_QR_SW_CLV_Z2","v":395},null,null,{"$f":"Result_QR_SW_VC_Z2","v":0.23},null,null,null,null,null,null,null,null,{"$f":"Result_QR_SW_CLV_Z4","v":311.36842105263156},null,null,{"$f":"Result_QR_SW_VC_Z4","v":0.18},null,null,{"$f":"Result_QR_SW_CLV_Z5","v":459},null,null,{"$f":"Result_QR_SW_VC_Z5","v":0.26},null,null,{"$f":"MAX(AG42,AM42,AS42,AY42,BE42)","v":0.26},null,null,null,null,null,null,{"$f":"MMDataComp!AL22","v":"Good"},null,null,null,{"$f":"MMDataComp!AM22","v":"Good"},null,null,null,{"$f":"MMDataComp!AN22","v":"Good"},null,true,{"$f":"IF(NOT(BY42),-1,IF(BH42<0.75,0,IF(BH42<0.875,1,IF(BH42<1,2,3))))","v":0}]
[]
[null,null,null,null,null,null,null,null,null,null,null,null,null,null,null,null,null,null,null,null,null,null,null,"N-E",null,null,null,null,null,{"$f":"Result_QR_NE_CLV_Z1","v":395},null,null,{"$f":"Result_QR_NE_VC_Z1","v":0.23},null,null,null,null,null,null,null,null,{"$f":"Result_QR_NE_CLV_Z3","v":311.36842105263156},null,null,{"$f":"Result_QR_NE_VC_Z3","v":0.18},null,null,null,null,null,null,null,null,{"$f":"Result_QR_NE_CLV_Z5","v":459},null,null,{"$f":"Result_QR_NE_VC_Z5","v":0.26},null,null,{"$f":"MAX(AG44,AM44,AS44,AY44,BE44)","v":0.26},null,null,null,null,null,null,{"$f":"MMDataComp!AL24","v":"Good"},null,null,null,{"$f":"MMDataComp!AM24","v":"Good"},null,null,null,{"$f":"MMDataComp!AN24","v":"Good"},null,true,{"$f":"IF(NOT(BY44),-1,IF(BH44<0.75,0,IF(BH44<0.875,1,IF(BH44<1,2,3))))","v":0}]
[]
[null,null,null,null,null,null,null,null,null,null,null,null,null,null,null,null,null,null,null,null,null,null,null,"S-E",null,null,null,null,null,null,null,null,null,null,null,{"$f":"Result_QR_SE_CLV_Z2","v":467},null,null,{"$f":"Result_QR_SE_VC_Z2","v":0.27},null,null,{"$f":"Result_QR_SE_CLV_Z3","v":461.63157894736844},null,null,{"$f":"Result_QR_SE_VC_Z3","v":0.26},null,null,null,null,null,null,null,null,{"$f":"Result_QR_SE_CLV_Z5","v":459},null,null,{"$f":"Result_QR_SE_VC_Z5","v":0.26},null,null,{"$f":"MAX(AG46,AM46,AS46,AY46,BE46)","v":0.27},null,null,null,null,null,null,{"$f":"MMDataComp!AL26","v":"Good"},null,null,null,{"$f":"MMDataComp!AM26","v":"Good"},null,null,null,{"$f":"MMDataComp!AN26","v":"Good"},null,true,{"$f":"IF(NOT(BY46),-1,IF(BH46<0.75,0,IF(BH46<0.875,1,IF(BH46<1,2,3))))","v":0}]
[]
[null,null,null,null,null,null,null,null,null,null,null,null,null,null,null,null,null,null,null,null,null,null,null,"N-W",null,null,null,null,null,{"$f":"Result_QR_NW_CLV_Z1","v":467},null,null,{"$f":"Result_QR_NW_VC_Z1","v":0.27},null,null,null,null,null,null,null,null,null,null,null,null,null,null,{"$f":"Result_QR_NW_CLV_Z4","v":461.63157894736844},null,null,{"$f":"Result_QR_NW_VC_Z4","v":0.26},null,null,{"$f":"Result_QR_NW_CLV_Z5","v":423.5},null,null,{"$f":"Result_QR_NW_VC_Z5","v":0.24},null,null,{"$f":"MAX(AG48,AM48,AS48,AY48,BE48)","v":0.27},null,null,null,null,null,null,{"$f":"MMDataComp!AL28","v":"Good"},null,null,null,{"$f":"MMDataComp!AM28","v":"Good"},null,null,null,{"$f":"MMDataComp!AN28","v":"Good"},null,true,{"$f":"IF(NOT(BY48),-1,IF(BH48<0.75,0,IF(BH48<0.875,1,IF(BH48<1,2,3))))","v":0}]
[]
[null,null,null,null,"Partial Displaced Left Turn",null,null,null,null,null,null,null,null,null,null,null,null,null,null,null,null,null,null,"N-S",null,null,null,null,null,{"$f":"Result_PDLT_NS_CLV_Z1","v":377.86842105263156},null,null,{"$f":"Result_PDLT_NS_VC_Z1","v":0.21},null,null,{"$f":"Result_PDLT_NS_CLV_Z2","v":377.86842105263156},null,null,{"$f":"Result_PDLT_NS_VC_Z2","v":0.21},null,null,null,null,null,null,null,null,null,null,null,null,null,null,{"$f":"Result_PDLT_NS_CLV_Z5","v":389.63157894736844},null,null,{"$f":"Result_PDLT_NS_VC_Z5","v":0.22},null,null,{"$f":"MAX(AG50,AM50,AS50,AY50,BE50)","v":0.22},null,null,null,null,null,null,{"$f":"MMDataComp!AL30","v":"Good"},null,null,null,{"$f":"MMDataComp!AM30","v":"Good"},null,null,null,{"$f":"MMDataComp!AN30","v":"Excellent"},null,true,{"$f":"IF(NOT(BY50),-1,IF(BH50<0.75,0,IF(BH50<0.875,1,IF(BH50<1,2,3))))","v":0}]
[]
[null,null,null,null,null,null,null,null,null,null,null,null,null,null,null,null,null,null,null,null,null,null,null,"E-W",null,null,null,null,null,null,null,null,null,null,null,null,null,null,null,null,null,{"$f":"Result_PDLT_EW_CLV_Z3","v":185.63157894736844},null,null,{"$f":"Result_PDLT_EW_VC_Z3","v":0.1},null,null,{"$f":"Result_PDLT_EW_CLV_Z4","v":185.63157894736844},null,null,{"$f":"Result_PDLT_EW_VC_Z4","v":0.1},null,null,{"$f":"Result_PDLT_EW_CLV_Z5","v":464.36842105263156},null,null,{"$f":"Result_PDLT_EW_VC_Z5","v":0.27},null,null,{"$f":"MAX(AG52,AM52,AS52,AY52,BE52)","v":0.27},null,null,null,null,null,null,{"$f":"MMDataComp!AL32","v":"Good"},null,null,null,{"$f":"MMDataComp!AM32","v":"Good"},null,null,null,{"$f":"MMDataComp!AN32","v":"Excellent"},null,true,{"$f":"IF(NOT(BY52),-1,IF(BH52<0.75,0,IF(BH52<0.875,1,IF(BH52<1,2,3))))","v":0}]
[]
[null,null,null,null,"Displaced Left Turn",null,null,null,null,null,null,null,null,null,null,null,null,null,null,null,null,null,null,"FULL",null,null,null,null,null,{"$f":"Result_DLT_CLV_Z1","v":377.86842105263156},null,null,{"$f":"Result_DLT_VC_Z1","v":0.21},null,null,{"$f":"Result_DLT_CLV_Z2","v":377.86842105263156},null,null,{"$f":"Result_DLT_VC_Z2","v":0.21},null,null,{"$f":"Result_DLT_CLV_Z3","v":185.63157894736844},null,null,{"$f":"Result_DLT_VC_Z3","v":0.1},null,null,{"$f":"Result_DLT_CLV_Z4","v":185.63157894736844},null,null,{"$f":"Result_DLT_VC_Z4","v":0.1},null,null,{"$f":"Result_DLT_CLV_Z5","v":357},null,null,{"$f":"Result_DLT_VC_Z5","v":0.2},null,null,{"$f":"MAX(AG54,AM54,AS54,AY54,BE54)","v":0.21},null,null,null,null,null,null,{"$f":"MMDataComp!AL34","v":"Good"},null,null,null,{"$f":"MMDataComp!AM34","v":"Good"},null,null,null,{"$f":"MMDataComp!AN34","v":"Excellent"},null,true,{"$f":"IF(NOT(BY54),-1,IF(BH54<0.75,0,IF(BH54<0.875,1,IF(BH54<1,2,3))))","v":0}]
[]
[null,null,null,null,{"$f":"'3 - Alt Num Lanes Input'!E56","v":"Signalized Restricted Crossing U-Turn"},null,null,null,null,null,null,null,null,null,null,null,null,null,null,null,null,null,null,"N-S",null,null,null,null,null,{"$f":"Result_RCUT_NS_CLV_Z1","v":701.75},null,null,{"$f":"Result_RCUT_NS_VC_Z1","v":0.39},null,null,{"$f":"Result_RCUT_NS_CLV_Z2","v":701.75},null,null,{"$f":"Result_RCUT_NS_VC_Z2","v":0.39},null,null,{"$f":"Result_RCUT_NS_CLV_Z3","v":816.47058823529414},null,null,{"$f":"Result_RCUT_NS_VC_Z3","v":0.45},null,null,{"$f":"Result_RCUT_NS_CLV_Z4","v":816.47058823529414},null,null,{"$f":"Result_RCUT_NS_VC_Z4","v":0.45},null,null,null,null,null,null,null,null,{"$f":"MAX(AG56,AM56,AS56,AY56,BE56)","v":0.45},null,null,null,null,null,null,{"$f":"MMDataComp!AL36","v":"Excellent"},null,null,null,{"$f":"MMDataComp!AM36","v":"Excellent"},null,null,null,{"$f":"MMDataComp!AN36","v":"Good"},null,true,{"$f":"IF(NOT(BY56),-1,IF(BH56<0.75,0,IF(BH56<0.875,1,IF(BH56<1,2,3))))","v":0}]
[]
[null,null,null,null,null,null,null,null,null,null,null,null,null,null,null,null,null,null,null,null,null,null,null,"E-W",null,null,null,null,null,{"$f":"Result_RCUT_EW_CLV_Z1","v":1620},null,null,{"$f":"Result_RCUT_EW_VC_Z1","v":0.9},null,null,{"$f":"Result_RCUT_EW_CLV_Z2","v":1620},null,null,{"$f":"Result_RCUT_EW_VC_Z2","v":0.9},null,null,{"$f":"Result_RCUT_EW_CLV_Z3","v":908},null,null,{"$f":"Result_RCUT_EW_VC_Z3","v":0.5},null,null,{"$f":"Result_RCUT_EW_CLV_Z4","v":908},null,null,{"$f":"Result_RCUT_EW_VC_Z4","v":0.5},null,null,null,null,null,null,null,null,{"$f":"MAX(AG58,AM58,AS58,AY58,BE58)","v":0.9},null,null,null,null,null,null,{"$f":"MMDataComp!AL38","v":"Excellent"},null,null,null,{"$f":"MMDataComp!AM38","v":"Excellent"},null,null,null,{"$f":"MMDataComp!AN38","v":"Good"},null,true,{"$f":"IF(NOT(BY58),-1,IF(BH58<0.75,0,IF(BH58<0.875,1,IF(BH58<1,2,3))))","v":2}]
[]
[null,null,null,null,{"$f":"'3 - Alt Num Lanes Input'!E60","v":"Unsignalized Restricted Crossing U-Turn"},null,null,null,null,null,null,null,null,null,null,null,null,null,null,null,null,null,null,"N-S",null,null,null,null,null,{"$f":"Result_URCUT_NS_CLV_Z1","v":816},null,null,{"$f":"Result_URCUT_NS_VC_Z1","v":0.35281527018121533},null,null,{"$f":"Result_URCUT_NS_CLV_Z2","v":816},null,null,{"$f":"Result_URCUT_NS_VC_Z2","v":0.35281527018121533},null,null,{"$f":"Result_URCUT_NS_CLV_Z3","v":541},null,null,{"$f":"Result_URCUT_NS_VC_Z3","v":0.58924366590961619},null,null,{"$f":"Result_URCUT_NS_CLV_Z4","v":541},null,null,{"$f":"Result_URCUT_NS_VC_Z4","v":0.58924366590961619},null,null,null,null,null,null,null,null,{"$f":"MAX(AG60,AM60,AS60,AY60,BE60)","v":0.58924366590961619},null,null,null,null,null,null,{"$f":"MMDataComp!AL40","v":"Good"},null,null,null,{"$f":"MMDataComp!AM40","v":"Good"},null,null,null,{"$f":"MMDataComp!AN40","v":"Good"},null,true]
[]
[null,null,null,null,null,null,null,null,null,null,null,null,null,null,null,null,null,null,null,null,null,null,null,"E-W",null,null,null,null,null,{"$f":"Result_URCUT_EW_CLV_Z1","v":306},null,null,{"$f":"Result_URCUT_EW_VC_Z1","v":1.1827071618935139},null,null,{"$f":"Result_URCUT_EW_CLV_Z2","v":306},null,null,{"$f":"Result_URCUT_EW_VC_Z2","v":1.1827071618935139},null,null,{"$f":"Result_URCUT_EW_CLV_Z3","v":286},null,null,{"$f":"Result_URCUT_EW_VC_Z3","v":0.57217127930046763},null,null,{"$f":"Result_URCUT_EW_CLV_Z4","v":286},null,null,{"$f":"Result_URCUT_EW_VC_Z4","v":0.57217127930046763},null,null,null,null,null,null,null,null,{"$f":"MAX(AG62,AM62,AS62,AY62,BE62)","v":1.1827071618935139},null,null,null,null,null,null,{"$f":"MMDataComp!AL42","v":"Good"},null,null,null,{"$f":"MMDataComp!AM42","v":"Good"},null,null,null,{"$f":"MMDataComp!AN42","v":"Good"},null,true]
[]
[null,null,null,null,"Median U-Turn",null,null,null,null,null,null,null,null,null,null,null,null,null,null,null,null,null,null,"N-S",null,null,null,null,null,{"$f":"Result_MUT_NS_CLV_Z1","v":574.25},null,null,{"$f":"Result_MUT_NS_VC_Z1","v":0.32},null,null,{"$f":"Result_MUT_NS_CLV_Z2","v":574.25},null,null,{"$f":"Result_MUT_NS_VC_Z2","v":0.32},null,null,null,null,null,null,null,null,null,null,null,null,null,null,{"$f":"Result_MUT_NS_CLV_Z5","v":462},null,null,{"$f":"Result_MUT_NS_VC_Z5","v":0.26},null,null,{"$f":"MAX(AG64,AM64,AS64,AY64,BE64)","v":0.32},null,null,null,null,null,null,{"$f":"MMDataComp!AL44","v":"Excellent"},null,null,null,{"$f":"MMDataComp!AM44","v":"Excellent"},null,null,null,{"$f":"MMDataComp!AN44","v":"Good"},null,true,{"$f":"IF(NOT(BY64),-1,IF(BH64<0.75,0,IF(BH64<0.875,1,IF(BH64<1,2,3))))","v":0}]
[]
[null,null,null,null,null,null,null,null,null,null,null,null,null,null,null,null,null,null,null,null,null,null,null,"E-W",null,null,null,null,null,null,null,null,null,null,null,null,null,null,null,null,null,{"$f":"Result_MUT_EW_CLV_Z3","v":309.25},null,null,{"$f":"Result_MUT_EW_VC_Z3","v":0.17},null,null,{"$f":"Result_MUT_EW_CLV_Z4","v":309.25},null,null,{"$f":"Result_MUT_EW_VC_Z4","v":0.17},null,null,{"$f":"Result_MUT_EW_CLV_Z5","v":477.5},null,null,{"$f":"Result_MUT_EW_VC_Z5","v":0.27},null,null,{"$f":"MAX(AG66,AM66,AS66,AY66,BE66)","v":0.27},null,null,null,null,null,null,{"$f":"MMDataComp!AL46","v":"Excellent"},null,null,null,{"$f":"MMDataComp!AM46","v":"Excellent"},null,null,null,{"$f":"MMDataComp!AN46","v":"Good"},null,true,{"$f":"IF(NOT(BY66),-1,IF(BH66<0.75,0,IF(BH66<0.875,1,IF(BH66<1,2,3))))","v":0}]
[]
[null,null,null,null,"Partial Median U-Turn",null,null,null,null,null,null,null,null,null,null,null,null,null,null,null,null,null,null,"N-S",null,null,null,null,null,{"$f":"Result_PMUT_NS_CLV_Z1","v":535.5},null,null,{"$f":"Result_PMUT_NS_VC_Z1","v":0.3},null,null,{"$f":"Result_PMUT_NS_CLV_Z2","v":535.5},null,null,{"$f":"Result_PMUT_NS_VC_Z2","v":0.3},null,null,null,null,null,null,null,null,null,null,null,null,null,null,{"$f":"Result_PMUT_NS_CLV_Z5","v":461.63157894736844},null,null,{"$f":"Result_PMUT_NS_VC_Z5","v":0.26},null,null,{"$f":"MAX(AG68,AM68,AS68,AY68,BE68)","v":0.3},null,null,null,null,null,null,{"$f":"MMDataComp!AL48","v":"Excellent"},null,null,null,{"$f":"MMDataComp!AM48","v":"Excellent"},null,null,null,{"$f":"MMDataComp!AN48","v":"Good"},null,true,{"$f":"IF(NOT(BY68),-1,IF(BH68<0.75,0,IF(BH68<0.875,1,IF(BH68<1,2,3))))","v":0}]
[]
[null,null,null,null,null,null,null,null,null,null,null,null,null,null,null,null,null,null,null,null,null,null,null,"E-W",null,null,null,null,null,null,null,null,null,null,null,null,null,null,null,null,null,{"$f":"Result_PMUT_EW_CLV_Z3","v":181.75},null,null,{"$f":"Result_PMUT_EW_VC_Z3","v":0.1},null,null,{"$f":"Result_PMUT_EW_CLV_Z4","v":181.75},null,null,{"$f":"Result_PMUT_EW_VC_Z4","v":0.1},null,null,{"$f":"Result_PMUT_EW_CLV_Z5","v":479.86842105263156},null,null,{"$f":"Result_PMUT_EW_VC_Z5","v":0.27},null,null,{"$f":"MAX(AG70,AM70,AS70,AY70,BE70)","v":0.27},null,null,null,null,null,null,{"$f":"MMDataComp!AL50","v":"Excellent"},null,null,null,{"$f":"MMDataComp!AM50","v":"Excellent"},null,null,null,{"$f":"MMDataComp!AN50","v":"Good"},null,true,{"$f":"IF(NOT(BY70),-1,IF(BH70<0.75,0,IF(BH70<0.875,1,IF(BH70<1,2,3))))","v":0}]
[]
[]
[]
[]
[null,"Capacity Analysis for Planning of Junctions"]
[]
[null,"Results Worksheet"]
[]
[]
[]
[null,null,null,null,"Results for Roundabouts"]
[]
[null,null,null,null,"TYPE OF ROUNDABOUT",null,null,null,null,null,null,"Zone 1 (North)",null,null,null,null,null,null,null,null,null,null,null,"Zone 3 (East)",null,null,null,null,null,null,null,null,null,null,null,"Zone 2 (South)",null,null,null,null,null,null,null,null,null,null,null,"Zone 4 (West)",null,null,null,null,null,null,null,null,null,null,null,"Overall v/c Ratio ",null,null,null,null,null,null,"Pedestrian Accommodations",null,null,null,"Bicycle Accommodations",null,null,null,"Transit Accommodations"]
[null,{"$f":"IF(L91>1,1,0)","v":0},{"$f":"IF(X91>1,1,0)","v":0}]
[null,{"$f":"IF(AJ91>1,1,0)","v":0},{"$f":"IF(AV91>1,1,0)","v":0},null,null,null,null,null,null,null,null,"Lane 1",null,null,null,"Lane 2",null,null,null," Lane 3",null,null,null,"Lane 1",null,null,null,"Lane 2",null,null,null," Lane 3",null,null,null,"Lane 1",null,null,null,"Lane 2",null,null,null," Lane 3",null,null,null,"Lane 1",null,null,null,"Lane 2",null,null,null," Lane 3"]
[]
[null,null,null,null,"50 ICD",null,null,null,null,null,null,{"$f":"Result_50ICD_VC_Z1","v":1.2015078924049682},null,null,null,null,null,null,null,null,null,null,null,{"$f":"Result_50ICD_VC_Z3","v":0.78508234653600095},null,null,null,null,null,null,null,null,null,null,null,{"$f":"Result_50ICD_VC_Z2","v":1.1761592519627155},null,null,null,null,null,null,null,null,null,null,null,{"$f":"Result_50ICD_VC_Z4","v":0.797136004213433},null,null,null,null,null,null,null,null,null,null,null,{"$f":"MAX(L87:BG88)","v":1.2015078924049682},null,null,null,null,null,null,{"$f":"MMDataComp!AL52","v":"Excellent"},null,null,null,{"$f":"MMDataComp!AM52","v":"Excellent"},null,null,null,{"$f":"MMDataComp!AN52","v":"Excellent"},null,true,{"$f":"IF(NOT(BY87),-1,IF(BH87<0.75,0,IF(BH87<0.875,1,IF(BH87<1,2,3))))","v":3}]
[null,{"$f":"IF(L93>1,1,0)","v":0},{"$f":"IF(AJ93>1,1,0)","v":0}]
[null,{"$f":"IF(OR(X93>1, AB93>1),1,0)","v":0},{"$f":"IF(OR(AV93>1, AZ93>1),1,0)","v":0},null,"75 ICD",null,null,null,null,null,null,{"$f":"Result_75ICD_VC_Z1","v":1.1467495384333108},null,null,null,null,null,null,null,null,null,null,null,{"$f":"Result_75ICD_VC_Z3","v":0.70547242610631655},null,null,null,null,null,null,null,null,null,null,null,{"$f":"Result_75ICD_VC_Z2","v":1.12111142502231},null,null,null,null,null,null,null,null,null,null,null,{"$f":"Result_75ICD_VC_Z4","v":0.67150663064832983},null,null,null,null,null,null,null,null,null,null,null,{"$f":"MAX(L89:BG90)","v":1.1467495384333108},null,null,null,null,null,null,{"$f":"MMDataComp!AL54","v":"Excellent"},null,null,null,{"$f":"MMDataComp!AM54","v":"Excellent"},null,null,null,{"$f":"MMDataComp!AN54","v":"Excellent"},null,true,{"$f":"IF(NOT(BY89),-1,IF(BH89<0.75,0,IF(BH89<0.875,1,IF(BH89<1,2,3))))","v":3}]
[]
[null,null,null,null,"1 X 1",null,null,null,null,null,null,{"$f":"Result_1x1Rdbt_VC_Z1","v":0.83386444718295072},null,null,null,null,null,null,null,null,null,null,null,{"$f":"Result_1x1Rdbt_VC_Z3","v":0.39932208093482385},null,null,null,null,null,null,null,null,null,null,null,{"$f":"Result_1x1Rdbt_VC_Z2","v":0.83386444718295072},null,null,null,null,null,null,null,null,null,null,null,{"$f":"Result_1x1Rdbt_VC_Z4","v":0.39932208093482385},null,null,null,null,null,null,null,null,null,null,null,{"$f":"MAX(L91:BG92)","v":0.83386444718295072},null,null,null,null,null,null,{"$f":"MMDataComp!AL56","v":"Excellent"},null,null,null,{"$f":"MMDataComp!AM56","v":"Excellent"},null,null,null,{"$f":"MMDataComp!AN56","v":"Excellent"},null,true,{"$f":"IF(NOT(BY91),-1,IF(BH91<0.75,0,IF(BH91<0.875,1,IF(BH91<1,2,3))))","v":1}]
[null,{"$f":"IF(AV95>1,1,0)","v":0},{"$f":"IF(X95>1,1,0)","v":0}]
[null,{"$f":"IF(OR(L95>1, P95>1),1,0)","v":0},{"$f":"IF(OR(AJ95>1,AN95>1),1,0)","v":0},null,"1 X 2",null,null,null,null,null,null,{"$f":"Result_1x2Rdbt_VC_L1_Z1","v":0.76525375396253192},null,null,null,null,null,null,null,null,null,null,null,{"$f":"Result_1x2Rdbt_VC_L1_Z3","v":0.17990422646463175},null,null,null,{"$f":"Result_1x2Rdbt_VC_L2_Z3","v":0.18438144211542062},null,null,null,null,null,null,null,{"$f":"Result_1x2Rdbt_VC_L1_Z2","v":0.76525375396253192},null,null,null,null,null,null,null,null,null,null,null,{"$f":"Result_1x2Rdbt_VC_L1_Z4","v":0.17990422646463175},null,null,null,{"$f":"Result_1x2Rdbt_VC_L2_Z4","v":0.18438144211542062},null,null,null,null,null,null,null,{"$f":"MAX(L93:BG94)","v":0.76525375396253192},null,null,null,null,null,null,{"$f":"MMDataComp!AL58","v":"Good"},null,null,null,{"$f":"MMDataComp!AM58","v":"Excellent"},null,null,null,{"$f":"MMDataComp!AN58","v":"Excellent"},null,true,{"$f":"IF(NOT(BY93),-1,IF(BH93<0.75,0,IF(BH93<0.875,1,IF(BH93<1,2,3))))","v":1}]
[]
[null,null,null,null,"2 X 1",null,null,null,null,null,null,{"$f":"Result_2x1Rdbt_VC_L1_Z1","v":0.38734941942391848},null,null,null,{"$f":"Result_2x1Rdbt_VC_L2_Z1","v":0.40558448960014193},null,null,null,null,null,null,null,{"$f":"Result_2x1Rdbt_VC_L1_Z3","v":0.34788951342532187},null,null,null,null,null,null,null,null,null,null,null,{"$f":"Result_2x1Rdbt_VC_L1_Z2","v":0.38734941942391848},null,null,null,{"$f":"Result_2x1Rdbt_VC_L2_Z2","v":0.40558448960014193},null,null,null,null,null,null,null,{"$f":"Result_2x1Rdbt_VC_L1_Z4","v":0.34788951342532187},null,null,null,null,null,null,null,null,null,null,null,{"$f":"MAX(L95:BG96)","v":0.40558448960014193},null,null,null,null,null,null,{"$f":"MMDataComp!AL60","v":"Good"},null,null,null,{"$f":"MMDataComp!AM60","v":"Excellent"},null,null,null,{"$f":"MMDataComp!AN60","v":"Excellent"},null,true,{"$f":"IF(NOT(BY95),-1,IF(BH95<0.75,0,IF(BH95<0.875,1,IF(BH95<1,2,3))))","v":0}]
[null,{"$f":"IF(OR(L97>1, P97>1),1,0)","v":0},{"$f":"IF(OR(AV97>1,AZ97>1),1,0)","v":0}]
[null,{"$f":"IF(OR(AJ97>1, AN97>1),1,0)","v":0},{"$f":"IF(OR(X97>1, AB97>1),1,0)","v":0},null,"2 X 2",null,null,null,null,null,null,{"$f":"Result_2x2Rdbt_VC_L1_Z1","v":0.38734941942391848},null,null,null,{"$f":"Result_2x2Rdbt_VC_L2_Z1","v":0.40558448960014193},null,null,null,null,null,null,null,{"$f":"Result_2x2Rdbt_VC_L1_Z3","v":0.17990422646463175},null,null,null,{"$f":"Result_2x2Rdbt_VC_L2_Z3","v":0.18438144211542062},null,null,null,null,null,null,null,{"$f":"Result_2x2Rdbt_VC_L1_Z2","v":0.38734941942391848},null,null,null,{"$f":"Result_2x2Rdbt_VC_L2_Z2","v":0.40558448960014193},null,null,null,null,null,null,null,{"$f":"Result_2x2Rdbt_VC_L1_Z4","v":0.17990422646463175},null,null,null,{"$f":"Result_2x2Rdbt_VC_L2_Z4","v":0.18438144211542062},null,null,null,null,null,null,null,{"$f":"MAX(L97:BG98)","v":0.40558448960014193},null,null,null,null,null,null,{"$f":"MMDataComp!AL62","v":"Good"},null,null,null,{"$f":"MMDataComp!AM62","v":"Excellent"},null,null,null,{"$f":"MMDataComp!AN62","v":"Excellent"},null,true,{"$f":"IF(NOT(BY97),-1,IF(BH97<0.75,0,IF(BH97<0.875,1,IF(BH97<1,2,3))))","v":0}]
[]
[null,null,null,null,"3 X 3",null,null,null,null,null,null,{"$f":"Result_3x3Rdbt_VC_L1_Z1","v":6.175007633529693E-2},null,null,null,{"$f":"Result_3x3Rdbt_VC_L2_Z1","v":0.36097733807052673},null,null,null,{"$f":"Result_3x3Rdbt_VC_L3_Z1","v":0.48605315436566804},null,null,null,{"$f":"Result_3x3Rdbt_VC_L1_Z3","v":2.5599612199335927E-2},null,null,null,{"$f":"Result_3x3Rdbt_VC_L2_Z3","v":0.18998116061118261},null,null,null,{"$f":"Result_3x3Rdbt_VC_L3_Z3","v":0.22208504437468563},null,null,null,{"$f":"Result_3x3Rdbt_VC_L1_Z2","v":6.175007633529693E-2},null,null,null,{"$f":"Result_3x3Rdbt_VC_L2_Z2","v":0.36097733807052673},null,null,null,{"$f":"Result_3x3Rdbt_VC_L3_Z2","v":0.48605315436566804},null,null,null,{"$f":"Result_3x3Rdbt_VC_L1_Z4","v":2.5599612199335927E-2},null,null,null,{"$f":"Result_3x3Rdbt_VC_L2_Z4","v":0.18998116061118261},null,null,null,{"$f":"Result_3x3Rdbt_VC_L3_Z4","v":0.22208504437468563},null,null,null,{"$f":"MAX(L99:BG100)","v":0.48605315436566804},null,null,null,null,null,null,{"$f":"MMDataComp!AL64","v":"Fair"},null,null,null,{"$f":"MMDataComp!AM64","v":"Good"},null,null,null,{"$f":"MMDataComp!AN64","v":"Excellent"},null,true]
[null,{"$f":"IF(OR(L99>1, P99>1,T99>1),1,0)","v":0},{"$f":"IF(OR(X99>1, AB99>1,AF99>1),1,0)","v":0}]
[null,{"$f":"IF(OR(AJ99>1, AN99>1,AR99>1),1,0)","v":0},{"$f":"IF(OR(AV99>1, AZ99>1,BD99>1),1,0)","v":0},null,null,null,null,null,null,null,null,null,null,null,null,null,null,null,null,null,null,null,null,null,null,null,null,null,null,null,null,null,null,null,null,null,null,null,null,null,null,null,null,null,null,null,null,null,null,null,null,null,null,null,null,null,null,null,null,null,null,null,null,null,null,null,null,null,null,null,null,null,null,null,null,null,true]
[null,null,null,null,"Results for Interchanges",null,null,null,null,null,null,null,null,null,null,null,null,null,null,null,null,null,null,null,null,null,null,null,null,null,null,null,null,null,null,null,null,null,null,null,null,null,null,null,null,null,null,null,null,null,null,null,null,null,null,null,null,null,null,null,null,null,null,null,null,null,null,null,null,null,null,null,null,null,null,null,true]
[null,null,null,null,null,null,null,null,null,null,null,null,null,null,null,null,null,null,null,null,null,null,null,null,null,null,null,null,null,null,null,null,null,null,null,null,null,null,null,null,null,null,null,null,null,null,null,null,null,null,null,null,null,null,null,null,null,null,null,null,null,null,null,null,null,null,null,null,null,null,null,null,null,null,null,null,true]
[null,null,null,null,"TYPE OF INTERCHANGE",null,null,null,null,null,null,null,null,null,null,null,null,"Sheet",null,null,null,null,null,"Zone 1       (Rt Mrg)",null,null,null,null,null,"Zone 2       (Lt Mrg)",null,null,null,null,null,"Zone 3     (Ctr. 1)",null,null,null,null,null,"Zone 4     (Ctr. 2)",null,null,null,null,null,"Zone 5       (Lt Mrg)",null,null,null,null,null,"Zone 6       (Rt Mrg)",null,null,null,null,null,"Overall v/c Ratio ",null,null,null,null,null,null,"Pedestrian Accommodations",null,null,null,"Bicycle Accommodations",null,null,null,"Transit Accommodations",null,true]
[null,null,null,null,null,null,null,null,null,null,null,null,null,null,null,null,null,null,null,null,null,null,null,null,null,null,null,null,null,null,null,null,null,null,null,null,null,null,null,null,null,null,null,null,null,null,null,null,null,null,null,null,null,null,null,null,null,null,null,null,null,null,null,null,null,null,null,null,null,null,null,null,null,null,null,null,true]
[null,null,null,null,null,null,null,null,null,null,null,null,null,null,null,null,null,null,null,null,null,null,null,"CLV",null,null,"V/C",null,null,"CLV",null,null,"V/C",null,null,"CLV",null,null,"V/C",null,null,"CLV",null,null,"V/C",null,null,"CLV",null,null,"V/C",null,null,"CLV",null,null,"V/C",null,null,null,null,null,null,null,null,null,null,null,null,null,null,null,null,null,null,null,true]
[null,null,null,null,null,null,null,null,null,null,null,null,null,null,null,null,null,null,null,null,null,null,null,null,null,null,null,null,null,null,null,null,null,null,null,null,null,null,null,null,null,null,null,null,null,null,null,null,null,null,null,null,null,null,null,null,null,null,null,null,null,null,null,null,null,null,null,null,null,null,null,null,null,null,null,null,true]
[null,null,null,null,"Diamond",null,null,null,null,null,null,null,null,null,null,null,null,"N-S",null,null,null,null,null,null,null,null,null,null,null,null,null,null,null,null,null,{"$f":"Result_TD_NS_CLV_Z3","v":503.15789473684208},null,null,{"$f":"Result_TD_NS_VC_Z3","v":0.28999999999999998},null,null,{"$f":"Result_TD_NS_CLV_Z4","v":520.73684210526312},null,null,{"$f":"Result_TD_NS_VC_Z4","v":0.3},null,null,null,null,null,null,null,null,null,null,null,null,null,null,{"$f":"MAX(AA108,AG108,AM108,AS108,AY108,BE108)","v":0.3},null,null,null,null,null,null,{"$f":"MMDataComp!AL66","v":"Good"},null,null,null,{"$f":"MMDataComp!AM66","v":"Good"},null,null,null,{"$f":"MMDataComp!AN66","v":"Excellent"},null,true,{"$f":"IF(NOT(BY108),-1,IF(BH108<0.75,0,IF(BH108<0.875,1,IF(BH108<1,2,3))))","v":0}]
[]
[null,null,null,null,null,null,null,null,null,null,null,null,null,null,null,null,null,"E-W",null,null,null,null,null,null,null,null,null,null,null,null,null,null,null,null,null,{"$f":"Result_TD_EW_CLV_Z3","v":528.78947368421052},null,null,{"$f":"Result_TD_EW_VC_Z3","v":0.3},null,null,{"$f":"Result_TD_EW_CLV_Z4","v":454.0526315789474},null,null,{"$f":"Result_TD_EW_VC_Z4","v":0.26},null,null,null,null,null,null,null,null,null,null,null,null,null,null,{"$f":"MAX(AA110,AG110,AM110,AS110,AY110,BE110)","v":0.3},null,null,null,null,null,null,{"$f":"MMDataComp!AL68","v":"Good"},null,null,null,{"$f":"MMDataComp!AM68","v":"Good"},null,null,null,{"$f":"MMDataComp!AN68","v":"Excellent"},null,true,{"$f":"IF(NOT(BY110),-1,IF(BH110<0.75,0,IF(BH110<0.875,1,IF(BH110<1,2,3))))","v":0}]
[]
[null,null,null,null,"Partial Cloverleaf A",null,null,null,null,null,null,null,null,null,null,null,null,"N-S",null,null,null,null,null,null,null,null,null,null,null,null,null,null,null,null,null,{"$f":"Result_PCLA_NS_CLV_Z3","v":338.63157894736844},null,null,{"$f":"Result_PCLA_NS_VC_Z3","v":0.19},null,null,{"$f":"Result_PCLA_NS_CLV_Z4","v":338.63157894736844},null,null,{"$f":"Result_PCLA_NS_VC_Z4","v":0.19},null,null,null,null,null,null,null,null,null,null,null,null,null,null,{"$f":"MAX(AA112,AG112,AM112,AS112,AY112,BE112)","v":0.19},null,null,null,null,null,null,{"$f":"MMDataComp!AL70","v":"Fair"},null,null,null,{"$f":"MMDataComp!AM70","v":"Fair"},null,null,null,{"$f":"MMDataComp!AN70","v":"Excellent"},null,true,{"$f":"IF(NOT(BY112),-1,IF(BH112<0.75,0,IF(BH112<0.875,1,IF(BH112<1,2,3))))","v":0}]
[]
[null,null,null,null,null,null,null,null,null,null,null,null,null,null,null,null,null,"E-W",null,null,null,null,null,null,null,null,null,null,null,null,null,null,null,null,null,{"$f":"Result_PCLA_EW_CLV_Z3","v":224.86842105263159},null,null,{"$f":"Result_PCLA_EW_VC_Z3","v":0.12},null,null,{"$f":"Result_PCLA_EW_CLV_Z4","v":224.86842105263159},null,null,{"$f":"Result_PCLA_EW_VC_Z4","v":0.12},null,null,null,null,null,null,null,null,null,null,null,null,null,null,{"$f":"MAX(AA114,AG114,AM114,AS114,AY114,BE114)","v":0.12},null,null,null,null,null,null,{"$f":"MMDataComp!AL72","v":"Fair"},null,null,null,{"$f":"MMDataComp!AM72","v":"Fair"},null,null,null,{"$f":"MMDataComp!AN72","v":"Excellent"},null,true,{"$f":"IF(NOT(BY114),-1,IF(BH114<0.75,0,IF(BH114<0.875,1,IF(BH114<1,2,3))))","v":0}]
[]
[null,null,null,null,"Partial Cloverleaf B",null,null,null,null,null,null,null,null,null,null,null,null,"N-S",null,null,null,null,null,null,null,null,null,null,null,null,null,null,null,null,null,{"$f":"Result_PCLB_NS_CLV_Z3","v":413.36842105263156},null,null,{"$f":"Result_PCLB_NS_VC_Z3","v":0.23},null,null,{"$f":"Result_PCLB_NS_CLV_Z4","v":413.36842105263156},null,null,{"$f":"Result_PCLB_NS_VC_Z4","v":0.23},null,null,null,null,null,null,null,null,null,null,null,null,null,null,{"$f":"MAX(AA116,AG116,AM116,AS116,AY116,BE116)","v":0.23},null,null,null,null,null,null,{"$f":"MMDataComp!AL74","v":"Fair"},null,null,null,{"$f":"MMDataComp!AM74","v":"Fair"},null,null,null,{"$f":"MMDataComp!AN74","v":"Excellent"},null,true,{"$f":"IF(NOT(BY116),-1,IF(BH116<0.75,0,IF(BH116<0.875,1,IF(BH116<1,2,3))))","v":0}]
[]
[null,null,null,null,null,null,null,null,null,null,null,null,null,null,null,null,null,"E-W",null,null,null,null,null,null,null,null,null,null,null,null,null,null,null,null,null,{"$f":"Result_PCLB_EW_CLV_Z3","v":165.63157894736844},null,null,{"$f":"Result_PCLB_EW_VC_Z3","v":0.09},null,null,{"$f":"Result_PCLB_EW_CLV_Z4","v":150.13157894736844},null,null,{"$f":"Result_PCLB_EW_VC_Z4","v":0.08},null,null,null,null,null,null,null,null,null,null,null,null,null,null,{"$f":"MAX(AA118,AG118,AM118,AS118,AY118,BE118)","v":0.09},null,null,null,null,null,null,{"$f":"MMDataComp!AL76","v":"Fair"},null,null,null,{"$f":"MMDataComp!AM76","v":"Fair"},null,null,null,{"$f":"MMDataComp!AN76","v":"Excellent"},null,true,{"$f":"IF(NOT(BY118),-1,IF(BH118<0.75,0,IF(BH118<0.875,1,IF(BH118<1,2,3))))","v":0}]
[]
[null,null,null,null,"Displaced Left Turn",null,null,null,null,null,null,null,null,null,null,null,null,"N-S",null,null,null,null,null,{"$f":"Result_DLTI_NS_CLV_Z1","v":377.86842105263156},null,null,{"$f":"Result_DLTI_NS_VC_Z1","v":0.21},null,null,null,null,null,null,null,null,{"$f":"Result_DLTI_NS_CLV_Z3","v":516.23684210526312},null,null,{"$f":"Result_DLTI_NS_VC_Z3","v":0.28999999999999998},null,null,{"$f":"Result_DLTI_NS_CLV_Z4","v":516.23684210526312},null,null,{"$f":"Result_DLTI_NS_VC_Z4","v":0.28999999999999998},null,null,null,null,null,null,null,null,{"$f":"Result_DLTI_NS_CLV_Z6","v":377.86842105263156},null,null,{"$f":"Result_DLTI_NS_VC_Z6","v":0.21},null,null,{"$f":"MAX(AA120,AG120,AM120,AS120,AY120,BE120)","v":0.28999999999999998},null,null,null,null,null,null,{"$f":"MMDataComp!AL78","v":"Good"},null,null,null,{"$f":"MMDataComp!AM78","v":"Good"},null,null,null,{"$f":"MMDataComp!AN78","v":"Excellent"},null,true,{"$f":"IF(NOT(BY120),-1,IF(BH120<0.75,0,IF(BH120<0.875,1,IF(BH120<1,2,3))))","v":0}]
[]
[null,null,null,null,null,null,null,null,null,null,null,null,null,null,null,null,null,"E-W",null,null,null,null,null,{"$f":"Result_DLTI_EW_CLV_Z1","v":367.73684210526318},null,null,{"$f":"Result_DLTI_EW_VC_Z1","v":0.2},null,null,null,null,null,null,null,null,{"$f":"Result_DLTI_EW_CLV_Z3","v":260.36842105263156},null,null,{"$f":"Result_DLTI_EW_VC_Z3","v":0.14000000000000001},null,null,{"$f":"Result_DLTI_EW_CLV_Z4","v":770.36842105263156},null,null,{"$f":"Result_DLTI_EW_VC_Z4","v":0.43},null,null,null,null,null,null,null,null,{"$f":"Result_DLTI_EW_CLV_Z6","v":367.73684210526318},null,null,{"$f":"Result_DLTI_EW_VC_Z6","v":0.2},null,null,{"$f":"MAX(AA122,AG122,AM122,AS122,AY122,BE122)","v":0.43},null,null,null,null,null,null,{"$f":"MMDataComp!AL80","v":"Good"},null,null,null,{"$f":"MMDataComp!AM80","v":"Good"},null,null,null,{"$f":"MMDataComp!AN80","v":"Excellent"},null,true,{"$f":"IF(NOT(BY122),-1,IF(BH122<0.75,0,IF(BH122<0.875,1,IF(BH122<1,2,3))))","v":0}]
[]
[null,null,null,null,"Diverging Diamond Interchange",null,null,null,null,null,null,null,null,null,null,null,null,"N-S",null,null,null,null,null,{"$f":"Result_DCD_NS_CLV_Z1","v":324.18421052631578},null,null,{"$f":"Result_DCD_NS_VC_Z1","v":0.18},null,null,{"$f":"Result_DCD_NS_CLV_Z2","v":338.63157894736844},null,null,{"$f":"Result_DCD_NS_VC_Z2","v":0.19},null,null,{"$f":"Result_DCD_NS_CLV_Z3","v":576.5},null,null,{"$f":"Result_DCD_NS_VC_Z3","v":0.32},null,null,{"$f":"Result_DCD_NS_CLV_Z4","v":576.5},null,null,{"$f":"Result_DCD_NS_VC_Z4","v":0.32},null,null,{"$f":"Result_DCD_NS_CLV_Z5","v":338.63157894736844},null,null,{"$f":"Result_DCD_NS_VC_Z5","v":0.19},null,null,{"$f":"Result_DCD_NS_CLV_Z6","v":324.18421052631578},null,null,{"$f":"Result_DCD_NS_VC_Z6","v":0.18},null,null,{"$f":"MAX(AA124,AG124,AM124,AS124,AY124,BE124)","v":0.32},null,null,null,null,null,null,{"$f":"MMDataComp!AL82","v":"Excellent"},null,null,null,{"$f":"MMDataComp!AM82","v":"Excellent"},null,null,null,{"$f":"MMDataComp!AN82","v":"Excellent"},null,true,{"$f":"IF(NOT(BY124),-1,IF(BH124<0.75,0,IF(BH124<0.875,1,IF(BH124<1,2,3))))","v":0}]
[]
[null,null,null,null,null,null,null,null,null,null,null,null,null,null,null,null,null,"E-W",null,null,null,null,null,{"$f":"Result_DCD_EW_CLV_Z1","v":393},null,null,{"$f":"Result_DCD_EW_VC_Z1","v":0.22},null,null,{"$f":"Result_DCD_EW_CLV_Z2","v":270.5},null,null,{"$f":"Result_DCD_EW_VC_Z2","v":0.15},null,null,{"$f":"Result_DCD_EW_CLV_Z3","v":224.86842105263159},null,null,{"$f":"Result_DCD_EW_VC_Z3","v":0.12},null,null,{"$f":"Result_DCD_EW_CLV_Z4","v":224.86842105263159},null,null,{"$f":"Result_DCD_EW_VC_Z4","v":0.12},null,null,{"$f":"Result_DCD_EW_CLV_Z5","v":270.5},null,null,{"$f":"Result_DCD_EW_VC_Z5","v":0.15},null,null,{"$f":"Result_DCD_EW_CLV_Z6","v":393},null,null,{"$f":"Result_DCD_EW_VC_Z6","v":0.22},null,null,{"$f":"MAX(AA126,AG126,AM126,AS126,AY126,BE126)","v":0.22},null,null,null,null,null,null,{"$f":"MMDataComp!AL84","v":"Excellent"},null,null,null,{"$f":"MMDataComp!AM84","v":"Excellent"},null,null,null,{"$f":"MMDataComp!AN84","v":"Excellent"},null,true,{"$f":"IF(NOT(BY126),-1,IF(BH126<0.75,0,IF(BH126<0.875,1,IF(BH126<1,2,3))))","v":0}]
[]
[null,null,null,null,"Single Point ",null,null,null,null,null,null,null,null,null,null,null,null,"N-S",null,null,null,null,null,{"$f":"Result_SPI_NS_CLV_Z1","v":330.5},null,null,{"$f":"Result_SPI_NS_VC_Z1","v":0.18},null,null,null,null,null,null,null,null,{"$f":"Result_SPI_NS_CLV_Z3","v":395},null,null,{"$f":"Result_SPI_NS_VC_Z3","v":0.23},null,null,null,null,null,null,null,null,null,null,null,null,null,null,{"$f":"Result_SPI_NS_CLV_Z6","v":330.5},null,null,{"$f":"Result_SPI_NS_VC_Z6","v":0.18},null,null,{"$f":"MAX(AA128,AG128,AM128,AS128,AY128,BE128)","v":0.23},null,null,null,null,null,null,{"$f":"MMDataComp!AL86","v":"Good"},null,null,null,{"$f":"MMDataComp!AM86","v":"Good"},null,null,null,{"$f":"MMDataComp!AN86","v":"Excellent"},null,true,{"$f":"IF(NOT(BY128),-1,IF(BH128<0.75,0,IF(BH128<0.875,1,IF(BH128<1,2,3))))","v":0}]
[]
[null,null,null,null,null,null,null,null,null,null,null,null,null,null,null,null,null,"E-W",null,null,null,null,null,{"$f":"Result_SPI_EW_CLV_Z1","v":393},null,null,{"$f":"Result_SPI_EW_VC_Z1","v":0.22},null,null,null,null,null,null,null,null,{"$f":"Result_SPI_EW_CLV_Z3","v":242.00000000000003},null,null,{"$f":"Result_SPI_EW_VC_Z3","v":0.14000000000000001},null,null,null,null,null,null,null,null,null,null,null,null,null,null,{"$f":"Result_SPI_EW_CLV_Z6","v":393},null,null,{"$f":"Result_SPI_EW_VC_Z6","v":0.22},null,null,{"$f":"MAX(AA130,AG130,AM130,AS130,AY130,BE130)","v":0.22},null,null,null,null,null,null,{"$f":"MMDataComp!AL88","v":"Good"},null,null,null,{"$f":"MMDataComp!AM88","v":"Good"},null,null,null,{"$f":"MMDataComp!AN88","v":"Excellent"},null,true,{"$f":"IF(NOT(BY130),-1,IF(BH130<0.75,0,IF(BH130<0.875,1,IF(BH130<1,2,3))))","v":0}]

{"sheet":"MMDataComp","index":9,"n_rows":88,"n_cols":40,"rows_kept":88,"cut":false,"hidden":true,"merged":[[56,14,56,16],[57,14,57,16],[58,14,58,16],[59,14,59,16],[60,14,60,16],[0,4,0,9],[0,10,0,15],[35,4,35,6],[35,7,35,9],[2,4,2,6],[2,7,2,9],[2,10,2,12],[2,13,2,15],[35,10,35,12],[35,13,35,15],[55,1,58,1],[59,1,62,1],[64,2,66,3],[27,4,27,6],[27,7,27,9],[53,1,53,6],[50,14,50,16],[2,29,2,31],[2,32,2,34],[3,28,26,28],[28,28,34,28],[36,28,47,28],[2,16,2,18],[0,29,0,35],[1,35,2,35],[0,16,0,21],[2,19,2,21],[0,22,0,27],[2,22,2,24],[2,25,2,27]]}
[null,null,null,null,"Scoring Matrix",null,null,null,null,null,"Activity Level",null,null,null,null,null,"Results - Score",null,null,null,null,null,"Results - Qualitative",null,null,null,null,null,null,"Overall"]
[null,"Type","Subtype",null,"Ped","Bike","Transit","Ped","Bike","Transit","Ped","Bike","Transit","Ped","Bike","Transit","Ped","Bike","Transit","Ped","Bike","Transit","Ped","Bike","Transit","Ped","Bike","Transit",null,"Ped","Bike","Transit","Ped","Bike","Transit","Weighted Aggregate"]
[null,"At-Grade Non-Roundabout",null,null,"Major",null,null,"Minor",null,null,"Major",null,null,"Minor",null,null,"Major",null,null,"Minor",null,null,"Major",null,null,"Minor",null,null,null,"Score",null,null,"Qualitative",null,null,null,null,"For use in Results Worksheet"]
[null,"Conventional Traffic Signal",null,null,{"$f":"'Multimodal Scoring'!M20","v":2},{"$f":"'Multimodal Scoring'!N20","v":2},{"$f":"'Multimodal Scoring'!O20","v":3},{"$f":"'Multimodal Scoring'!P20","v":3},{"$f":"'Multimodal Scoring'!Q20","v":3},{"$f":"'Multimodal Scoring'!R20","v":3},{"$f":"IF(Input_MajorStreetDirection='1 - Volume Input'!$BG$18,'1 - Volume Input'!$W$52,'1 - Volume Input'!$W$48)","v":"Low"},{"$f":"IF(Input_MajorStreetDirection='1 - Volume Input'!$BG$18,'1 - Volume Input'!$AI$52,'1 - Volume Input'!$AI$48)","v":"Low"},{"$f":"IF(Input_MajorStreetDirection='1 - Volume Input'!$BG$18,'1 - Volume Input'!$AU$52,'1 - Volume Input'!$AU$48)","v":"Low"},{"$f":"IF(Input_MajorStreetDirection='1 - Volume Input'!$BG$18,'1 - Volume Input'!$W$48,'1 - Volume Input'!$W$52)","v":"Low"},{"$f":"IF(Input_MajorStreetDirection='1 - Volume Input'!$BG$18,'1 - Volume Input'!$AI$48,'1 - Volume Input'!$AI$52)","v":"Low"},{"$f":"IF(Input_MajorStreetDirection='1 - Volume Input'!$BG$18,'1 - Volume Input'!$AU$48,'1 - Volume Input'!$AU$52)","v":"Low"},{"$f":"E4*IF(K4=Volume_Level_Low,3,IF(K4=Volume_Level_Med,2,1))","v":6},{"$f":"F4*IF(L4=Volume_Level_Low,3,IF(L4=Volume_Level_Med,2,1))","v":6},{"$f":"G4*IF(M4=Volume_Level_Low,3,IF(M4=Volume_Level_Med,2,1))","v":9},{"$f":"H4*IF(N4=Volume_Level_Low,3,IF(N4=Volume_Level_Med,2,1))","v":9},{"$f":"I4*IF(O4=Volume_Level_Low,3,IF(O4=Volume_Level_Med,2,1))","v":9},{"$f":"J4*IF(P4=Volume_Level_Low,3,IF(P4=Volume_Level_Med,2,1))","v":9},{"$f":"IF(AND(Q4>=$P$53,Q4<=$Q$53),$O$53,IF(AND(Q4>=$P$54,Q4<=$Q$54),$O$54,IF(AND(Q4>=$P$55,Q4<=$Q$55),$O$55,$O$56)))","v":"Good"},{"$f":"IF(AND(R4>=$P$53,R4<=$Q$53),$O$53,IF(AND(R4>=$P$54,R4<=$Q$54),$O$54,IF(AND(R4>=$P$55,R4<=$Q$55),$O$55,$O$56)))","v":"Good"},"Excellent","Excellent","Excellent","Excellent",null,{"$f":"MIN(Q4,T4)","v":6},{"$f":"MIN(R4,U4)","v":6},9,{"$f":"IF(AND(AD4>=$P$53,AD4<=$Q$53),$O$53,IF(AND(AD4>=$P$54,AD4<=$Q$54),$O$54,IF(AND(AD4>=$P$55,AD4<=$Q$55),$O$55,$O$56)))","v":"Good"},{"$f":"IF(AND(AE4>=$P$53,AE4<=$Q$53),$O$53,IF(AND(AE4>=$P$54,AE4<=$Q$54),$O$54,IF(AND(AE4>=$P$55,AE4<=$Q$55),$O$55,$O$56)))","v":"Good"},"Excellent",{"$f":"(AD4*$C$70+AE4*$D$70+AF4*$E$70)/(9*SUM($C$70:$E$70))*10","v":7.2222222222222223},null,{"$f":"AG4","v":"Good"},{"$f":"AH4","v":"Good"},"Excellent"]
[null,"Conventional Signal Shared RTLT",null,null,{"$f":"'Multimodal Scoring'!M21","v":2},{"$f":"'Multimodal Scoring'!N21","v":2},{"$f":"'Multimodal Scoring'!O21","v":3},{"$f":"'Multimodal Scoring'!P21","v":3},{"$f":"'Multimodal Scoring'!Q21","v":3},{"$f":"'Multimodal Scoring'!R21","v":3},{"$f":"K$4","v":"Low"},{"$f":"L$4","v":"Low"},"Low","Low","Low","Low",6,6,9,9,9,9,"Good",{"$f":"IF(AND(R5>=$P$53,R5<=$Q$53),$O$53,IF(AND(R5>=$P$54,R5<=$Q$54),$O$54,IF(AND(R5>=$P$55,R5<=$Q$55),$O$55,$O$56)))","v":"Good"},{"$f":"IF(AND(S5>=$P$53,S5<=$Q$53),$O$53,IF(AND(S5>=$P$54,S5<=$Q$54),$O$54,IF(AND(S5>=$P$55,S5<=$Q$55),$O$55,$O$56)))","v":"Excellent"},{"$f":"IF(AND(T5>=$P$53,T5<=$Q$53),$O$53,IF(AND(T5>=$P$54,T5<=$Q$54),$O$54,IF(AND(T5>=$P$55,T5<=$Q$55),$O$55,$O$56)))","v":"Excellent"},{"$f":"IF(AND(U5>=$P$53,U5<=$Q$53),$O$53,IF(AND(U5>=$P$54,U5<=$Q$54),$O$54,IF(AND(U5>=$P$55,U5<=$Q$55),$O$55,$O$56)))","v":"Excellent"},{"$f":"IF(AND(V5>=$P$53,V5<=$Q$53),$O$53,IF(AND(V5>=$P$54,V5<=$Q$54),$O$54,IF(AND(V5>=$P$55,V5<=$Q$55),$O$55,$O$56)))","v":"Excellent"},null,6,{"$f":"MIN(R5,U5)","v":6},{"$f":"MIN(S5,V5)","v":9},"Good",{"$f":"IF(AND(AE5>=$P$53,AE5<=$Q$53),$O$53,IF(AND(AE5>=$P$54,AE5<=$Q$54),$O$54,IF(AND(AE5>=$P$55,AE5<=$Q$55),$O$55,$O$56)))","v":"Good"},{"$f":"IF(AND(AF5>=$P$53,AF5<=$Q$53),$O$53,IF(AND(AF5>=$P$54,AF5<=$Q$54),$O$54,IF(AND(AF5>=$P$55,AF5<=$Q$55),$O$55,$O$56)))","v":"Excellent"},{"$f":"(AD5*$C$70+AE5*$D$70+AF5*$E$70)/(9*SUM($C$70:$E$70))*10","v":7.2222222222222223}]
[null,"Two-Way Stop Control","N-S",null,{"$f":"'Multimodal Scoring'!M22","v":1},{"$f":"'Multimodal Scoring'!N22","v":2},{"$f":"'Multimodal Scoring'!O22","v":3},{"$f":"'Multimodal Scoring'!P22","v":3},{"$f":"'Multimodal Scoring'!Q22","v":3},{"$f":"'Multimodal Scoring'!R22","v":3},{"$f":"IF(Input_MajorStreetDirection='1 - Volume Input'!$BG$18,'1 - Volume Input'!$W$52,'1 - Volume Input'!$W$48)","v":"Low"},{"$f":"IF(Input_MajorStreetDirection='1 - Volume Input'!$BG$18,'1 - Volume Input'!$AI$52,'1 - Volume Input'!$AI$48)","v":"Low"},{"$f":"IF(Input_MajorStreetDirection='1 - Volume Input'!$BG$18,'1 - Volume Input'!$AU$52,'1 - Volume Input'!$AU$48)","v":"Low"},{"$f":"IF(Input_MajorStreetDirection='1 - Volume Input'!$BG$18,'1 - Volume Input'!$W$48,'1 - Volume Input'!$W$52)","v":"Low"},{"$f":"IF(Input_MajorStreetDirection='1 - Volume Input'!$BG$18,'1 - Volume Input'!$AI$48,'1 - Volume Input'!$AI$52)","v":"Low"},{"$f":"IF(Input_MajorStreetDirection='1 - Volume Input'!$BG$18,'1 - Volume Input'!$AU$48,'1 - Volume Input'!$AU$52)","v":"Low"},{"$f":"E6*IF(K6=Volume_Level_Low,3,IF(K6=Volume_Level_Med,2,1))","v":3},{"$f":"F6*IF(L6=Volume_Level_Low,3,IF(L6=Volume_Level_Med,2,1))","v":6},{"$f":"G6*IF(M6=Volume_Level_Low,3,IF(M6=Volume_Level_Med,2,1))","v":9},{"$f":"H6*IF(N6=Volume_Level_Low,3,IF(N6=Volume_Level_Med,2,1))","v":9},{"$f":"I6*IF(O6=Volume_Level_Low,3,IF(O6=Volume_Level_Med,2,1))","v":9},{"$f":"J6*IF(P6=Volume_Level_Low,3,IF(P6=Volume_Level_Med,2,1))","v":9},"Fair",{"$f":"IF(AND(R6>=$P$53,R6<=$Q$53),$O$53,IF(AND(R6>=$P$54,R6<=$Q$54),$O$54,IF(AND(R6>=$P$55,R6<=$Q$55),$O$55,$O$56)))","v":"Good"},{"$f":"IF(AND(S6>=$P$53,S6<=$Q$53),$O$53,IF(AND(S6>=$P$54,S6<=$Q$54),$O$54,IF(AND(S6>=$P$55,S6<=$Q$55),$O$55,$O$56)))","v":"Excellent"},{"$f":"IF(AND(T6>=$P$53,T6<=$Q$53),$O$53,IF(AND(T6>=$P$54,T6<=$Q$54),$O$54,IF(AND(T6>=$P$55,T6<=$Q$55),$O$55,$O$56)))","v":"Excellent"},{"$f":"IF(AND(U6>=$P$53,U6<=$Q$53),$O$53,IF(AND(U6>=$P$54,U6<=$Q$54),$O$54,IF(AND(U6>=$P$55,U6<=$Q$55),$O$55,$O$56)))","v":"Excellent"},{"$f":"IF(AND(V6>=$P$53,V6<=$Q$53),$O$53,IF(AND(V6>=$P$54,V6<=$Q$54),$O$54,IF(AND(V6>=$P$55,V6<=$Q$55),$O$55,$O$56)))","v":"Excellent"},null,{"$f":"MIN(Q6,T6)","v":3},6,9,"Fair",{"$f":"IF(AND(AE6>=$P$53,AE6<=$Q$53),$O$53,IF(AND(AE6>=$P$54,AE6<=$Q$54),$O$54,IF(AND(AE6>=$P$55,AE6<=$Q$55),$O$55,$O$56)))","v":"Good"},{"$f":"IF(AND(AF6>=$P$53,AF6<=$Q$53),$O$53,IF(AND(AF6>=$P$54,AF6<=$Q$54),$O$54,IF(AND(AF6>=$P$55,AF6<=$Q$55),$O$55,$O$56)))","v":"Excellent"},5.5555555555555554,null,{"$f":"AG5","v":"Good"},{"$f":"AH5","v":"Good"},"Excellent"]
[null,null,"E-W",null,{"$f":"'Multimodal Scoring'!M23","v":1},{"$f":"'Multimodal Scoring'!N23","v":2},{"$f":"'Multimodal Scoring'!O23","v":3},{"$f":"'Multimodal Scoring'!P23","v":3},{"$f":"'Multimodal Scoring'!Q23","v":3},{"$f":"'Multimodal Scoring'!R23","v":3},{"$f":"IF(Input_MajorStreetDirection='1 - Volume Input'!$BG$18,'1 - Volume Input'!$W$52,'1 - Volume Input'!$W$48)","v":"Low"},{"$f":"IF(Input_MajorStreetDirection='1 - Volume Input'!$BG$18,'1 - Volume Input'!$AI$52,'1 - Volume Input'!$AI$48)","v":"Low"},{"$f":"IF(Input_MajorStreetDirection='1 - Volume Input'!$BG$18,'1 - Volume Input'!$AU$52,'1 - Volume Input'!$AU$48)","v":"Low"},{"$f":"IF(Input_MajorStreetDirection='1 - Volume Input'!$BG$18,'1 - Volume Input'!$W$48,'1 - Volume Input'!$W$52)","v":"Low"},{"$f":"IF(Input_MajorStreetDirection='1 - Volume Input'!$BG$18,'1 - Volume Input'!$AI$48,'1 - Volume Input'!$AI$52)","v":"Low"},{"$f":"IF(Input_MajorStreetDirection='1 - Volume Input'!$BG$18,'1 - Volume Input'!$AU$48,'1 - Volume Input'!$AU$52)","v":"Low"},3,6,9,9,9,9,"Fair","Good","Excellent","Excellent","Excellent","Excellent",null,3,6,9,"Fair","Good","Excellent",5.5555555555555554]
[null,"All-Way Stop Control",null,null,{"$f":"'Multimodal Scoring'!M24","v":3},{"$f":"'Multimodal Scoring'!N24","v":3},{"$f":"'Multimodal Scoring'!O24","v":3},{"$f":"'Multimodal Scoring'!P24","v":3},{"$f":"'Multimodal Scoring'!Q24","v":3},{"$f":"'Multimodal Scoring'!R24","v":3},{"$f":"IF(Input_MajorStreetDirection='1 - Volume Input'!$BG$18,'1 - Volume Input'!$W$52,'1 - Volume Input'!$W$48)","v":"Low"},{"$f":"IF(Input_MajorStreetDirection='1 - Volume Input'!$BG$18,'1 - Volume Input'!$AI$52,'1 - Volume Input'!$AI$48)","v":"Low"},{"$f":"IF(Input_MajorStreetDirection='1 - Volume Input'!$BG$18,'1 - Volume Input'!$AU$52,'1 - Volume Input'!$AU$48)","v":"Low"},{"$f":"IF(Input_MajorStreetDirection='1 - Volume Input'!$BG$18,'1 - Volume Input'!$W$48,'1 - Volume Input'!$W$52)","v":"Low"},{"$f":"IF(Input_MajorStreetDirection='1 - Volume Input'!$BG$18,'1 - Volume Input'!$AI$48,'1 - Volume Input'!$AI$52)","v":"Low"},{"$f":"IF(Input_MajorStreetDirection='1 - Volume Input'!$BG$18,'1 - Volume Input'!$AU$48,'1 - Volume Input'!$AU$52)","v":"Low"},9,9,9,9,9,9,"Excellent","Excellent","Excellent","Excellent","Excellent","Excellent",null,9,9,9,"Excellent","Excellent","Excellent",10,null,{"$f":"AG6","v":"Fair"},{"$f":"AH6","v":"Good"},"Excellent"]
[null,"CGT","W",null,{"$f":"'Multimodal Scoring'!M25","v":1},{"$f":"'Multimodal Scoring'!N25","v":1},{"$f":"'Multimodal Scoring'!O25","v":3},{"$f":"'Multimodal Scoring'!P25","v":3},{"$f":"'Multimodal Scoring'!Q25","v":3},{"$f":"'Multimodal Scoring'!R25","v":3},{"$f":"'1 - Volume Input'!$W$52","v":"Low"},{"$f":"'1 - Volume Input'!$AI$52","v":"Low"},{"$f":"'1 - Volume Input'!$AU$52","v":"Low"},{"$f":"'1 - Volume Input'!$W$48","v":"Low"},{"$f":"'1 - Volume Input'!$AI$48","v":"Low"},{"$f":"'1 - Volume Input'!$AU$48","v":"Low"},3,3,9,9,9,9,"Fair",{"$f":"IF(AND(R9>=$P$53,R9<=$Q$53),$O$53,IF(AND(R9>=$P$54,R9<=$Q$54),$O$54,IF(AND(R9>=$P$55,R9<=$Q$55),$O$55,$O$56)))","v":"Fair"},{"$f":"IF(AND(S9>=$P$53,S9<=$Q$53),$O$53,IF(AND(S9>=$P$54,S9<=$Q$54),$O$54,IF(AND(S9>=$P$55,S9<=$Q$55),$O$55,$O$56)))","v":"Excellent"},{"$f":"IF(AND(T9>=$P$53,T9<=$Q$53),$O$53,IF(AND(T9>=$P$54,T9<=$Q$54),$O$54,IF(AND(T9>=$P$55,T9<=$Q$55),$O$55,$O$56)))","v":"Excellent"},{"$f":"IF(AND(U9>=$P$53,U9<=$Q$53),$O$53,IF(AND(U9>=$P$54,U9<=$Q$54),$O$54,IF(AND(U9>=$P$55,U9<=$Q$55),$O$55,$O$56)))","v":"Excellent"},{"$f":"IF(AND(V9>=$P$53,V9<=$Q$53),$O$53,IF(AND(V9>=$P$54,V9<=$Q$54),$O$54,IF(AND(V9>=$P$55,V9<=$Q$55),$O$55,$O$56)))","v":"Excellent"},null,3,3,9,"Fair",{"$f":"IF(AND(AE9>=$P$53,AE9<=$Q$53),$O$53,IF(AND(AE9>=$P$54,AE9<=$Q$54),$O$54,IF(AND(AE9>=$P$55,AE9<=$Q$55),$O$55,$O$56)))","v":"Fair"},{"$f":"IF(AND(AF9>=$P$53,AF9<=$Q$53),$O$53,IF(AND(AF9>=$P$54,AF9<=$Q$54),$O$54,IF(AND(AF9>=$P$55,AF9<=$Q$55),$O$55,$O$56)))","v":"Excellent"},4.4444444444444446]
[null,null,"N",null,{"$f":"'Multimodal Scoring'!M26","v":1},{"$f":"'Multimodal Scoring'!N26","v":1},{"$f":"'Multimodal Scoring'!O26","v":3},{"$f":"'Multimodal Scoring'!P26","v":3},{"$f":"'Multimodal Scoring'!Q26","v":3},{"$f":"'Multimodal Scoring'!R26","v":3},{"$f":"'1 - Volume Input'!$W$48","v":"Low"},{"$f":"'1 - Volume Input'!$AI$48","v":"Low"},{"$f":"'1 - Volume Input'!$AU$48","v":"Low"},{"$f":"'1 - Volume Input'!$W$52","v":"Low"},{"$f":"'1 - Volume Input'!$AI$52","v":"Low"},{"$f":"'1 - Volume Input'!$AU$52","v":"Low"},3,3,9,9,9,9,"Fair","Fair","Excellent","Excellent","Excellent","Excellent",null,3,3,9,"Fair","Fair","Excellent",4.4444444444444446,null,{"$f":"AG7","v":"Fair"},{"$f":"AH7","v":"Good"},"Excellent"]
[null,null,"E",null,{"$f":"'Multimodal Scoring'!M27","v":1},{"$f":"'Multimodal Scoring'!N27","v":1},{"$f":"'Multimodal Scoring'!O27","v":3},{"$f":"'Multimodal Scoring'!P27","v":3},{"$f":"'Multimodal Scoring'!Q27","v":3},{"$f":"'Multimodal Scoring'!R27","v":3},{"$f":"'1 - Volume Input'!$W$52","v":"Low"},{"$f":"'1 - Volume Input'!$AI$52","v":"Low"},{"$f":"'1 - Volume Input'!$AU$52","v":"Low"},{"$f":"'1 - Volume Input'!$W$48","v":"Low"},{"$f":"'1 - Volume Input'!$AI$48","v":"Low"},{"$f":"'1 - Volume Input'!$AU$48","v":"Low"},3,3,9,9,9,9,"Fair","Fair","Excellent","Excellent","Excellent","Excellent",null,3,3,9,"Fair","Fair","Excellent",4.4444444444444446]
[null,null,"S",null,{"$f":"'Multimodal Scoring'!M28","v":1},{"$f":"'Multimodal Scoring'!N28","v":1},{"$f":"'Multimodal Scoring'!O28","v":3},{"$f":"'Multimodal Scoring'!P28","v":3},{"$f":"'Multimodal Scoring'!Q28","v":3},{"$f":"'Multimodal Scoring'!R28","v":3},{"$f":"'1 - Volume Input'!$W$48","v":"Low"},{"$f":"'1 - Volume Input'!$AI$48","v":"Low"},{"$f":"'1 - Volume Input'!$AU$48","v":"Low"},{"$f":"'1 - Volume Input'!$W$52","v":"Low"},{"$f":"'1 - Volume Input'!$AI$52","v":"Low"},{"$f":"'1 - Volume Input'!$AU$52","v":"Low"},3,3,9,9,9,9,"Fair","Fair","Excellent","Excellent","Excellent","Excellent",null,3,3,9,"Fair","Fair","Excellent",4.4444444444444446,null,{"$f":"AG8","v":"Excellent"},{"$f":"AH8","v":"Excellent"},"Excellent"]
[null,"Quadrant Roadway","S-W",null,{"$f":"'Multimodal Scoring'!M29","v":2},{"$f":"'Multimodal Scoring'!N29","v":2},{"$f":"'Multimodal Scoring'!O29","v":2},{"$f":"'Multimodal Scoring'!P29","v":2},{"$f":"'Multimodal Scoring'!Q29","v":2},{"$f":"'Multimodal Scoring'!R29","v":2},{"$f":"IF(Input_MajorStreetDirection='1 - Volume Input'!$BG$18,'1 - Volume Input'!$W$52,'1 - Volume Input'!$W$48)","v":"Low"},{"$f":"IF(Input_MajorStreetDirection='1 - Volume Input'!$BG$18,'1 - Volume Input'!$AI$52,'1 - Volume Input'!$AI$48)","v":"Low"},{"$f":"IF(Input_MajorStreetDirection='1 - Volume Input'!$BG$18,'1 - Volume Input'!$AU$52,'1 - Volume Input'!$AU$48)","v":"Low"},{"$f":"IF(Input_MajorStreetDirection='1 - Volume Input'!$BG$18,'1 - Volume Input'!$W$48,'1 - Volume Input'!$W$52)","v":"Low"},{"$f":"IF(Input_MajorStreetDirection='1 - Volume Input'!$BG$18,'1 - Volume Input'!$AI$48,'1 - Volume Input'!$AI$52)","v":"Low"},{"$f":"IF(Input_MajorStreetDirection='1 - Volume Input'!$BG$18,'1 - Volume Input'!$AU$48,'1 - Volume Input'!$AU$52)","v":"Low"},6,6,6,6,6,6,"Good","Good","Good","Good","Good","Good",null,6,6,6,"Good","Good","Good",6.6666666666666661]
[null,null,"N-E",null,{"$f":"'Multimodal Scoring'!M30","v":2},{"$f":"'Multimodal Scoring'!N30","v":2},{"$f":"'Multimodal Scoring'!O30","v":2},{"$f":"'Multimodal Scoring'!P30","v":2},{"$f":"'Multimodal Scoring'!Q30","v":2},{"$f":"'Multimodal Scoring'!R30","v":2},{"$f":"IF(Input_MajorStreetDirection='1 - Volume Input'!$BG$18,'1 - Volume Input'!$W$52,'1 - Volume Input'!$W$48)","v":"Low"},{"$f":"IF(Input_MajorStreetDirection='1 - Volume Input'!$BG$18,'1 - Volume Input'!$AI$52,'1 - Volume Input'!$AI$48)","v":"Low"},{"$f":"IF(Input_MajorStreetDirection='1 - Volume Input'!$BG$18,'1 - Volume Input'!$AU$52,'1 - Volume Input'!$AU$48)","v":"Low"},{"$f":"IF(Input_MajorStreetDirection='1 - Volume Input'!$BG$18,'1 - Volume Input'!$W$48,'1 - Volume Input'!$W$52)","v":"Low"},{"$f":"IF(Input_MajorStreetDirection='1 - Volume Input'!$BG$18,'1 - Volume Input'!$AI$48,'1 - Volume Input'!$AI$52)","v":"Low"},{"$f":"IF(Input_MajorStreetDirection='1 - Volume Input'!$BG$18,'1 - Volume Input'!$AU$48,'1 - Volume Input'!$AU$52)","v":"Low"},6,6,6,6,6,6,"Good","Good","Good","Good","Good","Good",null,6,6,6,"Good","Good","Good",6.6666666666666661,null,{"$f":"AG9","v":"Fair"},{"$f":"AH9","v":"Fair"},"Excellent"]
[null,null,"S-E",null,{"$f":"'Multimodal Scoring'!M31","v":2},{"$f":"'Multimodal Scoring'!N31","v":2},{"$f":"'Multimodal Scoring'!O31","v":2},{"$f":"'Multimodal Scoring'!P31","v":2},{"$f":"'Multimodal Scoring'!Q31","v":2},{"$f":"'Multimodal Scoring'!R31","v":2},{"$f":"IF(Input_MajorStreetDirection='1 - Volume Input'!$BG$18,'1 - Volume Input'!$W$52,'1 - Volume Input'!$W$48)","v":"Low"},{"$f":"IF(Input_MajorStreetDirection='1 - Volume Input'!$BG$18,'1 - Volume Input'!$AI$52,'1 - Volume Input'!$AI$48)","v":"Low"},{"$f":"IF(Input_MajorStreetDirection='1 - Volume Input'!$BG$18,'1 - Volume Input'!$AU$52,'1 - Volume Input'!$AU$48)","v":"Low"},{"$f":"IF(Input_MajorStreetDirection='1 - Volume Input'!$BG$18,'1 - Volume Input'!$W$48,'1 - Volume Input'!$W$52)","v":"Low"},{"$f":"IF(Input_MajorStreetDirection='1 - Volume Input'!$BG$18,'1 - Volume Input'!$AI$48,'1 - Volume Input'!$AI$52)","v":"Low"},{"$f":"IF(Input_MajorStreetDirection='1 - Volume Input'!$BG$18,'1 - Volume Input'!$AU$48,'1 - Volume Input'!$AU$52)","v":"Low"},6,6,6,6,6,6,"Good","Good","Good","Good","Good","Good",null,6,6,6,"Good","Good","Good",6.6666666666666661]
[null,null,"N-W",null,{"$f":"'Multimodal Scoring'!M32","v":2},{"$f":"'Multimodal Scoring'!N32","v":2},{"$f":"'Multimodal Scoring'!O32","v":2},{"$f":"'Multimodal Scoring'!P32","v":2},{"$f":"'Multimodal Scoring'!Q32","v":2},{"$f":"'Multimodal Scoring'!R32","v":2},{"$f":"IF(Input_MajorStreetDirection='1 - Volume Input'!$BG$18,'1 - Volume Input'!$W$52,'1 - Volume Input'!$W$48)","v":"Low"},{"$f":"IF(Input_MajorStreetDirection='1 - Volume Input'!$BG$18,'1 - Volume Input'!$AI$52,'1 - Volume Input'!$AI$48)","v":"Low"},{"$f":"IF(Input_MajorStreetDirection='1 - Volume Input'!$BG$18,'1 - Volume Input'!$AU$52,'1 - Volume Input'!$AU$48)","v":"Low"},{"$f":"IF(Input_MajorStreetDirection='1 - Volume Input'!$BG$18,'1 - Volume Input'!$W$48,'1 - Volume Input'!$W$52)","v":"Low"},{"$f":"IF(Input_MajorStreetDirection='1 - Volume Input'!$BG$18,'1 - Volume Input'!$AI$48,'1 - Volume Input'!$AI$52)","v":"Low"},{"$f":"IF(Input_MajorStreetDirection='1 - Volume Input'!$BG$18,'1 - Volume Input'!$AU$48,'1 - Volume Input'!$AU$52)","v":"Low"},6,6,6,6,6,6,"Good","Good","Good","Good","Good","Good",null,6,6,6,"Good","Good","Good",6.6666666666666661,null,{"$f":"AG10","v":"Fair"},{"$f":"AH10","v":"Fair"},"Excellent"]
[null,"Partial Displaced Left Turn","N-S",null,{"$f":"'Multimodal Scoring'!M33","v":2},{"$f":"'Multimodal Scoring'!N33","v":2},{"$f":"'Multimodal Scoring'!O33","v":3},{"$f":"'Multimodal Scoring'!P33","v":2},{"$f":"'Multimodal Scoring'!Q33","v":2},{"$f":"'Multimodal Scoring'!R33","v":3},{"$f":"'1 - Volume Input'!$W$52","v":"Low"},{"$f":"'1 - Volume Input'!$AI$52","v":"Low"},{"$f":"'1 - Volume Input'!$AU$52","v":"Low"},{"$f":"'1 - Volume Input'!$W$48","v":"Low"},{"$f":"'1 - Volume Input'!$AI$48","v":"Low"},{"$f":"'1 - Volume Input'!$AU$48","v":"Low"},6,6,9,6,6,9,"Good","Good","Excellent","Good","Good","Excellent",null,6,6,9,"Good","Good","Excellent",7.2222222222222223]
[null,null,"E-W",null,{"$f":"'Multimodal Scoring'!M34","v":2},{"$f":"'Multimodal Scoring'!N34","v":2},{"$f":"'Multimodal Scoring'!O34","v":3},{"$f":"'Multimodal Scoring'!P34","v":2},{"$f":"'Multimodal Scoring'!Q34","v":2},{"$f":"'Multimodal Scoring'!R34","v":3},{"$f":"'1 - Volume Input'!$W$48","v":"Low"},{"$f":"'1 - Volume Input'!$AI$48","v":"Low"},{"$f":"'1 - Volume Input'!$AU$48","v":"Low"},{"$f":"'1 - Volume Input'!$W$52","v":"Low"},{"$f":"'1 - Volume Input'!$AI$52","v":"Low"},{"$f":"'1 - Volume Input'!$AU$52","v":"Low"},6,6,9,6,6,9,"Good","Good","Excellent","Good","Good","Excellent",null,6,6,9,"Good","Good","Excellent",7.2222222222222223,null,{"$f":"AG11","v":"Fair"},{"$f":"AH11","v":"Fair"},"Excellent"]
[null,"Displace Left Turn",null,null,{"$f":"'Multimodal Scoring'!M35","v":2},{"$f":"'Multimodal Scoring'!N35","v":2},{"$f":"'Multimodal Scoring'!O35","v":3},{"$f":"'Multimodal Scoring'!P35","v":2},{"$f":"'Multimodal Scoring'!Q35","v":2},{"$f":"'Multimodal Scoring'!R35","v":3},{"$f":"K$4","v":"Low"},{"$f":"L$4","v":"Low"},"Low","Low","Low","Low",6,6,9,6,6,9,"Good","Good","Excellent","Good","Good","Excellent",null,6,6,9,"Good","Good","Excellent",7.2222222222222223]
[null,"Signalized RCUT","N-S",null,{"$f":"'Multimodal Scoring'!M36","v":3},{"$f":"'Multimodal Scoring'!N36","v":3},{"$f":"'Multimodal Scoring'!O36","v":3},{"$f":"'Multimodal Scoring'!P36","v":3},{"$f":"'Multimodal Scoring'!Q36","v":3},{"$f":"'Multimodal Scoring'!R36","v":2},{"$f":"'1 - Volume Input'!$W$52","v":"Low"},{"$f":"'1 - Volume Input'!$AI$52","v":"Low"},{"$f":"'1 - Volume Input'!$AU$52","v":"Low"},{"$f":"'1 - Volume Input'!$W$48","v":"Low"},{"$f":"'1 - Volume Input'!$AI$48","v":"Low"},{"$f":"'1 - Volume Input'!$AU$48","v":"Low"},9,9,9,9,9,6,"Excellent","Excellent","Excellent","Excellent","Excellent","Good",null,9,9,6,"Excellent","Excellent","Good",9.4444444444444446,null,{"$f":"AG12","v":"Fair"},{"$f":"AH12","v":"Fair"},"Excellent"]
[null,null,"E-W",null,{"$f":"'Multimodal Scoring'!M37","v":3},{"$f":"'Multimodal Scoring'!N37","v":3},{"$f":"'Multimodal Scoring'!O37","v":3},{"$f":"'Multimodal Scoring'!P37","v":3},{"$f":"'Multimodal Scoring'!Q37","v":3},{"$f":"'Multimodal Scoring'!R37","v":2},{"$f":"'1 - Volume Input'!$W$48","v":"Low"},{"$f":"'1 - Volume Input'!$AI$48","v":"Low"},{"$f":"'1 - Volume Input'!$AU$48","v":"Low"},{"$f":"'1 - Volume Input'!$W$52","v":"Low"},{"$f":"'1 - Volume Input'!$AI$52","v":"Low"},{"$f":"'1 - Volume Input'!$AU$52","v":"Low"},9,9,9,9,9,6,"Excellent","Excellent","Excellent","Excellent","Excellent","Good",null,9,9,6,"Excellent","Excellent","Good",9.4444444444444446]
[null,"Unsignalized RCUT","N-S",null,{"$f":"'Multimodal Scoring'!M38","v":2},{"$f":"'Multimodal Scoring'!N38","v":2},{"$f":"'Multimodal Scoring'!O38","v":3},{"$f":"'Multimodal Scoring'!P38","v":3},{"$f":"'Multimodal Scoring'!Q38","v":3},{"$f":"'Multimodal Scoring'!R38","v":2},{"$f":"'1 - Volume Input'!$W$52","v":"Low"},{"$f":"'1 - Volume Input'!$AI$52","v":"Low"},{"$f":"'1 - Volume Input'!$AU$52","v":"Low"},{"$f":"'1 - Volume Input'!$W$48","v":"Low"},{"$f":"'1 - Volume Input'!$AI$48","v":"Low"},{"$f":"'1 - Volume Input'!$AU$48","v":"Low"},{"$f":"E22*IF(K22=Volume_Level_Low,3,IF(K22=Volume_Level_Med,2,1))","v":6},{"$f":"F22*IF(L22=Volume_Level_Low,3,IF(L22=Volume_Level_Med,2,1))","v":6},{"$f":"G22*IF(M22=Volume_Level_Low,3,IF(M22=Volume_Level_Med,2,1))","v":9},{"$f":"H22*IF(N22=Volume_Level_Low,3,IF(N22=Volume_Level_Med,2,1))","v":9},{"$f":"I22*IF(O22=Volume_Level_Low,3,IF(O22=Volume_Level_Med,2,1))","v":9},{"$f":"J22*IF(P22=Volume_Level_Low,3,IF(P22=Volume_Level_Med,2,1))","v":6},"Good","Good","Excellent","Excellent","Excellent","Good",null,{"$f":"MIN(Q22,T22)","v":6},{"$f":"MIN(R22,U22)","v":6},{"$f":"MIN(S22,V22)","v":6},"Good","Good","Good",6.6666666666666661,null,{"$f":"AG13","v":"Good"},{"$f":"AH13","v":"Good"},"Good"]
[null,null,"E-W",null,{"$f":"'Multimodal Scoring'!M39","v":2},{"$f":"'Multimodal Scoring'!N39","v":2},{"$f":"'Multimodal Scoring'!O39","v":3},{"$f":"'Multimodal Scoring'!P39","v":3},{"$f":"'Multimodal Scoring'!Q39","v":3},{"$f":"'Multimodal Scoring'!R39","v":2},{"$f":"'1 - Volume Input'!$W$48","v":"Low"},{"$f":"'1 - Volume Input'!$AI$48","v":"Low"},{"$f":"'1 - Volume Input'!$AU$48","v":"Low"},{"$f":"'1 - Volume Input'!$W$52","v":"Low"},{"$f":"'1 - Volume Input'!$AI$52","v":"Low"},{"$f":"'1 - Volume Input'!$AU$52","v":"Low"},6,6,9,9,9,6,"Good","Good","Excellent","Excellent","Excellent","Good",null,6,6,6,"Good","Good","Good",6.6666666666666661]
[null,"MUT","N-S",null,{"$f":"'Multimodal Scoring'!M40","v":3},{"$f":"'Multimodal Scoring'!N40","v":3},{"$f":"'Multimodal Scoring'!O40","v":3},{"$f":"'Multimodal Scoring'!P40","v":3},{"$f":"'Multimodal Scoring'!Q40","v":3},{"$f":"'Multimodal Scoring'!R40","v":2},{"$f":"'1 - Volume Input'!$W$52","v":"Low"},{"$f":"'1 - Volume Input'!$AI$52","v":"Low"},{"$f":"'1 - Volume Input'!$AU$52","v":"Low"},{"$f":"'1 - Volume Input'!$W$48","v":"Low"},{"$f":"'1 - Volume Input'!$AI$48","v":"Low"},{"$f":"'1 - Volume Input'!$AU$48","v":"Low"},9,9,9,9,9,6,"Excellent","Excellent","Excellent","Excellent","Excellent","Good",null,9,9,6,"Excellent","Excellent","Good",9.4444444444444446,null,{"$f":"AG14","v":"Good"},{"$f":"AH14","v":"Good"},"Good"]
[null,null,"E-W",null,{"$f":"'Multimodal Scoring'!M41","v":3},{"$f":"'Multimodal Scoring'!N41","v":3},{"$f":"'Multimodal Scoring'!O41","v":3},{"$f":"'Multimodal Scoring'!P41","v":3},{"$f":"'Multimodal Scoring'!Q41","v":3},{"$f":"'Multimodal Scoring'!R41","v":2},{"$f":"'1 - Volume Input'!$W$48","v":"Low"},{"$f":"'1 - Volume Input'!$AI$48","v":"Low"},{"$f":"'1 - Volume Input'!$AU$48","v":"Low"},{"$f":"'1 - Volume Input'!$W$52","v":"Low"},{"$f":"'1 - Volume Input'!$AI$52","v":"Low"},{"$f":"'1 - Volume Input'!$AU$52","v":"Low"},9,9,9,9,9,6,"Excellent","Excellent","Excellent","Excellent","Excellent","Good",null,9,9,6,"Excellent","Excellent","Good",9.4444444444444446]
[null,"PMUT","N-S",null,{"$f":"'Multimodal Scoring'!M42","v":3},{"$f":"'Multimodal Scoring'!N42","v":3},{"$f":"'Multimodal Scoring'!O42","v":3},{"$f":"'Multimodal Scoring'!P42","v":3},{"$f":"'Multimodal Scoring'!Q42","v":3},{"$f":"'Multimodal Scoring'!R42","v":2},{"$f":"'1 - Volume Input'!$W$52","v":"Low"},{"$f":"'1 - Volume Input'!$AI$52","v":"Low"},{"$f":"'1 - Volume Input'!$AU$52","v":"Low"},{"$f":"'1 - Volume Input'!$W$48","v":"Low"},{"$f":"'1 - Volume Input'!$AI$48","v":"Low"},{"$f":"'1 - Volume Input'!$AU$48","v":"Low"},9,9,9,9,9,6,"Excellent","Excellent","Excellent","Excellent","Excellent","Good",null,9,9,6,"Excellent","Excellent","Good",9.4444444444444446,null,{"$f":"AG15","v":"Good"},{"$f":"AH15","v":"Good"},"Good"]
[null,null,"E-W",null,{"$f":"'Multimodal Scoring'!M43","v":3},{"$f":"'Multimodal Scoring'!N43","v":3},{"$f":"'Multimodal Scoring'!O43","v":3},{"$f":"'Multimodal Scoring'!P43","v":3},{"$f":"'Multimodal Scoring'!Q43","v":3},{"$f":"'Multimodal Scoring'!R43","v":2},{"$f":"'1 - Volume Input'!$W$48","v":"Low"},{"$f":"'1 - Volume Input'!$AI$48","v":"Low"},{"$f":"'1 - Volume Input'!$AU$48","v":"Low"},{"$f":"'1 - Volume Input'!$W$52","v":"Low"},{"$f":"'1 - Volume Input'!$AI$52","v":"Low"},{"$f":"'1 - Volume Input'!$AU$52","v":"Low"},9,9,9,9,9,6,"Excellent","Excellent","Excellent","Excellent","Excellent","Good",null,9,9,6,"Excellent","Excellent","Good",9.4444444444444446]
[null,"Roundabouts",null,null,"Major",null,null,"Minor",null,null,null,null,null,null,null,null,null,null,null,null,null,null,null,null,null,null,null,null,null,null,null,null,null,null,null,null,null,{"$f":"AG16","v":"Good"},{"$f":"AH16","v":"Good"},"Good"]
[null,"50 ICD",null,null,{"$f":"'Multimodal Scoring'!M45","v":3},{"$f":"'Multimodal Scoring'!N45","v":3},{"$f":"'Multimodal Scoring'!O45","v":3},{"$f":"'Multimodal Scoring'!P45","v":3},{"$f":"'Multimodal Scoring'!Q45","v":3},{"$f":"'Multimodal Scoring'!R45","v":3},{"$f":"IF(Input_MajorStreetDirection='1 - Volume Input'!$BG$18,'1 - Volume Input'!$W$52,'1 - Volume Input'!$W$48)","v":"Low"},{"$f":"IF(Input_MajorStreetDirection='1 - Volume Input'!$BG$18,'1 - Volume Input'!$AI$52,'1 - Volume Input'!$AI$48)","v":"Low"},{"$f":"IF(Input_MajorStreetDirection='1 - Volume Input'!$BG$18,'1 - Volume Input'!$AU$52,'1 - Volume Input'!$AU$48)","v":"Low"},{"$f":"IF(Input_MajorStreetDirection='1 - Volume Input'!$BG$18,'1 - Volume Input'!$W$48,'1 - Volume Input'!$W$52)","v":"Low"},{"$f":"IF(Input_MajorStreetDirection='1 - Volume Input'!$BG$18,'1 - Volume Input'!$AI$48,'1 - Volume Input'!$AI$52)","v":"Low"},{"$f":"IF(Input_MajorStreetDirection='1 - Volume Input'!$BG$18,'1 - Volume Input'!$AU$48,'1 - Volume Input'!$AU$52)","v":"Low"},{"$f":"E29*IF(K29=Volume_Level_Low,3,IF(K29=Volume_Level_Med,2,1))","v":9},9,9,9,9,9,{"$f":"IF(AND(Q29>=$P$53,Q29<=$Q$53),$O$53,IF(AND(Q29>=$P$54,Q29<=$Q$54),$O$54,IF(AND(Q29>=$P$55,Q29<=$Q$55),$O$55,$O$56)))","v":"Excellent"},{"$f":"IF(AND(R29>=$P$53,R29<=$Q$53),$O$53,IF(AND(R29>=$P$54,R29<=$Q$54),$O$54,IF(AND(R29>=$P$55,R29<=$Q$55),$O$55,$O$56)))","v":"Excellent"},{"$f":"IF(AND(S29>=$P$53,S29<=$Q$53),$O$53,IF(AND(S29>=$P$54,S29<=$Q$54),$O$54,IF(AND(S29>=$P$55,S29<=$Q$55),$O$55,$O$56)))","v":"Excellent"},{"$f":"IF(AND(T29>=$P$53,T29<=$Q$53),$O$53,IF(AND(T29>=$P$54,T29<=$Q$54),$O$54,IF(AND(T29>=$P$55,T29<=$Q$55),$O$55,$O$56)))","v":"Excellent"},{"$f":"IF(AND(U29>=$P$53,U29<=$Q$53),$O$53,IF(AND(U29>=$P$54,U29<=$Q$54),$O$54,IF(AND(U29>=$P$55,U29<=$Q$55),$O$55,$O$56)))","v":"Excellent"},{"$f":"IF(AND(V29>=$P$53,V29<=$Q$53),$O$53,IF(AND(V29>=$P$54,V29<=$Q$54),$O$54,IF(AND(V29>=$P$55,V29<=$Q$55),$O$55,$O$56)))","v":"Excellent"},null,{"$f":"MIN(Q29,T29)","v":9},9,9,{"$f":"IF(AND(AD29>=$P$53,AD29<=$Q$53),$O$53,IF(AND(AD29>=$P$54,AD29<=$Q$54),$O$54,IF(AND(AD29>=$P$55,AD29<=$Q$55),$O$55,$O$56)))","v":"Excellent"},"Excellent","Excellent",10]
[null,"75 ICD",null,null,{"$f":"'Multimodal Scoring'!M46","v":3},{"$f":"'Multimodal Scoring'!N46","v":3},{"$f":"'Multimodal Scoring'!O46","v":3},{"$f":"'Multimodal Scoring'!P46","v":3},{"$f":"'Multimodal Scoring'!Q46","v":3},{"$f":"'Multimodal Scoring'!R46","v":3},{"$f":"IF(Input_MajorStreetDirection='1 - Volume Input'!$BG$18,'1 - Volume Input'!$W$52,'1 - Volume Input'!$W$48)","v":"Low"},{"$f":"IF(Input_MajorStreetDirection='1 - Volume Input'!$BG$18,'1 - Volume Input'!$AI$52,'1 - Volume Input'!$AI$48)","v":"Low"},{"$f":"IF(Input_MajorStreetDirection='1 - Volume Input'!$BG$18,'1 - Volume Input'!$AU$52,'1 - Volume Input'!$AU$48)","v":"Low"},{"$f":"IF(Input_MajorStreetDirection='1 - Volume Input'!$BG$18,'1 - Volume Input'!$W$48,'1 - Volume Input'!$W$52)","v":"Low"},{"$f":"IF(Input_MajorStreetDirection='1 - Volume Input'!$BG$18,'1 - Volume Input'!$AI$48,'1 - Volume Input'!$AI$52)","v":"Low"},{"$f":"IF(Input_MajorStreetDirection='1 - Volume Input'!$BG$18,'1 - Volume Input'!$AU$48,'1 - Volume Input'!$AU$52)","v":"Low"},9,9,9,9,9,9,{"$f":"IF(AND(Q30>=$P$53,Q30<=$Q$53),$O$53,IF(AND(Q30>=$P$54,Q30<=$Q$54),$O$54,IF(AND(Q30>=$P$55,Q30<=$Q$55),$O$55,$O$56)))","v":"Excellent"},{"$f":"IF(AND(R30>=$P$53,R30<=$Q$53),$O$53,IF(AND(R30>=$P$54,R30<=$Q$54),$O$54,IF(AND(R30>=$P$55,R30<=$Q$55),$O$55,$O$56)))","v":"Excellent"},{"$f":"IF(AND(S30>=$P$53,S30<=$Q$53),$O$53,IF(AND(S30>=$P$54,S30<=$Q$54),$O$54,IF(AND(S30>=$P$55,S30<=$Q$55),$O$55,$O$56)))","v":"Excellent"},"Excellent","Excellent","Excellent",null,9,9,9,"Excellent","Excellent","Excellent",10,null,{"$f":"AG17","v":"Good"},{"$f":"AH17","v":"Good"},"Excellent"]
[null,"1x1",null,null,{"$f":"'Multimodal Scoring'!M47","v":3},{"$f":"'Multimodal Scoring'!N47","v":3},{"$f":"'Multimodal Scoring'!O47","v":3},{"$f":"'Multimodal Scoring'!P47","v":3},{"$f":"'Multimodal Scoring'!Q47","v":3},{"$f":"'Multimodal Scoring'!R47","v":3},{"$f":"IF(Input_MajorStreetDirection='1 - Volume Input'!$BG$18,'1 - Volume Input'!$W$52,'1 - Volume Input'!$W$48)","v":"Low"},{"$f":"IF(Input_MajorStreetDirection='1 - Volume Input'!$BG$18,'1 - Volume Input'!$AI$52,'1 - Volume Input'!$AI$48)","v":"Low"},{"$f":"IF(Input_MajorStreetDirection='1 - Volume Input'!$BG$18,'1 - Volume Input'!$AU$52,'1 - Volume Input'!$AU$48)","v":"Low"},{"$f":"IF(Input_MajorStreetDirection='1 - Volume Input'!$BG$18,'1 - Volume Input'!$W$48,'1 - Volume Input'!$W$52)","v":"Low"},{"$f":"IF(Input_MajorStreetDirection='1 - Volume Input'!$BG$18,'1 - Volume Input'!$AI$48,'1 - Volume Input'!$AI$52)","v":"Low"},{"$f":"IF(Input_MajorStreetDirection='1 - Volume Input'!$BG$18,'1 - Volume Input'!$AU$48,'1 - Volume Input'!$AU$52)","v":"Low"},9,9,9,9,9,9,"Excellent","Excellent","Excellent","Excellent","Excellent","Excellent",null,9,9,9,"Excellent","Excellent","Excellent",10]
[null,"1x2",null,null,{"$f":"'Multimodal Scoring'!M48","v":2},{"$f":"'Multimodal Scoring'!N48","v":3},{"$f":"'Multimodal Scoring'!O48","v":3},{"$f":"'Multimodal Scoring'!P48","v":3},{"$f":"'Multimodal Scoring'!Q48","v":3},{"$f":"'Multimodal Scoring'!R48","v":3},{"$f":"IF(Input_MajorStreetDirection='1 - Volume Input'!$BG$18,'1 - Volume Input'!$W$52,'1 - Volume Input'!$W$48)","v":"Low"},{"$f":"IF(Input_MajorStreetDirection='1 - Volume Input'!$BG$18,'1 - Volume Input'!$AI$52,'1 - Volume Input'!$AI$48)","v":"Low"},{"$f":"IF(Input_MajorStreetDirection='1 - Volume Input'!$BG$18,'1 - Volume Input'!$AU$52,'1 - Volume Input'!$AU$48)","v":"Low"},{"$f":"IF(Input_MajorStreetDirection='1 - Volume Input'!$BG$18,'1 - Volume Input'!$W$52,'1 - Volume Input'!$W$48)","v":"Low"},{"$f":"IF(Input_MajorStreetDirection='1 - Volume Input'!$BG$18,'1 - Volume Input'!$AI$52,'1 - Volume Input'!$AI$48)","v":"Low"},{"$f":"IF(Input_MajorStreetDirection='1 - Volume Input'!$BG$18,'1 - Volume Input'!$AU$52,'1 - Volume Input'!$AU$48)","v":"Low"},6,9,9,9,9,9,"Good","Excellent","Excellent","Excellent","Excellent","Excellent",null,6,9,9,"Good","Excellent","Excellent",8.3333333333333339,null,{"$f":"AG18","v":"Good"},{"$f":"AH18","v":"Good"},"Excellent"]
[null,"2x1",null,null,{"$f":"'Multimodal Scoring'!M49","v":2},{"$f":"'Multimodal Scoring'!N49","v":3},{"$f":"'Multimodal Scoring'!O49","v":3},{"$f":"'Multimodal Scoring'!P49","v":3},{"$f":"'Multimodal Scoring'!Q49","v":3},{"$f":"'Multimodal Scoring'!R49","v":3},{"$f":"IF(Input_MajorStreetDirection='1 - Volume Input'!$BG$18,'1 - Volume Input'!$W$52,'1 - Volume Input'!$W$48)","v":"Low"},{"$f":"IF(Input_MajorStreetDirection='1 - Volume Input'!$BG$18,'1 - Volume Input'!$AI$52,'1 - Volume Input'!$AI$48)","v":"Low"},{"$f":"IF(Input_MajorStreetDirection='1 - Volume Input'!$BG$18,'1 - Volume Input'!$AU$52,'1 - Volume Input'!$AU$48)","v":"Low"},{"$f":"IF(Input_MajorStreetDirection='1 - Volume Input'!$BG$18,'1 - Volume Input'!$W$52,'1 - Volume Input'!$W$48)","v":"Low"},{"$f":"IF(Input_MajorStreetDirection='1 - Volume Input'!$BG$18,'1 - Volume Input'!$AI$52,'1 - Volume Input'!$AI$48)","v":"Low"},{"$f":"IF(Input_MajorStreetDirection='1 - Volume Input'!$BG$18,'1 - Volume Input'!$AU$52,'1 - Volume Input'!$AU$48)","v":"Low"},6,9,9,9,9,9,"Good","Excellent","Excellent","Excellent","Excellent","Excellent",null,6,9,9,"Good","Excellent","Excellent",8.3333333333333339]
[null,"2x2",null,null,{"$f":"'Multimodal Scoring'!M50","v":2},{"$f":"'Multimodal Scoring'!N50","v":3},{"$f":"'Multimodal Scoring'!O50","v":3},{"$f":"'Multimodal Scoring'!P50","v":2},{"$f":"'Multimodal Scoring'!Q50","v":3},{"$f":"'Multimodal Scoring'!R50","v":3},{"$f":"IF(Input_MajorStreetDirection='1 - Volume Input'!$BG$18,'1 - Volume Input'!$W$52,'1 - Volume Input'!$W$48)","v":"Low"},{"$f":"IF(Input_MajorStreetDirection='1 - Volume Input'!$BG$18,'1 - Volume Input'!$AI$52,'1 - Volume Input'!$AI$48)","v":"Low"},{"$f":"IF(Input_MajorStreetDirection='1 - Volume Input'!$BG$18,'1 - Volume Input'!$AU$52,'1 - Volume Input'!$AU$48)","v":"Low"},{"$f":"IF(Input_MajorStreetDirection='1 - Volume Input'!$BG$18,'1 - Volume Input'!$W$48,'1 - Volume Input'!$W$52)","v":"Low"},{"$f":"IF(Input_MajorStreetDirection='1 - Volume Input'!$BG$18,'1 - Volume Input'!$AI$48,'1 - Volume Input'!$AI$52)","v":"Low"},{"$f":"IF(Input_MajorStreetDirection='1 - Volume Input'!$BG$18,'1 - Volume Input'!$AU$48,'1 - Volume Input'!$AU$52)","v":"Low"},6,9,9,6,9,9,"Good","Excellent","Excellent","Good","Excellent","Excellent",null,6,9,9,"Good","Excellent","Excellent",8.3333333333333339,null,{"$f":"AG19","v":"Good"},{"$f":"AH19","v":"Good"},"Excellent"]
[null,"3x3",null,null,{"$f":"'Multimodal Scoring'!M51","v":1},{"$f":"'Multimodal Scoring'!N51","v":2},{"$f":"'Multimodal Scoring'!O51","v":3},{"$f":"'Multimodal Scoring'!P51","v":1},{"$f":"'Multimodal Scoring'!Q51","v":2},{"$f":"'Multimodal Scoring'!R51","v":3},{"$f":"IF(Input_MajorStreetDirection='1 - Volume Input'!$BG$18,'1 - Volume Input'!$W$52,'1 - Volume Input'!$W$48)","v":"Low"},{"$f":"IF(Input_MajorStreetDirection='1 - Volume Input'!$BG$18,'1 - Volume Input'!$AI$52,'1 - Volume Input'!$AI$48)","v":"Low"},{"$f":"IF(Input_MajorStreetDirection='1 - Volume Input'!$BG$18,'1 - Volume Input'!$AU$52,'1 - Volume Input'!$AU$48)","v":"Low"},{"$f":"IF(Input_MajorStreetDirection='1 - Volume Input'!$BG$18,'1 - Volume Input'!$W$48,'1 - Volume Input'!$W$52)","v":"Low"},{"$f":"IF(Input_MajorStreetDirection='1 - Volume Input'!$BG$18,'1 - Volume Input'!$AI$48,'1 - Volume Input'!$AI$52)","v":"Low"},{"$f":"IF(Input_MajorStreetDirection='1 - Volume Input'!$BG$18,'1 - Volume Input'!$AU$48,'1 - Volume Input'!$AU$52)","v":"Low"},3,6,9,3,6,9,"Fair","Good","Excellent","Fair","Good","Excellent",null,3,6,9,"Fair","Good","Excellent",5.5555555555555554]
[null,"Grade Separated",null,null,"Arterial",null,null,"Interstate",null,null,"Arterial",null,null,"Interstate",null,null,null,null,null,null,null,null,null,null,null,null,null,null,null,null,null,null,null,null,null,null,null,{"$f":"AG20","v":"Excellent"},{"$f":"AH20","v":"Excellent"},"Good"]
[null,"Traditional Diamond","N-S",null,{"$f":"'Multimodal Scoring'!M53","v":2},{"$f":"'Multimodal Scoring'!N53","v":2},{"$f":"'Multimodal Scoring'!O53","v":3},{"$f":"'Multimodal Scoring'!P53","v":3},{"$f":"'Multimodal Scoring'!Q53","v":3},{"$f":"'Multimodal Scoring'!R53","v":3},{"$f":"'1 - Volume Input'!$W$48","v":"Low"},{"$f":"'1 - Volume Input'!$AI$48","v":"Low"},{"$f":"'1 - Volume Input'!$AU$48","v":"Low"},{"$f":"'1 - Volume Input'!$W$52","v":"Low"},{"$f":"'1 - Volume Input'!$AI$52","v":"Low"},{"$f":"'1 - Volume Input'!$AU$52","v":"Low"},{"$f":"E37*IF(K37=Volume_Level_Low,3,IF(K37=Volume_Level_Med,2,1))","v":6},{"$f":"F37*IF(L37=Volume_Level_Low,3,IF(L37=Volume_Level_Med,2,1))","v":6},{"$f":"G37*IF(M37=Volume_Level_Low,3,IF(M37=Volume_Level_Med,2,1))","v":9},{"$f":"H37*IF(N37=Volume_Level_Low,3,IF(N37=Volume_Level_Med,2,1))","v":9},{"$f":"I37*IF(O37=Volume_Level_Low,3,IF(O37=Volume_Level_Med,2,1))","v":9},{"$f":"J37*IF(P37=Volume_Level_Low,3,IF(P37=Volume_Level_Med,2,1))","v":9},{"$f":"IF(AND(Q37>=$P$53,Q37<=$Q$53),$O$53,IF(AND(Q37>=$P$54,Q37<=$Q$54),$O$54,IF(AND(Q37>=$P$55,Q37<=$Q$55),$O$55,$O$56)))","v":"Good"},{"$f":"IF(AND(R37>=$P$53,R37<=$Q$53),$O$53,IF(AND(R37>=$P$54,R37<=$Q$54),$O$54,IF(AND(R37>=$P$55,R37<=$Q$55),$O$55,$O$56)))","v":"Good"},"Excellent","Excellent","Excellent","Excellent",null,{"$f":"MIN(Q37,T37)","v":6},{"$f":"MIN(R37,U37)","v":6},{"$f":"MIN(S37,V37)","v":9},{"$f":"IF(AND(AD37>=$P$53,AD37<=$Q$53),$O$53,IF(AND(AD37>=$P$54,AD37<=$Q$54),$O$54,IF(AND(AD37>=$P$55,AD37<=$Q$55),$O$55,$O$56)))","v":"Good"},{"$f":"IF(AND(AE37>=$P$53,AE37<=$Q$53),$O$53,IF(AND(AE37>=$P$54,AE37<=$Q$54),$O$54,IF(AND(AE37>=$P$55,AE37<=$Q$55),$O$55,$O$56)))","v":"Good"},{"$f":"IF(AND(AF37>=$P$53,AF37<=$Q$53),$O$53,IF(AND(AF37>=$P$54,AF37<=$Q$54),$O$54,IF(AND(AF37>=$P$55,AF37<=$Q$55),$O$55,$O$56)))","v":"Excellent"},7.2222222222222223]
[null,null,"E-W",null,{"$f":"'Multimodal Scoring'!M54","v":2},{"$f":"'Multimodal Scoring'!N54","v":2},{"$f":"'Multimodal Scoring'!O54","v":3},{"$f":"'Multimodal Scoring'!P54","v":3},{"$f":"'Multimodal Scoring'!Q54","v":3},{"$f":"'Multimodal Scoring'!R54","v":3},{"$f":"'1 - Volume Input'!$W$52","v":"Low"},{"$f":"'1 - Volume Input'!$AI$52","v":"Low"},{"$f":"'1 - Volume Input'!$AU$52","v":"Low"},{"$f":"'1 - Volume Input'!$W$48","v":"Low"},{"$f":"'1 - Volume Input'!$AI$48","v":"Low"},{"$f":"'1 - Volume Input'!$AU$48","v":"Low"},6,6,9,9,9,9,{"$f":"IF(AND(Q38>=$P$53,Q38<=$Q$53),$O$53,IF(AND(Q38>=$P$54,Q38<=$Q$54),$O$54,IF(AND(Q38>=$P$55,Q38<=$Q$55),$O$55,$O$56)))","v":"Good"},{"$f":"IF(AND(R38>=$P$53,R38<=$Q$53),$O$53,IF(AND(R38>=$P$54,R38<=$Q$54),$O$54,IF(AND(R38>=$P$55,R38<=$Q$55),$O$55,$O$56)))","v":"Good"},{"$f":"IF(AND(S38>=$P$53,S38<=$Q$53),$O$53,IF(AND(S38>=$P$54,S38<=$Q$54),$O$54,IF(AND(S38>=$P$55,S38<=$Q$55),$O$55,$O$56)))","v":"Excellent"},{"$f":"IF(AND(T38>=$P$53,T38<=$Q$53),$O$53,IF(AND(T38>=$P$54,T38<=$Q$54),$O$54,IF(AND(T38>=$P$55,T38<=$Q$55),$O$55,$O$56)))","v":"Excellent"},{"$f":"IF(AND(U38>=$P$53,U38<=$Q$53),$O$53,IF(AND(U38>=$P$54,U38<=$Q$54),$O$54,IF(AND(U38>=$P$55,U38<=$Q$55),$O$55,$O$56)))","v":"Excellent"},{"$f":"IF(AND(V38>=$P$53,V38<=$Q$53),$O$53,IF(AND(V38>=$P$54,V38<=$Q$54),$O$54,IF(AND(V38>=$P$55,V38<=$Q$55),$O$55,$O$56)))","v":"Excellent"},null,6,6,9,"Good","Good","Excellent",7.2222222222222223,null,{"$f":"AG21","v":"Excellent"},{"$f":"AH21","v":"Excellent"},"Good"]
[null,"PCLA","N-S",null,{"$f":"'Multimodal Scoring'!M55","v":1},{"$f":"'Multimodal Scoring'!N55","v":1},{"$f":"'Multimodal Scoring'!O55","v":3},{"$f":"'Multimodal Scoring'!P55","v":1},{"$f":"'Multimodal Scoring'!Q55","v":1},{"$f":"'Multimodal Scoring'!R55","v":3},{"$f":"'1 - Volume Input'!$W$48","v":"Low"},{"$f":"'1 - Volume Input'!$AI$48","v":"Low"},{"$f":"'1 - Volume Input'!$AU$48","v":"Low"},{"$f":"'1 - Volume Input'!$W$52","v":"Low"},{"$f":"'1 - Volume Input'!$AI$52","v":"Low"},{"$f":"'1 - Volume Input'!$AU$52","v":"Low"},3,3,9,3,3,9,"Fair","Fair","Excellent","Fair","Fair","Excellent",null,3,3,9,"Fair","Fair","Excellent",4.4444444444444446]
[null,null,"E-W",null,{"$f":"'Multimodal Scoring'!M56","v":1},{"$f":"'Multimodal Scoring'!N56","v":1},{"$f":"'Multimodal Scoring'!O56","v":3},{"$f":"'Multimodal Scoring'!P56","v":1},{"$f":"'Multimodal Scoring'!Q56","v":1},{"$f":"'Multimodal Scoring'!R56","v":3},{"$f":"'1 - Volume Input'!$W$52","v":"Low"},{"$f":"'1 - Volume Input'!$AI$52","v":"Low"},{"$f":"'1 - Volume Input'!$AU$52","v":"Low"},{"$f":"'1 - Volume Input'!$W$48","v":"Low"},{"$f":"'1 - Volume Input'!$AI$48","v":"Low"},{"$f":"'1 - Volume Input'!$AU$48","v":"Low"},3,3,9,3,3,9,"Fair","Fair","Excellent","Fair","Fair","Excellent",null,3,3,9,"Fair","Fair","Excellent",4.4444444444444446,null,{"$f":"AG22","v":"Good"},{"$f":"AH22","v":"Good"},"Good"]
[null,"PCLB","N-S",null,{"$f":"'Multimodal Scoring'!M57","v":1},{"$f":"'Multimodal Scoring'!N57","v":1},{"$f":"'Multimodal Scoring'!O57","v":3},{"$f":"'Multimodal Scoring'!P57","v":1},{"$f":"'Multimodal Scoring'!Q57","v":1},{"$f":"'Multimodal Scoring'!R57","v":3},{"$f":"'1 - Volume Input'!$W$48","v":"Low"},{"$f":"'1 - Volume Input'!$AI$48","v":"Low"},{"$f":"'1 - Volume Input'!$AU$48","v":"Low"},{"$f":"'1 - Volume Input'!$W$52","v":"Low"},{"$f":"'1 - Volume Input'!$AI$52","v":"Low"},{"$f":"'1 - Volume Input'!$AU$52","v":"Low"},3,3,9,3,3,9,"Fair","Fair","Excellent","Fair","Fair","Excellent",null,3,3,9,"Fair","Fair","Excellent",4.4444444444444446]
[null,null,"E-W",null,{"$f":"'Multimodal Scoring'!M58","v":1},{"$f":"'Multimodal Scoring'!N58","v":1},{"$f":"'Multimodal Scoring'!O58","v":3},{"$f":"'Multimodal Scoring'!P58","v":1},{"$f":"'Multimodal Scoring'!Q58","v":1},{"$f":"'Multimodal Scoring'!R58","v":3},{"$f":"'1 - Volume Input'!$W$52","v":"Low"},{"$f":"'1 - Volume Input'!$AI$52","v":"Low"},{"$f":"'1 - Volume Input'!$AU$52","v":"Low"},{"$f":"'1 - Volume Input'!$W$48","v":"Low"},{"$f":"'1 - Volume Input'!$AI$48","v":"Low"},{"$f":"'1 - Volume Input'!$AU$48","v":"Low"},3,3,9,3,3,9,"Fair","Fair","Excellent","Fair","Fair","Excellent",null,3,3,9,"Fair","Fair","Excellent",4.4444444444444446,null,{"$f":"AG23","v":"Good"},{"$f":"AH23","v":"Good"},"Good"]
[null,"DLTI","N-S",null,{"$f":"'Multimodal Scoring'!M59","v":2},{"$f":"'Multimodal Scoring'!N59","v":2},{"$f":"'Multimodal Scoring'!O59","v":3},{"$f":"'Multimodal Scoring'!P59","v":2},{"$f":"'Multimodal Scoring'!Q59","v":2},{"$f":"'Multimodal Scoring'!R59","v":3},{"$f":"'1 - Volume Input'!$W$48","v":"Low"},{"$f":"'1 - Volume Input'!$AI$48","v":"Low"},{"$f":"'1 - Volume Input'!$AU$48","v":"Low"},{"$f":"'1 - Volume Input'!$W$52","v":"Low"},{"$f":"'1 - Volume Input'!$AI$52","v":"Low"},{"$f":"'1 - Volume Input'!$AU$52","v":"Low"},6,6,9,6,6,9,"Good","Good","Excellent","Good","Good","Excellent",null,6,6,9,"Good","Good","Excellent",7.2222222222222223]
[null,null,"E-W",null,{"$f":"'Multimodal Scoring'!M60","v":2},{"$f":"'Multimodal Scoring'!N60","v":2},{"$f":"'Multimodal Scoring'!O60","v":3},{"$f":"'Multimodal Scoring'!P60","v":2},{"$f":"'Multimodal Scoring'!Q60","v":2},{"$f":"'Multimodal Scoring'!R60","v":3},{"$f":"'1 - Volume Input'!$W$52","v":"Low"},{"$f":"'1 - Volume Input'!$AI$52","v":"Low"},{"$f":"'1 - Volume Input'!$AU$52","v":"Low"},{"$f":"'1 - Volume Input'!$W$48","v":"Low"},{"$f":"'1 - Volume Input'!$AI$48","v":"Low"},{"$f":"'1 - Volume Input'!$AU$48","v":"Low"},6,6,9,6,6,9,"Good","Good","Excellent","Good","Good","Excellent",null,6,6,9,"Good","Good","Excellent",7.2222222222222223,null,{"$f":"AG24","v":"Excellent"},{"$f":"AH24","v":"Excellent"},"Good"]
[null,"DCD","N-S",null,{"$f":"'Multimodal Scoring'!M61","v":3},{"$f":"'Multimodal Scoring'!N61","v":3},{"$f":"'Multimodal Scoring'!O61","v":3},{"$f":"'Multimodal Scoring'!P61","v":3},{"$f":"'Multimodal Scoring'!Q61","v":3},{"$f":"'Multimodal Scoring'!R61","v":3},{"$f":"'1 - Volume Input'!$W$48","v":"Low"},{"$f":"'1 - Volume Input'!$AI$48","v":"Low"},{"$f":"'1 - Volume Input'!$AU$48","v":"Low"},{"$f":"'1 - Volume Input'!$W$52","v":"Low"},{"$f":"'1 - Volume Input'!$AI$52","v":"Low"},{"$f":"'1 - Volume Input'!$AU$52","v":"Low"},9,9,9,9,9,9,"Excellent","Excellent","Excellent","Excellent","Excellent","Excellent",null,9,9,9,"Excellent","Excellent","Excellent",10]
[null,null,"E-W",null,{"$f":"'Multimodal Scoring'!M62","v":3},{"$f":"'Multimodal Scoring'!N62","v":3},{"$f":"'Multimodal Scoring'!O62","v":3},{"$f":"'Multimodal Scoring'!P62","v":3},{"$f":"'Multimodal Scoring'!Q62","v":3},{"$f":"'Multimodal Scoring'!R62","v":3},{"$f":"'1 - Volume Input'!$W$52","v":"Low"},{"$f":"'1 - Volume Input'!$AI$52","v":"Low"},{"$f":"'1 - Volume Input'!$AU$52","v":"Low"},{"$f":"'1 - Volume Input'!$W$48","v":"Low"},{"$f":"'1 - Volume Input'!$AI$48","v":"Low"},{"$f":"'1 - Volume Input'!$AU$48","v":"Low"},9,9,9,9,9,9,"Excellent","Excellent","Excellent","Excellent","Excellent","Excellent",null,9,9,9,"Excellent","Excellent","Excellent",10,null,{"$f":"AG25","v":"Excellent"},{"$f":"AH25","v":"Excellent"},"Good"]
[null,"SPI","N-S",null,{"$f":"'Multimodal Scoring'!M63","v":2},{"$f":"'Multimodal Scoring'!N63","v":2},{"$f":"'Multimodal Scoring'!O63","v":3},{"$f":"'Multimodal Scoring'!P63","v":2},{"$f":"'Multimodal Scoring'!Q63","v":2},{"$f":"'Multimodal Scoring'!R63","v":3},{"$f":"'1 - Volume Input'!$W$48","v":"Low"},{"$f":"'1 - Volume Input'!$AI$48","v":"Low"},{"$f":"'1 - Volume Input'!$AU$48","v":"Low"},{"$f":"'1 - Volume Input'!$W$52","v":"Low"},{"$f":"'1 - Volume Input'!$AI$52","v":"Low"},{"$f":"'1 - Volume Input'!$AU$52","v":"Low"},6,6,9,6,6,9,"Good","Good","Excellent","Good","Good","Excellent",null,6,6,9,"Good","Good","Excellent",7.2222222222222223]
[null,null,"E-W",null,{"$f":"'Multimodal Scoring'!M64","v":2},{"$f":"'Multimodal Scoring'!N64","v":2},{"$f":"'Multimodal Scoring'!O64","v":3},{"$f":"'Multimodal Scoring'!P64","v":2},{"$f":"'Multimodal Scoring'!Q64","v":2},{"$f":"'Multimodal Scoring'!R64","v":3},{"$f":"'1 - Volume Input'!$W$52","v":"Low"},{"$f":"'1 - Volume Input'!$AI$52","v":"Low"},{"$f":"'1 - Volume Input'!$AU$52","v":"Low"},{"$f":"'1 - Volume Input'!$W$48","v":"Low"},{"$f":"'1 - Volume Input'!$AI$48","v":"Low"},{"$f":"'1 - Volume Input'!$AU$48","v":"Low"},6,6,9,6,6,9,"Good","Good","Excellent","Good","Good","Excellent",null,6,6,9,"Good","Good","Excellent",7.2222222222222223,null,{"$f":"AG26","v":"Excellent"},{"$f":"AH26","v":"Excellent"},"Good"]
[]
[null,null,null,null,null,null,null,null,null,null,null,null,null,null,null,null,null,null,null,null,null,null,null,null,null,null,null,null,null,null,null,null,null,null,null,null,null,{"$f":"AG27","v":"Excellent"},{"$f":"AH27","v":"Excellent"},"Good"]
[null,null,null,null,null,null,null,null,null,null,null,null,null,null,"Qualitative Ranking"]
[null,null,null,null,null,null,null,null,null,null,null,null,null,null,"Name","Min","Max",null,null,null,null,null,null,null,null,null,null,null,null,null,null,null,null,null,null,null,null,{"$f":"AG29","v":"Excellent"},{"$f":"AH29","v":"Excellent"},"Excellent"]
[null,null,null,null,null,null,null,null,null,null,null,null,null,null,"Poor",0,2]
[null,"Scoring Framework",null,null,null,null,null,null,null,null,null,null,null,null,"Fair",3,4,null,null,null,null,null,null,null,null,null,null,null,null,null,null,null,null,null,null,null,null,{"$f":"AG30","v":"Excellent"},{"$f":"AH30","v":"Excellent"},"Excellent"]
[null,"Control Type","Speed","Cross Dist","Ped","Bike","Transit",null,null,null,null,null,null,null,"Good",5,6]
[null,"Yeild/Uncontrolled","Slow","Short",3,3,"-",null,null,null,null,null,null,null,"Excellent",7,9,null,null,null,null,null,null,null,null,null,null,null,null,null,null,null,null,null,null,null,null,{"$f":"AG31","v":"Excellent"},{"$f":"AH31","v":"Excellent"},"Excellent"]
[null,null,"Slow","Long",2,3,"-",null,null,null,null,null,null,null,"Volume Level Labels"]
[null,null,"Fast","Short",2,2,"-",null,null,null,null,null,null,null,"(Used in formula references)",null,null,null,null,null,null,null,null,null,null,null,null,null,null,null,null,null,null,null,null,null,null,{"$f":"AG32","v":"Good"},{"$f":"AH32","v":"Excellent"},"Excellent"]
[null,null,"Fast","Long",1,2,"-",null,null,null,null,null,null,null,"Low"]
[null,"Signalized","Slow","Short",3,3,"-",null,null,null,null,null,null,null,"Medium",null,null,null,null,null,null,null,null,null,null,null,null,null,null,null,null,null,null,null,null,null,null,{"$f":"AG33","v":"Good"},{"$f":"AH33","v":"Excellent"},"Excellent"]
[null,null,"Slow","Long",2,3,"-",null,null,null,null,null,null,null,"High"]
[null,null,"Fast","Short",3,2,"-",null,null,null,null,null,null,null,null,null,null,null,null,null,null,null,null,null,null,null,null,null,null,null,null,null,null,null,null,null,null,{"$f":"AG34","v":"Good"},{"$f":"AH34","v":"Excellent"},"Excellent"]
[null,null,"Fast","Long",2,2,"-"]
[null,null,null,null,null,null,null,null,null,null,null,null,null,null,null,null,null,null,null,null,null,null,null,null,null,null,null,null,null,null,null,null,null,null,null,null,null,{"$f":"AG35","v":"Fair"},{"$f":"AH35","v":"Good"},"Excellent"]
[null,"No accommodations","N/A",null,1,1,1]
[null,"Detour",null,null,null,null,2,null,null,null,null,null,null,null,null,null,null,null,null,null,null,null,null,null,null,null,null,null,null,null,null,null,null,null,null,null,null,{"$f":"AG37","v":"Good"},{"$f":"AH37","v":"Good"},"Excellent"]
[null,"Same As Signal",null,null,null,null,3]
[null,null,null,null,null,null,null,null,null,null,null,null,null,null,null,null,null,null,null,null,null,null,null,null,null,null,null,null,null,null,null,null,null,null,null,null,null,{"$f":"AG38","v":"Good"},{"$f":"AH38","v":"Good"},"Excellent"]
[null,"Weighting","Ped","Bike","Transit"]
[null,"Weight factor for aggregation",3,2,1,null,null,null,null,null,null,null,null,null,null,null,null,null,null,null,null,null,null,null,null,null,null,null,null,null,null,null,null,null,null,null,null,{"$f":"AG39","v":"Fair"},{"$f":"AH39","v":"Fair"},"Excellent"]
[]
[null,null,null,null,null,null,null,null,null,null,null,null,null,null,null,null,null,null,null,null,null,null,null,null,null,null,null,null,null,null,null,null,null,null,null,null,null,{"$f":"AG40","v":"Fair"},{"$f":"AH40","v":"Fair"},"Excellent"]
[]
[null,null,null,null,null,null,null,null,null,null,null,null,null,null,null,null,null,null,null,null,null,null,null,null,null,null,null,null,null,null,null,null,null,null,null,null,null,{"$f":"AG41","v":"Fair"},{"$f":"AH41","v":"Fair"},"Excellent"]
[]
[null,null,null,null,null,null,null,null,null,null,null,null,null,null,null,null,null,null,null,null,null,null,null,null,null,null,null,null,null,null,null,null,null,null,null,null,null,{"$f":"AG42","v":"Fair"},{"$f":"AH42","v":"Fair"},"Excellent"]
[]
[null,null,null,null,null,null,null,null,null,null,null,null,null,null,null,null,null,null,null,null,null,null,null,null,null,null,null,null,null,null,null,null,null,null,null,null,null,{"$f":"AG43","v":"Good"},{"$f":"AH43","v":"Good"},"Excellent"]
[]
[null,null,null,null,null,null,null,null,null,null,null,null,null,null,null,null,null,null,null,null,null,null,null,null,null,null,null,null,null,null,null,null,null,null,null,null,null,{"$f":"AG44","v":"Good"},{"$f":"AH44","v":"Good"},"Excellent"]
[]
[null,null,null,null,null,null,null,null,null,null,null,null,null,null,null,null,null,null,null,null,null,null,null,null,null,null,null,null,null,null,null,null,null,null,null,null,null,{"$f":"AG45","v":"Excellent"},{"$f":"AH45","v":"Excellent"},"Excellent"]
[]
[null,null,null,null,null,null,null,null,null,null,null,null,null,null,null,null,null,null,null,null,null,null,null,null,null,null,null,null,null,null,null,null,null,null,null,null,null,{"$f":"AG46","v":"Excellent"},{"$f":"AH46","v":"Excellent"},"Excellent"]
[]
[null,null,null,null,null,null,null,null,null,null,null,null,null,null,null,null,null,null,null,null,null,null,null,null,null,null,null,null,null,null,null,null,null,null,null,null,null,{"$f":"AG47","v":"Good"},{"$f":"AH47","v":"Good"},"Excellent"]
[]
[null,null,null,null,null,null,null,null,null,null,null,null,null,null,null,null,null,null,null,null,null,null,null,null,null,null,null,null,null,null,null,null,null,null,null,null,null,{"$f":"AG48","v":"Good"},{"$f":"AH48","v":"Good"},"Excellent"]

{"sheet":"SumComp","index":10,"n_rows":90,"n_cols":52,"rows_kept":90,"cut":false,"hidden":true,"merged":[[83,21,84,21],[85,21,86,21],[87,21,88,21],[49,21,50,21],[51,21,52,21],[53,21,54,21],[55,21,56,21],[57,21,58,21],[59,21,60,21],[61,21,62,21],[63,21,64,21],[65,21,66,21],[67,21,68,21],[69,21,70,21],[71,21,72,21],[73,21,74,21],[75,21,76,21],[77,21,78,21],[79,21,80,21],[81,21,82,21],[71,48,72,48],[73,48,74,48],[75,48,76,48],[77,48,78,48],[79,48,80,48],[81,48,82,48],[83,48,84,48],[85,48,86,48],[87,48,88,48],[3,21,4,21],[5,21,6,21],[7,21,8,21],[9,21,10,21],[11,21,12,21],[13,21,14,21],[15,21,16,21],[17,21,18,21],[19,21,20,21],[21,21,22,21],[23,21,24,21],[25,21,26,21],[27,21,28,21],[29,21,30,21],[31,21,32,21],[33,21,34,21],[35,21,36,21],[37,21,38,21],[39,21,40,21],[41,21,42,21],[43,21,44,21],[45,21,46,21],[47,21,48,21],[37,48,38,48],[39,48,40,48],[41,48,42,48],[43,48,44,48],[45,48,46,48],[47,48,48,48],[49,48,50,48],[51,48,52,48],[53,48,54,48],[55,48,56,48],[57,48,58,48],[59,48,60,48],[61,48,62,48],[63,48,64,48],[65,48,66,48],[67,48,68,48],[69,48,70,48],[3,48,4,48],[5,48,6,48],[7,48,8,48],[9,48,10,48],[11,48,12,48],[13,48,14,48],[15,48,16,48],[17,48,18,48],[19,48,20,48],[21,48,22,48],[23,48,24,48],[25,48,26,48],[27,48,28,48],[29,48,30,48],[31,48,32,48],[33,48,34,48],[35,48,36,48],[87,2,88,2],[81,3,82,3],[83,3,84,3],[85,3,86,3],[87,3,88,3],[73,3,74,3],[75,3,76,3],[77,3,78,3],[79,3,80,3],[85,2,86,2],[75,2,76,2],[77,2,78,2],[79,2,80,2],[81,2,82,2],[83,2,84,2],[51,3,52,3],[53,3,54,3],[55,3,56,3],[57,3,58,3],[59,3,60,3],[61,3,62,3],[63,3,64,3],[69,2,70,2],[71,2,72,2],[51,2,52,2],[53,2,54,2],[55,2,56,2],[65,3,66,3],[73,2,74,2],[57,2,58,2],[59,2,60,2],[61,2,62,2],[63,2,64,2],[67,3,68,3],[69,3,70,3],[71,3,72,3],[27,3,28,3],[29,3,30,3],[31,3,32,3],[33,3,34,3],[35,3,36,3],[37,3,38,3],[43,3,44,3],[45,3,46,3],[31,2,32,2],[65,2,66,2],[67,2,68,2],[33,2,34,2],[3,2,4,2],[5,2,6,2],[3,18,4,18],[13,3,14,3],[15,3,16,3],[5,3,6,3],[3,3,4,3],[17,3,18,3],[19,3,20,3],[21,3,22,3],[13,2,14,2],[15,2,16,2],[17,2,18,2],[19,2,20,2],[21,2,22,2],[47,3,48,3],[49,3,50,3],[35,2,36,2],[37,2,38,2],[43,2,44,2],[45,2,46,2],[47,2,48,2],[49,2,50,2],[27,2,28,2],[29,2,30,2],[37,22,38,28],[43,22,44,28],[45,22,46,28],[47,22,48,28],[49,22,50,28],[23,22,24,28],[25,22,26,28],[27,22,28,28],[29,22,30,28],[31,22,32,28],[33,22,34,28],[3,22,4,28],[5,22,6,28],[13,22,14,28],[15,22,16,28],[17,22,18,28],[19,22,20,28],[21,22,22,28],[29,29,30,29],[31,29,32,29],[33,29,34,29],[35,29,36,29],[85,22,86,28],[87,22,88,28],[3,29,4,29],[5,29,6,29],[13,29,14,29],[15,29,16,29],[17,29,18,29],[19,29,20,29],[21,29,22,29],[23,29,24,29],[73,22,74,28],[75,22,76,28],[77,22,78,28],[79,22,80,28],[81,22,82,28],[83,22,84,28],[51,22,52,28],[53,22,54,28],[55,22,56,28],[57,22,58,28],[59,22,60,28],[61,22,62,28],[63,22,64,28],[65,22,66,28],[67,22,68,28],[69,22,70,28],[71,22,72,28],[35,22,36,28],[3,30,4,30],[5,30,6,30],[13,30,14,30],[15,30,16,30],[17,30,18,30],[19,30,20,30],[77,29,78,29],[79,29,80,29],[81,29,82,29],[83,29,84,29],[85,29,86,29],[87,29,88,29],[65,29,66,29],[67,29,68,29],[69,29,70,29],[71,29,72,29],[73,29,74,29],[75,29,76,29],[53,29,54,29],[55,29,56,29],[57,29,58,29],[59,29,60,29],[61,29,62,29],[63,29,64,29],[37,29,38,29],[43,29,44,29],[45,29,46,29],[47,29,48,29],[49,29,50,29],[51,29,52,29],[25,29,26,29],[27,29,28,29],[51,30,52,30],[53,30,54,30],[55,30,56,30],[57,30,58,30],[59,30,60,30],[33,30,34,30],[35,30,36,30],[37,30,38,30],[43,30,44,30],[45,30,46,30],[47,30,48,30],[21,30,22,30],[23,30,24,30],[25,30,26,30],[27,30,28,30],[29,30,30,30],[31,30,32,30],[85,34,86,34],[87,34,88,34],[65,34,66,34],[67,34,68,34],[69,34,70,34],[71,34,72,34],[73,34,74,34],[75,34,76,34],[53,34,54,34],[55,34,56,34],[57,34,58,34],[59,34,60,34],[61,34,62,34],[63,34,64,34],[85,30,86,30],[87,30,88,30],[3,34,4,34],[5,34,6,34],[13,34,14,34],[15,34,16,34],[17,34,18,34],[19,34,20,34],[21,34,22,34],[23,34,24,34],[73,30,74,30],[75,30,76,30],[77,30,78,30],[79,30,80,30],[81,30,82,30],[83,30,84,30],[61,30,62,30],[63,30,64,30],[85,35,86,35],[87,35,88,35],[3,0,4,0],[5,0,6,0],[13,0,14,0],[15,0,16,0],[17,0,18,0],[67,35,68,35],[69,35,70,35],[71,35,72,35],[73,35,74,35],[75,35,76,35],[77,35,78,35],[55,35,56,35],[57,35,58,35],[59,35,60,35],[61,35,62,35],[63,35,64,35],[65,35,66,35],[43,35,44,35],[45,35,46,35],[47,35,48,35],[49,35,50,35],[51,35,52,35],[3,35,4,35],[5,35,6,35],[13,35,14,35],[15,35,16,35],[17,35,18,35],[19,35,20,35],[21,35,22,35],[23,35,24,35],[43,0,44,0],[45,0,46,0],[19,0,20,0],[21,0,22,0],[23,0,24,0],[25,0,26,0],[27,0,28,0],[29,0,30,0],[79,35,80,35],[81,35,82,35],[83,35,84,35],[53,35,54,35],[27,35,28,35],[29,35,30,35],[31,35,32,35],[33,35,34,35],[35,35,36,35],[37,35,38,35],[77,34,78,34],[79,34,80,34],[81,34,82,34],[83,34,84,34],[37,34,38,34],[43,34,44,34],[45,34,46,34],[47,34,48,34],[25,35,26,35],[65,30,66,30],[67,30,68,30],[69,30,70,30],[71,30,72,30],[49,30,50,30],[83,0,84,0],[85,0,86,0],[87,0,88,0],[3,41,4,41],[5,41,6,41],[13,41,14,41],[15,41,16,41],[17,41,18,41],[19,41,20,41],[21,41,22,41],[71,0,72,0],[73,0,74,0],[75,0,76,0],[77,0,78,0],[79,0,80,0],[81,0,82,0],[59,0,60,0],[61,0,62,0],[63,0,64,0],[65,0,66,0],[67,0,68,0],[69,0,70,0],[47,0,48,0],[49,0,50,0],[51,0,52,0],[53,0,54,0],[55,0,56,0],[57,0,58,0],[31,0,32,0],[33,0,34,0],[35,0,36,0],[37,0,38,0],[7,31,8,31],[65,41,66,41],[67,41,68,41],[69,41,70,41],[71,41,72,41],[73,41,74,41],[51,41,52,41],[53,41,54,41],[55,41,56,41],[57,41,58,41],[59,41,60,41],[61,41,62,41],[35,41,36,41],[37,41,38,41],[43,41,44,41],[45,41,46,41],[47,41,48,41],[49,41,50,41],[23,41,24,41],[25,41,26,41],[27,41,28,41],[29,41,30,41],[31,41,32,41],[33,41,34,41],[21,33,22,33],[23,33,24,33],[27,36,28,36],[29,36,30,36],[57,38,58,38],[59,38,60,38],[61,38,62,38],[35,38,36,38],[85,31,86,31],[87,31,88,31],[3,40,4,40],[5,40,6,40],[13,40,14,40],[15,40,16,40],[17,40,18,40],[67,31,68,31],[69,31,70,31],[71,31,72,31],[73,31,74,31],[75,31,76,31],[77,31,78,31],[55,31,56,31],[57,31,58,31],[59,31,60,31],[61,31,62,31],[63,31,64,31],[65,31,66,31],[43,31,44,31],[45,31,46,31],[47,31,48,31],[49,31,50,31],[51,31,52,31],[3,31,4,31],[5,31,6,31],[13,31,14,31],[15,31,16,31],[17,31,18,31],[19,31,20,31],[21,31,22,31],[23,31,24,31],[79,31,80,31],[81,31,82,31],[83,31,84,31],[53,31,54,31],[27,31,28,31],[29,31,30,31],[31,31,32,31],[33,31,34,31],[35,31,36,31],[37,31,38,31],[49,34,50,34],[51,34,52,34],[25,34,26,34],[27,34,28,34],[29,34,30,34],[31,34,32,34],[33,34,34,34],[35,34,36,34],[25,31,26,31],[43,32,44,32],[45,32,46,32],[47,32,48,32],[49,32,50,32],[51,32,52,32],[25,33,26,33],[27,33,28,33],[29,33,30,33],[37,32,38,32],[3,42,4,42],[5,42,6,42],[13,42,14,42],[15,42,16,42],[17,42,18,42],[19,42,20,42],[21,42,22,42],[71,40,72,40],[73,40,74,40],[59,40,60,40],[61,40,62,40],[63,40,64,40],[65,40,66,40],[67,40,68,40],[69,40,70,40],[47,40,48,40],[49,40,50,40],[51,40,52,40],[53,40,54,40],[55,40,56,40],[57,40,58,40],[31,40,32,40],[33,40,34,40],[35,40,36,40],[19,40,20,40],[21,40,22,40],[23,40,24,40],[25,40,26,40],[27,40,28,40],[29,40,30,40],[61,42,62,42],[35,42,36,42],[37,42,38,42],[43,42,44,42],[45,42,46,42],[47,42,48,42],[49,42,50,42],[23,42,24,42],[25,42,26,42],[27,42,28,42],[29,42,30,42],[31,42,32,42],[33,42,34,42],[83,40,84,40],[85,40,86,40],[87,40,88,40],[75,40,76,40],[77,40,78,40],[79,40,80,40],[81,40,82,40],[37,40,38,40],[43,40,44,40],[45,40,46,40],[87,41,88,41],[75,41,76,41],[77,41,78,41],[79,41,80,41],[81,41,82,41],[83,41,84,41],[85,41,86,41],[63,41,64,41],[87,42,88,42],[3,32,4,32],[5,32,6,32],[13,32,14,32],[15,32,16,32],[17,32,18,32],[19,32,20,32],[21,32,22,32],[23,32,24,32],[25,32,26,32],[75,42,76,42],[77,42,78,42],[79,42,80,42],[81,42,82,42],[83,42,84,42],[85,42,86,42],[63,42,64,42],[65,42,66,42],[67,42,68,42],[69,42,70,42],[71,42,72,42],[73,42,74,42],[51,42,52,42],[53,42,54,42],[55,42,56,42],[57,42,58,42],[59,42,60,42],[29,32,30,32],[31,32,32,32],[33,32,34,32],[35,32,36,32],[55,37,56,37],[19,33,20,33],[57,37,58,37],[85,32,86,32],[87,32,88,32],[3,37,4,37],[5,37,6,37],[13,37,14,37],[15,37,16,37],[17,37,18,37],[67,32,68,32],[69,32,70,32],[71,32,72,32],[73,32,74,32],[75,32,76,32],[77,32,78,32],[55,32,56,32],[57,32,58,32],[59,32,60,32],[61,32,62,32],[63,32,64,32],[65,32,66,32],[85,37,86,37],[87,37,88,37],[75,37,76,37],[77,37,78,37],[79,37,80,37],[81,37,82,37],[37,37,38,37],[43,37,44,37],[45,37,46,37],[35,37,36,37],[87,36,88,36],[83,37,84,37],[3,38,4,38],[5,38,6,38],[13,38,14,38],[15,38,16,38],[17,38,18,38],[19,38,20,38],[21,38,22,38],[31,37,32,37],[33,37,34,37],[19,37,20,37],[21,37,22,37],[23,37,24,37],[25,37,26,37],[27,37,28,37],[29,37,30,37],[37,38,38,38],[43,38,44,38],[31,38,32,38],[33,38,34,38],[45,38,46,38],[47,38,48,38],[71,37,72,37],[73,37,74,37],[59,37,60,37],[61,37,62,37],[63,37,64,37],[65,37,66,37],[67,37,68,37],[69,37,70,37],[47,37,48,37],[49,37,50,37],[51,37,52,37],[53,37,54,37],[71,38,72,38],[49,38,50,38],[3,33,4,33],[5,33,6,33],[13,33,14,33],[15,33,16,33],[17,33,18,33],[23,38,24,38],[25,38,26,38],[27,38,28,38],[29,38,30,38],[31,36,32,36],[33,36,34,36],[35,36,36,36],[37,36,38,36],[15,36,16,36],[17,36,18,36],[19,36,20,36],[67,39,68,39],[69,39,70,39],[71,39,72,39],[73,39,74,39],[55,39,56,39],[57,39,58,39],[59,39,60,39],[61,39,62,39],[63,39,64,39],[65,39,66,39],[43,39,44,39],[3,39,4,39],[5,39,6,39],[13,39,14,39],[15,39,16,39],[17,39,18,39],[19,39,20,39],[21,39,22,39],[23,39,24,39],[25,39,26,39],[9,39,10,39],[33,39,34,39],[35,39,36,39],[3,43,4,43],[5,43,6,43],[13,43,14,43],[15,43,16,43],[17,43,18,43],[19,43,20,43],[21,43,22,43],[71,33,72,33],[73,33,74,33],[59,33,60,33],[61,33,62,33],[63,33,64,33],[65,33,66,33],[67,33,68,33],[69,33,70,33],[47,33,48,33],[49,33,50,33],[51,33,52,33],[53,33,54,33],[55,33,56,33],[57,33,58,33],[31,33,32,33],[33,33,34,33],[35,33,36,33],[45,39,46,39],[47,39,48,39],[49,39,50,39],[51,39,52,39],[53,39,54,39],[27,39,28,39],[29,39,30,39],[31,39,32,39],[85,33,86,33],[87,33,88,33],[75,33,76,33],[77,33,78,33],[79,33,80,33],[81,33,82,33],[37,33,38,33],[43,33,44,33],[45,33,46,33],[85,39,86,39],[87,39,88,39],[87,38,88,38],[85,38,86,38],[73,38,74,38],[51,38,52,38],[53,38,54,38],[55,38,56,38],[79,39,80,39],[81,39,82,39],[83,39,84,39],[75,39,76,39],[77,39,78,39],[37,39,38,39],[75,38,76,38],[77,38,78,38],[79,38,80,38],[81,38,82,38],[83,38,84,38],[63,38,64,38],[65,38,66,38],[67,38,68,38],[69,38,70,38],[71,43,72,43],[73,43,74,43],[51,43,52,43],[53,43,54,43],[55,43,56,43],[57,43,58,43],[59,43,60,43],[61,43,62,43],[35,43,36,43],[37,43,38,43],[43,43,44,43],[45,43,46,43],[47,43,48,43],[49,43,50,43],[23,43,24,43],[25,43,26,43],[27,43,28,43],[29,43,30,43],[31,43,32,43],[33,43,34,43],[87,44,88,44],[2,22,2,28],[3,36,4,36],[5,36,6,36],[13,36,14,36],[67,44,68,44],[69,44,70,44],[71,44,72,44],[73,44,74,44],[75,44,76,44],[77,44,78,44],[55,44,56,44],[57,44,58,44],[59,44,60,44],[61,44,62,44],[63,44,64,44],[65,44,66,44],[43,44,44,44],[45,44,46,44],[47,44,48,44],[49,44,50,44],[51,44,52,44],[53,44,54,44],[27,44,28,44],[29,44,30,44],[31,44,32,44],[33,44,34,44],[35,44,36,44],[37,44,38,44],[39,44,40,44],[41,44,42,44],[87,43,88,43],[2,2,2,17],[5,18,6,18],[13,18,14,18],[15,18,16,18],[17,18,18,18],[19,18,20,18],[21,18,22,18],[23,18,24,18],[25,18,26,18],[23,3,24,3],[25,3,26,3],[23,2,24,2],[25,2,26,2],[75,19,76,19],[73,20,74,20],[75,20,76,20],[79,44,80,44],[3,44,4,44],[5,44,6,44],[13,44,14,44],[15,44,16,44],[17,44,18,44],[19,44,20,44],[21,44,22,44],[23,44,24,44],[25,44,26,44],[75,43,76,43],[77,43,78,43],[79,43,80,43],[63,43,64,43],[65,43,66,43],[67,43,68,43],[21,36,22,36],[23,36,24,36],[25,36,26,36],[79,32,80,32],[81,32,82,32],[83,32,84,32],[53,32,54,32],[27,32,28,32],[71,36,72,36],[73,36,74,36],[75,36,76,36],[77,36,78,36],[55,36,56,36],[57,36,58,36],[59,36,60,36],[61,36,62,36],[63,36,64,36],[65,36,66,36],[43,36,44,36],[45,36,46,36],[47,36,48,36],[49,36,50,36],[51,36,52,36],[53,36,54,36],[83,33,84,33],[69,36,70,36],[67,36,68,36],[81,18,82,18],[83,18,84,18],[49,18,50,18],[51,18,52,18],[53,18,54,18],[55,18,56,18],[57,18,58,18],[59,18,60,18],[61,18,62,18],[63,18,64,18],[65,18,66,18],[27,18,28,18],[29,18,30,18],[31,18,32,18],[33,18,34,18],[35,18,36,18],[37,18,38,18],[43,18,44,18],[45,18,46,18],[47,18,48,18],[85,18,86,18],[87,18,88,18],[5,19,6,19],[13,19,14,19],[15,19,16,19],[17,19,18,19],[19,19,20,19],[21,19,22,19],[23,19,24,19],[25,19,26,19],[27,19,28,19],[29,19,30,19],[31,19,32,19],[33,19,34,19],[35,19,36,19],[37,19,38,19],[43,19,44,19],[45,19,46,19],[47,19,48,19],[49,19,50,19],[51,19,52,19],[53,19,54,19],[55,19,56,19],[57,19,58,19],[67,18,68,18],[69,18,70,18],[71,18,72,18],[73,18,74,18],[75,18,76,18],[77,18,78,18],[79,18,80,18],[77,19,78,19],[79,19,80,19],[81,19,82,19],[83,19,84,19],[85,19,86,19],[87,19,88,19],[5,20,6,20],[13,20,14,20],[15,20,16,20],[17,20,18,20],[19,20,20,20],[21,20,22,20],[23,20,24,20],[25,20,26,20],[27,20,28,20],[29,20,30,20],[31,20,32,20],[33,20,34,20],[35,20,36,20],[37,20,38,20],[43,20,44,20],[45,20,46,20],[47,20,48,20],[49,20,50,20],[59,19,60,19],[61,19,62,19],[63,19,64,19],[65,19,66,19],[67,19,68,19],[69,19,70,19],[71,19,72,19],[73,19,74,19],[71,20,72,20],[77,20,78,20],[79,20,80,20],[81,20,82,20],[83,20,84,20],[85,20,86,20],[51,20,52,20],[53,20,54,20],[55,20,56,20],[57,20,58,20],[59,20,60,20],[61,20,62,20],[63,20,64,20],[65,20,66,20],[67,20,68,20],[59,45,60,45],[61,45,62,45],[63,45,64,45],[65,45,66,45],[67,45,68,45],[69,45,70,45],[71,45,72,45],[79,36,80,36],[81,36,82,36],[83,36,84,36],[85,36,86,36],[81,44,82,44],[83,44,84,44],[85,44,86,44],[81,43,82,43],[83,43,84,43],[85,43,86,43],[69,43,70,43],[87,20,88,20],[3,19,4,19],[3,20,4,20],[3,45,4,45],[5,45,6,45],[13,45,14,45],[15,45,16,45],[17,45,18,45],[19,45,20,45],[21,45,22,45],[23,45,24,45],[25,45,26,45],[27,45,28,45],[29,45,30,45],[31,45,32,45],[33,45,34,45],[35,45,36,45],[37,45,38,45],[43,45,44,45],[45,45,46,45],[47,45,48,45],[49,45,50,45],[51,45,52,45],[53,45,54,45],[69,20,70,20],[7,40,8,40],[7,42,8,42],[7,43,8,43],[7,44,8,44],[7,45,8,45],[39,38,40,38]],"merged_total":1206,"flags":["merged_cut"]}
[]
[]
["Index","Type","Name",null,null,null,null,null,null,null,null,null,null,null,null,null,null,null,"Ped","Bike","Transit",null,"V/C",null,null,null,null,null,null,"Visible","Included","Visible & Included","Ref Name","V/C If Included","Adjusted V/C For Ranking",null,"Sorted Unadjusted V/C","Sorted Adjusted V/C","Old","Old","Ref","Adjusted Ranking","Name (Based on sorted Rank)","Type","Type Str","Ped","Bike","Transit","MM Score"]
[1,1,"Traffic Signal",null,null,null,null,null,null,null,null,null,null,null,null,null,null,null,{"$f":"MMDataComp!AG4","v":"Good"},{"$f":"MMDataComp!AH4","v":"Good"},{"$f":"MMDataComp!AI4","v":"Excellent"},{"$f":"MMDataComp!AJ4","v":7.2222222222222223},{"$f":"'4a - Detailed Results'!BH24","v":0.3},null,null,null,null,null,null,{"$f":"'4a - Detailed Results'!BY24","v":true},{"$f":"AND(Summary_Include_AGI,Summary_Include_Conv)","v":true},{"$f":"IF(AND(AD4,AE4),1,0)","v":1},{"$f":"C4 & IF(ISBLANK(D4),\"\",\" \" & D4)","v":"Traffic Signal"},{"$f":"IF(AND(AD4,AE4),W4,1000000)","v":0.3},{"$f":"AH4+0.001*COUNTIF(AH$3:$AI3,AH4)","v":0.3},null,{"$f":"SMALL($AH$4:$AH$89,A4)","v":0.09},{"$f":"SMALL($AH$4:$AH$89,A4)","v":0.09},{"$f":"COUNTIF($AP$4:$AP$89,AP4)","v":1},{"$f":"IF(AL4=AL2,AN2+1,0)","v":0},{"$f":"AL4+0.00001*AN4","v":0.09},{"$f":"RANK(AO4,$AI$4:$AI$89,1)","v":1},{"$f":"INDEX($AG$4:$AG$89,MATCH(AO4,$AI$4:$AI$89,0))","v":"Partial Cloverleaf B E-W"},{"$f":"INDEX($B$4:$B$89,MATCH(AO4,$AI$4:$AI$89,0))","v":3},{"$f":"IF(AR4=1,$AZ$4,IF(AR4=2,$AZ$5,$AZ$6))","v":"(GSI)"},{"$f":"INDEX(S$4:S$89,MATCH($AO4,$AI$4:$AI$89,0))","v":"Fair"},{"$f":"INDEX(T$4:T$89,MATCH($AO4,$AI$4:$AI$89,0))","v":"Fair"},{"$f":"INDEX(U$4:U$89,MATCH($AO4,$AI$4:$AI$89,0))","v":"Excellent"},{"$f":"INDEX(V$4:V$89,MATCH($AO4,$AI$4:$AI$89,0))","v":4.4444444444444446},null,null,"(AGI)"]
[null,1,null,null,null,null,null,null,null,null,null,null,null,null,null,null,null,null,null,null,null,null,null,null,null,null,null,null,null,null,null,null,null,null,null,null,null,null,null,null,null,null,null,null,null,null,null,null,null,null,null,"(RAB)"]
[2,1,"Conventional Shared RT LN",null,null,null,null,null,null,null,null,null,null,null,null,null,null,null,{"$f":"MMDataComp!AG5","v":"Good"},{"$f":"MMDataComp!AH5","v":"Good"},{"$f":"MMDataComp!AI5","v":"Excellent"},{"$f":"MMDataComp!AJ5","v":7.2222222222222223},{"$f":"'4a - Detailed Results'!BH26","v":0.36},null,null,null,null,null,null,{"$f":"'4a - Detailed Results'!BY26","v":false},false,{"$f":"IF(AND(AD6,AE6),1,0)","v":0},{"$f":"C6 & IF(ISBLANK(D6),\"\",\" \" & D6)","v":"Conventional Shared RT LN"},{"$f":"IF(AND(AD6,AE6),W6,1000000)","v":1000000},{"$f":"AH6+0.001*COUNTIF(AH$3:$AI5,AH6)","v":1000000},null,{"$f":"SMALL($AH$4:$AH$89,A6)","v":0.12},{"$f":"SMALL($AI$4:$AI$89,A6)","v":0.12},{"$f":"COUNTIF($AP$4:$AP$89,AP6)","v":1},{"$f":"IF(AL6=AL4,AN4+1,0)","v":0},{"$f":"AL6+0.00001*AN6","v":0.12},{"$f":"RANK(AO6,$AI$4:$AI$89,1)","v":2},{"$f":"INDEX($AG$4:$AG$89,MATCH(AO6,$AI$4:$AI$89,0))","v":"Partial Cloverleaf A E-W"},{"$f":"INDEX($B$4:$B$89,MATCH(AO6,$AI$4:$AI$89,0))","v":3},{"$f":"IF(AR6=1,$AZ$4,IF(AR6=2,$AZ$5,$AZ$6))","v":"(GSI)"},{"$f":"INDEX(S$4:S$89,MATCH($AO6,$AI$4:$AI$89,0))","v":"Fair"},{"$f":"INDEX(T$4:T$89,MATCH($AO6,$AI$4:$AI$89,0))","v":"Fair"},{"$f":"INDEX(U$4:U$89,MATCH($AO6,$AI$4:$AI$89,0))","v":"Excellent"},4.4444444444444446,null,null,"(GSI)"]
[null,1]
[3,1,{"$f":"'3 - Alt Num Lanes Input'!E28","v":"Two-Way Stop Control"},"N-S",null,null,null,null,null,null,null,null,null,null,null,null,null,null,{"$f":"MMDataComp!AG6","v":"Fair"},{"$f":"MMDataComp!AH6","v":"Good"},{"$f":"MMDataComp!AI6","v":"Excellent"},{"$f":"MMDataComp!AJ6","v":5.5555555555555554},{"$f":"'4a - Detailed Results'!BH28","v":3.004391956229405},null,null,null,null,null,null,{"$f":"'4a - Detailed Results'!BY28","v":true},{"$f":"AND(Summary_Include_AGI,Summary_Include_TWSC)","v":true},1,"Two-Way Stop Control N-S",{"$f":"IF(AND(AD8,AE8),W8,1000000)","v":3.004391956229405},{"$f":"AH8+0.001*COUNTIF(AH$3:$AI7,AH8)","v":3.004391956229405},null,{"$f":"SMALL($AH$4:$AH$89,A8)","v":0.14000000000000001},0.14000000000000001,1,0,0.14000000000000001,3,"Continuous Green T N",1,"(AGI)","Fair","Fair","Excellent",4.4444444444444446]
[null,1]
[4,1,{"$f":"'3 - Alt Num Lanes Input'!E28","v":"Two-Way Stop Control"},"E-W",null,null,null,null,null,null,null,null,null,null,null,null,null,null,{"$f":"MMDataComp!AG7","v":"Fair"},{"$f":"MMDataComp!AH7","v":"Good"},{"$f":"MMDataComp!AI7","v":"Excellent"},{"$f":"MMDataComp!AJ7","v":5.5555555555555554},{"$f":"'4a - Detailed Results'!BH30","v":1.3097947217873753},null,null,null,null,null,null,{"$f":"'4a - Detailed Results'!BY30","v":true},{"$f":"AND(Summary_Include_AGI,Summary_Include_TWSC)","v":true},1,"Two-Way Stop Control E-W",{"$f":"IF(AND(AD10,AE10),W10,1000000)","v":1.3097947217873753},{"$f":"AH10+0.001*COUNTIF(AH$3:$AI9,AH10)","v":1.3097947217873753},null,{"$f":"SMALL($AH$4:$AH$89,A10)","v":0.14000000000000001},0.14200000000000002,1,0,0.14200000000000002,4,"Continuous Green T S",1,"(AGI)","Fair","Fair","Excellent",4.4444444444444446]
[null,1]
[5,1,{"$f":"'3 - Alt Num Lanes Input'!E32","v":"All-Way Stop Control"},null,null,null,null,null,null,null,null,null,null,null,null,null,null,null,{"$f":"MMDataComp!AG8","v":"Excellent"},{"$f":"MMDataComp!AH8","v":"Excellent"},{"$f":"MMDataComp!AI8","v":"Excellent"},{"$f":"MMDataComp!AJ8","v":10},{"$f":"'4a - Detailed Results'!BH32","v":1.22},null,null,null,null,null,null,{"$f":"'4a - Detailed Results'!BY32","v":true},{"$f":"AND(Summary_Include_AGI,Summary_Include_AWSC)","v":true},1,"All-Way Stop Control",{"$f":"IF(AND(AD12,AE12),W12,1000000)","v":1.22},{"$f":"AH12+0.001*COUNTIF(AH$3:$AI11,AH12)","v":1.22},null,{"$f":"SMALL($AH$4:$AH$89,A12)","v":0.19},0.19,1,0,0.19,5,"Partial Cloverleaf A N-S",3,"(GSI)","Fair","Fair","Excellent",4.4444444444444446]
[null,1]
[6,1,"Continuous Green T","W",null,null,null,null,null,null,null,null,null,null,null,null,null,null,{"$f":"MMDataComp!AG9","v":"Fair"},{"$f":"MMDataComp!AH9","v":"Fair"},{"$f":"MMDataComp!AI9","v":"Excellent"},{"$f":"MMDataComp!AJ9","v":4.4444444444444446},{"$f":"'4a - Detailed Results'!BH34","v":0.23},null,null,null,null,null,null,{"$f":"'4a - Detailed Results'!BY34","v":true},{"$f":"AND(Summary_Include_AGI,Summary_Include_CGT)","v":true},{"$f":"IF(AND(AD14,AE14),1,0)","v":1},{"$f":"C14 & IF(ISBLANK(D14),\"\",\" \" & D14)","v":"Continuous Green T W"},{"$f":"IF(AND(AD14,AE14),W14,1000000)","v":0.23},{"$f":"AH14+0.001*COUNTIF(AH$3:$AI7,AH14)","v":0.23},null,{"$f":"SMALL($AH$4:$AH$89,A14)","v":0.21},{"$f":"SMALL($AI$4:$AI$89,A14)","v":0.21},{"$f":"COUNTIF($AP$4:$AP$89,AP14)","v":1},{"$f":"IF(AL14=AL6,AN6+1,0)","v":0},{"$f":"AL14+0.00001*AN14","v":0.21},{"$f":"RANK(AO14,$AI$4:$AI$89,1)","v":6},{"$f":"INDEX($AG$4:$AG$89,MATCH(AO14,$AI$4:$AI$89,0))","v":"Displaced Left Turn"},{"$f":"INDEX($B$4:$B$89,MATCH(AO14,$AI$4:$AI$89,0))","v":1},{"$f":"IF(AR14=1,$AZ$4,IF(AR14=2,$AZ$5,$AZ$6))","v":"(AGI)"},{"$f":"INDEX(S$4:S$89,MATCH($AO14,$AI$4:$AI$89,0))","v":"Good"},{"$f":"INDEX(T$4:T$89,MATCH($AO14,$AI$4:$AI$89,0))","v":"Good"},{"$f":"INDEX(U$4:U$89,MATCH($AO14,$AI$4:$AI$89,0))","v":"Excellent"},7.2222222222222223]
[null,1]
[7,1,"Continuous Green T","N",null,null,null,null,null,null,null,null,null,null,null,null,null,null,{"$f":"MMDataComp!AG10","v":"Fair"},{"$f":"MMDataComp!AH10","v":"Fair"},{"$f":"MMDataComp!AI10","v":"Excellent"},{"$f":"MMDataComp!AJ10","v":4.4444444444444446},{"$f":"'4a - Detailed Results'!BH36","v":0.14000000000000001},null,null,null,null,null,null,{"$f":"'4a - Detailed Results'!BY36","v":true},{"$f":"AND(Summary_Include_AGI,Summary_Include_CGT)","v":true},{"$f":"IF(AND(AD16,AE16),1,0)","v":1},{"$f":"C16 & IF(ISBLANK(D16),\"\",\" \" & D16)","v":"Continuous Green T N"},{"$f":"IF(AND(AD16,AE16),W16,1000000)","v":0.14000000000000001},{"$f":"AH16+0.001*COUNTIF(AH$3:$AI15,AH16)","v":0.14000000000000001},null,{"$f":"SMALL($AH$4:$AH$89,A16)","v":0.22},{"$f":"SMALL($AI$4:$AI$89,A16)","v":0.22},{"$f":"COUNTIF($AP$4:$AP$89,AP16)","v":1},{"$f":"IF(AL16=AL14,AN14+1,0)","v":0},{"$f":"AL16+0.00001*AN16","v":0.22},{"$f":"RANK(AO16,$AI$4:$AI$89,1)","v":7},{"$f":"INDEX($AG$4:$AG$89,MATCH(AO16,$AI$4:$AI$89,0))","v":"Partial Displaced Left Turn N-S"},{"$f":"INDEX($B$4:$B$89,MATCH(AO16,$AI$4:$AI$89,0))","v":1},{"$f":"IF(AR16=1,$AZ$4,IF(AR16=2,$AZ$5,$AZ$6))","v":"(AGI)"},{"$f":"INDEX(S$4:S$89,MATCH($AO16,$AI$4:$AI$89,0))","v":"Good"},{"$f":"INDEX(T$4:T$89,MATCH($AO16,$AI$4:$AI$89,0))","v":"Good"},{"$f":"INDEX(U$4:U$89,MATCH($AO16,$AI$4:$AI$89,0))","v":"Excellent"},7.2222222222222223]
[null,1]
[8,1,"Continuous Green T","E",null,null,null,null,null,null,null,null,null,null,null,null,null,null,{"$f":"MMDataComp!AG11","v":"Fair"},{"$f":"MMDataComp!AH11","v":"Fair"},{"$f":"MMDataComp!AI11","v":"Excellent"},{"$f":"MMDataComp!AJ11","v":4.4444444444444446},{"$f":"'4a - Detailed Results'!BH38","v":0.23},null,null,null,null,null,null,{"$f":"'4a - Detailed Results'!BY38","v":true},{"$f":"AND(Summary_Include_AGI,Summary_Include_CGT)","v":true},{"$f":"IF(AND(AD18,AE18),1,0)","v":1},{"$f":"C18 & IF(ISBLANK(D18),\"\",\" \" & D18)","v":"Continuous Green T E"},{"$f":"IF(AND(AD18,AE18),W18,1000000)","v":0.23},{"$f":"AH18+0.001*COUNTIF(AH$3:$AI17,AH18)","v":0.23200000000000001},null,{"$f":"SMALL($AH$4:$AH$89,A18)","v":0.22},{"$f":"SMALL($AI$4:$AI$89,A18)","v":0.222},{"$f":"COUNTIF($AP$4:$AP$89,AP18)","v":1},{"$f":"IF(AL18=AL16,AN16+1,0)","v":0},{"$f":"AL18+0.00001*AN18","v":0.222},{"$f":"RANK(AO18,$AI$4:$AI$89,1)","v":8},{"$f":"INDEX($AG$4:$AG$89,MATCH(AO18,$AI$4:$AI$89,0))","v":"Diverging Diamond Interchange E-W"},{"$f":"INDEX($B$4:$B$89,MATCH(AO18,$AI$4:$AI$89,0))","v":3},{"$f":"IF(AR18=1,$AZ$4,IF(AR18=2,$AZ$5,$AZ$6))","v":"(GSI)"},{"$f":"INDEX(S$4:S$89,MATCH($AO18,$AI$4:$AI$89,0))","v":"Excellent"},{"$f":"INDEX(T$4:T$89,MATCH($AO18,$AI$4:$AI$89,0))","v":"Excellent"},{"$f":"INDEX(U$4:U$89,MATCH($AO18,$AI$4:$AI$89,0))","v":"Excellent"},10]
[null,1]
[9,1,"Continuous Green T","S",null,null,null,null,null,null,null,null,null,null,null,null,null,null,{"$f":"MMDataComp!AG12","v":"Fair"},{"$f":"MMDataComp!AH12","v":"Fair"},{"$f":"MMDataComp!AI12","v":"Excellent"},{"$f":"MMDataComp!AJ12","v":4.4444444444444446},{"$f":"'4a - Detailed Results'!BH40","v":0.14000000000000001},null,null,null,null,null,null,{"$f":"'4a - Detailed Results'!BY40","v":true},{"$f":"AND(Summary_Include_AGI,Summary_Include_CGT)","v":true},{"$f":"IF(AND(AD20,AE20),1,0)","v":1},{"$f":"C20 & IF(ISBLANK(D20),\"\",\" \" & D20)","v":"Continuous Green T S"},{"$f":"IF(AND(AD20,AE20),W20,1000000)","v":0.14000000000000001},{"$f":"AH20+0.001*COUNTIF(AH$3:$AI19,AH20)","v":0.14200000000000002},null,{"$f":"SMALL($AH$4:$AH$89,A20)","v":0.22},{"$f":"SMALL($AI$4:$AI$89,A20)","v":0.223},{"$f":"COUNTIF($AP$4:$AP$89,AP20)","v":1},{"$f":"IF(AL20=AL18,AN18+1,0)","v":0},{"$f":"AL20+0.00001*AN20","v":0.223},{"$f":"RANK(AO20,$AI$4:$AI$89,1)","v":9},{"$f":"INDEX($AG$4:$AG$89,MATCH(AO20,$AI$4:$AI$89,0))","v":"Single Point  E-W"},{"$f":"INDEX($B$4:$B$89,MATCH(AO20,$AI$4:$AI$89,0))","v":3},{"$f":"IF(AR20=1,$AZ$4,IF(AR20=2,$AZ$5,$AZ$6))","v":"(GSI)"},{"$f":"INDEX(S$4:S$89,MATCH($AO20,$AI$4:$AI$89,0))","v":"Good"},{"$f":"INDEX(T$4:T$89,MATCH($AO20,$AI$4:$AI$89,0))","v":"Good"},{"$f":"INDEX(U$4:U$89,MATCH($AO20,$AI$4:$AI$89,0))","v":"Excellent"},7.2222222222222223]
[null,1]
[10,1,"Quadrant Roadway","S-W",null,null,null,null,null,null,null,null,null,null,null,null,null,null,{"$f":"MMDataComp!AG13","v":"Good"},{"$f":"MMDataComp!AH13","v":"Good"},{"$f":"MMDataComp!AI13","v":"Good"},{"$f":"MMDataComp!AJ13","v":6.6666666666666661},{"$f":"'4a - Detailed Results'!BH42","v":0.26},null,null,null,null,null,null,{"$f":"'4a - Detailed Results'!BY42","v":true},{"$f":"AND(Summary_Include_AGI,Summary_Include_QR_SW)","v":true},{"$f":"IF(AND(AD22,AE22),1,0)","v":1},{"$f":"C22 & IF(ISBLANK(D22),\"\",\" \" & D22)","v":"Quadrant Roadway S-W"},{"$f":"IF(AND(AD22,AE22),W22,1000000)","v":0.26},{"$f":"AH22+0.001*COUNTIF(AH$3:$AI21,AH22)","v":0.26},null,{"$f":"SMALL($AH$4:$AH$89,A22)","v":0.23},{"$f":"SMALL($AI$4:$AI$89,A22)","v":0.23},{"$f":"COUNTIF($AP$4:$AP$89,AP22)","v":1},{"$f":"IF(AL22=AL20,AN20+1,0)","v":0},{"$f":"AL22+0.00001*AN22","v":0.23},{"$f":"RANK(AO22,$AI$4:$AI$89,1)","v":10},{"$f":"INDEX($AG$4:$AG$89,MATCH(AO22,$AI$4:$AI$89,0))","v":"Continuous Green T W"},{"$f":"INDEX($B$4:$B$89,MATCH(AO22,$AI$4:$AI$89,0))","v":1},{"$f":"IF(AR22=1,$AZ$4,IF(AR22=2,$AZ$5,$AZ$6))","v":"(AGI)"},{"$f":"INDEX(S$4:S$89,MATCH($AO22,$AI$4:$AI$89,0))","v":"Fair"},{"$f":"INDEX(T$4:T$89,MATCH($AO22,$AI$4:$AI$89,0))","v":"Fair"},{"$f":"INDEX(U$4:U$89,MATCH($AO22,$AI$4:$AI$89,0))","v":"Excellent"},4.4444444444444446]
[null,1]
[11,1,"Quadrant Roadway","N-E",null,null,null,null,null,null,null,null,null,null,null,null,null,null,{"$f":"MMDataComp!AG14","v":"Good"},{"$f":"MMDataComp!AH14","v":"Good"},{"$f":"MMDataComp!AI14","v":"Good"},{"$f":"MMDataComp!AJ14","v":6.6666666666666661},{"$f":"'4a - Detailed Results'!BH44","v":0.26},null,null,null,null,null,null,{"$f":"'4a - Detailed Results'!BY44","v":true},{"$f":"AND(Summary_Include_AGI,Summary_Include_QR_NE)","v":true},{"$f":"IF(AND(AD24,AE24),1,0)","v":1},{"$f":"C24 & IF(ISBLANK(D24),\"\",\" \" & D24)","v":"Quadrant Roadway N-E"},{"$f":"IF(AND(AD24,AE24),W24,1000000)","v":0.26},{"$f":"AH24+0.001*COUNTIF(AH$3:$AI23,AH24)","v":0.26200000000000001},null,{"$f":"SMALL($AH$4:$AH$89,A24)","v":0.23},{"$f":"SMALL($AI$4:$AI$89,A24)","v":0.23200000000000001},{"$f":"COUNTIF($AP$4:$AP$89,AP24)","v":1},{"$f":"IF(AL24=AL22,AN22+1,0)","v":0},{"$f":"AL24+0.00001*AN24","v":0.23200000000000001},{"$f":"RANK(AO24,$AI$4:$AI$89,1)","v":11},{"$f":"INDEX($AG$4:$AG$89,MATCH(AO24,$AI$4:$AI$89,0))","v":"Continuous Green T E"},{"$f":"INDEX($B$4:$B$89,MATCH(AO24,$AI$4:$AI$89,0))","v":1},{"$f":"IF(AR24=1,$AZ$4,IF(AR24=2,$AZ$5,$AZ$6))","v":"(AGI)"},{"$f":"INDEX(S$4:S$89,MATCH($AO24,$AI$4:$AI$89,0))","v":"Fair"},{"$f":"INDEX(T$4:T$89,MATCH($AO24,$AI$4:$AI$89,0))","v":"Fair"},{"$f":"INDEX(U$4:U$89,MATCH($AO24,$AI$4:$AI$89,0))","v":"Excellent"},4.4444444444444446]
[null,1]
[12,1,"Quadrant Roadway","S-E",null,null,null,null,null,null,null,null,null,null,null,null,null,null,{"$f":"MMDataComp!AG15","v":"Good"},{"$f":"MMDataComp!AH15","v":"Good"},{"$f":"MMDataComp!AI15","v":"Good"},{"$f":"MMDataComp!AJ15","v":6.6666666666666661},{"$f":"'4a - Detailed Results'!BH46","v":0.27},null,null,null,null,null,null,{"$f":"'4a - Detailed Results'!BY46","v":true},{"$f":"AND(Summary_Include_AGI,Summary_Include_QR_SE)","v":true},{"$f":"IF(AND(AD26,AE26),1,0)","v":1},{"$f":"C26 & IF(ISBLANK(D26),\"\",\" \" & D26)","v":"Quadrant Roadway S-E"},{"$f":"IF(AND(AD26,AE26),W26,1000000)","v":0.27},{"$f":"AH26+0.001*COUNTIF(AH$3:$AI25,AH26)","v":0.27},null,{"$f":"SMALL($AH$4:$AH$89,A26)","v":0.23},{"$f":"SMALL($AI$4:$AI$89,A26)","v":0.23300000000000001},{"$f":"COUNTIF($AP$4:$AP$89,AP26)","v":1},{"$f":"IF(AL26=AL24,AN24+1,0)","v":0},{"$f":"AL26+0.00001*AN26","v":0.23300000000000001},{"$f":"RANK(AO26,$AI$4:$AI$89,1)","v":12},{"$f":"INDEX($AG$4:$AG$89,MATCH(AO26,$AI$4:$AI$89,0))","v":"Partial Cloverleaf B N-S"},{"$f":"INDEX($B$4:$B$89,MATCH(AO26,$AI$4:$AI$89,0))","v":3},{"$f":"IF(AR26=1,$AZ$4,IF(AR26=2,$AZ$5,$AZ$6))","v":"(GSI)"},{"$f":"INDEX(S$4:S$89,MATCH($AO26,$AI$4:$AI$89,0))","v":"Fair"},{"$f":"INDEX(T$4:T$89,MATCH($AO26,$AI$4:$AI$89,0))","v":"Fair"},{"$f":"INDEX(U$4:U$89,MATCH($AO26,$AI$4:$AI$89,0))","v":"Excellent"},4.4444444444444446]
[null,1]
[13,1,"Quadrant Roadway","N-W",null,null,null,null,null,null,null,null,null,null,null,null,null,null,{"$f":"MMDataComp!AG16","v":"Good"},{"$f":"MMDataComp!AH16","v":"Good"},{"$f":"MMDataComp!AI16","v":"Good"},{"$f":"MMDataComp!AJ16","v":6.6666666666666661},{"$f":"'4a - Detailed Results'!BH48","v":0.27},null,null,null,null,null,null,{"$f":"'4a - Detailed Results'!BY48","v":true},{"$f":"AND(Summary_Include_AGI,Summary_Include_QR_NW)","v":true},{"$f":"IF(AND(AD28,AE28),1,0)","v":1},{"$f":"C28 & IF(ISBLANK(D28),\"\",\" \" & D28)","v":"Quadrant Roadway N-W"},{"$f":"IF(AND(AD28,AE28),W28,1000000)","v":0.27},{"$f":"AH28+0.001*COUNTIF(AH$3:$AI27,AH28)","v":0.27200000000000002},null,{"$f":"SMALL($AH$4:$AH$89,A28)","v":0.23},{"$f":"SMALL($AI$4:$AI$89,A28)","v":0.23400000000000001},{"$f":"COUNTIF($AP$4:$AP$89,AP28)","v":1},{"$f":"IF(AL28=AL26,AN26+1,0)","v":0},{"$f":"AL28+0.00001*AN28","v":0.23400000000000001},{"$f":"RANK(AO28,$AI$4:$AI$89,1)","v":13},{"$f":"INDEX($AG$4:$AG$89,MATCH(AO28,$AI$4:$AI$89,0))","v":"Single Point  N-S"},{"$f":"INDEX($B$4:$B$89,MATCH(AO28,$AI$4:$AI$89,0))","v":3},{"$f":"IF(AR28=1,$AZ$4,IF(AR28=2,$AZ$5,$AZ$6))","v":"(GSI)"},{"$f":"INDEX(S$4:S$89,MATCH($AO28,$AI$4:$AI$89,0))","v":"Good"},{"$f":"INDEX(T$4:T$89,MATCH($AO28,$AI$4:$AI$89,0))","v":"Good"},{"$f":"INDEX(U$4:U$89,MATCH($AO28,$AI$4:$AI$89,0))","v":"Excellent"},7.2222222222222223]
[null,1]
[14,1,"Partial Displaced Left Turn","N-S",null,null,null,null,null,null,null,null,null,null,null,null,null,null,{"$f":"MMDataComp!AG17","v":"Good"},{"$f":"MMDataComp!AH17","v":"Good"},{"$f":"MMDataComp!AI17","v":"Excellent"},{"$f":"MMDataComp!AJ17","v":7.2222222222222223},{"$f":"'4a - Detailed Results'!BH50","v":0.22},null,null,null,null,null,null,{"$f":"'4a - Detailed Results'!BY50","v":true},{"$f":"AND(Summary_Include_AGI,Summary_Include_PDLT)","v":true},{"$f":"IF(AND(AD30,AE30),1,0)","v":1},{"$f":"C30 & IF(ISBLANK(D30),\"\",\" \" & D30)","v":"Partial Displaced Left Turn N-S"},{"$f":"IF(AND(AD30,AE30),W30,1000000)","v":0.22},{"$f":"AH30+0.001*COUNTIF(AH$3:$AI29,AH30)","v":0.22},null,{"$f":"SMALL($AH$4:$AH$89,A30)","v":0.26},{"$f":"SMALL($AI$4:$AI$89,A30)","v":0.26},{"$f":"COUNTIF($AP$4:$AP$89,AP30)","v":1},{"$f":"IF(AL30=AL28,AN28+1,0)","v":0},{"$f":"AL30+0.00001*AN30","v":0.26},{"$f":"RANK(AO30,$AI$4:$AI$89,1)","v":14},{"$f":"INDEX($AG$4:$AG$89,MATCH(AO30,$AI$4:$AI$89,0))","v":"Quadrant Roadway S-W"},{"$f":"INDEX($B$4:$B$89,MATCH(AO30,$AI$4:$AI$89,0))","v":1},{"$f":"IF(AR30=1,$AZ$4,IF(AR30=2,$AZ$5,$AZ$6))","v":"(AGI)"},{"$f":"INDEX(S$4:S$89,MATCH($AO30,$AI$4:$AI$89,0))","v":"Good"},{"$f":"INDEX(T$4:T$89,MATCH($AO30,$AI$4:$AI$89,0))","v":"Good"},{"$f":"INDEX(U$4:U$89,MATCH($AO30,$AI$4:$AI$89,0))","v":"Good"},6.6666666666666661]
[null,1]
[15,1,"Partial Displaced Left Turn","E-W",null,null,null,null,null,null,null,null,null,null,null,null,null,null,{"$f":"MMDataComp!AG18","v":"Good"},{"$f":"MMDataComp!AH18","v":"Good"},{"$f":"MMDataComp!AI18","v":"Excellent"},{"$f":"MMDataComp!AJ18","v":7.2222222222222223},{"$f":"'4a - Detailed Results'!BH52","v":0.27},null,null,null,null,null,null,{"$f":"'4a - Detailed Results'!BY52","v":true},{"$f":"AND(Summary_Include_AGI,Summary_Include_PDLT)","v":true},{"$f":"IF(AND(AD32,AE32),1,0)","v":1},{"$f":"C32 & IF(ISBLANK(D32),\"\",\" \" & D32)","v":"Partial Displaced Left Turn E-W"},{"$f":"IF(AND(AD32,AE32),W32,1000000)","v":0.27},{"$f":"AH32+0.001*COUNTIF(AH$3:$AI31,AH32)","v":0.27300000000000002},null,{"$f":"SMALL($AH$4:$AH$89,A32)","v":0.26},{"$f":"SMALL($AI$4:$AI$89,A32)","v":0.26200000000000001},{"$f":"COUNTIF($AP$4:$AP$89,AP32)","v":1},{"$f":"IF(AL32=AL30,AN30+1,0)","v":0},{"$f":"AL32+0.00001*AN32","v":0.26200000000000001},{"$f":"RANK(AO32,$AI$4:$AI$89,1)","v":15},{"$f":"INDEX($AG$4:$AG$89,MATCH(AO32,$AI$4:$AI$89,0))","v":"Quadrant Roadway N-E"},{"$f":"INDEX($B$4:$B$89,MATCH(AO32,$AI$4:$AI$89,0))","v":1},{"$f":"IF(AR32=1,$AZ$4,IF(AR32=2,$AZ$5,$AZ$6))","v":"(AGI)"},{"$f":"INDEX(S$4:S$89,MATCH($AO32,$AI$4:$AI$89,0))","v":"Good"},{"$f":"INDEX(T$4:T$89,MATCH($AO32,$AI$4:$AI$89,0))","v":"Good"},{"$f":"INDEX(U$4:U$89,MATCH($AO32,$AI$4:$AI$89,0))","v":"Good"},6.6666666666666661]
[null,1]
[16,1,"Displaced Left Turn",null,null,null,null,null,null,null,null,null,null,null,null,null,null,null,{"$f":"MMDataComp!AG19","v":"Good"},{"$f":"MMDataComp!AH19","v":"Good"},{"$f":"MMDataComp!AI19","v":"Excellent"},{"$f":"MMDataComp!AJ19","v":7.2222222222222223},{"$f":"'4a - Detailed Results'!BH54","v":0.21},null,null,null,null,null,null,{"$f":"'4a - Detailed Results'!BY54","v":true},{"$f":"AND(Summary_Include_AGI,Summary_Include_DLT)","v":true},{"$f":"IF(AND(AD34,AE34),1,0)","v":1},{"$f":"C34 & IF(ISBLANK(D34),\"\",\" \" & D34)","v":"Displaced Left Turn"},{"$f":"IF(AND(AD34,AE34),W34,1000000)","v":0.21},{"$f":"AH34+0.001*COUNTIF(AH$3:$AI33,AH34)","v":0.21},null,{"$f":"SMALL($AH$4:$AH$89,A34)","v":0.27},{"$f":"SMALL($AI$4:$AI$89,A34)","v":0.27},{"$f":"COUNTIF($AP$4:$AP$89,AP34)","v":1},{"$f":"IF(AL34=AL32,AN32+1,0)","v":0},{"$f":"AL34+0.00001*AN34","v":0.27},{"$f":"RANK(AO34,$AI$4:$AI$89,1)","v":16},{"$f":"INDEX($AG$4:$AG$89,MATCH(AO34,$AI$4:$AI$89,0))","v":"Quadrant Roadway S-E"},{"$f":"INDEX($B$4:$B$89,MATCH(AO34,$AI$4:$AI$89,0))","v":1},{"$f":"IF(AR34=1,$AZ$4,IF(AR34=2,$AZ$5,$AZ$6))","v":"(AGI)"},{"$f":"INDEX(S$4:S$89,MATCH($AO34,$AI$4:$AI$89,0))","v":"Good"},{"$f":"INDEX(T$4:T$89,MATCH($AO34,$AI$4:$AI$89,0))","v":"Good"},{"$f":"INDEX(U$4:U$89,MATCH($AO34,$AI$4:$AI$89,0))","v":"Good"},6.6666666666666661]
[null,1]
[17,1,{"$f":"'3 - Alt Num Lanes Input'!E56","v":"Signalized Restricted Crossing U-Turn"},"N-S",null,null,null,null,null,null,null,null,null,null,null,null,null,null,{"$f":"MMDataComp!AG20","v":"Excellent"},{"$f":"MMDataComp!AH20","v":"Excellent"},{"$f":"MMDataComp!AI20","v":"Good"},{"$f":"MMDataComp!AJ20","v":9.4444444444444446},{"$f":"'4a - Detailed Results'!BH56","v":0.45},null,null,null,null,null,null,{"$f":"'4a - Detailed Results'!BY56","v":true},{"$f":"AND(Summary_Include_AGI,Summary_Include_RCUT)","v":true},{"$f":"IF(AND(AD36,AE36),1,0)","v":1},{"$f":"C36 & IF(ISBLANK(D36),\"\",\" \" & D36)","v":"Signalized Restricted Crossing U-Turn N-S"},{"$f":"IF(AND(AD36,AE36),W36,1000000)","v":0.45},{"$f":"AH36+0.001*COUNTIF(AH$3:$AI35,AH36)","v":0.45},null,{"$f":"SMALL($AH$4:$AH$89,A36)","v":0.27},{"$f":"SMALL($AI$4:$AI$89,A36)","v":0.27200000000000002},{"$f":"COUNTIF($AP$4:$AP$89,AP36)","v":1},{"$f":"IF(AL36=AL34,AN34+1,0)","v":0},{"$f":"AL36+0.00001*AN36","v":0.27200000000000002},{"$f":"RANK(AO36,$AI$4:$AI$89,1)","v":17},{"$f":"INDEX($AG$4:$AG$89,MATCH(AO36,$AI$4:$AI$89,0))","v":"Quadrant Roadway N-W"},{"$f":"INDEX($B$4:$B$89,MATCH(AO36,$AI$4:$AI$89,0))","v":1},{"$f":"IF(AR36=1,$AZ$4,IF(AR36=2,$AZ$5,$AZ$6))","v":"(AGI)"},{"$f":"INDEX(S$4:S$89,MATCH($AO36,$AI$4:$AI$89,0))","v":"Good"},{"$f":"INDEX(T$4:T$89,MATCH($AO36,$AI$4:$AI$89,0))","v":"Good"},{"$f":"INDEX(U$4:U$89,MATCH($AO36,$AI$4:$AI$89,0))","v":"Good"},6.6666666666666661]
[null,1]
[18,1,{"$f":"'3 - Alt Num Lanes Input'!E56","v":"Signalized Restricted Crossing U-Turn"},"E-W",null,null,null,null,null,null,null,null,null,null,null,null,null,null,{"$f":"MMDataComp!AG21","v":"Excellent"},{"$f":"MMDataComp!AH21","v":"Excellent"},{"$f":"MMDataComp!AI21","v":"Good"},{"$f":"MMDataComp!AJ21","v":9.4444444444444446},{"$f":"'4a - Detailed Results'!BH58","v":0.9},null,null,null,null,null,null,{"$f":"'4a - Detailed Results'!BY58","v":true},{"$f":"AND(Summary_Include_AGI,Summary_Include_RCUT)","v":true},{"$f":"IF(AND(AD38,AE38),1,0)","v":1},{"$f":"C38 & IF(ISBLANK(D38),\"\",\" \" & D38)","v":"Signalized Restricted Crossing U-Turn E-W"},{"$f":"IF(AND(AD38,AE38),W38,1000000)","v":0.9},{"$f":"AH38+0.001*COUNTIF(AH$3:$AI37,AH38)","v":0.9},null,{"$f":"SMALL($AH$4:$AH$89,A38)","v":0.27},{"$f":"SMALL($AI$4:$AI$89,A38)","v":0.27300000000000002},{"$f":"COUNTIF($AP$4:$AP$89,AP38)","v":1},0,{"$f":"AL38+0.00001*AN38","v":0.27300000000000002},{"$f":"RANK(AO38,$AI$4:$AI$89,1)","v":18},{"$f":"INDEX($AG$4:$AG$89,MATCH(AO38,$AI$4:$AI$89,0))","v":"Partial Displaced Left Turn E-W"},{"$f":"INDEX($B$4:$B$89,MATCH(AO38,$AI$4:$AI$89,0))","v":1},{"$f":"IF(AR38=1,$AZ$4,IF(AR38=2,$AZ$5,$AZ$6))","v":"(AGI)"},{"$f":"INDEX(S$4:S$89,MATCH($AO38,$AI$4:$AI$89,0))","v":"Good"},{"$f":"INDEX(T$4:T$89,MATCH($AO38,$AI$4:$AI$89,0))","v":"Good"},{"$f":"INDEX(U$4:U$89,MATCH($AO38,$AI$4:$AI$89,0))","v":"Excellent"},7.2222222222222223]
[null,1]
[19,1,{"$f":"'3 - Alt Num Lanes Input'!E60","v":"Unsignalized Restricted Crossing U-Turn"},"N-S",null,null,null,null,null,null,null,null,null,null,null,null,null,null,{"$f":"MMDataComp!AG22","v":"Good"},{"$f":"MMDataComp!AH22","v":"Good"},{"$f":"MMDataComp!AI22","v":"Good"},{"$f":"MMDataComp!AJ22","v":6.6666666666666661},{"$f":"'4a - Detailed Results'!BH60","v":0.58924366590961619},null,null,null,null,null,null,{"$f":"'4a - Detailed Results'!BY60","v":true},{"$f":"AND(Summary_Include_AGI,Summary_Include_URCUT)","v":true},1,"Unsignalized Restricted Crossing U-Turn N-S",0.58924366590961619,{"$f":"AH40+0.001*COUNTIF(AH$3:$AI39,AH40)","v":0.58924366590961619},null,0.27,0.27400000000000002,1,0,0.27400000000000002,19,"Median U-Turn E-W",1,"(AGI)","Excellent","Excellent","Good",9.4444444444444446]
[null,1]
[20,1,{"$f":"'3 - Alt Num Lanes Input'!E60","v":"Unsignalized Restricted Crossing U-Turn"},"E-W",null,null,null,null,null,null,null,null,null,null,null,null,null,null,{"$f":"MMDataComp!AG23","v":"Good"},{"$f":"MMDataComp!AH23","v":"Good"},{"$f":"MMDataComp!AI23","v":"Good"},{"$f":"MMDataComp!AJ23","v":6.6666666666666661},{"$f":"'4a - Detailed Results'!BH62","v":1.1827071618935139},null,null,null,null,null,null,{"$f":"'4a - Detailed Results'!BY62","v":true},{"$f":"AND(Summary_Include_AGI,Summary_Include_URCUT)","v":true},1,"Unsignalized Restricted Crossing U-Turn E-W",1.1827071618935139,{"$f":"AH42+0.001*COUNTIF(AH$3:$AI41,AH42)","v":1.1827071618935139},null,0.27,0.27500000000000002,1,0,0.27500000000000002,20,"Partial Median U-Turn E-W",1,"(AGI)","Excellent","Excellent","Good",9.4444444444444446]
[null,1]
[21,1,"Median U-Turn","N-S",null,null,null,null,null,null,null,null,null,null,null,null,null,null,{"$f":"MMDataComp!AG24","v":"Excellent"},{"$f":"MMDataComp!AH24","v":"Excellent"},{"$f":"MMDataComp!AI24","v":"Good"},{"$f":"MMDataComp!AJ24","v":9.4444444444444446},{"$f":"'4a - Detailed Results'!BH64","v":0.32},null,null,null,null,null,null,{"$f":"'4a - Detailed Results'!BY64","v":true},{"$f":"AND(Summary_Include_AGI,Summary_Include_MUT)","v":true},{"$f":"IF(AND(AD44,AE44),1,0)","v":1},{"$f":"C44 & IF(ISBLANK(D44),\"\",\" \" & D44)","v":"Median U-Turn N-S"},{"$f":"IF(AND(AD44,AE44),W44,1000000)","v":0.32},{"$f":"AH44+0.001*COUNTIF(AH$3:$AI39,AH44)","v":0.32},null,{"$f":"SMALL($AH$4:$AH$89,A44)","v":0.28999999999999998},{"$f":"SMALL($AI$4:$AI$89,A44)","v":0.28999999999999998},{"$f":"COUNTIF($AP$4:$AP$89,AP44)","v":1},{"$f":"IF(AL44=AL38,AN38+1,0)","v":0},{"$f":"AL44+0.00001*AN44","v":0.28999999999999998},{"$f":"RANK(AO44,$AI$4:$AI$89,1)","v":21},{"$f":"INDEX($AG$4:$AG$89,MATCH(AO44,$AI$4:$AI$89,0))","v":"Displaced Left Turn (Interchange) N-S"},{"$f":"INDEX($B$4:$B$89,MATCH(AO44,$AI$4:$AI$89,0))","v":3},{"$f":"IF(AR44=1,$AZ$4,IF(AR44=2,$AZ$5,$AZ$6))","v":"(GSI)"},{"$f":"INDEX(S$4:S$89,MATCH($AO44,$AI$4:$AI$89,0))","v":"Good"},{"$f":"INDEX(T$4:T$89,MATCH($AO44,$AI$4:$AI$89,0))","v":"Good"},{"$f":"INDEX(U$4:U$89,MATCH($AO44,$AI$4:$AI$89,0))","v":"Excellent"},7.2222222222222223]
[null,1]
[22,1,"Median U-Turn","E-W",null,null,null,null,null,null,null,null,null,null,null,null,null,null,{"$f":"MMDataComp!AG25","v":"Excellent"},{"$f":"MMDataComp!AH25","v":"Excellent"},{"$f":"MMDataComp!AI25","v":"Good"},{"$f":"MMDataComp!AJ25","v":9.4444444444444446},{"$f":"'4a - Detailed Results'!BH66","v":0.27},null,null,null,null,null,null,{"$f":"'4a - Detailed Results'!BY66","v":true},{"$f":"AND(Summary_Include_AGI,Summary_Include_MUT)","v":true},{"$f":"IF(AND(AD46,AE46),1,0)","v":1},{"$f":"C46 & IF(ISBLANK(D46),\"\",\" \" & D46)","v":"Median U-Turn E-W"},{"$f":"IF(AND(AD46,AE46),W46,1000000)","v":0.27},{"$f":"AH46+0.001*COUNTIF(AH$3:$AI45,AH46)","v":0.27400000000000002},null,{"$f":"SMALL($AH$4:$AH$89,A46)","v":0.3},{"$f":"SMALL($AI$4:$AI$89,A46)","v":0.3},{"$f":"COUNTIF($AP$4:$AP$89,AP46)","v":1},0,{"$f":"AL46+0.00001*AN46","v":0.3},{"$f":"RANK(AO46,$AI$4:$AI$89,1)","v":22},{"$f":"INDEX($AG$4:$AG$89,MATCH(AO46,$AI$4:$AI$89,0))","v":"Traffic Signal"},{"$f":"INDEX($B$4:$B$89,MATCH(AO46,$AI$4:$AI$89,0))","v":1},{"$f":"IF(AR46=1,$AZ$4,IF(AR46=2,$AZ$5,$AZ$6))","v":"(AGI)"},{"$f":"INDEX(S$4:S$89,MATCH($AO46,$AI$4:$AI$89,0))","v":"Good"},{"$f":"INDEX(T$4:T$89,MATCH($AO46,$AI$4:$AI$89,0))","v":"Good"},{"$f":"INDEX(U$4:U$89,MATCH($AO46,$AI$4:$AI$89,0))","v":"Excellent"},7.2222222222222223]
[null,1]
[23,1,"Partial Median U-Turn","N-S",null,null,null,null,null,null,null,null,null,null,null,null,null,null,{"$f":"MMDataComp!AG26","v":"Excellent"},{"$f":"MMDataComp!AH26","v":"Excellent"},{"$f":"MMDataComp!AI26","v":"Good"},{"$f":"MMDataComp!AJ26","v":9.4444444444444446},{"$f":"'4a - Detailed Results'!BH68","v":0.3},null,null,null,null,null,null,{"$f":"'4a - Detailed Results'!BY68","v":true},{"$f":"AND(Summary_Include_AGI,Summary_Include_PMUT)","v":true},{"$f":"IF(AND(AD48,AE48),1,0)","v":1},{"$f":"C48 & IF(ISBLANK(D48),\"\",\" \" & D48)","v":"Partial Median U-Turn N-S"},{"$f":"IF(AND(AD48,AE48),W48,1000000)","v":0.3},{"$f":"AH48+0.001*COUNTIF(AH$3:$AI47,AH48)","v":0.30199999999999999},null,{"$f":"SMALL($AH$4:$AH$89,A48)","v":0.3},{"$f":"SMALL($AI$4:$AI$89,A48)","v":0.30199999999999999},{"$f":"COUNTIF($AP$4:$AP$89,AP48)","v":1},0,{"$f":"AL48+0.00001*AN48","v":0.30199999999999999},{"$f":"RANK(AO48,$AI$4:$AI$89,1)","v":23},{"$f":"INDEX($AG$4:$AG$89,MATCH(AO48,$AI$4:$AI$89,0))","v":"Partial Median U-Turn N-S"},{"$f":"INDEX($B$4:$B$89,MATCH(AO48,$AI$4:$AI$89,0))","v":1},{"$f":"IF(AR48=1,$AZ$4,IF(AR48=2,$AZ$5,$AZ$6))","v":"(AGI)"},{"$f":"INDEX(S$4:S$89,MATCH($AO48,$AI$4:$AI$89,0))","v":"Excellent"},{"$f":"INDEX(T$4:T$89,MATCH($AO48,$AI$4:$AI$89,0))","v":"Excellent"},{"$f":"INDEX(U$4:U$89,MATCH($AO48,$AI$4:$AI$89,0))","v":"Good"},9.4444444444444446]
[null,1]
[24,1,"Partial Median U-Turn","E-W",null,null,null,null,null,null,null,null,null,null,null,null,null,null,{"$f":"MMDataComp!AG27","v":"Excellent"},{"$f":"MMDataComp!AH27","v":"Excellent"},{"$f":"MMDataComp!AI27","v":"Good"},{"$f":"MMDataComp!AJ27","v":9.4444444444444446},{"$f":"'4a - Detailed Results'!BH70","v":0.27},null,null,null,null,null,null,{"$f":"'4a - Detailed Results'!BY70","v":true},{"$f":"AND(Summary_Include_AGI,Summary_Include_PMUT)","v":true},{"$f":"IF(AND(AD50,AE50),1,0)","v":1},{"$f":"C50 & IF(ISBLANK(D50),\"\",\" \" & D50)","v":"Partial Median U-Turn E-W"},{"$f":"IF(AND(AD50,AE50),W50,1000000)","v":0.27},{"$f":"AH50+0.001*COUNTIF(AH$3:$AI49,AH50)","v":0.27500000000000002},null,{"$f":"SMALL($AH$4:$AH$89,A50)","v":0.3},{"$f":"SMALL($AI$4:$AI$89,A50)","v":0.30299999999999999},{"$f":"COUNTIF($AP$4:$AP$89,AP50)","v":1},0,{"$f":"AL50+0.00001*AN50","v":0.30299999999999999},{"$f":"RANK(AO50,$AI$4:$AI$89,1)","v":24},{"$f":"INDEX($AG$4:$AG$89,MATCH(AO50,$AI$4:$AI$89,0))","v":"Diamond N-S"},{"$f":"INDEX($B$4:$B$89,MATCH(AO50,$AI$4:$AI$89,0))","v":3},{"$f":"IF(AR50=1,$AZ$4,IF(AR50=2,$AZ$5,$AZ$6))","v":"(GSI)"},{"$f":"INDEX(S$4:S$89,MATCH($AO50,$AI$4:$AI$89,0))","v":"Good"},{"$f":"INDEX(T$4:T$89,MATCH($AO50,$AI$4:$AI$89,0))","v":"Good"},{"$f":"INDEX(U$4:U$89,MATCH($AO50,$AI$4:$AI$89,0))","v":"Excellent"},7.2222222222222223]
[null,1]
[25,2,"50 ICD",null,null,null,null,null,null,null,null,null,null,null,null,null,null,null,{"$f":"MMDataComp!AG29","v":"Excellent"},{"$f":"MMDataComp!AH29","v":"Excellent"},{"$f":"MMDataComp!AI29","v":"Excellent"},{"$f":"MMDataComp!AJ29","v":10},{"$f":"'4a - Detailed Results'!BH87","v":1.2015078924049682},null,null,null,null,null,null,{"$f":"'4a - Detailed Results'!BY87","v":true},{"$f":"AND(Summary_Include_Rdbt,Summary_Include_50ICD)","v":true},{"$f":"IF(AND(AD52,AE52),1,0)","v":1},{"$f":"C52 & IF(ISBLANK(D52),\"\",\" \" & D52)","v":"50 ICD"},{"$f":"IF(AND(AD52,AE52),W52,1000000)","v":1.2015078924049682},{"$f":"AH52+0.001*COUNTIF(AH$3:$AI51,AH52)","v":1.2015078924049682},null,{"$f":"SMALL($AH$4:$AH$89,A52)","v":0.3},{"$f":"SMALL($AI$4:$AI$89,A52)","v":0.30399999999999999},{"$f":"COUNTIF($AP$4:$AP$89,AP52)","v":1},0,{"$f":"AL52+0.00001*AN52","v":0.30399999999999999},{"$f":"RANK(AO52,$AI$4:$AI$89,1)","v":25},{"$f":"INDEX($AG$4:$AG$89,MATCH(AO52,$AI$4:$AI$89,0))","v":"Diamond E-W"},{"$f":"INDEX($B$4:$B$89,MATCH(AO52,$AI$4:$AI$89,0))","v":3},{"$f":"IF(AR52=1,$AZ$4,IF(AR52=2,$AZ$5,$AZ$6))","v":"(GSI)"},{"$f":"INDEX(S$4:S$89,MATCH($AO52,$AI$4:$AI$89,0))","v":"Good"},{"$f":"INDEX(T$4:T$89,MATCH($AO52,$AI$4:$AI$89,0))","v":"Good"},{"$f":"INDEX(U$4:U$89,MATCH($AO52,$AI$4:$AI$89,0))","v":"Excellent"},7.2222222222222223]
[null,2]
[26,2,"75 ICD",null,null,null,null,null,null,null,null,null,null,null,null,null,null,null,{"$f":"MMDataComp!AG30","v":"Excellent"},{"$f":"MMDataComp!AH30","v":"Excellent"},{"$f":"MMDataComp!AI30","v":"Excellent"},{"$f":"MMDataComp!AJ30","v":10},{"$f":"'4a - Detailed Results'!BH89","v":1.1467495384333108},null,null,null,null,null,null,{"$f":"'4a - Detailed Results'!BY89","v":true},{"$f":"AND(Summary_Include_Rdbt,Summary_Include_75ICD)","v":true},{"$f":"IF(AND(AD54,AE54),1,0)","v":1},{"$f":"C54 & IF(ISBLANK(D54),\"\",\" \" & D54)","v":"75 ICD"},{"$f":"IF(AND(AD54,AE54),W54,1000000)","v":1.1467495384333108},{"$f":"AH54+0.001*COUNTIF(AH$3:$AI53,AH54)","v":1.1467495384333108},null,{"$f":"SMALL($AH$4:$AH$89,A54)","v":0.32},{"$f":"SMALL($AI$4:$AI$89,A54)","v":0.32},{"$f":"COUNTIF($AP$4:$AP$89,AP54)","v":1},0,{"$f":"AL54+0.00001*AN54","v":0.32},{"$f":"RANK(AO54,$AI$4:$AI$89,1)","v":26},{"$f":"INDEX($AG$4:$AG$89,MATCH(AO54,$AI$4:$AI$89,0))","v":"Median U-Turn N-S"},{"$f":"INDEX($B$4:$B$89,MATCH(AO54,$AI$4:$AI$89,0))","v":1},{"$f":"IF(AR54=1,$AZ$4,IF(AR54=2,$AZ$5,$AZ$6))","v":"(AGI)"},{"$f":"INDEX(S$4:S$89,MATCH($AO54,$AI$4:$AI$89,0))","v":"Excellent"},{"$f":"INDEX(T$4:T$89,MATCH($AO54,$AI$4:$AI$89,0))","v":"Excellent"},{"$f":"INDEX(U$4:U$89,MATCH($AO54,$AI$4:$AI$89,0))","v":"Good"},9.4444444444444446]
[null,2]
[27,2,"1 X 1",null,null,null,null,null,null,null,null,null,null,null,null,null,null,null,{"$f":"MMDataComp!AG31","v":"Excellent"},{"$f":"MMDataComp!AH31","v":"Excellent"},{"$f":"MMDataComp!AI31","v":"Excellent"},{"$f":"MMDataComp!AJ31","v":10},{"$f":"'4a - Detailed Results'!BH91","v":0.83386444718295072},null,null,null,null,null,null,{"$f":"'4a - Detailed Results'!BY91","v":true},{"$f":"AND(Summary_Include_Rdbt,Summary_Include_1x1)","v":true},{"$f":"IF(AND(AD56,AE56),1,0)","v":1},{"$f":"C56 & IF(ISBLANK(D56),\"\",\" \" & D56)","v":"1 X 1"},{"$f":"IF(AND(AD56,AE56),W56,1000000)","v":0.83386444718295072},{"$f":"AH56+0.001*COUNTIF(AH$3:$AI55,AH56)","v":0.83386444718295072},null,{"$f":"SMALL($AH$4:$AH$89,A56)","v":0.32},{"$f":"SMALL($AI$4:$AI$89,A56)","v":0.32200000000000001},{"$f":"COUNTIF($AP$4:$AP$89,AP56)","v":1},0,{"$f":"AL56+0.00001*AN56","v":0.32200000000000001},{"$f":"RANK(AO56,$AI$4:$AI$89,1)","v":27},{"$f":"INDEX($AG$4:$AG$89,MATCH(AO56,$AI$4:$AI$89,0))","v":"Diverging Diamond Interchange N-S"},{"$f":"INDEX($B$4:$B$89,MATCH(AO56,$AI$4:$AI$89,0))","v":3},{"$f":"IF(AR56=1,$AZ$4,IF(AR56=2,$AZ$5,$AZ$6))","v":"(GSI)"},{"$f":"INDEX(S$4:S$89,MATCH($AO56,$AI$4:$AI$89,0))","v":"Excellent"},{"$f":"INDEX(T$4:T$89,MATCH($AO56,$AI$4:$AI$89,0))","v":"Excellent"},{"$f":"INDEX(U$4:U$89,MATCH($AO56,$AI$4:$AI$89,0))","v":"Excellent"},10]
[null,2]
[28,2,"1 X 2",null,null,null,null,null,null,null,null,null,null,null,null,null,null,null,{"$f":"MMDataComp!AG32","v":"Good"},{"$f":"MMDataComp!AH32","v":"Excellent"},{"$f":"MMDataComp!AI32","v":"Excellent"},{"$f":"MMDataComp!AJ32","v":8.3333333333333339},{"$f":"'4a - Detailed Results'!BH93","v":0.76525375396253192},null,null,null,null,null,null,{"$f":"'4a - Detailed Results'!BY93","v":true},{"$f":"AND(Summary_Include_Rdbt,Summary_Include_1x2)","v":true},{"$f":"IF(AND(AD58,AE58),1,0)","v":1},{"$f":"C58 & IF(ISBLANK(D58),\"\",\" \" & D58)","v":"1 X 2"},{"$f":"IF(AND(AD58,AE58),W58,1000000)","v":0.76525375396253192},{"$f":"AH58+0.001*COUNTIF(AH$3:$AI57,AH58)","v":0.76525375396253192},null,{"$f":"SMALL($AH$4:$AH$89,A58)","v":0.40558448960014193},{"$f":"SMALL($AI$4:$AI$89,A58)","v":0.40558448960014193},{"$f":"COUNTIF($AP$4:$AP$89,AP58)","v":1},0,{"$f":"AL58+0.00001*AN58","v":0.40558448960014193},{"$f":"RANK(AO58,$AI$4:$AI$89,1)","v":28},{"$f":"INDEX($AG$4:$AG$89,MATCH(AO58,$AI$4:$AI$89,0))","v":"2 X 1"},{"$f":"INDEX($B$4:$B$89,MATCH(AO58,$AI$4:$AI$89,0))","v":2},{"$f":"IF(AR58=1,$AZ$4,IF(AR58=2,$AZ$5,$AZ$6))","v":"(RAB)"},{"$f":"INDEX(S$4:S$89,MATCH($AO58,$AI$4:$AI$89,0))","v":"Good"},{"$f":"INDEX(T$4:T$89,MATCH($AO58,$AI$4:$AI$89,0))","v":"Excellent"},{"$f":"INDEX(U$4:U$89,MATCH($AO58,$AI$4:$AI$89,0))","v":"Excellent"},8.3333333333333339]
[null,2]
[29,2,"2 X 1",null,null,null,null,null,null,null,null,null,null,null,null,null,null,null,{"$f":"MMDataComp!AG33","v":"Good"},{"$f":"MMDataComp!AH33","v":"Excellent"},{"$f":"MMDataComp!AI33","v":"Excellent"},{"$f":"MMDataComp!AJ33","v":8.3333333333333339},{"$f":"'4a - Detailed Results'!BH95","v":0.40558448960014193},null,null,null,null,null,null,{"$f":"'4a - Detailed Results'!BY95","v":true},{"$f":"AND(Summary_Include_Rdbt,Summary_Include_2x1)","v":true},{"$f":"IF(AND(AD60,AE60),1,0)","v":1},{"$f":"C60 & IF(ISBLANK(D60),\"\",\" \" & D60)","v":"2 X 1"},{"$f":"IF(AND(AD60,AE60),W60,1000000)","v":0.40558448960014193},{"$f":"AH60+0.001*COUNTIF(AH$3:$AI59,AH60)","v":0.40558448960014193},null,{"$f":"SMALL($AH$4:$AH$89,A60)","v":0.40558448960014193},{"$f":"SMALL($AI$4:$AI$89,A60)","v":0.40758448960014193},{"$f":"COUNTIF($AP$4:$AP$89,AP60)","v":1},0,{"$f":"AL60+0.00001*AN60","v":0.40758448960014193},{"$f":"RANK(AO60,$AI$4:$AI$89,1)","v":29},{"$f":"INDEX($AG$4:$AG$89,MATCH(AO60,$AI$4:$AI$89,0))","v":"2 X 2"},{"$f":"INDEX($B$4:$B$89,MATCH(AO60,$AI$4:$AI$89,0))","v":2},{"$f":"IF(AR60=1,$AZ$4,IF(AR60=2,$AZ$5,$AZ$6))","v":"(RAB)"},{"$f":"INDEX(S$4:S$89,MATCH($AO60,$AI$4:$AI$89,0))","v":"Good"},{"$f":"INDEX(T$4:T$89,MATCH($AO60,$AI$4:$AI$89,0))","v":"Excellent"},{"$f":"INDEX(U$4:U$89,MATCH($AO60,$AI$4:$AI$89,0))","v":"Excellent"},8.3333333333333339]
[null,2]
[30,2,"2 X 2",null,null,null,null,null,null,null,null,null,null,null,null,null,null,null,{"$f":"MMDataComp!AG34","v":"Good"},{"$f":"MMDataComp!AH34","v":"Excellent"},{"$f":"MMDataComp!AI34","v":"Excellent"},{"$f":"MMDataComp!AJ34","v":8.3333333333333339},{"$f":"'4a - Detailed Results'!BH97","v":0.40558448960014193},null,null,null,null,null,null,{"$f":"'4a - Detailed Results'!BY97","v":true},{"$f":"AND(Summary_Include_Rdbt,Summary_Include_2x2)","v":true},{"$f":"IF(AND(AD62,AE62),1,0)","v":1},{"$f":"C62 & IF(ISBLANK(D62),\"\",\" \" & D62)","v":"2 X 2"},{"$f":"IF(AND(AD62,AE62),W62,1000000)","v":0.40558448960014193},{"$f":"AH62+0.001*COUNTIF(AH$3:$AI61,AH62)","v":0.40758448960014193},null,{"$f":"SMALL($AH$4:$AH$89,A62)","v":0.43},{"$f":"SMALL($AI$4:$AI$89,A62)","v":0.43},{"$f":"COUNTIF($AP$4:$AP$89,AP62)","v":1},0,{"$f":"AL62+0.00001*AN62","v":0.43},{"$f":"RANK(AO62,$AI$4:$AI$89,1)","v":30},{"$f":"INDEX($AG$4:$AG$89,MATCH(AO62,$AI$4:$AI$89,0))","v":"Displaced Left Turn (Interchange) E-W"},{"$f":"INDEX($B$4:$B$89,MATCH(AO62,$AI$4:$AI$89,0))","v":3},{"$f":"IF(AR62=1,$AZ$4,IF(AR62=2,$AZ$5,$AZ$6))","v":"(GSI)"},{"$f":"INDEX(S$4:S$89,MATCH($AO62,$AI$4:$AI$89,0))","v":"Good"},{"$f":"INDEX(T$4:T$89,MATCH($AO62,$AI$4:$AI$89,0))","v":"Good"},{"$f":"INDEX(U$4:U$89,MATCH($AO62,$AI$4:$AI$89,0))","v":"Excellent"},7.2222222222222223]
[null,2]
[31,2,"3 X 3",null,null,null,null,null,null,null,null,null,null,null,null,null,null,null,{"$f":"MMDataComp!AG35","v":"Fair"},{"$f":"MMDataComp!AH35","v":"Good"},{"$f":"MMDataComp!AI35","v":"Excellent"},{"$f":"MMDataComp!AJ35","v":5.5555555555555554},{"$f":"'4a - Detailed Results'!BH99","v":0.48605315436566804},null,null,null,null,null,null,false,{"$f":"IF(B64=1,Summary_Include_AGI,IF(B64=2,Summary_Include_Rdbt,Summary_Include_Interchange))","v":true},{"$f":"IF(AND(AD64,AE64),1,0)","v":0},{"$f":"C64 & IF(ISBLANK(D64),\"\",\" \" & D64)","v":"3 X 3"},{"$f":"IF(AND(AD64,AE64),W64,1000000)","v":1000000},{"$f":"AH64+0.001*COUNTIF(AH$3:$AI63,AH64)","v":1000000.002},null,{"$f":"SMALL($AH$4:$AH$89,A64)","v":0.45},{"$f":"SMALL($AI$4:$AI$89,A64)","v":0.45},{"$f":"COUNTIF($AP$4:$AP$89,AP64)","v":1},0,{"$f":"AL64+0.00001*AN64","v":0.45},{"$f":"RANK(AO64,$AI$4:$AI$89,1)","v":31},{"$f":"INDEX($AG$4:$AG$89,MATCH(AO64,$AI$4:$AI$89,0))","v":"Signalized Restricted Crossing U-Turn N-S"},{"$f":"INDEX($B$4:$B$89,MATCH(AO64,$AI$4:$AI$89,0))","v":1},{"$f":"IF(AR64=1,$AZ$4,IF(AR64=2,$AZ$5,$AZ$6))","v":"(AGI)"},{"$f":"INDEX(S$4:S$89,MATCH($AO64,$AI$4:$AI$89,0))","v":"Excellent"},{"$f":"INDEX(T$4:T$89,MATCH($AO64,$AI$4:$AI$89,0))","v":"Excellent"},{"$f":"INDEX(U$4:U$89,MATCH($AO64,$AI$4:$AI$89,0))","v":"Good"},9.4444444444444446]
[null,2]
[32,3,"Diamond","N-S",null,null,null,null,null,null,null,null,null,null,null,null,null,null,{"$f":"MMDataComp!AG37","v":"Good"},{"$f":"MMDataComp!AH37","v":"Good"},{"$f":"MMDataComp!AI37","v":"Excellent"},{"$f":"MMDataComp!AJ37","v":7.2222222222222223},{"$f":"'4a - Detailed Results'!BH108","v":0.3},null,null,null,null,null,null,{"$f":"'4a - Detailed Results'!BY108","v":true},{"$f":"AND(Summary_Include_Interchange,Summary_Include_Diamond)","v":true},{"$f":"IF(AND(AD66,AE66),1,0)","v":1},{"$f":"C66 & IF(ISBLANK(D66),\"\",\" \" & D66)","v":"Diamond N-S"},{"$f":"IF(AND(AD66,AE66),W66,1000000)","v":0.3},{"$f":"AH66+0.001*COUNTIF(AH$3:$AI65,AH66)","v":0.30299999999999999},null,{"$f":"SMALL($AH$4:$AH$89,A66)","v":0.58924366590961619},{"$f":"SMALL($AI$4:$AI$89,A66)","v":0.58924366590961619},{"$f":"COUNTIF($AP$4:$AP$89,AP66)","v":1},0,{"$f":"AL66+0.00001*AN66","v":0.58924366590961619},{"$f":"RANK(AO66,$AI$4:$AI$89,1)","v":32},{"$f":"INDEX($AG$4:$AG$89,MATCH(AO66,$AI$4:$AI$89,0))","v":"Unsignalized Restricted Crossing U-Turn N-S"},{"$f":"INDEX($B$4:$B$89,MATCH(AO66,$AI$4:$AI$89,0))","v":1},{"$f":"IF(AR66=1,$AZ$4,IF(AR66=2,$AZ$5,$AZ$6))","v":"(AGI)"},{"$f":"INDEX(S$4:S$89,MATCH($AO66,$AI$4:$AI$89,0))","v":"Good"},{"$f":"INDEX(T$4:T$89,MATCH($AO66,$AI$4:$AI$89,0))","v":"Good"},{"$f":"INDEX(U$4:U$89,MATCH($AO66,$AI$4:$AI$89,0))","v":"Good"},6.6666666666666661]
[null,3]
[33,3,"Diamond","E-W",null,null,null,null,null,null,null,null,null,null,null,null,null,null,{"$f":"MMDataComp!AG38","v":"Good"},{"$f":"MMDataComp!AH38","v":"Good"},{"$f":"MMDataComp!AI38","v":"Excellent"},{"$f":"MMDataComp!AJ38","v":7.2222222222222223},{"$f":"'4a - Detailed Results'!BH110","v":0.3},null,null,null,null,null,null,{"$f":"'4a - Detailed Results'!BY110","v":true},{"$f":"AND(Summary_Include_Interchange,Summary_Include_Diamond)","v":true},{"$f":"IF(AND(AD68,AE68),1,0)","v":1},{"$f":"C68 & IF(ISBLANK(D68),\"\",\" \" & D68)","v":"Diamond E-W"},{"$f":"IF(AND(AD68,AE68),W68,1000000)","v":0.3},{"$f":"AH68+0.001*COUNTIF(AH$3:$AI67,AH68)","v":0.30399999999999999},null,{"$f":"SMALL($AH$4:$AH$89,A68)","v":0.76525375396253192},{"$f":"SMALL($AI$4:$AI$89,A68)","v":0.76525375396253192},{"$f":"COUNTIF($AP$4:$AP$89,AP68)","v":1},0,{"$f":"AL68+0.00001*AN68","v":0.76525375396253192},{"$f":"RANK(AO68,$AI$4:$AI$89,1)","v":33},{"$f":"INDEX($AG$4:$AG$89,MATCH(AO68,$AI$4:$AI$89,0))","v":"1 X 2"},{"$f":"INDEX($B$4:$B$89,MATCH(AO68,$AI$4:$AI$89,0))","v":2},{"$f":"IF(AR68=1,$AZ$4,IF(AR68=2,$AZ$5,$AZ$6))","v":"(RAB)"},{"$f":"INDEX(S$4:S$89,MATCH($AO68,$AI$4:$AI$89,0))","v":"Good"},{"$f":"INDEX(T$4:T$89,MATCH($AO68,$AI$4:$AI$89,0))","v":"Excellent"},{"$f":"INDEX(U$4:U$89,MATCH($AO68,$AI$4:$AI$89,0))","v":"Excellent"},8.3333333333333339]
[null,3]
[34,3,"Partial Cloverleaf A","N-S",null,null,null,null,null,null,null,null,null,null,null,null,null,null,{"$f":"MMDataComp!AG39","v":"Fair"},{"$f":"MMDataComp!AH39","v":"Fair"},{"$f":"MMDataComp!AI39","v":"Excellent"},{"$f":"MMDataComp!AJ39","v":4.4444444444444446},{"$f":"'4a - Detailed Results'!BH112","v":0.19},null,null,null,null,null,null,{"$f":"'4a - Detailed Results'!BY112","v":true},{"$f":"AND(Summary_Include_Interchange,Summary_Include_PCLA)","v":true},{"$f":"IF(AND(AD70,AE70),1,0)","v":1},{"$f":"C70 & IF(ISBLANK(D70),\"\",\" \" & D70)","v":"Partial Cloverleaf A N-S"},{"$f":"IF(AND(AD70,AE70),W70,1000000)","v":0.19},{"$f":"AH70+0.001*COUNTIF(AH$3:$AI69,AH70)","v":0.19},null,{"$f":"SMALL($AH$4:$AH$89,A70)","v":0.83386444718295072},{"$f":"SMALL($AI$4:$AI$89,A70)","v":0.83386444718295072},{"$f":"COUNTIF($AP$4:$AP$89,AP70)","v":1},0,{"$f":"AL70+0.00001*AN70","v":0.83386444718295072},{"$f":"RANK(AO70,$AI$4:$AI$89,1)","v":34},{"$f":"INDEX($AG$4:$AG$89,MATCH(AO70,$AI$4:$AI$89,0))","v":"1 X 1"},{"$f":"INDEX($B$4:$B$89,MATCH(AO70,$AI$4:$AI$89,0))","v":2},{"$f":"IF(AR70=1,$AZ$4,IF(AR70=2,$AZ$5,$AZ$6))","v":"(RAB)"},{"$f":"INDEX(S$4:S$89,MATCH($AO70,$AI$4:$AI$89,0))","v":"Excellent"},{"$f":"INDEX(T$4:T$89,MATCH($AO70,$AI$4:$AI$89,0))","v":"Excellent"},{"$f":"INDEX(U$4:U$89,MATCH($AO70,$AI$4:$AI$89,0))","v":"Excellent"},10]
[null,3]
[35,3,"Partial Cloverleaf A","E-W",null,null,null,null,null,null,null,null,null,null,null,null,null,null,{"$f":"MMDataComp!AG40","v":"Fair"},{"$f":"MMDataComp!AH40","v":"Fair"},{"$f":"MMDataComp!AI40","v":"Excellent"},{"$f":"MMDataComp!AJ40","v":4.4444444444444446},{"$f":"'4a - Detailed Results'!BH114","v":0.12},null,null,null,null,null,null,{"$f":"'4a - Detailed Results'!BY114","v":true},{"$f":"AND(Summary_Include_Interchange,Summary_Include_PCLA)","v":true},{"$f":"IF(AND(AD72,AE72),1,0)","v":1},{"$f":"C72 & IF(ISBLANK(D72),\"\",\" \" & D72)","v":"Partial Cloverleaf A E-W"},{"$f":"IF(AND(AD72,AE72),W72,1000000)","v":0.12},{"$f":"AH72+0.001*COUNTIF(AH$3:$AI71,AH72)","v":0.12},null,{"$f":"SMALL($AH$4:$AH$89,A72)","v":0.9},{"$f":"SMALL($AI$4:$AI$89,A72)","v":0.9},{"$f":"COUNTIF($AP$4:$AP$89,AP72)","v":1},0,{"$f":"AL72+0.00001*AN72","v":0.9},{"$f":"RANK(AO72,$AI$4:$AI$89,1)","v":35},{"$f":"INDEX($AG$4:$AG$89,MATCH(AO72,$AI$4:$AI$89,0))","v":"Signalized Restricted Crossing U-Turn E-W"},{"$f":"INDEX($B$4:$B$89,MATCH(AO72,$AI$4:$AI$89,0))","v":1},{"$f":"IF(AR72=1,$AZ$4,IF(AR72=2,$AZ$5,$AZ$6))","v":"(AGI)"},{"$f":"INDEX(S$4:S$89,MATCH($AO72,$AI$4:$AI$89,0))","v":"Excellent"},{"$f":"INDEX(T$4:T$89,MATCH($AO72,$AI$4:$AI$89,0))","v":"Excellent"},{"$f":"INDEX(U$4:U$89,MATCH($AO72,$AI$4:$AI$89,0))","v":"Good"},9.4444444444444446]
[null,3]
[36,3,"Partial Cloverleaf B","N-S",null,null,null,null,null,null,null,null,null,null,null,null,null,null,{"$f":"MMDataComp!AG41","v":"Fair"},{"$f":"MMDataComp!AH41","v":"Fair"},{"$f":"MMDataComp!AI41","v":"Excellent"},{"$f":"MMDataComp!AJ41","v":4.4444444444444446},{"$f":"'4a - Detailed Results'!BH116","v":0.23},null,null,null,null,null,null,{"$f":"'4a - Detailed Results'!BY116","v":true},{"$f":"AND(Summary_Include_Interchange,Summary_Include_PCLB)","v":true},{"$f":"IF(AND(AD74,AE74),1,0)","v":1},{"$f":"C74 & IF(ISBLANK(D74),\"\",\" \" & D74)","v":"Partial Cloverleaf B N-S"},{"$f":"IF(AND(AD74,AE74),W74,1000000)","v":0.23},{"$f":"AH74+0.001*COUNTIF(AH$3:$AI73,AH74)","v":0.23300000000000001},null,{"$f":"SMALL($AH$4:$AH$89,A74)","v":1.1467495384333108},{"$f":"SMALL($AI$4:$AI$89,A74)","v":1.1467495384333108},{"$f":"COUNTIF($AP$4:$AP$89,AP74)","v":1},0,{"$f":"AL74+0.00001*AN74","v":1.1467495384333108},{"$f":"RANK(AO74,$AI$4:$AI$89,1)","v":36},{"$f":"INDEX($AG$4:$AG$89,MATCH(AO74,$AI$4:$AI$89,0))","v":"75 ICD"},{"$f":"INDEX($B$4:$B$89,MATCH(AO74,$AI$4:$AI$89,0))","v":2},{"$f":"IF(AR74=1,$AZ$4,IF(AR74=2,$AZ$5,$AZ$6))","v":"(RAB)"},{"$f":"INDEX(S$4:S$89,MATCH($AO74,$AI$4:$AI$89,0))","v":"Excellent"},{"$f":"INDEX(T$4:T$89,MATCH($AO74,$AI$4:$AI$89,0))","v":"Excellent"},{"$f":"INDEX(U$4:U$89,MATCH($AO74,$AI$4:$AI$89,0))","v":"Excellent"},10]
[null,3]
[37,3,"Partial Cloverleaf B","E-W",null,null,null,null,null,null,null,null,null,null,null,null,null,null,{"$f":"MMDataComp!AG42","v":"Fair"},{"$f":"MMDataComp!AH42","v":"Fair"},{"$f":"MMDataComp!AI42","v":"Excellent"},{"$f":"MMDataComp!AJ42","v":4.4444444444444446},{"$f":"'4a - Detailed Results'!BH118","v":0.09},null,null,null,null,null,null,{"$f":"'4a - Detailed Results'!BY118","v":true},{"$f":"AND(Summary_Include_Interchange,Summary_Include_PCLB)","v":true},{"$f":"IF(AND(AD76,AE76),1,0)","v":1},{"$f":"C76 & IF(ISBLANK(D76),\"\",\" \" & D76)","v":"Partial Cloverleaf B E-W"},{"$f":"IF(AND(AD76,AE76),W76,1000000)","v":0.09},{"$f":"AH76+0.001*COUNTIF(AH$3:$AI75,AH76)","v":0.09},null,{"$f":"SMALL($AH$4:$AH$89,A76)","v":1.1827071618935139},{"$f":"SMALL($AI$4:$AI$89,A76)","v":1.1827071618935139},{"$f":"COUNTIF($AP$4:$AP$89,AP76)","v":1},0,{"$f":"AL76+0.00001*AN76","v":1.1827071618935139},{"$f":"RANK(AO76,$AI$4:$AI$89,1)","v":37},{"$f":"INDEX($AG$4:$AG$89,MATCH(AO76,$AI$4:$AI$89,0))","v":"Unsignalized Restricted Crossing U-Turn E-W"},{"$f":"INDEX($B$4:$B$89,MATCH(AO76,$AI$4:$AI$89,0))","v":1},{"$f":"IF(AR76=1,$AZ$4,IF(AR76=2,$AZ$5,$AZ$6))","v":"(AGI)"},{"$f":"INDEX(S$4:S$89,MATCH($AO76,$AI$4:$AI$89,0))","v":"Good"},{"$f":"INDEX(T$4:T$89,MATCH($AO76,$AI$4:$AI$89,0))","v":"Good"},{"$f":"INDEX(U$4:U$89,MATCH($AO76,$AI$4:$AI$89,0))","v":"Good"},6.6666666666666661]
[null,3]
[38,3,"Displaced Left Turn (Interchange)","N-S",null,null,null,null,null,null,null,null,null,null,null,null,null,null,{"$f":"MMDataComp!AG43","v":"Good"},{"$f":"MMDataComp!AH43","v":"Good"},{"$f":"MMDataComp!AI43","v":"Excellent"},{"$f":"MMDataComp!AJ43","v":7.2222222222222223},{"$f":"'4a - Detailed Results'!BH120","v":0.28999999999999998},null,null,null,null,null,null,{"$f":"'4a - Detailed Results'!BY120","v":true},{"$f":"AND(Summary_Include_Interchange,Summary_Include_DLTI)","v":true},{"$f":"IF(AND(AD78,AE78),1,0)","v":1},{"$f":"C78 & IF(ISBLANK(D78),\"\",\" \" & D78)","v":"Displaced Left Turn (Interchange) N-S"},{"$f":"IF(AND(AD78,AE78),W78,1000000)","v":0.28999999999999998},{"$f":"AH78+0.001*COUNTIF(AH$3:$AI77,AH78)","v":0.28999999999999998},null,{"$f":"SMALL($AH$4:$AH$89,A78)","v":1.2015078924049682},{"$f":"SMALL($AI$4:$AI$89,A78)","v":1.2015078924049682},{"$f":"COUNTIF($AP$4:$AP$89,AP78)","v":1},0,{"$f":"AL78+0.00001*AN78","v":1.2015078924049682},{"$f":"RANK(AO78,$AI$4:$AI$89,1)","v":38},{"$f":"INDEX($AG$4:$AG$89,MATCH(AO78,$AI$4:$AI$89,0))","v":"50 ICD"},{"$f":"INDEX($B$4:$B$89,MATCH(AO78,$AI$4:$AI$89,0))","v":2},{"$f":"IF(AR78=1,$AZ$4,IF(AR78=2,$AZ$5,$AZ$6))","v":"(RAB)"},{"$f":"INDEX(S$4:S$89,MATCH($AO78,$AI$4:$AI$89,0))","v":"Excellent"},{"$f":"INDEX(T$4:T$89,MATCH($AO78,$AI$4:$AI$89,0))","v":"Excellent"},{"$f":"INDEX(U$4:U$89,MATCH($AO78,$AI$4:$AI$89,0))","v":"Excellent"},10]
[null,3]
[39,3,"Displaced Left Turn (Interchange)","E-W",null,null,null,null,null,null,null,null,null,null,null,null,null,null,{"$f":"MMDataComp!AG44","v":"Good"},{"$f":"MMDataComp!AH44","v":"Good"},{"$f":"MMDataComp!AI44","v":"Excellent"},{"$f":"MMDataComp!AJ44","v":7.2222222222222223},{"$f":"'4a - Detailed Results'!BH122","v":0.43},null,null,null,null,null,null,{"$f":"'4a - Detailed Results'!BY122","v":true},{"$f":"AND(Summary_Include_Interchange,Summary_Include_DLTI)","v":true},{"$f":"IF(AND(AD80,AE80),1,0)","v":1},{"$f":"C80 & IF(ISBLANK(D80),\"\",\" \" & D80)","v":"Displaced Left Turn (Interchange) E-W"},{"$f":"IF(AND(AD80,AE80),W80,1000000)","v":0.43},{"$f":"AH80+0.001*COUNTIF(AH$3:$AI79,AH80)","v":0.43},null,{"$f":"SMALL($AH$4:$AH$89,A80)","v":1.22},{"$f":"SMALL($AI$4:$AI$89,A80)","v":1.22},{"$f":"COUNTIF($AP$4:$AP$89,AP80)","v":1},0,{"$f":"AL80+0.00001*AN80","v":1.22},{"$f":"RANK(AO80,$AI$4:$AI$89,1)","v":39},{"$f":"INDEX($AG$4:$AG$89,MATCH(AO80,$AI$4:$AI$89,0))","v":"All-Way Stop Control"},{"$f":"INDEX($B$4:$B$89,MATCH(AO80,$AI$4:$AI$89,0))","v":1},{"$f":"IF(AR80=1,$AZ$4,IF(AR80=2,$AZ$5,$AZ$6))","v":"(AGI)"},{"$f":"INDEX(S$4:S$89,MATCH($AO80,$AI$4:$AI$89,0))","v":"Excellent"},{"$f":"INDEX(T$4:T$89,MATCH($AO80,$AI$4:$AI$89,0))","v":"Excellent"},{"$f":"INDEX(U$4:U$89,MATCH($AO80,$AI$4:$AI$89,0))","v":"Excellent"},10]
[null,3]
[40,3,"Diverging Diamond Interchange","N-S",null,null,null,null,null,null,null,null,null,null,null,null,null,null,{"$f":"MMDataComp!AG45","v":"Excellent"},{"$f":"MMDataComp!AH45","v":"Excellent"},{"$f":"MMDataComp!AI45","v":"Excellent"},{"$f":"MMDataComp!AJ45","v":10},{"$f":"'4a - Detailed Results'!BH124","v":0.32},null,null,null,null,null,null,{"$f":"'4a - Detailed Results'!BY124","v":true},{"$f":"AND(Summary_Include_Interchange,Summary_Include_DDI)","v":true},{"$f":"IF(AND(AD82,AE82),1,0)","v":1},{"$f":"C82 & IF(ISBLANK(D82),\"\",\" \" & D82)","v":"Diverging Diamond Interchange N-S"},{"$f":"IF(AND(AD82,AE82),W82,1000000)","v":0.32},{"$f":"AH82+0.001*COUNTIF(AH$3:$AI81,AH82)","v":0.32200000000000001},null,{"$f":"SMALL($AH$4:$AH$89,A82)","v":1.3097947217873753},{"$f":"SMALL($AI$4:$AI$89,A82)","v":1.3097947217873753},{"$f":"COUNTIF($AP$4:$AP$89,AP82)","v":1},0,{"$f":"AL82+0.00001*AN82","v":1.3097947217873753},{"$f":"RANK(AO82,$AI$4:$AI$89,1)","v":40},{"$f":"INDEX($AG$4:$AG$89,MATCH(AO82,$AI$4:$AI$89,0))","v":"Two-Way Stop Control E-W"},{"$f":"INDEX($B$4:$B$89,MATCH(AO82,$AI$4:$AI$89,0))","v":1},{"$f":"IF(AR82=1,$AZ$4,IF(AR82=2,$AZ$5,$AZ$6))","v":"(AGI)"},{"$f":"INDEX(S$4:S$89,MATCH($AO82,$AI$4:$AI$89,0))","v":"Fair"},{"$f":"INDEX(T$4:T$89,MATCH($AO82,$AI$4:$AI$89,0))","v":"Good"},{"$f":"INDEX(U$4:U$89,MATCH($AO82,$AI$4:$AI$89,0))","v":"Excellent"},5.5555555555555554]
[null,3]
[41,3,"Diverging Diamond Interchange","E-W",null,null,null,null,null,null,null,null,null,null,null,null,null,null,{"$f":"MMDataComp!AG46","v":"Excellent"},{"$f":"MMDataComp!AH46","v":"Excellent"},{"$f":"MMDataComp!AI46","v":"Excellent"},{"$f":"MMDataComp!AJ46","v":10},{"$f":"'4a - Detailed Results'!BH126","v":0.22},null,null,null,null,null,null,{"$f":"'4a - Detailed Results'!BY126","v":true},{"$f":"AND(Summary_Include_Interchange,Summary_Include_DDI)","v":true},{"$f":"IF(AND(AD84,AE84),1,0)","v":1},{"$f":"C84 & IF(ISBLANK(D84),\"\",\" \" & D84)","v":"Diverging Diamond Interchange E-W"},{"$f":"IF(AND(AD84,AE84),W84,1000000)","v":0.22},{"$f":"AH84+0.001*COUNTIF(AH$3:$AI83,AH84)","v":0.222},null,{"$f":"SMALL($AH$4:$AH$89,A84)","v":3.004391956229405},{"$f":"SMALL($AI$4:$AI$89,A84)","v":3.004391956229405},{"$f":"COUNTIF($AP$4:$AP$89,AP84)","v":1},0,{"$f":"AL84+0.00001*AN84","v":3.004391956229405},{"$f":"RANK(AO84,$AI$4:$AI$89,1)","v":41},{"$f":"INDEX($AG$4:$AG$89,MATCH(AO84,$AI$4:$AI$89,0))","v":"Two-Way Stop Control N-S"},{"$f":"INDEX($B$4:$B$89,MATCH(AO84,$AI$4:$AI$89,0))","v":1},{"$f":"IF(AR84=1,$AZ$4,IF(AR84=2,$AZ$5,$AZ$6))","v":"(AGI)"},{"$f":"INDEX(S$4:S$89,MATCH($AO84,$AI$4:$AI$89,0))","v":"Fair"},{"$f":"INDEX(T$4:T$89,MATCH($AO84,$AI$4:$AI$89,0))","v":"Good"},{"$f":"INDEX(U$4:U$89,MATCH($AO84,$AI$4:$AI$89,0))","v":"Excellent"},5.5555555555555554]
[null,3]
[42,3,"Single Point ","N-S",null,null,null,null,null,null,null,null,null,null,null,null,null,null,{"$f":"MMDataComp!AG47","v":"Good"},{"$f":"MMDataComp!AH47","v":"Good"},{"$f":"MMDataComp!AI47","v":"Excellent"},{"$f":"MMDataComp!AJ47","v":7.2222222222222223},{"$f":"'4a - Detailed Results'!BH128","v":0.23},null,null,null,null,null,null,{"$f":"'4a - Detailed Results'!BY128","v":true},{"$f":"AND(Summary_Include_Interchange,Summary_Include_SPUI)","v":true},{"$f":"IF(AND(AD86,AE86),1,0)","v":1},{"$f":"C86 & IF(ISBLANK(D86),\"\",\" \" & D86)","v":"Single Point  N-S"},{"$f":"IF(AND(AD86,AE86),W86,1000000)","v":0.23},{"$f":"AH86+0.001*COUNTIF(AH$3:$AI85,AH86)","v":0.23400000000000001},null,{"$f":"SMALL($AH$4:$AH$89,A86)","v":1000000},{"$f":"SMALL($AI$4:$AI$89,A86)","v":1000000},{"$f":"COUNTIF($AP$4:$AP$89,AP86)","v":1},0,{"$f":"AL86+0.00001*AN86","v":1000000},{"$f":"RANK(AO86,$AI$4:$AI$89,1)","v":42},{"$f":"INDEX($AG$4:$AG$89,MATCH(AO86,$AI$4:$AI$89,0))","v":"Conventional Shared RT LN"},{"$f":"INDEX($B$4:$B$89,MATCH(AO86,$AI$4:$AI$89,0))","v":1},{"$f":"IF(AR86=1,$AZ$4,IF(AR86=2,$AZ$5,$AZ$6))","v":"(AGI)"},{"$f":"INDEX(S$4:S$89,MATCH($AO86,$AI$4:$AI$89,0))","v":"Good"},{"$f":"INDEX(T$4:T$89,MATCH($AO86,$AI$4:$AI$89,0))","v":"Good"},{"$f":"INDEX(U$4:U$89,MATCH($AO86,$AI$4:$AI$89,0))","v":"Excellent"},7.2222222222222223]
[null,3]
[43,3,"Single Point ","E-W",null,null,null,null,null,null,null,null,null,null,null,null,null,null,{"$f":"MMDataComp!AG48","v":"Good"},{"$f":"MMDataComp!AH48","v":"Good"},{"$f":"MMDataComp!AI48","v":"Excellent"},{"$f":"MMDataComp!AJ48","v":7.2222222222222223},{"$f":"'4a - Detailed Results'!BH130","v":0.22},null,null,null,null,null,null,{"$f":"'4a - Detailed Results'!BY130","v":true},{"$f":"AND(Summary_Include_Interchange,Summary_Include_SPUI)","v":true},{"$f":"IF(AND(AD88,AE88),1,0)","v":1},{"$f":"C88 & IF(ISBLANK(D88),\"\",\" \" & D88)","v":"Single Point  E-W"},{"$f":"IF(AND(AD88,AE88),W88,1000000)","v":0.22},{"$f":"AH88+0.001*COUNTIF(AH$3:$AI87,AH88)","v":0.223},null,{"$f":"SMALL($AH$4:$AH$89,A88)","v":1000000},{"$f":"SMALL($AI$4:$AI$89,A88)","v":1000000.002},{"$f":"COUNTIF($AP$4:$AP$89,AP88)","v":1},0,{"$f":"AL88+0.00001*AN88","v":1000000.002},{"$f":"RANK(AO88,$AI$4:$AI$89,1)","v":43},{"$f":"INDEX($C$4:$C$89,MATCH(AO88,$AI$4:$AI$89,0))","v":"3 X 3"},{"$f":"INDEX($B$4:$B$89,MATCH(AO88,$AI$4:$AI$89,0))","v":2},{"$f":"IF(AR88=1,$AZ$4,IF(AR88=2,$AZ$5,$AZ$6))","v":"(RAB)"},{"$f":"INDEX(S$4:S$89,MATCH($AO88,$AI$4:$AI$89,0))","v":"Fair"},{"$f":"INDEX(T$4:T$89,MATCH($AO88,$AI$4:$AI$89,0))","v":"Good"},{"$f":"INDEX(U$4:U$89,MATCH($AO88,$AI$4:$AI$89,0))","v":"Excellent"},5.5555555555555554]
[null,3]
[null,null,null,null,null,null,null,null,null,null,null,null,null,null,null,null,null,null,null,null,null,null,null,null,null,null,null,null,null,null,null,{"$f":"SUM(AF4:AF89)","v":41}]

{"sheet":"4b - Summary Results","index":11,"n_rows":32,"n_cols":65,"rows_kept":32,"cut":false,"hidden":false,"merged":[[31,1,32,43],[0,0,1,64],[2,0,3,64],[26,0,27,0],[28,0,29,0],[6,0,9,0],[12,0,13,0],[24,0,25,0],[14,0,15,0],[10,0,11,0],[16,0,17,0],[18,0,19,0],[20,0,21,0],[22,0,23,0],[6,20,9,26],[6,35,9,42],[6,1,9,19],[10,1,11,19],[12,1,13,19],[14,1,15,19],[16,1,17,19],[12,20,13,26],[10,20,11,26],[14,20,15,26],[6,43,9,50],[18,1,19,19],[18,20,19,26],[18,35,19,42],[16,51,17,58],[18,43,19,50],[18,51,19,58],[16,20,17,26],[16,35,17,42],[16,43,17,50],[12,35,13,42],[12,43,13,50],[12,51,13,58],[10,51,11,58],[10,35,11,42],[10,43,11,50],[6,27,8,30],[10,27,11,30],[12,27,13,30],[14,27,15,30],[16,27,17,30],[18,27,19,30],[6,31,8,34],[10,31,11,34],[28,1,29,19],[28,20,29,26],[20,35,21,42],[24,1,25,19],[24,20,25,26],[26,1,27,19],[26,20,27,26],[28,35,29,42],[20,1,21,19],[20,20,21,26],[22,1,23,19],[22,20,23,26],[22,35,23,42],[20,27,21,30],[22,27,23,30],[24,27,25,30],[26,27,27,30],[28,27,29,30],[6,62,6,64],[7,62,7,64],[8,62,8,64],[9,62,9,64],[14,51,15,58],[28,43,29,50],[28,51,29,58],[24,35,25,42],[24,43,25,50],[24,51,25,58],[26,35,27,42],[26,43,27,50],[26,51,27,58],[14,43,15,50],[20,43,21,50],[20,51,21,58],[22,43,23,50],[22,51,23,58],[6,51,9,58],[14,35,15,42],[15,62,15,64],[16,62,16,64],[17,62,17,64],[18,62,18,64],[19,62,19,64],[10,62,10,64],[11,62,11,64],[12,62,12,64],[13,62,13,64],[14,62,14,64],[30,62,30,64],[25,62,25,64],[26,62,26,64],[27,62,27,64],[28,62,28,64],[29,62,29,64],[20,62,20,64],[21,62,21,64],[22,62,22,64],[23,62,23,64],[24,62,24,64],[12,31,13,34],[14,31,15,34],[16,31,17,34],[18,31,19,34],[20,31,21,34],[22,31,23,34],[24,31,25,34],[26,31,27,34],[28,31,29,34]]}
["Capacity Analysis for Planning of Junctions"]
[]
["Dynamic Results Summary"]
[]
[]
[null,null,null,null,null,null,null,null,null,null,null,null,null,null,null,null,null,null,null,null,null,null,null,null,null,null,null,null,null,null,null,null,null,null,null,null,null,null,null,null,null,null,null,null,null,null,null,null,null,null,null,null,null,null,null,null,null,null,null,null,null,null,null,"Yes","No"]
[null,"TYPE OF INTERSECTION",null,null,null,null,null,null,null,null,null,null,null,null,null,null,null,null,null,null,"Overall V/C Ratio ",null,null,null,null,null,null,"V/C Ranking",null,null,null,"Multimodal Score",null,null,null,"Pedestrian Accommodations",null,null,null,null,null,null,null,"Bicycle Accommodations",null,null,null,null,null,null,null,"Transit Accommodations"]
[null,null,null,null,null,null,null,null,null,null,null,null,null,null,null,null,null,null,null,null,null,null,null,null,null,null,null,null,null,null,null,null,null,null,null,null,null,null,null,null,null,null,null,null,null,null,null,null,null,null,null,null,null,null,null,null,null,null,null,{"$f":"IF(BJ8=$BL$6,TRUE,FALSE)","v":false}]
[]
[null,null,null,null,null,null,null,null,null,null,null,null,null,null,null,null,null,null,null,null,null,null,null,null,null,null,null,null,null,null,null,null,null,null,null,null,null,null,null,null,null,null,null,null,null,null,null,null,null,null,null,null,null,null,null,null,null,null,null,false]
[null,{"$f":"IF(ISNUMBER(U11),SumComp!AQ4,\"--\")","v":"Partial Cloverleaf B E-W"},null,null,null,null,null,null,null,null,null,null,null,null,null,null,null,null,null,null,{"$f":"IF(SumComp!AK4<1000000,SumComp!AK4,\"--\")","v":0.09},null,null,null,null,null,null,{"$f":"IF(ISNUMBER(U11),RANK(U11,$U$11:$AA$30,1),\"--\")","v":1},null,null,null,{"$f":"IF(ISNUMBER($U11),SumComp!AW4,\"--\")","v":4.4444444444444446},null,null,null,{"$f":"IF(ISNUMBER($U11),SumComp!AT4,\"--\")","v":"Fair"},null,null,null,null,null,null,null,{"$f":"IF(ISNUMBER($U11),SumComp!AU4,\"--\")","v":"Fair"},null,null,null,null,null,null,null,{"$f":"IF(ISNUMBER($U11),SumComp!AV4,\"--\")","v":"Excellent"}]
[]
[null,{"$f":"IF(ISNUMBER(U13),SumComp!AQ6,\"--\")","v":"Partial Cloverleaf A E-W"},null,null,null,null,null,null,null,null,null,null,null,null,null,null,null,null,null,null,{"$f":"IF(SumComp!AK6<1000000,SumComp!AK6,\"--\")","v":0.12},null,null,null,null,null,null,{"$f":"IF(ISNUMBER(U13),RANK(U13,$U$11:$AA$30,1),\"--\")","v":2},null,null,null,{"$f":"IF(ISNUMBER($U13),SumComp!AW6,\"--\")","v":4.4444444444444446},null,null,null,{"$f":"IF(ISNUMBER($U13),SumComp!AT6,\"--\")","v":"Fair"},null,null,null,null,null,null,null,{"$f":"IF(ISNUMBER($U13),SumComp!AU6,\"--\")","v":"Fair"},null,null,null,null,null,null,null,{"$f":"IF(ISNUMBER($U13),SumComp!AV6,\"--\")","v":"Excellent"}]
[]
[null,{"$f":"IF(ISNUMBER(U15),SumComp!AQ8,\"--\")","v":"Continuous Green T N"},null,null,null,null,null,null,null,null,null,null,null,null,null,null,null,null,null,null,{"$f":"IF(SumComp!AK8<1000000,SumComp!AK8,\"--\")","v":0.14000000000000001},null,null,null,null,null,null,{"$f":"IF(ISNUMBER(U15),RANK(U15,$U$11:$AA$30,1),\"--\")","v":3},null,null,null,{"$f":"IF(ISNUMBER($U15),SumComp!AW8,\"--\")","v":4.4444444444444446},null,null,null,{"$f":"IF(ISNUMBER($U15),SumComp!AT8,\"--\")","v":"Fair"},null,null,null,null,null,null,null,{"$f":"IF(ISNUMBER($U15),SumComp!AU8,\"--\")","v":"Fair"},null,null,null,null,null,null,null,{"$f":"IF(ISNUMBER($U15),SumComp!AV8,\"--\")","v":"Excellent"}]
[]
[null,{"$f":"IF(ISNUMBER(U17),SumComp!AQ10,\"--\")","v":"Continuous Green T S"},null,null,null,null,null,null,null,null,null,null,null,null,null,null,null,null,null,null,{"$f":"IF(SumComp!AK10<1000000,SumComp!AK10,\"--\")","v":0.14000000000000001},null,null,null,null,null,null,{"$f":"IF(ISNUMBER(U17),RANK(U17,$U$11:$AA$30,1),\"--\")","v":3},null,null,null,{"$f":"IF(ISNUMBER($U17),SumComp!AW10,\"--\")","v":4.4444444444444446},null,null,null,{"$f":"IF(ISNUMBER($U17),SumComp!AT10,\"--\")","v":"Fair"},null,null,null,null,null,null,null,{"$f":"IF(ISNUMBER($U17),SumComp!AU10,\"--\")","v":"Fair"},null,null,null,null,null,null,null,{"$f":"IF(ISNUMBER($U17),SumComp!AV10,\"--\")","v":"Excellent"}]
[]
[null,{"$f":"IF(ISNUMBER(U19),SumComp!AQ12,\"--\")","v":"Partial Cloverleaf A N-S"},null,null,null,null,null,null,null,null,null,null,null,null,null,null,null,null,null,null,{"$f":"IF(SumComp!AK12<1000000,SumComp!AK12,\"--\")","v":0.19},null,null,null,null,null,null,{"$f":"IF(ISNUMBER(U19),RANK(U19,$U$11:$AA$30,1),\"--\")","v":5},null,null,null,{"$f":"IF(ISNUMBER($U19),SumComp!AW12,\"--\")","v":4.4444444444444446},null,null,null,{"$f":"IF(ISNUMBER($U19),SumComp!AT12,\"--\")","v":"Fair"},null,null,null,null,null,null,null,{"$f":"IF(ISNUMBER($U19),SumComp!AU12,\"--\")","v":"Fair"},null,null,null,null,null,null,null,{"$f":"IF(ISNUMBER($U19),SumComp!AV12,\"--\")","v":"Excellent"}]
[]
[null,{"$f":"IF(ISNUMBER(U21),SumComp!AQ14,\"--\")","v":"Displaced Left Turn"},null,null,null,null,null,null,null,null,null,null,null,null,null,null,null,null,null,null,{"$f":"IF(SumComp!AK14<1000000,SumComp!AK14,\"--\")","v":0.21},null,null,null,null,null,null,{"$f":"IF(ISNUMBER(U21),RANK(U21,$U$11:$AA$30,1),\"--\")","v":6},null,null,null,{"$f":"IF(ISNUMBER($U21),SumComp!AW14,\"--\")","v":7.2222222222222223},null,null,null,{"$f":"IF(ISNUMBER($U21),SumComp!AT14,\"--\")","v":"Good"},null,null,null,null,null,null,null,{"$f":"IF(ISNUMBER($U21),SumComp!AU14,\"--\")","v":"Good"},null,null,null,null,null,null,null,{"$f":"IF(ISNUMBER($U21),SumComp!AV14,\"--\")","v":"Excellent"}]
[]
[null,{"$f":"IF(ISNUMBER(U23),SumComp!AQ16,\"--\")","v":"Partial Displaced Left Turn N-S"},null,null,null,null,null,null,null,null,null,null,null,null,null,null,null,null,null,null,{"$f":"IF(SumComp!AK16<1000000,SumComp!AK16,\"--\")","v":0.22},null,null,null,null,null,null,{"$f":"IF(ISNUMBER(U23),RANK(U23,$U$11:$AA$30,1),\"--\")","v":7},null,null,null,{"$f":"IF(ISNUMBER($U23),SumComp!AW16,\"--\")","v":7.2222222222222223},null,null,null,{"$f":"IF(ISNUMBER($U23),SumComp!AT16,\"--\")","v":"Good"},null,null,null,null,null,null,null,{"$f":"IF(ISNUMBER($U23),SumComp!AU16,\"--\")","v":"Good"},null,null,null,null,null,null,null,{"$f":"IF(ISNUMBER($U23),SumComp!AV16,\"--\")","v":"Excellent"}]
[]
[null,{"$f":"IF(ISNUMBER(U25),SumComp!AQ18,\"--\")","v":"Diverging Diamond Interchange E-W"},null,null,null,null,null,null,null,null,null,null,null,null,null,null,null,null,null,null,{"$f":"IF(SumComp!AK18<1000000,SumComp!AK18,\"--\")","v":0.22},null,null,null,null,null,null,{"$f":"IF(ISNUMBER(U25),RANK(U25,$U$11:$AA$30,1),\"--\")","v":7},null,null,null,{"$f":"IF(ISNUMBER($U25),SumComp!AW18,\"--\")","v":10},null,null,null,{"$f":"IF(ISNUMBER($U25),SumComp!AT18,\"--\")","v":"Excellent"},null,null,null,null,null,null,null,{"$f":"IF(ISNUMBER($U25),SumComp!AU18,\"--\")","v":"Excellent"},null,null,null,null,null,null,null,{"$f":"IF(ISNUMBER($U25),SumComp!AV18,\"--\")","v":"Excellent"}]
[]
[null,{"$f":"IF(ISNUMBER(U27),SumComp!AQ20,\"--\")","v":"Single Point  E-W"},null,null,null,null,null,null,null,null,null,null,null,null,null,null,null,null,null,null,{"$f":"IF(SumComp!AK20<1000000,SumComp!AK20,\"--\")","v":0.22},null,null,null,null,null,null,{"$f":"IF(ISNUMBER(U27),RANK(U27,$U$11:$AA$30,1),\"--\")","v":7},null,null,null,{"$f":"IF(ISNUMBER($U27),SumComp!AW20,\"--\")","v":7.2222222222222223},null,null,null,{"$f":"IF(ISNUMBER($U27),SumComp!AT20,\"--\")","v":"Good"},null,null,null,null,null,null,null,{"$f":"IF(ISNUMBER($U27),SumComp!AU20,\"--\")","v":"Good"},null,null,null,null,null,null,null,{"$f":"IF(ISNUMBER($U27),SumComp!AV20,\"--\")","v":"Excellent"}]
[]
[null,{"$f":"IF(ISNUMBER(U29),SumComp!AQ22,\"--\")","v":"Continuous Green T W"},null,null,null,null,null,null,null,null,null,null,null,null,null,null,null,null,null,null,{"$f":"IF(SumComp!AK22<1000000,SumComp!AK22,\"--\")","v":0.23},null,null,null,null,null,null,{"$f":"IF(ISNUMBER(U29),RANK(U29,$U$11:$AA$30,1),\"--\")","v":10},null,null,null,{"$f":"IF(ISNUMBER($U29),SumComp!AW22,\"--\")","v":4.4444444444444446},null,null,null,{"$f":"IF(ISNUMBER($U29),SumComp!AT22,\"--\")","v":"Fair"},null,null,null,null,null,null,null,{"$f":"IF(ISNUMBER($U29),SumComp!AU22,\"--\")","v":"Fair"},null,null,null,null,null,null,null,{"$f":"IF(ISNUMBER($U29),SumComp!AV22,\"--\")","v":"Excellent"}]
[]
[]
[null,"Use the \"yes/no\" drop-down menus in Step 2 (Base and Alt Selection) to exclude intersection types from summary rankings, if they are not applicable."]

{"sheet":"5a - Summary Report","index":12,"n_rows":89,"n_cols":69,"rows_kept":89,"cut":false,"hidden":false,"merged":[[66,30,69,36],[66,2,69,29],[70,30,71,36],[88,30,89,36],[84,30,85,36],[82,30,83,36],[80,30,81,36],[76,30,77,36],[72,30,73,36],[74,30,75,36],[86,30,87,36],[78,30,79,36],[78,2,79,29],[80,2,81,29],[82,2,83,29],[84,2,85,29],[86,2,87,29],[54,31,55,45],[54,46,55,57],[54,58,55,69],[58,1,59,78],[60,1,61,78],[48,16,49,33],[48,34,49,45],[48,46,49,57],[48,58,49,69],[50,16,55,30],[50,31,51,45],[50,46,51,57],[50,58,51,69],[52,31,53,45],[52,46,53,57],[52,58,53,69],[42,16,43,45],[42,46,43,57],[42,58,43,69],[44,16,45,33],[44,34,45,69],[46,16,47,33],[46,34,47,45],[46,46,47,57],[46,58,47,69],[38,62,39,69],[40,16,41,21],[40,22,41,29],[40,30,41,37],[40,38,41,45],[40,46,41,53],[40,54,41,61],[40,62,41,69],[38,16,39,21],[38,22,39,29],[38,30,39,37],[38,38,39,45],[38,46,39,53],[38,54,39,61],[34,62,35,69],[36,16,37,21],[36,22,37,29],[36,30,37,37],[36,38,37,45],[36,46,37,53],[36,54,37,61],[36,62,37,69],[34,16,35,21],[34,22,35,29],[34,30,35,37],[34,38,35,45],[34,46,35,53],[34,54,35,61],[0,1,1,78],[2,1,3,78],[24,54,29,61],[24,62,29,69],[26,22,29,29],[26,30,29,37],[26,38,29,45],[26,46,29,53],[16,16,17,32],[16,33,17,69],[20,16,21,69],[22,16,29,21],[22,22,23,53],[22,54,23,69],[24,22,25,29],[24,30,25,37],[24,38,25,45],[24,46,25,53],[6,16,7,32],[6,33,7,69],[8,16,9,32],[8,33,9,69],[10,16,11,32],[10,33,11,69],[12,16,13,32],[12,33,13,69],[14,16,15,32],[14,33,15,69],[30,62,31,69],[32,16,33,21],[32,22,33,29],[32,30,33,37],[32,38,33,45],[32,46,33,53],[32,54,33,61],[32,62,33,69],[30,16,31,21],[30,22,31,29],[30,30,31,37],[30,38,31,45],[30,46,31,53],[30,54,31,61],[66,43,69,49],[70,43,71,49],[72,43,73,49],[74,43,75,49],[76,43,77,49],[78,43,79,49],[80,43,81,49],[82,43,83,49],[88,2,89,29],[66,37,69,42],[70,37,71,42],[72,37,73,42],[74,37,75,42],[76,37,77,42],[78,37,79,42],[80,37,81,42],[82,37,83,42],[84,37,85,42],[86,37,87,42],[88,37,89,42],[70,2,71,29],[72,2,73,29],[74,2,75,29],[76,2,77,29],[84,43,85,49],[86,43,87,49],[88,43,89,49],[66,50,69,58],[70,50,71,58],[66,59,69,67],[70,59,71,67],[72,50,73,58],[72,59,73,67],[74,50,75,58],[76,50,77,58],[78,50,79,58],[80,50,81,58],[82,50,83,58],[84,50,85,58],[86,50,87,58],[88,50,89,58],[74,59,75,67],[76,59,77,67],[78,59,79,67],[80,59,81,67],[82,59,83,67],[84,59,85,67],[86,59,87,67],[88,59,89,67],[66,68,69,76],[70,68,71,76],[72,68,73,76],[74,68,75,76],[76,68,77,76],[78,68,79,76],[80,68,81,76],[82,68,83,76],[86,68,87,76],[84,68,85,76],[88,68,89,76]]}
[null,"Capacity Analysis for Planning of Junctions"]
[]
[null,"Summary Report - Page 1 of 2"]
[]
[]
[]
[null,null,null,null,null,null,null,null,null,null,null,null,null,null,null,null,"Project Name:",null,null,null,null,null,null,null,null,null,null,null,null,null,null,null,null,{"$f":"P_Name","v":"Cap-X Sample Street"}]
[]
[null,null,null,null,null,null,null,null,null,null,null,null,null,null,null,null,"Project Number:",null,null,null,null,null,null,null,null,null,null,null,null,null,null,null,null,{"$f":"P_Number","v":10000}]
[]
[null,null,null,null,null,null,null,null,null,null,null,null,null,null,null,null,"Location:",null,null,null,null,null,null,null,null,null,null,null,null,null,null,null,null,{"$f":"Location","v":"Tallahassee, FL"}]
[]
[null,null,null,null,null,null,null,null,null,null,null,null,null,null,null,null,"Date:",null,null,null,null,null,null,null,null,null,null,null,null,null,null,null,null,{"$f":"Date","v":"2017 AM"}]
[]
[null,null,null,null,null,null,null,null,null,null,null,null,null,null,null,null,"Number of Intersection Legs:",null,null,null,null,null,null,null,null,null,null,null,null,null,null,null,null,{"$f":"IF(Input_NumLegs=0,\"\",Input_NumLegs)","v":""}]
[]
[null,null,null,null,null,null,null,null,null,null,null,null,null,null,null,null,{"$f":"'2 - Base and Alt Sel'!D14","v":"Major Street Direction"},null,null,null,null,null,null,null,null,null,null,null,null,null,null,null,null,{"$f":"'2 - Base and Alt Sel'!L14","v":"East-West"}]
[]
[]
[]
[null,null,null,null,null,null,null,null,null,null,null,null,null,null,null,null,"Traffic Volume Demand"]
[]
[null,null,null,null,null,null,null,null,null,null,null,null,null,null,null,null,null,null,null,null,null,null,"Volume (Veh/hr)",null,null,null,null,null,null,null,null,null,null,null,null,null,null,null,null,null,null,null,null,null,null,null,null,null,null,null,null,null,null,null,"Percent (%)"]
[]
[null,null,null,null,null,null,null,null,null,null,null,null,null,null,null,null,null,null,null,null,null,null,"U-Turn",null,null,null,null,null,null,null,"Left",null,null,null,null,null,null,null,"Thru",null,null,null,null,null,null,null,"Right",null,null,null,null,null,null,null,"Heavy Vehicles",null,null,null,null,null,null,null,"Volume Growth"]
[]
[]
[]
[]
[]
[null,null,null,null,null,null,null,null,null,null,null,null,null,null,null,null,"Eastbound",null,null,null,null,null,{"$f":"'1 - Volume Input'!K32","v":0},null,null,null,null,null,null,null,{"$f":"'1 - Volume Input'!S32","v":30},null,null,null,null,null,null,null,{"$f":"'1 - Volume Input'!AA32","v":200},null,null,null,null,null,null,null,{"$f":"'1 - Volume Input'!AI32","v":50},null,null,null,null,null,null,null,{"$f":"EB_Truck_Percentage","v":0.02},null,null,null,null,null,null,null,{"$f":"EB_Growth_Factor","v":0}]
[]
[null,null,null,null,null,null,null,null,null,null,null,null,null,null,null,null,"Westbound",null,null,null,null,null,{"$f":"'1 - Volume Input'!K34","v":0},null,null,null,null,null,null,null,{"$f":"'1 - Volume Input'!S34","v":30},null,null,null,null,null,null,null,{"$f":"'1 - Volume Input'!AA34","v":200},null,null,null,null,null,null,null,{"$f":"'1 - Volume Input'!AI34","v":50},null,null,null,null,null,null,null,{"$f":"WB_Truck_Percentage","v":0.02},null,null,null,null,null,null,null,{"$f":"WB_Growth_Factor","v":0}]
[]
[null,null,null,null,null,null,null,null,null,null,null,null,null,null,null,null,"Southbound",null,null,null,null,null,{"$f":"'1 - Volume Input'!K36","v":0},null,null,null,null,null,null,null,{"$f":"'1 - Volume Input'!S36","v":100},null,null,null,null,null,null,null,{"$f":"'1 - Volume Input'!AA36","v":500},null,null,null,null,null,null,null,{"$f":"'1 - Volume Input'!AI36","v":200},null,null,null,null,null,null,null,{"$f":"SB_Truck_Percentage","v":0.02},null,null,null,null,null,null,null,{"$f":"SB_Growth_Factor","v":0}]
[]
[null,null,null,null,null,null,null,null,null,null,null,null,null,null,null,null,"Northbound",null,null,null,null,null,{"$f":"'1 - Volume Input'!K38","v":0},null,null,null,null,null,null,null,{"$f":"'1 - Volume Input'!S38","v":100},null,null,null,null,null,null,null,{"$f":"'1 - Volume Input'!AA38","v":500},null,null,null,null,null,null,null,{"$f":"'1 - Volume Input'!AI38","v":200},null,null,null,null,null,null,null,{"$f":"NB_Truck_Percentage","v":0.02},null,null,null,null,null,null,null,{"$f":"NB_Growth_Factor","v":0}]
[]
[null,null,null,null,null,null,null,null,null,null,null,null,null,null,null,null,"Adjustment Factor",null,null,null,null,null,{"$f":"UTAF","v":0.8},null,null,null,null,null,null,null,{"$f":"LTAF","v":0.95},null,null,null,null,null,null,null,null,null,null,null,null,null,null,null,{"$f":"RTAF","v":0.85}]
[]
[null,null,null,null,null,null,null,null,null,null,null,null,null,null,null,null,"Suggested",null,null,null,null,null,0.8,null,null,null,null,null,null,null,0.95,null,null,null,null,null,null,null,null,null,null,null,null,null,null,null,0.85]
[]
[null,null,null,null,null,null,null,null,null,null,null,null,null,null,null,null,"Truck to PCE Factor ",null,null,null,null,null,null,null,null,null,null,null,null,null,null,null,null,null,null,null,null,null,null,null,null,null,null,null,null,null,"Suggested = 2.00",null,null,null,null,null,null,null,null,null,null,null,{"$f":"'1 - Volume Input'!AU44","v":2}]
[]
[null,null,null,null,null,null,null,null,null,null,null,null,null,null,null,null,"FDOT Context Zone",null,null,null,null,null,null,null,null,null,null,null,null,null,null,null,null,null,{"$f":"'1 - Volume Input'!W46","v":"C2-Rural"}]
[]
[null,null,null,null,null,null,null,null,null,null,null,null,null,null,null,null,"E-W / Crossing East-West Legs",null,null,null,null,null,null,null,null,null,null,null,null,null,null,null,null,null,"Low",null,null,null,null,null,null,null,null,null,null,null,"Low",null,null,null,null,null,null,null,null,null,null,null,"Low"]
[]
[null,null,null,null,null,null,null,null,null,null,null,null,null,null,null,null,"N-S / Crossing North-South Legs",null,null,null,null,null,null,null,null,null,null,null,null,null,null,null,null,null,"Low",null,null,null,null,null,null,null,null,null,null,null,"Low",null,null,null,null,null,null,null,null,null,null,null,"Low"]
[]
[null,null,null,null,null,null,null,null,null,null,null,null,null,null,null,null,"Critical Lane Volume Threshold",null,null,null,null,null,null,null,null,null,null,null,null,null,null,"2-phase signal",null,null,null,null,null,null,null,null,null,null,null,null,null,null,"Suggested = 1800",null,null,null,null,null,null,null,null,null,null,null,{"$f":"CLV_Limit_2","v":1800}]
[]
[null,null,null,null,null,null,null,null,null,null,null,null,null,null,null,null,null,null,null,null,null,null,null,null,null,null,null,null,null,null,null,"3-phase signal",null,null,null,null,null,null,null,null,null,null,null,null,null,null,"Suggested = 1750",null,null,null,null,null,null,null,null,null,null,null,{"$f":"CLV_Limit_3","v":1750}]
[]
[null,null,null,null,null,null,null,null,null,null,null,null,null,null,null,null,null,null,null,null,null,null,null,null,null,null,null,null,null,null,null,"4-phase signal",null,null,null,null,null,null,null,null,null,null,null,null,null,null,"Suggested = 1700",null,null,null,null,null,null,null,null,null,null,null,{"$f":"CLV_Limit_4","v":1700}]
[]
[]
[]
[null,"Capacity Analysis for Planning of Junctions"]
[]
[null,"Summary Report - Page 2 of 2"]
[]
[]
[]
[]
[]
[null,null,"TYPE OF INTERSECTION",null,null,null,null,null,null,null,null,null,null,null,null,null,null,null,null,null,null,null,null,null,null,null,null,null,null,null,"Overall v/c Ratio ",null,null,null,null,null,null,"V/C Ranking",null,null,null,null,null,"Multimodal Score",null,null,null,null,null,null,"Pedestrian Accommodations",null,null,null,null,null,null,null,null,"Bicycle Accommodations",null,null,null,null,null,null,null,null,"Transit Accommodations"]
[]
[]
[]
[null,null,{"$f":"'4b - Summary Results'!B11","v":"Partial Cloverleaf B E-W"},null,null,null,null,null,null,null,null,null,null,null,null,null,null,null,null,null,null,null,null,null,null,null,null,null,null,null,{"$f":"'4b - Summary Results'!U11","v":0.09},null,null,null,null,null,null,{"$f":"'4b - Summary Results'!AB11","v":1},null,null,null,null,null,{"$f":"'4b - Summary Results'!AF11","v":4.4444444444444446},null,null,null,null,null,null,{"$f":"'4b - Summary Results'!AJ11","v":"Fair"},null,null,null,null,null,null,null,null,{"$f":"'4b - Summary Results'!AR11","v":"Fair"},null,null,null,null,null,null,null,null,{"$f":"'4b - Summary Results'!AZ11","v":"Excellent"}]
[]
[null,null,{"$f":"'4b - Summary Results'!B13","v":"Partial Cloverleaf A E-W"},null,null,null,null,null,null,null,null,null,null,null,null,null,null,null,null,null,null,null,null,null,null,null,null,null,null,null,{"$f":"'4b - Summary Results'!U13","v":0.12},null,null,null,null,null,null,{"$f":"'4b - Summary Results'!AB13","v":2},null,null,null,null,null,{"$f":"'4b - Summary Results'!AF13","v":4.4444444444444446},null,null,null,null,null,null,{"$f":"'4b - Summary Results'!AJ13","v":"Fair"},null,null,null,null,null,null,null,null,{"$f":"'4b - Summary Results'!AR13","v":"Fair"},null,null,null,null,null,null,null,null,{"$f":"'4b - Summary Results'!AZ13","v":"Excellent"}]
[]
[null,null,{"$f":"'4b - Summary Results'!B15","v":"Continuous Green T N"},null,null,null,null,null,null,null,null,null,null,null,null,null,null,null,null,null,null,null,null,null,null,null,null,null,null,null,{"$f":"'4b - Summary Results'!U15","v":0.14000000000000001},null,null,null,null,null,null,{"$f":"'4b - Summary Results'!AB15","v":3},null,null,null,null,null,{"$f":"'4b - Summary Results'!AF15","v":4.4444444444444446},null,null,null,null,null,null,{"$f":"'4b - Summary Results'!AJ15","v":"Fair"},null,null,null,null,null,null,null,null,{"$f":"'4b - Summary Results'!AR15","v":"Fair"},null,null,null,null,null,null,null,null,{"$f":"'4b - Summary Results'!AZ15","v":"Excellent"}]
[]
[null,null,{"$f":"'4b - Summary Results'!B17","v":"Continuous Green T S"},null,null,null,null,null,null,null,null,null,null,null,null,null,null,null,null,null,null,null,null,null,null,null,null,null,null,null,{"$f":"'4b - Summary Results'!U17","v":0.14000000000000001},null,null,null,null,null,null,{"$f":"'4b - Summary Results'!AB17","v":3},null,null,null,null,null,{"$f":"'4b - Summary Results'!AF17","v":4.4444444444444446},null,null,null,null,null,null,{"$f":"'4b - Summary Results'!AJ17","v":"Fair"},null,null,null,null,null,null,null,null,{"$f":"'4b - Summary Results'!AR17","v":"Fair"},null,null,null,null,null,null,null,null,{"$f":"'4b - Summary Results'!AZ17","v":"Excellent"}]
[]
[null,null,{"$f":"'4b - Summary Results'!B19","v":"Partial Cloverleaf A N-S"},null,null,null,null,null,null,null,null,null,null,null,null,null,null,null,null,null,null,null,null,null,null,null,null,null,null,null,{"$f":"'4b - Summary Results'!U19","v":0.19},null,null,null,null,null,null,{"$f":"'4b - Summary Results'!AB19","v":5},null,null,null,null,null,{"$f":"'4b - Summary Results'!AF19","v":4.4444444444444446},null,null,null,null,null,null,{"$f":"'4b - Summary Results'!AJ19","v":"Fair"},null,null,null,null,null,null,null,null,{"$f":"'4b - Summary Results'!AR19","v":"Fair"},null,null,null,null,null,null,null,null,{"$f":"'4b - Summary Results'!AZ19","v":"Excellent"}]
[]
[null,null,{"$f":"'4b - Summary Results'!B21","v":"Displaced Left Turn"},null,null,null,null,null,null,null,null,null,null,null,null,null,null,null,null,null,null,null,null,null,null,null,null,null,null,null,{"$f":"'4b - Summary Results'!U21","v":0.21},null,null,null,null,null,null,{"$f":"'4b - Summary Results'!AB21","v":6},null,null,null,null,null,{"$f":"'4b - Summary Results'!AF21","v":7.2222222222222223},null,null,null,null,null,null,{"$f":"'4b - Summary Results'!AJ21","v":"Good"},null,null,null,null,null,null,null,null,{"$f":"'4b - Summary Results'!AR21","v":"Good"},null,null,null,null,null,null,null,null,{"$f":"'4b - Summary Results'!AZ21","v":"Excellent"}]
[]
[null,null,{"$f":"'4b - Summary Results'!B23","v":"Partial Displaced Left Turn N-S"},null,null,null,null,null,null,null,null,null,null,null,null,null,null,null,null,null,null,null,null,null,null,null,null,null,null,null,{"$f":"'4b - Summary Results'!U23","v":0.22},null,null,null,null,null,null,{"$f":"'4b - Summary Results'!AB23","v":7},null,null,null,null,null,{"$f":"'4b - Summary Results'!AF23","v":7.2222222222222223},null,null,null,null,null,null,{"$f":"'4b - Summary Results'!AJ23","v":"Good"},null,null,null,null,null,null,null,null,{"$f":"'4b - Summary Results'!AR23","v":"Good"},null,null,null,null,null,null,null,null,{"$f":"'4b - Summary Results'!AZ23","v":"Excellent"}]
[]
[null,null,{"$f":"'4b - Summary Results'!B25","v":"Diverging Diamond Interchange E-W"},null,null,null,null,null,null,null,null,null,null,null,null,null,null,null,null,null,null,null,null,null,null,null,null,null,null,null,{"$f":"'4b - Summary Results'!U25","v":0.22},null,null,null,null,null,null,{"$f":"'4b - Summary Results'!AB25","v":7},null,null,null,null,null,{"$f":"'4b - Summary Results'!AF25","v":10},null,null,null,null,null,null,{"$f":"'4b - Summary Results'!AJ25","v":"Excellent"},null,null,null,null,null,null,null,null,{"$f":"'4b - Summary Results'!AR25","v":"Excellent"},null,null,null,null,null,null,null,null,{"$f":"'4b - Summary Results'!AZ25","v":"Excellent"}]
[]
[null,null,{"$f":"'4b - Summary Results'!B27","v":"Single Point  E-W"},null,null,null,null,null,null,null,null,null,null,null,null,null,null,null,null,null,null,null,null,null,null,null,null,null,null,null,{"$f":"'4b - Summary Results'!U27","v":0.22},null,null,null,null,null,null,{"$f":"'4b - Summary Results'!AB27","v":7},null,null,null,null,null,{"$f":"'4b - Summary Results'!AF27","v":7.2222222222222223},null,null,null,null,null,null,{"$f":"'4b - Summary Results'!AJ27","v":"Good"},null,null,null,null,null,null,null,null,{"$f":"'4b - Summary Results'!AR27","v":"Good"},null,null,null,null,null,null,null,null,{"$f":"'4b - Summary Results'!AZ27","v":"Excellent"}]
[]
[null,null,{"$f":"'4b - Summary Results'!B29","v":"Continuous Green T W"},null,null,null,null,null,null,null,null,null,null,null,null,null,null,null,null,null,null,null,null,null,null,null,null,null,null,null,{"$f":"'4b - Summary Results'!U29","v":0.23},null,null,null,null,null,null,{"$f":"'4b - Summary Results'!AB29","v":10},null,null,null,null,null,{"$f":"'4b - Summary Results'!AF29","v":4.4444444444444446},null,null,null,null,null,null,{"$f":"'4b - Summary Results'!AJ29","v":"Fair"},null,null,null,null,null,null,null,null,{"$f":"'4b - Summary Results'!AR29","v":"Fair"},null,null,null,null,null,null,null,null,{"$f":"'4b - Summary Results'!AZ29","v":"Excellent"}]

{"sheet":"5b - Detailed Report","index":13,"n_rows":269,"n_cols":77,"rows_kept":269,"cut":false,"hidden":false,"merged":[[200,23,201,28],[200,29,201,31],[200,32,201,34],[200,35,201,37],[200,38,201,40],[200,41,201,43],[200,44,201,46],[200,47,201,49],[200,50,201,52],[200,53,201,55],[200,56,201,58],[200,59,201,65],[200,66,201,69],[200,70,201,73],[200,74,201,75],[170,4,171,22],[170,23,171,28],[170,29,171,31],[170,32,171,34],[170,35,171,37],[170,38,171,40],[170,41,171,43],[170,44,171,46],[170,47,171,49],[170,50,171,52],[170,53,171,55],[170,56,171,58],[170,59,171,65],[170,66,171,69],[170,70,171,73],[170,74,171,75],[198,4,201,22],[198,23,199,28],[198,29,199,31],[198,32,199,34],[198,35,199,37],[198,38,199,40],[198,41,199,43],[198,44,199,46],[198,47,199,49],[198,50,199,52],[198,53,199,55],[198,56,199,58],[198,59,199,65],[198,66,199,69],[198,70,199,73],[198,74,199,75],[166,4,169,22],[166,23,167,28],[166,29,167,31],[166,32,167,34],[166,35,167,37],[166,38,167,40],[166,41,167,43],[166,44,167,46],[166,47,167,49],[166,50,167,52],[166,53,167,55],[166,56,167,58],[166,59,167,65],[166,66,167,69],[166,70,167,73],[166,74,167,75],[168,23,169,28],[168,29,169,31],[168,32,169,34],[168,35,169,37],[168,38,169,40],[168,41,169,43],[168,44,169,46],[168,47,169,49],[168,50,169,52],[168,53,169,55],[168,56,169,58],[168,59,169,65],[168,66,169,69],[168,70,169,73],[168,74,169,75],[78,68,79,69],[74,16,77,32],[78,16,79,32],[78,33,79,37],[78,38,79,39],[78,40,79,41],[78,42,79,43],[78,44,79,45],[78,46,79,47],[78,48,79,49],[78,50,79,51],[78,52,79,53],[78,54,79,55],[78,56,79,57],[78,58,79,59],[78,60,79,61],[78,62,79,63],[78,64,79,65],[78,66,79,67],[74,68,75,69],[76,33,77,37],[76,38,77,39],[76,40,77,41],[76,42,77,43],[76,44,77,45],[76,46,77,47],[76,48,77,49],[76,50,77,51],[76,52,77,53],[76,54,77,55],[76,56,77,57],[76,58,77,59],[76,60,77,61],[76,62,77,63],[76,64,77,65],[76,66,77,67],[76,68,77,69],[74,33,75,37],[74,38,75,39],[74,40,75,41],[74,42,75,43],[74,44,75,45],[74,46,75,47],[74,48,75,49],[74,50,75,51],[74,52,75,53],[74,54,75,55],[74,56,75,57],[74,58,75,59],[74,60,75,61],[74,62,75,63],[74,64,75,65],[74,66,75,67],[268,77,269,77],[268,41,269,43],[268,44,269,46],[268,47,269,49],[268,50,269,52],[268,53,269,55],[268,56,269,58],[266,74,267,75],[262,76,263,76],[262,77,263,77],[266,76,267,76],[266,77,267,77],[268,17,269,22],[268,23,269,25],[268,26,269,28],[268,29,269,31],[268,32,269,34],[268,35,269,37],[268,38,269,40],[266,50,267,52],[266,53,267,55],[266,56,267,58],[266,59,267,65],[266,66,267,69],[266,70,267,73],[266,32,267,34],[266,35,267,37],[266,38,267,40],[266,41,267,43],[266,4,269,16],[266,17,267,22],[266,23,267,25],[266,26,267,28],[266,29,267,31],[264,44,265,46],[264,47,265,49],[264,50,265,52],[264,53,265,55],[264,56,265,58],[264,59,265,65],[262,4,265,16],[268,59,269,65],[268,66,269,69],[268,70,269,73],[268,74,269,75],[268,76,269,76],[262,74,263,75],[262,35,263,37],[262,38,263,40],[262,41,263,43],[262,44,263,46],[262,47,263,49],[262,50,263,52],[262,17,263,22],[262,23,263,25],[262,26,263,28],[262,29,263,31],[262,32,263,34],[264,74,265,75],[264,17,265,22],[264,23,265,25],[264,77,265,77],[260,35,261,37],[260,38,261,40],[258,50,259,52],[258,53,259,55],[258,56,259,58],[258,59,259,65],[258,66,259,69],[258,70,259,73],[258,32,259,34],[258,35,259,37],[258,38,259,40],[258,41,259,43],[258,44,259,46],[258,47,259,49],[266,44,267,46],[266,47,267,49],[264,76,265,76],[264,26,265,28],[264,29,265,31],[264,32,265,34],[264,35,265,37],[264,38,265,40],[264,41,265,43],[262,53,263,55],[262,56,263,58],[262,59,263,65],[262,66,263,69],[262,70,263,73],[258,4,261,16],[258,17,259,22],[258,23,259,25],[258,26,259,28],[258,29,259,31],[264,66,265,69],[264,70,265,73],[256,44,257,46],[256,47,257,49],[256,50,257,52],[256,53,257,55],[256,56,257,58],[256,59,257,65],[260,59,261,65],[260,66,261,69],[260,70,261,73],[260,74,261,75],[260,76,261,76],[260,77,261,77],[260,41,261,43],[260,44,261,46],[260,47,261,49],[260,50,261,52],[260,53,261,55],[260,56,261,58],[258,74,259,75],[258,76,259,76],[254,4,257,16],[258,77,259,77],[260,17,261,22],[260,23,261,25],[260,26,261,28],[260,29,261,31],[260,32,261,34],[254,77,255,77],[256,17,257,22],[256,23,257,25],[256,26,257,28],[256,29,257,31],[256,32,257,34],[256,35,257,37],[256,38,257,40],[256,41,257,43],[254,53,255,55],[254,56,255,58],[254,59,255,65],[254,66,255,69],[254,70,255,73],[254,74,255,75],[254,35,255,37],[254,38,255,40],[254,41,255,43],[254,44,255,46],[254,47,255,49],[254,50,255,52],[254,17,255,22],[254,23,255,25],[254,26,255,28],[254,29,255,31],[254,32,255,34],[254,76,255,76],[256,66,257,69],[256,70,257,73],[256,74,257,75],[256,76,257,76],[256,77,257,77],[252,44,253,46],[252,47,253,49],[252,50,253,52],[252,53,253,55],[252,56,253,58],[252,59,253,65],[250,74,251,75],[250,76,251,76],[252,17,253,22],[252,23,253,25],[252,26,253,28],[252,29,253,31],[252,32,253,34],[252,35,253,37],[252,38,253,40],[252,41,253,43],[250,50,251,52],[250,53,251,55],[250,56,251,58],[250,59,251,65],[250,66,251,69],[250,70,251,73],[250,32,251,34],[250,35,251,37],[250,38,251,40],[250,41,251,43],[250,44,251,46],[250,47,251,49],[248,66,249,69],[248,70,249,73],[248,74,249,75],[248,76,249,76],[248,77,249,77],[250,4,253,16],[250,17,251,22],[250,23,251,25],[250,26,251,28],[250,29,251,31],[248,44,249,46],[248,47,249,49],[248,50,249,52],[248,53,249,55],[248,56,249,58],[248,59,249,65],[246,4,249,16],[252,66,253,69],[252,70,253,73],[252,74,253,75],[252,76,253,76],[246,76,247,76],[246,77,247,77],[248,17,249,22],[248,23,249,25],[248,26,249,28],[248,29,249,31],[248,32,249,34],[248,35,249,37],[248,38,249,40],[248,41,249,43],[246,53,247,55],[246,56,247,58],[246,59,247,65],[246,66,247,69],[246,70,247,73],[246,74,247,75],[246,35,247,37],[246,38,247,40],[246,41,247,43],[246,44,247,46],[246,47,247,49],[246,50,247,52],[246,17,247,22],[246,23,247,25],[246,26,247,28],[246,29,247,31],[246,32,247,34],[244,41,245,43],[244,44,245,46],[244,47,245,49],[244,50,245,52],[244,53,245,55],[244,56,245,58],[242,59,245,65],[242,66,245,69],[242,70,245,73],[242,74,245,75],[244,23,245,25],[244,26,245,28],[244,29,245,31],[244,32,245,34],[244,35,245,37],[244,38,245,40],[236,77,237,77],[240,4,241,75],[242,4,245,16],[242,17,245,22],[242,23,243,28],[242,29,243,34],[242,35,243,40],[242,41,243,46],[242,47,243,52],[242,53,243,58],[236,55,237,58],[236,59,237,65],[236,66,237,69],[236,70,237,73],[236,74,237,75],[236,76,237,76],[236,31,237,34],[236,35,237,38],[236,39,237,42],[236,43,237,46],[236,47,237,50],[236,51,237,54],[234,70,235,73],[234,74,235,75],[234,76,235,76],[234,77,235,77],[236,4,237,10],[236,11,237,14],[236,15,237,18],[236,19,237,22],[236,23,237,26],[236,27,237,30],[234,43,235,46],[234,47,235,50],[234,51,235,54],[234,55,235,58],[234,59,235,65],[234,66,235,69],[234,4,235,10],[234,11,235,14],[234,15,235,18],[234,19,235,22],[234,23,235,26],[234,27,235,30],[234,31,235,34],[234,35,235,38],[234,39,235,42],[232,31,233,34],[232,35,233,38],[232,39,233,42],[232,43,233,46],[232,47,233,50],[232,51,233,54],[230,70,231,73],[230,74,231,75],[230,76,231,76],[230,77,231,77],[232,4,233,10],[232,11,233,14],[232,15,233,18],[232,19,233,22],[232,23,233,26],[232,27,233,30],[230,43,231,46],[230,47,231,50],[230,51,231,54],[230,55,231,58],[230,59,231,65],[230,66,231,69],[230,4,231,10],[230,11,231,14],[230,15,231,18],[230,19,231,22],[230,23,231,26],[230,27,231,30],[230,31,231,34],[230,35,231,38],[230,39,231,42],[232,77,233,77],[228,43,229,46],[228,47,229,50],[228,51,229,54],[226,70,227,73],[226,74,227,75],[226,76,227,76],[226,77,227,77],[228,4,229,10],[228,11,229,14],[228,15,229,18],[228,19,229,22],[228,23,229,26],[228,27,229,30],[226,43,227,46],[226,47,227,50],[226,51,227,54],[226,55,227,58],[226,59,227,65],[226,66,227,69],[226,4,227,10],[226,11,227,14],[226,15,227,18],[226,19,227,22],[228,70,229,73],[228,74,229,75],[228,76,229,76],[228,31,229,34],[228,35,229,38],[228,39,229,42],[232,55,233,58],[232,59,233,65],[232,66,233,69],[232,70,233,73],[232,74,233,75],[232,76,233,76],[222,15,223,18],[222,19,223,22],[222,23,223,26],[222,27,223,30],[222,31,223,34],[226,23,227,26],[226,27,227,30],[226,31,227,34],[226,35,227,38],[226,39,227,42],[228,77,229,77],[224,55,225,58],[224,59,225,65],[224,66,225,69],[224,70,225,73],[224,74,225,75],[224,76,225,76],[224,31,225,34],[224,35,225,38],[224,39,225,42],[224,43,225,46],[224,47,225,50],[224,51,225,54],[228,55,229,58],[228,59,229,65],[228,66,229,69],[224,77,225,77],[212,1,213,78],[214,1,215,78],[208,76,209,76],[208,77,209,77],[218,4,219,75],[220,4,223,10],[220,11,221,22],[220,23,221,34],[220,35,221,46],[220,47,221,58],[208,47,209,49],[208,50,209,52],[208,53,209,55],[208,56,209,58],[208,59,209,65],[208,66,209,69],[224,4,225,10],[224,11,225,14],[224,15,225,18],[224,19,225,22],[224,23,225,26],[224,27,225,30],[222,43,223,46],[222,47,223,50],[222,51,223,54],[222,55,223,58],[220,59,223,65],[220,66,223,69],[220,70,223,73],[220,74,223,75],[222,11,223,14],[206,74,207,75],[206,76,207,76],[206,77,207,77],[208,23,209,28],[208,29,209,31],[208,32,209,34],[208,35,209,37],[208,38,209,40],[208,41,209,43],[208,44,209,46],[206,50,207,52],[206,53,207,55],[206,56,207,58],[206,59,207,65],[206,66,207,69],[206,70,207,73],[222,35,223,38],[222,39,223,42],[208,70,209,73],[208,74,209,75],[202,4,205,22],[202,23,203,28],[202,29,203,31],[202,32,203,34],[202,35,203,37],[202,38,203,40],[204,23,205,28],[204,29,205,31],[204,32,205,34],[204,35,205,37],[204,77,205,77],[206,4,209,22],[206,23,207,28],[206,29,207,31],[206,32,207,34],[206,35,207,37],[206,38,207,40],[206,41,207,43],[206,44,207,46],[206,47,207,49],[204,56,205,58],[204,59,205,65],[204,66,205,69],[204,70,205,73],[204,74,205,75],[204,76,205,76],[204,38,205,40],[204,41,205,43],[204,44,205,46],[204,47,205,49],[204,50,205,52],[204,53,205,55],[196,77,197,77],[196,41,197,43],[196,44,197,46],[196,47,197,49],[196,50,197,52],[196,53,197,55],[196,56,197,58],[194,66,195,69],[194,70,195,73],[194,74,195,75],[194,76,195,76],[194,77,195,77],[202,59,203,65],[202,66,203,69],[202,70,203,73],[202,74,203,75],[202,76,203,76],[202,77,203,77],[202,41,203,43],[202,44,203,46],[202,47,203,49],[202,50,203,52],[202,53,203,55],[202,56,203,58],[196,23,197,28],[196,29,197,31],[196,32,197,34],[196,35,197,37],[196,38,197,40],[194,44,195,46],[194,47,195,49],[194,50,195,52],[194,53,195,55],[194,56,195,58],[194,59,195,65],[192,74,193,75],[192,76,193,76],[192,77,193,77],[194,4,197,22],[194,23,195,28],[194,29,195,31],[194,32,195,34],[194,35,195,37],[194,38,195,40],[194,41,195,43],[192,50,193,52],[192,53,193,55],[192,56,193,58],[192,59,193,65],[192,66,193,69],[192,70,193,73],[196,59,197,65],[196,66,197,69],[196,70,197,73],[196,74,197,75],[196,76,197,76],[192,4,193,22],[192,23,193,28],[192,29,193,31],[192,32,193,34],[192,35,193,37],[192,38,193,40],[192,41,193,43],[192,44,193,46],[192,47,193,49],[190,56,191,58],[190,59,191,65],[190,66,191,69],[190,70,191,73],[190,74,191,75],[190,76,191,76],[190,38,191,40],[190,41,191,43],[190,44,191,46],[190,47,191,49],[190,50,191,52],[190,53,191,55],[184,74,185,75],[184,76,185,76],[184,77,185,77],[188,59,189,65],[188,66,189,69],[188,70,189,73],[188,74,189,75],[188,76,189,76],[188,77,189,77],[188,41,189,43],[188,44,189,46],[188,47,189,49],[188,50,189,52],[188,53,189,55],[188,56,189,58],[188,4,191,22],[188,23,189,28],[188,29,189,31],[188,32,189,34],[188,35,189,37],[188,38,189,40],[190,23,191,28],[190,29,191,31],[190,32,191,34],[190,35,191,37],[190,77,191,77],[180,4,187,22],[180,23,181,28],[180,29,181,31],[180,32,181,34],[180,35,181,37],[180,38,181,40],[182,77,183,77],[182,41,183,43],[182,44,183,46],[182,47,183,49],[182,50,183,52],[182,53,183,55],[182,56,183,58],[180,66,181,69],[180,77,181,77],[186,23,187,28],[186,29,187,31],[186,32,187,34],[186,35,187,37],[186,38,187,40],[184,44,185,46],[184,47,185,49],[184,50,185,52],[184,53,185,55],[184,56,185,58],[184,59,185,65],[184,23,185,28],[184,29,185,31],[184,32,185,34],[184,35,185,37],[184,38,185,40],[184,41,185,43],[186,59,187,65],[186,66,187,69],[186,70,187,73],[186,74,187,75],[186,76,187,76],[186,77,187,77],[172,4,179,22],[172,23,173,28],[172,29,173,31],[172,32,173,34],[172,35,173,37],[182,59,183,65],[182,66,183,69],[182,70,183,73],[186,41,187,43],[186,44,187,46],[186,47,187,49],[186,50,187,52],[186,53,187,55],[186,56,187,58],[184,66,185,69],[184,70,185,73],[182,23,183,28],[182,29,183,31],[182,32,183,34],[182,35,183,37],[182,38,183,40],[180,44,181,46],[180,47,181,49],[180,50,181,52],[180,53,181,55],[174,56,175,58],[174,59,175,65],[174,66,175,69],[174,70,175,73],[182,74,183,75],[182,76,183,76],[178,23,179,28],[178,29,179,31],[178,32,179,34],[178,35,179,37],[178,38,179,40],[178,41,179,43],[178,44,179,46],[178,47,179,49],[176,53,177,55],[176,56,177,58],[176,59,177,65],[176,66,177,69],[176,70,177,73],[176,74,177,75],[180,41,181,43],[178,50,179,52],[178,53,179,55],[178,56,179,58],[178,59,179,65],[178,66,179,69],[178,70,179,73],[176,47,177,49],[176,50,177,52],[174,74,175,75],[174,76,175,76],[178,77,179,77],[180,56,181,58],[180,59,181,65],[178,74,179,75],[178,76,179,76],[180,70,181,73],[180,74,181,75],[180,76,181,76],[174,23,175,28],[174,29,175,31],[174,32,175,34],[174,35,175,37],[174,38,175,40],[174,41,175,43],[174,44,175,46],[164,4,165,22],[164,23,165,28],[164,29,165,31],[164,32,165,34],[164,35,165,37],[164,38,165,40],[172,76,173,76],[172,77,173,77],[172,41,173,43],[172,44,173,46],[172,47,173,49],[172,50,173,52],[172,53,173,55],[172,56,173,58],[172,38,173,40],[176,76,177,76],[176,77,177,77],[174,47,175,49],[174,50,175,52],[174,53,175,55],[172,59,173,65],[172,66,173,69],[172,70,173,73],[172,74,173,75],[174,77,175,77],[176,23,177,28],[176,29,177,31],[176,32,177,34],[176,35,177,37],[176,38,177,40],[176,41,177,43],[176,44,177,46],[162,74,163,75],[162,76,163,76],[162,77,163,77],[162,41,163,43],[162,44,163,46],[162,47,163,49],[162,50,163,52],[162,53,163,55],[162,56,163,58],[164,59,165,65],[164,66,165,69],[164,70,165,73],[164,74,165,75],[164,76,165,76],[164,77,165,77],[164,41,165,43],[164,44,165,46],[164,47,165,49],[164,50,165,52],[164,53,165,55],[164,56,165,58],[162,4,163,22],[162,23,163,28],[162,29,163,31],[162,32,163,34],[162,35,163,37],[162,38,163,40],[160,29,161,31],[160,32,161,34],[160,35,161,37],[160,38,161,40],[160,41,161,43],[160,44,161,46],[158,47,159,52],[158,53,159,58],[158,59,161,65],[158,66,161,69],[158,70,161,73],[162,59,163,65],[162,66,163,69],[162,70,163,73],[158,74,161,75],[160,47,161,49],[160,50,161,52],[160,53,161,55],[160,56,161,58],[147,66,148,67],[147,68,148,69],[150,1,151,78],[152,1,153,78],[156,4,157,75],[158,4,161,22],[158,23,161,28],[158,29,159,34],[158,35,159,40],[158,41,159,46],[147,54,148,55],[147,56,148,57],[147,58,148,59],[147,60,148,61],[147,62,148,63],[147,64,148,65],[147,38,148,39],[147,40,148,41],[147,42,148,43],[147,44,148,45],[147,46,148,47],[147,48,148,49],[147,50,148,51],[147,52,148,53],[145,16,148,32],[145,33,146,37],[145,38,146,39],[147,33,148,37],[141,16,144,32],[141,62,142,63],[141,64,142,65],[141,66,142,67],[141,68,142,69],[143,33,144,37],[143,38,144,39],[143,40,144,41],[143,42,144,43],[143,44,144,45],[143,46,144,47],[141,50,142,51],[141,52,142,53],[141,54,142,55],[141,56,142,57],[141,58,142,59],[141,60,142,61],[145,68,146,69],[141,33,142,37],[141,38,142,39],[141,40,142,41],[141,42,142,43],[141,44,142,45],[145,56,146,57],[145,58,146,59],[145,60,146,61],[145,62,146,63],[145,64,146,65],[145,66,146,67],[145,44,146,45],[145,46,146,47],[145,40,146,41],[145,42,146,43],[143,48,144,49],[143,50,144,51],[143,52,144,53],[143,54,144,55],[143,56,144,57],[143,58,144,59],[143,68,144,69],[139,38,140,39],[139,40,140,41],[139,42,140,43],[139,44,140,45],[139,46,140,47],[139,48,140,49],[139,50,140,51],[139,52,140,53],[137,64,138,65],[137,66,138,67],[137,44,138,45],[137,46,138,47],[137,48,138,49],[137,50,138,51],[137,52,138,53],[137,54,138,55],[141,46,142,47],[141,48,142,49],[143,60,144,61],[143,62,144,63],[135,60,136,61],[135,62,136,63],[135,64,136,65],[135,66,136,67],[145,48,146,49],[145,50,146,51],[145,52,146,53],[145,54,146,55],[143,64,144,65],[143,66,144,67],[135,68,136,69],[137,16,140,32],[137,33,138,37],[137,38,138,39],[137,40,138,41],[137,42,138,43],[135,48,136,49],[135,50,136,51],[135,52,136,53]],"merged_total":1615,"flags":["merged_cut"]}
[null,"Capacity Analysis for Planning of Junctions"]
[]
[null,"Detailed Report - Page 1 of 4"]
[]
[]
[]
[null,null,null,null,null,null,null,null,null,null,null,null,null,null,null,null,"Project Name:",null,null,null,null,null,null,null,null,null,null,null,null,null,null,null,null,{"$f":"P_Name","v":"Cap-X Sample Street"}]
[]
[null,null,null,null,null,null,null,null,null,null,null,null,null,null,null,null,"Project Number:",null,null,null,null,null,null,null,null,null,null,null,null,null,null,null,null,{"$f":"P_Number","v":10000}]
[]
[null,null,null,null,null,null,null,null,null,null,null,null,null,null,null,null,"Location:",null,null,null,null,null,null,null,null,null,null,null,null,null,null,null,null,{"$f":"Location","v":"Tallahassee, FL"}]
[]
[null,null,null,null,null,null,null,null,null,null,null,null,null,null,null,null,"Date:",null,null,null,null,null,null,null,null,null,null,null,null,null,null,null,null,{"$f":"Date","v":"2017 AM"}]
[]
[null,null,null,null,null,null,null,null,null,null,null,null,null,null,null,null,"Number of Intersection Legs:",null,null,null,null,null,null,null,null,null,null,null,null,null,null,null,null,{"$f":"IF(Input_NumLegs=0,\"\",Input_NumLegs)","v":""}]
[]
[null,null,null,null,null,null,null,null,null,null,null,null,null,null,null,null,"Major Street Direction:",null,null,null,null,null,null,null,null,null,null,null,null,null,null,null,null,{"$f":"Input_MajorStreetDirection","v":"East-West"}]
[]
[]
[]
[null,null,null,null,null,null,null,null,null,null,null,null,null,null,null,null,"Traffic Volume Demand"]
[]
[null,null,null,null,null,null,null,null,null,null,null,null,null,null,null,null,null,null,null,null,null,null,"Volume (Veh/hr)",null,null,null,null,null,null,null,null,null,null,null,null,null,null,null,null,null,null,null,null,null,null,null,null,null,null,null,null,null,null,null,"Percent (%)"]
[]
[null,null,null,null,null,null,null,null,null,null,null,null,null,null,null,null,null,null,null,null,null,null,"U-Turn",null,null,null,null,null,null,null,"Left",null,null,null,null,null,null,null,"Thru",null,null,null,null,null,null,null,"Right",null,null,null,null,null,null,null,"Heavy Vehicles",null,null,null,null,null,null,null,"Volume Growth"]
[]
[]
[]
[]
[]
[null,null,null,null,null,null,null,null,null,null,null,null,null,null,null,null,"Eastbound",null,null,null,null,null,{"$f":"'1 - Volume Input'!K32","v":0},null,null,null,null,null,null,null,{"$f":"'1 - Volume Input'!S32","v":30},null,null,null,null,null,null,null,{"$f":"'1 - Volume Input'!AA32","v":200},null,null,null,null,null,null,null,{"$f":"'1 - Volume Input'!AI32","v":50},null,null,null,null,null,null,null,{"$f":"EB_Truck_Percentage","v":0.02},null,null,null,null,null,null,null,{"$f":"EB_Growth_Factor","v":0}]
[]
[null,null,null,null,null,null,null,null,null,null,null,null,null,null,null,null,"Westbound",null,null,null,null,null,{"$f":"'1 - Volume Input'!K34","v":0},null,null,null,null,null,null,null,{"$f":"'1 - Volume Input'!S34","v":30},null,null,null,null,null,null,null,{"$f":"'1 - Volume Input'!AA34","v":200},null,null,null,null,null,null,null,{"$f":"'1 - Volume Input'!AI34","v":50},null,null,null,null,null,null,null,{"$f":"WB_Truck_Percentage","v":0.02},null,null,null,null,null,null,null,{"$f":"WB_Growth_Factor","v":0}]
[]
[null,null,null,null,null,null,null,null,null,null,null,null,null,null,null,null,"Southbound",null,null,null,null,null,{"$f":"'1 - Volume Input'!K36","v":0},null,null,null,null,null,null,null,{"$f":"'1 - Volume Input'!S36","v":100},null,null,null,null,null,null,null,{"$f":"'1 - Volume Input'!AA36","v":500},null,null,null,null,null,null,null,{"$f":"'1 - Volume Input'!AI36","v":200},null,null,null,null,null,null,null,{"$f":"SB_Truck_Percentage","v":0.02},null,null,null,null,null,null,null,{"$f":"SB_Growth_Factor","v":0}]
[]
[null,null,null,null,null,null,null,null,null,null,null,null,null,null,null,null,"Northbound",null,null,null,null,null,{"$f":"'1 - Volume Input'!K38","v":0},null,null,null,null,null,null,null,{"$f":"'1 - Volume Input'!S38","v":100},null,null,null,null,null,null,null,{"$f":"'1 - Volume Input'!AA38","v":500},null,null,null,null,null,null,null,{"$f":"'1 - Volume Input'!AI38","v":200},null,null,null,null,null,null,null,{"$f":"NB_Truck_Percentage","v":0.02},null,null,null,null,null,null,null,{"$f":"NB_Growth_Factor","v":0}]
[]
[null,null,null,null,null,null,null,null,null,null,null,null,null,null,null,null,"Adjustment Factor",null,null,null,null,null,{"$f":"UTAF","v":0.8},null,null,null,null,null,null,null,{"$f":"LTAF","v":0.95},null,null,null,null,null,null,null,null,null,null,null,null,null,null,null,{"$f":"RTAF","v":0.85}]
[]
[null,null,null,null,null,null,null,null,null,null,null,null,null,null,null,null,"Suggested",null,null,null,null,null,0.8,null,null,null,null,null,null,null,0.95,null,null,null,null,null,null,null,null,null,null,null,null,null,null,null,0.85]
[]
[null,null,null,null,null,null,null,null,null,null,null,null,null,null,null,null,"Truck to PCE Factor ",null,null,null,null,null,null,null,null,null,null,null,null,null,null,null,null,null,null,null,null,null,null,null,null,null,null,null,null,null,"Suggested = 2.00",null,null,null,null,null,null,null,null,null,null,null,{"$f":"'1 - Volume Input'!AU44","v":2}]
[]
[null,null,null,null,null,null,null,null,null,null,null,null,null,null,null,null,"FDOT Context Zone",null,null,null,null,null,null,null,null,null,null,null,null,null,null,null,null,null,{"$f":"'1 - Volume Input'!W46","v":"C2-Rural"}]
[]
[null,null,null,null,null,null,null,null,null,null,null,null,null,null,null,null,"E-W / Crossing East-West Legs",null,null,null,null,null,null,null,null,null,null,null,null,null,null,null,null,null,"Low",null,null,null,null,null,null,null,null,null,null,null,"Low",null,null,null,null,null,null,null,null,null,null,null,"Low"]
[]
[null,null,null,null,null,null,null,null,null,null,null,null,null,null,null,null,"N-S / Crossing North-South Legs",null,null,null,null,null,null,null,null,null,null,null,null,null,null,null,null,null,"Low",null,null,null,null,null,null,null,null,null,null,null,"Low",null,null,null,null,null,null,null,null,null,null,null,"Low"]
[]
[null,null,null,null,null,null,null,null,null,null,null,null,null,null,null,null,"Critical Lane Volume Threshold",null,null,null,null,null,null,null,null,null,null,null,null,null,null,"2-phase signal",null,null,null,null,null,null,null,null,null,null,null,null,null,null,"Suggested = 1800",null,null,null,null,null,null,null,null,null,null,null,{"$f":"CLV_Limit_2","v":1800}]
[]
[null,null,null,null,null,null,null,null,null,null,null,null,null,null,null,null,null,null,null,null,null,null,null,null,null,null,null,null,null,null,null,"3-phase signal",null,null,null,null,null,null,null,null,null,null,null,null,null,null,"Suggested = 1750",null,null,null,null,null,null,null,null,null,null,null,{"$f":"CLV_Limit_3","v":1750}]
[]
[null,null,null,null,null,null,null,null,null,null,null,null,null,null,null,null,null,null,null,null,null,null,null,null,null,null,null,null,null,null,null,"4-phase signal",null,null,null,null,null,null,null,null,null,null,null,null,null,null,"Suggested = 1700",null,null,null,null,null,null,null,null,null,null,null,{"$f":"CLV_Limit_4","v":1700}]
[]
[]
[]
[null,"Capacity Analysis for Planning of Junctions"]
[]
[null,"Detailed Report - Page 2 of 4"]
[]
[]
[]
[null,null,null,null,null,null,null,null,null,null,null,null,null,null,null,null,"Number of Lanes for Non-roundabout Intersections"]
[]
[null,null,null,null,null,null,null,null,null,null,null,null,null,null,null,null,"TYPE OF INTERSECTION",null,null,null,null,null,null,null,null,null,null,null,null,null,null,null,null,"Sheet",null,null,null,null,"Northbound",null,null,null,null,null,null,null,"Southbound",null,null,null,null,null,null,null,"Eastbound",null,null,null,null,null,null,null,"Westbound"]
[]
[null,null,null,null,null,null,null,null,null,null,null,null,null,null,null,null,null,null,null,null,null,null,null,null,null,null,null,null,null,null,null,null,null,null,null,null,null,null,"U",null,"L",null,"T",null,"R",null,"U",null,"L",null,"T",null,"R",null,"U",null,"L",null,"T",null,"R",null,"U",null,"L",null,"T",null,"R"]
[]
[null,null,null,null,null,null,null,null,null,null,null,null,null,null,null,null,{"$f":"'3 - Alt Num Lanes Input'!E24","v":"Traffic Signal"},null,null,null,null,null,null,null,null,null,null,null,null,null,null,null,null,"FULL",null,null,null,null,null,null,{"$f":"'3 - Alt Num Lanes Input'!AC24","v":1},null,{"$f":"'3 - Alt Num Lanes Input'!AE24","v":2},null,{"$f":"'3 - Alt Num Lanes Input'!AG24","v":1},null,null,null,{"$f":"'3 - Alt Num Lanes Input'!AK24","v":1},null,{"$f":"'3 - Alt Num Lanes Input'!AM24","v":2},null,{"$f":"'3 - Alt Num Lanes Input'!AO24","v":1},null,null,null,{"$f":"'3 - Alt Num Lanes Input'!AS24","v":1},null,{"$f":"'3 - Alt Num Lanes Input'!AU24","v":2},null,{"$f":"'3 - Alt Num Lanes Input'!AW24","v":1},null,null,null,{"$f":"'3 - Alt Num Lanes Input'!BA24","v":1},null,{"$f":"'3 - Alt Num Lanes Input'!BC24","v":2},null,{"$f":"'3 - Alt Num Lanes Input'!BE24","v":1}]
[]
[null,null,null,null,null,null,null,null,null,null,null,null,null,null,null,null,"Conventional Shared RT LN",null,null,null,null,null,null,null,null,null,null,null,null,null,null,null,null,"CSRL",null,null,null,null,null,null,{"$f":"'3 - Alt Num Lanes Input'!AC26","v":1},null,{"$f":"'3 - Alt Num Lanes Input'!AE26","v":2},null,null,null,null,null,{"$f":"'3 - Alt Num Lanes Input'!AK26","v":1},null,{"$f":"'3 - Alt Num Lanes Input'!AM26","v":2},null,null,null,null,null,{"$f":"'3 - Alt Num Lanes Input'!AS26","v":1},null,{"$f":"'3 - Alt Num Lanes Input'!AU26","v":2},null,null,null,null,null,{"$f":"'3 - Alt Num Lanes Input'!BA26","v":1},null,{"$f":"'3 - Alt Num Lanes Input'!BC26","v":2}]
[]
[null,null,null,null,null,null,null,null,null,null,null,null,null,null,null,null,"Two-Way Stop Control",null,null,null,null,null,null,null,null,null,null,null,null,null,null,null,null,"N-S",null,null,null,null,null,null,{"$f":"'3 - Alt Num Lanes Input'!AC28","v":1},null,{"$f":"'3 - Alt Num Lanes Input'!AE28","v":2},null,{"$f":"'3 - Alt Num Lanes Input'!AG28","v":1},null,null,null,{"$f":"'3 - Alt Num Lanes Input'!AK28","v":1},null,{"$f":"'3 - Alt Num Lanes Input'!AM28","v":2},null,{"$f":"'3 - Alt Num Lanes Input'!AO28","v":1},null,null,null,{"$f":"'3 - Alt Num Lanes Input'!AS28","v":1},null,{"$f":"'3 - Alt Num Lanes Input'!AU28","v":2},null,{"$f":"'3 - Alt Num Lanes Input'!AW28","v":1},null,null,null,{"$f":"'3 - Alt Num Lanes Input'!BA28","v":1},null,{"$f":"'3 - Alt Num Lanes Input'!BC28","v":2},null,{"$f":"'3 - Alt Num Lanes Input'!BE28","v":1}]
[]
[null,null,null,null,null,null,null,null,null,null,null,null,null,null,null,null,null,null,null,null,null,null,null,null,null,null,null,null,null,null,null,null,null,"E-W",null,null,null,null,null,null,{"$f":"'3 - Alt Num Lanes Input'!AC30","v":1},null,{"$f":"'3 - Alt Num Lanes Input'!AE30","v":2},null,{"$f":"'3 - Alt Num Lanes Input'!AG30","v":1},null,null,null,{"$f":"'3 - Alt Num Lanes Input'!AK30","v":1},null,{"$f":"'3 - Alt Num Lanes Input'!AM30","v":2},null,{"$f":"'3 - Alt Num Lanes Input'!AO30","v":1},null,null,null,{"$f":"'3 - Alt Num Lanes Input'!AS30","v":1},null,{"$f":"'3 - Alt Num Lanes Input'!AU30","v":2},null,{"$f":"'3 - Alt Num Lanes Input'!AW30","v":1},null,null,null,{"$f":"'3 - Alt Num Lanes Input'!BA30","v":1},null,{"$f":"'3 - Alt Num Lanes Input'!BC30","v":2},null,{"$f":"'3 - Alt Num Lanes Input'!BE30","v":1}]
[]
[null,null,null,null,null,null,null,null,null,null,null,null,null,null,null,null,"All-Way Stop Control",null,null,null,null,null,null,null,null,null,null,null,null,null,null,null,null,"FULL",null,null,null,null,null,null,{"$f":"'3 - Alt Num Lanes Input'!AC32","v":1},null,{"$f":"'3 - Alt Num Lanes Input'!AE32","v":2},null,{"$f":"'3 - Alt Num Lanes Input'!AG32","v":1},null,null,null,{"$f":"'3 - Alt Num Lanes Input'!AK32","v":1},null,{"$f":"'3 - Alt Num Lanes Input'!AM32","v":2},null,{"$f":"'3 - Alt Num Lanes Input'!AO32","v":1},null,null,null,{"$f":"'3 - Alt Num Lanes Input'!AS32","v":1},null,{"$f":"'3 - Alt Num Lanes Input'!AU32","v":2},null,{"$f":"'3 - Alt Num Lanes Input'!AW32","v":1},null,null,null,{"$f":"'3 - Alt Num Lanes Input'!BA32","v":1},null,{"$f":"'3 - Alt Num Lanes Input'!BC32","v":2},null,{"$f":"'3 - Alt Num Lanes Input'!BE32","v":1}]
[]
[null,null,null,null,null,null,null,null,null,null,null,null,null,null,null,null,"Continuous Green T",null,null,null,null,null,null,null,null,null,null,null,null,null,null,null,null,"W",null,null,null,null,null,null,{"$f":"'3 - Alt Num Lanes Input'!AC34","v":1},null,{"$f":"'3 - Alt Num Lanes Input'!AE34","v":2},null,null,null,null,null,null,null,{"$f":"'3 - Alt Num Lanes Input'!AM34","v":2},null,{"$f":"'3 - Alt Num Lanes Input'!AO34","v":1},null,null,null,{"$f":"'3 - Alt Num Lanes Input'!AS34","v":1},null,null,null,{"$f":"'3 - Alt Num Lanes Input'!AW34","v":1}]
[]
[null,null,null,null,null,null,null,null,null,null,null,null,null,null,null,null,null,null,null,null,null,null,null,null,null,null,null,null,null,null,null,null,null,"N",null,null,null,null,null,null,null,null,null,null,null,null,null,null,{"$f":"'3 - Alt Num Lanes Input'!AK36","v":1},null,null,null,{"$f":"'3 - Alt Num Lanes Input'!AO36","v":1},null,null,null,{"$f":"'3 - Alt Num Lanes Input'!AS36","v":1},null,{"$f":"'3 - Alt Num Lanes Input'!AU36","v":2},null,null,null,null,null,null,null,{"$f":"'3 - Alt Num Lanes Input'!BC36","v":2},null,{"$f":"'3 - Alt Num Lanes Input'!BE36","v":1}]
[]
[null,null,null,null,null,null,null,null,null,null,null,null,null,null,null,null,null,null,null,null,null,null,null,null,null,null,null,null,null,null,null,null,null,"E",null,null,null,null,null,null,null,null,{"$f":"'3 - Alt Num Lanes Input'!AE38","v":2},null,{"$f":"'3 - Alt Num Lanes Input'!AG38","v":1},null,null,null,{"$f":"'3 - Alt Num Lanes Input'!AK38","v":1},null,{"$f":"'3 - Alt Num Lanes Input'!AM38","v":2},null,null,null,null,null,null,null,null,null,null,null,null,null,{"$f":"'3 - Alt Num Lanes Input'!BA38","v":1},null,null,null,{"$f":"'3 - Alt Num Lanes Input'!BE38","v":1}]
[]
[null,null,null,null,null,null,null,null,null,null,null,null,null,null,null,null,null,null,null,null,null,null,null,null,null,null,null,null,null,null,null,null,null,"S",null,null,null,null,null,null,{"$f":"'3 - Alt Num Lanes Input'!AC40","v":1},null,null,null,{"$f":"'3 - Alt Num Lanes Input'!AG40","v":1},null,null,null,null,null,null,null,null,null,null,null,null,null,{"$f":"'3 - Alt Num Lanes Input'!AU40","v":2},null,{"$f":"'3 - Alt Num Lanes Input'!AW40","v":1},null,null,null,{"$f":"'3 - Alt Num Lanes Input'!BA40","v":1},null,{"$f":"'3 - Alt Num Lanes Input'!BC40","v":2}]
[]
[null,null,null,null,null,null,null,null,null,null,null,null,null,null,null,null,"Quadrant Roadway",null,null,null,null,null,null,null,null,null,null,null,null,null,null,null,null,"S-W",null,null,null,null,null,null,{"$f":"'3 - Alt Num Lanes Input'!AC42","v":0},null,{"$f":"'3 - Alt Num Lanes Input'!AE42","v":0},null,{"$f":"'3 - Alt Num Lanes Input'!AG42","v":0},null,null,null,null,null,{"$f":"'3 - Alt Num Lanes Input'!AM42","v":0},null,{"$f":"'3 - Alt Num Lanes Input'!AO42","v":0},null,null,null,{"$f":"'3 - Alt Num Lanes Input'!AS42","v":0},null,{"$f":"'3 - Alt Num Lanes Input'!AU42","v":0},null,{"$f":"'3 - Alt Num Lanes Input'!AW42","v":0},null,null,null,{"$f":"'3 - Alt Num Lanes Input'!BA42","v":0},null,{"$f":"'3 - Alt Num Lanes Input'!BC42","v":0},null,{"$f":"'3 - Alt Num Lanes Input'!BE42","v":0}]
[]
[null,null,null,null,null,null,null,null,null,null,null,null,null,null,null,null,null,null,null,null,null,null,null,null,null,null,null,null,null,null,null,null,null,"N-E",null,null,null,null,null,null,null,null,{"$f":"'3 - Alt Num Lanes Input'!AE44","v":0},null,{"$f":"'3 - Alt Num Lanes Input'!AG44","v":0},null,null,null,{"$f":"'3 - Alt Num Lanes Input'!AK44","v":0},null,{"$f":"'3 - Alt Num Lanes Input'!AM44","v":0},null,{"$f":"'3 - Alt Num Lanes Input'!AO44","v":0},null,null,null,{"$f":"'3 - Alt Num Lanes Input'!AS44","v":0},null,{"$f":"'3 - Alt Num Lanes Input'!AU44","v":0},null,{"$f":"'3 - Alt Num Lanes Input'!AW44","v":0},null,null,null,{"$f":"'3 - Alt Num Lanes Input'!BA44","v":0},null,{"$f":"'3 - Alt Num Lanes Input'!BC44","v":0},null,{"$f":"'3 - Alt Num Lanes Input'!BE44","v":0}]
[]
[null,null,null,null,null,null,null,null,null,null,null,null,null,null,null,null,null,null,null,null,null,null,null,null,null,null,null,null,null,null,null,null,null,"S-E",null,null,null,null,null,null,{"$f":"'3 - Alt Num Lanes Input'!AC46","v":0},null,{"$f":"'3 - Alt Num Lanes Input'!AE46","v":0},null,{"$f":"'3 - Alt Num Lanes Input'!AG46","v":0},null,null,null,{"$f":"'3 - Alt Num Lanes Input'!AK46","v":0},null,{"$f":"'3 - Alt Num Lanes Input'!AM46","v":0},null,{"$f":"'3 - Alt Num Lanes Input'!AO46","v":0},null,null,null,null,null,{"$f":"'3 - Alt Num Lanes Input'!AU46","v":0},null,{"$f":"'3 - Alt Num Lanes Input'!AW46","v":0},null,null,null,{"$f":"'3 - Alt Num Lanes Input'!BA46","v":0},null,{"$f":"'3 - Alt Num Lanes Input'!BC46","v":0},null,{"$f":"'3 - Alt Num Lanes Input'!BE46","v":0}]
[]
[null,null,null,null,null,null,null,null,null,null,null,null,null,null,null,null,null,null,null,null,null,null,null,null,null,null,null,null,null,null,null,null,null,"N-W",null,null,null,null,null,null,{"$f":"'3 - Alt Num Lanes Input'!AC48","v":0},null,{"$f":"'3 - Alt Num Lanes Input'!AE48","v":0},null,{"$f":"'3 - Alt Num Lanes Input'!AG48","v":0},null,null,null,{"$f":"'3 - Alt Num Lanes Input'!AK48","v":0},null,{"$f":"'3 - Alt Num Lanes Input'!AM48","v":0},null,{"$f":"'3 - Alt Num Lanes Input'!AO48","v":0},null,null,null,{"$f":"'3 - Alt Num Lanes Input'!AS48","v":0},null,{"$f":"'3 - Alt Num Lanes Input'!AU48","v":0},null,{"$f":"'3 - Alt Num Lanes Input'!AW48","v":0},null,null,null,null,null,{"$f":"'3 - Alt Num Lanes Input'!BC48","v":0},null,{"$f":"'3 - Alt Num Lanes Input'!BE48","v":0}]
[]
[null,null,null,null,null,null,null,null,null,null,null,null,null,null,null,null,"Partial Displaced Left Turn",null,null,null,null,null,null,null,null,null,null,null,null,null,null,null,null,"N-S",null,null,null,null,null,null,{"$f":"'3 - Alt Num Lanes Input'!AC50","v":1},null,{"$f":"'3 - Alt Num Lanes Input'!AE50","v":2},null,{"$f":"'3 - Alt Num Lanes Input'!AG50","v":1},null,null,null,{"$f":"'3 - Alt Num Lanes Input'!AK50","v":1},null,{"$f":"'3 - Alt Num Lanes Input'!AM50","v":2},null,{"$f":"'3 - Alt Num Lanes Input'!AO50","v":1},null,null,null,{"$f":"'3 - Alt Num Lanes Input'!AS50","v":1},null,{"$f":"'3 - Alt Num Lanes Input'!AU50","v":2},null,{"$f":"'3 - Alt Num Lanes Input'!AW50","v":1},null,null,null,{"$f":"'3 - Alt Num Lanes Input'!BA50","v":1},null,{"$f":"'3 - Alt Num Lanes Input'!BC50","v":2},null,{"$f":"'3 - Alt Num Lanes Input'!BE50","v":1}]
[]
[null,null,null,null,null,null,null,null,null,null,null,null,null,null,null,null,null,null,null,null,null,null,null,null,null,null,null,null,null,null,null,null,null,"E-W",null,null,null,null,null,null,{"$f":"'3 - Alt Num Lanes Input'!AC52","v":1},null,{"$f":"'3 - Alt Num Lanes Input'!AE52","v":2},null,{"$f":"'3 - Alt Num Lanes Input'!AG52","v":1},null,null,null,{"$f":"'3 - Alt Num Lanes Input'!AK52","v":1},null,{"$f":"'3 - Alt Num Lanes Input'!AM52","v":2},null,{"$f":"'3 - Alt Num Lanes Input'!AO52","v":1},null,null,null,{"$f":"'3 - Alt Num Lanes Input'!AS52","v":1},null,{"$f":"'3 - Alt Num Lanes Input'!AU52","v":2},null,{"$f":"'3 - Alt Num Lanes Input'!AW52","v":1},null,null,null,{"$f":"'3 - Alt Num Lanes Input'!BA52","v":1},null,{"$f":"'3 - Alt Num Lanes Input'!BC52","v":2},null,{"$f":"'3 - Alt Num Lanes Input'!BE52","v":1}]
[]
[null,null,null,null,null,null,null,null,null,null,null,null,null,null,null,null,"Displaced Left Turn",null,null,null,null,null,null,null,null,null,null,null,null,null,null,null,null,"FULL",null,null,null,null,null,null,{"$f":"'3 - Alt Num Lanes Input'!AC54","v":1},null,{"$f":"'3 - Alt Num Lanes Input'!AE54","v":2},null,{"$f":"'3 - Alt Num Lanes Input'!AG54","v":1},null,null,null,{"$f":"'3 - Alt Num Lanes Input'!AK54","v":1},null,{"$f":"'3 - Alt Num Lanes Input'!AM54","v":2},null,{"$f":"'3 - Alt Num Lanes Input'!AO54","v":1},null,null,null,{"$f":"'3 - Alt Num Lanes Input'!AS54","v":1},null,{"$f":"'3 - Alt Num Lanes Input'!AU54","v":2},null,{"$f":"'3 - Alt Num Lanes Input'!AW54","v":1},null,null,null,{"$f":"'3 - Alt Num Lanes Input'!BA54","v":1},null,{"$f":"'3 - Alt Num Lanes Input'!BC54","v":2},null,{"$f":"'3 - Alt Num Lanes Input'!BE54","v":1}]
[]
[null,null,null,null,null,null,null,null,null,null,null,null,null,null,null,null,{"$f":"'3 - Alt Num Lanes Input'!E56","v":"Signalized Restricted Crossing U-Turn"},null,null,null,null,null,null,null,null,null,null,null,null,null,null,null,null,"N-S",null,null,null,null,{"$f":"'3 - Alt Num Lanes Input'!AA56","v":1},null,{"$f":"'3 - Alt Num Lanes Input'!AC56","v":1},null,{"$f":"'3 - Alt Num Lanes Input'!AE56","v":2},null,{"$f":"'3 - Alt Num Lanes Input'!AG56","v":1},null,{"$f":"'3 - Alt Num Lanes Input'!AI56","v":1},null,{"$f":"'3 - Alt Num Lanes Input'!AK56","v":1},null,{"$f":"'3 - Alt Num Lanes Input'!AM56","v":2},null,{"$f":"'3 - Alt Num Lanes Input'!AO56","v":1},null,null,null,null,null,null,null,{"$f":"'3 - Alt Num Lanes Input'!AW56","v":1},null,null,null,null,null,null,null,{"$f":"'3 - Alt Num Lanes Input'!BE56","v":1}]
[]
[null,null,null,null,null,null,null,null,null,null,null,null,null,null,null,null,null,null,null,null,null,null,null,null,null,null,null,null,null,null,null,null,null,"E-W",null,null,null,null,null,null,null,null,null,null,{"$f":"'3 - Alt Num Lanes Input'!AG58","v":1},null,null,null,null,null,null,null,{"$f":"'3 - Alt Num Lanes Input'!AO58","v":1},null,{"$f":"'3 - Alt Num Lanes Input'!AQ58","v":1},null,{"$f":"'3 - Alt Num Lanes Input'!AS58","v":1},null,{"$f":"'3 - Alt Num Lanes Input'!AU58","v":2},null,{"$f":"'3 - Alt Num Lanes Input'!AW58","v":1},null,{"$f":"'3 - Alt Num Lanes Input'!AY58","v":1},null,{"$f":"'3 - Alt Num Lanes Input'!BA58","v":1},null,{"$f":"'3 - Alt Num Lanes Input'!BC58","v":2},null,{"$f":"'3 - Alt Num Lanes Input'!BE58","v":1}]
[]
[null,null,null,null,null,null,null,null,null,null,null,null,null,null,null,null,{"$f":"'3 - Alt Num Lanes Input'!E60","v":"Unsignalized Restricted Crossing U-Turn"},null,null,null,null,null,null,null,null,null,null,null,null,null,null,null,null,"N-S",null,null,null,null,{"$f":"'3 - Alt Num Lanes Input'!AA60","v":1},null,{"$f":"'3 - Alt Num Lanes Input'!AC60","v":1},null,{"$f":"'3 - Alt Num Lanes Input'!AE60","v":2},null,{"$f":"'3 - Alt Num Lanes Input'!AG60","v":1},null,{"$f":"'3 - Alt Num Lanes Input'!AI60","v":1},null,{"$f":"'3 - Alt Num Lanes Input'!AK60","v":1},null,{"$f":"'3 - Alt Num Lanes Input'!AM60","v":2},null,{"$f":"'3 - Alt Num Lanes Input'!AO60","v":1},null,null,null,null,null,null,null,{"$f":"'3 - Alt Num Lanes Input'!AW60","v":1},null,null,null,null,null,null,null,{"$f":"'3 - Alt Num Lanes Input'!BE60","v":1}]
[]
[null,null,null,null,null,null,null,null,null,null,null,null,null,null,null,null,null,null,null,null,null,null,null,null,null,null,null,null,null,null,null,null,null,"E-W",null,null,null,null,null,null,null,null,null,null,{"$f":"'3 - Alt Num Lanes Input'!AG62","v":1},null,null,null,null,null,null,null,{"$f":"'3 - Alt Num Lanes Input'!AO62","v":1},null,{"$f":"'3 - Alt Num Lanes Input'!AQ62","v":1},null,{"$f":"'3 - Alt Num Lanes Input'!AS62","v":1},null,{"$f":"'3 - Alt Num Lanes Input'!AU62","v":2},null,{"$f":"'3 - Alt Num Lanes Input'!AW62","v":1},null,{"$f":"'3 - Alt Num Lanes Input'!AY62","v":1},null,{"$f":"'3 - Alt Num Lanes Input'!BA62","v":1},null,{"$f":"'3 - Alt Num Lanes Input'!BC62","v":2},null,{"$f":"'3 - Alt Num Lanes Input'!BE62","v":1}]
[]
[null,null,null,null,null,null,null,null,null,null,null,null,null,null,null,null,"Median U-Turn",null,null,null,null,null,null,null,null,null,null,null,null,null,null,null,null,"N-S",null,null,null,null,{"$f":"'3 - Alt Num Lanes Input'!AA64","v":1},null,null,null,{"$f":"'3 - Alt Num Lanes Input'!AE64","v":2},null,{"$f":"'3 - Alt Num Lanes Input'!AG64","v":1},null,{"$f":"'3 - Alt Num Lanes Input'!AI64","v":1},null,null,null,{"$f":"'3 - Alt Num Lanes Input'!AM64","v":2},null,{"$f":"'3 - Alt Num Lanes Input'!AO64","v":1},null,null,null,null,null,{"$f":"'3 - Alt Num Lanes Input'!AU64","v":2},null,{"$f":"'3 - Alt Num Lanes Input'!AW64","v":1},null,null,null,null,null,{"$f":"'3 - Alt Num Lanes Input'!BC64","v":2},null,{"$f":"'3 - Alt Num Lanes Input'!BE64","v":1}]
[]
[null,null,null,null,null,null,null,null,null,null,null,null,null,null,null,null,null,null,null,null,null,null,null,null,null,null,null,null,null,null,null,null,null,"E-W",null,null,null,null,null,null,null,null,{"$f":"'3 - Alt Num Lanes Input'!AE66","v":2},null,{"$f":"'3 - Alt Num Lanes Input'!AG66","v":1},null,null,null,null,null,{"$f":"'3 - Alt Num Lanes Input'!AM66","v":2},null,{"$f":"'3 - Alt Num Lanes Input'!AO66","v":1},null,{"$f":"'3 - Alt Num Lanes Input'!AQ66","v":1},null,null,null,{"$f":"'3 - Alt Num Lanes Input'!AU66","v":2},null,{"$f":"'3 - Alt Num Lanes Input'!AW66","v":1},null,{"$f":"'3 - Alt Num Lanes Input'!AY66","v":1},null,null,null,{"$f":"'3 - Alt Num Lanes Input'!BC66","v":2},null,{"$f":"'3 - Alt Num Lanes Input'!BE66","v":1}]
[]
[null,null,null,null,null,null,null,null,null,null,null,null,null,null,null,null,"Partial Median U-Turn",null,null,null,null,null,null,null,null,null,null,null,null,null,null,null,null,"N-S",null,null,null,null,{"$f":"'3 - Alt Num Lanes Input'!AA68","v":1},null,null,null,{"$f":"'3 - Alt Num Lanes Input'!AE68","v":2},null,{"$f":"'3 - Alt Num Lanes Input'!AG68","v":1},null,{"$f":"'3 - Alt Num Lanes Input'!AI68","v":1},null,null,null,{"$f":"'3 - Alt Num Lanes Input'!AM68","v":2},null,{"$f":"'3 - Alt Num Lanes Input'!AO68","v":1},null,null,null,{"$f":"'3 - Alt Num Lanes Input'!AS68","v":1},null,{"$f":"'3 - Alt Num Lanes Input'!AU68","v":2},null,{"$f":"'3 - Alt Num Lanes Input'!AW68","v":1},null,null,null,{"$f":"'3 - Alt Num Lanes Input'!BA68","v":1},null,{"$f":"'3 - Alt Num Lanes Input'!BC68","v":2},null,{"$f":"'3 - Alt Num Lanes Input'!BE68","v":1}]
[]
[null,null,null,null,null,null,null,null,null,null,null,null,null,null,null,null,null,null,null,null,null,null,null,null,null,null,null,null,null,null,null,null,null,"E-W",null,null,null,null,null,null,{"$f":"'3 - Alt Num Lanes Input'!AC70","v":1},null,{"$f":"'3 - Alt Num Lanes Input'!AE70","v":2},null,{"$f":"'3 - Alt Num Lanes Input'!AG70","v":1},null,null,null,{"$f":"'3 - Alt Num Lanes Input'!AK70","v":1},null,{"$f":"'3 - Alt Num Lanes Input'!AM70","v":2},null,{"$f":"'3 - Alt Num Lanes Input'!AO70","v":1},null,{"$f":"'3 - Alt Num Lanes Input'!AQ70","v":1},null,null,null,{"$f":"'3 - Alt Num Lanes Input'!AU70","v":2},null,{"$f":"'3 - Alt Num Lanes Input'!AW70","v":1},null,{"$f":"'3 - Alt Num Lanes Input'!AY70","v":1},null,null,null,{"$f":"'3 - Alt Num Lanes Input'!BC70","v":2},null,{"$f":"'3 - Alt Num Lanes Input'!BE70","v":1}]
[]
[]
[null,null,null,null,null,null,null,null,null,null,null,null,null,null,null,null,"Number of Lanes for Interchanges"]
[]
[null,null,null,null,null,null,null,null,null,null,null,null,null,null,null,null,"TYPE OF INTERCHANGE",null,null,null,null,null,null,null,null,null,null,null,null,null,null,null,null,"Sheet",null,null,null,null,"Northbound",null,null,null,null,null,null,null,"Southbound",null,null,null,null,null,null,null,"Eastbound",null,null,null,null,null,null,null,"Westbound"]
[]
[null,null,null,null,null,null,null,null,null,null,null,null,null,null,null,null,null,null,null,null,null,null,null,null,null,null,null,null,null,null,null,null,null,null,null,null,null,null,"U",null,"L",null,"T",null,"R",null,"U",null,"L",null,"T",null,"R",null,"U",null,"L",null,"T",null,"R",null,"U",null,"L",null,"T",null,"R"]
[]
[null,null,null,null,null,null,null,null,null,null,null,null,null,null,null,null,"Diamond",null,null,null,null,null,null,null,null,null,null,null,null,null,null,null,null,"N-S",null,null,null,null,null,null,{"$f":"'3 - Alt Num Lanes Input'!AC89","v":1},null,{"$f":"'3 - Alt Num Lanes Input'!AE89","v":2},null,{"$f":"'3 - Alt Num Lanes Input'!AG89","v":1},null,null,null,{"$f":"'3 - Alt Num Lanes Input'!AK89","v":1},null,{"$f":"'3 - Alt Num Lanes Input'!AM89","v":2},null,{"$f":"'3 - Alt Num Lanes Input'!AO89","v":1},null,null,null,{"$f":"'3 - Alt Num Lanes Input'!AS89","v":1},null,{"$f":"'3 - Alt Num Lanes Input'!AU89","v":2},null,{"$f":"'3 - Alt Num Lanes Input'!AW89","v":1},null,null,null,{"$f":"'3 - Alt Num Lanes Input'!BA89","v":1},null,{"$f":"'3 - Alt Num Lanes Input'!BC89","v":2},null,{"$f":"'3 - Alt Num Lanes Input'!BE89","v":1}]
[]
[null,null,null,null,null,null,null,null,null,null,null,null,null,null,null,null,null,null,null,null,null,null,null,null,null,null,null,null,null,null,null,null,null,"E-W",null,null,null,null,null,null,{"$f":"'3 - Alt Num Lanes Input'!AC91","v":0},null,{"$f":"'3 - Alt Num Lanes Input'!AE91","v":2},null,{"$f":"'3 - Alt Num Lanes Input'!AG91","v":0},null,null,null,{"$f":"'3 - Alt Num Lanes Input'!AK91","v":0},null,{"$f":"'3 - Alt Num Lanes Input'!AM91","v":2},null,{"$f":"'3 - Alt Num Lanes Input'!AO91","v":0},null,null,null,{"$f":"'3 - Alt Num Lanes Input'!AS91","v":1},null,{"$f":"'3 - Alt Num Lanes Input'!AU91","v":0},null,{"$f":"'3 - Alt Num Lanes Input'!AW91","v":1},null,null,null,{"$f":"'3 - Alt Num Lanes Input'!BA91","v":1},null,{"$f":"'3 - Alt Num Lanes Input'!BC91","v":0},null,{"$f":"'3 - Alt Num Lanes Input'!BE91","v":1}]
[]
[null,null,null,null,null,null,null,null,null,null,null,null,null,null,null,null,"Partial Cloverleaf A",null,null,null,null,null,null,null,null,null,null,null,null,null,null,null,null,"N-S",null,null,null,null,null,null,null,null,{"$f":"'3 - Alt Num Lanes Input'!AE91","v":2},null,null,null,null,null,null,null,{"$f":"'3 - Alt Num Lanes Input'!AM91","v":2},null,null,null,null,null,{"$f":"'3 - Alt Num Lanes Input'!AS91","v":1},null,null,null,{"$f":"'3 - Alt Num Lanes Input'!AW91","v":1},null,null,null,{"$f":"'3 - Alt Num Lanes Input'!BA91","v":1},null,null,null,{"$f":"'3 - Alt Num Lanes Input'!BE91","v":1}]
[]
[null,null,null,null,null,null,null,null,null,null,null,null,null,null,null,null,null,null,null,null,null,null,null,null,null,null,null,null,null,null,null,null,null,"E-W",null,null,null,null,null,null,{"$f":"'3 - Alt Num Lanes Input'!AC93","v":1},null,null,null,{"$f":"'3 - Alt Num Lanes Input'!AG93","v":1},null,null,null,{"$f":"'3 - Alt Num Lanes Input'!AK93","v":1},null,null,null,{"$f":"'3 - Alt Num Lanes Input'!AO93","v":1},null,null,null,null,null,{"$f":"'3 - Alt Num Lanes Input'!AU93","v":2},null,null,null,null,null,null,null,{"$f":"'3 - Alt Num Lanes Input'!BC93","v":2}]
[]
[null,null,null,null,null,null,null,null,null,null,null,null,null,null,null,null,"Partial Cloverleaf B",null,null,null,null,null,null,null,null,null,null,null,null,null,null,null,null,"N-S",null,null,null,null,null,null,{"$f":"'3 - Alt Num Lanes Input'!AC95","v":1},null,{"$f":"'3 - Alt Num Lanes Input'!AE95","v":2},null,{"$f":"'3 - Alt Num Lanes Input'!AG95","v":1},null,null,null,{"$f":"'3 - Alt Num Lanes Input'!AK95","v":1},null,{"$f":"'3 - Alt Num Lanes Input'!AM95","v":2},null,{"$f":"'3 - Alt Num Lanes Input'!AO95","v":1},null,null,null,{"$f":"'3 - Alt Num Lanes Input'!AS95","v":1},null,null,null,{"$f":"'3 - Alt Num Lanes Input'!AW95","v":1},null,null,null,{"$f":"'3 - Alt Num Lanes Input'!BA95","v":1},null,null,null,{"$f":"'3 - Alt Num Lanes Input'!BE95","v":1}]
[]
[null,null,null,null,null,null,null,null,null,null,null,null,null,null,null,null,null,null,null,null,null,null,null,null,null,null,null,null,null,null,null,null,null,"E-W",null,null,null,null,null,null,{"$f":"'3 - Alt Num Lanes Input'!AC97","v":1},null,null,null,{"$f":"'3 - Alt Num Lanes Input'!AG97","v":1},null,null,null,{"$f":"'3 - Alt Num Lanes Input'!AK97","v":1},null,null,null,{"$f":"'3 - Alt Num Lanes Input'!AO97","v":1},null,null,null,{"$f":"'3 - Alt Num Lanes Input'!AS97","v":1},null,{"$f":"'3 - Alt Num Lanes Input'!AU97","v":2},null,{"$f":"'3 - Alt Num Lanes Input'!AW97","v":1},null,null,null,{"$f":"'3 - Alt Num Lanes Input'!BA97","v":1},null,{"$f":"'3 - Alt Num Lanes Input'!BC97","v":2},null,{"$f":"'3 - Alt Num Lanes Input'!BE97","v":1}]
[]
[null,null,null,null,null,null,null,null,null,null,null,null,null,null,null,null,"Displaced Left Turn",null,null,null,null,null,null,null,null,null,null,null,null,null,null,null,null,"N-S",null,null,null,null,null,null,{"$f":"'3 - Alt Num Lanes Input'!AC99","v":1},null,{"$f":"'3 - Alt Num Lanes Input'!AE99","v":2},null,{"$f":"'3 - Alt Num Lanes Input'!AG99","v":1},null,null,null,{"$f":"'3 - Alt Num Lanes Input'!AK99","v":1},null,{"$f":"'3 - Alt Num Lanes Input'!AM99","v":2},null,{"$f":"'3 - Alt Num Lanes Input'!AO99","v":1},null,null,null,{"$f":"'3 - Alt Num Lanes Input'!AS99","v":1},null,{"$f":"'3 - Alt Num Lanes Input'!AU99","v":2},null,{"$f":"'3 - Alt Num Lanes Input'!AW99","v":1},null,null,null,{"$f":"'3 - Alt Num Lanes Input'!BA99","v":1},null,{"$f":"'3 - Alt Num Lanes Input'!BC99","v":2},null,{"$f":"'3 - Alt Num Lanes Input'!BE99","v":1}]
[]
[null,null,null,null,null,null,null,null,null,null,null,null,null,null,null,null,null,null,null,null,null,null,null,null,null,null,null,null,null,null,null,null,null,"E-W",null,null,null,null,null,null,{"$f":"'3 - Alt Num Lanes Input'!AC101","v":1},null,{"$f":"'3 - Alt Num Lanes Input'!AE101","v":2},null,{"$f":"'3 - Alt Num Lanes Input'!AG101","v":1},null,null,null,{"$f":"'3 - Alt Num Lanes Input'!AK101","v":1},null,{"$f":"'3 - Alt Num Lanes Input'!AM101","v":2},null,{"$f":"'3 - Alt Num Lanes Input'!AO101","v":1},null,null,null,{"$f":"'3 - Alt Num Lanes Input'!AS101","v":1},null,{"$f":"'3 - Alt Num Lanes Input'!AU101","v":2},null,{"$f":"'3 - Alt Num Lanes Input'!AW101","v":1},null,null,null,{"$f":"'3 - Alt Num Lanes Input'!BA101","v":1},null,{"$f":"'3 - Alt Num Lanes Input'!BC101","v":2},null,{"$f":"'3 - Alt Num Lanes Input'!BE101","v":1}]
[]
[null,null,null,null,null,null,null,null,null,null,null,null,null,null,null,null,"Diverging Diamond Interchange",null,null,null,null,null,null,null,null,null,null,null,null,null,null,null,null,"N-S",null,null,null,null,null,null,{"$f":"'3 - Alt Num Lanes Input'!AC103","v":1},null,{"$f":"'3 - Alt Num Lanes Input'!AE103","v":2},null,{"$f":"'3 - Alt Num Lanes Input'!AG103","v":1},null,null,null,{"$f":"'3 - Alt Num Lanes Input'!AK103","v":1},null,{"$f":"'3 - Alt Num Lanes Input'!AM103","v":2},null,{"$f":"'3 - Alt Num Lanes Input'!AO103","v":1},null,null,null,{"$f":"'3 - Alt Num Lanes Input'!AS103","v":1},null,null,null,{"$f":"'3 - Alt Num Lanes Input'!AW103","v":1},null,null,null,{"$f":"'3 - Alt Num Lanes Input'!BA103","v":1},null,null,null,{"$f":"'3 - Alt Num Lanes Input'!BE103","v":1}]
[]
[null,null,null,null,null,null,null,null,null,null,null,null,null,null,null,null,null,null,null,null,null,null,null,null,null,null,null,null,null,null,null,null,null,"E-W",null,null,null,null,null,null,{"$f":"'3 - Alt Num Lanes Input'!AC105","v":1},null,null,null,{"$f":"'3 - Alt Num Lanes Input'!AG105","v":1},null,null,null,{"$f":"'3 - Alt Num Lanes Input'!AK105","v":1},null,null,null,{"$f":"'3 - Alt Num Lanes Input'!AO105","v":1},null,null,null,{"$f":"'3 - Alt Num Lanes Input'!AS105","v":1},null,{"$f":"'3 - Alt Num Lanes Input'!AU105","v":2},null,{"$f":"'3 - Alt Num Lanes Input'!AW105","v":1},null,null,null,{"$f":"'3 - Alt Num Lanes Input'!BA105","v":1},null,{"$f":"'3 - Alt Num Lanes Input'!BC105","v":2},null,{"$f":"'3 - Alt Num Lanes Input'!BE105","v":1}]
[]
[null,null,null,null,null,null,null,null,null,null,null,null,null,null,null,null,"Single Point ",null,null,null,null,null,null,null,null,null,null,null,null,null,null,null,null,"N-S",null,null,null,null,null,null,{"$f":"'3 - Alt Num Lanes Input'!AC107","v":1},null,{"$f":"'3 - Alt Num Lanes Input'!AE107","v":2},null,{"$f":"'3 - Alt Num Lanes Input'!AG107","v":1},null,null,null,{"$f":"'3 - Alt Num Lanes Input'!AK107","v":1},null,{"$f":"'3 - Alt Num Lanes Input'!AM107","v":2},null,{"$f":"'3 - Alt Num Lanes Input'!AO107","v":1},null,null,null,{"$f":"'3 - Alt Num Lanes Input'!AS107","v":1},null,{"$f":"'3 - Alt Num Lanes Input'!AU107","v":2},null,{"$f":"'3 - Alt Num Lanes Input'!AW107","v":1},null,null,null,{"$f":"'3 - Alt Num Lanes Input'!BA107","v":1},null,{"$f":"'3 - Alt Num Lanes Input'!BC107","v":2},null,{"$f":"'3 - Alt Num Lanes Input'!BE107","v":1}]
[]
[null,null,null,null,null,null,null,null,null,null,null,null,null,null,null,null,null,null,null,null,null,null,null,null,null,null,null,null,null,null,null,null,null,"E-W",null,null,null,null,null,null,{"$f":"'3 - Alt Num Lanes Input'!AC109","v":1},null,{"$f":"'3 - Alt Num Lanes Input'!AE109","v":2},null,{"$f":"'3 - Alt Num Lanes Input'!AG109","v":1},null,null,null,{"$f":"'3 - Alt Num Lanes Input'!AK109","v":1},null,{"$f":"'3 - Alt Num Lanes Input'!AM109","v":2},null,{"$f":"'3 - Alt Num Lanes Input'!AO109","v":1},null,null,null,{"$f":"'3 - Alt Num Lanes Input'!AS109","v":1},null,{"$f":"'3 - Alt Num Lanes Input'!AU109","v":2},null,{"$f":"'3 - Alt Num Lanes Input'!AW109","v":1},null,null,null,{"$f":"'3 - Alt Num Lanes Input'!BA109","v":1},null,{"$f":"'3 - Alt Num Lanes Input'!BC109","v":2},null,{"$f":"'3 - Alt Num Lanes Input'!BE109","v":1}]
[]
[]
[null,"Capacity Analysis for Planning of Junctions"]
[]
[null,"Detailed Report - Page 3 of 4"]
[]
[]
[]
[null,null,null,null,"Results for Non-roundabout Intersections"]
[]
[null,null,null,null,"TYPE OF INTERSECTION",null,null,null,null,null,null,null,null,null,null,null,null,null,null,null,null,null,null,"Sheet",null,null,null,null,null,"Zone 1 (North)",null,null,null,null,null,"Zone 2 (South)",null,null,null,null,null,"Zone 3 (East)",null,null,null,null,null,"Zone 4 (West)",null,null,null,null,null,"Zone 5 (Center) ",null,null,null,null,null,"Overall v/c Ratio ",null,null,null,null,null,null,"Pedestrian Accommodations",null,null,null,"Bicycle Accommodations",null,null,null,"Transit Accommodations"]
[]
[null,null,null,null,null,null,null,null,null,null,null,null,null,null,null,null,null,null,null,null,null,null,null,null,null,null,null,null,null,"CLV",null,null,"V/C",null,null,"CLV",null,null,"V/C",null,null,"CLV",null,null,"V/C",null,null,"CLV",null,null,"V/C",null,null,"CLV",null,null,"V/C"]
[]
[null,null,null,null,{"$f":"'3 - Alt Num Lanes Input'!E24","v":"Traffic Signal"},null,null,null,null,null,null,null,null,null,null,null,null,null,null,null,null,null,null,"FULL",null,null,null,null,null,null,null,null,null,null,null,null,null,null,null,null,null,null,null,null,null,null,null,null,null,null,null,null,null,{"$f":"Result_Conventional_CLV_Z5","v":502.6509695290859},null,null,{"$f":"Result_Conventional_VC_Z5","v":0.3},null,null,{"$f":"MAX(AG163,AM163,AS163,AY163,BE163)","v":0.3},null,null,null,null,null,null,{"$f":"MMDataComp!AL4","v":"Good"},null,null,null,{"$f":"MMDataComp!AM4","v":"Good"},null,null,null,{"$f":"MMDataComp!AN4","v":"Excellent"},null,true]
[]
[null,null,null,null,"Conventional Shared RT LN",null,null,null,null,null,null,null,null,null,null,null,null,null,null,null,null,null,null,"CSRL",null,null,null,null,null,null,null,null,null,null,null,null,null,null,null,null,null,null,null,null,null,null,null,null,null,null,null,null,null,{"$f":"Result_ConventionalSharedRTLT_CLV_Z5","v":617.5},null,null,{"$f":"Result_ConventionalSharedRTLT_VC_Z5","v":0.36},null,null,{"$f":"MAX(AG165,AM165,AS165,AY165,BE165)","v":0.36},null,null,null,null,null,null,{"$f":"MMDataComp!AL10","v":"Fair"},null,null,null,{"$f":"MMDataComp!AM10","v":"Good"},null,null,null,{"$f":"MMDataComp!AN10","v":"Excellent"},null,true]
[]
[null,null,null,null,{"$f":"'3 - Alt Num Lanes Input'!E28","v":"Two-Way Stop Control"},null,null,null,null,null,null,null,null,null,null,null,null,null,null,null,null,null,null,"N-S",null,null,null,null,null,null,null,null,null,null,null,null,null,null,null,null,null,null,null,null,null,null,null,null,null,null,null,null,null,"--",null,null,{"$f":"Result_TWSC_NS_VC_Z5","v":3.004391956229405},null,null,{"$f":"MAX(AG167,AM167,AS167,AY167,BE167)","v":3.004391956229405},null,null,null,null,null,null,{"$f":"MMDataComp!AL8","v":"Fair"},null,null,null,{"$f":"MMDataComp!AM8","v":"Good"},null,null,null,{"$f":"MMDataComp!AN8","v":"Excellent"}]
[]
[null,null,null,null,null,null,null,null,null,null,null,null,null,null,null,null,null,null,null,null,null,null,null,"E-W",null,null,null,null,null,null,null,null,null,null,null,null,null,null,null,null,null,null,null,null,null,null,null,null,null,null,null,null,null,"--",null,null,{"$f":"Result_TWSC_EW_VC_Z5","v":1.3097947217873753},null,null,{"$f":"MAX(AG169,AM169,AS169,AY169,BE169)","v":1.3097947217873753},null,null,null,null,null,null,{"$f":"MMDataComp!AL10","v":"Fair"},null,null,null,{"$f":"MMDataComp!AM10","v":"Good"},null,null,null,{"$f":"MMDataComp!AN10","v":"Excellent"}]
[]
[null,null,null,null,{"$f":"'3 - Alt Num Lanes Input'!E32","v":"All-Way Stop Control"},null,null,null,null,null,null,null,null,null,null,null,null,null,null,null,null,null,null,"FULL",null,null,null,null,null,null,null,null,null,null,null,null,null,null,null,null,null,null,null,null,null,null,null,null,null,null,null,null,null,{"$f":"Result_AWSC_CLV_Z5","v":2204},null,null,{"$f":"Result_AWSC_VC_Z5","v":1.22},null,null,{"$f":"MAX(AG171,AM171,AS171,AY171,BE171)","v":1.22},null,null,null,null,null,null,{"$f":"MMDataComp!AL12","v":"Excellent"},null,null,null,{"$f":"MMDataComp!AM12","v":"Excellent"},null,null,null,{"$f":"MMDataComp!AN12","v":"Excellent"}]
[]
[null,null,null,null,"Continuous Green T",null,null,null,null,null,null,null,null,null,null,null,null,null,null,null,null,null,null,"W",null,null,null,null,null,null,null,null,null,null,null,null,null,null,null,null,null,null,null,null,null,null,null,null,null,null,null,null,null,{"$f":"Result_CGT_W_CLV_Z5","v":395},null,null,{"$f":"Result_CGT_W_VC_Z5","v":0.23},null,null,{"$f":"MAX(AG173,AM173,AS173,AY173,BE173)","v":0.23},null,null,null,null,null,null,{"$f":"MMDataComp!AL14","v":"Fair"},null,null,null,{"$f":"MMDataComp!AM14","v":"Fair"},null,null,null,{"$f":"MMDataComp!AN14","v":"Excellent"},null,true]
[]
[null,null,null,null,null,null,null,null,null,null,null,null,null,null,null,null,null,null,null,null,null,null,null,"N",null,null,null,null,null,null,null,null,null,null,null,null,null,null,null,null,null,null,null,null,null,null,null,null,null,null,null,null,null,{"$f":"Result_CGT_N_CLV_Z5","v":242.00000000000003},null,null,{"$f":"Result_CGT_N_VC_Z5","v":0.14000000000000001},null,null,{"$f":"MAX(AG175,AM175,AS175,AY175,BE175)","v":0.14000000000000001},null,null,null,null,null,null,{"$f":"MMDataComp!AL16","v":"Fair"},null,null,null,{"$f":"MMDataComp!AM16","v":"Fair"},null,null,null,{"$f":"MMDataComp!AN16","v":"Excellent"},null,true]
[]
[null,null,null,null,null,null,null,null,null,null,null,null,null,null,null,null,null,null,null,null,null,null,null,"E",null,null,null,null,null,null,null,null,null,null,null,null,null,null,null,null,null,null,null,null,null,null,null,null,null,null,null,null,null,{"$f":"Result_CGT_E_CLV_Z5","v":395},null,null,{"$f":"Result_CGT_E_VC_Z5","v":0.23},null,null,{"$f":"MAX(AG177,AM177,AS177,AY177,BE177)","v":0.23},null,null,null,null,null,null,{"$f":"MMDataComp!AL18","v":"Fair"},null,null,null,{"$f":"MMDataComp!AM18","v":"Fair"},null,null,null,{"$f":"MMDataComp!AN18","v":"Excellent"},null,true]
[]
[null,null,null,null,null,null,null,null,null,null,null,null,null,null,null,null,null,null,null,null,null,null,null,"S",null,null,null,null,null,null,null,null,null,null,null,null,null,null,null,null,null,null,null,null,null,null,null,null,null,null,null,null,null,{"$f":"Result_CGT_S_CLV_Z5","v":242},null,null,{"$f":"Result_CGT_S_VC_Z5","v":0.14000000000000001},null,null,{"$f":"MAX(AG179,AM179,AS179,AY179,BE179)","v":0.14000000000000001},null,null,null,null,null,null,{"$f":"MMDataComp!AL20","v":"Fair"},null,null,null,{"$f":"MMDataComp!AM20","v":"Fair"},null,null,null,{"$f":"MMDataComp!AN20","v":"Excellent"},null,true]
[]
[null,null,null,null,"Quadrant Roadway",null,null,null,null,null,null,null,null,null,null,null,null,null,null,null,null,null,null,"S-W",null,null,null,null,null,null,null,null,null,null,null,{"$f":"Result_QR_SW_CLV_Z2","v":395},null,null,{"$f":"Result_QR_SW_VC_Z2","v":0.23},null,null,null,null,null,null,null,null,{"$f":"Result_QR_SW_CLV_Z4","v":311.36842105263156},null,null,{"$f":"Result_QR_SW_VC_Z4","v":0.18},null,null,{"$f":"Result_QR_SW_CLV_Z5","v":459},null,null,{"$f":"Result_QR_SW_VC_Z5","v":0.26},null,null,{"$f":"MAX(AG181,AM181,AS181,AY181,BE181)","v":0.26},null,null,null,null,null,null,{"$f":"MMDataComp!AL22","v":"Good"},null,null,null,{"$f":"MMDataComp!AM22","v":"Good"},null,null,null,{"$f":"MMDataComp!AN22","v":"Good"},null,true]
[]
[null,null,null,null,null,null,null,null,null,null,null,null,null,null,null,null,null,null,null,null,null,null,null,"N-E",null,null,null,null,null,{"$f":"Result_QR_NE_CLV_Z1","v":395},null,null,{"$f":"Result_QR_NE_VC_Z1","v":0.23},null,null,null,null,null,null,null,null,{"$f":"Result_QR_NE_CLV_Z3","v":311.36842105263156},null,null,{"$f":"Result_QR_NE_VC_Z3","v":0.18},null,null,null,null,null,null,null,null,{"$f":"Result_QR_NE_CLV_Z5","v":459},null,null,{"$f":"Result_QR_NE_VC_Z5","v":0.26},null,null,{"$f":"MAX(AG183,AM183,AS183,AY183,BE183)","v":0.26},null,null,null,null,null,null,{"$f":"MMDataComp!AL24","v":"Good"},null,null,null,{"$f":"MMDataComp!AM24","v":"Good"},null,null,null,{"$f":"MMDataComp!AN24","v":"Good"},null,true]
[]
[null,null,null,null,null,null,null,null,null,null,null,null,null,null,null,null,null,null,null,null,null,null,null,"S-E",null,null,null,null,null,null,null,null,null,null,null,{"$f":"Result_QR_SE_CLV_Z2","v":467},null,null,{"$f":"Result_QR_SE_VC_Z2","v":0.27},null,null,{"$f":"Result_QR_SE_CLV_Z3","v":461.63157894736844},null,null,{"$f":"Result_QR_SE_VC_Z3","v":0.26},null,null,null,null,null,null,null,null,{"$f":"Result_QR_SE_CLV_Z5","v":459},null,null,{"$f":"Result_QR_SE_VC_Z5","v":0.26},null,null,{"$f":"MAX(AG185,AM185,AS185,AY185,BE185)","v":0.27},null,null,null,null,null,null,{"$f":"MMDataComp!AL26","v":"Good"},null,null,null,{"$f":"MMDataComp!AM26","v":"Good"},null,null,null,{"$f":"MMDataComp!AN26","v":"Good"},null,true]
[]
[null,null,null,null,null,null,null,null,null,null,null,null,null,null,null,null,null,null,null,null,null,null,null,"N-W",null,null,null,null,null,{"$f":"Result_QR_NW_CLV_Z1","v":467},null,null,{"$f":"Result_QR_NW_VC_Z1","v":0.27},null,null,null,null,null,null,null,null,null,null,null,null,null,null,{"$f":"Result_QR_NW_CLV_Z4","v":461.63157894736844},null,null,{"$f":"Result_QR_NW_VC_Z4","v":0.26},null,null,{"$f":"Result_QR_NW_CLV_Z5","v":423.5},null,null,{"$f":"Result_QR_NW_VC_Z5","v":0.24},null,null,{"$f":"MAX(AG187,AM187,AS187,AY187,BE187)","v":0.27},null,null,null,null,null,null,{"$f":"MMDataComp!AL28","v":"Good"},null,null,null,{"$f":"MMDataComp!AM28","v":"Good"},null,null,null,{"$f":"MMDataComp!AN28","v":"Good"},null,true]
[]
[null,null,null,null,"Partial Displaced Left Turn",null,null,null,null,null,null,null,null,null,null,null,null,null,null,null,null,null,null,"N-S",null,null,null,null,null,{"$f":"Result_PDLT_NS_CLV_Z1","v":377.86842105263156},null,null,{"$f":"Result_PDLT_NS_VC_Z1","v":0.21},null,null,{"$f":"Result_PDLT_NS_CLV_Z2","v":377.86842105263156},null,null,{"$f":"Result_PDLT_NS_VC_Z2","v":0.21},null,null,null,null,null,null,null,null,null,null,null,null,null,null,{"$f":"Result_PDLT_NS_CLV_Z5","v":389.63157894736844},null,null,{"$f":"Result_PDLT_NS_VC_Z5","v":0.22},null,null,{"$f":"MAX(AG189,AM189,AS189,AY189,BE189)","v":0.22},null,null,null,null,null,null,{"$f":"MMDataComp!AL30","v":"Good"},null,null,null,{"$f":"MMDataComp!AM30","v":"Good"},null,null,null,{"$f":"MMDataComp!AN30","v":"Excellent"},null,true]
[]
[null,null,null,null,null,null,null,null,null,null,null,null,null,null,null,null,null,null,null,null,null,null,null,"E-W",null,null,null,null,null,null,null,null,null,null,null,null,null,null,null,null,null,{"$f":"Result_PDLT_EW_CLV_Z3","v":185.63157894736844},null,null,{"$f":"Result_PDLT_EW_VC_Z3","v":0.1},null,null,{"$f":"Result_PDLT_EW_CLV_Z4","v":185.63157894736844},null,null,{"$f":"Result_PDLT_EW_VC_Z4","v":0.1},null,null,{"$f":"Result_PDLT_EW_CLV_Z5","v":464.36842105263156},null,null,{"$f":"Result_PDLT_EW_VC_Z5","v":0.27},null,null,{"$f":"MAX(AG191,AM191,AS191,AY191,BE191)","v":0.27},null,null,null,null,null,null,{"$f":"MMDataComp!AL32","v":"Good"},null,null,null,{"$f":"MMDataComp!AM32","v":"Good"},null,null,null,{"$f":"MMDataComp!AN32","v":"Excellent"},null,true]
[]
[null,null,null,null,"Displaced Left Turn",null,null,null,null,null,null,null,null,null,null,null,null,null,null,null,null,null,null,"FULL",null,null,null,null,null,{"$f":"Result_DLT_CLV_Z1","v":377.86842105263156},null,null,{"$f":"Result_DLT_VC_Z1","v":0.21},null,null,{"$f":"Result_DLT_CLV_Z2","v":377.86842105263156},null,null,{"$f":"Result_DLT_VC_Z2","v":0.21},null,null,{"$f":"Result_DLT_CLV_Z3","v":185.63157894736844},null,null,{"$f":"Result_DLT_VC_Z3","v":0.1},null,null,{"$f":"Result_DLT_CLV_Z4","v":185.63157894736844},null,null,{"$f":"Result_DLT_VC_Z4","v":0.1},null,null,{"$f":"Result_DLT_CLV_Z5","v":357},null,null,{"$f":"Result_DLT_VC_Z5","v":0.2},null,null,{"$f":"MAX(AG193,AM193,AS193,AY193,BE193)","v":0.21},null,null,null,null,null,null,{"$f":"MMDataComp!AL34","v":"Good"},null,null,null,{"$f":"MMDataComp!AM34","v":"Good"},null,null,null,{"$f":"MMDataComp!AN34","v":"Excellent"},null,true]
[]
[null,null,null,null,{"$f":"'3 - Alt Num Lanes Input'!E56","v":"Signalized Restricted Crossing U-Turn"},null,null,null,null,null,null,null,null,null,null,null,null,null,null,null,null,null,null,"N-S",null,null,null,null,null,{"$f":"Result_RCUT_NS_CLV_Z1","v":701.75},null,null,{"$f":"Result_RCUT_NS_VC_Z1","v":0.39},null,null,{"$f":"Result_RCUT_NS_CLV_Z2","v":701.75},null,null,{"$f":"Result_RCUT_NS_VC_Z2","v":0.39},null,null,{"$f":"Result_RCUT_NS_CLV_Z3","v":816.47058823529414},null,null,{"$f":"Result_RCUT_NS_VC_Z3","v":0.45},null,null,{"$f":"Result_RCUT_NS_CLV_Z4","v":816.47058823529414},null,null,{"$f":"Result_RCUT_NS_VC_Z4","v":0.45},null,null,null,null,null,null,null,null,{"$f":"MAX(AG195,AM195,AS195,AY195,BE195)","v":0.45},null,null,null,null,null,null,{"$f":"MMDataComp!AL36","v":"Excellent"},null,null,null,{"$f":"MMDataComp!AM36","v":"Excellent"},null,null,null,{"$f":"MMDataComp!AN36","v":"Good"},null,true]
[]
[null,null,null,null,null,null,null,null,null,null,null,null,null,null,null,null,null,null,null,null,null,null,null,"E-W",null,null,null,null,null,{"$f":"Result_RCUT_EW_CLV_Z1","v":1620},null,null,{"$f":"Result_RCUT_EW_VC_Z1","v":0.9},null,null,{"$f":"Result_RCUT_EW_CLV_Z2","v":1620},null,null,{"$f":"Result_RCUT_EW_VC_Z2","v":0.9},null,null,{"$f":"Result_RCUT_EW_CLV_Z3","v":908},null,null,{"$f":"Result_RCUT_EW_VC_Z3","v":0.5},null,null,{"$f":"Result_RCUT_EW_CLV_Z4","v":908},null,null,{"$f":"Result_RCUT_EW_VC_Z4","v":0.5},null,null,null,null,null,null,null,null,{"$f":"MAX(AG197,AM197,AS197,AY197,BE197)","v":0.9},null,null,null,null,null,null,{"$f":"MMDataComp!AL38","v":"Excellent"},null,null,null,{"$f":"MMDataComp!AM38","v":"Excellent"},null,null,null,{"$f":"MMDataComp!AN38","v":"Good"},null,true]
[]
[null,null,null,null,{"$f":"'3 - Alt Num Lanes Input'!E60","v":"Unsignalized Restricted Crossing U-Turn"},null,null,null,null,null,null,null,null,null,null,null,null,null,null,null,null,null,null,"N-S",null,null,null,null,null,{"$f":"Result_URCUT_NS_CLV_Z1","v":816},null,null,{"$f":"Result_URCUT_NS_VC_Z1","v":0.35281527018121533},null,null,{"$f":"Result_URCUT_NS_CLV_Z2","v":816},null,null,{"$f":"Result_URCUT_NS_VC_Z2","v":0.35281527018121533},null,null,{"$f":"Result_URCUT_NS_CLV_Z3","v":541},null,null,{"$f":"Result_URCUT_NS_VC_Z3","v":0.58924366590961619},null,null,{"$f":"Result_URCUT_NS_CLV_Z4","v":541},null,null,{"$f":"Result_URCUT_NS_VC_Z4","v":0.58924366590961619},null,null,null,null,null,null,null,null,{"$f":"MAX(AG199,AM199,AS199,AY199,BE199)","v":0.58924366590961619},null,null,null,null,null,null,{"$f":"MMDataComp!AL40","v":"Good"},null,null,null,{"$f":"MMDataComp!AM40","v":"Good"},null,null,null,{"$f":"MMDataComp!AN40","v":"Good"}]
[]
[null,null,null,null,null,null,null,null,null,null,null,null,null,null,null,null,null,null,null,null,null,null,null,"E-W",null,null,null,null,null,{"$f":"Result_URCUT_EW_CLV_Z1","v":306},null,null,{"$f":"Result_URCUT_EW_VC_Z1","v":1.1827071618935139},null,null,{"$f":"Result_URCUT_EW_CLV_Z2","v":306},null,null,{"$f":"Result_URCUT_EW_VC_Z2","v":1.1827071618935139},null,null,{"$f":"Result_URCUT_EW_CLV_Z3","v":286},null,null,{"$f":"Result_URCUT_EW_VC_Z3","v":0.57217127930046763},null,null,{"$f":"Result_URCUT_EW_CLV_Z4","v":286},null,null,{"$f":"Result_URCUT_EW_VC_Z4","v":0.57217127930046763},null,null,null,null,null,null,null,null,{"$f":"MAX(AG201,AM201,AS201,AY201,BE201)","v":1.1827071618935139},null,null,null,null,null,null,{"$f":"MMDataComp!AL42","v":"Good"},null,null,null,{"$f":"MMDataComp!AM42","v":"Good"},null,null,null,{"$f":"MMDataComp!AN42","v":"Good"}]
[]
[null,null,null,null,"Median U-Turn",null,null,null,null,null,null,null,null,null,null,null,null,null,null,null,null,null,null,"N-S",null,null,null,null,null,{"$f":"Result_MUT_NS_CLV_Z1","v":574.25},null,null,{"$f":"Result_MUT_NS_VC_Z1","v":0.32},null,null,{"$f":"Result_MUT_NS_CLV_Z2","v":574.25},null,null,{"$f":"Result_MUT_NS_VC_Z2","v":0.32},null,null,null,null,null,null,null,null,null,null,null,null,null,null,{"$f":"Result_MUT_NS_CLV_Z5","v":462},null,null,{"$f":"Result_MUT_NS_VC_Z5","v":0.26},null,null,{"$f":"MAX(AG203,AM203,AS203,AY203,BE203)","v":0.32},null,null,null,null,null,null,{"$f":"MMDataComp!AL44","v":"Excellent"},null,null,null,{"$f":"MMDataComp!AM44","v":"Excellent"},null,null,null,{"$f":"MMDataComp!AN44","v":"Good"},null,true]
[]
[null,null,null,null,null,null,null,null,null,null,null,null,null,null,null,null,null,null,null,null,null,null,null,"E-W",null,null,null,null,null,null,null,null,null,null,null,null,null,null,null,null,null,{"$f":"Result_MUT_EW_CLV_Z3","v":309.25},null,null,{"$f":"Result_MUT_EW_VC_Z3","v":0.17},null,null,{"$f":"Result_MUT_EW_CLV_Z4","v":309.25},null,null,{"$f":"Result_MUT_EW_VC_Z4","v":0.17},null,null,{"$f":"Result_MUT_EW_CLV_Z5","v":477.5},null,null,{"$f":"Result_MUT_EW_VC_Z5","v":0.27},null,null,{"$f":"MAX(AG205,AM205,AS205,AY205,BE205)","v":0.27},null,null,null,null,null,null,{"$f":"MMDataComp!AL46","v":"Excellent"},null,null,null,{"$f":"MMDataComp!AM46","v":"Excellent"},null,null,null,{"$f":"MMDataComp!AN46","v":"Good"},null,true]
[]
[null,null,null,null,"Partial Median U-Turn",null,null,null,null,null,null,null,null,null,null,null,null,null,null,null,null,null,null,"N-S",null,null,null,null,null,{"$f":"Result_PMUT_NS_CLV_Z1","v":535.5},null,null,{"$f":"Result_PMUT_NS_VC_Z1","v":0.3},null,null,{"$f":"Result_PMUT_NS_CLV_Z2","v":535.5},null,null,{"$f":"Result_PMUT_NS_VC_Z2","v":0.3},null,null,null,null,null,null,null,null,null,null,null,null,null,null,{"$f":"Result_PMUT_NS_CLV_Z5","v":461.63157894736844},null,null,{"$f":"Result_PMUT_NS_VC_Z5","v":0.26},null,null,{"$f":"MAX(AG207,AM207,AS207,AY207,BE207)","v":0.3},null,null,null,null,null,null,{"$f":"MMDataComp!AL48","v":"Excellent"},null,null,null,{"$f":"MMDataComp!AM48","v":"Excellent"},null,null,null,{"$f":"MMDataComp!AN48","v":"Good"},null,true]
[]
[null,null,null,null,null,null,null,null,null,null,null,null,null,null,null,null,null,null,null,null,null,null,null,"E-W",null,null,null,null,null,null,null,null,null,null,null,null,null,null,null,null,null,{"$f":"Result_PMUT_EW_CLV_Z3","v":181.75},null,null,{"$f":"Result_PMUT_EW_VC_Z3","v":0.1},null,null,{"$f":"Result_PMUT_EW_CLV_Z4","v":181.75},null,null,{"$f":"Result_PMUT_EW_VC_Z4","v":0.1},null,null,{"$f":"Result_PMUT_EW_CLV_Z5","v":479.86842105263156},null,null,{"$f":"Result_PMUT_EW_VC_Z5","v":0.27},null,null,{"$f":"MAX(AG209,AM209,AS209,AY209,BE209)","v":0.27},null,null,null,null,null,null,{"$f":"MMDataComp!AL50","v":"Excellent"},null,null,null,{"$f":"MMDataComp!AM50","v":"Excellent"},null,null,null,{"$f":"MMDataComp!AN50","v":"Good"},null,true]
[]
[]
[]
[null,"Capacity Analysis for Planning of Junctions"]
[]
[null,"Detailed Report - Page 4 of 4"]
[]
[]
[]
[null,null,null,null,"Results for Roundabouts"]
[]
[null,null,null,null,"TYPE OF ROUNDABOUT",null,null,null,null,null,null,"Zone 1 (North)",null,null,null,null,null,null,null,null,null,null,null,"Zone 3 (East)",null,null,null,null,null,null,null,null,null,null,null,"Zone 2 (South)",null,null,null,null,null,null,null,null,null,null,null,"Zone 4 (West)",null,null,null,null,null,null,null,null,null,null,null,"Overall v/c Ratio ",null,null,null,null,null,null,"Pedestrian Accommodations",null,null,null,"Bicycle Accommodations",null,null,null,"Transit Accommodations"]
[null,{"$f":"IF(L229>1,1,0)","v":0},{"$f":"IF(X229>1,1,0)","v":0}]
[null,{"$f":"IF(AJ229>1,1,0)","v":0},{"$f":"IF(AV229>1,1,0)","v":0},null,null,null,null,null,null,null,null,"Lane 1",null,null,null,"Lane 2",null,null,null," Lane 3",null,null,null,"Lane 1",null,null,null,"Lane 2",null,null,null," Lane 3",null,null,null,"Lane 1",null,null,null,"Lane 2",null,null,null," Lane 3",null,null,null,"Lane 1",null,null,null,"Lane 2",null,null,null," Lane 3"]
[]
[null,null,null,null,"50 ICD",null,null,null,null,null,null,{"$f":"Result_50ICD_VC_Z1","v":1.2015078924049682},null,null,null,null,null,null,null,null,null,null,null,{"$f":"Result_50ICD_VC_Z3","v":0.78508234653600095},null,null,null,null,null,null,null,null,null,null,null,{"$f":"Result_50ICD_VC_Z2","v":1.1761592519627155},null,null,null,null,null,null,null,null,null,null,null,{"$f":"Result_50ICD_VC_Z4","v":0.797136004213433},null,null,null,null,null,null,null,null,null,null,null,{"$f":"MAX(L225:BG226)","v":1.2015078924049682},null,null,null,null,null,null,{"$f":"MMDataComp!AL52","v":"Excellent"},null,null,null,{"$f":"MMDataComp!AM52","v":"Excellent"},null,null,null,{"$f":"MMDataComp!AN52","v":"Excellent"},null,true]
[null,{"$f":"IF(L231>1,1,0)","v":0},{"$f":"IF(AJ231>1,1,0)","v":0}]
[null,{"$f":"IF(OR(X231>1, AB231>1),1,0)","v":0},{"$f":"IF(OR(AV231>1, AZ231>1),1,0)","v":0},null,"75 ICD",null,null,null,null,null,null,{"$f":"Result_75ICD_VC_Z1","v":1.1467495384333108},null,null,null,null,null,null,null,null,null,null,null,{"$f":"Result_75ICD_VC_Z3","v":0.70547242610631655},null,null,null,null,null,null,null,null,null,null,null,{"$f":"Result_75ICD_VC_Z2","v":1.12111142502231},null,null,null,null,null,null,null,null,null,null,null,{"$f":"Result_75ICD_VC_Z4","v":0.67150663064832983},null,null,null,null,null,null,null,null,null,null,null,{"$f":"MAX(L227:BG228)","v":1.1467495384333108},null,null,null,null,null,null,{"$f":"MMDataComp!AL54","v":"Excellent"},null,null,null,{"$f":"MMDataComp!AM54","v":"Excellent"},null,null,null,{"$f":"MMDataComp!AN54","v":"Excellent"},null,true]
[]
[null,null,null,null,"1 X 1",null,null,null,null,null,null,{"$f":"Result_1x1Rdbt_VC_Z1","v":0.83386444718295072},null,null,null,null,null,null,null,null,null,null,null,{"$f":"Result_1x1Rdbt_VC_Z3","v":0.39932208093482385},null,null,null,null,null,null,null,null,null,null,null,{"$f":"Result_1x1Rdbt_VC_Z2","v":0.83386444718295072},null,null,null,null,null,null,null,null,null,null,null,{"$f":"Result_1x1Rdbt_VC_Z4","v":0.39932208093482385},null,null,null,null,null,null,null,null,null,null,null,{"$f":"MAX(L229:BG230)","v":0.83386444718295072},null,null,null,null,null,null,{"$f":"MMDataComp!AL56","v":"Excellent"},null,null,null,{"$f":"MMDataComp!AM56","v":"Excellent"},null,null,null,{"$f":"MMDataComp!AN56","v":"Excellent"},null,true]
[null,{"$f":"IF(AV233>1,1,0)","v":0},{"$f":"IF(X233>1,1,0)","v":0}]
[null,{"$f":"IF(OR(L233>1, P233>1),1,0)","v":0},{"$f":"IF(OR(AJ233>1,AN233>1),1,0)","v":0},null,"1 X 2",null,null,null,null,null,null,{"$f":"Result_1x2Rdbt_VC_L1_Z1","v":0.76525375396253192},null,null,null,null,null,null,null,null,null,null,null,{"$f":"Result_1x2Rdbt_VC_L1_Z3","v":0.17990422646463175},null,null,null,{"$f":"Result_1x2Rdbt_VC_L2_Z3","v":0.18438144211542062},null,null,null,null,null,null,null,{"$f":"Result_1x2Rdbt_VC_L1_Z2","v":0.76525375396253192},null,null,null,null,null,null,null,null,null,null,null,{"$f":"Result_1x2Rdbt_VC_L1_Z4","v":0.17990422646463175},null,null,null,{"$f":"Result_1x2Rdbt_VC_L2_Z4","v":0.18438144211542062},null,null,null,null,null,null,null,{"$f":"MAX(L231:BG232)","v":0.76525375396253192},null,null,null,null,null,null,{"$f":"MMDataComp!AL58","v":"Good"},null,null,null,{"$f":"MMDataComp!AM58","v":"Excellent"},null,null,null,{"$f":"MMDataComp!AN58","v":"Excellent"},null,true]
[]
[null,null,null,null,"2 X 1",null,null,null,null,null,null,{"$f":"Result_2x1Rdbt_VC_L1_Z1","v":0.38734941942391848},null,null,null,{"$f":"Result_2x1Rdbt_VC_L2_Z1","v":0.40558448960014193},null,null,null,null,null,null,null,{"$f":"Result_2x1Rdbt_VC_L1_Z3","v":0.34788951342532187},null,null,null,null,null,null,null,null,null,null,null,{"$f":"Result_2x1Rdbt_VC_L1_Z2","v":0.38734941942391848},null,null,null,{"$f":"Result_2x1Rdbt_VC_L2_Z2","v":0.40558448960014193},null,null,null,null,null,null,null,{"$f":"Result_2x1Rdbt_VC_L1_Z4","v":0.34788951342532187},null,null,null,null,null,null,null,null,null,null,null,{"$f":"MAX(L233:BG234)","v":0.40558448960014193},null,null,null,null,null,null,{"$f":"MMDataComp!AL60","v":"Good"},null,null,null,{"$f":"MMDataComp!AM60","v":"Excellent"},null,null,null,{"$f":"MMDataComp!AN60","v":"Excellent"},null,true]
[null,{"$f":"IF(OR(L235>1, P235>1),1,0)","v":0},{"$f":"IF(OR(AV235>1,AZ235>1),1,0)","v":0}]
[null,{"$f":"IF(OR(AJ235>1, AN235>1),1,0)","v":0},{"$f":"IF(OR(X235>1, AB235>1),1,0)","v":0},null,"2 X 2",null,null,null,null,null,null,{"$f":"Result_2x2Rdbt_VC_L1_Z1","v":0.38734941942391848},null,null,null,{"$f":"Result_2x2Rdbt_VC_L2_Z1","v":0.40558448960014193},null,null,null,null,null,null,null,{"$f":"Result_2x2Rdbt_VC_L1_Z3","v":0.17990422646463175},null,null,null,{"$f":"Result_2x2Rdbt_VC_L2_Z3","v":0.18438144211542062},null,null,null,null,null,null,null,{"$f":"Result_2x2Rdbt_VC_L1_Z2","v":0.38734941942391848},null,null,null,{"$f":"Result_2x2Rdbt_VC_L2_Z2","v":0.40558448960014193},null,null,null,null,null,null,null,{"$f":"Result_2x2Rdbt_VC_L1_Z4","v":0.17990422646463175},null,null,null,{"$f":"Result_2x2Rdbt_VC_L2_Z4","v":0.18438144211542062},null,null,null,null,null,null,null,{"$f":"MAX(L235:BG236)","v":0.40558448960014193},null,null,null,null,null,null,{"$f":"MMDataComp!AL62","v":"Good"},null,null,null,{"$f":"MMDataComp!AM62","v":"Excellent"},null,null,null,{"$f":"MMDataComp!AN62","v":"Excellent"},null,true]
[]
[null,null,null,null,"3 X 3",null,null,null,null,null,null,{"$f":"Result_3x3Rdbt_VC_L1_Z1","v":6.175007633529693E-2},null,null,null,{"$f":"Result_3x3Rdbt_VC_L2_Z1","v":0.36097733807052673},null,null,null,{"$f":"Result_3x3Rdbt_VC_L3_Z1","v":0.48605315436566804},null,null,null,{"$f":"Result_3x3Rdbt_VC_L1_Z3","v":2.5599612199335927E-2},null,null,null,{"$f":"Result_3x3Rdbt_VC_L2_Z3","v":0.18998116061118261},null,null,null,{"$f":"Result_3x3Rdbt_VC_L3_Z3","v":0.22208504437468563},null,null,null,{"$f":"Result_3x3Rdbt_VC_L1_Z2","v":6.175007633529693E-2},null,null,null,{"$f":"Result_3x3Rdbt_VC_L2_Z2","v":0.36097733807052673},null,null,null,{"$f":"Result_3x3Rdbt_VC_L3_Z2","v":0.48605315436566804},null,null,null,{"$f":"Result_3x3Rdbt_VC_L1_Z4","v":2.5599612199335927E-2},null,null,null,{"$f":"Result_3x3Rdbt_VC_L2_Z4","v":0.18998116061118261},null,null,null,{"$f":"Result_3x3Rdbt_VC_L3_Z4","v":0.22208504437468563},null,null,null,{"$f":"MAX(L237:BG238)","v":0.48605315436566804},null,null,null,null,null,null,{"$f":"MMDataComp!AL64","v":"Fair"},null,null,null,{"$f":"MMDataComp!AM64","v":"Good"},null,null,null,{"$f":"MMDataComp!AN64","v":"Excellent"},null,true]
[null,{"$f":"IF(OR(L237>1, P237>1,T237>1),1,0)","v":0},{"$f":"IF(OR(X237>1, AB237>1,AF237>1),1,0)","v":0}]
[]
[null,{"$f":"IF(OR(AJ237>1, AN237>1,AR237>1),1,0)","v":0},{"$f":"IF(OR(AV237>1, AZ237>1,BD237>1),1,0)","v":0}]
[null,null,null,null,"Results for Interchanges"]
[]
[null,null,null,null,"TYPE OF INTERCHANGE",null,null,null,null,null,null,null,null,null,null,null,null,"Sheet",null,null,null,null,null,"Zone 1       (Rt Mrg)",null,null,null,null,null,"Zone 2       (Lt Mrg)",null,null,null,null,null,"Zone 3     (Ctr. 1)",null,null,null,null,null,"Zone 4     (Ctr. 2)",null,null,null,null,null,"Zone 5       (Lt Mrg)",null,null,null,null,null,"Zone 6       (Rt Mrg)",null,null,null,null,null,"Overall v/c Ratio ",null,null,null,null,null,null,"Pedestrian Accommodations",null,null,null,"Bicycle Accommodations",null,null,null,"Transit Accommodations"]
[]
[null,null,null,null,null,null,null,null,null,null,null,null,null,null,null,null,null,null,null,null,null,null,null,"CLV",null,null,"V/C",null,null,"CLV",null,null,"V/C",null,null,"CLV",null,null,"V/C",null,null,"CLV",null,null,"V/C",null,null,"CLV",null,null,"V/C",null,null,"CLV",null,null,"V/C"]
[]
[null,null,null,null,"Diamond",null,null,null,null,null,null,null,null,null,null,null,null,"N-S",null,null,null,null,null,null,null,null,null,null,null,null,null,null,null,null,null,{"$f":"Result_TD_NS_CLV_Z3","v":503.15789473684208},null,null,{"$f":"Result_TD_NS_VC_Z3","v":0.28999999999999998},null,null,{"$f":"Result_TD_NS_CLV_Z4","v":520.73684210526312},null,null,{"$f":"Result_TD_NS_VC_Z4","v":0.3},null,null,null,null,null,null,null,null,null,null,null,null,null,null,{"$f":"MAX(AA247,AG247,AM247,AS247,AY247,BE247)","v":0.3},null,null,null,null,null,null,{"$f":"MMDataComp!AL66","v":"Good"},null,null,null,{"$f":"MMDataComp!AM66","v":"Good"},null,null,null,{"$f":"MMDataComp!AN66","v":"Excellent"},null,true]
[]
[null,null,null,null,null,null,null,null,null,null,null,null,null,null,null,null,null,"E-W",null,null,null,null,null,null,null,null,null,null,null,null,null,null,null,null,null,{"$f":"Result_TD_EW_CLV_Z3","v":528.78947368421052},null,null,{"$f":"Result_TD_EW_VC_Z3","v":0.3},null,null,{"$f":"Result_TD_EW_CLV_Z4","v":454.0526315789474},null,null,{"$f":"Result_TD_EW_VC_Z4","v":0.26},null,null,null,null,null,null,null,null,null,null,null,null,null,null,{"$f":"MAX(AA249,AG249,AM249,AS249,AY249,BE249)","v":0.3},null,null,null,null,null,null,{"$f":"MMDataComp!AL68","v":"Good"},null,null,null,{"$f":"MMDataComp!AM68","v":"Good"},null,null,null,{"$f":"MMDataComp!AN68","v":"Excellent"},null,true]
[]
[null,null,null,null,"Partial Cloverleaf A",null,null,null,null,null,null,null,null,null,null,null,null,"N-S",null,null,null,null,null,null,null,null,null,null,null,null,null,null,null,null,null,{"$f":"Result_PCLA_NS_CLV_Z3","v":338.63157894736844},null,null,{"$f":"Result_PCLA_NS_VC_Z3","v":0.19},null,null,{"$f":"Result_PCLA_NS_CLV_Z4","v":338.63157894736844},null,null,{"$f":"Result_PCLA_NS_VC_Z4","v":0.19},null,null,null,null,null,null,null,null,null,null,null,null,null,null,{"$f":"MAX(AA251,AG251,AM251,AS251,AY251,BE251)","v":0.19},null,null,null,null,null,null,{"$f":"MMDataComp!AL70","v":"Fair"},null,null,null,{"$f":"MMDataComp!AM70","v":"Fair"},null,null,null,{"$f":"MMDataComp!AN70","v":"Excellent"},null,true]
[]
[null,null,null,null,null,null,null,null,null,null,null,null,null,null,null,null,null,"E-W",null,null,null,null,null,null,null,null,null,null,null,null,null,null,null,null,null,{"$f":"Result_PCLA_EW_CLV_Z3","v":224.86842105263159},null,null,{"$f":"Result_PCLA_EW_VC_Z3","v":0.12},null,null,{"$f":"Result_PCLA_EW_CLV_Z4","v":224.86842105263159},null,null,{"$f":"Result_PCLA_EW_VC_Z4","v":0.12},null,null,null,null,null,null,null,null,null,null,null,null,null,null,{"$f":"MAX(AA253,AG253,AM253,AS253,AY253,BE253)","v":0.12},null,null,null,null,null,null,{"$f":"MMDataComp!AL72","v":"Fair"},null,null,null,{"$f":"MMDataComp!AM72","v":"Fair"},null,null,null,{"$f":"MMDataComp!AN72","v":"Excellent"},null,true]
[]
[null,null,null,null,"Partial Cloverleaf B",null,null,null,null,null,null,null,null,null,null,null,null,"N-S",null,null,null,null,null,null,null,null,null,null,null,null,null,null,null,null,null,{"$f":"Result_PCLB_NS_CLV_Z3","v":413.36842105263156},null,null,{"$f":"Result_PCLB_NS_VC_Z3","v":0.23},null,null,{"$f":"Result_PCLB_NS_CLV_Z4","v":413.36842105263156},null,null,{"$f":"Result_PCLB_NS_VC_Z4","v":0.23},null,null,null,null,null,null,null,null,null,null,null,null,null,null,{"$f":"MAX(AA255,AG255,AM255,AS255,AY255,BE255)","v":0.23},null,null,null,null,null,null,{"$f":"MMDataComp!AL74","v":"Fair"},null,null,null,{"$f":"MMDataComp!AM74","v":"Fair"},null,null,null,{"$f":"MMDataComp!AN74","v":"Excellent"},null,true]
[]
[null,null,null,null,null,null,null,null,null,null,null,null,null,null,null,null,null,"E-W",null,null,null,null,null,null,null,null,null,null,null,null,null,null,null,null,null,{"$f":"Result_PCLB_EW_CLV_Z3","v":165.63157894736844},null,null,{"$f":"Result_PCLB_EW_VC_Z3","v":0.09},null,null,{"$f":"Result_PCLB_EW_CLV_Z4","v":150.13157894736844},null,null,{"$f":"Result_PCLB_EW_VC_Z4","v":0.08},null,null,null,null,null,null,null,null,null,null,null,null,null,null,{"$f":"MAX(AA257,AG257,AM257,AS257,AY257,BE257)","v":0.09},null,null,null,null,null,null,{"$f":"MMDataComp!AL76","v":"Fair"},null,null,null,{"$f":"MMDataComp!AM76","v":"Fair"},null,null,null,{"$f":"MMDataComp!AN76","v":"Excellent"},null,true]
[]
[null,null,null,null,"Displaced Left Turn",null,null,null,null,null,null,null,null,null,null,null,null,"N-S",null,null,null,null,null,{"$f":"Result_DLTI_NS_CLV_Z1","v":377.86842105263156},null,null,{"$f":"Result_DLTI_NS_VC_Z1","v":0.21},null,null,null,null,null,null,null,null,{"$f":"Result_DLTI_NS_CLV_Z3","v":516.23684210526312},null,null,{"$f":"Result_DLTI_NS_VC_Z3","v":0.28999999999999998},null,null,{"$f":"Result_DLTI_NS_CLV_Z4","v":516.23684210526312},null,null,{"$f":"Result_DLTI_NS_VC_Z4","v":0.28999999999999998},null,null,null,null,null,null,null,null,{"$f":"Result_DLTI_NS_CLV_Z6","v":377.86842105263156},null,null,{"$f":"Result_DLTI_NS_VC_Z6","v":0.21},null,null,{"$f":"MAX(AA259,AG259,AM259,AS259,AY259,BE259)","v":0.28999999999999998},null,null,null,null,null,null,{"$f":"MMDataComp!AL78","v":"Good"},null,null,null,{"$f":"MMDataComp!AM78","v":"Good"},null,null,null,{"$f":"MMDataComp!AN78","v":"Excellent"},null,true]
[]
[null,null,null,null,null,null,null,null,null,null,null,null,null,null,null,null,null,"E-W",null,null,null,null,null,{"$f":"Result_DLTI_EW_CLV_Z1","v":367.73684210526318},null,null,{"$f":"Result_DLTI_EW_VC_Z1","v":0.2},null,null,null,null,null,null,null,null,{"$f":"Result_DLTI_EW_CLV_Z3","v":260.36842105263156},null,null,{"$f":"Result_DLTI_EW_VC_Z3","v":0.14000000000000001},null,null,{"$f":"Result_DLTI_EW_CLV_Z4","v":770.36842105263156},null,null,{"$f":"Result_DLTI_EW_VC_Z4","v":0.43},null,null,null,null,null,null,null,null,{"$f":"Result_DLTI_EW_CLV_Z6","v":367.73684210526318},null,null,{"$f":"Result_DLTI_EW_VC_Z6","v":0.2},null,null,{"$f":"MAX(AA261,AG261,AM261,AS261,AY261,BE261)","v":0.43},null,null,null,null,null,null,{"$f":"MMDataComp!AL80","v":"Good"},null,null,null,{"$f":"MMDataComp!AM80","v":"Good"},null,null,null,{"$f":"MMDataComp!AN80","v":"Excellent"},null,true]
[]
[null,null,null,null,"Diverging Diamond Interchange",null,null,null,null,null,null,null,null,null,null,null,null,"N-S",null,null,null,null,null,{"$f":"Result_DCD_NS_CLV_Z1","v":324.18421052631578},null,null,{"$f":"Result_DCD_NS_VC_Z1","v":0.18},null,null,{"$f":"Result_DCD_NS_CLV_Z2","v":338.63157894736844},null,null,{"$f":"Result_DCD_NS_VC_Z2","v":0.19},null,null,{"$f":"Result_DCD_NS_CLV_Z3","v":576.5},null,null,{"$f":"Result_DCD_NS_VC_Z3","v":0.32},null,null,{"$f":"Result_DCD_NS_CLV_Z4","v":576.5},null,null,{"$f":"Result_DCD_NS_VC_Z4","v":0.32},null,null,{"$f":"Result_DCD_NS_CLV_Z5","v":338.63157894736844},null,null,{"$f":"Result_DCD_NS_VC_Z5","v":0.19},null,null,{"$f":"Result_DCD_NS_CLV_Z6","v":324.18421052631578},null,null,{"$f":"Result_DCD_NS_VC_Z6","v":0.18},null,null,{"$f":"MAX(AA263,AG263,AM263,AS263,AY263,BE263)","v":0.32},null,null,null,null,null,null,{"$f":"MMDataComp!AL82","v":"Excellent"},null,null,null,{"$f":"MMDataComp!AM82","v":"Excellent"},null,null,null,{"$f":"MMDataComp!AN82","v":"Excellent"},null,true]
[]
[null,null,null,null,null,null,null,null,null,null,null,null,null,null,null,null,null,"E-W",null,null,null,null,null,{"$f":"Result_DCD_EW_CLV_Z1","v":393},null,null,{"$f":"Result_DCD_EW_VC_Z1","v":0.22},null,null,{"$f":"Result_DCD_EW_CLV_Z2","v":270.5},null,null,{"$f":"Result_DCD_EW_VC_Z2","v":0.15},null,null,{"$f":"Result_DCD_EW_CLV_Z3","v":224.86842105263159},null,null,{"$f":"Result_DCD_EW_VC_Z3","v":0.12},null,null,{"$f":"Result_DCD_EW_CLV_Z4","v":224.86842105263159},null,null,{"$f":"Result_DCD_EW_VC_Z4","v":0.12},null,null,{"$f":"Result_DCD_EW_CLV_Z5","v":270.5},null,null,{"$f":"Result_DCD_EW_VC_Z5","v":0.15},null,null,{"$f":"Result_DCD_EW_CLV_Z6","v":393},null,null,{"$f":"Result_DCD_EW_VC_Z6","v":0.22},null,null,{"$f":"MAX(AA265,AG265,AM265,AS265,AY265,BE265)","v":0.22},null,null,null,null,null,null,{"$f":"MMDataComp!AL84","v":"Excellent"},null,null,null,{"$f":"MMDataComp!AM84","v":"Excellent"},null,null,null,{"$f":"MMDataComp!AN84","v":"Excellent"},null,true]
[]
[null,null,null,null,"Single Point ",null,null,null,null,null,null,null,null,null,null,null,null,"N-S",null,null,null,null,null,{"$f":"Result_SPI_NS_CLV_Z1","v":330.5},null,null,{"$f":"Result_SPI_NS_VC_Z1","v":0.18},null,null,null,null,null,null,null,null,{"$f":"Result_SPI_NS_CLV_Z3","v":395},null,null,{"$f":"Result_SPI_NS_VC_Z3","v":0.23},null,null,null,null,null,null,null,null,null,null,null,null,null,null,{"$f":"Result_SPI_NS_CLV_Z6","v":330.5},null,null,{"$f":"Result_SPI_NS_VC_Z6","v":0.18},null,null,{"$f":"MAX(AA267,AG267,AM267,AS267,AY267,BE267)","v":0.23},null,null,null,null,null,null,{"$f":"MMDataComp!AL86","v":"Good"},null,null,null,{"$f":"MMDataComp!AM86","v":"Good"},null,null,null,{"$f":"MMDataComp!AN86","v":"Excellent"},null,true]
[]
[null,null,null,null,null,null,null,null,null,null,null,null,null,null,null,null,null,"E-W",null,null,null,null,null,{"$f":"Result_SPI_EW_CLV_Z1","v":393},null,null,{"$f":"Result_SPI_EW_VC_Z1","v":0.22},null,null,null,null,null,null,null,null,{"$f":"Result_SPI_EW_CLV_Z3","v":242.00000000000003},null,null,{"$f":"Result_SPI_EW_VC_Z3","v":0.14000000000000001},null,null,null,null,null,null,null,null,null,null,null,null,null,null,{"$f":"Result_SPI_EW_CLV_Z6","v":393},null,null,{"$f":"Result_SPI_EW_VC_Z6","v":0.22},null,null,{"$f":"MAX(AA269,AG269,AM269,AS269,AY269,BE269)","v":0.22},null,null,null,null,null,null,{"$f":"MMDataComp!AL88","v":"Good"},null,null,null,{"$f":"MMDataComp!AM88","v":"Good"},null,null,null,{"$f":"MMDataComp!AN88","v":"Excellent"},null,true]

{"sheet":"Traffic Signal","index":14,"n_rows":74,"n_cols":102,"rows_kept":74,"cut":false,"hidden":false,"merged":[[33,107,34,112],[33,113,34,115],[33,70,34,75],[33,76,34,78],[50,87,51,92],[50,93,51,95],[73,13,73,46],[12,2,13,9],[12,10,13,35],[10,48,13,59],[10,36,13,47],[10,2,11,9],[10,10,11,35],[27,7,29,15],[27,16,29,16],[30,7,32,10],[30,11,32,11],[30,16,32,16],[30,12,32,15],[33,12,33,16],[27,87,27,89],[27,90,27,92],[27,93,27,95],[27,96,27,98],[0,1,1,60],[2,1,3,60],[6,2,7,9],[6,10,7,35],[8,36,9,41],[8,42,9,47],[8,48,9,53],[8,54,9,59],[5,36,5,38],[5,42,5,44],[8,2,9,9],[8,10,9,35],[6,36,7,59],[0,63,1,122],[2,63,3,122],[23,87,26,89],[23,90,26,92],[23,93,26,95],[23,96,26,98],[9,79,12,84],[5,78,6,79],[20,87,21,92],[20,93,21,95],[5,64,7,77],[28,87,28,89],[28,90,28,92],[28,93,28,95],[28,96,28,98],[29,87,29,89],[29,90,29,92],[29,93,29,98],[30,80,32,83],[30,84,32,84],[30,85,32,85],[30,86,35,86],[30,99,32,99],[30,100,32,100],[30,101,32,101],[30,102,32,105],[33,80,35,83],[33,84,35,84],[33,85,35,85],[33,89,35,96],[33,99,35,99],[33,100,35,100],[33,101,35,101],[33,102,35,105],[36,99,41,99],[36,100,38,100],[36,101,38,101],[36,102,38,105],[39,80,41,83],[39,84,41,84],[39,85,41,85],[39,86,41,86],[39,100,41,100],[39,101,41,101],[39,102,41,105],[36,80,38,83],[36,84,38,84],[36,85,38,85],[36,86,38,86],[36,89,38,96],[45,87,48,89],[45,90,48,92],[45,93,48,95],[45,96,48,98],[42,87,42,92],[42,93,42,95],[42,96,42,98],[43,87,43,89],[43,90,43,92],[43,93,43,95],[43,96,43,98],[44,87,44,89],[44,90,44,92],[44,93,44,95],[44,96,44,98]]}
[null,"Traffic Signal",null,null,null,null,null,null,null,null,null,null,null,null,null,null,null,null,null,null,null,null,null,null,null,null,null,null,null,null,null,null,null,null,null,null,null,null,null,null,null,null,null,null,null,null,null,null,null,null,null,null,null,null,null,null,null,null,null,null,null,null,null,"Traffic Signal"]
[]
[null,"Design and results",null,null,null,null,null,null,null,null,null,null,null,null,null,null,null,null,null,null,null,null,null,null,null,null,null,null,null,null,null,null,null,null,null,null,null,null,null,null,null,null,null,null,null,null,null,null,null,null,null,null,null,null,null,null,null,null,null,null,null,null,null,"Data Input and Configuration"]
[]
[]
[null,null,null,null,null,null,null,null,null,null,null,null,null,null,null,null,null,null,null,null,null,null,null,null,null,null,null,null,null,null,null,null,null,null,null,null,null,null,null,null,null,null,null,null,null,null,null,null,null,null,null,null,null,null,null,null,null,null,null,null,null,null,null,null,"Multimodal Capacity Adjustment Factor",null,null,null,null,null,null,null,null,null,null,null,null,null,{"$f":"IF(Multimodal=1,1,IF(MAX(CM30,CV34,CP43,CI37)<3,1,IF(MAX(CI37,CP43,CV34,CM30)<4,0.9,0.8)))","v":1}]
[null,null,"Project Name:",null,null,null,null,null,null,null,{"$f":"P_Name","v":"Cap-X Sample Street"},null,null,null,null,null,null,null,null,null,null,null,null,null,null,null,null,null,null,null,null,null,null,null,null,null,"Volume-to-Capacity Ratio"]
[]
[null,null,"Project Number:",null,null,null,null,null,null,null,{"$f":"P_Number","v":10000},null,null,null,null,null,null,null,null,null,null,null,null,null,null,null,null,null,null,null,null,null,null,null,null,null,"< 0.750",null,null,null,null,null,"0.750 - 0.875",null,null,null,null,null,"0.875 - 1.00",null,null,null,null,null,"≥ 1.00"]
[]
[null,null,"Location",null,null,null,null,null,null,null,{"$f":"Location","v":"Tallahassee, FL"},null,null,null,null,null,null,null,null,null,null,null,null,null,null,null,null,null,null,null,null,null,null,null,null,null,"VOLUME / CAPACITY RATIO:",null,null,null,null,null,null,null,null,null,null,null,{"$f":"H31","v":0.3}]
[]
[null,null,"Date",null,null,null,null,null,null,null,{"$f":"Date","v":"2017 AM"}]
[]
[]
[]
[]
[]
[]
[]
[]
[]
[]
[]
[]
[]
[]
[null,null,null,null,null,null,null,{"$f":"CL37","v":502.6509695290859},null,null,null,null,null,null,null,null,"CLV",null,null,null,null,null,null,null,null,null,null,null,null,null,null,null,null,null,null,null,null,null,null,null,null,null,null,null,null,null,null,null,null,null,null,null,null,null,null,null,null,null,null,null,null,null,null,null,null,null,null,null,null,null,null,null,null,null,null,null,null,null,null,null,null,null,null,null,null,null,null,"pepch",null,null,"pepch",null,null,"pepch",null,null,"pepch"]
[null,null,null,null,null,null,null,null,null,null,null,null,null,null,null,null,null,null,null,null,null,null,null,null,null,null,null,null,null,null,null,null,null,null,null,null,null,null,null,null,null,null,null,null,null,null,null,null,null,null,null,null,null,null,null,null,null,null,null,null,null,null,null,null,null,null,null,null,null,null,null,null,null,null,null,null,null,null,null,null,null,null,null,null,null,null,null,{"$f":"'3 - Alt Num Lanes Input'!CY24","v":204},null,null,{"$f":"'3 - Alt Num Lanes Input'!CW24","v":510},null,null,{"$f":"'3 - Alt Num Lanes Input'!CU24","v":102},null,null,{"$f":"SBU_Master","v":0}]
[null,null,null,null,null,null,null,null,null,null,null,null,null,null,null,null,null,null,null,null,null,null,null,null,null,null,null,null,null,null,null,null,null,null,null,null,null,null,null,null,null,null,null,null,null,null,null,null,null,null,null,null,null,null,null,null,null,null,null,null,null,null,null,null,null,null,null,null,null,null,null,null,null,null,null,null,null,null,null,null,null,null,null,null,null,null,null,{"$f":"IF('3 - Alt Num Lanes Input'!AO24=0,1,'3 - Alt Num Lanes Input'!AO24)","v":1},null,null,{"$f":"IF('3 - Alt Num Lanes Input'!AM24=0,1,'3 - Alt Num Lanes Input'!AM24)","v":2},null,null,{"$f":"IF('3 - Alt Num Lanes Input'!AK24=0,1,'3 - Alt Num Lanes Input'!AK24)","v":1}]
[null,null,null,null,null,null,null,{"$f":"ROUND(H28/M31,2)","v":0.3},null,null,null,"V/C",{"$f":"CA6*IF((EBL_Master+EBR_Master+EBT_Master+EBU_Master)=0,CLV_Limit_3,IF((WBL_Master+WBR_Master+WBT_Master+WBU_Master)=0,CLV_Limit_3,IF((NBL_Master+NBR_Master+NBT_Master+NBU_Master)=0,CLV_Limit_3,IF((SBL_Master+SBR_Master+SBT_Master+SBU_Master)=0,CLV_Limit_3,CLV_Limit_4))))","v":1700},null,null,null,"MAX",null,null,null,null,null,null,null,null,null,null,null,null,null,null,null,null,null,null,null,null,null,null,null,null,null,null,null,null,null,null,null,null,null,null,null,null,null,null,null,null,null,null,null,null,null,null,null,null,null,null,null,null,null,null,null,null,null,null,null,null,null,null,null,null,null,null,null,"pepch",{"$f":"EBU_Master","v":0},{"$f":"IF('3 - Alt Num Lanes Input'!AS24=0,1,'3 - Alt Num Lanes Input'!AS24)","v":1},null,null,null,null,null,null,null,null,null,null,null,null,{"$f":"IF('3 - Alt Num Lanes Input'!BE24=0,1,'3 - Alt Num Lanes Input'!BE24)","v":1},{"$f":"'3 - Alt Num Lanes Input'!DO24","v":51},"pepch"]
[]
[]
[null,null,null,null,null,null,null,null,null,null,null,null,{"$f":"IF((EBL_Master+EBR_Master+EBT_Master+EBU_Master)=0,\"3 Phases\",IF((WBL_Master+WBR_Master+WBT_Master+WBU_Master)=0,\"3 Phases\",IF((NBL_Master+NBR_Master+NBT_Master+NBU_Master)=0,\"3 Phases\",IF((SBL_Master+SBR_Master+SBT_Master+SBU_Master)=0,\"3 Phases\",\"4 Phases\"))))","v":"4 Phases"},null,null,null,null,null,null,null,null,null,null,null,null,null,null,null,null,null,null,null,null,null,null,null,null,null,null,null,null,null,null,null,null,null,null,null,null,null,null,null,null,null,null,null,null,null,null,null,null,null,null,null,null,null,null,null,null,null,null,null,null,null,null,null,null,null,null,null,null,null,null,null,"pepch",{"$f":"'3 - Alt Num Lanes Input'!DC24","v":31},null,null,null,null,null,null,null,null,null,null,null,null,null,{"$f":"IF('3 - Alt Num Lanes Input'!BC24=0,1,'3 - Alt Num Lanes Input'!BC24)","v":2},{"$f":"'3 - Alt Num Lanes Input'!DM24","v":204},"pepch"]
[]
[]
[null,null,null,null,null,null,null,null,null,null,null,null,null,null,null,null,null,null,null,null,null,null,null,null,null,null,null,null,null,null,null,null,null,null,null,null,null,null,null,null,null,null,null,null,null,null,null,null,null,null,null,null,null,null,null,null,null,null,null,null,null,null,null,null,null,null,null,null,null,null,null,null,null,null,null,null,null,null,null,null,null,null,null,null,"pepch",{"$f":"'3 - Alt Num Lanes Input'!DE24","v":204},{"$f":"IF('3 - Alt Num Lanes Input'!AU24=0,1,'3 - Alt Num Lanes Input'!AU24)","v":2},null,null,{"$f":"MAX((CH34/LTAF+CH31/UTAF)/CI31 + MAX(CW34/CV34, ROUND(MAX(0,CW31/RTAF/CV31-CP29/LTAF/CP30),0)), (CW37/LTAF+CW40/UTAF)/CV37 +MAX(CH37/CI37, ROUND(MAX(0,CH40/RTAF/CI40-CM44/LTAF/CJ43),0)))+MAX((CM44/LTAF+CJ44/UTAF)/LTAF/CJ43 + MAX(CM29/CM30, ROUND(MAX(0,CJ29/RTAF/CJ30-CH34/LTAF/CI31),0)), (CP29/LTAF+CS29/UTAF)/LTAF/CP30 +MAX(CP44/CP43, ROUND(MAX(0,CS44/RTAF/CS43-CW37/LTAF/CV37),0)))","v":502.6509695290859},null,null,null,null,null,null,null,null,null,{"$f":"IF('3 - Alt Num Lanes Input'!BA24=0,1,'3 - Alt Num Lanes Input'!BA24)","v":1},{"$f":"'3 - Alt Num Lanes Input'!DK24","v":31},"pepch"]
[]
[]
[null,null,null,null,null,null,null,null,null,null,null,null,null,null,null,null,null,null,null,null,null,null,null,null,null,null,null,null,null,null,null,null,null,null,null,null,null,null,null,null,null,null,null,null,null,null,null,null,null,null,null,null,null,null,null,null,null,null,null,null,null,null,null,null,null,null,null,null,null,null,null,null,null,null,null,null,null,null,null,null,null,null,null,null,"pepch",{"$f":"'3 - Alt Num Lanes Input'!DG24","v":51},{"$f":"IF('3 - Alt Num Lanes Input'!AW24=0,1,'3 - Alt Num Lanes Input'!AW24)","v":1},null,null,null,null,null,null,null,null,null,null,null,null,null,{"$f":"WBU_Master","v":0},"pepch"]
[]
[]
[null,null,null,null,null,null,null,null,null,null,null,null,null,null,null,null,null,null,null,null,null,null,null,null,null,null,null,null,null,null,null,null,null,null,null,null,null,null,null,null,null,null,null,null,null,null,null,null,null,null,null,null,null,null,null,null,null,null,null,null,null,null,null,null,null,null,null,null,null,null,null,null,null,null,null,null,null,null,null,null,null,null,null,null,null,null,null,{"$f":"IF('3 - Alt Num Lanes Input'!AC24=0,1,'3 - Alt Num Lanes Input'!AC24)","v":1},null,null,null,null,null,{"$f":"IF('3 - Alt Num Lanes Input'!AE24=0,1,'3 - Alt Num Lanes Input'!AE24)","v":2},null,null,{"$f":"IF('3 - Alt Num Lanes Input'!AG24=0,1,'3 - Alt Num Lanes Input'!AG24)","v":1}]
[null,null,null,null,null,null,null,null,null,null,null,null,null,null,null,null,null,null,null,null,null,null,null,null,null,null,null,null,null,null,null,null,null,null,null,null,null,null,null,null,null,null,null,null,null,null,null,null,null,null,null,null,null,null,null,null,null,null,null,null,null,null,null,null,null,null,null,null,null,null,null,null,null,null,null,null,null,null,null,null,null,null,null,null,null,null,null,{"$f":"NBU_Master","v":0},null,null,{"$f":"'3 - Alt Num Lanes Input'!CM24","v":102},null,null,{"$f":"'3 - Alt Num Lanes Input'!CO24","v":510},null,null,{"$f":"'3 - Alt Num Lanes Input'!CQ24","v":204}]
[null,null,null,null,null,null,null,null,null,null,null,null,null,null,null,null,null,null,null,null,null,null,null,null,null,null,null,null,null,null,null,null,null,null,null,null,null,null,null,null,null,null,null,null,null,null,null,null,null,null,null,null,null,null,null,null,null,null,null,null,null,null,null,null,null,null,null,null,null,null,null,null,null,null,null,null,null,null,null,null,null,null,null,null,null,null,null,"pepch",null,null,"pepch",null,null,"pepch",null,null,"pepch"]
[]
[]
[]
[]
[]
[]
[]
[]
[]
[]
[]
[]
[]
[]
[]
[]
[]
[]
[]
[]
[]
[]
[]
[]
[]
[]
[]
[]
[null,null,null,null,null,null,null,null,null,null,null,null,null,"Note: This diagram does not reflect the actual lane configuration of the Intersection"]

{"sheet":"Conventional Shared RT LT","index":15,"n_rows":74,"n_cols":110,"rows_kept":74,"cut":false,"hidden":true,"merged":[[43,93,43,98],[36,85,41,85],[28,87,28,92],[30,100,35,100],[27,7,29,15],[27,16,29,16],[30,76,32,76],[30,77,32,77],[30,78,35,78],[42,90,42,92],[43,90,43,92],[27,87,27,89],[27,90,27,92],[27,93,27,95],[28,93,28,95],[29,93,29,95],[36,84,38,84],[36,89,38,96],[36,99,38,99],[36,100,38,100],[36,86,41,86],[30,99,35,99],[29,87,29,92],[43,75,44,76],[73,13,73,46],[7,2,8,9],[7,10,8,35],[9,2,10,9],[9,10,10,35],[11,2,12,9],[11,10,12,35],[9,36,12,47],[30,7,32,10],[30,11,32,11],[30,12,32,15],[30,16,32,16],[33,12,33,16],[9,48,12,59],[0,1,1,60],[2,1,3,60],[5,2,6,9],[5,10,6,35],[5,36,6,59],[7,36,8,41],[7,42,8,47],[7,48,8,53],[7,54,8,59],[0,63,1,122],[2,63,3,122],[5,64,6,74],[7,64,10,65],[7,66,8,70],[7,71,8,74],[9,66,10,70],[9,71,10,71],[9,72,10,74],[5,90,6,91],[5,76,7,89],[11,64,14,65],[11,66,12,70],[11,71,12,74],[13,66,14,70],[13,71,14,71],[13,72,14,74],[15,64,18,65],[15,66,16,70],[15,71,16,74],[15,87,18,89],[15,90,18,92],[15,93,18,95],[15,96,18,98],[17,66,18,70],[17,71,18,71],[17,72,18,74],[19,64,22,65],[19,66,20,70],[19,71,20,74],[19,87,19,89],[19,90,19,92],[19,93,19,95],[19,96,19,98],[20,87,20,89],[20,90,20,92],[20,93,20,95],[20,96,20,98],[20,103,20,106],[21,66,22,70],[21,71,22,71],[21,72,22,74],[21,87,21,89],[21,90,21,92],[21,93,21,98],[21,103,21,106],[23,87,26,89],[23,90,26,92],[23,93,26,95],[24,103,25,104],[36,107,41,107],[42,93,42,98],[30,108,32,108],[30,109,32,109],[30,110,32,113],[33,72,35,75],[33,76,35,76],[33,77,35,77],[33,80,35,83],[33,84,35,84],[33,85,35,85],[33,86,35,86],[33,89,35,96],[33,101,35,101],[33,102,35,105],[33,107,35,107],[33,108,35,108],[33,109,35,109],[33,110,35,113],[30,72,32,75],[30,101,32,101],[30,102,32,105],[30,107,32,107],[50,96,50,98],[51,87,51,89],[51,90,51,92],[51,93,51,95],[51,96,51,98],[36,108,38,108],[36,109,38,109],[36,110,38,113],[39,72,41,75],[39,76,41,76],[39,77,41,77],[39,78,41,78],[39,80,41,83],[39,84,41,84],[39,108,41,108],[39,109,41,109],[39,110,41,113],[36,72,38,75],[36,76,38,76],[36,77,38,77],[36,78,38,78],[36,80,38,83],[36,101,38,101],[36,102,38,105],[45,113,46,114],[60,93,61,94],[13,88,14,93],[13,94,14,96],[43,107,44,112],[43,113,44,115],[58,90,59,95],[58,96,59,98],[44,90,44,92],[44,93,44,95],[44,96,44,98],[52,87,52,89],[52,90,52,92],[52,93,52,95],[52,96,52,98],[53,87,56,89],[53,90,56,92],[53,93,56,95],[53,96,56,98],[45,90,48,92],[45,93,48,95],[45,96,48,98],[50,87,50,92],[50,93,50,95]]}
[null,"Conventional Shared RT LN",null,null,null,null,null,null,null,null,null,null,null,null,null,null,null,null,null,null,null,null,null,null,null,null,null,null,null,null,null,null,null,null,null,null,null,null,null,null,null,null,null,null,null,null,null,null,null,null,null,null,null,null,null,null,null,null,null,null,null,null,null,"Conventional Shared RT LN"]
[]
[null,"Design and Results",null,null,null,null,null,null,null,null,null,null,null,null,null,null,null,null,null,null,null,null,null,null,null,null,null,null,null,null,null,null,null,null,null,null,null,null,null,null,null,null,null,null,null,null,null,null,null,null,null,null,null,null,null,null,null,null,null,null,null,null,null,"Data Input and Configuration"]
[]
[]
[null,null,"Project Name:",null,null,null,null,null,null,null,{"$f":"P_Name","v":"Cap-X Sample Street"},null,null,null,null,null,null,null,null,null,null,null,null,null,null,null,null,null,null,null,null,null,null,null,null,null,"Volume-to-Capacity Ratio",null,null,null,null,null,null,null,null,null,null,null,null,null,null,null,null,null,null,null,null,null,null,null,null,null,null,null,"LT EQ",null,null,null,null,null,null,null,null,null,null,null,"Multimodal Capacity Adjustment Factor",null,null,null,null,null,null,null,null,null,null,null,null,null,{"$f":"IF(Multimodal=1,1,IF(MAX(CJ30,CI37,CP43,CV31)<3,1,IF(MAX(CJ30,CI37,CP43,CV31)<4,0.9,0.8)))","v":1}]
[]
[null,null,"Project Number:",null,null,null,null,null,null,null,{"$f":"P_Number","v":10000},null,null,null,null,null,null,null,null,null,null,null,null,null,null,null,null,null,null,null,null,null,null,null,null,null,"< 0.750",null,null,null,null,null,"0.750 - 0.875",null,null,null,null,null,"0.875 - 1.00",null,null,null,null,null,"≥ 1.00",null,null,null,null,null,null,null,null,null,"SB",null,"Opposing Traffic ",null,null,null,null,{"$f":"CS52+CP52","v":714}]
[]
[null,null,"Location",null,null,null,null,null,null,null,{"$f":"Location","v":"Tallahassee, FL"},null,null,null,null,null,null,null,null,null,null,null,null,null,null,null,null,null,null,null,null,null,null,null,null,null,"VOLUME / CAPACITY RATIO:",null,null,null,null,null,null,null,null,null,null,null,{"$f":"H31","v":0.36},null,null,null,null,null,null,null,null,null,null,null,null,null,null,null,null,null,"1 LT =",null,null,null,null,{"$f":"IF(BT8<199, 1.1, IF(BT8<599,2, IF(BT8<799,3, IF(BT8<999,4, IF(BT8>1000,5,5)))))","v":3},"TVE"]
[]
[null,null,"Date",null,null,null,null,null,null,null,{"$f":"Date","v":"2017 AM"},null,null,null,null,null,null,null,null,null,null,null,null,null,null,null,null,null,null,null,null,null,null,null,null,null,null,null,null,null,null,null,null,null,null,null,null,null,null,null,null,null,null,null,null,null,null,null,null,null,null,null,null,null,"NB",null,"Opposing Traffic ",null,null,null,null,{"$f":"CM21+CJ21","v":714}]
[]
[null,null,null,null,null,null,null,null,null,null,null,null,null,null,null,null,null,null,null,null,null,null,null,null,null,null,null,null,null,null,null,null,null,null,null,null,null,null,null,null,null,null,null,null,null,null,null,null,null,null,null,null,null,null,null,null,null,null,null,null,null,null,null,null,null,null,"1 LT =",null,null,null,null,{"$f":"IF(BT12<199, 1.1, IF(BT12<599,2, IF(BT12<799,3, IF(BT12<999,4, IF(BT12>1000,5,5)))))","v":3},"TVE"]
[]
[null,null,null,null,null,null,null,null,null,null,null,null,null,null,null,null,null,null,null,null,null,null,null,null,null,null,null,null,null,null,null,null,null,null,null,null,null,null,null,null,null,null,null,null,null,null,null,null,null,null,null,null,null,null,null,null,null,null,null,null,null,null,null,null,"WB",null,"Opposing Traffic ",null,null,null,null,{"$f":"BZ37+BZ40","v":255}]
[]
[null,null,null,null,null,null,null,null,null,null,null,null,null,null,null,null,null,null,null,null,null,null,null,null,null,null,null,null,null,null,null,null,null,null,null,null,null,null,null,null,null,null,null,null,null,null,null,null,null,null,null,null,null,null,null,null,null,null,null,null,null,null,null,null,null,null,"1 LT =",null,null,null,null,{"$f":"IF(BT16<199, 1.1, IF(BT16<599,2, IF(BT16<799,3, IF(BT16<999,4, IF(BT16>1000,5,5)))))","v":2},"TVE"]
[]
[null,null,null,null,null,null,null,null,null,null,null,null,null,null,null,null,null,null,null,null,null,null,null,null,null,null,null,null,null,null,null,null,null,null,null,null,null,null,null,null,null,null,null,null,null,null,null,null,null,null,null,null,null,null,null,null,null,null,null,null,null,null,null,null,"EB",null,"Opposing Traffic ",null,null,null,null,{"$f":"DE34+DE31","v":255},null,null,null,null,null,null,null,null,null,null,null,null,null,null,null,"pepch",null,null,"pepch",null,null,"pepch",null,null,"pepch"]
[null,null,null,null,null,null,null,null,null,null,null,null,null,null,null,null,null,null,null,null,null,null,null,null,null,null,null,null,null,null,null,null,null,null,null,null,null,null,null,null,null,null,null,null,null,null,null,null,null,null,null,null,null,null,null,null,null,null,null,null,null,null,null,null,null,null,null,null,null,null,null,null,null,null,null,null,null,null,null,null,null,null,null,null,null,null,null,{"$f":"SBR_Master","v":204},null,null,{"$f":"SBT_Master","v":510},null,null,{"$f":"SBL_Master","v":102},null,null,{"$f":"SBU_Master","v":0}]
[null,null,null,null,null,null,null,null,null,null,null,null,null,null,null,null,null,null,null,null,null,null,null,null,null,null,null,null,null,null,null,null,null,null,null,null,null,null,null,null,null,null,null,null,null,null,null,null,null,null,null,null,null,null,null,null,null,null,null,null,null,null,null,null,null,null,"1 LT =",null,null,null,null,{"$f":"IF(BT20<199, 1.1, IF(BT20<599,2, IF(BT20<799,3, IF(BT20<999,4, IF(BT20>1000,5,5)))))","v":2},"TVE"]
[]
[]
[]
[]
[]
[null,null,null,null,null,null,null,{"$f":"CL37","v":617.5},null,null,null,null,null,null,null,null,"CLV",null,null,null,null,null,null,null,null,null,null,null,null,null,null,null,null,null,null,null,null,null,null,null,null,null,null,null,null,null,null,null,null,null,null,null,null,null,null,null,null,null,null,null,null,null,null,null,null,null,null,null,null,null,null,null,null,null,null,null,null,null,null,null,null,null,null,null,null,null,null,"pepch",null,null,"pepch",null,null,"pepch"]
[null,null,null,null,null,null,null,null,null,null,null,null,null,null,null,null,null,null,null,null,null,null,null,null,null,null,null,null,null,null,null,null,null,null,null,null,null,null,null,null,null,null,null,null,null,null,null,null,null,null,null,null,null,null,null,null,null,null,null,null,null,null,null,null,null,null,null,null,null,null,null,null,null,null,null,null,null,null,null,null,null,null,null,null,null,null,null,{"$f":"CM21+CJ21","v":714},null,null,null,null,null,{"$f":"SBL_Master","v":102}]
[null,null,null,null,null,null,null,null,null,null,null,null,null,null,null,null,null,null,null,null,null,null,null,null,null,null,null,null,null,null,null,null,null,null,null,null,null,null,null,null,null,null,null,null,null,null,null,null,null,null,null,null,null,null,null,null,null,null,null,null,null,null,null,null,null,null,null,null,null,null,null,null,null,null,null,null,null,null,null,null,null,null,null,null,null,null,null,{"$f":"'3 - Alt Num Lanes Input'!AM26","v":2},null,null,null,null,null,{"$f":"'3 - Alt Num Lanes Input'!AK26","v":1}]
[null,null,null,null,null,null,null,{"$f":"ROUND(H28/M31,2)","v":0.36},null,null,null,"V/C",{"$f":"CM6*IF((EBL_Master+EBR_Master+EBT_Master+EBU_Master)=0,CLV_Limit_3,IF((WBL_Master+WBR_Master+WBT_Master+WBU_Master)=0,CLV_Limit_3,IF((NBL_Master+NBR_Master+NBT_Master+NBU_Master)=0,CLV_Limit_3,IF((SBL_Master+SBR_Master+SBT_Master+SBU_Master)=0,CLV_Limit_3,CLV_Limit_4))))","v":1700},null,null,null,"MAX",null,null,null,null,null,null,null,null,null,null,null,null,null,null,null,null,null,null,null,null,null,null,null,null,null,null,null,null,null,null,null,null,null,null,null,null,null,null,null,null,null,null,null,null,null,null,null,null,null,null,null,null,null,null,null,null,null,null,null,"pepch",{"$f":"EBU_Master","v":0},null,null,null,null,null,null,null,null,null,null,null,null,null,null,null,null,null,null,null,null,null,{"$f":"'3 - Alt Num Lanes Input'!BC26","v":2},{"$f":"DE34+DE31","v":255},"pepch",null,null,null,null,null,null,{"$f":"WBR_Master","v":51},"pepch"]
[]
[]
[null,null,null,null,null,null,null,null,null,null,null,null,{"$f":"IF((EBL_Master+EBR_Master+EBT_Master+EBU_Master)=0,\"3 Phases\",IF((WBL_Master+WBR_Master+WBT_Master+WBU_Master)=0,\"3 Phases\",IF((NBL_Master+NBR_Master+NBT_Master+NBU_Master)=0,\"3 Phases\",IF((SBL_Master+SBR_Master+SBT_Master+SBU_Master)=0,\"3 Phases\",\"4 Phases\"))))","v":"4 Phases"},null,null,null,null,null,null,null,null,null,null,null,null,null,null,null,null,null,null,null,null,null,null,null,null,null,null,null,null,null,null,null,null,null,null,null,null,null,null,null,null,null,null,null,null,null,null,null,null,null,null,null,null,null,null,null,null,null,null,null,null,null,null,null,"pepch",{"$f":"EBL_Master","v":31},null,null,null,null,null,null,"pepch",{"$f":"EBL_Master","v":31},{"$f":"'3 - Alt Num Lanes Input'!AS26","v":1},null,null,null,null,null,null,null,null,null,null,null,null,null,null,"pepch",null,null,null,null,null,null,{"$f":"WBT_Master","v":204},"pepch"]
[]
[]
[null,null,null,null,null,null,null,null,null,null,null,null,null,null,null,null,null,null,null,null,null,null,null,null,null,null,null,null,null,null,null,null,null,null,null,null,null,null,null,null,null,null,null,null,null,null,null,null,null,null,null,null,null,null,null,null,null,null,null,null,null,null,null,null,null,null,null,null,null,null,null,null,null,null,null,null,"pepch",{"$f":"EBT_Master","v":204},null,null,null,null,null,null,"pepch",{"$f":"BZ37+BZ40","v":255},{"$f":"'3 - Alt Num Lanes Input'!AU26","v":2},null,null,{"$f":"MAX(CP29/CP30,CM44/CM43)+MAX(CJ29/CJ30,CP44/CP43)+MAX(CH37/CI37,CW31/CV31)+MAX(CW37/CV37,CH34/CI34)","v":617.5},null,null,null,null,null,null,null,null,null,{"$f":"'3 - Alt Num Lanes Input'!BA26","v":1},{"$f":"DE37","v":31},"pepch",null,null,null,null,null,null,{"$f":"WBL_Master","v":31},"pepch"]
[]
[]
[null,null,null,null,null,null,null,null,null,null,null,null,null,null,null,null,null,null,null,null,null,null,null,null,null,null,null,null,null,null,null,null,null,null,null,null,null,null,null,null,null,null,null,null,null,null,null,null,null,null,null,null,null,null,null,null,null,null,null,null,null,null,null,null,null,null,null,null,null,null,null,null,null,null,null,null,"pepch",{"$f":"EBR_Master","v":51},null,null,null,null,null,null,"pepch",null,null,null,null,null,null,null,null,null,null,null,null,null,null,null,null,null,null,null,null,null,null,null,{"$f":"WBU_Master","v":0},"pepch"]
[]
[]
[null,null,null,null,null,null,null,null,null,null,null,null,null,null,null,null,null,null,null,null,null,null,null,null,null,null,null,null,null,null,null,null,null,null,null,null,null,null,null,null,null,null,null,null,null,null,null,null,null,null,null,null,null,null,null,null,null,null,null,null,null,null,null,null,null,null,null,null,null,null,null,null,null,null,null,null,null,null,null,null,null,null,null,null,null,null,null,null,null,null,{"$f":"'3 - Alt Num Lanes Input'!AC26","v":1},null,null,{"$f":"'3 - Alt Num Lanes Input'!AE26","v":2}]
[null,null,null,null,null,null,null,null,null,null,null,null,null,null,null,null,null,null,null,null,null,null,null,null,null,null,null,null,null,null,null,null,null,null,null,null,null,null,null,null,null,null,null,null,null,null,null,null,null,null,null,null,null,null,null,null,null,null,null,null,null,null,null,null,null,null,null,null,null,null,null,null,null,null,null,null,null,null,null,null,null,null,null,null,null,null,null,null,null,null,{"$f":"NBL_Master","v":102},null,null,{"$f":"CP52+CS52","v":714}]
[null,null,null,null,null,null,null,null,null,null,null,null,null,null,null,null,null,null,null,null,null,null,null,null,null,null,null,null,null,null,null,null,null,null,null,null,null,null,null,null,null,null,null,null,null,null,null,null,null,null,null,null,null,null,null,null,null,null,null,null,null,null,null,null,null,null,null,null,null,null,null,null,null,null,null,null,null,null,null,null,null,null,null,null,null,null,null,null,null,null,"pepch",null,null,"pepch",null,null,"pepch"]
[]
[]
[]
[]
[]
[]
[null,null,null,null,null,null,null,null,null,null,null,null,null,null,null,null,null,null,null,null,null,null,null,null,null,null,null,null,null,null,null,null,null,null,null,null,null,null,null,null,null,null,null,null,null,null,null,null,null,null,null,null,null,null,null,null,null,null,null,null,null,null,null,null,null,null,null,null,null,null,null,null,null,null,null,null,null,null,null,null,null,null,null,null,null,null,null,{"$f":"NBU_Master","v":0},null,null,{"$f":"'3 - Alt Num Lanes Input'!CM26","v":102},null,null,{"$f":"NBT_Master","v":510},null,null,{"$f":"NBR_Master","v":204}]
[null,null,null,null,null,null,null,null,null,null,null,null,null,null,null,null,null,null,null,null,null,null,null,null,null,null,null,null,null,null,null,null,null,null,null,null,null,null,null,null,null,null,null,null,null,null,null,null,null,null,null,null,null,null,null,null,null,null,null,null,null,null,null,null,null,null,null,null,null,null,null,null,null,null,null,null,null,null,null,null,null,null,null,null,null,null,null,"pepch",null,null,"pepch",null,null,"pepch",null,null,"pepch"]
[]
[]
[]
[]
[]
[]
[]
[]
[]
[]
[]
[]
[]
[]
[]
[]
[]
[]
[]
[]
[null,null,null,null,null,null,null,null,null,null,null,null,null,"Note: This diagram does not reflect the actual lane configuration of the Intersection"]

{"sheet":"CGT W","index":16,"n_rows":74,"n_cols":103,"rows_kept":74,"cut":false,"hidden":false,"merged":[[0,1,1,60],[0,63,1,122],[2,1,3,60],[2,63,3,122],[5,36,5,38],[5,42,5,44],[6,2,7,9],[6,10,7,35],[6,36,7,59],[8,2,9,9],[8,10,9,35],[8,36,9,41],[8,42,9,47],[8,48,9,53],[8,54,9,59],[10,2,11,9],[10,10,11,35],[10,36,13,47],[10,48,13,59],[12,2,13,9],[12,10,13,35],[28,87,28,89],[28,90,28,92],[28,93,28,95],[28,96,28,98],[29,87,29,89],[29,90,29,92],[29,93,29,98],[23,87,26,89],[23,90,26,92],[23,93,26,95],[23,96,26,98],[27,87,27,89],[27,90,27,92],[27,93,27,95],[27,96,27,98],[30,99,32,99],[30,100,32,100],[30,101,32,101],[33,80,35,83],[33,84,35,84],[33,85,35,85],[33,89,35,96],[33,99,35,99],[33,100,35,100],[30,86,35,86],[30,80,32,83],[30,84,32,84],[30,85,32,85],[30,102,41,113],[39,100,41,100],[39,101,41,101],[33,101,35,101],[36,100,38,100],[36,101,38,101],[36,80,38,83],[36,84,38,84],[36,85,38,85],[36,86,38,86],[36,89,38,96],[36,99,41,99],[42,87,42,92],[42,93,42,95],[42,96,42,98],[43,87,43,89],[43,90,43,92],[43,93,43,95],[43,96,43,98],[73,13,73,46],[44,87,44,89],[44,90,44,92],[44,93,44,95],[44,96,44,98],[45,87,48,89],[45,90,48,92],[45,93,48,95],[45,96,48,98],[33,12,33,16],[27,7,29,15],[27,16,29,16],[30,7,32,10],[30,11,32,11],[30,12,32,15],[30,16,32,16]]}
[null,"Continuous Green T (W)",null,null,null,null,null,null,null,null,null,null,null,null,null,null,null,null,null,null,null,null,null,null,null,null,null,null,null,null,null,null,null,null,null,null,null,null,null,null,null,null,null,null,null,null,null,null,null,null,null,null,null,null,null,null,null,null,null,null,null,null,null,"Continuous Green T (W)"]
[]
[null,"Design and results",null,null,null,null,null,null,null,null,null,null,null,null,null,null,null,null,null,null,null,null,null,null,null,null,null,null,null,null,null,null,null,null,null,null,null,null,null,null,null,null,null,null,null,null,null,null,null,null,null,null,null,null,null,null,null,null,null,null,null,null,null,"Data Input and Configuration"]
[]
[]
[]
[null,null,"Project Name:",null,null,null,null,null,null,null,{"$f":"P_Name","v":"Cap-X Sample Street"},null,null,null,null,null,null,null,null,null,null,null,null,null,null,null,null,null,null,null,null,null,null,null,null,null,"Volume-to-Capacity Ratio"]
[]
[null,null,"Project Number:",null,null,null,null,null,null,null,{"$f":"P_Number","v":10000},null,null,null,null,null,null,null,null,null,null,null,null,null,null,null,null,null,null,null,null,null,null,null,null,null,"< 0.750",null,null,null,null,null,"0.750 - 0.875",null,null,null,null,null,"0.875 - 1.00",null,null,null,null,null,"≥ 1.00"]
[]
[null,null,"Location",null,null,null,null,null,null,null,{"$f":"Location","v":"Tallahassee, FL"},null,null,null,null,null,null,null,null,null,null,null,null,null,null,null,null,null,null,null,null,null,null,null,null,null,"VOLUME / CAPACITY RATIO:",null,null,null,null,null,null,null,null,null,null,null,{"$f":"H31","v":0.23}]
[]
[null,null,"Date",null,null,null,null,null,null,null,{"$f":"Date","v":"2017 AM"}]
[]
[]
[]
[]
[]
[]
[]
[]
[]
[]
[]
[]
[]
[]
[null,null,null,null,null,null,null,{"$f":"CL37","v":395},null,null,null,null,null,null,null,null,"CLV",null,null,null,null,null,null,null,null,null,null,null,null,null,null,null,null,null,null,null,null,null,null,null,null,null,null,null,null,null,null,null,null,null,null,null,null,null,null,null,null,null,null,null,null,null,null,null,null,null,null,null,null,null,null,null,null,null,null,null,null,null,null,null,null,null,null,null,null,null,null,"pepch",null,null,"pepch"]
[null,null,null,null,null,null,null,null,null,null,null,null,null,null,null,null,null,null,null,null,null,null,null,null,null,null,null,null,null,null,null,null,null,null,null,null,null,null,null,null,null,null,null,null,null,null,null,null,null,null,null,null,null,null,null,null,null,null,null,null,null,null,null,null,null,null,null,null,null,null,null,null,null,null,null,null,null,null,null,null,null,null,null,null,null,null,null,{"$f":"'3 - Alt Num Lanes Input'!CY34","v":204},null,null,{"$f":"'3 - Alt Num Lanes Input'!CW34","v":510}]
[null,null,null,null,null,null,null,null,null,null,null,null,null,null,null,null,null,null,null,null,null,null,null,null,null,null,null,null,null,null,null,null,null,null,null,null,null,null,null,null,null,null,null,null,null,null,null,null,null,null,null,null,null,null,null,null,null,null,null,null,null,null,null,null,null,null,null,null,null,null,null,null,null,null,null,null,null,null,null,null,null,null,null,null,null,null,null,{"$f":"IF('3 - Alt Num Lanes Input'!AO34=0,1,'3 - Alt Num Lanes Input'!AO34)","v":1},null,null,{"$f":"'3 - Alt Num Lanes Input'!AM34","v":2}]
[null,null,null,null,null,null,null,{"$f":"ROUND(H28/CLV_Limit_3,2)","v":0.23},null,null,null,"V/C",{"$f":"CLV_Limit_3","v":1750},null,null,null,"MAX",null,null,null,null,null,null,null,null,null,null,null,null,null,null,null,null,null,null,null,null,null,null,null,null,null,null,null,null,null,null,null,null,null,null,null,null,null,null,null,null,null,null,null,null,null,null,null,null,null,null,null,null,null,null,null,null,null,null,null,null,null,null,null,null,null,null,null,"pepch",{"$f":"EBU_Master","v":0},{"$f":"IF('3 - Alt Num Lanes Input'!AS34=0,1,'3 - Alt Num Lanes Input'!AS34)","v":1},null,null,null,null,null,null,null,null,null,null,null,null,null,null,null,{"$f":"IF((WBL_Master+WBR_Master+WBT_Master+WBU_Master)>1,\"WARNING: Westbound Traffic Not Included\",\"\")","v":"WARNING: Westbound Traffic Not Included"}]
[]
[]
[null,null,null,null,null,null,null,null,null,null,null,null,"3 Phases",null,null,null,null,null,null,null,null,null,null,null,null,null,null,null,null,null,null,null,null,null,null,null,null,null,null,null,null,null,null,null,null,null,null,null,null,null,null,null,null,null,null,null,null,null,null,null,null,null,null,null,null,null,null,null,null,null,null,null,null,null,null,null,null,null,null,null,null,null,null,null,"pepch",{"$f":"'3 - Alt Num Lanes Input'!DC34","v":31}]
[]
[]
[null,null,null,null,null,null,null,null,null,null,null,null,null,null,null,null,null,null,null,null,null,null,null,null,null,null,null,null,null,null,null,null,null,null,null,null,null,null,null,null,null,null,null,null,null,null,null,null,null,null,null,null,null,null,null,null,null,null,null,null,null,null,null,null,null,null,null,null,null,null,null,null,null,null,null,null,null,null,null,null,null,null,null,null,"pepch",{"$f":"'3 - Alt Num Lanes Input'!DG34","v":51},{"$f":"IF('3 - Alt Num Lanes Input'!AW34=0,1,'3 - Alt Num Lanes Input'!AW34)","v":1},null,null,{"$f":"(CJ44/UTAF+CM44/LTAF)/CJ43+CM29/CM30+(CH34/LTAF+CH31/UTAF)/CI31","v":395}]
[]
[]
[]
[]
[]
[null,null,null,null,null,null,null,null,null,null,null,null,null,null,null,null,null,null,null,null,null,null,null,null,null,null,null,null,null,null,null,null,null,null,null,null,null,null,null,null,null,null,null,null,null,null,null,null,null,null,null,null,null,null,null,null,null,null,null,null,null,null,null,null,null,null,null,null,null,null,null,null,null,null,null,null,null,null,null,null,null,null,null,null,null,null,null,{"$f":"IF('3 - Alt Num Lanes Input'!AC34=0,1,'3 - Alt Num Lanes Input'!AC34)","v":1},null,null,null,null,null,{"$f":"'3 - Alt Num Lanes Input'!AE34","v":2}]
[null,null,null,null,null,null,null,null,null,null,null,null,null,null,null,null,null,null,null,null,null,null,null,null,null,null,null,null,null,null,null,null,null,null,null,null,null,null,null,null,null,null,null,null,null,null,null,null,null,null,null,null,null,null,null,null,null,null,null,null,null,null,null,null,null,null,null,null,null,null,null,null,null,null,null,null,null,null,null,null,null,null,null,null,null,null,null,{"$f":"NBU_Master","v":0},null,null,{"$f":"'3 - Alt Num Lanes Input'!CM34","v":102},null,null,{"$f":"'3 - Alt Num Lanes Input'!CO34","v":510}]
[null,null,null,null,null,null,null,null,null,null,null,null,null,null,null,null,null,null,null,null,null,null,null,null,null,null,null,null,null,null,null,null,null,null,null,null,null,null,null,null,null,null,null,null,null,null,null,null,null,null,null,null,null,null,null,null,null,null,null,null,null,null,null,null,null,null,null,null,null,null,null,null,null,null,null,null,null,null,null,null,null,null,null,null,null,null,null,"pepch",null,null,"pepch",null,null,"pepch"]
[]
[]
[]
[]
[]
[]
[]
[]
[]
[]
[]
[]
[]
[]
[]
[]
[]
[]
[]
[]
[]
[]
[]
[]
[]
[]
[]
[]
[null,null,null,null,null,null,null,null,null,null,null,null,null,"Note: This diagram does not reflect the actual lane configuration of the Intersection"]

{"sheet":"CGT N","index":17,"n_rows":74,"n_cols":102,"rows_kept":74,"cut":false,"hidden":false,"merged":[[0,1,1,60],[0,63,1,122],[2,1,3,60],[2,63,3,122],[5,36,5,38],[5,42,5,44],[6,2,7,9],[6,10,7,35],[6,36,7,59],[8,2,9,9],[8,10,9,35],[8,36,9,41],[8,42,9,47],[8,48,9,53],[8,54,9,59],[10,2,11,9],[10,10,11,35],[10,36,13,47],[10,48,13,59],[12,2,13,9],[12,10,13,35],[27,7,29,15],[27,16,29,16],[30,7,32,10],[30,11,32,11],[30,12,32,15],[30,16,32,16],[23,90,26,92],[23,93,26,95],[23,96,26,98],[30,80,32,83],[30,84,32,84],[30,85,32,85],[27,90,27,92],[27,93,27,95],[27,96,27,98],[28,90,28,92],[28,93,28,95],[28,96,28,98],[29,90,29,92],[29,93,29,98],[30,99,32,99],[30,100,32,100],[30,101,32,101],[30,102,32,105],[33,80,35,83],[33,84,35,84],[33,85,35,85],[33,89,35,96],[33,99,35,99],[33,100,35,100],[30,86,35,86],[33,101,35,101],[33,102,35,105],[36,99,41,99],[36,100,38,100],[36,101,38,101],[36,102,38,105],[39,80,41,83],[39,84,41,84],[39,85,41,85],[39,86,41,86],[39,100,41,100],[39,101,41,101],[39,102,41,105],[36,80,38,83],[36,84,38,84],[36,85,38,85],[36,86,38,86],[36,89,38,96],[73,13,73,46],[44,87,55,98],[33,12,33,16],[42,87,42,92],[42,93,42,95],[42,96,42,98],[43,87,43,89],[43,90,43,92],[43,93,43,95],[43,96,43,98]]}
[null,"Continuous Green T (N)",null,null,null,null,null,null,null,null,null,null,null,null,null,null,null,null,null,null,null,null,null,null,null,null,null,null,null,null,null,null,null,null,null,null,null,null,null,null,null,null,null,null,null,null,null,null,null,null,null,null,null,null,null,null,null,null,null,null,null,null,null,"Continuous Green T (N)"]
[]
[null,"Design and results",null,null,null,null,null,null,null,null,null,null,null,null,null,null,null,null,null,null,null,null,null,null,null,null,null,null,null,null,null,null,null,null,null,null,null,null,null,null,null,null,null,null,null,null,null,null,null,null,null,null,null,null,null,null,null,null,null,null,null,null,null,"Data Input and Configuration"]
[]
[]
[]
[null,null,"Project Name:",null,null,null,null,null,null,null,{"$f":"P_Name","v":"Cap-X Sample Street"},null,null,null,null,null,null,null,null,null,null,null,null,null,null,null,null,null,null,null,null,null,null,null,null,null,"Volume-to-Capacity Ratio"]
[]
[null,null,"Project Number:",null,null,null,null,null,null,null,{"$f":"P_Number","v":10000},null,null,null,null,null,null,null,null,null,null,null,null,null,null,null,null,null,null,null,null,null,null,null,null,null,"< 0.750",null,null,null,null,null,"0.750 - 0.875",null,null,null,null,null,"0.875 - 1.00",null,null,null,null,null,"≥ 1.00"]
[]
[null,null,"Location",null,null,null,null,null,null,null,{"$f":"Location","v":"Tallahassee, FL"},null,null,null,null,null,null,null,null,null,null,null,null,null,null,null,null,null,null,null,null,null,null,null,null,null,"VOLUME / CAPACITY RATIO:",null,null,null,null,null,null,null,null,null,null,null,{"$f":"H31","v":0.14000000000000001}]
[]
[null,null,"Date",null,null,null,null,null,null,null,{"$f":"Date","v":"2017 AM"}]
[]
[]
[]
[]
[]
[]
[]
[]
[]
[]
[]
[]
[]
[]
[null,null,null,null,null,null,null,{"$f":"CL37","v":242.00000000000003},null,null,null,null,null,null,null,null,"CLV",null,null,null,null,null,null,null,null,null,null,null,null,null,null,null,null,null,null,null,null,null,null,null,null,null,null,null,null,null,null,null,null,null,null,null,null,null,null,null,null,null,null,null,null,null,null,null,null,null,null,null,null,null,null,null,null,null,null,null,null,null,null,null,null,null,null,null,null,null,null,null,null,null,"pepch",null,null,"pepch",null,null,"pepch"]
[null,null,null,null,null,null,null,null,null,null,null,null,null,null,null,null,null,null,null,null,null,null,null,null,null,null,null,null,null,null,null,null,null,null,null,null,null,null,null,null,null,null,null,null,null,null,null,null,null,null,null,null,null,null,null,null,null,null,null,null,null,null,null,null,null,null,null,null,null,null,null,null,null,null,null,null,null,null,null,null,null,null,null,null,null,null,null,null,null,null,{"$f":"'3 - Alt Num Lanes Input'!CY36","v":204},null,null,{"$f":"'3 - Alt Num Lanes Input'!CU36","v":102},null,null,{"$f":"SBU_Master","v":0}]
[null,null,null,null,null,null,null,null,null,null,null,null,null,null,null,null,null,null,null,null,null,null,null,null,null,null,null,null,null,null,null,null,null,null,null,null,null,null,null,null,null,null,null,null,null,null,null,null,null,null,null,null,null,null,null,null,null,null,null,null,null,null,null,null,null,null,null,null,null,null,null,null,null,null,null,null,null,null,null,null,null,null,null,null,null,null,null,null,null,null,{"$f":"IF('3 - Alt Num Lanes Input'!AO36=0,1,'3 - Alt Num Lanes Input'!AO36)","v":1},null,null,{"$f":"IF('3 - Alt Num Lanes Input'!AK36=0,1,'3 - Alt Num Lanes Input'!AK36)","v":1}]
[null,null,null,null,null,null,null,{"$f":"ROUND(H28/CLV_Limit_3,2)","v":0.14000000000000001},null,null,null,"V/C",{"$f":"CLV_Limit_3","v":1750},null,null,null,"MAX",null,null,null,null,null,null,null,null,null,null,null,null,null,null,null,null,null,null,null,null,null,null,null,null,null,null,null,null,null,null,null,null,null,null,null,null,null,null,null,null,null,null,null,null,null,null,null,null,null,null,null,null,null,null,null,null,null,null,null,null,null,null,null,null,null,null,null,"pepch",{"$f":"EBU_Master","v":0},{"$f":"IF('3 - Alt Num Lanes Input'!AS36=0,1,'3 - Alt Num Lanes Input'!AS36)","v":1},null,null,null,null,null,null,null,null,null,null,null,null,{"$f":"IF('3 - Alt Num Lanes Input'!BE36=0,1,'3 - Alt Num Lanes Input'!BE36)","v":1},{"$f":"'3 - Alt Num Lanes Input'!DO36","v":31},"pepch"]
[]
[]
[null,null,null,null,null,null,null,null,null,null,null,null,"3 Phases",null,null,null,null,null,null,null,null,null,null,null,null,null,null,null,null,null,null,null,null,null,null,null,null,null,null,null,null,null,null,null,null,null,null,null,null,null,null,null,null,null,null,null,null,null,null,null,null,null,null,null,null,null,null,null,null,null,null,null,null,null,null,null,null,null,null,null,null,null,null,null,"pepch",{"$f":"'3 - Alt Num Lanes Input'!DC36","v":31},null,null,null,null,null,null,null,null,null,null,null,null,null,{"$f":"'3 - Alt Num Lanes Input'!BC36","v":2},{"$f":"'3 - Alt Num Lanes Input'!DM36","v":204},"pepch"]
[]
[]
[null,null,null,null,null,null,null,null,null,null,null,null,null,null,null,null,null,null,null,null,null,null,null,null,null,null,null,null,null,null,null,null,null,null,null,null,null,null,null,null,null,null,null,null,null,null,null,null,null,null,null,null,null,null,null,null,null,null,null,null,null,null,null,null,null,null,null,null,null,null,null,null,null,null,null,null,null,null,null,null,null,null,null,null,"pepch",{"$f":"'3 - Alt Num Lanes Input'!DE36","v":204},{"$f":"'3 - Alt Num Lanes Input'!AU36","v":2},null,null,{"$f":"(CH34/LTAF+CH31/UTAF)/CI31+CW34/CV34+(CP29/LTAF+CS29/UTAF)/CP30","v":242.00000000000003}]
[]
[]
[]
[]
[]
[]
[]
[null,null,null,null,null,null,null,null,null,null,null,null,null,null,null,null,null,null,null,null,null,null,null,null,null,null,null,null,null,null,null,null,null,null,null,null,null,null,null,null,null,null,null,null,null,null,null,null,null,null,null,null,null,null,null,null,null,null,null,null,null,null,null,null,null,null,null,null,null,null,null,null,null,null,null,null,null,null,null,null,null,null,null,null,null,null,null,{"$f":"IF((NBL_Master+NBR_Master+NBT_Master+NBU_Master)>1,\"WARNING: Northbound Traffic Not Included\",\"\")","v":"WARNING: Northbound Traffic Not Included"}]
[]
[]
[]
[]
[]
[]
[]
[]
[]
[]
[]
[]
[]
[]
[]
[]
[]
[]
[]
[]
[]
[]
[]
[]
[]
[]
[]
[]
[null,null,null,null,null,null,null,null,null,null,null,null,null,"Note: This diagram does not reflect the actual lane configuration of the Intersection"]

{"sheet":"CGT E","index":18,"n_rows":74,"n_cols":102,"rows_kept":74,"cut":false,"hidden":false,"merged":[[0,1,1,60],[0,63,1,122],[2,1,3,60],[2,63,3,122],[5,36,5,38],[5,42,5,44],[6,2,7,9],[6,10,7,35],[6,36,7,59],[8,2,9,9],[8,10,9,35],[8,36,9,41],[8,42,9,47],[8,48,9,53],[8,54,9,59],[10,2,11,9],[10,10,11,35],[10,36,13,47],[10,48,13,59],[12,2,13,9],[12,10,13,35],[28,87,28,89],[28,90,28,92],[28,93,28,95],[28,96,28,98],[29,87,29,89],[29,90,29,92],[29,93,29,98],[23,87,26,89],[23,90,26,92],[23,93,26,95],[23,96,26,98],[27,87,27,89],[27,90,27,92],[27,93,27,95],[27,96,27,98],[33,100,35,100],[33,101,35,101],[33,102,35,105],[33,84,35,84],[33,85,35,85],[33,89,35,96],[30,86,35,86],[30,84,32,84],[30,85,32,85],[30,71,41,83],[36,102,38,105],[39,84,41,84],[39,85,41,85],[39,86,41,86],[39,100,41,100],[39,101,41,101],[39,102,41,105],[36,84,38,84],[36,85,38,85],[36,86,38,86],[36,89,38,96],[36,99,41,99],[36,100,38,100],[36,101,38,101],[33,99,35,99],[42,87,42,92],[42,93,42,95],[42,96,42,98],[43,87,43,89],[43,90,43,92],[43,93,43,95],[43,96,43,98],[73,13,73,46],[44,87,44,89],[44,90,44,92],[44,93,44,95],[44,96,44,98],[45,87,48,89],[45,90,48,92],[45,93,48,95],[45,96,48,98],[33,12,33,16],[27,7,29,15],[27,16,29,16],[30,7,32,10],[30,11,32,11],[30,12,32,15],[30,16,32,16]]}
[null,"Continuous Green T (E)",null,null,null,null,null,null,null,null,null,null,null,null,null,null,null,null,null,null,null,null,null,null,null,null,null,null,null,null,null,null,null,null,null,null,null,null,null,null,null,null,null,null,null,null,null,null,null,null,null,null,null,null,null,null,null,null,null,null,null,null,null,"Continuous Green T (E)"]
[]
[null,"Design and results",null,null,null,null,null,null,null,null,null,null,null,null,null,null,null,null,null,null,null,null,null,null,null,null,null,null,null,null,null,null,null,null,null,null,null,null,null,null,null,null,null,null,null,null,null,null,null,null,null,null,null,null,null,null,null,null,null,null,null,null,null,"Data Input and Configuration"]
[]
[]
[]
[null,null,"Project Name:",null,null,null,null,null,null,null,{"$f":"P_Name","v":"Cap-X Sample Street"},null,null,null,null,null,null,null,null,null,null,null,null,null,null,null,null,null,null,null,null,null,null,null,null,null,"Volume-to-Capacity Ratio"]
[]
[null,null,"Project Number:",null,null,null,null,null,null,null,{"$f":"P_Number","v":10000},null,null,null,null,null,null,null,null,null,null,null,null,null,null,null,null,null,null,null,null,null,null,null,null,null,"< 0.750",null,null,null,null,null,"0.750 - 0.875",null,null,null,null,null,"0.875 - 1.00",null,null,null,null,null,"≥ 1.00"]
[]
[null,null,"Location",null,null,null,null,null,null,null,{"$f":"Location","v":"Tallahassee, FL"},null,null,null,null,null,null,null,null,null,null,null,null,null,null,null,null,null,null,null,null,null,null,null,null,null,"VOLUME / CAPACITY RATIO:",null,null,null,null,null,null,null,null,null,null,null,{"$f":"H31","v":0.23}]
[]
[null,null,"Date",null,null,null,null,null,null,null,{"$f":"Date","v":"2017 AM"}]
[]
[]
[]
[]
[]
[]
[]
[]
[]
[]
[]
[]
[]
[]
[null,null,null,null,null,null,null,{"$f":"CL37","v":395},null,null,null,null,null,null,null,null,"CLV",null,null,null,null,null,null,null,null,null,null,null,null,null,null,null,null,null,null,null,null,null,null,null,null,null,null,null,null,null,null,null,null,null,null,null,null,null,null,null,null,null,null,null,null,null,null,null,null,null,null,null,null,null,null,null,null,null,null,null,null,null,null,null,null,null,null,null,null,null,null,null,null,null,"pepch",null,null,"pepch",null,null,"pepch"]
[null,null,null,null,null,null,null,null,null,null,null,null,null,null,null,null,null,null,null,null,null,null,null,null,null,null,null,null,null,null,null,null,null,null,null,null,null,null,null,null,null,null,null,null,null,null,null,null,null,null,null,null,null,null,null,null,null,null,null,null,null,null,null,null,null,null,null,null,null,null,null,null,null,null,null,null,null,null,null,null,null,null,null,null,null,null,null,null,null,null,{"$f":"'3 - Alt Num Lanes Input'!CW38","v":510},null,null,{"$f":"'3 - Alt Num Lanes Input'!CU38","v":102},null,null,{"$f":"SBU_Master","v":0}]
[null,null,null,null,null,null,null,null,null,null,null,null,null,null,null,null,null,null,null,null,null,null,null,null,null,null,null,null,null,null,null,null,null,null,null,null,null,null,null,null,null,null,null,null,null,null,null,null,null,null,null,null,null,null,null,null,null,null,null,null,null,null,null,null,null,null,null,null,null,null,null,null,null,null,null,null,null,null,null,null,null,null,null,null,null,null,null,null,null,null,{"$f":"'3 - Alt Num Lanes Input'!AM38","v":2},null,null,{"$f":"IF('3 - Alt Num Lanes Input'!AK38=0,1,'3 - Alt Num Lanes Input'!AK38)","v":1}]
[null,null,null,null,null,null,null,{"$f":"ROUND(H28/CLV_Limit_3,2)","v":0.23},null,null,null,"V/C",{"$f":"CLV_Limit_3","v":1750},null,null,null,"MAX",null,null,null,null,null,null,null,null,null,null,null,null,null,null,null,null,null,null,null,null,null,null,null,null,null,null,null,null,null,null,null,null,null,null,null,null,null,null,null,null,null,null,null,null,null,null,null,null,null,null,null,null,null,null,{"$f":"IF((EBL_Master+EBR_Master+EBT_Master+EBU_Master)>1,\"WARNING: Eastbound Traffic Not Included\",\"\")","v":"WARNING: Eastbound Traffic Not Included"}]
[]
[]
[null,null,null,null,null,null,null,null,null,null,null,null,"3 Phases",null,null,null,null,null,null,null,null,null,null,null,null,null,null,null,null,null,null,null,null,null,null,null,null,null,null,null,null,null,null,null,null,null,null,null,null,null,null,null,null,null,null,null,null,null,null,null,null,null,null,null,null,null,null,null,null,null,null,null,null,null,null,null,null,null,null,null,null,null,null,null,null,null,null,null,null,null,null,null,null,null,null,null,null,null,null,{"$f":"IF('3 - Alt Num Lanes Input'!BE38=0,1,'3 - Alt Num Lanes Input'!BE38)","v":1},{"$f":"'3 - Alt Num Lanes Input'!DO38","v":31},"pepch"]
[]
[]
[null,null,null,null,null,null,null,null,null,null,null,null,null,null,null,null,null,null,null,null,null,null,null,null,null,null,null,null,null,null,null,null,null,null,null,null,null,null,null,null,null,null,null,null,null,null,null,null,null,null,null,null,null,null,null,null,null,null,null,null,null,null,null,null,null,null,null,null,null,null,null,null,null,null,null,null,null,null,null,null,null,null,null,null,null,null,null,null,null,{"$f":"(CW40/UTAF+CW37/LTAF)/CV37+(CS29/UTAF+CP29/LTAF)/CP30+CP44/CP43","v":395},null,null,null,null,null,null,null,null,null,{"$f":"IF('3 - Alt Num Lanes Input'!BA38=0,1,'3 - Alt Num Lanes Input'!BA38)","v":1},{"$f":"'3 - Alt Num Lanes Input'!DK38","v":31},"pepch"]
[]
[]
[null,null,null,null,null,null,null,null,null,null,null,null,null,null,null,null,null,null,null,null,null,null,null,null,null,null,null,null,null,null,null,null,null,null,null,null,null,null,null,null,null,null,null,null,null,null,null,null,null,null,null,null,null,null,null,null,null,null,null,null,null,null,null,null,null,null,null,null,null,null,null,null,null,null,null,null,null,null,null,null,null,null,null,null,null,null,null,null,null,null,null,null,null,null,null,null,null,null,null,null,{"$f":"WBU_Master","v":0},"pepch"]
[]
[]
[null,null,null,null,null,null,null,null,null,null,null,null,null,null,null,null,null,null,null,null,null,null,null,null,null,null,null,null,null,null,null,null,null,null,null,null,null,null,null,null,null,null,null,null,null,null,null,null,null,null,null,null,null,null,null,null,null,null,null,null,null,null,null,null,null,null,null,null,null,null,null,null,null,null,null,null,null,null,null,null,null,null,null,null,null,null,null,null,null,null,null,null,null,{"$f":"'3 - Alt Num Lanes Input'!AE38","v":2},null,null,{"$f":"IF('3 - Alt Num Lanes Input'!AG38=0,1,'3 - Alt Num Lanes Input'!AG38)","v":1}]
[null,null,null,null,null,null,null,null,null,null,null,null,null,null,null,null,null,null,null,null,null,null,null,null,null,null,null,null,null,null,null,null,null,null,null,null,null,null,null,null,null,null,null,null,null,null,null,null,null,null,null,null,null,null,null,null,null,null,null,null,null,null,null,null,null,null,null,null,null,null,null,null,null,null,null,null,null,null,null,null,null,null,null,null,null,null,null,null,null,null,null,null,null,{"$f":"'3 - Alt Num Lanes Input'!CO38","v":510},null,null,{"$f":"'3 - Alt Num Lanes Input'!CQ38","v":204}]
[null,null,null,null,null,null,null,null,null,null,null,null,null,null,null,null,null,null,null,null,null,null,null,null,null,null,null,null,null,null,null,null,null,null,null,null,null,null,null,null,null,null,null,null,null,null,null,null,null,null,null,null,null,null,null,null,null,null,null,null,null,null,null,null,null,null,null,null,null,null,null,null,null,null,null,null,null,null,null,null,null,null,null,null,null,null,null,null,null,null,null,null,null,"pepch",null,null,"pepch"]
[]
[]
[]
[]
[]
[]
[]
[]
[]
[]
[]
[]
[]
[]
[]
[]
[]
[]
[]
[]
[]
[]
[]
[]
[]
[]
[]
[]
[null,null,null,null,null,null,null,null,null,null,null,null,null,"Note: This diagram does not reflect the actual lane configuration of the Intersection"]

{"sheet":"CGT S","index":19,"n_rows":74,"n_cols":102,"rows_kept":74,"cut":false,"hidden":false,"merged":[[0,1,1,60],[0,63,1,122],[2,1,3,60],[2,63,3,122],[5,36,5,38],[5,42,5,44],[6,2,7,9],[6,10,7,35],[6,36,7,59],[8,2,9,9],[8,10,9,35],[8,36,9,41],[8,42,9,47],[8,48,9,53],[8,54,9,59],[10,2,11,9],[10,10,11,35],[10,36,13,47],[10,48,13,59],[12,2,13,9],[12,10,13,35],[16,87,27,98],[30,99,32,99],[30,100,32,100],[30,101,32,101],[30,102,32,105],[28,87,28,89],[28,90,28,92],[28,93,28,95],[28,96,28,98],[29,87,29,89],[29,90,29,92],[29,93,29,98],[33,100,35,100],[30,86,35,86],[33,101,35,101],[33,102,35,105],[30,80,32,83],[30,84,32,84],[30,85,32,85],[33,80,35,83],[33,84,35,84],[33,85,35,85],[33,89,35,96],[33,99,35,99],[36,99,41,99],[36,100,38,100],[36,101,38,101],[36,102,38,105],[39,80,41,83],[39,84,41,84],[39,85,41,85],[39,86,41,86],[39,100,41,100],[39,101,41,101],[39,102,41,105],[36,80,38,83],[36,84,38,84],[36,85,38,85],[36,86,38,86],[36,89,38,96],[42,87,42,92],[42,93,42,95],[43,87,43,89],[43,90,43,92],[43,93,43,95],[73,13,73,46],[44,87,44,89],[44,90,44,92],[44,93,44,95],[45,87,48,89],[45,90,48,92],[45,93,48,95],[33,12,33,16],[27,7,29,15],[27,16,29,16],[30,7,32,10],[30,11,32,11],[30,12,32,15],[30,16,32,16]]}
[null,"Continuous Green T (S)",null,null,null,null,null,null,null,null,null,null,null,null,null,null,null,null,null,null,null,null,null,null,null,null,null,null,null,null,null,null,null,null,null,null,null,null,null,null,null,null,null,null,null,null,null,null,null,null,null,null,null,null,null,null,null,null,null,null,null,null,null,"Continuous Green T (S)"]
[]
[null,"Design and results",null,null,null,null,null,null,null,null,null,null,null,null,null,null,null,null,null,null,null,null,null,null,null,null,null,null,null,null,null,null,null,null,null,null,null,null,null,null,null,null,null,null,null,null,null,null,null,null,null,null,null,null,null,null,null,null,null,null,null,null,null,"Data Input and Configuration"]
[]
[]
[]
[null,null,"Project Name:",null,null,null,null,null,null,null,{"$f":"P_Name","v":"Cap-X Sample Street"},null,null,null,null,null,null,null,null,null,null,null,null,null,null,null,null,null,null,null,null,null,null,null,null,null,"Volume-to-Capacity Ratio"]
[]
[null,null,"Project Number:",null,null,null,null,null,null,null,{"$f":"P_Number","v":10000},null,null,null,null,null,null,null,null,null,null,null,null,null,null,null,null,null,null,null,null,null,null,null,null,null,"< 0.750",null,null,null,null,null,"0.750 - 0.875",null,null,null,null,null,"0.875 - 1.00",null,null,null,null,null,"≥ 1.00"]
[]
[null,null,"Location",null,null,null,null,null,null,null,{"$f":"Location","v":"Tallahassee, FL"},null,null,null,null,null,null,null,null,null,null,null,null,null,null,null,null,null,null,null,null,null,null,null,null,null,"VOLUME / CAPACITY RATIO:",null,null,null,null,null,null,null,null,null,null,null,{"$f":"H31","v":0.14000000000000001}]
[]
[null,null,"Date",null,null,null,null,null,null,null,{"$f":"Date","v":"2017 AM"}]
[]
[]
[]
[null,null,null,null,null,null,null,null,null,null,null,null,null,null,null,null,null,null,null,null,null,null,null,null,null,null,null,null,null,null,null,null,null,null,null,null,null,null,null,null,null,null,null,null,null,null,null,null,null,null,null,null,null,null,null,null,null,null,null,null,null,null,null,null,null,null,null,null,null,null,null,null,null,null,null,null,null,null,null,null,null,null,null,null,null,null,null,{"$f":"IF((SBL_Master+SBR_Master+SBT_Master+SBU_Master)>1,\"WARNING: Southbound Traffic Not Included\",\"\")","v":"WARNING: Southbound Traffic Not Included"}]
[]
[]
[]
[]
[]
[]
[]
[]
[]
[]
[null,null,null,null,null,null,null,{"$f":"CL37","v":242},null,null,null,null,null,null,null,null,"CLV"]
[]
[]
[null,null,null,null,null,null,null,{"$f":"ROUND(H28/CLV_Limit_3,2)","v":0.14000000000000001},null,null,null,"V/C",{"$f":"CLV_Limit_3","v":1750},null,null,null,"MAX"]
[]
[]
[null,null,null,null,null,null,null,null,null,null,null,null,"3 Phases",null,null,null,null,null,null,null,null,null,null,null,null,null,null,null,null,null,null,null,null,null,null,null,null,null,null,null,null,null,null,null,null,null,null,null,null,null,null,null,null,null,null,null,null,null,null,null,null,null,null,null,null,null,null,null,null,null,null,null,null,null,null,null,null,null,null,null,null,null,null,null,null,null,null,null,null,null,null,null,null,null,null,null,null,null,null,{"$f":"'3 - Alt Num Lanes Input'!BC40","v":2},{"$f":"'3 - Alt Num Lanes Input'!DM40","v":204},"pepch"]
[]
[]
[null,null,null,null,null,null,null,null,null,null,null,null,null,null,null,null,null,null,null,null,null,null,null,null,null,null,null,null,null,null,null,null,null,null,null,null,null,null,null,null,null,null,null,null,null,null,null,null,null,null,null,null,null,null,null,null,null,null,null,null,null,null,null,null,null,null,null,null,null,null,null,null,null,null,null,null,null,null,null,null,null,null,null,null,"pepch",{"$f":"'3 - Alt Num Lanes Input'!DE40","v":204},{"$f":"'3 - Alt Num Lanes Input'!AU40","v":2},null,null,{"$f":"(CJ44/UTAF+CM44/LTAF)/CJ43+(CW40/UTAF+CW37/LTAF)/CV37+CH37/CI37","v":242},null,null,null,null,null,null,null,null,null,{"$f":"IF('3 - Alt Num Lanes Input'!BA40=0,1,'3 - Alt Num Lanes Input'!BA40)","v":1},{"$f":"'3 - Alt Num Lanes Input'!DK40","v":31},"pepch"]
[]
[]
[null,null,null,null,null,null,null,null,null,null,null,null,null,null,null,null,null,null,null,null,null,null,null,null,null,null,null,null,null,null,null,null,null,null,null,null,null,null,null,null,null,null,null,null,null,null,null,null,null,null,null,null,null,null,null,null,null,null,null,null,null,null,null,null,null,null,null,null,null,null,null,null,null,null,null,null,null,null,null,null,null,null,null,null,"pepch",{"$f":"'3 - Alt Num Lanes Input'!DG40","v":51},{"$f":"IF('3 - Alt Num Lanes Input'!AW40=0,1,'3 - Alt Num Lanes Input'!AW40)","v":1},null,null,null,null,null,null,null,null,null,null,null,null,null,{"$f":"WBU_Master","v":0},"pepch"]
[]
[]
[null,null,null,null,null,null,null,null,null,null,null,null,null,null,null,null,null,null,null,null,null,null,null,null,null,null,null,null,null,null,null,null,null,null,null,null,null,null,null,null,null,null,null,null,null,null,null,null,null,null,null,null,null,null,null,null,null,null,null,null,null,null,null,null,null,null,null,null,null,null,null,null,null,null,null,null,null,null,null,null,null,null,null,null,null,null,null,{"$f":"IF('3 - Alt Num Lanes Input'!AC40=0,1,'3 - Alt Num Lanes Input'!AC40)","v":1},null,null,null,null,null,{"$f":"IF('3 - Alt Num Lanes Input'!AG40=0,1,'3 - Alt Num Lanes Input'!AG40)","v":1}]
[null,null,null,null,null,null,null,null,null,null,null,null,null,null,null,null,null,null,null,null,null,null,null,null,null,null,null,null,null,null,null,null,null,null,null,null,null,null,null,null,null,null,null,null,null,null,null,null,null,null,null,null,null,null,null,null,null,null,null,null,null,null,null,null,null,null,null,null,null,null,null,null,null,null,null,null,null,null,null,null,null,null,null,null,null,null,null,{"$f":"NBU_Master","v":0},null,null,{"$f":"'3 - Alt Num Lanes Input'!CM40","v":102},null,null,{"$f":"'3 - Alt Num Lanes Input'!CQ40","v":204}]
[null,null,null,null,null,null,null,null,null,null,null,null,null,null,null,null,null,null,null,null,null,null,null,null,null,null,null,null,null,null,null,null,null,null,null,null,null,null,null,null,null,null,null,null,null,null,null,null,null,null,null,null,null,null,null,null,null,null,null,null,null,null,null,null,null,null,null,null,null,null,null,null,null,null,null,null,null,null,null,null,null,null,null,null,null,null,null,"pepch",null,null,"pepch",null,null,"pepch"]
[]
[]
[]
[]
[]
[]
[]
[]
[]
[]
[]
[]
[]
[]
[]
[]
[]
[]
[]
[]
[]
[]
[]
[]
[]
[]
[]
[]
[null,null,null,null,null,null,null,null,null,null,null,null,null,"Note: This diagram does not reflect the actual lane configuration of the Intersection"]

{"sheet":"TWSC N-S","index":20,"n_rows":65,"n_cols":123,"rows_kept":65,"cut":false,"hidden":false,"merged":[[20,38,22,46],[20,47,22,47],[43,73,45,73],[24,67,24,69],[25,67,25,69],[25,65,25,66],[24,65,24,66],[44,117,44,118],[44,119,44,121],[45,117,45,118],[45,119,45,121],[43,72,45,72],[25,114,27,114],[25,115,27,115],[25,121,27,121],[30,114,32,114],[30,115,32,115],[33,110,35,110],[33,111,35,111],[30,118,32,118],[30,119,32,119],[33,118,35,118],[33,119,35,119],[33,103,35,106],[33,72,35,72],[33,73,35,73],[57,17,59,18],[57,19,59,20],[33,15,34,17],[33,18,34,20],[33,21,34,23],[29,41,31,42],[29,43,31,44],[32,41,34,42],[32,43,34,44],[35,41,37,42],[35,43,37,44],[52,37,53,39],[52,40,53,42],[52,43,53,45],[54,43,55,45],[51,17,53,18],[51,19,53,20],[54,17,56,18],[54,19,56,20],[35,15,36,17],[35,18,36,20],[35,21,36,23],[54,37,55,39],[54,40,55,42],[14,94,14,96],[15,97,15,99],[14,97,14,99],[10,71,10,86],[11,71,11,86],[30,110,32,110],[30,111,32,111],[15,88,15,90],[14,88,14,90],[15,91,15,93],[14,91,14,93],[14,71,14,86],[15,71,15,86],[13,71,13,86],[18,88,18,90],[36,72,38,72],[36,73,38,73],[39,72,41,72],[39,73,41,73],[30,68,32,68],[30,69,32,69],[15,94,15,96],[30,78,32,78],[30,79,32,79],[30,80,32,80],[33,80,35,80],[30,112,32,112],[30,113,32,113],[30,100,32,100],[20,94,20,96],[20,97,20,99],[28,94,28,96],[28,97,28,99],[20,88,20,90],[20,91,20,93],[29,91,29,93],[29,94,29,99],[30,109,32,109],[33,109,35,109],[33,78,35,78],[33,79,35,79],[30,81,32,84],[30,85,32,85],[30,86,32,86],[30,87,35,87],[33,81,35,84],[33,85,35,85],[33,86,35,86],[36,102,38,102],[36,103,38,106],[33,90,35,97],[22,94,22,96],[22,97,22,99],[30,107,32,107],[33,107,35,107],[36,107,38,107],[30,108,32,108],[33,108,35,108],[39,101,41,101],[36,98,38,98],[39,102,41,102],[39,103,41,106],[51,88,51,90],[51,91,51,93],[51,94,51,96],[51,97,51,99],[43,97,43,99],[36,108,38,108],[50,88,50,90],[50,91,50,93],[50,94,50,96],[50,97,50,99],[36,109,38,109],[39,108,41,108],[39,109,41,109],[36,100,41,100],[49,97,49,99],[43,88,43,90],[43,91,43,93],[45,91,48,93],[45,94,48,96],[45,97,48,99],[43,94,43,96],[42,97,42,99],[39,107,41,107],[36,78,38,78],[36,79,38,79],[39,78,41,78],[39,79,41,79],[49,88,49,90],[49,91,49,93],[49,94,49,96],[42,88,42,93],[42,94,42,96],[39,81,41,84],[39,85,41,85],[39,86,41,86],[39,87,41,87],[36,81,38,84],[36,85,38,85],[36,86,38,86],[36,87,38,87],[36,90,38,97],[36,80,38,80],[39,80,41,80],[0,1,1,60],[0,63,1,122],[2,1,3,60],[2,63,3,122],[5,2,6,9],[5,10,6,35],[5,36,6,59],[6,71,7,86],[9,2,10,9],[9,10,10,35],[9,36,12,47],[9,48,12,59],[11,2,12,9],[11,10,12,35],[7,54,8,59],[7,2,8,9],[7,10,8,35],[7,36,8,41],[7,42,8,47],[7,48,8,53],[12,71,12,86],[10,100,10,101],[8,71,8,86],[9,71,9,86],[16,71,16,86],[17,71,17,86],[18,91,18,93],[18,94,18,96],[18,97,18,99],[19,88,19,90],[19,91,19,93],[19,94,19,96],[19,97,19,99],[18,71,18,86],[19,71,19,86],[16,88,16,90],[16,91,16,93],[16,94,16,96],[16,97,16,99],[17,88,17,90],[17,91,17,93],[17,94,17,96],[17,97,17,99],[39,115,41,115],[27,88,27,90],[27,91,27,93],[27,94,27,96],[27,97,27,99],[28,88,28,90],[28,91,28,93],[29,88,29,90],[21,88,21,90],[21,91,21,93],[21,94,21,96],[21,97,21,99],[22,88,22,90],[22,91,22,93],[23,88,26,90],[23,91,26,93],[36,101,38,101],[23,97,26,99],[30,101,32,101],[30,102,32,102],[30,103,32,106],[33,100,35,100],[33,101,35,101],[33,102,35,102],[30,77,32,77],[36,77,38,77],[33,77,35,77],[39,77,41,77],[20,72,21,86],[52,88,52,90],[52,91,52,93],[52,94,52,96],[52,97,52,99],[36,76,38,76],[33,76,35,76],[30,76,32,76],[39,76,41,76],[30,74,32,74],[30,75,32,75],[33,74,35,74],[33,75,35,75],[36,74,38,74],[36,75,38,75],[39,74,41,74],[39,75,41,75],[30,72,32,72],[30,73,32,73],[23,94,26,96],[60,88,60,90],[60,91,60,93],[60,94,60,96],[60,97,60,99],[8,88,8,90],[9,88,9,90],[12,88,12,90],[12,91,12,93],[12,94,12,96],[12,97,12,99],[13,88,13,90],[13,91,13,93],[13,94,13,96],[13,97,13,99],[10,88,10,90],[10,91,10,93],[10,94,10,96],[10,97,10,99],[11,88,11,90],[11,91,11,93],[11,94,11,96],[11,97,11,99],[56,88,56,90],[56,91,56,93],[53,91,53,93],[53,94,53,96],[53,97,53,99],[54,88,54,90],[54,91,54,93],[54,94,54,96],[54,97,54,99],[55,88,55,90],[55,91,55,93],[55,94,55,96],[55,97,55,99],[43,69,45,69],[36,118,38,118],[36,119,38,119],[39,118,41,118],[39,119,41,119],[43,77,45,77],[43,76,45,76],[43,75,45,75],[33,69,35,69],[36,69,38,69],[39,69,41,69],[39,70,41,70],[39,71,41,71],[43,74,45,74],[43,71,45,71],[43,70,45,70],[44,88,44,90],[44,91,44,93],[44,94,44,96],[44,97,44,99],[45,88,48,90],[36,110,38,110],[36,111,38,111],[39,110,41,110],[30,116,32,116],[30,117,32,117],[33,116,35,116],[33,117,35,117],[36,116,38,116],[36,117,38,117],[39,116,41,116],[39,117,41,117],[30,70,32,70],[30,71,32,71],[33,70,35,70],[33,71,35,71],[39,111,41,111],[33,112,35,112],[33,113,35,113],[33,114,35,114],[33,115,35,115],[36,112,38,112],[36,113,38,113],[36,114,38,114],[36,115,38,115],[39,112,41,112],[39,113,41,113],[39,114,41,114],[43,68,45,68],[43,67,45,67],[25,118,27,118],[25,119,27,119],[39,120,41,120],[39,121,41,121],[36,120,38,120],[36,121,38,121],[33,120,35,120],[33,121,35,121],[30,120,32,120],[30,121,32,121],[25,120,27,120],[25,110,27,110],[25,111,27,111],[25,112,27,112],[25,113,27,113],[25,116,27,116],[25,117,27,117],[33,68,35,68],[36,68,38,68],[39,68,41,68],[36,70,38,70],[36,71,38,71],[30,66,32,66],[30,67,32,67],[33,66,35,66],[33,67,35,67],[36,66,38,66],[36,67,38,67],[39,66,41,66],[39,67,41,67],[43,66,45,66],[9,91,9,93],[8,94,8,96],[9,94,9,96],[8,97,8,99],[9,97,9,99],[61,88,61,90],[61,91,61,93],[61,94,61,96],[61,97,61,99],[59,88,59,90],[59,91,59,93],[59,94,59,96],[59,97,59,99],[58,88,58,90],[58,91,58,93],[58,94,58,96],[58,97,58,99],[56,94,56,96],[56,97,56,99],[57,88,57,90],[57,91,57,93],[57,94,57,96],[57,97,57,99],[53,88,53,90],[65,91,65,96],[43,65,45,65],[25,122,27,122],[7,88,7,90],[7,91,7,93],[7,94,7,96],[7,97,7,99],[30,65,32,65],[33,65,35,65],[36,65,38,65],[39,65,41,65],[30,122,32,122],[33,122,35,122],[36,122,38,122],[39,122,41,122],[62,88,62,90],[63,88,63,90],[62,91,62,93],[63,91,63,93],[62,94,62,96],[63,94,63,96],[62,97,62,99],[63,97,63,99],[8,91,8,93]]}
[null,"Two Way Stop Control (N-S)",null,null,null,null,null,null,null,null,null,null,null,null,null,null,null,null,null,null,null,null,null,null,null,null,null,null,null,null,null,null,null,null,null,null,null,null,null,null,null,null,null,null,null,null,null,null,null,null,null,null,null,null,null,null,null,null,null,null,null,null,null,"Two Way Stop Control (N-S)"]
[]
[null,"Design and Results",null,null,null,null,null,null,null,null,null,null,null,null,null,null,null,null,null,null,null,null,null,null,null,null,null,null,null,null,null,null,null,null,null,null,null,null,null,null,null,null,null,null,null,null,null,null,null,null,null,null,null,null,null,null,null,null,null,null,null,null,null,"Data Input and Configuration"]
[]
[]
[null,null,"Project Name:",null,null,null,null,null,null,null,{"$f":"P_Name","v":"Cap-X Sample Street"},null,null,null,null,null,null,null,null,null,null,null,null,null,null,null,null,null,null,null,null,null,null,null,null,null,"Volume-to-Capacity Ratio"]
[]
[null,null,"Project Number:",null,null,null,null,null,null,null,{"$f":"P_Number","v":10000},null,null,null,null,null,null,null,null,null,null,null,null,null,null,null,null,null,null,null,null,null,null,null,null,null,"< 0.750",null,null,null,null,null,"0.750 - 0.875",null,null,null,null,null,"0.875 - 1.00",null,null,null,null,null,"≥ 1.00",null,null,null,null,null,null,null,null,null,null,null,null,null,null,null,null,null,null,null,null,null,null,null,null,null,null,null,null,null,null,null,null,null,null,null,null,null,null,null,{"$f":"CQ29/CQ10","v":0.11564912519260814}]
[null,null,null,null,null,null,null,null,null,null,null,null,null,null,null,null,null,null,null,null,null,null,null,null,null,null,null,null,null,null,null,null,null,null,null,null,null,null,null,null,null,null,null,null,null,null,null,null,null,null,null,null,null,null,null,null,null,null,null,null,null,null,null,null,null,null,null,null,null,null,null,"Volume-to-Capacity Ratio",null,null,null,null,null,null,null,null,null,null,null,null,null,null,null,null,null,null,null,{"$f":"CN29/CN11","v":0.14166666666666666},null,null,{"$f":"CQ29/CQ11","v":0.11564912519260814},null,null,{"$f":"CT29/CT11","v":0}]
[null,null,"Location",null,null,null,null,null,null,null,{"$f":"Location","v":"Tallahassee, FL"},null,null,null,null,null,null,null,null,null,null,null,null,null,null,null,null,null,null,null,null,null,null,null,null,null,"VOLUME / CAPACITY RATIO:",null,null,null,null,null,null,null,null,null,null,null,{"$f":"AM21","v":3.004391956229405},null,null,null,null,null,null,null,null,null,null,null,null,null,null,null,null,null,null,null,null,null,null,"Capacity Shared lane, CSH",null,null,null,null,null,null,null,null,null,null,null,null,null,null,null,null,null,null,null,null,null,null,{"$f":"(CQ29+CT29)/((CQ29/CQ11)+(CT29/CT11))","v":881.97813714650954}]
[null,null,null,null,null,null,null,null,null,null,null,null,null,null,null,null,null,null,null,null,null,null,null,null,null,null,null,null,null,null,null,null,null,null,null,null,null,null,null,null,null,null,null,null,null,null,null,null,null,null,null,null,null,null,null,null,null,null,null,null,null,null,null,null,null,null,null,null,null,null,null,"Movement Capacity, Cm",null,null,null,null,null,null,null,null,null,null,null,null,null,null,null,null,null,null,null,{"$f":"CN30*1800","v":3600},null,null,{"$f":"CQ12","v":881.97813714650954},null,null,{"$f":"CT12*(1-(CX31/DO31))","v":359.53175432588796}]
[null,null,"Date",null,null,null,null,null,null,null,{"$f":"Date","v":"2017 AM"},null,null,null,null,null,null,null,null,null,null,null,null,null,null,null,null,null,null,null,null,null,null,null,null,null,null,null,null,null,null,null,null,null,null,null,null,null,null,null,null,null,null,null,null,null,null,null,null,null,null,null,null,null,null,null,null,null,null,null,null,"Potential Capacity, Cp",null,null,null,null,null,null,null,null,null,null,null,null,null,null,null,null,null,null,null,null,null,null,{"$f":"CQ22*(EXP(-(CQ22*CQ14)/3600)/(1-EXP(-(CQ22*CQ13)/3600)))","v":881.97813714650954},null,null,{"$f":"CT22*(EXP(-(CT22*CT14)/3600)/(1-EXP(-(CT22*CT13)/3600)))","v":390.69166411076645}]
[null,null,null,null,null,null,null,null,null,null,null,null,null,null,null,null,null,null,null,null,null,null,null,null,null,null,null,null,null,null,null,null,null,null,null,null,null,null,null,null,null,null,null,null,null,null,null,null,null,null,null,null,null,null,null,null,null,null,null,null,null,null,null,null,null,null,null,null,null,null,null,"Follow-up Headway, tf",null,null,null,null,null,null,null,null,null,null,null,null,null,null,null,null,null,null,null,null,null,null,{"$f":"CQ19+(CQ17*CQ15)","v":2.2200000000000002},null,null,{"$f":"CT19+(CT17*CT15)","v":3.12}]
[null,null,null,null,null,null,null,null,null,null,null,null,null,null,null,null,null,null,null,null,null,null,null,null,null,null,null,null,null,null,null,null,null,null,null,null,null,null,null,null,null,null,null,null,null,null,null,null,null,null,null,null,null,null,null,null,null,null,null,null,null,null,null,null,null,null,null,null,null,null,null,"Critical Headway, tc",null,null,null,null,null,null,null,null,null,null,null,null,null,null,null,null,null,null,null,null,null,null,{"$f":"CQ20+(CQ18*CQ15)-CQ16","v":4.1399999999999997},null,null,{"$f":"CT20+(CT18*CT15)-CT16","v":6.94}]
[null,null,null,null,null,null,null,null,null,null,null,null,null,null,null,null,null,null,null,null,null,null,null,null,null,null,null,null,null,null,null,null,null,null,null,null,null,null,null,null,null,null,null,null,null,null,null,null,null,null,null,null,null,null,null,null,null,null,null,null,null,null,null,null,null,null,null,null,null,null,null,"P,HV",null,null,null,null,null,null,null,null,null,null,null,null,null,null,null,null,null,null,null,null,null,null,{"$f":"SB_Truck_Percentage","v":0.02},null,null,{"$f":"SB_Truck_Percentage","v":0.02}]
[null,null,null,null,null,null,null,null,null,null,null,null,null,null,null,null,null,null,null,null,null,null,null,null,null,null,null,null,null,null,null,null,null,null,null,null,null,null,null,null,null,null,null,null,null,null,null,null,null,null,null,null,null,null,null,null,null,null,null,null,null,null,null,null,null,null,null,null,null,null,null,"t3,LT Adjustment",null,null,null,null,null,null,null,null,null,null,null,null,null,null,null,null,null,null,null,null,null,null,0,null,null,0]
[null,null,null,null,null,null,null,null,null,null,null,null,null,null,null,null,null,null,null,null,null,null,null,null,null,null,null,null,null,null,null,null,null,null,null,null,null,null,null,null,null,null,null,null,null,null,null,null,null,null,null,null,null,null,null,null,null,null,null,null,null,null,null,null,null,null,null,null,null,null,null,"tf,HV",null,null,null,null,null,null,null,null,null,null,null,null,null,null,null,null,null,null,null,null,null,null,{"$f":"IF(CQ23=1,0.9,1)","v":1},null,null,{"$f":"IF(CT23=1,0.9,1)","v":1}]
[null,null,null,null,null,null,null,null,null,null,null,null,null,null,null,null,null,null,null,null,null,null,null,null,null,null,null,null,null,null,null,null,null,null,null,null,null,null,null,null,null,null,null,null,null,null,null,null,null,null,null,null,null,null,null,null,null,null,null,null,null,null,null,null,null,null,null,null,null,null,null,"tc,HV",null,null,null,null,null,null,null,null,null,null,null,null,null,null,null,null,null,null,null,null,null,null,{"$f":"IF(CQ23=1,1,2)","v":2},null,null,{"$f":"IF(CT23=1,1,2)","v":2}]
[null,null,null,null,null,null,null,null,null,null,null,null,null,null,null,null,null,null,null,null,null,null,null,null,null,null,null,null,null,null,null,null,null,null,null,null,null,null,null,null,null,null,null,null,null,null,null,null,null,null,null,null,null,null,null,null,null,null,null,null,null,null,null,null,null,null,null,null,null,null,null,"Follwoup Headway tf,base",null,null,null,null,null,null,null,null,null,null,null,null,null,null,null,null,null,null,null,null,null,null,{"$f":"IF(CQ23=3,3.1,2.2)","v":2.2000000000000002},null,null,{"$f":"IF(CT23=3,2.3,3.1)","v":3.1}]
[null,null,null,null,null,null,null,null,null,null,null,null,null,null,null,null,null,null,null,null,null,null,null,null,null,null,null,null,null,null,null,null,null,null,null,null,null,null,null,null,null,null,null,null,null,null,null,null,null,null,null,null,null,null,null,null,null,null,null,null,null,null,null,null,null,null,null,null,null,null,null,"Critical Headway, tc,base",null,null,null,null,null,null,null,null,null,null,null,null,null,null,null,null,null,null,null,null,null,null,{"$f":"IF(CQ23=3,5.3,4.1)","v":4.0999999999999996},null,null,{"$f":"IF(CT23=3,5.6,6.9)","v":6.9}]
[null,null,null,null,null,null,null,null,null,null,null,null,null,null,null,null,null,null,null,null,null,null,null,null,null,null,null,null,null,null,null,null,null,null,null,null,null,null,{"$f":"MAX(P36,S36,V36,AR30,AR33,AR36,AR55,AO55,AL55,R58,R55,R52)","v":3.004391956229405},null,null,null,null,null,null,null,null,"V/C",null,null,null,null,null,null,null,null,null,null,null,null,null,null,null,null,null,null,null,null,null,null,null,null,"Conflicting Volume, Vc",null,null,null,null,null,null,null,null,null,null,null,null,null,null,null,"pepch",null,null,"pepch",null,null,"pepch",null,null,"pepch"]
[null,null,null,null,null,null,null,null,null,null,null,null,null,null,null,null,null,null,null,null,null,null,null,null,null,null,null,null,null,null,null,null,null,null,null,null,null,null,null,null,null,null,null,null,null,null,null,null,null,null,null,null,null,null,null,null,null,null,null,null,null,null,null,null,null,null,null,null,null,null,null,null,null,null,null,null,null,null,null,null,null,null,null,null,null,null,null,null,null,null,null,null,null,null,{"$f":"CQ44+CT44","v":714},null,null,{"$f":"IF(CT23=3,((0.73*CQ44)+(0.73*CT44)), (CQ44+CT44))","v":714}]
[null,null,null,null,null,null,null,null,null,null,null,null,null,null,null,null,null,null,null,null,null,null,null,null,null,null,null,null,null,null,null,null,null,null,null,null,null,null,null,null,null,null,null,null,null,null,null,null,null,null,null,null,null,null,null,null,null,null,null,null,null,null,null,null,null,null,null,null,null,null,null,null,null,null,null,null,null,null,null,null,null,null,null,null,null,null,null,null,null,null,null,null,null,null,{"$f":"CQ43","v":2},null,null,{"$f":"CQ43","v":2}]
[]
[null,null,null,null,null,null,null,null,null,null,null,null,null,null,null,null,null,null,null,null,null,null,null,null,null,null,null,null,null,null,null,null,null,null,null,null,null,null,null,null,null,null,null,null,null,null,null,null,null,null,null,null,null,null,null,null,null,null,null,null,null,null,null,null,null,"P'",null,{"$f":"(0.65*BP26)-(BP26/(BP26+3))+(0.6*BP26)","v":-0.86511554852755623}]
[null,null,null,null,null,null,null,null,null,null,null,null,null,null,null,null,null,null,null,null,null,null,null,null,null,null,null,null,null,null,null,null,null,null,null,null,null,null,null,null,null,null,null,null,null,null,null,null,null,null,null,null,null,null,null,null,null,null,null,null,null,null,null,null,null,"P\"",null,{"$f":"(1-(CN44+CK44)/CN63)*(1-(CQ29+CT29)/CQ10)*(1-(CX34/DP34))","v":-1.5675877851684874},null,null,null,null,null,null,null,null,null,null,null,null,null,null,null,null,null,null,null,null,null,null,null,null,null,null,null,null,null,null,null,null,null,null,null,null,null,null,null,null,null,null,"tc,base","tf,base","tc,hv","tf,hv","t3,LT","P,HV","tc","tf","Cp","Cm","CSH","V/C","V/C,SH"]
[]
[null,null,null,null,null,null,null,null,null,null,null,null,null,null,null,null,null,null,null,null,null,null,null,null,null,null,null,null,null,null,null,null,null,null,null,null,null,null,null,null,null,null,null,null,null,null,null,null,null,null,null,null,null,null,null,null,null,null,null,null,null,null,null,null,null,null,null,null,null,null,null,null,null,null,null,null,null,null,null,null,null,null,null,null,null,null,null,null,"pepch",null,null,"pepch",null,null,"pepch",null,null,"pepch"]
[null,null,null,null,null,null,null,null,null,null,null,null,null,null,null,null,null,null,null,null,null,null,null,null,null,null,null,null,null,null,null,null,null,null,null,null,null,null,null,null,null,null,null,null,null,null,null,null,null,null,null,null,null,null,null,null,null,null,null,null,null,null,null,null,null,null,null,null,null,null,null,null,null,null,null,null,null,null,null,null,null,null,null,null,null,null,null,null,{"$f":"IF('3 - Alt Num Lanes Input'!CY28=0,1,'3 - Alt Num Lanes Input'!CY28)","v":204},null,null,{"$f":"IF('3 - Alt Num Lanes Input'!CW28=0,1,'3 - Alt Num Lanes Input'!CW28)","v":510},null,null,{"$f":"IF('3 - Alt Num Lanes Input'!CU28=0,1,'3 - Alt Num Lanes Input'!CU28)","v":102}]
[null,null,null,null,null,null,null,null,null,null,null,null,null,null,null,null,null,null,null,null,null,null,null,null,null,null,null,null,null,null,null,null,null,null,null,null,null,null,null,null,null,"R",null,{"$f":"DR31","v":7.9755757921787282E-2},null,null,null,null,null,null,null,null,null,null,null,null,null,null,null,null,null,null,null,null,null,null,null,null,null,null,null,null,null,null,null,null,null,null,null,null,null,null,null,null,null,null,null,null,{"$f":"'3 - Alt Num Lanes Input'!AO28","v":1},null,null,{"$f":"IF('3 - Alt Num Lanes Input'!AM28=0,1,'3 - Alt Num Lanes Input'!AM28)","v":2},null,null,{"$f":"'3 - Alt Num Lanes Input'!AK28","v":1}]
[null,null,null,null,null,null,null,null,null,null,null,null,null,null,null,null,null,null,null,null,null,null,null,null,null,null,null,null,null,null,null,null,null,null,null,null,null,null,null,null,null,null,null,null,null,null,null,null,null,null,null,null,null,null,null,null,null,null,null,null,null,null,null,null,null,null,null,null,null,null,null,null,null,null,null,null,null,null,"pepch",null,null,null,null,null,null,"pepch",null,{"$f":"'3 - Alt Num Lanes Input'!AS28","v":1},null,null,null,null,null,null,null,null,null,null,null,null,{"$f":"'3 - Alt Num Lanes Input'!BE28","v":1},{"$f":"'3 - Alt Num Lanes Input'!DO28","v":51},"pepch",null,null,null,null,{"$f":"CQ43","v":2},{"$f":"IF(DD31=1, (CQ44+(0.5*CT44)),((0.5*CQ44)+(0.5*CT44)))","v":357},"pepch",{"$f":"IF(DD31=1,6.2,IF(DD31=2,6.9,7.1))","v":6.9},{"$f":"IF(DD31=3,3.9,3.3)","v":3.3},{"$f":"IF(DD31=1,1,2)","v":2},{"$f":"IF(DD31=1,0.9,1)","v":1},0,{"$f":"WB_Truck_Percentage","v":0.02},{"$f":"DG31+(DI31*DL31)-DK31","v":6.94},{"$f":"DH31+(DJ31*DL31)","v":3.32},{"$f":"DE31*(EXP(-(DE31*DM31)/3600)/(1-EXP(-(DE31*DN31)/3600)))","v":639.45226437460849},{"$f":"DO31","v":639.45226437460849},{"$f":"(CX34+CX31)/((CX34/DP34)+(CX31/DP31))","v":82.680864742621495},{"$f":"CX31/DP31","v":7.9755757921787282E-2},{"$f":"CX31/DQ31","v":0.6168295428302385}]
[]
[null,null,null,null,null,null,null,null,null,null,null,null,null,null,null,null,null,null,null,null,null,null,null,null,null,null,null,null,null,null,null,null,null,null,null,null,null,null,null,null,null,"T",null,{"$f":"DR34","v":3.004391956229405}]
[null,null,null,null,null,null,null,null,null,null,null,null,null,null,null,"R",null,null,"T",null,null,"L",null,null,null,null,null,null,null,null,null,null,null,null,null,null,null,null,null,null,null,null,null,null,null,null,null,null,null,null,null,null,null,null,null,null,null,null,null,null,null,null,null,null,null,{"$f":"CI34/BP34","v":0.31630437145163387},{"$f":"CI34/BQ34","v":-0.60660075328959995},{"$f":"(CI34+CI37)/((CI34/BQ34)+(CI37/BQ37))","v":98.006865531860697},{"$f":"BR34*BP25*(1-CX31/DP31)","v":-51.104453517221657},{"$f":"CB34*(EXP(-(CB34*BT34)/3600)/(1-EXP(-(CB34*BS34)/3600)))","v":64.192090932091233},{"$f":"BY34+(BW34*BU34)","v":3.52},{"$f":"BZ34+(BX34*BU34)-BV34","v":7.54},{"$f":"EB_Truck_Percentage","v":0.02},{"$f":"IF((CX31+CX34+CX37+CX40)=0,0.7,0)","v":0},{"$f":"IF(CC34=1,0.9,1)","v":1},{"$f":"IF(CC34=1,1,2)","v":2},{"$f":"IF(CC34=3,3.8,3.5)","v":3.5},{"$f":"IF(CC34=1,7.1,IF(CC34=2,7.5,6.4))","v":7.5},"pepch",{"$f":"IF(CC34=1,(2*(CQ29+CT29)+CN29+0.5*(CK29)+2*(CN44+CK44)+CQ44+(0.5*CT44)+(0.5*CX31)+(0.5*CX34)),IF(CC34=2,(2*(CQ29+CT29)+CN29+0.5*(CK29)+2*(CN44+CK44)+CQ44+0.5*(CX31)+0.5*(CX34)),(2*(CQ29+CT29)+CN29+0.5*(CK29)+2*(CN44+CK44)+CQ44+0.4*(CX31)+0.5*(CX34))))","v":1657.5},{"$f":"CN30","v":2},null,null,null,null,"pepch",{"$f":"'3 - Alt Num Lanes Input'!DC28","v":31},null,null,null,null,null,null,null,null,null,null,null,null,null,{"$f":"IF('3 - Alt Num Lanes Input'!BC28=0,1,'3 - Alt Num Lanes Input'!BC28)","v":2},{"$f":"'3 - Alt Num Lanes Input'!DM28","v":204},"pepch",null,null,null,null,{"$f":"CQ43","v":2},{"$f":"2*(CN44+CK44)+(CQ44)+(0.5*CT44)+2*(CQ29+CT29)+CN29+CK29","v":1734},"pepch",6.5,4,{"$f":"IF(DD34=1,1,2)","v":2},{"$f":"IF(DD34=1,0.9,1)","v":1},{"$f":"IF((CI28+CI31+CI34+CI37)=0,0.7,0)","v":0},{"$f":"WB_Truck_Percentage","v":0.02},{"$f":"DG34+(DI34*DL34)-DK34","v":6.54},{"$f":"DH34+(DJ34*DL34)","v":4.0199999999999996},{"$f":"DE34*(EXP(-(DE34*DM34)/3600)/(1-EXP(-(DE34*DN34)/3600)))","v":86.820914763039184},{"$f":"DO34*(1-(CQ29+CT29)/CQ10)*(1-(CN44+CK44)/CN63)","v":67.900594520305418},null,{"$f":"CX34/DP34","v":3.004391956229405}]
[]
[null,null,null,null,null,null,null,null,null,null,null,null,null,null,null,"n/a",null,null,{"$f":"CN9","v":0.14166666666666666},null,null,{"$f":"CQ9","v":0.11564912519260814},null,null,null,null,null,null,null,null,null,null,null,null,null,null,null,null,null,null,null,"L",null,{"$f":"DR37","v":-0.60660075328959995}]
[null,null,null,null,null,null,null,null,null,null,null,null,null,null,null,null,null,null,null,null,null,null,null,null,null,null,null,null,null,null,null,null,null,null,null,null,null,null,null,null,null,null,null,null,null,null,null,null,null,null,null,null,null,null,null,null,null,null,null,null,null,null,null,null,null,null,{"$f":"CI37/BQ37","v":3.004391956229405},null,{"$f":"BR37*(1-(CQ29+CT29)/CQ10)*(1-(CN44+CK44)/CN63)","v":67.900594520305418},{"$f":"CB37*(EXP(-(CB37*BT37)/3600)/(1-EXP(-(CB37*BS37)/3600)))","v":86.820914763039184},{"$f":"BY37+(BW37*BU37)","v":4.0199999999999996},{"$f":"BZ37+(BX37*BU37)-BV37","v":6.54},{"$f":"EB_Truck_Percentage","v":0.02},{"$f":"IF((CX31+CX34+CX37+CX40)=0,0.7,0)","v":0},{"$f":"IF(CC37=1,0.9,1)","v":1},{"$f":"IF(CC37=1,1,2)","v":2},4,6.5,"pepch",{"$f":"2*(CQ29+CT29)+(CN29)+(0.5*CK29)+2*(CN44+CK44)+CQ44+CT44","v":1734},{"$f":"CN30","v":2},null,null,null,null,"pepch",{"$f":"'3 - Alt Num Lanes Input'!DE28","v":204},{"$f":"IF('3 - Alt Num Lanes Input'!AU28=0,1,'3 - Alt Num Lanes Input'!AU28)","v":2},null,null,{"$f":"MAX(BO34,BO37,BO40,CK64,CN64,DR37,DR34,DR31,CT9,CQ9)","v":3.004391956229405},null,null,null,null,null,null,null,"V/C",null,{"$f":"'3 - Alt Num Lanes Input'!BA28","v":1},{"$f":"'3 - Alt Num Lanes Input'!DK28","v":31},"pepch",null,null,null,null,{"$f":"CQ43","v":2},{"$f":"IF(CC34=1,(2*(CN44+CK44)+CQ44+0.5*(CT44)+2*(CQ29+CT29)+CN29+(0.5*CK29)+(0.5*CI40)+(0.5*CI37)),IF(CC34=2,(2*(CN44+CK44)+CQ44+0.5*(CT44)+2*(CQ29+CT29)+CN29+(0.5*CI40)+(0.5*CI37)),(2*(CN44+CK44)+CQ44+0.5*(CT44)+2*(CQ29+CT29)+CN29+(0.4*CI40)+(0.5*CI37))))","v":1657.5},"pepch",{"$f":"IF(DD37=1,7.1,IF(DD37=2,7.5,6.4))","v":7.5},{"$f":"IF(DD37=3,3.8,3.5)","v":3.5},{"$f":"IF(DD37=1,1,2)","v":2},{"$f":"IF(DD37=1,0.9,1)","v":1},{"$f":"IF((CI31+CI34+CI37+CI40)=0,0.7,0)","v":0},{"$f":"WB_Truck_Percentage","v":0.02},{"$f":"DG37+(DI37*DL37)-DK37","v":7.54},{"$f":"DH37+(DJ37*DL37)","v":3.52},{"$f":"DE37*(EXP(-(DE37*DM37)/3600)/(1-EXP(-(DE37*DN37)/3600)))","v":64.192090932091233},{"$f":"DO37*DP45*(1-(CI40/BQ40))","v":-51.104453517221657},{"$f":"(CX37+CX34)/((CX37/DP37)+(CX34/DP34))","v":98.006865531860697},{"$f":"CX37/DP37","v":-0.60660075328959995},{"$f":"CX37/DQ37","v":0.31630437145163387}]
[]
[]
[null,null,null,null,null,null,null,null,null,null,null,null,null,null,null,null,null,null,null,null,null,null,null,null,null,null,null,null,null,null,null,null,null,null,null,null,null,null,null,null,null,null,null,null,null,null,null,null,null,null,null,null,null,null,null,null,null,null,null,null,null,null,null,null,null,{"$f":"CI40/BP40","v":0.6168295428302385},{"$f":"CI40/BQ40","v":7.9755757921787282E-2},{"$f":"(CI37+CI40)/((CI37/BQ37)+(CI40/BQ40))","v":82.680864742621495},{"$f":"BR40","v":639.45226437460849},{"$f":"CB40*(EXP(-(CB40*BT40)/3600)/(1-EXP(-(CB40*BS40)/3600)))","v":639.45226437460849},{"$f":"BY40+(BW40*BU40)","v":3.32},{"$f":"BZ40+(BX40*BU40)-BV40","v":6.94},{"$f":"EB_Truck_Percentage","v":0.02},0,{"$f":"IF(CC40=1,0.9,1)","v":1},{"$f":"IF(CC40=1,1,2)","v":2},{"$f":"IF(CC40=3,3.9,3.3)","v":3.3},{"$f":"IF(CC40=1,6.2,IF(CC40=2,6.9,7.1))","v":6.9},"pepch",{"$f":"IF(CC40=1, (CN29+(0.5*CK29)),((0.5*CN29)+(0.5*CK29)))","v":357},{"$f":"CN30","v":2},null,null,null,null,"pepch",{"$f":"'3 - Alt Num Lanes Input'!DG28","v":51},{"$f":"'3 - Alt Num Lanes Input'!AW28","v":1},null,null,null,null,null,null,null,null,null,null,null,null,null,null,"pepch",null,null,null,null,null,null,"pepch"]
[]
[]
[null,null,null,null,null,null,null,null,null,null,null,null,null,null,null,null,null,null,null,null,null,null,null,null,null,null,null,null,null,null,null,null,null,null,null,null,null,null,null,null,null,null,null,null,null,null,null,null,null,null,null,null,null,null,null,null,null,null,null,null,null,null,null,null,null,null,null,null,null,null,null,null,null,null,null,null,null,null,null,null,null,null,null,null,null,null,null,null,{"$f":"'3 - Alt Num Lanes Input'!AC28","v":1},null,null,null,null,null,{"$f":"IF('3 - Alt Num Lanes Input'!AE28=0,1,'3 - Alt Num Lanes Input'!AE28)","v":2},null,null,{"$f":"'3 - Alt Num Lanes Input'!AG28","v":1}]
[null,null,null,null,null,null,null,null,null,null,null,null,null,null,null,null,null,null,null,null,null,null,null,null,null,null,null,null,null,null,null,null,null,null,null,null,null,null,null,null,null,null,null,null,null,null,null,null,null,null,null,null,null,null,null,null,null,null,null,null,null,null,null,null,null,"V/C,SH","V/C","CSH","Cm","Cp","tf","tc","P,HV","t3,LT","tf,hv","tc,hv","tf,base","tc,base",null,null,null,null,null,null,null,null,null,null,null,null,null,{"$f":"IF('3 - Alt Num Lanes Input'!CM28=0,1,'3 - Alt Num Lanes Input'!CM28)","v":102},null,null,{"$f":"IF('3 - Alt Num Lanes Input'!CO28=0,1,'3 - Alt Num Lanes Input'!CO28)","v":510},null,null,{"$f":"IF('3 - Alt Num Lanes Input'!CQ28=0,1,'3 - Alt Num Lanes Input'!CQ28)","v":204}]
[null,null,null,null,null,null,null,null,null,null,null,null,null,null,null,null,null,null,null,null,null,null,null,null,null,null,null,null,null,null,null,null,null,null,null,null,null,null,null,null,null,null,null,null,null,null,null,null,null,null,null,null,null,null,null,null,null,null,null,null,null,null,null,null,null,null,null,null,null,null,null,null,null,null,null,null,null,null,null,null,null,null,null,null,null,null,null,null,"pepch",null,null,"pepch",null,null,"pepch",null,null,"pepch",null,null,null,null,null,null,null,null,null,null,null,null,null,null,null,null,null,null,null,"P'",null,{"$f":"(0.65*DP46)-(DP46/(DP46+3))+(0.6*DP46)","v":-0.86511554852755623}]
[null,null,null,null,null,null,null,null,null,null,null,null,null,null,null,null,null,null,null,null,null,null,null,null,null,null,null,null,null,null,null,null,null,null,null,null,null,null,null,null,null,null,null,null,null,null,null,null,null,null,null,null,null,null,null,null,null,null,null,null,null,null,null,null,null,null,null,null,null,null,null,null,null,null,null,null,null,null,null,null,null,null,null,null,null,null,null,null,null,null,null,null,null,null,null,null,null,null,null,null,null,null,null,null,null,null,null,null,null,null,null,null,null,null,null,null,null,"P\"",null,{"$f":"(1-(CN44+CK44)/CN63)*(1-(CQ29+CT29)/CQ10)*(1-(CI37/BQ37))","v":-1.5675877851684874}]
[]
[]
[]
[null,null,null,null,null,null,null,null,null,null,null,null,null,null,null,null,null,null,null,null,null,null,null,null,null,null,null,null,null,null,null,null,null,null,null,null,null,null,null,null,null,null,null,null,null,null,null,null,null,null,null,null,null,null,null,null,null,null,null,null,null,null,null,null,null,null,null,null,null,null,null,null,null,null,null,null,null,null,null,null,null,null,null,null,null,null,null,null,{"$f":"CN30","v":2},null,null,{"$f":"CN30","v":2}]
[null,null,null,null,null,null,null,null,null,null,null,null,null,null,null,null,null,null,null,null,null,null,null,null,null,null,null,null,null,null,null,null,null,null,null,null,null,null,null,null,null,null,null,null,null,null,null,null,null,null,null,null,null,null,null,null,null,null,null,null,null,null,null,null,null,null,null,null,null,null,null,null,null,null,null,null,null,null,null,null,null,null,null,null,null,null,null,null,{"$f":"IF(CK50=3,((0.73*CN29)+(0.73*CK29)), (CN29+CK29))","v":714},null,null,{"$f":"CN29+CK29","v":714}]
[null,null,null,null,null,null,null,null,null,null,null,null,null,null,null,null,null,{"$f":"BO34","v":-0.60660075328959995},null,"L",null,null,null,null,null,null,null,null,null,null,null,null,null,null,null,null,null,null,null,null,null,null,null,null,null,null,null,null,null,null,null,null,null,null,null,null,null,null,null,null,null,null,null,null,null,null,null,null,null,null,null,null,null,null,null,null,null,null,null,null,null,null,null,null,null,null,null,null,"pepch",null,null,"pepch",null,null,"pepch",null,null,"pepch"]
[null,null,null,null,null,null,null,null,null,null,null,null,null,null,null,null,null,null,null,null,null,null,null,null,null,null,null,null,null,null,null,null,null,null,null,null,null,"L",null,null,"T",null,null,"R",null,null,null,null,null,null,null,null,null,null,null,null,null,null,null,null,null,null,null,null,null,null,null,null,null,null,null,null,null,null,null,null,null,null,null,null,null,null,null,null,null,"tc,base",null,null,{"$f":"IF(CK50=3,5.6,6.9)","v":6.9},null,null,{"$f":"IF(CN50=3,5.3,4.1)","v":4.0999999999999996}]
[null,null,null,null,null,null,null,null,null,null,null,null,null,null,null,null,null,null,null,null,null,null,null,null,null,null,null,null,null,null,null,null,null,null,null,null,null,null,null,null,null,null,null,null,null,null,null,null,null,null,null,null,null,null,null,null,null,null,null,null,null,null,null,null,null,null,null,null,null,null,null,null,null,null,null,null,null,null,null,null,null,null,null,null,null,"tf,base",null,null,{"$f":"IF(CK50=3,2.3,3.1)","v":3.1},null,null,{"$f":"IF(CN50=3,3.1,2.2)","v":2.2000000000000002}]
[null,null,null,null,null,null,null,null,null,null,null,null,null,null,null,null,null,{"$f":"BO37","v":3.004391956229405},null,"T",null,null,null,null,null,null,null,null,null,null,null,null,null,null,null,null,null,{"$f":"CN64","v":0.11564912519260814},null,null,{"$f":"CQ64","v":0.14166666666666666},null,null,"n/a",null,null,null,null,null,null,null,null,null,null,null,null,null,null,null,null,null,null,null,null,null,null,null,null,null,null,null,null,null,null,null,null,null,null,null,null,null,null,null,null,null,"tc,hv",null,null,{"$f":"IF(CK50=1,1,2)","v":2},null,null,{"$f":"IF(CN50=1,1,2)","v":2}]
[null,null,null,null,null,null,null,null,null,null,null,null,null,null,null,null,null,null,null,null,null,null,null,null,null,null,null,null,null,null,null,null,null,null,null,null,null,null,null,null,null,null,null,null,null,null,null,null,null,null,null,null,null,null,null,null,null,null,null,null,null,null,null,null,null,null,null,null,null,null,null,null,null,null,null,null,null,null,null,null,null,null,null,null,null,"tf,hv",null,null,{"$f":"IF(CK50=1,0.9,1)","v":1},null,null,{"$f":"IF(CN50=1,0.9,1)","v":1}]
[null,null,null,null,null,null,null,null,null,null,null,null,null,null,null,null,null,null,null,null,null,null,null,null,null,null,null,null,null,null,null,null,null,null,null,null,null,null,null,null,null,null,null,null,null,null,null,null,null,null,null,null,null,null,null,null,null,null,null,null,null,null,null,null,null,null,null,null,null,null,null,null,null,null,null,null,null,null,null,null,null,null,null,null,null,"t3,LT",null,null,0,null,null,0]
[null,null,null,null,null,null,null,null,null,null,null,null,null,null,null,null,null,{"$f":"BO40","v":7.9755757921787282E-2},null,"R",null,null,null,null,null,null,null,null,null,null,null,null,null,null,null,null,null,null,null,null,null,null,null,null,null,null,null,null,null,null,null,null,null,null,null,null,null,null,null,null,null,null,null,null,null,null,null,null,null,null,null,null,null,null,null,null,null,null,null,null,null,null,null,null,null,"P,HV",null,null,{"$f":"NB_Truck_Percentage","v":0.02},null,null,{"$f":"NB_Truck_Percentage","v":0.02}]
[null,null,null,null,null,null,null,null,null,null,null,null,null,null,null,null,null,null,null,null,null,null,null,null,null,null,null,null,null,null,null,null,null,null,null,null,null,null,null,null,null,null,null,null,null,null,null,null,null,null,null,null,null,null,null,null,null,null,null,null,null,null,null,null,null,null,null,null,null,null,null,null,null,null,null,null,null,null,null,null,null,null,null,null,null,"tc",null,null,{"$f":"CK53+(CK55*CK58)-CK57","v":6.94},null,null,{"$f":"CN53+(CN55*CN58)-CN57","v":4.1399999999999997}]
[null,null,null,null,null,null,null,null,null,null,null,null,null,null,null,null,null,null,null,null,null,null,null,null,null,null,null,null,null,null,null,null,null,null,null,null,null,null,null,null,null,null,null,null,null,null,null,null,null,null,null,null,null,null,null,null,null,null,null,null,null,null,null,null,null,null,null,null,null,null,null,null,null,null,null,null,null,null,null,null,null,null,null,null,null,"tf",null,null,{"$f":"CK54+(CK56*CK58)","v":3.12},null,null,{"$f":"CN54+(CN56*CN58)","v":2.2200000000000002}]
[null,null,null,null,null,null,null,null,null,null,null,null,null,null,null,null,null,null,null,null,null,null,null,null,null,null,null,null,null,null,null,null,null,null,null,null,null,null,null,null,null,null,null,null,null,null,null,null,null,null,null,null,null,null,null,null,null,null,null,null,null,null,null,null,null,null,null,null,null,null,null,null,null,null,null,null,null,null,null,null,null,null,null,null,null,"Cp",null,null,{"$f":"CK51*(EXP(-(CK51*CK59)/3600)/(1-EXP(-(CK51*CK60)/3600)))","v":390.69166411076645},null,null,{"$f":"CN51*(EXP(-(CN51*CN59)/3600)/(1-EXP(-(CN51*CN60)/3600)))","v":881.97813714650954}]
[null,null,null,null,null,null,null,null,null,null,null,null,null,null,null,null,null,null,null,null,null,null,null,null,null,null,null,null,null,null,null,null,null,null,null,null,null,null,null,null,null,null,null,null,null,null,null,null,null,null,null,null,null,null,null,null,null,null,null,null,null,null,null,null,null,null,null,null,null,null,null,null,null,null,null,null,null,null,null,null,null,null,null,null,null,"Cm",null,null,{"$f":"CK61*(1-(CI40/BQ40))","v":359.53175432588796},null,null,{"$f":"CN61","v":881.97813714650954},null,null,{"$f":"CQ43*1800","v":3600}]
[null,null,null,null,null,null,null,null,null,null,null,null,null,null,null,null,null,null,null,null,null,null,null,null,null,null,null,null,null,null,null,null,null,null,null,null,null,null,null,null,null,null,null,null,null,null,null,null,null,null,null,null,null,null,null,null,null,null,null,null,null,null,null,null,null,null,null,null,null,null,null,null,null,null,null,null,null,null,null,null,null,null,null,null,null,"CSH",null,null,null,null,null,{"$f":"(CN44+CK44)/((CN44/CN62)+(CK44/CK62))","v":881.97813714650954}]
[null,null,null,null,null,null,null,null,null,null,null,null,null,null,null,null,null,null,null,null,null,null,null,null,null,null,null,null,null,null,null,null,null,null,null,null,null,null,null,null,null,null,null,null,null,null,null,null,null,null,null,null,null,null,null,null,null,null,null,null,null,null,null,null,null,null,null,null,null,null,null,null,null,null,null,null,null,null,null,null,null,null,null,null,null,"V/C",null,null,{"$f":"CK44/CK62","v":0},null,null,{"$f":"CN44/CN62","v":0.11564912519260814},null,null,{"$f":"CQ44/CQ62","v":0.14166666666666666}]
[null,null,null,null,null,null,null,null,null,null,null,null,null,null,null,null,null,null,null,null,null,null,null,null,null,null,null,null,null,null,null,null,null,null,null,null,null,null,null,null,null,null,null,null,null,null,null,null,null,null,null,null,null,null,null,null,null,null,null,null,null,null,null,null,null,null,null,null,null,null,null,null,null,null,null,null,null,null,null,null,null,null,null,null,null,"V/C,SH"]

{"sheet":"TWSC E-W","index":21,"n_rows":65,"n_cols":123,"rows_kept":65,"cut":false,"hidden":false,"merged":[[21,38,23,46],[21,47,23,47],[17,103,17,105],[53,77,53,78],[53,79,53,80],[54,77,54,78],[54,79,54,80],[18,103,18,104],[18,105,18,106],[19,103,19,104],[19,105,19,106],[52,77,52,79],[19,71,19,86],[20,72,21,86],[54,88,54,90],[54,91,54,93],[54,94,54,96],[54,97,54,99],[36,75,38,75],[36,76,38,76],[36,77,38,77],[39,75,41,75],[39,76,41,76],[39,77,41,77],[30,77,32,77],[33,75,35,75],[25,119,27,119],[25,120,27,120],[25,121,27,121],[25,114,27,114],[25,115,27,115],[43,66,45,66],[43,67,45,67],[43,68,45,68],[43,69,45,69],[43,70,45,70],[43,71,45,71],[43,73,45,73],[43,74,45,74],[43,75,45,75],[43,76,45,76],[43,77,45,77],[43,72,45,72],[25,110,27,110],[25,111,27,111],[25,112,27,112],[25,113,27,113],[25,116,27,116],[25,117,27,117],[25,118,27,118],[15,94,15,96],[15,97,15,99],[16,88,16,90],[16,91,16,93],[16,94,16,96],[16,97,16,99],[8,71,8,86],[9,71,9,86],[10,71,10,86],[11,71,11,86],[12,71,12,86],[13,71,13,86],[14,71,14,86],[15,71,15,86],[16,71,16,86],[14,91,14,93],[14,94,14,96],[14,97,14,99],[15,88,15,90],[15,91,15,93],[27,91,27,93],[27,94,27,96],[62,88,62,90],[62,91,62,93],[62,94,62,96],[62,97,62,99],[63,88,63,90],[63,91,63,93],[63,94,63,96],[63,97,63,99],[8,88,8,90],[8,91,8,93],[8,94,8,96],[8,97,8,99],[9,88,9,90],[9,91,9,93],[9,94,9,96],[9,97,9,99],[10,88,10,90],[10,91,10,93],[10,94,10,96],[10,97,10,99],[11,88,11,90],[11,91,11,93],[11,94,11,96],[11,97,11,99],[59,88,59,90],[59,91,59,93],[59,94,59,96],[59,97,59,99],[60,88,60,90],[60,91,60,93],[60,94,60,96],[60,97,60,99],[61,88,61,90],[61,91,61,93],[61,94,61,96],[61,97,61,99],[55,88,55,90],[55,91,55,93],[55,94,55,96],[55,97,55,99],[56,88,56,90],[56,91,56,93],[56,94,56,96],[56,97,56,99],[36,121,38,121],[39,110,41,110],[39,111,41,111],[39,112,41,112],[39,113,41,113],[39,114,41,114],[39,115,41,115],[39,116,41,116],[39,117,41,117],[39,118,41,118],[39,119,41,119],[39,120,41,120],[39,121,41,121],[45,88,48,90],[45,91,48,93],[45,94,48,96],[30,119,32,119],[30,120,32,120],[30,121,32,121],[33,110,35,110],[33,111,35,111],[33,112,35,112],[33,113,35,113],[33,114,35,114],[33,115,35,115],[33,116,35,116],[33,117,35,117],[33,118,35,118],[33,119,35,119],[33,120,35,120],[33,121,35,121],[30,110,32,110],[30,111,32,111],[30,112,32,112],[30,113,32,113],[30,114,32,114],[30,115,32,115],[30,116,32,116],[30,117,32,117],[30,118,32,118],[39,66,41,66],[39,67,41,67],[39,68,41,68],[39,69,41,69],[39,70,41,70],[39,71,41,71],[39,72,41,72],[39,73,41,73],[39,74,41,74],[33,68,35,68],[33,69,35,69],[33,70,35,70],[33,71,35,71],[33,72,35,72],[33,73,35,73],[33,74,35,74],[33,76,35,76],[36,66,38,66],[36,67,38,67],[36,68,38,68],[36,69,38,69],[36,70,38,70],[36,71,38,71],[36,72,38,72],[36,73,38,73],[36,74,38,74],[56,19,58,20],[56,21,58,22],[53,37,54,39],[53,40,54,42],[53,43,54,45],[55,37,56,39],[55,40,56,42],[55,43,56,45],[35,39,37,40],[35,41,37,42],[50,19,52,20],[50,21,52,22],[53,19,55,20],[53,21,55,22],[33,15,34,17],[33,18,34,20],[33,21,34,23],[29,39,31,40],[29,41,31,42],[32,39,34,40],[32,41,34,42],[31,15,32,17],[31,18,32,20],[31,21,32,23],[57,88,57,90],[57,91,57,93],[57,94,57,96],[57,97,57,99],[58,88,58,90],[58,91,58,93],[58,94,58,96],[58,97,58,99],[50,88,50,90],[50,91,50,93],[50,94,50,96],[50,97,50,99],[51,88,51,90],[51,91,51,93],[51,94,51,96],[51,97,51,99],[52,88,52,90],[52,91,52,93],[52,94,52,96],[52,97,52,99],[53,88,53,90],[53,91,53,93],[53,94,53,96],[53,97,53,99],[45,97,48,99],[49,88,49,90],[49,91,49,93],[49,94,49,96],[49,97,49,99],[43,88,43,90],[43,91,43,93],[43,94,43,96],[43,97,43,99],[44,88,44,90],[44,91,44,93],[44,94,44,96],[44,97,44,99],[42,88,42,93],[42,94,42,96],[42,97,42,99],[39,108,41,108],[39,109,41,109],[36,110,38,110],[36,111,38,111],[36,112,38,112],[36,113,38,113],[39,103,41,106],[39,107,41,107],[36,98,38,98],[36,114,38,114],[36,115,38,115],[36,116,38,116],[36,117,38,117],[36,118,38,118],[36,119,38,119],[36,120,38,120],[39,78,41,78],[39,79,41,79],[39,80,41,80],[39,81,41,84],[39,85,41,85],[39,86,41,86],[36,107,38,107],[36,108,38,108],[36,109,38,109],[36,90,38,97],[36,100,41,100],[36,101,38,101],[36,102,38,102],[36,103,38,106],[39,87,41,87],[39,101,41,101],[39,102,41,102],[30,66,32,66],[30,67,32,67],[36,78,38,78],[36,79,38,79],[36,80,38,80],[36,81,38,84],[36,85,38,85],[36,86,38,86],[36,87,38,87],[33,78,35,78],[33,79,35,79],[33,80,35,80],[33,81,35,84],[33,85,35,85],[33,86,35,86],[30,70,32,70],[30,71,32,71],[30,72,32,72],[30,73,32,73],[30,74,32,74],[30,75,32,75],[30,76,32,76],[33,66,35,66],[33,67,35,67],[27,97,27,99],[28,88,28,90],[28,91,28,93],[28,94,28,96],[28,97,28,99],[30,78,32,78],[30,79,32,79],[30,80,32,80],[30,81,32,84],[30,85,32,85],[30,86,32,86],[30,87,35,87],[29,88,29,90],[29,91,29,93],[33,90,35,97],[33,77,35,77],[30,68,32,68],[30,69,32,69],[19,88,19,90],[19,91,19,93],[19,94,19,96],[19,97,19,99],[22,88,22,90],[22,91,22,93],[22,94,22,96],[22,97,22,99],[23,88,26,90],[23,91,26,93],[23,94,26,96],[23,97,26,99],[20,88,20,90],[20,91,20,93],[20,94,20,96],[20,97,20,99],[21,88,21,90],[21,91,21,93],[21,94,21,96],[21,97,21,99],[27,88,27,90],[0,63,1,122],[2,1,3,60],[2,63,3,122],[5,2,6,9],[5,10,6,35],[5,36,6,59],[6,71,7,86],[9,36,12,47],[9,48,12,59],[11,2,12,9],[11,10,12,35],[0,1,1,60],[7,2,8,9],[7,10,8,35],[7,36,8,41],[7,42,8,47],[7,48,8,53],[7,54,8,59],[9,2,10,9],[9,10,10,35],[12,88,12,90],[12,91,12,93],[12,94,12,96],[12,97,12,99],[43,65,45,65],[7,88,7,90],[7,91,7,93],[7,94,7,96],[7,97,7,99],[30,65,32,65],[33,65,35,65],[36,65,38,65],[39,65,41,65],[17,71,17,86],[18,71,18,86],[13,88,13,90],[13,91,13,93],[13,94,13,96],[13,97,13,99],[17,88,17,90],[17,91,17,93],[17,94,17,96],[17,97,17,99],[18,88,18,90],[18,91,18,93],[18,94,18,96],[18,97,18,99],[14,88,14,90],[25,122,27,122],[30,122,32,122],[33,122,35,122],[36,122,38,122],[39,122,41,122],[64,88,64,90],[64,91,64,93],[64,94,64,96],[64,97,64,99],[29,94,29,99],[30,108,32,108],[30,109,32,109],[30,100,32,100],[30,101,32,101],[30,102,32,102],[30,103,32,106],[30,107,32,107],[33,108,35,108],[33,109,35,109],[33,100,35,100],[33,101,35,101],[33,102,35,102],[33,103,35,106],[33,107,35,107]]}
[null,"Two Way Stop Control (E-W)",null,null,null,null,null,null,null,null,null,null,null,null,null,null,null,null,null,null,null,null,null,null,null,null,null,null,null,null,null,null,null,null,null,null,null,null,null,null,null,null,null,null,null,null,null,null,null,null,null,null,null,null,null,null,null,null,null,null,null,null,null,"Two Way Stop Control (E-W)"]
[]
[null,"Design and Results",null,null,null,null,null,null,null,null,null,null,null,null,null,null,null,null,null,null,null,null,null,null,null,null,null,null,null,null,null,null,null,null,null,null,null,null,null,null,null,null,null,null,null,null,null,null,null,null,null,null,null,null,null,null,null,null,null,null,null,null,null,"Data Input and Configuration"]
[]
[]
[null,null,"Project Name:",null,null,null,null,null,null,null,{"$f":"P_Name","v":"Cap-X Sample Street"},null,null,null,null,null,null,null,null,null,null,null,null,null,null,null,null,null,null,null,null,null,null,null,null,null,"Volume-to-Capacity Ratio"]
[]
[null,null,"Project Number:",null,null,null,null,null,null,null,{"$f":"P_Number","v":10000},null,null,null,null,null,null,null,null,null,null,null,null,null,null,null,null,null,null,null,null,null,null,null,null,null,"< 0.750",null,null,null,null,null,"0.750 - 0.875",null,null,null,null,null,"0.875 - 1.00",null,null,null,null,null,"≥ 1.00",null,null,null,null,null,null,null,null,null,null,null,null,null,null,null,null,null,null,null,null,null,null,null,null,null,null,null,null,null,null,null,null,null,{"$f":"CK29/CK10","v":0.43906973977625113},null,null,null,null,null,{"$f":"CQ29/CQ10","v":-0.15295926533482063}]
[null,null,null,null,null,null,null,null,null,null,null,null,null,null,null,null,null,null,null,null,null,null,null,null,null,null,null,null,null,null,null,null,null,null,null,null,null,null,null,null,null,null,null,null,null,null,null,null,null,null,null,null,null,null,null,null,null,null,null,null,null,null,null,null,null,null,null,null,null,null,null,"Volume-to-Capacity Ratio",null,null,null,null,null,null,null,null,null,null,null,null,null,null,null,null,{"$f":"CK29/CK11","v":0.22694936742950347},null,null,{"$f":"CN29/CN11","v":1.3097947217873753},null,null,{"$f":"CQ29/CQ11","v":-2.2275503137962991}]
[null,null,"Location",null,null,null,null,null,null,null,{"$f":"Location","v":"Tallahassee, FL"},null,null,null,null,null,null,null,null,null,null,null,null,null,null,null,null,null,null,null,null,null,null,null,null,null,"VOLUME / CAPACITY RATIO:",null,null,null,null,null,null,null,null,null,null,null,{"$f":"AM22","v":1.3097947217873753},null,null,null,null,null,null,null,null,null,null,null,null,null,null,null,null,null,null,null,null,null,null,"Capacity Shared lane, CSH",null,null,null,null,null,null,null,null,null,null,null,null,null,null,null,null,{"$f":"((CK29+CN29)/((CK29/CK11)+(CN29/CN11)))","v":464.61867334323222},null,null,null,null,null,{"$f":"((CN29+CQ29)/((CN29/CN11)+(CQ29/CQ11)))","v":-666.8442070294127}]
[null,null,null,null,null,null,null,null,null,null,null,null,null,null,null,null,null,null,null,null,null,null,null,null,null,null,null,null,null,null,null,null,null,null,null,null,null,null,null,null,null,null,null,null,null,null,null,null,null,null,null,null,null,null,null,null,null,null,null,null,null,null,null,null,null,null,null,null,null,null,null,"Movement Capacity, Cm",null,null,null,null,null,null,null,null,null,null,null,null,null,null,null,null,{"$f":"CK12","v":898.8789099108983},null,null,{"$f":"CN12*(1-(CI34+CI31)/BP34)*(1-(CX37+CX40)/DQ37)","v":389.37399236427103},null,null,{"$f":"CQ12*DB19*(1-(CT44/CT62))","v":-45.790211501964535}]
[null,null,"Date",null,null,null,null,null,null,null,{"$f":"Date","v":"2017 AM"},null,null,null,null,null,null,null,null,null,null,null,null,null,null,null,null,null,null,null,null,null,null,null,null,null,null,null,null,null,null,null,null,null,null,null,null,null,null,null,null,null,null,null,null,null,null,null,null,null,null,null,null,null,null,null,null,null,null,null,null,"Potential Capacity, Cp",null,null,null,null,null,null,null,null,null,null,null,null,null,null,null,null,{"$f":"CK22*(EXP(-(CK22*CK14)/3600)/(1-EXP(-(CK22*CK13)/3600)))","v":898.8789099108983},null,null,{"$f":"CN22*(EXP(-(CN22*CN14)/3600)/(1-EXP(-(CN22*CN13)/3600)))","v":408.52250228365125},null,null,{"$f":"CQ22*(EXP(-(CQ22*CQ14)/3600)/(1-EXP(-(CQ22*CQ13)/3600)))","v":227.88748775244491}]
[null,null,null,null,null,null,null,null,null,null,null,null,null,null,null,null,null,null,null,null,null,null,null,null,null,null,null,null,null,null,null,null,null,null,null,null,null,null,null,null,null,null,null,null,null,null,null,null,null,null,null,null,null,null,null,null,null,null,null,null,null,null,null,null,null,null,null,null,null,null,null,"Follow-up Headway, tf",null,null,null,null,null,null,null,null,null,null,null,null,null,null,null,null,{"$f":"CK19+(CK17*CK15)","v":3.32},null,null,{"$f":"CN19+(CN17*CN15)","v":4.0199999999999996},null,null,{"$f":"CQ19+(CQ17*CQ15)","v":3.52}]
[null,null,null,null,null,null,null,null,null,null,null,null,null,null,null,null,null,null,null,null,null,null,null,null,null,null,null,null,null,null,null,null,null,null,null,null,null,null,null,null,null,null,null,null,null,null,null,null,null,null,null,null,null,null,null,null,null,null,null,null,null,null,null,null,null,null,null,null,null,null,null,"Critical Headway, tc",null,null,null,null,null,null,null,null,null,null,null,null,null,null,null,null,{"$f":"CK20+(CK18*CK15)-CK16","v":6.94},null,null,{"$f":"CN20+(CN18*CN15)-CN16","v":6.54},null,null,{"$f":"CQ20+(CQ18*CQ15)-CQ16","v":7.54}]
[null,null,null,null,null,null,null,null,null,null,null,null,null,null,null,null,null,null,null,null,null,null,null,null,null,null,null,null,null,null,null,null,null,null,null,null,null,null,null,null,null,null,null,null,null,null,null,null,null,null,null,null,null,null,null,null,null,null,null,null,null,null,null,null,null,null,null,null,null,null,null,"P,HV",null,null,null,null,null,null,null,null,null,null,null,null,null,null,null,null,{"$f":"SB_Truck_Percentage","v":0.02},null,null,{"$f":"SB_Truck_Percentage","v":0.02},null,null,{"$f":"SB_Truck_Percentage","v":0.02}]
[null,null,null,null,null,null,null,null,null,null,null,null,null,null,null,null,null,null,null,null,null,null,null,null,null,null,null,null,null,null,null,null,null,null,null,null,null,null,null,null,null,null,null,null,null,null,null,null,null,null,null,null,null,null,null,null,null,null,null,null,null,null,null,null,null,null,null,null,null,null,null,"t3,LT Adjustment",null,null,null,null,null,null,null,null,null,null,null,null,null,null,null,null,0,null,null,{"$f":"IF((CK44+CN44+CQ44+CT44)=0,0.7,0)","v":0},null,null,{"$f":"IF((CK44+CN44+CQ44+CT44)=0,0.7,0)","v":0}]
[null,null,null,null,null,null,null,null,null,null,null,null,null,null,null,null,null,null,null,null,null,null,null,null,null,null,null,null,null,null,null,null,null,null,null,null,null,null,null,null,null,null,null,null,null,null,null,null,null,null,null,null,null,null,null,null,null,null,null,null,null,null,null,null,null,null,null,null,null,null,null,"tf,HV",null,null,null,null,null,null,null,null,null,null,null,null,null,null,null,null,{"$f":"IF(CK23=1,0.9,1)","v":1},null,null,{"$f":"IF(CN23=1,0.9,1)","v":1},null,null,{"$f":"IF(CQ23=1,0.9,1)","v":1}]
[null,null,null,null,null,null,null,null,null,null,null,null,null,null,null,null,null,null,null,null,null,null,null,null,null,null,null,null,null,null,null,null,null,null,null,null,null,null,null,null,null,null,null,null,null,null,null,null,null,null,null,null,null,null,null,null,null,null,null,null,null,null,null,null,null,null,null,null,null,null,null,"tc,HV",null,null,null,null,null,null,null,null,null,null,null,null,null,null,null,null,{"$f":"IF(CK23=1,1,2)","v":2},null,null,{"$f":"IF(CN23=1,1,2)","v":2},null,null,{"$f":"IF(CQ23=1,1,2)","v":2},null,null,null,null,null,null,null,null,"SBLt"]
[null,null,null,null,null,null,null,null,null,null,null,null,null,null,null,null,null,null,null,null,null,null,null,null,null,null,null,null,null,null,null,null,null,null,null,null,null,null,null,null,null,null,null,null,null,null,null,null,null,null,null,null,null,null,null,null,null,null,null,null,null,null,null,null,null,null,null,null,null,null,null,"Follwoup Headway tf,base",null,null,null,null,null,null,null,null,null,null,null,null,null,null,null,null,{"$f":"IF(CK23=3,3.9,3.3)","v":3.3},null,null,4,null,null,{"$f":"IF(CQ23=3,3.8,3.5)","v":3.5},null,null,null,null,null,null,null,null,"P'",null,{"$f":"(0.65*DB20)-(DB20/(DB20+3))+(0.6*DB20)","v":-0.2599227115006798}]
[null,null,null,null,null,null,null,null,null,null,null,null,null,null,null,null,null,null,null,null,null,null,null,null,null,null,null,null,null,null,null,null,null,null,null,null,null,null,null,null,null,null,null,null,null,null,null,null,null,null,null,null,null,null,null,null,null,null,null,null,null,null,null,null,null,null,null,null,null,null,null,"Critical Headway, tc,base",null,null,null,null,null,null,null,null,null,null,null,null,null,null,null,null,{"$f":"IF(CK23=1,6.2,IF(CK23=2,6.9,7.1))","v":6.9},null,null,6.5,null,null,{"$f":"IF(CQ23=1,7.1,IF(CQ23=2,7.5,6.4))","v":7.5},null,null,null,null,null,null,null,null,"P\"",null,{"$f":"(1-((CI34+CI31)/BP34))*(1-((CX37+CX40)/DQ37))*(1-(CQ44/CQ62))","v":-0.29527383916779731}]
[null,null,null,null,null,null,null,null,null,null,null,null,null,null,null,null,null,null,null,null,null,null,null,null,null,null,null,null,null,null,null,null,null,null,null,null,null,null,null,null,null,null,null,null,null,null,null,null,null,null,null,null,null,null,null,null,null,null,null,null,null,null,null,null,null,null,null,null,null,null,null,null,"Conflicting Volume, Vc",null,null,null,null,null,null,null,null,null,null,null,null,null,null,null,"pepch",null,null,"pepch",null,null,"pepch",null,null,"pepch"]
[null,null,null,null,null,null,null,null,null,null,null,null,null,null,null,null,null,null,null,null,null,null,null,null,null,null,null,null,null,null,null,null,null,null,null,null,null,null,{"$f":"MAX(P34,S34,V34,AP30,AP33,AP36,AR56,AO56,AL56,T57,T54,T51)","v":1.3097947217873753},null,null,null,null,null,null,null,null,"V/C",null,null,null,null,null,null,null,null,null,null,null,null,null,null,null,null,null,null,null,null,null,null,null,null,null,null,null,null,null,null,null,null,null,null,null,null,null,null,null,null,{"$f":"IF(CK23=1,CX34+(0.5*CX31),((0.5*CX34)+(0.5*CX31)))","v":127.5},null,null,{"$f":"(2*(CX37+CX40))+CX34+(0.5*CX31)+(2*(CI34+CI31))+CI37+CI40","v":608.5},null,null,{"$f":"IF(CQ23=1,(2*(CX37+CX40)+CX34+0.5*(CX31)+2*(CI34+CI31)+CI37+(0.5*CI40)+(0.5*CT44)+(0.5*CQ44)),IF(CQ23=2,(2*(CX37+CX40)+CX34+0.5*(CX31)+2*(CI34+CI31)+CI37+0.5*(CT44)+0.5*(CQ44)),(2*(CX37+CX40)+CX34+0.5*(CX31)+2*(CI34+CI31)+CI37+0.4*(CT44)+0.5*(CQ44))))","v":914.5}]
[null,null,null,null,null,null,null,null,null,null,null,null,null,null,null,null,null,null,null,null,null,null,null,null,null,null,null,null,null,null,null,null,null,null,null,null,null,null,null,null,null,null,null,null,null,null,null,null,null,null,null,null,null,null,null,null,null,null,null,null,null,null,null,null,null,null,null,null,null,null,null,null,null,null,null,null,null,null,null,null,null,null,null,null,null,null,null,null,{"$f":"CW34","v":2},null,null,{"$f":"CW34","v":2},null,null,{"$f":"CW34","v":2}]
[]
[]
[null,null,null,null,null,null,null,null,null,null,null,null,null,null,null,null,null,null,null,null,null,null,null,null,null,null,null,null,null,null,null,null,null,null,null,null,null,null,null,null,null,null,null,null,null,null,null,null,null,null,null,null,null,null,null,null,null,null,null,null,null,null,null,null,null,null,null,null,null,null,null,null,null,null,null,null,null,null,null,null,null,null,null,null,null,null,null,null,null,null,null,null,null,null,null,null,null,null,null,null,null,null,null,null,null,null,null,null,null,null,"tc,base","tf,base","tc,hv","tf,hv","t3,LT","P,HV","tc","tf","Cp","Cm","CSH","V/C","V/C,SH"]
[]
[null,null,null,null,null,null,null,null,null,null,null,null,null,null,null,null,null,null,null,null,null,null,null,null,null,null,null,null,null,null,null,null,null,null,null,null,null,null,null,null,null,null,null,null,null,null,null,null,null,null,null,null,null,null,null,null,null,null,null,null,null,null,null,null,null,null,null,null,null,null,null,null,null,null,null,null,null,null,null,null,null,null,null,null,null,null,null,null,"pepch",null,null,"pepch",null,null,"pepch",null,null,"pepch",null,null,null,null,null,null,null,null,null,null,null,null,null,null,null,null,null,null,null,null,null,null,null,"V/C","V/C"]
[null,null,null,null,null,null,null,null,null,null,null,null,null,null,null,null,null,null,null,null,null,null,null,null,null,null,null,null,null,null,null,null,null,null,null,null,null,null,null,null,null,null,null,null,null,null,null,null,null,null,null,null,null,null,null,null,null,null,null,null,null,null,null,null,null,null,null,null,null,null,null,null,null,null,null,null,null,null,null,null,null,null,null,null,null,null,null,null,{"$f":"'3 - Alt Num Lanes Input'!CY30","v":204},null,null,{"$f":"'3 - Alt Num Lanes Input'!CW30","v":510},null,null,{"$f":"'3 - Alt Num Lanes Input'!CU30","v":102}]
[null,null,null,null,null,null,null,null,null,null,null,null,null,null,null,null,null,null,null,null,null,null,null,null,null,null,null,null,null,null,null,null,null,null,null,null,null,null,null,"R",null,"n/a",null,null,null,null,null,null,null,null,null,null,null,null,null,null,null,null,null,null,null,null,null,null,null,null,null,null,null,null,null,null,null,null,null,null,null,null,null,null,null,null,null,null,null,null,null,null,{"$f":"'3 - Alt Num Lanes Input'!AO30","v":1},null,null,{"$f":"'3 - Alt Num Lanes Input'!AM30","v":2},null,null,{"$f":"'3 - Alt Num Lanes Input'!AK30","v":1}]
[null,null,null,null,null,null,null,null,null,null,null,null,null,null,null,null,null,null,null,null,null,null,null,null,null,null,null,null,null,null,null,null,null,null,null,null,null,null,null,null,null,null,null,null,null,null,null,null,null,null,null,null,null,null,null,null,null,null,null,null,null,null,null,null,null,null,{"$f":"CI31/BQ31","v":0},null,{"$f":"BR31*(1-(CK29/CK11))","v":608.09300809371587},{"$f":"CB31*(EXP(-(CB31*BT31)/3600)/(1-EXP(-(CB31*BS31)/3600)))","v":786.61472156322463},{"$f":"BY31+(BW31*BU31)","v":3.12},{"$f":"BZ31+(BX31*BU31)-BV31","v":6.94},{"$f":"EB_Truck_Percentage","v":0.02},0,{"$f":"IF(CC31=1,0.9,1)","v":1},{"$f":"IF(CC31=1,1,2)","v":2},{"$f":"IF(CC31=3,2.3,3.1)","v":3.1},{"$f":"IF(CC31=3,5.6,6.9)","v":6.9},"pepch",{"$f":"IF(CC31=3,(0.73*(CX34)+0.73*(CX31)), CX34+CX31)","v":255},{"$f":"CW34","v":2},null,null,null,null,"pepch",{"$f":"'3 - Alt Num Lanes Input'!DA30","v":0},{"$f":"'3 - Alt Num Lanes Input'!AS30","v":1},null,null,null,null,null,null,null,null,null,null,null,null,{"$f":"'3 - Alt Num Lanes Input'!BE30","v":1},{"$f":"IF('3 - Alt Num Lanes Input'!DO30=0,1,'3 - Alt Num Lanes Input'!DO30)","v":51},"pepch",null,null,null,null,null,null,"pepch"]
[null,null,null,null,null,null,null,null,null,null,null,null,null,null,null,"R",null,null,"T",null,null,"L"]
[null,null,null,null,null,null,null,null,null,null,null,null,null,null,null,null,null,null,null,null,null,null,null,null,null,null,null,null,null,null,null,null,null,null,null,null,null,null,null,"T",null,{"$f":"DR34","v":5.6666666666666664E-2}]
[null,null,null,null,null,null,null,null,null,null,null,null,null,null,null,{"$f":"CK9","v":0.22694936742950347},null,null,{"$f":"CN9","v":1.3097947217873753},null,null,{"$f":"CQ9","v":-2.2275503137962991},null,null,null,null,null,null,null,null,null,null,null,null,null,null,null,null,null,null,null,null,null,null,null,null,null,null,null,null,null,null,null,null,null,null,null,null,null,null,null,null,null,null,null,{"$f":"CI34/BP34","v":2.3717558949919313E-2},{"$f":"CI34/BQ34","v":2.3717558949919313E-2},{"$f":"(CI34+CI31)/((CI34/BQ34)+(CI31/BQ31))","v":1307.0485063601143},{"$f":"BR34","v":1307.0485063601143},{"$f":"CB34*(EXP(-(CB34*BT34)/3600)/(1-EXP(-(CB34*BS34)/3600)))","v":1307.0485063601143},{"$f":"BY34+(BW34*BU34)","v":2.2200000000000002},{"$f":"BZ34+(BX34*BU34)-BV34","v":4.1399999999999997},{"$f":"EB_Truck_Percentage","v":0.02},0,{"$f":"IF(CC34=1,0.9,1)","v":1},{"$f":"IF(CC34=1,1,2)","v":2},{"$f":"IF(CC34=3,3.1,2.2)","v":2.2000000000000002},{"$f":"IF(CC34=3,5.3,4.1)","v":4.0999999999999996},"pepch",{"$f":"CX34+CX31","v":255},{"$f":"CW34","v":2},null,null,null,null,"pepch",{"$f":"IF('3 - Alt Num Lanes Input'!DC30=0,1,'3 - Alt Num Lanes Input'!DC30)","v":31},null,null,null,null,null,null,null,null,null,null,null,null,null,{"$f":"'3 - Alt Num Lanes Input'!BC30","v":2},{"$f":"'3 - Alt Num Lanes Input'!DM30","v":204},"pepch",null,null,null,null,null,null,"pepch",null,null,null,null,null,null,null,null,null,{"$f":"1800*CW34","v":3600},null,{"$f":"CX34/DP34","v":5.6666666666666664E-2}]
[]
[null,null,null,null,null,null,null,null,null,null,null,null,null,null,null,null,null,null,null,null,null,null,null,null,null,null,null,null,null,null,null,null,null,null,null,null,null,null,null,"L",null,{"$f":"DR37","v":2.3717558949919313E-2}]
[null,null,null,null,null,null,null,null,null,null,null,null,null,null,null,null,null,null,null,null,null,null,null,null,null,null,null,null,null,null,null,null,null,null,null,null,null,null,null,null,null,null,null,null,null,null,null,null,null,null,null,null,null,null,null,null,null,null,null,null,null,null,null,null,null,null,{"$f":"CI37/BQ37","v":5.6666666666666664E-2},null,{"$f":"CJ37*1800","v":3600},null,null,null,null,null,null,null,null,null,"pepch",null,null,null,null,null,null,"pepch",{"$f":"'3 - Alt Num Lanes Input'!DE30","v":204},{"$f":"'3 - Alt Num Lanes Input'!AU30","v":2},null,null,{"$f":"MAX(BO31,BO34,CN64,CQ64,CT64,DR40,DR37,CQ9,CN9,CK9)","v":1.3097947217873753},null,null,null,null,null,null,null,"V/C",null,{"$f":"'3 - Alt Num Lanes Input'!BA30","v":1},{"$f":"IF('3 - Alt Num Lanes Input'!DK30=0,1,'3 - Alt Num Lanes Input'!DK30)","v":31},"pepch",null,null,null,null,{"$f":"CJ37","v":2},{"$f":"CI37+CI40","v":255},"pepch",{"$f":"IF(DD37=3,5.3,4.1)","v":4.0999999999999996},{"$f":"IF(DD37=3,3.1,2.2)","v":2.2000000000000002},{"$f":"IF(DD37=1,1,2)","v":2},{"$f":"IF(DD37=1,0.9,1)","v":1},0,{"$f":"WB_Truck_Percentage","v":0.02},{"$f":"DG37+(DI37*DL37)-DK37","v":4.1399999999999997},{"$f":"DH37+(DJ37*DL37)","v":2.2200000000000002},{"$f":"DE37*(EXP(-(DE37*DM37)/3600)/(1-EXP(-(DE37*DN37)/3600)))","v":1307.0485063601143},{"$f":"DO37","v":1307.0485063601143},{"$f":"(CX37+CX40)/((CX37/DP37)+(CX40/DP40))","v":1307.0485063601143},{"$f":"CX37/DP37","v":2.3717558949919313E-2},{"$f":"CX37/DQ37","v":2.3717558949919313E-2}]
[]
[]
[null,null,null,null,null,null,null,null,null,null,null,null,null,null,null,null,null,null,null,null,null,null,null,null,null,null,null,null,null,null,null,null,null,null,null,null,null,null,null,null,null,null,null,null,null,null,null,null,null,null,null,null,null,null,null,null,null,null,null,null,null,null,null,null,null,null,null,null,null,null,null,null,null,null,null,null,null,null,"pepch",null,null,null,null,null,null,"pepch",{"$f":"IF('3 - Alt Num Lanes Input'!DG30=0,1,'3 - Alt Num Lanes Input'!DG30)","v":51},{"$f":"'3 - Alt Num Lanes Input'!AW30","v":1},null,null,null,null,null,null,null,null,null,null,null,null,null,{"$f":"'3 - Alt Num Lanes Input'!DI30","v":0},"pepch",null,null,null,null,{"$f":"CJ37","v":2},{"$f":"IF(DD40=3,(0.73*(CI37)+0.73*(CI40)), CI37+CI40)","v":255},"pepch",{"$f":"IF(DD40=3,5.6,6.9)","v":6.9},{"$f":"IF(DD40=3,2.3,3.1)","v":3.1},{"$f":"IF(DD40=1,1,2)","v":2},{"$f":"IF(DD40=1,0.9,1)","v":1},0,{"$f":"WB_Truck_Percentage","v":0.02},{"$f":"DG40+(DI40*DL40)-DK40","v":6.94},{"$f":"DH40+(DJ40*DL40)","v":3.12},{"$f":"DE40*(EXP(-(DE40*DM40)/3600)/(1-EXP(-(DE40*DN40)/3600)))","v":786.61472156322463},{"$f":"DO40*(1-(CT44/CT62))","v":608.09300809371587},null,{"$f":"CX40/DP40","v":0}]
[]
[]
[null,null,null,null,null,null,null,null,null,null,null,null,null,null,null,null,null,null,null,null,null,null,null,null,null,null,null,null,null,null,null,null,null,null,null,null,null,null,null,null,null,null,null,null,null,null,null,null,null,null,null,null,null,null,null,null,null,null,null,null,null,null,null,null,null,null,null,null,null,null,null,null,null,null,null,null,null,null,null,null,null,null,null,null,null,null,null,null,{"$f":"'3 - Alt Num Lanes Input'!AC30","v":1},null,null,null,null,null,{"$f":"'3 - Alt Num Lanes Input'!AE30","v":2},null,null,{"$f":"'3 - Alt Num Lanes Input'!AG30","v":1}]
[null,null,null,null,null,null,null,null,null,null,null,null,null,null,null,null,null,null,null,null,null,null,null,null,null,null,null,null,null,null,null,null,null,null,null,null,null,null,null,null,null,null,null,null,null,null,null,null,null,null,null,null,null,null,null,null,null,null,null,null,null,null,null,null,null,"V/C,SH","V/C","CSH","Cm","Cp","tf","tc","P,HV","t3,LT","tf,hv","tc,hv","tf,base","tc,base",null,null,null,null,null,null,null,null,null,null,null,null,null,{"$f":"'3 - Alt Num Lanes Input'!CM30","v":102},null,null,{"$f":"'3 - Alt Num Lanes Input'!CO30","v":510},null,null,{"$f":"'3 - Alt Num Lanes Input'!CQ30","v":204}]
[null,null,null,null,null,null,null,null,null,null,null,null,null,null,null,null,null,null,null,null,null,null,null,null,null,null,null,null,null,null,null,null,null,null,null,null,null,null,null,null,null,null,null,null,null,null,null,null,null,null,null,null,null,null,null,null,null,null,null,null,null,null,null,null,null,null,null,null,null,null,null,null,null,null,null,null,null,null,null,null,null,null,null,null,null,null,null,null,"pepch",null,null,"pepch",null,null,"pepch",null,null,"pepch"]
[]
[]
[]
[]
[null,null,null,null,null,null,null,null,null,null,null,null,null,null,null,null,null,null,null,null,null,null,null,null,null,null,null,null,null,null,null,null,null,null,null,null,null,null,null,null,null,null,null,null,null,null,null,null,null,null,null,null,null,null,null,null,null,null,null,null,null,null,null,null,null,null,null,null,null,null,null,null,null,null,null,null,null,null,null,null,null,null,null,null,null,null,null,null,null,null,null,{"$f":"CJ37","v":2},null,null,{"$f":"CJ37","v":2},null,null,{"$f":"CJ37","v":2}]
[null,null,null,null,null,null,null,null,null,null,null,null,null,null,null,null,null,null,null,{"$f":"BO34","v":2.3717558949919313E-2},null,"L",null,null,null,null,null,null,null,null,null,null,null,null,null,null,null,null,null,null,null,null,null,null,null,null,null,null,null,null,null,null,null,null,null,null,null,null,null,null,null,null,null,null,null,null,null,null,null,null,null,null,null,null,null,null,null,null,null,null,null,null,null,null,null,null,null,null,null,null,null,{"$f":"IF(CN50=1,(2*(CI34+CI31)+CI37+0.5*(CI40)+2*(CX37+CX40)+CX34+(0.5*CX31)+(0.5*CK29)+(0.5*CN29)),IF(CN50=2,(2*(CI34+CI31)+CI37+0.5*(CI40)+2*(CX37+CX40)+CX34+(0.5*CK29)+(0.5*CN29)),(2*(CI34+CI31)+CI37+0.5*(CI40)+2*(CX37+CX40)+CX34+(0.4*CK29)+(0.5*CN29))))","v":914.5},null,null,{"$f":"(2*(CI34+CI31))+CI37+(0.5*CI40)+(2*(CX37+CX40))+CX34+CX31","v":608.5},null,null,{"$f":"IF(CT503=1,CI37+(0.5*CI40),((0.5*CI37)+(0.5*CI40)))","v":127.5}]
[null,null,null,null,null,null,null,null,null,null,null,null,null,null,null,null,null,null,null,null,null,null,null,null,null,null,null,null,null,null,null,null,null,null,null,null,null,null,null,null,null,null,null,null,null,null,null,null,null,null,null,null,null,null,null,null,null,null,null,null,null,null,null,null,null,null,null,null,null,null,null,null,null,null,null,null,null,null,null,null,null,null,null,null,null,null,null,null,"pepch",null,null,"pepch",null,null,"pepch",null,null,"pepch"]
[null,null,null,null,null,null,null,null,null,null,null,null,null,null,null,null,null,null,null,null,null,null,null,null,null,null,null,null,null,null,null,null,null,null,null,null,null,null,null,null,null,null,null,null,null,null,null,null,null,null,null,null,null,null,null,null,null,null,null,null,null,null,null,null,null,null,null,null,null,null,null,null,null,null,null,null,null,"NBLt",null,null,null,null,null,null,null,"tc,base",null,null,null,null,null,{"$f":"IF(CN50=1,7.1,IF(CN50=2,7.5,6.4))","v":7.5},null,null,6.5,null,null,{"$f":"IF(CT50=1,6.2,IF(CT50=2,6.9,7.1))","v":6.9}]
[null,null,null,null,null,null,null,null,null,null,null,null,null,null,null,null,null,null,null,{"$f":"BO37","v":5.6666666666666664E-2},null,"T",null,null,null,null,null,null,null,null,null,null,null,null,null,null,null,"L",null,null,"T",null,null,"R",null,null,null,null,null,null,null,null,null,null,null,null,null,null,null,null,null,null,null,null,null,null,null,null,null,null,null,null,null,null,null,null,null,"P'",null,{"$f":"(0.65*CB55)-(CB55/(CB55+3))+(0.6*CB55)","v":-0.2599227115006798},null,null,null,null,null,"tf,base",null,null,null,null,null,{"$f":"IF(CN50=3,3.8,3.5)","v":3.5},null,null,4,null,null,{"$f":"IF(CT50=3,3.9,3.3)","v":3.3}]
[null,null,null,null,null,null,null,null,null,null,null,null,null,null,null,null,null,null,null,null,null,null,null,null,null,null,null,null,null,null,null,null,null,null,null,null,null,null,null,null,null,null,null,null,null,null,null,null,null,null,null,null,null,null,null,null,null,null,null,null,null,null,null,null,null,null,null,null,null,null,null,null,null,null,null,null,null,"P\"",null,{"$f":"(1-((CI34+CI31)/BP34))*(1-((CX37+CX40)/DQ37))*(1-(CN29/CN11))","v":-0.29527383916779731},null,null,null,null,null,"tc,hv",null,null,null,null,null,{"$f":"IF(CN50=1,1,2)","v":2},null,null,{"$f":"IF(CQ50=1,1,2)","v":2},null,null,{"$f":"IF(CT50=1,1,2)","v":2}]
[null,null,null,null,null,null,null,null,null,null,null,null,null,null,null,null,null,null,null,null,null,null,null,null,null,null,null,null,null,null,null,null,null,null,null,null,null,{"$f":"CN64","v":-2.2275503137962991},null,null,{"$f":"CQ64","v":1.3097947217873753},null,null,{"$f":"CT64","v":0.22694936742950347},null,null,null,null,null,null,null,null,null,null,null,null,null,null,null,null,null,null,null,null,null,null,null,null,null,null,null,null,null,null,null,null,null,null,null,null,null,null,null,null,null,"tf,hv",null,null,null,null,null,{"$f":"IF(CN50=1,0.9,1)","v":1},null,null,{"$f":"IF(CQ50=1,0.9,1)","v":1},null,null,{"$f":"IF(CT50=1,0.9,1)","v":1}]
[null,null,null,null,null,null,null,null,null,null,null,null,null,null,null,null,null,null,null,"n/a",null,"R",null,null,null,null,null,null,null,null,null,null,null,null,null,null,null,null,null,null,null,null,null,null,null,null,null,null,null,null,null,null,null,null,null,null,null,null,null,null,null,null,null,null,null,null,null,null,null,null,null,null,null,null,null,null,null,null,null,null,null,null,null,null,null,"t3,LT",null,null,null,null,null,{"$f":"IF((CK29+CN29+CQ29+CT29)=0,0.7,0)","v":0},null,null,{"$f":"IF((CK29+CN29+CQ29+CT29)=0,0.7,0)","v":0},null,null,0]
[null,null,null,null,null,null,null,null,null,null,null,null,null,null,null,null,null,null,null,null,null,null,null,null,null,null,null,null,null,null,null,null,null,null,null,null,null,null,null,null,null,null,null,null,null,null,null,null,null,null,null,null,null,null,null,null,null,null,null,null,null,null,null,null,null,null,null,null,null,null,null,null,null,null,null,null,null,null,null,null,null,null,null,null,null,"P,HV",null,null,null,null,null,{"$f":"NB_Truck_Percentage","v":0.02},null,null,{"$f":"NB_Truck_Percentage","v":0.02},null,null,{"$f":"NB_Truck_Percentage","v":0.02}]
[null,null,null,null,null,null,null,null,null,null,null,null,null,null,null,null,null,null,null,null,null,null,null,null,null,null,null,null,null,null,null,null,null,null,null,null,null,null,null,null,null,null,null,null,null,null,null,null,null,null,null,null,null,null,null,null,null,null,null,null,null,null,null,null,null,null,null,null,null,null,null,null,null,null,null,null,null,null,null,null,null,null,null,null,null,"tc",null,null,null,null,null,{"$f":"CN53+(CN55*CN58)-CN57","v":7.54},null,null,{"$f":"CQ53+(CQ55*CQ58)-CQ57","v":6.54},null,null,{"$f":"CT53+(CT55*CT58)-CT57","v":6.94}]
[null,null,null,null,null,null,null,null,null,null,null,null,null,null,null,null,null,null,null,null,null,null,null,null,null,null,null,null,null,null,null,null,null,null,null,null,null,null,null,null,null,null,null,null,null,null,null,null,null,null,null,null,null,null,null,null,null,null,null,null,null,null,null,null,null,null,null,null,null,null,null,null,null,null,null,null,null,null,null,null,null,null,null,null,null,"tf",null,null,null,null,null,{"$f":"CN54+(CN56*CN58)","v":3.52},null,null,{"$f":"CQ54+(CQ56*CQ58)","v":4.0199999999999996},null,null,{"$f":"CT54+(CT56*CT58)","v":3.32}]
[null,null,null,null,null,null,null,null,null,null,null,null,null,null,null,null,null,null,null,null,null,null,null,null,null,null,null,null,null,null,null,null,null,null,null,null,null,null,null,null,null,null,null,null,null,null,null,null,null,null,null,null,null,null,null,null,null,null,null,null,null,null,null,null,null,null,null,null,null,null,null,null,null,null,null,null,null,null,null,null,null,null,null,null,null,"Cp",null,null,null,null,null,{"$f":"CN51*(EXP(-(CN51*CN59)/3600)/(1-EXP(-(CN51*CN60)/3600)))","v":227.88748775244491},null,null,{"$f":"CQ51*(EXP(-(CQ51*CQ59)/3600)/(1-EXP(-(CQ51*CQ60)/3600)))","v":408.52250228365125},null,null,{"$f":"CT51*(EXP(-(CT51*CT59)/3600)/(1-EXP(-(CT51*CT60)/3600)))","v":898.8789099108983}]
[null,null,null,null,null,null,null,null,null,null,null,null,null,null,null,null,null,null,null,null,null,null,null,null,null,null,null,null,null,null,null,null,null,null,null,null,null,null,null,null,null,null,null,null,null,null,null,null,null,null,null,null,null,null,null,null,null,null,null,null,null,null,null,null,null,null,null,null,null,null,null,null,null,null,null,null,null,null,null,null,null,null,null,null,null,"Cm",null,null,null,null,null,{"$f":"CN61*CB54*(1-(CK29/CK11))","v":-45.790211501964535},null,null,{"$f":"CQ61*(1-(CI34+CI31)/BP34)*(1-(CX37+CX40)/DQ37)","v":389.37399236427103},null,null,{"$f":"CT61","v":898.8789099108983}]
[null,null,null,null,null,null,null,null,null,null,null,null,null,null,null,null,null,null,null,null,null,null,null,null,null,null,null,null,null,null,null,null,null,null,null,null,null,null,null,null,null,null,null,null,null,null,null,null,null,null,null,null,null,null,null,null,null,null,null,null,null,null,null,null,null,null,null,null,null,null,null,null,null,null,null,null,null,null,null,null,null,null,null,null,null,"CSH",null,null,null,null,null,{"$f":"(CN44+CQ44)/((CN44/CN62)+(CQ44/CQ62))","v":-666.8442070294127},null,null,null,null,null,{"$f":"(CQ44+CT44)/((CQ44/CQ62)+(CT44/CT62))","v":464.61867334323222}]
[null,null,null,null,null,null,null,null,null,null,null,null,null,null,null,null,null,null,null,null,null,null,null,null,null,null,null,null,null,null,null,null,null,null,null,null,null,null,null,null,null,null,null,null,null,null,null,null,null,null,null,null,null,null,null,null,null,null,null,null,null,null,null,null,null,null,null,null,null,null,null,null,null,null,null,null,null,null,null,null,null,null,null,null,null,"V/C",null,null,null,null,null,{"$f":"CN44/CN62","v":-2.2275503137962991},null,null,{"$f":"CQ44/CQ62","v":1.3097947217873753},null,null,{"$f":"CT44/CT62","v":0.22694936742950347}]
[null,null,null,null,null,null,null,null,null,null,null,null,null,null,null,null,null,null,null,null,null,null,null,null,null,null,null,null,null,null,null,null,null,null,null,null,null,null,null,null,null,null,null,null,null,null,null,null,null,null,null,null,null,null,null,null,null,null,null,null,null,null,null,null,null,null,null,null,null,null,null,null,null,null,null,null,null,null,null,null,null,null,null,null,null,"V/C,SH",null,null,null,null,null,{"$f":"CN44/CN63","v":-0.15295926533482063},null,null,null,null,null,{"$f":"CT44/CT63","v":0.43906973977625113}]

{"sheet":"AWSC","index":22,"n_rows":52,"n_cols":116,"rows_kept":52,"cut":false,"hidden":false,"merged":[[5,82,6,85],[5,86,6,89],[5,90,6,93],[9,99,12,107],[0,63,1,122],[2,1,3,60],[2,63,3,122],[5,2,6,9],[5,10,6,35],[5,36,6,59],[5,99,6,107],[7,99,8,107],[0,1,1,60],[7,2,8,9],[7,10,8,35],[7,36,8,41],[7,42,8,47],[7,48,8,53],[7,82,8,85],[9,82,10,85],[7,86,8,89],[9,86,10,89],[7,90,8,93],[9,90,10,93],[5,64,6,81],[17,96,18,115],[7,68,8,81],[9,68,10,81],[11,68,12,81],[34,72,35,76],[34,115,35,119],[51,91,52,95],[19,87,20,90],[34,68,35,71],[51,87,52,90],[34,111,35,114],[11,82,12,85],[11,86,12,89],[11,90,12,93],[28,97,28,99],[29,88,29,90],[29,91,29,93],[29,94,29,99],[23,88,26,90],[23,91,26,93],[23,94,26,96],[23,97,26,99],[27,88,27,90],[27,91,27,93],[27,94,27,96],[27,97,27,99],[30,101,32,101],[30,102,32,102],[30,103,32,106],[33,81,35,84],[33,85,35,85],[33,86,35,86],[33,90,35,97],[33,100,35,100],[33,101,35,101],[33,102,35,102],[33,103,35,106],[30,81,32,84],[30,85,32,85],[30,86,32,86],[30,87,35,87],[30,100,32,100],[36,100,41,100],[36,101,38,101],[36,102,38,102],[36,103,38,106],[39,81,41,84],[39,85,41,85],[39,86,41,86],[39,87,41,87],[39,101,41,101],[39,102,41,102],[39,103,41,106],[36,81,38,84],[36,85,38,85],[36,86,38,86],[36,87,38,87],[36,90,38,97],[44,88,44,90],[44,91,44,93],[44,94,44,96],[44,97,44,99],[45,88,48,90],[45,91,48,93],[45,94,48,96],[45,97,48,99],[42,88,42,93],[42,94,42,96],[42,97,42,99],[43,88,43,90],[43,91,43,93],[43,94,43,96],[43,97,43,99],[17,71,18,74],[21,71,22,74],[7,64,8,67],[9,64,10,67],[11,64,12,67],[19,91,20,95],[30,9,32,12],[30,13,32,13],[30,14,32,17],[30,18,32,18],[9,36,12,47],[9,48,12,59],[11,2,12,9],[11,10,12,35],[19,71,20,74],[15,71,16,74],[7,54,8,59],[9,2,10,9],[9,10,10,35],[28,88,28,90],[28,91,28,93],[28,94,28,96],[27,9,29,17],[27,18,29,18]]}
[null,"All Way Stop Control",null,null,null,null,null,null,null,null,null,null,null,null,null,null,null,null,null,null,null,null,null,null,null,null,null,null,null,null,null,null,null,null,null,null,null,null,null,null,null,null,null,null,null,null,null,null,null,null,null,null,null,null,null,null,null,null,null,null,null,null,null,"All Way Stop Control"]
[]
[null,"Design and Results",null,null,null,null,null,null,null,null,null,null,null,null,null,null,null,null,null,null,null,null,null,null,null,null,null,null,null,null,null,null,null,null,null,null,null,null,null,null,null,null,null,null,null,null,null,null,null,null,null,null,null,null,null,null,null,null,null,null,null,null,null,"Data Input and Configuration"]
[]
[]
[null,null,"Project Name:",null,null,null,null,null,null,null,{"$f":"P_Name","v":"Cap-X Sample Street"},null,null,null,null,null,null,null,null,null,null,null,null,null,null,null,null,null,null,null,null,null,null,null,null,null,"Volume-to-Capacity Ratio",null,null,null,null,null,null,null,null,null,null,null,null,null,null,null,null,null,null,null,null,null,null,null,null,null,null,null,"Total Entering Capacity (veh/h)",null,null,null,null,null,null,null,null,null,null,null,null,null,null,null,null,null,"E/W App.",null,null,null,"N/S App.",null,null,null,"Used?",null,null,null,null,null,null,null,null,"Total Entering Flow Rate"]
[]
[null,null,"Project Number:",null,null,null,null,null,null,null,{"$f":"P_Number","v":10000},null,null,null,null,null,null,null,null,null,null,null,null,null,null,null,null,null,null,null,null,null,null,null,null,null,"< 0.750",null,null,null,null,null,"0.750 - 0.875",null,null,null,null,null,"0.875 - 1.00",null,null,null,null,null,"≥ 1.00",null,null,null,null,null,null,null,null,null,1200,null,null,null,"both streets: 1-lane approaches",null,null,null,null,null,null,null,null,null,null,null,null,null,{"$f":"IF(AND(SUM(CJ31:CJ42)<=1, SUM(CW31:CW42)<=1),TRUE,FALSE)","v":false},null,null,null,{"$f":"IF(AND(SUM(CK30:CV30)=1, SUM(CK43:CV43)=1),TRUE,FALSE)","v":false},null,null,null,{"$f":"IF(AND(CE8=TRUE, CI8=TRUE),BM8,FALSE)","v":false},null,null,null,null,null,null,null,null,"Ve"]
[]
[null,null,"Location",null,null,null,null,null,null,null,{"$f":"Location","v":"Tallahassee, FL"},null,null,null,null,null,null,null,null,null,null,null,null,null,null,null,null,null,null,null,null,null,null,null,null,null,"VOLUME / CAPACITY RATIO:",null,null,null,null,null,null,null,null,null,null,null,{"$f":"Result_AWSC_VC_Z5","v":1.22},null,null,null,null,null,null,null,null,null,null,null,null,null,null,null,1500,null,null,null,"one street: 1-lane approaches, one street: 2-lane approaches",null,null,null,null,null,null,null,null,null,null,null,null,null,{"$f":"AND(OR(NOT(CE8),NOT(CI8)),OR(NOT(CE12),NOT(CI12)))","v":false},null,null,null,{"$f":"AND(OR(NOT(CE8),NOT(CI8)),OR(NOT(CE12),NOT(CI12)))","v":false},null,null,null,{"$f":"IF(AND(CE10=TRUE, CI10=TRUE),BM10,FALSE)","v":false},null,null,null,null,null,null,null,null,{"$f":"SUM(CN20+DL35+BU35+CN52)","v":2204}]
[]
[null,null,"Date",null,null,null,null,null,null,null,{"$f":"Date","v":"2017 AM"},null,null,null,null,null,null,null,null,null,null,null,null,null,null,null,null,null,null,null,null,null,null,null,null,null,null,null,null,null,null,null,null,null,null,null,null,null,null,null,null,null,null,null,null,null,null,null,null,null,null,null,null,null,1800,null,null,null,"both streets: 2-lane approaches",null,null,null,null,null,null,null,null,null,null,null,null,null,{"$f":"IF(AND(SUM(CJ31:CJ42)>=2, SUM(CW31:CW42)>=2),TRUE,FALSE)","v":true},null,null,null,{"$f":"IF(AND(SUM(CK30:CV30)>=2,SUM(CK43:CV43)>=2),TRUE,FALSE)","v":true},null,null,null,{"$f":"IF(AND(CM8=FALSE,CM10=FALSE),BM12,IF(AND(CE12=TRUE, CI12=TRUE),BM12,FALSE))","v":1800}]
[]
[]
[]
[]
[]
[null,null,null,null,null,null,null,null,null,null,null,null,null,null,null,null,null,null,null,null,null,null,null,null,null,null,null,null,null,null,null,null,null,null,null,null,null,null,null,null,null,null,null,null,null,null,null,null,null,null,null,null,null,null,null,null,null,null,null,null,null,null,null,null,null,null,null,null,null,null,null,null,null,null,null,null,null,null,null,null,null,null,null,null,null,null,null,null,null,null,null,null,null,null,null,null,"*U-Turns are converted into Left Turns"]
[]
[null,null,null,null,null,null,null,null,null,null,null,null,null,null,null,null,null,null,null,null,null,null,null,null,null,null,null,null,null,null,null,null,null,null,null,null,null,null,null,null,null,null,null,null,null,null,null,null,null,null,null,null,null,null,null,null,null,null,null,null,null,null,null,null,null,null,null,null,null,null,null,null,null,null,null,null,null,null,null,null,null,null,null,null,null,null,null,"Vy",null,null,null,{"$f":"SUM(CK29:CV29)","v":816}]
[]
[]
[]
[]
[]
[]
[]
[null,null,null,null,null,null,null,null,null,{"$f":"CV10","v":2204},null,null,null,null,null,null,null,null,"CLV",null,null,null,null,null,null,null,null,null,null,null,null,null,null,null,null,null,null,null,null,null,null,null,null,null,null,null,null,null,null,null,null,null,null,null,null,null,null,null,null,null,null,null,null,null,null,null,null,null,null,null,null,null,null,null,null,null,null,null,null,null,null,null,null,null,null,null,null,null,"pepch",null,null,"pepch",null,null,"pepch",null,null,"pepch"]
[null,null,null,null,null,null,null,null,null,null,null,null,null,null,null,null,null,null,null,null,null,null,null,null,null,null,null,null,null,null,null,null,null,null,null,null,null,null,null,null,null,null,null,null,null,null,null,null,null,null,null,null,null,null,null,null,null,null,null,null,null,null,null,null,null,null,null,null,null,null,null,null,null,null,null,null,null,null,null,null,null,null,null,null,null,null,null,null,{"$f":"'3 - Alt Num Lanes Input'!CY32","v":204},null,null,{"$f":"'3 - Alt Num Lanes Input'!CW32","v":510},null,null,{"$f":"'3 - Alt Num Lanes Input'!CU32","v":102}]
[null,null,null,null,null,null,null,null,null,null,null,null,null,null,null,null,null,null,null,null,null,null,null,null,null,null,null,null,null,null,null,null,null,null,null,null,null,null,null,null,null,null,null,null,null,null,null,null,null,null,null,null,null,null,null,null,null,null,null,null,null,null,null,null,null,null,null,null,null,null,null,null,null,null,null,null,null,null,null,null,null,null,null,null,null,null,null,null,{"$f":"'3 - Alt Num Lanes Input'!AO32","v":1},null,null,{"$f":"IF('3 - Alt Num Lanes Input'!AM32=0,1,'3 - Alt Num Lanes Input'!AM32)","v":2},null,null,{"$f":"'3 - Alt Num Lanes Input'!AK32","v":1}]
[null,null,null,null,null,null,null,null,null,{"$f":"ROUND(J28/O31,2)","v":1.22},null,null,null,"V/C",{"$f":"IF(CM8,BM8,IF(CM12,BM12,BM10))","v":1800},null,null,null,"MAX",null,null,null,null,null,null,null,null,null,null,null,null,null,null,null,null,null,null,null,null,null,null,null,null,null,null,null,null,null,null,null,null,null,null,null,null,null,null,null,null,null,null,null,null,null,null,null,null,null,null,null,null,null,null,null,null,null,null,null,null,null,null,null,null,null,null,"pepch",null,{"$f":"'3 - Alt Num Lanes Input'!AS32","v":1},null,null,null,null,null,null,null,null,null,null,null,null,{"$f":"'3 - Alt Num Lanes Input'!BE32","v":1},{"$f":"'3 - Alt Num Lanes Input'!DO32","v":51},"pepch"]
[]
[]
[null,null,null,null,null,null,null,null,null,null,null,null,null,null,null,null,null,null,null,null,null,null,null,null,null,null,null,null,null,null,null,null,null,null,null,null,null,null,null,null,null,null,null,null,null,null,null,null,null,null,null,null,null,null,null,null,null,null,null,null,null,null,null,null,null,null,null,null,null,null,null,null,null,null,null,null,null,null,null,null,null,null,null,null,null,"pepch",{"$f":"'3 - Alt Num Lanes Input'!DC32","v":31},null,null,null,null,null,null,null,null,null,null,null,null,null,{"$f":"IF('3 - Alt Num Lanes Input'!BC32=0,1,'3 - Alt Num Lanes Input'!BC32)","v":2},{"$f":"'3 - Alt Num Lanes Input'!DM32","v":204},"pepch"]
[null,null,null,null,null,null,null,null,null,null,null,null,null,null,null,null,null,null,null,null,null,null,null,null,null,null,null,null,null,null,null,null,null,null,null,null,null,null,null,null,null,null,null,null,null,null,null,null,null,null,null,null,null,null,null,null,null,null,null,null,null,null,null,null,null,null,null,null,"Vy",null,null,null,{"$f":"SUM(CI31:CI42)","v":286},null,null,null,null,null,null,null,null,null,null,null,null,null,null,null,null,null,null,null,null,null,null,null,null,null,null,null,null,null,null,null,null,null,null,null,null,null,null,"Vy",null,null,null,{"$f":"SUM(CX31:CX42)","v":286}]
[]
[null,null,null,null,null,null,null,null,null,null,null,null,null,null,null,null,null,null,null,null,null,null,null,null,null,null,null,null,null,null,null,null,null,null,null,null,null,null,null,null,null,null,null,null,null,null,null,null,null,null,null,null,null,null,null,null,null,null,null,null,null,null,null,null,null,null,null,null,null,null,null,null,null,null,null,null,null,null,null,null,null,null,null,null,null,"pepch",{"$f":"'3 - Alt Num Lanes Input'!DE32","v":204},{"$f":"IF('3 - Alt Num Lanes Input'!AU32=0,1,'3 - Alt Num Lanes Input'!AU32)","v":2},null,null,{"$f":"CV10","v":2204},null,null,null,null,null,null,null,null,null,{"$f":"'3 - Alt Num Lanes Input'!BA32","v":1},{"$f":"'3 - Alt Num Lanes Input'!DK32","v":31},"pepch"]
[]
[]
[null,null,null,null,null,null,null,null,null,null,null,null,null,null,null,null,null,null,null,null,null,null,null,null,null,null,null,null,null,null,null,null,null,null,null,null,null,null,null,null,null,null,null,null,null,null,null,null,null,null,null,null,null,null,null,null,null,null,null,null,null,null,null,null,null,null,null,null,null,null,null,null,null,null,null,null,null,null,null,null,null,null,null,null,null,"pepch",{"$f":"'3 - Alt Num Lanes Input'!DG32","v":51},{"$f":"'3 - Alt Num Lanes Input'!AW32","v":1},null,null,null,null,null,null,null,null,null,null,null,null,null,null,"pepch"]
[]
[]
[null,null,null,null,null,null,null,null,null,null,null,null,null,null,null,null,null,null,null,null,null,null,null,null,null,null,null,null,null,null,null,null,null,null,null,null,null,null,null,null,null,null,null,null,null,null,null,null,null,null,null,null,null,null,null,null,null,null,null,null,null,null,null,null,null,null,null,null,null,null,null,null,null,null,null,null,null,null,null,null,null,null,null,null,null,null,null,null,{"$f":"'3 - Alt Num Lanes Input'!AC32","v":1},null,null,null,null,null,{"$f":"IF('3 - Alt Num Lanes Input'!AE32=0,1,'3 - Alt Num Lanes Input'!AE32)","v":2},null,null,{"$f":"'3 - Alt Num Lanes Input'!AG32","v":1}]
[null,null,null,null,null,null,null,null,null,null,null,null,null,null,null,null,null,null,null,null,null,null,null,null,null,null,null,null,null,null,null,null,null,null,null,null,null,null,null,null,null,null,null,null,null,null,null,null,null,null,null,null,null,null,null,null,null,null,null,null,null,null,null,null,null,null,null,null,null,null,null,null,null,null,null,null,null,null,null,null,null,null,null,null,null,null,null,null,null,null,null,{"$f":"'3 - Alt Num Lanes Input'!CM32","v":102},null,null,{"$f":"'3 - Alt Num Lanes Input'!CO32","v":510},null,null,{"$f":"'3 - Alt Num Lanes Input'!CQ32","v":204}]
[null,null,null,null,null,null,null,null,null,null,null,null,null,null,null,null,null,null,null,null,null,null,null,null,null,null,null,null,null,null,null,null,null,null,null,null,null,null,null,null,null,null,null,null,null,null,null,null,null,null,null,null,null,null,null,null,null,null,null,null,null,null,null,null,null,null,null,null,null,null,null,null,null,null,null,null,null,null,null,null,null,null,null,null,null,null,null,null,"pepch",null,null,"pepch",null,null,"pepch",null,null,"pepch"]
[]
[]
[]
[]
[]
[]
[null,null,null,null,null,null,null,null,null,null,null,null,null,null,null,null,null,null,null,null,null,null,null,null,null,null,null,null,null,null,null,null,null,null,null,null,null,null,null,null,null,null,null,null,null,null,null,null,null,null,null,null,null,null,null,null,null,null,null,null,null,null,null,null,null,null,null,null,null,null,null,null,null,null,null,null,null,null,null,null,null,null,null,null,null,null,null,"Vy",null,null,null,{"$f":"SUM(CK44:CV44)","v":816}]

{"sheet":"QR S-W","index":23,"n_rows":74,"n_cols":116,"rows_kept":74,"cut":false,"hidden":false,"merged":[[53,94,55,97],[53,98,55,98],[53,99,55,99],[53,100,55,100],[56,101,56,103],[56,104,56,106],[43,101,43,103],[43,104,43,106],[47,103,49,110],[50,94,52,97],[50,98,52,98],[50,99,52,99],[50,100,52,100],[50,103,52,110],[58,101,58,103],[58,104,58,106],[58,107,58,109],[58,110,58,112],[59,101,62,103],[59,104,62,106],[59,107,62,109],[59,110,62,112],[56,107,56,109],[56,110,56,112],[57,101,57,103],[57,104,57,106],[57,107,57,109],[57,110,57,112],[37,101,40,103],[37,104,40,106],[41,101,41,103],[41,104,41,106],[42,101,42,103],[42,104,42,106],[30,79,30,81],[30,82,30,84],[30,107,30,109],[30,110,30,112],[31,79,34,81],[31,82,34,84],[31,107,34,109],[31,110,34,112],[28,79,28,81],[28,82,28,84],[28,107,28,109],[28,110,28,112],[29,79,29,81],[29,82,29,84],[29,107,29,109],[29,110,29,112],[25,100,27,100],[25,113,27,113],[25,114,27,114],[25,115,27,115],[25,116,27,119],[25,66,27,69],[25,70,27,70],[25,71,27,71],[25,72,27,72],[25,94,27,97],[25,98,27,98],[22,94,24,97],[22,98,24,98],[22,99,24,99],[19,86,21,86],[19,87,21,87],[19,88,21,91],[19,66,21,69],[19,70,21,70],[25,99,27,99],[73,14,73,47],[16,116,18,119],[15,101,15,103],[15,104,15,106],[15,107,15,109],[15,110,15,112],[13,110,13,112],[14,110,14,112],[13,107,13,109],[14,101,14,103],[14,104,14,106],[14,107,14,109],[19,71,21,71],[19,72,21,72],[19,75,21,82],[19,85,21,85],[16,87,18,87],[16,88,18,91],[16,113,18,113],[16,114,18,114],[16,115,18,115],[22,100,24,100],[22,103,24,110],[22,113,24,113],[0,63,1,122],[2,63,3,122],[9,101,12,103],[9,104,12,106],[9,107,12,109],[9,110,12,112],[16,66,18,69],[16,70,18,70],[16,71,18,71],[16,72,18,72],[16,85,18,85],[16,86,18,86],[13,101,13,103],[13,104,13,106],[6,80,7,81],[6,66,8,79],[0,1,1,60],[2,1,3,60],[5,2,6,9],[5,10,6,35],[5,36,6,59],[7,2,8,9],[7,10,8,35],[9,2,10,9],[9,10,10,35],[7,36,8,41],[7,42,8,47],[7,48,8,53],[7,54,8,59],[9,36,12,47],[9,48,12,59],[68,55,68,59],[23,43,23,47],[17,13,19,13],[20,4,22,7],[20,8,22,8],[20,9,22,12],[20,13,22,13],[17,38,19,46],[17,47,19,47],[20,38,22,41],[20,42,22,42],[20,43,22,46],[20,47,22,47],[62,50,64,58],[62,59,64,59],[65,50,67,53],[65,54,67,54],[65,55,67,58],[65,59,67,59],[17,4,19,12],[29,72,30,73],[29,100,30,101],[57,96,58,97],[64,108,65,109],[36,117,37,118],[6,108,7,109],[34,102,35,103],[13,90,14,91],[23,9,23,13],[11,2,12,9],[11,10,12,35],[22,114,24,114],[22,115,24,115],[22,116,24,119],[19,115,21,115],[19,116,21,119],[19,103,21,110],[19,113,21,113],[19,114,21,114],[22,66,24,69],[22,70,24,70],[22,71,24,71],[22,72,24,72],[22,75,24,82]]}
[null,"Quadrant Roadway Intersection (S-W)",null,null,null,null,null,null,null,null,null,null,null,null,null,null,null,null,null,null,null,null,null,null,null,null,null,null,null,null,null,null,null,null,null,null,null,null,null,null,null,null,null,null,null,null,null,null,null,null,null,null,null,null,null,null,null,null,null,null,null,null,null,"Quadrant Roadway Intersection (S-W)"]
[]
[null,"Design and Results",null,null,null,null,null,null,null,null,null,null,null,null,null,null,null,null,null,null,null,null,null,null,null,null,null,null,null,null,null,null,null,null,null,null,null,null,null,null,null,null,null,null,null,null,null,null,null,null,null,null,null,null,null,null,null,null,null,null,null,null,null,"Data Input and Configuration"]
[]
[]
[null,null,"Project Name:",null,null,null,null,null,null,null,{"$f":"P_Name","v":"Cap-X Sample Street"},null,null,null,null,null,null,null,null,null,null,null,null,null,null,null,null,null,null,null,null,null,null,null,null,null,"Volume-to-Capacity Ratio"]
[null,null,null,null,null,null,null,null,null,null,null,null,null,null,null,null,null,null,null,null,null,null,null,null,null,null,null,null,null,null,null,null,null,null,null,null,null,null,null,null,null,null,null,null,null,null,null,null,null,null,null,null,null,null,null,null,null,null,null,null,null,null,null,null,null,null,"Multimodal Capacity Adjustment Factor",null,null,null,null,null,null,null,null,null,null,null,null,null,{"$f":"IF(Multimodal=1,1,IF(MAX(CW23,DA16,DJ20,DD29)<3,1,IF(MAX(CW23,DA16,DJ20,DD29)<4,0.9,0.8)))","v":1}]
[null,null,"Project Number:",null,null,null,null,null,null,null,{"$f":"P_Number","v":10000},null,null,null,null,null,null,null,null,null,null,null,null,null,null,null,null,null,null,null,null,null,null,null,null,null,"< 0.750",null,null,null,null,null,"0.750 - 0.875",null,null,null,null,null,"0.875 - 1.00",null,null,null,null,null,"≥ 1.00"]
[]
[null,null,"Location",null,null,null,null,null,null,null,{"$f":"Location","v":"Tallahassee, FL"},null,null,null,null,null,null,null,null,null,null,null,null,null,null,null,null,null,null,null,null,null,null,null,null,null,"VOLUME / CAPACITY RATIO:",null,null,null,null,null,null,null,null,null,null,null,{"$f":"MAX(E21,AM21,AY66)","v":0.26}]
[]
[null,null,"Date",null,null,null,null,null,null,null,{"$f":"Date","v":"2017 AM"}]
[]
[null,null,null,null,null,null,null,null,null,null,null,null,null,null,null,null,null,null,null,null,null,null,null,null,null,null,null,null,null,null,null,null,null,null,null,null,null,null,null,null,null,null,null,null,null,null,null,null,null,null,null,null,null,null,null,null,null,null,null,null,null,null,null,null,null,null,null,null,null,null,null,null,null,null,null,null,null,null,null,null,null,null,null,null,null,null,null,null,null,null,null,null,null,null,null,null,null,null,null,null,null,"pepch",null,null,"pepch",null,null,"pepch",null,null,"pepch"]
[null,null,null,null,null,null,null,null,null,null,null,null,null,null,null,null,null,null,null,null,null,null,null,null,null,null,null,null,null,null,null,null,null,null,null,null,null,null,null,null,null,null,null,null,null,null,null,null,null,null,null,null,null,null,null,null,null,null,null,null,null,null,null,null,null,null,null,null,null,null,null,null,null,null,null,null,null,null,null,null,null,null,null,null,null,null,null,null,null,null,null,null,null,null,null,null,null,null,null,null,null,{"$f":"SBR_Master","v":204},null,null,{"$f":"SBT_Master","v":510},null,null,{"$f":"SBL_Master","v":102},null,null,{"$f":"SBU_Master","v":0}]
[null,null,null,null,null,null,null,null,null,null,null,null,null,null,null,null,null,null,null,null,null,null,null,null,null,null,null,null,null,null,null,null,null,null,null,null,null,null,null,null,null,null,null,null,null,null,null,null,null,null,null,null,null,null,null,null,null,null,null,null,null,null,null,null,null,null,null,null,null,null,null,null,null,null,null,null,null,null,null,null,null,null,null,null,null,null,null,null,null,null,null,null,null,null,null,null,null,null,null,null,null,1,null,null,2]
[null,null,null,null,null,null,null,null,null,null,null,null,null,null,null,null,null,null,null,null,null,null,null,null,null,null,null,null,null,null,null,null,null,null,null,null,null,null,null,null,null,null,null,null,null,null,null,null,null,null,null,null,null,null,null,null,null,null,null,null,null,null,null,null,null,null,null,null,null,null,"pepch",{"$f":"EBU_Master","v":0},null,null,null,null,null,null,null,null,null,null,null,null,null,2,{"$f":"CX15+DK20","v":408},"pepch",null,null,null,null,null,null,null,null,null,null,null,null,null,null,null,null,null,null,null,null,null,null,null,null,null,1,{"$f":"WBR_Master","v":51},"pepch"]
[null,null,null,null,{"$f":"BX23","v":311.36842105263156},null,null,null,null,null,null,null,null,"CLV",null,null,null,null,null,null,null,null,null,null,null,null,null,null,null,null,null,null,null,null,null,null,null,null,{"$f":"CZ23","v":459},null,null,null,null,null,null,null,null,"CLV"]
[]
[null,null,null,null,null,null,null,null,null,null,null,null,null,null,null,null,null,null,null,null,null,null,null,null,null,null,null,null,null,null,null,null,null,null,null,null,null,null,null,null,null,null,null,null,null,null,null,null,null,null,null,null,null,null,null,null,null,null,null,null,null,null,null,null,null,null,null,null,null,null,"pepch",{"$f":"EBL_Master","v":31},null,null,null,null,null,null,null,null,null,null,null,null,null,1,{"$f":"DG15+DK23+DK26","v":31},"pepch",null,null,null,null,null,null,null,null,null,null,null,null,null,null,null,null,null,null,null,null,null,null,null,null,null,2,{"$f":"WBT_Master","v":204},"pepch"]
[null,null,null,null,{"$f":"ROUND(E18/CLV_Limit_3,2)","v":0.18},null,null,null,"V/C",{"$f":"CLV_Limit_3*CC7","v":1750},null,null,null,"MAX",null,null,null,null,null,null,null,null,null,null,null,null,null,null,null,null,null,null,null,null,null,null,null,null,{"$f":"ROUND(AM18/CLV_Limit_2,2)","v":0.26},null,null,null,"V/C",{"$f":"CLV_Limit_2*CC7","v":1800},null,null,null,"MAX"]
[]
[null,null,null,null,null,null,null,null,null,null,null,null,null,null,null,null,null,null,null,null,null,null,null,null,null,null,null,null,null,null,null,null,null,null,null,null,null,null,null,null,null,null,null,null,null,null,null,null,null,null,null,null,null,null,null,null,null,null,null,null,null,null,null,null,null,null,null,null,null,null,"pepch",{"$f":"EBT_Master","v":204},2,null,null,{"$f":"MAX(CB30/LTAF/CB29, ROUND(MAX(0,CE30/RTAF/CE29-CI20/LTAF/CH20),0))+ MAX(CI20/LTAF/CH20 +MAX((BT17+BT23)/BU23, ROUND(MAX(0,(BT20+BT26)/RTAF/BU26-CB30/LTAF/CB29),0)), CI17 /CH17 )","v":311.36842105263156},null,null,null,null,null,null,null,null,null,null,null,null,null,null,null,null,null,null,null,null,null,null,"pepch",{"$f":"BT23+CE30+BT17","v":306},2,null,null,{"$f":"MAX(DD30/DD29, DG30/RTAF/DG29, (DA15+DD15)/DA16, (CX15+DG15)/RTAF/CX16) +MAX(CV23/CW23, CV26/RTAF/CW26, (DK20+DK23+DK26)/DJ20, DK17/RTAF/DJ17)","v":459},null,null,null,null,null,null,null,null,null,null,{"$f":"WBL_Master","v":31},"pepch"]
[null,null,null,null,null,null,null,null,null,"3 Phases",null,null,null,null,null,null,null,null,null,null,null,null,null,null,null,null,null,null,null,null,null,null,null,null,null,null,null,null,null,null,null,null,null,"2 Phases"]
[]
[null,null,null,null,null,null,null,null,null,null,null,null,null,null,null,null,null,null,null,null,null,null,null,null,null,null,null,null,null,null,null,null,null,null,null,null,null,null,null,null,null,null,null,null,null,null,null,null,null,null,null,null,null,null,null,null,null,null,null,null,null,null,null,null,null,null,null,null,null,null,"pepch",{"$f":"EBR_Master","v":51},1,null,null,null,null,null,null,null,null,null,null,null,null,null,null,null,null,null,null,null,null,null,null,null,null,null,"pepch",{"$f":"CX58+BT17","v":0},1,null,null,null,null,null,null,null,null,null,null,null,null,null,{"$f":"WBU_Master","v":0},"pepch"]
[]
[]
[null,null,null,null,null,null,null,null,null,null,null,null,null,null,null,null,null,null,null,null,null,null,null,null,null,null,null,null,null,null,null,null,null,null,null,null,null,null,null,null,null,null,null,null,null,null,null,null,null,null,null,null,null,null,null,null,null,null,null,null,null,null,null,null,null,null,null,null,null,null,null,null,null,null,null,null,null,null,null,1,null,null,1,null,null,null,null,null,null,null,null,null,null,null,null,null,null,null,null,null,null,null,null,null,null,null,null,2,null,null,1]
[null,null,null,null,null,null,null,null,null,null,null,null,null,null,null,null,null,null,null,null,null,null,null,null,null,null,null,null,null,null,null,null,null,null,null,null,null,null,null,null,null,null,null,null,null,null,null,null,null,null,null,null,null,null,null,null,null,null,null,null,null,null,null,null,null,null,null,null,null,null,null,null,null,null,null,null,null,null,null,{"$f":"DA58+BT17","v":102},null,null,{"$f":"DD15+CX58","v":102},null,null,null,null,null,null,null,null,null,null,null,null,null,null,null,null,null,null,null,null,null,null,null,null,{"$f":"DD58+DG15","v":510},null,null,{"$f":"DG58+DK26","v":204}]
[null,null,null,null,null,null,null,null,null,null,null,null,null,null,null,null,null,null,null,null,null,null,null,null,null,null,null,null,null,null,null,null,null,null,null,null,null,null,null,null,null,null,null,null,null,null,null,null,null,null,null,null,null,null,null,null,null,null,null,null,null,null,null,null,null,null,null,null,null,null,null,null,null,null,null,null,null,null,null,"pepch",null,null,"pepch",null,null,null,null,null,null,null,null,null,null,null,null,null,null,null,null,null,null,null,null,null,null,null,null,"pepch",null,null,"pepch"]
[]
[]
[]
[]
[]
[]
[]
[]
[]
[]
[null,null,null,null,null,null,null,null,null,null,null,null,null,null,null,null,null,null,null,null,null,null,null,null,null,null,null,null,null,null,null,null,null,null,null,null,null,null,null,null,null,null,null,null,null,null,null,null,null,null,null,null,null,null,null,null,null,null,null,null,null,null,null,null,null,null,null,null,null,null,null,null,null,null,null,null,null,null,null,null,null,null,null,null,null,null,null,null,null,null,null,null,null,null,null,null,null,null,null,null,null,"pepch",null,null,"pepch"]
[null,null,null,null,null,null,null,null,null,null,null,null,null,null,null,null,null,null,null,null,null,null,null,null,null,null,null,null,null,null,null,null,null,null,null,null,null,null,null,null,null,null,null,null,null,null,null,null,null,null,null,null,null,null,null,null,null,null,null,null,null,null,null,null,null,null,null,null,null,null,null,null,null,null,null,null,null,null,null,null,null,null,null,null,null,null,null,null,null,null,null,null,null,null,null,null,null,null,null,null,null,{"$f":"DD15+BT17","v":102},null,null,{"$f":"CX58+DA15","v":510}]
[null,null,null,null,null,null,null,null,null,null,null,null,null,null,null,null,null,null,null,null,null,null,null,null,null,null,null,null,null,null,null,null,null,null,null,null,null,null,null,null,null,null,null,null,null,null,null,null,null,null,null,null,null,null,null,null,null,null,null,null,null,null,null,null,null,null,null,null,null,null,null,null,null,null,null,null,null,null,null,null,null,null,null,null,null,null,null,null,null,null,null,null,null,null,null,null,null,null,null,null,null,1,null,null,2]
[]
[]
[]
[]
[]
[]
[null,null,null,null,null,null,null,null,null,null,null,null,null,null,null,null,null,null,null,null,null,null,null,null,null,null,null,null,null,null,null,null,null,null,null,null,null,null,null,null,null,null,null,null,null,null,null,null,null,null,null,null,null,null,null,null,null,null,null,null,null,null,null,null,null,null,null,null,null,null,null,null,null,null,null,null,null,null,null,null,null,null,null,null,null,null,null,null,null,null,null,null,null,null,null,null,null,null,"pepch",{"$f":"BT20+DG15+DK26","v":31},1,null,null,{"$f":"MAX(CV51/LTAF/CW51, ROUND(MAX(0,CV54/RTAF/CW54-(DA58+CX58)/LTAF/DA57),0))+ MAX((DA58+CX58)/LTAF/DA57 +MAX( DA43/DA44, ROUND(MAX(0,CX43/RTAF/CX44-CV51/LTAF/CW51),0)),(DD58+DG58) /DD57)","v":395}]
[]
[]
[null,null,null,null,null,null,null,null,null,null,null,null,null,null,null,null,null,null,null,null,null,null,null,null,null,null,null,null,null,null,null,null,null,null,null,null,null,null,null,null,null,null,null,null,null,null,null,null,null,null,null,null,null,null,null,null,null,null,null,null,null,null,null,null,null,null,null,null,null,null,null,null,null,null,null,null,null,null,null,null,null,null,null,null,null,null,null,null,null,null,null,null,null,null,null,null,null,null,"pepch",{"$f":"DK23+BT26","v":82},1]
[]
[]
[null,null,null,null,null,null,null,null,null,null,null,null,null,null,null,null,null,null,null,null,null,null,null,null,null,null,null,null,null,null,null,null,null,null,null,null,null,null,null,null,null,null,null,null,null,null,null,null,null,null,null,null,null,null,null,null,null,null,null,null,null,null,null,null,null,null,null,null,null,null,null,null,null,null,null,null,null,null,null,null,null,null,null,null,null,null,null,null,null,null,null,null,null,null,null,null,null,null,null,null,null,null,null,null,1,null,null,2]
[null,null,null,null,null,null,null,null,null,null,null,null,null,null,null,null,null,null,null,null,null,null,null,null,null,null,null,null,null,null,null,null,null,null,null,null,null,null,null,null,null,null,null,null,null,null,null,null,null,null,null,null,null,null,null,null,null,null,null,null,null,null,null,null,null,null,null,null,null,null,null,null,null,null,null,null,null,null,null,null,null,null,null,null,null,null,null,null,null,null,null,null,null,null,null,null,null,null,null,null,null,{"$f":"NBU_Master","v":0},null,null,{"$f":"NBL_Master","v":102},null,null,{"$f":"NBT_Master","v":510},null,null,{"$f":"NBR_Master","v":204}]
[null,null,null,null,null,null,null,null,null,null,null,null,null,null,null,null,null,null,null,null,null,null,null,null,null,null,null,null,null,null,null,null,null,null,null,null,null,null,null,null,null,null,null,null,null,null,null,null,null,null,null,null,null,null,null,null,null,null,null,null,null,null,null,null,null,null,null,null,null,null,null,null,null,null,null,null,null,null,null,null,null,null,null,null,null,null,null,null,null,null,null,null,null,null,null,null,null,null,null,null,null,"pepch",null,null,"pepch",null,null,"pepch",null,null,"pepch"]
[]
[]
[]
[null,null,null,null,null,null,null,null,null,null,null,null,null,null,null,null,null,null,null,null,null,null,null,null,null,null,null,null,null,null,null,null,null,null,null,null,null,null,null,null,null,null,null,null,null,null,null,null,null,null,{"$f":"CZ51","v":395},null,null,null,null,null,null,null,null,"CLV"]
[]
[]
[null,null,null,null,null,null,null,null,null,null,null,null,null,null,null,null,null,null,null,null,null,null,null,null,null,null,null,null,null,null,null,null,null,null,null,null,null,null,null,null,null,null,null,null,null,null,null,null,null,null,{"$f":"ROUND(AY63/CLV_Limit_3,2)","v":0.23},null,null,null,"V/C",{"$f":"CLV_Limit_3*CC7","v":1750},null,null,null,"MAX"]
[]
[]
[null,null,null,null,null,null,null,null,null,null,null,null,null,null,null,null,null,null,null,null,null,null,null,null,null,null,null,null,null,null,null,null,null,null,null,null,null,null,null,null,null,null,null,null,null,null,null,null,null,null,null,null,null,null,null,"3 Phases"]
[]
[]
[]
[]
[null,null,null,null,null,null,null,null,null,null,null,null,null,null,"Note: This diagram does not reflect the actual lane configuration of the Intersection"]

{"sheet":"QR N-E","index":24,"n_rows":74,"n_cols":116,"rows_kept":74,"cut":false,"hidden":false,"merged":[[73,14,73,47],[7,42,8,47],[7,48,8,53],[7,54,8,59],[9,36,12,47],[9,48,12,59],[69,47,71,50],[69,51,71,51],[69,52,71,55],[69,56,71,56],[72,52,72,56],[62,73,65,75],[62,76,65,78],[62,79,65,81],[62,82,65,84],[59,73,59,75],[59,76,59,78],[59,79,59,81],[59,82,59,84],[60,73,60,75],[60,76,60,78],[60,79,60,81],[60,82,60,84],[50,85,52,85],[47,87,49,87],[56,113,58,113],[56,114,58,114],[50,86,52,86],[50,87,52,87],[50,88,52,91],[61,73,61,75],[61,76,61,78],[61,79,61,81],[61,82,61,84],[56,115,58,115],[56,116,58,119],[56,66,58,69],[56,70,58,70],[56,71,58,71],[56,72,58,72],[56,94,58,97],[56,98,58,98],[53,66,55,69],[53,70,55,70],[53,71,55,71],[53,72,55,72],[53,75,55,82],[53,94,55,97],[53,98,55,98],[53,99,55,99],[53,113,55,113],[53,114,55,114],[53,115,55,115],[53,116,55,119],[56,99,58,99],[56,100,58,100],[53,100,55,100],[53,103,55,110],[50,66,52,69],[50,70,52,70],[50,71,52,71],[50,72,52,72],[47,113,49,113],[47,114,49,114],[47,115,49,115],[47,116,49,119],[46,73,46,75],[46,76,46,78],[46,101,46,103],[46,104,46,106],[50,115,52,115],[50,116,52,119],[50,103,52,110],[50,113,52,113],[50,114,52,114],[47,66,49,69],[47,70,49,70],[47,71,49,71],[47,72,49,72],[47,85,49,85],[47,86,49,86],[50,75,52,82],[44,73,44,75],[44,76,44,78],[44,101,44,103],[47,88,49,91],[44,104,44,106],[45,73,45,75],[45,76,45,78],[45,101,45,103],[45,104,45,106],[34,79,37,81],[34,82,37,84],[40,73,43,75],[40,76,43,78],[40,101,43,103],[40,104,43,106],[31,79,31,81],[31,82,31,84],[32,79,32,81],[32,82,32,84],[33,79,33,81],[33,82,33,84],[25,85,27,85],[25,86,27,86],[25,87,27,87],[25,88,27,91],[28,85,30,85],[28,86,30,86],[28,87,30,87],[28,88,30,91],[18,73,18,75],[18,76,18,78],[18,79,18,81],[18,82,18,84],[22,75,24,82],[25,75,27,82],[16,73,16,75],[16,76,16,78],[16,79,16,81],[16,82,16,84],[17,73,17,75],[17,76,17,78],[17,79,17,81],[17,82,17,84],[0,63,1,122],[2,63,3,122],[12,73,15,75],[12,76,15,78],[12,79,15,81],[12,82,15,84],[6,80,7,81],[6,66,8,79],[27,2,29,10],[27,11,29,11],[30,2,32,5],[30,6,32,6],[30,7,32,10],[30,11,32,11],[66,47,68,55],[66,56,68,56],[49,2,51,10],[49,11,51,11],[52,2,54,5],[52,6,54,6],[52,7,54,10],[52,11,54,11],[55,7,55,11],[33,7,33,11],[0,1,1,60],[2,1,3,60],[5,2,6,9],[5,10,6,35],[7,2,8,9],[7,10,8,35],[9,2,10,9],[9,10,10,35],[11,2,12,9],[11,10,12,35],[5,36,6,59],[7,36,8,41]]}
[null,"Quadrant Roadway Intersection (N-E)",null,null,null,null,null,null,null,null,null,null,null,null,null,null,null,null,null,null,null,null,null,null,null,null,null,null,null,null,null,null,null,null,null,null,null,null,null,null,null,null,null,null,null,null,null,null,null,null,null,null,null,null,null,null,null,null,null,null,null,null,null,"Quadrant Roadway Intersection (N-E)"]
[]
[null,"Design and Results",null,null,null,null,null,null,null,null,null,null,null,null,null,null,null,null,null,null,null,null,null,null,null,null,null,null,null,null,null,null,null,null,null,null,null,null,null,null,null,null,null,null,null,null,null,null,null,null,null,null,null,null,null,null,null,null,null,null,null,null,null,"Data Input and Configuration"]
[]
[]
[null,null,"Project Name:",null,null,null,null,null,null,null,{"$f":"P_Name","v":"Cap-X Sample Street"},null,null,null,null,null,null,null,null,null,null,null,null,null,null,null,null,null,null,null,null,null,null,null,null,null,"Volume-to-Capacity Ratio"]
[null,null,null,null,null,null,null,null,null,null,null,null,null,null,null,null,null,null,null,null,null,null,null,null,null,null,null,null,null,null,null,null,null,null,null,null,null,null,null,null,null,null,null,null,null,null,null,null,null,null,null,null,null,null,null,null,null,null,null,null,null,null,null,null,null,null,"Multimodal Capacity Adjustment Factor",null,null,null,null,null,null,null,null,null,null,null,null,null,{"$f":"IF(Multimodal=1,1,IF(MAX(BU54,CH51,BY47,CB60)<3,1,IF(MAX(BU54,CH51,BY47,CB60)<4,0.9,0.8)))","v":1}]
[null,null,"Project Number:",null,null,null,null,null,null,null,{"$f":"P_Number","v":10000},null,null,null,null,null,null,null,null,null,null,null,null,null,null,null,null,null,null,null,null,null,null,null,null,null,"< 0.750",null,null,null,null,null,"0.750 - 0.875",null,null,null,null,null,"0.875 - 1.00",null,null,null,null,null,"≥ 1.00"]
[]
[null,null,"Location",null,null,null,null,null,null,null,{"$f":"Location","v":"Tallahassee, FL"},null,null,null,null,null,null,null,null,null,null,null,null,null,null,null,null,null,null,null,null,null,null,null,null,null,"VOLUME / CAPACITY RATIO:",null,null,null,null,null,null,null,null,null,null,null,{"$f":"MAX(C31,C53,AV70)","v":0.26}]
[]
[null,null,"Date",null,null,null,null,null,null,null,{"$f":"Date","v":"2017 AM"}]
[]
[]
[]
[]
[null,null,null,null,null,null,null,null,null,null,null,null,null,null,null,null,null,null,null,null,null,null,null,null,null,null,null,null,null,null,null,null,null,null,null,null,null,null,null,null,null,null,null,null,null,null,null,null,null,null,null,null,null,null,null,null,null,null,null,null,null,null,null,null,null,null,null,null,null,null,null,null,null,"pepch",null,null,"pepch",null,null,"pepch",null,null,"pepch"]
[null,null,null,null,null,null,null,null,null,null,null,null,null,null,null,null,null,null,null,null,null,null,null,null,null,null,null,null,null,null,null,null,null,null,null,null,null,null,null,null,null,null,null,null,null,null,null,null,null,null,null,null,null,null,null,null,null,null,null,null,null,null,null,null,null,null,null,null,null,null,null,null,null,{"$f":"SBR_Master","v":204},null,null,{"$f":"SBT_Master","v":510},null,null,{"$f":"SBL_Master","v":102},null,null,{"$f":"SBU_Master","v":0}]
[null,null,null,null,null,null,null,null,null,null,null,null,null,null,null,null,null,null,null,null,null,null,null,null,null,null,null,null,null,null,null,null,null,null,null,null,null,null,null,null,null,null,null,null,null,null,null,null,null,null,null,null,null,null,null,null,null,null,null,null,null,null,null,null,null,null,null,null,null,null,null,null,null,null,null,null,2,null,null,1]
[]
[]
[]
[]
[]
[]
[null,null,null,null,null,null,null,null,null,null,null,null,null,null,null,null,null,null,null,null,null,null,null,null,null,null,null,null,null,null,null,null,null,null,null,null,null,null,null,null,null,null,null,null,null,null,null,null,null,null,null,null,null,null,null,null,null,null,null,null,null,null,null,null,null,null,null,null,null,null,null,null,null,null,null,{"$f":"MAX(CI29/LTAF/CH29, ROUND(MAX(0,CI26/RTAF/CH26-(CB18+CE18)/LTAF/CB19),0))+ MAX((CB18+CE18)/LTAF/CB19 +MAX(CB33/CB32, ROUND(MAX(0,CE33/RTAF/CE32-CI29/LTAF/CH29),0)),(BY18+BV18 )/BY19 )","v":395},null,null,null,null,null,null,null,null,null,1,{"$f":"DK48+BT51","v":82},"pepch"]
[]
[null,null,{"$f":"BX26","v":395},null,null,null,null,null,null,null,null,"CLV"]
[null,null,null,null,null,null,null,null,null,null,null,null,null,null,null,null,null,null,null,null,null,null,null,null,null,null,null,null,null,null,null,null,null,null,null,null,null,null,null,null,null,null,null,null,null,null,null,null,null,null,null,null,null,null,null,null,null,null,null,null,null,null,null,null,null,null,null,null,null,null,null,null,null,null,null,null,null,null,null,null,null,null,null,null,null,1,{"$f":"DK54+BV61+BT48","v":31},"pepch"]
[]
[null,null,{"$f":"ROUND(C28/CLV_Limit_3,2)","v":0.23},null,null,null,"V/C",{"$f":"CLV_Limit_3*CC7","v":1750},null,null,null,"MAX"]
[null,null,null,null,null,null,null,null,null,null,null,null,null,null,null,null,null,null,null,null,null,null,null,null,null,null,null,null,null,null,null,null,null,null,null,null,null,null,null,null,null,null,null,null,null,null,null,null,null,null,null,null,null,null,null,null,null,null,null,null,null,null,null,null,null,null,null,null,null,null,null,null,null,null,null,null,null,null,null,2,null,null,1]
[null,null,null,null,null,null,null,null,null,null,null,null,null,null,null,null,null,null,null,null,null,null,null,null,null,null,null,null,null,null,null,null,null,null,null,null,null,null,null,null,null,null,null,null,null,null,null,null,null,null,null,null,null,null,null,null,null,null,null,null,null,null,null,null,null,null,null,null,null,null,null,null,null,null,null,null,null,null,null,{"$f":"CB61+CE18","v":510},null,null,{"$f":"BY61+DK57","v":102}]
[null,null,null,null,null,null,null,"3 Phases",null,null,null,null,null,null,null,null,null,null,null,null,null,null,null,null,null,null,null,null,null,null,null,null,null,null,null,null,null,null,null,null,null,null,null,null,null,null,null,null,null,null,null,null,null,null,null,null,null,null,null,null,null,null,null,null,null,null,null,null,null,null,null,null,null,null,null,null,null,null,null,"pepch",null,null,"pepch"]
[]
[]
[]
[]
[]
[]
[]
[]
[]
[]
[null,null,null,null,null,null,null,null,null,null,null,null,null,null,null,null,null,null,null,null,null,null,null,null,null,null,null,null,null,null,null,null,null,null,null,null,null,null,null,null,null,null,null,null,null,null,null,null,null,null,null,null,null,null,null,null,null,null,null,null,null,null,null,null,null,null,null,null,null,null,null,null,null,"pepch",null,null,"pepch",null,null,null,null,null,null,null,null,null,null,null,null,null,null,null,null,null,null,null,null,null,null,null,null,"pepch",null,null,"pepch"]
[null,null,null,null,null,null,null,null,null,null,null,null,null,null,null,null,null,null,null,null,null,null,null,null,null,null,null,null,null,null,null,null,null,null,null,null,null,null,null,null,null,null,null,null,null,null,null,null,null,null,null,null,null,null,null,null,null,null,null,null,null,null,null,null,null,null,null,null,null,null,null,null,null,{"$f":"BV18+BT48","v":204},null,null,{"$f":"+BY18+BV61","v":510},null,null,null,null,null,null,null,null,null,null,null,null,null,null,null,null,null,null,null,null,null,null,null,null,{"$f":"BY61+CE18","v":102},null,null,{"$f":"CB18+DK57","v":102}]
[null,null,null,null,null,null,null,null,null,null,null,null,null,null,null,null,null,null,null,null,null,null,null,null,null,null,null,null,null,null,null,null,null,null,null,null,null,null,null,null,null,null,null,null,null,null,null,null,null,null,null,null,null,null,null,null,null,null,null,null,null,null,null,null,null,null,null,null,null,null,null,null,null,1,null,null,2,null,null,null,null,null,null,null,null,null,null,null,null,null,null,null,null,null,null,null,null,null,null,null,null,1,null,null,1]
[null,null,null,null,null,null,null,null,null,null,null,null,null,null,null,null,null,null,null,null,null,null,null,null,null,null,null,null,null,null,null,null,null,null,null,null,null,null,null,null,null,null,null,null,null,null,null,null,null,null,null,null,null,null,null,null,null,null,null,null,null,null,null,null,null,null,null,null,null,null,"pepch",{"$f":"EBU_Master","v":0},null,null,null,null,null,null,null,null,null,null,null,null,null,1,{"$f":"DK57+CE18","v":0},"pepch",null,null,null,null,null,null,null,null,null,null,null,null,null,null,null,null,null,null,null,null,null,null,null,null,null,1,{"$f":"WBR_Master","v":51},"pepch"]
[]
[null,null,{"$f":"BX54","v":459},null,null,null,null,null,null,null,null,"CLV"]
[null,null,null,null,null,null,null,null,null,null,null,null,null,null,null,null,null,null,null,null,null,null,null,null,null,null,null,null,null,null,null,null,null,null,null,null,null,null,null,null,null,null,null,null,null,null,null,null,null,null,null,null,null,null,null,null,null,null,null,null,null,null,null,null,null,null,null,null,null,null,"pepch",{"$f":"EBL_Master","v":31},null,null,null,null,null,null,null,null,null,null,null,null,null,2,{"$f":"DK51+BY61","v":306},"pepch+",null,null,null,null,null,null,null,null,null,null,null,null,null,null,null,null,null,null,null,null,null,null,null,null,null,2,{"$f":"WBT_Master","v":204},"pepch"]
[]
[null,null,{"$f":"ROUND(C50/CLV_Limit_2,2)","v":0.26},null,null,null,"V/C",{"$f":"CLV_Limit_2*CC7","v":1800},null,null,null,"MAX"]
[null,null,null,null,null,null,null,null,null,null,null,null,null,null,null,null,null,null,null,null,null,null,null,null,null,null,null,null,null,null,null,null,null,null,null,null,null,null,null,null,null,null,null,null,null,null,null,null,null,null,null,null,null,null,null,null,null,null,null,null,null,null,null,null,null,null,null,null,null,null,"pepch",{"$f":"EBT_Master","v":204},2,null,null,{"$f":"MAX((CB61+BY61)/CB60, (CE61+BV61)/RTAF/CE60, BY46/BY47, BV46/RTAF/BV47) +MAX((BT54+BT51+BT48)/BU54, BT57/RTAF/BU57, CI51/CH51, CI48/RTAF/CH48)","v":459},null,null,null,null,null,null,null,null,null,null,null,null,null,null,null,null,null,null,null,null,null,null,"pepch",{"$f":"BT51+BV61+BT48","v":31},1,null,null,{"$f":"MAX(DA46/LTAF/DA47, ROUND(MAX(0,CX46/RTAF/CX47-CV54/LTAF/CW54),0))+ MAX(CV54/LTAF/CW54 +MAX((DK51+DK57)/DJ51, ROUND(MAX(0,(DK48+DK54)/RTAF/DJ48-DA46/LTAF/DA47),0)),CV57/CW57)","v":311.36842105263156},null,null,null,null,null,null,null,null,null,null,{"$f":"WBL_Master","v":31},"pepch"]
[]
[null,null,null,null,null,null,null,"2 Phases"]
[null,null,null,null,null,null,null,null,null,null,null,null,null,null,null,null,null,null,null,null,null,null,null,null,null,null,null,null,null,null,null,null,null,null,null,null,null,null,null,null,null,null,null,null,null,null,null,null,null,null,null,null,null,null,null,null,null,null,null,null,null,null,null,null,null,null,null,null,null,null,"pepch",{"$f":"EBR_Master","v":51},1,null,null,null,null,null,null,null,null,null,null,null,null,null,null,null,null,null,null,null,null,null,null,null,null,null,"pepch",{"$f":"BT54+CE61","v":408},2,null,null,null,null,null,null,null,null,null,null,null,null,null,{"$f":"WBU_Master","v":0},"pepch"]
[]
[]
[null,null,null,null,null,null,null,null,null,null,null,null,null,null,null,null,null,null,null,null,null,null,null,null,null,null,null,null,null,null,null,null,null,null,null,null,null,null,null,null,null,null,null,null,null,null,null,null,null,null,null,null,null,null,null,null,null,null,null,null,null,null,null,null,null,null,null,null,null,null,null,null,null,null,null,null,null,null,null,2,null,null,1]
[null,null,null,null,null,null,null,null,null,null,null,null,null,null,null,null,null,null,null,null,null,null,null,null,null,null,null,null,null,null,null,null,null,null,null,null,null,null,null,null,null,null,null,null,null,null,null,null,null,null,null,null,null,null,null,null,null,null,null,null,null,null,null,null,null,null,null,null,null,null,null,null,null,{"$f":"NBU_Master","v":0},null,null,{"$f":"NBL_Master","v":102},null,null,{"$f":"+NBT_Master","v":510},null,null,{"$f":"NBR_Master","v":204}]
[null,null,null,null,null,null,null,null,null,null,null,null,null,null,null,null,null,null,null,null,null,null,null,null,null,null,null,null,null,null,null,null,null,null,null,null,null,null,null,null,null,null,null,null,null,null,null,null,null,null,null,null,null,null,null,null,null,null,null,null,null,null,null,null,null,null,null,null,null,null,null,null,null,"pepch",null,null,"pepch",null,null,"pepch",null,null,"pepch"]
[]
[]
[]
[]
[null,null,null,null,null,null,null,null,null,null,null,null,null,null,null,null,null,null,null,null,null,null,null,null,null,null,null,null,null,null,null,null,null,null,null,null,null,null,null,null,null,null,null,null,null,null,null,{"$f":"CZ54","v":311.36842105263156},null,null,null,null,null,null,null,null,"CLV"]
[]
[]
[null,null,null,null,null,null,null,null,null,null,null,null,null,null,null,null,null,null,null,null,null,null,null,null,null,null,null,null,null,null,null,null,null,null,null,null,null,null,null,null,null,null,null,null,null,null,null,{"$f":"ROUND(AV67/CLV_Limit_3,2)","v":0.18},null,null,null,"V/C",{"$f":"CLV_Limit_3*CC7","v":1750},null,null,null,"MAX"]
[]
[]
[null,null,null,null,null,null,null,null,null,null,null,null,null,null,null,null,null,null,null,null,null,null,null,null,null,null,null,null,null,null,null,null,null,null,null,null,null,null,null,null,null,null,null,null,null,null,null,null,null,null,null,null,"3 Phases"]
[null,null,null,null,null,null,null,null,null,null,null,null,null,null,"Note: This diagram does not reflect the actual lane configuration of the Intersection"]

{"sheet":"QR S-E","index":25,"n_rows":74,"n_cols":116,"rows_kept":74,"cut":false,"hidden":false,"merged":[[61,73,64,75],[61,76,64,78],[61,79,64,81],[61,82,64,84],[59,73,59,75],[59,76,59,78],[59,79,59,81],[59,82,59,84],[60,73,60,75],[60,76,60,78],[60,79,60,81],[60,82,60,84],[55,85,57,85],[55,86,57,86],[55,87,57,87],[55,88,57,91],[58,73,58,75],[58,76,58,78],[58,79,58,81],[58,82,58,84],[49,75,51,82],[52,75,54,82],[52,85,54,85],[52,86,54,86],[52,87,54,87],[52,88,54,91],[43,73,43,75],[43,76,43,78],[44,73,44,75],[44,76,44,78],[45,73,45,75],[45,76,45,78],[33,79,36,81],[33,82,36,84],[33,107,36,109],[33,110,36,112],[39,73,42,75],[39,76,42,78],[31,79,31,81],[31,82,31,84],[31,107,31,109],[31,110,31,112],[32,79,32,81],[32,82,32,84],[32,107,32,109],[32,110,32,112],[27,113,29,113],[27,114,29,114],[27,115,29,115],[27,116,29,119],[30,79,30,81],[30,82,30,84],[30,107,30,109],[30,110,30,112],[24,115,26,115],[24,116,26,119],[24,103,26,110],[24,113,26,113],[24,114,26,114],[27,66,29,69],[27,70,29,70],[27,71,29,71],[27,72,29,72],[27,94,29,97],[27,98,29,98],[27,99,29,99],[27,100,29,100],[24,98,26,98],[24,99,26,99],[24,100,26,100],[24,66,26,69],[24,70,26,70],[24,71,26,71],[24,72,26,72],[24,75,26,82],[24,94,26,97],[21,88,23,91],[21,103,23,110],[21,113,23,113],[21,114,23,114],[21,115,23,115],[21,116,23,119],[18,115,20,115],[18,116,20,119],[21,66,23,69],[21,70,23,70],[21,71,23,71],[21,72,23,72],[21,75,23,82],[21,85,23,85],[21,86,23,86],[21,87,23,87],[18,85,20,85],[18,86,20,86],[18,87,20,87],[18,88,20,91],[18,113,20,113],[18,114,20,114],[18,70,20,70],[18,71,20,71],[17,79,17,81],[17,82,17,84],[18,66,20,69],[18,72,20,72],[15,73,15,75],[15,76,15,78],[15,79,15,81],[15,82,15,84],[16,73,16,75],[16,76,16,78],[16,79,16,81],[16,82,16,84],[17,73,17,75],[0,63,1,122],[2,63,3,122],[11,73,14,75],[11,76,14,78],[11,79,14,81],[11,82,14,84],[0,1,1,60],[2,1,3,60],[5,2,6,9],[5,10,6,35],[5,36,6,59],[7,54,8,59],[7,2,8,9],[7,10,8,35],[9,2,10,9],[9,10,10,35],[11,2,12,9],[11,10,12,35],[7,36,8,41],[7,42,8,47],[7,48,8,53],[9,36,12,47],[9,48,12,59],[6,66,8,79],[6,80,7,81],[29,7,29,11],[22,49,22,53],[67,7,67,11],[73,14,73,48],[16,44,18,52],[16,53,18,53],[19,44,21,47],[19,48,21,48],[19,49,21,52],[19,53,21,53],[61,2,63,10],[61,11,63,11],[64,2,66,5],[64,6,66,6],[64,7,66,10],[64,11,66,11],[23,2,25,10],[23,11,25,11],[26,2,28,5],[26,6,28,6],[26,7,28,10],[26,11,28,11],[17,76,17,78]]}
[null,"Quadrant Roadway Intersection (S-E)",null,null,null,null,null,null,null,null,null,null,null,null,null,null,null,null,null,null,null,null,null,null,null,null,null,null,null,null,null,null,null,null,null,null,null,null,null,null,null,null,null,null,null,null,null,null,null,null,null,null,null,null,null,null,null,null,null,null,null,null,null,"Quadrant Roadway Intersection (S-E)"]
[]
[null,"Design and Results",null,null,null,null,null,null,null,null,null,null,null,null,null,null,null,null,null,null,null,null,null,null,null,null,null,null,null,null,null,null,null,null,null,null,null,null,null,null,null,null,null,null,null,null,null,null,null,null,null,null,null,null,null,null,null,null,null,null,null,null,null,"Data Input and Configuration"]
[]
[]
[null,null,"Project Name:",null,null,null,null,null,null,null,{"$f":"P_Name","v":"Cap-X Sample Street"},null,null,null,null,null,null,null,null,null,null,null,null,null,null,null,null,null,null,null,null,null,null,null,null,null,"Volume-to-Capacity Ratio"]
[null,null,null,null,null,null,null,null,null,null,null,null,null,null,null,null,null,null,null,null,null,null,null,null,null,null,null,null,null,null,null,null,null,null,null,null,null,null,null,null,null,null,null,null,null,null,null,null,null,null,null,null,null,null,null,null,null,null,null,null,null,null,null,null,null,null,"Multimodal Capacity Adjustment Factor",null,null,null,null,null,null,null,null,null,null,null,null,null,{"$f":"IF(Multimodal=1,1,IF(MAX(BU25,CB31,CH22,BY18)<3,1,IF(MAX(BU25,CB31,CH22,BY18)<4,0.9,0.8)))","v":1}]
[null,null,"Project Number:",null,null,null,null,null,null,null,{"$f":"P_Number","v":10000},null,null,null,null,null,null,null,null,null,null,null,null,null,null,null,null,null,null,null,null,null,null,null,null,null,"< 0.750",null,null,null,null,null,"0.750 - 0.875",null,null,null,null,null,"0.875 - 1.00",null,null,null,null,null,"≥ 1.00"]
[]
[null,null,"Location",null,null,null,null,null,null,null,{"$f":"Location","v":"Tallahassee, FL"},null,null,null,null,null,null,null,null,null,null,null,null,null,null,null,null,null,null,null,null,null,null,null,null,null,"VOLUME / CAPACITY RATIO:",null,null,null,null,null,null,null,null,null,null,null,{"$f":"MAX(AS20,C27,C65)","v":0.27}]
[]
[null,null,"Date",null,null,null,null,null,null,null,{"$f":"Date","v":"2017 AM"}]
[]
[]
[]
[null,null,null,null,null,null,null,null,null,null,null,null,null,null,null,null,null,null,null,null,null,null,null,null,null,null,null,null,null,null,null,null,null,null,null,null,null,null,null,null,null,null,null,null,null,null,null,null,null,null,null,null,null,null,null,null,null,null,null,null,null,null,null,null,null,null,null,null,null,null,null,null,null,"pepch",null,null,"pepch",null,null,"pepch",null,null,"pepch"]
[null,null,null,null,null,null,null,null,null,null,null,null,null,null,null,null,null,null,null,null,null,null,null,null,null,null,null,null,null,null,null,null,null,null,null,null,null,null,null,null,null,null,null,null,{"$f":"CZ25","v":461.63157894736844},null,null,null,null,null,null,null,null,"CLV",null,null,null,null,null,null,null,null,null,null,null,null,null,null,null,null,null,null,null,{"$f":"SBR_Master","v":204},null,null,{"$f":"SBT_Master","v":510},null,null,{"$f":"SBL_Master","v":102},null,null,{"$f":"SBU_Master","v":0}]
[null,null,null,null,null,null,null,null,null,null,null,null,null,null,null,null,null,null,null,null,null,null,null,null,null,null,null,null,null,null,null,null,null,null,null,null,null,null,null,null,null,null,null,null,null,null,null,null,null,null,null,null,null,null,null,null,null,null,null,null,null,null,null,null,null,null,null,null,null,null,null,null,null,1,null,null,2]
[null,null,null,null,null,null,null,null,null,null,null,null,null,null,null,null,null,null,null,null,null,null,null,null,null,null,null,null,null,null,null,null,null,null,null,null,null,null,null,null,null,null,null,null,null,null,null,null,null,null,null,null,null,null,null,null,null,null,null,null,null,null,null,null,null,null,null,null,null,null,"pepch",{"$f":"EBU_Master","v":0},null,null,null,null,null,null,null,null,null,null,null,null,null,1,{"$f":"DK19+CE17","v":51},"pepch",null,null,null,null,null,null,null,null,null,null,null,null,null,null,null,null,null,null,null,null,null,null,null,null,null,null,{"$f":"WBR_Master","v":51},"pepch"]
[null,null,null,null,null,null,null,null,null,null,null,null,null,null,null,null,null,null,null,null,null,null,null,null,null,null,null,null,null,null,null,null,null,null,null,null,null,null,null,null,null,null,null,null,{"$f":"ROUND(AS17/CLV_Limit_3,2)","v":0.26},null,null,null,"V/C",{"$f":"CLV_Limit_3*CC7","v":1750},null,null,null,"MAX"]
[]
[null,null,null,null,null,null,null,null,null,null,null,null,null,null,null,null,null,null,null,null,null,null,null,null,null,null,null,null,null,null,null,null,null,null,null,null,null,null,null,null,null,null,null,null,null,null,null,null,null,null,null,null,null,null,null,null,null,null,null,null,null,null,null,null,null,null,null,null,null,null,"pepch",{"$f":"EBL_Master","v":31},null,null,null,null,null,null,null,null,null,null,null,null,null,2,{"$f":"DK22+BT19+DD32","v":306},"pepch",null,null,null,null,null,null,null,null,null,null,null,null,null,null,null,null,null,null,null,null,null,null,null,null,null,2,{"$f":"WBT_Master","v":204},"pepch"]
[null,null,null,null,null,null,null,null,null,null,null,null,null,null,null,null,null,null,null,null,null,null,null,null,null,null,null,null,null,null,null,null,null,null,null,null,null,null,null,null,null,null,null,null,null,null,null,null,null,"3 Phases"]
[null,null,{"$f":"BX25","v":459},null,null,null,null,null,null,null,null,"CLV"]
[null,null,null,null,null,null,null,null,null,null,null,null,null,null,null,null,null,null,null,null,null,null,null,null,null,null,null,null,null,null,null,null,null,null,null,null,null,null,null,null,null,null,null,null,null,null,null,null,null,null,null,null,null,null,null,null,null,null,null,null,null,null,null,null,null,null,null,null,null,null,"pepch",{"$f":"EBT_Master","v":204},2,null,null,{"$f":"MAX(CB32/CB31, CE32/RTAF/CE31, (BY17+CB17+CE17)/BY18, BV17/RTAF/BV18) +MAX((BT25+BT22)/BU25, (BT28+BT19)/RTAF/BU28, CI22/CH22, CI19/RTAF/CH19)","v":459},null,null,null,null,null,null,null,null,null,null,null,null,null,null,null,null,null,null,null,null,null,null,"pepch",{"$f":"BT25+DK28","v":204},2,null,null,{"$f":"MAX(DD32/LTAF/DD31, ROUND(MAX(0,DG32/RTAF/DG31-(DK25+DK28)/LTAF/DJ25),0))+ MAX((DK25+DK28)/LTAF/DJ25 +MAX(CV25/CW25, ROUND(MAX(0,CV28/RTAF/CW28-DD32/LTAF/DD31),0)),(DK22+DK19) /DJ22)","v":461.63157894736844},null,null,null,null,null,null,null,null,null,1,{"$f":"WBL_Master","v":31},"pepch"]
[]
[null,null,{"$f":"ROUND(C24/CLV_Limit_2,2)","v":0.26},null,null,null,"V/C",{"$f":"CLV_Limit_2*CC7","v":1800},null,null,null,"MAX"]
[null,null,null,null,null,null,null,null,null,null,null,null,null,null,null,null,null,null,null,null,null,null,null,null,null,null,null,null,null,null,null,null,null,null,null,null,null,null,null,null,null,null,null,null,null,null,null,null,null,null,null,null,null,null,null,null,null,null,null,null,null,null,null,null,null,null,null,null,null,null,"pepch",{"$f":"EBR_Master","v":51},1,null,null,null,null,null,null,null,null,null,null,null,null,null,null,null,null,null,null,null,null,null,null,null,null,null,"pepch",{"$f":"BV60+BT22","v":31},1,null,null,null,null,null,null,null,null,null,null,null,null,null,{"$f":"WBU_Master","v":0},"pepch"]
[]
[null,null,null,null,null,null,null,"2 Phases"]
[null,null,null,null,null,null,null,null,null,null,null,null,null,null,null,null,null,null,null,null,null,null,null,null,null,null,null,null,null,null,null,null,null,null,null,null,null,null,null,null,null,null,null,null,null,null,null,null,null,null,null,null,null,null,null,null,null,null,null,null,null,null,null,null,null,null,null,null,null,null,null,null,null,null,null,null,null,null,null,2,null,null,1,null,null,null,null,null,null,null,null,null,null,null,null,null,null,null,null,null,null,null,null,null,null,null,null,1,null,null,1]
[null,null,null,null,null,null,null,null,null,null,null,null,null,null,null,null,null,null,null,null,null,null,null,null,null,null,null,null,null,null,null,null,null,null,null,null,null,null,null,null,null,null,null,null,null,null,null,null,null,null,null,null,null,null,null,null,null,null,null,null,null,null,null,null,null,null,null,null,null,null,null,null,null,null,null,null,null,null,null,{"$f":"CB60+CE17","v":510},null,null,{"$f":"DK28+BV60","v":0},null,null,null,null,null,null,null,null,null,null,null,null,null,null,null,null,null,null,null,null,null,null,null,null,{"$f":"BY60+BT19+CE17","v":102},null,null,{"$f":"CE60+CB17","v":306}]
[null,null,null,null,null,null,null,null,null,null,null,null,null,null,null,null,null,null,null,null,null,null,null,null,null,null,null,null,null,null,null,null,null,null,null,null,null,null,null,null,null,null,null,null,null,null,null,null,null,null,null,null,null,null,null,null,null,null,null,null,null,null,null,null,null,null,null,null,null,null,null,null,null,null,null,null,null,null,null,"pepch",null,null,"pepch",null,null,null,null,null,null,null,null,null,null,null,null,null,null,null,null,null,null,null,null,null,null,null,null,"pepch",null,null,"pepch"]
[]
[]
[]
[]
[]
[]
[]
[]
[]
[]
[null,null,null,null,null,null,null,null,null,null,null,null,null,null,null,null,null,null,null,null,null,null,null,null,null,null,null,null,null,null,null,null,null,null,null,null,null,null,null,null,null,null,null,null,null,null,null,null,null,null,null,null,null,null,null,null,null,null,null,null,null,null,null,null,null,null,null,null,null,null,null,null,null,"pepch",null,null,"pepch"]
[null,null,null,null,null,null,null,null,null,null,null,null,null,null,null,null,null,null,null,null,null,null,null,null,null,null,null,null,null,null,null,null,null,null,null,null,null,null,null,null,null,null,null,null,null,null,null,null,null,null,null,null,null,null,null,null,null,null,null,null,null,null,null,null,null,null,null,null,null,null,null,null,null,{"$f":"BY17+BT28","v":561},null,null,{"$f":"CB17+BT19+CE17","v":102}]
[null,null,null,null,null,null,null,null,null,null,null,null,null,null,null,null,null,null,null,null,null,null,null,null,null,null,null,null,null,null,null,null,null,null,null,null,null,null,null,null,null,null,null,null,null,null,null,null,null,null,null,null,null,null,null,null,null,null,null,null,null,null,null,null,null,null,null,null,null,null,null,null,null,2,null,null,1]
[]
[]
[]
[]
[]
[]
[null,null,null,null,null,null,null,null,null,null,null,null,null,null,null,null,null,null,null,null,null,null,null,null,null,null,null,null,null,null,null,null,null,null,null,null,null,null,null,null,null,null,null,null,null,null,null,null,null,null,null,null,null,null,null,null,null,null,null,null,null,null,null,null,null,null,null,null,null,null,null,null,null,null,null,{"$f":"MAX(CI56/LTAF/CH56, ROUND(MAX(0,CI53/RTAF/CH53-BY45/LTAF/BY46),0))+ MAX(BY45/LTAF/BY46+MAX((CB60+BV60)/CB59, ROUND(MAX(0,(CE60+BY60)/RTAF/CE59-CI56/LTAF/CH56),0)),BV45 /BV46 )","v":467},null,null,null,null,null,null,null,null,null,1,{"$f":"DK28+BT22","v":31},"pepch"]
[]
[]
[null,null,null,null,null,null,null,null,null,null,null,null,null,null,null,null,null,null,null,null,null,null,null,null,null,null,null,null,null,null,null,null,null,null,null,null,null,null,null,null,null,null,null,null,null,null,null,null,null,null,null,null,null,null,null,null,null,null,null,null,null,null,null,null,null,null,null,null,null,null,null,null,null,null,null,null,null,null,null,null,null,null,null,null,null,1,{"$f":"DK25+BV60","v":31},"pepch"]
[]
[]
[null,null,null,null,null,null,null,null,null,null,null,null,null,null,null,null,null,null,null,null,null,null,null,null,null,null,null,null,null,null,null,null,null,null,null,null,null,null,null,null,null,null,null,null,null,null,null,null,null,null,null,null,null,null,null,null,null,null,null,null,null,null,null,null,null,null,null,null,null,null,null,null,null,null,null,null,null,null,null,2,null,null,1]
[null,null,null,null,null,null,null,null,null,null,null,null,null,null,null,null,null,null,null,null,null,null,null,null,null,null,null,null,null,null,null,null,null,null,null,null,null,null,null,null,null,null,null,null,null,null,null,null,null,null,null,null,null,null,null,null,null,null,null,null,null,null,null,null,null,null,null,null,null,null,null,null,null,{"$f":"NBU_Master","v":0},null,null,{"$f":"NBL_Master","v":102},null,null,{"$f":"NBT_Master","v":510},null,null,{"$f":"NBR_Master","v":204}]
[null,null,null,null,null,null,null,null,null,null,null,null,null,null,null,null,null,null,null,null,null,null,null,null,null,null,null,null,null,null,null,null,null,null,null,null,null,null,null,null,null,null,null,null,null,null,null,null,null,null,null,null,null,null,null,null,null,null,null,null,null,null,null,null,null,null,null,null,null,null,null,null,null,"pepch",null,null,"pepch",null,null,"pepch",null,null,"pepch"]
[null,null,{"$f":"BX53","v":467},null,null,null,null,null,null,null,null,"CLV"]
[]
[]
[null,null,{"$f":"ROUND(C62/CLV_Limit_3,2)","v":0.27},null,null,null,"V/C",{"$f":"CLV_Limit_3*CC7","v":1750},null,null,null,"MAX"]
[]
[]
[null,null,null,null,null,null,null,"3 Phases"]
[]
[]
[]
[]
[]
[null,null,null,null,null,null,null,null,null,null,null,null,null,null,"Note: This diagram does not reflect the actual lane configuration of the Intersection"]

{"sheet":"QR N-W","index":26,"n_rows":74,"n_cols":116,"rows_kept":74,"cut":false,"hidden":false,"merged":[[52,113,54,113],[49,85,51,85],[46,87,48,87],[46,88,48,91],[46,113,48,113],[44,73,44,75],[44,76,44,78],[44,101,44,103],[44,104,44,106],[45,73,45,75],[45,76,45,78],[45,101,45,103],[45,104,45,106],[55,114,57,114],[55,115,57,115],[55,116,57,119],[55,66,57,69],[55,70,57,70],[55,71,57,71],[55,72,57,72],[55,94,57,97],[55,98,57,98],[55,113,57,113],[73,14,73,48],[0,1,1,60],[2,1,3,60],[5,2,6,9],[5,10,6,35],[60,101,60,103],[60,104,60,106],[55,99,57,99],[55,100,57,100],[52,100,54,100],[7,2,8,9],[7,10,8,35],[9,2,10,9],[9,10,10,35],[11,2,12,9],[11,10,12,35],[5,36,6,59],[7,36,8,41],[7,42,8,47],[7,48,8,53],[7,54,8,59],[9,36,12,47],[9,48,12,59],[52,103,54,110],[61,101,64,103],[61,104,64,106],[61,107,64,109],[61,110,64,112],[58,101,58,103],[58,104,58,106],[58,107,58,109],[58,110,58,112],[59,101,59,103],[59,104,59,106],[59,107,59,109],[59,110,59,112],[60,107,60,109],[60,110,60,112],[52,114,54,114],[52,115,54,115],[52,116,54,119],[49,115,51,115],[49,116,51,119],[52,66,54,69],[52,70,54,70],[52,71,54,71],[52,72,54,72],[52,75,54,82],[52,94,54,97],[52,98,54,98],[52,99,54,99],[49,86,51,86],[49,87,51,87],[49,88,51,91],[49,103,51,110],[49,113,51,113],[49,114,51,114],[49,66,51,69],[49,70,51,70],[49,71,51,71],[49,72,51,72],[49,75,51,82],[46,114,48,114],[46,115,48,115],[46,116,48,119],[46,66,48,69],[46,70,48,70],[46,71,48,71],[46,72,48,72],[46,85,48,85],[46,86,48,86],[39,76,42,78],[39,101,42,103],[39,104,42,106],[43,73,43,75],[43,76,43,78],[43,101,43,103],[43,104,43,106],[31,107,31,109],[31,110,31,112],[32,107,32,109],[32,110,32,112],[33,107,36,109],[33,110,36,112],[39,73,42,75],[27,94,29,97],[27,98,29,98],[27,99,29,99],[27,100,29,100],[30,107,30,109],[30,110,30,112],[17,101,17,103],[17,104,17,106],[17,107,17,109],[17,110,17,112],[21,103,23,110],[24,94,26,97],[24,98,26,98],[24,99,26,99],[24,100,26,100],[24,103,26,110],[15,101,15,103],[15,104,15,106],[15,107,15,109],[15,110,15,112],[16,101,16,103],[16,104,16,106],[16,107,16,109],[16,110,16,112],[0,63,1,122],[2,63,3,122],[11,101,14,103],[11,104,14,106],[11,107,14,109],[11,110,14,112],[6,79,7,80],[6,65,8,78],[70,13,70,17],[23,48,25,56],[23,57,25,57],[26,48,28,51],[26,52,28,52],[26,53,28,56],[26,57,28,57],[64,8,66,16],[64,17,66,17],[67,8,69,11],[67,12,69,12],[67,13,69,16],[67,17,69,17],[53,48,55,56],[53,57,55,57],[56,48,58,51],[56,52,58,52],[56,53,58,56],[56,57,58,57],[59,53,59,57],[29,53,29,57]]}
[null,"Quadrant Roadway Intersection (N-W)",null,null,null,null,null,null,null,null,null,null,null,null,null,null,null,null,null,null,null,null,null,null,null,null,null,null,null,null,null,null,null,null,null,null,null,null,null,null,null,null,null,null,null,null,null,null,null,null,null,null,null,null,null,null,null,null,null,null,null,null,null,"Quadrant Roadway Intersection (N-W)"]
[]
[null,"Design and Results",null,null,null,null,null,null,null,null,null,null,null,null,null,null,null,null,null,null,null,null,null,null,null,null,null,null,null,null,null,null,null,null,null,null,null,null,null,null,null,null,null,null,null,null,null,null,null,null,null,null,null,null,null,null,null,null,null,null,null,null,null,"Data Input and Configuration"]
[]
[]
[null,null,"Project Name:",null,null,null,null,null,null,null,{"$f":"P_Name","v":"Cap-X Sample Street"},null,null,null,null,null,null,null,null,null,null,null,null,null,null,null,null,null,null,null,null,null,null,null,null,null,"Volume-to-Capacity Ratio"]
[null,null,null,null,null,null,null,null,null,null,null,null,null,null,null,null,null,null,null,null,null,null,null,null,null,null,null,null,null,null,null,null,null,null,null,null,null,null,null,null,null,null,null,null,null,null,null,null,null,null,null,null,null,null,null,null,null,null,null,null,null,null,null,null,null,"Multimodal Capacity Adjustment Factor",null,null,null,null,null,null,null,null,null,null,null,null,null,{"$f":"IF(Multimodal=1,1,IF(MAX(CW53,DD59,DJ50,DA46)<3,1,IF(MAX(CW53,DD59,DJ50,DA46)<4,0.9,0.8)))","v":1}]
[null,null,"Project Number:",null,null,null,null,null,null,null,{"$f":"P_Number","v":10000},null,null,null,null,null,null,null,null,null,null,null,null,null,null,null,null,null,null,null,null,null,null,null,null,null,"< 0.750",null,null,null,null,null,"0.750 - 0.875",null,null,null,null,null,"0.875 - 1.00",null,null,null,null,null,"≥ 1.00"]
[]
[null,null,"Location",null,null,null,null,null,null,null,{"$f":"Location","v":"Tallahassee, FL"},null,null,null,null,null,null,null,null,null,null,null,null,null,null,null,null,null,null,null,null,null,null,null,null,null,"VOLUME / CAPACITY RATIO:",null,null,null,null,null,null,null,null,null,null,null,{"$f":"MAX(AW27,AW57,I68)","v":0.27}]
[]
[null,null,"Date",null,null,null,null,null,null,null,{"$f":"Date","v":"2017 AM"}]
[]
[]
[]
[null,null,null,null,null,null,null,null,null,null,null,null,null,null,null,null,null,null,null,null,null,null,null,null,null,null,null,null,null,null,null,null,null,null,null,null,null,null,null,null,null,null,null,null,null,null,null,null,null,null,null,null,null,null,null,null,null,null,null,null,null,null,null,null,null,null,null,null,null,null,null,null,null,null,null,null,null,null,null,null,null,null,null,null,null,null,null,null,null,null,null,null,null,null,null,null,null,null,null,null,null,"pepch",null,null,"pepch",null,null,"pepch",null,null,"pepch"]
[null,null,null,null,null,null,null,null,null,null,null,null,null,null,null,null,null,null,null,null,null,null,null,null,null,null,null,null,null,null,null,null,null,null,null,null,null,null,null,null,null,null,null,null,null,null,null,null,null,null,null,null,null,null,null,null,null,null,null,null,null,null,null,null,null,null,null,null,null,null,null,null,null,null,null,null,null,null,null,null,null,null,null,null,null,null,null,null,null,null,null,null,null,null,null,null,null,null,null,null,null,{"$f":"SBR_Master","v":204},null,null,{"$f":"SBT_Master","v":510},null,null,{"$f":"SBL_Master","v":102},null,null,{"$f":"SBU_Master","v":0}]
[null,null,null,null,null,null,null,null,null,null,null,null,null,null,null,null,null,null,null,null,null,null,null,null,null,null,null,null,null,null,null,null,null,null,null,null,null,null,null,null,null,null,null,null,null,null,null,null,null,null,null,null,null,null,null,null,null,null,null,null,null,null,null,null,null,null,null,null,null,null,null,null,null,null,null,null,null,null,null,null,null,null,null,null,null,null,null,null,null,null,null,null,null,null,null,null,null,null,null,null,null,1,null,null,2]
[]
[]
[]
[]
[]
[null,null,null,null,null,null,null,null,null,null,null,null,null,null,null,null,null,null,null,null,null,null,null,null,null,null,null,null,null,null,null,null,null,null,null,null,null,null,null,null,null,null,null,null,null,null,null,null,{"$f":"CZ25","v":467},null,null,null,null,null,null,null,null,"CLV"]
[null,null,null,null,null,null,null,null,null,null,null,null,null,null,null,null,null,null,null,null,null,null,null,null,null,null,null,null,null,null,null,null,null,null,null,null,null,null,null,null,null,null,null,null,null,null,null,null,null,null,null,null,null,null,null,null,null,null,null,null,null,null,null,null,null,null,null,null,null,null,null,null,null,null,null,null,null,null,null,null,null,null,null,null,null,null,null,null,null,null,null,null,null,null,null,null,null,null,"pepch",{"$f":"BT50+DG17","v":31},1,null,null,{"$f":"MAX(CV25/LTAF/CW25, ROUND(MAX(0,CV28/RTAF/CW28-DD32/LTAF/DD31),0))+ MAX(DD32/LTAF/DD31 +MAX((DA17+DG17)/DA18,ROUND(MAX(0,BV45/RTAF/BV46-CV25/LTAF/CW25),0)),DG32/DG31)","v":467}]
[]
[null,null,null,null,null,null,null,null,null,null,null,null,null,null,null,null,null,null,null,null,null,null,null,null,null,null,null,null,null,null,null,null,null,null,null,null,null,null,null,null,null,null,null,null,null,null,null,null,{"$f":"ROUND(AW24/CLV_Limit_3,2)","v":0.27},null,null,null,"V/C",{"$f":"CLV_Limit_3*CB7","v":1750},null,null,null,"MAX"]
[null,null,null,null,null,null,null,null,null,null,null,null,null,null,null,null,null,null,null,null,null,null,null,null,null,null,null,null,null,null,null,null,null,null,null,null,null,null,null,null,null,null,null,null,null,null,null,null,null,null,null,null,null,null,null,null,null,null,null,null,null,null,null,null,null,null,null,null,null,null,null,null,null,null,null,null,null,null,null,null,null,null,null,null,null,null,null,null,null,null,null,null,null,null,null,null,null,null,"pepch",{"$f":"DK53+BT47","v":31},1]
[]
[null,null,null,null,null,null,null,null,null,null,null,null,null,null,null,null,null,null,null,null,null,null,null,null,null,null,null,null,null,null,null,null,null,null,null,null,null,null,null,null,null,null,null,null,null,null,null,null,null,null,null,null,null,"3 Phases"]
[null,null,null,null,null,null,null,null,null,null,null,null,null,null,null,null,null,null,null,null,null,null,null,null,null,null,null,null,null,null,null,null,null,null,null,null,null,null,null,null,null,null,null,null,null,null,null,null,null,null,null,null,null,null,null,null,null,null,null,null,null,null,null,null,null,null,null,null,null,null,null,null,null,null,null,null,null,null,null,null,null,null,null,null,null,null,null,null,null,null,null,null,null,null,null,null,null,null,null,null,null,null,null,null,null,null,null,1,null,null,2]
[null,null,null,null,null,null,null,null,null,null,null,null,null,null,null,null,null,null,null,null,null,null,null,null,null,null,null,null,null,null,null,null,null,null,null,null,null,null,null,null,null,null,null,null,null,null,null,null,null,null,null,null,null,null,null,null,null,null,null,null,null,null,null,null,null,null,null,null,null,null,null,null,null,null,null,null,null,null,null,null,null,null,null,null,null,null,null,null,null,null,null,null,null,null,null,null,null,null,null,null,null,null,null,null,null,null,null,{"$f":"DK56+DA60+CX60","v":102},null,null,{"$f":"DK47+DD60","v":561}]
[null,null,null,null,null,null,null,null,null,null,null,null,null,null,null,null,null,null,null,null,null,null,null,null,null,null,null,null,null,null,null,null,null,null,null,null,null,null,null,null,null,null,null,null,null,null,null,null,null,null,null,null,null,null,null,null,null,null,null,null,null,null,null,null,null,null,null,null,null,null,null,null,null,null,null,null,null,null,null,null,null,null,null,null,null,null,null,null,null,null,null,null,null,null,null,null,null,null,null,null,null,null,null,null,null,null,null,"pepch",null,null,"pepch"]
[]
[]
[]
[]
[]
[]
[]
[]
[]
[]
[null,null,null,null,null,null,null,null,null,null,null,null,null,null,null,null,null,null,null,null,null,null,null,null,null,null,null,null,null,null,null,null,null,null,null,null,null,null,null,null,null,null,null,null,null,null,null,null,null,null,null,null,null,null,null,null,null,null,null,null,null,null,null,null,null,null,null,null,null,null,null,null,null,"pepch",null,null,"pepch",null,null,null,null,null,null,null,null,null,null,null,null,null,null,null,null,null,null,null,null,null,null,null,null,"pepch",null,null,"pepch"]
[null,null,null,null,null,null,null,null,null,null,null,null,null,null,null,null,null,null,null,null,null,null,null,null,null,null,null,null,null,null,null,null,null,null,null,null,null,null,null,null,null,null,null,null,null,null,null,null,null,null,null,null,null,null,null,null,null,null,null,null,null,null,null,null,null,null,null,null,null,null,null,null,null,{"$f":"CX17+DA60","v":306},null,null,{"$f":"DK56+DD17+CX60","v":102},null,null,null,null,null,null,null,null,null,null,null,null,null,null,null,null,null,null,null,null,null,null,null,null,{"$f":"BT47+DG17","v":0},null,null,{"$f":"CV28+DA17","v":541}]
[null,null,null,null,null,null,null,null,null,null,null,null,null,null,null,null,null,null,null,null,null,null,null,null,null,null,null,null,null,null,null,null,null,null,null,null,null,null,null,null,null,null,null,null,null,null,null,null,null,null,null,null,null,null,null,null,null,null,null,null,null,null,null,null,null,null,null,null,null,null,null,null,null,1,null,null,1,null,null,null,null,null,null,null,null,null,null,null,null,null,null,null,null,null,null,null,null,null,null,null,null,1,null,null,2]
[null,null,null,null,null,null,null,null,null,null,null,null,null,null,null,null,null,null,null,null,null,null,null,null,null,null,null,null,null,null,null,null,null,null,null,null,null,null,null,null,null,null,null,null,null,null,null,null,null,null,null,null,null,null,null,null,null,null,null,null,null,null,null,null,null,null,null,null,null,null,"pepch",{"$f":"EBU_Master","v":0},null,null,null,null,null,null,null,null,null,null,null,null,null,1,{"$f":"DK47+DG17","v":51},"pepch",null,null,null,null,null,null,null,null,null,null,null,null,null,null,null,null,null,null,null,null,null,null,null,null,null,1,{"$f":"WBR_Master","v":51},"pepch"]
[]
[]
[null,null,null,null,null,null,null,null,null,null,null,null,null,null,null,null,null,null,null,null,null,null,null,null,null,null,null,null,null,null,null,null,null,null,null,null,null,null,null,null,null,null,null,null,null,null,null,null,null,null,null,null,null,null,null,null,null,null,null,null,null,null,null,null,null,null,null,null,null,null,"pepch",{"$f":"EBL_Master","v":31},1,null,null,null,null,null,null,null,null,null,null,null,null,2,{"$f":"DK50+BT47","v":204},"pepch",null,null,null,null,null,null,null,null,null,null,null,null,null,null,null,null,null,null,null,null,null,null,null,null,null,2,{"$f":"WBT_Master","v":204},"pepch"]
[]
[]
[null,null,null,null,null,null,null,null,null,null,null,null,null,null,null,null,null,null,null,null,null,null,null,null,null,null,null,null,null,null,null,null,null,null,null,null,null,null,null,null,null,null,null,null,null,null,null,null,null,null,null,null,null,null,null,null,null,null,null,null,null,null,null,null,null,null,null,null,null,null,"pepch",{"$f":"EBT_Master","v":204},2,null,null,{"$f":"MAX(BY45/LTAF/BY46, ROUND(MAX(0,BV45/RTAF/BV46-(BT50+BT47)/LTAF/BU50),0))+ MAX((BT50+BT47)/LTAF/BU50 +MAX(CI50/CH50, ROUND(MAX(0,CI47/RTAF/CH47-BY45/LTAF/BY46),0)),(BT53+BT56)/BU53 )","v":461.63157894736844},null,null,null,null,null,null,null,null,null,null,null,null,null,null,null,null,null,null,null,null,null,null,"pepch",{"$f":"BT53+DK56","v":204},2,null,null,{"$f":"MAX((DD60+CX60+DA60)/DD59, DG60/RTAF/DG59, DA45/DA46,CX45/RTAF/CX46) +MAX(CV53/CW53, CV56/RTAF/CW56, (DK50+DK53)/DJ50,DK47/RTAF/DJ47)","v":423.5},null,null,null,null,null,null,null,null,null,null,{"$f":"WBL_Master","v":31},"pepch"]
[null,null,null,null,null,null,null,null,null,null,null,null,null,null,null,null,null,null,null,null,null,null,null,null,null,null,null,null,null,null,null,null,null,null,null,null,null,null,null,null,null,null,null,null,null,null,null,null,{"$f":"CZ53","v":423.5},null,null,null,null,null,null,null,null,"CLV"]
[]
[null,null,null,null,null,null,null,null,null,null,null,null,null,null,null,null,null,null,null,null,null,null,null,null,null,null,null,null,null,null,null,null,null,null,null,null,null,null,null,null,null,null,null,null,null,null,null,null,null,null,null,null,null,null,null,null,null,null,null,null,null,null,null,null,null,null,null,null,null,null,"pepch",{"$f":"EBR_Master","v":51},null,null,null,null,null,null,null,null,null,null,null,null,null,null,null,null,null,null,null,null,null,null,null,null,null,null,"pepch",{"$f":"BT56+CX60","v":51},1,null,null,null,null,null,null,null,null,null,null,null,null,null,{"$f":"WBU_Master","v":0},"pepch"]
[null,null,null,null,null,null,null,null,null,null,null,null,null,null,null,null,null,null,null,null,null,null,null,null,null,null,null,null,null,null,null,null,null,null,null,null,null,null,null,null,null,null,null,null,null,null,null,null,{"$f":"ROUND(AW54/CLV_Limit_2,2)","v":0.24},null,null,null,"V/C",{"$f":"CLV_Limit_2*CB7","v":1800},null,null,null,"MAX"]
[]
[null,null,null,null,null,null,null,null,null,null,null,null,null,null,null,null,null,null,null,null,null,null,null,null,null,null,null,null,null,null,null,null,null,null,null,null,null,null,null,null,null,null,null,null,null,null,null,null,null,null,null,null,null,null,null,null,null,null,null,null,null,null,null,null,null,null,null,null,null,null,null,null,null,null,null,null,null,null,null,null,null,null,null,null,null,null,null,null,null,null,null,null,null,null,null,null,null,null,null,null,null,null,null,null,null,null,null,2,null,null,1]
[null,null,null,null,null,null,null,null,null,null,null,null,null,null,null,null,null,null,null,null,null,null,null,null,null,null,null,null,null,null,null,null,null,null,null,null,null,null,null,null,null,null,null,null,null,null,null,null,null,null,null,null,null,"2 Phases",null,null,null,null,null,null,null,null,null,null,null,null,null,null,null,null,null,null,null,null,null,null,null,null,null,null,null,null,null,null,null,null,null,null,null,null,null,null,null,null,null,null,null,null,null,null,null,{"$f":"NBU_Master","v":0},null,null,{"$f":"NBL_Master","v":102},null,null,{"$f":"NBT_Master","v":510},null,null,{"$f":"NBR_Master","v":204}]
[null,null,null,null,null,null,null,null,null,null,null,null,null,null,null,null,null,null,null,null,null,null,null,null,null,null,null,null,null,null,null,null,null,null,null,null,null,null,null,null,null,null,null,null,null,null,null,null,null,null,null,null,null,null,null,null,null,null,null,null,null,null,null,null,null,null,null,null,null,null,null,null,null,null,null,null,null,null,null,null,null,null,null,null,null,null,null,null,null,null,null,null,null,null,null,null,null,null,null,null,null,"pepch",null,null,"pepch",null,null,"pepch",null,null,"pepch"]
[]
[]
[]
[null,null,null,null,null,null,null,null,{"$f":"BX53","v":461.63157894736844},null,null,null,null,null,null,null,null,"CLV"]
[]
[]
[null,null,null,null,null,null,null,null,{"$f":"ROUND(I65/CLV_Limit_3,2)","v":0.26},null,null,null,"V/C",{"$f":"CLV_Limit_3*CB7","v":1750},null,null,null,"MAX"]
[]
[]
[null,null,null,null,null,null,null,null,null,null,null,null,null,"3 Phases"]
[]
[]
[null,null,null,null,null,null,null,null,null,null,null,null,null,null,"Note: This diagram does not reflect the actual lane configuration of the Intersection"]

{"sheet":"P DLT N-S","index":27,"n_rows":74,"n_cols":102,"rows_kept":74,"cut":false,"hidden":false,"merged":[[18,8,20,16],[18,17,20,17],[21,8,23,11],[21,12,23,12],[21,13,23,16],[21,17,23,17],[24,44,26,52],[73,14,73,47],[7,36,8,41],[7,42,8,47],[7,48,8,53],[9,36,12,47],[9,48,12,59],[56,44,58,52],[56,53,58,53],[59,44,61,47],[59,48,61,48],[59,49,61,52],[59,53,61,53],[24,53,26,53],[27,44,29,47],[27,48,29,48],[27,49,29,52],[27,53,29,53],[0,1,1,60],[2,1,3,60],[5,2,6,9],[5,10,6,35],[7,2,8,9],[7,10,8,35],[9,2,10,9],[9,10,10,35],[11,2,12,9],[11,10,12,35],[5,36,6,59],[7,54,8,59],[15,87,15,89],[15,90,15,92],[15,93,15,95],[15,96,15,98],[16,87,16,89],[16,90,16,92],[16,93,16,95],[16,96,16,98],[0,63,1,122],[2,63,3,122],[11,87,14,89],[11,90,14,92],[11,93,14,95],[11,96,14,98],[17,87,17,89],[17,90,17,92],[17,93,17,95],[17,96,17,98],[19,99,19,101],[20,89,22,96],[20,99,20,101],[21,99,21,101],[22,99,25,101],[23,89,25,96],[38,99,40,99],[38,100,40,100],[38,101,40,101],[38,102,40,105],[32,101,34,101],[32,102,34,105],[35,80,37,83],[35,84,37,84],[35,85,37,85],[35,86,37,86],[35,89,37,96],[35,99,37,99],[35,100,37,100],[35,101,37,101],[32,80,34,83],[32,84,34,84],[32,85,34,85],[32,86,34,86],[32,99,34,99],[32,100,34,100],[35,102,37,105],[41,101,43,101],[41,102,43,105],[49,84,52,86],[50,89,52,96],[53,84,53,86],[53,89,55,96],[54,84,54,86],[55,84,55,86],[41,80,43,83],[41,84,43,84],[41,85,43,85],[41,86,43,86],[41,99,43,99],[41,100,43,100],[30,49,30,53],[62,49,62,53],[24,13,24,17],[60,87,60,89],[60,90,60,92],[60,93,60,95],[60,96,60,98],[61,87,64,89],[61,90,64,92],[61,93,64,95],[61,96,64,98],[58,87,58,89],[58,90,58,92],[58,93,58,95],[58,96,58,98],[59,87,59,89],[59,90,59,92],[59,93,59,95],[59,96,59,98],[38,80,40,83],[38,84,40,84],[38,85,40,85],[38,86,40,86],[38,89,40,96]]}
[null,"Partial Displaced Left Turn (N-S)",null,null,null,null,null,null,null,null,null,null,null,null,null,null,null,null,null,null,null,null,null,null,null,null,null,null,null,null,null,null,null,null,null,null,null,null,null,null,null,null,null,null,null,null,null,null,null,null,null,null,null,null,null,null,null,null,null,null,null,null,null,"Partial Displaced Left Turn (N-S)"]
[]
[null,"Design and Results",null,null,null,null,null,null,null,null,null,null,null,null,null,null,null,null,null,null,null,null,null,null,null,null,null,null,null,null,null,null,null,null,null,null,null,null,null,null,null,null,null,null,null,null,null,null,null,null,null,null,null,null,null,null,null,null,null,null,null,null,null,"Data Input and Configuration"]
[]
[]
[null,null,"Project Name:",null,null,null,null,null,null,null,{"$f":"P_Name","v":"Cap-X Sample Street"},null,null,null,null,null,null,null,null,null,null,null,null,null,null,null,null,null,null,null,null,null,null,null,null,null,"Volume-to-Capacity Ratio"]
[]
[null,null,"Project Number:",null,null,null,null,null,null,null,{"$f":"P_Number","v":10000},null,null,null,null,null,null,null,null,null,null,null,null,null,null,null,null,null,null,null,null,null,null,null,null,null,"< 0.750",null,null,null,null,null,"0.750 - 0.875",null,null,null,null,null,"0.875 - 1.00",null,null,null,null,null,"≥ 1.00"]
[]
[null,null,"Location",null,null,null,null,null,null,null,{"$f":"Location","v":"Tallahassee, FL"},null,null,null,null,null,null,null,null,null,null,null,null,null,null,null,null,null,null,null,null,null,null,null,null,null,"VOLUME / CAPACITY RATIO:",null,null,null,null,null,null,null,null,null,null,null,{"$f":"MAX(I22,AS28,AS60)","v":0.22}]
[]
[null,null,"Date",null,null,null,null,null,null,null,{"$f":"Date","v":"2017 AM"}]
[]
[]
[]
[null,null,null,null,null,null,null,null,null,null,null,null,null,null,null,null,null,null,null,null,null,null,null,null,null,null,null,null,null,null,null,null,null,null,null,null,null,null,null,null,null,null,null,null,null,null,null,null,null,null,null,null,null,null,null,null,null,null,null,null,null,null,null,null,null,null,null,null,null,null,null,null,null,null,null,null,null,null,null,null,null,null,null,null,null,null,null,"pepch",null,null,"pepch",null,null,"pepch",null,null,"pepch"]
[null,null,null,null,null,null,null,null,null,null,null,null,null,null,null,null,null,null,null,null,null,null,null,null,null,null,null,null,null,null,null,null,null,null,null,null,null,null,null,null,null,null,null,null,null,null,null,null,null,null,null,null,null,null,null,null,null,null,null,null,null,null,null,null,null,null,null,null,null,null,null,null,null,null,null,null,null,null,null,null,null,null,null,null,null,null,null,{"$f":"'3 - Alt Num Lanes Input'!CY50","v":204},null,null,{"$f":"'3 - Alt Num Lanes Input'!CW50","v":510},null,null,{"$f":"'3 - Alt Num Lanes Input'!CU50","v":102},null,null,{"$f":"SBU_Master","v":0}]
[null,null,null,null,null,null,null,null,null,null,null,null,null,null,null,null,null,null,null,null,null,null,null,null,null,null,null,null,null,null,null,null,null,null,null,null,null,null,null,null,null,null,null,null,null,null,null,null,null,null,null,null,null,null,null,null,null,null,null,null,null,null,null,null,null,null,null,null,null,null,null,null,null,null,null,null,null,null,null,null,null,null,null,null,null,null,null,{"$f":"IF('3 - Alt Num Lanes Input'!AO50=0,1,'3 - Alt Num Lanes Input'!AO50)","v":1},null,null,{"$f":"'3 - Alt Num Lanes Input'!AM50","v":2},null,null,{"$f":"IF('3 - Alt Num Lanes Input'!AK50=0,1,'3 - Alt Num Lanes Input'!AK50)","v":1}]
[null,null,null,null,null,null,null,null,{"$f":"CL24","v":377.86842105263156},null,null,null,null,null,null,null,null,"CLV"]
[null,null,null,null,null,null,null,null,null,null,null,null,null,null,null,null,null,null,null,null,null,null,null,null,null,null,null,null,null,null,null,null,null,null,null,null,null,null,null,null,null,null,null,null,null,null,null,null,null,null,null,null,null,null,null,null,null,null,null,null,null,null,null,null,null,null,null,null,null,null,null,null,null,null,null,null,null,null,null,null,null,null,null,null,null,null,null,null,null,null,null,null,null,null,null,null,null,null,null,{"$f":"'3 - Alt Num Lanes Input'!AE50","v":2}]
[null,null,null,null,null,null,null,null,null,null,null,null,null,null,null,null,null,null,null,null,null,null,null,null,null,null,null,null,null,null,null,null,null,null,null,null,null,null,null,null,null,null,null,null,null,null,null,null,null,null,null,null,null,null,null,null,null,null,null,null,null,null,null,null,null,null,null,null,null,null,null,null,null,null,null,null,null,null,null,null,null,null,null,null,null,null,null,null,null,null,null,null,null,null,null,null,null,null,null,{"$f":"NBT_Master+EBL_Master+IF('3 - Alt Num Lanes Input'!BE50=0,WBR_Master,0)","v":541}]
[null,null,null,null,null,null,null,null,{"$f":"ROUND(I19/CLV_Limit_2,2)","v":0.21},null,null,null,"V/C",{"$f":"CLV_Limit_2","v":1800},null,null,null,"MAX",null,null,null,null,null,null,null,null,null,null,null,null,null,null,null,null,null,null,null,null,null,null,null,null,null,null,null,null,null,null,null,null,null,null,null,null,null,null,null,null,null,null,null,null,null,null,null,null,null,null,null,null,null,null,null,null,null,null,null,null,null,null,null,null,null,null,null,null,null,null,null,null,null,null,null,null,null,null,null,null,null,"pepch"]
[]
[null,null,null,null,null,null,null,null,null,null,null,null,null,null,null,null,null,null,null,null,null,null,null,null,null,null,null,null,null,null,null,null,null,null,null,null,null,null,null,null,null,null,null,null,null,null,null,null,null,null,null,null,null,null,null,null,null,null,null,null,null,null,null,null,null,null,null,null,null,null,null,null,null,null,null,null,null,null,null,null,null,null,null,null,null,null,null,null,null,{"$f":"CP17/LTAF/CP18 + CV21/CV20","v":377.86842105263156}]
[null,null,null,null,null,null,null,null,null,null,null,null,null,"2 Phases",null,null,null,null,null,null,null,null,null,null,null,null,null,null,null,null,null,null,null,null,null,null,null,null,null,null,null,null,null,null,{"$f":"CL39","v":389.63157894736844},null,null,null,null,null,null,null,null,"CLV"]
[]
[]
[null,null,null,null,null,null,null,null,null,null,null,null,null,null,null,null,null,null,null,null,null,null,null,null,null,null,null,null,null,null,null,null,null,null,null,null,null,null,null,null,null,null,null,null,{"$f":"ROUND(AS25/CLV_Limit_3,2)","v":0.22},null,null,null,"V/C",{"$f":"CLV_Limit_3","v":1750},null,null,null,"MAX"]
[]
[]
[null,null,null,null,null,null,null,null,null,null,null,null,null,null,null,null,null,null,null,null,null,null,null,null,null,null,null,null,null,null,null,null,null,null,null,null,null,null,null,null,null,null,null,null,null,null,null,null,null,"3 Phases"]
[]
[null,null,null,null,null,null,null,null,null,null,null,null,null,null,null,null,null,null,null,null,null,null,null,null,null,null,null,null,null,null,null,null,null,null,null,null,null,null,null,null,null,null,null,null,null,null,null,null,null,null,null,null,null,null,null,null,null,null,null,null,null,null,null,null,null,null,null,null,null,null,null,null,null,null,null,null,null,null,null,null,null,null,null,null,"pepch",{"$f":"EBU_Master","v":0},null,null,null,null,null,null,null,null,null,null,null,null,null,{"$f":"IF('3 - Alt Num Lanes Input'!BE50=0,1,'3 - Alt Num Lanes Input'!BE50)","v":1},{"$f":"'3 - Alt Num Lanes Input'!DO50","v":51},"pepch"]
[]
[]
[null,null,null,null,null,null,null,null,null,null,null,null,null,null,null,null,null,null,null,null,null,null,null,null,null,null,null,null,null,null,null,null,null,null,null,null,null,null,null,null,null,null,null,null,null,null,null,null,null,null,null,null,null,null,null,null,null,null,null,null,null,null,null,null,null,null,null,null,null,null,null,null,null,null,null,null,null,null,null,null,null,null,null,null,"pepch",{"$f":"'3 - Alt Num Lanes Input'!DC50","v":31},{"$f":"IF('3 - Alt Num Lanes Input'!AS50=0,1,'3 - Alt Num Lanes Input'!AS50)","v":1},null,null,null,null,null,null,null,null,null,null,null,null,{"$f":"'3 - Alt Num Lanes Input'!BC50","v":2},{"$f":"'3 - Alt Num Lanes Input'!DM50","v":204},"pepch"]
[]
[]
[null,null,null,null,null,null,null,null,null,null,null,null,null,null,null,null,null,null,null,null,null,null,null,null,null,null,null,null,null,null,null,null,null,null,null,null,null,null,null,null,null,null,null,null,null,null,null,null,null,null,null,null,null,null,null,null,null,null,null,null,null,null,null,null,null,null,null,null,null,null,null,null,null,null,null,null,null,null,null,null,null,null,null,null,"pepch",{"$f":"'3 - Alt Num Lanes Input'!DE50","v":204},{"$f":"'3 - Alt Num Lanes Input'!AU50","v":2},null,null,{"$f":" MAX(CM60/LTAF/CM59,CP60/CP59, ROUND(MAX(0,CS60/RTAF/CS59-CH36/LTAF/CI36),0), CP17/LTAF/CP18, CM17/CM18, ROUND(MAX(0,CJ17/RTAF/CJ18-CH36/LTAF/CI36),0))+MAX(CH36/LTAF/CI36 + MAX(CW36/CV36, ROUND(MAX(0,CW33/RTAF/CV33-CP17/LTAF/CP18),0)), CW39/LTAF/CV39 +MAX( CH39/CI39, ROUND(MAX(0,CH42/RTAF/CI42-CM60/LTAF/CM59),0)))","v":389.63157894736844},null,null,null,null,null,null,null,null,null,{"$f":"IF('3 - Alt Num Lanes Input'!BA50=0,1,'3 - Alt Num Lanes Input'!BA50)","v":1},{"$f":"'3 - Alt Num Lanes Input'!DK50","v":31},"pepch"]
[]
[]
[null,null,null,null,null,null,null,null,null,null,null,null,null,null,null,null,null,null,null,null,null,null,null,null,null,null,null,null,null,null,null,null,null,null,null,null,null,null,null,null,null,null,null,null,null,null,null,null,null,null,null,null,null,null,null,null,null,null,null,null,null,null,null,null,null,null,null,null,null,null,null,null,null,null,null,null,null,null,null,null,null,null,null,null,"pepch",{"$f":"'3 - Alt Num Lanes Input'!DG50","v":51},{"$f":"IF('3 - Alt Num Lanes Input'!AW50=0,1,'3 - Alt Num Lanes Input'!AW50)","v":1},null,null,null,null,null,null,null,null,null,null,null,null,null,{"$f":"WBU_Master","v":0},"pepch"]
[]
[]
[]
[]
[]
[]
[]
[]
[]
[]
[]
[null,null,null,null,null,null,null,null,null,null,null,null,null,null,null,null,null,null,null,null,null,null,null,null,null,null,null,null,null,null,null,null,null,null,null,null,null,null,null,null,null,null,null,null,null,null,null,null,null,null,null,null,null,null,null,null,null,null,null,null,null,null,null,null,null,null,null,null,null,null,null,null,null,null,null,null,null,null,null,null,null,null,null,null,"pepch",null,null,null,null,{"$f":"CM60/LTAF/CM59 + CG55/CG56","v":377.86842105263156}]
[null,null,null,null,null,null,null,null,null,null,null,null,null,null,null,null,null,null,null,null,null,null,null,null,null,null,null,null,null,null,null,null,null,null,null,null,null,null,null,null,null,null,null,null,null,null,null,null,null,null,null,null,null,null,null,null,null,null,null,null,null,null,null,null,null,null,null,null,null,null,null,null,null,null,null,null,null,null,null,null,null,null,null,null,{"$f":"SBT_Master+WBL_Master+IF('3 - Alt Num Lanes Input'!AW50=0,EBR_Master,0)","v":541}]
[null,null,null,null,null,null,null,null,null,null,null,null,null,null,null,null,null,null,null,null,null,null,null,null,null,null,null,null,null,null,null,null,null,null,null,null,null,null,null,null,null,null,null,null,null,null,null,null,null,null,null,null,null,null,null,null,null,null,null,null,null,null,null,null,null,null,null,null,null,null,null,null,null,null,null,null,null,null,null,null,null,null,null,null,{"$f":"'3 - Alt Num Lanes Input'!AM50","v":2}]
[null,null,null,null,null,null,null,null,null,null,null,null,null,null,null,null,null,null,null,null,null,null,null,null,null,null,null,null,null,null,null,null,null,null,null,null,null,null,null,null,null,null,null,null,{"$f":"CL54","v":377.86842105263156},null,null,null,null,null,null,null,null,"CLV"]
[]
[null,null,null,null,null,null,null,null,null,null,null,null,null,null,null,null,null,null,null,null,null,null,null,null,null,null,null,null,null,null,null,null,null,null,null,null,null,null,null,null,null,null,null,null,null,null,null,null,null,null,null,null,null,null,null,null,null,null,null,null,null,null,null,null,null,null,null,null,null,null,null,null,null,null,null,null,null,null,null,null,null,null,null,null,null,null,null,null,null,null,{"$f":"IF('3 - Alt Num Lanes Input'!AC50=0,1,'3 - Alt Num Lanes Input'!AC50)","v":1},null,null,{"$f":"'3 - Alt Num Lanes Input'!AE50","v":2},null,null,{"$f":"IF('3 - Alt Num Lanes Input'!AG50=0,1,'3 - Alt Num Lanes Input'!AG50)","v":1}]
[null,null,null,null,null,null,null,null,null,null,null,null,null,null,null,null,null,null,null,null,null,null,null,null,null,null,null,null,null,null,null,null,null,null,null,null,null,null,null,null,null,null,null,null,{"$f":"ROUND(AS57/CLV_Limit_2,2)","v":0.21},null,null,null,"V/C",{"$f":"CLV_Limit_2","v":1800},null,null,null,"MAX",null,null,null,null,null,null,null,null,null,null,null,null,null,null,null,null,null,null,null,null,null,null,null,null,null,null,null,null,null,null,null,null,null,{"$f":"NBU_Master","v":0},null,null,{"$f":"'3 - Alt Num Lanes Input'!CM50","v":102},null,null,{"$f":"'3 - Alt Num Lanes Input'!CO50","v":510},null,null,{"$f":"'3 - Alt Num Lanes Input'!CQ50","v":204}]
[null,null,null,null,null,null,null,null,null,null,null,null,null,null,null,null,null,null,null,null,null,null,null,null,null,null,null,null,null,null,null,null,null,null,null,null,null,null,null,null,null,null,null,null,null,null,null,null,null,null,null,null,null,null,null,null,null,null,null,null,null,null,null,null,null,null,null,null,null,null,null,null,null,null,null,null,null,null,null,null,null,null,null,null,null,null,null,"pepch",null,null,"pepch",null,null,"pepch",null,null,"pepch"]
[]
[null,null,null,null,null,null,null,null,null,null,null,null,null,null,null,null,null,null,null,null,null,null,null,null,null,null,null,null,null,null,null,null,null,null,null,null,null,null,null,null,null,null,null,null,null,null,null,null,null,"2 Phases"]
[]
[]
[]
[]
[]
[]
[]
[]
[]
[]
[null,null,null,null,null,null,null,null,null,null,null,null,null,null,"Note: This diagram does not reflect the actual lane configuration of the Intersection"]

{"sheet":"P DLT E-W","index":28,"n_rows":74,"n_cols":119,"rows_kept":74,"cut":false,"hidden":false,"merged":[[0,1,1,60],[2,1,3,60],[5,2,6,9],[5,10,6,35],[5,36,6,59],[7,36,8,41],[7,42,8,47],[7,48,8,53],[7,54,8,59],[30,116,32,116],[30,117,32,117],[30,118,32,118],[30,119,32,122],[36,118,38,118],[7,2,8,9],[7,10,8,35],[9,2,10,9],[9,10,10,35],[11,2,12,9],[11,10,12,35],[9,36,12,47],[9,48,12,59],[36,119,38,122],[33,106,35,113],[33,116,35,116],[33,117,35,117],[33,118,35,118],[33,119,35,122],[36,68,38,68],[36,69,38,69],[36,72,38,79],[27,6,29,14],[27,15,29,15],[0,63,1,122],[2,63,3,122],[23,87,26,89],[23,90,26,92],[23,93,26,95],[23,96,26,98],[27,93,27,95],[27,96,27,98],[28,87,28,89],[28,90,28,92],[28,93,28,95],[28,96,28,98],[73,14,73,47],[29,93,29,95],[29,96,29,98],[30,63,32,66],[30,67,32,67],[30,68,32,68],[30,69,32,69],[27,71,29,71],[27,72,29,72],[27,73,29,73],[27,74,29,77],[27,87,27,89],[27,90,27,92],[29,87,29,89],[29,90,29,92],[33,63,35,66],[33,67,35,67],[33,68,35,68],[33,69,35,69],[33,72,35,79],[33,89,35,96],[39,63,41,66],[36,63,38,66],[36,67,38,67],[39,67,41,67],[39,68,41,68],[39,69,41,69],[39,116,41,116],[39,117,41,117],[36,89,38,96],[36,106,38,113],[36,116,38,116],[36,117,38,117],[39,118,41,118],[39,119,41,122],[42,87,42,89],[42,90,42,92],[42,93,42,95],[42,96,42,98],[42,107,44,110],[42,111,44,111],[42,112,44,112],[42,113,44,113],[45,87,48,89],[45,90,48,92],[45,93,48,95],[45,96,48,98],[43,87,43,89],[43,90,43,92],[43,93,43,95],[43,96,43,98],[44,87,44,89],[44,90,44,92],[44,93,44,95],[44,96,44,98],[30,6,32,9],[30,10,32,10],[30,11,32,14],[30,15,32,15],[26,42,28,50],[26,51,28,51],[29,42,31,45],[29,46,31,46],[29,47,31,50],[29,51,31,51],[63,51,63,55],[33,11,33,15],[32,47,32,51],[57,46,59,54],[57,55,59,55],[60,46,62,49],[60,50,62,50],[60,51,62,54],[60,55,62,55]]}
[null,"Partial Displaced Left Turn (E-W)",null,null,null,null,null,null,null,null,null,null,null,null,null,null,null,null,null,null,null,null,null,null,null,null,null,null,null,null,null,null,null,null,null,null,null,null,null,null,null,null,null,null,null,null,null,null,null,null,null,null,null,null,null,null,null,null,null,null,null,null,null,"Partial Displaced Left Turn (E-W)"]
[]
[null,"Design and Results",null,null,null,null,null,null,null,null,null,null,null,null,null,null,null,null,null,null,null,null,null,null,null,null,null,null,null,null,null,null,null,null,null,null,null,null,null,null,null,null,null,null,null,null,null,null,null,null,null,null,null,null,null,null,null,null,null,null,null,null,null,"Data Input and Configuration"]
[]
[]
[null,null,"Project Name:",null,null,null,null,null,null,null,{"$f":"P_Name","v":"Cap-X Sample Street"},null,null,null,null,null,null,null,null,null,null,null,null,null,null,null,null,null,null,null,null,null,null,null,null,null,"Volume-to-Capacity Ratio"]
[]
[null,null,"Project Number:",null,null,null,null,null,null,null,{"$f":"P_Number","v":10000},null,null,null,null,null,null,null,null,null,null,null,null,null,null,null,null,null,null,null,null,null,null,null,null,null,"< 0.750",null,null,null,null,null,"0.750 - 0.875",null,null,null,null,null,"0.875 - 1.00",null,null,null,null,null,"≥ 1.00"]
[]
[null,null,"Location",null,null,null,null,null,null,null,{"$f":"Location","v":"Tallahassee, FL"},null,null,null,null,null,null,null,null,null,null,null,null,null,null,null,null,null,null,null,null,null,null,null,null,null,"VOLUME / CAPACITY RATIO:",null,null,null,null,null,null,null,null,null,null,null,{"$f":"MAX(G31,AQ30,AU61)","v":0.27}]
[]
[null,null,"Date",null,null,null,null,null,null,null,{"$f":"Date","v":"2017 AM"}]
[]
[]
[]
[]
[]
[]
[]
[]
[]
[]
[]
[]
[]
[]
[null,null,null,null,null,null,null,null,null,null,null,null,null,null,null,null,null,null,null,null,null,null,null,null,null,null,null,null,null,null,null,null,null,null,null,null,null,null,null,null,null,null,{"$f":"CL37","v":464.36842105263156},null,null,null,null,null,null,null,null,"CLV"]
[null,null,null,null,null,null,{"$f":"BU37","v":185.63157894736844},null,null,null,null,null,null,null,null,"CLV",null,null,null,null,null,null,null,null,null,null,null,null,null,null,null,null,null,null,null,null,null,null,null,null,null,null,null,null,null,null,null,null,null,null,null,null,null,null,null,null,null,null,null,null,null,null,null,null,null,null,null,null,null,null,null,{"$f":"'3 - Alt Num Lanes Input'!BC52","v":2},{"$f":"WBT_Master+NBL_Master+IF('3 - Alt Num Lanes Input'!AO52=0,SBR_Master,0)","v":306},"pepch",null,null,null,null,null,null,null,null,null,null,null,null,null,"pepch",null,null,"pepch",null,null,"pepch",null,null,"pepch"]
[null,null,null,null,null,null,null,null,null,null,null,null,null,null,null,null,null,null,null,null,null,null,null,null,null,null,null,null,null,null,null,null,null,null,null,null,null,null,null,null,null,null,null,null,null,null,null,null,null,null,null,null,null,null,null,null,null,null,null,null,null,null,null,null,null,null,null,null,null,null,null,null,null,null,null,null,null,null,null,null,null,null,null,null,null,null,null,{"$f":"'3 - Alt Num Lanes Input'!CY52","v":204},null,null,{"$f":"'3 - Alt Num Lanes Input'!CW52","v":510},null,null,{"$f":"'3 - Alt Num Lanes Input'!CU52","v":102},null,null,{"$f":"SBU_Master","v":0}]
[null,null,null,null,null,null,null,null,null,null,null,null,null,null,null,null,null,null,null,null,null,null,null,null,null,null,null,null,null,null,null,null,null,null,null,null,null,null,null,null,null,null,{"$f":"ROUND(AQ27/CLV_Limit_3,2)","v":0.27},null,null,null,"V/C",{"$f":"CLV_Limit_3","v":1750},null,null,null,"MAX",null,null,null,null,null,null,null,null,null,null,null,null,null,null,null,null,null,null,null,null,null,null,null,null,null,null,null,null,null,null,null,null,null,null,null,{"$f":"IF('3 - Alt Num Lanes Input'!AO52=0,1,'3 - Alt Num Lanes Input'!AO52)","v":1},null,null,{"$f":"'3 - Alt Num Lanes Input'!AM52","v":2},null,null,{"$f":"IF('3 - Alt Num Lanes Input'!AK52=0,1,'3 - Alt Num Lanes Input'!AK52)","v":1}]
[null,null,null,null,null,null,{"$f":"ROUND(G28/CLV_Limit_2,2)","v":0.1},null,null,null,"V/C",{"$f":"CLV_Limit_2","v":1800},null,null,null,"MAX",null,null,null,null,null,null,null,null,null,null,null,null,null,null,null,null,null,null,null,null,null,null,null,null,null,null,null,null,null,null,null,null,null,null,null,null,null,null,null,null,null,null,null,null,null,null,null,null,null,null,null,"pepch",{"$f":"EBU_Master","v":0},null,null,null,null,null,null,null,null,null,null,null,null,null,null,null,null,null,null,null,null,null,null,null,null,null,null,null,null,null,null,null,null,null,null,null,null,null,null,null,null,null,null,null,null,null,null,null,{"$f":"IF('3 - Alt Num Lanes Input'!BE52=0,1,'3 - Alt Num Lanes Input'!BE52)","v":1},{"$f":"'3 - Alt Num Lanes Input'!DO52","v":51},"pepch"]
[]
[null,null,null,null,null,null,null,null,null,null,null,null,null,null,null,null,null,null,null,null,null,null,null,null,null,null,null,null,null,null,null,null,null,null,null,null,null,null,null,null,null,null,null,null,null,null,null,"3 Phases"]
[null,null,null,null,null,null,null,null,null,null,null,"2 Phases",null,null,null,null,null,null,null,null,null,null,null,null,null,null,null,null,null,null,null,null,null,null,null,null,null,null,null,null,null,null,null,null,null,null,null,null,null,null,null,null,null,null,null,null,null,null,null,null,null,null,null,null,null,null,null,"pepch",{"$f":"'3 - Alt Num Lanes Input'!DC52","v":31},{"$f":"IF('3 - Alt Num Lanes Input'!AS52=0,1,'3 - Alt Num Lanes Input'!AS52)","v":1},null,null,null,null,null,null,null,null,null,null,null,null,null,null,null,null,null,null,null,null,null,null,null,null,null,null,null,null,null,null,null,null,null,null,null,null,null,null,null,null,null,null,null,null,null,null,{"$f":"'3 - Alt Num Lanes Input'!BC52","v":2},{"$f":"'3 - Alt Num Lanes Input'!DM52","v":204},"pepch"]
[]
[]
[null,null,null,null,null,null,null,null,null,null,null,null,null,null,null,null,null,null,null,null,null,null,null,null,null,null,null,null,null,null,null,null,null,null,null,null,null,null,null,null,null,null,null,null,null,null,null,null,null,null,null,null,null,null,null,null,null,null,null,null,null,null,null,null,null,null,null,"pepch",{"$f":"'3 - Alt Num Lanes Input'!DE52","v":204},{"$f":"'3 - Alt Num Lanes Input'!AU52","v":2},null,null,{"$f":"BQ34/LTAF/BR34 + BU28/BT28","v":185.63157894736844},null,null,null,null,null,null,null,null,null,null,null,null,null,null,null,null,{"$f":"MAX(BQ34/LTAF/BR34, BQ37/BR37, ROUND(MAX(0,BQ40/RTAF/BR40-CM44/LTAF/CM43),0), DN37/LTAF/DM37, DN34/DM34, ROUND(MAX(0,DN31/RTAF/DM31-CP29/LTAF/CP30),0))+MAX(CM44/LTAF/CM43 + MAX(CM29/CM30, ROUND(MAX(0,CJ29/RTAF/CJ30-BQ34/LTAF/BR34),0)), CP29/LTAF/CP30 +MAX(CP44/CP43, ROUND(MAX(0,CS44/RTAF/CS43-DN37/LTAF/DM37),0)))","v":464.36842105263156},null,null,null,null,null,null,null,null,null,null,null,null,null,null,null,null,{"$f":"DN37/LTAF/DM37+ DI43/DJ43","v":185.63157894736844},null,null,null,null,null,null,null,null,null,{"$f":"IF('3 - Alt Num Lanes Input'!BA52=0,1,'3 - Alt Num Lanes Input'!BA52)","v":1},{"$f":"'3 - Alt Num Lanes Input'!DK52","v":31},"pepch"]
[]
[]
[null,null,null,null,null,null,null,null,null,null,null,null,null,null,null,null,null,null,null,null,null,null,null,null,null,null,null,null,null,null,null,null,null,null,null,null,null,null,null,null,null,null,null,null,null,null,null,null,null,null,null,null,null,null,null,null,null,null,null,null,null,null,null,null,null,null,null,"pepch",{"$f":"'3 - Alt Num Lanes Input'!DG52","v":51},{"$f":"IF('3 - Alt Num Lanes Input'!AW52=0,1,'3 - Alt Num Lanes Input'!AW52)","v":1},null,null,null,null,null,null,null,null,null,null,null,null,null,null,null,null,null,null,null,null,null,null,null,null,null,null,null,null,null,null,null,null,null,null,null,null,null,null,null,null,null,null,null,null,null,null,null,{"$f":"WBU_Master","v":0},"pepch"]
[]
[]
[null,null,null,null,null,null,null,null,null,null,null,null,null,null,null,null,null,null,null,null,null,null,null,null,null,null,null,null,null,null,null,null,null,null,null,null,null,null,null,null,null,null,null,null,null,null,null,null,null,null,null,null,null,null,null,null,null,null,null,null,null,null,null,null,null,null,null,null,null,null,null,null,null,null,null,null,null,null,null,null,null,null,null,null,null,null,null,null,null,null,{"$f":"IF('3 - Alt Num Lanes Input'!AC52=0,1,'3 - Alt Num Lanes Input'!AC52)","v":1},null,null,{"$f":"'3 - Alt Num Lanes Input'!AE52","v":2},null,null,{"$f":"IF('3 - Alt Num Lanes Input'!AG52=0,1,'3 - Alt Num Lanes Input'!AG52)","v":1},null,null,null,null,null,null,null,null,null,null,null,null,null,null,"pepch",{"$f":"EBT_Master+SBL_Master+IF('3 - Alt Num Lanes Input'!AG52=0,NBR_Master,0)","v":306},{"$f":"'3 - Alt Num Lanes Input'!AU52","v":2}]
[null,null,null,null,null,null,null,null,null,null,null,null,null,null,null,null,null,null,null,null,null,null,null,null,null,null,null,null,null,null,null,null,null,null,null,null,null,null,null,null,null,null,null,null,null,null,null,null,null,null,null,null,null,null,null,null,null,null,null,null,null,null,null,null,null,null,null,null,null,null,null,null,null,null,null,null,null,null,null,null,null,null,null,null,null,null,null,{"$f":"NBU_Master","v":0},null,null,{"$f":"'3 - Alt Num Lanes Input'!CM52","v":102},null,null,{"$f":"'3 - Alt Num Lanes Input'!CO52","v":510},null,null,{"$f":"'3 - Alt Num Lanes Input'!CQ52","v":204}]
[null,null,null,null,null,null,null,null,null,null,null,null,null,null,null,null,null,null,null,null,null,null,null,null,null,null,null,null,null,null,null,null,null,null,null,null,null,null,null,null,null,null,null,null,null,null,null,null,null,null,null,null,null,null,null,null,null,null,null,null,null,null,null,null,null,null,null,null,null,null,null,null,null,null,null,null,null,null,null,null,null,null,null,null,null,null,null,"pepch",null,null,"pepch",null,null,"pepch",null,null,"pepch"]
[]
[]
[]
[]
[]
[]
[]
[]
[]
[]
[]
[]
[null,null,null,null,null,null,null,null,null,null,null,null,null,null,null,null,null,null,null,null,null,null,null,null,null,null,null,null,null,null,null,null,null,null,null,null,null,null,null,null,null,null,null,null,null,null,{"$f":"DC37","v":185.63157894736844},null,null,null,null,null,null,null,null,"CLV"]
[]
[]
[null,null,null,null,null,null,null,null,null,null,null,null,null,null,null,null,null,null,null,null,null,null,null,null,null,null,null,null,null,null,null,null,null,null,null,null,null,null,null,null,null,null,null,null,null,null,{"$f":"ROUND(AU58/CLV_Limit_2,2)","v":0.1},null,null,null,"V/C",{"$f":"CLV_Limit_2","v":1800},null,null,null,"MAX"]
[]
[]
[null,null,null,null,null,null,null,null,null,null,null,null,null,null,null,null,null,null,null,null,null,null,null,null,null,null,null,null,null,null,null,null,null,null,null,null,null,null,null,null,null,null,null,null,null,null,null,null,null,null,null,"2 Phases"]
[]
[]
[]
[]
[]
[]
[]
[]
[]
[null,null,null,null,null,null,null,null,null,null,null,null,null,null,"Note: This diagram does not reflect the actual lane configuration of the Intersection"]

{"sheet":"Full DLT","index":29,"n_rows":74,"n_cols":119,"rows_kept":74,"cut":false,"hidden":false,"merged":[[0,1,1,60],[2,1,3,60],[5,2,6,9],[5,10,6,35],[5,36,6,59],[7,36,8,41],[7,42,8,47],[7,48,8,53],[7,54,8,59],[22,99,25,101],[30,75,32,78],[33,63,35,66],[33,67,35,67],[33,68,35,68],[33,69,35,69],[19,89,21,96],[7,2,8,9],[7,10,8,35],[9,2,10,9],[9,10,10,35],[11,2,12,9],[11,10,12,35],[9,36,12,47],[9,48,12,59],[16,48,18,56],[16,57,18,57],[19,48,21,51],[19,52,21,52],[19,53,21,56],[19,57,21,57],[16,4,18,12],[16,13,18,13],[19,4,21,7],[0,63,1,122],[2,63,3,122],[9,93,12,95],[9,96,12,98],[13,93,13,95],[13,96,13,98],[19,99,19,101],[20,99,20,101],[21,99,21,101],[73,14,73,47],[9,87,12,89],[9,90,12,92],[13,87,13,89],[13,90,13,92],[22,89,24,96],[14,87,14,89],[14,90,14,92],[14,93,14,95],[14,96,14,98],[15,87,15,89],[15,90,15,92],[15,93,15,95],[15,96,15,98],[30,72,32,72],[30,73,32,73],[30,74,32,74],[42,63,44,66],[42,67,44,67],[42,68,44,68],[42,69,44,69],[65,87,68,89],[65,90,68,92],[65,93,68,95],[33,116,35,116],[33,117,35,117],[33,118,35,118],[33,119,35,122],[36,63,38,66],[36,67,38,67],[36,68,38,68],[36,69,38,69],[36,72,38,79],[36,89,38,96],[39,118,41,118],[39,119,41,122],[36,106,38,113],[36,116,38,116],[36,117,38,117],[36,118,38,118],[36,119,38,122],[39,63,41,66],[39,67,41,67],[39,68,41,68],[39,69,41,69],[39,72,41,79],[39,89,41,96],[39,106,41,113],[39,116,41,116],[39,117,41,117],[52,84,55,86],[53,89,55,96],[56,84,56,86],[56,89,58,96],[57,84,57,86],[58,84,58,86],[42,118,44,118],[42,119,44,122],[45,107,47,110],[45,111,47,111],[45,112,47,112],[45,113,47,113],[64,87,64,89],[64,90,64,92],[64,93,64,95],[64,96,64,98],[42,116,44,116],[42,117,44,117],[65,96,68,98],[62,87,62,89],[62,90,62,92],[62,93,62,95],[62,96,62,98],[63,87,63,89],[63,90,63,92],[63,93,63,95],[63,96,63,98],[19,8,21,8],[19,9,21,12],[19,13,21,13],[26,4,28,12],[26,13,28,13],[29,4,31,7],[29,8,31,8],[29,9,31,12],[29,13,31,13],[71,53,71,57],[71,9,71,13],[32,9,32,13],[22,9,22,13],[22,53,22,57],[65,48,67,56],[65,57,67,57],[68,48,70,51],[68,52,70,52],[68,53,70,56],[68,57,70,57],[65,4,67,12],[65,13,67,13],[68,4,70,7],[68,8,70,8],[68,9,70,12],[68,13,70,13]]}
[null,"Full Displaced Left Turn",null,null,null,null,null,null,null,null,null,null,null,null,null,null,null,null,null,null,null,null,null,null,null,null,null,null,null,null,null,null,null,null,null,null,null,null,null,null,null,null,null,null,null,null,null,null,null,null,null,null,null,null,null,null,null,null,null,null,null,null,null,"Full Displaced Left Turn"]
[]
[null,"Design and Results",null,null,null,null,null,null,null,null,null,null,null,null,null,null,null,null,null,null,null,null,null,null,null,null,null,null,null,null,null,null,null,null,null,null,null,null,null,null,null,null,null,null,null,null,null,null,null,null,null,null,null,null,null,null,null,null,null,null,null,null,null,"Data Input and Configuration"]
[]
[]
[null,null,"Project Name:",null,null,null,null,null,null,null,{"$f":"P_Name","v":"Cap-X Sample Street"},null,null,null,null,null,null,null,null,null,null,null,null,null,null,null,null,null,null,null,null,null,null,null,null,null,"Volume-to-Capacity Ratio"]
[]
[null,null,"Project Number:",null,null,null,null,null,null,null,{"$f":"P_Number","v":10000},null,null,null,null,null,null,null,null,null,null,null,null,null,null,null,null,null,null,null,null,null,null,null,null,null,"< 0.750",null,null,null,null,null,"0.750 - 0.875",null,null,null,null,null,"0.875 - 1.00",null,null,null,null,null,"≥ 1.00"]
[]
[null,null,"Location",null,null,null,null,null,null,null,{"$f":"Location","v":"Tallahassee, FL"},null,null,null,null,null,null,null,null,null,null,null,null,null,null,null,null,null,null,null,null,null,null,null,null,null,"VOLUME / CAPACITY RATIO:",null,null,null,null,null,null,null,null,null,null,null,{"$f":"MAX(E20,E30,E69,AW69,AW20)","v":0.21}]
[]
[null,null,"Date",null,null,null,null,null,null,null,{"$f":"Date","v":"2017 AM"}]
[]
[null,null,null,null,null,null,null,null,null,null,null,null,null,null,null,null,null,null,null,null,null,null,null,null,null,null,null,null,null,null,null,null,null,null,null,null,null,null,null,null,null,null,null,null,null,null,null,null,null,null,null,null,null,null,null,null,null,null,null,null,null,null,null,null,null,null,null,null,null,null,null,null,null,null,null,null,null,null,null,null,null,null,null,null,null,null,null,"pepch",null,null,"pepch",null,null,"pepch",null,null,"pepch"]
[null,null,null,null,null,null,null,null,null,null,null,null,null,null,null,null,null,null,null,null,null,null,null,null,null,null,null,null,null,null,null,null,null,null,null,null,null,null,null,null,null,null,null,null,null,null,null,null,null,null,null,null,null,null,null,null,null,null,null,null,null,null,null,null,null,null,null,null,null,null,null,null,null,null,null,null,null,null,null,null,null,null,null,null,null,null,null,{"$f":"'3 - Alt Num Lanes Input'!CY54","v":204},null,null,{"$f":"'3 - Alt Num Lanes Input'!CW54","v":510},null,null,{"$f":"'3 - Alt Num Lanes Input'!CU54","v":102},null,null,{"$f":"SBU_Master","v":0}]
[null,null,null,null,null,null,null,null,null,null,null,null,null,null,null,null,null,null,null,null,null,null,null,null,null,null,null,null,null,null,null,null,null,null,null,null,null,null,null,null,null,null,null,null,null,null,null,null,null,null,null,null,null,null,null,null,null,null,null,null,null,null,null,null,null,null,null,null,null,null,null,null,null,null,null,null,null,null,null,null,null,null,null,null,null,null,null,{"$f":"IF('3 - Alt Num Lanes Input'!AO54=0,1,'3 - Alt Num Lanes Input'!AO54)","v":1},null,null,{"$f":"'3 - Alt Num Lanes Input'!AM54","v":2},null,null,{"$f":"IF('3 - Alt Num Lanes Input'!AK54=0,1,'3 - Alt Num Lanes Input'!AK54)","v":1}]
[null,null,null,null,{"$f":"CL23","v":377.86842105263156},null,null,null,null,null,null,null,null,"CLV",null,null,null,null,null,null,null,null,null,null,null,null,null,null,null,null,null,null,null,null,null,null,null,null,null,null,null,null,null,null,null,null,null,null,{"$f":"DC40","v":185.63157894736844},null,null,null,null,null,null,null,null,"CLV"]
[]
[]
[null,null,null,null,{"$f":"ROUND(E17/CLV_Limit_2,2)","v":0.21},null,null,null,"V/C",{"$f":"CLV_Limit_2","v":1800},null,null,null,"MAX",null,null,null,null,null,null,null,null,null,null,null,null,null,null,null,null,null,null,null,null,null,null,null,null,null,null,null,null,null,null,null,null,null,null,{"$f":"ROUND(AW17/CLV_Limit_2,2)","v":0.1},null,null,null,"V/C",{"$f":"CLV_Limit_2","v":1800},null,null,null,"MAX",null,null,null,null,null,null,null,null,null,null,null,null,null,null,null,null,null,null,null,null,null,null,null,null,null,null,null,null,null,null,null,null,null,null,null,null,null,null,null,null,null,{"$f":"'3 - Alt Num Lanes Input'!AE54","v":2}]
[null,null,null,null,null,null,null,null,null,null,null,null,null,null,null,null,null,null,null,null,null,null,null,null,null,null,null,null,null,null,null,null,null,null,null,null,null,null,null,null,null,null,null,null,null,null,null,null,null,null,null,null,null,null,null,null,null,null,null,null,null,null,null,null,null,null,null,null,null,null,null,null,null,null,null,null,null,null,null,null,null,null,null,null,null,null,null,null,null,null,null,null,null,null,null,null,null,null,null,{"$f":"NBT_Master+BQ37+IF('3 - Alt Num Lanes Input'!BE54=0,WBR_Master,0)","v":541}]
[null,null,null,null,null,null,null,null,null,null,null,null,null,null,null,null,null,null,null,null,null,null,null,null,null,null,null,null,null,null,null,null,null,null,null,null,null,null,null,null,null,null,null,null,null,null,null,null,null,null,null,null,null,null,null,null,null,null,null,null,null,null,null,null,null,null,null,null,null,null,null,null,null,null,null,null,null,null,null,null,null,null,null,null,null,null,null,null,null,null,null,null,null,null,null,null,null,null,null,"pepch"]
[null,null,null,null,null,null,null,null,null,"2 Phases",null,null,null,null,null,null,null,null,null,null,null,null,null,null,null,null,null,null,null,null,null,null,null,null,null,null,null,null,null,null,null,null,null,null,null,null,null,null,null,null,null,null,null,"2 Phases",null,null,null,null,null,null,null,null,null,null,null,null,null,null,null,null,null,null,null,null,null,null,null,null,null,null,null,null,null,null,null,null,null,null,null,{"$f":"CP15/LTAF/CP16 + CV21/CV20","v":377.86842105263156}]
[]
[]
[]
[null,null,null,null,{"$f":"CL40","v":357},null,null,null,null,null,null,null,null,"CLV"]
[]
[]
[null,null,null,null,{"$f":"ROUND(E27/CLV_Limit_2,2)","v":0.2},null,null,null,"V/C",{"$f":"CLV_Limit_2","v":1800},null,null,null,"MAX"]
[null,null,null,null,null,null,null,null,null,null,null,null,null,null,null,null,null,null,null,null,null,null,null,null,null,null,null,null,null,null,null,null,null,null,null,null,null,null,null,null,null,null,null,null,null,null,null,null,null,null,null,null,null,null,null,null,null,null,null,null,null,null,null,null,null,null,null,null,null,null,null,null,{"$f":"'3 - Alt Num Lanes Input'!BC54","v":2},{"$f":"WBT_Master+CM64+IF('3 - Alt Num Lanes Input'!AO54=0,SBR_Master,0)","v":306},"pepch"]
[]
[null,null,null,null,null,null,null,null,null,"2 Phases"]
[null,null,null,null,null,null,null,null,null,null,null,null,null,null,null,null,null,null,null,null,null,null,null,null,null,null,null,null,null,null,null,null,null,null,null,null,null,null,null,null,null,null,null,null,null,null,null,null,null,null,null,null,null,null,null,null,null,null,null,null,null,null,null,null,null,null,null,"pepch",{"$f":"EBU_Master","v":0},null,null,null,null,null,null,null,null,null,null,null,null,null,null,null,null,null,null,null,null,null,null,null,null,null,null,null,null,null,null,null,null,null,null,null,null,null,null,null,null,null,null,null,null,null,null,null,{"$f":"IF('3 - Alt Num Lanes Input'!BE54=0,1,'3 - Alt Num Lanes Input'!BE54)","v":1},{"$f":"'3 - Alt Num Lanes Input'!DO54","v":51},"pepch"]
[]
[]
[null,null,null,null,null,null,null,null,null,null,null,null,null,null,null,null,null,null,null,null,null,null,null,null,null,null,null,null,null,null,null,null,null,null,null,null,null,null,null,null,null,null,null,null,null,null,null,null,null,null,null,null,null,null,null,null,null,null,null,null,null,null,null,null,null,null,null,"pepch",{"$f":"'3 - Alt Num Lanes Input'!DC54","v":31},{"$f":"IF('3 - Alt Num Lanes Input'!AS54=0,1,'3 - Alt Num Lanes Input'!AS54)","v":1},null,null,null,null,null,null,null,null,null,null,null,null,null,null,null,null,null,null,null,null,null,null,null,null,null,null,null,null,null,null,null,null,null,null,null,null,null,null,null,null,null,null,null,null,null,null,{"$f":"'3 - Alt Num Lanes Input'!BC54","v":2},{"$f":"'3 - Alt Num Lanes Input'!DM54","v":204},"pepch"]
[]
[]
[null,null,null,null,null,null,null,null,null,null,null,null,null,null,null,null,null,null,null,null,null,null,null,null,null,null,null,null,null,null,null,null,null,null,null,null,null,null,null,null,null,null,null,null,null,null,null,null,null,null,null,null,null,null,null,null,null,null,null,null,null,null,null,null,null,null,null,"pepch",{"$f":"'3 - Alt Num Lanes Input'!DE54","v":204},{"$f":"'3 - Alt Num Lanes Input'!AU54","v":2},null,null,{"$f":"BQ37/LTAF/BR37 + BV31/BU31","v":185.63157894736844},null,null,null,null,null,null,null,null,null,null,null,null,null,null,null,null,{"$f":"MAX(BQ37/LTAF/BR37, BQ40/BR40, ROUND(MAX(0,BQ43/RTAF/BR43-CM64/LTAF/CM63),0), DN40/LTAF/DM40, DN37/DM37, ROUND(MAX(0,DN34/RTAF/DM34-CP15/LTAF/CP16),0))+MAX(CM64/LTAF/CM63, CP64/CP63, ROUND(MAX(0,CS64/RTAF/CS63-DN40/LTAF/DM40),0), CP15/LTAF/CP16, CM15/CM16, ROUND(MAX(0,CJ15/RTAF/CJ16-BQ37/LTAF/BR37),0))","v":357},null,null,null,null,null,null,null,null,null,null,null,null,null,null,null,null,{"$f":"DN40/LTAF/DM40+ DI46/DJ46","v":185.63157894736844},null,null,null,null,null,null,null,null,null,{"$f":"IF('3 - Alt Num Lanes Input'!BA54=0,1,'3 - Alt Num Lanes Input'!BA54)","v":1},{"$f":"'3 - Alt Num Lanes Input'!DK54","v":31},"pepch"]
[]
[]
[null,null,null,null,null,null,null,null,null,null,null,null,null,null,null,null,null,null,null,null,null,null,null,null,null,null,null,null,null,null,null,null,null,null,null,null,null,null,null,null,null,null,null,null,null,null,null,null,null,null,null,null,null,null,null,null,null,null,null,null,null,null,null,null,null,null,null,"pepch",{"$f":"'3 - Alt Num Lanes Input'!DG54","v":51},{"$f":"IF('3 - Alt Num Lanes Input'!AW54=0,1,'3 - Alt Num Lanes Input'!AW54)","v":1},null,null,null,null,null,null,null,null,null,null,null,null,null,null,null,null,null,null,null,null,null,null,null,null,null,null,null,null,null,null,null,null,null,null,null,null,null,null,null,null,null,null,null,null,null,null,null,{"$f":"WBU_Master","v":0},"pepch"]
[]
[]
[null,null,null,null,null,null,null,null,null,null,null,null,null,null,null,null,null,null,null,null,null,null,null,null,null,null,null,null,null,null,null,null,null,null,null,null,null,null,null,null,null,null,null,null,null,null,null,null,null,null,null,null,null,null,null,null,null,null,null,null,null,null,null,null,null,null,null,null,null,null,null,null,null,null,null,null,null,null,null,null,null,null,null,null,null,null,null,null,null,null,null,null,null,null,null,null,null,null,null,null,null,null,null,null,null,null,null,null,null,null,null,"pepch",{"$f":"EBT_Master+CP15+IF('3 - Alt Num Lanes Input'!AG54=0,NBR_Master,0)","v":306},{"$f":"'3 - Alt Num Lanes Input'!AU54","v":2}]
[]
[]
[]
[]
[]
[]
[]
[]
[]
[]
[null,null,null,null,null,null,null,null,null,null,null,null,null,null,null,null,null,null,null,null,null,null,null,null,null,null,null,null,null,null,null,null,null,null,null,null,null,null,null,null,null,null,null,null,null,null,null,null,null,null,null,null,null,null,null,null,null,null,null,null,null,null,null,null,null,null,null,null,null,null,null,null,null,null,null,null,null,null,null,null,null,null,null,null,"pepch",null,null,null,null,{"$f":"CM64/LTAF/CM63 + CG58/CG59","v":377.86842105263156}]
[null,null,null,null,null,null,null,null,null,null,null,null,null,null,null,null,null,null,null,null,null,null,null,null,null,null,null,null,null,null,null,null,null,null,null,null,null,null,null,null,null,null,null,null,null,null,null,null,null,null,null,null,null,null,null,null,null,null,null,null,null,null,null,null,null,null,null,null,null,null,null,null,null,null,null,null,null,null,null,null,null,null,null,null,{"$f":"SBT_Master+DN40+IF('3 - Alt Num Lanes Input'!AW54=0,EBR_Master,0)","v":541}]
[null,null,null,null,null,null,null,null,null,null,null,null,null,null,null,null,null,null,null,null,null,null,null,null,null,null,null,null,null,null,null,null,null,null,null,null,null,null,null,null,null,null,null,null,null,null,null,null,null,null,null,null,null,null,null,null,null,null,null,null,null,null,null,null,null,null,null,null,null,null,null,null,null,null,null,null,null,null,null,null,null,null,null,null,{"$f":"'3 - Alt Num Lanes Input'!AM54","v":2}]
[]
[]
[]
[null,null,null,null,null,null,null,null,null,null,null,null,null,null,null,null,null,null,null,null,null,null,null,null,null,null,null,null,null,null,null,null,null,null,null,null,null,null,null,null,null,null,null,null,null,null,null,null,null,null,null,null,null,null,null,null,null,null,null,null,null,null,null,null,null,null,null,null,null,null,null,null,null,null,null,null,null,null,null,null,null,null,null,null,null,null,null,null,null,null,{"$f":"IF('3 - Alt Num Lanes Input'!AC54=0,1,'3 - Alt Num Lanes Input'!AC54)","v":1},null,null,{"$f":"'3 - Alt Num Lanes Input'!AE54","v":2},null,null,{"$f":"IF('3 - Alt Num Lanes Input'!AG54=0,1,'3 - Alt Num Lanes Input'!AG54)","v":1}]
[null,null,null,null,null,null,null,null,null,null,null,null,null,null,null,null,null,null,null,null,null,null,null,null,null,null,null,null,null,null,null,null,null,null,null,null,null,null,null,null,null,null,null,null,null,null,null,null,null,null,null,null,null,null,null,null,null,null,null,null,null,null,null,null,null,null,null,null,null,null,null,null,null,null,null,null,null,null,null,null,null,null,null,null,null,null,null,{"$f":"NBU_Master","v":0},null,null,{"$f":"'3 - Alt Num Lanes Input'!CM54","v":102},null,null,{"$f":"'3 - Alt Num Lanes Input'!CO54","v":510},null,null,{"$f":"'3 - Alt Num Lanes Input'!CQ54","v":204}]
[null,null,null,null,null,null,null,null,null,null,null,null,null,null,null,null,null,null,null,null,null,null,null,null,null,null,null,null,null,null,null,null,null,null,null,null,null,null,null,null,null,null,null,null,null,null,null,null,null,null,null,null,null,null,null,null,null,null,null,null,null,null,null,null,null,null,null,null,null,null,null,null,null,null,null,null,null,null,null,null,null,null,null,null,null,null,null,"pepch",null,null,"pepch",null,null,"pepch",null,null,"pepch"]
[null,null,null,null,{"$f":"BU40","v":185.63157894736844},null,null,null,null,null,null,null,null,"CLV",null,null,null,null,null,null,null,null,null,null,null,null,null,null,null,null,null,null,null,null,null,null,null,null,null,null,null,null,null,null,null,null,null,null,{"$f":"CL57","v":377.86842105263156},null,null,null,null,null,null,null,null,"CLV"]
[]
[]
[null,null,null,null,{"$f":"ROUND(E66/CLV_Limit_2,2)","v":0.1},null,null,null,"V/C",{"$f":"CLV_Limit_2","v":1800},null,null,null,"MAX",null,null,null,null,null,null,null,null,null,null,null,null,null,null,null,null,null,null,null,null,null,null,null,null,null,null,null,null,null,null,null,null,null,null,{"$f":"ROUND(AW66/CLV_Limit_2,2)","v":0.21},null,null,null,"V/C",{"$f":"CLV_Limit_2","v":1800},null,null,null,"MAX"]
[]
[]
[null,null,null,null,null,null,null,null,null,"2 Phases",null,null,null,null,null,null,null,null,null,null,null,null,null,null,null,null,null,null,null,null,null,null,null,null,null,null,null,null,null,null,null,null,null,null,null,null,null,null,null,null,null,null,null,"2 Phases"]
[]
[null,null,null,null,null,null,null,null,null,null,null,null,null,null,"Note: This diagram does not reflect the actual lane configuration of the Intersection"]

{"sheet":"RCUT N-S","index":30,"n_rows":74,"n_cols":112,"rows_kept":74,"cut":false,"hidden":false,"merged":[[0,1,1,60],[2,1,3,60],[5,2,6,9],[5,10,6,35],[5,36,6,59],[7,36,8,41],[7,42,8,47],[7,48,8,53],[7,54,8,59],[35,112,37,115],[38,70,40,73],[38,74,40,74],[7,2,8,9],[7,10,8,35],[9,2,10,9],[9,10,10,35],[11,2,12,9],[11,10,12,35],[9,36,12,47],[9,48,12,59],[35,70,37,73],[27,47,29,55],[27,56,29,56],[30,47,32,50],[30,51,32,51],[30,52,32,55],[30,56,32,56],[19,5,21,13],[19,14,21,14],[22,5,24,8],[22,9,24,9],[22,10,24,13],[22,14,24,14],[0,63,1,122],[2,63,3,122],[6,86,9,88],[10,86,10,88],[11,86,11,88],[12,86,12,88],[16,85,18,92],[16,95,16,97],[17,95,17,97],[18,95,18,97],[73,14,73,47],[19,85,21,92],[19,95,22,97],[25,83,28,85],[25,86,28,88],[25,89,28,91],[25,92,28,94],[31,83,31,85],[31,86,31,88],[31,89,31,91],[31,92,31,94],[32,70,34,73],[32,74,34,74],[32,75,34,75],[32,76,34,76],[29,83,29,85],[29,86,29,88],[29,89,29,91],[29,92,29,94],[30,83,30,85],[30,86,30,88],[30,89,30,91],[30,92,30,94],[41,70,43,73],[41,74,43,74],[41,75,43,75],[41,76,43,76],[41,99,43,106],[41,109,43,109],[41,110,43,110],[35,110,37,110],[35,111,37,111],[41,111,43,111],[38,75,40,75],[38,76,40,76],[38,79,40,86],[38,99,40,106],[38,109,40,109],[35,74,37,74],[35,75,37,75],[35,76,37,76],[35,79,37,86],[35,109,37,109],[41,112,43,115],[44,109,46,109],[44,110,46,110],[44,111,46,111],[44,112,46,115],[38,110,40,110],[38,111,40,111],[38,112,40,115],[49,91,49,93],[49,94,49,96],[49,97,49,99],[49,100,49,102],[50,91,53,93],[50,94,53,96],[50,97,53,99],[50,100,53,102],[47,91,47,93],[47,94,47,96],[47,97,47,99],[47,100,47,102],[48,91,48,93],[48,94,48,96],[48,97,48,99],[48,100,48,102],[66,97,66,99],[67,97,67,99],[68,97,68,99],[69,97,72,99],[56,88,59,90],[57,93,59,100],[60,88,60,90],[60,93,62,100],[61,88,61,90],[62,88,62,90],[33,52,33,56],[25,10,25,14],[62,10,62,14],[70,52,70,56],[64,47,66,55],[64,56,66,56],[67,47,69,50],[67,51,69,51],[67,52,69,55],[67,56,69,56],[56,5,58,13],[56,14,58,14],[59,5,61,8],[59,9,61,9],[59,10,61,13],[59,14,61,14]]}
[null,"Restricted Crossing U-Turn (N-S)",null,null,null,null,null,null,null,null,null,null,null,null,null,null,null,null,null,null,null,null,null,null,null,null,null,null,null,null,null,null,null,null,null,null,null,null,null,null,null,null,null,null,null,null,null,null,null,null,null,null,null,null,null,null,null,null,null,null,null,null,null,"Restricted Crossing U-Turn (N-S)"]
[]
[null,"Design and Results",null,null,null,null,null,null,null,null,null,null,null,null,null,null,null,null,null,null,null,null,null,null,null,null,null,null,null,null,null,null,null,null,null,null,null,null,null,null,null,null,null,null,null,null,null,null,null,null,null,null,null,null,null,null,null,null,null,null,null,null,null,"Data Input and Configuration"]
[]
[]
[null,null,"Project Name:",null,null,null,null,null,null,null,{"$f":"P_Name","v":"Cap-X Sample Street"},null,null,null,null,null,null,null,null,null,null,null,null,null,null,null,null,null,null,null,null,null,null,null,null,null,"Volume-to-Capacity Ratio"]
[]
[null,null,"Project Number:",null,null,null,null,null,null,null,{"$f":"P_Number","v":10000},null,null,null,null,null,null,null,null,null,null,null,null,null,null,null,null,null,null,null,null,null,null,null,null,null,"< 0.750",null,null,null,null,null,"0.750 - 0.875",null,null,null,null,null,"0.875 - 1.00",null,null,null,null,null,"≥ 1.00"]
[]
[null,null,"Location",null,null,null,null,null,null,null,{"$f":"Location","v":"Tallahassee, FL"},null,null,null,null,null,null,null,null,null,null,null,null,null,null,null,null,null,null,null,null,null,null,null,null,null,"VOLUME / CAPACITY RATIO:",null,null,null,null,null,null,null,null,null,null,null,{"$f":"MAX(F23,AV31,F60,AV68)","v":0.45}]
[null,null,null,null,null,null,null,null,null,null,null,null,null,null,null,null,null,null,null,null,null,null,null,null,null,null,null,null,null,null,null,null,null,null,null,null,null,null,null,null,null,null,null,null,null,null,null,null,null,null,null,null,null,null,null,null,null,null,null,null,null,null,null,null,null,null,null,null,null,null,null,null,null,null,null,null,null,null,null,null,null,null,null,null,null,null,"pepch"]
[null,null,"Date",null,null,null,null,null,null,null,{"$f":"Date","v":"2017 AM"},null,null,null,null,null,null,null,null,null,null,null,null,null,null,null,null,null,null,null,null,null,null,null,null,null,null,null,null,null,null,null,null,null,null,null,null,null,null,null,null,null,null,null,null,null,null,null,null,null,null,null,null,null,null,null,null,null,null,null,null,null,null,null,null,null,null,null,null,null,null,null,null,null,null,null,{"$f":"CF31+CI31+CL31+CO31","v":816}]
[null,null,null,null,null,null,null,null,null,null,null,null,null,null,null,null,null,null,null,null,null,null,null,null,null,null,null,null,null,null,null,null,null,null,null,null,null,null,null,null,null,null,null,null,null,null,null,null,null,null,null,null,null,null,null,null,null,null,null,null,null,null,null,null,null,null,null,null,null,null,null,null,null,null,null,null,null,null,null,null,null,null,null,null,null,null,{"$f":"'3 - Alt Num Lanes Input'!AM56","v":2}]
[]
[]
[]
[null,null,null,null,null,null,null,null,null,null,null,null,null,null,null,null,null,null,null,null,null,null,null,null,null,null,null,null,null,null,null,null,null,null,null,null,null,null,null,null,null,null,null,null,null,null,null,null,null,null,null,null,null,null,null,null,null,null,null,null,null,null,null,null,null,null,null,null,null,null,null,null,null,null,null,null,null,null,null,null,null,null,null,null,null,null,null,null,null,null,null,null,null,null,null,{"$f":"IF('3 - Alt Num Lanes Input'!AA56=0,1,'3 - Alt Num Lanes Input'!AA56)","v":1}]
[null,null,null,null,null,null,null,null,null,null,null,null,null,null,null,null,null,null,null,null,null,null,null,null,null,null,null,null,null,null,null,null,null,null,null,null,null,null,null,null,null,null,null,null,null,null,null,null,null,null,null,null,null,null,null,null,null,null,null,null,null,null,null,null,null,null,null,null,null,null,null,null,null,null,null,null,null,null,null,null,null,null,null,null,null,null,null,null,null,null,null,null,null,null,null,{"$f":"DG39+DG42+DG45+CN49","v":235}]
[null,null,null,null,null,null,null,null,null,null,null,null,null,null,null,null,null,null,null,null,null,null,null,null,null,null,null,null,null,null,null,null,null,null,null,null,null,null,null,null,null,null,null,null,null,null,null,null,null,null,null,null,null,null,null,null,null,null,null,null,null,null,null,null,null,null,null,null,null,null,null,null,null,null,null,null,null,null,null,null,null,null,null,null,null,null,null,null,null,null,null,null,null,null,null,"pepch"]
[null,null,null,null,null,{"$f":"CH20","v":701.75},null,null,null,null,null,null,null,null,"CLV",null,null,null,null,null,null,null,null,null,null,null,null,null,null,null,null,null,null,null,null,null,null,null,null,null,null,null,null,null,null,null,null,null,null,null,null,null,null,null,null,null,null,null,null,null,null,null,null,null,null,null,null,null,null,null,null,null,null,null,null,null,null,null,null,null,null,null,null,null,null,{"$f":"+(CI12/CI13 + CR18/UTAF/CR17)","v":701.75}]
[]
[]
[null,null,null,null,null,{"$f":"ROUND(F20/CLV_Limit_2,2)","v":0.39},null,null,null,"V/C",{"$f":"CLV_Limit_2","v":1800},null,null,null,"MAX"]
[]
[]
[null,null,null,null,null,null,null,null,null,null,"2 Phases"]
[]
[null,null,null,null,null,null,null,null,null,null,null,null,null,null,null,null,null,null,null,null,null,null,null,null,null,null,null,null,null,null,null,null,null,null,null,null,null,null,null,null,null,null,null,null,null,null,null,{"$f":"CV42","v":816.47058823529414},null,null,null,null,null,null,null,null,"CLV"]
[]
[null,null,null,null,null,null,null,null,null,null,null,null,null,null,null,null,null,null,null,null,null,null,null,null,null,null,null,null,null,null,null,null,null,null,null,null,null,null,null,null,null,null,null,null,null,null,null,null,null,null,null,null,null,null,null,null,null,null,null,null,null,null,null,null,null,null,null,null,null,null,null,null,null,null,null,null,null,null,null,null,null,null,null,"pepch",null,null,"pepch",null,null,"pepch",null,null,"pepch"]
[null,null,null,null,null,null,null,null,null,null,null,null,null,null,null,null,null,null,null,null,null,null,null,null,null,null,null,null,null,null,null,null,null,null,null,null,null,null,null,null,null,null,null,null,null,null,null,{"$f":"ROUND(AV28/CLV_Limit_2,2)","v":0.45},null,null,null,"V/C",{"$f":"CLV_Limit_2","v":1800},null,null,null,"MAX",null,null,null,null,null,null,null,null,null,null,null,null,null,null,null,null,null,null,null,null,null,null,null,null,null,null,{"$f":"SBR_Master","v":204},null,null,{"$f":"SBT_Master","v":510},null,null,{"$f":"SBL_Master","v":102},null,null,{"$f":"SBU_Master","v":0}]
[null,null,null,null,null,null,null,null,null,null,null,null,null,null,null,null,null,null,null,null,null,null,null,null,null,null,null,null,null,null,null,null,null,null,null,null,null,null,null,null,null,null,null,null,null,null,null,null,null,null,null,null,null,null,null,null,null,null,null,null,null,null,null,null,null,null,null,null,null,null,null,null,null,null,null,null,null,null,null,null,null,null,null,{"$f":"IF('3 - Alt Num Lanes Input'!AO56=0,1,'3 - Alt Num Lanes Input'!AO56)","v":1},null,null,{"$f":"'3 - Alt Num Lanes Input'!AM56","v":2},null,null,{"$f":"IF('3 - Alt Num Lanes Input'!AK56=0,1,'3 - Alt Num Lanes Input'!AK56)","v":1}]
[null,null,null,null,null,null,null,null,null,null,null,null,null,null,null,null,null,null,null,null,null,null,null,null,null,null,null,null,null,null,null,null,null,null,null,null,null,null,null,null,null,null,null,null,null,null,null,null,null,null,null,null,null,null,null,null,null,null,null,null,null,null,null,null,null,null,null,null,null,null,null,null,null,null,"pepch",{"$f":"EBU_Master","v":0}]
[null,null,null,null,null,null,null,null,null,null,null,null,null,null,null,null,null,null,null,null,null,null,null,null,null,null,null,null,null,null,null,null,null,null,null,null,null,null,null,null,null,null,null,null,null,null,null,null,null,null,null,null,"2 Phases"]
[]
[null,null,null,null,null,null,null,null,null,null,null,null,null,null,null,null,null,null,null,null,null,null,null,null,null,null,null,null,null,null,null,null,null,null,null,null,null,null,null,null,null,null,null,null,null,null,null,null,null,null,null,null,null,null,null,null,null,null,null,null,null,null,null,null,null,null,null,null,null,null,null,null,null,null,"pepch",{"$f":"EBL_Master","v":31},null,null,null,null,null,null,null,null,null,null,null,null,null,null,null,null,null,null,null,null,null,null,null,null,null,null,null,null,null,null,null,null,null,{"$f":"IF('3 - Alt Num Lanes Input'!BE56=0,1,'3 - Alt Num Lanes Input'!BE56)","v":1},{"$f":"WBR_Master","v":51},"pepch"]
[]
[]
[null,null,null,null,null,null,null,null,null,null,null,null,null,null,null,null,null,null,null,null,null,null,null,null,null,null,null,null,null,null,null,null,null,null,null,null,null,null,null,null,null,null,null,null,null,null,null,null,null,null,null,null,null,null,null,null,null,null,null,null,null,null,null,null,null,null,null,null,null,null,null,null,null,null,"pepch",{"$f":"EBT_Master","v":204},null,null,null,{"$f":"+(MAX((CI31+CO31+DG42+CN49)/CI32,(CF31+DG39)/RTAF/CF32) + MAX((BX42+BX39+BX36+BX33)/RTAF/BY42, (CQ49+BX33)/LTAF/CQ48))","v":816.47058823529414},null,null,null,null,null,null,null,null,null,null,null,null,null,null,null,null,null,null,null,null,null,null,null,null,null,null,null,null,null,null,{"$f":"WBT_Master","v":204},"pepch"]
[]
[]
[null,null,null,null,null,null,null,null,null,null,null,null,null,null,null,null,null,null,null,null,null,null,null,null,null,null,null,null,null,null,null,null,null,null,null,null,null,null,null,null,null,null,null,null,null,null,null,null,null,null,null,null,null,null,null,null,null,null,null,null,null,null,null,null,null,null,null,null,null,null,null,null,null,null,"pepch",{"$f":"EBR_Master","v":51},{"$f":"IF('3 - Alt Num Lanes Input'!AW56=0,1,'3 - Alt Num Lanes Input'!AW56)","v":1},null,null,null,null,null,null,null,null,null,null,null,null,null,null,null,null,null,null,null,null,null,null,{"$f":"+(MAX((CT49+CN49+BX36+CO31)/CT48,(CW49+BX39)/RTAF/CW48)+MAX((DG36+DG39+DG42+DG45)/RTAF/DF36,(CL31+DG45)/LTAF/CL32))","v":816.47058823529414},null,null,null,null,null,null,null,null,null,null,{"$f":"WBL_Master","v":31},"pepch"]
[]
[]
[null,null,null,null,null,null,null,null,null,null,null,null,null,null,null,null,null,null,null,null,null,null,null,null,null,null,null,null,null,null,null,null,null,null,null,null,null,null,null,null,null,null,null,null,null,null,null,null,null,null,null,null,null,null,null,null,null,null,null,null,null,null,null,null,null,null,null,null,null,null,null,null,null,null,null,null,null,null,null,null,null,null,null,null,null,null,null,null,null,null,null,null,null,null,null,null,null,null,null,null,null,null,null,null,null,null,null,null,null,null,{"$f":"WBU_Master","v":0},"pepch"]
[]
[]
[null,null,null,null,null,null,null,null,null,null,null,null,null,null,null,null,null,null,null,null,null,null,null,null,null,null,null,null,null,null,null,null,null,null,null,null,null,null,null,null,null,null,null,null,null,null,null,null,null,null,null,null,null,null,null,null,null,null,null,null,null,null,null,null,null,null,null,null,null,null,null,null,null,null,null,null,null,null,null,null,null,null,null,null,null,null,null,null,null,null,null,null,null,null,{"$f":"IF('3 - Alt Num Lanes Input'!AC56=0,1,'3 - Alt Num Lanes Input'!AC56)","v":1},null,null,{"$f":"'3 - Alt Num Lanes Input'!AE56","v":2},null,null,{"$f":"IF('3 - Alt Num Lanes Input'!AG56=0,1,'3 - Alt Num Lanes Input'!AG56)","v":1}]
[null,null,null,null,null,null,null,null,null,null,null,null,null,null,null,null,null,null,null,null,null,null,null,null,null,null,null,null,null,null,null,null,null,null,null,null,null,null,null,null,null,null,null,null,null,null,null,null,null,null,null,null,null,null,null,null,null,null,null,null,null,null,null,null,null,null,null,null,null,null,null,null,null,null,null,null,null,null,null,null,null,null,null,null,null,null,null,null,null,null,null,{"$f":"NBU_Master","v":0},null,null,{"$f":"NBL_Master","v":102},null,null,{"$f":"NBT_Master","v":510},null,null,{"$f":"NBR_Master","v":204}]
[null,null,null,null,null,null,null,null,null,null,null,null,null,null,null,null,null,null,null,null,null,null,null,null,null,null,null,null,null,null,null,null,null,null,null,null,null,null,null,null,null,null,null,null,null,null,null,null,null,null,null,null,null,null,null,null,null,null,null,null,null,null,null,null,null,null,null,null,null,null,null,null,null,null,null,null,null,null,null,null,null,null,null,null,null,null,null,null,null,null,null,"pepch",null,null,"pepch",null,null,"pepch",null,null,{"$f":"NBR_Master","v":204}]
[]
[]
[]
[]
[]
[]
[null,null,null,null,null,{"$f":"CB39","v":816.47058823529414},null,null,null,null,null,null,null,null,"CLV"]
[]
[]
[null,null,null,null,null,{"$f":"ROUND(F57/CLV_Limit_2,2)","v":0.45},null,null,null,"V/C",{"$f":"CLV_Limit_2","v":1800},null,null,null,"MAX"]
[null,null,null,null,null,null,null,null,null,null,null,null,null,null,null,null,null,null,null,null,null,null,null,null,null,null,null,null,null,null,null,null,null,null,null,null,null,null,null,null,null,null,null,null,null,null,null,null,null,null,null,null,null,null,null,null,null,null,null,null,null,null,null,null,null,null,null,null,null,null,null,null,null,null,null,null,null,null,null,null,null,null,null,null,null,null,null,null,"pepch",null,null,null,null,{"$f":"+(CT68/CT67 +CK62/UTAF/CK63)","v":701.75}]
[null,null,null,null,null,null,null,null,null,null,null,null,null,null,null,null,null,null,null,null,null,null,null,null,null,null,null,null,null,null,null,null,null,null,null,null,null,null,null,null,null,null,null,null,null,null,null,null,null,null,null,null,null,null,null,null,null,null,null,null,null,null,null,null,null,null,null,null,null,null,null,null,null,null,null,null,null,null,null,null,null,null,null,null,null,null,null,null,{"$f":"CO31+BX36+BX39+BX33","v":235}]
[null,null,null,null,null,null,null,null,null,null,"2 Phases",null,null,null,null,null,null,null,null,null,null,null,null,null,null,null,null,null,null,null,null,null,null,null,null,null,null,null,null,null,null,null,null,null,null,null,null,null,null,null,null,null,null,null,null,null,null,null,null,null,null,null,null,null,null,null,null,null,null,null,null,null,null,null,null,null,null,null,null,null,null,null,null,null,null,null,null,null,{"$f":"IF('3 - Alt Num Lanes Input'!AI56=0,1,'3 - Alt Num Lanes Input'!AI56)","v":1}]
[]
[null,null,null,null,null,null,null,null,null,null,null,null,null,null,null,null,null,null,null,null,null,null,null,null,null,null,null,null,null,null,null,null,null,null,null,null,null,null,null,null,null,null,null,null,null,null,null,{"$f":"CP61","v":701.75},null,null,null,null,null,null,null,null,"CLV"]
[]
[null,null,null,null,null,null,null,null,null,null,null,null,null,null,null,null,null,null,null,null,null,null,null,null,null,null,null,null,null,null,null,null,null,null,null,null,null,null,null,null,null,null,null,null,null,null,null,null,null,null,null,null,null,null,null,null,null,null,null,null,null,null,null,null,null,null,null,null,null,null,null,null,null,null,null,null,null,null,null,null,null,null,null,null,null,null,null,null,null,null,null,null,null,null,null,null,null,{"$f":"'3 - Alt Num Lanes Input'!AE56","v":2}]
[null,null,null,null,null,null,null,null,null,null,null,null,null,null,null,null,null,null,null,null,null,null,null,null,null,null,null,null,null,null,null,null,null,null,null,null,null,null,null,null,null,null,null,null,null,null,null,{"$f":"ROUND(AV65/CLV_Limit_2,2)","v":0.39},null,null,null,"V/C",{"$f":"CLV_Limit_2","v":1800},null,null,null,"MAX",null,null,null,null,null,null,null,null,null,null,null,null,null,null,null,null,null,null,null,null,null,null,null,null,null,null,null,null,null,null,null,null,null,null,null,null,null,null,null,null,{"$f":"CN49+CQ49+CT49+CW49","v":816}]
[null,null,null,null,null,null,null,null,null,null,null,null,null,null,null,null,null,null,null,null,null,null,null,null,null,null,null,null,null,null,null,null,null,null,null,null,null,null,null,null,null,null,null,null,null,null,null,null,null,null,null,null,null,null,null,null,null,null,null,null,null,null,null,null,null,null,null,null,null,null,null,null,null,null,null,null,null,null,null,null,null,null,null,null,null,null,null,null,null,null,null,null,null,null,null,null,null,"pepch"]
[]
[null,null,null,null,null,null,null,null,null,null,null,null,null,null,null,null,null,null,null,null,null,null,null,null,null,null,null,null,null,null,null,null,null,null,null,null,null,null,null,null,null,null,null,null,null,null,null,null,null,null,null,null,"2 Phases"]
[]
[]
[null,null,null,null,null,null,null,null,null,null,null,null,null,null,"Note: This diagram does not reflect the actual lane configuration of the Intersection"]

{"sheet":"RCUT E-W","index":31,"n_rows":105,"n_cols":74,"rows_kept":105,"cut":false,"hidden":false,"merged":[[9,2,10,9],[9,10,10,54],[11,2,12,9],[11,10,12,54],[9,55,12,66],[9,67,12,78],[16,58,18,66],[16,67,18,67],[16,15,18,23],[16,24,18,24],[0,1,1,79],[2,1,3,79],[5,2,6,9],[5,10,6,54],[5,55,6,78],[7,55,8,60],[7,61,8,66],[7,67,8,72],[7,73,8,78],[7,2,8,9],[7,10,8,54],[73,40,75,47],[67,38,67,40],[67,41,67,43],[67,44,67,46],[67,47,67,49],[68,38,68,40],[68,41,68,43],[68,44,68,46],[68,47,68,49],[19,58,21,61],[19,62,21,62],[19,63,21,66],[19,67,21,67],[19,15,21,18],[19,19,21,19],[19,20,21,23],[19,24,21,24],[69,38,69,40],[69,41,69,43],[69,44,69,46],[69,47,69,49],[54,23,54,57],[48,13,50,21],[48,22,50,22],[51,13,53,16],[51,17,53,17],[51,18,53,21],[51,22,53,22],[54,63,54,67],[54,18,54,22],[22,20,22,24],[22,63,22,67],[56,1,57,79],[79,70,81,70],[79,71,81,71],[79,72,81,75],[81,14,83,14],[81,15,83,15],[81,16,83,16],[81,17,83,20],[82,50,84,50],[76,50,78,50],[76,51,78,51],[76,52,78,52],[76,53,78,56],[79,50,81,50],[79,51,81,51],[79,52,81,52],[79,53,81,56],[82,59,84,66],[84,24,86,27],[84,28,86,28],[84,29,86,29],[84,30,86,30],[85,50,87,50],[85,51,87,51],[79,59,81,66],[79,69,81,69],[85,52,87,52],[85,53,87,56],[87,14,89,21],[87,24,89,27],[87,28,89,28],[87,29,89,29],[87,30,89,30],[82,51,84,51],[82,52,84,52],[82,53,84,56],[88,60,90,63],[88,64,90,64],[88,65,90,65],[88,66,90,66],[90,5,92,8],[90,9,92,9],[90,10,92,10],[90,11,92,11],[90,14,92,21],[90,24,92,27],[105,31,108,33],[105,34,108,36],[105,37,108,39],[96,33,98,40],[102,31,102,33],[102,34,102,36],[102,37,102,39],[102,40,102,42],[90,28,92,28],[90,29,92,29],[90,30,92,30],[93,24,95,27],[93,28,95,28],[93,29,95,29],[93,30,95,30],[93,33,95,40],[76,40,78,47],[105,40,108,42],[103,31,103,33],[103,34,103,36],[103,37,103,39],[103,40,103,42],[104,31,104,33],[104,34,104,36],[104,37,104,39],[104,40,104,42],[58,1,59,79],[63,38,66,40],[63,41,66,43],[63,44,66,46],[63,47,66,49],[48,58,50,66],[48,67,50,67],[51,58,53,61],[51,62,53,62],[51,63,53,66],[51,67,53,67]]}
[null,"Restricted Crossing U-Turn (E-W)"]
[]
[null,"Design and Results"]
[]
[]
[null,null,"Project Name:",null,null,null,null,null,null,null,{"$f":"P_Name","v":"Cap-X Sample Street"},null,null,null,null,null,null,null,null,null,null,null,null,null,null,null,null,null,null,null,null,null,null,null,null,null,null,null,null,null,null,null,null,null,null,null,null,null,null,null,null,null,null,null,null,"Volume-to-Capacity Ratio"]
[]
[null,null,"Project Number:",null,null,null,null,null,null,null,{"$f":"P_Number","v":10000},null,null,null,null,null,null,null,null,null,null,null,null,null,null,null,null,null,null,null,null,null,null,null,null,null,null,null,null,null,null,null,null,null,null,null,null,null,null,null,null,null,null,null,null,"< 0.750",null,null,null,null,null,"0.750 - 0.875",null,null,null,null,null,"0.875 - 1.00",null,null,null,null,null,"≥ 1.00"]
[]
[null,null,"Location",null,null,null,null,null,null,null,{"$f":"Location","v":"Tallahassee, FL"},null,null,null,null,null,null,null,null,null,null,null,null,null,null,null,null,null,null,null,null,null,null,null,null,null,null,null,null,null,null,null,null,null,null,null,null,null,null,null,null,null,null,null,null,"VOLUME / CAPACITY RATIO:",null,null,null,null,null,null,null,null,null,null,null,{"$f":"MAX(P20,BG20,BG52,N52)","v":0.9}]
[]
[null,null,"Date",null,null,null,null,null,null,null,{"$f":"Date","v":"2017 AM"}]
[]
[]
[]
[]
[null,null,null,null,null,null,null,null,null,null,null,null,null,null,null,{"$f":"AO77","v":1620},null,null,null,null,null,null,null,null,"CLV",null,null,null,null,null,null,null,null,null,null,null,null,null,null,null,null,null,null,null,null,null,null,null,null,null,null,null,null,null,null,null,null,null,{"$f":"BH83","v":908},null,null,null,null,null,null,null,null,"CLV"]
[]
[]
[null,null,null,null,null,null,null,null,null,null,null,null,null,null,null,{"$f":"ROUND(P17/CLV_Limit_2,2)","v":0.9},null,null,null,"V/C",{"$f":"CLV_Limit_2","v":1800},null,null,null,"MAX",null,null,null,null,null,null,null,null,null,null,null,null,null,null,null,null,null,null,null,null,null,null,null,null,null,null,null,null,null,null,null,null,null,{"$f":"ROUND(BG17/CLV_Limit_2,2)","v":0.5},null,null,null,"V/C",{"$f":"CLV_Limit_2","v":1800},null,null,null,"MAX"]
[]
[]
[null,null,null,null,null,null,null,null,null,null,null,null,null,null,null,null,null,null,null,null,"2 Phases",null,null,null,null,null,null,null,null,null,null,null,null,null,null,null,null,null,null,null,null,null,null,null,null,null,null,null,null,null,null,null,null,null,null,null,null,null,null,null,null,null,null,"2 Phases"]
[]
[]
[]
[]
[]
[]
[]
[]
[]
[]
[]
[]
[]
[]
[]
[]
[]
[]
[]
[]
[]
[]
[]
[]
[]
[null,null,null,null,null,null,null,null,null,null,null,null,null,{"$f":"O91","v":908},null,null,null,null,null,null,null,null,"CLV",null,null,null,null,null,null,null,null,null,null,null,null,null,null,null,null,null,null,null,null,null,null,null,null,null,null,null,null,null,null,null,null,null,null,null,{"$f":"AH97","v":1620},null,null,null,null,null,null,null,null,"CLV"]
[]
[]
[null,null,null,null,null,null,null,null,null,null,null,null,null,{"$f":"ROUND(N49/CLV_Limit_2,2)","v":0.5},null,null,null,"V/C",{"$f":"CLV_Limit_2","v":1800},null,null,null,"MAX",null,null,null,null,null,null,null,null,null,null,null,null,null,null,null,null,null,null,null,null,null,null,null,null,null,null,null,null,null,null,null,null,null,null,null,{"$f":"ROUND(BG49/CLV_Limit_2,2)","v":0.9},null,null,null,"V/C",{"$f":"CLV_Limit_2","v":1800},null,null,null,"MAX"]
[]
[]
[null,null,null,null,null,null,null,null,null,null,null,null,null,null,null,null,null,null,"2 Phases",null,null,null,null,"Note: This diagram does not reflect the actual lane configuration of the Intersection",null,null,null,null,null,null,null,null,null,null,null,null,null,null,null,null,null,null,null,null,null,null,null,null,null,null,null,null,null,null,null,null,null,null,null,null,null,null,null,"2 Phases"]
[]
[null,"Restricted Crossing U-Turn (E-W)"]
[]
[null,"Data Input and Configuration"]
[]
[]
[]
[]
[]
[]
[]
[]
[null,null,null,null,null,null,null,null,null,null,null,null,null,null,null,null,null,null,null,null,null,null,null,null,null,null,null,null,null,null,null,null,null,null,null,null,null,null,"pepch",null,null,"pepch",null,null,"pepch",null,null,"pepch"]
[null,null,null,null,null,null,null,null,null,null,null,null,null,null,null,null,null,null,null,null,null,null,null,null,null,null,null,null,null,null,null,null,null,null,null,null,null,null,{"$f":"SBR_Master","v":204},null,null,{"$f":"SBT_Master","v":510},null,null,{"$f":"SBL_Master","v":102},null,null,{"$f":"SBU_Master","v":0}]
[null,null,null,null,null,null,null,null,null,null,null,null,null,null,null,null,null,null,null,null,null,null,null,null,null,null,null,null,null,null,null,null,null,null,null,null,null,null,{"$f":"IF('3 - Alt Num Lanes Input'!AO58=0,1,'3 - Alt Num Lanes Input'!AO58)","v":1}]
[]
[]
[]
[]
[]
[]
[null,null,null,null,null,null,null,null,null,null,null,null,null,null,null,null,null,null,null,null,null,null,null,null,null,null,null,null,null,null,null,null,null,null,null,null,null,null,null,null,{"$f":"+(MAX((AZ80+AI104+AD85+AZ86)/AY80,(AD94+AP69)/RTAF/AE94) + MAX((AM69+AP69+AS69+AV69)/RTAF/AM70, (AD88+AV69)/LTAF/AE88))","v":1620},null,null,null,null,null,null,null,null,null,{"$f":"IF('3 - Alt Num Lanes Input'!BE58=0,1,'3 - Alt Num Lanes Input'!BE58)","v":1},{"$f":"WBR_Master","v":51},"pepch"]
[]
[]
[null,null,null,null,null,null,null,null,null,null,null,null,null,null,null,null,null,null,null,null,null,null,null,null,null,null,null,null,null,null,null,null,null,null,null,null,null,null,null,null,null,null,null,null,null,null,null,null,null,null,{"$f":"'3 - Alt Num Lanes Input'!BC58","v":2},{"$f":"WBT_Master","v":204},"pepch",null,null,null,null,null,null,null,null,null,null,null,null,null,null,null,null,{"$f":"'3 - Alt Num Lanes Input'!BC58","v":2},{"$f":"AZ86+AZ83+AZ80+AZ77","v":286},"pepch"]
[]
[null,null,null,null,null,null,null,null,null,null,null,null,null,null,{"$f":"IF('3 - Alt Num Lanes Input'!AY58=0,1,'3 - Alt Num Lanes Input'!AY58)","v":1},{"$f":"AP69+AS69+AV69+AZ86","v":612},"pepch"]
[null,null,null,null,null,null,null,null,null,null,null,null,null,null,null,null,null,null,null,null,null,null,null,null,null,null,null,null,null,null,null,null,null,null,null,null,null,null,null,null,null,null,null,null,null,null,null,null,null,null,{"$f":"IF('3 - Alt Num Lanes Input'!BA58=0,1,'3 - Alt Num Lanes Input'!BA58)","v":1},{"$f":"WBL_Master","v":31},"pepch",null,null,null,null,null,null,{"$f":"+(BS80/BR80 + BN89/UTAF/BO89)","v":908}]
[]
[null,null,null,null,null,null,null,null,null,null,null,null,null,null,null,null,null,null,null,null,null,null,null,null,null,null,null,null,"pepch",{"$f":"EBU_Master","v":0}]
[null,null,null,null,null,null,null,null,null,null,null,null,null,null,null,null,null,null,null,null,null,null,null,null,null,null,null,null,null,null,null,null,null,null,null,null,null,null,null,null,null,null,null,null,null,null,null,null,null,null,null,{"$f":"WBU_Master","v":0},"pepch"]
[]
[null,null,null,null,null,null,null,null,null,null,null,null,null,null,null,null,null,null,null,null,null,null,null,null,null,null,null,null,"pepch",{"$f":"EBL_Master","v":31},{"$f":"IF('3 - Alt Num Lanes Input'!AS58=0,1,'3 - Alt Num Lanes Input'!AS58)","v":1}]
[null,null,null,null,null,null,null,null,null,null,null,null,null,null,null,null,null,null,null,null,null,null,null,null,null,null,null,null,null,null,null,null,null,null,null,null,null,null,null,null,null,null,null,null,null,null,null,null,null,null,null,null,null,null,null,null,null,null,null,null,null,null,null,null,"pepch",{"$f":"AL104+AI104+AF104+AD85","v":612},{"$f":"IF('3 - Alt Num Lanes Input'!AQ58=0,1,'3 - Alt Num Lanes Input'!AQ58)","v":1}]
[]
[null,null,null,null,null,null,null,null,null,"pepch",{"$f":"AD94+AD91+AD88+AD85","v":286},{"$f":"'3 - Alt Num Lanes Input'!AU58","v":2},null,null,{"$f":"+(K91/L91 +P82/UTAF/O82)","v":908},null,null,null,null,null,null,null,null,null,null,null,null,null,"pepch",{"$f":"EBT_Master","v":204},{"$f":"'3 - Alt Num Lanes Input'!AU58","v":2}]
[]
[]
[null,null,null,null,null,null,null,null,null,null,null,null,null,null,null,null,null,null,null,null,null,null,null,null,null,null,null,null,"pepch",{"$f":"EBR_Master","v":51},{"$f":"IF('3 - Alt Num Lanes Input'!AW58=0,1,'3 - Alt Num Lanes Input'!AW58)","v":1}]
[]
[]
[null,null,null,null,null,null,null,null,null,null,null,null,null,null,null,null,null,null,null,null,null,null,null,null,null,null,null,null,null,null,null,null,null,{"$f":"+(MAX((AD91+AS69+AZ86+AV69)/AE91,(AD94+AP69)/RTAF/AE94)+MAX((AO104+AF104+AI104+AL104)/RTAF/AO103,(AZ83+AF104)/LTAF/AY83))","v":1620}]
[]
[]
[]
[]
[]
[null,null,null,null,null,null,null,null,null,null,null,null,null,null,null,null,null,null,null,null,null,null,null,null,null,null,null,null,null,null,null,null,null,null,null,null,null,null,null,null,{"$f":"IF('3 - Alt Num Lanes Input'!AG58=0,1,'3 - Alt Num Lanes Input'!AG58)","v":1}]
[null,null,null,null,null,null,null,null,null,null,null,null,null,null,null,null,null,null,null,null,null,null,null,null,null,null,null,null,null,null,null,{"$f":"NBU_Master","v":0},null,null,{"$f":"NBL_Master","v":102},null,null,{"$f":"NBT_Master","v":510},null,null,{"$f":"NBR_Master","v":204}]
[null,null,null,null,null,null,null,null,null,null,null,null,null,null,null,null,null,null,null,null,null,null,null,null,null,null,null,null,null,null,null,"pepch",null,null,"pepch",null,null,"pepch",null,null,"pepch"]

{"sheet":"Unsig RCUT N-S","index":32,"n_rows":74,"n_cols":121,"rows_kept":74,"cut":false,"hidden":false,"merged":[[64,47,66,55],[64,56,66,56],[66,97,66,99],[56,5,58,13],[56,14,58,14],[56,88,59,90],[57,93,59,100],[59,5,61,8],[73,14,73,47],[67,47,69,50],[67,51,69,51],[67,52,69,55],[67,56,69,56],[67,97,67,99],[68,97,68,99],[69,97,72,99],[70,52,70,56],[59,9,61,9],[59,10,61,13],[59,14,61,14],[60,88,60,90],[60,93,62,100],[62,85,62,87],[62,82,62,84],[60,73,60,75],[61,73,61,75],[61,88,61,90],[62,10,62,14],[62,88,62,90],[44,69,46,69],[44,68,46,68],[44,67,46,67],[44,66,46,66],[48,88,48,90],[48,85,48,87],[47,65,49,65],[56,69,58,69],[56,68,58,68],[60,70,60,72],[61,70,61,72],[63,79,63,81],[64,79,64,81],[60,76,60,78],[49,94,49,96],[49,97,49,99],[50,91,53,93],[50,94,53,96],[50,97,53,99],[50,82,50,84],[51,82,51,84],[52,82,52,84],[61,76,61,78],[62,76,62,78],[63,76,63,78],[49,88,49,90],[49,85,49,87],[50,85,50,87],[49,91,49,93],[60,79,60,81],[61,79,61,81],[62,79,62,81],[33,52,33,56],[35,70,37,73],[35,74,37,74],[35,75,37,75],[35,76,37,76],[35,79,37,86],[41,70,43,73],[41,74,43,74],[41,75,43,75],[41,76,43,76],[32,75,34,75],[32,76,34,76],[30,47,32,50],[30,51,32,51],[30,52,32,55],[30,56,32,56],[30,83,30,85],[30,86,30,88],[30,89,30,91],[30,92,30,94],[22,14,24,14],[25,10,25,14],[25,83,28,85],[25,86,28,88],[25,89,28,91],[25,92,28,94],[27,47,29,55],[27,56,29,56],[29,83,29,85],[29,86,29,88],[31,83,31,85],[31,86,31,88],[31,89,31,91],[31,92,31,94],[32,70,34,73],[32,74,34,74],[17,95,17,97],[18,95,18,97],[19,5,21,13],[19,14,21,14],[19,85,21,92],[19,95,22,97],[22,5,24,8],[22,9,24,9],[22,10,24,13],[23,89,23,91],[24,89,24,91],[10,86,10,88],[11,2,12,9],[11,10,12,35],[11,86,11,88],[12,86,12,88],[16,85,18,92],[7,36,8,41],[7,42,8,47],[7,48,8,53],[7,54,8,59],[9,2,10,9],[9,10,10,35],[9,36,12,47],[9,48,12,59],[0,1,1,60],[0,63,1,122],[2,1,3,60],[2,63,3,122],[5,2,6,9],[5,10,6,35],[5,36,6,59],[6,86,9,88],[7,2,8,9],[7,10,8,35],[17,98,17,100],[18,98,18,100],[61,85,61,87],[16,98,16,100],[35,118,37,118],[41,67,43,67],[22,89,22,91],[56,94,56,96],[60,85,60,87],[17,101,17,103],[19,101,19,103],[18,101,18,103],[60,82,60,84],[61,82,61,84],[29,99,29,101],[30,99,30,101],[31,99,31,101],[35,116,37,116],[35,117,37,117],[41,68,43,68],[41,69,43,69],[54,94,54,96],[55,94,55,96],[16,95,16,97],[32,116,34,116],[32,117,34,117],[47,66,49,66],[47,67,49,67],[47,68,49,68],[47,69,49,69],[35,112,37,115],[38,70,40,73],[38,74,40,74],[38,75,40,75],[38,76,40,76],[38,79,40,86],[38,99,40,106],[41,99,43,106],[41,109,43,109],[35,109,37,109],[35,110,37,110],[35,111,37,111],[41,110,43,110],[41,111,43,111],[47,82,47,84],[47,91,47,93],[47,94,47,96],[47,97,47,99],[49,100,49,102],[50,100,53,102],[29,96,29,98],[30,96,30,98],[29,89,29,91],[29,92,29,94],[41,112,43,115],[44,109,46,109],[44,110,46,110],[44,111,46,111],[44,112,46,115],[38,109,40,109],[38,110,40,110],[38,111,40,111],[38,112,40,115],[16,104,16,106],[17,104,17,106],[18,104,18,106],[19,104,19,106],[20,104,20,106],[59,79,59,81],[17,107,17,109],[18,107,18,109],[19,107,19,109],[20,107,20,109],[29,105,29,107],[30,105,30,107],[31,105,31,107],[32,105,32,107],[48,79,48,81],[49,79,49,81],[50,79,50,81],[51,79,51,81],[20,101,20,103],[28,99,28,101],[47,85,47,87],[32,99,32,101],[51,85,51,87],[28,102,28,104],[29,120,31,120],[33,102,33,104],[21,104,21,106],[26,116,28,116],[26,117,28,117],[26,118,28,118],[26,119,28,119],[50,66,52,66],[50,67,52,67],[50,68,52,68],[50,69,52,69],[49,73,49,75],[29,102,29,104],[30,102,30,104],[31,102,31,104],[32,102,32,104],[48,82,48,84],[49,82,49,84],[29,116,31,116],[29,117,31,117],[29,118,31,118],[29,119,31,119],[29,115,31,115],[32,118,34,118],[32,119,34,119],[63,82,63,84],[17,110,17,112],[18,110,18,112],[29,108,29,110],[30,108,30,110],[23,116,25,116],[23,117,25,117],[53,68,55,68],[53,69,55,69],[48,76,48,78],[49,76,49,78],[17,113,17,115],[18,113,18,115],[29,111,29,113],[30,111,30,113],[20,116,22,116],[20,117,22,117],[48,73,48,75],[47,100,47,102],[48,91,48,93],[48,94,48,96],[48,97,48,99],[48,100,48,102]]}
[null,"Unsignalized Restricted Crossing U-Turn (N-S)",null,null,null,null,null,null,null,null,null,null,null,null,null,null,null,null,null,null,null,null,null,null,null,null,null,null,null,null,null,null,null,null,null,null,null,null,null,null,null,null,null,null,null,null,null,null,null,null,null,null,null,null,null,null,null,null,null,null,null,null,null,"Unsignalized Restricted Crossing U-Turn (N-S)"]
[]
[null,"Design and Results",null,null,null,null,null,null,null,null,null,null,null,null,null,null,null,null,null,null,null,null,null,null,null,null,null,null,null,null,null,null,null,null,null,null,null,null,null,null,null,null,null,null,null,null,null,null,null,null,null,null,null,null,null,null,null,null,null,null,null,null,null,"Data Input and Configuration"]
[]
[]
[null,null,"Project Name:",null,null,null,null,null,null,null,{"$f":"P_Name","v":"Cap-X Sample Street"},null,null,null,null,null,null,null,null,null,null,null,null,null,null,null,null,null,null,null,null,null,null,null,null,null,"Volume-to-Capacity Ratio"]
[]
[null,null,"Project Number:",null,null,null,null,null,null,null,{"$f":"P_Number","v":10000},null,null,null,null,null,null,null,null,null,null,null,null,null,null,null,null,null,null,null,null,null,null,null,null,null,"< 0.750",null,null,null,null,null,"0.750 - 0.875",null,null,null,null,null,"0.875 - 1.00",null,null,null,null,null,"≥ 1.00"]
[]
[null,null,"Location",null,null,null,null,null,null,null,{"$f":"Location","v":"Tallahassee, FL"},null,null,null,null,null,null,null,null,null,null,null,null,null,null,null,null,null,null,null,null,null,null,null,null,null,"VOLUME / CAPACITY RATIO:",null,null,null,null,null,null,null,null,null,null,null,{"$f":"MAX(F23,AV31,F60,AV68)","v":0.58924366590961619}]
[null,null,null,null,null,null,null,null,null,null,null,null,null,null,null,null,null,null,null,null,null,null,null,null,null,null,null,null,null,null,null,null,null,null,null,null,null,null,null,null,null,null,null,null,null,null,null,null,null,null,null,null,null,null,null,null,null,null,null,null,null,null,null,null,null,null,null,null,null,null,null,null,null,null,null,null,null,null,null,null,null,null,null,null,null,null,"pepch"]
[null,null,"Date",null,null,null,null,null,null,null,{"$f":"Date","v":"2017 AM"},null,null,null,null,null,null,null,null,null,null,null,null,null,null,null,null,null,null,null,null,null,null,null,null,null,null,null,null,null,null,null,null,null,null,null,null,null,null,null,null,null,null,null,null,null,null,null,null,null,null,null,null,null,null,null,null,null,null,null,null,null,null,null,null,null,null,null,null,null,null,null,null,null,null,null,{"$f":"CF31+CI31+CL31+CO31","v":816}]
[null,null,null,null,null,null,null,null,null,null,null,null,null,null,null,null,null,null,null,null,null,null,null,null,null,null,null,null,null,null,null,null,null,null,null,null,null,null,null,null,null,null,null,null,null,null,null,null,null,null,null,null,null,null,null,null,null,null,null,null,null,null,null,null,null,null,null,null,null,null,null,null,null,null,null,null,null,null,null,null,null,null,null,null,null,null,{"$f":"'3 - Alt Num Lanes Input'!AM60","v":2}]
[]
[]
[]
[null,null,null,null,null,null,null,null,null,null,null,null,null,null,null,null,null,null,null,null,null,null,null,null,null,null,null,null,null,null,null,null,null,null,null,null,null,null,null,null,null,null,null,null,null,null,null,null,null,null,null,null,null,null,null,null,null,null,null,null,null,null,null,null,null,null,null,null,null,null,null,null,null,null,null,null,null,null,null,null,null,null,null,null,null,null,null,null,null,null,null,null,null,null,null,{"$f":"'3 - Alt Num Lanes Input'!AA60","v":1},null,null,{"$f":"CI32","v":2}]
[null,null,null,null,null,null,null,null,null,null,null,null,null,null,null,null,null,null,null,null,null,null,null,null,null,null,null,null,null,null,null,null,null,null,null,null,null,null,null,null,null,null,null,null,null,null,null,null,null,null,null,null,null,null,null,null,null,null,null,null,null,null,null,null,null,null,null,null,null,null,null,null,null,null,null,null,null,null,null,null,null,null,null,null,null,null,null,null,null,null,null,null,null,null,null,{"$f":"DG39+DG42+DG45+CN49","v":235},null,null,{"$f":"CL25","v":816},null,null,"tc,base",null,null,"tc,HV",null,null,"tc",null,null,"Cp=Cm",null,null,"v/c"]
[null,null,null,null,null,null,null,null,null,null,null,null,null,null,null,null,null,null,null,null,null,null,null,null,null,null,null,null,null,null,null,null,null,null,null,null,null,null,null,null,null,null,null,null,null,null,null,null,null,null,null,null,null,null,null,null,null,null,null,null,null,null,null,null,null,null,null,null,null,null,null,null,null,null,null,null,null,null,null,null,null,null,null,null,null,null,null,null,null,null,null,null,null,null,null,"pepch",null,null,"Vc",null,null,4.4000000000000004,null,null,{"$f":"IF(CU17=1, 1,2)","v":2},null,null,{"$f":"CX19+(DA19*DA22)","v":4.4400000000000004},null,null,{"$f":"CU18*(EXP((-CU18*DD19/3600))/(1-EXP(-CU18*DD21/3600)))","v":666.07094380948342},null,null,{"$f":"CR18/DG19","v":0.35281527018121533}]
[null,null,null,null,null,{"$f":"CH20","v":816},null,null,null,null,null,null,null,null,"CLV",null,null,null,null,null,null,null,null,null,null,null,null,null,null,null,null,null,null,null,null,null,null,null,null,null,null,null,null,null,null,null,null,null,null,null,null,null,null,null,null,null,null,null,null,null,null,null,null,null,null,null,null,null,null,null,null,null,null,null,null,null,null,null,null,null,null,null,null,null,null,{"$f":"CU18","v":816},null,null,null,null,null,null,null,null,null,null,null,null,null,null,null,"tf,base",null,null,"tf,HV",null,null,"tf"]
[null,null,null,null,null,null,null,null,null,null,null,null,null,null,null,null,null,null,null,null,null,null,null,null,null,null,null,null,null,null,null,null,null,null,null,null,null,null,null,null,null,null,null,null,null,null,null,null,null,null,null,null,null,null,null,null,null,null,null,null,null,null,null,null,null,null,null,null,null,null,null,null,null,null,null,null,null,null,null,null,null,null,null,null,null,null,null,null,null,null,null,null,null,null,null,null,null,null,null,null,null,2.6,null,null,{"$f":"IF(CU17=1,0.9,1)","v":1},null,null,{"$f":"CX21+(DA21*DA22)","v":2.62},null,null,null,null,null,null,null,null,"v/c",{"$f":"(DG36+DG39+DG42+DG45)/DN24","v":0.58924366590961619}]
[null,null,null,null,null,null,null,null,null,null,null,null,null,null,null,null,null,null,null,null,null,null,null,null,null,null,null,null,null,null,null,null,null,null,null,null,null,null,null,null,null,null,null,null,null,null,null,null,null,null,null,null,null,null,null,null,null,null,null,null,null,null,null,null,null,null,null,null,null,null,null,null,null,null,null,null,null,null,null,null,null,null,null,null,null,null,null,null,null,null,null,null,null,null,null,null,null,null,null,null,null,null,null,null,{"$f":"'1 - Volume Input'!AQ38","v":0.02}]
[null,null,null,null,null,{"$f":"DJ19","v":0.35281527018121533},null,null,null,"V/C",{"$f":"DG19","v":666.07094380948342},null,null,null,"MAX",null,null,null,null,null,null,null,null,null,null,null,null,null,null,null,null,null,null,null,null,null,null,null,null,null,null,null,null,null,null,null,null,null,null,null,null,null,null,null,null,null,null,null,null,null,null,null,null,null,null,null,null,null,null,null,null,null,null,null,null,null,null,null,null,null,null,null,null,null,null,null,null,null,null,{"$f":"CT48","v":2}]
[null,null,null,null,null,null,null,null,null,null,null,null,null,null,null,null,null,null,null,null,null,null,null,null,null,null,null,null,null,null,null,null,null,null,null,null,null,null,null,null,null,null,null,null,null,null,null,null,null,null,null,null,null,null,null,null,null,null,null,null,null,null,null,null,null,null,null,null,null,null,null,null,null,null,null,null,null,null,null,null,null,null,null,null,null,null,null,null,null,"Vc",null,null,null,null,null,null,null,null,null,null,null,null,null,null,null,null,null,null,null,null,null,null,null,null,null,null,"Cp=Cm",{"$f":"DM36*(EXP((-DM36*DN27/3600))/(1-EXP(-DM36*DP27/3600)))","v":485.36796667725133}]
[null,null,null,null,null,null,null,null,null,null,null,null,null,null,null,null,null,null,null,null,null,null,null,null,null,null,null,null,null,null,null,null,null,null,null,null,null,null,null,null,null,null,null,null,null,null,null,null,null,null,null,null,null,null,null,null,null,null,null,null,null,null,null,null,null,null,null,null,null,null,null,null,null,null,null,null,null,null,null,null,null,null,null,null,null,null,null,null,null,{"$f":"SBL_Master+SBT_Master+SBR_Master+SBU_Master","v":816}]
[]
[null,null,null,null,null,null,null,null,null,null,null,null,null,null,null,null,null,null,null,null,null,null,null,null,null,null,null,null,null,null,null,null,null,null,null,null,null,null,null,null,null,null,null,null,null,null,null,null,null,null,null,null,null,null,null,null,null,null,null,null,null,null,null,null,null,null,null,null,null,null,null,null,null,null,null,null,null,null,null,null,null,null,null,null,null,null,null,null,null,null,null,null,null,null,null,null,null,null,null,null,null,null,null,null,null,null,null,null,null,null,null,null,null,null,null,null,"tc",{"$f":"DN33+(DN30*DQ30)","v":6.94},"tf",{"$f":"DP33+(DP30*DQ30)","v":3.32}]
[null,null,null,null,null,null,null,null,null,null,null,null,null,null,null,null,null,null,null,null,null,null,null,null,null,null,null,null,null,null,null,null,null,null,null,null,null,null,null,null,null,null,null,null,null,null,null,{"$f":"CV42","v":541},null,null,null,null,null,null,null,null,"CLV"]
[null,null,null,null,null,null,null,null,null,null,null,null,null,null,null,null,null,null,null,null,null,null,null,null,null,null,null,null,null,null,null,null,null,null,null,null,null,null,null,null,null,null,null,null,null,null,null,null,null,null,null,null,null,null,null,null,null,null,null,null,null,null,null,null,null,null,null,null,null,null,null,null,null,null,null,null,null,null,null,null,null,null,null,null,null,null,null,null,null,null,null,null,null,null,null,null,null,null,null,"SBLT"]
[null,null,null,null,null,null,null,null,null,null,null,null,null,null,null,null,null,null,null,null,null,null,null,null,null,null,null,null,null,null,null,null,null,null,null,null,null,null,null,null,null,null,null,null,null,null,null,null,null,null,null,null,null,null,null,null,null,null,null,null,null,null,null,null,null,null,null,null,null,null,null,null,null,null,null,null,null,null,null,null,null,null,null,"pepch",null,null,"pepch",null,null,"pepch",null,null,"pepch",null,null,null,"Vc",null,null,"tc,base",null,null,"tc,HV",null,null,"tc",null,null,"Cp=Cm",null,null,"v/c",null,null,null,null,"tc,HV",{"$f":"IF(DO36=1, 1,2)","v":2},"tf,HV",{"$f":"IF(DO36=1,0.9,1)","v":1},{"$f":"'1 - Volume Input'!AQ34","v":0.02}]
[null,null,null,null,null,null,null,null,null,null,null,null,null,null,null,null,null,null,null,null,null,null,null,null,null,null,null,null,null,null,null,null,null,null,null,null,null,null,null,null,null,null,null,null,null,null,null,{"$f":"MAX(DH31,DN21)","v":0.58924366590961619},null,null,null,"V/C",{"$f":"IF(Result_URCUT_NS_VC_Z3=DN21,DN24,DE31)","v":485.36796667725133},null,null,null,"MAX",null,null,null,null,null,null,null,null,null,null,null,null,null,null,null,null,null,null,null,null,null,null,null,null,null,null,{"$f":"SBR_Master","v":204},null,null,{"$f":"SBT_Master","v":510},null,null,{"$f":"SBL_Master","v":102},null,null,{"$f":"SBU_Master","v":0},null,null,null,{"$f":"NBT_Master+NBR_Master+NBU_Master+SBU_Master+EBT_Master+EBL_Master","v":949},null,null,{"$f":"IF(CL23=3, 5.3,4.1)","v":4.0999999999999996},null,null,{"$f":"IF(CL23=1, 1,2)","v":2},null,null,{"$f":"CV31+(CY31*CY34)","v":4.1399999999999997},null,null,{"$f":"CS31*(EXP((-CS31*DB31/3600))/(1-EXP(-CS31*DB33/3600)))","v":719.25131353681434},null,null,{"$f":"(CL31+DG45)/DE31","v":0.14181413100023377}]
[null,null,null,null,null,null,null,null,null,null,null,null,null,null,null,null,null,null,null,null,null,null,null,null,null,null,null,null,null,null,null,null,null,null,null,null,null,null,null,null,null,null,null,null,null,null,null,null,null,null,null,null,null,null,null,null,null,null,null,null,null,null,null,null,null,null,null,null,null,null,null,null,null,null,null,null,null,null,null,null,null,null,null,{"$f":"'3 - Alt Num Lanes Input'!AO60","v":1},null,null,{"$f":"'3 - Alt Num Lanes Input'!AM60","v":2},null,null,{"$f":"'3 - Alt Num Lanes Input'!AK60","v":1},null,null,null,null,null,null,null,null,null,"tf,base",null,null,"tf,HV",null,null,"tf"]
[null,null,null,null,null,null,null,null,null,null,null,null,null,null,null,null,null,null,null,null,null,null,null,null,null,null,null,null,null,null,null,null,null,null,null,null,null,null,null,null,null,null,null,null,null,null,null,null,null,null,null,null,null,null,null,null,null,null,null,null,null,null,null,null,null,null,null,null,null,null,null,null,null,null,"pepch",{"$f":"EBU_Master","v":0},null,null,null,null,null,null,null,null,null,null,null,null,null,null,null,null,null,null,null,null,null,null,null,{"$f":"IF(CL23=3,3.1,2.2)","v":2.2000000000000002},null,null,{"$f":"IF(CL23=1,0.9,1)","v":1},null,null,{"$f":"CV33+(CY33*CY34)","v":2.2200000000000002},null,null,null,null,null,null,null,null,null,null,"tc,base",{"$f":"IF(DO36=1,6.2,IF(DO36=2,6.9,7.1))","v":6.9},"tf,base",{"$f":"IF(DO36=3,3.9,3.3)","v":3.3}]
[null,null,null,null,null,null,null,null,null,null,null,null,null,null,null,null,null,null,null,null,null,null,null,null,null,null,null,null,null,null,null,null,null,null,null,null,null,null,null,null,null,null,null,null,null,null,null,null,null,null,null,null,null,null,null,null,null,null,null,null,null,null,null,null,null,null,null,null,null,null,null,null,null,null,null,null,null,null,null,null,null,null,null,null,null,null,null,null,null,null,null,null,null,null,null,null,null,null,null,null,null,null,{"$f":"'1 - Volume Input'!AQ36","v":0.02}]
[]
[null,null,null,null,null,null,null,null,null,null,null,null,null,null,null,null,null,null,null,null,null,null,null,null,null,null,null,null,null,null,null,null,null,null,null,null,null,null,null,null,null,null,null,null,null,null,null,null,null,null,null,null,null,null,null,null,null,null,null,null,null,null,null,null,null,null,null,null,null,null,null,null,null,null,"pepch",{"$f":"EBL_Master","v":31},null,null,null,null,null,null,null,null,null,null,null,null,null,null,null,null,null,null,null,null,null,null,null,null,null,null,null,null,null,null,null,null,null,{"$f":"'3 - Alt Num Lanes Input'!BE60","v":1},{"$f":"WBR_Master","v":51},"pepch",null,null,null,null,{"$f":"NBT_Master+NBU_Master+SBU_Master+EBL_Master+0.5*IF(CW48=0,NBR_Master+EBT_Master,0)","v":541},"Vc",{"$f":"CT48","v":2}]
[]
[]
[null,null,null,null,null,null,null,null,null,null,null,null,null,null,null,null,null,null,null,null,null,null,null,null,null,null,null,null,null,null,null,null,null,null,null,null,null,null,null,null,null,null,null,null,null,null,null,null,null,null,null,null,null,null,null,null,null,null,null,null,null,null,null,null,null,null,null,null,null,null,null,null,null,null,"pepch",{"$f":"EBT_Master","v":204},null,null,null,{"$f":"IF(Result_URCUT_NS_VC_Z4=BQ57,BR42,CK50)","v":541},null,null,null,null,null,null,null,null,null,null,null,null,null,null,null,null,null,null,null,null,null,null,null,null,null,null,null,null,null,null,{"$f":"WBT_Master","v":204},"pepch"]
[]
[]
[null,null,null,null,null,null,null,null,null,null,null,null,null,null,null,null,null,null,null,null,null,null,null,null,null,null,null,null,null,null,null,null,null,null,null,null,null,null,null,null,null,null,null,null,null,null,null,null,null,null,null,null,null,null,null,null,null,null,null,null,null,null,null,null,null,null,null,{"$f":"CI32","v":2},"Vc",{"$f":"SBT_Master+SBU_Master+NBU_Master+WBL_Master+0.5*IF(CF32=0,SBR_Master+WBT_Master,0)","v":541},null,null,null,null,"pepch",{"$f":"EBR_Master","v":51},{"$f":"'3 - Alt Num Lanes Input'!AW60","v":1},null,null,null,null,null,null,null,null,null,null,null,null,null,null,null,null,null,null,null,null,null,null,{"$f":"IF(Result_URCUT_NS_VC_Z3=DN21,DM36,CS31)","v":541},null,null,null,null,null,null,null,null,null,null,{"$f":"WBL_Master","v":31},"pepch"]
[]
[]
[null,null,null,null,null,null,null,null,null,null,null,null,null,null,null,null,null,null,null,null,null,null,null,null,null,null,null,null,null,null,null,null,null,null,null,null,null,null,null,null,null,null,null,null,null,null,null,null,null,null,null,null,null,null,null,null,null,null,null,null,null,null,null,null,null,null,{"$f":"IF(BP42=3,3.9,3.3)","v":3.3},"tf,base",{"$f":"IF(BP42=1,6.2,IF(BP42=2,6.9,7.1))","v":6.9},"tc,base",null,null,null,null,null,null,null,null,null,null,null,null,null,null,null,null,null,null,null,null,null,null,null,null,null,null,null,null,null,null,null,null,null,null,null,null,null,null,null,null,{"$f":"WBU_Master","v":0},"pepch"]
[]
[]
[null,null,null,null,null,null,null,null,null,null,null,null,null,null,null,null,null,null,null,null,null,null,null,null,null,null,null,null,null,null,null,null,null,null,null,null,null,null,null,null,null,null,null,null,null,null,null,null,null,null,null,null,null,null,null,null,null,null,null,null,null,null,null,null,null,{"$f":"'1 - Volume Input'!AQ32","v":0.02},{"$f":"IF(BP42=1,0.9,1)","v":1},"tf,HV",{"$f":"IF(BP42=1, 1,2)","v":2},"tc,HV",null,null,null,null,null,null,null,null,null,null,null,null,null,null,null,"NBLT",null,null,null,null,null,null,null,null,{"$f":"'3 - Alt Num Lanes Input'!AC60","v":1},null,null,{"$f":"'3 - Alt Num Lanes Input'!AE60","v":2},null,null,{"$f":"'3 - Alt Num Lanes Input'!AG60","v":1}]
[null,null,null,null,null,null,null,null,null,null,null,null,null,null,null,null,null,null,null,null,null,null,null,null,null,null,null,null,null,null,null,null,null,null,null,null,null,null,null,null,null,null,null,null,null,null,null,null,null,null,null,null,null,null,null,null,null,null,null,null,null,null,null,null,null,null,null,null,null,null,null,null,null,"v/c",null,null,"Cp=Cm",null,null,"tc",null,null,"tc,HV",null,null,"tc,base",null,null,"Vc",null,null,{"$f":"NBU_Master","v":0},null,null,{"$f":"NBL_Master","v":102},null,null,{"$f":"NBT_Master","v":510},null,null,{"$f":"NBR_Master","v":204}]
[null,null,null,null,null,null,null,null,null,null,null,null,null,null,null,null,null,null,null,null,null,null,null,null,null,null,null,null,null,null,null,null,null,null,null,null,null,null,null,null,null,null,null,null,null,null,null,null,null,null,null,null,null,null,null,null,null,null,null,null,null,null,null,null,null,null,null,null,null,null,null,null,null,{"$f":"(CQ49+BX33)/BY50","v":0.14181413100023377},null,null,{"$f":"CK50*(EXP((-CK50*CB50/3600))/(1-EXP(-CK50*CB52/3600)))","v":719.25131353681434},null,null,{"$f":"CH50+(CE50*CE53)","v":4.1399999999999997},null,null,{"$f":"IF(CQ57=1, 1,2)","v":2},null,null,{"$f":"IF(CQ57=3, 5.3,4.1)","v":4.0999999999999996},null,null,{"$f":"SBT_Master+SBR_Master+SBU_Master+NBU_Master+WBT_Master+WBL_Master","v":949},null,null,"pepch",null,null,"pepch",null,null,"pepch",null,null,"pepch"]
[null,null,null,null,null,null,null,null,null,null,null,null,null,null,null,null,null,null,null,null,null,null,null,null,null,null,null,null,null,null,null,null,null,null,null,null,null,null,null,null,null,null,null,null,null,null,null,null,null,null,null,null,null,null,null,null,null,null,null,null,null,null,null,null,null,null,{"$f":"BO45+(BO48*BN48)","v":3.32},"tf",{"$f":"BQ45+(BQ48*BN48)","v":6.94},"tc",null,null,null,null,null,null,null,null,null,"tf",null,null,"tf,HV",null,null,"tf,base"]
[null,null,null,null,null,null,null,null,null,null,null,null,null,null,null,null,null,null,null,null,null,null,null,null,null,null,null,null,null,null,null,null,null,null,null,null,null,null,null,null,null,null,null,null,null,null,null,null,null,null,null,null,null,null,null,null,null,null,null,null,null,null,null,null,null,null,null,null,null,null,null,null,null,null,null,null,null,null,null,{"$f":"CH52+(CE52*CE53)","v":2.2200000000000002},null,null,{"$f":"IF(CQ57=1,0.9,1)","v":1},null,null,{"$f":"IF(CQ57=3,3.1,2.2)","v":2.2000000000000002}]
[null,null,null,null,null,null,null,null,null,null,null,null,null,null,null,null,null,null,null,null,null,null,null,null,null,null,null,null,null,null,null,null,null,null,null,null,null,null,null,null,null,null,null,null,null,null,null,null,null,null,null,null,null,null,null,null,null,null,null,null,null,null,null,null,null,null,null,null,null,null,null,null,null,null,null,null,null,null,null,null,null,null,{"$f":"'1 - Volume Input'!AQ38","v":0.02}]
[null,null,null,null,null,null,null,null,null,null,null,null,null,null,null,null,null,null,null,null,null,null,null,null,null,null,null,null,null,null,null,null,null,null,null,null,null,null,null,null,null,null,null,null,null,null,null,null,null,null,null,null,null,null,null,null,null,null,null,null,null,null,null,null,null,null,null,null,{"$f":"BR42*(EXP((-BR42*BQ51/3600))/(1-EXP(-BR42*BO51/3600)))","v":485.36796667725133},"Cp=Cm"]
[null,null,null,null,null,null,null,null,null,null,null,null,null,null,null,null,null,null,null,null,null,null,null,null,null,null,null,null,null,null,null,null,null,null,null,null,null,null,null,null,null,null,null,null,null,null,null,null,null,null,null,null,null,null,null,null,null,null,null,null,null,null,null,null,null,null,null,null,null,null,null,null,null,null,null,null,null,null,null,null,null,null,null,null,null,null,null,null,null,null,null,null,null,null,{"$f":"NBL_Master+NBT_Master+NBR_Master+NBU_Master","v":816}]
[null,null,null,null,null,null,null,null,null,null,null,null,null,null,null,null,null,null,null,null,null,null,null,null,null,null,null,null,null,null,null,null,null,null,null,null,null,null,null,null,null,null,null,null,null,null,null,null,null,null,null,null,null,null,null,null,null,null,null,null,null,null,null,null,null,null,null,null,null,null,null,null,null,null,null,null,null,null,null,null,null,null,null,null,null,null,null,null,null,null,null,null,null,null,"Vc"]
[null,null,null,null,null,{"$f":"CB39","v":541},null,null,null,null,null,null,null,null,"CLV",null,null,null,null,null,null,null,null,null,null,null,null,null,null,null,null,null,null,null,null,null,null,null,null,null,null,null,null,null,null,null,null,null,null,null,null,null,null,null,null,null,null,null,null,null,null,null,null,null,null,null,null,null,{"$f":"(BX42+BX39+BX36+BX33)/BQ54","v":0.58924366590961619},"v/c",null,null,null,null,null,null,null,null,null,null,null,null,null,null,null,null,null,null,null,null,null,null,null,null,{"$f":"CI32","v":2}]
[]
[]
[null,null,null,null,null,{"$f":"MAX(BV50,BQ57)","v":0.58924366590961619},null,null,null,"V/C",{"$f":"IF(Result_URCUT_NS_VC_Z4=BQ57,BQ54,BW49)","v":485.36796667725133},null,null,null,"MAX"]
[null,null,null,null,null,null,null,null,null,null,null,null,null,null,null,null,null,null,null,null,null,null,null,null,null,null,null,null,null,null,null,null,null,null,null,null,null,null,null,null,null,null,null,null,null,null,null,null,null,null,null,null,null,null,null,null,null,null,null,null,null,null,null,null,null,null,null,null,null,null,"v/c",null,null,"Cp=Cm",null,null,"tc",null,null,"tc,HV",null,null,"tc,base",null,null,"Vc",null,null,"pepch",null,null,null,null,{"$f":"CH62","v":816}]
[null,null,null,null,null,null,null,null,null,null,null,null,null,null,null,null,null,null,null,null,null,null,null,null,null,null,null,null,null,null,null,null,null,null,null,null,null,null,null,null,null,null,null,null,null,null,null,null,null,null,null,null,null,null,null,null,null,null,null,null,null,null,null,null,null,null,null,null,null,null,{"$f":"CK62/BV62","v":0.35281527018121533},null,null,{"$f":"CH62*(EXP((-CH62*BY62/3600))/(1-EXP(-CH62*BY64/3600)))","v":666.07094380948342},null,null,{"$f":"CE62+(CB62*CB65)","v":4.4400000000000004},null,null,{"$f":"IF(CH63=1, 1,2)","v":2},null,null,4.4000000000000004,null,null,{"$f":"CQ55","v":816},null,null,{"$f":"CO31+BX36+BX39+BX33","v":235}]
[null,null,null,null,null,null,null,null,null,null,null,null,null,null,null,null,null,null,null,null,null,null,null,null,null,null,null,null,null,null,null,null,null,null,null,null,null,null,null,null,null,null,null,null,null,null,null,null,null,null,null,null,null,null,null,null,null,null,null,null,null,null,null,null,null,null,null,null,null,null,null,null,null,null,null,null,"tf",null,null,"tf,HV",null,null,"tf,base",null,null,{"$f":"CT48","v":2},null,null,{"$f":"'3 - Alt Num Lanes Input'!AI60","v":1}]
[null,null,null,null,null,null,null,null,null,null,null,null,null,null,null,null,null,null,null,null,null,null,null,null,null,null,null,null,null,null,null,null,null,null,null,null,null,null,null,null,null,null,null,null,null,null,null,null,null,null,null,null,null,null,null,null,null,null,null,null,null,null,null,null,null,null,null,null,null,null,null,null,null,null,null,null,{"$f":"CE64+(CB64*CB65)","v":2.62},null,null,{"$f":"IF(CH63=1,0.9,1)","v":1},null,null,2.6]
[null,null,null,null,null,null,null,null,null,null,null,null,null,null,null,null,null,null,null,null,null,null,null,null,null,null,null,null,null,null,null,null,null,null,null,null,null,null,null,null,null,null,null,null,null,null,null,{"$f":"CP61","v":816},null,null,null,null,null,null,null,null,"CLV",null,null,null,null,null,null,null,null,null,null,null,null,null,null,null,null,null,null,null,null,null,null,{"$f":"'1 - Volume Input'!AQ36","v":0.02}]
[]
[null,null,null,null,null,null,null,null,null,null,null,null,null,null,null,null,null,null,null,null,null,null,null,null,null,null,null,null,null,null,null,null,null,null,null,null,null,null,null,null,null,null,null,null,null,null,null,null,null,null,null,null,null,null,null,null,null,null,null,null,null,null,null,null,null,null,null,null,null,null,null,null,null,null,null,null,null,null,null,null,null,null,null,null,null,null,null,null,null,null,null,null,null,null,null,null,null,{"$f":"'3 - Alt Num Lanes Input'!AE60","v":2}]
[null,null,null,null,null,null,null,null,null,null,null,null,null,null,null,null,null,null,null,null,null,null,null,null,null,null,null,null,null,null,null,null,null,null,null,null,null,null,null,null,null,null,null,null,null,null,null,{"$f":"BS62","v":0.35281527018121533},null,null,null,"V/C",{"$f":"BV62","v":666.07094380948342},null,null,null,"MAX",null,null,null,null,null,null,null,null,null,null,null,null,null,null,null,null,null,null,null,null,null,null,null,null,null,null,null,null,null,null,null,null,null,null,null,null,null,null,null,null,{"$f":"CN49+CQ49+CT49+CW49","v":816}]
[null,null,null,null,null,null,null,null,null,null,null,null,null,null,null,null,null,null,null,null,null,null,null,null,null,null,null,null,null,null,null,null,null,null,null,null,null,null,null,null,null,null,null,null,null,null,null,null,null,null,null,null,null,null,null,null,null,null,null,null,null,null,null,null,null,null,null,null,null,null,null,null,null,null,null,null,null,null,null,null,null,null,null,null,null,null,null,null,null,null,null,null,null,null,null,null,null,"pepch"]
[]
[]
[]
[]
[null,null,null,null,null,null,null,null,null,null,null,null,null,null,"Note: This diagram does not reflect the actual lane configuration of the Intersection"]

{"sheet":"Unsig RCUT E-W","index":33,"n_rows":107,"n_cols":74,"rows_kept":107,"cut":false,"hidden":false,"merged":[[104,52,104,54],[105,49,105,51],[105,52,105,54],[90,29,92,29],[90,30,92,30],[106,49,106,51],[70,20,70,22],[70,23,70,25],[70,26,70,28],[70,29,70,31],[70,32,70,34],[70,35,70,37],[71,26,71,28],[71,29,71,31],[71,32,71,34],[71,35,71,37],[72,26,72,28],[72,29,72,31],[72,32,72,34],[73,29,73,31],[103,43,103,45],[103,46,103,48],[103,49,103,51],[93,24,95,27],[103,6,103,8],[103,9,103,11],[103,12,103,14],[103,15,103,17],[103,18,103,20],[104,12,104,14],[104,15,104,17],[104,18,104,20],[105,46,105,48],[105,12,105,14],[105,15,105,17],[105,18,105,20],[69,20,69,22],[69,59,69,61],[69,62,69,64],[69,65,69,67],[69,68,69,70],[69,35,69,37],[69,32,69,34],[69,29,69,31],[69,26,69,28],[69,23,69,25],[69,71,69,73],[70,59,70,61],[70,62,70,64],[70,65,70,67],[71,59,71,61],[71,62,71,64],[71,65,71,67],[72,62,72,64],[70,56,70,58],[69,56,69,58],[106,15,106,17],[104,21,104,23],[103,21,103,23],[94,63,96,63],[94,64,96,64],[94,65,96,65],[97,62,99,62],[97,63,99,63],[97,64,99,64],[97,65,99,65],[100,63,102,63],[100,64,102,64],[100,65,102,65],[101,18,101,20],[103,65,105,65],[106,65,108,65],[103,55,103,57],[103,58,103,60],[104,43,104,45],[104,46,104,48],[104,49,104,51],[102,21,102,23],[102,58,102,60],[103,52,103,54],[78,14,80,14],[78,15,80,15],[78,16,80,16],[66,15,68,15],[69,17,71,17],[72,15,74,15],[72,16,74,16],[72,17,74,17],[72,18,74,18],[75,15,77,15],[75,16,77,16],[75,17,77,17],[69,15,71,15],[69,16,71,16],[69,14,71,14],[100,66,102,66],[103,66,105,66],[75,14,77,14],[72,14,74,14],[102,43,102,45],[102,46,102,48],[102,49,102,51],[102,52,102,54],[102,55,102,57],[104,31,104,33],[104,34,104,36],[104,37,104,39],[104,40,104,42],[105,31,108,33],[105,34,108,36],[105,37,108,39],[105,40,108,42],[103,31,103,33],[103,34,103,36],[103,37,103,39],[103,40,103,42],[87,30,89,30],[106,66,108,66],[88,60,90,63],[93,28,95,28],[93,29,95,29],[93,30,95,30],[93,33,95,40],[96,33,98,40],[88,64,90,64],[88,65,90,65],[88,66,90,66],[87,29,89,29],[94,66,96,66],[97,66,99,66],[85,52,87,52],[85,53,87,56],[91,66,93,66],[91,65,93,65],[91,64,93,64],[102,6,102,8],[102,9,102,11],[102,12,102,14],[102,15,102,17],[102,18,102,20],[102,31,102,33],[102,34,102,36],[102,37,102,39],[102,40,102,42],[73,40,75,47],[76,40,78,47],[76,50,78,50],[76,51,78,51],[76,52,78,52],[76,53,78,56],[68,38,68,40],[68,41,68,43],[68,44,68,46],[68,47,68,49],[69,38,69,40],[69,41,69,43],[69,44,69,46],[69,47,69,49],[90,5,92,8],[90,9,92,9],[90,10,92,10],[90,11,92,11],[90,14,92,21],[90,24,92,27],[90,28,92,28],[87,14,89,21],[87,24,89,27],[87,28,89,28],[79,70,81,70],[79,71,81,71],[79,72,81,75],[81,14,83,14],[81,15,83,15],[81,16,83,16],[81,17,83,20],[82,50,84,50],[82,51,84,51],[82,52,84,52],[79,50,81,50],[79,51,81,51],[79,52,81,52],[79,53,81,56],[79,59,81,66],[79,69,81,69],[82,53,84,56],[82,59,84,66],[84,24,86,27],[84,28,86,28],[84,29,86,29],[84,30,86,30],[85,50,87,50],[85,51,87,51],[58,1,59,79],[63,38,66,40],[63,41,66,43],[63,44,66,46],[63,47,66,49],[67,38,67,40],[67,41,67,43],[67,44,67,46],[67,47,67,49],[63,14,65,14],[63,15,65,15],[66,14,68,14],[68,68,68,70],[68,71,68,73],[68,62,68,64],[68,65,68,67],[68,56,68,58],[67,59,67,61],[68,59,68,61],[51,63,53,66],[51,67,53,67],[54,18,54,22],[54,23,54,57],[54,63,54,67],[56,1,57,79],[51,13,53,16],[51,17,53,17],[51,18,53,21],[51,22,53,22],[51,58,53,61],[51,62,53,62],[19,63,21,66],[19,67,21,67],[22,20,22,24],[22,63,22,67],[48,13,50,21],[48,22,50,22],[48,58,50,66],[48,67,50,67],[16,15,18,23],[16,24,18,24],[16,58,18,66],[16,67,18,67],[19,15,21,18],[19,19,21,19],[19,20,21,23],[19,24,21,24],[19,58,21,61],[19,62,21,62],[7,73,8,78],[9,2,10,9],[9,10,10,54],[9,55,12,66],[9,67,12,78],[11,2,12,9],[11,10,12,54],[0,1,1,79],[2,1,3,79],[5,2,6,9],[5,10,6,54],[5,55,6,78],[7,2,8,9],[7,10,8,54],[7,55,8,60],[7,61,8,66],[7,67,8,72]]}
[null,"Unsignalized Restricted Crossing U-Turn (E-W)"]
[]
[null,"Design and Results"]
[]
[]
[null,null,"Project Name:",null,null,null,null,null,null,null,{"$f":"P_Name","v":"Cap-X Sample Street"},null,null,null,null,null,null,null,null,null,null,null,null,null,null,null,null,null,null,null,null,null,null,null,null,null,null,null,null,null,null,null,null,null,null,null,null,null,null,null,null,null,null,null,null,"Volume-to-Capacity Ratio"]
[]
[null,null,"Project Number:",null,null,null,null,null,null,null,{"$f":"P_Number","v":10000},null,null,null,null,null,null,null,null,null,null,null,null,null,null,null,null,null,null,null,null,null,null,null,null,null,null,null,null,null,null,null,null,null,null,null,null,null,null,null,null,null,null,null,null,"< 0.750",null,null,null,null,null,"0.750 - 0.875",null,null,null,null,null,"0.875 - 1.00",null,null,null,null,null,"≥ 1.00"]
[]
[null,null,"Location",null,null,null,null,null,null,null,{"$f":"Location","v":"Tallahassee, FL"},null,null,null,null,null,null,null,null,null,null,null,null,null,null,null,null,null,null,null,null,null,null,null,null,null,null,null,null,null,null,null,null,null,null,null,null,null,null,null,null,null,null,null,null,"VOLUME / CAPACITY RATIO:",null,null,null,null,null,null,null,null,null,null,null,{"$f":"MAX(P20,BG20,BG52,N52)","v":1.1827071618935139}]
[]
[null,null,"Date",null,null,null,null,null,null,null,{"$f":"Date","v":"2017 AM"}]
[]
[]
[]
[]
[null,null,null,null,null,null,null,null,null,null,null,null,null,null,null,{"$f":"AO77","v":306},null,null,null,null,null,null,null,null,"CLV",null,null,null,null,null,null,null,null,null,null,null,null,null,null,null,null,null,null,null,null,null,null,null,null,null,null,null,null,null,null,null,null,null,{"$f":"BH83","v":286},null,null,null,null,null,null,null,null,"CLV"]
[]
[]
[null,null,null,null,null,null,null,null,null,null,null,null,null,null,null,{"$f":"MAX(U71,G104)","v":1.1827071618935139},null,null,null,"V/C",{"$f":"IF(Result_URCUT_EW_VC_Z1=U71,X71,J104)","v":689.94255407533353},null,null,null,"MAX",null,null,null,null,null,null,null,null,null,null,null,null,null,null,null,null,null,null,null,null,null,null,null,null,null,null,null,null,null,null,null,null,null,{"$f":"BN107","v":0.57217127930046763},null,null,null,"V/C",{"$f":"BN104","v":1069.6097866852504},null,null,null,"MAX"]
[]
[]
[]
[]
[]
[]
[]
[]
[]
[]
[]
[]
[]
[]
[]
[]
[]
[]
[]
[]
[]
[]
[]
[]
[]
[]
[]
[]
[null,null,null,null,null,null,null,null,null,null,null,null,null,{"$f":"O91","v":286},null,null,null,null,null,null,null,null,"CLV",null,null,null,null,null,null,null,null,null,null,null,null,null,null,null,null,null,null,null,null,null,null,null,null,null,null,null,null,null,null,null,null,null,null,null,{"$f":"AH97","v":306},null,null,null,null,null,null,null,null,"CLV"]
[]
[]
[null,null,null,null,null,null,null,null,null,null,null,null,null,{"$f":"P64","v":0.57217127930046763},null,null,null,"V/C",{"$f":"P67","v":1069.6097866852504},null,null,null,"MAX",null,null,null,null,null,null,null,null,null,null,null,null,null,null,null,null,null,null,null,null,null,null,null,null,null,null,null,null,null,null,null,null,null,null,null,{"$f":"MAX(BG104,BT70)","v":1.1827071618935139},null,null,null,"V/C",{"$f":"IF(Result_URCUT_EW_VC_Z2=BG104,BD104,BQ70)","v":689.94255407533353},null,null,null,"MAX"]
[]
[]
[null,null,null,null,null,null,null,null,null,null,null,null,null,null,null,null,null,null,null,null,null,null,null,"Note: This diagram does not reflect the actual lane configuration of the Intersection"]
[]
[null,"Unsignalized Restricted Crossing U-Turn (E-W)"]
[]
[null,"Data Input and Configuration"]
[]
[]
[]
[]
[null,null,null,null,null,null,null,null,null,null,null,null,null,null,"v/c",{"$f":"P82/P67","v":0.57217127930046763}]
[]
[]
[null,null,null,null,null,null,null,null,null,null,null,null,null,null,"Cp=Cm",{"$f":"O79*(EXP((-O79*P70/3600))/(1-EXP(-O79*R70/3600)))","v":1069.6097866852504},null,null,null,null,null,null,null,null,null,null,null,null,null,null,null,null,null,null,null,null,null,null,null,null,null,null,null,null,null,null,null,null,null,null,null,null,null,null,null,null,null,null,null,null,"Zone 2"]
[null,null,null,null,null,null,null,null,null,null,null,null,null,null,null,null,null,null,null,null,null,null,null,null,null,null,null,null,null,null,null,null,null,null,null,null,null,null,"pepch",null,null,"pepch",null,null,"pepch",null,null,"pepch",null,null,null,null,null,null,null,null,null,null,null,"WBLT"]
[null,null,null,null,null,null,null,null,null,null,null,null,null,null,null,null,null,null,null,null,null,null,null,null,null,null,null,null,null,null,null,null,null,null,null,null,null,null,{"$f":"SBR_Master","v":204},null,null,{"$f":"SBT_Master","v":510},null,null,{"$f":"SBL_Master","v":102},null,null,{"$f":"SBU_Master","v":0},null,null,null,null,null,null,null,null,{"$f":"EBT_Master+EBR_Master+EBU_Master+WBU_Master+SBT_Master+SBL_Master","v":867},null,null,"tc,base",null,null,"tc,HV",null,null,"tc",null,null,"Cp=Cm",null,null,"v/c"]
[null,null,null,null,null,null,null,null,null,null,null,null,null,null,"tc",{"$f":"P76+(P73*S73)","v":4.4400000000000004},"tf",{"$f":"R76+(R73*S73)","v":2.62},null,null,"v/c",null,null,"Cp=Cm",null,null,"tc",null,null,"tc,HV",null,null,"tc,base",null,null,{"$f":"WBT_Master+WBU_Master+EBU_Master+NBL_Master+0.5*IF(AY77=0,WBR_Master+NBT_Master,0)","v":306},null,null,{"$f":"'3 - Alt Num Lanes Input'!AO62","v":1},null,null,null,null,null,null,null,null,null,null,null,null,null,null,null,null,null,"Vc",null,null,{"$f":"IF(BE71=3, 5.3,4.1)","v":4.0999999999999996},null,null,{"$f":"IF(BE71=1, 1,2)","v":2},null,null,{"$f":"BH70+(BK70*BK73)","v":4.1399999999999997},null,null,{"$f":"BE69*(EXP((-BE69*BN70/3600))/(1-EXP(-BE69*BN72/3600)))","v":772.45575313712186},null,null,{"$f":"(AZ83+AF104)/BQ70","v":4.0131748484106458E-2}]
[null,null,null,null,null,null,null,null,null,null,null,null,null,null,null,null,null,null,null,null,{"$f":"(AM69+AP69+AS69+AV69)/X71","v":1.1827071618935139},null,null,{"$f":"AJ70*(EXP((-AJ70*AA71/3600))/(1-EXP(-AJ70*AA73/3600)))","v":689.94255407533353},null,null,{"$f":"AG71+(AD71*AD74)","v":6.94},null,null,{"$f":"IF(AJ72=1, 1,2)","v":2},null,null,{"$f":"IF(AJ72=1,6.2,IF(AJ72=2,6.9,7.1))","v":6.9},null,null,"Vc",null,null,null,null,null,null,null,null,null,null,null,null,null,null,null,null,null,null,null,null,{"$f":"AE91","v":2},null,null,"tf,base",null,null,"tf,HV",null,null,"tf"]
[null,null,null,null,null,null,null,null,null,null,null,null,null,null,null,null,null,null,null,null,null,null,null,null,null,null,"tf",null,null,"tf,HV",null,null,"tf,base",null,null,{"$f":"AY80","v":2},null,null,null,null,null,null,null,null,null,null,null,null,null,null,null,null,null,null,null,null,null,null,null,{"$f":"IF(BE71=3,3.1,2.2)","v":2.2000000000000002},null,null,{"$f":"IF(BE71=1,0.9,1)","v":1},null,null,{"$f":"BH72+(BK72*BK73)","v":2.2200000000000002}]
[null,null,null,null,null,null,null,null,null,null,null,null,null,null,"tc,HV",{"$f":"IF(Q79=1, 1,2)","v":2},"tf,HV",{"$f":"IF(Q79=1,0.9,1)","v":1},{"$f":"'1 - Volume Input'!AQ34","v":0.02},null,null,null,null,null,null,null,{"$f":"AG73+(AD73*AD74)","v":3.32},null,null,{"$f":"IF(AJ72=1,0.9,1)","v":1},null,null,{"$f":"IF(AJ72=3,3.9,3.3)","v":3.3},null,null,null,null,null,null,null,null,null,null,null,null,null,null,null,null,null,null,null,null,null,null,null,null,null,null,null,null,null,{"$f":"'1 - Volume Input'!AQ34","v":0.02}]
[null,null,null,null,null,null,null,null,null,null,null,null,null,null,null,null,null,null,null,null,null,null,null,null,null,null,null,null,null,{"$f":"'1 - Volume Input'!AQ36","v":0.02}]
[]
[null,null,null,null,null,null,null,null,null,null,null,null,null,null,"tc,base",4.4000000000000004,"tf,base",2.6]
[null,null,null,null,null,null,null,null,null,null,null,null,null,null,null,null,null,null,null,null,null,null,null,null,null,null,null,null,null,null,null,null,null,null,null,null,null,null,null,null,{"$f":"IF(Result_URCUT_EW_VC_Z1=U71,AJ70,V103)","v":306},null,null,null,null,null,null,null,null,null,{"$f":"'3 - Alt Num Lanes Input'!BE62","v":1},{"$f":"WBR_Master","v":51},"pepch"]
[]
[null,null,null,null,null,null,null,null,null,null,null,null,null,null,{"$f":"EBL_Master+EBT_Master+EBR_Master+EBU_Master","v":286},"Vc",{"$f":"AE91","v":2}]
[null,null,null,null,null,null,null,null,null,null,null,null,null,null,null,null,null,null,null,null,null,null,null,null,null,null,null,null,null,null,null,null,null,null,null,null,null,null,null,null,null,null,null,null,null,null,null,null,null,null,{"$f":"'3 - Alt Num Lanes Input'!BC62","v":2},{"$f":"WBT_Master","v":204},"pepch",null,null,null,null,null,null,null,null,null,null,null,null,null,null,null,null,{"$f":"'3 - Alt Num Lanes Input'!BC62","v":2},{"$f":"AZ86+AZ83+AZ80+AZ77","v":286},"pepch"]
[]
[null,null,null,null,null,null,null,null,null,null,null,null,null,null,{"$f":"'3 - Alt Num Lanes Input'!AY62","v":1},{"$f":"AP69+AS69+AV69+AZ86","v":612},"pepch"]
[null,null,null,null,null,null,null,null,null,null,null,null,null,null,null,null,null,null,null,null,null,null,null,null,null,null,null,null,null,null,null,null,null,null,null,null,null,null,null,null,null,null,null,null,null,null,null,null,null,null,{"$f":"'3 - Alt Num Lanes Input'!BA62","v":1},{"$f":"WBL_Master","v":31},"pepch",null,null,null,null,null,null,{"$f":"BO92","v":286}]
[]
[null,null,null,null,null,null,null,null,null,null,null,null,null,null,null,null,null,null,null,null,null,null,null,null,null,null,null,null,"pepch",{"$f":"EBU_Master","v":0}]
[null,null,null,null,null,null,null,null,null,null,null,null,null,null,null,null,null,null,null,null,null,null,null,null,null,null,null,null,null,null,null,null,null,null,null,null,null,null,null,null,null,null,null,null,null,null,null,null,null,null,null,{"$f":"WBU_Master","v":0},"pepch"]
[]
[null,null,null,null,null,null,null,null,null,null,null,null,null,null,null,null,null,null,null,null,null,null,null,null,null,null,null,null,"pepch",{"$f":"EBL_Master","v":31},{"$f":"'3 - Alt Num Lanes Input'!AS62","v":1}]
[null,null,null,null,null,null,null,null,null,null,null,null,null,null,null,null,null,null,null,null,null,null,null,null,null,null,null,null,null,null,null,null,null,null,null,null,null,null,null,null,null,null,null,null,null,null,null,null,null,null,null,null,null,null,null,null,null,null,null,null,null,null,null,null,"pepch",{"$f":"AL104+AI104+AF104+AD85","v":612},{"$f":"'3 - Alt Num Lanes Input'!AQ62","v":1}]
[]
[null,null,null,null,null,null,null,null,null,"pepch",{"$f":"AD94+AD91+AD88+AD85","v":286},{"$f":"'3 - Alt Num Lanes Input'!AU62","v":2},null,null,{"$f":"O79","v":286},null,null,null,null,null,null,null,null,null,null,null,null,null,"pepch",{"$f":"EBT_Master","v":204},{"$f":"'3 - Alt Num Lanes Input'!AU62","v":2}]
[null,null,null,null,null,null,null,null,null,null,null,null,null,null,null,null,null,null,null,null,null,null,null,null,null,null,null,null,null,null,null,null,null,null,null,null,null,null,null,null,null,null,null,null,null,null,null,null,null,null,null,null,null,null,null,null,null,null,null,null,null,null,null,null,{"$f":"AY80","v":2},"Vc",{"$f":"WBL_Master+WBT_Master+WBR_Master+WBU_Master","v":286}]
[]
[null,null,null,null,null,null,null,null,null,null,null,null,null,null,null,null,null,null,null,null,null,null,null,null,null,null,null,null,"pepch",{"$f":"EBR_Master","v":51},{"$f":"'3 - Alt Num Lanes Input'!AW62","v":1}]
[null,null,null,null,null,null,null,null,null,null,null,null,null,null,null,null,null,null,null,null,null,null,null,null,null,null,null,null,null,null,null,null,null,null,null,null,null,null,null,null,null,null,null,null,null,null,null,null,null,null,null,null,null,null,null,null,null,null,null,null,null,null,null,2.6,"tf,base",4.4000000000000004,"tc,base"]
[]
[null,null,null,null,null,null,null,null,null,null,null,null,null,null,null,null,null,null,null,null,null,null,null,null,null,null,null,null,null,null,null,null,null,{"$f":"IF(Result_URCUT_EW_VC_Z2=BG104,AR103,BE69)","v":306}]
[null,null,null,null,null,null,null,null,null,null,null,null,null,null,null,null,null,null,null,null,null,null,null,null,null,null,null,null,null,null,null,null,null,null,null,null,null,null,null,null,null,null,null,null,null,null,null,null,null,null,null,null,null,null,null,null,null,null,null,null,null,null,{"$f":"'1 - Volume Input'!AQ32","v":0.02},{"$f":"IF(BM92=1,0.9,1)","v":1},"tf,HV",{"$f":"IF(BM92=1, 1,2)","v":2},"tc,HV"]
[]
[]
[null,null,null,null,null,null,null,null,null,null,null,null,null,null,null,null,null,null,null,"Zone 1",null,null,null,null,null,null,null,null,null,null,null,null,null,null,null,null,null,null,null,null,null,null,null,null,null,null,null,null,null,null,null,null,null,null,null,null,null,null,null,null,null,null,null,{"$f":"BL95+(BL98*BK98)","v":2.62},"tf",{"$f":"BN95+(BN98*BK98)","v":4.4400000000000004},"tc"]
[null,null,null,null,null,null,null,null,null,null,null,null,null,null,null,null,null,null,"EBLT"]
[null,null,null,null,null,null,"v/c",null,null,"Cp=Cm",null,null,"tc",null,null,"tc,HV",null,null,"tc,base",null,null,{"$f":"WBT_Master+WBR_Master+WBU_Master+EBU_Master+NBT_Master+NBL_Master","v":867},null,null,null,null,null,null,null,null,null,null,null,null,null,null,null,null,null,null,{"$f":"'3 - Alt Num Lanes Input'!AG62","v":1},null,null,{"$f":"EBT_Master+EBU_Master+WBU_Master+SBL_Master+0.5*IF(AE94=0,EBR_Master+SBT_Master,0)","v":306},null,null,"tc,base",null,null,"tc,HV",null,null,"tc",null,null,"Cp=Cm",null,null,"v/c"]
[null,null,null,null,null,null,{"$f":"(AD88+AV69)/J104","v":4.0131748484106458E-2},null,null,{"$f":"V103*(EXP((-V103*M104/3600))/(1-EXP(-V103*M106/3600)))","v":772.45575313712186},null,null,{"$f":"S104+(P104*P107)","v":4.1399999999999997},null,null,{"$f":"IF(V105=1, 1,2)","v":2},null,null,{"$f":"IF(V105=3, 5.3,4.1)","v":4.0999999999999996},null,null,"Vc",null,null,null,null,null,null,null,null,null,{"$f":"NBU_Master","v":0},null,null,{"$f":"NBL_Master","v":102},null,null,{"$f":"NBT_Master","v":510},null,null,{"$f":"NBR_Master","v":204},null,null,"Vc",null,null,{"$f":"IF(AR105=1,6.2,IF(AR105=2,6.9,7.1))","v":6.9},null,null,{"$f":"IF(AR105=1, 1,2)","v":2},null,null,{"$f":"AU104+(AX104*AX107)","v":6.94},null,null,{"$f":"AR103*(EXP((-AR103*BA104/3600))/(1-EXP(-AR103*BA106/3600)))","v":689.94255407533353},null,null,{"$f":"(AO104+AL104+AI104+AF104)/BD104","v":1.1827071618935139},null,null,null,null,null,null,{"$f":"BO92*(EXP((-BO92*BN101/3600))/(1-EXP(-BO92*BL101/3600)))","v":1069.6097866852504},"Cp=Cm"]
[null,null,null,null,null,null,null,null,null,null,null,null,"tf",null,null,"tf,HV",null,null,"tf,base",null,null,{"$f":"AY80","v":2},null,null,null,null,null,null,null,null,null,"pepch",null,null,"pepch",null,null,"pepch",null,null,"pepch",null,null,{"$f":"AE91","v":2},null,null,"tf,base",null,null,"tf,HV",null,null,"tf"]
[null,null,null,null,null,null,null,null,null,null,null,null,{"$f":"S106+(P106*P107)","v":2.2200000000000002},null,null,{"$f":"IF(V105=1,0.9,1)","v":1},null,null,{"$f":"IF(V105=3,3.1,2.2)","v":2.2000000000000002},null,null,null,null,null,null,null,null,null,null,null,null,null,null,null,null,null,null,null,null,null,null,null,null,null,null,null,{"$f":"IF(AR105=3,3.9,3.3)","v":3.3},null,null,{"$f":"IF(AR105=1,0.9,1)","v":1},null,null,{"$f":"AU106+(AX106*AX107)","v":3.32}]
[null,null,null,null,null,null,null,null,null,null,null,null,null,null,null,{"$f":"'1 - Volume Input'!AQ32","v":0.02},null,null,null,null,null,null,null,null,null,null,null,null,null,null,null,null,null,null,null,null,null,null,null,null,null,null,null,null,null,null,null,null,null,{"$f":"'1 - Volume Input'!AQ38","v":0.02},null,null,null,null,null,null,null,null,null,null,null,null,null,null,null,{"$f":"BN89/BN104","v":0.57217127930046763},"v/c"]

{"sheet":"MUT N-S ","index":34,"n_rows":74,"n_cols":100,"rows_kept":74,"cut":false,"hidden":false,"merged":[[73,14,73,48],[7,36,8,41],[7,42,8,47],[7,48,8,53],[7,54,8,59],[9,36,12,47],[9,48,12,59],[43,50,45,53],[43,54,45,54],[58,38,60,46],[58,47,60,47],[61,38,63,41],[61,42,63,42],[61,43,63,46],[61,47,63,47],[23,38,25,46],[23,47,25,47],[26,38,28,41],[26,42,28,42],[26,43,28,46],[26,47,28,47],[40,45,42,53],[40,54,42,54],[43,45,45,48],[43,49,45,49],[0,1,1,60],[2,1,3,60],[5,2,6,9],[5,10,6,35],[7,2,8,9],[7,10,8,35],[9,2,10,9],[9,10,10,35],[11,2,12,9],[11,10,12,35],[5,36,6,59],[29,43,29,47],[16,87,18,94],[16,97,16,99],[17,97,17,99],[18,97,18,99],[19,87,21,94],[19,97,22,99],[0,63,1,122],[2,63,3,122],[6,88,9,90],[10,88,10,90],[11,88,11,90],[12,88,12,90],[31,85,31,87],[31,88,31,90],[31,91,31,93],[31,94,31,96],[32,85,32,87],[32,88,32,90],[32,91,32,93],[32,94,32,96],[26,85,29,87],[26,88,29,90],[26,91,29,93],[26,94,29,96],[30,85,30,87],[30,88,30,90],[30,91,30,93],[30,94,30,96],[33,99,35,99],[33,100,35,103],[36,78,38,81],[36,82,38,82],[36,83,38,83],[36,84,38,84],[36,87,38,94],[36,97,38,97],[36,98,38,98],[36,99,38,99],[33,78,35,81],[33,82,35,82],[33,83,35,83],[33,84,35,84],[33,97,35,97],[33,98,35,98],[36,100,38,103],[39,78,41,81],[39,82,41,82],[39,83,41,83],[39,84,41,84],[39,87,41,94],[39,97,41,97],[39,98,41,98],[39,99,41,99],[39,100,41,103],[42,99,44,99],[42,100,44,103],[45,85,45,87],[45,88,45,90],[45,91,45,93],[45,94,45,96],[42,78,44,81],[42,82,44,82],[42,83,44,83],[42,84,44,84],[42,97,44,97],[42,98,44,98],[46,50,46,54],[64,43,64,47],[67,91,67,93],[68,91,71,93],[59,82,59,84],[59,87,61,94],[60,82,60,84],[61,82,61,84],[65,91,65,93],[66,91,66,93],[48,85,51,87],[48,88,51,90],[48,91,51,93],[48,94,51,96],[55,82,58,84],[56,87,58,94],[46,85,46,87],[46,88,46,90],[46,91,46,93],[46,94,46,96],[47,85,47,87],[47,88,47,90],[47,91,47,93],[47,94,47,96]]}
[null,"Median U-Turn Intersection (N-S)",null,null,null,null,null,null,null,null,null,null,null,null,null,null,null,null,null,null,null,null,null,null,null,null,null,null,null,null,null,null,null,null,null,null,null,null,null,null,null,null,null,null,null,null,null,null,null,null,null,null,null,null,null,null,null,null,null,null,null,null,null,"Median U-Turn Intersection (N-S)"]
[]
[null,"Design and Results",null,null,null,null,null,null,null,null,null,null,null,null,null,null,null,null,null,null,null,null,null,null,null,null,null,null,null,null,null,null,null,null,null,null,null,null,null,null,null,null,null,null,null,null,null,null,null,null,null,null,null,null,null,null,null,null,null,null,null,null,null,"Data Input and Configuration"]
[]
[]
[null,null,"Project Name:",null,null,null,null,null,null,null,{"$f":"P_Name","v":"Cap-X Sample Street"},null,null,null,null,null,null,null,null,null,null,null,null,null,null,null,null,null,null,null,null,null,null,null,null,null,"Volume-to-Capacity Ratio"]
[]
[null,null,"Project Number:",null,null,null,null,null,null,null,{"$f":"P_Number","v":10000},null,null,null,null,null,null,null,null,null,null,null,null,null,null,null,null,null,null,null,null,null,null,null,null,null,"< 0.750",null,null,null,null,null,"0.750 - 0.875",null,null,null,null,null,"0.875 - 1.00",null,null,null,null,null,"≥ 1.00"]
[]
[null,null,"Location",null,null,null,null,null,null,null,{"$f":"Location","v":"Tallahassee, FL"},null,null,null,null,null,null,null,null,null,null,null,null,null,null,null,null,null,null,null,null,null,null,null,null,null,"VOLUME / CAPACITY RATIO:",null,null,null,null,null,null,null,null,null,null,null,{"$f":"MAX(AM27,AT44,AM62)","v":0.32}]
[null,null,null,null,null,null,null,null,null,null,null,null,null,null,null,null,null,null,null,null,null,null,null,null,null,null,null,null,null,null,null,null,null,null,null,null,null,null,null,null,null,null,null,null,null,null,null,null,null,null,null,null,null,null,null,null,null,null,null,null,null,null,null,null,null,null,null,null,null,null,null,null,null,null,null,null,null,null,null,null,null,null,null,null,null,null,null,null,"pepch"]
[null,null,"Date",null,null,null,null,null,null,null,{"$f":"Date","v":"2017 AM"},null,null,null,null,null,null,null,null,null,null,null,null,null,null,null,null,null,null,null,null,null,null,null,null,null,null,null,null,null,null,null,null,null,null,null,null,null,null,null,null,null,null,null,null,null,null,null,null,null,null,null,null,null,null,null,null,null,null,null,null,null,null,null,null,null,null,null,null,null,null,null,null,null,null,null,null,null,{"$f":"CH32+CK32+CN32+CQ32","v":816}]
[null,null,null,null,null,null,null,null,null,null,null,null,null,null,null,null,null,null,null,null,null,null,null,null,null,null,null,null,null,null,null,null,null,null,null,null,null,null,null,null,null,null,null,null,null,null,null,null,null,null,null,null,null,null,null,null,null,null,null,null,null,null,null,null,null,null,null,null,null,null,null,null,null,null,null,null,null,null,null,null,null,null,null,null,null,null,null,null,{"$f":"'3 - Alt Num Lanes Input'!AM64","v":2}]
[]
[]
[]
[null,null,null,null,null,null,null,null,null,null,null,null,null,null,null,null,null,null,null,null,null,null,null,null,null,null,null,null,null,null,null,null,null,null,null,null,null,null,null,null,null,null,null,null,null,null,null,null,null,null,null,null,null,null,null,null,null,null,null,null,null,null,null,null,null,null,null,null,null,null,null,null,null,null,null,null,null,null,null,null,null,null,null,null,null,null,null,null,null,null,null,null,null,null,null,null,null,{"$f":"'3 - Alt Num Lanes Input'!AA64","v":1}]
[null,null,null,null,null,null,null,null,null,null,null,null,null,null,null,null,null,null,null,null,null,null,null,null,null,null,null,null,null,null,null,null,null,null,null,null,null,null,null,null,null,null,null,null,null,null,null,null,null,null,null,null,null,null,null,null,null,null,null,null,null,null,null,null,null,null,null,null,null,null,null,null,null,null,null,null,null,null,null,null,null,null,null,null,null,null,null,null,null,null,null,null,null,null,null,null,null,{"$f":"CU40+CF34+CU43+CK47+CH47","v":133}]
[null,null,null,null,null,null,null,null,null,null,null,null,null,null,null,null,null,null,null,null,null,null,null,null,null,null,null,null,null,null,null,null,null,null,null,null,null,null,null,null,null,null,null,null,null,null,null,null,null,null,null,null,null,null,null,null,null,null,null,null,null,null,null,null,null,null,null,null,null,null,null,null,null,null,null,null,null,null,null,null,null,null,null,null,null,null,null,null,null,null,null,null,null,null,null,null,null,"pepch"]
[null,null,null,null,null,null,null,null,null,null,null,null,null,null,null,null,null,null,null,null,null,null,null,null,null,null,null,null,null,null,null,null,null,null,null,null,null,null,null,null,null,null,null,null,null,null,null,null,null,null,null,null,null,null,null,null,null,null,null,null,null,null,null,null,null,null,null,null,null,null,null,null,null,null,null,null,null,null,null,null,null,null,null,null,null,null,null,{"$f":"+(CK12/CK13 + CT18/UTAF/CT17)","v":574.25}]
[]
[]
[]
[null,null,null,null,null,null,null,null,null,null,null,null,null,null,null,null,null,null,null,null,null,null,null,null,null,null,null,null,null,null,null,null,null,null,null,null,null,null,{"$f":"CJ20","v":574.25},null,null,null,null,null,null,null,null,"CLV"]
[]
[]
[null,null,null,null,null,null,null,null,null,null,null,null,null,null,null,null,null,null,null,null,null,null,null,null,null,null,null,null,null,null,null,null,null,null,null,null,null,null,{"$f":"ROUND(AM24/CLV_Limit_2,2)","v":0.32},null,null,null,"V/C",{"$f":"CLV_Limit_2","v":1800},null,null,null,"MAX"]
[]
[]
[null,null,null,null,null,null,null,null,null,null,null,null,null,null,null,null,null,null,null,null,null,null,null,null,null,null,null,null,null,null,null,null,null,null,null,null,null,null,null,null,null,null,null,"2 Phases"]
[null,null,null,null,null,null,null,null,null,null,null,null,null,null,null,null,null,null,null,null,null,null,null,null,null,null,null,null,null,null,null,null,null,null,null,null,null,null,null,null,null,null,null,null,null,null,null,null,null,null,null,null,null,null,null,null,null,null,null,null,null,null,null,null,null,null,null,null,null,null,null,null,null,null,null,null,null,null,null,null,null,null,null,null,null,"pepch",null,null,"pepch",null,null,"pepch",null,null,"pepch"]
[null,null,null,null,null,null,null,null,null,null,null,null,null,null,null,null,null,null,null,null,null,null,null,null,null,null,null,null,null,null,null,null,null,null,null,null,null,null,null,null,null,null,null,null,null,null,null,null,null,null,null,null,null,null,null,null,null,null,null,null,null,null,null,null,null,null,null,null,null,null,null,null,null,null,null,null,null,null,null,null,null,null,null,null,null,{"$f":"'3 - Alt Num Lanes Input'!CY64","v":204},null,null,{"$f":"'3 - Alt Num Lanes Input'!CW64","v":510},null,null,{"$f":"SBL_Master","v":102},null,null,{"$f":"'3 - Alt Num Lanes Input'!CS64","v":0}]
[null,null,null,null,null,null,null,null,null,null,null,null,null,null,null,null,null,null,null,null,null,null,null,null,null,null,null,null,null,null,null,null,null,null,null,null,null,null,null,null,null,null,null,null,null,null,null,null,null,null,null,null,null,null,null,null,null,null,null,null,null,null,null,null,null,null,null,null,null,null,null,null,null,null,null,null,null,null,null,null,null,null,null,null,null,{"$f":"IF('3 - Alt Num Lanes Input'!AO64=0,1,'3 - Alt Num Lanes Input'!AO64)","v":1},null,null,{"$f":"'3 - Alt Num Lanes Input'!AM64","v":2}]
[null,null,null,null,null,null,null,null,null,null,null,null,null,null,null,null,null,null,null,null,null,null,null,null,null,null,null,null,null,null,null,null,null,null,null,null,null,null,null,null,null,null,null,null,null,null,null,null,null,null,null,null,null,null,null,null,null,null,null,null,null,null,null,null,null,null,null,null,null,null,null,null,null,null,null,null,null,null,null,null,null,null,"pepch",{"$f":"EBU_Master","v":0},null,null,null,null,null,null,null,null,null,null,null,null,null,{"$f":"IF('3 - Alt Num Lanes Input'!BE64=0,1,'3 - Alt Num Lanes Input'!BE64)","v":1},{"$f":"'3 - Alt Num Lanes Input'!DO64","v":51},"pepch"]
[]
[]
[null,null,null,null,null,null,null,null,null,null,null,null,null,null,null,null,null,null,null,null,null,null,null,null,null,null,null,null,null,null,null,null,null,null,null,null,null,null,null,null,null,null,null,null,null,null,null,null,null,null,null,null,null,null,null,null,null,null,null,null,null,null,null,null,null,null,null,null,null,null,null,null,null,null,null,null,null,null,null,null,null,null,"pepch",{"$f":"EBL_Master","v":31},null,null,null,null,null,null,null,null,null,null,null,null,null,{"$f":"MAX('3 - Alt Num Lanes Input'!BC64,1)","v":2},{"$f":"'3 - Alt Num Lanes Input'!DM64","v":204},"pepch"]
[]
[]
[null,null,null,null,null,null,null,null,null,null,null,null,null,null,null,null,null,null,null,null,null,null,null,null,null,null,null,null,null,null,null,null,null,null,null,null,null,null,null,null,null,null,null,null,null,null,null,null,null,null,null,null,null,null,null,null,null,null,null,null,null,null,null,null,null,null,null,null,null,null,null,null,null,null,null,null,null,null,null,null,null,null,"pepch",{"$f":"'3 - Alt Num Lanes Input'!DE64","v":204},{"$f":"MAX('3 - Alt Num Lanes Input'!AU64,1)","v":2},null,null,{"$f":"MAX((CN47+CK47+CH47)/CN46, (CQ47+CN32+CU43)/RTAF/CQ46, (CK32+CN32+CQ32)/CK33, (CH32+CK47+CF34)/RTAF/CH33) +MAX(CU37/CT37, (CU34+CU40+CU43)/RTAF/CT34, CF40/CG40, (CF43+CF37+CF34)/RTAF/CG43)","v":462},null,null,null,null,null,null,null,null,null,null,{"$f":"WBL_Master","v":31},"pepch"]
[null,null,null,null,null,null,null,null,null,null,null,null,null,null,null,null,null,null,null,null,null,null,null,null,null,null,null,null,null,null,null,null,null,null,null,null,null,null,null,null,null,null,null,null,null,{"$f":"CJ40","v":462},null,null,null,null,null,null,null,null,"CLV"]
[]
[null,null,null,null,null,null,null,null,null,null,null,null,null,null,null,null,null,null,null,null,null,null,null,null,null,null,null,null,null,null,null,null,null,null,null,null,null,null,null,null,null,null,null,null,null,null,null,null,null,null,null,null,null,null,null,null,null,null,null,null,null,null,null,null,null,null,null,null,null,null,null,null,null,null,null,null,null,null,null,null,null,null,"pepch",{"$f":"'3 - Alt Num Lanes Input'!DG64","v":51},{"$f":"IF('3 - Alt Num Lanes Input'!AW64=0,1,'3 - Alt Num Lanes Input'!AW64)","v":1},null,null,null,null,null,null,null,null,null,null,null,null,null,{"$f":"WBU_Master","v":0},"pepch"]
[null,null,null,null,null,null,null,null,null,null,null,null,null,null,null,null,null,null,null,null,null,null,null,null,null,null,null,null,null,null,null,null,null,null,null,null,null,null,null,null,null,null,null,null,null,{"$f":"ROUND(AT41/CLV_Limit_2,2)","v":0.26},null,null,null,"V/C",{"$f":"CLV_Limit_2","v":1800},null,null,null,"MAX"]
[]
[null,null,null,null,null,null,null,null,null,null,null,null,null,null,null,null,null,null,null,null,null,null,null,null,null,null,null,null,null,null,null,null,null,null,null,null,null,null,null,null,null,null,null,null,null,null,null,null,null,null,null,null,null,null,null,null,null,null,null,null,null,null,null,null,null,null,null,null,null,null,null,null,null,null,null,null,null,null,null,null,null,null,null,null,null,null,null,null,null,null,null,{"$f":"'3 - Alt Num Lanes Input'!AE64","v":2},null,null,{"$f":"IF('3 - Alt Num Lanes Input'!AG64=0,1,'3 - Alt Num Lanes Input'!AG64)","v":1}]
[null,null,null,null,null,null,null,null,null,null,null,null,null,null,null,null,null,null,null,null,null,null,null,null,null,null,null,null,null,null,null,null,null,null,null,null,null,null,null,null,null,null,null,null,null,null,null,null,null,null,"3 Phases",null,null,null,null,null,null,null,null,null,null,null,null,null,null,null,null,null,null,null,null,null,null,null,null,null,null,null,null,null,null,null,null,null,null,{"$f":"'3 - Alt Num Lanes Input'!CK64","v":0},null,null,{"$f":"NBL_Master","v":102},null,null,{"$f":"'3 - Alt Num Lanes Input'!CO64","v":510},null,null,{"$f":"'3 - Alt Num Lanes Input'!CQ64","v":204}]
[null,null,null,null,null,null,null,null,null,null,null,null,null,null,null,null,null,null,null,null,null,null,null,null,null,null,null,null,null,null,null,null,null,null,null,null,null,null,null,null,null,null,null,null,null,null,null,null,null,null,null,null,null,null,null,null,null,null,null,null,null,null,null,null,null,null,null,null,null,null,null,null,null,null,null,null,null,null,null,null,null,null,null,null,null,"pepch",null,null,"pepch",null,null,"pepch",null,null,"pepch"]
[]
[]
[]
[]
[]
[]
[]
[]
[]
[]
[null,null,null,null,null,null,null,null,null,null,null,null,null,null,null,null,null,null,null,null,null,null,null,null,null,null,null,null,null,null,null,null,null,null,null,null,null,null,{"$f":"CJ60","v":574.25},null,null,null,null,null,null,null,null,"CLV"]
[null,null,null,null,null,null,null,null,null,null,null,null,null,null,null,null,null,null,null,null,null,null,null,null,null,null,null,null,null,null,null,null,null,null,null,null,null,null,null,null,null,null,null,null,null,null,null,null,null,null,null,null,null,null,null,null,null,null,null,null,null,null,null,null,null,null,null,null,null,null,null,null,null,null,null,null,null,null,null,null,null,null,"pepch",null,null,null,null,{"$f":"+(CN67/CN66 +CE61/UTAF/CE62)","v":574.25}]
[null,null,null,null,null,null,null,null,null,null,null,null,null,null,null,null,null,null,null,null,null,null,null,null,null,null,null,null,null,null,null,null,null,null,null,null,null,null,null,null,null,null,null,null,null,null,null,null,null,null,null,null,null,null,null,null,null,null,null,null,null,null,null,null,null,null,null,null,null,null,null,null,null,null,null,null,null,null,null,null,null,null,{"$f":"CF34+CF37+CN32+CQ32+CU43","v":133}]
[null,null,null,null,null,null,null,null,null,null,null,null,null,null,null,null,null,null,null,null,null,null,null,null,null,null,null,null,null,null,null,null,null,null,null,null,null,null,{"$f":"ROUND(AM59/CLV_Limit_2,2)","v":0.32},null,null,null,"V/C",{"$f":"CLV_Limit_2","v":1800},null,null,null,"MAX",null,null,null,null,null,null,null,null,null,null,null,null,null,null,null,null,null,null,null,null,null,null,null,null,null,null,null,null,null,null,null,null,null,null,{"$f":"'3 - Alt Num Lanes Input'!AI64","v":1}]
[]
[]
[null,null,null,null,null,null,null,null,null,null,null,null,null,null,null,null,null,null,null,null,null,null,null,null,null,null,null,null,null,null,null,null,null,null,null,null,null,null,null,null,null,null,null,"2 Phases"]
[null,null,null,null,null,null,null,null,null,null,null,null,null,null,null,null,null,null,null,null,null,null,null,null,null,null,null,null,null,null,null,null,null,null,null,null,null,null,null,null,null,null,null,null,null,null,null,null,null,null,null,null,null,null,null,null,null,null,null,null,null,null,null,null,null,null,null,null,null,null,null,null,null,null,null,null,null,null,null,null,null,null,null,null,null,null,null,null,null,null,null,{"$f":"'3 - Alt Num Lanes Input'!AE64","v":2}]
[null,null,null,null,null,null,null,null,null,null,null,null,null,null,null,null,null,null,null,null,null,null,null,null,null,null,null,null,null,null,null,null,null,null,null,null,null,null,null,null,null,null,null,null,null,null,null,null,null,null,null,null,null,null,null,null,null,null,null,null,null,null,null,null,null,null,null,null,null,null,null,null,null,null,null,null,null,null,null,null,null,null,null,null,null,null,null,null,null,null,null,{"$f":"CH47+CK47+CN47+CQ47","v":816}]
[null,null,null,null,null,null,null,null,null,null,null,null,null,null,null,null,null,null,null,null,null,null,null,null,null,null,null,null,null,null,null,null,null,null,null,null,null,null,null,null,null,null,null,null,null,null,null,null,null,null,null,null,null,null,null,null,null,null,null,null,null,null,null,null,null,null,null,null,null,null,null,null,null,null,null,null,null,null,null,null,null,null,null,null,null,null,null,null,null,null,null,"pepch"]
[]
[]
[]
[]
[]
[null,null,null,null,null,null,null,null,null,null,null,null,null,null,"Note: This diagram does not reflect the actual lane configuration of the Intersection"]

{"sheet":"MUT E-W","index":35,"n_rows":95,"n_cols":77,"rows_kept":95,"cut":false,"hidden":false,"merged":[[0,1,1,79],[2,1,3,79],[5,2,6,9],[5,10,6,54],[56,1,57,79],[7,2,8,9],[7,10,8,54],[9,2,10,9],[9,10,10,54],[5,55,6,78],[7,55,8,60],[7,61,8,66],[7,67,8,72],[7,73,8,78],[9,55,12,66],[9,67,12,78],[11,2,12,9],[11,10,12,54],[21,5,23,13],[21,14,23,14],[24,5,26,8],[24,9,26,9],[24,10,26,13],[24,14,26,14],[21,36,23,44],[21,45,23,45],[24,36,26,39],[24,40,26,40],[24,41,26,44],[24,45,26,45],[21,67,23,75],[21,76,23,76],[24,67,26,70],[24,71,26,71],[24,72,26,75],[77,17,79,17],[77,18,79,18],[77,19,79,19],[77,20,79,23],[77,35,77,37],[77,38,77,40],[79,35,79,37],[79,38,79,40],[54,22,54,57],[73,35,76,37],[73,38,76,40],[73,41,76,43],[73,44,76,46],[79,41,79,43],[79,44,79,46],[58,1,59,79],[77,41,77,43],[77,44,77,46],[78,35,78,37],[78,38,78,40],[78,41,78,43],[80,47,82,47],[80,48,82,48],[80,49,82,49],[80,50,82,53],[80,28,82,31],[80,32,82,32],[80,33,82,33],[80,34,82,34],[78,44,78,46],[86,8,88,11],[86,12,88,12],[86,13,88,13],[86,14,88,14],[86,17,88,24],[86,28,88,31],[86,32,88,32],[83,47,85,47],[83,48,85,48],[83,17,85,24],[83,28,85,31],[83,32,85,32],[83,33,85,33],[83,34,85,34],[83,37,85,44],[83,68,85,68],[83,69,85,69],[83,70,85,73],[89,28,91,31],[89,32,91,32],[89,33,91,33],[89,34,91,34],[89,47,91,47],[89,48,91,48],[89,49,91,49],[89,50,91,53],[86,33,88,33],[86,34,88,34],[86,37,88,44],[86,47,88,47],[86,48,88,48],[86,49,88,49],[83,49,85,49],[83,50,85,53],[83,57,85,64],[83,67,85,67],[86,50,88,53],[86,57,88,64],[27,72,27,76],[27,41,27,45],[27,10,27,14],[24,76,26,76],[95,35,98,37],[95,38,98,40],[95,41,98,43],[95,44,98,46],[92,63,94,63],[92,64,94,64],[93,35,93,37],[93,38,93,40],[93,41,93,43],[93,44,93,46],[94,35,94,37],[94,38,94,40],[94,41,94,43],[94,44,94,46],[92,35,92,37],[92,38,92,40],[92,41,92,43],[92,44,92,46],[92,58,94,61],[92,62,94,62]]}
[null,"Median U-Turn Intersection (E-W)"]
[]
[null,"Design and Results"]
[]
[]
[null,null,"Project Name:",null,null,null,null,null,null,null,{"$f":"P_Name","v":"Cap-X Sample Street"},null,null,null,null,null,null,null,null,null,null,null,null,null,null,null,null,null,null,null,null,null,null,null,null,null,null,null,null,null,null,null,null,null,null,null,null,null,null,null,null,null,null,null,null,"Volume-to-Capacity Ratio"]
[]
[null,null,"Project Number:",null,null,null,null,null,null,null,{"$f":"P_Number","v":10000},null,null,null,null,null,null,null,null,null,null,null,null,null,null,null,null,null,null,null,null,null,null,null,null,null,null,null,null,null,null,null,null,null,null,null,null,null,null,null,null,null,null,null,null,"< 0.750",null,null,null,null,null,"0.750 - 0.875",null,null,null,null,null,"0.875 - 1.00",null,null,null,null,null,"≥ 1.00"]
[]
[null,null,"Location",null,null,null,null,null,null,null,{"$f":"Location","v":"Tallahassee, FL"},null,null,null,null,null,null,null,null,null,null,null,null,null,null,null,null,null,null,null,null,null,null,null,null,null,null,null,null,null,null,null,null,null,null,null,null,null,null,null,null,null,null,null,null,"VOLUME / CAPACITY RATIO:",null,null,null,null,null,null,null,null,null,null,null,{"$f":"MAX(F25,AK25,BP25)","v":0.27}]
[]
[null,null,"Date",null,null,null,null,null,null,null,{"$f":"Date","v":"2017 AM"}]
[]
[]
[]
[]
[]
[]
[]
[]
[]
[null,null,null,null,null,{"$f":"R87","v":309.25},null,null,null,null,null,null,null,null,"CLV",null,null,null,null,null,null,null,null,null,null,null,null,null,null,null,null,null,null,null,null,null,{"$f":"AL87","v":477.5},null,null,null,null,null,null,null,null,"CLV",null,null,null,null,null,null,null,null,null,null,null,null,null,null,null,null,null,null,null,null,null,{"$f":"BF87","v":309.25},null,null,null,null,null,null,null,null,"CLV"]
[]
[]
[null,null,null,null,null,{"$f":"ROUND(F22/CLV_Limit_2,2)","v":0.17},null,null,null,"V/C",{"$f":"CLV_Limit_2","v":1800},null,null,null,"MAX",null,null,null,null,null,null,null,null,null,null,null,null,null,null,null,null,null,null,null,null,null,{"$f":"ROUND(AK22/CLV_Limit_2,2)","v":0.27},null,null,null,"V/C",{"$f":"CLV_Limit_2","v":1800},null,null,null,"MAX",null,null,null,null,null,null,null,null,null,null,null,null,null,null,null,null,null,null,null,null,null,{"$f":"ROUND(BP22/CLV_Limit_2,2)","v":0.17},null,null,null,"V/C",{"$f":"CLV_Limit_2","v":1800},null,null,null,"MAX"]
[]
[]
[null,null,null,null,null,null,null,null,null,null,"2 Phases",null,null,null,null,null,null,null,null,null,null,null,null,null,null,null,null,null,null,null,null,null,null,null,null,null,null,null,null,null,null,"3 Phases",null,null,null,null,null,null,null,null,null,null,null,null,null,null,null,null,null,null,null,null,null,null,null,null,null,null,null,null,null,null,"2 Phases"]
[]
[]
[]
[]
[]
[]
[]
[]
[]
[]
[]
[]
[]
[]
[]
[]
[]
[]
[]
[]
[]
[]
[]
[]
[]
[]
[null,null,null,null,null,null,null,null,null,null,null,null,null,null,null,null,null,null,null,null,null,null,"Note: This diagram does not reflect the actual lane configuration of the Intersection"]
[]
[null,"Median U-Turn Intersection (E-W)"]
[]
[null,"Data Input and Configuration"]
[]
[]
[]
[]
[]
[]
[]
[]
[]
[]
[]
[]
[]
[]
[]
[]
[]
[]
[null,null,null,null,null,null,null,null,null,null,null,null,null,null,null,null,null,{"$f":"'3 - Alt Num Lanes Input'!AY66","v":1},{"$f":"AW90+AW87+AJ94+AS79+AP79","v":133},"pepch",null,null,null,null,null,null,null,null,null,null,null,null,null,null,null,"pepch",null,null,"pepch",null,null,"pepch",null,null,"pepch"]
[null,null,null,null,null,null,null,null,null,null,null,null,null,null,null,null,null,null,null,null,null,null,null,null,null,null,null,null,null,null,null,null,null,null,null,{"$f":"'3 - Alt Num Lanes Input'!CY66","v":204},null,null,{"$f":"'3 - Alt Num Lanes Input'!CW66","v":510},null,null,{"$f":"SBL_Master","v":102},null,null,{"$f":"SBU_Master","v":0}]
[null,null,null,null,null,null,null,null,null,null,null,null,null,null,null,null,null,null,null,null,null,null,null,null,null,null,null,null,null,null,null,null,null,null,null,{"$f":"IF('3 - Alt Num Lanes Input'!AO66=0,1,'3 - Alt Num Lanes Input'!AO66)","v":1},null,null,{"$f":"MAX('3 - Alt Num Lanes Input'!AM66,1)","v":2}]
[null,null,null,null,null,null,null,null,null,null,null,null,null,null,null,null,null,null,null,null,null,null,null,null,null,null,null,null,null,null,null,null,"pepch",{"$f":"'3 - Alt Num Lanes Input'!DA66","v":0},null,null,null,null,null,null,null,null,null,null,null,null,null,{"$f":"IF('3 - Alt Num Lanes Input'!BE66=0,1,'3 - Alt Num Lanes Input'!BE66)","v":1},{"$f":"'3 - Alt Num Lanes Input'!DO66","v":51},"pepch"]
[]
[]
[null,null,null,null,null,null,null,null,null,null,null,null,null,null,null,null,null,null,null,null,null,null,null,null,null,null,null,null,null,null,null,null,"pepch",{"$f":"EBL_Master","v":31},null,null,null,null,null,null,null,null,null,null,null,null,null,{"$f":"'3 - Alt Num Lanes Input'!BC66","v":2},{"$f":"'3 - Alt Num Lanes Input'!DM66","v":204},"pepch",null,null,null,null,null,null,null,null,null,null,null,null,null,null,null,null,null,{"$f":"'3 - Alt Num Lanes Input'!BC66","v":2},{"$f":"AW90+AW87+AW84+AW81","v":286},"pepch"]
[]
[]
[null,null,null,null,null,null,null,null,null,null,null,null,"pepch",{"$f":"AH90+AH87+AH84+AH81","v":286},{"$f":"'3 - Alt Num Lanes Input'!AU66","v":2},null,null,{"$f":"+(N87/O87 +S78/UTAF/R78)","v":309.25},null,null,null,null,null,null,null,null,null,null,null,null,null,null,"pepch",{"$f":"'3 - Alt Num Lanes Input'!DE66","v":204},{"$f":"'3 - Alt Num Lanes Input'!AU66","v":2},null,null,{"$f":"MAX(AP94/AP93, (AS94+AM94+AJ94)/RTAF/AS93, AM79/AM80, (AJ79+AP79+AS79)/RTAF/AJ80) +MAX((AH84+AH81+AH87)/AI87, (AJ94+AW87+AH90)/RTAF/AI90, (AW84+AW87+AW90)/AV84, (AW81+AH84+AS79)/RTAF/AV81)","v":477.5},null,null,null,null,null,null,null,null,null,null,{"$f":"WBL_Master","v":31},"pepch",null,null,null,null,null,null,null,{"$f":"+(BQ84/BP84 + BL93/UTAF/BM93)","v":309.25}]
[]
[]
[null,null,null,null,null,null,null,null,null,null,null,null,null,null,null,null,null,null,null,null,null,null,null,null,null,null,null,null,null,null,null,null,"pepch",{"$f":"'3 - Alt Num Lanes Input'!DG66","v":51},{"$f":"IF('3 - Alt Num Lanes Input'!AW66=0,1,'3 - Alt Num Lanes Input'!AW66)","v":1},null,null,null,null,null,null,null,null,null,null,null,null,null,{"$f":"'3 - Alt Num Lanes Input'!DI66","v":0},"pepch"]
[]
[]
[null,null,null,null,null,null,null,null,null,null,null,null,null,null,null,null,null,null,null,null,null,null,null,null,null,null,null,null,null,null,null,null,null,null,null,null,null,null,null,null,null,{"$f":"MAX('3 - Alt Num Lanes Input'!AE66,1)","v":2},null,null,{"$f":"IF('3 - Alt Num Lanes Input'!AG66=0,1,'3 - Alt Num Lanes Input'!AG66)","v":1},null,null,null,null,null,null,null,null,null,null,null,null,null,null,null,null,null,"pepch",{"$f":"AJ94+AM94+AH84+AH81+AS79","v":133},{"$f":"'3 - Alt Num Lanes Input'!AQ66","v":1}]
[null,null,null,null,null,null,null,null,null,null,null,null,null,null,null,null,null,null,null,null,null,null,null,null,null,null,null,null,null,null,null,null,null,null,null,{"$f":"NBU_Master","v":0},null,null,{"$f":"NBL_Master","v":102},null,null,{"$f":"'3 - Alt Num Lanes Input'!CO66","v":510},null,null,{"$f":"'3 - Alt Num Lanes Input'!CQ66","v":204}]
[null,null,null,null,null,null,null,null,null,null,null,null,null,null,null,null,null,null,null,null,null,null,null,null,null,null,null,null,null,null,null,null,null,null,null,"pepch",null,null,"pepch",null,null,"pepch",null,null,"pepch"]

{"sheet":"PMUT N-S","index":36,"n_rows":74,"n_cols":101,"rows_kept":74,"cut":false,"hidden":false,"merged":[[73,13,73,48],[7,36,8,41],[7,42,8,47],[7,48,8,53],[7,54,8,59],[9,36,12,47],[9,48,12,59],[61,38,63,41],[61,42,63,42],[61,43,63,46],[61,47,63,47],[43,45,45,48],[43,49,45,49],[43,50,45,53],[43,54,45,54],[23,38,25,46],[23,47,25,47],[26,38,28,41],[26,42,28,42],[26,43,28,46],[26,47,28,47],[58,38,60,46],[58,47,60,47],[40,45,42,53],[0,1,1,60],[2,1,3,60],[5,2,6,9],[5,10,6,35],[7,2,8,9],[7,10,8,35],[9,2,10,9],[9,10,10,35],[11,2,12,9],[11,10,12,35],[5,36,6,59],[40,54,42,54],[16,88,18,95],[16,98,16,100],[17,98,17,100],[18,98,18,100],[19,88,21,95],[19,98,22,100],[0,63,1,122],[2,63,3,122],[6,89,9,91],[10,89,10,91],[11,89,11,91],[12,89,12,91],[31,86,31,88],[31,89,31,91],[31,92,31,94],[31,95,31,97],[32,86,32,88],[32,89,32,91],[32,92,32,94],[32,95,32,97],[26,86,29,88],[26,89,29,91],[26,92,29,94],[26,95,29,97],[30,86,30,88],[30,89,30,91],[30,92,30,94],[30,95,30,97],[33,100,35,100],[33,101,35,104],[36,79,38,82],[36,83,38,83],[36,84,38,84],[36,85,38,85],[36,88,38,95],[36,98,38,98],[36,99,38,99],[36,100,38,100],[33,79,35,82],[33,83,35,83],[33,84,35,84],[33,85,35,85],[33,98,35,98],[33,99,35,99],[36,101,38,104],[39,79,41,82],[39,83,41,83],[39,84,41,84],[39,85,41,85],[39,88,41,95],[39,98,41,98],[39,99,41,99],[39,100,41,100],[39,101,41,104],[47,95,47,97],[42,100,44,100],[42,101,44,104],[45,86,45,88],[45,89,45,91],[45,92,45,94],[45,95,45,97],[42,79,44,82],[42,83,44,83],[42,84,44,84],[42,85,44,85],[42,98,44,98],[42,99,44,99],[64,43,64,47],[29,43,29,47],[46,50,46,54],[67,92,67,94],[68,92,71,94],[59,83,59,85],[59,88,61,95],[60,83,60,85],[61,83,61,85],[65,92,65,94],[66,92,66,94],[48,86,51,88],[48,89,51,91],[48,92,51,94],[48,95,51,97],[55,83,58,85],[56,88,58,95],[46,86,46,88],[46,89,46,91],[46,92,46,94],[46,95,46,97],[47,86,47,88],[47,89,47,91],[47,92,47,94]]}
[null,"Partial Median U-Turn Intersection (N-S)",null,null,null,null,null,null,null,null,null,null,null,null,null,null,null,null,null,null,null,null,null,null,null,null,null,null,null,null,null,null,null,null,null,null,null,null,null,null,null,null,null,null,null,null,null,null,null,null,null,null,null,null,null,null,null,null,null,null,null,null,null," Partial Median U-Turn Intersection (N-S)"]
[]
[null,"Design and Results",null,null,null,null,null,null,null,null,null,null,null,null,null,null,null,null,null,null,null,null,null,null,null,null,null,null,null,null,null,null,null,null,null,null,null,null,null,null,null,null,null,null,null,null,null,null,null,null,null,null,null,null,null,null,null,null,null,null,null,null,null,"Data Input and Configuration"]
[]
[]
[null,null,"Project Name:",null,null,null,null,null,null,null,{"$f":"P_Name","v":"Cap-X Sample Street"},null,null,null,null,null,null,null,null,null,null,null,null,null,null,null,null,null,null,null,null,null,null,null,null,null,"Volume-to-Capacity Ratio"]
[]
[null,null,"Project Number:",null,null,null,null,null,null,null,{"$f":"P_Number","v":10000},null,null,null,null,null,null,null,null,null,null,null,null,null,null,null,null,null,null,null,null,null,null,null,null,null,"< 0.750",null,null,null,null,null,"0.750 - 0.875",null,null,null,null,null,"0.875 - 1.00",null,null,null,null,null,"≥ 1.00"]
[]
[null,null,"Location",null,null,null,null,null,null,null,{"$f":"Location","v":"Tallahassee, FL"},null,null,null,null,null,null,null,null,null,null,null,null,null,null,null,null,null,null,null,null,null,null,null,null,null,"VOLUME / CAPACITY RATIO:",null,null,null,null,null,null,null,null,null,null,null,{"$f":"MAX(AM27,AT44,AM62)","v":0.3}]
[null,null,null,null,null,null,null,null,null,null,null,null,null,null,null,null,null,null,null,null,null,null,null,null,null,null,null,null,null,null,null,null,null,null,null,null,null,null,null,null,null,null,null,null,null,null,null,null,null,null,null,null,null,null,null,null,null,null,null,null,null,null,null,null,null,null,null,null,null,null,null,null,null,null,null,null,null,null,null,null,null,null,null,null,null,null,null,null,null,"pepch"]
[null,null,"Date",null,null,null,null,null,null,null,{"$f":"Date","v":"2017 AM"},null,null,null,null,null,null,null,null,null,null,null,null,null,null,null,null,null,null,null,null,null,null,null,null,null,null,null,null,null,null,null,null,null,null,null,null,null,null,null,null,null,null,null,null,null,null,null,null,null,null,null,null,null,null,null,null,null,null,null,null,null,null,null,null,null,null,null,null,null,null,null,null,null,null,null,null,null,null,{"$f":"CI32+CL32+CO32+CR32","v":816}]
[null,null,null,null,null,null,null,null,null,null,null,null,null,null,null,null,null,null,null,null,null,null,null,null,null,null,null,null,null,null,null,null,null,null,null,null,null,null,null,null,null,null,null,null,null,null,null,null,null,null,null,null,null,null,null,null,null,null,null,null,null,null,null,null,null,null,null,null,null,null,null,null,null,null,null,null,null,null,null,null,null,null,null,null,null,null,null,null,null,{"$f":"'3 - Alt Num Lanes Input'!AM68","v":2}]
[]
[]
[]
[null,null,null,null,null,null,null,null,null,null,null,null,null,null,null,null,null,null,null,null,null,null,null,null,null,null,null,null,null,null,null,null,null,null,null,null,null,null,null,null,null,null,null,null,null,null,null,null,null,null,null,null,null,null,null,null,null,null,null,null,null,null,null,null,null,null,null,null,null,null,null,null,null,null,null,null,null,null,null,null,null,null,null,null,null,null,null,null,null,null,null,null,null,null,null,null,null,null,{"$f":"'3 - Alt Num Lanes Input'!AA68","v":1}]
[null,null,null,null,null,null,null,null,null,null,null,null,null,null,null,null,null,null,null,null,null,null,null,null,null,null,null,null,null,null,null,null,null,null,null,null,null,null,null,null,null,null,null,null,null,null,null,null,null,null,null,null,null,null,null,null,null,null,null,null,null,null,null,null,null,null,null,null,null,null,null,null,null,null,null,null,null,null,null,null,null,null,null,null,null,null,null,null,null,null,null,null,null,null,null,null,null,null,{"$f":"CG34+CL47+CI47","v":102}]
[null,null,null,null,null,null,null,null,null,null,null,null,null,null,null,null,null,null,null,null,null,null,null,null,null,null,null,null,null,null,null,null,null,null,null,null,null,null,null,null,null,null,null,null,null,null,null,null,null,null,null,null,null,null,null,null,null,null,null,null,null,null,null,null,null,null,null,null,null,null,null,null,null,null,null,null,null,null,null,null,null,null,null,null,null,null,null,null,null,null,null,null,null,null,null,null,null,null,"pepch"]
[null,null,null,null,null,null,null,null,null,null,null,null,null,null,null,null,null,null,null,null,null,null,null,null,null,null,null,null,null,null,null,null,null,null,null,null,null,null,null,null,null,null,null,null,null,null,null,null,null,null,null,null,null,null,null,null,null,null,null,null,null,null,null,null,null,null,null,null,null,null,null,null,null,null,null,null,null,null,null,null,null,null,null,null,null,null,null,null,{"$f":"+(CL12/CL13 + CU18/UTAF/CU17)","v":535.5}]
[]
[]
[]
[null,null,null,null,null,null,null,null,null,null,null,null,null,null,null,null,null,null,null,null,null,null,null,null,null,null,null,null,null,null,null,null,null,null,null,null,null,null,{"$f":"CK20","v":535.5},null,null,null,null,null,null,null,null,"CLV"]
[]
[]
[null,null,null,null,null,null,null,null,null,null,null,null,null,null,null,null,null,null,null,null,null,null,null,null,null,null,null,null,null,null,null,null,null,null,null,null,null,null,{"$f":"ROUND(AM24/CLV_Limit_2,2)","v":0.3},null,null,null,"V/C",{"$f":"CLV_Limit_2","v":1800},null,null,null,"MAX"]
[]
[]
[null,null,null,null,null,null,null,null,null,null,null,null,null,null,null,null,null,null,null,null,null,null,null,null,null,null,null,null,null,null,null,null,null,null,null,null,null,null,null,null,null,null,null,"2 Phases"]
[null,null,null,null,null,null,null,null,null,null,null,null,null,null,null,null,null,null,null,null,null,null,null,null,null,null,null,null,null,null,null,null,null,null,null,null,null,null,null,null,null,null,null,null,null,null,null,null,null,null,null,null,null,null,null,null,null,null,null,null,null,null,null,null,null,null,null,null,null,null,null,null,null,null,null,null,null,null,null,null,null,null,null,null,null,null,"pepch",null,null,"pepch",null,null,"pepch",null,null,"pepch"]
[null,null,null,null,null,null,null,null,null,null,null,null,null,null,null,null,null,null,null,null,null,null,null,null,null,null,null,null,null,null,null,null,null,null,null,null,null,null,null,null,null,null,null,null,null,null,null,null,null,null,null,null,null,null,null,null,null,null,null,null,null,null,null,null,null,null,null,null,null,null,null,null,null,null,null,null,null,null,null,null,null,null,null,null,null,null,{"$f":"'3 - Alt Num Lanes Input'!CY68","v":204},null,null,{"$f":"'3 - Alt Num Lanes Input'!CW68","v":510},null,null,{"$f":"SBL_Master","v":102},null,null,{"$f":"'3 - Alt Num Lanes Input'!CS68","v":0}]
[null,null,null,null,null,null,null,null,null,null,null,null,null,null,null,null,null,null,null,null,null,null,null,null,null,null,null,null,null,null,null,null,null,null,null,null,null,null,null,null,null,null,null,null,null,null,null,null,null,null,null,null,null,null,null,null,null,null,null,null,null,null,null,null,null,null,null,null,null,null,null,null,null,null,null,null,null,null,null,null,null,null,null,null,null,null,{"$f":"IF('3 - Alt Num Lanes Input'!AO68=0,1,'3 - Alt Num Lanes Input'!AO68)","v":1},null,null,{"$f":"'3 - Alt Num Lanes Input'!AM68","v":2}]
[null,null,null,null,null,null,null,null,null,null,null,null,null,null,null,null,null,null,null,null,null,null,null,null,null,null,null,null,null,null,null,null,null,null,null,null,null,null,null,null,null,null,null,null,null,null,null,null,null,null,null,null,null,null,null,null,null,null,null,null,null,null,null,null,null,null,null,null,null,null,null,null,null,null,null,null,null,null,null,null,null,null,null,"pepch",{"$f":"EBU_Master","v":0},null,null,null,null,null,null,null,null,null,null,null,null,null,{"$f":"IF('3 - Alt Num Lanes Input'!BE68=0,1,'3 - Alt Num Lanes Input'!BE68)","v":1},{"$f":"'3 - Alt Num Lanes Input'!DO68","v":51},"pepch"]
[]
[]
[null,null,null,null,null,null,null,null,null,null,null,null,null,null,null,null,null,null,null,null,null,null,null,null,null,null,null,null,null,null,null,null,null,null,null,null,null,null,null,null,null,null,null,null,null,null,null,null,null,null,null,null,null,null,null,null,null,null,null,null,null,null,null,null,null,null,null,null,null,null,null,null,null,null,null,null,null,null,null,null,null,null,null,"pepch",{"$f":"'3 - Alt Num Lanes Input'!DC68","v":31},{"$f":"IF('3 - Alt Num Lanes Input'!AS68=0,1,'3 - Alt Num Lanes Input'!AS68)","v":1},null,null,null,null,null,null,null,null,null,null,null,null,{"$f":"MAX('3 - Alt Num Lanes Input'!BC68,1)","v":2},{"$f":"'3 - Alt Num Lanes Input'!DM68","v":204},"pepch"]
[]
[]
[null,null,null,null,null,null,null,null,null,null,null,null,null,null,null,null,null,null,null,null,null,null,null,null,null,null,null,null,null,null,null,null,null,null,null,null,null,null,null,null,null,null,null,null,null,null,null,null,null,null,null,null,null,null,null,null,null,null,null,null,null,null,null,null,null,null,null,null,null,null,null,null,null,null,null,null,null,null,null,null,null,null,null,"pepch",{"$f":"'3 - Alt Num Lanes Input'!DE68","v":204},{"$f":"MAX('3 - Alt Num Lanes Input'!AU68,1)","v":2},null,null,{"$f":"MAX((CO47+CL47+CI47+CR32)/CO46, ROUND(MAX(0,(CR47+CO32+CV43)/RTAF/CR46-CV40/LTAF/CU40),0), (CL32+CO32+CR32+CI47)/CL33, ROUND(MAX(0,(CI32+CL47+CG34)/RTAF/CH37-(CG37)/LTAF/CH37),0)) +MAX(((CG37/LTAF+CG34/UTAF)/CH37 + MAX(CV37/CU37, CV34/RTAF/CU34)), ((CV40/LTAF+CV43/UTAF)/CU40 +MAX(CG40/CH40, CG43/RTAF/CH43)))","v":461.63157894736844},null,null,null,null,null,null,null,null,null,{"$f":"IF('3 - Alt Num Lanes Input'!BA68=0,1,'3 - Alt Num Lanes Input'!BA68)","v":1},{"$f":"'3 - Alt Num Lanes Input'!DK68","v":31},"pepch"]
[null,null,null,null,null,null,null,null,null,null,null,null,null,null,null,null,null,null,null,null,null,null,null,null,null,null,null,null,null,null,null,null,null,null,null,null,null,null,null,null,null,null,null,null,null,{"$f":"CK40","v":461.63157894736844},null,null,null,null,null,null,null,null,"CLV"]
[]
[null,null,null,null,null,null,null,null,null,null,null,null,null,null,null,null,null,null,null,null,null,null,null,null,null,null,null,null,null,null,null,null,null,null,null,null,null,null,null,null,null,null,null,null,null,null,null,null,null,null,null,null,null,null,null,null,null,null,null,null,null,null,null,null,null,null,null,null,null,null,null,null,null,null,null,null,null,null,null,null,null,null,null,"pepch",{"$f":"'3 - Alt Num Lanes Input'!DG68","v":51},{"$f":"IF('3 - Alt Num Lanes Input'!AW68=0,1,'3 - Alt Num Lanes Input'!AW68)","v":1},null,null,null,null,null,null,null,null,null,null,null,null,null,{"$f":"WBU_Master","v":0},"pepch"]
[null,null,null,null,null,null,null,null,null,null,null,null,null,null,null,null,null,null,null,null,null,null,null,null,null,null,null,null,null,null,null,null,null,null,null,null,null,null,null,null,null,null,null,null,null,{"$f":"ROUND(AT41/CLV_Limit_3,2)","v":0.26},null,null,null,"V/C",{"$f":"CLV_Limit_3","v":1750},null,null,null,"MAX"]
[]
[null,null,null,null,null,null,null,null,null,null,null,null,null,null,null,null,null,null,null,null,null,null,null,null,null,null,null,null,null,null,null,null,null,null,null,null,null,null,null,null,null,null,null,null,null,null,null,null,null,null,null,null,null,null,null,null,null,null,null,null,null,null,null,null,null,null,null,null,null,null,null,null,null,null,null,null,null,null,null,null,null,null,null,null,null,null,null,null,null,null,null,null,{"$f":"'3 - Alt Num Lanes Input'!AE68","v":2},null,null,{"$f":"IF('3 - Alt Num Lanes Input'!AG68=0,1,'3 - Alt Num Lanes Input'!AG68)","v":1}]
[null,null,null,null,null,null,null,null,null,null,null,null,null,null,null,null,null,null,null,null,null,null,null,null,null,null,null,null,null,null,null,null,null,null,null,null,null,null,null,null,null,null,null,null,null,null,null,null,null,null,"3 Phases",null,null,null,null,null,null,null,null,null,null,null,null,null,null,null,null,null,null,null,null,null,null,null,null,null,null,null,null,null,null,null,null,null,null,null,{"$f":"'3 - Alt Num Lanes Input'!CK68","v":0},null,null,{"$f":"NBL_Master","v":102},null,null,{"$f":"'3 - Alt Num Lanes Input'!CO68","v":510},null,null,{"$f":"'3 - Alt Num Lanes Input'!CQ68","v":204}]
[null,null,null,null,null,null,null,null,null,null,null,null,null,null,null,null,null,null,null,null,null,null,null,null,null,null,null,null,null,null,null,null,null,null,null,null,null,null,null,null,null,null,null,null,null,null,null,null,null,null,null,null,null,null,null,null,null,null,null,null,null,null,null,null,null,null,null,null,null,null,null,null,null,null,null,null,null,null,null,null,null,null,null,null,null,null,"pepch",null,null,"pepch",null,null,"pepch",null,null,"pepch"]
[]
[]
[]
[]
[]
[]
[]
[]
[]
[]
[null,null,null,null,null,null,null,null,null,null,null,null,null,null,null,null,null,null,null,null,null,null,null,null,null,null,null,null,null,null,null,null,null,null,null,null,null,null,{"$f":"CK60","v":535.5},null,null,null,null,null,null,null,null,"CLV"]
[null,null,null,null,null,null,null,null,null,null,null,null,null,null,null,null,null,null,null,null,null,null,null,null,null,null,null,null,null,null,null,null,null,null,null,null,null,null,null,null,null,null,null,null,null,null,null,null,null,null,null,null,null,null,null,null,null,null,null,null,null,null,null,null,null,null,null,null,null,null,null,null,null,null,null,null,null,null,null,null,null,null,null,"pepch",null,null,null,null,{"$f":"+(CO67/CO66 +CF61/UTAF/CF62)","v":535.5}]
[null,null,null,null,null,null,null,null,null,null,null,null,null,null,null,null,null,null,null,null,null,null,null,null,null,null,null,null,null,null,null,null,null,null,null,null,null,null,null,null,null,null,null,null,null,null,null,null,null,null,null,null,null,null,null,null,null,null,null,null,null,null,null,null,null,null,null,null,null,null,null,null,null,null,null,null,null,null,null,null,null,null,null,{"$f":"CO32+CR32+CV43","v":102}]
[null,null,null,null,null,null,null,null,null,null,null,null,null,null,null,null,null,null,null,null,null,null,null,null,null,null,null,null,null,null,null,null,null,null,null,null,null,null,{"$f":"ROUND(AM59/CLV_Limit_2,2)","v":0.3},null,null,null,"V/C",{"$f":"CLV_Limit_2","v":1800},null,null,null,"MAX",null,null,null,null,null,null,null,null,null,null,null,null,null,null,null,null,null,null,null,null,null,null,null,null,null,null,null,null,null,null,null,null,null,null,null,{"$f":"'3 - Alt Num Lanes Input'!AI68","v":1}]
[]
[]
[null,null,null,null,null,null,null,null,null,null,null,null,null,null,null,null,null,null,null,null,null,null,null,null,null,null,null,null,null,null,null,null,null,null,null,null,null,null,null,null,null,null,null,"2 Phases"]
[null,null,null,null,null,null,null,null,null,null,null,null,null,null,null,null,null,null,null,null,null,null,null,null,null,null,null,null,null,null,null,null,null,null,null,null,null,null,null,null,null,null,null,null,null,null,null,null,null,null,null,null,null,null,null,null,null,null,null,null,null,null,null,null,null,null,null,null,null,null,null,null,null,null,null,null,null,null,null,null,null,null,null,null,null,null,null,null,null,null,null,null,{"$f":"'3 - Alt Num Lanes Input'!AE68","v":2}]
[null,null,null,null,null,null,null,null,null,null,null,null,null,null,null,null,null,null,null,null,null,null,null,null,null,null,null,null,null,null,null,null,null,null,null,null,null,null,null,null,null,null,null,null,null,null,null,null,null,null,null,null,null,null,null,null,null,null,null,null,null,null,null,null,null,null,null,null,null,null,null,null,null,null,null,null,null,null,null,null,null,null,null,null,null,null,null,null,null,null,null,null,{"$f":"CI47+CL47+CO47+CR47","v":816}]
[null,null,null,null,null,null,null,null,null,null,null,null,null,null,null,null,null,null,null,null,null,null,null,null,null,null,null,null,null,null,null,null,null,null,null,null,null,null,null,null,null,null,null,null,null,null,null,null,null,null,null,null,null,null,null,null,null,null,null,null,null,null,null,null,null,null,null,null,null,null,null,null,null,null,null,null,null,null,null,null,null,null,null,null,null,null,null,null,null,null,null,null,"pepch"]
[]
[]
[]
[]
[]
[null,null,null,null,null,null,null,null,null,null,null,null,null,"Note: This diagram does not reflect the actual lane configuration of the Intersection"]

{"sheet":"PMUT E-W","index":37,"n_rows":95,"n_cols":77,"rows_kept":95,"cut":false,"hidden":false,"merged":[[54,22,54,57],[20,36,22,44],[20,45,22,45],[23,36,25,39],[23,40,25,40],[23,41,25,44],[23,45,25,45],[21,5,23,13],[21,14,23,14],[24,5,26,8],[24,9,26,9],[24,10,26,13],[24,14,26,14],[56,1,57,79],[58,1,59,79],[73,35,76,37],[73,38,76,40],[73,41,76,43],[73,44,76,46],[79,41,79,43],[79,44,79,46],[77,41,77,43],[77,44,77,46],[78,35,78,37],[78,38,78,40],[78,41,78,43],[78,44,78,46],[77,17,79,17],[77,18,79,18],[77,19,79,19],[77,20,79,23],[77,35,77,37],[77,38,77,40],[79,35,79,37],[79,38,79,40],[80,47,82,47],[80,48,82,48],[80,49,82,49],[80,50,82,53],[83,17,85,24],[83,28,85,31],[83,32,85,32],[83,33,85,33],[83,34,85,34],[83,37,85,44],[80,28,82,31],[80,32,82,32],[80,33,82,33],[80,34,82,34],[83,68,85,68],[83,69,85,69],[83,70,85,73],[85,8,87,11],[85,12,87,12],[85,13,87,13],[85,14,87,14],[86,17,88,24],[86,28,88,31],[86,32,88,32],[83,47,85,47],[83,48,85,48],[83,49,85,49],[83,50,85,53],[83,57,85,64],[83,67,85,67],[92,58,94,61],[92,62,94,62],[86,50,88,53],[86,57,88,64],[89,28,91,31],[89,32,91,32],[89,33,91,33],[89,34,91,34],[89,47,91,47],[89,48,91,48],[89,49,91,49],[89,50,91,53],[86,33,88,33],[86,34,88,34],[86,37,88,44],[86,47,88,47],[86,48,88,48],[86,49,88,49],[92,64,94,64],[95,35,98,37],[95,38,98,40],[95,41,98,43],[95,44,98,46],[0,1,1,79],[2,1,3,79],[5,2,6,9],[5,10,6,54],[92,63,94,63],[93,35,93,37],[93,38,93,40],[93,41,93,43],[93,44,93,46],[94,35,94,37],[94,38,94,40],[94,41,94,43],[94,44,94,46],[92,35,92,37],[92,38,92,40],[92,41,92,43],[92,44,92,46],[7,2,8,9],[7,10,8,54],[9,2,10,9],[5,55,6,78],[7,55,8,60],[7,61,8,66],[7,67,8,72],[7,73,8,78],[9,55,12,66],[9,67,12,78],[21,67,23,75],[21,76,23,76],[27,72,27,76],[27,10,27,14],[26,41,26,45],[24,67,26,70],[24,71,26,71],[24,72,26,75],[24,76,26,76],[9,10,10,54],[11,2,12,9],[11,10,12,54]]}
[null,"Partial Median U-Turn Intersection (E-W)"]
[]
[null,"Design and Results"]
[]
[]
[null,null,"Project Name:",null,null,null,null,null,null,null,{"$f":"P_Name","v":"Cap-X Sample Street"},null,null,null,null,null,null,null,null,null,null,null,null,null,null,null,null,null,null,null,null,null,null,null,null,null,null,null,null,null,null,null,null,null,null,null,null,null,null,null,null,null,null,null,null,"Volume-to-Capacity Ratio"]
[]
[null,null,"Project Number:",null,null,null,null,null,null,null,{"$f":"P_Number","v":10000},null,null,null,null,null,null,null,null,null,null,null,null,null,null,null,null,null,null,null,null,null,null,null,null,null,null,null,null,null,null,null,null,null,null,null,null,null,null,null,null,null,null,null,null,"< 0.750",null,null,null,null,null,"0.750 - 0.875",null,null,null,null,null,"0.875 - 1.00",null,null,null,null,null,"≥ 1.00"]
[]
[null,null,"Location",null,null,null,null,null,null,null,{"$f":"Location","v":"Tallahassee, FL"},null,null,null,null,null,null,null,null,null,null,null,null,null,null,null,null,null,null,null,null,null,null,null,null,null,null,null,null,null,null,null,null,null,null,null,null,null,null,null,null,null,null,null,null,"VOLUME / CAPACITY RATIO:",null,null,null,null,null,null,null,null,null,null,null,{"$f":"MAX(F25,AK24,BP25)","v":0.27}]
[]
[null,null,"Date",null,null,null,null,null,null,null,{"$f":"Date","v":"2017 AM"}]
[]
[]
[]
[]
[]
[]
[]
[]
[null,null,null,null,null,null,null,null,null,null,null,null,null,null,null,null,null,null,null,null,null,null,null,null,null,null,null,null,null,null,null,null,null,null,null,null,{"$f":"AL87","v":479.86842105263156},null,null,null,null,null,null,null,null,"CLV"]
[null,null,null,null,null,{"$f":"R87","v":181.75},null,null,null,null,null,null,null,null,"CLV",null,null,null,null,null,null,null,null,null,null,null,null,null,null,null,null,null,null,null,null,null,null,null,null,null,null,null,null,null,null,null,null,null,null,null,null,null,null,null,null,null,null,null,null,null,null,null,null,null,null,null,null,{"$f":"BF87","v":181.75},null,null,null,null,null,null,null,null,"CLV"]
[]
[null,null,null,null,null,null,null,null,null,null,null,null,null,null,null,null,null,null,null,null,null,null,null,null,null,null,null,null,null,null,null,null,null,null,null,null,{"$f":"ROUND(AK21/CLV_Limit_3,2)","v":0.27},null,null,null,"V/C",{"$f":"CLV_Limit_3","v":1750},null,null,null,"MAX"]
[null,null,null,null,null,{"$f":"ROUND(F22/CLV_Limit_2,2)","v":0.1},null,null,null,"V/C",{"$f":"CLV_Limit_2","v":1800},null,null,null,"MAX",null,null,null,null,null,null,null,null,null,null,null,null,null,null,null,null,null,null,null,null,null,null,null,null,null,null,null,null,null,null,null,null,null,null,null,null,null,null,null,null,null,null,null,null,null,null,null,null,null,null,null,null,{"$f":"ROUND(BP22/CLV_Limit_2,2)","v":0.1},null,null,null,"V/C",{"$f":"CLV_Limit_2","v":1800},null,null,null,"MAX"]
[]
[null,null,null,null,null,null,null,null,null,null,null,null,null,null,null,null,null,null,null,null,null,null,null,null,null,null,null,null,null,null,null,null,null,null,null,null,null,null,null,null,null,"3 Phases"]
[null,null,null,null,null,null,null,null,null,null,"2 Phases",null,null,null,null,null,null,null,null,null,null,null,null,null,null,null,null,null,null,null,null,null,null,null,null,null,null,null,null,null,null,null,null,null,null,null,null,null,null,null,null,null,null,null,null,null,null,null,null,null,null,null,null,null,null,null,null,null,null,null,null,null,"2 Phases"]
[]
[]
[]
[]
[]
[]
[]
[]
[]
[]
[]
[]
[]
[]
[]
[]
[]
[]
[]
[]
[]
[]
[]
[]
[]
[]
[null,null,null,null,null,null,null,null,null,null,null,null,null,null,null,null,null,null,null,null,null,null,"Note: This diagram does not reflect the actual lane configuration of the Intersection"]
[]
[null,"Partial Median U-Turn Intersection (E-W)"]
[]
[null,"Data Input and Configuration"]
[]
[]
[]
[]
[]
[]
[]
[]
[]
[]
[]
[]
[]
[]
[]
[]
[]
[]
[null,null,null,null,null,null,null,null,null,null,null,null,null,null,null,null,null,{"$f":"'3 - Alt Num Lanes Input'!AY70","v":1},{"$f":"AW90+AW87+AJ94","v":31},"pepch",null,null,null,null,null,null,null,null,null,null,null,null,null,null,null,"pepch",null,null,"pepch",null,null,"pepch",null,null,"pepch"]
[null,null,null,null,null,null,null,null,null,null,null,null,null,null,null,null,null,null,null,null,null,null,null,null,null,null,null,null,null,null,null,null,null,null,null,{"$f":"'3 - Alt Num Lanes Input'!CY70","v":204},null,null,{"$f":"'3 - Alt Num Lanes Input'!CW70","v":510},null,null,{"$f":"'3 - Alt Num Lanes Input'!CU70","v":102},null,null,{"$f":"SBU_Master","v":0}]
[null,null,null,null,null,null,null,null,null,null,null,null,null,null,null,null,null,null,null,null,null,null,null,null,null,null,null,null,null,null,null,null,null,null,null,{"$f":"IF('3 - Alt Num Lanes Input'!AO70=0,1,'3 - Alt Num Lanes Input'!AO70)","v":1},null,null,{"$f":"MAX('3 - Alt Num Lanes Input'!AM70,1)","v":2},null,null,{"$f":"IF('3 - Alt Num Lanes Input'!AK70=0,1,'3 - Alt Num Lanes Input'!AK70)","v":1}]
[null,null,null,null,null,null,null,null,null,null,null,null,null,null,null,null,null,null,null,null,null,null,null,null,null,null,null,null,null,null,null,null,"pepch",{"$f":"'3 - Alt Num Lanes Input'!DA70","v":0},null,null,null,null,null,null,null,null,null,null,null,null,null,{"$f":"IF('3 - Alt Num Lanes Input'!BE70=0,1,'3 - Alt Num Lanes Input'!BE70)","v":1},{"$f":"'3 - Alt Num Lanes Input'!DO70","v":51},"pepch"]
[]
[]
[null,null,null,null,null,null,null,null,null,null,null,null,null,null,null,null,null,null,null,null,null,null,null,null,null,null,null,null,null,null,null,null,"pepch",{"$f":"EBL_Master","v":31},null,null,null,null,null,null,null,null,null,null,null,null,null,{"$f":"'3 - Alt Num Lanes Input'!BC70","v":2},{"$f":"'3 - Alt Num Lanes Input'!DM70","v":204},"pepch",null,null,null,null,null,null,null,null,null,null,null,null,null,null,null,null,null,{"$f":"'3 - Alt Num Lanes Input'!BC70","v":2},{"$f":"AW90+AW87+AW84+AW81","v":286},"pepch"]
[]
[null,null,null,null,null,null,null,null,null,null,null,null,"pepch",{"$f":"AH90+AH87+AH84+AH81","v":286},{"$f":"'3 - Alt Num Lanes Input'!AU70","v":2}]
[null,null,null,null,null,null,null,null,null,null,null,null,null,null,null,null,null,{"$f":"+(N86/O86 +S78/UTAF/R78)","v":181.75},null,null,null,null,null,null,null,null,null,null,null,null,null,null,"pepch",{"$f":"'3 - Alt Num Lanes Input'!DE70","v":204},{"$f":"'3 - Alt Num Lanes Input'!AU70","v":2},null,null,{"$f":"MAX((AH87+AH84+AH81+AW90)/AI87, ROUND(MAX(0,(AH90+AW87+AJ94)/RTAF/AI90-AM94/LTAF/AM93),0), (AW84+AW87+AW90+AH81)/AV84, ROUND(MAX(0,(AW81+AH84+AS79)/RTAF/AV81-AP79/LTAF/AP80),0)) +MAX((AM94/LTAF+AJ94/UTAF)/AM93 + MAX(AM79/AM80, AJ79/RTAF/AJ80), (AP79/LTAF+AS79/UTAF)/AP80 +MAX(AP94/AP93, AS94/RTAF/AS93))","v":479.86842105263156},null,null,null,null,null,null,null,null,null,null,{"$f":"WBL_Master","v":31},"pepch",null,null,null,null,null,null,null,{"$f":"+(BQ84/BP84 + BL93/UTAF/BM93)","v":181.75}]
[]
[]
[null,null,null,null,null,null,null,null,null,null,null,null,null,null,null,null,null,null,null,null,null,null,null,null,null,null,null,null,null,null,null,null,"pepch",{"$f":"'3 - Alt Num Lanes Input'!DG70","v":51},{"$f":"IF('3 - Alt Num Lanes Input'!AW70=0,1,'3 - Alt Num Lanes Input'!AW70)","v":1},null,null,null,null,null,null,null,null,null,null,null,null,null,{"$f":"'3 - Alt Num Lanes Input'!DI70","v":0},"pepch"]
[]
[]
[null,null,null,null,null,null,null,null,null,null,null,null,null,null,null,null,null,null,null,null,null,null,null,null,null,null,null,null,null,null,null,null,null,null,null,null,null,null,{"$f":"IF('3 - Alt Num Lanes Input'!AC70=0,1,'3 - Alt Num Lanes Input'!AC70)","v":1},null,null,{"$f":"MAX('3 - Alt Num Lanes Input'!AE70,1)","v":2},null,null,{"$f":"IF('3 - Alt Num Lanes Input'!AG70=0,1,'3 - Alt Num Lanes Input'!AG70)","v":1},null,null,null,null,null,null,null,null,null,null,null,null,null,null,null,null,null,"pepch",{"$f":"AH84+AH81+AS79","v":31},{"$f":"'3 - Alt Num Lanes Input'!AQ70","v":1}]
[null,null,null,null,null,null,null,null,null,null,null,null,null,null,null,null,null,null,null,null,null,null,null,null,null,null,null,null,null,null,null,null,null,null,null,{"$f":"NBU_Master","v":0},null,null,{"$f":"'3 - Alt Num Lanes Input'!CM70","v":102},null,null,{"$f":"'3 - Alt Num Lanes Input'!CO70","v":510},null,null,{"$f":"'3 - Alt Num Lanes Input'!CQ70","v":204}]
[null,null,null,null,null,null,null,null,null,null,null,null,null,null,null,null,null,null,null,null,null,null,null,null,null,null,null,null,null,null,null,null,null,null,null,"pepch",null,null,"pepch",null,null,"pepch",null,null,"pepch"]

{"sheet":"50 Mini-Rndabt","index":38,"n_rows":68,"n_cols":119,"rows_kept":68,"cut":false,"hidden":false,"merged":[[6,79,7,80],[13,82,13,84],[14,82,14,84],[47,71,49,71],[63,101,63,103],[14,97,14,99],[30,115,32,115],[33,115,35,115],[36,115,38,115],[39,115,41,115],[42,114,44,114],[42,115,44,115],[14,91,14,93],[14,94,14,96],[30,114,32,114],[33,114,35,114],[36,114,38,114],[39,114,41,114],[27,114,29,114],[63,95,63,97],[63,98,63,100],[63,86,63,88],[46,98,47,100],[48,98,52,100],[13,85,13,87],[13,88,13,90],[13,91,13,93],[13,94,13,96],[14,85,14,87],[14,88,14,90],[24,85,24,87],[24,89,25,92],[24,93,25,96],[25,85,29,87],[26,89,26,96],[27,89,28,89],[27,90,28,92],[27,93,28,96],[17,89,19,96],[18,85,21,87],[20,89,21,92],[20,93,21,96],[22,85,22,87],[22,89,23,96],[23,85,23,87],[32,70,34,70],[32,71,34,71],[64,89,64,91],[64,92,64,94],[63,89,63,91],[63,92,63,94],[57,89,58,96],[59,89,60,92],[59,93,60,96],[44,79,46,79],[44,80,46,84],[44,85,46,86],[49,89,50,89],[49,90,50,92],[49,93,50,96],[52,89,54,96],[51,89,51,96],[64,86,64,88],[68,89,71,91],[68,92,71,94],[68,95,71,97],[68,98,71,100],[35,71,37,71],[38,71,40,71],[41,71,43,71],[44,71,46,71],[64,95,64,97],[64,98,64,100],[66,89,66,91],[66,92,66,94],[66,95,66,97],[66,98,66,100],[67,89,67,91],[67,92,67,94],[67,95,67,97],[67,98,67,100],[53,98,53,100],[54,98,54,100],[55,89,56,92],[55,93,56,96],[55,98,55,100],[56,98,59,100],[44,63,46,66],[44,67,46,67],[44,68,46,68],[44,73,46,76],[44,77,46,77],[44,78,46,78],[39,117,41,117],[39,118,41,118],[39,119,41,122],[41,63,43,66],[41,67,43,67],[41,68,43,68],[41,74,42,77],[41,78,42,81],[41,101,42,102],[41,104,42,107],[39,83,42,84],[39,104,40,111],[41,108,42,111],[41,70,43,70],[44,70,46,70],[36,119,38,122],[37,74,38,77],[37,78,38,81],[37,104,38,107],[37,108,38,111],[38,63,40,66],[38,67,40,67],[38,68,40,68],[38,101,40,102],[39,74,40,81],[35,63,37,66],[35,67,37,67],[35,68,37,68],[36,83,38,84],[36,117,38,117],[36,118,38,118],[35,70,37,70],[38,70,40,70],[34,74,36,81],[34,82,42,82],[34,83,35,84],[34,101,37,102],[34,103,42,103],[34,104,36,111],[30,109,32,112],[30,117,32,117],[30,118,32,118],[30,119,32,122],[33,117,35,117],[33,118,35,118],[33,119,35,122],[30,85,31,87],[30,99,32,100],[30,101,32,105],[30,106,32,106],[30,107,32,107],[30,108,32,108],[10,85,10,87],[10,88,10,90],[10,91,10,93],[10,94,10,96],[11,85,11,87],[11,88,11,90],[11,91,11,93],[11,94,11,96],[6,85,9,87],[6,88,9,90],[6,91,9,93],[6,94,9,96],[64,9,65,12],[64,13,65,16],[64,45,65,48],[64,49,65,52],[0,63,1,122],[2,63,3,122],[59,9,61,16],[59,45,61,52],[62,9,63,12],[62,13,63,16],[62,45,63,48],[62,49,63,52],[22,9,23,12],[22,13,23,16],[22,46,23,49],[22,50,23,53],[24,46,25,49],[24,50,25,53],[11,44,12,47],[11,48,12,51],[11,52,12,55],[11,56,12,59],[17,9,19,16],[19,46,21,53],[20,9,21,12],[20,13,21,16],[7,54,8,59],[9,2,10,9],[9,10,10,35],[9,36,12,43],[9,44,10,47],[9,48,10,51],[9,52,10,55],[9,56,10,59],[11,2,12,9],[11,10,12,35],[6,65,8,78],[0,1,1,60],[2,1,3,60],[5,2,6,9],[5,10,6,35],[5,36,6,59],[7,2,8,9],[7,10,8,35],[7,36,8,41],[7,42,8,47],[7,48,8,53]]}
[null,"50' ICD Mini-Roundabout",null,null,null,null,null,null,null,null,null,null,null,null,null,null,null,null,null,null,null,null,null,null,null,null,null,null,null,null,null,null,null,null,null,null,null,null,null,null,null,null,null,null,null,null,null,null,null,null,null,null,null,null,null,null,null,null,null,null,null,null,null,"50' ICD Mini-Roundabout"]
[]
[null,"Design and Results",null,null,null,null,null,null,null,null,null,null,null,null,null,null,null,null,null,null,null,null,null,null,null,null,null,null,null,null,null,null,null,null,null,null,null,null,null,null,null,null,null,null,null,null,null,null,null,null,null,null,null,null,null,null,null,null,null,null,null,null,null,"Data Input and Configuration"]
[]
[]
[null,null,"Project Name:",null,null,null,null,null,null,null,{"$f":"P_Name","v":"Cap-X Sample Street"},null,null,null,null,null,null,null,null,null,null,null,null,null,null,null,null,null,null,null,null,null,null,null,null,null,"Volume-to-Capacity Ratio"]
[null,null,null,null,null,null,null,null,null,null,null,null,null,null,null,null,null,null,null,null,null,null,null,null,null,null,null,null,null,null,null,null,null,null,null,null,null,null,null,null,null,null,null,null,null,null,null,null,null,null,null,null,null,null,null,null,null,null,null,null,null,null,null,null,null,"Multimodal Capacity Adjustment Factor",null,null,null,null,null,null,null,null,null,null,null,null,null,{"$f":"IF(Multimodal=1,1,IF(Multimodal=2,0.99,0.98))","v":1}]
[null,null,"Project Number:",null,null,null,null,null,null,null,{"$f":"P_Number","v":10000},null,null,null,null,null,null,null,null,null,null,null,null,null,null,null,null,null,null,null,null,null,null,null,null,null,"< 0.750",null,null,null,null,null,"0.750 - 0.875",null,null,null,null,null,"0.875 - 1.00",null,null,null,null,null,"≥ 1.00"]
[]
[null,null,"Location",null,null,null,null,null,null,null,{"$f":"Location","v":"Tallahassee, FL"},null,null,null,null,null,null,null,null,null,null,null,null,null,null,null,null,null,null,null,null,null,null,null,null,null,"VOLUME / CAPACITY RATIO:",null,null,null,null,null,null,null,"Zone 1",null,null,null,{"$f":"MAX(J23,0)","v":1.2015078924049682},null,null,null,"Zone 4",null,null,null,{"$f":"MAX(AU25,0)","v":0.797136004213433}]
[null,null,null,null,null,null,null,null,null,null,null,null,null,null,null,null,null,null,null,null,null,null,null,null,null,null,null,null,null,null,null,null,null,null,null,null,null,null,null,null,null,null,null,null,null,null,null,null,null,null,null,null,null,null,null,null,null,null,null,null,null,null,null,null,null,null,null,null,null,null,null,null,null,null,null,null,null,null,null,null,null,null,null,null,null,"pepch",null,null,"pepch",null,null,"pepch",null,null,"pepch"]
[null,null,"Date",null,null,null,null,null,null,null,{"$f":"Date","v":"2017 AM"},null,null,null,null,null,null,null,null,null,null,null,null,null,null,null,null,null,null,null,null,null,null,null,null,null,null,null,null,null,null,null,null,null,"Zone 3",null,null,null,{"$f":"MAX(J65,0)","v":0.78508234653600095},null,null,null,"Zone 2",null,null,null,{"$f":"MAX(AT65,0)","v":1.1761592519627155},null,null,null,null,null,null,null,null,null,null,null,null,null,null,null,null,null,null,null,null,null,null,null,null,null,null,null,null,{"$f":"ROUND('1 - Volume Input'!AI36*('1 - Volume Input'!AY36+1),0)","v":200},null,null,{"$f":"ROUND('1 - Volume Input'!AA36*('1 - Volume Input'!AY36+1),0)","v":500},null,null,{"$f":"ROUND('1 - Volume Input'!S36*('1 - Volume Input'!AY36+1),0)","v":100},null,null,{"$f":"ROUND('1 - Volume Input'!K36*('1 - Volume Input'!AY36+1),0)","v":0}]
[]
[null,null,null,null,null,null,null,null,null,null,null,null,null,null,null,null,null,null,null,null,null,null,null,null,null,null,null,null,null,null,null,null,null,null,null,null,null,null,null,null,null,null,null,null,null,null,null,null,null,null,null,null,null,null,null,null,null,null,null,null,null,null,null,null,null,null,null,null,null,null,null,null,null,null,null,null,null,null,null,null,null,null,"Car",null,null,{"$f":"CH12-CH15","v":196},null,null,{"$f":"CK12-CK15","v":500},null,null,{"$f":"CN12-CN15","v":96},null,null,{"$f":"CQ12-CQ15","v":0}]
[null,null,null,null,null,null,null,null,null,null,null,null,null,null,null,null,null,null,null,null,null,null,null,null,null,null,null,null,null,null,null,null,null,null,null,null,null,null,null,null,null,null,null,null,null,null,null,null,null,null,null,null,null,null,null,null,null,null,null,null,null,null,null,null,null,null,null,null,null,null,null,null,null,null,null,null,null,null,null,null,null,null,"Truck",null,null,4,null,null,0,null,null,4,null,null,0,null,null,{"$f":"SUM(CH15:CS15)/SUM(CH14:CS15)","v":0.01}]
[]
[]
[null,null,null,null,null,null,null,null,null,"Predicted approach capacity",null,null,null,null,null,null,null,null,null,null,null,null,null,null,null,null,null,null,null,null,null,null,null,null,null,null,null,null,null,null,null,null,null,null,null,null,null,null,null,null,null,null,null,null,null,null,null,null,null,null,null,null,null,null,null,null,null,null,null,null,null,null,null,null,null,null,null,null,null,null,null,null,null,null,null,null,null,null,null,"Predicted approach capacity"]
[]
[null,null,null,null,null,null,null,null,null,null,null,null,null,null,null,null,null,null,null,null,null,null,null,null,null,null,null,null,null,null,null,null,null,null,null,null,null,null,null,null,null,null,null,null,null,null,"Predicted approach capacity"]
[null,null,null,null,null,null,null,null,null,{"$f":"CL21","v":665.83},null,null,null,"PCEPH",null,null,null,null,null,null,null,null,null,null,null,null,null,null,null,null,null,null,null,null,null,null,null,null,null,null,null,null,null,null,null,null,null,null,null,null,null,null,null,null,null,null,null,null,null,null,null,null,null,null,null,null,null,null,null,null,null,null,null,null,null,null,null,null,null,null,null,null,null,null,null,null,null,null,null,{"$f":"1009-1.025*CL25","v":665.83},null,null,null,"PCEPH"]
[]
[null,null,null,null,null,null,null,null,null,{"$f":"CH31/CB7","v":1.2015078924049682},null,null,null,"V/C",null,null,null,null,null,null,null,null,null,null,null,null,null,null,null,null,null,null,null,null,null,null,null,null,null,null,null,null,null,null,null,null,{"$f":"DA38","v":351.25750000000005},null,null,null,"PCEPH",null,null,null,null,null,null,null,null,null,null,null,null,null,null,null,null,null,null,null,null,null,null,null,null,null,null,null,null,null,null,null,null,null,null,"pepch",null,null,null,"conflicting with"]
[null,null,null,null,null,null,null,null,null,null,null,null,null,null,null,null,null,{"$f":"+IF(J23>1,1,0)","v":1},null,null,null,null,null,null,null,null,null,null,null,null,null,null,null,null,null,null,null,null,null,null,null,null,null,null,null,null,null,null,null,null,null,null,null,null,null,null,null,null,null,null,null,null,null,null,null,null,null,null,null,null,null,null,null,null,null,null,null,null,null,null,null,null,null,null,null,{"$f":"SUM(CH12:CS12)","v":800}]
[null,null,null,null,null,null,null,null,null,null,null,null,null,null,null,null,null,null,null,null,null,null,null,null,null,null,null,null,null,null,null,null,null,null,null,null,null,null,null,null,null,null,null,null,null,null,{"$f":"CV31/CB7","v":0.797136004213433},null,null,null,"V/C",null,null,null,null,null,null,null,null,null,null,null,null,null,null,null,null,null,null,null,null,null,null,null,null,null,null,null,null,null,null,null,null,null,null,1,null,null,null,{"$f":"DL34+DL37+DL40+CO65+CL65+BS36+(1.7*(DK34+CO64+BT39))","v":334.8},null,null,null,"PCEPH"]
[null,null,null,null,null,null,null,null,null,null,null,null,null,null,null,null,null,null,null,null,null,null,null,null,null,null,null,null,null,null,null,null,null,null,null,null,null,null,null,null,null,null,null,null,null,null,null,null,null,null,null,null,null,null,{"$f":"+IF(AY25>1,1,0)","v":1},null,null,null,null,null,null,null,null,null,null,null,null,null,null,null,null,null,null,null,null,null,null,null,null,null,null,null,null,null,null,"V/C RATIO"]
[null,null,null,null,null,null,null,null,null,null,null,null,null,null,null,null,null,null,null,null,null,null,null,null,null,null,null,null,null,null,null,null,null,null,null,null,null,null,null,null,null,null,null,null,null,null,null,null,null,null,null,null,null,null,null,null,null,null,null,null,null,null,null,null,null,null,null,null,null,null,null,null,null,null,null,null,null,null,null,null,null,null,null,null,null,null,null,null,null,"Conflicting flow"]
[null,null,null,null,null,null,null,null,null,null,null,null,null,null,null,null,null,null,null,null,null,null,null,null,null,null,null,null,null,null,null,null,null,null,null,null,null,null,null,null,null,null,null,null,null,null,null,null,null,null,null,null,null,null,null,null,null,null,null,null,null,null,null,null,null,null,null,null,null,null,null,null,null,null,null,null,null,null,null,null,null,null,null,null,null,null,null,null,null,1,"Lane",null,null,null,null,null,null,null,null,null,null,null,null,null,null,null,null,null,null,null,null,null,null,null,{"$f":"SUM(DK31:DK42)/SUM(DK31:DL42)","v":2.5000000000000001E-2}]
[]
[]
[null,null,null,null,null,null,null,null,null,null,null,null,null,null,null,null,null,null,null,null,null,null,null,null,null,null,null,null,null,null,null,null,null,null,null,null,null,null,null,null,null,null,null,null,null,null,null,null,null,null,null,null,null,null,null,null,null,null,null,null,null,null,null,null,null,null,null,null,null,null,null,null,null,null,null,null,null,null,null,null,null,null,null,null,null,{"$f":"CH24/CL21","v":1.2015078924049682},null,null,null,null,null,null,null,null,null,null,null,null,null,{"$f":"DD31/DA38","v":0.797136004213433},null,"V/C RATIO",null,null,null,null,1,{"$f":"SUM(DN31:DN42)","v":280},"pepch",null,null,null,null,null,5,{"$f":"DN31-DK31","v":45},null,{"$f":"ROUND('1 - Volume Input'!AI34*('1 - Volume Input'!AY34+1),0)","v":50},"pepch"]
[]
[null,null,null,null,null,null,null,null,null,null,null,null,null,null,null,null,null,null,null,null,null,null,null,null,null,null,null,null,null,null,null,null,null,null,null,null,null,null,null,null,null,null,null,null,null,null,null,null,null,null,null,null,null,null,null,null,null,null,null,null,null,null,null,null,null,null,null,null,null,null,"Car","Truck"]
[null,null,null,null,null,null,null,null,null,null,null,null,null,null,null,null,null,null,null,null,null,null,null,null,null,null,null,null,null,null,null,null,null,null,null,null,null,null,null,null,null,null,null,null,null,null,null,null,null,null,null,null,null,null,null,null,null,null,null,null,null,null,null,null,null,null,null,null,null,null,null,null,null,null,null,null,null,null,null,null,null,null,null,null,null,null,null,null,null,null,null,null,null,null,null,null,null,null,null,null,null,null,null,null,null,null,null,null,null,null,null,null,null,null,2,{"$f":"DN34-DK34","v":198},null,{"$f":"ROUND('1 - Volume Input'!AA34*('1 - Volume Input'!AY34+1),0)","v":200},"pepch"]
[null,null,null,null,null,null,null,null,null,null,null,null,null,null,null,null,null,null,null,null,null,null,null,null,null,null,null,null,null,null,null,null,null,null,null,null,null,null,null,null,null,null,null,null,null,null,null,null,null,null,null,null,null,null,null,null,null,null,null,null,null,null,null,null,null,null,null,null,null,null,null,null,null,null,"Predicted approach capacity",null,null,null,null,null,null,null,"Conflicting flow",1,null,null,null,null,null,null,null,null,null,null,null,null,null,null,null,null,null,null,null,"Conflicting flow","Predicted approach capacity"]
[null,null,null,null,null,null,null,null,null,null,null,null,null,null,null,null,null,null,null,null,null,null,null,null,null,null,null,null,null,null,null,null,null,null,null,null,null,null,null,null,null,null,null,null,null,null,null,null,null,null,null,null,null,null,null,null,null,null,null,null,null,null,null,null,null,null,null,"pepch",{"$f":"ROUND('1 - Volume Input'!K32*('1 - Volume Input'!AY32+1),0)","v":0},null,{"$f":"BQ36-BT36","v":0},0]
[null,null,null,null,null,null,null,null,null,null,null,null,null,null,null,null,null,null,null,null,null,null,null,null,null,null,null,null,null,null,null,null,null,null,null,null,null,null,null,null,null,null,null,null,null,null,null,null,null,null,null,null,null,null,null,null,null,null,null,null,null,null,null,null,null,null,null,null,null,null,null,null,null,null,null,null,null,null,null,null,null,null,null,"Lane",null,null,null,null,null,null,null,null,null,null,null,null,null,null,null,null,null,null,null,null,null,null,null,null,null,null,null,null,null,null,0,{"$f":"DN37-DK37","v":30},null,{"$f":"ROUND('1 - Volume Input'!S34*('1 - Volume Input'!AY34+1),0)","v":30},"pepch"]
[null,null,null,null,null,null,null,null,null,null,null,null,null,null,null,null,null,null,null,null,null,null,null,null,null,null,null,null,null,null,null,null,null,null,null,null,null,null,null,null,null,null,null,null,null,null,null,null,null,null,null,null,null,null,null,null,null,null,null,null,null,null,null,null,null,null,null,null,null,null,null,null,null,null,{"$f":"1009-1.025*BW42","v":367.35},null,null,null,"PCEPH",null,null,null,null,null,null,null,null,null,null,null,null,null,null,null,null,null,null,null,null,null,null,null,null,null,{"$f":"1009-1.025*DA42","v":351.25750000000005},null,null,null,"PCEPH"]
[null,null,null,null,null,null,null,null,null,null,null,null,null,null,null,null,null,null,null,null,null,null,null,null,null,null,null,null,null,null,null,null,null,null,null,null,null,null,null,null,null,null,null,null,null,null,null,null,null,null,null,null,null,null,null,null,null,null,null,null,null,null,null,null,null,null,null,"pepch",{"$f":"ROUND('1 - Volume Input'!S32*('1 - Volume Input'!AY32+1),0)","v":30},null,{"$f":"BQ39-BT39","v":28},2,null,null,null,null,null,null,null,null,null,null,null,null,null,null,null,null,null,null,null,null,null,null,null,null,null,null,null,null,null,"Lane"]
[null,null,null,null,null,null,null,null,null,null,null,null,null,null,null,null,null,null,null,null,null,null,null,null,null,null,null,null,null,null,null,null,null,null,null,null,null,null,null,null,null,null,null,null,null,null,null,null,null,null,null,null,null,null,null,null,null,null,null,null,null,null,null,null,null,null,null,null,null,null,null,null,null,null,"conflicting with",null,null,null,null,null,null,null,null,null,null,null,null,null,null,null,null,null,null,null,null,null,null,null,null,null,null,null,null,null,"conflicting with",null,null,null,null,null,null,null,null,null,0,{"$f":"DN40-DK40","v":0},null,{"$f":"ROUND('1 - Volume Input'!K34*('1 - Volume Input'!AY34+1),0)","v":0},"pepch"]
[]
[null,null,null,null,null,null,null,null,null,null,null,null,null,null,null,null,null,null,null,null,null,null,null,null,null,null,null,null,null,null,null,null,null,null,null,null,null,null,null,null,null,null,null,null,null,null,null,null,null,null,null,null,null,null,null,null,null,null,null,null,null,null,null,null,null,null,null,"pepch",{"$f":"ROUND('1 - Volume Input'!AA32*('1 - Volume Input'!AY32+1),0)","v":200},null,{"$f":"BQ42-BT42","v":190},10,null,null,{"$f":"(CK14+CN14+CQ14+DL37+DL40+CL65)+(1.7*(CO64+DK37+CK15))","v":626},null,null,null,"PCEPH",null,null,null,null,null,null,null,null,null,null,null,null,null,null,null,null,null,null,null,null,null,null,1,null,null,{"$f":"CL65+CO65+CR65+CQ14+BS39+BS36+(1.7*(CR64+BT39+CN15))","v":641.70000000000005},null,null,null,"PCEPH"]
[null,null,null,null,null,null,null,null,null,null,null,null,null,null,null,null,null,null,null,null,null,null,null,null,null,null,null,null,null,null,null,null,null,null,null,null,null,null,null,null,null,null,null,null,null,null,null,null,null,null,null,null,null,null,null,null,null,null,null,null,null,null,null,null,null,null,null,null,null,null,null,null,null,null,null,null,null,null,null,null,null,null,null,null,null,null,null,null,null,null,null,null,null,null,null,null,null,null,null,null,null,null,null,null,null,null,null,null,null,null,null,null,null,null,"Truck","Car"]
[]
[null,null,null,null,null,null,null,null,null,null,null,null,null,null,null,null,null,null,null,null,null,null,null,null,null,null,null,null,null,null,null,null,null,null,null,null,null,null,null,null,null,null,null,null,null,null,null,null,null,null,null,null,null,null,null,null,null,null,null,null,null,null,null,null,null,null,null,"pepch",{"$f":"ROUND('1 - Volume Input'!AI32*('1 - Volume Input'!AY32+1),0)","v":50},null,{"$f":"BQ45-BT45","v":50},0,null,null,null,null,null,"pepch",{"$f":"SUM(BS36:BS47)+(1.7*(SUM(BT36:BT47)))","v":288.39999999999998},1,"V/C RATIO",null,null,null,null,{"$f":"CA45/BW38","v":0.78508234653600095}]
[]
[null,null,null,null,null,null,null,null,null,null,null,null,null,null,null,null,null,null,null,null,null,null,null,null,null,null,null,null,null,null,null,null,null,null,null,null,null,null,null,null,null,null,null,null,null,null,null,null,null,null,null,null,null,null,null,null,null,null,null,null,null,null,null,null,null,null,null,null,null,null,null,null,null,null,null,null,null,null,null,null,null,null,null,null,null,null,null,null,null,null,null,null,null,null,null,null,null,null,{"$f":"CU55/CL56","v":1.1761592519627155}]
[null,null,null,null,null,null,null,null,null,null,null,null,null,null,null,null,null,null,null,null,null,null,null,null,null,null,null,null,null,null,null,null,null,null,null,null,null,null,null,null,null,null,null,null,null,null,null,null,null,null,null,null,null,null,null,null,null,null,null,null,null,null,null,null,null,null,null,null,null,null,null,{"$f":"SUM(BT36:BT47)/(SUM(BS36:BT47))","v":4.2857142857142858E-2}]
[null,null,null,null,null,null,null,null,null,null,null,null,null,null,null,null,null,null,null,null,null,null,null,null,null,null,null,null,null,null,null,null,null,null,null,null,null,null,null,null,null,null,null,null,null,null,null,null,null,null,null,null,null,null,null,null,null,null,null,null,null,null,null,null,null,null,null,null,null,null,null,null,null,null,null,null,null,null,null,null,null,null,null,null,null,null,null,null,null,null,null,null,null,null,null,null,null,null,"V/C RATIO"]
[null,null,null,null,null,null,null,null,null,null,null,null,null,null,null,null,null,null,null,null,null,null,null,null,null,null,null,null,null,null,null,null,null,null,null,null,null,null,null,null,null,null,null,null,null,null,null,null,null,null,null,null,null,null,null,null,null,null,null,null,null,null,null,null,null,null,null,null,null,null,null,null,null,null,null,null,null,null,null,null,null,null,null,null,null,null,null,null,null,1,"Lane"]
[]
[null,null,null,null,null,null,null,null,null,null,null,null,null,null,null,null,null,null,null,null,null,null,null,null,null,null,null,null,null,null,null,null,null,null,null,null,null,null,null,null,null,null,null,null,null,null,null,null,null,null,null,null,null,null,null,null,null,null,null,null,null,null,null,null,null,null,null,null,null,null,null,null,null,null,null,null,null,null,null,null,null,null,null,null,null,null,null,null,null,"Conflicting flow"]
[null,null,null,null,null,null,null,null,null,null,null,null,null,null,null,null,null,null,null,null,null,null,null,null,null,null,null,null,null,null,null,null,null,null,null,null,null,null,null,null,null,null,null,null,null,null,null,null,null,null,null,null,null,null,null,null,null,null,null,null,null,null,null,null,null,null,null,null,null,null,null,null,null,null,null,null,null,null,null,null,null,null,null,null,null,null,null,null,null,"Predicted approach capacity"]
[null,null,null,null,null,null,null,null,null,null,null,null,null,null,null,null,null,null,null,null,null,null,null,null,null,null,null,null,null,null,null,null,null,null,null,null,null,null,null,null,null,null,null,null,null,null,null,null,null,null,null,null,null,null,null,null,null,null,null,null,null,null,null,null,null,null,null,null,null,null,null,null,null,null,null,null,null,null,null,null,null,null,null,null,null,null,null,null,null,null,null,null,null,null,null,null,null,null,1]
[null,null,null,null,null,null,null,null,null,null,null,null,null,null,null,null,null,null,null,null,null,null,null,null,null,null,null,null,null,null,null,null,null,null,null,null,null,null,null,null,null,null,null,null,null,null,null,null,null,null,null,null,null,null,null,null,null,null,null,null,null,null,null,null,null,null,null,null,null,null,null,null,null,null,null,null,null,null,null,null,null,null,null,null,null,null,null,null,null,null,null,null,null,null,null,null,null,null,{"$f":"SUM(CL67:CW67)","v":800}]
[null,null,null,null,null,null,null,null,null,null,null,null,null,null,null,null,null,null,null,null,null,null,null,null,null,null,null,null,null,null,null,null,null,null,null,null,null,null,null,null,null,null,null,null,null,null,null,null,null,null,null,null,null,null,null,null,null,null,null,null,null,null,null,null,null,null,null,null,null,null,null,null,null,null,null,null,null,null,null,null,null,null,null,null,null,null,null,null,null,{"$f":"1009-1.025*CL60","v":680.18000000000006},null,null,null,"PCEPH",null,null,null,null,"pepch"]
[]
[null,null,null,null,null,null,null,null,null,null,null,null,null,null,null,null,null,null,null,null,null,null,null,null,null,null,null,null,null,null,null,null,null,null,null,null,null,null,null,null,null,null,null,null,null,null,null,null,null,null,null,null,null,null,null,null,null,null,null,null,null,null,null,null,null,null,null,null,null,null,null,null,null,null,null,null,null,null,null,null,null,null,null,null,null,null,null,null,null,"conflicting with"]
[]
[null,null,null,null,null,null,null,null,null,"Predicted approach capacity",null,null,null,null,null,null,null,null,null,null,null,null,null,null,null,null,null,null,null,null,null,null,null,null,null,null,null,null,null,null,null,null,null,null,null,"Predicted approach capacity",null,null,null,null,null,null,null,null,null,null,null,null,null,null,null,null,null,null,null,null,null,null,null,null,null,null,null,null,null,null,null,null,null,null,null,null,null,null,null,null,null,null,null,{"$f":"BS36+BS39+BS42+CN14+CQ14+DL40+(1.7*(BT45+CN15+DK37))","v":320.8},null,null,null,"PCEPH"]
[]
[]
[null,null,null,null,null,null,null,null,null,{"$f":"BW38","v":367.35},null,null,null,"PCEPH",null,null,null,null,null,null,null,null,null,null,null,null,null,null,null,null,null,null,null,null,null,null,null,null,null,null,null,null,null,null,null,{"$f":"CL56","v":680.18000000000006},null,null,null,"PCEPH"]
[null,null,null,null,null,null,null,null,null,null,null,null,null,null,null,null,null,null,null,null,null,null,null,null,null,null,null,null,null,null,null,null,null,null,null,null,null,null,null,null,null,null,null,null,null,null,null,null,null,null,null,null,null,null,null,null,null,null,null,null,null,null,null,null,null,null,null,null,null,null,null,null,null,null,null,null,null,null,null,null,null,null,null,null,null,null,"Truck",null,null,0,null,null,0,null,null,5,null,null,4,null,null,{"$f":"SUM(CL64:CW64)/SUM(CL64:CW65)","v":1.125E-2}]
[null,null,null,null,null,null,null,null,null,{"$f":"CH45/CB7","v":0.78508234653600095},null,null,null,"V/C",null,null,null,null,null,null,null,null,null,null,null,null,null,null,null,null,null,null,null,null,null,null,null,null,null,null,null,null,null,null,null,{"$f":"CU47/CB7","v":1.1761592519627155},null,null,null,"V/C",null,null,null,null,null,null,null,null,null,null,null,null,null,null,null,null,null,null,null,null,null,null,null,null,null,null,null,null,null,null,null,null,null,null,null,null,"Car",null,null,{"$f":"CL67-CL64","v":0},null,null,{"$f":"CO67-CO64","v":100},null,null,{"$f":"CR67-CR64","v":495},null,null,{"$f":"CU67-CU64","v":196}]
[null,null,null,null,null,null,null,null,null,null,null,null,null,null,null,null,null,{"$f":"+IF(J65>1,1,0)","v":0},null,null,null,null,null,null,null,null,null,null,null,null,null,null,null,null,null,null,null,null,null,null,null,null,null,null,null,null,null,null,null,null,null,null,null,{"$f":"+IF(AT65>1,1,0)","v":1}]
[null,null,null,null,null,null,null,null,null,null,null,null,null,null,null,null,null,null,null,null,null,null,null,null,null,null,null,null,null,null,null,null,null,null,null,null,null,null,null,null,null,null,null,null,null,null,null,null,null,null,null,null,null,null,null,null,null,null,null,null,null,null,null,null,null,null,null,null,null,null,null,null,null,null,null,null,null,null,null,null,null,null,null,null,null,null,null,null,null,{"$f":"ROUND('1 - Volume Input'!K38*('1 - Volume Input'!AY38+1),0)","v":0},null,null,{"$f":"ROUND('1 - Volume Input'!S38*('1 - Volume Input'!AY38+1),0)","v":100},null,null,{"$f":"ROUND('1 - Volume Input'!AA38*('1 - Volume Input'!AY38+1),0)","v":500},null,null,{"$f":"ROUND('1 - Volume Input'!AI38*('1 - Volume Input'!AY38+1),0)","v":200}]
[null,null,null,null,null,null,null,null,null,null,null,null,null,null,null,null,null,null,null,null,null,null,null,null,null,null,null,null,null,null,null,null,null,null,null,null,null,null,null,null,null,null,null,null,null,null,null,null,null,null,null,null,null,null,null,null,null,null,null,null,null,null,null,null,null,null,null,null,null,null,null,null,null,null,null,null,null,null,null,null,null,null,null,null,null,null,null,null,null,"pepch",null,null,"pepch",null,null,"pepch",null,null,"pepch"]

{"sheet":"75 Mini-Rndabt","index":39,"n_rows":68,"n_cols":119,"rows_kept":68,"cut":false,"hidden":false,"merged":[[63,86,63,88],[63,89,63,91],[63,92,63,94],[63,95,63,97],[63,98,63,100],[67,89,67,91],[67,92,67,94],[67,95,67,97],[67,98,67,100],[68,89,71,91],[68,92,71,94],[68,95,71,97],[68,98,71,100],[64,86,64,88],[64,89,64,91],[64,92,64,94],[64,95,64,97],[64,98,64,100],[66,89,66,91],[66,92,66,94],[66,95,66,97],[66,98,66,100],[63,101,63,103],[52,89,54,96],[53,98,53,100],[54,98,54,100],[55,89,56,92],[55,93,56,96],[55,98,55,100],[56,98,59,100],[57,89,58,96],[59,89,60,92],[59,93,60,96],[44,80,46,84],[44,85,46,86],[46,98,47,100],[47,71,49,71],[48,98,52,100],[49,89,50,89],[49,90,50,92],[49,93,50,96],[51,89,51,96],[44,63,46,66],[44,67,46,67],[44,68,46,68],[44,70,46,70],[44,71,46,71],[44,73,46,76],[44,77,46,77],[44,78,46,78],[44,79,46,79],[39,118,41,118],[39,119,41,122],[41,63,43,66],[41,67,43,67],[41,68,43,68],[41,70,43,70],[41,71,43,71],[41,74,42,77],[38,71,40,71],[38,101,40,102],[39,74,40,81],[39,83,42,84],[39,104,40,111],[39,114,41,114],[41,78,42,81],[41,101,42,102],[41,104,42,107],[41,108,42,111],[36,118,38,118],[36,119,38,122],[37,74,38,77],[37,78,38,81],[42,114,44,114],[42,115,44,115],[35,63,37,66],[35,67,37,67],[35,68,37,68],[35,70,37,70],[35,71,37,71],[36,83,38,84],[38,63,40,66],[38,67,40,67],[38,68,40,68],[38,70,40,70],[30,115,32,115],[30,117,32,117],[30,118,32,118],[30,119,32,122],[32,70,34,70],[32,71,34,71],[33,114,35,114],[33,115,35,115],[33,117,35,117],[33,118,35,118],[33,119,35,122],[34,74,36,81],[34,82,42,82],[34,83,35,84],[34,101,37,102],[34,103,42,103],[34,104,36,111],[36,114,38,114],[36,115,38,115],[36,117,38,117],[37,104,38,107],[37,108,38,111],[39,115,41,115],[39,117,41,117],[27,114,29,114],[30,85,31,87],[30,99,32,100],[30,101,32,105],[30,106,32,106],[30,107,32,107],[30,108,32,108],[30,109,32,112],[30,114,32,114],[25,85,29,87],[26,89,26,96],[27,89,28,89],[27,90,28,92],[27,93,28,96],[10,94,10,96],[17,89,19,96],[18,85,21,87],[20,89,21,92],[20,93,21,96],[22,85,22,87],[22,89,23,96],[23,85,23,87],[14,97,14,99],[11,85,11,87],[11,88,11,90],[11,91,11,93],[11,94,11,96],[64,9,65,12],[64,13,65,16],[64,45,65,48],[64,49,65,52],[9,10,10,35],[9,36,12,43],[9,44,10,47],[9,48,10,51],[9,52,10,55],[11,2,12,9],[11,10,12,35],[17,9,19,16],[20,9,21,12],[20,13,21,16],[59,9,61,16],[59,45,61,52],[62,9,63,12],[62,13,63,16],[62,45,63,48],[62,49,63,52],[22,9,23,12],[22,13,23,16],[14,82,14,84],[14,85,14,87],[14,88,14,90],[14,91,14,93],[14,94,14,96],[24,85,24,87],[24,89,25,92],[24,93,25,96],[11,44,12,47],[11,48,12,51],[11,52,12,55],[11,56,12,59],[19,46,21,53],[13,82,13,84],[13,85,13,87],[13,88,13,90],[13,91,13,93],[13,94,13,96],[22,46,23,49],[22,50,23,53],[24,46,25,49],[24,50,25,53],[6,65,8,78],[0,1,1,60],[2,1,3,60],[5,2,6,9],[5,10,6,35],[5,36,6,59],[7,2,8,9],[7,10,8,35],[7,36,8,41],[7,42,8,47],[7,48,8,53],[0,63,1,122],[2,63,3,122],[6,85,9,87],[6,88,9,90],[6,91,9,93],[6,94,9,96],[6,79,7,80],[7,54,8,59],[9,2,10,9],[9,56,10,59],[10,85,10,87],[10,88,10,90],[10,91,10,93]]}
[null,"75' ICD Mini-Roundabout",null,null,null,null,null,null,null,null,null,null,null,null,null,null,null,null,null,null,null,null,null,null,null,null,null,null,null,null,null,null,null,null,null,null,null,null,null,null,null,null,null,null,null,null,null,null,null,null,null,null,null,null,null,null,null,null,null,null,null,null,null,"75' ICD Mini-Roundabout"]
[]
[null,"Design and Results",null,null,null,null,null,null,null,null,null,null,null,null,null,null,null,null,null,null,null,null,null,null,null,null,null,null,null,null,null,null,null,null,null,null,null,null,null,null,null,null,null,null,null,null,null,null,null,null,null,null,null,null,null,null,null,null,null,null,null,null,null,"Data Input and Configuration"]
[]
[]
[null,null,"Project Name:",null,null,null,null,null,null,null,{"$f":"P_Name","v":"Cap-X Sample Street"},null,null,null,null,null,null,null,null,null,null,null,null,null,null,null,null,null,null,null,null,null,null,null,null,null,"Volume-to-Capacity Ratio"]
[null,null,null,null,null,null,null,null,null,null,null,null,null,null,null,null,null,null,null,null,null,null,null,null,null,null,null,null,null,null,null,null,null,null,null,null,null,null,null,null,null,null,null,null,null,null,null,null,null,null,null,null,null,null,null,null,null,null,null,null,null,null,null,null,null,"Multimodal Capacity Adjustment Factor",null,null,null,null,null,null,null,null,null,null,null,null,null,{"$f":"IF(Multimodal=1,1,IF(Multimodal=2,0.99,0.98))","v":1}]
[null,null,"Project Number:",null,null,null,null,null,null,null,{"$f":"P_Number","v":10000},null,null,null,null,null,null,null,null,null,null,null,null,null,null,null,null,null,null,null,null,null,null,null,null,null,"< 0.750",null,null,null,null,null,"0.750 - 0.875",null,null,null,null,null,"0.875 - 1.00",null,null,null,null,null,"≥ 1.00"]
[]
[null,null,"Location",null,null,null,null,null,null,null,{"$f":"Location","v":"Tallahassee, FL"},null,null,null,null,null,null,null,null,null,null,null,null,null,null,null,null,null,null,null,null,null,null,null,null,null,"VOLUME / CAPACITY RATIO:",null,null,null,null,null,null,null,"Zone 1",null,null,null,{"$f":"MAX(J23,0)","v":1.1467495384333108},null,null,null,"Zone 4",null,null,null,{"$f":"MAX(AU25,0)","v":0.67150663064832983}]
[null,null,null,null,null,null,null,null,null,null,null,null,null,null,null,null,null,null,null,null,null,null,null,null,null,null,null,null,null,null,null,null,null,null,null,null,null,null,null,null,null,null,null,null,null,null,null,null,null,null,null,null,null,null,null,null,null,null,null,null,null,null,null,null,null,null,null,null,null,null,null,null,null,null,null,null,null,null,null,null,null,null,null,null,null,"pepch",null,null,"pepch",null,null,"pepch",null,null,"pepch"]
[null,null,"Date",null,null,null,null,null,null,null,{"$f":"Date","v":"2017 AM"},null,null,null,null,null,null,null,null,null,null,null,null,null,null,null,null,null,null,null,null,null,null,null,null,null,null,null,null,null,null,null,null,null,"Zone 3",null,null,null,{"$f":"MAX(J65,0)","v":0.70547242610631655},null,null,null,"Zone 2",null,null,null,{"$f":"MAX(AT65,0)","v":1.12111142502231},null,null,null,null,null,null,null,null,null,null,null,null,null,null,null,null,null,null,null,null,null,null,null,null,null,null,null,null,{"$f":"ROUND('1 - Volume Input'!AI36*('1 - Volume Input'!AY36+1),0)","v":200},null,null,{"$f":"ROUND('1 - Volume Input'!AA36*('1 - Volume Input'!AY36+1),0)","v":500},null,null,{"$f":"ROUND('1 - Volume Input'!S36*('1 - Volume Input'!AY36+1),0)","v":100},null,null,{"$f":"ROUND('1 - Volume Input'!K36*('1 - Volume Input'!AY36+1),0)","v":0}]
[]
[null,null,null,null,null,null,null,null,null,null,null,null,null,null,null,null,null,null,null,null,null,null,null,null,null,null,null,null,null,null,null,null,null,null,null,null,null,null,null,null,null,null,null,null,null,null,null,null,null,null,null,null,null,null,null,null,null,null,null,null,null,null,null,null,null,null,null,null,null,null,null,null,null,null,null,null,null,null,null,null,null,null,"Car",null,null,{"$f":"CH12-CH15","v":196},null,null,{"$f":"CK12-CK15","v":490},null,null,{"$f":"CN12-CN15","v":96},null,null,{"$f":"CQ12-CQ15","v":0}]
[null,null,null,null,null,null,null,null,null,null,null,null,null,null,null,null,null,null,null,null,null,null,null,null,null,null,null,null,null,null,null,null,null,null,null,null,null,null,null,null,null,null,null,null,null,null,null,null,null,null,null,null,null,null,null,null,null,null,null,null,null,null,null,null,null,null,null,null,null,null,null,null,null,null,null,null,null,null,null,null,null,null,"Truck",null,null,4,null,null,10,null,null,4,null,null,0,null,null,{"$f":"SUM(CH15:CS15)/SUM(CH14:CS15)","v":2.2499999999999999E-2}]
[]
[]
[null,null,null,null,null,null,null,null,null,"Predicted approach capacity",null,null,null,null,null,null,null,null,null,null,null,null,null,null,null,null,null,null,null,null,null,null,null,null,null,null,null,null,null,null,null,null,null,null,null,null,null,null,null,null,null,null,null,null,null,null,null,null,null,null,null,null,null,null,null,null,null,null,null,null,null,null,null,null,null,null,null,null,null,null,null,null,null,null,null,null,null,null,null,"Predicted approach capacity"]
[]
[null,null,null,null,null,null,null,null,null,null,null,null,null,null,null,null,null,null,null,null,null,null,null,null,null,null,null,null,null,null,null,null,null,null,null,null,null,null,null,null,null,null,null,null,null,null,"Predicted approach capacity"]
[null,null,null,null,null,null,null,null,null,{"$f":"CL21","v":697.62400000000002},null,null,null,"PCEPH",null,null,null,null,null,null,null,null,null,null,null,null,null,null,null,null,null,null,null,null,null,null,null,null,null,null,null,null,null,null,null,null,null,null,null,null,null,null,null,null,null,null,null,null,null,null,null,null,null,null,null,null,null,null,null,null,null,null,null,null,null,null,null,null,null,null,null,null,null,null,null,null,null,null,null,{"$f":"1020-0.944*CL25","v":697.62400000000002},null,null,null,"PCEPH"]
[]
[null,null,null,null,null,null,null,null,null,{"$f":"CH31/CB7","v":1.1467495384333108},null,null,null,"V/C",null,null,null,null,null,null,null,null,null,null,null,null,null,null,null,null,null,null,null,null,null,null,null,null,null,null,null,null,null,null,null,null,{"$f":"DA38","v":416.97280000000012},null,null,null,"PCEPH",null,null,null,null,null,null,null,null,null,null,null,null,null,null,null,null,null,null,null,null,null,null,null,null,null,null,null,null,null,null,null,null,null,null,"pepch",null,null,null,"conflicting with"]
[null,null,null,null,null,null,null,null,null,null,null,null,null,null,null,null,null,{"$f":"+IF(J23>1,1,0)","v":1},null,null,null,null,null,null,null,null,null,null,null,null,null,null,null,null,null,null,null,null,null,null,null,null,null,null,null,null,null,null,null,null,null,null,null,null,null,null,null,null,null,null,null,null,null,null,null,null,null,null,null,null,null,null,null,null,null,null,null,null,null,null,null,null,null,null,null,{"$f":"SUM(CH12:CS12)","v":800}]
[null,null,null,null,null,null,null,null,null,null,null,null,null,null,null,null,null,null,null,null,null,null,null,null,null,null,null,null,null,null,null,null,null,null,null,null,null,null,null,null,null,null,null,null,null,null,{"$f":"CV31/CB7","v":0.67150663064832983},null,null,null,"V/C",null,null,null,null,null,null,null,null,null,null,null,null,null,null,null,null,null,null,null,null,null,null,null,null,null,null,null,null,null,null,null,null,null,null,1,null,null,null,{"$f":"DL34+DL37+DL40+CO65+CL65+BS36+(1.7*(DK34+CO64+BT39))","v":341.5},null,null,null,"PCEPH"]
[null,null,null,null,null,null,null,null,null,null,null,null,null,null,null,null,null,null,null,null,null,null,null,null,null,null,null,null,null,null,null,null,null,null,null,null,null,null,null,null,null,null,null,null,null,null,null,null,null,null,null,null,null,null,{"$f":"+IF(AY25>1,1,0)","v":1},null,null,null,null,null,null,null,null,null,null,null,null,null,null,null,null,null,null,null,null,null,null,null,null,null,null,null,null,null,null,"V/C RATIO"]
[null,null,null,null,null,null,null,null,null,null,null,null,null,null,null,null,null,null,null,null,null,null,null,null,null,null,null,null,null,null,null,null,null,null,null,null,null,null,null,null,null,null,null,null,null,null,null,null,null,null,null,null,null,null,null,null,null,null,null,null,null,null,null,null,null,null,null,null,null,null,null,null,null,null,null,null,null,null,null,null,null,null,null,null,null,null,null,null,null,"Conflicting flow"]
[null,null,null,null,null,null,null,null,null,null,null,null,null,null,null,null,null,null,null,null,null,null,null,null,null,null,null,null,null,null,null,null,null,null,null,null,null,null,null,null,null,null,null,null,null,null,null,null,null,null,null,null,null,null,null,null,null,null,null,null,null,null,null,null,null,null,null,null,null,null,null,null,null,null,null,null,null,null,null,null,null,null,null,null,null,null,null,null,null,1,"Lane",null,null,null,null,null,null,null,null,null,null,null,null,null,null,null,null,null,null,null,null,null,null,null,{"$f":"SUM(DK31:DK42)/SUM(DK31:DL42)","v":0.05}]
[]
[]
[null,null,null,null,null,null,null,null,null,null,null,null,null,null,null,null,null,null,null,null,null,null,null,null,null,null,null,null,null,null,null,null,null,null,null,null,null,null,null,null,null,null,null,null,null,null,null,null,null,null,null,null,null,null,null,null,null,null,null,null,null,null,null,null,null,null,null,null,null,null,null,null,null,null,null,null,null,null,null,null,null,null,null,null,null,{"$f":"CH24/CL21","v":1.1467495384333108},null,null,null,null,null,null,null,null,null,null,null,null,null,{"$f":"DD31/DA38","v":0.67150663064832983},null,"V/C RATIO",null,null,null,null,1,{"$f":"SUM(DN31:DN42)","v":280},"pepch",null,null,null,null,null,5,{"$f":"DN31-DK31","v":45},null,{"$f":"ROUND('1 - Volume Input'!AI34*('1 - Volume Input'!AY34+1),0)","v":50},"pepch"]
[]
[null,null,null,null,null,null,null,null,null,null,null,null,null,null,null,null,null,null,null,null,null,null,null,null,null,null,null,null,null,null,null,null,null,null,null,null,null,null,null,null,null,null,null,null,null,null,null,null,null,null,null,null,null,null,null,null,null,null,null,null,null,null,null,null,null,null,null,null,null,null,"Car","Truck"]
[null,null,null,null,null,null,null,null,null,null,null,null,null,null,null,null,null,null,null,null,null,null,null,null,null,null,null,null,null,null,null,null,null,null,null,null,null,null,null,null,null,null,null,null,null,null,null,null,null,null,null,null,null,null,null,null,null,null,null,null,null,null,null,null,null,null,null,null,null,null,null,null,null,null,null,null,null,null,null,null,null,null,null,null,null,null,null,null,null,null,null,null,null,null,null,null,null,null,null,null,null,null,null,null,null,null,null,null,null,null,null,null,null,null,5,{"$f":"DN34-DK34","v":195},null,{"$f":"ROUND('1 - Volume Input'!AA34*('1 - Volume Input'!AY34+1),0)","v":200},"pepch"]
[null,null,null,null,null,null,null,null,null,null,null,null,null,null,null,null,null,null,null,null,null,null,null,null,null,null,null,null,null,null,null,null,null,null,null,null,null,null,null,null,null,null,null,null,null,null,null,null,null,null,null,null,null,null,null,null,null,null,null,null,null,null,null,null,null,null,null,null,null,null,null,null,null,null,"Predicted approach capacity",null,null,null,null,null,null,null,"Conflicting flow",1,null,null,null,null,null,null,null,null,null,null,null,null,null,null,null,null,null,null,null,"Conflicting flow","Predicted approach capacity"]
[null,null,null,null,null,null,null,null,null,null,null,null,null,null,null,null,null,null,null,null,null,null,null,null,null,null,null,null,null,null,null,null,null,null,null,null,null,null,null,null,null,null,null,null,null,null,null,null,null,null,null,null,null,null,null,null,null,null,null,null,null,null,null,null,null,null,null,"pepch",{"$f":"ROUND('1 - Volume Input'!K32*('1 - Volume Input'!AY32+1),0)","v":0},null,{"$f":"BQ36-BT36","v":0},0]
[null,null,null,null,null,null,null,null,null,null,null,null,null,null,null,null,null,null,null,null,null,null,null,null,null,null,null,null,null,null,null,null,null,null,null,null,null,null,null,null,null,null,null,null,null,null,null,null,null,null,null,null,null,null,null,null,null,null,null,null,null,null,null,null,null,null,null,null,null,null,null,null,null,null,null,null,null,null,null,null,null,null,null,"Lane",null,null,null,null,null,null,null,null,null,null,null,null,null,null,null,null,null,null,null,null,null,null,null,null,null,null,null,null,null,null,4,{"$f":"DN37-DK37","v":26},null,{"$f":"ROUND('1 - Volume Input'!S34*('1 - Volume Input'!AY34+1),0)","v":30},"pepch"]
[null,null,null,null,null,null,null,null,null,null,null,null,null,null,null,null,null,null,null,null,null,null,null,null,null,null,null,null,null,null,null,null,null,null,null,null,null,null,null,null,null,null,null,null,null,null,null,null,null,null,null,null,null,null,null,null,null,null,null,null,null,null,null,null,null,null,null,null,null,null,null,null,null,null,{"$f":"1020-0.944*BW42","v":411.78080000000011},null,null,null,"PCEPH",null,null,null,null,null,null,null,null,null,null,null,null,null,null,null,null,null,null,null,null,null,null,null,null,null,{"$f":"1020-0.944*DA42","v":416.97280000000012},null,null,null,"PCEPH"]
[null,null,null,null,null,null,null,null,null,null,null,null,null,null,null,null,null,null,null,null,null,null,null,null,null,null,null,null,null,null,null,null,null,null,null,null,null,null,null,null,null,null,null,null,null,null,null,null,null,null,null,null,null,null,null,null,null,null,null,null,null,null,null,null,null,null,null,"pepch",{"$f":"ROUND('1 - Volume Input'!S32*('1 - Volume Input'!AY32+1),0)","v":30},null,{"$f":"BQ39-BT39","v":25},5,null,null,null,null,null,null,null,null,null,null,null,null,null,null,null,null,null,null,null,null,null,null,null,null,null,null,null,null,null,"Lane"]
[null,null,null,null,null,null,null,null,null,null,null,null,null,null,null,null,null,null,null,null,null,null,null,null,null,null,null,null,null,null,null,null,null,null,null,null,null,null,null,null,null,null,null,null,null,null,null,null,null,null,null,null,null,null,null,null,null,null,null,null,null,null,null,null,null,null,null,null,null,null,null,null,null,null,"conflicting with",null,null,null,null,null,null,null,null,null,null,null,null,null,null,null,null,null,null,null,null,null,null,null,null,null,null,null,null,null,"conflicting with",null,null,null,null,null,null,null,null,null,0,{"$f":"DN40-DK40","v":0},null,{"$f":"ROUND('1 - Volume Input'!K34*('1 - Volume Input'!AY34+1),0)","v":0},"pepch"]
[]
[null,null,null,null,null,null,null,null,null,null,null,null,null,null,null,null,null,null,null,null,null,null,null,null,null,null,null,null,null,null,null,null,null,null,null,null,null,null,null,null,null,null,null,null,null,null,null,null,null,null,null,null,null,null,null,null,null,null,null,null,null,null,null,null,null,null,null,"pepch",{"$f":"ROUND('1 - Volume Input'!AA32*('1 - Volume Input'!AY32+1),0)","v":200},null,{"$f":"BQ42-BT42","v":190},10,null,null,{"$f":"(CK14+CN14+CQ14+DL37+DL40+CL65)+(1.7*(CO64+DK37+CK15))","v":644.29999999999995},null,null,null,"PCEPH",null,null,null,null,null,null,null,null,null,null,null,null,null,null,null,null,null,null,null,null,null,null,1,null,null,{"$f":"CL65+CO65+CR65+CQ14+BS39+BS36+(1.7*(CR64+BT39+CN15))","v":638.79999999999995},null,null,null,"PCEPH"]
[null,null,null,null,null,null,null,null,null,null,null,null,null,null,null,null,null,null,null,null,null,null,null,null,null,null,null,null,null,null,null,null,null,null,null,null,null,null,null,null,null,null,null,null,null,null,null,null,null,null,null,null,null,null,null,null,null,null,null,null,null,null,null,null,null,null,null,null,null,null,null,null,null,null,null,null,null,null,null,null,null,null,null,null,null,null,null,null,null,null,null,null,null,null,null,null,null,null,null,null,null,null,null,null,null,null,null,null,null,null,null,null,null,null,"Truck","Car"]
[]
[null,null,null,null,null,null,null,null,null,null,null,null,null,null,null,null,null,null,null,null,null,null,null,null,null,null,null,null,null,null,null,null,null,null,null,null,null,null,null,null,null,null,null,null,null,null,null,null,null,null,null,null,null,null,null,null,null,null,null,null,null,null,null,null,null,null,null,"pepch",{"$f":"ROUND('1 - Volume Input'!AI32*('1 - Volume Input'!AY32+1),0)","v":50},null,{"$f":"BQ45-BT45","v":50},0,null,null,null,null,null,"pepch",{"$f":"SUM(BS36:BS47)+(1.7*(SUM(BT36:BT47)))","v":290.5},1,"V/C RATIO",null,null,null,null,{"$f":"CA45/BW38","v":0.70547242610631655}]
[]
[null,null,null,null,null,null,null,null,null,null,null,null,null,null,null,null,null,null,null,null,null,null,null,null,null,null,null,null,null,null,null,null,null,null,null,null,null,null,null,null,null,null,null,null,null,null,null,null,null,null,null,null,null,null,null,null,null,null,null,null,null,null,null,null,null,null,null,null,null,null,null,null,null,null,null,null,null,null,null,null,null,null,null,null,null,null,null,null,null,null,null,null,null,null,null,null,null,null,{"$f":"CU55/CL56","v":1.12111142502231}]
[null,null,null,null,null,null,null,null,null,null,null,null,null,null,null,null,null,null,null,null,null,null,null,null,null,null,null,null,null,null,null,null,null,null,null,null,null,null,null,null,null,null,null,null,null,null,null,null,null,null,null,null,null,null,null,null,null,null,null,null,null,null,null,null,null,null,null,null,null,null,null,{"$f":"SUM(BT36:BT47)/(SUM(BS36:BT47))","v":5.3571428571428568E-2}]
[null,null,null,null,null,null,null,null,null,null,null,null,null,null,null,null,null,null,null,null,null,null,null,null,null,null,null,null,null,null,null,null,null,null,null,null,null,null,null,null,null,null,null,null,null,null,null,null,null,null,null,null,null,null,null,null,null,null,null,null,null,null,null,null,null,null,null,null,null,null,null,null,null,null,null,null,null,null,null,null,null,null,null,null,null,null,null,null,null,null,null,null,null,null,null,null,null,null,"V/C RATIO"]
[null,null,null,null,null,null,null,null,null,null,null,null,null,null,null,null,null,null,null,null,null,null,null,null,null,null,null,null,null,null,null,null,null,null,null,null,null,null,null,null,null,null,null,null,null,null,null,null,null,null,null,null,null,null,null,null,null,null,null,null,null,null,null,null,null,null,null,null,null,null,null,null,null,null,null,null,null,null,null,null,null,null,null,null,null,null,null,null,null,1,"Lane"]
[]
[null,null,null,null,null,null,null,null,null,null,null,null,null,null,null,null,null,null,null,null,null,null,null,null,null,null,null,null,null,null,null,null,null,null,null,null,null,null,null,null,null,null,null,null,null,null,null,null,null,null,null,null,null,null,null,null,null,null,null,null,null,null,null,null,null,null,null,null,null,null,null,null,null,null,null,null,null,null,null,null,null,null,null,null,null,null,null,null,null,"Conflicting flow"]
[null,null,null,null,null,null,null,null,null,null,null,null,null,null,null,null,null,null,null,null,null,null,null,null,null,null,null,null,null,null,null,null,null,null,null,null,null,null,null,null,null,null,null,null,null,null,null,null,null,null,null,null,null,null,null,null,null,null,null,null,null,null,null,null,null,null,null,null,null,null,null,null,null,null,null,null,null,null,null,null,null,null,null,null,null,null,null,null,null,"Predicted approach capacity"]
[null,null,null,null,null,null,null,null,null,null,null,null,null,null,null,null,null,null,null,null,null,null,null,null,null,null,null,null,null,null,null,null,null,null,null,null,null,null,null,null,null,null,null,null,null,null,null,null,null,null,null,null,null,null,null,null,null,null,null,null,null,null,null,null,null,null,null,null,null,null,null,null,null,null,null,null,null,null,null,null,null,null,null,null,null,null,null,null,null,null,null,null,null,null,null,null,null,null,1]
[null,null,null,null,null,null,null,null,null,null,null,null,null,null,null,null,null,null,null,null,null,null,null,null,null,null,null,null,null,null,null,null,null,null,null,null,null,null,null,null,null,null,null,null,null,null,null,null,null,null,null,null,null,null,null,null,null,null,null,null,null,null,null,null,null,null,null,null,null,null,null,null,null,null,null,null,null,null,null,null,null,null,null,null,null,null,null,null,null,null,null,null,null,null,null,null,null,null,{"$f":"SUM(CL67:CW67)","v":800}]
[null,null,null,null,null,null,null,null,null,null,null,null,null,null,null,null,null,null,null,null,null,null,null,null,null,null,null,null,null,null,null,null,null,null,null,null,null,null,null,null,null,null,null,null,null,null,null,null,null,null,null,null,null,null,null,null,null,null,null,null,null,null,null,null,null,null,null,null,null,null,null,null,null,null,null,null,null,null,null,null,null,null,null,null,null,null,null,null,null,{"$f":"1020-0.944*CL60","v":713.57760000000007},null,null,null,"PCEPH",null,null,null,null,"pepch"]
[]
[null,null,null,null,null,null,null,null,null,null,null,null,null,null,null,null,null,null,null,null,null,null,null,null,null,null,null,null,null,null,null,null,null,null,null,null,null,null,null,null,null,null,null,null,null,null,null,null,null,null,null,null,null,null,null,null,null,null,null,null,null,null,null,null,null,null,null,null,null,null,null,null,null,null,null,null,null,null,null,null,null,null,null,null,null,null,null,null,null,"conflicting with"]
[]
[null,null,null,null,null,null,null,null,null,"Predicted approach capacity",null,null,null,null,null,null,null,null,null,null,null,null,null,null,null,null,null,null,null,null,null,null,null,null,null,null,null,null,null,null,null,null,null,null,null,"Predicted approach capacity",null,null,null,null,null,null,null,null,null,null,null,null,null,null,null,null,null,null,null,null,null,null,null,null,null,null,null,null,null,null,null,null,null,null,null,null,null,null,null,null,null,null,null,{"$f":"BS36+BS39+BS42+CN14+CQ14+DL40+(1.7*(BT45+CN15+DK37))","v":324.60000000000002},null,null,null,"PCEPH"]
[]
[]
[null,null,null,null,null,null,null,null,null,{"$f":"BW38","v":411.78080000000011},null,null,null,"PCEPH",null,null,null,null,null,null,null,null,null,null,null,null,null,null,null,null,null,null,null,null,null,null,null,null,null,null,null,null,null,null,null,{"$f":"CL56","v":713.57760000000007},null,null,null,"PCEPH"]
[null,null,null,null,null,null,null,null,null,null,null,null,null,null,null,null,null,null,null,null,null,null,null,null,null,null,null,null,null,null,null,null,null,null,null,null,null,null,null,null,null,null,null,null,null,null,null,null,null,null,null,null,null,null,null,null,null,null,null,null,null,null,null,null,null,null,null,null,null,null,null,null,null,null,null,null,null,null,null,null,null,null,null,null,null,null,"Truck",null,null,0,null,null,5,null,null,5,null,null,4,null,null,{"$f":"SUM(CL64:CW64)/SUM(CL64:CW65)","v":1.7500000000000002E-2}]
[null,null,null,null,null,null,null,null,null,{"$f":"CH45/CB7","v":0.70547242610631655},null,null,null,"V/C",null,null,null,null,null,null,null,null,null,null,null,null,null,null,null,null,null,null,null,null,null,null,null,null,null,null,null,null,null,null,null,{"$f":"CU47/CB7","v":1.12111142502231},null,null,null,"V/C",null,null,null,null,null,null,null,null,null,null,null,null,null,null,null,null,null,null,null,null,null,null,null,null,null,null,null,null,null,null,null,null,null,null,null,null,"Car",null,null,{"$f":"CL67-CL64","v":0},null,null,{"$f":"CO67-CO64","v":95},null,null,{"$f":"CR67-CR64","v":495},null,null,{"$f":"CU67-CU64","v":196}]
[null,null,null,null,null,null,null,null,null,null,null,null,null,null,null,null,null,{"$f":"+IF(J65>1,1,0)","v":0},null,null,null,null,null,null,null,null,null,null,null,null,null,null,null,null,null,null,null,null,null,null,null,null,null,null,null,null,null,null,null,null,null,null,null,{"$f":"+IF(AT65>1,1,0)","v":1}]
[null,null,null,null,null,null,null,null,null,null,null,null,null,null,null,null,null,null,null,null,null,null,null,null,null,null,null,null,null,null,null,null,null,null,null,null,null,null,null,null,null,null,null,null,null,null,null,null,null,null,null,null,null,null,null,null,null,null,null,null,null,null,null,null,null,null,null,null,null,null,null,null,null,null,null,null,null,null,null,null,null,null,null,null,null,null,null,null,null,{"$f":"ROUND('1 - Volume Input'!K38*('1 - Volume Input'!AY38+1),0)","v":0},null,null,{"$f":"ROUND('1 - Volume Input'!S38*('1 - Volume Input'!AY38+1),0)","v":100},null,null,{"$f":"ROUND('1 - Volume Input'!AA38*('1 - Volume Input'!AY38+1),0)","v":500},null,null,{"$f":"ROUND('1 - Volume Input'!AI38*('1 - Volume Input'!AY38+1),0)","v":200}]
[null,null,null,null,null,null,null,null,null,null,null,null,null,null,null,null,null,null,null,null,null,null,null,null,null,null,null,null,null,null,null,null,null,null,null,null,null,null,null,null,null,null,null,null,null,null,null,null,null,null,null,null,null,null,null,null,null,null,null,null,null,null,null,null,null,null,null,null,null,null,null,null,null,null,null,null,null,null,null,null,null,null,null,null,null,null,null,null,null,"pepch",null,null,"pepch",null,null,"pepch",null,null,"pepch"]

{"sheet":"1x1 Rndabt ","index":40,"n_rows":66,"n_cols":119,"rows_kept":66,"cut":false,"hidden":false,"merged":[[44,78,46,78],[44,84,46,85],[44,79,46,83],[41,63,43,66],[41,67,43,67],[41,68,43,68],[38,63,40,66],[38,67,40,67],[38,68,40,68],[39,74,40,81],[44,77,46,77],[41,74,42,77],[39,83,42,84],[41,78,42,81],[64,9,65,12],[64,45,65,48],[64,49,65,52],[64,13,65,16],[44,63,46,66],[44,67,46,67],[44,68,46,68],[44,72,46,75],[44,76,46,76],[62,45,63,48],[2,63,3,122],[62,9,63,12],[62,13,63,16],[7,101,8,107],[33,119,35,122],[34,74,36,81],[13,94,13,96],[9,88,12,90],[9,91,12,93],[9,94,12,96],[14,94,14,96],[30,85,31,87],[17,89,19,96],[9,101,10,105],[9,106,10,107],[30,107,32,107],[30,102,32,106],[25,85,29,87],[17,9,19,16],[19,46,21,53],[39,118,41,118],[7,108,8,119],[39,119,41,122],[41,104,42,107],[0,1,1,60],[2,1,3,60],[11,10,12,35],[9,115,10,119],[62,49,63,52],[59,9,61,16],[59,45,61,52],[5,2,6,9],[5,10,6,35],[7,2,8,9],[7,10,8,35],[9,2,10,9],[9,10,10,35],[9,108,10,112],[9,113,10,114],[9,85,12,87],[24,50,25,53],[24,46,25,49],[22,13,23,16],[11,2,12,9],[0,63,1,122],[22,9,23,12],[20,9,21,12],[20,13,21,16],[38,101,40,102],[34,101,37,102],[41,108,42,111],[26,89,26,96],[22,85,22,87],[22,89,23,96],[23,85,23,87],[27,89,28,89],[27,90,28,92],[27,93,28,96],[24,85,24,87],[24,89,25,92],[24,93,25,96],[30,108,32,108],[30,109,32,109],[30,110,32,113],[6,79,7,80],[6,65,8,78],[30,117,32,117],[9,36,12,43],[30,100,32,101],[36,119,38,122],[36,118,38,118],[33,118,35,118],[30,118,32,118],[30,119,32,122],[13,85,13,87],[13,88,13,90],[13,91,13,93],[18,85,21,87],[36,117,38,117],[37,104,38,107],[37,108,38,111],[33,117,35,117],[34,103,42,103],[34,104,36,111],[41,101,42,102],[39,104,40,111],[39,117,41,117],[34,82,42,82],[20,89,21,92],[20,93,21,96],[14,85,14,87],[14,88,14,90],[14,91,14,93],[35,63,37,66],[35,67,37,67],[35,68,37,68],[36,83,38,84],[37,74,38,77],[37,78,38,81],[34,83,35,84],[65,89,68,91],[65,92,68,94],[65,95,68,97],[65,98,68,100],[63,89,63,91],[63,92,63,94],[63,95,63,97],[63,98,63,100],[64,89,64,91],[64,92,64,94],[64,95,64,97],[64,98,64,100],[53,98,53,100],[54,98,54,100],[55,89,56,92],[55,93,56,96],[55,98,55,100],[46,98,47,100],[59,93,60,96],[49,89,50,89],[56,98,59,100],[59,89,60,92],[51,89,51,96],[48,98,52,100],[49,90,50,92],[49,93,50,96],[57,89,58,96],[52,89,54,96],[5,36,6,59],[7,36,8,41],[7,42,8,47],[22,46,23,49],[22,50,23,53],[9,44,10,47],[9,48,10,51],[9,52,10,55],[9,56,10,59],[11,44,12,47],[11,48,12,51],[11,52,12,55],[11,56,12,59],[7,48,8,53],[7,54,8,59]]}
[null,"1 NS x 1 EW Roundabout",null,null,null,null,null,null,null,null,null,null,null,null,null,null,null,null,null,null,null,null,null,null,null,null,null,null,null,null,null,null,null,null,null,null,null,null,null,null,null,null,null,null,null,null,null,null,null,null,null,null,null,null,null,null,null,null,null,null,null,null,null,"1 NS x 1 EW Lane Roundabout"]
[]
[null,"Design and Results",null,null,null,null,null,null,null,null,null,null,null,null,null,null,null,null,null,null,null,null,null,null,null,null,null,null,null,null,null,null,null,null,null,null,null,null,null,null,null,null,null,null,null,null,null,null,null,null,null,null,null,null,null,null,null,null,null,null,null,null,null,"Data Input and Configuration"]
[]
[]
[null,null,"Project Name:",null,null,null,null,null,null,null,{"$f":"P_Name","v":"Cap-X Sample Street"},null,null,null,null,null,null,null,null,null,null,null,null,null,null,null,null,null,null,null,null,null,null,null,null,null,"Volume-to-Capacity Ratio"]
[null,null,null,null,null,null,null,null,null,null,null,null,null,null,null,null,null,null,null,null,null,null,null,null,null,null,null,null,null,null,null,null,null,null,null,null,null,null,null,null,null,null,null,null,null,null,null,null,null,null,null,null,null,null,null,null,null,null,null,null,null,null,null,null,null,"Multimodal Capacity Adjustment Factor",null,null,null,null,null,null,null,null,null,null,null,null,null,{"$f":"IF(Multimodal=1,1,IF(Multimodal=2,0.99,0.98))","v":1}]
[null,null,"Project Number:",null,null,null,null,null,null,null,{"$f":"P_Number","v":10000},null,null,null,null,null,null,null,null,null,null,null,null,null,null,null,null,null,null,null,null,null,null,null,null,null,"< 0.750",null,null,null,null,null,"0.750 - 0.875",null,null,null,null,null,"0.875 - 1.00",null,null,null,null,null,"≥ 1.00",null,null,null,null,null,null,null,null,null,null,null,null,null,null,null,null,null,null,null,null,null,null,null,null,null,null,null,null,null,null,null,null,null,null,null,null,null,null,null,null,null,null,null,null,null,null,"Equation",null,null,null,null,null,null,"A x exp(-B x Q)"]
[]
[null,null,"Location",null,null,null,null,null,null,null,{"$f":"Location","v":"Tallahassee, FL"},null,null,null,null,null,null,null,null,null,null,null,null,null,null,null,null,null,null,null,null,null,null,null,null,null,"VOLUME / CAPACITY RATIO:",null,null,null,null,null,null,null,"Zone 1",null,null,null,{"$f":"J23","v":0.83386444718295072},null,null,null,"Zone 4",null,null,null,{"$f":"AU25","v":0.39932208093482385},null,null,null,null,null,null,null,null,null,null,null,null,null,null,null,null,null,null,null,null,null,null,null,null,null,null,null,null,null,null,null,null,null,null,null,null,null,null,null,null,null,null,null,null,"One Lane",null,null,null,null,"A",null,1380,null,null,null,null,"B",null,1.0200000000000001E-3]
[]
[null,null,"Date",null,null,null,null,null,null,null,{"$f":"Date","v":"2017 AM"},null,null,null,null,null,null,null,null,null,null,null,null,null,null,null,null,null,null,null,null,null,null,null,null,null,null,null,null,null,null,null,null,null,"Zone 3",null,null,null,{"$f":"J65","v":0.39932208093482385},null,null,null,"Zone 2",null,null,null,{"$f":"AT65","v":0.83386444718295072}]
[]
[null,null,null,null,null,null,null,null,null,null,null,null,null,null,null,null,null,null,null,null,null,null,null,null,null,null,null,null,null,null,null,null,null,null,null,null,null,null,null,null,null,null,null,null,null,null,null,null,null,null,null,null,null,null,null,null,null,null,null,null,null,null,null,null,null,null,null,null,null,null,null,null,null,null,null,null,null,null,null,null,null,null,null,null,null,"pepch",null,null,"pepch",null,null,"pepch",null,null,"pepch"]
[null,null,null,null,null,null,null,null,null,null,null,null,null,null,null,null,null,null,null,null,null,null,null,null,null,null,null,null,null,null,null,null,null,null,null,null,null,null,null,null,null,null,null,null,null,null,null,null,null,null,null,null,null,null,null,null,null,null,null,null,null,null,null,null,null,null,null,null,null,null,null,null,null,null,null,null,null,null,null,null,null,null,null,null,null,{"$f":"SBR_Master","v":204},null,null,{"$f":"SBT_Master","v":510},null,null,{"$f":"SBL_Master","v":102},null,null,{"$f":"SBU_Master","v":0}]
[]
[]
[null,null,null,null,null,null,null,null,null,"Predicted approach capacity",null,null,null,null,null,null,null,null,null,null,null,null,null,null,null,null,null,null,null,null,null,null,null,null,null,null,null,null,null,null,null,null,null,null,null,null,null,null,null,null,null,null,null,null,null,null,null,null,null,null,null,null,null,null,null,null,null,null,null,null,null,null,null,null,null,null,null,null,null,null,null,null,null,null,null,null,null,null,null,"Predicted approach capacity"]
[]
[null,null,null,null,null,null,null,null,null,null,null,null,null,null,null,null,null,null,null,null,null,null,null,null,null,null,null,null,null,null,null,null,null,null,null,null,null,null,null,null,null,null,null,null,null,null,"Predicted approach capacity"]
[null,null,null,null,null,null,null,null,null,{"$f":"CL21","v":978.57631747785592},null,null,null,"PCEPH",null,null,null,null,null,null,null,null,null,null,null,null,null,null,null,null,null,null,null,null,null,null,null,null,null,null,null,null,null,null,null,null,null,null,null,null,null,null,null,null,null,null,null,null,null,null,null,null,null,null,null,null,null,null,null,null,null,null,null,null,null,null,null,null,null,null,null,null,null,null,null,null,null,null,null,{"$f":"$DE$10*EXP(-$DL$10*CL25)","v":978.57631747785592},null,null,null,"PCEPH"]
[]
[null,null,null,null,null,null,null,null,null,{"$f":"CH31/CB7","v":0.83386444718295072},null,null,null,"V/C",null,null,null,null,null,null,null,null,null,null,null,null,null,null,null,null,null,null,null,null,null,null,null,null,null,null,null,null,null,null,null,null,{"$f":"DA38","v":716.21383753802502},null,null,null,"PCEPH",null,null,null,null,null,null,null,null,null,null,null,null,null,null,null,null,null,null,null,null,null,null,null,null,null,null,null,null,null,null,null,null,null,null,"pepch",null,null,null,"conflicting with"]
[null,null,null,null,null,null,null,null,null,null,null,null,null,null,null,null,null,{"$f":"+IF(J23>1,1,0)","v":0},null,null,null,null,null,null,null,null,null,null,null,null,null,null,null,null,null,null,null,null,null,null,null,null,null,null,null,null,null,null,null,null,null,null,null,null,null,null,null,null,null,null,null,null,null,null,null,null,null,null,null,null,null,null,null,null,null,null,null,null,null,null,null,null,null,null,null,{"$f":"SUM(CH15:CS15)","v":816}]
[null,null,null,null,null,null,null,null,null,null,null,null,null,null,null,null,null,null,null,null,null,null,null,null,null,null,null,null,null,null,null,null,null,null,null,null,null,null,null,null,null,null,null,null,null,null,{"$f":"CW31/CB7","v":0.39932208093482385},null,null,null,"V/C",null,null,null,null,null,null,null,null,null,null,null,null,null,null,null,null,null,null,null,null,null,null,null,null,null,null,null,null,null,null,null,null,null,null,1,null,null,null,{"$f":"DN34+DN37+DN40+CO64+CL64+BQ36","v":337},null,null,null,"PCEPH"]
[null,null,null,null,null,null,null,null,null,null,null,null,null,null,null,null,null,null,null,null,null,null,null,null,null,null,null,null,null,null,null,null,null,null,null,null,null,null,null,null,null,null,null,null,null,null,null,null,null,null,null,null,null,null,{"$f":"+IF(AY25>1,1,0)","v":1},null,null,null,null,null,null,null,null,null,null,null,null,null,null,null,null,null,null,null,null,null,null,null,null,null,null,null,null,null,null,"V/C RATIO"]
[null,null,null,null,null,null,null,null,null,null,null,null,null,null,null,null,null,null,null,null,null,null,null,null,null,null,null,null,null,null,null,null,null,null,null,null,null,null,null,null,null,null,null,null,null,null,null,null,null,null,null,null,null,null,null,null,null,null,null,null,null,null,null,null,null,null,null,null,null,null,null,null,null,null,null,null,null,null,null,null,null,null,null,null,null,null,null,null,null,"Conflicting flow"]
[null,null,null,null,null,null,null,null,null,null,null,null,null,null,null,null,null,null,null,null,null,null,null,null,null,null,null,null,null,null,null,null,null,null,null,null,null,null,null,null,null,null,null,null,null,null,null,null,null,null,null,null,null,null,null,null,null,null,null,null,null,null,null,null,null,null,null,null,null,null,null,null,null,null,null,null,null,null,null,null,null,null,null,null,null,null,null,null,null,1,"Lane"]
[]
[]
[null,null,null,null,null,null,null,null,null,null,null,null,null,null,null,null,null,null,null,null,null,null,null,null,null,null,null,null,null,null,null,null,null,null,null,null,null,null,null,null,null,null,null,null,null,null,null,null,null,null,null,null,null,null,null,null,null,null,null,null,null,null,null,null,null,null,null,null,null,null,null,null,null,null,null,null,null,null,null,null,null,null,null,null,null,{"$f":"CH24/CL21","v":0.83386444718295072},null,null,null,null,null,null,null,null,null,null,null,null,null,null,{"$f":"DE31/DA38","v":0.39932208093482385},null,"V/C RATIO",null,null,null,null,1,{"$f":"SUM(DN31:DN42)","v":286},"pepch",null,null,null,null,null,null,null,{"$f":"WBR_Master","v":51},"pepch"]
[]
[]
[null,null,null,null,null,null,null,null,null,null,null,null,null,null,null,null,null,null,null,null,null,null,null,null,null,null,null,null,null,null,null,null,null,null,null,null,null,null,null,null,null,null,null,null,null,null,null,null,null,null,null,null,null,null,null,null,null,null,null,null,null,null,null,null,null,null,null,null,null,null,null,null,null,null,null,null,null,null,null,null,null,null,null,null,null,null,null,null,null,null,null,null,null,null,null,null,null,null,null,null,null,null,null,null,null,null,null,null,null,null,null,null,null,null,null,null,null,{"$f":"WBT_Master","v":204},"pepch"]
[null,null,null,null,null,null,null,null,null,null,null,null,null,null,null,null,null,null,null,null,null,null,null,null,null,null,null,null,null,null,null,null,null,null,null,null,null,null,null,null,null,null,null,null,null,null,null,null,null,null,null,null,null,null,null,null,null,null,null,null,null,null,null,null,null,null,null,null,null,null,null,null,null,null,"Predicted approach capacity",null,null,null,null,null,null,null,"Conflicting flow",1,null,null,null,null,null,null,null,null,null,null,null,null,null,null,null,null,null,null,null,"Conflicting flow","Predicted approach capacity"]
[null,null,null,null,null,null,null,null,null,null,null,null,null,null,null,null,null,null,null,null,null,null,null,null,null,null,null,null,null,null,null,null,null,null,null,null,null,null,null,null,null,null,null,null,null,null,null,null,null,null,null,null,null,null,null,null,null,null,null,null,null,null,null,null,null,null,null,"pepch",{"$f":"EBU_Master","v":0}]
[null,null,null,null,null,null,null,null,null,null,null,null,null,null,null,null,null,null,null,null,null,null,null,null,null,null,null,null,null,null,null,null,null,null,null,null,null,null,null,null,null,null,null,null,null,null,null,null,null,null,null,null,null,null,null,null,null,null,null,null,null,null,null,null,null,null,null,null,null,null,null,null,null,null,null,null,null,null,null,null,null,null,null,"Lane",null,null,null,null,null,null,null,null,null,null,null,null,null,null,null,null,null,null,null,null,null,null,null,null,null,null,null,null,null,null,null,null,null,{"$f":"WBL_Master","v":31},"pepch"]
[null,null,null,null,null,null,null,null,null,null,null,null,null,null,null,null,null,null,null,null,null,null,null,null,null,null,null,null,null,null,null,null,null,null,null,null,null,null,null,null,null,null,null,null,null,null,null,null,null,null,null,null,null,null,null,null,null,null,null,null,null,null,null,null,null,null,null,null,null,null,null,null,null,null,{"$f":"$DE$10*EXP(-$DL$10*BW42)","v":716.21383753802502},null,null,null,"PCEPH",null,null,null,null,null,null,null,null,null,null,null,null,null,null,null,null,null,null,null,null,null,null,null,null,null,{"$f":"$DE$10*EXP(-$DL$10*DA42)","v":716.21383753802502},null,null,null,"PCEPH"]
[null,null,null,null,null,null,null,null,null,null,null,null,null,null,null,null,null,null,null,null,null,null,null,null,null,null,null,null,null,null,null,null,null,null,null,null,null,null,null,null,null,null,null,null,null,null,null,null,null,null,null,null,null,null,null,null,null,null,null,null,null,null,null,null,null,null,null,"pepch",{"$f":"EBL_Master","v":31},null,null,null,null,null,null,null,null,null,null,null,null,null,null,null,null,null,null,null,null,null,null,null,null,null,null,null,null,null,null,null,null,"Lane"]
[null,null,null,null,null,null,null,null,null,null,null,null,null,null,null,null,null,null,null,null,null,null,null,null,null,null,null,null,null,null,null,null,null,null,null,null,null,null,null,null,null,null,null,null,null,null,null,null,null,null,null,null,null,null,null,null,null,null,null,null,null,null,null,null,null,null,null,null,null,null,null,null,null,null,"conflicting with",null,null,null,null,null,null,null,null,null,null,null,null,null,null,null,null,null,null,null,null,null,null,null,null,null,null,null,null,null,"conflicting with",null,null,null,null,null,null,null,null,null,null,null,null,{"$f":"WBU_Master","v":0},"pepch"]
[]
[null,null,null,null,null,null,null,null,null,null,null,null,null,null,null,null,null,null,null,null,null,null,null,null,null,null,null,null,null,null,null,null,null,null,null,null,null,null,null,null,null,null,null,null,null,null,null,null,null,null,null,null,null,null,null,null,null,null,null,null,null,null,null,null,null,null,null,"pepch",{"$f":"EBT_Master","v":204},null,null,null,null,null,{"$f":"CK15+CN15+CQ15+DN37+DN40+CL64","v":643},null,null,null,"PCEPH",null,null,null,null,null,null,null,null,null,null,null,null,null,null,null,null,null,null,null,null,null,null,1,null,null,{"$f":"CL64+CO64+CR64+CQ15+BQ39+BQ36","v":643},null,null,null,"PCEPH"]
[]
[]
[null,null,null,null,null,null,null,null,null,null,null,null,null,null,null,null,null,null,null,null,null,null,null,null,null,null,null,null,null,null,null,null,null,null,null,null,null,null,null,null,null,null,null,null,null,null,null,null,null,null,null,null,null,null,null,null,null,null,null,null,null,null,null,null,null,null,null,"pepch",{"$f":"EBR_Master","v":51},null,null,null,null,null,null,null,"pepch",{"$f":"SUM(BQ36:BQ47)","v":286},1,"V/C RATIO",null,null,null,null,{"$f":"BZ45/BW38","v":0.39932208093482385}]
[]
[null,null,null,null,null,null,null,null,null,null,null,null,null,null,null,null,null,null,null,null,null,null,null,null,null,null,null,null,null,null,null,null,null,null,null,null,null,null,null,null,null,null,null,null,null,null,null,null,null,null,null,null,null,null,null,null,null,null,null,null,null,null,null,null,null,null,null,null,null,null,null,null,null,null,null,null,null,null,null,null,null,null,null,null,null,null,null,null,null,null,null,null,null,null,null,null,null,null,{"$f":"CU55/CL56","v":0.83386444718295072}]
[]
[null,null,null,null,null,null,null,null,null,null,null,null,null,null,null,null,null,null,null,null,null,null,null,null,null,null,null,null,null,null,null,null,null,null,null,null,null,null,null,null,null,null,null,null,null,null,null,null,null,null,null,null,null,null,null,null,null,null,null,null,null,null,null,null,null,null,null,null,null,null,null,null,null,null,null,null,null,null,null,null,null,null,null,null,null,null,null,null,null,null,null,null,null,null,null,null,null,null,"V/C RATIO"]
[null,null,null,null,null,null,null,null,null,null,null,null,null,null,null,null,null,null,null,null,null,null,null,null,null,null,null,null,null,null,null,null,null,null,null,null,null,null,null,null,null,null,null,null,null,null,null,null,null,null,null,null,null,null,null,null,null,null,null,null,null,null,null,null,null,null,null,null,null,null,null,null,null,null,null,null,null,null,null,null,null,null,null,null,null,null,null,null,null,1,"Lane"]
[]
[null,null,null,null,null,null,null,null,null,null,null,null,null,null,null,null,null,null,null,null,null,null,null,null,null,null,null,null,null,null,null,null,null,null,null,null,null,null,null,null,null,null,null,null,null,null,null,null,null,null,null,null,null,null,null,null,null,null,null,null,null,null,null,null,null,null,null,null,null,null,null,null,null,null,null,null,null,null,null,null,null,null,null,null,null,null,null,null,null,"Conflicting flow"]
[null,null,null,null,null,null,null,null,null,null,null,null,null,null,null,null,null,null,null,null,null,null,null,null,null,null,null,null,null,null,null,null,null,null,null,null,null,null,null,null,null,null,null,null,null,null,null,null,null,null,null,null,null,null,null,null,null,null,null,null,null,null,null,null,null,null,null,null,null,null,null,null,null,null,null,null,null,null,null,null,null,null,null,null,null,null,null,null,null,"Predicted approach capacity"]
[null,null,null,null,null,null,null,null,null,null,null,null,null,null,null,null,null,null,null,null,null,null,null,null,null,null,null,null,null,null,null,null,null,null,null,null,null,null,null,null,null,null,null,null,null,null,null,null,null,null,null,null,null,null,null,null,null,null,null,null,null,null,null,null,null,null,null,null,null,null,null,null,null,null,null,null,null,null,null,null,null,null,null,null,null,null,null,null,null,null,null,null,null,null,null,null,null,null,1]
[null,null,null,null,null,null,null,null,null,null,null,null,null,null,null,null,null,null,null,null,null,null,null,null,null,null,null,null,null,null,null,null,null,null,null,null,null,null,null,null,null,null,null,null,null,null,null,null,null,null,null,null,null,null,null,null,null,null,null,null,null,null,null,null,null,null,null,null,null,null,null,null,null,null,null,null,null,null,null,null,null,null,null,null,null,null,null,null,null,null,null,null,null,null,null,null,null,null,{"$f":"SUM(CL64:CW64)","v":816}]
[null,null,null,null,null,null,null,null,null,null,null,null,null,null,null,null,null,null,null,null,null,null,null,null,null,null,null,null,null,null,null,null,null,null,null,null,null,null,null,null,null,null,null,null,null,null,null,null,null,null,null,null,null,null,null,null,null,null,null,null,null,null,null,null,null,null,null,null,null,null,null,null,null,null,null,null,null,null,null,null,null,null,null,null,null,null,null,null,null,{"$f":"$DE$10*EXP(-$DL$10*CL60)","v":978.57631747785592},null,null,null,"PCEPH",null,null,null,null,"pepch"]
[]
[null,null,null,null,null,null,null,null,null,null,null,null,null,null,null,null,null,null,null,null,null,null,null,null,null,null,null,null,null,null,null,null,null,null,null,null,null,null,null,null,null,null,null,null,null,null,null,null,null,null,null,null,null,null,null,null,null,null,null,null,null,null,null,null,null,null,null,null,null,null,null,null,null,null,null,null,null,null,null,null,null,null,null,null,null,null,null,null,null,"conflicting with"]
[]
[null,null,null,null,null,null,null,null,null,"Predicted approach capacity",null,null,null,null,null,null,null,null,null,null,null,null,null,null,null,null,null,null,null,null,null,null,null,null,null,null,null,null,null,null,null,null,null,null,null,"Predicted approach capacity",null,null,null,null,null,null,null,null,null,null,null,null,null,null,null,null,null,null,null,null,null,null,null,null,null,null,null,null,null,null,null,null,null,null,null,null,null,null,null,null,null,null,null,{"$f":"BQ36+BQ39+BQ42+CN15+CQ15+DN40","v":337},null,null,null,"PCEPH"]
[]
[]
[null,null,null,null,null,null,null,null,null,{"$f":"BW38","v":716.21383753802502},null,null,null,"PCEPH",null,null,null,null,null,null,null,null,null,null,null,null,null,null,null,null,null,null,null,null,null,null,null,null,null,null,null,null,null,null,null,{"$f":"CL56","v":978.57631747785592},null,null,null,"PCEPH"]
[null,null,null,null,null,null,null,null,null,null,null,null,null,null,null,null,null,null,null,null,null,null,null,null,null,null,null,null,null,null,null,null,null,null,null,null,null,null,null,null,null,null,null,null,null,null,null,null,null,null,null,null,null,null,null,null,null,null,null,null,null,null,null,null,null,null,null,null,null,null,null,null,null,null,null,null,null,null,null,null,null,null,null,null,null,null,null,null,null,{"$f":"NBU_Master","v":0},null,null,{"$f":"NBL_Master","v":102},null,null,{"$f":"NBT_Master","v":510},null,null,{"$f":"NBR_Master","v":204}]
[null,null,null,null,null,null,null,null,null,{"$f":"CG45/CB7","v":0.39932208093482385},null,null,null,"V/C",null,null,null,null,null,null,null,null,null,null,null,null,null,null,null,null,null,null,null,null,null,null,null,null,null,null,null,null,null,null,null,{"$f":"CU47/CB7","v":0.83386444718295072},null,null,null,"V/C",null,null,null,null,null,null,null,null,null,null,null,null,null,null,null,null,null,null,null,null,null,null,null,null,null,null,null,null,null,null,null,null,null,null,null,null,null,null,null,"pepch",null,null,"pepch",null,null,"pepch",null,null,"pepch"]
[null,null,null,null,null,null,null,null,null,null,null,null,null,null,null,null,null,{"$f":"+IF(J65>1,1,0)","v":0},null,null,null,null,null,null,null,null,null,null,null,null,null,null,null,null,null,null,null,null,null,null,null,null,null,null,null,null,null,null,null,null,null,null,null,{"$f":"+IF(AT65>1,1,0)","v":0}]

{"sheet":"1NS x 2 EW Rndabt","index":41,"n_rows":65,"n_cols":120,"rows_kept":65,"cut":false,"hidden":false,"merged":[[6,82,7,86],[24,69,25,72],[6,94,7,95],[4,89,5,100],[44,104,45,106],[45,78,48,79],[48,64,50,67],[52,70,54,71],[63,9,64,12],[63,13,64,16],[10,82,11,86],[10,87,11,88],[10,89,11,93],[10,94,11,95],[10,96,11,100],[6,96,7,100],[8,82,9,86],[8,87,9,88],[8,89,9,93],[8,94,9,95],[8,96,9,100],[20,78,20,80],[26,82,27,85],[26,86,27,89],[0,63,1,122],[2,63,3,122],[4,82,5,88],[63,5,64,8],[61,110,64,112],[6,87,7,88],[6,89,7,93],[39,64,41,67],[39,68,41,68],[39,69,41,69],[40,77,48,77],[40,78,44,79],[42,64,44,67],[42,68,44,68],[42,69,44,69],[48,68,50,68],[48,69,50,69],[45,64,47,67],[45,68,47,68],[45,69,47,69],[34,78,35,80],[20,69,20,71],[20,72,20,74],[20,75,20,77],[62,64,65,65],[62,66,65,67],[59,68,61,71],[59,72,61,73],[59,104,59,106],[50,83,52,87],[60,104,60,106],[55,68,57,71],[55,72,57,73],[62,78,65,79],[62,80,65,81],[52,64,61,65],[52,66,61,67],[54,95,55,98],[62,70,64,71],[57,77,65,77],[57,78,61,79],[61,104,64,106],[61,107,64,109],[57,80,61,81],[60,110,60,112],[51,104,51,106],[50,88,52,89],[61,113,64,115],[46,104,50,106],[59,107,59,109],[59,110,59,112],[59,113,59,115],[60,113,60,115],[52,104,52,106],[50,77,52,80],[50,81,52,81],[50,82,52,82],[53,88,55,89],[50,90,52,91],[53,90,55,91],[54,99,55,102],[54,108,55,111],[60,107,60,109],[35,115,37,115],[35,116,37,116],[35,117,37,120],[35,105,39,106],[38,115,40,115],[38,116,40,116],[54,112,55,115],[53,77,55,80],[53,81,55,81],[53,82,55,82],[53,83,55,87],[53,104,56,106],[52,95,53,98],[52,99,53,102],[36,78,37,80],[31,107,39,107],[32,115,34,115],[32,116,34,116],[42,104,43,106],[38,117,40,120],[56,95,56,102],[56,108,56,115],[22,113,24,116],[18,117,27,118],[29,115,31,115],[29,116,31,116],[29,117,31,120],[18,93,19,95],[24,93,26,94],[27,93,29,94],[32,117,34,120],[24,102,26,102],[24,103,26,103],[24,104,26,107],[27,95,29,96],[24,73,25,76],[24,82,25,85],[24,86,25,89],[24,95,26,96],[24,97,26,101],[29,78,33,80],[31,105,34,106],[27,97,29,101],[27,102,29,102],[27,103,29,103],[27,104,29,107],[28,78,28,80],[27,78,27,80],[14,117,17,118],[14,119,17,120],[19,69,19,71],[19,72,19,74],[19,75,19,77],[19,78,19,80],[15,113,17,114],[15,69,18,71],[15,72,18,74],[15,75,18,77],[15,78,18,80],[18,111,20,112],[18,113,20,116],[18,119,27,120],[25,113,27,114],[18,103,22,104],[18,105,22,106],[23,69,23,76],[23,78,26,80],[23,82,23,89],[14,103,17,104],[14,105,17,106],[14,107,22,107],[22,111,24,112],[58,45,60,56],[19,5,21,16],[22,5,23,8],[58,5,60,16],[19,45,21,56],[22,45,23,48],[24,45,25,48],[61,49,62,52],[61,53,62,56],[22,49,23,52],[22,53,23,56],[24,49,25,52],[24,53,25,56],[22,9,23,12],[22,13,23,16],[61,9,62,12],[61,13,62,16],[61,5,62,8],[61,45,62,48],[7,2,8,9],[7,10,8,35],[9,2,10,9],[9,10,10,35],[11,2,12,9],[11,10,12,35],[9,36,12,43],[0,1,1,60],[2,1,3,60],[5,2,6,9],[5,10,6,35],[5,36,6,59],[7,36,8,41],[7,42,8,47],[7,48,8,53],[7,54,8,59],[6,79,7,80],[9,44,10,47],[9,48,10,51],[9,52,10,55],[9,56,10,59],[11,44,12,47],[11,48,12,51],[11,52,12,55],[11,56,12,59],[6,65,8,78]]}
[null,"1 NS x 2 EW Lane Roundabout",null,null,null,null,null,null,null,null,null,null,null,null,null,null,null,null,null,null,null,null,null,null,null,null,null,null,null,null,null,null,null,null,null,null,null,null,null,null,null,null,null,null,null,null,null,null,null,null,null,null,null,null,null,null,null,null,null,null,null,null,null,"1 NS x 2 EW Lane Roundabout"]
[]
[null,"Design and Results",null,null,null,null,null,null,null,null,null,null,null,null,null,null,null,null,null,null,null,null,null,null,null,null,null,null,null,null,null,null,null,null,null,null,null,null,null,null,null,null,null,null,null,null,null,null,null,null,null,null,null,null,null,null,null,null,null,null,null,null,null,"Data Input and Configuration"]
[]
[null,null,null,null,null,null,null,null,null,null,null,null,null,null,null,null,null,null,null,null,null,null,null,null,null,null,null,null,null,null,null,null,null,null,null,null,null,null,null,null,null,null,null,null,null,null,null,null,null,null,null,null,null,null,null,null,null,null,null,null,null,null,null,null,null,null,null,null,null,null,null,null,null,null,null,null,null,null,null,null,null,null,"Equation",null,null,null,null,null,null,"A x exp(-B x Q)"]
[null,null,"Project Name:",null,null,null,null,null,null,null,{"$f":"P_Name","v":"Cap-X Sample Street"},null,null,null,null,null,null,null,null,null,null,null,null,null,null,null,null,null,null,null,null,null,null,null,null,null,"Volume-to-Capacity Ratio"]
[null,null,null,null,null,null,null,null,null,null,null,null,null,null,null,null,null,null,null,null,null,null,null,null,null,null,null,null,null,null,null,null,null,null,null,null,null,null,null,null,null,null,null,null,null,null,null,null,null,null,null,null,null,null,null,null,null,null,null,null,null,null,null,null,null,"Multimodal Capacity Adjustment Factor",null,null,null,null,null,null,null,null,null,null,null,null,null,{"$f":"IF(Multimodal=1,1,IF(Multimodal=2,IF(MIN(CA35,DA45)=0,0.97,0.95),IF(MIN(CA35,DA45)=0,0.95,0.91)))","v":1},null,null,"LT Lane",null,null,null,null,"A",null,1350,null,null,null,null,"B",null,9.2000000000000003E-4]
[null,null,"Project Number:",null,null,null,null,null,null,null,{"$f":"P_Number","v":10000},null,null,null,null,null,null,null,null,null,null,null,null,null,null,null,null,null,null,null,null,null,null,null,null,null,"< 0.750",null,null,null,null,null,"0.750 - 0.875",null,null,null,null,null,"0.875 - 1.00",null,null,null,null,null,"≥ 1.00"]
[null,null,null,null,null,null,null,null,null,null,null,null,null,null,null,null,null,null,null,null,null,null,null,null,null,null,null,null,null,null,null,null,null,null,null,null,null,null,null,null,null,null,null,null,null,null,null,null,null,null,null,null,null,null,null,null,null,null,null,null,null,null,null,null,null,null,null,null,null,null,null,null,null,null,null,null,null,null,null,null,null,null,"RT Lane",null,null,null,null,"A",null,1420,null,null,null,null,"B",null,8.4999999999999995E-4]
[null,null,"Location",null,null,null,null,null,null,null,{"$f":"Location","v":"Tallahassee, FL"},null,null,null,null,null,null,null,null,null,null,null,null,null,null,null,null,null,null,null,null,null,null,null,null,null,"VOLUME / CAPACITY RATIO:",null,null,null,null,null,null,null,"Zone 1",null,null,null,{"$f":"MAX(J23)","v":0.76525375396253192},null,null,null,"Zone3",null,null,null,{"$f":"MAX(AX23:BA26)","v":0.18438144211542062}]
[null,null,null,null,null,null,null,null,null,null,null,null,null,null,null,null,null,null,null,null,null,null,null,null,null,null,null,null,null,null,null,null,null,null,null,null,null,null,null,null,null,null,null,null,null,null,null,null,null,null,null,null,null,null,null,null,null,null,null,null,null,null,null,null,null,null,null,null,null,null,null,null,null,null,null,null,null,null,null,null,null,null,"One Lane",null,null,null,null,"A",null,1420,null,null,null,null,"B",null,8.4999999999999995E-4]
[null,null,"Date",null,null,null,null,null,null,null,{"$f":"Date","v":"2017 AM"},null,null,null,null,null,null,null,null,null,null,null,null,null,null,null,null,null,null,null,null,null,null,null,null,null,null,null,null,null,null,null,null,null,"Zone 4",null,null,null,{"$f":"MAX(J62:M65)","v":0.18438144211542062},null,null,null,"Zone 2",null,null,null,{"$f":"AX62","v":0.76525375396253192}]
[]
[]
[null,null,null,null,null,null,null,null,null,null,null,null,null,null,null,null,null,null,null,null,null,null,null,null,null,null,null,null,null,null,null,null,null,null,null,null,null,null,null,null,null,null,null,null,null,null,null,null,null,null,null,null,null,null,null,null,null,null,null,null,null,null,null,null,null,null,null,null,null,null,null,null,null,null,null,null,null,null,null,null,null,null,null,null,null,null,null,null,null,null,null,null,null,null,null,null,null,null,null,null,null,null,null,{"$f":"$CL$7*EXP(-$CS$7*DB36)","v":747.17533123895942},null,{"$f":"$CL$9*EXP(-$CS$9*DB36)","v":822.10008914624234},null,"Lane Capacity",null,null,null,null,null,null,null,null,null,0.53,null,{"$f":"DL30/(DL30+DL33+DL36+DL39)","v":0.17832167832167833}]
[null,null,null,null,null,null,null,null,null,null,null,null,null,null,null,null,null,null,null,null,null,null,null,null,null,null,null,null,null,null,null,null,null,null,null,null,null,null,null,null,null,null,null,null,null,null,null,null,null,null,null,null,null,null,null,null,null,null,null,null,null,null,null,null,null,null,null,null,null,null,null,null,null,null,null,null,null,null,null,null,null,null,null,null,null,null,null,null,null,null,null,null,null,null,null,null,null,null,null,null,null,null,null,null,null,null,null,null,null,null,null,null,null,{"$f":"DL30","v":51}]
[]
[]
[null,null,null,null,null,null,null,null,null,null,null,null,null,null,null,null,null,null,null,null,null,null,null,null,null,null,null,null,null,null,null,null,null,null,null,null,null,null,null,null,null,null,null,null,null,null,null,null,null,null,null,null,null,null,null,null,null,null,null,null,null,null,null,null,null,null,null,null,null,null,null,null,null,null,null,null,null,null,null,null,null,null,null,null,null,null,null,null,null,null,null,null,null,null,null,null,null,null,null,null,null,null,null,1,null,2,null,null,null,null,null,{"$f":"IF(DJ16>DN15*SUM(DL30:DL41),0,IF(DJ26>(1-DN15)*SUM(DL30:DL41),DL33,DN15*SUM(DL30:DL41)-DL30))","v":100.58000000000001},null,null,null,null,null,"Through lane utilization factor",null,"Right turn to Total Flow Ratio"]
[null,null,null,null,null,"Predicted approach capacity",null,null,null,null,null,null,null,null,null,null,null,null,null,null,null,null,null,null,null,null,null,null,null,null,null,null,null,null,null,null,null,null,null,null,null,null,null,null,null,"Predicted approach capacity",null,null,null,null,null,null,null,null,null,null,null,null,null,null,null,null,null,null,null,null,null,null,null,"pepch",null,null,"pepch",null,null,"pepch",null,null,"pepch"]
[null,null,null,null,null,null,null,null,null,null,null,null,null,null,null,null,null,null,null,null,null,null,null,null,null,null,null,null,null,null,null,null,null,null,null,null,null,null,null,null,null,null,null,null,null,null,null,null,null,null,null,null,null,null,null,null,null,null,null,null,null,null,null,null,null,null,null,null,null,{"$f":"SBR_Master","v":204},null,null,{"$f":"SBT_Master","v":510},null,null,{"$f":"SBL_Master","v":102},null,null,{"$f":"SBU_Master","v":0}]
[]
[null,null,null,null,null,"Lane 1",null,null,null,{"$f":"CA35/CB7","v":0.76525375396253192},null,null,null,"V/C",null,null,null,null,null,null,null,null,null,null,null,null,null,null,null,null,null,null,null,null,null,null,null,null,null,null,null,null,null,null,null,"Lane 1",null,null,null,{"$f":"CR28/CB7","v":0.17990422646463175},null,null,null,"V/C",null,null,null,null,null,null,null,null,null,null,null,null,null,null,null,null,null,null,null,null,null,null,null,null,null,null,null,null,null,null,null,null,null,null,null,null,null,null,null,null,null,null,null,null,null,null,null,null,null,null,null,null,null,null,null,null,null,{"$f":"IF(DJ26>(1-DN15)*SUM(DL30:DL41),0,IF(DJ16>DN15*SUM(DL30:DL41),DL33,DL33-DH19))","v":103.41999999999999}]
[null,null,null,null,null,null,null,null,null,null,null,null,null,null,null,null,null,{"$f":"+IF(J23>1,1,0)","v":0},null,null,null,null,null,null,null,null,null,null,null,null,null,null,null,null,null,null,null,null,null,null,null,null,null,null,null,null,null,null,null,null,null,null,null,null,null,null,null,null,null,null,null,null,null,null,null,null,null,null,null,"Lane Capacity",null,null,null,null,null,null,null,null,null,null,null,null,"Conflicting flow"]
[null,null,null,null,null,null,null,null,null,null,null,null,null,null,null,null,null,null,null,null,null,null,null,null,null,null,null,null,null,null,null,null,null,null,null,null,null,null,null,null,null,null,null,null,null,"Lane 2",null,null,null,{"$f":"CR25/CB7","v":0.18438144211542062},null,null,null,"V/C",null,null,null,null,null,null,null,null,null,null,null,null,null,null,null,1,null,null,null,{"$f":"$CL$11*EXP(-$CS$11*(CE27+CE25))","v":1066.3129658295707},null,null,null,null,null,null,null,null,{"$f":"DH19+DD60+BR40","v":202.58},null,null,null,null,null,null,null,null,null,null,2,null,{"$f":"CY25/DB15","v":0.18438144211542062},null,"V/C RATIO",null,null,null,null,{"$f":"DH19+DJ16","v":151.58000000000001},"pepch"]
[null,null,null,null,null,null,null,null,null,null,null,null,null,null,null,null,null,null,null,null,null,null,null,null,null,null,null,null,null,null,null,null,null,null,null,null,null,null,null,null,null,null,null,null,null,null,null,null,null,null,null,null,null,null,null,null,null,{"$f":"+IF(OR(AX23>1,AX25>1),1,0)","v":0},null,null,null,null,null,null,null,null,null,null,null,null,null,null,null,null,null,null,null,null,null,null,null,null,null,null,null,null,null,null,null,null,null,null,null,null,null,null,null,null,null,null,null,null,null,null,null,null,null,null,null,null,null,null,null,{"$f":"DL36+DL39","v":31}]
[null,null,null,null,null,null,null,null,null,null,null,null,null,null,null,null,null,null,null,null,null,null,null,null,null,null,null,null,null,null,null,null,null,null,null,null,null,null,null,null,null,null,null,null,null,null,null,null,null,null,null,null,null,null,null,null,null,null,null,null,null,null,null,null,null,null,null,null,null,null,null,null,null,null,null,null,null,null,null,null,null,null,{"$f":"DH23+DJ26+DA60","v":134.41999999999999}]
[null,null,null,null,null,null,null,null,null,null,null,null,null,null,null,null,null,null,null,null,null,null,null,null,null,null,null,null,null,null,null,null,null,null,null,null,null,null,null,null,null,null,null,null,null,null,null,null,null,null,null,null,null,null,null,null,null,null,null,null,null,null,null,null,null,null,null,null,null,null,null,null,null,null,null,null,null,null,"pepch",null,null,null,null,null,null,null,null,null,null,null,null,null,null,1,null,{"$f":"CY28/CZ15","v":0.17990422646463175},null,"V/C RATIO",null,null,null,null,{"$f":"DJ26+DH23","v":134.41999999999999},"pepch"]
[null,null,null,null,null,null,null,null,null,null,null,null,null,null,null,null,null,null,null,null,null,null,null,null,null,null,null,null,null,null,null,null,null,null,null,null,null,null,null,null,null,null,null,null,null,null,null,null,null,null,null,null,null,null,null,null,null,null,null,null,null,null,null,null,null,null,null,null,null,null,null,null,null,null,null,null,null,null,{"$f":"BR21+BU21+BX21+CA21","v":816}]
[null,null,null,null,null,null,null,null,null,null,null,null,null,null,null,null,null,null,null,null,null,null,null,null,null,null,null,null,null,null,null,null,null,null,null,null,null,null,null,null,null,null,null,null,null,null,null,null,null,null,null,null,null,null,null,null,null,null,null,null,null,null,null,null,null,null,null,null,null,null,null,null,null,null,null,null,null,null,"V/C RATIO",null,null,null,null,null,null,null,null,null,null,null,null,null,null,null,null,null,null,null,null,null,null,null,null,null,null,null,null,null,null,null,null,null,null,null,null,{"$f":"WBR_Master","v":51},"pepch"]
[]
[null,null,null,null,null,null,null,null,null,null,null,null,null,null,null,null,null,null,null,null,null,null,null,null,null,null,null,null,null,null,null,null,null,null,null,null,null,null,null,null,null,null,null,null,null,null,null,null,null,null,null,null,null,null,null,null,null,null,null,null,null,null,null,null,null,null,null,null,null,null,null,null,null,null,null,null,null,null,null,null,null,null,null,null,null,null,null,null,null,null,null,null,null,null,null,null,null,null,null,null,null,null,null,null,null,null,null,"Conflicting flow"]
[null,null,null,null,null,null,null,null,null,null,null,null,null,null,null,null,null,null,null,null,null,null,null,null,null,null,null,null,null,null,null,null,null,null,null,null,null,null,null,null,null,null,null,null,null,null,null,null,null,null,null,null,null,null,null,null,null,null,null,null,null,null,null,null,null,null,null,null,null,null,null,null,null,null,null,null,null,null,null,null,null,null,null,null,null,null,null,null,null,null,null,null,null,null,null,null,null,null,null,null,null,null,null,null,null,null,null,null,null,null,null,null,null,null,null,{"$f":"WBT_Master","v":204},"pepch"]
[]
[null,null,null,null,null,null,null,null,null,null,null,null,null,null,null,null,null,null,null,null,null,null,null,null,null,null,null,null,null,null,null,null,null,null,null,null,null,null,null,null,null,null,null,null,null,null,null,null,null,null,null,null,null,null,null,null,null,null,null,null,null,null,null,null,null,null,null,null,null,null,null,null,null,null,null,null,null,null,{"$f":"CA29/BV25","v":0.76525375396253192}]
[null,null,null,null,null,null,null,null,null,null,null,null,null,null,null,null,null,null,null,null,null,null,null,null,null,null,null,null,null,null,null,null,null,null,null,null,null,null,null,null,null,null,null,null,null,null,null,null,null,null,null,null,null,null,null,null,null,null,null,null,null,null,null,null,null,null,null,null,null,null,null,null,null,null,null,null,null,null,null,null,null,null,null,null,null,null,null,null,null,null,null,null,null,null,null,null,null,null,null,null,null,null,null,null,null,{"$f":"BS53+DA60+DD60+DG60+CA21","v":643},null,null,null,null,null,null,null,null,null,{"$f":"WBL_Master","v":31},"pepch"]
[null,null,null,null,null,null,null,null,null,null,null,null,null,null,null,null,null,null,null,null,null,null,null,null,null,null,null,null,null,null,null,null,null,null,null,null,null,null,null,null,null,null,null,null,null,null,null,null,null,null,null,null,null,null,null,null,null,null,null,null,null,null,null,null,null,null,null,null,null,null,null,null,null,null,null,null,null,null,1]
[]
[null,null,null,null,null,null,null,null,null,null,null,null,null,null,null,null,null,null,null,null,null,null,null,null,null,null,null,null,null,null,null,null,null,null,null,null,null,null,null,null,null,null,null,null,null,null,null,null,null,null,null,null,null,null,null,null,null,null,null,null,null,null,null,null,null,null,null,null,null,null,null,null,null,null,null,null,null,null,null,null,null,null,null,null,null,null,null,null,null,null,null,null,null,null,null,null,null,null,null,null,null,null,null,null,null,null,null,null,null,null,null,null,null,null,null,{"$f":"WBU_Master","v":0},"pepch"]
[null,null,null,null,null,null,null,null,null,null,null,null,null,null,null,null,null,null,null,null,null,null,null,null,null,null,null,null,null,null,null,null,null,null,null,null,null,null,null,null,null,null,null,null,null,null,null,null,null,null,null,null,null,null,null,null,null,null,null,null,null,null,null,null,null,null,null,null,"pepch",{"$f":"EBU_Master","v":0}]
[null,null,null,null,null,null,null,null,null,null,null,null,null,null,null,null,null,null,null,null,null,null,null,null,null,null,null,null,null,null,null,null,null,null,null,null,null,null,null,null,null,null,null,null,null,null,null,null,null,null,null,null,null,null,null,null,null,null,null,null,null,null,null,null,null,null,null,null,null,null,null,null,null,null,null,null,null,"Conflicting flow",{"$f":"DJ26+CA21+BX21+BU21+DA60","v":643}]
[]
[null,null,null,null,null,null,null,null,null,null,null,null,null,null,null,null,null,null,null,null,null,null,null,null,null,null,null,null,null,null,null,null,null,null,null,null,null,null,null,null,null,null,null,null,null,null,null,null,null,null,null,null,null,null,null,null,null,null,null,null,null,null,null,null,null,null,null,null,"pepch",{"$f":"EBL_Master","v":31},null,null,null,null,null,null,null,null,null,null,null,null,null,null,null,null,null,null,null,null,null,null,null,null,null,null,null,null,null,null,null,null,null,null,1]
[]
[null,null,null,null,null,null,null,null,null,null,null,null,null,null,null,null,null,null,null,null,null,null,null,null,null,null,null,null,null,null,null,null,null,null,null,null,null,null,null,null,null,null,null,null,null,null,null,null,null,null,null,null,null,null,null,null,null,null,null,null,null,null,null,null,null,null,null,null,null,null,null,null,null,null,null,null,null,null,null,null,null,null,null,null,null,null,null,null,null,null,null,null,null,null,null,null,null,null,null,null,null,null,null,null,{"$f":"DA52/DI55","v":0.76525375396253192}]
[null,null,null,null,null,null,null,null,null,null,null,null,null,null,null,null,null,null,null,null,null,null,null,null,null,null,null,null,null,null,null,null,null,null,null,null,null,null,null,null,null,null,null,null,null,null,null,null,null,null,null,null,null,null,null,null,null,null,null,null,null,null,null,null,null,null,null,null,"pepch",{"$f":"EBT_Master","v":204}]
[null,null,null,null,null,null,null,null,null,null,null,null,null,null,null,null,null,null,null,null,null,null,null,null,null,null,null,null,null,null,null,null,null,null,null,null,null,null,null,null,null,null,null,null,null,null,null,null,null,null,null,null,null,null,null,null,null,null,null,null,null,null,null,null,null,null,null,null,null,null,null,null,null,null,null,null,null,null,null,null,null,null,null,null,null,null,null,null,null,null,null,null,null,null,null,null,null,null,null,null,null,null,null,null,"V/C RATIO"]
[]
[null,null,null,null,null,null,null,null,null,null,null,null,null,null,null,null,null,null,null,null,null,null,null,null,null,null,null,null,null,null,null,null,null,null,null,null,null,null,null,null,null,null,null,null,null,null,null,null,null,null,null,null,null,null,null,null,null,null,null,null,null,null,null,null,null,null,null,null,"pepch",{"$f":"EBR_Master","v":51}]
[]
[null,null,null,null,null,null,null,null,null,null,null,null,null,null,null,null,null,null,null,null,null,null,null,null,null,null,null,null,null,null,null,null,null,null,null,null,null,null,null,null,null,null,null,null,null,null,null,null,null,null,null,null,null,null,null,null,null,null,null,null,null,null,null,null,null,null,null,null,null,null,null,null,null,null,null,null,null,null,null,null,null,"pepch",{"$f":"BS53+BU56","v":134.41999999999999},"V/C RATIO",null,null,null,null,{"$f":"CE51/CC63","v":0.17990422646463175},null,1]
[null,null,null,null,null,null,null,null,null,null,null,null,null,null,null,null,null,null,null,null,null,null,null,null,null,null,null,null,null,null,null,null,null,null,null,null,null,null,null,null,null,null,null,null,null,null,null,null,null,null,null,null,null,null,null,null,null,null,null,null,null,null,null,null,null,null,null,null,null,null,null,null,null,null,null,null,null,null,null,null,null,null,null,null,null,null,null,null,null,null,null,null,null,null,null,null,null,null,null,null,null,null,null,null,{"$f":"DD60+DG60+DJ60+DA60","v":816}]
[null,null,null,null,null,null,null,null,null,null,null,null,null,null,null,null,null,null,null,null,null,null,null,null,null,null,null,null,null,null,null,null,null,null,null,null,null,null,null,null,null,null,null,null,null,null,null,null,null,null,null,null,null,null,null,null,null,null,null,null,null,null,null,null,"Right turn to Total Flow Ratio",null,"Through lane utilization factor",null,null,null,{"$f":"BR43+BR40","v":31},null,null,null,null,null,null,null,null,null,null,null,null,null,null,null,null,null,null,null,null,null,null,null,null,{"$f":"BS53+BU56+CA21","v":134.41999999999999},null,null,null,null,null,null,null,null,"pepch"]
[null,null,null,null,null,null,null,null,null,null,null,null,null,null,null,null,null,null,null,null,null,null,null,null,null,null,null,null,null,null,null,null,null,null,null,null,null,null,null,null,null,null,null,null,null,null,null,null,null,null,null,null,null,null,null,null,null,null,null,null,null,null,null,null,null,null,null,null,null,null,null,null,null,null,null,null,null,null,null,null,null,"pepch",{"$f":"BU60+BS63","v":151.58000000000001},"V/C RATIO",null,null,null,null,{"$f":"CE54/CA63","v":0.18438144211542062},null,2]
[null,null,null,null,null,null,null,null,null,null,null,null,null,null,null,null,null,null,null,null,null,null,null,null,null,null,null,null,null,null,null,null,null,null,null,null,null,null,null,null,null,null,null,null,null,null,null,null,null,null,null,null,null,null,null,null,null,null,null,null,null,null,null,null,null,null,null,null,null,null,null,null,null,null,null,null,null,null,null,null,null,null,null,null,null,null,null,null,null,null,null,null,null,null,null,{"$f":"BU60+BX21+DL39","v":202.58},null,null,null,null,null,null,null,null,null,null,null,null,1,null,null,null,{"$f":"$CL$11*EXP(-$CS$11*(CR53+CR55))","v":1066.3129658295707}]
[null,null,null,null,null,null,null,null,null,null,null,null,null,null,null,null,null,null,null,null,null,null,null,null,null,null,null,null,null,null,null,null,null,null,null,null,null,null,null,null,null,null,null,null,null,null,null,null,null,null,null,null,null,null,null,null,null,null,null,null,null,null,null,null,null,null,null,null,null,null,null,null,{"$f":"IF(BS53>(1-BO63)*SUM(BR40:BR51),0,IF(BS63>BO63*SUM(BR40:BR51),BR46,BR46-BU60))","v":103.41999999999999}]
[null,null,null,null,null,null,null,null,null,null,null,null,null,null,null,null,null,null,null,null,null,null,null,null,null,null,null,null,null,null,null,null,null,null,null,null,null,null,null,null,null,null,null,null,null,null,null,null,null,null,null,null,null,null,null,null,null,null,null,null,null,null,null,null,null,null,null,null,null,null,null,null,null,null,null,null,null,null,null,null,null,null,null,null,null,null,null,null,null,null,null,null,null,null,null,"Conflicting flow",null,null,null,null,null,null,null,null,null,null,null,null,"Lane Capacity"]
[null,null,null,null,null,null,null,null,null,null,null,null,null,null,null,null,null,null,null,null,null,null,null,null,null,null,null,null,null,null,null,null,null,null,null,null,null,null,null,null,null,null,null,null,null,null,null,null,null,null,null,null,null,null,null,null,null,null,null,null,null,null,null,null,null,null,null,null,null,null,null,null,null,null,null,null,null,"Lane Capacity",2,null,1]
[null,null,null,null,null,"Predicted approach capacity",null,null,null,null,null,null,null,null,null,null,null,null,null,null,null,null,null,null,null,null,null,null,null,null,null,null,null,null,null,null,null,null,null,null,null,null,null,null,null,"Predicted approach capacity"]
[null,null,null,null,null,null,null,null,null,null,null,null,null,null,null,null,null,null,null,null,null,null,null,null,null,null,null,null,null,null,null,null,null,null,null,null,null,null,null,null,null,null,null,null,null,null,null,null,null,null,null,null,null,null,null,null,null,null,null,null,null,null,null,null,null,null,null,null,null,null,null,null,{"$f":"IF(BS63>BO63*SUM(BR40:BR51),0,IF(BS53>(1-BO63)*SUM(BR40:BR51),BR46,BO63*SUM(BR40:BR51)-BR49))","v":100.58000000000001},null,null,null,null,null,null,null,null,null,null,null,null,null,null,null,null,null,null,null,null,null,null,null,null,null,null,null,null,null,null,null,{"$f":"NBU_Master","v":0},null,null,{"$f":"NBL_Master","v":102},null,null,{"$f":"NBT_Master","v":510},null,null,{"$f":"NBR_Master","v":204}]
[null,null,null,null,null,null,null,null,null,null,null,null,null,null,null,null,null,null,null,null,null,null,null,null,null,null,null,null,null,null,null,null,null,null,null,null,null,null,null,null,null,null,null,null,null,null,null,null,null,null,null,null,null,null,null,null,null,null,null,null,null,null,null,null,null,null,null,null,null,null,null,null,null,null,null,null,null,null,null,null,null,null,null,null,null,null,null,null,null,null,null,null,null,null,null,null,null,null,null,null,null,null,null,null,"pepch",null,null,"pepch",null,null,"pepch",null,null,"pepch"]
[null,null,null,null,null,"Lane 1",null,null,null,{"$f":"CK51/CB7","v":0.17990422646463175},null,null,null,"V/C",null,null,null,null,null,null,null,null,null,null,null,null,null,null,null,null,null,null,null,null,null,null,null,null,null,null,null,null,null,null,null,"Lane 1",null,null,null,{"$f":"DA45/CB7","v":0.76525375396253192},null,null,null,"V/C"]
[null,null,null,null,null,null,null,null,null,null,null,null,null,null,null,null,null,null,null,null,null,null,null,null,null,null,null,null,null,null,null,null,null,null,null,null,null,null,null,null,null,null,null,null,null,null,null,null,null,null,null,null,null,null,null,null,null,{"$f":"+IF(AX62>1,1,0)","v":0},null,null,null,null,null,null,{"$f":"BR49/(BR49+BR46+BR43+BR40)","v":0.17832167832167833},null,0.53,null,null,null,{"$f":"BR49","v":51},null,null,null,null,null,null,null,{"$f":"$CL$9*EXP(-$CS$9*CA41)","v":822.10008914624234},null,{"$f":"$CL$7*EXP(-$CS$7*CA41)","v":747.17533123895942}]
[null,null,null,null,null,"Lane 2",null,null,null,{"$f":"CK54/CB7","v":0.18438144211542062},null,null,null,"V/C"]
[null,null,null,null,null,null,null,null,null,null,null,null,null,null,null,null,null,{"$f":"+IF(OR(J62>1,J64>1),1,0)","v":0}]

{"sheet":"2 NS x 1 EW Rndabt","index":42,"n_rows":65,"n_cols":116,"rows_kept":65,"cut":false,"hidden":false,"merged":[[38,102,39,104],[38,105,39,107],[62,113,63,116],[64,103,65,112],[64,113,65,116],[58,113,59,115],[56,106,57,108],[56,110,57,112],[40,102,41,104],[40,105,41,107],[42,102,46,104],[42,105,46,107],[48,109,49,112],[48,113,49,116],[49,102,52,104],[49,105,52,107],[47,102,47,104],[47,105,47,107],[48,102,48,104],[48,105,48,107],[62,90,65,92],[62,93,65,95],[62,96,65,98],[62,99,65,101],[58,110,61,112],[60,90,60,92],[60,93,60,95],[60,96,60,98],[60,99,60,101],[62,103,63,112],[58,78,61,79],[58,103,59,105],[58,106,61,108],[50,93,51,96],[50,97,51,100],[50,109,51,112],[50,113,51,116],[52,93,52,100],[52,109,52,116],[61,90,61,92],[61,93,61,95],[61,96,61,98],[61,99,61,101],[49,77,51,80],[49,81,51,81],[49,82,51,82],[49,83,51,87],[53,77,61,77],[53,78,57,79],[49,88,51,89],[49,90,51,91],[45,68,47,71],[45,72,47,72],[45,73,47,73],[44,78,47,79],[44,80,47,81],[48,68,50,71],[39,68,41,71],[39,72,41,72],[39,73,41,73],[39,77,47,77],[39,78,43,79],[39,80,43,81],[42,68,44,71],[42,72,44,72],[42,73,44,73],[48,72,50,72],[48,73,50,73],[34,78,35,80],[34,81,35,83],[31,112,33,112],[31,113,33,113],[31,114,33,117],[32,104,36,105],[32,106,36,107],[34,112,36,112],[34,113,36,113],[29,78,33,80],[29,81,33,83],[28,104,31,105],[28,106,31,107],[28,108,36,108],[28,112,30,112],[28,113,30,113],[36,78,37,80],[36,81,37,83],[34,114,36,117],[28,114,30,117],[25,112,27,112],[25,113,27,113],[25,114,27,117],[28,78,28,80],[28,81,28,83],[26,69,27,72],[26,73,27,76],[27,78,27,80],[27,81,27,83],[24,96,26,97],[24,69,25,72],[24,73,25,76],[24,85,25,88],[24,89,25,92],[24,94,26,95],[18,72,19,74],[18,76,19,78],[18,106,22,107],[23,69,23,76],[23,78,26,80],[23,81,26,83],[23,85,23,92],[14,106,17,107],[14,108,22,108],[24,105,26,108],[24,98,26,102],[24,103,26,103],[24,104,26,104],[8,115,9,119],[15,69,16,71],[15,79,16,81],[15,84,15,86],[15,87,15,89],[15,90,15,92],[15,93,15,95],[12,69,13,78],[12,79,13,82],[14,72,17,74],[14,76,17,78],[14,84,14,86],[14,87,14,89],[14,90,14,92],[14,93,14,95],[0,63,1,122],[2,63,3,122],[4,101,5,107],[6,101,7,105],[6,106,7,107],[6,108,7,112],[6,113,7,114],[10,101,11,105],[10,106,11,107],[10,108,11,112],[10,113,11,114],[10,115,11,119],[4,108,5,119],[10,69,11,78],[10,79,11,82],[10,84,13,86],[10,87,13,89],[10,90,13,92],[10,93,13,95],[6,115,7,119],[8,101,9,105],[8,106,9,107],[8,108,9,112],[8,113,9,114],[61,45,62,48],[63,45,64,48],[19,5,21,16],[22,5,23,8],[24,5,25,8],[58,45,60,56],[19,45,21,56],[22,45,23,48],[58,5,60,16],[61,5,62,8],[22,49,23,52],[22,53,23,56],[61,49,62,52],[61,53,62,56],[63,49,64,52],[63,53,64,56],[61,9,62,12],[61,13,62,16],[22,9,23,12],[22,13,23,16],[24,9,25,12],[24,13,25,16],[7,2,8,9],[7,10,8,35],[9,2,10,9],[9,10,10,35],[11,2,12,9],[11,10,12,35],[9,36,12,43],[0,1,1,60],[2,1,3,60],[5,2,6,9],[5,10,6,35],[5,36,6,59],[7,36,8,41],[7,42,8,47],[7,48,8,53],[7,54,8,59],[6,79,7,80],[9,44,10,47],[9,48,10,51],[9,52,10,55],[9,56,10,59],[11,44,12,47],[11,48,12,51],[11,52,12,55],[11,56,12,59],[6,65,8,78]]}
[null,"2 NS x 1 EW Lane Roundabout",null,null,null,null,null,null,null,null,null,null,null,null,null,null,null,null,null,null,null,null,null,null,null,null,null,null,null,null,null,null,null,null,null,null,null,null,null,null,null,null,null,null,null,null,null,null,null,null,null,null,null,null,null,null,null,null,null,null,null,null,null,"2 NS x 1 EW Lane Roundabout"]
[]
[null,"Design and Results",null,null,null,null,null,null,null,null,null,null,null,null,null,null,null,null,null,null,null,null,null,null,null,null,null,null,null,null,null,null,null,null,null,null,null,null,null,null,null,null,null,null,null,null,null,null,null,null,null,null,null,null,null,null,null,null,null,null,null,null,null,"Data Input and Configuration"]
[]
[null,null,null,null,null,null,null,null,null,null,null,null,null,null,null,null,null,null,null,null,null,null,null,null,null,null,null,null,null,null,null,null,null,null,null,null,null,null,null,null,null,null,null,null,null,null,null,null,null,null,null,null,null,null,null,null,null,null,null,null,null,null,null,null,null,null,null,null,null,null,null,null,null,null,null,null,null,null,null,null,null,null,null,null,null,null,null,null,null,null,null,null,null,null,null,null,null,null,null,null,null,"Equation",null,null,null,null,null,null,"A x exp(-B x Q)"]
[null,null,"Project Name:",null,null,null,null,null,null,null,{"$f":"P_Name","v":"Cap-X Sample Street"},null,null,null,null,null,null,null,null,null,null,null,null,null,null,null,null,null,null,null,null,null,null,null,null,null,"Volume-to-Capacity Ratio"]
[null,null,null,null,null,null,null,null,null,null,null,null,null,null,null,null,null,null,null,null,null,null,null,null,null,null,null,null,null,null,null,null,null,null,null,null,null,null,null,null,null,null,null,null,null,null,null,null,null,null,null,null,null,null,null,null,null,null,null,null,null,null,null,null,null,"Multimodal Capacity Adjustment Factor",null,null,null,null,null,null,null,null,null,null,null,null,null,{"$f":"IF(Multimodal=1,1,IF(Multimodal=2,IF(MIN(CK50,CS25)=0,0.97,0.95),IF(MIN(CK50,CS25)=0,0.95,0.91)))","v":1},null,null,null,null,null,null,null,null,null,null,null,null,null,null,null,null,null,null,null,null,null,"LT Lane",null,null,null,null,"A",null,1350,null,null,null,null,"B",null,9.2000000000000003E-4]
[null,null,"Project Number:",null,null,null,null,null,null,null,{"$f":"P_Number","v":10000},null,null,null,null,null,null,null,null,null,null,null,null,null,null,null,null,null,null,null,null,null,null,null,null,null,"< 0.750",null,null,null,null,null,"0.750 - 0.875",null,null,null,null,null,"0.875 - 1.00",null,null,null,null,null,"≥ 1.00"]
[null,null,null,null,null,null,null,null,null,null,null,null,null,null,null,null,null,null,null,null,null,null,null,null,null,null,null,null,null,null,null,null,null,null,null,null,null,null,null,null,null,null,null,null,null,null,null,null,null,null,null,null,null,null,null,null,null,null,null,null,null,null,null,null,null,null,null,null,null,null,null,null,null,null,null,null,null,null,null,null,null,null,null,null,null,null,null,null,null,null,null,null,null,null,null,null,null,null,null,null,null,"RT Lane",null,null,null,null,"A",null,1420,null,null,null,null,"B",null,8.4999999999999995E-4]
[null,null,"Location",null,null,null,null,null,null,null,{"$f":"Location","v":"Tallahassee, FL"},null,null,null,null,null,null,null,null,null,null,null,null,null,null,null,null,null,null,null,null,null,null,null,null,null,"VOLUME / CAPACITY RATIO:",null,null,null,null,null,null,null,"Zone 1",null,null,null,{"$f":"MAX(J23:M26)","v":0.40558448960014193},null,null,null,"Zone3",null,null,null,{"$f":"MAX(AX23)","v":0.34788951342532187}]
[null,null,null,null,null,null,null,null,null,null,null,null,null,null,null,null,null,null,null,null,null,null,null,null,null,null,null,null,null,null,null,null,null,null,null,null,null,null,null,null,null,null,null,null,null,null,null,null,null,null,null,null,null,null,null,null,null,null,null,null,null,null,null,null,null,null,null,null,null,"Right turn to Total Flow Ratio",null,null,null,null,null,null,null,null,null,{"$f":"CG16/(CG16+CJ16+CM16+CP16)","v":0.25},null,null,null,null,null,null,null,null,null,null,null,null,null,null,null,null,null,null,null,null,null,"One Lane",null,null,null,null,"A",null,1420,null,null,null,null,"B",null,8.4999999999999995E-4]
[null,null,"Date",null,null,null,null,null,null,null,{"$f":"Date","v":"2017 AM"},null,null,null,null,null,null,null,null,null,null,null,null,null,null,null,null,null,null,null,null,null,null,null,null,null,null,null,null,null,null,null,null,null,"Zone 4",null,null,null,{"$f":"MAX(J62)","v":0.34788951342532187},null,null,null,"Zone 2",null,null,null,{"$f":"MAX(AX62:BA65)","v":0.40558448960014193}]
[null,null,null,null,null,null,null,null,null,null,null,null,null,null,null,null,null,null,null,null,null,null,null,null,null,null,null,null,null,null,null,null,null,null,null,null,null,null,null,null,null,null,null,null,null,null,null,null,null,null,null,null,null,null,null,null,null,null,null,null,null,null,null,null,null,null,null,null,null,"Through lane utilization factor",null,null,null,null,null,null,null,null,null,0.53]
[]
[null,null,null,null,null,null,null,null,null,null,null,null,null,null,null,null,null,null,null,null,null,null,null,null,null,null,null,null,null,null,null,null,null,null,null,null,null,null,null,null,null,null,null,null,null,null,null,null,null,null,null,null,null,null,null,null,null,null,null,null,null,null,null,null,null,null,null,null,null,null,null,null,null,null,null,null,null,null,null,null,null,null,null,null,"pepch",null,null,"pepch",null,null,"pepch",null,null,"pepch",null,null,null,null,null,null,null,null,null,null,null,null,{"$f":"$DE$11*EXP(-$DL$11*(DC33+DA33))","v":822.10008914624234},null,"Lane Capacity"]
[null,null,null,null,null,null,null,null,null,null,null,null,null,null,null,null,null,null,null,null,null,null,null,null,null,null,null,null,null,null,null,null,null,null,null,null,null,null,null,null,null,null,null,null,null,null,null,null,null,null,null,null,null,null,null,null,null,null,null,null,null,null,null,null,null,null,null,null,null,{"$f":"CG16","v":204},null,null,null,null,null,null,null,null,null,{"$f":"CM16+CP16","v":102},null,null,null,null,{"$f":"SBR_Master","v":204},null,null,{"$f":"SBT_Master","v":510},null,null,{"$f":"SBL_Master","v":102},null,null,{"$f":"SBU_Master","v":0}]
[]
[]
[null,null,null,null,null,null,null,null,null,null,null,null,null,null,null,null,null,null,null,null,null,null,null,null,null,null,null,null,null,null,null,null,null,null,null,null,null,null,null,null,null,null,null,null,null,null,null,null,null,null,null,null,null,null,null,null,null,null,null,null,null,null,null,null,null,null,null,null,null,null,null,null,{"$f":"IF(BR16>CB13*SUM(CG16:CR16),0,IF(CB16>(1-CB13)*SUM(CG16:CR16),CJ16,CB13*SUM(CG16:CR16)-BR16))","v":228.48000000000002},null,null,null,{"$f":"IF(CB16>(1-CB13)*SUM(CG16:CR16),0,IF(BR16>CB13*SUM(CG16:CR16),CJ16,CJ16-BU19))","v":281.52},null,null,null,null,null,null,null,null,null,null,null,null,null,null,null,null,null,null,null,null,null,null,null,null,null,null,null,null,null,1]
[null,null,null,null,null,"Predicted approach capacity",null,null,null,null,null,null,null,null,null,null,null,null,null,null,null,null,null,null,null,null,null,null,null,null,null,null,null,null,null,null,null,null,null,null,null,null,null,null,null,"Predicted approach capacity"]
[]
[]
[null,null,null,null,null,"Lane 1",null,null,null,{"$f":"CD35/CB7","v":0.38734941942391848},null,null,null,"V/C",null,null,null,null,null,null,null,null,null,null,null,null,null,null,null,null,null,null,null,null,null,null,null,null,null,null,null,null,null,null,null,"Lane 1",null,null,null,{"$f":"CS25/CB7","v":0.34788951342532187},null,null,null,"V/C"]
[null,null,null,null,null,null,null,null,null,null,null,null,null,null,null,null,null,null,null,null,null,null,null,null,null,null,null,null,null,null,null,null,null,null,null,null,null,null,null,null,null,null,null,null,null,null,null,null,null,null,null,null,null,null,null,null,null,{"$f":"+IF(AX23>1,1,0)","v":0},null,null,null,null,null,null,null,null,null,null,null,"Lane Capacity",null,null,null,null,null,null,null,null,null,null,null,null,null,null,null,"Conflicting flow"]
[null,null,null,null,null,"Lane 2",null,null,null,{"$f":"CA35/CB7","v":0.40558448960014193},null,null,null,"V/C",null,null,null,null,null,null,null,null,null,null,null,null,null,null,null,null,null,null,null,null,null,null,null,null,null,null,null,null,null,null,null,null,null,null,null,null,null,null,null,null,null,null,null,null,null,null,null,null,null,null,null,null,null,null,null,1,null,null,null,{"$f":"$DE$7*EXP(-$DL$7*CH25)","v":990.11378555926649},null,null,null,null,null,null,null,null,null,null,null,{"$f":"CZ59+DI35+DI32+DI29+BV40","v":337},null,null,null,null,null,null,null,null,1,null,{"$f":"CZ25/DC15","v":0.34788951342532187},null,"V/C RATIO",null,null,null,null,{"$f":"DI32+DI29+DI26+DI35","v":286},"pepch"]
[null,null,null,null,null,null,null,null,null,null,null,null,null,null,null,null,null,{"$f":"+IF(OR(J23>1,J25>1),1,0)","v":0},null,null,null,null,null,null,null,null,null,null,null,null,null,null,null,null,null,null,null,null,null,null,null,null,null,null,null,null,null,null,null,null,null,null,null,null,null,null,null,null,null,null,null,null,null,null,null,null,null,null,null,null,null,null,null,null,null,null,null,null,null,null,null,null,null,null,null,null,null,null,null,null,null,null,null,null,null,null,null,null,null,null,null,null,null,null,null,null,null,null,null,null,null,null,{"$f":"WBR_Master","v":51},"pepch"]
[null,null,null,null,null,null,null,null,null,null,null,null,null,null,null,null,null,null,null,null,null,null,null,null,null,null,null,null,null,null,null,null,null,null,null,null,null,null,null,null,null,null,null,null,null,null,null,null,null,null,null,null,null,null,null,null,null,null,null,null,null,null,null,null,null,null,null,null,null,2,null,null,null,{"$f":"$DE$9*EXP(-$DL$9*CH25)","v":1066.3129658295707}]
[null,null,null,null,null,null,null,null,null,null,null,null,null,null,null,null,null,null,null,null,null,null,null,null,null,null,null,null,null,null,null,null,null,null,null,null,null,null,null,null,null,null,null,null,null,null,null,null,null,null,null,null,null,null,null,null,null,null,null,null,null,null,null,null,null,null,null,null,null,null,null,null,null,null,null,null,null,null,"pepch",null,null,"pepch"]
[null,null,null,null,null,null,null,null,null,null,null,null,null,null,null,null,null,null,null,null,null,null,null,null,null,null,null,null,null,null,null,null,null,null,null,null,null,null,null,null,null,null,null,null,null,null,null,null,null,null,null,null,null,null,null,null,null,null,null,null,null,null,null,null,null,null,null,null,null,null,null,null,null,null,null,null,null,null,{"$f":"BU19+BR16","v":432.48},null,null,{"$f":"BY19+CB16","v":383.52},null,null,null,null,null,null,null,null,null,null,null,null,null,null,null,null,null,null,null,null,null,null,null,null,null,null,"Conflicting flow",null,null,null,{"$f":"WBT_Master","v":204},"pepch"]
[null,null,null,null,null,null,null,null,null,null,null,null,null,null,null,null,null,null,null,null,null,null,null,null,null,null,null,null,null,null,null,null,null,null,null,null,null,null,null,null,null,null,null,null,null,null,null,null,null,null,null,null,null,null,null,null,null,null,null,null,null,null,null,null,null,null,null,null,null,null,null,null,null,null,null,null,null,null,"V/C RATIO",null,null,"V/C RATIO"]
[]
[null,null,null,null,null,null,null,null,null,null,null,null,null,null,null,null,null,null,null,null,null,null,null,null,null,null,null,null,null,null,null,null,null,null,null,null,null,null,null,null,null,null,null,null,null,null,null,null,null,null,null,null,null,null,null,null,null,null,null,null,null,null,null,null,null,null,null,null,null,null,null,null,null,null,null,null,null,null,null,null,null,null,null,null,null,null,null,null,null,null,null,null,null,null,null,null,null,null,null,null,null,null,null,null,null,null,null,null,null,null,null,null,{"$f":"WBL_Master","v":31},"pepch"]
[null,null,null,null,null,null,null,null,null,null,null,null,null,null,null,null,null,null,null,null,null,null,null,null,null,null,null,null,null,null,null,null,null,null,null,null,null,null,null,null,null,null,null,null,null,null,null,null,null,null,null,null,null,null,null,null,null,null,null,null,null,null,null,null,null,null,null,null,null,null,null,null,null,null,null,null,null,null,null,null,null,null,null,null,null,null,null,null,null,null,null,null,null,null,null,null,null,null,null,null,null,null,null,null,{"$f":"DC57+CZ59+BV40","v":383.52},null,{"$f":"DG57+BV43+CP16","v":259.48}]
[]
[null,null,null,null,null,null,null,null,null,null,null,null,null,null,null,null,null,null,null,null,null,null,null,null,null,null,null,null,null,null,null,null,null,null,null,null,null,null,null,null,null,null,null,null,null,null,null,null,null,null,null,null,null,null,null,null,null,null,null,null,null,null,null,null,null,null,null,null,null,null,null,null,null,null,null,null,null,null,{"$f":"CA29/BV27","v":0.40558448960014193},null,null,{"$f":"CD29/BV25","v":0.38734941942391848},null,null,null,null,null,null,null,null,null,null,null,null,null,null,null,null,null,null,null,null,null,null,null,null,null,null,null,null,null,null,{"$f":"WBU_Master","v":0},"pepch"]
[]
[null,null,null,null,null,null,null,null,null,null,null,null,null,null,null,null,null,null,null,null,null,null,null,null,null,null,null,null,null,null,null,null,null,null,null,null,null,null,null,null,null,null,null,null,null,null,null,null,null,null,null,null,null,null,null,null,null,null,null,null,null,null,null,null,null,null,null,null,null,null,null,null,null,null,null,null,null,null,2,null,null,1]
[]
[null,null,null,null,null,null,null,null,null,null,null,null,null,null,null,null,null,null,null,null,null,null,null,null,null,null,null,null,null,null,null,null,null,null,null,null,null,null,null,null,null,null,null,null,null,null,null,null,null,null,null,null,null,null,null,null,null,null,null,null,null,null,null,null,null,null,null,null,null,null,null,null,null,null,null,null,null,null,null,null,null,null,null,null,null,null,null,null,null,null,null,null,null,null,null,null,null,null,null,null,null,null,1,null,null,2]
[null,null,null,null,null,null,null,null,null,null,null,null,null,null,null,null,null,null,null,null,null,null,null,null,null,null,null,null,null,null,null,null,null,null,null,null,null,null,null,null,null,null,null,null,null,null,null,null,null,null,null,null,null,null,null,null,null,null,null,null,null,null,null,null,null,null,null,null,null,null,null,null,"pepch",{"$f":"EBU_Master","v":0},null,null,null,"Conflicting flow",{"$f":"BU19+DI32+CM61","v":259.48},null,{"$f":"BY19+CB16+DI35","v":383.52}]
[null,null,null,null,null,null,null,null,null,null,null,null,null,null,null,null,null,null,null,null,null,null,null,null,null,null,null,null,null,null,null,null,null,null,null,null,null,null,null,null,null,null,null,null,null,null,null,null,null,null,null,null,null,null,null,null,null,null,null,null,null,null,null,null,null,null,null,null,null,null,null,null,null,null,null,null,null,null,null,null,null,null,null,null,null,null,null,null,null,null,null,null,null,null,null,null,null,null,null,null,null,null,{"$f":"CY48/DJ49","v":0.38734941942391848},null,null,{"$f":"DB48/DJ51","v":0.40558448960014193}]
[]
[null,null,null,null,null,null,null,null,null,null,null,null,null,null,null,null,null,null,null,null,null,null,null,null,null,null,null,null,null,null,null,null,null,null,null,null,null,null,null,null,null,null,null,null,null,null,null,null,null,null,null,null,null,null,null,null,null,null,null,null,null,null,null,null,null,null,null,null,null,null,null,null,"pepch",{"$f":"EBL_Master","v":31},null,null,null,null,null,null,null,null,null,null,null,null,null,null,null,null,null,null,null,null,null,null,null,null,null,null,null,null,"V/C RATIO",null,null,"V/C RATIO"]
[]
[]
[null,null,null,null,null,null,null,null,null,null,null,null,null,null,null,null,null,null,null,null,null,null,null,null,null,null,null,null,null,null,null,null,null,null,null,null,null,null,null,null,null,null,null,null,null,null,null,null,null,null,null,null,null,null,null,null,null,null,null,null,null,null,null,null,null,null,null,null,null,null,null,null,"pepch",{"$f":"EBT_Master","v":204}]
[]
[null,null,null,null,null,null,null,null,null,null,null,null,null,null,null,null,null,null,null,null,null,null,null,null,null,null,null,null,null,null,null,null,null,null,null,null,null,null,null,null,null,null,null,null,null,null,null,null,null,null,null,null,null,null,null,null,null,null,null,null,null,null,null,null,null,null,null,null,null,null,null,null,null,null,null,null,null,null,null,null,null,null,null,null,null,null,null,null,null,null,null,null,null,null,null,null,null,null,null,null,null,null,{"$f":"CZ59+DC57","v":383.52},null,null,{"$f":"DG57+DJ59","v":432.48}]
[null,null,null,null,null,null,null,null,null,null,null,null,null,null,null,null,null,null,null,null,null,null,null,null,null,null,null,null,null,null,null,null,null,null,null,null,null,null,null,null,null,null,null,null,null,null,null,null,null,null,null,null,null,null,null,null,null,null,null,null,null,null,null,null,null,null,null,null,null,null,null,null,"pepch",{"$f":"EBR_Master","v":51},null,null,null,null,null,null,null,null,null,null,null,null,null,null,null,null,null,null,null,null,null,null,null,null,null,null,null,null,"pepch",null,null,"pepch",null,null,null,1,null,null,null,{"$f":"$DE$7*EXP(-$DL$7*CP51)","v":990.11378555926649}]
[null,null,null,null,null,null,null,null,null,null,null,null,null,null,null,null,null,null,null,null,null,null,null,null,null,null,null,null,null,null,null,null,null,null,null,null,null,null,null,null,null,null,null,null,null,null,null,null,null,null,null,null,null,null,null,null,null,null,null,null,null,null,null,null,null,null,null,null,null,null,null,null,null,null,null,null,null,null,null,null,null,"pepch",{"$f":"BV43+BV46+BV49+BV40","v":286},"V/C RATIO",null,null,null,null,{"$f":"CE50/CA59","v":0.34788951342532187},null,2]
[null,null,null,null,null,null,null,null,null,null,null,null,null,null,null,null,null,null,null,null,null,null,null,null,null,null,null,null,null,null,null,null,null,null,null,null,null,null,null,null,null,null,null,null,null,null,null,null,null,null,null,null,null,null,null,null,null,null,null,null,null,null,null,null,null,null,null,null,null,null,null,null,null,null,null,null,null,null,null,null,null,null,null,null,null,null,null,null,null,null,null,null,null,{"$f":"CB16+BV43+DI35+BV40+BV46","v":337},null,null,null,null,null,null,null,null,null,null,null,null,null,null,null,2,null,null,null,{"$f":"$DE$9*EXP(-$DL$9*CP51)","v":1066.3129658295707}]
[]
[null,null,null,null,null,null,null,null,null,null,null,null,null,null,null,null,null,null,null,null,null,null,null,null,null,null,null,null,null,null,null,null,null,null,null,null,null,null,null,null,null,null,null,null,null,null,null,null,null,null,null,null,null,null,null,null,null,null,null,null,null,null,null,null,null,null,null,null,null,null,null,null,null,null,null,null,null,null,null,null,null,null,null,null,null,null,null,null,null,null,null,null,null,"Conflicting flow",null,null,null,null,null,null,null,null,null,null,null,null,null,null,null,"Lane Capacity"]
[null,null,null,null,null,null,null,null,null,null,null,null,null,null,null,null,null,null,null,null,null,null,null,null,null,null,null,null,null,null,null,null,null,null,null,null,null,null,null,null,null,null,null,null,null,null,null,null,null,null,null,null,null,null,null,null,null,null,null,null,null,null,null,null,null,null,null,null,null,null,null,null,null,null,null,null,null,"Lane Capacity",1]
[]
[]
[null,null,null,null,null,null,null,null,null,null,null,null,null,null,null,null,null,null,null,null,null,null,null,null,null,null,null,null,null,null,null,null,null,null,null,null,null,null,null,null,null,null,null,null,null,null,null,null,null,null,null,null,null,null,null,null,null,null,null,null,null,null,null,null,null,null,null,null,null,null,null,null,null,null,null,null,null,null,null,null,null,null,null,null,null,null,null,null,null,null,null,null,null,null,null,null,null,null,null,null,null,null,null,null,null,null,{"$f":"IF(CZ59>(1-DJ63)*SUM(CM61:CX61),0,IF(DJ59>DJ63*SUM(CM61:CX61),CS61,CS61-DG57))","v":281.52},null,null,null,{"$f":"IF(DJ59>DJ63*SUM(CM61:CX61),0,IF(CZ59>(1-DJ63)*SUM(CM61:CX61),CS61,DJ63*SUM(CM61:CX61)-DJ59))","v":228.48000000000002}]
[]
[null,null,null,null,null,"Predicted approach capacity",null,null,null,null,null,null,null,null,null,null,null,null,null,null,null,null,null,null,null,null,null,null,null,null,null,null,null,null,null,null,null,null,null,null,null,null,null,null,null,"Predicted approach capacity",null,null,null,null,null,null,null,null,null,null,null,null,null,null,null,null,null,null,null,null,null,null,null,null,null,null,null,null,null,null,null,null,{"$f":"$DE$11*EXP(-$DL$11*(CA40+CC40))","v":822.10008914624234},null,null,null,null,null,null,null,null,null,null,null,null,null,null,null,null,null,null,null,null,null,null,null,null,{"$f":"CM61+CP61","v":102},null,null,null,null,null,null,null,null,null,{"$f":"CV61","v":204}]
[]
[null,null,null,null,null,null,null,null,null,null,null,null,null,null,null,null,null,null,null,null,null,null,null,null,null,null,null,null,null,null,null,null,null,null,null,null,null,null,null,null,null,null,null,null,null,null,null,null,null,null,null,null,null,null,null,null,null,null,null,null,null,null,null,null,null,null,null,null,null,null,null,null,null,null,null,null,null,null,null,null,null,null,null,null,null,null,null,null,null,null,{"$f":"NBU_Master","v":0},null,null,{"$f":"NBL_Master","v":102},null,null,{"$f":"NBT_Master","v":510},null,null,{"$f":"NBR_Master","v":204}]
[null,null,null,null,null,"Lane 1",null,null,null,{"$f":"CK50/CB7","v":0.34788951342532187},null,null,null,"V/C",null,null,null,null,null,null,null,null,null,null,null,null,null,null,null,null,null,null,null,null,null,null,null,null,null,null,null,null,null,null,null,"Lane 1",null,null,null,{"$f":"CY41/CB7","v":0.38734941942391848},null,null,null,"V/C",null,null,null,null,null,null,null,null,null,null,null,null,null,null,null,null,null,null,null,null,null,null,null,null,null,null,null,null,null,null,null,null,null,null,null,null,"pepch",null,null,"pepch",null,null,"pepch",null,null,"pepch"]
[null,null,null,null,null,null,null,null,null,null,null,null,null,null,null,null,null,{"$f":"+IF(J62>1,1,0)","v":0},null,null,null,null,null,null,null,null,null,null,null,null,null,null,null,null,null,null,null,null,null,null,null,null,null,null,null,null,null,null,null,null,null,null,null,null,null,null,null,null,null,null,null,null,null,null,null,null,null,null,null,null,null,null,null,null,null,null,null,null,null,null,null,null,null,null,null,null,null,null,null,null,null,null,null,null,null,null,null,null,null,null,null,null,null,"Through lane utilization factor",null,null,null,null,null,null,null,null,null,0.53]
[null,null,null,null,null,null,null,null,null,null,null,null,null,null,null,null,null,null,null,null,null,null,null,null,null,null,null,null,null,null,null,null,null,null,null,null,null,null,null,null,null,null,null,null,null,"Lane 2",null,null,null,{"$f":"DB41/CB7","v":0.40558448960014193},null,null,null,"V/C"]
[null,null,null,null,null,null,null,null,null,null,null,null,null,null,null,null,null,null,null,null,null,null,null,null,null,null,null,null,null,null,null,null,null,null,null,null,null,null,null,null,null,null,null,null,null,null,null,null,null,null,null,null,null,null,null,null,null,{"$f":"+IF(OR(AX62>1,AX64>1),1,0)","v":0},null,null,null,null,null,null,null,null,null,null,null,null,null,null,null,null,null,null,null,null,null,null,null,null,null,null,null,null,null,null,null,null,null,null,null,null,null,null,null,null,null,null,null,null,null,"Right turn to Total Flow Ratio",null,null,null,null,null,null,null,null,null,{"$f":"CV61/(CV61+CS61+CP61+CM61)","v":0.25}]

{"sheet":"2x2 Rndabt","index":43,"n_rows":69,"n_cols":120,"rows_kept":69,"cut":false,"hidden":false,"merged":[[11,52,12,55],[64,9,65,12],[64,13,65,16],[36,76,37,78],[36,79,37,81],[24,94,26,95],[27,94,29,95],[0,63,1,122],[2,63,3,122],[10,69,11,78],[10,79,11,82],[10,84,13,86],[10,87,13,89],[10,90,13,92],[10,93,13,95],[12,69,13,78],[12,79,13,82],[4,109,5,120],[15,69,16,71],[26,83,27,86],[9,56,10,59],[11,56,12,59],[11,44,12,47],[11,48,12,51],[62,5,63,8],[64,5,65,8],[59,45,61,56],[64,45,65,48],[0,1,1,60],[2,1,3,60],[5,2,6,9],[5,10,6,35],[59,5,61,16],[7,2,8,9],[7,10,8,35],[9,2,10,9],[9,10,10,35],[11,2,12,9],[11,10,12,35],[5,36,6,59],[7,36,8,41],[7,42,8,47],[7,48,8,53],[7,54,8,59],[9,36,12,43],[9,44,10,47],[9,48,10,51],[9,52,10,55],[19,45,21,56],[22,45,23,48],[24,45,25,48],[19,5,21,16],[22,5,23,8],[24,5,25,8],[22,9,23,12],[22,13,23,16],[24,9,25,12],[24,13,25,16],[22,49,23,52],[22,53,23,56],[24,49,25,52],[24,53,25,56],[62,49,63,52],[62,53,63,56],[64,49,65,52],[25,113,27,114],[18,117,27,118],[14,87,14,89],[14,90,14,92],[14,93,14,95],[15,84,15,86],[15,87,15,89],[27,105,29,108],[27,103,29,103],[15,79,16,81],[24,71,25,74],[15,90,15,92],[15,93,15,95],[64,53,65,56],[14,117,17,118],[27,104,29,104],[14,72,17,74],[14,76,17,78],[14,84,14,86],[32,115,34,115],[32,116,34,116],[62,9,63,12],[62,13,63,16],[26,67,27,70],[26,71,27,74],[24,83,25,86],[24,87,25,90],[24,96,26,97],[23,83,23,90],[18,72,19,74],[18,76,19,78],[23,67,23,74],[23,76,26,78],[23,79,26,81],[24,67,25,70],[27,76,27,78],[27,79,27,81],[26,87,27,90],[34,76,35,78],[34,79,35,81],[29,76,33,78],[29,79,33,81],[27,96,29,97],[50,79,52,79],[50,80,52,80],[32,117,34,120],[35,104,39,105],[35,106,39,107],[35,115,37,115],[29,115,31,115],[29,116,31,116],[29,117,31,120],[31,104,34,105],[31,106,34,107],[31,108,39,108],[35,116,37,116],[35,117,37,120],[38,115,40,115],[38,117,40,120],[28,76,28,78],[28,79,28,81],[41,68,43,68],[41,69,43,69],[44,64,46,67],[44,68,46,68],[44,69,46,69],[38,116,40,116],[38,64,40,67],[38,68,40,68],[38,69,40,69],[40,75,48,75],[40,76,44,77],[40,78,44,79],[41,64,43,67],[42,102,43,104],[42,105,43,107],[45,76,48,77],[45,78,48,79],[44,102,45,104],[44,105,45,107],[47,64,49,67],[47,68,49,68],[47,69,49,69],[46,102,50,104],[46,105,50,107],[50,88,52,89],[52,70,54,71],[50,75,52,78],[53,88,55,89],[57,76,61,77],[57,78,61,79],[52,64,61,65],[52,66,61,67],[54,93,55,96],[54,97,55,100],[53,75,55,78],[53,79,55,79],[53,80,55,80],[53,81,55,85],[50,81,52,85],[50,86,52,87],[57,75,65,75],[66,89,69,91],[66,92,69,94],[66,95,69,97],[66,98,69,100],[66,102,67,111],[64,89,64,91],[64,92,64,94],[64,95,64,97],[64,98,64,100],[65,89,65,91],[65,92,65,94],[65,95,65,97],[65,98,65,100],[62,105,65,107],[62,109,65,111],[60,109,61,111],[62,45,63,48],[4,102,5,108],[53,86,55,87],[51,102,51,104],[51,105,51,107],[52,93,53,96],[52,97,53,100],[8,102,9,106],[6,107,7,108],[6,102,7,106],[8,107,9,108],[14,108,22,108],[62,70,64,71],[62,64,65,65],[62,66,65,67],[59,68,61,71],[59,72,61,73],[62,76,65,77],[62,78,65,79],[60,105,61,107],[55,68,57,71],[55,72,57,73],[62,102,63,104],[6,65,8,78],[24,98,26,102],[24,103,26,103],[24,104,26,104],[24,105,26,108],[18,119,27,120],[27,98,29,102],[66,112,67,115],[68,102,69,111],[68,112,69,115],[62,112,63,114],[52,105,52,107],[54,109,55,112],[54,113,55,116],[53,102,56,104],[53,105,56,107],[52,109,53,112],[52,113,53,116],[56,93,56,100],[56,109,56,116],[52,102,52,104],[18,111,20,112],[22,111,24,112],[22,113,24,116],[6,79,7,80],[14,119,17,120],[15,113,17,114],[18,113,20,116],[14,104,17,105],[14,106,17,107],[18,104,22,105],[18,106,22,107],[8,116,9,120],[6,109,7,113],[6,114,7,115],[6,116,7,120],[8,109,9,113],[8,114,9,115]]}
[null,"2 NS x 2 EW Lane Roundabout",null,null,null,null,null,null,null,null,null,null,null,null,null,null,null,null,null,null,null,null,null,null,null,null,null,null,null,null,null,null,null,null,null,null,null,null,null,null,null,null,null,null,null,null,null,null,null,null,null,null,null,null,null,null,null,null,null,null,null,null,null,"2 NS x 2 EW Lane Roundabout"]
[]
[null,"Design and Results",null,null,null,null,null,null,null,null,null,null,null,null,null,null,null,null,null,null,null,null,null,null,null,null,null,null,null,null,null,null,null,null,null,null,null,null,null,null,null,null,null,null,null,null,null,null,null,null,null,null,null,null,null,null,null,null,null,null,null,null,null,"Data Input and Configuration"]
[]
[null,null,null,null,null,null,null,null,null,null,null,null,null,null,null,null,null,null,null,null,null,null,null,null,null,null,null,null,null,null,null,null,null,null,null,null,null,null,null,null,null,null,null,null,null,null,null,null,null,null,null,null,null,null,null,null,null,null,null,null,null,null,null,null,null,null,null,null,null,null,null,null,null,null,null,null,null,null,null,null,null,null,null,null,null,null,null,null,null,null,null,null,null,null,null,null,null,null,null,null,null,null,"Equation",null,null,null,null,null,null,"A x exp(-B x Q)"]
[null,null,"Project Name:",null,null,null,null,null,null,null,{"$f":"P_Name","v":"Cap-X Sample Street"},null,null,null,null,null,null,null,null,null,null,null,null,null,null,null,null,null,null,null,null,null,null,null,null,null,"Volume-to-Capacity Ratio"]
[null,null,null,null,null,null,null,null,null,null,null,null,null,null,null,null,null,null,null,null,null,null,null,null,null,null,null,null,null,null,null,null,null,null,null,null,null,null,null,null,null,null,null,null,null,null,null,null,null,null,null,null,null,null,null,null,null,null,null,null,null,null,null,null,null,"Multimodal Capacity Adjustment Factor",null,null,null,null,null,null,null,null,null,null,null,null,null,{"$f":"IF(Multimodal=1,1,IF(Multimodal=2,IF(MIN(BY35+CB35,CI54+CI51,CY45+DB45,CS28+CS25)=0,0.97,0.95),IF(MIN(BY35+CB35,CI54+CI51,CY45+DB45,CS28+CS25)=0,0.95,0.91)))","v":1},null,null,null,null,null,null,null,null,null,null,null,null,null,null,null,null,null,null,null,null,null,null,"LT Lane",null,null,null,null,"A",null,1350,null,null,null,null,"B",null,9.2000000000000003E-4]
[null,null,"Project Number:",null,null,null,null,null,null,null,{"$f":"P_Number","v":10000},null,null,null,null,null,null,null,null,null,null,null,null,null,null,null,null,null,null,null,null,null,null,null,null,null,"< 0.750",null,null,null,null,null,"0.750 - 0.875",null,null,null,null,null,"0.875 - 1.00",null,null,null,null,null,"≥ 1.00"]
[null,null,null,null,null,null,null,null,null,null,null,null,null,null,null,null,null,null,null,null,null,null,null,null,null,null,null,null,null,null,null,null,null,null,null,null,null,null,null,null,null,null,null,null,null,null,null,null,null,null,null,null,null,null,null,null,null,null,null,null,null,null,null,null,null,null,null,null,null,null,null,null,null,null,null,null,null,null,null,null,null,null,null,null,null,null,null,null,null,null,null,null,null,null,null,null,null,null,null,null,null,null,"RT Lane",null,null,null,null,"A",null,1420,null,null,null,null,"B",null,8.4999999999999995E-4]
[null,null,"Location",null,null,null,null,null,null,null,{"$f":"Location","v":"Tallahassee, FL"},null,null,null,null,null,null,null,null,null,null,null,null,null,null,null,null,null,null,null,null,null,null,null,null,null,"VOLUME / CAPACITY RATIO:",null,null,null,null,null,null,null,"Zone 1",null,null,null,{"$f":"MAX(J23:M26)","v":0.40558448960014193},null,null,null,"Zone3",null,null,null,{"$f":"MAX(AX23:BA26)","v":0.18438144211542062}]
[null,null,null,null,null,null,null,null,null,null,null,null,null,null,null,null,null,null,null,null,null,null,null,null,null,null,null,null,null,null,null,null,null,null,null,null,null,null,null,null,null,null,null,null,null,null,null,null,null,null,null,null,null,null,null,null,null,null,null,null,null,null,null,null,null,null,null,null,null,"Right turn to Total Flow Ratio",null,null,null,null,null,null,null,null,null,{"$f":"CG16/(CG16+CJ16+CM16+CP16)","v":0.25}]
[null,null,"Date",null,null,null,null,null,null,null,{"$f":"Date","v":"2017 AM"},null,null,null,null,null,null,null,null,null,null,null,null,null,null,null,null,null,null,null,null,null,null,null,null,null,null,null,null,null,null,null,null,null,"Zone 4",null,null,null,{"$f":"MAX(J63:M66)","v":0.18438144211542062},null,null,null,"Zone 2",null,null,null,{"$f":"MAX(AX63:BA66)","v":0.40558448960014193}]
[null,null,null,null,null,null,null,null,null,null,null,null,null,null,null,null,null,null,null,null,null,null,null,null,null,null,null,null,null,null,null,null,null,null,null,null,null,null,null,null,null,null,null,null,null,null,null,null,null,null,null,null,null,null,null,null,null,null,null,null,null,null,null,null,null,null,null,null,null,"Through lane utilization factor",null,null,null,null,null,null,null,null,null,0.53]
[]
[null,null,null,null,null,null,null,null,null,null,null,null,null,null,null,null,null,null,null,null,null,null,null,null,null,null,null,null,null,null,null,null,null,null,null,null,null,null,null,null,null,null,null,null,null,null,null,null,null,null,null,null,null,null,null,null,null,null,null,null,null,null,null,null,null,null,null,null,null,null,null,null,null,null,null,null,null,null,null,null,null,null,null,null,"pepch",null,null,"pepch",null,null,"pepch",null,null,"pepch",null,null,null,null,null,null,null,null,null,null,{"$f":"$DF$7*EXP(-$DM$7*(DA36+DC36))","v":747.17533123895942},null,{"$f":"$DF$9*EXP(-$DM$9*(DA36+DC36))","v":822.10008914624234},null,"Lane Capacity",null,null,null,null,null,null,null,null,0.53,null,{"$f":"DL30/(DL30+DL33+DL36+DL39)","v":0.17832167832167833}]
[null,null,null,null,null,null,null,null,null,null,null,null,null,null,null,null,null,null,null,null,null,null,null,null,null,null,null,null,null,null,null,null,null,null,null,null,null,null,null,null,null,null,null,null,null,null,null,null,null,null,null,null,null,null,null,null,null,null,null,null,null,null,null,null,null,null,null,null,null,{"$f":"CG16","v":204},null,null,null,null,null,null,null,null,null,{"$f":"CM16+CP16","v":102},null,null,null,null,{"$f":"SBR_Master","v":204},null,null,{"$f":"SBT_Master","v":510},null,null,{"$f":"SBL_Master","v":102},null,null,{"$f":"SBU_Master","v":0},null,null,null,null,null,null,null,null,null,null,null,null,null,null,null,null,null,null,null,{"$f":"DL30","v":51}]
[]
[]
[null,null,null,null,null,null,null,null,null,null,null,null,null,null,null,null,null,null,null,null,null,null,null,null,null,null,null,null,null,null,null,null,null,null,null,null,null,null,null,null,null,null,null,null,null,null,null,null,null,null,null,null,null,null,null,null,null,null,null,null,null,null,null,null,null,null,null,null,null,null,null,null,{"$f":"IF(BR16>CB13*SUM(CG16:CR16),0,IF(CB16>(1-CB13)*SUM(CG16:CR16),CJ16,CB13*SUM(CG16:CR16)-BR16))","v":228.48000000000002},null,null,null,{"$f":"IF(CB16>(1-CB13)*SUM(CG16:CR16),0,IF(BR16>CB13*SUM(CG16:CR16),CJ16,CJ16-BU19))","v":281.52},null,null,null,null,null,null,null,null,null,null,null,null,null,null,null,null,null,null,null,null,null,null,null,null,null,null,null,1,null,2,null,null,null,null,{"$f":"IF(DJ16>DN15*SUM(DL30:DL41),0,IF(DJ26>(1-DN15)*SUM(DL30:DL41),DL33,DN15*SUM(DL30:DL41)-DL30))","v":100.58000000000001},null,null,null,null,null,"Through lane utilization factor",null,"Right turn to Total Flow Ratio"]
[null,null,null,null,null,"Predicted approach capacity",null,null,null,null,null,null,null,null,null,null,null,null,null,null,null,null,null,null,null,null,null,null,null,null,null,null,null,null,null,null,null,null,null,null,null,null,null,null,null,"Predicted approach capacity"]
[]
[]
[null,null,null,null,null,"Lane 1",null,null,null,{"$f":"CB35/CB7","v":0.38734941942391848},null,null,null,"V/C",null,null,null,null,null,null,null,null,null,null,null,null,null,null,null,null,null,null,null,null,null,null,null,null,null,null,null,null,null,null,null,"Lane 1",null,null,null,{"$f":"CS28/CB7","v":0.17990422646463175},null,null,null,"V/C",null,null,null,null,null,null,null,null,null,null,null,null,null,null,null,null,null,null,null,null,null,null,null,null,null,null,null,null,null,null,null,null,null,null,null,null,null,null,null,null,null,null,null,null,null,null,null,null,null,null,null,null,null,null,null,null,null,{"$f":"IF(DJ26>(1-DN15)*SUM(DL30:DL41),0,IF(DJ16>DN15*SUM(DL30:DL41),DL33,DL33-DH19))","v":103.41999999999999}]
[null,null,null,null,null,null,null,null,null,null,null,null,null,null,null,null,null,null,null,null,null,null,null,null,null,null,null,null,null,null,null,null,null,null,null,null,null,null,null,null,null,null,null,null,null,null,null,null,null,null,null,null,null,null,null,null,null,null,null,null,null,null,null,null,null,null,null,"Lane Capacity",null,null,null,null,null,null,null,null,null,null,null,null,null,null,null,"Conflicting flow"]
[null,null,null,null,null,"Lane 2",null,null,null,{"$f":"BY35/CB7","v":0.40558448960014193},null,null,null,"V/C",null,null,null,null,null,null,null,null,null,null,null,null,null,null,null,null,null,null,null,null,null,null,null,null,null,null,null,null,null,null,null,"Lane 2",null,null,null,{"$f":"CS25/CB7","v":0.18438144211542062},null,null,null,"V/C",null,null,null,null,null,null,null,null,null,null,null,null,null,1,null,null,null,{"$f":"$DF$7*EXP(-$DM$7*(CF27+CF25))","v":990.11378555926649},null,null,null,null,null,null,null,null,null,null,null,{"$f":"DH19+BR39","v":100.58000000000001},null,null,null,null,null,null,null,null,null,null,2,null,{"$f":"CZ25/DC15","v":0.18438144211542062},null,"V/C RATIO",null,null,null,null,{"$f":"DH19+DJ16","v":151.58000000000001},"pepch"]
[null,null,null,null,null,null,null,null,null,null,null,null,null,null,null,null,null,{"$f":"+IF(OR(J23>1,J25>1),1,0)","v":0},null,null,null,null,null,null,null,null,null,null,null,null,null,null,null,null,null,null,null,null,null,null,null,null,null,null,null,null,null,null,null,null,null,null,null,null,null,null,null,{"$f":"+IF(OR(AX23>1,AX25>1),1,0)","v":0},null,null,null,null,null,null,null,null,null,null,null,null,null,null,null,null,null,null,null,null,null,null,null,null,null,null,null,null,null,null,null,null,null,null,null,null,null,null,null,null,null,null,null,null,null,null,null,null,null,null,null,null,null,null,null,{"$f":"DL36+DL39","v":31}]
[null,null,null,null,null,null,null,null,null,null,null,null,null,null,null,null,null,null,null,null,null,null,null,null,null,null,null,null,null,null,null,null,null,null,null,null,null,null,null,null,null,null,null,null,null,null,null,null,null,null,null,null,null,null,null,null,null,null,null,null,null,null,null,null,null,null,null,2,null,null,null,{"$f":"$DF$9*EXP(-$DM$9*(CF25+CF27))","v":1066.3129658295707},null,null,null,null,null,null,null,null,null,null,null,{"$f":"DH23+DJ26+CY63","v":236.42}]
[null,null,null,null,null,null,null,null,null,null,null,null,null,null,null,null,null,null,null,null,null,null,null,null,null,null,null,null,null,null,null,null,null,null,null,null,null,null,null,null,null,null,null,null,null,null,null,null,null,null,null,null,null,null,null,null,null,null,null,null,null,null,null,null,null,null,null,null,null,null,null,null,null,null,null,null,"pepch",null,null,"pepch",null,null,null,null,null,null,null,null,null,null,null,null,null,null,1,null,{"$f":"CZ28/DA15","v":0.17990422646463175},null,"V/C RATIO",null,null,null,null,{"$f":"DJ26+DH23","v":134.41999999999999},"pepch"]
[null,null,null,null,null,null,null,null,null,null,null,null,null,null,null,null,null,null,null,null,null,null,null,null,null,null,null,null,null,null,null,null,null,null,null,null,null,null,null,null,null,null,null,null,null,null,null,null,null,null,null,null,null,null,null,null,null,null,null,null,null,null,null,null,null,null,null,null,null,null,null,null,null,null,null,null,{"$f":"BU19+BR16","v":432.48},null,null,{"$f":"BY19+CB16","v":383.52}]
[null,null,null,null,null,null,null,null,null,null,null,null,null,null,null,null,null,null,null,null,null,null,null,null,null,null,null,null,null,null,null,null,null,null,null,null,null,null,null,null,null,null,null,null,null,null,null,null,null,null,null,null,null,null,null,null,null,null,null,null,null,null,null,null,null,null,null,null,null,null,null,null,null,null,null,null,"V/C RATIO",null,null,"V/C RATIO",null,null,null,null,null,null,null,null,null,null,null,null,null,null,null,null,null,null,null,null,null,null,null,null,null,null,null,null,null,null,null,null,null,null,null,{"$f":"WBR_Master","v":51},"pepch"]
[]
[null,null,null,null,null,null,null,null,null,null,null,null,null,null,null,null,null,null,null,null,null,null,null,null,null,null,null,null,null,null,null,null,null,null,null,null,null,null,null,null,null,null,null,null,null,null,null,null,null,null,null,null,null,null,null,null,null,null,null,null,null,null,null,null,null,null,null,null,null,null,null,null,null,null,null,null,null,null,null,null,null,null,null,null,null,null,null,null,null,null,null,null,null,null,null,null,null,null,null,null,null,null,null,null,null,null,null,null,"Conflicting flow"]
[null,null,null,null,null,null,null,null,null,null,null,null,null,null,null,null,null,null,null,null,null,null,null,null,null,null,null,null,null,null,null,null,null,null,null,null,null,null,null,null,null,null,null,null,null,null,null,null,null,null,null,null,null,null,null,null,null,null,null,null,null,null,null,null,null,null,null,null,null,null,null,null,null,null,null,null,null,null,null,null,null,null,null,null,null,null,null,null,null,null,null,null,null,null,null,null,null,null,null,null,null,null,null,null,null,null,null,null,null,null,null,null,null,null,null,{"$f":"WBT_Master","v":204},"pepch"]
[]
[null,null,null,null,null,null,null,null,null,null,null,null,null,null,null,null,null,null,null,null,null,null,null,null,null,null,null,null,null,null,null,null,null,null,null,null,null,null,null,null,null,null,null,null,null,null,null,null,null,null,null,null,null,null,null,null,null,null,null,null,null,null,null,null,null,null,null,null,null,null,null,null,null,null,null,null,{"$f":"BY29/BT27","v":0.40558448960014193},null,null,{"$f":"CB29/BT25","v":0.38734941942391848}]
[null,null,null,null,null,null,null,null,null,null,null,null,null,null,null,null,null,null,null,null,null,null,null,null,null,null,null,null,null,null,null,null,null,null,null,null,null,null,null,null,null,null,null,null,null,null,null,null,null,null,null,null,null,null,null,null,null,null,null,null,null,null,null,null,null,null,null,null,null,null,null,null,null,null,null,null,null,null,null,null,null,null,null,null,null,null,null,null,null,null,null,null,null,null,null,null,null,null,null,null,null,null,null,null,{"$f":"DB61+CY63+BS53","v":414.52},null,{"$f":"DF61+CP16","v":228.48000000000002},null,null,null,null,null,null,null,null,{"$f":"WBL_Master","v":31},"pepch"]
[null,null,null,null,null,null,null,null,null,null,null,null,null,null,null,null,null,null,null,null,null,null,null,null,null,null,null,null,null,null,null,null,null,null,null,null,null,null,null,null,null,null,null,null,null,null,null,null,null,null,null,null,null,null,null,null,null,null,null,null,null,null,null,null,null,null,null,null,null,null,null,null,null,null,null,null,2,null,null,1]
[]
[null,null,null,null,null,null,null,null,null,null,null,null,null,null,null,null,null,null,null,null,null,null,null,null,null,null,null,null,null,null,null,null,null,null,null,null,null,null,null,null,null,null,null,null,null,null,null,null,null,null,null,null,null,null,null,null,null,null,null,null,null,null,null,null,null,null,null,null,"pepch",{"$f":"EBU_Master","v":0},null,null,null,null,null,null,null,null,null,null,null,null,null,null,null,null,null,null,null,null,null,null,null,null,null,null,null,null,null,null,null,null,null,null,null,null,null,null,null,null,null,null,null,null,null,{"$f":"WBU_Master","v":0},"pepch"]
[]
[null,null,null,null,null,null,null,null,null,null,null,null,null,null,null,null,null,null,null,null,null,null,null,null,null,null,null,null,null,null,null,null,null,null,null,null,null,null,null,null,null,null,null,null,null,null,null,null,null,null,null,null,null,null,null,null,null,null,null,null,null,null,null,null,null,null,null,null,null,null,null,null,null,null,null,"Conflicting flow",{"$f":"BU19+CL65","v":228.48000000000002},null,{"$f":"BY19+CB16+DJ26","v":414.52}]
[null,null,null,null,null,null,null,null,null,null,null,null,null,null,null,null,null,null,null,null,null,null,null,null,null,null,null,null,null,null,null,null,null,null,null,null,null,null,null,null,null,null,null,null,null,null,null,null,null,null,null,null,null,null,null,null,null,null,null,null,null,null,null,null,null,null,null,null,"pepch",{"$f":"EBL_Master","v":31}]
[null,null,null,null,null,null,null,null,null,null,null,null,null,null,null,null,null,null,null,null,null,null,null,null,null,null,null,null,null,null,null,null,null,null,null,null,null,null,null,null,null,null,null,null,null,null,null,null,null,null,null,null,null,null,null,null,null,null,null,null,null,null,null,null,null,null,null,null,null,null,null,null,null,null,null,null,null,null,null,null,null,null,null,null,null,null,null,null,null,null,null,null,null,null,null,null,null,null,null,null,null,null,1,null,null,2]
[]
[null,null,null,null,null,null,null,null,null,null,null,null,null,null,null,null,null,null,null,null,null,null,null,null,null,null,null,null,null,null,null,null,null,null,null,null,null,null,null,null,null,null,null,null,null,null,null,null,null,null,null,null,null,null,null,null,null,null,null,null,null,null,null,null,null,null,null,null,"pepch",{"$f":"EBT_Master","v":204},null,null,null,null,null,null,null,null,null,null,null,null,null,null,null,null,null,null,null,null,null,null,null,null,null,null,null,null,null,null,null,null,{"$f":"CY52/DJ53","v":0.38734941942391848},null,null,{"$f":"DB52/DJ55","v":0.40558448960014193}]
[]
[null,null,null,null,null,null,null,null,null,null,null,null,null,null,null,null,null,null,null,null,null,null,null,null,null,null,null,null,null,null,null,null,null,null,null,null,null,null,null,null,null,null,null,null,null,null,null,null,null,null,null,null,null,null,null,null,null,null,null,null,null,null,null,null,null,null,null,null,null,null,null,null,null,null,null,null,null,null,null,null,null,null,null,null,null,null,null,null,null,null,null,null,null,null,null,null,null,null,null,null,null,null,"V/C RATIO",null,null,"V/C RATIO"]
[null,null,null,null,null,null,null,null,null,null,null,null,null,null,null,null,null,null,null,null,null,null,null,null,null,null,null,null,null,null,null,null,null,null,null,null,null,null,null,null,null,null,null,null,null,null,null,null,null,null,null,null,null,null,null,null,null,null,null,null,null,null,null,null,null,null,null,null,"pepch",{"$f":"EBR_Master","v":51}]
[]
[]
[null,null,null,null,null,null,null,null,null,null,null,null,null,null,null,null,null,null,null,null,null,null,null,null,null,null,null,null,null,null,null,null,null,null,null,null,null,null,null,null,null,null,null,null,null,null,null,null,null,null,null,null,null,null,null,null,null,null,null,null,null,null,null,null,null,null,null,null,null,null,null,null,null,null,null,null,null,null,null,"pepch",{"$f":"BS53+BU56","v":134.41999999999999},"V/C RATIO",null,null,null,null,{"$f":"CC51/CA63","v":0.17990422646463175},null,1]
[null,null,null,null,null,null,null,null,null,null,null,null,null,null,null,null,null,null,null,null,null,null,null,null,null,null,null,null,null,null,null,null,null,null,null,null,null,null,null,null,null,null,null,null,null,null,null,null,null,null,null,null,null,null,null,null,null,null,null,null,null,null,null,null,null,null,null,null,null,null,null,null,null,null,null,null,null,null,null,null,null,null,null,null,null,null,null,null,null,null,null,null,null,null,null,null,null,null,null,null,null,null,{"$f":"CY63+DB61","v":383.52},null,null,{"$f":"DF61+DI63","v":432.48}]
[null,null,null,null,null,null,null,null,null,null,null,null,null,null,null,null,null,null,null,null,null,null,null,null,null,null,null,null,null,null,null,null,null,null,null,null,null,null,null,null,null,null,null,null,null,null,null,null,null,null,null,null,null,null,null,null,null,null,null,null,null,null,null,null,"Right turn to Total Flow Ratio",null,"Through lane utilization factor",null,null,null,{"$f":"BR42+BR39","v":31},null,null,null,null,null,null,null,null,null,null,null,null,null,null,null,null,null,null,null,null,null,null,{"$f":"BS53+BU56+CB16","v":236.42},null,null,null,null,null,null,null,null,"pepch",null,null,"pepch",null,null,null,1,null,null,null,{"$f":"$DF$7*EXP(-$DM$7*(CP55+CP53))","v":990.11378555926649}]
[null,null,null,null,null,null,null,null,null,null,null,null,null,null,null,null,null,null,null,null,null,null,null,null,null,null,null,null,null,null,null,null,null,null,null,null,null,null,null,null,null,null,null,null,null,null,null,null,null,null,null,null,null,null,null,null,null,null,null,null,null,null,null,null,null,null,null,null,null,null,null,null,null,null,null,null,null,null,null,"pepch",{"$f":"BU60+BS63","v":151.58000000000001},"V/C RATIO",null,null,null,null,{"$f":"CC54/BY63","v":0.18438144211542062},null,2]
[null,null,null,null,null,null,null,null,null,null,null,null,null,null,null,null,null,null,null,null,null,null,null,null,null,null,null,null,null,null,null,null,null,null,null,null,null,null,null,null,null,null,null,null,null,null,null,null,null,null,null,null,null,null,null,null,null,null,null,null,null,null,null,null,null,null,null,null,null,null,null,null,null,null,null,null,null,null,null,null,null,null,null,null,null,null,null,null,null,null,null,null,null,{"$f":"BU60+DL39","v":100.58000000000001},null,null,null,null,null,null,null,null,null,null,null,null,null,null,null,2,null,null,null,{"$f":"$DF$9*EXP(-$DM$9*(CP53+CP55))","v":1066.3129658295707}]
[null,null,null,null,null,null,null,null,null,null,null,null,null,null,null,null,null,null,null,null,null,null,null,null,null,null,null,null,null,null,null,null,null,null,null,null,null,null,null,null,null,null,null,null,null,null,null,null,null,null,null,null,null,null,null,null,null,null,null,null,null,null,null,null,null,null,null,null,null,null,null,null,{"$f":"IF(BS53>(1-BO63)*SUM(BR39:BR50),0,IF(BS63>BO63*SUM(BR39:BR50),BR45,BR45-BU60))","v":103.41999999999999}]
[null,null,null,null,null,null,null,null,null,null,null,null,null,null,null,null,null,null,null,null,null,null,null,null,null,null,null,null,null,null,null,null,null,null,null,null,null,null,null,null,null,null,null,null,null,null,null,null,null,null,null,null,null,null,null,null,null,null,null,null,null,null,null,null,null,null,null,null,null,null,null,null,null,null,null,null,null,null,null,null,null,null,null,null,null,null,null,null,null,null,null,null,null,"Conflicting flow",null,null,null,null,null,null,null,null,null,null,null,null,null,null,null,"Lane Capacity"]
[null,null,null,null,null,null,null,null,null,null,null,null,null,null,null,null,null,null,null,null,null,null,null,null,null,null,null,null,null,null,null,null,null,null,null,null,null,null,null,null,null,null,null,null,null,null,null,null,null,null,null,null,null,null,null,null,null,null,null,null,null,null,null,null,null,null,null,null,null,null,null,null,null,null,null,"Lane Capacity",2,null,1]
[]
[null,null,null,null,null,"Predicted approach capacity",null,null,null,null,null,null,null,null,null,null,null,null,null,null,null,null,null,null,null,null,null,null,null,null,null,null,null,null,null,null,null,null,null,null,null,null,null,null,null,"Predicted approach capacity",null,null,null,null,null,null,null,null,null,null,null,null,null,null,null,null,null,null,null,null,null,null,null,null,null,null,{"$f":"IF(BS63>BO63*SUM(BR39:BR50),0,IF(BS53>(1-BO63)*SUM(BR39:BR50),BR45,BO63*SUM(BR39:BR50)-BR48))","v":100.58000000000001}]
[null,null,null,null,null,null,null,null,null,null,null,null,null,null,null,null,null,null,null,null,null,null,null,null,null,null,null,null,null,null,null,null,null,null,null,null,null,null,null,null,null,null,null,null,null,null,null,null,null,null,null,null,null,null,null,null,null,null,null,null,null,null,null,null,null,null,null,null,null,null,null,null,null,null,null,null,null,null,null,null,null,null,null,null,null,null,null,null,null,null,null,null,null,null,null,null,null,null,null,null,null,null,null,null,null,{"$f":"IF(CY63>(1-DI67)*SUM(CL65:CW65),0,IF(DI63>DI67*SUM(CL65:CW65),CR65,CR65-DF61))","v":281.52},null,null,null,{"$f":"IF(DI63>DI67*SUM(CL65:CW65),0,IF(CY63>(1-DI67)*SUM(CL65:CW65),CR65,DI67*SUM(CL65:CW65)-DI63))","v":228.48000000000002}]
[]
[null,null,null,null,null,"Lane 1",null,null,null,{"$f":"CI51/CB7","v":0.17990422646463175},null,null,null,"V/C",null,null,null,null,null,null,null,null,null,null,null,null,null,null,null,null,null,null,null,null,null,null,null,null,null,null,null,null,null,null,null,"Lane 1",null,null,null,{"$f":"CY45/CB7","v":0.38734941942391848},null,null,null,"V/C",null,null,null,null,null,null,null,null,null,null,{"$f":"BR48/(BR48+BR45+BR42+BR39)","v":0.17832167832167833},null,0.53,null,null,null,{"$f":"BR48","v":51},null,null,null,null,null,{"$f":"$DF$9*EXP(-$DM$9*(CA41+BY41))","v":822.10008914624234},null,{"$f":"$DF$7*EXP(-$DM$7*(BY41+CA41))","v":747.17533123895942},null,null,null,null,null,null,null,null,null,null,null,null,null,null,null,null,null,null,null,null,null,null,null,{"$f":"CL65+CO65","v":102},null,null,null,null,null,null,null,null,null,{"$f":"CU65","v":204}]
[]
[null,null,null,null,null,"Lane 2",null,null,null,{"$f":"CI54/CB7","v":0.18438144211542062},null,null,null,"V/C",null,null,null,null,null,null,null,null,null,null,null,null,null,null,null,null,null,null,null,null,null,null,null,null,null,null,null,null,null,null,null,"Lane 2",null,null,null,{"$f":"DB45/CB7","v":0.40558448960014193},null,null,null,"V/C",null,null,null,null,null,null,null,null,null,null,null,null,null,null,null,null,null,null,null,null,null,null,null,null,null,null,null,null,null,null,null,null,null,null,null,{"$f":"NBU_Master","v":0},null,null,{"$f":"NBL_Master","v":102},null,null,{"$f":"NBT_Master","v":510},null,null,{"$f":"NBR_Master","v":204}]
[null,null,null,null,null,null,null,null,null,null,null,null,null,null,null,null,null,{"$f":"+IF(OR(J63>1,J65>1),1,0)","v":0},null,null,null,null,null,null,null,null,null,null,null,null,null,null,null,null,null,null,null,null,null,null,null,null,null,null,null,null,null,null,null,null,null,null,null,null,null,null,null,{"$f":"+IF(OR(AX63>1,AX65>1),1,0)","v":0},null,null,null,null,null,null,null,null,null,null,null,null,null,null,null,null,null,null,null,null,null,null,null,null,null,null,null,null,null,null,null,"pepch",null,null,"pepch",null,null,"pepch",null,null,"pepch"]
[null,null,null,null,null,null,null,null,null,null,null,null,null,null,null,null,null,null,null,null,null,null,null,null,null,null,null,null,null,null,null,null,null,null,null,null,null,null,null,null,null,null,null,null,null,null,null,null,null,null,null,null,null,null,null,null,null,null,null,null,null,null,null,null,null,null,null,null,null,null,null,null,null,null,null,null,null,null,null,null,null,null,null,null,null,null,null,null,null,null,null,null,null,null,null,null,null,null,null,null,null,null,"Through lane utilization factor",null,null,null,null,null,null,null,null,null,0.53]
[]
[null,null,null,null,null,null,null,null,null,null,null,null,null,null,null,null,null,null,null,null,null,null,null,null,null,null,null,null,null,null,null,null,null,null,null,null,null,null,null,null,null,null,null,null,null,null,null,null,null,null,null,null,null,null,null,null,null,null,null,null,null,null,null,null,null,null,null,null,null,null,null,null,null,null,null,null,null,null,null,null,null,null,null,null,null,null,null,null,null,null,null,null,null,null,null,null,null,null,null,null,null,null,"Right turn to Total Flow Ratio",null,null,null,null,null,null,null,null,null,{"$f":"CU65/(CU65+CR65+CO65+CL65)","v":0.25}]

{"sheet":"3x3 Rndabt","index":44,"n_rows":71,"n_cols":121,"rows_kept":71,"cut":false,"hidden":true,"merged":[[25,103,27,103],[32,77,33,79],[32,80,33,82],[19,94,21,95],[44,103,45,105],[10,88,10,90],[24,77,24,79],[24,80,24,82],[47,64,49,67],[47,68,49,68],[24,88,25,91],[23,74,23,76],[22,94,24,95],[25,94,27,95],[25,80,29,82],[22,96,24,97],[25,96,27,97],[10,85,10,87],[38,69,40,69],[33,102,37,103],[33,104,37,105],[19,96,21,97],[19,98,21,102],[19,103,21,103],[66,8,67,11],[66,12,67,15],[25,77,29,79],[0,63,1,122],[2,63,3,122],[5,67,6,76],[62,50,63,53],[62,54,63,57],[64,50,65,53],[64,54,65,57],[66,50,67,53],[66,54,67,57],[14,116,23,117],[14,118,23,119],[14,120,23,121],[11,67,14,69],[11,71,14,73],[11,78,14,80],[11,81,12,83],[33,106,37,107],[20,84,21,87],[20,88,21,91],[40,78,44,79],[40,80,44,81],[5,77,6,80],[5,85,8,87],[5,88,8,90],[5,91,8,93],[5,94,8,96],[7,67,8,76],[7,77,8,80],[23,77,23,79],[23,80,23,82],[9,67,10,76],[9,77,10,80],[9,85,9,87],[9,88,9,90],[9,91,9,93],[9,94,9,96],[12,74,13,76],[19,74,22,76],[19,77,22,79],[19,80,22,82],[19,84,19,91],[15,67,16,69],[15,71,16,73],[10,91,10,93],[14,81,15,83],[68,72,70,73],[67,89,67,91],[67,92,67,94],[67,95,67,97],[67,98,67,100],[62,105,65,107],[25,105,27,108],[10,94,10,96],[22,84,23,87],[22,88,23,91],[24,84,25,87],[48,103,52,105],[48,106,52,108],[9,108,17,108],[13,102,17,103],[9,106,12,107],[9,102,12,103],[22,98,24,102],[22,103,24,103],[22,104,24,104],[22,105,24,108],[13,106,17,107],[13,104,17,105],[9,104,12,105],[62,109,63,111],[62,112,65,114],[53,82,55,82],[53,83,55,87],[53,90,55,91],[56,98,57,101],[65,80,68,81],[65,82,68,83],[55,103,58,105],[55,106,58,108],[55,109,58,111],[56,77,58,80],[56,81,58,81],[54,98,55,101],[54,103,54,105],[68,89,71,91],[68,92,71,94],[68,95,71,97],[68,98,71,100],[68,105,69,114],[53,103,53,105],[53,106,53,108],[62,119,63,121],[64,64,67,65],[64,66,67,67],[64,68,67,69],[65,70,67,73],[65,74,67,75],[64,102,65,104],[66,89,66,91],[66,92,66,94],[66,95,66,97],[54,64,63,65],[54,66,63,67],[60,116,61,118],[56,94,57,97],[54,68,63,69],[54,70,56,73],[54,94,55,97],[56,88,58,89],[56,90,58,91],[53,88,55,89],[56,82,58,82],[56,83,58,87],[52,94,53,97],[52,98,53,101],[68,115,69,118],[70,105,71,114],[70,115,71,118],[66,98,66,100],[66,105,67,114],[66,115,67,118],[62,116,65,118],[61,102,62,104],[11,10,12,35],[22,65,23,68],[22,69,23,72],[24,65,25,68],[24,69,25,72],[30,74,31,76],[53,77,55,80],[53,81,55,81],[44,106,45,108],[50,90,52,91],[50,77,52,80],[50,81,52,81],[50,82,52,82],[50,83,52,87],[50,88,52,89],[25,104,27,104],[24,4,25,7],[24,46,25,49],[64,4,65,7],[64,46,65,49],[11,44,12,47],[11,48,12,51],[64,8,65,11],[64,12,65,15],[20,50,21,53],[11,52,12,55],[20,54,21,57],[22,50,23,53],[22,54,23,57],[24,50,25,53],[24,54,25,57],[24,8,25,11],[24,12,25,15],[62,8,63,11],[62,12,63,15],[9,36,12,43],[9,44,10,47],[9,48,10,51],[9,56,10,59],[11,56,12,59],[66,4,67,7],[66,46,67,49],[59,4,61,15],[59,46,61,57],[62,4,63,7],[62,46,63,49],[58,113,58,120],[46,103,47,105],[46,106,47,108],[46,109,47,111],[51,70,53,71],[51,73,53,74],[53,109,53,111],[48,109,52,111],[58,72,60,73],[58,94,58,101],[61,70,63,73],[61,74,63,75],[60,112,61,114],[60,77,68,77],[60,78,64,79],[60,80,64,81],[60,82,64,83],[65,78,68,79],[0,1,1,60],[2,1,3,60],[5,2,6,9],[5,10,6,35],[22,4,23,7],[22,46,23,49],[17,4,19,15],[17,46,19,57],[20,4,21,7],[20,46,21,49],[20,8,21,11],[20,12,21,15],[5,36,6,59],[7,36,8,41],[7,42,8,47],[22,8,23,11],[22,12,23,15],[7,48,8,53],[7,54,8,59],[7,2,8,9],[7,10,8,35],[9,2,10,9],[9,10,10,35],[11,2,12,9],[9,52,10,55],[40,82,44,83],[41,64,43,67],[41,68,43,68],[41,69,43,69],[44,64,46,67],[44,68,46,68],[44,69,46,69],[45,78,48,79],[45,80,48,81],[45,82,48,83],[38,64,40,67],[30,80,31,82],[12,64,13,66],[47,69,49,69],[32,74,33,76],[24,74,24,76],[30,77,31,79],[19,65,19,72],[20,65,21,68],[20,69,21,72],[38,68,40,68],[40,77,48,77],[25,74,29,76],[44,109,45,111],[56,113,57,116],[56,117,57,120],[28,118,30,121],[29,102,32,103],[29,104,32,105],[29,106,32,107],[29,108,37,108],[37,117,39,117],[54,117,55,120],[28,116,30,116],[28,117,30,117],[52,113,53,116],[52,117,53,120],[54,113,55,116],[54,106,54,108],[54,109,54,111],[31,116,33,116],[4,98,6,111],[5,112,6,113],[37,118,39,121],[24,111,26,112],[24,114,26,115],[21,112,23,115],[17,112,19,113],[14,110,16,111],[10,116,13,117],[31,117,33,117],[31,118,33,121],[10,118,13,119],[10,120,13,121],[14,112,16,115],[10,110,12,111],[10,112,12,115],[34,116,36,116],[34,117,36,117],[34,118,36,121],[37,116,39,116],[7,112,9,113],[19,104,21,104],[19,105,21,108],[25,98,27,102]]}
[null,"3 NS x 3 EW Lane Roundabout",null,null,null,null,null,null,null,null,null,null,null,null,null,null,null,null,null,null,null,null,null,null,null,null,null,null,null,null,null,null,null,null,null,null,null,null,null,null,null,null,null,null,null,null,null,null,null,null,null,null,null,null,null,null,null,null,null,null,null,null,null,"3 NS x 3 EW Lane Roundabout"]
[]
[null,"Design and Results",null,null,null,null,null,null,null,null,null,null,null,null,null,null,null,null,null,null,null,null,null,null,null,null,null,null,null,null,null,null,null,null,null,null,null,null,null,null,null,null,null,null,null,null,null,null,null,null,null,null,null,null,null,null,null,null,null,null,null,null,null,"Data Input and Configuration"]
[]
[null,null,null,null,null,null,null,null,null,null,null,null,null,null,null,null,null,null,null,null,null,null,null,null,null,null,null,null,null,null,null,null,null,null,null,null,null,null,null,null,null,null,null,null,null,null,null,null,null,null,null,null,null,null,null,null,null,null,null,null,null,null,null,null,null,null,null,null,null,null,null,null,null,null,null,null,null,null,null,null,null,null,null,null,null,null,null,null,null,null,null,null,null,null,null,null,null,null,"Multimodal Capacity Adjustment Factor"]
[null,null,"Project Name:",null,null,null,null,null,null,null,{"$f":"P_Name","v":"Cap-X Sample Street"},null,null,null,null,null,null,null,null,null,null,null,null,null,null,null,null,null,null,null,null,null,null,null,null,null,"Volume-to-Capacity Ratio",null,null,null,null,null,null,null,null,null,null,null,null,null,null,null,null,null,null,null,null,null,null,null,null,null,null,null,null,null,null,"Right turn to Total Flow Ratio",null,null,null,null,null,null,null,null,null,{"$f":"CH11/(CH11+CK11+CN11+CQ11)","v":0.25},null,null,null,null,null,null,null,null,null,null,null,null,null,null,null,null,null,null,null,null,null,null,null,null,null,null,null,null,null,null,null,null,null,null,{"$f":"IF(Multimodal=1,1,IF(Multimodal=2,IF(MIN(BW31+BZ31+CC31,CS20+CS23+CS26,CZ47+DC47+DF47,CK51+CK54+CK57)=0,0.97,0.95),IF(MIN(BW31+BZ31+CC31,CS20+CS23+CS26,CZ47+DC47+DF47,CK51+CK54+CK57)=0,0.95,0.91)))","v":1}]
[]
[null,null,"Project Number:",null,null,null,null,null,null,null,{"$f":"P_Number","v":10000},null,null,null,null,null,null,null,null,null,null,null,null,null,null,null,null,null,null,null,null,null,null,null,null,null,"< 0.750",null,null,null,null,null,"0.750 - 0.875",null,null,null,null,null,"0.875 - 1.00",null,null,null,null,null,"≥ 1.00",null,null,null,null,null,null,null,null,null,null,null,null,"Through lane utilization factor",null,null,null,null,null,null,null,null,null,0.5,null,null,null,null,null,null,null,null,null,null,null,null,null,null,null,null,null,null,null,null,null,null,null,null,null,null,null,null,null,null,null,null,null,null,{"$f":"DM29","v":51}]
[]
[null,null,"Location",null,null,null,null,null,null,null,{"$f":"Location","v":"Tallahassee, FL"},null,null,null,null,null,null,null,null,null,null,null,null,null,null,null,null,null,null,null,null,null,null,null,null,null,"VOLUME / CAPACITY RATIO:",null,null,null,null,null,null,null,"Zone 1",null,null,null,{"$f":"MAX(I21:L26)","v":0.48605315436566804},null,null,null,"Zone3",null,null,null,{"$f":"MAX(AY21:BB26)","v":0.22208504437468563},null,null,null,null,null,null,null,null,null,null,"Left turn lane utilization factor",null,null,null,null,null,null,null,null,null,0.5,null,null,null,null,null,null,null,"pepch",null,null,"pepch",null,null,"pepch",null,null,"pepch",null,null,null,null,null,null,null,{"$f":"EXP(7.0754-1.1864*CY34/1000-1.0813*DA34/1000-0.9479*DC34/1000)","v":605.47792206016629},null,{"$f":"EXP(7.0754-0.6758*CY34/1000-1.1556*DA34/1000-0.9049*DC34/1000)","v":618.48237805261488},null,{"$f":"EXP(7.0754-0.5569*CY34/1000-0.9044*DA34/1000-1.0258*DC34/1000+0.2795*DQ11)","v":688.92527378777299},null,"Lane Capacity"]
[null,null,null,null,null,null,null,null,null,null,null,null,null,null,null,null,null,null,null,null,null,null,null,null,null,null,null,null,null,null,null,null,null,null,null,null,null,null,null,null,null,null,null,null,null,null,null,null,null,null,null,null,null,null,null,null,null,null,null,null,null,null,null,null,null,null,null,null,null,null,null,null,null,null,null,null,null,null,null,null,null,null,null,null,null,{"$f":"SBR_Master","v":204},null,null,{"$f":"SBT_Master","v":510},null,null,{"$f":"SBL_Master","v":102},null,null,{"$f":"SBU_Master","v":0},null,null,null,null,null,null,null,null,null,null,null,null,null,null,null,{"$f":"DM32*(1-DM11)","v":102},null,null,null,null,null,0.5,null,0.5,null,{"$f":"DM29/(DM29+DM32+DM35+DM38)","v":0.17832167832167833}]
[null,null,"Date",null,null,null,null,null,null,null,{"$f":"Date","v":"2017 AM"},null,null,null,null,null,null,null,null,null,null,null,null,null,null,null,null,null,null,null,null,null,null,null,null,null,null,null,null,null,null,null,null,null,"Zone 4",null,null,null,{"$f":"MAX(I63:L68)","v":0.22208504437468563},null,null,null,"Zone 2",null,null,null,{"$f":"MAX(AY63:BB68)","v":0.48605315436566804},null,null,null,null,null,null,null,null,null,null,null,null,null,null,null,null,null,null,null,null,null,null,null,null,{"$f":"CQ11","v":0}]
[null,null,null,null,null,null,null,null,null,null,null,null,null,null,null,null,null,null,null,null,null,null,null,null,null,null,null,null,null,null,null,null,null,null,null,null,null,null,null,null,null,null,null,null,null,null,null,null,null,null,null,null,null,null,null,null,null,null,null,null,null,null,null,null,{"$f":"CH11","v":204},null,null,null,null,null,null,null,null,null,{"$f":"CN11*(1-BZ10)","v":51}]
[null,null,null,null,null,null,null,null,null,null,null,null,null,null,null,null,null,null,null,null,null,null,null,null,null,null,null,null,null,null,null,null,null,null,null,null,null,null,null,null,null,null,null,null,null,null,null,null,null,null,null,null,null,null,null,null,null,null,null,null,null,null,null,null,null,null,null,null,null,null,null,null,null,null,null,null,null,null,null,null,null,null,null,null,null,null,null,null,null,null,null,null,null,null,null,null,null,null,null,null,null,null,1,null,2,null,3]
[null,null,null,null,null,null,null,null,null,null,null,null,null,null,null,null,null,null,null,null,null,null,null,null,null,null,null,null,null,null,null,null,null,null,null,null,null,null,null,null,null,null,null,null,null,null,null,null,null,null,null,null,null,null,null,null,null,null,null,null,null,null,null,null,null,null,null,null,null,null,null,null,null,null,null,null,null,null,null,null,null,{"$f":"CN11*BZ10","v":51},null,null,null,null,null,null,null,null,null,null,null,null,null,null,null,null,null,null,null,null,null,null,null,null,null,null,null,null,{"$f":"DM32*DM11","v":102},null,null,null,null,null,"Through lane utilization factor",null,"Left turn lane utilization factor",null,"Right turn to Total Flow Ratio"]
[null,null,null,null,null,null,null,null,null,null,null,null,null,null,null,null,null,null,null,null,null,null,null,null,null,null,null,null,null,null,null,null,null,null,null,null,null,null,null,null,null,null,null,null,null,null,null,null,null,null,null,null,null,null,null,null,null,null,null,null,null,null,null,null,null,null,null,{"$f":"CK11*(1-BZ8)","v":255},null,null,null,{"$f":"CK11*BZ8","v":255}]
[]
[null,null,null,null,"Predicted approach capacity",null,null,null,null,null,null,null,null,null,null,null,null,null,null,null,null,null,null,null,null,null,null,null,null,null,null,null,null,null,null,null,null,null,null,null,null,null,null,null,null,null,"Predicted approach capacity",null,null,null,null,null,null,null,null,null,null,null,null,null,null,null,null,null,null,null,null,null,null,null,null,null,null,null,null,null,null,null,null,null,null,null,null,null,null,null,null,null,null,null,null,null,null,null,null,null,null,null,null,null,null,null,null,null,null,null,null,null,null,null,null,null,{"$f":"DM35*(1-DO11)","v":15.5}]
[]
[null,null,null,null,null,null,null,null,null,null,null,null,null,null,null,null,null,null,null,null,null,null,null,null,null,null,null,null,null,null,null,null,null,null,null,null,null,null,null,null,null,null,null,null,null,null,null,null,null,null,null,null,null,null,null,null,null,null,null,null,null,null,null,null,null,"Lane Capacity",null,null,null,null,null,null,null,null,null,null,null,null,null,null,null,null,null,null,"Conflicting flow",null,null,null,null,null,null,null,null,null,3,null,{"$f":"CZ20/DC10","v":0.22208504437468563},null,"V/C RATIO",null,null,null,null,{"$f":"DG11+DI8","v":153},"pepch"]
[null,null,null,null,"Lane 1",null,null,null,{"$f":"CC31/DI6","v":6.175007633529693E-2},null,null,null,"V/C",null,null,null,null,null,null,null,null,null,null,null,null,null,null,null,null,null,null,null,null,null,null,null,null,null,null,null,null,null,null,null,null,null,"Lane 1",null,null,null,{"$f":"CS26/DI6","v":2.5599612199335927E-2},null,null,null,"V/C",null,null,null,null,null,null,null,null,null,null,1,null,null,null,{"$f":"EXP(7.0754-1.1864*CG25/1000-1.0813*CG23/1000-0.9479*CG21/1000)","v":825.90991018496788},null,null,null,null,null,null,null,null,null,null,null,null,null,null,{"$f":"ROUND(DG11,0)","v":102}]
[]
[null,null,null,null,"Lane 2",null,null,null,{"$f":"BZ31/DI6","v":0.36097733807052673},null,null,null,"V/C",null,null,null,null,null,null,null,null,null,null,null,null,null,null,null,null,null,null,null,null,null,null,null,null,null,null,null,null,null,null,null,null,null,"Lane 2",null,null,null,{"$f":"CS23/DI6","v":0.18998116061118261},null,null,null,"V/C",null,null,null,null,null,null,null,null,null,null,2,null,null,null,{"$f":"EXP(7.0754-0.6758*CG25/1000-1.1556*CG23/1000-0.9049*CG21/1000)","v":847.6986440079919},null,null,null,null,null,null,null,null,null,null,null,null,null,null,{"$f":"ROUND(DG15+DI18+DF63,0)","v":169},null,null,null,null,null,null,null,null,null,2,null,{"$f":"CZ23/DA10","v":0.18998116061118261},null,"V/C RATIO",null,null,null,null,{"$f":"DG15+DI18","v":117.5},"pepch"]
[null,null,null,null,null,null,null,null,null,null,null,null,null,null,null,null,null,null,null,null,null,null,null,null,null,null,null,null,null,null,null,null,null,null,null,null,null,null,null,null,null,null,null,null,null,null,null,null,null,null,null,null,null,null,null,null,null,null,null,null,null,null,null,null,null,null,null,null,null,null,null,null,null,null,"pepch",null,null,"pepch",null,null,"pepch"]
[null,null,null,null,"Lane 3",null,null,null,{"$f":"BW31/DI6","v":0.48605315436566804},null,null,null,"V/C",null,null,null,null,null,null,null,null,null,null,null,null,null,null,null,null,null,null,null,null,null,null,null,null,null,null,null,null,null,null,null,null,null,"Lane 3",null,null,null,{"$f":"CS20/DI6","v":0.22208504437468563},null,null,null,"V/C",null,null,null,null,null,null,null,null,null,null,3,null,null,null,{"$f":"EXP(7.0754-0.5569*CG25/1000-0.9044*CG23/1000-1.0258*CG21/1000+0.2795*BZ6)","v":944.34116079140722},null,null,null,null,{"$f":"BM13+BP16","v":459},null,null,{"$f":"BT16+BW13","v":306},null,null,{"$f":"CD15+CD12","v":51},null,null,null,{"$f":"ROUND(DH25+DK25+CY62+CY65+BS52,0)","v":67},null,null,null,null,null,null,null,null,null,null,null,null,null,null,null,null,null,null,null,null,null,null,null,null,null,null,{"$f":"DM35*DO11","v":15.5},null,null,{"$f":"DM38","v":0}]
[null,null,null,null,null,null,null,null,null,null,null,null,null,null,null,null,{"$f":"IF(OR(I21>1,I23>1,I25>1),1,0)","v":0},null,null,null,null,null,null,null,null,null,null,null,null,null,null,null,null,null,null,null,null,null,null,null,null,null,null,null,null,null,null,null,null,null,null,null,null,null,null,null,null,null,{"$f":"IF(OR(AY21>1,AY23>1,AY25>1),1,0)","v":0},null,null,null,null,null,null,null,null,null,null,null,null,null,null,null,"V/C RATIO",null,null,"V/C RATIO",null,null,"V/C RATIO",null,null,null,null,null,null,null,null,null,null,null,null,null,1,null,{"$f":"CZ26/CY10","v":2.5599612199335927E-2},null,"V/C RATIO",null,null,null,null,{"$f":"DH25+DK25","v":15.5},"pepch"]
[]
[]
[null,null,null,null,null,null,null,null,null,null,null,null,null,null,null,null,null,null,null,null,null,null,null,null,null,null,null,null,null,null,null,null,null,null,null,null,null,null,null,null,null,null,null,null,null,null,null,null,null,null,null,null,null,null,null,null,null,null,null,null,null,null,null,null,null,null,null,null,null,null,null,null,null,null,null,null,null,null,null,null,null,null,null,null,null,null,null,null,null,null,null,null,null,null,null,null,null,null,null,null,null,null,null,null,null,null,null,null,null,null,null,null,null,null,null,null,{"$f":"WBR_Master","v":51},"pepch"]
[null,null,null,null,null,null,null,null,null,null,null,null,null,null,null,null,null,null,null,null,null,null,null,null,null,null,null,null,null,null,null,null,null,null,null,null,null,null,null,null,null,null,null,null,null,null,null,null,null,null,null,null,null,null,null,null,null,null,null,null,null,null,null,null,null,null,null,null,null,null,null,null,null,null,null,null,null,null,null,null,null,null,null,null,null,null,null,null,null,null,null,null,null,null,null,null,null,null,null,null,null,null,null,null,null,null,null,null,"Conflicting flow"]
[null,null,null,null,null,null,null,null,null,null,null,null,null,null,null,null,null,null,null,null,null,null,null,null,null,null,null,null,null,null,null,null,null,null,null,null,null,null,null,null,null,null,null,null,null,null,null,null,null,null,null,null,null,null,null,null,null,null,null,null,null,null,null,null,null,null,null,null,null,null,null,null,null,null,{"$f":"BW25/BR25","v":0.48605315436566804},null,null,{"$f":"BZ25/BR23","v":0.36097733807052673},null,null,{"$f":"CC25/BR21","v":6.175007633529693E-2}]
[null,null,null,null,null,null,null,null,null,null,null,null,null,null,null,null,null,null,null,null,null,null,null,null,null,null,null,null,null,null,null,null,null,null,null,null,null,null,null,null,null,null,null,null,null,null,null,null,null,null,null,null,null,null,null,null,null,null,null,null,null,null,null,null,null,null,null,null,null,null,null,null,null,null,null,null,null,null,null,null,null,null,null,null,null,null,null,null,null,null,null,null,null,null,null,null,null,null,null,null,null,null,null,null,null,null,null,null,null,null,null,null,null,null,null,null,{"$f":"WBT_Master","v":204},"pepch"]
[null,null,null,null,null,null,null,null,null,null,null,null,null,null,null,null,null,null,null,null,null,null,null,null,null,null,null,null,null,null,null,null,null,null,null,null,null,null,null,null,null,null,null,null,null,null,null,null,null,null,null,null,null,null,null,null,null,null,null,null,null,null,null,null,null,null,null,null,null,null,null,null,null,null,3,null,null,2,null,null,1]
[null,null,null,null,null,null,null,null,null,null,null,null,null,null,null,null,null,null,null,null,null,null,null,null,null,null,null,null,null,null,null,null,null,null,null,null,null,null,null,null,null,null,null,null,null,null,null,null,null,null,null,null,null,null,null,null,null,null,null,null,null,null,null,null,null,null,null,null,null,null,null,null,null,null,null,null,null,null,null,null,null,null,null,null,null,null,null,null,null,null,null,null,null,null,null,null,null,null,null,null,null,null,{"$f":"ROUND(CY62+CY65+BV52+BS52+CD12,0)","v":67},null,{"$f":"ROUND(DI61+DF63+BU59,0)","v":322},null,{"$f":"ROUND(DM61,0)","v":255}]
[null,null,null,null,null,null,null,null,null,null,null,null,null,null,null,null,null,null,null,null,null,null,null,null,null,null,null,null,null,null,null,null,null,null,null,null,null,null,null,null,null,null,null,null,null,null,null,null,null,null,null,null,null,null,null,null,null,null,null,null,null,null,null,null,null,null,null,null,null,null,null,null,null,null,null,null,null,null,null,null,null,null,null,null,null,null,null,null,null,null,null,null,null,null,null,null,null,null,null,null,null,null,null,null,null,null,null,null,null,null,null,null,null,null,null,null,{"$f":"WBL_Master","v":31},"pepch"]
[]
[]
[null,null,null,null,null,null,null,null,null,null,null,null,null,null,null,null,null,null,null,null,null,null,null,null,null,null,null,null,null,null,null,null,null,null,null,null,null,null,null,null,null,null,null,null,null,null,null,null,null,null,null,null,null,null,null,null,null,null,null,null,null,null,null,null,null,null,null,null,null,null,null,null,null,null,null,null,null,null,null,null,null,null,null,null,null,null,null,null,null,null,null,null,null,null,null,null,null,null,null,null,null,null,null,null,null,null,null,null,null,null,null,null,null,null,null,null,{"$f":"WBU_Master","v":0},"pepch"]
[null,null,null,null,null,null,null,null,null,null,null,null,null,null,null,null,null,null,null,null,null,null,null,null,null,null,null,null,null,null,null,null,null,null,null,null,null,null,null,null,null,null,null,null,null,null,null,null,null,null,null,null,null,null,null,null,null,null,null,null,null,null,null,null,null,null,null,null,"pepch",{"$f":"EBU_Master","v":0}]
[]
[null,null,null,null,null,null,null,null,null,null,null,null,null,null,null,null,null,null,null,null,null,null,null,null,null,null,null,null,null,null,null,null,null,null,null,null,null,null,null,null,null,null,null,null,null,null,null,null,null,null,null,null,null,null,null,null,null,null,null,null,null,null,null,null,null,null,null,null,null,null,null,null,null,null,null,null,null,"Conflicting flow",{"$f":"ROUND(BP16,0)","v":255},null,{"$f":"ROUND(BT16+BW13+DI18,0)","v":322},null,{"$f":"ROUND(CD15+CD12+DH25+DK25+CY65,0)","v":67}]
[null,null,null,null,null,null,null,null,null,null,null,null,null,null,null,null,null,null,null,null,null,null,null,null,null,null,null,null,null,null,null,null,null,null,null,null,null,null,null,null,null,null,null,null,null,null,null,null,null,null,null,null,null,null,null,null,null,null,null,null,null,null,null,null,null,null,null,null,"pepch",{"$f":"EBL_Master","v":31}]
[]
[]
[null,null,null,null,null,null,null,null,null,null,null,null,null,null,null,null,null,null,null,null,null,null,null,null,null,null,null,null,null,null,null,null,null,null,null,null,null,null,null,null,null,null,null,null,null,null,null,null,null,null,null,null,null,null,null,null,null,null,null,null,null,null,null,null,null,null,null,null,"pepch",{"$f":"EBT_Master","v":204},null,null,null,null,null,null,null,null,null,null,null,null,null,null,null,null,null,null,null,null,null,null,null,null,null,null,null,null,null,null,null,null,null,1,null,null,2,null,null,3]
[]
[null,null,null,null,null,null,null,null,null,null,null,null,null,null,null,null,null,null,null,null,null,null,null,null,null,null,null,null,null,null,null,null,null,null,null,null,null,null,null,null,null,null,null,null,null,null,null,null,null,null,null,null,null,null,null,null,null,null,null,null,null,null,null,null,null,null,null,null,null,null,null,null,null,null,null,null,null,null,null,null,null,null,null,null,null,null,null,null,null,null,null,null,null,null,null,null,null,null,null,null,null,null,null,{"$f":"CZ54/DN53","v":6.175007633529693E-2},null,null,{"$f":"DC54/DN55","v":0.36097733807052673},null,null,{"$f":"DF54/DN57","v":0.48605315436566804}]
[null,null,null,null,null,null,null,null,null,null,null,null,null,null,null,null,null,null,null,null,null,null,null,null,null,null,null,null,null,null,null,null,null,null,null,null,null,null,null,null,null,null,null,null,null,null,null,null,null,null,null,null,null,null,null,null,null,null,null,null,null,null,null,null,null,null,null,null,"pepch",{"$f":"EBR_Master","v":51}]
[null,null,null,null,null,null,null,null,null,null,null,null,null,null,null,null,null,null,null,null,null,null,null,null,null,null,null,null,null,null,null,null,null,null,null,null,null,null,null,null,null,null,null,null,null,null,null,null,null,null,null,null,null,null,null,null,null,null,null,null,null,null,null,null,null,null,null,null,null,null,null,null,null,null,null,null,null,null,null,null,null,null,null,null,null,null,null,null,null,null,null,null,null,null,null,null,null,null,null,null,null,null,null,"V/C RATIO",null,null,"V/C RATIO",null,null,"V/C RATIO"]
[]
[null,null,null,null,null,null,null,null,null,null,null,null,null,null,null,null,null,null,null,null,null,null,null,null,null,null,null,null,null,null,null,null,null,null,null,null,null,null,null,null,null,null,null,null,null,null,null,null,null,null,null,null,null,null,null,null,null,null,null,null,null,null,null,null,null,null,null,null,null,null,null,null,null,null,null,null,null,null,null,null,null,"pepch",{"$f":"BV52+BS52","v":15.5},"V/C RATIO",null,null,null,null,{"$f":"CE51/CE66","v":2.5599612199335927E-2},null,1]
[null,null,null,null,null,null,null,null,null,null,null,null,null,null,null,null,null,null,null,null,null,null,null,null,null,null,null,null,null,null,null,null,null,null,null,null,null,null,null,null,null,null,null,null,null,null,null,null,null,null,null,null,null,null,null,null,null,null,null,null,null,null,null,null,null,null,null,null,null,null,{"$f":"BR39","v":0},null,null,{"$f":"BR42*BO65","v":15.5}]
[null,null,null,null,null,null,null,null,null,null,null,null,null,null,null,null,null,null,null,null,null,null,null,null,null,null,null,null,null,null,null,null,null,null,null,null,null,null,null,null,null,null,null,null,null,null,null,null,null,null,null,null,null,null,null,null,null,null,null,null,null,null,null,null,null,null,null,null,null,null,null,null,null,null,null,null,null,null,null,null,null,null,null,null,null,null,null,null,null,null,null,null,null,null,{"$f":"ROUND(BV52+BS52+CD15+CD12+DK25,0)","v":67},null,null,null,null,null,null,null,null,null,null,null,null,null,null,null,null,null,null,1,null,null,null,{"$f":"EXP(7.0754-1.1864*CQ53/1000-1.0813*CQ55/1000-0.9479*CQ57/1000)","v":825.90991018496788}]
[null,null,null,null,null,null,null,null,null,null,null,null,null,null,null,null,null,null,null,null,null,null,null,null,null,null,null,null,null,null,null,null,null,null,null,null,null,null,null,null,null,null,null,null,null,null,null,null,null,null,null,null,null,null,null,null,null,null,null,null,null,null,null,null,null,null,null,null,null,null,null,null,null,null,null,null,null,null,null,null,null,"pepch",{"$f":"BU59+BW62","v":117.5},"V/C RATIO",null,null,null,null,{"$f":"CE54/CC66","v":0.18998116061118261},null,2,null,null,null,null,null,null,null,null,null,null,null,null,{"$f":"CY62+CY65","v":51},null,null,{"$f":"DI61+DF63","v":306},null,null,{"$f":"DM61+DP63","v":459}]
[null,null,null,null,null,null,null,null,null,null,null,null,null,null,null,null,null,null,null,null,null,null,null,null,null,null,null,null,null,null,null,null,null,null,null,null,null,null,null,null,null,null,null,null,null,null,null,null,null,null,null,null,null,null,null,null,null,null,null,null,null,null,null,null,"Right turn to Total Flow Ratio",null,"Left turn lane utilization factor",null,"Through lane utilization factor",null,null,null,null,null,null,null,null,null,null,null,null,null,null,null,null,null,null,null,null,null,null,null,null,null,{"$f":"ROUND(BW62+BU59+BW13,0)","v":169},null,null,null,null,null,null,null,null,"pepch",null,null,"pepch",null,null,"pepch",null,null,null,2,null,null,null,{"$f":"EXP(7.0754-0.6758*CQ53/1000-1.1556*CQ55/1000-0.9049*CQ57/1000)","v":847.6986440079919}]
[]
[null,null,null,null,null,null,null,null,null,null,null,null,null,null,null,null,null,null,null,null,null,null,null,null,null,null,null,null,null,null,null,null,null,null,null,null,null,null,null,null,null,null,null,null,null,null,null,null,null,null,null,null,null,null,null,null,null,null,null,null,null,null,null,null,null,null,null,null,null,null,null,null,null,null,null,null,null,null,null,null,null,"pepch",{"$f":"BW66+BU69","v":153},"V/C RATIO",null,null,null,null,{"$f":"CE57/CA66","v":0.22208504437468563},null,3,null,null,null,{"$f":"ROUND(BW66,0)","v":102},null,null,null,null,null,null,null,null,null,null,null,null,null,null,null,null,null,null,3,null,null,null,{"$f":"EXP(7.0754-0.5569*CQ53/1000-0.9044*CQ55/1000-1.0258*CQ57/1000+0.2795*DL71)","v":944.34116079140722}]
[]
[null,null,null,null,null,null,null,null,null,null,null,null,null,null,null,null,null,null,null,null,null,null,null,null,null,null,null,null,null,null,null,null,null,null,null,null,null,null,null,null,null,null,null,null,null,null,null,null,null,null,null,null,null,null,null,null,null,null,null,null,null,null,null,null,null,null,null,null,null,null,null,null,{"$f":"BR42*(1-BO65)","v":15.5},null,null,null,null,null,null,null,null,null,null,null,null,null,null,null,null,null,null,null,null,null,"Conflicting flow",null,null,null,null,null,null,null,null,null,null,null,null,null,null,null,null,null,null,"Lane Capacity"]
[null,null,null,null,"Predicted approach capacity",null,null,null,null,null,null,null,null,null,null,null,null,null,null,null,null,null,null,null,null,null,null,null,null,null,null,null,null,null,null,null,null,null,null,null,null,null,null,null,null,null,"Predicted approach capacity"]
[null,null,null,null,null,null,null,null,null,null,null,null,null,null,null,null,null,null,null,null,null,null,null,null,null,null,null,null,null,null,null,null,null,null,null,null,null,null,null,null,null,null,null,null,null,null,null,null,null,null,null,null,null,null,null,null,null,null,null,null,null,null,null,null,null,null,null,null,null,null,null,null,null,null,null,null,null,"Lane Capacity",3,null,2,null,1,null,null,null,null,null,null,null,null,null,null,null,null,null,null,null,null,null,null,null,null,null,null,null,null,null,null,null,null,null,{"$f":"CR67*DL67","v":255},null,null,null,{"$f":"CR67*(1-DL67)","v":255}]
[null,null,null,null,null,null,null,null,null,null,null,null,null,null,null,null,null,null,null,null,null,null,null,null,null,null,null,null,null,null,null,null,null,null,null,null,null,null,null,null,null,null,null,null,null,null,null,null,null,null,null,null,null,null,null,null,null,null,null,null,null,null,null,null,null,null,null,null,null,null,null,null,null,null,{"$f":"BR45*BQ65","v":102},null,null,null,null,null,null,null,null,null,null,null,null,null,null,null,null,null,null,null,null,null,null,null,null,null,null,null,{"$f":"CO67*DL69","v":51}]
[null,null,null,null,"Lane 1",null,null,null,{"$f":"CK51/DI6","v":2.5599612199335927E-2},null,null,null,"V/C",null,null,null,null,null,null,null,null,null,null,null,null,null,null,null,null,null,null,null,null,null,null,null,null,null,null,null,null,null,null,null,null,null,"Lane 1",null,null,null,{"$f":"CZ47/DI6","v":6.175007633529693E-2},null,null,null,"V/C",null,null,null,null,null,null,null,null,null,null,null,null,null,null,null,null,null,null,null,null,null,null,null,null,null,null,null,null,null,null,null,null,null,null,null,null,null,null,null,null,null,null,null,null,null,null,null,null,null,null,null,null,null,null,{"$f":"CO67*(1-DL69)","v":51},null,null,null,null,null,null,null,null,null,{"$f":"CU67","v":204}]
[]
[null,null,null,null,"Lane 2",null,null,null,{"$f":"CK54/DI6","v":0.18998116061118261},null,null,null,"V/C",null,null,null,null,null,null,null,null,null,null,null,null,null,null,null,null,null,null,null,null,null,null,null,null,null,null,null,null,null,null,null,null,null,"Lane 2",null,null,null,{"$f":"DC47/DI6","v":0.36097733807052673},null,null,null,"V/C",null,null,null,null,null,null,null,null,null,{"$f":"BR48/(BR48+BR45+BR42+BR39)","v":0.17832167832167833},null,0.5,null,0.5,null,null,null,null,null,null,null,null,null,null,null,null,null,null,null,null,null,null,null,null,null,null,null,null,null,null,null,null,null,null,null,null,null,{"$f":"CL67","v":0}]
[null,null,null,null,null,null,null,null,null,null,null,null,null,null,null,null,null,null,null,null,null,null,null,null,null,null,null,null,null,null,null,null,null,null,null,null,null,null,null,null,null,null,null,null,null,null,null,null,null,null,null,null,null,null,null,null,null,null,null,null,null,null,null,null,null,null,null,null,null,null,null,null,null,null,{"$f":"BR45*(1-BQ65)","v":102},null,null,null,{"$f":"EXP(7.0754-0.5569*CE41/1000-0.9044*CC41/1000-1.0258*CA41/1000+0.2795*BM65)","v":688.92527378777299},null,{"$f":"EXP(7.0754-0.6758*CE41/1000-1.1556*CC41/1000-0.9049*CA41/1000)","v":618.48237805261488},null,{"$f":"EXP(7.0754-1.1864*CE41/1000-1.0813*CC41/1000-0.9479*CA41/1000)","v":605.47792206016629}]
[null,null,null,null,"Lane 3",null,null,null,{"$f":"CK57/DI6","v":0.22208504437468563},null,null,null,"V/C",null,null,null,null,null,null,null,null,null,null,null,null,null,null,null,null,null,null,null,null,null,null,null,null,null,null,null,null,null,null,null,null,null,"Lane 3",null,null,null,{"$f":"DF47/DI6","v":0.48605315436566804},null,null,null,"V/C",null,null,null,null,null,null,null,null,null,null,null,null,null,null,null,null,null,null,null,null,null,null,null,null,null,null,null,null,null,null,null,null,null,null,{"$f":"NBU_Master","v":0},null,null,{"$f":"NBL_Master","v":102},null,null,{"$f":"NBT_Master","v":510},null,null,{"$f":"NBR_Master","v":204},null,null,null,null,null,null,"Through lane utilization factor",null,null,null,null,null,null,null,null,null,0.5]
[null,null,null,null,null,null,null,null,null,null,null,null,null,null,null,null,{"$f":"IF(OR(I63>1,I65>1,I67>1),1,0)","v":0},null,null,null,null,null,null,null,null,null,null,null,null,null,null,null,null,null,null,null,null,null,null,null,null,null,null,null,null,null,null,null,null,null,null,null,null,null,null,null,null,null,{"$f":"IF(OR(AY63>1,AY65>1,AY67>1),1,0)","v":0},null,null,null,null,null,null,null,null,null,null,null,null,null,null,null,null,null,null,null,null,null,null,null,null,null,null,null,null,null,null,"pepch",null,null,"pepch",null,null,"pepch",null,null,"pepch"]
[null,null,null,null,null,null,null,null,null,null,null,null,null,null,null,null,null,null,null,null,null,null,null,null,null,null,null,null,null,null,null,null,null,null,null,null,null,null,null,null,null,null,null,null,null,null,null,null,null,null,null,null,null,null,null,null,null,null,null,null,null,null,null,null,null,null,null,null,null,null,null,null,{"$f":"BR48","v":51},null,null,null,null,null,null,null,null,null,null,null,null,null,null,null,null,null,null,null,null,null,null,null,null,null,null,null,null,null,null,null,null,"Left turn lane utilization factor",null,null,null,null,null,null,null,null,null,0.5]
[]
[null,null,null,null,null,null,null,null,null,null,null,null,null,null,null,null,null,null,null,null,null,null,null,null,null,null,null,null,null,null,null,null,null,null,null,null,null,null,null,null,null,null,null,null,null,null,null,null,null,null,null,null,null,null,null,null,null,null,null,null,null,null,null,null,null,null,null,null,null,null,null,null,null,null,null,null,null,null,null,null,null,null,null,null,null,null,null,null,null,null,null,null,null,null,null,null,null,null,null,null,null,null,null,null,null,"Right turn to Total Flow Ratio",null,null,null,null,null,null,null,null,null,{"$f":"CU67/(CU67+CR67+CO67+CL67)","v":0.25}]

{"sheet":"TD N-S","index":45,"n_rows":106,"n_cols":74,"rows_kept":106,"cut":false,"hidden":false,"merged":[[80,47,90,58],[65,46,67,46],[71,46,73,46],[65,47,67,50],[68,46,70,46],[68,47,70,50],[71,47,73,50],[0,1,1,79],[2,1,3,79],[5,2,6,9],[5,10,6,54],[5,55,6,78],[54,23,54,56],[67,29,67,31],[67,32,67,37],[58,1,59,79],[7,2,8,9],[61,29,64,31],[61,32,64,34],[61,35,64,37],[65,29,65,31],[66,29,66,31],[7,55,8,60],[7,61,8,66],[7,67,8,72],[7,73,8,78],[9,55,12,66],[9,67,12,78],[7,10,8,54],[9,2,10,9],[9,10,10,54],[11,2,12,9],[11,10,12,54],[80,38,80,40],[80,41,80,43],[81,38,81,40],[81,41,81,43],[82,38,82,40],[82,41,82,43],[74,34,76,41],[65,44,67,44],[65,45,67,45],[71,44,73,44],[71,45,73,45],[71,34,73,41],[65,35,65,37],[68,44,70,44],[68,45,70,45],[65,32,65,34],[66,32,66,34],[66,35,66,37],[103,25,105,28],[103,29,105,29],[103,30,105,30],[103,31,105,31],[97,34,99,41],[100,25,102,28],[100,29,102,29],[100,30,102,30],[100,31,102,31],[97,25,99,28],[97,29,99,29],[97,30,99,30],[97,31,99,31],[83,38,86,40],[83,41,86,43],[84,32,87,34],[84,35,87,37],[88,32,88,34],[88,35,88,37],[106,38,109,40],[106,41,109,43],[106,44,109,46],[103,38,103,43],[103,44,103,46],[104,38,104,40],[104,41,104,43],[104,44,104,46],[105,38,105,40],[105,41,105,43],[105,44,105,46],[89,32,89,34],[89,35,89,37],[90,32,90,34],[90,35,90,37],[94,34,96,41],[61,66,62,67],[22,55,22,59],[22,25,22,29],[19,55,21,58],[19,59,21,59],[16,20,18,28],[16,29,18,29],[19,20,21,23],[19,24,21,24],[19,25,21,28],[19,29,21,29],[56,1,57,79],[16,50,18,58],[16,59,18,59],[19,50,21,53],[19,54,21,54],[61,52,63,65]]}
[null,"Traditional Diamond (N-S)"]
[]
[null,"Design and Results"]
[]
[]
[null,null,"Project Name:",null,null,null,null,null,null,null,{"$f":"P_Name","v":"Cap-X Sample Street"},null,null,null,null,null,null,null,null,null,null,null,null,null,null,null,null,null,null,null,null,null,null,null,null,null,null,null,null,null,null,null,null,null,null,null,null,null,null,null,null,null,null,null,null,"Volume-to-Capacity Ratio"]
[]
[null,null,"Project Number:",null,null,null,null,null,null,null,{"$f":"P_Number","v":10000},null,null,null,null,null,null,null,null,null,null,null,null,null,null,null,null,null,null,null,null,null,null,null,null,null,null,null,null,null,null,null,null,null,null,null,null,null,null,null,null,null,null,null,null,"< 0.750",null,null,null,null,null,"0.750 - 0.875",null,null,null,null,null,"0.875 - 1.00",null,null,null,null,null,"≥ 1.00"]
[]
[null,null,"Location",null,null,null,null,null,null,null,{"$f":"Location","v":"Tallahassee, FL"},null,null,null,null,null,null,null,null,null,null,null,null,null,null,null,null,null,null,null,null,null,null,null,null,null,null,null,null,null,null,null,null,null,null,null,null,null,null,null,null,null,null,null,null,"VOLUME / CAPACITY RATIO:",null,null,null,null,null,null,null,null,null,null,null,{"$f":"MAX(U20,AY20)","v":0.3}]
[]
[null,null,"Date",null,null,null,null,null,null,null,{"$f":"Date","v":"2017 AM"}]
[]
[]
[]
[]
[null,null,null,null,null,null,null,null,null,null,null,null,null,null,null,null,null,null,null,null,{"$f":"AI98","v":520.73684210526312},null,null,null,null,null,null,null,null,"CLV",null,null,null,null,null,null,null,null,null,null,null,null,null,null,null,null,null,null,null,null,{"$f":"AI75","v":503.15789473684208},null,null,null,null,null,null,null,null,"CLV"]
[]
[]
[null,null,null,null,null,null,null,null,null,null,null,null,null,null,null,null,null,null,null,null,{"$f":"ROUND(U17/CLV_Limit_3,2)","v":0.3},null,null,null,"V/C",{"$f":"CLV_Limit_3*BO62","v":1750},null,null,null,"MAX",null,null,null,null,null,null,null,null,null,null,null,null,null,null,null,null,null,null,null,null,{"$f":"ROUND(AY17/CLV_Limit_3,2)","v":0.28999999999999998},null,null,null,"V/C",{"$f":"CLV_Limit_3*BO62","v":1750},null,null,null,"MAX"]
[]
[]
[null,null,null,null,null,null,null,null,null,null,null,null,null,null,null,null,null,null,null,null,null,null,null,null,null,"3 Phases",null,null,null,null,null,null,null,null,null,null,null,null,null,null,null,null,null,null,null,null,null,null,null,null,null,null,null,null,null,"3 Phases"]
[]
[]
[]
[]
[]
[]
[]
[]
[]
[]
[]
[]
[]
[]
[]
[]
[]
[]
[]
[]
[]
[]
[]
[]
[]
[]
[]
[]
[]
[]
[]
[null,null,null,null,null,null,null,null,null,null,null,null,null,null,null,null,null,null,null,null,null,null,null,"Note: This diagram does not reflect the actual lane configuration of the Intersection"]
[]
[null,"Traditional Diamond (N-S)"]
[]
[null,"Data Input and Configuration"]
[]
[]
[null,null,null,null,null,null,null,null,null,null,null,null,null,null,null,null,null,null,null,null,null,null,null,null,null,null,null,null,null,null,null,null,null,null,null,null,null,null,null,null,null,null,null,null,null,null,null,null,null,null,null,null,"Multimodal Capacity Adjustment Factor",null,null,null,null,null,null,null,null,null,null,null,null,null,{"$f":"IF(Multimodal=1,1,IF(MAX(AG68,AM104)<3,1,IF(MAX(AG68,AM104)<4,0.9,0.8)))","v":1}]
[]
[]
[]
[null,null,null,null,null,null,null,null,null,null,null,null,null,null,null,null,null,null,null,null,null,null,null,null,null,null,null,null,null,"pepch",null,null,"pepch",null,null,"pepch",null,null,null,null,null,null,null,null,{"$f":"'3 - Alt Num Lanes Input'!BE87","v":1},{"$f":"WBR_Master","v":51},"pepch"]
[null,null,null,null,null,null,null,null,null,null,null,null,null,null,null,null,null,null,null,null,null,null,null,null,null,null,null,null,null,{"$f":"SBR_Master","v":204},null,null,{"$f":"SBT_Master","v":510},null,null,{"$f":"SBL_Master","v":102}]
[null,null,null,null,null,null,null,null,null,null,null,null,null,null,null,null,null,null,null,null,null,null,null,null,null,null,null,null,null,{"$f":"'3 - Alt Num Lanes Input'!AO87","v":1},null,null,{"$f":"'3 - Alt Num Lanes Input'!AM87","v":2}]
[null,null,null,null,null,null,null,null,null,null,null,null,null,null,null,null,null,null,null,null,null,null,null,null,null,null,null,null,null,null,null,null,null,null,null,null,null,null,null,null,null,null,null,null,{"$f":"'3 - Alt Num Lanes Input'!BC87","v":2},{"$f":"WBT_Master","v":204},"pepch"]
[]
[]
[null,null,null,null,null,null,null,null,null,null,null,null,null,null,null,null,null,null,null,null,null,null,null,null,null,null,null,null,null,null,null,null,null,null,null,null,null,null,null,null,null,null,null,null,{"$f":"'3 - Alt Num Lanes Input'!BA87","v":1},{"$f":"WBL_Master","v":31},"pepch"]
[]
[]
[null,null,null,null,null,null,null,null,null,null,null,null,null,null,null,null,null,null,null,null,null,null,null,null,null,null,null,null,null,null,null,null,null,null,{"$f":"MAX((AJ67/LTAF+AG67)/AG68/RTAF, AP82/AP81)+(AT72/LTAF/AS72)+IF(AS69=0,MAX((AT72/LTAF+AT69)/AS72,AT66/LTAF/AS66),MAX(AT72/LTAF/AS72,AT69/LTAF/AS69,AT66/LTAF/AS66))","v":503.15789473684208}]
[]
[]
[]
[]
[]
[null,null,null,null,null,null,null,null,null,null,null,null,null,null,null,null,null,null,null,null,null,null,null,null,null,null,null,null,null,null,null,null,null,null,null,null,null,null,{"$f":"'3 - Alt Num Lanes Input'!AC87","v":1},null,null,{"$f":"'3 - Alt Num Lanes Input'!AE87","v":2},null,null,null,null,null,{"$f":"IF((AE101+AT69)>0,\"Warning: Includes Frontage Roads on Ramps\")","v":"Warning: Includes Frontage Roads on Ramps"}]
[null,null,null,null,null,null,null,null,null,null,null,null,null,null,null,null,null,null,null,null,null,null,null,null,null,null,null,null,null,null,null,null,null,null,null,null,null,null,{"$f":"AM105","v":102},null,null,{"$f":"AE98+AP105","v":541}]
[null,null,null,null,null,null,null,null,null,null,null,null,null,null,null,null,null,null,null,null,null,null,null,null,null,null,null,null,null,null,null,null,null,null,null,null,null,null,"pepch",null,null,"pepch"]
[]
[]
[]
[]
[]
[null,null,null,null,null,null,null,null,null,null,null,null,null,null,null,null,null,null,null,null,null,null,null,null,null,null,null,null,null,null,null,null,"pepch",null,null,"pepch"]
[null,null,null,null,null,null,null,null,null,null,null,null,null,null,null,null,null,null,null,null,null,null,null,null,null,null,null,null,null,null,null,null,{"$f":"AG67+AT72","v":541},null,null,{"$f":"AJ67","v":102}]
[null,null,null,null,null,null,null,null,null,null,null,null,null,null,null,null,null,null,null,null,null,null,null,null,null,null,null,null,null,null,null,null,{"$f":"'3 - Alt Num Lanes Input'!AM87","v":2},null,null,{"$f":"'3 - Alt Num Lanes Input'!AK87","v":1}]
[]
[]
[]
[]
[]
[]
[null,null,null,null,null,null,null,null,null,null,null,null,null,null,null,null,null,null,null,null,null,null,null,null,null,null,null,null,null,"pepch",{"$f":"EBL_Master","v":31},{"$f":"'3 - Alt Num Lanes Input'!AS87","v":1},null,null,{"$f":"MAX((AP105+AM105)/AM104, AG90/AG91)+(AJ90/LTAF/AJ91)+IF(AF101=0,MAX((AE98+AE101)/LTAF/AF98,AE104/LTAF/AF104),MAX(AE98/LTAF/AF98,AE101/LTAF/AF101,AE104/LTAF/AF104))","v":520.73684210526312}]
[]
[]
[null,null,null,null,null,null,null,null,null,null,null,null,null,null,null,null,null,null,null,null,null,null,null,null,null,null,null,null,null,"pepch",{"$f":"EBT_Master","v":204},{"$f":"'3 - Alt Num Lanes Input'!AU87","v":2}]
[]
[]
[null,null,null,null,null,null,null,null,null,null,null,null,null,null,null,null,null,null,null,null,null,null,null,null,null,null,null,null,null,"pepch",{"$f":"EBR_Master","v":51},{"$f":"'3 - Alt Num Lanes Input'!AW87","v":1},null,null,null,null,null,null,{"$f":"'3 - Alt Num Lanes Input'!AE87","v":2},null,null,null,null,null,{"$f":"'3 - Alt Num Lanes Input'!AG87","v":1}]
[null,null,null,null,null,null,null,null,null,null,null,null,null,null,null,null,null,null,null,null,null,null,null,null,null,null,null,null,null,null,null,null,null,null,null,null,null,null,{"$f":"NBL_Master","v":102},null,null,{"$f":"NBT_Master","v":510},null,null,{"$f":"NBR_Master","v":204}]
[null,null,null,null,null,null,null,null,null,null,null,null,null,null,null,null,null,null,null,null,null,null,null,null,null,null,null,null,null,null,null,null,null,null,null,null,null,null,"pepch",null,null,"pepch",null,null,"pepch"]

{"sheet":"TD E-W","index":46,"n_rows":74,"n_cols":115,"rows_kept":74,"cut":false,"hidden":false,"merged":[[9,36,12,47],[9,48,12,59],[24,114,26,117],[25,77,25,79],[26,77,26,79],[73,13,73,48],[0,1,1,60],[2,1,3,60],[5,2,6,9],[5,10,6,35],[5,36,6,59],[7,2,8,9],[7,10,8,35],[9,2,10,9],[9,10,10,35],[11,2,12,9],[11,10,12,35],[7,36,8,41],[7,42,8,47],[7,48,8,53],[7,54,8,59],[14,88,25,99],[0,63,1,122],[2,63,3,122],[20,77,23,79],[24,77,24,79],[24,111,26,111],[24,112,26,112],[24,113,26,113],[6,79,7,80],[27,113,29,113],[27,114,29,117],[6,65,8,78],[30,79,32,86],[30,89,32,89],[30,90,32,90],[30,91,32,91],[30,101,32,108],[30,112,32,112],[30,113,32,113],[30,114,32,117],[27,89,29,89],[27,90,29,90],[27,91,29,91],[27,92,29,95],[27,111,32,111],[27,112,29,112],[41,108,41,110],[36,97,38,97],[36,96,38,96],[33,101,35,108],[33,92,35,95],[36,70,38,73],[36,74,38,74],[36,75,38,75],[36,92,38,95],[33,70,35,73],[33,74,35,74],[33,75,35,75],[33,76,38,76],[33,79,35,86],[33,96,35,96],[33,97,35,97],[33,98,35,98],[42,111,45,113],[42,114,45,116],[20,71,23,73],[20,74,23,76],[24,71,24,73],[24,74,24,76],[25,71,25,73],[25,74,25,76],[26,71,26,73],[26,74,26,76],[39,111,39,113],[39,114,39,116],[40,111,40,113],[40,114,40,116],[41,111,41,113],[41,114,41,116],[42,108,45,110],[36,98,38,98],[39,70,41,73],[39,74,41,74],[39,75,41,75],[39,76,41,76],[39,108,39,110],[40,108,40,110],[38,49,38,53],[51,49,51,53],[45,44,47,52],[45,53,47,53],[48,44,50,47],[48,48,50,48],[48,49,50,52],[48,53,50,53],[32,44,34,52],[32,53,34,53],[35,44,37,47],[35,48,37,48],[35,49,37,52],[35,53,37,53]]}
[null,"Traditional Diamond (E-W)",null,null,null,null,null,null,null,null,null,null,null,null,null,null,null,null,null,null,null,null,null,null,null,null,null,null,null,null,null,null,null,null,null,null,null,null,null,null,null,null,null,null,null,null,null,null,null,null,null,null,null,null,null,null,null,null,null,null,null,null,null,"Traditional Diamond (E-W)"]
[]
[null,"Design and Results",null,null,null,null,null,null,null,null,null,null,null,null,null,null,null,null,null,null,null,null,null,null,null,null,null,null,null,null,null,null,null,null,null,null,null,null,null,null,null,null,null,null,null,null,null,null,null,null,null,null,null,null,null,null,null,null,null,null,null,null,null,"Data Input and Configuration"]
[]
[]
[null,null,"Project Name:",null,null,null,null,null,null,null,{"$f":"P_Name","v":"Cap-X Sample Street"},null,null,null,null,null,null,null,null,null,null,null,null,null,null,null,null,null,null,null,null,null,null,null,null,null,"Volume-to-Capacity Ratio"]
[null,null,null,null,null,null,null,null,null,null,null,null,null,null,null,null,null,null,null,null,null,null,null,null,null,null,null,null,null,null,null,null,null,null,null,null,null,null,null,null,null,null,null,null,null,null,null,null,null,null,null,null,null,null,null,null,null,null,null,null,null,null,null,null,null,"Multimodal Capacity Adjustment Factor",null,null,null,null,null,null,null,null,null,null,null,null,null,{"$f":"IF(Multimodal=1,1,IF(MAX(BY34,DH28)<3,1,IF(MAX(BY34,DH28)<4,0.9,0.8)))","v":1}]
[null,null,"Project Number:",null,null,null,null,null,null,null,{"$f":"P_Number","v":10000},null,null,null,null,null,null,null,null,null,null,null,null,null,null,null,null,null,null,null,null,null,null,null,null,null,"< 0.750",null,null,null,null,null,"0.750 - 0.875",null,null,null,null,null,"0.875 - 1.00",null,null,null,null,null,"≥ 1.00"]
[]
[null,null,"Location",null,null,null,null,null,null,null,{"$f":"Location","v":"Tallahassee, FL"},null,null,null,null,null,null,null,null,null,null,null,null,null,null,null,null,null,null,null,null,null,null,null,null,null,"VOLUME / CAPACITY RATIO:",null,null,null,null,null,null,null,null,null,null,null,{"$f":"MAX(AS36,AS49)","v":0.3}]
[]
[null,null,"Date",null,null,null,null,null,null,null,{"$f":"Date","v":"2017 AM"}]
[]
[]
[null,null,null,null,null,null,null,null,null,null,null,null,null,null,null,null,null,null,null,null,null,null,null,null,null,null,null,null,null,null,null,null,null,null,null,null,null,null,null,null,null,null,null,null,null,null,null,null,null,null,null,null,null,null,null,null,null,null,null,null,null,null,null,null,null,null,null,null,null,null,null,null,null,null,null,null,null,null,null,null,null,null,null,null,null,null,null,null,{"$f":"IF((BW26+DH41)>0,\"Warning: Includes Frontage Roads on Ramps\")","v":"Warning: Includes Frontage Roads on Ramps"}]
[]
[]
[]
[]
[]
[]
[]
[]
[]
[null,null,null,null,null,null,null,null,null,null,null,null,null,null,null,null,null,null,null,null,null,null,null,null,null,null,null,null,null,null,null,null,null,null,null,null,null,null,null,null,null,null,null,null,null,null,null,null,null,null,null,null,null,null,null,null,null,null,null,null,null,null,null,null,null,null,null,null,null,null,null,"pepch",null,null,"pepch",null,null,"pepch",null,null,null,null,null,null,null,null,null,null,null,null,null,null,null,null,null,null,null,null,null,null,null,null,null,null,null,null,null,null,null,null,null,{"$f":"'3 - Alt Num Lanes Input'!BE89","v":1},{"$f":"WBR_Master","v":51},"pepch"]
[null,null,null,null,null,null,null,null,null,null,null,null,null,null,null,null,null,null,null,null,null,null,null,null,null,null,null,null,null,null,null,null,null,null,null,null,null,null,null,null,null,null,null,null,null,null,null,null,null,null,null,null,null,null,null,null,null,null,null,null,null,null,null,null,null,null,null,null,null,null,null,{"$f":"SBR_Master","v":204},null,null,{"$f":"SBT_Master","v":510},null,null,{"$f":"SBL_Master","v":102}]
[null,null,null,null,null,null,null,null,null,null,null,null,null,null,null,null,null,null,null,null,null,null,null,null,null,null,null,null,null,null,null,null,null,null,null,null,null,null,null,null,null,null,null,null,null,null,null,null,null,null,null,null,null,null,null,null,null,null,null,null,null,null,null,null,null,null,null,null,null,null,null,{"$f":"'3 - Alt Num Lanes Input'!AO89","v":1},null,null,{"$f":"'3 - Alt Num Lanes Input'!AM89","v":2},null,null,{"$f":"'3 - Alt Num Lanes Input'!AK89","v":1}]
[null,null,null,null,null,null,null,null,null,null,null,null,null,null,null,null,null,null,null,null,null,null,null,null,null,null,null,null,null,null,null,null,null,null,null,null,null,null,null,null,null,null,null,null,null,null,null,null,null,null,null,null,null,null,null,null,null,null,null,null,null,null,null,null,null,null,null,null,null,null,null,null,null,null,null,null,null,null,null,null,null,null,null,null,null,null,null,null,null,{"$f":"'3 - Alt Num Lanes Input'!BC89","v":2},{"$f":"DI28+DE41","v":306},"pepch",null,null,null,null,null,null,null,null,null,null,null,null,null,null,null,null,null,null,null,{"$f":"'3 - Alt Num Lanes Input'!BC89","v":2},{"$f":"WBT_Master","v":204},"pepch"]
[]
[]
[null,null,null,null,null,null,null,null,null,null,null,null,null,null,null,null,null,null,null,null,null,null,null,null,null,null,null,null,null,null,null,null,null,null,null,null,null,null,null,null,null,null,null,null,null,null,null,null,null,null,null,null,null,null,null,null,null,null,null,null,null,null,null,null,null,null,null,null,null,null,null,null,null,null,null,null,null,null,null,null,null,null,null,null,null,null,null,null,null,{"$f":"'3 - Alt Num Lanes Input'!BA89","v":1},{"$f":"DI31","v":31},"pepch",null,null,null,null,null,null,null,null,null,null,null,null,null,null,null,null,null,null,null,null,{"$f":"WBL_Master","v":31},"pepch"]
[]
[null,null,null,null,null,null,null,null,null,null,null,null,null,null,null,null,null,null,null,null,null,null,null,null,null,null,null,null,null,null,null,null,null,null,null,null,null,null,null,null,null,null,null,null,{"$f":"CX34","v":528.78947368421052},null,null,null,null,null,null,null,null,"CLV"]
[null,null,null,null,null,null,null,null,null,null,null,null,null,null,null,null,null,null,null,null,null,null,null,null,null,null,null,null,null,null,null,null,null,null,null,null,null,null,null,null,null,null,null,null,null,null,null,null,null,null,null,null,null,null,null,null,null,null,null,null,null,null,null,null,null,null,null,null,null,null,null,null,null,null,"pepch",{"$f":"EBL_Master","v":31},{"$f":"'3 - Alt Num Lanes Input'!AU89","v":2},null,null,{"$f":"MAX((BX37+BX34)/BY34, CM28/CL28)+(CM31/LTAF/CL31)+IF(BW27=0,MAX((BZ26+BW26)/LTAF/BZ27,BT26/LTAF/BT27),MAX(BZ26/LTAF/BZ27,BW26/LTAF/BW27,BT26/LTAF/BT27))","v":454.0526315789474},null,null,null,null,null,null,null,null,null,null,null,null,null,null,null,null,"pepch",{"$f":"BX34","v":31},{"$f":"'3 - Alt Num Lanes Input'!AS89","v":1},null,null,{"$f":"MAX((DI28+DI31)/DH28, CT37/CU37)+(DE41/LTAF/DE40)+IF(DH40=0,MAX((DE41+DH41)/LTAF/DE40,DK41/LTAF/DK40),MAX(DE41/LTAF/DE40,DH41/LTAF/DH40,DK41/LTAF/DK40))","v":528.78947368421052}]
[]
[null,null,null,null,null,null,null,null,null,null,null,null,null,null,null,null,null,null,null,null,null,null,null,null,null,null,null,null,null,null,null,null,null,null,null,null,null,null,null,null,null,null,null,null,{"$f":"ROUND(AS33/CLV_Limit_3,2)","v":0.3},null,null,null,"V/C",{"$f":"CLV_Limit_3*CB7","v":1750},null,null,null,"MAX"]
[null,null,null,null,null,null,null,null,null,null,null,null,null,null,null,null,null,null,null,null,null,null,null,null,null,null,null,null,null,null,null,null,null,null,null,null,null,null,null,null,null,null,null,null,null,null,null,null,null,null,null,null,null,null,null,null,null,null,null,null,null,null,null,null,null,null,null,null,null,null,null,null,null,null,"pepch",{"$f":"EBT_Master","v":204},null,null,null,null,null,null,null,null,null,null,null,null,null,null,null,null,null,null,null,null,"pepch",{"$f":"BX37+BZ26","v":306},{"$f":"'3 - Alt Num Lanes Input'!AU89","v":2}]
[]
[null,null,null,null,null,null,null,null,null,null,null,null,null,null,null,null,null,null,null,null,null,null,null,null,null,null,null,null,null,null,null,null,null,null,null,null,null,null,null,null,null,null,null,null,null,null,null,null,null,"3 Phases"]
[null,null,null,null,null,null,null,null,null,null,null,null,null,null,null,null,null,null,null,null,null,null,null,null,null,null,null,null,null,null,null,null,null,null,null,null,null,null,null,null,null,null,null,null,null,null,null,null,null,null,null,null,null,null,null,null,null,null,null,null,null,null,null,null,null,null,null,null,null,null,null,null,null,null,"pepch",{"$f":"EBR_Master","v":51},{"$f":"'3 - Alt Num Lanes Input'!AW89","v":1},null,null,null,null,null,null,null,null,null,null,null,null,null,null,null,null,null,null,null,null,null,null,null,null,null,null,null,null,null,null,null,{"$f":"'3 - Alt Num Lanes Input'!AC89","v":1},null,null,{"$f":"'3 - Alt Num Lanes Input'!AE89","v":2},null,null,{"$f":"'3 - Alt Num Lanes Input'!AG89","v":1}]
[null,null,null,null,null,null,null,null,null,null,null,null,null,null,null,null,null,null,null,null,null,null,null,null,null,null,null,null,null,null,null,null,null,null,null,null,null,null,null,null,null,null,null,null,null,null,null,null,null,null,null,null,null,null,null,null,null,null,null,null,null,null,null,null,null,null,null,null,null,null,null,null,null,null,null,null,null,null,null,null,null,null,null,null,null,null,null,null,null,null,null,null,null,null,null,null,null,null,null,null,null,null,null,null,null,null,null,null,{"$f":"NBL_Master","v":102},null,null,{"$f":"NBT_Master","v":510},null,null,{"$f":"NBR_Master","v":204}]
[null,null,null,null,null,null,null,null,null,null,null,null,null,null,null,null,null,null,null,null,null,null,null,null,null,null,null,null,null,null,null,null,null,null,null,null,null,null,null,null,null,null,null,null,null,null,null,null,null,null,null,null,null,null,null,null,null,null,null,null,null,null,null,null,null,null,null,null,null,null,null,null,null,null,null,null,null,null,null,null,null,null,null,null,null,null,null,null,null,null,null,null,null,null,null,null,null,null,null,null,null,null,null,null,null,null,null,null,"pepch",null,null,"pepch",null,null,"pepch"]
[]
[]
[]
[null,null,null,null,null,null,null,null,null,null,null,null,null,null,null,null,null,null,null,null,null,null,null,null,null,null,null,null,null,null,null,null,null,null,null,null,null,null,null,null,null,null,null,null,{"$f":"CB34","v":454.0526315789474},null,null,null,null,null,null,null,null,"CLV"]
[]
[]
[null,null,null,null,null,null,null,null,null,null,null,null,null,null,null,null,null,null,null,null,null,null,null,null,null,null,null,null,null,null,null,null,null,null,null,null,null,null,null,null,null,null,null,null,{"$f":"ROUND(AS46/CLV_Limit_3,2)","v":0.26},null,null,null,"V/C",{"$f":"CLV_Limit_3*CB7","v":1750},null,null,null,"MAX"]
[]
[]
[null,null,null,null,null,null,null,null,null,null,null,null,null,null,null,null,null,null,null,null,null,null,null,null,null,null,null,null,null,null,null,null,null,null,null,null,null,null,null,null,null,null,null,null,null,null,null,null,null,"3 Phases"]
[]
[]
[]
[]
[]
[]
[]
[]
[]
[]
[]
[]
[]
[]
[]
[]
[]
[]
[]
[]
[]
[null,null,null,null,null,null,null,null,null,null,null,null,null,"Note: This diagram does not reflect the actual lane configuration of the Intersection"]

{"sheet":"PCLA N-S","index":47,"n_rows":74,"n_cols":103,"rows_kept":74,"cut":false,"hidden":false,"merged":[[21,103,23,106],[50,81,52,84],[50,85,52,85],[50,86,52,86],[50,87,52,87],[32,97,32,99],[33,97,33,99],[34,97,34,99],[35,97,38,99],[24,103,26,106],[47,86,49,86],[47,87,49,87],[47,81,49,84],[41,97,41,99],[36,88,39,90],[40,88,40,90],[7,54,8,59],[0,1,1,60],[0,63,1,122],[2,1,3,60],[2,63,3,122],[5,2,6,9],[5,10,6,35],[5,36,6,59],[7,2,8,9],[7,10,8,35],[7,36,8,41],[7,42,8,47],[7,48,8,53],[9,2,10,9],[9,10,10,35],[9,36,12,47],[9,48,12,59],[11,2,12,9],[11,10,12,35],[13,85,16,87],[13,88,16,90],[13,91,16,93],[17,85,17,87],[17,88,17,90],[17,91,17,93],[22,4,24,12],[22,13,24,13],[25,4,27,7],[25,8,27,8],[25,9,27,12],[25,13,27,13],[18,85,18,87],[18,88,18,90],[18,91,18,93],[19,85,19,87],[19,88,19,93],[47,85,49,85],[73,14,73,47],[24,100,26,100],[24,101,26,101],[70,53,70,57],[58,94,61,96],[58,97,61,99],[58,100,61,102],[56,94,56,96],[56,97,56,99],[56,100,56,102],[57,94,57,96],[57,97,57,99],[57,100,57,102],[41,88,41,90],[42,88,42,90],[24,102,26,102],[49,90,51,97],[55,94,55,99],[55,100,55,102],[32,88,32,90],[23,90,25,97],[26,90,28,97],[46,90,48,97],[21,101,23,101],[21,102,23,102],[21,100,23,100],[42,97,42,99],[28,9,28,13],[64,48,66,56],[64,57,66,57],[67,48,69,51],[67,52,69,52],[67,53,69,56],[67,57,69,57]]}
[null,"Partial Cloverleaf A (N-S)",null,null,null,null,null,null,null,null,null,null,null,null,null,null,null,null,null,null,null,null,null,null,null,null,null,null,null,null,null,null,null,null,null,null,null,null,null,null,null,null,null,null,null,null,null,null,null,null,null,null,null,null,null,null,null,null,null,null,null,null,null,"Partial Cloverleaf A (N-S)"]
[]
[null,"Design and Results",null,null,null,null,null,null,null,null,null,null,null,null,null,null,null,null,null,null,null,null,null,null,null,null,null,null,null,null,null,null,null,null,null,null,null,null,null,null,null,null,null,null,null,null,null,null,null,null,null,null,null,null,null,null,null,null,null,null,null,null,null,"Data Input and Configuration"]
[]
[]
[null,null,"Project Name:",null,null,null,null,null,null,null,{"$f":"P_Name","v":"Cap-X Sample Street"},null,null,null,null,null,null,null,null,null,null,null,null,null,null,null,null,null,null,null,null,null,null,null,null,null,"Volume-to-Capacity Ratio"]
[]
[null,null,"Project Number:",null,null,null,null,null,null,null,{"$f":"P_Number","v":10000},null,null,null,null,null,null,null,null,null,null,null,null,null,null,null,null,null,null,null,null,null,null,null,null,null,"< 0.750",null,null,null,null,null,"0.750 - 0.875",null,null,null,null,null,"0.875 - 1.00",null,null,null,null,null,"≥ 1.00"]
[]
[null,null,"Location",null,null,null,null,null,null,null,{"$f":"Location","v":"Tallahassee, FL"},null,null,null,null,null,null,null,null,null,null,null,null,null,null,null,null,null,null,null,null,null,null,null,null,null,"VOLUME / CAPACITY RATIO:",null,null,null,null,null,null,null,null,null,null,null,{"$f":"MAX(E26,AW68)","v":0.19}]
[]
[null,null,"Date",null,null,null,null,null,null,null,{"$f":"Date","v":"2017 AM"}]
[]
[]
[]
[]
[]
[null,null,null,null,null,null,null,null,null,null,null,null,null,null,null,null,null,null,null,null,null,null,null,null,null,null,null,null,null,null,null,null,null,null,null,null,null,null,null,null,null,null,null,null,null,null,null,null,null,null,null,null,null,null,null,null,null,null,null,null,null,null,null,null,null,null,null,null,null,null,null,null,null,null,null,null,null,null,null,null,null,null,null,null,null,null,null,null,"pepch",null,null,"pepch"]
[null,null,null,null,null,null,null,null,null,null,null,null,null,null,null,null,null,null,null,null,null,null,null,null,null,null,null,null,null,null,null,null,null,null,null,null,null,null,null,null,null,null,null,null,null,null,null,null,null,null,null,null,null,null,null,null,null,null,null,null,null,null,null,null,null,null,null,null,null,null,null,null,null,null,null,null,null,null,null,null,null,null,null,null,null,null,null,null,{"$f":"SBT_Master","v":510},null,null,{"$f":"SBL_Master","v":102}]
[null,null,null,null,null,null,null,null,null,null,null,null,null,null,null,null,null,null,null,null,null,null,null,null,null,null,null,null,null,null,null,null,null,null,null,null,null,null,null,null,null,null,null,null,null,null,null,null,null,null,null,null,null,null,null,null,null,null,null,null,null,null,null,null,null,null,null,null,null,null,null,null,null,null,null,null,null,null,null,null,null,null,null,null,null,null,null,null,{"$f":"'3 - Alt Num Lanes Input'!AM91","v":2}]
[]
[null,null,null,null,null,null,null,null,null,null,null,null,null,null,null,null,null,null,null,null,null,null,null,null,null,null,null,null,null,null,null,null,null,null,null,null,null,null,null,null,null,null,null,null,null,null,null,null,null,null,null,null,null,null,null,null,null,null,null,null,null,null,null,null,null,null,null,null,null,null,null,null,null,null,null,null,null,null,null,null,null,null,null,null,null,null,null,null,null,null,null,null,null,null,null,null,null,null,null,null,{"$f":"'3 - Alt Num Lanes Input'!BE91","v":1},{"$f":"WBL_Master","v":31},"pepch"]
[null,null,null,null,{"$f":"CM27","v":338.63157894736844},null,null,null,null,null,null,null,null,"CLV"]
[]
[null,null,null,null,null,null,null,null,null,null,null,null,null,null,null,null,null,null,null,null,null,null,null,null,null,null,null,null,null,null,null,null,null,null,null,null,null,null,null,null,null,null,null,null,null,null,null,null,null,null,null,null,null,null,null,null,null,null,null,null,null,null,null,null,null,null,null,null,null,null,null,null,null,null,null,null,null,null,null,null,null,null,null,null,null,null,null,null,null,null,null,null,null,null,null,null,null,null,null,null,{"$f":"'3 - Alt Num Lanes Input'!BA91","v":1},{"$f":"WBL_Master","v":31},"pepch"]
[null,null,null,null,{"$f":"ROUND(E23/CLV_Limit_2,2)","v":0.19},null,null,null,"V/C",{"$f":"CLV_Limit_2","v":1800},null,null,null,"MAX"]
[null,null,null,null,null,null,null,null,null,null,null,null,null,null,null,null,null,null,null,null,null,null,null,null,null,null,null,null,null,null,null,null,null,null,null,null,null,null,null,null,null,null,null,null,null,null,null,null,null,null,null,null,null,null,null,null,null,null,null,null,null,null,null,null,null,null,null,null,null,null,null,null,null,null,null,null,null,null,null,null,null,null,null,null,null,null,null,null,null,null,{"$f":"SUM(CK19:CP19)/CK20+CX25/LTAF/CW25","v":338.63157894736844}]
[]
[null,null,null,null,null,null,null,null,null,"2 Phases"]
[]
[]
[]
[null,null,null,null,null,null,null,null,null,null,null,null,null,null,null,null,null,null,null,null,null,null,null,null,null,null,null,null,null,null,null,null,null,null,null,null,null,null,null,null,null,null,null,null,null,null,null,null,null,null,null,null,null,null,null,null,null,null,null,null,null,null,null,null,null,null,null,null,null,null,null,null,null,null,null,null,null,null,null,null,null,null,null,null,null,null,null,null,null,null,null,null,null,null,null,null,null,{"$f":"'3 - Alt Num Lanes Input'!AE91","v":2}]
[null,null,null,null,null,null,null,null,null,null,null,null,null,null,null,null,null,null,null,null,null,null,null,null,null,null,null,null,null,null,null,null,null,null,null,null,null,null,null,null,null,null,null,null,null,null,null,null,null,null,null,null,null,null,null,null,null,null,null,null,null,null,null,null,null,null,null,null,null,null,null,null,null,null,null,null,null,null,null,null,null,null,null,null,null,null,null,null,null,null,null,null,null,null,null,null,null,{"$f":"CI48+CT57","v":541}]
[null,null,null,null,null,null,null,null,null,null,null,null,null,null,null,null,null,null,null,null,null,null,null,null,null,null,null,null,null,null,null,null,null,null,null,null,null,null,null,null,null,null,null,null,null,null,null,null,null,null,null,null,null,null,null,null,null,null,null,null,null,null,null,null,null,null,null,null,null,null,null,null,null,null,null,null,null,null,null,null,null,null,null,null,null,null,null,null,null,null,null,null,null,null,null,null,null,"pepch"]
[]
[]
[]
[]
[]
[null,null,null,null,null,null,null,null,null,null,null,null,null,null,null,null,null,null,null,null,null,null,null,null,null,null,null,null,null,null,null,null,null,null,null,null,null,null,null,null,null,null,null,null,null,null,null,null,null,null,null,null,null,null,null,null,null,null,null,null,null,null,null,null,null,null,null,null,null,null,null,null,null,null,null,null,null,null,null,null,null,null,null,null,null,null,null,null,"pepch"]
[null,null,null,null,null,null,null,null,null,null,null,null,null,null,null,null,null,null,null,null,null,null,null,null,null,null,null,null,null,null,null,null,null,null,null,null,null,null,null,null,null,null,null,null,null,null,null,null,null,null,null,null,null,null,null,null,null,null,null,null,null,null,null,null,null,null,null,null,null,null,null,null,null,null,null,null,null,null,null,null,null,null,null,null,null,null,null,null,{"$f":"CX25+CK19","v":541}]
[null,null,null,null,null,null,null,null,null,null,null,null,null,null,null,null,null,null,null,null,null,null,null,null,null,null,null,null,null,null,null,null,null,null,null,null,null,null,null,null,null,null,null,null,null,null,null,null,null,null,null,null,null,null,null,null,null,null,null,null,null,null,null,null,null,null,null,null,null,null,null,null,null,null,null,null,null,null,null,null,null,null,null,null,null,null,null,null,{"$f":"'3 - Alt Num Lanes Input'!AM91","v":2}]
[]
[]
[]
[]
[null,null,null,null,null,null,null,null,null,null,null,null,null,null,null,null,null,null,null,null,null,null,null,null,null,null,null,null,null,null,null,null,null,null,null,null,null,null,null,null,null,null,null,null,null,null,null,null,null,null,null,null,null,null,null,null,null,null,null,null,null,null,null,null,null,null,null,null,null,null,null,null,null,null,null,null,null,null,null,null,null,null,null,null,null,"pepch",{"$f":"EBL_Master","v":31},{"$f":"'3 - Alt Num Lanes Input'!AS91","v":1}]
[]
[null,null,null,null,null,null,null,null,null,null,null,null,null,null,null,null,null,null,null,null,null,null,null,null,null,null,null,null,null,null,null,null,null,null,null,null,null,null,null,null,null,null,null,null,null,null,null,null,null,null,null,null,null,null,null,null,null,null,null,null,null,null,null,null,null,null,null,null,null,null,null,null,null,null,null,null,null,null,null,null,null,null,null,null,null,null,null,null,null,null,{"$f":"SUM(CQ57:CV57)/CQ56+CI48/LTAF/CJ48","v":338.63157894736844}]
[null,null,null,null,null,null,null,null,null,null,null,null,null,null,null,null,null,null,null,null,null,null,null,null,null,null,null,null,null,null,null,null,null,null,null,null,null,null,null,null,null,null,null,null,null,null,null,null,null,null,null,null,null,null,null,null,null,null,null,null,null,null,null,null,null,null,null,null,null,null,null,null,null,null,null,null,null,null,null,null,null,null,null,null,null,"pepch",{"$f":"EBL_Master","v":31},{"$f":"'3 - Alt Num Lanes Input'!AW91","v":1}]
[]
[]
[]
[]
[null,null,null,null,null,null,null,null,null,null,null,null,null,null,null,null,null,null,null,null,null,null,null,null,null,null,null,null,null,null,null,null,null,null,null,null,null,null,null,null,null,null,null,null,null,null,null,null,null,null,null,null,null,null,null,null,null,null,null,null,null,null,null,null,null,null,null,null,null,null,null,null,null,null,null,null,null,null,null,null,null,null,null,null,null,null,null,null,null,null,null,null,null,null,{"$f":"'3 - Alt Num Lanes Input'!AE91","v":2}]
[null,null,null,null,null,null,null,null,null,null,null,null,null,null,null,null,null,null,null,null,null,null,null,null,null,null,null,null,null,null,null,null,null,null,null,null,null,null,null,null,null,null,null,null,null,null,null,null,null,null,null,null,null,null,null,null,null,null,null,null,null,null,null,null,null,null,null,null,null,null,null,null,null,null,null,null,null,null,null,null,null,null,null,null,null,null,null,null,null,null,null,null,null,null,{"$f":"NBL_Master","v":102},null,null,{"$f":"NBT_Master","v":510}]
[null,null,null,null,null,null,null,null,null,null,null,null,null,null,null,null,null,null,null,null,null,null,null,null,null,null,null,null,null,null,null,null,null,null,null,null,null,null,null,null,null,null,null,null,null,null,null,null,null,null,null,null,null,null,null,null,null,null,null,null,null,null,null,null,null,null,null,null,null,null,null,null,null,null,null,null,null,null,null,null,null,null,null,null,null,null,null,null,null,null,null,null,null,null,"pepch",null,null,"pepch"]
[]
[]
[]
[]
[]
[]
[null,null,null,null,null,null,null,null,null,null,null,null,null,null,null,null,null,null,null,null,null,null,null,null,null,null,null,null,null,null,null,null,null,null,null,null,null,null,null,null,null,null,null,null,null,null,null,null,{"$f":"CM50","v":338.63157894736844},null,null,null,null,null,null,null,null,"CLV"]
[]
[]
[null,null,null,null,null,null,null,null,null,null,null,null,null,null,null,null,null,null,null,null,null,null,null,null,null,null,null,null,null,null,null,null,null,null,null,null,null,null,null,null,null,null,null,null,null,null,null,null,{"$f":"ROUND(AW65/CLV_Limit_2,2)","v":0.19},null,null,null,"V/C",{"$f":"CLV_Limit_2","v":1800},null,null,null,"MAX"]
[]
[]
[null,null,null,null,null,null,null,null,null,null,null,null,null,null,null,null,null,null,null,null,null,null,null,null,null,null,null,null,null,null,null,null,null,null,null,null,null,null,null,null,null,null,null,null,null,null,null,null,null,null,null,null,null,"2 Phases"]
[]
[]
[null,null,null,null,null,null,null,null,null,null,null,null,null,null,"Note: This diagram does not reflect the actual lane configuration of the Intersection"]

{"sheet":"PCLA E-W","index":48,"n_rows":74,"n_cols":115,"rows_kept":74,"cut":false,"hidden":false,"merged":[[31,88,33,88],[31,89,33,92],[34,102,36,109],[37,88,39,88],[37,89,39,92],[40,107,40,109],[41,107,41,109],[42,107,42,109],[43,107,46,109],[34,93,36,96],[34,97,36,97],[34,98,36,98],[34,99,36,99],[7,54,8,59],[0,1,1,60],[0,63,1,122],[2,1,3,60],[2,63,3,122],[5,2,6,9],[5,10,6,35],[5,36,6,59],[7,2,8,9],[7,10,8,35],[7,36,8,41],[7,42,8,47],[7,48,8,53],[9,2,10,9],[9,10,10,35],[9,36,12,47],[9,48,12,59],[11,2,12,9],[11,10,12,35],[25,115,27,118],[28,93,30,96],[28,97,30,97],[28,98,30,98],[28,99,30,99],[28,112,33,112],[28,113,30,113],[28,114,30,114],[28,115,30,118],[25,114,27,114],[31,113,33,113],[31,114,33,114],[31,115,33,118],[25,112,27,112],[25,113,27,113],[31,102,33,109],[73,14,73,47],[40,104,40,106],[41,104,41,106],[42,104,42,106],[43,104,46,106],[40,67,42,70],[40,71,42,71],[40,72,42,72],[40,73,42,73],[18,48,20,56],[18,57,20,57],[21,48,23,51],[21,52,23,52],[21,53,23,56],[21,57,23,57],[69,8,69,12],[24,53,24,57],[31,76,33,83],[63,3,65,11],[63,12,65,12],[66,3,68,6],[66,7,68,7],[66,8,68,11],[66,12,68,12],[21,77,24,79],[25,77,25,79],[26,77,26,79],[27,77,27,79],[34,67,36,70],[34,71,36,71],[34,72,36,72],[37,86,39,86],[37,87,39,87],[21,80,24,82],[25,80,25,82],[26,80,26,82],[27,80,27,82],[31,86,33,86],[31,87,33,87],[34,73,39,73],[34,76,36,83],[37,67,39,70],[37,71,39,71],[37,72,39,72]]}
[null,"Partial Cloverleaf A (E-W)",null,null,null,null,null,null,null,null,null,null,null,null,null,null,null,null,null,null,null,null,null,null,null,null,null,null,null,null,null,null,null,null,null,null,null,null,null,null,null,null,null,null,null,null,null,null,null,null,null,null,null,null,null,null,null,null,null,null,null,null,null,"Partial Cloverleaf A (E-W)"]
[]
[null,"Design and Results",null,null,null,null,null,null,null,null,null,null,null,null,null,null,null,null,null,null,null,null,null,null,null,null,null,null,null,null,null,null,null,null,null,null,null,null,null,null,null,null,null,null,null,null,null,null,null,null,null,null,null,null,null,null,null,null,null,null,null,null,null,"Data Input and Configuration"]
[]
[]
[null,null,"Project Name:",null,null,null,null,null,null,null,{"$f":"P_Name","v":"Cap-X Sample Street"},null,null,null,null,null,null,null,null,null,null,null,null,null,null,null,null,null,null,null,null,null,null,null,null,null,"Volume-to-Capacity Ratio"]
[]
[null,null,"Project Number:",null,null,null,null,null,null,null,{"$f":"P_Number","v":10000},null,null,null,null,null,null,null,null,null,null,null,null,null,null,null,null,null,null,null,null,null,null,null,null,null,"< 0.750",null,null,null,null,null,"0.750 - 0.875",null,null,null,null,null,"0.875 - 1.00",null,null,null,null,null,"≥ 1.00"]
[]
[null,null,"Location",null,null,null,null,null,null,null,{"$f":"Location","v":"Tallahassee, FL"},null,null,null,null,null,null,null,null,null,null,null,null,null,null,null,null,null,null,null,null,null,null,null,null,null,"VOLUME / CAPACITY RATIO:",null,null,null,null,null,null,null,null,null,null,null,{"$f":"MAX(AW22,D67)","v":0.12}]
[]
[null,null,"Date",null,null,null,null,null,null,null,{"$f":"Date","v":"2017 AM"}]
[]
[]
[]
[]
[]
[]
[null,null,null,null,null,null,null,null,null,null,null,null,null,null,null,null,null,null,null,null,null,null,null,null,null,null,null,null,null,null,null,null,null,null,null,null,null,null,null,null,null,null,null,null,null,null,null,null,{"$f":"CY35","v":224.86842105263159},null,null,null,null,null,null,null,null,"CLV"]
[]
[]
[null,null,null,null,null,null,null,null,null,null,null,null,null,null,null,null,null,null,null,null,null,null,null,null,null,null,null,null,null,null,null,null,null,null,null,null,null,null,null,null,null,null,null,null,null,null,null,null,{"$f":"ROUND(AW19/CLV_Limit_2,2)","v":0.12},null,null,null,"V/C",{"$f":"CLV_Limit_2","v":1800},null,null,null,"MAX"]
[]
[]
[null,null,null,null,null,null,null,null,null,null,null,null,null,null,null,null,null,null,null,null,null,null,null,null,null,null,null,null,null,null,null,null,null,null,null,null,null,null,null,null,null,null,null,null,null,null,null,null,null,null,null,null,null,"2 Phases"]
[null,null,null,null,null,null,null,null,null,null,null,null,null,null,null,null,null,null,null,null,null,null,null,null,null,null,null,null,null,null,null,null,null,null,null,null,null,null,null,null,null,null,null,null,null,null,null,null,null,null,null,null,null,null,null,null,null,null,null,null,null,null,null,null,null,null,null,null,null,null,null,null,null,null,null,null,null,"pepch",null,null,"pepch"]
[null,null,null,null,null,null,null,null,null,null,null,null,null,null,null,null,null,null,null,null,null,null,null,null,null,null,null,null,null,null,null,null,null,null,null,null,null,null,null,null,null,null,null,null,null,null,null,null,null,null,null,null,null,null,null,null,null,null,null,null,null,null,null,null,null,null,null,null,null,null,null,null,null,null,null,null,null,{"$f":"SBR_Master","v":204},null,null,{"$f":"SBL_Master","v":102}]
[null,null,null,null,null,null,null,null,null,null,null,null,null,null,null,null,null,null,null,null,null,null,null,null,null,null,null,null,null,null,null,null,null,null,null,null,null,null,null,null,null,null,null,null,null,null,null,null,null,null,null,null,null,null,null,null,null,null,null,null,null,null,null,null,null,null,null,null,null,null,null,null,null,null,null,null,null,{"$f":"'3 - Alt Num Lanes Input'!AO93","v":1},null,null,{"$f":"'3 - Alt Num Lanes Input'!AK93","v":1}]
[null,null,null,null,null,null,null,null,null,null,null,null,null,null,null,null,null,null,null,null,null,null,null,null,null,null,null,null,null,null,null,null,null,null,null,null,null,null,null,null,null,null,null,null,null,null,null,null,null,null,null,null,null,null,null,null,null,null,null,null,null,null,null,null,null,null,null,null,null,null,null,null,null,null,null,null,null,null,null,null,null,null,null,null,null,null,null,null,null,null,null,null,null,null,null,null,null,null,null,null,null,null,null,null,null,null,null,null,null,null,null,null,{"$f":"'3 - Alt Num Lanes Input'!BC93","v":2},{"$f":"WBT_Master","v":204},"pepch"]
[]
[]
[null,null,null,null,null,null,null,null,null,null,null,null,null,null,null,null,null,null,null,null,null,null,null,null,null,null,null,null,null,null,null,null,null,null,null,null,null,null,null,null,null,null,null,null,null,null,null,null,null,null,null,null,null,null,null,null,null,null,null,null,null,null,null,null,null,null,null,null,null,null,null,null,null,null,null,null,null,null,null,null,null,null,null,null,null,null,{"$f":"'3 - Alt Num Lanes Input'!BC93","v":2},{"$f":"DJ29+DA42","v":306},"pepch",null,null,null,null,null,null,null,null,null,null,null,null,null,null,null,null,null,null,null,null,null,null,null,null,{"$f":"WBL_Master","v":31},"pepch"]
[]
[]
[null,null,null,null,null,null,null,null,null,null,null,null,null,null,null,null,null,null,null,null,null,null,null,null,null,null,null,null,null,null,null,null,null,null,null,null,null,null,null,null,null,null,null,null,null,null,null,null,null,null,null,null,null,null,null,null,null,null,null,null,null,null,null,null,null,null,null,null,null,null,null,"pepch",{"$f":"EBL_Master","v":31},{"$f":"'3 - Alt Num Lanes Input'!AU93","v":2},null,null,{"$f":"SUM(BU35:BU40)/BV35+CC27/LTAF/CC28","v":224.86842105263159},null,null,null,null,null,null,null,null,null,null,null,null,null,null,null,null,null,null,null,null,"pepch",{"$f":"CC27+BU38","v":306},{"$f":"'3 - Alt Num Lanes Input'!AU93","v":2},null,null,{"$f":"SUM(DJ29:DJ34)/DI29+DA42/LTAF/DA41","v":224.86842105263159}]
[]
[]
[null,null,null,null,null,null,null,null,null,null,null,null,null,null,null,null,null,null,null,null,null,null,null,null,null,null,null,null,null,null,null,null,null,null,null,null,null,null,null,null,null,null,null,null,null,null,null,null,null,null,null,null,null,null,null,null,null,null,null,null,null,null,null,null,null,null,null,null,null,null,null,"pepch",{"$f":"EBT_Master","v":204}]
[]
[]
[null,null,null,null,null,null,null,null,null,null,null,null,null,null,null,null,null,null,null,null,null,null,null,null,null,null,null,null,null,null,null,null,null,null,null,null,null,null,null,null,null,null,null,null,null,null,null,null,null,null,null,null,null,null,null,null,null,null,null,null,null,null,null,null,null,null,null,null,null,null,null,null,null,null,null,null,null,null,null,null,null,null,null,null,null,null,null,null,null,null,null,null,null,null,null,null,null,null,null,null,null,null,null,null,{"$f":"'3 - Alt Num Lanes Input'!AC93","v":1},null,null,{"$f":"'3 - Alt Num Lanes Input'!AG93","v":1}]
[null,null,null,null,null,null,null,null,null,null,null,null,null,null,null,null,null,null,null,null,null,null,null,null,null,null,null,null,null,null,null,null,null,null,null,null,null,null,null,null,null,null,null,null,null,null,null,null,null,null,null,null,null,null,null,null,null,null,null,null,null,null,null,null,null,null,null,null,null,null,null,null,null,null,null,null,null,null,null,null,null,null,null,null,null,null,null,null,null,null,null,null,null,null,null,null,null,null,null,null,null,null,null,null,{"$f":"NBL_Master","v":102},null,null,{"$f":"NBR_Master","v":204}]
[null,null,null,null,null,null,null,null,null,null,null,null,null,null,null,null,null,null,null,null,null,null,null,null,null,null,null,null,null,null,null,null,null,null,null,null,null,null,null,null,null,null,null,null,null,null,null,null,null,null,null,null,null,null,null,null,null,null,null,null,null,null,null,null,null,null,null,null,null,null,null,null,null,null,null,null,null,null,null,null,null,null,null,null,null,null,null,null,null,null,null,null,null,null,null,null,null,null,null,null,null,null,null,null,"pepch",null,null,"pepch"]
[]
[]
[]
[]
[]
[]
[]
[]
[]
[]
[]
[]
[]
[]
[]
[]
[]
[]
[]
[]
[null,null,null,{"$f":"BY35","v":224.86842105263159},null,null,null,null,null,null,null,null,"CLV"]
[]
[]
[null,null,null,{"$f":"ROUND(D64/CLV_Limit_2,2)","v":0.12},null,null,null,"V/C",{"$f":"CLV_Limit_2","v":1800},null,null,null,"MAX"]
[]
[]
[null,null,null,null,null,null,null,null,"2 Phases"]
[]
[]
[]
[null,null,null,null,null,null,null,null,null,null,null,null,null,null,"Note: This diagram does not reflect the actual lane configuration of the Intersection"]

{"sheet":"PCLB N-S","index":49,"n_rows":74,"n_cols":103,"rows_kept":74,"cut":false,"hidden":false,"merged":[[43,103,45,106],[20,100,22,100],[23,90,25,97],[20,101,22,101],[20,102,22,102],[20,103,22,106],[26,90,28,97],[43,100,45,100],[43,101,45,101],[43,102,45,102],[52,86,54,86],[52,87,54,87],[29,86,31,86],[29,87,31,87],[34,88,34,90],[32,88,32,90],[33,88,33,90],[46,90,48,97],[49,90,51,97],[35,88,38,90],[36,97,39,99],[40,97,40,99],[41,97,41,99],[42,97,42,99],[22,4,24,12],[22,13,24,13],[25,4,27,7],[25,8,27,8],[25,9,27,12],[25,13,27,13],[28,9,28,13],[52,81,54,84],[52,85,54,85],[29,81,31,84],[29,85,31,85],[73,14,73,47],[64,48,66,56],[64,57,66,57],[67,48,69,51],[67,52,69,52],[67,53,69,56],[67,57,69,57],[70,53,70,57],[13,85,16,87],[13,88,16,90],[13,91,16,93],[17,85,17,87],[2,63,3,122],[17,88,17,90],[17,91,17,93],[0,63,1,122],[7,36,8,41],[7,42,8,47],[7,48,8,53],[7,54,8,59],[0,1,1,60],[2,1,3,60],[9,36,12,47],[9,48,12,59],[5,10,6,35],[5,36,6,59],[7,2,8,9],[7,10,8,35],[9,2,10,9],[9,10,10,35],[5,2,6,9],[11,2,12,9],[11,10,12,35],[18,85,18,87],[18,88,18,90],[18,91,18,93],[19,85,19,87],[19,88,19,93],[58,100,61,102],[55,100,55,102],[55,94,55,99],[58,94,61,96],[58,97,61,99],[56,94,56,96],[56,97,56,99],[56,100,56,102],[57,94,57,96],[57,97,57,99],[57,100,57,102]]}
[null,"Partial Cloverleaf B (N-S)",null,null,null,null,null,null,null,null,null,null,null,null,null,null,null,null,null,null,null,null,null,null,null,null,null,null,null,null,null,null,null,null,null,null,null,null,null,null,null,null,null,null,null,null,null,null,null,null,null,null,null,null,null,null,null,null,null,null,null,null,null,"Partial Cloverleaf B (N-S)"]
[]
[null,"Design and Results",null,null,null,null,null,null,null,null,null,null,null,null,null,null,null,null,null,null,null,null,null,null,null,null,null,null,null,null,null,null,null,null,null,null,null,null,null,null,null,null,null,null,null,null,null,null,null,null,null,null,null,null,null,null,null,null,null,null,null,null,null,"Data Input and Configuration"]
[]
[]
[null,null,"Project Name:",null,null,null,null,null,null,null,{"$f":"P_Name","v":"Cap-X Sample Street"},null,null,null,null,null,null,null,null,null,null,null,null,null,null,null,null,null,null,null,null,null,null,null,null,null,"Volume-to-Capacity Ratio"]
[]
[null,null,"Project Number:",null,null,null,null,null,null,null,{"$f":"P_Number","v":10000},null,null,null,null,null,null,null,null,null,null,null,null,null,null,null,null,null,null,null,null,null,null,null,null,null,"< 0.750",null,null,null,null,null,"0.750 - 0.875",null,null,null,null,null,"0.875 - 1.00",null,null,null,null,null,"≥ 1.00"]
[]
[null,null,"Location",null,null,null,null,null,null,null,{"$f":"Location","v":"Tallahassee, FL"},null,null,null,null,null,null,null,null,null,null,null,null,null,null,null,null,null,null,null,null,null,null,null,null,null,"VOLUME / CAPACITY RATIO:",null,null,null,null,null,null,null,null,null,null,null,{"$f":"MAX(E26,AW68)","v":0.23}]
[]
[null,null,"Date",null,null,null,null,null,null,null,{"$f":"Date","v":"2017 AM"}]
[]
[]
[]
[]
[]
[null,null,null,null,null,null,null,null,null,null,null,null,null,null,null,null,null,null,null,null,null,null,null,null,null,null,null,null,null,null,null,null,null,null,null,null,null,null,null,null,null,null,null,null,null,null,null,null,null,null,null,null,null,null,null,null,null,null,null,null,null,null,null,null,null,null,null,null,null,null,null,null,null,null,null,null,null,null,null,null,null,null,null,null,null,"pepch",null,null,"pepch",null,null,"pepch"]
[null,null,null,null,null,null,null,null,null,null,null,null,null,null,null,null,null,null,null,null,null,null,null,null,null,null,null,null,null,null,null,null,null,null,null,null,null,null,null,null,null,null,null,null,null,null,null,null,null,null,null,null,null,null,null,null,null,null,null,null,null,null,null,null,null,null,null,null,null,null,null,null,null,null,null,null,null,null,null,null,null,null,null,null,null,{"$f":"SBR_Master","v":204},null,null,{"$f":"SBT_Master","v":510},null,null,{"$f":"SBL_Master","v":102}]
[null,null,null,null,null,null,null,null,null,null,null,null,null,null,null,null,null,null,null,null,null,null,null,null,null,null,null,null,null,null,null,null,null,null,null,null,null,null,null,null,null,null,null,null,null,null,null,null,null,null,null,null,null,null,null,null,null,null,null,null,null,null,null,null,null,null,null,null,null,null,null,null,null,null,null,null,null,null,null,null,null,null,null,null,null,{"$f":"'3 - Alt Num Lanes Input'!AO95","v":1},null,null,{"$f":"'3 - Alt Num Lanes Input'!AM95","v":2}]
[null,null,null,null,null,null,null,null,null,null,null,null,null,null,null,null,null,null,null,null,null,null,null,null,null,null,null,null,null,null,null,null,null,null,null,null,null,null,null,null,null,null,null,null,null,null,null,null,null,null,null,null,null,null,null,null,null,null,null,null,null,null,null,null,null,null,null,null,null,null,null,null,null,null,null,null,null,null,null,null,null,null,null,null,null,null,null,null,null,null,null,null,null,null,null,null,null,null,null,null,{"$f":"'3 - Alt Num Lanes Input'!BE95","v":1},{"$f":"WBR_Master","v":51},"pepch"]
[]
[null,null,null,null,{"$f":"CM27","v":413.36842105263156},null,null,null,null,null,null,null,null,"CLV"]
[]
[]
[null,null,null,null,{"$f":"ROUND(E23/CLV_Limit_2,2)","v":0.23},null,null,null,"V/C",{"$f":"CLV_Limit_2","v":1800},null,null,null,"MAX"]
[null,null,null,null,null,null,null,null,null,null,null,null,null,null,null,null,null,null,null,null,null,null,null,null,null,null,null,null,null,null,null,null,null,null,null,null,null,null,null,null,null,null,null,null,null,null,null,null,null,null,null,null,null,null,null,null,null,null,null,null,null,null,null,null,null,null,null,null,null,null,null,null,null,null,null,null,null,null,null,null,null,null,null,null,null,null,null,null,null,null,{"$f":"(CK19+CN19)/CK20+CK34/LTAF/CK33","v":413.36842105263156}]
[]
[null,null,null,null,null,null,null,null,null,"2 Phases"]
[null,null,null,null,null,null,null,null,null,null,null,null,null,null,null,null,null,null,null,null,null,null,null,null,null,null,null,null,null,null,null,null,null,null,null,null,null,null,null,null,null,null,null,null,null,null,null,null,null,null,null,null,null,null,null,null,null,null,null,null,null,null,null,null,null,null,null,null,null,null,null,null,null,null,null,null,null,null,null,null,null,null,null,null,null,"pepch",{"$f":"WBL_Master","v":31},{"$f":"'3 - Alt Num Lanes Input'!BA95","v":1}]
[]
[]
[null,null,null,null,null,null,null,null,null,null,null,null,null,null,null,null,null,null,null,null,null,null,null,null,null,null,null,null,null,null,null,null,null,null,null,null,null,null,null,null,null,null,null,null,null,null,null,null,null,null,null,null,null,null,null,null,null,null,null,null,null,null,null,null,null,null,null,null,null,null,null,null,null,null,null,null,null,null,null,null,null,null,null,null,null,null,null,null,{"$f":"'3 - Alt Num Lanes Input'!AC95","v":1}]
[null,null,null,null,null,null,null,null,null,null,null,null,null,null,null,null,null,null,null,null,null,null,null,null,null,null,null,null,null,null,null,null,null,null,null,null,null,null,null,null,null,null,null,null,null,null,null,null,null,null,null,null,null,null,null,null,null,null,null,null,null,null,null,null,null,null,null,null,null,null,null,null,null,null,null,null,null,null,null,null,null,null,null,null,null,null,null,null,{"$f":"CQ57","v":102}]
[null,null,null,null,null,null,null,null,null,null,null,null,null,null,null,null,null,null,null,null,null,null,null,null,null,null,null,null,null,null,null,null,null,null,null,null,null,null,null,null,null,null,null,null,null,null,null,null,null,null,null,null,null,null,null,null,null,null,null,null,null,null,null,null,null,null,null,null,null,null,null,null,null,null,null,null,null,null,null,null,null,null,null,null,null,null,null,null,"pepch"]
[]
[]
[]
[]
[]
[null,null,null,null,null,null,null,null,null,null,null,null,null,null,null,null,null,null,null,null,null,null,null,null,null,null,null,null,null,null,null,null,null,null,null,null,null,null,null,null,null,null,null,null,null,null,null,null,null,null,null,null,null,null,null,null,null,null,null,null,null,null,null,null,null,null,null,null,null,null,null,null,null,null,null,null,null,null,null,null,null,null,null,null,null,null,null,null,null,null,null,null,null,null,null,null,null,"pepch"]
[null,null,null,null,null,null,null,null,null,null,null,null,null,null,null,null,null,null,null,null,null,null,null,null,null,null,null,null,null,null,null,null,null,null,null,null,null,null,null,null,null,null,null,null,null,null,null,null,null,null,null,null,null,null,null,null,null,null,null,null,null,null,null,null,null,null,null,null,null,null,null,null,null,null,null,null,null,null,null,null,null,null,null,null,null,null,null,null,null,null,null,null,null,null,null,null,null,{"$f":"CN19","v":102}]
[null,null,null,null,null,null,null,null,null,null,null,null,null,null,null,null,null,null,null,null,null,null,null,null,null,null,null,null,null,null,null,null,null,null,null,null,null,null,null,null,null,null,null,null,null,null,null,null,null,null,null,null,null,null,null,null,null,null,null,null,null,null,null,null,null,null,null,null,null,null,null,null,null,null,null,null,null,null,null,null,null,null,null,null,null,null,null,null,null,null,null,null,null,null,null,null,null,{"$f":"'3 - Alt Num Lanes Input'!AK95","v":1}]
[null,null,null,null,null,null,null,null,null,null,null,null,null,null,null,null,null,null,null,null,null,null,null,null,null,null,null,null,null,null,null,null,null,null,null,null,null,null,null,null,null,null,null,null,null,null,null,null,null,null,null,null,null,null,null,null,null,null,null,null,null,null,null,null,null,null,null,null,null,null,null,null,null,null,null,null,null,null,null,null,null,null,null,null,null,null,null,null,null,null,null,null,null,null,null,null,null,null,null,null,{"$f":"'3 - Alt Num Lanes Input'!AS95","v":1},{"$f":"EBL_Master","v":31},"pepch"]
[]
[]
[]
[]
[]
[null,null,null,null,null,null,null,null,null,null,null,null,null,null,null,null,null,null,null,null,null,null,null,null,null,null,null,null,null,null,null,null,null,null,null,null,null,null,null,null,null,null,null,null,null,null,null,null,null,null,null,null,null,null,null,null,null,null,null,null,null,null,null,null,null,null,null,null,null,null,null,null,null,null,null,null,null,null,null,null,null,null,null,null,null,null,null,null,null,null,{"$f":"(CQ57+CT57)/CQ56 +(CT42/LTAF/CT43)","v":413.36842105263156}]
[]
[]
[null,null,null,null,null,null,null,null,null,null,null,null,null,null,null,null,null,null,null,null,null,null,null,null,null,null,null,null,null,null,null,null,null,null,null,null,null,null,null,null,null,null,null,null,null,null,null,null,null,null,null,null,null,null,null,null,null,null,null,null,null,null,null,null,null,null,null,null,null,null,null,null,null,null,null,null,null,null,null,null,null,null,null,null,null,"pepch",{"$f":"EBR_Master","v":51},{"$f":"'3 - Alt Num Lanes Input'!AW95","v":1}]
[]
[]
[null,null,null,null,null,null,null,null,null,null,null,null,null,null,null,null,null,null,null,null,null,null,null,null,null,null,null,null,null,null,null,null,null,null,null,null,null,null,null,null,null,null,null,null,null,null,null,null,null,null,null,null,null,null,null,null,null,null,null,null,null,null,null,null,null,null,null,null,null,null,null,null,null,null,null,null,null,null,null,null,null,null,null,null,null,null,null,null,null,null,null,null,null,null,{"$f":"'3 - Alt Num Lanes Input'!AE95","v":2},null,null,null,null,null,{"$f":"'3 - Alt Num Lanes Input'!AG95","v":1}]
[null,null,null,null,null,null,null,null,null,null,null,null,null,null,null,null,null,null,null,null,null,null,null,null,null,null,null,null,null,null,null,null,null,null,null,null,null,null,null,null,null,null,null,null,null,null,null,null,null,null,null,null,null,null,null,null,null,null,null,null,null,null,null,null,null,null,null,null,null,null,null,null,null,null,null,null,null,null,null,null,null,null,null,null,null,null,null,null,null,null,null,null,null,null,{"$f":"NBL_Master","v":102},null,null,{"$f":"NBT_Master","v":510},null,null,{"$f":"NBR_Master","v":204}]
[null,null,null,null,null,null,null,null,null,null,null,null,null,null,null,null,null,null,null,null,null,null,null,null,null,null,null,null,null,null,null,null,null,null,null,null,null,null,null,null,null,null,null,null,null,null,null,null,null,null,null,null,null,null,null,null,null,null,null,null,null,null,null,null,null,null,null,null,null,null,null,null,null,null,null,null,null,null,null,null,null,null,null,null,null,null,null,null,null,null,null,null,null,null,"pepch",null,null,"pepch",null,null,"pepch"]
[]
[]
[]
[]
[]
[]
[null,null,null,null,null,null,null,null,null,null,null,null,null,null,null,null,null,null,null,null,null,null,null,null,null,null,null,null,null,null,null,null,null,null,null,null,null,null,null,null,null,null,null,null,null,null,null,null,{"$f":"CM50","v":413.36842105263156},null,null,null,null,null,null,null,null,"CLV"]
[]
[]
[null,null,null,null,null,null,null,null,null,null,null,null,null,null,null,null,null,null,null,null,null,null,null,null,null,null,null,null,null,null,null,null,null,null,null,null,null,null,null,null,null,null,null,null,null,null,null,null,{"$f":"ROUND(AW65/CLV_Limit_2,2)","v":0.23},null,null,null,"V/C",{"$f":"CLV_Limit_2","v":1800},null,null,null,"MAX"]
[]
[]
[null,null,null,null,null,null,null,null,null,null,null,null,null,null,null,null,null,null,null,null,null,null,null,null,null,null,null,null,null,null,null,null,null,null,null,null,null,null,null,null,null,null,null,null,null,null,null,null,null,null,null,null,null,"2 Phases"]
[]
[]
[null,null,null,null,null,null,null,null,null,null,null,null,null,null,"Note: This diagram does not reflect the actual lane configuration of the Intersection"]

{"sheet":"PCLB E-W","index":50,"n_rows":74,"n_cols":115,"rows_kept":74,"cut":false,"hidden":false,"merged":[[25,100,25,102],[26,100,26,102],[27,100,27,102],[21,74,24,76],[25,74,25,76],[26,74,26,76],[27,74,27,76],[40,109,40,111],[41,109,41,111],[42,109,42,111],[43,109,46,111],[40,83,40,85],[41,83,41,85],[42,83,42,85],[43,83,46,85],[5,2,6,9],[5,10,6,35],[5,36,6,59],[73,14,73,47],[63,3,65,11],[63,12,65,12],[66,3,68,6],[66,7,68,7],[66,8,68,11],[66,12,68,12],[11,2,12,9],[11,10,12,35],[9,36,12,47],[9,48,12,59],[7,2,8,9],[7,10,8,35],[7,42,8,47],[7,48,8,53],[7,54,8,59],[2,63,3,122],[28,93,30,96],[28,97,30,97],[28,98,30,98],[28,99,30,99],[28,112,33,112],[31,76,33,83],[31,102,33,109],[31,113,33,113],[31,114,33,114],[21,53,23,56],[21,57,23,57],[21,100,24,102],[0,1,1,60],[2,1,3,60],[31,115,33,118],[25,112,27,112],[25,113,27,113],[25,114,27,114],[25,115,27,118],[28,113,30,113],[28,114,30,114],[28,115,30,118],[18,48,20,56],[18,57,20,57],[21,48,23,51],[21,52,23,52],[0,63,1,122],[7,36,8,41],[9,2,10,9],[9,10,10,35],[40,73,42,73],[34,102,36,109],[37,67,39,70],[37,71,39,71],[37,72,39,72],[37,86,39,86],[34,67,36,70],[34,71,36,71],[34,72,36,72],[34,73,39,73],[34,76,36,83],[37,87,39,87],[37,88,39,88],[37,89,39,92],[40,67,42,70],[40,71,42,71],[40,72,42,72],[24,53,24,57],[69,8,69,12]]}
[null,"Partial Cloverleaf B (E-W)",null,null,null,null,null,null,null,null,null,null,null,null,null,null,null,null,null,null,null,null,null,null,null,null,null,null,null,null,null,null,null,null,null,null,null,null,null,null,null,null,null,null,null,null,null,null,null,null,null,null,null,null,null,null,null,null,null,null,null,null,null,"Partial Cloverleaf B (E-W)"]
[]
[null,"Design and Results",null,null,null,null,null,null,null,null,null,null,null,null,null,null,null,null,null,null,null,null,null,null,null,null,null,null,null,null,null,null,null,null,null,null,null,null,null,null,null,null,null,null,null,null,null,null,null,null,null,null,null,null,null,null,null,null,null,null,null,null,null,"Data Input and Configuration"]
[]
[]
[null,null,"Project Name:",null,null,null,null,null,null,null,{"$f":"P_Name","v":"Cap-X Sample Street"},null,null,null,null,null,null,null,null,null,null,null,null,null,null,null,null,null,null,null,null,null,null,null,null,null,"Volume-to-Capacity Ratio"]
[]
[null,null,"Project Number:",null,null,null,null,null,null,null,{"$f":"P_Number","v":10000},null,null,null,null,null,null,null,null,null,null,null,null,null,null,null,null,null,null,null,null,null,null,null,null,null,"< 0.750",null,null,null,null,null,"0.750 - 0.875",null,null,null,null,null,"0.875 - 1.00",null,null,null,null,null,"≥ 1.00"]
[]
[null,null,"Location",null,null,null,null,null,null,null,{"$f":"Location","v":"Tallahassee, FL"},null,null,null,null,null,null,null,null,null,null,null,null,null,null,null,null,null,null,null,null,null,null,null,null,null,"VOLUME / CAPACITY RATIO:",null,null,null,null,null,null,null,null,null,null,null,{"$f":"MAX(AW22,D67)","v":0.09}]
[]
[null,null,"Date",null,null,null,null,null,null,null,{"$f":"Date","v":"2017 AM"}]
[]
[]
[]
[]
[]
[]
[null,null,null,null,null,null,null,null,null,null,null,null,null,null,null,null,null,null,null,null,null,null,null,null,null,null,null,null,null,null,null,null,null,null,null,null,null,null,null,null,null,null,null,null,null,null,null,null,{"$f":"CY35","v":150.13157894736844},null,null,null,null,null,null,null,null,"CLV"]
[]
[]
[null,null,null,null,null,null,null,null,null,null,null,null,null,null,null,null,null,null,null,null,null,null,null,null,null,null,null,null,null,null,null,null,null,null,null,null,null,null,null,null,null,null,null,null,null,null,null,null,{"$f":"ROUND(AW19/CLV_Limit_2,2)","v":0.08},null,null,null,"V/C",{"$f":"CLV_Limit_2","v":1800},null,null,null,"MAX"]
[]
[]
[null,null,null,null,null,null,null,null,null,null,null,null,null,null,null,null,null,null,null,null,null,null,null,null,null,null,null,null,null,null,null,null,null,null,null,null,null,null,null,null,null,null,null,null,null,null,null,null,null,null,null,null,null,"2 Phases"]
[null,null,null,null,null,null,null,null,null,null,null,null,null,null,null,null,null,null,null,null,null,null,null,null,null,null,null,null,null,null,null,null,null,null,null,null,null,null,null,null,null,null,null,null,null,null,null,null,null,null,null,null,null,null,null,null,null,null,null,null,null,null,null,null,null,null,null,null,null,null,null,null,null,null,"pepch",null,null,null,null,null,null,null,null,null,null,null,null,null,null,null,null,null,null,null,null,null,null,null,null,null,"pepch",null,null,null,null,null,null,null,null,null,null,null,{"$f":"'3 - Alt Num Lanes Input'!BE97","v":1},{"$f":"WBR_Master","v":51},"pepch"]
[null,null,null,null,null,null,null,null,null,null,null,null,null,null,null,null,null,null,null,null,null,null,null,null,null,null,null,null,null,null,null,null,null,null,null,null,null,null,null,null,null,null,null,null,null,null,null,null,null,null,null,null,null,null,null,null,null,null,null,null,null,null,null,null,null,null,null,null,null,null,null,null,null,null,{"$f":"SBR_Master","v":204},null,null,null,null,null,null,null,null,null,null,null,null,null,null,null,null,null,null,null,null,null,null,null,null,null,{"$f":"NBL_Master","v":102}]
[null,null,null,null,null,null,null,null,null,null,null,null,null,null,null,null,null,null,null,null,null,null,null,null,null,null,null,null,null,null,null,null,null,null,null,null,null,null,null,null,null,null,null,null,null,null,null,null,null,null,null,null,null,null,null,null,null,null,null,null,null,null,null,null,null,null,null,null,null,null,null,null,null,null,{"$f":"'3 - Alt Num Lanes Input'!AO97","v":1},null,null,null,null,null,null,null,null,null,null,null,null,null,null,null,null,null,null,null,null,null,null,null,null,null,{"$f":"'3 - Alt Num Lanes Input'!AC97","v":1}]
[null,null,null,null,null,null,null,null,null,null,null,null,null,null,null,null,null,null,null,null,null,null,null,null,null,null,null,null,null,null,null,null,null,null,null,null,null,null,null,null,null,null,null,null,null,null,null,null,null,null,null,null,null,null,null,null,null,null,null,null,null,null,null,null,null,null,null,null,null,null,null,null,null,null,null,null,null,null,null,null,null,null,null,null,null,null,null,null,null,null,null,null,null,null,null,null,null,"pepch",{"$f":"BU35","v":31},{"$f":"'3 - Alt Num Lanes Input'!AS97","v":1},null,null,null,null,null,null,null,null,null,null,null,null,{"$f":"'3 - Alt Num Lanes Input'!BC97","v":2},{"$f":"WBT_Master","v":204},"pepch"]
[]
[]
[null,null,null,null,null,null,null,null,null,null,null,null,null,null,null,null,null,null,null,null,null,null,null,null,null,null,null,null,null,null,null,null,null,null,null,null,null,null,null,null,null,null,null,null,null,null,null,null,null,null,null,null,null,null,null,null,null,null,null,null,null,null,null,null,null,null,null,null,null,null,null,null,null,null,null,null,null,null,null,null,null,null,null,null,null,null,null,null,null,null,null,null,null,null,null,null,null,null,null,null,null,null,null,null,null,null,null,null,null,null,null,null,null,{"$f":"WBL_Master","v":31},"pepch"]
[]
[]
[null,null,null,null,null,null,null,null,null,null,null,null,null,null,null,null,null,null,null,null,null,null,null,null,null,null,null,null,null,null,null,null,null,null,null,null,null,null,null,null,null,null,null,null,null,null,null,null,null,null,null,null,null,null,null,null,null,null,null,null,null,null,null,null,null,null,null,null,null,null,null,"pepch",{"$f":"EBL_Master","v":31},{"$f":"'3 - Alt Num Lanes Input'!AU97","v":2},null,null,{"$f":"BU35+BU38/BV35+CJ38/LTAF/CI38","v":165.63157894736844},null,null,null,null,null,null,null,null,null,null,null,null,null,null,null,null,null,null,null,null,null,null,null,null,null,{"$f":"(DJ29+DJ32)/DI29+CU29/LTAF/CV29","v":150.13157894736844}]
[]
[]
[null,null,null,null,null,null,null,null,null,null,null,null,null,null,null,null,null,null,null,null,null,null,null,null,null,null,null,null,null,null,null,null,null,null,null,null,null,null,null,null,null,null,null,null,null,null,null,null,null,null,null,null,null,null,null,null,null,null,null,null,null,null,null,null,null,null,null,null,null,null,null,"pepch",{"$f":"EBT_Master","v":204},null,null,null,null,null,null,null,null,null,null,null,null,null,{"$f":"'3 - Alt Num Lanes Input'!BA97","v":1},{"$f":"DJ32","v":31},"pepch"]
[]
[]
[null,null,null,null,null,null,null,null,null,null,null,null,null,null,null,null,null,null,null,null,null,null,null,null,null,null,null,null,null,null,null,null,null,null,null,null,null,null,null,null,null,null,null,null,null,null,null,null,null,null,null,null,null,null,null,null,null,null,null,null,null,null,null,null,null,null,null,null,null,null,null,"pepch",{"$f":"EBR_Master","v":51},{"$f":"'3 - Alt Num Lanes Input'!AW97","v":1},null,null,null,null,null,null,null,null,null,{"$f":"'3 - Alt Num Lanes Input'!AK97","v":1},null,null,null,null,null,null,null,null,null,null,null,null,null,null,null,null,null,null,null,null,null,null,null,null,null,{"$f":"'3 - Alt Num Lanes Input'!AG97","v":1}]
[null,null,null,null,null,null,null,null,null,null,null,null,null,null,null,null,null,null,null,null,null,null,null,null,null,null,null,null,null,null,null,null,null,null,null,null,null,null,null,null,null,null,null,null,null,null,null,null,null,null,null,null,null,null,null,null,null,null,null,null,null,null,null,null,null,null,null,null,null,null,null,null,null,null,null,null,null,null,null,null,null,null,null,{"$f":"SBL_Master","v":102},null,null,null,null,null,null,null,null,null,null,null,null,null,null,null,null,null,null,null,null,null,null,null,null,null,{"$f":"NBR_Master","v":204}]
[null,null,null,null,null,null,null,null,null,null,null,null,null,null,null,null,null,null,null,null,null,null,null,null,null,null,null,null,null,null,null,null,null,null,null,null,null,null,null,null,null,null,null,null,null,null,null,null,null,null,null,null,null,null,null,null,null,null,null,null,null,null,null,null,null,null,null,null,null,null,null,null,null,null,null,null,null,null,null,null,null,null,null,"pepch",null,null,null,null,null,null,null,null,null,null,null,null,null,null,null,null,null,null,null,null,null,null,null,null,null,"pepch"]
[]
[]
[]
[]
[]
[]
[]
[]
[]
[]
[]
[]
[]
[]
[]
[]
[]
[]
[]
[]
[null,null,null,{"$f":"BY35","v":165.63157894736844},null,null,null,null,null,null,null,null,"CLV"]
[]
[]
[null,null,null,{"$f":"ROUND(D64/CLV_Limit_2,2)","v":0.09},null,null,null,"V/C",{"$f":"CLV_Limit_2","v":1800},null,null,null,"MAX"]
[]
[]
[null,null,null,null,null,null,null,null,"2 Phases"]
[]
[]
[]
[null,null,null,null,null,null,null,null,null,null,null,null,null,null,"Note: This diagram does not reflect the actual lane configuration of the Intersection"]

{"sheet":"DLTI N-S","index":51,"n_rows":74,"n_cols":101,"rows_kept":74,"cut":false,"hidden":false,"merged":[[7,2,8,9],[7,10,8,35],[9,2,10,9],[9,10,10,35],[11,2,12,9],[11,10,12,35],[0,1,1,60],[2,1,3,60],[5,2,6,9],[5,10,6,35],[5,36,6,59],[7,36,8,41],[7,42,8,47],[7,48,8,53],[7,54,8,59],[9,36,12,47],[9,48,12,59],[0,63,1,122],[2,63,3,122],[6,86,9,88],[6,89,9,91],[6,92,9,94],[6,95,9,97],[12,95,12,97],[14,98,16,98],[14,99,16,99],[10,86,10,88],[10,89,10,91],[10,92,10,94],[10,95,10,97],[11,86,11,88],[11,89,11,91],[11,92,11,94],[11,95,11,97],[6,79,7,80],[6,65,8,78],[73,13,73,48],[12,86,12,88],[12,89,12,91],[12,92,12,94],[35,88,38,90],[36,93,36,95],[37,93,37,95],[38,93,38,95],[39,88,39,90],[39,93,42,95],[40,88,40,90],[41,88,41,90],[43,79,45,82],[43,83,45,83],[43,84,45,84],[43,85,45,85],[45,88,47,95],[46,79,48,82],[46,83,48,83],[46,84,48,84],[46,85,48,85],[48,88,50,95],[49,79,51,82],[49,83,51,83],[29,101,31,104],[30,88,32,95],[32,98,34,98],[32,99,34,99],[32,100,34,100],[32,101,34,104],[14,100,16,100],[14,101,16,104],[16,88,18,95],[19,88,21,95],[26,99,28,99],[26,100,28,100],[26,101,28,104],[27,88,29,95],[29,98,31,98],[29,99,31,99],[29,100,31,100],[26,98,28,98],[49,84,51,84],[56,88,58,95],[59,88,61,95],[61,79,63,82],[61,83,63,83],[61,84,63,84],[61,85,63,85],[67,86,67,88],[67,89,67,91],[67,92,67,94],[67,95,67,97],[49,85,51,85],[68,86,71,88],[68,89,71,91],[68,92,71,94],[68,95,71,97],[65,86,65,88],[65,89,65,91],[65,92,65,94],[65,95,65,97],[66,86,66,88],[66,89,66,91],[66,92,66,94],[66,95,66,97],[17,41,19,49],[17,50,19,50],[20,41,22,44],[20,45,22,45],[20,46,22,49],[20,50,22,50],[32,41,34,49],[32,50,34,50],[35,41,37,44],[35,45,37,45],[35,46,37,49],[35,50,37,50],[23,46,23,50],[38,46,38,50],[55,46,55,50],[69,46,69,50],[49,41,51,49],[49,50,51,50],[52,41,54,44],[52,45,54,45],[52,46,54,49],[52,50,54,50],[63,41,65,49],[63,50,65,50],[66,41,68,44],[66,45,68,45],[66,46,68,49],[66,50,68,50]]}
[null,"Displaced Left Turn Interchange (N-S)",null,null,null,null,null,null,null,null,null,null,null,null,null,null,null,null,null,null,null,null,null,null,null,null,null,null,null,null,null,null,null,null,null,null,null,null,null,null,null,null,null,null,null,null,null,null,null,null,null,null,null,null,null,null,null,null,null,null,null,null,null,"Displaced Left Turn Interchange (N-S)"]
[]
[null,"Design and Results",null,null,null,null,null,null,null,null,null,null,null,null,null,null,null,null,null,null,null,null,null,null,null,null,null,null,null,null,null,null,null,null,null,null,null,null,null,null,null,null,null,null,null,null,null,null,null,null,null,null,null,null,null,null,null,null,null,null,null,null,null,"Data Input and Configuration"]
[]
[]
[null,null,"Project Name:",null,null,null,null,null,null,null,{"$f":"P_Name","v":"Cap-X Sample Street"},null,null,null,null,null,null,null,null,null,null,null,null,null,null,null,null,null,null,null,null,null,null,null,null,null,"Volume-to-Capacity Ratio"]
[null,null,null,null,null,null,null,null,null,null,null,null,null,null,null,null,null,null,null,null,null,null,null,null,null,null,null,null,null,null,null,null,null,null,null,null,null,null,null,null,null,null,null,null,null,null,null,null,null,null,null,null,null,null,null,null,null,null,null,null,null,null,null,null,null,"Multimodal Capacity Adjustment Factor",null,null,null,null,null,null,null,null,null,null,null,null,null,{"$f":"IF(Multimodal=1,1,IF(MAX(CL13,CO66)<3,1,IF(MAX(CL13,CO66)<4,0.9,0.8)))","v":1}]
[null,null,"Project Number:",null,null,null,null,null,null,null,{"$f":"P_Number","v":10000},null,null,null,null,null,null,null,null,null,null,null,null,null,null,null,null,null,null,null,null,null,null,null,null,null,"< 0.750",null,null,null,null,null,"0.750 - 0.875",null,null,null,null,null,"0.875 - 1.00",null,null,null,null,null,"≥ 1.00"]
[]
[null,null,"Location",null,null,null,null,null,null,null,{"$f":"Location","v":"Tallahassee, FL"},null,null,null,null,null,null,null,null,null,null,null,null,null,null,null,null,null,null,null,null,null,null,null,null,null,"VOLUME / CAPACITY RATIO:",null,null,null,null,null,null,null,null,null,null,null,{"$f":"MAX(AP21,AP36,AP53,AP67)","v":0.28999999999999998}]
[null,null,null,null,null,null,null,null,null,null,null,null,null,null,null,null,null,null,null,null,null,null,null,null,null,null,null,null,null,null,null,null,null,null,null,null,null,null,null,null,null,null,null,null,null,null,null,null,null,null,null,null,null,null,null,null,null,null,null,null,null,null,null,null,null,null,null,null,null,null,null,null,null,null,null,null,null,null,null,null,null,null,null,null,null,null,"pepch",null,null,"pepch",null,null,"pepch",null,null,"pepch"]
[null,null,"Date",null,null,null,null,null,null,null,{"$f":"Date","v":"2017 AM"},null,null,null,null,null,null,null,null,null,null,null,null,null,null,null,null,null,null,null,null,null,null,null,null,null,null,null,null,null,null,null,null,null,null,null,null,null,null,null,null,null,null,null,null,null,null,null,null,null,null,null,null,null,null,null,null,null,null,null,null,null,null,null,null,null,null,null,null,null,null,null,null,null,null,null,{"$f":"SBR_Master","v":204},null,null,{"$f":"SBT_Master","v":510},null,null,{"$f":"SBL_Master","v":102},null,null,{"$f":"SBU_Master","v":0}]
[null,null,null,null,null,null,null,null,null,null,null,null,null,null,null,null,null,null,null,null,null,null,null,null,null,null,null,null,null,null,null,null,null,null,null,null,null,null,null,null,null,null,null,null,null,null,null,null,null,null,null,null,null,null,null,null,null,null,null,null,null,null,null,null,null,null,null,null,null,null,null,null,null,null,null,null,null,null,null,null,null,null,null,null,null,null,{"$f":"'3 - Alt Num Lanes Input'!AO99","v":1},null,null,{"$f":"'3 - Alt Num Lanes Input'!AM99","v":2},null,null,{"$f":"'3 - Alt Num Lanes Input'!AK99","v":1}]
[]
[null,null,null,null,null,null,null,null,null,null,null,null,null,null,null,null,null,null,null,null,null,null,null,null,null,null,null,null,null,null,null,null,null,null,null,null,null,null,null,null,null,null,null,null,null,null,null,null,null,null,null,null,null,null,null,null,null,null,null,null,null,null,null,null,null,null,null,null,null,null,null,null,null,null,null,null,null,null,null,null,null,null,null,null,null,null,null,null,null,null,null,null,null,null,null,null,null,null,{"$f":"'3 - Alt Num Lanes Input'!BE99","v":1},{"$f":"WBR_Master","v":51},"pepch"]
[]
[]
[null,null,null,null,null,null,null,null,null,null,null,null,null,null,null,null,null,null,null,null,null,null,null,null,null,null,null,null,null,null,null,null,null,null,null,null,null,null,null,null,null,{"$f":"CK20","v":377.86842105263156},null,null,null,null,null,null,null,null,"CLV"]
[]
[null,null,null,null,null,null,null,null,null,null,null,null,null,null,null,null,null,null,null,null,null,null,null,null,null,null,null,null,null,null,null,null,null,null,null,null,null,null,null,null,null,null,null,null,null,null,null,null,null,null,null,null,null,null,null,null,null,null,null,null,null,null,null,null,null,null,null,null,null,null,null,null,null,null,null,null,null,null,null,null,null,null,null,null,null,null,null,null,{"$f":"MAX(CO12/LTAF/CO13, CV15/LTAF/CU15)+ CP38/CP37","v":377.86842105263156}]
[null,null,null,null,null,null,null,null,null,null,null,null,null,null,null,null,null,null,null,null,null,null,null,null,null,null,null,null,null,null,null,null,null,null,null,null,null,null,null,null,null,{"$f":"ROUND(AP18/CLV_Limit_2,2)","v":0.21},null,null,null,"V/C",{"$f":"CLV_Limit_2*CB7","v":1800},null,null,null,"MAX"]
[]
[]
[null,null,null,null,null,null,null,null,null,null,null,null,null,null,null,null,null,null,null,null,null,null,null,null,null,null,null,null,null,null,null,null,null,null,null,null,null,null,null,null,null,null,null,null,null,null,"2 Phases"]
[]
[]
[null,null,null,null,null,null,null,null,null,null,null,null,null,null,null,null,null,null,null,null,null,null,null,null,null,null,null,null,null,null,null,null,null,null,null,null,null,null,null,null,null,null,null,null,null,null,null,null,null,null,null,null,null,null,null,null,null,null,null,null,null,null,null,null,null,null,null,null,null,null,null,null,null,null,null,null,null,null,null,null,null,null,null,null,null,null,null,null,null,null,null,null,null,null,null,null,null,null,{"$f":"'3 - Alt Num Lanes Input'!BC99","v":2},{"$f":"WBT_Master","v":204},"pepch"]
[]
[]
[null,null,null,null,null,null,null,null,null,null,null,null,null,null,null,null,null,null,null,null,null,null,null,null,null,null,null,null,null,null,null,null,null,null,null,null,null,null,null,null,null,null,null,null,null,null,null,null,null,null,null,null,null,null,null,null,null,null,null,null,null,null,null,null,null,null,null,null,null,null,null,null,null,null,null,null,null,null,null,null,null,null,null,null,null,null,null,null,null,null,null,null,null,null,null,null,null,null,{"$f":"'3 - Alt Num Lanes Input'!BA99","v":1},{"$f":"WBL_Master","v":31},"pepch"]
[null,null,null,null,null,null,null,null,null,null,null,null,null,null,null,null,null,null,null,null,null,null,null,null,null,null,null,null,null,null,null,null,null,null,null,null,null,null,null,null,null,null,null,null,null,null,null,null,null,null,null,null,null,null,null,null,null,null,null,null,null,null,null,null,null,null,null,null,null,null,null,null,null,null,null,null,null,null,null,null,null,null,null,null,null,null,null,null,{"$f":"MAX(CL12/CL13,CP38/CP37,CO12/LTAF/CO13)+(CV30+CV27/LTAF/CU30)","v":516.23684210526312}]
[]
[null,null,null,null,null,null,null,null,null,null,null,null,null,null,null,null,null,null,null,null,null,null,null,null,null,null,null,null,null,null,null,null,null,null,null,null,null,null,null,null,null,{"$f":"CK31","v":516.23684210526312},null,null,null,null,null,null,null,null,"CLV",null,null,null,null,null,null,null,null,null,null,null,null,null,null,null,null,null,null,null,null,null,null,null,null,null,null,null,null,null,null,null,null,null,null,null,null,null,null,null,null,null,null,null,null,null,null,null,null,{"$f":"WBU_Master","v":0},"pepch"]
[]
[]
[null,null,null,null,null,null,null,null,null,null,null,null,null,null,null,null,null,null,null,null,null,null,null,null,null,null,null,null,null,null,null,null,null,null,null,null,null,null,null,null,null,{"$f":"ROUND(AP33/CLV_Limit_2,2)","v":0.28999999999999998},null,null,null,"V/C",{"$f":"CLV_Limit_2*CB7","v":1800},null,null,null,"MAX"]
[null,null,null,null,null,null,null,null,null,null,null,null,null,null,null,null,null,null,null,null,null,null,null,null,null,null,null,null,null,null,null,null,null,null,null,null,null,null,null,null,null,null,null,null,null,null,null,null,null,null,null,null,null,null,null,null,null,null,null,null,null,null,null,null,null,null,null,null,null,null,null,null,null,null,null,null,null,null,null,null,null,null,null,null,null,null,null,null,null,null,null,null,null,{"$f":"'3 - Alt Num Lanes Input'!AE99","v":2}]
[null,null,null,null,null,null,null,null,null,null,null,null,null,null,null,null,null,null,null,null,null,null,null,null,null,null,null,null,null,null,null,null,null,null,null,null,null,null,null,null,null,null,null,null,null,null,null,null,null,null,null,null,null,null,null,null,null,null,null,null,null,null,null,null,null,null,null,null,null,null,null,null,null,null,null,null,null,null,null,null,null,null,null,null,null,null,null,null,null,null,null,null,null,{"$f":"CG47+CO67","v":541}]
[null,null,null,null,null,null,null,null,null,null,null,null,null,null,null,null,null,null,null,null,null,null,null,null,null,null,null,null,null,null,null,null,null,null,null,null,null,null,null,null,null,null,null,null,null,null,"2 Phases",null,null,null,null,null,null,null,null,null,null,null,null,null,null,null,null,null,null,null,null,null,null,null,null,null,null,null,null,null,null,null,null,null,null,null,null,null,null,null,null,null,null,null,null,null,null,"pepch"]
[null,null,null,null,null,null,null,null,null,null,null,null,null,null,null,null,null,null,null,null,null,null,null,null,null,null,null,null,null,null,null,null,null,null,null,null,null,null,null,null,null,null,null,null,null,null,null,null,null,null,null,null,null,null,null,null,null,null,null,null,null,null,null,null,null,null,null,null,null,null,null,null,null,null,null,null,null,null,null,null,null,null,null,null,null,null,null,null,"pepch"]
[null,null,null,null,null,null,null,null,null,null,null,null,null,null,null,null,null,null,null,null,null,null,null,null,null,null,null,null,null,null,null,null,null,null,null,null,null,null,null,null,null,null,null,null,null,null,null,null,null,null,null,null,null,null,null,null,null,null,null,null,null,null,null,null,null,null,null,null,null,null,null,null,null,null,null,null,null,null,null,null,null,null,null,null,null,null,null,null,{"$f":"CL12+CV30","v":541}]
[null,null,null,null,null,null,null,null,null,null,null,null,null,null,null,null,null,null,null,null,null,null,null,null,null,null,null,null,null,null,null,null,null,null,null,null,null,null,null,null,null,null,null,null,null,null,null,null,null,null,null,null,null,null,null,null,null,null,null,null,null,null,null,null,null,null,null,null,null,null,null,null,null,null,null,null,null,null,null,null,null,null,null,null,null,null,null,null,{"$f":"'3 - Alt Num Lanes Input'!AM99","v":2}]
[]
[null,null,null,null,null,null,null,null,null,null,null,null,null,null,null,null,null,null,null,null,null,null,null,null,null,null,null,null,null,null,null,null,null,null,null,null,null,null,null,null,null,null,null,null,null,null,null,null,null,null,null,null,null,null,null,null,null,null,null,null,null,null,null,null,null,null,null,null,null,null,null,null,null,null,null,null,null,null,null,null,null,null,null,"pepch",{"$f":"EBU_Master","v":0}]
[]
[]
[null,null,null,null,null,null,null,null,null,null,null,null,null,null,null,null,null,null,null,null,null,null,null,null,null,null,null,null,null,null,null,null,null,null,null,null,null,null,null,null,null,null,null,null,null,null,null,null,null,null,null,null,null,null,null,null,null,null,null,null,null,null,null,null,null,null,null,null,null,null,null,null,null,null,null,null,null,null,null,null,null,null,null,"pepch",{"$f":"EBL_Master","v":31},{"$f":"'3 - Alt Num Lanes Input'!AS99","v":1}]
[]
[null,null,null,null,null,null,null,null,null,null,null,null,null,null,null,null,null,null,null,null,null,null,null,null,null,null,null,null,null,null,null,null,null,null,null,null,null,null,null,null,null,null,null,null,null,null,null,null,null,null,null,null,null,null,null,null,null,null,null,null,null,null,null,null,null,null,null,null,null,null,null,null,null,null,null,null,null,null,null,null,null,null,null,null,null,null,null,null,{"$f":"MAX(CK41/CK42,CO67/CO66,CL67/LTAF/CL66)+(CG47+CG50/LTAF/CH47)","v":516.23684210526312}]
[null,null,null,null,null,null,null,null,null,null,null,null,null,null,null,null,null,null,null,null,null,null,null,null,null,null,null,null,null,null,null,null,null,null,null,null,null,null,null,null,null,{"$f":"CK49","v":516.23684210526312},null,null,null,null,null,null,null,null,"CLV",null,null,null,null,null,null,null,null,null,null,null,null,null,null,null,null,null,null,null,null,null,null,null,null,null,null,null,null,null,null,null,null,"pepch",{"$f":"EBT_Master","v":204},{"$f":"'3 - Alt Num Lanes Input'!AU99","v":2}]
[]
[]
[null,null,null,null,null,null,null,null,null,null,null,null,null,null,null,null,null,null,null,null,null,null,null,null,null,null,null,null,null,null,null,null,null,null,null,null,null,null,null,null,null,{"$f":"ROUND(AP50/CLV_Limit_2,2)","v":0.28999999999999998},null,null,null,"V/C",{"$f":"CLV_Limit_2*CB7","v":1800},null,null,null,"MAX"]
[]
[]
[null,null,null,null,null,null,null,null,null,null,null,null,null,null,null,null,null,null,null,null,null,null,null,null,null,null,null,null,null,null,null,null,null,null,null,null,null,null,null,null,null,null,null,null,null,null,"2 Phases"]
[]
[]
[]
[null,null,null,null,null,null,null,null,null,null,null,null,null,null,null,null,null,null,null,null,null,null,null,null,null,null,null,null,null,null,null,null,null,null,null,null,null,null,null,null,null,null,null,null,null,null,null,null,null,null,null,null,null,null,null,null,null,null,null,null,null,null,null,null,null,null,null,null,null,null,null,null,null,null,null,null,null,null,null,null,null,null,null,null,null,null,null,null,{"$f":"MAX(CL67/LTAF/CL66,CG62/LTAF/CH62)+ CK41/CK42","v":377.86842105263156}]
[]
[null,null,null,null,null,null,null,null,null,null,null,null,null,null,null,null,null,null,null,null,null,null,null,null,null,null,null,null,null,null,null,null,null,null,null,null,null,null,null,null,null,null,null,null,null,null,null,null,null,null,null,null,null,null,null,null,null,null,null,null,null,null,null,null,null,null,null,null,null,null,null,null,null,null,null,null,null,null,null,null,null,null,null,"pepch",{"$f":"EBR_Master","v":51},{"$f":"'3 - Alt Num Lanes Input'!AW99","v":1}]
[]
[null,null,null,null,null,null,null,null,null,null,null,null,null,null,null,null,null,null,null,null,null,null,null,null,null,null,null,null,null,null,null,null,null,null,null,null,null,null,null,null,null,{"$f":"CK60","v":377.86842105263156},null,null,null,null,null,null,null,null,"CLV"]
[]
[null,null,null,null,null,null,null,null,null,null,null,null,null,null,null,null,null,null,null,null,null,null,null,null,null,null,null,null,null,null,null,null,null,null,null,null,null,null,null,null,null,null,null,null,null,null,null,null,null,null,null,null,null,null,null,null,null,null,null,null,null,null,null,null,null,null,null,null,null,null,null,null,null,null,null,null,null,null,null,null,null,null,null,null,null,null,null,null,null,{"$f":"'3 - Alt Num Lanes Input'!AC99","v":1},null,null,{"$f":"'3 - Alt Num Lanes Input'!AE99","v":2},null,null,{"$f":"'3 - Alt Num Lanes Input'!AG99","v":1}]
[null,null,null,null,null,null,null,null,null,null,null,null,null,null,null,null,null,null,null,null,null,null,null,null,null,null,null,null,null,null,null,null,null,null,null,null,null,null,null,null,null,{"$f":"ROUND(AP64/CLV_Limit_2,2)","v":0.21},null,null,null,"V/C",{"$f":"CLV_Limit_2*CB7","v":1800},null,null,null,"MAX",null,null,null,null,null,null,null,null,null,null,null,null,null,null,null,null,null,null,null,null,null,null,null,null,null,null,null,null,null,null,null,null,null,null,null,{"$f":"NBU_Master","v":0},null,null,{"$f":"NBL_Master","v":102},null,null,{"$f":"NBT_Master","v":510},null,null,{"$f":"NBR_Master","v":204}]
[null,null,null,null,null,null,null,null,null,null,null,null,null,null,null,null,null,null,null,null,null,null,null,null,null,null,null,null,null,null,null,null,null,null,null,null,null,null,null,null,null,null,null,null,null,null,null,null,null,null,null,null,null,null,null,null,null,null,null,null,null,null,null,null,null,null,null,null,null,null,null,null,null,null,null,null,null,null,null,null,null,null,null,null,null,null,"pepch",null,null,"pepch",null,null,"pepch",null,null,"pepch"]
[]
[null,null,null,null,null,null,null,null,null,null,null,null,null,null,null,null,null,null,null,null,null,null,null,null,null,null,null,null,null,null,null,null,null,null,null,null,null,null,null,null,null,null,null,null,null,null,"2 Phases"]
[]
[]
[]
[null,null,null,null,null,null,null,null,null,null,null,null,null,"Note: This diagram does not reflect the actual lane configuration of the Intersection"]

{"sheet":"DLTI E-W ","index":52,"n_rows":93,"n_cols":76,"rows_kept":93,"cut":false,"hidden":false,"merged":[[77,25,77,27],[90,52,90,54],[9,67,12,78],[58,1,59,79],[70,34,70,36],[71,12,74,14],[71,25,74,27],[71,28,74,30],[71,31,74,33],[54,23,54,56],[75,49,77,49],[75,50,77,53],[76,12,76,14],[76,25,76,27],[76,28,76,30],[76,31,76,33],[77,12,77,14],[77,28,77,33],[75,12,75,14],[75,25,75,27],[75,28,75,30],[75,31,75,33],[75,47,77,47],[75,48,77,48],[0,1,1,79],[2,1,3,79],[5,2,6,9],[5,10,6,54],[56,1,57,79],[7,2,8,9],[7,10,8,54],[9,2,10,9],[9,10,10,54],[11,2,12,9],[11,10,12,54],[5,55,6,78],[7,55,8,60],[7,61,8,66],[7,67,8,72],[7,73,8,78],[9,55,12,66],[16,5,18,13],[16,14,18,14],[19,5,21,8],[19,9,21,9],[19,10,21,13],[19,14,21,14],[16,19,18,27],[78,73,80,73],[78,74,80,77],[81,3,83,6],[81,7,83,7],[81,8,83,8],[81,9,83,9],[81,12,83,19],[81,26,83,33],[81,36,83,36],[81,37,83,37],[78,3,80,6],[78,7,80,7],[78,8,80,8],[78,9,80,9],[78,71,80,71],[78,72,80,72],[81,73,83,73],[81,74,83,77],[81,47,83,54],[81,61,83,68],[81,71,83,71],[81,72,83,72],[81,38,83,38],[81,39,83,42],[84,73,86,73],[84,74,86,77],[87,3,89,6],[87,7,89,7],[87,8,89,8],[87,9,89,9],[87,71,89,71],[87,72,89,72],[87,73,89,73],[87,74,89,77],[84,43,86,43],[84,44,86,44],[84,47,86,54],[84,61,86,68],[84,71,86,71],[84,72,86,72],[84,3,86,6],[84,7,86,7],[84,8,86,8],[84,9,86,9],[84,12,86,19],[84,26,86,33],[84,38,86,41],[84,42,86,42],[92,66,92,68],[93,46,96,48],[93,49,96,51],[93,52,96,54],[93,66,96,68],[90,27,92,30],[90,31,92,31],[90,32,92,32],[90,33,92,33],[90,46,90,51],[90,66,90,68],[91,46,91,48],[91,49,91,51],[91,52,91,54],[91,66,91,68],[92,46,92,48],[92,49,92,51],[92,52,92,54],[62,17,63,18],[22,71,22,75],[22,57,22,61],[22,24,22,28],[22,10,22,14],[16,66,18,74],[16,75,18,75],[19,66,21,69],[19,70,21,70],[19,71,21,74],[19,75,21,75],[19,23,21,23],[19,24,21,27],[19,28,21,28],[16,52,18,60],[16,61,18,61],[19,52,21,55],[19,56,21,56],[19,57,21,60],[19,61,21,61],[16,28,18,28],[19,19,21,22],[62,3,64,16]]}
[null,"Displaced Left Turn Interchange (E-W)"]
[]
[null,"Design and Results"]
[]
[]
[null,null,"Project Name:",null,null,null,null,null,null,null,{"$f":"P_Name","v":"Cap-X Sample Street"},null,null,null,null,null,null,null,null,null,null,null,null,null,null,null,null,null,null,null,null,null,null,null,null,null,null,null,null,null,null,null,null,null,null,null,null,null,null,null,null,null,null,null,null,"Volume-to-Capacity Ratio"]
[]
[null,null,"Project Number:",null,null,null,null,null,null,null,{"$f":"P_Number","v":10000},null,null,null,null,null,null,null,null,null,null,null,null,null,null,null,null,null,null,null,null,null,null,null,null,null,null,null,null,null,null,null,null,null,null,null,null,null,null,null,null,null,null,null,null,"< 0.750",null,null,null,null,null,"0.750 - 0.875",null,null,null,null,null,"0.875 - 1.00",null,null,null,null,null,"≥ 1.00"]
[]
[null,null,"Location",null,null,null,null,null,null,null,{"$f":"Location","v":"Tallahassee, FL"},null,null,null,null,null,null,null,null,null,null,null,null,null,null,null,null,null,null,null,null,null,null,null,null,null,null,null,null,null,null,null,null,null,null,null,null,null,null,null,null,null,null,null,null,"VOLUME / CAPACITY RATIO:",null,null,null,null,null,null,null,null,null,null,null,{"$f":"MAX(F20,T20,BA20,BO20)","v":0.43}]
[]
[null,null,"Date",null,null,null,null,null,null,null,{"$f":"Date","v":"2017 AM"}]
[]
[]
[]
[]
[null,null,null,null,null,{"$f":"M85","v":367.73684210526318},null,null,null,null,null,null,null,null,"CLV",null,null,null,null,{"$f":"AA85","v":260.36842105263156},null,null,null,null,null,null,null,null,"CLV",null,null,null,null,null,null,null,null,null,null,null,null,null,null,null,null,null,null,null,null,null,null,null,{"$f":"AV85","v":770.36842105263156},null,null,null,null,null,null,null,null,"CLV",null,null,null,null,{"$f":"BJ85","v":367.73684210526318},null,null,null,null,null,null,null,null,"CLV"]
[]
[]
[null,null,null,null,null,{"$f":"ROUND(F17/CLV_Limit_2,2)","v":0.2},null,null,null,"V/C",{"$f":"CLV_Limit_2*R63","v":1800},null,null,null,"MAX",null,null,null,null,{"$f":"ROUND(T17/CLV_Limit_2,2)","v":0.14000000000000001},null,null,null,"V/C",{"$f":"CLV_Limit_2*R63","v":1800},null,null,null,"MAX",null,null,null,null,null,null,null,null,null,null,null,null,null,null,null,null,null,null,null,null,null,null,null,{"$f":"ROUND(BA17/CLV_Limit_2,2)","v":0.43},null,null,null,"V/C",{"$f":"CLV_Limit_2*R63","v":1800},null,null,null,"MAX",null,null,null,null,{"$f":"ROUND(BO17/CLV_Limit_2,2)","v":0.2},null,null,null,"V/C",{"$f":"CLV_Limit_2*R63","v":1800},null,null,null,"MAX"]
[]
[]
[null,null,null,null,null,null,null,null,null,null,"2 Phases",null,null,null,null,null,null,null,null,null,null,null,null,null,"2 Phases",null,null,null,null,null,null,null,null,null,null,null,null,null,null,null,null,null,null,null,null,null,null,null,null,null,null,null,null,null,null,null,null,"2 Phases",null,null,null,null,null,null,null,null,null,null,null,null,null,"2 Phases"]
[]
[]
[]
[]
[]
[]
[]
[]
[]
[]
[]
[]
[]
[]
[]
[]
[]
[]
[]
[]
[]
[]
[]
[]
[]
[]
[]
[]
[]
[]
[]
[null,null,null,null,null,null,null,null,null,null,null,null,null,null,null,null,null,null,null,null,null,null,null,"Note: This diagram does not reflect the actual lane configuration of the Intersection"]
[]
[null,"Displaced Left Turn Interchange (E-W)"]
[]
[null,"Data Input and Configuration"]
[]
[]
[]
[null,null,null,"Multimodal Capacity Adjustment Factor",null,null,null,null,null,null,null,null,null,null,null,null,null,{"$f":"IF(Multimodal=1,1,IF(MAX(J85,BT82)<3,1,IF(MAX(J85,BT82)<4,0.9,0.8)))","v":1}]
[]
[]
[]
[]
[]
[]
[]
[]
[]
[]
[]
[]
[null,null,null,null,null,null,null,null,null,null,null,null,"pepch",null,null,null,null,null,null,null,null,null,null,null,null,"pepch",null,null,"pepch",null,null,"pepch",null,null,null,null,null,null,null,null,null,null,null,null,null,null,null,{"$f":"'3 - Alt Num Lanes Input'!BC101","v":2},{"$f":"BU82","v":204},"pepch"]
[null,null,null,null,null,null,null,null,null,null,null,null,{"$f":"SBR_Master","v":204},null,null,null,null,null,null,null,null,null,null,null,null,{"$f":"SBT_Master","v":510},null,null,{"$f":"SBL_Master","v":102},null,null,{"$f":"SBU_Master","v":0}]
[null,null,null,null,null,null,null,null,null,null,null,null,{"$f":"'3 - Alt Num Lanes Input'!AO101","v":1},null,null,null,null,null,null,null,null,null,null,null,null,{"$f":"'3 - Alt Num Lanes Input'!AM101","v":2},null,null,{"$f":"'3 - Alt Num Lanes Input'!AK101","v":1}]
[null,null,null,null,null,null,null,"pepch",{"$f":"EBU_Master","v":0},null,null,null,null,null,null,null,null,null,null,null,null,null,null,null,null,null,null,null,null,null,null,null,null,null,null,null,null,null,null,null,null,null,null,null,null,null,null,null,null,null,null,null,null,null,null,null,null,null,null,null,null,null,null,null,null,null,null,null,null,null,null,{"$f":"'3 - Alt Num Lanes Input'!BE101","v":1},{"$f":"WBR_Master","v":51},"pepch"]
[]
[]
[null,null,null,null,null,null,null,"pepch",{"$f":"EBL_Master","v":31},{"$f":"'3 - Alt Num Lanes Input'!AS101","v":1},null,null,null,null,null,null,null,null,null,null,null,null,null,null,null,null,null,null,null,null,null,null,null,null,null,null,{"$f":"'3 - Alt Num Lanes Input'!BC101","v":2},{"$f":"BU82+AX92","v":306},"pepch",null,null,null,null,null,null,null,null,null,null,null,null,null,null,null,null,null,null,null,null,null,null,null,null,null,null,null,null,null,null,null,null,{"$f":"'3 - Alt Num Lanes Input'!BC101","v":2},{"$f":"WBT_Master","v":204},"pepch"]
[]
[]
[null,null,null,null,null,null,null,"pepch",{"$f":"EBT_Master","v":204},{"$f":"'3 - Alt Num Lanes Input'!AU101","v":2},null,null,{"$f":"MAX(M77/LTAF/M78, I82/LTAF/J82)+ AL82/AK82","v":367.73684210526318},null,null,null,null,null,null,null,null,null,null,null,null,null,{"$f":"MAX(AL82/AK82,I85/J85,I82/LTAF/J82)+(AC77/LTAF/AC78)","v":260.36842105263156},null,null,null,null,null,null,null,null,null,null,null,null,null,null,null,"pepch",{"$f":"I85+AC77","v":306},{"$f":"'3 - Alt Num Lanes Input'!AU101","v":2},null,null,{"$f":"MAX(BU82/BT82,AR85/AS85,BU85/LTAF/BT85)+((AX92/LTAF)+BA92)/AU91","v":770.36842105263156},null,null,null,null,null,null,null,null,null,null,null,null,null,{"$f":"MAX(BU85/LTAF/BT85,BO92/LTAF/BO91)+ AR85/AS85","v":367.73684210526318},null,null,null,null,null,null,null,null,null,{"$f":"'3 - Alt Num Lanes Input'!BA101","v":1},{"$f":"WBL_Master","v":31},"pepch"]
[]
[]
[null,null,null,null,null,null,null,"pepch",{"$f":"EBR_Master","v":51},{"$f":"'3 - Alt Num Lanes Input'!AW101","v":1},null,null,null,null,null,null,null,null,null,null,null,null,null,null,null,null,null,null,null,null,null,null,null,null,null,null,null,null,null,null,null,null,null,null,null,null,null,null,null,null,null,null,null,null,null,null,null,null,null,null,null,null,null,null,null,null,null,null,null,null,null,null,{"$f":"WBU_Master","v":0},"pepch"]
[]
[]
[null,null,null,null,null,null,null,null,null,null,null,null,null,null,null,null,null,null,null,null,null,null,null,null,null,null,null,null,null,null,null,"pepch",{"$f":"I85","v":204},{"$f":"'3 - Alt Num Lanes Input'!AU101","v":2},null,null,null,null,null,null,null,null,null,null,null,null,{"$f":"'3 - Alt Num Lanes Input'!AC101","v":1},null,null,null,null,null,{"$f":"'3 - Alt Num Lanes Input'!AE101","v":2},null,null,null,null,null,null,null,null,null,null,null,null,null,{"$f":"'3 - Alt Num Lanes Input'!AG101","v":1}]
[null,null,null,null,null,null,null,null,null,null,null,null,null,null,null,null,null,null,null,null,null,null,null,null,null,null,null,null,null,null,null,null,null,null,null,null,null,null,null,null,null,null,null,null,null,null,{"$f":"NBU_Master","v":0},null,null,{"$f":"NBL_Master","v":102},null,null,{"$f":"NBT_Master","v":510},null,null,null,null,null,null,null,null,null,null,null,null,null,{"$f":"NBR_Master","v":204}]
[null,null,null,null,null,null,null,null,null,null,null,null,null,null,null,null,null,null,null,null,null,null,null,null,null,null,null,null,null,null,null,null,null,null,null,null,null,null,null,null,null,null,null,null,null,null,"pepch",null,null,"pepch",null,null,"pepch",null,null,null,null,null,null,null,null,null,null,null,null,null,"pepch"]

{"sheet":"DDI N-S","index":53,"n_rows":74,"n_cols":112,"rows_kept":74,"cut":false,"hidden":false,"merged":[[11,2,12,9],[11,10,12,35],[7,36,8,41],[7,42,8,47],[7,48,8,53],[7,54,8,59],[9,36,12,47],[9,48,12,59],[0,1,1,60],[2,1,3,60],[5,2,6,9],[5,10,6,35],[5,36,6,59],[7,2,8,9],[7,10,8,35],[9,2,10,9],[9,10,10,35],[10,79,10,81],[10,82,10,84],[10,85,10,87],[11,79,11,81],[0,63,1,122],[2,63,3,122],[5,79,8,81],[5,82,8,84],[5,85,8,87],[9,79,9,81],[9,82,9,84],[9,85,9,87],[11,82,11,87],[73,13,73,48],[17,110,19,110],[17,111,19,111],[28,94,31,96],[29,99,31,106],[29,109,34,109],[29,110,31,110],[29,111,31,111],[55,89,58,91],[56,79,58,86],[56,94,58,101],[59,70,61,73],[59,74,61,74],[59,75,61,75],[59,76,61,76],[59,79,61,86],[59,89,59,91],[59,94,61,101],[67,98,67,100],[67,101,67,103],[67,104,67,106],[68,98,71,100],[68,101,71,103],[68,104,71,106],[17,112,19,115],[18,84,20,91],[18,94,21,96],[18,99,20,106],[15,84,17,91],[15,94,15,96],[15,99,17,106],[16,94,16,96],[17,94,17,96],[17,109,19,109],[29,112,31,115],[32,94,32,96],[32,99,34,106],[32,110,34,110],[32,111,34,111],[44,89,44,91],[45,70,47,73],[45,74,47,74],[45,75,47,75],[45,79,47,86],[45,89,48,91],[32,112,34,115],[33,94,33,96],[34,94,34,96],[42,70,44,73],[42,74,44,74],[42,75,44,75],[42,76,47,76],[42,79,44,86],[42,89,42,91],[43,89,43,91],[30,4,32,12],[30,13,32,13],[33,4,35,7],[33,8,35,8],[33,9,35,12],[33,13,35,13],[52,48,54,56],[52,57,54,57],[55,48,57,51],[55,52,57,52],[55,53,57,56],[55,57,57,57],[46,4,48,12],[46,13,48,13],[49,4,51,7],[49,8,51,8],[49,9,51,12],[36,9,36,13],[41,53,41,57],[58,53,58,57],[60,89,60,91],[61,89,61,91],[65,104,65,106],[66,98,66,100],[66,101,66,103],[66,104,66,106],[65,98,65,103],[23,48,25,56],[23,57,25,57],[26,48,28,51],[26,52,28,52],[26,53,28,56],[26,57,28,57],[35,48,37,56],[35,57,37,57],[38,48,40,51],[38,52,40,52],[38,53,40,56],[38,57,40,57],[29,53,29,57],[65,9,65,13],[52,9,52,13],[49,13,51,13],[59,4,61,12],[59,13,61,13],[62,4,64,7],[62,8,64,8],[62,9,64,12],[62,13,64,13]]}
[null,"Diverging Diamond Interchange (N-S)",null,null,null,null,null,null,null,null,null,null,null,null,null,null,null,null,null,null,null,null,null,null,null,null,null,null,null,null,null,null,null,null,null,null,null,null,null,null,null,null,null,null,null,null,null,null,null,null,null,null,null,null,null,null,null,null,null,null,null,null,null,"Diverging Diamond Interchange (N-S)"]
[]
[null,"Design and Results",null,null,null,null,null,null,null,null,null,null,null,null,null,null,null,null,null,null,null,null,null,null,null,null,null,null,null,null,null,null,null,null,null,null,null,null,null,null,null,null,null,null,null,null,null,null,null,null,null,null,null,null,null,null,null,null,null,null,null,null,null,"Data Input and Configuration"]
[]
[]
[null,null,"Project Name:",null,null,null,null,null,null,null,{"$f":"P_Name","v":"Cap-X Sample Street"},null,null,null,null,null,null,null,null,null,null,null,null,null,null,null,null,null,null,null,null,null,null,null,null,null,"Volume-to-Capacity Ratio"]
[]
[null,null,"Project Number:",null,null,null,null,null,null,null,{"$f":"P_Number","v":10000},null,null,null,null,null,null,null,null,null,null,null,null,null,null,null,null,null,null,null,null,null,null,null,null,null,"< 0.750",null,null,null,null,null,"0.750 - 0.875",null,null,null,null,null,"0.875 - 1.00",null,null,null,null,null,"≥ 1.00"]
[]
[null,null,"Location",null,null,null,null,null,null,null,{"$f":"Location","v":"Tallahassee, FL"},null,null,null,null,null,null,null,null,null,null,null,null,null,null,null,null,null,null,null,null,null,null,null,null,null,"VOLUME / CAPACITY RATIO:",null,null,null,null,null,null,null,null,null,null,null,{"$f":"MAX(E34,AW27,AW39,AW56,E50,E63)","v":0.32},null,null,null,null,null,null,null,null,null,null,null,null,null,null,null,null,null,null,null,null,null,null,null,null,null,null,null,null,null,null,"pepch",null,null,"pepch",null,null,"pepch"]
[null,null,null,null,null,null,null,null,null,null,null,null,null,null,null,null,null,null,null,null,null,null,null,null,null,null,null,null,null,null,null,null,null,null,null,null,null,null,null,null,null,null,null,null,null,null,null,null,null,null,null,null,null,null,null,null,null,null,null,null,null,null,null,null,null,null,null,null,null,null,null,null,null,null,null,null,null,null,null,{"$f":"SBR_Master","v":204},null,null,{"$f":"SBT_Master","v":510},null,null,{"$f":"SBL_Master","v":102}]
[null,null,"Date",null,null,null,null,null,null,null,{"$f":"Date","v":"2017 AM"},null,null,null,null,null,null,null,null,null,null,null,null,null,null,null,null,null,null,null,null,null,null,null,null,null,null,null,null,null,null,null,null,null,null,null,null,null,null,null,null,null,null,null,null,null,null,null,null,null,null,null,null,null,null,null,null,null,null,null,null,null,null,null,null,null,null,null,null,{"$f":"'3 - Alt Num Lanes Input'!AO103","v":1},null,null,{"$f":"'3 - Alt Num Lanes Input'!AM103","v":2}]
[]
[]
[]
[null,null,null,null,null,null,null,null,null,null,null,null,null,null,null,null,null,null,null,null,null,null,null,null,null,null,null,null,null,null,null,null,null,null,null,null,null,null,null,null,null,null,null,null,null,null,null,null,null,null,null,null,null,null,null,null,null,null,null,null,null,null,null,null,null,null,null,null,null,null,null,null,null,null,null,null,null,null,null,null,null,null,null,null,null,null,null,null,null,null,null,null,null,null,{"$f":"CU66","v":2}]
[null,null,null,null,null,null,null,null,null,null,null,null,null,null,null,null,null,null,null,null,null,null,null,null,null,null,null,null,null,null,null,null,null,null,null,null,null,null,null,null,null,null,null,null,null,null,null,null,null,null,null,null,null,null,null,null,null,null,null,null,null,null,null,null,null,null,null,null,null,null,null,null,null,null,null,null,null,null,null,null,null,null,null,null,null,null,null,null,null,null,null,null,null,null,{"$f":"BX46+CX67","v":541}]
[null,null,null,null,null,null,null,null,null,null,null,null,null,null,null,null,null,null,null,null,null,null,null,null,null,null,null,null,null,null,null,null,null,null,null,null,null,null,null,null,null,null,null,null,null,null,null,null,null,null,null,null,null,null,null,null,null,null,null,null,null,null,null,null,null,null,null,null,null,null,null,null,null,null,null,null,null,null,null,null,null,null,null,null,null,null,null,null,null,null,null,null,null,null,"pepch",null,null,null,null,null,null,null,null,null,null,null,null,null,null,{"$f":"'3 - Alt Num Lanes Input'!BE103","v":1},{"$f":"WBR_Master","v":51},"pepch"]
[null,null,null,null,null,null,null,null,null,null,null,null,null,null,null,null,null,null,null,null,null,null,null,null,null,null,null,null,null,null,null,null,null,null,null,null,null,null,null,null,null,null,null,null,null,null,null,null,null,null,null,null,null,null,null,null,null,null,null,null,null,null,null,null,null,null,null,null,null,null,null,null,null,null,null,null,null,null,null,null,null,null,null,null,{"$f":"CQ17/CQ16 + CQ34/CQ35","v":576.5},null,null,null,null,null,null,null,null,null,null,null,null,null,null,{"$f":"CQ17/CQ16+ DG18/LTAF/DF18","v":324.18421052631578}]
[]
[]
[]
[]
[null,null,null,null,null,null,null,null,null,null,null,null,null,null,null,null,null,null,null,null,null,null,null,null,null,null,null,null,null,null,null,null,null,null,null,null,null,null,null,null,null,null,null,null,null,null,null,null,{"$f":"CV19","v":324.18421052631578},null,null,null,null,null,null,null,null,"CLV"]
[]
[]
[null,null,null,null,null,null,null,null,null,null,null,null,null,null,null,null,null,null,null,null,null,null,null,null,null,null,null,null,null,null,null,null,null,null,null,null,null,null,null,null,null,null,null,null,null,null,null,null,{"$f":"ROUND(AW24/CLV_Limit_2,2)","v":0.18},null,null,null,"V/C",{"$f":"CLV_Limit_2","v":1800},null,null,null,"MAX"]
[]
[]
[null,null,null,null,null,null,null,null,null,null,null,null,null,null,null,null,null,null,null,null,null,null,null,null,null,null,null,null,null,null,null,null,null,null,null,null,null,null,null,null,null,null,null,null,null,null,null,null,null,null,null,null,null,"2 Phases",null,null,null,null,null,null,null,null,null,null,null,null,null,null,null,null,null,null,null,null,null,null,null,null,null,null,null,null,null,null,null,null,null,null,null,null,null,null,null,null,null,null,null,null,null,null,null,null,null,null,null,null,null,null,null,{"$f":"'3 - Alt Num Lanes Input'!BA103","v":1},{"$f":"WBL_Master","v":31},"pepch"]
[null,null,null,null,{"$f":"CG19","v":576.5},null,null,null,null,null,null,null,null,"CLV"]
[]
[null,null,null,null,null,null,null,null,null,null,null,null,null,null,null,null,null,null,null,null,null,null,null,null,null,null,null,null,null,null,null,null,null,null,null,null,null,null,null,null,null,null,null,null,null,null,null,null,null,null,null,null,null,null,null,null,null,null,null,null,null,null,null,null,null,null,null,null,null,null,null,null,null,null,null,null,null,null,null,null,null,null,null,null,null,null,null,null,null,null,null,null,null,null,"pepch",null,null,null,null,{"$f":"(DG30/LTAF +DG33/UTAF)/DF30 +CQ34/CQ35","v":338.63157894736844},null,null,null,null,null,null,null,null,null,null,{"$f":"WBU_Master","v":0},"pepch"]
[null,null,null,null,{"$f":"ROUND(E31/CLV_Limit_2,2)","v":0.32},null,null,null,"V/C",{"$f":"CLV_Limit_2","v":1800},null,null,null,"MAX",null,null,null,null,null,null,null,null,null,null,null,null,null,null,null,null,null,null,null,null,null,null,null,null,null,null,null,null,null,null,null,null,null,null,null,null,null,null,null,null,null,null,null,null,null,null,null,null,null,null,null,null,null,null,null,null,null,null,null,null,null,null,null,null,null,null,null,null,null,null,null,null,null,null,null,null,null,null,null,null,{"$f":"CE11+CH11","v":612}]
[null,null,null,null,null,null,null,null,null,null,null,null,null,null,null,null,null,null,null,null,null,null,null,null,null,null,null,null,null,null,null,null,null,null,null,null,null,null,null,null,null,null,null,null,null,null,null,null,null,null,null,null,null,null,null,null,null,null,null,null,null,null,null,null,null,null,null,null,null,null,null,null,null,null,null,null,null,null,null,null,null,null,null,null,null,null,null,null,null,null,null,null,null,null,{"$f":"CE12","v":2}]
[null,null,null,null,null,null,null,null,null,null,null,null,null,null,null,null,null,null,null,null,null,null,null,null,null,null,null,null,null,null,null,null,null,null,null,null,null,null,null,null,null,null,null,null,null,null,null,null,{"$f":"CV33","v":338.63157894736844},null,null,null,null,null,null,null,null,"CLV"]
[null,null,null,null,null,null,null,null,null,"2 Phases"]
[]
[null,null,null,null,null,null,null,null,null,null,null,null,null,null,null,null,null,null,null,null,null,null,null,null,null,null,null,null,null,null,null,null,null,null,null,null,null,null,null,null,null,null,null,null,null,null,null,null,{"$f":"ROUND(AW36/CLV_Limit_2,2)","v":0.19},null,null,null,"V/C",{"$f":"CLV_Limit_2","v":1800},null,null,null,"MAX"]
[]
[]
[null,null,null,null,null,null,null,null,null,null,null,null,null,null,null,null,null,null,null,null,null,null,null,null,null,null,null,null,null,null,null,null,null,null,null,null,null,null,null,null,null,null,null,null,null,null,null,null,null,null,null,null,null,"2 Phases"]
[null,null,null,null,null,null,null,null,null,null,null,null,null,null,null,null,null,null,null,null,null,null,null,null,null,null,null,null,null,null,null,null,null,null,null,null,null,null,null,null,null,null,null,null,null,null,null,null,null,null,null,null,null,null,null,null,null,null,null,null,null,null,null,null,null,null,null,null,null,null,null,null,null,null,"pepch",{"$f":"EBU_Master","v":0},{"$f":"'3 - Alt Num Lanes Input'!AS103","v":1},null,null,null,null,null,null,null,null,null,null,null,null,{"$f":"CU66","v":2}]
[null,null,null,null,null,null,null,null,null,null,null,null,null,null,null,null,null,null,null,null,null,null,null,null,null,null,null,null,null,null,null,null,null,null,null,null,null,null,null,null,null,null,null,null,null,null,null,null,null,null,null,null,null,null,null,null,null,null,null,null,null,null,null,null,null,null,null,null,null,null,null,null,null,null,null,null,null,null,null,null,null,null,null,null,null,null,null,null,null,{"$f":"CX67+CU67","v":612}]
[null,null,null,null,null,null,null,null,null,null,null,null,null,null,null,null,null,null,null,null,null,null,null,null,null,null,null,null,null,null,null,null,null,null,null,null,null,null,null,null,null,null,null,null,null,null,null,null,null,null,null,null,null,null,null,null,null,null,null,null,null,null,null,null,null,null,null,null,null,null,null,null,null,null,null,null,null,null,null,null,null,null,null,null,null,null,null,null,null,"pepch"]
[null,null,null,null,null,null,null,null,null,null,null,null,null,null,null,null,null,null,null,null,null,null,null,null,null,null,null,null,null,null,null,null,null,null,null,null,null,null,null,null,null,null,null,null,null,null,null,null,null,null,null,null,null,null,null,null,null,null,null,null,null,null,null,null,null,null,null,null,null,null,null,null,null,null,"pepch",{"$f":"EBL_Master","v":31},null,null,null,{"$f":"CL44/CL43+((BX46/LTAF)+(BX43/UTAF)/BY43)","v":338.63157894736844}]
[null,null,null,null,{"$f":"CB46","v":338.63157894736844},null,null,null,null,null,null,null,null,"CLV"]
[]
[]
[null,null,null,null,{"$f":"ROUND(E47/CLV_Limit_2,2)","v":0.19},null,null,null,"V/C",{"$f":"CLV_Limit_2","v":1800},null,null,null,"MAX"]
[]
[]
[null,null,null,null,null,null,null,null,null,"2 Phases",null,null,null,null,null,null,null,null,null,null,null,null,null,null,null,null,null,null,null,null,null,null,null,null,null,null,null,null,null,null,null,null,null,null,null,null,null,null,{"$f":"CQ60","v":576.5},null,null,null,null,null,null,null,null,"CLV"]
[]
[]
[null,null,null,null,null,null,null,null,null,null,null,null,null,null,null,null,null,null,null,null,null,null,null,null,null,null,null,null,null,null,null,null,null,null,null,null,null,null,null,null,null,null,null,null,null,null,null,null,{"$f":"ROUND(AW53/CLV_Limit_2,2)","v":0.32},null,null,null,"V/C",{"$f":"CLV_Limit_2","v":1800},null,null,null,"MAX"]
[]
[]
[null,null,null,null,null,null,null,null,null,null,null,null,null,null,null,null,null,null,null,null,null,null,null,null,null,null,null,null,null,null,null,null,null,null,null,null,null,null,null,null,null,null,null,null,null,null,null,null,null,null,null,null,null,"2 Phases"]
[null,null,null,null,{"$f":"CB60","v":324.18421052631578},null,null,null,null,null,null,null,null,"CLV",null,null,null,null,null,null,null,null,null,null,null,null,null,null,null,null,null,null,null,null,null,null,null,null,null,null,null,null,null,null,null,null,null,null,null,null,null,null,null,null,null,null,null,null,null,null,null,null,null,null,null,null,null,null,null,null,null,null,null,null,"pepch",{"$f":"EBR_Master","v":51},{"$f":"'3 - Alt Num Lanes Input'!AW103","v":1},null,null,{"$f":"CL61/CL62+BX60/LTAF/BY60","v":324.18421052631578},null,null,null,null,null,null,null,null,null,"pepch",null,null,null,null,{"$f":"CL61/CL62 +CL44/CL43","v":576.5}]
[null,null,null,null,null,null,null,null,null,null,null,null,null,null,null,null,null,null,null,null,null,null,null,null,null,null,null,null,null,null,null,null,null,null,null,null,null,null,null,null,null,null,null,null,null,null,null,null,null,null,null,null,null,null,null,null,null,null,null,null,null,null,null,null,null,null,null,null,null,null,null,null,null,null,null,null,null,null,null,null,null,null,null,null,null,null,null,null,null,{"$f":"CE11+DG30","v":541}]
[null,null,null,null,null,null,null,null,null,null,null,null,null,null,null,null,null,null,null,null,null,null,null,null,null,null,null,null,null,null,null,null,null,null,null,null,null,null,null,null,null,null,null,null,null,null,null,null,null,null,null,null,null,null,null,null,null,null,null,null,null,null,null,null,null,null,null,null,null,null,null,null,null,null,null,null,null,null,null,null,null,null,null,null,null,null,null,null,null,{"$f":"CE12","v":2}]
[null,null,null,null,{"$f":"ROUND(E60/CLV_Limit_2,2)","v":0.18},null,null,null,"V/C",{"$f":"CLV_Limit_2","v":1800},null,null,null,"MAX"]
[]
[]
[null,null,null,null,null,null,null,null,null,"2 Phases",null,null,null,null,null,null,null,null,null,null,null,null,null,null,null,null,null,null,null,null,null,null,null,null,null,null,null,null,null,null,null,null,null,null,null,null,null,null,null,null,null,null,null,null,null,null,null,null,null,null,null,null,null,null,null,null,null,null,null,null,null,null,null,null,null,null,null,null,null,null,null,null,null,null,null,null,null,null,null,null,null,null,null,null,null,null,null,null,{"$f":"'3 - Alt Num Lanes Input'!AE103","v":2},null,null,null,null,null,{"$f":"'3 - Alt Num Lanes Input'!AG103","v":1}]
[null,null,null,null,null,null,null,null,null,null,null,null,null,null,null,null,null,null,null,null,null,null,null,null,null,null,null,null,null,null,null,null,null,null,null,null,null,null,null,null,null,null,null,null,null,null,null,null,null,null,null,null,null,null,null,null,null,null,null,null,null,null,null,null,null,null,null,null,null,null,null,null,null,null,null,null,null,null,null,null,null,null,null,null,null,null,null,null,null,null,null,null,null,null,null,null,null,null,{"$f":"NBL_Master","v":102},null,null,{"$f":"NBT_Master","v":510},null,null,{"$f":"NBR_Master","v":204}]
[null,null,null,null,null,null,null,null,null,null,null,null,null,null,null,null,null,null,null,null,null,null,null,null,null,null,null,null,null,null,null,null,null,null,null,null,null,null,null,null,null,null,null,null,null,null,null,null,null,null,null,null,null,null,null,null,null,null,null,null,null,null,null,null,null,null,null,null,null,null,null,null,null,null,null,null,null,null,null,null,null,null,null,null,null,null,null,null,null,null,null,null,null,null,null,null,null,null,"pepch",null,null,"pepch",null,null,"pepch"]
[]
[]
[]
[]
[]
[null,null,null,null,null,null,null,null,null,null,null,null,null,"Note: This diagram does not reflect the actual lane configuration of the Intersection"]

{"sheet":"DDI E-W","index":54,"n_rows":98,"n_cols":78,"rows_kept":98,"cut":false,"hidden":false,"merged":[[0,1,1,79],[2,1,3,79],[5,2,6,9],[5,10,6,54],[71,3,71,5],[71,42,71,44],[71,45,71,47],[7,2,8,9],[7,10,8,54],[9,2,10,9],[9,10,10,54],[11,2,12,9],[11,10,12,54],[7,55,8,60],[7,61,8,66],[7,67,8,72],[5,55,6,78],[7,73,8,78],[9,55,12,66],[9,67,12,78],[54,22,54,57],[16,3,18,11],[16,12,18,12],[19,3,21,6],[72,3,72,5],[72,42,72,47],[56,1,57,79],[58,1,59,79],[66,3,69,5],[66,42,69,44],[66,45,69,47],[70,3,70,5],[70,42,70,44],[70,45,70,47],[69,8,71,15],[72,8,74,15],[75,63,77,63],[75,64,77,64],[75,65,77,68],[69,32,71,39],[78,62,83,62],[78,63,80,63],[78,64,80,64],[78,65,80,68],[81,52,83,59],[81,63,83,63],[75,62,77,62],[78,8,80,8],[78,9,80,9],[78,10,80,10],[78,11,80,14],[78,33,80,36],[78,37,80,37],[72,32,74,39],[78,38,80,38],[78,39,80,39],[87,70,89,70],[87,71,89,71],[81,20,83,27],[84,11,86,14],[84,15,86,15],[84,16,86,16],[84,20,86,27],[93,40,95,47],[93,64,95,71],[87,40,89,40],[87,41,89,41],[87,42,89,42],[87,43,89,46],[87,65,89,68],[87,69,89,69],[87,11,89,14],[87,15,89,15],[87,16,89,16],[81,64,83,64],[81,65,83,68],[84,52,86,59],[84,17,89,17],[96,40,98,47],[96,64,98,71],[90,11,92,14],[90,15,92,15],[90,16,92,16],[98,32,101,34],[98,35,101,37],[98,74,101,76],[95,32,95,37],[95,74,95,76],[96,32,96,34],[96,35,96,37],[96,74,96,76],[97,32,97,34],[97,35,97,37],[97,74,97,76],[90,17,92,17],[16,42,18,50],[16,51,18,51],[19,42,21,45],[19,46,21,46],[19,47,21,50],[19,51,21,51],[19,7,21,7],[19,8,21,11],[19,12,21,12],[16,16,18,24],[16,25,18,25],[19,16,21,19],[19,20,21,20],[19,21,21,24],[19,25,21,25],[22,73,22,77],[22,60,22,64],[22,47,22,51],[22,34,22,38],[22,21,22,25],[22,8,22,12],[16,55,18,63],[16,64,18,64],[19,55,21,58],[19,59,21,59],[19,60,21,63],[19,64,21,64],[16,68,18,76],[16,77,18,77],[19,68,21,71],[19,72,21,72],[19,73,21,76],[19,77,21,77],[16,29,18,37],[16,38,18,38],[19,29,21,32],[19,33,21,33],[19,34,21,37],[19,38,21,38]]}
[null,"Diverging Diamond Interchange (E-W)"]
[]
[null,"Design and Results"]
[]
[]
[null,null,"Project Name:",null,null,null,null,null,null,null,{"$f":"P_Name","v":"Cap-X Sample Street"},null,null,null,null,null,null,null,null,null,null,null,null,null,null,null,null,null,null,null,null,null,null,null,null,null,null,null,null,null,null,null,null,null,null,null,null,null,null,null,null,null,null,null,null,"Volume-to-Capacity Ratio"]
[]
[null,null,"Project Number:",null,null,null,null,null,null,null,{"$f":"P_Number","v":10000},null,null,null,null,null,null,null,null,null,null,null,null,null,null,null,null,null,null,null,null,null,null,null,null,null,null,null,null,null,null,null,null,null,null,null,null,null,null,null,null,null,null,null,null,"< 0.750",null,null,null,null,null,"0.750 - 0.875",null,null,null,null,null,"0.875 - 1.00",null,null,null,null,null,"≥ 1.00"]
[]
[null,null,"Location",null,null,null,null,null,null,null,{"$f":"Location","v":"Tallahassee, FL"},null,null,null,null,null,null,null,null,null,null,null,null,null,null,null,null,null,null,null,null,null,null,null,null,null,null,null,null,null,null,null,null,null,null,null,null,null,null,null,null,null,null,null,null,"VOLUME / CAPACITY RATIO:",null,null,null,null,null,null,null,null,null,null,null,{"$f":"MAX(D20,Q20,AD20,AQ20,BD20,BQ20)","v":0.22}]
[]
[null,null,"Date",null,null,null,null,null,null,null,{"$f":"Date","v":"2017 AM"}]
[]
[]
[]
[]
[null,null,null,{"$f":"I73","v":393},null,null,null,null,null,null,null,null,"CLV",null,null,null,{"$f":"U85","v":270.5},null,null,null,null,null,null,null,null,"CLV",null,null,null,{"$f":"AG73","v":224.86842105263159},null,null,null,null,null,null,null,null,"CLV",null,null,null,{"$f":"AO97","v":224.86842105263159},null,null,null,null,null,null,null,null,"CLV",null,null,null,{"$f":"BA85","v":270.5},null,null,null,null,null,null,null,null,"CLV",null,null,null,{"$f":"BM97","v":393},null,null,null,null,null,null,null,null,"CLV"]
[]
[]
[null,null,null,{"$f":"ROUND(D17/CLV_Limit_2,2)","v":0.22},null,null,null,"V/C",{"$f":"CLV_Limit_2","v":1800},null,null,null,"MAX",null,null,null,{"$f":"ROUND(Q17/CLV_Limit_2,2)","v":0.15},null,null,null,"V/C",{"$f":"CLV_Limit_2","v":1800},null,null,null,"MAX",null,null,null,{"$f":"ROUND(AD17/CLV_Limit_2,2)","v":0.12},null,null,null,"V/C",{"$f":"CLV_Limit_2","v":1800},null,null,null,"MAX",null,null,null,{"$f":"ROUND(AQ17/CLV_Limit_2,2)","v":0.12},null,null,null,"V/C",{"$f":"CLV_Limit_2","v":1800},null,null,null,"MAX",null,null,null,{"$f":"ROUND(BD17/CLV_Limit_2,2)","v":0.15},null,null,null,"V/C",{"$f":"CLV_Limit_2","v":1800},null,null,null,"MAX",null,null,null,{"$f":"ROUND(BQ17/CLV_Limit_2,2)","v":0.22},null,null,null,"V/C",{"$f":"CLV_Limit_2","v":1800},null,null,null,"MAX"]
[]
[]
[null,null,null,null,null,null,null,null,"2 Phases",null,null,null,null,null,null,null,null,null,null,null,null,"2 Phases",null,null,null,null,null,null,null,null,null,null,null,null,"2 Phases",null,null,null,null,null,null,null,null,null,null,null,null,"2 Phases",null,null,null,null,null,null,null,null,null,null,null,null,"2 Phases",null,null,null,null,null,null,null,null,null,null,null,null,"2 Phases"]
[]
[]
[]
[]
[]
[]
[]
[]
[]
[]
[]
[]
[]
[]
[]
[]
[]
[]
[]
[]
[]
[]
[]
[]
[]
[]
[]
[]
[]
[]
[]
[null,null,null,null,null,null,null,null,null,null,null,null,null,null,null,null,null,null,null,null,null,null,"Note: This diagram does not reflect the actual lane configuration of the Intersection"]
[]
[null,"Diverging Diamond Interchange (E-W)"]
[]
[null,"Data Input and Configuration"]
[]
[]
[]
[]
[]
[]
[]
[]
[]
[]
[]
[null,null,null,"pepch",null,null,null,null,null,null,null,null,null,null,null,null,null,null,null,null,null,null,null,null,null,null,null,null,null,null,null,null,null,null,null,null,null,null,null,null,null,null,"pepch",null,null,"pepch"]
[null,null,null,{"$f":"SBR_Master","v":204},null,null,null,null,null,null,null,null,null,null,null,null,null,null,null,null,null,null,null,null,null,null,null,null,null,null,null,null,null,null,null,null,null,null,null,null,null,null,{"$f":"SBL_Master","v":102},null,null,{"$f":"SBU_Master","v":0}]
[null,null,null,{"$f":"'3 - Alt Num Lanes Input'!AO105","v":1},null,null,null,null,{"$f":"J79/I79+D72/RTAF/D73","v":393},null,null,null,null,null,null,null,null,null,null,null,null,null,null,null,null,null,null,null,null,null,null,null,{"$f":"(AQ72/LTAF +AT72/UTAF)/AQ73 +AM79/AN79","v":224.86842105263159},null,null,null,null,null,null,null,null,null,{"$f":"'3 - Alt Num Lanes Input'!AK105","v":1}]
[]
[]
[null,null,null,null,null,null,null,null,null,null,null,null,null,null,null,null,null,null,null,null,null,null,null,null,null,null,null,null,null,null,null,null,null,null,null,null,null,null,null,null,null,null,null,null,null,null,null,null,null,null,null,null,null,null,null,null,null,null,null,null,null,null,{"$f":"'3 - Alt Num Lanes Input'!BE105","v":1},{"$f":"WBR_Master","v":51},"pepch"]
[]
[]
[null,null,null,null,null,null,null,null,{"$f":"BK79","v":2},{"$f":"BL79+AJ97","v":306},"pepch",null,null,null,null,null,null,null,null,null,null,null,null,null,null,null,null,null,null,null,null,null,null,null,null,null,null,"pepch",{"$f":"Q88+Q85","v":235},{"$f":"R85","v":2},null,null,null,null,null,null,null,null,null,null,null,null,null,null,null,null,null,null,null,null,null,null,{"$f":"'3 - Alt Num Lanes Input'!BC105","v":2},{"$f":"WBT_Master","v":204},"pepch"]
[]
[]
[null,null,null,null,null,null,null,null,null,null,null,null,null,null,null,null,null,null,null,null,null,null,null,null,null,null,null,null,null,null,null,null,null,null,null,null,null,null,null,null,null,null,null,null,null,null,null,null,null,null,null,null,null,null,null,null,null,null,null,null,null,null,null,{"$f":"WBL_Master","v":31},"pepch"]
[]
[]
[null,null,null,null,null,null,null,null,null,null,null,null,null,null,null,"pepch",{"$f":"EBL_Master","v":31},{"$f":"'3 - Alt Num Lanes Input'!AU105","v":2},null,null,{"$f":"((Q85+Q88)/R85 +J79/I79)","v":270.5},null,null,null,null,null,null,null,null,null,null,null,null,null,null,null,null,null,null,null,null,null,null,null,null,null,null,null,null,null,null,null,{"$f":"((BL82+BL79)/BK79)+BS88/BT88","v":270.5}]
[]
[]
[null,null,null,null,null,null,null,null,null,null,null,null,null,null,null,"pepch",{"$f":"EBT_Master","v":204},null,null,null,null,null,null,null,null,null,null,null,null,null,null,null,null,null,null,null,null,null,null,null,{"$f":"BK79","v":2},{"$f":"BL79+BL82","v":235},"pepch",null,null,null,null,null,null,null,null,null,null,null,null,null,null,null,null,null,null,null,null,null,null,null,null,null,null,"pepch",{"$f":"Q88+AQ72","v":306},{"$f":"R85","v":2}]
[]
[]
[null,null,null,null,null,null,null,null,null,null,null,null,null,null,null,"pepch",{"$f":"EBR_Master","v":51},{"$f":"'3 - Alt Num Lanes Input'!AW105","v":1}]
[]
[]
[]
[]
[null,null,null,null,null,null,null,null,null,null,null,null,null,null,null,null,null,null,null,null,null,null,null,null,null,null,null,null,null,null,null,null,{"$f":"'3 - Alt Num Lanes Input'!AC105","v":1},null,null,null,null,null,null,null,null,null,null,null,null,null,null,null,null,null,null,null,null,null,null,null,null,null,null,null,null,null,null,null,null,null,null,null,null,null,null,null,null,null,{"$f":"'3 - Alt Num Lanes Input'!AG105","v":1}]
[null,null,null,null,null,null,null,null,null,null,null,null,null,null,null,null,null,null,null,null,null,null,null,null,null,null,null,null,null,null,null,null,{"$f":"NBU_Master","v":0},null,null,{"$f":"NBL_Master","v":102},null,null,null,null,{"$f":"(AJ97/LTAF +AG97/UTAF)/AG96 +AP88/AO88","v":224.86842105263159},null,null,null,null,null,null,null,null,null,null,null,null,null,null,null,null,null,null,null,null,null,null,null,{"$f":"(BW97/RTAF/BW96 +BS88/BT88)","v":393},null,null,null,null,null,null,null,null,null,{"$f":"NBR_Master","v":204}]
[null,null,null,null,null,null,null,null,null,null,null,null,null,null,null,null,null,null,null,null,null,null,null,null,null,null,null,null,null,null,null,null,"pepch",null,null,"pepch",null,null,null,null,null,null,null,null,null,null,null,null,null,null,null,null,null,null,null,null,null,null,null,null,null,null,null,null,null,null,null,null,null,null,null,null,null,null,"pepch"]

{"sheet":"SPI N-S ","index":55,"n_rows":74,"n_cols":108,"rows_kept":74,"cut":false,"hidden":false,"merged":[[31,107,42,118],[34,98,36,98],[34,99,36,99],[34,100,36,100],[37,84,39,84],[37,101,39,104],[37,98,39,98],[37,99,39,99],[37,100,39,100],[37,83,39,83],[37,85,39,85],[37,88,39,95],[11,2,12,9],[11,10,12,35],[25,43,27,51],[25,52,27,52],[28,43,30,46],[28,47,30,47],[28,48,30,51],[28,52,30,52],[22,95,25,97],[28,83,28,85],[28,86,28,88],[28,89,28,91],[29,83,29,85],[34,79,36,82],[34,83,36,83],[34,84,36,84],[34,85,36,85],[34,88,36,95],[29,86,29,88],[29,89,29,91],[30,83,30,85],[73,13,73,48],[0,1,1,60],[2,1,3,60],[5,2,6,9],[5,10,6,35],[5,36,6,59],[7,36,8,41],[7,42,8,47],[7,48,8,53],[7,54,8,59],[9,36,12,47],[9,48,12,59],[7,2,8,9],[7,10,8,35],[9,2,10,9],[9,10,10,35],[31,48,31,52],[59,48,59,52],[45,48,45,52],[39,43,41,51],[39,52,41,52],[42,43,44,46],[42,47,44,47],[42,48,44,51],[0,63,1,122],[2,63,3,122],[13,100,15,100],[13,101,15,101],[13,102,15,102],[13,103,15,106],[6,79,7,80],[22,100,24,107],[24,83,27,85],[24,86,27,88],[24,89,27,91],[19,95,19,97],[19,100,21,107],[20,95,20,97],[21,95,21,97],[6,65,8,78],[30,86,30,88],[30,89,30,91],[43,92,43,94],[43,95,43,97],[43,98,43,100],[44,98,44,100],[45,92,45,94],[45,95,45,97],[45,98,45,100],[44,92,44,94],[44,95,44,97],[46,98,49,100],[58,77,60,80],[58,81,60,81],[58,82,60,82],[58,83,60,83],[48,86,51,88],[49,76,51,83],[52,76,54,83],[52,86,52,88],[53,86,53,88],[54,86,54,88],[42,52,44,52],[53,43,55,51],[53,52,55,52],[56,43,58,46],[56,47,58,47],[56,48,58,51],[56,52,58,52],[46,92,49,94],[46,95,49,97]]}
[null,"Single Point Interchange (N-S)",null,null,null,null,null,null,null,null,null,null,null,null,null,null,null,null,null,null,null,null,null,null,null,null,null,null,null,null,null,null,null,null,null,null,null,null,null,null,null,null,null,null,null,null,null,null,null,null,null,null,null,null,null,null,null,null,null,null,null,null,null,"Single Point Interchange (N-S)"]
[]
[null,"Design and Results",null,null,null,null,null,null,null,null,null,null,null,null,null,null,null,null,null,null,null,null,null,null,null,null,null,null,null,null,null,null,null,null,null,null,null,null,null,null,null,null,null,null,null,null,null,null,null,null,null,null,null,null,null,null,null,null,null,null,null,null,null,"Data Input and Configuration"]
[]
[]
[null,null,"Project Name:",null,null,null,null,null,null,null,{"$f":"P_Name","v":"Cap-X Sample Street"},null,null,null,null,null,null,null,null,null,null,null,null,null,null,null,null,null,null,null,null,null,null,null,null,null,"Volume-to-Capacity Ratio"]
[null,null,null,null,null,null,null,null,null,null,null,null,null,null,null,null,null,null,null,null,null,null,null,null,null,null,null,null,null,null,null,null,null,null,null,null,null,null,null,null,null,null,null,null,null,null,null,null,null,null,null,null,null,null,null,null,null,null,null,null,null,null,null,null,null,"Multimodal Capacity Adjustment Factor",null,null,null,null,null,null,null,null,null,null,null,null,null,{"$f":"IF(Multimodal=1,1,IF(MAX(CR44,CI31)<3,1,IF(MAX(CR44,CI31)<4,0.9,0.8)))","v":1}]
[null,null,"Project Number:",null,null,null,null,null,null,null,{"$f":"P_Number","v":10000},null,null,null,null,null,null,null,null,null,null,null,null,null,null,null,null,null,null,null,null,null,null,null,null,null,"< 0.750",null,null,null,null,null,"0.750 - 0.875",null,null,null,null,null,"0.875 - 1.00",null,null,null,null,null,"≥ 1.00"]
[]
[null,null,"Location",null,null,null,null,null,null,null,{"$f":"Location","v":"Tallahassee, FL"},null,null,null,null,null,null,null,null,null,null,null,null,null,null,null,null,null,null,null,null,null,null,null,null,null,"VOLUME / CAPACITY RATIO:",null,null,null,null,null,null,null,null,null,null,null,{"$f":"MAX(AR29,AR43,AR57)","v":0.23}]
[]
[null,null,"Date",null,null,null,null,null,null,null,{"$f":"Date","v":"2017 AM"}]
[]
[null,null,null,null,null,null,null,null,null,null,null,null,null,null,null,null,null,null,null,null,null,null,null,null,null,null,null,null,null,null,null,null,null,null,null,null,null,null,null,null,null,null,null,null,null,null,null,null,null,null,null,null,null,null,null,null,null,null,null,null,null,null,null,null,null,null,null,null,null,null,null,null,null,null,null,null,null,null,null,null,null,null,null,null,null,null,null,null,null,null,null,null,null,null,null,null,null,null,null,null,{"$f":"'3 - Alt Num Lanes Input'!BE107","v":1},{"$f":"WBR_Master","v":51},"pepch"]
[]
[]
[]
[]
[]
[null,null,null,null,null,null,null,null,null,null,null,null,null,null,null,null,null,null,null,null,null,null,null,null,null,null,null,null,null,null,null,null,null,null,null,null,null,null,null,null,null,null,null,null,null,null,null,null,null,null,null,null,null,null,null,null,null,null,null,null,null,null,null,null,null,null,null,null,null,null,null,null,null,null,null,null,null,null,null,null,null,null,null,null,null,null,null,null,null,null,null,null,null,null,null,{"$f":"CR44","v":2}]
[null,null,null,null,null,null,null,null,null,null,null,null,null,null,null,null,null,null,null,null,null,null,null,null,null,null,null,null,null,null,null,null,null,null,null,null,null,null,null,null,null,null,null,null,null,null,null,null,null,null,null,null,null,null,null,null,null,null,null,null,null,null,null,null,null,null,null,null,null,null,null,null,null,null,null,null,null,null,null,null,null,null,null,null,null,null,null,null,null,null,null,null,null,null,null,{"$f":"CR45+CG35","v":541}]
[null,null,null,null,null,null,null,null,null,null,null,null,null,null,null,null,null,null,null,null,null,null,null,null,null,null,null,null,null,null,null,null,null,null,null,null,null,null,null,null,null,null,null,null,null,null,null,null,null,null,null,null,null,null,null,null,null,null,null,null,null,null,null,null,null,null,null,null,null,null,null,null,null,null,null,null,null,null,null,null,null,null,null,null,null,null,null,null,null,null,null,null,null,null,null,"pepch"]
[null,null,null,null,null,null,null,null,null,null,null,null,null,null,null,null,null,null,null,null,null,null,null,null,null,null,null,null,null,null,null,null,null,null,null,null,null,null,null,null,null,null,null,null,null,null,null,null,null,null,null,null,null,null,null,null,null,null,null,null,null,null,null,null,null,null,null,null,null,null,null,null,null,null,null,null,null,null,null,null,null,null,null,null,null,null,null,null,null,null,null,null,null,null,null,null,null,null,null,null,{"$f":"(CX14/RTAF/CW14)+(CR21/CR20)","v":330.5}]
[]
[]
[null,null,null,null,null,null,null,null,null,null,null,null,null,null,null,null,null,null,null,null,null,null,null,null,null,null,null,null,null,null,null,null,null,null,null,null,null,null,null,null,null,null,null,{"$f":"CW23","v":330.5},null,null,null,null,null,null,null,null,"CLV"]
[]
[]
[null,null,null,null,null,null,null,null,null,null,null,null,null,null,null,null,null,null,null,null,null,null,null,null,null,null,null,null,null,null,null,null,null,null,null,null,null,null,null,null,null,null,null,{"$f":"ROUND(AR26/CLV_Limit_2,2)","v":0.18},null,null,null,"V/C",{"$f":"CLV_Limit_2*CB7","v":1800},null,null,null,"MAX",null,null,null,null,null,null,null,null,null,null,null,null,null,null,null,null,null,null,null,null,null,null,null,null,null,null,null,null,null,null,"pepch",null,null,"pepch",null,null,"pepch"]
[null,null,null,null,null,null,null,null,null,null,null,null,null,null,null,null,null,null,null,null,null,null,null,null,null,null,null,null,null,null,null,null,null,null,null,null,null,null,null,null,null,null,null,null,null,null,null,null,null,null,null,null,null,null,null,null,null,null,null,null,null,null,null,null,null,null,null,null,null,null,null,null,null,null,null,null,null,null,null,null,null,null,null,{"$f":"SBR_Master","v":204},null,null,{"$f":"SBT_Master","v":510},null,null,{"$f":"SBL_Master","v":102}]
[null,null,null,null,null,null,null,null,null,null,null,null,null,null,null,null,null,null,null,null,null,null,null,null,null,null,null,null,null,null,null,null,null,null,null,null,null,null,null,null,null,null,null,null,null,null,null,null,null,null,null,null,null,null,null,null,null,null,null,null,null,null,null,null,null,null,null,null,null,null,null,null,null,null,null,null,null,null,null,null,null,null,null,{"$f":"'3 - Alt Num Lanes Input'!AO107","v":1},null,null,{"$f":"'3 - Alt Num Lanes Input'!AM107","v":2},null,null,{"$f":"'3 - Alt Num Lanes Input'!AK107","v":1}]
[null,null,null,null,null,null,null,null,null,null,null,null,null,null,null,null,null,null,null,null,null,null,null,null,null,null,null,null,null,null,null,null,null,null,null,null,null,null,null,null,null,null,null,null,null,null,null,null,"2 Phases",null,null,null,null,null,null,null,null,null,null,null,null,null,null,null,null,null,null,null,null,null,null,null,null,null,null,null,null,null,null,null,null,null,null,null,null,null,null,null,null,null,null,null,null,null,null,null,null,null,null,null,null,null,null,null,null,null,null,{"$f":"IF((CV35+CG38)>0,\"WARNING: Includes Frontage Roads on Ramps\",\"\")","v":"WARNING: Includes Frontage Roads on Ramps"}]
[]
[]
[null,null,null,null,null,null,null,null,null,null,null,null,null,null,null,null,null,null,null,null,null,null,null,null,null,null,null,null,null,null,null,null,null,null,null,null,null,null,null,null,null,null,null,null,null,null,null,null,null,null,null,null,null,null,null,null,null,null,null,null,null,null,null,null,null,null,null,null,null,null,null,null,null,null,null,null,null,null,null,null,null,null,null,"pepch",{"$f":"EBL_Master","v":31},{"$f":"'3 - Alt Num Lanes Input'!AS107","v":1},null,null,null,null,null,null,null,null,null,null,null,null,{"$f":"'3 - Alt Num Lanes Input'!BC107","v":2},{"$f":"WBT_Master","v":204},"pepch"]
[]
[]
[null,null,null,null,null,null,null,null,null,null,null,null,null,null,null,null,null,null,null,null,null,null,null,null,null,null,null,null,null,null,null,null,null,null,null,null,null,null,null,null,null,null,null,null,null,null,null,null,null,null,null,null,null,null,null,null,null,null,null,null,null,null,null,null,null,null,null,null,null,null,null,null,null,null,null,null,null,null,null,null,null,null,null,"pepch",{"$f":"EBT_Master","v":204},{"$f":"'3 - Alt Num Lanes Input'!AU107","v":2},null,null,{"$f":"MAX(CI30/CI31,CR45/CR44)+MAX(MAX(CO45/LTAF/CO44),MAX(CL30/LTAF/CL31))+MAX(CV38/LTAF/CU38,CG35/LTAF/CH35)","v":395},null,null,null,null,null,null,null,null,null,{"$f":"'3 - Alt Num Lanes Input'!BA107","v":1},{"$f":"WBL_Master","v":31},"pepch"]
[]
[null,null,null,null,null,null,null,null,null,null,null,null,null,null,null,null,null,null,null,null,null,null,null,null,null,null,null,null,null,null,null,null,null,null,null,null,null,null,null,null,null,null,null,{"$f":"CK38","v":395},null,null,null,null,null,null,null,null,"CLV"]
[]
[]
[null,null,null,null,null,null,null,null,null,null,null,null,null,null,null,null,null,null,null,null,null,null,null,null,null,null,null,null,null,null,null,null,null,null,null,null,null,null,null,null,null,null,null,{"$f":"IF((CG38+CV35)=0,ROUND(AR40/CLV_Limit_3,2),ROUND(AR40/CLV_Limit_4,2))","v":0.23},null,null,null,"V/C",{"$f":"IF((CG38+CV35)=0,CLV_Limit_3,CLV_Limit_4)*CB7","v":1700},null,null,null,"MAX"]
[null,null,null,null,null,null,null,null,null,null,null,null,null,null,null,null,null,null,null,null,null,null,null,null,null,null,null,null,null,null,null,null,null,null,null,null,null,null,null,null,null,null,null,null,null,null,null,null,null,null,null,null,null,null,null,null,null,null,null,null,null,null,null,null,null,null,null,null,null,null,null,null,null,null,null,null,null,null,null,null,null,null,null,null,null,null,null,null,null,null,null,null,{"$f":"'3 - Alt Num Lanes Input'!AC107","v":1},null,null,{"$f":"'3 - Alt Num Lanes Input'!AE107","v":2},null,null,{"$f":"'3 - Alt Num Lanes Input'!AG107","v":1}]
[null,null,null,null,null,null,null,null,null,null,null,null,null,null,null,null,null,null,null,null,null,null,null,null,null,null,null,null,null,null,null,null,null,null,null,null,null,null,null,null,null,null,null,null,null,null,null,null,null,null,null,null,null,null,null,null,null,null,null,null,null,null,null,null,null,null,null,null,null,null,null,null,null,null,null,null,null,null,null,null,null,null,null,null,null,null,null,null,null,null,null,null,{"$f":"NBL_Master","v":102},null,null,{"$f":"NBT_Master","v":510},null,null,{"$f":"NBR_Master","v":204}]
[null,null,null,null,null,null,null,null,null,null,null,null,null,null,null,null,null,null,null,null,null,null,null,null,null,null,null,null,null,null,null,null,null,null,null,null,null,null,null,null,null,null,null,null,null,null,null,null,{"$f":"IF((CG38+CV35)=0,\"3 Phases\",\"4 Phases\")","v":"4 Phases"},null,null,null,null,null,null,null,null,null,null,null,null,null,null,null,null,null,null,null,null,null,null,null,null,null,null,null,null,null,null,null,null,null,null,null,null,null,null,null,null,null,null,null,"pepch",null,null,"pepch",null,null,"pepch"]
[]
[]
[]
[]
[]
[]
[null,null,null,null,null,null,null,null,null,null,null,null,null,null,null,null,null,null,null,null,null,null,null,null,null,null,null,null,null,null,null,null,null,null,null,null,null,null,null,null,null,null,null,null,null,null,null,null,null,null,null,null,null,null,null,null,null,null,null,null,null,null,null,null,null,null,null,null,null,null,null,null,null,null,null,null,{"$f":"(CE59/RTAF/CF59)+(CI54/CI55)","v":330.5},null,null,null,null,null,null,null,null,null,"pepch"]
[null,null,null,null,null,null,null,null,null,null,null,null,null,null,null,null,null,null,null,null,null,null,null,null,null,null,null,null,null,null,null,null,null,null,null,null,null,null,null,null,null,null,null,{"$f":"BY53","v":330.5},null,null,null,null,null,null,null,null,"CLV",null,null,null,null,null,null,null,null,null,null,null,null,null,null,null,null,null,null,null,null,null,null,null,null,null,null,null,null,null,null,null,null,null,{"$f":"CV38+CI30","v":541}]
[null,null,null,null,null,null,null,null,null,null,null,null,null,null,null,null,null,null,null,null,null,null,null,null,null,null,null,null,null,null,null,null,null,null,null,null,null,null,null,null,null,null,null,null,null,null,null,null,null,null,null,null,null,null,null,null,null,null,null,null,null,null,null,null,null,null,null,null,null,null,null,null,null,null,null,null,null,null,null,null,null,null,null,null,null,null,{"$f":"CI31","v":2}]
[]
[null,null,null,null,null,null,null,null,null,null,null,null,null,null,null,null,null,null,null,null,null,null,null,null,null,null,null,null,null,null,null,null,null,null,null,null,null,null,null,null,null,null,null,{"$f":"ROUND(AR54/CLV_Limit_2,2)","v":0.18},null,null,null,"V/C",{"$f":"CLV_Limit_2*CB7","v":1800},null,null,null,"MAX"]
[]
[null,null,null,null,null,null,null,null,null,null,null,null,null,null,null,null,null,null,null,null,null,null,null,null,null,null,null,null,null,null,null,null,null,null,null,null,null,null,null,null,null,null,null,null,null,null,null,null,null,null,null,null,null,null,null,null,null,null,null,null,null,null,null,null,null,null,null,null,null,null,null,null,null,null,null,null,null,null,null,null,null,"pepch",{"$f":"EBR_Master","v":51},{"$f":"'3 - Alt Num Lanes Input'!AW107","v":1}]
[null,null,null,null,null,null,null,null,null,null,null,null,null,null,null,null,null,null,null,null,null,null,null,null,null,null,null,null,null,null,null,null,null,null,null,null,null,null,null,null,null,null,null,null,null,null,null,null,"2 Phases"]
[]
[]
[]
[]
[]
[]
[]
[]
[]
[]
[]
[]
[]
[null,null,null,null,null,null,null,null,null,null,null,null,null,"Note: This diagram does not reflect the actual lane configuration of the Intersection"]

{"sheet":"SPI E-W","index":56,"n_rows":99,"n_cols":74,"rows_kept":99,"cut":false,"hidden":false,"merged":[[19,55,21,55],[19,56,21,59],[19,60,21,60],[19,35,21,38],[19,39,21,39],[19,40,21,43],[19,44,21,44],[9,55,12,66],[16,19,18,27],[16,28,18,28],[16,51,18,59],[16,60,18,60],[16,35,18,43],[16,44,18,44],[0,1,1,79],[2,1,3,79],[5,2,6,9],[5,10,6,54],[7,2,8,9],[7,10,8,54],[5,55,6,78],[7,55,8,60],[7,61,8,66],[7,67,8,72],[7,73,8,78],[9,67,12,78],[77,33,77,35],[77,36,77,38],[78,33,78,35],[78,36,78,38],[79,33,79,35],[9,2,10,9],[9,10,10,54],[11,2,12,9],[11,10,12,54],[19,19,21,22],[19,23,21,23],[19,24,21,27],[19,28,21,28],[19,51,21,54],[56,1,57,79],[58,1,59,79],[70,17,73,19],[71,22,73,29],[73,39,76,41],[74,17,74,19],[74,22,76,29],[75,17,75,19],[76,17,76,19],[83,47,85,47],[83,48,85,48],[83,49,85,49],[83,50,85,53],[80,48,82,48],[77,50,79,53],[78,39,78,41],[79,39,79,41],[77,39,77,41],[77,47,79,47],[77,48,79,48],[77,49,79,49],[80,47,82,47],[62,3,64,16],[86,28,88,31],[86,32,88,32],[86,33,88,33],[86,34,88,34],[86,37,88,44],[93,39,93,41],[89,28,91,31],[89,32,91,32],[89,33,91,33],[89,34,91,34],[83,37,85,44],[80,22,82,22],[80,23,82,23],[80,24,82,24],[80,25,82,28],[62,17,63,18],[22,40,22,44],[22,56,22,60],[22,24,22,28],[54,22,54,57],[73,33,76,35],[73,36,76,38],[62,35,71,46],[79,36,79,38],[80,49,82,49],[80,50,82,53],[95,39,98,41],[95,52,97,59],[95,62,95,64],[96,62,96,64],[97,62,97,64],[98,52,100,59],[98,62,101,64],[95,42,98,44],[95,45,98,47],[89,52,91,55],[89,56,91,56],[89,57,91,57],[89,58,91,58],[92,28,94,31],[92,32,94,32],[92,33,94,33],[92,34,94,34],[92,39,92,41],[94,39,94,41],[92,42,92,44],[92,45,92,47],[93,42,93,44],[93,45,93,47],[94,42,94,44],[94,45,94,47]]}
[null,"Single Point Interchange (E-W)"]
[]
[null,"Design and Results"]
[]
[]
[null,null,"Project Name:",null,null,null,null,null,null,null,{"$f":"P_Name","v":"Cap-X Sample Street"},null,null,null,null,null,null,null,null,null,null,null,null,null,null,null,null,null,null,null,null,null,null,null,null,null,null,null,null,null,null,null,null,null,null,null,null,null,null,null,null,null,null,null,null,"Volume-to-Capacity Ratio"]
[]
[null,null,"Project Number:",null,null,null,null,null,null,null,{"$f":"P_Number","v":10000},null,null,null,null,null,null,null,null,null,null,null,null,null,null,null,null,null,null,null,null,null,null,null,null,null,null,null,null,null,null,null,null,null,null,null,null,null,null,null,null,null,null,null,null,"< 0.750",null,null,null,null,null,"0.750 - 0.875",null,null,null,null,null,"0.875 - 1.00",null,null,null,null,null,"≥ 1.00"]
[]
[null,null,"Location",null,null,null,null,null,null,null,{"$f":"Location","v":"Tallahassee, FL"},null,null,null,null,null,null,null,null,null,null,null,null,null,null,null,null,null,null,null,null,null,null,null,null,null,null,null,null,null,null,null,null,null,null,null,null,null,null,null,null,null,null,null,null,"VOLUME / CAPACITY RATIO:",null,null,null,null,null,null,null,null,null,null,null,{"$f":"MAX(T20,AJ20,AZ20)","v":0.22}]
[]
[null,null,"Date",null,null,null,null,null,null,null,{"$f":"Date","v":"2017 AM"}]
[]
[]
[]
[]
[null,null,null,null,null,null,null,null,null,null,null,null,null,null,null,null,null,null,null,{"$f":"W75","v":393},null,null,null,null,null,null,null,null,"CLV",null,null,null,null,null,null,{"$f":"AL87","v":242.00000000000003},null,null,null,null,null,null,null,null,"CLV",null,null,null,null,null,null,{"$f":"BA99","v":393},null,null,null,null,null,null,null,null,"CLV"]
[]
[]
[null,null,null,null,null,null,null,null,null,null,null,null,null,null,null,null,null,null,null,{"$f":"ROUND(T17/CLV_Limit_2,2)","v":0.22},null,null,null,"V/C",{"$f":"CLV_Limit_2*R63","v":1800},null,null,null,"MAX",null,null,null,null,null,null,{"$f":"IF((AQ94+AK79)=0,ROUND(AJ17/CLV_Limit_3,2),ROUND(AJ17/CLV_Limit_4,2))","v":0.14000000000000001},null,null,null,"V/C",{"$f":"IF((AQ94+AK79)=0,CLV_Limit_3,CLV_Limit_4)*R63","v":1700},null,null,null,"MAX",null,null,null,null,null,null,{"$f":"ROUND(AZ17/CLV_Limit_2,2)","v":0.22},null,null,null,"V/C",{"$f":"CLV_Limit_2*R63","v":1800},null,null,null,"MAX"]
[]
[]
[null,null,null,null,null,null,null,null,null,null,null,null,null,null,null,null,null,null,null,null,null,null,null,null,"2 Phases",null,null,null,null,null,null,null,null,null,null,null,null,null,null,null,{"$f":"IF((AQ94+AK79)=0,\"3 Phases\",\"4 Phases\")","v":"4 Phases"},null,null,null,null,null,null,null,null,null,null,null,null,null,null,null,"2 Phases"]
[]
[]
[]
[]
[]
[]
[]
[]
[]
[]
[]
[]
[]
[]
[]
[]
[]
[]
[]
[]
[]
[]
[]
[]
[]
[]
[]
[]
[]
[]
[]
[null,null,null,null,null,null,null,null,null,null,null,null,null,null,null,null,null,null,null,null,null,null,"Note: This diagram does not reflect the actual lane configuration of the Intersection"]
[]
[null,"Single Point Interchange (E-W)"]
[]
[null,"Data Input and Configuration"]
[]
[]
[]
[null,null,null,"Multimodal Capacity Adjustment Factor",null,null,null,null,null,null,null,null,null,null,null,null,null,{"$f":"IF(Multimodal=1,1,IF(MAX(AI90,AV81)<3,1,IF(MAX(AI90,AV81)<4,0.9,0.8)))","v":1},null,null,null,null,null,null,null,null,null,null,null,null,null,null,null,null,null,{"$f":"IF((AK79+AQ94)>0,\"WARNING: Includes Frontage Roads on Ramps\")","v":"WARNING: Includes Frontage Roads on Ramps"}]
[]
[]
[]
[]
[]
[]
[]
[]
[]
[]
[]
[null,null,null,null,null,null,null,null,null,null,null,null,null,null,null,null,null,"pepch",null,null,null,null,{"$f":"((X81/W81)+(R76/RTAF/R77))","v":393}]
[null,null,null,null,null,null,null,null,null,null,null,null,null,null,null,null,null,{"$f":"SBR_Master","v":204}]
[null,null,null,null,null,null,null,null,null,null,null,null,null,null,null,null,null,{"$f":"'3 - Alt Num Lanes Input'!AO109","v":1}]
[null,null,null,null,null,null,null,null,null,null,null,null,null,null,null,null,null,null,null,null,null,null,null,null,null,null,null,null,null,null,null,null,null,null,null,null,"pepch",null,null,"pepch",null,null,null,null,null,null,null,{"$f":"'3 - Alt Num Lanes Input'!BE109","v":1},{"$f":"WBR_Master","v":51},"pepch"]
[null,null,null,null,null,null,null,null,null,null,null,null,null,null,null,null,null,null,null,null,null,null,null,null,null,null,null,null,null,null,null,null,null,null,null,null,{"$f":"SBT_Master","v":510},null,null,{"$f":"SBL_Master","v":102}]
[null,null,null,null,null,null,null,null,null,null,null,null,null,null,null,null,null,null,null,null,null,null,null,null,null,null,null,null,null,null,null,null,null,null,null,null,{"$f":"'3 - Alt Num Lanes Input'!AM109","v":2},null,null,{"$f":"'3 - Alt Num Lanes Input'!AK109","v":1}]
[null,null,null,null,null,null,null,null,null,null,null,null,null,null,null,null,null,null,null,null,null,null,{"$f":"'3 - Alt Num Lanes Input'!BC109","v":2},{"$f":"AW81+AN94","v":306},"pepch",null,null,null,null,null,null,null,null,null,null,null,null,null,null,null,null,null,null,null,null,null,null,{"$f":"'3 - Alt Num Lanes Input'!BC109","v":2},{"$f":"WBT_Master","v":204},"pepch"]
[]
[]
[null,null,null,null,null,null,null,null,null,null,null,null,null,null,null,null,null,null,null,null,null,null,null,null,null,null,null,null,null,null,null,null,null,null,null,null,null,null,null,null,null,null,null,null,null,null,null,{"$f":"'3 - Alt Num Lanes Input'!BA109","v":1},{"$f":"WBL_Master","v":31},"pepch"]
[]
[]
[null,null,null,null,null,null,null,null,null,null,null,null,null,null,null,null,null,null,null,null,null,null,null,null,null,null,null,null,null,null,null,null,"pepch",{"$f":"EBL_Master","v":31},{"$f":"'3 - Alt Num Lanes Input'!AS109","v":1},null,null,{"$f":"MAX(AH90/AI90,AW81/AV81)+MAX(MAX(AW84/LTAF/AV84, AH87/LTAF/AI87))+MAX(AN94/LTAF/AN93,AN79/LTAF/AN80)","v":242.00000000000003}]
[]
[]
[null,null,null,null,null,null,null,null,null,null,null,null,null,null,null,null,null,null,null,null,null,null,null,null,null,null,null,null,null,null,null,null,"pepch",{"$f":"EBT_Master","v":204},{"$f":"'3 - Alt Num Lanes Input'!AU109","v":2},null,null,null,null,null,null,null,null,null,null,null,null,null,null,null,null,null,null,null,null,null,"pepch",{"$f":"(AN79+AH90)","v":306},{"$f":"'3 - Alt Num Lanes Input'!AU109","v":2}]
[]
[]
[null,null,null,null,null,null,null,null,null,null,null,null,null,null,null,null,null,null,null,null,null,null,null,null,null,null,null,null,null,null,null,null,"pepch",{"$f":"EBR_Master","v":51},{"$f":"'3 - Alt Num Lanes Input'!AW109","v":1},null,null,null,null,{"$f":"'3 - Alt Num Lanes Input'!AC109","v":1},null,null,{"$f":"'3 - Alt Num Lanes Input'!AE109","v":2}]
[null,null,null,null,null,null,null,null,null,null,null,null,null,null,null,null,null,null,null,null,null,null,null,null,null,null,null,null,null,null,null,null,null,null,null,null,null,null,null,{"$f":"NBL_Master","v":102},null,null,{"$f":"NBT_Master","v":510}]
[null,null,null,null,null,null,null,null,null,null,null,null,null,null,null,null,null,null,null,null,null,null,null,null,null,null,null,null,null,null,null,null,null,null,null,null,null,null,null,"pepch",null,null,"pepch"]
[null,null,null,null,null,null,null,null,null,null,null,null,null,null,null,null,null,null,null,null,null,null,null,null,null,null,null,null,null,null,null,null,null,null,null,null,null,null,null,null,null,null,null,null,null,null,null,null,null,null,null,null,null,null,null,null,null,null,null,null,null,null,{"$f":"'3 - Alt Num Lanes Input'!AG109","v":1}]
[null,null,null,null,null,null,null,null,null,null,null,null,null,null,null,null,null,null,null,null,null,null,null,null,null,null,null,null,null,null,null,null,null,null,null,null,null,null,null,null,null,null,null,null,null,null,null,null,null,null,null,null,null,null,null,null,null,null,null,null,null,null,{"$f":"NBR_Master","v":204}]
[null,null,null,null,null,null,null,null,null,null,null,null,null,null,null,null,null,null,null,null,null,null,null,null,null,null,null,null,null,null,null,null,null,null,null,null,null,null,null,null,null,null,null,null,null,null,null,null,null,null,null,null,null,null,null,null,null,null,null,null,null,null,"pepch"]
[null,null,null,null,null,null,null,null,null,null,null,null,null,null,null,null,null,null,null,null,null,null,null,null,null,null,null,null,null,null,null,null,null,null,null,null,null,null,null,null,null,null,null,null,null,null,null,null,null,null,null,null,{"$f":"((BK97/RTAF/BK96)+(BF90/BG90))","v":393}]