{"text_format":"1","workbook":"xlsx","n_sheets":66,"sheets":["Introduction","Project Information","Intersection Mapping","Changelog","Definitions","Control Strategy Selection","Ramp Terminal Inputs","At-Grade Inputs","SSI Inputs","RTI_Ranges","4_Quad_ParcloA","4_Quad_ParcloB","DDI","2_Quad_ParcloA","2_Quad_ParcloB","Half_Diamond","SSI Inputs RTI","SPUI","Conv_Sig","Conv_Ramp_Stop","RTI_RAB1x1","RTI_RAB2x1","RTI_RAB2x2","TUDI","Calibration","Historical","Results","SSI Results","ExistingData","CalibrationDefaults","HistoricalRTI","SSI 3L Results_Full","RTI SSI Results_Full","SSI 4L Results_Full","ThruCut_Sig","ThruCut_Unsig","RCUT_Sig","RCUT_Unsig","ResultsRTI","RTI SSI Results","Notes","User Selections","Labels","Developer ReadMe","Trad_Sig","Trad_MinorStop","Trad_AllStop","RAB1x1","RAB2x1","RAB2x2","MUT","PDLT","FDLT","QR","Jughandle","Bowtie","TradT_Sig","TradT_AWSC","TradT_MRSC","CGT","T_PDLT","T_1x1_RAB","T_2x1_RAB","T_2x2_RAB","T_RCUT_Sig","T_RCUT_Unsig"],"not_rendered":{"charts":0,"images":11,"macros":1,"external_links":0,"defined_names":1293,"comments":21,"pivot_tables":0},"unopened":[],"bounds":{"document_bytes":16777216,"sheet_cells":100000,"rows_first":2000,"rows_last":500,"rows_between":2000,"halvings":0,"cell_chars":16384,"cell_head_chars":4096},"cells_cut":0,"cells_raw":0,"read":"whole","date_system":"1900"}

{"sheet":"Introduction","index":0,"n_rows":22,"n_cols":3,"rows_kept":22,"cut":false,"hidden":false,"merged":[[21,0,21,2],[20,0,20,2],[10,0,10,2],[12,0,12,2],[15,1,15,2],[3,1,3,2],[0,0,0,2],[1,0,1,2],[2,1,2,2],[5,0,5,2],[4,0,4,2],[6,0,6,2],[7,0,7,2],[11,0,11,2],[13,0,13,2],[14,0,14,2],[9,0,9,2],[8,0,8,2]]}
["Florida Department of Transportation"]
["Safety Performance for Intersection Control Evaluation Tool"]
["Introduction","Overview"]
["The Safety Performance for Intersection Control Evaluation (SPICE) Tool was developed to provide an easy-to-use tool that automates the predictive safety analysis of intersections. This tool allows analysts conducting Intersection Control Evaluation (ICE) to be equipped with necessary safety information during the decision-making process, without having to research a myriad of crash modification factors (CMFs) and Safety Performance Functions (SPFs) in multiple sources.  The SPICE tool performs a comparative predictive safety analysis of different intersection control strategies. The results – crash frequency and severity for each alternative – enable safety performance of alternatives to be considered quantitatively like traffic operations, construction cost, maintenance cost, or other factors. FDOT SPICE Tool is a Florida specific adaptation of Federal Highway Administration (FHWA) SPICE Tool. The FDOT SPICE also contains a second safety performance measure - Safe System for Intersections score. This is based on the method in report FHWA-SA-21-008.","The SPICE Tool performs safety analysis of at-grade intersection forms/control types and ramp terminal intersections of diamond interchanges. This user-friendly tool requires only data inputs that are readily available to the analyst. The SPICE tool can be used to conduct planning-level analysis, where the tool assumes default values for data inputs that are challenging to obtain in the early stages of a project and/or have a very minor impact on the results.  The SPICE tool assumes that certain attributes of the intersection – AADT, facility type, and number of legs – are the same for all alternatives. If they are not, users will be required to use the tool twice to get results. The tool will not allow simultaneous evaluation of at-grade intersections and ramp terminal intersections. For projects where analysis of both intersections and interchanges is needed, users are required to use the tool twice to get results. The Safe System for Intersection analysis can be applied to a greater number of intersection forms because it is not dependent upon SPFs for CMFs being developed for that intersection form."]
["Worksheets"]
["Project Information: Provide general project information for reference purposes only."]
["Definitions: Reference sheet with additional information related to inputs for the SPICE tool."]
["Control Strategy Selection: Choose between At-Grade or Ramp Terminal intersection types to be included in the SPICE analysis."]
["At-Grade Inputs: SPF and Part C CMF inputs for At-Grade intersections (hidden if Ramp Terminals are being analyzed)."]
["Ramp Terminal Inputs: SPF and Part C CMF inputs for Ramp Terminal intersections (hidden if At-Grade intersections are being analyzed)."]
["SSI Inputs: Safe System for Intersection inputs used to calculate SSI score"]
["Calibration: Input optional override values for SPF calibration factors from locally-developed or updated information. "]
["Historical: Crash Data inputs used for Empirical Bayes (EB) Method"]
["Results: Summary of opening year and (if applicable) design year and total project life cycle crash frequency and crash severity. "]
["Additional Worksheets: Additional worksheets to support the underlying Macros. Not to be updated by users unless updating future tool versions. "]
["Maintenance ","Input Legend"]
["Version: SPICE Tool 5.2.2  [Changelog]",null,"Required data entry field"]
["Maintained By: FDOT Traffic Engineering & Operations Office",null,"Optional data entry field"]
["Contact Information: FDOT-StateTrafficServicesSection@dot.state.fl.us",null,"Planning-Level Default Input"]
[null,null,"Data entry field not used"]
["Disclaimer"]
["NO WARRANTIES:  The software is made available by the Florida Department of Transportation on an \"as is\", \"as available\" basis without warranties of any kind, express or implied. DISCLAIMER OF LIABILITY: The user of this software assumes all responsibility and risk for the use of both. Under no circumstances, including negligence, shall the Florida Department of Transportation, or its employees be liable for any DIRECT, INDIRECT, INCIDENTAL, SPECIAL, EXEMPLARY or CONSEQUENTIAL DAMAGES, or LOST PROFITS that result from the use, misuse or inability to use the software. Nor shall the Florida Department of Transportation, or its employees be liable for any damages resulting from or related to reliance; mistakes, omissions, interruptions, deletion of files, computer viruses, errors, defects, or any failure of performance, communications failure, theft, destruction or unauthorized access to the software."]

{"sheet":"Project Information","index":1,"n_rows":11,"n_cols":1,"rows_kept":11,"cut":false,"hidden":false,"merged":[[10,0,16,0],[0,0,0,2],[1,0,1,2],[2,1,2,2],[7,1,7,2],[8,1,8,2],[9,1,9,2],[3,1,3,2],[4,1,4,2],[5,1,5,2],[6,1,6,2]]}
["Project Information"]
["Provide general project information for reference purposes only."]
["Project Name:"]
["Intersection:"]
["Agency: "]
["Project Reference:"]
["City:"]
["State:"]
["Date:"]
["Analyst:"]
["Use this button to clear all inputs/outputs and reset the tool to its initial defaults"]

{"sheet":"Intersection Mapping","index":2,"n_rows":51,"n_cols":5,"rows_kept":51,"cut":false,"hidden":false,"merged":[[20,3,21,3],[11,4,12,4],[15,4,16,4],[26,3,28,3],[26,4,28,4]]}
[]
[]
[]
[null,null,"CAP-X","SPICE","Economic Analysis for ICE"]
[null,null,"At-Grade Intersections"]
[null,null,"Traffic Signal","Traffic Signal","Traffic Signal"]
[null,null,"Traffic Signal (Alt.)","Traffic Signal (Alternative Configuration)","Traffic Signal (Alt.)"]
[null,null,"Two-Way Stop Control","Minor Road Stop Control","Two-Way Stop Control"]
[null,null,"All-Way Stop Control","All Way Stop Control","All Way Stop Control"]
[null,null,"Continuous Green T","Continuous Green-T Intersection","Continuous Green-T Intersection"]
[null,null,"Quadrant Roadway","-","Quadrant Roadway Intersection"]
[null,null,"Partial Displaced Left Turn","Partial Displaced Left Turn (DLT)","Displaced Left Turn (DLT)"]
[null,null,"-","-"]
[null,null,"Signalized Restricted Crossing U-Turn","Signalized Restricted Crossing U-Turn (RCUT)","Signalized Restricted Crossing U-Turn (RCUT)"]
[null,null,"Unsignalized Restricted Crossing U-Turn","Unsignalized Restricted Crossing U-Turn (RCUT)","Unsignalized Restricted Crossing U-Turn (RCUT)"]
[null,null,"Median U-Turn","Full Median U-Turn (MUT)","Median U-Turn (MUT)"]
[null,null,"Partial Median U-Turn","-"]
[null,null,"Bowtie","Bowtie*","Bowtie"]
[null,null,"Signalized ThruCut","Signalized Thru-Cut*","Signalized Thrucut"]
[null,null,"Unsignalized ThruCut","Unsignalized Thru-Cut*","Unsignalized Thrucut"]
[null,null,"-","Jughandle","Jughandle (Forward Ramps)"]
[null,null,"-",null,"Jughandle (Reverse Ramps)"]
[null,null,"Roundabouts"]
[null,null,"50 ICD Miniroundabout","-","-"]
[null,null,"75 ICD Miniroundabout","-","-"]
[null,null,"1x1","1-Lane Roundabout","Roundabout (1-Lane)"]
[null,null,"1NS x 2EW","2-Lane Roundabout","Roundabout (2-Lane)"]
[null,null,"2NS x 1EW"]
[null,null,"2x2"]
[null,null,"Ramp Terminal Intersections"]
[null,null,"Diamond","Diamond Signalized","Conventional Traffic Signal"]
[null,null,"Diamond Alternative","Diamond Signalized (Alt)","Conventional Traffic Signal (Alt.)"]
[null,null,"Diamond Stop Control","Diamond Stop Control**","Unsignalized Diamond"]
[null,null,"Signalized Tight Diamond","Signalized Tight Diamond","Signalized Tight Diamond Interchange"]
[null,null,"Partial Cloverleaf A","Four Quadrant Partial Cloverleaf A Signalized","-"]
[null,null,"Partial Cloverleaf B","Four Quadrant Partial Cloverleaf B Signalized","-"]
[null,null,"Two Quadrant Partial Cloverleaf A Signalized","Two Quadrant Partial Cloverleaf A Signalized","-"]
[null,null,"Two Quadrant Partial Cloverleaf B Signalized","Two Quadrant Partial Cloverleaf B Signalized","-"]
[null,null,"Diverging Diamond","Diverging Diamond","Diverging Diamond Interchange"]
[null,null,"Single Point Diamond","Single-Point Diamond","Single-Point Diamond Traffic Signal"]
[null,null,"Displaced Left Turn Interchange","-","-"]
[null,null,"Roundabout (1X1)","Roundabout (1-lane)","1-lane Roundabout"]
[null,null,"Roundabout (2X2)","Roundabout (2-lane)","2-lane Roundabout"]
[null,null,"Half Diamond","Half Diamond Signalized","-"]
[null,null,"-","Four Quadrant Partial Cloverleaf A Stop Control**","-"]
[null,null,"-","Four Quadrant Partial Cloverleaf B Stop Control**","-"]
[null,null,"-","Two Quadrant Partial Cloverleaf A Stop Control**","-"]
[null,null,"-","Two Quadrant Partial Cloverleaf B Stop Control**","-"]
[null,null,"-","Half Diamond Stop Control**","-"]
[null,null,null,"* Indicates that only SSI analysis is available. HSM analysis is not."]
[null,null,null,"** Indicates that only HSM analysis is available. SSI analysis is not."]

{"sheet":"Changelog","index":3,"n_rows":44,"n_cols":4,"rows_kept":44,"cut":false,"hidden":false,"merged":[[43,0,45,1],[43,2,45,2],[43,3,45,11],[0,0,1,11],[19,0,21,1],[19,2,21,2],[19,3,21,11],[2,3,3,11],[7,3,9,11],[7,0,9,1],[7,2,9,2],[10,3,12,11],[10,2,12,2],[10,0,12,1],[4,3,6,11],[4,2,6,2],[4,0,6,1],[2,0,3,1],[2,2,3,2],[13,0,15,1],[13,2,15,2],[13,3,15,11],[16,0,18,1],[16,2,18,2],[16,3,18,11],[28,0,30,1],[28,2,30,2],[28,3,30,11],[22,0,24,1],[22,2,24,2],[22,3,24,11],[25,0,27,1],[25,2,27,2],[25,3,27,11],[31,0,33,1],[31,3,33,11],[31,2,33,2],[34,0,36,1],[34,2,36,2],[34,3,36,11],[40,0,42,1],[40,2,42,2],[40,3,42,11],[37,0,39,1],[37,2,39,2],[37,3,39,11]]}
["FDOT SPICE Tool Changelog"]
[]
["Date",null,"Version #","Description"]
[]
["2019-04-23",null,3.1,"Added new safety performance function (SPF) computations for signalized and unsignalized restricted crossing u-turns (RCUTS).  These methods replaced the previous crash modification factor (CMF) based approach."]
[]
[]
["2019-07-01",null,3.2,"Follow-up update to the Signalized RCUT methodology. These updates provided new coefficients for the safety performance function and improved AADT range and ratio limits to relflect the removal of high AADT outlier RCUT sample data sites."]
[]
[]
["2019-07-15",null,3.3,"Small bug fix to remove the deprecated display-only RCUT crash modification factors in the Calibration tab, as well as include new optional inputs to apply a calibration factor to the safety performance functions for signalized and unsignalized RCUTs."]
[]
[]
["2019-10-03",null,3.4,"Fixed bug where enabling Historical EB analysis could cause results to be reported for intersections missing an SPF.  As a note, this bug only occurred when Historical analysis was enabled, an invalid historical base intersection was chosen, and no historical crashes were input."]
[]
[]
["2020-02-17",null,3.5,"Added new safety performance function (SPF) computations for a set of new intersections as developed by the NCHRP 17-68 project.  The new intersections are the 3SG for rural two-lane highways, 3SG for rural multilane highways, 3ST, 4ST, 3SG, and 4SG for high speed arterials, 4AWSC for rural two-lane highways and 3AWSC amd 4AWSC for urban/suburban arterials."]
[]
[]
["2021-10-13",null,"4.0.0","Addition of SSI Methodology, new SPFs for the Tight Diamond interchange."]
[]
[]
["2022-10-31",null,4.0999999999999996,"Addition of Bowtie SSI Methodology. Modification of Traffic Control scores for Nonmotorized conflict points. Update HSM formula (effective number of lanes for ramps), update SSI traffic complexity scoring due to presence of median."]
[]
[]
["2023-02-28",null,"4.1.1","Fixed bug to update crash prediction rank for CGT after addition of Bowtie, minor editorial updates."]
[]
[]
["2023-10-30",null,"5.0.0","Added safety performance functions (SPFs) computations for additional ramp terminal intersection types associated with partial cloverleaf and half diamond interchange forms, added new crash modification factors (CMFs) for median u-turn (MUT) intersections and diverging diamond interchanges (DDIs), added adjustment factors to signalized restricted crossing u-turn (RCUT) SPFs for reflect differences in how RCUT SPFs and HSM signalized intersection SPFs were initially developed, added additional information on AADT ranges to Results worksheet."]
[]
[]
["2023-12-22",null,"5.1.0","Added the disclaimer; Minor tool clean up."]
[]
[]
["2024-04-12",null,"5.1.1","Fixed bug with roundabout SPF calculations, set all control strategies to \"No\" so users are required to \"turn on\" any control strategy they want to analyze."]
[]
[]
["2024-11-07",null,"5.2.0","Added SSI Methodology for Partial Cloverleaf A, Partial Cloverleaf B, Two Quadrant Partial Cloverleaf A, Two Quadrant Partial Cloverleaf B,and Half Diamond, correct AADT limits for ramp terminal intersections, added definitions for roundabout inputs"]
[]
[]
["2024-12-20",null,"5.2.0 (Revised)","Fixed bug in 'SSI Inputs' sheet."]
[]
[]
["2025-06-05",null,"5.2.1","Fixed bug in 'Results' and 'SSI Inputs' sheet and fixed formula glitches in 'RTI SSI_results' sheet."]

{"sheet":"Definitions","index":4,"n_rows":61,"n_cols":24,"rows_kept":61,"cut":false,"hidden":false,"merged":[[21,2,22,2],[23,2,24,2],[25,2,26,2],[27,2,28,2],[29,2,30,2],[27,1,28,1],[29,1,30,1],[31,1,32,1],[33,1,34,1],[25,1,26,1],[16,14,17,18],[18,14,19,14],[18,15,18,16],[18,17,18,18],[0,14,0,18],[1,15,1,16],[1,17,1,18],[35,1,36,1],[31,2,32,2],[33,2,34,2],[35,2,36,2],[19,0,20,0],[21,0,22,0],[23,0,24,0],[25,0,26,0],[27,0,28,0],[29,0,30,0],[31,0,32,0],[33,0,34,0],[35,0,36,0],[19,1,20,1],[21,1,22,1],[23,1,24,1],[21,11,21,12],[20,8,20,12],[2,9,2,10],[6,0,6,5],[11,9,11,10],[11,11,11,12],[10,8,10,12],[2,8,3,8],[11,8,12,8],[13,4,13,5],[2,3,2,5],[4,0,4,5],[2,0,3,0],[2,1,3,1],[2,2,3,2],[19,2,20,2],[7,3,7,5],[0,8,0,12],[1,8,1,12],[47,2,48,2],[0,0,0,5],[1,0,1,5],[41,2,42,2],[41,0,42,0],[41,1,42,1],[43,1,44,1],[45,1,46,1],[47,1,48,1],[36,9,36,10],[36,11,36,12],[2,11,2,12],[21,9,21,10],[51,9,51,10],[51,11,51,12],[51,1,52,1],[43,0,44,0],[47,0,48,0],[45,0,46,0],[51,0,52,0],[51,2,52,2],[45,2,46,2],[43,2,44,2],[24,15,24,22],[25,15,25,16],[25,17,25,18],[25,19,25,20],[25,21,25,22]]}
["Definitions",null,null,null,null,null,null,null,"At-Grade AADT Ranges for Traffic Signals and Minor Stops",null,null,null,null,null,"At-Grade AADT 1 and 2 Lane Roundabouts"]
["Definitions of values and variables required for SPICE analysis.",null,null,null,null,null,null,null,"Rural Two-Lane Highway",null,null,null,null,null,"Intersection Type","Major Road AADT",null,"Minor Road AADT"]
["User Input Variable","Units","Description","Applicable Ranges",null,null,null,null,"Intersection Type","Major Road AADT",null,"Minor Road AADT",null,null,"1 Circulating Lane","Min","Max","Min","Max"]
[null,null,null,"Range for:","Lower Limit","Upper Limit",null,null,null,"Min","Max","Min","Max",null,"3Leg",675,17369,409,14000]
["Control Strategy Selection",null,null,null,null,null,null,null,"3ST",0,19500,0,4300,null,"4Leg",1000,19733,280,11239]
["Number of Major Street Lanes","lanes","Number of lanes on the major street (both directions - does not include turn lanes)","-","-","-",null,null,"4ST",0,14700,0,3500,null,"2 Circulating Lanes","Min","Max","Min","Max"]
["At-Grade Intersection Inputs",null,null,null,null,null,null,null,"3SG",0,23591,0,23320,null,"3Leg",1000,22050,476,15108]
["Major/Minor Road AADT","veh/day","Average annual daily traffic (AADT) volume for the major and minor street approaches (see table for ranges).","See table starting in column I (to the right).",null,null,null,null,"4SG",0,25200,0,12500,null,"4Leg",1000,28333,390,19371]
["Skew Angle","degrees","Intersecting angle between major street and minor street approaches (hover cursor for graphical representation)","-","-","-",null,null,"3AWSC","--","--","--","--"]
["Number of Major Street Through Lanes","lanes","Number of through lanes on the major street (both directions - includes shared through lanes)","-","-","-",null,null,"4AWSC",0,12983,0,9985]
["Number of Minor Street Lanes","lanes","Number of lanes on the minor street (both directions - does not include turn lanes)","-","-","-",null,null,"Rural Multilane Highway"]
["Right-turn Channelization","-","An approach is considered to have right-turn channelization when a marked or raised-curb island is present separating the turn from the adjacent movements.  A standard exclusive right-turn lane (bay) that does not have this separation is not considered channelized.","-","-","-",null,null,"Intersection Type","Major Road AADT",null,"Minor Road AADT"]
["Inscribed Circle Diameter","ft","Distance across the circle inscribed by the outer curb (or edge) of the circulatory roadway","Roundabout",90,160,null,null,null,"Min","Max","Min","Max"]
["Opening Year Entering AADT","veh/day","Estimated Average annual daily traffic (AADT) volume entering the roundabout area for the year the roundabout is expected to be open","Roundabout","See Table in Column O "]
["Leg has Right-Turn Bypass","yes/no","Presence of right-turn bypass lane on exit","Roundabout","-","-",null,null,"3ST",0,78300,0,23000]
["Access Point within 250' of Yield Line","-","Number of Access Points (i.e., Driveways and unsignalized intersections) within 250 ft of Roundabout yield line","Roundabout",0,8,null,null,"4ST",0,78300,0,7400]
["Entering Width","ft","Distance measured from the point where the yield line intersects the left edge of the traveled way to the right edge of the traveled way, along a line that is perpendicular to the right curb line","Roundabout",24,34,null,null,"3SG",0,56000,0,27000,null,"At-Grade AADT Ranges for Restricted Crossing U-Turn (RCUT)"]
["Number of Entering Lanes","lanes","Number of lanes entering a leg of the roundabout (hover cursor for graphical representation).","Roundabout",1,2,null,null,"4SG",0,43500,0,18500]
["Number of Circulating Lanes","lanes","Number of lanes circulating a leg of the roundabout (hover cursor for graphical representation).","Roundabout",1,2,null,null,"3AWSC","--","--","--","--",null,"Intersection Type","Major Road AADT",null,"Minor Road AADT"]
["Number of U-Turns","-","U-turns are the u-turn locations at the right and left side of the intersection center. To be specific, they are crossovers just for the RCUT, but not the main intersection of an adjacent RCUT. Number of U-turns of the RCUT intersection, either 1 or 2.","Signalized RCUT",1,2,null,null,"4AWSC","--","--","--","--",null,null,"Min","Max","Min","Max"]
[null,null,null,"Unsignalized RCUT",1,2,null,null,"Urban and Suburban Arterials",null,null,null,null,null,"Signalized (3 & 4-leg)",9700,65500,1000,18218]
["Number of Major Road Lanes","lanes","Number of lanes on the major approach of the RCUT.  The highest number across both approaches was chosen (e.g. if one approach has 1 lane, and the other has 2, then 2 is chosen as the number of lanes). This number should only count through lanes.","Signalized RCUT",2,3,null,null,"Intersection Type","Major Road AADT",null,"Minor Road AADT",null,null,"Unsignalized (3 & 4-leg)",2950,47722,40,11500]
[null,null,null,"Unsignalized RCUT","-","-",null,null,"2x2 5 or Fewer Lanes","Min","Max","Min","Max"]
["Number of Minor Road Lanes","lanes","Number of lanes on the minor approach of the RCUT.  If the RCUT has two minor approaches, the highest number across both approaches is chosen. This number should only count through lanes.","Signalized RCUT",1,3,null,null,"3ST",0,45700,0,9300,null,"AADT Limits for Intersections"]
[null,null,null,"Unsignalized RCUT","-","-",null,null,"4ST",0,46800,0,5900,null,null,"Signalized"]
["Total Offset Distance","ft","The total distance between the center of the intersetion and the U-turn locations (e.g. if one approach has 800 ft. offset and the other one has 600 ft., then the total offset distance is 1400 ft.). This number should include all driveways and side streets, including publicly maintained roads, that connect within the footprint of the RCUT.","Signalized RCUT",650,2675,null,null,"3SG",0,58100,0,16400,null,null,"XRD IN",null,"XRD OUT",null,"Exit",null,"Entrance"]
[null,null,null,"Unsignalized RCUT",600,5575,null,null,"4SG",0,67700,0,33400,null,null,"Min","Max","Min","Max","Min","Max","Min","Max"]
["Number of Driveways","-","The number of driveways within the whole footprint (including intersection center, U-turns, and segment between intersection center and U-turns) of the RCUT intersection. This number should include all driveways and side streets, including publicly maintained roads, that connect within the footprint of the RCUT.","Signalized RCUT",0,10,null,null,"3AWSC",0,20131,0,11000,null,"Diamond Signalized",0,47000,0,47000,0,31000,0,31000,"HSM Table 19-11"]
[null,null,null,"Unsignalized RCUT",0,6,null,null,"4AWSC",0,12955,0,11982,null,"Diamond Signalized (Alt)",0,47000,0,47000,0,31000,0,31000,"HSM Table 19-11"]
["Total Deceleration Lane Length","ft","The total length of the deceleration lanes before U-turn locations (e.g. if one approach has 400 ft. deceleration lane and the other one has 250 ft., then total deceleration lane length is 650 ft.). The deceleration lane \"starts\" where the taper ends (aka the lane reaches full width) and \"ends\" where the U-turn curve begins.","Signalized RCUT",300,2300,null,null,"2x2 6+ Lanes","Min","Max","Min","Max",null,"Diverging Diamond"]
[null,null,null,"Unsignalized RCUT",0,1525,null,null,"3ST",0,66800,0,8600,null,"Single-Point Diamond",13445,70790,13445,70790,14069,80030,null,null,"*NCHRP 17-68 Table 92"]
["Total Acceleration Lane Length","ft","The maximum length of the acceleration lanes before U-turn locations (e.g. if one approach has 400 ft. acceleration lane and the other one has 250 ft., then 400 ft. is chosen as maximum acceleration lane length). The acceleration lane \"starts\" where the taper ends (aka the lane reaches full width) and \"ends\" where the U-turn curve begins.","Signalized RCUT","-","-",null,null,"4ST",0,54600,0,4600,null,"Diamond STOP",0,22000,0,22000,0,8000,0,8000,"HSM Table 19-11"]
[null,null,null,"Unsignalized RCUT",1,1600,null,null,"3SG",0,94000,0,31000,null,"Signalized Tight Diamond",8921,51438,8921,51438,9955,74656,null,null,"*NCHRP 17-68 Table 100"]
["Total Median Width","ft","The total median width of the major approaches (e.g. if one approach has 40 ft. median and the other one has 25 ft., then total median width is 65 ft.). The median width is measured from edge of pavement to edge of pavement.  In cases where the median is not a constant width, the measurement should be done where the median is widest. ","Signalized RCUT",0,145,null,null,"4SG",0,137600,0,68400,null,"Half Diamond Signalized (D3ex)",0,34000,0,34000,0,16000,0,16000,"HSM Table 19-11"]
[null,null,null,"Unsignalized RCUT","-","-",null,null,"3AWSC","--","--","--","--",null,"Half Diamond STOP (D3ex)",0,22000,0,22000,0,8000,0,8000,"HSM Table 19-11"]
["Maximum Median Width","ft","The maximum median width of the major approaches (e.g. if one approach has 40 ft. median and the other one has 25 ft., then 40 ft. is chosen as maximum median width). The median width is measured from edge of pavement to edge of pavement.","Signalized RCUT","-","-",null,null,"4AWSC","--","--","--","--",null,"Half Diamond Signalized (D3en)",0,29000,0,29000,0,21000,0,21000,"HSM Table 19-11"]
[null,null,null,"Unsignalized RCUT",0,150,null,null,"Intersection Type","Major Road AADT",null,"Minor Road AADT",null,null,"Half Diamond STOP (D3en)",0,22000,0,22000,0,15000,0,15000,"HSM Table 19-11"]
["Number of Left-Turn Lanes From Major Road","lanes","The maximum number of left turn lanes from major approach to minor approach.","Signalized RCUT",1,3,null,null,"1x2","Min","Max","Min","Max",null,"Two Quadrant Partial Cloverleaf A Signalized",0,46000,0,46000,0,25000,0,25000,"HSM Table 19-11"]
["Major Road Speed Limit","mph","Major approach speed limit.","Signalized RCUT",35,70,null,null,"3ST",0,42700,0,13400,null,"Two Quadrant Partial Cloverleaf A STOP",0,17000,0,17000,0,12000,0,12000,"HSM Table 19-11"]
["Ramp Terminal Intersection Inputs",null,null,null,null,null,null,null,"4ST",0,23400,0,19200,null,"Four Quadrant Partial Cloverleaf A Signalized",0,71000,0,71000,0,30000,0,30000,"HSM Table 19-11"]
["Crossroad","-","References the major street of the ramp terminal intersection (i.e., the non-ramp terminal legs)","-","-","-",null,null,"3SG",0,43800,0,58800,null,"Four Quadrant Partial Cloverleaf A STOP",0,21000,0,21000,0,12000,0,12000,"HSM Table 19-11"]
["Crossroad AADT - Inside Leg","veh/day","AADT volume of the crossroad leg located between the two ramp terminals of the interchange","Stop-Controlled",0,18000,null,null,"4SG",0,77000,0,98900,null,"Two Quadrant Partial Cloverleaf B Signalized",0,44000,0,44000,0,22000,0,22000,"HSM Table 19-11"]
[null,null,null,"Signalized",0,47000,null,null,"3AWSC","--","--","--","--",null,"Two Quadrant Partial Cloverleaf B STOP",0,26000,0,26000,0,14000,0,14000,"HSM Table 19-11"]
["Crossroad AADT - Outside Leg","veh/day","AADT volume of the crossroad leg located outside of the interchange","Stop-Controlled",0,18000,null,null,"4AWSC","--","--","--","--",null,"Four Quadrant Partial Cloverleaf B Signalized",0,45000,0,45000,0,29000,0,29000,"HSM Table 19-11"]
[null,null,null,"Signalized",0,47000,null,null,"1x1","Min","Max","Min","Max",null,"Four Quadrant Partial Cloverleaf B STOP",0,20000,0,20000,0,12000,0,12000,"HSM Table 19-11"]
["Ramp AADT - Exit","veh/day","AADT volume of the exit ramp","Stop-Controlled",0,10000,null,null,"3ST",0,16900,0,11100,null,"Other 1"]
[null,null,null,"Signalized",0,31000,null,null,"4ST",0,11000,0,6800,null,"Other 2"]
["Ramp AADT - Entrance","veh/day","AADT volume of the entrance ramp","Stop-Controlled",0,10000,null,null,"3SG",0,20100,0,7500]
[null,null,null,"Signalized",0,31000,null,null,"4SG",0,24300,0,16900]
["Exit Ramp Skew Angle","degrees","Skew angle equals 90 minus the intersection angle (in degrees) (hover cursor for graphical representation).","Stop-Controlled",0,70,null,null,"3AWSC","--","--","--","--"]
["Presence of Non-Ramp Public Street Leg","yes/no","Any ramp that has a fourth leg that: (1) is a public street serving two-way traffic and (2) intersects with the crossroad at the terminal. At most ramp terminals, the public street leg will be on the opposite side of the crossroad from the exit ramp.","-","-","-",null,null,"4AWSC","--","--","--","--"]
["Effective number of lanes serving exit ramp","lanes","Varies depending on exit ramp configuration (hover cursor for graphical representation of nex,eff)","Stop-Controlled",1,2,null,null,"Intersection Type","Major Road AADT",null,"Minor Road AADT"]
[null,null,null,"Signalized",1,4,null,null,"High Speed (55+ mph)","Min","Max","Min","Max"]
["Median Width","ft","Width of crossroad median measured from near edges of traveled way in both travel directions (hover cursor for graphical representation)","All",0,50,null,null,"3ST",0,58594,0,11335]
["Left-turn lane (bay) Width for crossroad leg","ft","Width of crossroad left-turn lane (hover cursor for graphical representation)","All",0,26,null,null,"4ST",0,59000,0,29800]
["Number of through traffic lanes that oppose the left-turn movement on the inside crossroad leg","lanes","Number of through lanes on crossroad outside leg that oppose crossroad inside leg left-turn movement","-","-","-",null,null,"3SG",0,47200,0,11282]
[{"$f":"'Ramp Terminal Inputs'!A26","v":"Distance (mi) to the adjacent ramp terminal"},"miles","Distance between subject ramp terminal and adjacent ramp terminal; measured along the crossroad from terminal center to terminal center (mi).","-","-","-",null,null,"4SG",0,59800,0,30029]
[{"$f":"'Ramp Terminal Inputs'!A27","v":"Distance (mi) to the next public street intersection on the outside crossroad leg"},"miles","Distance between subject ramp terminal and nearest public road intersection in a direction away form freeway; measured along the crossroad form terminal center to intersection center (mi).","-","-","-",null,null,"3AWSC","--","--","--","--"]
["Protected operation for crossroad leg","yes/no","\"Yes\" if a crossroad leg (inside or outside) has protected left-turn operation.  \"No\" if the crossroad leg has permissive or permissive-protected operation",null,null,null,null,null,"4AWSC","--","--","--","--"]
["Crossroad AADT - Single Point Diamond","veh/day","AADT volume for the crossroad. Not a required direct input of the SPICE tool, but is determined automatically as the maximum of the outside leg AADT values.","-",14000,70000]
["Ramp AADT - Single Point Diamond","veh/day","Sum of AADT volumes for all four ramps. Not a required direct input of the SPICE tool, this summation is done automatically.","-",14000,80000]

{"sheet":"Control Strategy Selection","index":5,"n_rows":97,"n_cols":32,"rows_kept":97,"cut":false,"hidden":false,"merged":[[17,4,17,5],[17,6,17,7],[26,4,26,5],[21,6,21,7],[28,4,28,5],[29,4,29,5],[26,6,26,7],[27,4,27,5],[27,6,27,7],[28,6,28,7],[29,6,29,7],[19,1,19,2],[80,6,80,7],[18,4,18,5],[18,6,18,7],[19,4,19,5],[19,6,19,7],[20,6,20,7],[20,4,20,5],[22,4,22,5],[22,6,22,7],[23,4,23,5],[23,6,23,7],[24,4,24,5],[24,6,24,7],[25,4,25,5],[78,4,78,5],[79,4,79,5],[80,4,80,5],[67,6,67,7],[68,6,68,7],[69,6,69,7],[70,6,70,7],[71,6,71,7],[72,6,72,7],[75,6,75,7],[76,6,76,7],[77,6,77,7],[78,6,78,7],[79,6,79,7],[73,4,73,5],[74,4,74,5],[75,4,75,5],[76,4,76,5],[77,4,77,5],[72,4,72,5],[66,4,66,5],[66,6,66,7],[64,6,64,7],[65,6,65,7],[67,4,67,5],[64,4,64,5],[65,4,65,5],[74,6,74,7],[73,6,73,7],[62,6,62,7],[63,6,63,7],[84,1,84,2],[85,1,85,2],[17,1,17,2],[4,0,4,2],[5,0,5,2],[6,0,6,2],[7,0,7,2],[8,0,8,2],[13,0,13,2],[14,0,14,2],[15,0,15,2],[12,0,12,2],[18,1,18,2],[20,1,20,2],[21,1,21,2],[22,1,22,2],[12,4,12,7],[13,4,13,7],[14,4,14,7],[15,4,15,7],[23,1,23,2],[68,4,68,5],[25,1,25,2],[26,1,26,2],[27,1,27,2],[24,1,24,2],[31,1,31,2],[28,1,28,2],[29,1,29,2],[30,1,30,2],[0,0,0,7],[1,0,1,7],[3,0,3,2],[9,0,9,2],[10,0,10,2],[11,0,11,2],[2,0,2,2],[4,4,4,7],[5,4,5,7],[7,4,10,7],[11,4,11,7],[2,4,2,7],[3,4,3,7],[16,0,16,7],[25,6,25,7],[21,4,21,5],[31,4,31,5],[32,4,32,5],[31,6,31,7],[32,6,32,7],[30,6,30,7],[30,4,30,5],[52,0,52,2],[33,1,33,2],[34,1,34,2],[60,6,60,7],[59,0,59,7],[32,1,32,2],[60,1,60,2],[61,1,61,2],[54,0,54,2],[55,0,55,2],[56,0,56,2],[53,0,53,2],[50,0,50,2],[44,0,44,2],[49,0,49,2],[51,0,51,2],[47,0,47,2],[48,0,48,2],[45,0,45,2],[61,6,61,7],[60,4,60,5],[33,6,33,7],[33,4,33,5],[34,4,34,5],[34,6,34,7],[63,1,63,2],[64,1,64,2],[62,1,62,2],[67,1,67,2],[68,1,68,2],[65,1,65,2],[66,1,66,2],[71,1,71,2],[61,4,61,5],[62,4,62,5],[63,4,63,5],[69,4,69,5],[70,4,70,5],[71,4,71,5],[80,1,80,2],[72,1,72,2],[78,1,78,2],[76,1,76,2],[70,1,70,2],[77,1,77,2],[75,1,75,2],[69,1,69,2],[74,1,74,2],[79,1,79,2],[73,1,73,2]]}
["Control Strategy Selection and Inputs"]
["Specify the Facility Level Inputs and the Control Strategies to be included in the SPICE Analysis."]
["Intersection Type"]
["Analysis Year"]
["Opening Year",null,null,null,{"$f":"IF(NOT(ISNUMBER(Input_OpenYear)),\"Please specify a valid Opening Year\",\"\")","v":"Please specify a valid Opening Year"}]
["Design Year",null,null,null,{"$f":"IF(Input_AnalysisYearType=Label_AnalysisYearType_OpenAndDesign,IF(NOT(ISNUMBER(Input_DesignYear)),\"Please specify a valid Design Year\",IF(Input_OpenYear>=Input_DesignYear,\"The Design Year must be later than the Opening Year\",\"\")),\"\")","v":""}]
[]
["Facility Type",null,null,null,"For more information on how to determine these values, see the \"Definitions\" worksheet"]
["Number of Legs"]
["1-Way/2-Way"]
["# of Major Street Lanes (both directions)"]
["Major Street Approach Speed"]
["Opening Year - Major Road AADT",null,null,null,{"$f":"IF(Input_Base_OAADTMajor=\"\", \"Please specify a non-zero AADT value\",\"\")","v":"Please specify a non-zero AADT value"}]
["Opening Year - Minor Road AADT",null,null,null,{"$f":"IF(Input_Base_OAADTMinor=\"\", \"Please specify a non-zero AADT value\",\"\")","v":"Please specify a non-zero AADT value"}]
["Design Year - Major Road AADT",null,null,null,{"$f":"IF(AND(Input_AnalysisYearType=Label_AnalysisYearType_OpenAndDesign,Input_Base_DAADTMajor=\"\"), \"Please specify a non-zero AADT value\",\"\")","v":""}]
["Design Year - Minor Road AADT",null,null,null,{"$f":"IF(AND(Input_AnalysisYearType=Label_AnalysisYearType_OpenAndDesign,Input_Base_DAADTMinor=\"\"), \"Please specify a non-zero AADT value\",\"\")","v":""}]
[null,null,null,null,null,null,null,null,null,null,null,null,null,null,"AADT Within Range?"]
["Control Strategy","Include",null,"Base Intersection","Comment 1",null,"Comment 2",null,null,null,null,null,null,null,"Opening","Design","Difference\nOpening","Difference\nDesign"]
["Traffic Signal",null,null,"--",{"$f":"IF(NOT(ISNUMBER(K19)),\"No SPF Available\",IF(O19,\"\",\"Opening Year AADT Outside of SPF Development Range\"))","v":""},null,{"$f":"IF(NOT(ISNUMBER(M19)),\"No SPF\",IF(Input_AnalysisYearType=Label_AnalysisYearType_OpenAndDesign,IF(P19,\"\",\"Design Year AADT Outside of SPF Development Range\"),\"\"))","v":""},null,{"$f":"IF(Input_FacilityType=FacilityType_Label_Rural2Ln,1,IF(Input_FacilityType=FacilityType_Label_RuralMultiLn,2,IF(Input_FacilityType=FacilityType_Label_Urban,IF(Input_1Way2Way=Notes!$A$54,IF(Input_MajorApproachSpeed=Notes!$A$67,7,IF(Input_NumMajorLanes=Notes!$A$60,3,4)),IF(Input_1Way2Way=Notes!$A$55,5,6)))))","v":false},{"$f":"IF(Input_NumLegs=Notes!$A$49,\"4\",\"3\")&\"SG\"","v":"3SG"},{"$f":"VLOOKUP($J19,IF($I19=7,Range_USA_HS,IF($I19=6,Range_USA_1x1,IF($I19=5,Range_USA_1x2,IF($I19=4,Range_USA_2x2_6P,IF($I19=3,Range_USA_2x2_5F,IF($I19=2,Range_RML, Range_R2L)))))),2,FALSE)","v":0},{"$f":"VLOOKUP($J19,IF($I19=7,Range_USA_HS,IF($I19=6,Range_USA_1x1,IF($I19=5,Range_USA_1x2,IF($I19=4,Range_USA_2x2_6P,IF($I19=3,Range_USA_2x2_5F,IF($I19=2,Range_RML, Range_R2L)))))),3,FALSE)","v":23591},{"$f":"VLOOKUP($J19,IF($I19=7,Range_USA_HS,IF($I19=6,Range_USA_1x1,IF($I19=5,Range_USA_1x2,IF($I19=4,Range_USA_2x2_6P,IF($I19=3,Range_USA_2x2_5F,IF($I19=2,Range_RML, Range_R2L)))))),4,FALSE)","v":0},{"$f":"VLOOKUP($J19,IF($I19=7,Range_USA_HS,IF($I19=6,Range_USA_1x1,IF($I19=5,Range_USA_1x2,IF($I19=4,Range_USA_2x2_6P,IF($I19=3,Range_USA_2x2_5F,IF($I19=2,Range_RML, Range_R2L)))))),5,FALSE)","v":23320},{"$f":"AND(Input_Base_OAADTMajor>=K19,Input_Base_OAADTMajor<=L19,Input_Base_OAADTMinor>=M19,Input_Base_OAADTMinor<=N19)","v":true},{"$f":"AND(Input_Base_DAADTMajor>=K19,Input_Base_DAADTMajor<=L19,Input_Base_DAADTMinor>=M19,Input_Base_DAADTMinor<=N19)","v":true},{"$f":"MAX(IF(Input_Base_OAADTMajor>=$K19,0,($K19-Input_Base_OAADTMajor)/$K19),IF(Input_Base_OAADTMajor<=$L19,0,(Input_Base_OAADTMajor-$L19)/$L19), IF(Input_Base_OAADTMinor>=$M19,0,($M19-Input_Base_OAADTMinor)/$M19), IF(Input_Base_OAADTMinor<=$N19,0,(Input_Base_OAADTMinor-$N19)/$N19))","v":0},{"$f":"MAX(IF(Input_Base_DAADTMajor>=$K19,0,($K19-Input_Base_DAADTMajor)/$K19),IF(Input_Base_DAADTMajor<=$L19,0,(Input_Base_DAADTMajor-$L19)/$L19), IF(Input_Base_DAADTMinor>=$M19,0,($M19-Input_Base_DAADTMinor)/$M19), IF(Input_Base_DAADTMinor<=$N19,0,(Input_Base_DAADTMinor-$N19)/$N19))","v":0},{"$f":"Q19","v":0},{"$f":"R19","v":0}]
["Traffic Signal (Alternative Configuration)",null,null,"--","",null,"",null,{"$f":"IF(Input_FacilityType=FacilityType_Label_Rural2Ln,1,IF(Input_FacilityType=FacilityType_Label_RuralMultiLn,2,IF(Input_FacilityType=FacilityType_Label_Urban,IF(Input_1Way2Way=Notes!$A$54,IF(Input_MajorApproachSpeed=Notes!$A$67,7,IF(Input_NumMajorLanes=Notes!$A$60,3,4)),IF(Input_1Way2Way=Notes!$A$55,5,6)))))","v":false},{"$f":"IF(Input_NumLegs=Notes!$A$49,\"4\",\"3\")&\"SG\"","v":"3SG"},{"$f":"VLOOKUP($J20,IF($I20=7,Range_USA_HS,IF($I20=6,Range_USA_1x1,IF($I20=5,Range_USA_1x2,IF($I20=4,Range_USA_2x2_6P,IF($I20=3,Range_USA_2x2_5F,IF($I20=2,Range_RML, Range_R2L)))))),2,FALSE)","v":0},{"$f":"VLOOKUP($J20,IF($I20=7,Range_USA_HS,IF($I20=6,Range_USA_1x1,IF($I20=5,Range_USA_1x2,IF($I20=4,Range_USA_2x2_6P,IF($I20=3,Range_USA_2x2_5F,IF($I20=2,Range_RML, Range_R2L)))))),3,FALSE)","v":23591},{"$f":"VLOOKUP($J20,IF($I20=7,Range_USA_HS,IF($I20=6,Range_USA_1x1,IF($I20=5,Range_USA_1x2,IF($I20=4,Range_USA_2x2_6P,IF($I20=3,Range_USA_2x2_5F,IF($I20=2,Range_RML, Range_R2L)))))),4,FALSE)","v":0},{"$f":"VLOOKUP($J20,IF($I20=7,Range_USA_HS,IF($I20=6,Range_USA_1x1,IF($I20=5,Range_USA_1x2,IF($I20=4,Range_USA_2x2_6P,IF($I20=3,Range_USA_2x2_5F,IF($I20=2,Range_RML, Range_R2L)))))),5,FALSE)","v":23320},true,true,0,0,{"$f":"Q19","v":0},{"$f":"R19","v":0}]
["Minor Road Stop Control",null,null,"--","",null,"",null,{"$f":"IF(Input_FacilityType=FacilityType_Label_Rural2Ln,1,IF(Input_FacilityType=FacilityType_Label_RuralMultiLn,2,IF(Input_FacilityType=FacilityType_Label_Urban,IF(Input_1Way2Way=Notes!$A$54,IF(Input_MajorApproachSpeed=Notes!$A$67,7,IF(Input_NumMajorLanes=Notes!$A$60,3,4)),IF(Input_1Way2Way=Notes!$A$55,5,6)))))","v":false},{"$f":"IF(Input_NumLegs=Notes!$A$49,\"4\",\"3\")&\"ST\"","v":"3ST"},{"$f":"VLOOKUP($J21,IF($I21=7,Range_USA_HS,IF($I21=6,Range_USA_1x1,IF($I21=5,Range_USA_1x2,IF($I21=4,Range_USA_2x2_6P,IF($I21=3,Range_USA_2x2_5F,IF($I21=2,Range_RML, Range_R2L)))))),2,FALSE)","v":0},{"$f":"VLOOKUP($J21,IF($I21=7,Range_USA_HS,IF($I21=6,Range_USA_1x1,IF($I21=5,Range_USA_1x2,IF($I21=4,Range_USA_2x2_6P,IF($I21=3,Range_USA_2x2_5F,IF($I21=2,Range_RML, Range_R2L)))))),3,FALSE)","v":19500},{"$f":"VLOOKUP($J21,IF($I21=7,Range_USA_HS,IF($I21=6,Range_USA_1x1,IF($I21=5,Range_USA_1x2,IF($I21=4,Range_USA_2x2_6P,IF($I21=3,Range_USA_2x2_5F,IF($I21=2,Range_RML, Range_R2L)))))),4,FALSE)","v":0},{"$f":"VLOOKUP($J21,IF($I21=7,Range_USA_HS,IF($I21=6,Range_USA_1x1,IF($I21=5,Range_USA_1x2,IF($I21=4,Range_USA_2x2_6P,IF($I21=3,Range_USA_2x2_5F,IF($I21=2,Range_RML, Range_R2L)))))),5,FALSE)","v":4300},true,true,0,0,{"$f":"Q20","v":0},{"$f":"R20","v":0}]
["All Way Stop Control",null,null,"--",{"$f":"IF(Input_Include_AS = \"No\", \"\", IF(NOT(ISNUMBER(K22)), \"No SPF Available\", IF(O22 = \"\", \"Opening Year AADT Outside of SPF Development Range\", \"\")))","v":"No SPF Available"},null,{"$f":"IF(Input_Include_AS = \"No\", \"\", IF(NOT(ISNUMBER(M22)), \"No SPF Available\", IF(Input_AnalysisYearType = Label_AnalysisYearType_OpenAndDesign, IF(P22 = \"\", \"Design Year AADT Outside of SPF Development Range\", \"\"), \"\")))","v":"No SPF Available"},null,{"$f":"IF(Input_FacilityType=FacilityType_Label_Rural2Ln,1,IF(Input_FacilityType=FacilityType_Label_RuralMultiLn,2,IF(Input_FacilityType=FacilityType_Label_Urban,IF(Input_1Way2Way=Notes!$A$54,IF(Input_MajorApproachSpeed=Notes!$A$67,7,IF(Input_NumMajorLanes=Notes!$A$60,3,4)),IF(Input_1Way2Way=Notes!$A$55,5,6)))))","v":false},{"$f":"IF(Input_NumLegs=Notes!$A$49,\"4\",\"3\")&\"AWSC\"","v":"3AWSC"},{"$f":"VLOOKUP($J22,IF($I22=7,Range_USA_HS,IF($I22=6,Range_USA_1x1,IF($I22=5,Range_USA_1x2,IF($I22=4,Range_USA_2x2_6P,IF($I22=3,Range_USA_2x2_5F,IF($I22=2,Range_RML, Range_R2L)))))),2,FALSE)","v":"--"},{"$f":"VLOOKUP($J22,IF($I22=7,Range_USA_HS,IF($I22=6,Range_USA_1x1,IF($I22=5,Range_USA_1x2,IF($I22=4,Range_USA_2x2_6P,IF($I22=3,Range_USA_2x2_5F,IF($I22=2,Range_RML, Range_R2L)))))),3,FALSE)","v":"--"},{"$f":"VLOOKUP($J22,IF($I22=7,Range_USA_HS,IF($I22=6,Range_USA_1x1,IF($I22=5,Range_USA_1x2,IF($I22=4,Range_USA_2x2_6P,IF($I22=3,Range_USA_2x2_5F,IF($I22=2,Range_RML, Range_R2L)))))),4,FALSE)","v":"--"},{"$f":"VLOOKUP($J22,IF($I22=7,Range_USA_HS,IF($I22=6,Range_USA_1x1,IF($I22=5,Range_USA_1x2,IF($I22=4,Range_USA_2x2_6P,IF($I22=3,Range_USA_2x2_5F,IF($I22=2,Range_RML, Range_R2L)))))),5,FALSE)","v":"--"},{"$f":"IF(OR(ISBLANK(Input_Base_OAADTMajor), ISBLANK(Input_Base_OAADTMinor)), TRUE, AND(Input_Base_OAADTMajor>=K22,Input_Base_OAADTMajor<=L22,Input_Base_OAADTMinor>=M22,Input_Base_OAADTMinor<=N22))","v":true},{"$f":"IF(OR(ISBLANK(Input_Base_DAADTMajor), ISBLANK(Input_Base_DAADTMinor)), TRUE, AND(Input_Base_DAADTMajor>=K22,Input_Base_DAADTMajor<=L22,Input_Base_DAADTMinor>=M22,Input_Base_DAADTMinor<=N22))","v":true},{"$f":"IF(O22, 0, MAX(IF(Input_Base_OAADTMajor>=$K22,0,($K22-Input_Base_OAADTMajor)/$K22),IF(Input_Base_OAADTMajor<=$L22,0,(Input_Base_OAADTMajor-$L22)/$L22), IF(Input_Base_OAADTMinor>=$M22,0,($M22-Input_Base_OAADTMinor)/$M22), IF(Input_Base_OAADTMinor<=$N22,0,(Input_Base_OAADTMinor-$N22)/$N22)))","v":0},{"$f":"IF(P22, 0, MAX(IF(Input_Base_DAADTMajor>=$K22,0,($K22-Input_Base_DAADTMajor)/$K22),IF(Input_Base_DAADTMajor<=$L22,0,(Input_Base_DAADTMajor-$L22)/$L22), IF(Input_Base_DAADTMinor>=$M22,0,($M22-Input_Base_DAADTMinor)/$M22), IF(Input_Base_DAADTMinor<=$N22,0,(Input_Base_DAADTMinor-$N22)/$N22)))","v":0},{"$f":"Q20","v":0},{"$f":"R20","v":0}]
["1-Lane Roundabout",null,null,"--","",null,"",null,{"$f":"IF(Input_FacilityType=FacilityType_Label_Rural2Ln,1,IF(Input_FacilityType=FacilityType_Label_RuralMultiLn,2,IF(Input_FacilityType=FacilityType_Label_Urban,IF(Input_1Way2Way=Notes!$A$54,IF(Input_MajorApproachSpeed=Notes!$A$67,7,IF(Input_NumMajorLanes=Notes!$A$60,3,4)),IF(Input_1Way2Way=Notes!$A$55,5,6)))))","v":false},{"$f":"IF(Input_NumLegs=Notes!$A$49,\"4\",\"3\")&\"Leg\"","v":"3Leg"},{"$f":"VLOOKUP($J23,Range_RAB1,2,FALSE)","v":675},{"$f":"VLOOKUP($J23,Range_RAB1,3,FALSE)","v":17369},{"$f":"VLOOKUP($J23,Range_RAB1,4,FALSE)","v":409},{"$f":"VLOOKUP($J23,Range_RAB1,5,FALSE)","v":14000},{"$f":"IF(OR(ISBLANK(Input_Base_OAADTMajor), ISBLANK(Input_Base_OAADTMinor)), TRUE, AND(Input_Base_OAADTMajor>=K23,Input_Base_OAADTMajor<=L23,Input_Base_OAADTMinor>=M23,Input_Base_OAADTMinor<=N23))","v":true},{"$f":"IF(OR(ISBLANK(Input_Base_DAADTMajor), ISBLANK(Input_Base_DAADTMinor)), TRUE, AND(Input_Base_DAADTMajor>=K23,Input_Base_DAADTMajor<=L23,Input_Base_DAADTMinor>=M23,Input_Base_DAADTMinor<=N23))","v":true},{"$f":"IF(O23, 0, MAX(IF(Input_Base_OAADTMajor>=$K23,0,($K23-Input_Base_OAADTMajor)/$K23),IF(Input_Base_OAADTMajor<=$L23,0,(Input_Base_OAADTMajor-$L23)/$L23), IF(Input_Base_OAADTMinor>=$M23,0,($M23-Input_Base_OAADTMinor)/$M23), IF(Input_Base_OAADTMinor<=$N23,0,(Input_Base_OAADTMinor-$N23)/$N23)))","v":0},{"$f":"IF(P23, 0, MAX(IF(Input_Base_DAADTMajor>=$K23,0,($K23-Input_Base_DAADTMajor)/$K23),IF(Input_Base_DAADTMajor<=$L23,0,(Input_Base_DAADTMajor-$L23)/$L23), IF(Input_Base_DAADTMinor>=$M23,0,($M23-Input_Base_DAADTMinor)/$M23), IF(Input_Base_DAADTMinor<=$N23,0,(Input_Base_DAADTMinor-$N23)/$N23)))","v":0},{"$f":"Q21","v":0},{"$f":"R21","v":0}]
["2-Lane Roundabout",null,null,"--","",null,"",null,{"$f":"IF(Input_FacilityType=FacilityType_Label_Rural2Ln,1,IF(Input_FacilityType=FacilityType_Label_RuralMultiLn,2,IF(Input_FacilityType=FacilityType_Label_Urban,IF(Input_1Way2Way=Notes!$A$54,IF(Input_MajorApproachSpeed=Notes!$A$67,7,IF(Input_NumMajorLanes=Notes!$A$60,3,4)),IF(Input_1Way2Way=Notes!$A$55,5,6)))))","v":false},{"$f":"IF(Input_NumLegs=Notes!$A$49,\"4\",\"3\")&\"Leg\"","v":"3Leg"},{"$f":"VLOOKUP($J24,Range_RAB2,2,FALSE)","v":1000},{"$f":"VLOOKUP($J24,Range_RAB2,3,FALSE)","v":22050},{"$f":"VLOOKUP($J24,Range_RAB2,4,FALSE)","v":476},{"$f":"VLOOKUP($J24,Range_RAB2,5,FALSE)","v":15108},{"$f":"IF(OR(ISBLANK(Input_Base_OAADTMajor), ISBLANK(Input_Base_OAADTMinor)), TRUE, AND(Input_Base_OAADTMajor>=K24,Input_Base_OAADTMajor<=L24,Input_Base_OAADTMinor>=M24,Input_Base_OAADTMinor<=N24))","v":true},{"$f":"IF(OR(ISBLANK(Input_Base_DAADTMajor), ISBLANK(Input_Base_DAADTMinor)), TRUE, AND(Input_Base_DAADTMajor>=K24,Input_Base_DAADTMajor<=L24,Input_Base_DAADTMinor>=M24,Input_Base_DAADTMinor<=N24))","v":true},{"$f":"IF(O24, 0, MAX(IF(Input_Base_OAADTMajor>=$K24,0,($K24-Input_Base_OAADTMajor)/$K24),IF(Input_Base_OAADTMajor<=$L24,0,(Input_Base_OAADTMajor-$L24)/$L24), IF(Input_Base_OAADTMinor>=$M24,0,($M24-Input_Base_OAADTMinor)/$M24), IF(Input_Base_OAADTMinor<=$N24,0,(Input_Base_OAADTMinor-$N24)/$N24)))","v":0},{"$f":"IF(P24, 0, MAX(IF(Input_Base_DAADTMajor>=$K24,0,($K24-Input_Base_DAADTMajor)/$K24),IF(Input_Base_DAADTMajor<=$L24,0,(Input_Base_DAADTMajor-$L24)/$L24), IF(Input_Base_DAADTMinor>=$M24,0,($M24-Input_Base_DAADTMinor)/$M24), IF(Input_Base_DAADTMinor<=$N24,0,(Input_Base_DAADTMinor-$N24)/$N24)))","v":0},{"$f":"Q21","v":0},{"$f":"R21","v":0}]
["Partial Displaced Left Turn (PDLT)",null,null,"Traffic Signal",null,null,null,null,null,null,null,null,null,null,null,null,0,0,{"$f":"Q22","v":0},{"$f":"R22","v":0}]
["Full Median U-Turn (MUT)",null,null,"Traffic Signal",null,null,null,null,null,null,null,null,null,null,null,null,0,0,{"$f":"Q22","v":0},{"$f":"R22","v":0}]
["Signalized Restricted Crossing U-Turn (RCUT)",null,null,"--",{"$f":"IF(NOT(ISNUMBER(K27)),\"No SPF Available\",IF(NOT(O27),\"Opening Year AADT Outside of SPF Development Range\", IF(NOT(AND(Range_SRCUT_OAADT_Ratio)),\"Open Major/Minor AADT Ratio Outside of SPF Development Range\",\"\")))","v":""},null,{"$f":"IF(NOT(ISNUMBER(M27)),\"No SPF\",IF(Input_AnalysisYearType=Label_AnalysisYearType_OpenAndDesign,IF(NOT(P27),\"Design Year AADT Outside of SPF Development Range\",IF(NOT(AND(Range_SRCUT_DAADT_Ratio)),\"Design Major/Minor AADT Ratio Outside of SPF Development Range\",\"\")),\"\"))","v":""},null,null,null,{"$f":"Definitions!P21","v":9700},{"$f":"Definitions!Q21","v":65500},{"$f":"Definitions!R21","v":1000},{"$f":"Definitions!S21","v":18218},{"$f":"IF(OR(ISBLANK(Input_Base_OAADTMajor), ISBLANK(Input_Base_OAADTMinor)), TRUE, AND(Input_Base_OAADTMajor>=K27,Input_Base_OAADTMajor<=L27,Input_Base_OAADTMinor>=M27,Input_Base_OAADTMinor<=N27))","v":true},{"$f":"IF(OR(ISBLANK(Input_Base_DAADTMajor), ISBLANK(Input_Base_DAADTMinor)), TRUE, AND(Input_Base_DAADTMajor>=K27,Input_Base_DAADTMajor<=L27,Input_Base_DAADTMinor>=M27,Input_Base_DAADTMinor<=N27))","v":true},{"$f":"IF(O27, 0, MAX(IF(Input_Base_OAADTMajor>=$K27,0,($K27-Input_Base_OAADTMajor)/$K27),IF(Input_Base_OAADTMajor<=$L27,0,(Input_Base_OAADTMajor-$L27)/$L27), IF(Input_Base_OAADTMinor>=$M27,0,($M27-Input_Base_OAADTMinor)/$M27), IF(Input_Base_OAADTMinor<=$N27,0,(Input_Base_OAADTMinor-$N27)/$N27)))","v":0},{"$f":"IF(P27, 0, MAX(IF(Input_Base_DAADTMajor>=$K27,0,($K27-Input_Base_DAADTMajor)/$K27),IF(Input_Base_DAADTMajor<=$L27,0,(Input_Base_DAADTMajor-$L27)/$L27), IF(Input_Base_DAADTMinor>=$M27,0,($M27-Input_Base_DAADTMinor)/$M27), IF(Input_Base_DAADTMinor<=$N27,0,(Input_Base_DAADTMinor-$N27)/$N27)))","v":0},{"$f":"Q23","v":0},{"$f":"R23","v":0}]
["Unsignalized Restricted Crossing U-Turn (RCUT)",null,null,"--",{"$f":"IF(NOT(ISNUMBER(K28)),\"No SPF Available\",IF(O28,\"\",\"Opening Year AADT Outside of SPF Development Range\"))","v":""},null,{"$f":"IF(NOT(ISNUMBER(M28)),\"No SPF\",IF(Input_AnalysisYearType=Label_AnalysisYearType_OpenAndDesign,IF(P28,\"\",\"Design Year AADT Outside of SPF Development Range\"),\"\"))","v":""},null,null,null,{"$f":"Definitions!P22","v":2950},{"$f":"Definitions!Q22","v":47722},{"$f":"Definitions!R22","v":40},{"$f":"Definitions!S22","v":11500},{"$f":"IF(OR(ISBLANK(Input_Base_OAADTMajor), ISBLANK(Input_Base_OAADTMinor)), TRUE, AND(Input_Base_OAADTMajor>=K28,Input_Base_OAADTMajor<=L28,Input_Base_OAADTMinor>=M28,Input_Base_OAADTMinor<=N28))","v":true},{"$f":"IF(OR(ISBLANK(Input_Base_DAADTMajor), ISBLANK(Input_Base_DAADTMinor)), TRUE, AND(Input_Base_DAADTMajor>=K28,Input_Base_DAADTMajor<=L28,Input_Base_DAADTMinor>=M28,Input_Base_DAADTMinor<=N28))","v":true},{"$f":"IF(O28, 0, MAX(IF(Input_Base_OAADTMajor>=$K28,0,($K28-Input_Base_OAADTMajor)/$K28),IF(Input_Base_OAADTMajor<=$L28,0,(Input_Base_OAADTMajor-$L28)/$L28), IF(Input_Base_OAADTMinor>=$M28,0,($M28-Input_Base_OAADTMinor)/$M28), IF(Input_Base_OAADTMinor<=$N28,0,(Input_Base_OAADTMinor-$N28)/$N28)))","v":0},{"$f":"IF(P28, 0, MAX(IF(Input_Base_DAADTMajor>=$K28,0,($K28-Input_Base_DAADTMajor)/$K28),IF(Input_Base_DAADTMajor<=$L28,0,(Input_Base_DAADTMajor-$L28)/$L28), IF(Input_Base_DAADTMinor>=$M28,0,($M28-Input_Base_DAADTMinor)/$M28), IF(Input_Base_DAADTMinor<=$N28,0,(Input_Base_DAADTMinor-$N28)/$N28)))","v":0},{"$f":"Q23","v":0},{"$f":"R23","v":0}]
["Signalized Thru-Cut*",null,null,"--","*SSI Only, No Crash Prediction Available",null,null,null,null,null,null,null,null,null,null,null,0,0,{"$f":"Q24","v":0},{"$f":"R24","v":0}]
["Unsignalized Thru-Cut*",null,null,"--","*SSI Only, No Crash Prediction Available",null,null,null,null,null,null,null,null,null,null,null,0,0,{"$f":"Q24","v":0},{"$f":"R24","v":0}]
["Bowtie*",null,null,"--","*SSI Only, No Crash Prediction Available",null,null,null,null,null,null,null,null,null,null,null,0,0,{"$f":"Q25","v":0},{"$f":"R25","v":0}]
["Continuous Green-T Intersection","No",null,"Traffic Signal",null,null,null,null,null,null,null,null,null,null,null,null,0,0,{"$f":"Q25","v":0},{"$f":"R25","v":0}]
["Jughandle",null,null,"Traffic Signal",null,null,null,null,null,null,null,null,null,null,null,null,0,0,{"$f":"Q26","v":0},{"$f":"R26","v":0}]
["Other 1",null,null,"Traffic Signal","Please Select the Base Intersection Type",null,null,null,null,null,null,null,null,null,null,null,0,0,{"$f":"Q26","v":0},{"$f":"R26","v":0}]
["Other 2",null,null,"Minor Road Stop","Please Select the Base Intersection Type",null,null,null,null,null,null,null,null,null,null,null,0,0,{"$f":"Q27","v":0},{"$f":"R27","v":0}]
[null,null,{"$f":"IF(OR(Input_Include_R2=\"Yes\",Input_Include_DLT=\"Yes\",Input_Include_MUT=\"Yes\",Input_Include_SRCUT=\"Yes\",Input_Include_URCUT=\"Yes\",Input_Include_SigThruCut=\"Yes\",Input_Include_UnsigThruCut=\"Yes\",Input_Include_CGT=\"Yes\"),\"TRUE\",\"FALSE\")","v":"FALSE"},null,null,null,null,null,null,null,null,null,null,null,null,null,null,null,{"$f":"Q27","v":0},{"$f":"R27","v":0}]
[null,null,null,null,null,null,null,null,null,null,null,null,null,null,null,null,null,null,{"$f":"Q28","v":0},{"$f":"R28","v":0}]
[null,null,null,null,null,null,null,null,null,null,null,null,null,null,null,null,null,null,{"$f":"Q28","v":0},{"$f":"R28","v":0}]
[null,null,null,null,null,null,null,null,null,null,null,null,null,null,null,null,null,null,0,0]
[null,null,null,null,null,null,null,null,null,null,null,null,null,null,null,null,null,null,0,0]
[null,null,null,null,null,null,null,null,null,null,null,null,null,null,null,null,null,null,0,0]
[null,null,null,null,null,null,null,null,null,null,null,null,null,null,null,null,null,null,0,0]
[null,null,null,null,null,null,null,null,null,null,null,null,null,null,null,null,null,null,0,0]
[null,null,null,null,null,null,null,null,null,null,null,null,null,null,null,null,null,null,0,0]
["Freeway Orientation"]
["Area Type"]
[]
["Opening Year AADT",null,null,{"$f":"IF($D$45=Notes!$J$26,\"NB\",\"EB\") & \" Ramp Terminal\"","v":"EB Ramp Terminal"},{"$f":"IF($D$45=Notes!$J$26,\"SB\",\"WB\") & \" Ramp Terminal\"","v":"WB Ramp Terminal"}]
["Crossroad - Inside Leg",null,null,null,null,{"$f":"IF(AND(ISNUMBER(Input_RTI_OAADTIn1),ISNUMBER(Input_RTI_OAADTIn2)),\"\",\"***Please fill a valid Opeining Year AADT\")","v":"***Please fill a valid Opeining Year AADT"}]
["Crossroad - Outside Leg",null,null,null,null,{"$f":"IF(AND(ISNUMBER(Input_RTI_OAADTOut1),ISNUMBER(Input_RTI_OAADTOut2)),\"\",\"***Please fill a valid Opeining Year AADT\")","v":"***Please fill a valid Opeining Year AADT"}]
["Exit Ramp",null,null,null,null,{"$f":"IF(AND(ISNUMBER(Input_RTI_OAADTEx1),ISNUMBER(Input_RTI_OAADTEx2)),\"\",\"***Please fill a valid Opeining Year AADT\")","v":"***Please fill a valid Opeining Year AADT"}]
["Entrance Ramp",null,null,null,null,{"$f":"IF(AND(ISNUMBER(Input_RTI_OAADTEn1),ISNUMBER(Input_RTI_OAADTEn2)),\"\",\"***Please fill a valid Opeining Year AADT\")","v":"***Please fill a valid Opeining Year AADT"}]
["Design Year AADT",null,null,{"$f":"IF($D$45=Notes!$J$26,\"NB\",\"EB\") & \" Ramp Terminal\"","v":"EB Ramp Terminal"},{"$f":"IF($D$45=Notes!$J$26,\"SB\",\"WB\") & \" Ramp Terminal\"","v":"WB Ramp Terminal"}]
["Crossroad - Inside Leg",null,null,null,null,{"$f":"IF(Input_AnalysisYearType=Label_AnalysisYearType_OpenAndDesign, IF(AND(ISNUMBER(Input_RTI_DAADTIn1),ISNUMBER(Input_RTI_DAADTIn2)),\"\",\"***Please fill a valid Design Year AADT\"), \"\")","v":""}]
["Crossroad - Outside Leg",null,null,null,null,{"$f":"IF(Input_AnalysisYearType=Label_AnalysisYearType_OpenAndDesign, IF(AND(ISNUMBER(Input_RTI_DAADTOut1),ISNUMBER(Input_RTI_DAADTOut2)),\"\",\"***Please fill a valid Design Year AADT\"), \"\")","v":""}]
["Exit Ramp",null,null,null,null,{"$f":"IF(Input_AnalysisYearType=Label_AnalysisYearType_OpenAndDesign, IF(AND(ISNUMBER(Input_RTI_DAADTEx1),ISNUMBER(Input_RTI_DAADTEx2)),\"\",\"***Please fill a valid Design Year AADT\"), \"\")","v":""}]
["Entrance Ramp",null,null,null,null,{"$f":"IF(Input_AnalysisYearType=Label_AnalysisYearType_OpenAndDesign, IF(AND(ISNUMBER(Input_RTI_DAADTEn1),ISNUMBER(Input_RTI_DAADTEn2)),\"\",\"***Please fill a valid Design Year AADT\"), \"\")","v":""}]
[]
[]
["Ramp Terminal Intersections",null,null,null,null,null,null,null,null,null,"XRD IN",null,"XRD Out",null,"Total Ramp Volume",null,"ENTR",null,"Terminal 1",null,"Terminal 2",null,"AADT Within Range?"]
["Traffic Control (both intersections)","Include",null,"Base Intersection","Comment 1",null,"Comment 2",null,null,null,"Min","Max","Min","Max","Min","Max","Min","Max","Opening","Design","Opening","Design","Opening","Design","Opening T1","Opening T2","Desgin T1","Design T2","Opening Max","Design Max"]
["Diamond Signalized",null,null,"--",{"$f":"IF(NOT(ISNUMBER(K62)),\"No SPF Available\",IF(OR(NOT(IsChecked_RTI_D4TS),W62),\"\",\"Opening Year AADT Outside of SPF Development Range\"))","v":""},null,{"$f":"IF(NOT(ISNUMBER(L62)),\"No SPF Available\",IF(OR(NOT(Input_AnalysisYearType=Label_AnalysisYearType_OpenAndDesign),NOT(IsChecked_RTI_D4TS),X62),\"\",\"Design Year AADT Outside of SPF Development Range\"))","v":""},null,null,null,{"$f":"Definitions!E43","v":0},{"$f":"Definitions!F43","v":47000},{"$f":"Definitions!E45","v":0},{"$f":"Definitions!F45","v":47000},{"$f":"Definitions!E47","v":0},{"$f":"Definitions!F47","v":31000},{"$f":"Definitions!E49","v":0},{"$f":"Definitions!F49","v":31000},{"$f":"AND(Input_RTI_OAADTIn1>=K62,Input_RTI_OAADTIn1<=L62,Input_RTI_OAADTOut1>=M62,Input_RTI_OAADTOut1<=N62,(Input_RTI_OAADTEx1+Input_RTI_OAADTEn1)>=O62,(Input_RTI_OAADTEx1+Input_RTI_OAADTEn1)<=P62)","v":true},{"$f":"AND(Input_RTI_DAADTIn1>=K62, Input_RTI_DAADTIn1<=L62, Input_RTI_DAADTOut1>=M62, Input_RTI_DAADTOut1<=N62, (Input_RTI_DAADTEx1+Input_RTI_DAADTEn1)>=O62, (Input_RTI_DAADTEx1+Input_RTI_DAADTEn1)<=P62)","v":true},{"$f":"AND(Input_RTI_OAADTIn2>=K62, Input_RTI_OAADTIn2<=L62, Input_RTI_OAADTOut2>=M62, Input_RTI_OAADTOut2<=N62, (Input_RTI_OAADTEx2+Input_RTI_OAADTEn2)>=O62, (Input_RTI_OAADTEx2+Input_RTI_OAADTEn2)<=P62)","v":true},{"$f":"AND(Input_RTI_DAADTIn2>=K62, Input_RTI_DAADTIn2<=L62, Input_RTI_DAADTOut2>=M62, Input_RTI_DAADTOut2<=N62, (Input_RTI_DAADTEx2+Input_RTI_DAADTEn2)>=O62, (Input_RTI_DAADTEx2+Input_RTI_DAADTEn2)<=P62)","v":true},{"$f":"AND(S62,U62)","v":true},{"$f":"AND(T62,V62)","v":true},{"$f":"MAX(IF(Input_RTI_OAADTIn1>=$K62, 0, ($K62-Input_RTI_OAADTIn1)/$K62),IF(Input_RTI_OAADTIn1<=$L62, 0, (Input_RTI_OAADTIn1-$L62)/$L62), IF(Input_RTI_OAADTOut1>=$M62, 0, ($M62-Input_RTI_OAADTOut1)/$M62),IF(Input_RTI_OAADTOut1<=$N62, 0, (Input_RTI_OAADTOut1-$N62)/$N62), IF((Input_RTI_OAADTEx1+Input_RTI_OAADTEn1)>=$O62, 0, ($O62-(Input_RTI_OAADTEx1+Input_RTI_OAADTEn1))/$O62), IF((Input_RTI_OAADTEx1+Input_RTI_OAADTEn1)<=$P62, 0, ((Input_RTI_OAADTEx1+Input_RTI_OAADTEn1)-$P62)/$P62))","v":0},{"$f":"MAX(IF(Input_RTI_OAADTIn2>=$K62, 0, ($K62-Input_RTI_OAADTIn2)/$K62),IF(Input_RTI_OAADTIn2<=$L62, 0, (Input_RTI_OAADTIn2-$L62)/$L62), IF(Input_RTI_OAADTOut2>=$M62, 0, ($M62-Input_RTI_OAADTOut2)/$M62),IF(Input_RTI_OAADTOut2<=$N62, 0, (Input_RTI_OAADTOut2-$N62)/$N62), IF((Input_RTI_OAADTEx2+Input_RTI_OAADTEn2)>=$O62, 0, ($O62-(Input_RTI_OAADTEx2+Input_RTI_OAADTEn2))/$O62), IF((Input_RTI_OAADTEx2+Input_RTI_OAADTEn2)<=$P62, 0, ((Input_RTI_OAADTEx2+Input_RTI_OAADTEn2)-$P62)/$P62))","v":0},{"$f":"MAX(IF(Input_RTI_DAADTIn1>=$K62, 0, ($K62-Input_RTI_DAADTIn1)/$K62),IF(Input_RTI_DAADTIn1<=$L62, 0, (Input_RTI_DAADTIn1-$L62)/$L62), IF(Input_RTI_DAADTOut1>=$M62, 0, ($M62-Input_RTI_DAADTOut1)/$M62),IF(Input_RTI_DAADTOut1<=$N62, 0, (Input_RTI_DAADTOut1-$N62)/$N62), IF((Input_RTI_DAADTEx1+Input_RTI_DAADTEn1)>=$O62, 0, ($O62-(Input_RTI_DAADTEx1+Input_RTI_DAADTEn1))/$O62), IF((Input_RTI_DAADTEx1+Input_RTI_DAADTEn1)<=$P62, 0, ((Input_RTI_DAADTEx1+Input_RTI_DAADTEn1)-$P62)/$P62))","v":0},{"$f":"MAX(IF(Input_RTI_DAADTIn2>=$K62, 0, ($K62-Input_RTI_DAADTIn2)/$K62),IF(Input_RTI_DAADTIn2<=$L62, 0, (Input_RTI_DAADTIn2-$L62)/$L62), IF(Input_RTI_DAADTOut2>=$M62, 0, ($M62-Input_RTI_DAADTOut2)/$M62),IF(Input_RTI_DAADTOut2<=$N62, 0, (Input_RTI_DAADTOut2-$N62)/$N62), IF((Input_RTI_DAADTEx2+Input_RTI_DAADTEn2)>=$O62, 0, ($O62-(Input_RTI_DAADTEx2+Input_RTI_DAADTEn2))/$O62), IF((Input_RTI_DAADTEx2+Input_RTI_DAADTEn2)<=$P62, 0, ((Input_RTI_DAADTEx2+Input_RTI_DAADTEn2)-$P62)/$P62))","v":0},{"$f":"IF(OR(ISBLANK(Input_RTI_OAADTIn1), ISBLANK(Input_RTI_OAADTOut1), ISBLANK(Input_RTI_OAADTEx1), ISBLANK(Input_RTI_OAADTEn1)), 0, MAX(Y62:Z62))","v":0},{"$f":"MAX(AA62:AB62)","v":0},{"$f":"AC62","v":0},{"$f":"AD62","v":0}]
["Diamond Signalized (Alt)",null,null,"--",{"$f":"IF(NOT(ISNUMBER(K63)),\"No SPF Available\",IF(OR(NOT(IsChecked_RTI_D4TSA),W63),\"\",\"Opening Year AADT Outside of SPF Development Range\"))","v":""},null,{"$f":"IF(NOT(ISNUMBER(L63)),\"No SPF Available\",IF(OR(NOT(Input_AnalysisYearType=Label_AnalysisYearType_OpenAndDesign),NOT(IsChecked_RTI_D4TSA),X63),\"\",\"Design Year AADT Outside of SPF Development Range\"))","v":""},null,null,null,{"$f":"K62","v":0},{"$f":"L62","v":47000},0,47000,0,31000,0,31000,{"$f":"AND(Input_RTI_OAADTIn1>=K63,Input_RTI_OAADTIn1<=L63,Input_RTI_OAADTOut1>=M63,Input_RTI_OAADTOut1<=N63,(Input_RTI_OAADTEx1+Input_RTI_OAADTEn1)>=O63,(Input_RTI_OAADTEx1+Input_RTI_OAADTEn1)<=P63)","v":true},{"$f":"AND(Input_RTI_DAADTIn1>=K63, Input_RTI_DAADTIn1<=L63, Input_RTI_DAADTOut1>=M63, Input_RTI_DAADTOut1<=N63, (Input_RTI_DAADTEx1+Input_RTI_DAADTEn1)>=O63, (Input_RTI_DAADTEx1+Input_RTI_DAADTEn1)<=P63)","v":true},{"$f":"AND(Input_RTI_OAADTIn2>=K63, Input_RTI_OAADTIn2<=L63, Input_RTI_OAADTOut2>=M63, Input_RTI_OAADTOut2<=N63, (Input_RTI_OAADTEx2+Input_RTI_OAADTEn2)>=O63, (Input_RTI_OAADTEx2+Input_RTI_OAADTEn2)<=P63)","v":true},{"$f":"AND(Input_RTI_DAADTIn2>=K63, Input_RTI_DAADTIn2<=L63, Input_RTI_DAADTOut2>=M63, Input_RTI_DAADTOut2<=N63, (Input_RTI_DAADTEx2+Input_RTI_DAADTEn2)>=O63, (Input_RTI_DAADTEx2+Input_RTI_DAADTEn2)<=P63)","v":true},true,true,{"$f":"MAX(IF(Input_RTI_OAADTIn1>=$K63, 0, ($K63-Input_RTI_OAADTIn1)/$K63),IF(Input_RTI_OAADTIn1<=$L63, 0, (Input_RTI_OAADTIn1-$L63)/$L63), IF(Input_RTI_OAADTOut1>=$M63, 0, ($M63-Input_RTI_OAADTOut1)/$M63),IF(Input_RTI_OAADTOut1<=$N63, 0, (Input_RTI_OAADTOut1-$N63)/$N63), IF((Input_RTI_OAADTEx1+Input_RTI_OAADTEn1)>=$O63, 0, ($O63-(Input_RTI_OAADTEx1+Input_RTI_OAADTEn1))/$O63), IF((Input_RTI_OAADTEx1+Input_RTI_OAADTEn1)<=$P63, 0, ((Input_RTI_OAADTEx1+Input_RTI_OAADTEn1)-$P63)/$P63))","v":0},{"$f":"MAX(IF(Input_RTI_OAADTIn2>=$K63, 0, ($K63-Input_RTI_OAADTIn2)/$K63),IF(Input_RTI_OAADTIn2<=$L63, 0, (Input_RTI_OAADTIn2-$L63)/$L63), IF(Input_RTI_OAADTOut2>=$M63, 0, ($M63-Input_RTI_OAADTOut2)/$M63),IF(Input_RTI_OAADTOut2<=$N63, 0, (Input_RTI_OAADTOut2-$N63)/$N63), IF((Input_RTI_OAADTEx2+Input_RTI_OAADTEn2)>=$O63, 0, ($O63-(Input_RTI_OAADTEx2+Input_RTI_OAADTEn2))/$O63), IF((Input_RTI_OAADTEx2+Input_RTI_OAADTEn2)<=$P63, 0, ((Input_RTI_OAADTEx2+Input_RTI_OAADTEn2)-$P63)/$P63))","v":0},{"$f":"MAX(IF(Input_RTI_DAADTIn1>=$K63, 0, ($K63-Input_RTI_DAADTIn1)/$K63),IF(Input_RTI_DAADTIn1<=$L63, 0, (Input_RTI_DAADTIn1-$L63)/$L63), IF(Input_RTI_DAADTOut1>=$M63, 0, ($M63-Input_RTI_DAADTOut1)/$M63),IF(Input_RTI_DAADTOut1<=$N63, 0, (Input_RTI_DAADTOut1-$N63)/$N63), IF((Input_RTI_DAADTEx1+Input_RTI_DAADTEn1)>=$O63, 0, ($O63-(Input_RTI_DAADTEx1+Input_RTI_DAADTEn1))/$O63), IF((Input_RTI_DAADTEx1+Input_RTI_DAADTEn1)<=$P63, 0, ((Input_RTI_DAADTEx1+Input_RTI_DAADTEn1)-$P63)/$P63))","v":0},{"$f":"MAX(IF(Input_RTI_DAADTIn2>=$K63, 0, ($K63-Input_RTI_DAADTIn2)/$K63),IF(Input_RTI_DAADTIn2<=$L63, 0, (Input_RTI_DAADTIn2-$L63)/$L63), IF(Input_RTI_DAADTOut2>=$M63, 0, ($M63-Input_RTI_DAADTOut2)/$M63),IF(Input_RTI_DAADTOut2<=$N63, 0, (Input_RTI_DAADTOut2-$N63)/$N63), IF((Input_RTI_DAADTEx2+Input_RTI_DAADTEn2)>=$O63, 0, ($O63-(Input_RTI_DAADTEx2+Input_RTI_DAADTEn2))/$O63), IF((Input_RTI_DAADTEx2+Input_RTI_DAADTEn2)<=$P63, 0, ((Input_RTI_DAADTEx2+Input_RTI_DAADTEn2)-$P63)/$P63))","v":0},{"$f":"IF(OR(ISBLANK(Input_RTI_OAADTIn1), ISBLANK(Input_RTI_OAADTOut1), ISBLANK(Input_RTI_OAADTEx1), ISBLANK(Input_RTI_OAADTEn1)), 0, MAX(Y63:Z63))","v":0},0,{"$f":"AC62","v":0},{"$f":"AD62","v":0}]
["Diverging Diamond",null,null,"Signalized Diamond",null,null,null,null,null,null,null,null,null,null,null,null,null,null,null,null,null,null,null,null,null,null,null,null,null,null,{"$f":"AC63","v":0},{"$f":"AD63","v":0}]
["Single-Point Diamond",null,null,"--",{"$f":"IF(NOT(ISNUMBER(K65)),\"No SPF Available\",IF(OR(NOT(IsChecked_RTI_D4MS),W65),\"\",\"Opening Year AADT Outside of SPF Development Range\"))","v":""},null,{"$f":"IF(NOT(ISNUMBER(L65)),\"No SPF Available\",IF(OR(NOT(Input_AnalysisYearType=Label_AnalysisYearType_OpenAndDesign),NOT(IsChecked_RTI_D4MS),X65),\"\",\"Design Year AADT Outside of SPF Development Range\"))","v":""},null,null,null,{"$f":"Definitions!P31","v":13445},{"$f":"Definitions!Q31","v":70790},{"$f":"Definitions!R31","v":13445},{"$f":"Definitions!S31","v":70790},{"$f":"Definitions!T31","v":14069},{"$f":"Definitions!U31","v":80030},{"$f":"Definitions!V31","v":0},{"$f":"Definitions!W31","v":0},{"$f":"AND(Input_RTI_OAADTIn1>=K65,Input_RTI_OAADTIn1<=L65,Input_RTI_OAADTOut1>=M65,Input_RTI_OAADTOut1<=N65,(Input_RTI_OAADTEx1+Input_RTI_OAADTEn1)>=O65,(Input_RTI_OAADTEx1+Input_RTI_OAADTEn1)<=P65)","v":false},{"$f":"AND(Input_RTI_DAADTIn1>=K65, Input_RTI_DAADTIn1<=L65, Input_RTI_DAADTOut1>=M65, Input_RTI_DAADTOut1<=N65, (Input_RTI_DAADTEx1+Input_RTI_DAADTEn1)>=O65, (Input_RTI_DAADTEx1+Input_RTI_DAADTEn1)<=P65)","v":false},{"$f":"AND(Input_RTI_OAADTIn2>=K65, Input_RTI_OAADTIn2<=L65, Input_RTI_OAADTOut2>=M65, Input_RTI_OAADTOut2<=N65, (Input_RTI_OAADTEx2+Input_RTI_OAADTEn2)>=O65, (Input_RTI_OAADTEx2+Input_RTI_OAADTEn2)<=P65)","v":false},{"$f":"AND(Input_RTI_DAADTIn2>=K65, Input_RTI_DAADTIn2<=L65, Input_RTI_DAADTOut2>=M65, Input_RTI_DAADTOut2<=N65, (Input_RTI_DAADTEx2+Input_RTI_DAADTEn2)>=O65, (Input_RTI_DAADTEx2+Input_RTI_DAADTEn2)<=P65)","v":false},false,false,{"$f":"MAX(IF(Input_RTI_OAADTIn1>=$K65, 0, ($K65-Input_RTI_OAADTIn1)/$K65),IF(Input_RTI_OAADTIn1<=$L65, 0, (Input_RTI_OAADTIn1-$L65)/$L65), IF(Input_RTI_OAADTOut1>=$M65, 0, ($M65-Input_RTI_OAADTOut1)/$M65),IF(Input_RTI_OAADTOut1<=$N65, 0, (Input_RTI_OAADTOut1-$N65)/$N65), IF((Input_RTI_OAADTEx1+Input_RTI_OAADTEn1)>=$O65, 0, ($O65-(Input_RTI_OAADTEx1+Input_RTI_OAADTEn1))/$O65), IF((Input_RTI_OAADTEx1+Input_RTI_OAADTEn1)<=$P65, 0, ((Input_RTI_OAADTEx1+Input_RTI_OAADTEn1)-$P65)/$P65))","v":1},{"$f":"MAX(IF(Input_RTI_OAADTIn2>=$K65, 0, ($K65-Input_RTI_OAADTIn2)/$K65),IF(Input_RTI_OAADTIn2<=$L65, 0, (Input_RTI_OAADTIn2-$L65)/$L65), IF(Input_RTI_OAADTOut2>=$M65, 0, ($M65-Input_RTI_OAADTOut2)/$M65),IF(Input_RTI_OAADTOut2<=$N65, 0, (Input_RTI_OAADTOut2-$N65)/$N65), IF((Input_RTI_OAADTEx2+Input_RTI_OAADTEn2)>=$O65, 0, ($O65-(Input_RTI_OAADTEx2+Input_RTI_OAADTEn2))/$O65), IF((Input_RTI_OAADTEx2+Input_RTI_OAADTEn2)<=$P65, 0, ((Input_RTI_OAADTEx2+Input_RTI_OAADTEn2)-$P65)/$P65))","v":1},{"$f":"MAX(IF(Input_RTI_DAADTIn1>=$K65, 0, ($K65-Input_RTI_DAADTIn1)/$K65),IF(Input_RTI_DAADTIn1<=$L65, 0, (Input_RTI_DAADTIn1-$L65)/$L65), IF(Input_RTI_DAADTOut1>=$M65, 0, ($M65-Input_RTI_DAADTOut1)/$M65),IF(Input_RTI_DAADTOut1<=$N65, 0, (Input_RTI_DAADTOut1-$N65)/$N65), IF((Input_RTI_DAADTEx1+Input_RTI_DAADTEn1)>=$O65, 0, ($O65-(Input_RTI_DAADTEx1+Input_RTI_DAADTEn1))/$O65), IF((Input_RTI_DAADTEx1+Input_RTI_DAADTEn1)<=$P65, 0, ((Input_RTI_DAADTEx1+Input_RTI_DAADTEn1)-$P65)/$P65))","v":1},{"$f":"MAX(IF(Input_RTI_DAADTIn2>=$K65, 0, ($K65-Input_RTI_DAADTIn2)/$K65),IF(Input_RTI_DAADTIn2<=$L65, 0, (Input_RTI_DAADTIn2-$L65)/$L65), IF(Input_RTI_DAADTOut2>=$M65, 0, ($M65-Input_RTI_DAADTOut2)/$M65),IF(Input_RTI_DAADTOut2<=$N65, 0, (Input_RTI_DAADTOut2-$N65)/$N65), IF((Input_RTI_DAADTEx2+Input_RTI_DAADTEn2)>=$O65, 0, ($O65-(Input_RTI_DAADTEx2+Input_RTI_DAADTEn2))/$O65), IF((Input_RTI_DAADTEx2+Input_RTI_DAADTEn2)<=$P65, 0, ((Input_RTI_DAADTEx2+Input_RTI_DAADTEn2)-$P65)/$P65))","v":1},{"$f":"IF(OR(ISBLANK(Input_RTI_OAADTIn1), ISBLANK(Input_RTI_OAADTOut1), ISBLANK(Input_RTI_OAADTEx1), ISBLANK(Input_RTI_OAADTEn1)), 0, MAX(Y65:Z65))","v":0},1,{"$f":"AC63","v":0},{"$f":"AD63","v":0}]
["Diamond Stop Control",null,null,"--",{"$f":"IF(NOT(ISNUMBER(K66)),\"No SPF Available\",IF(OR(NOT(IsChecked_RTI_D4MS),W66),\"\",\"Opening Year AADT Outside of SPF Development Range\"))","v":""},null,{"$f":"IF(NOT(ISNUMBER(L66)),\"No SPF Available\",IF(OR(NOT(Input_AnalysisYearType=Label_AnalysisYearType_OpenAndDesign),NOT(IsChecked_RTI_D4MS),X66),\"\",\"Design Year AADT Outside of SPF Development Range\"))","v":""},null,null,null,{"$f":"Definitions!E42","v":0},{"$f":"Definitions!F42","v":18000},{"$f":"Definitions!E44","v":0},{"$f":"Definitions!F44","v":18000},{"$f":"Definitions!E46","v":0},{"$f":"Definitions!F46","v":10000},{"$f":"Definitions!E48","v":0},{"$f":"Definitions!F48","v":10000},true,true,true,{"$f":"AND(Input_RTI_DAADTIn2>=K66, Input_RTI_DAADTIn2<=L66, Input_RTI_DAADTOut2>=M66, Input_RTI_DAADTOut2<=N66, (Input_RTI_DAADTEx2+Input_RTI_DAADTEn2)>=O66, (Input_RTI_DAADTEx2+Input_RTI_DAADTEn2)<=P66)","v":true},{"$f":"AND(S66,U66)","v":true},true,{"$f":"MAX(IF(Input_RTI_OAADTIn1>=$K66, 0, ($K66-Input_RTI_OAADTIn1)/$K66),IF(Input_RTI_OAADTIn1<=$L66, 0, (Input_RTI_OAADTIn1-$L66)/$L66), IF(Input_RTI_OAADTOut1>=$M66, 0, ($M66-Input_RTI_OAADTOut1)/$M66),IF(Input_RTI_OAADTOut1<=$N66, 0, (Input_RTI_OAADTOut1-$N66)/$N66), IF((Input_RTI_OAADTEx1+Input_RTI_OAADTEn1)>=$O66, 0, ($O66-(Input_RTI_OAADTEx1+Input_RTI_OAADTEn1))/$O66), IF((Input_RTI_OAADTEx1+Input_RTI_OAADTEn1)<=$P66, 0, ((Input_RTI_OAADTEx1+Input_RTI_OAADTEn1)-$P66)/$P66))","v":0},{"$f":"MAX(IF(Input_RTI_OAADTIn2>=$K66, 0, ($K66-Input_RTI_OAADTIn2)/$K66),IF(Input_RTI_OAADTIn2<=$L66, 0, (Input_RTI_OAADTIn2-$L66)/$L66), IF(Input_RTI_OAADTOut2>=$M66, 0, ($M66-Input_RTI_OAADTOut2)/$M66),IF(Input_RTI_OAADTOut2<=$N66, 0, (Input_RTI_OAADTOut2-$N66)/$N66), IF((Input_RTI_OAADTEx2+Input_RTI_OAADTEn2)>=$O66, 0, ($O66-(Input_RTI_OAADTEx2+Input_RTI_OAADTEn2))/$O66), IF((Input_RTI_OAADTEx2+Input_RTI_OAADTEn2)<=$P66, 0, ((Input_RTI_OAADTEx2+Input_RTI_OAADTEn2)-$P66)/$P66))","v":0},{"$f":"MAX(IF(Input_RTI_DAADTIn1>=$K66, 0, ($K66-Input_RTI_DAADTIn1)/$K66),IF(Input_RTI_DAADTIn1<=$L66, 0, (Input_RTI_DAADTIn1-$L66)/$L66), IF(Input_RTI_DAADTOut1>=$M66, 0, ($M66-Input_RTI_DAADTOut1)/$M66),IF(Input_RTI_DAADTOut1<=$N66, 0, (Input_RTI_DAADTOut1-$N66)/$N66), IF((Input_RTI_DAADTEx1+Input_RTI_DAADTEn1)>=$O66, 0, ($O66-(Input_RTI_DAADTEx1+Input_RTI_DAADTEn1))/$O66), IF((Input_RTI_DAADTEx1+Input_RTI_DAADTEn1)<=$P66, 0, ((Input_RTI_DAADTEx1+Input_RTI_DAADTEn1)-$P66)/$P66))","v":0},{"$f":"MAX(IF(Input_RTI_DAADTIn2>=$K66, 0, ($K66-Input_RTI_DAADTIn2)/$K66),IF(Input_RTI_DAADTIn2<=$L66, 0, (Input_RTI_DAADTIn2-$L66)/$L66), IF(Input_RTI_DAADTOut2>=$M66, 0, ($M66-Input_RTI_DAADTOut2)/$M66),IF(Input_RTI_DAADTOut2<=$N66, 0, (Input_RTI_DAADTOut2-$N66)/$N66), IF((Input_RTI_DAADTEx2+Input_RTI_DAADTEn2)>=$O66, 0, ($O66-(Input_RTI_DAADTEx2+Input_RTI_DAADTEn2))/$O66), IF((Input_RTI_DAADTEx2+Input_RTI_DAADTEn2)<=$P66, 0, ((Input_RTI_DAADTEx2+Input_RTI_DAADTEn2)-$P66)/$P66))","v":0},{"$f":"MAX(Y66:Z66)","v":0},0,{"$f":"AC64","v":0},{"$f":"AD64","v":0}]
["Signalized Tight Diamond",null,null,"--",null,null,null,null,null,null,{"$f":"Definitions!P33","v":8921},{"$f":"Definitions!Q33","v":51438},{"$f":"Definitions!R33","v":8921},{"$f":"Definitions!S33","v":51438},{"$f":"Definitions!T33","v":9955},{"$f":"Definitions!U33","v":74656},{"$f":"Definitions!V33","v":0},{"$f":"Definitions!W33","v":0},false,false,false,{"$f":"AND(Input_RTI_DAADTIn2>=K67, Input_RTI_DAADTIn2<=L67, Input_RTI_DAADTOut2>=M67, Input_RTI_DAADTOut2<=N67, (Input_RTI_DAADTEx2+Input_RTI_DAADTEn2)>=O67, (Input_RTI_DAADTEx2+Input_RTI_DAADTEn2)<=P67)","v":false},false,false,{"$f":"MAX(IF(Input_RTI_OAADTIn1>=$K67, 0, ($K67-Input_RTI_OAADTIn1)/$K67),IF(Input_RTI_OAADTIn1<=$L67, 0, (Input_RTI_OAADTIn1-$L67)/$L67), IF(Input_RTI_OAADTOut1>=$M67, 0, ($M67-Input_RTI_OAADTOut1)/$M67),IF(Input_RTI_OAADTOut1<=$N67, 0, (Input_RTI_OAADTOut1-$N67)/$N67), IF((Input_RTI_OAADTEx1+Input_RTI_OAADTEn1)>=$O67, 0, ($O67-(Input_RTI_OAADTEx1+Input_RTI_OAADTEn1))/$O67), IF((Input_RTI_OAADTEx1+Input_RTI_OAADTEn1)<=$P67, 0, ((Input_RTI_OAADTEx1+Input_RTI_OAADTEn1)-$P67)/$P67))","v":1},{"$f":"MAX(IF(Input_RTI_OAADTIn2>=$K67, 0, ($K67-Input_RTI_OAADTIn2)/$K67),IF(Input_RTI_OAADTIn2<=$L67, 0, (Input_RTI_OAADTIn2-$L67)/$L67), IF(Input_RTI_OAADTOut2>=$M67, 0, ($M67-Input_RTI_OAADTOut2)/$M67),IF(Input_RTI_OAADTOut2<=$N67, 0, (Input_RTI_OAADTOut2-$N67)/$N67), IF((Input_RTI_OAADTEx2+Input_RTI_OAADTEn2)>=$O67, 0, ($O67-(Input_RTI_OAADTEx2+Input_RTI_OAADTEn2))/$O67), IF((Input_RTI_OAADTEx2+Input_RTI_OAADTEn2)<=$P67, 0, ((Input_RTI_OAADTEx2+Input_RTI_OAADTEn2)-$P67)/$P67))","v":1},{"$f":"MAX(IF(Input_RTI_DAADTIn1>=$K67, 0, ($K67-Input_RTI_DAADTIn1)/$K67),IF(Input_RTI_DAADTIn1<=$L67, 0, (Input_RTI_DAADTIn1-$L67)/$L67), IF(Input_RTI_DAADTOut1>=$M67, 0, ($M67-Input_RTI_DAADTOut1)/$M67),IF(Input_RTI_DAADTOut1<=$N67, 0, (Input_RTI_DAADTOut1-$N67)/$N67), IF((Input_RTI_DAADTEx1+Input_RTI_DAADTEn1)>=$O67, 0, ($O67-(Input_RTI_DAADTEx1+Input_RTI_DAADTEn1))/$O67), IF((Input_RTI_DAADTEx1+Input_RTI_DAADTEn1)<=$P67, 0, ((Input_RTI_DAADTEx1+Input_RTI_DAADTEn1)-$P67)/$P67))","v":1},{"$f":"MAX(IF(Input_RTI_DAADTIn2>=$K67, 0, ($K67-Input_RTI_DAADTIn2)/$K67),IF(Input_RTI_DAADTIn2<=$L67, 0, (Input_RTI_DAADTIn2-$L67)/$L67), IF(Input_RTI_DAADTOut2>=$M67, 0, ($M67-Input_RTI_DAADTOut2)/$M67),IF(Input_RTI_DAADTOut2<=$N67, 0, (Input_RTI_DAADTOut2-$N67)/$N67), IF((Input_RTI_DAADTEx2+Input_RTI_DAADTEn2)>=$O67, 0, ($O67-(Input_RTI_DAADTEx2+Input_RTI_DAADTEn2))/$O67), IF((Input_RTI_DAADTEx2+Input_RTI_DAADTEn2)<=$P67, 0, ((Input_RTI_DAADTEx2+Input_RTI_DAADTEn2)-$P67)/$P67))","v":1},{"$f":"IF(OR(ISBLANK(Input_RTI_OAADTIn1), ISBLANK(Input_RTI_OAADTOut1), ISBLANK(Input_RTI_OAADTEx1), ISBLANK(Input_RTI_OAADTEn1)), 0, MAX(Y67:Z67))","v":0},1,{"$f":"AC64","v":0},{"$f":"AD64","v":0}]
["Roundabout (1-lane)",null,null,"--",{"$f":"IF(NOT(ISNUMBER(K68)),\"No SPF Available\",IF(OR(NOT(IsChecked_RTI_D4MS),W68),\"\",\"Opening Year AADT Outside of SPF Development Range\"))","v":""},null,{"$f":"IF(NOT(ISNUMBER(L68)),\"No SPF Available\",IF(OR(NOT(Input_AnalysisYearType=Label_AnalysisYearType_OpenAndDesign),NOT(IsChecked_RTI_D4MS),X68),\"\",\"Design Year AADT Outside of SPF Development Range\"))","v":""},null,null,null,{"$f":"Definitions!$P$5","v":1000},{"$f":"Definitions!$Q$5","v":19733},{"$f":"Definitions!$P$5","v":1000},{"$f":"Definitions!$Q$5","v":19733},{"$f":"Definitions!$R$5","v":280},{"$f":"Definitions!$S$5","v":11239},{"$f":"Definitions!$R$5","v":280},{"$f":"Definitions!$S$5","v":11239},false,false,false,{"$f":"AND(Input_RTI_DAADTIn2>=K68, Input_RTI_DAADTIn2<=L68, Input_RTI_DAADTOut2>=M68, Input_RTI_DAADTOut2<=N68, (Input_RTI_DAADTEx2+Input_RTI_DAADTEn2)>=O68, (Input_RTI_DAADTEx2+Input_RTI_DAADTEn2)<=P68)","v":false},false,false,{"$f":"MAX(IF(Input_RTI_OAADTIn1>=$K68, 0, ($K68-Input_RTI_OAADTIn1)/$K68),IF(Input_RTI_OAADTIn1<=$L68, 0, (Input_RTI_OAADTIn1-$L68)/$L68), IF(Input_RTI_OAADTOut1>=$M68, 0, ($M68-Input_RTI_OAADTOut1)/$M68),IF(Input_RTI_OAADTOut1<=$N68, 0, (Input_RTI_OAADTOut1-$N68)/$N68), IF((Input_RTI_OAADTEx1+Input_RTI_OAADTEn1)>=$O68, 0, ($O68-(Input_RTI_OAADTEx1+Input_RTI_OAADTEn1))/$O68), IF((Input_RTI_OAADTEx1+Input_RTI_OAADTEn1)<=$P68, 0, ((Input_RTI_OAADTEx1+Input_RTI_OAADTEn1)-$P68)/$P68))","v":1},{"$f":"MAX(IF(Input_RTI_OAADTIn2>=$K68, 0, ($K68-Input_RTI_OAADTIn2)/$K68),IF(Input_RTI_OAADTIn2<=$L68, 0, (Input_RTI_OAADTIn2-$L68)/$L68), IF(Input_RTI_OAADTOut2>=$M68, 0, ($M68-Input_RTI_OAADTOut2)/$M68),IF(Input_RTI_OAADTOut2<=$N68, 0, (Input_RTI_OAADTOut2-$N68)/$N68), IF((Input_RTI_OAADTEx2+Input_RTI_OAADTEn2)>=$O68, 0, ($O68-(Input_RTI_OAADTEx2+Input_RTI_OAADTEn2))/$O68), IF((Input_RTI_OAADTEx2+Input_RTI_OAADTEn2)<=$P68, 0, ((Input_RTI_OAADTEx2+Input_RTI_OAADTEn2)-$P68)/$P68))","v":1},{"$f":"MAX(IF(Input_RTI_DAADTIn1>=$K68, 0, ($K68-Input_RTI_DAADTIn1)/$K68),IF(Input_RTI_DAADTIn1<=$L68, 0, (Input_RTI_DAADTIn1-$L68)/$L68), IF(Input_RTI_DAADTOut1>=$M68, 0, ($M68-Input_RTI_DAADTOut1)/$M68),IF(Input_RTI_DAADTOut1<=$N68, 0, (Input_RTI_DAADTOut1-$N68)/$N68), IF((Input_RTI_DAADTEx1+Input_RTI_DAADTEn1)>=$O68, 0, ($O68-(Input_RTI_DAADTEx1+Input_RTI_DAADTEn1))/$O68), IF((Input_RTI_DAADTEx1+Input_RTI_DAADTEn1)<=$P68, 0, ((Input_RTI_DAADTEx1+Input_RTI_DAADTEn1)-$P68)/$P68))","v":1},{"$f":"MAX(IF(Input_RTI_DAADTIn2>=$K68, 0, ($K68-Input_RTI_DAADTIn2)/$K68),IF(Input_RTI_DAADTIn2<=$L68, 0, (Input_RTI_DAADTIn2-$L68)/$L68), IF(Input_RTI_DAADTOut2>=$M68, 0, ($M68-Input_RTI_DAADTOut2)/$M68),IF(Input_RTI_DAADTOut2<=$N68, 0, (Input_RTI_DAADTOut2-$N68)/$N68), IF((Input_RTI_DAADTEx2+Input_RTI_DAADTEn2)>=$O68, 0, ($O68-(Input_RTI_DAADTEx2+Input_RTI_DAADTEn2))/$O68), IF((Input_RTI_DAADTEx2+Input_RTI_DAADTEn2)<=$P68, 0, ((Input_RTI_DAADTEx2+Input_RTI_DAADTEn2)-$P68)/$P68))","v":1},{"$f":"IF(OR(ISBLANK(Input_RTI_OAADTIn1), ISBLANK(Input_RTI_OAADTOut1), ISBLANK(Input_RTI_OAADTEx1), ISBLANK(Input_RTI_OAADTEn1)), 0, MAX(Y68:Z68))","v":0},1,{"$f":"AC65","v":0},{"$f":"AD65","v":1}]
["Roundabout (2-lane)",null,null,"--",{"$f":"IF(NOT(ISNUMBER(K69)),\"No SPF Available\",IF(OR(NOT(IsChecked_RTI_D4MS),W69),\"\",\"Opening Year AADT Outside of SPF Development Range\"))","v":""},null,{"$f":"IF(NOT(ISNUMBER(L69)),\"No SPF Available\",IF(OR(NOT(Input_AnalysisYearType=Label_AnalysisYearType_OpenAndDesign),NOT(IsChecked_RTI_D4MS),X69),\"\",\"Design Year AADT Outside of SPF Development Range\"))","v":""},null,null,null,{"$f":"Definitions!$P$8","v":1000},{"$f":"Definitions!$Q$8","v":28333},{"$f":"Definitions!$P$8","v":1000},{"$f":"Definitions!$Q$8","v":28333},{"$f":"Definitions!$R$8","v":390},{"$f":"Definitions!$S$8","v":19371},{"$f":"Definitions!$R$8","v":390},{"$f":"Definitions!$S$8","v":19371},false,false,false,{"$f":"AND(Input_RTI_DAADTIn2>=K69, Input_RTI_DAADTIn2<=L69, Input_RTI_DAADTOut2>=M69, Input_RTI_DAADTOut2<=N69, (Input_RTI_DAADTEx2+Input_RTI_DAADTEn2)>=O69, (Input_RTI_DAADTEx2+Input_RTI_DAADTEn2)<=P69)","v":false},false,false,{"$f":"MAX(IF(Input_RTI_OAADTIn1>=$K69, 0, ($K69-Input_RTI_OAADTIn1)/$K69),IF(Input_RTI_OAADTIn1<=$L69, 0, (Input_RTI_OAADTIn1-$L69)/$L69), IF(Input_RTI_OAADTOut1>=$M69, 0, ($M69-Input_RTI_OAADTOut1)/$M69),IF(Input_RTI_OAADTOut1<=$N69, 0, (Input_RTI_OAADTOut1-$N69)/$N69), IF((Input_RTI_OAADTEx1+Input_RTI_OAADTEn1)>=$O69, 0, ($O69-(Input_RTI_OAADTEx1+Input_RTI_OAADTEn1))/$O69), IF((Input_RTI_OAADTEx1+Input_RTI_OAADTEn1)<=$P69, 0, ((Input_RTI_OAADTEx1+Input_RTI_OAADTEn1)-$P69)/$P69))","v":1},{"$f":"MAX(IF(Input_RTI_OAADTIn2>=$K69, 0, ($K69-Input_RTI_OAADTIn2)/$K69),IF(Input_RTI_OAADTIn2<=$L69, 0, (Input_RTI_OAADTIn2-$L69)/$L69), IF(Input_RTI_OAADTOut2>=$M69, 0, ($M69-Input_RTI_OAADTOut2)/$M69),IF(Input_RTI_OAADTOut2<=$N69, 0, (Input_RTI_OAADTOut2-$N69)/$N69), IF((Input_RTI_OAADTEx2+Input_RTI_OAADTEn2)>=$O69, 0, ($O69-(Input_RTI_OAADTEx2+Input_RTI_OAADTEn2))/$O69), IF((Input_RTI_OAADTEx2+Input_RTI_OAADTEn2)<=$P69, 0, ((Input_RTI_OAADTEx2+Input_RTI_OAADTEn2)-$P69)/$P69))","v":1},{"$f":"MAX(IF(Input_RTI_DAADTIn1>=$K69, 0, ($K69-Input_RTI_DAADTIn1)/$K69),IF(Input_RTI_DAADTIn1<=$L69, 0, (Input_RTI_DAADTIn1-$L69)/$L69), IF(Input_RTI_DAADTOut1>=$M69, 0, ($M69-Input_RTI_DAADTOut1)/$M69),IF(Input_RTI_DAADTOut1<=$N69, 0, (Input_RTI_DAADTOut1-$N69)/$N69), IF((Input_RTI_DAADTEx1+Input_RTI_DAADTEn1)>=$O69, 0, ($O69-(Input_RTI_DAADTEx1+Input_RTI_DAADTEn1))/$O69), IF((Input_RTI_DAADTEx1+Input_RTI_DAADTEn1)<=$P69, 0, ((Input_RTI_DAADTEx1+Input_RTI_DAADTEn1)-$P69)/$P69))","v":1},{"$f":"MAX(IF(Input_RTI_DAADTIn2>=$K69, 0, ($K69-Input_RTI_DAADTIn2)/$K69),IF(Input_RTI_DAADTIn2<=$L69, 0, (Input_RTI_DAADTIn2-$L69)/$L69), IF(Input_RTI_DAADTOut2>=$M69, 0, ($M69-Input_RTI_DAADTOut2)/$M69),IF(Input_RTI_DAADTOut2<=$N69, 0, (Input_RTI_DAADTOut2-$N69)/$N69), IF((Input_RTI_DAADTEx2+Input_RTI_DAADTEn2)>=$O69, 0, ($O69-(Input_RTI_DAADTEx2+Input_RTI_DAADTEn2))/$O69), IF((Input_RTI_DAADTEx2+Input_RTI_DAADTEn2)<=$P69, 0, ((Input_RTI_DAADTEx2+Input_RTI_DAADTEn2)-$P69)/$P69))","v":1},{"$f":"IF(OR(ISBLANK(Input_RTI_OAADTIn1), ISBLANK(Input_RTI_OAADTOut1), ISBLANK(Input_RTI_OAADTEx1), ISBLANK(Input_RTI_OAADTEn1)), 0, MAX(Y69:Z69))","v":0},1,{"$f":"AC65","v":0},{"$f":"AD65","v":1}]
["Half Diamond Signalized",null,null,"--",{"$f":"IF(NOT(ISNUMBER(K85)),\"No SPF Available\",\nIF(NOT(ISNUMBER(K87)),\"No SPF Available\",\nIF(AND(K85<L85,W85=FALSE,K87<L87,W87=FALSE),\n\"Opening Year AADT Outside of SPF Development Range of D3en and D3ex\",\nIF(AND(K85<L85,W85=FALSE),\n\"Opening Year AADT Outside of SPF Development Range of D3en\",\nIF(AND(K87<L87,W87=FALSE),\n\"Opening Year AADT Outside of SPF Development Range of D3ex\",\n\"\"\n)\n))))","v":""},null,{"$f":"IF(NOT(ISNUMBER(M85)),\"No SPF Available\",\nIF(NOT(ISNUMBER(M87)),\"No SPF Available\",\nIF(AND(M85<N85,X85=FALSE,M87<N87,X87=FALSE),\n\"Design Year AADT Outside of SPF Development Range of D3en and D3ex\",\nIF(AND(M85<N85,X85=FALSE),\n\"Design Year AADT Outside of SPF Development Range of D3en\",\nIF(AND(M87<N87,X87=FALSE),\n\"Design Year AADT Outside of SPF Development Range of D3ex\",\n\"\"\n)\n))))","v":""},null,null,null,null,null,null,null,null,null,null,null,null,null,null,null,{"$f":"AND(W85,W87)","v":true},{"$f":"AND(X85,X87)","v":true},{"$f":"MAX(Y85,Y87)","v":0},{"$f":"MAX(Z85,Z87)","v":0},0,0,0,0,{"$f":"AC66","v":0},{"$f":"AD66","v":0}]
["Half Diamond Stop Control",null,null,"--",{"$f":"IF(NOT(ISNUMBER(K86)),\"No SPF Available\",\nIF(NOT(ISNUMBER(K88)),\"No SPF Available\",\nIF(AND(K86<L86,W86=FALSE,K88<L88,W88=FALSE),\n\"Opening Year AADT Outside of SPF Development Range of D3en and D3ex\",\nIF(AND(K86<L86,W86=FALSE),\n\"Opening Year AADT Outside of SPF Development Range of D3en\",\nIF(AND(K88<L88,W88=FALSE),\n\"Opening Year AADT Outside of SPF Development Range of D3ex\",\n\"\"\n)\n))))","v":""},null,{"$f":"IF(NOT(ISNUMBER(M86)),\"No SPF Available\",\nIF(NOT(ISNUMBER(M88)),\"No SPF Available\",\nIF(AND(M86<N86,X86=FALSE,M88<N88,X88=FALSE),\n\"Design Year AADT Outside of SPF Development Range of D3en and D3ex\",\nIF(AND(M86<N86,X86=FALSE),\n\"Design Year AADT Outside of SPF Development Range of D3en\",\nIF(AND(M88<N88,X88=FALSE),\n\"Design Year AADT Outside of SPF Development Range of D3ex\",\n\"\"\n)\n))))","v":""},null,null,null,null,null,null,null,null,null,null,null,null,null,null,null,{"$f":"AND(W86,W88)","v":true},{"$f":"AND(X86,X88)","v":true},{"$f":"MAX(Y86,Y88)","v":0},{"$f":"MAX(Z86,Z88)","v":0},0,0,0,0,{"$f":"AC66","v":0},{"$f":"AD66","v":0}]
["Two Quadrant Partial Cloverleaf A Signalized",null,null,"--",{"$f":"IF(NOT(ISNUMBER(K72)),\"No SPF Available\",IF(OR(NOT(IsChecked_RTI_D4TS),W72),\"\",\"Opening Year AADT Outside of SPF Development Range\"))","v":""},null,{"$f":"IF(NOT(ISNUMBER(K72)),\"No SPF Available\",IF(OR(NOT(IsChecked_RTI_D4TS),X72),\"\",\"Design Year AADT Outside of SPF Development Range\"))","v":""},null,null,null,{"$f":"Definitions!P38","v":0},{"$f":"Definitions!Q38","v":46000},{"$f":"Definitions!R38","v":0},{"$f":"Definitions!S38","v":46000},{"$f":"Definitions!T38","v":0},{"$f":"Definitions!U38","v":25000},{"$f":"Definitions!V38","v":0},{"$f":"Definitions!W38","v":25000},true,true,true,{"$f":"AND(Input_RTI_DAADTIn2>=K72, Input_RTI_DAADTIn2<=L72, Input_RTI_DAADTOut2>=M72, Input_RTI_DAADTOut2<=N72, (Input_RTI_DAADTEx2+Input_RTI_DAADTEn2)>=O72, (Input_RTI_DAADTEx2+Input_RTI_DAADTEn2)<=P72)","v":true},{"$f":"AND(S72,U72)","v":true},true,{"$f":"MAX(IF(Input_RTI_OAADTIn1>=$K72, 0, ($K72-Input_RTI_OAADTIn1)/$K72),IF(Input_RTI_OAADTIn1<=$L72, 0, (Input_RTI_OAADTIn1-$L72)/$L72), IF(Input_RTI_OAADTOut1>=$M72, 0, ($M72-Input_RTI_OAADTOut1)/$M72),IF(Input_RTI_OAADTOut1<=$N72, 0, (Input_RTI_OAADTOut1-$N72)/$N72), IF((Input_RTI_OAADTEx1+Input_RTI_OAADTEn1)>=$O72, 0, ($O72-(Input_RTI_OAADTEx1+Input_RTI_OAADTEn1))/$O72), IF((Input_RTI_OAADTEx1+Input_RTI_OAADTEn1)<=$P72, 0, ((Input_RTI_OAADTEx1+Input_RTI_OAADTEn1)-$P72)/$P72))","v":0},{"$f":"MAX(IF(Input_RTI_OAADTIn2>=$K72, 0, ($K72-Input_RTI_OAADTIn2)/$K72),IF(Input_RTI_OAADTIn2<=$L72, 0, (Input_RTI_OAADTIn2-$L72)/$L72), IF(Input_RTI_OAADTOut2>=$M72, 0, ($M72-Input_RTI_OAADTOut2)/$M72),IF(Input_RTI_OAADTOut2<=$N72, 0, (Input_RTI_OAADTOut2-$N72)/$N72), IF((Input_RTI_OAADTEx2+Input_RTI_OAADTEn2)>=$O72, 0, ($O72-(Input_RTI_OAADTEx2+Input_RTI_OAADTEn2))/$O72), IF((Input_RTI_OAADTEx2+Input_RTI_OAADTEn2)<=$P72, 0, ((Input_RTI_OAADTEx2+Input_RTI_OAADTEn2)-$P72)/$P72))","v":0},{"$f":"MAX(IF(Input_RTI_DAADTIn1>=$K72, 0, ($K72-Input_RTI_DAADTIn1)/$K72),IF(Input_RTI_DAADTIn1<=$L72, 0, (Input_RTI_DAADTIn1-$L72)/$L72), IF(Input_RTI_DAADTOut1>=$M72, 0, ($M72-Input_RTI_DAADTOut1)/$M72),IF(Input_RTI_DAADTOut1<=$N72, 0, (Input_RTI_DAADTOut1-$N72)/$N72), IF((Input_RTI_DAADTEx1+Input_RTI_DAADTEn1)>=$O72, 0, ($O72-(Input_RTI_DAADTEx1+Input_RTI_DAADTEn1))/$O72), IF((Input_RTI_DAADTEx1+Input_RTI_DAADTEn1)<=$P72, 0, ((Input_RTI_DAADTEx1+Input_RTI_DAADTEn1)-$P72)/$P72))","v":0},{"$f":"MAX(IF(Input_RTI_DAADTIn2>=$K72, 0, ($K72-Input_RTI_DAADTIn2)/$K72),IF(Input_RTI_DAADTIn2<=$L72, 0, (Input_RTI_DAADTIn2-$L72)/$L72), IF(Input_RTI_DAADTOut2>=$M72, 0, ($M72-Input_RTI_DAADTOut2)/$M72),IF(Input_RTI_DAADTOut2<=$N72, 0, (Input_RTI_DAADTOut2-$N72)/$N72), IF((Input_RTI_DAADTEx2+Input_RTI_DAADTEn2)>=$O72, 0, ($O72-(Input_RTI_DAADTEx2+Input_RTI_DAADTEn2))/$O72), IF((Input_RTI_DAADTEx2+Input_RTI_DAADTEn2)<=$P72, 0, ((Input_RTI_DAADTEx2+Input_RTI_DAADTEn2)-$P72)/$P72))","v":0},0,0,{"$f":"AC67","v":0},{"$f":"AD67","v":1}]
["Two Quadrant Partial Cloverleaf A Stop Control",null,null,"--","",null,"",null,null,null,{"$f":"Definitions!P39","v":0},{"$f":"Definitions!Q39","v":17000},{"$f":"Definitions!R39","v":0},{"$f":"Definitions!S39","v":17000},{"$f":"Definitions!T39","v":0},{"$f":"Definitions!U39","v":12000},{"$f":"Definitions!V39","v":0},{"$f":"Definitions!W39","v":12000},true,true,true,true,true,true,0,0,0,0,0,0,{"$f":"AC67","v":0},{"$f":"AD67","v":1}]
["Four Quadrant Partial Cloverleaf A Signalized",null,null,"--","",null,"",null,null,null,{"$f":"Definitions!P40","v":0},{"$f":"Definitions!Q40","v":71000},{"$f":"Definitions!R40","v":0},{"$f":"Definitions!S40","v":71000},{"$f":"Definitions!T40","v":0},{"$f":"Definitions!U40","v":30000},{"$f":"Definitions!V40","v":0},{"$f":"Definitions!W40","v":30000},true,true,true,true,true,true,0,0,0,0,0,0,{"$f":"AC68","v":0},{"$f":"AD68","v":1}]
["Four Quadrant Partial Cloverleaf A Stop Control",null,null,"--","",null,"",null,null,null,{"$f":"Definitions!P41","v":0},{"$f":"Definitions!Q41","v":21000},{"$f":"Definitions!R41","v":0},{"$f":"Definitions!S41","v":21000},{"$f":"Definitions!T41","v":0},{"$f":"Definitions!U41","v":12000},{"$f":"Definitions!V41","v":0},{"$f":"Definitions!W41","v":12000},true,true,true,true,true,true,0,0,0,0,0,0,{"$f":"AC68","v":0},{"$f":"AD68","v":1}]
["Two Quadrant Partial Cloverleaf B Signalized",null,null,"--","",null,"",null,null,null,{"$f":"Definitions!P42","v":0},{"$f":"Definitions!Q42","v":44000},{"$f":"Definitions!R42","v":0},{"$f":"Definitions!S42","v":44000},{"$f":"Definitions!T42","v":0},{"$f":"Definitions!U42","v":22000},{"$f":"Definitions!V42","v":0},{"$f":"Definitions!W42","v":22000},true,true,true,true,true,true,0,0,0,0,0,0,{"$f":"AC69","v":0},{"$f":"AD69","v":1}]
["Two Quadrant Partial Cloverleaf B Stop Control",null,null,"--","",null,"",null,null,null,{"$f":"Definitions!P43","v":0},{"$f":"Definitions!Q43","v":26000},{"$f":"Definitions!R43","v":0},{"$f":"Definitions!S43","v":26000},{"$f":"Definitions!T43","v":0},{"$f":"Definitions!U43","v":14000},{"$f":"Definitions!V43","v":0},{"$f":"Definitions!W43","v":14000},true,true,true,true,true,true,0,0,0,0,0,0,{"$f":"AC69","v":0},{"$f":"AD69","v":1}]
["Four Quadrant Partial Cloverleaf B Signalized",null,null,"--","",null,"",null,null,null,{"$f":"Definitions!P44","v":0},{"$f":"Definitions!Q44","v":45000},{"$f":"Definitions!R44","v":0},{"$f":"Definitions!S44","v":45000},{"$f":"Definitions!T44","v":0},{"$f":"Definitions!U44","v":29000},{"$f":"Definitions!V44","v":0},{"$f":"Definitions!W44","v":29000},true,true,true,true,true,true,0,0,0,0,0,0,{"$f":"AC70","v":0},{"$f":"AD70","v":0}]
["Four Quadrant Partial Cloverleaf B Stop Control",null,null,"--","",null,"",null,null,null,{"$f":"Definitions!P45","v":0},{"$f":"Definitions!Q45","v":20000},{"$f":"Definitions!R45","v":0},{"$f":"Definitions!S45","v":20000},{"$f":"Definitions!T45","v":0},{"$f":"Definitions!U45","v":12000},{"$f":"Definitions!V45","v":0},{"$f":"Definitions!W45","v":12000},true,true,true,true,true,true,0,0,0,0,0,0,{"$f":"AC70","v":0},{"$f":"AD70","v":0}]
["Other 1",null,null,"Diamond Signalized","Please Select the Base Ramp Terminal Intersection Type",null,null,null,null,null,null,null,null,null,null,null,null,null,null,null,null,null,null,null,null,null,null,null,null,null,{"$f":"AC71","v":0},{"$f":"AD71","v":0}]
["Other 2",null,null,"Unsignalized Diamond","Please Select the Base Ramp Terminal Intersection Type",null,null,null,null,null,null,null,null,null,null,null,null,null,null,null,null,null,null,null,null,null,null,null,null,null,{"$f":"AC71","v":0},{"$f":"AD71","v":0}]
[null,null,null,null,null,null,null,null,null,null,null,null,null,null,null,null,null,null,null,null,null,null,null,null,null,null,null,null,null,null,{"$f":"AC72","v":0},{"$f":"AD72","v":0}]
[null,null,null,null,null,null,null,null,null,null,null,null,null,null,null,null,null,null,null,null,null,null,null,null,null,null,null,null,null,null,{"$f":"AC72","v":0},{"$f":"AD72","v":0}]
["Half Diamond Intersection",null,null,null,null,null,null,null,null,null,null,null,null,null,null,null,null,null,null,null,null,null,null,null,null,null,null,null,null,null,{"$f":"AC73","v":0},{"$f":"AD73","v":0}]
["Half Diamond Entrance Terminal",null,null,"*Please Select",null,null,null,null,null,"D3en Sig",{"$f":"Definitions!P36","v":0},{"$f":"Definitions!Q36","v":29000},{"$f":"Definitions!R36","v":0},{"$f":"Definitions!S36","v":29000},{"$f":"Definitions!T36","v":0},{"$f":"Definitions!U36","v":21000},{"$f":"Definitions!V36","v":0},{"$f":"Definitions!W36","v":21000},{"$f":"AND(Input_RTI_OAADTIn1>=K85, Input_RTI_OAADTIn1<=L85, Input_RTI_OAADTOut1>=M85, Input_RTI_OAADTOut1<=N85, IF(D3_enter=\"NB Ramp Terminal\", Input_RTI_OAADTEn1,0)>=O85, IF(D3_enter=\"NB Ramp Terminal\", Input_RTI_OAADTEn1,0)<=P85)","v":true},{"$f":"AND(Input_RTI_DAADTIn1>=K85, Input_RTI_DAADTIn1<=L85, Input_RTI_DAADTOut1>=M85, Input_RTI_DAADTOut1<=N85, IF(D3_enter=\"NB Ramp Terminal\", Input_RTI_DAADTEn1,0)>=O85, IF(D3_enter=\"NB Ramp Terminal\", Input_RTI_DAADTEn1,0)<=P85)","v":true},{"$f":"AND(Input_RTI_OAADTIn2>=K85, Input_RTI_OAADTIn2<=L85, Input_RTI_OAADTOut2>=M85, Input_RTI_OAADTOut2<=N85, IF(D3_enter=\"NB Ramp Terminal\", 0, Input_RTI_OAADTEn2)>=O85, IF(D3_enter=\"NB Ramp Terminal\", 0, Input_RTI_OAADTEn2)<=P85)","v":true},{"$f":"AND(Input_RTI_DAADTIn2>=K85, Input_RTI_DAADTIn2<=L85, Input_RTI_DAADTOut2>=M85, Input_RTI_DAADTOut2<=N85, IF(D3_enter=\"NB Ramp Terminal\", 0, Input_RTI_DAADTEn2)>=O85, IF(D3_enter=\"NB Ramp Terminal\", 0, Input_RTI_DAADTEn2)<=P85)","v":true},{"$f":"AND(S85,U85)","v":true},{"$f":"AND(T85,V85)","v":true},{"$f":"MAX(IF(Input_RTI_OAADTIn1>=$K85, 0, ($K85-Input_RTI_OAADTIn1)/$K85),IF(Input_RTI_OAADTIn1<=$L85, 0, (Input_RTI_OAADTIn1-$L85)/$L85), IF(Input_RTI_OAADTOut1>=$M85, 0, ($M85-Input_RTI_OAADTOut1)/$M85),IF(Input_RTI_OAADTOut1<=$N85, 0, (Input_RTI_OAADTOut1-$N85)/$N85), IF(IF(D3_enter=\"NB Ramp Terminal\", Input_RTI_OAADTEn1,0)>=$O85, 0, ($O85-IF(D3_enter=\"NB Ramp Terminal\", Input_RTI_OAADTEn1,0))/$O85), IF(IF(D3_enter=\"NB Ramp Terminal\", Input_RTI_OAADTEn1,0)<=$P85, 0, (IF(D3_enter=\"NB Ramp Terminal\", Input_RTI_OAADTEn1,0)-$P85)/$P85))","v":0},{"$f":"MAX(IF(Input_RTI_OAADTIn2>=$K85, 0, ($K85-Input_RTI_OAADTIn2)/$K85),IF(Input_RTI_OAADTIn2<=$L85, 0, (Input_RTI_OAADTIn2-$L85)/$L85), IF(Input_RTI_OAADTOut2>=$M85, 0, ($M85-Input_RTI_OAADTOut2)/$M85),IF(Input_RTI_OAADTOut2<=$N85, 0, (Input_RTI_OAADTOut2-$N85)/$N85), IF(IF(D3_enter=\"NB Ramp Terminal\", 0, Input_RTI_OAADTEn2)>=$O85, 0, ($O85-IF(D3_enter=\"NB Ramp Terminal\", 0, Input_RTI_OAADTEn2))/$O85), IF(IF(D3_enter=\"NB Ramp Terminal\", 0, Input_RTI_OAADTEn2)<=$P85, 0, (IF(D3_enter=\"NB Ramp Terminal\", 0, Input_RTI_OAADTEn2)-$P85)/$P85))","v":0},{"$f":"MAX(IF(Input_RTI_DAADTIn1>=$K85, 0, ($K85-Input_RTI_DAADTIn1)/$K85),IF(Input_RTI_DAADTIn1<=$L85, 0, (Input_RTI_DAADTIn1-$L85)/$L85), IF(Input_RTI_DAADTOut1>=$M85, 0, ($M85-Input_RTI_DAADTOut1)/$M85),IF(Input_RTI_DAADTOut1<=$N85, 0, (Input_RTI_DAADTOut1-$N85)/$N85), IF(IF(D3_enter=\"NB Ramp Terminal\", Input_RTI_DAADTEn1,0)>=$O85, 0, ($O85-IF(D3_enter=\"NB Ramp Terminal\", Input_RTI_DAADTEn1,0))/$O85), IF(IF(D3_enter=\"NB Ramp Terminal\", Input_RTI_DAADTEn1,0)<=$P85, 0, (IF(D3_enter=\"NB Ramp Terminal\", Input_RTI_DAADTEn1,0)-$P85)/$P85))","v":0},{"$f":"MAX(IF(Input_RTI_DAADTIn2>=$K85, 0, ($K85-Input_RTI_DAADTIn2)/$K85),IF(Input_RTI_DAADTIn2<=$L85, 0, (Input_RTI_DAADTIn2-$L85)/$L85), IF(Input_RTI_DAADTOut2>=$M85, 0, ($M85-Input_RTI_DAADTOut2)/$M85),IF(Input_RTI_DAADTOut2<=$N85, 0, (Input_RTI_DAADTOut2-$N85)/$N85), IF(IF(D3_enter=\"NB Ramp Terminal\", 0, Input_RTI_DAADTEn2)>=$O85, 0, ($O85-IF(D3_enter=\"NB Ramp Terminal\", 0, Input_RTI_DAADTEn2))/$O85), IF(IF(D3_enter=\"NB Ramp Terminal\", 0, Input_RTI_DAADTEn2)<=$P85, 0, (IF(D3_enter=\"NB Ramp Terminal\", 0, Input_RTI_DAADTEn2)-$P85)/$P85))","v":0},null,null,{"$f":"AC73","v":0},{"$f":"AD73","v":0}]
["Half Diamond Exit Terminal",{"$f":"IF(D3_enter = D48, E48, D48)","v":"EB Ramp Terminal"},null,null,null,null,null,null,null,"D3en Stop",{"$f":"Definitions!P37","v":0},{"$f":"Definitions!Q37","v":22000},{"$f":"Definitions!R37","v":0},{"$f":"Definitions!S37","v":22000},{"$f":"Definitions!T37","v":0},{"$f":"Definitions!U37","v":15000},{"$f":"Definitions!V37","v":0},{"$f":"Definitions!W37","v":15000},{"$f":"AND(Input_RTI_OAADTIn1>=K86, Input_RTI_OAADTIn1<=L86, Input_RTI_OAADTOut1>=M86, Input_RTI_OAADTOut1<=N86, IF(D3_enter=\"NB Ramp Terminal\", Input_RTI_OAADTEn1,0)>=O86, IF(D3_enter=\"NB Ramp Terminal\", Input_RTI_OAADTEn1,0)<=P86)","v":true},{"$f":"AND(Input_RTI_DAADTIn1>=K86, Input_RTI_DAADTIn1<=L86, Input_RTI_DAADTOut1>=M86, Input_RTI_DAADTOut1<=N86, IF(D3_enter=\"NB Ramp Terminal\", Input_RTI_DAADTEn1,0)>=O86, IF(D3_enter=\"NB Ramp Terminal\", Input_RTI_DAADTEn1,0)<=P86)","v":true},{"$f":"AND(Input_RTI_OAADTIn2>=K86, Input_RTI_OAADTIn2<=L86, Input_RTI_OAADTOut2>=M86, Input_RTI_OAADTOut2<=N86, IF(D3_enter=\"NB Ramp Terminal\", 0, Input_RTI_OAADTEn2)>=O86, IF(D3_enter=\"NB Ramp Terminal\", 0, Input_RTI_OAADTEn2)<=P86)","v":true},{"$f":"AND(Input_RTI_DAADTIn2>=K86, Input_RTI_DAADTIn2<=L86, Input_RTI_DAADTOut2>=M86, Input_RTI_DAADTOut2<=N86, IF(D3_enter=\"NB Ramp Terminal\", 0, Input_RTI_DAADTEn2)>=O86, IF(D3_enter=\"NB Ramp Terminal\", 0, Input_RTI_DAADTEn2)<=P86)","v":true},{"$f":"AND(S86,U86)","v":true},true,{"$f":"MAX(IF(Input_RTI_OAADTIn1>=$K86, 0, ($K86-Input_RTI_OAADTIn1)/$K86),IF(Input_RTI_OAADTIn1<=$L86, 0, (Input_RTI_OAADTIn1-$L86)/$L86), IF(Input_RTI_OAADTOut1>=$M86, 0, ($M86-Input_RTI_OAADTOut1)/$M86),IF(Input_RTI_OAADTOut1<=$N86, 0, (Input_RTI_OAADTOut1-$N86)/$N86), IF(IF(D3_enter=\"NB Ramp Terminal\", Input_RTI_OAADTEn1,0)>=$O86, 0, ($O86-IF(D3_enter=\"NB Ramp Terminal\", Input_RTI_OAADTEn1,0))/$O86), IF(IF(D3_enter=\"NB Ramp Terminal\", Input_RTI_OAADTEn1,0)<=$P86, 0, (IF(D3_enter=\"NB Ramp Terminal\", Input_RTI_OAADTEn1,0)-$P86)/$P86))","v":0},{"$f":"MAX(IF(Input_RTI_OAADTIn2>=$K86, 0, ($K86-Input_RTI_OAADTIn2)/$K86),IF(Input_RTI_OAADTIn2<=$L86, 0, (Input_RTI_OAADTIn2-$L86)/$L86), IF(Input_RTI_OAADTOut2>=$M86, 0, ($M86-Input_RTI_OAADTOut2)/$M86),IF(Input_RTI_OAADTOut2<=$N86, 0, (Input_RTI_OAADTOut2-$N86)/$N86), IF(IF(D3_enter=\"NB Ramp Terminal\", 0, Input_RTI_OAADTEn2)>=$O86, 0, ($O86-IF(D3_enter=\"NB Ramp Terminal\", 0, Input_RTI_OAADTEn2))/$O86), IF(IF(D3_enter=\"NB Ramp Terminal\", 0, Input_RTI_OAADTEn2)<=$P86, 0, (IF(D3_enter=\"NB Ramp Terminal\", 0, Input_RTI_OAADTEn2)-$P86)/$P86))","v":0},{"$f":"MAX(IF(Input_RTI_DAADTIn1>=$K86, 0, ($K86-Input_RTI_DAADTIn1)/$K86),IF(Input_RTI_DAADTIn1<=$L86, 0, (Input_RTI_DAADTIn1-$L86)/$L86), IF(Input_RTI_DAADTOut1>=$M86, 0, ($M86-Input_RTI_DAADTOut1)/$M86),IF(Input_RTI_DAADTOut1<=$N86, 0, (Input_RTI_DAADTOut1-$N86)/$N86), IF(IF(D3_enter=\"NB Ramp Terminal\", Input_RTI_DAADTEn1,0)>=$O86, 0, ($O86-IF(D3_enter=\"NB Ramp Terminal\", Input_RTI_DAADTEn1,0))/$O86), IF(IF(D3_enter=\"NB Ramp Terminal\", Input_RTI_DAADTEn1,0)<=$P86, 0, (IF(D3_enter=\"NB Ramp Terminal\", Input_RTI_DAADTEn1,0)-$P86)/$P86))","v":0},{"$f":"MAX(IF(Input_RTI_DAADTIn2>=$K86, 0, ($K86-Input_RTI_DAADTIn2)/$K86),IF(Input_RTI_DAADTIn2<=$L86, 0, (Input_RTI_DAADTIn2-$L86)/$L86), IF(Input_RTI_DAADTOut2>=$M86, 0, ($M86-Input_RTI_DAADTOut2)/$M86),IF(Input_RTI_DAADTOut2<=$N86, 0, (Input_RTI_DAADTOut2-$N86)/$N86), IF(IF(D3_enter=\"NB Ramp Terminal\", 0, Input_RTI_DAADTEn2)>=$O86, 0, ($O86-IF(D3_enter=\"NB Ramp Terminal\", 0, Input_RTI_DAADTEn2))/$O86), IF(IF(D3_enter=\"NB Ramp Terminal\", 0, Input_RTI_DAADTEn2)<=$P86, 0, (IF(D3_enter=\"NB Ramp Terminal\", 0, Input_RTI_DAADTEn2)-$P86)/$P86))","v":0},null,null,{"$f":"AC74","v":0},{"$f":"AD74","v":0}]
[null,null,null,null,null,null,null,null,null,"D3ex Sig",{"$f":"Definitions!P34","v":0},{"$f":"Definitions!Q34","v":34000},{"$f":"Definitions!R34","v":0},{"$f":"Definitions!S34","v":34000},{"$f":"Definitions!T34","v":0},{"$f":"Definitions!U34","v":16000},{"$f":"Definitions!V34","v":0},{"$f":"Definitions!W34","v":16000},{"$f":"AND(Input_RTI_OAADTIn1>=K87, Input_RTI_OAADTIn1<=L87, Input_RTI_OAADTOut1>=M87, Input_RTI_OAADTOut1<=N87, IF(D3_exit=\"NB Ramp Terminal\", Input_RTI_OAADTEx1,0)>=O87, IF(D3_exit=\"NB Ramp Terminal\", Input_RTI_OAADTEx1,0)<=P87)","v":true},{"$f":"AND(Input_RTI_DAADTIn1>=K87, Input_RTI_DAADTIn1<=L87, Input_RTI_DAADTOut1>=M87, Input_RTI_DAADTOut1<=N87, IF(D3_exit=\"NB Ramp Terminal\", Input_RTI_DAADTEx1,0)>=O87, IF(D3_exit=\"NB Ramp Terminal\", Input_RTI_DAADTEx1,0)<=P87)","v":true},{"$f":"AND(Input_RTI_OAADTIn2>=K87, Input_RTI_OAADTIn2<=L87, Input_RTI_OAADTOut2>=M87, Input_RTI_OAADTOut2<=N87, IF(D3_exit=\"NB Ramp Terminal\",0, Input_RTI_OAADTEx2)>=O87, IF(D3_exit=\"NB Ramp Terminal\",0, Input_RTI_OAADTEx2)<=P87)","v":true},{"$f":"AND(Input_RTI_DAADTIn2>=K87, Input_RTI_DAADTIn2<=L87, Input_RTI_DAADTOut2>=M87, Input_RTI_DAADTOut2<=N87, IF(D3_exit=\"NB Ramp Terminal\",0, Input_RTI_DAADTEx2)>=O87, IF(D3_exit=\"NB Ramp Terminal\",0, Input_RTI_DAADTEx2)<=P87)","v":true},{"$f":"AND(S87,U87)","v":true},{"$f":"AND(T87,V87)","v":true},{"$f":"MAX(IF(Input_RTI_OAADTIn1>=$K87, 0, ($K87-Input_RTI_OAADTIn1)/$K87),IF(Input_RTI_OAADTIn1<=$L87, 0, (Input_RTI_OAADTIn1-$L87)/$L87), IF(Input_RTI_OAADTOut1>=$M87, 0, ($M87-Input_RTI_OAADTOut1)/$M87),IF(Input_RTI_OAADTOut1<=$N87, 0, (Input_RTI_OAADTOut1-$N87)/$N87), IF(IF(D3_exit=\"NB Ramp Terminal\", Input_RTI_OAADTEx1,0)>=$O87, 0, ($O87-IF(D3_exit=\"NB Ramp Terminal\", Input_RTI_OAADTEx1,0))/$O87), IF(IF(D3_exit=\"NB Ramp Terminal\", Input_RTI_OAADTEx1,0)<=$P87, 0, (IF(D3_exit=\"NB Ramp Terminal\", Input_RTI_OAADTEx1,0)-$P87)/$P87))","v":0},{"$f":"MAX(IF(Input_RTI_OAADTIn2>=$K87, 0, ($K87-Input_RTI_OAADTIn2)/$K87),IF(Input_RTI_OAADTIn2<=$L87, 0, (Input_RTI_OAADTIn2-$L87)/$L87), IF(Input_RTI_OAADTOut2>=$M87, 0, ($M87-Input_RTI_OAADTOut2)/$M87),IF(Input_RTI_OAADTOut2<=$N87, 0, (Input_RTI_OAADTOut2-$N87)/$N87), IF(IF(D3_exit=\"NB Ramp Terminal\",0, Input_RTI_OAADTEx2)>=$O87, 0, ($O87-IF(D3_exit=\"NB Ramp Terminal\",0, Input_RTI_OAADTEx2))/$O87), IF(IF(D3_exit=\"NB Ramp Terminal\",0, Input_RTI_OAADTEx2)<=$P87, 0, (IF(D3_exit=\"NB Ramp Terminal\",0, Input_RTI_OAADTEx2)-$P87)/$P87))","v":0},{"$f":"MAX(IF(Input_RTI_DAADTIn1>=$K87, 0, ($K87-Input_RTI_DAADTIn1)/$K87),IF(Input_RTI_DAADTIn1<=$L87, 0, (Input_RTI_DAADTIn1-$L87)/$L87), IF(Input_RTI_DAADTOut1>=$M87, 0, ($M87-Input_RTI_DAADTOut1)/$M87),IF(Input_RTI_DAADTOut1<=$N87, 0, (Input_RTI_DAADTOut1-$N87)/$N87), IF(IF(D3_exit=\"NB Ramp Terminal\", Input_RTI_DAADTEx1,0)>=$O87, 0, ($O87-IF(D3_exit=\"NB Ramp Terminal\", Input_RTI_DAADTEx1,0))/$O87), IF(IF(D3_exit=\"NB Ramp Terminal\", Input_RTI_DAADTEx1,0)<=$P87, 0, (IF(D3_exit=\"NB Ramp Terminal\", Input_RTI_DAADTEx1,0)-$P87)/$P87))","v":0},{"$f":"MAX(IF(Input_RTI_DAADTIn2>=$K87, 0, ($K87-Input_RTI_DAADTIn2)/$K87),IF(Input_RTI_DAADTIn2<=$L87, 0, (Input_RTI_DAADTIn2-$L87)/$L87), IF(Input_RTI_DAADTOut2>=$M87, 0, ($M87-Input_RTI_DAADTOut2)/$M87),IF(Input_RTI_DAADTOut2<=$N87, 0, (Input_RTI_DAADTOut2-$N87)/$N87), IF(IF(D3_exit=\"NB Ramp Terminal\",0, Input_RTI_DAADTEx2)>=$O87, 0, ($O87-IF(D3_exit=\"NB Ramp Terminal\",0, Input_RTI_DAADTEx2))/$O87), IF(IF(D3_exit=\"NB Ramp Terminal\",0, Input_RTI_DAADTEx2)<=$P87, 0, (IF(D3_exit=\"NB Ramp Terminal\",0, Input_RTI_DAADTEx2)-$P87)/$P87))","v":0},null,null,{"$f":"AC74","v":0},{"$f":"AD74","v":0}]
[null,null,null,null,null,null,null,null,null,"D3ex Stop",{"$f":"Definitions!P35","v":0},{"$f":"Definitions!Q35","v":22000},{"$f":"Definitions!R35","v":0},{"$f":"Definitions!S35","v":22000},{"$f":"Definitions!T35","v":0},{"$f":"Definitions!U35","v":8000},{"$f":"Definitions!V35","v":0},{"$f":"Definitions!W35","v":8000},{"$f":"AND(Input_RTI_OAADTIn1>=K88, Input_RTI_OAADTIn1<=L88, Input_RTI_OAADTOut1>=M88, Input_RTI_OAADTOut1<=N88, IF(D3_exit=\"NB Ramp Terminal\", Input_RTI_OAADTEx1,0)>=O88, IF(D3_exit=\"NB Ramp Terminal\", Input_RTI_OAADTEx1,0)<=P88)","v":true},{"$f":"AND(Input_RTI_DAADTIn1>=K88, Input_RTI_DAADTIn1<=L88, Input_RTI_DAADTOut1>=M88, Input_RTI_DAADTOut1<=N88, IF(D3_exit=\"NB Ramp Terminal\", Input_RTI_DAADTEx1,0)>=O88, IF(D3_exit=\"NB Ramp Terminal\", Input_RTI_DAADTEx1,0)<=P88)","v":true},{"$f":"AND(Input_RTI_OAADTIn2>=K88, Input_RTI_OAADTIn2<=L88, Input_RTI_OAADTOut2>=M88, Input_RTI_OAADTOut2<=N88, IF(D3_exit=\"NB Ramp Terminal\",0, Input_RTI_OAADTEx2)>=O88, IF(D3_exit=\"NB Ramp Terminal\",0, Input_RTI_OAADTEx2)<=P88)","v":true},{"$f":"AND(Input_RTI_DAADTIn2>=K88, Input_RTI_DAADTIn2<=L88, Input_RTI_DAADTOut2>=M88, Input_RTI_DAADTOut2<=N88, IF(D3_exit=\"NB Ramp Terminal\",0, Input_RTI_DAADTEx2)>=O88, IF(D3_exit=\"NB Ramp Terminal\",0, Input_RTI_DAADTEx2)<=P88)","v":true},true,true,{"$f":"MAX(IF(Input_RTI_OAADTIn1>=$K88, 0, ($K88-Input_RTI_OAADTIn1)/$K88),IF(Input_RTI_OAADTIn1<=$L88, 0, (Input_RTI_OAADTIn1-$L88)/$L88), IF(Input_RTI_OAADTOut1>=$M88, 0, ($M88-Input_RTI_OAADTOut1)/$M88),IF(Input_RTI_OAADTOut1<=$N88, 0, (Input_RTI_OAADTOut1-$N88)/$N88), IF(IF(D3_exit=\"NB Ramp Terminal\", Input_RTI_OAADTEx1,0)>=$O88, 0, ($O88-IF(D3_exit=\"NB Ramp Terminal\", Input_RTI_OAADTEx1,0))/$O88), IF(IF(D3_exit=\"NB Ramp Terminal\", Input_RTI_OAADTEx1,0)<=$P88, 0, (IF(D3_exit=\"NB Ramp Terminal\", Input_RTI_OAADTEx1,0)-$P88)/$P88))","v":0},{"$f":"MAX(IF(Input_RTI_OAADTIn2>=$K88, 0, ($K88-Input_RTI_OAADTIn2)/$K88),IF(Input_RTI_OAADTIn2<=$L88, 0, (Input_RTI_OAADTIn2-$L88)/$L88), IF(Input_RTI_OAADTOut2>=$M88, 0, ($M88-Input_RTI_OAADTOut2)/$M88),IF(Input_RTI_OAADTOut2<=$N88, 0, (Input_RTI_OAADTOut2-$N88)/$N88), IF(IF(D3_exit=\"NB Ramp Terminal\",0, Input_RTI_OAADTEx2)>=$O88, 0, ($O88-IF(D3_exit=\"NB Ramp Terminal\",0, Input_RTI_OAADTEx2))/$O88), IF(IF(D3_exit=\"NB Ramp Terminal\",0, Input_RTI_OAADTEx2)<=$P88, 0, (IF(D3_exit=\"NB Ramp Terminal\",0, Input_RTI_OAADTEx2)-$P88)/$P88))","v":0},{"$f":"MAX(IF(Input_RTI_DAADTIn1>=$K88, 0, ($K88-Input_RTI_DAADTIn1)/$K88),IF(Input_RTI_DAADTIn1<=$L88, 0, (Input_RTI_DAADTIn1-$L88)/$L88), IF(Input_RTI_DAADTOut1>=$M88, 0, ($M88-Input_RTI_DAADTOut1)/$M88),IF(Input_RTI_DAADTOut1<=$N88, 0, (Input_RTI_DAADTOut1-$N88)/$N88), IF(IF(D3_exit=\"NB Ramp Terminal\", Input_RTI_DAADTEx1,0)>=$O88, 0, ($O88-IF(D3_exit=\"NB Ramp Terminal\", Input_RTI_DAADTEx1,0))/$O88), IF(IF(D3_exit=\"NB Ramp Terminal\", Input_RTI_DAADTEx1,0)<=$P88, 0, (IF(D3_exit=\"NB Ramp Terminal\", Input_RTI_DAADTEx1,0)-$P88)/$P88))","v":0},{"$f":"MAX(IF(Input_RTI_DAADTIn2>=$K88, 0, ($K88-Input_RTI_DAADTIn2)/$K88),IF(Input_RTI_DAADTIn2<=$L88, 0, (Input_RTI_DAADTIn2-$L88)/$L88), IF(Input_RTI_DAADTOut2>=$M88, 0, ($M88-Input_RTI_DAADTOut2)/$M88),IF(Input_RTI_DAADTOut2<=$N88, 0, (Input_RTI_DAADTOut2-$N88)/$N88), IF(IF(D3_exit=\"NB Ramp Terminal\",0, Input_RTI_DAADTEx2)>=$O88, 0, ($O88-IF(D3_exit=\"NB Ramp Terminal\",0, Input_RTI_DAADTEx2))/$O88), IF(IF(D3_exit=\"NB Ramp Terminal\",0, Input_RTI_DAADTEx2)<=$P88, 0, (IF(D3_exit=\"NB Ramp Terminal\",0, Input_RTI_DAADTEx2)-$P88)/$P88))","v":0},null,null,{"$f":"AC75","v":0},{"$f":"AD75","v":0}]
[null,null,null,null,null,null,null,null,null,null,null,null,null,null,null,null,null,null,null,null,null,null,null,null,null,null,null,null,null,null,{"$f":"AC75","v":0},{"$f":"AD75","v":0}]
[null,null,null,null,null,null,null,null,null,null,null,null,null,null,null,null,null,null,null,null,null,null,null,null,null,null,null,null,null,null,{"$f":"AC76","v":0},{"$f":"AD76","v":0}]
[null,null,null,null,null,null,null,null,null,null,null,null,null,null,null,null,null,null,null,null,null,null,null,null,null,null,null,null,null,null,{"$f":"AC76","v":0},{"$f":"AD76","v":0}]
[null,null,null,null,null,null,null,null,null,null,null,null,null,null,null,null,null,null,null,null,null,null,null,null,null,null,null,null,null,null,{"$f":"AC77","v":0},{"$f":"AD77","v":0}]
[null,null,null,null,null,null,null,null,null,null,null,null,null,null,null,null,null,null,null,null,null,null,null,null,null,null,null,null,null,null,{"$f":"AC77","v":0},{"$f":"AD77","v":0}]
[null,null,null,null,null,null,null,null,null,null,null,null,null,null,null,null,null,null,null,null,null,null,null,null,null,null,null,null,null,null,{"$f":"AC78","v":0},{"$f":"AD78","v":0}]
[null,null,null,null,null,null,null,null,null,null,null,null,null,null,null,null,null,null,null,null,null,null,null,null,null,null,null,null,null,null,{"$f":"AC78","v":0},{"$f":"AD78","v":0}]
[null,null,null,null,null,null,null,null,null,null,null,null,null,null,null,null,null,null,null,null,null,null,null,null,null,null,null,null,null,null,{"$f":"AC79","v":0},{"$f":"AD79","v":0}]
[null,null,null,null,null,null,null,null,null,null,null,null,null,null,null,null,null,null,null,null,null,null,null,null,null,null,null,null,null,null,{"$f":"AC79","v":0},{"$f":"AD79","v":0}]

{"sheet":"Ramp Terminal Inputs","index":6,"n_rows":64,"n_cols":34,"rows_kept":64,"cut":false,"hidden":true,"merged":[[0,0,0,12],[1,0,1,12],[3,3,3,4],[3,5,3,6],[2,5,2,6],[2,1,2,2],[2,3,2,4],[2,7,2,8],[3,7,3,8],[2,9,2,10],[3,9,3,10],[3,1,3,2],[2,11,3,11],[2,12,3,12],[2,13,3,13],[41,1,63,1],[41,2,63,2],[41,3,63,3],[41,4,63,4],[41,5,63,5],[41,12,63,12],[41,6,63,6],[43,7,43,10],[50,7,50,10],[57,7,57,10],[41,11,63,11],[40,0,40,6],[40,11,40,12],[13,1,13,2],[13,3,13,4],[13,5,13,6],[13,7,13,8],[13,9,13,10],[40,7,40,10],[19,1,19,6],[13,30,13,31],[13,32,13,33],[2,20,3,21],[2,30,3,31],[2,14,3,15],[2,16,3,17],[2,18,3,19],[13,24,13,25],[13,26,13,27],[13,28,13,29],[2,24,3,25],[2,26,3,27],[2,28,3,29]]}
["Ramp Terminal Inputs"]
["Provide inputs needed to compute and apply Part C CMFs."]
["Alternative","Diamond Signalized",null,"Diamond Signalized (Alt)",null,"Diamond Stop Control",null,"Roundabout (1-lane)",null,"Roundabout (2-lane)",null,"Single-Point Diamond","Signalized Tight Diamond","Diverging Diamond","Four Quadrant Partial Cloverleaf A Signalized",null,"Two Quadrant Partial Cloverleaf A Signalized",null,"Four Quadrant Partial Cloverleaf B Signalized",null,"Two Quadrant Partial Cloverleaf B Signalized",null,"Half Diamond Signalized","Half Diamond Signalized","Four Quadrant Partial Cloverleaf A Stop Control",null,"Two Quadrant Partial Cloverleaf A Stop Control",null,"Four Quadrant Partial Cloverleaf B Stop Control",null,"Two Quadrant Partial Cloverleaf B Stop Control",null,"Half Diamond Stop Control","Half Diamond Stop Control"]
[null,"4 Leg Terminal w/ Diagonal Ramps (D4)",null,"4 Leg Terminal w/ Diagonal Ramps (D4)",null,"4 Leg Terminal w/ Diagonal Ramps (D4)",null,"4 Leg Terminal w/ Diagonal Ramps (D4)",null,"4 Leg Terminal w/ Diagonal Ramps (D4)",null,null,null,null,null,null,null,null,null,null,null,null,"D3ex","D3en",null,null,null,null,null,null,null,null,"D3ex","D3en"]
["Ramp Terminal  ",{"$f":"'Control Strategy Selection'!$D$48","v":"EB Ramp Terminal"},{"$f":"'Control Strategy Selection'!$E$48","v":"WB Ramp Terminal"},{"$f":"'Control Strategy Selection'!$D$48","v":"EB Ramp Terminal"},{"$f":"'Control Strategy Selection'!$E$48","v":"WB Ramp Terminal"},{"$f":"'Control Strategy Selection'!$D$48","v":"EB Ramp Terminal"},{"$f":"'Control Strategy Selection'!$E$48","v":"WB Ramp Terminal"},{"$f":"'Control Strategy Selection'!$D$48","v":"EB Ramp Terminal"},{"$f":"'Control Strategy Selection'!$E$48","v":"WB Ramp Terminal"},{"$f":"'Control Strategy Selection'!$D$48","v":"EB Ramp Terminal"},{"$f":"'Control Strategy Selection'!$E$48","v":"WB Ramp Terminal"},"Both Ramps","Both Ramps","Both Ramps",{"$f":"'Control Strategy Selection'!$D$48","v":"EB Ramp Terminal"},{"$f":"'Control Strategy Selection'!$E$48","v":"WB Ramp Terminal"},{"$f":"'Control Strategy Selection'!$D$48","v":"EB Ramp Terminal"},{"$f":"'Control Strategy Selection'!$E$48","v":"WB Ramp Terminal"},{"$f":"'Control Strategy Selection'!$D$48","v":"EB Ramp Terminal"},{"$f":"'Control Strategy Selection'!$E$48","v":"WB Ramp Terminal"},"NB Ramp Terminal","SB Ramp Terminal","Exit","Entrance",{"$f":"'Control Strategy Selection'!$D$48","v":"EB Ramp Terminal"},{"$f":"'Control Strategy Selection'!$E$48","v":"WB Ramp Terminal"},{"$f":"'Control Strategy Selection'!$D$48","v":"EB Ramp Terminal"},{"$f":"'Control Strategy Selection'!$E$48","v":"WB Ramp Terminal"},{"$f":"'Control Strategy Selection'!$D$48","v":"EB Ramp Terminal"},{"$f":"'Control Strategy Selection'!$E$48","v":"WB Ramp Terminal"},"NB Ramp Terminal","SB Ramp Terminal","Exit","Entrance"]
[{"$f":"'Control Strategy Selection'!$A$48:$C$48 & \" \" & 'Control Strategy Selection'!A49:C49","v":"Opening Year AADT Crossroad - Inside Leg"},{"$f":"Input_RTI_OAADTIn1","v":0},{"$f":"Input_RTI_OAADTIn2","v":0},{"$f":"Input_RTI_OAADTIn1","v":0},{"$f":"Input_RTI_OAADTIn2","v":0},{"$f":"Input_RTI_OAADTIn1","v":0},{"$f":"Input_RTI_OAADTIn2","v":0},{"$f":"Input_RTI_OAADTIn1","v":0},{"$f":"Input_RTI_OAADTIn2","v":0},{"$f":"Input_RTI_OAADTIn1","v":0},{"$f":"Input_RTI_OAADTIn2","v":0},"--","--",null,{"$f":"Input_RTI_OAADTIn1","v":0},{"$f":"Input_RTI_OAADTIn2","v":0},{"$f":"Input_RTI_OAADTIn1","v":0},{"$f":"Input_RTI_OAADTIn2","v":0},{"$f":"Input_RTI_OAADTIn1","v":0},{"$f":"Input_RTI_OAADTIn2","v":0},{"$f":"Input_RTI_OAADTIn1","v":0},{"$f":"Input_RTI_OAADTIn2","v":0},{"$f":"IF(D3_exit = \"NB Ramp Terminal\", Input_RTI_OAADTIn1, Input_RTI_OAADTIn2)","v":0},{"$f":"IF(D3_enter = \"NB Ramp Terminal\", Input_RTI_OAADTIn1, Input_RTI_OAADTIn2)","v":0},{"$f":"Input_RTI_OAADTIn1","v":0},{"$f":"Input_RTI_OAADTIn2","v":0},{"$f":"Input_RTI_OAADTIn1","v":0},{"$f":"Input_RTI_OAADTIn2","v":0},{"$f":"Input_RTI_OAADTIn1","v":0},{"$f":"Input_RTI_OAADTIn2","v":0},{"$f":"Input_RTI_OAADTIn1","v":0},{"$f":"Input_RTI_OAADTIn2","v":0},{"$f":"IF(D3_exit = \"NB Ramp Terminal\", Input_RTI_OAADTIn1, Input_RTI_OAADTIn2)","v":0},{"$f":"IF(D3_enter= \"NB Ramp Terminal\", Input_RTI_OAADTIn1, Input_RTI_OAADTIn2)","v":0}]
[{"$f":"'Control Strategy Selection'!$A$48:$C$48 & \" \" & 'Control Strategy Selection'!A50:C50","v":"Opening Year AADT Crossroad - Outside Leg"},{"$f":"Input_RTI_OAADTOut1","v":0},{"$f":"Input_RTI_OAADTOut2","v":0},{"$f":"Input_RTI_OAADTOut1","v":0},{"$f":"Input_RTI_OAADTOut2","v":0},{"$f":"Input_RTI_OAADTOut1","v":0},{"$f":"Input_RTI_OAADTOut2","v":0},{"$f":"Input_RTI_OAADTOut1","v":0},{"$f":"Input_RTI_OAADTOut2","v":0},{"$f":"Input_RTI_OAADTOut1","v":0},{"$f":"Input_RTI_OAADTOut2","v":0},{"$f":"MAX(Input_RTI_OAADTOut1, Input_RTI_OAADTOut2)","v":0},{"$f":"MAX(Input_RTI_OAADTOut1, Input_RTI_OAADTOut2)","v":0},null,{"$f":"Input_RTI_OAADTOut1","v":0},{"$f":"Input_RTI_OAADTOut2","v":0},{"$f":"Input_RTI_OAADTOut1","v":0},{"$f":"Input_RTI_OAADTOut2","v":0},{"$f":"Input_RTI_OAADTOut1","v":0},{"$f":"Input_RTI_OAADTOut2","v":0},{"$f":"Input_RTI_OAADTOut1","v":0},{"$f":"Input_RTI_OAADTOut2","v":0},{"$f":"IF(D3_exit = \"NB Ramp Terminal\", Input_RTI_OAADTOut1, Input_RTI_OAADTOut2)","v":0},{"$f":"IF(D3_enter = \"NB Ramp Terminal\", Input_RTI_OAADTOut1, Input_RTI_OAADTOut2)","v":0},{"$f":"Input_RTI_OAADTOut1","v":0},{"$f":"Input_RTI_OAADTOut2","v":0},{"$f":"Input_RTI_OAADTOut1","v":0},{"$f":"Input_RTI_OAADTOut2","v":0},{"$f":"Input_RTI_OAADTOut1","v":0},{"$f":"Input_RTI_OAADTOut2","v":0},{"$f":"Input_RTI_OAADTOut1","v":0},{"$f":"Input_RTI_OAADTOut2","v":0},{"$f":"IF(D3_exit = \"NB Ramp Terminal\", Input_RTI_OAADTOut1, Input_RTI_OAADTOut2)","v":0},{"$f":"IF(D3_enter = \"NB Ramp Terminal\", Input_RTI_OAADTOut1, Input_RTI_OAADTOut2)","v":0}]
[{"$f":"'Control Strategy Selection'!$A$48:$C$48 & \" \" & 'Control Strategy Selection'!A51:C51","v":"Opening Year AADT Exit Ramp"},{"$f":"Input_RTI_OAADTEx1","v":0},{"$f":"Input_RTI_OAADTEx2","v":0},{"$f":"Input_RTI_OAADTEx1","v":0},{"$f":"Input_RTI_OAADTEx2","v":0},{"$f":"Input_RTI_OAADTEx1","v":0},{"$f":"Input_RTI_OAADTEx2","v":0},{"$f":"Input_RTI_OAADTEx1","v":0},{"$f":"Input_RTI_OAADTEx2","v":0},{"$f":"Input_RTI_OAADTEx1","v":0},{"$f":"Input_RTI_OAADTEx2","v":0},{"$f":"Input_RTI_OAADTEx1 + Input_RTI_OAADTEx2","v":0},{"$f":"Input_RTI_OAADTEx1 + Input_RTI_OAADTEx2","v":0},null,{"$f":"Input_RTI_OAADTEx1","v":0},{"$f":"Input_RTI_OAADTEx2","v":0},{"$f":"Input_RTI_OAADTEx1","v":0},{"$f":"Input_RTI_OAADTEx2","v":0},{"$f":"Input_RTI_OAADTEx1","v":0},{"$f":"Input_RTI_OAADTEx2","v":0},{"$f":"Input_RTI_OAADTEx1","v":0},{"$f":"Input_RTI_OAADTEx2","v":0},{"$f":"IF(D3_exit = \"NB Ramp Terminal\", Input_RTI_OAADTEx1, Input_RTI_OAADTEx2)","v":0},0,{"$f":"Input_RTI_OAADTEx1","v":0},{"$f":"Input_RTI_OAADTEx2","v":0},{"$f":"Input_RTI_OAADTEx1","v":0},{"$f":"Input_RTI_OAADTEx2","v":0},{"$f":"Input_RTI_OAADTEx1","v":0},{"$f":"Input_RTI_OAADTEx2","v":0},{"$f":"Input_RTI_OAADTEx1","v":0},{"$f":"Input_RTI_OAADTEx2","v":0},{"$f":"IF(D3_exit = \"NB Ramp Terminal\", Input_RTI_OAADTEx1, Input_RTI_OAADTEx2)","v":0},0]
[{"$f":"'Control Strategy Selection'!$A$48:$C$48 & \" \" & 'Control Strategy Selection'!A52:C52","v":"Opening Year AADT Entrance Ramp"},{"$f":"Input_RTI_OAADTEn1","v":0},{"$f":"Input_RTI_OAADTEn2","v":0},{"$f":"Input_RTI_OAADTEn1","v":0},{"$f":"Input_RTI_OAADTEn2","v":0},{"$f":"Input_RTI_OAADTEn1","v":0},{"$f":"Input_RTI_OAADTEn2","v":0},{"$f":"Input_RTI_OAADTEn1","v":0},{"$f":"Input_RTI_OAADTEn2","v":0},{"$f":"Input_RTI_OAADTEn1","v":0},{"$f":"Input_RTI_OAADTEn2","v":0},{"$f":"Input_RTI_OAADTEn1 + Input_RTI_OAADTEn2","v":0},{"$f":"Input_RTI_OAADTEn1 + Input_RTI_OAADTEn2","v":0},null,{"$f":"Input_RTI_OAADTEn1","v":0},{"$f":"Input_RTI_OAADTEn2","v":0},{"$f":"Input_RTI_OAADTEn1","v":0},{"$f":"Input_RTI_OAADTEn2","v":0},{"$f":"Input_RTI_OAADTEn1","v":0},{"$f":"Input_RTI_OAADTEn2","v":0},{"$f":"Input_RTI_OAADTEn1","v":0},{"$f":"Input_RTI_OAADTEn2","v":0},0,{"$f":"IF(D3_enter = \"NB Ramp Terminal\", Input_RTI_OAADTEn1, Input_RTI_OAADTEn2)","v":0},{"$f":"Input_RTI_OAADTEn1","v":0},{"$f":"Input_RTI_OAADTEn2","v":0},{"$f":"Input_RTI_OAADTEn1","v":0},{"$f":"Input_RTI_OAADTEn2","v":0},{"$f":"Input_RTI_OAADTEn1","v":0},{"$f":"Input_RTI_OAADTEn2","v":0},{"$f":"Input_RTI_OAADTEn1","v":0},{"$f":"Input_RTI_OAADTEn2","v":0},0,{"$f":"IF(D3_enter = \"NB Ramp Terminal\", Input_RTI_OAADTEn1, Input_RTI_OAADTEn2)","v":0}]
[{"$f":"'Control Strategy Selection'!$A$53:$C$53 & \" \" & 'Control Strategy Selection'!A54:C54","v":"Design Year AADT Crossroad - Inside Leg"},{"$f":"Input_RTI_DAADTIn1","v":0},{"$f":"Input_RTI_DAADTIn2","v":0},{"$f":"Input_RTI_DAADTIn1","v":0},{"$f":"Input_RTI_DAADTIn2","v":0},{"$f":"Input_RTI_DAADTIn1","v":0},{"$f":"Input_RTI_DAADTIn2","v":0},{"$f":"Input_RTI_DAADTIn1","v":0},{"$f":"Input_RTI_DAADTIn2","v":0},{"$f":"Input_RTI_DAADTIn1","v":0},{"$f":"Input_RTI_DAADTIn2","v":0},"--","--",null,{"$f":"Input_RTI_DAADTIn1","v":0},{"$f":"Input_RTI_DAADTIn2","v":0},{"$f":"Input_RTI_DAADTIn1","v":0},{"$f":"Input_RTI_DAADTIn2","v":0},{"$f":"Input_RTI_DAADTIn1","v":0},{"$f":"Input_RTI_DAADTIn2","v":0},{"$f":"Input_RTI_DAADTIn1","v":0},{"$f":"Input_RTI_DAADTIn2","v":0},{"$f":"IF(D3_exit = \"NB Ramp Terminal\", Input_RTI_DAADTIn1, Input_RTI_DAADTIn2)","v":0},{"$f":"IF(D3_enter = \"NB Ramp Terminal\", Input_RTI_DAADTIn1, Input_RTI_DAADTIn2)","v":0},{"$f":"Input_RTI_DAADTIn1","v":0},{"$f":"Input_RTI_DAADTIn2","v":0},{"$f":"Input_RTI_DAADTIn1","v":0},{"$f":"Input_RTI_DAADTIn2","v":0},{"$f":"Input_RTI_DAADTIn1","v":0},{"$f":"Input_RTI_DAADTIn2","v":0},{"$f":"Input_RTI_DAADTIn1","v":0},{"$f":"Input_RTI_DAADTIn2","v":0},{"$f":"IF(D3_exit = \"NB Ramp Terminal\", Input_RTI_DAADTIn1, Input_RTI_DAADTIn2)","v":0},{"$f":"IF(D3_enter = \"NB Ramp Terminal\", Input_RTI_DAADTIn1, Input_RTI_DAADTIn2)","v":0}]
[{"$f":"'Control Strategy Selection'!$A$53:$C$53 & \" \" & 'Control Strategy Selection'!A55:C55","v":"Design Year AADT Crossroad - Outside Leg"},{"$f":"Input_RTI_DAADTOut1","v":0},{"$f":"Input_RTI_DAADTOut2","v":0},{"$f":"Input_RTI_DAADTOut1","v":0},{"$f":"Input_RTI_DAADTOut2","v":0},{"$f":"Input_RTI_DAADTOut1","v":0},{"$f":"Input_RTI_DAADTOut2","v":0},{"$f":"Input_RTI_DAADTOut1","v":0},{"$f":"Input_RTI_DAADTOut2","v":0},{"$f":"Input_RTI_DAADTOut1","v":0},{"$f":"Input_RTI_DAADTOut2","v":0},{"$f":"MAX(Input_RTI_DAADTOut1, Input_RTI_DAADTOut2)","v":0},{"$f":"MAX(Input_RTI_DAADTOut1, Input_RTI_DAADTOut2)","v":0},null,{"$f":"Input_RTI_DAADTOut1","v":0},{"$f":"Input_RTI_DAADTOut2","v":0},{"$f":"Input_RTI_DAADTOut1","v":0},{"$f":"Input_RTI_DAADTOut2","v":0},{"$f":"Input_RTI_DAADTOut1","v":0},{"$f":"Input_RTI_DAADTOut2","v":0},{"$f":"Input_RTI_DAADTOut1","v":0},{"$f":"Input_RTI_DAADTOut2","v":0},{"$f":"IF(D3_exit = \"NB Ramp Terminal\", Input_RTI_DAADTOut1, Input_RTI_DAADTOut2)","v":0},{"$f":"IF(D3_enter = \"NB Ramp Terminal\", Input_RTI_DAADTOut1, Input_RTI_DAADTOut2)","v":0},{"$f":"Input_RTI_DAADTOut1","v":0},{"$f":"Input_RTI_DAADTOut2","v":0},{"$f":"Input_RTI_DAADTOut1","v":0},{"$f":"Input_RTI_DAADTOut2","v":0},{"$f":"Input_RTI_DAADTOut1","v":0},{"$f":"Input_RTI_DAADTOut2","v":0},{"$f":"Input_RTI_DAADTOut1","v":0},{"$f":"Input_RTI_DAADTOut2","v":0},{"$f":"IF(D3_exit = \"NB Ramp Terminal\", Input_RTI_DAADTOut1, Input_RTI_DAADTOut2)","v":0},{"$f":"IF(D3_enter = \"NB Ramp Terminal\", Input_RTI_DAADTOut1, Input_RTI_DAADTOut2)","v":0}]
[{"$f":"'Control Strategy Selection'!$A$53:$C$53 & \" \" & 'Control Strategy Selection'!A56:C56","v":"Design Year AADT Exit Ramp"},{"$f":"Input_RTI_DAADTEx1","v":0},{"$f":"Input_RTI_DAADTEx2","v":0},{"$f":"Input_RTI_DAADTEx1","v":0},{"$f":"Input_RTI_DAADTEx2","v":0},{"$f":"Input_RTI_DAADTEx1","v":0},{"$f":"Input_RTI_DAADTEx2","v":0},{"$f":"Input_RTI_DAADTEx1","v":0},{"$f":"Input_RTI_DAADTEx2","v":0},{"$f":"Input_RTI_DAADTEx1","v":0},{"$f":"Input_RTI_DAADTEx2","v":0},{"$f":"Input_RTI_DAADTEx1 + Input_RTI_DAADTEx2","v":0},{"$f":"Input_RTI_DAADTEx1 + Input_RTI_DAADTEx2","v":0},null,{"$f":"Input_RTI_DAADTEx1","v":0},{"$f":"Input_RTI_DAADTEx2","v":0},{"$f":"Input_RTI_DAADTEx1","v":0},{"$f":"Input_RTI_DAADTEx2","v":0},{"$f":"Input_RTI_DAADTEx1","v":0},{"$f":"Input_RTI_DAADTEx2","v":0},{"$f":"Input_RTI_DAADTEx1","v":0},{"$f":"Input_RTI_DAADTEx2","v":0},{"$f":"IF(D3_exit = \"NB Ramp Terminal\", Input_RTI_DAADTEx1, Input_RTI_DAADTEx2)","v":0},0,{"$f":"Input_RTI_DAADTEx1","v":0},{"$f":"Input_RTI_DAADTEx2","v":0},{"$f":"Input_RTI_DAADTEx1","v":0},{"$f":"Input_RTI_DAADTEx2","v":0},{"$f":"Input_RTI_DAADTEx1","v":0},{"$f":"Input_RTI_DAADTEx2","v":0},{"$f":"Input_RTI_DAADTEx1","v":0},{"$f":"Input_RTI_DAADTEx2","v":0},{"$f":"IF(D3_exit = \"NB Ramp Terminal\", Input_RTI_DAADTEx1, Input_RTI_DAADTEx2)","v":0},0]
[{"$f":"'Control Strategy Selection'!$A$53:$C$53 & \" \" & 'Control Strategy Selection'!A57:C57","v":"Design Year AADT Entrance Ramp"},{"$f":"Input_RTI_DAADTEn1","v":0},{"$f":"Input_RTI_DAADTEn2","v":0},{"$f":"Input_RTI_DAADTEn1","v":0},{"$f":"Input_RTI_DAADTEn2","v":0},{"$f":"Input_RTI_DAADTEn1","v":0},{"$f":"Input_RTI_DAADTEn2","v":0},{"$f":"Input_RTI_DAADTEn1","v":0},{"$f":"Input_RTI_DAADTEn2","v":0},{"$f":"Input_RTI_DAADTEn1","v":0},{"$f":"Input_RTI_DAADTEn2","v":0},{"$f":"Input_RTI_DAADTEn1 + Input_RTI_DAADTEn2","v":0},{"$f":"Input_RTI_DAADTEn1 + Input_RTI_DAADTEn2","v":0},null,{"$f":"Input_RTI_DAADTEn1","v":0},{"$f":"Input_RTI_DAADTEn2","v":0},{"$f":"Input_RTI_DAADTEn1","v":0},{"$f":"Input_RTI_DAADTEn2","v":0},{"$f":"Input_RTI_DAADTEn1","v":0},{"$f":"Input_RTI_DAADTEn2","v":0},{"$f":"Input_RTI_DAADTEn1","v":0},{"$f":"Input_RTI_DAADTEn2","v":0},0,{"$f":"IF(D3_enter = \"NB Ramp Terminal\", Input_RTI_DAADTEn1, Input_RTI_DAADTEn2)","v":0},{"$f":"Input_RTI_DAADTEn1","v":0},{"$f":"Input_RTI_DAADTEn2","v":0},{"$f":"Input_RTI_DAADTEn1","v":0},{"$f":"Input_RTI_DAADTEn2","v":0},{"$f":"Input_RTI_DAADTEn1","v":0},{"$f":"Input_RTI_DAADTEn2","v":0},{"$f":"Input_RTI_DAADTEn1","v":0},{"$f":"Input_RTI_DAADTEn2","v":0},0,{"$f":"IF(D3_enter = \"NB Ramp Terminal\", Input_RTI_DAADTEn1, Input_RTI_DAADTEn2)","v":0}]
["Area Type",{"$f":"Input_RTI_AreaType","v":0},null,{"$f":"Input_RTI_AreaType","v":0},null,{"$f":"Input_RTI_AreaType","v":0},null,{"$f":"Input_RTI_AreaType","v":0},null,{"$f":"Input_RTI_AreaType","v":0},null,{"$f":"Input_RTI_AreaType","v":0},null,null,null,null,null,null,null,null,null,null,null,null,{"$f":"Input_RTI_AreaType","v":0},null,{"$f":"Input_RTI_AreaType","v":0},null,{"$f":"Input_RTI_AreaType","v":0},null,{"$f":"Input_RTI_AreaType","v":0},null,{"$f":"Input_RTI_AreaType","v":0}]
["Number of Crossroad Lanes",4,4,4,4,4,4,"N/A","N/A","N/A","N/A","N/A","N/A",null,4,4,4,4,4,4,4,4,4,4,4,4,4,4,4,4,4,4,4,4]
["Number of through traffic lanes that oppose the left-turn movement on the inside crossroad leg",2,2,2,2,"N/A","N/A","N/A","N/A","N/A","N/A","N/A","N/A",null,2,2,2,2,2,2,2,2,2,2,"N/A","N/A","N/A","N/A","N/A","N/A","N/A","N/A","N/A","N/A"]
["Number of through traffic lanes that oppose the left-turn movement on the outside crossroad leg",{"$f":"Input_D4TS_NLxst1-Input_D4TS_NLTOIn1","v":2},{"$f":"Input_D4TS_NLxst2-Input_D4TS_NLTOIn2","v":2},{"$f":"Input_D4TSA_NLxst1-Input_D4TSA_NLTOIn1","v":2},{"$f":"Input_D4TSA_NLxst2-Input_D4TSA_NLTOIn2","v":2},"N/A","N/A","N/A","N/A","N/A","N/A","N/A","N/A",null,{"$f":"Input_D4TS_NLxst1-Input_D4TS_NLTOIn1","v":2},{"$f":"Input_D4TS_NLxst2-Input_D4TS_NLTOIn2","v":2},{"$f":"Input_D4TS_NLxst1-Input_D4TS_NLTOIn1","v":2},{"$f":"Input_D4TS_NLxst2-Input_D4TS_NLTOIn2","v":2},{"$f":"Input_D4TS_NLxst1-Input_D4TS_NLTOIn1","v":2},{"$f":"Input_D4TS_NLxst2-Input_D4TS_NLTOIn2","v":2},{"$f":"Input_D4TS_NLxst1-Input_D4TS_NLTOIn1","v":2},{"$f":"Input_D4TS_NLxst2-Input_D4TS_NLTOIn2","v":2},{"$f":"IF(D3_exit = \"NB Ramp Terminal\", Input_D4TS_NLxst1-Input_D4TS_NLTOIn1, Input_D4TS_NLxst2-Input_D4TS_NLTOIn2)","v":2},{"$f":"IF(D3_enter = \"NB Ramp Terminal\", Input_D4TS_NLxst1-Input_D4TS_NLTOIn1, Input_D4TS_NLxst2-Input_D4TS_NLTOIn2)","v":2},"N/A","N/A","N/A","N/A","N/A","N/A","N/A","N/A","N/A","N/A"]
["Number of free-flow right turns from exit ramp to crossroad","N/A","N/A","N/A","N/A","N/A","N/A","N/A","N/A","N/A","N/A",0,"N/A",null,"N/A","N/A","N/A","N/A","N/A","N/A","N/A","N/A","N/A","N/A","N/A","N/A","N/A","N/A","N/A","N/A","N/A","N/A","N/A","N/A"]
["Crossroad Speed Limit",null,null,null,null,null,null,null,null,null,null,null,null,40]
["CMF Inputs","Part C CMFs\nOptional For Stage 1 ICE, Required for Stage 2 ICE"]
["Exit Ramp Skew Angle","N/A","N/A","N/A","N/A",0,0,null,null,null,null,null,null,null,0,0,0,0,0,0,0,0,0,0,0,0,0,0,0,0,0,0,0,0]
["Is a non-ramp public street leg present?","No","No","No","No","N/A","N/A",null,null,null,null,null,null,null,"No","No","No","No","No","No","No","No","No","No","N/A","N/A","N/A","N/A","N/A","N/A","N/A","N/A","N/A","N/A"]
["Exit ramp right turn control"," Signal/Stop/yield-controlled"," Signal/Stop/yield-controlled"," Signal/Stop/yield-controlled"," Signal/Stop/yield-controlled"," Signal/Stop/yield-controlled"," Signal/Stop/yield-controlled",null,null,null,null,null,null,null," Signal/Stop/yield-controlled"," Signal/Stop/yield-controlled"," Signal/Stop/yield-controlled"," Signal/Stop/yield-controlled"," Signal/Stop/yield-controlled"," Signal/Stop/yield-controlled"," Signal/Stop/yield-controlled"," Signal/Stop/yield-controlled"," Signal/Stop/yield-controlled"," Signal/Stop/yield-controlled"," Signal/Stop/yield-controlled"," Signal/Stop/yield-controlled"," Signal/Stop/yield-controlled"," Signal/Stop/yield-controlled"," Signal/Stop/yield-controlled"," Signal/Stop/yield-controlled"," Signal/Stop/yield-controlled"," Signal/Stop/yield-controlled"," Signal/Stop/yield-controlled"," Signal/Stop/yield-controlled"]
["Effective number of lanes serving exit ramp",1,0.5,0.5,1.5,2,2.5,null,null,null,null,null,null,null,1,1,1,1,1,1,1,1,1,1,1,1,1,1,1,1,1,1,1,1]
["Number of unsignalized driveways on the outside crossroad leg within 250' of the interchange",0,0,0,0,"N/A","N/A",null,null,null,null,null,null,null,0,0,0,0,0,0,0,0,0,0,"N/A","N/A","N/A","N/A","N/A","N/A","N/A","N/A","N/A","N/A"]
["Distance (mi) to the adjacent ramp terminal",0.1,0.1,0.1,0.1,0.1,0.1,null,null,null,null,null,null,null,0.1,0.1,0.1,0.1,0.1,0.1,0.1,0.1,0.1,0.1,0.1,0.1,0.1,0.1,0.1,0.1,0.1,0.1,0.1,0.1]
["Distance (mi) to the next public street intersection on the outside crossroad leg",0.15,0.15,0.15,0.15,0.15,0.15,null,null,null,null,null,null,null,0.15,0.15,0.15,0.15,0.15,0.15,0.15,0.15,0.15,0.15,0.15,0.15,0.15,0.15,0.15,0.15,0.15,0.15,0.15,0.15]
["# of unsignalized public street approaches on the outside crossroad leg within 250' (<0.05 mi) of the interchange",1,1,1,1,1,1,null,null,null,null,null,null,null,0,0,0,0,0,0,0,0,0,0,0,0,0,0,0,0,0,0,0,0]
["Median Width (ft)",12,12,12,12,12,12,null,null,null,null,null,null,null,12,12,12,12,12,12,12,12,12,12,12,12,12,12,12,12,12,12,12,12]
["Presence of right-turn lane/bay on \"in\" leg","N/A","N/A","N/A","N/A","N/A","N/A",null,null,null,null,null,null,null,"Yes","Yes","Yes","Yes","N/A","N/A","Yes","Yes","N/A","N/A","Yes","Yes","Yes","Yes","N/A","N/A","N/A","N/A","N/A","N/A"]
["Presence of right-turn lane/bay on outside crossroad leg","Yes","Yes","Yes","Yes","Yes","Yes",null,null,null,null,null,null,null,"Yes","Yes","N/A","N/A","Yes","Yes","Yes","Yes","N/A","Yes","Yes","Yes","Yes","Yes","Yes","Yes","Yes","Yes","N/A","Yes"]
["Presence of left-turn lane/bay on inside crossroad leg","Yes","Yes","Yes","Yes","Yes","Yes",null,null,null,null,null,null,null,"N/A","N/A","N/A","N/A","Yes","Yes","Yes","Yes","N/A","Yes","N/A","N/A","N/A","N/A","Yes","Yes","Yes","Yes","N/A","Yes"]
["Left-turn lane/bay Width for inside crossroad leg",12,12,12,12,12,12,null,null,null,null,null,null,null,0,0,0,0,12,12,12,12,0,12,0,0,0,0,12,12,12,12,0,12]
["Presence of left-turn lane/bay on outside crossroad leg","N/A","N/A","N/A","N/A","N/A","N/A",null,null,null,null,null,null,null,"N/A","N/A","Yes","Yes","N/A","N/A","Yes","Yes","N/A","N/A","N/A","N/A","Yes","Yes","N/A","N/A","N/A","N/A","N/A","N/A"]
["Left-turn lane/bay Width for outside crossroad leg",0,0,0,0,0,0,null,null,null,null,null,null,null,0,0,12,12,0,0,0,0,0,0,0,0,12,12,0,0,0,0,0,0]
["Protected Left-turn operation for inside crossroad leg","No","No","No","No","N/A","N/A",null,null,null,null,null,null,null,"N/A","N/A","N/A","N/A","Yes","Yes","Yes","Yes","N/A","Yes","N/A","N/A","N/A","N/A","N/A","N/A","N/A","N/A","N/A","N/A"]
["Protected Left-turn operation for outside crossroad leg","N/A","N/A","N/A","N/A","N/A","N/A",null,null,null,null,null,null,null,"N/A","N/A","Yes","Yes","N/A","N/A","Yes","Yes","N/A","N/A","N/A","N/A","N/A","N/A","N/A","N/A","N/A","N/A","N/A","N/A"]
["Right turn channelization for inside crossroad leg","N/A","N/A","N/A","N/A","N/A","N/A",null,null,null,null,null,null,null,"Yes","Yes","Yes","Yes","N/A","N/A","Yes","Yes","N/A","N/A","N/A","N/A","N/A","N/A","N/A","N/A","N/A","N/A","N/A","N/A"]
["Right turn channelization for outside crossroad leg","No","No","No","No","N/A","N/A",null,null,null,null,null,null,null,"Yes","Yes","N/A","N/A","Yes","Yes","Yes","Yes","N/A","Yes","N/A","N/A","N/A","N/A","N/A","N/A","N/A","N/A","N/A","N/A"]
["Right turn channelization for exit ramp","No","No","No","No","N/A","N/A",null,null,null,null,null,null,null,"Yes","Yes","Yes","Yes","N/A","N/A","Yes","Yes","Yes","N/A","N/A","N/A","N/A","N/A","N/A","N/A","N/A","N/A","N/A","N/A"]
[null,null,null,null,null,null,null,"Roundabout CMF Inputs"]
["Inscribed Circle Diameter (ft)","N/A","N/A","N/A","N/A","N/A","N/A",130,130,125,125,"N/A","N/A"]
["Outbound Only Leg",null,null,null,null,null,null,"Yes","Yes","Yes","Yes"]
["Leg 1 (Crossroad Leg - Inside)",null,null,null,null,null,null,"Leg 1 (Crossroad Leg - Inside)"]
["Opening Year Entering AADT",null,null,null,null,null,null,{"$f":"'Control Strategy Selection'!$D$49*0.5","v":0},{"$f":"'Control Strategy Selection'!$E$49*0.5","v":0},{"$f":"'Control Strategy Selection'!$D$49*0.5","v":0},{"$f":"'Control Strategy Selection'!$E$49*0.5","v":0}]
["Leg has Right-Turn Bypass",null,null,null,null,null,null,"No","No","No","No"]
["# of Access Points within 250' of Yield Line",null,null,null,null,null,null,0,0,0,0]
["Entering Width (ft)",null,null,null,null,null,null,29,29,29,29]
["# of Entering Lanes",null,null,null,null,null,null,2,2,2,2]
["# of Circulating Lanes",null,null,null,null,null,null,2,2,2,2]
["Leg 2 (Crossroad Leg - Outside)",null,null,null,null,null,null,"Leg 2 (Crossroad Leg - Outside)"]
["Opening Year Entering AADT",null,null,null,null,null,null,{"$f":"'Control Strategy Selection'!$D$50*0.5","v":0},{"$f":"'Control Strategy Selection'!$E$50*0.5","v":0},{"$f":"'Control Strategy Selection'!$D$50*0.5","v":0},{"$f":"'Control Strategy Selection'!$E$50*0.5","v":0}]
["Leg has Right-Turn Bypass",null,null,null,null,null,null,"No","No","No","No"]
["# of Access Points within 250' of Yield Line",null,null,null,null,null,null,0,0,0,0]
["Entering Width (ft)",null,null,null,null,null,null,29,29,29,29]
["# of Entering Lanes",null,null,null,null,null,null,2,2,2,2]
["# of Circulating Lanes",null,null,null,null,null,null,2,2,2,2]
["Leg 3 (Exit Ramp Inside)",null,null,null,null,null,null,"Leg 3 (Exit Ramp Leg)"]
["Opening Year Entering AADT",null,null,null,null,null,null,{"$f":"('Control Strategy Selection'!$D$51)","v":0},{"$f":"('Control Strategy Selection'!$E$51)","v":0},{"$f":"('Control Strategy Selection'!$D$51)","v":0},{"$f":"('Control Strategy Selection'!$E$51)","v":0}]
["Leg has Right-Turn Bypass",null,null,null,null,null,null,"No","No","No","No"]
["# of Access Points within 250' of Yield Line",null,null,null,null,null,null,0,0,0,0]
["Entering Width (ft)",null,null,null,null,null,null,29,29,29,29]
["# of Entering Lanes",null,null,null,null,null,null,2,2,2,2]
["# of Circulating Lanes",null,null,null,null,null,null,2,2,2,2]

{"sheet":"At-Grade Inputs","index":7,"n_rows":76,"n_cols":34,"rows_kept":76,"cut":false,"hidden":false,"merged":[[3,3,3,32],[14,0,14,36],[6,33,9,36],[10,33,13,36],[6,1,9,2],[11,5,11,6],[12,5,12,6],[13,9,13,10],[22,9,22,10],[16,3,16,4],[17,3,17,4],[13,5,13,6],[16,5,16,6],[6,25,6,26],[7,23,7,24],[7,25,7,26],[8,23,8,24],[10,1,13,2],[10,7,10,8],[11,7,11,8],[12,3,12,4],[13,3,13,4],[22,7,22,8],[9,27,9,28],[26,5,26,6],[27,5,27,6],[17,5,17,6],[18,5,18,6],[19,5,19,6],[20,5,20,6],[21,5,21,6],[22,5,22,6],[23,5,23,6],[25,5,25,6],[23,7,23,8],[23,3,23,4],[24,5,24,6],[27,7,27,8],[18,3,18,4],[34,11,34,12],[40,11,40,12],[8,25,8,26],[9,23,9,24],[9,25,9,26],[40,13,40,14],[21,3,21,4],[22,3,22,4],[28,5,28,6],[29,5,29,6],[30,5,30,6],[31,5,31,6],[32,5,32,6],[30,3,30,4],[31,3,31,4],[25,3,25,4],[29,3,29,4],[26,3,26,4],[28,3,28,4],[23,9,23,10],[25,9,25,10],[27,9,27,10],[62,13,62,14],[57,11,57,12],[57,13,57,14],[58,11,58,12],[58,13,58,14],[59,11,59,12],[59,13,59,14],[60,11,60,12],[60,13,60,14],[61,11,61,12],[61,13,61,14],[62,11,62,12],[52,11,52,12],[52,13,52,14],[53,11,53,12],[53,13,53,14],[54,11,54,12],[54,13,54,14],[55,11,55,12],[55,13,55,14],[51,11,51,12],[46,11,46,12],[46,13,46,14],[47,11,47,12],[47,13,47,14],[48,11,48,12],[48,13,48,14],[50,11,50,12],[50,13,50,14],[51,13,51,14],[41,11,41,12],[41,13,41,14],[43,11,43,12],[43,13,43,14],[44,11,44,12],[44,13,44,14],[45,11,45,12],[34,13,34,14],[36,11,36,12],[36,13,36,14],[37,11,37,12],[37,13,37,14],[38,11,38,12],[38,13,38,14],[39,11,39,12],[39,13,39,14],[45,13,45,14],[4,5,5,6],[6,5,6,6],[7,5,7,6],[8,5,8,6],[9,5,9,6],[10,5,10,6],[7,29,7,30],[8,29,8,30],[9,29,9,30],[7,21,7,22],[6,27,6,28],[4,29,5,30],[8,27,8,28],[7,27,7,28],[4,31,5,32],[8,15,8,16],[9,15,9,16],[6,17,6,18],[7,17,7,18],[7,19,7,20],[8,19,8,20],[9,17,9,18],[9,19,9,20],[6,19,6,20],[8,21,8,22],[9,21,9,22],[8,17,8,18],[6,31,6,32],[7,31,7,32],[8,31,8,32],[9,31,9,32],[6,29,6,30],[6,21,6,22],[4,27,5,28],[4,23,5,24],[4,25,5,26],[6,23,6,24],[12,9,12,10],[4,15,5,16],[4,17,5,18],[4,19,5,20],[4,21,5,22],[6,15,6,16],[7,15,7,16],[6,7,6,8],[7,7,7,8],[8,7,8,8],[9,7,9,8],[6,9,6,10],[7,9,7,10],[8,9,8,10],[9,9,9,10],[6,11,6,12],[7,11,7,12],[8,11,8,12],[6,13,6,14],[7,13,7,14],[8,13,8,14],[9,13,9,14],[9,11,9,12],[71,19,71,20],[72,19,72,20],[73,19,73,20],[19,3,19,4],[20,3,20,4],[27,3,27,4],[31,7,31,8],[31,9,31,10],[24,3,24,4],[32,3,32,4],[30,7,30,8],[30,9,30,10],[28,9,28,10],[21,7,21,8],[29,7,29,8],[32,7,32,8],[32,9,32,10],[19,7,19,8],[20,7,20,8],[19,9,19,10],[20,9,20,10],[28,7,28,8],[25,7,25,8],[21,9,21,10],[65,13,75,14],[65,15,75,16],[63,19,64,22],[63,1,64,18],[65,1,75,2],[74,19,74,20],[75,19,75,20],[65,21,65,22],[66,21,66,22],[67,21,67,22],[68,21,68,22],[69,21,69,22],[70,21,70,22],[71,21,71,22],[72,21,72,22],[73,21,73,22],[74,21,74,22],[75,21,75,22],[65,19,65,20],[66,19,66,20],[67,19,67,20],[68,19,68,20],[69,19,69,20],[70,19,70,20],[15,33,32,36],[33,11,33,14],[33,0,33,10],[35,11,35,14],[42,11,42,14],[49,11,49,14],[15,15,32,16],[15,17,32,18],[15,19,32,20],[15,21,32,22],[15,23,32,24],[15,25,32,26],[15,27,32,28],[15,29,32,30],[17,7,17,8],[17,9,17,10],[18,7,18,8],[16,7,16,8],[16,9,16,10],[16,1,32,2],[18,9,18,10],[29,9,29,10],[26,9,26,10],[26,7,26,8],[3,0,5,0],[3,1,5,2],[34,1,62,2],[34,3,62,4],[34,5,62,6],[34,7,62,8],[34,9,62,10],[34,15,62,16],[34,17,62,18],[4,7,5,8],[4,9,5,10],[4,11,5,12],[4,13,5,14],[13,7,13,8],[11,9,11,10],[10,3,10,4],[4,3,5,4],[6,3,6,4],[7,3,7,4],[8,3,8,4],[9,3,9,4],[11,3,11,4],[12,7,12,8],[10,9,10,10],[65,23,75,24],[65,25,75,26],[65,27,75,28],[65,29,75,30],[65,31,75,32],[63,23,64,32],[33,15,33,32],[15,1,15,10],[15,11,32,14],[56,11,56,14],[15,31,32,32],[34,19,62,20],[34,21,62,22],[34,23,62,24],[34,25,62,26],[34,27,62,28],[34,29,62,30],[34,31,62,32],[65,3,75,4],[65,5,75,6],[65,17,75,18],[65,7,75,8],[65,9,75,10],[65,11,75,12]]}
["At-Grade Intersection Inputs"]
["Provide inputs needed to compute and apply Part C CMFs."]
[]
["Input",null,null,"Control Strategy"]
[null,null,null,{"$f":"Label_AGI_TrafficSignal","v":"Traffic Signal"},null,{"$f":"Label_AGI_TrafficSignal&\" (Alt)\"","v":"Traffic Signal (Alt)"},null,{"$f":"Label_AGI_MinorStop","v":"Minor Road Stop"},null,{"$f":"Label_AGI_AllStop","v":"All Way Stop"},null,{"$f":"Label_AGI_1LnRdbt","v":"1-lane Roundabout"},null,{"$f":"Label_AGI_2LnRdbt","v":"2-lane Roundabout"},null,{"$f":"Label_AGI_DLT","v":"Partial Displaced Left Turn (PDLT)"},null,{"$f":"Label_AGI_MUT","v":"Full Median U-Turn (MUT)"},null,{"$f":"Label_AGI_RCUTSig","v":"Signalized RCUT"},null,{"$f":"Label_AGI_RCUTUnsig","v":"Unsignalized RCUT"},null,"Signalized Thru-Cut",null,"Unsignalized Thru-Cut",null,"Bowtie",null,{"$f":"Label_AGI_GreenT","v":"Continuous Green-T Intersection"},null,{"$f":"Label_AGI_Jughandle","v":"Jughandle"}]
[]
["Opening Year Major Road AADT","Optional AADT Overrides",null,{"$f":"Input_Base_OAADTMajor","v":0},null,{"$f":"Input_Base_OAADTMajor","v":0},null,{"$f":"Input_Base_OAADTMajor","v":0},null,{"$f":"Input_Base_OAADTMajor","v":0},null,{"$f":"Input_Base_OAADTMajor","v":0},null,{"$f":"Input_Base_OAADTMajor","v":0},null,{"$f":"Input_Base_OAADTMajor","v":0},null,{"$f":"Input_Base_OAADTMajor","v":0},null,{"$f":"Input_Base_OAADTMajor","v":0},null,{"$f":"Input_Base_OAADTMajor","v":0},null,{"$f":"Input_Base_OAADTMajor","v":0},null,{"$f":"Input_Base_OAADTMajor","v":0},null,{"$f":"Input_Base_OAADTMajor","v":0},null,{"$f":"Input_Base_OAADTMajor","v":0},null,{"$f":"Input_Base_OAADTMajor","v":0},null,"All strategies will have the same AADT as the Base Conditions unless overridden by user."]
["Opening Year Minor Road AADT",null,null,{"$f":"Input_Base_OAADTMinor","v":0},null,{"$f":"Input_Base_OAADTMinor","v":0},null,{"$f":"Input_Base_OAADTMinor","v":0},null,{"$f":"Input_Base_OAADTMinor","v":0},null,{"$f":"Input_Base_OAADTMinor","v":0},null,{"$f":"Input_Base_OAADTMinor","v":0},null,{"$f":"Input_Base_OAADTMinor","v":0},null,{"$f":"Input_Base_OAADTMinor","v":0},null,{"$f":"Input_Base_OAADTMinor","v":0},null,{"$f":"Input_Base_OAADTMinor","v":0},null,{"$f":"Input_Base_OAADTMinor","v":0},null,{"$f":"Input_Base_OAADTMinor","v":0},null,{"$f":"Input_Base_OAADTMinor","v":0},null,{"$f":"Input_Base_OAADTMinor","v":0},null,{"$f":"Input_Base_OAADTMinor","v":0}]
["Design Year Major Road AADT",null,null,{"$f":"Input_Base_DAADTMajor","v":0},null,{"$f":"Input_Base_DAADTMajor","v":0},null,{"$f":"Input_Base_DAADTMajor","v":0},null,{"$f":"Input_Base_DAADTMajor","v":0},null,{"$f":"Input_Base_DAADTMajor","v":0},null,{"$f":"Input_Base_DAADTMajor","v":0},null,{"$f":"Input_Base_DAADTMajor","v":0},null,{"$f":"Input_Base_DAADTMajor","v":0},null,{"$f":"Input_Base_DAADTMajor","v":0},null,{"$f":"Input_Base_DAADTMajor","v":0},null,{"$f":"Input_Base_DAADTMajor","v":0},null,{"$f":"Input_Base_DAADTMajor","v":0},null,{"$f":"Input_Base_DAADTMajor","v":0},null,{"$f":"Input_Base_DAADTMajor","v":0},null,{"$f":"Input_Base_DAADTMajor","v":0}]
["Design Year Minor Road AADT",null,null,{"$f":"Input_Base_DAADTMinor","v":0},null,{"$f":"Input_Base_DAADTMinor","v":0},null,{"$f":"Input_Base_DAADTMinor","v":0},null,{"$f":"Input_Base_DAADTMinor","v":0},null,{"$f":"Input_Base_DAADTMinor","v":0},null,{"$f":"Input_Base_DAADTMinor","v":0},null,{"$f":"Input_Base_DAADTMinor","v":0},null,{"$f":"Input_Base_DAADTMinor","v":0},null,{"$f":"Input_Base_DAADTMinor","v":0},null,{"$f":"Input_Base_DAADTMinor","v":0},null,{"$f":"Input_Base_DAADTMinor","v":0},null,{"$f":"Input_Base_DAADTMinor","v":0},null,{"$f":"Input_Base_DAADTMinor","v":0},null,{"$f":"Input_Base_DAADTMinor","v":0},null,{"$f":"Input_Base_DAADTMinor","v":0}]
["Number of Approaches with Left-Turn Lanes","Additional Required Control Strategy Inputs",null,1,null,1,null,null,null,1,null,null,null,null,null,null,null,null,null,null,null,null,null,null,null,null,null,null,null,null,null,null,null,"Do not include stop controlled approaches for minor stop"]
["Number of Approaches with Right-Turn Lanes",null,null,1,null,1,null,null,null,1]
["Number of Uncontrolled Approaches with Left-Turn Lanes",null,null,null,null,null,null,0]
["Number of Uncontrolled Approaches with Right-Turn Lanes",null,null,null,null,null,null,0]
["Keep default values below here for planning-level analysis, override with actual values for full HSM Analysis"]
[null,"Part C CMFs\nOptional For Stage 1 ICE, Required for Stage 2 ICE",null,null,null,null,null,null,null,null,null,"Scroll Down for Roundabout CMF Inputs",null,null,null,"CMF - No Inputs Required",null,"CMF - No Inputs Required",null,"Scroll Down for Signalized RCUT SPF Inputs",null,"Scroll Down for Unsignalized RCUT SPF Inputs",null,"CMF - No Inputs Required",null,"CMF - No Inputs Required",null,"CMF - No Inputs Required",null,"CMF - No Inputs Required",null,"CMF - No Inputs Required",null,"All yellow cells will be automatically populated by a macro. If users want to do a planning-level analysis, they can leave the automatic inputs as-is"]
["Skew Angle","All yellow cells will be automatically populated by a macro. If users want to do a planning-level analysis, they can leave the automatic inputs as-is.",null,"N/A",null,"N/A",null,0,null,"N/A"]
["Lighting Present",null,null,"Yes",null,"Yes",null,"Yes",null,"Yes"]
["# of Approaches Permissive LT Signal Phasing",null,null,4,null,4,null,"N/A",null,"N/A"]
["# of Approaches Perm/Prot LT Signal Phasing",null,null,0,null,0,null,"N/A",null,"N/A"]
["# of Approaches Protected LT Signal Phasing",null,null,0,null,0,null,"N/A",null,"N/A"]
["Number of Approaches with Right-Turn-on-Red Prohibited",null,null,0,null,0,null,"N/A",null,"N/A"]
["Red Light Cameras Present",null,null,"No",null,"No",null,"N/A",null,"N/A"]
["Number of Major Street Through Lanes",null,null,0,null,0,null,"N/A",null,"N/A"]
["Number of Minor Street Lanes",null,null,0,null,0]
["# of Major St Approaches w/ Right-Turn Channelization",null,null,0,null,0,null,"N/A",null,"N/A"]
["Number of Approaches with U-Turn Prohibited",null,null,0,null,0,null,"N/A",null,"N/A"]
["Pedestrian Volume by Activity Level",null,null,"Low (50)",null,"Low (50)",null,"N/A",null,"N/A"]
["User Specified Sum of all daily pedestrian crossing volumes",null,null,50,null,50,null,"N/A",null,"N/A"]
["Max # of Lanes Crossed by Pedestrians",null,null,{"$f":" IF(Input_NumMajorLanes = \"5 or fewer\", 5, 6)","v":6},null,{"$f":" IF(Input_NumMajorLanes = \"5 or fewer\", 5, 6)","v":6},null,"N/A",null,"N/A"]
["Number of Bus Stops within 1000' of Intersection",null,null,0,null,0,null,"N/A",null,"N/A"]
["Schools within 1000' of intersection",null,null,"No",null,"No",null,"N/A",null,"N/A"]
["Number of Alcohol Sales Establishments within 1000' of Intersection",null,null,0,null,0,null,"N/A",null,"N/A"]
[null,null,null,null,null,null,null,null,null,null,null,"Roundabout CMF Inputs"]
["Inscribed Circle Diameter (ft)","N/A",null,"N/A",null,"N/A",null,"N/A",null,"N/A",null,130,null,125,null,"N/A",null,"N/A",null,"N/A",null,"N/A",null,"N/A",null,"N/A",null,"N/A",null,"N/A",null,"N/A"]
["Leg 1 (Major Leg #1)",null,null,null,null,null,null,null,null,null,null,"Leg 1 (Major Leg #1)"]
["Opening Year Entering AADT",null,null,null,null,null,null,null,null,null,null,{"$f":"('Control Strategy Selection'!D13)*0.5","v":0},null,{"$f":"('Control Strategy Selection'!D13)*0.5","v":0}]
["Leg has Right-Turn Bypass",null,null,null,null,null,null,null,null,null,null,"No",null,"No"]
["# of Access Points within 250' of Yield Line",null,null,null,null,null,null,null,null,null,null,0,null,0]
["Entering Width (ft)",null,null,null,null,null,null,null,null,null,null,29,null,29]
["# of Entering Lanes",null,null,null,null,null,null,null,null,null,null,2,null,2]
["# of Circulating Lanes",null,null,null,null,null,null,null,null,null,null,2,null,2]
["Leg 2 (Major Leg #2)",null,null,null,null,null,null,null,null,null,null,"Leg 2 (Major Leg #2)"]
["Opening Year Entering AADT",null,null,null,null,null,null,null,null,null,null,{"$f":"('Control Strategy Selection'!$D$13)-Input_AGI_R1_AADT_L1","v":0},null,{"$f":"('Control Strategy Selection'!$D$13)-Input_AGI_R2_AADT_L1","v":0}]
["Leg has Right-Turn Bypass",null,null,null,null,null,null,null,null,null,null,"No",null,"No"]
["# of Access Points within 250' of Yield Line",null,null,null,null,null,null,null,null,null,null,0,null,0]
["Entering Width (ft)",null,null,null,null,null,null,null,null,null,null,29,null,29]
["# of Entering Lanes",null,null,null,null,null,null,null,null,null,null,2,null,2]
["# of Circulating Lanes",null,null,null,null,null,null,null,null,null,null,2,null,2]
["Leg 3 (Minor Leg #1)",null,null,null,null,null,null,null,null,null,null,"Leg 3 (Minor Leg #1)"]
["Opening Year Entering AADT",null,null,null,null,null,null,null,null,null,null,{"$f":"('Control Strategy Selection'!D14)*0.5","v":0},null,{"$f":"('Control Strategy Selection'!D14)*0.5","v":0}]
["Leg has Right-Turn Bypass",null,null,null,null,null,null,null,null,null,null,"No",null,"No"]
["# of Access Points within 250' of Yield Line",null,null,null,null,null,null,null,null,null,null,0,null,0]
["Entering Width (ft)",null,null,null,null,null,null,null,null,null,null,29,null,29]
["# of Entering Lanes",null,null,null,null,null,null,null,null,null,null,2,null,2]
["# of Circulating Lanes",null,null,null,null,null,null,null,null,null,null,2,null,2]
["Leg 4 (Minor Leg #2)",null,null,null,null,null,null,null,null,null,null,"Leg 4 (Minor Leg #2)"]
["Opening Year Entering AADT",null,null,null,null,null,null,null,null,null,null,{"$f":"('Control Strategy Selection'!$D$14)-Input_AGI_R1_AADT_L3","v":0},null,{"$f":"('Control Strategy Selection'!$D$14)-Input_AGI_R2_AADT_L3","v":0}]
["Leg has Right-Turn Bypass",null,null,null,null,null,null,null,null,null,null,"No",null,"No"]
["# of Access Points within 250' of Yield Line",null,null,null,null,null,null,null,null,null,null,0,null,0]
["Entering Width (ft)",null,null,null,null,null,null,null,null,null,null,29,null,29]
["# of Entering Lanes",null,null,null,null,null,null,null,null,null,null,2,null,2]
["# of Circulating Lanes",null,null,null,null,null,null,null,null,null,null,2,null,2]
[null,null,null,null,null,null,null,null,null,null,null,null,null,null,null,null,null,null,null,"Restricted Crossing U-Turn (RCUT) CMF Inputs"]
[]
["# U-Turns","N/A",null,"N/A",null,"N/A",null,"N/A",null,"N/A",null,"N/A",null,"N/A",null,"N/A",null,"N/A",null,2,null,2,null,"N/A",null,"N/A",null,"N/A",null,"N/A",null,"N/A"]
["# of Major Roadway Lanes (one direction)",null,null,null,null,null,null,null,null,null,null,null,null,null,null,null,null,null,null,2]
["# of Minor Roadway Lanes (one direction)",null,null,null,null,null,null,null,null,null,null,null,null,null,null,null,null,null,null,2]
["Total Offset Distance (ft)",null,null,null,null,null,null,null,null,null,null,null,null,null,null,null,null,null,null,1250,null,1250]
["Number of Driveways",null,null,null,null,null,null,null,null,null,null,null,null,null,null,null,null,null,null,4,null,4]
["Total Deceleration Lane Length (ft)",null,null,null,null,null,null,null,null,null,null,null,null,null,null,null,null,null,null,750,null,750]
["Total Acceleration Lane Length (ft)",null,null,null,null,null,null,null,null,null,null,null,null,null,null,null,null,null,null,null,null,750]
["Number of Left-Turn Lanes From Major Road",null,null,null,null,null,null,null,null,null,null,null,null,null,null,null,null,null,null,1]
["Major Road Speed Limit (mph)",null,null,null,null,null,null,null,null,null,null,null,null,null,null,null,null,null,null,"<=50"]
["Total Median Width (ft)",null,null,null,null,null,null,null,null,null,null,null,null,null,null,null,null,null,null,65]
["Maximum Median Width (ft)",null,null,null,null,null,null,null,null,null,null,null,null,null,null,null,null,null,null,null,null,40]

{"sheet":"SSI Inputs","index":8,"n_rows":76,"n_cols":22,"rows_kept":76,"cut":false,"hidden":false,"merged":[[23,19,27,26],[55,11,55,12],[56,11,56,12],[11,1,11,17],[12,12,12,15],[12,1,12,3],[54,1,54,4],[55,1,55,4],[9,1,9,11],[53,1,53,4],[12,8,12,9],[18,1,20,6],[16,7,16,10],[17,7,17,10],[58,1,58,4],[59,1,59,4],[60,1,60,4],[0,0,0,17],[1,0,1,17],[44,1,44,4],[45,1,45,4],[46,1,46,4],[47,1,47,4],[48,1,48,4],[49,1,49,4],[50,1,50,4],[51,1,51,4],[52,1,52,4],[7,1,7,11],[8,1,8,11],[71,1,71,4],[72,1,72,4],[42,1,42,5],[42,7,42,12],[66,1,66,4],[67,1,67,4],[68,1,68,4],[69,1,69,4],[70,1,70,4],[61,1,61,4],[62,1,62,4],[63,1,63,4],[64,1,64,4],[65,1,65,4],[56,1,56,4],[57,1,57,4]]}
["Safe System for Intersection (SSI) Inputs"]
["Specify the geomtric, exposure, severity, and conflicting traffic complexity inputs required for an SSI analysis.",null,null,null,null,null,null,null,null,null,null,null,null,null,null,null,null,null,null,null,"Is Design?",{"$f":"Input_AnalysisYearType=Notes!A12","v":false}]
[null,null,null,null,null,null,null,null,null,null,null,null,null,null,null,null,null,null,null,null,"Is 3-Leg?",{"$f":"Input_NumLegs=Notes!A48","v":false}]
[null,"1. Roadway Geometry",null,null,null,"Lanes",null,"Major Street Designation",null,null,null,null,null,"Required Inputs"]
[null,"Major number thru lanes (one direction)",null,null,null,null,null,"Select major street direction",null,null,"N-S",null,null,"Default Available, Override Optional"]
[null,"Minor number thru lanes (one direction)",null,null,null,null,null,"Median Presence on Major Road",null,null,null,{"$f":"IF(K6=\"NO\", \"TRUE\",\"FALSE\")","v":"FALSE"},null,"Planning-Level Default Input"]
[null,null,null,null,null,null,null,"Median Presence on Minor Road",null,null,null,{"$f":"IF(AND(L6=\"TRUE\",'Control Strategy Selection'!C36=\"TRUE\"),\"TRUE\",\"FALSE\")","v":"FALSE"},null,"Computed Value, Override Optional"]
[null,"2. Complete the \"Exposure\" inputs.  These inputs will apply to all interesections selected for analysis.",null,null,null,null,null,null,null,null,null,null,null,"Computed Value - No Override"]
[null,"3. Complete the \"Severity\" inputs",null,null,null,null,null,null,null,null,null,null,null,"Disabled Cell (Often based on input selections)"]
[null,"4. Complete the \"Conflicting Traffic Complexity\" inputs"]
[]
[null,"2. Exposure - All Intersections"]
[null,"Average Daily Traffic (veh/day)",null,null,"Open","Design",null,null,"ADT Directional Split",null,null,null,"Nonmotorized Total ADBP (ped-bike/day)",null,null,null,"Activity Level","ADBP Value (ped-bike/day)"]
[null,"Major",null,null,{"$f":"IF(Input_Base_OAADTMajor>0,Input_Base_OAADTMajor,\"--\")","v":"--"},{"$f":"IF(Input_Base_DAADTMajor>0,Input_Base_DAADTMajor,\"--\")","v":"--"},null,null,"Major",0.5,null,null,"Open Year Total Intersection NM",null,null,null,"Low (20)",50]
[null,"Minor",null,null,{"$f":"IF(Input_Base_OAADTMinor>0,Input_Base_OAADTMinor,\"--\")","v":"--"},{"$f":"IF(Input_Base_DAADTMinor>0,Input_Base_DAADTMinor,\"--\")","v":"--"},null,null,"Minor",0.5,null,null,"Design Year Total Intersection NM",null,null,null,"Low (20)",50]
[null,null,null,null,null,null,null,null,null,null,null,null,"(or overwrite ped movement ADBPs below)"]
[null,"Are turning movement ADT values are available?",null,null,null,null,null,"If \"Yes\", input values in Table 2-A",null,null,null,null,"Nonmotorized Movement ADBP (ped-bike/day)",null,null,null,"Open","Design"]
[null,"Are peak hour turning movement counts available?",null,null,null,null,null,"If \"Yes\", input values in Table 2-B",null,null,null,null,"Major NM 1 (NM mvmt crossing Maj1)",null,null,null,{"$f":"$R$14/IF(IS_3LEG,3,4)","v":12.5},{"$f":"$R$15/IF(IS_3LEG,3,4)","v":12.5}]
[null,"If no turning movment volumes or counts are available, a user can optionally override the planning-level default turning movment proportions in Table 2-C",null,null,null,null,null,null,null,null,null,null,"Major NM 2",null,null,null,{"$f":"$R$14/IF(IS_3LEG,3,4)","v":12.5},{"$f":"$R$15/IF(IS_3LEG,3,4)","v":12.5}]
[null,null,null,null,null,null,null,null,null,null,null,null,"Minor NM 1",null,null,null,{"$f":"$R$14/IF(IS_3LEG,3,4)","v":12.5},{"$f":"$R$15/IF(IS_3LEG,3,4)","v":12.5}]
[null,null,null,null,null,null,null,null,null,null,null,null,"Minor NM 2",null,null,null,{"$f":"IF(IS_3LEG,0,$R$14/4)","v":12.5},{"$f":"IF(IS_3LEG,0,$R$15/4)","v":12.5}]
[]
[]
[null,"Table 2-A: Turning Movement (vol/day)",null,null,null,null,"Table 2-B: Turning Movement Counts (Optional)",null,null,null,null,null,null,null,null,"Table 2-C: Turning Proportions (optional)",null,null,null,"Turning movment proportions specified in Table 2-C (and by extension, the percentages determined in Table 2-B) are considered to be constant between the Open and Design years of the analysis."]
[null,null,null,"Open","Design",null,null,null,"Mvmt","AM Peak","AM %","PM Peak","PM %","Avg %",null,null,null,"Decimal"]
[null,"Major Thru 1",null,{"$f":"$E$14*$J$14*R26","v":{"$error":"#VALUE!"}},{"$f":"$F$14*$J$14*R26","v":{"$error":"#VALUE!"}},null,"Major Thru 1",null,{"$f":"IF($K$5=\"N-S\",\"NBT\", \"EBT\")","v":"NBT"},null,{"$f":"IF(NOT(ISNUMBER(J26)), \" \", ROUND(J26/SUM(J$26:J$28),2))","v":" "},null,{"$f":"IF(NOT(ISNUMBER(L26)), \" \", ROUND(L26/SUM(L$26:L$28),2))","v":" "},{"$f":"IF(OR(G$18=\"No\",G$18=\"\"),\" \",ROUND(AVERAGE(K26,M26),2))","v":" "},null,"Major Thru 1",null,{"$f":"1-SUM(R27:R28)","v":0.5}]
[null,"Major Left Turn 1",null,{"$f":"$E$14*$J$14*R27","v":{"$error":"#VALUE!"}},{"$f":"$F$14*$J$14*R27","v":{"$error":"#VALUE!"}},null,"Major Left Turn 1",null,{"$f":"IF($K$5=\"N-S\",\"NBL\", \"EBL\")","v":"NBL"},null,{"$f":"IF(NOT(ISNUMBER(J27)), \" \", ROUND(J27/SUM(J$26:J$28),2))","v":" "},null,{"$f":"IF(NOT(ISNUMBER(L27)), \" \", ROUND(L27/SUM(L$26:L$28),2))","v":" "},{"$f":"IF(OR(G$18=\"No\",G$18=\"\"),\" \",ROUND(AVERAGE(K27,M27),2))","v":" "},null,"Major Left Turn 1",null,{"$f":"IF(IS_3LEG,0,IF(AND(J27<>0,L27<>0),N27,0.25))","v":0.25}]
[null,"Major Right Turn 1",null,{"$f":"$E$14*$J$14*R28","v":{"$error":"#VALUE!"}},{"$f":"$F$14*$J$14*R28","v":{"$error":"#VALUE!"}},null,"Major Right Turn 1",null,{"$f":"IF($K$5=\"N-S\",\"NBR\", \"EBR\")","v":"NBR"},null,{"$f":"IF(NOT(ISNUMBER(J28)), \" \", ROUND(J28/SUM(J$26:J$28),2))","v":" "},null,{"$f":"IF(NOT(ISNUMBER(L28)), \" \", L28/SUM(L$26:L$28))","v":" "}," ",null,"Major Right Turn 1",null,{"$f":"IF(AND(J28<>0,L28<>0),N28,0.25)","v":0.25}]
[]
[null,"Major Thru 2",null,{"$f":"$E$14*$J$14*R30","v":{"$error":"#VALUE!"}},{"$f":"$F$14*$J$14*R30","v":{"$error":"#VALUE!"}},null,"Major Thru 2",null,{"$f":"IF($K$5=\"N-S\",\"SBT\", \"WBT\")","v":"SBT"},null,{"$f":"IF(NOT(ISNUMBER(J30)), \" \", ROUND(J30/SUM(J$30:J$32),2))","v":" "},null,{"$f":"IF(NOT(ISNUMBER(L30)), \" \", L30/SUM(L$30:L$32))","v":" "},{"$f":"IF(OR(G$18=\"No\",G$18=\"\"),\" \",ROUND(AVERAGE(K30,M30),2))","v":" "},null,"Major Thru 2",null,{"$f":"1-SUM(R31:R32)","v":0.5}]
[null,"Major Left Turn 2",null,{"$f":"$E$14*$J$14*R31","v":{"$error":"#VALUE!"}},{"$f":"$F$14*$J$14*R31","v":{"$error":"#VALUE!"}},null,"Major Left Turn 2",null,{"$f":"IF($K$5=\"N-S\",\"SBL\", \"WBL\")","v":"SBL"},null,{"$f":"IF(NOT(ISNUMBER(J31)), \" \", ROUND(J31/SUM(J$30:J$32),2))","v":" "},null,{"$f":"IF(NOT(ISNUMBER(L31)), \" \", L31/SUM(L$30:L$32))","v":" "},{"$f":"IF(OR(G$18=\"No\",G$18=\"\"),\" \",ROUND(AVERAGE(K31,M31),2))","v":" "},null,"Major Left Turn 2",null,{"$f":"IF(AND(J31<>0,L31<>0),N31,0.25)","v":0.25}]
[null,"Major Right Turn 2",null,{"$f":"$E$14*$J$14*R32","v":{"$error":"#VALUE!"}},{"$f":"$F$14*$J$14*R32","v":{"$error":"#VALUE!"}},null,"Major Right Turn 2",null,{"$f":"IF($K$5=\"N-S\",\"SBR\", \"WBR\")","v":"SBR"},null,{"$f":"IF(NOT(ISNUMBER(J32)), \" \", ROUND(J32/SUM(J$30:J$32),2))","v":" "},null,{"$f":"IF(NOT(ISNUMBER(L32)), \" \", L32/SUM(L$30:L$32))","v":" "}," ",null,"Major Right Turn 2",null,{"$f":"IF(IS_3LEG,0,IF(AND(J32<>0,L32<>0),N32,0.25))","v":0.25}]
[]
[null,"Minor Thru 1",null,{"$f":"$E$15*$J$15*R34","v":{"$error":"#VALUE!"}},{"$f":"$F$15*$J$15*R34","v":{"$error":"#VALUE!"}},null,"Minor Thru 1",null,{"$f":"IF($K$5=\"N-S\",\"EBT\", \"NBT\")","v":"EBT"},null,{"$f":"IF(NOT(ISNUMBER(J34)), \" \", ROUND(J34/SUM(J$34:J$36),2))","v":" "},null,{"$f":"IF(NOT(ISNUMBER(L34)), \" \", L34/SUM(L$34:L$36))","v":" "},{"$f":"IF(OR(G$18=\"No\",G$18=\"\"),\" \",ROUND(AVERAGE(K34,M34),2))","v":" "},null,"Minor Thru 1",null,{"$f":"1-SUM(R35:R36)","v":0.5}]
[null,"Minor Left Turn 1",null,{"$f":"$E$15*$J$15*R35","v":{"$error":"#VALUE!"}},{"$f":"$F$15*$J$15*R35","v":{"$error":"#VALUE!"}},null,"Minor Left Turn 1",null,{"$f":"IF($K$5=\"N-S\",\"EBL\", \"NBL\")","v":"EBL"},null,{"$f":"IF(NOT(ISNUMBER(J35)), \" \", ROUND(J35/SUM(J$34:J$36),2))","v":" "},null,{"$f":"IF(NOT(ISNUMBER(L35)), \" \", L35/SUM(L$34:L$36))","v":" "},{"$f":"IF(OR(G$18=\"No\",G$18=\"\"),\" \",ROUND(AVERAGE(K35,M35),2))","v":" "},null,"Minor Left Turn 1",null,{"$f":"IF(AND(J35<>0,L35<>0),N35,IF(IS_3LEG,0.5,0.25))","v":0.25}]
[null,"Minor Right Turn 1",null,{"$f":"$E$15*$J$15*R36","v":{"$error":"#VALUE!"}},{"$f":"$F$15*$J$15*R36","v":{"$error":"#VALUE!"}},null,"Minor Right Turn 1",null,{"$f":"IF($K$5=\"N-S\",\"EBR\", \"NBR\")","v":"EBR"},null,{"$f":"IF(NOT(ISNUMBER(J36)), \" \", ROUND(J36/SUM(J$34:J$36),2))","v":" "},null,{"$f":"IF(NOT(ISNUMBER(L36)), \" \", L36/SUM(L$34:L$36))","v":" "}," ",null,"Minor Right Turn 1",null,{"$f":"IF(AND(J36<>0,L36<>0),N36,IF(IS_3LEG,0.5,0.25))","v":0.25}]
[]
[null,"Minor Thru 2",null,{"$f":"$E$15*$J$15*R38","v":{"$error":"#VALUE!"}},{"$f":"$F$15*$J$15*R38","v":{"$error":"#VALUE!"}},null,"Minor Thru 2",null,{"$f":"IF($K$5=\"N-S\",\"WBT\", \"SBT\")","v":"WBT"},null,{"$f":"IF(NOT(ISNUMBER(J38)), \" \", ROUND(J38/SUM(J$38:J$40),2))","v":" "},null,{"$f":"IF(NOT(ISNUMBER(L38)), \" \", L38/SUM(L$38:L$40))","v":" "},{"$f":"IF(OR(G$18=\"No\",G$18=\"\"),\" \",ROUND(AVERAGE(K38,M38),2))","v":" "},null,"Minor Thru 2",null,{"$f":"IF(IS_3LEG,0,1-SUM(R39:R40))","v":0.5}]
[null,"Minor Left Turn 2",null,{"$f":"$E$15*$J$15*R39","v":{"$error":"#VALUE!"}},{"$f":"$F$15*$J$15*R39","v":{"$error":"#VALUE!"}},null,"Minor Left Turn 2",null,{"$f":"IF($K$5=\"N-S\",\"WBL\", \"SBL\")","v":"WBL"},null,{"$f":"IF(NOT(ISNUMBER(J39)), \" \", ROUND(J39/SUM(J$38:J$40),2))","v":" "},null,{"$f":"IF(NOT(ISNUMBER(L39)), \" \", L39/SUM(L$38:L$40))","v":" "},{"$f":"IF(OR(G$18=\"No\",G$18=\"\"),\" \",ROUND(AVERAGE(K39,M39),2))","v":" "},null,"Minor Left Turn 2",null,{"$f":"IF(IS_3LEG,0,IF(AND(J39<>0,L39<>0),N39,0.25))","v":0.25}]
[null,"Minor Right Turn 2",null,{"$f":"$E$15*$J$15*R40","v":{"$error":"#VALUE!"}},{"$f":"$F$15*$J$15*R40","v":{"$error":"#VALUE!"}},null,"Minor Right Turn 2",null,{"$f":"IF($K$5=\"N-S\",\"WBR\", \"SBR\")","v":"WBR"},null,{"$f":"IF(NOT(ISNUMBER(J40)), \" \", ROUND(J40/SUM(J$38:J$40),2))","v":" "},null,{"$f":"IF(NOT(ISNUMBER(L40)), \" \", L40/SUM(L$38:L$40))","v":" "}," ",null,"Minor Right Turn 2",null,{"$f":"IF(IS_3LEG,0,IF(AND(J40<>0,L40<>0),N40,0.25))","v":0.25}]
[]
[]
[null,"3. Severity",null,null,null,null,null,"4. Conflicting Traffic Complexity"]
[]
[null,"Vehicle Speeds",null,null,null,"mph",null,"Traffic Control",null,null,null,null,"Decimal"]
[null,"Major Posted Speed Limit",null,null,null,null,null,"Base Traffic Control Adjustment Value (BTCAV) for permitted",null,null,null,null,1]
[null,"Minor Posted Speed Limit",null,null,null,null,null,"Base Traffic Control Adjustment Value (BTCAV) for protected/permitted",null,null,null,null,0.85]
[null,null,null,null,null,null,null,"Base Traffic Control Adjustment Value (BTCAV) for protected",null,null,null,null,0.01]
[null,"Major thru",null,null,null,{"$f":"F46","v":0},null,"Base Traffic Control Adjustment Value (BTCAV) for stop-controlled",null,null,null,null,0.45]
[null,"Major left",null,null,null,20]
[null,"Major right",null,null,null,15,null,"Weight, f, for permitted",null,null,null,null,0.5]
[null,"Minor thru",null,null,null,{"$f":"F47*0.85","v":0},null,"Weight, f, for protected/permitted",null,null,null,null,0.5]
[null,"Minor left",null,null,null,20,null,"Weight, f, for protected",null,null,null,null,0.5]
[null,"Minor right",null,null,null,15,null,"Weight, f, for stop-controlled",null,null,null,null,0.5]
[null,"Stop near",null,null,null,15]
[null,"Stop far",null,null,null,25,null,"Major LT signal phasing (drop-down)",null,null,null,"Protected/Permitted"]
[null,"Signal near",null,null,null,15,null,"Minor LT signal phasing (drop-down)",null,null,null,"Protected/Permitted"]
[null,"Signal far",null,null,null,25,null,"Exclusive Pedestrian phasing (drop-down)",null,null,null,null,"No"]
[null,"RAB entering",null,null,null,25]
[null,"RAB circulating",null,null,null,25,null,"Traffic Control Parameter (a_traffic control)"]
[null,"RAB exiting",null,null,null,30,null,"Permitted",null,null,null,null,{"$f":"M46+(1-M51)*(1-M46)","v":1}]
[null,"Nonmotorized",null,null,null,0,null,"Protected/permitted",null,null,null,null,{"$f":"M47+(1-M52)*(1-M47)","v":0.92500000000000004}]
[null,null,null,null,null,null,null,"Protected",null,null,null,null,{"$f":"M48+(1-M53)*(1-M48)","v":0.505}]
[null,"Collision Angles",null,null,null,"deg",null,"Stop-controlled",null,null,null,null,{"$f":"M49+(1-M54)*(1-M49)","v":0.72500000000000009}]
[null,"Crossing",null,null,null,90]
[null,"Crossing - LT",null,null,null,230,null,"Driver Merging Weights (W)"]
[null,"Crossing - RAB",null,null,null,60,null,"Lane 1 (W1)",null,null,null,null,1]
[null,"Merging",null,null,null,45,null,"Lane 2 (W2)",null,null,null,null,0.75]
[null,"Diverging",null,null,null,10,null,"Lane 3+ (W3+)",null,null,null,null,0.5]
[]
[null,"P(FSI) Regression Parameters"]
[null,"alpha",null,null,null,67.286188107741197,null,"Nonmotorized Complexity"]
[null,"k",null,null,null,3.7945000839454002,null,"Nonmotorized Turn Score Weights (W)"]
[null,null,null,null,null,null,null,"Lane 1 (W1)",null,null,null,null,1]
[null,null,null,null,null,null,null,"Lane 2 (W2)",null,null,null,null,0.75]
[null,null,null,null,null,null,null,"Lane 3+ (W3)",null,null,null,null,0.5]

{"sheet":"RTI_Ranges","index":9,"n_rows":42,"n_cols":8,"rows_kept":42,"cut":false,"hidden":true,"merged":[[7,1,7,2],[7,3,7,4],[7,5,7,6],[17,1,17,6],[0,0,0,6],[1,0,1,6],[2,1,2,2],[2,3,2,4],[2,5,2,6],[3,1,3,2],[3,3,3,4],[3,5,3,6]]}
["Ramp Terminal Inputs"]
["Provide inputs needed to compute and apply Part C CMFs."]
["Alternative","Traffic Signal",null,"Traffic Signal (Alt)",null,"Minor Road (Ramp) Stop"]
[null,"4 Leg Terminal w/ Diagonal Ramps (D4)",null,"4 Leg Terminal w/ Diagonal Ramps (D4)",null,"4 Leg Terminal w/ Diagonal Ramps (D4)"]
["Ramp Terminal  ","NB","SB","NB","SB","NB","SB"]
["Crossroad AADT",18000,17000,{"$f":"B6","v":18000},{"$f":"C6","v":17000},{"$f":"B6","v":18000},{"$f":"C6","v":17000}]
["Ramp AADT",5000,4500,{"$f":"B7","v":5000},{"$f":"C7","v":4500},{"$f":"B7","v":5000},{"$f":"C7","v":4500}]
["Area Type","Urban",null,{"$f":"B8","v":"Urban"},null,{"$f":"B8","v":"Urban"}]
["# of Crossroad Lanes",2,2,2,2,2,2,"2-6  (5,6 Urban only)"]
[]
[]
[]
[]
[]
[]
[]
[]
["Other CMF Inputs","Part C CMFs\nOptional For Stage 1 ICE, Required for Stage 2 ICE"]
["Crossroad Left Turn Lane Present?","Yes ","Yes ","Yes ","Yes ","Yes ","Yes "]
["Crossroad Right Turn Lane Present?","Yes ","Yes ","Yes ","Yes ","Yes ","Yes "]
["Skew Angle","skew","Planning","Double","Not/ Applicable","Include in MRS","Include in MRS"]
["Exit ramp right turn control","mergeRT","Planning","Merge/FF or Signal/Stop/yeild-controlled","Include in TS","Include in MRS","Include in MRS"]
["Effective number of lanes serving exit ramp","nex","Planning","1-2, see graphic","Include in TS","Include in MRS","Include in MRS"]
["Presence of left-turn bay on \"in\" leg","i_LTBayIn","Planning","Yes/No (<100 ft?)","Include in TS","Include in MRS","Include in MRS"]
["Presence of left-turn bay on \"out\" leg","i_LTBayOut","Planning","Yes/No (<100 ft?)","Include in TS","Include in MRS","Include in MRS"]
["Presence of right-turn bay on \"in\" leg","i_RTBayIn","Planning","Yes/No (<100 ft?)","Include in TS","Include in MRS","Include in MRS"]
["Presence of right-turn bay on \"out\" leg","i_RTBayOut","Planning","Yes/No (<100 ft?)","Include in TS","Include in MRS","Include in MRS"]
["Number of Stop-controlled public street approaches to the crossroad leg outside of the interchange and within 250 feet of the ramp terminal","n_ps","Planning","Integer","Include in TS","Include in MRS","Include in MRS"]
["Number of Stop-controlled driveways to the crossroad leg outside of the interchange and within 250 feet of the ramp terminal","n_dw","Planning","Integer","Include in TS","Not Applicable","Not Applicable"]
["Distance between subject ramp terminal and adjacent ramp terminal (from terminal center to terminal center)","l_rmp","Planning","Double","Include in TS","Include in MRS","Include in MRS"]
["distance between subject ramp terminal and nearest public road intersection in a direction away form the freeway","l_str","Planning","Double","Include in TS","Include in MRS","Include in MRS"]
["Width of median adjacent to turn lane for crossroad leg","w_m","Planning","Double","Include in TS","Include in MRS","Include in MRS"]
["Left-turn lane width for \"in\" crossroad leg","w_bkIn","Planning","Double (0.0 if not present)","Include in TS","Include in MRS","Include in MRS"]
["Left-turn lane width for \"out\" crossroad leg","w_bkOut","Planning","Double (0.0 if not present)","Include in TS","Include in MRS","Include in MRS"]
["Number of through traffic lanes that oppose the left-turn movement on the crossroad leg \"in\"","n_oppLTIn","Planning","Integer","Include in TS","Not Applicable","Not Applicable"]
["Number of through traffic lanes that oppose the left-turn movement on the crossroad leg \"out\"","n_oppLTOut","Planning","Integer","Include in TS","Not Applicable","Not Applicable"]
["Protected Left-turn operation indicator for crossroad leg \"in\"","i_protLTIn","Planning","Boolean","Include in TS","Not Applicable","Not Applicable"]
["Protected Left-turn operation indicator for crossroad leg \"out\"","i_protLTOut","Planning","Boolean","Include in TS","Not Applicable","Not Applicable"]
["Right turn channelization indicator for crossroad leg \"in\"","i_crtIn","Planning","Boolean","Include in TS","Not Applicable","Not Applicable"]
["Right turn channelization indicator for crossroad leg \"out\"","i_crtOut","Planning","Boolean","Include in TS","Not Applicable","Not Applicable"]
["Right turn channelization indicator for exit ramp","i_crtEx","Planning","Boolean","Include in TS","Not Applicable","Not Applicable"]
["Non-ramp public street leg indicator","i_ps","Planning","Boolean","Include in TS","Not Applicable","Not Applicable"]

{"sheet":"4_Quad_ParcloA","index":10,"n_rows":126,"n_cols":95,"rows_kept":126,"cut":false,"hidden":true,"merged":[[100,9,100,11],[100,36,101,36],[1,9,1,11],[1,13,1,17],[1,21,1,25],[1,27,1,28],[1,30,2,30],[1,76,1,79],[1,81,1,84],[1,86,1,89],[1,91,1,94],[0,19,0,28],[0,30,0,32],[1,31,2,31],[1,32,2,32],[1,34,2,34],[1,36,2,36],[1,39,1,52],[1,56,1,69]]}
[null,null,null,null,null,null,null,null,null,null,null,null,null,null,null,null,null,null,null,"Conflicting Traffic Complexity",null,null,null,null,null,null,null,null,null,null,"Pedestrian Complexity",null,null,null,null,null,null,null,null,null,null,null,null,null,null,null,null,null,null,null,null,null,null,null,null,null,null,null,null,null,null,null,null,null,null,null,null,null,null,null,null,null,null,null,"*impact of median on complexity factors"]
[null,null,null,null,null,null,null,null,null,"Exposure",null,null,null,"Severity",null,null,null,null,null,"Traffic Control",null,"Conflicting Lanes",null,null,null,null,null,"Conflicting Speed",null,null,"Indirect Paths Indicator","Non-intuitive movements indicator","Pedestrian Complexity factor",null,"Total Complexity Multiplier",null,"Exposure-Severity-Complexity Product",null,null,"Included in Mvmt1",null,null,null,null,null,null,null,null,null,null,null,null,null,null,null,null,"Included in Mvmt2",null,null,null,null,null,null,null,null,null,null,null,null,null,null,null,null,null,null,null,"Cross-street: No, Ramps: No",null,null,null,null,"Cross-street: Yes, Ramps: No",null,null,null,null,"Cross-street: No, Ramps: Yes",null,null,null,null,"Cross-street: Yes, Ramps: Yes"]
["#","Conflict Type","Mvmt1","Mvmt1_gen","Mvmt1_SpeedCat","Mvmt2","Mvmt2_gen","Mvmt2_SpeedCat",null,"Q1","Q2","I",null,"Speed_V1","Speed_V2","Angle","delta_V","P_FSI",null,null,null,"CrossC","RampC","CrossM/P","RampM/P","Score",null,"Speed","Factor",null,null,null,null,null,null,null,null,null,null,"CrossT1","CrossL1","CrossR1","CrossT2","CrossL2","CrossR2","RampT1","RampL1","RampR1","RampT2","RampL2","RampR2","CrossNM1","CrossNM2","RampNM1","RampNM2",null,"CrossT1","CrossL1","CrossR1","CrossT2","CrossL2","CrossR2","RampT1","RampL1","RampR1","RampT2","RampL2","RampR2","CrossNM1","CrossNM2","RampNM1","RampNM2",null,null,"#","Conflict Type","MajC","MinC","MajM/P","MinM/P",null,"MajC","MinC","MajM/P","MinM/P",null,"MajC","MinC","MajM/P","MinM/P",null,"MajC","MinC","MajM/P","MinM/P"]
[1,"Crossing - LT","WBL","CrossL2","Cross left","EBT,EBL","CrossT1,CrossL1","Cross thru",null,{"$f":"SUMPRODUCT($AN4:$BC4,$AN$28:$BC$28)","v":0},{"$f":"SUMPRODUCT($BE4:$BT4,$BE$28:$BT$28)","v":0},{"$f":"PRODUCT(J4:K4)","v":0},null,{"$f":"VLOOKUP(E4,SSI_RTI_Range_VehSpeed,5,FALSE)","v":20},{"$f":"VLOOKUP(H4,SSI_RTI_Range_VehSpeed,5,FALSE)","v":0},{"$f":"IF(B4=\"Nonmotorized\",\"\",VLOOKUP(B4,SSI_RTI_Range_CollAngles,5,FALSE))","v":230},{"$f":"IF(B4=\"Nonmotorized\",\"\",SQRT(N4^2+O4^2-2*N4*O4*COS(RADIANS(P4)))/2)","v":10},{"$f":"IF(B4=\"Nonmotorized\",1/(1+EXP(3.8432-0.1237*O4)),(Q4/SSI_RTI_RegAlpha)^SSI_RTI_RegK+(Q4/SSI_RTI_RegAlpha)^SSI_RTI_RegK-((Q4/SSI_RTI_RegAlpha)^SSI_RTI_RegK)*((Q4/SSI_RTI_RegAlpha)^SSI_RTI_RegK))","v":1.4431392232699444E-3},null,{"$f":"IF(SSI_RTI_CrossLTPhase=\"Protected/permitted\",SSI_RTI_ProtPermFactor,IF(SSI_RTI_CrossLTPhase=\"Protected\",SSI_RTI_ProtFactor,SSI_RTI_PermFactor))","v":0.505},null,{"$f":"IF(AND(SSI_RTI_CrossStMedian=\"No\", SSI_RTI_RampMedian=\"No\"),BY4,IF(AND(SSI_RTI_CrossStMedian=\"Yes\",SSI_RTI_RampMedian=\"No\"),CD4,IF(AND(SSI_RTI_CrossStMedian=\"No\",SSI_RTI_RampMedian=\"Yes\"),CI4,IF(AND(SSI_RTI_CrossStMedian=\"Yes\",SSI_RTI_RampMedian=\"Yes\"),CN4))))","v":false},{"$f":"IF(AND(SSI_RTI_CrossStMedian=\"No\", SSI_RTI_RampMedian=\"No\"),BZ4,IF(AND(SSI_RTI_CrossStMedian=\"Yes\",SSI_RTI_RampMedian=\"No\"),CE4,IF(AND(SSI_RTI_CrossStMedian=\"No\",SSI_RTI_RampMedian=\"Yes\"),CJ4,IF(AND(SSI_RTI_CrossStMedian=\"Yes\",SSI_RTI_RampMedian=\"Yes\"),CO4))))","v":false},{"$f":"IF(AND(SSI_RTI_CrossStMedian=\"No\", SSI_RTI_RampMedian=\"No\"),CA4,IF(AND(SSI_RTI_CrossStMedian=\"Yes\",SSI_RTI_RampMedian=\"No\"),CF4,IF(AND(SSI_RTI_CrossStMedian=\"No\",SSI_RTI_RampMedian=\"Yes\"),CK4,IF(AND(SSI_RTI_CrossStMedian=\"Yes\",SSI_RTI_RampMedian=\"Yes\"),CP4))))","v":false},{"$f":"IF(AND(SSI_RTI_CrossStMedian=\"No\", SSI_RTI_RampMedian=\"No\"),CB4,IF(AND(SSI_RTI_CrossStMedian=\"Yes\",SSI_RTI_RampMedian=\"No\"),CG4,IF(AND(SSI_RTI_CrossStMedian=\"No\",SSI_RTI_RampMedian=\"Yes\"),CL4,IF(AND(SSI_RTI_CrossStMedian=\"Yes\",SSI_RTI_RampMedian=\"Yes\"),CQ4))))","v":false},{"$f":"MAX(1,IF(B4<>\"Pedestrian\",V4*SSI_RTI_CrossThruLanes+W4*SSI_RTI_Ramp1ThruLanes+X4*IF(SSI_RTI_CrossThruLanes=1,SSI_RTI_MergeWeightL1,IF(SSI_RTI_CrossThruLanes=2,SSI_RTI_MergeWeightL1+SSI_RTI_MergeWeightL2,SSI_RTI_MergeWeightL1+SSI_RTI_MergeWeightL2+SSI_RTI_MergeWeightL3*(SSI_RTI_CrossThruLanes-2)))+Y4*IF(SSI_RTI_Ramp1ThruLanes=1,SSI_RTI_MergeWeightL1,IF(SSI_RTI_Ramp1ThruLanes=2,SSI_RTI_MergeWeightL1+SSI_RTI_MergeWeightL2,SSI_RTI_MergeWeightL1+SSI_RTI_MergeWeightL2+SSI_RTI_MergeWeightL3*(SSI_RTI_Ramp1ThruLanes-2))),V4*SSI_RTI_CrossThruLanes+W4*SSI_RTI_Ramp1ThruLanes+X4*IF(SSI_RTI_CrossThruLanes=1,SSI_RTI_NM_MergeWeightL1,IF(SSI_RTI_CrossThruLanes=2,SSI_RTI_NM_MergeWeightL1+SSI_RTI_NM_MergeWeightL2,SSI_RTI_NM_MergeWeightL1+SSI_RTI_NM_MergeWeightL2+SSI_RTI_NM_MergeWeightL3*(SSI_RTI_CrossThruLanes-2)))+Y4*IF(SSI_RTI_Ramp1ThruLanes=1,SSI_RTI_NM_MergeWeightL1,IF(SSI_RTI_Ramp1ThruLanes=2,SSI_RTI_NM_MergeWeightL1+SSI_RTI_NM_MergeWeightL2,SSI_RTI_NM_MergeWeightL1+SSI_RTI_NM_MergeWeightL2+SSI_RTI_NM_MergeWeightL3*(SSI_RTI_Ramp1ThruLanes-2)))))","v":1},null,{"$f":"IF(B4=\"Diverging\",\"\",SSI_RTI_VehSpeed_CrossThru)","v":0},{"$f":"IF(B4=\"Diverging\",1,1-((60-AB4)/60*0.1/0.15))","v":0.33333333333333326},null,null,null,{"$f":"1+AE4+AF4","v":1},null,{"$f":"PRODUCT(Z4,T4,AC4,AG4)","v":0.16833333333333331},null,{"$f":"L4*R4*AI4","v":0},null,null,{"$f":"IF(ISNUMBER(SEARCH(AN$3,$D4)),1,\"\")","v":""},{"$f":"IF(ISNUMBER(SEARCH(AO$3,$D4)),1,\"\")","v":""},"","",1,"","","","","","","","","","","",null,{"$f":"IF(ISNUMBER(SEARCH(BE$3,$G4)),1,\"\")","v":1},{"$f":"IF(ISNUMBER(SEARCH(BF$3,$G4)),1,\"\")","v":1},"","","","","","","","","","","","","","",null,null,{"$f":"A4","v":1},{"$f":"B4","v":"Crossing - LT"},1,0,1,0,null,1,0,1,0,null,1,0,0,0,null,1,0,0,0]
[2,"Crossing - LT","EBL","CrossL1","Cross left","WBT,WBL","CrossT2,CrossL2","Cross thru",null,{"$f":"SUMPRODUCT($AN5:$BC5,$AN$28:$BC$28)","v":0},{"$f":"SUMPRODUCT($BE5:$BT5,$BE$28:$BT$28)","v":0},{"$f":"PRODUCT(J5:K5)","v":0},null,20,0,230,{"$f":"IF(B5=\"Nonmotorized\",\"\",SQRT(N5^2+O5^2-2*N5*O5*COS(RADIANS(P5)))/2)","v":10},1.4431392232699444E-3,null,{"$f":"IF(SSI_RTI_CrossLTPhase=\"Protected/permitted\",SSI_RTI_ProtPermFactor,IF(SSI_RTI_CrossLTPhase=\"Protected\",SSI_RTI_ProtFactor,SSI_RTI_PermFactor))","v":0.505},null,false,false,false,false,1,null,0,0.33333333333333326,null,null,null,{"$f":"1+AE5+AF5","v":1},null,0.16833333333333331,null,{"$f":"L5*R5*AI5","v":0},null,null,{"$f":"IF(ISNUMBER(SEARCH(AN$3,$D5)),1,\"\")","v":""},1,"","","","","","","","","","","","","","",null,{"$f":"IF(ISNUMBER(SEARCH(BE$3,$G5)),1,\"\")","v":""},"","",1,1,"","","","","","","","","","","",null,null,{"$f":"A5","v":2},"Crossing - LT",1,0,1,0,null,1,0,1,0,null,1,0,0,0,null,1,0,0,0]
[3,"Merging","SBR","RampR2","Ramp thru","WBT,NBL","CrossT2,RampL1","Cross thru",null,0,0,0,null,0,0,45,0,0,null,{"$f":"SSI_RTI_PermFactor","v":1},null,false,false,false,false,1,null,0,0.33333333333333326,null,null,null,1,null,0.33333333333333326,null,0,null,null,"","","","","","","","","","","",1,"","","","",null,"","","",1,"","","",1,"","","","","","","","",null,null,3,"Merging",0,0,1,0,null,0,0,1,0,null,0,0,1,0,null,0,0,1,0]
[4,"Merging","EBR","CrossR1","Cross right","WBL","CrossL2","Cross left",null,0,0,0,null,15,20,45,7.0840654162717795,3.9022923271840685E-4,null,1,null,false,false,false,false,1,null,0,0.33333333333333326,null,null,null,1,null,0.33333333333333326,null,0,null,null,"","",1,"","","","","","","","","","","","","",null,"","","","",1,"","","","","","","","","","","",null,null,4,"Merging",0,0,0,1,null,0,0,0,1,null,0,0,0,1,null,0,0,0,1]
[5,"Merging","SBL","RampL2","Ramp thru","EBT,EBL","CrossT1,CrossL1","Cross thru",null,0,0,0,null,0,0,45,0,0,null,1,null,false,false,false,false,1,null,0,0.33333333333333326,null,null,null,1,null,0.33333333333333326,null,0,null,null,"","","","","","","","","","",1,"","","","","",null,1,1,"","","","","","","","","","","","","","",null,null,5,"Merging",0,0,1,0,null,0,0,1,0,null,0,0,1,0,null,0,0,1,0]
[6,"Merging","NBL","RampL1","Ramp thru","WBT,WBL","CrossT2,CrossL2","Cross thru",null,0,0,0,null,0,0,45,0,0,null,1,null,false,false,false,false,1,null,0,0.33333333333333326,null,null,null,1,null,0.33333333333333326,null,0,null,null,"","","","","","","",1,"","","","","","","","",null,"","","",1,1,"","","","","","","","","","","",null,null,6,"Merging",0,0,1,0,null,0,0,1,0,null,0,0,1,0,null,0,0,1,0]
[7,"Merging","WBR","CrossR2","Cross right","EBL","CrossL1","Cross left",null,0,0,0,null,15,20,45,7.0840654162717795,3.9022923271840685E-4,null,1,null,false,false,false,false,1,null,0,0.33333333333333326,null,null,null,1,null,0.33333333333333326,null,0,null,null,"","","","","",1,"","","","","","","","","","",null,"",1,"","","","","","","","","","","","","","",null,null,7,"Merging",0,0,0,1,null,0,0,0,1,null,0,0,0,1,null,0,0,0,1]
[8,"Merging","NBR","RampR1","Ramp thru","EBT,SBL","CrossT1,RampL2","Cross thru",null,0,0,0,null,0,0,45,0,0,null,1,null,false,false,false,false,1,null,0,0.33333333333333326,null,null,null,1,null,0.33333333333333326,null,0,null,null,"","","","","","","","",1,"","","","","","","",null,1,"","","","","","","","","",1,"","","","","",null,null,8,"Merging",0,0,1,0,null,0,0,1,0,null,0,0,1,0,null,0,0,1,0]
[9,"Diverging","EBT, EBL","CrossT1, CrossL1","Cross thru","EBR","CrossR1","Cross right",null,0,0,0,null,0,15,10,7.5,4.8454301532720542E-4,null,1,null,false,false,false,false,1,null,"",1,null,null,null,1,null,1,null,0,null,null,1,1,"","","","","","","","","","","","","","",null,"","",1,"","","","","","","","","","","","","",null,null,9,"Diverging",0,0,0,0,null,0,0,0,0,null,0,0,0,0,null,0,0,0,0]
[10,"Diverging","WBT, NBL","CrossT2, RampL1","Cross thru","WBL","CrossL2","Cross left",null,0,0,0,null,0,20,10,10,1.4431392232699444E-3,null,1,null,false,false,false,false,1,null,"",1,null,null,null,1,null,1,null,0,null,null,"","","",1,"","","",1,"","","","","","","","",null,"","","","",1,"","","","","","","","","","","",null,null,10,"Diverging",0,0,0,0,null,0,0,0,0,null,0,0,0,0,null,0,0,0,0]
[11,"Diverging","EBT, SBL","CrossT1, RampL2","Cross thru","EBL","CrossL1","Cross left",null,0,0,0,null,0,20,10,10,1.4431392232699444E-3,null,1,null,false,false,false,false,1,null,"",1,null,null,null,1,null,1,null,0,null,null,1,"","","","","","","","","",1,"","","","","",null,"",1,"","","","","","","","","","","","","","",null,null,11,"Diverging",0,0,0,0,null,0,0,0,0,null,0,0,0,0,null,0,0,0,0]
[12,"Diverging","WBT, WBL","CrossT2, CrossL2","Cross thru","WBR","CrossR2","Cross right",null,0,0,0,null,0,15,10,7.5,4.8454301532720542E-4,null,1,null,false,false,false,false,1,null,"",1,null,null,null,1,null,1,null,0,null,null,"","","",1,1,"","","","","","","","","","","",null,"","","","","",1,"","","","","","","","","","",null,null,12,"Diverging",0,0,0,0,null,0,0,0,0,null,0,0,0,0,null,0,0,0,0]
[13,"Nonmotorized",null,"RampNM2, CrossNM1","Nonmotorized","SBR","RampR2","Ramp thru",null,350,0,0,null,0,0,"","",2.0975532400616122E-2,null,1,null,false,false,false,false,1,null,{"$f":"IF(B16=\"Diverging\",\"\",SSI_RTI_VehSpeed_RampThru)","v":0},0.33333333333333326,null,null,null,1,null,0.33333333333333326,null,0,null,null,"","","","","","","","","","","","",1,"","",1,null,"","","","","","","","","","","",1,"","","","",null,null,13,"Nonmotorized",0,1,0,0,null,0,1,0,0,null,0,1,0,0,null,0,1,0,0]
[14,"Nonmotorized",null,"CrossNM1","Nonmotorized","WBT,NBL","CrossT2,RampL1","Cross thru",null,175,0,0,null,0,0,"","",2.0975532400616122E-2,null,{"$f":"SSI_RTI_ProtFactor","v":0.505},null,false,false,false,false,1,null,0,0.33333333333333326,null,null,null,1,null,0.16833333333333331,null,0,null,null,"","","","","","","","","","","","",1,"","","",null,"","","",1,"","","",1,"","","","","","","","",null,null,14,"Nonmotorized",2,0,0,0,null,1,0,0,0,null,2,0,0,0,null,1,0,0,0]
[15,"Nonmotorized",null,"CrossNM1","Nonmotorized","EBT,EBL","CrossT1,CrossL1","Cross thru",null,175,0,0,null,0,0,"","",2.0975532400616122E-2,null,0.505,null,false,false,false,false,1,null,0,0.33333333333333326,null,null,null,1,null,0.16833333333333331,null,0,null,null,"","","","","","","","","","","","",1,"","","",null,1,1,"","","","","","","","","","","","","","",null,null,15,"Nonmotorized",2,0,0,0,null,1,0,0,0,null,2,0,0,0,null,1,0,0,0]
[16,"Nonmotorized",null,"RampNM1, CrossNM1","Nonmotorized","EBR","CrossR1","Cross right",null,350,0,0,null,0,15,"","",0.1205004039155782,null,{"$f":"SSI_RTI_PermFactor","v":1},null,false,false,false,false,1,null,0,0.33333333333333326,null,null,null,1,null,0.33333333333333326,null,0,null,null,"","","","","","","","","","","","",1,"",1,"",null,"","",1,"","","","","","","","","","","","","",null,null,16,"Nonmotorized",1,1,0,0,null,1,1,0,0,null,1,1,0,0,null,1,1,0,0]
[17,"Nonmotorized",null,"RampNM1","Nonmotorized","WBL","CrossL2","Cross left",null,175,0,0,null,0,20,"","",0.20274912921655375,null,{"$f":"IF(SSI_RTI_CrossLTPhase=\"Protected/permitted\",SSI_RTI_ProtPermFactor,IF(SSI_RTI_CrossLTPhase=\"Protected\",SSI_RTI_ProtFactor,SSI_RTI_PermFactor))","v":0.505},null,false,false,false,false,1,null,0,0.33333333333333326,null,null,null,1,null,0.16833333333333331,null,0,null,null,"","","","","","","","","","","","","","",1,"",null,"","","","",1,"","","","","","","","","","","",null,null,17,"Nonmotorized",0,1,1,0,null,0,1,1,0,null,0,1,1,0,null,0,1,1,0]
[18,"Nonmotorized",null,"RampNM1","Nonmotorized","SBL","RampL2","Ramp thru",null,175,0,0,null,0,0,"","",2.0975532400616122E-2,null,1,null,false,false,false,false,1,null,{"$f":"IF(B21=\"Diverging\",\"\",SSI_RTI_VehSpeed_RampThru)","v":0},0.33333333333333326,null,null,null,1,null,0.33333333333333326,null,0,null,null,"","","","","","","","","","","","","","",1,"",null,"","","","","","","","","","",1,"","","",{"$f":"IF(ISNUMBER(SEARCH(BS$3,$G21)),1,\"\")","v":""},{"$f":"IF(ISNUMBER(SEARCH(BT$3,$G21)),1,\"\")","v":""},null,null,18,"Nonmotorized",0,1,0,0,null,0,1,0,0,null,0,1,0,0,null,0,1,0,0]
[19,"Nonmotorized",null,"RampNM1, CrossNM2","Nonmotorized","NBR","RampR1","Ramp thru",null,350,0,0,null,0,0,"","",2.0975532400616122E-2,null,1,null,false,false,false,false,1,null,{"$f":"IF(B22=\"Diverging\",\"\",SSI_RTI_VehSpeed_RampThru)","v":0},0.33333333333333326,null,null,null,1,null,0.33333333333333326,null,0,null,null,"","","","","","","","","","","","","",1,1,"",null,{"$f":"IF(ISNUMBER(SEARCH(BE$3,$G22)),1,\"\")","v":""},"","","","","","","",1,"","","","","","","",null,null,19,"Nonmotorized",0,1,0,0,null,0,1,0,0,null,0,1,0,0,null,0,1,0,0]
[20,"Nonmotorized",null,"CrossNM2","Nonmotorized","EBT,SBL","CrossT1,RampL2","Cross thru",null,175,0,0,null,0,0,"","",2.0975532400616122E-2,null,0.505,null,false,false,false,false,1,null,0,0.33333333333333326,null,null,null,1,null,0.16833333333333331,null,0,null,null,"","","","","","","","","","","","",{"$f":"IF(ISNUMBER(SEARCH(AZ$3,$D23)),1,\"\")","v":""},{"$f":"IF(ISNUMBER(SEARCH(BA$3,$D23)),1,\"\")","v":1},{"$f":"IF(ISNUMBER(SEARCH(BB$3,$D23)),1,\"\")","v":""},{"$f":"IF(ISNUMBER(SEARCH(BC$3,$D23)),1,\"\")","v":""},null,1,"","","","","","","","","",1,"","","","","",null,null,20,"Nonmotorized",2,0,0,0,null,1,0,0,0,null,2,0,0,0,null,1,0,0,0]
[21,"Nonmotorized",null,"CrossNM2","Nonmotorized","WBT,WBL","CrossT2,CrossL2","Cross thru",null,175,0,0,null,0,0,"","",2.0975532400616122E-2,null,0.505,null,false,false,false,false,1,null,0,0.33333333333333326,null,null,null,1,null,0.16833333333333331,null,0,null,null,{"$f":"IF(ISNUMBER(SEARCH(AN$3,$D24)),1,\"\")","v":""},"","","","","","","","","","","","",1,"","",null,"","","",1,1,"","","","","","","","","","","",null,null,21,"Nonmotorized",2,0,0,0,null,1,0,0,0,null,2,0,0,0,null,1,0,0,0]
[22,"Nonmotorized",null,"RampNM2, CrossNM2","Nonmotorized","WBR","CrossR2","Cross right",null,350,0,0,null,0,15,"","",0.1205004039155782,null,{"$f":"SSI_RTI_PermFactor","v":1},null,false,false,false,false,1,null,0,0.33333333333333326,null,null,null,1,null,0.33333333333333326,null,{"$f":"L25*R25*AI25","v":0},null,null,"","","","","","","","","","","","","",1,"",1,null,"","","","","",1,"","","","","","","","","","",null,null,22,"Nonmotorized",1,1,0,0,null,1,1,0,0,null,1,1,0,0,null,1,1,0,0]
[23,"Nonmotorized",null,"RampNM2","Nonmotorized","EBL","CrossL1","Cross left",null,175,0,0,null,0,20,"","",0.20274912921655375,null,{"$f":"IF(SSI_RTI_CrossLTPhase=\"Protected/permitted\",SSI_RTI_ProtPermFactor,IF(SSI_RTI_CrossLTPhase=\"Protected\",SSI_RTI_ProtFactor,SSI_RTI_PermFactor))","v":0.505},null,false,false,false,false,1,null,0,0.33333333333333326,null,null,null,1,null,0.16833333333333331,null,{"$f":"L26*R26*AI26","v":0},null,null,"","","","","","","","","","","","","","","",1,null,"",1,"","","","","","","","","","","","","","",null,null,23,"Nonmotorized",0,1,1,0,null,0,1,1,0,null,0,1,1,0,null,0,1,1,0]
[24,"Nonmotorized",null,"RampNM2","Nonmotorized","NBL","RampL1","Ramp thru",null,175,0,0,null,0,0,"","",2.0975532400616122E-2,null,1,null,false,false,false,false,1,null,{"$f":"IF(B27=\"Diverging\",\"\",SSI_RTI_VehSpeed_RampThru)","v":0},0.33333333333333326,null,null,null,1,null,0.33333333333333326,null,0,null,null,"","","","","","","","","","","","","","","",1,null,"","","","","","","",1,"","","","","","","","",null,null,24,"Nonmotorized",0,1,0,0,null,0,1,0,0,null,0,1,0,0,null,0,1,0,0]
[null,null,null,null,null,null,null,null,null,null,null,null,null,null,null,null,null,null,null,null,null,null,null,null,null,null,null,null,null,null,null,null,null,null,null,null,null,null,"O",{"$f":"'SSI Inputs RTI'!$D$28","v":""},{"$f":"'SSI Inputs RTI'!$D$29","v":""},{"$f":"'SSI Inputs RTI'!$D$30","v":""},{"$f":"'SSI Inputs RTI'!$D$32","v":""},{"$f":"'SSI Inputs RTI'!$D$33","v":""},{"$f":"'SSI Inputs RTI'!$D$34","v":""},{"$f":"'SSI Inputs RTI'!$D$36","v":""},{"$f":"'SSI Inputs RTI'!$D$37","v":""},{"$f":"'SSI Inputs RTI'!$D$38","v":""},{"$f":"'SSI Inputs RTI'!$D$40","v":""},{"$f":"'SSI Inputs RTI'!$D$41","v":""},{"$f":"'SSI Inputs RTI'!$D$42","v":""},{"$f":"'SSI Inputs RTI'!$Q$20","v":175},{"$f":"'SSI Inputs RTI'!$Q$21","v":175},{"$f":"'SSI Inputs RTI'!$Q$22","v":175},{"$f":"'SSI Inputs RTI'!$Q$23","v":175},"O",{"$f":"'SSI Inputs RTI'!$D$28","v":""},{"$f":"'SSI Inputs RTI'!$D$29","v":""},{"$f":"'SSI Inputs RTI'!$D$30","v":""},{"$f":"'SSI Inputs RTI'!$D$32","v":""},{"$f":"'SSI Inputs RTI'!$D$33","v":""},{"$f":"'SSI Inputs RTI'!$D$34","v":""},{"$f":"'SSI Inputs RTI'!$D$36","v":""},{"$f":"'SSI Inputs RTI'!$D$37","v":""},{"$f":"'SSI Inputs RTI'!$D$38","v":""},{"$f":"'SSI Inputs RTI'!$D$40","v":""},{"$f":"'SSI Inputs RTI'!$D$41","v":""},{"$f":"'SSI Inputs RTI'!$D$42","v":""},{"$f":"'SSI Inputs RTI'!$Q$20","v":175},{"$f":"'SSI Inputs RTI'!$Q$21","v":175},{"$f":"'SSI Inputs RTI'!$Q$22","v":175},{"$f":"'SSI Inputs RTI'!$Q$23","v":175}]
[null,null,null,null,null,null,null,null,null,null,null,null,null,null,null,null,null,null,null,null,null,null,null,null,null,null,null,null,null,null,null,null,null,null,null,null,null,null,"D",{"$f":"'SSI Inputs RTI'!$E$28","v":""},{"$f":"'SSI Inputs RTI'!$E$29","v":""},{"$f":"'SSI Inputs RTI'!$E$30","v":""},{"$f":"'SSI Inputs RTI'!$E$32","v":""},{"$f":"'SSI Inputs RTI'!$E$33","v":""},{"$f":"'SSI Inputs RTI'!$E$34","v":""},{"$f":"'SSI Inputs RTI'!$E$36","v":""},{"$f":"'SSI Inputs RTI'!$E$37","v":""},{"$f":"'SSI Inputs RTI'!$E$38","v":""},{"$f":"'SSI Inputs RTI'!$E$40","v":""},{"$f":"'SSI Inputs RTI'!$E$41","v":""},{"$f":"'SSI Inputs RTI'!$E$42","v":""},{"$f":"'SSI Inputs RTI'!$R$20","v":175},{"$f":"'SSI Inputs RTI'!$R$21","v":175},{"$f":"'SSI Inputs RTI'!$R$22","v":175},{"$f":"'SSI Inputs RTI'!$R$23","v":175},"D",{"$f":"'SSI Inputs RTI'!$E$28","v":""},{"$f":"'SSI Inputs RTI'!$E$29","v":""},{"$f":"'SSI Inputs RTI'!$E$30","v":""},{"$f":"'SSI Inputs RTI'!$E$32","v":""},{"$f":"'SSI Inputs RTI'!$E$33","v":""},{"$f":"'SSI Inputs RTI'!$E$34","v":""},{"$f":"'SSI Inputs RTI'!$E$36","v":""},{"$f":"'SSI Inputs RTI'!$E$37","v":""},{"$f":"'SSI Inputs RTI'!$E$38","v":""},{"$f":"'SSI Inputs RTI'!$E$40","v":""},{"$f":"'SSI Inputs RTI'!$E$41","v":""},{"$f":"'SSI Inputs RTI'!$E$42","v":""},{"$f":"'SSI Inputs RTI'!$R$20","v":175},{"$f":"'SSI Inputs RTI'!$R$21","v":175},{"$f":"'SSI Inputs RTI'!$R$22","v":175},{"$f":"'SSI Inputs RTI'!$R$23","v":175}]
[]
[]
[]
[]
[]
[]
[]
[]
[]
[]
[]
[]
[]
[]
[]
[]
[]
[]
[]
[]
[]
[]
[]
[]
[]
[]
[]
[]
[]
[]
[]
[]
[]
[]
[]
[]
[]
[]
[]
[]
[]
[]
[]
[]
[]
[]
[]
[]
[]
[]
[]
[]
[]
[]
[]
[]
[]
[]
[]
[]
[]
[]
[]
[]
[]
[]
[]
[]
[]
[]
[]
[null,null,null,null,null,null,null,null,null,"Exposure",null,null,null,null,null,null,null,null,null,null,null,null,null,null,null,null,null,null,null,null,null,null,null,null,null,null,"Exposure-Severity-Complexity Product"]
[null,null,null,null,null,null,null,null,null,"Q1","Q2","I"]
[null,null,null,null,null,null,null,null,null,{"$f":"SUMPRODUCT($AN4:$BC4,$AN$29:$BC$29)","v":0},{"$f":"SUMPRODUCT($BE4:$BT4,$BE$29:$BT$29)","v":0},{"$f":"PRODUCT(J103:K103)","v":0},null,null,null,null,null,null,null,null,null,null,null,null,null,null,null,null,null,null,null,null,null,null,null,null,{"$f":"L103*R4*AI4","v":0}]
[null,null,null,null,null,null,null,null,null,0,0,{"$f":"PRODUCT(J104:K104)","v":0},null,null,null,null,null,null,null,null,null,null,null,null,null,null,null,null,null,null,null,null,null,null,null,null,{"$f":"L104*R5*AI5","v":0}]
[null,null,null,null,null,null,null,null,null,0,0,0,null,null,null,null,null,null,null,null,null,null,null,null,null,null,null,null,null,null,null,null,null,null,null,null,0]
[null,null,null,null,null,null,null,null,null,0,0,0,null,null,null,null,null,null,null,null,null,null,null,null,null,null,null,null,null,null,null,null,null,null,null,null,0]
[null,null,null,null,null,null,null,null,null,0,0,0,null,null,null,null,null,null,null,null,null,null,null,null,null,null,null,null,null,null,null,null,null,null,null,null,0]
[null,null,null,null,null,null,null,null,null,0,0,0,null,null,null,null,null,null,null,null,null,null,null,null,null,null,null,null,null,null,null,null,null,null,null,null,0]
[null,null,null,null,null,null,null,null,null,0,0,0,null,null,null,null,null,null,null,null,null,null,null,null,null,null,null,null,null,null,null,null,null,null,null,null,0]
[null,null,null,null,null,null,null,null,null,0,0,0,null,null,null,null,null,null,null,null,null,null,null,null,null,null,null,null,null,null,null,null,null,null,null,null,0]
[null,null,null,null,null,null,null,null,null,0,0,0,null,null,null,null,null,null,null,null,null,null,null,null,null,null,null,null,null,null,null,null,null,null,null,null,0]
[null,null,null,null,null,null,null,null,null,0,0,0,null,null,null,null,null,null,null,null,null,null,null,null,null,null,null,null,null,null,null,null,null,null,null,null,0]
[null,null,null,null,null,null,null,null,null,0,0,0,null,null,null,null,null,null,null,null,null,null,null,null,null,null,null,null,null,null,null,null,null,null,null,null,0]
[null,null,null,null,null,null,null,null,null,0,0,0,null,null,null,null,null,null,null,null,null,null,null,null,null,null,null,null,null,null,null,null,null,null,null,null,0]
[null,null,null,null,null,null,null,null,null,350,0,0,null,null,null,null,null,null,null,null,null,null,null,null,null,null,null,null,null,null,null,null,null,null,null,null,0]
[null,null,null,null,null,null,null,null,null,175,0,0,null,null,null,null,null,null,null,null,null,null,null,null,null,null,null,null,null,null,null,null,null,null,null,null,0]
[null,null,null,null,null,null,null,null,null,175,0,0,null,null,null,null,null,null,null,null,null,null,null,null,null,null,null,null,null,null,null,null,null,null,null,null,0]
[null,null,null,null,null,null,null,null,null,350,0,0,null,null,null,null,null,null,null,null,null,null,null,null,null,null,null,null,null,null,null,null,null,null,null,null,0]
[null,null,null,null,null,null,null,null,null,175,0,0,null,null,null,null,null,null,null,null,null,null,null,null,null,null,null,null,null,null,null,null,null,null,null,null,0]
[null,null,null,null,null,null,null,null,null,175,0,0,null,null,null,null,null,null,null,null,null,null,null,null,null,null,null,null,null,null,null,null,null,null,null,null,0]
[null,null,null,null,null,null,null,null,null,350,0,0,null,null,null,null,null,null,null,null,null,null,null,null,null,null,null,null,null,null,null,null,null,null,null,null,0]
[null,null,null,null,null,null,null,null,null,175,0,0,null,null,null,null,null,null,null,null,null,null,null,null,null,null,null,null,null,null,null,null,null,null,null,null,0]
[null,null,null,null,null,null,null,null,null,175,0,0,null,null,null,null,null,null,null,null,null,null,null,null,null,null,null,null,null,null,null,null,null,null,null,null,0]
[null,null,null,null,null,null,null,null,null,350,0,0,null,null,null,null,null,null,null,null,null,null,null,null,null,null,null,null,null,null,null,null,null,null,null,null,0]
[null,null,null,null,null,null,null,null,null,175,0,{"$f":"PRODUCT(J125:K125)","v":0},null,null,null,null,null,null,null,null,null,null,null,null,null,null,null,null,null,null,null,null,null,null,null,null,0]
[null,null,null,null,null,null,null,null,null,175,0,0,null,null,null,null,null,null,null,null,null,null,null,null,null,null,null,null,null,null,null,null,null,null,null,null,0]

{"sheet":"4_Quad_ParcloB","index":11,"n_rows":126,"n_cols":95,"rows_kept":126,"cut":false,"hidden":true,"merged":[[0,19,0,28],[0,30,0,32],[1,9,1,11],[1,13,1,17],[1,21,1,25],[1,27,1,28],[1,30,2,30],[1,31,2,31],[1,32,2,32],[1,86,1,89],[1,91,1,94],[100,9,100,11],[100,36,101,36],[1,34,2,34],[1,36,2,36],[1,39,1,52],[1,56,1,69],[1,76,1,79],[1,81,1,84]]}
[null,null,null,null,null,null,null,null,null,null,null,null,null,null,null,null,null,null,null,"Conflicting Traffic Complexity",null,null,null,null,null,null,null,null,null,null,"Pedestrian Complexity",null,null,null,null,null,null,null,null,null,null,null,null,null,null,null,null,null,null,null,null,null,null,null,null,null,null,null,null,null,null,null,null,null,null,null,null,null,null,null,null,null,null,null,"*impact of median on complexity factors"]
[null,null,null,null,null,null,null,null,null,"Exposure",null,null,null,"Severity",null,null,null,null,null,"Traffic Control",null,"Conflicting Lanes",null,null,null,null,null,"Conflicting Speed",null,null,"Indirect Paths Indicator","Non-intuitive movements indicator","Pedestrian Complexity factor",null,"Total Complexity Multiplier",null,"Exposure-Severity-Complexity Product",null,null,"Included in Mvmt1",null,null,null,null,null,null,null,null,null,null,null,null,null,null,null,null,"Included in Mvmt2",null,null,null,null,null,null,null,null,null,null,null,null,null,null,null,null,null,null,null,"Cross-street: No, Ramps: No",null,null,null,null,"Cross-street: Yes, Ramps: No",null,null,null,null,"Cross-street: No, Ramps: Yes",null,null,null,null,"Cross-street: Yes, Ramps: Yes"]
["#","Conflict Type","Mvmt1","Mvmt1_gen","Mvmt1_SpeedCat","Mvmt2","Mvmt2_gen","Mvmt2_SpeedCat",null,"Q1","Q2","I",null,"Speed_V1","Speed_V2","Angle","delta_V","P_FSI",null,null,null,"CrossC","RampC","CrossM/P","RampM/P","Score",null,"Speed","Factor",null,null,null,null,null,null,null,null,null,null,"CrossT1","CrossL1","CrossR1","CrossT2","CrossL2","CrossR2","RampT1","RampL1","RampR1","RampT2","RampL2","RampR2","CrossNM1","CrossNM2","RampNM1","RampNM2",null,"CrossT1","CrossL1","CrossR1","CrossT2","CrossL2","CrossR2","RampT1","RampL1","RampR1","RampT2","RampL2","RampR2","CrossNM1","CrossNM2","RampNM1","RampNM2",null,null,"#","Conflict Type","MajC","MinC","MajM/P","MinM/P",null,"MajC","MinC","MajM/P","MinM/P",null,"MajC","MinC","MajM/P","MinM/P",null,"MajC","MinC","MajM/P","MinM/P"]
[1,"Crossing - LT","SBL","RampL2","Signal near","WBT,NBL","CrossT2,RampL1","Cross thru",null,{"$f":"SUMPRODUCT($AN4:$BC4,$AN$28:$BC$28)","v":0},{"$f":"SUMPRODUCT($BE4:$BT4,$BE$28:$BT$28)","v":0},{"$f":"PRODUCT(J4:K4)","v":0},null,{"$f":"VLOOKUP(E4,SSI_RTI_Range_VehSpeed,5,FALSE)","v":15},{"$f":"VLOOKUP(H4,SSI_RTI_Range_VehSpeed,5,FALSE)","v":0},{"$f":"IF(B4=\"Nonmotorized\",\"\",VLOOKUP(B4,SSI_RTI_Range_CollAngles,5,FALSE))","v":230},{"$f":"IF(B4=\"Nonmotorized\",\"\",SQRT(N4^2+O4^2-2*N4*O4*COS(RADIANS(P4)))/2)","v":7.5},{"$f":"IF(B4=\"Nonmotorized\",1/(1+EXP(3.8432-0.1237*O4)),(Q4/SSI_RTI_RegAlpha)^SSI_RTI_RegK+(Q4/SSI_RTI_RegAlpha)^SSI_RTI_RegK-((Q4/SSI_RTI_RegAlpha)^SSI_RTI_RegK)*((Q4/SSI_RTI_RegAlpha)^SSI_RTI_RegK))","v":4.8454301532720542E-4},null,{"$f":"SSI_RTI_ProtFactor","v":0.505},null,{"$f":"IF(AND(SSI_RTI_CrossStMedian=\"No\", SSI_RTI_RampMedian=\"No\"),BY4,IF(AND(SSI_RTI_CrossStMedian=\"Yes\",SSI_RTI_RampMedian=\"No\"),CD4,IF(AND(SSI_RTI_CrossStMedian=\"No\",SSI_RTI_RampMedian=\"Yes\"),CI4,IF(AND(SSI_RTI_CrossStMedian=\"Yes\",SSI_RTI_RampMedian=\"Yes\"),CN4))))","v":false},{"$f":"IF(AND(SSI_RTI_CrossStMedian=\"No\", SSI_RTI_RampMedian=\"No\"),BZ4,IF(AND(SSI_RTI_CrossStMedian=\"Yes\",SSI_RTI_RampMedian=\"No\"),CE4,IF(AND(SSI_RTI_CrossStMedian=\"No\",SSI_RTI_RampMedian=\"Yes\"),CJ4,IF(AND(SSI_RTI_CrossStMedian=\"Yes\",SSI_RTI_RampMedian=\"Yes\"),CO4))))","v":false},{"$f":"IF(AND(SSI_RTI_CrossStMedian=\"No\", SSI_RTI_RampMedian=\"No\"),CA4,IF(AND(SSI_RTI_CrossStMedian=\"Yes\",SSI_RTI_RampMedian=\"No\"),CF4,IF(AND(SSI_RTI_CrossStMedian=\"No\",SSI_RTI_RampMedian=\"Yes\"),CK4,IF(AND(SSI_RTI_CrossStMedian=\"Yes\",SSI_RTI_RampMedian=\"Yes\"),CP4))))","v":false},{"$f":"IF(AND(SSI_RTI_CrossStMedian=\"No\", SSI_RTI_RampMedian=\"No\"),CB4,IF(AND(SSI_RTI_CrossStMedian=\"Yes\",SSI_RTI_RampMedian=\"No\"),CG4,IF(AND(SSI_RTI_CrossStMedian=\"No\",SSI_RTI_RampMedian=\"Yes\"),CL4,IF(AND(SSI_RTI_CrossStMedian=\"Yes\",SSI_RTI_RampMedian=\"Yes\"),CQ4))))","v":false},{"$f":"MAX(1,IF(B4<>\"Pedestrian\",V4*SSI_RTI_CrossThruLanes+W4*SSI_RTI_Ramp1ThruLanes+X4*IF(SSI_RTI_CrossThruLanes=1,SSI_RTI_MergeWeightL1,IF(SSI_RTI_CrossThruLanes=2,SSI_RTI_MergeWeightL1+SSI_RTI_MergeWeightL2,SSI_RTI_MergeWeightL1+SSI_RTI_MergeWeightL2+SSI_RTI_MergeWeightL3*(SSI_RTI_CrossThruLanes-2)))+Y4*IF(SSI_RTI_Ramp1ThruLanes=1,SSI_RTI_MergeWeightL1,IF(SSI_RTI_Ramp1ThruLanes=2,SSI_RTI_MergeWeightL1+SSI_RTI_MergeWeightL2,SSI_RTI_MergeWeightL1+SSI_RTI_MergeWeightL2+SSI_RTI_MergeWeightL3*(SSI_RTI_Ramp1ThruLanes-2))),V4*SSI_RTI_CrossThruLanes+W4*SSI_RTI_Ramp1ThruLanes+X4*IF(SSI_RTI_CrossThruLanes=1,SSI_RTI_NM_MergeWeightL1,IF(SSI_RTI_CrossThruLanes=2,SSI_RTI_NM_MergeWeightL1+SSI_RTI_NM_MergeWeightL2,SSI_RTI_NM_MergeWeightL1+SSI_RTI_NM_MergeWeightL2+SSI_RTI_NM_MergeWeightL3*(SSI_RTI_CrossThruLanes-2)))+Y4*IF(SSI_RTI_Ramp1ThruLanes=1,SSI_RTI_NM_MergeWeightL1,IF(SSI_RTI_Ramp1ThruLanes=2,SSI_RTI_NM_MergeWeightL1+SSI_RTI_NM_MergeWeightL2,SSI_RTI_NM_MergeWeightL1+SSI_RTI_NM_MergeWeightL2+SSI_RTI_NM_MergeWeightL3*(SSI_RTI_Ramp1ThruLanes-2)))))","v":1},null,{"$f":"IF(B4=\"Diverging\",\"\",SSI_RTI_VehSpeed_CrossThru)","v":0},{"$f":"IF(B4=\"Diverging\",1,1-((60-AB4)/60*0.1/0.15))","v":0.33333333333333326},null,null,null,{"$f":"1+AE4+AF4","v":1},null,{"$f":"PRODUCT(Z4,T4,AC4,AG4)","v":0.16833333333333331},null,{"$f":"L4*R4*AI4","v":0},null,null,{"$f":"IF(ISNUMBER(SEARCH(AN$3,$D4)),1,\"\")","v":""},{"$f":"IF(ISNUMBER(SEARCH(AO$3,$D4)),1,\"\")","v":""},"","","","","","","","",1,"","","","","",null,{"$f":"IF(ISNUMBER(SEARCH(BE$3,$G4)),1,\"\")","v":""},{"$f":"IF(ISNUMBER(SEARCH(BF$3,$G4)),1,\"\")","v":""},"",1,"","","",1,"","","","","","","","",null,null,{"$f":"A4","v":1},"Crossing - LT",1,0,1,0,null,1,0,0,0,null,1,0,1,0,null,1,0,0,0]
[2,"Crossing - LT","NBL","RampL1","Signal near","EBT,SBL","CrossT1,RampL2","Cross thru",null,{"$f":"SUMPRODUCT($AN5:$BC5,$AN$28:$BC$28)","v":0},{"$f":"SUMPRODUCT($BE5:$BT5,$BE$28:$BT$28)","v":0},{"$f":"PRODUCT(J5:K5)","v":0},null,15,0,230,{"$f":"IF(B5=\"Nonmotorized\",\"\",SQRT(N5^2+O5^2-2*N5*O5*COS(RADIANS(P5)))/2)","v":7.5},4.8454301532720542E-4,null,0.505,null,false,false,false,false,1,null,0,0.33333333333333326,null,null,null,{"$f":"1+AE5+AF5","v":1},null,0.16833333333333331,null,{"$f":"L5*R5*AI5","v":0},null,null,{"$f":"IF(ISNUMBER(SEARCH(AN$3,$D5)),1,\"\")","v":""},"","","","","","",1,"","","","","","","","",null,{"$f":"IF(ISNUMBER(SEARCH(BE$3,$G5)),1,\"\")","v":1},"","","","","","","","","",1,"","","","","",null,null,{"$f":"A5","v":2},"Crossing - LT",1,0,1,0,null,1,0,0,0,null,1,0,1,0,null,1,0,0,0]
[3,"Merging","SBR","RampR2","Ramp thru","WBT,NBL","CrossT2,RampL1","Cross thru",null,0,0,0,null,0,0,45,0,0,null,{"$f":"SSI_RTI_PermFactor","v":1},null,false,false,false,false,1,null,0,0.33333333333333326,null,null,null,1,null,0.33333333333333326,null,0,null,null,"","","","","","","","","","","",1,"","","","",null,"","","",1,"","","",1,"","","","","","","","",null,null,3,"Merging",0,0,1,0,null,0,0,1,0,null,0,0,1,0,null,0,0,1,0]
[4,"Merging","SBL","RampL2","Signal far","EBT,EBL","CrossT1,CrossL1","Cross thru",null,0,0,0,null,25,0,45,12.5,3.3637551692797651E-3,null,1,null,false,false,false,false,1,null,0,0.33333333333333326,null,null,null,1,null,0.33333333333333326,null,0,null,null,"","","","","","","","","","",1,"","","","","",null,1,1,"","","","","","","","","","","","","","",null,null,4,"Merging",0,0,1,0,null,0,0,1,0,null,0,0,1,0,null,0,0,1,0]
[5,"Merging","NBL","RampL1","Signal far","WBT,WBL","CrossT2,CrossL2","Cross thru",null,0,0,0,null,25,0,45,12.5,3.3637551692797651E-3,null,1,null,false,false,false,false,1,null,0,0.33333333333333326,null,null,null,1,null,0.33333333333333326,null,0,null,null,"","","","","","","",1,"","","","","","","","",null,"","","",1,1,"","","","","","","","","","","",null,null,5,"Merging",0,0,1,0,null,0,0,1,0,null,0,0,1,0,null,0,0,1,0]
[6,"Merging","NBR","RampR1","Ramp thru","EBT,SBL","CrossT1,RampL2","Cross thru",null,0,0,0,null,0,0,45,0,0,null,1,null,false,false,false,false,1,null,0,0.33333333333333326,null,null,null,1,null,0.33333333333333326,null,0,null,null,"","","","","","","","",1,"","","","","","","",null,1,"","","","","","","","","",1,"","","","","",null,null,6,"Merging",0,0,1,0,null,0,0,1,0,null,0,0,1,0,null,0,0,1,0]
[7,"Diverging","EBT,EBL","CrossT1, CrossL1","Cross thru","EBR","CrossR1","Cross right",null,0,0,0,null,0,15,10,7.5,4.8454301532720542E-4,null,1,null,false,false,false,false,1,null,"",1,null,null,null,1,null,1,null,0,null,null,1,1,"","","","","","","","","","","","","","",null,"","",1,"","","","","","","","","","","","","",null,null,7,"Diverging",0,0,0,0,null,0,0,0,0,null,0,0,0,0,null,0,0,0,0]
[8,"Diverging","SBR","RampR2","Ramp right","SBL","RampL2","Ramp left",null,0,0,0,null,15,20,10,2.9204172729541256,1.3523658461214553E-5,null,1,null,false,false,false,false,1,null,"",1,null,null,null,1,null,1,null,0,null,null,"","","","","","","","","","","",1,"","","","",null,"","","","","","","","","","",1,"","","","","",null,null,8,"Diverging",0,0,0,0,null,0,0,0,0,null,0,0,0,0,null,0,0,0,0]
[9,"Diverging","WBL","CrossL2","Cross right","WBT,NBL","CrossT2,RampL1","Cross thru",null,0,0,0,null,15,0,10,7.5,4.8454301532720542E-4,null,1,null,false,false,false,false,1,null,"",1,null,null,null,1,null,1,null,0,null,null,"","","","",1,"","","","","","","","","","","",null,"","","",1,"","","",1,"","","","","","","","",null,null,9,"Diverging",0,0,0,0,null,0,0,0,0,null,0,0,0,0,null,0,0,0,0]
[10,"Diverging","EBL","CrossL1","Cross right","EBT,SBL","CrossT1,RampL2","Cross thru",null,0,0,0,null,15,0,10,7.5,4.8454301532720542E-4,null,1,null,false,false,false,false,1,null,"",1,null,null,null,1,null,1,null,0,null,null,"",1,"","","","","","","","","","","","","","",null,1,"","","","","","","","","",1,"","","","","",null,null,10,"Diverging",0,0,0,0,null,0,0,0,0,null,0,0,0,0,null,0,0,0,0]
[11,"Diverging","NBR","RampR1","Ramp right","NBL","RampL1","Ramp left",null,0,0,0,null,15,20,10,2.9204172729541256,1.3523658461214553E-5,null,1,null,false,false,false,false,1,null,"",1,null,null,null,1,null,1,null,0,null,null,"","","","","","","","",1,"","","","","","","",null,"","","","","","","",1,"","","","","","","","",null,null,11,"Diverging",0,0,0,0,null,0,0,0,0,null,0,0,0,0,null,0,0,0,0]
[12,"Diverging","WBT,WBL","CrossT2,CrossL2","Cross thru","WBR","CrossR2","Cross right",null,0,0,0,null,0,15,10,7.5,4.8454301532720542E-4,null,1,null,false,false,false,false,1,null,"",1,null,null,null,1,null,1,null,0,null,null,"","","",1,1,"","","","","","","","","","","",null,"","","","","",1,"","","","","","","","","","",null,null,12,"Diverging",0,0,0,0,null,0,0,0,0,null,0,0,0,0,null,0,0,0,0]
[13,"Nonmotorized",null,"RampNM2, CrossNM1","Nonmotorized","SBR","RampR2","Ramp thru",null,350,0,0,null,0,0,"","",2.0975532400616122E-2,null,1,null,false,false,false,false,1,null,{"$f":"IF(B16=\"Diverging\",\"\",SSI_RTI_VehSpeed_RampThru)","v":0},0.33333333333333326,null,null,null,1,null,0.33333333333333326,null,0,null,null,"","","","","","","","","","","","",1,"","",1,null,"","","","","","","","","","","",1,"","","","",null,null,13,"Nonmotorized",0,1,0,0,null,0,1,0,0,null,0,1,0,0,null,0,1,0,0]
[14,"Nonmotorized",null,"RampNM2","Nonmotorized","SBL","RampL2","Ramp left",null,175,0,0,null,0,20,"","",0.20274912921655375,null,{"$f":"SSI_RTI_ProtFactor","v":0.505},null,false,false,false,false,1,null,{"$f":"IF(B17=\"Diverging\",\"\",SSI_RTI_VehSpeed_RampThru)","v":0},0.33333333333333326,null,null,null,1,null,0.16833333333333331,null,0,null,null,"","","","","","","","","","","","","","","",1,null,"","","","","","","","","","",1,"","","","","",null,null,14,"Nonmotorized",0,1,0,0,null,0,1,0,0,null,0,1,0,0,null,0,1,0,0]
[15,"Nonmotorized",null,"CrossNM1","Nonmotorized","WBT,NBL","CrossT2,RampL1","Cross thru",null,175,0,0,null,0,0,"","",2.0975532400616122E-2,null,0.505,null,false,false,false,false,1,null,0,0.33333333333333326,null,null,null,1,null,0.16833333333333331,null,0,null,null,"","","","","","","","","","","","",1,"","","",null,"","","",1,"","","",1,"","","","","","","","",null,null,15,"Nonmotorized",2,0,0,0,null,1,0,0,0,null,2,0,0,0,null,1,0,0,0]
[16,"Nonmotorized",null,"CrossNM1","Nonmotorized","EBT,EBL","CrossT1, CrossL1","Cross thru",null,175,0,0,null,0,0,"","",2.0975532400616122E-2,null,0.505,null,false,false,false,false,1,null,0,0.33333333333333326,null,null,null,1,null,0.16833333333333331,null,0,null,null,"","","","","","","","","","","","",1,"","","",null,1,1,"","","","","","","","","","","","","","",null,null,16,"Nonmotorized",2,0,0,0,null,1,0,0,0,null,2,0,0,0,null,1,0,0,0]
[17,"Nonmotorized",null,"RampNM1, CrossNM1","Nonmotorized","EBR","CrossR1","Cross right",null,350,0,0,null,0,15,"","",0.1205004039155782,null,{"$f":"SSI_RTI_PermFactor","v":1},null,false,false,false,false,1,null,0,0.33333333333333326,null,null,null,1,null,0.33333333333333326,null,0,null,null,"","","","","","","","","","","","",1,"",1,"",null,"","",1,"","","","","","","","","","","","","",null,null,17,"Nonmotorized",0,1,1,0,null,0,1,1,0,null,0,1,1,0,null,0,1,1,0]
[18,"Nonmotorized",null,"RampNM2","Nonmotorized","WBL","CrossL2","Cross right",null,175,0,0,null,0,15,"","",0.1205004039155782,null,1,null,false,false,false,false,1,null,0,0.33333333333333326,null,null,null,1,null,0.33333333333333326,null,0,null,null,"","","","","","","","","","","","","","","",1,null,"","","","",1,"","","","","","","","","",{"$f":"IF(ISNUMBER(SEARCH(BS$3,$G21)),1,\"\")","v":""},{"$f":"IF(ISNUMBER(SEARCH(BT$3,$G21)),1,\"\")","v":""},null,null,18,"Nonmotorized",0,1,1,0,null,0,1,1,0,null,0,1,1,0,null,0,1,1,0]
[19,"Nonmotorized",null,"RampNM1, CrossNM2","Nonmotorized","NBR","RampR1","Ramp thru",null,350,0,0,null,0,0,"","",2.0975532400616122E-2,null,1,null,false,false,false,false,1,null,{"$f":"IF(B22=\"Diverging\",\"\",SSI_RTI_VehSpeed_RampThru)","v":0},0.33333333333333326,null,null,null,1,null,0.33333333333333326,null,0,null,null,"","","","","","","","","","","","","",1,1,"",null,{"$f":"IF(ISNUMBER(SEARCH(BE$3,$G22)),1,\"\")","v":""},"","","","","","","",1,"","","","","","","",null,null,19,"Nonmotorized",0,1,0,0,null,0,1,0,0,null,0,1,0,0,null,0,1,0,0]
[20,"Nonmotorized",null,"RampNM1","Nonmotorized","NBL","RampL1","Cross thru",null,175,0,0,null,0,0,"","",2.0975532400616122E-2,null,0.505,null,false,false,false,false,1,null,{"$f":"IF(B23=\"Diverging\",\"\",SSI_RTI_VehSpeed_RampThru)","v":0},0.33333333333333326,null,null,null,1,null,0.16833333333333331,null,0,null,null,"","","","","","","","","","","","",{"$f":"IF(ISNUMBER(SEARCH(AZ$3,$D23)),1,\"\")","v":""},{"$f":"IF(ISNUMBER(SEARCH(BA$3,$D23)),1,\"\")","v":""},{"$f":"IF(ISNUMBER(SEARCH(BB$3,$D23)),1,\"\")","v":1},{"$f":"IF(ISNUMBER(SEARCH(BC$3,$D23)),1,\"\")","v":""},null,"","","","","","","",1,"","","","","","","","",null,null,20,"Nonmotorized",0,1,0,0,null,0,1,0,0,null,0,1,0,0,null,0,1,0,0]
[21,"Nonmotorized",null,"CrossNM2","Nonmotorized","EBT,SBL","CrossT1,RampL2","Cross thru",null,175,0,0,null,0,0,"","",2.0975532400616122E-2,null,0.505,null,false,false,false,false,1,null,0,0.33333333333333326,null,null,null,1,null,0.16833333333333331,null,0,null,null,{"$f":"IF(ISNUMBER(SEARCH(AN$3,$D24)),1,\"\")","v":""},"","","","","","","","","","","","",1,"","",null,1,"","","","","","","","","",1,"","","","","",null,null,21,"Nonmotorized",2,0,0,0,null,1,0,0,0,null,2,0,0,0,null,1,0,0,0]
[22,"Nonmotorized",null,"CrossNM2","Nonmotorized","WBT,WBL","CrossT2,CrossL2","Cross right",null,175,0,0,null,0,15,"","",0.1205004039155782,null,0.505,null,false,false,false,false,1,null,0,0.33333333333333326,null,null,null,1,null,0.16833333333333331,null,{"$f":"L25*R25*AI25","v":0},null,null,"","","","","","","","","","","","","",1,"","",null,"","","",1,1,"","","","","","","","","","","",null,null,22,"Nonmotorized",2,0,0,0,null,1,0,0,0,null,2,0,0,0,null,1,0,0,0]
[23,"Nonmotorized",null,"RampNM2, CrossNM2","Nonmotorized","WBR","CrossR2","Signal near",null,350,0,0,null,0,15,"","",0.1205004039155782,null,{"$f":"SSI_RTI_PermFactor","v":1},null,false,false,false,false,1,null,0,0.33333333333333326,null,null,null,1,null,0.33333333333333326,null,{"$f":"L26*R26*AI26","v":0},null,null,"","","","","","","","","","","","","",1,"",1,null,"","","","","",1,"","","","","","","","","","",null,null,23,"Nonmotorized",0,1,1,0,null,0,1,1,0,null,0,1,1,0,null,0,1,1,0]
[24,"Nonmotorized",null,"RampNM1","Nonmotorized","EBL","CrossL1","Ramp thru",null,175,0,0,null,0,0,"","",2.0975532400616122E-2,null,1,null,false,false,false,false,1,null,0,0.33333333333333326,null,null,null,1,null,0.33333333333333326,null,0,null,null,"","","","","","","","","","","","","","",1,"",null,"",1,"","","","","","","","","","","","","","",null,null,24,"Nonmotorized",0,1,1,0,null,0,1,1,0,null,0,1,1,0,null,0,1,1,0]
[null,null,null,null,null,null,null,null,null,null,null,null,null,null,null,null,null,null,null,null,null,null,null,null,null,null,null,null,null,null,null,null,null,null,null,null,null,null,"O",{"$f":"'SSI Inputs RTI'!$D$28","v":""},{"$f":"'SSI Inputs RTI'!$D$29","v":""},{"$f":"'SSI Inputs RTI'!$D$30","v":""},{"$f":"'SSI Inputs RTI'!$D$32","v":""},{"$f":"'SSI Inputs RTI'!$D$33","v":""},{"$f":"'SSI Inputs RTI'!$D$34","v":""},{"$f":"'SSI Inputs RTI'!$D$36","v":""},{"$f":"'SSI Inputs RTI'!$D$37","v":""},{"$f":"'SSI Inputs RTI'!$D$38","v":""},{"$f":"'SSI Inputs RTI'!$D$40","v":""},{"$f":"'SSI Inputs RTI'!$D$41","v":""},{"$f":"'SSI Inputs RTI'!$D$42","v":""},{"$f":"'SSI Inputs RTI'!$Q$20","v":175},{"$f":"'SSI Inputs RTI'!$Q$21","v":175},{"$f":"'SSI Inputs RTI'!$Q$22","v":175},{"$f":"'SSI Inputs RTI'!$Q$23","v":175},"O",{"$f":"'SSI Inputs RTI'!$D$28","v":""},{"$f":"'SSI Inputs RTI'!$D$29","v":""},{"$f":"'SSI Inputs RTI'!$D$30","v":""},{"$f":"'SSI Inputs RTI'!$D$32","v":""},{"$f":"'SSI Inputs RTI'!$D$33","v":""},{"$f":"'SSI Inputs RTI'!$D$34","v":""},{"$f":"'SSI Inputs RTI'!$D$36","v":""},{"$f":"'SSI Inputs RTI'!$D$37","v":""},{"$f":"'SSI Inputs RTI'!$D$38","v":""},{"$f":"'SSI Inputs RTI'!$D$40","v":""},{"$f":"'SSI Inputs RTI'!$D$41","v":""},{"$f":"'SSI Inputs RTI'!$D$42","v":""},{"$f":"'SSI Inputs RTI'!$Q$20","v":175},{"$f":"'SSI Inputs RTI'!$Q$21","v":175},{"$f":"'SSI Inputs RTI'!$Q$22","v":175},{"$f":"'SSI Inputs RTI'!$Q$23","v":175}]
[null,null,null,null,null,null,null,null,null,null,null,null,null,null,null,null,null,null,null,null,null,null,null,null,null,null,null,null,null,null,null,null,null,null,null,null,null,null,"D",{"$f":"'SSI Inputs RTI'!$E$28","v":""},{"$f":"'SSI Inputs RTI'!$E$29","v":""},{"$f":"'SSI Inputs RTI'!$E$30","v":""},{"$f":"'SSI Inputs RTI'!$E$32","v":""},{"$f":"'SSI Inputs RTI'!$E$33","v":""},{"$f":"'SSI Inputs RTI'!$E$34","v":""},{"$f":"'SSI Inputs RTI'!$E$36","v":""},{"$f":"'SSI Inputs RTI'!$E$37","v":""},{"$f":"'SSI Inputs RTI'!$E$38","v":""},{"$f":"'SSI Inputs RTI'!$E$40","v":""},{"$f":"'SSI Inputs RTI'!$E$41","v":""},{"$f":"'SSI Inputs RTI'!$E$42","v":""},{"$f":"'SSI Inputs RTI'!$R$20","v":175},{"$f":"'SSI Inputs RTI'!$R$21","v":175},{"$f":"'SSI Inputs RTI'!$R$22","v":175},{"$f":"'SSI Inputs RTI'!$R$23","v":175},"D",{"$f":"'SSI Inputs RTI'!$E$28","v":""},{"$f":"'SSI Inputs RTI'!$E$29","v":""},{"$f":"'SSI Inputs RTI'!$E$30","v":""},{"$f":"'SSI Inputs RTI'!$E$32","v":""},{"$f":"'SSI Inputs RTI'!$E$33","v":""},{"$f":"'SSI Inputs RTI'!$E$34","v":""},{"$f":"'SSI Inputs RTI'!$E$36","v":""},{"$f":"'SSI Inputs RTI'!$E$37","v":""},{"$f":"'SSI Inputs RTI'!$E$38","v":""},{"$f":"'SSI Inputs RTI'!$E$40","v":""},{"$f":"'SSI Inputs RTI'!$E$41","v":""},{"$f":"'SSI Inputs RTI'!$E$42","v":""},{"$f":"'SSI Inputs RTI'!$R$20","v":175},{"$f":"'SSI Inputs RTI'!$R$21","v":175},{"$f":"'SSI Inputs RTI'!$R$22","v":175},{"$f":"'SSI Inputs RTI'!$R$23","v":175}]
[]
[]
[]
[]
[]
[]
[]
[]
[]
[]
[]
[]
[]
[]
[]
[]
[]
[]
[]
[]
[]
[]
[]
[]
[]
[]
[]
[]
[]
[]
[]
[]
[]
[]
[]
[]
[]
[]
[]
[]
[]
[]
[]
[]
[]
[]
[]
[]
[]
[]
[]
[]
[]
[]
[]
[]
[]
[]
[]
[]
[]
[]
[]
[]
[]
[]
[]
[]
[]
[]
[]
[null,null,null,null,null,null,null,null,null,"Exposure",null,null,null,null,null,null,null,null,null,null,null,null,null,null,null,null,null,null,null,null,null,null,null,null,null,null,"Exposure-Severity-Complexity Product"]
[null,null,null,null,null,null,null,null,null,"Q1","Q2","I"]
[null,null,null,null,null,null,null,null,null,{"$f":"SUMPRODUCT($AN4:$BC4,$AN$29:$BC$29)","v":0},{"$f":"SUMPRODUCT($BE4:$BT4,$BE$29:$BT$29)","v":0},{"$f":"PRODUCT(J103:K103)","v":0},null,null,null,null,null,null,null,null,null,null,null,null,null,null,null,null,null,null,null,null,null,null,null,null,{"$f":"L103*R4*AI4","v":0}]
[null,null,null,null,null,null,null,null,null,0,0,{"$f":"PRODUCT(J104:K104)","v":0},null,null,null,null,null,null,null,null,null,null,null,null,null,null,null,null,null,null,null,null,null,null,null,null,{"$f":"L104*R5*AI5","v":0}]
[null,null,null,null,null,null,null,null,null,0,0,0,null,null,null,null,null,null,null,null,null,null,null,null,null,null,null,null,null,null,null,null,null,null,null,null,0]
[null,null,null,null,null,null,null,null,null,0,0,0,null,null,null,null,null,null,null,null,null,null,null,null,null,null,null,null,null,null,null,null,null,null,null,null,0]
[null,null,null,null,null,null,null,null,null,0,0,0,null,null,null,null,null,null,null,null,null,null,null,null,null,null,null,null,null,null,null,null,null,null,null,null,0]
[null,null,null,null,null,null,null,null,null,0,0,0,null,null,null,null,null,null,null,null,null,null,null,null,null,null,null,null,null,null,null,null,null,null,null,null,0]
[null,null,null,null,null,null,null,null,null,0,0,0,null,null,null,null,null,null,null,null,null,null,null,null,null,null,null,null,null,null,null,null,null,null,null,null,0]
[null,null,null,null,null,null,null,null,null,0,0,0,null,null,null,null,null,null,null,null,null,null,null,null,null,null,null,null,null,null,null,null,null,null,null,null,0]
[null,null,null,null,null,null,null,null,null,0,0,0,null,null,null,null,null,null,null,null,null,null,null,null,null,null,null,null,null,null,null,null,null,null,null,null,0]
[null,null,null,null,null,null,null,null,null,0,0,0,null,null,null,null,null,null,null,null,null,null,null,null,null,null,null,null,null,null,null,null,null,null,null,null,0]
[null,null,null,null,null,null,null,null,null,0,0,0,null,null,null,null,null,null,null,null,null,null,null,null,null,null,null,null,null,null,null,null,null,null,null,null,0]
[null,null,null,null,null,null,null,null,null,0,0,0,null,null,null,null,null,null,null,null,null,null,null,null,null,null,null,null,null,null,null,null,null,null,null,null,0]
[null,null,null,null,null,null,null,null,null,350,0,0,null,null,null,null,null,null,null,null,null,null,null,null,null,null,null,null,null,null,null,null,null,null,null,null,0]
[null,null,null,null,null,null,null,null,null,175,0,0,null,null,null,null,null,null,null,null,null,null,null,null,null,null,null,null,null,null,null,null,null,null,null,null,0]
[null,null,null,null,null,null,null,null,null,175,0,0,null,null,null,null,null,null,null,null,null,null,null,null,null,null,null,null,null,null,null,null,null,null,null,null,0]
[null,null,null,null,null,null,null,null,null,175,0,0,null,null,null,null,null,null,null,null,null,null,null,null,null,null,null,null,null,null,null,null,null,null,null,null,0]
[null,null,null,null,null,null,null,null,null,350,0,0,null,null,null,null,null,null,null,null,null,null,null,null,null,null,null,null,null,null,null,null,null,null,null,null,0]
[null,null,null,null,null,null,null,null,null,175,0,0,null,null,null,null,null,null,null,null,null,null,null,null,null,null,null,null,null,null,null,null,null,null,null,null,0]
[null,null,null,null,null,null,null,null,null,350,0,0,null,null,null,null,null,null,null,null,null,null,null,null,null,null,null,null,null,null,null,null,null,null,null,null,0]
[null,null,null,null,null,null,null,null,null,175,0,0,null,null,null,null,null,null,null,null,null,null,null,null,null,null,null,null,null,null,null,null,null,null,null,null,0]
[null,null,null,null,null,null,null,null,null,175,0,0,null,null,null,null,null,null,null,null,null,null,null,null,null,null,null,null,null,null,null,null,null,null,null,null,0]
[null,null,null,null,null,null,null,null,null,175,0,0,null,null,null,null,null,null,null,null,null,null,null,null,null,null,null,null,null,null,null,null,null,null,null,null,0]
[null,null,null,null,null,null,null,null,null,350,0,{"$f":"PRODUCT(J125:K125)","v":0},null,null,null,null,null,null,null,null,null,null,null,null,null,null,null,null,null,null,null,null,null,null,null,null,0]
[null,null,null,null,null,null,null,null,null,175,0,0,null,null,null,null,null,null,null,null,null,null,null,null,null,null,null,null,null,null,null,null,null,null,null,null,0]

{"sheet":"DDI","index":12,"n_rows":124,"n_cols":72,"rows_kept":124,"cut":false,"hidden":true,"merged":[[1,34,2,34],[1,36,2,36],[1,39,1,52],[1,56,1,69],[100,9,100,11],[100,36,101,36],[0,19,0,28],[0,30,0,32],[1,9,1,11],[1,13,1,17],[1,21,1,25],[1,27,1,28],[1,30,2,30],[1,31,2,31],[1,32,2,32]]}
[null,null,null,null,null,null,null,null,null,null,null,null,null,null,null,null,null,null,null,"Conflicting Traffic Complexity",null,null,null,null,null,null,null,null,null,null,"Pedestrian Complexity"]
[null,null,null,null,null,null,null,null,null,"Exposure",null,null,null,"Severity",null,null,null,null,null,"Traffic Control",null,"Conflicting Lanes",null,null,null,null,null,"Conflicting Speed",null,null,"Indirect Paths Indicator","Non-intuitive movements indicator","Pedestrian Complexity factor",null,"Total Complexity Multiplier",null,"Exposure-Severity-Complexity Product",null,null,"Included in Mvmt1",null,null,null,null,null,null,null,null,null,null,null,null,null,null,null,null,"Included in Mvmt2"]
["#","Conflict Type","Mvmt1","Mvmt1_gen","Mvmt1_SpeedCat","Mvmt2","Mvmt2_gen","Mvmt2_SpeedCat",null,"Q1","Q2","I",null,"Speed_V1","Speed_V2","Angle","delta_V","P_FSI",null,null,null,"CrossC","RampC","CrossM/P","RampM/P","Score",null,"Speed","Factor",null,null,null,null,null,null,null,null,null,null,"CrossT1","CrossL1","CrossR1","CrossT2","CrossL2","CrossR2","RampT1","RampL1","RampR1","RampT2","RampL2","RampR2","CrossNM1","CrossNM2","RampNM1","RampNM2",null,"CrossT1","CrossL1","CrossR1","CrossT2","CrossL2","CrossR2","RampT1","RampL1","RampR1","RampT2","RampL2","RampR2","CrossNM1","CrossNM2","RampNM1","RampNM2"]
[1,"Crossing","EBT,EBL","CrossT1,CrossL1","Cross thru","WBT,NBL","CrossT2,RampL1","Signal far",null,{"$f":"SUMPRODUCT($AN4:$BC4,$AN$26:$BC$26)","v":0},{"$f":"SUMPRODUCT($BE4:$BT4,$BE$26:$BT$26)","v":0},{"$f":"PRODUCT(J4:K4)","v":0},null,{"$f":"VLOOKUP(E4,SSI_RTI_Range_VehSpeed,5,FALSE)","v":0},{"$f":"VLOOKUP(H4,SSI_RTI_Range_VehSpeed,5,FALSE)","v":25},{"$f":"IF(B4=\"Nonmotorized\",\"\",VLOOKUP(B4,SSI_RTI_Range_CollAngles,5,FALSE))","v":90},{"$f":"IF(B4=\"Nonmotorized\",\"\",SQRT(N4^2+O4^2-2*N4*O4*COS(RADIANS(P4)))/2)","v":12.5},{"$f":"IF(B4=\"Nonmotorized\",1/(1+EXP(3.8432-0.1237*O4)),(Q4/SSI_RTI_RegAlpha)^SSI_RTI_RegK+(Q4/SSI_RTI_RegAlpha)^SSI_RTI_RegK-((Q4/SSI_RTI_RegAlpha)^SSI_RTI_RegK)*((Q4/SSI_RTI_RegAlpha)^SSI_RTI_RegK))","v":3.3637551692797651E-3},null,{"$f":"SSI_RTI_ProtFactor","v":0.505},null,1,null,null,null,{"$f":"MAX(1,IF(B4<>\"Pedestrian\",V4*SSI_RTI_CrossThruLanes+W4*SSI_RTI_Ramp1ThruLanes+X4*IF(SSI_RTI_CrossThruLanes=1,SSI_RTI_MergeWeightL1,IF(SSI_RTI_CrossThruLanes=2,SSI_RTI_MergeWeightL1+SSI_RTI_MergeWeightL2,SSI_RTI_MergeWeightL1+SSI_RTI_MergeWeightL2+SSI_RTI_MergeWeightL3*(SSI_RTI_CrossThruLanes-2)))+Y4*IF(SSI_RTI_Ramp1ThruLanes=1,SSI_RTI_MergeWeightL1,IF(SSI_RTI_Ramp1ThruLanes=2,SSI_RTI_MergeWeightL1+SSI_RTI_MergeWeightL2,SSI_RTI_MergeWeightL1+SSI_RTI_MergeWeightL2+SSI_RTI_MergeWeightL3*(SSI_RTI_Ramp1ThruLanes-2))),V4*SSI_RTI_CrossThruLanes+W4*SSI_RTI_Ramp1ThruLanes+X4*IF(SSI_RTI_CrossThruLanes=1,SSI_RTI_NM_MergeWeightL1,IF(SSI_RTI_CrossThruLanes=2,SSI_RTI_NM_MergeWeightL1+SSI_RTI_NM_MergeWeightL2,SSI_RTI_NM_MergeWeightL1+SSI_RTI_NM_MergeWeightL2+SSI_RTI_NM_MergeWeightL3*(SSI_RTI_CrossThruLanes-2)))+Y4*IF(SSI_RTI_Ramp1ThruLanes=1,SSI_RTI_NM_MergeWeightL1,IF(SSI_RTI_Ramp1ThruLanes=2,SSI_RTI_NM_MergeWeightL1+SSI_RTI_NM_MergeWeightL2,SSI_RTI_NM_MergeWeightL1+SSI_RTI_NM_MergeWeightL2+SSI_RTI_NM_MergeWeightL3*(SSI_RTI_Ramp1ThruLanes-2)))))","v":1},null,{"$f":"IF(B4=\"Diverging\",\"\",SSI_RTI_VehSpeed_CrossThru)","v":0},{"$f":"IF(B4=\"Diverging\",1,1-((60-AB4)/60*0.1/0.15))","v":0.33333333333333326},null,null,null,{"$f":"1+AE4+AF4","v":1},null,{"$f":"PRODUCT(Z4,T4,AC4,AG4)","v":0.16833333333333331},null,{"$f":"L4*R4*AI4","v":0},null,null,{"$f":"IF(ISNUMBER(SEARCH(AN$3,$D4)),1,\"\")","v":1},{"$f":"IF(ISNUMBER(SEARCH(AO$3,$D4)),1,\"\")","v":1},"","","","","","","","","","","","","","",null,{"$f":"IF(ISNUMBER(SEARCH(BE$3,$G4)),1,\"\")","v":""},{"$f":"IF(ISNUMBER(SEARCH(BF$3,$G4)),1,\"\")","v":""},"",1,"","","",1,"","","","","","","",""]
[2,"Crossing","WBT,WBL","CrossT2,CrossL2","Cross thru","EBT,SBL","CrossT1,RampL2","Signal far",null,0,0,{"$f":"PRODUCT(J5:K5)","v":0},null,0,25,90,{"$f":"IF(B5=\"Nonmotorized\",\"\",SQRT(N5^2+O5^2-2*N5*O5*COS(RADIANS(P5)))/2)","v":12.5},3.3637551692797651E-3,null,0.505,null,1,null,null,null,1,null,0,0.33333333333333326,null,null,null,{"$f":"1+AE5+AF5","v":1},null,0.16833333333333331,null,{"$f":"L5*R5*AI5","v":0},null,null,{"$f":"IF(ISNUMBER(SEARCH(AN$3,$D5)),1,\"\")","v":""},"","",1,1,"","","","","","","","","","","",null,{"$f":"IF(ISNUMBER(SEARCH(BE$3,$G5)),1,\"\")","v":1},"","","","","","","","","",1,"","","","",""]
[3,"Merging","WBT,NBL","CrossT2,RampL1","Signal far","SBR","RampR2","Signal near",null,0,0,0,null,25,15,45,8.9396576292116645,9.432995959267502E-4,null,0.505,null,null,null,1,null,1,null,0,0.33333333333333326,null,null,null,1,null,0.16833333333333331,null,0,null,null,"","","",1,"","","",1,"","","","","","","","",null,"","","","","","","","","","","",1,"","","",""]
[4,"Merging","EBR","CrossR1","Cross right","WBL","CrossL2","Cross left",null,0,0,0,null,15,20,45,7.0840654162717795,3.9022923271840685E-4,null,0.505,null,null,null,1,null,1,null,0,0.33333333333333326,null,null,null,1,null,0.16833333333333331,null,0,null,null,"","",1,"","","","","","","","","","","","","",null,"","","","",1,"","","","","","","","","","",""]
[5,"Merging","WBT,WBL","CrossT2,CrossL2","Cross thru","NBL","RampL1","Signal near",null,0,0,0,null,0,15,45,7.5,4.8454301532720542E-4,null,0.505,null,null,null,1,null,1,null,0,0.33333333333333326,null,null,null,1,null,0.16833333333333331,null,0,null,null,"","","",1,1,"","","","","","","","","","","",null,"","","","","","","",1,"","","","","","","",""]
[6,"Merging","EBT,SBL","CrossT1,RampL2","Signal far","NBR","RampR1","Signal near",null,0,0,0,null,25,15,45,8.9396576292116645,9.432995959267502E-4,null,0.505,null,null,null,1,null,1,null,0,0.33333333333333326,null,null,null,1,null,0.16833333333333331,null,0,null,null,1,"","","","","","","","","",1,"","","","","",null,"","","","","","","","",1,"","","","","","",""]
[7,"Merging","WBR","CrossR2","Cross right","EBL","CrossL1","Cross left",null,0,0,0,null,15,20,45,7.0840654162717795,3.9022923271840685E-4,null,0.505,null,null,null,1,null,1,null,0,0.33333333333333326,null,null,null,1,null,0.16833333333333331,null,0,null,null,"","","","","",1,"","","","","","","","","","",null,"",1,"","","","","","","","","","","","","",""]
[8,"Merging","EBT,EBL","CrossT1,CrossL1","Cross thru","SBL","RampL1","Signal near",null,0,0,0,null,0,15,45,7.5,4.8454301532720542E-4,null,0.505,null,null,null,1,null,1,null,0,0.33333333333333326,null,null,null,1,null,0.16833333333333331,null,0,null,null,1,1,"","","","","","","","","","","","","","",null,"","","","","","","",1,"","","","","","","",""]
[9,"Diverging","SBR","RampR2","Signal near","SBL","RampL1","Signal near",null,0,0,0,null,15,15,10,1.3073361412148754,6.4061388075216188E-7,null,{"$f":"SSI_RTI_PermFactor","v":1},null,null,null,null,null,1,null,"",1,null,null,null,1,null,1,null,0,null,null,"","","","","","","","","","","",1,"","","","",null,"","","","","","","",1,"","","","","","","",""]
[10,"Diverging","EBT,EBL","CrossT1,CrossL1","Cross thru","EBR","CrossR1","Cross right",null,0,0,0,null,0,15,10,7.5,4.8454301532720542E-4,null,1,null,null,null,null,null,1,null,"",1,null,null,null,1,null,1,null,0,null,null,1,1,"","","","","","","","","","","","","","",null,"","",1,"","","","","","","","","","","","",""]
[11,"Diverging","WBT","CrossT2","Cross thru","WBL","CrossL2","Cross left",null,0,0,0,null,0,20,10,10,1.4431392232699444E-3,null,1,null,null,null,null,null,1,null,"",1,null,null,null,1,null,1,null,0,null,null,"","","",1,"","","","","","","","","","","","",null,"","","","",1,"","","","","","","","","","",""]
[12,"Diverging","NBR","RampR1","Signal near","NBL","RampL1","Signal near",null,0,0,0,null,15,15,10,1.3073361412148754,6.4061388075216188E-7,null,1,null,null,null,null,null,1,null,"",1,null,null,null,1,null,1,null,0,null,null,"","","","","","","","",1,"","","","","","","",null,"","","","","","","",1,"","","","","","","",""]
[13,"Diverging","WBT,WBL","CrossT2,CrossL2","Cross thru","WBR","CrossR2","Cross right",null,0,0,0,null,0,15,10,7.5,4.8454301532720542E-4,null,1,null,null,null,null,null,1,null,"",1,null,null,null,1,null,1,null,0,null,null,"","","",1,1,"","","","","","","","","","","",null,"","","","","",1,"","","","","","","","","",""]
[14,"Diverging","EBT","CrossT1","Cross thru","EBL","CrossL1","Cross left",null,0,0,0,null,0,20,10,10,1.4431392232699444E-3,null,1,null,null,null,null,null,1,null,"",1,null,null,null,1,null,1,null,0,null,null,1,"","","","","","","","","","","","","","","",null,"",1,"","","","","","","","","","","","","",""]
[15,"Nonmotorized",null,"CrossNM1","Nonmotorized","EBT,EBL","CrossT1,CrossL1","Cross thru",null,175,0,0,null,0,0,"","",2.0975532400616122E-2,null,{"$f":"SSI_RTI_ProtFactor","v":0.505},null,1,null,null,null,1,null,0,0.33333333333333326,null,1,1,3,null,0.50499999999999989,null,0,null,null,"","","","","","","","","","","","",1,"","","",null,1,1,"","","","","","","","","","","","","",""]
[16,"Nonmotorized",null,"RampNM2","Nonmotorized","SBR","RampR2","Signal near",null,175,0,0,null,0,15,"","",0.1205004039155782,null,0.505,null,null,1,null,null,1,null,{"$f":"IF(B19=\"Diverging\",\"\",SSI_RTI_VehSpeed_SignalNear)","v":15},0.49999999999999989,null,1,1,3,null,0.75749999999999984,null,0,null,null,"","","","","","","","","","","","","","","",1,null,"","","","","","","","","","","",1,"","","",""]
[17,"Nonmotorized",null,"RampNM1","Nonmotorized","EBR","CrossR2","Cross right",null,175,0,0,null,0,15,"","",0.1205004039155782,null,{"$f":"SSI_RTI_PermFactor","v":1},null,1,null,null,null,1,null,0,0.33333333333333326,null,1,1,3,null,0.99999999999999978,null,0,null,null,"","","","","","","","","","","","","","",1,"",null,"","","","","",1,"","","","","","","","","",""]
[18,"Nonmotorized",null,"CrossNM1","Nonmotorized","WBT,NBL","CrossT2,RampL1","Cross thru",null,175,0,0,null,0,0,"","",2.0975532400616122E-2,null,0.505,null,1,null,null,null,1,null,0,0.33333333333333326,null,1,1,3,null,0.50499999999999989,null,0,null,null,"","","","","","","","","","","","",1,"","","",null,"","","",1,"","","",1,"","","","","","",{"$f":"IF(ISNUMBER(SEARCH(BS$3,$G21)),1,\"\")","v":""},{"$f":"IF(ISNUMBER(SEARCH(BT$3,$G21)),1,\"\")","v":""}]
[19,"Nonmotorized",null,"CrossNM2","Nonmotorized","WBT,WBL","CrossT2,CrossL2","Cross thru",null,175,0,0,null,0,0,"","",2.0975532400616122E-2,null,0.505,null,1,null,null,null,1,null,0,0.33333333333333326,null,1,1,3,null,0.50499999999999989,null,0,null,null,"","","","","","","","","","","","","",1,"","",null,{"$f":"IF(ISNUMBER(SEARCH(BE$3,$G22)),1,\"\")","v":""},"","",1,1,"","","","","","","","","","",""]
[20,"Nonmotorized",null,"RampNM1","Nonmotorized","NBR","RampR1","Signal near",null,175,0,0,null,0,15,"","",0.1205004039155782,null,0.505,null,null,1,null,null,1,null,{"$f":"IF(B23=\"Diverging\",\"\",SSI_RTI_VehSpeed_SignalNear)","v":15},0.49999999999999989,null,1,1,3,null,0.75749999999999984,null,0,null,null,"","","","","","","","","","","","",{"$f":"IF(ISNUMBER(SEARCH(AZ$3,$D23)),1,\"\")","v":""},{"$f":"IF(ISNUMBER(SEARCH(BA$3,$D23)),1,\"\")","v":""},{"$f":"IF(ISNUMBER(SEARCH(BB$3,$D23)),1,\"\")","v":1},{"$f":"IF(ISNUMBER(SEARCH(BC$3,$D23)),1,\"\")","v":""},null,"","","","","","","","",1,"","","","","","",""]
[21,"Nonmotorized",null,"RampNM2","Nonmotorized","WBR","CrossR2","Cross right",null,175,0,0,null,0,15,"","",0.1205004039155782,null,{"$f":"SSI_RTI_PermFactor","v":1},null,1,null,null,null,1,null,0,0.33333333333333326,null,1,1,3,null,0.99999999999999978,null,0,null,null,{"$f":"IF(ISNUMBER(SEARCH(AN$3,$D24)),1,\"\")","v":""},"","","","","","","","","","","","","","",1,null,"","","","","",1,"","","","","","","","","",""]
[22,"Nonmotorized",null,"CrossNM2","Nonmotorized","EBT,SBL","CrossT1,RampL2","Cross thru",null,175,0,0,null,0,0,"","",2.0975532400616122E-2,null,0.505,null,1,null,null,null,1,null,0,0.33333333333333326,null,1,1,3,null,0.50499999999999989,null,{"$f":"L25*R25*AI25","v":0},null,null,"","","","","","","","","","","","","",1,"","",null,1,"","","","","","","","","",1,"","","","",""]
[null,null,null,null,null,null,null,null,null,null,null,null,null,null,null,null,null,null,null,null,null,null,null,null,null,null,null,null,null,null,null,null,null,null,null,null,null,null,"O",{"$f":"'SSI Inputs RTI'!$D$28","v":""},{"$f":"'SSI Inputs RTI'!$D$29","v":""},{"$f":"'SSI Inputs RTI'!$D$30","v":""},{"$f":"'SSI Inputs RTI'!$D$32","v":""},{"$f":"'SSI Inputs RTI'!$D$33","v":""},{"$f":"'SSI Inputs RTI'!$D$34","v":""},{"$f":"'SSI Inputs RTI'!$D$36","v":""},{"$f":"'SSI Inputs RTI'!$D$37","v":""},{"$f":"'SSI Inputs RTI'!$D$38","v":""},{"$f":"'SSI Inputs RTI'!$D$40","v":""},{"$f":"'SSI Inputs RTI'!$D$41","v":""},{"$f":"'SSI Inputs RTI'!$D$42","v":""},{"$f":"'SSI Inputs RTI'!$Q$20","v":175},{"$f":"'SSI Inputs RTI'!$Q$21","v":175},{"$f":"'SSI Inputs RTI'!$Q$22","v":175},{"$f":"'SSI Inputs RTI'!$Q$23","v":175},"O",{"$f":"'SSI Inputs RTI'!$D$28","v":""},{"$f":"'SSI Inputs RTI'!$D$29","v":""},{"$f":"'SSI Inputs RTI'!$D$30","v":""},{"$f":"'SSI Inputs RTI'!$D$32","v":""},{"$f":"'SSI Inputs RTI'!$D$33","v":""},{"$f":"'SSI Inputs RTI'!$D$34","v":""},{"$f":"'SSI Inputs RTI'!$D$36","v":""},{"$f":"'SSI Inputs RTI'!$D$37","v":""},{"$f":"'SSI Inputs RTI'!$D$38","v":""},{"$f":"'SSI Inputs RTI'!$D$40","v":""},{"$f":"'SSI Inputs RTI'!$D$41","v":""},{"$f":"'SSI Inputs RTI'!$D$42","v":""},{"$f":"'SSI Inputs RTI'!$Q$20","v":175},{"$f":"'SSI Inputs RTI'!$Q$21","v":175},{"$f":"'SSI Inputs RTI'!$Q$22","v":175},{"$f":"'SSI Inputs RTI'!$Q$23","v":175}]
[null,null,null,null,null,null,null,null,null,null,null,null,null,null,null,null,null,null,null,null,null,null,null,null,null,null,null,null,null,null,null,null,null,null,null,null,null,null,"D",{"$f":"'SSI Inputs RTI'!$E$28","v":""},{"$f":"'SSI Inputs RTI'!$E$29","v":""},{"$f":"'SSI Inputs RTI'!$E$30","v":""},{"$f":"'SSI Inputs RTI'!$E$32","v":""},{"$f":"'SSI Inputs RTI'!$E$33","v":""},{"$f":"'SSI Inputs RTI'!$E$34","v":""},{"$f":"'SSI Inputs RTI'!$E$36","v":""},{"$f":"'SSI Inputs RTI'!$E$37","v":""},{"$f":"'SSI Inputs RTI'!$E$38","v":""},{"$f":"'SSI Inputs RTI'!$E$40","v":""},{"$f":"'SSI Inputs RTI'!$E$41","v":""},{"$f":"'SSI Inputs RTI'!$E$42","v":""},{"$f":"'SSI Inputs RTI'!$R$20","v":175},{"$f":"'SSI Inputs RTI'!$R$21","v":175},{"$f":"'SSI Inputs RTI'!$R$22","v":175},{"$f":"'SSI Inputs RTI'!$R$23","v":175},"D",{"$f":"'SSI Inputs RTI'!$E$28","v":""},{"$f":"'SSI Inputs RTI'!$E$29","v":""},{"$f":"'SSI Inputs RTI'!$E$30","v":""},{"$f":"'SSI Inputs RTI'!$E$32","v":""},{"$f":"'SSI Inputs RTI'!$E$33","v":""},{"$f":"'SSI Inputs RTI'!$E$34","v":""},{"$f":"'SSI Inputs RTI'!$E$36","v":""},{"$f":"'SSI Inputs RTI'!$E$37","v":""},{"$f":"'SSI Inputs RTI'!$E$38","v":""},{"$f":"'SSI Inputs RTI'!$E$40","v":""},{"$f":"'SSI Inputs RTI'!$E$41","v":""},{"$f":"'SSI Inputs RTI'!$E$42","v":""},{"$f":"'SSI Inputs RTI'!$R$20","v":175},{"$f":"'SSI Inputs RTI'!$R$21","v":175},{"$f":"'SSI Inputs RTI'!$R$22","v":175},{"$f":"'SSI Inputs RTI'!$R$23","v":175}]
[]
[]
[]
[]
[]
[]
[]
[]
[]
[]
[]
[]
[]
[]
[]
[]
[]
[]
[]
[]
[]
[]
[]
[]
[]
[]
[]
[]
[]
[]
[]
[]
[]
[]
[]
[]
[]
[]
[]
[]
[]
[]
[]
[]
[]
[]
[]
[]
[]
[]
[]
[]
[]
[]
[]
[]
[]
[]
[]
[]
[]
[]
[]
[]
[]
[]
[]
[]
[]
[]
[]
[]
[]
[null,null,null,null,null,null,null,null,null,"Exposure",null,null,null,null,null,null,null,null,null,null,null,null,null,null,null,null,null,null,null,null,null,null,null,null,null,null,"Exposure-Severity-Complexity Product"]
[null,null,null,null,null,null,null,null,null,"Q1","Q2","I"]
[null,null,null,null,null,null,null,null,null,{"$f":"SUMPRODUCT($AN4:$BC4,$AN$27:$BC$27)","v":0},{"$f":"SUMPRODUCT($BE4:$BT4,$BE$27:$BT$27)","v":0},{"$f":"PRODUCT(J103:K103)","v":0},null,null,null,null,null,null,null,null,null,null,null,null,null,null,null,null,null,null,null,null,null,null,null,null,{"$f":"L103*R4*AI4","v":0}]
[null,null,null,null,null,null,null,null,null,{"$f":"SUMPRODUCT($AN5:$BC5,$AN$27:$BC$27)","v":0},{"$f":"SUMPRODUCT($BE5:$BT5,$BE$27:$BT$27)","v":0},{"$f":"PRODUCT(J104:K104)","v":0},null,null,null,null,null,null,null,null,null,null,null,null,null,null,null,null,null,null,null,null,null,null,null,null,{"$f":"L104*R5*AI5","v":0}]
[null,null,null,null,null,null,null,null,null,0,0,0,null,null,null,null,null,null,null,null,null,null,null,null,null,null,null,null,null,null,null,null,null,null,null,null,0]
[null,null,null,null,null,null,null,null,null,0,0,0,null,null,null,null,null,null,null,null,null,null,null,null,null,null,null,null,null,null,null,null,null,null,null,null,0]
[null,null,null,null,null,null,null,null,null,0,0,0,null,null,null,null,null,null,null,null,null,null,null,null,null,null,null,null,null,null,null,null,null,null,null,null,0]
[null,null,null,null,null,null,null,null,null,0,0,0,null,null,null,null,null,null,null,null,null,null,null,null,null,null,null,null,null,null,null,null,null,null,null,null,0]
[null,null,null,null,null,null,null,null,null,0,0,0,null,null,null,null,null,null,null,null,null,null,null,null,null,null,null,null,null,null,null,null,null,null,null,null,0]
[null,null,null,null,null,null,null,null,null,0,0,0,null,null,null,null,null,null,null,null,null,null,null,null,null,null,null,null,null,null,null,null,null,null,null,null,0]
[null,null,null,null,null,null,null,null,null,0,0,0,null,null,null,null,null,null,null,null,null,null,null,null,null,null,null,null,null,null,null,null,null,null,null,null,0]
[null,null,null,null,null,null,null,null,null,0,0,0,null,null,null,null,null,null,null,null,null,null,null,null,null,null,null,null,null,null,null,null,null,null,null,null,0]
[null,null,null,null,null,null,null,null,null,0,0,0,null,null,null,null,null,null,null,null,null,null,null,null,null,null,null,null,null,null,null,null,null,null,null,null,0]
[null,null,null,null,null,null,null,null,null,0,0,0,null,null,null,null,null,null,null,null,null,null,null,null,null,null,null,null,null,null,null,null,null,null,null,null,0]
[null,null,null,null,null,null,null,null,null,0,0,0,null,null,null,null,null,null,null,null,null,null,null,null,null,null,null,null,null,null,null,null,null,null,null,null,0]
[null,null,null,null,null,null,null,null,null,0,0,0,null,null,null,null,null,null,null,null,null,null,null,null,null,null,null,null,null,null,null,null,null,null,null,null,0]
[null,null,null,null,null,null,null,null,null,175,0,0,null,null,null,null,null,null,null,null,null,null,null,null,null,null,null,null,null,null,null,null,null,null,null,null,0]
[null,null,null,null,null,null,null,null,null,175,0,0,null,null,null,null,null,null,null,null,null,null,null,null,null,null,null,null,null,null,null,null,null,null,null,null,0]
[null,null,null,null,null,null,null,null,null,175,0,0,null,null,null,null,null,null,null,null,null,null,null,null,null,null,null,null,null,null,null,null,null,null,null,null,0]
[null,null,null,null,null,null,null,null,null,175,0,0,null,null,null,null,null,null,null,null,null,null,null,null,null,null,null,null,null,null,null,null,null,null,null,null,0]
[null,null,null,null,null,null,null,null,null,175,0,0,null,null,null,null,null,null,null,null,null,null,null,null,null,null,null,null,null,null,null,null,null,null,null,null,0]
[null,null,null,null,null,null,null,null,null,175,0,0,null,null,null,null,null,null,null,null,null,null,null,null,null,null,null,null,null,null,null,null,null,null,null,null,0]
[null,null,null,null,null,null,null,null,null,175,0,0,null,null,null,null,null,null,null,null,null,null,null,null,null,null,null,null,null,null,null,null,null,null,null,null,0]
[null,null,null,null,null,null,null,null,null,175,0,0,null,null,null,null,null,null,null,null,null,null,null,null,null,null,null,null,null,null,null,null,null,null,null,null,0]

{"sheet":"2_Quad_ParcloA","index":13,"n_rows":134,"n_cols":95,"rows_kept":134,"cut":false,"hidden":true,"merged":[[0,19,0,28],[0,30,0,32],[1,9,1,11],[1,13,1,17],[1,21,1,25],[1,27,1,28],[1,30,2,30],[1,31,2,31],[1,32,2,32],[1,86,1,89],[1,91,1,94],[100,9,100,11],[100,36,101,36],[1,34,2,34],[1,36,2,36],[1,39,1,52],[1,56,1,69],[1,76,1,79],[1,81,1,84]]}
[null,null,null,null,null,null,null,null,null,null,null,null,null,null,null,null,null,null,null,"Conflicting Traffic Complexity",null,null,null,null,null,null,null,null,null,null,"Pedestrian Complexity",null,null,null,null,null,null,null,null,null,null,null,null,null,null,null,null,null,null,null,null,null,null,null,null,null,null,null,null,null,null,null,null,null,null,null,null,null,null,null,null,null,null,null,"*impact of median on complexity factors"]
[null,null,null,null,null,null,null,null,null,"Exposure",null,null,null,"Severity",null,null,null,null,null,"Traffic Control",null,"Conflicting Lanes",null,null,null,null,null,"Conflicting Speed",null,null,"Indirect Paths Indicator","Non-intuitive movements indicator","Pedestrian Complexity factor",null,"Total Complexity Multiplier",null,"Exposure-Severity-Complexity Product",null,null,"Included in Mvmt1",null,null,null,null,null,null,null,null,null,null,null,null,null,null,null,null,"Included in Mvmt2",null,null,null,null,null,null,null,null,null,null,null,null,null,null,null,null,null,null,null,"Cross-street: No, Ramps: No",null,null,null,null,"Cross-street: Yes, Ramps: No",null,null,null,null,"Cross-street: No, Ramps: Yes",null,null,null,null,"Cross-street: Yes, Ramps: Yes"]
["#","Conflict Type","Mvmt1","Mvmt1_gen","Mvmt1_SpeedCat","Mvmt2","Mvmt2_gen","Mvmt2_SpeedCat",null,"Q1","Q2","I",null,"Speed_V1","Speed_V2","Angle","delta_V","P_FSI",null,null,null,"CrossC","RampC","CrossM/P","RampM/P","Score",null,"Speed","Factor",null,null,null,null,null,null,null,null,null,null,"CrossT1","CrossL1","CrossR1","CrossT2","CrossL2","CrossR2","RampT1","RampL1","RampR1","RampT2","RampL2","RampR2","CrossNM1","CrossNM2","RampNM1","RampNM2",null,"CrossT1","CrossL1","CrossR1","CrossT2","CrossL2","CrossR2","RampT1","RampL1","RampR1","RampT2","RampL2","RampR2","CrossNM1","CrossNM2","RampNM1","RampNM2",null,null,"#","Conflict Type","MajC","MinC","MajM/P","MinM/P",null,"MajC","MinC","MajM/P","MinM/P",null,"MajC","MinC","MajM/P","MinM/P",null,"MajC","MinC","MajM/P","MinM/P"]
[1,"Crossing - LT","WBL","CrossL2","Cross left","SBR","RampR2","Signal near",null,{"$f":"SUMPRODUCT($AN4:$BC4,$AN$36:$BC$36)","v":0},{"$f":"SUMPRODUCT($BE4:$BT4,$BE$36:$BT$36)","v":0},{"$f":"PRODUCT(J4:K4)","v":0},null,{"$f":"VLOOKUP(E4,SSI_RTI_Range_VehSpeed,5,FALSE)","v":20},{"$f":"VLOOKUP(H4,SSI_RTI_Range_VehSpeed,5,FALSE)","v":15},{"$f":"IF(B4=\"Nonmotorized\",\"\",VLOOKUP(B4,SSI_RTI_Range_CollAngles,5,FALSE))","v":230},{"$f":"IF(B4=\"Nonmotorized\",\"\",SQRT(N4^2+O4^2-2*N4*O4*COS(RADIANS(P4)))/2)","v":15.895538413434787},{"$f":"IF(B4=\"Nonmotorized\",1/(1+EXP(3.8432-0.1237*O4)),(Q4/SSI_RTI_RegAlpha)^SSI_RTI_RegK+(Q4/SSI_RTI_RegAlpha)^SSI_RTI_RegK-((Q4/SSI_RTI_RegAlpha)^SSI_RTI_RegK)*((Q4/SSI_RTI_RegAlpha)^SSI_RTI_RegK))","v":8.3616736100371632E-3},null,{"$f":"SSI_RTI_ProtFactor","v":0.505},null,{"$f":"IF(AND(SSI_RTI_CrossStMedian=\"No\", SSI_RTI_RampMedian=\"No\"),BY4,IF(AND(SSI_RTI_CrossStMedian=\"Yes\",SSI_RTI_RampMedian=\"No\"),CD4,IF(AND(SSI_RTI_CrossStMedian=\"No\",SSI_RTI_RampMedian=\"Yes\"),CI4,IF(AND(SSI_RTI_CrossStMedian=\"Yes\",SSI_RTI_RampMedian=\"Yes\"),CN4))))","v":false},{"$f":"IF(AND(SSI_RTI_CrossStMedian=\"No\", SSI_RTI_RampMedian=\"No\"),BZ4,IF(AND(SSI_RTI_CrossStMedian=\"Yes\",SSI_RTI_RampMedian=\"No\"),CE4,IF(AND(SSI_RTI_CrossStMedian=\"No\",SSI_RTI_RampMedian=\"Yes\"),CJ4,IF(AND(SSI_RTI_CrossStMedian=\"Yes\",SSI_RTI_RampMedian=\"Yes\"),CO4))))","v":false},{"$f":"IF(AND(SSI_RTI_CrossStMedian=\"No\", SSI_RTI_RampMedian=\"No\"),CA4,IF(AND(SSI_RTI_CrossStMedian=\"Yes\",SSI_RTI_RampMedian=\"No\"),CF4,IF(AND(SSI_RTI_CrossStMedian=\"No\",SSI_RTI_RampMedian=\"Yes\"),CK4,IF(AND(SSI_RTI_CrossStMedian=\"Yes\",SSI_RTI_RampMedian=\"Yes\"),CP4))))","v":false},{"$f":"IF(AND(SSI_RTI_CrossStMedian=\"No\", SSI_RTI_RampMedian=\"No\"),CB4,IF(AND(SSI_RTI_CrossStMedian=\"Yes\",SSI_RTI_RampMedian=\"No\"),CG4,IF(AND(SSI_RTI_CrossStMedian=\"No\",SSI_RTI_RampMedian=\"Yes\"),CL4,IF(AND(SSI_RTI_CrossStMedian=\"Yes\",SSI_RTI_RampMedian=\"Yes\"),CQ4))))","v":false},{"$f":"MAX(1,IF(B4<>\"Pedestrian\",V4*SSI_RTI_CrossThruLanes+W4*SSI_RTI_Ramp1ThruLanes+X4*IF(SSI_RTI_CrossThruLanes=1,SSI_RTI_MergeWeightL1,IF(SSI_RTI_CrossThruLanes=2,SSI_RTI_MergeWeightL1+SSI_RTI_MergeWeightL2,SSI_RTI_MergeWeightL1+SSI_RTI_MergeWeightL2+SSI_RTI_MergeWeightL3*(SSI_RTI_CrossThruLanes-2)))+Y4*IF(SSI_RTI_Ramp1ThruLanes=1,SSI_RTI_MergeWeightL1,IF(SSI_RTI_Ramp1ThruLanes=2,SSI_RTI_MergeWeightL1+SSI_RTI_MergeWeightL2,SSI_RTI_MergeWeightL1+SSI_RTI_MergeWeightL2+SSI_RTI_MergeWeightL3*(SSI_RTI_Ramp1ThruLanes-2))),V4*SSI_RTI_CrossThruLanes+W4*SSI_RTI_Ramp1ThruLanes+X4*IF(SSI_RTI_CrossThruLanes=1,SSI_RTI_NM_MergeWeightL1,IF(SSI_RTI_CrossThruLanes=2,SSI_RTI_NM_MergeWeightL1+SSI_RTI_NM_MergeWeightL2,SSI_RTI_NM_MergeWeightL1+SSI_RTI_NM_MergeWeightL2+SSI_RTI_NM_MergeWeightL3*(SSI_RTI_CrossThruLanes-2)))+Y4*IF(SSI_RTI_Ramp1ThruLanes=1,SSI_RTI_NM_MergeWeightL1,IF(SSI_RTI_Ramp1ThruLanes=2,SSI_RTI_NM_MergeWeightL1+SSI_RTI_NM_MergeWeightL2,SSI_RTI_NM_MergeWeightL1+SSI_RTI_NM_MergeWeightL2+SSI_RTI_NM_MergeWeightL3*(SSI_RTI_Ramp1ThruLanes-2)))))","v":1},null,{"$f":"IF(B4=\"Diverging\",\"\",SSI_RTI_VehSpeed_CrossThru)","v":0},{"$f":"IF(B4=\"Diverging\",1,1-((60-AB4)/60*0.1/0.15))","v":0.33333333333333326},null,null,null,{"$f":"1+AE4+AF4","v":1},null,{"$f":"PRODUCT(Z4,T4,AC4,AG4)","v":0.16833333333333331},null,{"$f":"L4*R4*AI4","v":0},null,null,{"$f":"IF(ISNUMBER(SEARCH(AN$3,$D4)),1,\"\")","v":""},{"$f":"IF(ISNUMBER(SEARCH(AO$3,$D4)),1,\"\")","v":""},"","",1,"","","","","","","","","","","",null,{"$f":"IF(ISNUMBER(SEARCH(BE$3,$G4)),1,\"\")","v":""},{"$f":"IF(ISNUMBER(SEARCH(BF$3,$G4)),1,\"\")","v":""},"","","","","","","","","",1,"","","","",null,null,1,"Crossing - LT",1,null,1,null,null,1,null,null,null,null,1,null,1,null,null,1]
[2,"Crossing - LT","WBL","CrossL2","Cross left","EBT,EBL","CrossT1,CrossL1","Cross thru",null,{"$f":"SUMPRODUCT($AN5:$BC5,$AN$36:$BC$36)","v":0},{"$f":"SUMPRODUCT($BE5:$BT5,$BE$36:$BT$36)","v":0},{"$f":"PRODUCT(J5:K5)","v":0},null,20,0,230,{"$f":"IF(B5=\"Nonmotorized\",\"\",SQRT(N5^2+O5^2-2*N5*O5*COS(RADIANS(P5)))/2)","v":10},1.4431392232699444E-3,null,{"$f":"IF(SSI_RTI_CrossLTPhase=\"Protected/permitted\",SSI_RTI_ProtPermFactor,IF(SSI_RTI_CrossLTPhase=\"Protected\",SSI_RTI_ProtFactor,SSI_RTI_PermFactor))","v":0.505},null,false,false,false,false,1,null,0,0.33333333333333326,null,null,null,{"$f":"1+AE5+AF5","v":1},null,0.16833333333333331,null,{"$f":"L5*R5*AI5","v":0},null,null,{"$f":"IF(ISNUMBER(SEARCH(AN$3,$D5)),1,\"\")","v":""},"","","",1,"","","","","","","","","","","",null,{"$f":"IF(ISNUMBER(SEARCH(BE$3,$G5)),1,\"\")","v":1},1,"","","","","","","","","","","","","","",null,null,2,"Crossing - LT",1,null,1,null,null,1,null,1,null,null,1,null,null,null,null,1]
[3,"Crossing - LT","SBR","RampR2","Signal near","EBT,EBL","CrossT1,CrossL1","Cross thru",null,0,0,0,null,15,0,230,7.5,4.8454301532720542E-4,null,{"$f":"SSI_RTI_ProtFactor","v":0.505},null,false,false,false,false,1,null,0,0.33333333333333326,null,null,null,1,null,0.16833333333333331,null,0,null,null,"","","","","","","","","","","",1,"","","","",null,1,1,"","","","","","","","","","","","","","",null,null,3,"Crossing - LT",1,null,1,null,null,1,null,null,null,null,1,null,1,null,null,1]
[4,"Crossing - LT","EBL","CrossL1","Cross left","NBR","RampR1","Signal near",null,0,0,0,null,20,15,230,15.895538413434787,8.3616736100371632E-3,null,0.505,null,false,false,false,false,1,null,0,0.33333333333333326,null,null,null,1,null,0.16833333333333331,null,0,null,null,"",1,"","","","","","","","","","","","","","",null,"","","","","","","","",1,"","","","","","","",null,null,4,"Crossing - LT",1,null,1,null,null,1,null,null,null,null,1,null,1,null,null,1]
[5,"Crossing - LT","EBL","CrossL1","Cross left","WBT,WBL","CrossT2,CrossL2","Cross thru",null,0,0,0,null,20,0,230,10,1.4431392232699444E-3,null,{"$f":"IF(SSI_RTI_CrossLTPhase=\"Protected/permitted\",SSI_RTI_ProtPermFactor,IF(SSI_RTI_CrossLTPhase=\"Protected\",SSI_RTI_ProtFactor,SSI_RTI_PermFactor))","v":0.505},null,false,false,false,false,1,null,0,0.33333333333333326,null,null,null,1,null,0.16833333333333331,null,0,null,null,"",1,"","","","","","","","","","","","","","",null,"","","",1,1,"","","","","","","","","","","",null,null,5,"Crossing - LT",1,null,1,null,null,1,null,1,null,null,1,null,null,null,null,1]
[6,"Crossing - LT","NBR","RampR1","Signal near","WBT,WBL","CrossT2,CrossL2","Cross thru",null,0,0,0,null,15,0,230,7.5,4.8454301532720542E-4,null,{"$f":"SSI_RTI_ProtFactor","v":0.505},null,false,false,false,false,1,null,0,0.33333333333333326,null,null,null,1,null,0.16833333333333331,null,0,null,null,"","","","","","","","",1,"","","","","","","",null,"","","",1,1,"","","","","","","","","","","",null,null,6,"Crossing - LT",1,null,1,null,null,1,null,null,null,null,1,null,1,null,null,1]
[7,"Merging","SBR","RampR2","Signal far","WBT,NBL","CrossT2,RampL1","Cross thru",null,0,0,0,null,25,0,45,12.5,3.3637551692797651E-3,null,0.505,null,false,false,false,false,1,null,0,0.33333333333333326,null,null,null,1,null,0.16833333333333331,null,0,null,null,"","","","","","","","","","","",1,"","","","",null,"","","",1,"","","",1,"","","","","","","","",null,null,7,"Merging",1,null,1,null,null,null,null,1,null,null,1,null,1,null,null,null,null,1]
[8,"Merging","WBL","CrossL2","Cross left","EBR","CrossR1","Cross right",null,0,0,0,null,20,15,45,7.0840654162717795,3.9022923271840685E-4,null,{"$f":"SSI_RTI_PermFactor","v":1},null,false,false,false,false,1,null,0,0.33333333333333326,null,null,null,1,null,0.33333333333333326,null,0,null,null,"","","","",1,"","","","","","","","","","","",null,"","",1,"","","","","","","","","","","","","",null,null,8,"Merging",null,null,1,null,null,null,null,1,null,null,null,null,1,null,null,null,null,1]
[9,"Merging","SBL","RampL2","Ramp right","EBT,EBL","CrossT1,CrossL1","Cross thru",null,0,0,0,null,15,0,45,7.5,4.8454301532720542E-4,null,1,null,false,false,false,false,1,null,0,0.33333333333333326,null,null,null,1,null,0.33333333333333326,null,0,null,null,"","","","","","","","","","",1,"","","","","",null,1,1,"","","","","","","","","","","","","","",null,null,9,"Merging",null,null,1,null,null,null,null,1,null,null,null,null,1,null,null,null,null,1]
[10,"Merging","NBR","RampR1","Signal far","EBT,SBL","CrossT1,RampL2","Cross thru",null,0,0,0,null,25,0,45,12.5,3.3637551692797651E-3,null,{"$f":"SSI_RTI_ProtFactor","v":0.505},null,false,false,false,false,1,null,0,0.33333333333333326,null,null,null,1,null,0.16833333333333331,null,0,null,null,"","","","","","","","",1,"","","","","","","",null,1,"","","","","","","","","",1,"","","","","",null,null,10,"Merging",1,null,1,null,null,null,null,1,null,null,1,null,1,null,null,null,null,1]
[11,"Merging","EBL","CrossL1","Cross left","WBR","CrossR2","Cross right",null,0,0,0,null,20,15,45,7.0840654162717795,3.9022923271840685E-4,null,1,null,false,false,false,false,1,null,0,0.33333333333333326,null,null,null,1,null,0.33333333333333326,null,0,null,null,"",1,"","","","","","","","","","","","","","",null,"","","","","",1,"","","","","","","","","","",null,null,11,"Merging",null,null,1,null,null,null,null,1,null,null,null,null,1,null,null,null,null,1]
[12,"Merging","NBL","RampL1","Ramp right","WBT,WBL","CrossT2,CrossL2","Cross thru",null,0,0,0,null,15,0,45,7.5,4.8454301532720542E-4,null,1,null,false,false,false,false,1,null,0,0.33333333333333326,null,null,null,1,null,0.33333333333333326,null,0,null,null,"","","","","","","",1,"","","","","","","","",null,"","","",1,1,"","","","","","","","","","","",null,null,12,"Merging",null,null,1,null,null,null,null,1,null,null,null,null,1,null,null,null,null,1]
[13,"Diverging","EBT,EBL","CrossT1,CrossL1","Cross thru","EBR","CrossR1","Cross right",null,0,0,0,null,0,15,10,7.5,4.8454301532720542E-4,null,1,null,false,false,false,false,1,null,{"$f":"IF(B16=\"Diverging\",\"\",SSI_RTI_VehSpeed_RampThru)","v":""},1,null,null,null,1,null,1,null,0,null,null,1,1,"","","","","","","","","","","","","","",null,"","",1,"","","","","","","","","","","","","",null,null,13,"Diverging"]
[14,"Diverging","SBL","RampL2","Ramp right","SBR","RampR2","Signal near",null,0,0,0,null,15,15,10,1.3073361412148754,6.4061388075216188E-7,null,1,null,false,false,false,false,1,null,"",1,null,null,null,1,null,1,null,0,null,null,"","","","","","","","","","",1,"","","","","",null,"","","","","","","","","","","",1,"","","","",null,null,14,"Diverging"]
[15,"Diverging","WBT,NBL","CrossT2,RampL1","Cross thru","WBL","CrossL2","Cross left",null,0,0,0,null,0,20,10,10,1.4431392232699444E-3,null,1,null,false,false,false,false,1,null,"",1,null,null,null,1,null,1,null,0,null,null,"","","",1,"","","",1,"","","","","","","","",null,"","","","",1,"","","","","","","","","","","",null,null,15,"Diverging"]
[16,"Diverging","WBT,WBL","CrossT2,CrossL2","Cross thru","WBR","CrossR2","Cross right",null,0,0,0,null,0,15,10,7.5,4.8454301532720542E-4,null,1,null,false,false,false,false,1,null,"",1,null,null,null,1,null,1,null,0,null,null,"","","",1,1,"","","","","","","","","","","",null,"","","","","",1,"","","","","","","","","","",null,null,16,"Diverging"]
[17,"Diverging","NBL","RampL1","Ramp right","NBR","RampR1","Signal near",null,0,0,0,null,15,15,10,1.3073361412148754,6.4061388075216188E-7,null,{"$f":"SSI_RTI_PermFactor","v":1},null,false,false,false,false,1,null,"",1,null,null,null,1,null,1,null,0,null,null,"","","","","","","",1,"","","","","","","","",null,"","","","","","","","",1,"","","","","","","",null,null,17,"Diverging"]
[18,"Diverging","EBT,SBL","CrossT1,RampL2","Cross thru","EBL","CrossL1","Cross left",null,0,0,0,null,0,20,10,10,1.4431392232699444E-3,null,1,null,false,false,false,false,1,null,{"$f":"IF(B21=\"Diverging\",\"\",SSI_RTI_VehSpeed_RampThru)","v":""},1,null,null,null,1,null,1,null,0,null,null,1,"","","","","","","","","",1,"","","","","",null,"",1,"","","","","","","","","","","","",{"$f":"IF(ISNUMBER(SEARCH(BS$3,$G21)),1,\"\")","v":""},{"$f":"IF(ISNUMBER(SEARCH(BT$3,$G21)),1,\"\")","v":""},null,null,18,"Diverging"]
[19,"Nonmotorized",null,"CrossNM1","Nonmotorized","WBT,NBL","CrossT2,RampL1","Cross thru",null,175,0,0,null,0,0,"","",2.0975532400616122E-2,null,{"$f":"SSI_RTI_ProtFactor","v":0.505},null,false,false,false,false,1,null,0,0.33333333333333326,null,null,null,1,null,0.16833333333333331,null,0,null,null,"","","","","","","","","","","","",1,"","","",null,{"$f":"IF(ISNUMBER(SEARCH(BE$3,$G22)),1,\"\")","v":""},"","",1,"","","",1,"","","","","","","","",null,null,19,"Nonmotorized",2,null,null,1,null,1,null,null,1,null,2,null,null,1,null,1,null,null,1]
[20,"Nonmotorized",null,"CrossNM1","Nonmotorized","SBR","RampR2","Signal far",null,175,0,0,null,0,25,"","",0.32066879346345062,null,0.505,null,false,false,false,false,1,null,0,0.33333333333333326,null,null,null,1,null,0.16833333333333331,null,0,null,null,"","","","","","","","","","","","",{"$f":"IF(ISNUMBER(SEARCH(AZ$3,$D23)),1,\"\")","v":1},{"$f":"IF(ISNUMBER(SEARCH(BA$3,$D23)),1,\"\")","v":""},{"$f":"IF(ISNUMBER(SEARCH(BB$3,$D23)),1,\"\")","v":""},{"$f":"IF(ISNUMBER(SEARCH(BC$3,$D23)),1,\"\")","v":""},null,"","","","","","","","","","","",1,"","","","",null,null,20,"Nonmotorized",2,null,null,1,null,1,null,null,1,null,2,null,null,1,null,1,null,null,1]
[21,"Nonmotorized",null,"CrossNM1","Nonmotorized","EBT,EBL","CrossT1,CrossL1","Cross thru",null,175,0,0,null,0,0,"","",2.0975532400616122E-2,null,0.505,null,false,false,false,false,1,null,0,0.33333333333333326,null,null,null,1,null,0.16833333333333331,null,0,null,null,{"$f":"IF(ISNUMBER(SEARCH(AN$3,$D24)),1,\"\")","v":""},"","","","","","","","","","","",1,"","","",null,1,1,"","","","","","","","","","","","","","",null,null,21,"Nonmotorized",2,null,null,1,null,1,null,null,null,null,2,null,null,1,null,1]
[22,"Nonmotorized",null,"CrossNM1,RampNM1","Nonmotorized","EBR","CrossR1","Cross right",null,350,0,0,null,0,15,"","",0.1205004039155782,null,{"$f":"SSI_RTI_PermFactor","v":1},null,false,false,false,false,1,null,0,0.33333333333333326,null,null,null,1,null,0.33333333333333326,null,{"$f":"L25*R25*AI25","v":0},null,null,"","","","","","","","","","","","",1,"",1,"",null,"","",1,"","","","","","","","","","","","","",null,null,22,"Nonmotorized",1,1,null,null,null,1,1,null,null,null,1,1,null,null,null,1,1]
[23,"Nonmotorized",null,"RampNM1","Nonmotorized","WBL","CrossL2","Cross left",null,175,0,0,null,0,20,"","",0.20274912921655375,null,{"$f":"IF(SSI_RTI_CrossLTPhase=\"Protected/permitted\",SSI_RTI_ProtPermFactor,IF(SSI_RTI_CrossLTPhase=\"Protected\",SSI_RTI_ProtFactor,SSI_RTI_PermFactor))","v":0.505},null,false,false,false,false,1,null,0,0.33333333333333326,null,null,null,1,null,0.16833333333333331,null,{"$f":"L26*R26*AI26","v":0},null,null,"","","","","","","","","","","","","","",1,"",null,"","","","",1,"","","","","","","","","","","",null,null,23,"Nonmotorized",null,2,1,null,null,null,2,1,null,null,null,1,1,null,null,null,1,1]
[24,"Nonmotorized",null,"RampNM1","Nonmotorized","SBR","RampR2","Signal near",null,175,0,0,null,0,15,"","",0.1205004039155782,null,{"$f":"SSI_RTI_ProtFactor","v":0.505},null,false,false,false,false,1,null,{"$f":"IF(B27=\"Diverging\",\"\",SSI_RTI_VehSpeed_RampThru)","v":0},0.33333333333333326,null,null,null,1,null,0.16833333333333331,null,0,null,null,"","","","","","","","","","","","","","",1,"",null,"","","","","","","","","","","",1,"","","","",null,null,24,"Nonmotorized",null,2,1,null,null,null,2,1,null,null,null,1,null,null,null,null,1]
[25,"Nonmotorized",null,"RampNM1","Nonmotorized","SBL","RampL2","Ramp right",null,{"$f":"SUMPRODUCT($AN28:$BC28,$AN$36:$BC$36)","v":175},0,0,null,{"$f":"VLOOKUP(E28,SSI_RTI_Range_VehSpeed,5,FALSE)","v":0},{"$f":"VLOOKUP(H28,SSI_RTI_Range_VehSpeed,5,FALSE)","v":15},{"$f":"IF(B28=\"Nonmotorized\",\"\",VLOOKUP(B28,SSI_RTI_Range_CollAngles,5,FALSE))","v":""},{"$f":"IF(B28=\"Nonmotorized\",\"\",SQRT(N28^2+O28^2-2*N28*O28*COS(RADIANS(P28)))/2)","v":""},{"$f":"IF(B28=\"Nonmotorized\",1/(1+EXP(3.8432-0.1237*O28)),(Q28/SSI_RTI_RegAlpha)^SSI_RTI_RegK+(Q28/SSI_RTI_RegAlpha)^SSI_RTI_RegK-((Q28/SSI_RTI_RegAlpha)^SSI_RTI_RegK)*((Q28/SSI_RTI_RegAlpha)^SSI_RTI_RegK))","v":0.1205004039155782},null,1,null,false,false,false,false,1,null,{"$f":"IF(B28=\"Diverging\",\"\",SSI_RTI_VehSpeed_RampThru)","v":0},0.33333333333333326,null,null,null,{"$f":"1+AE28+AF28","v":1},null,0.33333333333333326,null,0,null,null,"","","","","","","","","","","","","","",1,"",null,"","","","","","","","","","",1,"","","","","",null,null,25,"Nonmotorized",null,1,null,null,null,null,1,null,null,null,null,1,null,null,null,null,1]
[26,"Nonmotorized",null,"CrossNM2","Nonmotorized","EBT,SBL","CrossT1,RampL2","Cross thru",null,175,0,0,null,0,0,"","",2.0975532400616122E-2,null,{"$f":"SSI_RTI_ProtFactor","v":0.505},null,false,false,false,false,1,null,0,0.33333333333333326,null,null,null,1,null,0.16833333333333331,null,0,null,null,"","","","","","","","","","","","","",1,"","",null,1,"","","","","","","","","",1,"","","","","",null,null,26,"Nonmotorized",2,null,null,1,null,1,null,null,1,null,2,null,null,1,null,1,null,null,1]
[27,"Nonmotorized",null,"CrossNM2","Nonmotorized","NBR","RampR1","Signal far",null,175,0,0,null,0,25,"","",0.32066879346345062,null,0.505,null,false,false,false,false,1,null,0,0.33333333333333326,null,null,null,1,null,0.16833333333333331,null,0,null,null,"","","","","","","","","","","","","",1,"","",null,"","","","","","","","",1,"","","","","","","",null,null,27,"Nonmotorized",2,null,null,1,null,1,null,null,1,null,2,null,null,1,null,1,null,null,1]
[28,"Nonmotorized",null,"CrossNM2","Nonmotorized","WBT,WBL","CrossT2,CrossL2","Cross thru",null,175,0,0,null,0,0,"","",2.0975532400616122E-2,null,0.505,null,false,false,false,false,1,null,0,0.33333333333333326,null,null,null,1,null,0.16833333333333331,null,0,null,null,"","","","","","","","","","","","","",1,"","",null,"","","",1,1,"","","","","","","","","","","",null,null,28,"Nonmotorized",2,null,null,1,null,1,null,null,null,null,2,null,null,1,null,1]
[29,"Nonmotorized",null,"CrossNM2,RampNM2","Nonmotorized","WBR","CrossR2","Cross right",null,350,0,0,null,0,15,"","",0.1205004039155782,null,{"$f":"SSI_RTI_PermFactor","v":1},null,false,false,false,false,1,null,0,0.33333333333333326,null,null,null,1,null,0.33333333333333326,null,0,null,null,"","","","","","","","","","","","","",1,"",1,null,"","","","","",1,"","","","","","","","","","",null,null,29,"Nonmotorized",1,1,null,null,null,1,1,null,null,null,1,1,null,null,null,1,1]
[30,"Nonmotorized",null,"RampNM2","Nonmotorized","EBL","CrossL1","Cross left",null,175,0,0,null,0,20,"","",0.20274912921655375,null,{"$f":"IF(SSI_RTI_CrossLTPhase=\"Protected/permitted\",SSI_RTI_ProtPermFactor,IF(SSI_RTI_CrossLTPhase=\"Protected\",SSI_RTI_ProtFactor,SSI_RTI_PermFactor))","v":0.505},null,false,false,false,false,1,null,0,0.33333333333333326,null,null,null,1,null,0.16833333333333331,null,0,null,null,"","","","","","","","","","","","","","","",1,null,"",1,"","","","","","","","","","","","","","",null,null,30,"Nonmotorized",null,2,1,null,null,null,2,1,null,null,null,1,1,null,null,null,1,1]
[31,"Nonmotorized",null,"RampNM2","Nonmotorized","NBR","RampR1","Signal near",null,175,0,0,null,0,15,"","",0.1205004039155782,null,{"$f":"SSI_RTI_ProtFactor","v":0.505},null,false,false,false,false,1,null,{"$f":"IF(B34=\"Diverging\",\"\",SSI_RTI_VehSpeed_RampThru)","v":0},0.33333333333333326,null,null,null,1,null,0.16833333333333331,null,0,null,null,"","","","","","","","","","","","","","","",1,null,"","","","","","","","",1,"","","","","","","",null,null,31,"Nonmotorized",null,2,1,null,null,null,2,1,null,null,null,1,null,null,null,null,1]
[32,"Nonmotorized",null,"RampNM2","Nonmotorized","NBL","RampL1","Ramp right",null,175,0,0,null,0,15,"","",0.1205004039155782,null,{"$f":"SSI_RTI_PermFactor","v":1},null,false,false,false,false,1,null,{"$f":"IF(B35=\"Diverging\",\"\",SSI_RTI_VehSpeed_RampThru)","v":0},0.33333333333333326,null,null,null,1,null,0.33333333333333326,null,0,null,null,"","","","","","","","","","","","","","","",1,null,"","","","","","","",1,"","","","","","","","",null,null,32,"Nonmotorized",null,1,null,null,null,null,1,null,null,null,null,1,null,null,null,null,1]
[null,null,null,null,null,null,null,null,null,null,null,null,null,null,null,null,null,null,null,null,null,null,null,null,null,null,null,null,null,null,null,null,null,null,null,null,null,null,"O",{"$f":"'SSI Inputs RTI'!$D$28","v":""},{"$f":"'SSI Inputs RTI'!$D$29","v":""},{"$f":"'SSI Inputs RTI'!$D$30","v":""},{"$f":"'SSI Inputs RTI'!$D$32","v":""},{"$f":"'SSI Inputs RTI'!$D$33","v":""},{"$f":"'SSI Inputs RTI'!$D$34","v":""},{"$f":"'SSI Inputs RTI'!$D$36","v":""},{"$f":"'SSI Inputs RTI'!$D$37","v":""},{"$f":"'SSI Inputs RTI'!$D$38","v":""},{"$f":"'SSI Inputs RTI'!$D$40","v":""},{"$f":"'SSI Inputs RTI'!$D$41","v":""},{"$f":"'SSI Inputs RTI'!$D$42","v":""},{"$f":"'SSI Inputs RTI'!$Q$20","v":175},{"$f":"'SSI Inputs RTI'!$Q$21","v":175},{"$f":"'SSI Inputs RTI'!$Q$22","v":175},{"$f":"'SSI Inputs RTI'!$Q$23","v":175},"O",{"$f":"'SSI Inputs RTI'!$D$28","v":""},{"$f":"'SSI Inputs RTI'!$D$29","v":""},{"$f":"'SSI Inputs RTI'!$D$30","v":""},{"$f":"'SSI Inputs RTI'!$D$32","v":""},{"$f":"'SSI Inputs RTI'!$D$33","v":""},{"$f":"'SSI Inputs RTI'!$D$34","v":""},{"$f":"'SSI Inputs RTI'!$D$36","v":""},{"$f":"'SSI Inputs RTI'!$D$37","v":""},{"$f":"'SSI Inputs RTI'!$D$38","v":""},{"$f":"'SSI Inputs RTI'!$D$40","v":""},{"$f":"'SSI Inputs RTI'!$D$41","v":""},{"$f":"'SSI Inputs RTI'!$D$42","v":""},{"$f":"'SSI Inputs RTI'!$Q$20","v":175},{"$f":"'SSI Inputs RTI'!$Q$21","v":175},{"$f":"'SSI Inputs RTI'!$Q$22","v":175},{"$f":"'SSI Inputs RTI'!$Q$23","v":175}]
[null,null,null,null,null,null,null,null,null,null,null,null,null,null,null,null,null,null,null,null,null,null,null,null,null,null,null,null,null,null,null,null,null,null,null,null,null,null,"D",{"$f":"'SSI Inputs RTI'!$E$28","v":""},{"$f":"'SSI Inputs RTI'!$E$29","v":""},{"$f":"'SSI Inputs RTI'!$E$30","v":""},{"$f":"'SSI Inputs RTI'!$E$32","v":""},{"$f":"'SSI Inputs RTI'!$E$33","v":""},{"$f":"'SSI Inputs RTI'!$E$34","v":""},{"$f":"'SSI Inputs RTI'!$E$36","v":""},{"$f":"'SSI Inputs RTI'!$E$37","v":""},{"$f":"'SSI Inputs RTI'!$E$38","v":""},{"$f":"'SSI Inputs RTI'!$E$40","v":""},{"$f":"'SSI Inputs RTI'!$E$41","v":""},{"$f":"'SSI Inputs RTI'!$E$42","v":""},{"$f":"'SSI Inputs RTI'!$R$20","v":175},{"$f":"'SSI Inputs RTI'!$R$21","v":175},{"$f":"'SSI Inputs RTI'!$R$22","v":175},{"$f":"'SSI Inputs RTI'!$R$23","v":175},"D",{"$f":"'SSI Inputs RTI'!$E$28","v":""},{"$f":"'SSI Inputs RTI'!$E$29","v":""},{"$f":"'SSI Inputs RTI'!$E$30","v":""},{"$f":"'SSI Inputs RTI'!$E$32","v":""},{"$f":"'SSI Inputs RTI'!$E$33","v":""},{"$f":"'SSI Inputs RTI'!$E$34","v":""},{"$f":"'SSI Inputs RTI'!$E$36","v":""},{"$f":"'SSI Inputs RTI'!$E$37","v":""},{"$f":"'SSI Inputs RTI'!$E$38","v":""},{"$f":"'SSI Inputs RTI'!$E$40","v":""},{"$f":"'SSI Inputs RTI'!$E$41","v":""},{"$f":"'SSI Inputs RTI'!$E$42","v":""},{"$f":"'SSI Inputs RTI'!$R$20","v":175},{"$f":"'SSI Inputs RTI'!$R$21","v":175},{"$f":"'SSI Inputs RTI'!$R$22","v":175},{"$f":"'SSI Inputs RTI'!$R$23","v":175}]
[]
[]
[]
[]
[]
[]
[]
[]
[]
[]
[]
[]
[]
[]
[]
[]
[]
[]
[]
[]
[]
[]
[]
[]
[]
[]
[]
[]
[]
[]
[]
[]
[]
[]
[]
[]
[]
[]
[]
[]
[]
[]
[]
[]
[]
[]
[]
[]
[]
[]
[]
[]
[]
[]
[]
[]
[]
[]
[]
[]
[]
[]
[]
[null,null,null,null,null,null,null,null,null,"Exposure",null,null,null,null,null,null,null,null,null,null,null,null,null,null,null,null,null,null,null,null,null,null,null,null,null,null,"Exposure-Severity-Complexity Product"]
[null,null,null,null,null,null,null,null,null,"Q1","Q2","I"]
[null,null,null,null,null,null,null,null,null,{"$f":"SUMPRODUCT($AN4:$BC4,$AN$37:$BC$37)","v":0},{"$f":"SUMPRODUCT($BE4:$BT4,$BE$37:$BT$37)","v":0},{"$f":"PRODUCT(J103:K103)","v":0},null,null,null,null,null,null,null,null,null,null,null,null,null,null,null,null,null,null,null,null,null,null,null,null,{"$f":"L103*R4*AI4","v":0}]
[null,null,null,null,null,null,null,null,null,0,0,{"$f":"PRODUCT(J104:K104)","v":0},null,null,null,null,null,null,null,null,null,null,null,null,null,null,null,null,null,null,null,null,null,null,null,null,{"$f":"L104*R5*AI5","v":0}]
[null,null,null,null,null,null,null,null,null,0,0,0,null,null,null,null,null,null,null,null,null,null,null,null,null,null,null,null,null,null,null,null,null,null,null,null,0]
[null,null,null,null,null,null,null,null,null,0,0,0,null,null,null,null,null,null,null,null,null,null,null,null,null,null,null,null,null,null,null,null,null,null,null,null,0]
[null,null,null,null,null,null,null,null,null,0,0,0,null,null,null,null,null,null,null,null,null,null,null,null,null,null,null,null,null,null,null,null,null,null,null,null,0]
[null,null,null,null,null,null,null,null,null,0,0,0,null,null,null,null,null,null,null,null,null,null,null,null,null,null,null,null,null,null,null,null,null,null,null,null,0]
[null,null,null,null,null,null,null,null,null,0,0,0,null,null,null,null,null,null,null,null,null,null,null,null,null,null,null,null,null,null,null,null,null,null,null,null,0]
[null,null,null,null,null,null,null,null,null,0,0,0,null,null,null,null,null,null,null,null,null,null,null,null,null,null,null,null,null,null,null,null,null,null,null,null,0]
[null,null,null,null,null,null,null,null,null,0,0,0,null,null,null,null,null,null,null,null,null,null,null,null,null,null,null,null,null,null,null,null,null,null,null,null,0]
[null,null,null,null,null,null,null,null,null,0,0,0,null,null,null,null,null,null,null,null,null,null,null,null,null,null,null,null,null,null,null,null,null,null,null,null,0]
[null,null,null,null,null,null,null,null,null,0,0,0,null,null,null,null,null,null,null,null,null,null,null,null,null,null,null,null,null,null,null,null,null,null,null,null,0]
[null,null,null,null,null,null,null,null,null,0,0,0,null,null,null,null,null,null,null,null,null,null,null,null,null,null,null,null,null,null,null,null,null,null,null,null,0]
[null,null,null,null,null,null,null,null,null,0,0,0,null,null,null,null,null,null,null,null,null,null,null,null,null,null,null,null,null,null,null,null,null,null,null,null,0]
[null,null,null,null,null,null,null,null,null,0,0,0,null,null,null,null,null,null,null,null,null,null,null,null,null,null,null,null,null,null,null,null,null,null,null,null,0]
[null,null,null,null,null,null,null,null,null,0,0,0,null,null,null,null,null,null,null,null,null,null,null,null,null,null,null,null,null,null,null,null,null,null,null,null,0]
[null,null,null,null,null,null,null,null,null,0,0,0,null,null,null,null,null,null,null,null,null,null,null,null,null,null,null,null,null,null,null,null,null,null,null,null,0]
[null,null,null,null,null,null,null,null,null,0,0,0,null,null,null,null,null,null,null,null,null,null,null,null,null,null,null,null,null,null,null,null,null,null,null,null,0]
[null,null,null,null,null,null,null,null,null,0,0,0,null,null,null,null,null,null,null,null,null,null,null,null,null,null,null,null,null,null,null,null,null,null,null,null,0]
[null,null,null,null,null,null,null,null,null,175,0,0,null,null,null,null,null,null,null,null,null,null,null,null,null,null,null,null,null,null,null,null,null,null,null,null,0]
[null,null,null,null,null,null,null,null,null,175,0,0,null,null,null,null,null,null,null,null,null,null,null,null,null,null,null,null,null,null,null,null,null,null,null,null,0]
[null,null,null,null,null,null,null,null,null,175,0,0,null,null,null,null,null,null,null,null,null,null,null,null,null,null,null,null,null,null,null,null,null,null,null,null,0]
[null,null,null,null,null,null,null,null,null,350,0,0,null,null,null,null,null,null,null,null,null,null,null,null,null,null,null,null,null,null,null,null,null,null,null,null,0]
[null,null,null,null,null,null,null,null,null,175,0,{"$f":"PRODUCT(J125:K125)","v":0},null,null,null,null,null,null,null,null,null,null,null,null,null,null,null,null,null,null,null,null,null,null,null,null,0]
[null,null,null,null,null,null,null,null,null,175,0,0,null,null,null,null,null,null,null,null,null,null,null,null,null,null,null,null,null,null,null,null,null,null,null,null,0]
[null,null,null,null,null,null,null,null,null,175,0,0,null,null,null,null,null,null,null,null,null,null,null,null,null,null,null,null,null,null,null,null,null,null,null,null,0]
[null,null,null,null,null,null,null,null,null,175,0,0,null,null,null,null,null,null,null,null,null,null,null,null,null,null,null,null,null,null,null,null,null,null,null,null,0]
[null,null,null,null,null,null,null,null,null,175,0,0,null,null,null,null,null,null,null,null,null,null,null,null,null,null,null,null,null,null,null,null,null,null,null,null,0]
[null,null,null,null,null,null,null,null,null,175,0,0,null,null,null,null,null,null,null,null,null,null,null,null,null,null,null,null,null,null,null,null,null,null,null,null,0]
[null,null,null,null,null,null,null,null,null,350,0,0,null,null,null,null,null,null,null,null,null,null,null,null,null,null,null,null,null,null,null,null,null,null,null,null,0]
[null,null,null,null,null,null,null,null,null,175,0,0,null,null,null,null,null,null,null,null,null,null,null,null,null,null,null,null,null,null,null,null,null,null,null,null,0]
[null,null,null,null,null,null,null,null,null,175,0,0,null,null,null,null,null,null,null,null,null,null,null,null,null,null,null,null,null,null,null,null,null,null,null,null,0]
[null,null,null,null,null,null,null,null,null,175,0,0,null,null,null,null,null,null,null,null,null,null,null,null,null,null,null,null,null,null,null,null,null,null,null,null,0]

{"sheet":"2_Quad_ParcloB","index":14,"n_rows":134,"n_cols":95,"rows_kept":134,"cut":false,"hidden":true,"merged":[[1,86,1,89],[1,91,1,94],[100,9,100,11],[100,36,101,36],[1,34,2,34],[1,36,2,36],[1,39,1,52],[1,56,1,69],[1,76,1,79],[1,81,1,84],[0,19,0,28],[0,30,0,32],[1,9,1,11],[1,13,1,17],[1,21,1,25],[1,27,1,28],[1,30,2,30],[1,31,2,31],[1,32,2,32]]}
[null,null,null,null,null,null,null,null,null,null,null,null,null,null,null,null,null,null,null,"Conflicting Traffic Complexity",null,null,null,null,null,null,null,null,null,null,"Pedestrian Complexity",null,null,null,null,null,null,null,null,null,null,null,null,null,null,null,null,null,null,null,null,null,null,null,null,null,null,null,null,null,null,null,null,null,null,null,null,null,null,null,null,null,null,null,"*impact of median on complexity factors"]
[null,null,null,null,null,null,null,null,null,"Exposure",null,null,null,"Severity",null,null,null,null,null,"Traffic Control",null,"Conflicting Lanes",null,null,null,null,null,"Conflicting Speed",null,null,"Indirect Paths Indicator","Non-intuitive movements indicator","Pedestrian Complexity factor",null,"Total Complexity Multiplier",null,"Exposure-Severity-Complexity Product",null,null,"Included in Mvmt1",null,null,null,null,null,null,null,null,null,null,null,null,null,null,null,null,"Included in Mvmt2",null,null,null,null,null,null,null,null,null,null,null,null,null,null,null,null,null,null,null,"Cross-street: No, Ramps: No",null,null,null,null,"Cross-street: Yes, Ramps: No",null,null,null,null,"Cross-street: No, Ramps: Yes",null,null,null,null,"Cross-street: Yes, Ramps: Yes"]
["#","Conflict Type","Mvmt1","Mvmt1_gen","Mvmt1_SpeedCat","Mvmt2","Mvmt2_gen","Mvmt2_SpeedCat",null,"Q1","Q2","I",null,"Speed_V1","Speed_V2","Angle","delta_V","P_FSI",null,null,null,"CrossC","RampC","CrossM/P","RampM/P","Score",null,"Speed","Factor",null,null,null,null,null,null,null,null,null,null,"CrossT1","CrossL1","CrossR1","CrossT2","CrossL2","CrossR2","RampT1","RampL1","RampR1","RampT2","RampL2","RampR2","CrossNM1","CrossNM2","RampNM1","RampNM2",null,"CrossT1","CrossL1","CrossR1","CrossT2","CrossL2","CrossR2","RampT1","RampL1","RampR1","RampT2","RampL2","RampR2","CrossNM1","CrossNM2","RampNM1","RampNM2",null,null,"#","Conflict Type","MajC","MinC","MajM/P","MinM/P",null,"MajC","MinC","MajM/P","MinM/P",null,"MajC","MinC","MajM/P","MinM/P",null,"MajC","MinC","MajM/P","MinM/P"]
[1,"Crossing - LT","EBR","CrossR1","Cross left","SBL","RampL2","Signal near",null,{"$f":"SUMPRODUCT($AN4:$BC4,$AN$36:$BC$36)","v":0},{"$f":"SUMPRODUCT($BE4:$BT4,$BE$36:$BT$36)","v":0},{"$f":"PRODUCT(J4:K4)","v":0},null,{"$f":"VLOOKUP(E4,SSI_RTI_Range_VehSpeed,5,FALSE)","v":20},{"$f":"VLOOKUP(H4,SSI_RTI_Range_VehSpeed,5,FALSE)","v":15},{"$f":"IF(B4=\"Nonmotorized\",\"\",VLOOKUP(B4,SSI_RTI_Range_CollAngles,5,FALSE))","v":230},{"$f":"IF(B4=\"Nonmotorized\",\"\",SQRT(N4^2+O4^2-2*N4*O4*COS(RADIANS(P4)))/2)","v":15.895538413434787},{"$f":"IF(B4=\"Nonmotorized\",1/(1+EXP(3.8432-0.1237*O4)),(Q4/SSI_RTI_RegAlpha)^SSI_RTI_RegK+(Q4/SSI_RTI_RegAlpha)^SSI_RTI_RegK-((Q4/SSI_RTI_RegAlpha)^SSI_RTI_RegK)*((Q4/SSI_RTI_RegAlpha)^SSI_RTI_RegK))","v":8.3616736100371632E-3},null,{"$f":"SSI_RTI_ProtFactor","v":0.505},null,{"$f":"IF(AND(SSI_RTI_CrossStMedian=\"No\", SSI_RTI_RampMedian=\"No\"),BY4,IF(AND(SSI_RTI_CrossStMedian=\"Yes\",SSI_RTI_RampMedian=\"No\"),CD4,IF(AND(SSI_RTI_CrossStMedian=\"No\",SSI_RTI_RampMedian=\"Yes\"),CI4,IF(AND(SSI_RTI_CrossStMedian=\"Yes\",SSI_RTI_RampMedian=\"Yes\"),CN4))))","v":false},false,false,false,{"$f":"MAX(1,IF(B4<>\"Pedestrian\",V4*SSI_RTI_CrossThruLanes+W4*SSI_RTI_Ramp1ThruLanes+X4*IF(SSI_RTI_CrossThruLanes=1,SSI_RTI_MergeWeightL1,IF(SSI_RTI_CrossThruLanes=2,SSI_RTI_MergeWeightL1+SSI_RTI_MergeWeightL2,SSI_RTI_MergeWeightL1+SSI_RTI_MergeWeightL2+SSI_RTI_MergeWeightL3*(SSI_RTI_CrossThruLanes-2)))+Y4*IF(SSI_RTI_Ramp1ThruLanes=1,SSI_RTI_MergeWeightL1,IF(SSI_RTI_Ramp1ThruLanes=2,SSI_RTI_MergeWeightL1+SSI_RTI_MergeWeightL2,SSI_RTI_MergeWeightL1+SSI_RTI_MergeWeightL2+SSI_RTI_MergeWeightL3*(SSI_RTI_Ramp1ThruLanes-2))),V4*SSI_RTI_CrossThruLanes+W4*SSI_RTI_Ramp1ThruLanes+X4*IF(SSI_RTI_CrossThruLanes=1,SSI_RTI_NM_MergeWeightL1,IF(SSI_RTI_CrossThruLanes=2,SSI_RTI_NM_MergeWeightL1+SSI_RTI_NM_MergeWeightL2,SSI_RTI_NM_MergeWeightL1+SSI_RTI_NM_MergeWeightL2+SSI_RTI_NM_MergeWeightL3*(SSI_RTI_CrossThruLanes-2)))+Y4*IF(SSI_RTI_Ramp1ThruLanes=1,SSI_RTI_NM_MergeWeightL1,IF(SSI_RTI_Ramp1ThruLanes=2,SSI_RTI_NM_MergeWeightL1+SSI_RTI_NM_MergeWeightL2,SSI_RTI_NM_MergeWeightL1+SSI_RTI_NM_MergeWeightL2+SSI_RTI_NM_MergeWeightL3*(SSI_RTI_Ramp1ThruLanes-2)))))","v":1},null,{"$f":"IF(B4=\"Diverging\",\"\",SSI_RTI_VehSpeed_CrossThru)","v":0},{"$f":"IF(B4=\"Diverging\",1,1-((60-AB4)/60*0.1/0.15))","v":0.33333333333333326},null,null,null,{"$f":"1+AE4+AF4","v":1},null,{"$f":"PRODUCT(Z4,T4,AC4,AG4)","v":0.16833333333333331},null,{"$f":"L4*R4*AI4","v":0},null,null,{"$f":"IF(ISNUMBER(SEARCH(AN$3,$D4)),1,\"\")","v":""},{"$f":"IF(ISNUMBER(SEARCH(AO$3,$D4)),1,\"\")","v":""},1,"","","","","","","","","","","","","",null,{"$f":"IF(ISNUMBER(SEARCH(BE$3,$G4)),1,\"\")","v":""},{"$f":"IF(ISNUMBER(SEARCH(BF$3,$G4)),1,\"\")","v":""},"","","","","","","","",1,"","","","","",null,null,1,"Crossing - LT",1,null,1,null,null,1,null,null,null,null,1,null,1,null,null,1]
[2,"Crossing - LT","EBR","CrossR1","Cross left","WBT,NBL","CrossT2,RampL1","Cross thru",null,{"$f":"SUMPRODUCT($AN5:$BC5,$AN$36:$BC$36)","v":0},{"$f":"SUMPRODUCT($BE5:$BT5,$BE$36:$BT$36)","v":0},{"$f":"PRODUCT(J5:K5)","v":0},null,20,0,230,{"$f":"IF(B5=\"Nonmotorized\",\"\",SQRT(N5^2+O5^2-2*N5*O5*COS(RADIANS(P5)))/2)","v":10},1.4431392232699444E-3,null,{"$f":"IF(SSI_RTI_CrossLTPhase=\"Protected/permitted\",SSI_RTI_ProtPermFactor,IF(SSI_RTI_CrossLTPhase=\"Protected\",SSI_RTI_ProtFactor,SSI_RTI_PermFactor))","v":0.505},null,false,false,false,false,1,null,0,0.33333333333333326,null,null,null,{"$f":"1+AE5+AF5","v":1},null,0.16833333333333331,null,{"$f":"L5*R5*AI5","v":0},null,null,{"$f":"IF(ISNUMBER(SEARCH(AN$3,$D5)),1,\"\")","v":""},"",1,"","","","","","","","","","","","","",null,{"$f":"IF(ISNUMBER(SEARCH(BE$3,$G5)),1,\"\")","v":""},"","",1,"","","",1,"","","","","","","","",null,null,2,"Crossing - LT",1,null,null,null,null,1,null,null,null,null,1,null,null,null,null,1]
[3,"Crossing - LT","SBL","RampL2","Signal near","WBT,NBL","CrossT2,RampL1","Cross thru",null,0,0,0,null,15,0,230,7.5,4.8454301532720542E-4,null,{"$f":"SSI_RTI_ProtFactor","v":0.505},null,false,false,false,false,1,null,0,0.33333333333333326,null,null,null,1,null,0.16833333333333331,null,0,null,null,"","","","","","","","","","",1,"","","","","",null,"","","",1,"","","",1,"","","","","","","","",null,null,3,"Crossing - LT",1,null,1,null,null,1,null,null,null,null,1,null,1,null,null,1]
[4,"Crossing - LT","WBL","CrossL2","Cross left","NBL","RampL1","Signal near",null,0,0,0,null,20,15,230,15.895538413434787,8.3616736100371632E-3,null,0.505,null,false,false,false,false,1,null,0,0.33333333333333326,null,null,null,1,null,0.16833333333333331,null,0,null,null,"","","","",1,"","","","","","","","","","","",null,"","","","","","","",1,"","","","","","","","",null,null,4,"Crossing - LT",1,null,1,null,null,1,null,null,null,null,1,null,1,null,null,1]
[5,"Crossing - LT","WBL","CrossL2","Cross left","EBT,SBL","CrossT1,RampL2","Cross thru",null,0,0,0,null,20,0,230,10,1.4431392232699444E-3,null,{"$f":"IF(SSI_RTI_CrossLTPhase=\"Protected/permitted\",SSI_RTI_ProtPermFactor,IF(SSI_RTI_CrossLTPhase=\"Protected\",SSI_RTI_ProtFactor,SSI_RTI_PermFactor))","v":0.505},null,false,false,false,false,1,null,0,0.33333333333333326,null,null,null,1,null,0.16833333333333331,null,0,null,null,"","","","",1,"","","","","","","","","","","",null,1,"","","","","","","","","",1,"","","","","",null,null,5,"Crossing - LT",1,null,null,null,null,1,null,null,null,null,1,null,null,null,null,1]
[6,"Crossing - LT","NBL","RampL1","Signal near","EBT,SBL","CrossT1,RampL2","Cross thru",null,0,0,0,null,15,0,230,7.5,4.8454301532720542E-4,null,{"$f":"SSI_RTI_ProtFactor","v":0.505},null,false,false,false,false,1,null,0,0.33333333333333326,null,null,null,1,null,0.16833333333333331,null,0,null,null,"","","","","","","",1,"","","","","","","","",null,1,"","","","","","","","","",1,"","","","","",null,null,6,"Crossing - LT",1,null,1,null,null,1,null,null,null,null,1,null,1,null,null,1]
[7,"Merging","SBR","RampR2","Ramp right","WBT,NBL","CrossT2,RampL1","Cross thru",null,0,0,0,null,15,0,45,7.5,4.8454301532720542E-4,null,{"$f":"SSI_RTI_PermFactor","v":1},null,false,false,false,false,1,null,0,0.33333333333333326,null,null,null,1,null,0.33333333333333326,null,0,null,null,"","","","","","","","","","","",1,"","","","",null,"","","",1,"","","",1,"","","","","","","","",null,null,7,"Merging",null,null,1,null,null,null,null,1,null,null,null,null,1,null,null,null,null,1]
[8,"Merging","EBR","CrossR1","Cross left","WBL","CrossL2","Cross right",null,0,0,0,null,20,15,45,7.0840654162717795,3.9022923271840685E-4,null,1,null,false,false,false,false,1,null,0,0.33333333333333326,null,null,null,1,null,0.33333333333333326,null,0,null,null,"","",1,"","","","","","","","","","","","","",null,"","","","",1,"","","","","","","","","","","",null,null,8,"Merging",null,null,1,null,null,null,null,1,null,null,null,null,1,null,null,null,null,1]
[9,"Merging","SBL","RampL2","Signal far","EBT,EBL","CrossT1,CrossL1","Cross thru",null,0,0,0,null,25,0,45,12.5,3.3637551692797651E-3,null,1,null,false,false,false,false,1,null,0,0.33333333333333326,null,null,null,1,null,0.33333333333333326,null,0,null,null,"","","","","","","","","","",1,"","","","","",null,1,1,"","","","","","","","","","","","","","",null,null,9,"Merging",1,null,1,null,null,1,null,null,null,null,1,null,1,null,null,1]
[10,"Merging","NBR","RampR1","Ramp right","EBT,SBL","CrossT1,RampL2","Cross thru",null,0,0,0,null,15,0,45,7.5,4.8454301532720542E-4,null,1,null,false,false,false,false,1,null,0,0.33333333333333326,null,null,null,1,null,0.33333333333333326,null,0,null,null,"","","","","","","","",1,"","","","","","","",null,1,"","","","","","","","","",1,"","","","","",null,null,10,"Merging",null,null,1,null,null,null,null,1,null,null,null,null,1,null,null,null,null,1]
[11,"Merging","WBL","CrossL2","Cross left","EBR","CrossR1","Cross right",null,0,0,0,null,20,15,45,7.0840654162717795,3.9022923271840685E-4,null,1,null,false,false,false,false,1,null,0,0.33333333333333326,null,null,null,1,null,0.33333333333333326,null,0,null,null,"","","","",1,"","","","","","","","","","","",null,"","",1,"","","","","","","","","","","","","",null,null,11,"Merging",null,null,1,null,null,null,null,1,null,null,null,null,1,null,null,null,null,1]
[12,"Merging","NBL","RampL1","Signal far","WBT,WBR","CrossT2,CrossR2","Cross thru",null,0,0,0,null,25,0,45,12.5,3.3637551692797651E-3,null,1,null,false,false,false,false,1,null,0,0.33333333333333326,null,null,null,1,null,0.33333333333333326,null,0,null,null,"","","","","","","",1,"","","","","","","","",null,"","","",1,"",1,"","","","","","","","","","",null,null,12,"Merging",1,null,1,null,null,1,null,null,null,null,1,null,1,null,null,1]
[13,"Diverging","EBR","CrossR1","Cross left","EBT,EBL","CrossT1,CrossL1","Cross thru",null,0,0,0,null,20,0,10,10,1.4431392232699444E-3,null,1,null,false,false,false,false,1,null,{"$f":"IF(B16=\"Diverging\",\"\",SSI_RTI_VehSpeed_RampThru)","v":""},1,null,null,null,1,null,1,null,0,null,null,"","",1,"","","","","","","","","","","","","",null,1,1,"","","","","","","","","","","","","","",null,null,13,"Diverging"]
[14,"Diverging","SBL","RampL2","Signal near","SBR","RampR2","Ramp right",null,0,0,0,null,15,15,10,1.3073361412148754,6.4061388075216188E-7,null,1,null,false,false,false,false,1,null,"",1,null,null,null,1,null,1,null,0,null,null,"","","","","","","","","","",1,"","","","","",null,"","","","","","","","","","","",1,"","","","",null,null,14,"Diverging"]
[15,"Diverging","WBT,NBL","CrossT2,RampL1","Cross thru","WBL","CrossL2","Cross right",null,0,0,0,null,0,15,10,7.5,4.8454301532720542E-4,null,1,null,false,false,false,false,1,null,"",1,null,null,null,1,null,1,null,0,null,null,"","","",1,"","","",1,"","","","","","","","",null,"","","","",1,"","","","","","","","","","","",null,null,15,"Diverging"]
[16,"Diverging","WBR","CrossR2","Cross left","WBT,WBL","CrossT2,CrossL2","Cross thru",null,0,0,0,null,20,0,10,10,1.4431392232699444E-3,null,1,null,false,false,false,false,1,null,"",1,null,null,null,1,null,1,null,0,null,null,"","","","","",1,"","","","","","","","","","",null,"","","",1,1,"","","","","","","","","","","",null,null,16,"Diverging"]
[17,"Diverging","NBL","RampL1","Ramp right","NBR","RampR1","Signal near",null,0,0,0,null,15,15,10,1.3073361412148754,6.4061388075216188E-7,null,1,null,false,false,false,false,1,null,"",1,null,null,null,1,null,1,null,0,null,null,"","","","","","","",1,"","","","","","","","",null,"","","","","","","","",1,"","","","","","","",null,null,17,"Diverging"]
[18,"Diverging","EBT,SBL","CrossT1,RampL2","Cross thru","EBL","CrossL1","Cross right",null,0,0,0,null,0,15,10,7.5,4.8454301532720542E-4,null,1,null,false,false,false,false,1,null,{"$f":"IF(B21=\"Diverging\",\"\",SSI_RTI_VehSpeed_RampThru)","v":""},1,null,null,null,1,null,1,null,0,null,null,1,"","","","","","","","","",1,"","","","","",null,"",1,"","","","","","","","","","","","",{"$f":"IF(ISNUMBER(SEARCH(BS$3,$G21)),1,\"\")","v":""},{"$f":"IF(ISNUMBER(SEARCH(BT$3,$G21)),1,\"\")","v":""},null,null,18,"Diverging"]
[19,"Nonmotorized",null,"CrossNM1","Nonmotorized","EBT,EBL","CrossT1,CrossL1","Cross thru",null,175,0,0,null,0,0,"","",2.0975532400616122E-2,null,{"$f":"SSI_RTI_ProtFactor","v":0.505},null,false,false,false,false,1,null,0,0.33333333333333326,null,null,null,1,null,0.16833333333333331,null,0,null,null,"","","","","","","","","","","","",1,"","","",null,{"$f":"IF(ISNUMBER(SEARCH(BE$3,$G22)),1,\"\")","v":1},1,"","","","","","","","","","","","","","",null,null,19,"Nonmotorized",2,null,null,null,null,1,null,null,null,null,2,null,null,null,null,1]
[20,"Nonmotorized",null,"CrossNM1","Nonmotorized","EBR","CrossR1","Cross left",null,175,0,0,null,0,20,"","",0.20274912921655375,null,0.505,null,false,false,false,false,1,null,0,0.33333333333333326,null,null,null,1,null,0.16833333333333331,null,0,null,null,"","","","","","","","","","","","",{"$f":"IF(ISNUMBER(SEARCH(AZ$3,$D23)),1,\"\")","v":1},{"$f":"IF(ISNUMBER(SEARCH(BA$3,$D23)),1,\"\")","v":""},{"$f":"IF(ISNUMBER(SEARCH(BB$3,$D23)),1,\"\")","v":""},{"$f":"IF(ISNUMBER(SEARCH(BC$3,$D23)),1,\"\")","v":""},null,"","",1,"","","","","","","","","","","","","",null,null,20,"Nonmotorized",2,null,null,null,null,1,null,null,null,null,2,null,null,null,null,1]
[21,"Nonmotorized",null,"CrossNM1","Nonmotorized","WBT,NBL","CrossT2,RampL1","Cross thru",null,175,0,0,null,0,0,"","",2.0975532400616122E-2,null,0.505,null,false,false,false,false,1,null,0,0.33333333333333326,null,null,null,1,null,0.16833333333333331,null,0,null,null,{"$f":"IF(ISNUMBER(SEARCH(AN$3,$D24)),1,\"\")","v":""},"","","","","","","","","","","",1,"","","",null,"","","",1,"","","",1,"","","","","","","","",null,null,21,"Nonmotorized",2,null,null,null,null,1,null,null,null,null,2,null,null,null,null,1]
[22,"Nonmotorized",null,"CrossNM1,RampNM2","Nonmotorized","SBR","RampR2","Ramp right",null,350,0,0,null,0,15,"","",0.1205004039155782,null,{"$f":"SSI_RTI_PermFactor","v":1},null,false,false,false,false,1,null,{"$f":"IF(B25=\"Diverging\",\"\",SSI_RTI_VehSpeed_RampThru)","v":0},0.33333333333333326,null,null,null,1,null,0.33333333333333326,null,{"$f":"L25*R25*AI25","v":0},null,null,"","","","","","","","","","","","",1,"","",1,null,"","","","","","","","","","","",1,"","","","",null,null,22,"Nonmotorized",null,1,null,null,null,null,1,null,null,null,null,1,null,null,null,null,1]
[23,"Nonmotorized",null,"RampNM2","Nonmotorized","SBL","RampL2","Signal near",null,175,0,0,null,0,15,"","",0.1205004039155782,null,{"$f":"IF(SSI_RTI_CrossLTPhase=\"Protected/permitted\",SSI_RTI_ProtPermFactor,IF(SSI_RTI_CrossLTPhase=\"Protected\",SSI_RTI_ProtFactor,SSI_RTI_PermFactor))","v":0.505},null,false,false,false,false,1,null,{"$f":"IF(B26=\"Diverging\",\"\",SSI_RTI_VehSpeed_RampThru)","v":0},0.33333333333333326,null,null,null,1,null,0.16833333333333331,null,{"$f":"L26*R26*AI26","v":0},null,null,"","","","","","","","","","","","","","","",1,null,"","","","","","","","","","",1,"","","","","",null,null,23,"Nonmotorized",null,2,null,null,null,null,2,null,null,null,null,1,null,null,null,null,1]
[24,"Nonmotorized",null,"RampNM2","Nonmotorized","EBR","CrossR1","Cross left",null,175,0,0,null,0,20,"","",0.20274912921655375,null,{"$f":"IF(SSI_RTI_CrossLTPhase=\"Protected/permitted\",SSI_RTI_ProtPermFactor,IF(SSI_RTI_CrossLTPhase=\"Protected\",SSI_RTI_ProtFactor,SSI_RTI_PermFactor))","v":0.505},null,false,false,false,false,1,null,0,0.33333333333333326,null,null,null,1,null,0.16833333333333331,null,0,null,null,"","","","","","","","","","","","","","","",1,null,"","",1,"","","","","","","","","","","","","",null,null,24,"Nonmotorized",null,2,null,null,null,null,2,null,null,null,null,1,null,null,null,null,1]
[25,"Nonmotorized",null,"RampNM2","Nonmotorized","WBL","CrossL2","Cross right",null,{"$f":"SUMPRODUCT($AN28:$BC28,$AN$36:$BC$36)","v":175},0,0,null,0,15,"","",0.1205004039155782,null,1,null,false,false,false,false,1,null,0,0.33333333333333326,null,null,null,1,null,0.33333333333333326,null,0,null,null,"","","","","","","","","","","","","","","",1,null,"","","","",1,"","","","","","","","","","","",null,null,25,"Nonmotorized",null,1,1,null,null,null,1,1,null,null,null,1,1,null,null,null,1,1]
[26,"Nonmotorized",null,"CrossNM2","Nonmotorized","WBT,WBL","CrossT2,CrossL2","Cross thru",null,175,0,0,null,0,0,"","",2.0975532400616122E-2,null,{"$f":"SSI_RTI_ProtFactor","v":0.505},null,false,false,false,false,1,null,0,0.33333333333333326,null,null,null,1,null,0.16833333333333331,null,0,null,null,"","","","","","","","","","","","","",1,"","",null,"","","",1,1,"","","","","","","","","","","",null,null,26,"Nonmotorized",2,null,null,null,null,1,null,null,null,null,2,null,null,null,null,1]
[27,"Nonmotorized",null,"CrossNM2","Nonmotorized","WBR","CrossR2","Cross left",null,175,0,0,null,0,20,"","",0.20274912921655375,null,0.505,null,false,false,false,false,1,null,0,0.33333333333333326,null,null,null,1,null,0.16833333333333331,null,0,null,null,"","","","","","","","","","","","","",1,"","",null,"","","","","",1,"","","","","","","","","","",null,null,27,"Nonmotorized",2,null,null,null,null,1,null,null,null,null,2,null,null,null,null,1]
[28,"Nonmotorized",null,"CrossNM2","Nonmotorized","EBT,SBL","CrossT1,RampL2","Cross thru",null,175,0,0,null,0,0,"","",2.0975532400616122E-2,null,0.505,null,false,false,false,false,1,null,0,0.33333333333333326,null,null,null,1,null,0.16833333333333331,null,0,null,null,"","","","","","","","","","","","","",1,"","",null,1,"","","","","","","","","",1,"","","","","",null,null,28,"Nonmotorized",2,null,null,null,null,1,null,null,null,null,2,null,null,null,null,1]
[29,"Nonmotorized",null,"CrossNM2,RampNM1","Nonmotorized","NBR","RampR1","Ramp right",null,350,0,0,null,0,15,"","",0.1205004039155782,null,{"$f":"SSI_RTI_PermFactor","v":1},null,false,false,false,false,1,null,{"$f":"IF(B32=\"Diverging\",\"\",SSI_RTI_VehSpeed_RampThru)","v":0},0.33333333333333326,null,null,null,1,null,0.33333333333333326,null,0,null,null,"","","","","","","","","","","","","",1,1,"",null,"","","","","","","","",1,"","","","","","","",null,null,29,"Nonmotorized",null,1,null,null,null,null,1,null,null,null,null,1,null,null,null,null,1]
[30,"Nonmotorized",null,"RampNM1","Nonmotorized","NBL","RampL1","Signal near",null,175,0,0,null,0,15,"","",0.1205004039155782,null,{"$f":"IF(SSI_RTI_CrossLTPhase=\"Protected/permitted\",SSI_RTI_ProtPermFactor,IF(SSI_RTI_CrossLTPhase=\"Protected\",SSI_RTI_ProtFactor,SSI_RTI_PermFactor))","v":0.505},null,false,false,false,false,1,null,{"$f":"IF(B33=\"Diverging\",\"\",SSI_RTI_VehSpeed_RampThru)","v":0},0.33333333333333326,null,null,null,1,null,0.16833333333333331,null,0,null,null,"","","","","","","","","","","","","","",1,"",null,"","","","","","","",1,"","","","","","","","",null,null,30,"Nonmotorized",null,2,null,null,null,null,2,null,null,null,null,1,null,null,null,null,1]
[31,"Nonmotorized",null,"RampNM1","Nonmotorized","WBR","CrossR2","Cross left",null,175,0,0,null,0,20,"","",0.20274912921655375,null,{"$f":"IF(SSI_RTI_CrossLTPhase=\"Protected/permitted\",SSI_RTI_ProtPermFactor,IF(SSI_RTI_CrossLTPhase=\"Protected\",SSI_RTI_ProtFactor,SSI_RTI_PermFactor))","v":0.505},null,false,false,false,false,1,null,0,0.33333333333333326,null,null,null,1,null,0.16833333333333331,null,0,null,null,"","","","","","","","","","","","","","",1,"",null,"","","","","",1,"","","","","","","","","","",null,null,31,"Nonmotorized",null,2,null,null,null,null,2,null,null,null,null,1,null,null,null,null,1]
[32,"Nonmotorized",null,"RampNM1","Nonmotorized","EBL","CrossL1","Cross right",null,175,0,0,null,0,15,"","",0.1205004039155782,null,{"$f":"SSI_RTI_PermFactor","v":1},null,false,false,false,false,1,null,0,0.33333333333333326,null,null,null,1,null,0.33333333333333326,null,0,null,null,"","","","","","","","","","","","","","",1,"",null,"",1,"","","","","","","","","","","","","","",null,null,32,"Nonmotorized",null,1,1,null,null,null,1,1,null,null,null,1,1,null,null,null,1,1]
[null,null,null,null,null,null,null,null,null,null,null,null,null,null,null,null,null,null,null,null,null,null,null,null,null,null,null,null,null,null,null,null,null,null,null,null,null,null,"O",{"$f":"'SSI Inputs RTI'!$D$28","v":""},{"$f":"'SSI Inputs RTI'!$D$29","v":""},{"$f":"'SSI Inputs RTI'!$D$30","v":""},{"$f":"'SSI Inputs RTI'!$D$32","v":""},{"$f":"'SSI Inputs RTI'!$D$33","v":""},{"$f":"'SSI Inputs RTI'!$D$34","v":""},{"$f":"'SSI Inputs RTI'!$D$36","v":""},{"$f":"'SSI Inputs RTI'!$D$37","v":""},{"$f":"'SSI Inputs RTI'!$D$38","v":""},{"$f":"'SSI Inputs RTI'!$D$40","v":""},{"$f":"'SSI Inputs RTI'!$D$41","v":""},{"$f":"'SSI Inputs RTI'!$D$42","v":""},{"$f":"'SSI Inputs RTI'!$Q$20","v":175},{"$f":"'SSI Inputs RTI'!$Q$21","v":175},{"$f":"'SSI Inputs RTI'!$Q$22","v":175},{"$f":"'SSI Inputs RTI'!$Q$23","v":175},"O",{"$f":"'SSI Inputs RTI'!$D$28","v":""},{"$f":"'SSI Inputs RTI'!$D$29","v":""},{"$f":"'SSI Inputs RTI'!$D$30","v":""},{"$f":"'SSI Inputs RTI'!$D$32","v":""},{"$f":"'SSI Inputs RTI'!$D$33","v":""},{"$f":"'SSI Inputs RTI'!$D$34","v":""},{"$f":"'SSI Inputs RTI'!$D$36","v":""},{"$f":"'SSI Inputs RTI'!$D$37","v":""},{"$f":"'SSI Inputs RTI'!$D$38","v":""},{"$f":"'SSI Inputs RTI'!$D$40","v":""},{"$f":"'SSI Inputs RTI'!$D$41","v":""},{"$f":"'SSI Inputs RTI'!$D$42","v":""},{"$f":"'SSI Inputs RTI'!$Q$20","v":175},{"$f":"'SSI Inputs RTI'!$Q$21","v":175},{"$f":"'SSI Inputs RTI'!$Q$22","v":175},{"$f":"'SSI Inputs RTI'!$Q$23","v":175}]
[null,null,null,null,null,null,null,null,null,null,null,null,null,null,null,null,null,null,null,null,null,null,null,null,null,null,null,null,null,null,null,null,null,null,null,null,null,null,"D",{"$f":"'SSI Inputs RTI'!$E$28","v":""},{"$f":"'SSI Inputs RTI'!$E$29","v":""},{"$f":"'SSI Inputs RTI'!$E$30","v":""},{"$f":"'SSI Inputs RTI'!$E$32","v":""},{"$f":"'SSI Inputs RTI'!$E$33","v":""},{"$f":"'SSI Inputs RTI'!$E$34","v":""},{"$f":"'SSI Inputs RTI'!$E$36","v":""},{"$f":"'SSI Inputs RTI'!$E$37","v":""},{"$f":"'SSI Inputs RTI'!$E$38","v":""},{"$f":"'SSI Inputs RTI'!$E$40","v":""},{"$f":"'SSI Inputs RTI'!$E$41","v":""},{"$f":"'SSI Inputs RTI'!$E$42","v":""},{"$f":"'SSI Inputs RTI'!$R$20","v":175},{"$f":"'SSI Inputs RTI'!$R$21","v":175},{"$f":"'SSI Inputs RTI'!$R$22","v":175},{"$f":"'SSI Inputs RTI'!$R$23","v":175},"D",{"$f":"'SSI Inputs RTI'!$E$28","v":""},{"$f":"'SSI Inputs RTI'!$E$29","v":""},{"$f":"'SSI Inputs RTI'!$E$30","v":""},{"$f":"'SSI Inputs RTI'!$E$32","v":""},{"$f":"'SSI Inputs RTI'!$E$33","v":""},{"$f":"'SSI Inputs RTI'!$E$34","v":""},{"$f":"'SSI Inputs RTI'!$E$36","v":""},{"$f":"'SSI Inputs RTI'!$E$37","v":""},{"$f":"'SSI Inputs RTI'!$E$38","v":""},{"$f":"'SSI Inputs RTI'!$E$40","v":""},{"$f":"'SSI Inputs RTI'!$E$41","v":""},{"$f":"'SSI Inputs RTI'!$E$42","v":""},{"$f":"'SSI Inputs RTI'!$R$20","v":175},{"$f":"'SSI Inputs RTI'!$R$21","v":175},{"$f":"'SSI Inputs RTI'!$R$22","v":175},{"$f":"'SSI Inputs RTI'!$R$23","v":175}]
[]
[]
[]
[]
[]
[]
[]
[]
[]
[]
[]
[]
[]
[]
[]
[]
[]
[]
[]
[]
[]
[]
[]
[]
[]
[]
[]
[]
[]
[]
[]
[]
[]
[]
[]
[]
[]
[]
[]
[]
[]
[]
[]
[]
[]
[]
[]
[]
[]
[]
[]
[]
[]
[]
[]
[]
[]
[]
[]
[]
[]
[]
[]
[null,null,null,null,null,null,null,null,null,"Exposure",null,null,null,null,null,null,null,null,null,null,null,null,null,null,null,null,null,null,null,null,null,null,null,null,null,null,"Exposure-Severity-Complexity Product"]
[null,null,null,null,null,null,null,null,null,"Q1","Q2","I"]
[null,null,null,null,null,null,null,null,null,{"$f":"SUMPRODUCT($AN4:$BC4,$AN$37:$BC$37)","v":0},{"$f":"SUMPRODUCT($BE4:$BT4,$BE$37:$BT$37)","v":0},{"$f":"PRODUCT(J103:K103)","v":0},null,null,null,null,null,null,null,null,null,null,null,null,null,null,null,null,null,null,null,null,null,null,null,null,{"$f":"L103*R4*AI4","v":0}]
[null,null,null,null,null,null,null,null,null,0,0,{"$f":"PRODUCT(J104:K104)","v":0},null,null,null,null,null,null,null,null,null,null,null,null,null,null,null,null,null,null,null,null,null,null,null,null,{"$f":"L104*R5*AI5","v":0}]
[null,null,null,null,null,null,null,null,null,0,0,0,null,null,null,null,null,null,null,null,null,null,null,null,null,null,null,null,null,null,null,null,null,null,null,null,0]
[null,null,null,null,null,null,null,null,null,0,0,0,null,null,null,null,null,null,null,null,null,null,null,null,null,null,null,null,null,null,null,null,null,null,null,null,0]
[null,null,null,null,null,null,null,null,null,0,0,0,null,null,null,null,null,null,null,null,null,null,null,null,null,null,null,null,null,null,null,null,null,null,null,null,0]
[null,null,null,null,null,null,null,null,null,0,0,0,null,null,null,null,null,null,null,null,null,null,null,null,null,null,null,null,null,null,null,null,null,null,null,null,0]
[null,null,null,null,null,null,null,null,null,0,0,0,null,null,null,null,null,null,null,null,null,null,null,null,null,null,null,null,null,null,null,null,null,null,null,null,0]
[null,null,null,null,null,null,null,null,null,0,0,0,null,null,null,null,null,null,null,null,null,null,null,null,null,null,null,null,null,null,null,null,null,null,null,null,0]
[null,null,null,null,null,null,null,null,null,0,0,0,null,null,null,null,null,null,null,null,null,null,null,null,null,null,null,null,null,null,null,null,null,null,null,null,0]
[null,null,null,null,null,null,null,null,null,0,0,0,null,null,null,null,null,null,null,null,null,null,null,null,null,null,null,null,null,null,null,null,null,null,null,null,0]
[null,null,null,null,null,null,null,null,null,0,0,0,null,null,null,null,null,null,null,null,null,null,null,null,null,null,null,null,null,null,null,null,null,null,null,null,0]
[null,null,null,null,null,null,null,null,null,0,0,0,null,null,null,null,null,null,null,null,null,null,null,null,null,null,null,null,null,null,null,null,null,null,null,null,0]
[null,null,null,null,null,null,null,null,null,0,0,0,null,null,null,null,null,null,null,null,null,null,null,null,null,null,null,null,null,null,null,null,null,null,null,null,0]
[null,null,null,null,null,null,null,null,null,0,0,0,null,null,null,null,null,null,null,null,null,null,null,null,null,null,null,null,null,null,null,null,null,null,null,null,0]
[null,null,null,null,null,null,null,null,null,0,0,0,null,null,null,null,null,null,null,null,null,null,null,null,null,null,null,null,null,null,null,null,null,null,null,null,0]
[null,null,null,null,null,null,null,null,null,0,0,0,null,null,null,null,null,null,null,null,null,null,null,null,null,null,null,null,null,null,null,null,null,null,null,null,0]
[null,null,null,null,null,null,null,null,null,0,0,0,null,null,null,null,null,null,null,null,null,null,null,null,null,null,null,null,null,null,null,null,null,null,null,null,0]
[null,null,null,null,null,null,null,null,null,0,0,0,null,null,null,null,null,null,null,null,null,null,null,null,null,null,null,null,null,null,null,null,null,null,null,null,0]
[null,null,null,null,null,null,null,null,null,175,0,0,null,null,null,null,null,null,null,null,null,null,null,null,null,null,null,null,null,null,null,null,null,null,null,null,0]
[null,null,null,null,null,null,null,null,null,175,0,0,null,null,null,null,null,null,null,null,null,null,null,null,null,null,null,null,null,null,null,null,null,null,null,null,0]
[null,null,null,null,null,null,null,null,null,175,0,0,null,null,null,null,null,null,null,null,null,null,null,null,null,null,null,null,null,null,null,null,null,null,null,null,0]
[null,null,null,null,null,null,null,null,null,350,0,0,null,null,null,null,null,null,null,null,null,null,null,null,null,null,null,null,null,null,null,null,null,null,null,null,0]
[null,null,null,null,null,null,null,null,null,175,0,{"$f":"PRODUCT(J125:K125)","v":0},null,null,null,null,null,null,null,null,null,null,null,null,null,null,null,null,null,null,null,null,null,null,null,null,0]
[null,null,null,null,null,null,null,null,null,175,0,0,null,null,null,null,null,null,null,null,null,null,null,null,null,null,null,null,null,null,null,null,null,null,null,null,0]
[null,null,null,null,null,null,null,null,null,175,0,0,null,null,null,null,null,null,null,null,null,null,null,null,null,null,null,null,null,null,null,null,null,null,null,null,0]
[null,null,null,null,null,null,null,null,null,175,0,0,null,null,null,null,null,null,null,null,null,null,null,null,null,null,null,null,null,null,null,null,null,null,null,null,0]
[null,null,null,null,null,null,null,null,null,175,0,0,null,null,null,null,null,null,null,null,null,null,null,null,null,null,null,null,null,null,null,null,null,null,null,null,0]
[null,null,null,null,null,null,null,null,null,175,0,0,null,null,null,null,null,null,null,null,null,null,null,null,null,null,null,null,null,null,null,null,null,null,null,null,0]
[null,null,null,null,null,null,null,null,null,350,0,0,null,null,null,null,null,null,null,null,null,null,null,null,null,null,null,null,null,null,null,null,null,null,null,null,0]
[null,null,null,null,null,null,null,null,null,175,0,0,null,null,null,null,null,null,null,null,null,null,null,null,null,null,null,null,null,null,null,null,null,null,null,null,0]
[null,null,null,null,null,null,null,null,null,175,0,0,null,null,null,null,null,null,null,null,null,null,null,null,null,null,null,null,null,null,null,null,null,null,null,null,0]
[null,null,null,null,null,null,null,null,null,175,0,0,null,null,null,null,null,null,null,null,null,null,null,null,null,null,null,null,null,null,null,null,null,null,null,null,0]

{"sheet":"Half_Diamond","index":15,"n_rows":118,"n_cols":95,"rows_kept":118,"cut":false,"hidden":true,"merged":[[1,86,1,89],[1,91,1,94],[100,9,100,11],[100,36,101,36],[1,34,2,34],[1,36,2,36],[1,39,1,52],[1,56,1,69],[1,76,1,79],[1,81,1,84],[0,19,0,28],[0,30,0,32],[1,9,1,11],[1,13,1,17],[1,21,1,25],[1,27,1,28],[1,30,2,30],[1,31,2,31],[1,32,2,32]]}
[null,null,null,null,null,null,null,null,null,null,null,null,null,null,null,null,null,null,null,"Conflicting Traffic Complexity",null,null,null,null,null,null,null,null,null,null,"Pedestrian Complexity",null,null,null,null,null,null,null,null,null,null,null,null,null,null,null,null,null,null,null,null,null,null,null,null,null,null,null,null,null,null,null,null,null,null,null,null,null,null,null,null,null,null,null,"*impact of median on complexity factors"]
[null,null,null,null,null,null,null,null,null,"Exposure",null,null,null,"Severity",null,null,null,null,null,"Traffic Control",null,"Conflicting Lanes",null,null,null,null,null,"Conflicting Speed",null,null,"Indirect Paths Indicator","Non-intuitive movements indicator","Pedestrian Complexity factor",null,"Total Complexity Multiplier",null,"Exposure-Severity-Complexity Product",null,null,"Included in Mvmt1",null,null,null,null,null,null,null,null,null,null,null,null,null,null,null,null,"Included in Mvmt2",null,null,null,null,null,null,null,null,null,null,null,null,null,null,null,null,null,null,null,"Cross-street: No, Ramps: No",null,null,null,null,"Cross-street: Yes, Ramps: No",null,null,null,null,"Cross-street: No, Ramps: Yes",null,null,null,null,"Cross-street: Yes, Ramps: Yes"]
["#","Conflict Type","Mvmt1","Mvmt1_gen","Mvmt1_SpeedCat","Mvmt2","Mvmt2_gen","Mvmt2_SpeedCat",null,"Q1","Q2","I",null,"Speed_V1","Speed_V2","Angle","delta_V","P_FSI",null,null,null,"CrossC","RampC","CrossM/P","RampM/P","Score",null,"Speed","Factor",null,null,null,null,null,null,null,null,null,null,"CrossT1","CrossL1","CrossR1","CrossT2","CrossL2","CrossR2","RampT1","RampL1","RampR1","RampT2","RampL2","RampR2","CrossNM1","CrossNM2","RampNM1","RampNM2",null,"CrossT1","CrossL1","CrossR1","CrossT2","CrossL2","CrossR2","RampT1","RampL1","RampR1","RampT2","RampL2","RampR2","CrossNM1","CrossNM2","RampNM1","RampNM2",null,null,"#","Conflict Type","MajC","MinC","MajM/P","MinM/P",null,"MajC","MinC","MajM/P","MinM/P",null,"MajC","MinC","MajM/P","MinM/P",null,"MajC","MinC","MajM/P","MinM/P"]
[1,"Crossing - LT","WBL","CrossL2","Cross left","EBT","CrossT1","Cross thru",null,{"$f":"SUMPRODUCT($AN4:$BC4,$AN$20:$BC$20)","v":0},{"$f":"SUMPRODUCT($BE4:$BT4,$BE$20:$BT$20)","v":0},{"$f":"PRODUCT(J4:K4)","v":0},null,{"$f":"VLOOKUP(E4,SSI_RTI_Range_VehSpeed,5,FALSE)","v":20},{"$f":"VLOOKUP(H4,SSI_RTI_Range_VehSpeed,5,FALSE)","v":0},{"$f":"IF(B4=\"Nonmotorized\",\"\",VLOOKUP(B4,SSI_RTI_Range_CollAngles,5,FALSE))","v":230},{"$f":"IF(B4=\"Nonmotorized\",\"\",SQRT(N4^2+O4^2-2*N4*O4*COS(RADIANS(P4)))/2)","v":10},{"$f":"IF(B4=\"Nonmotorized\",1/(1+EXP(3.8432-0.1237*O4)),(Q4/SSI_RTI_RegAlpha)^SSI_RTI_RegK+(Q4/SSI_RTI_RegAlpha)^SSI_RTI_RegK-((Q4/SSI_RTI_RegAlpha)^SSI_RTI_RegK)*((Q4/SSI_RTI_RegAlpha)^SSI_RTI_RegK))","v":1.4431392232699444E-3},null,{"$f":"IF(SSI_RTI_CrossLTPhase=\"Protected/permitted\",SSI_RTI_ProtPermFactor,IF(SSI_RTI_CrossLTPhase=\"Protected\",SSI_RTI_ProtFactor,SSI_RTI_PermFactor))","v":0.505},null,{"$f":"IF(AND(SSI_RTI_CrossStMedian=\"No\", SSI_RTI_RampMedian=\"No\"),BY4,IF(AND(SSI_RTI_CrossStMedian=\"Yes\",SSI_RTI_RampMedian=\"No\"),CD4,IF(AND(SSI_RTI_CrossStMedian=\"No\",SSI_RTI_RampMedian=\"Yes\"),CI4,IF(AND(SSI_RTI_CrossStMedian=\"Yes\",SSI_RTI_RampMedian=\"Yes\"),CN4))))","v":false},false,false,false,{"$f":"MAX(1,IF(B4<>\"Pedestrian\",V4*SSI_RTI_CrossThruLanes+W4*SSI_RTI_Ramp1ThruLanes+X4*IF(SSI_RTI_CrossThruLanes=1,SSI_RTI_MergeWeightL1,IF(SSI_RTI_CrossThruLanes=2,SSI_RTI_MergeWeightL1+SSI_RTI_MergeWeightL2,SSI_RTI_MergeWeightL1+SSI_RTI_MergeWeightL2+SSI_RTI_MergeWeightL3*(SSI_RTI_CrossThruLanes-2)))+Y4*IF(SSI_RTI_Ramp1ThruLanes=1,SSI_RTI_MergeWeightL1,IF(SSI_RTI_Ramp1ThruLanes=2,SSI_RTI_MergeWeightL1+SSI_RTI_MergeWeightL2,SSI_RTI_MergeWeightL1+SSI_RTI_MergeWeightL2+SSI_RTI_MergeWeightL3*(SSI_RTI_Ramp1ThruLanes-2))),V4*SSI_RTI_CrossThruLanes+W4*SSI_RTI_Ramp1ThruLanes+X4*IF(SSI_RTI_CrossThruLanes=1,SSI_RTI_NM_MergeWeightL1,IF(SSI_RTI_CrossThruLanes=2,SSI_RTI_NM_MergeWeightL1+SSI_RTI_NM_MergeWeightL2,SSI_RTI_NM_MergeWeightL1+SSI_RTI_NM_MergeWeightL2+SSI_RTI_NM_MergeWeightL3*(SSI_RTI_CrossThruLanes-2)))+Y4*IF(SSI_RTI_Ramp1ThruLanes=1,SSI_RTI_NM_MergeWeightL1,IF(SSI_RTI_Ramp1ThruLanes=2,SSI_RTI_NM_MergeWeightL1+SSI_RTI_NM_MergeWeightL2,SSI_RTI_NM_MergeWeightL1+SSI_RTI_NM_MergeWeightL2+SSI_RTI_NM_MergeWeightL3*(SSI_RTI_Ramp1ThruLanes-2)))))","v":1},null,{"$f":"IF(B4=\"Diverging\",\"\",SSI_RTI_VehSpeed_CrossThru)","v":0},{"$f":"IF(B4=\"Diverging\",1,1-((60-AB4)/60*0.1/0.15))","v":0.33333333333333326},null,null,null,{"$f":"1+AE4+AF4","v":1},null,{"$f":"PRODUCT(Z4,T4,AC4,AG4)","v":0.16833333333333331},null,{"$f":"L4*R4*AI4","v":0},null,null,{"$f":"IF(ISNUMBER(SEARCH(AN$3,$D4)),1,\"\")","v":""},{"$f":"IF(ISNUMBER(SEARCH(AO$3,$D4)),1,\"\")","v":""},"","",1,"","","","","","","","","","","",null,{"$f":"IF(ISNUMBER(SEARCH(BE$3,$G4)),1,\"\")","v":1},{"$f":"IF(ISNUMBER(SEARCH(BF$3,$G4)),1,\"\")","v":""},"","","","","","","","","","","","","","",null,null,1,"Crossing - LT",1,null,null,null,null,1,null,null,null,null,1,null,null,null,null,1]
[2,"Crossing - LT","NBL","RampL1","Signal near","EBT","CrossT1","Cross thru",null,0,0,{"$f":"PRODUCT(J5:K5)","v":0},null,15,0,230,{"$f":"IF(B5=\"Nonmotorized\",\"\",SQRT(N5^2+O5^2-2*N5*O5*COS(RADIANS(P5)))/2)","v":7.5},4.8454301532720542E-4,null,{"$f":"SSI_RTI_ProtFactor","v":0.505},null,false,false,false,false,1,null,0,0.33333333333333326,null,null,null,{"$f":"1+AE5+AF5","v":1},null,0.16833333333333331,null,{"$f":"L5*R5*AI5","v":0},null,null,{"$f":"IF(ISNUMBER(SEARCH(AN$3,$D5)),1,\"\")","v":""},"","","","","","",1,"","","","","","","","",null,{"$f":"IF(ISNUMBER(SEARCH(BE$3,$G5)),1,\"\")","v":1},"","","","","","","","","","","","","","","",null,null,2,"Crossing - LT",1,null,1,null,null,1,null,null,null,null,1,null,1,null,null,1]
[3,"Merging","EBR","CrossR1","Cross right","WBL","CrossL2","Cross left",null,0,0,0,null,15,20,45,7.0840654162717795,3.9022923271840685E-4,null,{"$f":"SSI_RTI_PermFactor","v":1},null,false,false,false,false,1,null,{"$f":"IF(B6=\"Diverging\",\"\",SSI_RTI_VehSpeed_RampThru)","v":0},0.33333333333333326,null,null,null,1,null,0.33333333333333326,null,0,null,null,"","",1,"","","","","","","","","","","","","",null,"","","","",1,"","","","","","","","","","","",null,null,3,"Merging",null,null,null,1,null,null,null,null,1,null,null,null,null,1,null,null,null,null,1]
[4,"Merging","NBL","RampL1","Signal far","WBT,WBL","CrossT2,CrossL2","Cross thru",null,0,0,0,null,25,0,45,12.5,3.3637551692797651E-3,null,0.505,null,false,false,false,false,1,null,0,0.33333333333333326,null,null,null,1,null,0.16833333333333331,null,0,null,null,"","","","","","","",1,"","","","","","","","",null,"","","",1,1,"","","","","","","","","","","",null,null,4,"Merging",1,null,1,null,null,null,null,1,null,null,1,null,1,null,null,null,null,1]
[5,"Merging","NBR","RampR1","Ramp right","EBT","CrossT1","Cross thru",null,0,0,0,null,15,0,45,7.5,4.8454301532720542E-4,null,1,null,false,false,false,false,1,null,0,0.33333333333333326,null,null,null,1,null,0.33333333333333326,null,0,null,null,"","","","","","","","",1,"","","","","","","",null,1,"","","","","","","","","","","","","","","",null,null,5,"Merging",null,null,1,null,null,null,null,1,null,null,null,null,1,null,null,null,null,1]
[6,"Diverging","EBR","CrossR1","Cross right","EBT","CrossT1","Cross thru",null,0,0,0,null,15,0,10,7.5,4.8454301532720542E-4,null,1,null,false,false,false,false,1,null,"",1,null,null,null,1,null,1,null,0,null,null,"","",1,"","","","","","","","","","","","","",null,1,"","","","","","","","","","","","","","","",null,null,6,"Diverging"]
[7,"Diverging","WBT,NBL","CrossT2,RampL1","Cross thru","WBL","CrossL2","Cross left",null,0,0,0,null,0,20,10,10,1.4431392232699444E-3,null,{"$f":"SSI_RTI_PermFactor","v":1},null,false,false,false,false,1,null,"",1,null,null,null,1,null,1,null,0,null,null,"","","",1,"","","",1,"","","","","","","","",null,"","","","",1,"","","","","","","","","","","",null,null,7,"Diverging"]
[8,"Diverging","NBL","RampL1","Signal near","NBR","RampR1","Ramp right",null,0,0,0,null,15,15,10,1.3073361412148754,6.4061388075216188E-7,null,1,null,false,false,false,false,1,null,"",1,null,null,null,1,null,1,null,0,null,null,"","","","","","","",1,"","","","","","","","",null,"","","","","","","","",1,"","","","","","","",null,null,8,"Diverging"]
[9,"Nonmotorized",null,"CrossNM1","Nonmotorized","WBT,NBL","CrossT2,RampL1","Cross thru",null,175,0,0,null,0,0,"","",2.0975532400616122E-2,null,{"$f":"SSI_RTI_ProtFactor","v":0.505},null,false,false,false,false,1,null,0,0.33333333333333326,null,null,null,1,null,0.16833333333333331,null,0,null,null,"","","","","","","","","","","","",1,"","","",null,"","","",1,"","","",1,"","","","","","","","",null,null,9,"Nonmotorized",2,null,null,null,null,1,null,null,null,null,2,null,null,null,null,1]
[10,"Nonmotorized",null,"CrossNM1","Nonmotorized","EBT","CrossT1","Cross thru",null,175,0,0,null,0,0,"","",2.0975532400616122E-2,null,0.505,null,false,false,false,false,1,null,0,0.33333333333333326,null,null,null,1,null,0.16833333333333331,null,0,null,null,"","","","","","","","","","","","",1,"","","",null,1,"","","","","","","","","","","","","","","",null,null,10,"Nonmotorized",2,null,null,null,null,1,null,null,null,null,2,null,null,null,null,1]
[11,"Nonmotorized",null,"RampNM1","Nonmotorized","WBL","CrossL2","Cross left",null,175,0,0,null,0,20,"","",0.20274912921655375,null,{"$f":"IF(SSI_RTI_CrossLTPhase=\"Protected/permitted\",SSI_RTI_ProtPermFactor,IF(SSI_RTI_CrossLTPhase=\"Protected\",SSI_RTI_ProtFactor,SSI_RTI_PermFactor))","v":0.505},null,false,false,false,false,1,null,0,0.33333333333333326,null,null,null,1,null,0.16833333333333331,null,0,null,null,"","","","","","","","","","","","","","",1,"",null,"","","","",1,"","","","","","","","","","","",null,null,11,"Nonmotorized",null,1,1,null,null,null,1,1,null,null,null,1,1,null,null,null,1,1]
[12,"Nonmotorized",null,"CrossNM1,RampNM1","Nonmotorized","EBR","CrossR1","Cross right",null,350,0,0,null,0,15,"","",0.1205004039155782,null,1,null,false,false,false,false,1,null,0,0.33333333333333326,null,null,null,1,null,0.33333333333333326,null,0,null,null,"","","","","","","","","","","","",1,"",1,"",null,"","",1,"","","","","","","","","","","","","",null,null,12,"Nonmotorized",null,1,1,null,null,null,1,1,null,null,null,1,1,null,null,null,1,1]
[13,"Nonmotorized",null,"CrossNM2","Nonmotorized","WBT,WBL","CrossT2,CrossL2","Cross thru",null,175,0,0,null,0,0,"","",2.0975532400616122E-2,null,{"$f":"SSI_RTI_ProtFactor","v":0.505},null,false,false,false,false,1,null,0,0.33333333333333326,null,null,null,1,null,0.16833333333333331,null,0,null,null,"","","","","","","","","","","","","",1,"","",null,"","","",1,1,"","","","","","","","","","","",null,null,13,"Nonmotorized",2,null,null,null,null,1,null,null,null,null,2,null,null,null,null,1]
[14,"Nonmotorized",null,"CrossNM2","Nonmotorized","EBT","CrossT1","Cross thru",null,175,0,0,null,0,0,"","",2.0975532400616122E-2,null,{"$f":"SSI_RTI_ProtFactor","v":0.505},null,false,false,false,false,1,null,0,0.33333333333333326,null,null,null,1,null,0.16833333333333331,null,0,null,null,"","","","","","","","","","","","","",1,"","",null,1,"","","","","","","","","","","","","","","",null,null,14,"Nonmotorized",2,null,null,null,null,1,null,null,null,null,2,null,null,null,null,1]
[15,"Nonmotorized",null,"RampNM1","Nonmotorized","NBL","RampL1","Signal near",null,175,0,0,null,0,15,"","",0.1205004039155782,null,{"$f":"SSI_RTI_ProtFactor","v":0.505},null,false,false,false,false,1,null,{"$f":"IF(B18=\"Diverging\",\"\",SSI_RTI_VehSpeed_RampThru)","v":0},0.33333333333333326,null,null,null,1,null,0.16833333333333331,null,0,null,null,"","","","","","","","","","","","","","",1,"",null,"","","","","","","",1,"","","","","","","","",null,null,15,"Nonmotorized",null,1,null,null,null,null,1,null,null,null,null,1,null,null,null,null,1]
[16,"Nonmotorized",null,"CrossNM2,RampNM1","Nonmotorized","NBR","RampR1","Ramp right",null,350,0,0,null,0,15,"","",0.1205004039155782,null,1,null,false,false,false,false,1,null,{"$f":"IF(B19=\"Diverging\",\"\",SSI_RTI_VehSpeed_RampThru)","v":0},0.33333333333333326,null,null,null,1,null,0.33333333333333326,null,0,null,null,"","","","","","","","","","","","","",1,1,"",null,"","","","","","","","",1,"","","","","","","",null,null,16,"Nonmotorized",null,1,null,null,null,null,1,null,null,null,null,1,null,null,null,null,1]
[null,null,null,null,null,null,null,null,null,null,null,null,null,null,null,null,null,null,null,null,null,null,null,null,null,null,null,null,null,null,null,null,null,null,null,null,null,null,"O",{"$f":"'SSI Inputs RTI'!$D$28","v":""},{"$f":"'SSI Inputs RTI'!$D$29","v":""},{"$f":"'SSI Inputs RTI'!$D$30","v":""},{"$f":"'SSI Inputs RTI'!$D$32","v":""},{"$f":"'SSI Inputs RTI'!$D$33","v":""},{"$f":"'SSI Inputs RTI'!$D$34","v":""},{"$f":"'SSI Inputs RTI'!$D$36","v":""},{"$f":"'SSI Inputs RTI'!$D$37","v":""},{"$f":"'SSI Inputs RTI'!$D$38","v":""},{"$f":"'SSI Inputs RTI'!$D$40","v":""},{"$f":"'SSI Inputs RTI'!$D$41","v":""},{"$f":"'SSI Inputs RTI'!$D$42","v":""},{"$f":"'SSI Inputs RTI'!$Q$20","v":175},{"$f":"'SSI Inputs RTI'!$Q$21","v":175},{"$f":"'SSI Inputs RTI'!$Q$22","v":175},{"$f":"'SSI Inputs RTI'!$Q$23","v":175},"O",{"$f":"'SSI Inputs RTI'!$D$28","v":""},{"$f":"'SSI Inputs RTI'!$D$29","v":""},{"$f":"'SSI Inputs RTI'!$D$30","v":""},{"$f":"'SSI Inputs RTI'!$D$32","v":""},{"$f":"'SSI Inputs RTI'!$D$33","v":""},{"$f":"'SSI Inputs RTI'!$D$34","v":""},{"$f":"'SSI Inputs RTI'!$D$36","v":""},{"$f":"'SSI Inputs RTI'!$D$37","v":""},{"$f":"'SSI Inputs RTI'!$D$38","v":""},{"$f":"'SSI Inputs RTI'!$D$40","v":""},{"$f":"'SSI Inputs RTI'!$D$41","v":""},{"$f":"'SSI Inputs RTI'!$D$42","v":""},{"$f":"'SSI Inputs RTI'!$Q$20","v":175},{"$f":"'SSI Inputs RTI'!$Q$21","v":175},{"$f":"'SSI Inputs RTI'!$Q$22","v":175},{"$f":"'SSI Inputs RTI'!$Q$23","v":175}]
[null,null,null,null,null,null,null,null,null,null,null,null,null,null,null,null,null,null,null,null,null,null,null,null,null,null,null,null,null,null,null,null,null,null,null,null,null,null,"D",{"$f":"'SSI Inputs RTI'!$E$28","v":""},{"$f":"'SSI Inputs RTI'!$E$29","v":""},{"$f":"'SSI Inputs RTI'!$E$30","v":""},{"$f":"'SSI Inputs RTI'!$E$32","v":""},{"$f":"'SSI Inputs RTI'!$E$33","v":""},{"$f":"'SSI Inputs RTI'!$E$34","v":""},{"$f":"'SSI Inputs RTI'!$E$36","v":""},{"$f":"'SSI Inputs RTI'!$E$37","v":""},{"$f":"'SSI Inputs RTI'!$E$38","v":""},{"$f":"'SSI Inputs RTI'!$E$40","v":""},{"$f":"'SSI Inputs RTI'!$E$41","v":""},{"$f":"'SSI Inputs RTI'!$E$42","v":""},{"$f":"'SSI Inputs RTI'!$R$20","v":175},{"$f":"'SSI Inputs RTI'!$R$21","v":175},{"$f":"'SSI Inputs RTI'!$R$22","v":175},{"$f":"'SSI Inputs RTI'!$R$23","v":175},"D",{"$f":"'SSI Inputs RTI'!$E$28","v":""},{"$f":"'SSI Inputs RTI'!$E$29","v":""},{"$f":"'SSI Inputs RTI'!$E$30","v":""},{"$f":"'SSI Inputs RTI'!$E$32","v":""},{"$f":"'SSI Inputs RTI'!$E$33","v":""},{"$f":"'SSI Inputs RTI'!$E$34","v":""},{"$f":"'SSI Inputs RTI'!$E$36","v":""},{"$f":"'SSI Inputs RTI'!$E$37","v":""},{"$f":"'SSI Inputs RTI'!$E$38","v":""},{"$f":"'SSI Inputs RTI'!$E$40","v":""},{"$f":"'SSI Inputs RTI'!$E$41","v":""},{"$f":"'SSI Inputs RTI'!$E$42","v":""},{"$f":"'SSI Inputs RTI'!$R$20","v":175},{"$f":"'SSI Inputs RTI'!$R$21","v":175},{"$f":"'SSI Inputs RTI'!$R$22","v":175},{"$f":"'SSI Inputs RTI'!$R$23","v":175}]
[]
[]
[]
[]
[]
[]
[]
[]
[]
[]
[]
[]
[]
[]
[]
[]
[]
[]
[]
[]
[]
[]
[]
[]
[]
[]
[]
[]
[]
[]
[]
[]
[]
[]
[]
[]
[]
[]
[]
[]
[]
[]
[]
[]
[]
[]
[]
[]
[]
[]
[]
[]
[]
[]
[]
[]
[]
[]
[]
[]
[]
[]
[]
[]
[]
[]
[]
[]
[]
[]
[]
[]
[]
[]
[]
[]
[]
[]
[]
[null,null,null,null,null,null,null,null,null,"Exposure",null,null,null,null,null,null,null,null,null,null,null,null,null,null,null,null,null,null,null,null,null,null,null,null,null,null,"Exposure-Severity-Complexity Product"]
[null,null,null,null,null,null,null,null,null,"Q1","Q2","I"]
[null,null,null,null,null,null,null,null,null,{"$f":"SUMPRODUCT($AN4:$BC4,$AN$21:$BC$21)","v":0},{"$f":"SUMPRODUCT($BE4:$BT4,$BE$21:$BT$21)","v":0},{"$f":"PRODUCT(J103:K103)","v":0},null,null,null,null,null,null,null,null,null,null,null,null,null,null,null,null,null,null,null,null,null,null,null,null,{"$f":"L103*R4*AI4","v":0}]
[null,null,null,null,null,null,null,null,null,0,0,{"$f":"PRODUCT(J104:K104)","v":0},null,null,null,null,null,null,null,null,null,null,null,null,null,null,null,null,null,null,null,null,null,null,null,null,0]
[null,null,null,null,null,null,null,null,null,0,0,0,null,null,null,null,null,null,null,null,null,null,null,null,null,null,null,null,null,null,null,null,null,null,null,null,0]
[null,null,null,null,null,null,null,null,null,0,0,0,null,null,null,null,null,null,null,null,null,null,null,null,null,null,null,null,null,null,null,null,null,null,null,null,0]
[null,null,null,null,null,null,null,null,null,0,0,0,null,null,null,null,null,null,null,null,null,null,null,null,null,null,null,null,null,null,null,null,null,null,null,null,0]
[null,null,null,null,null,null,null,null,null,0,0,0,null,null,null,null,null,null,null,null,null,null,null,null,null,null,null,null,null,null,null,null,null,null,null,null,0]
[null,null,null,null,null,null,null,null,null,0,0,0,null,null,null,null,null,null,null,null,null,null,null,null,null,null,null,null,null,null,null,null,null,null,null,null,0]
[null,null,null,null,null,null,null,null,null,0,0,0,null,null,null,null,null,null,null,null,null,null,null,null,null,null,null,null,null,null,null,null,null,null,null,null,0]
[null,null,null,null,null,null,null,null,null,175,0,0,null,null,null,null,null,null,null,null,null,null,null,null,null,null,null,null,null,null,null,null,null,null,null,null,0]
[null,null,null,null,null,null,null,null,null,175,0,0,null,null,null,null,null,null,null,null,null,null,null,null,null,null,null,null,null,null,null,null,null,null,null,null,0]
[null,null,null,null,null,null,null,null,null,175,0,0,null,null,null,null,null,null,null,null,null,null,null,null,null,null,null,null,null,null,null,null,null,null,null,null,0]
[null,null,null,null,null,null,null,null,null,350,0,0,null,null,null,null,null,null,null,null,null,null,null,null,null,null,null,null,null,null,null,null,null,null,null,null,0]
[null,null,null,null,null,null,null,null,null,175,0,0,null,null,null,null,null,null,null,null,null,null,null,null,null,null,null,null,null,null,null,null,null,null,null,null,0]
[null,null,null,null,null,null,null,null,null,175,0,0,null,null,null,null,null,null,null,null,null,null,null,null,null,null,null,null,null,null,null,null,null,null,null,null,0]
[null,null,null,null,null,null,null,null,null,175,0,0,null,null,null,null,null,null,null,null,null,null,null,null,null,null,null,null,null,null,null,null,null,null,null,null,0]
[null,null,null,null,null,null,null,null,null,350,0,0,null,null,null,null,null,null,null,null,null,null,null,null,null,null,null,null,null,null,null,null,null,null,null,null,0]

{"sheet":"SSI Inputs RTI","index":16,"n_rows":78,"n_cols":20,"rows_kept":78,"cut":false,"hidden":true,"merged":[[71,1,71,4],[72,1,72,4],[73,1,73,4],[74,1,74,4],[65,1,65,4],[66,1,66,4],[67,1,67,4],[68,1,68,4],[69,1,69,4],[70,1,70,4],[64,1,64,4],[54,1,54,4],[55,1,55,4],[56,1,56,4],[57,1,57,4],[59,1,59,4],[60,1,60,4],[61,1,61,4],[62,1,62,4],[63,1,63,4],[57,11,57,12],[58,1,58,4],[58,11,58,12],[48,1,48,4],[49,1,49,4],[50,1,50,4],[51,1,51,4],[52,1,52,4],[53,1,53,4],[25,19,29,23],[44,1,44,5],[44,7,44,12],[46,1,46,4],[47,1,47,4],[13,1,13,3],[13,12,13,15],[18,7,18,10],[19,7,19,10],[20,1,22,6],[14,7,14,9],[15,7,15,9],[13,7,13,10],[12,1,12,17],[0,0,0,17],[1,0,1,17],[8,1,8,11],[9,1,9,11],[10,1,10,11]]}
["Safe System for Intersection (SSI) Inputs"]
["Specify the geomtric, exposure, severity, and conflicting traffic complexity inputs required for an SSI analysis."]
[]
[null,"1. Roadway Geometry",null,null,null,"Lanes",null,"Major Street Designation",null,null,null,null,null,"Required Inputs"]
[null,"Cross-Street # of Thru Lanes (one direction)",null,null,null,null,null,"Select major street direction",null,null,"N-S",null,null,"Default Available, Override Optional"]
[null,"Ramp 1 # of Lanes",null,null,null,null,null,"Median Presence on Cross Street",null,null,null,null,null,"Planning-Level Default Input"]
[null,"Ramp 2 # of Lanes",null,null,null,null,null,"Median Presence on Ramps",null,null,null,null,null,"Computed Value, Override Optional"]
[null,null,null,null,null,null,null,null,null,null,null,null,null,"Computed Value - No Override"]
[null,"2. Complete the \"Exposure\" inputs.  These inputs will apply to all interesections selected for analysis.",null,null,null,null,null,null,null,null,null,null,null,"Disabled Cell (Often based on input selections)"]
[null,"3. Complete the \"Severity\" inputs"]
[null,"4. Complete the \"Conflicting Traffic Complexity\" inputs"]
[]
[null,"2. Exposure - All Intersections"]
[null,"Average Daily Traffic (veh/day)",null,null,"Open","Design",null,"ADT Directional Split",null,null,null,null,"Nonmotorized Total ADBP (ped-bike/day)",null,null,null,"Activity Level","ADBP Value (ped-bike/day)"]
[null,"Cross-Street",null,null,{"$f":"IF(AND(Input_RTI_OAADTOut1 > 0, Input_RTI_OAADTOut2>0),MAX(Input_RTI_OAADTOut1, Input_RTI_OAADTOut2),\"--\")","v":"--"},{"$f":"IF(AND(Input_RTI_DAADTOut1 > 0, Input_RTI_DAADTOut2>0),MAX(Input_RTI_DAADTOut1, Input_RTI_DAADTOut2),\"--\")","v":"--"},null,"Cross-street Inner Leg",null,null,0.5,null,"Open Year Total Intersection NM",null,null,null,"Medium (700)",700]
[null,"Ramp 1",null,null,{"$f":"IF(Input_RTI_OAADTEx1>0,Input_RTI_OAADTEx1,\"--\")","v":"--"},{"$f":"IF(Input_RTI_DAADTEx1>0,Input_RTI_DAADTEx1,\"--\")","v":"--"},null,"Cross-Street Outer Leg",null,null,0.5,null,"Design Year Total Intersection NM",null,null,null,"Medium (700)",700]
[null,"Ramp 2",null,null,{"$f":"IF(Input_RTI_OAADTEx2>0,Input_RTI_OAADTEx2,\"--\")","v":"--"},{"$f":"IF(Input_RTI_DAADTEx2>0,Input_RTI_DAADTEx2,\"--\")","v":"--"},null,null,null,null,null,null,"(or overwrite ped movement ADBPs below)"]
[]
[null,"Are turning movement ADT values are available?",null,null,null,null,null,"If \"Yes\", input values in Table 2-A",null,null,null,null,"Nonmotorized Movement ADBP (ped-bike/day)",null,null,null,"Open","Design"]
[null,"Are peak hour turning movement counts available?",null,null,null,null,null,"If \"Yes\", input values in Table 2-B",null,null,null,null,"Major NM 1 (NM mvmt crossing Maj1)",null,null,null,{"$f":"$R$15/4","v":175},{"$f":"$R$16/4","v":175}]
[null,"If no turning movment volumes or counts are available, a user can optionally override the planning-level default turning movment proportions in Table 2-C",null,null,null,null,null,null,null,null,null,null,"Major NM 2",null,null,null,{"$f":"$R$15/4","v":175},{"$f":"$R$16/4","v":175}]
[null,null,null,null,null,null,null,null,null,null,null,null,"Minor NM 1",null,null,null,{"$f":"$R$15/4","v":175},{"$f":"$R$16/4","v":175}]
[null,null,null,null,null,null,null,null,null,null,null,null,"Minor NM 2",null,null,null,{"$f":"$R$15/4","v":175},{"$f":"$R$16/4","v":175}]
[]
[]
[null,"Table 2-A: Turning Movement (vol/day)",null,null,null,null,"Table 2-B: Turning Movement Counts (Optional)",null,null,null,null,null,null,null,null,"Table 2-C: Turning Proportions (optional)",null,null,null,"Turning movment proportions specified in Table 2-C (and by extension, the percentages determined in Table 2-B) are considered to be constant between the Open and Design years of the analysis."]
[null,null,null,"Open","Design",null,null,null,"Mvmt","AM Peak","AM %","PM Peak","PM %","Avg %",null,null,null,"Decimal"]
[null,"Cross-Street Thru 1",null,{"$f":"IF($G$19 = \"No\", ROUNDUP($E$15*$K$15*R28,0), \"\")","v":""},{"$f":"IF($G$19 = \"No\", ROUNDUP($F$15*$K$15*R28,0),\"\")","v":""},null,"Cross-Street Thru 1",null,{"$f":"IF('Control Strategy Selection'!$D$45=Notes!$J$26,\"NB\", \"EB\")&\"T\"","v":"EBT"},2065,{"$f":"IF(NOT(ISNUMBER(J28)), \" \", ROUND(J28/SUM(J$28:J$30),2))","v":0.61},1355,{"$f":"IF(NOT(ISNUMBER(L28)), \" \", ROUND(L28/SUM(L$28:L$30),2))","v":0.57999999999999996},{"$f":"IF(OR(G$20=\"No\",G$20=\"\"),\" \",ROUND(AVERAGE(K28,M28),2))","v":" "},null,"Cross-Street Thru 1",null,{"$f":"MAX(0,1-SUM(R29:R30))","v":1}]
[null,"Cross-Street Left Turn 1",null,{"$f":"IF($G$19 = \"No\", ROUNDUP($E$15*$K$15*R29,0), \"\")","v":""},{"$f":"IF($G$19 = \"No\", ROUNDUP($F$15*$K$15*R29,0),\"\")","v":""},null,"Cross-Street Left Turn 1",null,{"$f":"IF('Control Strategy Selection'!$D$45=Notes!$J$26,\"NB\", \"EB\")&\"L\"","v":"EBL"},600,{"$f":"IF(NOT(ISNUMBER(J29)), \" \", ROUND(J29/SUM(J$28:J$30),2))","v":0.18},460,{"$f":"IF(NOT(ISNUMBER(L29)), \" \", ROUND(L29/SUM(L$28:L$30),2))","v":0.2},{"$f":"IF(OR(G$20=\"No\",G$20=\"\"),\" \",ROUND(AVERAGE(K29,M29),2))","v":" "},null,"Cross-Street Left Turn 1",null,{"$f":"IF(AND(J29<>0,L29<>0),N29,0.25)","v":" "}]
[null,"Cross-Street Right Turn 1",null,{"$f":"IF($G$19 = \"No\", ROUNDUP($E$15*$K$15*R30,0), \"\")","v":""},{"$f":"IF($G$19 = \"No\", ROUNDUP($F$15*$K$15*R30,0),\"\")","v":""},null,"Cross-Street Right Turn 1",null,{"$f":"IF('Control Strategy Selection'!$D$45=Notes!$J$26,\"NB\", \"EB\")&\"R\"","v":"EBR"},700,0.21,520,0.22," ",null,"Cross-Street Right Turn 1",null,{"$f":"IF(AND(J30<>0,L30<>0),N30,0.25)","v":" "}]
[]
[null,"Cross-Street Thru 2",null,{"$f":"IF($G$19 = \"No\", ROUNDUP($E$15*$K$15*R32,0),\"\")","v":""},{"$f":"IF($G$19 = \"No\", ROUNDUP($F$15*$K$15*R32,0),\"\")","v":""},null,"Cross-Street Thru 2",null,{"$f":"IF('Control Strategy Selection'!$D$45=Notes!$J$26,\"SB\", \"WB\")&\"T\"","v":"WBT"},1340,{"$f":"IF(NOT(ISNUMBER(J32)), \" \", ROUND(J32/SUM(J$32:J$34),2))","v":0.35},1770,{"$f":"IF(NOT(ISNUMBER(L32)), \" \", L32/SUM(L$32:L$34))","v":0.42548076923076922},{"$f":"IF(OR(G$20=\"No\",G$20=\"\"),\" \",ROUND(AVERAGE(K32,M32),2))","v":" "},null,"Cross-Street Thru 2",null,{"$f":"MAX(0,1-SUM(R33:R34))","v":1}]
[null,"Cross-Street Left Turn 2",null,{"$f":"IF($G$19 = \"No\", ROUNDUP($E$15*$K$15*R33,0),\"\")","v":""},{"$f":"IF($G$19 = \"No\", ROUNDUP($F$15*$K$15*R33,0),\"\")","v":""},null,"Cross-Street Left Turn 2",null,{"$f":"IF('Control Strategy Selection'!$D$45=Notes!$J$26,\"SB\", \"WB\")&\"L\"","v":"WBL"},540,{"$f":"IF(NOT(ISNUMBER(J33)), \" \", ROUND(J33/SUM(J$32:J$34),2))","v":0.14000000000000001},770,{"$f":"IF(NOT(ISNUMBER(L33)), \" \", L33/SUM(L$32:L$34))","v":0.18509615384615385},{"$f":"IF(OR(G$20=\"No\",G$20=\"\"),\" \",ROUND(AVERAGE(K33,M33),2))","v":" "},null,"Cross-Street Left Turn 2",null,{"$f":"IF(AND(J33<>0,L33<>0),N33,0.25)","v":" "}]
[null,"Cross-Street Right Turn 2",null,{"$f":"IF($G$19 = \"No\", ROUNDUP($E$15*$K$15*R34,0),\"\")","v":""},{"$f":"IF($G$19 = \"No\", ROUNDUP($F$15*$K$15*R34,0),\"\")","v":""},null,"Cross-Street Right Turn 2",null,{"$f":"IF('Control Strategy Selection'!$D$45=Notes!$J$26,\"SB\", \"WB\")&\"R\"","v":"WBR"},1900,0.5,1620,0.38942307692307693," ",null,"Cross-Street Right Turn 2",null,{"$f":"IF(AND(J34<>0,L34<>0),N34,0.25)","v":" "}]
[]
[null,"Ramp Thru 1",null,{"$f":"IF($G$19 = \"No\", ROUNDUP($E$16*R36,0),\"\")","v":""},{"$f":"IF($G$19 = \"No\", ROUNDUP($F$16*R36,0),\"\")","v":""},null,"Ramp Thru 1",null,{"$f":"IF('Control Strategy Selection'!$D$45=Notes!$J$26,\"EB\", \"NB\")&\"T\"","v":"NBT"},0,{"$f":"IF(NOT(ISNUMBER(J36)), \" \", ROUND(J36/SUM(J$36:J$38),2))","v":0},0,{"$f":"IF(NOT(ISNUMBER(L36)), \" \", L36/SUM(L$36:L$38))","v":0},{"$f":"IF(OR(G$20=\"No\",G$20=\"\"),\" \",ROUND(AVERAGE(K36,M36),2))","v":" "},null,"Ramp Thru 1",null,{"$f":"MAX(0,1-SUM(R37:R38))","v":1}]
[null,"Ramp Left Turn 1",null,{"$f":"IF($G$19 = \"No\", ROUNDUP($E$16*R37,0),\"\")","v":""},{"$f":"IF($G$19 = \"No\", ROUNDUP($F$16*R37,0),\"\")","v":""},null,"Ramp Left Turn 1",null,{"$f":"IF('Control Strategy Selection'!$D$45=Notes!$J$26,\"EB\", \"NB\")&\"L\"","v":"NBL"},365,{"$f":"IF(NOT(ISNUMBER(J37)), \" \", ROUND(J37/SUM(J$36:J$38),2))","v":0.27},480,{"$f":"IF(NOT(ISNUMBER(L37)), \" \", L37/SUM(L$36:L$38))","v":0.36923076923076925},{"$f":"IF(OR(G$20=\"No\",G$20=\"\"),\" \",ROUND(AVERAGE(K37,M37),2))","v":" "},null,"Ramp Left Turn 1",null,{"$f":"IF(AND(J37<>0,L37<>0),N37,0.49)","v":" "}]
[null,"Ramp Right Turn 1",null,{"$f":"IF($G$19 = \"No\", ROUNDUP($E$16*R38,0),\"\")","v":""},{"$f":"IF($G$19 = \"No\", ROUNDUP($F$16*R38,0),\"\")","v":""},null,"Ramp Right Turn 1",null,{"$f":"IF('Control Strategy Selection'!$D$45=Notes!$J$26,\"EB\", \"NB\")&\"R\"","v":"NBR"},965,0.73,820,0.63076923076923075," ",null,"Ramp Right Turn 1",null,{"$f":"IF(AND(J38<>0,L38<>0),N38,0.49)","v":" "}]
[]
[null,"Ramp Thru 2",null,{"$f":"IF($G$19 = \"No\", ROUNDUP($E$17*R40,0),\"\")","v":""},{"$f":"IF($G$19 = \"No\", ROUNDUP($F$17*R40,0),\"\")","v":""},null,"Ramp Thru 2",null,{"$f":"IF('Control Strategy Selection'!$D$45=Notes!$J$26,\"WB\", \"SB\")&\"T\"","v":"SBT"},0,{"$f":"IF(NOT(ISNUMBER(J40)), \" \", ROUND(J40/SUM(J$40:J$42),2))","v":0},0,{"$f":"IF(NOT(ISNUMBER(L40)), \" \", L40/SUM(L$40:L$42))","v":0},{"$f":"IF(OR(G$20=\"No\",G$20=\"\"),\" \",ROUND(AVERAGE(K40,M40),2))","v":" "},null,"Ramp Thru 2",null,{"$f":"MAX(0,1-SUM(R41:R42))","v":1}]
[null,"Ramp Left Turn 2",null,{"$f":"IF($G$19 = \"No\", ROUNDUP($E$17*R41,0),\"\")","v":""},{"$f":"IF($G$19 = \"No\", ROUNDUP($F$17*R41,0),\"\")","v":""},null,"Ramp Left Turn 2",null,{"$f":"IF('Control Strategy Selection'!$D$45=Notes!$J$26,\"WB\", \"SB\")&\"L\"","v":"SBL"},1390,{"$f":"IF(NOT(ISNUMBER(J41)), \" \", ROUND(J41/SUM(J$40:J$42),2))","v":0.76},1690,{"$f":"IF(NOT(ISNUMBER(L41)), \" \", L41/SUM(L$40:L$42))","v":0.7191489361702128},{"$f":"IF(OR(G$20=\"No\",G$20=\"\"),\" \",ROUND(AVERAGE(K41,M41),2))","v":" "},null,"Ramp Left Turn 2",null,{"$f":"IF(AND(J41<>0,L41<>0),N41,0.49)","v":" "}]
[null,"Ramp Right Turn 2",null,{"$f":"IF($G$19 = \"No\", ROUNDUP($E$17*R42,0),\"\")","v":""},{"$f":"IF($G$19 = \"No\", ROUNDUP($F$17*R42,0),\"\")","v":""},null,"Ramp Right Turn 2",null,{"$f":"IF('Control Strategy Selection'!$D$45=Notes!$J$26,\"WB\", \"SB\")&\"R\"","v":"SBR"},450,{"$f":"IF(NOT(ISNUMBER(J42)), \" \", ROUND(J42/SUM(J$40:J$42),2))","v":0.24},660,0.28085106382978725," ",null,"Ramp Right Turn 2",null,{"$f":"IF(AND(J42<>0,L42<>0),N42,0.49)","v":" "}]
[]
[]
[null,"3. Severity",null,null,null,null,null,"4. Conflicting Traffic Complexity"]
[]
[null,"Vehicle Speeds",null,null,null,"mph",null,"Traffic Control",null,null,null,null,"Decimal"]
[null,"Cross-Street Posted Speed Limit",null,null,null,null,null,"Base Traffic Control Adjustment Value (BTCAV) for permitted",null,null,null,null,1]
[null,"Ramp Posted Speed Limit",null,null,null,null,null,"Base Traffic Control Adjustment Value (BTCAV) for protected/permitted",null,null,null,null,0.85]
[null,null,null,null,null,null,null,"Base Traffic Control Adjustment Value (BTCAV) for protected",null,null,null,null,0.01]
[null,"Cross thru",null,null,null,{"$f":"$F$48","v":0},null,"Base Traffic Control Adjustment Value (BTCAV) for stop-controlled",null,null,null,null,0.45]
[null,"Cross left",null,null,null,20]
[null,"Cross right",null,null,null,15,null,"Weight, f, for permitted",null,null,null,null,0.5]
[null,"Ramp thru",null,null,null,{"$f":"$F$49*0.85","v":0},null,"Weight, f, for protected/permitted",null,null,null,null,0.5]
[null,"Ramp left",null,null,null,20,null,"Weight, f, for protected",null,null,null,null,0.5]
[null,"Ramp right",null,null,null,15,null,"Weight, f, for stop-controlled",null,null,null,null,0.5]
[null,"Stop near",null,null,null,15]
[null,"Stop far",null,null,null,25,null,"Cross-Street LT signal phasing (drop-down)",null,null,null,"Protected"]
[null,"Signal near",null,null,null,15,null,"Ramp LT signal phasing (drop-down)",null,null,null,"Protected"]
[null,"Signal far",null,null,null,25,null,"Exclusive Pedestrian Phasing (drop-down)",null,null,null,null,"No"]
[null,"RAB entering",null,null,null,20]
[null,"RAB circulating",null,null,null,25,null,"Traffic Control Parameter (a_traffic control)"]
[null,"RAB exiting",null,null,null,30,null,"Permitted",null,null,null,null,{"$f":"M48+(1-M53)*(1-M48)","v":1}]
[null,"Nonmotorized",null,null,null,0,null,"Protected/permitted",null,null,null,null,{"$f":"M49+(1-M54)*(1-M49)","v":0.92500000000000004}]
[null,null,null,null,null,null,null,"Protected",null,null,null,null,{"$f":"M50+(1-M55)*(1-M50)","v":0.505}]
[null,"Collision Angles",null,null,null,"deg",null,"Stop-controlled",null,null,null,null,{"$f":"M51+(1-M56)*(1-M51)","v":0.72500000000000009}]
[null,"Crossing",null,null,null,90]
[null,"Crossing - LT",null,null,null,230,null,"Driver Merging Weights (W)"]
[null,"Crossing - RAB",null,null,null,60,null,"Lane 1 (W1)",null,null,null,null,1]
[null,"Merging",null,null,null,45,null,"Lane 2 (W2)",null,null,null,null,0.75]
[null,"Diverging",null,null,null,10,null,"Lane 3+ (W3+)",null,null,null,null,0.5]
[]
[null,"P(FSI) Regression Parameters",null,null,null,null,null,null,null,"Consider nonmotorized complexity factors (Y/N)"]
[null,"alpha",null,null,null,67.286188107741182,null,"Nonmotorized Complexity"]
[null,"k",null,null,null,3.7945000839453997,null,"Nonmotorized Turn Score Weights (W)"]
[null,null,null,null,null,null,null,"Lane 1 (W1)",null,null,null,null,1]
[null,null,null,null,null,null,null,"Lane 2 (W2)",null,null,null,null,0.75]
[null,null,null,null,null,null,null,"Lane 3+ (W3)",null,null,null,null,0.5]

{"sheet":"SPUI","index":17,"n_rows":138,"n_cols":95,"rows_kept":138,"cut":false,"hidden":true,"merged":[[1,86,1,89],[1,91,1,94],[1,34,2,34],[1,36,2,36],[1,39,1,52],[1,56,1,69],[1,76,1,79],[1,81,1,84],[100,9,100,11],[100,36,101,36],[0,19,0,28],[0,30,0,32],[1,9,1,11],[1,13,1,17],[1,21,1,25],[1,27,1,28],[1,30,2,30],[1,31,2,31],[1,32,2,32]]}
[null,null,null,null,null,null,null,null,null,null,null,null,null,null,null,null,null,null,null,"Conflicting Traffic Complexity",null,null,null,null,null,null,null,null,null,null,"Pedestrian Complexity",null,null,null,null,null,null,null,null,null,null,null,null,null,null,null,null,null,null,null,null,null,null,null,null,null,null,null,null,null,null,null,null,null,null,null,null,null,null,null,null,null,null,null,"*impact of median on complexity factors"]
[null,null,null,null,null,null,null,null,null,"Exposure",null,null,null,"Severity",null,null,null,null,null,"Traffic Control",null,"Conflicting Lanes",null,null,null,null,null,"Conflicting Speed",null,null,"Indirect Paths Indicator","Non-intuitive movements indicator","Pedestrian Complexity factor",null,"Total Complexity Multiplier",null,"Exposure-Severity-Complexity Product",null,null,"Included in Mvmt1",null,null,null,null,null,null,null,null,null,null,null,null,null,null,null,null,"Included in Mvmt2",null,null,null,null,null,null,null,null,null,null,null,null,null,null,null,null,null,null,null,"Cross-street: No, Ramps: No Yes",null,null,null,null,"Cross-street: Yes, Ramps: No Yes",null,null,null,null,"Cross-street: No, Ramps: Yes",null,null,null,null,"Cross-street: Yes, Ramps: Yes"]
["#","Conflict Type","Mvmt1","Mvmt1_gen","Mvmt1_SpeedCat","Mvmt2","Mvmt2_gen","Mvmt2_SpeedCat",null,"Q1","Q2","I",null,"Speed_V1","Speed_V2","Angle","delta_V","P_FSI",null,null,null,"CrossC","RampC","CrossM/P","RampM/P","Score",null,"Speed","Factor",null,null,null,null,null,null,null,null,null,null,"CrossT1","CrossL1","CrossR1","CrossT2","CrossL2","CrossR2","RampT1","RampL1","RampR1","RampT2","RampL2","RampR2","CrossNM1","CrossNM2","RampNM1","RampNM2",null,"CrossT1","CrossL1","CrossR1","CrossT2","CrossL2","CrossR2","RampT1","RampL1","RampR1","RampT2","RampL2","RampR2","CrossNM1","CrossNM2","RampNM1","RampNM2",null,null,"#","Conflict Type","MajC","MinC","MajM/P","MinM/P",null,"MajC","MinC","MajM/P","MinM/P",null,"MajC","MinC","MajM/P","MinM/P",null,"MajC","MinC","MajM/P","MinM/P"]
[1,"Crossing - LT","EBL","CrossL1","Cross left","NBL","RampL1","Signal far",null,{"$f":"SUMPRODUCT($AN4:$BC4,$AN$40:$BC$40)","v":0},{"$f":"SUMPRODUCT($BE4:$BT4,$BE$40:$BT$40)","v":0},{"$f":"PRODUCT(J4:K4)","v":0},null,{"$f":"VLOOKUP(E4,SSI_RTI_Range_VehSpeed,5,FALSE)","v":20},{"$f":"VLOOKUP(H4,SSI_RTI_Range_VehSpeed,5,FALSE)","v":25},{"$f":"IF(B4=\"Nonmotorized\",\"\",VLOOKUP(B4,SSI_RTI_Range_CollAngles,5,FALSE))","v":230},{"$f":"IF(B4=\"Nonmotorized\",\"\",SQRT(N4^2+O4^2-2*N4*O4*COS(RADIANS(P4)))/2)","v":20.419277715473552},{"$f":"IF(B4=\"Nonmotorized\",1/(1+EXP(3.8432-0.1237*O4)),(Q4/SSI_RTI_RegAlpha)^SSI_RTI_RegK+(Q4/SSI_RTI_RegAlpha)^SSI_RTI_RegK-((Q4/SSI_RTI_RegAlpha)^SSI_RTI_RegK)*((Q4/SSI_RTI_RegAlpha)^SSI_RTI_RegK))","v":2.1555284139167373E-2},null,{"$f":"SSI_RTI_ProtFactor","v":0.505},null,{"$f":"IF(AND(SSI_RTI_CrossStMedian=\"No\", SSI_RTI_RampMedian=\"No\"),BY4,IF(AND(SSI_RTI_CrossStMedian=\"Yes\",SSI_RTI_RampMedian=\"No\"),CD4,IF(AND(SSI_RTI_CrossStMedian=\"No\",SSI_RTI_RampMedian=\"Yes\"),CI4,IF(AND(SSI_RTI_CrossStMedian=\"Yes\",SSI_RTI_RampMedian=\"Yes\"),CN4))))","v":false},{"$f":"IF(AND(SSI_RTI_CrossStMedian=\"No\", SSI_RTI_RampMedian=\"No\"),BZ4,IF(AND(SSI_RTI_CrossStMedian=\"Yes\",SSI_RTI_RampMedian=\"No\"),CE4,IF(AND(SSI_RTI_CrossStMedian=\"No\",SSI_RTI_RampMedian=\"Yes\"),CJ4,IF(AND(SSI_RTI_CrossStMedian=\"Yes\",SSI_RTI_RampMedian=\"Yes\"),CO4))))","v":false},{"$f":"IF(AND(SSI_RTI_CrossStMedian=\"No\", SSI_RTI_RampMedian=\"No\"),CA4,IF(AND(SSI_RTI_CrossStMedian=\"Yes\",SSI_RTI_RampMedian=\"No\"),CF4,IF(AND(SSI_RTI_CrossStMedian=\"No\",SSI_RTI_RampMedian=\"Yes\"),CK4,IF(AND(SSI_RTI_CrossStMedian=\"Yes\",SSI_RTI_RampMedian=\"Yes\"),CP4))))","v":false},{"$f":"IF(AND(SSI_RTI_CrossStMedian=\"No\", SSI_RTI_RampMedian=\"No\"),CB4,IF(AND(SSI_RTI_CrossStMedian=\"Yes\",SSI_RTI_RampMedian=\"No\"),CG4,IF(AND(SSI_RTI_CrossStMedian=\"No\",SSI_RTI_RampMedian=\"Yes\"),CL4,IF(AND(SSI_RTI_CrossStMedian=\"Yes\",SSI_RTI_RampMedian=\"Yes\"),CQ4))))","v":false},{"$f":"MAX(1,IF(B4<>\"Pedestrian\",V4*SSI_RTI_CrossThruLanes+W4*SSI_RTI_Ramp1ThruLanes+X4*IF(SSI_RTI_CrossThruLanes=1,SSI_RTI_MergeWeightL1,IF(SSI_RTI_CrossThruLanes=2,SSI_RTI_MergeWeightL1+SSI_RTI_MergeWeightL2,SSI_RTI_MergeWeightL1+SSI_RTI_MergeWeightL2+SSI_RTI_MergeWeightL3*(SSI_RTI_CrossThruLanes-2)))+Y4*IF(SSI_RTI_Ramp1ThruLanes=1,SSI_RTI_MergeWeightL1,IF(SSI_RTI_Ramp1ThruLanes=2,SSI_RTI_MergeWeightL1+SSI_RTI_MergeWeightL2,SSI_RTI_MergeWeightL1+SSI_RTI_MergeWeightL2+SSI_RTI_MergeWeightL3*(SSI_RTI_Ramp1ThruLanes-2))),V4*SSI_RTI_CrossThruLanes+W4*SSI_RTI_Ramp1ThruLanes+X4*IF(SSI_RTI_CrossThruLanes=1,SSI_RTI_NM_MergeWeightL1,IF(SSI_RTI_CrossThruLanes=2,SSI_RTI_NM_MergeWeightL1+SSI_RTI_NM_MergeWeightL2,SSI_RTI_NM_MergeWeightL1+SSI_RTI_NM_MergeWeightL2+SSI_RTI_NM_MergeWeightL3*(SSI_RTI_CrossThruLanes-2)))+Y4*IF(SSI_RTI_Ramp1ThruLanes=1,SSI_RTI_NM_MergeWeightL1,IF(SSI_RTI_Ramp1ThruLanes=2,SSI_RTI_NM_MergeWeightL1+SSI_RTI_NM_MergeWeightL2,SSI_RTI_NM_MergeWeightL1+SSI_RTI_NM_MergeWeightL2+SSI_RTI_NM_MergeWeightL3*(SSI_RTI_Ramp1ThruLanes-2)))))","v":1},null,{"$f":"IF(B4=\"Diverging\",\"\",SSI_RTI_VehSpeed_CrossThru)","v":0},{"$f":"IF(B4=\"Diverging\",1,1-((60-AB4)/60*0.1/0.15))","v":0.33333333333333326},null,null,null,{"$f":"1+AE4+AF4","v":1},null,{"$f":"PRODUCT(Z4,T4,AC4,AG4)","v":0.16833333333333331},null,{"$f":"L4*R4*AI4","v":0},null,null,{"$f":"IF(ISNUMBER(SEARCH(AN$3,$D4)),1,\"\")","v":""},{"$f":"IF(ISNUMBER(SEARCH(AO$3,$D4)),1,\"\")","v":1},"","","","","","","","","","","","","","",null,{"$f":"IF(ISNUMBER(SEARCH(BE$3,$G4)),1,\"\")","v":""},{"$f":"IF(ISNUMBER(SEARCH(BF$3,$G4)),1,\"\")","v":""},"","","","","",1,"","","","","","","","",null,null,1,"Crossing - LT",1,0,1,0,null,1,0,0,0,null,1,0,1,0,null,1,0,0,0]
[2,"Crossing - LT","EBT","CrossT1","Cross thru","WBL","CrossL2","Cross left",null,{"$f":"SUMPRODUCT($AN5:$BC5,$AN$40:$BC$40)","v":0},{"$f":"SUMPRODUCT($BE5:$BT5,$BE$40:$BT$40)","v":0},{"$f":"PRODUCT(J5:K5)","v":0},null,0,20,230,{"$f":"IF(B5=\"Nonmotorized\",\"\",SQRT(N5^2+O5^2-2*N5*O5*COS(RADIANS(P5)))/2)","v":10},1.4431392232699444E-3,null,0.505,null,false,false,false,false,1,null,0,0.33333333333333326,null,null,null,{"$f":"1+AE5+AF5","v":1},null,0.16833333333333331,null,{"$f":"L5*R5*AI5","v":0},null,null,1,"","","","","","","","","","","","","","","",null,"","","","",1,"","","","","","","","","","","",null,null,2,"Crossing - LT",1,0,0,0,null,1,0,0,0,null,1,0,0,0,null,1,0,0,0]
[3,"Crossing - LT","WBL","CrossL2","Cross left","NBL","RampL1","Signal near",null,0,0,0,null,20,15,230,15.895538413434787,8.3616736100371632E-3,null,0.505,null,false,false,false,false,1,null,0,0.33333333333333326,null,null,null,1,null,0.16833333333333331,null,0,null,null,"","","","",1,"","","","","","","","","","","",null,"","","","","","","",1,"","","","","","","","",null,null,3,"Crossing - LT",1,0,1,0,null,1,0,0,0,null,1,0,1,0,null,1,0,0,0]
[4,"Crossing - LT","EBT","CrossT1","Cross thru","NBL","RampL1","Signal near",null,0,0,0,null,0,15,230,7.5,4.8454301532720542E-4,null,0.505,null,false,false,false,false,1,null,0,0.33333333333333326,null,null,null,1,null,0.16833333333333331,null,0,null,null,1,"","","","","","","","","","","","","","","",null,"","","","","","","",1,"","","","","","","","",null,null,4,"Crossing - LT",1,0,1,0,null,1,0,0,0,null,1,0,1,0,null,1,0,0,0]
[5,"Crossing - LT","WBL","CrossL2","Cross left","SBL","RampL2","Signal far",null,0,0,0,null,20,25,230,20.419277715473552,2.1555284139167373E-2,null,0.505,null,false,false,false,false,1,null,0,0.33333333333333326,null,null,null,1,null,0.16833333333333331,null,0,null,null,"","","","",1,"","","","","","","","","","","",null,"","","","","","","","","","",1,"","","","","",null,null,5,"Crossing - LT",1,0,1,0,null,1,0,0,0,null,1,0,1,0,null,1,0,0,0]
[6,"Crossing - LT","WBT","CrossT2","Cross thru","EBL","CrossL1","Cross left",null,0,0,0,null,0,20,230,10,1.4431392232699444E-3,null,0.505,null,false,false,false,false,1,null,0,0.33333333333333326,null,null,null,1,null,0.16833333333333331,null,0,null,null,"","","",1,"","","","","","","","","","","","",null,"",1,"","","","","","","","","","","","","","",null,null,6,"Crossing - LT",1,0,0,0,null,1,0,0,0,null,1,0,0,0,null,1,0,0,0]
[7,"Crossing - LT","EBL","CrossL1","Cross left","SBL","RampL2","Signal near",null,0,0,0,null,20,15,230,15.895538413434787,8.3616736100371632E-3,null,0.505,null,false,false,false,false,1,null,0,0.33333333333333326,null,null,null,1,null,0.16833333333333331,null,0,null,null,"",1,"","","","","","","","","","","","","","",null,"","","","","","","","","","",1,"","","","","",null,null,7,"Crossing - LT",1,0,1,0,null,1,0,0,0,null,1,0,1,0,null,1,0,0,0]
[8,"Crossing - LT","WBT","CrossT2","Cross thru","SBL","RampL2","Signal near",null,0,0,0,null,0,15,230,7.5,4.8454301532720542E-4,null,0.505,null,false,false,false,false,1,null,0,0.33333333333333326,null,null,null,1,null,0.16833333333333331,null,0,null,null,"","","",1,"","","","","","","","","","","","",null,"","","","","","","","","","",1,"","","","","",null,null,8,"Crossing - LT",1,0,1,0,null,1,0,0,0,null,1,0,1,0,null,1,0,0,0]
[9,"Merging","WBT,NBL","CrossT2,RampL1","Cross thru","SBR","RampR2","Signal near",null,0,0,0,null,0,15,45,7.5,4.8454301532720542E-4,null,0.505,null,false,false,false,false,1,null,0,0.33333333333333326,null,null,null,1,null,0.16833333333333331,null,0,null,null,"","","",1,"","","",1,"","","","","","","","",null,"","","","","","","","","","","",1,"","","","",null,null,9,"Merging",0,0,1,0,null,0,0,1,0,null,0,0,1,0,null,0,0,1,0]
[10,"Merging","EBR","CrossR1","Cross right","WBL","CrossL2","Cross left",null,0,0,0,null,15,20,45,7.0840654162717795,3.9022923271840685E-4,null,{"$f":"SSI_RTI_PermFactor","v":1},null,false,false,false,false,1,null,0,0.33333333333333326,null,null,null,1,null,0.33333333333333326,null,0,null,null,"","",1,"","","","","","","","","","","","","",null,"","","","",1,"","","","","","","","","","","",null,null,10,"Merging",0,0,0,1,null,0,0,0,1,null,0,0,0,1,null,0,0,0,1]
[11,"Merging","WBT","CrossT2","Cross thru","NBL","RampL1","Signal far",null,0,0,0,null,0,25,45,12.5,3.3637551692797651E-3,null,{"$f":"SSI_RTI_ProtFactor","v":0.505},null,false,false,false,false,1,null,0,0.33333333333333326,null,null,null,1,null,0.16833333333333331,null,0,null,null,"","","",1,"","","","","","","","","","","","",null,"","","","","","","",1,"","","","","","","","",null,null,11,"Merging",1,0,1,0,null,0,0,1,0,null,1,0,1,0,null,0,0,1,0]
[12,"Merging","EBT","CrossT1","Cross thru","SBL","RampL2","Signal far",null,0,0,0,null,0,25,45,12.5,3.3637551692797651E-3,null,{"$f":"SSI_RTI_ProtFactor","v":0.505},null,false,false,false,false,1,null,0,0.33333333333333326,null,null,null,1,null,0.16833333333333331,null,0,null,null,1,"","","","","","","","","","","","","","","",null,"","","","","","","","","","",1,"","","","","",null,null,12,"Merging",1,0,1,0,null,0,0,1,0,null,1,0,1,0,null,0,0,1,0]
[13,"Merging","EBT,SBL","CrossT1,RampL2","Cross thru","NBR","RampR1","Signal near",null,0,0,0,null,0,15,45,7.5,4.8454301532720542E-4,null,{"$f":"SSI_RTI_ProtFactor","v":0.505},null,false,false,false,false,1,null,0,0.33333333333333326,null,null,null,1,null,0.16833333333333331,null,0,null,null,1,"","","","","","","","","",1,"","","","","",null,"","","","","","","","",1,"","","","","","","",null,null,13,"Merging",0,0,1,0,null,0,0,1,0,null,0,0,1,0,null,0,0,1,0]
[14,"Merging","WBR","CrossR2","Cross right","WBL","CrossL2","Cross left",null,0,0,0,null,15,20,45,7.0840654162717795,3.9022923271840685E-4,null,{"$f":"SSI_RTI_PermFactor","v":1},null,false,false,false,false,1,null,0,0.33333333333333326,null,null,null,1,null,0.33333333333333326,null,0,null,null,"","","","","",1,"","","","","","","","","","",null,"","","","",1,"","","","","","","","","","","",null,null,14,"Merging",0,0,0,1,null,0,0,0,1,null,0,0,0,1,null,0,0,0,1]
[15,"Diverging","SBR","RampR2","Signal near","SBL","RampL2","Signal near",null,0,0,0,null,15,15,10,1.3073361412148754,6.4061388075216188E-7,null,1,null,false,false,false,false,1,null,"",1,null,null,null,1,null,1,null,0,null,null,"","","","","","","","","","","",1,"","","","",null,"","","","","","","","","","",1,"","","","","",null,null,15,"Diverging",0,0,0,0,null,0,0,0,0,null,0,0,0,0,null,0,0,0,0]
[16,"Diverging","EBT","CrossT1","Cross thru","EBL","CrossL1","Cross left",null,0,0,0,null,0,20,10,10,1.4431392232699444E-3,null,1,null,false,false,false,false,1,null,"",1,null,null,null,1,null,1,null,0,null,null,1,"","","","","","","","","","","","","","","",null,"",1,"","","","","","","","","","","","","","",null,null,16,"Diverging",0,0,0,0,null,0,0,0,0,null,0,0,0,0,null,0,0,0,0]
[17,"Diverging","EBT","CrossT1","Cross thru","EBR","CrossR1","Cross right",null,0,0,0,null,0,15,10,7.5,4.8454301532720542E-4,null,1,null,false,false,false,false,1,null,"",1,null,null,null,1,null,1,null,0,null,null,1,{"$f":"IF(ISNUMBER(SEARCH(AO$3,$D20)),1,\"\")","v":""},"","","","","","","","","","","","","","",null,"",{"$f":"IF(ISNUMBER(SEARCH(BF$3,$G20)),1,\"\")","v":""},1,"","","","","","","","","","","","","",null,null,17,"Diverging",0,0,0,0,null,0,0,0,0,null,0,0,0,0,null,0,0,0,0]
[18,"Diverging","NBR","RampR1","Signal near","NBL","RampL1","Signal near",null,0,0,0,null,15,15,10,1.3073361412148754,6.4061388075216188E-7,null,1,null,false,false,false,false,1,null,"",1,null,null,null,1,null,1,null,0,null,null,"","","","","","","","",1,"","","","","","","",null,"","","","","","","",1,"","","","","","","","",null,null,18,"Diverging",0,0,0,0,null,0,0,0,0,null,0,0,0,0,null,0,0,0,0]
[19,"Diverging","WBT","CrossT2","Cross thru","WBL","CrossL2","Cross left",null,0,0,0,null,0,20,10,10,1.4431392232699444E-3,null,1,null,false,false,false,false,1,null,"",1,null,null,null,1,null,1,null,0,null,null,"","","",1,"","","","","","","","","","","","",null,"","","","",1,"","","","","","","","","","","",null,null,19,"Diverging",0,0,0,0,null,0,0,0,0,null,0,0,0,0,null,0,0,0,0]
[20,"Diverging","WBT","CrossT2","Cross thru","WBR","CrossR2","Cross right",null,0,0,0,null,0,15,10,7.5,4.8454301532720542E-4,null,1,null,false,false,false,false,1,null,"",1,null,null,null,1,null,1,null,0,null,null,"","","",1,"","","","","","","","","","","","",null,"","","","","",1,"","","","","","","","","","",null,null,20,"Diverging",0,0,0,0,null,0,0,0,0,null,0,0,0,0,null,0,0,0,0]
[21,"Nonmotorized",null,"RampNM2","Nonmotorized","SBL","RampL2","Signal near",null,175,0,0,null,0,15,"","",0.1205004039155782,null,{"$f":"SSI_RTI_ProtFactor","v":0.505},null,false,false,false,false,1,null,{"$f":"IF(B24=\"Diverging\",\"\",SSI_RTI_VehSpeed_SignalNear)","v":15},0.49999999999999989,null,null,null,1,null,0.25249999999999995,null,0,null,null,"","","","","","","","","","","","","","","",1,null,"","","","","","","","","","",1,"","","","","",null,null,21,"Nonmotorized",0,1,0,0,null,0,1,0,0,null,0,1,0,0,null,0,1,0,0]
[22,"Nonmotorized",null,"RampNM2","Nonmotorized","SBR","RampR2","Signal near",null,175,0,0,null,0,15,"","",0.1205004039155782,null,0.505,null,false,false,false,false,1,null,{"$f":"IF(B25=\"Diverging\",\"\",SSI_RTI_VehSpeed_SignalNear)","v":15},0.49999999999999989,null,null,null,1,null,0.25249999999999995,null,{"$f":"L25*R25*AI25","v":0},null,null,"","","","","","","","","","","","","","","",1,null,"","","","","","","","","","","",1,"","","","",null,null,22,"Nonmotorized",0,1,0,0,null,0,1,0,0,null,0,1,0,0,null,0,1,0,0]
[23,"Nonmotorized",null,"CrossNM1","Nonmotorized","WBT","CrossT2","Cross thru",null,175,0,0,null,0,0,"","",2.0975532400616122E-2,null,0.505,null,false,false,false,false,1,null,0,0.33333333333333326,null,1,null,2,null,0.33666666666666661,null,0,null,null,"","","","","","","","","","","","",1,"","","",null,"","","",1,"","","","","","","","","","","","",null,null,23,"Nonmotorized",2,0,0,1,null,1,0,0,1,null,2,0,0,1,null,1,0,0,1]
[24,"Nonmotorized",null,"CrossNM1","Nonmotorized","NBL","RampL1","Signal far",null,175,0,0,null,0,25,"","",0.32066879346345062,null,{"$f":"IF(SSI_RTI_PedExclusive=\"Yes\",SSI_RTI_ProtFactor,SSI_RTI_ProtPermFactor)","v":0.92500000000000004},null,false,false,false,false,1,null,0,0.33333333333333326,null,1,null,2,null,0.61666666666666659,null,0,null,null,"","","","","","","","","","","","",1,"","","",null,"","","","","","","",1,"","","","","","","","",null,null,24,"Nonmotorized",2,0,0,1,null,1,0,0,1,null,2,0,0,1,null,1,0,0,1]
[25,"Nonmotorized",null,"CrossNM1","Nonmotorized","EBL","CrossL1","Cross left",null,175,0,0,null,0,20,"","",0.20274912921655375,null,0.505,null,false,false,false,false,1,null,0,0.33333333333333326,null,1,null,2,null,0.33666666666666661,null,0,null,null,"","","","","","","","","","","","",1,"","","",null,"",1,"","","","","","","","","","","","","","",null,null,25,"Nonmotorized",2,0,0,1,null,1,0,0,0,null,2,0,0,1,null,1,0,0,0]
[26,"Nonmotorized",null,"CrossNM1","Nonmotorized","EBT","CrossT1","Cross thru",null,175,0,0,null,0,0,"","",2.0975532400616122E-2,null,0.505,null,false,false,false,false,1,null,0,0.33333333333333326,null,1,null,2,null,0.33666666666666661,null,0,null,null,"","","","","","","","","","","","",1,"","","",null,1,"","","","","","","","","","","","","","","",null,null,26,"Nonmotorized",2,0,0,1,null,1,0,0,0,null,2,0,0,1,null,1,0,0,0]
[27,"Nonmotorized",null,"RampNM1","Nonmotorized","EBR","CrossR1","Cross right",null,175,0,0,null,0,15,"","",0.1205004039155782,null,{"$f":"SSI_RTI_PermFactor","v":1},null,false,false,false,false,1,null,0,0.33333333333333326,null,null,null,1,null,0.33333333333333326,null,0,null,null,{"$f":"IF(ISNUMBER(SEARCH(AN$3,$D30)),1,\"\")","v":""},"","","","","","","","","","","","","",1,"",null,{"$f":"IF(ISNUMBER(SEARCH(BE$3,$G30)),1,\"\")","v":""},"",1,"","","","","","","","","","","","","",null,null,27,"Nonmotorized",0,1,0,0,null,0,1,0,0,null,0,1,0,0,null,0,1,0,0]
[28,"Nonmotorized",null,"RampNM1","Nonmotorized","WBL","CrossL2","Cross left",null,175,0,0,null,0,20,"","",0.20274912921655375,null,0.505,null,false,false,false,false,1,null,0,0.33333333333333326,null,null,null,1,null,0.16833333333333331,null,0,null,null,"","","","","","","","","","","","","","",1,"",null,"","","","",1,"","","","","","","","","","","",null,null,28,"Nonmotorized",0,1,0,0,null,0,1,0,0,null,0,1,0,0,null,0,1,0,0]
[29,"Nonmotorized",null,"RampNM1","Nonmotorized","NBL","RampL1","Signal near",null,175,0,0,null,0,15,"","",0.1205004039155782,null,0.505,null,false,false,false,false,1,null,{"$f":"IF(B32=\"Diverging\",\"\",SSI_RTI_VehSpeed_SignalNear)","v":15},0.49999999999999989,null,null,null,1,null,0.25249999999999995,null,0,null,null,"","","","","","","","","","","","","","",1,"",null,"","","","","","","",1,"","","","","","","","",null,null,29,"Nonmotorized",0,1,0,0,null,0,1,0,0,null,0,1,0,0,null,0,1,0,0]
[30,"Nonmotorized",null,"RampNM1","Nonmotorized","NBR","RampR1","Signal near",null,175,0,0,null,0,15,"","",0.1205004039155782,null,0.505,null,false,false,false,false,1,null,{"$f":"IF(B33=\"Diverging\",\"\",SSI_RTI_VehSpeed_SignalNear)","v":15},0.49999999999999989,null,null,null,1,null,0.25249999999999995,null,0,null,null,"","","","","","","","","","","","","","",1,"",null,"","","","","","","","",1,"","","","","","","",null,null,30,"Nonmotorized",0,1,0,0,null,0,1,0,0,null,0,1,0,0,null,0,1,0,0]
[31,"Nonmotorized",null,"CrossNM2","Nonmotorized","EBT","CrossT1","Cross thru",null,175,0,0,null,0,0,"","",2.0975532400616122E-2,null,0.505,null,false,false,false,false,1,null,0,0.33333333333333326,null,1,null,2,null,0.33666666666666661,null,0,null,null,"","","","","","","","","","","","","",1,"","",null,1,"","","","","","","","","","","","","","","",null,null,31,"Nonmotorized",2,0,0,1,null,1,0,0,1,null,2,0,0,1,null,1,0,0,1]
[32,"Nonmotorized",null,"CrossNM2","Nonmotorized","SBL","RampL2","Signal far",null,175,0,0,null,0,25,"","",0.32066879346345062,null,{"$f":"IF(SSI_RTI_PedExclusive=\"Yes\",SSI_RTI_ProtPermFactor,SSI_RTI_ProtFactor)","v":0.505},null,false,false,false,false,1,null,0,0.33333333333333326,null,1,null,2,null,0.33666666666666661,null,0,null,null,"","","","","","","","","","","","","",1,"","",null,"","","","","","","","","","",1,"","","","","",null,null,32,"Nonmotorized",2,0,0,1,null,1,0,0,1,null,2,0,0,1,null,1,0,0,1]
[33,"Nonmotorized",null,"CrossNM2","Nonmotorized","WBL","CrossL2","Cross left",null,175,0,0,null,0,20,"","",0.20274912921655375,null,0.505,null,false,false,false,false,1,null,0,0.33333333333333326,null,1,null,2,null,0.33666666666666661,null,0,null,null,"","","","","","","","","","","","","",1,"","",null,"","","","",1,"","","","","","","","","","","",null,null,33,"Nonmotorized",2,0,0,1,null,1,0,0,0,null,2,0,0,1,null,1,0,0,0]
[34,"Nonmotorized",null,"CrossNM2","Nonmotorized","WBT","CrossT2","Cross thru",null,175,0,0,null,0,0,"","",2.0975532400616122E-2,null,0.505,null,false,false,false,false,1,null,0,0.33333333333333326,null,1,null,2,null,0.33666666666666661,null,0,null,null,"","","","","","","","","","","","","",1,"","",null,"","","",1,"","","","","","","","","","","","",null,null,34,"Nonmotorized",2,0,0,1,null,1,0,0,0,null,2,0,0,1,null,1,0,0,0]
[35,"Nonmotorized",null,"RampNM2","Nonmotorized","EBL","CrossL1","Cross left",null,175,0,0,null,0,20,"","",0.20274912921655375,null,0.505,null,false,false,false,false,1,null,0,0.33333333333333326,null,null,null,1,null,0.16833333333333331,null,0,null,null,"","","","","","","","","","","","","","","",1,null,"",1,"","","","","","","","","","","","","","",null,null,35,"Nonmotorized",0,1,0,0,null,0,1,0,0,null,0,1,0,0,null,0,1,0,0]
[36,"Nonmotorized",null,"RampNM2","Nonmotorized","WBR","CrossR2","Cross right",null,175,0,0,null,0,15,"","",0.1205004039155782,null,{"$f":"SSI_RTI_PermFactor","v":1},null,false,false,false,false,1,null,0,0.33333333333333326,null,null,null,1,null,0.33333333333333326,null,0,null,null,"","","","","","","","","","","","","","","",1,null,"","","","","",1,"","","","","","","","","","",null,null,36,"Nonmotorized",0,1,0,0,null,0,1,0,0,null,0,1,0,0,null,0,1,0,0]
[null,null,null,null,null,null,null,null,null,null,null,null,null,null,null,null,null,null,null,null,null,null,null,null,null,null,null,null,null,null,null,null,null,null,null,null,null,null,"O",{"$f":"'SSI Inputs RTI'!$D$28","v":""},{"$f":"'SSI Inputs RTI'!$D$29","v":""},{"$f":"'SSI Inputs RTI'!$D$30","v":""},{"$f":"'SSI Inputs RTI'!$D$32","v":""},{"$f":"'SSI Inputs RTI'!$D$33","v":""},{"$f":"'SSI Inputs RTI'!$D$34","v":""},{"$f":"'SSI Inputs RTI'!$D$36","v":""},{"$f":"'SSI Inputs RTI'!$D$37","v":""},{"$f":"'SSI Inputs RTI'!$D$38","v":""},{"$f":"'SSI Inputs RTI'!$D$40","v":""},{"$f":"'SSI Inputs RTI'!$D$41","v":""},{"$f":"'SSI Inputs RTI'!$D$42","v":""},{"$f":"'SSI Inputs RTI'!$Q$20","v":175},{"$f":"'SSI Inputs RTI'!$Q$21","v":175},{"$f":"'SSI Inputs RTI'!$Q$22","v":175},{"$f":"'SSI Inputs RTI'!$Q$23","v":175},"O",{"$f":"'SSI Inputs RTI'!$D$28","v":""},{"$f":"'SSI Inputs RTI'!$D$29","v":""},{"$f":"'SSI Inputs RTI'!$D$30","v":""},{"$f":"'SSI Inputs RTI'!$D$32","v":""},{"$f":"'SSI Inputs RTI'!$D$33","v":""},{"$f":"'SSI Inputs RTI'!$D$34","v":""},{"$f":"'SSI Inputs RTI'!$D$36","v":""},{"$f":"'SSI Inputs RTI'!$D$37","v":""},{"$f":"'SSI Inputs RTI'!$D$38","v":""},{"$f":"'SSI Inputs RTI'!$D$40","v":""},{"$f":"'SSI Inputs RTI'!$D$41","v":""},{"$f":"'SSI Inputs RTI'!$D$42","v":""},{"$f":"'SSI Inputs RTI'!$Q$20","v":175},{"$f":"'SSI Inputs RTI'!$Q$21","v":175},{"$f":"'SSI Inputs RTI'!$Q$22","v":175},{"$f":"'SSI Inputs RTI'!$Q$23","v":175}]
[null,null,null,null,null,null,null,null,null,null,null,null,null,null,null,null,null,null,null,null,null,null,null,null,null,null,null,null,null,null,null,null,null,null,null,null,null,null,"D",{"$f":"'SSI Inputs RTI'!$E$28","v":""},{"$f":"'SSI Inputs RTI'!$E$29","v":""},{"$f":"'SSI Inputs RTI'!$E$30","v":""},{"$f":"'SSI Inputs RTI'!$E$32","v":""},{"$f":"'SSI Inputs RTI'!$E$33","v":""},{"$f":"'SSI Inputs RTI'!$E$34","v":""},{"$f":"'SSI Inputs RTI'!$E$36","v":""},{"$f":"'SSI Inputs RTI'!$E$37","v":""},{"$f":"'SSI Inputs RTI'!$E$38","v":""},{"$f":"'SSI Inputs RTI'!$E$40","v":""},{"$f":"'SSI Inputs RTI'!$E$41","v":""},{"$f":"'SSI Inputs RTI'!$E$42","v":""},{"$f":"'SSI Inputs RTI'!$R$20","v":175},{"$f":"'SSI Inputs RTI'!$R$21","v":175},{"$f":"'SSI Inputs RTI'!$R$22","v":175},{"$f":"'SSI Inputs RTI'!$R$23","v":175},"D",{"$f":"'SSI Inputs RTI'!$E$28","v":""},{"$f":"'SSI Inputs RTI'!$E$29","v":""},{"$f":"'SSI Inputs RTI'!$E$30","v":""},{"$f":"'SSI Inputs RTI'!$E$32","v":""},{"$f":"'SSI Inputs RTI'!$E$33","v":""},{"$f":"'SSI Inputs RTI'!$E$34","v":""},{"$f":"'SSI Inputs RTI'!$E$36","v":""},{"$f":"'SSI Inputs RTI'!$E$37","v":""},{"$f":"'SSI Inputs RTI'!$E$38","v":""},{"$f":"'SSI Inputs RTI'!$E$40","v":""},{"$f":"'SSI Inputs RTI'!$E$41","v":""},{"$f":"'SSI Inputs RTI'!$E$42","v":""},{"$f":"'SSI Inputs RTI'!$R$20","v":175},{"$f":"'SSI Inputs RTI'!$R$21","v":175},{"$f":"'SSI Inputs RTI'!$R$22","v":175},{"$f":"'SSI Inputs RTI'!$R$23","v":175}]
[]
[]
[]
[]
[]
[]
[]
[]
[]
[]
[]
[]
[]
[]
[]
[]
[]
[]
[]
[]
[]
[]
[]
[]
[]
[]
[]
[]
[]
[]
[]
[]
[]
[]
[]
[]
[]
[]
[]
[]
[]
[]
[]
[]
[]
[]
[]
[]
[]
[]
[]
[]
[]
[]
[]
[]
[]
[]
[]
[null,null,null,null,null,null,null,null,null,"Exposure",null,null,null,null,null,null,null,null,null,null,null,null,null,null,null,null,null,null,null,null,null,null,null,null,null,null,"Exposure-Severity-Complexity Product"]
[null,null,null,null,null,null,null,null,null,"Q1","Q2","I"]
[null,null,null,null,null,null,null,null,null,{"$f":"SUMPRODUCT($AN4:$BC4,$AN$41:$BC$41)","v":0},{"$f":"SUMPRODUCT($BE4:$BT4,$BE$41:$BT$41)","v":0},{"$f":"PRODUCT(J103:K103)","v":0},null,null,null,null,null,null,null,null,null,null,null,null,null,null,null,null,null,null,null,null,null,null,null,null,{"$f":"L103*R4*AI4","v":0}]
[null,null,null,null,null,null,null,null,null,{"$f":"SUMPRODUCT($AN5:$BC5,$AN$41:$BC$41)","v":0},{"$f":"SUMPRODUCT($BE5:$BT5,$BE$41:$BT$41)","v":0},{"$f":"PRODUCT(J104:K104)","v":0},null,null,null,null,null,null,null,null,null,null,null,null,null,null,null,null,null,null,null,null,null,null,null,null,{"$f":"L104*R5*AI5","v":0}]
[null,null,null,null,null,null,null,null,null,0,0,0,null,null,null,null,null,null,null,null,null,null,null,null,null,null,null,null,null,null,null,null,null,null,null,null,0]
[null,null,null,null,null,null,null,null,null,0,0,0,null,null,null,null,null,null,null,null,null,null,null,null,null,null,null,null,null,null,null,null,null,null,null,null,0]
[null,null,null,null,null,null,null,null,null,0,0,0,null,null,null,null,null,null,null,null,null,null,null,null,null,null,null,null,null,null,null,null,null,null,null,null,0]
[null,null,null,null,null,null,null,null,null,0,0,0,null,null,null,null,null,null,null,null,null,null,null,null,null,null,null,null,null,null,null,null,null,null,null,null,0]
[null,null,null,null,null,null,null,null,null,0,0,0,null,null,null,null,null,null,null,null,null,null,null,null,null,null,null,null,null,null,null,null,null,null,null,null,0]
[null,null,null,null,null,null,null,null,null,0,0,0,null,null,null,null,null,null,null,null,null,null,null,null,null,null,null,null,null,null,null,null,null,null,null,null,0]
[null,null,null,null,null,null,null,null,null,0,0,0,null,null,null,null,null,null,null,null,null,null,null,null,null,null,null,null,null,null,null,null,null,null,null,null,0]
[null,null,null,null,null,null,null,null,null,0,0,0,null,null,null,null,null,null,null,null,null,null,null,null,null,null,null,null,null,null,null,null,null,null,null,null,0]
[null,null,null,null,null,null,null,null,null,0,0,0,null,null,null,null,null,null,null,null,null,null,null,null,null,null,null,null,null,null,null,null,null,null,null,null,0]
[null,null,null,null,null,null,null,null,null,0,0,0,null,null,null,null,null,null,null,null,null,null,null,null,null,null,null,null,null,null,null,null,null,null,null,null,0]
[null,null,null,null,null,null,null,null,null,0,0,0,null,null,null,null,null,null,null,null,null,null,null,null,null,null,null,null,null,null,null,null,null,null,null,null,0]
[null,null,null,null,null,null,null,null,null,0,0,0,null,null,null,null,null,null,null,null,null,null,null,null,null,null,null,null,null,null,null,null,null,null,null,null,0]
[null,null,null,null,null,null,null,null,null,0,0,0,null,null,null,null,null,null,null,null,null,null,null,null,null,null,null,null,null,null,null,null,null,null,null,null,0]
[null,null,null,null,null,null,null,null,null,0,0,0,null,null,null,null,null,null,null,null,null,null,null,null,null,null,null,null,null,null,null,null,null,null,null,null,0]
[null,null,null,null,null,null,null,null,null,0,0,0,null,null,null,null,null,null,null,null,null,null,null,null,null,null,null,null,null,null,null,null,null,null,null,null,0]
[null,null,null,null,null,null,null,null,null,0,0,0,null,null,null,null,null,null,null,null,null,null,null,null,null,null,null,null,null,null,null,null,null,null,null,null,0]
[null,null,null,null,null,null,null,null,null,0,0,0,null,null,null,null,null,null,null,null,null,null,null,null,null,null,null,null,null,null,null,null,null,null,null,null,0]
[null,null,null,null,null,null,null,null,null,0,0,0,null,null,null,null,null,null,null,null,null,null,null,null,null,null,null,null,null,null,null,null,null,null,null,null,0]
[null,null,null,null,null,null,null,null,null,175,0,0,null,null,null,null,null,null,null,null,null,null,null,null,null,null,null,null,null,null,null,null,null,null,null,null,0]
[null,null,null,null,null,null,null,null,null,175,0,0,null,null,null,null,null,null,null,null,null,null,null,null,null,null,null,null,null,null,null,null,null,null,null,null,0]
[null,null,null,null,null,null,null,null,null,175,0,0,null,null,null,null,null,null,null,null,null,null,null,null,null,null,null,null,null,null,null,null,null,null,null,null,0]
[null,null,null,null,null,null,null,null,null,175,0,0,null,null,null,null,null,null,null,null,null,null,null,null,null,null,null,null,null,null,null,null,null,null,null,null,0]
[null,null,null,null,null,null,null,null,null,175,0,0,null,null,null,null,null,null,null,null,null,null,null,null,null,null,null,null,null,null,null,null,null,null,null,null,0]
[null,null,null,null,null,null,null,null,null,175,0,0,null,null,null,null,null,null,null,null,null,null,null,null,null,null,null,null,null,null,null,null,null,null,null,null,0]
[null,null,null,null,null,null,null,null,null,175,0,0,null,null,null,null,null,null,null,null,null,null,null,null,null,null,null,null,null,null,null,null,null,null,null,null,0]
[null,null,null,null,null,null,null,null,null,175,0,0,null,null,null,null,null,null,null,null,null,null,null,null,null,null,null,null,null,null,null,null,null,null,null,null,0]
[null,null,null,null,null,null,null,null,null,175,0,0,null,null,null,null,null,null,null,null,null,null,null,null,null,null,null,null,null,null,null,null,null,null,null,null,0]
[null,null,null,null,null,null,null,null,null,175,0,0,null,null,null,null,null,null,null,null,null,null,null,null,null,null,null,null,null,null,null,null,null,null,null,null,0]
[null,null,null,null,null,null,null,null,null,175,0,0,null,null,null,null,null,null,null,null,null,null,null,null,null,null,null,null,null,null,null,null,null,null,null,null,0]
[null,null,null,null,null,null,null,null,null,175,0,0,null,null,null,null,null,null,null,null,null,null,null,null,null,null,null,null,null,null,null,null,null,null,null,null,0]
[null,null,null,null,null,null,null,null,null,175,0,0,null,null,null,null,null,null,null,null,null,null,null,null,null,null,null,null,null,null,null,null,null,null,null,null,0]
[null,null,null,null,null,null,null,null,null,175,0,0,null,null,null,null,null,null,null,null,null,null,null,null,null,null,null,null,null,null,null,null,null,null,null,null,0]
[null,null,null,null,null,null,null,null,null,{"$f":"SUMPRODUCT($AN38:$BC38,$AN$41:$BC$41)","v":175},{"$f":"SUMPRODUCT($BE38:$BT38,$BE$41:$BT$41)","v":0},{"$f":"PRODUCT(J137:K137)","v":0},null,null,null,null,null,null,null,null,null,null,null,null,null,null,null,null,null,null,null,null,null,null,null,null,0]
[null,null,null,null,null,null,null,null,null,175,0,{"$f":"PRODUCT(J138:K138)","v":0},null,null,null,null,null,null,null,null,null,null,null,null,null,null,null,null,null,null,null,null,null,null,null,null,0]

{"sheet":"Conv_Sig","index":18,"n_rows":136,"n_cols":95,"rows_kept":136,"cut":false,"hidden":true,"merged":[[1,76,1,79],[1,81,1,84],[1,86,1,89],[1,91,1,94],[1,34,2,34],[1,36,2,36],[1,39,1,52],[1,56,1,69],[100,9,100,11],[100,36,101,36],[0,19,0,28],[0,30,0,32],[1,9,1,11],[1,13,1,17],[1,21,1,25],[1,27,1,28],[1,30,2,30],[1,31,2,31],[1,32,2,32]]}
[null,null,null,null,null,null,null,null,null,null,null,null,null,null,null,null,null,null,null,"Conflicting Traffic Complexity",null,null,null,null,null,null,null,null,null,null,"Pedestrian Complexity",null,null,null,null,null,null,null,null,null,null,null,null,null,null,null,null,null,null,null,null,null,null,null,null,null,null,null,null,null,null,null,null,null,null,null,null,null,null,null,null,null,null,null,"*impact of median on complexity factors"]
[null,null,null,null,null,null,null,null,null,"Exposure",null,null,null,"Severity",null,null,null,null,null,"Traffic Control",null,"Conflicting Lanes",null,null,null,null,null,"Conflicting Speed",null,null,"Indirect Paths Indicator","Non-intuitive movements indicator","Pedestrian Complexity factor",null,"Total Complexity Multiplier",null,"Exposure-Severity-Complexity Product",null,null,"Included in Mvmt1",null,null,null,null,null,null,null,null,null,null,null,null,null,null,null,null,"Included in Mvmt2",null,null,null,null,null,null,null,null,null,null,null,null,null,null,null,null,null,null,null,"Cross-street: No, Ramps: No",null,null,null,null,"Cross-street: Yes, Ramps: No",null,null,null,null,"Cross-street: No, Ramps: Yes",null,null,null,null,"Cross-street: Yes, Ramps: Yes"]
["#","Conflict Type","Mvmt1","Mvmt1_gen","Mvmt1_SpeedCat","Mvmt2","Mvmt2_gen","Mvmt2_SpeedCat",null,"Q1","Q2","I",null,"Speed_V1","Speed_V2","Angle","delta_V","P_FSI",null,null,null,"CrossC","RampC","CrossM/P","RampM/P","Score",null,"Speed","Factor",null,null,null,null,null,null,null,null,null,null,"CrossT1","CrossL1","CrossR1","CrossT2","CrossL2","CrossR2","RampT1","RampL1","RampR1","RampT2","RampL2","RampR2","CrossNM1","CrossNM2","RampNM1","RampNM2",null,"CrossT1","CrossL1","CrossR1","CrossT2","CrossL2","CrossR2","RampT1","RampL1","RampR1","RampT2","RampL2","RampR2","CrossNM1","CrossNM2","RampNM1","RampNM2",null,null,"#","Conflict Type","MajC","MinC","MajM/P","MinM/P",null,"MajC","MinC","MajM/P","MinM/P",null,"MajC","MinC","MajM/P","MinM/P",null,"MajC","MinC","MajM/P","MinM/P"]
[1,"Crossing - LT","WBL","CrossL2","Cross left","EBT,EBL","CrossT1,CrossL1","Cross thru",null,{"$f":"SUMPRODUCT($AN4:$BC4,$AN$38:$BC$38)","v":0},{"$f":"SUMPRODUCT($BE4:$BT4,$BE$38:$BT$38)","v":0},{"$f":"PRODUCT(J4:K4)","v":0},null,{"$f":"VLOOKUP(E4,SSI_RTI_Range_VehSpeed,5,FALSE)","v":20},{"$f":"VLOOKUP(H4,SSI_RTI_Range_VehSpeed,5,FALSE)","v":0},{"$f":"IF(B4=\"Nonmotorized\",\"\",VLOOKUP(B4,SSI_RTI_Range_CollAngles,5,FALSE))","v":230},{"$f":"IF(B4=\"Nonmotorized\",\"\",SQRT(N4^2+O4^2-2*N4*O4*COS(RADIANS(P4)))/2)","v":10},{"$f":"IF(B4=\"Nonmotorized\",1/(1+EXP(3.8432-0.1237*O4)),(Q4/SSI_RTI_RegAlpha)^SSI_RTI_RegK+(Q4/SSI_RTI_RegAlpha)^SSI_RTI_RegK-((Q4/SSI_RTI_RegAlpha)^SSI_RTI_RegK)*((Q4/SSI_RTI_RegAlpha)^SSI_RTI_RegK))","v":1.4431392232699444E-3},null,{"$f":"IF(SSI_RTI_CrossLTPhase=\"Protected/permitted\",SSI_RTI_ProtPermFactor,IF(SSI_RTI_CrossLTPhase=\"Protected\",SSI_RTI_ProtFactor,SSI_RTI_PermFactor))","v":0.505},null,{"$f":"IF(AND(SSI_RTI_CrossStMedian=\"No\", SSI_RTI_RampMedian=\"No\"),BY4,IF(AND(SSI_RTI_CrossStMedian=\"Yes\",SSI_RTI_RampMedian=\"No\"),CD4,IF(AND(SSI_RTI_CrossStMedian=\"No\",SSI_RTI_RampMedian=\"Yes\"),CI4,IF(AND(SSI_RTI_CrossStMedian=\"Yes\",SSI_RTI_RampMedian=\"Yes\"),CN4))))","v":false},{"$f":"IF(AND(SSI_RTI_CrossStMedian=\"No\", SSI_RTI_RampMedian=\"No\"),BZ4,IF(AND(SSI_RTI_CrossStMedian=\"Yes\",SSI_RTI_RampMedian=\"No\"),CE4,IF(AND(SSI_RTI_CrossStMedian=\"No\",SSI_RTI_RampMedian=\"Yes\"),CJ4,IF(AND(SSI_RTI_CrossStMedian=\"Yes\",SSI_RTI_RampMedian=\"Yes\"),CO4))))","v":false},{"$f":"IF(AND(SSI_RTI_CrossStMedian=\"No\", SSI_RTI_RampMedian=\"No\"),CA4,IF(AND(SSI_RTI_CrossStMedian=\"Yes\",SSI_RTI_RampMedian=\"No\"),CF4,IF(AND(SSI_RTI_CrossStMedian=\"No\",SSI_RTI_RampMedian=\"Yes\"),CK4,IF(AND(SSI_RTI_CrossStMedian=\"Yes\",SSI_RTI_RampMedian=\"Yes\"),CP4))))","v":false},{"$f":"IF(AND(SSI_RTI_CrossStMedian=\"No\", SSI_RTI_RampMedian=\"No\"),CB4,IF(AND(SSI_RTI_CrossStMedian=\"Yes\",SSI_RTI_RampMedian=\"No\"),CG4,IF(AND(SSI_RTI_CrossStMedian=\"No\",SSI_RTI_RampMedian=\"Yes\"),CL4,IF(AND(SSI_RTI_CrossStMedian=\"Yes\",SSI_RTI_RampMedian=\"Yes\"),CQ4))))","v":false},{"$f":"MAX(1,IF(B4<>\"Pedestrian\",V4*SSI_RTI_CrossThruLanes+W4*SSI_RTI_Ramp1ThruLanes+X4*IF(SSI_RTI_CrossThruLanes=1,SSI_RTI_MergeWeightL1,IF(SSI_RTI_CrossThruLanes=2,SSI_RTI_MergeWeightL1+SSI_RTI_MergeWeightL2,SSI_RTI_MergeWeightL1+SSI_RTI_MergeWeightL2+SSI_RTI_MergeWeightL3*(SSI_RTI_CrossThruLanes-2)))+Y4*IF(SSI_RTI_Ramp1ThruLanes=1,SSI_RTI_MergeWeightL1,IF(SSI_RTI_Ramp1ThruLanes=2,SSI_RTI_MergeWeightL1+SSI_RTI_MergeWeightL2,SSI_RTI_MergeWeightL1+SSI_RTI_MergeWeightL2+SSI_RTI_MergeWeightL3*(SSI_RTI_Ramp1ThruLanes-2))),V4*SSI_RTI_CrossThruLanes+W4*SSI_RTI_Ramp1ThruLanes+X4*IF(SSI_RTI_CrossThruLanes=1,SSI_RTI_NM_MergeWeightL1,IF(SSI_RTI_CrossThruLanes=2,SSI_RTI_NM_MergeWeightL1+SSI_RTI_NM_MergeWeightL2,SSI_RTI_NM_MergeWeightL1+SSI_RTI_NM_MergeWeightL2+SSI_RTI_NM_MergeWeightL3*(SSI_RTI_CrossThruLanes-2)))+Y4*IF(SSI_RTI_Ramp1ThruLanes=1,SSI_RTI_NM_MergeWeightL1,IF(SSI_RTI_Ramp1ThruLanes=2,SSI_RTI_NM_MergeWeightL1+SSI_RTI_NM_MergeWeightL2,SSI_RTI_NM_MergeWeightL1+SSI_RTI_NM_MergeWeightL2+SSI_RTI_NM_MergeWeightL3*(SSI_RTI_Ramp1ThruLanes-2)))))","v":1},null,{"$f":"IF(B4=\"Diverging\",\"\",SSI_RTI_VehSpeed_CrossThru)","v":0},{"$f":"IF(B4=\"Diverging\",1,1-((60-AB4)/60*0.1/0.15))","v":0.33333333333333326},null,null,null,{"$f":"1+AE4+AF4","v":1},null,{"$f":"PRODUCT(Z4,T4,AC4,AG4)","v":0.16833333333333331},null,{"$f":"L4*R4*AI4","v":0},null,null,{"$f":"IF(ISNUMBER(SEARCH(AN$3,$D4)),1,\"\")","v":""},{"$f":"IF(ISNUMBER(SEARCH(AO$3,$D4)),1,\"\")","v":""},"","",1,"","","","","","","","","","","",null,{"$f":"IF(ISNUMBER(SEARCH(BE$3,$G4)),1,\"\")","v":1},{"$f":"IF(ISNUMBER(SEARCH(BF$3,$G4)),1,\"\")","v":1},"","","","","","","","","","","","","","",null,null,1,"Crossing - LT",1,0,1,0,null,1,0,1,0,null,1,0,1,0,null,{"$f":"IF(OR(CD4=\"\",CI4=\"\"),\"\",MIN(CD4,CI4))","v":1},{"$f":"IF(OR(CE4=\"\",CJ4=\"\"),\"\",MIN(CE4,CJ4))","v":0},1,0]
[2,"Crossing - LT","SBL","RampL2","Signal far","WBL","CrossL2","Cross left",null,{"$f":"SUMPRODUCT($AN5:$BC5,$AN$38:$BC$38)","v":0},{"$f":"SUMPRODUCT($BE5:$BT5,$BE$38:$BT$38)","v":0},{"$f":"PRODUCT(J5:K5)","v":0},null,25,20,230,{"$f":"IF(B5=\"Nonmotorized\",\"\",SQRT(N5^2+O5^2-2*N5*O5*COS(RADIANS(P5)))/2)","v":20.419277715473552},2.1555284139167373E-2,null,{"$f":"SSI_RTI_ProtFactor","v":0.505},null,{"$f":"IF(AND(SSI_RTI_CrossStMedian=\"No\", SSI_RTI_RampMedian=\"No\"),BY5,IF(AND(SSI_RTI_CrossStMedian=\"Yes\",SSI_RTI_RampMedian=\"No\"),CD5,IF(AND(SSI_RTI_CrossStMedian=\"No\",SSI_RTI_RampMedian=\"Yes\"),CI5,IF(AND(SSI_RTI_CrossStMedian=\"Yes\",SSI_RTI_RampMedian=\"Yes\"),CN5))))","v":false},false,false,false,1,null,0,0.33333333333333326,null,null,null,{"$f":"1+AE5+AF5","v":1},null,0.16833333333333331,null,{"$f":"L5*R5*AI5","v":0},null,null,{"$f":"IF(ISNUMBER(SEARCH(AN$3,$D5)),1,\"\")","v":""},"","","","","","","","","",1,"","","","","",null,{"$f":"IF(ISNUMBER(SEARCH(BE$3,$G5)),1,\"\")","v":""},"","","",1,"","","","","","","","","","","",null,null,2,"Crossing - LT",1,0,1,0,null,1,0,0,0,null,1,0,1,0,null,{"$f":"IF(OR(CD5=\"\",CI5=\"\"),\"\",MIN(CD5,CI5))","v":1},0,0,0]
[3,"Crossing - LT","SBL","RampL2","Signal near","WBT,NBL","CrossT2,RampL1","Cross thru",null,0,0,0,null,15,0,230,7.5,4.8454301532720542E-4,null,{"$f":"SSI_RTI_ProtFactor","v":0.505},null,false,false,false,false,1,null,0,0.33333333333333326,null,null,null,1,null,0.16833333333333331,null,0,null,null,"","","","","","","","","","",1,"","","","","",null,"","","",1,"","","",1,"","","","","","","","",null,null,3,"Crossing - LT",1,0,1,0,null,1,0,0,0,null,1,0,1,0,null,1,0,0,0]
[4,"Crossing - LT","EBL","CrossL1","Cross left","WBT,WBL","CrossT2,CrossL2","Cross thru",null,0,0,0,null,20,0,230,10,1.4431392232699444E-3,null,{"$f":"IF(SSI_RTI_CrossLTPhase=\"Protected/permitted\",SSI_RTI_ProtPermFactor,IF(SSI_RTI_CrossLTPhase=\"Protected\",SSI_RTI_ProtFactor,SSI_RTI_PermFactor))","v":0.505},null,false,false,false,false,1,null,0,0.33333333333333326,null,null,null,1,null,0.16833333333333331,null,0,null,null,"",1,"","","","","","","","","","","","","","",null,"","","",1,1,"","","","","","","","","","","",null,null,4,"Crossing - LT",1,0,1,0,null,1,0,1,0,null,1,0,1,0,null,1,0,1,0]
[5,"Crossing - LT","NBL","RampL1","Signal far","EBL","CrossL1","Cross left",null,0,0,0,null,25,20,230,20.419277715473552,2.1555284139167373E-2,null,{"$f":"SSI_RTI_ProtFactor","v":0.505},null,false,false,false,false,1,null,0,0.33333333333333326,null,null,null,1,null,0.16833333333333331,null,0,null,null,"","","","","","","",1,"","","","","","","","",null,"",1,"","","","","","","","","","","","","","",null,null,5,"Crossing - LT",1,0,1,0,null,1,0,0,0,null,1,0,1,0,null,1,0,0,0]
[6,"Crossing - LT","NBL","RampL1","Signal near","EBT,SBL","CrossT1,RampL2","Cross thru",null,0,0,0,null,15,0,230,7.5,4.8454301532720542E-4,null,0.505,null,false,false,false,false,1,null,0,0.33333333333333326,null,null,null,1,null,0.16833333333333331,null,0,null,null,"","","","","","","",1,"","","","","","","","",null,1,"","","","","","","","","",1,"","","","","",null,null,6,"Crossing - LT",1,0,1,0,null,1,0,0,0,null,1,0,1,0,null,1,0,0,0]
[7,"Merging","SBR","RampR2","Signal near","WBT,NBL","CrossT2,RampL1","Cross thru",null,0,0,0,null,15,0,45,7.5,4.8454301532720542E-4,null,0.505,null,false,false,false,false,1,null,0,0.33333333333333326,null,null,null,1,null,0.16833333333333331,null,0,null,null,"","","","","","","","","","","",1,"","","","",null,"","","",1,"","","",1,"","","","","","","","",null,null,7,"Merging",0,0,1,0,null,0,0,1,0,null,0,0,1,0,null,0,0,1,0]
[8,"Merging","EBR","CrossR1","Cross right","WBL","CrossL2","Cross left",null,0,0,0,null,15,20,45,7.0840654162717795,3.9022923271840685E-4,null,0.505,null,false,false,false,false,1,null,0,0.33333333333333326,null,null,null,1,null,0.16833333333333331,null,0,null,null,"","",1,"","","","","","","","","","","","","",null,"","","","",1,"","","","","","","","","","","",null,null,8,"Merging",1,0,1,0,null,1,0,1,0,null,1,0,1,0,null,1,0,1,0]
[9,"Merging","SBL","RampL2","Signal far","EBT,EBL","CrossT1,CrossL1","Cross thru",null,0,0,0,null,25,0,45,12.5,3.3637551692797651E-3,null,0.505,null,false,false,false,false,1,null,0,0.33333333333333326,null,null,null,1,null,0.16833333333333331,null,0,null,null,"","","","","","","","","","",1,"","","","","",null,1,1,"","","","","","","","","","","","","","",null,null,9,"Merging",1,0,1,0,null,0,0,1,0,null,1,0,1,0,null,0,0,1,0]
[10,"Merging","NBR","RampR1","Signal near","EBT,SBL","CrossT1,RampL2","Cross thru",null,0,0,0,null,15,0,45,7.5,4.8454301532720542E-4,null,0.505,null,false,false,false,false,1,null,0,0.33333333333333326,null,null,null,1,null,0.16833333333333331,null,0,null,null,"","","","","","","","",1,"","","","","","","",null,1,"","","","","","","","","",1,"","","","","",null,null,10,"Merging",0,0,1,0,null,0,0,1,0,null,0,0,1,0,null,0,0,1,0]
[11,"Merging","WBR","CrossR2","Cross right","EBL","CrossL1","Cross left",null,0,0,0,null,15,20,45,7.0840654162717795,3.9022923271840685E-4,null,0.505,null,false,false,false,false,1,null,0,0.33333333333333326,null,null,null,1,null,0.16833333333333331,null,0,null,null,"","","","","",1,"","","","","","","","","","",null,"",1,"","","","","","","","","","","","","","",null,null,11,"Merging",1,0,1,0,null,1,0,1,0,null,1,0,1,0,null,1,0,1,0]
[12,"Merging","NBL","RampL1","Signal far","WBT,WBL","CrossT2,CrossL2","Cross thru",null,0,0,0,null,25,0,45,12.5,3.3637551692797651E-3,null,0.505,null,false,false,false,false,1,null,0,0.33333333333333326,null,null,null,1,null,0.16833333333333331,null,0,null,null,"","","","","","","",1,"","","","","","","","",null,"","","",1,1,"","","","","","","","","","","",null,null,12,"Merging",1,0,1,0,null,0,0,1,0,null,1,0,1,0,null,0,0,1,0]
[13,"Diverging","SBR","RampR2","Signal near","SBL","RampL2","Signal near",null,0,0,0,null,15,15,10,1.3073361412148754,6.4061388075216188E-7,null,{"$f":"SSI_RTI_PermFactor","v":1},null,false,false,false,false,1,null,"",1,null,null,null,1,null,1,null,0,null,null,"","","","","","","","","","","",1,"","","","",null,"","","","","","","","","","",1,"","","","","",null,null,13,"Diverging",0,0,0,0,null,0,0,0,0,null,0,0,0,0,null,0,0,0,0]
[14,"Diverging","EBT, EBL","CrossT1, CrossL1","Cross thru","EBR","CrossR1","Cross right",null,0,0,0,null,0,15,10,7.5,4.8454301532720542E-4,null,1,null,false,false,false,false,1,null,"",1,null,null,null,1,null,1,null,0,null,null,1,1,"","","","","","","","","","","","","","",null,"","",1,"","","","","","","","","","","","","",null,null,14,"Diverging",0,0,0,0,null,0,0,0,0,null,0,0,0,0,null,0,0,0,0]
[15,"Diverging","EBT, SBL","CrossT1, RampL2","Cross thru","EBL","CrossL1","Cross left",null,0,0,0,null,0,20,10,10,1.4431392232699444E-3,null,1,null,false,false,false,false,1,null,"",1,null,null,null,1,null,1,null,0,null,null,1,"","","","","","","","","",1,"","","","","",null,"",1,"","","","","","","","","","","","","","",null,null,15,"Diverging",0,0,0,0,null,0,0,0,0,null,0,0,0,0,null,0,0,0,0]
[16,"Diverging","NBR","RampR1","Signal near","NBL","RampL1","Signal near",null,0,0,0,null,15,15,10,1.3073361412148754,6.4061388075216188E-7,null,1,null,false,false,false,false,1,null,"",1,null,null,null,1,null,1,null,0,null,null,"","","","","","","","",1,"","","","","","","",null,"","","","","","","",1,"","","","","","","","",null,null,16,"Diverging",0,0,0,0,null,0,0,0,0,null,0,0,0,0,null,0,0,0,0]
[17,"Diverging","WBT, WBL","CrossT2, CrossL2","Cross thru","WBR","CrossR2","Cross right",null,0,0,0,null,0,15,10,7.5,4.8454301532720542E-4,null,1,null,false,false,false,false,1,null,"",1,null,null,null,1,null,1,null,0,null,null,"","","",1,1,"","","","","","","","","","","",null,"","","","","",1,"","","","","","","","","","",null,null,17,"Diverging",0,0,0,0,null,0,0,0,0,null,0,0,0,0,null,0,0,0,0]
[18,"Diverging","WBT, NBL","CrossT2, RampL1","Cross thru","WBL","CrossL2","Cross left",null,0,0,0,null,0,20,10,10,1.4431392232699444E-3,null,1,null,false,false,false,false,1,null,"",1,null,null,null,1,null,1,null,0,null,null,"","","",1,"","","",1,"","","","","","","","",null,"","","","",1,"","","","","","","","","","","",null,null,18,"Diverging",0,0,0,0,null,0,0,0,0,null,0,0,0,0,null,0,0,0,0]
[19,"Nonmotorized",null,"RampNM2","Nonmotorized","SBL","RampL2","Signal near",null,175,0,0,null,0,15,"","",0.1205004039155782,null,{"$f":"SSI_RTI_ProtFactor","v":0.505},null,false,false,false,false,1,null,{"$f":"IF(B22=\"Diverging\",\"\",SSI_RTI_VehSpeed_SignalNear)","v":15},0.49999999999999989,null,null,null,1,null,0.25249999999999995,null,0,null,null,"","","","","","","","","","","","","","","",1,null,"","","","","","","","","","",1,"","","","","",null,null,19,"Nonmotorized",0,1,0,0,null,0,1,0,0,null,0,1,0,0,null,0,1,0,0]
[20,"Nonmotorized",null,"RampNM2","Nonmotorized","SBR","RampR2","Signal near",null,175,0,0,null,0,15,"","",0.1205004039155782,null,0.505,null,false,false,false,false,1,null,{"$f":"IF(B23=\"Diverging\",\"\",SSI_RTI_VehSpeed_SignalNear)","v":15},0.49999999999999989,null,null,null,1,null,0.25249999999999995,null,0,null,null,"","","","","","","","","","","","","","","",1,null,"","","","","","","","","","","",1,"","","","",null,null,20,"Nonmotorized",0,1,0,0,null,0,1,0,0,null,0,1,0,0,null,0,1,0,0]
[21,"Nonmotorized",null,"CrossNM1","Nonmotorized","SBR","RampR2","Signal near",null,175,0,0,null,0,15,"","",0.1205004039155782,null,0.505,null,false,false,false,false,1,null,0,0.33333333333333326,null,null,null,1,null,0.16833333333333331,null,0,null,null,"","","","","","","","","","","","",1,"","","",null,"","","","","","","","","","","",1,"","","","",null,null,21,"Nonmotorized",2,0,0,1,null,1,0,0,1,null,2,0,0,1,null,1,0,0,1]
[22,"Nonmotorized",null,"CrossNM1","Nonmotorized","WBT,NBL","CrossT2,RampL1","Cross thru",null,175,0,0,null,0,0,"","",2.0975532400616122E-2,null,0.505,null,false,false,false,false,1,null,0,0.33333333333333326,null,null,null,1,null,0.16833333333333331,null,{"$f":"L25*R25*AI25","v":0},null,null,"","","","","","","","","","","","",1,"","","",null,"","","",1,"","","",1,"","","","","","","","",null,null,22,"Nonmotorized",2,0,0,1,null,1,0,0,1,null,2,0,0,1,null,1,0,0,1]
[23,"Nonmotorized",null,"CrossNM1","Nonmotorized","EBT,EBL","CrossT1,CrossL1","Cross thru",null,175,0,0,null,0,0,"","",2.0975532400616122E-2,null,0.505,null,false,false,false,false,1,null,0,0.33333333333333326,null,null,null,1,null,0.16833333333333331,null,0,null,null,"","","","","","","","","","","","",1,"","","",null,1,1,"","","","","","","","","","","","","","",null,null,23,"Nonmotorized",2,0,0,1,null,1,0,0,0,null,2,0,0,1,null,1,0,0,0]
[24,"Nonmotorized",null,"CrossNM1","Nonmotorized","EBR","CrossR1","Cross right",null,175,0,0,null,0,15,"","",0.1205004039155782,null,0.505,null,false,false,false,false,1,null,0,0.33333333333333326,null,null,null,1,null,0.16833333333333331,null,0,null,null,"","","","","","","","","","","","",1,"","","",null,"","",1,"","","","","","","","","","","","","",null,null,24,"Nonmotorized",2,0,0,1,null,1,0,0,0,null,2,0,0,1,null,1,0,0,0]
[25,"Nonmotorized",null,"RampNM1","Nonmotorized","EBR","CrossR1","Cross right",null,175,0,0,null,0,15,"","",0.1205004039155782,null,0.505,null,false,false,false,false,1,null,0,0.33333333333333326,null,null,null,1,null,0.16833333333333331,null,0,null,null,"","","","","","","","","","","","","","",1,"",null,"","",1,"","","","","","","","","","","","","",null,null,25,"Nonmotorized",0,1,2,0,null,0,1,2,0,null,0,1,1,0,null,0,1,1,0]
[26,"Nonmotorized",null,"RampNM1","Nonmotorized","WBL","CrossL2","Cross left",null,175,0,0,null,0,20,"","",0.20274912921655375,null,{"$f":"IF(SSI_RTI_CrossLTPhase=\"Protected/permitted\",SSI_RTI_ProtPermFactor,IF(SSI_RTI_CrossLTPhase=\"Protected\",SSI_RTI_ProtFactor,SSI_RTI_PermFactor))","v":0.505},null,false,false,false,false,1,null,0,0.33333333333333326,null,null,null,1,null,0.16833333333333331,null,0,null,null,"","","","","","","","","","","","","","",1,"",null,"","","","",1,"","","","","","","","","","","",null,null,26,"Nonmotorized",0,1,2,0,null,0,1,2,0,null,0,1,1,0,null,0,1,1,0]
[27,"Nonmotorized",null,"RampNM1","Nonmotorized","NBL","RampL1","Signal near",null,175,0,0,null,0,15,"","",0.1205004039155782,null,{"$f":"SSI_RTI_ProtFactor","v":0.505},null,false,false,false,false,1,null,{"$f":"IF(B30=\"Diverging\",\"\",SSI_RTI_VehSpeed_SignalNear)","v":15},0.49999999999999989,null,null,null,1,null,0.25249999999999995,null,0,null,null,"","","","","","","","","","","","","","",1,"",null,"","","","","","","",1,"","","","","","","","",null,null,27,"Nonmotorized",0,1,0,0,null,0,1,0,0,null,0,1,0,0,null,0,1,0,0]
[28,"Nonmotorized",null,"RampNM1","Nonmotorized","NBR","RampR1","Signal near",null,175,0,0,null,0,15,"","",0.1205004039155782,null,0.505,null,false,false,false,false,1,null,{"$f":"IF(B31=\"Diverging\",\"\",SSI_RTI_VehSpeed_SignalNear)","v":15},0.49999999999999989,null,null,null,1,null,0.25249999999999995,null,0,null,null,"","","","","","","","","","","","","","",1,"",null,"","","","","","","","",1,"","","","","","","",null,null,28,"Nonmotorized",0,1,0,0,null,0,1,0,0,null,0,1,0,0,null,0,1,0,0]
[29,"Nonmotorized",null,"CrossNM2","Nonmotorized","NBR","RampR1","Signal near",null,175,0,0,null,0,15,"","",0.1205004039155782,null,0.505,null,false,false,false,false,1,null,0,0.33333333333333326,null,null,null,1,null,0.16833333333333331,null,0,null,null,"","","","","","","","","","","","","",1,"","",null,"","","","","","","","",1,"","","","","","","",null,null,29,"Nonmotorized",2,0,0,1,null,1,0,0,1,null,2,0,0,1,null,1,0,0,1]
[30,"Nonmotorized",null,"CrossNM2","Nonmotorized","EBT,SBL","CrossT1,RampL2","Cross thru",null,175,0,0,null,0,0,"","",2.0975532400616122E-2,null,0.505,null,false,false,false,false,1,null,0,0.33333333333333326,null,null,null,1,null,0.16833333333333331,null,0,null,null,"","","","","","","","","","","","","",1,"","",null,1,"","","","","","","","","",1,"","","","","",null,null,30,"Nonmotorized",2,0,0,1,null,1,0,0,1,null,2,0,0,1,null,1,0,0,1]
[31,"Nonmotorized",null,"CrossNM2","Nonmotorized","WBT,WBL","CrossT2,CrossL2","Cross thru",null,175,0,0,null,0,0,"","",2.0975532400616122E-2,null,0.505,null,false,false,false,false,1,null,0,0.33333333333333326,null,null,null,1,null,0.16833333333333331,null,0,null,null,"","","","","","","","","","","","","",1,"","",null,"","","",1,1,"","","","","","","","","","","",null,null,31,"Nonmotorized",2,0,0,1,null,1,0,0,0,null,2,0,0,1,null,1,0,0,0]
[32,"Nonmotorized",null,"CrossNM2","Nonmotorized","WBR","CrossR2","Cross right",null,175,0,0,null,0,15,"","",0.1205004039155782,null,0.505,null,false,false,false,false,1,null,0,0.33333333333333326,null,null,null,1,null,0.16833333333333331,null,0,null,null,{"$f":"IF(ISNUMBER(SEARCH(AN$3,$D35)),1,\"\")","v":""},"","","","","","","","","","","","",1,"","",null,{"$f":"IF(ISNUMBER(SEARCH(BE$3,$G35)),1,\"\")","v":""},"","","","",1,"","","","","","","","","","",null,null,32,"Nonmotorized",2,0,0,1,null,1,0,0,0,null,2,0,0,1,null,1,0,0,0]
[33,"Nonmotorized",null,"RampNM2","Nonmotorized","WBR","CrossR2","Cross right",null,175,0,0,null,0,15,"",{"$f":"IF(B36=\"Nonmotorized\",\"\",SQRT(N36^2+O36^2-2*N36*O36*COS(RADIANS(P36)))/2)","v":""},0.1205004039155782,null,0.505,null,false,false,false,false,1,null,0,0.33333333333333326,null,null,null,1,null,0.16833333333333331,null,0,null,null,"","","","","","","","","","","","","","","",1,null,"","","","","",1,"","","","","","","","","","",null,null,33,"Nonmotorized",0,1,2,0,null,0,1,2,0,null,0,1,1,0,null,0,1,1,0]
[34,"Nonmotorized",null,"RampNM2","Nonmotorized","EBL","CrossL1","Cross left",null,175,0,{"$f":"PRODUCT(J37:K37)","v":0},null,0,20,"","",0.20274912921655375,null,{"$f":"IF(SSI_RTI_CrossLTPhase=\"Protected/permitted\",SSI_RTI_ProtPermFactor,IF(SSI_RTI_CrossLTPhase=\"Protected\",SSI_RTI_ProtFactor,SSI_RTI_PermFactor))","v":0.505},null,false,false,false,false,1,null,0,0.33333333333333326,null,null,null,1,null,0.16833333333333331,null,0,null,null,"","","","","","","","","","","","","","","",1,null,"",1,"","","","","","","","","","","","","","",null,null,34,"Nonmotorized",0,1,2,0,null,0,1,2,0,null,0,1,1,0,null,0,1,1,0]
[null,null,null,null,null,null,null,null,null,null,null,null,null,null,null,null,null,null,null,null,null,null,null,null,null,null,null,null,null,null,null,null,null,null,null,null,null,null,"O",{"$f":"'SSI Inputs RTI'!$D$28","v":""},{"$f":"'SSI Inputs RTI'!$D$29","v":""},{"$f":"'SSI Inputs RTI'!$D$30","v":""},{"$f":"'SSI Inputs RTI'!$D$32","v":""},{"$f":"'SSI Inputs RTI'!$D$33","v":""},{"$f":"'SSI Inputs RTI'!$D$34","v":""},{"$f":"'SSI Inputs RTI'!$D$36","v":""},{"$f":"'SSI Inputs RTI'!$D$37","v":""},{"$f":"'SSI Inputs RTI'!$D$38","v":""},{"$f":"'SSI Inputs RTI'!$D$40","v":""},{"$f":"'SSI Inputs RTI'!$D$41","v":""},{"$f":"'SSI Inputs RTI'!$D$42","v":""},{"$f":"'SSI Inputs RTI'!$Q$20","v":175},{"$f":"'SSI Inputs RTI'!$Q$21","v":175},{"$f":"'SSI Inputs RTI'!$Q$22","v":175},{"$f":"'SSI Inputs RTI'!$Q$23","v":175},"O",{"$f":"'SSI Inputs RTI'!$D$28","v":""},{"$f":"'SSI Inputs RTI'!$D$29","v":""},{"$f":"'SSI Inputs RTI'!$D$30","v":""},{"$f":"'SSI Inputs RTI'!$D$32","v":""},{"$f":"'SSI Inputs RTI'!$D$33","v":""},{"$f":"'SSI Inputs RTI'!$D$34","v":""},{"$f":"'SSI Inputs RTI'!$D$36","v":""},{"$f":"'SSI Inputs RTI'!$D$37","v":""},{"$f":"'SSI Inputs RTI'!$D$38","v":""},{"$f":"'SSI Inputs RTI'!$D$40","v":""},{"$f":"'SSI Inputs RTI'!$D$41","v":""},{"$f":"'SSI Inputs RTI'!$D$42","v":""},{"$f":"'SSI Inputs RTI'!$Q$20","v":175},{"$f":"'SSI Inputs RTI'!$Q$21","v":175},{"$f":"'SSI Inputs RTI'!$Q$22","v":175},{"$f":"'SSI Inputs RTI'!$Q$23","v":175}]
[null,null,null,null,null,null,null,null,null,null,null,null,null,null,null,null,null,null,null,null,null,null,null,null,null,null,null,null,null,null,null,null,null,null,null,null,null,null,"D",{"$f":"'SSI Inputs RTI'!$E$28","v":""},{"$f":"'SSI Inputs RTI'!$E$29","v":""},{"$f":"'SSI Inputs RTI'!$E$30","v":""},{"$f":"'SSI Inputs RTI'!$E$32","v":""},{"$f":"'SSI Inputs RTI'!$E$33","v":""},{"$f":"'SSI Inputs RTI'!$E$34","v":""},{"$f":"'SSI Inputs RTI'!$E$36","v":""},{"$f":"'SSI Inputs RTI'!$E$37","v":""},{"$f":"'SSI Inputs RTI'!$E$38","v":""},{"$f":"'SSI Inputs RTI'!$E$40","v":""},{"$f":"'SSI Inputs RTI'!$E$41","v":""},{"$f":"'SSI Inputs RTI'!$E$42","v":""},{"$f":"'SSI Inputs RTI'!$R$20","v":175},{"$f":"'SSI Inputs RTI'!$R$21","v":175},{"$f":"'SSI Inputs RTI'!$R$22","v":175},{"$f":"'SSI Inputs RTI'!$R$23","v":175},"D",{"$f":"'SSI Inputs RTI'!$E$28","v":""},{"$f":"'SSI Inputs RTI'!$E$29","v":""},{"$f":"'SSI Inputs RTI'!$E$30","v":""},{"$f":"'SSI Inputs RTI'!$E$32","v":""},{"$f":"'SSI Inputs RTI'!$E$33","v":""},{"$f":"'SSI Inputs RTI'!$E$34","v":""},{"$f":"'SSI Inputs RTI'!$E$36","v":""},{"$f":"'SSI Inputs RTI'!$E$37","v":""},{"$f":"'SSI Inputs RTI'!$E$38","v":""},{"$f":"'SSI Inputs RTI'!$E$40","v":""},{"$f":"'SSI Inputs RTI'!$E$41","v":""},{"$f":"'SSI Inputs RTI'!$E$42","v":""},{"$f":"'SSI Inputs RTI'!$R$20","v":175},{"$f":"'SSI Inputs RTI'!$R$21","v":175},{"$f":"'SSI Inputs RTI'!$R$22","v":175},{"$f":"'SSI Inputs RTI'!$R$23","v":175}]
[]
[]
[]
[]
[]
[]
[]
[]
[]
[]
[]
[]
[]
[]
[]
[]
[]
[]
[]
[]
[]
[]
[]
[]
[]
[]
[]
[]
[]
[]
[]
[]
[]
[]
[]
[]
[]
[]
[]
[]
[]
[]
[]
[]
[]
[]
[]
[]
[]
[]
[]
[]
[]
[]
[]
[]
[]
[]
[]
[]
[]
[null,null,null,null,null,null,null,null,null,"Exposure",null,null,null,null,null,null,null,null,null,null,null,null,null,null,null,null,null,null,null,null,null,null,null,null,null,null,"Exposure-Severity-Complexity Product"]
[null,null,null,null,null,null,null,null,null,"Q1","Q2","I"]
[null,null,null,null,null,null,null,null,null,{"$f":"SUMPRODUCT($AN4:$BC4,$AN$39:$BC$39)","v":0},{"$f":"SUMPRODUCT($BE4:$BT4,$BE$39:$BT$39)","v":0},{"$f":"PRODUCT(J103:K103)","v":0},null,null,null,null,null,null,null,null,null,null,null,null,null,null,null,null,null,null,null,null,null,null,null,null,{"$f":"L103*R4*AI4","v":0}]
[null,null,null,null,null,null,null,null,null,{"$f":"SUMPRODUCT($AN5:$BC5,$AN$39:$BC$39)","v":0},{"$f":"SUMPRODUCT($BE5:$BT5,$BE$39:$BT$39)","v":0},{"$f":"PRODUCT(J104:K104)","v":0},null,null,null,null,null,null,null,null,null,null,null,null,null,null,null,null,null,null,null,null,null,null,null,null,{"$f":"L104*R5*AI5","v":0}]
[null,null,null,null,null,null,null,null,null,0,0,0,null,null,null,null,null,null,null,null,null,null,null,null,null,null,null,null,null,null,null,null,null,null,null,null,0]
[null,null,null,null,null,null,null,null,null,0,0,0,null,null,null,null,null,null,null,null,null,null,null,null,null,null,null,null,null,null,null,null,null,null,null,null,0]
[null,null,null,null,null,null,null,null,null,0,0,0,null,null,null,null,null,null,null,null,null,null,null,null,null,null,null,null,null,null,null,null,null,null,null,null,0]
[null,null,null,null,null,null,null,null,null,0,0,0,null,null,null,null,null,null,null,null,null,null,null,null,null,null,null,null,null,null,null,null,null,null,null,null,0]
[null,null,null,null,null,null,null,null,null,0,0,0,null,null,null,null,null,null,null,null,null,null,null,null,null,null,null,null,null,null,null,null,null,null,null,null,0]
[null,null,null,null,null,null,null,null,null,0,0,0,null,null,null,null,null,null,null,null,null,null,null,null,null,null,null,null,null,null,null,null,null,null,null,null,0]
[null,null,null,null,null,null,null,null,null,0,0,0,null,null,null,null,null,null,null,null,null,null,null,null,null,null,null,null,null,null,null,null,null,null,null,null,0]
[null,null,null,null,null,null,null,null,null,0,0,0,null,null,null,null,null,null,null,null,null,null,null,null,null,null,null,null,null,null,null,null,null,null,null,null,0]
[null,null,null,null,null,null,null,null,null,0,0,0,null,null,null,null,null,null,null,null,null,null,null,null,null,null,null,null,null,null,null,null,null,null,null,null,0]
[null,null,null,null,null,null,null,null,null,0,0,0,null,null,null,null,null,null,null,null,null,null,null,null,null,null,null,null,null,null,null,null,null,null,null,null,0]
[null,null,null,null,null,null,null,null,null,0,0,0,null,null,null,null,null,null,null,null,null,null,null,null,null,null,null,null,null,null,null,null,null,null,null,null,0]
[null,null,null,null,null,null,null,null,null,0,0,0,null,null,null,null,null,null,null,null,null,null,null,null,null,null,null,null,null,null,null,null,null,null,null,null,0]
[null,null,null,null,null,null,null,null,null,0,0,0,null,null,null,null,null,null,null,null,null,null,null,null,null,null,null,null,null,null,null,null,null,null,null,null,0]
[null,null,null,null,null,null,null,null,null,0,0,0,null,null,null,null,null,null,null,null,null,null,null,null,null,null,null,null,null,null,null,null,null,null,null,null,0]
[null,null,null,null,null,null,null,null,null,0,0,0,null,null,null,null,null,null,null,null,null,null,null,null,null,null,null,null,null,null,null,null,null,null,null,null,0]
[null,null,null,null,null,null,null,null,null,0,0,0,null,null,null,null,null,null,null,null,null,null,null,null,null,null,null,null,null,null,null,null,null,null,null,null,0]
[null,null,null,null,null,null,null,null,null,175,0,0,null,null,null,null,null,null,null,null,null,null,null,null,null,null,null,null,null,null,null,null,null,null,null,null,0]
[null,null,null,null,null,null,null,null,null,175,0,0,null,null,null,null,null,null,null,null,null,null,null,null,null,null,null,null,null,null,null,null,null,null,null,null,0]
[null,null,null,null,null,null,null,null,null,175,0,0,null,null,null,null,null,null,null,null,null,null,null,null,null,null,null,null,null,null,null,null,null,null,null,null,0]
[null,null,null,null,null,null,null,null,null,175,0,0,null,null,null,null,null,null,null,null,null,null,null,null,null,null,null,null,null,null,null,null,null,null,null,null,0]
[null,null,null,null,null,null,null,null,null,175,0,0,null,null,null,null,null,null,null,null,null,null,null,null,null,null,null,null,null,null,null,null,null,null,null,null,0]
[null,null,null,null,null,null,null,null,null,175,0,0,null,null,null,null,null,null,null,null,null,null,null,null,null,null,null,null,null,null,null,null,null,null,null,null,0]
[null,null,null,null,null,null,null,null,null,175,0,0,null,null,null,null,null,null,null,null,null,null,null,null,null,null,null,null,null,null,null,null,null,null,null,null,0]
[null,null,null,null,null,null,null,null,null,175,0,0,null,null,null,null,null,null,null,null,null,null,null,null,null,null,null,null,null,null,null,null,null,null,null,null,0]
[null,null,null,null,null,null,null,null,null,175,0,0,null,null,null,null,null,null,null,null,null,null,null,null,null,null,null,null,null,null,null,null,null,null,null,null,0]
[null,null,null,null,null,null,null,null,null,175,0,0,null,null,null,null,null,null,null,null,null,null,null,null,null,null,null,null,null,null,null,null,null,null,null,null,0]
[null,null,null,null,null,null,null,null,null,175,0,0,null,null,null,null,null,null,null,null,null,null,null,null,null,null,null,null,null,null,null,null,null,null,null,null,0]
[null,null,null,null,null,null,null,null,null,175,0,0,null,null,null,null,null,null,null,null,null,null,null,null,null,null,null,null,null,null,null,null,null,null,null,null,0]
[null,null,null,null,null,null,null,null,null,175,0,0,null,null,null,null,null,null,null,null,null,null,null,null,null,null,null,null,null,null,null,null,null,null,null,null,0]
[null,null,null,null,null,null,null,null,null,175,0,0,null,null,null,null,null,null,null,null,null,null,null,null,null,null,null,null,null,null,null,null,null,null,null,null,0]
[null,null,null,null,null,null,null,null,null,175,0,0,null,null,null,null,null,null,null,null,null,null,null,null,null,null,null,null,null,null,null,null,null,null,null,null,0]
[null,null,null,null,null,null,null,null,null,175,0,0,null,null,null,null,null,null,null,null,null,null,null,null,null,null,null,null,null,null,null,null,null,null,null,null,0]

{"sheet":"Conv_Ramp_Stop","index":19,"n_rows":136,"n_cols":72,"rows_kept":136,"cut":false,"hidden":true,"merged":[[1,34,2,34],[1,36,2,36],[1,39,1,52],[1,56,1,69],[100,9,100,11],[100,36,101,36],[0,19,0,28],[0,30,0,32],[1,9,1,11],[1,13,1,17],[1,21,1,25],[1,27,1,28],[1,30,2,30],[1,31,2,31],[1,32,2,32]]}
[null,null,null,null,null,null,null,null,null,null,null,null,null,null,null,null,null,null,null,"Conflicting Traffic Complexity",null,null,null,null,null,null,null,null,null,null,"Pedestrian Complexity"]
[null,null,null,null,null,null,null,null,null,"Exposure",null,null,null,"Severity",null,null,null,null,null,"Traffic Control",null,"Conflicting Lanes",null,null,null,null,null,"Conflicting Speed",null,null,"Indirect Paths Indicator","Non-intuitive movements indicator","Pedestrian Complexity factor",null,"Total Complexity Multiplier",null,"Exposure-Severity-Complexity Product",null,null,"Included in Mvmt1",null,null,null,null,null,null,null,null,null,null,null,null,null,null,null,null,"Included in Mvmt2"]
["#","Conflict Type","Mvmt1","Mvmt1_gen","Mvmt1_SpeedCat","Mvmt2","Mvmt2_gen","Mvmt2_SpeedCat",null,"Q1","Q2","I",null,"Speed_V1","Speed_V2","Angle","delta_V","P_FSI",null,null,null,"CrossC","RampC","CrossM/P","RampM/P","Score",null,"Speed","Factor",null,null,null,null,null,null,null,null,null,null,"CrossT1","CrossL1","CrossR1","CrossT2","CrossL2","CrossR2","RampT1","RampL1","RampR1","RampT2","RampL2","RampR2","CrossNM1","CrossNM2","RampNM1","RampNM2",null,"CrossT1","CrossL1","CrossR1","CrossT2","CrossL2","CrossR2","RampT1","RampL1","RampR1","RampT2","RampL2","RampR2","CrossNM1","CrossNM2","RampNM1","RampNM2"]
[1,"Crossing - LT","WBL","CrossL2","Cross left","EBT,EBL","CrossT1,CrossL1","Cross thru",null,{"$f":"SUMPRODUCT($AN4:$BC4,$AN$38:$BC$38)","v":0},{"$f":"SUMPRODUCT($BE4:$BT4,$BE$38:$BT$38)","v":0},{"$f":"PRODUCT(J4:K4)","v":0},null,{"$f":"VLOOKUP(E4,SSI_RTI_Range_VehSpeed,5,FALSE)","v":20},{"$f":"VLOOKUP(H4,SSI_RTI_Range_VehSpeed,5,FALSE)","v":0},{"$f":"IF(B4=\"Nonmotorized\",\"\",VLOOKUP(B4,SSI_RTI_Range_CollAngles,5,FALSE))","v":230},{"$f":"IF(B4=\"Nonmotorized\",\"\",SQRT(N4^2+O4^2-2*N4*O4*COS(RADIANS(P4)))/2)","v":10},{"$f":"IF(B4=\"Nonmotorized\",1/(1+EXP(3.8432-0.1237*O4)),(Q4/SSI_RTI_RegAlpha)^SSI_RTI_RegK+(Q4/SSI_RTI_RegAlpha)^SSI_RTI_RegK-((Q4/SSI_RTI_RegAlpha)^SSI_RTI_RegK)*((Q4/SSI_RTI_RegAlpha)^SSI_RTI_RegK))","v":1.4431392232699444E-3},null,{"$f":"SSI_RTI_PermFactor","v":1},null,1,null,1,null,{"$f":"MAX(1,IF(B4<>\"Pedestrian\",V4*SSI_RTI_CrossThruLanes+W4*SSI_RTI_Ramp1ThruLanes+X4*IF(SSI_RTI_CrossThruLanes=1,SSI_RTI_MergeWeightL1,IF(SSI_RTI_CrossThruLanes=2,SSI_RTI_MergeWeightL1+SSI_RTI_MergeWeightL2,SSI_RTI_MergeWeightL1+SSI_RTI_MergeWeightL2+SSI_RTI_MergeWeightL3*(SSI_RTI_CrossThruLanes-2)))+Y4*IF(SSI_RTI_Ramp1ThruLanes=1,SSI_RTI_MergeWeightL1,IF(SSI_RTI_Ramp1ThruLanes=2,SSI_RTI_MergeWeightL1+SSI_RTI_MergeWeightL2,SSI_RTI_MergeWeightL1+SSI_RTI_MergeWeightL2+SSI_RTI_MergeWeightL3*(SSI_RTI_Ramp1ThruLanes-2))),V4*SSI_RTI_CrossThruLanes+W4*SSI_RTI_Ramp1ThruLanes+X4*IF(SSI_RTI_CrossThruLanes=1,SSI_RTI_NM_MergeWeightL1,IF(SSI_RTI_CrossThruLanes=2,SSI_RTI_NM_MergeWeightL1+SSI_RTI_NM_MergeWeightL2,SSI_RTI_NM_MergeWeightL1+SSI_RTI_NM_MergeWeightL2+SSI_RTI_NM_MergeWeightL3*(SSI_RTI_CrossThruLanes-2)))+Y4*IF(SSI_RTI_Ramp1ThruLanes=1,SSI_RTI_NM_MergeWeightL1,IF(SSI_RTI_Ramp1ThruLanes=2,SSI_RTI_NM_MergeWeightL1+SSI_RTI_NM_MergeWeightL2,SSI_RTI_NM_MergeWeightL1+SSI_RTI_NM_MergeWeightL2+SSI_RTI_NM_MergeWeightL3*(SSI_RTI_Ramp1ThruLanes-2)))))","v":1},null,{"$f":"IF(B4=\"Diverging\",\"\",SSI_RTI_VehSpeed_CrossThru)","v":0},{"$f":"IF(B4=\"Diverging\",1,1-((60-AB4)/60*0.1/0.15))","v":0.33333333333333326},null,null,null,{"$f":"1+AE4+AF4","v":1},null,{"$f":"PRODUCT(Z4,T4,AC4,AG4)","v":0.33333333333333326},null,{"$f":"L4*R4*AI4","v":0},null,null,{"$f":"IF(ISNUMBER(SEARCH(AN$3,$D4)),1,\"\")","v":""},{"$f":"IF(ISNUMBER(SEARCH(AO$3,$D4)),1,\"\")","v":""},"","",1,"","","","","","","","","","","",null,{"$f":"IF(ISNUMBER(SEARCH(BE$3,$G4)),1,\"\")","v":1},{"$f":"IF(ISNUMBER(SEARCH(BF$3,$G4)),1,\"\")","v":1},"","","","","","","","","","","","","",""]
[2,"Crossing - LT","SBL","RampL2","Signal far","WBL","CrossL2","Cross left",null,{"$f":"SUMPRODUCT($AN5:$BC5,$AN$38:$BC$38)","v":0},{"$f":"SUMPRODUCT($BE5:$BT5,$BE$38:$BT$38)","v":0},{"$f":"PRODUCT(J5:K5)","v":0},null,25,20,230,{"$f":"IF(B5=\"Nonmotorized\",\"\",SQRT(N5^2+O5^2-2*N5*O5*COS(RADIANS(P5)))/2)","v":20.419277715473552},2.1555284139167373E-2,null,{"$f":"SSI_RTI_StopFactor","v":0.72500000000000009},null,1,null,1,null,1,null,0,0.33333333333333326,null,null,null,{"$f":"1+AE5+AF5","v":1},null,0.24166666666666664,null,{"$f":"L5*R5*AI5","v":0},null,null,{"$f":"IF(ISNUMBER(SEARCH(AN$3,$D5)),1,\"\")","v":""},"","","","","","","","","",1,"","","","","",null,{"$f":"IF(ISNUMBER(SEARCH(BE$3,$G5)),1,\"\")","v":""},"","","",1,"","","","","","","","","","",""]
[3,"Crossing - LT","SBL","RampL2","Signal near","WBT,NBL","CrossT2,RampL1","Cross thru",null,0,0,0,null,15,0,230,7.5,4.8454301532720542E-4,null,{"$f":"SSI_RTI_StopFactor","v":0.72500000000000009},null,1,null,1,null,1,null,0,0.33333333333333326,null,null,null,1,null,0.24166666666666664,null,0,null,null,"","","","","","","","","","",1,"","","","","",null,"","","",1,"","","",1,"","","","","","","",""]
[4,"Crossing - LT","EBL","CrossL1","Cross left","WBT,WBL","CrossT2,CrossL2","Cross thru",null,0,0,0,null,20,0,230,10,1.4431392232699444E-3,null,{"$f":"SSI_RTI_PermFactor","v":1},null,1,null,1,null,1,null,0,0.33333333333333326,null,null,null,1,null,0.33333333333333326,null,0,null,null,"",1,"","","","","","","","","","","","","","",null,"","","",1,1,"","","","","","","","","","",""]
[5,"Crossing - LT","NBL","RampL1","Signal far","EBL","CrossL1","Cross left",null,0,0,0,null,25,20,230,20.419277715473552,2.1555284139167373E-2,null,{"$f":"SSI_RTI_StopFactor","v":0.72500000000000009},null,1,null,1,null,1,null,0,0.33333333333333326,null,null,null,1,null,0.24166666666666664,null,0,null,null,"","","","","","","",1,"","","","","","","","",null,"",1,"","","","","","","","","","","","","",""]
[6,"Crossing - LT","NBL","RampL1","Signal near","EBT,SBL","CrossT1,RampL2","Cross thru",null,0,0,0,null,15,0,230,7.5,4.8454301532720542E-4,null,{"$f":"SSI_RTI_StopFactor","v":0.72500000000000009},null,1,null,1,null,1,null,0,0.33333333333333326,null,null,null,1,null,0.24166666666666664,null,0,null,null,"","","","","","","",1,"","","","","","","","",null,1,"","","","","","","","","",1,"","","","",""]
[7,"Merging","SBR","RampR2","Signal near","WBT,NBL","CrossT2,RampL1","Cross thru",null,0,0,0,null,15,0,45,7.5,4.8454301532720542E-4,null,{"$f":"SSI_RTI_StopFactor","v":0.72500000000000009},null,null,null,1,null,1,null,0,0.33333333333333326,null,null,null,1,null,0.24166666666666664,null,0,null,null,"","","","","","","","","","","",1,"","","","",null,"","","",1,"","","",1,"","","","","","","",""]
[8,"Merging","EBR","CrossR1","Cross right","WBL","CrossL2","Cross left",null,0,0,0,null,15,20,45,7.0840654162717795,3.9022923271840685E-4,null,{"$f":"SSI_RTI_PermFactor","v":1},null,1,null,1,null,1,null,0,0.33333333333333326,null,null,null,1,null,0.33333333333333326,null,0,null,null,"","",1,"","","","","","","","","","","","","",null,"","","","",1,"","","","","","","","","","",""]
[9,"Merging","SBL","RampL2","Signal far","EBT,EBL","CrossT1,CrossL1","Cross thru",null,0,0,0,null,25,0,45,12.5,3.3637551692797651E-3,null,{"$f":"SSI_RTI_StopFactor","v":0.72500000000000009},null,1,null,1,null,1,null,0,0.33333333333333326,null,null,null,1,null,0.24166666666666664,null,0,null,null,"","","","","","","","","","",1,"","","","","",null,1,1,"","","","","","","","","","","","","",""]
[10,"Merging","NBR","RampR1","Signal near","EBT,SBL","CrossT1,RampL2","Cross thru",null,0,0,0,null,15,0,45,7.5,4.8454301532720542E-4,null,{"$f":"SSI_RTI_StopFactor","v":0.72500000000000009},null,null,null,1,null,1,null,0,0.33333333333333326,null,null,null,1,null,0.24166666666666664,null,0,null,null,"","","","","","","","",1,"","","","","","","",null,1,"","","","","","","","","",1,"","","","",""]
[11,"Merging","WBR","CrossR2","Cross right","EBL","CrossL1","Cross left",null,0,0,0,null,15,20,45,7.0840654162717795,3.9022923271840685E-4,null,{"$f":"SSI_RTI_PermFactor","v":1},null,1,null,1,null,1,null,0,0.33333333333333326,null,null,null,1,null,0.33333333333333326,null,0,null,null,"","","","","",1,"","","","","","","","","","",null,"",1,"","","","","","","","","","","","","",""]
[12,"Merging","NBL","RampL1","Signal far","WBT,WBL","CrossT2,CrossL2","Cross thru",null,0,0,0,null,25,0,45,12.5,3.3637551692797651E-3,null,{"$f":"SSI_RTI_StopFactor","v":0.72500000000000009},null,1,null,1,null,1,null,0,0.33333333333333326,null,null,null,1,null,0.24166666666666664,null,0,null,null,"","","","","","","",1,"","","","","","","","",null,"","","",1,1,"","","","","","","","","","",""]
[13,"Diverging","SBR","RampR2","Signal near","SBL","RampL2","Signal near",null,0,0,0,null,15,15,10,1.3073361412148754,6.4061388075216188E-7,null,{"$f":"SSI_RTI_PermFactor","v":1},null,null,null,null,null,1,null,"",1,null,null,null,1,null,1,null,0,null,null,"","","","","","","","","","","",1,"","","","",null,"","","","","","","","","","",1,"","","","",""]
[14,"Diverging","EBT, EBL","CrossT1, CrossL1","Cross thru","EBR","CrossR1","Cross right",null,0,0,0,null,0,15,10,7.5,4.8454301532720542E-4,null,1,null,null,null,null,null,1,null,"",1,null,null,null,1,null,1,null,0,null,null,1,1,"","","","","","","","","","","","","","",null,"","",1,"","","","","","","","","","","","",""]
[15,"Diverging","EBT, SBL","CrossT1, RampL2","Cross thru","EBL","CrossL1","Cross left",null,0,0,0,null,0,20,10,10,1.4431392232699444E-3,null,1,null,null,null,null,null,1,null,"",1,null,null,null,1,null,1,null,0,null,null,1,"","","","","","","","","",1,"","","","","",null,"",1,"","","","","","","","","","","","","",""]
[16,"Diverging","NBR","RampR1","Signal near","NBL","RampL1","Signal near",null,0,0,0,null,15,15,10,1.3073361412148754,6.4061388075216188E-7,null,1,null,null,null,null,null,1,null,"",1,null,null,null,1,null,1,null,0,null,null,"","","","","","","","",1,"","","","","","","",null,"","","","","","","",1,"","","","","","","",""]
[17,"Diverging","WBT, WBL","CrossT2, CrossL2","Cross thru","WBR","CrossR2","Cross right",null,0,0,0,null,0,15,10,7.5,4.8454301532720542E-4,null,1,null,null,null,null,null,1,null,"",1,null,null,null,1,null,1,null,0,null,null,"","","",1,1,"","","","","","","","","","","",null,"","","","","",1,"","","","","","","","","",""]
[18,"Diverging","WBT, NBL","CrossT2, RampL1","Cross thru","WBL","CrossL2","Cross left",null,0,0,0,null,0,20,10,10,1.4431392232699444E-3,null,1,null,null,null,null,null,1,null,"",1,null,null,null,1,null,1,null,0,null,null,"","","",1,"","","",1,"","","","","","","","",null,"","","","",1,"","","","","","","","","","",""]
[19,"Nonmotorized",null,"RampNM2","Nonmotorized","SBL","RampL2","Signal near",null,175,0,0,null,0,15,"","",0.1205004039155782,null,{"$f":"SSI_RTI_StopFactor","v":0.72500000000000009},null,null,1,null,null,1,null,{"$f":"IF(B22=\"Diverging\",\"\",SSI_RTI_VehSpeed_StopNear)","v":15},0.49999999999999989,null,null,null,1,null,0.36249999999999999,null,0,null,null,"","","","","","","","","","","","","","","",1,null,"","","","","","","","","","",1,"","","","",""]
[20,"Nonmotorized",null,"RampNM2","Nonmotorized","SBR","RampR2","Signal near",null,175,0,0,null,0,15,"","",0.1205004039155782,null,{"$f":"SSI_RTI_StopFactor","v":0.72500000000000009},null,null,1,null,null,1,null,{"$f":"IF(B23=\"Diverging\",\"\",SSI_RTI_VehSpeed_StopNear)","v":15},0.49999999999999989,null,null,null,1,null,0.36249999999999999,null,0,null,null,"","","","","","","","","","","","","","","",1,null,"","","","","","","","","","","",1,"","","",""]
[21,"Nonmotorized",null,"CrossNM1","Nonmotorized","SBR","RampR2","Signal near",null,175,0,0,null,0,15,"","",0.1205004039155782,null,{"$f":"SSI_RTI_StopFactor","v":0.72500000000000009},null,2,null,null,1,1,null,0,0.33333333333333326,null,null,null,1,null,0.24166666666666664,null,0,null,null,"","","","","","","","","","","","",1,"","","",null,"","","","","","","","","","","",1,"","","",""]
[22,"Nonmotorized",null,"CrossNM1","Nonmotorized","WBT,NBL","CrossT2,RampL1","Cross thru",null,175,0,0,null,0,0,"","",2.0975532400616122E-2,null,{"$f":"SSI_RTI_PermFactor","v":1},null,2,null,null,1,1,null,0,0.33333333333333326,null,null,null,1,null,0.33333333333333326,null,{"$f":"L25*R25*AI25","v":0},null,null,"","","","","","","","","","","","",1,"","","",null,"","","",1,"","","",1,"","","","","","","",""]
[23,"Nonmotorized",null,"CrossNM1","Nonmotorized","EBT,EBL","CrossT1,CrossL1","Cross thru",null,175,0,0,null,0,0,"","",2.0975532400616122E-2,null,{"$f":"SSI_RTI_PermFactor","v":1},null,2,null,null,1,1,null,0,0.33333333333333326,null,null,null,1,null,0.33333333333333326,null,0,null,null,"","","","","","","","","","","","",1,"","","",null,1,1,"","","","","","","","","","","","","",""]
[24,"Nonmotorized",null,"CrossNM1","Nonmotorized","EBR","CrossR1","Cross right",null,175,0,0,null,0,15,"","",0.1205004039155782,null,{"$f":"SSI_RTI_PermFactor","v":1},null,2,null,null,1,1,null,0,0.33333333333333326,null,null,null,1,null,0.33333333333333326,null,0,null,null,"","","","","","","","","","","","",1,"","","",null,"","",1,"","","","","","","","","","","","",""]
[25,"Nonmotorized",null,"RampNM1","Nonmotorized","EBR","CrossR1","Cross right",null,175,0,0,null,0,15,"","",0.1205004039155782,null,{"$f":"SSI_RTI_PermFactor","v":1},null,null,1,2,null,1.5,null,{"$f":"IF(B28=\"Diverging\",\"\",SSI_RTI_VehSpeed_StopNear)","v":15},0.49999999999999989,null,null,null,1,null,0.74999999999999978,null,0,null,null,"","","","","","","","","","","","","","",1,"",null,"","",1,"","","","","","","","","","","","",""]
[26,"Nonmotorized",null,"RampNM1","Nonmotorized","WBL","CrossL2","Cross left",null,175,0,0,null,0,20,"","",0.20274912921655375,null,{"$f":"SSI_RTI_PermFactor","v":1},null,null,1,2,null,1.5,null,{"$f":"IF(B29=\"Diverging\",\"\",SSI_RTI_VehSpeed_StopNear)","v":15},0.49999999999999989,null,null,null,1,null,0.74999999999999978,null,0,null,null,"","","","","","","","","","","","","","",1,"",null,"","","","",1,"","","","","","","","","","",""]
[27,"Nonmotorized",null,"RampNM1","Nonmotorized","NBL","RampL1","Signal near",null,175,0,0,null,0,15,"","",0.1205004039155782,null,{"$f":"SSI_RTI_StopFactor","v":0.72500000000000009},null,null,1,null,null,1,null,0,0.33333333333333326,null,null,null,1,null,0.24166666666666664,null,0,null,null,"","","","","","","","","","","","","","",1,"",null,"","","","","","","",1,"","","","","","","",""]
[28,"Nonmotorized",null,"RampNM1","Nonmotorized","NBR","RampR1","Signal near",null,175,0,0,null,0,15,"","",0.1205004039155782,null,{"$f":"SSI_RTI_StopFactor","v":0.72500000000000009},null,null,1,null,null,1,null,0,0.33333333333333326,null,null,null,1,null,0.24166666666666664,null,0,null,null,"","","","","","","","","","","","","","",1,"",null,"","","","","","","","",1,"","","","","","",""]
[29,"Nonmotorized",null,"CrossNM2","Nonmotorized","NBR","RampR1","Signal near",null,175,0,0,null,0,15,"","",0.1205004039155782,null,{"$f":"SSI_RTI_StopFactor","v":0.72500000000000009},null,2,null,null,1,1,null,0,0.33333333333333326,null,null,null,1,null,0.24166666666666664,null,0,null,null,"","","","","","","","","","","","","",1,"","",null,"","","","","","","","",1,"","","","","","",""]
[30,"Nonmotorized",null,"CrossNM2","Nonmotorized","EBT,SBL","CrossT1,RampL2","Cross thru",null,175,0,0,null,0,0,"","",2.0975532400616122E-2,null,{"$f":"SSI_RTI_PermFactor","v":1},null,2,null,null,1,1,null,0,0.33333333333333326,null,null,null,1,null,0.33333333333333326,null,0,null,null,"","","","","","","","","","","","","",1,"","",null,1,"","","","","","","","","",1,"","","","",""]
[31,"Nonmotorized",null,"CrossNM2","Nonmotorized","WBT,WBL","CrossT2,CrossL2","Cross thru",null,175,0,0,null,0,0,"","",2.0975532400616122E-2,null,{"$f":"SSI_RTI_PermFactor","v":1},null,2,null,null,1,1,null,0,0.33333333333333326,null,null,null,1,null,0.33333333333333326,null,0,null,null,"","","","","","","","","","","","","",1,"","",null,"","","",1,1,"","","","","","","","","","",""]
[32,"Nonmotorized",null,"CrossNM2","Nonmotorized","WBR","CrossR2","Cross right",null,175,0,0,null,0,15,"","",0.1205004039155782,null,{"$f":"SSI_RTI_PermFactor","v":1},null,2,null,null,1,1,null,0,0.33333333333333326,null,null,null,1,null,0.33333333333333326,null,0,null,null,{"$f":"IF(ISNUMBER(SEARCH(AN$3,$D35)),1,\"\")","v":""},"","","","","","","","","","","","",1,"","",null,{"$f":"IF(ISNUMBER(SEARCH(BE$3,$G35)),1,\"\")","v":""},"","","","",1,"","","","","","","","","",""]
[33,"Nonmotorized",null,"RampNM2","Nonmotorized","WBR","CrossR2","Cross right",null,175,0,0,null,0,15,"",{"$f":"IF(B36=\"Nonmotorized\",\"\",SQRT(N36^2+O36^2-2*N36*O36*COS(RADIANS(P36)))/2)","v":""},0.1205004039155782,null,{"$f":"SSI_RTI_PermFactor","v":1},null,null,1,2,null,1.5,null,0,0.33333333333333326,null,null,null,1,null,0.49999999999999989,null,0,null,null,"","","","","","","","","","","","","","","",1,null,"","","","","",1,"","","","","","","","","",""]
[34,"Nonmotorized",null,"RampNM2","Nonmotorized","EBL","CrossL1","Cross left",null,175,0,{"$f":"PRODUCT(J37:K37)","v":0},null,0,20,"","",0.20274912921655375,null,{"$f":"SSI_RTI_PermFactor","v":1},null,null,1,2,null,1.5,null,0,0.33333333333333326,null,null,null,1,null,0.49999999999999989,null,0,null,null,"","","","","","","","","","","","","","","",1,null,"",1,"","","","","","","","","","","","","",""]
[null,null,null,null,null,null,null,null,null,null,null,null,null,null,null,null,null,null,null,null,null,null,null,null,null,null,null,null,null,null,null,null,null,null,null,null,null,null,"O",{"$f":"'SSI Inputs RTI'!$D$28","v":""},{"$f":"'SSI Inputs RTI'!$D$29","v":""},{"$f":"'SSI Inputs RTI'!$D$30","v":""},{"$f":"'SSI Inputs RTI'!$D$32","v":""},{"$f":"'SSI Inputs RTI'!$D$33","v":""},{"$f":"'SSI Inputs RTI'!$D$34","v":""},{"$f":"'SSI Inputs RTI'!$D$36","v":""},{"$f":"'SSI Inputs RTI'!$D$37","v":""},{"$f":"'SSI Inputs RTI'!$D$38","v":""},{"$f":"'SSI Inputs RTI'!$D$40","v":""},{"$f":"'SSI Inputs RTI'!$D$41","v":""},{"$f":"'SSI Inputs RTI'!$D$42","v":""},{"$f":"'SSI Inputs RTI'!$Q$20","v":175},{"$f":"'SSI Inputs RTI'!$Q$21","v":175},{"$f":"'SSI Inputs RTI'!$Q$22","v":175},{"$f":"'SSI Inputs RTI'!$Q$23","v":175},"O",{"$f":"'SSI Inputs RTI'!$D$28","v":""},{"$f":"'SSI Inputs RTI'!$D$29","v":""},{"$f":"'SSI Inputs RTI'!$D$30","v":""},{"$f":"'SSI Inputs RTI'!$D$32","v":""},{"$f":"'SSI Inputs RTI'!$D$33","v":""},{"$f":"'SSI Inputs RTI'!$D$34","v":""},{"$f":"'SSI Inputs RTI'!$D$36","v":""},{"$f":"'SSI Inputs RTI'!$D$37","v":""},{"$f":"'SSI Inputs RTI'!$D$38","v":""},{"$f":"'SSI Inputs RTI'!$D$40","v":""},{"$f":"'SSI Inputs RTI'!$D$41","v":""},{"$f":"'SSI Inputs RTI'!$D$42","v":""},{"$f":"'SSI Inputs RTI'!$Q$20","v":175},{"$f":"'SSI Inputs RTI'!$Q$21","v":175},{"$f":"'SSI Inputs RTI'!$Q$22","v":175},{"$f":"'SSI Inputs RTI'!$Q$23","v":175}]
[null,null,null,null,null,null,null,null,null,null,null,null,null,null,null,null,null,null,null,null,null,null,null,null,null,null,null,null,null,null,null,null,null,null,null,null,null,null,"D",{"$f":"'SSI Inputs RTI'!$E$28","v":""},{"$f":"'SSI Inputs RTI'!$E$29","v":""},{"$f":"'SSI Inputs RTI'!$E$30","v":""},{"$f":"'SSI Inputs RTI'!$E$32","v":""},{"$f":"'SSI Inputs RTI'!$E$33","v":""},{"$f":"'SSI Inputs RTI'!$E$34","v":""},{"$f":"'SSI Inputs RTI'!$E$36","v":""},{"$f":"'SSI Inputs RTI'!$E$37","v":""},{"$f":"'SSI Inputs RTI'!$E$38","v":""},{"$f":"'SSI Inputs RTI'!$E$40","v":""},{"$f":"'SSI Inputs RTI'!$E$41","v":""},{"$f":"'SSI Inputs RTI'!$E$42","v":""},{"$f":"'SSI Inputs RTI'!$R$20","v":175},{"$f":"'SSI Inputs RTI'!$R$21","v":175},{"$f":"'SSI Inputs RTI'!$R$22","v":175},{"$f":"'SSI Inputs RTI'!$R$23","v":175},"D",{"$f":"'SSI Inputs RTI'!$E$28","v":""},{"$f":"'SSI Inputs RTI'!$E$29","v":""},{"$f":"'SSI Inputs RTI'!$E$30","v":""},{"$f":"'SSI Inputs RTI'!$E$32","v":""},{"$f":"'SSI Inputs RTI'!$E$33","v":""},{"$f":"'SSI Inputs RTI'!$E$34","v":""},{"$f":"'SSI Inputs RTI'!$E$36","v":""},{"$f":"'SSI Inputs RTI'!$E$37","v":""},{"$f":"'SSI Inputs RTI'!$E$38","v":""},{"$f":"'SSI Inputs RTI'!$E$40","v":""},{"$f":"'SSI Inputs RTI'!$E$41","v":""},{"$f":"'SSI Inputs RTI'!$E$42","v":""},{"$f":"'SSI Inputs RTI'!$R$20","v":175},{"$f":"'SSI Inputs RTI'!$R$21","v":175},{"$f":"'SSI Inputs RTI'!$R$22","v":175},{"$f":"'SSI Inputs RTI'!$R$23","v":175}]
[]
[]
[]
[]
[]
[]
[]
[]
[]
[]
[]
[]
[]
[]
[]
[]
[]
[]
[]
[]
[]
[]
[]
[]
[]
[]
[]
[]
[]
[]
[]
[]
[]
[]
[]
[]
[]
[]
[]
[]
[]
[]
[]
[]
[]
[]
[]
[]
[]
[]
[]
[]
[]
[]
[]
[]
[]
[]
[]
[]
[]
[null,null,null,null,null,null,null,null,null,"Exposure",null,null,null,null,null,null,null,null,null,null,null,null,null,null,null,null,null,null,null,null,null,null,null,null,null,null,"Exposure-Severity-Complexity Product"]
[null,null,null,null,null,null,null,null,null,"Q1","Q2","I"]
[null,null,null,null,null,null,null,null,null,{"$f":"SUMPRODUCT($AN4:$BC4,$AN$39:$BC$39)","v":0},{"$f":"SUMPRODUCT($BE4:$BT4,$BE$39:$BT$39)","v":0},{"$f":"PRODUCT(J103:K103)","v":0},null,null,null,null,null,null,null,null,null,null,null,null,null,null,null,null,null,null,null,null,null,null,null,null,{"$f":"L103*R4*AI4","v":0}]
[null,null,null,null,null,null,null,null,null,{"$f":"SUMPRODUCT($AN5:$BC5,$AN$39:$BC$39)","v":0},{"$f":"SUMPRODUCT($BE5:$BT5,$BE$39:$BT$39)","v":0},{"$f":"PRODUCT(J104:K104)","v":0},null,null,null,null,null,null,null,null,null,null,null,null,null,null,null,null,null,null,null,null,null,null,null,null,{"$f":"L104*R5*AI5","v":0}]
[null,null,null,null,null,null,null,null,null,0,0,0,null,null,null,null,null,null,null,null,null,null,null,null,null,null,null,null,null,null,null,null,null,null,null,null,0]
[null,null,null,null,null,null,null,null,null,0,0,0,null,null,null,null,null,null,null,null,null,null,null,null,null,null,null,null,null,null,null,null,null,null,null,null,0]
[null,null,null,null,null,null,null,null,null,0,0,0,null,null,null,null,null,null,null,null,null,null,null,null,null,null,null,null,null,null,null,null,null,null,null,null,0]
[null,null,null,null,null,null,null,null,null,0,0,0,null,null,null,null,null,null,null,null,null,null,null,null,null,null,null,null,null,null,null,null,null,null,null,null,0]
[null,null,null,null,null,null,null,null,null,0,0,0,null,null,null,null,null,null,null,null,null,null,null,null,null,null,null,null,null,null,null,null,null,null,null,null,0]
[null,null,null,null,null,null,null,null,null,0,0,0,null,null,null,null,null,null,null,null,null,null,null,null,null,null,null,null,null,null,null,null,null,null,null,null,0]
[null,null,null,null,null,null,null,null,null,0,0,0,null,null,null,null,null,null,null,null,null,null,null,null,null,null,null,null,null,null,null,null,null,null,null,null,0]
[null,null,null,null,null,null,null,null,null,0,0,0,null,null,null,null,null,null,null,null,null,null,null,null,null,null,null,null,null,null,null,null,null,null,null,null,0]
[null,null,null,null,null,null,null,null,null,0,0,0,null,null,null,null,null,null,null,null,null,null,null,null,null,null,null,null,null,null,null,null,null,null,null,null,0]
[null,null,null,null,null,null,null,null,null,0,0,0,null,null,null,null,null,null,null,null,null,null,null,null,null,null,null,null,null,null,null,null,null,null,null,null,0]
[null,null,null,null,null,null,null,null,null,0,0,0,null,null,null,null,null,null,null,null,null,null,null,null,null,null,null,null,null,null,null,null,null,null,null,null,0]
[null,null,null,null,null,null,null,null,null,0,0,0,null,null,null,null,null,null,null,null,null,null,null,null,null,null,null,null,null,null,null,null,null,null,null,null,0]
[null,null,null,null,null,null,null,null,null,0,0,0,null,null,null,null,null,null,null,null,null,null,null,null,null,null,null,null,null,null,null,null,null,null,null,null,0]
[null,null,null,null,null,null,null,null,null,0,0,0,null,null,null,null,null,null,null,null,null,null,null,null,null,null,null,null,null,null,null,null,null,null,null,null,0]
[null,null,null,null,null,null,null,null,null,0,0,0,null,null,null,null,null,null,null,null,null,null,null,null,null,null,null,null,null,null,null,null,null,null,null,null,0]
[null,null,null,null,null,null,null,null,null,0,0,0,null,null,null,null,null,null,null,null,null,null,null,null,null,null,null,null,null,null,null,null,null,null,null,null,0]
[null,null,null,null,null,null,null,null,null,175,0,0,null,null,null,null,null,null,null,null,null,null,null,null,null,null,null,null,null,null,null,null,null,null,null,null,0]
[null,null,null,null,null,null,null,null,null,175,0,0,null,null,null,null,null,null,null,null,null,null,null,null,null,null,null,null,null,null,null,null,null,null,null,null,0]
[null,null,null,null,null,null,null,null,null,175,0,0,null,null,null,null,null,null,null,null,null,null,null,null,null,null,null,null,null,null,null,null,null,null,null,null,0]
[null,null,null,null,null,null,null,null,null,175,0,0,null,null,null,null,null,null,null,null,null,null,null,null,null,null,null,null,null,null,null,null,null,null,null,null,0]
[null,null,null,null,null,null,null,null,null,175,0,0,null,null,null,null,null,null,null,null,null,null,null,null,null,null,null,null,null,null,null,null,null,null,null,null,0]
[null,null,null,null,null,null,null,null,null,175,0,0,null,null,null,null,null,null,null,null,null,null,null,null,null,null,null,null,null,null,null,null,null,null,null,null,0]
[null,null,null,null,null,null,null,null,null,175,0,0,null,null,null,null,null,null,null,null,null,null,null,null,null,null,null,null,null,null,null,null,null,null,null,null,0]
[null,null,null,null,null,null,null,null,null,175,0,0,null,null,null,null,null,null,null,null,null,null,null,null,null,null,null,null,null,null,null,null,null,null,null,null,0]
[null,null,null,null,null,null,null,null,null,175,0,0,null,null,null,null,null,null,null,null,null,null,null,null,null,null,null,null,null,null,null,null,null,null,null,null,0]
[null,null,null,null,null,null,null,null,null,175,0,0,null,null,null,null,null,null,null,null,null,null,null,null,null,null,null,null,null,null,null,null,null,null,null,null,0]
[null,null,null,null,null,null,null,null,null,175,0,0,null,null,null,null,null,null,null,null,null,null,null,null,null,null,null,null,null,null,null,null,null,null,null,null,0]
[null,null,null,null,null,null,null,null,null,175,0,0,null,null,null,null,null,null,null,null,null,null,null,null,null,null,null,null,null,null,null,null,null,null,null,null,0]
[null,null,null,null,null,null,null,null,null,175,0,0,null,null,null,null,null,null,null,null,null,null,null,null,null,null,null,null,null,null,null,null,null,null,null,null,0]
[null,null,null,null,null,null,null,null,null,175,0,0,null,null,null,null,null,null,null,null,null,null,null,null,null,null,null,null,null,null,null,null,null,null,null,null,0]
[null,null,null,null,null,null,null,null,null,175,0,0,null,null,null,null,null,null,null,null,null,null,null,null,null,null,null,null,null,null,null,null,null,null,null,null,0]
[null,null,null,null,null,null,null,null,null,175,0,0,null,null,null,null,null,null,null,null,null,null,null,null,null,null,null,null,null,null,null,null,null,null,null,null,0]

{"sheet":"RTI_RAB1x1","index":20,"n_rows":124,"n_cols":72,"rows_kept":124,"cut":false,"hidden":true,"merged":[[1,34,2,34],[1,36,2,36],[1,39,1,52],[1,56,1,69],[100,9,100,11],[100,36,101,36],[0,19,0,28],[0,30,0,32],[1,9,1,11],[1,13,1,17],[1,21,1,25],[1,27,1,28],[1,30,2,30],[1,31,2,31],[1,32,2,32]]}
[null,null,null,null,null,null,null,null,null,null,null,null,null,null,null,null,null,null,null,"Conflicting Traffic Complexity",null,null,null,null,null,null,null,null,null,null,"Pedestrian Complexity"]
[null,null,null,null,null,null,null,null,null,"Exposure",null,null,null,"Severity",null,null,null,null,null,"Traffic Control",null,"Conflicting Lanes",null,null,null,null,null,"Conflicting Speed",null,null,"Indirect Paths Indicator","Non-intuitive movements indicator","Pedestrian Complexity factor",null,"Total Complexity Multiplier",null,"Exposure-Severity-Complexity Product",null,null,"Included in Mvmt1",null,null,null,null,null,null,null,null,null,null,null,null,null,null,null,null,"Included in Mvmt2"]
["#","Conflict Type","Mvmt1","Mvmt1_gen","Mvmt1_SpeedCat","Mvmt2","Mvmt2_gen","Mvmt2_SpeedCat",null,"Q1","Q2","I",null,"Speed_V1","Speed_V2","Angle","delta_V","P_FSI",null,null,null,"CrossC","RampC","CrossM/P","RampM/P","Score",null,"Speed","Factor",null,null,null,null,null,null,null,null,null,null,"CrossT1","CrossL1","CrossR1","CrossT2","CrossL2","CrossR2","RampT1","RampL1","RampR1","RampT2","RampL2","RampR2","CrossNM1","CrossNM2","RampNM1","RampNM2",null,"CrossT1","CrossL1","CrossR1","CrossT2","CrossL2","CrossR2","RampT1","RampL1","RampR1","RampT2","RampL2","RampR2","CrossNM1","CrossNM2","RampNM1","RampNM2"]
[1,"Crossing - RAB","WBT,NBL","CrossT2,RampL1","RAB exiting","SBL","RampL2","RAB entering",null,{"$f":"SUMPRODUCT($AN4:$BC4,$AN$26:$BC$26)","v":0},{"$f":"SUMPRODUCT($BE4:$BT4,$BE$26:$BT$26)","v":0},{"$f":"PRODUCT(J4:K4)","v":0},null,{"$f":"VLOOKUP(E4,SSI_RTI_Range_VehSpeed,5,FALSE)","v":30},{"$f":"VLOOKUP(H4,SSI_RTI_Range_VehSpeed,5,FALSE)","v":20},{"$f":"IF(B4=\"Nonmotorized\",\"\",VLOOKUP(B4,SSI_RTI_Range_CollAngles,5,FALSE))","v":60},{"$f":"IF(B4=\"Nonmotorized\",\"\",SQRT(N4^2+O4^2-2*N4*O4*COS(RADIANS(P4)))/2)","v":13.228756555322953},{"$f":"IF(B4=\"Nonmotorized\",1/(1+EXP(3.8432-0.1237*O4)),(Q4/SSI_RTI_RegAlpha)^SSI_RTI_RegK+(Q4/SSI_RTI_RegAlpha)^SSI_RTI_RegK-((Q4/SSI_RTI_RegAlpha)^SSI_RTI_RegK)*((Q4/SSI_RTI_RegAlpha)^SSI_RTI_RegK))","v":4.1698027385763175E-3},null,{"$f":"SSI_RTI_PermFactor","v":1},null,null,null,null,null,1,null,{"$f":"IF(B4=\"Diverging\",\"\",SSI_RTI_VehSpeed_RABCirc)","v":25},{"$f":"IF(B4=\"Diverging\",1,1-((60-AB4)/60*0.1/0.15))","v":0.61111111111111105},null,null,null,{"$f":"1+AE4+AF4","v":1},null,{"$f":"PRODUCT(Z4,T4,AC4,AG4)","v":0.61111111111111105},null,{"$f":"L4*R4*AI4","v":0},null,null,{"$f":"IF(ISNUMBER(SEARCH(AN$3,$D4)),1,\"\")","v":""},{"$f":"IF(ISNUMBER(SEARCH(AO$3,$D4)),1,\"\")","v":""},"",1,"","","",1,"","","","","","","","",null,{"$f":"IF(ISNUMBER(SEARCH(BE$3,$G4)),1,\"\")","v":""},{"$f":"IF(ISNUMBER(SEARCH(BF$3,$G4)),1,\"\")","v":""},"","","","","","","","",1,"","","","",""]
[2,"Crossing - RAB","EBT,SBL","CrossT1,RampL2","RAB exiting","NBL","RampL1","RAB entering",null,0,0,{"$f":"PRODUCT(J5:K5)","v":0},null,30,20,60,{"$f":"IF(B5=\"Nonmotorized\",\"\",SQRT(N5^2+O5^2-2*N5*O5*COS(RADIANS(P5)))/2)","v":13.228756555322953},4.1698027385763175E-3,null,1,null,null,null,null,null,1,null,25,0.61111111111111105,null,null,null,{"$f":"1+AE5+AF5","v":1},null,0.61111111111111105,null,{"$f":"L5*R5*AI5","v":0},null,null,{"$f":"IF(ISNUMBER(SEARCH(AN$3,$D5)),1,\"\")","v":1},"","","","","","","","","",1,"","","","","",null,{"$f":"IF(ISNUMBER(SEARCH(BE$3,$G5)),1,\"\")","v":""},"","","","","","",1,"","","","","","","",""]
[3,"Merging","WBT,NBL","CrossT2,RampL1","RAB exiting","SBR","RampR2","RAB entering",null,0,0,0,null,30,20,45,10.623933623853066,1.8155470372595668E-3,null,1,null,null,null,null,null,1,null,25,0.61111111111111105,null,null,null,1,null,0.61111111111111105,null,0,null,null,"","","",1,"","","",1,"","","","","","","","",null,"","","","","","","","","","","",1,"","","",""]
[4,"Merging","WBL","CrossL2","RAB circulating","SBL","RampL2","RAB entering",null,0,0,0,null,25,20,45,8.9147801264732891,9.3337987230879336E-4,null,1,null,null,null,null,null,1,null,25,0.61111111111111105,null,null,null,1,null,0.61111111111111105,null,0,null,null,"","","","",1,"","","","","","","","","","","",null,"","","","","","","","","","",1,"","","","",""]
[5,"Merging","EBT,EBL,EBR","CrossT1,CrossL1,CrossR1","RAB entering","WBL,SBL","CrossL2,RampL2","RAB circulating",null,0,0,0,null,20,25,45,8.9147801264732891,9.3337987230879336E-4,null,1,null,null,null,null,null,1,null,25,0.61111111111111105,null,null,null,1,null,0.61111111111111105,null,0,null,null,1,1,1,"","","","","","","","","","","","","",null,"","","","",1,"","","","","",1,"","","","",""]
[6,"Merging","EBL","CrossL1","RAB circulating","NBL","RampL1","RAB entering",null,0,0,0,null,25,20,45,8.9147801264732891,9.3337987230879336E-4,null,1,null,null,null,null,null,1,null,25,0.61111111111111105,null,null,null,1,null,0.61111111111111105,null,0,null,null,"",1,"","","","","","","","","","","","","","",null,"","","","","","","",1,"","","","","","","",""]
[7,"Merging","EBT,SBL","CrossT1,RampL2","RAB exiting","NBR","RampR1","RAB entering",null,0,0,0,null,30,20,45,10.623933623853066,1.8155470372595668E-3,null,1,null,null,null,null,null,1,null,25,0.61111111111111105,null,null,null,1,null,0.61111111111111105,null,0,null,null,1,"","","","","","","","","",1,"","","","","",null,"","","","","","","","",1,"","","","","","",""]
[8,"Merging","WBT,WBL,WBR","CrossT2,CrossL2,CrossR2","RAB entering","EBL,NBL","CrossL1,RampL1","RAB circulating",null,0,0,0,null,20,25,45,8.9147801264732891,9.3337987230879336E-4,null,1,null,null,null,null,null,1,null,25,0.61111111111111105,null,null,null,1,null,0.61111111111111105,null,0,null,null,"","","",1,1,1,"","","","","","","","","","",null,"",1,"","","","","",1,"","","","","","","",""]
[9,"Diverging","SBL","RampL2","RAB entering","SBR","RampR2","RAB circulating",null,0,0,0,null,20,25,10,3.1698677806728797,1.8457105347369838E-5,null,1,null,null,null,null,null,1,null,{"$f":"IF(B12=\"Diverging\",\"\",SSI_RTI_VehSpeed_RABEnter)","v":""},1,null,null,null,1,null,1,null,0,null,null,"","","","","","","","","","",1,"","","","","",null,"","","","","","","","","","","",1,"","","",""]
[10,"Diverging","WBT,NBL","CrossT2,RampL1","RAB exiting","WBL","CrossL2","RAB circulating",null,0,0,0,null,30,25,10,3.4564566568122888,2.5632912055290725E-5,null,1,null,null,null,null,null,1,null,"",1,null,null,null,1,null,1,null,0,null,null,"","","",1,"","","",1,"","","","","","","","",null,"","","","",1,"","","","","","","","","","",""]
[11,"Diverging","EBT,EBL,SBL","CrossT1,CrossL1,RampL2","RAB circulating","EBR,WBL","CrossR1,CrossL2","RAB exiting",null,0,0,0,null,25,30,10,3.4564566568122888,2.5632912055290725E-5,null,1,null,null,null,null,null,1,null,"",1,null,null,null,1,null,1,null,0,null,null,1,1,"","","","","","","","",1,"","","","","",null,"","",1,"",1,"","","","","","","","","","",""]
[12,"Diverging","NBL","RampL1","RAB entering","NBR","RampR1","RAB circulating",null,0,0,0,null,20,25,10,3.1698677806728797,1.8457105347369838E-5,null,1,null,null,null,null,null,1,null,"",1,null,null,null,1,null,1,null,0,null,null,"","","","","","","",1,"","","","","","","","",null,"","","","","","","","",1,"","","","","","",""]
[13,"Diverging","EBT,SBL","CrossT1,RampL2","RAB exiting","EBL","CrossL1","RAB circulating",null,0,0,0,null,30,25,10,3.4564566568122888,2.5632912055290725E-5,null,1,null,null,null,null,null,1,null,"",1,null,null,null,1,null,1,null,0,null,null,1,"","","","","","","","","",1,"","","","","",null,"",1,"","","","","","","","","","","","","",""]
[14,"Diverging","WBT,WBL,NBL","CrossT2,CrossL2,RampL1","RAB circulating","WBR,EBL","CrossR2,CrossL1","RAB exiting",null,0,0,0,null,25,30,10,3.4564566568122888,2.5632912055290725E-5,null,1,null,null,null,null,null,1,null,"",1,null,null,null,1,null,1,null,0,null,null,"","","",1,1,"","",1,"","","","","","","","",null,"",1,"","","",1,"","","","","","","","","",""]
[15,"Nonmotorized",null,"RampNM2","Nonmotorized","SBR,SBL","RampR2,RampL2","RAB entering",null,175,0,0,null,0,20,"","",0.20274912921655375,null,1,null,null,null,null,null,1,null,20,0.55555555555555558,null,1,null,2,null,1.1111111111111112,null,0,null,null,"","","","","","","","","","","","","","","",1,null,"","","","","","","","","","",1,1,"","","",""]
[16,"Nonmotorized",null,"CrossNM1","Nonmotorized","WBT,SBR,NBL","CrossT2,RampR2,RampL1","RAB exiting",null,175,0,0,null,0,30,"","",0.46699805015542578,null,1,null,null,null,null,null,1,null,{"$f":"IF(B19=\"Diverging\",\"\",SSI_RTI_VehSpeed_RABExit)","v":30},0.66666666666666663,null,1,null,2,null,1.3333333333333333,null,0,null,null,"","","","","","","","","","","","",1,"","","",null,"","","",1,"","","",1,"","","",1,"","","",""]
[17,"Nonmotorized",null,"CrossNM1","Nonmotorized","EBT,EBR,EBL","CrossT1,CrossR1,CrossL1","RAB entering",null,175,0,0,null,0,20,"","",0.20274912921655375,null,1,null,null,null,null,null,1,null,{"$f":"IF(B20=\"Diverging\",\"\",SSI_RTI_VehSpeed_RABEnter)","v":20},0.55555555555555558,null,1,null,2,null,1.1111111111111112,null,0,null,null,"","","","","","","","","","","","",1,"","","",null,1,1,1,"","","","","","","","","","","","",""]
[18,"Nonmotorized",null,"RampNM1","Nonmotorized","EBR,WBL","CrossR1,CrossL2","RAB exiting",null,175,0,0,null,0,30,"","",0.46699805015542578,null,1,null,null,null,null,null,1,null,{"$f":"IF(B21=\"Diverging\",\"\",SSI_RTI_VehSpeed_RABExit)","v":30},0.66666666666666663,null,1,null,2,null,1.3333333333333333,null,0,null,null,"","","","","","","","","","","","","","",1,"",null,{"$f":"IF(ISNUMBER(SEARCH(BE$3,$G21)),1,\"\")","v":""},"",1,"",1,"","","","","","","","","","",""]
[19,"Nonmotorized",null,"RampNM1","Nonmotorized","NBR,NBL","RampR1,RampL1","RAB entering",null,175,0,0,null,0,20,"","",0.20274912921655375,null,1,null,null,null,null,null,1,null,{"$f":"IF(B22=\"Diverging\",\"\",SSI_RTI_VehSpeed_RABEnter)","v":20},0.55555555555555558,null,1,null,2,null,1.1111111111111112,null,0,null,null,"","","","","","","","","","","","","","",1,"",null,"","","","","","","",1,1,"","","","","","",""]
[20,"Nonmotorized",null,"CrossNM2","Nonmotorized","EBT,NBR,SBL","CrossT1,RampR1,RampL2","RAB exiting",null,175,0,0,null,0,30,"","",0.46699805015542578,null,1,null,null,null,null,null,1,null,{"$f":"IF(B23=\"Diverging\",\"\",SSI_RTI_VehSpeed_RABExit)","v":30},0.66666666666666663,null,1,null,2,null,1.3333333333333333,null,0,null,null,"","","","","","","","","","","","",{"$f":"IF(ISNUMBER(SEARCH(AZ$3,$D23)),1,\"\")","v":""},{"$f":"IF(ISNUMBER(SEARCH(BA$3,$D23)),1,\"\")","v":1},{"$f":"IF(ISNUMBER(SEARCH(BB$3,$D23)),1,\"\")","v":""},{"$f":"IF(ISNUMBER(SEARCH(BC$3,$D23)),1,\"\")","v":""},null,1,"","","","","","","",1,"",1,"","","","",""]
[21,"Nonmotorized",null,"CrossNM2","Nonmotorized","WBT,WBR,WBL","CrossT2,CrossR2,CrossL2","RAB entering",null,175,0,0,null,0,20,"","",0.20274912921655375,null,1,null,null,null,null,null,1,null,{"$f":"IF(B24=\"Diverging\",\"\",SSI_RTI_VehSpeed_RABEnter)","v":20},0.55555555555555558,null,1,null,2,null,1.1111111111111112,null,0,null,null,{"$f":"IF(ISNUMBER(SEARCH(AN$3,$D24)),1,\"\")","v":""},"","","","","","","","","","","","",1,"","",null,"","","",1,1,1,"","","","","","","","","",""]
[22,"Nonmotorized",null,"RampNM2","Nonmotorized","WBR,EBL","CrossR2,CrossL1","RAB exiting",null,175,0,0,null,0,30,"","",0.46699805015542578,null,1,null,null,null,null,null,1,null,{"$f":"IF(B25=\"Diverging\",\"\",SSI_RTI_VehSpeed_RABExit)","v":30},0.66666666666666663,null,1,null,2,null,1.3333333333333333,null,{"$f":"L25*R25*AI25","v":0},null,null,"","","","","","","","","","","","","","","",1,null,"",1,"","","",1,"","","","","","","","","",""]
[null,null,null,null,null,null,null,null,null,null,null,null,null,null,null,null,null,null,null,null,null,null,null,null,null,null,null,null,null,null,null,null,null,null,null,null,null,null,"O",{"$f":"'SSI Inputs RTI'!$D$28","v":""},{"$f":"'SSI Inputs RTI'!$D$29","v":""},{"$f":"'SSI Inputs RTI'!$D$30","v":""},{"$f":"'SSI Inputs RTI'!$D$32","v":""},{"$f":"'SSI Inputs RTI'!$D$33","v":""},{"$f":"'SSI Inputs RTI'!$D$34","v":""},{"$f":"'SSI Inputs RTI'!$D$36","v":""},{"$f":"'SSI Inputs RTI'!$D$37","v":""},{"$f":"'SSI Inputs RTI'!$D$38","v":""},{"$f":"'SSI Inputs RTI'!$D$40","v":""},{"$f":"'SSI Inputs RTI'!$D$41","v":""},{"$f":"'SSI Inputs RTI'!$D$42","v":""},{"$f":"'SSI Inputs RTI'!$Q$20","v":175},{"$f":"'SSI Inputs RTI'!$Q$21","v":175},{"$f":"'SSI Inputs RTI'!$Q$22","v":175},{"$f":"'SSI Inputs RTI'!$Q$23","v":175},"O",{"$f":"'SSI Inputs RTI'!$D$28","v":""},{"$f":"'SSI Inputs RTI'!$D$29","v":""},{"$f":"'SSI Inputs RTI'!$D$30","v":""},{"$f":"'SSI Inputs RTI'!$D$32","v":""},{"$f":"'SSI Inputs RTI'!$D$33","v":""},{"$f":"'SSI Inputs RTI'!$D$34","v":""},{"$f":"'SSI Inputs RTI'!$D$36","v":""},{"$f":"'SSI Inputs RTI'!$D$37","v":""},{"$f":"'SSI Inputs RTI'!$D$38","v":""},{"$f":"'SSI Inputs RTI'!$D$40","v":""},{"$f":"'SSI Inputs RTI'!$D$41","v":""},{"$f":"'SSI Inputs RTI'!$D$42","v":""},{"$f":"'SSI Inputs RTI'!$Q$20","v":175},{"$f":"'SSI Inputs RTI'!$Q$21","v":175},{"$f":"'SSI Inputs RTI'!$Q$22","v":175},{"$f":"'SSI Inputs RTI'!$Q$23","v":175}]
[null,null,null,null,null,null,null,null,null,null,null,null,null,null,null,null,null,null,null,null,null,null,null,null,null,null,null,null,null,null,null,null,null,null,null,null,null,null,"D",{"$f":"'SSI Inputs RTI'!$E$28","v":""},{"$f":"'SSI Inputs RTI'!$E$29","v":""},{"$f":"'SSI Inputs RTI'!$E$30","v":""},{"$f":"'SSI Inputs RTI'!$E$32","v":""},{"$f":"'SSI Inputs RTI'!$E$33","v":""},{"$f":"'SSI Inputs RTI'!$E$34","v":""},{"$f":"'SSI Inputs RTI'!$E$36","v":""},{"$f":"'SSI Inputs RTI'!$E$37","v":""},{"$f":"'SSI Inputs RTI'!$E$38","v":""},{"$f":"'SSI Inputs RTI'!$E$40","v":""},{"$f":"'SSI Inputs RTI'!$E$41","v":""},{"$f":"'SSI Inputs RTI'!$E$42","v":""},{"$f":"'SSI Inputs RTI'!$R$20","v":175},{"$f":"'SSI Inputs RTI'!$R$21","v":175},{"$f":"'SSI Inputs RTI'!$R$22","v":175},{"$f":"'SSI Inputs RTI'!$R$23","v":175},"D",{"$f":"'SSI Inputs RTI'!$E$28","v":""},{"$f":"'SSI Inputs RTI'!$E$29","v":""},{"$f":"'SSI Inputs RTI'!$E$30","v":""},{"$f":"'SSI Inputs RTI'!$E$32","v":""},{"$f":"'SSI Inputs RTI'!$E$33","v":""},{"$f":"'SSI Inputs RTI'!$E$34","v":""},{"$f":"'SSI Inputs RTI'!$E$36","v":""},{"$f":"'SSI Inputs RTI'!$E$37","v":""},{"$f":"'SSI Inputs RTI'!$E$38","v":""},{"$f":"'SSI Inputs RTI'!$E$40","v":""},{"$f":"'SSI Inputs RTI'!$E$41","v":""},{"$f":"'SSI Inputs RTI'!$E$42","v":""},{"$f":"'SSI Inputs RTI'!$R$20","v":175},{"$f":"'SSI Inputs RTI'!$R$21","v":175},{"$f":"'SSI Inputs RTI'!$R$22","v":175},{"$f":"'SSI Inputs RTI'!$R$23","v":175}]
[]
[]
[]
[]
[]
[]
[]
[]
[]
[]
[]
[]
[]
[]
[]
[]
[]
[]
[]
[]
[]
[]
[]
[]
[]
[]
[]
[]
[]
[]
[]
[]
[]
[]
[]
[]
[]
[]
[]
[]
[]
[]
[]
[]
[]
[]
[]
[]
[]
[]
[]
[]
[]
[]
[]
[]
[]
[]
[]
[]
[]
[]
[]
[]
[]
[]
[]
[]
[]
[]
[]
[]
[]
[null,null,null,null,null,null,null,null,null,"Exposure",null,null,null,null,null,null,null,null,null,null,null,null,null,null,null,null,null,null,null,null,null,null,null,null,null,null,"Exposure-Severity-Complexity Product"]
[null,null,null,null,null,null,null,null,null,"Q1","Q2","I"]
[null,null,null,null,null,null,null,null,null,{"$f":"SUMPRODUCT($AN4:$BC4,$AN$27:$BC$27)","v":0},{"$f":"SUMPRODUCT($BE4:$BT4,$BE$27:$BT$27)","v":0},{"$f":"PRODUCT(J103:K103)","v":0},null,null,null,null,null,null,null,null,null,null,null,null,null,null,null,null,null,null,null,null,null,null,null,null,{"$f":"L103*R4*AI4","v":0}]
[null,null,null,null,null,null,null,null,null,{"$f":"SUMPRODUCT($AN5:$BC5,$AN$27:$BC$27)","v":0},{"$f":"SUMPRODUCT($BE5:$BT5,$BE$27:$BT$27)","v":0},{"$f":"PRODUCT(J104:K104)","v":0},null,null,null,null,null,null,null,null,null,null,null,null,null,null,null,null,null,null,null,null,null,null,null,null,{"$f":"L104*R5*AI5","v":0}]
[null,null,null,null,null,null,null,null,null,0,0,0,null,null,null,null,null,null,null,null,null,null,null,null,null,null,null,null,null,null,null,null,null,null,null,null,0]
[null,null,null,null,null,null,null,null,null,0,0,0,null,null,null,null,null,null,null,null,null,null,null,null,null,null,null,null,null,null,null,null,null,null,null,null,0]
[null,null,null,null,null,null,null,null,null,0,0,0,null,null,null,null,null,null,null,null,null,null,null,null,null,null,null,null,null,null,null,null,null,null,null,null,0]
[null,null,null,null,null,null,null,null,null,0,0,0,null,null,null,null,null,null,null,null,null,null,null,null,null,null,null,null,null,null,null,null,null,null,null,null,0]
[null,null,null,null,null,null,null,null,null,0,0,0,null,null,null,null,null,null,null,null,null,null,null,null,null,null,null,null,null,null,null,null,null,null,null,null,0]
[null,null,null,null,null,null,null,null,null,0,0,0,null,null,null,null,null,null,null,null,null,null,null,null,null,null,null,null,null,null,null,null,null,null,null,null,0]
[null,null,null,null,null,null,null,null,null,0,0,0,null,null,null,null,null,null,null,null,null,null,null,null,null,null,null,null,null,null,null,null,null,null,null,null,0]
[null,null,null,null,null,null,null,null,null,0,0,0,null,null,null,null,null,null,null,null,null,null,null,null,null,null,null,null,null,null,null,null,null,null,null,null,0]
[null,null,null,null,null,null,null,null,null,0,0,0,null,null,null,null,null,null,null,null,null,null,null,null,null,null,null,null,null,null,null,null,null,null,null,null,0]
[null,null,null,null,null,null,null,null,null,0,0,0,null,null,null,null,null,null,null,null,null,null,null,null,null,null,null,null,null,null,null,null,null,null,null,null,0]
[null,null,null,null,null,null,null,null,null,0,0,0,null,null,null,null,null,null,null,null,null,null,null,null,null,null,null,null,null,null,null,null,null,null,null,null,0]
[null,null,null,null,null,null,null,null,null,0,0,0,null,null,null,null,null,null,null,null,null,null,null,null,null,null,null,null,null,null,null,null,null,null,null,null,0]
[null,null,null,null,null,null,null,null,null,175,0,0,null,null,null,null,null,null,null,null,null,null,null,null,null,null,null,null,null,null,null,null,null,null,null,null,0]
[null,null,null,null,null,null,null,null,null,175,0,0,null,null,null,null,null,null,null,null,null,null,null,null,null,null,null,null,null,null,null,null,null,null,null,null,0]
[null,null,null,null,null,null,null,null,null,175,0,0,null,null,null,null,null,null,null,null,null,null,null,null,null,null,null,null,null,null,null,null,null,null,null,null,0]
[null,null,null,null,null,null,null,null,null,175,0,0,null,null,null,null,null,null,null,null,null,null,null,null,null,null,null,null,null,null,null,null,null,null,null,null,0]
[null,null,null,null,null,null,null,null,null,175,0,0,null,null,null,null,null,null,null,null,null,null,null,null,null,null,null,null,null,null,null,null,null,null,null,null,0]
[null,null,null,null,null,null,null,null,null,175,0,0,null,null,null,null,null,null,null,null,null,null,null,null,null,null,null,null,null,null,null,null,null,null,null,null,0]
[null,null,null,null,null,null,null,null,null,175,0,0,null,null,null,null,null,null,null,null,null,null,null,null,null,null,null,null,null,null,null,null,null,null,null,null,0]
[null,null,null,null,null,null,null,null,null,175,0,0,null,null,null,null,null,null,null,null,null,null,null,null,null,null,null,null,null,null,null,null,null,null,null,null,0]

{"sheet":"RTI_RAB2x1","index":21,"n_rows":124,"n_cols":72,"rows_kept":124,"cut":false,"hidden":true,"merged":[[1,34,2,34],[1,36,2,36],[1,39,1,52],[1,56,1,69],[100,9,100,11],[100,36,101,36],[0,19,0,28],[0,30,0,32],[1,9,1,11],[1,13,1,17],[1,21,1,25],[1,27,1,28],[1,30,2,30],[1,31,2,31],[1,32,2,32]]}
[null,null,null,null,null,null,null,null,null,null,null,null,null,null,null,null,null,null,null,"Conflicting Traffic Complexity",null,null,null,null,null,null,null,null,null,null,"Pedestrian Complexity"]
[null,null,null,null,null,null,null,null,null,"Exposure",null,null,null,"Severity",null,null,null,null,null,"Traffic Control",null,"Conflicting Lanes",null,null,null,null,null,"Conflicting Speed",null,null,"Indirect Paths Indicator","Non-intuitive movements indicator","Pedestrian Complexity factor",null,"Total Complexity Multiplier",null,"Exposure-Severity-Complexity Product",null,null,"Included in Mvmt1",null,null,null,null,null,null,null,null,null,null,null,null,null,null,null,null,"Included in Mvmt2"]
["#","Conflict Type","Mvmt1","Mvmt1_gen","Mvmt1_SpeedCat","Mvmt2","Mvmt2_gen","Mvmt2_SpeedCat",null,"Q1","Q2","I",null,"Speed_V1","Speed_V2","Angle","delta_V","P_FSI",null,null,null,"CrossC","RampC","CrossM/P","RampM/P","Score",null,"Speed","Factor",null,null,null,null,null,null,null,null,null,null,"CrossT1","CrossL1","CrossR1","CrossT2","CrossL2","CrossR2","RampT1","RampL1","RampR1","RampT2","RampL2","RampR2","CrossNM1","CrossNM2","RampNM1","RampNM2",null,"CrossT1","CrossL1","CrossR1","CrossT2","CrossL2","CrossR2","RampT1","RampL1","RampR1","RampT2","RampL2","RampR2","CrossNM1","CrossNM2","RampNM1","RampNM2"]
[1,"Crossing - RAB","WBT,NBL","CrossT2,RampL1","RAB exiting","SBL","RampL2","RAB entering",null,{"$f":"SUMPRODUCT($AN4:$BC4,$AN$26:$BC$26)","v":0},{"$f":"SUMPRODUCT($BE4:$BT4,$BE$26:$BT$26)","v":0},{"$f":"PRODUCT(J4:K4)","v":0},null,{"$f":"VLOOKUP(E4,SSI_RTI_Range_VehSpeed,5,FALSE)","v":30},{"$f":"VLOOKUP(H4,SSI_RTI_Range_VehSpeed,5,FALSE)","v":20},{"$f":"IF(B4=\"Nonmotorized\",\"\",VLOOKUP(B4,SSI_RTI_Range_CollAngles,5,FALSE))","v":60},{"$f":"IF(B4=\"Nonmotorized\",\"\",SQRT(N4^2+O4^2-2*N4*O4*COS(RADIANS(P4)))/2)","v":13.228756555322953},{"$f":"IF(B4=\"Nonmotorized\",1/(1+EXP(3.8432-0.1237*O4)),(Q4/SSI_RTI_RegAlpha)^SSI_RTI_RegK+(Q4/SSI_RTI_RegAlpha)^SSI_RTI_RegK-((Q4/SSI_RTI_RegAlpha)^SSI_RTI_RegK)*((Q4/SSI_RTI_RegAlpha)^SSI_RTI_RegK))","v":4.1698027385763175E-3},null,{"$f":"SSI_RTI_PermFactor","v":1},null,null,null,null,null,2,null,{"$f":"IF(B4=\"Diverging\",\"\",SSI_RTI_VehSpeed_RABCirc)","v":25},{"$f":"IF(B4=\"Diverging\",1,1-((60-AB4)/60*0.1/0.15))","v":0.61111111111111105},null,null,null,{"$f":"1+AE4+AF4","v":1},null,{"$f":"PRODUCT(Z4,T4,AC4,AG4)","v":1.2222222222222221},null,{"$f":"L4*R4*AI4","v":0},null,null,{"$f":"IF(ISNUMBER(SEARCH(AN$3,$D4)),1,\"\")","v":""},{"$f":"IF(ISNUMBER(SEARCH(AO$3,$D4)),1,\"\")","v":""},"",1,"","","",1,"","","","","","","","",null,{"$f":"IF(ISNUMBER(SEARCH(BE$3,$G4)),1,\"\")","v":""},{"$f":"IF(ISNUMBER(SEARCH(BF$3,$G4)),1,\"\")","v":""},"","","","","","","","",1,"","","","",""]
[2,"Crossing - RAB","EBT,SBL","CrossT1,RampL2","RAB exiting","NBL","RampL1","RAB entering",null,0,0,{"$f":"PRODUCT(J5:K5)","v":0},null,30,20,60,{"$f":"IF(B5=\"Nonmotorized\",\"\",SQRT(N5^2+O5^2-2*N5*O5*COS(RADIANS(P5)))/2)","v":13.228756555322953},4.1698027385763175E-3,null,1,null,null,null,null,null,2,null,25,0.61111111111111105,null,null,null,{"$f":"1+AE5+AF5","v":1},null,1.2222222222222221,null,{"$f":"L5*R5*AI5","v":0},null,null,{"$f":"IF(ISNUMBER(SEARCH(AN$3,$D5)),1,\"\")","v":1},"","","","","","","","","",1,"","","","","",null,{"$f":"IF(ISNUMBER(SEARCH(BE$3,$G5)),1,\"\")","v":""},"","","","","","",1,"","","","","","","",""]
[3,"Merging","WBT,NBL","CrossT2,RampL1","RAB exiting","SBR","RampR2","RAB entering",null,0,0,0,null,30,20,45,10.623933623853066,1.8155470372595668E-3,null,1,null,null,null,null,null,1.75,null,25,0.61111111111111105,null,null,null,1,null,1.0694444444444444,null,0,null,null,"","","",1,"","","",1,"","","","","","","","",null,"","","","","","","","","","","",1,"","","",""]
[4,"Merging","WBL","CrossL2","RAB circulating","SBL","RampL2","RAB entering",null,0,0,0,null,25,20,45,8.9147801264732891,9.3337987230879336E-4,null,1,null,null,null,null,null,2,null,25,0.61111111111111105,null,null,null,1,null,1.2222222222222221,null,0,null,null,"","","","",1,"","","","","","","","","","","",null,"","","","","","","","","","",1,"","","","",""]
[5,"Merging","EBT,EBL,EBR","CrossT1,CrossL1,CrossR1","RAB entering","WBL,SBL","CrossL2,RampL2","RAB circulating",null,0,0,0,null,20,25,45,8.9147801264732891,9.3337987230879336E-4,null,1,null,null,null,null,null,1,null,25,0.61111111111111105,null,null,null,1,null,0.61111111111111105,null,0,null,null,1,1,1,"","","","","","","","","","","","","",null,"","","","",1,"","","","","",1,"","","","",""]
[6,"Merging","EBL","CrossL1","RAB circulating","NBL","RampL1","RAB entering",null,0,0,0,null,25,20,45,8.9147801264732891,9.3337987230879336E-4,null,1,null,null,null,null,null,2,null,25,0.61111111111111105,null,null,null,1,null,1.2222222222222221,null,0,null,null,"",1,"","","","","","","","","","","","","","",null,"","","","","","","",1,"","","","","","","",""]
[7,"Merging","EBT,SBL","CrossT1,RampL2","RAB exiting","NBR","RampR1","RAB entering",null,0,0,0,null,30,20,45,10.623933623853066,1.8155470372595668E-3,null,1,null,null,null,null,null,1.75,null,25,0.61111111111111105,null,null,null,1,null,1.0694444444444444,null,0,null,null,1,"","","","","","","","","",1,"","","","","",null,"","","","","","","","",1,"","","","","","",""]
[8,"Merging","WBT,WBL,WBR","CrossT2,CrossL2,CrossR2","RAB entering","EBL,NBL","CrossL1,RampL1","RAB circulating",null,0,0,0,null,20,25,45,8.9147801264732891,9.3337987230879336E-4,null,1,null,null,null,null,null,1,null,25,0.61111111111111105,null,null,null,1,null,0.61111111111111105,null,0,null,null,"","","",1,1,1,"","","","","","","","","","",null,"",1,"","","","","",1,"","","","","","","",""]
[9,"Diverging","SBL","RampL2","RAB entering","SBR","RampR2","RAB circulating",null,0,0,0,null,20,25,10,3.1698677806728797,1.8457105347369838E-5,null,1,null,null,null,null,null,1,null,{"$f":"IF(B12=\"Diverging\",\"\",SSI_RTI_VehSpeed_RABEnter)","v":""},1,null,null,null,1,null,1,null,0,null,null,"","","","","","","","","","",1,"","","","","",null,"","","","","","","","","","","",1,"","","",""]
[10,"Diverging","WBT,NBL","CrossT2,RampL1","RAB exiting","WBL","CrossL2","RAB circulating",null,0,0,0,null,30,25,10,3.4564566568122888,2.5632912055290725E-5,null,1,null,null,null,null,null,1,null,"",1,null,null,null,1,null,1,null,0,null,null,"","","",1,"","","",1,"","","","","","","","",null,"","","","",1,"","","","","","","","","","",""]
[11,"Diverging","EBT,EBL,SBL","CrossT1,CrossL1,RampL2","RAB circulating","EBR,WBL","CrossR1,CrossL2","RAB exiting",null,0,0,0,null,25,30,10,3.4564566568122888,2.5632912055290725E-5,null,1,null,null,null,null,null,1,null,"",1,null,null,null,1,null,1,null,0,null,null,1,1,"","","","","","","","",1,"","","","","",null,"","",1,"",1,"","","","","","","","","","",""]
[12,"Diverging","NBL","RampL1","RAB entering","NBR","RampR1","RAB circulating",null,0,0,0,null,20,25,10,3.1698677806728797,1.8457105347369838E-5,null,1,null,null,null,null,null,1,null,"",1,null,null,null,1,null,1,null,0,null,null,"","","","","","","",1,"","","","","","","","",null,"","","","","","","","",1,"","","","","","",""]
[13,"Diverging","EBT,SBL","CrossT1,RampL2","RAB exiting","EBL","CrossL1","RAB circulating",null,0,0,0,null,30,25,10,3.4564566568122888,2.5632912055290725E-5,null,1,null,null,null,null,null,1,null,"",1,null,null,null,1,null,1,null,0,null,null,1,"","","","","","","","","",1,"","","","","",null,"",1,"","","","","","","","","","","","","",""]
[14,"Diverging","WBT,WBL,NBL","CrossT2,CrossL2,RampL1","RAB circulating","WBR,EBL","CrossR2,CrossL1","RAB exiting",null,0,0,0,null,25,30,10,3.4564566568122888,2.5632912055290725E-5,null,1,null,null,null,null,null,1,null,"",1,null,null,null,1,null,1,null,0,null,null,"","","",1,1,"","",1,"","","","","","","","",null,"",1,"","","",1,"","","","","","","","","",""]
[15,"Nonmotorized",null,"RampNM2","Nonmotorized","SBR,SBL","RampR2,RampL2","RAB entering",null,175,0,0,null,0,20,"","",0.20274912921655375,null,1,null,null,null,null,null,1,null,20,0.55555555555555558,null,1,null,2,null,1.1111111111111112,null,0,null,null,"","","","","","","","","","","","","","","",1,null,"","","","","","","","","","",1,1,"","","",""]
[16,"Nonmotorized",null,"CrossNM1","Nonmotorized","WBT,SBR,NBL","CrossT2,RampR2,RampL1","RAB exiting",null,175,0,0,null,0,30,"","",0.46699805015542578,null,1,null,null,null,null,null,2,null,{"$f":"IF(B19=\"Diverging\",\"\",SSI_RTI_VehSpeed_RABExit)","v":30},0.66666666666666663,null,1,null,2,null,2.6666666666666665,null,0,null,null,"","","","","","","","","","","","",1,"","","",null,"","","",1,"","","",1,"","","",1,"","","",""]
[17,"Nonmotorized",null,"CrossNM1","Nonmotorized","EBT,EBR,EBL","CrossT1,CrossR1,CrossL1","RAB entering",null,175,0,0,null,0,20,"","",0.20274912921655375,null,1,null,null,null,null,null,2,null,{"$f":"IF(B20=\"Diverging\",\"\",SSI_RTI_VehSpeed_RABEnter)","v":20},0.55555555555555558,null,1,null,2,null,2.2222222222222223,null,0,null,null,"","","","","","","","","","","","",1,"","","",null,1,1,1,"","","","","","","","","","","","",""]
[18,"Nonmotorized",null,"RampNM1","Nonmotorized","EBR,WBL","CrossR1,CrossL2","RAB exiting",null,175,0,0,null,0,30,"","",0.46699805015542578,null,1,null,null,null,null,null,1,null,{"$f":"IF(B21=\"Diverging\",\"\",SSI_RTI_VehSpeed_RABExit)","v":30},0.66666666666666663,null,1,null,2,null,1.3333333333333333,null,0,null,null,"","","","","","","","","","","","","","",1,"",null,"","",1,"",1,"","","","","","","","","",{"$f":"IF(ISNUMBER(SEARCH(BS$3,$G21)),1,\"\")","v":""},{"$f":"IF(ISNUMBER(SEARCH(BT$3,$G21)),1,\"\")","v":""}]
[19,"Nonmotorized",null,"RampNM1","Nonmotorized","NBR,NBL","RampR1,RampL1","RAB entering",null,175,0,0,null,0,20,"","",0.20274912921655375,null,1,null,null,null,null,null,1,null,{"$f":"IF(B22=\"Diverging\",\"\",SSI_RTI_VehSpeed_RABEnter)","v":20},0.55555555555555558,null,1,null,2,null,1.1111111111111112,null,0,null,null,"","","","","","","","","","","","","","",1,"",null,{"$f":"IF(ISNUMBER(SEARCH(BE$3,$G22)),1,\"\")","v":""},"","","","","","",1,1,"","","","","","",""]
[20,"Nonmotorized",null,"CrossNM2","Nonmotorized","EBT,NBR,SBL","CrossT1,RampR1,RampL2","RAB exiting",null,175,0,0,null,0,30,"","",0.46699805015542578,null,1,null,null,null,null,null,2,null,{"$f":"IF(B23=\"Diverging\",\"\",SSI_RTI_VehSpeed_RABExit)","v":30},0.66666666666666663,null,1,null,2,null,2.6666666666666665,null,0,null,null,"","","","","","","","","","","","",{"$f":"IF(ISNUMBER(SEARCH(AZ$3,$D23)),1,\"\")","v":""},{"$f":"IF(ISNUMBER(SEARCH(BA$3,$D23)),1,\"\")","v":1},{"$f":"IF(ISNUMBER(SEARCH(BB$3,$D23)),1,\"\")","v":""},{"$f":"IF(ISNUMBER(SEARCH(BC$3,$D23)),1,\"\")","v":""},null,1,"","","","","","","",1,"",1,"","","","",""]
[21,"Nonmotorized",null,"CrossNM2","Nonmotorized","WBT,WBR,WBL","CrossT2,CrossR2,CrossL2","RAB entering",null,175,0,0,null,0,20,"","",0.20274912921655375,null,1,null,null,null,null,null,2,null,{"$f":"IF(B24=\"Diverging\",\"\",SSI_RTI_VehSpeed_RABEnter)","v":20},0.55555555555555558,null,1,null,2,null,2.2222222222222223,null,0,null,null,{"$f":"IF(ISNUMBER(SEARCH(AN$3,$D24)),1,\"\")","v":""},"","","","","","","","","","","","",1,"","",null,"","","",1,1,1,"","","","","","","","","",""]
[22,"Nonmotorized",null,"RampNM2","Nonmotorized","WBR,EBL","CrossR2,CrossL1","RAB exiting",null,175,0,0,null,0,30,"","",0.46699805015542578,null,1,null,null,null,null,null,1,null,{"$f":"IF(B25=\"Diverging\",\"\",SSI_RTI_VehSpeed_RABExit)","v":30},0.66666666666666663,null,1,null,2,null,1.3333333333333333,null,{"$f":"L25*R25*AI25","v":0},null,null,"","","","","","","","","","","","","","","",1,null,"",1,"","","",1,"","","","","","","","","",""]
[null,null,null,null,null,null,null,null,null,null,null,null,null,null,null,null,null,null,null,null,null,null,null,null,null,null,null,null,null,null,null,null,null,null,null,null,null,null,"O",{"$f":"'SSI Inputs RTI'!$D$28","v":""},{"$f":"'SSI Inputs RTI'!$D$29","v":""},{"$f":"'SSI Inputs RTI'!$D$30","v":""},{"$f":"'SSI Inputs RTI'!$D$32","v":""},{"$f":"'SSI Inputs RTI'!$D$33","v":""},{"$f":"'SSI Inputs RTI'!$D$34","v":""},{"$f":"'SSI Inputs RTI'!$D$36","v":""},{"$f":"'SSI Inputs RTI'!$D$37","v":""},{"$f":"'SSI Inputs RTI'!$D$38","v":""},{"$f":"'SSI Inputs RTI'!$D$40","v":""},{"$f":"'SSI Inputs RTI'!$D$41","v":""},{"$f":"'SSI Inputs RTI'!$D$42","v":""},{"$f":"'SSI Inputs RTI'!$Q$20","v":175},{"$f":"'SSI Inputs RTI'!$Q$21","v":175},{"$f":"'SSI Inputs RTI'!$Q$22","v":175},{"$f":"'SSI Inputs RTI'!$Q$23","v":175},"O",{"$f":"'SSI Inputs RTI'!$D$28","v":""},{"$f":"'SSI Inputs RTI'!$D$29","v":""},{"$f":"'SSI Inputs RTI'!$D$30","v":""},{"$f":"'SSI Inputs RTI'!$D$32","v":""},{"$f":"'SSI Inputs RTI'!$D$33","v":""},{"$f":"'SSI Inputs RTI'!$D$34","v":""},{"$f":"'SSI Inputs RTI'!$D$36","v":""},{"$f":"'SSI Inputs RTI'!$D$37","v":""},{"$f":"'SSI Inputs RTI'!$D$38","v":""},{"$f":"'SSI Inputs RTI'!$D$40","v":""},{"$f":"'SSI Inputs RTI'!$D$41","v":""},{"$f":"'SSI Inputs RTI'!$D$42","v":""},{"$f":"'SSI Inputs RTI'!$Q$20","v":175},{"$f":"'SSI Inputs RTI'!$Q$21","v":175},{"$f":"'SSI Inputs RTI'!$Q$22","v":175},{"$f":"'SSI Inputs RTI'!$Q$23","v":175}]
[null,null,null,null,null,null,null,null,null,null,null,null,null,null,null,null,null,null,null,null,null,null,null,null,null,null,null,null,null,null,null,null,null,null,null,null,null,null,"D",{"$f":"'SSI Inputs RTI'!$E$28","v":""},{"$f":"'SSI Inputs RTI'!$E$29","v":""},{"$f":"'SSI Inputs RTI'!$E$30","v":""},{"$f":"'SSI Inputs RTI'!$E$32","v":""},{"$f":"'SSI Inputs RTI'!$E$33","v":""},{"$f":"'SSI Inputs RTI'!$E$34","v":""},{"$f":"'SSI Inputs RTI'!$E$36","v":""},{"$f":"'SSI Inputs RTI'!$E$37","v":""},{"$f":"'SSI Inputs RTI'!$E$38","v":""},{"$f":"'SSI Inputs RTI'!$E$40","v":""},{"$f":"'SSI Inputs RTI'!$E$41","v":""},{"$f":"'SSI Inputs RTI'!$E$42","v":""},{"$f":"'SSI Inputs RTI'!$R$20","v":175},{"$f":"'SSI Inputs RTI'!$R$21","v":175},{"$f":"'SSI Inputs RTI'!$R$22","v":175},{"$f":"'SSI Inputs RTI'!$R$23","v":175},"D",{"$f":"'SSI Inputs RTI'!$E$28","v":""},{"$f":"'SSI Inputs RTI'!$E$29","v":""},{"$f":"'SSI Inputs RTI'!$E$30","v":""},{"$f":"'SSI Inputs RTI'!$E$32","v":""},{"$f":"'SSI Inputs RTI'!$E$33","v":""},{"$f":"'SSI Inputs RTI'!$E$34","v":""},{"$f":"'SSI Inputs RTI'!$E$36","v":""},{"$f":"'SSI Inputs RTI'!$E$37","v":""},{"$f":"'SSI Inputs RTI'!$E$38","v":""},{"$f":"'SSI Inputs RTI'!$E$40","v":""},{"$f":"'SSI Inputs RTI'!$E$41","v":""},{"$f":"'SSI Inputs RTI'!$E$42","v":""},{"$f":"'SSI Inputs RTI'!$R$20","v":175},{"$f":"'SSI Inputs RTI'!$R$21","v":175},{"$f":"'SSI Inputs RTI'!$R$22","v":175},{"$f":"'SSI Inputs RTI'!$R$23","v":175}]
[]
[]
[]
[]
[]
[]
[]
[]
[]
[]
[]
[]
[]
[]
[]
[]
[]
[]
[]
[]
[]
[]
[]
[]
[]
[]
[]
[]
[]
[]
[]
[]
[]
[]
[]
[]
[]
[]
[]
[]
[]
[]
[]
[]
[]
[]
[]
[]
[]
[]
[]
[]
[]
[]
[]
[]
[]
[]
[]
[]
[]
[]
[]
[]
[]
[]
[]
[]
[]
[]
[]
[]
[]
[null,null,null,null,null,null,null,null,null,"Exposure",null,null,null,null,null,null,null,null,null,null,null,null,null,null,null,null,null,null,null,null,null,null,null,null,null,null,"Exposure-Severity-Complexity Product"]
[null,null,null,null,null,null,null,null,null,"Q1","Q2","I"]
[null,null,null,null,null,null,null,null,null,{"$f":"SUMPRODUCT($AN4:$BC4,$AN$27:$BC$27)","v":0},{"$f":"SUMPRODUCT($BE4:$BT4,$BE$27:$BT$27)","v":0},{"$f":"PRODUCT(J103:K103)","v":0},null,null,null,null,null,null,null,null,null,null,null,null,null,null,null,null,null,null,null,null,null,null,null,null,{"$f":"L103*R4*AI4","v":0}]
[null,null,null,null,null,null,null,null,null,{"$f":"SUMPRODUCT($AN5:$BC5,$AN$27:$BC$27)","v":0},{"$f":"SUMPRODUCT($BE5:$BT5,$BE$27:$BT$27)","v":0},{"$f":"PRODUCT(J104:K104)","v":0},null,null,null,null,null,null,null,null,null,null,null,null,null,null,null,null,null,null,null,null,null,null,null,null,{"$f":"L104*R5*AI5","v":0}]
[null,null,null,null,null,null,null,null,null,0,0,0,null,null,null,null,null,null,null,null,null,null,null,null,null,null,null,null,null,null,null,null,null,null,null,null,0]
[null,null,null,null,null,null,null,null,null,0,0,0,null,null,null,null,null,null,null,null,null,null,null,null,null,null,null,null,null,null,null,null,null,null,null,null,0]
[null,null,null,null,null,null,null,null,null,0,0,0,null,null,null,null,null,null,null,null,null,null,null,null,null,null,null,null,null,null,null,null,null,null,null,null,0]
[null,null,null,null,null,null,null,null,null,0,0,0,null,null,null,null,null,null,null,null,null,null,null,null,null,null,null,null,null,null,null,null,null,null,null,null,0]
[null,null,null,null,null,null,null,null,null,0,0,0,null,null,null,null,null,null,null,null,null,null,null,null,null,null,null,null,null,null,null,null,null,null,null,null,0]
[null,null,null,null,null,null,null,null,null,0,0,0,null,null,null,null,null,null,null,null,null,null,null,null,null,null,null,null,null,null,null,null,null,null,null,null,0]
[null,null,null,null,null,null,null,null,null,0,0,0,null,null,null,null,null,null,null,null,null,null,null,null,null,null,null,null,null,null,null,null,null,null,null,null,0]
[null,null,null,null,null,null,null,null,null,0,0,0,null,null,null,null,null,null,null,null,null,null,null,null,null,null,null,null,null,null,null,null,null,null,null,null,0]
[null,null,null,null,null,null,null,null,null,0,0,0,null,null,null,null,null,null,null,null,null,null,null,null,null,null,null,null,null,null,null,null,null,null,null,null,0]
[null,null,null,null,null,null,null,null,null,0,0,0,null,null,null,null,null,null,null,null,null,null,null,null,null,null,null,null,null,null,null,null,null,null,null,null,0]
[null,null,null,null,null,null,null,null,null,0,0,0,null,null,null,null,null,null,null,null,null,null,null,null,null,null,null,null,null,null,null,null,null,null,null,null,0]
[null,null,null,null,null,null,null,null,null,0,0,0,null,null,null,null,null,null,null,null,null,null,null,null,null,null,null,null,null,null,null,null,null,null,null,null,0]
[null,null,null,null,null,null,null,null,null,175,0,0,null,null,null,null,null,null,null,null,null,null,null,null,null,null,null,null,null,null,null,null,null,null,null,null,0]
[null,null,null,null,null,null,null,null,null,175,0,0,null,null,null,null,null,null,null,null,null,null,null,null,null,null,null,null,null,null,null,null,null,null,null,null,0]
[null,null,null,null,null,null,null,null,null,175,0,0,null,null,null,null,null,null,null,null,null,null,null,null,null,null,null,null,null,null,null,null,null,null,null,null,0]
[null,null,null,null,null,null,null,null,null,175,0,0,null,null,null,null,null,null,null,null,null,null,null,null,null,null,null,null,null,null,null,null,null,null,null,null,0]
[null,null,null,null,null,null,null,null,null,175,0,0,null,null,null,null,null,null,null,null,null,null,null,null,null,null,null,null,null,null,null,null,null,null,null,null,0]
[null,null,null,null,null,null,null,null,null,175,0,0,null,null,null,null,null,null,null,null,null,null,null,null,null,null,null,null,null,null,null,null,null,null,null,null,0]
[null,null,null,null,null,null,null,null,null,175,0,0,null,null,null,null,null,null,null,null,null,null,null,null,null,null,null,null,null,null,null,null,null,null,null,null,0]
[null,null,null,null,null,null,null,null,null,175,0,0,null,null,null,null,null,null,null,null,null,null,null,null,null,null,null,null,null,null,null,null,null,null,null,null,0]

{"sheet":"RTI_RAB2x2","index":22,"n_rows":124,"n_cols":72,"rows_kept":124,"cut":false,"hidden":true,"merged":[[1,34,2,34],[1,36,2,36],[1,39,1,52],[1,56,1,69],[100,9,100,11],[100,36,101,36],[0,19,0,28],[0,30,0,32],[1,9,1,11],[1,13,1,17],[1,21,1,25],[1,27,1,28],[1,30,2,30],[1,31,2,31],[1,32,2,32]]}
[null,null,null,null,null,null,null,null,null,null,null,null,null,null,null,null,null,null,null,"Conflicting Traffic Complexity",null,null,null,null,null,null,null,null,null,null,"Pedestrian Complexity"]
[null,null,null,null,null,null,null,null,null,"Exposure",null,null,null,"Severity",null,null,null,null,null,"Traffic Control",null,"Conflicting Lanes",null,null,null,null,null,"Conflicting Speed",null,null,"Indirect Paths Indicator","Non-intuitive movements indicator","Pedestrian Complexity factor",null,"Total Complexity Multiplier",null,"Exposure-Severity-Complexity Product",null,null,"Included in Mvmt1",null,null,null,null,null,null,null,null,null,null,null,null,null,null,null,null,"Included in Mvmt2"]
["#","Conflict Type","Mvmt1","Mvmt1_gen","Mvmt1_SpeedCat","Mvmt2","Mvmt2_gen","Mvmt2_SpeedCat",null,"Q1","Q2","I",null,"Speed_V1","Speed_V2","Angle","delta_V","P_FSI",null,null,null,"CrossC","RampC","CrossM/P","RampM/P","Score",null,"Speed","Factor",null,null,null,null,null,null,null,null,null,null,"CrossT1","CrossL1","CrossR1","CrossT2","CrossL2","CrossR2","RampT1","RampL1","RampR1","RampT2","RampL2","RampR2","CrossNM1","CrossNM2","RampNM1","RampNM2",null,"CrossT1","CrossL1","CrossR1","CrossT2","CrossL2","CrossR2","RampT1","RampL1","RampR1","RampT2","RampL2","RampR2","CrossNM1","CrossNM2","RampNM1","RampNM2"]
[1,"Crossing - RAB","WBT,NBL","CrossT2,RampL1","RAB exiting","SBL","RampL2","RAB entering",null,{"$f":"SUMPRODUCT($AN4:$BC4,$AN$26:$BC$26)","v":0},{"$f":"SUMPRODUCT($BE4:$BT4,$BE$26:$BT$26)","v":0},{"$f":"PRODUCT(J4:K4)","v":0},null,{"$f":"VLOOKUP(E4,SSI_RTI_Range_VehSpeed,5,FALSE)","v":30},{"$f":"VLOOKUP(H4,SSI_RTI_Range_VehSpeed,5,FALSE)","v":20},{"$f":"IF(B4=\"Nonmotorized\",\"\",VLOOKUP(B4,SSI_RTI_Range_CollAngles,5,FALSE))","v":60},{"$f":"IF(B4=\"Nonmotorized\",\"\",SQRT(N4^2+O4^2-2*N4*O4*COS(RADIANS(P4)))/2)","v":13.228756555322953},{"$f":"IF(B4=\"Nonmotorized\",1/(1+EXP(3.8432-0.1237*O4)),(Q4/SSI_RTI_RegAlpha)^SSI_RTI_RegK+(Q4/SSI_RTI_RegAlpha)^SSI_RTI_RegK-((Q4/SSI_RTI_RegAlpha)^SSI_RTI_RegK)*((Q4/SSI_RTI_RegAlpha)^SSI_RTI_RegK))","v":4.1698027385763175E-3},null,{"$f":"SSI_RTI_PermFactor","v":1},null,null,null,null,null,2,null,{"$f":"IF(B4=\"Diverging\",\"\",SSI_RTI_VehSpeed_RABCirc)","v":25},{"$f":"IF(B4=\"Diverging\",1,1-((60-AB4)/60*0.1/0.15))","v":0.61111111111111105},null,null,null,{"$f":"1+AE4+AF4","v":1},null,{"$f":"PRODUCT(Z4,T4,AC4,AG4)","v":1.2222222222222221},null,{"$f":"L4*R4*AI4","v":0},null,null,{"$f":"IF(ISNUMBER(SEARCH(AN$3,$D4)),1,\"\")","v":""},{"$f":"IF(ISNUMBER(SEARCH(AO$3,$D4)),1,\"\")","v":""},"",1,"","","",1,"","","","","","","","",null,{"$f":"IF(ISNUMBER(SEARCH(BE$3,$G4)),1,\"\")","v":""},{"$f":"IF(ISNUMBER(SEARCH(BF$3,$G4)),1,\"\")","v":""},"","","","","","","","",1,"","","","",""]
[2,"Crossing - RAB","EBT,SBL","CrossT1,RampL2","RAB exiting","NBL","RampL1","RAB entering",null,0,0,{"$f":"PRODUCT(J5:K5)","v":0},null,30,20,60,{"$f":"IF(B5=\"Nonmotorized\",\"\",SQRT(N5^2+O5^2-2*N5*O5*COS(RADIANS(P5)))/2)","v":13.228756555322953},4.1698027385763175E-3,null,1,null,null,null,null,null,2,null,25,0.61111111111111105,null,null,null,{"$f":"1+AE5+AF5","v":1},null,1.2222222222222221,null,{"$f":"L5*R5*AI5","v":0},null,null,{"$f":"IF(ISNUMBER(SEARCH(AN$3,$D5)),1,\"\")","v":1},"","","","","","","","","",1,"","","","","",null,{"$f":"IF(ISNUMBER(SEARCH(BE$3,$G5)),1,\"\")","v":""},"","","","","","",1,"","","","","","","",""]
[3,"Merging","WBT,NBL","CrossT2,RampL1","RAB exiting","SBR","RampR2","RAB entering",null,0,0,0,null,30,20,45,10.623933623853066,1.8155470372595668E-3,null,1,null,null,null,null,null,1.75,null,25,0.61111111111111105,null,null,null,1,null,1.0694444444444444,null,0,null,null,"","","",1,"","","",1,"","","","","","","","",null,"","","","","","","","","","","",1,"","","",""]
[4,"Merging","WBL","CrossL2","RAB circulating","SBL","RampL2","RAB entering",null,0,0,0,null,25,20,45,8.9147801264732891,9.3337987230879336E-4,null,1,null,null,null,null,null,2,null,25,0.61111111111111105,null,null,null,1,null,1.2222222222222221,null,0,null,null,"","","","",1,"","","","","","","","","","","",null,"","","","","","","","","","",1,"","","","",""]
[5,"Merging","EBT,EBL,EBR","CrossT1,CrossL1,CrossR1","RAB entering","WBL,SBL","CrossL2,RampL2","RAB circulating",null,0,0,0,null,20,25,45,8.9147801264732891,9.3337987230879336E-4,null,1,null,null,null,null,null,2,null,25,0.61111111111111105,null,null,null,1,null,1.2222222222222221,null,0,null,null,1,1,1,"","","","","","","","","","","","","",null,"","","","",1,"","","","","",1,"","","","",""]
[6,"Merging","EBL","CrossL1","RAB circulating","NBL","RampL1","RAB entering",null,0,0,0,null,25,20,45,8.9147801264732891,9.3337987230879336E-4,null,1,null,null,null,null,null,2,null,25,0.61111111111111105,null,null,null,1,null,1.2222222222222221,null,0,null,null,"",1,"","","","","","","","","","","","","","",null,"","","","","","","",1,"","","","","","","",""]
[7,"Merging","EBT,SBL","CrossT1,RampL2","RAB exiting","NBR","RampR1","RAB entering",null,0,0,0,null,30,20,45,10.623933623853066,1.8155470372595668E-3,null,1,null,null,null,null,null,1.75,null,25,0.61111111111111105,null,null,null,1,null,1.0694444444444444,null,0,null,null,1,"","","","","","","","","",1,"","","","","",null,"","","","","","","","",1,"","","","","","",""]
[8,"Merging","WBT,WBL,WBR","CrossT2,CrossL2,CrossR2","RAB entering","EBL,NBL","CrossL1,RampL1","RAB circulating",null,0,0,0,null,20,25,45,8.9147801264732891,9.3337987230879336E-4,null,1,null,null,null,null,null,2,null,25,0.61111111111111105,null,null,null,1,null,1.2222222222222221,null,0,null,null,"","","",1,1,1,"","","","","","","","","","",null,"",1,"","","","","",1,"","","","","","","",""]
[9,"Diverging","SBL","RampL2","RAB entering","SBR","RampR2","RAB circulating",null,0,0,0,null,20,25,10,3.1698677806728797,1.8457105347369838E-5,null,1,null,null,null,null,null,1,null,{"$f":"IF(B12=\"Diverging\",\"\",SSI_RTI_VehSpeed_RABEnter)","v":""},1,null,null,null,1,null,1,null,0,null,null,"","","","","","","","","","",1,"","","","","",null,"","","","","","","","","","","",1,"","","",""]
[10,"Diverging","WBT,NBL","CrossT2,RampL1","RAB exiting","WBL","CrossL2","RAB circulating",null,0,0,0,null,30,25,10,3.4564566568122888,2.5632912055290725E-5,null,1,null,null,null,null,null,1,null,"",1,null,null,null,1,null,1,null,0,null,null,"","","",1,"","","",1,"","","","","","","","",null,"","","","",1,"","","","","","","","","","",""]
[11,"Diverging","EBT,EBL,SBL","CrossT1,CrossL1,RampL2","RAB circulating","EBR,WBL","CrossR1,CrossL2","RAB exiting",null,0,0,0,null,25,30,10,3.4564566568122888,2.5632912055290725E-5,null,1,null,null,null,null,null,1,null,"",1,null,null,null,1,null,1,null,0,null,null,1,1,"","","","","","","","",1,"","","","","",null,"","",1,"",1,"","","","","","","","","","",""]
[12,"Diverging","NBL","RampL1","RAB entering","NBR","RampR1","RAB circulating",null,0,0,0,null,20,25,10,3.1698677806728797,1.8457105347369838E-5,null,1,null,null,null,null,null,1,null,"",1,null,null,null,1,null,1,null,0,null,null,"","","","","","","",1,"","","","","","","","",null,"","","","","","","","",1,"","","","","","",""]
[13,"Diverging","EBT,SBL","CrossT1,RampL2","RAB exiting","EBL","CrossL1","RAB circulating",null,0,0,0,null,30,25,10,3.4564566568122888,2.5632912055290725E-5,null,1,null,null,null,null,null,1,null,"",1,null,null,null,1,null,1,null,0,null,null,1,"","","","","","","","","",1,"","","","","",null,"",1,"","","","","","","","","","","","","",""]
[14,"Diverging","WBT,WBL,NBL","CrossT2,CrossL2,RampL1","RAB circulating","WBR,EBL","CrossR2,CrossL1","RAB exiting",null,0,0,0,null,25,30,10,3.4564566568122888,2.5632912055290725E-5,null,1,null,null,null,null,null,1,null,"",1,null,null,null,1,null,1,null,0,null,null,"","","",1,1,"","",1,"","","","","","","","",null,"",1,"","","",1,"","","","","","","","","",""]
[15,"Nonmotorized",null,"RampNM2","Nonmotorized","SBR,SBL","RampR2,RampL2","RAB entering",null,175,0,0,null,0,20,"","",0.20274912921655375,null,1,null,null,null,null,null,2,null,20,0.55555555555555558,null,1,null,2,null,2.2222222222222223,null,0,null,null,"","","","","","","","","","","","","","","",1,null,"","","","","","","","","","",1,1,"","","",""]
[16,"Nonmotorized",null,"CrossNM1","Nonmotorized","WBT,SBR,NBL","CrossT2,RampR2,RampL1","RAB exiting",null,175,0,0,null,0,30,"","",0.46699805015542578,null,1,null,null,null,null,null,2,null,{"$f":"IF(B19=\"Diverging\",\"\",SSI_RTI_VehSpeed_RABExit)","v":30},0.66666666666666663,null,1,null,2,null,2.6666666666666665,null,0,null,null,"","","","","","","","","","","","",1,"","","",null,"","","",1,"","","",1,"","","",1,"","","",""]
[17,"Nonmotorized",null,"CrossNM1","Nonmotorized","EBT,EBR,EBL","CrossT1,CrossR1,CrossL1","RAB entering",null,175,0,0,null,0,20,"","",0.20274912921655375,null,1,null,null,null,null,null,2,null,{"$f":"IF(B20=\"Diverging\",\"\",SSI_RTI_VehSpeed_RABEnter)","v":20},0.55555555555555558,null,1,null,2,null,2.2222222222222223,null,0,null,null,"","","","","","","","","","","","",1,"","","",null,1,1,1,"","","","","","","","","","","","",""]
[18,"Nonmotorized",null,"RampNM1","Nonmotorized","EBR,WBL","CrossR1,CrossL2","RAB exiting",null,175,0,0,null,0,30,"","",0.46699805015542578,null,1,null,null,null,null,null,2,null,{"$f":"IF(B21=\"Diverging\",\"\",SSI_RTI_VehSpeed_RABExit)","v":30},0.66666666666666663,null,1,null,2,null,2.6666666666666665,null,0,null,null,"","","","","","","","","","","","","","",1,"",null,"","",1,"",1,"","","","","","","","","",{"$f":"IF(ISNUMBER(SEARCH(BS$3,$G21)),1,\"\")","v":""},{"$f":"IF(ISNUMBER(SEARCH(BT$3,$G21)),1,\"\")","v":""}]
[19,"Nonmotorized",null,"RampNM1","Nonmotorized","NBR,NBL","RampR1,RampL1","RAB entering",null,175,0,0,null,0,20,"","",0.20274912921655375,null,1,null,null,null,null,null,2,null,{"$f":"IF(B22=\"Diverging\",\"\",SSI_RTI_VehSpeed_RABEnter)","v":20},0.55555555555555558,null,1,null,2,null,2.2222222222222223,null,0,null,null,"","","","","","","","","","","","","","",1,"",null,{"$f":"IF(ISNUMBER(SEARCH(BE$3,$G22)),1,\"\")","v":""},"","","","","","",1,1,"","","","","","",""]
[20,"Nonmotorized",null,"CrossNM2","Nonmotorized","EBT,NBR,SBL","CrossT1,RampR1,RampL2","RAB exiting",null,175,0,0,null,0,30,"","",0.46699805015542578,null,1,null,null,null,null,null,2,null,{"$f":"IF(B23=\"Diverging\",\"\",SSI_RTI_VehSpeed_RABExit)","v":30},0.66666666666666663,null,1,null,2,null,2.6666666666666665,null,0,null,null,"","","","","","","","","","","","",{"$f":"IF(ISNUMBER(SEARCH(AZ$3,$D23)),1,\"\")","v":""},{"$f":"IF(ISNUMBER(SEARCH(BA$3,$D23)),1,\"\")","v":1},{"$f":"IF(ISNUMBER(SEARCH(BB$3,$D23)),1,\"\")","v":""},{"$f":"IF(ISNUMBER(SEARCH(BC$3,$D23)),1,\"\")","v":""},null,1,"","","","","","","",1,"",1,"","","","",""]
[21,"Nonmotorized",null,"CrossNM2","Nonmotorized","WBT,WBR,WBL","CrossT2,CrossR2,CrossL2","RAB entering",null,175,0,0,null,0,20,"","",0.20274912921655375,null,1,null,null,null,null,null,2,null,{"$f":"IF(B24=\"Diverging\",\"\",SSI_RTI_VehSpeed_RABEnter)","v":20},0.55555555555555558,null,1,null,2,null,2.2222222222222223,null,0,null,null,{"$f":"IF(ISNUMBER(SEARCH(AN$3,$D24)),1,\"\")","v":""},"","","","","","","","","","","","",1,"","",null,"","","",1,1,1,"","","","","","","","","",""]
[22,"Nonmotorized",null,"RampNM2","Nonmotorized","WBR,EBL","CrossR2,CrossL1","RAB exiting",null,175,0,0,null,0,30,"","",0.46699805015542578,null,1,null,null,null,null,null,2,null,{"$f":"IF(B25=\"Diverging\",\"\",SSI_RTI_VehSpeed_RABExit)","v":30},0.66666666666666663,null,1,null,2,null,2.6666666666666665,null,{"$f":"L25*R25*AI25","v":0},null,null,"","","","","","","","","","","","","","","",1,null,"",1,"","","",1,"","","","","","","","","",""]
[null,null,null,null,null,null,null,null,null,null,null,null,null,null,null,null,null,null,null,null,null,null,null,null,null,null,null,null,null,null,null,null,null,null,null,null,null,null,"O",{"$f":"'SSI Inputs RTI'!$D$28","v":""},{"$f":"'SSI Inputs RTI'!$D$29","v":""},{"$f":"'SSI Inputs RTI'!$D$30","v":""},{"$f":"'SSI Inputs RTI'!$D$32","v":""},{"$f":"'SSI Inputs RTI'!$D$33","v":""},{"$f":"'SSI Inputs RTI'!$D$34","v":""},{"$f":"'SSI Inputs RTI'!$D$36","v":""},{"$f":"'SSI Inputs RTI'!$D$37","v":""},{"$f":"'SSI Inputs RTI'!$D$38","v":""},{"$f":"'SSI Inputs RTI'!$D$40","v":""},{"$f":"'SSI Inputs RTI'!$D$41","v":""},{"$f":"'SSI Inputs RTI'!$D$42","v":""},{"$f":"'SSI Inputs RTI'!$Q$20","v":175},{"$f":"'SSI Inputs RTI'!$Q$21","v":175},{"$f":"'SSI Inputs RTI'!$Q$22","v":175},{"$f":"'SSI Inputs RTI'!$Q$23","v":175},"O",{"$f":"'SSI Inputs RTI'!$D$28","v":""},{"$f":"'SSI Inputs RTI'!$D$29","v":""},{"$f":"'SSI Inputs RTI'!$D$30","v":""},{"$f":"'SSI Inputs RTI'!$D$32","v":""},{"$f":"'SSI Inputs RTI'!$D$33","v":""},{"$f":"'SSI Inputs RTI'!$D$34","v":""},{"$f":"'SSI Inputs RTI'!$D$36","v":""},{"$f":"'SSI Inputs RTI'!$D$37","v":""},{"$f":"'SSI Inputs RTI'!$D$38","v":""},{"$f":"'SSI Inputs RTI'!$D$40","v":""},{"$f":"'SSI Inputs RTI'!$D$41","v":""},{"$f":"'SSI Inputs RTI'!$D$42","v":""},{"$f":"'SSI Inputs RTI'!$Q$20","v":175},{"$f":"'SSI Inputs RTI'!$Q$21","v":175},{"$f":"'SSI Inputs RTI'!$Q$22","v":175},{"$f":"'SSI Inputs RTI'!$Q$23","v":175}]
[null,null,null,null,null,null,null,null,null,null,null,null,null,null,null,null,null,null,null,null,null,null,null,null,null,null,null,null,null,null,null,null,null,null,null,null,null,null,"D",{"$f":"'SSI Inputs RTI'!$E$28","v":""},{"$f":"'SSI Inputs RTI'!$E$29","v":""},{"$f":"'SSI Inputs RTI'!$E$30","v":""},{"$f":"'SSI Inputs RTI'!$E$32","v":""},{"$f":"'SSI Inputs RTI'!$E$33","v":""},{"$f":"'SSI Inputs RTI'!$E$34","v":""},{"$f":"'SSI Inputs RTI'!$E$36","v":""},{"$f":"'SSI Inputs RTI'!$E$37","v":""},{"$f":"'SSI Inputs RTI'!$E$38","v":""},{"$f":"'SSI Inputs RTI'!$E$40","v":""},{"$f":"'SSI Inputs RTI'!$E$41","v":""},{"$f":"'SSI Inputs RTI'!$E$42","v":""},{"$f":"'SSI Inputs RTI'!$R$20","v":175},{"$f":"'SSI Inputs RTI'!$R$21","v":175},{"$f":"'SSI Inputs RTI'!$R$22","v":175},{"$f":"'SSI Inputs RTI'!$R$23","v":175},"D",{"$f":"'SSI Inputs RTI'!$E$28","v":""},{"$f":"'SSI Inputs RTI'!$E$29","v":""},{"$f":"'SSI Inputs RTI'!$E$30","v":""},{"$f":"'SSI Inputs RTI'!$E$32","v":""},{"$f":"'SSI Inputs RTI'!$E$33","v":""},{"$f":"'SSI Inputs RTI'!$E$34","v":""},{"$f":"'SSI Inputs RTI'!$E$36","v":""},{"$f":"'SSI Inputs RTI'!$E$37","v":""},{"$f":"'SSI Inputs RTI'!$E$38","v":""},{"$f":"'SSI Inputs RTI'!$E$40","v":""},{"$f":"'SSI Inputs RTI'!$E$41","v":""},{"$f":"'SSI Inputs RTI'!$E$42","v":""},{"$f":"'SSI Inputs RTI'!$R$20","v":175},{"$f":"'SSI Inputs RTI'!$R$21","v":175},{"$f":"'SSI Inputs RTI'!$R$22","v":175},{"$f":"'SSI Inputs RTI'!$R$23","v":175}]
[]
[]
[]
[]
[]
[]
[]
[]
[]
[]
[]
[]
[]
[]
[]
[]
[]
[]
[]
[]
[]
[]
[]
[]
[]
[]
[]
[]
[]
[]
[]
[]
[]
[]
[]
[]
[]
[]
[]
[]
[]
[]
[]
[]
[]
[]
[]
[]
[]
[]
[]
[]
[]
[]
[]
[]
[]
[]
[]
[]
[]
[]
[]
[]
[]
[]
[]
[]
[]
[]
[]
[]
[]
[null,null,null,null,null,null,null,null,null,"Exposure",null,null,null,null,null,null,null,null,null,null,null,null,null,null,null,null,null,null,null,null,null,null,null,null,null,null,"Exposure-Severity-Complexity Product"]
[null,null,null,null,null,null,null,null,null,"Q1","Q2","I"]
[null,null,null,null,null,null,null,null,null,{"$f":"SUMPRODUCT($AN4:$BC4,$AN$27:$BC$27)","v":0},{"$f":"SUMPRODUCT($BE4:$BT4,$BE$27:$BT$27)","v":0},{"$f":"PRODUCT(J103:K103)","v":0},null,null,null,null,null,null,null,null,null,null,null,null,null,null,null,null,null,null,null,null,null,null,null,null,{"$f":"L103*R4*AI4","v":0}]
[null,null,null,null,null,null,null,null,null,{"$f":"SUMPRODUCT($AN5:$BC5,$AN$27:$BC$27)","v":0},{"$f":"SUMPRODUCT($BE5:$BT5,$BE$27:$BT$27)","v":0},{"$f":"PRODUCT(J104:K104)","v":0},null,null,null,null,null,null,null,null,null,null,null,null,null,null,null,null,null,null,null,null,null,null,null,null,{"$f":"L104*R5*AI5","v":0}]
[null,null,null,null,null,null,null,null,null,0,0,0,null,null,null,null,null,null,null,null,null,null,null,null,null,null,null,null,null,null,null,null,null,null,null,null,0]
[null,null,null,null,null,null,null,null,null,0,0,0,null,null,null,null,null,null,null,null,null,null,null,null,null,null,null,null,null,null,null,null,null,null,null,null,0]
[null,null,null,null,null,null,null,null,null,0,0,0,null,null,null,null,null,null,null,null,null,null,null,null,null,null,null,null,null,null,null,null,null,null,null,null,0]
[null,null,null,null,null,null,null,null,null,0,0,0,null,null,null,null,null,null,null,null,null,null,null,null,null,null,null,null,null,null,null,null,null,null,null,null,0]
[null,null,null,null,null,null,null,null,null,0,0,0,null,null,null,null,null,null,null,null,null,null,null,null,null,null,null,null,null,null,null,null,null,null,null,null,0]
[null,null,null,null,null,null,null,null,null,0,0,0,null,null,null,null,null,null,null,null,null,null,null,null,null,null,null,null,null,null,null,null,null,null,null,null,0]
[null,null,null,null,null,null,null,null,null,0,0,0,null,null,null,null,null,null,null,null,null,null,null,null,null,null,null,null,null,null,null,null,null,null,null,null,0]
[null,null,null,null,null,null,null,null,null,0,0,0,null,null,null,null,null,null,null,null,null,null,null,null,null,null,null,null,null,null,null,null,null,null,null,null,0]
[null,null,null,null,null,null,null,null,null,0,0,0,null,null,null,null,null,null,null,null,null,null,null,null,null,null,null,null,null,null,null,null,null,null,null,null,0]
[null,null,null,null,null,null,null,null,null,0,0,0,null,null,null,null,null,null,null,null,null,null,null,null,null,null,null,null,null,null,null,null,null,null,null,null,0]
[null,null,null,null,null,null,null,null,null,0,0,0,null,null,null,null,null,null,null,null,null,null,null,null,null,null,null,null,null,null,null,null,null,null,null,null,0]
[null,null,null,null,null,null,null,null,null,0,0,0,null,null,null,null,null,null,null,null,null,null,null,null,null,null,null,null,null,null,null,null,null,null,null,null,0]
[null,null,null,null,null,null,null,null,null,175,0,0,null,null,null,null,null,null,null,null,null,null,null,null,null,null,null,null,null,null,null,null,null,null,null,null,0]
[null,null,null,null,null,null,null,null,null,175,0,0,null,null,null,null,null,null,null,null,null,null,null,null,null,null,null,null,null,null,null,null,null,null,null,null,0]
[null,null,null,null,null,null,null,null,null,175,0,0,null,null,null,null,null,null,null,null,null,null,null,null,null,null,null,null,null,null,null,null,null,null,null,null,0]
[null,null,null,null,null,null,null,null,null,175,0,0,null,null,null,null,null,null,null,null,null,null,null,null,null,null,null,null,null,null,null,null,null,null,null,null,0]
[null,null,null,null,null,null,null,null,null,175,0,0,null,null,null,null,null,null,null,null,null,null,null,null,null,null,null,null,null,null,null,null,null,null,null,null,0]
[null,null,null,null,null,null,null,null,null,175,0,0,null,null,null,null,null,null,null,null,null,null,null,null,null,null,null,null,null,null,null,null,null,null,null,null,0]
[null,null,null,null,null,null,null,null,null,175,0,0,null,null,null,null,null,null,null,null,null,null,null,null,null,null,null,null,null,null,null,null,null,null,null,null,0]
[null,null,null,null,null,null,null,null,null,175,0,0,null,null,null,null,null,null,null,null,null,null,null,null,null,null,null,null,null,null,null,null,null,null,null,null,0]

{"sheet":"TUDI","index":23,"n_rows":142,"n_cols":95,"rows_kept":142,"cut":false,"hidden":true,"merged":[[1,76,1,79],[1,81,1,84],[1,86,1,89],[1,91,1,94],[1,34,2,34],[1,36,2,36],[1,39,1,52],[1,56,1,69],[100,9,100,11],[100,36,101,36],[0,19,0,28],[0,30,0,32],[1,9,1,11],[1,13,1,17],[1,21,1,25],[1,27,1,28],[1,30,2,30],[1,31,2,31],[1,32,2,32]]}
[null,null,null,null,null,null,null,null,null,null,null,null,null,null,null,null,null,null,null,"Conflicting Traffic Complexity",null,null,null,null,null,null,null,null,null,null,"Pedestrian Complexity",null,null,null,null,null,null,null,null,null,null,null,null,null,null,null,null,null,null,null,null,null,null,null,null,null,null,null,null,null,null,null,null,null,null,null,null,null,null,null,null,null,null,null,"* median impacts traffic complexity score"]
[null,null,null,null,null,null,null,null,null,"Exposure",null,null,null,"Severity",null,null,null,null,null,"Traffic Control",null,"Conflicting Lanes",null,null,null,null,null,"Conflicting Speed",null,null,"Indirect Paths Indicator","Non-intuitive movements indicator","Pedestrian Complexity factor",null,"Total Complexity Multiplier",null,"Exposure-Severity-Complexity Product",null,null,"Included in Mvmt1",null,null,null,null,null,null,null,null,null,null,null,null,null,null,null,null,"Included in Mvmt2",null,null,null,null,null,null,null,null,null,null,null,null,null,null,null,null,null,null,null,"Cross-street: No, Ramps: No",null,null,null,null,"Cross-street: Yes, Ramps: No",null,null,null,null,"Cross-street: No, Ramps: Yes",null,null,null,null,"Cross-street: Yes, Ramps: Yes"]
["#","Conflict Type","Mvmt1","Mvmt1_gen","Mvmt1_SpeedCat","Mvmt2","Mvmt2_gen","Mvmt2_SpeedCat",null,"Q1","Q2","I",null,"Speed_V1","Speed_V2","Angle","delta_V","P_FSI",null,null,null,"CrossC","RampC","CrossM/P","RampM/P","Score",null,"Speed","Factor",null,null,null,null,null,null,null,null,null,null,"CrossT1","CrossL1","CrossR1","CrossT2","CrossL2","CrossR2","RampT1","RampL1","RampR1","RampT2","RampL2","RampR2","CrossNM1","CrossNM2","RampNM1","RampNM2",null,"CrossT1","CrossL1","CrossR1","CrossT2","CrossL2","CrossR2","RampT1","RampL1","RampR1","RampT2","RampL2","RampR2","CrossNM1","CrossNM2","RampNM1","RampNM2",null,null,"#","Conflict Type","MajC","MinC","MajM/P","MinM/P",null,"MajC","MinC","MajM/P","MinM/P",null,"MajC","MinC","MajM/P","MinM/P",null,"MajC","MinC","MajM/P","MinM/P"]
[1,"Crossing - LT","WBT, NBL","CrossT2, RampL1","Cross thru","SBL","RampL2","Signal near",null,{"$f":"SUMPRODUCT($AN4:$BC4,$AN$44:$BC$44)","v":0},{"$f":"SUMPRODUCT($BE4:$BT4,$BE$44:$BT$44)","v":0},{"$f":"PRODUCT(J4:K4)","v":0},null,{"$f":"VLOOKUP(E4,SSI_RTI_Range_VehSpeed,5,FALSE)","v":0},{"$f":"VLOOKUP(H4,SSI_RTI_Range_VehSpeed,5,FALSE)","v":15},{"$f":"IF(B4=\"Nonmotorized\",\"\",VLOOKUP(B4,SSI_RTI_Range_CollAngles,5,FALSE))","v":230},{"$f":"IF(B4=\"Nonmotorized\",\"\",SQRT(N4^2+O4^2-2*N4*O4*COS(RADIANS(P4)))/2)","v":7.5},{"$f":"IF(B4=\"Nonmotorized\",1/(1+EXP(3.8432-0.1237*O4)),(Q4/SSI_RTI_RegAlpha)^SSI_RTI_RegK+(Q4/SSI_RTI_RegAlpha)^SSI_RTI_RegK-((Q4/SSI_RTI_RegAlpha)^SSI_RTI_RegK)*((Q4/SSI_RTI_RegAlpha)^SSI_RTI_RegK))","v":4.8454301532720542E-4},null,{"$f":"SSI_RTI_ProtFactor","v":0.505},null,{"$f":"IF(AND(SSI_RTI_CrossStMedian=\"No\", SSI_RTI_RampMedian=\"No\"),BY4,IF(AND(SSI_RTI_CrossStMedian=\"Yes\",SSI_RTI_RampMedian=\"No\"),CD4,IF(AND(SSI_RTI_CrossStMedian=\"No\",SSI_RTI_RampMedian=\"Yes\"),CI4,IF(AND(SSI_RTI_CrossStMedian=\"Yes\",SSI_RTI_RampMedian=\"Yes\"),CN4))))","v":false},{"$f":"IF(AND(SSI_RTI_CrossStMedian=\"No\", SSI_RTI_RampMedian=\"No\"),BZ4,IF(AND(SSI_RTI_CrossStMedian=\"Yes\",SSI_RTI_RampMedian=\"No\"),CE4,IF(AND(SSI_RTI_CrossStMedian=\"No\",SSI_RTI_RampMedian=\"Yes\"),CJ4,IF(AND(SSI_RTI_CrossStMedian=\"Yes\",SSI_RTI_RampMedian=\"Yes\"),CO4))))","v":false},{"$f":"IF(AND(SSI_RTI_CrossStMedian=\"No\", SSI_RTI_RampMedian=\"No\"),CA4,IF(AND(SSI_RTI_CrossStMedian=\"Yes\",SSI_RTI_RampMedian=\"No\"),CF4,IF(AND(SSI_RTI_CrossStMedian=\"No\",SSI_RTI_RampMedian=\"Yes\"),CK4,IF(AND(SSI_RTI_CrossStMedian=\"Yes\",SSI_RTI_RampMedian=\"Yes\"),CP4))))","v":false},{"$f":"IF(AND(SSI_RTI_CrossStMedian=\"No\", SSI_RTI_RampMedian=\"No\"),CB4,IF(AND(SSI_RTI_CrossStMedian=\"Yes\",SSI_RTI_RampMedian=\"No\"),CG4,IF(AND(SSI_RTI_CrossStMedian=\"No\",SSI_RTI_RampMedian=\"Yes\"),CL4,IF(AND(SSI_RTI_CrossStMedian=\"Yes\",SSI_RTI_RampMedian=\"Yes\"),CQ4))))","v":false},{"$f":"MAX(1,IF(B4<>\"Pedestrian\",V4*SSI_RTI_CrossThruLanes+W4*SSI_RTI_Ramp1ThruLanes+X4*IF(SSI_RTI_CrossThruLanes=1,SSI_RTI_MergeWeightL1,IF(SSI_RTI_CrossThruLanes=2,SSI_RTI_MergeWeightL1+SSI_RTI_MergeWeightL2,SSI_RTI_MergeWeightL1+SSI_RTI_MergeWeightL2+SSI_RTI_MergeWeightL3*(SSI_RTI_CrossThruLanes-2)))+Y4*IF(SSI_RTI_Ramp1ThruLanes=1,SSI_RTI_MergeWeightL1,IF(SSI_RTI_Ramp1ThruLanes=2,SSI_RTI_MergeWeightL1+SSI_RTI_MergeWeightL2,SSI_RTI_MergeWeightL1+SSI_RTI_MergeWeightL2+SSI_RTI_MergeWeightL3*(SSI_RTI_Ramp1ThruLanes-2))),V4*SSI_RTI_CrossThruLanes+W4*SSI_RTI_Ramp1ThruLanes+X4*IF(SSI_RTI_CrossThruLanes=1,SSI_RTI_NM_MergeWeightL1,IF(SSI_RTI_CrossThruLanes=2,SSI_RTI_NM_MergeWeightL1+SSI_RTI_NM_MergeWeightL2,SSI_RTI_NM_MergeWeightL1+SSI_RTI_NM_MergeWeightL2+SSI_RTI_NM_MergeWeightL3*(SSI_RTI_CrossThruLanes-2)))+Y4*IF(SSI_RTI_Ramp1ThruLanes=1,SSI_RTI_NM_MergeWeightL1,IF(SSI_RTI_Ramp1ThruLanes=2,SSI_RTI_NM_MergeWeightL1+SSI_RTI_NM_MergeWeightL2,SSI_RTI_NM_MergeWeightL1+SSI_RTI_NM_MergeWeightL2+SSI_RTI_NM_MergeWeightL3*(SSI_RTI_Ramp1ThruLanes-2)))))","v":1},null,{"$f":"IF(B4=\"Diverging\",\"\",SSI_RTI_VehSpeed_CrossThru)","v":0},{"$f":"IF(B4=\"Diverging\",1,1-((60-AB4)/60*0.1/0.15))","v":0.33333333333333326},null,null,null,{"$f":"1+AE4+AF4","v":1},null,{"$f":"PRODUCT(Z4,T4,AC4,AG4)","v":0.16833333333333331},null,{"$f":"L4*R4*AI4","v":0},null,null,{"$f":"IF(ISNUMBER(SEARCH(AN$3,$D4)),1,\"\")","v":""},{"$f":"IF(ISNUMBER(SEARCH(AO$3,$D4)),1,\"\")","v":""},"",1,"","","",1,"","","","","","","","",null,{"$f":"IF(ISNUMBER(SEARCH(BE$3,$G4)),1,\"\")","v":""},{"$f":"IF(ISNUMBER(SEARCH(BF$3,$G4)),1,\"\")","v":""},"","","","","","","","",1,"","","","","",null,null,1,"Crossing - LT",1,0,1,0,null,1,0,0,0,null,1,0,1,0,null,{"$f":"IF(OR(CD4=\"\",CI4=\"\"),\"\",MIN(CD4,CI4))","v":1},{"$f":"IF(OR(CE4=\"\",CJ4=\"\"),\"\",MIN(CE4,CJ4))","v":0},0,0]
[2,"Crossing - LT","WBL","CrossL2","Cross left","SBL","RampL2","Signal far",null,{"$f":"SUMPRODUCT($AN5:$BC5,$AN$44:$BC$44)","v":0},{"$f":"SUMPRODUCT($BE5:$BT5,$BE$44:$BT$44)","v":0},{"$f":"PRODUCT(J5:K5)","v":0},null,20,25,230,{"$f":"IF(B5=\"Nonmotorized\",\"\",SQRT(N5^2+O5^2-2*N5*O5*COS(RADIANS(P5)))/2)","v":20.419277715473552},2.1555284139167373E-2,null,0.505,null,false,false,false,false,1,null,0,0.33333333333333326,null,null,null,{"$f":"1+AE5+AF5","v":1},null,0.16833333333333331,null,{"$f":"L5*R5*AI5","v":0},null,null,"","","","",1,"","","","","","","","","","","",null,{"$f":"IF(ISNUMBER(SEARCH(BE$3,$G5)),1,\"\")","v":""},"","","","","","","","","",1,"","","","","",null,null,2,"Crossing - LT",1,0,1,0,null,1,0,0,0,null,1,0,1,0,null,{"$f":"IF(OR(CD5=\"\",CI5=\"\"),\"\",MIN(CD5,CI5))","v":1},0,0,0]
[3,"Crossing - LT","EBL","CrossL1","Cross left","WBL","CrossL2","Cross left",null,0,0,0,null,20,20,230,18.126155740733001,1.3743775999266584E-2,null,{"$f":"IF(SSI_RTI_CrossLTPhase  =\"Protected/permitted\",SSI_RTI_ProtPermFactor,IF(SSI_RTI_CrossLTPhase=\"Protected\",SSI_RTI_ProtFactor,SSI_RTI_PermFactor))","v":0.505},null,false,false,false,false,1,null,0,0.33333333333333326,null,null,null,1,null,0.16833333333333331,null,0,null,null,"",1,"","","","","","","","","","","","","","",null,"","","","",1,"","","","","","","","","","","",null,null,3,"Crossing - LT",1,0,1,0,null,1,0,1,0,null,1,0,1,0,null,1,0,1,0]
[4,"Crossing - LT","EBL","CrossL1","Cross left","SBL","RampL2","Signal far",null,0,0,0,null,20,25,230,20.419277715473552,2.1555284139167373E-2,null,0.505,null,false,false,false,false,1,null,0,0.33333333333333326,null,null,null,1,null,0.16833333333333331,null,0,null,null,"",1,"","","","","","","","","","","","","","",null,"","","","","","","","","","",1,"","","","","",null,null,4,"Crossing - LT",1,0,1,0,null,1,0,1,0,null,1,0,1,0,null,1,0,1,0]
[5,"Crossing - LT","EBT","CrossT1","Cross thru","WBL","CrossL2","Cross left",null,0,0,0,null,0,20,230,10,1.4431392232699444E-3,null,{"$f":"IF(SSI_RTI_CrossLTPhase =\"Protected/permitted\",SSI_RTI_ProtPermFactor,IF(SSI_RTI_CrossLTPhase=\"Protected\",SSI_RTI_ProtFactor,SSI_RTI_PermFactor))","v":0.505},null,false,false,false,false,1,null,0,0.33333333333333326,null,null,null,1,null,0.16833333333333331,null,0,null,null,1,"","","","","","","","","","","","","","","",null,"","","","",1,"","","","","","","","","","","",null,null,5,"Crossing - LT",1,0,1,0,null,1,0,1,0,null,1,0,1,0,null,1,0,1,0]
[6,"Crossing - LT","EBT, SBL","CrossT1, RampL2","Cross thru","NBL","RampL1","Signal near",null,0,0,0,null,0,15,230,7.5,4.8454301532720542E-4,null,0.505,null,false,false,false,false,1,null,0,0.33333333333333326,null,null,null,1,null,0.16833333333333331,null,0,null,null,1,"","","","","","","","","",1,"","","","","",null,"","","","","","","",1,"","","","","","","","",null,null,6,"Crossing - LT",1,0,1,0,null,1,0,0,0,null,1,0,1,0,null,1,0,0,0]
[7,"Crossing - LT","EBL","CrossL1","Cross left","NBL","RampL1","Signal far",null,0,0,0,null,20,25,230,20.419277715473552,2.1555284139167373E-2,null,0.505,null,false,false,false,false,1,null,0,0.33333333333333326,null,null,null,1,null,0.16833333333333331,null,0,null,null,{"$f":"IF(ISNUMBER(SEARCH(AN$3,$D10)),1,\"\")","v":""},1,"","","","","","","","","","","","","","",null,"","","","","","","",1,"","","","","","","","",null,null,7,"Crossing - LT",1,0,1,0,null,1,0,0,0,null,1,0,1,0,null,1,0,0,0]
[8,"Crossing - LT","WBL","CrossL2","Cross left","EBL","CrossL1","Cross left",null,0,0,0,null,20,20,230,18.126155740733001,1.3743775999266584E-2,null,{"$f":"IF(SSI_RTI_CrossLTPhase =\"Protected/permitted\",SSI_RTI_ProtPermFactor,IF(SSI_RTI_CrossLTPhase=\"Protected\",SSI_RTI_ProtFactor,SSI_RTI_PermFactor))","v":0.505},null,false,false,false,false,1,null,0,0.33333333333333326,null,null,null,1,null,0.16833333333333331,null,0,null,null,"","","","",1,"","","","","","","","","","","",null,"",1,"","","","","","","","","","","","","","",null,null,8,"Crossing - LT",1,0,1,0,null,1,0,1,0,null,1,0,1,0,null,1,0,1,0]
[9,"Crossing - LT","WBL","CrossL2","Cross left","NBL","RampL1","Signal far",null,0,0,0,null,20,25,230,20.419277715473552,2.1555284139167373E-2,null,0.505,null,false,false,false,false,1,null,0,0.33333333333333326,null,null,null,1,null,0.16833333333333331,null,0,null,null,"","","","",1,"","","","","","","","","","","",null,"","","","","","","",1,"","","","","","","","",null,null,9,"Crossing - LT",1,0,1,0,null,1,0,1,0,null,1,0,1,0,null,1,0,1,0]
[10,"Crossing - LT","WBT","CrossT2","Cross thru","EBL","CrossL1","Cross left",null,0,0,0,null,0,20,230,10,1.4431392232699444E-3,null,{"$f":"IF(SSI_RTI_CrossLTPhase =\"Protected/permitted\",SSI_RTI_ProtPermFactor,IF(SSI_RTI_CrossLTPhase=\"Protected\",SSI_RTI_ProtFactor,SSI_RTI_PermFactor))","v":0.505},null,false,false,false,false,1,null,0,0.33333333333333326,null,null,null,1,null,0.16833333333333331,null,0,null,null,"","","",1,"","","","","","","","","","","","",null,"",1,"","","","","","","","","","","","","","",null,null,10,"Crossing - LT",1,0,1,0,null,1,0,1,0,null,1,0,1,0,null,1,0,1,0]
[11,"Merging","WBT, NBL","CrossT2, RampL1","Cross thru","SBR","RampR2","Signal near",null,0,0,0,null,0,15,45,7.5,4.8454301532720542E-4,null,0.505,null,false,false,false,false,1,null,0,0.33333333333333326,null,null,null,1,null,0.16833333333333331,null,0,null,null,"","","",1,"","","",1,"","","","","","","","",null,"","","","","","","","","","","",1,"","","","",null,null,11,"Merging",0,0,1,0,null,0,0,1,0,null,0,0,1,0,null,0,0,1,0]
[12,"Merging","EBR","CrossR1","Cross right","WBL","CrossL2","Cross left",null,0,0,0,null,15,20,45,7.0840654162717795,3.9022923271840685E-4,null,0.505,null,false,false,false,false,1,null,0,0.33333333333333326,null,null,null,1,null,0.16833333333333331,null,0,null,null,{"$f":"IF(ISNUMBER(SEARCH(AN$3,$D15)),1,\"\")","v":""},"",1,"","","","","","","","","","","","","",null,"","","","",1,"","","","","","","","","","","",null,null,12,"Merging",1,0,1,0,null,1,0,1,0,null,1,0,1,0,null,1,0,1,0]
[13,"Merging","EBT","CrossT1","Cross thru","SBL","RampL2","Signal far",null,0,0,0,null,0,25,45,12.5,3.3637551692797651E-3,null,0.505,null,false,false,false,false,1,null,0,0.33333333333333326,null,null,null,1,null,0.16833333333333331,null,0,null,null,1,"","","","","","","","","","","","","","","",null,"","","","","","","","","","",1,"","","","","",null,null,13,"Merging",1,0,1,0,null,1,0,1,0,null,1,0,1,0,null,1,0,1,0]
[14,"Merging","EBT, SBL","CrossT1, RampL2","Cross thru","NBR","RampR1","Signal near",null,0,0,0,null,0,15,45,7.5,4.8454301532720542E-4,null,0.505,null,false,false,false,false,1,null,0,0.33333333333333326,null,null,null,1,null,0.16833333333333331,null,0,null,null,1,"","","","","","","","","",1,"","","","","",null,"","","","","","","","",1,"","","","","","","",null,null,14,"Merging",0,0,1,0,null,0,0,1,0,null,0,0,1,0,null,0,0,1,0]
[15,"Merging","WBR","CrossR2","Cross right","EBL","CrossL1","Cross left",null,0,0,0,null,15,20,45,7.0840654162717795,3.9022923271840685E-4,null,0.505,null,false,false,false,false,1,null,0,0.33333333333333326,null,null,null,1,null,0.16833333333333331,null,0,null,null,"","","","","",1,"","","","","","","","","","",null,"",1,"","","","","","","","","","","","","","",null,null,15,"Merging",1,0,1,0,null,1,0,1,0,null,1,0,1,0,null,1,0,1,0]
[16,"Merging","WBT","CrossT2","Cross thru","NBL","RampL1","Signal far",null,0,0,0,null,0,25,45,12.5,3.3637551692797651E-3,null,0.505,null,false,false,false,false,1,null,0,0.33333333333333326,null,null,null,1,null,0.16833333333333331,null,0,null,null,"","","",1,"","","","","","","","","","","","",null,"","","","","","","",1,"","","","","","","","",null,null,16,"Merging",1,0,1,0,null,1,0,1,0,null,1,0,1,0,null,1,0,1,0]
[17,"Diverging","SBR","RampR2","Signal near","SBL","RampL2","Signal near",null,0,0,0,null,15,15,10,1.3073361412148754,6.4061388075216188E-7,null,{"$f":"SSI_RTI_PermFactor","v":1},null,false,false,false,false,1,null,"",1,null,null,null,1,null,1,null,0,null,null,"","","","","","","","","","","",1,"","","","",null,"","","","","","","","","","",1,"","","","","",null,null,17,"Diverging",0,0,0,0,null,0,0,0,0,null,0,0,0,0,null,0,0,0,0]
[18,"Diverging","EBT, EBR","CrossT1, CrossR1","Cross thru","EBL","CrossL1","Cross left",null,0,0,0,null,0,20,10,10,1.4431392232699444E-3,null,1,null,false,false,false,false,1,null,"",1,null,null,null,1,null,1,null,0,null,null,1,"",1,"","","","","","","","","","","","","",null,"",1,"","","","","","","","","","","","","","",null,null,18,"Diverging",0,0,0,0,null,0,0,0,0,null,0,0,0,0,null,0,0,0,0]
[19,"Diverging","EBT","CrossT1","Cross thru","EBR","CrossR1","Cross right",null,0,0,0,null,0,15,10,7.5,4.8454301532720542E-4,null,1,null,false,false,false,false,1,null,"",1,null,null,null,1,null,1,null,0,null,null,1,"","","","","","","","","","","","","","","",null,"","",1,"","","","","","","","","","","","","",null,null,19,"Diverging",0,0,0,0,null,0,0,0,0,null,0,0,0,0,null,0,0,0,0]
[20,"Diverging","NBR","RampR1","Signal near","NBL","RampL1","Signal near",null,0,0,0,null,15,15,10,1.3073361412148754,6.4061388075216188E-7,null,1,null,false,false,false,false,1,null,"",1,null,null,null,1,null,1,null,0,null,null,"","","","","","","","",1,"","","","","","","",null,"","","","","","","",1,"","","","","","","","",null,null,20,"Diverging",0,0,0,0,null,0,0,0,0,null,0,0,0,0,null,0,0,0,0]
[21,"Diverging","WBT, WBR","CrossT2, CrossR2","Cross thru","WBL","CrossL2","Cross left",null,0,0,0,null,0,20,10,10,1.4431392232699444E-3,null,1,null,false,false,false,false,1,null,"",1,null,null,null,1,null,1,null,0,null,null,"",{"$f":"IF(ISNUMBER(SEARCH(AO$3,$D24)),1,\"\")","v":""},"",1,"",1,"","","","","","","","","","",null,"","","","",1,"","","","","","","","","","","",null,null,21,"Diverging",0,0,0,0,null,0,0,0,0,null,0,0,0,0,null,0,0,0,0]
[22,"Diverging","WBT","CrossT2","Cross thru","WBR","CrossR2","Cross right",null,0,0,0,null,0,15,10,7.5,4.8454301532720542E-4,null,1,null,false,false,false,false,1,null,"",1,null,null,null,1,null,1,null,0,null,null,"","","",1,"","","","","","","","","","","","",null,"","","","","",1,"","","","","","","","","","",null,null,22,"Diverging",0,0,0,0,null,0,0,0,0,null,0,0,0,0,null,0,0,0,0]
[23,"Nonmotorized",null,"RampNM2","Nonmotorized","SBL","RampL2","Signal near",null,175,0,0,null,0,15,"","",0.1205004039155782,null,{"$f":"SSI_RTI_ProtFactor","v":0.505},null,false,false,false,false,1,null,{"$f":"IF(B26=\"Diverging\",\"\",SSI_RTI_VehSpeed_SignalNear)","v":15},0.49999999999999989,null,null,null,1,null,0.25249999999999995,null,0,null,null,"","","","","","","","","","","","","","","",1,null,"","","","","","","","","","",1,"","","","","",null,null,23,"Nonmotorized",0,1,0,0,null,0,1,0,0,null,0,1,0,0,null,0,1,0,0]
[24,"Nonmotorized",null,"RampNM2","Nonmotorized","SBR","RampR2","Signal near",null,175,0,0,null,0,15,"","",0.1205004039155782,null,0.505,null,false,false,false,false,1,null,{"$f":"IF(B27=\"Diverging\",\"\",SSI_RTI_VehSpeed_SignalNear)","v":15},0.49999999999999989,null,null,null,1,null,0.25249999999999995,null,0,null,null,"","","","","","","","","","","","","","","",1,null,"","","","","","","","","","","",1,"","","","",null,null,24,"Nonmotorized",0,1,0,0,null,0,1,0,0,null,0,1,0,0,null,0,1,0,0]
[25,"Nonmotorized",null,"CrossNM1","Nonmotorized","SBR","RampR2","Signal near",null,175,0,0,null,0,15,"","",0.1205004039155782,null,0.505,null,false,false,false,false,1,null,{"$f":"IF(B28=\"Diverging\",\"\",SSI_RTI_VehSpeed_CrossThru)","v":0},0.33333333333333326,null,null,null,1,null,0.16833333333333331,null,0,null,null,"","","","","","","","","","","","",1,"","","",null,"","","","","","","","","","","",1,"","","","",null,null,25,"Nonmotorized",2,0,0,1,null,1,0,0,1,null,2,0,0,1,null,1,0,0,1]
[26,"Nonmotorized",null,"CrossNM1","Nonmotorized","WBT, NBL","CrossT2, RampL1","Cross thru",null,175,0,0,null,0,0,"","",2.0975532400616122E-2,null,0.505,null,false,false,false,false,1,null,0,0.33333333333333326,null,null,null,1,null,0.16833333333333331,null,0,null,null,"","","","","","","","","","","","",1,"","","",null,"","","",1,"","","",1,"","","","","","","","",null,null,26,"Nonmotorized",2,0,0,1,null,1,0,0,1,null,2,0,0,1,null,1,0,0,1]
[27,"Nonmotorized",null,"CrossNM1","Nonmotorized","EBL","CrossL1","Cross left",null,175,0,0,null,0,20,"","",0.20274912921655375,null,0.505,null,false,false,false,false,1,null,0,0.33333333333333326,null,null,null,1,null,0.16833333333333331,null,0,null,null,"","","","","","","","","","","","",1,"","","",null,"",1,"","","","","","","","","","","","","","",null,null,27,"Nonmotorized",2,0,0,1,null,1,0,0,0,null,2,0,0,1,null,1,0,0,0]
[28,"Nonmotorized",null,"CrossNM1","Nonmotorized","EBT","CrossT1","Cross thru",null,175,0,0,null,0,0,"","",2.0975532400616122E-2,null,0.505,null,false,false,false,false,1,null,0,0.33333333333333326,null,null,null,1,null,0.16833333333333331,null,{"$f":"L31*R31*AI31","v":0},null,null,"","","","","","","","","","","","",1,"","","",null,1,"","","","","","","","","","","","","","","",null,null,28,"Nonmotorized",2,0,0,1,null,1,0,0,0,null,2,0,0,1,null,1,0,0,0]
[29,"Nonmotorized",null,"CrossNM1","Nonmotorized","EBR","CrossR1","Cross right",null,175,0,0,null,0,15,"","",0.1205004039155782,null,0.505,null,false,false,false,false,1,null,0,0.33333333333333326,null,null,null,1,null,0.16833333333333331,null,0,null,null,"","","","","","","","","","","","",1,"","","",null,"","",1,"","","","","","","","","","","","","",null,null,29,"Nonmotorized",2,0,0,1,null,1,0,0,0,null,2,0,0,1,null,1,0,0,0]
[30,"Nonmotorized",null,"RampNM1","Nonmotorized","EBR","CrossR1","Cross right",null,175,0,0,null,0,15,"","",0.1205004039155782,null,0.505,null,false,false,false,false,1,null,0,0.33333333333333326,null,null,null,1,null,0.16833333333333331,null,0,null,null,"","","","","","","","","","","","","","",1,"",null,"","",{"$f":"IF(ISNUMBER(SEARCH(BG$3,$G33)),1,\"\")","v":1},"","","","","","","","","","","","","",null,null,30,"Nonmotorized",0,1,2,0,null,0,1,2,0,null,0,1,1,0,null,0,1,1,0]
[31,"Nonmotorized",null,"RampNM1","Nonmotorized","WBL","CrossL2","Cross left",null,175,0,0,null,0,20,"","",0.20274912921655375,null,0.505,null,false,false,false,false,1,null,0,0.33333333333333326,null,null,null,1,null,0.16833333333333331,null,0,null,null,"","","","","","","","","","","","","","",1,"",null,{"$f":"IF(ISNUMBER(SEARCH(BE$3,$G34)),1,\"\")","v":""},"","","",1,"","","","","","","","","","","",null,null,31,"Nonmotorized",0,1,2,0,null,0,1,2,0,null,0,1,1,0,null,0,1,1,0]
[32,"Nonmotorized",null,"RampNM1","Nonmotorized","NBL","RampL1","Signal near",null,175,0,0,null,0,15,"","",0.1205004039155782,null,0.505,null,false,false,false,false,1,null,{"$f":"IF(B35=\"Diverging\",\"\",SSI_RTI_VehSpeed_SignalNear)","v":15},0.49999999999999989,null,null,null,1,null,0.25249999999999995,null,0,null,null,"","","","","","","","","","","","","","",1,"",null,"","","","","","","",1,"","","","","","","","",null,null,32,"Nonmotorized",0,1,0,0,null,0,1,0,0,null,0,1,0,0,null,0,1,0,0]
[33,"Nonmotorized",null,"RampNM1","Nonmotorized","NBR","RampR1","Signal near",null,175,0,0,null,0,15,"","",0.1205004039155782,null,0.505,null,false,false,false,false,1,null,{"$f":"IF(B36=\"Diverging\",\"\",SSI_RTI_VehSpeed_SignalNear)","v":15},0.49999999999999989,null,null,null,1,null,0.25249999999999995,null,0,null,null,"","","","","","","","","","","","","","",1,"",null,"","","","","","","","",1,"","","","","","","",null,null,33,"Nonmotorized",0,1,0,0,null,0,1,0,0,null,0,1,0,0,null,0,1,0,0]
[34,"Nonmotorized",null,"CrossNM2","Nonmotorized","NBR","RampR1","Signal near",null,175,0,0,null,0,15,"","",0.1205004039155782,null,0.505,null,false,false,false,false,1,null,{"$f":"IF(B37=\"Diverging\",\"\",SSI_RTI_VehSpeed_CrossThru)","v":0},0.33333333333333326,null,null,null,1,null,0.16833333333333331,null,0,null,null,"","","","","","","","","","","","","",1,"","",null,"","","","","","","","",1,"","","","","","","",null,null,34,"Nonmotorized",2,0,0,1,null,1,0,0,1,null,2,0,0,1,null,1,0,0,1]
[35,"Nonmotorized",null,"CrossNM2","Nonmotorized","EBT, SBL","CrossT1, RampL2","Cross thru",null,175,0,0,null,0,0,"","",2.0975532400616122E-2,null,0.505,null,false,false,false,false,1,null,0,0.33333333333333326,null,null,null,1,null,0.16833333333333331,null,0,null,null,"","","","","","","","","","","","","",1,"","",null,1,"","","","","","","","","",1,"","","","","",null,null,35,"Nonmotorized",2,0,0,1,null,1,0,0,1,null,2,0,0,1,null,1,0,0,1]
[36,"Nonmotorized",null,"CrossNM2","Nonmotorized","WBL","CrossL2","Cross left",null,175,0,0,null,0,20,"","",0.20274912921655375,null,0.505,null,false,false,false,false,1,null,0,0.33333333333333326,null,null,null,1,null,0.16833333333333331,null,0,null,null,"",{"$f":"IF(ISNUMBER(SEARCH(AO$3,$D39)),1,\"\")","v":""},{"$f":"IF(ISNUMBER(SEARCH(AP$3,$D39)),1,\"\")","v":""},"","","","","","","","","","",1,"","",null,"","","","",1,"","","","","","","","","","","",null,null,36,"Nonmotorized",2,0,0,1,null,1,0,0,0,null,2,0,0,1,null,1,0,0,0]
[37,"Nonmotorized",null,"CrossNM2","Nonmotorized","WBT","CrossT2","Cross thru",null,175,0,0,null,0,0,"","",2.0975532400616122E-2,null,0.505,null,false,false,false,false,1,null,0,0.33333333333333326,null,null,null,1,null,0.16833333333333331,null,0,null,null,{"$f":"IF(ISNUMBER(SEARCH(AN$3,$D40)),1,\"\")","v":""},"","","","","","","","","","","","",1,"","",null,"","","",1,"","","","","","","","","","","","",null,null,37,"Nonmotorized",2,0,0,1,null,1,0,0,0,null,2,0,0,1,null,1,0,0,0]
[38,"Nonmotorized",null,"CrossNM2","Nonmotorized","WBR","CrossR2","Cross right",null,175,0,0,null,0,15,"","",0.1205004039155782,null,0.505,null,false,false,false,false,1,null,0,0.33333333333333326,null,null,null,1,null,0.16833333333333331,null,0,null,null,"","","","","","","","","","","","","",1,"","",null,"","","","","",1,"","","","","","","","","","",null,null,38,"Nonmotorized",2,0,0,1,null,1,0,0,0,null,2,0,0,1,null,1,0,0,0]
[39,"Nonmotorized",null,"RampNM2","Nonmotorized","WBR","CrossR2","Cross right",null,175,0,0,null,0,15,"",{"$f":"IF(B42=\"Nonmotorized\",\"\",SQRT(N42^2+O42^2-2*N42*O42*COS(RADIANS(P42)))/2)","v":""},0.1205004039155782,null,0.505,null,false,false,false,false,1,null,0,0.33333333333333326,null,null,null,1,null,0.16833333333333331,null,0,null,null,"","","","","","","","","","","","","","","",1,null,"","","","","",1,"","","","","","","","","","",null,null,39,"Nonmotorized",0,1,2,0,null,0,1,2,0,null,0,1,1,0,null,0,1,1,0]
[40,"Nonmotorized",null,"RampNM2","Nonmotorized","EBL","CrossL1","Cross left",null,175,0,{"$f":"PRODUCT(J43:K43)","v":0},null,0,20,"","",0.20274912921655375,null,0.505,null,false,false,false,false,1,null,0,0.33333333333333326,null,null,null,1,null,0.16833333333333331,null,0,null,null,"","","","","","","","","","","","","","","",1,null,"",1,"","","","","","","","","","","","","","",null,null,40,"Nonmotorized",0,1,2,0,null,0,1,2,0,null,0,1,1,0,null,0,1,1,0]
[null,null,null,null,null,null,null,null,null,null,null,null,null,null,null,null,null,null,null,null,null,null,null,null,null,null,null,null,null,null,null,null,null,null,null,null,null,null,"O",{"$f":"'SSI Inputs RTI'!$D$28","v":""},{"$f":"'SSI Inputs RTI'!$D$29","v":""},{"$f":"'SSI Inputs RTI'!$D$30","v":""},{"$f":"'SSI Inputs RTI'!$D$32","v":""},{"$f":"'SSI Inputs RTI'!$D$33","v":""},{"$f":"'SSI Inputs RTI'!$D$34","v":""},{"$f":"'SSI Inputs RTI'!$D$36","v":""},{"$f":"'SSI Inputs RTI'!$D$37","v":""},{"$f":"'SSI Inputs RTI'!$D$38","v":""},{"$f":"'SSI Inputs RTI'!$D$40","v":""},{"$f":"'SSI Inputs RTI'!$D$41","v":""},{"$f":"'SSI Inputs RTI'!$D$42","v":""},{"$f":"'SSI Inputs RTI'!$Q$20","v":175},{"$f":"'SSI Inputs RTI'!$Q$21","v":175},{"$f":"'SSI Inputs RTI'!$Q$22","v":175},{"$f":"'SSI Inputs RTI'!$Q$23","v":175},"O",{"$f":"'SSI Inputs RTI'!$D$28","v":""},{"$f":"'SSI Inputs RTI'!$D$29","v":""},{"$f":"'SSI Inputs RTI'!$D$30","v":""},{"$f":"'SSI Inputs RTI'!$D$32","v":""},{"$f":"'SSI Inputs RTI'!$D$33","v":""},{"$f":"'SSI Inputs RTI'!$D$34","v":""},{"$f":"'SSI Inputs RTI'!$D$36","v":""},{"$f":"'SSI Inputs RTI'!$D$37","v":""},{"$f":"'SSI Inputs RTI'!$D$38","v":""},{"$f":"'SSI Inputs RTI'!$D$40","v":""},{"$f":"'SSI Inputs RTI'!$D$41","v":""},{"$f":"'SSI Inputs RTI'!$D$42","v":""},{"$f":"'SSI Inputs RTI'!$Q$20","v":175},{"$f":"'SSI Inputs RTI'!$Q$21","v":175},{"$f":"'SSI Inputs RTI'!$Q$22","v":175},{"$f":"'SSI Inputs RTI'!$Q$23","v":175}]
[null,null,null,null,null,null,null,null,null,null,null,null,null,null,null,null,null,null,null,null,null,null,null,null,null,null,null,null,null,null,null,null,null,null,null,null,null,null,"D",{"$f":"'SSI Inputs RTI'!$E$28","v":""},{"$f":"'SSI Inputs RTI'!$E$29","v":""},{"$f":"'SSI Inputs RTI'!$E$30","v":""},{"$f":"'SSI Inputs RTI'!$E$32","v":""},{"$f":"'SSI Inputs RTI'!$E$33","v":""},{"$f":"'SSI Inputs RTI'!$E$34","v":""},{"$f":"'SSI Inputs RTI'!$E$36","v":""},{"$f":"'SSI Inputs RTI'!$E$37","v":""},{"$f":"'SSI Inputs RTI'!$E$38","v":""},{"$f":"'SSI Inputs RTI'!$E$40","v":""},{"$f":"'SSI Inputs RTI'!$E$41","v":""},{"$f":"'SSI Inputs RTI'!$E$42","v":""},{"$f":"'SSI Inputs RTI'!$R$20","v":175},{"$f":"'SSI Inputs RTI'!$R$21","v":175},{"$f":"'SSI Inputs RTI'!$R$22","v":175},{"$f":"'SSI Inputs RTI'!$R$23","v":175},"D",{"$f":"'SSI Inputs RTI'!$E$28","v":""},{"$f":"'SSI Inputs RTI'!$E$29","v":""},{"$f":"'SSI Inputs RTI'!$E$30","v":""},{"$f":"'SSI Inputs RTI'!$E$32","v":""},{"$f":"'SSI Inputs RTI'!$E$33","v":""},{"$f":"'SSI Inputs RTI'!$E$34","v":""},{"$f":"'SSI Inputs RTI'!$E$36","v":""},{"$f":"'SSI Inputs RTI'!$E$37","v":""},{"$f":"'SSI Inputs RTI'!$E$38","v":""},{"$f":"'SSI Inputs RTI'!$E$40","v":""},{"$f":"'SSI Inputs RTI'!$E$41","v":""},{"$f":"'SSI Inputs RTI'!$E$42","v":""},{"$f":"'SSI Inputs RTI'!$R$20","v":175},{"$f":"'SSI Inputs RTI'!$R$21","v":175},{"$f":"'SSI Inputs RTI'!$R$22","v":175},{"$f":"'SSI Inputs RTI'!$R$23","v":175}]
[]
[]
[]
[]
[]
[]
[]
[]
[]
[]
[]
[]
[]
[]
[]
[]
[]
[]
[]
[]
[]
[]
[]
[]
[]
[]
[]
[]
[]
[]
[]
[]
[]
[]
[]
[]
[]
[]
[]
[]
[]
[]
[]
[]
[]
[]
[]
[]
[]
[]
[]
[]
[]
[]
[]
[null,null,null,null,null,null,null,null,null,"Exposure",null,null,null,null,null,null,null,null,null,null,null,null,null,null,null,null,null,null,null,null,null,null,null,null,null,null,"Exposure-Severity-Complexity Product"]
[null,null,null,null,null,null,null,null,null,"Q1","Q2","I"]
[null,null,null,null,null,null,null,null,null,{"$f":"SUMPRODUCT($AN4:$BC4,$AN$45:$BC$45)","v":0},{"$f":"SUMPRODUCT($BE4:$BT4,$BE$45:$BT$45)","v":0},{"$f":"PRODUCT(J103:K103)","v":0},null,null,null,null,null,null,null,null,null,null,null,null,null,null,null,null,null,null,null,null,null,null,null,null,{"$f":"L103*R4*AI4","v":0}]
[null,null,null,null,null,null,null,null,null,{"$f":"SUMPRODUCT($AN5:$BC5,$AN$45:$BC$45)","v":0},{"$f":"SUMPRODUCT($BE5:$BT5,$BE$45:$BT$45)","v":0},{"$f":"PRODUCT(J104:K104)","v":0},null,null,null,null,null,null,null,null,null,null,null,null,null,null,null,null,null,null,null,null,null,null,null,null,{"$f":"L104*R5*AI5","v":0}]
[null,null,null,null,null,null,null,null,null,0,0,0,null,null,null,null,null,null,null,null,null,null,null,null,null,null,null,null,null,null,null,null,null,null,null,null,0]
[null,null,null,null,null,null,null,null,null,0,0,0,null,null,null,null,null,null,null,null,null,null,null,null,null,null,null,null,null,null,null,null,null,null,null,null,0]
[null,null,null,null,null,null,null,null,null,0,0,0,null,null,null,null,null,null,null,null,null,null,null,null,null,null,null,null,null,null,null,null,null,null,null,null,0]
[null,null,null,null,null,null,null,null,null,0,0,0,null,null,null,null,null,null,null,null,null,null,null,null,null,null,null,null,null,null,null,null,null,null,null,null,0]
[null,null,null,null,null,null,null,null,null,0,0,0,null,null,null,null,null,null,null,null,null,null,null,null,null,null,null,null,null,null,null,null,null,null,null,null,0]
[null,null,null,null,null,null,null,null,null,0,0,0,null,null,null,null,null,null,null,null,null,null,null,null,null,null,null,null,null,null,null,null,null,null,null,null,0]
[null,null,null,null,null,null,null,null,null,0,0,0,null,null,null,null,null,null,null,null,null,null,null,null,null,null,null,null,null,null,null,null,null,null,null,null,0]
[null,null,null,null,null,null,null,null,null,0,0,0,null,null,null,null,null,null,null,null,null,null,null,null,null,null,null,null,null,null,null,null,null,null,null,null,0]
[null,null,null,null,null,null,null,null,null,0,0,0,null,null,null,null,null,null,null,null,null,null,null,null,null,null,null,null,null,null,null,null,null,null,null,null,0]
[null,null,null,null,null,null,null,null,null,0,0,0,null,null,null,null,null,null,null,null,null,null,null,null,null,null,null,null,null,null,null,null,null,null,null,null,0]
[null,null,null,null,null,null,null,null,null,0,0,0,null,null,null,null,null,null,null,null,null,null,null,null,null,null,null,null,null,null,null,null,null,null,null,null,0]
[null,null,null,null,null,null,null,null,null,0,0,0,null,null,null,null,null,null,null,null,null,null,null,null,null,null,null,null,null,null,null,null,null,null,null,null,0]
[null,null,null,null,null,null,null,null,null,0,0,0,null,null,null,null,null,null,null,null,null,null,null,null,null,null,null,null,null,null,null,null,null,null,null,null,0]
[null,null,null,null,null,null,null,null,null,0,0,0,null,null,null,null,null,null,null,null,null,null,null,null,null,null,null,null,null,null,null,null,null,null,null,null,0]
[null,null,null,null,null,null,null,null,null,0,0,0,null,null,null,null,null,null,null,null,null,null,null,null,null,null,null,null,null,null,null,null,null,null,null,null,0]
[null,null,null,null,null,null,null,null,null,0,0,0,null,null,null,null,null,null,null,null,null,null,null,null,null,null,null,null,null,null,null,null,null,null,null,null,0]
[null,null,null,null,null,null,null,null,null,0,0,0,null,null,null,null,null,null,null,null,null,null,null,null,null,null,null,null,null,null,null,null,null,null,null,null,0]
[null,null,null,null,null,null,null,null,null,0,0,0,null,null,null,null,null,null,null,null,null,null,null,null,null,null,null,null,null,null,null,null,null,null,null,null,0]
[null,null,null,null,null,null,null,null,null,0,0,0,null,null,null,null,null,null,null,null,null,null,null,null,null,null,null,null,null,null,null,null,null,null,null,null,0]
[null,null,null,null,null,null,null,null,null,0,0,0,null,null,null,null,null,null,null,null,null,null,null,null,null,null,null,null,null,null,null,null,null,null,null,null,0]
[null,null,null,null,null,null,null,null,null,175,0,0,null,null,null,null,null,null,null,null,null,null,null,null,null,null,null,null,null,null,null,null,null,null,null,null,0]
[null,null,null,null,null,null,null,null,null,175,0,0,null,null,null,null,null,null,null,null,null,null,null,null,null,null,null,null,null,null,null,null,null,null,null,null,0]
[null,null,null,null,null,null,null,null,null,175,0,0,null,null,null,null,null,null,null,null,null,null,null,null,null,null,null,null,null,null,null,null,null,null,null,null,0]
[null,null,null,null,null,null,null,null,null,175,0,0,null,null,null,null,null,null,null,null,null,null,null,null,null,null,null,null,null,null,null,null,null,null,null,null,0]
[null,null,null,null,null,null,null,null,null,175,0,0,null,null,null,null,null,null,null,null,null,null,null,null,null,null,null,null,null,null,null,null,null,null,null,null,0]
[null,null,null,null,null,null,null,null,null,175,0,0,null,null,null,null,null,null,null,null,null,null,null,null,null,null,null,null,null,null,null,null,null,null,null,null,0]
[null,null,null,null,null,null,null,null,null,175,0,0,null,null,null,null,null,null,null,null,null,null,null,null,null,null,null,null,null,null,null,null,null,null,null,null,0]
[null,null,null,null,null,null,null,null,null,175,0,0,null,null,null,null,null,null,null,null,null,null,null,null,null,null,null,null,null,null,null,null,null,null,null,null,0]
[null,null,null,null,null,null,null,null,null,175,0,0,null,null,null,null,null,null,null,null,null,null,null,null,null,null,null,null,null,null,null,null,null,null,null,null,0]
[null,null,null,null,null,null,null,null,null,175,0,0,null,null,null,null,null,null,null,null,null,null,null,null,null,null,null,null,null,null,null,null,null,null,null,null,0]
[null,null,null,null,null,null,null,null,null,175,0,0,null,null,null,null,null,null,null,null,null,null,null,null,null,null,null,null,null,null,null,null,null,null,null,null,0]
[null,null,null,null,null,null,null,null,null,175,0,0,null,null,null,null,null,null,null,null,null,null,null,null,null,null,null,null,null,null,null,null,null,null,null,null,0]
[null,null,null,null,null,null,null,null,null,175,0,0,null,null,null,null,null,null,null,null,null,null,null,null,null,null,null,null,null,null,null,null,null,null,null,null,0]
[null,null,null,null,null,null,null,null,null,175,0,0,null,null,null,null,null,null,null,null,null,null,null,null,null,null,null,null,null,null,null,null,null,null,null,null,0]
[null,null,null,null,null,null,null,null,null,175,0,0,null,null,null,null,null,null,null,null,null,null,null,null,null,null,null,null,null,null,null,null,null,null,null,null,0]
[null,null,null,null,null,null,null,null,null,175,0,0,null,null,null,null,null,null,null,null,null,null,null,null,null,null,null,null,null,null,null,null,null,null,null,null,0]
[null,null,null,null,null,null,null,null,null,175,0,0,null,null,null,null,null,null,null,null,null,null,null,null,null,null,null,null,null,null,null,null,null,null,null,null,0]
[null,null,null,null,null,null,null,null,null,175,0,0,null,null,null,null,null,null,null,null,null,null,null,null,null,null,null,null,null,null,null,null,null,null,null,null,0]

{"sheet":"Calibration","index":24,"n_rows":96,"n_cols":13,"rows_kept":96,"cut":false,"hidden":false,"merged":[[74,0,75,1],[40,6,40,7],[41,6,41,7],[75,6,75,7],[80,0,81,1],[82,0,83,1],[84,0,85,1],[86,0,87,1],[88,0,89,1],[81,6,81,7],[57,6,57,7],[57,1,57,4],[62,1,62,4],[60,1,60,4],[49,6,49,7],[49,1,49,4],[54,1,54,4],[90,0,91,1],[92,0,93,1],[39,0,42,0],[39,1,40,1],[41,1,42,1],[69,0,69,9],[55,6,55,7],[55,8,55,9],[79,0,79,1],[77,0,77,1],[76,0,76,1],[78,0,78,1],[70,0,70,9],[71,0,71,1],[56,6,56,7],[56,8,56,9],[72,8,72,9],[73,8,73,9],[72,0,73,1],[84,8,84,9],[85,8,85,9],[80,2,81,3],[80,6,80,7],[80,8,80,9],[81,8,81,9],[82,2,83,3],[82,6,82,7],[82,8,82,9],[83,6,83,7],[83,8,83,9],[33,0,38,0],[33,1,34,1],[95,6,95,7],[76,6,76,7],[77,6,77,7],[78,6,78,7],[79,6,79,7],[86,6,86,7],[92,8,92,9],[93,8,93,9],[88,8,88,9],[89,8,89,9],[94,8,94,9],[94,6,94,7],[87,8,87,9],[90,6,90,7],[35,1,36,1],[53,1,53,4],[92,6,92,7],[93,6,93,7],[90,8,90,9],[84,2,85,3],[84,6,84,7],[85,6,85,7],[33,6,33,7],[34,6,34,7],[19,1,20,1],[21,1,22,1],[23,1,30,1],[20,6,20,7],[21,6,21,7],[22,6,22,7],[23,6,23,7],[30,6,30,7],[31,6,31,7],[32,6,32,7],[31,1,32,1],[19,6,19,7],[24,6,24,7],[42,6,42,7],[40,8,40,9],[41,8,41,9],[94,0,95,1],[43,0,44,1],[45,0,46,1],[43,8,43,9],[44,8,44,9],[45,8,45,9],[46,8,46,9],[43,6,43,7],[44,6,44,7],[45,6,45,7],[46,6,46,7],[55,0,56,0],[55,1,55,4],[56,1,56,4],[71,6,71,7],[72,6,72,7],[73,6,73,7],[74,6,74,7],[95,8,95,9],[76,8,76,9],[77,8,77,9],[78,8,78,9],[79,8,79,9],[86,8,86,9],[42,8,42,9],[38,8,38,9],[39,8,39,9],[35,8,35,9],[36,8,36,9],[37,8,37,9],[39,6,39,7],[35,6,35,7],[32,8,32,9],[36,6,36,7],[37,6,37,7],[38,6,38,7],[33,8,33,9],[34,8,34,9],[0,0,0,9],[1,0,1,9],[2,0,2,9],[5,8,5,9],[6,8,6,9],[15,6,15,7],[16,6,16,7],[17,6,17,7],[10,6,10,7],[11,6,11,7],[12,6,12,7],[13,6,13,7],[14,6,14,7],[5,6,5,7],[6,6,6,7],[7,6,7,7],[3,8,4,9],[7,8,7,9],[37,1,38,1],[25,6,25,7],[3,0,4,0],[3,1,4,1],[3,2,4,2],[5,0,18,0],[5,1,6,1],[3,6,4,7],[7,1,8,1],[3,3,4,3],[3,4,4,4],[3,5,4,5],[30,8,30,9],[31,8,31,9],[26,6,26,7],[27,6,27,7],[28,6,28,7],[29,6,29,7],[19,0,32,0],[14,8,14,9],[8,6,8,7],[18,8,18,9],[18,6,18,7],[9,1,16,1],[9,6,9,7],[15,8,15,9],[16,8,16,9],[17,8,17,9],[8,8,8,9],[9,8,9,9],[10,8,10,9],[11,8,11,9],[12,8,12,9],[13,8,13,9],[17,1,18,1],[29,8,29,9],[23,8,23,9],[24,8,24,9],[25,8,25,9],[26,8,26,9],[27,8,27,9],[19,8,19,9],[20,8,20,9],[21,8,21,9],[22,8,22,9],[28,8,28,9],[71,8,71,9],[53,6,53,7],[53,8,53,9],[91,8,91,9],[87,6,87,7],[88,6,88,7],[89,6,89,7],[91,6,91,7],[61,6,61,7],[61,8,61,9],[62,6,62,7],[60,6,60,7],[66,6,66,7],[64,6,64,7],[62,8,62,9],[60,8,60,9],[66,8,66,9],[64,8,64,9],[57,8,57,9],[59,8,59,9],[74,8,74,9],[75,8,75,9],[54,6,54,7],[94,2,95,3],[71,2,71,3],[72,2,73,3],[74,2,75,3],[76,2,77,3],[78,2,79,3],[86,2,87,3],[88,2,89,3],[90,2,91,3],[92,2,93,3],[49,8,49,9],[48,0,48,9],[50,8,50,9],[51,6,51,7],[51,8,51,9],[52,6,52,7],[52,8,52,9],[50,6,50,7],[50,1,50,4],[51,1,51,4],[52,1,52,4],[54,8,54,9],[61,1,61,4],[66,1,66,4],[64,1,64,4],[59,1,59,4],[59,6,59,7],[65,1,65,4],[65,6,65,7],[65,8,65,9],[58,1,58,4],[58,6,58,7],[58,8,58,9],[63,8,63,9],[63,6,63,7],[63,1,63,4]]}
["Calibration"]
["Optional - Input locally-developed calibration factors for SPFs. "]
["At-Grade Intersection SPFs"]
["Traffic Control","Facility Type","# legs","1 way/ 2 way","# of lanes on arterial","Default Calibration Factor","Optional User Override",null,"Use Value"]
[]
["Traffic Signal\n\n(For more information on determining signal type, refer to the \"Definitions\" worksheet)","On Rural Two Lane Highway","3 leg","-","-",{"$f":"CalibrationDefaults!F6","v":1},null,null,{"$f":"IF(ISNUMBER(G6),G6,F6)","v":1}]
[null,null,"4 leg","-","-",{"$f":"CalibrationDefaults!F7","v":0.92},null,null,{"$f":"IF(ISNUMBER(G7),G7,F7)","v":0.92}]
[null,"On Rural Multilane Highway","3 leg","-","-",{"$f":"CalibrationDefaults!F8","v":1},null,null,1]
[null,null,"4 leg","-","-",{"$f":"CalibrationDefaults!F9","v":0.45},null,null,0.45]
[null,"On Urban and Suburban Arterial","3 leg","2x2","5 or fewer",{"$f":"CalibrationDefaults!F10","v":2.5},null,null,2.5]
[null,null,"4 leg","2x2","5 or fewer",{"$f":"CalibrationDefaults!F11","v":2.27},null,null,2.27]
[null,null,"3 leg","2x2","6 or more",{"$f":"CalibrationDefaults!F12","v":1},null,null,1]
[null,null,"4 leg","2x2","6 or more",{"$f":"CalibrationDefaults!F13","v":1},null,null,1]
[null,null,"3 leg","1x2","-",{"$f":"CalibrationDefaults!F14","v":1},null,null,1]
[null,null,"4 leg","1x2","-",{"$f":"CalibrationDefaults!F15","v":1},null,null,1]
[null,null,"3 leg","1x1","-",{"$f":"CalibrationDefaults!F16","v":1},null,null,1]
[null,null,"4 leg","1x1","-",{"$f":"CalibrationDefaults!F17","v":1},null,null,1]
[null,"On High Speed (50+ MPH) Urban and Suburban Arterial","3 leg","-","-",{"$f":"CalibrationDefaults!F18","v":1},null,null,1]
[null,null,"4 leg","-","-",{"$f":"CalibrationDefaults!F19","v":1},null,null,1]
["Minor Road Stop","On Rural Two Lane Highway","3 leg","-","-",{"$f":"CalibrationDefaults!F20","v":1.27},null,null,1.27]
[null,null,"4 leg","-","-",{"$f":"CalibrationDefaults!F21","v":0.74},null,null,0.74]
[null,"On Rural Multilane Highway","3 leg","-","-",{"$f":"CalibrationDefaults!F22","v":2.2000000000000002},null,null,2.2000000000000002]
[null,null,"4 leg","-","-",{"$f":"CalibrationDefaults!F23","v":1.64},null,null,1.64]
[null,"On Urban and Suburban Arterial","3 leg","2x2","5 or fewer",{"$f":"CalibrationDefaults!F24","v":1.1399999999999999},null,null,1.1399999999999999]
[null,null,"4 leg","2x2","5 or fewer",{"$f":"CalibrationDefaults!F25","v":1.87},null,null,1.87]
[null,null,"3 leg","2x2","6 or more",{"$f":"CalibrationDefaults!F26","v":1},null,null,1]
[null,null,"4 leg","2x2","6 or more",{"$f":"CalibrationDefaults!F27","v":1},null,null,1]
[null,null,"3 leg","1x2","-",{"$f":"CalibrationDefaults!F28","v":1},null,null,1]
[null,null,"4 leg","1x2","-",{"$f":"CalibrationDefaults!F29","v":1},null,null,1]
[null,null,"3 leg","1x1","-",{"$f":"CalibrationDefaults!F30","v":1},null,null,1]
[null,null,"4 leg","1x1","-",{"$f":"CalibrationDefaults!F31","v":1},null,null,1]
[null,"On High Speed (50+ MPH) Urban and Suburban Arterial","3 leg","-","-",{"$f":"CalibrationDefaults!F32","v":1},null,null,1]
[null,null,"4 leg","-","-",{"$f":"CalibrationDefaults!F33","v":1},null,null,1]
["All-Way Stop","On Rural Two Lane Highway","3 leg","-","-",{"$f":"CalibrationDefaults!F34","v":1},null,null,1]
[null,null,"4 leg","-","-",{"$f":"CalibrationDefaults!F35","v":1},null,null,1]
[null,"On Rural Multilane Highway","3 leg","-","-",{"$f":"CalibrationDefaults!F36","v":1},null,null,1]
[null,null,"4 leg","-","-",{"$f":"CalibrationDefaults!F37","v":1},null,null,1]
[null,"On Urban and Suburban Arterial","3 leg","-","-",{"$f":"CalibrationDefaults!F38","v":1},null,null,1]
[null,null,"4 leg","-","-",{"$f":"CalibrationDefaults!F39","v":1},null,null,1]
["Roundabout","1-lane roundabout","3 leg","-","-",{"$f":"CalibrationDefaults!F40","v":1},null,null,1]
[null,null,"4 leg","-","-",{"$f":"CalibrationDefaults!F41","v":1},null,null,1]
[null,"2-lane roundabout","3 leg","-","-",{"$f":"CalibrationDefaults!F42","v":1},null,null,1]
[null,null,"4 leg","-","-",{"$f":"CalibrationDefaults!F43","v":1},null,null,1]
["Signalized Restricted Crossing U-Turn (RCUT)",null,"3 leg","-","-",{"$f":"CalibrationDefaults!F44","v":1},null,null,{"$f":"IF(ISNUMBER(G44),G44,F44)","v":1}]
[null,null,"4 leg","-","-",{"$f":"CalibrationDefaults!F45","v":1},null,null,{"$f":"IF(ISNUMBER(G45),G45,F45)","v":1}]
["Unsignalized Restricted Crossing U-Turn (RCUT)",null,"3 leg","-","-",{"$f":"CalibrationDefaults!F46","v":1},null,null,{"$f":"IF(ISNUMBER(G46),G46,F46)","v":1}]
[null,null,"4 leg","-","-",{"$f":"CalibrationDefaults!F47","v":1},null,null,{"$f":"IF(ISNUMBER(G47),G47,F47)","v":1}]
[]
["Ramp Terminal Intersection SPFs",null,null,null,null,null,null,null,null,null,null,null,"Ramp Terminal Intersection SPFs"]
["Control","Ramp and Intersection Type",null,null,null,"SPF Calibration Factor","Optional User Override",null,"Use Value"]
["Diamond Signalized","Four-leg terminals with diagonal ramps (D4)",null,null,null,1,null,null,1]
["Diverging Diamond","All types",null,null,null,1,null,null,{"$f":"IF(ISNUMBER(G52),G52,F52)","v":1}]
["Single-Point Diamond","All types",null,null,null,1,null,null,{"$f":"IF(ISNUMBER(G53),G53,F53)","v":1}]
["Diamond Stop Control","Four-leg terminals with diagonal ramps (D4)",null,null,null,1,null,null,1]
["Signalized Tight Diamond",null,null,null,null,1,null,null,{"$f":"IF(ISNUMBER(G55),G55,F55)","v":1}]
["Roundabout","1-lane roundabout with 4 legs",null,null,null,1,null,null,1]
[null,"2-lane roundabout with 4 legs",null,null,null,1,null,null,1]
["Half Diamond Signalized",null,null,null,null,1,null,null,1]
["Half Diamond Stop Control",null,null,null,null,1,null,null,1]
["Two Quadrant Partial Cloverleaf A Signalized",null,null,null,null,1,null,null,1]
["Two Quadrant Partial Cloverleaf A Stop Control",null,null,null,null,1,null,null,1]
["Four Quadrant Partial Cloverleaf A Signalized",null,null,null,null,1,null,null,1]
["Four Quadrant Partial Cloverleaf A Stop Control",null,null,null,null,1,null,null,1]
["Two Quadrant Partial Cloverleaf B Signalized",null,null,null,null,1,null,null,1]
["Two Quadrant Partial Cloverleaf B Stop Control",null,null,null,null,1,null,null,1]
["Four Quadrant Partial Cloverleaf B Signalized",null,null,null,null,1,null,null,1]
["Four Quadrant Partial Cloverleaf B Stop Control",null,null,null,null,1,null,null,1]
[]
[]
["Local CMFs",null,null,null,null,null,null,null,null,null,null,null,"Local CMFs"]
["Optional - Override default CMFs with locally-developed or new CMFs",null,null,null,null,null,null,null,null,null,null,null,"Optional - Override default CMFs with locally-developed or new CMFs"]
["Control",null,"Default Base Intersection",null,"Type of Crashes","Default CMF","Optional User Override",null,"Use Value"]
["Partial Displaced Left Turn (DLT)",null,"Traffic Signal",null,"Total",0.88,null,null,{"$f":"IF(ISNUMBER(G73),G73,F73)","v":0.88}]
[null,null,null,null,"Fatal & Injury",0.88,null,null,{"$f":"IF(ISNUMBER(G74),G74,F74)","v":0.88}]
["Full Median U-Turn (MUT)",null,"Traffic Signal",null,"Total",0.63,null,null,0.63]
[null,null,null,null,"Fatal & Injury",0.76,null,null,0.76]
["Signalized Restricted Crossing U-Turn (RCUT), also known Superstreet",null,"Traffic Signal",null,"Total",0.85,null,null,0.85]
[null,null,null,null,"Fatal-Injury",0.78,null,null,0.78]
["Unsignalized Restricted Crossing U-Turn (RCUT), also known as J-Turn",null,"Minor Road Stop (TWSC)",null,"Total",0.65,null,null,0.65]
[null,null,null,null,"Fatal-Injury",0.46,null,null,0.46]
["Signalized Thru-Cut",null,"Traffic Signal",null,"Total",1,null,null,{"$f":"IF(ISNUMBER(G81),G81,F81)","v":1}]
[null,null,null,null,"Fatal & Injury",1,null,null,1]
["Unsignalized Thru-Cut",null,"Minor Road Stop Control (TWSC)",null,"Total",1,null,null,1]
[null,null,null,null,"Fatal & Injury",1,null,null,1]
["Bowtie",null,"Taffic Signal",null,"Total",1,null,null,1]
[null,null,null,null,"Fatal & Injury",1,null,null,1]
["Continuous Green-T Intersection",null,"Traffic Signal",null,"Total",0.96,null,null,0.96]
[null,null,null,null,"Fatal & Injury",0.85,null,null,0.85]
["Jughandle",null,"Traffic Signal",null,"Total",0.74,null,null,0.74]
[null,null,null,null,"Fatal & Injury",0.74,null,null,0.74]
[{"$f":"Label_AGI_Other1","v":"Other 1"},null,"User Selection",null,"Total",1,null,null,1]
[null,null,null,null,"Fatal & Injury",1,null,null,1]
[{"$f":"Label_AGI_Other2","v":"Other 2"},null,"User Selection",null,"Total",1,null,null,1]
[null,null,null,null,"Fatal & Injury",1,null,null,1]
["Crossover Traffic Signal (of Diverging Diamond Interchange)",null,"Traffic Signal",null,"Total",{"$f":"VLOOKUP('Ramp Terminal Inputs'!N19,'User Selections'!B56:D60,2,FALSE)","v":0.71},null,null,0.71]
[null,null,null,null,"Fatal & Injury",{"$f":"VLOOKUP('Ramp Terminal Inputs'!N19,'User Selections'!B56:D60,3,FALSE)","v":0.59},null,null,0.59]

{"sheet":"Historical","index":25,"n_rows":92,"n_cols":35,"rows_kept":92,"cut":false,"hidden":false,"merged":[[18,1,20,1],[0,0,0,13],[1,0,2,13],[4,1,5,2],[4,3,5,4],[6,3,6,4],[6,10,6,11],[7,3,7,4],[10,1,11,2],[10,3,10,12],[12,1,14,1],[15,1,17,1],[38,1,38,14],[38,18,41,20],[38,21,38,26],[39,1,54,1],[39,2,39,3],[39,21,41,21],[39,22,41,22],[39,23,41,23],[39,24,41,26],[40,2,42,2],[42,18,56,18],[42,19,46,19],[43,2,45,2],[46,2,48,2],[47,19,51,19],[49,2,51,2],[71,1,76,1],[71,2,71,3],[72,18,86,18],[72,19,76,19],[76,2,76,12],[77,1,82,1],[77,2,77,3],[77,19,81,19],[82,2,82,12],[57,18,71,18],[57,19,61,19],[59,2,61,2],[62,2,64,2],[62,19,66,19],[65,2,67,2],[67,19,71,19],[55,1,70,1],[55,2,55,3],[56,2,58,2],[39,32,41,32],[39,33,41,33],[52,2,54,12],[52,19,56,19],[68,2,70,12],[39,34,41,34],[82,19,86,19],[87,18,91,18],[87,19,91,19],[39,27,41,27],[42,29,50,29],[48,30,50,30],[45,30,47,30],[42,30,44,30],[38,29,41,31]]}
["Historical Crash Data Input"]
["Note: In order to use Empirical Bayes (EB), the historical intersection type must be a traffic signal or a minor road stop.  Additionally, this alternative must be selected to be included in the analysis, and the historical intersection specified below.  Up to 10 years of historical data can be used to perform the EB adjustment."]
[]
[]
[null,"Is historical crash data available?"]
[]
[null,"Number of years available:",null,null,null,"(Up to 10)",null,"First Year Data is available: "]
[null,"Historical Intx Type:"]
[null,"Facility Type",null,{"$f":"IF(Input_FacilityType=FacilityType_Label_Rural2Ln,1,IF(Input_FacilityType=FacilityType_Label_RuralMultiLn,2,IF(Input_FacilityType=FacilityType_Label_Urban,IF(Input_1Way2Way=Notes!$A$54,IF(Input_MajorApproachSpeed=Notes!$A$67,7,IF(Input_NumMajorLanes=Notes!$A$60,3,4)),IF(Input_1Way2Way=Notes!$A$55,5,6)))))","v":false}]
[]
[null,"Historical Crash Counts",null,"Year"]
[null,null,null,{"$f":"IF($D$7>0,$K$7,\"--\")","v":"--"},{"$f":"IF($D$7>1,$K$7+1,\"--\")","v":"--"},{"$f":"IF($D$7>2,$K$7+2,\"--\")","v":"--"},{"$f":"IF($D$7>3,$K$7+3,\"--\")","v":"--"},{"$f":"IF($D$7>4,$K$7+4,\"--\")","v":"--"},{"$f":"IF($D$7>5,$K$7+5,\"--\")","v":"--"},{"$f":"IF($D$7>6,$K$7+6,\"--\")","v":"--"},{"$f":"IF($D$7>7,$K$7+7,\"--\")","v":"--"},{"$f":"IF($D$7>8,$K$7+8,\"--\")","v":"--"},{"$f":"IF($D$7>9,$K$7+9,\"--\")","v":"--"},"Total"]
[{"$f":"OR(AND(EB_Facility_Type<>3,EB_Facility_Type<>7),EB_Intx_Type=Notes!J69,EB_Intx_Type=Notes!J70)","v":true},"Combined","Total",{"$f":"IF(ISNUMBER(D$12),SUM(D14:D15),\"--\")","v":"--"},{"$f":"IF(ISNUMBER(E12),SUM(E14:E15),\"--\")","v":"--"},"--","--","--","--","--","--","--","--",{"$f":"IF(ISNUMBER(D13),SUM(D13:M13),\"--\")","v":"--"},{"$f":"IF(AND(A13,COUNTIF(D13:M13,\"=0\")>0),\"One or more years has 0 total crashes.\",\"\")","v":""}]
[null,null,"Fatal & Injury",null,null,null,null,null,null,null,null,null,null,{"$f":"SUMPRODUCT(D14:M14,--(ISNUMBER($D$12:$M$12)))","v":0}]
[null,null,"PDO",null,null,null,null,null,null,null,null,null,null,0]
[{"$f":"AND(OR(EB_Facility_Type=3,EB_Facility_Type=7),EB_Intx_Type<>Notes!J69,EB_Intx_Type<>Notes!J70)","v":false},"Single-Vehicle","Total",{"$f":"IF(ISNUMBER(D$12),SUM(D17:D18),\"--\")","v":"--"},{"$f":"IF(ISNUMBER(E$12),SUM(E17:E18),\"--\")","v":"--"},"--","--","--","--","--","--","--","--",0,{"$f":"IF(AND(A16,COUNTIF(D16:M16,\"=0\")>0),\"One or more years has 0 total crashes.\",\"\")","v":""}]
[null,null,"Fatal & Injury",null,null,null,null,null,null,null,null,null,null,0]
[null,null,"PDO",null,null,null,null,null,null,null,null,null,null,0]
[{"$f":"AND(OR(EB_Facility_Type=3,EB_Facility_Type=7),EB_Intx_Type<>Notes!J69,EB_Intx_Type<>Notes!J70)","v":false},"Multiple-Vehicle","Total",{"$f":"IF(ISNUMBER(D$12),SUM(D20:D21),\"--\")","v":"--"},{"$f":"IF(ISNUMBER(E$12),SUM(E20:E21),\"--\")","v":"--"},"--","--","--","--","--","--","--","--",0,{"$f":"IF(AND(A19,COUNTIF(D19:M19,\"=0\")>0),\"One or more years has 0 total crashes.\",\"\")","v":""}]
[null,null,"Fatal & Injury",null,null,null,null,null,null,null,null,null,null,0]
[null,null,"PDO",null,null,null,null,null,null,null,null,null,null,0]
[true,"Veh-Ped","Fatal & Injury",null,null,null,null,null,null,null,null,null,null,0]
[{"$f":"TRUE","v":true},"Veh-Bike","Fatal & Injury",null,null,null,null,null,null,null,null,null,null,0]
[null,"Total","All",{"$f":"IF($A$13,SUM(D14:D15),0)+IF($A$16,SUM(D20:D21),0)+IF($A$16,SUM(D17:D18),0)+IF($A$22,D22,0)+IF($A$23,D23,0)","v":0},{"$f":"IF(ISNUMBER(E12),IF($A$13,SUM(E14:E15),0)+IF($A$16,SUM(E20:E21),0)+IF($A$16,SUM(E17:E18),0)+IF($A$22,E22,0)+IF($A$23,E23,0),\"--\")","v":"--"},"--","--","--","--","--","--","--","--",{"$f":"IF($A$13,SUM(N14:N15),0)+IF($A$16,SUM(N20:N21),0)+IF($A$16,SUM(N17:N18),0)+IF($A$22,N22,0)+IF($A$23,N23,0)","v":0}]
[]
[]
[]
[]
[]
[null,"Computations Only Below This Point"]
[]
[]
[]
[]
[]
[]
[]
[]
[null,"Empirical Bayes Computations (No Data Entry)",null,null,null,null,null,null,null,null,null,null,null,null,null,null,null,null,"Dispersion Parameters",null,null,"At-Grade Intersection Facility Type",null,null,null,null,null,null,null,"AWSC Dispersion Parameters\n17-68 Report Update",null,null,"Intersection Facility Type"]
[null,{"$f":"IF(AND($D$9<>3,EB_Facility_Type<>7),\"Combined Collisions\",\"Single-Vehicle Only\")","v":"Combined Collisions"},"Year",null,{"$f":"D$12","v":"--"},"--","--","--","--","--","--","--","--","--","Total",null,null,null,null,null,null,"Rural Two-Lane Highways","Rural Multilane Highways","Urban/Suburban Arterials w/ 5 or Fewer Lanes","Urban/Suburban Arterials w/ 6 or More Lanes",null,null,"High Speed",null,null,null,null,"Rural Two-Lane Highways","Rural Multilane Highways","Urban/Suburban Arterials w/ 5 or Fewer Lanes"]
[null,null,"Npredicted","Total",null,{"$f":"IF(AND(ISNUMBER(E$12),ISNUMBER(NPred_Total)),NPred_Total,\"--\")","v":"--"},"--","--","--","--","--","--","--","--",{"$f":"IF(ISNUMBER(E44),SUM(E41:N41),\"--\")","v":"--"}]
[null,null,null,"Fatal & Injury",null,{"$f":"IF(AND(ISNUMBER(E$12),ISNUMBER(NPred_FI)),NPred_FI,\"--\")","v":"--"},"--","--","--","--","--","--","--","--",{"$f":"IF(ISNUMBER(E45),SUM(E42:N42),\"--\")","v":"--"}]
[null,null,null,"PDO",null,{"$f":"IF(AND(ISNUMBER(E$12),ISNUMBER(NPred_PDO)),NPred_PDO,\"--\")","v":"--"},"--","--","--","--","--","--","--","--",{"$f":"IF(ISNUMBER(E46),SUM(E43:N43),\"--\")","v":"--"},null,null,null,"Combined Multi and Single Vehicle","Total","Intx","R2L","RML","U/S Art.","2x2","1x2","1x1","U/S Art.",null,"Combined Multi and Single Vehicle","Total","Intx","R2L","RML","U/S Art."]
[null,null,"Dispersion Parameter (k)","Total",{"$f":"IF(OR(EB_Intx_Type=Notes!J69,EB_Intx_Type=Notes!J70),IF(OR(EB_Facility_Type=1, EB_Facility_Type=2), VLOOKUP(EB_Intx_Type,$AF$44:$AI$45,EB_Facility_Type + 1,FALSE),VLOOKUP(EB_Intx_Type,$AF$44:$AI$45,4,FALSE)),IF(AND($D$9<>3,EB_Facility_Type<>7),VLOOKUP(EB_Intx_Type,U44:AB47,EB_Facility_Type+1,FALSE),VLOOKUP(EB_Intx_Type,U59:AB62,EB_Facility_Type+1,FALSE)))","v":{"$error":"#N/A"}},{"$f":"IF(AND(ISNUMBER(E$12),ISNUMBER(E44)),E44,\"--\")","v":"--"},"--","--","--","--","--","--","--","--","--",null,null,null,null,null,"3ST",0.54,0.46,"--","--","--","--","--",null,null,null,"3AWSC","--","--","--"]
[null,null,null,"Fatal & Injury",{"$f":"IF(OR(EB_Intx_Type=Notes!J69,EB_Intx_Type=Notes!J70),VLOOKUP(EB_Intx_Type,$AF$47:$AI$48,MIN(EB_Facility_Type,3)+1,FALSE),IF(AND($D$9<>3,EB_Facility_Type<>7),VLOOKUP(EB_Intx_Type,U49:AB52,EB_Facility_Type+1,FALSE),VLOOKUP(EB_Intx_Type,U64:AB67,EB_Facility_Type+1,FALSE)))","v":{"$error":"#N/A"}},"--","--","--","--","--","--","--","--","--","--",null,null,null,null,null,"3SG",0.31,0.4,"--","--","--","--","--",null,null,null,"4AWSC",0.39,"--","--"]
[null,null,null,"PDO",{"$f":"IF(OR(EB_Intx_Type=Notes!J69,EB_Intx_Type=Notes!J70),VLOOKUP(EB_Intx_Type,$AF$50:$AI$51,MIN(EB_Facility_Type,3)+1,FALSE),IF(AND($D$9<>3,EB_Facility_Type<>7),VLOOKUP(EB_Intx_Type,U54:AB57,EB_Facility_Type+1,FALSE),VLOOKUP(EB_Intx_Type,U69:AB72,EB_Facility_Type+1,FALSE)))","v":{"$error":"#N/A"}},"--","--","--","--","--","--","--","--","--","--",null,null,null,null,null,"4ST",0.24,0.49399999999999999,"--","--","--","--","--",null,null,"Fatal / Injury","Intx","R2L","RML","U/S Art."]
[null,null,"Weighted Adjustment (w)","Total",{"$f":"IF(ISNUMBER(E44),1/(1+E44*E41),\"--\")","v":"--"},"--","--","--","--",{"$f":"IF(ISNUMBER(J44),1/(1+J44*J41),\"--\")","v":"--"},{"$f":"IF(ISNUMBER(K44),1/(1+K44*K41),\"--\")","v":"--"},{"$f":"IF(ISNUMBER(L44),1/(1+L44*L41),\"--\")","v":"--"},{"$f":"IF(ISNUMBER(M44),1/(1+M44*M41),\"--\")","v":"--"},{"$f":"IF(ISNUMBER(N44),1/(1+N44*N41),\"--\")","v":"--"},"--",null,null,null,null,null,"4SG",0.11,0.27700000000000002,"--","--","--","--","--",null,null,null,"3AWSC","--","--",7.0000000000000007E-2]
[null,null,null,"Fatal & Injury","--","--","--","--","--","--","--","--","--","--","--",null,null,null,null,"Fatal / Injury","Intx","R2L","RML","U/S Art.","2x2","1x2","1x1","U/S Art.",null,null,null,"4AWSC","--","--",0.66]
[null,null,null,"PDO","--","--","--","--","--","--","--","--","--","--","--",null,null,null,null,null,"3ST","--",0.56899999999999995,"--",0.64935064935064934,2,2,"--",null,null,"PDO","Intx","R2L","RML","U/S Art."]
[null,null,"Nexpected","Total",{"$f":"IF(ISNUMBER(E44),E47*E41+(1-E47)*IF($A$13,D13,D16),IF(ISNUMBER(E51),SUM(E51:E52),\"--\"))","v":"--"},"--","--","--","--","--","--","--","--","--",{"$f":"IF(ISNUMBER(E44),SUM(E50:N50),\"--\")","v":"--"},null,null,null,null,null,"3SG","--",1.1499999999999999,"--",0.5181347150259068,0.95238095238095233,0.95238095238095233,"--",null,null,null,"3AWSC","--","--",0.37]
[null,null,null,"Fatal & Injury",{"$f":"IF(ISNUMBER(E45),E48*E42+(1-E48)*IF($A$13,D14,D17),\"--\")","v":"--"},"--","--","--","--","--","--","--","--","--",{"$f":"IF(ISNUMBER(E45),SUM(E51:N51),\"--\")","v":"--"},null,null,null,null,null,"4ST","--",0.74199999999999999,"--",0.5988023952095809,0.53191489361702127,0.53191489361702127,"--",null,null,null,"4AWSC","--","--",0.78]
[null,null,null,"PDO",{"$f":"IF(ISNUMBER(E46),E49*E43+(1-E49)*IF($A$13,D15,D18),\"--\")","v":"--"},"--","--","--","--","--","--","--","--","--",{"$f":"IF(ISNUMBER(E46),SUM(E52:N52),\"--\")","v":"--"},null,null,null,null,null,"4SG","--",0.218,"--",0.56497175141242939,1.3333333333333333,1.3333333333333333,"--"]
[null,null,"Nexpected / Npredicted",null,null,null,null,null,null,null,null,null,null,"Total",{"$f":"IF(AND(ISNUMBER(E41),ISNUMBER(E44)),O50/O41,1)","v":1},null,null,null,null,"PDO","Intx","R2L","RML","U/S Art.","2x2","1x2","1x1","U/S Art."]
[null,null,null,null,null,null,null,null,null,null,null,null,null,"F/I",{"$f":"IF(AND(ISNUMBER(E42),ISNUMBER(E45)),O51/O42,1)","v":1},null,null,null,null,null,"3ST","--","--","--",0.74626865671641784,1.0309278350515465,1.0309278350515465,"--"]
[null,null,null,null,null,null,null,null,null,null,null,null,null,"PDO",{"$f":"IF(AND(ISNUMBER(E43),ISNUMBER(E46)),O52/O43,1)","v":1},null,null,null,null,null,"3SG","--","--","--",1,0.9009009009009008,0.9009009009009008,"--"]
[null,"Multiple-Vehicle Only \n(When Applicable)","Year",null,{"$f":"D$12","v":"--"},"--","--","--","--","--","--","--","--","--","Total",null,null,null,null,null,"4ST","--","--","--",1.1363636363636365,0.96153846153846145,0.96153846153846145,"--"]
[null,null,"Npredicted","Total",null,{"$f":"IF(AND(ISNUMBER(E$12),ISNUMBER(E57)),E57,\"--\")","v":"--"},"--","--","--","--","--","--","--","--",{"$f":"IF(ISNUMBER(E60),SUM(E57:N57),\"--\")","v":"--"},null,null,null,null,null,"4SG","--","--","--",0.99009900990099009,2,2,"--"]
[null,null,null,"Fatal & Injury",null,"--","--","--","--","--","--","--","--","--",{"$f":"IF(ISNUMBER(E61),SUM(E58:N58),\"--\")","v":"--"},null,null,null,"Single-Vehicle","Total","Intx","R2L","RML","U/S Art.","2x2","1x2","1x1","U/S Art."]
[null,null,null,"PDO",null,"--","--","--","--","--","--","--","--","--",{"$f":"IF(ISNUMBER(E62),SUM(E59:N59),\"--\")","v":"--"},null,null,null,null,null,"3ST","--","--",1.1399999999999999,"--","--","--",0.69]
[null,null,"Dispersion Parameter (k)","Total",{"$f":"IF(OR(EB_Facility_Type=3,EB_Facility_Type=7),VLOOKUP(EB_Intx_Type,U74:AB77,EB_Facility_Type+1,FALSE),\"--\")","v":"--"},"--","--","--","--","--","--","--","--","--","--",null,null,null,null,null,"3SG","--","--",0.36,"--","--","--",0.56999999999999995]
[null,null,null,"Fatal & Injury",{"$f":"IF(OR(EB_Facility_Type=3,EB_Facility_Type=7),VLOOKUP(EB_Intx_Type,U79:AB82,EB_Facility_Type+1,FALSE),\"--\")","v":"--"},"--","--","--","--","--","--","--","--","--","--",null,null,null,null,null,"4ST","--","--",0.65,"--","--","--",1.1200000000000001]
[null,null,null,"PDO",{"$f":"IF(OR(EB_Facility_Type=3,EB_Facility_Type=7),VLOOKUP(EB_Intx_Type,U84:AB87,EB_Facility_Type+1,FALSE),\"--\")","v":"--"},"--","--","--","--","--","--","--","--","--","--",null,null,null,null,null,"4SG","--","--",0.36,"--","--","--",0.55000000000000004]
[null,null,"Weighted Adjustment (w)","Total",{"$f":"IF(ISNUMBER(E60),1/(1+E60*E57),\"--\")","v":"--"},{"$f":"IF(ISNUMBER(F60),1/(1+F60*F57),\"--\")","v":"--"},"--","--","--","--","--","--","--","--","--",null,null,null,null,"Fatal / Injury","Intx","R2L","RML","U/S Art.","2x2","1x2","1x1","U/S Art."]
[null,null,null,"Fatal & Injury",{"$f":"IF(ISNUMBER(E61),1/(1+E61*E58),\"--\")","v":"--"},"--","--","--","--","--","--","--","--","--","--",null,null,null,null,null,"3ST","--","--","--","--","--","--",2.1]
[null,null,null,"PDO",{"$f":"IF(ISNUMBER(E62),1/(1+E62*E59),\"--\")","v":"--"},"--","--","--","--","--","--","--","--","--","--",null,null,null,null,null,"3SG","--","--",0.24,"--","--","--",1.04]
[null,null,"Nexpected","Total",{"$f":"IF(ISNUMBER(E60),E63*E57+(1-E63)*D19,IF(ISNUMBER(E67),SUM(E67:E68),\"--\"))","v":"--"},"--","--","--","--","--","--","--","--","--",{"$f":"IF(ISNUMBER(E60),SUM(E66:N66),\"--\")","v":"--"},null,null,null,null,null,"4ST","--","--","--","--","--","--",1.64]
[null,null,null,"Fatal & Injury",{"$f":"IF(ISNUMBER(E61),E64*E58+(1-E64)*D20,\"--\")","v":"--"},"--","--","--","--","--","--","--","--","--",{"$f":"IF(ISNUMBER(E61),SUM(E67:N67),\"--\")","v":"--"},null,null,null,null,null,"4SG","--","--",0.09,"--","--","--",0.98]
[null,null,null,"PDO","--","--","--","--","--","--","--","--","--","--",{"$f":"IF(ISNUMBER(E62),SUM(E68:N68),\"--\")","v":"--"},null,null,null,null,"PDO","Intx","R2L","RML","U/S Art.","2x2","1x2","1x1","U/S Art."]
[null,null,"Nexpected / Npredicted",null,null,null,null,null,null,null,null,null,null,"Total",{"$f":"IF(AND(ISNUMBER(E57),ISNUMBER(E60)),O66/O57,1)","v":1},null,null,null,null,null,"3ST","--","--",0.28999999999999998,"--","--","--",0.75]
[null,null,null,null,null,null,null,null,null,null,null,null,null,"F/I",{"$f":"IF(AND(ISNUMBER(E58),ISNUMBER(E61)),O67/O58,1)","v":1},null,null,null,null,null,"3SG","--","--",0.53,"--","--","--",0.74]
[null,null,null,null,null,null,null,null,null,null,null,null,null,"PDO",{"$f":"IF(AND(ISNUMBER(E59),ISNUMBER(E62)),O68/O59,1)","v":1},null,null,null,null,null,"4ST","--","--",0.54,"--","--","--",1.4]
[null,"Vehicle-Pedestrian","Year",null,{"$f":"D$12","v":"--"},"--","--","--","--","--","--","--","--","--","Total",null,null,null,null,null,"4SG","--","--",0.44,"--","--","--",0.84]
[null,null,"Npredicted","Fatal & Injury",null,{"$f":"IF(AND(ISNUMBER(E$12),ISNUMBER(E73)),E73,\"--\")","v":"--"},"--","--","--","--","--","--","--","--",{"$f":"IF(ISNUMBER(E76),SUM(E73:N73),\"--\")","v":"--"},null,null,null,"Multiple-Vehicle","Total","Intx","R2L","RML","U/S Art.","2x2","1x2","1x1","U/S Art."]
[null,null,"Disp. (k)","Fatal & Injury",{"$f":"IF(AND(EB_Facility_Type>=3,EB_Facility_Type<7),VLOOKUP(EB_Intx_Type,U89:AB92,EB_Facility_Type+1,FALSE),\"--\")","v":"--"},"--","--","--","--","--","--","--","--","--","--",null,null,null,null,null,"3ST","--","--",0.8,"--","--","--",0.85]
[null,null,"Weight (w)","Fatal & Injury",{"$f":"IF(ISNUMBER(E74),1/(1+E74*E73),\"--\")","v":"--"},"--","--","--","--","--","--","--","--","--","--",null,null,null,null,null,"3SG","--","--",0.33,"--","--","--",0.21]
[null,null,"Nexpected","Fatal & Injury",{"$f":"IF(ISNUMBER(E74),E75*E73+(1-E75)*D22,\"--\")","v":"--"},"--","--","--","--","--","--","--","--","--",{"$f":"IF(AND(ISNUMBER(NPred_Ped),ISNUMBER(E74)),SUM(E76:N76),\"--\")","v":"--"},null,null,null,null,null,"4ST","--","--",0.4,"--","--","--",0.91]
[null,null,"Nexpected / Npredicted",null,null,null,null,null,null,null,null,null,null,"F/I",{"$f":"IF(AND(ISNUMBER(E73),ISNUMBER(E74)),O76/O73,1)","v":1},null,null,null,null,null,"4SG","--","--",0.39,"--","--","--",0.39]
[null,"Vehicle-Bicylce","Year",null,{"$f":"D$12","v":"--"},"--","--","--","--","--","--","--","--","--","Total",null,null,null,null,"Fatal / Injury","Intx","R2L","RML","U/S Art.","2x2","1x2","1x1","U/S Art."]
[null,null,"Npredicted","Fatal & Injury",null,{"$f":"IF(AND(ISNUMBER(E$12),ISNUMBER(E79)),E79,\"--\")","v":"--"},"--","--","--","--","--","--","--","--",{"$f":"IF(ISNUMBER(E82),SUM(E79:N79),\"--\")","v":"--"},null,null,null,null,null,"3ST","--","--",0.69,"--","--","--",0.76]
[null,null,"Disp. (k)","Fatal & Injury","--","--","--","--","--","--","--","--","--","--","--",null,null,null,null,null,"3SG","--","--",0.3,"--","--","--",0.09]
[null,null,"Weight (w)","Fatal & Injury",{"$f":"IF(ISNUMBER(E80),1/(1+E80*E79),\"--\")","v":"--"},"--","--","--","--","--","--","--","--","--","--",null,null,null,null,null,"4ST","--","--",0.48,"--","--","--",0.89]
[null,null,"Nexpected","Fatal & Injury",{"$f":"IF(ISNUMBER(E80),E81*E79+(1-E81)*E41,\"--\")","v":"--"},"--","--","--","--","--","--","--","--","--",{"$f":"IF(ISNUMBER(E80),SUM(E82:N82),\"--\")","v":"--"},null,null,null,null,null,"4SG","--","--",0.33,"--","--","--",0.31]
[null,null,"Nexpected / Npredicted",null,null,null,null,null,null,null,null,null,null,"F/I",{"$f":"IF(AND(ISNUMBER(E79),ISNUMBER(E80)),O82/O79,1)","v":1},null,null,null,null,"PDO","Intx","R2L","RML","U/S Art.","2x2","1x2","1x1","U/S Art."]
[null,null,null,null,null,null,null,null,null,null,null,null,null,null,null,null,null,null,null,null,"3ST","--","--",0.77,"--","--","--",1.1100000000000001]
[null,null,null,null,null,null,null,null,null,null,null,null,null,null,null,null,null,null,null,null,"3SG","--","--",0.36,"--","--","--",0.34]
[null,null,null,null,null,null,null,null,null,null,null,null,null,null,null,null,null,null,null,null,"4ST","--","--",0.4,"--","--","--",0.94]
[null,null,null,null,null,null,null,null,null,null,null,null,null,null,null,null,null,null,null,null,"4SG","--","--",0.44,"--","--","--",0.38]
[null,null,null,null,null,null,null,null,null,null,null,null,null,null,null,null,null,null,"Veh-Pedestrian","Fatal / Injury","Intx","R2L","RML","U/S Art.","2x2","1x2","1x1","U/S Art."]
[null,null,null,null,null,null,null,null,null,null,null,null,null,null,null,null,null,null,null,null,"3ST","--","--","--","--","--","--","--"]
[null,null,null,null,null,null,null,null,null,null,null,null,null,null,null,null,null,null,null,null,"3SG","--","--",0.52,0.52,0.52,0.52,"--"]
[null,null,null,null,null,null,null,null,null,null,null,null,null,null,null,null,null,null,null,null,"4ST","--","--","--","--","--","--","--"]
[null,null,null,null,null,null,null,null,null,null,null,null,null,null,null,null,null,null,null,null,"4SG","--","--",0.24,0.24,0.24,0.24,"--"]

{"sheet":"Results","index":26,"n_rows":52,"n_cols":29,"rows_kept":52,"cut":false,"hidden":false,"merged":[[11,1,11,4],[12,1,12,4],[5,5,5,8],[6,5,6,8],[7,5,7,8],[8,5,8,8],[9,5,9,8],[10,5,10,8],[11,5,11,8],[12,5,12,8],[26,12,27,18],[28,12,29,18],[30,12,31,18],[32,12,33,18],[34,12,35,18],[36,12,37,18],[38,12,39,18],[36,5,37,5],[38,10,39,10],[38,11,39,11],[36,8,37,8],[34,5,35,5],[26,6,27,6],[30,6,31,6],[28,6,29,6],[34,7,35,7],[36,11,37,11],[34,11,35,11],[38,9,39,9],[30,11,31,11],[32,11,33,11],[30,7,31,7],[32,7,33,7],[30,10,31,10],[48,9,49,9],[48,10,49,10],[46,9,47,9],[36,9,37,9],[36,10,37,10],[36,7,37,7],[48,6,49,6],[44,6,45,6],[42,6,43,6],[40,6,41,6],[46,8,47,8],[46,6,47,6],[30,9,31,9],[34,8,35,8],[32,9,33,9],[32,10,33,10],[46,10,47,10],[40,7,41,7],[40,8,41,8],[42,7,43,7],[34,0,35,0],[42,0,43,0],[44,0,45,0],[38,0,39,0],[44,7,45,7],[42,5,43,5],[44,5,45,5],[24,6,25,6],[24,7,25,7],[46,11,47,11],[48,0,49,0],[46,5,47,5],[48,5,49,5],[48,7,49,7],[48,8,49,8],[46,7,47,7],[44,9,45,9],[40,9,41,9],[40,10,41,10],[40,11,41,11],[44,11,45,11],[42,11,43,11],[42,10,43,10],[44,10,45,10],[42,9,43,9],[42,8,43,8],[44,8,45,8],[48,11,49,11],[40,0,41,0],[40,5,41,5],[46,0,47,0],[26,5,27,5],[38,6,39,6],[36,6,37,6],[34,6,35,6],[32,6,33,6],[28,5,29,5],[38,8,39,8],[26,7,27,7],[28,8,29,8],[30,8,31,8],[32,8,33,8],[28,0,29,0],[38,5,39,5],[38,7,39,7],[36,0,37,0],[34,9,35,9],[30,0,31,0],[32,0,33,0],[34,10,35,10],[14,0,15,0],[16,0,17,0],[18,0,19,0],[22,6,23,6],[22,0,23,0],[30,5,31,5],[32,5,33,5],[28,7,29,7],[20,0,21,0],[20,5,21,5],[14,1,15,1],[14,2,15,2],[14,3,15,3],[26,8,27,8],[16,7,17,7],[16,6,17,6],[24,0,25,0],[26,0,27,0],[0,0,0,11],[1,0,1,11],[2,0,2,11],[3,0,3,11],[4,0,4,11],[5,9,5,11],[6,9,6,11],[13,9,13,11],[14,9,15,9],[14,10,15,10],[14,11,15,11],[13,0,13,8],[11,9,11,11],[26,11,27,11],[20,6,21,6],[18,6,19,6],[24,9,25,9],[22,9,23,9],[5,1,5,4],[6,1,6,4],[22,5,23,5],[24,5,25,5],[28,9,29,9],[28,10,29,10],[12,9,12,11],[16,11,17,11],[18,11,19,11],[14,8,15,8],[16,9,17,9],[16,10,17,10],[16,8,17,8],[18,8,19,8],[18,9,19,9],[26,10,27,10],[24,8,25,8],[24,10,25,10],[26,9,27,9],[22,10,23,10],[22,8,23,8],[28,11,29,11],[24,11,25,11],[18,13,18,14],[4,13,4,14],[20,7,21,7],[22,7,23,7],[20,9,21,9],[16,5,17,5],[18,7,19,7],[14,4,15,4],[10,9,10,11],[18,5,19,5],[14,5,15,5],[20,11,21,11],[20,10,21,10],[18,10,19,10],[20,8,21,8],[22,11,23,11],[7,9,7,11],[8,9,8,11],[9,9,9,11],[14,6,14,7],[7,1,7,4],[8,1,8,4],[9,1,9,4],[10,1,10,4]]}
["Florida Department of Transportation"]
["Safety Performance for Intersection Control Evaluation Tool"]
["Results",null,null,null,null,null,null,null,null,null,null,null,{"$f":"IF(OR(OR(ISBLANK('Control Strategy Selection'!D5),ISBLANK('Control Strategy Selection'!D13),ISBLANK('Control Strategy Selection'!D14)),IF('Control Strategy Selection'!D4=Label_AnalysisYearType_OpenAndDesign,OR(ISBLANK('Control Strategy Selection'!D6),ISBLANK('Control Strategy Selection'!D15),ISBLANK('Control Strategy Selection'!D16)),FALSE)),\"Please complete the Opening/Design Year Inputs and AADTs Before Viewing Results\",\"\")","v":"Please complete the Opening/Design Year Inputs and AADTs Before Viewing Results"}]
["Summary of crash prediction results for each alternative"]
["Project Information",null,null,null,null,null,null,null,null,null,null,null,null,"Legend"]
["Project Name:",{"$f":"IF(ISBLANK('Project Information'!B3:C3),\"\",'Project Information'!B3:C3)","v":""},null,null,null,"Intersection Type:",null,null,null,{"$f":"'Control Strategy Selection'!D3","v":0},null,null,null,null,"AADT >= 75%"]
["Intersection:",{"$f":"IF(ISBLANK('Project Information'!B4:C4),\"\",'Project Information'!B4:C4)","v":""},null,null,null,"Opening Year:",null,null,null,{"$f":"'Control Strategy Selection'!D5","v":0},null,null,null,null,"AADT >= 50%"]
["Agency: ",{"$f":"IF(ISBLANK('Project Information'!B5:C5),\"\",'Project Information'!B5:C5)","v":""},null,null,null,"Design Year:",null,null,null,{"$f":"'Control Strategy Selection'!D6","v":0},null,null,null,null,"AADT >= 25%"]
["Project Reference:",{"$f":"IF(ISBLANK('Project Information'!B6:C6),\"\",'Project Information'!B6:C6)","v":""},null,null,null,"Facility Type:",null,null,null,{"$f":"'Control Strategy Selection'!D8","v":0},null,null,null,null,"AADT >= 10%"]
["City:",{"$f":"IF(ISBLANK('Project Information'!B7:C7),\"\",'Project Information'!B7:C7)","v":""},null,null,null,"Number of Legs:",null,null,null,{"$f":"'Control Strategy Selection'!D9","v":0},null,null,null,null,"AADT > 0%"]
["State:",{"$f":"IF(ISBLANK('Project Information'!B8:C8),\"\",'Project Information'!B8:C8)","v":""},null,null,null,"1-Way/2-Way?:",null,null,null,{"$f":"IF(AND(J9<>\"On Urban and Suburban Arterial\"),\"\",'Control Strategy Selection'!D10)","v":""}]
["Date:",{"$f":"IF(ISBLANK('Project Information'!B9:C9),\"\",'Project Information'!B9:C9)","v":""},null,null,null,"# of Major Street Lanes (both directions):",null,null,null,{"$f":"IF(OR(J9<>\"On Urban and Suburban Arterial\",J11<>\"2-way Intersecting 2-way\"), \"\",'Control Strategy Selection'!D11)","v":""}]
["Analyst:",{"$f":"IF(ISBLANK('Project Information'!B10:C10),\"\",'Project Information'!B10:C10)","v":""},null,null,null,"Major Street Approach Speed:",null,null,null,{"$f":"IF(OR(J9<>\"On Urban and Suburban Arterial\",J11<>\"2-way Intersecting 2-way\"), \"\",'Control Strategy Selection'!D12)","v":""}]
["Crash Prediction Summary",null,null,null,null,null,null,null,null,"SSI Score"]
["Control Strategy","Crash Type","Opening Year","Design Year","Total Project Life Cycle","Crash Prediction Rank","AADT Within SPF Prediction Range?",null,"Source of Prediction","Opening Year","Design Year","SSI Rank",null,null,null,null,null,null,null,"Use Val (open vs design)",null,"Included","Total","FI",false]
[null,null,null,null,null,null,"Opening Year","Design Year"]
[{"$f":"Label_AGI_TrafficSignal","v":"Traffic Signal"},"Total",null,null,null,{"$f":"IF(OR(AND(ISNUMBER(C17),C17>0),AND(ISNUMBER(E17),E17>0)),AB17,\"--\")","v":"--"},{"$f":"IF(AND('Control Strategy Selection'!O19),\"Yes\",\"No\")","v":"Yes"},{"$f":"IF(AND('Control Strategy Selection'!P19),\"Yes\",\"No\")","v":"Yes"},{"$f":"IF(AND(EB_Historical_Adjustment = \"Yes\", OR(ISNUMBER(SEARCH(\"3SG\", EB_Intx_Type)), ISNUMBER(SEARCH(\"4SG\", EB_Intx_Type)))), _xlfn.CONCAT(AC17, \" w/ EB\"), AC17)","v":"Calibrated SPF"},{"$f":"IF(IsChecked_AGI_TrafficSignal,'SSI Results'!C13,\"\")","v":""},{"$f":"IF(IsChecked_AGI_TrafficSignal,'SSI Results'!C54,\"\")","v":""},{"$f":"IF(ISNUMBER(K17),_xlfn.RANK.EQ(K17,$K$17:$K$50),IF(ISNUMBER(J17),_xlfn.RANK.EQ(J17,$J$17:$J$50),\"--\"))","v":"--"},null,null,null,null,null,null,null,{"$f":"IF(Input_AnalysisYearType=Notes!$A$11,Results!C17,Results!E17)","v":0},{"$f":"IF(Input_AnalysisYearType=Notes!$A$11,Results!C18,Results!E18)","v":0},{"$f":"AND(IsChecked_AGI_TrafficSignal,ISNUMBER(T17))","v":false},{"$f":"IF(AND(T17>0,V17),T17,99999999999)","v":99999999999},{"$f":"IF(AND(U17>0,V17),U17,99999999999)","v":99999999999},{"$f":"RANK(W17,$W$17:$W$33,1)","v":1},{"$f":"RANK(X17,$X$17:$X$33,1)","v":1},{"$f":"IF($Y$15,Y17+0.01*Z17,Z17+0.01*Y17)","v":1.01},{"$f":"RANK(AA17,$AA$17:$AA$33,1)","v":1},"Calibrated SPF"]
[null,"Fatal & Injury",null,null,null,null,null,null,null,null,null,null,null,null,null,null,null,null,null,{"$f":"IF(Input_AnalysisYearType=Notes!$A$11,Results!C19,Results!E19)","v":0},{"$f":"IF(Input_AnalysisYearType=Notes!$A$11,Results!C20,Results!E20)","v":0},{"$f":"AND(IsChecked_AGI_TrafficSignal2,ISNUMBER(T18))","v":false},99999999999,99999999999,{"$f":"RANK(W18,$W$17:$W$33,1)","v":1},{"$f":"RANK(X18,$X$17:$X$33,1)","v":1},1.01,{"$f":"RANK(AA18,$AA$17:$AA$33,1)","v":1}]
[{"$f":"Label_AGI_TrafficSignal&\" (Alt)\"","v":"Traffic Signal (Alt)"},"Total",null,null,null,{"$f":"IF(OR(AND(ISNUMBER(C19),C19>0),AND(ISNUMBER(E19),E19>0)),AB18,\"--\")","v":"--"},{"$f":"IF(AND('Control Strategy Selection'!O20),\"Yes\",\"No\")","v":"Yes"},{"$f":"IF(AND('Control Strategy Selection'!P20),\"Yes\",\"No\")","v":"Yes"},{"$f":"IF(AND(EB_Historical_Adjustment = \"Yes\", OR(ISNUMBER(SEARCH(\"3SG\", EB_Intx_Type)), ISNUMBER(SEARCH(\"4SG\", EB_Intx_Type)))), _xlfn.CONCAT(AC19, \" w/ EB\"), AC19)","v":"Calibrated SPF"},{"$f":"IF(IsChecked_AGI_TrafficSignal2,'SSI Results'!C14,\"\")","v":""},{"$f":"IF(IsChecked_AGI_TrafficSignal2,'SSI Results'!C55,\"\")","v":""},{"$f":"IF(ISNUMBER(K19),_xlfn.RANK.EQ(K19,$K$17:$K$50),IF(ISNUMBER(J19),_xlfn.RANK.EQ(J19,$J$17:$J$50),\"--\"))","v":"--"},null,null,null,null,null,null,null,{"$f":"IF(Input_AnalysisYearType=Notes!$A$11,Results!C21,Results!E21)","v":0},{"$f":"IF(Input_AnalysisYearType=Notes!$A$11,Results!C22,Results!E22)","v":0},{"$f":"AND(IsChecked_AGI_MinorStop,ISNUMBER(T19))","v":false},99999999999,99999999999,1,1,1.01,1,"Calibrated SPF"]
[null,"Fatal & Injury",null,null,null,null,null,null,null,null,null,null,null,null,null,null,null,null,null,{"$f":"IF(Input_AnalysisYearType=Notes!$A$11,Results!C23,Results!E23)","v":0},{"$f":"IF(Input_AnalysisYearType=Notes!$A$11,Results!C24,Results!E24)","v":0},{"$f":"AND(IsChecked_AGI_AllStop,ISNUMBER(T20))","v":false},99999999999,99999999999,1,1,1.01,1]
[{"$f":"Label_AGI_MinorStop","v":"Minor Road Stop"},"Total",null,null,null,{"$f":"IF(OR(AND(ISNUMBER(C21),C21>0),AND(ISNUMBER(E21),E21>0)),AB19,\"--\")","v":"--"},{"$f":"IF(AND('Control Strategy Selection'!O21),\"Yes\",\"No\")","v":"Yes"},{"$f":"IF(AND('Control Strategy Selection'!P21),\"Yes\",\"No\")","v":"Yes"},{"$f":"IF(AND(EB_Historical_Adjustment = \"Yes\", OR(ISNUMBER(SEARCH(\"3ST\", EB_Intx_Type)), ISNUMBER(SEARCH(\"4ST\", EB_Intx_Type)))), _xlfn.CONCAT(AC21, \" w/ EB\"), AC21)","v":"Calibrated SPF"},{"$f":"IF(IsChecked_AGI_MinorStop,'SSI Results'!C15,\"\")","v":""},{"$f":"IF(IsChecked_AGI_MinorStop,'SSI Results'!C56,\"\")","v":""},{"$f":"IF(ISNUMBER(K21),_xlfn.RANK.EQ(K21,$K$17:$K$50),IF(ISNUMBER(J21),_xlfn.RANK.EQ(J21,$J$17:$J$50),\"--\"))","v":"--"},null,null,null,null,null,null,null,{"$f":"IF(Input_AnalysisYearType=Notes!$A$11,Results!C25,Results!E25)","v":0},{"$f":"IF(Input_AnalysisYearType=Notes!$A$11,Results!C26,Results!E26)","v":0},{"$f":"AND(IsChecked_AGI_Rdbt1Ln,ISNUMBER(T21))","v":false},99999999999,99999999999,1,1,1.01,1,"Calibrated SPF"]
[null,"Fatal & Injury",null,null,null,null,null,null,null,null,null,null,null,null,null,null,null,null,null,{"$f":"IF(Input_AnalysisYearType=Notes!$A$11,Results!C27,Results!E27)","v":0},{"$f":"IF(Input_AnalysisYearType=Notes!$A$11,Results!C28,Results!E28)","v":0},{"$f":"AND(IsChecked_AGI_Rdbt2Ln,ISNUMBER(T22))","v":false},99999999999,99999999999,1,1,1.01,1]
[{"$f":"Label_AGI_AllStop","v":"All Way Stop"},"Total",null,null,null,{"$f":"IF(OR(AND(ISNUMBER(C23),C23>0),AND(ISNUMBER(E23),E23>0)),AB20,\"--\")","v":"--"},{"$f":"IF(AND('Control Strategy Selection'!O22),\"Yes\",\"No\")","v":"Yes"},{"$f":"IF(AND('Control Strategy Selection'!P22),\"Yes\",\"No\")","v":"Yes"},{"$f":"IF(AND(ISNUMBER(Historical!N13), Historical!N13 > 0), \"Uncalibrated SPF w/ EB\", \"Uncalibrated SPF\")","v":"Uncalibrated SPF"},{"$f":"IF(IsChecked_AGI_AllStop,'SSI Results'!C16,\"\")","v":""},{"$f":"IF(IsChecked_AGI_AllStop,'SSI Results'!C57,\"\")","v":""},{"$f":"IF(ISNUMBER(K23),_xlfn.RANK.EQ(K23,$K$17:$K$50),IF(ISNUMBER(J23),_xlfn.RANK.EQ(J23,$J$17:$J$50),\"--\"))","v":"--"},null,null,null,null,null,null,null,{"$f":"IF(Input_AnalysisYearType=Notes!$A$11,Results!C29,Results!E29)","v":0},{"$f":"IF(Input_AnalysisYearType=Notes!$A$11,Results!C30,Results!E30)","v":0},{"$f":"AND(IsChecked_AGI_DLT,ISNUMBER(T23))","v":false},99999999999,99999999999,1,1,1.01,1]
[null,"Fatal & Injury",null,null,null,null,null,null,null,null,null,null,null,null,null,null,null,null,null,{"$f":"IF(Input_AnalysisYearType=Notes!$A$11,Results!C31,Results!E31)","v":0},{"$f":"IF(Input_AnalysisYearType=Notes!$A$11,Results!C32,Results!E32)","v":0},{"$f":"AND(IsChecked_AGI_MUT,ISNUMBER(T24))","v":false},99999999999,99999999999,1,1,1.01,1]
[{"$f":"Label_AGI_1LnRdbt","v":"1-lane Roundabout"},"Total",null,null,null,{"$f":"IF(OR(AND(ISNUMBER(C25),C25>0),AND(ISNUMBER(E25),E25>0)),AB21,\"--\")","v":"--"},{"$f":"IF(AND('Control Strategy Selection'!O23),\"Yes\",\"No\")","v":"Yes"},{"$f":"IF(AND('Control Strategy Selection'!P23),\"Yes\",\"No\")","v":"Yes"},{"$f":"AC25","v":"Uncalibrated SPF"},{"$f":"IF(IsChecked_AGI_Rdbt1Ln,'SSI Results'!C17,\"\")","v":""},{"$f":"IF(IsChecked_AGI_Rdbt1Ln,'SSI Results'!C58,\"\")","v":""},{"$f":"IF(ISNUMBER(K25),_xlfn.RANK.EQ(K25,$K$17:$K$50),IF(ISNUMBER(J25),_xlfn.RANK.EQ(J25,$J$17:$J$50),\"--\"))","v":"--"},null,null,null,null,null,null,null,{"$f":"IF(Input_AnalysisYearType=Notes!$A$11,Results!C33,Results!E33)","v":0},{"$f":"IF(Input_AnalysisYearType=Notes!$A$11,Results!C34,Results!E34)","v":0},{"$f":"AND(IsChecked_AGI_RCUTSig,ISNUMBER(T25))","v":false},99999999999,99999999999,1,1,1.01,1,"Uncalibrated SPF"]
[null,"Fatal & Injury",null,null,null,null,null,null,null,null,null,null,null,null,null,null,null,null,null,{"$f":"IF(Input_AnalysisYearType=Notes!$A$11,Results!C35,Results!E35)","v":0},{"$f":"IF(Input_AnalysisYearType=Notes!$A$11,Results!C36,Results!E36)","v":0},{"$f":"AND(IsChecked_AGI_RCUTUnsig,ISNUMBER(T26))","v":false},99999999999,99999999999,1,1,1.01,1]
[{"$f":"Label_AGI_2LnRdbt","v":"2-lane Roundabout"},"Total",null,null,null,{"$f":"IF(OR(AND(ISNUMBER(C27),C27>0),AND(ISNUMBER(E27),E27>0)),AB22,\"--\")","v":"--"},{"$f":"IF(AND('Control Strategy Selection'!O24),\"Yes\",\"No\")","v":"Yes"},{"$f":"IF(AND('Control Strategy Selection'!P24),\"Yes\",\"No\")","v":"Yes"},{"$f":"AC27","v":"Uncalibrated SPF"},{"$f":"IF(IsChecked_AGI_Rdbt2Ln,'SSI Results'!C19,\"\")","v":""},{"$f":"IF(IsChecked_AGI_Rdbt2Ln,'SSI Results'!C60,\"\")","v":""},{"$f":"IF(ISNUMBER(K27),_xlfn.RANK.EQ(K27,$K$17:$K$50),IF(ISNUMBER(J27),_xlfn.RANK.EQ(J27,$J$17:$J$50),\"--\"))","v":"--"},{"$f":"IF(AND('Control Strategy Selection'!B24=\"Yes\",'SSI Inputs'!$K$6=\"No\"),\"Warning--Major road median presence set to NO in SSI Input tab Sheet, but design requires median presence. Analysis assumes Median present.\",\"\")","v":""},null,null,null,null,null,null,{"$f":"IF(Input_AnalysisYearType=Notes!$A$11,Results!C37,Results!E37)","v":0},{"$f":"IF(Input_AnalysisYearType=Notes!$A$11,Results!C38,Results!E38)","v":0},{"$f":"AND(IsChecked_AGI_SigThruCut,ISNUMBER(T27))","v":false},99999999999,99999999999,1,1,1.01,1,"Uncalibrated SPF"]
[null,"Fatal & Injury",null,null,null,null,null,null,null,null,null,null,null,null,null,null,null,null,null,{"$f":"IF(Input_AnalysisYearType=Notes!$A$11,Results!C39,Results!E39)","v":0},{"$f":"IF(Input_AnalysisYearType=Notes!$A$11,Results!C40,Results!E40)","v":0},{"$f":"AND(IsChecked_AGI_UnsigThruCut,ISNUMBER(T28))","v":false},99999999999,99999999999,1,1,1.01,1]
[{"$f":"Label_AGI_DLT","v":"Partial Displaced Left Turn (PDLT)"},"Total",null,null,null,{"$f":"IF(OR(AND(ISNUMBER(C29),C29>0),AND(ISNUMBER(E29),E29>0)),AB23,\"--\")","v":"--"},"N/A","N/A","CMF",{"$f":"IF(IsChecked_AGI_DLT,'SSI Results'!C21,\"\")","v":""},{"$f":"IF(IsChecked_AGI_DLT,'SSI Results'!C62,\"\")","v":""},{"$f":"IF(ISNUMBER(K29),_xlfn.RANK.EQ(K29,$K$17:$K$50),IF(ISNUMBER(J29),_xlfn.RANK.EQ(J29,$J$17:$J$50),\"--\"))","v":"--"},{"$f":"IF(AND('Control Strategy Selection'!B25=\"Yes\",'SSI Inputs'!$K$6=\"No\"),\"Warning--Major road median presence set to NO in SSI Input tab Sheet, but design requires median presence. Analysis assumes Median present.\",\"\")","v":""},null,null,null,null,null,null,{"$f":"IF(Input_AnalysisYearType=Notes!$A$11,Results!C41,Results!E41)","v":0},{"$f":"IF(Input_AnalysisYearType=Notes!$A$11,Results!C42,Results!E42)","v":0},{"$f":"AND(IsChecked_AGI_Bowtie,ISNUMBER(T29))","v":false},{"$f":"IF(AND(T29>0,V29),T29,99999999999)","v":99999999999},{"$f":"IF(AND(U29>0,V29),U29,99999999999)","v":99999999999},1,1,{"$f":"IF($Y$15,Y29+0.01*Z29,Z29+0.01*Y29)","v":1.01},1]
[null,"Fatal & Injury",null,null,null,null,null,null,null,null,null,null,null,null,null,null,null,null,null,{"$f":"IF(Input_AnalysisYearType=Notes!$A$11,Results!C43,Results!E43)","v":0},{"$f":"IF(Input_AnalysisYearType=Notes!$A$11,Results!C44,Results!E44)","v":0},{"$f":"AND(IsChecked_AGI_GreenT,ISNUMBER(T30))","v":false},{"$f":"IF(AND(T30>0,V30),T30,99999999999)","v":99999999999},{"$f":"IF(AND(U30>0,V30),U30,99999999999)","v":99999999999},1,1,{"$f":"IF($Y$15,Y30+0.01*Z30,Z30+0.01*Y30)","v":1.01},1]
[{"$f":"Label_AGI_MUT","v":"Full Median U-Turn (MUT)"},"Total",null,null,null,{"$f":"IF(OR(AND(ISNUMBER(C31),C31>0),AND(ISNUMBER(E31),E31>0)),AB24,\"--\")","v":"--"},"N/A","N/A","CMF",{"$f":"IF(IsChecked_AGI_MUT,'SSI Results'!C22,\"\")","v":""},{"$f":"IF(IsChecked_AGI_MUT,'SSI Results'!C63,\"\")","v":""},{"$f":"IF(ISNUMBER(K31),_xlfn.RANK.EQ(K31,$K$17:$K$50),IF(ISNUMBER(J31),_xlfn.RANK.EQ(J31,$J$17:$J$50),\"--\"))","v":"--"},{"$f":"IF(AND('Control Strategy Selection'!B26=\"Yes\",'SSI Inputs'!$K$6=\"No\"),\"Warning--Major road median presence set to NO in SSI Input tab Sheet, but design requires median presence. Analysis assumes Median present.\",\"\")","v":""},null,null,null,null,null,null,{"$f":"IF(Input_AnalysisYearType=Notes!$A$11,Results!C45,Results!E45)","v":6.4777420695301258},{"$f":"IF(Input_AnalysisYearType=Notes!$A$11,Results!C46,Results!E46)","v":2.2388970495963387},{"$f":"AND(IsChecked_AGI_Jughandle,ISNUMBER(T31))","v":false},{"$f":"IF(AND(T31>0,V31),T31,99999999999)","v":99999999999},{"$f":"IF(AND(U31>0,V31),U31,99999999999)","v":99999999999},1,1,{"$f":"IF($Y$15,Y31+0.01*Z31,Z31+0.01*Y31)","v":1.01},1]
[null,"Fatal & Injury",null,null,null,null,null,null,null,null,null,null,null,null,null,null,null,null,null,{"$f":"IF(Input_AnalysisYearType=Notes!$A$11,Results!C47,Results!E47)","v":8.7537054993650347},{"$f":"IF(Input_AnalysisYearType=Notes!$A$11,Results!C48,Results!E48)","v":3.0255365535085659},{"$f":"AND(IsChecked_AGI_Other1,ISNUMBER(T32))","v":false},{"$f":"IF(AND(T32>0,V32),T32,99999999999)","v":99999999999},{"$f":"IF(AND(U32>0,V32),U32,99999999999)","v":99999999999},1,1,{"$f":"IF($Y$15,Y32+0.01*Z32,Z32+0.01*Y32)","v":1.01},1]
[{"$f":"Label_AGI_RCUTSig","v":"Signalized RCUT"},"Total",null,null,null,{"$f":"IF(OR(AND(ISNUMBER(C33),C33>0),AND(ISNUMBER(E33),E33>0)),AB25,\"--\")","v":"--"},{"$f":"IF(OR(NOT(AND('Control Strategy Selection'!O27)),NOT(AND(Range_SRCUT_OAADT_Ratio))),\"No\",\"Yes\")","v":"Yes"},{"$f":"IF(OR(NOT(AND('Control Strategy Selection'!P27)),NOT(AND(Range_SRCUT_DAADT_Ratio))),\"No\",\"Yes\")","v":"Yes"},"Uncalibrated SPF",{"$f":"IF(IsChecked_AGI_RCUTSig,'SSI Results'!C23,\"\")","v":""},{"$f":"IF(IsChecked_AGI_RCUTSig,'SSI Results'!C64,\"\")","v":""},{"$f":"IF(ISNUMBER(K33),_xlfn.RANK.EQ(K33,$K$17:$K$50),IF(ISNUMBER(J33),_xlfn.RANK.EQ(J33,$J$17:$J$50),\"--\"))","v":"--"},{"$f":"IF(AND('Control Strategy Selection'!B27=\"Yes\",'SSI Inputs'!$K$6=\"No\"),\"Warning--Major road median presence set to NO in SSI Input tab Sheet, but design requires median presence. Analysis assumes Median present.\",\"\")","v":""},null,null,null,null,null,null,{"$f":"IF(Input_AnalysisYearType=Notes!$A$11,Results!C49,Results!E49)","v":8.7537054993650347},{"$f":"IF(Input_AnalysisYearType=Notes!$A$11,Results!C50,Results!E50)","v":3.0255365535085659},{"$f":"AND(IsChecked_AGI_Other2,ISNUMBER(T33))","v":false},{"$f":"IF(AND(T33>0,V33),T33,99999999999)","v":99999999999},{"$f":"IF(AND(U33>0,V33),U33,99999999999)","v":99999999999},1,1,{"$f":"IF($Y$15,Y33+0.01*Z33,Z33+0.01*Y33)","v":1.01},1]
[null,"Fatal & Injury"]
[{"$f":"Label_AGI_RCUTUnsig","v":"Unsignalized RCUT"},"Total",null,null,null,{"$f":"IF(OR(AND(ISNUMBER(C35),C35>0),AND(ISNUMBER(E35),E35>0)),AB26,\"--\")","v":"--"},{"$f":"IF(AND('Control Strategy Selection'!O28),\"Yes\",\"No\")","v":"Yes"},{"$f":"IF(AND('Control Strategy Selection'!P28),\"Yes\",\"No\")","v":"Yes"},"Uncalibrated SPF",{"$f":"IF(IsChecked_AGI_RCUTUnsig,'SSI Results'!C24,\"\")","v":""},{"$f":"IF(IsChecked_AGI_RCUTUnsig,'SSI Results'!C65,\"\")","v":""},{"$f":"IF(ISNUMBER(K35),_xlfn.RANK.EQ(K35,$K$17:$K$50),IF(ISNUMBER(J35),_xlfn.RANK.EQ(J35,$J$17:$J$50),\"--\"))","v":"--"},{"$f":"IF(AND('Control Strategy Selection'!B28=\"Yes\",'SSI Inputs'!$K$6=\"No\"),\"Warning--Major road median presence set to NO in SSI Input tab Sheet, but design requires median presence. Analysis assumes Median present.\",\"\")","v":""}]
[null,"Fatal & Injury"]
["Signalized Thru-Cut","Total",null,null,null,{"$f":"IF(OR(AND(ISNUMBER(C37),C37>0),AND(ISNUMBER(E37),E37>0)),AB27,\"--\")","v":"--"},"N/A","N/A","N/A",{"$f":"IF(IsChecked_AGI_SigThruCut,'SSI Results'!C25,\"\")","v":""},{"$f":"IF(IsChecked_AGI_SigThruCut,'SSI Results'!C66,\"\")","v":""},{"$f":"IF(ISNUMBER(K37),_xlfn.RANK.EQ(K37,$K$17:$K$50),IF(ISNUMBER(J37),_xlfn.RANK.EQ(J37,$J$17:$J$50),\"--\"))","v":"--"},{"$f":"IF(AND('Control Strategy Selection'!B29=\"Yes\",'SSI Inputs'!$K$6=\"No\"),\"Warning--Major road median presence set to NO in SSI Input tab Sheet, but design requires median presence. Analysis assumes Median present.\",\"\")","v":""}]
[null,"Fatal & Injury"]
["Unsignalized Thru-Cut","Total",null,null,null,{"$f":"IF(OR(AND(ISNUMBER(C39),C39>0),AND(ISNUMBER(E39),E39>0)),AB28,\"--\")","v":"--"},"N/A","N/A","N/A",{"$f":"IF(IsChecked_AGI_UnsigThruCut,'SSI Results'!C26,\"\")","v":""},{"$f":"IF(IsChecked_AGI_UnsigThruCut,'SSI Results'!C67,\"\")","v":""},{"$f":"IF(ISNUMBER(K39),_xlfn.RANK.EQ(K39,$K$17:$K$50),IF(ISNUMBER(J39),_xlfn.RANK.EQ(J39,$J$17:$J$50),\"--\"))","v":"--"},{"$f":"IF(AND('Control Strategy Selection'!B30=\"Yes\",'SSI Inputs'!$K$6=\"No\"),\"Warning--Major road median presence set to NO in SSI Input tab Sheet, but design requires median presence. Analysis assumes Median present.\",\"\")","v":""}]
[null,"Fatal & Injury"]
["Bowtie","Total",null,null,null,{"$f":"IF(OR(AND(ISNUMBER(C41),C41>0),AND(ISNUMBER(E41),E41>0)),AB29,\"--\")","v":"--"},"N/A","N/A","N/A",{"$f":"IF(IsChecked_AGI_Bowtie,'SSI Results'!C29,\"\")","v":""},{"$f":"IF(IsChecked_AGI_Bowtie,'SSI Results'!C70,\"\")","v":""},{"$f":"IF(ISNUMBER(K41),_xlfn.RANK.EQ(K41,$K$17:$K$50),IF(ISNUMBER(J41),_xlfn.RANK.EQ(J41,$J$17:$J$50),\"--\"))","v":"--"}]
[null,"Fatal & Injury"]
[{"$f":"Label_AGI_GreenT","v":"Continuous Green-T Intersection"},"Total",null,null,null,{"$f":"IF(OR(AND(ISNUMBER(C43),C43>0),AND(ISNUMBER(E43),E43>0)),AB30,\"--\")","v":"--"},"N/A","N/A","CMF",{"$f":"IF(IsChecked_AGI_GreenT,'SSI Results'!C27,\"\")","v":""},{"$f":"IF(IsChecked_AGI_GreenT,'SSI Results'!C68,\"\")","v":""},{"$f":"IF(ISNUMBER(K43),_xlfn.RANK.EQ(K43,$K$17:$K$50),IF(ISNUMBER(J43),_xlfn.RANK.EQ(J43,$J$17:$J$50),\"--\"))","v":"--"}]
[null,"Fatal & Injury"]
[{"$f":"Label_AGI_Jughandle","v":"Jughandle"},"Total",1.5125387202163532,4.9652033493137724,6.4777420695301258,{"$f":"IF(OR(AND(ISNUMBER(C45),C45>0),AND(ISNUMBER(E45),E45>0)),AB31,\"--\")","v":1},"N/A","N/A","CMF",{"$f":"IF(IsChecked_AGI_Jughandle,'SSI Results'!C28,\"\")","v":""},{"$f":"IF(IsChecked_AGI_Jughandle,'SSI Results'!C69,\"\")","v":""},{"$f":"IF(ISNUMBER(K45),_xlfn.RANK.EQ(K45,$K$17:$K$50),IF(ISNUMBER(J45),_xlfn.RANK.EQ(J45,$J$17:$J$50),\"--\"))","v":"--"}]
[null,"Fatal & Injury",0.57413647309812255,1.6647605764982161,2.2388970495963387]
[{"$f":"Label_AGI_Other1","v":"Other 1"},"Total",2.0439712435356125,6.7097342558294226,8.7537054993650347,{"$f":"IF(OR(AND(ISNUMBER(C47),C47>0),AND(ISNUMBER(E47),E47>0)),AB32,\"--\")","v":1},"N/A","N/A","CMF","--","--",{"$f":"IF(ISNUMBER(K47),_xlfn.RANK.EQ(K47,$K$17:$K$50),IF(ISNUMBER(J47),_xlfn.RANK.EQ(J47,$J$17:$J$50),\"--\"))","v":"--"}]
[null,"Fatal & Injury",0.77586009878124673,2.2496764547273189,3.0255365535085659]
[{"$f":"Label_AGI_Other2","v":"Other 2"},"Total",2.0439712435356125,6.7097342558294226,8.7537054993650347,{"$f":"IF(OR(AND(ISNUMBER(C49),C49>0),AND(ISNUMBER(E49),E49>0)),AB32,\"--\")","v":1},"N/A","N/A","CMF","--","--",{"$f":"IF(ISNUMBER(K49),_xlfn.RANK.EQ(K49,$K$17:$K$50),IF(ISNUMBER(J49),_xlfn.RANK.EQ(J49,$J$17:$J$50),\"--\"))","v":"--"}]
[null,"Fatal & Injury",0.77586009878124673,2.2496764547273189,3.0255365535085659]
[null,null,null,"--","--"]
[null,null,null,"--","--"]

{"sheet":"SSI Results","index":27,"n_rows":71,"n_cols":25,"rows_kept":71,"cut":false,"hidden":false,"merged":[[51,15,51,18],[8,0,9,6],[49,0,50,6],[51,0,52,0],[51,2,52,2],[51,3,51,6],[51,7,51,10],[51,11,51,14],[51,1,52,1],[0,0,0,18],[1,0,1,18],[2,0,2,18],[3,0,3,18],[10,7,10,10],[10,11,10,14],[10,15,10,18],[10,3,10,6],[10,2,11,2],[10,0,11,0],[5,0,6,0],[5,1,6,3],[5,4,6,5],[10,1,11,1]]}
["Florida Department of Transportation",null,null,null,null,null,null,null,null,null,null,null,null,null,null,null,null,null,null,null,"Is 3L?",{"$f":"Input_NumLegs=Notes!$A$48","v":false},null,"Score_O",{"$f":"IF($V$1,\"SSI_AGI_3L_ResultsRange_Score_O\", \"SSI_AGI_4L_ResultsRange_Score_O\")","v":"SSI_AGI_4L_ResultsRange_Score_O"}]
["Safety Performance for Intersection Control Evaluation Tool",null,null,null,null,null,null,null,null,null,null,null,null,null,null,null,null,null,null,null,"is 2x2?",{"$f":"AND(AND(Input_AGI_R2_CL_L1=2,Input_AGI_R2_CL_L2=2,Input_AGI_R2_CL_L3=2),IF($V$1,TRUE,Input_AGI_R2_CL_L4=2))","v":true},null,"Score_D",{"$f":"IF($V$1,\"SSI_AGI_3L_ResultsRange_Score_D\", \"SSI_AGI_4L_ResultsRange_Score_D\")","v":"SSI_AGI_4L_ResultsRange_Score_D"}]
["Safe System for Intersection (SSI) Results",null,null,null,null,null,null,null,null,null,null,null,null,null,null,null,null,null,null,null,null,null,null,"Exp_O",{"$f":"IF($V$1,\"SSI_AGI_3L_ResultsRange_Exposure_O\", \"SSI_AGI_4L_ResultsRange_Exposure_O\")","v":"SSI_AGI_4L_ResultsRange_Exposure_O"}]
["Summary of the safe system intersection results for each alternative",null,null,null,null,null,null,null,null,null,null,null,null,null,null,null,null,null,null,null,null,null,null,"Exp_D",{"$f":"IF($V$1,\"SSI_AGI_3L_ResultsRange_Exposure_D\", \"SSI_AGI_4L_ResultsRange_Exposure_D\")","v":"SSI_AGI_4L_ResultsRange_Exposure_D"}]
[null,null,null,null,null,null,null,null,null,null,null,null,null,null,null,null,null,null,null,null,null,null,null,"ExistExp_O",{"$f":"IF($V$1,\"SSI_AGI_3L_ResultsRange_ExistExp_O\", \"SSI_AGI_4L_ResultsRange_ExistExp_O\")","v":"SSI_AGI_4L_ResultsRange_ExistExp_O"}]
["Conversion of Existing Intersection Type:",null,null,null,"Select from Dropdown List",null,null,null,null,null,null,null,null,null,null,null,null,null,null,null,null,null,null,"ExistExp_D",{"$f":"IF($V$1,\"SSI_AGI_3L_ResultsRange_ExistExp_D\", \"SSI_AGI_4L_ResultsRange_ExistExp_D\")","v":"SSI_AGI_4L_ResultsRange_ExistExp_D"}]
[null,null,null,null,null,null,null,null,null,null,null,null,null,null,null,null,null,null,null,null,null,null,null,"AvgPFSI_O",{"$f":"IF($V$1,\"SSI_AGI_3L_ResultsRange_AvgPFSI_O\",\"SSI_AGI_4L_ResultsRange_AvgPFSI_O\")","v":"SSI_AGI_4L_ResultsRange_AvgPFSI_O"}]
[null,null,null,null,null,null,null,null,null,null,null,null,null,null,null,null,null,null,null,null,null,null,null,"AvgPFSI_D",{"$f":"IF($V$1,\"SSI_AGI_3L_ResultsRange_AvgPFSI_D\",\"SSI_AGI_4L_ResultsRange_AvgPFSI_D\")","v":"SSI_AGI_4L_ResultsRange_AvgPFSI_D"}]
["Opening Year Results",null,null,null,null,null,null,null,null,null,null,null,null,null,null,null,null,null,null,null,null,null,null,"AvgComp_O",{"$f":"IF($V$1,\"SSI_AGI_3L_ResultsRange_AvgComp_O\",\"SSI_AGI_4L_ResultsRange_AvgComp_O\")","v":"SSI_AGI_4L_ResultsRange_AvgComp_O"}]
[null,null,null,null,null,null,null,null,null,null,null,null,null,null,null,null,null,null,null,null,null,null,null,"AvgComp_D",{"$f":"IF($V$1,\"SSI_AGI_3L_ResultsRange_AvgComp_D\",\"SSI_AGI_4L_ResultsRange_AvgComp_D\")","v":"SSI_AGI_4L_ResultsRange_AvgComp_D"}]
["Control Strategy","SSI Ref Worksheet Name","SSI Score","SSI Conflict Type Score",null,null,null,"Exposure (Relative to Existing)",null,null,null,"Average P(FSI)",null,null,null,"Average Complexity"]
[null,null,null,"Nonmotorized","Crossing","Merging","Diverging","Nonmotorized","Crossing","Merging","Diverging","Nonmotorized","Crossing","Merging","Diverging","Nonmotorized","Crossing","Merging","Diverging",null,null,null,null,"3L","4L"]
["Traffic Signal",{"$f":"IF($V$1,X13,Y13)","v":"Trad_Sig"},{"$f":"IF($B13=\"--\",\"--\",HLOOKUP($B13,INDIRECT($Y$1),6,FALSE)*100)","v":{"$error":"#VALUE!"}},{"$f":"IF($B13=\"--\",\"--\",HLOOKUP($B13,INDIRECT($Y$1),5,FALSE)*100)","v":{"$error":"#VALUE!"}},{"$f":"IF($B13=\"--\",\"--\",HLOOKUP($B13,INDIRECT($Y$1),2,FALSE)*100)","v":{"$error":"#VALUE!"}},{"$f":"IF($B13=\"--\",\"--\",HLOOKUP($B13,INDIRECT($Y$1),3,FALSE)*100)","v":{"$error":"#VALUE!"}},{"$f":"IF($B13=\"--\",\"--\",HLOOKUP($B13,INDIRECT($Y$1),4,FALSE)*100)","v":{"$error":"#VALUE!"}},{"$f":"IF($B13=\"--\",\"--\",HLOOKUP($B13,INDIRECT($Y$3),5,FALSE)/VLOOKUP(H$12,INDIRECT($Y$5),2,FALSE))","v":{"$error":"#VALUE!"}},{"$f":"IF($B13=\"--\",\"--\",HLOOKUP($B13,INDIRECT($Y$3),2,FALSE)/VLOOKUP(I$12,INDIRECT($Y$5),2,FALSE))","v":{"$error":"#VALUE!"}},{"$f":"IF($B13=\"--\",\"--\",HLOOKUP($B13,INDIRECT($Y$3),3,FALSE)/VLOOKUP(J$12,INDIRECT($Y$5),2,FALSE))","v":{"$error":"#VALUE!"}},{"$f":"IF($B13=\"--\",\"--\",HLOOKUP($B13,INDIRECT($Y$3),4,FALSE)/VLOOKUP(K$12,INDIRECT($Y$5),2,FALSE))","v":{"$error":"#VALUE!"}},{"$f":"IF($B13=\"--\",\"--\",HLOOKUP($B13,INDIRECT($Y$7),5,FALSE))","v":0.1509824444712258},{"$f":"IF($B13=\"--\",\"--\",HLOOKUP($B13,INDIRECT($Y$7),2,FALSE))","v":8.9184076726743378E-3},{"$f":"IF($B13=\"--\",\"--\",HLOOKUP($B13,INDIRECT($Y$7),3,FALSE))","v":1.4312444132106267E-3},{"$f":"IF($B13=\"--\",\"--\",HLOOKUP($B13,INDIRECT($Y$7),4,FALSE))","v":4.822408665896633E-4},{"$f":"IF($B13=\"--\",\"--\",HLOOKUP($B13,INDIRECT($Y$9),5,FALSE))","v":0.19166666666666665},{"$f":"IF($B13=\"--\",\"--\",HLOOKUP($B13,INDIRECT($Y$9),2,FALSE))","v":0.20333333333333334},{"$f":"IF($B13=\"--\",\"--\",HLOOKUP($B13,INDIRECT($Y$9),3,FALSE))","v":0.16833333333333328},{"$f":"IF($B13=\"--\",\"--\",HLOOKUP($B13,INDIRECT($Y$9),4,FALSE))","v":1},null,null,null,null,"TradT_Sig","Trad_Sig"]
["Traffic Signal (Alt)","Trad_Sig",{"$error":"#VALUE!"},{"$error":"#VALUE!"},{"$error":"#VALUE!"},{"$error":"#VALUE!"},{"$error":"#VALUE!"},{"$f":"IF($B14=\"--\",\"--\",HLOOKUP($B14,INDIRECT($Y$3),5,FALSE)/VLOOKUP(H$12,INDIRECT($Y$5),2,FALSE))","v":{"$error":"#VALUE!"}},{"$f":"IF($B14=\"--\",\"--\",HLOOKUP($B14,INDIRECT($Y$3),2,FALSE)/VLOOKUP(I$12,INDIRECT($Y$5),2,FALSE))","v":{"$error":"#VALUE!"}},{"$f":"IF($B14=\"--\",\"--\",HLOOKUP($B14,INDIRECT($Y$3),3,FALSE)/VLOOKUP(J$12,INDIRECT($Y$5),2,FALSE))","v":{"$error":"#VALUE!"}},{"$f":"IF($B14=\"--\",\"--\",HLOOKUP($B14,INDIRECT($Y$3),4,FALSE)/VLOOKUP(K$12,INDIRECT($Y$5),2,FALSE))","v":{"$error":"#VALUE!"}},{"$f":"IF($B14=\"--\",\"--\",HLOOKUP($B14,INDIRECT($Y$7),5,FALSE))","v":0.1509824444712258},{"$f":"IF($B14=\"--\",\"--\",HLOOKUP($B14,INDIRECT($Y$7),2,FALSE))","v":8.9184076726743378E-3},{"$f":"IF($B14=\"--\",\"--\",HLOOKUP($B14,INDIRECT($Y$7),3,FALSE))","v":1.4312444132106267E-3},{"$f":"IF($B14=\"--\",\"--\",HLOOKUP($B14,INDIRECT($Y$7),4,FALSE))","v":4.822408665896633E-4},{"$f":"IF($B14=\"--\",\"--\",HLOOKUP($B14,INDIRECT($Y$9),5,FALSE))","v":0.19166666666666665},{"$f":"IF($B14=\"--\",\"--\",HLOOKUP($B14,INDIRECT($Y$9),2,FALSE))","v":0.20333333333333334},{"$f":"IF($B14=\"--\",\"--\",HLOOKUP($B14,INDIRECT($Y$9),3,FALSE))","v":0.16833333333333328},{"$f":"IF($B14=\"--\",\"--\",HLOOKUP($B14,INDIRECT($Y$9),4,FALSE))","v":1},null,null,null,null,"TradT_Sig","Trad_Sig"]
["Minor Road Stop","Trad_MinorStop",{"$error":"#VALUE!"},{"$error":"#VALUE!"},{"$error":"#VALUE!"},{"$error":"#VALUE!"},{"$error":"#VALUE!"},{"$error":"#VALUE!"},{"$error":"#VALUE!"},{"$error":"#VALUE!"},{"$error":"#VALUE!"},{"$f":"IF($B15=\"--\",\"--\",HLOOKUP($B15,INDIRECT($Y$7),5,FALSE))","v":0.1509824444712258},7.2692063565330681E-3,1.4312444132106267E-3,4.822408665896633E-4,0.28749999999999981,0.25312499999999999,0.24166666666666667,1,null,null,null,null,"TradT_MRSC","Trad_MinorStop"]
["All Way Stop","Trad_AllStop",{"$error":"#VALUE!"},{"$error":"#VALUE!"},{"$error":"#VALUE!"},{"$error":"#VALUE!"},{"$error":"#VALUE!"},{"$error":"#VALUE!"},{"$error":"#VALUE!"},{"$error":"#VALUE!"},{"$error":"#VALUE!"},0.18722320043153562,1.0895928064475997E-2,1.0817075175764881E-3,6.4061388075216071E-7,0.24166666666666656,0.24166666666666667,0.24166666666666667,1,null,null,null,null,"TradT_AWSC","Trad_AllStop"]
["1-Lane Roundabout","RAB1x1",{"$error":"#VALUE!"},{"$error":"#VALUE!"},{"$error":"#VALUE!"},{"$error":"#VALUE!"},{"$error":"#VALUE!"},{"$error":"#VALUE!"},{"$error":"#VALUE!"},{"$error":"#VALUE!"},{"$error":"#VALUE!"},0.39383342180943814,5.0568987822489503E-3,1.5675231678502679E-3,1.5041666188707122E-5,1.2777777777777777,0.61111111111111105,0.61111111111111105,1,null,null,null,null,"T_1x1_RAB","RAB1x1"]
["Mixed Lane Roundabout",0,{"$error":"#N/A"},{"$error":"#N/A"},{"$error":"#N/A"},{"$error":"#N/A"},{"$error":"#N/A"},{"$error":"#N/A"},{"$error":"#N/A"},{"$error":"#N/A"},{"$error":"#N/A"},{"$error":"#N/A"},{"$error":"#N/A"},{"$error":"#N/A"},{"$error":"#N/A"},{"$error":"#N/A"},{"$error":"#N/A"},{"$error":"#N/A"},{"$error":"#N/A"}]
["2-Lane Roundabout","RAB2x2",{"$error":"#VALUE!"},{"$error":"#VALUE!"},{"$error":"#VALUE!"},{"$error":"#VALUE!"},{"$error":"#VALUE!"},{"$error":"#VALUE!"},{"$error":"#VALUE!"},{"$error":"#VALUE!"},{"$error":"#VALUE!"},0.39383342180943814,5.0568987822489503E-3,1.5675231678502679E-3,1.5041666188707122E-5,2.5555555555555554,1.2222222222222221,1.1458333333333333,1,null,null,null,null,{"$f":"IF($V$2,\"T_2x2_RAB\",\"T_2x1_RAB\")","v":"T_2x2_RAB"},{"$f":"IF($V$2,\"RAB2x2\",\"RAB2x1\")","v":"RAB2x2"}]
["Displaced Left Turn (DLT)","FDLT",{"$error":"#VALUE!"},{"$error":"#VALUE!"},{"$error":"#VALUE!"},{"$error":"#VALUE!"},{"$error":"#VALUE!"},{"$error":"#VALUE!"},{"$error":"#VALUE!"},{"$error":"#VALUE!"},{"$error":"#VALUE!"},0.15707885258235535,2.277266806770956E-3,1.3165552680607403E-3,4.822408665896633E-4,0.60399999999999976,0.16833333333333325,0.25083333333333324,1,null,null,null,null,"--","FDLT"]
["Partial Displaced Left Turn","PDLT",{"$error":"#VALUE!"},{"$error":"#VALUE!"},{"$error":"#VALUE!"},{"$error":"#VALUE!"},{"$error":"#VALUE!"},{"$error":"#VALUE!"},{"$error":"#VALUE!"},{"$error":"#VALUE!"},{"$error":"#VALUE!"},0.15707885258235535,5.2283381018710306E-3,1.4312444132106267E-3,4.822408665896633E-4,0.64599999999999969,0.1883333333333333,0.25083333333333324,1,null,null,null,null,"T_PDLT","PDLT"]
["Full Median U-Turn (MUT)","MUT",{"$error":"#VALUE!"},{"$error":"#VALUE!"},{"$error":"#VALUE!"},{"$error":"#VALUE!"},{"$error":"#VALUE!"},{"$error":"#VALUE!"},{"$error":"#VALUE!"},{"$error":"#VALUE!"},{"$error":"#VALUE!"},0.12064023473032172,1.9241490923034819E-3,6.3746187552705285E-4,6.427742841593004E-4,0.17864583333333334,0.16833333333333331,0.16833333333333331,1,null,null,null,null,"--","MUT"]
["Signalized RCUT","RCUT_Sig",{"$error":"#VALUE!"},{"$error":"#VALUE!"},{"$error":"#VALUE!"},{"$error":"#VALUE!"},{"$error":"#VALUE!"},{"$error":"#VALUE!"},{"$error":"#VALUE!"},{"$error":"#VALUE!"},{"$error":"#VALUE!"},0.11704517467278089,1.4431392232699444E-3,4.5310508779093824E-4,1.1236071539556978E-3,0.26933333333333331,0.16833333333333331,0.16833333333333331,1,null,null,null,null,"T_RCUT_Sig","RCUT_Sig"]
["Unsignalized RCUT",{"$f":"IF($V$1,X24,Y24)","v":"RCUT_Unsig"},{"$error":"#VALUE!"},{"$error":"#VALUE!"},{"$error":"#VALUE!"},{"$error":"#VALUE!"},{"$error":"#VALUE!"},{"$error":"#VALUE!"},{"$error":"#VALUE!"},{"$error":"#VALUE!"},{"$error":"#VALUE!"},0.11704517467278089,1.4431392232699444E-3,4.5310508779093824E-4,1.1236071539556978E-3,0.48749999999999982,0.24166666666666664,0.24166666666666667,1,null,null,null,null,"T_RCUT_Unsig","RCUT_Unsig"]
["Signalized Thru-Cut","ThruCut_Sig",{"$error":"#VALUE!"},{"$error":"#VALUE!"},{"$error":"#VALUE!"},{"$error":"#VALUE!"},{"$error":"#VALUE!"},{"$error":"#VALUE!"},{"$error":"#VALUE!"},{"$error":"#VALUE!"},{"$error":"#VALUE!"},0.13706201362756812,7.9611599969504048E-3,1.1807676081631436E-3,8.4286551893696137E-4,0.26083333333333325,0.16833333333333328,0.16833333333333328,1,null,null,null,null,"--","ThruCut_Sig"]
["Unsignalized Thru-Cut","ThruCut_Unsig",{"$error":"#VALUE!"},{"$error":"#VALUE!"},{"$error":"#VALUE!"},{"$error":"#VALUE!"},{"$error":"#VALUE!"},{"$error":"#VALUE!"},{"$error":"#VALUE!"},{"$error":"#VALUE!"},{"$error":"#VALUE!"},0.13706201362756812,7.9611599969504048E-3,1.1807676081631436E-3,8.4286551893696137E-4,0.38291666666666657,0.24166666666666667,0.24166666666666667,1,null,null,null,null,"--","ThruCut_Unsig"]
["Continuous Green-T","--",{"$f":"IF($B27=\"--\",\"--\",HLOOKUP($B27,INDIRECT($Y$1),6,FALSE)*100)","v":"--"},{"$f":"IF($B27=\"--\",\"--\",HLOOKUP($B27,INDIRECT($Y$1),5,FALSE)*100)","v":"--"},{"$f":"IF($B27=\"--\",\"--\",HLOOKUP($B27,INDIRECT($Y$1),2,FALSE)*100)","v":"--"},{"$f":"IF($B27=\"--\",\"--\",HLOOKUP($B27,INDIRECT($Y$1),3,FALSE)*100)","v":"--"},{"$f":"IF($B27=\"--\",\"--\",HLOOKUP($B27,INDIRECT($Y$1),4,FALSE)*100)","v":"--"},{"$f":"IF($B27=\"--\",\"--\",HLOOKUP($B27,INDIRECT($Y$3),5,FALSE)/VLOOKUP(H$12,INDIRECT($Y$5),2,FALSE))","v":"--"},{"$f":"IF($B27=\"--\",\"--\",HLOOKUP($B27,INDIRECT($Y$3),2,FALSE)/VLOOKUP(I$12,INDIRECT($Y$5),2,FALSE))","v":"--"},{"$f":"IF($B27=\"--\",\"--\",HLOOKUP($B27,INDIRECT($Y$3),3,FALSE)/VLOOKUP(J$12,INDIRECT($Y$5),2,FALSE))","v":"--"},{"$f":"IF($B27=\"--\",\"--\",HLOOKUP($B27,INDIRECT($Y$3),4,FALSE)/VLOOKUP(K$12,INDIRECT($Y$5),2,FALSE))","v":"--"},{"$f":"IF($B27=\"--\",\"--\",HLOOKUP($B27,INDIRECT($Y$7),5,FALSE))","v":"--"},{"$f":"IF($B27=\"--\",\"--\",HLOOKUP($B27,INDIRECT($Y$7),2,FALSE))","v":"--"},{"$f":"IF($B27=\"--\",\"--\",HLOOKUP($B27,INDIRECT($Y$7),3,FALSE))","v":"--"},{"$f":"IF($B27=\"--\",\"--\",HLOOKUP($B27,INDIRECT($Y$7),4,FALSE))","v":"--"},{"$f":"IF($B27=\"--\",\"--\",HLOOKUP($B27,INDIRECT($Y$9),5,FALSE))","v":"--"},{"$f":"IF($B27=\"--\",\"--\",HLOOKUP($B27,INDIRECT($Y$9),2,FALSE))","v":"--"},{"$f":"IF($B27=\"--\",\"--\",HLOOKUP($B27,INDIRECT($Y$9),3,FALSE))","v":"--"},{"$f":"IF($B27=\"--\",\"--\",HLOOKUP($B27,INDIRECT($Y$9),4,FALSE))","v":"--"},null,null,null,null,"CGT","--"]
["Jughandle","Jughandle",{"$f":"IF($B28=\"--\",\"--\",HLOOKUP($B28,INDIRECT($Y$1),6,FALSE)*100)","v":{"$error":"#VALUE!"}},{"$f":"IF($B28=\"--\",\"--\",HLOOKUP($B28,INDIRECT($Y$1),5,FALSE)*100)","v":{"$error":"#VALUE!"}},{"$f":"IF($B28=\"--\",\"--\",HLOOKUP($B28,INDIRECT($Y$1),2,FALSE)*100)","v":{"$error":"#VALUE!"}},{"$f":"IF($B28=\"--\",\"--\",HLOOKUP($B28,INDIRECT($Y$1),3,FALSE)*100)","v":{"$error":"#VALUE!"}},{"$f":"IF($B28=\"--\",\"--\",HLOOKUP($B28,INDIRECT($Y$1),4,FALSE)*100)","v":{"$error":"#VALUE!"}},{"$f":"IF($B28=\"--\",\"--\",HLOOKUP($B28,INDIRECT($Y$3),5,FALSE)/VLOOKUP(H$12,INDIRECT($Y$5),2,FALSE))","v":{"$error":"#VALUE!"}},{"$f":"IF($B28=\"--\",\"--\",HLOOKUP($B28,INDIRECT($Y$3),2,FALSE)/VLOOKUP(I$12,INDIRECT($Y$5),2,FALSE))","v":{"$error":"#VALUE!"}},{"$f":"IF($B28=\"--\",\"--\",HLOOKUP($B28,INDIRECT($Y$3),3,FALSE)/VLOOKUP(J$12,INDIRECT($Y$5),2,FALSE))","v":{"$error":"#VALUE!"}},{"$f":"IF($B28=\"--\",\"--\",HLOOKUP($B28,INDIRECT($Y$3),4,FALSE)/VLOOKUP(K$12,INDIRECT($Y$5),2,FALSE))","v":{"$error":"#VALUE!"}},{"$f":"IF($B28=\"--\",\"--\",HLOOKUP($B28,INDIRECT($Y$7),5,FALSE))","v":0.1451556875126909},{"$f":"IF($B28=\"--\",\"--\",HLOOKUP($B28,INDIRECT($Y$7),2,FALSE))","v":6.0762069294888095E-3},{"$f":"IF($B28=\"--\",\"--\",HLOOKUP($B28,INDIRECT($Y$7),3,FALSE))","v":1.6776967527570544E-3},{"$f":"IF($B28=\"--\",\"--\",HLOOKUP($B28,INDIRECT($Y$7),4,FALSE))","v":3.0192854041601427E-4},{"$f":"IF($B28=\"--\",\"--\",HLOOKUP($B28,INDIRECT($Y$9),5,FALSE))","v":0.18659420289855075},{"$f":"IF($B28=\"--\",\"--\",HLOOKUP($B28,INDIRECT($Y$9),2,FALSE))","v":0.20064102564102565},{"$f":"IF($B28=\"--\",\"--\",HLOOKUP($B28,INDIRECT($Y$9),3,FALSE))","v":0.16833333333333328},{"$f":"IF($B28=\"--\",\"--\",HLOOKUP($B28,INDIRECT($Y$9),4,FALSE))","v":1},null,null,null,null,"--","Jughandle"]
["Bowtie","Bowtie",{"$f":"IF($B29=\"--\",\"--\",HLOOKUP($B29,INDIRECT($Y$1),6,FALSE)*100)","v":{"$error":"#VALUE!"}},{"$f":"IF($B29=\"--\",\"--\",HLOOKUP($B29,INDIRECT($Y$1),5,FALSE)*100)","v":{"$error":"#VALUE!"}},{"$f":"IF($B29=\"--\",\"--\",HLOOKUP($B29,INDIRECT($Y$1),2,FALSE)*100)","v":{"$error":"#VALUE!"}},{"$f":"IF($B29=\"--\",\"--\",HLOOKUP($B29,INDIRECT($Y$1),3,FALSE)*100)","v":{"$error":"#VALUE!"}},{"$f":"IF($B29=\"--\",\"--\",HLOOKUP($B29,INDIRECT($Y$1),4,FALSE)*100)","v":{"$error":"#VALUE!"}},{"$f":"IF($B29=\"--\",\"--\",HLOOKUP($B29,INDIRECT($Y$3),5,FALSE)/VLOOKUP(H$12,INDIRECT($Y$5),2,FALSE))","v":{"$error":"#VALUE!"}},{"$f":"IF($B29=\"--\",\"--\",HLOOKUP($B29,INDIRECT($Y$3),2,FALSE)/VLOOKUP(I$12,INDIRECT($Y$5),2,FALSE))","v":{"$error":"#VALUE!"}},{"$f":"IF($B29=\"--\",\"--\",HLOOKUP($B29,INDIRECT($Y$3),3,FALSE)/VLOOKUP(J$12,INDIRECT($Y$5),2,FALSE))","v":{"$error":"#VALUE!"}},{"$f":"IF($B29=\"--\",\"--\",HLOOKUP($B29,INDIRECT($Y$3),4,FALSE)/VLOOKUP(K$12,INDIRECT($Y$5),2,FALSE))","v":{"$error":"#VALUE!"}},{"$f":"IF($B29=\"--\",\"--\",HLOOKUP($B29,INDIRECT($Y$7),5,FALSE))","v":0.13315075907706375},{"$f":"IF($B29=\"--\",\"--\",HLOOKUP($B29,INDIRECT($Y$7),2,FALSE))","v":1.9241490923034821E-3},{"$f":"IF($B29=\"--\",\"--\",HLOOKUP($B29,INDIRECT($Y$7),3,FALSE))","v":8.8265268349339355E-4},{"$f":"IF($B29=\"--\",\"--\",HLOOKUP($B29,INDIRECT($Y$7),4,FALSE))","v":1.7027218042108246E-4},{"$f":"IF($B29=\"--\",\"--\",HLOOKUP($B29,INDIRECT($Y$9),5,FALSE))","v":0.16833333333333331},{"$f":"IF($B29=\"--\",\"--\",HLOOKUP($B29,INDIRECT($Y$9),2,FALSE))","v":0.16833333333333331},{"$f":"IF($B29=\"--\",\"--\",HLOOKUP($B29,INDIRECT($Y$9),3,FALSE))","v":0.31592592592592589},{"$f":"IF($B29=\"--\",\"--\",HLOOKUP($B29,INDIRECT($Y$9),4,FALSE))","v":1},null,null,null,null,"--","Bowtie"]
["QR","QR",{"$f":"IF($B30=\"--\",\"--\",HLOOKUP($B30,INDIRECT($Y$1),6,FALSE)*100)","v":{"$error":"#VALUE!"}},{"$f":"IF($B30=\"--\",\"--\",HLOOKUP($B30,INDIRECT($Y$1),5,FALSE)*100)","v":{"$error":"#VALUE!"}},{"$f":"IF($B30=\"--\",\"--\",HLOOKUP($B30,INDIRECT($Y$1),2,FALSE)*100)","v":{"$error":"#VALUE!"}},{"$f":"IF($B30=\"--\",\"--\",HLOOKUP($B30,INDIRECT($Y$1),3,FALSE)*100)","v":{"$error":"#VALUE!"}},{"$f":"IF($B30=\"--\",\"--\",HLOOKUP($B30,INDIRECT($Y$1),4,FALSE)*100)","v":{"$error":"#VALUE!"}},{"$f":"IF($B30=\"--\",\"--\",HLOOKUP($B30,INDIRECT($Y$3),5,FALSE)/VLOOKUP(H$12,INDIRECT($Y$5),2,FALSE))","v":{"$error":"#VALUE!"}},{"$f":"IF($B30=\"--\",\"--\",HLOOKUP($B30,INDIRECT($Y$3),2,FALSE)/VLOOKUP(I$12,INDIRECT($Y$5),2,FALSE))","v":{"$error":"#VALUE!"}},{"$f":"IF($B30=\"--\",\"--\",HLOOKUP($B30,INDIRECT($Y$3),3,FALSE)/VLOOKUP(J$12,INDIRECT($Y$5),2,FALSE))","v":{"$error":"#VALUE!"}},{"$f":"IF($B30=\"--\",\"--\",HLOOKUP($B30,INDIRECT($Y$3),4,FALSE)/VLOOKUP(K$12,INDIRECT($Y$5),2,FALSE))","v":{"$error":"#VALUE!"}},{"$f":"IF($B30=\"--\",\"--\",HLOOKUP($B30,INDIRECT($Y$7),5,FALSE))","v":0.11388044420727753},{"$f":"IF($B30=\"--\",\"--\",HLOOKUP($B30,INDIRECT($Y$7),2,FALSE))","v":2.8275308066482534E-3},{"$f":"IF($B30=\"--\",\"--\",HLOOKUP($B30,INDIRECT($Y$7),3,FALSE))","v":1.1332740057158647E-3},{"$f":"IF($B30=\"--\",\"--\",HLOOKUP($B30,INDIRECT($Y$7),4,FALSE))","v":4.8270129633717158E-4},{"$f":"IF($B30=\"--\",\"--\",HLOOKUP($B30,INDIRECT($Y$9),5,FALSE))","v":0.18233333333333321},{"$f":"IF($B30=\"--\",\"--\",HLOOKUP($B30,INDIRECT($Y$9),2,FALSE))","v":0.1963333333333333},{"$f":"IF($B30=\"--\",\"--\",HLOOKUP($B30,INDIRECT($Y$9),3,FALSE))","v":0.16833333333333328},{"$f":"IF($B30=\"--\",\"--\",HLOOKUP($B30,INDIRECT($Y$9),4,FALSE))","v":1}]
[]
[]
[]
[]
[]
[]
[]
[]
[]
[]
[]
[]
[]
[]
[]
[]
[]
[]
[]
["Design Year Results"]
[]
["Control Strategy","SSI Ref Worksheet Name","SSI Score","SSI Conflict Type Score",null,null,null,"Exposure (Relative to Existing)",null,null,null,"Average P(FSI)",null,null,null,"Average Complexity"]
[null,null,null,"Nonmotorized","Crossing","Merging","Diverging","Nonmotorized","Crossing","Merging","Diverging","Nonmotorized","Crossing","Merging","Diverging","Nonmotorized","Crossing","Merging","Diverging"]
["Traffic Signal",{"$f":"IF($V$1,X13,Y13)","v":"Trad_Sig"},{"$f":"IF($B54=\"--\",\"--\",HLOOKUP($B54,INDIRECT($Y$2),6,FALSE)*100)","v":{"$error":"#VALUE!"}},{"$f":"IF($B54=\"--\",\"--\",HLOOKUP($B54,INDIRECT($Y$2),5,FALSE)*100)","v":{"$error":"#VALUE!"}},{"$f":"IF($B54=\"--\",\"--\",HLOOKUP($B54,INDIRECT($Y$2),2,FALSE)*100)","v":{"$error":"#VALUE!"}},{"$f":"IF($B54=\"--\",\"--\",HLOOKUP($B54,INDIRECT($Y$2),3,FALSE)*100)","v":{"$error":"#VALUE!"}},{"$f":"IF($B54=\"--\",\"--\",HLOOKUP($B54,INDIRECT($Y$2),4,FALSE)*100)","v":{"$error":"#VALUE!"}},{"$f":"IF($B54=\"--\",\"--\",HLOOKUP($B54,INDIRECT($Y$4),5,FALSE)/VLOOKUP(H$53,INDIRECT($Y$6),2,FALSE))","v":{"$error":"#VALUE!"}},{"$f":"IF($B54=\"--\",\"--\",HLOOKUP($B54,INDIRECT($Y$4),2,FALSE)/VLOOKUP(I$53,INDIRECT($Y$6),2,FALSE))","v":{"$error":"#VALUE!"}},{"$f":"IF($B54=\"--\",\"--\",HLOOKUP($B54,INDIRECT($Y$4),3,FALSE)/VLOOKUP(J$53,INDIRECT($Y$6),2,FALSE))","v":{"$error":"#VALUE!"}},{"$f":"IF($B54=\"--\",\"--\",HLOOKUP($B54,INDIRECT($Y$4),4,FALSE)/VLOOKUP(K$53,INDIRECT($Y$6),2,FALSE))","v":{"$error":"#VALUE!"}},{"$f":"IF($B54=\"--\",\"--\",HLOOKUP($B54,INDIRECT($Y$8),5,FALSE))","v":0.1509824444712258},{"$f":"IF($B54=\"--\",\"--\",HLOOKUP($B54,INDIRECT($Y$8),2,FALSE))","v":8.9184076726743378E-3},{"$f":"IF($B54=\"--\",\"--\",HLOOKUP($B54,INDIRECT($Y$8),3,FALSE))","v":1.4312444132106267E-3},{"$f":"IF($B54=\"--\",\"--\",HLOOKUP($B54,INDIRECT($Y$8),4,FALSE))","v":4.822408665896633E-4},{"$f":"IF($B54=\"--\",\"--\",HLOOKUP($B54,INDIRECT($Y$10),5,FALSE))","v":0.19166666666666665},{"$f":"IF($B54=\"--\",\"--\",HLOOKUP($B54,INDIRECT($Y$10),2,FALSE))","v":0.20333333333333334},{"$f":"IF($B54=\"--\",\"--\",HLOOKUP($B54,INDIRECT($Y$10),3,FALSE))","v":0.16833333333333328},{"$f":"IF($B54=\"--\",\"--\",HLOOKUP($B54,INDIRECT($Y$10),4,FALSE))","v":1}]
["Traffic Signal (Alt)","Trad_Sig",{"$error":"#VALUE!"},{"$error":"#VALUE!"},{"$error":"#VALUE!"},{"$error":"#VALUE!"},{"$error":"#VALUE!"},{"$f":"IF($B55=\"--\",\"--\",HLOOKUP($B55,INDIRECT($Y$4),5,FALSE)/VLOOKUP(H$53,INDIRECT($Y$6),2,FALSE))","v":{"$error":"#VALUE!"}},{"$f":"IF($B55=\"--\",\"--\",HLOOKUP($B55,INDIRECT($Y$4),2,FALSE)/VLOOKUP(I$53,INDIRECT($Y$6),2,FALSE))","v":{"$error":"#VALUE!"}},{"$f":"IF($B55=\"--\",\"--\",HLOOKUP($B55,INDIRECT($Y$4),3,FALSE)/VLOOKUP(J$53,INDIRECT($Y$6),2,FALSE))","v":{"$error":"#VALUE!"}},{"$f":"IF($B55=\"--\",\"--\",HLOOKUP($B55,INDIRECT($Y$4),4,FALSE)/VLOOKUP(K$53,INDIRECT($Y$6),2,FALSE))","v":{"$error":"#VALUE!"}},{"$f":"IF($B55=\"--\",\"--\",HLOOKUP($B55,INDIRECT($Y$8),5,FALSE))","v":0.1509824444712258},{"$f":"IF($B55=\"--\",\"--\",HLOOKUP($B55,INDIRECT($Y$8),2,FALSE))","v":8.9184076726743378E-3},{"$f":"IF($B55=\"--\",\"--\",HLOOKUP($B55,INDIRECT($Y$8),3,FALSE))","v":1.4312444132106267E-3},{"$f":"IF($B55=\"--\",\"--\",HLOOKUP($B55,INDIRECT($Y$8),4,FALSE))","v":4.822408665896633E-4},{"$f":"IF($B55=\"--\",\"--\",HLOOKUP($B55,INDIRECT($Y$10),5,FALSE))","v":0.19166666666666665},{"$f":"IF($B55=\"--\",\"--\",HLOOKUP($B55,INDIRECT($Y$10),2,FALSE))","v":0.20333333333333334},{"$f":"IF($B55=\"--\",\"--\",HLOOKUP($B55,INDIRECT($Y$10),3,FALSE))","v":0.16833333333333328},{"$f":"IF($B55=\"--\",\"--\",HLOOKUP($B55,INDIRECT($Y$10),4,FALSE))","v":1}]
["Minor Road Stop","Trad_MinorStop",{"$error":"#VALUE!"},{"$error":"#VALUE!"},{"$error":"#VALUE!"},{"$error":"#VALUE!"},{"$error":"#VALUE!"},{"$error":"#VALUE!"},{"$error":"#VALUE!"},{"$error":"#VALUE!"},{"$error":"#VALUE!"},0.1509824444712258,7.2692063565330681E-3,1.4312444132106267E-3,4.822408665896633E-4,0.28749999999999981,0.25312499999999999,0.24166666666666667,1]
["All Way Stop","Trad_AllStop",{"$error":"#VALUE!"},{"$error":"#VALUE!"},{"$error":"#VALUE!"},{"$error":"#VALUE!"},{"$error":"#VALUE!"},{"$error":"#VALUE!"},{"$error":"#VALUE!"},{"$error":"#VALUE!"},{"$error":"#VALUE!"},0.18722320043153562,1.0895928064475997E-2,1.0817075175764881E-3,6.4061388075216071E-7,0.24166666666666656,0.24166666666666667,0.24166666666666667,1]
["1-Lane Roundabout","RAB1x1",{"$error":"#VALUE!"},{"$error":"#VALUE!"},{"$error":"#VALUE!"},{"$error":"#VALUE!"},{"$error":"#VALUE!"},{"$error":"#VALUE!"},{"$error":"#VALUE!"},{"$error":"#VALUE!"},{"$error":"#VALUE!"},0.39383342180943814,5.0568987822489503E-3,1.5675231678502679E-3,1.5041666188707122E-5,1.2777777777777777,0.61111111111111105,0.61111111111111105,1]
["RAB2x1",0,{"$error":"#N/A"},{"$error":"#N/A"},{"$error":"#N/A"},{"$error":"#N/A"},{"$error":"#N/A"},{"$error":"#N/A"},{"$error":"#N/A"},{"$error":"#N/A"},{"$error":"#N/A"},{"$error":"#N/A"},{"$error":"#N/A"},{"$error":"#N/A"},{"$error":"#N/A"},{"$error":"#N/A"},{"$error":"#N/A"},{"$error":"#N/A"},{"$error":"#N/A"}]
["2-Lane Roundabout","RAB2x2",{"$error":"#VALUE!"},{"$error":"#VALUE!"},{"$error":"#VALUE!"},{"$error":"#VALUE!"},{"$error":"#VALUE!"},{"$error":"#VALUE!"},{"$error":"#VALUE!"},{"$error":"#VALUE!"},{"$error":"#VALUE!"},0.39383342180943814,5.0568987822489503E-3,1.5675231678502679E-3,1.5041666188707122E-5,2.5555555555555554,1.2222222222222221,1.1458333333333333,1]
["Displaced Left Turn (DLT)","FDLT",{"$error":"#VALUE!"},{"$error":"#VALUE!"},{"$error":"#VALUE!"},{"$error":"#VALUE!"},{"$error":"#VALUE!"},{"$error":"#VALUE!"},{"$error":"#VALUE!"},{"$error":"#VALUE!"},{"$error":"#VALUE!"},0.15707885258235535,2.277266806770956E-3,1.3165552680607403E-3,4.822408665896633E-4,0.60399999999999976,0.16833333333333325,0.25083333333333324,1]
["Partial Displaced Left Turn","PDLT",{"$error":"#VALUE!"},{"$error":"#VALUE!"},{"$error":"#VALUE!"},{"$error":"#VALUE!"},{"$error":"#VALUE!"},{"$error":"#VALUE!"},{"$error":"#VALUE!"},{"$error":"#VALUE!"},{"$error":"#VALUE!"},0.15707885258235535,5.2283381018710306E-3,1.4312444132106267E-3,4.822408665896633E-4,0.64599999999999969,0.1883333333333333,0.25083333333333324,1]
["Full Median U-Turn (MUT)","MUT",{"$error":"#VALUE!"},{"$error":"#VALUE!"},{"$error":"#VALUE!"},{"$error":"#VALUE!"},{"$error":"#VALUE!"},{"$error":"#VALUE!"},{"$error":"#VALUE!"},{"$error":"#VALUE!"},{"$error":"#VALUE!"},0.12064023473032172,1.9241490923034819E-3,6.3746187552705285E-4,6.427742841593004E-4,0.17864583333333334,0.16833333333333331,0.16833333333333331,1]
["Signalized RCUT","RCUT_Sig",{"$error":"#VALUE!"},{"$error":"#VALUE!"},{"$error":"#VALUE!"},{"$error":"#VALUE!"},{"$error":"#VALUE!"},{"$error":"#VALUE!"},{"$error":"#VALUE!"},{"$error":"#VALUE!"},{"$error":"#VALUE!"},0.11704517467278089,1.4431392232699444E-3,4.5310508779093824E-4,1.1236071539556978E-3,0.26933333333333331,0.16833333333333331,0.16833333333333331,1]
["Unsignalized RCUT","RCUT_Unsig",{"$error":"#VALUE!"},{"$error":"#VALUE!"},{"$error":"#VALUE!"},{"$error":"#VALUE!"},{"$error":"#VALUE!"},{"$error":"#VALUE!"},{"$error":"#VALUE!"},{"$error":"#VALUE!"},{"$error":"#VALUE!"},0.11704517467278089,1.4431392232699444E-3,4.5310508779093824E-4,1.1236071539556978E-3,0.48749999999999982,0.24166666666666664,0.24166666666666667,1]
["Signalized Thru Cut",{"$f":"IF($V$1,X25,Y25)","v":"ThruCut_Sig"},{"$error":"#VALUE!"},{"$error":"#VALUE!"},{"$error":"#VALUE!"},{"$error":"#VALUE!"},{"$error":"#VALUE!"},{"$error":"#VALUE!"},{"$error":"#VALUE!"},{"$error":"#VALUE!"},{"$error":"#VALUE!"},0.13706201362756812,7.9611599969504048E-3,1.1807676081631436E-3,8.4286551893696137E-4,0.26083333333333325,0.16833333333333328,0.16833333333333328,1]
["Unsignalized Thru Cut",{"$f":"IF($V$1,X26,Y26)","v":"ThruCut_Unsig"},{"$error":"#VALUE!"},{"$error":"#VALUE!"},{"$error":"#VALUE!"},{"$error":"#VALUE!"},{"$error":"#VALUE!"},{"$error":"#VALUE!"},{"$error":"#VALUE!"},{"$error":"#VALUE!"},{"$error":"#VALUE!"},0.13706201362756812,7.9611599969504048E-3,1.1807676081631436E-3,8.4286551893696137E-4,0.38291666666666657,0.24166666666666667,0.24166666666666667,1]
["Continuous Green-T",{"$f":"IF($V$1,X27,Y27)","v":"--"},{"$f":"IF($B68=\"--\",\"--\",HLOOKUP($B68,INDIRECT($Y$2),6,FALSE)*100)","v":"--"},{"$f":"IF($B68=\"--\",\"--\",HLOOKUP($B68,INDIRECT($Y$2),5,FALSE)*100)","v":"--"},{"$f":"IF($B68=\"--\",\"--\",HLOOKUP($B68,INDIRECT($Y$2),2,FALSE)*100)","v":"--"},{"$f":"IF($B68=\"--\",\"--\",HLOOKUP($B68,INDIRECT($Y$2),3,FALSE)*100)","v":"--"},{"$f":"IF($B68=\"--\",\"--\",HLOOKUP($B68,INDIRECT($Y$2),4,FALSE)*100)","v":"--"},{"$f":"IF($B68=\"--\",\"--\",HLOOKUP($B68,INDIRECT($Y$4),5,FALSE)/VLOOKUP(H$53,INDIRECT($Y$6),2,FALSE))","v":"--"},{"$f":"IF($B68=\"--\",\"--\",HLOOKUP($B68,INDIRECT($Y$4),2,FALSE)/VLOOKUP(I$53,INDIRECT($Y$6),2,FALSE))","v":"--"},{"$f":"IF($B68=\"--\",\"--\",HLOOKUP($B68,INDIRECT($Y$4),3,FALSE)/VLOOKUP(J$53,INDIRECT($Y$6),2,FALSE))","v":"--"},{"$f":"IF($B68=\"--\",\"--\",HLOOKUP($B68,INDIRECT($Y$4),4,FALSE)/VLOOKUP(K$53,INDIRECT($Y$6),2,FALSE))","v":"--"},{"$f":"IF($B68=\"--\",\"--\",HLOOKUP($B68,INDIRECT($Y$8),5,FALSE))","v":"--"},{"$f":"IF($B68=\"--\",\"--\",HLOOKUP($B68,INDIRECT($Y$8),2,FALSE))","v":"--"},{"$f":"IF($B68=\"--\",\"--\",HLOOKUP($B68,INDIRECT($Y$8),3,FALSE))","v":"--"},{"$f":"IF($B68=\"--\",\"--\",HLOOKUP($B68,INDIRECT($Y$8),4,FALSE))","v":"--"},{"$f":"IF($B68=\"--\",\"--\",HLOOKUP($B68,INDIRECT($Y$10),5,FALSE))","v":"--"},{"$f":"IF($B68=\"--\",\"--\",HLOOKUP($B68,INDIRECT($Y$10),2,FALSE))","v":"--"},{"$f":"IF($B68=\"--\",\"--\",HLOOKUP($B68,INDIRECT($Y$10),3,FALSE))","v":"--"},{"$f":"IF($B68=\"--\",\"--\",HLOOKUP($B68,INDIRECT($Y$10),4,FALSE))","v":"--"}]
["Jughandle",{"$f":"IF($V$1,X28,Y28)","v":"Jughandle"},{"$f":"IF($B69=\"--\",\"--\",HLOOKUP($B69,INDIRECT($Y$2),6,FALSE)*100)","v":{"$error":"#VALUE!"}},{"$f":"IF($B69=\"--\",\"--\",HLOOKUP($B69,INDIRECT($Y$2),5,FALSE)*100)","v":{"$error":"#VALUE!"}},{"$f":"IF($B69=\"--\",\"--\",HLOOKUP($B69,INDIRECT($Y$2),2,FALSE)*100)","v":{"$error":"#VALUE!"}},{"$f":"IF($B69=\"--\",\"--\",HLOOKUP($B69,INDIRECT($Y$2),3,FALSE)*100)","v":{"$error":"#VALUE!"}},{"$f":"IF($B69=\"--\",\"--\",HLOOKUP($B69,INDIRECT($Y$2),4,FALSE)*100)","v":{"$error":"#VALUE!"}},{"$f":"IF($B69=\"--\",\"--\",HLOOKUP($B69,INDIRECT($Y$4),5,FALSE)/VLOOKUP(H$53,INDIRECT($Y$6),2,FALSE))","v":{"$error":"#VALUE!"}},{"$f":"IF($B69=\"--\",\"--\",HLOOKUP($B69,INDIRECT($Y$4),2,FALSE)/VLOOKUP(I$53,INDIRECT($Y$6),2,FALSE))","v":{"$error":"#VALUE!"}},{"$f":"IF($B69=\"--\",\"--\",HLOOKUP($B69,INDIRECT($Y$4),3,FALSE)/VLOOKUP(J$53,INDIRECT($Y$6),2,FALSE))","v":{"$error":"#VALUE!"}},{"$f":"IF($B69=\"--\",\"--\",HLOOKUP($B69,INDIRECT($Y$4),4,FALSE)/VLOOKUP(K$53,INDIRECT($Y$6),2,FALSE))","v":{"$error":"#VALUE!"}},{"$f":"IF($B69=\"--\",\"--\",HLOOKUP($B69,INDIRECT($Y$8),5,FALSE))","v":0.1451556875126909},{"$f":"IF($B69=\"--\",\"--\",HLOOKUP($B69,INDIRECT($Y$8),2,FALSE))","v":6.0762069294888095E-3},{"$f":"IF($B69=\"--\",\"--\",HLOOKUP($B69,INDIRECT($Y$8),3,FALSE))","v":1.6776967527570544E-3},{"$f":"IF($B69=\"--\",\"--\",HLOOKUP($B69,INDIRECT($Y$8),4,FALSE))","v":3.0192854041601427E-4},{"$f":"IF($B69=\"--\",\"--\",HLOOKUP($B69,INDIRECT($Y$10),5,FALSE))","v":0.18659420289855075},{"$f":"IF($B69=\"--\",\"--\",HLOOKUP($B69,INDIRECT($Y$10),2,FALSE))","v":0.20064102564102565},{"$f":"IF($B69=\"--\",\"--\",HLOOKUP($B69,INDIRECT($Y$10),3,FALSE))","v":0.16833333333333328},{"$f":"IF($B69=\"--\",\"--\",HLOOKUP($B69,INDIRECT($Y$10),4,FALSE))","v":1}]
["Bowtie",{"$f":"IF($V$1,X29,Y29)","v":"Bowtie"},{"$f":"IF($B70=\"--\",\"--\",HLOOKUP($B70,INDIRECT($Y$2),6,FALSE)*100)","v":{"$error":"#VALUE!"}},{"$f":"IF($B70=\"--\",\"--\",HLOOKUP($B70,INDIRECT($Y$2),5,FALSE)*100)","v":{"$error":"#VALUE!"}},{"$f":"IF($B70=\"--\",\"--\",HLOOKUP($B70,INDIRECT($Y$2),2,FALSE)*100)","v":{"$error":"#VALUE!"}},{"$f":"IF($B70=\"--\",\"--\",HLOOKUP($B70,INDIRECT($Y$2),3,FALSE)*100)","v":{"$error":"#VALUE!"}},{"$f":"IF($B70=\"--\",\"--\",HLOOKUP($B70,INDIRECT($Y$2),4,FALSE)*100)","v":{"$error":"#VALUE!"}},{"$f":"IF($B70=\"--\",\"--\",HLOOKUP($B70,INDIRECT($Y$4),5,FALSE)/VLOOKUP(H$53,INDIRECT($Y$6),2,FALSE))","v":{"$error":"#VALUE!"}},{"$f":"IF($B70=\"--\",\"--\",HLOOKUP($B70,INDIRECT($Y$4),2,FALSE)/VLOOKUP(I$53,INDIRECT($Y$6),2,FALSE))","v":{"$error":"#VALUE!"}},{"$f":"IF($B70=\"--\",\"--\",HLOOKUP($B70,INDIRECT($Y$4),3,FALSE)/VLOOKUP(J$53,INDIRECT($Y$6),2,FALSE))","v":{"$error":"#VALUE!"}},{"$f":"IF($B70=\"--\",\"--\",HLOOKUP($B70,INDIRECT($Y$4),4,FALSE)/VLOOKUP(K$53,INDIRECT($Y$6),2,FALSE))","v":{"$error":"#VALUE!"}},{"$f":"IF($B70=\"--\",\"--\",HLOOKUP($B70,INDIRECT($Y$8),5,FALSE))","v":0.13315075907706375},{"$f":"IF($B70=\"--\",\"--\",HLOOKUP($B70,INDIRECT($Y$8),2,FALSE))","v":1.9241490923034821E-3},{"$f":"IF($B70=\"--\",\"--\",HLOOKUP($B70,INDIRECT($Y$8),3,FALSE))","v":8.8265268349339355E-4},{"$f":"IF($B70=\"--\",\"--\",HLOOKUP($B70,INDIRECT($Y$8),4,FALSE))","v":1.7027218042108246E-4},{"$f":"IF($B70=\"--\",\"--\",HLOOKUP($B70,INDIRECT($Y$10),5,FALSE))","v":0.16833333333333331},{"$f":"IF($B70=\"--\",\"--\",HLOOKUP($B70,INDIRECT($Y$10),2,FALSE))","v":0.16833333333333331},{"$f":"IF($B70=\"--\",\"--\",HLOOKUP($B70,INDIRECT($Y$10),3,FALSE))","v":0.31592592592592589},{"$f":"IF($B70=\"--\",\"--\",HLOOKUP($B70,INDIRECT($Y$10),4,FALSE))","v":1}]
["QR","QR",{"$f":"IF($B71=\"--\",\"--\",HLOOKUP($B71,INDIRECT($Y$2),6,FALSE)*100)","v":{"$error":"#VALUE!"}},{"$f":"IF($B71=\"--\",\"--\",HLOOKUP($B71,INDIRECT($Y$2),5,FALSE)*100)","v":{"$error":"#VALUE!"}},{"$f":"IF($B71=\"--\",\"--\",HLOOKUP($B71,INDIRECT($Y$2),2,FALSE)*100)","v":{"$error":"#VALUE!"}},{"$f":"IF($B71=\"--\",\"--\",HLOOKUP($B71,INDIRECT($Y$2),3,FALSE)*100)","v":{"$error":"#VALUE!"}},{"$f":"IF($B71=\"--\",\"--\",HLOOKUP($B71,INDIRECT($Y$2),4,FALSE)*100)","v":{"$error":"#VALUE!"}},{"$f":"IF($B71=\"--\",\"--\",HLOOKUP($B71,INDIRECT($Y$4),5,FALSE)/VLOOKUP(H$53,INDIRECT($Y$6),2,FALSE))","v":{"$error":"#VALUE!"}},{"$f":"IF($B71=\"--\",\"--\",HLOOKUP($B71,INDIRECT($Y$4),2,FALSE)/VLOOKUP(I$53,INDIRECT($Y$6),2,FALSE))","v":{"$error":"#VALUE!"}},{"$f":"IF($B71=\"--\",\"--\",HLOOKUP($B71,INDIRECT($Y$4),3,FALSE)/VLOOKUP(J$53,INDIRECT($Y$6),2,FALSE))","v":{"$error":"#VALUE!"}},{"$f":"IF($B71=\"--\",\"--\",HLOOKUP($B71,INDIRECT($Y$4),4,FALSE)/VLOOKUP(K$53,INDIRECT($Y$6),2,FALSE))","v":{"$error":"#VALUE!"}},{"$f":"IF($B71=\"--\",\"--\",HLOOKUP($B71,INDIRECT($Y$8),5,FALSE))","v":0.11388044420727753},{"$f":"IF($B71=\"--\",\"--\",HLOOKUP($B71,INDIRECT($Y$8),2,FALSE))","v":2.8275308066482534E-3},{"$f":"IF($B71=\"--\",\"--\",HLOOKUP($B71,INDIRECT($Y$8),3,FALSE))","v":1.1332740057158647E-3},{"$f":"IF($B71=\"--\",\"--\",HLOOKUP($B71,INDIRECT($Y$8),4,FALSE))","v":4.8270129633717158E-4},{"$f":"IF($B71=\"--\",\"--\",HLOOKUP($B71,INDIRECT($Y$10),5,FALSE))","v":0.18233333333333321},{"$f":"IF($B71=\"--\",\"--\",HLOOKUP($B71,INDIRECT($Y$10),2,FALSE))","v":0.1963333333333333},{"$f":"IF($B71=\"--\",\"--\",HLOOKUP($B71,INDIRECT($Y$10),3,FALSE))","v":0.16833333333333328},{"$f":"IF($B71=\"--\",\"--\",HLOOKUP($B71,INDIRECT($Y$10),4,FALSE))","v":1}]

{"sheet":"ExistingData","index":28,"n_rows":15,"n_cols":11,"rows_kept":15,"cut":false,"hidden":true,"merged":[[2,5,2,8]]}
[]
[]
["Intersetion Type","Traffic Signal or Minor Road Stop"]
["Years of Data",5]
[null,null,null,null,null,null,null,null,1,"Predicted","Based on SPF only"]
[null,null,null,null,null,null,null,null,2,"Expected","Based on SPF w/ EB applied"]
[null,"Total ","FI","PDO","Ped",null,null,null,3,"Observed","Historical crash data"]
["Historical Crashes Year 1"]
["Historical Crashes Year 2"]
["Historical Crashes Year 3"]
["Historical Crashes Year 4"]
["Historical Crashes Year 5"]
[]
["Historical Crash Data (Sum Over All Years)",35,7,28,1]
["Average Crashes (per year)",{"$f":"B14/$B$4","v":7},{"$f":"C14/$B$4","v":1.4},{"$f":"D14/$B$4","v":5.6},{"$f":"E14/$B$4","v":0.2}]

{"sheet":"CalibrationDefaults","index":29,"n_rows":47,"n_cols":11,"rows_kept":47,"cut":false,"hidden":true,"merged":[[43,0,44,1],[45,0,46,1],[19,0,32,0],[19,1,20,1],[21,1,22,1],[23,1,30,1],[31,1,32,1],[33,0,38,0],[33,1,34,1],[35,1,36,1],[37,1,38,1],[39,0,42,0],[39,1,40,1],[41,1,42,1],[5,0,18,0],[5,1,6,1],[7,1,8,1],[9,1,16,1],[17,1,18,1],[0,0,0,10],[1,0,1,10],[3,7,4,7],[3,6,4,6],[3,8,4,8],[2,0,2,1],[2,2,2,4],[3,9,4,9],[3,10,4,10],[3,0,4,0],[3,1,4,1],[3,2,4,2],[3,3,4,3],[3,4,4,4],[3,5,4,5]]}
["Default Calibration ReferenceCalibration"]
["At-Grade Intersection SPFs"]
["Select From the Dropdown Menu:",null,"FDOT"]
["Traffic Control","Facility Type","# legs","1 way/ 2 way","# of lanes on arterial","Use Value","Empty","FDOT","Future1","Future2","Future3"]
[]
["Traffic Signal\n\n(For more information on determining signal type, refer to the \"Definitions\" worksheet)","On Rural Two Lane Highway","3 leg","-","-",{"$f":"IF(ISNUMBER(IF($C$3=$G$4,G6,IF($C$3=$H$4,H6,IF($C$3=$I$4,I6,IF($C$3=$J$4,J6,IF($C$3=$K$4,K6,1)))))),IF($C$3=$G$4,G6,IF($C$3=$H$4,H6,IF($C$3=$I$4,I6,IF($C$3=$J$4,J6,IF($C$3=$K$4,K6,1))))),1)","v":1},1,"--",1,1,1]
[null,null,"4 leg","-","-",{"$f":"IF(ISNUMBER(IF($C$3=$G$4,G7,IF($C$3=$H$4,H7,IF($C$3=$I$4,I7,IF($C$3=$J$4,J7,IF($C$3=$K$4,K7,1)))))),IF($C$3=$G$4,G7,IF($C$3=$H$4,H7,IF($C$3=$I$4,I7,IF($C$3=$J$4,J7,IF($C$3=$K$4,K7,1))))),1)","v":0.92},1,0.92,1,1,1]
[null,"On Rural Multilane Highway","3 leg","-","-",1,1,"--",1,1,1]
[null,null,"4 leg","-","-",0.45,1,0.45,1,1,1]
[null,"On Urban and Suburban Arterial","3 leg","2x2","5 or fewer",2.5,1,2.5,1,1,1]
[null,null,"4 leg","2x2","5 or fewer",2.27,1,2.27,1,1,1]
[null,null,"3 leg","2x2","6 or more",1,1,"--",1,1,1]
[null,null,"4 leg","2x2","6 or more",1,1,"--",1,1,1]
[null,null,"3 leg","1x2","-",1,1,"--",1,1,1]
[null,null,"4 leg","1x2","-",1,1,"--",1,1,1]
[null,null,"3 leg","1x1","-",1,1,"--",1,1,1]
[null,null,"4 leg","1x1","-",1,1,"--",1,1,1]
[null,"On High Speed (50+ MPH) Urban and Suburban Arterial","3 leg","-","-",1,1,"--",1,1,1]
[null,null,"4 leg","-","-",1,1,"--",1,1,1]
["Minor Road Stop","On Rural Two Lane Highway","3 leg","-","-",1.27,1,1.27,1,1,1]
[null,null,"4 leg","-","-",0.74,1,0.74,1,1,1]
[null,"On Rural Multilane Highway","3 leg","-","-",2.2000000000000002,1,2.2000000000000002,1,1,1]
[null,null,"4 leg","-","-",1.64,1,1.64,1,1,1]
[null,"On Urban and Suburban Arterial","3 leg","2x2","5 or fewer",1.1399999999999999,1,1.1399999999999999,1,1,1]
[null,null,"4 leg","2x2","5 or fewer",1.87,1,1.87,1,1,1]
[null,null,"3 leg","2x2","6 or more",1,1,"--",1,1,1]
[null,null,"4 leg","2x2","6 or more",1,1,"--",1,1,1]
[null,null,"3 leg","1x2","-",1,1,"--",1,1,1]
[null,null,"4 leg","1x2","-",1,1,"--",1,1,1]
[null,null,"3 leg","1x1","-",1,1,"--",1,1,1]
[null,null,"4 leg","1x1","-",1,1,"--",1,1,1]
[null,"On High Speed (50+ MPH) Urban and Suburban Arterial","3 leg","-","-",1,1,"--",1,1,1]
[null,null,"4 leg","-","-",1,1,"--",1,1,1]
["All-Way Stop","On Rural Two Lane Highway","3 leg","-","-",1,1,"--",1,1,1]
[null,null,"4 leg","-","-",1,1,"--",1,1,1]
[null,"On Rural Multilane Highway","3 leg","-","-",1,1,"--",1,1,1]
[null,null,"4 leg","-","-",1,1,"--",1,1,1]
[null,"On Urban and Suburban Arterial","3 leg","-","-",1,1,"--",1,1,1]
[null,null,"4 leg","-","-",1,1,"--",1,1,1]
["Roundabout","1-lane roundabout","3 leg","-","-",1,1,"--",1,1,1]
[null,null,"4 leg","-","-",1,1,"--",1,1,1]
[null,"2-lane roundabout","3 leg","-","-",1,1,"--",1,1,1]
[null,null,"4 leg","-","-",1,1,"--",1,1,1]
["Signalized Restricted Crossing U-Turn (RCUT), also known Superstreet",null,"3 leg","-","-",1,1,"--",1,1,1]
[null,null,"4 leg","-","-",1,1,"--",1,1,1]
["Unsignalized Restricted Crossing U-Turn (RCUT), also known as J-Turn",null,"3 leg","-","-",1,1,"--",1,1,1]
[null,null,"4 leg","-","-",1,1,"--",1,1,1]

{"sheet":"HistoricalRTI","index":30,"n_rows":71,"n_cols":25,"rows_kept":71,"cut":false,"hidden":true,"merged":[[7,3,7,4],[10,1,11,2],[10,3,10,12],[39,2,39,3],[39,18,41,21],[12,1,14,1],[15,1,17,1],[38,1,38,14],[39,1,54,1],[42,18,56,18],[42,19,46,19],[43,2,45,2],[40,2,42,2],[55,1,70,1],[67,19,70,19],[63,18,70,18],[0,0,0,13],[1,0,2,13],[4,1,5,2],[4,3,5,4],[6,3,6,4],[6,10,6,11],[46,2,48,2],[47,19,51,19],[49,2,51,2],[52,2,54,12],[52,19,56,19],[68,2,70,12],[60,18,62,21],[63,19,66,19],[55,2,55,3],[56,2,58,2],[59,2,61,2],[62,2,64,2],[65,2,67,2]]}
["Historical Crash Data Input"]
["Note: In order to use Empirical Bayes (EB), the historical intersection type must be a traffic signal or a minor road stop.  Additionally, this alternative must be selected to be included in the analysis, and the historical intersection specified below.  Up to 10 years of historical data can be used to perform the EB adjustment."]
[]
[]
[null,"Use historical Emprical Bayes Adjustment?"]
[]
[null,"Number of years available:",null,null,null,"(Up to 10)",null,"First Year Data is available: "]
[null,"Historical Intx Type:"]
[]
[]
[null,"Historical Crash Counts",null,"Year"]
[null,null,null,{"$f":"IF($D$7>0,$K$7,\"--\")","v":"--"},{"$f":"IF($D$7>1,$K$7+1,\"--\")","v":"--"},{"$f":"IF($D$7>2,$K$7+2,\"--\")","v":"--"},{"$f":"IF($D$7>3,$K$7+3,\"--\")","v":"--"},{"$f":"IF($D$7>4,$K$7+4,\"--\")","v":"--"},{"$f":"IF($D$7>5,$K$7+5,\"--\")","v":"--"},{"$f":"IF($D$7>6,$K$7+6,\"--\")","v":"--"},{"$f":"IF($D$7>7,$K$7+7,\"--\")","v":"--"},{"$f":"IF($D$7>8,$K$7+8,\"--\")","v":"--"},{"$f":"IF($D$7>9,$K$7+9,\"--\")","v":"--"},"Total"]
[null,{"$f":"IF(EB_RTI_Intx_Type=X43,\"Single Point Diamond\",\"NB Ramp Terminal\")","v":"NB Ramp Terminal"},"Total",{"$f":"IF(ISNUMBER(D$12),SUM(D14:D15),\"--\")","v":"--"},{"$f":"IF(ISNUMBER(E12),SUM(E14:E15),\"--\")","v":"--"},"--","--","--","--","--","--","--","--",{"$f":"IF(ISNUMBER(D13),SUM(D13:M13),\"--\")","v":"--"},{"$f":"IF(COUNTIF(D13:M13,\"=0\")>0,\"One or more years has 0 total crashes.\",\"\")","v":""}]
[null,null,"Fatal & Injury",5,5,null,null,null,null,null,null,null,null,{"$f":"SUMPRODUCT(D14:M14,--(ISNUMBER($D$12:$M$12)))","v":0}]
[null,null,"PDO",5,5,null,null,null,null,null,null,null,null,{"$f":"SUMPRODUCT(D15:M15,--(ISNUMBER($D$12:$M$12)))","v":0}]
[null,"SB Ramp Terminal","Total",{"$f":"IF(ISNUMBER(D$12),SUM(D17:D18),\"--\")","v":"--"},{"$f":"IF(ISNUMBER(E12),SUM(E17:E18),\"--\")","v":"--"},{"$f":"IF(ISNUMBER(F12),SUM(F17:F18),\"--\")","v":"--"},"--","--","--","--","--","--","--",{"$f":"IF(ISNUMBER(D16),SUM(D16:M16),\"--\")","v":"--"},{"$f":"IF(COUNTIF(D16:M16,\"=0\")>0,\"One or more years has 0 total crashes.\",\"\")","v":""}]
[null,null,"Fatal & Injury",6,6,null,null,null,null,null,null,null,null,{"$f":"SUMPRODUCT(D17:M17,--(ISNUMBER($D$12:$M$12)))","v":0}]
[null,null,"PDO",6,6,null,null,null,null,null,null,null,null,{"$f":"SUMPRODUCT(D18:M18,--(ISNUMBER($D$12:$M$12)))","v":0}]
[]
[]
[]
[]
[]
[]
[]
[]
[]
[]
[]
[null,"Computations Only Below This Point"]
[]
[]
[]
[]
[]
[]
[]
[]
[]
[null,{"$f":"\"Combined Colisions - \"&B13","v":"Combined Colisions - NB Ramp Terminal"},"Year",null,{"$f":"D$12","v":"--"},"--","--","--","--","--","--","--","--","--","Total",null,null,null,"Ramp Terminal\n Dispersion Parameters",null,null,null,null,"Available Types"]
[null,null,"Npredicted","Total",null,{"$f":"IF(AND(ISNUMBER(E$12),ISNUMBER(Npred_RTI_Total1)),Npred_RTI_Total1,\"--\")","v":"--"},"--","--","--","--","--","--","--","--",{"$f":"IF(ISNUMBER(E44),SUM(E41:N41),\"--\")","v":"--"},null,null,null,null,null,null,null,null,"4SG","Diamond Signalized"]
[null,null,null,"Fatal & Injury",null,{"$f":"IF(AND(ISNUMBER(E$12),ISNUMBER(Npred_RTI_FI1)),Npred_RTI_FI1,\"--\")","v":"--"},"--","--","--","--","--","--","--","--",{"$f":"IF(ISNUMBER(E45),SUM(E42:N42),\"--\")","v":"--"},null,null,null,null,null,null,null,null,"4ST","Diamond Stop Control"]
[null,null,null,"PDO",null,{"$f":"IF(AND(ISNUMBER(E$12),ISNUMBER(Npred_RTI_PDO1)),Npred_RTI_PDO1,\"--\")","v":"--"},"--","--","--","--","--","--","--","--",{"$f":"IF(ISNUMBER(E46),SUM(E43:N43),\"--\")","v":"--"},null,null,null,"Combined Multi and Single Vehicle","Total","Intx","D4",null,"SPDI"]
[null,null,"Dispersion Parameter (k)","Total",{"$f":"IF(EB_RTI_Intx_Type=X43,\"--\",VLOOKUP(EB_RTI_Intx_Type,U44:V47,2,FALSE))","v":{"$error":"#N/A"}},{"$f":"IF(AND(ISNUMBER(E$12),ISNUMBER(E44)),E44,\"--\")","v":"--"},"--","--","--","--","--","--","--","--","--",null,null,null,null,null,"3ST","--",null,"TD"]
[null,null,null,"Fatal & Injury",{"$f":"IF(EB_RTI_Intx_Type=X43,VLOOKUP(Input_SPUI_NFFRT,HistoricalRTI!U65:V67,2,FALSE),VLOOKUP(EB_RTI_Intx_Type,U49:V52,2,FALSE))","v":{"$error":"#N/A"}},"--","--","--","--","--","--","--","--","--","--",null,null,null,null,null,"3SG","--"]
[null,null,null,"PDO",{"$f":"IF(EB_RTI_Intx_Type=X43,VLOOKUP(Input_SPUI_NFFRT,HistoricalRTI!U69:V71,2,FALSE),VLOOKUP(EB_RTI_Intx_Type,U54:V57,2,FALSE))","v":{"$error":"#N/A"}},"--","--","--","--","--","--","--","--","--","--",null,null,null,null,null,"4ST","--"]
[null,null,"Weighted Adjustment (w)","Total",{"$f":"IF(AND(ISNUMBER(Npred_RTI_Total1),ISNUMBER(E44)),1/(1+E44*E41),\"--\")","v":"--"},"--","--","--","--","--","--","--","--","--","--",null,null,null,null,null,"4SG","--"]
[null,null,null,"Fatal & Injury",{"$f":"IF(AND(ISNUMBER(Npred_RTI_FI1),ISNUMBER(E45)),1/(1+E45*E42),\"--\")","v":"--"},"--","--","--","--","--","--","--","--","--","--",null,null,null,null,"Fatal / Injury","Intx","D4"]
[null,null,null,"PDO",{"$f":"IF(AND(ISNUMBER(Npred_RTI_PDO1),ISNUMBER(E46)),1/(1+E46*E43),\"--\")","v":"--"},"--","--","--","--","--","--","--","--","--","--",null,null,null,null,null,"3ST","--"]
[null,null,"Nexpected","Total",{"$f":"IF(AND(ISNUMBER(Npred_RTI_Total1),ISNUMBER(E44)),E47*E41+(1-E47)*D13,IF(ISNUMBER(E51),SUM(E51:E52),\"--\"))","v":"--"},"--","--","--","--","--","--","--","--","--",{"$f":"IF(ISNUMBER(E44),SUM(E50:N50),\"--\")","v":"--"},null,null,null,null,null,"3SG","--"]
[null,null,null,"Fatal & Injury",{"$f":"IF(AND(ISNUMBER(Npred_RTI_FI1),ISNUMBER(E45)),E48*E42+(1-E48)*D14,\"--\")","v":"--"},"--","--","--","--","--","--","--","--","--",{"$f":"IF(ISNUMBER(E45),SUM(E51:N51),\"--\")","v":"--"},null,null,null,null,null,"4ST",0.38759689922480617]
[null,null,null,"PDO",{"$f":"IF(AND(ISNUMBER(Npred_RTI_PDO1),ISNUMBER(E46)),E49*E43+(1-E49)*D15,\"--\")","v":"--"},"--","--","--","--","--","--","--","--","--",{"$f":"IF(ISNUMBER(E46),SUM(E52:N52),\"--\")","v":"--"},null,null,null,null,null,"4SG",8.6956521739130432E-2]
[null,null,"Nexpected / Npredicted",null,null,null,null,null,null,null,null,null,null,"Total",{"$f":"IF(AND(ISNUMBER(E41),ISNUMBER(E44)),O50/O41,1)","v":1},null,null,null,null,"PDO","Intx","D4"]
[null,null,null,null,null,null,null,null,null,null,null,null,null,"F/I",{"$f":"IF(AND(ISNUMBER(E42),ISNUMBER(E45)),O51/O42,1)","v":1},null,null,null,null,null,"3ST","--"]
[null,null,null,null,null,null,null,null,null,null,null,null,null,"PDO",{"$f":"IF(AND(ISNUMBER(E43),ISNUMBER(E46)),O52/O43,1)","v":1},null,null,null,null,null,"3SG","--"]
[null,{"$f":"IF(EB_RTI_Intx_Type=X43,\"--\",\"Combined Colisions - \"&B16)","v":"Combined Colisions - SB Ramp Terminal"},"Year",null,{"$f":"D$12","v":"--"},"--","--","--","--","--","--","--","--","--","Total",null,null,null,null,null,"4ST",0.23419203747072601]
[null,null,"Npredicted","Total",null,{"$f":"IF(AND(ISNUMBER(E$12),ISNUMBER(Npred_RTI_Total2)),Npred_RTI_Total2,\"--\")","v":"--"},"--","--","--","--","--","--","--","--",{"$f":"IF(ISNUMBER(E60),SUM(E57:N57),\"--\")","v":"--"},null,null,null,null,null,"4SG",0.13869625520110956]
[null,null,null,"Fatal & Injury",null,{"$f":"IF(AND(ISNUMBER(E$12),ISNUMBER(Npred_RTI_FI2)),Npred_RTI_FI2,\"--\")","v":"--"},"--","--","--","--","--","--","--","--",{"$f":"IF(ISNUMBER(E61),SUM(E58:N58),\"--\")","v":"--"}]
[null,null,null,"PDO",null,{"$f":"IF(AND(ISNUMBER(E$12),ISNUMBER(Npred_RTI_PDO2)),Npred_RTI_PDO2,\"--\")","v":"--"},"--","--","--","--","--","--","--","--",{"$f":"IF(ISNUMBER(E62),SUM(E59:N59),\"--\")","v":"--"}]
[null,null,"Dispersion Parameter (k)","Total",{"$f":"IF(EB_RTI_Intx_Type=X43,\"--\",VLOOKUP(EB_RTI_Intx_Type,U44:V47,2,FALSE))","v":{"$error":"#N/A"}},{"$f":"IF(AND(ISNUMBER(E$12),ISNUMBER(E60)),E60,\"--\")","v":"--"},"--","--","--","--","--","--","--","--","--"]
[null,null,null,"Fatal & Injury",{"$f":"IF(EB_RTI_Intx_Type=X43,\"--\",VLOOKUP(EB_RTI_Intx_Type,U49:V52,2,FALSE))","v":{"$error":"#N/A"}},"--","--","--","--","--","--","--","--","--","--",null,null,null,"Single Point Diamond Interchange\n Dispersion Parameters"]
[null,null,null,"PDO",{"$f":"IF(EB_RTI_Intx_Type=X43,\"--\",VLOOKUP(EB_RTI_Intx_Type,U54:V57,2,FALSE))","v":{"$error":"#N/A"}},"--","--","--","--","--","--","--","--","--","--"]
[null,null,"Weighted Adjustment (w)","Total",{"$f":"IF(AND(ISNUMBER(Npred_RTI_Total2),ISNUMBER(E60)),1/(1+E60*E57),\"--\")","v":"--"},"--","--","--","--","--","--","--","--","--","--"]
[null,null,null,"Fatal & Injury",{"$f":"IF(AND(ISNUMBER(Npred_RTI_FI2),ISNUMBER(E61)),1/(1+E61*E58),\"--\")","v":"--"},"--","--","--","--","--","--","--","--","--","--",null,null,null,"Combined Multi and Single Vehicle","Fatal / \nInjury","# FF RT","k"]
[null,null,null,"PDO",{"$f":"IF(AND(ISNUMBER(Npred_RTI_PDO2),ISNUMBER(E62)),1/(1+E62*E59),\"--\")","v":"--"},"--","--","--","--","--","--","--","--","--","--",null,null,null,null,null,0,0.11]
[null,null,"Nexpected","Total",{"$f":"IF(AND(ISNUMBER(Npred_RTI_Total2),ISNUMBER(E60)),E63*E57+(1-E63)*D16,IF(ISNUMBER(E67),SUM(E67:E68),\"--\"))","v":"--"},"--","--","--","--","--","--","--","--","--",{"$f":"IF(ISNUMBER(E60),SUM(E66:N66),\"--\")","v":"--"},null,null,null,null,null,1,0.11]
[null,null,null,"Fatal & Injury",{"$f":"IF(AND(ISNUMBER(Npred_RTI_FI2),ISNUMBER(E61)),E64*E58+(1-E64)*D17,\"--\")","v":"--"},"--","--","--","--","--","--","--","--","--",{"$f":"IF(ISNUMBER(E61),SUM(E67:N67),\"--\")","v":"--"},null,null,null,null,null,2,0.11]
[null,null,null,"PDO",{"$f":"IF(AND(ISNUMBER(Npred_RTI_PDO2),ISNUMBER(E62)),E65*E59+(1-E65)*D18,\"--\")","v":"--"},"--","--","--","--","--","--","--","--","--",{"$f":"IF(ISNUMBER(E62),SUM(E68:N68),\"--\")","v":"--"},null,null,null,null,"PDO","# FF RT","k"]
[null,null,"Nexpected / Npredicted",null,null,null,null,null,null,null,null,null,null,"Total",{"$f":"IF(AND(ISNUMBER(E57),ISNUMBER(E60)),O66/O57,1)","v":1},null,null,null,null,null,0,0.1]
[null,null,null,null,null,null,null,null,null,null,null,null,null,"F/I",{"$f":"IF(AND(ISNUMBER(E58),ISNUMBER(E61)),O67/O58,1)","v":1},null,null,null,null,null,1,0.1]
[null,null,null,null,null,null,null,null,null,null,null,null,null,"PDO",{"$f":"IF(AND(ISNUMBER(E59),ISNUMBER(E62)),O68/O59,1)","v":1},null,null,null,null,null,2,0.1]

{"sheet":"SSI 3L Results_Full","index":31,"n_rows":56,"n_cols":41,"rows_kept":56,"cut":false,"hidden":true,"merged":[[1,39,1,40],[41,1,41,11],[49,1,49,11],[1,22,1,32],[10,22,10,32],[18,22,18,32],[25,22,25,32],[33,22,33,32],[41,22,41,32],[49,22,49,32],[1,1,1,11],[1,18,1,19],[10,1,10,11],[18,1,18,11],[25,1,25,11],[33,1,33,11]]}
[]
[null,"SSI Score (Open Year)",null,null,null,null,null,null,null,null,null,null,null,null,null,"Alpha",null,null,"Existing Exposure",null,null,null,"SSI Score (Design Year)",null,null,null,null,null,null,null,null,null,null,null,null,null,null,null,null,"Existing Exposure"]
[null,null,"TradT_Sig","TradT_AWSC","TradT_MRSC","CGT","T_PDLT","T_1x1_RAB","T_2x1_RAB","T_2x2_RAB","T_RCUT_Sig","T_RCUT_Unsig",null,null,null,13700000,null,null,"Existing alt",{"$f":"VLOOKUP('SSI Results'!B6,'SSI 3L Results_Full'!S11:T21,2, FALSE)","v":{"$error":"#N/A"}},null,null,null,"TradT_Sig","TradT_AWSC","TradT_MRSC","CGT","T_PDLT","T_1x1_RAB","T_2x1_RAB","T_2x2_RAB","T_RCUT_Sig","T_RCUT_Unsig",null,null,null,null,null,null,"Existing alt",{"$f":"VLOOKUP('SSI Results'!B6,'SSI 3L Results_Full'!S11:T21,2, FALSE)","v":{"$error":"#N/A"}}]
[null,"Crossing",{"$f":"EXP(-C52/$P$3)","v":{"$error":"#VALUE!"}},{"$f":"EXP(-D52/$P$3)","v":{"$error":"#VALUE!"}},{"$f":"EXP(-E52/$P$3)","v":{"$error":"#VALUE!"}},{"$error":"#VALUE!"},{"$error":"#VALUE!"},{"$error":"#VALUE!"},{"$error":"#VALUE!"},{"$error":"#VALUE!"},{"$error":"#VALUE!"},{"$error":"#VALUE!"},null,null,null,null,null,null,"Nonmotorized",{"$f":"HLOOKUP($T$3,$B$20:$L$24,5,FALSE)","v":{"$error":"#N/A"}},null,null,"Crossing",{"$f":"EXP(-X52/$P$3)","v":{"$error":"#VALUE!"}},{"$f":"EXP(-Y52/$P$3)","v":{"$error":"#VALUE!"}},{"$error":"#VALUE!"},{"$error":"#VALUE!"},{"$error":"#VALUE!"},{"$error":"#VALUE!"},{"$error":"#VALUE!"},{"$error":"#VALUE!"},{"$error":"#VALUE!"},{"$error":"#VALUE!"},null,null,null,null,null,null,"Nonmotorized",{"$f":"HLOOKUP($T$3,$W$20:$AG$24,5,FALSE)","v":{"$error":"#N/A"}}]
[null,"Merging",{"$f":"EXP(-C53/$P$3)","v":{"$error":"#VALUE!"}},{"$f":"EXP(-D53/$P$3)","v":{"$error":"#VALUE!"}},{"$error":"#VALUE!"},{"$error":"#VALUE!"},{"$error":"#VALUE!"},{"$error":"#VALUE!"},{"$error":"#VALUE!"},{"$error":"#VALUE!"},{"$error":"#VALUE!"},{"$error":"#VALUE!"},null,null,null,null,null,null,"Crossing",{"$f":"HLOOKUP($T$3,$B$20:$L$24,2,FALSE)","v":{"$error":"#N/A"}},null,null,"Merging",{"$f":"EXP(-X53/$P$3)","v":{"$error":"#VALUE!"}},{"$error":"#VALUE!"},{"$error":"#VALUE!"},{"$error":"#VALUE!"},{"$error":"#VALUE!"},{"$error":"#VALUE!"},{"$error":"#VALUE!"},{"$error":"#VALUE!"},{"$error":"#VALUE!"},{"$error":"#VALUE!"},null,null,null,null,null,null,"Crossing",{"$f":"HLOOKUP($T$3,$W$20:$AG$24,2,FALSE)","v":{"$error":"#N/A"}}]
[null,"Diverging",{"$f":"EXP(-C54/$P$3)","v":{"$error":"#VALUE!"}},{"$error":"#VALUE!"},{"$error":"#VALUE!"},{"$error":"#VALUE!"},{"$error":"#VALUE!"},{"$error":"#VALUE!"},{"$error":"#VALUE!"},{"$error":"#VALUE!"},{"$error":"#VALUE!"},{"$error":"#VALUE!"},null,null,null,null,null,null,"Merging",{"$f":"HLOOKUP($T$3,$B$20:$L$24,3,FALSE)","v":{"$error":"#N/A"}},null,null,"Diverging",{"$error":"#VALUE!"},{"$error":"#VALUE!"},{"$error":"#VALUE!"},{"$error":"#VALUE!"},{"$error":"#VALUE!"},{"$error":"#VALUE!"},{"$error":"#VALUE!"},{"$error":"#VALUE!"},{"$error":"#VALUE!"},{"$error":"#VALUE!"},null,null,null,null,null,null,"Merging",{"$f":"HLOOKUP($T$3,$W$20:$AG$24,3,FALSE)","v":{"$error":"#N/A"}}]
[null,"Nonmotorized",{"$f":"EXP(-C55/$P$3)","v":{"$error":"#VALUE!"}},{"$error":"#VALUE!"},{"$error":"#VALUE!"},{"$error":"#VALUE!"},{"$error":"#VALUE!"},{"$error":"#VALUE!"},{"$error":"#VALUE!"},{"$error":"#VALUE!"},{"$error":"#VALUE!"},{"$error":"#VALUE!"},null,null,null,null,null,null,"Diverging",{"$f":"HLOOKUP($T$3,$B$20:$L$24,4,FALSE)","v":{"$error":"#N/A"}},null,null,"Nonmotorized",{"$error":"#VALUE!"},{"$error":"#VALUE!"},{"$error":"#VALUE!"},{"$error":"#VALUE!"},{"$error":"#VALUE!"},{"$error":"#VALUE!"},{"$error":"#VALUE!"},{"$error":"#VALUE!"},{"$error":"#VALUE!"},{"$error":"#VALUE!"},null,null,null,null,null,null,"Diverging",{"$f":"HLOOKUP($T$3,$W$20:$AG$24,4,FALSE)","v":{"$error":"#N/A"}}]
[null,"Average",{"$f":"EXP(-(C56/4)/$P$3)","v":{"$error":"#VALUE!"}},{"$f":"EXP(-(D56/4)/$P$3)","v":{"$error":"#VALUE!"}},{"$error":"#VALUE!"},{"$error":"#VALUE!"},{"$error":"#VALUE!"},{"$error":"#VALUE!"},{"$f":"EXP(-(I56/4)/$P$3)","v":{"$error":"#VALUE!"}},{"$error":"#VALUE!"},{"$error":"#VALUE!"},{"$error":"#VALUE!"},null,null,null,null,null,null,null,null,null,null,"Average",{"$f":"EXP(-(X56/4)/$P$3)","v":{"$error":"#VALUE!"}},{"$f":"EXP(-(Y56/4)/$P$3)","v":{"$error":"#VALUE!"}},{"$error":"#VALUE!"},{"$error":"#VALUE!"},{"$error":"#VALUE!"},{"$error":"#VALUE!"},{"$error":"#VALUE!"},{"$error":"#VALUE!"},{"$error":"#VALUE!"},{"$error":"#VALUE!"}]
[]
[]
[null,"Conflict Points",null,null,null,null,null,null,null,null,null,null,null,null,null,null,null,null,"Traffic Signal","TradT_Sig",null,null,"Conflict Points"]
[null,null,"TradT_Sig","TradT_AWSC","TradT_MRSC","CGT","T_PDLT","T_1x1_RAB","T_2x1_RAB","T_2x2_RAB","T_RCUT_Sig","T_RCUT_Unsig",null,null,null,null,null,null,"Traffic Signal (Alt)","TradT_Sig",null,null,null,"TradT_Sig","TradT_AWSC","TradT_MRSC","CGT","T_PDLT","T_1x1_RAB","T_2x1_RAB","T_2x2_RAB","T_RCUT_Sig","T_RCUT_Unsig"]
[null,"Crossing",{"$f":"COUNTIF(INDIRECT(C$12&\"!$B$4:$B$100\"),\"*\"&$B13&\"*\")","v":3},{"$f":"COUNTIF(INDIRECT(D$12&\"!$B$4:$B$100\"),\"*\"&$B13&\"*\")","v":3},3,3,3,2,2,2,{"$f":"COUNTIF(INDIRECT(K$12&\"!$B$4:$B$100\"),\"*\"&$B13&\"*\")","v":1},1,null,null,null,null,null,null,"Minor Road Stop","TradT_MRSC",null,null,"Crossing",{"$f":"C13","v":3},{"$f":"D13","v":3},3,3,3,2,2,2,1,1]
[null,"Merging",3,3,3,3,3,3,3,3,3,3,null,null,null,null,null,null,"All Way Stop","TradT_AWSC",null,null,"Merging",{"$f":"C14","v":3},{"$f":"D14","v":3},3,3,3,3,3,3,3,3]
[null,"Diverging",3,3,3,3,3,3,3,3,{"$f":"COUNTIF(INDIRECT(K$12&\"!$B$4:$B$100\"),\"*\"&$B15&\"*\")","v":3},3,null,null,null,null,null,null,"1-Lane Roundabout","T_1x1_RAB",null,null,"Diverging",{"$f":"C15","v":3},3,3,3,3,3,3,3,3,3]
[null,"Nonmotorized",12,12,12,12,12,6,6,6,6,6,null,null,null,null,null,null,"RAB2x1","T_2x1_RAB",null,null,"Nonmotorized",{"$f":"C16","v":12},12,12,12,12,6,6,6,6,6]
[null,"Total",{"$f":"SUM(C13:C16)","v":21},21,21,21,21,14,14,14,13,13,null,null,null,null,null,null,"2-Lane Roundabout","T_2x2_RAB",null,null,"Total",{"$f":"SUM(X13:X16)","v":21},21,21,21,21,14,14,14,13,13]
[null,null,null,null,null,null,null,null,null,null,null,null,null,null,null,null,null,null,"Partial Displaced Left Turn","T_PDLT"]
[null,"Exposure",null,null,null,null,null,null,null,null,null,null,null,null,null,null,null,null,"Signalized RCUT","T_RCUT_Sig",null,null,"Exposure"]
[null,null,"TradT_Sig","TradT_AWSC","TradT_MRSC","CGT","T_PDLT","T_1x1_RAB","T_2x1_RAB","T_2x2_RAB","T_RCUT_Sig","T_RCUT_Unsig",null,null,null,null,null,null,"Unsignalized RCDUT","T_RCUT_Unsig",null,null,null,"TradT_Sig","TradT_AWSC","TradT_MRSC","CGT","T_PDLT","T_1x1_RAB","T_2x1_RAB","T_2x2_RAB","T_RCUT_Sig","T_RCUT_Unsig"]
[null,"Crossing",{"$f":"SUMIF(INDIRECT(C$20&\"!$B$4:$B$100\"),\"*\"&$B21&\"*\",INDIRECT(C$20&\"!$L$4:$L$100\"))","v":{"$error":"#VALUE!"}},{"$f":"SUMIF(INDIRECT(D$20&\"!$B$4:$B$100\"),\"*\"&$B21&\"*\",INDIRECT(D$20&\"!$L$4:$L$100\"))","v":{"$error":"#VALUE!"}},{"$error":"#VALUE!"},{"$error":"#VALUE!"},{"$error":"#VALUE!"},{"$error":"#VALUE!"},{"$error":"#VALUE!"},{"$error":"#VALUE!"},{"$f":"SUMIF(INDIRECT(K$20&\"!$B$4:$B$100\"),\"*\"&$B21&\"*\",INDIRECT(K$20&\"!$L$4:$L$100\"))","v":{"$error":"#VALUE!"}},{"$error":"#VALUE!"},null,null,null,null,null,null,"Continuous Green-T","CGT",null,null,"Crossing",{"$f":"SUMIF(INDIRECT(X$20&\"!$B$4:$B$100\"),\"*\"&$W21&\"*\",INDIRECT(X$20&\"!$L$103:$L$200\"))","v":{"$error":"#VALUE!"}},{"$f":"SUMIF(INDIRECT(Y$20&\"!$B$4:$B$100\"),\"*\"&$W21&\"*\",INDIRECT(Y$20&\"!$L$103:$L$200\"))","v":{"$error":"#VALUE!"}},{"$error":"#VALUE!"},{"$error":"#VALUE!"},{"$error":"#VALUE!"},{"$error":"#VALUE!"},{"$error":"#VALUE!"},{"$error":"#VALUE!"},{"$error":"#VALUE!"},{"$error":"#VALUE!"}]
[null,"Merging",{"$error":"#VALUE!"},{"$error":"#VALUE!"},{"$error":"#VALUE!"},{"$error":"#VALUE!"},{"$error":"#VALUE!"},{"$error":"#VALUE!"},{"$error":"#VALUE!"},{"$error":"#VALUE!"},{"$error":"#VALUE!"},{"$error":"#VALUE!"},null,null,null,null,null,null,null,null,null,null,"Merging",{"$f":"SUMIF(INDIRECT(X$20&\"!$B$4:$B$100\"),\"*\"&$W22&\"*\",INDIRECT(X$20&\"!$L$103:$L$200\"))","v":{"$error":"#VALUE!"}},{"$error":"#VALUE!"},{"$error":"#VALUE!"},{"$error":"#VALUE!"},{"$error":"#VALUE!"},{"$error":"#VALUE!"},{"$error":"#VALUE!"},{"$error":"#VALUE!"},{"$error":"#VALUE!"},{"$error":"#VALUE!"}]
[null,"Diverging",{"$error":"#VALUE!"},{"$error":"#VALUE!"},{"$error":"#VALUE!"},{"$error":"#VALUE!"},{"$error":"#VALUE!"},{"$error":"#VALUE!"},{"$error":"#VALUE!"},{"$error":"#VALUE!"},{"$error":"#VALUE!"},{"$error":"#VALUE!"},null,null,null,null,null,null,null,null,null,null,"Diverging",{"$f":"SUMIF(INDIRECT(X$20&\"!$B$4:$B$100\"),\"*\"&$W23&\"*\",INDIRECT(X$20&\"!$L$103:$L$200\"))","v":{"$error":"#VALUE!"}},{"$error":"#VALUE!"},{"$error":"#VALUE!"},{"$error":"#VALUE!"},{"$error":"#VALUE!"},{"$error":"#VALUE!"},{"$error":"#VALUE!"},{"$error":"#VALUE!"},{"$error":"#VALUE!"},{"$error":"#VALUE!"}]
[null,"Nonmotorized",{"$error":"#VALUE!"},{"$f":"SUMIF(INDIRECT(D$20&\"!$B$4:$B$100\"),\"*\"&$B24&\"*\",INDIRECT(D$20&\"!$L$4:$L$100\"))","v":{"$error":"#VALUE!"}},{"$error":"#VALUE!"},{"$error":"#VALUE!"},{"$error":"#VALUE!"},{"$error":"#VALUE!"},{"$error":"#VALUE!"},{"$error":"#VALUE!"},{"$error":"#VALUE!"},{"$error":"#VALUE!"},null,null,null,null,null,null,null,null,null,null,"Nonmotorized",{"$f":"SUMIF(INDIRECT(X$20&\"!$B$4:$B$100\"),\"*\"&$W24&\"*\",INDIRECT(X$20&\"!$L$103:$L$200\"))","v":{"$error":"#VALUE!"}},{"$error":"#VALUE!"},{"$error":"#VALUE!"},{"$error":"#VALUE!"},{"$error":"#VALUE!"},{"$error":"#VALUE!"},{"$error":"#VALUE!"},{"$error":"#VALUE!"},{"$error":"#VALUE!"},{"$error":"#VALUE!"}]
[]
[null,"Sum of P(FSI)",null,null,null,null,null,null,null,null,null,null,null,null,null,null,null,null,null,null,null,null,"Sum of P(FSI)"]
[null,null,"TradT_Sig","TradT_AWSC","TradT_MRSC","CGT","T_PDLT","T_1x1_RAB","T_2x1_RAB","T_2x2_RAB","T_RCUT_Sig","T_RCUT_Unsig",null,null,null,null,null,null,null,null,null,null,null,"TradT_Sig","TradT_AWSC","TradT_MRSC","CGT","T_PDLT","T_1x1_RAB","T_2x1_RAB","T_2x2_RAB","T_RCUT_Sig","T_RCUT_Unsig"]
[null,"Crossing",{"$f":"SUMIF(INDIRECT(C$27&\"!$B$4:$B$100\"),\"*\"&$B28&\"*\",INDIRECT(C$27&\"!$R$4:$R$100\"))","v":1.0289355848634303E-2},4.2297117209456406E-2,1.3168568002586858E-2,1.0289355848634303E-2,1.0289355848634303E-2,1.0113797564497901E-2,1.0113797564497901E-2,1.0113797564497901E-2,1.4431392232699444E-3,1.4431392232699444E-3,null,null,null,null,null,null,null,null,null,null,"Crossing",{"$f":"C28","v":1.0289355848634303E-2},{"$f":"D28","v":4.2297117209456406E-2},1.3168568002586858E-2,1.0289355848634303E-2,1.0289355848634303E-2,1.0113797564497901E-2,1.0113797564497901E-2,1.0113797564497901E-2,1.4431392232699444E-3,1.4431392232699444E-3]
[null,"Merging",4.2385274173253693E-3,3.1067146310797258E-3,8.747722480456101E-4,4.2385274173253693E-3,7.1177395712779239E-3,5.0499772321748451E-3,5.0499772321748451E-3,5.0499772321748451E-3,1.3593152633728147E-3,1.3593152633728147E-3,null,null,null,null,null,null,null,null,null,null,"Merging",{"$f":"C29","v":4.2385274173253693E-3},{"$f":"D29","v":3.1067146310797258E-3},8.747722480456101E-4,4.2385274173253693E-3,7.1177395712779239E-3,5.0499772321748451E-3,5.0499772321748451E-3,5.0499772321748451E-3,1.3593152633728147E-3,1.3593152633728147E-3]
[null,"Diverging",1.9283228524779011E-3,1.921841642256482E-6,1.9283228524779011E-3,1.9283228524779011E-3,1.9283228524779011E-3,3.4533752699537847E-5,3.4533752699537847E-5,3.4533752699537847E-5,3.3708214618670936E-3,3.3708214618670936E-3,null,null,null,null,null,null,null,null,null,null,"Diverging",{"$f":"C30","v":1.9283228524779011E-3},1.921841642256482E-6,1.9283228524779011E-3,1.9283228524779011E-3,1.9283228524779011E-3,3.4533752699537847E-5,3.4533752699537847E-5,3.4533752699537847E-5,3.3708214618670936E-3,3.3708214618670936E-3]
[null,"Nonmotorized",1.4125712010769136,2.2466784051784279,1.4125712010769136,1.4125712010769136,1.4125712010769136,2.3630005308566289,2.3630005308566289,2.3630005308566289,0.60620140576452064,0.60620140576452064,null,null,null,null,null,null,null,null,null,null,"Nonmotorized",{"$f":"C31","v":1.4125712010769136},2.2466784051784279,1.4125712010769136,1.4125712010769136,1.4125712010769136,2.3630005308566289,2.3630005308566289,2.3630005308566289,0.60620140576452064,0.60620140576452064]
[null,"Total",{"$f":"SUM(C28:C31)","v":1.4290274071953513},2.2920841588606065,1.428542864180024,1.4290274071953513,1.4319066193493037,2.378198839406001,2.378198839406001,2.378198839406001,0.61237468171303044,0.61237468171303044,null,null,null,null,null,null,null,null,null,null,"Total",{"$f":"SUM(X28:X31)","v":1.4290274071953513},2.2920841588606065,1.428542864180024,1.4290274071953513,1.4319066193493037,2.378198839406001,2.378198839406001,2.378198839406001,0.61237468171303044,0.61237468171303044]
[]
[null,"Average P(FSI)",null,null,null,null,null,null,null,null,null,null,null,null,null,null,null,null,null,null,null,null,"Average P(FSI)"]
[null,null,"TradT_Sig","TradT_AWSC","TradT_MRSC","CGT","T_PDLT","T_1x1_RAB","T_2x1_RAB","T_2x2_RAB","T_RCUT_Sig","T_RCUT_Unsig",null,null,null,null,null,null,null,null,null,null,null,"TradT_Sig","TradT_AWSC","TradT_MRSC","CGT","T_PDLT","T_1x1_RAB","T_2x1_RAB","T_2x2_RAB","T_RCUT_Sig","T_RCUT_Unsig"]
[null,"Crossing",{"$f":"C28/C13","v":3.429785282878101E-3},{"$f":"D28/D13","v":1.4099039069818802E-2},4.389522667528953E-3,3.429785282878101E-3,3.429785282878101E-3,{"$f":"H28/H13","v":5.0568987822489503E-3},5.0568987822489503E-3,5.0568987822489503E-3,1.4431392232699444E-3,1.4431392232699444E-3,null,null,null,null,null,null,null,null,null,null,"Crossing",{"$f":"X28/X13","v":3.429785282878101E-3},{"$f":"Y28/Y13","v":1.4099039069818802E-2},4.389522667528953E-3,3.429785282878101E-3,3.429785282878101E-3,5.0568987822489503E-3,5.0568987822489503E-3,5.0568987822489503E-3,1.4431392232699444E-3,1.4431392232699444E-3]
[null,"Merging",{"$f":"C29/C14","v":1.4128424724417898E-3},1.035571543693242E-3,2.9159074934853672E-4,1.4128424724417898E-3,2.3725798570926413E-3,1.6833257440582816E-3,1.6833257440582816E-3,1.6833257440582816E-3,4.5310508779093824E-4,4.5310508779093824E-4,null,null,null,null,null,null,null,null,null,null,"Merging",{"$f":"X29/X14","v":1.4128424724417898E-3},1.035571543693242E-3,2.9159074934853672E-4,1.4128424724417898E-3,2.3725798570926413E-3,1.6833257440582816E-3,1.6833257440582816E-3,1.6833257440582816E-3,4.5310508779093824E-4,4.5310508779093824E-4]
[null,"Diverging",6.427742841593004E-4,6.4061388075216071E-7,6.427742841593004E-4,6.427742841593004E-4,6.427742841593004E-4,1.1511250899845949E-5,1.1511250899845949E-5,1.1511250899845949E-5,1.1236071539556978E-3,1.1236071539556978E-3,null,null,null,null,null,null,null,null,null,null,"Diverging",{"$f":"X30/X15","v":6.427742841593004E-4},6.4061388075216071E-7,6.427742841593004E-4,6.427742841593004E-4,6.427742841593004E-4,1.1511250899845949E-5,1.1511250899845949E-5,1.1511250899845949E-5,1.1236071539556978E-3,1.1236071539556978E-3]
[null,"Nonmotorized",0.11771426675640946,0.18722320043153565,0.11771426675640946,0.11771426675640946,0.11771426675640946,0.39383342180943814,0.39383342180943814,0.39383342180943814,0.10103356762742011,0.10103356762742011,null,null,null,null,null,null,null,null,null,null,"Nonmotorized",{"$f":"X31/X16","v":0.11771426675640946},0.18722320043153565,0.11771426675640946,0.11771426675640946,0.11771426675640946,0.39383342180943814,0.39383342180943814,0.39383342180943814,0.10103356762742011,0.10103356762742011]
[null,"Total",6.8048924152159587E-2,0.10914686470764792,6.8025850675239238E-2,6.8048924152159587E-2,6.8186029492823985E-2,0.16987134567185722,0.16987134567185722,0.16987134567185722,4.7105744747156189E-2,4.7105744747156189E-2,null,null,null,null,null,null,null,null,null,null,"Total",6.8048924152159587E-2,0.10914686470764792,6.8025850675239238E-2,6.8048924152159587E-2,6.8186029492823985E-2,0.16987134567185722,0.16987134567185722,0.16987134567185722,4.7105744747156189E-2,4.7105744747156189E-2]
[]
[null,"Average Complexity",null,null,null,null,null,null,null,null,null,null,null,null,null,null,null,null,null,null,null,null,"Average Complexity"]
[null,null,"TradT_Sig","TradT_AWSC","TradT_MRSC","CGT","T_PDLT","T_1x1_RAB","T_2x1_RAB","T_2x2_RAB","T_RCUT_Sig","T_RCUT_Unsig",null,null,null,null,null,null,null,null,null,null,null,"TradT_Sig","TradT_AWSC","TradT_MRSC","CGT","T_PDLT","T_1x1_RAB","T_2x1_RAB","T_2x2_RAB","T_RCUT_Sig","T_RCUT_Unsig"]
[null,"Crossing",{"$f":"AVERAGEIF(INDIRECT(C$43&\"!$B$4:$B$100\"),\"*\"&$B44&\"*\",INDIRECT(C$43&\"!$AI$4:$AI$100\"))","v":0.21499999999999997},0.24166666666666661,0.33333333333333326,0.21499999999999997,0.16833333333333331,0.61111111111111105,0.91666666666666652,1.2222222222222221,0.16833333333333331,0.24166666666666664,null,null,null,null,null,null,null,null,null,null,"Crossing",{"$f":"C44","v":0.21499999999999997},{"$f":"D44","v":0.24166666666666661},0.33333333333333326,0.21499999999999997,0.16833333333333331,0.61111111111111105,0.91666666666666652,1.2222222222222221,0.16833333333333331,0.24166666666666664]
[null,"Merging",0.21499999999999997,0.24166666666666661,0.33333333333333326,0.26999999999999996,0.27833333333333327,0.61111111111111105,0.91666666666666663,1.1203703703703702,0.16833333333333331,0.24166666666666661,null,null,null,null,null,null,null,null,null,null,"Merging",{"$f":"C45","v":0.21499999999999997},{"$f":"D45","v":0.24166666666666661},0.33333333333333326,0.26999999999999996,0.27833333333333327,0.61111111111111105,0.91666666666666663,1.1203703703703702,0.16833333333333331,0.24166666666666661]
[null,"Diverging",1,1,1,1,1,1,1,1,1,1,null,null,null,null,null,null,null,null,null,null,"Diverging",{"$f":"C46","v":1},1,1,1,1,1,1,1,1,1]
[null,"Nonmotorized",0.19166666666666662,0.24166666666666667,0.30277777777777765,0.19166666666666662,0.26569444444444434,1.2777777777777777,2.1296296296296293,2.5555555555555554,0.2805555555555555,0.40277777777777773,null,null,null,null,null,null,null,null,null,null,"Nonmotorized",{"$f":"C47","v":0.19166666666666662},0.24166666666666667,0.30277777777777765,0.19166666666666662,0.26569444444444434,1.2777777777777777,2.1296296296296293,2.5555555555555554,0.2805555555555555,0.40277777777777773]
[null,"Total",{"$f":"AVERAGE(INDIRECT(C$43&\"!$AI$4:$AI$100\"))","v":0.31380952380952365},0.34999999999999976,0.41111111111111098,0.32166666666666655,0.35849206349206342,{"$f":"AVERAGE(INDIRECT(H$43&\"!$AI$4:$AI$100\"))","v":0.98015873015873012},1.4543650793650793,1.7242063492063491,0.41205128205128194,0.491025641025641,null,null,null,null,null,null,null,null,null,null,"Total",{"$f":"AVERAGE(INDIRECT(X$43&\"!$AI$4:$AI$100\"))","v":0.31380952380952365},{"$f":"AVERAGE(INDIRECT(Y$43&\"!$AI$4:$AI$100\"))","v":0.34999999999999976},0.41111111111111098,0.32166666666666655,0.35849206349206342,0.98015873015873012,1.4543650793650793,1.7242063492063491,0.41205128205128194,0.491025641025641]
[]
[null,"Exposure-Severity-Complexity Product",null,null,null,null,null,null,null,null,null,null,null,null,null,null,null,null,null,null,null,null,"Exposure-Severity-Complexity Product"]
[null,null,"TradT_Sig","TradT_AWSC","TradT_MRSC","CGT","T_PDLT","T_1x1_RAB","T_2x1_RAB","T_2x2_RAB","T_RCUT_Sig","T_RCUT_Unsig",null,null,null,null,null,null,null,null,null,null,null,"TradT_Sig","TradT_AWSC","TradT_MRSC","CGT","T_PDLT","T_1x1_RAB","T_2x1_RAB","T_2x2_RAB","T_RCUT_Sig","T_RCUT_Unsig"]
[null,"Crossing",{"$f":"SUMIF(INDIRECT(C$51&\"!$B$4:$B$100\"),\"*\"&$B52&\"*\",INDIRECT(C$51&\"!$AK$4:$AK$100\"))","v":{"$error":"#VALUE!"}},{"$error":"#VALUE!"},{"$error":"#VALUE!"},{"$error":"#VALUE!"},{"$error":"#VALUE!"},{"$error":"#VALUE!"},{"$error":"#VALUE!"},{"$error":"#VALUE!"},{"$error":"#VALUE!"},{"$error":"#VALUE!"},null,null,null,null,null,null,null,null,null,null,"Crossing",{"$f":"SUMIF(INDIRECT(X$51&\"!$B$4:$B$100\"),\"*\"&$W52&\"*\",INDIRECT(X$51&\"!$AK$103:$AK$200\"))","v":{"$error":"#VALUE!"}},{"$f":"SUMIF(INDIRECT(Y$51&\"!$B$4:$B$100\"),\"*\"&$W52&\"*\",INDIRECT(Y$51&\"!$AK$103:$AK$200\"))","v":{"$error":"#VALUE!"}},{"$error":"#VALUE!"},{"$error":"#VALUE!"},{"$error":"#VALUE!"},{"$error":"#VALUE!"},{"$error":"#VALUE!"},{"$error":"#VALUE!"},{"$error":"#VALUE!"},{"$error":"#VALUE!"}]
[null,"Merging",{"$error":"#VALUE!"},{"$error":"#VALUE!"},{"$error":"#VALUE!"},{"$error":"#VALUE!"},{"$error":"#VALUE!"},{"$error":"#VALUE!"},{"$error":"#VALUE!"},{"$error":"#VALUE!"},{"$error":"#VALUE!"},{"$error":"#VALUE!"},null,null,null,null,null,null,null,null,null,null,"Merging",{"$f":"SUMIF(INDIRECT(X$51&\"!$B$4:$B$100\"),\"*\"&$W53&\"*\",INDIRECT(X$51&\"!$AK$103:$AK$200\"))","v":{"$error":"#VALUE!"}},{"$error":"#VALUE!"},{"$error":"#VALUE!"},{"$error":"#VALUE!"},{"$error":"#VALUE!"},{"$error":"#VALUE!"},{"$error":"#VALUE!"},{"$error":"#VALUE!"},{"$error":"#VALUE!"},{"$error":"#VALUE!"}]
[null,"Diverging",{"$error":"#VALUE!"},{"$error":"#VALUE!"},{"$error":"#VALUE!"},{"$error":"#VALUE!"},{"$error":"#VALUE!"},{"$error":"#VALUE!"},{"$error":"#VALUE!"},{"$error":"#VALUE!"},{"$error":"#VALUE!"},{"$error":"#VALUE!"},null,null,null,null,null,null,null,null,null,null,"Diverging",{"$f":"SUMIF(INDIRECT(X$51&\"!$B$4:$B$100\"),\"*\"&$W54&\"*\",INDIRECT(X$51&\"!$AK$103:$AK$200\"))","v":{"$error":"#VALUE!"}},{"$error":"#VALUE!"},{"$error":"#VALUE!"},{"$error":"#VALUE!"},{"$error":"#VALUE!"},{"$error":"#VALUE!"},{"$error":"#VALUE!"},{"$error":"#VALUE!"},{"$error":"#VALUE!"},{"$error":"#VALUE!"}]
[null,"Nonmotorized",{"$error":"#VALUE!"},{"$error":"#VALUE!"},{"$error":"#VALUE!"},{"$error":"#VALUE!"},{"$error":"#VALUE!"},{"$error":"#VALUE!"},{"$error":"#VALUE!"},{"$error":"#VALUE!"},{"$error":"#VALUE!"},{"$error":"#VALUE!"},null,null,null,null,null,null,null,null,null,null,"Nonmotorized",{"$f":"SUMIF(INDIRECT(X$51&\"!$B$4:$B$100\"),\"*\"&$W55&\"*\",INDIRECT(X$51&\"!$AK$103:$AK$200\"))","v":{"$error":"#VALUE!"}},{"$error":"#VALUE!"},{"$error":"#VALUE!"},{"$error":"#VALUE!"},{"$error":"#VALUE!"},{"$error":"#VALUE!"},{"$error":"#VALUE!"},{"$error":"#VALUE!"},{"$error":"#VALUE!"},{"$error":"#VALUE!"}]
[null,"Total",{"$f":"SUM(C52:C55)","v":{"$error":"#VALUE!"}},{"$error":"#VALUE!"},{"$error":"#VALUE!"},{"$error":"#VALUE!"},{"$error":"#VALUE!"},{"$error":"#VALUE!"},{"$f":"SUM(I52:I55)","v":{"$error":"#VALUE!"}},{"$error":"#VALUE!"},{"$error":"#VALUE!"},{"$error":"#VALUE!"},null,null,null,null,null,null,null,null,null,null,"Total",{"$f":"SUM(X52:X55)","v":{"$error":"#VALUE!"}},{"$error":"#VALUE!"},{"$error":"#VALUE!"},{"$error":"#VALUE!"},{"$error":"#VALUE!"},{"$error":"#VALUE!"},{"$error":"#VALUE!"},{"$error":"#VALUE!"},{"$error":"#VALUE!"},{"$error":"#VALUE!"}]

{"sheet":"RTI SSI Results_Full","index":32,"n_rows":56,"n_cols":45,"rows_kept":56,"cut":false,"hidden":true,"merged":[[1,43,1,44],[1,21,1,22],[41,1,41,14],[49,1,49,14],[1,26,1,39],[10,26,10,39],[18,26,18,39],[25,26,25,39],[33,26,33,39],[41,26,41,39],[49,26,49,39],[1,1,1,14],[10,1,10,14],[18,1,18,14],[25,1,25,14],[33,1,33,14]]}
[]
[null,"SSI Score (Open Year0",null,null,null,null,null,null,null,null,null,null,null,null,null,null,null,null,"z",null,null,"Existing Exposure",null,null,null,null,"SSI Score (Design Year)",null,null,null,null,null,null,null,null,null,null,null,null,null,null,null,null,"Existing Exposure"]
[null,null,"Conv_Sig","Conv_Ramp_Stop","SPUI","DDI","RTI_RAB1x1","RTI_RAB2x1","RTI_RAB2x2","TUDI","Half_Diamond","2_Quad_ParcloA","4_Quad_ParcloA","2_Quad_ParcloB","4_Quad_ParcloB",null,null,null,13700000,null,null,"Existing alt",{"$f":"VLOOKUP('RTI SSI Results'!$B$6,'RTI SSI Results_Full'!V$18:$W$31,2,FALSE)","v":{"$error":"#N/A"}},null,null,null,null,"Conv_Sig","Conv_Ramp_Stop","SPUI","DDI","RTI_RAB1x1","RTI_RAB2x1","RTI_RAB2x2","TUDI","Half_Diamond","2_Quad_ParcloA","4_Quad_ParcloA","2_Quad_ParcloB","4_Quad_ParcloB",null,null,null,"Existing alt",{"$f":"W3","v":{"$error":"#N/A"}}]
[null,"Crossing",{"$f":"EXP(-C52/$S$3)","v":1},1,1,1,1,1,1,1,{"$f":"EXP(-K52/$S$3)","v":1},1,1,1,1,null,null,null,null,null,null,"Nonmotorized",{"$f":"HLOOKUP($W$3,$B$20:$O$24,5,FALSE)","v":{"$error":"#N/A"}},null,null,null,"Crossing",{"$f":"EXP(-AB52/$S$3)","v":1},1,1,1,1,1,1,{"$f":"EXP(-AI52/$S$3)","v":1},{"$f":"EXP(-AJ52/$S$3)","v":1},1,1,1,1,null,null,null,"Nonmotorized",{"$f":"HLOOKUP($AS$3,$AA$20:$AN$24,5,FALSE)","v":{"$error":"#N/A"}}]
[null,"Merging",1,1,1,1,1,1,1,1,{"$f":"EXP(-K53/$S$3)","v":1},1,1,1,1,null,null,null,null,null,null,"Crossing",{"$f":"HLOOKUP($W$3,$B$20:$O$24,2,FALSE)","v":{"$error":"#N/A"}},null,null,null,"Merging",{"$f":"EXP(-AB53/$S$3)","v":1},1,1,1,1,1,1,{"$f":"EXP(-AI53/$S$3)","v":1},{"$f":"EXP(-AJ53/$S$3)","v":1},1,1,1,1,null,null,null,"Crossing",{"$f":"HLOOKUP($W$3,$AA$20:$AN$24,2,FALSE)","v":{"$error":"#N/A"}}]
[null,"Diverging",1,1,1,1,1,1,1,1,{"$f":"EXP(-K54/$S$3)","v":1},1,1,1,1,null,null,null,null,null,null,"Merging",{"$f":"HLOOKUP($W$3,$B$20:$O$24,3,FALSE)","v":{"$error":"#N/A"}},null,null,null,"Diverging",{"$f":"EXP(-AB54/$S$3)","v":1},1,1,1,1,1,1,{"$f":"EXP(-AI54/$S$3)","v":1},{"$f":"EXP(-AJ54/$S$3)","v":1},1,1,1,1,null,null,null,"Merging",{"$f":"HLOOKUP($W$3,$AA$20:$AN$24,3,FALSE)","v":{"$error":"#N/A"}}]
[null,"Nonmotorized",1,1,1,1,1,1,1,1,{"$f":"EXP(-K55/$S$3)","v":1},1,1,1,1,null,null,null,null,null,null,"Diverging",{"$f":"HLOOKUP($W$3,$B$20:$O$24,4,FALSE)","v":{"$error":"#N/A"}},null,null,null,"Nonmotorized",{"$f":"EXP(-AB55/$S$3)","v":1},1,1,1,1,1,1,{"$f":"EXP(-AI55/$S$3)","v":1},{"$f":"EXP(-AJ55/$S$3)","v":1},1,1,1,1,null,null,null,"Diverging",{"$f":"HLOOKUP($W$3,$AA$20:$AN$24,4,FALSE)","v":{"$error":"#N/A"}}]
[null,"Average",{"$f":"EXP(-(C56/4)/$S$3)","v":1},1,1,1,1,1,1,1,{"$f":"EXP(-(K56/4)/$S$3)","v":1},1,1,1,1,null,null,null,null,null,null,null,null,null,null,null,"Average",{"$f":"EXP(-(AB56/4)/$S$3)","v":1},1,1,1,1,1,1,{"$f":"EXP(-(AI56/4)/$S$3)","v":1},{"$f":"EXP(-(AJ56/4)/$S$3)","v":1},1,1,1,1]
[]
[]
[null,"Conflict Points",null,null,null,null,null,null,null,null,null,null,null,null,null,null,null,null,null,null,null,null,null,null,null,null,"Conflict Points"]
[null,null,"Conv_Sig","Conv_Ramp_Stop","SPUI","DDI","RTI_RAB1x1","RTI_RAB2x1","RTI_RAB2x2","TUDI","Half_Diamond","2_Quad_ParcloA","4_Quad_ParcloA","2_Quad_ParcloB","4_Quad_ParcloB",null,null,null,null,null,null,null,null,null,null,null,null,"Conv_Sig","Conv_Ramp_Stop","SPUI","DDI","RTI_RAB1x1","RTI_RAB2x1","RTI_RAB2x2","TUDI","Half_Diamond","2_Quad_ParcloA","4_Quad_ParcloA","2_Quad_ParcloB","4_Quad_ParcloB"]
[null,"Crossing",{"$f":"COUNTIF(INDIRECT(C$12&\"!$B$4:$B$100\"),\"*\"&$B13&\"*\")","v":6},6,8,2,2,2,2,10,2,6,2,6,2,null,null,null,null,null,null,null,null,null,null,null,"Crossing",{"$f":"C13","v":6},6,8,2,2,2,2,10,{"$f":"K13","v":2},6,2,6,2]
[null,"Merging",6,6,6,6,6,6,6,6,3,6,6,6,4,null,null,null,null,null,null,null,null,null,null,null,"Merging",6,6,6,6,6,6,6,6,3,6,6,6,4]
[null,"Diverging",6,6,6,6,6,6,6,6,3,6,4,6,6,null,null,null,null,null,null,null,null,null,null,null,"Diverging",6,6,6,6,6,6,6,6,3,6,4,6,6]
[null,"Nonmotorized",16,16,16,8,8,8,8,18,8,14,12,14,12,null,null,null,null,null,null,null,null,null,null,null,"Nonmotorized",16,16,16,8,8,8,8,18,8,14,12,14,12]
[null,"Total",{"$f":"SUM(C13:C16)","v":34},{"$f":"SUM(D13:D16)","v":34},36,22,22,22,22,{"$f":"SUM(J13:J16)","v":40},{"$f":"SUM(K13:K16)","v":16},32,24,32,24,null,null,null,null,null,null,null,null,null,null,null,"Total",{"$f":"SUM(AB13:AB16)","v":34},{"$f":"SUM(AC13:AC16)","v":34},36,22,22,22,22,{"$f":"SUM(AI13:AI16)","v":40},{"$f":"SUM(AJ13:AJ16)","v":16},32,24,32,24]
[null,null,null,null,null,null,null,null,null,null,null,null,null,null,null,null,null,null,null,null,null,"Control Strategy","SSI Ref Name"]
[null,"Exposure",null,null,null,null,null,null,null,null,null,null,null,null,null,null,null,null,null,null,null,"Signalized Diamond","Conv_Sig",null,null,null,"Exposure"]
[null,null,"Conv_Sig","Conv_Ramp_Stop","SPUI","DDI","RTI_RAB1x1","RTI_RAB2x1","RTI_RAB2x2","TUDI","Half_Diamond","2_Quad_ParcloA","4_Quad_ParcloA","2_Quad_ParcloB","4_Quad_ParcloB",null,null,null,null,null,null,"Signalized Diamond (Alt)","Conv_Ramp_Stop",null,null,null,null,"Conv_Sig","Conv_Ramp_Stop","SPUI","DDI","RTI_RAB1x1","RTI_RAB2x1","RTI_RAB2x2","TUDI","Half_Diamond","2_Quad_ParcloA","4_Quad_ParcloA","2_Quad_ParcloB","4_Quad_ParcloB"]
[null,"Crossing",{"$f":"SUMIF(INDIRECT(C$20&\"!$B$4:$B$100\"),\"*\"&$B21&\"*\",INDIRECT(C$20&\"!$L$4:$L$100\"))","v":0},{"$f":"SUMIF(INDIRECT(D$20&\"!$B$4:$B$100\"),\"*\"&$B21&\"*\",INDIRECT(D$20&\"!$L$4:$L$100\"))","v":0},0,0,0,0,0,0,0,0,0,0,0,null,null,null,null,null,null,"Diverging Diamond","DDI",null,null,null,"Crossing",{"$f":"SUMIF(INDIRECT(AB$20&\"!$B$4:$B$100\"),\"*\"&$AA21&\"*\",INDIRECT(C$20&\"!$L$103:$L$200\"))","v":0},0,0,0,0,0,0,0,{"$f":"SUMIF(INDIRECT(AJ$20&\"!$B$4:$B$100\"),\"*\"&$AA21&\"*\",INDIRECT(K$20&\"!$L$103:$L$200\"))","v":0},0,0,0,0]
[null,"Merging",0,0,0,0,0,0,0,0,0,0,0,0,0,null,null,null,null,null,null,"Single-Point Diamond","SPUI",null,null,null,"Merging",0,0,0,0,0,0,0,0,0,0,0,0,0]
[null,"Diverging",0,0,0,0,0,0,0,0,0,0,0,0,0,null,null,null,null,null,null,"Unsignalized Diamond","Conv_Ramp_Stop",null,null,null,"Diverging",0,0,0,0,0,0,0,0,0,0,0,0,0]
[null,"Nonmotorized",0,0,0,0,0,0,0,0,0,0,0,0,0,null,null,null,null,null,null,"1-lane Roundabout","RTI_RAB1x1",null,null,null,"Nonmotorized",0,0,0,0,0,0,0,0,0,0,0,0,0]
[null,null,null,null,null,null,null,null,null,null,null,null,null,null,null,null,null,null,null,null,null,"2-lane Roundabout","RTI_RAB2x2"]
[null,"Sum of P(FSI)",null,null,null,null,null,null,null,null,null,null,null,null,null,null,null,null,null,null,null,"Signalized Tight Diamond","TUDI",null,null,null,"Sum of P(FSI)"]
[null,null,"Conv_Sig","Conv_Ramp_Stop","SPUI","DDI","RTI_RAB1x1","RTI_RAB2x1","RTI_RAB2x2","TUDI","Half_Diamond","2_Quad_ParcloA","4_Quad_ParcloA","2_Quad_ParcloB","4_Quad_ParcloB",null,null,null,null,null,null,"Half Diamond","Half_Diamond",null,null,null,null,"Conv_Sig","Conv_Ramp_Stop","SPUI","DDI","RTI_RAB1x1","RTI_RAB2x1","RTI_RAB2x2","TUDI","Half_Diamond","2_Quad_ParcloA","4_Quad_ParcloA","2_Quad_ParcloB","4_Quad_ParcloB"]
[null,"Crossing",{"$f":"SUMIF(INDIRECT(C$27&\"!$B$4:$B$100\"),\"*\"&$B28&\"*\",INDIRECT(C$27&\"!$R$4:$R$100\"))","v":4.6965932755529051E-2},4.6965932755529051E-2,6.3689279975603377E-2,6.7275103385595302E-3,8.339605477152635E-3,8.339605477152635E-3,8.339605477152635E-3,0.11756405303239695,1.9276822385971499E-3,2.0578711697268624E-2,2.8862784465398888E-3,2.0578711697268624E-2,9.6908603065441084E-4,null,null,null,null,null,null,"Two Quadrant Partial Cloverleaf A","2_Quad_ParcloA",null,null,null,"Crossing",{"$f":"C28","v":4.6965932755529051E-2},4.6965932755529051E-2,6.3689279975603377E-2,6.7275103385595302E-3,8.339605477152635E-3,8.339605477152635E-3,8.339605477152635E-3,0.11756405303239695,{"$f":"K28","v":1.9276822385971499E-3},2.0578711697268624E-2,2.8862784465398888E-3,2.0578711697268624E-2,9.6908603065441084E-4]
[null,"Merging",8.4770548346507543E-3,8.4770548346507543E-3,8.477054834650756E-3,3.6361436879447247E-3,7.3646135637543079E-3,7.3646135637543079E-3,7.3646135637543079E-3,8.4770548346507543E-3,4.2385274173253771E-3,8.4770548346507543E-3,7.804584654368137E-4,8.4770548346507543E-3,6.7275103385595302E-3,null,null,null,null,null,null,"Four Quadrant Partial Cloverleaf A","4_Quad_ParcloA",null,null,null,"Merging",8.4770548346507543E-3,8.4770548346507543E-3,8.477054834650756E-3,3.6361436879447247E-3,7.3646135637543079E-3,7.3646135637543079E-3,7.3646135637543079E-3,8.4770548346507543E-3,4.2385274173253771E-3,8.4770548346507543E-3,7.804584654368137E-4,8.4770548346507543E-3,6.7275103385595302E-3]
[null,"Diverging",3.8566457049558035E-3,3.8566457049558035E-3,3.8566457049558035E-3,3.8566457049558035E-3,1.3944585891590257E-4,1.3944585891590257E-4,1.3944585891590257E-4,3.8566457049558035E-3,1.928322852477902E-3,3.8566457049558044E-3,3.8553644771942997E-3,3.8566457049558039E-3,1.9652193782312508E-3,null,null,null,null,null,null,"Two Quadrant Partial Cloverleaf B","2_Quad_ParcloB",null,null,null,"Diverging",3.8566457049558035E-3,3.8566457049558035E-3,3.8566457049558035E-3,3.8566457049558035E-3,1.3944585891590257E-4,1.3944585891590257E-4,1.3944585891590257E-4,3.8566457049558035E-3,1.928322852477902E-3,3.8566457049558044E-3,3.8553644771942997E-3,3.8566457049558039E-3,1.9652193782312508E-3]
[null,"Nonmotorized",1.6944044271913539,1.6944044271913539,2.2592386568890501,0.56590374526477727,2.6789887174879183,2.6789887174879183,2.6789887174879183,2.0999026856244614,0.64815247056575287,1.8537403984559422,0.81430332546919282,1.6179010699621486,0.83157947168317936,null,null,null,null,null,null,"Four Quadrant Partial Cloverleaf B","4_Quad_ParcloB",null,null,null,"Nonmotorized",1.6944044271913539,1.6944044271913539,2.2592386568890501,0.56590374526477727,2.6789887174879183,2.6789887174879183,2.6789887174879183,2.0999026856244614,0.64815247056575287,1.8537403984559422,0.81430332546919282,1.6179010699621486,0.83157947168317936]
[null,"Total",{"$f":"SUM(C28:C31)","v":1.7537040604864895},{"$f":"SUM(D28:D31)","v":1.7537040604864895},2.3352616374042601,0.58012404499623738,2.6948323823877414,2.6948323823877414,2.6948323823877414,{"$f":"SUM(J28:J31)","v":2.229800439196465},{"$f":"SUM(K28:K31)","v":0.65624700307415329},1.8866528106928173,0.82182542685836379,1.6508134821990237,0.84124128743062454,null,null,null,null,null,null,null,null,null,null,null,"Total",{"$f":"SUM(AB28:AB31)","v":1.7537040604864895},{"$f":"SUM(AC28:AC31)","v":1.7537040604864895},2.3352616374042601,0.58012404499623738,2.6948323823877414,2.6948323823877414,2.6948323823877414,{"$f":"SUM(AI28:AI31)","v":2.229800439196465},{"$f":"SUM(AJ28:AJ31)","v":0.65624700307415329},1.8866528106928173,0.82182542685836379,1.6508134821990237,0.84124128743062454]
[]
[null,"Average P(FSI)",null,null,null,null,null,null,null,null,null,null,null,null,null,null,null,null,null,null,null,null,null,null,null,null,"Average P(FSI)"]
[null,null,"Conv_Sig","Conv_Ramp_Stop","SPUI","DDI","RTI_RAB1x1","RTI_RAB2x1","RTI_RAB2x2","TUDI","Half_Diamond","2_Quad_ParcloA","4_Quad_ParcloA","2_Quad_ParcloB","4_Quad_ParcloB",null,null,null,null,null,null,null,null,null,null,null,null,"Conv_Sig","Conv_Ramp_Stop","SPUI","DDI","RTI_RAB1x1","RTI_RAB2x1","RTI_RAB2x2","TUDI","Half_Diamond","2_Quad_ParcloA","4_Quad_ParcloA","2_Quad_ParcloB","4_Quad_ParcloB"]
[null,"Crossing",{"$f":"C28/C13","v":7.8276554592548418E-3},{"$f":"D28/D13","v":7.8276554592548418E-3},7.9611599969504222E-3,3.3637551692797651E-3,4.1698027385763175E-3,4.1698027385763175E-3,4.1698027385763175E-3,{"$f":"J28/J13","v":1.1756405303239695E-2},{"$f":"K28/K13","v":9.6384111929857493E-4},3.4297852828781041E-3,1.4431392232699444E-3,3.4297852828781041E-3,4.8454301532720542E-4,null,null,null,null,null,null,null,null,null,null,null,"Crossing",{"$f":"AB28/AB13","v":7.8276554592548418E-3},{"$f":"AC28/AC13","v":7.8276554592548418E-3},7.9611599969504222E-3,3.3637551692797651E-3,4.1698027385763175E-3,4.1698027385763175E-3,4.1698027385763175E-3,{"$f":"AI28/AI13","v":1.1756405303239695E-2},{"$f":"AJ28/AJ13","v":9.6384111929857493E-4},3.4297852828781041E-3,1.4431392232699444E-3,3.4297852828781041E-3,4.8454301532720542E-4]
[null,"Merging",{"$f":"C29/C14","v":1.4128424724417924E-3},1.4128424724417924E-3,1.4128424724417926E-3,6.0602394799078745E-4,1.2274355939590512E-3,1.2274355939590512E-3,1.2274355939590512E-3,{"$f":"J29/J14","v":1.4128424724417924E-3},{"$f":"K29/K14","v":1.4128424724417924E-3},1.4128424724417924E-3,1.3007641090613561E-4,1.4128424724417924E-3,1.6818775846398825E-3,null,null,null,null,null,null,null,null,null,null,null,"Merging",{"$f":"AB29/AB14","v":1.4128424724417924E-3},1.4128424724417924E-3,1.4128424724417926E-3,6.0602394799078745E-4,1.2274355939590512E-3,1.2274355939590512E-3,1.2274355939590512E-3,{"$f":"AI29/AI14","v":1.4128424724417924E-3},{"$f":"AJ29/AJ14","v":1.4128424724417924E-3},1.4128424724417924E-3,1.3007641090613561E-4,1.4128424724417924E-3,1.6818775846398825E-3]
[null,"Diverging",6.4277428415930062E-4,6.4277428415930062E-4,6.4277428415930062E-4,6.4277428415930062E-4,2.3240976485983762E-5,2.3240976485983762E-5,2.3240976485983762E-5,{"$f":"J30/J15","v":6.4277428415930062E-4},{"$f":"K30/K15","v":6.4277428415930062E-4},6.4277428415930073E-4,9.6384111929857493E-4,6.4277428415930062E-4,3.275365630385418E-4,null,null,null,null,null,null,null,null,null,null,null,"Diverging",{"$f":"AB30/AB15","v":6.4277428415930062E-4},6.4277428415930062E-4,6.4277428415930062E-4,6.4277428415930062E-4,2.3240976485983762E-5,2.3240976485983762E-5,2.3240976485983762E-5,{"$f":"AI30/AI15","v":6.4277428415930062E-4},{"$f":"AJ30/AJ15","v":6.4277428415930062E-4},6.4277428415930073E-4,9.6384111929857493E-4,6.4277428415930062E-4,3.275365630385418E-4]
[null,"Nonmotorized",0.10590027669945962,0.10590027669945962,0.14120241605556563,7.0737968158097159E-2,0.33487358968598979,0.33487358968598979,0.33487358968598979,{"$f":"J31/J16","v":0.11666126031247008},{"$f":"K31/K16","v":8.1019058820719109E-2},0.13241002846113872,6.7858610455766064E-2,0.11556436214015346,6.9298289306931618E-2,null,null,null,null,null,null,null,null,null,null,null,"Nonmotorized",{"$f":"AB31/AB16","v":0.10590027669945962},0.10590027669945962,0.14120241605556563,7.0737968158097159E-2,0.33487358968598979,0.33487358968598979,0.33487358968598979,{"$f":"AI31/AI16","v":0.11666126031247008},{"$f":"AJ31/AJ16","v":8.1019058820719109E-2},0.13241002846113872,6.7858610455766064E-2,0.11556436214015346,6.9298289306931618E-2]
[null,"Total",{"$f":"C32/C17","v":5.1579531190779106E-2},5.1579531190779106E-2,6.4868378816785005E-2,2.6369274772556243E-2,0.12249238101762461,0.12249238101762461,0.12249238101762461,{"$f":"J32/J17","v":5.5745010979911622E-2},{"$f":"K32/K17","v":4.1015437692134581E-2},5.8957900334150541E-2,3.4242726119098489E-2,5.158792131871949E-2,3.5051720309609354E-2,null,null,null,null,null,null,null,null,null,null,null,"Total",{"$f":"AB32/AB17","v":5.1579531190779106E-2},{"$f":"AC32/AC17","v":5.1579531190779106E-2},6.4868378816785005E-2,2.6369274772556243E-2,0.12249238101762461,0.12249238101762461,0.12249238101762461,{"$f":"AI32/AI17","v":5.5745010979911622E-2},{"$f":"AJ32/AJ17","v":4.1015437692134581E-2},5.8957900334150541E-2,3.4242726119098489E-2,5.158792131871949E-2,3.5051720309609354E-2]
[]
[null,"Average Complexity",null,null,null,null,null,null,null,null,null,null,null,null,null,null,null,null,null,null,null,null,null,null,null,null,"Average Complexity"]
[null,null,"Conv_Sig","Conv_Ramp_Stop","SPUI","DDI","RTI_RAB1x1","RTI_RAB2x1","RTI_RAB2x2","TUDI","Half_Diamond","2_Quad_ParcloA","4_Quad_ParcloA","2_Quad_ParcloB","4_Quad_ParcloB",null,null,null,null,null,null,null,null,null,null,null,null,"Conv_Sig","Conv_Ramp_Stop","SPUI","DDI","RTI_RAB1x1","RTI_RAB2x1","RTI_RAB2x2","TUDI","Half_Diamond","2_Quad_ParcloA","4_Quad_ParcloA","2_Quad_ParcloB","4_Quad_ParcloB"]
[null,"Crossing",{"$f":"AVERAGEIF(INDIRECT(C$43&\"!$B$4:$B$100\"),\"*\"&$B44&\"*\",INDIRECT(C$43&\"!$AI$4:$AI$100\"))","v":0.16833333333333331},0.2722222222222222,0.16833333333333328,0.16833333333333331,0.61111111111111105,1.2222222222222221,1.2222222222222221,0.16833333333333328,0.16833333333333331,0.16833333333333331,0.16833333333333331,0.16833333333333331,0.16833333333333331,null,null,null,null,null,null,null,null,null,null,null,"Crossing",{"$f":"C44","v":0.16833333333333331},0.2722222222222222,0.16833333333333328,0.16833333333333331,0.61111111111111105,1.2222222222222221,1.2222222222222221,0.16833333333333328,{"$f":"K44","v":0.16833333333333331},0.16833333333333331,0.16833333333333331,0.16833333333333331,0.16833333333333331]
[null,"Merging",0.16833333333333331,0.2722222222222222,0.2233333333333333,0.16833333333333331,0.61111111111111105,0.96759259259259256,1.1712962962962963,0.16833333333333331,0.27833333333333327,0.27833333333333327,0.33333333333333326,0.33333333333333326,0.33333333333333326,null,null,null,null,null,null,null,null,null,null,null,"Merging",0.16833333333333331,0.2722222222222222,0.2233333333333333,0.16833333333333331,0.61111111111111105,0.96759259259259256,1.1712962962962963,0.16833333333333331,0.27833333333333327,0.27833333333333327,0.33333333333333326,0.33333333333333326,0.33333333333333326]
[null,"Diverging",1,1,1,1,1,1,1,1,1,1,1,1,1,null,null,null,null,null,null,null,null,null,null,null,"Diverging",1,1,1,1,1,1,1,1,1,1,1,1,1]
[null,"Nonmotorized",0.18937500000000002,0.38697916666666654,0.31166666666666659,0.69187499999999991,1.2222222222222223,1.8333333333333333,2.4444444444444446,0.18703703703703703,0.20958333333333326,0.2154761904761904,0.2508333333333333,0.2154761904761904,0.2508333333333333,null,null,null,null,null,null,null,null,null,null,null,"Nonmotorized",0.18937500000000002,0.38697916666666654,0.31166666666666659,0.69187499999999991,1.2222222222222223,1.8333333333333333,2.4444444444444446,0.18703703703703703,0.20958333333333326,0.2154761904761904,0.2508333333333333,0.2154761904761904,0.2508333333333333]
[null,"Total",{"$f":"AVERAGE(INDIRECT(C$43&\"!$AI$4:$AI$100\"))","v":0.32499999999999979},{"$f":"AVERAGE(INDIRECT(D$43&\"!$AI$4:$AI$100\"))","v":0.4546568627450982},0.37981481481481466,0.58553030303030296,0.93939393939393934,1.3143939393939392,1.5921717171717171,0.30149999999999982,0.36552083333333318,0.36552083333333329,0.38944444444444432,0.37583333333333324,0.44500000000000006,null,null,null,null,null,null,null,null,null,null,null,"Total",{"$f":"AVERAGE(INDIRECT(AB$43&\"!$AI$4:$AI$100\"))","v":0.32499999999999979},{"$f":"AVERAGE(INDIRECT(AC$43&\"!$AI$4:$AI$100\"))","v":0.4546568627450982},0.37981481481481466,0.58553030303030296,0.93939393939393934,1.3143939393939392,1.5921717171717171,0.30149999999999982,0.36552083333333318,0.36552083333333329,0.38944444444444432,0.37583333333333324,0.44500000000000006]
[]
[null,"Exposure-Severity-Complexity Product",null,null,null,null,null,null,null,null,null,null,null,null,null,null,null,null,null,null,null,null,null,null,null,null,"Exposure-Severity-Complexity Product"]
[null,null,"Conv_Sig","Conv_Ramp_Stop","SPUI","DDI","RTI_RAB1x1","RTI_RAB2x1","RTI_RAB2x2","TUDI","Half_Diamond","2_Quad_ParcloA","4_Quad_ParcloA","2_Quad_ParcloB","4_Quad_ParcloB",null,null,null,null,null,null,null,null,null,null,null,null,"Conv_Sig","Conv_Ramp_Stop","SPUI","DDI","RTI_RAB1x1","RTI_RAB2x1","RTI_RAB2x2","TUDI","Half_Diamond","2_Quad_ParcloA","4_Quad_ParcloA","2_Quad_ParcloB","4_Quad_ParcloB"]
[null,"Crossing",{"$f":"SUMIF(INDIRECT(C$51&\"!$B$4:$B$100\"),\"*\"&$B52&\"*\",INDIRECT(C$51&\"!$AK$4:$AK$100\"))","v":0},0,0,0,0,0,0,0,0,0,0,0,0,null,null,null,null,null,null,null,null,null,null,null,"Crossing",{"$f":"SUMIF(INDIRECT(AB$51&\"!$B$4:$B$100\"),\"*\"&$AA52&\"*\",INDIRECT(C$51&\"!$AK$103:$AK$200\"))","v":0},0,0,0,0,0,0,0,{"$f":"SUMIF(INDIRECT(AJ$51&\"!$B$4:$B$100\"),\"*\"&$AA52&\"*\",INDIRECT(K$51&\"!$AK$103:$AK$200\"))","v":0},0,0,0,0]
[null,"Merging",0,0,0,0,0,0,0,0,0,0,0,0,0,null,null,null,null,null,null,null,null,null,null,null,"Merging",0,0,0,0,0,0,0,0,0,0,0,0,0]
[null,"Diverging",0,0,0,0,0,0,0,0,0,0,0,0,0,null,null,null,null,null,null,null,null,null,null,null,"Diverging",0,0,0,0,0,0,0,0,0,0,0,0,0]
[null,"Nonmotorized",0,0,0,0,0,0,0,0,0,0,0,0,0,null,null,null,null,null,null,null,null,null,null,null,"Nonmotorized",0,0,0,0,0,0,0,0,0,0,0,0,0]
[null,"Total",{"$f":"SUM(C52:C55)","v":0},{"$f":"SUM(D52:D55)","v":0},0,0,0,0,0,{"$f":"SUM(J52:J55)","v":0},{"$f":"SUM(K52:K55)","v":0},0,0,0,0,null,null,null,null,null,null,null,null,null,null,null,"Total",{"$f":"SUM(AB52:AB55)","v":0},{"$f":"SUM(AC52:AC55)","v":0},0,0,0,0,0,{"$f":"SUM(AI52:AI55)","v":0},{"$f":"SUM(AJ52:AJ55)","v":0},0,0,0,0]

{"sheet":"SSI 4L Results_Full","index":33,"n_rows":56,"n_cols":53,"rows_kept":56,"cut":false,"hidden":true,"merged":[[41,1,41,17],[49,1,49,17],[1,1,1,17],[1,24,1,25],[10,1,10,17],[18,1,18,17],[25,1,25,17],[33,1,33,17],[41,28,41,44],[49,28,49,44],[1,51,1,52],[1,28,1,44],[10,28,10,44],[18,28,18,44],[25,28,25,44],[33,28,33,44]]}
[]
[null,"SSI Score (Open Year)",null,null,null,null,null,null,null,null,null,null,null,null,null,null,null,null,null,null,null,"z",null,null,"Existing Exposure (Open)",null,null,null,"SSI Score (Design Year)",null,null,null,null,null,null,null,null,null,null,null,null,null,null,null,null,null,null,null,null,null,null,"Existing Exposure (Open)"]
[null,null,"Trad_Sig","Trad_MinorStop","Trad_AllStop","RAB1x1","RAB2x1","RAB2x2","RCUT_Sig","RCUT_Unsig","ThruCut_Sig","ThruCut_Unsig","MUT","PDLT","FDLT","QR","Jughandle","Bowtie",null,null,null,13700000,null,null,"Existing alt",{"$f":"VLOOKUP('SSI Results'!B6,'SSI 4L Results_Full'!Y16:Z31,2, FALSE)","v":{"$error":"#N/A"}},null,null,null,"Trad_Sig","Trad_MinorStop","Trad_AllStop","RAB1x1","RAB2x1","RAB2x2","RCUT_Sig","RCUT_Unsig","ThruCut_Sig","ThruCut_Unsig","MUT","PDLT","FDLT","QR","Jughandle","Bowtie",null,null,null,null,null,null,"Existing alt",{"$f":"VLOOKUP('SSI Results'!B6,'SSI 4L Results_Full'!Y16:Z31,2, FALSE)","v":{"$error":"#N/A"}}]
[null,"Crossing",{"$f":"EXP(-C52/$V$3)","v":{"$error":"#VALUE!"}},{"$error":"#VALUE!"},{"$error":"#VALUE!"},{"$error":"#VALUE!"},{"$error":"#VALUE!"},{"$error":"#VALUE!"},{"$error":"#VALUE!"},{"$error":"#VALUE!"},{"$f":"EXP(-K52/$V$3)","v":{"$error":"#VALUE!"}},{"$error":"#VALUE!"},{"$f":"EXP(-M52/$V$3)","v":{"$error":"#VALUE!"}},{"$error":"#VALUE!"},{"$error":"#VALUE!"},{"$error":"#VALUE!"},{"$error":"#VALUE!"},{"$error":"#VALUE!"},null,null,null,null,null,null,"Nonmotorized",{"$f":"HLOOKUP($Z$3,$B$20:$R$24,5,FALSE)","v":{"$error":"#N/A"}},null,null,"Crossing",{"$f":"EXP(-AD52/$V$3)","v":{"$error":"#VALUE!"}},{"$f":"EXP(-AE52/$V$3)","v":{"$error":"#VALUE!"}},{"$error":"#VALUE!"},{"$error":"#VALUE!"},{"$error":"#VALUE!"},{"$error":"#VALUE!"},{"$error":"#VALUE!"},{"$error":"#VALUE!"},{"$f":"EXP(-AL52/$V$3)","v":{"$error":"#VALUE!"}},{"$error":"#VALUE!"},{"$error":"#VALUE!"},{"$error":"#VALUE!"},{"$error":"#VALUE!"},{"$error":"#VALUE!"},{"$error":"#VALUE!"},{"$error":"#VALUE!"},null,null,null,null,null,null,"Nonmotorized",{"$f":"HLOOKUP($Z$3,$AC$20:$AS$24,5,FALSE)","v":{"$error":"#N/A"}}]
[null,"Merging",{"$error":"#VALUE!"},{"$error":"#VALUE!"},{"$error":"#VALUE!"},{"$error":"#VALUE!"},{"$error":"#VALUE!"},{"$error":"#VALUE!"},{"$error":"#VALUE!"},{"$error":"#VALUE!"},{"$error":"#VALUE!"},{"$error":"#VALUE!"},{"$error":"#VALUE!"},{"$error":"#VALUE!"},{"$error":"#VALUE!"},{"$error":"#VALUE!"},{"$error":"#VALUE!"},{"$error":"#VALUE!"},null,null,null,null,null,null,"Crossing",{"$f":"HLOOKUP($Z$3,$B$20:$R$24,2,FALSE)","v":{"$error":"#N/A"}},null,null,"Merging",{"$f":"EXP(-AD53/$V$3)","v":{"$error":"#VALUE!"}},{"$f":"EXP(-AE53/$V$3)","v":{"$error":"#VALUE!"}},{"$error":"#VALUE!"},{"$error":"#VALUE!"},{"$error":"#VALUE!"},{"$error":"#VALUE!"},{"$error":"#VALUE!"},{"$error":"#VALUE!"},{"$error":"#VALUE!"},{"$error":"#VALUE!"},{"$error":"#VALUE!"},{"$error":"#VALUE!"},{"$error":"#VALUE!"},{"$error":"#VALUE!"},{"$error":"#VALUE!"},{"$error":"#VALUE!"},null,null,null,null,null,null,"Crossing",{"$f":"HLOOKUP($Z$3,$AC$20:$AS$24,2,FALSE)","v":{"$error":"#N/A"}}]
[null,"Diverging",{"$error":"#VALUE!"},{"$error":"#VALUE!"},{"$error":"#VALUE!"},{"$error":"#VALUE!"},{"$error":"#VALUE!"},{"$error":"#VALUE!"},{"$error":"#VALUE!"},{"$error":"#VALUE!"},{"$error":"#VALUE!"},{"$error":"#VALUE!"},{"$error":"#VALUE!"},{"$error":"#VALUE!"},{"$error":"#VALUE!"},{"$error":"#VALUE!"},{"$error":"#VALUE!"},{"$error":"#VALUE!"},null,null,null,null,null,null,"Merging",{"$f":"HLOOKUP($Z$3,$B$20:$R$24,3,FALSE)","v":{"$error":"#N/A"}},null,null,"Diverging",{"$f":"EXP(-AD54/$V$3)","v":{"$error":"#VALUE!"}},{"$f":"EXP(-AE54/$V$3)","v":{"$error":"#VALUE!"}},{"$error":"#VALUE!"},{"$error":"#VALUE!"},{"$error":"#VALUE!"},{"$error":"#VALUE!"},{"$error":"#VALUE!"},{"$error":"#VALUE!"},{"$error":"#VALUE!"},{"$error":"#VALUE!"},{"$error":"#VALUE!"},{"$error":"#VALUE!"},{"$error":"#VALUE!"},{"$error":"#VALUE!"},{"$error":"#VALUE!"},{"$error":"#VALUE!"},null,null,null,null,null,null,"Merging",{"$f":"HLOOKUP($Z$3,$AC$20:$AS$24,3,FALSE)","v":{"$error":"#N/A"}}]
[null,"Nonmotorized",{"$error":"#VALUE!"},{"$error":"#VALUE!"},{"$error":"#VALUE!"},{"$error":"#VALUE!"},{"$error":"#VALUE!"},{"$error":"#VALUE!"},{"$error":"#VALUE!"},{"$error":"#VALUE!"},{"$error":"#VALUE!"},{"$error":"#VALUE!"},{"$error":"#VALUE!"},{"$error":"#VALUE!"},{"$error":"#VALUE!"},{"$error":"#VALUE!"},{"$error":"#VALUE!"},{"$error":"#VALUE!"},null,null,null,null,null,null,"Diverging",{"$f":"HLOOKUP($Z$3,$B$20:$R$24,4,FALSE)","v":{"$error":"#N/A"}},null,null,"Nonmotorized",{"$f":"EXP(-AD55/$V$3)","v":{"$error":"#VALUE!"}},{"$f":"EXP(-AE55/$V$3)","v":{"$error":"#VALUE!"}},{"$error":"#VALUE!"},{"$error":"#VALUE!"},{"$error":"#VALUE!"},{"$error":"#VALUE!"},{"$error":"#VALUE!"},{"$error":"#VALUE!"},{"$error":"#VALUE!"},{"$error":"#VALUE!"},{"$error":"#VALUE!"},{"$error":"#VALUE!"},{"$error":"#VALUE!"},{"$error":"#VALUE!"},{"$error":"#VALUE!"},{"$error":"#VALUE!"},null,null,null,null,null,null,"Diverging",{"$f":"HLOOKUP($Z$3,$AC$20:$AS$24,4,FALSE)","v":{"$error":"#N/A"}}]
[null,"Average",{"$f":"EXP(-(C56/4)/$V$3)","v":{"$error":"#VALUE!"}},{"$error":"#VALUE!"},{"$error":"#VALUE!"},{"$error":"#VALUE!"},{"$error":"#VALUE!"},{"$error":"#VALUE!"},{"$error":"#VALUE!"},{"$error":"#VALUE!"},{"$f":"EXP(-(K56/4)/$V$3)","v":{"$error":"#VALUE!"}},{"$f":"EXP(-(L56/4)/$V$3)","v":{"$error":"#VALUE!"}},{"$f":"EXP(-(M56/4)/$V$3)","v":{"$error":"#VALUE!"}},{"$error":"#VALUE!"},{"$error":"#VALUE!"},{"$error":"#VALUE!"},{"$error":"#VALUE!"},{"$error":"#VALUE!"},null,null,null,null,null,null,null,null,null,null,"Average",{"$f":"EXP(-(AD56/4)/$V$3)","v":{"$error":"#VALUE!"}},{"$f":"EXP(-(AE56/4)/$V$3)","v":{"$error":"#VALUE!"}},{"$error":"#VALUE!"},{"$error":"#VALUE!"},{"$error":"#VALUE!"},{"$error":"#VALUE!"},{"$error":"#VALUE!"},{"$error":"#VALUE!"},{"$f":"EXP(-(AL56/4)/$V$3)","v":{"$error":"#VALUE!"}},{"$f":"EXP(-(AM56/4)/$V$3)","v":{"$error":"#VALUE!"}},{"$error":"#VALUE!"},{"$error":"#VALUE!"},{"$error":"#VALUE!"},{"$error":"#VALUE!"},{"$error":"#VALUE!"},{"$error":"#VALUE!"}]
[]
[]
[null,"Conflict Points",null,null,null,null,null,null,null,null,null,null,null,null,null,null,null,null,null,null,null,null,null,null,null,null,null,null,"Conflict Points"]
[null,null,"Trad_Sig","Trad_MinorStop","Trad_AllStop","RAB1x1","RAB2x1","RAB2x2","RCUT_Sig","RCUT_Unsig","ThruCut_Sig","ThruCut_Unsig","MUT","PDLT","FDLT","QR","Jughandle","Bowtie",null,null,null,null,null,null,null,null,null,null,null,"Trad_Sig","Trad_MinorStop","Trad_AllStop","RAB1x1","RAB2x1","RAB2x2","RCUT_Sig","RCUT_Unsig","ThruCut_Sig","ThruCut_Unsig","MUT","PDLT","FDLT","QR","Jughandle","Bowtie"]
[null,"Crossing",{"$f":"COUNTIF(INDIRECT(C$12&\"!$B$4:$B$100\"),\"*\"&$B13&\"*\")","v":16},16,16,4,4,4,2,2,8,8,4,14,12,10,13,4,null,null,null,null,null,null,null,null,null,null,"Crossing",{"$f":"C13","v":16},16,16,4,4,4,2,2,8,8,{"$f":"M13","v":4},14,12,10,13,4]
[null,"Merging",8,8,8,8,8,8,6,6,8,8,6,8,8,10,8,6,null,null,null,null,null,null,null,null,null,null,"Merging",{"$f":"C14","v":8},8,8,8,8,8,6,{"$f":"J14","v":6},8,8,{"$f":"M14","v":6},8,8,10,8,6]
[null,"Diverging",8,8,8,8,8,8,6,6,8,8,6,8,8,10,8,6,null,null,null,null,null,null,"Control Strategy","SSI Ref Name",null,null,"Diverging",8,8,8,8,8,8,6,6,8,8,6,8,8,10,8,6]
[null,"Nonmotorized",24,24,24,8,8,8,10,10,20,20,16,20,20,40,23,16,null,null,null,null,null,null,"Traffic Signal","Trad_Sig",null,null,"Nonmotorized",24,24,24,8,8,8,10,10,20,20,16,20,20,40,23,16]
[null,"Total",{"$f":"SUM(C13:C16)","v":56},{"$f":"SUM(D13:D16)","v":56},56,28,28,28,24,24,{"$f":"SUM(K13:K16)","v":44},{"$f":"SUM(L13:L16)","v":44},32,50,48,70,52,32,null,null,null,null,null,null,"Traffic Signal (Alt)","Trad_Sig",null,null,"Total",{"$f":"SUM(C13:C16)","v":56},56,56,28,28,28,24,24,44,44,{"$f":"SUM(M13:M16)","v":32},50,48,70,52,32]
[null,null,null,null,null,null,null,null,null,null,null,null,null,null,null,null,null,null,null,null,null,null,null,null,"Minor Road Stop","Trad_MinorStop"]
[null,"Exposure",null,null,null,null,null,null,null,null,null,null,null,null,null,null,null,null,null,null,null,null,null,null,"All Way Stop","Trad_AllStop",null,null,"Exposure"]
[null,null,"Trad_Sig","Trad_MinorStop","Trad_AllStop","RAB1x1","RAB2x1","RAB2x2","RCUT_Sig","RCUT_Unsig","ThruCut_Sig","ThruCut_Unsig","MUT","PDLT","FDLT","QR","Jughandle","Bowtie",null,null,null,null,null,null,"1-Lane Roundabout","RAB1x1",null,null,null,"Trad_Sig","Trad_MinorStop","Trad_AllStop","RAB1x1","RAB2x1","RAB2x2","RCUT_Sig","RCUT_Unsig","ThruCut_Sig","ThruCut_Unsig","MUT","PDLT","FDLT","QR","Jughandle","Bowtie"]
[null,"Crossing",{"$f":"SUMIF(INDIRECT(C$20&\"!$B$4:$B$100\"),\"*\"&$B21&\"*\",INDIRECT(C$20&\"!$L$4:$L$100\"))","v":{"$error":"#VALUE!"}},{"$error":"#VALUE!"},{"$error":"#VALUE!"},{"$error":"#VALUE!"},{"$error":"#VALUE!"},{"$error":"#VALUE!"},{"$error":"#VALUE!"},{"$error":"#VALUE!"},{"$error":"#VALUE!"},{"$error":"#VALUE!"},{"$error":"#VALUE!"},{"$error":"#VALUE!"},{"$error":"#VALUE!"},{"$error":"#VALUE!"},{"$error":"#VALUE!"},{"$error":"#VALUE!"},null,null,null,null,null,null,"Mixed Lane Roundabout","RAB2x1",null,null,"Crossing",{"$f":"SUMIF(INDIRECT(AD$20&\"!$B$4:$B$100\"),\"*\"&$AC21&\"*\",INDIRECT(AD$20&\"!$L$103:$L$200\"))","v":{"$error":"#VALUE!"}},{"$f":"SUMIF(INDIRECT(AE$20&\"!$B$4:$B$100\"),\"*\"&$AC21&\"*\",INDIRECT(AE$20&\"!$L$103:$L$200\"))","v":{"$error":"#VALUE!"}},{"$error":"#VALUE!"},{"$error":"#VALUE!"},{"$error":"#VALUE!"},{"$error":"#VALUE!"},{"$error":"#VALUE!"},{"$error":"#VALUE!"},{"$error":"#VALUE!"},{"$error":"#VALUE!"},{"$error":"#VALUE!"},{"$error":"#VALUE!"},{"$error":"#VALUE!"},{"$error":"#VALUE!"},{"$error":"#VALUE!"},{"$error":"#VALUE!"}]
[null,"Merging",{"$error":"#VALUE!"},{"$error":"#VALUE!"},{"$error":"#VALUE!"},{"$error":"#VALUE!"},{"$error":"#VALUE!"},{"$error":"#VALUE!"},{"$error":"#VALUE!"},{"$error":"#VALUE!"},{"$error":"#VALUE!"},{"$error":"#VALUE!"},{"$error":"#VALUE!"},{"$error":"#VALUE!"},{"$error":"#VALUE!"},{"$error":"#VALUE!"},{"$error":"#VALUE!"},{"$error":"#VALUE!"},null,null,null,null,null,null,"2-Lane Roundabout","RAB2x2",null,null,"Merging",{"$f":"SUMIF(INDIRECT(AD$20&\"!$B$4:$B$100\"),\"*\"&$AC22&\"*\",INDIRECT(AD$20&\"!$L$103:$L$200\"))","v":{"$error":"#VALUE!"}},{"$error":"#VALUE!"},{"$error":"#VALUE!"},{"$error":"#VALUE!"},{"$error":"#VALUE!"},{"$error":"#VALUE!"},{"$error":"#VALUE!"},{"$error":"#VALUE!"},{"$error":"#VALUE!"},{"$error":"#VALUE!"},{"$error":"#VALUE!"},{"$error":"#VALUE!"},{"$error":"#VALUE!"},{"$error":"#VALUE!"},{"$error":"#VALUE!"},{"$error":"#VALUE!"}]
[null,"Diverging",{"$error":"#VALUE!"},{"$error":"#VALUE!"},{"$error":"#VALUE!"},{"$error":"#VALUE!"},{"$error":"#VALUE!"},{"$error":"#VALUE!"},{"$error":"#VALUE!"},{"$error":"#VALUE!"},{"$error":"#VALUE!"},{"$error":"#VALUE!"},{"$error":"#VALUE!"},{"$error":"#VALUE!"},{"$error":"#VALUE!"},{"$error":"#VALUE!"},{"$error":"#VALUE!"},{"$error":"#VALUE!"},null,null,null,null,null,null,"Displaced Left Turn (DLT)","FDLT",null,null,"Diverging",{"$f":"SUMIF(INDIRECT(AD$20&\"!$B$4:$B$100\"),\"*\"&$AC23&\"*\",INDIRECT(AD$20&\"!$L$103:$L$200\"))","v":{"$error":"#VALUE!"}},{"$error":"#VALUE!"},{"$error":"#VALUE!"},{"$error":"#VALUE!"},{"$error":"#VALUE!"},{"$error":"#VALUE!"},{"$error":"#VALUE!"},{"$error":"#VALUE!"},{"$error":"#VALUE!"},{"$error":"#VALUE!"},{"$error":"#VALUE!"},{"$error":"#VALUE!"},{"$error":"#VALUE!"},{"$error":"#VALUE!"},{"$error":"#VALUE!"},{"$error":"#VALUE!"}]
[null,"Nonmotorized",{"$error":"#VALUE!"},{"$error":"#VALUE!"},{"$error":"#VALUE!"},{"$error":"#VALUE!"},{"$error":"#VALUE!"},{"$error":"#VALUE!"},{"$error":"#VALUE!"},{"$error":"#VALUE!"},{"$error":"#VALUE!"},{"$error":"#VALUE!"},{"$error":"#VALUE!"},{"$error":"#VALUE!"},{"$error":"#VALUE!"},{"$error":"#VALUE!"},{"$error":"#VALUE!"},{"$error":"#VALUE!"},null,null,null,null,null,null,"Partial Displaced Left Turn",null,null,null,"Nonmotorized",{"$f":"SUMIF(INDIRECT(AD$20&\"!$B$4:$B$100\"),\"*\"&$AC24&\"*\",INDIRECT(AD$20&\"!$L$103:$L$200\"))","v":{"$error":"#VALUE!"}},{"$error":"#VALUE!"},{"$error":"#VALUE!"},{"$error":"#VALUE!"},{"$error":"#VALUE!"},{"$error":"#VALUE!"},{"$error":"#VALUE!"},{"$error":"#VALUE!"},{"$error":"#VALUE!"},{"$error":"#VALUE!"},{"$error":"#VALUE!"},{"$error":"#VALUE!"},{"$error":"#VALUE!"},{"$error":"#VALUE!"},{"$error":"#VALUE!"},{"$error":"#VALUE!"}]
[null,null,null,null,null,null,null,null,null,null,null,null,null,null,null,null,null,null,null,null,null,null,null,null,"Median U-Turn (MUT)","MUT"]
[null,"Sum of P(FSI)",null,null,null,null,null,null,null,null,null,null,null,null,null,null,null,null,null,null,null,null,null,null,"Signalized RCUT","RCUT_Sig",null,null,"Sum of P(FSI)"]
[null,null,"Trad_Sig","Trad_MinorStop","Trad_AllStop","RAB1x1","RAB2x1","RAB2x2","RCUT_Sig","RCUT_Unsig","ThruCut_Sig","ThruCut_Unsig","MUT","PDLT","FDLT","QR","Jughandle","Bowtie",null,null,null,null,null,null,"Unsignalized RCUT","RCUT_Unsig",null,null,null,"Trad_Sig","Trad_MinorStop","Trad_AllStop","RAB1x1","RAB2x1","RAB2x2","RCUT_Sig","RCUT_Unsig","ThruCut_Sig","ThruCut_Unsig","MUT","PDLT","FDLT","QR","Jughandle","Bowtie"]
[null,"Crossing",{"$f":"SUMIF(INDIRECT(C$27&\"!$B$4:$B$100\"),\"*\"&$B28&\"*\",INDIRECT(C$27&\"!$R$4:$R$100\"))","v":0.14269452276278941},0.11630730170452909,0.17433484903161595,2.0227595128995801E-2,2.0227595128995801E-2,2.0227595128995801E-2,2.8862784465398888E-3,2.8862784465398888E-3,6.3689279975603239E-2,6.3689279975603239E-2,7.6965963692139277E-3,7.3196733426194427E-2,2.7327201681251471E-2,2.8275308066482534E-2,7.899069008335452E-2,7.6965963692139285E-3,null,null,null,null,null,null,"Signalized ThruCut","ThruCut_Sig",null,null,"Crossing",{"$f":"C28","v":0.14269452276278941},0.11630730170452909,0.17433484903161595,2.0227595128995801E-2,2.0227595128995801E-2,2.0227595128995801E-2,2.8862784465398888E-3,2.8862784465398888E-3,6.3689279975603239E-2,6.3689279975603239E-2,{"$f":"M28","v":7.6965963692139277E-3},7.3196733426194427E-2,2.7327201681251471E-2,2.8275308066482534E-2,7.899069008335452E-2,7.6965963692139285E-3]
[null,"Merging",1.1449955305685013E-2,1.1449955305685013E-2,8.6536601406119046E-3,1.2540185342802143E-2,1.2540185342802143E-2,1.2540185342802143E-2,2.7186305267456294E-3,2.7186305267456294E-3,9.4461408653051492E-3,9.4461408653051492E-3,3.8247712531623169E-3,1.1449955305685013E-2,1.0532442144485923E-2,1.1332740057158647E-2,1.3421574022056435E-2,5.2959161009603611E-3,null,null,null,null,null,null,"Unsignalized ThruCUt","ThruCut_Unsig",null,null,"Merging",{"$f":"C29","v":1.1449955305685013E-2},1.1449955305685013E-2,8.6536601406119046E-3,1.2540185342802143E-2,1.2540185342802143E-2,1.2540185342802143E-2,2.7186305267456294E-3,{"$f":"J29","v":2.7186305267456294E-3},9.4461408653051492E-3,9.4461408653051492E-3,{"$f":"M29","v":3.8247712531623169E-3},1.1449955305685013E-2,1.0532442144485923E-2,1.1332740057158647E-2,1.3421574022056435E-2,5.2959161009603611E-3]
[null,"Diverging",3.8579269327173064E-3,3.8579269327173064E-3,5.1249110460172857E-6,1.2033332950965697E-4,1.2033332950965697E-4,1.2033332950965697E-4,6.7416429237341872E-3,6.7416429237341872E-3,6.742924151495691E-3,6.742924151495691E-3,3.8566457049558026E-3,3.8579269327173064E-3,3.8579269327173064E-3,4.8270129633717161E-3,2.4154283233281141E-3,1.0216330825264948E-3,null,null,null,null,null,null,"Continuous Green-T","CGT",null,null,"Diverging",3.8579269327173064E-3,3.8579269327173064E-3,5.1249110460172857E-6,1.2033332950965697E-4,1.2033332950965697E-4,1.2033332950965697E-4,6.7416429237341872E-3,6.7416429237341872E-3,6.742924151495691E-3,6.742924151495691E-3,3.8566457049558026E-3,3.8579269327173064E-3,3.8579269327173064E-3,4.8270129633717161E-3,2.4154283233281141E-3,1.0216330825264948E-3]
[null,"Nonmotorized",3.6235786673094195,3.6235786673094195,4.4933568103568549,3.1506673744755052,3.1506673744755052,3.1506673744755052,1.1704517467278088,1.1704517467278088,2.7412402725513623,2.7412402725513623,1.9302437556851475,3.1415770516471069,3.1415770516471069,4.5552177682911008,3.3385808127918906,2.13041214523302,null,null,null,null,null,null,"Jughandle","Jughandle",null,null,"Nonmotorized",3.6235786673094195,3.6235786673094195,4.4933568103568549,3.1506673744755052,3.1506673744755052,3.1506673744755052,1.1704517467278088,1.1704517467278088,2.7412402725513623,2.7412402725513623,1.9302437556851475,3.1415770516471069,3.1415770516471069,4.5552177682911008,3.3385808127918906,2.13041214523302]
[null,"Total",{"$f":"SUM(C28:C31)","v":3.7815810723106114},{"$f":"SUM(D28:D31)","v":3.7551938512523511},4.6763504444401285,3.1835554882768129,3.1835554882768129,3.1835554882768129,1.1827982986248284,1.1827982986248284,{"$f":"SUM(K28:K31)","v":2.8211186175437661},{"$f":"SUM(L28:L31)","v":2.8211186175437661},1.9456217690124795,3.2300816673117034,3.1832946224055614,4.5996528293781136,3.4334085052206298,2.144426290785721,null,null,null,null,null,null,null,null,null,null,"Total",{"$f":"SUM(AD28:AD31)","v":3.7815810723106114},{"$f":"SUM(AE28:AE31)","v":3.7551938512523511},4.6763504444401285,3.1835554882768129,3.1835554882768129,3.1835554882768129,1.1827982986248284,1.1827982986248284,{"$f":"SUM(AL28:AL31)","v":2.8211186175437661},{"$f":"SUM(AM28:AM31)","v":2.8211186175437661},1.9456217690124795,3.2300816673117034,3.1832946224055614,4.5996528293781136,3.4334085052206298,2.144426290785721]
[]
[null,"Average P(FSI)",null,null,null,null,null,null,null,null,null,null,null,null,null,null,null,null,null,null,null,null,null,null,null,null,null,null,"Average P(FSI)"]
[null,null,"Trad_Sig","Trad_MinorStop","Trad_AllStop","RAB1x1","RAB2x1","RAB2x2","RCUT_Sig","RCUT_Unsig","ThruCut_Sig","ThruCut_Unsig","MUT","PDLT","FDLT","QR","Jughandle","Bowtie",null,null,null,null,null,null,null,null,null,null,null,"Trad_Sig","Trad_MinorStop","Trad_AllStop","RAB1x1","RAB2x1","RAB2x2","RCUT_Sig","RCUT_Unsig","ThruCut_Sig","ThruCut_Unsig","MUT","PDLT","FDLT","QR","Jughandle","Bowtie"]
[null,"Crossing",{"$f":"C28/C13","v":8.9184076726743378E-3},{"$f":"D28/D13","v":7.2692063565330681E-3},1.0895928064475997E-2,5.0568987822489503E-3,5.0568987822489503E-3,5.0568987822489503E-3,1.4431392232699444E-3,1.4431392232699444E-3,{"$f":"K28/K13","v":7.9611599969504048E-3},7.9611599969504048E-3,1.9241490923034819E-3,5.2283381018710306E-3,2.277266806770956E-3,2.8275308066482534E-3,6.0762069294888095E-3,1.9241490923034821E-3,null,null,null,null,null,null,null,null,null,null,"Crossing",{"$f":"AD28/AD13","v":8.9184076726743378E-3},{"$f":"AE28/AE13","v":7.2692063565330681E-3},1.0895928064475997E-2,5.0568987822489503E-3,5.0568987822489503E-3,5.0568987822489503E-3,1.4431392232699444E-3,1.4431392232699444E-3,{"$f":"AL28/AL13","v":7.9611599969504048E-3},7.9611599969504048E-3,1.9241490923034819E-3,5.2283381018710306E-3,2.277266806770956E-3,2.8275308066482534E-3,6.0762069294888095E-3,1.9241490923034821E-3]
[null,"Merging",{"$f":"C29/C14","v":1.4312444132106267E-3},1.4312444132106267E-3,1.0817075175764881E-3,1.5675231678502679E-3,1.5675231678502679E-3,1.5675231678502679E-3,4.5310508779093824E-4,4.5310508779093824E-4,1.1807676081631436E-3,1.1807676081631436E-3,6.3746187552705285E-4,1.4312444132106267E-3,1.3165552680607403E-3,1.1332740057158647E-3,1.6776967527570544E-3,8.8265268349339355E-4,null,null,null,null,null,null,null,null,null,null,"Merging",{"$f":"AD29/AD14","v":1.4312444132106267E-3},1.4312444132106267E-3,1.0817075175764881E-3,1.5675231678502679E-3,1.5675231678502679E-3,1.5675231678502679E-3,4.5310508779093824E-4,4.5310508779093824E-4,1.1807676081631436E-3,1.1807676081631436E-3,6.3746187552705285E-4,1.4312444132106267E-3,1.3165552680607403E-3,1.1332740057158647E-3,1.6776967527570544E-3,8.8265268349339355E-4]
[null,"Diverging",4.822408665896633E-4,4.822408665896633E-4,6.4061388075216071E-7,1.5041666188707122E-5,1.5041666188707122E-5,1.5041666188707122E-5,1.1236071539556978E-3,1.1236071539556978E-3,8.4286551893696137E-4,8.4286551893696137E-4,6.427742841593004E-4,4.822408665896633E-4,4.822408665896633E-4,4.8270129633717158E-4,3.0192854041601427E-4,1.7027218042108246E-4,null,null,null,null,null,null,null,null,null,null,"Diverging",{"$f":"AD30/AD15","v":4.822408665896633E-4},4.822408665896633E-4,6.4061388075216071E-7,1.5041666188707122E-5,1.5041666188707122E-5,1.5041666188707122E-5,1.1236071539556978E-3,1.1236071539556978E-3,8.4286551893696137E-4,8.4286551893696137E-4,6.427742841593004E-4,4.822408665896633E-4,4.822408665896633E-4,4.8270129633717158E-4,3.0192854041601427E-4,1.7027218042108246E-4]
[null,"Nonmotorized",0.1509824444712258,0.1509824444712258,0.18722320043153562,0.39383342180943814,0.39383342180943814,0.39383342180943814,0.11704517467278089,0.11704517467278089,0.13706201362756812,0.13706201362756812,0.12064023473032172,0.15707885258235535,0.15707885258235535,0.11388044420727753,0.1451556875126909,0.13315075907706375,null,null,null,null,null,null,null,null,null,null,"Nonmotorized",{"$f":"AD31/AD16","v":0.1509824444712258},0.1509824444712258,0.18722320043153562,0.39383342180943814,0.39383342180943814,0.39383342180943814,0.11704517467278089,0.11704517467278089,0.13706201362756812,0.13706201362756812,0.12064023473032172,0.15707885258235535,0.15707885258235535,0.11388044420727753,0.1451556875126909,0.13315075907706375]
[null,"Total",{"$f":"C32/C17","v":6.7528233434118054E-2},6.7057033058077697E-2,8.3506257936430864E-2,0.11369841029560046,0.11369841029560046,0.11369841029560046,4.9283262442701183E-2,4.9283262442701183E-2,6.4116332216903771E-2,6.4116332216903771E-2,6.0800680281639985E-2,6.4601633346234075E-2,6.6318637966782529E-2,6.5709326133973053E-2,6.6027086638858271E-2,6.7013321587053781E-2,null,null,null,null,null,null,null,null,null,null,"Total",{"$f":"AD32/AD17","v":6.7528233434118054E-2},{"$f":"AE32/AE17","v":6.7057033058077697E-2},8.3506257936430864E-2,0.11369841029560046,0.11369841029560046,0.11369841029560046,4.9283262442701183E-2,4.9283262442701183E-2,6.4116332216903771E-2,6.4116332216903771E-2,6.0800680281639985E-2,6.4601633346234075E-2,6.6318637966782529E-2,6.5709326133973053E-2,6.6027086638858271E-2,6.7013321587053781E-2]
[]
[null,"Average Complexity",null,null,null,null,null,null,null,null,null,null,null,null,null,null,null,null,null,null,null,null,null,null,null,null,null,null,"Average Complexity"]
[null,null,"Trad_Sig","Trad_MinorStop","Trad_AllStop","RAB1x1","RAB2x1","RAB2x2","RCUT_Sig","RCUT_Unsig","ThruCut_Sig","ThruCut_Unsig","MUT","PDLT","FDLT","QR","Jughandle","Bowtie",null,null,null,null,null,null,null,null,null,null,null,"Trad_Sig","Trad_MinorStop","Trad_AllStop","RAB1x1","RAB2x1","RAB2x2","RCUT_Sig","RCUT_Unsig","ThruCut_Sig","ThruCut_Unsig","MUT","PDLT","FDLT","QR","Jughandle","Bowtie"]
[null,"Crossing",{"$f":"AVERAGEIF(INDIRECT(C$43&\"!$B$4:$B$100\"),\"*\"&$B44&\"*\",INDIRECT(C$43&\"!$AI$4:$AI$100\"))","v":0.20333333333333334},0.25312499999999999,0.24166666666666667,0.61111111111111105,0.91666666666666663,1.2222222222222221,0.16833333333333331,0.24166666666666664,0.16833333333333328,0.24166666666666667,0.16833333333333331,0.1883333333333333,0.16833333333333325,0.1963333333333333,0.20064102564102565,0.16833333333333331,null,null,null,null,null,null,null,null,null,null,"Crossing",{"$f":"C44","v":0.20333333333333334},0.25312499999999999,0.24166666666666667,0.61111111111111105,0.91666666666666663,1.2222222222222221,0.16833333333333331,0.24166666666666664,0.16833333333333328,0.24166666666666667,{"$f":"M44","v":0.16833333333333331},0.1883333333333333,0.16833333333333325,0.1963333333333333,0.20064102564102565,0.16833333333333331]
[null,"Merging",0.16833333333333328,0.24166666666666667,0.24166666666666667,0.61111111111111105,0.99305555555555558,1.1458333333333333,0.16833333333333331,0.24166666666666667,0.16833333333333328,0.24166666666666667,0.16833333333333331,0.25083333333333324,0.25083333333333324,0.16833333333333328,0.16833333333333328,0.31592592592592589,null,null,null,null,null,null,null,null,null,null,"Merging",{"$f":"C45","v":0.16833333333333328},{"$f":"D45","v":0.24166666666666667},0.24166666666666667,0.61111111111111105,0.99305555555555558,1.1458333333333333,0.16833333333333331,0.24166666666666667,0.16833333333333328,0.24166666666666667,0.16833333333333331,0.25083333333333324,0.25083333333333324,0.16833333333333328,0.16833333333333328,0.31592592592592589]
[null,"Diverging",1,1,1,1,1,1,1,1,1,1,1,1,1,1,1,1,null,null,null,null,null,null,null,null,null,null,"Diverging",{"$f":"C46","v":1},1,1,1,1,1,1,1,1,1,1,1,1,1,1,1]
[null,"Nonmotorized",0.19166666666666665,0.28749999999999981,0.24166666666666656,1.2777777777777777,1.9166666666666665,2.5555555555555554,0.26933333333333331,0.48749999999999982,0.26083333333333325,0.38291666666666657,0.17864583333333334,0.64599999999999969,0.60399999999999976,0.18233333333333321,0.18659420289855075,0.16833333333333331,null,null,null,null,null,null,null,null,null,null,"Nonmotorized",{"$f":"C47","v":0.19166666666666665},0.28749999999999981,0.24166666666666656,1.2777777777777777,1.9166666666666665,2.5555555555555554,0.26933333333333331,0.48749999999999982,0.26083333333333325,0.38291666666666657,0.17864583333333334,0.64599999999999969,0.60399999999999976,0.18233333333333321,0.18659420289855075,0.16833333333333331]
[null,"Total",{"$f":"AVERAGE(INDIRECT(C$43&\"!$AI$4:$AI$100\"))","v":0.30714285714285705},{"$f":"AVERAGE(INDIRECT(D$43&\"!$AI$4:$AI$100\"))","v":0.37291666666666662},0.35000000000000014,0.91269841269841234,1.248015873015873,1.5178571428571426,0.41833333333333306,0.5336805555555556,0.36159090909090896,0.44375000000000003,0.32942708333333315,0.51126666666666643,0.5022222222222219,0.29914285714285699,0.31243589743589734,0.35194444444444428,null,null,null,null,null,null,null,null,null,null,"Total",{"$f":"AVERAGE(INDIRECT(AD$43&\"!$AI$4:$AI$100\"))","v":0.30714285714285705},{"$f":"AVERAGE(INDIRECT(AE$43&\"!$AI$4:$AI$100\"))","v":0.37291666666666662},0.35000000000000014,0.91269841269841234,1.248015873015873,1.5178571428571426,0.41833333333333306,0.5336805555555556,0.36159090909090896,0.44375000000000003,0.32942708333333315,0.51126666666666643,0.5022222222222219,0.29914285714285699,0.31243589743589734,0.35194444444444428]
[]
[null,"Exposure-Severity-Complexity Product",null,null,null,null,null,null,null,null,null,null,null,null,null,null,null,null,null,null,null,null,null,null,null,null,null,null,"Exposure-Severity-Complexity Product"]
[null,null,"Trad_Sig","Trad_MinorStop","Trad_AllStop","RAB1x1","RAB2x1","RAB2x2","RCUT_Sig","RCUT_Unsig","ThruCut_Sig","ThruCut_Unsig","MUT","PDLT","FDLT","QR","Jughandle","Bowtie",null,null,null,null,null,null,null,null,null,null,null,"Trad_Sig","Trad_MinorStop","Trad_AllStop","RAB1x1","RAB2x1","RAB2x2","RCUT_Sig","RCUT_Unsig","ThruCut_Sig","ThruCut_Unsig","MUT","PDLT","FDLT","QR","Jughandle","Bowtie"]
[null,"Crossing",{"$f":"SUMIF(INDIRECT(C$51&\"!$B$4:$B$100\"),\"*\"&$B52&\"*\",INDIRECT(C$51&\"!$AK$4:$AK$100\"))","v":{"$error":"#VALUE!"}},{"$error":"#VALUE!"},{"$error":"#VALUE!"},{"$error":"#VALUE!"},{"$error":"#VALUE!"},{"$error":"#VALUE!"},{"$error":"#VALUE!"},{"$error":"#VALUE!"},{"$error":"#VALUE!"},{"$error":"#VALUE!"},{"$error":"#VALUE!"},{"$error":"#VALUE!"},{"$error":"#VALUE!"},{"$error":"#VALUE!"},{"$error":"#VALUE!"},{"$error":"#VALUE!"},null,null,null,null,null,null,null,null,null,null,"Crossing",{"$f":"SUMIF(INDIRECT(AD$51&\"!$B$4:$B$100\"),\"*\"&$AC52&\"*\",INDIRECT(AD$51&\"!$AK$103:$AK$200\"))","v":{"$error":"#VALUE!"}},{"$f":"SUMIF(INDIRECT(AE$51&\"!$B$4:$B$100\"),\"*\"&$AC52&\"*\",INDIRECT(AE$51&\"!$AK$103:$AK$200\"))","v":{"$error":"#VALUE!"}},{"$error":"#VALUE!"},{"$error":"#VALUE!"},{"$error":"#VALUE!"},{"$error":"#VALUE!"},{"$error":"#VALUE!"},{"$error":"#VALUE!"},{"$error":"#VALUE!"},{"$error":"#VALUE!"},{"$error":"#VALUE!"},{"$error":"#VALUE!"},{"$error":"#VALUE!"},{"$error":"#VALUE!"},{"$error":"#VALUE!"},{"$error":"#VALUE!"}]
[null,"Merging",{"$error":"#VALUE!"},{"$error":"#VALUE!"},{"$error":"#VALUE!"},{"$error":"#VALUE!"},{"$error":"#VALUE!"},{"$error":"#VALUE!"},{"$error":"#VALUE!"},{"$error":"#VALUE!"},{"$error":"#VALUE!"},{"$error":"#VALUE!"},{"$error":"#VALUE!"},{"$error":"#VALUE!"},{"$error":"#VALUE!"},{"$error":"#VALUE!"},{"$error":"#VALUE!"},{"$error":"#VALUE!"},null,null,null,null,null,null,null,null,null,null,"Merging",{"$f":"SUMIF(INDIRECT(AD$51&\"!$B$4:$B$100\"),\"*\"&$AC53&\"*\",INDIRECT(AD$51&\"!$AK$103:$AK$200\"))","v":{"$error":"#VALUE!"}},{"$error":"#VALUE!"},{"$error":"#VALUE!"},{"$error":"#VALUE!"},{"$error":"#VALUE!"},{"$error":"#VALUE!"},{"$error":"#VALUE!"},{"$error":"#VALUE!"},{"$error":"#VALUE!"},{"$error":"#VALUE!"},{"$error":"#VALUE!"},{"$error":"#VALUE!"},{"$error":"#VALUE!"},{"$error":"#VALUE!"},{"$error":"#VALUE!"},{"$error":"#VALUE!"}]
[null,"Diverging",{"$error":"#VALUE!"},{"$error":"#VALUE!"},{"$error":"#VALUE!"},{"$error":"#VALUE!"},{"$error":"#VALUE!"},{"$error":"#VALUE!"},{"$error":"#VALUE!"},{"$error":"#VALUE!"},{"$error":"#VALUE!"},{"$error":"#VALUE!"},{"$error":"#VALUE!"},{"$error":"#VALUE!"},{"$error":"#VALUE!"},{"$error":"#VALUE!"},{"$error":"#VALUE!"},{"$error":"#VALUE!"},null,null,null,null,null,null,null,null,null,null,"Diverging",{"$error":"#VALUE!"},{"$error":"#VALUE!"},{"$error":"#VALUE!"},{"$error":"#VALUE!"},{"$error":"#VALUE!"},{"$error":"#VALUE!"},{"$error":"#VALUE!"},{"$error":"#VALUE!"},{"$error":"#VALUE!"},{"$error":"#VALUE!"},{"$error":"#VALUE!"},{"$error":"#VALUE!"},{"$error":"#VALUE!"},{"$error":"#VALUE!"},{"$error":"#VALUE!"},{"$error":"#VALUE!"}]
[null,"Nonmotorized",{"$error":"#VALUE!"},{"$error":"#VALUE!"},{"$error":"#VALUE!"},{"$error":"#VALUE!"},{"$error":"#VALUE!"},{"$error":"#VALUE!"},{"$error":"#VALUE!"},{"$error":"#VALUE!"},{"$error":"#VALUE!"},{"$error":"#VALUE!"},{"$error":"#VALUE!"},{"$error":"#VALUE!"},{"$error":"#VALUE!"},{"$error":"#VALUE!"},{"$error":"#VALUE!"},{"$error":"#VALUE!"},null,null,null,null,null,null,null,null,null,null,"Nonmotorized",{"$error":"#VALUE!"},{"$error":"#VALUE!"},{"$error":"#VALUE!"},{"$error":"#VALUE!"},{"$error":"#VALUE!"},{"$error":"#VALUE!"},{"$error":"#VALUE!"},{"$error":"#VALUE!"},{"$error":"#VALUE!"},{"$error":"#VALUE!"},{"$error":"#VALUE!"},{"$error":"#VALUE!"},{"$error":"#VALUE!"},{"$error":"#VALUE!"},{"$error":"#VALUE!"},{"$error":"#VALUE!"}]
[null,"Total",{"$f":"SUM(C52:C55)","v":{"$error":"#VALUE!"}},{"$f":"SUM(D52:D55)","v":{"$error":"#VALUE!"}},{"$error":"#VALUE!"},{"$error":"#VALUE!"},{"$error":"#VALUE!"},{"$error":"#VALUE!"},{"$error":"#VALUE!"},{"$error":"#VALUE!"},{"$f":"SUM(K52:K55)","v":{"$error":"#VALUE!"}},{"$f":"SUM(L52:L55)","v":{"$error":"#VALUE!"}},{"$error":"#VALUE!"},{"$error":"#VALUE!"},{"$error":"#VALUE!"},{"$error":"#VALUE!"},{"$error":"#VALUE!"},{"$error":"#VALUE!"},null,null,null,null,null,null,null,null,null,null,"Total",{"$f":"SUM(AD52:AD55)","v":{"$error":"#VALUE!"}},{"$f":"SUM(AE52:AE55)","v":{"$error":"#VALUE!"}},{"$error":"#VALUE!"},{"$error":"#VALUE!"},{"$error":"#VALUE!"},{"$error":"#VALUE!"},{"$error":"#VALUE!"},{"$error":"#VALUE!"},{"$f":"SUM(AL52:AL55)","v":{"$error":"#VALUE!"}},{"$f":"SUM(AM52:AM55)","v":{"$error":"#VALUE!"}},{"$error":"#VALUE!"},{"$error":"#VALUE!"},{"$error":"#VALUE!"},{"$error":"#VALUE!"},{"$error":"#VALUE!"},{"$error":"#VALUE!"}]

{"sheet":"ThruCut_Sig","index":34,"n_rows":146,"n_cols":72,"rows_kept":146,"cut":false,"hidden":true,"merged":[[1,34,2,34],[1,36,2,36],[1,39,1,54],[1,56,1,71],[100,9,100,11],[100,36,101,36],[0,19,0,28],[0,30,0,32],[1,9,1,11],[1,13,1,17],[1,21,1,25],[1,27,1,28],[1,30,2,30],[1,31,2,31],[1,32,2,32]]}
[null,null,null,null,null,null,null,null,null,null,null,null,null,null,null,null,null,null,null,"Conflicting Traffic Complexity",null,null,null,null,null,null,null,null,null,null,"Pedestrian Complexity"]
[null,null,null,null,null,null,null,null,null,"Exposure",null,null,null,"Severity",null,null,null,null,null,"Traffic Control",null,"Conflicting Lanes",null,null,null,null,null,"Conflicting Speed",null,null,"Indirect Paths Indicator","Non-intuitive movements indicator","Pedestrian Complexity factor",null,"Total Complexity Multiplier",null,"Exposure-Severity-Complexity Product",null,null,"Included in Mvmt1",null,null,null,null,null,null,null,null,null,null,null,null,null,null,null,null,"Included in Mvmt2"]
["#","Conflict Type","Mvmt1","Mvmt1_gen","Mvmt1_SpeedCat","Mvmt2","Mvmt2_gen","Mvmt2_SpeedCat",null,"Q1","Q2","I",null,"Speed_V1","Speed_V2","Angle","delta_V","P_FSI",null,null,null,"MajC","MinC","MajM/P","MinM/P","Score",null,"Speed","Factor",null,null,null,null,null,null,null,null,null,null,"MajT1","MajL1","MajR1","MajT2","MajL2","MajR2","MinT1","MinL1","MinR1","MinT2","MinL2","MinR2","MajNM1","MajNM2","MinNM1","MinNM2",null,"MajT1","MajL1","MajR1","MajT2","MajL2","MajR2","MinT1","MinL1","MinR1","MinT2","MinL2","MinR2","MajNM1","MajNM2","MinNM1","MinNM2"]
[1,"Crossing - LT","NBL","MinL1","Signal far","EBL","MajL1","Major left",null,{"$f":"SUMPRODUCT($AN4:$BC4,$AN$48:$BC$48)","v":{"$error":"#VALUE!"}},{"$f":"SUMPRODUCT($BE4:$BT4,$BE$48:$BT$48)","v":{"$error":"#VALUE!"}},{"$f":"PRODUCT(J4:K4)","v":{"$error":"#VALUE!"}},null,{"$f":"VLOOKUP(E4,SSI_AGI_Range_VehSpeed,5,FALSE)","v":25},{"$f":"VLOOKUP(H4,SSI_AGI_Range_VehSpeed,5,FALSE)","v":20},{"$f":"IF(B4=\"Nonmotorized\",\"\",VLOOKUP(B4,SSI_AGI_Range_CollAngles,5,FALSE))","v":230},{"$f":"IF(B4=\"Nonmotorized\",\"\",SQRT(N4^2+O4^2-2*N4*O4*COS(RADIANS(P4)))/2)","v":20.419277715473552},{"$f":"IF(B4=\"Nonmotorized\",1/(1+EXP(3.8432-0.1237*O4)),(Q4/SSI_AGI_RegAlpha)^SSI_AGI_RegK+(Q4/SSI_AGI_RegAlpha)^SSI_AGI_RegK-((Q4/SSI_AGI_RegAlpha)^SSI_AGI_RegK)*((Q4/SSI_AGI_RegAlpha)^SSI_AGI_RegK))","v":2.1555284139167314E-2},null,{"$f":"SSI_AGI_ProtFactor","v":0.505},null,1,null,1,null,{"$f":"MAX(1,IF(B4<>\"Pedestrian\",V4*SSI_AGI_MajorThruLanes+W4*SSI_AGI_MinorThruLanes+X4*IF(SSI_AGI_MajorThruLanes=1,SSI_AGI_MergeWeightL1,IF(SSI_AGI_MajorThruLanes=2,SSI_AGI_MergeWeightL1+SSI_AGI_MergeWeightL2,SSI_AGI_MergeWeightL1+SSI_AGI_MergeWeightL2+SSI_AGI_MergeWeightL3*(SSI_AGI_MajorThruLanes-2)))+Y4*IF(SSI_AGI_MinorThruLanes=1,SSI_AGI_MergeWeightL1,IF(SSI_AGI_MinorThruLanes=2,SSI_AGI_MergeWeightL1+SSI_AGI_MergeWeightL2,SSI_AGI_MergeWeightL1+SSI_AGI_MergeWeightL2+SSI_AGI_MergeWeightL3*(SSI_AGI_MinorThruLanes-2))),V4*SSI_AGI_MajorThruLanes+W4*SSI_AGI_MinorThruLanes+X4*IF(SSI_AGI_MajorThruLanes=1,SSI_AGI_NM_MergeWeightL1,IF(SSI_AGI_MajorThruLanes=2,SSI_AGI_NM_MergeWeightL1+SSI_AGI_NM_MergeWeightL2,SSI_AGI_NM_MergeWeightL1+SSI_AGI_NM_MergeWeightL2+SSI_AGI_NM_MergeWeightL3*(SSI_AGI_MajorThruLanes-2)))+Y4*IF(SSI_AGI_MinorThruLanes=1,SSI_AGI_NM_MergeWeightL1,IF(SSI_AGI_MinorThruLanes=2,SSI_AGI_NM_MergeWeightL1+SSI_AGI_NM_MergeWeightL2,SSI_AGI_NM_MergeWeightL1+SSI_AGI_NM_MergeWeightL2+SSI_AGI_NM_MergeWeightL3*(SSI_AGI_MinorThruLanes-2)))))","v":1},null,{"$f":"IF(B4=\"Diverging\",\"\",SSI_AGI_VehSpeed_MjrThru)","v":0},{"$f":"IF(B4=\"Diverging\",1,1-((60-AB4)/60*0.1/0.15))","v":0.33333333333333326},null,null,null,{"$f":"1+AE4+AF4","v":1},null,{"$f":"PRODUCT(Z4,T4,AC4,AG4)","v":0.16833333333333331},null,{"$f":"L4*R4*AI4","v":{"$error":"#VALUE!"}},null,null,{"$f":"IF(ISNUMBER(SEARCH(AN$3,$D4)),1,\"\")","v":""},{"$f":"IF(ISNUMBER(SEARCH(AO$3,$D4)),1,\"\")","v":""},"","","","","",1,"","","","","","","","",null,{"$f":"IF(ISNUMBER(SEARCH(BE$3,$G4)),1,\"\")","v":""},{"$f":"IF(ISNUMBER(SEARCH(BF$3,$G4)),1,\"\")","v":1},"","","","","","","","","","","","","",""]
[2,"Crossing - LT","NBL","MinL1","Signal near","WBL","MajL2","Major left",null,{"$error":"#VALUE!"},{"$error":"#VALUE!"},{"$f":"PRODUCT(J5:K5)","v":{"$error":"#VALUE!"}},null,15,20,230,{"$f":"IF(B5=\"Nonmotorized\",\"\",SQRT(N5^2+O5^2-2*N5*O5*COS(RADIANS(P5)))/2)","v":15.895538413434787},8.3616736100371545E-3,null,0.505,null,1,null,1,null,1,null,0,0.33333333333333326,null,null,null,{"$f":"1+AE5+AF5","v":1},null,0.16833333333333331,null,{"$f":"L5*R5*AI5","v":{"$error":"#VALUE!"}},null,null,{"$f":"IF(ISNUMBER(SEARCH(AN$3,$D5)),1,\"\")","v":""},"","","","","","",1,"","","","","","","","",null,{"$f":"IF(ISNUMBER(SEARCH(BE$3,$G5)),1,\"\")","v":""},"","","",1,"","","","","","","","","","",""]
[3,"Crossing - LT","WBL","MajL2","Major left","EBT","MajT1","Major thru",null,{"$error":"#VALUE!"},{"$error":"#VALUE!"},{"$error":"#VALUE!"},null,20,0,230,10,1.4431392232699444E-3,null,0.505,null,1,null,null,null,1,null,0,0.33333333333333326,null,null,null,1,null,0.16833333333333331,null,{"$error":"#VALUE!"},null,null,"","","","",1,"","","","","","","","","","","",null,1,"","","","","","","","","","","","","","",""]
[4,"Crossing - LT","NBL","MinL1","Signal near","EBT","MajT1","Major thru",null,{"$error":"#VALUE!"},{"$error":"#VALUE!"},{"$error":"#VALUE!"},null,15,0,230,7.5,4.8454301532720461E-4,null,0.505,null,1,null,1,null,1,null,0,0.33333333333333326,null,null,null,1,null,0.16833333333333331,null,{"$error":"#VALUE!"},null,null,"","","","","","","",1,"","","","","","","","",null,1,"","","","","","","","","","","","","","",""]
[5,"Crossing - LT","SBL","MinL2","Signal far","WBL","MajL2","Major left",null,{"$error":"#VALUE!"},{"$error":"#VALUE!"},{"$error":"#VALUE!"},null,25,20,230,20.419277715473552,2.1555284139167314E-2,null,0.505,null,1,null,1,null,1,null,0,0.33333333333333326,null,null,null,1,null,0.16833333333333331,null,{"$error":"#VALUE!"},null,null,"","","","","","","","","","",1,"","","","","",null,"","","","",1,"","","","","","","","","","",""]
[6,"Crossing - LT","SBL","MinL2","Signal near","EBL","MajL1","Major left",null,{"$error":"#VALUE!"},{"$error":"#VALUE!"},{"$error":"#VALUE!"},null,15,20,230,15.895538413434787,8.3616736100371545E-3,null,0.505,null,1,null,1,null,1,null,0,0.33333333333333326,null,null,null,1,null,0.16833333333333331,null,{"$error":"#VALUE!"},null,null,"","","","","","","","","","",1,"","","","","",null,"",1,"","","","","","","","","","","","","",""]
[7,"Crossing - LT","EBL","MajL1","Major left","WBT","MajT2","Major thru",null,{"$error":"#VALUE!"},{"$error":"#VALUE!"},{"$error":"#VALUE!"},null,20,0,230,10,1.4431392232699444E-3,null,0.505,null,1,null,null,null,1,null,0,0.33333333333333326,null,null,null,1,null,0.16833333333333331,null,{"$error":"#VALUE!"},null,null,"",1,"","","","","","","","","","","","","","",null,"","","",1,"","","","","","","","","","","",""]
[8,"Crossing - LT","SBL","MinL2","Signal near","WBT","MajT2","Major thru",null,{"$error":"#VALUE!"},{"$error":"#VALUE!"},{"$error":"#VALUE!"},null,15,0,230,7.5,4.8454301532720461E-4,null,0.505,null,1,null,1,null,1,null,0,0.33333333333333326,null,null,null,1,null,0.16833333333333331,null,{"$error":"#VALUE!"},null,null,"","","","","","","","","","",1,"","","","","",null,"","","",1,"","","","","","","","","","","",""]
[9,"Merging","EBL","MajL1","Major left","WBR, NBT","MajR2, MinT1","Major right",null,{"$error":"#VALUE!"},{"$error":"#VALUE!"},{"$error":"#VALUE!"},null,20,15,45,7.0840654162717795,3.9022923271840544E-4,null,0.505,null,1,null,null,null,1,null,0,0.33333333333333326,null,null,null,1,null,0.16833333333333331,null,{"$error":"#VALUE!"},null,null,"",1,"","","","","","","","","","","","","","",null,"","","","","",1,1,"","","","","","","","",""]
[10,"Merging","SBR, SBT","MinR2, MinT2","Signal near","WBT","MajT2","Major thru",null,{"$error":"#VALUE!"},{"$error":"#VALUE!"},{"$error":"#VALUE!"},null,15,0,45,7.5,4.8454301532720461E-4,null,0.505,null,null,null,1,null,1,null,0,0.33333333333333326,null,null,null,1,null,0.16833333333333331,null,{"$error":"#VALUE!"},null,null,"","","","","","","","","",1,"",1,"","","","",null,"","","",1,"","","","","","","","","","","",""]
[11,"Merging","NBL","MinL1","Signal far","WBT","MajT2","Major thru",null,{"$error":"#VALUE!"},{"$error":"#VALUE!"},{"$error":"#VALUE!"},null,25,0,45,12.5,3.3637551692797594E-3,null,0.505,null,1,null,1,null,1,null,0,0.33333333333333326,null,null,null,1,null,0.16833333333333331,null,{"$error":"#VALUE!"},null,null,"","","","","","","",1,"","","","","","","","",null,"","","",1,"","","","","","","","","","","",""]
[12,"Merging","SBT","MinT2","Signal near","EBT, EBL, EBR","MajT1, MajL1, MajR1","Major thru",null,{"$error":"#VALUE!"},{"$error":"#VALUE!"},{"$error":"#VALUE!"},null,15,0,45,7.5,4.8454301532720461E-4,null,0.505,null,null,null,1,null,1,null,0,0.33333333333333326,null,null,null,1,null,0.16833333333333331,null,{"$error":"#VALUE!"},null,null,"","","","","","","","","",1,"","","","","","",null,1,1,1,"","","","","","","","","","","","",""]
[13,"Merging","WBL","MajL2","Major left","EBR, SBT","MajR1, MinT2","Major right",null,{"$error":"#VALUE!"},{"$error":"#VALUE!"},{"$error":"#VALUE!"},null,20,15,45,7.0840654162717795,3.9022923271840544E-4,null,0.505,null,1,null,null,null,1,null,0,0.33333333333333326,null,null,null,1,null,0.16833333333333331,null,{"$error":"#VALUE!"},null,null,"","","","",1,"","","","","","","","","","","",null,"","",1,"","","","","","",1,"","","","","",""]
[14,"Merging","SBL","MinL2","Signal far","EBT","MajT1","Major thru",null,{"$error":"#VALUE!"},{"$error":"#VALUE!"},{"$error":"#VALUE!"},null,25,0,45,12.5,3.3637551692797594E-3,null,0.505,null,1,null,1,null,1,null,0,0.33333333333333326,null,null,null,1,null,0.16833333333333331,null,{"$error":"#VALUE!"},null,null,"","","","","","","","","","",1,"","","","","",null,1,"","","","","","","","","","","","","","",""]
[15,"Merging","NBR, NBT","MinR1, MinT1","Signal near","EBT","MajT1","Major thru",null,{"$error":"#VALUE!"},{"$error":"#VALUE!"},{"$error":"#VALUE!"},null,15,0,45,7.5,4.8454301532720461E-4,null,0.505,null,null,null,1,null,1,null,0,0.33333333333333326,null,null,null,1,null,0.16833333333333331,null,{"$error":"#VALUE!"},null,null,"","","","","","",1,"",1,"","","","","","","",null,1,"","","","","","","","","","","","","","",""]
[16,"Merging","NBT","MinT1","Signal near","WBT, WBL, WBR","MajT2, MajL2, MajR2","Major thru",null,{"$error":"#VALUE!"},{"$error":"#VALUE!"},{"$error":"#VALUE!"},null,15,0,45,7.5,4.8454301532720461E-4,null,0.505,null,null,null,1,null,1,null,0,0.33333333333333326,null,null,null,1,null,0.16833333333333331,null,{"$error":"#VALUE!"},null,null,"","","","","","",1,"","","","","","","","","",null,"","","",1,1,1,"","","","","","","","","",""]
[17,"Diverging","SBR, SBT","MinT2, MinR2","Signal near","SBL","MinL2","Signal near",null,{"$error":"#VALUE!"},{"$error":"#VALUE!"},{"$error":"#VALUE!"},null,15,15,10,1.3073361412148754,6.4061388075216071E-7,null,1,null,null,null,null,null,1,null,"",1,null,null,null,1,null,1,null,{"$error":"#VALUE!"},null,null,"","","","","","","","","",1,"",1,"","","","",null,"","","","","","","","","","",1,"","","","",""]
[18,"Diverging","SBT","MinT2","Major left","WBT, SBR, NBL","MajT2, MinR2, MinL1","Major thru",null,{"$error":"#VALUE!"},{"$error":"#VALUE!"},{"$error":"#VALUE!"},null,20,0,10,10,1.4431392232699444E-3,null,1,null,null,null,null,null,1,null,"",1,null,null,null,1,null,1,null,{"$error":"#VALUE!"},null,null,"","","","","","","","","",1,"","","","","","",null,"","","",1,"","","",1,"","","",1,"","","",""]
[19,"Diverging","EBT, EBR, SBL, SBT","MajT1, MajR1, MinT2","Major thru","EBL","MajL1","Major left",null,{"$error":"#VALUE!"},{"$error":"#VALUE!"},{"$error":"#VALUE!"},null,0,20,10,10,1.4431392232699444E-3,null,1,null,null,null,null,null,1,null,"",1,null,null,null,1,null,1,null,{"$error":"#VALUE!"},null,null,1,"",1,"","","","","","",1,"","","","","","",null,"",1,"","","","","","","","","","","","","",""]
[20,"Diverging","EBT, SBL","MajT1","Major thru","EBR, SBT","MajR1, MinT2","Major right",null,{"$error":"#VALUE!"},{"$error":"#VALUE!"},{"$error":"#VALUE!"},null,0,15,10,7.5,4.8454301532720461E-4,null,1,null,null,null,null,null,1,null,"",1,null,null,null,1,null,1,null,{"$error":"#VALUE!"},null,null,1,"","","","","","","","","","","","","","","",null,"","",1,"","","","","","",1,"","","","","",""]
[21,"Diverging","NBR, NBT","MinT1, MinR1","Signal near","NBL","MinL1","Signal near",null,{"$error":"#VALUE!"},{"$error":"#VALUE!"},{"$error":"#VALUE!"},null,15,15,10,1.3073361412148754,6.4061388075216071E-7,null,1,null,null,null,null,null,1,null,"",1,null,null,null,1,null,1,null,{"$error":"#VALUE!"},null,null,"","","","","","",1,"",1,"","","","","","","",null,"","","","","","","",1,"","","","","","","",""]
[22,"Diverging","NBT","MinT1","Major left","EBT, NBR, SBL","MajT1, MinR1, MinL2","Major thru",null,{"$error":"#VALUE!"},{"$error":"#VALUE!"},{"$error":"#VALUE!"},null,20,0,10,10,1.4431392232699444E-3,null,1,null,null,null,null,null,1,null,"",1,null,null,null,1,null,1,null,{"$f":"L25*R25*AI25","v":{"$error":"#VALUE!"}},null,null,"","","","","","",1,"","","","","","","","","",null,1,"","","","","","","",1,"",1,"","","","",""]
[23,"Diverging","WBT, WBR, NBL, NBT","MajT2, MajR2, MinT1","Major thru","WBL","MajL2","Major left",null,{"$error":"#VALUE!"},{"$error":"#VALUE!"},{"$error":"#VALUE!"},null,0,20,10,10,1.4431392232699444E-3,null,1,null,null,null,null,null,1,null,"",1,null,null,null,1,null,1,null,{"$error":"#VALUE!"},null,null,"","","",1,"",1,1,"","","","","","","","","",null,"","","","",1,"","","","","","","","","","",""]
[24,"Diverging","WBT, NBL","MajT2","Major thru","WBR, NBT","MajR2, MinT1","Major right",null,{"$error":"#VALUE!"},{"$error":"#VALUE!"},{"$error":"#VALUE!"},null,0,15,10,7.5,4.8454301532720461E-4,null,1,null,null,null,null,null,1,null,"",1,null,null,null,1,null,1,null,{"$error":"#VALUE!"},null,null,"","","",1,"","","","","","","","","","","","",null,"","","","","",1,1,"","","","","","","","",""]
[25,"Nonmotorized","EB Ped","MajNM1","Nonmotorized","SBR, SBT","MinR2, MinT2","Signal near",null,{"$error":"#VALUE!"},{"$error":"#VALUE!"},{"$error":"#VALUE!"},null,0,15,"","",0.1205004039155782,null,{"$f":"SSI_AGI_ProtFactor","v":0.505},null,1,null,null,2,1.5,null,0,0.33333333333333326,null,null,null,1,null,0.25249999999999995,null,{"$error":"#VALUE!"},null,null,"","","","","","","","","","","","",1,"","","",null,"","","","","","","","","",1,"",1,"","","",""]
[26,"Nonmotorized","EB Ped","MajNM1","Nonmotorized","WBT","MajT2","Major thru",null,{"$error":"#VALUE!"},{"$error":"#VALUE!"},{"$error":"#VALUE!"},null,0,0,"","",2.0975532400616122E-2,null,0.505,null,1,null,null,2,1.5,null,0,0.33333333333333326,null,null,null,1,null,0.25249999999999995,null,{"$error":"#VALUE!"},null,null,"","","","","","","","","","","","",1,"","","",null,"","","",1,"","","","","","","","","","","",""]
[27,"Nonmotorized","EB Ped","MajNM1","Nonmotorized","NBL","MinL1","Signal far",null,{"$error":"#VALUE!"},{"$error":"#VALUE!"},{"$error":"#VALUE!"},null,0,25,"","",0.32066879346345062,null,{"$f":"IF(SSI_AGI_PedExclusive=\"Yes\", SSI_AGI_ProtFactor,SSI_AGI_ProtPermFactor)","v":0.92500000000000004},null,1,null,null,2,1.5,null,0,0.33333333333333326,null,null,null,1,null,0.46249999999999997,null,{"$error":"#VALUE!"},null,null,"","","","","","","","","","","","",1,"","","",null,"","","","","","","",1,"","","","","","","",""]
[28,"Nonmotorized","EB Ped","MajNM1","Nonmotorized","EBL","MajL1","Major left",null,{"$error":"#VALUE!"},{"$error":"#VALUE!"},{"$error":"#VALUE!"},null,0,20,"","",0.20274912921655375,null,0.505,null,1,null,null,null,1,null,0,0.33333333333333326,null,null,null,1,null,0.16833333333333331,null,{"$error":"#VALUE!"},null,null,"","","","","","","","","","","","",1,"","","",null,"",1,"","","","","","","","","","","","","",""]
[29,"Nonmotorized","EB Ped","MajNM1","Nonmotorized","EBT","MajT1","Major thru",null,{"$error":"#VALUE!"},{"$error":"#VALUE!"},{"$error":"#VALUE!"},null,0,0,"","",2.0975532400616122E-2,null,0.505,null,1,null,null,null,1,null,0,0.33333333333333326,null,null,null,1,null,0.16833333333333331,null,{"$error":"#VALUE!"},null,null,"","","","","","","","","","","","",1,"","","",null,1,"","","","","","","","","","","","","","",""]
[30,"Nonmotorized","EB Ped","MajNM1","Nonmotorized","EBR, SBT","MajR1, MinT2","Major right",null,{"$error":"#VALUE!"},{"$error":"#VALUE!"},{"$error":"#VALUE!"},null,0,15,"","",0.1205004039155782,null,0.505,null,1,null,null,null,1,null,0,0.33333333333333326,null,null,null,1,null,0.16833333333333331,null,{"$error":"#VALUE!"},null,null,"","","","","","","","","","","","",1,"","","",null,"","",1,"","","","","","",1,"","","","","",""]
[31,"Nonmotorized","NB Ped","MinNM1","Nonmotorized","EBR, SBT","MajR1, MinT2","Major right",null,{"$error":"#VALUE!"},{"$error":"#VALUE!"},{"$error":"#VALUE!"},null,0,15,"","",0.1205004039155782,null,0.505,null,null,1,2,null,1.5,null,0,0.33333333333333326,null,null,null,1,null,0.25249999999999995,null,{"$error":"#VALUE!"},null,null,"","","","","","","","","","","","","","",1,"",null,"","",1,"","","","","","",1,"","","","","",""]
[32,"Nonmotorized","NB Ped","MinNM1","Nonmotorized","WBL","MajL2","Major left",null,{"$error":"#VALUE!"},{"$error":"#VALUE!"},{"$error":"#VALUE!"},null,0,20,"","",0.20274912921655375,null,{"$f":"IF(SSI_AGI_PedExclusive=\"Yes\", SSI_AGI_ProtFactor,SSI_AGI_ProtPermFactor)","v":0.92500000000000004},null,null,1,2,null,1.5,null,0,0.33333333333333326,null,null,null,1,null,0.46249999999999997,null,{"$error":"#VALUE!"},null,null,{"$f":"IF(ISNUMBER(SEARCH(AN$3,$D35)),1,\"\")","v":""},"","","","","","","","","","","","","",1,"",null,{"$f":"IF(ISNUMBER(SEARCH(BE$3,$G35)),1,\"\")","v":""},"","","",1,"","","","","","","","","","",""]
[33,"Nonmotorized","NB Ped","MinNM1","Nonmotorized","NBL","MinL1","Signal near",null,{"$error":"#VALUE!"},{"$error":"#VALUE!"},{"$error":"#VALUE!"},null,0,15,"",{"$f":"IF(B36=\"Nonmotorized\",\"\",SQRT(N36^2+O36^2-2*N36*O36*COS(RADIANS(P36)))/2)","v":""},0.1205004039155782,null,0.505,null,null,1,2,null,1.5,null,0,0.33333333333333326,null,null,null,1,null,0.25249999999999995,null,{"$error":"#VALUE!"},null,null,"","","","","","","","","","","","","","",1,"",null,"","","","","","","",1,"","","","","","","",""]
[34,"Nonmotorized","NB Ped","MinNM1","Nonmotorized","NBR, NBT","MinR1, MinT1","Signal near",null,{"$error":"#VALUE!"},{"$error":"#VALUE!"},{"$f":"PRODUCT(J37:K37)","v":{"$error":"#VALUE!"}},null,0,15,"","",0.1205004039155782,null,0.505,null,null,1,null,null,1,null,{"$f":"IF(B37=\"Diverging\",\"\",SSI_AGI_VehSpeed_MnrThru)","v":0},0.33333333333333326,null,null,null,1,null,0.16833333333333331,null,{"$error":"#VALUE!"},null,null,"","","","","","","","","","","","","","",1,"",null,"","","","","","",1,"",1,"","","","","","",""]
[35,"Nonmotorized","WB Ped","MajNM2","Nonmotorized","NBR, NBT","MinR1, MinT1","Signal near",null,{"$error":"#VALUE!"},{"$error":"#VALUE!"},{"$error":"#VALUE!"},null,0,15,"","",0.1205004039155782,null,0.505,null,1,null,null,2,1.5,null,{"$f":"IF(B38=\"Diverging\",\"\",SSI_AGI_VehSpeed_MjrThru)","v":0},0.33333333333333326,null,null,null,1,null,0.25249999999999995,null,{"$error":"#VALUE!"},null,null,"","","","","","","","","","","","","",1,"","",null,"","","","","","",1,"",1,"","","","","","",""]
[36,"Nonmotorized","WB Ped","MajNM2","Nonmotorized","EBT","MajT1","Major thru",null,{"$error":"#VALUE!"},{"$error":"#VALUE!"},{"$error":"#VALUE!"},null,0,0,"","",2.0975532400616122E-2,null,0.505,null,1,null,null,2,1.5,null,0,0.33333333333333326,null,null,null,1,null,0.25249999999999995,null,{"$error":"#VALUE!"},null,null,"","","","","","","","","","","","","",1,"","",null,1,"","","","","","","","","","","","","","",""]
[37,"Nonmotorized","WB Ped","MajNM2","Nonmotorized","SBL","MinL2","Signal far",null,{"$error":"#VALUE!"},{"$error":"#VALUE!"},{"$error":"#VALUE!"},null,0,25,"","",0.32066879346345062,null,{"$f":"IF(SSI_AGI_PedExclusive=\"Yes\", SSI_AGI_ProtFactor,SSI_AGI_ProtPermFactor)","v":0.92500000000000004},null,1,null,null,2,1.5,null,0,0.33333333333333326,null,null,null,1,null,0.46249999999999997,null,{"$error":"#VALUE!"},null,null,"","","","","","","","","","","","","",1,"","",null,"","","","","","","","","","",1,"","","","",""]
[38,"Nonmotorized","WB Ped","MajNM2","Nonmotorized","WBL","MajL2","Major left",null,{"$error":"#VALUE!"},{"$error":"#VALUE!"},{"$error":"#VALUE!"},null,0,20,"","",0.20274912921655375,null,0.505,null,1,null,null,null,1,null,0,0.33333333333333326,null,null,null,1,null,0.16833333333333331,null,{"$error":"#VALUE!"},null,null,"","","","","","","","","","","","","",1,"","",null,"","","","",1,"","","","","","","","","","",""]
[39,"Nonmotorized","WB Ped","MajNM2","Nonmotorized","WBT","MajT2","Major thru",null,{"$error":"#VALUE!"},{"$error":"#VALUE!"},{"$error":"#VALUE!"},null,0,0,"","",2.0975532400616122E-2,null,0.505,null,1,null,null,null,1,null,0,0.33333333333333326,null,null,null,1,null,0.16833333333333331,null,{"$error":"#VALUE!"},null,null,"","","","","","","","","","","","","",1,"","",null,"","","",1,"","","","","","","","","","","",""]
[40,"Nonmotorized","WB Ped","MajNM2","Nonmotorized","WBR, NBT","MajR2, MinT1","Major right",null,{"$error":"#VALUE!"},{"$error":"#VALUE!"},{"$error":"#VALUE!"},null,0,15,"","",0.1205004039155782,null,0.505,null,1,null,null,null,1,null,0,0.33333333333333326,null,null,null,1,null,0.16833333333333331,null,{"$error":"#VALUE!"},null,null,"","","","","","","","","","","","","",1,"","",null,"","","","","",1,1,"","","","","","","","",""]
[41,"Nonmotorized","SB Ped","MinNM2","Nonmotorized","WBR, NBT","MajR2, MinT1","Major right",null,{"$error":"#VALUE!"},{"$error":"#VALUE!"},{"$error":"#VALUE!"},null,0,15,"","",0.1205004039155782,null,0.505,null,null,1,2,null,1.5,null,0,0.33333333333333326,null,null,null,1,null,0.25249999999999995,null,{"$error":"#VALUE!"},null,null,"","","","","","","","","","","","","","","",1,null,"","","","","",1,1,"","","","","","","","",""]
[42,"Nonmotorized","SB Ped","MinNM2","Nonmotorized","EBL","MajL1","Major left",null,{"$error":"#VALUE!"},{"$error":"#VALUE!"},{"$error":"#VALUE!"},null,0,20,"","",0.20274912921655375,null,{"$f":"IF(SSI_AGI_PedExclusive=\"Yes\", SSI_AGI_ProtFactor,SSI_AGI_ProtPermFactor)","v":0.92500000000000004},null,null,1,2,null,1.5,null,0,0.33333333333333326,null,null,null,1,null,0.46249999999999997,null,{"$error":"#VALUE!"},null,null,"","","","","","","","","","","","","","","",1,null,"",1,"","","","","","","","","","","","","",""]
[43,"Nonmotorized","SB Ped","MinNM2","Nonmotorized","SBL","MinL2","Signal near",null,{"$error":"#VALUE!"},{"$error":"#VALUE!"},{"$error":"#VALUE!"},null,0,15,"","",0.1205004039155782,null,0.505,null,null,1,2,null,1.5,null,0,0.33333333333333326,null,null,null,1,null,0.25249999999999995,null,{"$error":"#VALUE!"},null,null,"","","","","","","","","","","","","","","",1,null,"","","","","","","","","","",1,"","","","",""]
[44,"Nonmotorized","SB Ped","MinNM2","Nonmotorized","SBR, SBT","MinR2, MinT2","Signal near",null,{"$error":"#VALUE!"},{"$error":"#VALUE!"},{"$error":"#VALUE!"},null,0,15,"","",0.1205004039155782,null,0.505,null,null,1,null,null,1,null,{"$f":"IF(B47=\"Diverging\",\"\",SSI_AGI_VehSpeed_MnrThru)","v":0},0.33333333333333326,null,null,null,1,null,0.16833333333333331,null,{"$error":"#VALUE!"},null,null,"","","","","","","","","","","","","","","",1,null,"","","","","","","","","",1,"",1,"","","",""]
[null,null,null,null,null,null,null,null,null,null,null,null,null,null,null,null,null,null,null,null,null,null,null,null,null,null,null,null,null,null,null,null,null,null,null,null,null,null,"O",{"$f":"'SSI Inputs'!$D$26","v":{"$error":"#VALUE!"}},{"$f":"'SSI Inputs'!$D$27","v":{"$error":"#VALUE!"}},{"$f":"'SSI Inputs'!$D$28","v":{"$error":"#VALUE!"}},{"$f":"'SSI Inputs'!$D$30","v":{"$error":"#VALUE!"}},{"$f":"'SSI Inputs'!$D$31","v":{"$error":"#VALUE!"}},{"$f":"'SSI Inputs'!$D$32","v":{"$error":"#VALUE!"}},{"$f":"'SSI Inputs'!$D$34","v":{"$error":"#VALUE!"}},{"$f":"'SSI Inputs'!$D$35","v":{"$error":"#VALUE!"}},{"$f":"'SSI Inputs'!$D$36","v":{"$error":"#VALUE!"}},{"$f":"'SSI Inputs'!$D$38","v":{"$error":"#VALUE!"}},{"$f":"'SSI Inputs'!$D$39","v":{"$error":"#VALUE!"}},{"$f":"'SSI Inputs'!$D$40","v":{"$error":"#VALUE!"}},{"$f":"'SSI Inputs'!$Q$18","v":12.5},{"$f":"'SSI Inputs'!$Q$19","v":12.5},{"$f":"'SSI Inputs'!$Q$20","v":12.5},{"$f":"'SSI Inputs'!$Q$21","v":12.5},"O",{"$f":"'SSI Inputs'!$D$26","v":{"$error":"#VALUE!"}},{"$f":"'SSI Inputs'!$D$27","v":{"$error":"#VALUE!"}},{"$f":"'SSI Inputs'!$D$28","v":{"$error":"#VALUE!"}},{"$f":"'SSI Inputs'!$D$30","v":{"$error":"#VALUE!"}},{"$f":"'SSI Inputs'!$D$31","v":{"$error":"#VALUE!"}},{"$f":"'SSI Inputs'!$D$32","v":{"$error":"#VALUE!"}},{"$f":"'SSI Inputs'!$D$34","v":{"$error":"#VALUE!"}},{"$f":"'SSI Inputs'!$D$35","v":{"$error":"#VALUE!"}},{"$f":"'SSI Inputs'!$D$36","v":{"$error":"#VALUE!"}},{"$f":"'SSI Inputs'!$D$38","v":{"$error":"#VALUE!"}},{"$f":"'SSI Inputs'!$D$39","v":{"$error":"#VALUE!"}},{"$f":"'SSI Inputs'!$D$40","v":{"$error":"#VALUE!"}},{"$f":"'SSI Inputs'!$Q$18","v":12.5},{"$f":"'SSI Inputs'!$Q$19","v":12.5},{"$f":"'SSI Inputs'!$Q$20","v":12.5},{"$f":"'SSI Inputs'!$Q$21","v":12.5}]
[null,null,null,null,null,null,null,null,null,null,null,null,null,null,null,null,null,null,null,null,null,null,null,null,null,null,null,null,null,null,null,null,null,null,null,null,null,null,"D",{"$f":"'SSI Inputs'!$E$26","v":{"$error":"#VALUE!"}},{"$f":"'SSI Inputs'!$E$27","v":{"$error":"#VALUE!"}},{"$f":"'SSI Inputs'!$E$28","v":{"$error":"#VALUE!"}},{"$f":"'SSI Inputs'!$E$30","v":{"$error":"#VALUE!"}},{"$f":"'SSI Inputs'!$E$31","v":{"$error":"#VALUE!"}},{"$f":"'SSI Inputs'!$E$32","v":{"$error":"#VALUE!"}},{"$f":"'SSI Inputs'!$E$34","v":{"$error":"#VALUE!"}},{"$f":"'SSI Inputs'!$E$35","v":{"$error":"#VALUE!"}},{"$f":"'SSI Inputs'!$E$36","v":{"$error":"#VALUE!"}},{"$f":"'SSI Inputs'!$E$38","v":{"$error":"#VALUE!"}},{"$f":"'SSI Inputs'!$E$39","v":{"$error":"#VALUE!"}},{"$f":"'SSI Inputs'!$E$40","v":{"$error":"#VALUE!"}},{"$f":"'SSI Inputs'!$R$18","v":12.5},{"$f":"'SSI Inputs'!$R$19","v":12.5},{"$f":"'SSI Inputs'!$R$20","v":12.5},{"$f":"'SSI Inputs'!$R$21","v":12.5},"D",{"$f":"'SSI Inputs'!$E$26","v":{"$error":"#VALUE!"}},{"$f":"'SSI Inputs'!$E$27","v":{"$error":"#VALUE!"}},{"$f":"'SSI Inputs'!$E$28","v":{"$error":"#VALUE!"}},{"$f":"'SSI Inputs'!$E$30","v":{"$error":"#VALUE!"}},{"$f":"'SSI Inputs'!$E$31","v":{"$error":"#VALUE!"}},{"$f":"'SSI Inputs'!$E$32","v":{"$error":"#VALUE!"}},{"$f":"'SSI Inputs'!$E$34","v":{"$error":"#VALUE!"}},{"$f":"'SSI Inputs'!$E$35","v":{"$error":"#VALUE!"}},{"$f":"'SSI Inputs'!$E$36","v":{"$error":"#VALUE!"}},{"$f":"'SSI Inputs'!$E$38","v":{"$error":"#VALUE!"}},{"$f":"'SSI Inputs'!$E$39","v":{"$error":"#VALUE!"}},{"$f":"'SSI Inputs'!$E$40","v":{"$error":"#VALUE!"}},{"$f":"'SSI Inputs'!$R$18","v":12.5},{"$f":"'SSI Inputs'!$R$19","v":12.5},{"$f":"'SSI Inputs'!$R$20","v":12.5},{"$f":"'SSI Inputs'!$R$21","v":12.5}]
[]
[]
[]
[]
[]
[]
[]
[]
[]
[]
[]
[]
[]
[]
[]
[]
[]
[]
[]
[]
[]
[]
[]
[]
[]
[]
[]
[]
[]
[]
[]
[]
[]
[]
[]
[]
[]
[]
[]
[]
[]
[]
[]
[]
[]
[]
[]
[]
[]
[]
[]
[null,null,null,null,null,null,null,null,null,"Exposure",null,null,null,null,null,null,null,null,null,null,null,null,null,null,null,null,null,null,null,null,null,null,null,null,null,null,"Exposure-Severity-Complexity Product"]
[null,null,null,null,null,null,null,null,null,"Q1","Q2","I"]
[null,null,null,null,null,null,null,null,null,{"$f":"SUMPRODUCT($AN4:$BC4,$AN$49:$BC$49)","v":{"$error":"#VALUE!"}},{"$f":"SUMPRODUCT($BE4:$BT4,$BE$49:$BT$49)","v":{"$error":"#VALUE!"}},{"$f":"PRODUCT(J103:K103)","v":{"$error":"#VALUE!"}},null,null,null,null,null,null,null,null,null,null,null,null,null,null,null,null,null,null,null,null,null,null,null,null,{"$f":"L103*R4*AI4","v":{"$error":"#VALUE!"}}]
[null,null,null,null,null,null,null,null,null,{"$f":"SUMPRODUCT($AN5:$BC5,$AN$49:$BC$49)","v":{"$error":"#VALUE!"}},{"$f":"SUMPRODUCT($BE5:$BT5,$BE$49:$BT$49)","v":{"$error":"#VALUE!"}},{"$f":"PRODUCT(J104:K104)","v":{"$error":"#VALUE!"}},null,null,null,null,null,null,null,null,null,null,null,null,null,null,null,null,null,null,null,null,null,null,null,null,{"$f":"L104*R5*AI5","v":{"$error":"#VALUE!"}}]
[null,null,null,null,null,null,null,null,null,{"$error":"#VALUE!"},{"$error":"#VALUE!"},{"$error":"#VALUE!"},null,null,null,null,null,null,null,null,null,null,null,null,null,null,null,null,null,null,null,null,null,null,null,null,{"$error":"#VALUE!"}]
[null,null,null,null,null,null,null,null,null,{"$error":"#VALUE!"},{"$error":"#VALUE!"},{"$error":"#VALUE!"},null,null,null,null,null,null,null,null,null,null,null,null,null,null,null,null,null,null,null,null,null,null,null,null,{"$error":"#VALUE!"}]
[null,null,null,null,null,null,null,null,null,{"$error":"#VALUE!"},{"$error":"#VALUE!"},{"$error":"#VALUE!"},null,null,null,null,null,null,null,null,null,null,null,null,null,null,null,null,null,null,null,null,null,null,null,null,{"$error":"#VALUE!"}]
[null,null,null,null,null,null,null,null,null,{"$error":"#VALUE!"},{"$error":"#VALUE!"},{"$error":"#VALUE!"},null,null,null,null,null,null,null,null,null,null,null,null,null,null,null,null,null,null,null,null,null,null,null,null,{"$error":"#VALUE!"}]
[null,null,null,null,null,null,null,null,null,{"$error":"#VALUE!"},{"$error":"#VALUE!"},{"$error":"#VALUE!"},null,null,null,null,null,null,null,null,null,null,null,null,null,null,null,null,null,null,null,null,null,null,null,null,{"$error":"#VALUE!"}]
[null,null,null,null,null,null,null,null,null,{"$error":"#VALUE!"},{"$error":"#VALUE!"},{"$error":"#VALUE!"},null,null,null,null,null,null,null,null,null,null,null,null,null,null,null,null,null,null,null,null,null,null,null,null,{"$error":"#VALUE!"}]
[null,null,null,null,null,null,null,null,null,{"$error":"#VALUE!"},{"$error":"#VALUE!"},{"$error":"#VALUE!"},null,null,null,null,null,null,null,null,null,null,null,null,null,null,null,null,null,null,null,null,null,null,null,null,{"$error":"#VALUE!"}]
[null,null,null,null,null,null,null,null,null,{"$error":"#VALUE!"},{"$error":"#VALUE!"},{"$error":"#VALUE!"},null,null,null,null,null,null,null,null,null,null,null,null,null,null,null,null,null,null,null,null,null,null,null,null,{"$error":"#VALUE!"}]
[null,null,null,null,null,null,null,null,null,{"$error":"#VALUE!"},{"$error":"#VALUE!"},{"$error":"#VALUE!"},null,null,null,null,null,null,null,null,null,null,null,null,null,null,null,null,null,null,null,null,null,null,null,null,{"$error":"#VALUE!"}]
[null,null,null,null,null,null,null,null,null,{"$error":"#VALUE!"},{"$error":"#VALUE!"},{"$error":"#VALUE!"},null,null,null,null,null,null,null,null,null,null,null,null,null,null,null,null,null,null,null,null,null,null,null,null,{"$error":"#VALUE!"}]
[null,null,null,null,null,null,null,null,null,{"$error":"#VALUE!"},{"$error":"#VALUE!"},{"$error":"#VALUE!"},null,null,null,null,null,null,null,null,null,null,null,null,null,null,null,null,null,null,null,null,null,null,null,null,{"$error":"#VALUE!"}]
[null,null,null,null,null,null,null,null,null,{"$error":"#VALUE!"},{"$error":"#VALUE!"},{"$error":"#VALUE!"},null,null,null,null,null,null,null,null,null,null,null,null,null,null,null,null,null,null,null,null,null,null,null,null,{"$error":"#VALUE!"}]
[null,null,null,null,null,null,null,null,null,{"$error":"#VALUE!"},{"$error":"#VALUE!"},{"$error":"#VALUE!"},null,null,null,null,null,null,null,null,null,null,null,null,null,null,null,null,null,null,null,null,null,null,null,null,{"$error":"#VALUE!"}]
[null,null,null,null,null,null,null,null,null,{"$error":"#VALUE!"},{"$error":"#VALUE!"},{"$error":"#VALUE!"},null,null,null,null,null,null,null,null,null,null,null,null,null,null,null,null,null,null,null,null,null,null,null,null,{"$error":"#VALUE!"}]
[null,null,null,null,null,null,null,null,null,{"$error":"#VALUE!"},{"$error":"#VALUE!"},{"$error":"#VALUE!"},null,null,null,null,null,null,null,null,null,null,null,null,null,null,null,null,null,null,null,null,null,null,null,null,{"$error":"#VALUE!"}]
[null,null,null,null,null,null,null,null,null,{"$error":"#VALUE!"},{"$error":"#VALUE!"},{"$error":"#VALUE!"},null,null,null,null,null,null,null,null,null,null,null,null,null,null,null,null,null,null,null,null,null,null,null,null,{"$error":"#VALUE!"}]
[null,null,null,null,null,null,null,null,null,{"$error":"#VALUE!"},{"$error":"#VALUE!"},{"$error":"#VALUE!"},null,null,null,null,null,null,null,null,null,null,null,null,null,null,null,null,null,null,null,null,null,null,null,null,{"$error":"#VALUE!"}]
[null,null,null,null,null,null,null,null,null,{"$error":"#VALUE!"},{"$error":"#VALUE!"},{"$error":"#VALUE!"},null,null,null,null,null,null,null,null,null,null,null,null,null,null,null,null,null,null,null,null,null,null,null,null,{"$error":"#VALUE!"}]
[null,null,null,null,null,null,null,null,null,{"$error":"#VALUE!"},{"$error":"#VALUE!"},{"$error":"#VALUE!"},null,null,null,null,null,null,null,null,null,null,null,null,null,null,null,null,null,null,null,null,null,null,null,null,{"$error":"#VALUE!"}]
[null,null,null,null,null,null,null,null,null,{"$error":"#VALUE!"},{"$error":"#VALUE!"},{"$error":"#VALUE!"},null,null,null,null,null,null,null,null,null,null,null,null,null,null,null,null,null,null,null,null,null,null,null,null,{"$error":"#VALUE!"}]
[null,null,null,null,null,null,null,null,null,{"$error":"#VALUE!"},{"$error":"#VALUE!"},{"$error":"#VALUE!"},null,null,null,null,null,null,null,null,null,null,null,null,null,null,null,null,null,null,null,null,null,null,null,null,{"$error":"#VALUE!"}]
[null,null,null,null,null,null,null,null,null,{"$error":"#VALUE!"},{"$error":"#VALUE!"},{"$error":"#VALUE!"},null,null,null,null,null,null,null,null,null,null,null,null,null,null,null,null,null,null,null,null,null,null,null,null,{"$error":"#VALUE!"}]
[null,null,null,null,null,null,null,null,null,{"$error":"#VALUE!"},{"$error":"#VALUE!"},{"$error":"#VALUE!"},null,null,null,null,null,null,null,null,null,null,null,null,null,null,null,null,null,null,null,null,null,null,null,null,{"$error":"#VALUE!"}]
[null,null,null,null,null,null,null,null,null,{"$error":"#VALUE!"},{"$error":"#VALUE!"},{"$error":"#VALUE!"},null,null,null,null,null,null,null,null,null,null,null,null,null,null,null,null,null,null,null,null,null,null,null,null,{"$error":"#VALUE!"}]
[null,null,null,null,null,null,null,null,null,{"$error":"#VALUE!"},{"$error":"#VALUE!"},{"$error":"#VALUE!"},null,null,null,null,null,null,null,null,null,null,null,null,null,null,null,null,null,null,null,null,null,null,null,null,{"$error":"#VALUE!"}]
[null,null,null,null,null,null,null,null,null,{"$error":"#VALUE!"},{"$error":"#VALUE!"},{"$error":"#VALUE!"},null,null,null,null,null,null,null,null,null,null,null,null,null,null,null,null,null,null,null,null,null,null,null,null,{"$error":"#VALUE!"}]
[null,null,null,null,null,null,null,null,null,{"$error":"#VALUE!"},{"$error":"#VALUE!"},{"$error":"#VALUE!"},null,null,null,null,null,null,null,null,null,null,null,null,null,null,null,null,null,null,null,null,null,null,null,null,{"$error":"#VALUE!"}]
[null,null,null,null,null,null,null,null,null,{"$error":"#VALUE!"},{"$error":"#VALUE!"},{"$error":"#VALUE!"},null,null,null,null,null,null,null,null,null,null,null,null,null,null,null,null,null,null,null,null,null,null,null,null,{"$error":"#VALUE!"}]
[null,null,null,null,null,null,null,null,null,{"$error":"#VALUE!"},{"$error":"#VALUE!"},{"$error":"#VALUE!"},null,null,null,null,null,null,null,null,null,null,null,null,null,null,null,null,null,null,null,null,null,null,null,null,{"$error":"#VALUE!"}]
[null,null,null,null,null,null,null,null,null,{"$error":"#VALUE!"},{"$error":"#VALUE!"},{"$error":"#VALUE!"},null,null,null,null,null,null,null,null,null,null,null,null,null,null,null,null,null,null,null,null,null,null,null,null,{"$error":"#VALUE!"}]
[null,null,null,null,null,null,null,null,null,{"$error":"#VALUE!"},{"$error":"#VALUE!"},{"$error":"#VALUE!"},null,null,null,null,null,null,null,null,null,null,null,null,null,null,null,null,null,null,null,null,null,null,null,null,{"$error":"#VALUE!"}]
[null,null,null,null,null,null,null,null,null,{"$error":"#VALUE!"},{"$error":"#VALUE!"},{"$f":"PRODUCT(J136:K136)","v":{"$error":"#VALUE!"}},null,null,null,null,null,null,null,null,null,null,null,null,null,null,null,null,null,null,null,null,null,null,null,null,{"$error":"#VALUE!"}]
[null,null,null,null,null,null,null,null,null,{"$error":"#VALUE!"},{"$error":"#VALUE!"},{"$f":"PRODUCT(J137:K137)","v":{"$error":"#VALUE!"}},null,null,null,null,null,null,null,null,null,null,null,null,null,null,null,null,null,null,null,null,null,null,null,null,{"$error":"#VALUE!"}]
[null,null,null,null,null,null,null,null,null,{"$error":"#VALUE!"},{"$error":"#VALUE!"},{"$error":"#VALUE!"},null,null,null,null,null,null,null,null,null,null,null,null,null,null,null,null,null,null,null,null,null,null,null,null,{"$error":"#VALUE!"}]
[null,null,null,null,null,null,null,null,null,{"$error":"#VALUE!"},{"$error":"#VALUE!"},{"$error":"#VALUE!"},null,null,null,null,null,null,null,null,null,null,null,null,null,null,null,null,null,null,null,null,null,null,null,null,{"$error":"#VALUE!"}]
[null,null,null,null,null,null,null,null,null,{"$error":"#VALUE!"},{"$error":"#VALUE!"},{"$error":"#VALUE!"},null,null,null,null,null,null,null,null,null,null,null,null,null,null,null,null,null,null,null,null,null,null,null,null,{"$error":"#VALUE!"}]
[null,null,null,null,null,null,null,null,null,{"$error":"#VALUE!"},{"$error":"#VALUE!"},{"$error":"#VALUE!"},null,null,null,null,null,null,null,null,null,null,null,null,null,null,null,null,null,null,null,null,null,null,null,null,{"$error":"#VALUE!"}]
[null,null,null,null,null,null,null,null,null,{"$error":"#VALUE!"},{"$error":"#VALUE!"},{"$error":"#VALUE!"},null,null,null,null,null,null,null,null,null,null,null,null,null,null,null,null,null,null,null,null,null,null,null,null,{"$error":"#VALUE!"}]
[null,null,null,null,null,null,null,null,null,{"$error":"#VALUE!"},{"$error":"#VALUE!"},{"$error":"#VALUE!"},null,null,null,null,null,null,null,null,null,null,null,null,null,null,null,null,null,null,null,null,null,null,null,null,{"$error":"#VALUE!"}]
[null,null,null,null,null,null,null,null,null,{"$error":"#VALUE!"},{"$error":"#VALUE!"},{"$error":"#VALUE!"},null,null,null,null,null,null,null,null,null,null,null,null,null,null,null,null,null,null,null,null,null,null,null,null,{"$error":"#VALUE!"}]
[null,null,null,null,null,null,null,null,null,{"$error":"#VALUE!"},{"$error":"#VALUE!"},{"$error":"#VALUE!"},null,null,null,null,null,null,null,null,null,null,null,null,null,null,null,null,null,null,null,null,null,null,null,null,{"$error":"#VALUE!"}]
[null,null,null,null,null,null,null,null,null,{"$error":"#VALUE!"},{"$error":"#VALUE!"},{"$error":"#VALUE!"},null,null,null,null,null,null,null,null,null,null,null,null,null,null,null,null,null,null,null,null,null,null,null,null,{"$error":"#VALUE!"}]

{"sheet":"ThruCut_Unsig","index":35,"n_rows":146,"n_cols":72,"rows_kept":146,"cut":false,"hidden":true,"merged":[[1,34,2,34],[1,36,2,36],[1,39,1,54],[1,56,1,71],[100,9,100,11],[100,36,101,36],[0,19,0,28],[0,30,0,32],[1,9,1,11],[1,13,1,17],[1,21,1,25],[1,27,1,28],[1,30,2,30],[1,31,2,31],[1,32,2,32]]}
[null,null,null,null,null,null,null,null,null,null,null,null,null,null,null,null,null,null,null,"Conflicting Traffic Complexity",null,null,null,null,null,null,null,null,null,null,"Pedestrian Complexity"]
[null,null,null,null,null,null,null,null,null,"Exposure",null,null,null,"Severity",null,null,null,null,null,"Traffic Control",null,"Conflicting Lanes",null,null,null,null,null,"Conflicting Speed",null,null,"Indirect Paths Indicator","Non-intuitive movements indicator","Pedestrian Complexity factor",null,"Total Complexity Multiplier",null,"Exposure-Severity-Complexity Product",null,null,"Included in Mvmt1",null,null,null,null,null,null,null,null,null,null,null,null,null,null,null,null,"Included in Mvmt2"]
["#","Conflict Type","Mvmt1","Mvmt1_gen","Mvmt1_SpeedCat","Mvmt2","Mvmt2_gen","Mvmt2_SpeedCat",null,"Q1","Q2","I",null,"Speed_V1","Speed_V2","Angle","delta_V","P_FSI",null,null,null,"MajC","MinC","MajM/P","MinM/P","Score",null,"Speed","Factor",null,null,null,null,null,null,null,null,null,null,"MajT1","MajL1","MajR1","MajT2","MajL2","MajR2","MinT1","MinL1","MinR1","MinT2","MinL2","MinR2","MajNM1","MajNM2","MinNM1","MinNM2",null,"MajT1","MajL1","MajR1","MajT2","MajL2","MajR2","MinT1","MinL1","MinR1","MinT2","MinL2","MinR2","MajNM1","MajNM2","MinNM1","MinNM2"]
[1,"Crossing - LT","NBL","MinL1","Stop far","EBL","MajL1","Major left",null,{"$f":"SUMPRODUCT($AN4:$BC4,$AN$48:$BC$48)","v":{"$error":"#VALUE!"}},{"$f":"SUMPRODUCT($BE4:$BT4,$BE$48:$BT$48)","v":{"$error":"#VALUE!"}},{"$f":"PRODUCT(J4:K4)","v":{"$error":"#VALUE!"}},null,{"$f":"VLOOKUP(E4,SSI_AGI_Range_VehSpeed,5,FALSE)","v":25},{"$f":"VLOOKUP(H4,SSI_AGI_Range_VehSpeed,5,FALSE)","v":20},{"$f":"IF(B4=\"Nonmotorized\",\"\",VLOOKUP(B4,SSI_AGI_Range_CollAngles,5,FALSE))","v":230},{"$f":"IF(B4=\"Nonmotorized\",\"\",SQRT(N4^2+O4^2-2*N4*O4*COS(RADIANS(P4)))/2)","v":20.419277715473552},{"$f":"IF(B4=\"Nonmotorized\",1/(1+EXP(3.8432-0.1237*O4)),(Q4/SSI_AGI_RegAlpha)^SSI_AGI_RegK+(Q4/SSI_AGI_RegAlpha)^SSI_AGI_RegK-((Q4/SSI_AGI_RegAlpha)^SSI_AGI_RegK)*((Q4/SSI_AGI_RegAlpha)^SSI_AGI_RegK))","v":2.1555284139167314E-2},null,{"$f":"SSI_AGI_StopFactor","v":0.72500000000000009},null,1,null,1,null,{"$f":"MAX(1,IF(B4<>\"Pedestrian\",V4*SSI_AGI_MajorThruLanes+W4*SSI_AGI_MinorThruLanes+X4*IF(SSI_AGI_MajorThruLanes=1,SSI_AGI_MergeWeightL1,IF(SSI_AGI_MajorThruLanes=2,SSI_AGI_MergeWeightL1+SSI_AGI_MergeWeightL2,SSI_AGI_MergeWeightL1+SSI_AGI_MergeWeightL2+SSI_AGI_MergeWeightL3*(SSI_AGI_MajorThruLanes-2)))+Y4*IF(SSI_AGI_MinorThruLanes=1,SSI_AGI_MergeWeightL1,IF(SSI_AGI_MinorThruLanes=2,SSI_AGI_MergeWeightL1+SSI_AGI_MergeWeightL2,SSI_AGI_MergeWeightL1+SSI_AGI_MergeWeightL2+SSI_AGI_MergeWeightL3*(SSI_AGI_MinorThruLanes-2))),V4*SSI_AGI_MajorThruLanes+W4*SSI_AGI_MinorThruLanes+X4*IF(SSI_AGI_MajorThruLanes=1,SSI_AGI_NM_MergeWeightL1,IF(SSI_AGI_MajorThruLanes=2,SSI_AGI_NM_MergeWeightL1+SSI_AGI_NM_MergeWeightL2,SSI_AGI_NM_MergeWeightL1+SSI_AGI_NM_MergeWeightL2+SSI_AGI_NM_MergeWeightL3*(SSI_AGI_MajorThruLanes-2)))+Y4*IF(SSI_AGI_MinorThruLanes=1,SSI_AGI_NM_MergeWeightL1,IF(SSI_AGI_MinorThruLanes=2,SSI_AGI_NM_MergeWeightL1+SSI_AGI_NM_MergeWeightL2,SSI_AGI_NM_MergeWeightL1+SSI_AGI_NM_MergeWeightL2+SSI_AGI_NM_MergeWeightL3*(SSI_AGI_MinorThruLanes-2)))))","v":1},null,{"$f":"IF(B4=\"Diverging\",\"\",SSI_AGI_VehSpeed_MjrThru)","v":0},{"$f":"IF(B4=\"Diverging\",1,1-((60-AB4)/60*0.1/0.15))","v":0.33333333333333326},null,null,null,{"$f":"1+AE4+AF4","v":1},null,{"$f":"PRODUCT(Z4,T4,AC4,AG4)","v":0.24166666666666664},null,{"$f":"L4*R4*AI4","v":{"$error":"#VALUE!"}},null,null,{"$f":"IF(ISNUMBER(SEARCH(AN$3,$D4)),1,\"\")","v":""},{"$f":"IF(ISNUMBER(SEARCH(AO$3,$D4)),1,\"\")","v":""},"","","","","",1,"","","","","","","","",null,{"$f":"IF(ISNUMBER(SEARCH(BE$3,$G4)),1,\"\")","v":""},{"$f":"IF(ISNUMBER(SEARCH(BF$3,$G4)),1,\"\")","v":1},"","","","","","","","","","","","","",""]
[2,"Crossing - LT","NBL","MinL1","Stop near","WBL","MajL2","Major left",null,{"$error":"#VALUE!"},{"$error":"#VALUE!"},{"$f":"PRODUCT(J5:K5)","v":{"$error":"#VALUE!"}},null,15,20,230,{"$f":"IF(B5=\"Nonmotorized\",\"\",SQRT(N5^2+O5^2-2*N5*O5*COS(RADIANS(P5)))/2)","v":15.895538413434787},8.3616736100371545E-3,null,0.72500000000000009,null,1,null,1,null,1,null,0,0.33333333333333326,null,null,null,{"$f":"1+AE5+AF5","v":1},null,0.24166666666666664,null,{"$f":"L5*R5*AI5","v":{"$error":"#VALUE!"}},null,null,{"$f":"IF(ISNUMBER(SEARCH(AN$3,$D5)),1,\"\")","v":""},"","","","","","",1,"","","","","","","","",null,{"$f":"IF(ISNUMBER(SEARCH(BE$3,$G5)),1,\"\")","v":""},"","","",1,"","","","","","","","","","",""]
[3,"Crossing - LT","WBL","MajL2","Major left","EBT","MajT1","Major thru",null,{"$error":"#VALUE!"},{"$error":"#VALUE!"},{"$error":"#VALUE!"},null,20,0,230,10,1.4431392232699444E-3,null,0.72500000000000009,null,1,null,null,null,1,null,0,0.33333333333333326,null,null,null,1,null,0.24166666666666664,null,{"$error":"#VALUE!"},null,null,"","","","",1,"","","","","","","","","","","",null,1,"","","","","","","","","","","","","","",""]
[4,"Crossing - LT","NBL","MinL1","Stop near","EBT","MajT1","Major thru",null,{"$error":"#VALUE!"},{"$error":"#VALUE!"},{"$error":"#VALUE!"},null,15,0,230,7.5,4.8454301532720461E-4,null,0.72500000000000009,null,1,null,1,null,1,null,0,0.33333333333333326,null,null,null,1,null,0.24166666666666664,null,{"$error":"#VALUE!"},null,null,"","","","","","","",1,"","","","","","","","",null,1,"","","","","","","","","","","","","","",""]
[5,"Crossing - LT","SBL","MinL2","Stop far","WBL","MajL2","Major left",null,{"$error":"#VALUE!"},{"$error":"#VALUE!"},{"$error":"#VALUE!"},null,25,20,230,20.419277715473552,2.1555284139167314E-2,null,0.72500000000000009,null,1,null,1,null,1,null,0,0.33333333333333326,null,null,null,1,null,0.24166666666666664,null,{"$error":"#VALUE!"},null,null,"","","","","","","","","","",1,"","","","","",null,"","","","",1,"","","","","","","","","","",""]
[6,"Crossing - LT","SBL","MinL2","Stop near","EBL","MajL1","Major left",null,{"$error":"#VALUE!"},{"$error":"#VALUE!"},{"$error":"#VALUE!"},null,15,20,230,15.895538413434787,8.3616736100371545E-3,null,0.72500000000000009,null,1,null,1,null,1,null,0,0.33333333333333326,null,null,null,1,null,0.24166666666666664,null,{"$error":"#VALUE!"},null,null,"","","","","","","","","","",1,"","","","","",null,"",1,"","","","","","","","","","","","","",""]
[7,"Crossing - LT","EBL","MajL1","Major left","WBT","MajT2","Major thru",null,{"$error":"#VALUE!"},{"$error":"#VALUE!"},{"$error":"#VALUE!"},null,20,0,230,10,1.4431392232699444E-3,null,0.72500000000000009,null,1,null,null,null,1,null,0,0.33333333333333326,null,null,null,1,null,0.24166666666666664,null,{"$error":"#VALUE!"},null,null,"",1,"","","","","","","","","","","","","","",null,"","","",1,"","","","","","","","","","","",""]
[8,"Crossing - LT","SBL","MinL2","Stop near","WBT","MajT2","Major thru",null,{"$error":"#VALUE!"},{"$error":"#VALUE!"},{"$error":"#VALUE!"},null,15,0,230,7.5,4.8454301532720461E-4,null,0.72500000000000009,null,1,null,1,null,1,null,0,0.33333333333333326,null,null,null,1,null,0.24166666666666664,null,{"$error":"#VALUE!"},null,null,"","","","","","","","","","",1,"","","","","",null,"","","",1,"","","","","","","","","","","",""]
[9,"Merging","EBL","MajL1","Major left","WBR, NBT","MajR2, MinT1","Major right",null,{"$error":"#VALUE!"},{"$error":"#VALUE!"},{"$error":"#VALUE!"},null,20,15,45,7.0840654162717795,3.9022923271840544E-4,null,0.72500000000000009,null,1,null,null,null,1,null,0,0.33333333333333326,null,null,null,1,null,0.24166666666666664,null,{"$error":"#VALUE!"},null,null,"",1,"","","","","","","","","","","","","","",null,"","","","","",1,1,"","","","","","","","",""]
[10,"Merging","SBR, SBT","MinR2, MinT2","Stop near","WBT","MajT2","Major thru",null,{"$error":"#VALUE!"},{"$error":"#VALUE!"},{"$error":"#VALUE!"},null,15,0,45,7.5,4.8454301532720461E-4,null,0.72500000000000009,null,null,null,1,null,1,null,0,0.33333333333333326,null,null,null,1,null,0.24166666666666664,null,{"$error":"#VALUE!"},null,null,"","","","","","","","","",1,"",1,"","","","",null,"","","",1,"","","","","","","","","","","",""]
[11,"Merging","NBL","MinL1","Stop far","WBT","MajT2","Major thru",null,{"$error":"#VALUE!"},{"$error":"#VALUE!"},{"$error":"#VALUE!"},null,25,0,45,12.5,3.3637551692797594E-3,null,0.72500000000000009,null,1,null,1,null,1,null,0,0.33333333333333326,null,null,null,1,null,0.24166666666666664,null,{"$error":"#VALUE!"},null,null,"","","","","","","",1,"","","","","","","","",null,"","","",1,"","","","","","","","","","","",""]
[12,"Merging","SBT","MinT2","Stop near","EBT, EBL, EBR","MajT1, MajL1, MajR1","Major thru",null,{"$error":"#VALUE!"},{"$error":"#VALUE!"},{"$error":"#VALUE!"},null,15,0,45,7.5,4.8454301532720461E-4,null,0.72500000000000009,null,null,null,1,null,1,null,0,0.33333333333333326,null,null,null,1,null,0.24166666666666664,null,{"$error":"#VALUE!"},null,null,"","","","","","","","","",1,"","","","","","",null,1,1,1,"","","","","","","","","","","","",""]
[13,"Merging","WBL","MajL2","Major left","EBR, SBT","MajR1, MinT2","Major right",null,{"$error":"#VALUE!"},{"$error":"#VALUE!"},{"$error":"#VALUE!"},null,20,15,45,7.0840654162717795,3.9022923271840544E-4,null,0.72500000000000009,null,1,null,null,null,1,null,0,0.33333333333333326,null,null,null,1,null,0.24166666666666664,null,{"$error":"#VALUE!"},null,null,"","","","",1,"","","","","","","","","","","",null,"","",1,"","","","","","",1,"","","","","",""]
[14,"Merging","SBL","MinL2","Stop far","EBT","MajT1","Major thru",null,{"$error":"#VALUE!"},{"$error":"#VALUE!"},{"$error":"#VALUE!"},null,25,0,45,12.5,3.3637551692797594E-3,null,0.72500000000000009,null,1,null,1,null,1,null,0,0.33333333333333326,null,null,null,1,null,0.24166666666666664,null,{"$error":"#VALUE!"},null,null,"","","","","","","","","","",1,"","","","","",null,1,"","","","","","","","","","","","","","",""]
[15,"Merging","NBR, NBT","MinR1, MinT1","Stop near","EBT","MajT1","Major thru",null,{"$error":"#VALUE!"},{"$error":"#VALUE!"},{"$error":"#VALUE!"},null,15,0,45,7.5,4.8454301532720461E-4,null,0.72500000000000009,null,null,null,1,null,1,null,0,0.33333333333333326,null,null,null,1,null,0.24166666666666664,null,{"$error":"#VALUE!"},null,null,"","","","","","",1,"",1,"","","","","","","",null,1,"","","","","","","","","","","","","","",""]
[16,"Merging","NBT","MinT1","Stop near","WBT, WBL, WBR","MajT2, MajL2, MajR2","Major thru",null,{"$error":"#VALUE!"},{"$error":"#VALUE!"},{"$error":"#VALUE!"},null,15,0,45,7.5,4.8454301532720461E-4,null,0.72500000000000009,null,null,null,1,null,1,null,0,0.33333333333333326,null,null,null,1,null,0.24166666666666664,null,{"$error":"#VALUE!"},null,null,"","","","","","",1,"","","","","","","","","",null,"","","",1,1,1,"","","","","","","","","",""]
[17,"Diverging","SBR, SBT","MinT2, MinR2","Stop near","SBL","MinL2","Stop near",null,{"$error":"#VALUE!"},{"$error":"#VALUE!"},{"$error":"#VALUE!"},null,15,15,10,1.3073361412148754,6.4061388075216071E-7,null,1,null,null,null,null,null,1,null,"",1,null,null,null,1,null,1,null,{"$error":"#VALUE!"},null,null,"","","","","","","","","",1,"",1,"","","","",null,"","","","","","","","","","",1,"","","","",""]
[18,"Diverging","SBT","MinT2","Major left","WBT, SBR, NBL","MajT2, MinR2, MinL1","Major thru",null,{"$error":"#VALUE!"},{"$error":"#VALUE!"},{"$error":"#VALUE!"},null,20,0,10,10,1.4431392232699444E-3,null,1,null,null,null,null,null,1,null,"",1,null,null,null,1,null,1,null,{"$error":"#VALUE!"},null,null,"","","","","","","","","",1,"","","","","","",null,"","","",1,"","","",1,"","","",1,"","","",""]
[19,"Diverging","EBT, EBR, SBL, SBT","MajT1, MajR1, MinT2","Major thru","EBL","MajL1","Major left",null,{"$error":"#VALUE!"},{"$error":"#VALUE!"},{"$error":"#VALUE!"},null,0,20,10,10,1.4431392232699444E-3,null,1,null,null,null,null,null,1,null,"",1,null,null,null,1,null,1,null,{"$error":"#VALUE!"},null,null,1,"",1,"","","","","","",1,"","","","","","",null,"",1,"","","","","","","","","","","","","",""]
[20,"Diverging","EBT, SBL","MajT1","Major thru","EBR, SBT","MajR1, MinT2","Major right",null,{"$error":"#VALUE!"},{"$error":"#VALUE!"},{"$error":"#VALUE!"},null,0,15,10,7.5,4.8454301532720461E-4,null,1,null,null,null,null,null,1,null,"",1,null,null,null,1,null,1,null,{"$error":"#VALUE!"},null,null,1,"","","","","","","","","","","","","","","",null,"","",1,"","","","","","",1,"","","","","",""]
[21,"Diverging","NBR, NBT","MinT1, MinR1","Stop near","NBL","MinL1","Stop near",null,{"$error":"#VALUE!"},{"$error":"#VALUE!"},{"$error":"#VALUE!"},null,15,15,10,1.3073361412148754,6.4061388075216071E-7,null,1,null,null,null,null,null,1,null,"",1,null,null,null,1,null,1,null,{"$error":"#VALUE!"},null,null,"","","","","","",1,"",1,"","","","","","","",null,"","","","","","","",1,"","","","","","","",""]
[22,"Diverging","NBT","MinT1","Major left","EBT, NBR, SBL","MajT1, MinR1, MinL2","Major thru",null,{"$error":"#VALUE!"},{"$error":"#VALUE!"},{"$error":"#VALUE!"},null,20,0,10,10,1.4431392232699444E-3,null,1,null,null,null,null,null,1,null,"",1,null,null,null,1,null,1,null,{"$f":"L25*R25*AI25","v":{"$error":"#VALUE!"}},null,null,"","","","","","",1,"","","","","","","","","",null,1,"","","","","","","",1,"",1,"","","","",""]
[23,"Diverging","WBT, WBR, NBL, NBT","MajT2, MajR2, MinT1","Major thru","WBL","MajL2","Major left",null,{"$error":"#VALUE!"},{"$error":"#VALUE!"},{"$error":"#VALUE!"},null,0,20,10,10,1.4431392232699444E-3,null,1,null,null,null,null,null,1,null,"",1,null,null,null,1,null,1,null,{"$error":"#VALUE!"},null,null,"","","",1,"",1,1,"","","","","","","","","",null,"","","","",1,"","","","","","","","","","",""]
[24,"Diverging","WBT, NBL","MajT2","Major thru","WBR, NBT","MajR2, MinT1","Major right",null,{"$error":"#VALUE!"},{"$error":"#VALUE!"},{"$error":"#VALUE!"},null,0,15,10,7.5,4.8454301532720461E-4,null,1,null,null,null,null,null,1,null,"",1,null,null,null,1,null,1,null,{"$error":"#VALUE!"},null,null,"","","",1,"","","","","","","","","","","","",null,"","","","","",1,1,"","","","","","","","",""]
[25,"Nonmotorized","EB Ped","MajNM1","Nonmotorized","SBR, SBT","MinR2, MinT2","Stop near",null,{"$error":"#VALUE!"},{"$error":"#VALUE!"},{"$error":"#VALUE!"},null,0,15,"","",0.1205004039155782,null,{"$f":"SSI_AGI_StopFactor","v":0.72500000000000009},null,1,null,null,2,1.5,null,0,0.33333333333333326,null,null,null,1,null,0.36249999999999999,null,{"$error":"#VALUE!"},null,null,"","","","","","","","","","","","",1,"","","",null,"","","","","","","","","",1,"",1,"","","",""]
[26,"Nonmotorized","EB Ped","MajNM1","Nonmotorized","WBT","MajT2","Major thru",null,{"$error":"#VALUE!"},{"$error":"#VALUE!"},{"$error":"#VALUE!"},null,0,0,"","",2.0975532400616122E-2,null,{"$f":"SSI_AGI_PermFactor","v":1},null,1,null,null,2,1.5,null,0,0.33333333333333326,null,null,null,1,null,0.49999999999999989,null,{"$error":"#VALUE!"},null,null,"","","","","","","","","","","","",1,"","","",null,"","","",1,"","","","","","","","","","","",""]
[27,"Nonmotorized","EB Ped","MajNM1","Nonmotorized","NBL","MinL1","Stop far",null,{"$error":"#VALUE!"},{"$error":"#VALUE!"},{"$error":"#VALUE!"},null,0,25,"","",0.32066879346345062,null,{"$f":"SSI_AGI_StopFactor","v":0.72500000000000009},null,1,null,null,2,1.5,null,0,0.33333333333333326,null,null,null,1,null,0.36249999999999999,null,{"$error":"#VALUE!"},null,null,"","","","","","","","","","","","",1,"","","",null,"","","","","","","",1,"","","","","","","",""]
[28,"Nonmotorized","EB Ped","MajNM1","Nonmotorized","EBL","MajL1","Major left",null,{"$error":"#VALUE!"},{"$error":"#VALUE!"},{"$error":"#VALUE!"},null,0,20,"","",0.20274912921655375,null,{"$f":"SSI_AGI_PermFactor","v":1},null,1,null,null,null,1,null,0,0.33333333333333326,null,null,null,1,null,0.33333333333333326,null,{"$error":"#VALUE!"},null,null,"","","","","","","","","","","","",1,"","","",null,"",1,"","","","","","","","","","","","","",""]
[29,"Nonmotorized","EB Ped","MajNM1","Nonmotorized","EBT","MajT1","Major thru",null,{"$error":"#VALUE!"},{"$error":"#VALUE!"},{"$error":"#VALUE!"},null,0,0,"","",2.0975532400616122E-2,null,{"$f":"SSI_AGI_PermFactor","v":1},null,1,null,null,null,1,null,0,0.33333333333333326,null,null,null,1,null,0.33333333333333326,null,{"$error":"#VALUE!"},null,null,"","","","","","","","","","","","",1,"","","",null,1,"","","","","","","","","","","","","","",""]
[30,"Nonmotorized","EB Ped","MajNM1","Nonmotorized","EBR, SBT","MajR1, MinT2","Major right",null,{"$error":"#VALUE!"},{"$error":"#VALUE!"},{"$error":"#VALUE!"},null,0,15,"","",0.1205004039155782,null,{"$f":"SSI_AGI_PermFactor","v":1},null,1,null,null,null,1,null,0,0.33333333333333326,null,null,null,1,null,0.33333333333333326,null,{"$error":"#VALUE!"},null,null,"","","","","","","","","","","","",1,"","","",null,"","",1,"","","","","","",1,"","","","","",""]
[31,"Nonmotorized","NB Ped","MinNM1","Nonmotorized","EBR, SBT","MajR1, MinT2","Major right",null,{"$error":"#VALUE!"},{"$error":"#VALUE!"},{"$error":"#VALUE!"},null,0,15,"","",0.1205004039155782,null,{"$f":"SSI_AGI_PermFactor","v":1},null,null,1,2,null,1.5,null,0,0.33333333333333326,null,null,null,1,null,0.49999999999999989,null,{"$error":"#VALUE!"},null,null,"","","","","","","","","","","","","","",1,"",null,"","",1,"","","","","","",1,"","","","","",""]
[32,"Nonmotorized","NB Ped","MinNM1","Nonmotorized","WBL","MajL2","Major left",null,{"$error":"#VALUE!"},{"$error":"#VALUE!"},{"$error":"#VALUE!"},null,0,20,"","",0.20274912921655375,null,{"$f":"SSI_AGI_PermFactor","v":1},null,null,1,2,null,1.5,null,0,0.33333333333333326,null,null,null,1,null,0.49999999999999989,null,{"$error":"#VALUE!"},null,null,{"$f":"IF(ISNUMBER(SEARCH(AN$3,$D35)),1,\"\")","v":""},"","","","","","","","","","","","","",1,"",null,{"$f":"IF(ISNUMBER(SEARCH(BE$3,$G35)),1,\"\")","v":""},"","","",1,"","","","","","","","","","",""]
[33,"Nonmotorized","NB Ped","MinNM1","Nonmotorized","NBL","MinL1","Stop near",null,{"$error":"#VALUE!"},{"$error":"#VALUE!"},{"$error":"#VALUE!"},null,0,15,"",{"$f":"IF(B36=\"Nonmotorized\",\"\",SQRT(N36^2+O36^2-2*N36*O36*COS(RADIANS(P36)))/2)","v":""},0.1205004039155782,null,{"$f":"SSI_AGI_StopFactor","v":0.72500000000000009},null,null,1,2,null,1.5,null,0,0.33333333333333326,null,null,null,1,null,0.36249999999999999,null,{"$error":"#VALUE!"},null,null,"","","","","","","","","","","","","","",1,"",null,"","","","","","","",1,"","","","","","","",""]
[34,"Nonmotorized","NB Ped","MinNM1","Nonmotorized","NBR, NBT","MinR1, MinT1","Stop near",null,{"$error":"#VALUE!"},{"$error":"#VALUE!"},{"$f":"PRODUCT(J37:K37)","v":{"$error":"#VALUE!"}},null,0,15,"","",0.1205004039155782,null,{"$f":"SSI_AGI_StopFactor","v":0.72500000000000009},null,null,1,null,null,1,null,{"$f":"IF(B37=\"Diverging\",\"\",SSI_AGI_VehSpeed_MnrThru)","v":0},0.33333333333333326,null,null,null,1,null,0.24166666666666664,null,{"$error":"#VALUE!"},null,null,"","","","","","","","","","","","","","",1,"",null,"","","","","","",1,"",1,"","","","","","",""]
[35,"Nonmotorized","WB Ped","MajNM2","Nonmotorized","NBR, NBT","MinR1, MinT1","Stop near",null,{"$error":"#VALUE!"},{"$error":"#VALUE!"},{"$error":"#VALUE!"},null,0,15,"","",0.1205004039155782,null,{"$f":"SSI_AGI_StopFactor","v":0.72500000000000009},null,1,null,null,2,1.5,null,{"$f":"IF(B38=\"Diverging\",\"\",SSI_AGI_VehSpeed_MjrThru)","v":0},0.33333333333333326,null,null,null,1,null,0.36249999999999999,null,{"$error":"#VALUE!"},null,null,"","","","","","","","","","","","","",1,"","",null,"","","","","","",1,"",1,"","","","","","",""]
[36,"Nonmotorized","WB Ped","MajNM2","Nonmotorized","EBT","MajT1","Major thru",null,{"$error":"#VALUE!"},{"$error":"#VALUE!"},{"$error":"#VALUE!"},null,0,0,"","",2.0975532400616122E-2,null,{"$f":"SSI_AGI_PermFactor","v":1},null,1,null,null,2,1.5,null,0,0.33333333333333326,null,null,null,1,null,0.49999999999999989,null,{"$error":"#VALUE!"},null,null,"","","","","","","","","","","","","",1,"","",null,1,"","","","","","","","","","","","","","",""]
[37,"Nonmotorized","WB Ped","MajNM2","Nonmotorized","SBL","MinL2","Stop far",null,{"$error":"#VALUE!"},{"$error":"#VALUE!"},{"$error":"#VALUE!"},null,0,25,"","",0.32066879346345062,null,{"$f":"SSI_AGI_StopFactor","v":0.72500000000000009},null,1,null,null,2,1.5,null,0,0.33333333333333326,null,null,null,1,null,0.36249999999999999,null,{"$error":"#VALUE!"},null,null,"","","","","","","","","","","","","",1,"","",null,"","","","","","","","","","",1,"","","","",""]
[38,"Nonmotorized","WB Ped","MajNM2","Nonmotorized","WBL","MajL2","Major left",null,{"$error":"#VALUE!"},{"$error":"#VALUE!"},{"$error":"#VALUE!"},null,0,20,"","",0.20274912921655375,null,{"$f":"SSI_AGI_PermFactor","v":1},null,1,null,null,null,1,null,0,0.33333333333333326,null,null,null,1,null,0.33333333333333326,null,{"$error":"#VALUE!"},null,null,"","","","","","","","","","","","","",1,"","",null,"","","","",1,"","","","","","","","","","",""]
[39,"Nonmotorized","WB Ped","MajNM2","Nonmotorized","WBT","MajT2","Major thru",null,{"$error":"#VALUE!"},{"$error":"#VALUE!"},{"$error":"#VALUE!"},null,0,0,"","",2.0975532400616122E-2,null,{"$f":"SSI_AGI_PermFactor","v":1},null,1,null,null,null,1,null,0,0.33333333333333326,null,null,null,1,null,0.33333333333333326,null,{"$error":"#VALUE!"},null,null,"","","","","","","","","","","","","",1,"","",null,"","","",1,"","","","","","","","","","","",""]
[40,"Nonmotorized","WB Ped","MajNM2","Nonmotorized","WBR, NBT","MajR2, MinT1","Major right",null,{"$error":"#VALUE!"},{"$error":"#VALUE!"},{"$error":"#VALUE!"},null,0,15,"","",0.1205004039155782,null,{"$f":"SSI_AGI_PermFactor","v":1},null,1,null,null,null,1,null,0,0.33333333333333326,null,null,null,1,null,0.33333333333333326,null,{"$error":"#VALUE!"},null,null,"","","","","","","","","","","","","",1,"","",null,"","","","","",1,1,"","","","","","","","",""]
[41,"Nonmotorized","SB Ped","MinNM2","Nonmotorized","WBR, NBT","MajR2, MinT1","Major right",null,{"$error":"#VALUE!"},{"$error":"#VALUE!"},{"$error":"#VALUE!"},null,0,15,"","",0.1205004039155782,null,{"$f":"SSI_AGI_PermFactor","v":1},null,null,1,2,null,1.5,null,0,0.33333333333333326,null,null,null,1,null,0.49999999999999989,null,{"$error":"#VALUE!"},null,null,"","","","","","","","","","","","","","","",1,null,"","","","","",1,1,"","","","","","","","",""]
[42,"Nonmotorized","SB Ped","MinNM2","Nonmotorized","EBL","MajL1","Major left",null,{"$error":"#VALUE!"},{"$error":"#VALUE!"},{"$error":"#VALUE!"},null,0,20,"","",0.20274912921655375,null,{"$f":"SSI_AGI_PermFactor","v":1},null,null,1,2,null,1.5,null,0,0.33333333333333326,null,null,null,1,null,0.49999999999999989,null,{"$error":"#VALUE!"},null,null,"","","","","","","","","","","","","","","",1,null,"",1,"","","","","","","","","","","","","",""]
[43,"Nonmotorized","SB Ped","MinNM2","Nonmotorized","SBL","MinL2","Stop near",null,{"$error":"#VALUE!"},{"$error":"#VALUE!"},{"$error":"#VALUE!"},null,0,15,"","",0.1205004039155782,null,{"$f":"SSI_AGI_StopFactor","v":0.72500000000000009},null,null,1,2,null,1.5,null,0,0.33333333333333326,null,null,null,1,null,0.36249999999999999,null,{"$error":"#VALUE!"},null,null,"","","","","","","","","","","","","","","",1,null,"","","","","","","","","","",1,"","","","",""]
[44,"Nonmotorized","SB Ped","MinNM2","Nonmotorized","SBR, SBT","MinR2, MinT2","Stop near",null,{"$error":"#VALUE!"},{"$error":"#VALUE!"},{"$error":"#VALUE!"},null,0,15,"","",0.1205004039155782,null,{"$f":"SSI_AGI_StopFactor","v":0.72500000000000009},null,null,1,null,null,1,null,{"$f":"IF(B47=\"Diverging\",\"\",SSI_AGI_VehSpeed_MnrThru)","v":0},0.33333333333333326,null,null,null,1,null,0.24166666666666664,null,{"$error":"#VALUE!"},null,null,"","","","","","","","","","","","","","","",1,null,"","","","","","","","","",1,"",1,"","","",""]
[null,null,null,null,null,null,null,null,null,null,null,null,null,null,null,null,null,null,null,null,null,null,null,null,null,null,null,null,null,null,null,null,null,null,null,null,null,null,"O",{"$f":"'SSI Inputs'!$D$26","v":{"$error":"#VALUE!"}},{"$f":"'SSI Inputs'!$D$27","v":{"$error":"#VALUE!"}},{"$f":"'SSI Inputs'!$D$28","v":{"$error":"#VALUE!"}},{"$f":"'SSI Inputs'!$D$30","v":{"$error":"#VALUE!"}},{"$f":"'SSI Inputs'!$D$31","v":{"$error":"#VALUE!"}},{"$f":"'SSI Inputs'!$D$32","v":{"$error":"#VALUE!"}},{"$f":"'SSI Inputs'!$D$34","v":{"$error":"#VALUE!"}},{"$f":"'SSI Inputs'!$D$35","v":{"$error":"#VALUE!"}},{"$f":"'SSI Inputs'!$D$36","v":{"$error":"#VALUE!"}},{"$f":"'SSI Inputs'!$D$38","v":{"$error":"#VALUE!"}},{"$f":"'SSI Inputs'!$D$39","v":{"$error":"#VALUE!"}},{"$f":"'SSI Inputs'!$D$40","v":{"$error":"#VALUE!"}},{"$f":"'SSI Inputs'!$Q$18","v":12.5},{"$f":"'SSI Inputs'!$Q$19","v":12.5},{"$f":"'SSI Inputs'!$Q$20","v":12.5},{"$f":"'SSI Inputs'!$Q$21","v":12.5},"O",{"$f":"'SSI Inputs'!$D$26","v":{"$error":"#VALUE!"}},{"$f":"'SSI Inputs'!$D$27","v":{"$error":"#VALUE!"}},{"$f":"'SSI Inputs'!$D$28","v":{"$error":"#VALUE!"}},{"$f":"'SSI Inputs'!$D$30","v":{"$error":"#VALUE!"}},{"$f":"'SSI Inputs'!$D$31","v":{"$error":"#VALUE!"}},{"$f":"'SSI Inputs'!$D$32","v":{"$error":"#VALUE!"}},{"$f":"'SSI Inputs'!$D$34","v":{"$error":"#VALUE!"}},{"$f":"'SSI Inputs'!$D$35","v":{"$error":"#VALUE!"}},{"$f":"'SSI Inputs'!$D$36","v":{"$error":"#VALUE!"}},{"$f":"'SSI Inputs'!$D$38","v":{"$error":"#VALUE!"}},{"$f":"'SSI Inputs'!$D$39","v":{"$error":"#VALUE!"}},{"$f":"'SSI Inputs'!$D$40","v":{"$error":"#VALUE!"}},{"$f":"'SSI Inputs'!$Q$18","v":12.5},{"$f":"'SSI Inputs'!$Q$19","v":12.5},{"$f":"'SSI Inputs'!$Q$20","v":12.5},{"$f":"'SSI Inputs'!$Q$21","v":12.5}]
[null,null,null,null,null,null,null,null,null,null,null,null,null,null,null,null,null,null,null,null,null,null,null,null,null,null,null,null,null,null,null,null,null,null,null,null,null,null,"D",{"$f":"'SSI Inputs'!$E$26","v":{"$error":"#VALUE!"}},{"$f":"'SSI Inputs'!$E$27","v":{"$error":"#VALUE!"}},{"$f":"'SSI Inputs'!$E$28","v":{"$error":"#VALUE!"}},{"$f":"'SSI Inputs'!$E$30","v":{"$error":"#VALUE!"}},{"$f":"'SSI Inputs'!$E$31","v":{"$error":"#VALUE!"}},{"$f":"'SSI Inputs'!$E$32","v":{"$error":"#VALUE!"}},{"$f":"'SSI Inputs'!$E$34","v":{"$error":"#VALUE!"}},{"$f":"'SSI Inputs'!$E$35","v":{"$error":"#VALUE!"}},{"$f":"'SSI Inputs'!$E$36","v":{"$error":"#VALUE!"}},{"$f":"'SSI Inputs'!$E$38","v":{"$error":"#VALUE!"}},{"$f":"'SSI Inputs'!$E$39","v":{"$error":"#VALUE!"}},{"$f":"'SSI Inputs'!$E$40","v":{"$error":"#VALUE!"}},{"$f":"'SSI Inputs'!$R$18","v":12.5},{"$f":"'SSI Inputs'!$R$19","v":12.5},{"$f":"'SSI Inputs'!$R$20","v":12.5},{"$f":"'SSI Inputs'!$R$21","v":12.5},"D",{"$f":"'SSI Inputs'!$E$26","v":{"$error":"#VALUE!"}},{"$f":"'SSI Inputs'!$E$27","v":{"$error":"#VALUE!"}},{"$f":"'SSI Inputs'!$E$28","v":{"$error":"#VALUE!"}},{"$f":"'SSI Inputs'!$E$30","v":{"$error":"#VALUE!"}},{"$f":"'SSI Inputs'!$E$31","v":{"$error":"#VALUE!"}},{"$f":"'SSI Inputs'!$E$32","v":{"$error":"#VALUE!"}},{"$f":"'SSI Inputs'!$E$34","v":{"$error":"#VALUE!"}},{"$f":"'SSI Inputs'!$E$35","v":{"$error":"#VALUE!"}},{"$f":"'SSI Inputs'!$E$36","v":{"$error":"#VALUE!"}},{"$f":"'SSI Inputs'!$E$38","v":{"$error":"#VALUE!"}},{"$f":"'SSI Inputs'!$E$39","v":{"$error":"#VALUE!"}},{"$f":"'SSI Inputs'!$E$40","v":{"$error":"#VALUE!"}},{"$f":"'SSI Inputs'!$R$18","v":12.5},{"$f":"'SSI Inputs'!$R$19","v":12.5},{"$f":"'SSI Inputs'!$R$20","v":12.5},{"$f":"'SSI Inputs'!$R$21","v":12.5}]
[]
[]
[]
[]
[]
[]
[]
[]
[]
[]
[]
[]
[]
[]
[]
[]
[]
[]
[]
[]
[]
[]
[]
[]
[]
[]
[]
[]
[]
[]
[]
[]
[]
[]
[]
[]
[]
[]
[]
[]
[]
[]
[]
[]
[]
[]
[]
[]
[]
[]
[]
[null,null,null,null,null,null,null,null,null,"Exposure",null,null,null,null,null,null,null,null,null,null,null,null,null,null,null,null,null,null,null,null,null,null,null,null,null,null,"Exposure-Severity-Complexity Product"]
[null,null,null,null,null,null,null,null,null,"Q1","Q2","I"]
[null,null,null,null,null,null,null,null,null,{"$f":"SUMPRODUCT($AN4:$BC4,$AN$49:$BC$49)","v":{"$error":"#VALUE!"}},{"$f":"SUMPRODUCT($BE4:$BT4,$BE$49:$BT$49)","v":{"$error":"#VALUE!"}},{"$f":"PRODUCT(J103:K103)","v":{"$error":"#VALUE!"}},null,null,null,null,null,null,null,null,null,null,null,null,null,null,null,null,null,null,null,null,null,null,null,null,{"$f":"L103*R4*AI4","v":{"$error":"#VALUE!"}}]
[null,null,null,null,null,null,null,null,null,{"$f":"SUMPRODUCT($AN5:$BC5,$AN$49:$BC$49)","v":{"$error":"#VALUE!"}},{"$f":"SUMPRODUCT($BE5:$BT5,$BE$49:$BT$49)","v":{"$error":"#VALUE!"}},{"$f":"PRODUCT(J104:K104)","v":{"$error":"#VALUE!"}},null,null,null,null,null,null,null,null,null,null,null,null,null,null,null,null,null,null,null,null,null,null,null,null,{"$f":"L104*R5*AI5","v":{"$error":"#VALUE!"}}]
[null,null,null,null,null,null,null,null,null,{"$error":"#VALUE!"},{"$error":"#VALUE!"},{"$error":"#VALUE!"},null,null,null,null,null,null,null,null,null,null,null,null,null,null,null,null,null,null,null,null,null,null,null,null,{"$error":"#VALUE!"}]
[null,null,null,null,null,null,null,null,null,{"$error":"#VALUE!"},{"$error":"#VALUE!"},{"$error":"#VALUE!"},null,null,null,null,null,null,null,null,null,null,null,null,null,null,null,null,null,null,null,null,null,null,null,null,{"$error":"#VALUE!"}]
[null,null,null,null,null,null,null,null,null,{"$error":"#VALUE!"},{"$error":"#VALUE!"},{"$error":"#VALUE!"},null,null,null,null,null,null,null,null,null,null,null,null,null,null,null,null,null,null,null,null,null,null,null,null,{"$error":"#VALUE!"}]
[null,null,null,null,null,null,null,null,null,{"$error":"#VALUE!"},{"$error":"#VALUE!"},{"$error":"#VALUE!"},null,null,null,null,null,null,null,null,null,null,null,null,null,null,null,null,null,null,null,null,null,null,null,null,{"$error":"#VALUE!"}]
[null,null,null,null,null,null,null,null,null,{"$error":"#VALUE!"},{"$error":"#VALUE!"},{"$error":"#VALUE!"},null,null,null,null,null,null,null,null,null,null,null,null,null,null,null,null,null,null,null,null,null,null,null,null,{"$error":"#VALUE!"}]
[null,null,null,null,null,null,null,null,null,{"$error":"#VALUE!"},{"$error":"#VALUE!"},{"$error":"#VALUE!"},null,null,null,null,null,null,null,null,null,null,null,null,null,null,null,null,null,null,null,null,null,null,null,null,{"$error":"#VALUE!"}]
[null,null,null,null,null,null,null,null,null,{"$error":"#VALUE!"},{"$error":"#VALUE!"},{"$error":"#VALUE!"},null,null,null,null,null,null,null,null,null,null,null,null,null,null,null,null,null,null,null,null,null,null,null,null,{"$error":"#VALUE!"}]
[null,null,null,null,null,null,null,null,null,{"$error":"#VALUE!"},{"$error":"#VALUE!"},{"$error":"#VALUE!"},null,null,null,null,null,null,null,null,null,null,null,null,null,null,null,null,null,null,null,null,null,null,null,null,{"$error":"#VALUE!"}]
[null,null,null,null,null,null,null,null,null,{"$error":"#VALUE!"},{"$error":"#VALUE!"},{"$error":"#VALUE!"},null,null,null,null,null,null,null,null,null,null,null,null,null,null,null,null,null,null,null,null,null,null,null,null,{"$error":"#VALUE!"}]
[null,null,null,null,null,null,null,null,null,{"$error":"#VALUE!"},{"$error":"#VALUE!"},{"$error":"#VALUE!"},null,null,null,null,null,null,null,null,null,null,null,null,null,null,null,null,null,null,null,null,null,null,null,null,{"$error":"#VALUE!"}]
[null,null,null,null,null,null,null,null,null,{"$error":"#VALUE!"},{"$error":"#VALUE!"},{"$error":"#VALUE!"},null,null,null,null,null,null,null,null,null,null,null,null,null,null,null,null,null,null,null,null,null,null,null,null,{"$error":"#VALUE!"}]
[null,null,null,null,null,null,null,null,null,{"$error":"#VALUE!"},{"$error":"#VALUE!"},{"$error":"#VALUE!"},null,null,null,null,null,null,null,null,null,null,null,null,null,null,null,null,null,null,null,null,null,null,null,null,{"$error":"#VALUE!"}]
[null,null,null,null,null,null,null,null,null,{"$error":"#VALUE!"},{"$error":"#VALUE!"},{"$error":"#VALUE!"},null,null,null,null,null,null,null,null,null,null,null,null,null,null,null,null,null,null,null,null,null,null,null,null,{"$error":"#VALUE!"}]
[null,null,null,null,null,null,null,null,null,{"$error":"#VALUE!"},{"$error":"#VALUE!"},{"$error":"#VALUE!"},null,null,null,null,null,null,null,null,null,null,null,null,null,null,null,null,null,null,null,null,null,null,null,null,{"$error":"#VALUE!"}]
[null,null,null,null,null,null,null,null,null,{"$error":"#VALUE!"},{"$error":"#VALUE!"},{"$error":"#VALUE!"},null,null,null,null,null,null,null,null,null,null,null,null,null,null,null,null,null,null,null,null,null,null,null,null,{"$error":"#VALUE!"}]
[null,null,null,null,null,null,null,null,null,{"$error":"#VALUE!"},{"$error":"#VALUE!"},{"$error":"#VALUE!"},null,null,null,null,null,null,null,null,null,null,null,null,null,null,null,null,null,null,null,null,null,null,null,null,{"$error":"#VALUE!"}]
[null,null,null,null,null,null,null,null,null,{"$error":"#VALUE!"},{"$error":"#VALUE!"},{"$error":"#VALUE!"},null,null,null,null,null,null,null,null,null,null,null,null,null,null,null,null,null,null,null,null,null,null,null,null,{"$error":"#VALUE!"}]
[null,null,null,null,null,null,null,null,null,{"$error":"#VALUE!"},{"$error":"#VALUE!"},{"$error":"#VALUE!"},null,null,null,null,null,null,null,null,null,null,null,null,null,null,null,null,null,null,null,null,null,null,null,null,{"$error":"#VALUE!"}]
[null,null,null,null,null,null,null,null,null,{"$error":"#VALUE!"},{"$error":"#VALUE!"},{"$error":"#VALUE!"},null,null,null,null,null,null,null,null,null,null,null,null,null,null,null,null,null,null,null,null,null,null,null,null,{"$error":"#VALUE!"}]
[null,null,null,null,null,null,null,null,null,{"$error":"#VALUE!"},{"$error":"#VALUE!"},{"$error":"#VALUE!"},null,null,null,null,null,null,null,null,null,null,null,null,null,null,null,null,null,null,null,null,null,null,null,null,{"$error":"#VALUE!"}]
[null,null,null,null,null,null,null,null,null,{"$error":"#VALUE!"},{"$error":"#VALUE!"},{"$error":"#VALUE!"},null,null,null,null,null,null,null,null,null,null,null,null,null,null,null,null,null,null,null,null,null,null,null,null,{"$error":"#VALUE!"}]
[null,null,null,null,null,null,null,null,null,{"$error":"#VALUE!"},{"$error":"#VALUE!"},{"$error":"#VALUE!"},null,null,null,null,null,null,null,null,null,null,null,null,null,null,null,null,null,null,null,null,null,null,null,null,{"$error":"#VALUE!"}]
[null,null,null,null,null,null,null,null,null,{"$error":"#VALUE!"},{"$error":"#VALUE!"},{"$error":"#VALUE!"},null,null,null,null,null,null,null,null,null,null,null,null,null,null,null,null,null,null,null,null,null,null,null,null,{"$error":"#VALUE!"}]
[null,null,null,null,null,null,null,null,null,{"$error":"#VALUE!"},{"$error":"#VALUE!"},{"$error":"#VALUE!"},null,null,null,null,null,null,null,null,null,null,null,null,null,null,null,null,null,null,null,null,null,null,null,null,{"$error":"#VALUE!"}]
[null,null,null,null,null,null,null,null,null,{"$error":"#VALUE!"},{"$error":"#VALUE!"},{"$error":"#VALUE!"},null,null,null,null,null,null,null,null,null,null,null,null,null,null,null,null,null,null,null,null,null,null,null,null,{"$error":"#VALUE!"}]
[null,null,null,null,null,null,null,null,null,{"$error":"#VALUE!"},{"$error":"#VALUE!"},{"$error":"#VALUE!"},null,null,null,null,null,null,null,null,null,null,null,null,null,null,null,null,null,null,null,null,null,null,null,null,{"$error":"#VALUE!"}]
[null,null,null,null,null,null,null,null,null,{"$error":"#VALUE!"},{"$error":"#VALUE!"},{"$error":"#VALUE!"},null,null,null,null,null,null,null,null,null,null,null,null,null,null,null,null,null,null,null,null,null,null,null,null,{"$error":"#VALUE!"}]
[null,null,null,null,null,null,null,null,null,{"$error":"#VALUE!"},{"$error":"#VALUE!"},{"$error":"#VALUE!"},null,null,null,null,null,null,null,null,null,null,null,null,null,null,null,null,null,null,null,null,null,null,null,null,{"$error":"#VALUE!"}]
[null,null,null,null,null,null,null,null,null,{"$error":"#VALUE!"},{"$error":"#VALUE!"},{"$error":"#VALUE!"},null,null,null,null,null,null,null,null,null,null,null,null,null,null,null,null,null,null,null,null,null,null,null,null,{"$error":"#VALUE!"}]
[null,null,null,null,null,null,null,null,null,{"$error":"#VALUE!"},{"$error":"#VALUE!"},{"$error":"#VALUE!"},null,null,null,null,null,null,null,null,null,null,null,null,null,null,null,null,null,null,null,null,null,null,null,null,{"$error":"#VALUE!"}]
[null,null,null,null,null,null,null,null,null,{"$error":"#VALUE!"},{"$error":"#VALUE!"},{"$error":"#VALUE!"},null,null,null,null,null,null,null,null,null,null,null,null,null,null,null,null,null,null,null,null,null,null,null,null,{"$error":"#VALUE!"}]
[null,null,null,null,null,null,null,null,null,{"$error":"#VALUE!"},{"$error":"#VALUE!"},{"$f":"PRODUCT(J136:K136)","v":{"$error":"#VALUE!"}},null,null,null,null,null,null,null,null,null,null,null,null,null,null,null,null,null,null,null,null,null,null,null,null,{"$error":"#VALUE!"}]
[null,null,null,null,null,null,null,null,null,{"$error":"#VALUE!"},{"$error":"#VALUE!"},{"$f":"PRODUCT(J137:K137)","v":{"$error":"#VALUE!"}},null,null,null,null,null,null,null,null,null,null,null,null,null,null,null,null,null,null,null,null,null,null,null,null,{"$error":"#VALUE!"}]
[null,null,null,null,null,null,null,null,null,{"$error":"#VALUE!"},{"$error":"#VALUE!"},{"$error":"#VALUE!"},null,null,null,null,null,null,null,null,null,null,null,null,null,null,null,null,null,null,null,null,null,null,null,null,{"$error":"#VALUE!"}]
[null,null,null,null,null,null,null,null,null,{"$error":"#VALUE!"},{"$error":"#VALUE!"},{"$error":"#VALUE!"},null,null,null,null,null,null,null,null,null,null,null,null,null,null,null,null,null,null,null,null,null,null,null,null,{"$error":"#VALUE!"}]
[null,null,null,null,null,null,null,null,null,{"$error":"#VALUE!"},{"$error":"#VALUE!"},{"$error":"#VALUE!"},null,null,null,null,null,null,null,null,null,null,null,null,null,null,null,null,null,null,null,null,null,null,null,null,{"$error":"#VALUE!"}]
[null,null,null,null,null,null,null,null,null,{"$error":"#VALUE!"},{"$error":"#VALUE!"},{"$error":"#VALUE!"},null,null,null,null,null,null,null,null,null,null,null,null,null,null,null,null,null,null,null,null,null,null,null,null,{"$error":"#VALUE!"}]
[null,null,null,null,null,null,null,null,null,{"$error":"#VALUE!"},{"$error":"#VALUE!"},{"$error":"#VALUE!"},null,null,null,null,null,null,null,null,null,null,null,null,null,null,null,null,null,null,null,null,null,null,null,null,{"$error":"#VALUE!"}]
[null,null,null,null,null,null,null,null,null,{"$error":"#VALUE!"},{"$error":"#VALUE!"},{"$error":"#VALUE!"},null,null,null,null,null,null,null,null,null,null,null,null,null,null,null,null,null,null,null,null,null,null,null,null,{"$error":"#VALUE!"}]
[null,null,null,null,null,null,null,null,null,{"$error":"#VALUE!"},{"$error":"#VALUE!"},{"$error":"#VALUE!"},null,null,null,null,null,null,null,null,null,null,null,null,null,null,null,null,null,null,null,null,null,null,null,null,{"$error":"#VALUE!"}]
[null,null,null,null,null,null,null,null,null,{"$error":"#VALUE!"},{"$error":"#VALUE!"},{"$error":"#VALUE!"},null,null,null,null,null,null,null,null,null,null,null,null,null,null,null,null,null,null,null,null,null,null,null,null,{"$error":"#VALUE!"}]
[null,null,null,null,null,null,null,null,null,{"$error":"#VALUE!"},{"$error":"#VALUE!"},{"$error":"#VALUE!"},null,null,null,null,null,null,null,null,null,null,null,null,null,null,null,null,null,null,null,null,null,null,null,null,{"$error":"#VALUE!"}]

{"sheet":"RCUT_Sig","index":36,"n_rows":126,"n_cols":72,"rows_kept":126,"cut":false,"hidden":true,"merged":[[1,56,1,71],[0,19,0,28],[0,30,0,32],[1,31,2,31],[1,32,2,32],[1,21,1,25],[1,27,1,28],[1,30,2,30],[100,9,100,11],[100,36,101,36],[1,34,2,34],[1,36,2,36],[1,39,1,54],[1,9,1,11],[1,13,1,17]]}
[null,null,null,null,null,null,null,null,null,null,null,null,null,null,null,null,null,null,null,"Conflicting Traffic Complexity",null,null,null,null,null,null,null,null,null,null,"Pedestrian Complexity"]
[null,null,null,null,null,null,null,null,null,"Exposure",null,null,null,"Severity",null,null,null,null,null,"Traffic Control",null,"Conflicting Lanes",null,null,null,null,null,"Conflicting Speed",null,null,"Indirect Paths Indicator","Non-intuitive movements indicator","Pedestrian Complexity factor",null,"Total Complexity Multiplier",null,"Exposure-Severity-Complexity Product",null,null,"Included in Mvmt1",null,null,null,null,null,null,null,null,null,null,null,null,null,null,null,null,"Included in Mvmt2"]
["#","Conflict Type","Mvmt1","Mvmt1_gen","Mvmt1_SpeedCat","Mvmt2","Mvmt2_gen","Mvmt2_SpeedCat",null,"Q1","Q2","I",null,"Speed_V1","Speed_V2","Angle","delta_V","P_FSI",null,null,null,"MajC","MinC","MajM/P","MinM/P","Score",null,"Speed","Factor",null,null,null,null,null,null,null,null,null,null,"MajT1","MajL1","MajR1","MajT2","MajL2","MajR2","MinT1","MinL1","MinR1","MinT2","MinL2","MinR2","MajNM1","MajNM2","MinNM1","MinNM2",null,"MajT1","MajL1","MajR1","MajT2","MajL2","MajR2","MinT1","MinL1","MinR1","MinT2","MinL2","MinR2","MajNM1","MajNM2","MinNM1","MinNM2"]
[1,"Crossing - LT","EBT, SBL","MajT1, MinL2","Major thru","WBL","MajL2","Major left",null,{"$f":"SUMPRODUCT($AN4:$BC4,$AN$28:$BC$28)","v":{"$error":"#VALUE!"}},{"$f":"SUMPRODUCT($BE4:$BT4,$BE$28:$BT$28)","v":{"$error":"#VALUE!"}},{"$f":"PRODUCT(J4:K4)","v":{"$error":"#VALUE!"}},null,{"$f":"VLOOKUP(E4,SSI_AGI_Range_VehSpeed,5,FALSE)","v":0},{"$f":"VLOOKUP(H4,SSI_AGI_Range_VehSpeed,5,FALSE)","v":20},{"$f":"IF(B4=\"Nonmotorized\",\"\",VLOOKUP(B4,SSI_AGI_Range_CollAngles,5,FALSE))","v":230},{"$f":"IF(B4=\"Nonmotorized\",\"\",SQRT(N4^2+O4^2-2*N4*O4*COS(RADIANS(P4)))/2)","v":10},{"$f":"IF(B4=\"Nonmotorized\",1/(1+EXP(3.8432-0.1237*O4)),(Q4/SSI_AGI_RegAlpha)^SSI_AGI_RegK+(Q4/SSI_AGI_RegAlpha)^SSI_AGI_RegK-((Q4/SSI_AGI_RegAlpha)^SSI_AGI_RegK)*((Q4/SSI_AGI_RegAlpha)^SSI_AGI_RegK))","v":1.4431392232699444E-3},null,{"$f":"SSI_AGI_ProtFactor","v":0.505},null,1,null,null,null,{"$f":"MAX(1,IF(B4<>\"Pedestrian\",V4*SSI_AGI_MajorThruLanes+W4*SSI_AGI_MinorThruLanes+X4*IF(SSI_AGI_MajorThruLanes=1,SSI_AGI_MergeWeightL1,IF(SSI_AGI_MajorThruLanes=2,SSI_AGI_MergeWeightL1+SSI_AGI_MergeWeightL2,SSI_AGI_MergeWeightL1+SSI_AGI_MergeWeightL2+SSI_AGI_MergeWeightL3*(SSI_AGI_MajorThruLanes-2)))+Y4*IF(SSI_AGI_MinorThruLanes=1,SSI_AGI_MergeWeightL1,IF(SSI_AGI_MinorThruLanes=2,SSI_AGI_MergeWeightL1+SSI_AGI_MergeWeightL2,SSI_AGI_MergeWeightL1+SSI_AGI_MergeWeightL2+SSI_AGI_MergeWeightL3*(SSI_AGI_MinorThruLanes-2))),V4*SSI_AGI_MajorThruLanes+W4*SSI_AGI_MinorThruLanes+X4*IF(SSI_AGI_MajorThruLanes=1,SSI_AGI_NM_MergeWeightL1,IF(SSI_AGI_MajorThruLanes=2,SSI_AGI_NM_MergeWeightL1+SSI_AGI_NM_MergeWeightL2,SSI_AGI_NM_MergeWeightL1+SSI_AGI_NM_MergeWeightL2+SSI_AGI_NM_MergeWeightL3*(SSI_AGI_MajorThruLanes-2)))+Y4*IF(SSI_AGI_MinorThruLanes=1,SSI_AGI_NM_MergeWeightL1,IF(SSI_AGI_MinorThruLanes=2,SSI_AGI_NM_MergeWeightL1+SSI_AGI_NM_MergeWeightL2,SSI_AGI_NM_MergeWeightL1+SSI_AGI_NM_MergeWeightL2+SSI_AGI_NM_MergeWeightL3*(SSI_AGI_MinorThruLanes-2)))))","v":1},null,{"$f":"IF(B4=\"Diverging\",\"\",SSI_AGI_VehSpeed_MjrThru)","v":0},{"$f":"IF(B4=\"Diverging\",1,1-((60-AB4)/60*0.1/0.15))","v":0.33333333333333326},null,null,null,{"$f":"1+AE4+AF4","v":1},null,{"$f":"PRODUCT(Z4,T4,AC4,AG4)","v":0.16833333333333331},null,{"$f":"L4*R4*AI4","v":{"$error":"#VALUE!"}},null,null,{"$f":"IF(ISNUMBER(SEARCH(AN$3,$D4)),1,\"\")","v":1},{"$f":"IF(ISNUMBER(SEARCH(AO$3,$D4)),1,\"\")","v":""},"","","","","","","","",1,"","","","","",null,{"$f":"IF(ISNUMBER(SEARCH(BE$3,$G4)),1,\"\")","v":""},{"$f":"IF(ISNUMBER(SEARCH(BF$3,$G4)),1,\"\")","v":""},"","",1,"","","","","","","","","","",""]
[2,"Crossing - LT","WBT, NBL","MajT2, MinL1","Major thru","EBL","MajL1","Major left",null,{"$error":"#VALUE!"},{"$f":"SUMPRODUCT($BE5:$BT5,$BE$28:$BT$28)","v":{"$error":"#VALUE!"}},{"$f":"PRODUCT(J5:K5)","v":{"$error":"#VALUE!"}},null,0,20,230,{"$f":"IF(B5=\"Nonmotorized\",\"\",SQRT(N5^2+O5^2-2*N5*O5*COS(RADIANS(P5)))/2)","v":10},1.4431392232699444E-3,null,0.505,null,1,null,null,null,1,null,0,0.33333333333333326,null,null,null,{"$f":"1+AE5+AF5","v":1},null,0.16833333333333331,null,{"$f":"L5*R5*AI5","v":{"$error":"#VALUE!"}},null,null,"","","",1,"","","",1,"","","","","","","","",null,"",1,"","","","","","","","","","","","","",""]
[3,"Merging","EBT, SBL","MajT1, MinL2","Major thru","NBT, NBL, NBR","MinT1, MinL1, MinR1","Signal near",null,{"$error":"#VALUE!"},{"$error":"#VALUE!"},{"$error":"#VALUE!"},null,0,15,45,7.5,4.8454301532720461E-4,null,0.505,null,null,null,1,null,1,null,0,0.33333333333333326,null,null,null,1,null,0.16833333333333331,null,{"$error":"#VALUE!"},null,null,1,"","","","","","","","","",1,"","","","","",null,"","","","","","",1,1,1,"","","","","","",""]
[4,"Merging","WBL","MajL2","Major left","EBR, SBT","MajR1, MinT2","Major right",null,{"$error":"#VALUE!"},{"$error":"#VALUE!"},{"$error":"#VALUE!"},null,20,15,45,7.0840654162717795,3.9022923271840544E-4,null,0.505,null,1,null,null,null,1,null,0,0.33333333333333326,null,null,null,1,null,0.16833333333333331,null,{"$error":"#VALUE!"},null,null,"","","","",1,"","","","","","","","","","","",null,"","",1,"","","","","","",1,"","","","","",""]
[5,"Merging","WBT, NBL","MajT2, MinL1","Major thru","SBT, SBL, SBR","MinT2, MinL2, MinR2","Signal near",null,{"$error":"#VALUE!"},{"$error":"#VALUE!"},{"$error":"#VALUE!"},null,0,15,45,7.5,4.8454301532720461E-4,null,0.505,null,null,null,1,null,1,null,0,0.33333333333333326,null,null,null,1,null,0.16833333333333331,null,{"$error":"#VALUE!"},null,null,"","","",1,"","","",1,"","","","","","","","",null,"","","","","","","","","",1,1,1,"","","",""]
[6,"Merging","EBL","MajL1","Major left","WBR, NBT","MajR2, MinT1","Major right",null,{"$error":"#VALUE!"},{"$error":"#VALUE!"},{"$error":"#VALUE!"},null,20,15,45,7.0840654162717795,3.9022923271840544E-4,null,0.505,null,1,null,null,null,1,null,0,0.33333333333333326,null,null,null,1,null,0.16833333333333331,null,{"$error":"#VALUE!"},null,null,"",1,"","","","","","","","","","","","","","",null,"","","","","",1,1,"","","","","","","","",""]
[7,"Merging","EBT, EBL, EBR","MajT1, MajL1, MajR1","Major thru","SBT, SBL","MinT2, MinL2","Signal near",null,{"$error":"#VALUE!"},{"$error":"#VALUE!"},{"$error":"#VALUE!"},null,0,15,45,7.5,4.8454301532720461E-4,null,0.505,null,null,null,1,null,1,null,0,0.33333333333333326,null,null,null,1,null,0.16833333333333331,null,{"$error":"#VALUE!"},null,null,1,1,1,"","","","","","","","","","","","","",null,"","","","","","","","","",1,1,"","","","",""]
[8,"Merging","WBT, WBL, WBR","MajT2, MajL2, MajR2","Major thru","NBT, NBL","MinT1, MinL1","Signal near",null,{"$error":"#VALUE!"},{"$error":"#VALUE!"},{"$error":"#VALUE!"},null,0,15,45,7.5,4.8454301532720461E-4,null,0.505,null,null,null,1,null,1,null,0,0.33333333333333326,null,null,null,1,null,0.16833333333333331,null,{"$error":"#VALUE!"},null,null,"","","",1,1,1,"","","","","","","","","","",null,"","","","","","",1,1,"","","","","","","",""]
[9,"Diverging","EBT, EBR, SBL, SBT","MajT1, MajR1, MinL2, MinT2","Major thru","EBL","MajL1","Major left",null,{"$error":"#VALUE!"},{"$error":"#VALUE!"},{"$error":"#VALUE!"},null,0,20,10,10,1.4431392232699444E-3,null,1,null,null,null,null,null,1,null,"",1,null,null,null,1,null,1,null,{"$error":"#VALUE!"},null,null,1,"",1,"","","","","","",1,1,"","","","","",null,"",1,"","","","","","","","","","","","","",""]
[10,"Diverging","EBT, SBL","MajT1, MinL2","Major thru","EBR, SBT","MajR1, MinT2","Major right",null,{"$error":"#VALUE!"},{"$error":"#VALUE!"},{"$error":"#VALUE!"},null,0,15,10,7.5,4.8454301532720461E-4,null,1,null,null,null,null,null,1,null,"",1,null,null,null,1,null,1,null,{"$error":"#VALUE!"},null,null,1,"","","","","","","","","",1,"","","","","",null,"","",1,"","","","","","",1,"","","","","",""]
[11,"Diverging","EBT, SBL, NBR","MajT1, MinL2, MinR1","Major thru","NBL, NBT","MinL1, MinT1","Major left",null,{"$error":"#VALUE!"},{"$error":"#VALUE!"},{"$error":"#VALUE!"},null,0,20,10,10,1.4431392232699444E-3,null,1,null,null,null,null,null,1,null,"",1,null,null,null,1,null,1,null,{"$error":"#VALUE!"},null,null,1,"","","","","","","",1,"",1,"","","","","",null,"","","","","","",1,1,"","","","","","","",""]
[12,"Diverging","WBT, WBR, NBL, NBT","MajT2, MajR2, MinL1, MinT1","Major thru","WBL","MajL2","Major left",null,{"$error":"#VALUE!"},{"$error":"#VALUE!"},{"$error":"#VALUE!"},null,0,20,10,10,1.4431392232699444E-3,null,1,null,null,null,null,null,1,null,"",1,null,null,null,1,null,1,null,{"$error":"#VALUE!"},null,null,"","","",1,"",1,1,1,"","","","","","","","",null,"","","","",1,"","","","","","","","","","",""]
[13,"Diverging","WBT, NBL","MajT2, MinL1","Major thru","WBR, NBT","MajR2, MinT1","Major right",null,{"$error":"#VALUE!"},{"$error":"#VALUE!"},{"$error":"#VALUE!"},null,0,15,10,7.5,4.8454301532720461E-4,null,1,null,null,null,null,null,1,null,"",1,null,null,null,1,null,1,null,{"$error":"#VALUE!"},null,null,"","","",1,"","","",1,"","","","","","","","",null,"","","","","",1,1,"","","","","","","","",""]
[14,"Diverging","WBT, NBL, SBR","MajT2, MinL1, MinR2","Major thru","SBL, SBT","MinL2, MinT2","Major left",null,{"$error":"#VALUE!"},{"$error":"#VALUE!"},{"$error":"#VALUE!"},null,0,20,10,10,1.4431392232699444E-3,null,1,null,null,null,null,null,1,null,"",1,null,null,null,1,null,1,null,{"$error":"#VALUE!"},null,null,"","","",1,"","","",1,"","","",1,"","","","",null,"","","","","","","","","",1,1,"","","","",""]
[15,"Nonmotorized","NB Ped","MinNM1","Nonmotorized","EBR, SBT","MajR1, MinT2","Major right",null,{"$error":"#VALUE!"},{"$error":"#VALUE!"},{"$error":"#VALUE!"},null,0,15,"","",0.1205004039155782,null,{"$f":"SSI_AGI_ProtFactor","v":0.505},null,null,1,2,null,1.5,null,0,0.33333333333333326,null,null,null,1,null,0.25249999999999995,null,{"$error":"#VALUE!"},null,null,"","","","","","","","","","","","","","",1,"",null,"","",1,"","","","","","",1,"","","","","",""]
[16,"Nonmotorized","NB Ped","MinNM1","Nonmotorized","WBL","MajL2","Major left",null,{"$error":"#VALUE!"},{"$error":"#VALUE!"},{"$error":"#VALUE!"},null,0,20,"","",0.20274912921655375,null,0.505,null,null,1,2,null,1.5,null,0,0.33333333333333326,null,null,null,1,null,0.25249999999999995,null,{"$error":"#VALUE!"},null,null,"","","","","","","","","","","","","","",1,"",null,"","","","",1,"","","","","","","","","","",""]
[17,"Nonmotorized","NB Ped","MinNM1","Nonmotorized","NBT, NBL, NBR","MinT1, MinL1, MinR1","Signal near",null,{"$error":"#VALUE!"},{"$error":"#VALUE!"},{"$error":"#VALUE!"},null,0,15,"","",0.1205004039155782,null,0.505,null,null,1,null,null,1,null,{"$f":"IF(B20=\"Diverging\",\"\",SSI_AGI_VehSpeed_MnrThru)","v":0},0.33333333333333326,null,null,null,1,null,0.16833333333333331,null,{"$error":"#VALUE!"},null,null,"",{"$f":"IF(ISNUMBER(SEARCH(AO$3,$D20)),1,\"\")","v":""},"","","","","","","","","","","","",1,"",null,"",{"$f":"IF(ISNUMBER(SEARCH(BF$3,$G20)),1,\"\")","v":""},"","","","",1,1,1,"","","","","","",""]
[18,"Nonmotorized","EB/WB Ped","MajNM1, MajNM2","Nonmotorized","EBR, SBT","MajR1, MinT2","Major right",null,{"$error":"#VALUE!"},{"$error":"#VALUE!"},{"$error":"#VALUE!"},null,0,15,"","",0.1205004039155782,null,0.505,null,1,null,null,null,1,null,{"$f":"IF(B21=\"Diverging\",\"\",SSI_AGI_VehSpeed_MjrThru)","v":0},0.33333333333333326,null,1,null,2,null,0.33666666666666661,null,{"$error":"#VALUE!"},null,null,"","","","","","","","","","","","",1,1,"","",null,"","",1,"","","","","","",1,"","","","","",""]
[19,"Nonmotorized","EB/WB Ped","MajNM1, MajNM2","Nonmotorized","EBT, SBL","MajT1, MinL2","Major thru",null,{"$error":"#VALUE!"},{"$error":"#VALUE!"},{"$error":"#VALUE!"},null,0,0,"","",2.0975532400616122E-2,null,0.505,null,1,null,null,null,1,null,0,0.33333333333333326,null,1,null,2,null,0.33666666666666661,null,{"$error":"#VALUE!"},null,null,"","","","","","","","","","","","",1,1,"","",null,1,"","","","","","","","","",1,"","","","",""]
[20,"Nonmotorized","EB/WB Ped","MajNM1, MajNM2","Nonmotorized","WBT, NBL","MajT2, MinL1","Major thru",null,{"$error":"#VALUE!"},{"$error":"#VALUE!"},{"$error":"#VALUE!"},null,0,0,"","",2.0975532400616122E-2,null,0.505,null,1,null,null,null,1,null,0,0.33333333333333326,null,1,null,2,null,0.33666666666666661,null,{"$error":"#VALUE!"},null,null,"","","","","","","","","","","","",1,1,"","",null,"","","",1,"","","",1,"","","","","","","",""]
[21,"Nonmotorized","EB/WB Ped","MajNM1, MajNM2","Nonmotorized","WBR, NBT","MajR2, MinT1","Major right",null,{"$error":"#VALUE!"},{"$error":"#VALUE!"},{"$error":"#VALUE!"},null,0,15,"","",0.1205004039155782,null,0.505,null,1,null,null,null,1,null,0,0.33333333333333326,null,1,null,2,null,0.33666666666666661,null,{"$error":"#VALUE!"},null,null,"","","","","","","","","","","","",1,1,"","",null,"","","","","",1,1,"","","","","","","","",""]
[22,"Nonmotorized","SB Ped","MinNM2","Nonmotorized","WBR, NBT","MajR2, MinT1","Major right",null,{"$error":"#VALUE!"},{"$error":"#VALUE!"},{"$error":"#VALUE!"},null,0,15,"","",0.1205004039155782,null,0.505,null,null,1,2,null,1.5,null,0,0.33333333333333326,null,null,null,1,null,0.25249999999999995,null,{"$error":"#VALUE!"},null,null,"","","","","","","","","","","","","","","",1,null,"","","","","",1,1,"","","","","","","","",""]
[23,"Nonmotorized","SB Ped","MinNM2","Nonmotorized","EBL","MajL1","Major left",null,{"$error":"#VALUE!"},{"$error":"#VALUE!"},{"$error":"#VALUE!"},null,0,20,"","",0.20274912921655375,null,0.505,null,null,1,2,null,1.5,null,0,0.33333333333333326,null,null,null,1,null,0.25249999999999995,null,{"$error":"#VALUE!"},null,null,"","","","","","","","","","","","","","","",1,null,"",1,"","","","","","","","","","","","","",""]
[24,"Nonmotorized","SB Ped","MinNM2","Nonmotorized","SBT, SBL, SBR","MinT2, MinL2, MinR2","Signal near",null,{"$error":"#VALUE!"},{"$error":"#VALUE!"},{"$error":"#VALUE!"},null,0,15,"","",0.1205004039155782,null,0.505,null,null,1,null,null,1,null,{"$f":"IF(B27=\"Diverging\",\"\",SSI_AGI_VehSpeed_MnrThru)","v":0},0.33333333333333326,null,null,null,1,null,0.16833333333333331,null,{"$error":"#VALUE!"},null,null,"","","","","","","","","","","","","","","",1,null,"","","","","","","","","",1,1,1,"","","",""]
[null,null,null,null,null,null,null,null,null,null,null,null,null,null,null,null,null,null,null,null,null,null,null,null,null,null,null,null,null,null,null,null,null,null,null,null,null,null,"O",{"$f":"'SSI Inputs'!$D$26","v":{"$error":"#VALUE!"}},{"$f":"'SSI Inputs'!$D$27","v":{"$error":"#VALUE!"}},{"$f":"'SSI Inputs'!$D$28","v":{"$error":"#VALUE!"}},{"$f":"'SSI Inputs'!$D$30","v":{"$error":"#VALUE!"}},{"$f":"'SSI Inputs'!$D$31","v":{"$error":"#VALUE!"}},{"$f":"'SSI Inputs'!$D$32","v":{"$error":"#VALUE!"}},{"$f":"'SSI Inputs'!$D$34","v":{"$error":"#VALUE!"}},{"$f":"'SSI Inputs'!$D$35","v":{"$error":"#VALUE!"}},{"$f":"'SSI Inputs'!$D$36","v":{"$error":"#VALUE!"}},{"$f":"'SSI Inputs'!$D$38","v":{"$error":"#VALUE!"}},{"$f":"'SSI Inputs'!$D$39","v":{"$error":"#VALUE!"}},{"$f":"'SSI Inputs'!$D$40","v":{"$error":"#VALUE!"}},{"$f":"'SSI Inputs'!$Q$18","v":12.5},{"$f":"'SSI Inputs'!$Q$19","v":12.5},{"$f":"'SSI Inputs'!$Q$20","v":12.5},{"$f":"'SSI Inputs'!$Q$21","v":12.5},"O",{"$f":"'SSI Inputs'!$D$26","v":{"$error":"#VALUE!"}},{"$f":"'SSI Inputs'!$D$27","v":{"$error":"#VALUE!"}},{"$f":"'SSI Inputs'!$D$28","v":{"$error":"#VALUE!"}},{"$f":"'SSI Inputs'!$D$30","v":{"$error":"#VALUE!"}},{"$f":"'SSI Inputs'!$D$31","v":{"$error":"#VALUE!"}},{"$f":"'SSI Inputs'!$D$32","v":{"$error":"#VALUE!"}},{"$f":"'SSI Inputs'!$D$34","v":{"$error":"#VALUE!"}},{"$f":"'SSI Inputs'!$D$35","v":{"$error":"#VALUE!"}},{"$f":"'SSI Inputs'!$D$36","v":{"$error":"#VALUE!"}},{"$f":"'SSI Inputs'!$D$38","v":{"$error":"#VALUE!"}},{"$f":"'SSI Inputs'!$D$39","v":{"$error":"#VALUE!"}},{"$f":"'SSI Inputs'!$D$40","v":{"$error":"#VALUE!"}},{"$f":"'SSI Inputs'!$Q$18","v":12.5},{"$f":"'SSI Inputs'!$Q$19","v":12.5},{"$f":"'SSI Inputs'!$Q$20","v":12.5},{"$f":"'SSI Inputs'!$Q$21","v":12.5}]
[null,null,null,null,null,null,null,null,null,null,null,null,null,null,null,null,null,null,null,null,null,null,null,null,null,null,null,null,null,null,null,null,null,null,null,null,null,null,"D",{"$f":"'SSI Inputs'!$E$26","v":{"$error":"#VALUE!"}},{"$f":"'SSI Inputs'!$E$27","v":{"$error":"#VALUE!"}},{"$f":"'SSI Inputs'!$E$28","v":{"$error":"#VALUE!"}},{"$f":"'SSI Inputs'!$E$30","v":{"$error":"#VALUE!"}},{"$f":"'SSI Inputs'!$E$31","v":{"$error":"#VALUE!"}},{"$f":"'SSI Inputs'!$E$32","v":{"$error":"#VALUE!"}},{"$f":"'SSI Inputs'!$E$34","v":{"$error":"#VALUE!"}},{"$f":"'SSI Inputs'!$E$35","v":{"$error":"#VALUE!"}},{"$f":"'SSI Inputs'!$E$36","v":{"$error":"#VALUE!"}},{"$f":"'SSI Inputs'!$E$38","v":{"$error":"#VALUE!"}},{"$f":"'SSI Inputs'!$E$39","v":{"$error":"#VALUE!"}},{"$f":"'SSI Inputs'!$E$40","v":{"$error":"#VALUE!"}},{"$f":"'SSI Inputs'!$R$18","v":12.5},{"$f":"'SSI Inputs'!$R$19","v":12.5},{"$f":"'SSI Inputs'!$R$20","v":12.5},{"$f":"'SSI Inputs'!$R$21","v":12.5},"D",{"$f":"'SSI Inputs'!$E$26","v":{"$error":"#VALUE!"}},{"$f":"'SSI Inputs'!$E$27","v":{"$error":"#VALUE!"}},{"$f":"'SSI Inputs'!$E$28","v":{"$error":"#VALUE!"}},{"$f":"'SSI Inputs'!$E$30","v":{"$error":"#VALUE!"}},{"$f":"'SSI Inputs'!$E$31","v":{"$error":"#VALUE!"}},{"$f":"'SSI Inputs'!$E$32","v":{"$error":"#VALUE!"}},{"$f":"'SSI Inputs'!$E$34","v":{"$error":"#VALUE!"}},{"$f":"'SSI Inputs'!$E$35","v":{"$error":"#VALUE!"}},{"$f":"'SSI Inputs'!$E$36","v":{"$error":"#VALUE!"}},{"$f":"'SSI Inputs'!$E$38","v":{"$error":"#VALUE!"}},{"$f":"'SSI Inputs'!$E$39","v":{"$error":"#VALUE!"}},{"$f":"'SSI Inputs'!$E$40","v":{"$error":"#VALUE!"}},{"$f":"'SSI Inputs'!$R$18","v":12.5},{"$f":"'SSI Inputs'!$R$19","v":12.5},{"$f":"'SSI Inputs'!$R$20","v":12.5},{"$f":"'SSI Inputs'!$R$21","v":12.5}]
[]
[]
[]
[]
[]
[]
[]
[]
[]
[]
[]
[]
[]
[]
[]
[]
[]
[]
[]
[]
[]
[]
[]
[]
[]
[]
[]
[]
[]
[]
[]
[]
[]
[]
[]
[]
[]
[]
[]
[]
[]
[]
[]
[]
[]
[]
[]
[]
[]
[]
[]
[]
[]
[]
[]
[]
[]
[]
[]
[]
[]
[]
[]
[]
[]
[]
[]
[]
[]
[]
[]
[null,null,null,null,null,null,null,null,null,"Exposure",null,null,null,null,null,null,null,null,null,null,null,null,null,null,null,null,null,null,null,null,null,null,null,null,null,null,"Exposure-Severity-Complexity Product"]
[null,null,null,null,null,null,null,null,null,"Q1","Q2","I"]
[null,null,null,null,null,null,null,null,null,{"$f":"SUMPRODUCT($AN4:$BC4,$AN$29:$BC$29)","v":{"$error":"#VALUE!"}},{"$f":"SUMPRODUCT($BE4:$BT4,$BE$29:$BT$29)","v":{"$error":"#VALUE!"}},{"$f":"PRODUCT(J103:K103)","v":{"$error":"#VALUE!"}},null,null,null,null,null,null,null,null,null,null,null,null,null,null,null,null,null,null,null,null,null,null,null,null,{"$f":"L103*R4*AI4","v":{"$error":"#VALUE!"}}]
[null,null,null,null,null,null,null,null,null,{"$f":"SUMPRODUCT($AN5:$BC5,$AN$29:$BC$29)","v":{"$error":"#VALUE!"}},{"$f":"SUMPRODUCT($BE5:$BT5,$BE$29:$BT$29)","v":{"$error":"#VALUE!"}},{"$f":"PRODUCT(J104:K104)","v":{"$error":"#VALUE!"}},null,null,null,null,null,null,null,null,null,null,null,null,null,null,null,null,null,null,null,null,null,null,null,null,{"$f":"L104*R5*AI5","v":{"$error":"#VALUE!"}}]
[null,null,null,null,null,null,null,null,null,{"$error":"#VALUE!"},{"$error":"#VALUE!"},{"$error":"#VALUE!"},null,null,null,null,null,null,null,null,null,null,null,null,null,null,null,null,null,null,null,null,null,null,null,null,{"$error":"#VALUE!"}]
[null,null,null,null,null,null,null,null,null,{"$error":"#VALUE!"},{"$error":"#VALUE!"},{"$error":"#VALUE!"},null,null,null,null,null,null,null,null,null,null,null,null,null,null,null,null,null,null,null,null,null,null,null,null,{"$error":"#VALUE!"}]
[null,null,null,null,null,null,null,null,null,{"$error":"#VALUE!"},{"$error":"#VALUE!"},{"$error":"#VALUE!"},null,null,null,null,null,null,null,null,null,null,null,null,null,null,null,null,null,null,null,null,null,null,null,null,{"$error":"#VALUE!"}]
[null,null,null,null,null,null,null,null,null,{"$error":"#VALUE!"},{"$error":"#VALUE!"},{"$error":"#VALUE!"},null,null,null,null,null,null,null,null,null,null,null,null,null,null,null,null,null,null,null,null,null,null,null,null,{"$error":"#VALUE!"}]
[null,null,null,null,null,null,null,null,null,{"$error":"#VALUE!"},{"$error":"#VALUE!"},{"$error":"#VALUE!"},null,null,null,null,null,null,null,null,null,null,null,null,null,null,null,null,null,null,null,null,null,null,null,null,{"$error":"#VALUE!"}]
[null,null,null,null,null,null,null,null,null,{"$error":"#VALUE!"},{"$error":"#VALUE!"},{"$error":"#VALUE!"},null,null,null,null,null,null,null,null,null,null,null,null,null,null,null,null,null,null,null,null,null,null,null,null,{"$error":"#VALUE!"}]
[null,null,null,null,null,null,null,null,null,{"$error":"#VALUE!"},{"$error":"#VALUE!"},{"$error":"#VALUE!"},null,null,null,null,null,null,null,null,null,null,null,null,null,null,null,null,null,null,null,null,null,null,null,null,{"$error":"#VALUE!"}]
[null,null,null,null,null,null,null,null,null,{"$error":"#VALUE!"},{"$error":"#VALUE!"},{"$error":"#VALUE!"},null,null,null,null,null,null,null,null,null,null,null,null,null,null,null,null,null,null,null,null,null,null,null,null,{"$error":"#VALUE!"}]
[null,null,null,null,null,null,null,null,null,{"$error":"#VALUE!"},{"$error":"#VALUE!"},{"$error":"#VALUE!"},null,null,null,null,null,null,null,null,null,null,null,null,null,null,null,null,null,null,null,null,null,null,null,null,{"$error":"#VALUE!"}]
[null,null,null,null,null,null,null,null,null,{"$error":"#VALUE!"},{"$error":"#VALUE!"},{"$error":"#VALUE!"},null,null,null,null,null,null,null,null,null,null,null,null,null,null,null,null,null,null,null,null,null,null,null,null,{"$error":"#VALUE!"}]
[null,null,null,null,null,null,null,null,null,{"$error":"#VALUE!"},{"$error":"#VALUE!"},{"$error":"#VALUE!"},null,null,null,null,null,null,null,null,null,null,null,null,null,null,null,null,null,null,null,null,null,null,null,null,{"$error":"#VALUE!"}]
[null,null,null,null,null,null,null,null,null,{"$error":"#VALUE!"},{"$error":"#VALUE!"},{"$error":"#VALUE!"},null,null,null,null,null,null,null,null,null,null,null,null,null,null,null,null,null,null,null,null,null,null,null,null,{"$error":"#VALUE!"}]
[null,null,null,null,null,null,null,null,null,{"$error":"#VALUE!"},{"$error":"#VALUE!"},{"$error":"#VALUE!"},null,null,null,null,null,null,null,null,null,null,null,null,null,null,null,null,null,null,null,null,null,null,null,null,{"$error":"#VALUE!"}]
[null,null,null,null,null,null,null,null,null,{"$error":"#VALUE!"},{"$error":"#VALUE!"},{"$error":"#VALUE!"},null,null,null,null,null,null,null,null,null,null,null,null,null,null,null,null,null,null,null,null,null,null,null,null,{"$error":"#VALUE!"}]
[null,null,null,null,null,null,null,null,null,{"$error":"#VALUE!"},{"$error":"#VALUE!"},{"$error":"#VALUE!"},null,null,null,null,null,null,null,null,null,null,null,null,null,null,null,null,null,null,null,null,null,null,null,null,{"$error":"#VALUE!"}]
[null,null,null,null,null,null,null,null,null,{"$error":"#VALUE!"},{"$error":"#VALUE!"},{"$error":"#VALUE!"},null,null,null,null,null,null,null,null,null,null,null,null,null,null,null,null,null,null,null,null,null,null,null,null,{"$error":"#VALUE!"}]
[null,null,null,null,null,null,null,null,null,{"$error":"#VALUE!"},{"$error":"#VALUE!"},{"$error":"#VALUE!"},null,null,null,null,null,null,null,null,null,null,null,null,null,null,null,null,null,null,null,null,null,null,null,null,{"$error":"#VALUE!"}]
[null,null,null,null,null,null,null,null,null,{"$error":"#VALUE!"},{"$error":"#VALUE!"},{"$error":"#VALUE!"},null,null,null,null,null,null,null,null,null,null,null,null,null,null,null,null,null,null,null,null,null,null,null,null,{"$error":"#VALUE!"}]
[null,null,null,null,null,null,null,null,null,{"$error":"#VALUE!"},{"$error":"#VALUE!"},{"$error":"#VALUE!"},null,null,null,null,null,null,null,null,null,null,null,null,null,null,null,null,null,null,null,null,null,null,null,null,{"$error":"#VALUE!"}]
[null,null,null,null,null,null,null,null,null,{"$error":"#VALUE!"},{"$error":"#VALUE!"},{"$error":"#VALUE!"},null,null,null,null,null,null,null,null,null,null,null,null,null,null,null,null,null,null,null,null,null,null,null,null,{"$error":"#VALUE!"}]
[null,null,null,null,null,null,null,null,null,{"$error":"#VALUE!"},{"$error":"#VALUE!"},{"$error":"#VALUE!"},null,null,null,null,null,null,null,null,null,null,null,null,null,null,null,null,null,null,null,null,null,null,null,null,{"$error":"#VALUE!"}]
[null,null,null,null,null,null,null,null,null,{"$error":"#VALUE!"},{"$error":"#VALUE!"},{"$error":"#VALUE!"},null,null,null,null,null,null,null,null,null,null,null,null,null,null,null,null,null,null,null,null,null,null,null,null,{"$error":"#VALUE!"}]

{"sheet":"RCUT_Unsig","index":37,"n_rows":126,"n_cols":72,"rows_kept":126,"cut":false,"hidden":true,"merged":[[1,56,1,71],[0,19,0,28],[0,30,0,32],[1,31,2,31],[1,32,2,32],[1,21,1,25],[1,27,1,28],[1,30,2,30],[100,9,100,11],[100,36,101,36],[1,34,2,34],[1,36,2,36],[1,39,1,54],[1,9,1,11],[1,13,1,17]]}
[null,null,null,null,null,null,null,null,null,null,null,null,null,null,null,null,null,null,null,"Conflicting Traffic Complexity",null,null,null,null,null,null,null,null,null,null,"Pedestrian Complexity"]
[null,null,null,null,null,null,null,null,null,"Exposure",null,null,null,"Severity",null,null,null,null,null,"Traffic Control",null,"Conflicting Lanes",null,null,null,null,null,"Conflicting Speed",null,null,"Indirect Paths Indicator","Non-intuitive movements indicator","Pedestrian Complexity factor",null,"Total Complexity Multiplier",null,"Exposure-Severity-Complexity Product",null,null,"Included in Mvmt1",null,null,null,null,null,null,null,null,null,null,null,null,null,null,null,null,"Included in Mvmt2"]
["#","Conflict Type","Mvmt1","Mvmt1_gen","Mvmt1_SpeedCat","Mvmt2","Mvmt2_gen","Mvmt2_SpeedCat",null,"Q1","Q2","I",null,"Speed_V1","Speed_V2","Angle","delta_V","P_FSI",null,null,null,"MajC","MinC","MajM/P","MinM/P","Score",null,"Speed","Factor",null,null,null,null,null,null,null,null,null,null,"MajT1","MajL1","MajR1","MajT2","MajL2","MajR2","MinT1","MinL1","MinR1","MinT2","MinL2","MinR2","MajNM1","MajNM2","MinNM1","MinNM2",null,"MajT1","MajL1","MajR1","MajT2","MajL2","MajR2","MinT1","MinL1","MinR1","MinT2","MinL2","MinR2","MajNM1","MajNM2","MinNM1","MinNM2"]
[1,"Crossing - LT","EBT, SBL","MajT1, MinL2","Major thru","WBL","MajL2","Major left",null,{"$f":"SUMPRODUCT($AN4:$BC4,$AN$28:$BC$28)","v":{"$error":"#VALUE!"}},{"$f":"SUMPRODUCT($BE4:$BT4,$BE$28:$BT$28)","v":{"$error":"#VALUE!"}},{"$f":"PRODUCT(J4:K4)","v":{"$error":"#VALUE!"}},null,{"$f":"VLOOKUP(E4,SSI_AGI_Range_VehSpeed,5,FALSE)","v":0},{"$f":"VLOOKUP(H4,SSI_AGI_Range_VehSpeed,5,FALSE)","v":20},{"$f":"IF(B4=\"Nonmotorized\",\"\",VLOOKUP(B4,SSI_AGI_Range_CollAngles,5,FALSE))","v":230},{"$f":"IF(B4=\"Nonmotorized\",\"\",SQRT(N4^2+O4^2-2*N4*O4*COS(RADIANS(P4)))/2)","v":10},{"$f":"IF(B4=\"Nonmotorized\",1/(1+EXP(3.8432-0.1237*O4)),(Q4/SSI_AGI_RegAlpha)^SSI_AGI_RegK+(Q4/SSI_AGI_RegAlpha)^SSI_AGI_RegK-((Q4/SSI_AGI_RegAlpha)^SSI_AGI_RegK)*((Q4/SSI_AGI_RegAlpha)^SSI_AGI_RegK))","v":1.4431392232699444E-3},null,{"$f":"SSI_AGI_StopFactor","v":0.72500000000000009},null,1,null,null,null,{"$f":"MAX(1,IF(B4<>\"Pedestrian\",V4*SSI_AGI_MajorThruLanes+W4*SSI_AGI_MinorThruLanes+X4*IF(SSI_AGI_MajorThruLanes=1,SSI_AGI_MergeWeightL1,IF(SSI_AGI_MajorThruLanes=2,SSI_AGI_MergeWeightL1+SSI_AGI_MergeWeightL2,SSI_AGI_MergeWeightL1+SSI_AGI_MergeWeightL2+SSI_AGI_MergeWeightL3*(SSI_AGI_MajorThruLanes-2)))+Y4*IF(SSI_AGI_MinorThruLanes=1,SSI_AGI_MergeWeightL1,IF(SSI_AGI_MinorThruLanes=2,SSI_AGI_MergeWeightL1+SSI_AGI_MergeWeightL2,SSI_AGI_MergeWeightL1+SSI_AGI_MergeWeightL2+SSI_AGI_MergeWeightL3*(SSI_AGI_MinorThruLanes-2))),V4*SSI_AGI_MajorThruLanes+W4*SSI_AGI_MinorThruLanes+X4*IF(SSI_AGI_MajorThruLanes=1,SSI_AGI_NM_MergeWeightL1,IF(SSI_AGI_MajorThruLanes=2,SSI_AGI_NM_MergeWeightL1+SSI_AGI_NM_MergeWeightL2,SSI_AGI_NM_MergeWeightL1+SSI_AGI_NM_MergeWeightL2+SSI_AGI_NM_MergeWeightL3*(SSI_AGI_MajorThruLanes-2)))+Y4*IF(SSI_AGI_MinorThruLanes=1,SSI_AGI_NM_MergeWeightL1,IF(SSI_AGI_MinorThruLanes=2,SSI_AGI_NM_MergeWeightL1+SSI_AGI_NM_MergeWeightL2,SSI_AGI_NM_MergeWeightL1+SSI_AGI_NM_MergeWeightL2+SSI_AGI_NM_MergeWeightL3*(SSI_AGI_MinorThruLanes-2)))))","v":1},null,{"$f":"IF(B4=\"Diverging\",\"\",SSI_AGI_VehSpeed_MjrThru)","v":0},{"$f":"IF(B4=\"Diverging\",1,1-((60-AB4)/60*0.1/0.15))","v":0.33333333333333326},null,null,null,{"$f":"1+AE4+AF4","v":1},null,{"$f":"PRODUCT(Z4,T4,AC4,AG4)","v":0.24166666666666664},null,{"$f":"L4*R4*AI4","v":{"$error":"#VALUE!"}},null,null,{"$f":"IF(ISNUMBER(SEARCH(AN$3,$D4)),1,\"\")","v":1},{"$f":"IF(ISNUMBER(SEARCH(AO$3,$D4)),1,\"\")","v":""},"","","","","","","","",1,"","","","","",null,{"$f":"IF(ISNUMBER(SEARCH(BE$3,$G4)),1,\"\")","v":""},{"$f":"IF(ISNUMBER(SEARCH(BF$3,$G4)),1,\"\")","v":""},"","",1,"","","","","","","","","","",""]
[2,"Crossing - LT","WBT, NBL","MajT2, MinL1","Major thru","EBL","MajL1","Major left",null,{"$error":"#VALUE!"},{"$f":"SUMPRODUCT($BE5:$BT5,$BE$28:$BT$28)","v":{"$error":"#VALUE!"}},{"$f":"PRODUCT(J5:K5)","v":{"$error":"#VALUE!"}},null,0,20,230,{"$f":"IF(B5=\"Nonmotorized\",\"\",SQRT(N5^2+O5^2-2*N5*O5*COS(RADIANS(P5)))/2)","v":10},1.4431392232699444E-3,null,0.72500000000000009,null,1,null,null,null,1,null,0,0.33333333333333326,null,null,null,{"$f":"1+AE5+AF5","v":1},null,0.24166666666666664,null,{"$f":"L5*R5*AI5","v":{"$error":"#VALUE!"}},null,null,"","","",1,"","","",1,"","","","","","","","",null,"",1,"","","","","","","","","","","","","",""]
[3,"Merging","EBT, SBL","MajT1, MinL2","Major thru","NBT, NBL, NBR","MinT1, MinL1, MinR1","Stop near",null,{"$error":"#VALUE!"},{"$error":"#VALUE!"},{"$error":"#VALUE!"},null,0,15,45,7.5,4.8454301532720461E-4,null,0.72500000000000009,null,null,null,1,null,1,null,0,0.33333333333333326,null,null,null,1,null,0.24166666666666664,null,{"$error":"#VALUE!"},null,null,1,"","","","","","","","","",1,"","","","","",null,"","","","","","",1,1,1,"","","","","","",""]
[4,"Merging","WBL","MajL2","Major left","EBR, SBT","MajR1, MinT2","Major right",null,{"$error":"#VALUE!"},{"$error":"#VALUE!"},{"$error":"#VALUE!"},null,20,15,45,7.0840654162717795,3.9022923271840544E-4,null,0.72500000000000009,null,1,null,null,null,1,null,0,0.33333333333333326,null,null,null,1,null,0.24166666666666664,null,{"$error":"#VALUE!"},null,null,"","","","",1,"","","","","","","","","","","",null,"","",1,"","","","","","",1,"","","","","",""]
[5,"Merging","WBT, NBL","MajT2, MinL1","Major thru","SBT, SBL, SBR","MinT2, MinL2, MinR2","Stop near",null,{"$error":"#VALUE!"},{"$error":"#VALUE!"},{"$error":"#VALUE!"},null,0,15,45,7.5,4.8454301532720461E-4,null,0.72500000000000009,null,null,null,1,null,1,null,0,0.33333333333333326,null,null,null,1,null,0.24166666666666664,null,{"$error":"#VALUE!"},null,null,"","","",1,"","","",1,"","","","","","","","",null,"","","","","","","","","",1,1,1,"","","",""]
[6,"Merging","EBL","MajL1","Major left","WBR, NBT","MajR2, MinT1","Major right",null,{"$error":"#VALUE!"},{"$error":"#VALUE!"},{"$error":"#VALUE!"},null,20,15,45,7.0840654162717795,3.9022923271840544E-4,null,0.72500000000000009,null,1,null,null,null,1,null,0,0.33333333333333326,null,null,null,1,null,0.24166666666666664,null,{"$error":"#VALUE!"},null,null,"",1,"","","","","","","","","","","","","","",null,"","","","","",1,1,"","","","","","","","",""]
[7,"Merging","EBT, EBL, EBR","MajT1, MajL1, MajR1","Major thru","SBT, SBL","MinT2, MinL2","Stop near",null,{"$error":"#VALUE!"},{"$error":"#VALUE!"},{"$error":"#VALUE!"},null,0,15,45,7.5,4.8454301532720461E-4,null,0.72500000000000009,null,null,null,1,null,1,null,0,0.33333333333333326,null,null,null,1,null,0.24166666666666664,null,{"$error":"#VALUE!"},null,null,1,1,1,"","","","","","","","","","","","","",null,"","","","","","","","","",1,1,"","","","",""]
[8,"Merging","WBT, WBL, WBR","MajT2, MajL2, MajR2","Major thru","NBT, NBL","MinT1, MinL1","Stop near",null,{"$error":"#VALUE!"},{"$error":"#VALUE!"},{"$error":"#VALUE!"},null,0,15,45,7.5,4.8454301532720461E-4,null,0.72500000000000009,null,null,null,1,null,1,null,0,0.33333333333333326,null,null,null,1,null,0.24166666666666664,null,{"$error":"#VALUE!"},null,null,"","","",1,1,1,"","","","","","","","","","",null,"","","","","","",1,1,"","","","","","","",""]
[9,"Diverging","EBT, EBR, SBL, SBT","MajT1, MajR1, MinL2, MinT2","Major thru","EBL","MajL1","Major left",null,{"$error":"#VALUE!"},{"$error":"#VALUE!"},{"$error":"#VALUE!"},null,0,20,10,10,1.4431392232699444E-3,null,1,null,null,null,null,null,1,null,"",1,null,null,null,1,null,1,null,{"$error":"#VALUE!"},null,null,1,"",1,"","","","","","",1,1,"","","","","",null,"",1,"","","","","","","","","","","","","",""]
[10,"Diverging","EBT, SBL","MajT1, MinL2","Major thru","EBR, SBT","MajR1, MinT2","Major right",null,{"$error":"#VALUE!"},{"$error":"#VALUE!"},{"$error":"#VALUE!"},null,0,15,10,7.5,4.8454301532720461E-4,null,1,null,null,null,null,null,1,null,"",1,null,null,null,1,null,1,null,{"$error":"#VALUE!"},null,null,1,"","","","","","","","","",1,"","","","","",null,"","",1,"","","","","","",1,"","","","","",""]
[11,"Diverging","EBT, SBL, NBR","MajT1, MinL2, MinR1","Major thru","NBL, NBT","MinL1, MinT1","Major left",null,{"$error":"#VALUE!"},{"$error":"#VALUE!"},{"$error":"#VALUE!"},null,0,20,10,10,1.4431392232699444E-3,null,1,null,null,null,null,null,1,null,"",1,null,null,null,1,null,1,null,{"$error":"#VALUE!"},null,null,1,"","","","","","","",1,"",1,"","","","","",null,"","","","","","",1,1,"","","","","","","",""]
[12,"Diverging","WBT, WBR, NBL, NBT","MajT2, MajR2, MinL1, MinT1","Major thru","WBL","MajL2","Major left",null,{"$error":"#VALUE!"},{"$error":"#VALUE!"},{"$error":"#VALUE!"},null,0,20,10,10,1.4431392232699444E-3,null,1,null,null,null,null,null,1,null,"",1,null,null,null,1,null,1,null,{"$error":"#VALUE!"},null,null,"","","",1,"",1,1,1,"","","","","","","","",null,"","","","",1,"","","","","","","","","","",""]
[13,"Diverging","WBT, NBL","MajT2, MinL1","Major thru","WBR, NBT","MajR2, MinT1","Major right",null,{"$error":"#VALUE!"},{"$error":"#VALUE!"},{"$error":"#VALUE!"},null,0,15,10,7.5,4.8454301532720461E-4,null,1,null,null,null,null,null,1,null,"",1,null,null,null,1,null,1,null,{"$error":"#VALUE!"},null,null,"","","",1,"","","",1,"","","","","","","","",null,"","","","","",1,1,"","","","","","","","",""]
[14,"Diverging","WBT, NBL, SBR","MajT2, MinL1, MinR2","Major thru","SBL, SBT","MinL2, MinT2","Major left",null,{"$error":"#VALUE!"},{"$error":"#VALUE!"},{"$error":"#VALUE!"},null,0,20,10,10,1.4431392232699444E-3,null,1,null,null,null,null,null,1,null,"",1,null,null,null,1,null,1,null,{"$error":"#VALUE!"},null,null,"","","",1,"","","",1,"","","",1,"","","","",null,"","","","","","","","","",1,1,"","","","",""]
[15,"Nonmotorized","NB Ped","MinNM1","Nonmotorized","EBR, SBT","MajR1, MinT2","Major right",null,{"$error":"#VALUE!"},{"$error":"#VALUE!"},{"$error":"#VALUE!"},null,0,15,"","",0.1205004039155782,null,1,null,null,1,2,null,1.5,null,0,0.33333333333333326,null,null,null,1,null,0.49999999999999989,null,{"$error":"#VALUE!"},null,null,"","","","","","","","","","","","","","",1,"",null,"","",1,"","","","","","",1,"","","","","",""]
[16,"Nonmotorized","NB Ped","MinNM1","Nonmotorized","WBL","MajL2","Major left",null,{"$error":"#VALUE!"},{"$error":"#VALUE!"},{"$error":"#VALUE!"},null,0,20,"","",0.20274912921655375,null,{"$f":"SSI_AGI_StopFactor","v":0.72500000000000009},null,null,1,2,null,1.5,null,0,0.33333333333333326,null,null,null,1,null,0.36249999999999999,null,{"$error":"#VALUE!"},null,null,"","","","","","","","","","","","","","",1,"",null,"","","","",1,"","","","","","","","","","",""]
[17,"Nonmotorized","NB Ped","MinNM1","Nonmotorized","NBT, NBL, NBR","MinT1, MinL1, MinR1","Stop near",null,{"$error":"#VALUE!"},{"$error":"#VALUE!"},{"$error":"#VALUE!"},null,0,15,"","",0.1205004039155782,null,{"$f":"SSI_AGI_StopFactor","v":0.72500000000000009},null,null,1,null,null,1,null,{"$f":"IF(B20=\"Diverging\",\"\",SSI_AGI_VehSpeed_MnrThru)","v":0},0.33333333333333326,null,null,null,1,null,0.24166666666666664,null,{"$error":"#VALUE!"},null,null,"",{"$f":"IF(ISNUMBER(SEARCH(AO$3,$D20)),1,\"\")","v":""},"","","","","","","","","","","","",1,"",null,"",{"$f":"IF(ISNUMBER(SEARCH(BF$3,$G20)),1,\"\")","v":""},"","","","",1,1,1,"","","","","","",""]
[18,"Nonmotorized","EB/WB Ped","MajNM1, MajNM2","Nonmotorized","EBR, SBT","MajR1, MinT2","Major right",null,{"$error":"#VALUE!"},{"$error":"#VALUE!"},{"$error":"#VALUE!"},null,0,15,"","",0.1205004039155782,null,1,null,1,null,null,null,1,null,{"$f":"IF(B21=\"Diverging\",\"\",SSI_AGI_VehSpeed_MjrThru)","v":0},0.33333333333333326,null,1,null,2,null,0.66666666666666652,null,{"$error":"#VALUE!"},null,null,"","","","","","","","","","","","",1,1,"","",null,"","",1,"","","","","","",1,"","","","","",""]
[19,"Nonmotorized","EB/WB Ped","MajNM1, MajNM2","Nonmotorized","EBT, SBL","MajT1, MinL2","Major thru",null,{"$error":"#VALUE!"},{"$error":"#VALUE!"},{"$error":"#VALUE!"},null,0,0,"","",2.0975532400616122E-2,null,1,null,1,null,null,null,1,null,0,0.33333333333333326,null,1,null,2,null,0.66666666666666652,null,{"$error":"#VALUE!"},null,null,"","","","","","","","","","","","",1,1,"","",null,1,"","","","","","","","","",1,"","","","",""]
[20,"Nonmotorized","EB/WB Ped","MajNM1, MajNM2","Nonmotorized","WBT, NBL","MajT2, MinL1","Major thru",null,{"$error":"#VALUE!"},{"$error":"#VALUE!"},{"$error":"#VALUE!"},null,0,0,"","",2.0975532400616122E-2,null,1,null,1,null,null,null,1,null,0,0.33333333333333326,null,1,null,2,null,0.66666666666666652,null,{"$error":"#VALUE!"},null,null,"","","","","","","","","","","","",1,1,"","",null,"","","",1,"","","",1,"","","","","","","",""]
[21,"Nonmotorized","EB/WB Ped","MajNM1, MajNM2","Nonmotorized","WBR, NBT","MajR2, MinT1","Major right",null,{"$error":"#VALUE!"},{"$error":"#VALUE!"},{"$error":"#VALUE!"},null,0,15,"","",0.1205004039155782,null,1,null,1,null,null,null,1,null,0,0.33333333333333326,null,1,null,2,null,0.66666666666666652,null,{"$error":"#VALUE!"},null,null,"","","","","","","","","","","","",1,1,"","",null,"","","","","",1,1,"","","","","","","","",""]
[22,"Nonmotorized","SB Ped","MinNM2","Nonmotorized","WBR, NBT","MajR2, MinT1","Major right",null,{"$error":"#VALUE!"},{"$error":"#VALUE!"},{"$error":"#VALUE!"},null,0,15,"","",0.1205004039155782,null,1,null,null,1,2,null,1.5,null,0,0.33333333333333326,null,null,null,1,null,0.49999999999999989,null,{"$error":"#VALUE!"},null,null,"","","","","","","","","","","","","","","",1,null,"","","","","",1,1,"","","","","","","","",""]
[23,"Nonmotorized","SB Ped","MinNM2","Nonmotorized","EBL","MajL1","Major left",null,{"$error":"#VALUE!"},{"$error":"#VALUE!"},{"$error":"#VALUE!"},null,0,20,"","",0.20274912921655375,null,{"$f":"SSI_AGI_StopFactor","v":0.72500000000000009},null,null,1,2,null,1.5,null,0,0.33333333333333326,null,null,null,1,null,0.36249999999999999,null,{"$error":"#VALUE!"},null,null,"","","","","","","","","","","","","","","",1,null,"",1,"","","","","","","","","","","","","",""]
[24,"Nonmotorized","SB Ped","MinNM2","Nonmotorized","SBT, SBL, SBR","MinT2, MinL2, MinR2","Stop near",null,{"$error":"#VALUE!"},{"$error":"#VALUE!"},{"$error":"#VALUE!"},null,0,15,"","",0.1205004039155782,null,{"$f":"SSI_AGI_StopFactor","v":0.72500000000000009},null,null,1,null,null,1,null,{"$f":"IF(B27=\"Diverging\",\"\",SSI_AGI_VehSpeed_MnrThru)","v":0},0.33333333333333326,null,null,null,1,null,0.24166666666666664,null,{"$error":"#VALUE!"},null,null,"","","","","","","","","","","","","","","",1,null,"","","","","","","","","",1,1,1,"","","",""]
[null,null,null,null,null,null,null,null,null,null,null,null,null,null,null,null,null,null,null,null,null,null,null,null,null,null,null,null,null,null,null,null,null,null,null,null,null,null,"O",{"$f":"'SSI Inputs'!$D$26","v":{"$error":"#VALUE!"}},{"$f":"'SSI Inputs'!$D$27","v":{"$error":"#VALUE!"}},{"$f":"'SSI Inputs'!$D$28","v":{"$error":"#VALUE!"}},{"$f":"'SSI Inputs'!$D$30","v":{"$error":"#VALUE!"}},{"$f":"'SSI Inputs'!$D$31","v":{"$error":"#VALUE!"}},{"$f":"'SSI Inputs'!$D$32","v":{"$error":"#VALUE!"}},{"$f":"'SSI Inputs'!$D$34","v":{"$error":"#VALUE!"}},{"$f":"'SSI Inputs'!$D$35","v":{"$error":"#VALUE!"}},{"$f":"'SSI Inputs'!$D$36","v":{"$error":"#VALUE!"}},{"$f":"'SSI Inputs'!$D$38","v":{"$error":"#VALUE!"}},{"$f":"'SSI Inputs'!$D$39","v":{"$error":"#VALUE!"}},{"$f":"'SSI Inputs'!$D$40","v":{"$error":"#VALUE!"}},{"$f":"'SSI Inputs'!$Q$18","v":12.5},{"$f":"'SSI Inputs'!$Q$19","v":12.5},{"$f":"'SSI Inputs'!$Q$20","v":12.5},{"$f":"'SSI Inputs'!$Q$21","v":12.5},"O",{"$f":"'SSI Inputs'!$D$26","v":{"$error":"#VALUE!"}},{"$f":"'SSI Inputs'!$D$27","v":{"$error":"#VALUE!"}},{"$f":"'SSI Inputs'!$D$28","v":{"$error":"#VALUE!"}},{"$f":"'SSI Inputs'!$D$30","v":{"$error":"#VALUE!"}},{"$f":"'SSI Inputs'!$D$31","v":{"$error":"#VALUE!"}},{"$f":"'SSI Inputs'!$D$32","v":{"$error":"#VALUE!"}},{"$f":"'SSI Inputs'!$D$34","v":{"$error":"#VALUE!"}},{"$f":"'SSI Inputs'!$D$35","v":{"$error":"#VALUE!"}},{"$f":"'SSI Inputs'!$D$36","v":{"$error":"#VALUE!"}},{"$f":"'SSI Inputs'!$D$38","v":{"$error":"#VALUE!"}},{"$f":"'SSI Inputs'!$D$39","v":{"$error":"#VALUE!"}},{"$f":"'SSI Inputs'!$D$40","v":{"$error":"#VALUE!"}},{"$f":"'SSI Inputs'!$Q$18","v":12.5},{"$f":"'SSI Inputs'!$Q$19","v":12.5},{"$f":"'SSI Inputs'!$Q$20","v":12.5},{"$f":"'SSI Inputs'!$Q$21","v":12.5}]
[null,null,null,null,null,null,null,null,null,null,null,null,null,null,null,null,null,null,null,null,null,null,null,null,null,null,null,null,null,null,null,null,null,null,null,null,null,null,"D",{"$f":"'SSI Inputs'!$E$26","v":{"$error":"#VALUE!"}},{"$f":"'SSI Inputs'!$E$27","v":{"$error":"#VALUE!"}},{"$f":"'SSI Inputs'!$E$28","v":{"$error":"#VALUE!"}},{"$f":"'SSI Inputs'!$E$30","v":{"$error":"#VALUE!"}},{"$f":"'SSI Inputs'!$E$31","v":{"$error":"#VALUE!"}},{"$f":"'SSI Inputs'!$E$32","v":{"$error":"#VALUE!"}},{"$f":"'SSI Inputs'!$E$34","v":{"$error":"#VALUE!"}},{"$f":"'SSI Inputs'!$E$35","v":{"$error":"#VALUE!"}},{"$f":"'SSI Inputs'!$E$36","v":{"$error":"#VALUE!"}},{"$f":"'SSI Inputs'!$E$38","v":{"$error":"#VALUE!"}},{"$f":"'SSI Inputs'!$E$39","v":{"$error":"#VALUE!"}},{"$f":"'SSI Inputs'!$E$40","v":{"$error":"#VALUE!"}},{"$f":"'SSI Inputs'!$R$18","v":12.5},{"$f":"'SSI Inputs'!$R$19","v":12.5},{"$f":"'SSI Inputs'!$R$20","v":12.5},{"$f":"'SSI Inputs'!$R$21","v":12.5},"D",{"$f":"'SSI Inputs'!$E$26","v":{"$error":"#VALUE!"}},{"$f":"'SSI Inputs'!$E$27","v":{"$error":"#VALUE!"}},{"$f":"'SSI Inputs'!$E$28","v":{"$error":"#VALUE!"}},{"$f":"'SSI Inputs'!$E$30","v":{"$error":"#VALUE!"}},{"$f":"'SSI Inputs'!$E$31","v":{"$error":"#VALUE!"}},{"$f":"'SSI Inputs'!$E$32","v":{"$error":"#VALUE!"}},{"$f":"'SSI Inputs'!$E$34","v":{"$error":"#VALUE!"}},{"$f":"'SSI Inputs'!$E$35","v":{"$error":"#VALUE!"}},{"$f":"'SSI Inputs'!$E$36","v":{"$error":"#VALUE!"}},{"$f":"'SSI Inputs'!$E$38","v":{"$error":"#VALUE!"}},{"$f":"'SSI Inputs'!$E$39","v":{"$error":"#VALUE!"}},{"$f":"'SSI Inputs'!$E$40","v":{"$error":"#VALUE!"}},{"$f":"'SSI Inputs'!$R$18","v":12.5},{"$f":"'SSI Inputs'!$R$19","v":12.5},{"$f":"'SSI Inputs'!$R$20","v":12.5},{"$f":"'SSI Inputs'!$R$21","v":12.5}]
[]
[]
[]
[]
[]
[]
[]
[]
[]
[]
[]
[]
[]
[]
[]
[]
[]
[]
[]
[]
[]
[]
[]
[]
[]
[]
[]
[]
[]
[]
[]
[]
[]
[]
[]
[]
[]
[]
[]
[]
[]
[]
[]
[]
[]
[]
[]
[]
[]
[]
[]
[]
[]
[]
[]
[]
[]
[]
[]
[]
[]
[]
[]
[]
[]
[]
[]
[]
[]
[]
[]
[null,null,null,null,null,null,null,null,null,"Exposure",null,null,null,null,null,null,null,null,null,null,null,null,null,null,null,null,null,null,null,null,null,null,null,null,null,null,"Exposure-Severity-Complexity Product"]
[null,null,null,null,null,null,null,null,null,"Q1","Q2","I"]
[null,null,null,null,null,null,null,null,null,{"$f":"SUMPRODUCT($AN4:$BC4,$AN$29:$BC$29)","v":{"$error":"#VALUE!"}},{"$f":"SUMPRODUCT($BE4:$BT4,$BE$29:$BT$29)","v":{"$error":"#VALUE!"}},{"$f":"PRODUCT(J103:K103)","v":{"$error":"#VALUE!"}},null,null,null,null,null,null,null,null,null,null,null,null,null,null,null,null,null,null,null,null,null,null,null,null,{"$f":"L103*R4*AI4","v":{"$error":"#VALUE!"}}]
[null,null,null,null,null,null,null,null,null,{"$f":"SUMPRODUCT($AN5:$BC5,$AN$29:$BC$29)","v":{"$error":"#VALUE!"}},{"$f":"SUMPRODUCT($BE5:$BT5,$BE$29:$BT$29)","v":{"$error":"#VALUE!"}},{"$f":"PRODUCT(J104:K104)","v":{"$error":"#VALUE!"}},null,null,null,null,null,null,null,null,null,null,null,null,null,null,null,null,null,null,null,null,null,null,null,null,{"$f":"L104*R5*AI5","v":{"$error":"#VALUE!"}}]
[null,null,null,null,null,null,null,null,null,{"$error":"#VALUE!"},{"$error":"#VALUE!"},{"$error":"#VALUE!"},null,null,null,null,null,null,null,null,null,null,null,null,null,null,null,null,null,null,null,null,null,null,null,null,{"$error":"#VALUE!"}]
[null,null,null,null,null,null,null,null,null,{"$error":"#VALUE!"},{"$error":"#VALUE!"},{"$error":"#VALUE!"},null,null,null,null,null,null,null,null,null,null,null,null,null,null,null,null,null,null,null,null,null,null,null,null,{"$error":"#VALUE!"}]
[null,null,null,null,null,null,null,null,null,{"$error":"#VALUE!"},{"$error":"#VALUE!"},{"$error":"#VALUE!"},null,null,null,null,null,null,null,null,null,null,null,null,null,null,null,null,null,null,null,null,null,null,null,null,{"$error":"#VALUE!"}]
[null,null,null,null,null,null,null,null,null,{"$error":"#VALUE!"},{"$error":"#VALUE!"},{"$error":"#VALUE!"},null,null,null,null,null,null,null,null,null,null,null,null,null,null,null,null,null,null,null,null,null,null,null,null,{"$error":"#VALUE!"}]
[null,null,null,null,null,null,null,null,null,{"$error":"#VALUE!"},{"$error":"#VALUE!"},{"$error":"#VALUE!"},null,null,null,null,null,null,null,null,null,null,null,null,null,null,null,null,null,null,null,null,null,null,null,null,{"$error":"#VALUE!"}]
[null,null,null,null,null,null,null,null,null,{"$error":"#VALUE!"},{"$error":"#VALUE!"},{"$error":"#VALUE!"},null,null,null,null,null,null,null,null,null,null,null,null,null,null,null,null,null,null,null,null,null,null,null,null,{"$error":"#VALUE!"}]
[null,null,null,null,null,null,null,null,null,{"$error":"#VALUE!"},{"$error":"#VALUE!"},{"$error":"#VALUE!"},null,null,null,null,null,null,null,null,null,null,null,null,null,null,null,null,null,null,null,null,null,null,null,null,{"$error":"#VALUE!"}]
[null,null,null,null,null,null,null,null,null,{"$error":"#VALUE!"},{"$error":"#VALUE!"},{"$error":"#VALUE!"},null,null,null,null,null,null,null,null,null,null,null,null,null,null,null,null,null,null,null,null,null,null,null,null,{"$error":"#VALUE!"}]
[null,null,null,null,null,null,null,null,null,{"$error":"#VALUE!"},{"$error":"#VALUE!"},{"$error":"#VALUE!"},null,null,null,null,null,null,null,null,null,null,null,null,null,null,null,null,null,null,null,null,null,null,null,null,{"$error":"#VALUE!"}]
[null,null,null,null,null,null,null,null,null,{"$error":"#VALUE!"},{"$error":"#VALUE!"},{"$error":"#VALUE!"},null,null,null,null,null,null,null,null,null,null,null,null,null,null,null,null,null,null,null,null,null,null,null,null,{"$error":"#VALUE!"}]
[null,null,null,null,null,null,null,null,null,{"$error":"#VALUE!"},{"$error":"#VALUE!"},{"$error":"#VALUE!"},null,null,null,null,null,null,null,null,null,null,null,null,null,null,null,null,null,null,null,null,null,null,null,null,{"$error":"#VALUE!"}]
[null,null,null,null,null,null,null,null,null,{"$error":"#VALUE!"},{"$error":"#VALUE!"},{"$error":"#VALUE!"},null,null,null,null,null,null,null,null,null,null,null,null,null,null,null,null,null,null,null,null,null,null,null,null,{"$error":"#VALUE!"}]
[null,null,null,null,null,null,null,null,null,{"$error":"#VALUE!"},{"$error":"#VALUE!"},{"$error":"#VALUE!"},null,null,null,null,null,null,null,null,null,null,null,null,null,null,null,null,null,null,null,null,null,null,null,null,{"$error":"#VALUE!"}]
[null,null,null,null,null,null,null,null,null,{"$error":"#VALUE!"},{"$error":"#VALUE!"},{"$error":"#VALUE!"},null,null,null,null,null,null,null,null,null,null,null,null,null,null,null,null,null,null,null,null,null,null,null,null,{"$error":"#VALUE!"}]
[null,null,null,null,null,null,null,null,null,{"$error":"#VALUE!"},{"$error":"#VALUE!"},{"$error":"#VALUE!"},null,null,null,null,null,null,null,null,null,null,null,null,null,null,null,null,null,null,null,null,null,null,null,null,{"$error":"#VALUE!"}]
[null,null,null,null,null,null,null,null,null,{"$error":"#VALUE!"},{"$error":"#VALUE!"},{"$error":"#VALUE!"},null,null,null,null,null,null,null,null,null,null,null,null,null,null,null,null,null,null,null,null,null,null,null,null,{"$error":"#VALUE!"}]
[null,null,null,null,null,null,null,null,null,{"$error":"#VALUE!"},{"$error":"#VALUE!"},{"$error":"#VALUE!"},null,null,null,null,null,null,null,null,null,null,null,null,null,null,null,null,null,null,null,null,null,null,null,null,{"$error":"#VALUE!"}]
[null,null,null,null,null,null,null,null,null,{"$error":"#VALUE!"},{"$error":"#VALUE!"},{"$error":"#VALUE!"},null,null,null,null,null,null,null,null,null,null,null,null,null,null,null,null,null,null,null,null,null,null,null,null,{"$error":"#VALUE!"}]
[null,null,null,null,null,null,null,null,null,{"$error":"#VALUE!"},{"$error":"#VALUE!"},{"$error":"#VALUE!"},null,null,null,null,null,null,null,null,null,null,null,null,null,null,null,null,null,null,null,null,null,null,null,null,{"$error":"#VALUE!"}]
[null,null,null,null,null,null,null,null,null,{"$error":"#VALUE!"},{"$error":"#VALUE!"},{"$error":"#VALUE!"},null,null,null,null,null,null,null,null,null,null,null,null,null,null,null,null,null,null,null,null,null,null,null,null,{"$error":"#VALUE!"}]
[null,null,null,null,null,null,null,null,null,{"$error":"#VALUE!"},{"$error":"#VALUE!"},{"$error":"#VALUE!"},null,null,null,null,null,null,null,null,null,null,null,null,null,null,null,null,null,null,null,null,null,null,null,null,{"$error":"#VALUE!"}]
[null,null,null,null,null,null,null,null,null,{"$error":"#VALUE!"},{"$error":"#VALUE!"},{"$error":"#VALUE!"},null,null,null,null,null,null,null,null,null,null,null,null,null,null,null,null,null,null,null,null,null,null,null,null,{"$error":"#VALUE!"}]

{"sheet":"ResultsRTI","index":38,"n_rows":56,"n_cols":25,"rows_kept":56,"cut":false,"hidden":true,"merged":[[36,8,37,8],[34,8,35,8],[32,8,33,8],[30,8,31,8],[28,8,29,8],[26,8,27,8],[24,8,25,8],[54,8,55,8],[52,8,53,8],[50,8,51,8],[48,8,49,8],[46,8,47,8],[44,8,45,8],[42,8,43,8],[40,8,41,8],[38,8,39,8],[5,1,5,4],[6,1,6,4],[7,1,7,4],[8,1,8,4],[9,1,9,4],[10,1,10,4],[11,1,11,4],[12,1,12,4],[32,7,33,7],[14,5,15,5],[14,2,15,2],[14,1,15,1],[54,6,55,6],[52,6,53,6],[50,6,51,6],[48,6,49,6],[46,6,47,6],[44,6,45,6],[42,6,43,6],[40,6,41,6],[38,6,39,6],[36,6,37,6],[34,6,35,6],[32,6,33,6],[50,7,51,7],[48,7,49,7],[46,7,47,7],[44,7,45,7],[42,7,43,7],[40,7,41,7],[38,7,39,7],[36,7,37,7],[34,7,35,7],[0,0,0,11],[1,0,1,11],[2,0,2,11],[3,0,3,11],[4,0,4,11],[14,4,15,4],[14,3,15,3],[18,9,19,9],[18,10,19,10],[18,11,19,11],[6,6,6,11],[7,6,7,11],[5,6,5,11],[10,6,10,11],[11,6,11,11],[8,6,8,11],[9,6,9,11],[18,5,19,5],[12,6,12,11],[13,0,13,11],[16,9,17,9],[16,10,17,10],[16,11,17,11],[14,9,14,11],[14,0,15,0],[14,6,14,7],[16,6,17,6],[18,7,19,7],[20,9,21,9],[20,10,21,10],[20,11,21,11],[20,0,21,0],[20,5,21,5],[18,0,19,0],[16,0,17,0],[16,5,17,5],[20,7,21,7],[20,6,21,6],[18,6,19,6],[16,7,17,7],[14,8,15,8],[20,8,21,8],[18,8,19,8],[16,8,17,8],[26,11,27,11],[26,0,27,0],[26,5,27,5],[26,9,27,9],[26,10,27,10],[22,0,23,0],[22,5,23,5],[24,0,25,0],[24,5,25,5],[22,9,23,9],[22,10,23,10],[22,11,23,11],[24,9,25,9],[24,10,25,10],[24,11,25,11],[26,7,27,7],[26,6,27,6],[24,7,25,7],[24,6,25,6],[22,7,23,7],[22,6,23,6],[22,8,23,8],[28,0,29,0],[28,5,29,5],[30,0,31,0],[30,5,31,5],[30,9,31,9],[30,10,31,10],[30,11,31,11],[28,9,29,9],[28,10,29,10],[28,11,29,11],[30,7,31,7],[28,7,29,7],[30,6,31,6],[28,6,29,6],[48,0,49,0],[48,5,49,5],[48,9,49,9],[48,10,49,10],[48,11,49,11],[40,11,41,11],[40,0,41,0],[40,5,41,5],[40,9,41,9],[40,10,41,10],[46,0,47,0],[46,5,47,5],[46,9,47,9],[46,10,47,10],[46,11,47,11],[50,0,51,0],[50,5,51,5],[50,9,51,9],[50,10,51,10],[50,11,51,11],[32,0,33,0],[32,5,33,5],[32,9,33,9],[32,10,33,10],[32,11,33,11],[42,0,43,0],[42,5,43,5],[42,9,43,9],[42,10,43,10],[42,11,43,11],[44,0,45,0],[44,5,45,5],[44,9,45,9],[44,10,45,10],[44,11,45,11],[34,0,35,0],[34,5,35,5],[34,9,35,9],[34,10,35,10],[7,13,7,14],[52,0,53,0],[52,5,53,5],[52,9,53,9],[52,10,53,10],[52,11,53,11],[54,0,55,0],[54,5,55,5],[54,9,55,9],[54,10,55,10],[54,11,55,11],[54,7,55,7],[52,7,53,7],[34,11,35,11],[38,0,39,0],[38,5,39,5],[38,9,39,9],[38,10,39,10],[38,11,39,11],[36,0,37,0],[36,5,37,5],[36,9,37,9],[36,10,37,10],[36,11,37,11]]}
["Florida Department of Transportation"]
["Safety Performance for Intersection Control Evaluation Tool"]
["Results",null,null,null,null,null,null,null,null,null,null,null,{"$f":"IF(OR(OR(ISBLANK('Control Strategy Selection'!D5),ISBLANK('Control Strategy Selection'!D13),ISBLANK('Control Strategy Selection'!D14)),IF('Control Strategy Selection'!D4=Label_AnalysisYearType_OpenAndDesign,OR(ISBLANK('Control Strategy Selection'!D6),ISBLANK('Control Strategy Selection'!D15),ISBLANK('Control Strategy Selection'!D16)),FALSE)),\"Please complete the Opening/Design Year Inputs and AADTs Before Viewing Results\",\"\")","v":"Please complete the Opening/Design Year Inputs and AADTs Before Viewing Results"}]
["Summary of crash prediction results for each alternative"]
["Project Information"]
["Project Name:",{"$f":"IF(ISBLANK('Project Information'!B3:C3),\"\",'Project Information'!B3:C3)","v":""},null,null,null,"Intersection Type",{"$f":"'Control Strategy Selection'!D3","v":0}]
["Intersection:",{"$f":"IF(ISBLANK('Project Information'!B4:C4),\"\",'Project Information'!B4:C4)","v":""},null,null,null,"Opening Year",{"$f":"'Control Strategy Selection'!D5","v":0}]
["Agency: ",{"$f":"IF(ISBLANK('Project Information'!B5:C5),\"\",'Project Information'!B5:C5)","v":""},null,null,null,"Design Year",{"$f":"'Control Strategy Selection'!D6","v":0},null,null,null,null,null,null,"Legend"]
["Project Reference:",{"$f":"IF(ISBLANK('Project Information'!B6:C6),\"\",'Project Information'!B6:C6)","v":""},null,null,null,"Area Type",{"$f":"Input_RTI_AreaType","v":0},null,null,null,null,null,null,null,"AADT >= 75%"]
["City:",{"$f":"IF(ISBLANK('Project Information'!B7:C7),\"\",'Project Information'!B7:C7)","v":""},null,null,null,null,null,null,null,null,null,null,null,null,"AADT >= 50%"]
["State:",{"$f":"IF(ISBLANK('Project Information'!B8:C8),\"\",'Project Information'!B8:C8)","v":""},null,null,null,null,null,null,null,null,null,null,null,null,"AADT >= 25%"]
["Date:",{"$f":"IF(ISBLANK('Project Information'!B9:C9),\"\",'Project Information'!B9:C9)","v":""},null,null,null,null,null,null,null,null,null,null,null,null,"AADT >= 10%"]
["Analyst:",{"$f":"IF(ISBLANK('Project Information'!B10:C10),\"\",'Project Information'!B10:C10)","v":""},null,null,null,null,null,null,null,null,null,null,null,null,"AADT > 0%"]
["Crash Prediction Summary"]
["Control Strategy","Crash Type","Opening Year","Design Year","Total Project Life Cycle","Crash Prediction Rank","AADT Within range?",null,"Source of Prediction","SSI Score",null,null,null,null,null,null,"Use Val (open vs design)",null,"Included","Total","FI",false]
[null,null,null,null,null,null,"Opening Year","Design Year",null,"Opening Year","Design Year","SSI Rank"]
[{"$f":"Label_RTI_D4TS","v":"Diamond Signalized"},"Total",38.903338205070241,70.865445474377836,109.76878367944808,{"$f":"IF(OR(AND(ISNUMBER(C17),C17>0),AND(ISNUMBER(E17),E17>0)),Y17,\"--\")","v":1},{"$f":"IF(AND('Control Strategy Selection'!W62),\"Yes\",\"No\")","v":"Yes"},{"$f":"IF(AND('Control Strategy Selection'!X62),\"Yes\",\"No\")","v":"Yes"},"Uncalibrated SPF",{"$f":"IF(IsChecked_RTI_D4TS, 'RTI SSI Results'!C13,\"\")","v":""},{"$f":"IF(IsChecked_RTI_D4TS, 'RTI SSI Results'!C59,\"\")","v":""},{"$f":"IF(ISNUMBER(K17),_xlfn.RANK.EQ(K17,$K$17:$K$56),IF(ISNUMBER(J17),_xlfn.RANK.EQ(J17,$J$17:$J$56),\"--\"))","v":"--"},null,null,null,null,{"$f":"IF(Input_AnalysisYearType=Notes!$A$11,ResultsRTI!C17,ResultsRTI!E17)","v":109.76878367944808},{"$f":"IF(Input_AnalysisYearType=Notes!$A$11,ResultsRTI!C18,ResultsRTI!E18)","v":68.225847739078162},{"$f":"AND(IsChecked_RTI_D4TS,ISNUMBER(Q17))","v":false},{"$f":"IF(AND(Q17>0,S17),Q17,99999999999)","v":99999999999},{"$f":"IF(AND(R17>0,S17),R17,99999999999)","v":99999999999},{"$f":"RANK(T17,$T$17:$T$55,1)","v":1},{"$f":"RANK(U17,$U$17:$U$55,1)","v":1},{"$f":"IF($V$15,V17+0.01*W17,W17+0.01*V17)","v":1.01},{"$f":"RANK(X17,$X$17:$X$55,1)","v":1}]
[null,"Fatal & Injury",21.404513748605495,46.821333990472667,68.225847739078162]
[{"$f":"Label_RTI_D4TSA","v":"Diamond Signalized (Alt)"},"Total",37.69782970723648,68.179580761743395,105.87741046897989,{"$f":"IF(OR(AND(ISNUMBER(C19),C19>0),AND(ISNUMBER(E19),E19>0)),Y19,\"--\")","v":1},{"$f":"IF(AND('Control Strategy Selection'!W63),\"Yes\",\"No\")","v":"Yes"},{"$f":"IF(AND('Control Strategy Selection'!X63),\"Yes\",\"No\")","v":"Yes"},"Uncalibrated SPF",{"$f":"IF(IsChecked_RTI_D4TSA,'RTI SSI Results'!C14,\"\")","v":""},{"$f":"IF(IsChecked_RTI_D4TSA,'RTI SSI Results'!C60,\"\")","v":""},{"$f":"IF(ISNUMBER(K19),_xlfn.RANK.EQ(K19,$K$17:$K$56),IF(ISNUMBER(J19),_xlfn.RANK.EQ(J19,$J$17:$J$56),\"--\"))","v":"--"},null,null,null,null,{"$f":"IF(Input_AnalysisYearType=Notes!$A$11,ResultsRTI!C19,ResultsRTI!E19)","v":105.87741046897989},{"$f":"IF(Input_AnalysisYearType=Notes!$A$11,ResultsRTI!C20,ResultsRTI!E20)","v":64.334474528609974},{"$f":"AND(IsChecked_RTI_D4TSA,ISNUMBER(Q19))","v":false},{"$f":"IF(AND(Q19>0,S19),Q19,99999999999)","v":99999999999},{"$f":"IF(AND(R19>0,S19),R19,99999999999)","v":99999999999},{"$f":"RANK(T19,$T$17:$T$55,1)","v":1},{"$f":"RANK(U19,$U$17:$U$55,1)","v":1},{"$f":"IF($V$15,V19+0.01*W19,W19+0.01*V19)","v":1.01},{"$f":"RANK(X19,$X$17:$X$55,1)","v":1}]
[null,"Fatal & Injury",20.199005250771741,44.135469277838226,64.334474528609974]
[{"$f":"Label_RTI_DDI","v":"Diverging Diamond"},"Total",27.621370125599867,50.314466286808255,77.935836412408122,{"$f":"IF(OR(AND(ISNUMBER(C21),C21>0),AND(ISNUMBER(E21),E21>0)),Y21,\"--\")","v":1},{"$f":"IF(AND('Control Strategy Selection'!W65),\"Yes\",\"No\")","v":"No"},{"$f":"IF(AND('Control Strategy Selection'!X65),\"Yes\",\"No\")","v":"No"},"CMF",{"$f":"IF(IsChecked_RTI_DDI,'RTI SSI Results'!C15,\"\")","v":""},{"$f":"IF(IsChecked_RTI_DDI,'RTI SSI Results'!C61,\"\")","v":""},{"$f":"IF(ISNUMBER(K21),_xlfn.RANK.EQ(K21,$K$17:$K$56),IF(ISNUMBER(J21),_xlfn.RANK.EQ(J21,$J$17:$J$56),\"--\"))","v":"--"},null,null,null,null,{"$f":"IF(Input_AnalysisYearType=Notes!$A$11,ResultsRTI!C21,ResultsRTI!E21)","v":77.935836412408122},{"$f":"IF(Input_AnalysisYearType=Notes!$A$11,ResultsRTI!C22,ResultsRTI!E22)","v":40.253250166056112},{"$f":"AND(IsChecked_RTI_DDI,ISNUMBER(Q21))","v":false},{"$f":"IF(AND(Q21>0,S21),Q21,99999999999)","v":99999999999},{"$f":"IF(AND(R21>0,S21),R21,99999999999)","v":99999999999},{"$f":"RANK(T21,$T$17:$T$55,1)","v":1},{"$f":"RANK(U21,$U$17:$U$55,1)","v":1},{"$f":"IF($V$15,V21+0.01*W21,W21+0.01*V21)","v":1.01},{"$f":"RANK(X21,$X$17:$X$55,1)","v":1}]
[null,"Fatal & Injury",12.628663111677241,27.624587054378871,40.253250166056112]
[{"$f":"Label_RTI_SPUI","v":"Single-Point Diamond"},"Total",37.66278628282484,55.779429586095524,93.442215868920357,{"$f":"IF(OR(AND(ISNUMBER(C23),C23>0),AND(ISNUMBER(E23),E23>0)),Y23,\"--\")","v":1},{"$f":"IF(AND('Control Strategy Selection'!W67),\"Yes\",\"No\")","v":"No"},{"$f":"IF(AND('Control Strategy Selection'!X67),\"Yes\",\"No\")","v":"No"},"Uncalibrated SPF",{"$f":"IF(IsChecked_RTI_SPUI,'RTI SSI Results'!C16,\"\")","v":""},{"$f":"IF(IsChecked_RTI_SPUI,'RTI SSI Results'!C62,\"\")","v":""},{"$f":"IF(ISNUMBER(K23),_xlfn.RANK.EQ(K23,$K$17:$K$56),IF(ISNUMBER(J23),_xlfn.RANK.EQ(J23,$J$17:$J$56),\"--\"))","v":"--"},null,null,null,null,{"$f":"IF(Input_AnalysisYearType=Notes!$A$11,ResultsRTI!C23,ResultsRTI!E23)","v":93.442215868920357},{"$f":"IF(Input_AnalysisYearType=Notes!$A$11,ResultsRTI!C24,ResultsRTI!E24)","v":17.26614862442937},{"$f":"AND(IsChecked_RTI_SPUI,ISNUMBER(Q23))","v":false},{"$f":"IF(AND(Q23>0,S23),Q23,99999999999)","v":99999999999},{"$f":"IF(AND(R23>0,S23),R23,99999999999)","v":99999999999},{"$f":"RANK(T23,$T$17:$T$55,1)","v":1},{"$f":"RANK(U23,$U$17:$U$55,1)","v":1},{"$f":"IF($V$15,V23+0.01*W23,W23+0.01*V23)","v":1.01},{"$f":"RANK(X23,$X$17:$X$55,1)","v":1}]
[null,"Fatal & Injury",6.9592877215325712,10.306860902896799,17.26614862442937]
[{"$f":"Label_RTI_D4MS","v":"Diamond Stop Control"},"Total",14.954217397839727,21.248550420565856,36.202767818405576,{"$f":"IF(OR(AND(ISNUMBER(C25),C25>0),AND(ISNUMBER(E25),E25>0)),Y25,\"--\")","v":1},{"$f":"IF(AND('Control Strategy Selection'!W69),\"Yes\",\"No\")","v":"No"},{"$f":"IF(AND('Control Strategy Selection'!X69),\"Yes\",\"No\")","v":"No"},"Uncalibrated SPF",{"$f":"IF(IsChecked_RTI_D4MS,'RTI SSI Results'!C17,\"\")","v":""},{"$f":"IF(IsChecked_RTI_D4MS,'RTI SSI Results'!C63,\"\")","v":""},{"$f":"IF(ISNUMBER(K25),_xlfn.RANK.EQ(K25,$K$17:$K$56),IF(ISNUMBER(J25),_xlfn.RANK.EQ(J25,$J$17:$J$56),\"--\"))","v":"--"},null,null,null,null,{"$f":"IF(Input_AnalysisYearType=Notes!$A$11,ResultsRTI!C25,ResultsRTI!E25)","v":36.202767818405576},{"$f":"IF(Input_AnalysisYearType=Notes!$A$11,ResultsRTI!C26,ResultsRTI!E26)","v":11.468148094672353},{"$f":"AND(IsChecked_RTI_D4MS,ISNUMBER(Q25))","v":false},{"$f":"IF(AND(Q25>0,S25),Q25,99999999999)","v":99999999999},{"$f":"IF(AND(R25>0,S25),R25,99999999999)","v":99999999999},{"$f":"RANK(T25,$T$17:$T$55,1)","v":1},{"$f":"RANK(U25,$U$17:$U$55,1)","v":1},{"$f":"IF($V$15,V25+0.01*W25,W25+0.01*V25)","v":1.01},{"$f":"RANK(X25,$X$17:$X$55,1)","v":1}]
[null,"Fatal & Injury",4.3965949272724885,7.0715531673998644,11.468148094672353]
[{"$f":"Label_RTI_TD","v":"Signalized Tight Diamond"},"Total",24.608435837551145,33.388035807453235,57.996471645004377,{"$f":"IF(OR(AND(ISNUMBER(C27),C27>0),AND(ISNUMBER(E27),E27>0)),Y27,\"--\")","v":1},{"$f":"IF(AND('Control Strategy Selection'!W71),\"Yes\",\"No\")","v":"Yes"},{"$f":"IF(AND('Control Strategy Selection'!X71),\"Yes\",\"No\")","v":"Yes"},"Uncalibrated SPF",{"$f":"IF(IsChecked_RTI_TD,'RTI SSI Results'!C20,\"\")","v":""},{"$f":"IF(IsChecked_RTI_TD,'RTI SSI Results'!C66,\"\")","v":""},{"$f":"IF(ISNUMBER(K27),_xlfn.RANK.EQ(K27,$K$17:$K$56),IF(ISNUMBER(J27),_xlfn.RANK.EQ(J27,$J$17:$J$56),\"--\"))","v":"--"},null,null,null,null,{"$f":"IF(Input_AnalysisYearType=Notes!$A$11,ResultsRTI!C27,ResultsRTI!E27)","v":57.996471645004377},{"$f":"IF(Input_AnalysisYearType=Notes!$A$11,ResultsRTI!C28,ResultsRTI!E28)","v":21.039818241952741},{"$f":"AND(IsChecked_RTI_TD,ISNUMBER(Q27))","v":false},{"$f":"IF(AND(Q27>0,S27),Q27,99999999999)","v":99999999999},{"$f":"IF(AND(R27>0,S27),R27,99999999999)","v":99999999999},{"$f":"RANK(T27,$T$17:$T$55,1)","v":1},{"$f":"RANK(U27,$U$17:$U$55,1)","v":1},{"$f":"IF($V$15,V27+0.01*W27,W27+0.01*V27)","v":1.01},{"$f":"RANK(X27,$X$17:$X$55,1)","v":1}]
[null,"Fatal & Injury",8.9931855220813599,12.046632719871381,21.039818241952741]
[{"$f":"Label_RTI_1LnRdbt","v":"Roundabout (1-lane)"},"Total",6.8236093767629988,8.0221603948682496,14.845769771631248,{"$f":"IF(OR(AND(ISNUMBER(C29),C29>0),AND(ISNUMBER(E29),E29>0)),Y29,\"--\")","v":1},{"$f":"IF(AND('Control Strategy Selection'!W68),\"Yes\",\"No\")","v":"No"},{"$f":"IF(AND('Control Strategy Selection'!X68),\"Yes\",\"No\")","v":"No"},"Uncalibrated SPF",{"$f":"IF(IsChecked_RTI_Rdbt1Ln,'RTI SSI Results'!C18,\"\")","v":""},{"$f":"IF(IsChecked_RTI_Rdbt1Ln,'RTI SSI Results'!C64,\"\")","v":""},{"$f":"IF(ISNUMBER(K29),_xlfn.RANK.EQ(K29,$K$17:$K$56),IF(ISNUMBER(J29),_xlfn.RANK.EQ(J29,$J$17:$J$56),\"--\"))","v":"--"},null,null,null,null,{"$f":"IF(Input_AnalysisYearType=Notes!$A$11,ResultsRTI!C29,ResultsRTI!E29)","v":14.845769771631248},{"$f":"IF(Input_AnalysisYearType=Notes!$A$11,ResultsRTI!C30,ResultsRTI!E30)","v":1.6185703748009164},{"$f":"AND(IsChecked_RTI_Rdbt1Ln,ISNUMBER(Q29))","v":false},{"$f":"IF(AND(Q29>0,S29),Q29,99999999999)","v":99999999999},{"$f":"IF(AND(R29>0,S29),R29,99999999999)","v":99999999999},{"$f":"RANK(T29,$T$17:$T$55,1)","v":1},{"$f":"RANK(U29,$U$17:$U$55,1)","v":1},{"$f":"IF($V$15,V29+0.01*W29,W29+0.01*V29)","v":1.01},{"$f":"RANK(X29,$X$17:$X$55,1)","v":1}]
[null,"Fatal & Injury",0.7269525646595042,0.89161781014141217,1.6185703748009164]
[{"$f":"Label_RTI_2LnRdbt","v":"Roundabout (2-lane)"},"Total",34.374901675465949,44.516510104882379,78.891411780348335,{"$f":"IF(OR(AND(ISNUMBER(C31),C31>0),AND(ISNUMBER(E31),E31>0)),Y31,\"--\")","v":1},{"$f":"IF(AND('Control Strategy Selection'!W69),\"Yes\",\"No\")","v":"No"},{"$f":"IF(AND('Control Strategy Selection'!X69),\"Yes\",\"No\")","v":"No"},"Uncalibrated SPF",{"$f":"IF(IsChecked_RTI_Rdbt2Ln,'RTI SSI Results'!C19,\"\")","v":""},{"$f":"IF(IsChecked_RTI_Rdbt2Ln,'RTI SSI Results'!C65,\"\")","v":""},{"$f":"IF(ISNUMBER(K31),_xlfn.RANK.EQ(K31,$K$17:$K$56),IF(ISNUMBER(J31),_xlfn.RANK.EQ(J31,$J$17:$J$56),\"--\"))","v":"--"},null,null,null,null,{"$f":"IF(Input_AnalysisYearType=Notes!$A$11,ResultsRTI!C31,ResultsRTI!E31)","v":78.891411780348335},{"$f":"IF(Input_AnalysisYearType=Notes!$A$11,ResultsRTI!C32,ResultsRTI!E32)","v":15.040853441325694},{"$f":"AND(IsChecked_RTI_Rdbt2Ln,ISNUMBER(Q31))","v":false},{"$f":"IF(AND(Q31>0,S31),Q31,99999999999)","v":99999999999},{"$f":"IF(AND(R31>0,S31),R31,99999999999)","v":99999999999},{"$f":"RANK(T31,$T$17:$T$55,1)","v":1},{"$f":"RANK(U31,$U$17:$U$55,1)","v":1},{"$f":"IF($V$15,V31+0.01*W31,W31+0.01*V31)","v":1.01},{"$f":"RANK(X31,$X$17:$X$55,1)","v":1}]
[null,"Fatal & Injury",6.4569518978859639,8.5839015434397297,15.040853441325694]
[{"$f":"Label_RTI_D3TS","v":"Half Diamond Signalized"},"Total",21.732127590109293,30.389483043606365,52.121610633715662,{"$f":"IF(OR(AND(ISNUMBER(C33),C33>0),AND(ISNUMBER(E33),E33>0)),Y33,\"--\")","v":1},{"$f":"IF(AND('Control Strategy Selection'!W85,'Control Strategy Selection'!W87),\"Yes\",\"No\")","v":"Yes"},{"$f":"IF(AND('Control Strategy Selection'!X85, 'Control Strategy Selection'!X87), \"Yes\", \"No\")","v":"Yes"},"Uncalibrated SPF",{"$f":"IF(IsChecked_RTI_D3TS,'RTI SSI Results'!C21,\"\")","v":""},{"$f":"IF(IsChecked_RTI_D3TS,'RTI SSI Results'!C67,\"\")","v":""},{"$f":"IF(ISNUMBER(K33),_xlfn.RANK.EQ(K33,$K$17:$K$56),IF(ISNUMBER(J33),_xlfn.RANK.EQ(J33,$J$17:$J$56),\"--\"))","v":"--"},null,null,null,"Half Diamond Signalized",{"$f":"IF(Input_AnalysisYearType=Notes!$A$11,ResultsRTI!C33,ResultsRTI!E33)","v":52.121610633715662},{"$f":"IF(Input_AnalysisYearType=Notes!$A$11,ResultsRTI!C34,ResultsRTI!E34)","v":26.46810015730102},{"$f":"AND(IsChecked_RTI_D3TS,ISNUMBER(Q33))","v":false},{"$f":"IF(AND(Q33>0,S33),Q33,99999999999)","v":99999999999},{"$f":"IF(AND(R33>0,S33),R33,99999999999)","v":99999999999},{"$f":"RANK(T33,$T$17:$T$55,1)","v":1},{"$f":"RANK(U33,$U$17:$U$55,1)","v":1},{"$f":"IF($V$15,V33+0.01*W33,W33+0.01*V33)","v":1.01},{"$f":"RANK(X33,$X$17:$X$55,1)","v":1}]
[null,"Fatal & Injury",10.817317164387065,15.650782992913953,26.46810015730102]
[{"$f":"Label_RTI_D3SC","v":"Half Diamond Stop Control"},"Total",16.599921394203825,23.189089891231369,39.789011285435194,{"$f":"IF(OR(AND(ISNUMBER(C35),C35>0),AND(ISNUMBER(E35),E35>0)),Y35,\"--\")","v":1},{"$f":"IF(AND('Control Strategy Selection'!W86,'Control Strategy Selection'!W88),\"Yes\",\"No\")","v":"Yes"},{"$f":"IF(AND('Control Strategy Selection'!X86, 'Control Strategy Selection'!X88), \"Yes\", \"No\")","v":"Yes"},"Uncalibrated SPF","--","--","--",null,null,null,null,{"$f":"IF(Input_AnalysisYearType=Notes!$A$11,ResultsRTI!C35,ResultsRTI!E35)","v":39.789011285435194},{"$f":"IF(Input_AnalysisYearType=Notes!$A$11,ResultsRTI!C36,ResultsRTI!E36)","v":20.892400566621504},{"$f":"AND(IsChecked_RTI_D3SC,ISNUMBER(Q35))","v":false},{"$f":"IF(AND(Q35>0,S35),Q35,99999999999)","v":99999999999},{"$f":"IF(AND(R35>0,S35),R35,99999999999)","v":99999999999},{"$f":"RANK(T35,$T$17:$T$55,1)","v":1},{"$f":"RANK(U35,$U$17:$U$55,1)","v":1},{"$f":"IF($V$15,V35+0.01*W35,W35+0.01*V35)","v":1.01},{"$f":"RANK(X35,$X$17:$X$55,1)","v":1}]
[null,"Fatal & Injury",8.6438172699341997,12.248583296687306,20.892400566621504]
[{"$f":"Label_RTI_A2TS","v":"Two Quadrant Partial Cloverleaf A Signalized"},"Total",36.084826807005037,47.48259488376776,83.56742169077279,{"$f":"IF(OR(AND(ISNUMBER(C37),C37>0),AND(ISNUMBER(E37),E37>0)),Y37,\"--\")","v":1},{"$f":"IF(AND('Control Strategy Selection'!W72),\"Yes\",\"No\")","v":"Yes"},{"$f":"IF(AND('Control Strategy Selection'!X72),\"Yes\",\"No\")","v":"Yes"},"Uncalibrated SPF",{"$f":"IF(IsChecked_RTI_A2TS,'RTI SSI Results'!C22,\"\")","v":""},{"$f":"IF(IsChecked_RTI_A2TS,'RTI SSI Results'!C68,\"\")","v":""},"--",null,null,null,null,{"$f":"IF(Input_AnalysisYearType=Notes!$A$11,ResultsRTI!C37,ResultsRTI!E37)","v":83.56742169077279},{"$f":"IF(Input_AnalysisYearType=Notes!$A$11,ResultsRTI!C38,ResultsRTI!E38)","v":31.366567332937557},{"$f":"AND(IsChecked_RTI_A2TS,ISNUMBER(Q37))","v":false},{"$f":"IF(AND(Q37>0,S37),Q37,99999999999)","v":99999999999},{"$f":"IF(AND(R37>0,S37),R37,99999999999)","v":99999999999},{"$f":"RANK(T37,$T$17:$T$55,1)","v":1},{"$f":"RANK(U37,$U$17:$U$55,1)","v":1},{"$f":"IF($V$15,V37+0.01*W37,W37+0.01*V37)","v":1.01},{"$f":"RANK(X37,$X$17:$X$55,1)","v":1}]
[null,"Fatal & Injury",13.194637684791243,18.171929648146314,31.366567332937557]
[{"$f":"Label_RTI_A2SC","v":"Two Quadrant Partial Cloverleaf A Stop Control"},"Total",24.429337334337703,32.333376279114447,56.762713613452149,{"$f":"IF(OR(AND(ISNUMBER(C39),C39>0),AND(ISNUMBER(E39),E39>0)),Y39,\"--\")","v":1},{"$f":"IF(AND('Control Strategy Selection'!W73),\"Yes\",\"No\")","v":"Yes"},{"$f":"IF(AND('Control Strategy Selection'!X73),\"Yes\",\"No\")","v":"Yes"},"Uncalibrated SPF","--","--","--",null,null,null,"Two Quadrant Partial Cloverleaf A Stop Control",{"$f":"IF(Input_AnalysisYearType=Notes!$A$11,ResultsRTI!C39,ResultsRTI!E39)","v":56.762713613452149},{"$f":"IF(Input_AnalysisYearType=Notes!$A$11,ResultsRTI!C40,ResultsRTI!E40)","v":25.849877566697472},{"$f":"AND(IsChecked_RTI_A2SC,ISNUMBER(Q39))","v":false},{"$f":"IF(AND(Q39>0,S39),Q39,99999999999)","v":99999999999},{"$f":"IF(AND(R39>0,S39),R39,99999999999)","v":99999999999},{"$f":"RANK(T39,$T$17:$T$55,1)","v":1},{"$f":"RANK(U39,$U$17:$U$55,1)","v":1},{"$f":"IF($V$15,V39+0.01*W39,W39+0.01*V39)","v":1.01},{"$f":"RANK(X39,$X$17:$X$55,1)","v":1}]
[null,"Fatal & Injury",10.87399093016543,14.975886636532042,25.849877566697472]
[{"$f":"Label_RTI_A4TS","v":"Four Quadrant Partial Cloverleaf A Signalized"},"Total",38.951448056471449,53.669033954587647,92.620482011059096,{"$f":"IF(OR(AND(ISNUMBER(C41),C41>0),AND(ISNUMBER(E41),E41>0)),Y41,\"--\")","v":1},{"$f":"IF(AND('Control Strategy Selection'!W74),\"Yes\",\"No\")","v":"Yes"},{"$f":"IF(AND('Control Strategy Selection'!X74),\"Yes\",\"No\")","v":"Yes"},"Uncalibrated SPF",{"$f":"IF(IsChecked_RTI_A4TS,'RTI SSI Results'!C23,\"\")","v":""},{"$f":"IF(IsChecked_RTI_A4TS,'RTI SSI Results'!C69,\"\")","v":""},{"$f":"IF(ISNUMBER(K41),_xlfn.RANK.EQ(K41,$K$17:$K$56),IF(ISNUMBER(J41),_xlfn.RANK.EQ(J41,$J$17:$J$56),\"--\"))","v":"--"},null,null,null,"Four Quadrant Partial Cloverleaf A Signalized",{"$f":"IF(Input_AnalysisYearType=Notes!$A$11,ResultsRTI!C41,ResultsRTI!E41)","v":92.620482011059096},{"$f":"IF(Input_AnalysisYearType=Notes!$A$11,ResultsRTI!C42,ResultsRTI!E42)","v":48.53624465312739},{"$f":"AND(IsChecked_RTI_A4TS,ISNUMBER(Q41))","v":false},{"$f":"IF(AND(Q41>0,S41),Q41,99999999999)","v":99999999999},{"$f":"IF(AND(R41>0,S41),R41,99999999999)","v":99999999999},{"$f":"RANK(T41,$T$17:$T$55,1)","v":1},{"$f":"RANK(U41,$U$17:$U$55,1)","v":1},{"$f":"IF($V$15,V41+0.01*W41,W41+0.01*V41)","v":1.01},{"$f":"RANK(X41,$X$17:$X$55,1)","v":1}]
[null,"Fatal & Injury",19.797043883865733,28.739200769261657,48.53624465312739]
[{"$f":"Label_RTI_A4SC","v":"Four Quadrant Partial Cloverleaf A Stop Control"},"Total",18.643416697821358,25.847637848848212,44.491054546669574,{"$f":"IF(OR(AND(ISNUMBER(C43),C43>0),AND(ISNUMBER(E43),E43>0)),Y43,\"--\")","v":1},{"$f":"IF(AND('Control Strategy Selection'!W75),\"Yes\",\"No\")","v":"Yes"},{"$f":"IF(AND('Control Strategy Selection'!X75),\"Yes\",\"No\")","v":"Yes"},"Uncalibrated SPF","--","--","--",null,null,null,"Four Quadrant Partial Cloverleaf A Stop Control",{"$f":"IF(Input_AnalysisYearType=Notes!$A$11,ResultsRTI!C43,ResultsRTI!E43)","v":44.491054546669574},{"$f":"IF(Input_AnalysisYearType=Notes!$A$11,ResultsRTI!C44,ResultsRTI!E44)","v":25.841697807678401},{"$f":"AND(IsChecked_RTI_A4SC,ISNUMBER(Q43))","v":false},{"$f":"IF(AND(Q43>0,S43),Q43,99999999999)","v":99999999999},{"$f":"IF(AND(R43>0,S43),R43,99999999999)","v":99999999999},{"$f":"RANK(T43,$T$17:$T$55,1)","v":1},{"$f":"RANK(U43,$U$17:$U$55,1)","v":1},{"$f":"IF($V$15,V43+0.01*W43,W43+0.01*V43)","v":1.01},{"$f":"RANK(X43,$X$17:$X$55,1)","v":1}]
[null,"Fatal & Injury",10.540354516266483,15.301343291411916,25.841697807678401]
[{"$f":"Label_RTI_B2TS","v":"Two Quadrant Partial Cloverleaf B Signalized"},"Total",29.171898567221614,38.28709933831091,67.458997905532527,{"$f":"IF(OR(AND(ISNUMBER(C45),C45>0),AND(ISNUMBER(E45),E45>0)),Y45,\"--\")","v":1},{"$f":"IF(AND('Control Strategy Selection'!W76),\"Yes\",\"No\")","v":"Yes"},{"$f":"IF(AND('Control Strategy Selection'!X76),\"Yes\",\"No\")","v":"Yes"},"Uncalibrated SPF",{"$f":"IF(IsChecked_RTI_B2TS,'RTI SSI Results'!C24,\"\")","v":""},{"$f":"IF(IsChecked_RTI_B2TS,'RTI SSI Results'!C70,\"\")","v":""},"--",null,null,null,"Two Quadrant Partial Cloverleaf B Signalized",{"$f":"IF(Input_AnalysisYearType=Notes!$A$11,ResultsRTI!C45,ResultsRTI!E45)","v":67.458997905532527},{"$f":"IF(Input_AnalysisYearType=Notes!$A$11,ResultsRTI!C46,ResultsRTI!E46)","v":22.92338701160384},{"$f":"AND(IsChecked_RTI_B2TS,ISNUMBER(Q45))","v":false},{"$f":"IF(AND(Q45>0,S45),Q45,99999999999)","v":99999999999},{"$f":"IF(AND(R45>0,S45),R45,99999999999)","v":99999999999},{"$f":"RANK(T45,$T$17:$T$55,1)","v":1},{"$f":"RANK(U45,$U$17:$U$55,1)","v":1},{"$f":"IF($V$15,V45+0.01*W45,W45+0.01*V45)","v":1.01},{"$f":"RANK(X45,$X$17:$X$55,1)","v":1}]
[null,"Fatal & Injury",9.6429355152531286,13.280451496350711,22.92338701160384]
[{"$f":"Label_RTI_B2SC","v":"Two Quadrant Partial Cloverleaf B Stop Control"},"Total",24.429337334337703,32.333376279114447,56.762713613452149,{"$f":"IF(OR(AND(ISNUMBER(C47),C47>0),AND(ISNUMBER(E47),E47>0)),Y47,\"--\")","v":1},{"$f":"IF(AND('Control Strategy Selection'!W77),\"Yes\",\"No\")","v":"Yes"},{"$f":"IF(AND('Control Strategy Selection'!X77),\"Yes\",\"No\")","v":"Yes"},"Uncalibrated SPF","--","--","--",null,null,null,"Two Quadrant Partial Cloverleaf B Stop Control",{"$f":"IF(Input_AnalysisYearType=Notes!$A$11,ResultsRTI!C47,ResultsRTI!E47)","v":56.762713613452149},{"$f":"IF(Input_AnalysisYearType=Notes!$A$11,ResultsRTI!C48,ResultsRTI!E48)","v":25.849877566697472},{"$f":"AND(IsChecked_RTI_B2SC,ISNUMBER(Q47))","v":false},{"$f":"IF(AND(Q47>0,S47),Q47,99999999999)","v":99999999999},{"$f":"IF(AND(R47>0,S47),R47,99999999999)","v":99999999999},{"$f":"RANK(T47,$T$17:$T$55,1)","v":1},{"$f":"RANK(U47,$U$17:$U$55,1)","v":1},{"$f":"IF($V$15,V47+0.01*W47,W47+0.01*V47)","v":1.01},{"$f":"RANK(X47,$X$17:$X$55,1)","v":1}]
[null,"Fatal & Injury",10.87399093016543,14.975886636532042,25.849877566697472]
[{"$f":"Label_RTI_B4TS","v":"Four Quadrant Partial Cloverleaf B Signalized"},"Total",36.594083697320627,55.354323273824107,91.948406971144735,{"$f":"IF(OR(AND(ISNUMBER(C49),C49>0),AND(ISNUMBER(E49),E49>0)),Y49,\"--\")","v":1},{"$f":"IF(AND('Control Strategy Selection'!W78),\"Yes\",\"No\")","v":"Yes"},{"$f":"IF(AND('Control Strategy Selection'!X78),\"Yes\",\"No\")","v":"Yes"},"Uncalibrated SPF",{"$f":"IF(IsChecked_RTI_B4TS,'RTI SSI Results'!C25,\"\")","v":""},{"$f":"IF(IsChecked_RTI_B4TS,'RTI SSI Results'!C71,\"\")","v":""},{"$f":"IF(ISNUMBER(K49),_xlfn.RANK.EQ(K49,$K$17:$K$56),IF(ISNUMBER(J49),_xlfn.RANK.EQ(J49,$J$17:$J$56),\"--\"))","v":"--"},null,null,null,"Four Quadrant Partial Cloverleaf B Signalized",{"$f":"IF(Input_AnalysisYearType=Notes!$A$11,ResultsRTI!C49,ResultsRTI!E49)","v":91.948406971144735},{"$f":"IF(Input_AnalysisYearType=Notes!$A$11,ResultsRTI!C50,ResultsRTI!E50)","v":51.575976948739104},{"$f":"AND(IsChecked_RTI_B4TS,ISNUMBER(Q49))","v":false},{"$f":"IF(AND(Q49>0,S49),Q49,99999999999)","v":99999999999},{"$f":"IF(AND(R49>0,S49),R49,99999999999)","v":99999999999},{"$f":"RANK(T49,$T$17:$T$55,1)","v":1},{"$f":"RANK(U49,$U$17:$U$55,1)","v":1},{"$f":"IF($V$15,V49+0.01*W49,W49+0.01*V49)","v":1.01},{"$f":"RANK(X49,$X$17:$X$55,1)","v":1}]
[null,"Fatal & Injury",19.943055199140019,31.632921749599085,51.575976948739104]
[{"$f":"Label_RTI_B4SC","v":"Four Quadrant Partial Cloverleaf B Stop Control"},"Total",41.092955555784108,62.323035774686751,103.41599133047086,{"$f":"IF(OR(AND(ISNUMBER(C51),C51>0),AND(ISNUMBER(E51),E51>0)),Y51,\"--\")","v":1},{"$f":"IF(AND('Control Strategy Selection'!W79),\"Yes\",\"No\")","v":"Yes"},{"$f":"IF(AND('Control Strategy Selection'!X79),\"Yes\",\"No\")","v":"Yes"},"Uncalibrated SPF","--","--","--",null,null,null,"Four Quadrant Partial Cloverleaf B Stop Control",{"$f":"IF(Input_AnalysisYearType=Notes!$A$11,ResultsRTI!C51,ResultsRTI!E51)","v":103.41599133047086},{"$f":"IF(Input_AnalysisYearType=Notes!$A$11,ResultsRTI!C52,ResultsRTI!E52)","v":60.533585218227358},{"$f":"AND(IsChecked_RTI_B4SC,ISNUMBER(Q51))","v":false},{"$f":"IF(AND(Q51>0,S51),Q51,99999999999)","v":99999999999},{"$f":"IF(AND(R51>0,S51),R51,99999999999)","v":99999999999},{"$f":"RANK(T51,$T$17:$T$55,1)","v":1},{"$f":"RANK(U51,$U$17:$U$55,1)","v":1},{"$f":"IF($V$15,V51+0.01*W51,W51+0.01*V51)","v":1.01},{"$f":"RANK(X51,$X$17:$X$55,1)","v":1}]
[null,"Fatal & Injury",23.406723494715457,37.126861723511901,60.533585218227358]
[{"$f":"Label_RTI_Other1","v":"Other 1"},"Total",0,0,0,{"$f":"IF(OR(AND(ISNUMBER(C53),C53>0),AND(ISNUMBER(E53),E53>0)),Y53,\"--\")","v":"--"},"N/A","N/A","CMF","--","--","--",null,null,null,"Other 1",{"$f":"IF(Input_AnalysisYearType=Notes!$A$11,ResultsRTI!C53,ResultsRTI!E53)","v":0},{"$f":"IF(Input_AnalysisYearType=Notes!$A$11,ResultsRTI!C54,ResultsRTI!E54)","v":0},{"$f":"AND(IsChecked_RTI_Other1,ISNUMBER(Q53))","v":false},{"$f":"IF(AND(Q53>0,S53),Q53,99999999999)","v":99999999999},{"$f":"IF(AND(R53>0,S53),R53,99999999999)","v":99999999999},{"$f":"RANK(T53,$T$17:$T$55,1)","v":1},{"$f":"RANK(U53,$U$17:$U$55,1)","v":1},{"$f":"IF($V$15,V53+0.01*W53,W53+0.01*V53)","v":1.01},{"$f":"RANK(X53,$X$17:$X$55,1)","v":1}]
[null,"Fatal & Injury",0,0,0]
[{"$f":"Label_RTI_Other2","v":"Other 2"},"Total",0,0,0,{"$f":"IF(OR(AND(ISNUMBER(C55),C55>0),AND(ISNUMBER(E55),E55>0)),Y55,\"--\")","v":"--"},"N/A","N/A","CMF","--","--","--",null,null,null,"Other 2",{"$f":"IF(Input_AnalysisYearType=Notes!$A$11,ResultsRTI!C55,ResultsRTI!E55)","v":0},{"$f":"IF(Input_AnalysisYearType=Notes!$A$11,ResultsRTI!C56,ResultsRTI!E56)","v":0},{"$f":"AND(IsChecked_RTI_Other2,ISNUMBER(Q55))","v":false},{"$f":"IF(AND(Q55>0,S55),Q55,99999999999)","v":99999999999},{"$f":"IF(AND(R55>0,S55),R55,99999999999)","v":99999999999},{"$f":"RANK(T55,$T$17:$T$55,1)","v":1},{"$f":"RANK(U55,$U$17:$U$55,1)","v":1},{"$f":"IF($V$15,V55+0.01*W55,W55+0.01*V55)","v":1.01},{"$f":"RANK(X55,$X$17:$X$55,1)","v":1}]
[null,"Fatal & Injury",0,0,0]

{"sheet":"RTI SSI Results","index":39,"n_rows":72,"n_cols":25,"rows_kept":72,"cut":false,"hidden":true,"merged":[[10,11,10,14],[10,15,10,18],[54,0,55,6],[56,0,57,0],[56,1,57,1],[56,2,57,2],[56,3,56,6],[56,7,56,10],[56,11,56,14],[56,15,56,18],[10,7,10,10],[8,0,9,6],[10,0,11,0],[10,1,11,1],[10,2,11,2],[10,3,10,6],[0,0,0,18],[1,0,1,18],[2,0,2,18],[3,0,3,18],[5,0,6,0],[5,1,6,3],[5,4,6,5]]}
["Federal Highway Administration (FHWA)",null,null,null,null,null,null,null,null,null,null,null,null,null,null,null,null,null,null,null,null,null,null,"Score_O","SSI_RTI_ResultsRange_Score_O"]
["Safety Performance for Intersection Control Evaluation Tool",null,null,null,null,null,null,null,null,null,null,null,null,null,null,null,null,null,null,null,"is 2x2?",{"$f":"AND(AND(Input_AGI_R2_CL_L1=2,Input_AGI_R2_CL_L2=2,Input_AGI_R2_CL_L3=2),IF($V$1,TRUE,Input_AGI_R2_CL_L4=2))","v":true},null,"Score_D","SSI_RTI_ResultsRange_Score_D"]
["Safe System for Intersection (SSI) Results",null,null,null,null,null,null,null,null,null,null,null,null,null,null,null,null,null,null,null,null,null,null,"Exp_O","SSI_RTI_ResultsRange_Exposure_O"]
["Summary of the safe system intersection results for each alternative",null,null,null,null,null,null,null,null,null,null,null,null,null,null,null,null,null,null,null,null,null,null,"Exp_D","SSI_RTI_ResultsRange_Exposure_D"]
[null,null,null,null,null,null,null,null,null,null,null,null,null,null,null,null,null,null,null,null,null,null,null,"ExistExp_O","SSI_RTI_ResultsRange_ExistExp_O"]
["Conversion of Existing Intersection Type:",null,null,null,"Select from Dropdown List",null,null,null,null,null,null,null,null,null,null,null,null,null,null,null,null,null,null,"ExistExp_D","SSI_RTI_ResultsRange_ExistExp_D"]
[null,null,null,null,null,null,null,null,null,null,null,null,null,null,null,null,null,null,null,null,null,null,null,"AvgPFSI_O","SSI_RTI_ResultsRange_AvgPFSI_O"]
[null,null,null,null,null,null,null,null,null,null,null,null,null,null,null,null,null,null,null,null,null,null,null,"AvgPFSI_D","SSI_RTI_ResultsRange_AvgPFSI_D"]
["Opening Year Results",null,null,null,null,null,null,null,null,null,null,null,null,null,null,null,null,null,null,null,null,null,null,"AvgComp_O","SSI_RTI_ResultsRange_AvgComp_O"]
[null,null,null,null,null,null,null,null,null,null,null,null,null,null,null,null,null,null,null,null,null,null,null,"AvgComp_D","SSI_RTI_ResultsRange_AvgComp_D"]
["Control Strategy","SSI Ref Worksheet Name","SSI Score","SSI Conflict Type Score",null,null,null,"Exposure (Relative to Existing)",null,null,null,"Average P(FSI)",null,null,null,"Average Complexity"]
[null,null,null,"Nonmotorized","Crossing","Merging","Diverging","Nonmotorized","Crossing","Merging","Diverging","Nonmotorized","Crossing","Merging","Diverging","Nonmotorized","Crossing","Merging","Diverging",null,null,null,null,"RTI"]
["Signalized Diamond",{"$f":"X13","v":"Conv_Sig"},{"$f":"IF($B13=\"--\",\"--\",HLOOKUP($B13,INDIRECT($Y$1),6,FALSE)*100)","v":100},{"$f":"IF($B13=\"--\",\"--\",HLOOKUP($B13,INDIRECT($Y$1),5,FALSE)*100)","v":100},{"$f":"IF($B13=\"--\",\"--\",HLOOKUP($B13,INDIRECT($Y$1),2,FALSE)*100)","v":100},{"$f":"IF($B13=\"--\",\"--\",HLOOKUP($B13,INDIRECT($Y$1),3,FALSE)*100)","v":100},{"$f":"IF($B13=\"--\",\"--\",HLOOKUP($B13,INDIRECT($Y$1),4,FALSE)*100)","v":100},{"$f":"IF($B13=\"--\",\"--\",HLOOKUP($B13,INDIRECT($Y$3),5,FALSE)/VLOOKUP(H$12,INDIRECT($Y$5),2,FALSE))","v":{"$error":"#N/A"}},{"$f":"IF($B13=\"--\",\"--\",HLOOKUP($B13,INDIRECT($Y$3),2,FALSE)/VLOOKUP(I$12,INDIRECT($Y$5),2,FALSE))","v":{"$error":"#N/A"}},{"$f":"IF($B13=\"--\",\"--\",HLOOKUP($B13,INDIRECT($Y$3),3,FALSE)/VLOOKUP(J$12,INDIRECT($Y$5),2,FALSE))","v":{"$error":"#N/A"}},{"$f":"IF($B13=\"--\",\"--\",HLOOKUP($B13,INDIRECT($Y$3),4,FALSE)/VLOOKUP(K$12,INDIRECT($Y$5),2,FALSE))","v":{"$error":"#N/A"}},{"$f":"IF($B13=\"--\",\"--\",HLOOKUP($B13,INDIRECT($Y$7),5,FALSE))","v":0.10590027669945962},{"$f":"IF($B13=\"--\",\"--\",HLOOKUP($B13,INDIRECT($Y$7),2,FALSE))","v":7.8276554592548418E-3},{"$f":"IF($B13=\"--\",\"--\",HLOOKUP($B13,INDIRECT($Y$7),3,FALSE))","v":1.4128424724417924E-3},{"$f":"IF($B13=\"--\",\"--\",HLOOKUP($B13,INDIRECT($Y$7),4,FALSE))","v":6.4277428415930062E-4},{"$f":"IF($B13=\"--\",\"--\",HLOOKUP($B13,INDIRECT($Y$9),5,FALSE))","v":0.18937500000000002},{"$f":"IF($B13=\"--\",\"--\",HLOOKUP($B13,INDIRECT($Y$9),2,FALSE))","v":0.16833333333333331},{"$f":"IF($B13=\"--\",\"--\",HLOOKUP($B13,INDIRECT($Y$9),3,FALSE))","v":0.16833333333333331},{"$f":"IF($B13=\"--\",\"--\",HLOOKUP($B13,INDIRECT($Y$9),4,FALSE))","v":1},null,null,null,null,"Conv_Sig"]
["Signalized Diamond (Alt)",{"$f":"X14","v":"Conv_Sig"},100,100,100,100,100,{"$f":"IF($B14=\"--\",\"--\",HLOOKUP($B14,INDIRECT($Y$3),5,FALSE)/VLOOKUP(H$12,INDIRECT($Y$5),2,FALSE))","v":{"$error":"#N/A"}},{"$f":"IF($B14=\"--\",\"--\",HLOOKUP($B14,INDIRECT($Y$3),2,FALSE)/VLOOKUP(I$12,INDIRECT($Y$5),2,FALSE))","v":{"$error":"#N/A"}},{"$f":"IF($B14=\"--\",\"--\",HLOOKUP($B14,INDIRECT($Y$3),3,FALSE)/VLOOKUP(J$12,INDIRECT($Y$5),2,FALSE))","v":{"$error":"#N/A"}},{"$f":"IF($B14=\"--\",\"--\",HLOOKUP($B14,INDIRECT($Y$3),4,FALSE)/VLOOKUP(K$12,INDIRECT($Y$5),2,FALSE))","v":{"$error":"#N/A"}},{"$f":"IF($B14=\"--\",\"--\",HLOOKUP($B14,INDIRECT($Y$7),5,FALSE))","v":0.10590027669945962},{"$f":"IF($B14=\"--\",\"--\",HLOOKUP($B14,INDIRECT($Y$7),2,FALSE))","v":7.8276554592548418E-3},{"$f":"IF($B14=\"--\",\"--\",HLOOKUP($B14,INDIRECT($Y$7),3,FALSE))","v":1.4128424724417924E-3},{"$f":"IF($B14=\"--\",\"--\",HLOOKUP($B14,INDIRECT($Y$7),4,FALSE))","v":6.4277428415930062E-4},{"$f":"IF($B14=\"--\",\"--\",HLOOKUP($B14,INDIRECT($Y$9),5,FALSE))","v":0.18937500000000002},{"$f":"IF($B14=\"--\",\"--\",HLOOKUP($B14,INDIRECT($Y$9),2,FALSE))","v":0.16833333333333331},{"$f":"IF($B14=\"--\",\"--\",HLOOKUP($B14,INDIRECT($Y$9),3,FALSE))","v":0.16833333333333331},{"$f":"IF($B14=\"--\",\"--\",HLOOKUP($B14,INDIRECT($Y$9),4,FALSE))","v":1},null,null,null,null,"Conv_Sig"]
["Diverging Diamond","DDI",100,100,100,100,100,{"$error":"#N/A"},{"$error":"#N/A"},{"$error":"#N/A"},{"$error":"#N/A"},{"$f":"IF($B15=\"--\",\"--\",HLOOKUP($B15,INDIRECT($Y$7),5,FALSE))","v":7.0737968158097159E-2},3.3637551692797651E-3,6.0602394799078745E-4,6.4277428415930062E-4,0.69187499999999991,0.16833333333333331,0.16833333333333331,1,null,null,null,null,"DDI"]
["Single-Point Diamond","SPUI",100,100,100,100,100,{"$error":"#N/A"},{"$error":"#N/A"},{"$error":"#N/A"},{"$error":"#N/A"},0.14120241605556563,7.9611599969504222E-3,1.4128424724417926E-3,6.4277428415930062E-4,0.31166666666666659,0.16833333333333328,0.2233333333333333,1,null,null,null,null,"SPUI"]
["Unsignalized Diamond","Conv_Ramp_Stop",100,100,100,100,100,{"$error":"#N/A"},{"$error":"#N/A"},{"$error":"#N/A"},{"$error":"#N/A"},0.10590027669945962,7.8276554592548418E-3,1.4128424724417924E-3,6.4277428415930062E-4,0.38697916666666654,0.2722222222222222,0.2722222222222222,1,null,null,null,null,"Conv_Ramp_Stop"]
["1-lane Roundabout","RTI_RAB1x1",100,100,100,100,100,{"$error":"#N/A"},{"$error":"#N/A"},{"$error":"#N/A"},{"$error":"#N/A"},0.33487358968598979,4.1698027385763175E-3,1.2274355939590512E-3,2.3240976485983762E-5,1.2222222222222223,0.61111111111111105,0.61111111111111105,1,null,null,null,null,"RTI_RAB1x1"]
["2-lane Roundabout","RTI_RAB2x2",100,100,100,100,100,{"$error":"#N/A"},{"$error":"#N/A"},{"$error":"#N/A"},{"$error":"#N/A"},0.33487358968598979,4.1698027385763175E-3,1.2274355939590512E-3,2.3240976485983762E-5,2.4444444444444446,1.2222222222222221,1.1712962962962963,1,null,null,null,null,{"$f":"IF($V$2,\"RTI_RAB2x2\",\"RTI_RAB2x1\")","v":"RTI_RAB2x2"}]
["Signalized Tight Diamond",{"$f":"X20","v":"TUDI"},100,100,100,100,100,{"$error":"#N/A"},{"$error":"#N/A"},{"$error":"#N/A"},{"$error":"#N/A"},0.11666126031247008,1.1756405303239695E-2,1.4128424724417924E-3,6.4277428415930062E-4,0.18703703703703703,0.16833333333333328,0.16833333333333331,1,null,null,null,null,"TUDI"]
["Half Diamond",{"$f":"X21","v":"Half_Diamond"},100,100,100,100,100,{"$error":"#N/A"},{"$error":"#N/A"},{"$error":"#N/A"},{"$error":"#N/A"},8.1019058820719109E-2,9.6384111929857493E-4,1.4128424724417924E-3,6.4277428415930062E-4,0.20958333333333326,0.16833333333333331,0.27833333333333327,1,null,null,null,null,"Half_Diamond"]
["Two Quadrant Partial Cloverleaf A","2_Quad_ParcloA",100,100,100,100,100,{"$error":"#N/A"},{"$error":"#N/A"},{"$error":"#N/A"},{"$error":"#N/A"},0.13241002846113872,3.4297852828781041E-3,1.4128424724417924E-3,6.4277428415930073E-4,0.2154761904761904,0.16833333333333331,0.27833333333333327,1,null,null,null,null,"2_Quad_ParcloA"]
["Four Quadrant Partial Cloverleaf A","4_Quad_ParcloA",100,100,100,100,100,{"$error":"#N/A"},{"$error":"#N/A"},{"$error":"#N/A"},{"$error":"#N/A"},6.7858610455766064E-2,1.4431392232699444E-3,1.3007641090613561E-4,9.6384111929857493E-4,0.2508333333333333,0.16833333333333331,0.33333333333333326,1,null,null,null,null,"4_Quad_ParcloA"]
["Two Quadrant Partial Cloverleaf B","2_Quad_ParcloB",100,100,100,100,100,{"$error":"#N/A"},{"$error":"#N/A"},{"$error":"#N/A"},{"$error":"#N/A"},0.11556436214015346,3.4297852828781041E-3,1.4128424724417924E-3,6.4277428415930062E-4,0.2154761904761904,0.16833333333333331,0.33333333333333326,1,null,null,null,null,"2_Quad_ParcloB"]
["Four Quadrant Partial Cloverleaf B","4_Quad_ParcloB",100,100,100,100,100,{"$error":"#N/A"},{"$error":"#N/A"},{"$error":"#N/A"},{"$error":"#N/A"},6.9298289306931618E-2,4.8454301532720542E-4,1.6818775846398825E-3,3.275365630385418E-4,0.2508333333333333,0.16833333333333331,0.33333333333333326,1,null,null,null,null,"4_Quad_ParcloB"]
["test"]
[]
[]
[]
[]
[]
[]
[]
[]
[]
[]
[]
[]
[]
[]
[]
[]
[]
[]
[]
[]
[]
[]
[]
[]
[]
[]
[]
[]
["Design Year Results"]
[]
["Control Strategy","SSI Ref Worksheet Name","SSI Score","SSI Conflict Type Score",null,null,null,"Exposure (Relative to Existing)",null,null,null,"Average P(FSI)",null,null,null,"Average Complexity"]
[null,null,null,"Nonmotorized","Crossing","Merging","Diverging","Nonmotorized","Crossing","Merging","Diverging","Nonmotorized","Crossing","Merging","Diverging","Nonmotorized","Crossing","Merging","Diverging"]
["Signalized Diamond",{"$f":"X13","v":"Conv_Sig"},{"$f":"IF($B59=\"--\",\"--\",HLOOKUP($B59,INDIRECT($Y$2),6,FALSE)*100)","v":100},{"$f":"IF($B59=\"--\",\"--\",HLOOKUP($B59,INDIRECT($Y$2),5,FALSE)*100)","v":100},{"$f":"IF($B59=\"--\",\"--\",HLOOKUP($B59,INDIRECT($Y$2),2,FALSE)*100)","v":100},{"$f":"IF($B59=\"--\",\"--\",HLOOKUP($B59,INDIRECT($Y$2),3,FALSE)*100)","v":100},{"$f":"IF($B59=\"--\",\"--\",HLOOKUP($B59,INDIRECT($Y$2),4,FALSE)*100)","v":100},{"$f":"IF($B59=\"--\",\"--\",HLOOKUP($B59,INDIRECT($Y$4),5,FALSE)/VLOOKUP(H$58,INDIRECT($Y$6),2,FALSE))","v":{"$error":"#N/A"}},{"$f":"IF($B59=\"--\",\"--\",HLOOKUP($B59,INDIRECT($Y$4),2,FALSE)/VLOOKUP(I$58,INDIRECT($Y$6),2,FALSE))","v":{"$error":"#N/A"}},{"$f":"IF($B59=\"--\",\"--\",HLOOKUP($B59,INDIRECT($Y$4),3,FALSE)/VLOOKUP(J$58,INDIRECT($Y$6),2,FALSE))","v":{"$error":"#N/A"}},{"$f":"IF($B59=\"--\",\"--\",HLOOKUP($B59,INDIRECT($Y$4),4,FALSE)/VLOOKUP(K$58,INDIRECT($Y$6),2,FALSE))","v":{"$error":"#N/A"}},{"$f":"IF($B59=\"--\",\"--\",HLOOKUP($B59,INDIRECT($Y$8),5,FALSE))","v":0.10590027669945962},{"$f":"IF($B59=\"--\",\"--\",HLOOKUP($B59,INDIRECT($Y$8),2,FALSE))","v":7.8276554592548418E-3},{"$f":"IF($B59=\"--\",\"--\",HLOOKUP($B59,INDIRECT($Y$8),3,FALSE))","v":1.4128424724417924E-3},{"$f":"IF($B59=\"--\",\"--\",HLOOKUP($B59,INDIRECT($Y$8),4,FALSE))","v":6.4277428415930062E-4},{"$f":"IF($B59=\"--\",\"--\",HLOOKUP($B59,INDIRECT($Y$10),5,FALSE))","v":0.18937500000000002},{"$f":"IF($B59=\"--\",\"--\",HLOOKUP($B59,INDIRECT($Y$10),2,FALSE))","v":0.16833333333333331},{"$f":"IF($B59=\"--\",\"--\",HLOOKUP($B59,INDIRECT($Y$10),3,FALSE))","v":0.16833333333333331},{"$f":"IF($B59=\"--\",\"--\",HLOOKUP($B59,INDIRECT($Y$10),4,FALSE))","v":1}]
["Signalized Diamond (Alt)","Conv_Sig",100,100,100,100,100,{"$f":"IF($B60=\"--\",\"--\",HLOOKUP($B60,INDIRECT($Y$4),5,FALSE)/VLOOKUP(H$58,INDIRECT($Y$6),2,FALSE))","v":{"$error":"#N/A"}},{"$f":"IF($B60=\"--\",\"--\",HLOOKUP($B60,INDIRECT($Y$4),2,FALSE)/VLOOKUP(I$58,INDIRECT($Y$6),2,FALSE))","v":{"$error":"#N/A"}},{"$f":"IF($B60=\"--\",\"--\",HLOOKUP($B60,INDIRECT($Y$4),3,FALSE)/VLOOKUP(J$58,INDIRECT($Y$6),2,FALSE))","v":{"$error":"#N/A"}},{"$f":"IF($B60=\"--\",\"--\",HLOOKUP($B60,INDIRECT($Y$4),4,FALSE)/VLOOKUP(K$58,INDIRECT($Y$6),2,FALSE))","v":{"$error":"#N/A"}},{"$f":"IF($B60=\"--\",\"--\",HLOOKUP($B60,INDIRECT($Y$8),5,FALSE))","v":0.10590027669945962},{"$f":"IF($B60=\"--\",\"--\",HLOOKUP($B60,INDIRECT($Y$8),2,FALSE))","v":7.8276554592548418E-3},{"$f":"IF($B60=\"--\",\"--\",HLOOKUP($B60,INDIRECT($Y$8),3,FALSE))","v":1.4128424724417924E-3},{"$f":"IF($B60=\"--\",\"--\",HLOOKUP($B60,INDIRECT($Y$8),4,FALSE))","v":6.4277428415930062E-4},{"$f":"IF($B60=\"--\",\"--\",HLOOKUP($B60,INDIRECT($Y$10),5,FALSE))","v":0.18937500000000002},{"$f":"IF($B60=\"--\",\"--\",HLOOKUP($B60,INDIRECT($Y$10),2,FALSE))","v":0.16833333333333331},{"$f":"IF($B60=\"--\",\"--\",HLOOKUP($B60,INDIRECT($Y$10),3,FALSE))","v":0.16833333333333331},{"$f":"IF($B60=\"--\",\"--\",HLOOKUP($B60,INDIRECT($Y$10),4,FALSE))","v":1}]
["Diverging Diamond","DDI",100,100,100,100,100,{"$error":"#N/A"},{"$error":"#N/A"},{"$error":"#N/A"},{"$error":"#N/A"},7.0737968158097159E-2,3.3637551692797651E-3,6.0602394799078745E-4,6.4277428415930062E-4,0.69187499999999991,0.16833333333333331,0.16833333333333331,1]
["Single-Point Diamond","SPUI",100,100,100,100,100,{"$error":"#N/A"},{"$error":"#N/A"},{"$error":"#N/A"},{"$error":"#N/A"},0.14120241605556563,7.9611599969504222E-3,1.4128424724417926E-3,6.4277428415930062E-4,0.31166666666666659,0.16833333333333328,0.2233333333333333,1]
["Unsignalized Diamond","Conv_Ramp_Stop",100,100,100,100,100,{"$error":"#N/A"},{"$error":"#N/A"},{"$error":"#N/A"},{"$error":"#N/A"},0.10590027669945962,7.8276554592548418E-3,1.4128424724417924E-3,6.4277428415930062E-4,0.38697916666666654,0.2722222222222222,0.2722222222222222,1]
["1-lane Roundabout","RTI_RAB1x1",100,100,100,100,100,{"$error":"#N/A"},{"$error":"#N/A"},{"$error":"#N/A"},{"$error":"#N/A"},0.33487358968598979,4.1698027385763175E-3,1.2274355939590512E-3,2.3240976485983762E-5,1.2222222222222223,0.61111111111111105,0.61111111111111105,1]
["2-lane Roundabout","RTI_RAB2x2",100,100,100,100,100,{"$error":"#N/A"},{"$error":"#N/A"},{"$error":"#N/A"},{"$error":"#N/A"},0.33487358968598979,4.1698027385763175E-3,1.2274355939590512E-3,2.3240976485983762E-5,2.4444444444444446,1.2222222222222221,1.1712962962962963,1]
["Signalized Tight Diamond","TUDI",100,100,100,100,100,{"$error":"#N/A"},{"$error":"#N/A"},{"$error":"#N/A"},{"$error":"#N/A"},0.11666126031247008,1.1756405303239695E-2,1.4128424724417924E-3,6.4277428415930062E-4,0.18703703703703703,0.16833333333333328,0.16833333333333331,1]
["Half Diamond",{"$f":"X21","v":"Half_Diamond"},100,100,100,100,100,{"$error":"#N/A"},{"$error":"#N/A"},{"$error":"#N/A"},{"$error":"#N/A"},8.1019058820719109E-2,9.6384111929857493E-4,1.4128424724417924E-3,6.4277428415930062E-4,0.20958333333333326,0.16833333333333331,0.27833333333333327,1]
["Two Quadrant Partial Cloverleaf A","2_Quad_ParcloA",100,100,100,100,100,{"$error":"#N/A"},{"$error":"#N/A"},{"$error":"#N/A"},{"$error":"#N/A"},0.13241002846113872,3.4297852828781041E-3,1.4128424724417924E-3,6.4277428415930073E-4,0.2154761904761904,0.16833333333333331,0.27833333333333327,1]
["Four Quadrant Partial Cloverleaf A","4_Quad_ParcloA",100,100,100,100,100,{"$error":"#N/A"},{"$error":"#N/A"},{"$error":"#N/A"},{"$error":"#N/A"},6.7858610455766064E-2,1.4431392232699444E-3,1.3007641090613561E-4,9.6384111929857493E-4,0.2508333333333333,0.16833333333333331,0.33333333333333326,1]
["Two Quadrant Partial Cloverleaf B","2_Quad_ParcloB",100,100,100,100,100,{"$error":"#N/A"},{"$error":"#N/A"},{"$error":"#N/A"},{"$error":"#N/A"},0.11556436214015346,3.4297852828781041E-3,1.4128424724417924E-3,6.4277428415930062E-4,0.2154761904761904,0.16833333333333331,0.33333333333333326,1]
["Four Quadrant Partial Cloverleaf B",{"$f":"X25","v":"4_Quad_ParcloB"},100,100,100,100,100,{"$error":"#N/A"},{"$error":"#N/A"},{"$error":"#N/A"},{"$error":"#N/A"},6.9298289306931618E-2,4.8454301532720542E-4,1.6818775846398825E-3,3.275365630385418E-4,0.2508333333333333,0.16833333333333331,0.33333333333333326,1]
["test"]

{"sheet":"Notes","index":40,"n_rows":77,"n_cols":18,"rows_kept":77,"cut":false,"hidden":true,"merged":[]}
["Notes:"]
["Alternative Selection Sheet"]
["Number of Alternatives"]
[1]
[2]
[3]
[4]
[5]
[]
["Analysis Year"]
["Opening Year Only"]
["Opening and Design Year"]
[]
["Intersection Type"]
["At-Grade Intersection"]
["Ramp Terminal Intersection"]
[]
["At-Grade Intersctions",null,null,null,null,null,null,null,null,"Ramp Terminal Intersections",null,null,null,null,null,null,"Predictive Inputs"]
["Traffic Signal",null,null,null,null,null,null,null,null,"Conventional Traffic Signal",null,null,null,null,null,null,"Yes"]
["Minor Road Stop",null,null,null,null,null,null,null,null,"Crossover Traffic Signal (of Diverging Diamond Interchange)",null,null,null,null,null,null,"No"]
["All Way Stop",null,null,null,null,null,null,null,null,"Single-Point Diamond Traffic Signal",null,null,null,null,null,null,"N/A"]
["1-lane Roundabout",null,null,null,null,null,null,null,null,"Minor Road (ramp) Stop",null,null,null,null,null,null,"Left Turn Phasing"]
["2-lane Roundabout",null,null,null,null,null,null,null,null,"1-lane Roundabout",null,null,null,null,null,null,"Protected"]
["Displaced Left Turn (DLT)",null,null,null,null,null,null,null,null,"2-lane Roundabout",null,null,null,null,null,null,"Permissive"]
["Median U-Turn (MUT)",null,null,null,null,null,null,null,null,"Freeway Orientation",null,null,null,null,null,null,"Protected/Permissive or Permissive/Protected"]
["Signalized Restricted Crossing U-Turn (RCUT), also known Superstreet",null,null,null,null,null,null,null,null,"North-South",null,null,null,null,null,null,"N/A"]
["Unsignalized Restricted Crossing U-Turn (RCUT), also known as J-Turn",null,null,null,null,null,null,null,null,"East-West"]
["Continuous Green-T Intersection"]
["Jughandle",null,null,null,null,null,null,null,null,null,null,null,null,null,null,null,0,0]
[null,null,null,null,null,null,null,null,null,null,null,null,null,null,null,null,1,1]
["Facility Type",null,null,null,null,null,null,null,null,null,null,null,null,null,null,null,2,2]
["On Rural Two Lane Highway",null,null,null,null,null,null,null,null,null,null,null,null,null,null,null,3,3]
["On Rural Multilane Highway",null,null,null,null,null,null,null,null,null,null,null,null,null,null,null,4,4]
["On Urban and Suburban Arterial",null,null,null,null,null,null,null,null,"Type",null,null,null,null,null,null,"N/A",5]
["N/A",null,null,null,null,null,null,null,null,"Three-leg terminals with diagonal exit ramp (D3ex)",null,null,null,null,null,null,null,6]
[null,null,null,null,null,null,null,null,null,"Three-leg terminals with diagonal entrance ramp (D3en)",null,null,null,null,null,null,null,7]
[null,null,null,null,null,null,null,null,null,"Four-leg terminals with diagonal ramps (D4)",null,null,null,null,null,null,null,8]
[null,null,null,null,null,null,null,null,null,"Four-leg terminals at four-quadrant parclo A (A4)"]
[null,null,null,null,null,null,null,null,null,"Four-leg terminals at four-quadrant parclo B (B4)"]
[null,null,null,null,null,null,null,null,null,"Three-leg terminals at two-quadrant parclo A (A2)"]
[null,null,null,null,null,null,null,null,null,"Three-leg terminals at two-quadrant parclo B (B2)"]
[null,null,null,null,null,null,null,null,null,"All types"]
[null,null,null,null,null,null,null,null,null,"1-lane roundabout with 3 legs"]
[null,null,null,null,null,null,null,null,null,"1-lane roundabout with 4 legs"]
[null,null,null,null,null,null,null,null,null,"2-lane roundabout with 3 legs"]
[null,null,null,null,null,null,null,null,null,"2-lane roundabout with 4 legs"]
["Number of Legs"]
["3-leg",null,null,null,null,null,null,null,null,"Area Type"]
["4-leg",null,null,null,null,null,null,null,null,"Urban"]
["N/A",null,null,null,null,null,null,null,null,"Rural"]
[]
[]
["1-way/2-way"]
["2-way Intersecting 2-way",null,null,null,null,null,null,null,null,"Ramp Terminal \"Other\" Base Intersections"]
["1-way Intersecting 2-way",null,null,null,null,null,null,null,null,{"$f":"Label_RTI_D4TS","v":"Diamond Signalized"}]
["1-way Intersecting 1-way",null,null,null,null,null,null,null,null,{"$f":"Label_RTI_D4TSA","v":"Diamond Signalized (Alt)"}]
[null,null,null,null,null,null,null,null,null,{"$f":"Label_RTI_D4MS","v":"Diamond Stop Control"}]
[]
["Number of Lanes"]
["5 or fewer"]
["6 or more"]
[]
[]
[]
["Major Street Approach Speed",null,null,null,null,null,null,null,null,"3ST"]
["Less than 50 mph",null,null,null,null,null,null,null,null,"4ST"]
["50+ mph",null,null,null,null,null,null,null,null,"3SG"]
[null,null,null,null,null,null,null,null,null,"4SG"]
[null,null,null,null,null,null,null,null,null,"3AWSC"]
[null,null,null,null,null,null,null,null,null,"4AWSC"]
[]
[]
[]
[]
["Ranking Priority"]
["Total Crashes"]
["Fatal/Injury Crashes"]

{"sheet":"User Selections","index":41,"n_rows":60,"n_cols":8,"rows_kept":60,"cut":false,"hidden":true,"merged":[[44,0,46,0],[42,4,42,5],[42,6,42,7]]}
["Alternatives"]
["At-Grade Selections"]
["Traffic Signal #1",{"$f":"IF('Control Strategy Selection'!B19:C19=Notes!$Q$19,TRUE,FALSE)","v":false}]
["Traffic Signal #2",{"$f":"IF('Control Strategy Selection'!B20:C20=Notes!$Q$19,TRUE,FALSE)","v":false}]
["Minor Road Stop",{"$f":"IF('Control Strategy Selection'!B21:C21=Notes!$Q$19,TRUE,FALSE)","v":false}]
["All Way Stop",{"$f":"IF('Control Strategy Selection'!B22:C22=Notes!$Q$19,TRUE,FALSE)","v":false}]
["1-lane Roundabout",{"$f":"IF('Control Strategy Selection'!B23:C23=Notes!$Q$19,TRUE,FALSE)","v":false}]
["2-lane Roundabout",{"$f":"IF('Control Strategy Selection'!B24:C24=Notes!$Q$19,TRUE,FALSE)","v":false}]
["Displaced Left Turn (DLT)",{"$f":"IF('Control Strategy Selection'!B25:C25=Notes!$Q$19,TRUE,FALSE)","v":false}]
["Median U-Turn (MUT)",{"$f":"IF('Control Strategy Selection'!B26:C26=Notes!$Q$19,TRUE,FALSE)","v":false}]
["Signalized Restricted Crossing U-Turn (RCUT), also known Superstreet",{"$f":"IF('Control Strategy Selection'!B27:C27=Notes!$Q$19,TRUE,FALSE)","v":false}]
["Unsignalized Restricted Crossing U-Turn (RCUT), also known as J-Turn",{"$f":"IF('Control Strategy Selection'!B28:C28=Notes!$Q$19,TRUE,FALSE)","v":false}]
["Signalized Thru-Cut",{"$f":"IF(Input_Include_SigThruCut=Notes!$Q$19,TRUE,FALSE)","v":false}]
["Unsignalized Thru-Cut",{"$f":"IF(Input_Include_UnsigThruCut=Notes!$Q$19,TRUE,FALSE)","v":false}]
["Bowtie",{"$f":"IF(Input_Include_Bowtie=Notes!$Q$19,TRUE,FALSE)","v":false}]
["Continuous Green-T Intersection",{"$f":"IF('Control Strategy Selection'!B32:C32=Notes!$Q$19,TRUE,FALSE)","v":false}]
["Jughandle",{"$f":"IF('Control Strategy Selection'!B33:C33=Notes!$Q$19,TRUE,FALSE)","v":false}]
["Other (Please Specify)",{"$f":"IF('Control Strategy Selection'!B34:C34=Notes!$Q$19,TRUE,FALSE)","v":false}]
["Other (Please Specify)",{"$f":"IF('Control Strategy Selection'!B35:C35=Notes!$Q$19,TRUE,FALSE)","v":false}]
[]
["Ramp Terminal Interchanges"]
[{"$f":"Label_RTI_D4TS","v":"Diamond Signalized"},{"$f":"IF('Control Strategy Selection'!B62:C62=Notes!$Q$19,TRUE,FALSE)","v":false}]
[{"$f":"Label_RTI_D4TSA","v":"Diamond Signalized (Alt)"},{"$f":"IF('Control Strategy Selection'!B63:C63=Notes!$Q$19,TRUE,FALSE)","v":false}]
[{"$f":"Label_RTI_DDI","v":"Diverging Diamond"},{"$f":"IF('Control Strategy Selection'!B64:C64=Notes!$Q$19,TRUE,FALSE)","v":false}]
[{"$f":"Label_RTI_SPUI","v":"Single-Point Diamond"},{"$f":"IF('Control Strategy Selection'!B65:C65=Notes!$Q$19,TRUE,FALSE)","v":false}]
[{"$f":"Label_RTI_D4MS","v":"Diamond Stop Control"},{"$f":"IF('Control Strategy Selection'!B66:C66=Notes!$Q$19,TRUE,FALSE)","v":false}]
[{"$f":"Label_RTI_1LnRdbt","v":"Roundabout (1-lane)"},{"$f":"IF('Control Strategy Selection'!B68:C68=Notes!$Q$19,TRUE,FALSE)","v":false}]
[{"$f":"Label_RTI_2LnRdbt","v":"Roundabout (2-lane)"},{"$f":"IF('Control Strategy Selection'!B69:C69=Notes!$Q$19,TRUE,FALSE)","v":false}]
["Tight Diamond Interchange",{"$f":"IF('Control Strategy Selection'!B67:C67=Notes!$Q$19,TRUE,FALSE)","v":false}]
["Signalized A4",{"$f":"IF('Control Strategy Selection'!B74:C74=Notes!$Q$19,TRUE,FALSE)","v":false}]
["Signalized A2",{"$f":"IF('Control Strategy Selection'!B72:C72=Notes!$Q$19,TRUE,FALSE)","v":false}]
["Signalized B4",{"$f":"IF('Control Strategy Selection'!B78:C78=Notes!$Q$19,TRUE,FALSE)","v":false}]
["Signalized B2",{"$f":"IF('Control Strategy Selection'!B76:C76=Notes!$Q$19,TRUE,FALSE)","v":false}]
["Signalized D3",{"$f":"IF('Control Strategy Selection'!B70:C70=Notes!$Q$19,TRUE,FALSE)","v":false}]
["Stop-controlled A4",{"$f":"IF('Control Strategy Selection'!B75:C75=Notes!$Q$19,TRUE,FALSE)","v":false}]
["Stop-controlled A2",{"$f":"IF('Control Strategy Selection'!B73:C73=Notes!$Q$19,TRUE,FALSE)","v":false}]
["Stop-controlled B4",{"$f":"IF('Control Strategy Selection'!B79:C79=Notes!$Q$19,TRUE,FALSE)","v":false}]
["Stop-controlled B2",{"$f":"IF('Control Strategy Selection'!B77:C77=Notes!$Q$19,TRUE,FALSE)","v":false}]
["Stop-controlled D3",{"$f":"IF('Control Strategy Selection'!B71:C71=Notes!$Q$19,TRUE,FALSE)","v":false}]
[{"$f":"Label_RTI_Other1","v":"Other 1"},{"$f":"IF('Control Strategy Selection'!B80:C80=Notes!$Q$19,TRUE,FALSE)","v":false}]
[{"$f":"Label_RTI_Other2","v":"Other 2"},{"$f":"IF('Control Strategy Selection'!B81:C81=Notes!$Q$19,TRUE,FALSE)","v":false}]
[]
[null,"Major","Allowable","Minor","Open",null,"Design"]
["RCUT AADT Ratios","Limit","Ratio","Limit","In Range","Under ratio","In Range","Under ratio"]
["This table is used to verify whether the ratio of major to minor AADT falls within the allowable ratios appropriate for the RCUT SPF methodology.",5000,{"$f":"D45/B45","v":1.06},5300,{"$f":"AND(Input_Base_OAADTMajor>0,Input_Base_OAADTMajor<=B45)","v":false},{"$f":"IF(E45,Input_Base_OAADTMinor/Input_Base_OAADTMajor<C45, TRUE)","v":true},{"$f":"AND(Input_Base_DAADTMajor>0,Input_Base_DAADTMajor<=B45)","v":false},{"$f":"IF(G45,Input_Base_DAADTMinor/Input_Base_DAADTMajor<C45, TRUE)","v":true}]
[null,15000,{"$f":"D46/B46","v":0.82466666666666666},12370,{"$f":"AND(Input_Base_OAADTMajor>B45,Input_Base_OAADTMajor<=B46)","v":false},true,{"$f":"AND(Input_Base_DAADTMajor>B45,Input_Base_DAADTMajor<=B46)","v":false},true]
[null,25000,0.64200000000000002,16050,false,true,false,true]
[null,35000,0.5,17500,false,true,false,true]
[null,45000,0.38955555555555554,17530,false,true,false,true]
[null,55000,0.30345454545454548,16690,false,true,false,true]
[null,65000,0.2363076923076923,15360,false,true,false,true]
[]
[]
[]
["DDI CMF","Speed","Total crash CMF","FI CMF"]
[null,25,0.23,0.23]
[null,30,0.34,0.32]
[null,35,0.49,0.43]
[null,40,0.71,0.59]
[null,45,1.03,0.8]

{"sheet":"Labels","index":42,"n_rows":1050,"n_cols":17,"rows_kept":1050,"cut":false,"hidden":true,"merged":[]}
[null,null,null,null,null,null,null,null,null,null,"SORTED",null,null,null,null,null,"SORTED"]
[null,null,null,null,null,null,null,null,null,null,"EB_Facility_Type","=Historical!$D$9",null,null,null,"Input_TrafficSignal_DAADTMinor","='At-Grade Inputs'!$D$10"]
["Control Strategies",null,null,null,null,null,null,null,null,null,"EB_Historical_Adjustment","=Historical!$D$5",null,null,null,"Input_TrafficSignal_NumAppWithLTLns","='At-Grade Inputs'!$D$11"]
["At-Grade Selections",null,null,null,null,null,null,null,null,null,"EB_Intx_Type","=Historical!$D$8",null,null,null,"Input_TrafficSignal_NumAppWithRTLns","='At-Grade Inputs'!$D$12"]
["Traffic Signal",null,null,null,null,null,null,null,null,null,"EB_Ratio_FI","=Historical!$O$54",null,null,null,"Input_AGI_Lighting","='At-Grade Inputs'!$D$18"]
["Minor Road Stop",null,null,null,null,null,null,null,null,null,"EB_Ratio_MV_FI","=Historical!$O$70",null,null,null,"Input_TrafficSignal_NumLTPermitted","='At-Grade Inputs'!$D$19"]
["All Way Stop",null,null,null,null,null,null,null,null,null,"EB_Ratio_MV_PDO","=Historical!$O$71",null,null,null,"Input_TrafficSignal_NumLTPermProt","='At-Grade Inputs'!$D$20"]
["1-lane Roundabout",null,null,null,null,null,null,null,null,null,"EB_Ratio_MV_Total","=Historical!$O$69",null,null,null,"Input_TrafficSignal_NumLTProtected","='At-Grade Inputs'!$D$21"]
["2-lane Roundabout",null,null,null,null,null,null,null,null,null,"EB_Ratio_PDO","=Historical!$O$55",null,null,null,"Input_TrafficSignal_AppWithRTORProhibit","='At-Grade Inputs'!$D$22"]
["Partial Displaced Left Turn (PDLT)",null,null,null,null,null,null,null,null,null,"EB_Ratio_Ped","=Historical!$O$77",null,null,null,"Input_TrafficSignal_RedLightCameras","='At-Grade Inputs'!$D$23"]
["Full Median U-Turn (MUT)",null,null,null,null,null,null,null,null,null,"EB_Ratio_Total","=Historical!$O$53",null,null,null,"Input_TrafficSignal_NumMajorLns","='At-Grade Inputs'!$D$24"]
["Signalized RCUT",null,null,null,null,null,null,null,null,null,"EB_RTI_Historical_Adjustment","=HistoricalRTI!$D$5",null,null,null,"Input_TrafficSignal_NumMinorLns","='At-Grade Inputs'!$D$25"]
["Unsignalized RCUT",null,null,null,null,null,null,null,null,null,"EB_RTI_Intx_Type","=HistoricalRTI!$D$8",null,null,null,"Input_TrafficSignal_NumRTChannelization","='At-Grade Inputs'!$D$26"]
["Continuous Green-T Intersection",null,null,null,null,null,null,null,null,null,"EB_RTI_Ratio_FI1","=HistoricalRTI!$O$54",null,null,null,"Input_TrafficSignal_UTurnProhibit","='At-Grade Inputs'!$D$27"]
["Jughandle",null,null,null,null,null,null,null,null,null,"EB_RTI_Ratio_FI2","=HistoricalRTI!$O$70",null,null,null,"Input_TrafficSignal_PedActivity","='At-Grade Inputs'!$D$28"]
[{"$f":"'Control Strategy Selection'!A34","v":"Other 1"},null,null,null,null,null,null,null,null,null,"EB_RTI_Ratio_PDO1","=HistoricalRTI!$O$55",null,null,null,"Input_TrafficSignal_PedVol","='At-Grade Inputs'!$D$29"]
[{"$f":"'Control Strategy Selection'!A35","v":"Other 2"},null,null,null,null,null,null,null,null,null,"EB_RTI_Ratio_PDO2","=HistoricalRTI!$O$71",null,null,null,"Input_TrafficSignal_PedLnsCross","='At-Grade Inputs'!$D$30"]
[null,null,null,null,null,null,null,null,null,null,"EB_RTI_Ratio_Total1","=HistoricalRTI!$O$53",null,null,null,"Input_AGI_NumBusStops","='At-Grade Inputs'!$D$31"]
["Ramp Terminal Interchanges",null,null,null,null,null,null,null,null,null,"EB_RTI_Ratio_Total2","=HistoricalRTI!$O$69",null,null,null,"Input_AGI_HasSchool","='At-Grade Inputs'!$D$32"]
["Conventional Traffic Signal",null,null,null,null,null,null,null,null,null,"FacilityType_Label_Rural2Ln","=Labels!$A$34",null,null,null,"Input_AGI_NumABC","='At-Grade Inputs'!$D$33"]
["Crossover Traffic Signal (of Diverging Diamond Interchange)",null,null,null,null,null,null,null,null,null,"FacilityType_Label_RuralMultiLn","=Labels!$A$35",null,null,null,"Input_TrafficSignal_OAADTMajor","='At-Grade Inputs'!$D$7"]
["Single-Point Diamond Traffic Signal",null,null,null,null,null,null,null,null,null,"FacilityType_Label_Urban","=Labels!$A$36",null,null,null,"Input_Range_AGI_AllOverride_OpenAADT","='At-Grade Inputs'!$D$7:$I$8,'At-Grade Inputs'!$L$7:$O$8"]
["Minor Road (ramp) Stop",null,null,null,null,null,null,null,null,null,"FacilityType_Label_UrbanHighSpeed","=Labels!$A$37",null,null,null,"Input_TrafficSignal_OAADTMinor","='At-Grade Inputs'!$D$8"]
["1-lane Roundabout",null,null,null,null,null,null,null,null,null,"Input_1Way2Way","='Control Strategy Selection'!$D$10",null,null,null,"Input_TrafficSignal_DAADTMajor","='At-Grade Inputs'!$D$9"]
["2-lane Roundabout",null,null,null,null,null,null,null,null,null,"Input_A2SC_DAADTEn1","='Ramp Terminal Inputs'!$V$13",null,null,null,"Input_Range_AGI_AllOverride_DesignAADT","='At-Grade Inputs'!$D$9:$I$10,'At-Grade Inputs'!$L$9:$O$10"]
[null,null,null,null,null,null,null,null,null,null,"Input_A2SC_DAADTEn2","='Ramp Terminal Inputs'!$W$13",null,null,null,"Input_TrafficSignal2_DAADTMinor","='At-Grade Inputs'!$F$10"]
[null,null,null,null,null,null,null,null,null,null,"Input_A2SC_DAADTEx1","='Ramp Terminal Inputs'!$V$12",null,null,null,"Input_TrafficSignal2_NumAppWithLTLns","='At-Grade Inputs'!$F$11"]
[null,null,null,null,null,null,null,null,null,null,"Input_A2SC_DAADTEx2","='Ramp Terminal Inputs'!$W$12",null,null,null,"Input_TrafficSignal2_NumAppWithRTLns","='At-Grade Inputs'!$F$12"]
[null,null,null,null,null,null,null,null,null,null,"Input_A2SC_DAADTIn1","='Ramp Terminal Inputs'!$V$10",null,null,null,"Input_TrafficSignal2_Lighting","='At-Grade Inputs'!$F$18"]
[null,null,null,null,null,null,null,null,null,null,"Input_A2SC_DAADTIn2","='Ramp Terminal Inputs'!$W$10",null,null,null,"Input_TrafficSignal2_NumLTPermitted","='At-Grade Inputs'!$F$19"]
[null,null,null,null,null,null,null,null,null,null,"Input_A2SC_DAADTOut1","='Ramp Terminal Inputs'!$V$11",null,null,null,"Input_TrafficSignal2_NumLTPermProt","='At-Grade Inputs'!$F$20"]
[null,null,null,null,null,null,null,null,null,null,"Input_A2SC_DAADTOut2","='Ramp Terminal Inputs'!$W$11",null,null,null,"Input_TrafficSignal2_NumLTProtected","='At-Grade Inputs'!$F$21"]
["Facility Types",null,null,null,null,null,null,null,null,null,"Input_A2SC_ENLSR1","='Ramp Terminal Inputs'!$V$24",null,null,null,"Input_TrafficSignal2_AppWithRTORProhibit","='At-Grade Inputs'!$F$22"]
["On Rural Two Lane Highway",null,null,null,null,null,null,null,null,null,"Input_A2SC_ENLSR2","='Ramp Terminal Inputs'!$W$24",null,null,null,"Input_TrafficSignal2_RedLightCameras","='At-Grade Inputs'!$F$23"]
["On Rural Multilane Highway",null,null,null,null,null,null,null,null,null,"Input_A2SC_ExitRTC1","='Ramp Terminal Inputs'!$V$23",null,null,null,"Input_TrafficSignal2_NumMajorLns","='At-Grade Inputs'!$F$24"]
["On Urban and Suburban Arterial",null,null,null,null,null,null,null,null,null,"Input_A2SC_ExitRTC2","='Ramp Terminal Inputs'!$W$23",null,null,null,"Input_TrafficSignal2_NumMinorLns","='At-Grade Inputs'!$F$25"]
["On High Speed (50+ MPH) Urban and Suburban Arterial",null,null,null,null,null,null,null,null,null,"Input_A2SC_lRMP1","='Ramp Terminal Inputs'!$V$26",null,null,null,"Input_TrafficSignal2_NumRTChannelization","='At-Grade Inputs'!$F$26"]
[null,null,null,null,null,null,null,null,null,null,"Input_A2SC_lRMP2","='Ramp Terminal Inputs'!$W$26",null,null,null,"Input_TrafficSignal2_UTurnProhibit","='At-Grade Inputs'!$F$27"]
[null,null,null,null,null,null,null,null,null,null,"Input_A2SC_lSTR1","='Ramp Terminal Inputs'!$V$27",null,null,null,"Input_TrafficSignal2_PedActivity","='At-Grade Inputs'!$F$28"]
[null,null,null,null,null,null,null,null,null,null,"Input_A2SC_lSTR2","='Ramp Terminal Inputs'!$W$27",null,null,null,"Input_TrafficSignal2_PedVol","='At-Grade Inputs'!$F$29"]
[null,null,null,null,null,null,null,null,null,null,"Input_A2SC_LTBIn1","='Ramp Terminal Inputs'!$V$32",null,null,null,"Input_TrafficSignal2_PedLnsCross","='At-Grade Inputs'!$F$30"]
[null,null,null,null,null,null,null,null,null,null,"Input_A2SC_LTBIn2","='Ramp Terminal Inputs'!$W$32",null,null,null,"Input_TrafficSignal2_NumBusStops","='At-Grade Inputs'!$F$31"]
[null,null,null,null,null,null,null,null,null,null,"Input_A2SC_LTWIn1","='Ramp Terminal Inputs'!$V$33",null,null,null,"Input_TrafficSignal2_HasSchool","='At-Grade Inputs'!$F$32"]
["Analysis Year",null,null,null,null,null,null,null,null,null,"Input_A2SC_LTWIn2","='Ramp Terminal Inputs'!$W$33",null,null,null,"Input_TrafficSignal2_NumABC","='At-Grade Inputs'!$F$33"]
["Opening Year Only",null,null,null,null,null,null,null,null,null,"Input_A2SC_MW1","='Ramp Terminal Inputs'!$V$29",null,null,null,"Input_TrafficSignal2_OAADTMajor","='At-Grade Inputs'!$F$7"]
["Opening and Design Year",null,null,null,null,null,null,null,null,null,"Input_A2SC_MW2","='Ramp Terminal Inputs'!$W$29",null,null,null,"Input_TrafficSignal2_OAADTMinor","='At-Grade Inputs'!$F$8"]
[null,null,null,null,null,null,null,null,null,null,"Input_A2SC_NLxst1","='Ramp Terminal Inputs'!$V$15",null,null,null,"Input_TrafficSignal2_DAADTMajor","='At-Grade Inputs'!$F$9"]
[null,null,null,null,null,null,null,null,null,null,"Input_A2SC_NLxst2","='Ramp Terminal Inputs'!$W$15",null,null,null,"Input_MinorStop_DAADTMinor","='At-Grade Inputs'!$H$10"]
[null,null,null,null,null,null,null,null,null,null,"Input_A2SC_OAADTEn1","='Ramp Terminal Inputs'!$V$9",null,null,null,"Input_MinorStop_NumAppWithLTLns","='At-Grade Inputs'!$H$13"]
[null,null,null,null,null,null,null,null,null,null,"Input_A2SC_OAADTEn2","='Ramp Terminal Inputs'!$W$9",null,null,null,"Input_MinorStop_NumAppWithRTLns","='At-Grade Inputs'!$H$14"]
[null,null,null,true,{"$f":"NOT(D51)","v":false},null,null,null,null,null,"Input_A2SC_OAADTEx1","='Ramp Terminal Inputs'!$V$8",null,null,null,"Input_AGI_SkewAngle","='At-Grade Inputs'!$H$17"]
["Pedestrian Activity",null,null,"4-Leg","3-Leg",null,null,null,null,null,"Input_A2SC_OAADTEx2","='Ramp Terminal Inputs'!$W$8",null,null,null,"Input_MinorStop_Lighting","='At-Grade Inputs'!$H$18"]
[{"$f":"C53&\" (\" & IF($D$51,D53,E53) & \")\"","v":"High (3200)"},null,"High",3200,1700,4,{"$f":"IF(LEFT(Input_TrafficSignal_PedActivity,F53)=C53,TRUE, FALSE)","v":false},{"$f":"IF(LEFT(Input_TrafficSignal2_PedActivity,F53)=C53,TRUE, FALSE)","v":false},null,null,"Input_A2SC_OAADTIn1","='Ramp Terminal Inputs'!$V$6",null,null,null,"Input_MinorStop_OAADTMajor","='At-Grade Inputs'!$H$7"]
[{"$f":"C54&\" (\" & IF($D$51,D54,E54) & \")\"","v":"Med High (1500)"},null,"Med High",1500,750,8,false,false,null,null,"Input_A2SC_OAADTIn2","='Ramp Terminal Inputs'!$W$6",null,null,null,"Input_MinorStop_OAADTMinor","='At-Grade Inputs'!$H$8"]
[{"$f":"C55&\" (\" & IF($D$51,D55,E55) & \")\"","v":"Medium (700)"},null,"Medium",700,400,6,false,false,null,null,"Input_A2SC_OAADTOut1","='Ramp Terminal Inputs'!$V$7",null,null,null,"Input_MinorStop_DAADTMajor","='At-Grade Inputs'!$H$9"]
[{"$f":"C56&\" (\" & IF($D$51,D56,E56) & \")\"","v":"Med Low (240)"},null,"Med Low",240,120,7,false,false,null,null,"Input_A2SC_OAADTOut2","='Ramp Terminal Inputs'!$W$7",null,null,null,"Input_AllStop_NumAppWithLTLns","='At-Grade Inputs'!$J$11"]
[{"$f":"C57&\" (\" & IF($D$51,D57,E57) & \")\"","v":"Low (50)"},null,"Low",50,20,3,true,true,null,null,"Input_A2SC_RTBOut1","='Ramp Terminal Inputs'!$V$31",null,null,null,"Input_AllStop_NumAppWithRTLns","='At-Grade Inputs'!$J$12"]
[{"$f":"C58","v":"Other - Enter Next"},null,"Other - Enter Next",null,null,null,false,false,null,null,"Input_A2SC_RTBOut2","='Ramp Terminal Inputs'!$W$31",null,null,null,"Input_AWSC_Lighting","='At-Grade Inputs'!$J$18"]
[null,null,null,null,null,null,null,null,null,null,"Input_A2SC_Skew1","='Ramp Terminal Inputs'!$V$21",null,null,null,"Input_AGI_R1_ICD","='At-Grade Inputs'!$L$35"]
[null,null,null,null,null,null,null,null,null,null,"Input_A2SC_Skew2","='Ramp Terminal Inputs'!$W$21",null,null,null,"Input_AGI_R1_AADT_L1","='At-Grade Inputs'!$L$37"]
[null,null,null,null,null,null,null,null,null,null,"Input_A2TS_DAADTEn1","='Ramp Terminal Inputs'!$P$13",null,null,null,"Input_AGI_R1_Bypass_L1","='At-Grade Inputs'!$L$38"]
["High (1,700)",null,null,null,null,null,null,null,null,null,"Input_A2TS_DAADTEn2","='Ramp Terminal Inputs'!$Q$13",null,null,null,"Input_AGI_R1_Access_L1","='At-Grade Inputs'!$L$39"]
["Medium High (750)",null,null,null,null,null,null,null,null,null,"Input_A2TS_DAADTEx1","='Ramp Terminal Inputs'!$P$12",null,null,null,"Input_AGI_R1_AADT_L2","='At-Grade Inputs'!$L$44"]
["Medium (400)",null,null,null,null,null,null,null,null,null,"Input_A2TS_DAADTEx2","='Ramp Terminal Inputs'!$Q$12",null,null,null,"Input_AGI_R1_Bypass_L2","='At-Grade Inputs'!$L$45"]
["Medium Low (120)",null,null,null,null,null,null,null,null,null,"Input_A2TS_DAADTIn1","='Ramp Terminal Inputs'!$P$10",null,null,null,"Input_AGI_R1_Access_L2","='At-Grade Inputs'!$L$46"]
["Low (20)",null,null,null,null,null,null,null,null,null,"Input_A2TS_DAADTIn2","='Ramp Terminal Inputs'!$Q$10",null,null,null,"Input_AGI_R1_AADT_L3","='At-Grade Inputs'!$L$51"]
["Other - Enter Next",null,null,null,null,null,null,null,null,null,"Input_A2TS_DAADTOut1","='Ramp Terminal Inputs'!$P$11",null,null,null,"Input_AGI_R1_Bypass_L3","='At-Grade Inputs'!$L$52"]
[null,null,null,null,null,null,null,null,null,null,"Input_A2TS_DAADTOut2","='Ramp Terminal Inputs'!$Q$11",null,null,null,"Input_AGI_R1_Access_L3","='At-Grade Inputs'!$L$53"]
[null,null,null,null,null,null,null,null,null,null,"Input_A2TS_ENLSR1","='Ramp Terminal Inputs'!$P$24",null,null,null,"Input_AGI_R1_AADT_L4","='At-Grade Inputs'!$L$58"]
[null,null,null,null,null,null,null,null,null,null,"Input_A2TS_ENLSR2","='Ramp Terminal Inputs'!$Q$24",null,null,null,"Input_AGI_R1_Bypass_L4","='At-Grade Inputs'!$L$59"]
[null,null,null,null,null,null,null,null,null,null,"Input_A2TS_ExitRTC1","='Ramp Terminal Inputs'!$P$23",null,null,null,"Input_AGI_R1_Access_L4","='At-Grade Inputs'!$L$60"]
[null,null,null,null,null,null,null,null,null,null,"Input_A2TS_ExitRTC2","='Ramp Terminal Inputs'!$Q$23",null,null,null,"Input_AGI_R2_ICD","='At-Grade Inputs'!$N$35"]
[null,null,null,null,null,null,null,null,null,null,"Input_A2TS_lRMP1","='Ramp Terminal Inputs'!$P$26",null,null,null,"Input_AGI_R2_AADT_L1","='At-Grade Inputs'!$N$37"]
[null,null,null,null,null,null,null,null,null,null,"Input_A2TS_lRMP2","='Ramp Terminal Inputs'!$Q$26",null,null,null,"Input_AGI_R2_Bypass_L1","='At-Grade Inputs'!$N$38"]
[null,null,null,null,null,null,null,null,null,null,"Input_A2TS_lSTR1","='Ramp Terminal Inputs'!$P$27",null,null,null,"Input_AGI_R2_EW_L1","='At-Grade Inputs'!$N$40"]
[null,null,null,null,null,null,null,null,null,null,"Input_A2TS_lSTR2","='Ramp Terminal Inputs'!$Q$27",null,null,null,"Input_AGI_R2_EL_L1","='At-Grade Inputs'!$N$41"]
[null,null,null,null,null,null,null,null,null,null,"Input_A2TS_LTBIn1","='Ramp Terminal Inputs'!$P$32",null,null,null,"Input_AGI_R2_CL_L1","='At-Grade Inputs'!$N$42"]
["Exit ramp right turn control",null,null,null,null,null,null,null,null,null,"Input_A2TS_LTBIn2","='Ramp Terminal Inputs'!$Q$32",null,null,null,"Input_AGI_R2_AADT_L2","='At-Grade Inputs'!$N$44"]
["Merge/Free Flow",null,null,null,null,null,null,null,null,null,"Input_A2TS_LTBOut1","='Ramp Terminal Inputs'!$P$34",null,null,null,"Input_AGI_R2_Bypass_L2","='At-Grade Inputs'!$N$45"]
[" Signal/Stop/yield-controlled",null,null,null,null,null,null,null,null,null,"Input_A2TS_LTBOut2","='Ramp Terminal Inputs'!$Q$34",null,null,null,"Input_AGI_R2_EW_L2","='At-Grade Inputs'!$N$47"]
[null,null,null,null,null,null,null,null,null,null,"Input_A2TS_LTWIn1","='Ramp Terminal Inputs'!$P$33",null,null,null,"Input_AGI_R2_EL_L2","='At-Grade Inputs'!$N$48"]
["Effective number of lanes serving exit ramp",null,null,null,null,null,null,null,null,null,"Input_A2TS_LTWIn2","='Ramp Terminal Inputs'!$Q$33",null,null,null,"Input_AGI_R2_CL_L2","='At-Grade Inputs'!$N$49"]
[0.5,1,1.5,2,2.5,3,3.5,4,null,null,"Input_A2TS_LTWOut1","='Ramp Terminal Inputs'!$P$35",null,null,null,"Input_AGI_R2_AADT_L3","='At-Grade Inputs'!$N$51"]
[null,null,null,null,null,null,null,null,null,null,"Input_A2TS_LTWOut2","='Ramp Terminal Inputs'!$Q$35",null,null,null,"Input_AGI_R2_Bypass_L3","='At-Grade Inputs'!$N$52"]
[null,null,null,null,null,null,null,null,null,null,"Input_A2TS_MW1","='Ramp Terminal Inputs'!$P$29",null,null,null,"Input_AGI_R2_EW_L3","='At-Grade Inputs'!$N$54"]
[null,null,null,null,null,null,null,null,null,null,"Input_A2TS_MW2","='Ramp Terminal Inputs'!$Q$29",null,null,null,"Input_AGI_R2_EL_L3","='At-Grade Inputs'!$N$55"]
[null,null,null,null,null,null,null,null,null,null,"Input_A2TS_NLTOIn1","='Ramp Terminal Inputs'!$P$16",null,null,null,"Input_AGI_R2_CL_L3","='At-Grade Inputs'!$N$56"]
["# of driveways (or public street approaches) on the crossroad leg outside of the interchange",null,null,null,null,null,null,null,null,null,"Input_A2TS_NLTOIn2","='Ramp Terminal Inputs'!$Q$16",null,null,null,"Input_AGI_R2_AADT_L4","='At-Grade Inputs'!$N$58"]
[0,null,null,null,null,null,null,null,null,null,"Input_A2TS_NLTOOut1","='Ramp Terminal Inputs'!$P$17",null,null,null,"Input_AGI_R2_Bypass_L4","='At-Grade Inputs'!$N$59"]
[1,null,null,null,null,null,null,null,null,null,"Input_A2TS_NLTOOut2","='Ramp Terminal Inputs'!$Q$17",null,null,null,"Input_AGI_R2_EW_L4","='At-Grade Inputs'!$N$61"]
[2,null,null,null,null,null,null,null,null,null,"Input_A2TS_NLxst1","='Ramp Terminal Inputs'!$P$15",null,null,null,"Input_AGI_R2_EL_L4","='At-Grade Inputs'!$N$62"]
[3,null,null,null,null,null,null,null,null,null,"Input_A2TS_NLxst2","='Ramp Terminal Inputs'!$Q$15",null,null,null,"Input_AGI_R2_CL_L4","='At-Grade Inputs'!$N$63"]
[4,null,null,null,null,null,null,null,null,null,"Input_A2TS_NRPSL1","='Ramp Terminal Inputs'!$P$22",null,null,null,"Input_AGI_SRCUT_UT","='At-Grade Inputs'!$T$66"]
[null,null,null,null,null,null,null,null,null,null,"Input_A2TS_NRPSL2","='Ramp Terminal Inputs'!$Q$22",null,null,null,"Input_AGI_SRCUT_MaLa","='At-Grade Inputs'!$T$67"]
[null,null,null,null,null,null,null,null,null,null,"Input_A2TS_NSCDW1","='Ramp Terminal Inputs'!$P$25",null,null,null,"Input_AGI_SRCUT_MiLa","='At-Grade Inputs'!$T$68"]
[null,null,null,null,null,null,null,null,null,null,"Input_A2TS_NSCDW2","='Ramp Terminal Inputs'!$Q$25",null,null,null,"Input_AGI_SRCUT_TOD","='At-Grade Inputs'!$T$69"]
[null,null,null,null,null,null,null,null,null,null,"Input_A2TS_NSCPS1","='Ramp Terminal Inputs'!$P$28",null,null,null,"Input_AGI_SRCUT_NDW","='At-Grade Inputs'!$T$70"]
[null,null,null,null,null,null,null,null,null,null,"Input_A2TS_NSCPS2","='Ramp Terminal Inputs'!$Q$28",null,null,null,"Input_AGI_SRCUT_TDLL","='At-Grade Inputs'!$T$71"]
[null,null,null,null,null,null,null,null,null,null,"Input_A2TS_OAADTEn1","='Ramp Terminal Inputs'!$P$9",null,null,null,"Input_AGI_SRCUT_LTL","='At-Grade Inputs'!$T$73"]
[null,null,null,null,null,null,null,null,null,null,"Input_A2TS_OAADTEn2","='Ramp Terminal Inputs'!$Q$9",null,null,null,"Input_AGI_SRCUT_MRSL","='At-Grade Inputs'!$T$74"]
[null,null,null,null,null,null,null,null,null,null,"Input_A2TS_OAADTEx1","='Ramp Terminal Inputs'!$P$8",null,null,null,"Input_AGI_SRCUT_TMeW","='At-Grade Inputs'!$T$75"]
[null,null,null,null,null,null,null,null,null,null,"Input_A2TS_OAADTEx2","='Ramp Terminal Inputs'!$Q$8",null,null,null,"Input_AGI_URCUT_UT","='At-Grade Inputs'!$V$66"]
[null,null,null,null,null,null,null,null,null,null,"Input_A2TS_OAADTIn1","='Ramp Terminal Inputs'!$P$6",null,null,null,"Input_AGI_URCUT_TOD","='At-Grade Inputs'!$V$69"]
[null,null,null,null,null,null,null,null,null,null,"Input_A2TS_OAADTIn2","='Ramp Terminal Inputs'!$Q$6",null,null,null,"Input_AGI_URCUT_NDW","='At-Grade Inputs'!$V$70"]
[null,null,null,null,null,null,null,null,null,null,"Input_A2TS_OAADTOut1","='Ramp Terminal Inputs'!$P$7",null,null,null,"Input_AGI_URCUT_TDLL","='At-Grade Inputs'!$V$71"]
[null,null,null,null,null,null,null,null,null,null,"Input_A2TS_OAADTOut2","='Ramp Terminal Inputs'!$Q$7",null,null,null,"Input_AGI_URCUT_TALL","='At-Grade Inputs'!$V$72"]
[null,null,null,null,null,null,null,null,null,null,"Input_A2TS_PLTOIn1","='Ramp Terminal Inputs'!$P$36",null,null,null,"Input_AGI_URCUT_MMeW","='At-Grade Inputs'!$V$76"]
[null,null,null,null,null,null,null,null,null,null,"Input_A2TS_PLTOIn2","='Ramp Terminal Inputs'!$Q$36",null,null,null,"Input_CMF_DLT_Total","=Calibration!$I$73"]
[null,null,null,null,null,null,null,null,null,null,"Input_A2TS_PLTOOut1","='Ramp Terminal Inputs'!$P$37",null,null,null,"Input_CMF_DLT_FI","=Calibration!$I$74"]
[null,null,null,null,null,null,null,null,null,null,"Input_A2TS_PLTOOut2","='Ramp Terminal Inputs'!$Q$37",null,null,null,"Input_CMF_MUT_Total","=Calibration!$I$75"]
[null,null,null,null,null,null,null,null,null,null,"Input_A2TS_RTBIn1","='Ramp Terminal Inputs'!$P$30",null,null,null,"Input_CMF_MUT_FI","=Calibration!$I$76"]
[null,null,null,null,null,null,null,null,null,null,"Input_A2TS_RTBIn2","='Ramp Terminal Inputs'!$Q$30",null,null,null,"Input_CMF_RCUTSig_Total","=Calibration!$I$77"]
[null,null,null,null,null,null,null,null,null,null,"Input_A2TS_RTBOut1","='Ramp Terminal Inputs'!$P$31",null,null,null,"Input_CMF_RCUTSig_FI","=Calibration!$I$78"]
[null,null,null,null,null,null,null,null,null,null,"Input_A2TS_RTBOut2","='Ramp Terminal Inputs'!$Q$31",null,null,null,"Input_CMF_RCUTUnsig_Total","=Calibration!$I$79"]
[null,null,null,null,null,null,null,null,null,null,"Input_A2TS_RTCExit1","='Ramp Terminal Inputs'!$P$40",null,null,null,"Input_CMF_RCUTUnsig_FI","=Calibration!$I$80"]
[null,null,null,null,null,null,null,null,null,null,"Input_A2TS_RTCExit2","='Ramp Terminal Inputs'!$Q$40",null,null,null,"Input_CMF_SigThruCut_Total","=Calibration!$I$81"]
[null,null,null,null,null,null,null,null,null,null,"Input_A2TS_RTCIn1","='Ramp Terminal Inputs'!$P$38",null,null,null,"Input_CMF_SigThruCut_FI","=Calibration!$I$82"]
[null,null,null,null,null,null,null,null,null,null,"Input_A2TS_RTCIn2","='Ramp Terminal Inputs'!$Q$38",null,null,null,"Input_CMF_UnsigThruCut_Total","=Calibration!$I$83"]
[null,null,null,null,null,null,null,null,null,null,"Input_A2TS_RTCOut1","='Ramp Terminal Inputs'!$P$39",null,null,null,"Input_CMF_UnsigThruCut_FI","=Calibration!$I$84"]
[null,null,null,null,null,null,null,null,null,null,"Input_A2TS_RTCOut2","='Ramp Terminal Inputs'!$Q$39",null,null,null,"Input_CMF_Bowtie_Total","=Calibration!$I$85"]
[null,null,null,null,null,null,null,null,null,null,"Input_A2TS_Skew1","='Ramp Terminal Inputs'!$P$21",null,null,null,"Input_CMF_Bowtie_FI","=Calibration!$I$86"]
[null,null,null,null,null,null,null,null,null,null,"Input_A2TS_Skew2","='Ramp Terminal Inputs'!$Q$21",null,null,null,"Input_CMF_GreenT_Total","=Calibration!$I$87"]
[null,null,null,null,null,null,null,null,null,null,"Input_A4SC_DAADTEn1","='Ramp Terminal Inputs'!$T$13",null,null,null,"Input_CMF_GreenT_FI","=Calibration!$I$88"]
[null,null,null,null,null,null,null,null,null,null,"Input_A4SC_DAADTEn2","='Ramp Terminal Inputs'!$U$13",null,null,null,"Input_CMF_Jughandle_Total","=Calibration!$I$89"]
[null,null,null,null,null,null,null,null,null,null,"Input_A4SC_DAADTEx1","='Ramp Terminal Inputs'!$T$12",null,null,null,"Input_CMF_Jughandle_FI","=Calibration!$I$90"]
[null,null,null,null,null,null,null,null,null,null,"Input_A4SC_DAADTEx2","='Ramp Terminal Inputs'!$U$12",null,null,null,"Input_CMF_Other1_Total","=Calibration!$I$91"]
[null,null,null,null,null,null,null,null,null,null,"Input_A4SC_DAADTIn1","='Ramp Terminal Inputs'!$T$10",null,null,null,"Input_CMF_Other1_FI","=Calibration!$I$92"]
[null,null,null,null,null,null,null,null,null,null,"Input_A4SC_DAADTIn2","='Ramp Terminal Inputs'!$U$10",null,null,null,"Input_CMF_Other2_Total","=Calibration!$I$93"]
[null,null,null,null,null,null,null,null,null,null,"Input_A4SC_DAADTOut1","='Ramp Terminal Inputs'!$T$11",null,null,null,"Input_CMF_Other2_FI","=Calibration!$I$94"]
[null,null,null,null,null,null,null,null,null,null,"Input_A4SC_DAADTOut2","='Ramp Terminal Inputs'!$U$11",null,null,null,"Input_CMF_DDI_Total","=Calibration!$I$95"]
[null,null,null,null,null,null,null,null,null,null,"Input_A4SC_ENLSR1","='Ramp Terminal Inputs'!$T$24",null,null,null,"Input_CMF_DDI_FI","=Calibration!$I$96"]
[null,null,null,null,null,null,null,null,null,null,"Input_A4SC_ENLSR2","='Ramp Terminal Inputs'!$U$24",null,null,null,"Range_ItxList","='Control Strategy Selection'!$A$19:$A$24"]
[null,null,null,null,null,null,null,null,null,null,"Input_A4SC_ExitRTC1","='Ramp Terminal Inputs'!$T$23",null,null,null,"Range_Selection_RTI","='Control Strategy Selection'!$A$45:$G$83"]
[null,null,null,null,null,null,null,null,null,null,"Input_A4SC_ExitRTC2","='Ramp Terminal Inputs'!$U$23",null,null,null,"Label_RTI_D4TS","='Control Strategy Selection'!$A$62"]
[null,null,null,null,null,null,null,null,null,null,"Input_A4SC_lRMP1","='Ramp Terminal Inputs'!$T$26",null,null,null,"Label_RTI_D4TSA","='Control Strategy Selection'!$A$63"]
[null,null,null,null,null,null,null,null,null,null,"Input_A4SC_lRMP2","='Ramp Terminal Inputs'!$U$26",null,null,null,"Label_RTI_DDI","='Control Strategy Selection'!$A$64"]
[null,null,null,null,null,null,null,null,null,null,"Input_A4SC_lSTR1","='Ramp Terminal Inputs'!$T$27",null,null,null,"Label_RTI_SPUI","='Control Strategy Selection'!$A$65"]
[null,null,null,null,null,null,null,null,null,null,"Input_A4SC_lSTR2","='Ramp Terminal Inputs'!$U$27",null,null,null,"Label_RTI_D4MS","='Control Strategy Selection'!$A$66"]
[null,null,null,null,null,null,null,null,null,null,"Input_A4SC_LTBIn1","='Ramp Terminal Inputs'!$T$32",null,null,null,"Label_RTI_1LnRdbt","='Control Strategy Selection'!$A$67"]
[null,null,null,null,null,null,null,null,null,null,"Input_A4SC_LTBIn2","='Ramp Terminal Inputs'!$U$32",null,null,null,"Label_RTI_2LnRdbt","='Control Strategy Selection'!$A$68"]
[null,null,null,null,null,null,null,null,null,null,"Input_A4SC_LTBOut1","='Ramp Terminal Inputs'!$T$34",null,null,null,"Label_RTI_TD","='Control Strategy Selection'!$A$69"]
[null,null,null,null,null,null,null,null,null,null,"Input_A4SC_LTBOut2","='Ramp Terminal Inputs'!$U$34",null,null,null,"Label_RTI_A4TS","='Control Strategy Selection'!$A$70"]
[null,null,null,null,null,null,null,null,null,null,"Input_A4SC_LTWIn1","='Ramp Terminal Inputs'!$T$33",null,null,null,"Label_RTI_A2TS","='Control Strategy Selection'!$A$71"]
[null,null,null,null,null,null,null,null,null,null,"Input_A4SC_LTWIn2","='Ramp Terminal Inputs'!$U$33",null,null,null,"Label_RTI_B4TS","='Control Strategy Selection'!$A$72"]
[null,null,null,null,null,null,null,null,null,null,"Input_A4SC_LTWOut1","='Ramp Terminal Inputs'!$T$35",null,null,null,"Label_RTI_B2TS","='Control Strategy Selection'!$A$73"]
[null,null,null,null,null,null,null,null,null,null,"Input_A4SC_LTWOut2","='Ramp Terminal Inputs'!$U$35",null,null,null,"Label_RTI_D3TS","='Control Strategy Selection'!$A$74"]
[null,null,null,null,null,null,null,null,null,null,"Input_A4SC_MW1","='Ramp Terminal Inputs'!$T$29",null,null,null,"Label_RTI_A4SC","='Control Strategy Selection'!$A$75"]
[null,null,null,null,null,null,null,null,null,null,"Input_A4SC_MW2","='Ramp Terminal Inputs'!$U$29",null,null,null,"Label_RTI_A2SC","='Control Strategy Selection'!$A$76"]
[null,null,null,null,null,null,null,null,null,null,"Input_A4SC_NLTOIn1","='Ramp Terminal Inputs'!$T$16",null,null,null,"Label_RTI_B4SC","='Control Strategy Selection'!$A$77"]
[null,null,null,null,null,null,null,null,null,null,"Input_A4SC_NLTOIn2","='Ramp Terminal Inputs'!$U$16",null,null,null,"Label_RTI_B2SC","='Control Strategy Selection'!$A$78"]
[null,null,null,null,null,null,null,null,null,null,"Input_A4SC_NLTOOut1","='Ramp Terminal Inputs'!$T$17",null,null,null,"Label_RTI_D3SC","='Control Strategy Selection'!$A$79"]
[null,null,null,null,null,null,null,null,null,null,"Input_A4SC_NLTOOut2","='Ramp Terminal Inputs'!$U$17",null,null,null,"Range_Selection_AGI","='Control Strategy Selection'!$A$8:$H$44"]
[null,null,null,null,null,null,null,null,null,null,"Input_A4SC_NLxst1","='Ramp Terminal Inputs'!$T$15",null,null,null,"Label_RTI_Other1","='Control Strategy Selection'!$A$80"]
[null,null,null,null,null,null,null,null,null,null,"Input_A4SC_NLxst2","='Ramp Terminal Inputs'!$U$15",null,null,null,"Label_RTI_Other2","='Control Strategy Selection'!$A$81"]
[null,null,null,null,null,null,null,null,null,null,"Input_A4SC_NRPSL1","='Ramp Terminal Inputs'!$T$22",null,null,null,"Input_Include_TS","='Control Strategy Selection'!$B$19"]
[null,null,null,null,null,null,null,null,null,null,"Input_A4SC_NRPSL2","='Ramp Terminal Inputs'!$U$22",null,null,null,"Input_Include_TSA","='Control Strategy Selection'!$B$20"]
[null,null,null,null,null,null,null,null,null,null,"Input_A4SC_NSCDW1","='Ramp Terminal Inputs'!$T$25",null,null,null,"Input_Include_MS","='Control Strategy Selection'!$B$21"]
[null,null,null,null,null,null,null,null,null,null,"Input_A4SC_NSCDW2","='Ramp Terminal Inputs'!$U$25",null,null,null,"Input_Include_AS","='Control Strategy Selection'!$B$22"]
[null,null,null,null,null,null,null,null,null,null,"Input_A4SC_NSCPS1","='Ramp Terminal Inputs'!$T$28",null,null,null,"Input_Include_R1","='Control Strategy Selection'!$B$23"]
[null,null,null,null,null,null,null,null,null,null,"Input_A4SC_NSCPS2","='Ramp Terminal Inputs'!$U$28",null,null,null,"Input_Include_R2","='Control Strategy Selection'!$B$24"]
[null,null,null,null,null,null,null,null,null,null,"Input_A4SC_OAADTEn1","='Ramp Terminal Inputs'!$T$9",null,null,null,"Input_Include_DLT","='Control Strategy Selection'!$B$25"]
[null,null,null,null,null,null,null,null,null,null,"Input_A4SC_OAADTEn2","='Ramp Terminal Inputs'!$U$9",null,null,null,"Input_Include_MUT","='Control Strategy Selection'!$B$26"]
[null,null,null,null,null,null,null,null,null,null,"Input_A4SC_OAADTEx1","='Ramp Terminal Inputs'!$T$8",null,null,null,"Input_Include_SRCUT","='Control Strategy Selection'!$B$27"]
[null,null,null,null,null,null,null,null,null,null,"Input_A4SC_OAADTEx2","='Ramp Terminal Inputs'!$U$8",null,null,null,"Input_Include_URCUT","='Control Strategy Selection'!$B$28"]
[null,null,null,null,null,null,null,null,null,null,"Input_A4SC_OAADTIn1","='Ramp Terminal Inputs'!$T$6",null,null,null,"Input_Include_SigThruCut","='Control Strategy Selection'!$B$29"]
[null,null,null,null,null,null,null,null,null,null,"Input_A4SC_OAADTIn2","='Ramp Terminal Inputs'!$U$6",null,null,null,"Input_Include_UnsigThruCut","='Control Strategy Selection'!$B$30"]
[null,null,null,null,null,null,null,null,null,null,"Input_A4SC_OAADTOut1","='Ramp Terminal Inputs'!$T$7",null,null,null,"Input_Include_Bowtie","='Control Strategy Selection'!$B$31"]
[null,null,null,null,null,null,null,null,null,null,"Input_A4SC_OAADTOut2","='Ramp Terminal Inputs'!$U$7",null,null,null,"Input_Include_CGT","='Control Strategy Selection'!$B$32"]
[null,null,null,null,null,null,null,null,null,null,"Input_A4SC_PLTOIn1","='Ramp Terminal Inputs'!$T$36",null,null,null,"Input_Include_JUG","='Control Strategy Selection'!$B$33"]
[null,null,null,null,null,null,null,null,null,null,"Input_A4SC_PLTOIn2","='Ramp Terminal Inputs'!$U$36",null,null,null,"Input_Include_O1","='Control Strategy Selection'!$B$34"]
[null,null,null,null,null,null,null,null,null,null,"Input_A4SC_PLTOOut1","='Ramp Terminal Inputs'!$T$37",null,null,null,"Input_Include_O2","='Control Strategy Selection'!$B$35"]
[null,null,null,null,null,null,null,null,null,null,"Input_A4SC_PLTOOut2","='Ramp Terminal Inputs'!$U$37",null,null,null,"Input_Include_RTI_D4TS","='Control Strategy Selection'!$B$62"]
[null,null,null,null,null,null,null,null,null,null,"Input_A4SC_RTBIn1","='Ramp Terminal Inputs'!$T$30",null,null,null,"Input_Include_RTI_D4TSA","='Control Strategy Selection'!$B$63"]
[null,null,null,null,null,null,null,null,null,null,"Input_A4SC_RTBIn2","='Ramp Terminal Inputs'!$U$30",null,null,null,"Input_Include_RTI_DDI","='Control Strategy Selection'!$B$64"]
[null,null,null,null,null,null,null,null,null,null,"Input_A4SC_RTBOut1","='Ramp Terminal Inputs'!$T$31",null,null,null,"Input_Include_RTI_SPUI","='Control Strategy Selection'!$B$65"]
[null,null,null,null,null,null,null,null,null,null,"Input_A4SC_RTBOut2","='Ramp Terminal Inputs'!$U$31",null,null,null,"Input_Include_RTI_D4MS","='Control Strategy Selection'!$B$66"]
[null,null,null,null,null,null,null,null,null,null,"Input_A4SC_RTCExit1","='Ramp Terminal Inputs'!$T$40",null,null,null,"Input_Include_RTI_R1","='Control Strategy Selection'!$B$67"]
[null,null,null,null,null,null,null,null,null,null,"Input_A4SC_RTCExit2","='Ramp Terminal Inputs'!$U$40",null,null,null,"Input_Include_RTI_R2","='Control Strategy Selection'!$B$68"]
[null,null,null,null,null,null,null,null,null,null,"Input_A4SC_RTCIn1","='Ramp Terminal Inputs'!$T$38",null,null,null,"Input_Include_RTI_TD","='Control Strategy Selection'!$B$69"]
[null,null,null,null,null,null,null,null,null,null,"Input_A4SC_RTCIn2","='Ramp Terminal Inputs'!$U$38",null,null,null,"Input_Include_RTI_A4TS","='Control Strategy Selection'!$B$70"]
[null,null,null,null,null,null,null,null,null,null,"Input_A4SC_RTCOut1","='Ramp Terminal Inputs'!$T$39",null,null,null,"Input_Include_RTI_A2TS","='Control Strategy Selection'!$B$71"]
[null,null,null,null,null,null,null,null,null,null,"Input_A4SC_RTCOut2","='Ramp Terminal Inputs'!$U$39",null,null,null,"Input_Include_RTI_B4TS","='Control Strategy Selection'!$B$72"]
[null,null,null,null,null,null,null,null,null,null,"Input_A4SC_Skew1","='Ramp Terminal Inputs'!$T$21",null,null,null,"Input_Include_RTI_B2TS","='Control Strategy Selection'!$B$73"]
[null,null,null,null,null,null,null,null,null,null,"Input_A4SC_Skew2","='Ramp Terminal Inputs'!$U$21",null,null,null,"Input_Include_RTI_D3TS","='Control Strategy Selection'!$B$74"]
[null,null,null,null,null,null,null,null,null,null,"Input_A4ST_OAADTIn1","='Ramp Terminal Inputs'!$T$6",null,null,null,"Input_Include_RTI_A4SC","='Control Strategy Selection'!$B$75"]
[null,null,null,null,null,null,null,null,null,null,"Input_A4TS_DAADTEn1","='Ramp Terminal Inputs'!$N$13",null,null,null,"Input_Include_RTI_A2SC","='Control Strategy Selection'!$B$76"]
[null,null,null,null,null,null,null,null,null,null,"Input_A4TS_DAADTEn2","='Ramp Terminal Inputs'!$O$13",null,null,null,"Input_Include_RTI_B4SC","='Control Strategy Selection'!$B$77"]
[null,null,null,null,null,null,null,null,null,null,"Input_A4TS_DAADTEx1","='Ramp Terminal Inputs'!$N$12",null,null,null,"Input_Include_RTI_B2SC","='Control Strategy Selection'!$B$78"]
[null,null,null,null,null,null,null,null,null,null,"Input_A4TS_DAADTEx2","='Ramp Terminal Inputs'!$O$12",null,null,null,"Input_Include_RTI_D3SC","='Control Strategy Selection'!$B$79"]
[null,null,null,null,null,null,null,null,null,null,"Input_A4TS_DAADTIn1","='Ramp Terminal Inputs'!$N$10",null,null,null,"Input_Include_RTI_O1","='Control Strategy Selection'!$B$80"]
[null,null,null,null,null,null,null,null,null,null,"Input_A4TS_DAADTIn2","='Ramp Terminal Inputs'!$O$10",null,null,null,"Input_Include_RTI_O2","='Control Strategy Selection'!$B$81"]
[null,null,null,null,null,null,null,null,null,null,"Input_A4TS_DAADTOut1","='Ramp Terminal Inputs'!$N$11",null,null,null,"Input_1Way2Way","='Control Strategy Selection'!$D$10"]
[null,null,null,null,null,null,null,null,null,null,"Input_A4TS_DAADTOut2","='Ramp Terminal Inputs'!$O$11",null,null,null,"Input_NumMajorLanes","='Control Strategy Selection'!$D$11"]
[null,null,null,null,null,null,null,null,null,null,"Input_A4TS_ENLSR1","='Ramp Terminal Inputs'!$N$24",null,null,null,"Input_MajorApproachSpeed","='Control Strategy Selection'!$D$12"]
[null,null,null,null,null,null,null,null,null,null,"Input_A4TS_ENLSR2","='Ramp Terminal Inputs'!$O$24",null,null,null,"Input_Base_OAADTMajor","='Control Strategy Selection'!$D$13"]
[null,null,null,null,null,null,null,null,null,null,"Input_A4TS_ExitRTC1","='Ramp Terminal Inputs'!$N$23",null,null,null,"Input_Range_AGI_Base_OpenAADT","='Control Strategy Selection'!$D$13:$D$14"]
[null,null,null,null,null,null,null,null,null,null,"Input_A4TS_ExitRTC2","='Ramp Terminal Inputs'!$O$23",null,null,null,"Input_Base_OAADTMinor","='Control Strategy Selection'!$D$14"]
[null,null,null,null,null,null,null,null,null,null,"Input_A4TS_lRMP1","='Ramp Terminal Inputs'!$N$26",null,null,null,"Input_Base_DAADTMajor","='Control Strategy Selection'!$D$15"]
[null,null,null,null,null,null,null,null,null,null,"Input_A4TS_lRMP2","='Ramp Terminal Inputs'!$O$26",null,null,null,"Input_Range_AGI_Base_DesignAADT","='Control Strategy Selection'!$D$15:$D$16"]
[null,null,null,null,null,null,null,null,null,null,"Input_A4TS_lSTR1","='Ramp Terminal Inputs'!$N$27",null,null,null,"Input_Base_DAADTMinor","='Control Strategy Selection'!$D$16"]
[null,null,null,null,null,null,null,null,null,null,"Input_A4TS_lSTR2","='Ramp Terminal Inputs'!$O$27",null,null,null,"Input_Other1_BaseIntx","='Control Strategy Selection'!$D$34"]
[null,null,null,null,null,null,null,null,null,null,"Input_A4TS_LTBIn1","='Ramp Terminal Inputs'!$N$32",null,null,null,"Input_Other2_BaseIntx","='Control Strategy Selection'!$D$35"]
[null,null,null,null,null,null,null,null,null,null,"Input_A4TS_LTBIn2","='Ramp Terminal Inputs'!$O$32",null,null,null,"Input_AnalysisYearType","='Control Strategy Selection'!$D$4"]
[null,null,null,null,null,null,null,null,null,null,"Input_A4TS_LTBOut1","='Ramp Terminal Inputs'!$N$34",null,null,null,"Input_RTI_AreaType","='Control Strategy Selection'!$D$46"]
[null,null,null,null,null,null,null,null,null,null,"Input_A4TS_LTBOut2","='Ramp Terminal Inputs'!$O$34",null,null,null,"Input_RTI_OAADTIn1","='Control Strategy Selection'!$D$49"]
[null,null,null,null,null,null,null,null,null,null,"Input_A4TS_LTWIn1","='Ramp Terminal Inputs'!$N$33",null,null,null,"Input_OpenYear","='Control Strategy Selection'!$D$5"]
[null,null,null,null,null,null,null,null,null,null,"Input_A4TS_LTWIn2","='Ramp Terminal Inputs'!$O$33",null,null,null,"Input_RTI_OAADTOut1","='Control Strategy Selection'!$D$50"]
[null,null,null,null,null,null,null,null,null,null,"Input_A4TS_LTWOut1","='Ramp Terminal Inputs'!$N$35",null,null,null,"Input_RTI_OAADTEx1","='Control Strategy Selection'!$D$51"]
[null,null,null,null,null,null,null,null,null,null,"Input_A4TS_LTWOut2","='Ramp Terminal Inputs'!$O$35",null,null,null,"Input_RTI_OAADTEn1","='Control Strategy Selection'!$D$52"]
[null,null,null,null,null,null,null,null,null,null,"Input_A4TS_MW1","='Ramp Terminal Inputs'!$N$29",null,null,null,"Input_RTI_DAADTIn1","='Control Strategy Selection'!$D$54"]
[null,null,null,null,null,null,null,null,null,null,"Input_A4TS_MW2","='Ramp Terminal Inputs'!$O$29",null,null,null,"Input_RTI_DAADTOut1","='Control Strategy Selection'!$D$55"]
[null,null,null,null,null,null,null,null,null,null,"Input_A4TS_NLTOIn1","='Ramp Terminal Inputs'!$N$16",null,null,null,"Input_RTI_DAADTEx1","='Control Strategy Selection'!$D$56"]
[null,null,null,null,null,null,null,null,null,null,"Input_A4TS_NLTOIn2","='Ramp Terminal Inputs'!$O$16",null,null,null,"Input_RTI_DAADTEn1","='Control Strategy Selection'!$D$57"]
[null,null,null,null,null,null,null,null,null,null,"Input_A4TS_NLTOOut1","='Ramp Terminal Inputs'!$N$17",null,null,null,"Input_DesignYear","='Control Strategy Selection'!$D$6"]
[null,null,null,null,null,null,null,null,null,null,"Input_A4TS_NLTOOut2","='Ramp Terminal Inputs'!$O$17",null,null,null,"Input_FacilityType","='Control Strategy Selection'!$D$8"]
[null,null,null,null,null,null,null,null,null,null,"Input_A4TS_NLxst1","='Ramp Terminal Inputs'!$N$15",null,null,null,"Input_RTI_Other1_BaseIntx","='Control Strategy Selection'!$D$80"]
[null,null,null,null,null,null,null,null,null,null,"Input_A4TS_NLxst2","='Ramp Terminal Inputs'!$O$15",null,null,null,"Input_RTI_Other2_BaseIntx","='Control Strategy Selection'!$D$81"]
[null,null,null,null,null,null,null,null,null,null,"Input_A4TS_NRPSL1","='Ramp Terminal Inputs'!$N$22",null,null,null,"Input_NumLegs","='Control Strategy Selection'!$D$9"]
[null,null,null,null,null,null,null,null,null,null,"Input_A4TS_NRPSL2","='Ramp Terminal Inputs'!$O$22",null,null,null,"Input_RTI_OAADTIn2","='Control Strategy Selection'!$E$49"]
[null,null,null,null,null,null,null,null,null,null,"Input_A4TS_NSCDW1","='Ramp Terminal Inputs'!$N$25",null,null,null,"Input_RTI_OAADTOut2","='Control Strategy Selection'!$E$50"]
[null,null,null,null,null,null,null,null,null,null,"Input_A4TS_NSCDW2","='Ramp Terminal Inputs'!$O$25",null,null,null,"Input_RTI_OAADTEx2","='Control Strategy Selection'!$E$51"]
[null,null,null,null,null,null,null,null,null,null,"Input_A4TS_NSCPS1","='Ramp Terminal Inputs'!$N$28",null,null,null,"Input_RTI_OAADTEn2","='Control Strategy Selection'!$E$52"]
[null,null,null,null,null,null,null,null,null,null,"Input_A4TS_NSCPS2","='Ramp Terminal Inputs'!$O$28",null,null,null,"Input_RTI_DAADTIn2","='Control Strategy Selection'!$E$54"]
[null,null,null,null,null,null,null,null,null,null,"Input_A4TS_OAADTEn1","='Ramp Terminal Inputs'!$N$9",null,null,null,"Input_RTI_DAADTOut2","='Control Strategy Selection'!$E$55"]
[null,null,null,null,null,null,null,null,null,null,"Input_A4TS_OAADTEn2","='Ramp Terminal Inputs'!$O$9",null,null,null,"Input_RTI_DAADTEx2","='Control Strategy Selection'!$E$56"]
[null,null,null,null,null,null,null,null,null,null,"Input_A4TS_OAADTEx1","='Ramp Terminal Inputs'!$N$8",null,null,null,"Input_RTI_DAADTEn2","='Control Strategy Selection'!$E$57"]
[null,null,null,null,null,null,null,null,null,null,"Input_A4TS_OAADTEx2","='Ramp Terminal Inputs'!$O$8",null,null,null,"pete","='Control Strategy Selection'!$G$48"]
[null,null,null,null,null,null,null,null,null,null,"Input_A4TS_OAADTIn1","='Ramp Terminal Inputs'!$N$6",null,null,null,"Range_RML","=Definitions!$I$15:$M$20"]
[null,null,null,null,null,null,null,null,null,null,"Input_A4TS_OAADTIn2","='Ramp Terminal Inputs'!$O$6",null,null,null,"Range_USA_2x2_5F","=Definitions!$I$24:$M$29"]
[null,null,null,null,null,null,null,null,null,null,"Input_A4TS_OAADTOut1","='Ramp Terminal Inputs'!$N$7",null,null,null,"Range_USA_2x2_6P","=Definitions!$I$31:$M$36"]
[null,null,null,null,null,null,null,null,null,null,"Input_A4TS_OAADTOut2","='Ramp Terminal Inputs'!$O$7",null,null,null,"Range_USA_1x2","=Definitions!$I$39:$M$44"]
[null,null,null,null,null,null,null,null,null,null,"Input_A4TS_PLTOIn1","='Ramp Terminal Inputs'!$N$36",null,null,null,"Range_USA_1x1","=Definitions!$I$46:$M$51"]
[null,null,null,null,null,null,null,null,null,null,"Input_A4TS_PLTOIn2","='Ramp Terminal Inputs'!$O$36",null,null,null,"Range_R2L","=Definitions!$I$5:$M$10"]
[null,null,null,null,null,null,null,null,null,null,"Input_A4TS_PLTOOut1","='Ramp Terminal Inputs'!$N$37",null,null,null,"Range_USA_HS","=Definitions!$I$54:$M$59"]
[null,null,null,null,null,null,null,null,null,null,"Input_A4TS_PLTOOut2","='Ramp Terminal Inputs'!$O$37",null,null,null,"Range_RCUT_AADT","=Definitions!$O$21:$S$22"]
[null,null,null,null,null,null,null,null,null,null,"Input_A4TS_RTBIn1","='Ramp Terminal Inputs'!$N$30",null,null,null,"Range_RAB1","=Definitions!$O$3:$S$5"]
[null,null,null,null,null,null,null,null,null,null,"Input_A4TS_RTBIn2","='Ramp Terminal Inputs'!$O$30",null,null,null,"Range_RAB2","=Definitions!$O$7:$S$8"]
[null,null,null,null,null,null,null,null,null,null,"Input_A4TS_RTBOut1","='Ramp Terminal Inputs'!$N$31",null,null,null,"EB_Historical_Adjustment","=Historical!$D$5"]
[null,null,null,null,null,null,null,null,null,null,"Input_A4TS_RTBOut2","='Ramp Terminal Inputs'!$O$31",null,null,null,"EB_Intx_Type","=Historical!$D$8"]
[null,null,null,null,null,null,null,null,null,null,"Input_A4TS_RTCExit1","='Ramp Terminal Inputs'!$N$40",null,null,null,"EB_Facility_Type","=Historical!$D$9"]
[null,null,null,null,null,null,null,null,null,null,"Input_A4TS_RTCExit2","='Ramp Terminal Inputs'!$O$40",null,null,null,"NPred_Total","=Historical!$E$41"]
[null,null,null,null,null,null,null,null,null,null,"Input_A4TS_RTCIn1","='Ramp Terminal Inputs'!$N$38",null,null,null,"Range_EB_NPred1","=Historical!$E$41:$E$43"]
[null,null,null,null,null,null,null,null,null,null,"Input_A4TS_RTCIn2","='Ramp Terminal Inputs'!$O$38",null,null,null,"NPred_FI","=Historical!$E$42"]
[null,null,null,null,null,null,null,null,null,null,"Input_A4TS_RTCOut1","='Ramp Terminal Inputs'!$N$39",null,null,null,"NPred_PDO","=Historical!$E$43"]
[null,null,null,null,null,null,null,null,null,null,"Input_A4TS_RTCOut2","='Ramp Terminal Inputs'!$O$39",null,null,null,"NPred_Total_MV","=Historical!$E$57"]
[null,null,null,null,null,null,null,null,null,null,"Input_A4TS_Skew1","='Ramp Terminal Inputs'!$N$21",null,null,null,"Range_EB_NPred2","=Historical!$E$57:$E$59"]
[null,null,null,null,null,null,null,null,null,null,"Input_A4TS_Skew2","='Ramp Terminal Inputs'!$O$21",null,null,null,"NPred_FI_MV","=Historical!$E$58"]
[null,null,null,null,null,null,null,null,null,null,"Input_AGI_HasSchool","='At-Grade Inputs'!$D$32",null,null,null,"NPred_PDO_MV","=Historical!$E$59"]
[null,null,null,null,null,null,null,null,null,null,"Input_AGI_Lighting","='At-Grade Inputs'!$D$18",null,null,null,"NPred_Ped","=Historical!$E$73"]
[null,null,null,null,null,null,null,null,null,null,"Input_AGI_NumABC","='At-Grade Inputs'!$D$33",null,null,null,"NPred_Bike","=Historical!$E$79"]
[null,null,null,null,null,null,null,null,null,null,"Input_AGI_NumBusStops","='At-Grade Inputs'!$D$31",null,null,null,"EB_Ratio_Total","=Historical!$O$53"]
[null,null,null,null,null,null,null,null,null,null,"Input_AGI_R1_AADT_L1","='At-Grade Inputs'!$L$37",null,null,null,"EB_Ratio_FI","=Historical!$O$54"]
[null,null,null,null,null,null,null,null,null,null,"Input_AGI_R1_AADT_L2","='At-Grade Inputs'!$L$44",null,null,null,"EB_Ratio_PDO","=Historical!$O$55"]
[null,null,null,null,null,null,null,null,null,null,"Input_AGI_R1_AADT_L3","='At-Grade Inputs'!$L$51",null,null,null,"EB_Ratio_MV_Total","=Historical!$O$69"]
[null,null,null,null,null,null,null,null,null,null,"Input_AGI_R1_AADT_L4","='At-Grade Inputs'!$L$58",null,null,null,"EB_Ratio_MV_FI","=Historical!$O$70"]
[null,null,null,null,null,null,null,null,null,null,"Input_AGI_R1_Access_L1","='At-Grade Inputs'!$L$39",null,null,null,"EB_Ratio_MV_PDO","=Historical!$O$71"]
[null,null,null,null,null,null,null,null,null,null,"Input_AGI_R1_Access_L2","='At-Grade Inputs'!$L$46",null,null,null,"EB_Ratio_Ped","=Historical!$O$77"]
[null,null,null,null,null,null,null,null,null,null,"Input_AGI_R1_Access_L3","='At-Grade Inputs'!$L$53",null,null,null,"EB_RTI_Historical_Adjustment","=HistoricalRTI!$D$5"]
[null,null,null,null,null,null,null,null,null,null,"Input_AGI_R1_Access_L4","='At-Grade Inputs'!$L$60",null,null,null,"EB_RTI_Intx_Type","=HistoricalRTI!$D$8"]
[null,null,null,null,null,null,null,null,null,null,"Input_AGI_R1_Bypass_L1","='At-Grade Inputs'!$L$38",null,null,null,"Npred_RTI_Total1","=HistoricalRTI!$E$41"]
[null,null,null,null,null,null,null,null,null,null,"Input_AGI_R1_Bypass_L2","='At-Grade Inputs'!$L$45",null,null,null,"Range_EB_RTI_NPred1","=HistoricalRTI!$E$41:$E$43"]
[null,null,null,null,null,null,null,null,null,null,"Input_AGI_R1_Bypass_L3","='At-Grade Inputs'!$L$52",null,null,null,"Npred_RTI_FI1","=HistoricalRTI!$E$42"]
[null,null,null,null,null,null,null,null,null,null,"Input_AGI_R1_Bypass_L4","='At-Grade Inputs'!$L$59",null,null,null,"Npred_RTI_PDO1","=HistoricalRTI!$E$43"]
[null,null,null,null,null,null,null,null,null,null,"Input_AGI_R1_ICD","='At-Grade Inputs'!$L$35",null,null,null,"Npred_RTI_Total2","=HistoricalRTI!$E$57"]
[null,null,null,null,null,null,null,null,null,null,"Input_AGI_R2_AADT_L1","='At-Grade Inputs'!$N$37",null,null,null,"Range_EB_RTI_NPred2","=HistoricalRTI!$E$57:$E$59"]
[null,null,null,null,null,null,null,null,null,null,"Input_AGI_R2_AADT_L2","='At-Grade Inputs'!$N$44",null,null,null,"Npred_RTI_FI2","=HistoricalRTI!$E$58"]
[null,null,null,null,null,null,null,null,null,null,"Input_AGI_R2_AADT_L3","='At-Grade Inputs'!$N$51",null,null,null,"Npred_RTI_PDO2","=HistoricalRTI!$E$59"]
[null,null,null,null,null,null,null,null,null,null,"Input_AGI_R2_AADT_L4","='At-Grade Inputs'!$N$58",null,null,null,"EB_RTI_Ratio_Total1","=HistoricalRTI!$O$53"]
[null,null,null,null,null,null,null,null,null,null,"Input_AGI_R2_Bypass_L1","='At-Grade Inputs'!$N$38",null,null,null,"EB_RTI_Ratio_FI1","=HistoricalRTI!$O$54"]
[null,null,null,null,null,null,null,null,null,null,"Input_AGI_R2_Bypass_L2","='At-Grade Inputs'!$N$45",null,null,null,"EB_RTI_Ratio_PDO1","=HistoricalRTI!$O$55"]
[null,null,null,null,null,null,null,null,null,null,"Input_AGI_R2_Bypass_L3","='At-Grade Inputs'!$N$52",null,null,null,"EB_RTI_Ratio_Total2","=HistoricalRTI!$O$69"]
[null,null,null,null,null,null,null,null,null,null,"Input_AGI_R2_Bypass_L4","='At-Grade Inputs'!$N$59",null,null,null,"EB_RTI_Ratio_FI2","=HistoricalRTI!$O$70"]
[null,null,null,null,null,null,null,null,null,null,"Input_AGI_R2_CL_L1","='At-Grade Inputs'!$N$42",null,null,null,"EB_RTI_Ratio_PDO2","=HistoricalRTI!$O$71"]
[null,null,null,null,null,null,null,null,null,null,"Input_AGI_R2_CL_L2","='At-Grade Inputs'!$N$49",null,null,null,"Name_SPUI_Opt","=HistoricalRTI!$X$43"]
[null,null,null,null,null,null,null,null,null,null,"Input_AGI_R2_CL_L3","='At-Grade Inputs'!$N$56",null,null,null,"Name_TD_Opt","=HistoricalRTI!$X$44"]
[null,null,null,null,null,null,null,null,null,null,"Input_AGI_R2_CL_L4","='At-Grade Inputs'!$N$63",null,null,null,"Label_AGI_DLT","=Labels!$A$10"]
[null,null,null,null,null,null,null,null,null,null,"Input_AGI_R2_EL_L1","='At-Grade Inputs'!$N$41",null,null,null,"Label_AGI_MUT","=Labels!$A$11"]
[null,null,null,null,null,null,null,null,null,null,"Input_AGI_R2_EL_L2","='At-Grade Inputs'!$N$48",null,null,null,"Label_AGI_RCUTSig","=Labels!$A$12"]
[null,null,null,null,null,null,null,null,null,null,"Input_AGI_R2_EL_L3","='At-Grade Inputs'!$N$55",null,null,null,"Label_AGI_RCUTUnsig","=Labels!$A$13"]
[null,null,null,null,null,null,null,null,null,null,"Input_AGI_R2_EL_L4","='At-Grade Inputs'!$N$62",null,null,null,"Label_AGI_GreenT","=Labels!$A$14"]
[null,null,null,null,null,null,null,null,null,null,"Input_AGI_R2_EW_L1","='At-Grade Inputs'!$N$40",null,null,null,"Label_AGI_Jughandle","=Labels!$A$15"]
[null,null,null,null,null,null,null,null,null,null,"Input_AGI_R2_EW_L2","='At-Grade Inputs'!$N$47",null,null,null,"Label_AGI_Other1","=Labels!$A$16"]
[null,null,null,null,null,null,null,null,null,null,"Input_AGI_R2_EW_L3","='At-Grade Inputs'!$N$54",null,null,null,"Label_AGI_Other2","=Labels!$A$17"]
[null,null,null,null,null,null,null,null,null,null,"Input_AGI_R2_EW_L4","='At-Grade Inputs'!$N$61",null,null,null,"FacilityType_Label_Rural2Ln","=Labels!$A$34"]
[null,null,null,null,null,null,null,null,null,null,"Input_AGI_R2_ICD","='At-Grade Inputs'!$N$35",null,null,null,"FacilityType_Label_RuralMultiLn","=Labels!$A$35"]
[null,null,null,null,null,null,null,null,null,null,"Input_AGI_SkewAngle","='At-Grade Inputs'!$H$17",null,null,null,"FacilityType_Label_Urban","=Labels!$A$36"]
[null,null,null,null,null,null,null,null,null,null,"Input_AGI_SRCUT_LTL","='At-Grade Inputs'!$T$73",null,null,null,"FacilityType_Label_UrbanHighSpeed","=Labels!$A$37"]
[null,null,null,null,null,null,null,null,null,null,"Input_AGI_SRCUT_MaLa","='At-Grade Inputs'!$T$67",null,null,null,"Label_AnalysisYearType_OpenOnly","=Labels!$A$45"]
[null,null,null,null,null,null,null,null,null,null,"Input_AGI_SRCUT_MiLa","='At-Grade Inputs'!$T$68",null,null,null,"Label_AnalysisYearType_OpenAndDesign","=Labels!$A$46"]
[null,null,null,null,null,null,null,null,null,null,"Input_AGI_SRCUT_MRSL","='At-Grade Inputs'!$T$74",null,null,null,"Label_AGI_TrafficSignal","=Labels!$A$5"]
[null,null,null,null,null,null,null,null,null,null,"Input_AGI_SRCUT_NDW","='At-Grade Inputs'!$T$70",null,null,null,"Label_Ped_Activity_High","=Labels!$A$53"]
[null,null,null,null,null,null,null,null,null,null,"Input_AGI_SRCUT_TDLL","='At-Grade Inputs'!$T$71",null,null,null,"Label_Ped_Activity_MedHigh","=Labels!$A$54"]
[null,null,null,null,null,null,null,null,null,null,"Input_AGI_SRCUT_TMeW","='At-Grade Inputs'!$T$75",null,null,null,"Label_Ped_Activity_Medium","=Labels!$A$55"]
[null,null,null,null,null,null,null,null,null,null,"Input_AGI_SRCUT_TOD","='At-Grade Inputs'!$T$69",null,null,null,"Label_Ped_Activity_MedLow","=Labels!$A$56"]
[null,null,null,null,null,null,null,null,null,null,"Input_AGI_SRCUT_UT","='At-Grade Inputs'!$T$66",null,null,null,"Label_Ped_Activity_Low","=Labels!$A$57"]
[null,null,null,null,null,null,null,null,null,null,"Input_AGI_URCUT_MMeW","='At-Grade Inputs'!$V$76",null,null,null,"Label_Ped_Activity_Custom","=Labels!$A$58"]
[null,null,null,null,null,null,null,null,null,null,"Input_AGI_URCUT_NDW","='At-Grade Inputs'!$V$70",null,null,null,"Label_AGI_MinorStop","=Labels!$A$6"]
[null,null,null,null,null,null,null,null,null,null,"Input_AGI_URCUT_TALL","='At-Grade Inputs'!$V$72",null,null,null,"Label_AGI_AllStop","=Labels!$A$7"]
[null,null,null,null,null,null,null,null,null,null,"Input_AGI_URCUT_TDLL","='At-Grade Inputs'!$V$71",null,null,null,"Label_AGI_1LnRdbt","=Labels!$A$8"]
[null,null,null,null,null,null,null,null,null,null,"Input_AGI_URCUT_TOD","='At-Grade Inputs'!$V$69",null,null,null,"Label_AGI_2LnRdbt","=Labels!$A$9"]
[null,null,null,null,null,null,null,null,null,null,"Input_AGI_URCUT_UT","='At-Grade Inputs'!$V$66",null,null,null,"Label_Is4Leg","=Labels!$D$51"]
[null,null,null,null,null,null,null,null,null,null,"Input_AllStop_NumAppWithLTLns","='At-Grade Inputs'!$J$11",null,null,null,"Range_ItxList_RTI","=Notes!$J$55:$J$57"]
[null,null,null,null,null,null,null,null,null,null,"Input_AllStop_NumAppWithRTLns","='At-Grade Inputs'!$J$12",null,null,null,"Input_D4TS_DAADTIn1","='Ramp Terminal Inputs'!$B$10"]
[null,null,null,null,null,null,null,null,null,null,"Input_AnalysisYearType","='Control Strategy Selection'!$D$4",null,null,null,"Input_D4TS_DAADTOut1","='Ramp Terminal Inputs'!$B$11"]
[null,null,null,null,null,null,null,null,null,null,"Input_AWSC_Lighting","='At-Grade Inputs'!$J$18",null,null,null,"Input_D4TS_DAADTEx1","='Ramp Terminal Inputs'!$B$12"]
[null,null,null,null,null,null,null,null,null,null,"Input_B2TS_DAADTEn1","='Ramp Terminal Inputs'!$T$13",null,null,null,"Input_D4TS_DAADTEn1","='Ramp Terminal Inputs'!$B$13"]
[null,null,null,null,null,null,null,null,null,null,"Input_B2TS_DAADTEn2","='Ramp Terminal Inputs'!$U$13",null,null,null,"Input_D4TS_NLxst1","='Ramp Terminal Inputs'!$B$15"]
[null,null,null,null,null,null,null,null,null,null,"Input_B2TS_DAADTEx1","='Ramp Terminal Inputs'!$T$12",null,null,null,"Input_D4TS_NLTOIn1","='Ramp Terminal Inputs'!$B$16"]
[null,null,null,null,null,null,null,null,null,null,"Input_B2TS_DAADTEx2","='Ramp Terminal Inputs'!$U$12",null,null,null,"Input_D4TS_NLTOOut1","='Ramp Terminal Inputs'!$B$17"]
[null,null,null,null,null,null,null,null,null,null,"Input_B2TS_DAADTIn1","='Ramp Terminal Inputs'!$T$10",null,null,null,"Input_D4TS_NRPSL1","='Ramp Terminal Inputs'!$B$22"]
[null,null,null,null,null,null,null,null,null,null,"Input_B2TS_DAADTIn2","='Ramp Terminal Inputs'!$U$10",null,null,null,"Input_D4TS_ExitRTC1","='Ramp Terminal Inputs'!$B$23"]
[null,null,null,null,null,null,null,null,null,null,"Input_B2TS_DAADTOut1","='Ramp Terminal Inputs'!$T$11",null,null,null,"Input_D4TS_ENLSR1","='Ramp Terminal Inputs'!$B$24"]
[null,null,null,null,null,null,null,null,null,null,"Input_B2TS_DAADTOut2","='Ramp Terminal Inputs'!$U$11",null,null,null,"Input_D4TS_NSCDW1","='Ramp Terminal Inputs'!$B$25"]
[null,null,null,null,null,null,null,null,null,null,"Input_B2TS_ENLSR1","='Ramp Terminal Inputs'!$T$24",null,null,null,"Input_D4TS_lRMP1","='Ramp Terminal Inputs'!$B$26"]
[null,null,null,null,null,null,null,null,null,null,"Input_B2TS_ENLSR2","='Ramp Terminal Inputs'!$U$24",null,null,null,"Input_D4TS_lSTR1","='Ramp Terminal Inputs'!$B$27"]
[null,null,null,null,null,null,null,null,null,null,"Input_B2TS_ExitRTC1","='Ramp Terminal Inputs'!$T$23",null,null,null,"Input_D4TS_NSCPS1","='Ramp Terminal Inputs'!$B$28"]
[null,null,null,null,null,null,null,null,null,null,"Input_B2TS_ExitRTC2","='Ramp Terminal Inputs'!$U$23",null,null,null,"Input_D4TS_MW1","='Ramp Terminal Inputs'!$B$29"]
[null,null,null,null,null,null,null,null,null,null,"Input_B2TS_lRMP1","='Ramp Terminal Inputs'!$T$26",null,null,null,"Input_D4TS_RTBIn1","='Ramp Terminal Inputs'!$B$30"]
[null,null,null,null,null,null,null,null,null,null,"Input_B2TS_lRMP2","='Ramp Terminal Inputs'!$U$26",null,null,null,"Input_D4TS_RTBOut1","='Ramp Terminal Inputs'!$B$31"]
[null,null,null,null,null,null,null,null,null,null,"Input_B2TS_lSTR1","='Ramp Terminal Inputs'!$T$27",null,null,null,"Input_D4TS_LTBIn1","='Ramp Terminal Inputs'!$B$32"]
[null,null,null,null,null,null,null,null,null,null,"Input_B2TS_lSTR2","='Ramp Terminal Inputs'!$U$27",null,null,null,"Input_D4TS_LTWIn1","='Ramp Terminal Inputs'!$B$33"]
[null,null,null,null,null,null,null,null,null,null,"Input_B2TS_LTBIn1","='Ramp Terminal Inputs'!$T$32",null,null,null,"Input_D4TS_LTBOut1","='Ramp Terminal Inputs'!$B$34"]
[null,null,null,null,null,null,null,null,null,null,"Input_B2TS_LTBIn2","='Ramp Terminal Inputs'!$U$32",null,null,null,"Input_D4TS_LTWOut1","='Ramp Terminal Inputs'!$B$35"]
[null,null,null,null,null,null,null,null,null,null,"Input_B2TS_LTBOut1","='Ramp Terminal Inputs'!$T$34",null,null,null,"Input_D4TS_PLTOIn1","='Ramp Terminal Inputs'!$B$36"]
[null,null,null,null,null,null,null,null,null,null,"Input_B2TS_LTBOut2","='Ramp Terminal Inputs'!$U$34",null,null,null,"Input_D4TS_PLTOOut1","='Ramp Terminal Inputs'!$B$37"]
[null,null,null,null,null,null,null,null,null,null,"Input_B2TS_LTWIn1","='Ramp Terminal Inputs'!$T$33",null,null,null,"Input_D4TS_RTCIn1","='Ramp Terminal Inputs'!$B$38"]
[null,null,null,null,null,null,null,null,null,null,"Input_B2TS_LTWIn2","='Ramp Terminal Inputs'!$U$33",null,null,null,"Input_D4TS_RTCOut1","='Ramp Terminal Inputs'!$B$39"]
[null,null,null,null,null,null,null,null,null,null,"Input_B2TS_LTWOut1","='Ramp Terminal Inputs'!$T$35",null,null,null,"Input_D4TS_RTCExit1","='Ramp Terminal Inputs'!$B$40"]
[null,null,null,null,null,null,null,null,null,null,"Input_B2TS_LTWOut2","='Ramp Terminal Inputs'!$U$35",null,null,null,"Input_D4TS_OAADTIn1","='Ramp Terminal Inputs'!$B$6"]
[null,null,null,null,null,null,null,null,null,null,"Input_B2TS_MW1","='Ramp Terminal Inputs'!$T$29",null,null,null,"Input_D4TS_OAADTOut1","='Ramp Terminal Inputs'!$B$7"]
[null,null,null,null,null,null,null,null,null,null,"Input_B2TS_MW2","='Ramp Terminal Inputs'!$U$29",null,null,null,"Input_D4TS_OAADTEx1","='Ramp Terminal Inputs'!$B$8"]
[null,null,null,null,null,null,null,null,null,null,"Input_B2TS_NLTOIn1","='Ramp Terminal Inputs'!$T$16",null,null,null,"Input_D4TS_OAADTEn1","='Ramp Terminal Inputs'!$B$9"]
[null,null,null,null,null,null,null,null,null,null,"Input_B2TS_NLTOIn2","='Ramp Terminal Inputs'!$U$16",null,null,null,"Input_D4TS_DAADTIn2","='Ramp Terminal Inputs'!$C$10"]
[null,null,null,null,null,null,null,null,null,null,"Input_B2TS_NLTOOut1","='Ramp Terminal Inputs'!$T$17",null,null,null,"Input_D4TS_DAADTOut2","='Ramp Terminal Inputs'!$C$11"]
[null,null,null,null,null,null,null,null,null,null,"Input_B2TS_NLTOOut2","='Ramp Terminal Inputs'!$U$17",null,null,null,"Input_D4TS_DAADTEx2","='Ramp Terminal Inputs'!$C$12"]
[null,null,null,null,null,null,null,null,null,null,"Input_B2TS_NLxst1","='Ramp Terminal Inputs'!$T$15",null,null,null,"Input_D4TS_DAADTEn2","='Ramp Terminal Inputs'!$C$13"]
[null,null,null,null,null,null,null,null,null,null,"Input_B2TS_NLxst2","='Ramp Terminal Inputs'!$U$15",null,null,null,"Input_D4TS_NLxst2","='Ramp Terminal Inputs'!$C$15"]
[null,null,null,null,null,null,null,null,null,null,"Input_B2TS_NRPSL1","='Ramp Terminal Inputs'!$T$22",null,null,null,"Input_D4TS_NLTOIn2","='Ramp Terminal Inputs'!$C$16"]
[null,null,null,null,null,null,null,null,null,null,"Input_B2TS_NRPSL2","='Ramp Terminal Inputs'!$U$22",null,null,null,"Input_D4TS_NLTOOut2","='Ramp Terminal Inputs'!$C$17"]
[null,null,null,null,null,null,null,null,null,null,"Input_B2TS_NSCDW1","='Ramp Terminal Inputs'!$T$25",null,null,null,"Input_D4TS_NRPSL2","='Ramp Terminal Inputs'!$C$22"]
[null,null,null,null,null,null,null,null,null,null,"Input_B2TS_NSCDW2","='Ramp Terminal Inputs'!$U$25",null,null,null,"Input_D4TS_ExitRTC2","='Ramp Terminal Inputs'!$C$23"]
[null,null,null,null,null,null,null,null,null,null,"Input_B2TS_NSCPS1","='Ramp Terminal Inputs'!$T$28",null,null,null,"Input_D4TS_ENLSR2","='Ramp Terminal Inputs'!$C$24"]
[null,null,null,null,null,null,null,null,null,null,"Input_B2TS_NSCPS2","='Ramp Terminal Inputs'!$U$28",null,null,null,"Input_D4TS_NSCDW2","='Ramp Terminal Inputs'!$C$25"]
[null,null,null,null,null,null,null,null,null,null,"Input_B2TS_OAADTEn1","='Ramp Terminal Inputs'!$T$9",null,null,null,"Input_D4TS_lRMP2","='Ramp Terminal Inputs'!$C$26"]
[null,null,null,null,null,null,null,null,null,null,"Input_B2TS_OAADTEn2","='Ramp Terminal Inputs'!$U$9",null,null,null,"Input_D4TS_lSTR2","='Ramp Terminal Inputs'!$C$27"]
[null,null,null,null,null,null,null,null,null,null,"Input_B2TS_OAADTEx1","='Ramp Terminal Inputs'!$T$8",null,null,null,"Input_D4TS_NSCPS2","='Ramp Terminal Inputs'!$C$28"]
[null,null,null,null,null,null,null,null,null,null,"Input_B2TS_OAADTEx2","='Ramp Terminal Inputs'!$U$8",null,null,null,"Input_D4TS_MW2","='Ramp Terminal Inputs'!$C$29"]
[null,null,null,null,null,null,null,null,null,null,"Input_B2TS_OAADTIn1","='Ramp Terminal Inputs'!$T$6",null,null,null,"Input_D4TS_RTBIn2","='Ramp Terminal Inputs'!$C$30"]
[null,null,null,null,null,null,null,null,null,null,"Input_B2TS_OAADTIn2","='Ramp Terminal Inputs'!$U$6",null,null,null,"Input_D4TS_RTBOut2","='Ramp Terminal Inputs'!$C$31"]
[null,null,null,null,null,null,null,null,null,null,"Input_B2TS_OAADTOut1","='Ramp Terminal Inputs'!$T$7",null,null,null,"Input_D4TS_LTBIn2","='Ramp Terminal Inputs'!$C$32"]
[null,null,null,null,null,null,null,null,null,null,"Input_B2TS_OAADTOut2","='Ramp Terminal Inputs'!$U$7",null,null,null,"Input_D4TS_LTWIn2","='Ramp Terminal Inputs'!$C$33"]
[null,null,null,null,null,null,null,null,null,null,"Input_B2TS_PLTOIn1","='Ramp Terminal Inputs'!$T$36",null,null,null,"Input_D4TS_LTBOut2","='Ramp Terminal Inputs'!$C$34"]
[null,null,null,null,null,null,null,null,null,null,"Input_B2TS_PLTOIn2","='Ramp Terminal Inputs'!$U$36",null,null,null,"Input_D4TS_LTWOut2","='Ramp Terminal Inputs'!$C$35"]
[null,null,null,null,null,null,null,null,null,null,"Input_B2TS_PLTOOut1","='Ramp Terminal Inputs'!$T$37",null,null,null,"Input_D4TS_PLTOIn2","='Ramp Terminal Inputs'!$C$36"]
[null,null,null,null,null,null,null,null,null,null,"Input_B2TS_PLTOOut2","='Ramp Terminal Inputs'!$U$37",null,null,null,"Input_D4TS_PLTOOut2","='Ramp Terminal Inputs'!$C$37"]
[null,null,null,null,null,null,null,null,null,null,"Input_B2TS_RTBIn1","='Ramp Terminal Inputs'!$T$30",null,null,null,"Input_D4TS_RTCIn2","='Ramp Terminal Inputs'!$C$38"]
[null,null,null,null,null,null,null,null,null,null,"Input_B2TS_RTBIn2","='Ramp Terminal Inputs'!$U$30",null,null,null,"Input_D4TS_RTCOut2","='Ramp Terminal Inputs'!$C$39"]
[null,null,null,null,null,null,null,null,null,null,"Input_B2TS_RTBOut1","='Ramp Terminal Inputs'!$T$31",null,null,null,"Input_D4TS_RTCExit2","='Ramp Terminal Inputs'!$C$40"]
[null,null,null,null,null,null,null,null,null,null,"Input_B2TS_RTBOut2","='Ramp Terminal Inputs'!$U$31",null,null,null,"Input_D4TS_OAADTIn2","='Ramp Terminal Inputs'!$C$6"]
[null,null,null,null,null,null,null,null,null,null,"Input_B2TS_RTCExit1","='Ramp Terminal Inputs'!$T$40",null,null,null,"Input_D4TS_OAADTOut2","='Ramp Terminal Inputs'!$C$7"]
[null,null,null,null,null,null,null,null,null,null,"Input_B2TS_RTCExit2","='Ramp Terminal Inputs'!$U$40",null,null,null,"Input_D4TS_OAADTEx2","='Ramp Terminal Inputs'!$C$8"]
[null,null,null,null,null,null,null,null,null,null,"Input_B2TS_RTCIn1","='Ramp Terminal Inputs'!$T$38",null,null,null,"Input_D4TS_OAADTEn2","='Ramp Terminal Inputs'!$C$9"]
[null,null,null,null,null,null,null,null,null,null,"Input_B2TS_RTCIn2","='Ramp Terminal Inputs'!$U$38",null,null,null,"Input_D4TSA_DAADTIn1","='Ramp Terminal Inputs'!$D$10"]
[null,null,null,null,null,null,null,null,null,null,"Input_B2TS_RTCOut1","='Ramp Terminal Inputs'!$T$39",null,null,null,"Input_D4TSA_DAADTOut1","='Ramp Terminal Inputs'!$D$11"]
[null,null,null,null,null,null,null,null,null,null,"Input_B2TS_RTCOut2","='Ramp Terminal Inputs'!$U$39",null,null,null,"Input_D4TSA_DAADTEx1","='Ramp Terminal Inputs'!$D$12"]
[null,null,null,null,null,null,null,null,null,null,"Input_B2TS_Skew1","='Ramp Terminal Inputs'!$T$21",null,null,null,"Input_D4TSA_DAADTEn1","='Ramp Terminal Inputs'!$D$13"]
[null,null,null,null,null,null,null,null,null,null,"Input_B2TS_Skew2","='Ramp Terminal Inputs'!$U$21",null,null,null,"Input_D4TSA_NLxst1","='Ramp Terminal Inputs'!$D$15"]
[null,null,null,null,null,null,null,null,null,null,"Input_B4SC_DAADTEn1","='Ramp Terminal Inputs'!$X$13",null,null,null,"Input_D4TSA_NLTOIn1","='Ramp Terminal Inputs'!$D$16"]
[null,null,null,null,null,null,null,null,null,null,"Input_B4SC_DAADTEn2","='Ramp Terminal Inputs'!$Y$13",null,null,null,"Input_D4TSA_NLTOOut1","='Ramp Terminal Inputs'!$D$17"]
[null,null,null,null,null,null,null,null,null,null,"Input_B4SC_DAADTEx1","='Ramp Terminal Inputs'!$X$12",null,null,null,"Input_D4TSA_NRPSL1","='Ramp Terminal Inputs'!$D$22"]
[null,null,null,null,null,null,null,null,null,null,"Input_B4SC_DAADTEx2","='Ramp Terminal Inputs'!$Y$12",null,null,null,"Input_D4TSA_ExitRTC1","='Ramp Terminal Inputs'!$D$23"]
[null,null,null,null,null,null,null,null,null,null,"Input_B4SC_DAADTIn1","='Ramp Terminal Inputs'!$X$10",null,null,null,"Input_D4TSA_ENLSR1","='Ramp Terminal Inputs'!$D$24"]
[null,null,null,null,null,null,null,null,null,null,"Input_B4SC_DAADTIn2","='Ramp Terminal Inputs'!$Y$10",null,null,null,"Input_D4TSA_NSCDW1","='Ramp Terminal Inputs'!$D$25"]
[null,null,null,null,null,null,null,null,null,null,"Input_B4SC_DAADTOut1","='Ramp Terminal Inputs'!$X$11",null,null,null,"Input_D4TSA_lRMP1","='Ramp Terminal Inputs'!$D$26"]
[null,null,null,null,null,null,null,null,null,null,"Input_B4SC_DAADTOut2","='Ramp Terminal Inputs'!$Y$11",null,null,null,"Input_D4TSA_lSTR1","='Ramp Terminal Inputs'!$D$27"]
[null,null,null,null,null,null,null,null,null,null,"Input_B4SC_ENLSR1","='Ramp Terminal Inputs'!$X$24",null,null,null,"Input_D4TSA_NSCPS1","='Ramp Terminal Inputs'!$D$28"]
[null,null,null,null,null,null,null,null,null,null,"Input_B4SC_ENLSR2","='Ramp Terminal Inputs'!$Y$24",null,null,null,"Input_D4TSA_MW1","='Ramp Terminal Inputs'!$D$29"]
[null,null,null,null,null,null,null,null,null,null,"Input_B4SC_ExitRTC1","='Ramp Terminal Inputs'!$X$23",null,null,null,"Input_D4TSA_RTBIn1","='Ramp Terminal Inputs'!$D$30"]
[null,null,null,null,null,null,null,null,null,null,"Input_B4SC_ExitRTC2","='Ramp Terminal Inputs'!$Y$23",null,null,null,"Input_D4TSA_RTBOut1","='Ramp Terminal Inputs'!$D$31"]
[null,null,null,null,null,null,null,null,null,null,"Input_B4SC_lRMP1","='Ramp Terminal Inputs'!$X$26",null,null,null,"Input_D4TSA_LTBIn1","='Ramp Terminal Inputs'!$D$32"]
[null,null,null,null,null,null,null,null,null,null,"Input_B4SC_lRMP2","='Ramp Terminal Inputs'!$Y$26",null,null,null,"Input_D4TSA_LTWIn1","='Ramp Terminal Inputs'!$D$33"]
[null,null,null,null,null,null,null,null,null,null,"Input_B4SC_lSTR1","='Ramp Terminal Inputs'!$X$27",null,null,null,"Input_D4TSA_LTBOut1","='Ramp Terminal Inputs'!$D$34"]
[null,null,null,null,null,null,null,null,null,null,"Input_B4SC_lSTR2","='Ramp Terminal Inputs'!$Y$27",null,null,null,"Input_D4TSA_LTWOut1","='Ramp Terminal Inputs'!$D$35"]
[null,null,null,null,null,null,null,null,null,null,"Input_B4SC_LTBIn1","='Ramp Terminal Inputs'!$X$32",null,null,null,"Input_D4TSA_PLTOIn1","='Ramp Terminal Inputs'!$D$36"]
[null,null,null,null,null,null,null,null,null,null,"Input_B4SC_LTBIn2","='Ramp Terminal Inputs'!$Y$32",null,null,null,"Input_D4TSA_PLTOOut1","='Ramp Terminal Inputs'!$D$37"]
[null,null,null,null,null,null,null,null,null,null,"Input_B4SC_LTWIn1","='Ramp Terminal Inputs'!$X$33",null,null,null,"Input_D4TSA_RTCIn1","='Ramp Terminal Inputs'!$D$38"]
[null,null,null,null,null,null,null,null,null,null,"Input_B4SC_LTWIn2","='Ramp Terminal Inputs'!$Y$33",null,null,null,"Input_D4TSA_RTCOut1","='Ramp Terminal Inputs'!$D$39"]
[null,null,null,null,null,null,null,null,null,null,"Input_B4SC_MW1","='Ramp Terminal Inputs'!$X$29",null,null,null,"Input_D4TSA_RTCExit1","='Ramp Terminal Inputs'!$D$40"]
[null,null,null,null,null,null,null,null,null,null,"Input_B4SC_MW2","='Ramp Terminal Inputs'!$Y$29",null,null,null,"Input_D4TSA_OAADTIn1","='Ramp Terminal Inputs'!$D$6"]
[null,null,null,null,null,null,null,null,null,null,"Input_B4SC_NLxst1","='Ramp Terminal Inputs'!$X$15",null,null,null,"Input_D4TSA_OAADTOut1","='Ramp Terminal Inputs'!$D$7"]
[null,null,null,null,null,null,null,null,null,null,"Input_B4SC_NLxst2","='Ramp Terminal Inputs'!$Y$15",null,null,null,"Input_D4TSA_OAADTEx1","='Ramp Terminal Inputs'!$D$8"]
[null,null,null,null,null,null,null,null,null,null,"Input_B4SC_OAADTEn1","='Ramp Terminal Inputs'!$X$9",null,null,null,"Input_D4TSA_OAADTEn1","='Ramp Terminal Inputs'!$D$9"]
[null,null,null,null,null,null,null,null,null,null,"Input_B4SC_OAADTEn2","='Ramp Terminal Inputs'!$Y$9",null,null,null,"Input_D4TSA_DAADTIn2","='Ramp Terminal Inputs'!$E$10"]
[null,null,null,null,null,null,null,null,null,null,"Input_B4SC_OAADTEx1","='Ramp Terminal Inputs'!$X$8",null,null,null,"Input_D4TSA_DAADTOut2","='Ramp Terminal Inputs'!$E$11"]
[null,null,null,null,null,null,null,null,null,null,"Input_B4SC_OAADTEx2","='Ramp Terminal Inputs'!$Y$8",null,null,null,"Input_D4TSA_DAADTEx2","='Ramp Terminal Inputs'!$E$12"]
[null,null,null,null,null,null,null,null,null,null,"Input_B4SC_OAADTIn1","='Ramp Terminal Inputs'!$X$6",null,null,null,"Input_D4TSA_DAADTEn2","='Ramp Terminal Inputs'!$E$13"]
[null,null,null,null,null,null,null,null,null,null,"Input_B4SC_OAADTIn2","='Ramp Terminal Inputs'!$Y$6",null,null,null,"Input_D4TSA_NLxst2","='Ramp Terminal Inputs'!$E$15"]
[null,null,null,null,null,null,null,null,null,null,"Input_B4SC_OAADTOut1","='Ramp Terminal Inputs'!$X$7",null,null,null,"Input_D4TSA_NLTOIn2","='Ramp Terminal Inputs'!$E$16"]
[null,null,null,null,null,null,null,null,null,null,"Input_B4SC_OAADTOut2","='Ramp Terminal Inputs'!$Y$7",null,null,null,"Input_D4TSA_NLTOOut2","='Ramp Terminal Inputs'!$E$17"]
[null,null,null,null,null,null,null,null,null,null,"Input_B4SC_RTBOut1","='Ramp Terminal Inputs'!$X$31",null,null,null,"Input_D4TSA_NRPSL2","='Ramp Terminal Inputs'!$E$22"]
[null,null,null,null,null,null,null,null,null,null,"Input_B4SC_RTBOut2","='Ramp Terminal Inputs'!$Y$31",null,null,null,"Input_D4TSA_ExitRTC2","='Ramp Terminal Inputs'!$E$23"]
[null,null,null,null,null,null,null,null,null,null,"Input_B4SC_Skew1","='Ramp Terminal Inputs'!$X$21",null,null,null,"Input_D4TSA_ENLSR2","='Ramp Terminal Inputs'!$E$24"]
[null,null,null,null,null,null,null,null,null,null,"Input_B4SC_Skew2","='Ramp Terminal Inputs'!$Y$21",null,null,null,"Input_D4TSA_NSCDW2","='Ramp Terminal Inputs'!$E$25"]
[null,null,null,null,null,null,null,null,null,null,"Input_B4TS_DAADTEn1","='Ramp Terminal Inputs'!$R$13",null,null,null,"Input_D4TSA_lRMP2","='Ramp Terminal Inputs'!$E$26"]
[null,null,null,null,null,null,null,null,null,null,"Input_B4TS_DAADTEn2","='Ramp Terminal Inputs'!$S$13",null,null,null,"Input_D4TSA_lSTR2","='Ramp Terminal Inputs'!$E$27"]
[null,null,null,null,null,null,null,null,null,null,"Input_B4TS_DAADTEx1","='Ramp Terminal Inputs'!$R$12",null,null,null,"Input_D4TSA_NSCPS2","='Ramp Terminal Inputs'!$E$28"]
[null,null,null,null,null,null,null,null,null,null,"Input_B4TS_DAADTEx2","='Ramp Terminal Inputs'!$S$12",null,null,null,"Input_D4TSA_MW2","='Ramp Terminal Inputs'!$E$29"]
[null,null,null,null,null,null,null,null,null,null,"Input_B4TS_DAADTIn1","='Ramp Terminal Inputs'!$R$10",null,null,null,"Input_D4TSA_RTBIn2","='Ramp Terminal Inputs'!$E$30"]
[null,null,null,null,null,null,null,null,null,null,"Input_B4TS_DAADTIn2","='Ramp Terminal Inputs'!$S$10",null,null,null,"Input_D4TSA_RTBOut2","='Ramp Terminal Inputs'!$E$31"]
[null,null,null,null,null,null,null,null,null,null,"Input_B4TS_DAADTOut1","='Ramp Terminal Inputs'!$R$11",null,null,null,"Input_D4TSA_LTBIn2","='Ramp Terminal Inputs'!$E$32"]
[null,null,null,null,null,null,null,null,null,null,"Input_B4TS_DAADTOut2","='Ramp Terminal Inputs'!$S$11",null,null,null,"Input_D4TSA_LTWIn2","='Ramp Terminal Inputs'!$E$33"]
[null,null,null,null,null,null,null,null,null,null,"Input_B4TS_ENLSR1","='Ramp Terminal Inputs'!$R$24",null,null,null,"Input_D4TSA_LTBOut2","='Ramp Terminal Inputs'!$E$34"]
[null,null,null,null,null,null,null,null,null,null,"Input_B4TS_ENLSR2","='Ramp Terminal Inputs'!$S$24",null,null,null,"Input_D4TSA_LTWOut2","='Ramp Terminal Inputs'!$E$35"]
[null,null,null,null,null,null,null,null,null,null,"Input_B4TS_ExitRTC1","='Ramp Terminal Inputs'!$R$23",null,null,null,"Input_D4TSA_PLTOIn2","='Ramp Terminal Inputs'!$E$36"]
[null,null,null,null,null,null,null,null,null,null,"Input_B4TS_ExitRTC2","='Ramp Terminal Inputs'!$S$23",null,null,null,"Input_D4TSA_PLTOOut2","='Ramp Terminal Inputs'!$E$37"]
[null,null,null,null,null,null,null,null,null,null,"Input_B4TS_lRMP1","='Ramp Terminal Inputs'!$R$26",null,null,null,"Input_D4TSA_RTCIn2","='Ramp Terminal Inputs'!$E$38"]
[null,null,null,null,null,null,null,null,null,null,"Input_B4TS_lRMP2","='Ramp Terminal Inputs'!$S$26",null,null,null,"Input_D4TSA_RTCOut2","='Ramp Terminal Inputs'!$E$39"]
[null,null,null,null,null,null,null,null,null,null,"Input_B4TS_lSTR1","='Ramp Terminal Inputs'!$R$27",null,null,null,"Input_D4TSA_RTCExit2","='Ramp Terminal Inputs'!$E$40"]
[null,null,null,null,null,null,null,null,null,null,"Input_B4TS_lSTR2","='Ramp Terminal Inputs'!$S$27",null,null,null,"Input_D4TSA_OAADTIn2","='Ramp Terminal Inputs'!$E$6"]
[null,null,null,null,null,null,null,null,null,null,"Input_B4TS_LTBIn1","='Ramp Terminal Inputs'!$R$32",null,null,null,"Input_D4TSA_OAADTOut2","='Ramp Terminal Inputs'!$E$7"]
[null,null,null,null,null,null,null,null,null,null,"Input_B4TS_LTBIn2","='Ramp Terminal Inputs'!$S$32",null,null,null,"Input_D4TSA_OAADTEx2","='Ramp Terminal Inputs'!$E$8"]
[null,null,null,null,null,null,null,null,null,null,"Input_B4TS_LTBOut1","='Ramp Terminal Inputs'!$R$34",null,null,null,"Input_D4TSA_OAADTEn2","='Ramp Terminal Inputs'!$E$9"]
[null,null,null,null,null,null,null,null,null,null,"Input_B4TS_LTBOut2","='Ramp Terminal Inputs'!$S$34",null,null,null,"Input_D4MS_DAADTIn1","='Ramp Terminal Inputs'!$F$10"]
[null,null,null,null,null,null,null,null,null,null,"Input_B4TS_LTWIn1","='Ramp Terminal Inputs'!$R$33",null,null,null,"Input_D4MS_DAADTOut1","='Ramp Terminal Inputs'!$F$11"]
[null,null,null,null,null,null,null,null,null,null,"Input_B4TS_LTWIn2","='Ramp Terminal Inputs'!$S$33",null,null,null,"Input_D4MS_DAADTEx1","='Ramp Terminal Inputs'!$F$12"]
[null,null,null,null,null,null,null,null,null,null,"Input_B4TS_LTWOut1","='Ramp Terminal Inputs'!$R$35",null,null,null,"Input_D4MS_DAADTEn1","='Ramp Terminal Inputs'!$F$13"]
[null,null,null,null,null,null,null,null,null,null,"Input_B4TS_LTWOut2","='Ramp Terminal Inputs'!$S$35",null,null,null,"Input_D4MS_NLxst1","='Ramp Terminal Inputs'!$F$15"]
[null,null,null,null,null,null,null,null,null,null,"Input_B4TS_MW1","='Ramp Terminal Inputs'!$R$29",null,null,null,"Input_D4MS_Skew1","='Ramp Terminal Inputs'!$F$21"]
[null,null,null,null,null,null,null,null,null,null,"Input_B4TS_MW2","='Ramp Terminal Inputs'!$S$29",null,null,null,"Input_D4MS_ExitRTC1","='Ramp Terminal Inputs'!$F$23"]
[null,null,null,null,null,null,null,null,null,null,"Input_B4TS_NLTOIn1","='Ramp Terminal Inputs'!$R$16",null,null,null,"Input_D4MS_ENLSR1","='Ramp Terminal Inputs'!$F$24"]
[null,null,null,null,null,null,null,null,null,null,"Input_B4TS_NLTOIn2","='Ramp Terminal Inputs'!$S$16",null,null,null,"Input_D4MS_lRMP1","='Ramp Terminal Inputs'!$F$26"]
[null,null,null,null,null,null,null,null,null,null,"Input_B4TS_NLTOOut1","='Ramp Terminal Inputs'!$R$17",null,null,null,"Input_D4MS_lSTR1","='Ramp Terminal Inputs'!$F$27"]
[null,null,null,null,null,null,null,null,null,null,"Input_B4TS_NLTOOut2","='Ramp Terminal Inputs'!$S$17",null,null,null,"Input_D4MS_NSCPS1","='Ramp Terminal Inputs'!$F$28"]
[null,null,null,null,null,null,null,null,null,null,"Input_B4TS_NLxst1","='Ramp Terminal Inputs'!$R$15",null,null,null,"Input_D4MS_MW1","='Ramp Terminal Inputs'!$F$29"]
[null,null,null,null,null,null,null,null,null,null,"Input_B4TS_NLxst2","='Ramp Terminal Inputs'!$S$15",null,null,null,"Input_D4MS_RTBIn1","='Ramp Terminal Inputs'!$F$30"]
[null,null,null,null,null,null,null,null,null,null,"Input_B4TS_NRPSL1","='Ramp Terminal Inputs'!$R$22",null,null,null,"Input_D4MS_RTBOut1","='Ramp Terminal Inputs'!$F$31"]
[null,null,null,null,null,null,null,null,null,null,"Input_B4TS_NRPSL2","='Ramp Terminal Inputs'!$S$22",null,null,null,"Input_D4MS_LTBIn1","='Ramp Terminal Inputs'!$F$32"]
[null,null,null,null,null,null,null,null,null,null,"Input_B4TS_NSCDW1","='Ramp Terminal Inputs'!$R$25",null,null,null,"Input_D4MS_LTWIn1","='Ramp Terminal Inputs'!$F$33"]
[null,null,null,null,null,null,null,null,null,null,"Input_B4TS_NSCDW2","='Ramp Terminal Inputs'!$S$25",null,null,null,"Input_D4MS_LTBOut1","='Ramp Terminal Inputs'!$F$34"]
[null,null,null,null,null,null,null,null,null,null,"Input_B4TS_NSCPS1","='Ramp Terminal Inputs'!$R$28",null,null,null,"Input_D4MS_LTWOut1","='Ramp Terminal Inputs'!$F$35"]
[null,null,null,null,null,null,null,null,null,null,"Input_B4TS_NSCPS2","='Ramp Terminal Inputs'!$S$28",null,null,null,"Input_D4MS_OAADTIn1","='Ramp Terminal Inputs'!$F$6"]
[null,null,null,null,null,null,null,null,null,null,"Input_B4TS_OAADTEn1","='Ramp Terminal Inputs'!$R$9",null,null,null,"Input_D4MS_OAADTOut1","='Ramp Terminal Inputs'!$F$7"]
[null,null,null,null,null,null,null,null,null,null,"Input_B4TS_OAADTEn2","='Ramp Terminal Inputs'!$S$9",null,null,null,"Input_D4MS_OAADTEx1","='Ramp Terminal Inputs'!$F$8"]
[null,null,null,null,null,null,null,null,null,null,"Input_B4TS_OAADTEx1","='Ramp Terminal Inputs'!$R$8",null,null,null,"Input_D4MS_OAADTEn1","='Ramp Terminal Inputs'!$F$9"]
[null,null,null,null,null,null,null,null,null,null,"Input_B4TS_OAADTEx2","='Ramp Terminal Inputs'!$S$8",null,null,null,"Input_D4MS_DAADTIn2","='Ramp Terminal Inputs'!$G$10"]
[null,null,null,null,null,null,null,null,null,null,"Input_B4TS_OAADTIn1","='Ramp Terminal Inputs'!$R$6",null,null,null,"Input_D4MS_DAADTOut2","='Ramp Terminal Inputs'!$G$11"]
[null,null,null,null,null,null,null,null,null,null,"Input_B4TS_OAADTIn2","='Ramp Terminal Inputs'!$S$6",null,null,null,"Input_D4MS_DAADTEx2","='Ramp Terminal Inputs'!$G$12"]
[null,null,null,null,null,null,null,null,null,null,"Input_B4TS_OAADTOut1","='Ramp Terminal Inputs'!$R$7",null,null,null,"Input_D4MS_DAADTEn2","='Ramp Terminal Inputs'!$G$13"]
[null,null,null,null,null,null,null,null,null,null,"Input_B4TS_OAADTOut2","='Ramp Terminal Inputs'!$S$7",null,null,null,"Input_D4MS_NLxst2","='Ramp Terminal Inputs'!$G$15"]
[null,null,null,null,null,null,null,null,null,null,"Input_B4TS_PLTOIn1","='Ramp Terminal Inputs'!$R$36",null,null,null,"Input_D4MS_Skew2","='Ramp Terminal Inputs'!$G$21"]
[null,null,null,null,null,null,null,null,null,null,"Input_B4TS_PLTOIn2","='Ramp Terminal Inputs'!$S$36",null,null,null,"Input_D4MS_ExitRTC2","='Ramp Terminal Inputs'!$G$23"]
[null,null,null,null,null,null,null,null,null,null,"Input_B4TS_PLTOOut1","='Ramp Terminal Inputs'!$R$37",null,null,null,"Input_D4MS_ENLSR2","='Ramp Terminal Inputs'!$G$24"]
[null,null,null,null,null,null,null,null,null,null,"Input_B4TS_PLTOOut2","='Ramp Terminal Inputs'!$S$37",null,null,null,"Input_D4MS_lRMP2","='Ramp Terminal Inputs'!$G$26"]
[null,null,null,null,null,null,null,null,null,null,"Input_B4TS_RTBIn1","='Ramp Terminal Inputs'!$R$30",null,null,null,"Input_D4MS_lSTR2","='Ramp Terminal Inputs'!$G$27"]
[null,null,null,null,null,null,null,null,null,null,"Input_B4TS_RTBIn2","='Ramp Terminal Inputs'!$S$30",null,null,null,"Input_D4MS_NSCPS2","='Ramp Terminal Inputs'!$G$28"]
[null,null,null,null,null,null,null,null,null,null,"Input_B4TS_RTBOut1","='Ramp Terminal Inputs'!$R$31",null,null,null,"Input_D4MS_MW2","='Ramp Terminal Inputs'!$G$29"]
[null,null,null,null,null,null,null,null,null,null,"Input_B4TS_RTBOut2","='Ramp Terminal Inputs'!$S$31",null,null,null,"Input_D4MS_RTBIn2","='Ramp Terminal Inputs'!$G$30"]
[null,null,null,null,null,null,null,null,null,null,"Input_B4TS_RTCExit1","='Ramp Terminal Inputs'!$R$40",null,null,null,"Input_D4MS_RTBOut2","='Ramp Terminal Inputs'!$G$31"]
[null,null,null,null,null,null,null,null,null,null,"Input_B4TS_RTCExit2","='Ramp Terminal Inputs'!$S$40",null,null,null,"Input_D4MS_LTBIn2","='Ramp Terminal Inputs'!$G$32"]
[null,null,null,null,null,null,null,null,null,null,"Input_B4TS_RTCIn1","='Ramp Terminal Inputs'!$R$38",null,null,null,"Input_D4MS_LTWIn2","='Ramp Terminal Inputs'!$G$33"]
[null,null,null,null,null,null,null,null,null,null,"Input_B4TS_RTCIn2","='Ramp Terminal Inputs'!$S$38",null,null,null,"Input_D4MS_LTBOut2","='Ramp Terminal Inputs'!$G$34"]
[null,null,null,null,null,null,null,null,null,null,"Input_B4TS_RTCOut1","='Ramp Terminal Inputs'!$R$39",null,null,null,"Input_D4MS_LTWOut2","='Ramp Terminal Inputs'!$G$35"]
[null,null,null,null,null,null,null,null,null,null,"Input_B4TS_RTCOut2","='Ramp Terminal Inputs'!$S$39",null,null,null,"Input_D4MS_OAADTIn2","='Ramp Terminal Inputs'!$G$6"]
[null,null,null,null,null,null,null,null,null,null,"Input_B4TS_Skew1","='Ramp Terminal Inputs'!$R$21",null,null,null,"Input_D4MS_OAADTOut2","='Ramp Terminal Inputs'!$G$7"]
[null,null,null,null,null,null,null,null,null,null,"Input_B4TS_Skew2","='Ramp Terminal Inputs'!$S$21",null,null,null,"Input_D4MS_OAADTEx2","='Ramp Terminal Inputs'!$G$8"]
[null,null,null,null,null,null,null,null,null,null,"Input_Base_DAADTMajor","='Control Strategy Selection'!$D$15",null,null,null,"Input_D4MS_OAADTEn2","='Ramp Terminal Inputs'!$G$9"]
[null,null,null,null,null,null,null,null,null,null,"Input_Base_DAADTMinor","='Control Strategy Selection'!$D$16",null,null,null,"Input_RTI_R1T1_ICD","='Ramp Terminal Inputs'!$H$42"]
[null,null,null,null,null,null,null,null,null,null,"Input_Base_OAADTMajor","='Control Strategy Selection'!$D$13",null,null,null,"Input_RTI_R1T1_Outbnd","='Ramp Terminal Inputs'!$H$43"]
[null,null,null,null,null,null,null,null,null,null,"Input_Base_OAADTMinor","='Control Strategy Selection'!$D$14",null,null,null,"Input_RTI_R1T1_AADT_L1","='Ramp Terminal Inputs'!$H$45"]
[null,null,null,null,null,null,null,null,null,null,"Input_CMF_Bowtie_FI","=Calibration!$I$86",null,null,null,"Input_RTI_R1T1_Bypass_L1","='Ramp Terminal Inputs'!$H$46"]
[null,null,null,null,null,null,null,null,null,null,"Input_CMF_Bowtie_Total","=Calibration!$I$85",null,null,null,"Input_RTI_R1T1_Access_L1","='Ramp Terminal Inputs'!$H$47"]
[null,null,null,null,null,null,null,null,null,null,"Input_CMF_DDI_FI","=Calibration!$I$96",null,null,null,"Input_RTI_R1T1_AADT_L2","='Ramp Terminal Inputs'!$H$52"]
[null,null,null,null,null,null,null,null,null,null,"Input_CMF_DDI_Total","=Calibration!$I$95",null,null,null,"Input_RTI_R1T1_Bypass_L2","='Ramp Terminal Inputs'!$H$53"]
[null,null,null,null,null,null,null,null,null,null,"Input_CMF_DLT_FI","=Calibration!$I$74",null,null,null,"Input_RTI_R1T1_Access_L2","='Ramp Terminal Inputs'!$H$54"]
[null,null,null,null,null,null,null,null,null,null,"Input_CMF_DLT_Total","=Calibration!$I$73",null,null,null,"Input_RTI_R1T1_AADT_L3","='Ramp Terminal Inputs'!$H$59"]
[null,null,null,null,null,null,null,null,null,null,"Input_CMF_GreenT_FI","=Calibration!$I$88",null,null,null,"Input_RTI_R1T1_Bypass_L3","='Ramp Terminal Inputs'!$H$60"]
[null,null,null,null,null,null,null,null,null,null,"Input_CMF_GreenT_Total","=Calibration!$I$87",null,null,null,"Input_RTI_R1T1_Access_L3","='Ramp Terminal Inputs'!$H$61"]
[null,null,null,null,null,null,null,null,null,null,"Input_CMF_Jughandle_FI","=Calibration!$I$90",null,null,null,"Input_RTI_R1T2_ICD","='Ramp Terminal Inputs'!$I$42"]
[null,null,null,null,null,null,null,null,null,null,"Input_CMF_Jughandle_Total","=Calibration!$I$89",null,null,null,"Input_RTI_R1T2_Outbnd","='Ramp Terminal Inputs'!$I$43"]
[null,null,null,null,null,null,null,null,null,null,"Input_CMF_MUT_FI","=Calibration!$I$76",null,null,null,"Input_RTI_R1T2_AADT_L1","='Ramp Terminal Inputs'!$I$45"]
[null,null,null,null,null,null,null,null,null,null,"Input_CMF_MUT_Total","=Calibration!$I$75",null,null,null,"Input_RTI_R1T2_Bypass_L1","='Ramp Terminal Inputs'!$I$46"]
[null,null,null,null,null,null,null,null,null,null,"Input_CMF_Other1_FI","=Calibration!$I$92",null,null,null,"Input_RTI_R1T2_Access_L1","='Ramp Terminal Inputs'!$I$47"]
[null,null,null,null,null,null,null,null,null,null,"Input_CMF_Other1_Total","=Calibration!$I$91",null,null,null,"Input_RTI_R1T2_AADT_L2","='Ramp Terminal Inputs'!$I$52"]
[null,null,null,null,null,null,null,null,null,null,"Input_CMF_Other2_FI","=Calibration!$I$94",null,null,null,"Input_RTI_R1T2_Bypass_L2","='Ramp Terminal Inputs'!$I$53"]
[null,null,null,null,null,null,null,null,null,null,"Input_CMF_Other2_Total","=Calibration!$I$93",null,null,null,"Input_RTI_R1T2_Access_L2","='Ramp Terminal Inputs'!$I$54"]
[null,null,null,null,null,null,null,null,null,null,"Input_CMF_RCUTSig_FI","=Calibration!$I$78",null,null,null,"Input_RTI_R1T2_AADT_L3","='Ramp Terminal Inputs'!$I$59"]
[null,null,null,null,null,null,null,null,null,null,"Input_CMF_RCUTSig_Total","=Calibration!$I$77",null,null,null,"Input_RTI_R1T2_Bypass_L3","='Ramp Terminal Inputs'!$I$60"]
[null,null,null,null,null,null,null,null,null,null,"Input_CMF_RCUTUnsig_FI","=Calibration!$I$80",null,null,null,"Input_RTI_R1T2_Access_L3","='Ramp Terminal Inputs'!$I$61"]
[null,null,null,null,null,null,null,null,null,null,"Input_CMF_RCUTUnsig_Total","=Calibration!$I$79",null,null,null,"Input_RTI_R2T1_Outbnd","='Ramp Terminal Inputs'!$J$43"]
[null,null,null,null,null,null,null,null,null,null,"Input_CMF_SigThruCut_FI","=Calibration!$I$82",null,null,null,"Input_RTI_R2T1_AADT_L1","='Ramp Terminal Inputs'!$J$45"]
[null,null,null,null,null,null,null,null,null,null,"Input_CMF_SigThruCut_Total","=Calibration!$I$81",null,null,null,"Input_RTI_R2T1_Bypass_L1","='Ramp Terminal Inputs'!$J$46"]
[null,null,null,null,null,null,null,null,null,null,"Input_CMF_UnsigThruCut_FI","=Calibration!$I$84",null,null,null,"Input_RTI_R2T1_EW_L1","='Ramp Terminal Inputs'!$J$48"]
[null,null,null,null,null,null,null,null,null,null,"Input_CMF_UnsigThruCut_Total","=Calibration!$I$83",null,null,null,"Input_RTI_R2T1_EL_L1","='Ramp Terminal Inputs'!$J$49"]
[null,null,null,null,null,null,null,null,null,null,"Input_D4MS_DAADTEn1","='Ramp Terminal Inputs'!$F$13",null,null,null,"Input_RTI_R2T1_CL_L1","='Ramp Terminal Inputs'!$J$50"]
[null,null,null,null,null,null,null,null,null,null,"Input_D4MS_DAADTEn2","='Ramp Terminal Inputs'!$G$13",null,null,null,"Input_RTI_R2T1_AADT_L2","='Ramp Terminal Inputs'!$J$52"]
[null,null,null,null,null,null,null,null,null,null,"Input_D4MS_DAADTEx1","='Ramp Terminal Inputs'!$F$12",null,null,null,"Input_RTI_R2T1_Bypass_L2","='Ramp Terminal Inputs'!$J$53"]
[null,null,null,null,null,null,null,null,null,null,"Input_D4MS_DAADTEx2","='Ramp Terminal Inputs'!$G$12",null,null,null,"Input_RTI_R2T1_EW_L2","='Ramp Terminal Inputs'!$J$55"]
[null,null,null,null,null,null,null,null,null,null,"Input_D4MS_DAADTIn1","='Ramp Terminal Inputs'!$F$10",null,null,null,"Input_RTI_R2T1_EL_L2","='Ramp Terminal Inputs'!$J$56"]
[null,null,null,null,null,null,null,null,null,null,"Input_D4MS_DAADTIn2","='Ramp Terminal Inputs'!$G$10",null,null,null,"Input_RTI_R2T1_CL_L2","='Ramp Terminal Inputs'!$J$57"]
[null,null,null,null,null,null,null,null,null,null,"Input_D4MS_DAADTOut1","='Ramp Terminal Inputs'!$F$11",null,null,null,"Input_RTI_R2T1_AADT_L3","='Ramp Terminal Inputs'!$J$59"]
[null,null,null,null,null,null,null,null,null,null,"Input_D4MS_DAADTOut2","='Ramp Terminal Inputs'!$G$11",null,null,null,"Input_RTI_R2T1_Bypass_L3","='Ramp Terminal Inputs'!$J$60"]
[null,null,null,null,null,null,null,null,null,null,"Input_D4MS_ENLSR1","='Ramp Terminal Inputs'!$F$24",null,null,null,"Input_RTI_R2T1_EW_L3","='Ramp Terminal Inputs'!$J$62"]
[null,null,null,null,null,null,null,null,null,null,"Input_D4MS_ENLSR2","='Ramp Terminal Inputs'!$G$24",null,null,null,"Input_RTI_R2T1_EL_L3","='Ramp Terminal Inputs'!$J$63"]
[null,null,null,null,null,null,null,null,null,null,"Input_D4MS_ExitRTC1","='Ramp Terminal Inputs'!$F$23",null,null,null,"Input_RTI_R2T1_CL_L3","='Ramp Terminal Inputs'!$J$64"]
[null,null,null,null,null,null,null,null,null,null,"Input_D4MS_ExitRTC2","='Ramp Terminal Inputs'!$G$23",null,null,null,"Input_RTI_R2T2_Outbnd","='Ramp Terminal Inputs'!$K$43"]
[null,null,null,null,null,null,null,null,null,null,"Input_D4MS_lRMP1","='Ramp Terminal Inputs'!$F$26",null,null,null,"Input_RTI_R2T2_AADT_L1","='Ramp Terminal Inputs'!$K$45"]
[null,null,null,null,null,null,null,null,null,null,"Input_D4MS_lRMP2","='Ramp Terminal Inputs'!$G$26",null,null,null,"Input_RTI_R2T2_Bypass_L1","='Ramp Terminal Inputs'!$K$46"]
[null,null,null,null,null,null,null,null,null,null,"Input_D4MS_lSTR1","='Ramp Terminal Inputs'!$F$27",null,null,null,"Input_RTI_R2T2_EW_L1","='Ramp Terminal Inputs'!$K$48"]
[null,null,null,null,null,null,null,null,null,null,"Input_D4MS_lSTR2","='Ramp Terminal Inputs'!$G$27",null,null,null,"Input_RTI_R2T2_EL_L1","='Ramp Terminal Inputs'!$K$49"]
[null,null,null,null,null,null,null,null,null,null,"Input_D4MS_LTBIn1","='Ramp Terminal Inputs'!$F$32",null,null,null,"Input_RTI_R2T2_CL_L1","='Ramp Terminal Inputs'!$K$50"]
[null,null,null,null,null,null,null,null,null,null,"Input_D4MS_LTBIn2","='Ramp Terminal Inputs'!$G$32",null,null,null,"Input_RTI_R2T2_AADT_L2","='Ramp Terminal Inputs'!$K$52"]
[null,null,null,null,null,null,null,null,null,null,"Input_D4MS_LTBOut1","='Ramp Terminal Inputs'!$F$34",null,null,null,"Input_RTI_R2T2_Bypass_L2","='Ramp Terminal Inputs'!$K$53"]
[null,null,null,null,null,null,null,null,null,null,"Input_D4MS_LTBOut2","='Ramp Terminal Inputs'!$G$34",null,null,null,"Input_RTI_R2T2_EW_L2","='Ramp Terminal Inputs'!$K$55"]
[null,null,null,null,null,null,null,null,null,null,"Input_D4MS_LTWIn1","='Ramp Terminal Inputs'!$F$33",null,null,null,"Input_RTI_R2T2_EL_L2","='Ramp Terminal Inputs'!$K$56"]
[null,null,null,null,null,null,null,null,null,null,"Input_D4MS_LTWIn2","='Ramp Terminal Inputs'!$G$33",null,null,null,"Input_RTI_R2T2_CL_L2","='Ramp Terminal Inputs'!$K$57"]
[null,null,null,null,null,null,null,null,null,null,"Input_D4MS_LTWOut1","='Ramp Terminal Inputs'!$F$35",null,null,null,"Input_RTI_R2T2_AADT_L3","='Ramp Terminal Inputs'!$K$59"]
[null,null,null,null,null,null,null,null,null,null,"Input_D4MS_LTWOut2","='Ramp Terminal Inputs'!$G$35",null,null,null,"Input_RTI_R2T2_Bypass_L3","='Ramp Terminal Inputs'!$K$60"]
[null,null,null,null,null,null,null,null,null,null,"Input_D4MS_MW1","='Ramp Terminal Inputs'!$F$29",null,null,null,"Input_RTI_R2T2_EW_L3","='Ramp Terminal Inputs'!$K$62"]
[null,null,null,null,null,null,null,null,null,null,"Input_D4MS_MW2","='Ramp Terminal Inputs'!$G$29",null,null,null,"Input_RTI_R2T2_EL_L3","='Ramp Terminal Inputs'!$K$63"]
[null,null,null,null,null,null,null,null,null,null,"Input_D4MS_NLxst1","='Ramp Terminal Inputs'!$F$15",null,null,null,"Input_RTI_R2T2_CL_L3","='Ramp Terminal Inputs'!$K$64"]
[null,null,null,null,null,null,null,null,null,null,"Input_D4MS_NLxst2","='Ramp Terminal Inputs'!$G$15",null,null,null,"Input_SPUI_DAADT_Xrd","='Ramp Terminal Inputs'!$L$11"]
[null,null,null,null,null,null,null,null,null,null,"Input_D4MS_NSCPS1","='Ramp Terminal Inputs'!$F$28",null,null,null,"Input_SPUI_DAADT_Ex","='Ramp Terminal Inputs'!$L$12"]
[null,null,null,null,null,null,null,null,null,null,"Input_D4MS_NSCPS2","='Ramp Terminal Inputs'!$G$28",null,null,null,"Input_SPUI_DAADT_En","='Ramp Terminal Inputs'!$L$13"]
[null,null,null,null,null,null,null,null,null,null,"Input_D4MS_OAADTEn1","='Ramp Terminal Inputs'!$F$9",null,null,null,"Input_SPUI_NFFRT","='Ramp Terminal Inputs'!$L$18"]
[null,null,null,null,null,null,null,null,null,null,"Input_D4MS_OAADTEn2","='Ramp Terminal Inputs'!$G$9",null,null,null,"Input_SPUI_OAADT_Xrd","='Ramp Terminal Inputs'!$L$7"]
[null,null,null,null,null,null,null,null,null,null,"Input_D4MS_OAADTEx1","='Ramp Terminal Inputs'!$F$8",null,null,null,"Input_SPUI_OAADT_Ex","='Ramp Terminal Inputs'!$L$8"]
[null,null,null,null,null,null,null,null,null,null,"Input_D4MS_OAADTEx2","='Ramp Terminal Inputs'!$G$8",null,null,null,"Input_SPUI_OAADT_En","='Ramp Terminal Inputs'!$L$9"]
[null,null,null,null,null,null,null,null,null,null,"Input_D4MS_OAADTIn1","='Ramp Terminal Inputs'!$F$6",null,null,null,"Input_TD_DAADT_Xrd","='Ramp Terminal Inputs'!$M$11"]
[null,null,null,null,null,null,null,null,null,null,"Input_D4MS_OAADTIn2","='Ramp Terminal Inputs'!$G$6",null,null,null,"Input_TD_DAADT_Ex","='Ramp Terminal Inputs'!$M$12"]
[null,null,null,null,null,null,null,null,null,null,"Input_D4MS_OAADTOut1","='Ramp Terminal Inputs'!$F$7",null,null,null,"Input_TD_DAADT_En","='Ramp Terminal Inputs'!$M$13"]
[null,null,null,null,null,null,null,null,null,null,"Input_D4MS_OAADTOut2","='Ramp Terminal Inputs'!$G$7",null,null,null,"Input_TD_OAADT_Xrd","='Ramp Terminal Inputs'!$M$7"]
[null,null,null,null,null,null,null,null,null,null,"Input_D4MS_RTBIn1","='Ramp Terminal Inputs'!$F$30",null,null,null,"Input_TD_OAADT_Ex","='Ramp Terminal Inputs'!$M$8"]
[null,null,null,null,null,null,null,null,null,null,"Input_D4MS_RTBIn2","='Ramp Terminal Inputs'!$G$30",null,null,null,"Input_TD_OAADT_En","='Ramp Terminal Inputs'!$M$9"]
[null,null,null,null,null,null,null,null,null,null,"Input_D4MS_RTBOut1","='Ramp Terminal Inputs'!$F$31",null,null,null,"Input_A4TS_DAADTIn1","='Ramp Terminal Inputs'!$N$10"]
[null,null,null,null,null,null,null,null,null,null,"Input_D4MS_RTBOut2","='Ramp Terminal Inputs'!$G$31",null,null,null,"Input_A4TS_DAADTOut1","='Ramp Terminal Inputs'!$N$11"]
[null,null,null,null,null,null,null,null,null,null,"Input_D4MS_Skew1","='Ramp Terminal Inputs'!$F$21",null,null,null,"Input_A4TS_DAADTEx1","='Ramp Terminal Inputs'!$N$12"]
[null,null,null,null,null,null,null,null,null,null,"Input_D4MS_Skew2","='Ramp Terminal Inputs'!$G$21",null,null,null,"Input_A4TS_DAADTEn1","='Ramp Terminal Inputs'!$N$13"]
[null,null,null,null,null,null,null,null,null,null,"Input_D4TS_DAADTEn1","='Ramp Terminal Inputs'!$B$13",null,null,null,"Input_A4TS_NLxst1","='Ramp Terminal Inputs'!$N$15"]
[null,null,null,null,null,null,null,null,null,null,"Input_D4TS_DAADTEn2","='Ramp Terminal Inputs'!$C$13",null,null,null,"Input_A4TS_NLTOIn1","='Ramp Terminal Inputs'!$N$16"]
[null,null,null,null,null,null,null,null,null,null,"Input_D4TS_DAADTEx1","='Ramp Terminal Inputs'!$B$12",null,null,null,"Input_A4TS_NLTOOut1","='Ramp Terminal Inputs'!$N$17"]
[null,null,null,null,null,null,null,null,null,null,"Input_D4TS_DAADTEx2","='Ramp Terminal Inputs'!$C$12",null,null,null,"Input_A4TS_Skew1","='Ramp Terminal Inputs'!$N$21"]
[null,null,null,null,null,null,null,null,null,null,"Input_D4TS_DAADTIn1","='Ramp Terminal Inputs'!$B$10",null,null,null,"Input_A4TS_NRPSL1","='Ramp Terminal Inputs'!$N$22"]
[null,null,null,null,null,null,null,null,null,null,"Input_D4TS_DAADTIn2","='Ramp Terminal Inputs'!$C$10",null,null,null,"Input_A4TS_ExitRTC1","='Ramp Terminal Inputs'!$N$23"]
[null,null,null,null,null,null,null,null,null,null,"Input_D4TS_DAADTOut1","='Ramp Terminal Inputs'!$B$11",null,null,null,"Input_A4TS_ENLSR1","='Ramp Terminal Inputs'!$N$24"]
[null,null,null,null,null,null,null,null,null,null,"Input_D4TS_DAADTOut2","='Ramp Terminal Inputs'!$C$11",null,null,null,"Input_A4TS_NSCDW1","='Ramp Terminal Inputs'!$N$25"]
[null,null,null,null,null,null,null,null,null,null,"Input_D4TS_ENLSR1","='Ramp Terminal Inputs'!$B$24",null,null,null,"Input_A4TS_lRMP1","='Ramp Terminal Inputs'!$N$26"]
[null,null,null,null,null,null,null,null,null,null,"Input_D4TS_ENLSR2","='Ramp Terminal Inputs'!$C$24",null,null,null,"Input_A4TS_lSTR1","='Ramp Terminal Inputs'!$N$27"]
[null,null,null,null,null,null,null,null,null,null,"Input_D4TS_ExitRTC1","='Ramp Terminal Inputs'!$B$23",null,null,null,"Input_A4TS_NSCPS1","='Ramp Terminal Inputs'!$N$28"]
[null,null,null,null,null,null,null,null,null,null,"Input_D4TS_ExitRTC2","='Ramp Terminal Inputs'!$C$23",null,null,null,"Input_A4TS_MW1","='Ramp Terminal Inputs'!$N$29"]
[null,null,null,null,null,null,null,null,null,null,"Input_D4TS_lRMP1","='Ramp Terminal Inputs'!$B$26",null,null,null,"Input_A4TS_RTBIn1","='Ramp Terminal Inputs'!$N$30"]
[null,null,null,null,null,null,null,null,null,null,"Input_D4TS_lRMP2","='Ramp Terminal Inputs'!$C$26",null,null,null,"Input_A4TS_RTBOut1","='Ramp Terminal Inputs'!$N$31"]
[null,null,null,null,null,null,null,null,null,null,"Input_D4TS_lSTR1","='Ramp Terminal Inputs'!$B$27",null,null,null,"Input_A4TS_LTBIn1","='Ramp Terminal Inputs'!$N$32"]
[null,null,null,null,null,null,null,null,null,null,"Input_D4TS_lSTR2","='Ramp Terminal Inputs'!$C$27",null,null,null,"Input_A4TS_LTWIn1","='Ramp Terminal Inputs'!$N$33"]
[null,null,null,null,null,null,null,null,null,null,"Input_D4TS_LTBIn1","='Ramp Terminal Inputs'!$B$32",null,null,null,"Input_A4TS_LTBOut1","='Ramp Terminal Inputs'!$N$34"]
[null,null,null,null,null,null,null,null,null,null,"Input_D4TS_LTBIn2","='Ramp Terminal Inputs'!$C$32",null,null,null,"Input_A4TS_LTWOut1","='Ramp Terminal Inputs'!$N$35"]
[null,null,null,null,null,null,null,null,null,null,"Input_D4TS_LTBOut1","='Ramp Terminal Inputs'!$B$34",null,null,null,"Input_A4TS_PLTOIn1","='Ramp Terminal Inputs'!$N$36"]
[null,null,null,null,null,null,null,null,null,null,"Input_D4TS_LTBOut2","='Ramp Terminal Inputs'!$C$34",null,null,null,"Input_A4TS_PLTOOut1","='Ramp Terminal Inputs'!$N$37"]
[null,null,null,null,null,null,null,null,null,null,"Input_D4TS_LTWIn1","='Ramp Terminal Inputs'!$B$33",null,null,null,"Input_A4TS_RTCIn1","='Ramp Terminal Inputs'!$N$38"]
[null,null,null,null,null,null,null,null,null,null,"Input_D4TS_LTWIn2","='Ramp Terminal Inputs'!$C$33",null,null,null,"Input_A4TS_RTCOut1","='Ramp Terminal Inputs'!$N$39"]
[null,null,null,null,null,null,null,null,null,null,"Input_D4TS_LTWOut1","='Ramp Terminal Inputs'!$B$35",null,null,null,"Input_A4TS_RTCExit1","='Ramp Terminal Inputs'!$N$40"]
[null,null,null,null,null,null,null,null,null,null,"Input_D4TS_LTWOut2","='Ramp Terminal Inputs'!$C$35",null,null,null,"Input_A4TS_OAADTIn1","='Ramp Terminal Inputs'!$N$6"]
[null,null,null,null,null,null,null,null,null,null,"Input_D4TS_MW1","='Ramp Terminal Inputs'!$B$29",null,null,null,"Input_A4TS_OAADTOut1","='Ramp Terminal Inputs'!$N$7"]
[null,null,null,null,null,null,null,null,null,null,"Input_D4TS_MW2","='Ramp Terminal Inputs'!$C$29",null,null,null,"Input_A4TS_OAADTEx1","='Ramp Terminal Inputs'!$N$8"]
[null,null,null,null,null,null,null,null,null,null,"Input_D4TS_NLTOIn1","='Ramp Terminal Inputs'!$B$16",null,null,null,"Input_A4TS_OAADTEn1","='Ramp Terminal Inputs'!$N$9"]
[null,null,null,null,null,null,null,null,null,null,"Input_D4TS_NLTOIn2","='Ramp Terminal Inputs'!$C$16",null,null,null,"Input_A4TS_DAADTIn2","='Ramp Terminal Inputs'!$O$10"]
[null,null,null,null,null,null,null,null,null,null,"Input_D4TS_NLTOOut1","='Ramp Terminal Inputs'!$B$17",null,null,null,"Input_A4TS_DAADTOut2","='Ramp Terminal Inputs'!$O$11"]
[null,null,null,null,null,null,null,null,null,null,"Input_D4TS_NLTOOut2","='Ramp Terminal Inputs'!$C$17",null,null,null,"Input_A4TS_DAADTEx2","='Ramp Terminal Inputs'!$O$12"]
[null,null,null,null,null,null,null,null,null,null,"Input_D4TS_NLxst1","='Ramp Terminal Inputs'!$B$15",null,null,null,"Input_A4TS_DAADTEn2","='Ramp Terminal Inputs'!$O$13"]
[null,null,null,null,null,null,null,null,null,null,"Input_D4TS_NLxst2","='Ramp Terminal Inputs'!$C$15",null,null,null,"Input_A4TS_NLxst2","='Ramp Terminal Inputs'!$O$15"]
[null,null,null,null,null,null,null,null,null,null,"Input_D4TS_NRPSL1","='Ramp Terminal Inputs'!$B$22",null,null,null,"Input_A4TS_NLTOIn2","='Ramp Terminal Inputs'!$O$16"]
[null,null,null,null,null,null,null,null,null,null,"Input_D4TS_NRPSL2","='Ramp Terminal Inputs'!$C$22",null,null,null,"Input_A4TS_NLTOOut2","='Ramp Terminal Inputs'!$O$17"]
[null,null,null,null,null,null,null,null,null,null,"Input_D4TS_NSCDW1","='Ramp Terminal Inputs'!$B$25",null,null,null,"Input_A4TS_Skew2","='Ramp Terminal Inputs'!$O$21"]
[null,null,null,null,null,null,null,null,null,null,"Input_D4TS_NSCDW2","='Ramp Terminal Inputs'!$C$25",null,null,null,"Input_A4TS_NRPSL2","='Ramp Terminal Inputs'!$O$22"]
[null,null,null,null,null,null,null,null,null,null,"Input_D4TS_NSCPS1","='Ramp Terminal Inputs'!$B$28",null,null,null,"Input_A4TS_ExitRTC2","='Ramp Terminal Inputs'!$O$23"]
[null,null,null,null,null,null,null,null,null,null,"Input_D4TS_NSCPS2","='Ramp Terminal Inputs'!$C$28",null,null,null,"Input_A4TS_ENLSR2","='Ramp Terminal Inputs'!$O$24"]
[null,null,null,null,null,null,null,null,null,null,"Input_D4TS_OAADTEn1","='Ramp Terminal Inputs'!$B$9",null,null,null,"Input_A4TS_NSCDW2","='Ramp Terminal Inputs'!$O$25"]
[null,null,null,null,null,null,null,null,null,null,"Input_D4TS_OAADTEn2","='Ramp Terminal Inputs'!$C$9",null,null,null,"Input_A4TS_lRMP2","='Ramp Terminal Inputs'!$O$26"]
[null,null,null,null,null,null,null,null,null,null,"Input_D4TS_OAADTEx1","='Ramp Terminal Inputs'!$B$8",null,null,null,"Input_A4TS_lSTR2","='Ramp Terminal Inputs'!$O$27"]
[null,null,null,null,null,null,null,null,null,null,"Input_D4TS_OAADTEx2","='Ramp Terminal Inputs'!$C$8",null,null,null,"Input_A4TS_NSCPS2","='Ramp Terminal Inputs'!$O$28"]
[null,null,null,null,null,null,null,null,null,null,"Input_D4TS_OAADTIn1","='Ramp Terminal Inputs'!$B$6",null,null,null,"Input_A4TS_MW2","='Ramp Terminal Inputs'!$O$29"]
[null,null,null,null,null,null,null,null,null,null,"Input_D4TS_OAADTIn2","='Ramp Terminal Inputs'!$C$6",null,null,null,"Input_A4TS_RTBIn2","='Ramp Terminal Inputs'!$O$30"]
[null,null,null,null,null,null,null,null,null,null,"Input_D4TS_OAADTOut1","='Ramp Terminal Inputs'!$B$7",null,null,null,"Input_A4TS_RTBOut2","='Ramp Terminal Inputs'!$O$31"]
[null,null,null,null,null,null,null,null,null,null,"Input_D4TS_OAADTOut2","='Ramp Terminal Inputs'!$C$7",null,null,null,"Input_A4TS_LTBIn2","='Ramp Terminal Inputs'!$O$32"]
[null,null,null,null,null,null,null,null,null,null,"Input_D4TS_PLTOIn1","='Ramp Terminal Inputs'!$B$36",null,null,null,"Input_A4TS_LTWIn2","='Ramp Terminal Inputs'!$O$33"]
[null,null,null,null,null,null,null,null,null,null,"Input_D4TS_PLTOIn2","='Ramp Terminal Inputs'!$C$36",null,null,null,"Input_A4TS_LTBOut2","='Ramp Terminal Inputs'!$O$34"]
[null,null,null,null,null,null,null,null,null,null,"Input_D4TS_PLTOOut1","='Ramp Terminal Inputs'!$B$37",null,null,null,"Input_A4TS_LTWOut2","='Ramp Terminal Inputs'!$O$35"]
[null,null,null,null,null,null,null,null,null,null,"Input_D4TS_PLTOOut2","='Ramp Terminal Inputs'!$C$37",null,null,null,"Input_A4TS_PLTOIn2","='Ramp Terminal Inputs'!$O$36"]
[null,null,null,null,null,null,null,null,null,null,"Input_D4TS_RTBIn1","='Ramp Terminal Inputs'!$B$30",null,null,null,"Input_A4TS_PLTOOut2","='Ramp Terminal Inputs'!$O$37"]
[null,null,null,null,null,null,null,null,null,null,"Input_D4TS_RTBIn2","='Ramp Terminal Inputs'!$C$30",null,null,null,"Input_A4TS_RTCIn2","='Ramp Terminal Inputs'!$O$38"]
[null,null,null,null,null,null,null,null,null,null,"Input_D4TS_RTBOut1","='Ramp Terminal Inputs'!$B$31",null,null,null,"Input_A4TS_RTCOut2","='Ramp Terminal Inputs'!$O$39"]
[null,null,null,null,null,null,null,null,null,null,"Input_D4TS_RTBOut2","='Ramp Terminal Inputs'!$C$31",null,null,null,"Input_A4TS_RTCExit2","='Ramp Terminal Inputs'!$O$40"]
[null,null,null,null,null,null,null,null,null,null,"Input_D4TS_RTCExit1","='Ramp Terminal Inputs'!$B$40",null,null,null,"Input_A4TS_OAADTIn2","='Ramp Terminal Inputs'!$O$6"]
[null,null,null,null,null,null,null,null,null,null,"Input_D4TS_RTCExit2","='Ramp Terminal Inputs'!$C$40",null,null,null,"Input_A4TS_OAADTOut2","='Ramp Terminal Inputs'!$O$7"]
[null,null,null,null,null,null,null,null,null,null,"Input_D4TS_RTCIn1","='Ramp Terminal Inputs'!$B$38",null,null,null,"Input_A4TS_OAADTEx2","='Ramp Terminal Inputs'!$O$8"]
[null,null,null,null,null,null,null,null,null,null,"Input_D4TS_RTCIn2","='Ramp Terminal Inputs'!$C$38",null,null,null,"Input_A4TS_OAADTEn2","='Ramp Terminal Inputs'!$O$9"]
[null,null,null,null,null,null,null,null,null,null,"Input_D4TS_RTCOut1","='Ramp Terminal Inputs'!$B$39",null,null,null,"Input_A2TS_DAADTIn1","='Ramp Terminal Inputs'!$P$10"]
[null,null,null,null,null,null,null,null,null,null,"Input_D4TS_RTCOut2","='Ramp Terminal Inputs'!$C$39",null,null,null,"Input_A2TS_DAADTOut1","='Ramp Terminal Inputs'!$P$11"]
[null,null,null,null,null,null,null,null,null,null,"Input_D4TSA_DAADTEn1","='Ramp Terminal Inputs'!$D$13",null,null,null,"Input_A2TS_DAADTEx1","='Ramp Terminal Inputs'!$P$12"]
[null,null,null,null,null,null,null,null,null,null,"Input_D4TSA_DAADTEn2","='Ramp Terminal Inputs'!$E$13",null,null,null,"Input_A2TS_DAADTEn1","='Ramp Terminal Inputs'!$P$13"]
[null,null,null,null,null,null,null,null,null,null,"Input_D4TSA_DAADTEx1","='Ramp Terminal Inputs'!$D$12",null,null,null,"Input_A2TS_NLxst1","='Ramp Terminal Inputs'!$P$15"]
[null,null,null,null,null,null,null,null,null,null,"Input_D4TSA_DAADTEx2","='Ramp Terminal Inputs'!$E$12",null,null,null,"Input_A2TS_NLTOIn1","='Ramp Terminal Inputs'!$P$16"]
[null,null,null,null,null,null,null,null,null,null,"Input_D4TSA_DAADTIn1","='Ramp Terminal Inputs'!$D$10",null,null,null,"Input_A2TS_NLTOOut1","='Ramp Terminal Inputs'!$P$17"]
[null,null,null,null,null,null,null,null,null,null,"Input_D4TSA_DAADTIn2","='Ramp Terminal Inputs'!$E$10",null,null,null,"Input_A2TS_Skew1","='Ramp Terminal Inputs'!$P$21"]
[null,null,null,null,null,null,null,null,null,null,"Input_D4TSA_DAADTOut1","='Ramp Terminal Inputs'!$D$11",null,null,null,"Input_A2TS_NRPSL1","='Ramp Terminal Inputs'!$P$22"]
[null,null,null,null,null,null,null,null,null,null,"Input_D4TSA_DAADTOut2","='Ramp Terminal Inputs'!$E$11",null,null,null,"Input_A2TS_ExitRTC1","='Ramp Terminal Inputs'!$P$23"]
[null,null,null,null,null,null,null,null,null,null,"Input_D4TSA_ENLSR1","='Ramp Terminal Inputs'!$D$24",null,null,null,"Input_A2TS_ENLSR1","='Ramp Terminal Inputs'!$P$24"]
[null,null,null,null,null,null,null,null,null,null,"Input_D4TSA_ENLSR2","='Ramp Terminal Inputs'!$E$24",null,null,null,"Input_A2TS_NSCDW1","='Ramp Terminal Inputs'!$P$25"]
[null,null,null,null,null,null,null,null,null,null,"Input_D4TSA_ExitRTC1","='Ramp Terminal Inputs'!$D$23",null,null,null,"Input_A2TS_lRMP1","='Ramp Terminal Inputs'!$P$26"]
[null,null,null,null,null,null,null,null,null,null,"Input_D4TSA_ExitRTC2","='Ramp Terminal Inputs'!$E$23",null,null,null,"Input_A2TS_lSTR1","='Ramp Terminal Inputs'!$P$27"]
[null,null,null,null,null,null,null,null,null,null,"Input_D4TSA_lRMP1","='Ramp Terminal Inputs'!$D$26",null,null,null,"Input_A2TS_NSCPS1","='Ramp Terminal Inputs'!$P$28"]
[null,null,null,null,null,null,null,null,null,null,"Input_D4TSA_lRMP2","='Ramp Terminal Inputs'!$E$26",null,null,null,"Input_A2TS_MW1","='Ramp Terminal Inputs'!$P$29"]
[null,null,null,null,null,null,null,null,null,null,"Input_D4TSA_lSTR1","='Ramp Terminal Inputs'!$D$27",null,null,null,"Input_A2TS_RTBIn1","='Ramp Terminal Inputs'!$P$30"]
[null,null,null,null,null,null,null,null,null,null,"Input_D4TSA_lSTR2","='Ramp Terminal Inputs'!$E$27",null,null,null,"Input_A2TS_RTBOut1","='Ramp Terminal Inputs'!$P$31"]
[null,null,null,null,null,null,null,null,null,null,"Input_D4TSA_LTBIn1","='Ramp Terminal Inputs'!$D$32",null,null,null,"Input_A2TS_LTBIn1","='Ramp Terminal Inputs'!$P$32"]
[null,null,null,null,null,null,null,null,null,null,"Input_D4TSA_LTBIn2","='Ramp Terminal Inputs'!$E$32",null,null,null,"Input_A2TS_LTWIn1","='Ramp Terminal Inputs'!$P$33"]
[null,null,null,null,null,null,null,null,null,null,"Input_D4TSA_LTBOut1","='Ramp Terminal Inputs'!$D$34",null,null,null,"Input_A2TS_LTBOut1","='Ramp Terminal Inputs'!$P$34"]
[null,null,null,null,null,null,null,null,null,null,"Input_D4TSA_LTBOut2","='Ramp Terminal Inputs'!$E$34",null,null,null,"Input_A2TS_LTWOut1","='Ramp Terminal Inputs'!$P$35"]
[null,null,null,null,null,null,null,null,null,null,"Input_D4TSA_LTWIn1","='Ramp Terminal Inputs'!$D$33",null,null,null,"Input_A2TS_PLTOIn1","='Ramp Terminal Inputs'!$P$36"]
[null,null,null,null,null,null,null,null,null,null,"Input_D4TSA_LTWIn2","='Ramp Terminal Inputs'!$E$33",null,null,null,"Input_A2TS_PLTOOut1","='Ramp Terminal Inputs'!$P$37"]
[null,null,null,null,null,null,null,null,null,null,"Input_D4TSA_LTWOut1","='Ramp Terminal Inputs'!$D$35",null,null,null,"Input_A2TS_RTCIn1","='Ramp Terminal Inputs'!$P$38"]
[null,null,null,null,null,null,null,null,null,null,"Input_D4TSA_LTWOut2","='Ramp Terminal Inputs'!$E$35",null,null,null,"Input_A2TS_RTCOut1","='Ramp Terminal Inputs'!$P$39"]
[null,null,null,null,null,null,null,null,null,null,"Input_D4TSA_MW1","='Ramp Terminal Inputs'!$D$29",null,null,null,"Input_A2TS_RTCExit1","='Ramp Terminal Inputs'!$P$40"]
[null,null,null,null,null,null,null,null,null,null,"Input_D4TSA_MW2","='Ramp Terminal Inputs'!$E$29",null,null,null,"Input_A2TS_OAADTIn1","='Ramp Terminal Inputs'!$P$6"]
[null,null,null,null,null,null,null,null,null,null,"Input_D4TSA_NLTOIn1","='Ramp Terminal Inputs'!$D$16",null,null,null,"Input_A2TS_OAADTOut1","='Ramp Terminal Inputs'!$P$7"]
[null,null,null,null,null,null,null,null,null,null,"Input_D4TSA_NLTOIn2","='Ramp Terminal Inputs'!$E$16",null,null,null,"Input_A2TS_OAADTEx1","='Ramp Terminal Inputs'!$P$8"]
[null,null,null,null,null,null,null,null,null,null,"Input_D4TSA_NLTOOut1","='Ramp Terminal Inputs'!$D$17",null,null,null,"Input_A2TS_OAADTEn1","='Ramp Terminal Inputs'!$P$9"]
[null,null,null,null,null,null,null,null,null,null,"Input_D4TSA_NLTOOut2","='Ramp Terminal Inputs'!$E$17",null,null,null,"Input_A2TS_DAADTIn2","='Ramp Terminal Inputs'!$Q$10"]
[null,null,null,null,null,null,null,null,null,null,"Input_D4TSA_NLxst1","='Ramp Terminal Inputs'!$D$15",null,null,null,"Input_A2TS_DAADTOut2","='Ramp Terminal Inputs'!$Q$11"]
[null,null,null,null,null,null,null,null,null,null,"Input_D4TSA_NLxst2","='Ramp Terminal Inputs'!$E$15",null,null,null,"Input_A2TS_DAADTEx2","='Ramp Terminal Inputs'!$Q$12"]
[null,null,null,null,null,null,null,null,null,null,"Input_D4TSA_NRPSL1","='Ramp Terminal Inputs'!$D$22",null,null,null,"Input_A2TS_DAADTEn2","='Ramp Terminal Inputs'!$Q$13"]
[null,null,null,null,null,null,null,null,null,null,"Input_D4TSA_NRPSL2","='Ramp Terminal Inputs'!$E$22",null,null,null,"Input_A2TS_NLxst2","='Ramp Terminal Inputs'!$Q$15"]
[null,null,null,null,null,null,null,null,null,null,"Input_D4TSA_NSCDW1","='Ramp Terminal Inputs'!$D$25",null,null,null,"Input_A2TS_NLTOIn2","='Ramp Terminal Inputs'!$Q$16"]
[null,null,null,null,null,null,null,null,null,null,"Input_D4TSA_NSCDW2","='Ramp Terminal Inputs'!$E$25",null,null,null,"Input_A2TS_NLTOOut2","='Ramp Terminal Inputs'!$Q$17"]
[null,null,null,null,null,null,null,null,null,null,"Input_D4TSA_NSCPS1","='Ramp Terminal Inputs'!$D$28",null,null,null,"Input_A2TS_Skew2","='Ramp Terminal Inputs'!$Q$21"]
[null,null,null,null,null,null,null,null,null,null,"Input_D4TSA_NSCPS2","='Ramp Terminal Inputs'!$E$28",null,null,null,"Input_A2TS_NRPSL2","='Ramp Terminal Inputs'!$Q$22"]
[null,null,null,null,null,null,null,null,null,null,"Input_D4TSA_OAADTEn1","='Ramp Terminal Inputs'!$D$9",null,null,null,"Input_A2TS_ExitRTC2","='Ramp Terminal Inputs'!$Q$23"]
[null,null,null,null,null,null,null,null,null,null,"Input_D4TSA_OAADTEn2","='Ramp Terminal Inputs'!$E$9",null,null,null,"Input_A2TS_ENLSR2","='Ramp Terminal Inputs'!$Q$24"]
[null,null,null,null,null,null,null,null,null,null,"Input_D4TSA_OAADTEx1","='Ramp Terminal Inputs'!$D$8",null,null,null,"Input_A2TS_NSCDW2","='Ramp Terminal Inputs'!$Q$25"]
[null,null,null,null,null,null,null,null,null,null,"Input_D4TSA_OAADTEx2","='Ramp Terminal Inputs'!$E$8",null,null,null,"Input_A2TS_lRMP2","='Ramp Terminal Inputs'!$Q$26"]
[null,null,null,null,null,null,null,null,null,null,"Input_D4TSA_OAADTIn1","='Ramp Terminal Inputs'!$D$6",null,null,null,"Input_A2TS_lSTR2","='Ramp Terminal Inputs'!$Q$27"]
[null,null,null,null,null,null,null,null,null,null,"Input_D4TSA_OAADTIn2","='Ramp Terminal Inputs'!$E$6",null,null,null,"Input_A2TS_NSCPS2","='Ramp Terminal Inputs'!$Q$28"]
[null,null,null,null,null,null,null,null,null,null,"Input_D4TSA_OAADTOut1","='Ramp Terminal Inputs'!$D$7",null,null,null,"Input_A2TS_MW2","='Ramp Terminal Inputs'!$Q$29"]
[null,null,null,null,null,null,null,null,null,null,"Input_D4TSA_OAADTOut2","='Ramp Terminal Inputs'!$E$7",null,null,null,"Input_A2TS_RTBIn2","='Ramp Terminal Inputs'!$Q$30"]
[null,null,null,null,null,null,null,null,null,null,"Input_D4TSA_PLTOIn1","='Ramp Terminal Inputs'!$D$36",null,null,null,"Input_A2TS_RTBOut2","='Ramp Terminal Inputs'!$Q$31"]
[null,null,null,null,null,null,null,null,null,null,"Input_D4TSA_PLTOIn2","='Ramp Terminal Inputs'!$E$36",null,null,null,"Input_A2TS_LTBIn2","='Ramp Terminal Inputs'!$Q$32"]
[null,null,null,null,null,null,null,null,null,null,"Input_D4TSA_PLTOOut1","='Ramp Terminal Inputs'!$D$37",null,null,null,"Input_A2TS_LTWIn2","='Ramp Terminal Inputs'!$Q$33"]
[null,null,null,null,null,null,null,null,null,null,"Input_D4TSA_PLTOOut2","='Ramp Terminal Inputs'!$E$37",null,null,null,"Input_A2TS_LTBOut2","='Ramp Terminal Inputs'!$Q$34"]
[null,null,null,null,null,null,null,null,null,null,"Input_D4TSA_RTBIn1","='Ramp Terminal Inputs'!$D$30",null,null,null,"Input_A2TS_LTWOut2","='Ramp Terminal Inputs'!$Q$35"]
[null,null,null,null,null,null,null,null,null,null,"Input_D4TSA_RTBIn2","='Ramp Terminal Inputs'!$E$30",null,null,null,"Input_A2TS_PLTOIn2","='Ramp Terminal Inputs'!$Q$36"]
[null,null,null,null,null,null,null,null,null,null,"Input_D4TSA_RTBOut1","='Ramp Terminal Inputs'!$D$31",null,null,null,"Input_A2TS_PLTOOut2","='Ramp Terminal Inputs'!$Q$37"]
[null,null,null,null,null,null,null,null,null,null,"Input_D4TSA_RTBOut2","='Ramp Terminal Inputs'!$E$31",null,null,null,"Input_A2TS_RTCIn2","='Ramp Terminal Inputs'!$Q$38"]
[null,null,null,null,null,null,null,null,null,null,"Input_D4TSA_RTCExit1","='Ramp Terminal Inputs'!$D$40",null,null,null,"Input_A2TS_RTCOut2","='Ramp Terminal Inputs'!$Q$39"]
[null,null,null,null,null,null,null,null,null,null,"Input_D4TSA_RTCExit2","='Ramp Terminal Inputs'!$E$40",null,null,null,"Input_A2TS_RTCExit2","='Ramp Terminal Inputs'!$Q$40"]
[null,null,null,null,null,null,null,null,null,null,"Input_D4TSA_RTCIn1","='Ramp Terminal Inputs'!$D$38",null,null,null,"Input_A2TS_OAADTIn2","='Ramp Terminal Inputs'!$Q$6"]
[null,null,null,null,null,null,null,null,null,null,"Input_D4TSA_RTCIn2","='Ramp Terminal Inputs'!$E$38",null,null,null,"Input_A2TS_OAADTOut2","='Ramp Terminal Inputs'!$Q$7"]
[null,null,null,null,null,null,null,null,null,null,"Input_D4TSA_RTCOut1","='Ramp Terminal Inputs'!$D$39",null,null,null,"Input_A2TS_OAADTEx2","='Ramp Terminal Inputs'!$Q$8"]
[null,null,null,null,null,null,null,null,null,null,"Input_D4TSA_RTCOut2","='Ramp Terminal Inputs'!$E$39",null,null,null,"Input_A2TS_OAADTEn2","='Ramp Terminal Inputs'!$Q$9"]
[null,null,null,null,null,null,null,null,null,null,"Input_DesignYear","='Control Strategy Selection'!$D$6",null,null,null,"Input_B4TS_DAADTIn1","='Ramp Terminal Inputs'!$R$10"]
[null,null,null,null,null,null,null,null,null,null,"Input_FacilityType","='Control Strategy Selection'!$D$8",null,null,null,"Input_B4TS_DAADTOut1","='Ramp Terminal Inputs'!$R$11"]
[null,null,null,null,null,null,null,null,null,null,"Input_Include_AS","='Control Strategy Selection'!$B$22",null,null,null,"Input_B4TS_DAADTEx1","='Ramp Terminal Inputs'!$R$12"]
[null,null,null,null,null,null,null,null,null,null,"Input_Include_Bowtie","='Control Strategy Selection'!$B$31",null,null,null,"Input_B4TS_DAADTEn1","='Ramp Terminal Inputs'!$R$13"]
[null,null,null,null,null,null,null,null,null,null,"Input_Include_CGT","='Control Strategy Selection'!$B$32",null,null,null,"Input_B4TS_NLxst1","='Ramp Terminal Inputs'!$R$15"]
[null,null,null,null,null,null,null,null,null,null,"Input_Include_DLT","='Control Strategy Selection'!$B$25",null,null,null,"Input_B4TS_NLTOIn1","='Ramp Terminal Inputs'!$R$16"]
[null,null,null,null,null,null,null,null,null,null,"Input_Include_JUG","='Control Strategy Selection'!$B$33",null,null,null,"Input_B4TS_NLTOOut1","='Ramp Terminal Inputs'!$R$17"]
[null,null,null,null,null,null,null,null,null,null,"Input_Include_MS","='Control Strategy Selection'!$B$21",null,null,null,"Input_B4TS_Skew1","='Ramp Terminal Inputs'!$R$21"]
[null,null,null,null,null,null,null,null,null,null,"Input_Include_MUT","='Control Strategy Selection'!$B$26",null,null,null,"Input_B4TS_NRPSL1","='Ramp Terminal Inputs'!$R$22"]
[null,null,null,null,null,null,null,null,null,null,"Input_Include_O1","='Control Strategy Selection'!$B$34",null,null,null,"Input_B4TS_ExitRTC1","='Ramp Terminal Inputs'!$R$23"]
[null,null,null,null,null,null,null,null,null,null,"Input_Include_O2","='Control Strategy Selection'!$B$35",null,null,null,"Input_B4TS_ENLSR1","='Ramp Terminal Inputs'!$R$24"]
[null,null,null,null,null,null,null,null,null,null,"Input_Include_R1","='Control Strategy Selection'!$B$23",null,null,null,"Input_B4TS_NSCDW1","='Ramp Terminal Inputs'!$R$25"]
[null,null,null,null,null,null,null,null,null,null,"Input_Include_R2","='Control Strategy Selection'!$B$24",null,null,null,"Input_B4TS_lRMP1","='Ramp Terminal Inputs'!$R$26"]
[null,null,null,null,null,null,null,null,null,null,"Input_Include_RTI_A2SC","='Control Strategy Selection'!$B$76",null,null,null,"Input_B4TS_lSTR1","='Ramp Terminal Inputs'!$R$27"]
[null,null,null,null,null,null,null,null,null,null,"Input_Include_RTI_A2TS","='Control Strategy Selection'!$B$71",null,null,null,"Input_B4TS_NSCPS1","='Ramp Terminal Inputs'!$R$28"]
[null,null,null,null,null,null,null,null,null,null,"Input_Include_RTI_A4SC","='Control Strategy Selection'!$B$75",null,null,null,"Input_B4TS_MW1","='Ramp Terminal Inputs'!$R$29"]
[null,null,null,null,null,null,null,null,null,null,"Input_Include_RTI_A4TS","='Control Strategy Selection'!$B$70",null,null,null,"Input_B4TS_RTBIn1","='Ramp Terminal Inputs'!$R$30"]
[null,null,null,null,null,null,null,null,null,null,"Input_Include_RTI_B2SC","='Control Strategy Selection'!$B$78",null,null,null,"Input_B4TS_RTBOut1","='Ramp Terminal Inputs'!$R$31"]
[null,null,null,null,null,null,null,null,null,null,"Input_Include_RTI_B2TS","='Control Strategy Selection'!$B$73",null,null,null,"Input_B4TS_LTBIn1","='Ramp Terminal Inputs'!$R$32"]
[null,null,null,null,null,null,null,null,null,null,"Input_Include_RTI_B4SC","='Control Strategy Selection'!$B$77",null,null,null,"Input_B4TS_LTWIn1","='Ramp Terminal Inputs'!$R$33"]
[null,null,null,null,null,null,null,null,null,null,"Input_Include_RTI_B4TS","='Control Strategy Selection'!$B$72",null,null,null,"Input_B4TS_LTBOut1","='Ramp Terminal Inputs'!$R$34"]
[null,null,null,null,null,null,null,null,null,null,"Input_Include_RTI_D3SC","='Control Strategy Selection'!$B$79",null,null,null,"Input_B4TS_LTWOut1","='Ramp Terminal Inputs'!$R$35"]
[null,null,null,null,null,null,null,null,null,null,"Input_Include_RTI_D3TS","='Control Strategy Selection'!$B$74",null,null,null,"Input_B4TS_PLTOIn1","='Ramp Terminal Inputs'!$R$36"]
[null,null,null,null,null,null,null,null,null,null,"Input_Include_RTI_D4MS","='Control Strategy Selection'!$B$66",null,null,null,"Input_B4TS_PLTOOut1","='Ramp Terminal Inputs'!$R$37"]
[null,null,null,null,null,null,null,null,null,null,"Input_Include_RTI_D4TS","='Control Strategy Selection'!$B$62",null,null,null,"Input_B4TS_RTCIn1","='Ramp Terminal Inputs'!$R$38"]
[null,null,null,null,null,null,null,null,null,null,"Input_Include_RTI_D4TSA","='Control Strategy Selection'!$B$63",null,null,null,"Input_B4TS_RTCOut1","='Ramp Terminal Inputs'!$R$39"]
[null,null,null,null,null,null,null,null,null,null,"Input_Include_RTI_DDI","='Control Strategy Selection'!$B$64",null,null,null,"Input_B4TS_RTCExit1","='Ramp Terminal Inputs'!$R$40"]
[null,null,null,null,null,null,null,null,null,null,"Input_Include_RTI_O1","='Control Strategy Selection'!$B$80",null,null,null,"Input_B4TS_OAADTIn1","='Ramp Terminal Inputs'!$R$6"]
[null,null,null,null,null,null,null,null,null,null,"Input_Include_RTI_O2","='Control Strategy Selection'!$B$81",null,null,null,"Input_B4TS_OAADTOut1","='Ramp Terminal Inputs'!$R$7"]
[null,null,null,null,null,null,null,null,null,null,"Input_Include_RTI_R1","='Control Strategy Selection'!$B$67",null,null,null,"Input_B4TS_OAADTEx1","='Ramp Terminal Inputs'!$R$8"]
[null,null,null,null,null,null,null,null,null,null,"Input_Include_RTI_R2","='Control Strategy Selection'!$B$68",null,null,null,"Input_B4TS_OAADTEn1","='Ramp Terminal Inputs'!$R$9"]
[null,null,null,null,null,null,null,null,null,null,"Input_Include_RTI_SPUI","='Control Strategy Selection'!$B$65",null,null,null,"Input_B4TS_DAADTIn2","='Ramp Terminal Inputs'!$S$10"]
[null,null,null,null,null,null,null,null,null,null,"Input_Include_RTI_TD","='Control Strategy Selection'!$B$69",null,null,null,"Input_B4TS_DAADTOut2","='Ramp Terminal Inputs'!$S$11"]
[null,null,null,null,null,null,null,null,null,null,"Input_Include_SigThruCut","='Control Strategy Selection'!$B$29",null,null,null,"Input_B4TS_DAADTEx2","='Ramp Terminal Inputs'!$S$12"]
[null,null,null,null,null,null,null,null,null,null,"Input_Include_SRCUT","='Control Strategy Selection'!$B$27",null,null,null,"Input_B4TS_DAADTEn2","='Ramp Terminal Inputs'!$S$13"]
[null,null,null,null,null,null,null,null,null,null,"Input_Include_TS","='Control Strategy Selection'!$B$19",null,null,null,"Input_B4TS_NLxst2","='Ramp Terminal Inputs'!$S$15"]
[null,null,null,null,null,null,null,null,null,null,"Input_Include_TSA","='Control Strategy Selection'!$B$20",null,null,null,"Input_B4TS_NLTOIn2","='Ramp Terminal Inputs'!$S$16"]
[null,null,null,null,null,null,null,null,null,null,"Input_Include_UnsigThruCut","='Control Strategy Selection'!$B$30",null,null,null,"Input_B4TS_NLTOOut2","='Ramp Terminal Inputs'!$S$17"]
[null,null,null,null,null,null,null,null,null,null,"Input_Include_URCUT","='Control Strategy Selection'!$B$28",null,null,null,"Input_B4TS_Skew2","='Ramp Terminal Inputs'!$S$21"]
[null,null,null,null,null,null,null,null,null,null,"Input_MajorApproachSpeed","='Control Strategy Selection'!$D$12",null,null,null,"Input_B4TS_NRPSL2","='Ramp Terminal Inputs'!$S$22"]
[null,null,null,null,null,null,null,null,null,null,"Input_MinorStop_DAADTMajor","='At-Grade Inputs'!$H$9",null,null,null,"Input_B4TS_ExitRTC2","='Ramp Terminal Inputs'!$S$23"]
[null,null,null,null,null,null,null,null,null,null,"Input_MinorStop_DAADTMinor","='At-Grade Inputs'!$H$10",null,null,null,"Input_B4TS_ENLSR2","='Ramp Terminal Inputs'!$S$24"]
[null,null,null,null,null,null,null,null,null,null,"Input_MinorStop_Lighting","='At-Grade Inputs'!$H$18",null,null,null,"Input_B4TS_NSCDW2","='Ramp Terminal Inputs'!$S$25"]
[null,null,null,null,null,null,null,null,null,null,"Input_MinorStop_NumAppWithLTLns","='At-Grade Inputs'!$H$13",null,null,null,"Input_B4TS_lRMP2","='Ramp Terminal Inputs'!$S$26"]
[null,null,null,null,null,null,null,null,null,null,"Input_MinorStop_NumAppWithRTLns","='At-Grade Inputs'!$H$14",null,null,null,"Input_B4TS_lSTR2","='Ramp Terminal Inputs'!$S$27"]
[null,null,null,null,null,null,null,null,null,null,"Input_MinorStop_OAADTMajor","='At-Grade Inputs'!$H$7",null,null,null,"Input_B4TS_NSCPS2","='Ramp Terminal Inputs'!$S$28"]
[null,null,null,null,null,null,null,null,null,null,"Input_MinorStop_OAADTMinor","='At-Grade Inputs'!$H$8",null,null,null,"Input_B4TS_MW2","='Ramp Terminal Inputs'!$S$29"]
[null,null,null,null,null,null,null,null,null,null,"Input_NumLegs","='Control Strategy Selection'!$D$9",null,null,null,"Input_B4TS_RTBIn2","='Ramp Terminal Inputs'!$S$30"]
[null,null,null,null,null,null,null,null,null,null,"Input_NumMajorLanes","='Control Strategy Selection'!$D$11",null,null,null,"Input_B4TS_RTBOut2","='Ramp Terminal Inputs'!$S$31"]
[null,null,null,null,null,null,null,null,null,null,"Input_OpenYear","='Control Strategy Selection'!$D$5",null,null,null,"Input_B4TS_LTBIn2","='Ramp Terminal Inputs'!$S$32"]
[null,null,null,null,null,null,null,null,null,null,"Input_Other1_BaseIntx","='Control Strategy Selection'!$D$34",null,null,null,"Input_B4TS_LTWIn2","='Ramp Terminal Inputs'!$S$33"]
[null,null,null,null,null,null,null,null,null,null,"Input_Other2_BaseIntx","='Control Strategy Selection'!$D$35",null,null,null,"Input_B4TS_LTBOut2","='Ramp Terminal Inputs'!$S$34"]
[null,null,null,null,null,null,null,null,null,null,"Input_Range_AGI_AllOverride_DesignAADT","='At-Grade Inputs'!$D$9:$I$10,'At-Grade Inputs'!$L$9:$O$10",null,null,null,"Input_B4TS_LTWOut2","='Ramp Terminal Inputs'!$S$35"]
[null,null,null,null,null,null,null,null,null,null,"Input_Range_AGI_AllOverride_OpenAADT","='At-Grade Inputs'!$D$7:$I$8,'At-Grade Inputs'!$L$7:$O$8",null,null,null,"Input_B4TS_PLTOIn2","='Ramp Terminal Inputs'!$S$36"]
[null,null,null,null,null,null,null,null,null,null,"Input_Range_AGI_Base_DesignAADT","='Control Strategy Selection'!$D$15:$D$16",null,null,null,"Input_B4TS_PLTOOut2","='Ramp Terminal Inputs'!$S$37"]
[null,null,null,null,null,null,null,null,null,null,"Input_Range_AGI_Base_OpenAADT","='Control Strategy Selection'!$D$13:$D$14",null,null,null,"Input_B4TS_RTCIn2","='Ramp Terminal Inputs'!$S$38"]
[null,null,null,null,null,null,null,null,null,null,"Input_RTI_AreaType","='Control Strategy Selection'!$D$46",null,null,null,"Input_B4TS_RTCOut2","='Ramp Terminal Inputs'!$S$39"]
[null,null,null,null,null,null,null,null,null,null,"Input_RTI_DAADTEn1","='Control Strategy Selection'!$D$57",null,null,null,"Input_B4TS_RTCExit2","='Ramp Terminal Inputs'!$S$40"]
[null,null,null,null,null,null,null,null,null,null,"Input_RTI_DAADTEn2","='Control Strategy Selection'!$E$57",null,null,null,"Input_B4TS_OAADTIn2","='Ramp Terminal Inputs'!$S$6"]
[null,null,null,null,null,null,null,null,null,null,"Input_RTI_DAADTEx1","='Control Strategy Selection'!$D$56",null,null,null,"Input_B4TS_OAADTOut2","='Ramp Terminal Inputs'!$S$7"]
[null,null,null,null,null,null,null,null,null,null,"Input_RTI_DAADTEx2","='Control Strategy Selection'!$E$56",null,null,null,"Input_B4TS_OAADTEx2","='Ramp Terminal Inputs'!$S$8"]
[null,null,null,null,null,null,null,null,null,null,"Input_RTI_DAADTIn1","='Control Strategy Selection'!$D$54",null,null,null,"Input_B4TS_OAADTEn2","='Ramp Terminal Inputs'!$S$9"]
[null,null,null,null,null,null,null,null,null,null,"Input_RTI_DAADTIn2","='Control Strategy Selection'!$E$54",null,null,null,"Input_A4SC_DAADTIn1","='Ramp Terminal Inputs'!$T$10"]
[null,null,null,null,null,null,null,null,null,null,"Input_RTI_DAADTOut1","='Control Strategy Selection'!$D$55",null,null,null,"Input_B2TS_DAADTIn1","='Ramp Terminal Inputs'!$T$10"]
[null,null,null,null,null,null,null,null,null,null,"Input_RTI_DAADTOut2","='Control Strategy Selection'!$E$55",null,null,null,"Input_A4SC_DAADTOut1","='Ramp Terminal Inputs'!$T$11"]
[null,null,null,null,null,null,null,null,null,null,"Input_RTI_OAADTEn1","='Control Strategy Selection'!$D$52",null,null,null,"Input_B2TS_DAADTOut1","='Ramp Terminal Inputs'!$T$11"]
[null,null,null,null,null,null,null,null,null,null,"Input_RTI_OAADTEn2","='Control Strategy Selection'!$E$52",null,null,null,"Input_A4SC_DAADTEx1","='Ramp Terminal Inputs'!$T$12"]
[null,null,null,null,null,null,null,null,null,null,"Input_RTI_OAADTEx1","='Control Strategy Selection'!$D$51",null,null,null,"Input_B2TS_DAADTEx1","='Ramp Terminal Inputs'!$T$12"]
[null,null,null,null,null,null,null,null,null,null,"Input_RTI_OAADTEx2","='Control Strategy Selection'!$E$51",null,null,null,"Input_A4SC_DAADTEn1","='Ramp Terminal Inputs'!$T$13"]
[null,null,null,null,null,null,null,null,null,null,"Input_RTI_OAADTIn1","='Control Strategy Selection'!$D$49",null,null,null,"Input_B2TS_DAADTEn1","='Ramp Terminal Inputs'!$T$13"]
[null,null,null,null,null,null,null,null,null,null,"Input_RTI_OAADTIn2","='Control Strategy Selection'!$E$49",null,null,null,"Input_A4SC_NLxst1","='Ramp Terminal Inputs'!$T$15"]
[null,null,null,null,null,null,null,null,null,null,"Input_RTI_OAADTOut1","='Control Strategy Selection'!$D$50",null,null,null,"Input_B2TS_NLxst1","='Ramp Terminal Inputs'!$T$15"]
[null,null,null,null,null,null,null,null,null,null,"Input_RTI_OAADTOut2","='Control Strategy Selection'!$E$50",null,null,null,"Input_A4SC_NLTOIn1","='Ramp Terminal Inputs'!$T$16"]
[null,null,null,null,null,null,null,null,null,null,"Input_RTI_Other1_BaseIntx","='Control Strategy Selection'!$D$80",null,null,null,"Input_B2TS_NLTOIn1","='Ramp Terminal Inputs'!$T$16"]
[null,null,null,null,null,null,null,null,null,null,"Input_RTI_Other2_BaseIntx","='Control Strategy Selection'!$D$81",null,null,null,"Input_A4SC_NLTOOut1","='Ramp Terminal Inputs'!$T$17"]
[null,null,null,null,null,null,null,null,null,null,"Input_RTI_R1T1_AADT_L1","='Ramp Terminal Inputs'!$H$45",null,null,null,"Input_B2TS_NLTOOut1","='Ramp Terminal Inputs'!$T$17"]
[null,null,null,null,null,null,null,null,null,null,"Input_RTI_R1T1_AADT_L2","='Ramp Terminal Inputs'!$H$52",null,null,null,"Input_A4SC_Skew1","='Ramp Terminal Inputs'!$T$21"]
[null,null,null,null,null,null,null,null,null,null,"Input_RTI_R1T1_AADT_L3","='Ramp Terminal Inputs'!$H$59",null,null,null,"Input_B2TS_Skew1","='Ramp Terminal Inputs'!$T$21"]
[null,null,null,null,null,null,null,null,null,null,"Input_RTI_R1T1_Access_L1","='Ramp Terminal Inputs'!$H$47",null,null,null,"Input_A4SC_NRPSL1","='Ramp Terminal Inputs'!$T$22"]
[null,null,null,null,null,null,null,null,null,null,"Input_RTI_R1T1_Access_L2","='Ramp Terminal Inputs'!$H$54",null,null,null,"Input_B2TS_NRPSL1","='Ramp Terminal Inputs'!$T$22"]
[null,null,null,null,null,null,null,null,null,null,"Input_RTI_R1T1_Access_L3","='Ramp Terminal Inputs'!$H$61",null,null,null,"Input_A4SC_ExitRTC1","='Ramp Terminal Inputs'!$T$23"]
[null,null,null,null,null,null,null,null,null,null,"Input_RTI_R1T1_Bypass_L1","='Ramp Terminal Inputs'!$H$46",null,null,null,"Input_B2TS_ExitRTC1","='Ramp Terminal Inputs'!$T$23"]
[null,null,null,null,null,null,null,null,null,null,"Input_RTI_R1T1_Bypass_L2","='Ramp Terminal Inputs'!$H$53",null,null,null,"Input_A4SC_ENLSR1","='Ramp Terminal Inputs'!$T$24"]
[null,null,null,null,null,null,null,null,null,null,"Input_RTI_R1T1_Bypass_L3","='Ramp Terminal Inputs'!$H$60",null,null,null,"Input_B2TS_ENLSR1","='Ramp Terminal Inputs'!$T$24"]
[null,null,null,null,null,null,null,null,null,null,"Input_RTI_R1T1_ICD","='Ramp Terminal Inputs'!$H$42",null,null,null,"Input_A4SC_NSCDW1","='Ramp Terminal Inputs'!$T$25"]
[null,null,null,null,null,null,null,null,null,null,"Input_RTI_R1T1_Outbnd","='Ramp Terminal Inputs'!$H$43",null,null,null,"Input_B2TS_NSCDW1","='Ramp Terminal Inputs'!$T$25"]
[null,null,null,null,null,null,null,null,null,null,"Input_RTI_R1T2_AADT_L1","='Ramp Terminal Inputs'!$I$45",null,null,null,"Input_A4SC_lRMP1","='Ramp Terminal Inputs'!$T$26"]
[null,null,null,null,null,null,null,null,null,null,"Input_RTI_R1T2_AADT_L2","='Ramp Terminal Inputs'!$I$52",null,null,null,"Input_B2TS_lRMP1","='Ramp Terminal Inputs'!$T$26"]
[null,null,null,null,null,null,null,null,null,null,"Input_RTI_R1T2_AADT_L3","='Ramp Terminal Inputs'!$I$59",null,null,null,"Input_A4SC_lSTR1","='Ramp Terminal Inputs'!$T$27"]
[null,null,null,null,null,null,null,null,null,null,"Input_RTI_R1T2_Access_L1","='Ramp Terminal Inputs'!$I$47",null,null,null,"Input_B2TS_lSTR1","='Ramp Terminal Inputs'!$T$27"]
[null,null,null,null,null,null,null,null,null,null,"Input_RTI_R1T2_Access_L2","='Ramp Terminal Inputs'!$I$54",null,null,null,"Input_A4SC_NSCPS1","='Ramp Terminal Inputs'!$T$28"]
[null,null,null,null,null,null,null,null,null,null,"Input_RTI_R1T2_Access_L3","='Ramp Terminal Inputs'!$I$61",null,null,null,"Input_B2TS_NSCPS1","='Ramp Terminal Inputs'!$T$28"]
[null,null,null,null,null,null,null,null,null,null,"Input_RTI_R1T2_Bypass_L1","='Ramp Terminal Inputs'!$I$46",null,null,null,"Input_A4SC_MW1","='Ramp Terminal Inputs'!$T$29"]
[null,null,null,null,null,null,null,null,null,null,"Input_RTI_R1T2_Bypass_L2","='Ramp Terminal Inputs'!$I$53",null,null,null,"Input_B2TS_MW1","='Ramp Terminal Inputs'!$T$29"]
[null,null,null,null,null,null,null,null,null,null,"Input_RTI_R1T2_Bypass_L3","='Ramp Terminal Inputs'!$I$60",null,null,null,"Input_A4SC_RTBIn1","='Ramp Terminal Inputs'!$T$30"]
[null,null,null,null,null,null,null,null,null,null,"Input_RTI_R1T2_ICD","='Ramp Terminal Inputs'!$I$42",null,null,null,"Input_B2TS_RTBIn1","='Ramp Terminal Inputs'!$T$30"]
[null,null,null,null,null,null,null,null,null,null,"Input_RTI_R1T2_Outbnd","='Ramp Terminal Inputs'!$I$43",null,null,null,"Input_A4SC_RTBOut1","='Ramp Terminal Inputs'!$T$31"]
[null,null,null,null,null,null,null,null,null,null,"Input_RTI_R2T1_AADT_L1","='Ramp Terminal Inputs'!$J$45",null,null,null,"Input_B2TS_RTBOut1","='Ramp Terminal Inputs'!$T$31"]
[null,null,null,null,null,null,null,null,null,null,"Input_RTI_R2T1_AADT_L2","='Ramp Terminal Inputs'!$J$52",null,null,null,"Input_A4SC_LTBIn1","='Ramp Terminal Inputs'!$T$32"]
[null,null,null,null,null,null,null,null,null,null,"Input_RTI_R2T1_AADT_L3","='Ramp Terminal Inputs'!$J$59",null,null,null,"Input_B2TS_LTBIn1","='Ramp Terminal Inputs'!$T$32"]
[null,null,null,null,null,null,null,null,null,null,"Input_RTI_R2T1_Bypass_L1","='Ramp Terminal Inputs'!$J$46",null,null,null,"Input_A4SC_LTWIn1","='Ramp Terminal Inputs'!$T$33"]
[null,null,null,null,null,null,null,null,null,null,"Input_RTI_R2T1_Bypass_L2","='Ramp Terminal Inputs'!$J$53",null,null,null,"Input_B2TS_LTWIn1","='Ramp Terminal Inputs'!$T$33"]
[null,null,null,null,null,null,null,null,null,null,"Input_RTI_R2T1_Bypass_L3","='Ramp Terminal Inputs'!$J$60",null,null,null,"Input_A4SC_LTBOut1","='Ramp Terminal Inputs'!$T$34"]
[null,null,null,null,null,null,null,null,null,null,"Input_RTI_R2T1_CL_L1","='Ramp Terminal Inputs'!$J$50",null,null,null,"Input_B2TS_LTBOut1","='Ramp Terminal Inputs'!$T$34"]
[null,null,null,null,null,null,null,null,null,null,"Input_RTI_R2T1_CL_L2","='Ramp Terminal Inputs'!$J$57",null,null,null,"Input_A4SC_LTWOut1","='Ramp Terminal Inputs'!$T$35"]
[null,null,null,null,null,null,null,null,null,null,"Input_RTI_R2T1_CL_L3","='Ramp Terminal Inputs'!$J$64",null,null,null,"Input_B2TS_LTWOut1","='Ramp Terminal Inputs'!$T$35"]
[null,null,null,null,null,null,null,null,null,null,"Input_RTI_R2T1_EL_L1","='Ramp Terminal Inputs'!$J$49",null,null,null,"Input_A4SC_PLTOIn1","='Ramp Terminal Inputs'!$T$36"]
[null,null,null,null,null,null,null,null,null,null,"Input_RTI_R2T1_EL_L2","='Ramp Terminal Inputs'!$J$56",null,null,null,"Input_B2TS_PLTOIn1","='Ramp Terminal Inputs'!$T$36"]
[null,null,null,null,null,null,null,null,null,null,"Input_RTI_R2T1_EL_L3","='Ramp Terminal Inputs'!$J$63",null,null,null,"Input_A4SC_PLTOOut1","='Ramp Terminal Inputs'!$T$37"]
[null,null,null,null,null,null,null,null,null,null,"Input_RTI_R2T1_EW_L1","='Ramp Terminal Inputs'!$J$48",null,null,null,"Input_B2TS_PLTOOut1","='Ramp Terminal Inputs'!$T$37"]
[null,null,null,null,null,null,null,null,null,null,"Input_RTI_R2T1_EW_L2","='Ramp Terminal Inputs'!$J$55",null,null,null,"Input_A4SC_RTCIn1","='Ramp Terminal Inputs'!$T$38"]
[null,null,null,null,null,null,null,null,null,null,"Input_RTI_R2T1_EW_L3","='Ramp Terminal Inputs'!$J$62",null,null,null,"Input_B2TS_RTCIn1","='Ramp Terminal Inputs'!$T$38"]
[null,null,null,null,null,null,null,null,null,null,"Input_RTI_R2T1_Outbnd","='Ramp Terminal Inputs'!$J$43",null,null,null,"Input_A4SC_RTCOut1","='Ramp Terminal Inputs'!$T$39"]
[null,null,null,null,null,null,null,null,null,null,"Input_RTI_R2T2_AADT_L1","='Ramp Terminal Inputs'!$K$45",null,null,null,"Input_B2TS_RTCOut1","='Ramp Terminal Inputs'!$T$39"]
[null,null,null,null,null,null,null,null,null,null,"Input_RTI_R2T2_AADT_L2","='Ramp Terminal Inputs'!$K$52",null,null,null,"Input_A4SC_RTCExit1","='Ramp Terminal Inputs'!$T$40"]
[null,null,null,null,null,null,null,null,null,null,"Input_RTI_R2T2_AADT_L3","='Ramp Terminal Inputs'!$K$59",null,null,null,"Input_B2TS_RTCExit1","='Ramp Terminal Inputs'!$T$40"]
[null,null,null,null,null,null,null,null,null,null,"Input_RTI_R2T2_Bypass_L1","='Ramp Terminal Inputs'!$K$46",null,null,null,"Input_A4SC_OAADTIn1","='Ramp Terminal Inputs'!$T$6"]
[null,null,null,null,null,null,null,null,null,null,"Input_RTI_R2T2_Bypass_L2","='Ramp Terminal Inputs'!$K$53",null,null,null,"Input_A4ST_OAADTIn1","='Ramp Terminal Inputs'!$T$6"]
[null,null,null,null,null,null,null,null,null,null,"Input_RTI_R2T2_Bypass_L3","='Ramp Terminal Inputs'!$K$60",null,null,null,"Input_B2TS_OAADTIn1","='Ramp Terminal Inputs'!$T$6"]
[null,null,null,null,null,null,null,null,null,null,"Input_RTI_R2T2_CL_L1","='Ramp Terminal Inputs'!$K$50",null,null,null,"Input_A4SC_OAADTOut1","='Ramp Terminal Inputs'!$T$7"]
[null,null,null,null,null,null,null,null,null,null,"Input_RTI_R2T2_CL_L2","='Ramp Terminal Inputs'!$K$57",null,null,null,"Input_B2TS_OAADTOut1","='Ramp Terminal Inputs'!$T$7"]
[null,null,null,null,null,null,null,null,null,null,"Input_RTI_R2T2_CL_L3","='Ramp Terminal Inputs'!$K$64",null,null,null,"Input_A4SC_OAADTEx1","='Ramp Terminal Inputs'!$T$8"]
[null,null,null,null,null,null,null,null,null,null,"Input_RTI_R2T2_EL_L1","='Ramp Terminal Inputs'!$K$49",null,null,null,"Input_B2TS_OAADTEx1","='Ramp Terminal Inputs'!$T$8"]
[null,null,null,null,null,null,null,null,null,null,"Input_RTI_R2T2_EL_L2","='Ramp Terminal Inputs'!$K$56",null,null,null,"Input_A4SC_OAADTEn1","='Ramp Terminal Inputs'!$T$9"]
[null,null,null,null,null,null,null,null,null,null,"Input_RTI_R2T2_EL_L3","='Ramp Terminal Inputs'!$K$63",null,null,null,"Input_B2TS_OAADTEn1","='Ramp Terminal Inputs'!$T$9"]
[null,null,null,null,null,null,null,null,null,null,"Input_RTI_R2T2_EW_L1","='Ramp Terminal Inputs'!$K$48",null,null,null,"Input_A4SC_DAADTIn2","='Ramp Terminal Inputs'!$U$10"]
[null,null,null,null,null,null,null,null,null,null,"Input_RTI_R2T2_EW_L2","='Ramp Terminal Inputs'!$K$55",null,null,null,"Input_B2TS_DAADTIn2","='Ramp Terminal Inputs'!$U$10"]
[null,null,null,null,null,null,null,null,null,null,"Input_RTI_R2T2_EW_L3","='Ramp Terminal Inputs'!$K$62",null,null,null,"Input_A4SC_DAADTOut2","='Ramp Terminal Inputs'!$U$11"]
[null,null,null,null,null,null,null,null,null,null,"Input_RTI_R2T2_Outbnd","='Ramp Terminal Inputs'!$K$43",null,null,null,"Input_B2TS_DAADTOut2","='Ramp Terminal Inputs'!$U$11"]
[null,null,null,null,null,null,null,null,null,null,"Input_SPUI_DAADT_En","='Ramp Terminal Inputs'!$L$13",null,null,null,"Input_A4SC_DAADTEx2","='Ramp Terminal Inputs'!$U$12"]
[null,null,null,null,null,null,null,null,null,null,"Input_SPUI_DAADT_Ex","='Ramp Terminal Inputs'!$L$12",null,null,null,"Input_B2TS_DAADTEx2","='Ramp Terminal Inputs'!$U$12"]
[null,null,null,null,null,null,null,null,null,null,"Input_SPUI_DAADT_Xrd","='Ramp Terminal Inputs'!$L$11",null,null,null,"Input_A4SC_DAADTEn2","='Ramp Terminal Inputs'!$U$13"]
[null,null,null,null,null,null,null,null,null,null,"Input_SPUI_NFFRT","='Ramp Terminal Inputs'!$L$18",null,null,null,"Input_B2TS_DAADTEn2","='Ramp Terminal Inputs'!$U$13"]
[null,null,null,null,null,null,null,null,null,null,"Input_SPUI_OAADT_En","='Ramp Terminal Inputs'!$L$9",null,null,null,"Input_A4SC_NLxst2","='Ramp Terminal Inputs'!$U$15"]
[null,null,null,null,null,null,null,null,null,null,"Input_SPUI_OAADT_Ex","='Ramp Terminal Inputs'!$L$8",null,null,null,"Input_B2TS_NLxst2","='Ramp Terminal Inputs'!$U$15"]
[null,null,null,null,null,null,null,null,null,null,"Input_SPUI_OAADT_Xrd","='Ramp Terminal Inputs'!$L$7",null,null,null,"Input_A4SC_NLTOIn2","='Ramp Terminal Inputs'!$U$16"]
[null,null,null,null,null,null,null,null,null,null,"Input_TD_DAADT_En","='Ramp Terminal Inputs'!$M$13",null,null,null,"Input_B2TS_NLTOIn2","='Ramp Terminal Inputs'!$U$16"]
[null,null,null,null,null,null,null,null,null,null,"Input_TD_DAADT_Ex","='Ramp Terminal Inputs'!$M$12",null,null,null,"Input_A4SC_NLTOOut2","='Ramp Terminal Inputs'!$U$17"]
[null,null,null,null,null,null,null,null,null,null,"Input_TD_DAADT_Xrd","='Ramp Terminal Inputs'!$M$11",null,null,null,"Input_B2TS_NLTOOut2","='Ramp Terminal Inputs'!$U$17"]
[null,null,null,null,null,null,null,null,null,null,"Input_TD_OAADT_En","='Ramp Terminal Inputs'!$M$9",null,null,null,"Input_A4SC_Skew2","='Ramp Terminal Inputs'!$U$21"]
[null,null,null,null,null,null,null,null,null,null,"Input_TD_OAADT_Ex","='Ramp Terminal Inputs'!$M$8",null,null,null,"Input_B2TS_Skew2","='Ramp Terminal Inputs'!$U$21"]
[null,null,null,null,null,null,null,null,null,null,"Input_TD_OAADT_Xrd","='Ramp Terminal Inputs'!$M$7",null,null,null,"Input_A4SC_NRPSL2","='Ramp Terminal Inputs'!$U$22"]
[null,null,null,null,null,null,null,null,null,null,"Input_TrafficSignal_AppWithRTORProhibit","='At-Grade Inputs'!$D$22",null,null,null,"Input_B2TS_NRPSL2","='Ramp Terminal Inputs'!$U$22"]
[null,null,null,null,null,null,null,null,null,null,"Input_TrafficSignal_DAADTMajor","='At-Grade Inputs'!$D$9",null,null,null,"Input_A4SC_ExitRTC2","='Ramp Terminal Inputs'!$U$23"]
[null,null,null,null,null,null,null,null,null,null,"Input_TrafficSignal_DAADTMinor","='At-Grade Inputs'!$D$10",null,null,null,"Input_B2TS_ExitRTC2","='Ramp Terminal Inputs'!$U$23"]
[null,null,null,null,null,null,null,null,null,null,"Input_TrafficSignal_NumAppWithLTLns","='At-Grade Inputs'!$D$11",null,null,null,"Input_A4SC_ENLSR2","='Ramp Terminal Inputs'!$U$24"]
[null,null,null,null,null,null,null,null,null,null,"Input_TrafficSignal_NumAppWithRTLns","='At-Grade Inputs'!$D$12",null,null,null,"Input_B2TS_ENLSR2","='Ramp Terminal Inputs'!$U$24"]
[null,null,null,null,null,null,null,null,null,null,"Input_TrafficSignal_NumLTPermitted","='At-Grade Inputs'!$D$19",null,null,null,"Input_A4SC_NSCDW2","='Ramp Terminal Inputs'!$U$25"]
[null,null,null,null,null,null,null,null,null,null,"Input_TrafficSignal_NumLTPermProt","='At-Grade Inputs'!$D$20",null,null,null,"Input_B2TS_NSCDW2","='Ramp Terminal Inputs'!$U$25"]
[null,null,null,null,null,null,null,null,null,null,"Input_TrafficSignal_NumLTProtected","='At-Grade Inputs'!$D$21",null,null,null,"Input_A4SC_lRMP2","='Ramp Terminal Inputs'!$U$26"]
[null,null,null,null,null,null,null,null,null,null,"Input_TrafficSignal_NumMajorLns","='At-Grade Inputs'!$D$24",null,null,null,"Input_B2TS_lRMP2","='Ramp Terminal Inputs'!$U$26"]
[null,null,null,null,null,null,null,null,null,null,"Input_TrafficSignal_NumMinorLns","='At-Grade Inputs'!$D$25",null,null,null,"Input_A4SC_lSTR2","='Ramp Terminal Inputs'!$U$27"]
[null,null,null,null,null,null,null,null,null,null,"Input_TrafficSignal_NumRTChannelization","='At-Grade Inputs'!$D$26",null,null,null,"Input_B2TS_lSTR2","='Ramp Terminal Inputs'!$U$27"]
[null,null,null,null,null,null,null,null,null,null,"Input_TrafficSignal_OAADTMajor","='At-Grade Inputs'!$D$7",null,null,null,"Input_A4SC_NSCPS2","='Ramp Terminal Inputs'!$U$28"]
[null,null,null,null,null,null,null,null,null,null,"Input_TrafficSignal_OAADTMinor","='At-Grade Inputs'!$D$8",null,null,null,"Input_B2TS_NSCPS2","='Ramp Terminal Inputs'!$U$28"]
[null,null,null,null,null,null,null,null,null,null,"Input_TrafficSignal_PedActivity","='At-Grade Inputs'!$D$28",null,null,null,"Input_A4SC_MW2","='Ramp Terminal Inputs'!$U$29"]
[null,null,null,null,null,null,null,null,null,null,"Input_TrafficSignal_PedLnsCross","='At-Grade Inputs'!$D$30",null,null,null,"Input_B2TS_MW2","='Ramp Terminal Inputs'!$U$29"]
[null,null,null,null,null,null,null,null,null,null,"Input_TrafficSignal_PedVol","='At-Grade Inputs'!$D$29",null,null,null,"Input_A4SC_RTBIn2","='Ramp Terminal Inputs'!$U$30"]
[null,null,null,null,null,null,null,null,null,null,"Input_TrafficSignal_RedLightCameras","='At-Grade Inputs'!$D$23",null,null,null,"Input_B2TS_RTBIn2","='Ramp Terminal Inputs'!$U$30"]
[null,null,null,null,null,null,null,null,null,null,"Input_TrafficSignal_UTurnProhibit","='At-Grade Inputs'!$D$27",null,null,null,"Input_A4SC_RTBOut2","='Ramp Terminal Inputs'!$U$31"]
[null,null,null,null,null,null,null,null,null,null,"Input_TrafficSignal2_AppWithRTORProhibit","='At-Grade Inputs'!$F$22",null,null,null,"Input_B2TS_RTBOut2","='Ramp Terminal Inputs'!$U$31"]
[null,null,null,null,null,null,null,null,null,null,"Input_TrafficSignal2_DAADTMajor","='At-Grade Inputs'!$F$9",null,null,null,"Input_A4SC_LTBIn2","='Ramp Terminal Inputs'!$U$32"]
[null,null,null,null,null,null,null,null,null,null,"Input_TrafficSignal2_DAADTMinor","='At-Grade Inputs'!$F$10",null,null,null,"Input_B2TS_LTBIn2","='Ramp Terminal Inputs'!$U$32"]
[null,null,null,null,null,null,null,null,null,null,"Input_TrafficSignal2_HasSchool","='At-Grade Inputs'!$F$32",null,null,null,"Input_A4SC_LTWIn2","='Ramp Terminal Inputs'!$U$33"]
[null,null,null,null,null,null,null,null,null,null,"Input_TrafficSignal2_Lighting","='At-Grade Inputs'!$F$18",null,null,null,"Input_B2TS_LTWIn2","='Ramp Terminal Inputs'!$U$33"]
[null,null,null,null,null,null,null,null,null,null,"Input_TrafficSignal2_NumABC","='At-Grade Inputs'!$F$33",null,null,null,"Input_A4SC_LTBOut2","='Ramp Terminal Inputs'!$U$34"]
[null,null,null,null,null,null,null,null,null,null,"Input_TrafficSignal2_NumAppWithLTLns","='At-Grade Inputs'!$F$11",null,null,null,"Input_B2TS_LTBOut2","='Ramp Terminal Inputs'!$U$34"]
[null,null,null,null,null,null,null,null,null,null,"Input_TrafficSignal2_NumAppWithRTLns","='At-Grade Inputs'!$F$12",null,null,null,"Input_A4SC_LTWOut2","='Ramp Terminal Inputs'!$U$35"]
[null,null,null,null,null,null,null,null,null,null,"Input_TrafficSignal2_NumBusStops","='At-Grade Inputs'!$F$31",null,null,null,"Input_B2TS_LTWOut2","='Ramp Terminal Inputs'!$U$35"]
[null,null,null,null,null,null,null,null,null,null,"Input_TrafficSignal2_NumLTPermitted","='At-Grade Inputs'!$F$19",null,null,null,"Input_A4SC_PLTOIn2","='Ramp Terminal Inputs'!$U$36"]
[null,null,null,null,null,null,null,null,null,null,"Input_TrafficSignal2_NumLTPermProt","='At-Grade Inputs'!$F$20",null,null,null,"Input_B2TS_PLTOIn2","='Ramp Terminal Inputs'!$U$36"]
[null,null,null,null,null,null,null,null,null,null,"Input_TrafficSignal2_NumLTProtected","='At-Grade Inputs'!$F$21",null,null,null,"Input_A4SC_PLTOOut2","='Ramp Terminal Inputs'!$U$37"]
[null,null,null,null,null,null,null,null,null,null,"Input_TrafficSignal2_NumMajorLns","='At-Grade Inputs'!$F$24",null,null,null,"Input_B2TS_PLTOOut2","='Ramp Terminal Inputs'!$U$37"]
[null,null,null,null,null,null,null,null,null,null,"Input_TrafficSignal2_NumMinorLns","='At-Grade Inputs'!$F$25",null,null,null,"Input_A4SC_RTCIn2","='Ramp Terminal Inputs'!$U$38"]
[null,null,null,null,null,null,null,null,null,null,"Input_TrafficSignal2_NumRTChannelization","='At-Grade Inputs'!$F$26",null,null,null,"Input_B2TS_RTCIn2","='Ramp Terminal Inputs'!$U$38"]
[null,null,null,null,null,null,null,null,null,null,"Input_TrafficSignal2_OAADTMajor","='At-Grade Inputs'!$F$7",null,null,null,"Input_A4SC_RTCOut2","='Ramp Terminal Inputs'!$U$39"]
[null,null,null,null,null,null,null,null,null,null,"Input_TrafficSignal2_OAADTMinor","='At-Grade Inputs'!$F$8",null,null,null,"Input_B2TS_RTCOut2","='Ramp Terminal Inputs'!$U$39"]
[null,null,null,null,null,null,null,null,null,null,"Input_TrafficSignal2_PedActivity","='At-Grade Inputs'!$F$28",null,null,null,"Input_A4SC_RTCExit2","='Ramp Terminal Inputs'!$U$40"]
[null,null,null,null,null,null,null,null,null,null,"Input_TrafficSignal2_PedLnsCross","='At-Grade Inputs'!$F$30",null,null,null,"Input_B2TS_RTCExit2","='Ramp Terminal Inputs'!$U$40"]
[null,null,null,null,null,null,null,null,null,null,"Input_TrafficSignal2_PedVol","='At-Grade Inputs'!$F$29",null,null,null,"Input_A4SC_OAADTIn2","='Ramp Terminal Inputs'!$U$6"]
[null,null,null,null,null,null,null,null,null,null,"Input_TrafficSignal2_RedLightCameras","='At-Grade Inputs'!$F$23",null,null,null,"Input_B2TS_OAADTIn2","='Ramp Terminal Inputs'!$U$6"]
[null,null,null,null,null,null,null,null,null,null,"Input_TrafficSignal2_UTurnProhibit","='At-Grade Inputs'!$F$27",null,null,null,"Input_A4SC_OAADTOut2","='Ramp Terminal Inputs'!$U$7"]
[null,null,null,null,null,null,null,null,null,null,"IS_3LEG","='SSI Inputs'!$V$3",null,null,null,"Input_B2TS_OAADTOut2","='Ramp Terminal Inputs'!$U$7"]
[null,null,null,null,null,null,null,null,null,null,"IsChecked_AGI_AllStop","='User Selections'!$B$6",null,null,null,"Input_A4SC_OAADTEx2","='Ramp Terminal Inputs'!$U$8"]
[null,null,null,null,null,null,null,null,null,null,"IsChecked_AGI_Bowtie","='User Selections'!$B$15",null,null,null,"Input_B2TS_OAADTEx2","='Ramp Terminal Inputs'!$U$8"]
[null,null,null,null,null,null,null,null,null,null,"IsChecked_AGI_DLT","='User Selections'!$B$9",null,null,null,"Input_A4SC_OAADTEn2","='Ramp Terminal Inputs'!$U$9"]
[null,null,null,null,null,null,null,null,null,null,"IsChecked_AGI_GreenT","='User Selections'!$B$16",null,null,null,"Input_B2TS_OAADTEn2","='Ramp Terminal Inputs'!$U$9"]
[null,null,null,null,null,null,null,null,null,null,"IsChecked_AGI_Jughandle","='User Selections'!$B$17",null,null,null,"Input_A2SC_DAADTIn1","='Ramp Terminal Inputs'!$V$10"]
[null,null,null,null,null,null,null,null,null,null,"IsChecked_AGI_MinorStop","='User Selections'!$B$5",null,null,null,"Input_A2SC_DAADTOut1","='Ramp Terminal Inputs'!$V$11"]
[null,null,null,null,null,null,null,null,null,null,"IsChecked_AGI_MUT","='User Selections'!$B$10",null,null,null,"Input_A2SC_DAADTEx1","='Ramp Terminal Inputs'!$V$12"]
[null,null,null,null,null,null,null,null,null,null,"IsChecked_AGI_Other1","='User Selections'!$B$18",null,null,null,"Input_A2SC_DAADTEn1","='Ramp Terminal Inputs'!$V$13"]
[null,null,null,null,null,null,null,null,null,null,"IsChecked_AGI_Other2","='User Selections'!$B$19",null,null,null,"Input_A2SC_NLxst1","='Ramp Terminal Inputs'!$V$15"]
[null,null,null,null,null,null,null,null,null,null,"IsChecked_AGI_RCUTSig","='User Selections'!$B$11",null,null,null,"Input_A2SC_Skew1","='Ramp Terminal Inputs'!$V$21"]
[null,null,null,null,null,null,null,null,null,null,"IsChecked_AGI_RCUTUnsig","='User Selections'!$B$12",null,null,null,"Input_A2SC_ExitRTC1","='Ramp Terminal Inputs'!$V$23"]
[null,null,null,null,null,null,null,null,null,null,"IsChecked_AGI_Rdbt1Ln","='User Selections'!$B$7",null,null,null,"Input_A2SC_ENLSR1","='Ramp Terminal Inputs'!$V$24"]
[null,null,null,null,null,null,null,null,null,null,"IsChecked_AGI_Rdbt2Ln","='User Selections'!$B$8",null,null,null,"Input_A2SC_lRMP1","='Ramp Terminal Inputs'!$V$26"]
[null,null,null,null,null,null,null,null,null,null,"IsChecked_AGI_SigThruCut","='User Selections'!$B$13",null,null,null,"Input_A2SC_lSTR1","='Ramp Terminal Inputs'!$V$27"]
[null,null,null,null,null,null,null,null,null,null,"IsChecked_AGI_TrafficSignal","='User Selections'!$B$3",null,null,null,"Input_A2SC_MW1","='Ramp Terminal Inputs'!$V$29"]
[null,null,null,null,null,null,null,null,null,null,"IsChecked_AGI_TrafficSignal2","='User Selections'!$B$4",null,null,null,"Input_A2SC_RTBOut1","='Ramp Terminal Inputs'!$V$31"]
[null,null,null,null,null,null,null,null,null,null,"IsChecked_AGI_UnsigThruCut","='User Selections'!$B$14",null,null,null,"Input_A2SC_LTBIn1","='Ramp Terminal Inputs'!$V$32"]
[null,null,null,null,null,null,null,null,null,null,"IsChecked_RTI_A2SC","='User Selections'!$B$36",null,null,null,"Input_A2SC_LTWIn1","='Ramp Terminal Inputs'!$V$33"]
[null,null,null,null,null,null,null,null,null,null,"IsChecked_RTI_A2TS","='User Selections'!$B$31",null,null,null,"Input_A2SC_OAADTIn1","='Ramp Terminal Inputs'!$V$6"]
[null,null,null,null,null,null,null,null,null,null,"IsChecked_RTI_A4SC","='User Selections'!$B$35",null,null,null,"Input_A2SC_OAADTOut1","='Ramp Terminal Inputs'!$V$7"]
[null,null,null,null,null,null,null,null,null,null,"IsChecked_RTI_A4TS","='User Selections'!$B$30",null,null,null,"Input_A2SC_OAADTEx1","='Ramp Terminal Inputs'!$V$8"]
[null,null,null,null,null,null,null,null,null,null,"IsChecked_RTI_B2SC","='User Selections'!$B$38",null,null,null,"Input_A2SC_OAADTEn1","='Ramp Terminal Inputs'!$V$9"]
[null,null,null,null,null,null,null,null,null,null,"IsChecked_RTI_B2TS","='User Selections'!$B$33",null,null,null,"Input_A2SC_DAADTIn2","='Ramp Terminal Inputs'!$W$10"]
[null,null,null,null,null,null,null,null,null,null,"IsChecked_RTI_B4SC","='User Selections'!$B$37",null,null,null,"Input_A2SC_DAADTOut2","='Ramp Terminal Inputs'!$W$11"]
[null,null,null,null,null,null,null,null,null,null,"IsChecked_RTI_B4TS","='User Selections'!$B$32",null,null,null,"Input_A2SC_DAADTEx2","='Ramp Terminal Inputs'!$W$12"]
[null,null,null,null,null,null,null,null,null,null,"IsChecked_RTI_D3SC","='User Selections'!$B$39",null,null,null,"Input_A2SC_DAADTEn2","='Ramp Terminal Inputs'!$W$13"]
[null,null,null,null,null,null,null,null,null,null,"IsChecked_RTI_D3TS","='User Selections'!$B$34",null,null,null,"Input_A2SC_NLxst2","='Ramp Terminal Inputs'!$W$15"]
[null,null,null,null,null,null,null,null,null,null,"IsChecked_RTI_D4MS","='User Selections'!$B$26",null,null,null,"Input_A2SC_Skew2","='Ramp Terminal Inputs'!$W$21"]
[null,null,null,null,null,null,null,null,null,null,"IsChecked_RTI_D4TS","='User Selections'!$B$22",null,null,null,"Input_A2SC_ExitRTC2","='Ramp Terminal Inputs'!$W$23"]
[null,null,null,null,null,null,null,null,null,null,"IsChecked_RTI_D4TSA","='User Selections'!$B$23",null,null,null,"Input_A2SC_ENLSR2","='Ramp Terminal Inputs'!$W$24"]
[null,null,null,null,null,null,null,null,null,null,"IsChecked_RTI_DDI","='User Selections'!$B$24",null,null,null,"Input_A2SC_lRMP2","='Ramp Terminal Inputs'!$W$26"]
[null,null,null,null,null,null,null,null,null,null,"IsChecked_RTI_Other1","='User Selections'!$B$40",null,null,null,"Input_A2SC_lSTR2","='Ramp Terminal Inputs'!$W$27"]
[null,null,null,null,null,null,null,null,null,null,"IsChecked_RTI_Other2","='User Selections'!$B$41",null,null,null,"Input_A2SC_MW2","='Ramp Terminal Inputs'!$W$29"]
[null,null,null,null,null,null,null,null,null,null,"IsChecked_RTI_Rdbt1Ln","='User Selections'!$B$27",null,null,null,"Input_A2SC_RTBOut2","='Ramp Terminal Inputs'!$W$31"]
[null,null,null,null,null,null,null,null,null,null,"IsChecked_RTI_Rdbt2Ln","='User Selections'!$B$28",null,null,null,"Input_A2SC_LTBIn2","='Ramp Terminal Inputs'!$W$32"]
[null,null,null,null,null,null,null,null,null,null,"IsChecked_RTI_SPUI","='User Selections'!$B$25",null,null,null,"Input_A2SC_LTWIn2","='Ramp Terminal Inputs'!$W$33"]
[null,null,null,null,null,null,null,null,null,null,"IsChecked_RTI_TD","='User Selections'!$B$29",null,null,null,"Input_A2SC_OAADTIn2","='Ramp Terminal Inputs'!$W$6"]
[null,null,null,null,null,null,null,null,null,null,"Label_AGI_1LnRdbt","=Labels!$A$8",null,null,null,"Input_A2SC_OAADTOut2","='Ramp Terminal Inputs'!$W$7"]
[null,null,null,null,null,null,null,null,null,null,"Label_AGI_2LnRdbt","=Labels!$A$9",null,null,null,"Input_A2SC_OAADTEx2","='Ramp Terminal Inputs'!$W$8"]
[null,null,null,null,null,null,null,null,null,null,"Label_AGI_AllStop","=Labels!$A$7",null,null,null,"Input_A2SC_OAADTEn2","='Ramp Terminal Inputs'!$W$9"]
[null,null,null,null,null,null,null,null,null,null,"Label_AGI_DLT","=Labels!$A$10",null,null,null,"Input_B4SC_DAADTIn1","='Ramp Terminal Inputs'!$X$10"]
[null,null,null,null,null,null,null,null,null,null,"Label_AGI_GreenT","=Labels!$A$14",null,null,null,"Input_B4SC_DAADTOut1","='Ramp Terminal Inputs'!$X$11"]
[null,null,null,null,null,null,null,null,null,null,"Label_AGI_Jughandle","=Labels!$A$15",null,null,null,"Input_B4SC_DAADTEx1","='Ramp Terminal Inputs'!$X$12"]
[null,null,null,null,null,null,null,null,null,null,"Label_AGI_MinorStop","=Labels!$A$6",null,null,null,"Input_B4SC_DAADTEn1","='Ramp Terminal Inputs'!$X$13"]
[null,null,null,null,null,null,null,null,null,null,"Label_AGI_MUT","=Labels!$A$11",null,null,null,"Input_B4SC_NLxst1","='Ramp Terminal Inputs'!$X$15"]
[null,null,null,null,null,null,null,null,null,null,"Label_AGI_Other1","=Labels!$A$16",null,null,null,"Input_B4SC_Skew1","='Ramp Terminal Inputs'!$X$21"]
[null,null,null,null,null,null,null,null,null,null,"Label_AGI_Other2","=Labels!$A$17",null,null,null,"Input_B4SC_ExitRTC1","='Ramp Terminal Inputs'!$X$23"]
[null,null,null,null,null,null,null,null,null,null,"Label_AGI_RCUTSig","=Labels!$A$12",null,null,null,"Input_B4SC_ENLSR1","='Ramp Terminal Inputs'!$X$24"]
[null,null,null,null,null,null,null,null,null,null,"Label_AGI_RCUTUnsig","=Labels!$A$13",null,null,null,"Input_B4SC_lRMP1","='Ramp Terminal Inputs'!$X$26"]
[null,null,null,null,null,null,null,null,null,null,"Label_AGI_TrafficSignal","=Labels!$A$5",null,null,null,"Input_B4SC_lSTR1","='Ramp Terminal Inputs'!$X$27"]
[null,null,null,null,null,null,null,null,null,null,"Label_AnalysisYearType_OpenAndDesign","=Labels!$A$46",null,null,null,"Input_B4SC_MW1","='Ramp Terminal Inputs'!$X$29"]
[null,null,null,null,null,null,null,null,null,null,"Label_AnalysisYearType_OpenOnly","=Labels!$A$45",null,null,null,"Input_B4SC_RTBOut1","='Ramp Terminal Inputs'!$X$31"]
[null,null,null,null,null,null,null,null,null,null,"Label_Is4Leg","=Labels!$D$51",null,null,null,"Input_B4SC_LTBIn1","='Ramp Terminal Inputs'!$X$32"]
[null,null,null,null,null,null,null,null,null,null,"Label_Ped_Activity_Custom","=Labels!$A$58",null,null,null,"Input_B4SC_LTWIn1","='Ramp Terminal Inputs'!$X$33"]
[null,null,null,null,null,null,null,null,null,null,"Label_Ped_Activity_High","=Labels!$A$53",null,null,null,"Input_B4SC_OAADTIn1","='Ramp Terminal Inputs'!$X$6"]
[null,null,null,null,null,null,null,null,null,null,"Label_Ped_Activity_Low","=Labels!$A$57",null,null,null,"Input_B4SC_OAADTOut1","='Ramp Terminal Inputs'!$X$7"]
[null,null,null,null,null,null,null,null,null,null,"Label_Ped_Activity_MedHigh","=Labels!$A$54",null,null,null,"Input_B4SC_OAADTEx1","='Ramp Terminal Inputs'!$X$8"]
[null,null,null,null,null,null,null,null,null,null,"Label_Ped_Activity_Medium","=Labels!$A$55",null,null,null,"Input_B4SC_OAADTEn1","='Ramp Terminal Inputs'!$X$9"]
[null,null,null,null,null,null,null,null,null,null,"Label_Ped_Activity_MedLow","=Labels!$A$56",null,null,null,"Input_B4SC_DAADTIn2","='Ramp Terminal Inputs'!$Y$10"]
[null,null,null,null,null,null,null,null,null,null,"Label_RTI_1LnRdbt","='Control Strategy Selection'!$A$67",null,null,null,"Input_B4SC_DAADTOut2","='Ramp Terminal Inputs'!$Y$11"]
[null,null,null,null,null,null,null,null,null,null,"Label_RTI_2LnRdbt","='Control Strategy Selection'!$A$68",null,null,null,"Input_B4SC_DAADTEx2","='Ramp Terminal Inputs'!$Y$12"]
[null,null,null,null,null,null,null,null,null,null,"Label_RTI_A2SC","='Control Strategy Selection'!$A$76",null,null,null,"Input_B4SC_DAADTEn2","='Ramp Terminal Inputs'!$Y$13"]
[null,null,null,null,null,null,null,null,null,null,"Label_RTI_A2TS","='Control Strategy Selection'!$A$71",null,null,null,"Input_B4SC_NLxst2","='Ramp Terminal Inputs'!$Y$15"]
[null,null,null,null,null,null,null,null,null,null,"Label_RTI_A4SC","='Control Strategy Selection'!$A$75",null,null,null,"Input_B4SC_Skew2","='Ramp Terminal Inputs'!$Y$21"]
[null,null,null,null,null,null,null,null,null,null,"Label_RTI_A4TS","='Control Strategy Selection'!$A$70",null,null,null,"Input_B4SC_ExitRTC2","='Ramp Terminal Inputs'!$Y$23"]
[null,null,null,null,null,null,null,null,null,null,"Label_RTI_B2SC","='Control Strategy Selection'!$A$78",null,null,null,"Input_B4SC_ENLSR2","='Ramp Terminal Inputs'!$Y$24"]
[null,null,null,null,null,null,null,null,null,null,"Label_RTI_B2TS","='Control Strategy Selection'!$A$73",null,null,null,"Input_B4SC_lRMP2","='Ramp Terminal Inputs'!$Y$26"]
[null,null,null,null,null,null,null,null,null,null,"Label_RTI_B4SC","='Control Strategy Selection'!$A$77",null,null,null,"Input_B4SC_lSTR2","='Ramp Terminal Inputs'!$Y$27"]
[null,null,null,null,null,null,null,null,null,null,"Label_RTI_B4TS","='Control Strategy Selection'!$A$72",null,null,null,"Input_B4SC_MW2","='Ramp Terminal Inputs'!$Y$29"]
[null,null,null,null,null,null,null,null,null,null,"Label_RTI_D3SC","='Control Strategy Selection'!$A$79",null,null,null,"Input_B4SC_RTBOut2","='Ramp Terminal Inputs'!$Y$31"]
[null,null,null,null,null,null,null,null,null,null,"Label_RTI_D3TS","='Control Strategy Selection'!$A$74",null,null,null,"Input_B4SC_LTBIn2","='Ramp Terminal Inputs'!$Y$32"]
[null,null,null,null,null,null,null,null,null,null,"Label_RTI_D4MS","='Control Strategy Selection'!$A$66",null,null,null,"Input_B4SC_LTWIn2","='Ramp Terminal Inputs'!$Y$33"]
[null,null,null,null,null,null,null,null,null,null,"Label_RTI_D4TS","='Control Strategy Selection'!$A$62",null,null,null,"Input_B4SC_OAADTIn2","='Ramp Terminal Inputs'!$Y$6"]
[null,null,null,null,null,null,null,null,null,null,"Label_RTI_D4TSA","='Control Strategy Selection'!$A$63",null,null,null,"Input_B4SC_OAADTOut2","='Ramp Terminal Inputs'!$Y$7"]
[null,null,null,null,null,null,null,null,null,null,"Label_RTI_DDI","='Control Strategy Selection'!$A$64",null,null,null,"Input_B4SC_OAADTEx2","='Ramp Terminal Inputs'!$Y$8"]
[null,null,null,null,null,null,null,null,null,null,"Label_RTI_Other1","='Control Strategy Selection'!$A$80",null,null,null,"Input_B4SC_OAADTEn2","='Ramp Terminal Inputs'!$Y$9"]
[null,null,null,null,null,null,null,null,null,null,"Label_RTI_Other2","='Control Strategy Selection'!$A$81",null,null,null,"Output_Range_AGI_Design","=Results!$D$17:$D$52"]
[null,null,null,null,null,null,null,null,null,null,"Label_RTI_SPUI","='Control Strategy Selection'!$A$65",null,null,null,"Output_Range_AGI_LC","=Results!$E$17:$E$52"]
[null,null,null,null,null,null,null,null,null,null,"Label_RTI_TD","='Control Strategy Selection'!$A$69",null,null,null,"Output_Ranking_Priority","=Results!$J$6"]
[null,null,null,null,null,null,null,null,null,null,"Name_SPUI_Opt","=HistoricalRTI!$X$43",null,null,null,"Output_Range_RTI_Design","=ResultsRTI!$D$17:$D$32"]
[null,null,null,null,null,null,null,null,null,null,"Name_TD_Opt","=HistoricalRTI!$X$44",null,null,null,"Output_Range_RTI_LC","=ResultsRTI!$E$17:$E$32"]
[null,null,null,null,null,null,null,null,null,null,"NPred_Bike","=Historical!$E$79",null,null,null,"RTOther1_Row_Num","=ResultsRTI!$L$53"]
[null,null,null,null,null,null,null,null,null,null,"NPred_FI","=Historical!$E$42",null,null,null,"RTOther2_Row_Num","=ResultsRTI!$L$55"]
[null,null,null,null,null,null,null,null,null,null,"NPred_FI_MV","=Historical!$E$58",null,null,null,"SSI_RTI_ResultsRange_ExistExp_D","='RTI SSI Results_Full'!$AH$3:$AI$7"]
[null,null,null,null,null,null,null,null,null,null,"NPred_PDO","=Historical!$E$43",null,null,null,"SSI_RTI_ResultsRange_Exposure_O","='RTI SSI Results_Full'!$B$20:$J$24"]
[null,null,null,null,null,null,null,null,null,null,"NPred_PDO_MV","=Historical!$E$59",null,null,null,"SSI_RTI_ResultsRange_Score_O","='RTI SSI Results_Full'!$B$3:$J$8"]
[null,null,null,null,null,null,null,null,null,null,"NPred_Ped","=Historical!$E$73",null,null,null,"SSI_RTI_ResultsRange_AvgPFSI_O","='RTI SSI Results_Full'!$B$35:$J$40"]
[null,null,null,null,null,null,null,null,null,null,"Npred_RTI_FI1","=HistoricalRTI!$E$42",null,null,null,"SSI_RTI_ResultsRange_AvgComp_O","='RTI SSI Results_Full'!$B$43:$J$48"]
[null,null,null,null,null,null,null,null,null,null,"Npred_RTI_FI2","=HistoricalRTI!$E$58",null,null,null,"SSI_RTI_ResultsRange_ExistExp_O","='RTI SSI Results_Full'!$Q$3:$R$7"]
[null,null,null,null,null,null,null,null,null,null,"Npred_RTI_PDO1","=HistoricalRTI!$E$43",null,null,null,"SSI_RTI_ResultsRange_Exposure_D","='RTI SSI Results_Full'!$V$20:$AD$24"]
[null,null,null,null,null,null,null,null,null,null,"Npred_RTI_PDO2","=HistoricalRTI!$E$59",null,null,null,"SSI_RTI_ResultsRange_Score_D","='RTI SSI Results_Full'!$V$3:$AD$8"]
[null,null,null,null,null,null,null,null,null,null,"Npred_RTI_Total1","=HistoricalRTI!$E$41",null,null,null,"SSI_RTI_ResultsRange_AvgPFSI_D","='RTI SSI Results_Full'!$V$35:$AD$40"]
[null,null,null,null,null,null,null,null,null,null,"Npred_RTI_Total2","=HistoricalRTI!$E$57",null,null,null,"SSI_RTI_ResultsRange_AvgComp_D","='RTI SSI Results_Full'!$V$43:$AD$48"]
[null,null,null,null,null,null,null,null,null,null,"NPred_Total","=Historical!$E$41",null,null,null,"SSI_AGI_3L_ResultsRange_ExistExp_D","='SSI 3L Results_Full'!$AN$3:$AO$7"]
[null,null,null,null,null,null,null,null,null,null,"NPred_Total_MV","=Historical!$E$57",null,null,null,"SSI_AGI_3L_ResultsRange_Exposure_O","='SSI 3L Results_Full'!$B$20:$L$24"]
[null,null,null,null,null,null,null,null,null,null,"Output_Range_AGI_Design","=Results!$D$17:$D$52",null,null,null,"SSI_AGI_3L_ResultsRange_Score_O","='SSI 3L Results_Full'!$B$3:$L$8"]
[null,null,null,null,null,null,null,null,null,null,"Output_Range_AGI_LC","=Results!$E$17:$E$52",null,null,null,"SSI_AGI_3L_ResultsRange_AvgPFSI_O","='SSI 3L Results_Full'!$B$35:$L$40"]
[null,null,null,null,null,null,null,null,null,null,"Output_Range_RTI_Design","=ResultsRTI!$D$17:$D$32",null,null,null,"SSI_AGI_3L_ResultsRange_AvgComp_O","='SSI 3L Results_Full'!$B$43:$L$48"]
[null,null,null,null,null,null,null,null,null,null,"Output_Range_RTI_LC","=ResultsRTI!$E$17:$E$32",null,null,null,"SSI_AGI_3L_ResultsRange_ExistExp_O","='SSI 3L Results_Full'!$S$3:$T$7"]
[null,null,null,null,null,null,null,null,null,null,"Output_Ranking_Priority","=Results!$J$6",null,null,null,"SSI_AGI_3L_ResultsRange_Exposure_D","='SSI 3L Results_Full'!$W$20:$AG$24"]
[null,null,null,null,null,null,null,null,null,null,"pete","='Control Strategy Selection'!$G$48",null,null,null,"SSI_AGI_3L_ResultsRange_Score_D","='SSI 3L Results_Full'!$W$3:$AG$8"]
[null,null,null,null,null,null,null,null,null,null,"Range_EB_NPred1","=Historical!$E$41:$E$43",null,null,null,"SSI_AGI_3L_ResultsRange_AvgPFSI_D","='SSI 3L Results_Full'!$W$35:$AG$40"]
[null,null,null,null,null,null,null,null,null,null,"Range_EB_NPred2","=Historical!$E$57:$E$59",null,null,null,"SSI_AGI_3L_ResultsRange_AvgComp_D","='SSI 3L Results_Full'!$W$43:$AG$48"]
[null,null,null,null,null,null,null,null,null,null,"Range_EB_RTI_NPred1","=HistoricalRTI!$E$41:$E$43",null,null,null,"SSI_AGI_4L_ResultsRange_Exposure_D","='SSI 4L Results_Full'!$AC$20:$AS$24"]
[null,null,null,null,null,null,null,null,null,null,"Range_EB_RTI_NPred2","=HistoricalRTI!$E$57:$E$59",null,null,null,"SSI_AGI_4L_ResultsRange_Score_D","='SSI 4L Results_Full'!$AC$3:$AS$8"]
[null,null,null,null,null,null,null,null,null,null,"Range_ItxList","='Control Strategy Selection'!$A$19:$A$24",null,null,null,"SSI_AGI_4L_ResultsRange_AvgPFSI_D","='SSI 4L Results_Full'!$AC$35:$AS$40"]
[null,null,null,null,null,null,null,null,null,null,"Range_ItxList_RTI","=Notes!$J$55:$J$57",null,null,null,"SSI_AGI_4L_ResultsRange_AvgComp_D","='SSI 4L Results_Full'!$AC$43:$AS$48"]
[null,null,null,null,null,null,null,null,null,null,"Range_R2L","=Definitions!$I$5:$M$10",null,null,null,"SSI_AGI_4L_ResultsRange_ExistExp_D","='SSI 4L Results_Full'!$AZ$3:$BA$7"]
[null,null,null,null,null,null,null,null,null,null,"Range_RAB1","=Definitions!$O$3:$S$5",null,null,null,"SSI_AGI_4L_ResultsRange_Exposure_O","='SSI 4L Results_Full'!$B$20:$R$24"]
[null,null,null,null,null,null,null,null,null,null,"Range_RAB2","=Definitions!$O$7:$S$8",null,null,null,"SSI_AGI_4L_ResultsRange_Score_O","='SSI 4L Results_Full'!$B$3:$R$8"]
[null,null,null,null,null,null,null,null,null,null,"Range_RCUT_AADT","=Definitions!$O$21:$S$22",null,null,null,"SSI_AGI_4L_ResultsRange_AvgPFSI_O","='SSI 4L Results_Full'!$B$35:$R$40"]
[null,null,null,null,null,null,null,null,null,null,"Range_RML","=Definitions!$I$15:$M$20",null,null,null,"SSI_AGI_4L_ResultsRange_AvgComp_O","='SSI 4L Results_Full'!$B$43:$R$48"]
[null,null,null,null,null,null,null,null,null,null,"Range_Selection_AGI","='Control Strategy Selection'!$A$8:$H$44",null,null,null,"SSI_AGI_4L_ResultsRange_ExistExp_O","='SSI 4L Results_Full'!$Y$3:$Z$7"]
[null,null,null,null,null,null,null,null,null,null,"Range_Selection_RTI","='Control Strategy Selection'!$A$45:$G$83",null,null,null,"SSI_RTI_Range_VehSpeed","='SSI Inputs RTI'!$B$51:$F$64"]
[null,null,null,null,null,null,null,null,null,null,"Range_SRCUT_DAADT_Ratio","='User Selections'!$H$45:$H$51",null,null,null,"SSI_RTI_Range_CollAngles","='SSI Inputs RTI'!$B$67:$F$71"]
[null,null,null,null,null,null,null,null,null,null,"Range_SRCUT_OAADT_Ratio","='User Selections'!$F$45:$F$51",null,null,null,"SSI_RTI_CrossThruLanes","='SSI Inputs RTI'!$F$5"]
[null,null,null,null,null,null,null,null,null,null,"Range_USA_1x1","=Definitions!$I$46:$M$51",null,null,null,"SSI_RTI_VehSpeed_CrossThru","='SSI Inputs RTI'!$F$51"]
[null,null,null,null,null,null,null,null,null,null,"Range_USA_1x2","=Definitions!$I$39:$M$44",null,null,null,"SSI_RTI_VehSpeed_RampThru","='SSI Inputs RTI'!$F$54"]
[null,null,null,null,null,null,null,null,null,null,"Range_USA_2x2_5F","=Definitions!$I$24:$M$29",null,null,null,"SSI_RTI_VehSpeed_StopNear","='SSI Inputs RTI'!$F$57"]
[null,null,null,null,null,null,null,null,null,null,"Range_USA_2x2_6P","=Definitions!$I$31:$M$36",null,null,null,"SSI_RTI_VehSpeed_SignalNear","='SSI Inputs RTI'!$F$59"]
[null,null,null,null,null,null,null,null,null,null,"Range_USA_HS","=Definitions!$I$54:$M$59",null,null,null,"SSI_RTI_Ramp1ThruLanes","='SSI Inputs RTI'!$F$6"]
[null,null,null,null,null,null,null,null,null,null,"RTOther1_Row_Num","=ResultsRTI!$L$53",null,null,null,"SSI_RTI_VehSpeed_RABEnter","='SSI Inputs RTI'!$F$61"]
[null,null,null,null,null,null,null,null,null,null,"RTOther2_Row_Num","=ResultsRTI!$L$55",null,null,null,"SSI_RTI_VehSpeed_RABCirc","='SSI Inputs RTI'!$F$62"]
[null,null,null,null,null,null,null,null,null,null,"SS_AGI_MajMedian","='SSI Inputs'!$K$6",null,null,null,"SSI_RTI_VehSpeed_RABExit","='SSI Inputs RTI'!$F$63"]
[null,null,null,null,null,null,null,null,null,null,"SS_AGI_MinMedian","='SSI Inputs'!$K$7",null,null,null,"SSI_RTI_Ramp2ThruLanes","='SSI Inputs RTI'!$F$7"]
[null,null,null,null,null,null,null,null,null,null,"SSI_AGI_3L_ResultsRange_AvgComp_D","='SSI 3L Results_Full'!$W$43:$AG$48",null,null,null,"SSI_RTI_RegAlpha","='SSI Inputs RTI'!$F$74"]
[null,null,null,null,null,null,null,null,null,null,"SSI_AGI_3L_ResultsRange_AvgComp_O","='SSI 3L Results_Full'!$B$43:$L$48",null,null,null,"SSI_RTI_RegK","='SSI Inputs RTI'!$F$75"]
[null,null,null,null,null,null,null,null,null,null,"SSI_AGI_3L_ResultsRange_AvgPFSI_D","='SSI 3L Results_Full'!$W$35:$AG$40",null,null,null,"SSI_RTI_CrossStMedian","='SSI Inputs RTI'!$K$6"]
[null,null,null,null,null,null,null,null,null,null,"SSI_AGI_3L_ResultsRange_AvgPFSI_O","='SSI 3L Results_Full'!$B$35:$L$40",null,null,null,"SSI_RTI_RampMedian","='SSI Inputs RTI'!$K$7"]
[null,null,null,null,null,null,null,null,null,null,"SSI_AGI_3L_ResultsRange_ExistExp_D","='SSI 3L Results_Full'!$AN$3:$AO$7",null,null,null,"SSI_RTI_CrossLTPhase","='SSI Inputs RTI'!$L$58"]
[null,null,null,null,null,null,null,null,null,null,"SSI_AGI_3L_ResultsRange_ExistExp_O","='SSI 3L Results_Full'!$S$3:$T$7",null,null,null,"SSI_RTI_RampLTPhase","='SSI Inputs RTI'!$L$59"]
[null,null,null,null,null,null,null,null,null,null,"SSI_AGI_3L_ResultsRange_Exposure_D","='SSI 3L Results_Full'!$W$20:$AG$24",null,null,null,"SSI_RTI_PedExclusive","='SSI Inputs RTI'!$M$60"]
[null,null,null,null,null,null,null,null,null,null,"SSI_AGI_3L_ResultsRange_Exposure_O","='SSI 3L Results_Full'!$B$20:$L$24",null,null,null,"SSI_RTI_PermFactor","='SSI Inputs RTI'!$M$63"]
[null,null,null,null,null,null,null,null,null,null,"SSI_AGI_3L_ResultsRange_Score_D","='SSI 3L Results_Full'!$W$3:$AG$8",null,null,null,"SSI_RTI_ProtPermFactor","='SSI Inputs RTI'!$M$64"]
[null,null,null,null,null,null,null,null,null,null,"SSI_AGI_3L_ResultsRange_Score_O","='SSI 3L Results_Full'!$B$3:$L$8",null,null,null,"SSI_RTI_ProtFactor","='SSI Inputs RTI'!$M$65"]
[null,null,null,null,null,null,null,null,null,null,"SSI_AGI_4L_ResultsRange_AvgComp_D","='SSI 4L Results_Full'!$AC$43:$AS$48",null,null,null,"SSI_RTI_StopFactor","='SSI Inputs RTI'!$M$66"]
[null,null,null,null,null,null,null,null,null,null,"SSI_AGI_4L_ResultsRange_AvgComp_O","='SSI 4L Results_Full'!$B$43:$R$48",null,null,null,"SSI_RTI_MergeWeightL1","='SSI Inputs RTI'!$M$69"]
[null,null,null,null,null,null,null,null,null,null,"SSI_AGI_4L_ResultsRange_AvgPFSI_D","='SSI 4L Results_Full'!$AC$35:$AS$40",null,null,null,"SSI_RTI_MergeWeightL2","='SSI Inputs RTI'!$M$70"]
[null,null,null,null,null,null,null,null,null,null,"SSI_AGI_4L_ResultsRange_AvgPFSI_O","='SSI 4L Results_Full'!$B$35:$R$40",null,null,null,"SSI_RTI_MergeWeightL3","='SSI Inputs RTI'!$M$71"]
[null,null,null,null,null,null,null,null,null,null,"SSI_AGI_4L_ResultsRange_ExistExp_D","='SSI 4L Results_Full'!$AZ$3:$BA$7",null,null,null,"SSI_RTI_NM_MergeWeightL1","='SSI Inputs RTI'!$M$76"]
[null,null,null,null,null,null,null,null,null,null,"SSI_AGI_4L_ResultsRange_ExistExp_O","='SSI 4L Results_Full'!$Y$3:$Z$7",null,null,null,"SSI_RTI_NM_MergeWeightL2","='SSI Inputs RTI'!$M$77"]
[null,null,null,null,null,null,null,null,null,null,"SSI_AGI_4L_ResultsRange_Exposure_D","='SSI 4L Results_Full'!$AC$20:$AS$24",null,null,null,"SSI_RTI_NM_MergeWeightL3","='SSI Inputs RTI'!$M$78"]
[null,null,null,null,null,null,null,null,null,null,"SSI_AGI_4L_ResultsRange_Exposure_O","='SSI 4L Results_Full'!$B$20:$R$24",null,null,null,"SSI_RTI_ConsiderNMComplexity","='SSI Inputs RTI'!$O$74"]
[null,null,null,null,null,null,null,null,null,null,"SSI_AGI_4L_ResultsRange_Score_D","='SSI 4L Results_Full'!$AC$3:$AS$8",null,null,null,"SSI_AGI_Range_VehSpeed","='SSI Inputs'!$B$49:$F$62"]
[null,null,null,null,null,null,null,null,null,null,"SSI_AGI_4L_ResultsRange_Score_O","='SSI 4L Results_Full'!$B$3:$R$8",null,null,null,"SSI_AGI_Range_CollAngles","='SSI Inputs'!$B$65:$F$69"]
[null,null,null,null,null,null,null,null,null,null,"SSI_AGI_ConsiderNMComplexity","='SSI Inputs'!$O$72",null,null,null,"SSI_AGI_VehSpeed_MjrThru","='SSI Inputs'!$F$49"]
[null,null,null,null,null,null,null,null,null,null,"SSI_AGI_MajorLTPhase","='SSI Inputs'!$L$56",null,null,null,"SSI_AGI_MajorThruLanes","='SSI Inputs'!$F$5"]
[null,null,null,null,null,null,null,null,null,null,"SSI_AGI_MajorThruLanes","='SSI Inputs'!$F$5",null,null,null,"SSI_AGI_VehSpeed_MnrThru","='SSI Inputs'!$F$52"]
[null,null,null,null,null,null,null,null,null,null,"SSI_AGI_MergeWeightL1","='SSI Inputs'!$M$67",null,null,null,"SSI_AGI_VehSpeed_RABEnter","='SSI Inputs'!$F$59"]
[null,null,null,null,null,null,null,null,null,null,"SSI_AGI_MergeWeightL2","='SSI Inputs'!$M$68",null,null,null,"SSI_AGI_MinorThruLanes","='SSI Inputs'!$F$6"]
[null,null,null,null,null,null,null,null,null,null,"SSI_AGI_MergeWeightL3","='SSI Inputs'!$M$69",null,null,null,"SSI_AGI_VehSpeed_RABCirc","='SSI Inputs'!$F$60"]
[null,null,null,null,null,null,null,null,null,null,"SSI_AGI_MinorLTPhase","='SSI Inputs'!$L$57",null,null,null,"SSI_AGI_VehSpeed_RABExit","='SSI Inputs'!$F$61"]
[null,null,null,null,null,null,null,null,null,null,"SSI_AGI_MinorThruLanes","='SSI Inputs'!$F$6",null,null,null,"SSI_AGI_RegAlpha","='SSI Inputs'!$F$72"]
[null,null,null,null,null,null,null,null,null,null,"SSI_AGI_NM_MergeWeightL1","='SSI Inputs'!$M$74",null,null,null,"SSI_AGI_RegK","='SSI Inputs'!$F$73"]
[null,null,null,null,null,null,null,null,null,null,"SSI_AGI_NM_MergeWeightL2","='SSI Inputs'!$M$75",null,null,null,"SS_AGI_MajMedian","='SSI Inputs'!$K$6"]
[null,null,null,null,null,null,null,null,null,null,"SSI_AGI_NM_MergeWeightL3","='SSI Inputs'!$M$76",null,null,null,"SS_AGI_MinMedian","='SSI Inputs'!$K$7"]
[null,null,null,null,null,null,null,null,null,null,"SSI_AGI_PedExclusive","='SSI Inputs'!$M$58",null,null,null,"SSI_AGI_MajorLTPhase","='SSI Inputs'!$L$56"]
[null,null,null,null,null,null,null,null,null,null,"SSI_AGI_PermFactor","='SSI Inputs'!$M$61",null,null,null,"SSI_AGI_MinorLTPhase","='SSI Inputs'!$L$57"]
[null,null,null,null,null,null,null,null,null,null,"SSI_AGI_ProtFactor","='SSI Inputs'!$M$63",null,null,null,"SSI_AGI_PedExclusive","='SSI Inputs'!$M$58"]
[null,null,null,null,null,null,null,null,null,null,"SSI_AGI_ProtPermFactor","='SSI Inputs'!$M$62",null,null,null,"SSI_AGI_PermFactor","='SSI Inputs'!$M$61"]
[null,null,null,null,null,null,null,null,null,null,"SSI_AGI_Range_CollAngles","='SSI Inputs'!$B$65:$F$69",null,null,null,"SSI_AGI_ProtPermFactor","='SSI Inputs'!$M$62"]
[null,null,null,null,null,null,null,null,null,null,"SSI_AGI_Range_VehSpeed","='SSI Inputs'!$B$49:$F$62",null,null,null,"SSI_AGI_ProtFactor","='SSI Inputs'!$M$63"]
[null,null,null,null,null,null,null,null,null,null,"SSI_AGI_RegAlpha","='SSI Inputs'!$F$72",null,null,null,"SSI_AGI_StopFactor","='SSI Inputs'!$M$64"]
[null,null,null,null,null,null,null,null,null,null,"SSI_AGI_RegK","='SSI Inputs'!$F$73",null,null,null,"SSI_AGI_MergeWeightL1","='SSI Inputs'!$M$67"]
[null,null,null,null,null,null,null,null,null,null,"SSI_AGI_StopFactor","='SSI Inputs'!$M$64",null,null,null,"SSI_AGI_MergeWeightL2","='SSI Inputs'!$M$68"]
[null,null,null,null,null,null,null,null,null,null,"SSI_AGI_VehSpeed_MjrThru","='SSI Inputs'!$F$49",null,null,null,"SSI_AGI_MergeWeightL3","='SSI Inputs'!$M$69"]
[null,null,null,null,null,null,null,null,null,null,"SSI_AGI_VehSpeed_MnrThru","='SSI Inputs'!$F$52",null,null,null,"SSI_AGI_NM_MergeWeightL1","='SSI Inputs'!$M$74"]
[null,null,null,null,null,null,null,null,null,null,"SSI_AGI_VehSpeed_RABCirc","='SSI Inputs'!$F$60",null,null,null,"SSI_AGI_NM_MergeWeightL2","='SSI Inputs'!$M$75"]
[null,null,null,null,null,null,null,null,null,null,"SSI_AGI_VehSpeed_RABEnter","='SSI Inputs'!$F$59",null,null,null,"SSI_AGI_NM_MergeWeightL3","='SSI Inputs'!$M$76"]
[null,null,null,null,null,null,null,null,null,null,"SSI_AGI_VehSpeed_RABExit","='SSI Inputs'!$F$61",null,null,null,"SSI_AGI_ConsiderNMComplexity","='SSI Inputs'!$O$72"]
[null,null,null,null,null,null,null,null,null,null,"SSI_RTI_ConsiderNMComplexity","='SSI Inputs RTI'!$O$74",null,null,null,"IS_3LEG","='SSI Inputs'!$V$3"]
[null,null,null,null,null,null,null,null,null,null,"SSI_RTI_CrossLTPhase","='SSI Inputs RTI'!$L$58",null,null,null,"IsChecked_AGI_MUT","='User Selections'!$B$10"]
[null,null,null,null,null,null,null,null,null,null,"SSI_RTI_CrossStMedian","='SSI Inputs RTI'!$K$6",null,null,null,"IsChecked_AGI_RCUTSig","='User Selections'!$B$11"]
[null,null,null,null,null,null,null,null,null,null,"SSI_RTI_CrossThruLanes","='SSI Inputs RTI'!$F$5",null,null,null,"IsChecked_AGI_RCUTUnsig","='User Selections'!$B$12"]
[null,null,null,null,null,null,null,null,null,null,"SSI_RTI_MergeWeightL1","='SSI Inputs RTI'!$M$69",null,null,null,"IsChecked_AGI_SigThruCut","='User Selections'!$B$13"]
[null,null,null,null,null,null,null,null,null,null,"SSI_RTI_MergeWeightL2","='SSI Inputs RTI'!$M$70",null,null,null,"IsChecked_AGI_UnsigThruCut","='User Selections'!$B$14"]
[null,null,null,null,null,null,null,null,null,null,"SSI_RTI_MergeWeightL3","='SSI Inputs RTI'!$M$71",null,null,null,"IsChecked_AGI_Bowtie","='User Selections'!$B$15"]
[null,null,null,null,null,null,null,null,null,null,"SSI_RTI_NM_MergeWeightL1","='SSI Inputs RTI'!$M$76",null,null,null,"IsChecked_AGI_GreenT","='User Selections'!$B$16"]
[null,null,null,null,null,null,null,null,null,null,"SSI_RTI_NM_MergeWeightL2","='SSI Inputs RTI'!$M$77",null,null,null,"IsChecked_AGI_Jughandle","='User Selections'!$B$17"]
[null,null,null,null,null,null,null,null,null,null,"SSI_RTI_NM_MergeWeightL3","='SSI Inputs RTI'!$M$78",null,null,null,"IsChecked_AGI_Other1","='User Selections'!$B$18"]
[null,null,null,null,null,null,null,null,null,null,"SSI_RTI_PedExclusive","='SSI Inputs RTI'!$M$60",null,null,null,"IsChecked_AGI_Other2","='User Selections'!$B$19"]
[null,null,null,null,null,null,null,null,null,null,"SSI_RTI_PermFactor","='SSI Inputs RTI'!$M$63",null,null,null,"IsChecked_RTI_D4TS","='User Selections'!$B$22"]
[null,null,null,null,null,null,null,null,null,null,"SSI_RTI_ProtFactor","='SSI Inputs RTI'!$M$65",null,null,null,"IsChecked_RTI_D4TSA","='User Selections'!$B$23"]
[null,null,null,null,null,null,null,null,null,null,"SSI_RTI_ProtPermFactor","='SSI Inputs RTI'!$M$64",null,null,null,"IsChecked_RTI_DDI","='User Selections'!$B$24"]
[null,null,null,null,null,null,null,null,null,null,"SSI_RTI_Ramp1ThruLanes","='SSI Inputs RTI'!$F$6",null,null,null,"IsChecked_RTI_SPUI","='User Selections'!$B$25"]
[null,null,null,null,null,null,null,null,null,null,"SSI_RTI_Ramp2ThruLanes","='SSI Inputs RTI'!$F$7",null,null,null,"IsChecked_RTI_D4MS","='User Selections'!$B$26"]
[null,null,null,null,null,null,null,null,null,null,"SSI_RTI_RampLTPhase","='SSI Inputs RTI'!$L$59",null,null,null,"IsChecked_RTI_Rdbt1Ln","='User Selections'!$B$27"]
[null,null,null,null,null,null,null,null,null,null,"SSI_RTI_RampMedian","='SSI Inputs RTI'!$K$7",null,null,null,"IsChecked_RTI_Rdbt2Ln","='User Selections'!$B$28"]
[null,null,null,null,null,null,null,null,null,null,"SSI_RTI_Range_CollAngles","='SSI Inputs RTI'!$B$67:$F$71",null,null,null,"IsChecked_RTI_TD","='User Selections'!$B$29"]
[null,null,null,null,null,null,null,null,null,null,"SSI_RTI_Range_VehSpeed","='SSI Inputs RTI'!$B$51:$F$64",null,null,null,"IsChecked_AGI_TrafficSignal","='User Selections'!$B$3"]
[null,null,null,null,null,null,null,null,null,null,"SSI_RTI_RegAlpha","='SSI Inputs RTI'!$F$74",null,null,null,"IsChecked_RTI_A4TS","='User Selections'!$B$30"]
[null,null,null,null,null,null,null,null,null,null,"SSI_RTI_RegK","='SSI Inputs RTI'!$F$75",null,null,null,"IsChecked_RTI_A2TS","='User Selections'!$B$31"]
[null,null,null,null,null,null,null,null,null,null,"SSI_RTI_ResultsRange_AvgComp_D","='RTI SSI Results_Full'!$V$43:$AD$48",null,null,null,"IsChecked_RTI_B4TS","='User Selections'!$B$32"]
[null,null,null,null,null,null,null,null,null,null,"SSI_RTI_ResultsRange_AvgComp_O","='RTI SSI Results_Full'!$B$43:$J$48",null,null,null,"IsChecked_RTI_B2TS","='User Selections'!$B$33"]
[null,null,null,null,null,null,null,null,null,null,"SSI_RTI_ResultsRange_AvgPFSI_D","='RTI SSI Results_Full'!$V$35:$AD$40",null,null,null,"IsChecked_RTI_D3TS","='User Selections'!$B$34"]
[null,null,null,null,null,null,null,null,null,null,"SSI_RTI_ResultsRange_AvgPFSI_O","='RTI SSI Results_Full'!$B$35:$J$40",null,null,null,"IsChecked_RTI_A4SC","='User Selections'!$B$35"]
[null,null,null,null,null,null,null,null,null,null,"SSI_RTI_ResultsRange_ExistExp_D","='RTI SSI Results_Full'!$AH$3:$AI$7",null,null,null,"IsChecked_RTI_A2SC","='User Selections'!$B$36"]
[null,null,null,null,null,null,null,null,null,null,"SSI_RTI_ResultsRange_ExistExp_O","='RTI SSI Results_Full'!$Q$3:$R$7",null,null,null,"IsChecked_RTI_B4SC","='User Selections'!$B$37"]
[null,null,null,null,null,null,null,null,null,null,"SSI_RTI_ResultsRange_Exposure_D","='RTI SSI Results_Full'!$V$20:$AD$24",null,null,null,"IsChecked_RTI_B2SC","='User Selections'!$B$38"]
[null,null,null,null,null,null,null,null,null,null,"SSI_RTI_ResultsRange_Exposure_O","='RTI SSI Results_Full'!$B$20:$J$24",null,null,null,"IsChecked_RTI_D3SC","='User Selections'!$B$39"]
[null,null,null,null,null,null,null,null,null,null,"SSI_RTI_ResultsRange_Score_D","='RTI SSI Results_Full'!$V$3:$AD$8",null,null,null,"IsChecked_AGI_TrafficSignal2","='User Selections'!$B$4"]
[null,null,null,null,null,null,null,null,null,null,"SSI_RTI_ResultsRange_Score_O","='RTI SSI Results_Full'!$B$3:$J$8",null,null,null,"IsChecked_RTI_Other1","='User Selections'!$B$40"]
[null,null,null,null,null,null,null,null,null,null,"SSI_RTI_StopFactor","='SSI Inputs RTI'!$M$66",null,null,null,"IsChecked_RTI_Other2","='User Selections'!$B$41"]
[null,null,null,null,null,null,null,null,null,null,"SSI_RTI_VehSpeed_CrossThru","='SSI Inputs RTI'!$F$51",null,null,null,"IsChecked_AGI_MinorStop","='User Selections'!$B$5"]
[null,null,null,null,null,null,null,null,null,null,"SSI_RTI_VehSpeed_RABCirc","='SSI Inputs RTI'!$F$62",null,null,null,"IsChecked_AGI_AllStop","='User Selections'!$B$6"]
[null,null,null,null,null,null,null,null,null,null,"SSI_RTI_VehSpeed_RABEnter","='SSI Inputs RTI'!$F$61",null,null,null,"IsChecked_AGI_Rdbt1Ln","='User Selections'!$B$7"]
[null,null,null,null,null,null,null,null,null,null,"SSI_RTI_VehSpeed_RABExit","='SSI Inputs RTI'!$F$63",null,null,null,"IsChecked_AGI_Rdbt2Ln","='User Selections'!$B$8"]
[null,null,null,null,null,null,null,null,null,null,"SSI_RTI_VehSpeed_RampThru","='SSI Inputs RTI'!$F$54",null,null,null,"IsChecked_AGI_DLT","='User Selections'!$B$9"]
[null,null,null,null,null,null,null,null,null,null,"SSI_RTI_VehSpeed_SignalNear","='SSI Inputs RTI'!$F$59",null,null,null,"Range_SRCUT_OAADT_Ratio","='User Selections'!$F$45:$F$51"]
[null,null,null,null,null,null,null,null,null,null,"SSI_RTI_VehSpeed_StopNear","='SSI Inputs RTI'!$F$57",null,null,null,"Range_SRCUT_DAADT_Ratio","='User Selections'!$H$45:$H$51"]

{"sheet":"Developer ReadMe","index":43,"n_rows":9,"n_cols":6,"rows_kept":9,"cut":false,"hidden":true,"merged":[]}
["Instructions for adding new ramp intersections:"]
["Step","Sheet Name","Macro Location","Function Name","Actions","Note"]
[0,"NA","SPICE_Global_Constants","Public Const Name_Columns_RTI_A4TS; Public Const Output_Row_A4TS","Add new constants for RTI inputs/outputs row num"]
["1.a","Control Strategy Selection","Sheet 10 (Control…)","Public Sub CB_RTI_XXXX_Click()","Add new function to show/hide the Signalized intersection columns in the Ramp Terminal Inputs/Outputs Sheet"]
["1.b","Control Strategy Selection","Sheet 10 (Control…)","Private Sub Worksheet_Change"]
["1.c","Control Strategy Selection",null,"Cell Name","Add selection and name cells with e.g \"Label_RTI_B2TS\", \""]
["2.a","ResultsRTI","SPICE_SPF_RTI","Public Function A4_Signal(ramp As RT_Info) As SPF_Info","Add new ramp intersections SPF calculation formulas"]
["2.b","ResultsRTI","SPICE_SPF_RTI","Public Sub ComputeResultsRTI()","Add intersection variables, classes, calculation results, write to sheet…"]
[3,"Project Information","Sheet 61","Public Function ResetWorkbook()","If need to reset inputs/calibration/formula, need to look into the sub functions"]

{"sheet":"Trad_Sig","index":44,"n_rows":158,"n_cols":95,"rows_kept":158,"cut":false,"hidden":true,"merged":[[100,9,100,11],[1,9,1,11],[1,13,1,17],[1,21,1,25],[1,27,1,28],[100,36,101,36],[1,30,2,30],[1,34,2,34],[1,36,2,36],[1,39,1,54],[1,76,1,79],[1,81,1,84],[1,86,1,89],[1,91,1,94],[0,19,0,28],[0,30,0,32],[1,31,2,31],[1,32,2,32],[1,56,1,71]]}
[null,null,null,null,null,null,null,null,null,null,null,null,null,null,null,null,null,null,null,"Conflicting Traffic Complexity",null,null,null,null,null,null,null,null,null,null,"Pedestrian Complexity",null,null,null,null,null,null,null,null,null,null,null,null,null,null,null,null,null,null,null,null,null,null,null,null,null,null,null,null,null,null,null,null,null,null,null,null,null,null,null,null,null,null,null,null,"*impact of median on complexity factors"]
[null,null,null,null,null,null,null,null,null,"Exposure",null,null,null,"Severity",null,null,null,null,null,"Traffic Control",null,"Conflicting Lanes",null,null,null,null,null,"Conflicting Speed",null,null,"Indirect Paths Indicator","Non-intuitive movements indicator","Pedestrian Complexity factor",null,"Total Complexity Multiplier",null,"Exposure-Severity-Complexity Product",null,null,"Included in Mvmt1",null,null,null,null,null,null,null,null,null,null,null,null,null,null,null,null,"Included in Mvmt2",null,null,null,null,null,null,null,null,null,null,null,null,null,null,null,null,null,null,null,"Major:No, Minor: No",null,null,null,null,"Major:Yes, Minor: No",null,null,null,null,"Major:No, Minor: Yes",null,null,null,null,"Major:Yes, Minor: Yes"]
["#","Conflict Type","Mvmt1","Mvmt1_gen","Mvmt1_SpeedCat","Mvmt2","Mvmt2_gen","Mvmt2_SpeedCat",null,"Q1","Q2","I",null,"Speed_V1","Speed_V2","Angle","delta_V","P_FSI",null,null,null,"MajC","MinC","MajM/P","MinM/P","Score",null,"Speed","Factor",null,null,null,null,null,null,null,null,null,null,"MajT1","MajL1","MajR1","MajT2","MajL2","MajR2","MinT1","MinL1","MinR1","MinT2","MinL2","MinR2","MajNM1","MajNM2","MinNM1","MinNM2",null,"MajT1","MajL1","MajR1","MajT2","MajL2","MajR2","MinT1","MinL1","MinR1","MinT2","MinL2","MinR2","MajNM1","MajNM2","MinNM1","MinNM2",null,null,"#","Conflict Type","MajC","MinC","MajM/P","MinM/P",null,"MajC","MinC","MajM/P","MinM/P",null,"MajC","MinC","MajM/P","MinM/P",null,"MajC","MinC","MajM/P","MinM/P"]
[1,"Crossing","NBT","MinT1","Signal near","EBT","MajT1","Major thru",null,{"$f":"SUMPRODUCT($AN4:$BC4,$AN$60:$BC$60)","v":{"$error":"#VALUE!"}},{"$f":"SUMPRODUCT($BE4:$BT4,$BE$60:$BT$60)","v":{"$error":"#VALUE!"}},{"$f":"PRODUCT(J4:K4)","v":{"$error":"#VALUE!"}},null,{"$f":"VLOOKUP(E4,'SSI Inputs'!$B$49:$F$62,5,FALSE)","v":15},{"$f":"VLOOKUP(H4,'SSI Inputs'!$B$49:$F$62,5,FALSE)","v":0},{"$f":"IF(B4=\"Nonmotorized\",\"\",VLOOKUP(B4,'SSI Inputs'!$B$65:$F$69,5,FALSE))","v":90},{"$f":"IF(B4=\"Nonmotorized\",\"\",SQRT(N4^2+O4^2-2*N4*O4*COS(RADIANS(P4)))/2)","v":7.5},{"$f":"IF(B4=\"Nonmotorized\",1/(1+EXP(3.8432-0.1237*O4)),(Q4/'SSI Inputs'!$F$72)^'SSI Inputs'!$F$73+(Q4/'SSI Inputs'!$F$72)^'SSI Inputs'!$F$73-((Q4/'SSI Inputs'!$F$72)^'SSI Inputs'!$F$73)*((Q4/'SSI Inputs'!$F$72)^'SSI Inputs'!$F$73))","v":4.8454301532720461E-4},null,{"$f":"SSI_AGI_ProtFactor","v":0.505},null,{"$f":"IF(AND(SS_AGI_MajMedian=\"No\", SS_AGI_MinMedian=\"No\"),BY4,IF(AND(SS_AGI_MajMedian=\"Yes\",SS_AGI_MinMedian=\"No\"),CD4,IF(AND(SS_AGI_MajMedian=\"No\",SS_AGI_MinMedian=\"Yes\"),CI4,IF(AND(SS_AGI_MajMedian=\"Yes\",SS_AGI_MinMedian=\"Yes\"),CN4))))","v":false},{"$f":"IF(AND(SS_AGI_MajMedian=\"No\", SS_AGI_MinMedian=\"No\"),BZ4,IF(AND(SS_AGI_MajMedian=\"Yes\",SS_AGI_MinMedian=\"No\"),CE4,IF(AND(SS_AGI_MajMedian=\"No\",SS_AGI_MinMedian=\"Yes\"),CJ4,IF(AND(SS_AGI_MajMedian=\"Yes\",SS_AGI_MinMedian=\"Yes\"),CO4))))","v":false},{"$f":"IF(AND(SS_AGI_MajMedian=\"No\", SS_AGI_MinMedian=\"No\"),CA4,IF(AND(SS_AGI_MajMedian=\"Yes\",SS_AGI_MinMedian=\"No\"),CF4,IF(AND(SS_AGI_MajMedian=\"No\",SS_AGI_MinMedian=\"Yes\"),CK4,IF(AND(SS_AGI_MajMedian=\"Yes\",SS_AGI_MinMedian=\"Yes\"),CP4))))","v":false},{"$f":"IF(AND(SS_AGI_MajMedian=\"No\", SS_AGI_MinMedian=\"No\"),CB4,IF(AND(SS_AGI_MajMedian=\"Yes\",SS_AGI_MinMedian=\"No\"),CG4,IF(AND(SS_AGI_MajMedian=\"No\",SS_AGI_MinMedian=\"Yes\"),CL4,IF(AND(SS_AGI_MajMedian=\"Yes\",SS_AGI_MinMedian=\"Yes\"),CQ4))))","v":false},{"$f":"MAX(1,IF(B4<>\"Pedestrian\",V4*SSI_AGI_MajorThruLanes+W4*SSI_AGI_MinorThruLanes+X4*IF(SSI_AGI_MajorThruLanes=1,SSI_AGI_MergeWeightL1,IF(SSI_AGI_MajorThruLanes=2,SSI_AGI_MergeWeightL1+SSI_AGI_MergeWeightL2,SSI_AGI_MergeWeightL1+SSI_AGI_MergeWeightL2+SSI_AGI_MergeWeightL3*(SSI_AGI_MajorThruLanes-2)))+Y4*IF(SSI_AGI_MinorThruLanes=1,SSI_AGI_MergeWeightL1,IF(SSI_AGI_MinorThruLanes=2,SSI_AGI_MergeWeightL1+SSI_AGI_MergeWeightL2,SSI_AGI_MergeWeightL1+SSI_AGI_MergeWeightL2+SSI_AGI_MergeWeightL3*(SSI_AGI_MinorThruLanes-2))),V4*SSI_AGI_MajorThruLanes+W4*SSI_AGI_MinorThruLanes+X4*IF(SSI_AGI_MajorThruLanes=1,SSI_AGI_NM_MergeWeightL1,IF(SSI_AGI_MajorThruLanes=2,SSI_AGI_NM_MergeWeightL1+SSI_AGI_NM_MergeWeightL2,SSI_AGI_NM_MergeWeightL1+SSI_AGI_NM_MergeWeightL2+SSI_AGI_NM_MergeWeightL3*(SSI_AGI_MajorThruLanes-2)))+Y4*IF(SSI_AGI_MinorThruLanes=1,SSI_AGI_NM_MergeWeightL1,IF(SSI_AGI_MinorThruLanes=2,SSI_AGI_NM_MergeWeightL1+SSI_AGI_NM_MergeWeightL2,SSI_AGI_NM_MergeWeightL1+SSI_AGI_NM_MergeWeightL2+SSI_AGI_NM_MergeWeightL3*(SSI_AGI_MinorThruLanes-2)))))","v":1},null,{"$f":"IF(B4=\"Diverging\",\"\",'SSI Inputs'!$F$49)","v":0},{"$f":"IF(B4=\"Diverging\",1,1-((60-AB4)/60*0.1/0.15))","v":0.33333333333333326},null,null,null,{"$f":"1+AE4+AF4","v":1},null,{"$f":"PRODUCT(Z4,T4,AC4,AG4)","v":0.16833333333333331},null,{"$f":"L4*R4*AI4","v":{"$error":"#VALUE!"}},null,null,{"$f":"IF(ISNUMBER(SEARCH(AN$3,$D4)),1,\"\")","v":""},{"$f":"IF(ISNUMBER(SEARCH(AO$3,$D4)),1,\"\")","v":""},"","","","",1,"","","","","","","","","",null,{"$f":"IF(ISNUMBER(SEARCH(BE$3,$G4)),1,\"\")","v":1},{"$f":"IF(ISNUMBER(SEARCH(BF$3,$G4)),1,\"\")","v":""},"","","","","","","","","","","","","","",null,null,1,"Crossing",2,0,0,0,null,1,0,0,0,null,2,0,0,0,null,1,0,0,0]
[2,"Crossing - LT","NBT","MinT1","Signal near","SBL","MinL2","Signal far",null,{"$f":"SUMPRODUCT($AN5:$BC5,$AN$60:$BC$60)","v":{"$error":"#VALUE!"}},{"$f":"SUMPRODUCT($BE5:$BT5,$BE$60:$BT$60)","v":{"$error":"#VALUE!"}},{"$f":"PRODUCT(J5:K5)","v":{"$error":"#VALUE!"}},null,{"$f":"VLOOKUP(E5,'SSI Inputs'!$B$49:$F$62,5,FALSE)","v":15},{"$f":"VLOOKUP(H5,'SSI Inputs'!$B$49:$F$62,5,FALSE)","v":25},{"$f":"IF(B5=\"Nonmotorized\",\"\",VLOOKUP(B5,'SSI Inputs'!$B$65:$F$69,5,FALSE))","v":230},{"$f":"IF(B5=\"Nonmotorized\",\"\",SQRT(N5^2+O5^2-2*N5*O5*COS(RADIANS(P5)))/2)","v":18.248908921254063},{"$f":"IF(B5=\"Nonmotorized\",1/(1+EXP(3.8432-0.1237*O5)),(Q5/'SSI Inputs'!$F$72)^'SSI Inputs'!$F$73+(Q5/'SSI Inputs'!$F$72)^'SSI Inputs'!$F$73-((Q5/'SSI Inputs'!$F$72)^'SSI Inputs'!$F$73)*((Q5/'SSI Inputs'!$F$72)^'SSI Inputs'!$F$73))","v":1.4099039069818802E-2},null,{"$f":"IF(SSI_AGI_MinorLTPhase=\"Protected/permitted\",SSI_AGI_ProtPermFactor,IF(SSI_AGI_MinorLTPhase=\"Protected\",SSI_AGI_ProtFactor,SSI_AGI_PermFactor))","v":0.92500000000000004},null,false,false,false,false,1,null,{"$f":"IF(B5=\"Diverging\",\"\",'SSI Inputs'!$F$49)","v":0},0.33333333333333326,null,null,null,{"$f":"1+AE5+AF5","v":1},null,0.30833333333333329,null,{"$f":"L5*R5*AI5","v":{"$error":"#VALUE!"}},null,null,{"$f":"IF(ISNUMBER(SEARCH(AN$3,$D5)),1,\"\")","v":""},"","","","","",1,"","","","","","","","","",null,{"$f":"IF(ISNUMBER(SEARCH(BE$3,$G5)),1,\"\")","v":""},"","","","","","","","","",1,"","","","","",null,null,2,"Crossing - LT",1,1,1,0,null,1,1,0,0,null,0,1,1,0,null,0,1,0,0]
[3,"Crossing - LT","NBT","MinT1","Signal far","WBL","MajL2","Major left",null,{"$error":"#VALUE!"},{"$error":"#VALUE!"},{"$error":"#VALUE!"},null,{"$f":"VLOOKUP(E6,'SSI Inputs'!$B$49:$F$62,5,FALSE)","v":25},{"$f":"VLOOKUP(H6,'SSI Inputs'!$B$49:$F$62,5,FALSE)","v":20},{"$f":"IF(B6=\"Nonmotorized\",\"\",VLOOKUP(B6,'SSI Inputs'!$B$65:$F$69,5,FALSE))","v":230},20.419277715473552,{"$f":"IF(B6=\"Nonmotorized\",1/(1+EXP(3.8432-0.1237*O6)),(Q6/'SSI Inputs'!$F$72)^'SSI Inputs'!$F$73+(Q6/'SSI Inputs'!$F$72)^'SSI Inputs'!$F$73-((Q6/'SSI Inputs'!$F$72)^'SSI Inputs'!$F$73)*((Q6/'SSI Inputs'!$F$72)^'SSI Inputs'!$F$73))","v":2.1555284139167314E-2},null,{"$f":"SSI_AGI_ProtFactor","v":0.505},null,false,false,false,false,1,null,{"$f":"IF(B6=\"Diverging\",\"\",'SSI Inputs'!$F$49)","v":0},0.33333333333333326,null,null,null,1,null,0.16833333333333331,null,{"$error":"#VALUE!"},null,null,"","","","","","",1,"","","","","","","","","",null,"","","","",1,"","","","","","","","","","","",null,null,3,"Crossing - LT",2,0,0,0,null,1,0,0,0,null,2,0,0,0,null,1,0,0,0]
[4,"Crossing","NBT","MinT1","Signal far","WBT","MajT2","Major Thru",null,{"$error":"#VALUE!"},{"$error":"#VALUE!"},{"$error":"#VALUE!"},null,{"$f":"VLOOKUP(E7,'SSI Inputs'!$B$49:$F$62,5,FALSE)","v":25},{"$f":"VLOOKUP(H7,'SSI Inputs'!$B$49:$F$62,5,FALSE)","v":0},{"$f":"IF(B7=\"Nonmotorized\",\"\",VLOOKUP(B7,'SSI Inputs'!$B$65:$F$69,5,FALSE))","v":90},12.5,{"$f":"IF(B7=\"Nonmotorized\",1/(1+EXP(3.8432-0.1237*O7)),(Q7/'SSI Inputs'!$F$72)^'SSI Inputs'!$F$73+(Q7/'SSI Inputs'!$F$72)^'SSI Inputs'!$F$73-((Q7/'SSI Inputs'!$F$72)^'SSI Inputs'!$F$73)*((Q7/'SSI Inputs'!$F$72)^'SSI Inputs'!$F$73))","v":3.3637551692797594E-3},null,{"$f":"SSI_AGI_ProtFactor","v":0.505},null,false,false,false,false,1,null,{"$f":"IF(B7=\"Diverging\",\"\",'SSI Inputs'!$F$49)","v":0},0.33333333333333326,null,null,null,1,null,0.16833333333333331,null,{"$error":"#VALUE!"},null,null,"","","","","","",1,"","","","","","","","","",null,"","","",1,"","","","","","","","","","","","",null,null,4,"Crossing",2,0,0,0,null,1,0,0,0,null,2,0,0,0,null,1,0,0,0]
[5,"Crossing - LT","WBT","MajT2","Major thru","EBL","MajL1","Major left",null,{"$error":"#VALUE!"},{"$error":"#VALUE!"},{"$error":"#VALUE!"},null,{"$f":"VLOOKUP(E8,'SSI Inputs'!$B$49:$F$62,5,FALSE)","v":0},{"$f":"VLOOKUP(H8,'SSI Inputs'!$B$49:$F$62,5,FALSE)","v":20},{"$f":"IF(B8=\"Nonmotorized\",\"\",VLOOKUP(B8,'SSI Inputs'!$B$65:$F$69,5,FALSE))","v":230},10,{"$f":"IF(B8=\"Nonmotorized\",1/(1+EXP(3.8432-0.1237*O8)),(Q8/'SSI Inputs'!$F$72)^'SSI Inputs'!$F$73+(Q8/'SSI Inputs'!$F$72)^'SSI Inputs'!$F$73-((Q8/'SSI Inputs'!$F$72)^'SSI Inputs'!$F$73)*((Q8/'SSI Inputs'!$F$72)^'SSI Inputs'!$F$73))","v":1.4431392232699444E-3},null,{"$f":"IF(SSI_AGI_MajorLTPhase=\"Protected/permitted\",SSI_AGI_ProtPermFactor,IF(SSI_AGI_MajorLTPhase=\"Protected\",SSI_AGI_ProtFactor,SSI_AGI_PermFactor))","v":0.92500000000000004},null,false,false,false,false,1,null,{"$f":"IF(B8=\"Diverging\",\"\",'SSI Inputs'!$F$49)","v":0},0.33333333333333326,null,null,null,1,null,0.30833333333333329,null,{"$error":"#VALUE!"},null,null,"","","",1,"","","","","","","","","","","","",null,"",1,"","","","","","","","","","","","","","",null,null,5,"Crossing - LT",1,0,0,0,null,1,0,0,0,null,1,0,0,0,null,1,0,0,0]
[6,"Crossing - LT","WBT","MajT2","Major thru","SBL","MinL2","Signal near",null,{"$error":"#VALUE!"},{"$error":"#VALUE!"},{"$error":"#VALUE!"},null,{"$f":"VLOOKUP(E9,'SSI Inputs'!$B$49:$F$62,5,FALSE)","v":0},{"$f":"VLOOKUP(H9,'SSI Inputs'!$B$49:$F$62,5,FALSE)","v":15},{"$f":"IF(B9=\"Nonmotorized\",\"\",VLOOKUP(B9,'SSI Inputs'!$B$65:$F$69,5,FALSE))","v":230},7.5,{"$f":"IF(B9=\"Nonmotorized\",1/(1+EXP(3.8432-0.1237*O9)),(Q9/'SSI Inputs'!$F$72)^'SSI Inputs'!$F$73+(Q9/'SSI Inputs'!$F$72)^'SSI Inputs'!$F$73-((Q9/'SSI Inputs'!$F$72)^'SSI Inputs'!$F$73)*((Q9/'SSI Inputs'!$F$72)^'SSI Inputs'!$F$73))","v":4.8454301532720461E-4},null,{"$f":"SSI_AGI_ProtFactor","v":0.505},null,false,false,false,false,1,null,{"$f":"IF(B9=\"Diverging\",\"\",'SSI Inputs'!$F$49)","v":0},0.33333333333333326,null,null,null,1,null,0.16833333333333331,null,{"$error":"#VALUE!"},null,null,"","","",1,"","","","","","","","","","","","",null,"","","","","","","","","","",1,"","","","","",null,null,6,"Crossing - LT",1,1,1,0,null,1,1,0,0,null,1,0,0,0,null,1,0,0,0]
[7,"Crossing","SBT","MinT2","Signal near","WBT","MajT2","Major thru",null,{"$error":"#VALUE!"},{"$error":"#VALUE!"},{"$error":"#VALUE!"},null,{"$f":"VLOOKUP(E10,'SSI Inputs'!$B$49:$F$62,5,FALSE)","v":15},{"$f":"VLOOKUP(H10,'SSI Inputs'!$B$49:$F$62,5,FALSE)","v":0},{"$f":"IF(B10=\"Nonmotorized\",\"\",VLOOKUP(B10,'SSI Inputs'!$B$65:$F$69,5,FALSE))","v":90},7.5,{"$f":"IF(B10=\"Nonmotorized\",1/(1+EXP(3.8432-0.1237*O10)),(Q10/'SSI Inputs'!$F$72)^'SSI Inputs'!$F$73+(Q10/'SSI Inputs'!$F$72)^'SSI Inputs'!$F$73-((Q10/'SSI Inputs'!$F$72)^'SSI Inputs'!$F$73)*((Q10/'SSI Inputs'!$F$72)^'SSI Inputs'!$F$73))","v":4.8454301532720461E-4},null,{"$f":"SSI_AGI_ProtFactor","v":0.505},null,false,false,false,false,1,null,{"$f":"IF(B10=\"Diverging\",\"\",'SSI Inputs'!$F$49)","v":0},0.33333333333333326,null,null,null,1,null,0.16833333333333331,null,{"$error":"#VALUE!"},null,null,"","","","","","","","","",1,"","","","","","",null,"","","",1,"","","","","","","","","","","","",null,null,7,"Crossing",2,0,0,0,null,1,0,0,0,null,2,0,0,0,null,1,0,0,0]
[8,"Crossing - LT","SBT","MinT2","Signal near","NBL","MinL1","Signal far",null,{"$error":"#VALUE!"},{"$error":"#VALUE!"},{"$error":"#VALUE!"},null,{"$f":"VLOOKUP(E11,'SSI Inputs'!$B$49:$F$62,5,FALSE)","v":15},{"$f":"VLOOKUP(H11,'SSI Inputs'!$B$49:$F$62,5,FALSE)","v":25},{"$f":"IF(B11=\"Nonmotorized\",\"\",VLOOKUP(B11,'SSI Inputs'!$B$65:$F$69,5,FALSE))","v":230},18.248908921254063,{"$f":"IF(B11=\"Nonmotorized\",1/(1+EXP(3.8432-0.1237*O11)),(Q11/'SSI Inputs'!$F$72)^'SSI Inputs'!$F$73+(Q11/'SSI Inputs'!$F$72)^'SSI Inputs'!$F$73-((Q11/'SSI Inputs'!$F$72)^'SSI Inputs'!$F$73)*((Q11/'SSI Inputs'!$F$72)^'SSI Inputs'!$F$73))","v":1.4099039069818802E-2},null,{"$f":"IF(SSI_AGI_MinorLTPhase=\"Protected/permitted\",SSI_AGI_ProtPermFactor,IF(SSI_AGI_MinorLTPhase=\"Protected\",SSI_AGI_ProtFactor,SSI_AGI_PermFactor))","v":0.92500000000000004},null,false,false,false,false,1,null,{"$f":"IF(B11=\"Diverging\",\"\",'SSI Inputs'!$F$49)","v":0},0.33333333333333326,null,null,null,1,null,0.30833333333333329,null,{"$error":"#VALUE!"},null,null,"","","","","","","","","",1,"","","","","","",null,"","","","","","","",1,"","","","","","","","",null,null,8,"Crossing - LT",1,1,1,0,null,1,1,0,0,null,0,1,1,0,null,0,1,0,0]
[9,"Crossing - LT","SBT","MinT2","Signal far","EBL","MajL1","Major left",null,{"$error":"#VALUE!"},{"$error":"#VALUE!"},{"$error":"#VALUE!"},null,{"$f":"VLOOKUP(E12,'SSI Inputs'!$B$49:$F$62,5,FALSE)","v":25},{"$f":"VLOOKUP(H12,'SSI Inputs'!$B$49:$F$62,5,FALSE)","v":20},{"$f":"IF(B12=\"Nonmotorized\",\"\",VLOOKUP(B12,'SSI Inputs'!$B$65:$F$69,5,FALSE))","v":230},20.419277715473552,{"$f":"IF(B12=\"Nonmotorized\",1/(1+EXP(3.8432-0.1237*O12)),(Q12/'SSI Inputs'!$F$72)^'SSI Inputs'!$F$73+(Q12/'SSI Inputs'!$F$72)^'SSI Inputs'!$F$73-((Q12/'SSI Inputs'!$F$72)^'SSI Inputs'!$F$73)*((Q12/'SSI Inputs'!$F$72)^'SSI Inputs'!$F$73))","v":2.1555284139167314E-2},null,{"$f":"SSI_AGI_ProtFactor","v":0.505},null,false,false,false,false,1,null,{"$f":"IF(B12=\"Diverging\",\"\",'SSI Inputs'!$F$49)","v":0},0.33333333333333326,null,null,null,1,null,0.16833333333333331,null,{"$error":"#VALUE!"},null,null,"","","","","","","","","",1,"","","","","","",null,"",1,"","","","","","","","","","","","","","",null,null,9,"Crossing - LT",2,0,0,0,null,1,0,0,0,null,2,0,0,0,null,1,0,0,0]
[10,"Crossing","SBT","MinT2","Signal far","EBT","MajT1","Major thru",null,{"$error":"#VALUE!"},{"$error":"#VALUE!"},{"$error":"#VALUE!"},null,{"$f":"VLOOKUP(E13,'SSI Inputs'!$B$49:$F$62,5,FALSE)","v":25},{"$f":"VLOOKUP(H13,'SSI Inputs'!$B$49:$F$62,5,FALSE)","v":0},{"$f":"IF(B13=\"Nonmotorized\",\"\",VLOOKUP(B13,'SSI Inputs'!$B$65:$F$69,5,FALSE))","v":90},12.5,{"$f":"IF(B13=\"Nonmotorized\",1/(1+EXP(3.8432-0.1237*O13)),(Q13/'SSI Inputs'!$F$72)^'SSI Inputs'!$F$73+(Q13/'SSI Inputs'!$F$72)^'SSI Inputs'!$F$73-((Q13/'SSI Inputs'!$F$72)^'SSI Inputs'!$F$73)*((Q13/'SSI Inputs'!$F$72)^'SSI Inputs'!$F$73))","v":3.3637551692797594E-3},null,{"$f":"SSI_AGI_ProtFactor","v":0.505},null,false,false,false,false,1,null,{"$f":"IF(B13=\"Diverging\",\"\",'SSI Inputs'!$F$49)","v":0},0.33333333333333326,null,null,null,1,null,0.16833333333333331,null,{"$error":"#VALUE!"},null,null,"","","","","","","","","",1,"","","","","","",null,1,"","","","","","","","","","","","","","","",null,null,10,"Crossing",2,0,0,0,null,1,0,0,0,null,2,0,0,0,null,1,0,0,0]
[11,"Crossing - LT","EBT","MajT1","Major thru","WBL","MajL2","Major left",null,{"$error":"#VALUE!"},{"$error":"#VALUE!"},{"$error":"#VALUE!"},null,{"$f":"VLOOKUP(E14,'SSI Inputs'!$B$49:$F$62,5,FALSE)","v":0},{"$f":"VLOOKUP(H14,'SSI Inputs'!$B$49:$F$62,5,FALSE)","v":20},{"$f":"IF(B14=\"Nonmotorized\",\"\",VLOOKUP(B14,'SSI Inputs'!$B$65:$F$69,5,FALSE))","v":230},10,{"$f":"IF(B14=\"Nonmotorized\",1/(1+EXP(3.8432-0.1237*O14)),(Q14/'SSI Inputs'!$F$72)^'SSI Inputs'!$F$73+(Q14/'SSI Inputs'!$F$72)^'SSI Inputs'!$F$73-((Q14/'SSI Inputs'!$F$72)^'SSI Inputs'!$F$73)*((Q14/'SSI Inputs'!$F$72)^'SSI Inputs'!$F$73))","v":1.4431392232699444E-3},null,{"$f":"IF(SSI_AGI_MajorLTPhase=\"Protected/permitted\",SSI_AGI_ProtPermFactor,IF(SSI_AGI_MajorLTPhase=\"Protected\",SSI_AGI_ProtFactor,SSI_AGI_PermFactor))","v":0.92500000000000004},null,false,false,false,false,1,null,{"$f":"IF(B14=\"Diverging\",\"\",'SSI Inputs'!$F$49)","v":0},0.33333333333333326,null,null,null,1,null,0.30833333333333329,null,{"$error":"#VALUE!"},null,null,1,"","","","","","","","","","","","","","","",null,"","","","",1,"","","","","","","","","","","",null,null,11,"Crossing - LT",1,0,0,0,null,1,0,0,0,null,1,0,0,0,null,1,0,0,0]
[12,"Crossing - LT","EBT","MajT1","Major thru","NBL","MinL1","Signal near",null,{"$error":"#VALUE!"},{"$error":"#VALUE!"},{"$error":"#VALUE!"},null,{"$f":"VLOOKUP(E15,'SSI Inputs'!$B$49:$F$62,5,FALSE)","v":0},{"$f":"VLOOKUP(H15,'SSI Inputs'!$B$49:$F$62,5,FALSE)","v":15},{"$f":"IF(B15=\"Nonmotorized\",\"\",VLOOKUP(B15,'SSI Inputs'!$B$65:$F$69,5,FALSE))","v":230},7.5,{"$f":"IF(B15=\"Nonmotorized\",1/(1+EXP(3.8432-0.1237*O15)),(Q15/'SSI Inputs'!$F$72)^'SSI Inputs'!$F$73+(Q15/'SSI Inputs'!$F$72)^'SSI Inputs'!$F$73-((Q15/'SSI Inputs'!$F$72)^'SSI Inputs'!$F$73)*((Q15/'SSI Inputs'!$F$72)^'SSI Inputs'!$F$73))","v":4.8454301532720461E-4},null,{"$f":"SSI_AGI_ProtFactor","v":0.505},null,false,false,false,false,1,null,{"$f":"IF(B15=\"Diverging\",\"\",'SSI Inputs'!$F$49)","v":0},0.33333333333333326,null,null,null,1,null,0.16833333333333331,null,{"$error":"#VALUE!"},null,null,1,"","","","","","","","","","","","","","","",null,"","","","","","","",1,"","","","","","","","",null,null,12,"Crossing - LT",1,1,1,0,null,1,1,0,0,null,1,0,0,0,null,1,0,0,0]
[13,"Crossing - LT","NBL","MinL1","Signal near","WBL","MajL2","Major left",null,{"$error":"#VALUE!"},{"$error":"#VALUE!"},{"$error":"#VALUE!"},null,{"$f":"VLOOKUP(E16,'SSI Inputs'!$B$49:$F$62,5,FALSE)","v":15},{"$f":"VLOOKUP(H16,'SSI Inputs'!$B$49:$F$62,5,FALSE)","v":20},{"$f":"IF(B16=\"Nonmotorized\",\"\",VLOOKUP(B16,'SSI Inputs'!$B$65:$F$69,5,FALSE))","v":230},15.895538413434787,{"$f":"IF(B16=\"Nonmotorized\",1/(1+EXP(3.8432-0.1237*O16)),(Q16/'SSI Inputs'!$F$72)^'SSI Inputs'!$F$73+(Q16/'SSI Inputs'!$F$72)^'SSI Inputs'!$F$73-((Q16/'SSI Inputs'!$F$72)^'SSI Inputs'!$F$73)*((Q16/'SSI Inputs'!$F$72)^'SSI Inputs'!$F$73))","v":8.3616736100371545E-3},null,0.505,null,false,false,false,false,1,null,{"$f":"IF(B16=\"Diverging\",\"\",'SSI Inputs'!$F$49)","v":0},0.33333333333333326,null,null,null,1,null,0.16833333333333331,null,{"$error":"#VALUE!"},null,null,"","","","","","","",1,"","","","","","","","",null,"","","","",1,"","","","","","","","","","","",null,null,13,"Crossing - LT",1,1,1,0,null,1,1,0,0,null,1,0,0,0,null,1,0,0,0]
[14,"Crossing - LT","NBL","MinL1","Signal far","EBL","MajL1","Major left",null,{"$error":"#VALUE!"},{"$error":"#VALUE!"},{"$error":"#VALUE!"},null,{"$f":"VLOOKUP(E17,'SSI Inputs'!$B$49:$F$62,5,FALSE)","v":25},{"$f":"VLOOKUP(H17,'SSI Inputs'!$B$49:$F$62,5,FALSE)","v":20},{"$f":"IF(B17=\"Nonmotorized\",\"\",VLOOKUP(B17,'SSI Inputs'!$B$65:$F$69,5,FALSE))","v":230},20.419277715473552,{"$f":"IF(B17=\"Nonmotorized\",1/(1+EXP(3.8432-0.1237*O17)),(Q17/'SSI Inputs'!$F$72)^'SSI Inputs'!$F$73+(Q17/'SSI Inputs'!$F$72)^'SSI Inputs'!$F$73-((Q17/'SSI Inputs'!$F$72)^'SSI Inputs'!$F$73)*((Q17/'SSI Inputs'!$F$72)^'SSI Inputs'!$F$73))","v":2.1555284139167314E-2},null,0.505,null,false,false,false,false,1,null,{"$f":"IF(B17=\"Diverging\",\"\",'SSI Inputs'!$F$49)","v":0},0.33333333333333326,null,null,null,1,null,0.16833333333333331,null,{"$error":"#VALUE!"},null,null,"","","","","","","",1,"","","","","","","","",null,"",1,"","","","","","","","","","","","","","",null,null,14,"Crossing - LT",1,1,1,0,null,1,1,0,0,null,1,0,0,0,null,1,0,0,0]
[15,"Crossing - LT","SBL","MinL2","Signal near","EBL","MajL1","Major left",null,{"$error":"#VALUE!"},{"$error":"#VALUE!"},{"$error":"#VALUE!"},null,{"$f":"VLOOKUP(E18,'SSI Inputs'!$B$49:$F$62,5,FALSE)","v":15},{"$f":"VLOOKUP(H18,'SSI Inputs'!$B$49:$F$62,5,FALSE)","v":20},{"$f":"IF(B18=\"Nonmotorized\",\"\",VLOOKUP(B18,'SSI Inputs'!$B$65:$F$69,5,FALSE))","v":230},15.895538413434787,{"$f":"IF(B18=\"Nonmotorized\",1/(1+EXP(3.8432-0.1237*O18)),(Q18/'SSI Inputs'!$F$72)^'SSI Inputs'!$F$73+(Q18/'SSI Inputs'!$F$72)^'SSI Inputs'!$F$73-((Q18/'SSI Inputs'!$F$72)^'SSI Inputs'!$F$73)*((Q18/'SSI Inputs'!$F$72)^'SSI Inputs'!$F$73))","v":8.3616736100371545E-3},null,0.505,null,false,false,false,false,1,null,{"$f":"IF(B18=\"Diverging\",\"\",'SSI Inputs'!$F$49)","v":0},0.33333333333333326,null,null,null,1,null,0.16833333333333331,null,{"$error":"#VALUE!"},null,null,"","","","","","","","","","",1,"","","","","",null,"",1,"","","","","","","","","","","","","","",null,null,15,"Crossing - LT",1,1,1,0,null,1,1,0,0,null,1,0,0,0,null,1,0,0,0]
[16,"Crossing - LT","SBL","MinL2","Signal far","WBL","MajL2","Major left",null,{"$error":"#VALUE!"},{"$error":"#VALUE!"},{"$error":"#VALUE!"},null,{"$f":"VLOOKUP(E19,'SSI Inputs'!$B$49:$F$62,5,FALSE)","v":25},{"$f":"VLOOKUP(H19,'SSI Inputs'!$B$49:$F$62,5,FALSE)","v":20},{"$f":"IF(B19=\"Nonmotorized\",\"\",VLOOKUP(B19,'SSI Inputs'!$B$65:$F$69,5,FALSE))","v":230},20.419277715473552,{"$f":"IF(B19=\"Nonmotorized\",1/(1+EXP(3.8432-0.1237*O19)),(Q19/'SSI Inputs'!$F$72)^'SSI Inputs'!$F$73+(Q19/'SSI Inputs'!$F$72)^'SSI Inputs'!$F$73-((Q19/'SSI Inputs'!$F$72)^'SSI Inputs'!$F$73)*((Q19/'SSI Inputs'!$F$72)^'SSI Inputs'!$F$73))","v":2.1555284139167314E-2},null,0.505,null,false,false,false,false,1,null,{"$f":"IF(B19=\"Diverging\",\"\",'SSI Inputs'!$F$49)","v":0},0.33333333333333326,null,null,null,1,null,0.16833333333333331,null,{"$error":"#VALUE!"},null,null,"","","","","","","","","","",1,"","","","","",null,"","","","",1,"","","","","","","","","","","",null,null,16,"Crossing - LT",1,1,1,0,null,1,1,0,0,null,1,0,0,0,null,1,0,0,0]
[17,"Merging","EBT","MajT1","Major thru","SBL","MinL2","Signal far",null,{"$error":"#VALUE!"},{"$error":"#VALUE!"},{"$error":"#VALUE!"},null,{"$f":"VLOOKUP(E20,'SSI Inputs'!$B$49:$F$62,5,FALSE)","v":0},{"$f":"VLOOKUP(H20,'SSI Inputs'!$B$49:$F$62,5,FALSE)","v":25},{"$f":"IF(B20=\"Nonmotorized\",\"\",VLOOKUP(B20,'SSI Inputs'!$B$65:$F$69,5,FALSE))","v":45},12.5,{"$f":"IF(B20=\"Nonmotorized\",1/(1+EXP(3.8432-0.1237*O20)),(Q20/'SSI Inputs'!$F$72)^'SSI Inputs'!$F$73+(Q20/'SSI Inputs'!$F$72)^'SSI Inputs'!$F$73-((Q20/'SSI Inputs'!$F$72)^'SSI Inputs'!$F$73)*((Q20/'SSI Inputs'!$F$72)^'SSI Inputs'!$F$73))","v":3.3637551692797594E-3},null,0.505,null,false,false,false,false,1,null,{"$f":"IF(B20=\"Diverging\",\"\",'SSI Inputs'!$F$49)","v":0},0.33333333333333326,null,null,null,1,null,0.16833333333333331,null,{"$error":"#VALUE!"},null,null,1,"","","","","","","","","","","","","","","",null,"","","","","","","","","","",1,"","","","","",null,null,17,"Merging",1,1,1,0,null,0,0,1,0,null,0,1,1,0,null,0,0,1,0]
[18,"Merging","EBT","MajT1","Major thru","NBR","MinR1","Signal near",null,{"$f":"SUMPRODUCT($AN21:$BC21,$AN$60:$BC$60)","v":{"$error":"#VALUE!"}},{"$error":"#VALUE!"},{"$error":"#VALUE!"},null,{"$f":"VLOOKUP(E21,'SSI Inputs'!$B$49:$F$62,5,FALSE)","v":0},{"$f":"VLOOKUP(H21,'SSI Inputs'!$B$49:$F$62,5,FALSE)","v":15},{"$f":"IF(B21=\"Nonmotorized\",\"\",VLOOKUP(B21,'SSI Inputs'!$B$65:$F$69,5,FALSE))","v":45},7.5,{"$f":"IF(B21=\"Nonmotorized\",1/(1+EXP(3.8432-0.1237*O21)),(Q21/'SSI Inputs'!$F$72)^'SSI Inputs'!$F$73+(Q21/'SSI Inputs'!$F$72)^'SSI Inputs'!$F$73-((Q21/'SSI Inputs'!$F$72)^'SSI Inputs'!$F$73)*((Q21/'SSI Inputs'!$F$72)^'SSI Inputs'!$F$73))","v":4.8454301532720461E-4},null,0.505,null,false,false,false,false,1,null,{"$f":"IF(B21=\"Diverging\",\"\",'SSI Inputs'!$F$49)","v":0},0.33333333333333326,null,null,null,1,null,0.16833333333333331,null,{"$error":"#VALUE!"},null,null,1,"","","","","","","","","","","","","","","",null,"","","","","","","","",1,"","","","","","","",null,null,18,"Merging",0,0,1,0,null,0,0,1,0,null,0,0,1,0,null,0,0,1,0]
[19,"Merging","NBT","MinT1","Signal far","EBL","MajL1","Major left",null,{"$error":"#VALUE!"},{"$error":"#VALUE!"},{"$error":"#VALUE!"},null,{"$f":"VLOOKUP(E22,'SSI Inputs'!$B$49:$F$62,5,FALSE)","v":25},{"$f":"VLOOKUP(H22,'SSI Inputs'!$B$49:$F$62,5,FALSE)","v":20},{"$f":"IF(B22=\"Nonmotorized\",\"\",VLOOKUP(B22,'SSI Inputs'!$B$65:$F$69,5,FALSE))","v":45},8.9147801264732891,{"$f":"IF(B22=\"Nonmotorized\",1/(1+EXP(3.8432-0.1237*O22)),(Q22/'SSI Inputs'!$F$72)^'SSI Inputs'!$F$73+(Q22/'SSI Inputs'!$F$72)^'SSI Inputs'!$F$73-((Q22/'SSI Inputs'!$F$72)^'SSI Inputs'!$F$73)*((Q22/'SSI Inputs'!$F$72)^'SSI Inputs'!$F$73))","v":9.333798723087925E-4},null,0.505,null,false,false,false,false,1,null,{"$f":"IF(B22=\"Diverging\",\"\",'SSI Inputs'!$F$49)","v":0},0.33333333333333326,null,null,null,1,null,0.16833333333333331,null,{"$error":"#VALUE!"},null,null,"","","","","","",1,"","","","","","","","","",null,"",1,"","","","","","","","","","","","","","",null,null,19,"Merging",2,0,0,0,null,1,0,0,0,null,2,0,0,0,null,1,0,0,0]
[20,"Merging","NBT","MinT1","Signal far","WBR","MajR2","Major right",null,{"$error":"#VALUE!"},{"$error":"#VALUE!"},{"$error":"#VALUE!"},null,{"$f":"VLOOKUP(E23,'SSI Inputs'!$B$49:$F$62,5,FALSE)","v":25},{"$f":"VLOOKUP(H23,'SSI Inputs'!$B$49:$F$62,5,FALSE)","v":15},{"$f":"IF(B23=\"Nonmotorized\",\"\",VLOOKUP(B23,'SSI Inputs'!$B$65:$F$69,5,FALSE))","v":45},8.9396576292116645,{"$f":"IF(B23=\"Nonmotorized\",1/(1+EXP(3.8432-0.1237*O23)),(Q23/'SSI Inputs'!$F$72)^'SSI Inputs'!$F$73+(Q23/'SSI Inputs'!$F$72)^'SSI Inputs'!$F$73-((Q23/'SSI Inputs'!$F$72)^'SSI Inputs'!$F$73)*((Q23/'SSI Inputs'!$F$72)^'SSI Inputs'!$F$73))","v":9.4329959592674944E-4},null,0.505,null,false,false,false,false,1,null,{"$f":"IF(B23=\"Diverging\",\"\",'SSI Inputs'!$F$49)","v":0},0.33333333333333326,null,null,null,1,null,0.16833333333333331,null,{"$error":"#VALUE!"},null,null,"","","","","","",1,"","","","","","","","","",null,"","","","","",1,"","","","","","","","","","",null,null,20,"Merging",2,0,0,0,null,1,0,0,0,null,2,0,0,0,null,1,0,0,0]
[21,"Merging","WBT","MajT2","Major thru","NBL","MinL1","Signal far",null,{"$error":"#VALUE!"},{"$error":"#VALUE!"},{"$error":"#VALUE!"},null,{"$f":"VLOOKUP(E24,'SSI Inputs'!$B$49:$F$62,5,FALSE)","v":0},{"$f":"VLOOKUP(H24,'SSI Inputs'!$B$49:$F$62,5,FALSE)","v":25},{"$f":"IF(B24=\"Nonmotorized\",\"\",VLOOKUP(B24,'SSI Inputs'!$B$65:$F$69,5,FALSE))","v":45},12.5,{"$f":"IF(B24=\"Nonmotorized\",1/(1+EXP(3.8432-0.1237*O24)),(Q24/'SSI Inputs'!$F$72)^'SSI Inputs'!$F$73+(Q24/'SSI Inputs'!$F$72)^'SSI Inputs'!$F$73-((Q24/'SSI Inputs'!$F$72)^'SSI Inputs'!$F$73)*((Q24/'SSI Inputs'!$F$72)^'SSI Inputs'!$F$73))","v":3.3637551692797594E-3},null,0.505,null,false,false,false,false,1,null,{"$f":"IF(B24=\"Diverging\",\"\",'SSI Inputs'!$F$49)","v":0},0.33333333333333326,null,null,null,1,null,0.16833333333333331,null,{"$error":"#VALUE!"},null,null,"","","",1,"","","","","","","","","","","","",null,"","","","","","","",1,"","","","","","","","",null,null,21,"Merging",1,1,1,0,null,0,0,1,0,null,0,1,1,0,null,0,0,1,0]
[22,"Merging","WBT","MajT2","Major thru","SBR","MinR2","Signal near",null,{"$error":"#VALUE!"},{"$error":"#VALUE!"},{"$error":"#VALUE!"},null,{"$f":"VLOOKUP(E25,'SSI Inputs'!$B$49:$F$62,5,FALSE)","v":0},{"$f":"VLOOKUP(H25,'SSI Inputs'!$B$49:$F$62,5,FALSE)","v":15},{"$f":"IF(B25=\"Nonmotorized\",\"\",VLOOKUP(B25,'SSI Inputs'!$B$65:$F$69,5,FALSE))","v":45},7.5,{"$f":"IF(B25=\"Nonmotorized\",1/(1+EXP(3.8432-0.1237*O25)),(Q25/'SSI Inputs'!$F$72)^'SSI Inputs'!$F$73+(Q25/'SSI Inputs'!$F$72)^'SSI Inputs'!$F$73-((Q25/'SSI Inputs'!$F$72)^'SSI Inputs'!$F$73)*((Q25/'SSI Inputs'!$F$72)^'SSI Inputs'!$F$73))","v":4.8454301532720461E-4},null,0.505,null,false,false,false,false,1,null,{"$f":"IF(B25=\"Diverging\",\"\",'SSI Inputs'!$F$49)","v":0},0.33333333333333326,null,null,null,1,null,0.16833333333333331,null,{"$f":"L25*R25*AI25","v":{"$error":"#VALUE!"}},null,null,"","","",1,"","","","","","","","","","","","",null,"","","","","","","","","","","",1,"","","","",null,null,22,"Merging",0,0,1,0,null,0,0,1,0,null,0,0,1,0,null,0,0,1,0]
[23,"Merging","SBT","MinT2","Signal far","WBL","MajL2","Major left",null,{"$error":"#VALUE!"},{"$error":"#VALUE!"},{"$error":"#VALUE!"},null,{"$f":"VLOOKUP(E26,'SSI Inputs'!$B$49:$F$62,5,FALSE)","v":25},{"$f":"VLOOKUP(H26,'SSI Inputs'!$B$49:$F$62,5,FALSE)","v":20},{"$f":"IF(B26=\"Nonmotorized\",\"\",VLOOKUP(B26,'SSI Inputs'!$B$65:$F$69,5,FALSE))","v":45},8.9147801264732891,{"$f":"IF(B26=\"Nonmotorized\",1/(1+EXP(3.8432-0.1237*O26)),(Q26/'SSI Inputs'!$F$72)^'SSI Inputs'!$F$73+(Q26/'SSI Inputs'!$F$72)^'SSI Inputs'!$F$73-((Q26/'SSI Inputs'!$F$72)^'SSI Inputs'!$F$73)*((Q26/'SSI Inputs'!$F$72)^'SSI Inputs'!$F$73))","v":9.333798723087925E-4},null,0.505,null,false,false,false,false,1,null,{"$f":"IF(B26=\"Diverging\",\"\",'SSI Inputs'!$F$49)","v":0},0.33333333333333326,null,null,null,1,null,0.16833333333333331,null,{"$error":"#VALUE!"},null,null,"","","","","","","","","",1,"","","","","","",null,"","","","",1,"","","","","","","","","","","",null,null,23,"Merging",2,0,0,0,null,1,0,0,0,null,2,0,0,0,null,1,0,0,0]
[24,"Merging","SBT","MinT2","Signal far","EBR","MajR1","Major right",null,{"$error":"#VALUE!"},{"$error":"#VALUE!"},{"$error":"#VALUE!"},null,{"$f":"VLOOKUP(E27,'SSI Inputs'!$B$49:$F$62,5,FALSE)","v":25},{"$f":"VLOOKUP(H27,'SSI Inputs'!$B$49:$F$62,5,FALSE)","v":15},{"$f":"IF(B27=\"Nonmotorized\",\"\",VLOOKUP(B27,'SSI Inputs'!$B$65:$F$69,5,FALSE))","v":45},8.9396576292116645,{"$f":"IF(B27=\"Nonmotorized\",1/(1+EXP(3.8432-0.1237*O27)),(Q27/'SSI Inputs'!$F$72)^'SSI Inputs'!$F$73+(Q27/'SSI Inputs'!$F$72)^'SSI Inputs'!$F$73-((Q27/'SSI Inputs'!$F$72)^'SSI Inputs'!$F$73)*((Q27/'SSI Inputs'!$F$72)^'SSI Inputs'!$F$73))","v":9.4329959592674944E-4},null,0.505,null,false,false,false,false,1,null,{"$f":"IF(B27=\"Diverging\",\"\",'SSI Inputs'!$F$49)","v":0},0.33333333333333326,null,null,null,1,null,0.16833333333333331,null,{"$error":"#VALUE!"},null,null,"","","","","","","","","",1,"","","","","","",null,"","",1,"","","","","","","","","","","","","",null,null,24,"Merging",2,0,0,0,null,1,0,0,0,null,2,0,0,0,null,1,0,0,0]
[25,"Diverging","NBT","MinT1","Signal near","NBL","MinL1","Signal near",null,{"$error":"#VALUE!"},{"$error":"#VALUE!"},{"$error":"#VALUE!"},null,{"$f":"VLOOKUP(E28,'SSI Inputs'!$B$49:$F$62,5,FALSE)","v":15},{"$f":"VLOOKUP(H28,'SSI Inputs'!$B$49:$F$62,5,FALSE)","v":15},{"$f":"IF(B28=\"Nonmotorized\",\"\",VLOOKUP(B28,'SSI Inputs'!$B$65:$F$69,5,FALSE))","v":10},1.3073361412148754,{"$f":"IF(B28=\"Nonmotorized\",1/(1+EXP(3.8432-0.1237*O28)),(Q28/'SSI Inputs'!$F$72)^'SSI Inputs'!$F$73+(Q28/'SSI Inputs'!$F$72)^'SSI Inputs'!$F$73-((Q28/'SSI Inputs'!$F$72)^'SSI Inputs'!$F$73)*((Q28/'SSI Inputs'!$F$72)^'SSI Inputs'!$F$73))","v":6.4061388075216071E-7},null,{"$f":"SSI_AGI_PermFactor","v":1},null,false,false,false,false,1,null,{"$f":"IF(B28=\"Diverging\",\"\",'SSI Inputs'!$F$49)","v":""},1,null,null,null,1,null,1,null,{"$error":"#VALUE!"},null,null,"","","","","","",1,"","","","","","","","","",null,"","","","","","","",1,"","","","","","","","",null,null,25,"Diverging",0,0,0,0,null,0,0,0,0,null,0,0,0,0,null,0,0,0,0]
[26,"Diverging","NBT","MinT1","Signal near","NBR","MinR1","Signal near",null,{"$error":"#VALUE!"},{"$error":"#VALUE!"},{"$error":"#VALUE!"},null,{"$f":"VLOOKUP(E29,'SSI Inputs'!$B$49:$F$62,5,FALSE)","v":15},{"$f":"VLOOKUP(H29,'SSI Inputs'!$B$49:$F$62,5,FALSE)","v":15},{"$f":"IF(B29=\"Nonmotorized\",\"\",VLOOKUP(B29,'SSI Inputs'!$B$65:$F$69,5,FALSE))","v":10},1.3073361412148754,{"$f":"IF(B29=\"Nonmotorized\",1/(1+EXP(3.8432-0.1237*O29)),(Q29/'SSI Inputs'!$F$72)^'SSI Inputs'!$F$73+(Q29/'SSI Inputs'!$F$72)^'SSI Inputs'!$F$73-((Q29/'SSI Inputs'!$F$72)^'SSI Inputs'!$F$73)*((Q29/'SSI Inputs'!$F$72)^'SSI Inputs'!$F$73))","v":6.4061388075216071E-7},null,1,null,false,false,false,false,1,null,{"$f":"IF(B29=\"Diverging\",\"\",'SSI Inputs'!$F$49)","v":""},1,null,null,null,1,null,1,null,{"$error":"#VALUE!"},null,null,"","","","","","",1,"","","","","","","","","",null,"","","","","","","","",1,"","","","","","","",null,null,26,"Diverging",0,0,0,0,null,0,0,0,0,null,0,0,0,0,null,0,0,0,0]
[27,"Diverging","WBT","MajT2","Major thru","WBR","MajR2","Major right",null,{"$error":"#VALUE!"},{"$error":"#VALUE!"},{"$error":"#VALUE!"},null,{"$f":"VLOOKUP(E30,'SSI Inputs'!$B$49:$F$62,5,FALSE)","v":0},{"$f":"VLOOKUP(H30,'SSI Inputs'!$B$49:$F$62,5,FALSE)","v":15},{"$f":"IF(B30=\"Nonmotorized\",\"\",VLOOKUP(B30,'SSI Inputs'!$B$65:$F$69,5,FALSE))","v":10},7.5,{"$f":"IF(B30=\"Nonmotorized\",1/(1+EXP(3.8432-0.1237*O30)),(Q30/'SSI Inputs'!$F$72)^'SSI Inputs'!$F$73+(Q30/'SSI Inputs'!$F$72)^'SSI Inputs'!$F$73-((Q30/'SSI Inputs'!$F$72)^'SSI Inputs'!$F$73)*((Q30/'SSI Inputs'!$F$72)^'SSI Inputs'!$F$73))","v":4.8454301532720461E-4},null,1,null,false,false,false,false,1,null,{"$f":"IF(B30=\"Diverging\",\"\",'SSI Inputs'!$F$49)","v":""},1,null,null,null,1,null,1,null,{"$error":"#VALUE!"},null,null,"","","",1,"","","","","","","","","","","","",null,"","","","","",1,"","","","","","","","","","",null,null,27,"Diverging",0,0,0,0,null,0,0,0,0,null,0,0,0,0,null,0,0,0,0]
[28,"Diverging","WBT","MajT2","Major thru","WBL","MajL2","Major left",null,{"$error":"#VALUE!"},{"$error":"#VALUE!"},{"$error":"#VALUE!"},null,{"$f":"VLOOKUP(E31,'SSI Inputs'!$B$49:$F$62,5,FALSE)","v":0},{"$f":"VLOOKUP(H31,'SSI Inputs'!$B$49:$F$62,5,FALSE)","v":20},{"$f":"IF(B31=\"Nonmotorized\",\"\",VLOOKUP(B31,'SSI Inputs'!$B$65:$F$69,5,FALSE))","v":10},10,{"$f":"IF(B31=\"Nonmotorized\",1/(1+EXP(3.8432-0.1237*O31)),(Q31/'SSI Inputs'!$F$72)^'SSI Inputs'!$F$73+(Q31/'SSI Inputs'!$F$72)^'SSI Inputs'!$F$73-((Q31/'SSI Inputs'!$F$72)^'SSI Inputs'!$F$73)*((Q31/'SSI Inputs'!$F$72)^'SSI Inputs'!$F$73))","v":1.4431392232699444E-3},null,1,null,false,false,false,false,1,null,{"$f":"IF(B31=\"Diverging\",\"\",'SSI Inputs'!$F$49)","v":""},1,null,null,null,1,null,1,null,{"$error":"#VALUE!"},null,null,"","","",1,"","","","","","","","","","","","",null,"","","","",1,"","","","","","","","","","","",null,null,28,"Diverging",0,0,0,0,null,0,0,0,0,null,0,0,0,0,null,0,0,0,0]
[29,"Diverging","SBT","MinT2","Signal near","SBL","MinL2","Signal near",null,{"$error":"#VALUE!"},{"$error":"#VALUE!"},{"$error":"#VALUE!"},null,{"$f":"VLOOKUP(E32,'SSI Inputs'!$B$49:$F$62,5,FALSE)","v":15},{"$f":"VLOOKUP(H32,'SSI Inputs'!$B$49:$F$62,5,FALSE)","v":15},{"$f":"IF(B32=\"Nonmotorized\",\"\",VLOOKUP(B32,'SSI Inputs'!$B$65:$F$69,5,FALSE))","v":10},1.3073361412148754,{"$f":"IF(B32=\"Nonmotorized\",1/(1+EXP(3.8432-0.1237*O32)),(Q32/'SSI Inputs'!$F$72)^'SSI Inputs'!$F$73+(Q32/'SSI Inputs'!$F$72)^'SSI Inputs'!$F$73-((Q32/'SSI Inputs'!$F$72)^'SSI Inputs'!$F$73)*((Q32/'SSI Inputs'!$F$72)^'SSI Inputs'!$F$73))","v":6.4061388075216071E-7},null,1,null,false,false,false,false,1,null,{"$f":"IF(B32=\"Diverging\",\"\",'SSI Inputs'!$F$49)","v":""},1,null,null,null,1,null,1,null,{"$error":"#VALUE!"},null,null,"","","","","","","","","",1,"","","","","","",null,"","","","","","","","","","",1,"","","","","",null,null,29,"Diverging",0,0,0,0,null,0,0,0,0,null,0,0,0,0,null,0,0,0,0]
[30,"Diverging","SBT","MinT2","Signal near","SBR","MinR2","Signal near",null,{"$error":"#VALUE!"},{"$error":"#VALUE!"},{"$error":"#VALUE!"},null,{"$f":"VLOOKUP(E33,'SSI Inputs'!$B$49:$F$62,5,FALSE)","v":15},{"$f":"VLOOKUP(H33,'SSI Inputs'!$B$49:$F$62,5,FALSE)","v":15},{"$f":"IF(B33=\"Nonmotorized\",\"\",VLOOKUP(B33,'SSI Inputs'!$B$65:$F$69,5,FALSE))","v":10},1.3073361412148754,{"$f":"IF(B33=\"Nonmotorized\",1/(1+EXP(3.8432-0.1237*O33)),(Q33/'SSI Inputs'!$F$72)^'SSI Inputs'!$F$73+(Q33/'SSI Inputs'!$F$72)^'SSI Inputs'!$F$73-((Q33/'SSI Inputs'!$F$72)^'SSI Inputs'!$F$73)*((Q33/'SSI Inputs'!$F$72)^'SSI Inputs'!$F$73))","v":6.4061388075216071E-7},null,1,null,false,false,false,false,1,null,{"$f":"IF(B33=\"Diverging\",\"\",'SSI Inputs'!$F$49)","v":""},1,null,null,null,1,null,1,null,{"$error":"#VALUE!"},null,null,"","","","","","","","","",1,"","","","","","",null,"","","","","","","","","","","",1,"","","","",null,null,30,"Diverging",0,0,0,0,null,0,0,0,0,null,0,0,0,0,null,0,0,0,0]
[31,"Diverging","EBT","MajT1","Major thru","EBR","MajR1","Major right",null,{"$error":"#VALUE!"},{"$error":"#VALUE!"},{"$error":"#VALUE!"},null,{"$f":"VLOOKUP(E34,'SSI Inputs'!$B$49:$F$62,5,FALSE)","v":0},{"$f":"VLOOKUP(H34,'SSI Inputs'!$B$49:$F$62,5,FALSE)","v":15},{"$f":"IF(B34=\"Nonmotorized\",\"\",VLOOKUP(B34,'SSI Inputs'!$B$65:$F$69,5,FALSE))","v":10},7.5,{"$f":"IF(B34=\"Nonmotorized\",1/(1+EXP(3.8432-0.1237*O34)),(Q34/'SSI Inputs'!$F$72)^'SSI Inputs'!$F$73+(Q34/'SSI Inputs'!$F$72)^'SSI Inputs'!$F$73-((Q34/'SSI Inputs'!$F$72)^'SSI Inputs'!$F$73)*((Q34/'SSI Inputs'!$F$72)^'SSI Inputs'!$F$73))","v":4.8454301532720461E-4},null,1,null,false,false,false,false,1,null,{"$f":"IF(B34=\"Diverging\",\"\",'SSI Inputs'!$F$49)","v":""},1,null,null,null,1,null,1,null,{"$error":"#VALUE!"},null,null,1,"","","","","","","","","","","","","","","",null,"","",1,"","","","","","","","","","","","","",null,null,31,"Diverging",0,0,0,0,null,0,0,0,0,null,0,0,0,0,null,0,0,0,0]
[32,"Diverging","EBT","MajT1","Major thru","EBL","MajL1","Major left",null,{"$error":"#VALUE!"},{"$error":"#VALUE!"},{"$error":"#VALUE!"},null,{"$f":"VLOOKUP(E35,'SSI Inputs'!$B$49:$F$62,5,FALSE)","v":0},{"$f":"VLOOKUP(H35,'SSI Inputs'!$B$49:$F$62,5,FALSE)","v":20},{"$f":"IF(B35=\"Nonmotorized\",\"\",VLOOKUP(B35,'SSI Inputs'!$B$65:$F$69,5,FALSE))","v":10},10,{"$f":"IF(B35=\"Nonmotorized\",1/(1+EXP(3.8432-0.1237*O35)),(Q35/'SSI Inputs'!$F$72)^'SSI Inputs'!$F$73+(Q35/'SSI Inputs'!$F$72)^'SSI Inputs'!$F$73-((Q35/'SSI Inputs'!$F$72)^'SSI Inputs'!$F$73)*((Q35/'SSI Inputs'!$F$72)^'SSI Inputs'!$F$73))","v":1.4431392232699444E-3},null,1,null,false,false,false,false,1,null,{"$f":"IF(B35=\"Diverging\",\"\",'SSI Inputs'!$F$49)","v":""},1,null,null,null,1,null,1,null,{"$error":"#VALUE!"},null,null,{"$f":"IF(ISNUMBER(SEARCH(AN$3,$D35)),1,\"\")","v":1},"","","","","","","","","","","","","","","",null,{"$f":"IF(ISNUMBER(SEARCH(BE$3,$G35)),1,\"\")","v":""},1,"","","","","","","","","","","","","","",null,null,32,"Diverging",0,0,0,0,null,0,0,0,0,null,0,0,0,0,null,0,0,0,0]
[33,"Nonmotorized",null,"MajNM2","Nonmotorized",null,"MinR1","Signal near",null,{"$error":"#VALUE!"},{"$error":"#VALUE!"},{"$error":"#VALUE!"},null,{"$f":"VLOOKUP(E36,'SSI Inputs'!$B$49:$F$62,5,FALSE)","v":0},{"$f":"VLOOKUP(H36,'SSI Inputs'!$B$49:$F$62,5,FALSE)","v":15},{"$f":"IF(B36=\"Nonmotorized\",\"\",VLOOKUP(B36,'SSI Inputs'!$B$65:$F$69,5,FALSE))","v":""},{"$f":"IF(B36=\"Nonmotorized\",\"\",SQRT(N36^2+O36^2-2*N36*O36*COS(RADIANS(P36)))/2)","v":""},{"$f":"IF(B36=\"Nonmotorized\",1/(1+EXP(3.8432-0.1237*O36)),(Q36/'SSI Inputs'!$F$72)^'SSI Inputs'!$F$73+(Q36/'SSI Inputs'!$F$72)^'SSI Inputs'!$F$73-((Q36/'SSI Inputs'!$F$72)^'SSI Inputs'!$F$73)*((Q36/'SSI Inputs'!$F$72)^'SSI Inputs'!$F$73))","v":0.1205004039155782},null,{"$f":"SSI_AGI_ProtFactor","v":0.505},null,{"$f":"IF(AND(SS_AGI_MajMedian=\"No\", SS_AGI_MinMedian=\"No\"),BY36,IF(AND(SS_AGI_MajMedian=\"Yes\",SS_AGI_MinMedian=\"No\"),CD36,IF(AND(SS_AGI_MajMedian=\"No\",SS_AGI_MinMedian=\"Yes\"),CI36,IF(AND(SS_AGI_MajMedian=\"Yes\",SS_AGI_MinMedian=\"Yes\"),CN36))))","v":false},{"$f":"IF(AND(SS_AGI_MajMedian=\"No\", SS_AGI_MinMedian=\"No\"),BZ36,IF(AND(SS_AGI_MajMedian=\"Yes\",SS_AGI_MinMedian=\"No\"),CE36,IF(AND(SS_AGI_MajMedian=\"No\",SS_AGI_MinMedian=\"Yes\"),CJ36,IF(AND(SS_AGI_MajMedian=\"Yes\",SS_AGI_MinMedian=\"Yes\"),CO36))))","v":false},{"$f":"IF(AND(SS_AGI_MajMedian=\"No\", SS_AGI_MinMedian=\"No\"),CA36,IF(AND(SS_AGI_MajMedian=\"Yes\",SS_AGI_MinMedian=\"No\"),CF36,IF(AND(SS_AGI_MajMedian=\"No\",SS_AGI_MinMedian=\"Yes\"),CK36,IF(AND(SS_AGI_MajMedian=\"Yes\",SS_AGI_MinMedian=\"Yes\"),CP36))))","v":false},{"$f":"IF(AND(SS_AGI_MajMedian=\"No\", SS_AGI_MinMedian=\"No\"),CB36,IF(AND(SS_AGI_MajMedian=\"Yes\",SS_AGI_MinMedian=\"No\"),CG36,IF(AND(SS_AGI_MajMedian=\"No\",SS_AGI_MinMedian=\"Yes\"),CL36,IF(AND(SS_AGI_MajMedian=\"Yes\",SS_AGI_MinMedian=\"Yes\"),CQ36))))","v":false},{"$f":"MAX(1,IF(B36<>\"Pedestrian\",V36*SSI_AGI_MajorThruLanes+W36*SSI_AGI_MinorThruLanes+X36*IF(SSI_AGI_MajorThruLanes=1,SSI_AGI_MergeWeightL1,IF(SSI_AGI_MajorThruLanes=2,SSI_AGI_MergeWeightL1+SSI_AGI_MergeWeightL2,SSI_AGI_MergeWeightL1+SSI_AGI_MergeWeightL2+SSI_AGI_MergeWeightL3*(SSI_AGI_MajorThruLanes-2)))+Y36*IF(SSI_AGI_MinorThruLanes=1,SSI_AGI_MergeWeightL1,IF(SSI_AGI_MinorThruLanes=2,SSI_AGI_MergeWeightL1+SSI_AGI_MergeWeightL2,SSI_AGI_MergeWeightL1+SSI_AGI_MergeWeightL2+SSI_AGI_MergeWeightL3*(SSI_AGI_MinorThruLanes-2))),V36*SSI_AGI_MajorThruLanes+W36*SSI_AGI_MinorThruLanes+X36*IF(SSI_AGI_MajorThruLanes=1,SSI_AGI_NM_MergeWeightL1,IF(SSI_AGI_MajorThruLanes=2,SSI_AGI_NM_MergeWeightL1+SSI_AGI_NM_MergeWeightL2,SSI_AGI_NM_MergeWeightL1+SSI_AGI_NM_MergeWeightL2+SSI_AGI_NM_MergeWeightL3*(SSI_AGI_MajorThruLanes-2)))+Y36*IF(SSI_AGI_MinorThruLanes=1,SSI_AGI_NM_MergeWeightL1,IF(SSI_AGI_MinorThruLanes=2,SSI_AGI_NM_MergeWeightL1+SSI_AGI_NM_MergeWeightL2,SSI_AGI_NM_MergeWeightL1+SSI_AGI_NM_MergeWeightL2+SSI_AGI_NM_MergeWeightL3*(SSI_AGI_MinorThruLanes-2)))))","v":1},null,{"$f":"IF(B36=\"Diverging\",\"\",'SSI Inputs'!$F$49)","v":0},0.33333333333333326,null,null,null,1,null,0.16833333333333331,null,{"$error":"#VALUE!"},null,null,"","","","","","","","","","","","","",1,"","",null,"","","","","","","","",1,"","","","","","","",null,null,33,"Nonmotorized",2,0,0,2,null,1,0,0,2,null,2,0,0,2,null,1,0,0,2]
[34,"Nonmotorized",null,"MajNM2","Nonmotorized",null,"MajT1","Major thru",null,{"$error":"#VALUE!"},{"$error":"#VALUE!"},{"$f":"PRODUCT(J37:K37)","v":{"$error":"#VALUE!"}},null,{"$f":"VLOOKUP(E37,'SSI Inputs'!$B$49:$F$62,5,FALSE)","v":0},{"$f":"VLOOKUP(H37,'SSI Inputs'!$B$49:$F$62,5,FALSE)","v":0},{"$f":"IF(B37=\"Nonmotorized\",\"\",VLOOKUP(B37,'SSI Inputs'!$B$65:$F$69,5,FALSE))","v":""},"",{"$f":"IF(B37=\"Nonmotorized\",1/(1+EXP(3.8432-0.1237*O37)),(Q37/'SSI Inputs'!$F$72)^'SSI Inputs'!$F$73+(Q37/'SSI Inputs'!$F$72)^'SSI Inputs'!$F$73-((Q37/'SSI Inputs'!$F$72)^'SSI Inputs'!$F$73)*((Q37/'SSI Inputs'!$F$72)^'SSI Inputs'!$F$73))","v":2.0975532400616122E-2},null,{"$f":"SSI_AGI_ProtFactor","v":0.505},null,false,false,false,false,1,null,{"$f":"IF(B37=\"Diverging\",\"\",'SSI Inputs'!$F$49)","v":0},0.33333333333333326,null,null,null,1,null,0.16833333333333331,null,{"$error":"#VALUE!"},null,null,"","","","","","","","","","","","","",1,"","",null,1,"","","","","","","","","","","","","","","",null,null,34,"Nonmotorized",2,0,0,2,null,1,0,0,2,null,2,0,0,2,null,1,0,0,2]
[35,"Nonmotorized",null,"MajNM2","Nonmotorized",null,"MinL2","Signal far",null,{"$error":"#VALUE!"},{"$error":"#VALUE!"},{"$error":"#VALUE!"},null,{"$f":"VLOOKUP(E38,'SSI Inputs'!$B$49:$F$62,5,FALSE)","v":0},{"$f":"VLOOKUP(H38,'SSI Inputs'!$B$49:$F$62,5,FALSE)","v":25},{"$f":"IF(B38=\"Nonmotorized\",\"\",VLOOKUP(B38,'SSI Inputs'!$B$65:$F$69,5,FALSE))","v":""},"",{"$f":"IF(B38=\"Nonmotorized\",1/(1+EXP(3.8432-0.1237*O38)),(Q38/'SSI Inputs'!$F$72)^'SSI Inputs'!$F$73+(Q38/'SSI Inputs'!$F$72)^'SSI Inputs'!$F$73-((Q38/'SSI Inputs'!$F$72)^'SSI Inputs'!$F$73)*((Q38/'SSI Inputs'!$F$72)^'SSI Inputs'!$F$73))","v":0.32066879346345062},null,{"$f":"IF(SSI_AGI_MinorLTPhase=\"Protected/permitted\",SSI_AGI_ProtPermFactor,IF(SSI_AGI_MinorLTPhase=\"Protected\",SSI_AGI_ProtFactor,SSI_AGI_PermFactor))","v":0.92500000000000004},null,false,false,false,false,1,null,{"$f":"IF(B38=\"Diverging\",\"\",'SSI Inputs'!$F$49)","v":0},0.33333333333333326,null,null,null,1,null,0.30833333333333329,null,{"$error":"#VALUE!"},null,null,"","","","","","","","","","","","","",1,"","",null,"","","","","","","","","","",1,"","","","","",null,null,35,"Nonmotorized",2,0,0,2,null,1,0,0,2,null,2,0,0,2,null,1,0,0,2]
[36,"Nonmotorized",null,"MajNM2","Nonmotorized",null,"MajL2","Major left",null,{"$error":"#VALUE!"},{"$error":"#VALUE!"},{"$error":"#VALUE!"},null,{"$f":"VLOOKUP(E39,'SSI Inputs'!$B$49:$F$62,5,FALSE)","v":0},{"$f":"VLOOKUP(H39,'SSI Inputs'!$B$49:$F$62,5,FALSE)","v":20},{"$f":"IF(B39=\"Nonmotorized\",\"\",VLOOKUP(B39,'SSI Inputs'!$B$65:$F$69,5,FALSE))","v":""},"",{"$f":"IF(B39=\"Nonmotorized\",1/(1+EXP(3.8432-0.1237*O39)),(Q39/'SSI Inputs'!$F$72)^'SSI Inputs'!$F$73+(Q39/'SSI Inputs'!$F$72)^'SSI Inputs'!$F$73-((Q39/'SSI Inputs'!$F$72)^'SSI Inputs'!$F$73)*((Q39/'SSI Inputs'!$F$72)^'SSI Inputs'!$F$73))","v":0.20274912921655375},null,{"$f":"SSI_AGI_ProtFactor","v":0.505},null,false,false,false,false,1,null,{"$f":"IF(B39=\"Diverging\",\"\",'SSI Inputs'!$F$49)","v":0},0.33333333333333326,null,null,null,1,null,0.16833333333333331,null,{"$error":"#VALUE!"},null,null,"","","","","","","","","","","","","",1,"","",null,"","","","",1,"","","","","","","","","","","",null,null,36,"Nonmotorized",2,0,0,2,null,1,0,0,0,null,2,0,0,2,null,1,0,0,0]
[37,"Nonmotorized",null,"MajNM2","Nonmotorized",null,"MajT2","Major thru",null,{"$error":"#VALUE!"},{"$error":"#VALUE!"},{"$error":"#VALUE!"},null,{"$f":"VLOOKUP(E40,'SSI Inputs'!$B$49:$F$62,5,FALSE)","v":0},{"$f":"VLOOKUP(H40,'SSI Inputs'!$B$49:$F$62,5,FALSE)","v":0},{"$f":"IF(B40=\"Nonmotorized\",\"\",VLOOKUP(B40,'SSI Inputs'!$B$65:$F$69,5,FALSE))","v":""},"",{"$f":"IF(B40=\"Nonmotorized\",1/(1+EXP(3.8432-0.1237*O40)),(Q40/'SSI Inputs'!$F$72)^'SSI Inputs'!$F$73+(Q40/'SSI Inputs'!$F$72)^'SSI Inputs'!$F$73-((Q40/'SSI Inputs'!$F$72)^'SSI Inputs'!$F$73)*((Q40/'SSI Inputs'!$F$72)^'SSI Inputs'!$F$73))","v":2.0975532400616122E-2},null,{"$f":"SSI_AGI_ProtFactor","v":0.505},null,false,false,false,false,1,null,{"$f":"IF(B40=\"Diverging\",\"\",'SSI Inputs'!$F$49)","v":0},0.33333333333333326,null,null,null,1,null,0.16833333333333331,null,{"$error":"#VALUE!"},null,null,"","","","","","","","","","","","","",1,"","",null,"","","",1,"","","","","","","","","","","","",null,null,37,"Nonmotorized",2,0,0,2,null,1,0,0,0,null,2,0,0,2,null,1,0,0,0]
[38,"Nonmotorized",null,"MajNM2","Nonmotorized",null,"MajR2","Major right",null,{"$error":"#VALUE!"},{"$error":"#VALUE!"},{"$error":"#VALUE!"},null,{"$f":"VLOOKUP(E41,'SSI Inputs'!$B$49:$F$62,5,FALSE)","v":0},{"$f":"VLOOKUP(H41,'SSI Inputs'!$B$49:$F$62,5,FALSE)","v":15},{"$f":"IF(B41=\"Nonmotorized\",\"\",VLOOKUP(B41,'SSI Inputs'!$B$65:$F$69,5,FALSE))","v":""},"",{"$f":"IF(B41=\"Nonmotorized\",1/(1+EXP(3.8432-0.1237*O41)),(Q41/'SSI Inputs'!$F$72)^'SSI Inputs'!$F$73+(Q41/'SSI Inputs'!$F$72)^'SSI Inputs'!$F$73-((Q41/'SSI Inputs'!$F$72)^'SSI Inputs'!$F$73)*((Q41/'SSI Inputs'!$F$72)^'SSI Inputs'!$F$73))","v":0.1205004039155782},null,{"$f":"SSI_AGI_ProtFactor","v":0.505},null,false,false,false,false,1,null,{"$f":"IF(B41=\"Diverging\",\"\",'SSI Inputs'!$F$49)","v":0},0.33333333333333326,null,null,null,1,null,0.16833333333333331,null,{"$error":"#VALUE!"},null,null,"","","","","","","","","","","","","",1,"","",null,"","","","","",1,"","","","","","","","","","",null,null,38,"Nonmotorized",2,0,0,2,null,1,0,0,0,null,2,0,0,2,null,1,0,0,0]
[39,"Nonmotorized",null,"MinNM2","Nonmotorized",null,"MajR2","Major right",null,{"$error":"#VALUE!"},{"$error":"#VALUE!"},{"$error":"#VALUE!"},null,{"$f":"VLOOKUP(E42,'SSI Inputs'!$B$49:$F$62,5,FALSE)","v":0},{"$f":"VLOOKUP(H42,'SSI Inputs'!$B$49:$F$62,5,FALSE)","v":15},{"$f":"IF(B42=\"Nonmotorized\",\"\",VLOOKUP(B42,'SSI Inputs'!$B$65:$F$69,5,FALSE))","v":""},"",{"$f":"IF(B42=\"Nonmotorized\",1/(1+EXP(3.8432-0.1237*O42)),(Q42/'SSI Inputs'!$F$72)^'SSI Inputs'!$F$73+(Q42/'SSI Inputs'!$F$72)^'SSI Inputs'!$F$73-((Q42/'SSI Inputs'!$F$72)^'SSI Inputs'!$F$73)*((Q42/'SSI Inputs'!$F$72)^'SSI Inputs'!$F$73))","v":0.1205004039155782},null,{"$f":"SSI_AGI_ProtFactor","v":0.505},null,false,false,false,false,1,null,{"$f":"IF(B42=\"Diverging\",\"\",'SSI Inputs'!$F$49)","v":0},0.33333333333333326,null,null,null,1,null,0.16833333333333331,null,{"$error":"#VALUE!"},null,null,"","","","","","","","","","","","","","","",1,null,"","","","","",1,"","","","","","","","","","",null,null,39,"Nonmotorized",0,2,2,0,null,0,2,2,0,null,0,2,1,0,null,0,2,1,0]
[40,"Nonmotorized",null,"MinNM2","Nonmotorized",null,"MinT1","Signal far",null,{"$error":"#VALUE!"},{"$error":"#VALUE!"},{"$error":"#VALUE!"},null,{"$f":"VLOOKUP(E43,'SSI Inputs'!$B$49:$F$62,5,FALSE)","v":0},{"$f":"VLOOKUP(H43,'SSI Inputs'!$B$49:$F$62,5,FALSE)","v":25},{"$f":"IF(B43=\"Nonmotorized\",\"\",VLOOKUP(B43,'SSI Inputs'!$B$65:$F$69,5,FALSE))","v":""},"",{"$f":"IF(B43=\"Nonmotorized\",1/(1+EXP(3.8432-0.1237*O43)),(Q43/'SSI Inputs'!$F$72)^'SSI Inputs'!$F$73+(Q43/'SSI Inputs'!$F$72)^'SSI Inputs'!$F$73-((Q43/'SSI Inputs'!$F$72)^'SSI Inputs'!$F$73)*((Q43/'SSI Inputs'!$F$72)^'SSI Inputs'!$F$73))","v":0.32066879346345062},null,{"$f":"SSI_AGI_ProtFactor","v":0.505},null,false,false,false,false,1,null,{"$f":"IF(B43=\"Diverging\",\"\",'SSI Inputs'!$F$49)","v":0},0.33333333333333326,null,null,null,1,null,0.16833333333333331,null,{"$error":"#VALUE!"},null,null,"","","","","","","","","","","","","","","",1,null,"","","","","","",1,"","","","","","","","","",null,null,40,"Nonmotorized",0,2,2,0,null,0,2,2,0,null,0,2,1,0,null,0,2,1,0]
[41,"Nonmotorized",null,"MinNM2","Nonmotorized",null,"MajL1","Major left",null,{"$error":"#VALUE!"},{"$error":"#VALUE!"},{"$error":"#VALUE!"},null,{"$f":"VLOOKUP(E44,'SSI Inputs'!$B$49:$F$62,5,FALSE)","v":0},{"$f":"VLOOKUP(H44,'SSI Inputs'!$B$49:$F$62,5,FALSE)","v":20},{"$f":"IF(B44=\"Nonmotorized\",\"\",VLOOKUP(B44,'SSI Inputs'!$B$65:$F$69,5,FALSE))","v":""},"",{"$f":"IF(B44=\"Nonmotorized\",1/(1+EXP(3.8432-0.1237*O44)),(Q44/'SSI Inputs'!$F$72)^'SSI Inputs'!$F$73+(Q44/'SSI Inputs'!$F$72)^'SSI Inputs'!$F$73-((Q44/'SSI Inputs'!$F$72)^'SSI Inputs'!$F$73)*((Q44/'SSI Inputs'!$F$72)^'SSI Inputs'!$F$73))","v":0.20274912921655375},null,{"$f":"IF(SSI_AGI_MajorLTPhase=\"Protected/permitted\",SSI_AGI_ProtPermFactor,IF(SSI_AGI_MajorLTPhase=\"Protected\",SSI_AGI_ProtFactor,SSI_AGI_PermFactor))","v":0.92500000000000004},null,false,false,false,false,1,null,{"$f":"IF(B44=\"Diverging\",\"\",'SSI Inputs'!$F$49)","v":0},0.33333333333333326,null,null,null,1,null,0.30833333333333329,null,{"$error":"#VALUE!"},null,null,"","","","","","","","","","","","","","","",1,null,"",1,"","","","","","","","","","","","","","",null,null,41,"Nonmotorized",0,2,2,0,null,0,2,2,0,null,0,2,1,0,null,0,2,1,0]
[42,"Nonmotorized",null,"MinNM2","Nonmotorized",null,"MinL2","Signal near",null,{"$error":"#VALUE!"},{"$error":"#VALUE!"},{"$error":"#VALUE!"},null,{"$f":"VLOOKUP(E45,'SSI Inputs'!$B$49:$F$62,5,FALSE)","v":0},{"$f":"VLOOKUP(H45,'SSI Inputs'!$B$49:$F$62,5,FALSE)","v":15},{"$f":"IF(B45=\"Nonmotorized\",\"\",VLOOKUP(B45,'SSI Inputs'!$B$65:$F$69,5,FALSE))","v":""},"",{"$f":"IF(B45=\"Nonmotorized\",1/(1+EXP(3.8432-0.1237*O45)),(Q45/'SSI Inputs'!$F$72)^'SSI Inputs'!$F$73+(Q45/'SSI Inputs'!$F$72)^'SSI Inputs'!$F$73-((Q45/'SSI Inputs'!$F$72)^'SSI Inputs'!$F$73)*((Q45/'SSI Inputs'!$F$72)^'SSI Inputs'!$F$73))","v":0.1205004039155782},null,{"$f":"SSI_AGI_ProtFactor","v":0.505},null,false,false,false,false,1,null,{"$f":"IF(B45=\"Diverging\",\"\",'SSI Inputs'!$F$49)","v":0},0.33333333333333326,null,null,null,1,null,0.16833333333333331,null,{"$error":"#VALUE!"},null,null,"","","","","","","","","","","","","","","",1,null,"","","","","","","","","","",1,"","","","","",null,null,42,"Nonmotorized",0,2,2,0,null,0,2,2,0,null,0,0,1,0,null,0,0,1,0]
[43,"Nonmotorized",null,"MinNM2","Nonmotorized",null,"MinT2","Signal near",null,{"$error":"#VALUE!"},{"$error":"#VALUE!"},{"$error":"#VALUE!"},null,{"$f":"VLOOKUP(E46,'SSI Inputs'!$B$49:$F$62,5,FALSE)","v":0},{"$f":"VLOOKUP(H46,'SSI Inputs'!$B$49:$F$62,5,FALSE)","v":15},{"$f":"IF(B46=\"Nonmotorized\",\"\",VLOOKUP(B46,'SSI Inputs'!$B$65:$F$69,5,FALSE))","v":""},"",{"$f":"IF(B46=\"Nonmotorized\",1/(1+EXP(3.8432-0.1237*O46)),(Q46/'SSI Inputs'!$F$72)^'SSI Inputs'!$F$73+(Q46/'SSI Inputs'!$F$72)^'SSI Inputs'!$F$73-((Q46/'SSI Inputs'!$F$72)^'SSI Inputs'!$F$73)*((Q46/'SSI Inputs'!$F$72)^'SSI Inputs'!$F$73))","v":0.1205004039155782},null,{"$f":"SSI_AGI_ProtFactor","v":0.505},null,false,false,false,false,1,null,{"$f":"IF(B46=\"Diverging\",\"\",'SSI Inputs'!$F$49)","v":0},0.33333333333333326,null,null,null,1,null,0.16833333333333331,null,{"$error":"#VALUE!"},null,null,"","","","","","","","","","","","","","","",1,null,"","","","","","","","","",1,"","","","","","",null,null,43,"Nonmotorized",0,2,2,0,null,0,2,2,0,null,0,0,1,0,null,0,0,1,0]
[44,"Nonmotorized",null,"MinNM2","Nonmotorized",null,"MinR2","Signal near",null,{"$error":"#VALUE!"},{"$error":"#VALUE!"},{"$error":"#VALUE!"},null,{"$f":"VLOOKUP(E47,'SSI Inputs'!$B$49:$F$62,5,FALSE)","v":0},{"$f":"VLOOKUP(H47,'SSI Inputs'!$B$49:$F$62,5,FALSE)","v":15},{"$f":"IF(B47=\"Nonmotorized\",\"\",VLOOKUP(B47,'SSI Inputs'!$B$65:$F$69,5,FALSE))","v":""},"",{"$f":"IF(B47=\"Nonmotorized\",1/(1+EXP(3.8432-0.1237*O47)),(Q47/'SSI Inputs'!$F$72)^'SSI Inputs'!$F$73+(Q47/'SSI Inputs'!$F$72)^'SSI Inputs'!$F$73-((Q47/'SSI Inputs'!$F$72)^'SSI Inputs'!$F$73)*((Q47/'SSI Inputs'!$F$72)^'SSI Inputs'!$F$73))","v":0.1205004039155782},null,{"$f":"SSI_AGI_ProtFactor","v":0.505},null,false,false,false,false,1,null,{"$f":"IF(B47=\"Diverging\",\"\",'SSI Inputs'!$F$49)","v":0},0.33333333333333326,null,null,null,1,null,0.16833333333333331,null,{"$error":"#VALUE!"},null,null,"","","","","","","","","","","","","","","",1,null,"","","","","","","","","","","",1,"","","","",null,null,44,"Nonmotorized",0,2,2,0,null,0,2,2,0,null,0,0,1,0,null,0,0,1,0]
[45,"Nonmotorized",null,"MajNM1","Nonmotorized",null,"MinR2","Signal near",null,{"$error":"#VALUE!"},{"$error":"#VALUE!"},{"$error":"#VALUE!"},null,{"$f":"VLOOKUP(E48,'SSI Inputs'!$B$49:$F$62,5,FALSE)","v":0},{"$f":"VLOOKUP(H48,'SSI Inputs'!$B$49:$F$62,5,FALSE)","v":15},{"$f":"IF(B48=\"Nonmotorized\",\"\",VLOOKUP(B48,'SSI Inputs'!$B$65:$F$69,5,FALSE))","v":""},"",{"$f":"IF(B48=\"Nonmotorized\",1/(1+EXP(3.8432-0.1237*O48)),(Q48/'SSI Inputs'!$F$72)^'SSI Inputs'!$F$73+(Q48/'SSI Inputs'!$F$72)^'SSI Inputs'!$F$73-((Q48/'SSI Inputs'!$F$72)^'SSI Inputs'!$F$73)*((Q48/'SSI Inputs'!$F$72)^'SSI Inputs'!$F$73))","v":0.1205004039155782},null,{"$f":"SSI_AGI_ProtFactor","v":0.505},null,false,false,false,false,1,null,{"$f":"IF(B48=\"Diverging\",\"\",'SSI Inputs'!$F$49)","v":0},0.33333333333333326,null,null,null,1,null,0.16833333333333331,null,{"$error":"#VALUE!"},null,null,"","","","","","","","","","","","",1,"","","",null,"","","","","","","","","","","",1,"","","","",null,null,45,"Nonmotorized",2,0,0,2,null,1,0,0,2,null,2,0,0,2,null,1,0,0,2]
[46,"Nonmotorized",null,"MajNM1","Nonmotorized",null,"MajT2","Major thru",null,{"$error":"#VALUE!"},{"$error":"#VALUE!"},{"$error":"#VALUE!"},null,{"$f":"VLOOKUP(E49,'SSI Inputs'!$B$49:$F$62,5,FALSE)","v":0},{"$f":"VLOOKUP(H49,'SSI Inputs'!$B$49:$F$62,5,FALSE)","v":0},{"$f":"IF(B49=\"Nonmotorized\",\"\",VLOOKUP(B49,'SSI Inputs'!$B$65:$F$69,5,FALSE))","v":""},"",{"$f":"IF(B49=\"Nonmotorized\",1/(1+EXP(3.8432-0.1237*O49)),(Q49/'SSI Inputs'!$F$72)^'SSI Inputs'!$F$73+(Q49/'SSI Inputs'!$F$72)^'SSI Inputs'!$F$73-((Q49/'SSI Inputs'!$F$72)^'SSI Inputs'!$F$73)*((Q49/'SSI Inputs'!$F$72)^'SSI Inputs'!$F$73))","v":2.0975532400616122E-2},null,{"$f":"SSI_AGI_ProtFactor","v":0.505},null,false,false,false,false,1,null,{"$f":"IF(B49=\"Diverging\",\"\",'SSI Inputs'!$F$49)","v":0},0.33333333333333326,null,null,null,1,null,0.16833333333333331,null,{"$error":"#VALUE!"},null,null,"","","","","","","","","","","","",1,"","","",null,"","","",1,"","","","","","","","","","","","",null,null,46,"Nonmotorized",2,0,0,2,null,1,0,0,2,null,2,0,0,2,null,1,0,0,2]
[47,"Nonmotorized",null,"MajNM1","Nonmotorized",null,"MinL1","Signal far",null,{"$error":"#VALUE!"},{"$error":"#VALUE!"},{"$error":"#VALUE!"},null,{"$f":"VLOOKUP(E50,'SSI Inputs'!$B$49:$F$62,5,FALSE)","v":0},{"$f":"VLOOKUP(H50,'SSI Inputs'!$B$49:$F$62,5,FALSE)","v":25},{"$f":"IF(B50=\"Nonmotorized\",\"\",VLOOKUP(B50,'SSI Inputs'!$B$65:$F$69,5,FALSE))","v":""},"",{"$f":"IF(B50=\"Nonmotorized\",1/(1+EXP(3.8432-0.1237*O50)),(Q50/'SSI Inputs'!$F$72)^'SSI Inputs'!$F$73+(Q50/'SSI Inputs'!$F$72)^'SSI Inputs'!$F$73-((Q50/'SSI Inputs'!$F$72)^'SSI Inputs'!$F$73)*((Q50/'SSI Inputs'!$F$72)^'SSI Inputs'!$F$73))","v":0.32066879346345062},null,{"$f":"IF(SSI_AGI_MinorLTPhase=\"Protected/permitted\",SSI_AGI_ProtPermFactor,IF(SSI_AGI_MinorLTPhase=\"Protected\",SSI_AGI_ProtFactor,SSI_AGI_PermFactor))","v":0.92500000000000004},null,false,false,false,false,1,null,{"$f":"IF(B50=\"Diverging\",\"\",'SSI Inputs'!$F$49)","v":0},0.33333333333333326,null,null,null,1,null,0.30833333333333329,null,{"$error":"#VALUE!"},null,null,"","","","","","","","","","","","",1,"","",{"$f":"IF(ISNUMBER(SEARCH(BC$3,$D50)),1,\"\")","v":""},null,"","","","","","","",1,"","","","","","","",{"$f":"IF(ISNUMBER(SEARCH(BT$3,$G50)),1,\"\")","v":""},null,null,47,"Nonmotorized",2,0,0,2,null,1,0,0,2,null,2,0,0,2,null,1,0,0,2]
[48,"Nonmotorized",null,"MajNM1","Nonmotorized",null,"MajL1","Major left",null,{"$error":"#VALUE!"},{"$error":"#VALUE!"},{"$error":"#VALUE!"},null,{"$f":"VLOOKUP(E51,'SSI Inputs'!$B$49:$F$62,5,FALSE)","v":0},{"$f":"VLOOKUP(H51,'SSI Inputs'!$B$49:$F$62,5,FALSE)","v":20},{"$f":"IF(B51=\"Nonmotorized\",\"\",VLOOKUP(B51,'SSI Inputs'!$B$65:$F$69,5,FALSE))","v":""},"",{"$f":"IF(B51=\"Nonmotorized\",1/(1+EXP(3.8432-0.1237*O51)),(Q51/'SSI Inputs'!$F$72)^'SSI Inputs'!$F$73+(Q51/'SSI Inputs'!$F$72)^'SSI Inputs'!$F$73-((Q51/'SSI Inputs'!$F$72)^'SSI Inputs'!$F$73)*((Q51/'SSI Inputs'!$F$72)^'SSI Inputs'!$F$73))","v":0.20274912921655375},null,{"$f":"SSI_AGI_ProtFactor","v":0.505},null,false,false,false,false,1,null,{"$f":"IF(B51=\"Diverging\",\"\",'SSI Inputs'!$F$49)","v":0},0.33333333333333326,null,null,null,1,null,0.16833333333333331,null,{"$error":"#VALUE!"},null,null,{"$f":"IF(ISNUMBER(SEARCH(AN$3,$D51)),1,\"\")","v":""},"","","","","","","","","","","",1,"","","",null,{"$f":"IF(ISNUMBER(SEARCH(BE$3,$G51)),1,\"\")","v":""},1,"","","","","","","","","","","","","","",null,null,48,"Nonmotorized",2,0,0,2,null,1,0,0,0,null,2,0,0,2,null,1,0,0,0]
[49,"Nonmotorized",null,"MajNM1","Nonmotorized",null,"MajT1","Major thru",null,{"$error":"#VALUE!"},{"$error":"#VALUE!"},{"$error":"#VALUE!"},null,{"$f":"VLOOKUP(E52,'SSI Inputs'!$B$49:$F$62,5,FALSE)","v":0},{"$f":"VLOOKUP(H52,'SSI Inputs'!$B$49:$F$62,5,FALSE)","v":0},{"$f":"IF(B52=\"Nonmotorized\",\"\",VLOOKUP(B52,'SSI Inputs'!$B$65:$F$69,5,FALSE))","v":""},"",{"$f":"IF(B52=\"Nonmotorized\",1/(1+EXP(3.8432-0.1237*O52)),(Q52/'SSI Inputs'!$F$72)^'SSI Inputs'!$F$73+(Q52/'SSI Inputs'!$F$72)^'SSI Inputs'!$F$73-((Q52/'SSI Inputs'!$F$72)^'SSI Inputs'!$F$73)*((Q52/'SSI Inputs'!$F$72)^'SSI Inputs'!$F$73))","v":2.0975532400616122E-2},null,{"$f":"SSI_AGI_ProtFactor","v":0.505},null,false,false,false,false,1,null,{"$f":"IF(B52=\"Diverging\",\"\",'SSI Inputs'!$F$49)","v":0},0.33333333333333326,null,null,null,1,null,0.16833333333333331,null,{"$error":"#VALUE!"},null,null,"","","","","","","","","","","","",1,"","","",null,1,"","","","","","","","","","","","","","","",null,null,49,"Nonmotorized",2,0,0,2,null,1,0,0,0,null,2,0,0,2,null,1,0,0,0]
[50,"Nonmotorized",null,"MajNM1","Nonmotorized",null,"MajR1","Major right",null,{"$error":"#VALUE!"},{"$error":"#VALUE!"},{"$error":"#VALUE!"},null,{"$f":"VLOOKUP(E53,'SSI Inputs'!$B$49:$F$62,5,FALSE)","v":0},{"$f":"VLOOKUP(H53,'SSI Inputs'!$B$49:$F$62,5,FALSE)","v":15},{"$f":"IF(B53=\"Nonmotorized\",\"\",VLOOKUP(B53,'SSI Inputs'!$B$65:$F$69,5,FALSE))","v":""},"",{"$f":"IF(B53=\"Nonmotorized\",1/(1+EXP(3.8432-0.1237*O53)),(Q53/'SSI Inputs'!$F$72)^'SSI Inputs'!$F$73+(Q53/'SSI Inputs'!$F$72)^'SSI Inputs'!$F$73-((Q53/'SSI Inputs'!$F$72)^'SSI Inputs'!$F$73)*((Q53/'SSI Inputs'!$F$72)^'SSI Inputs'!$F$73))","v":0.1205004039155782},null,{"$f":"SSI_AGI_ProtFactor","v":0.505},null,false,false,false,false,1,null,{"$f":"IF(B53=\"Diverging\",\"\",'SSI Inputs'!$F$49)","v":0},0.33333333333333326,null,null,null,1,null,0.16833333333333331,null,{"$error":"#VALUE!"},null,null,"","","","","","","","","","","","",1,"","","",null,"","",1,"","","","","","","","","","","","","",null,null,50,"Nonmotorized",2,0,0,2,null,1,0,0,0,null,2,0,0,2,null,1,0,0,0]
[51,"Nonmotorized",null,"MinNM1","Nonmotorized",null,"MajR1","Major right",null,{"$error":"#VALUE!"},{"$error":"#VALUE!"},{"$error":"#VALUE!"},null,{"$f":"VLOOKUP(E54,'SSI Inputs'!$B$49:$F$62,5,FALSE)","v":0},{"$f":"VLOOKUP(H54,'SSI Inputs'!$B$49:$F$62,5,FALSE)","v":15},{"$f":"IF(B54=\"Nonmotorized\",\"\",VLOOKUP(B54,'SSI Inputs'!$B$65:$F$69,5,FALSE))","v":""},"",{"$f":"IF(B54=\"Nonmotorized\",1/(1+EXP(3.8432-0.1237*O54)),(Q54/'SSI Inputs'!$F$72)^'SSI Inputs'!$F$73+(Q54/'SSI Inputs'!$F$72)^'SSI Inputs'!$F$73-((Q54/'SSI Inputs'!$F$72)^'SSI Inputs'!$F$73)*((Q54/'SSI Inputs'!$F$72)^'SSI Inputs'!$F$73))","v":0.1205004039155782},null,{"$f":"SSI_AGI_ProtFactor","v":0.505},null,false,false,false,false,1,null,{"$f":"IF(B54=\"Diverging\",\"\",'SSI Inputs'!$F$49)","v":0},0.33333333333333326,null,null,null,1,null,0.16833333333333331,null,{"$error":"#VALUE!"},null,null,"","","","","","","","","","","","","","",1,"",null,"","",1,"","","","","","","","","","","","","",null,null,51,"Nonmotorized",0,2,2,0,null,0,2,2,0,null,0,2,1,0,null,0,2,1,0]
[52,"Nonmotorized",null,"MinNM1","Nonmotorized",null,"MinT2","Signal far",null,{"$error":"#VALUE!"},{"$error":"#VALUE!"},{"$error":"#VALUE!"},null,{"$f":"VLOOKUP(E55,'SSI Inputs'!$B$49:$F$62,5,FALSE)","v":0},{"$f":"VLOOKUP(H55,'SSI Inputs'!$B$49:$F$62,5,FALSE)","v":25},{"$f":"IF(B55=\"Nonmotorized\",\"\",VLOOKUP(B55,'SSI Inputs'!$B$65:$F$69,5,FALSE))","v":""},"",{"$f":"IF(B55=\"Nonmotorized\",1/(1+EXP(3.8432-0.1237*O55)),(Q55/'SSI Inputs'!$F$72)^'SSI Inputs'!$F$73+(Q55/'SSI Inputs'!$F$72)^'SSI Inputs'!$F$73-((Q55/'SSI Inputs'!$F$72)^'SSI Inputs'!$F$73)*((Q55/'SSI Inputs'!$F$72)^'SSI Inputs'!$F$73))","v":0.32066879346345062},null,{"$f":"SSI_AGI_ProtFactor","v":0.505},null,false,false,false,false,1,null,{"$f":"IF(B55=\"Diverging\",\"\",'SSI Inputs'!$F$49)","v":0},0.33333333333333326,null,null,null,1,null,0.16833333333333331,null,{"$error":"#VALUE!"},null,null,"","","","","","","","","","","","","","",1,"",null,"","","","","","","","","",1,"","","","","","",null,null,52,"Nonmotorized",0,2,2,0,null,0,2,2,0,null,0,2,1,0,null,0,2,1,0]
[53,"Nonmotorized",null,"MinNM1","Nonmotorized",null,"MajL2","Major left",null,{"$error":"#VALUE!"},{"$error":"#VALUE!"},{"$error":"#VALUE!"},null,{"$f":"VLOOKUP(E56,'SSI Inputs'!$B$49:$F$62,5,FALSE)","v":0},{"$f":"VLOOKUP(H56,'SSI Inputs'!$B$49:$F$62,5,FALSE)","v":20},{"$f":"IF(B56=\"Nonmotorized\",\"\",VLOOKUP(B56,'SSI Inputs'!$B$65:$F$69,5,FALSE))","v":""},"",{"$f":"IF(B56=\"Nonmotorized\",1/(1+EXP(3.8432-0.1237*O56)),(Q56/'SSI Inputs'!$F$72)^'SSI Inputs'!$F$73+(Q56/'SSI Inputs'!$F$72)^'SSI Inputs'!$F$73-((Q56/'SSI Inputs'!$F$72)^'SSI Inputs'!$F$73)*((Q56/'SSI Inputs'!$F$72)^'SSI Inputs'!$F$73))","v":0.20274912921655375},null,{"$f":"IF(SSI_AGI_MajorLTPhase=\"Protected/permitted\",SSI_AGI_ProtPermFactor,IF(SSI_AGI_MajorLTPhase=\"Protected\",SSI_AGI_ProtFactor,SSI_AGI_PermFactor))","v":0.92500000000000004},null,false,false,false,false,1,null,{"$f":"IF(B56=\"Diverging\",\"\",'SSI Inputs'!$F$49)","v":0},0.33333333333333326,null,null,null,1,null,0.30833333333333329,null,{"$error":"#VALUE!"},null,null,"","","","","","","","","","","","","","",1,"",null,"","","","",1,"","","","","","","","","","","",null,null,53,"Nonmotorized",0,2,2,0,null,0,2,2,0,null,0,2,1,0,null,0,2,1,0]
[54,"Nonmotorized",null,"MinNM1","Nonmotorized",null,"MinL1","Signal near",null,{"$error":"#VALUE!"},{"$error":"#VALUE!"},{"$error":"#VALUE!"},null,{"$f":"VLOOKUP(E57,'SSI Inputs'!$B$49:$F$62,5,FALSE)","v":0},{"$f":"VLOOKUP(H57,'SSI Inputs'!$B$49:$F$62,5,FALSE)","v":15},{"$f":"IF(B57=\"Nonmotorized\",\"\",VLOOKUP(B57,'SSI Inputs'!$B$65:$F$69,5,FALSE))","v":""},"",{"$f":"IF(B57=\"Nonmotorized\",1/(1+EXP(3.8432-0.1237*O57)),(Q57/'SSI Inputs'!$F$72)^'SSI Inputs'!$F$73+(Q57/'SSI Inputs'!$F$72)^'SSI Inputs'!$F$73-((Q57/'SSI Inputs'!$F$72)^'SSI Inputs'!$F$73)*((Q57/'SSI Inputs'!$F$72)^'SSI Inputs'!$F$73))","v":0.1205004039155782},null,{"$f":"SSI_AGI_ProtFactor","v":0.505},null,false,false,false,false,1,null,{"$f":"IF(B57=\"Diverging\",\"\",'SSI Inputs'!$F$49)","v":0},0.33333333333333326,null,null,null,1,null,0.16833333333333331,null,{"$error":"#VALUE!"},null,null,"","","","","","","","","","","","","","",1,"",null,"","","","","","","",1,"","","","","","","","",null,null,54,"Nonmotorized",0,2,2,0,null,0,2,2,0,null,0,0,1,0,null,0,0,1,0]
[55,"Nonmotorized",null,"MinNM1","Nonmotorized",null,"MinT1","Signal near",null,{"$error":"#VALUE!"},{"$error":"#VALUE!"},{"$error":"#VALUE!"},null,{"$f":"VLOOKUP(E58,'SSI Inputs'!$B$49:$F$62,5,FALSE)","v":0},{"$f":"VLOOKUP(H58,'SSI Inputs'!$B$49:$F$62,5,FALSE)","v":15},{"$f":"IF(B58=\"Nonmotorized\",\"\",VLOOKUP(B58,'SSI Inputs'!$B$65:$F$69,5,FALSE))","v":""},"",{"$f":"IF(B58=\"Nonmotorized\",1/(1+EXP(3.8432-0.1237*O58)),(Q58/'SSI Inputs'!$F$72)^'SSI Inputs'!$F$73+(Q58/'SSI Inputs'!$F$72)^'SSI Inputs'!$F$73-((Q58/'SSI Inputs'!$F$72)^'SSI Inputs'!$F$73)*((Q58/'SSI Inputs'!$F$72)^'SSI Inputs'!$F$73))","v":0.1205004039155782},null,{"$f":"SSI_AGI_ProtFactor","v":0.505},null,false,false,false,false,1,null,{"$f":"IF(B58=\"Diverging\",\"\",'SSI Inputs'!$F$49)","v":0},0.33333333333333326,null,null,null,1,null,0.16833333333333331,null,{"$error":"#VALUE!"},null,null,"","","","","","","","","","","","","","",1,"",null,"","","","","","",1,"","","","","","","","","",null,null,55,"Nonmotorized",0,2,2,0,null,0,2,2,0,null,0,0,1,0,null,0,0,1,0]
[56,"Nonmotorized",null,"MinNM1","Nonmotorized",null,"MinR1","Signal near",null,{"$error":"#VALUE!"},{"$error":"#VALUE!"},{"$error":"#VALUE!"},null,{"$f":"VLOOKUP(E59,'SSI Inputs'!$B$49:$F$62,5,FALSE)","v":0},{"$f":"VLOOKUP(H59,'SSI Inputs'!$B$49:$F$62,5,FALSE)","v":15},{"$f":"IF(B59=\"Nonmotorized\",\"\",VLOOKUP(B59,'SSI Inputs'!$B$65:$F$69,5,FALSE))","v":""},"",{"$f":"IF(B59=\"Nonmotorized\",1/(1+EXP(3.8432-0.1237*O59)),(Q59/'SSI Inputs'!$F$72)^'SSI Inputs'!$F$73+(Q59/'SSI Inputs'!$F$72)^'SSI Inputs'!$F$73-((Q59/'SSI Inputs'!$F$72)^'SSI Inputs'!$F$73)*((Q59/'SSI Inputs'!$F$72)^'SSI Inputs'!$F$73))","v":0.1205004039155782},null,{"$f":"SSI_AGI_ProtFactor","v":0.505},null,false,false,false,false,1,null,{"$f":"IF(B59=\"Diverging\",\"\",'SSI Inputs'!$F$49)","v":0},0.33333333333333326,null,null,null,1,null,0.16833333333333331,null,{"$error":"#VALUE!"},null,null,"","","","","","","","","","","","","","",1,"",null,"","","","","","","","",1,"","","","","","","",null,null,56,"Nonmotorized",0,2,2,0,null,0,2,2,0,null,0,0,1,0,null,0,0,1,0]
[null,null,null,null,null,null,null,null,null,null,null,null,null,null,null,null,null,null,null,null,null,null,null,null,null,null,null,null,null,null,null,null,null,null,null,null,null,null,"O",{"$f":"'SSI Inputs'!$D$26","v":{"$error":"#VALUE!"}},{"$f":"'SSI Inputs'!$D$27","v":{"$error":"#VALUE!"}},{"$f":"'SSI Inputs'!$D$28","v":{"$error":"#VALUE!"}},{"$f":"'SSI Inputs'!$D$30","v":{"$error":"#VALUE!"}},{"$f":"'SSI Inputs'!$D$31","v":{"$error":"#VALUE!"}},{"$f":"'SSI Inputs'!$D$32","v":{"$error":"#VALUE!"}},{"$f":"'SSI Inputs'!$D$34","v":{"$error":"#VALUE!"}},{"$f":"'SSI Inputs'!$D$35","v":{"$error":"#VALUE!"}},{"$f":"'SSI Inputs'!$D$36","v":{"$error":"#VALUE!"}},{"$f":"'SSI Inputs'!$D$38","v":{"$error":"#VALUE!"}},{"$f":"'SSI Inputs'!$D$39","v":{"$error":"#VALUE!"}},{"$f":"'SSI Inputs'!$D$40","v":{"$error":"#VALUE!"}},{"$f":"'SSI Inputs'!$Q$18","v":12.5},{"$f":"'SSI Inputs'!$Q$19","v":12.5},{"$f":"'SSI Inputs'!$Q$20","v":12.5},{"$f":"'SSI Inputs'!$Q$21","v":12.5},"O",{"$f":"'SSI Inputs'!$D$26","v":{"$error":"#VALUE!"}},{"$f":"'SSI Inputs'!$D$27","v":{"$error":"#VALUE!"}},{"$f":"'SSI Inputs'!$D$28","v":{"$error":"#VALUE!"}},{"$f":"'SSI Inputs'!$D$30","v":{"$error":"#VALUE!"}},{"$f":"'SSI Inputs'!$D$31","v":{"$error":"#VALUE!"}},{"$f":"'SSI Inputs'!$D$32","v":{"$error":"#VALUE!"}},{"$f":"'SSI Inputs'!$D$34","v":{"$error":"#VALUE!"}},{"$f":"'SSI Inputs'!$D$35","v":{"$error":"#VALUE!"}},{"$f":"'SSI Inputs'!$D$36","v":{"$error":"#VALUE!"}},{"$f":"'SSI Inputs'!$D$38","v":{"$error":"#VALUE!"}},{"$f":"'SSI Inputs'!$D$39","v":{"$error":"#VALUE!"}},{"$f":"'SSI Inputs'!$D$40","v":{"$error":"#VALUE!"}},{"$f":"'SSI Inputs'!$Q$18","v":12.5},{"$f":"'SSI Inputs'!$Q$19","v":12.5},{"$f":"'SSI Inputs'!$Q$20","v":12.5},{"$f":"'SSI Inputs'!$Q$21","v":12.5}]
[null,null,null,null,null,null,null,null,null,null,null,null,null,null,null,null,null,null,null,null,null,null,null,null,null,null,null,null,null,null,null,null,null,null,null,null,null,null,"D",{"$f":"'SSI Inputs'!$E$26","v":{"$error":"#VALUE!"}},{"$f":"'SSI Inputs'!$E$27","v":{"$error":"#VALUE!"}},{"$f":"'SSI Inputs'!$E$28","v":{"$error":"#VALUE!"}},{"$f":"'SSI Inputs'!$E$30","v":{"$error":"#VALUE!"}},{"$f":"'SSI Inputs'!$E$31","v":{"$error":"#VALUE!"}},{"$f":"'SSI Inputs'!$E$32","v":{"$error":"#VALUE!"}},{"$f":"'SSI Inputs'!$E$34","v":{"$error":"#VALUE!"}},{"$f":"'SSI Inputs'!$E$35","v":{"$error":"#VALUE!"}},{"$f":"'SSI Inputs'!$E$36","v":{"$error":"#VALUE!"}},{"$f":"'SSI Inputs'!$E$38","v":{"$error":"#VALUE!"}},{"$f":"'SSI Inputs'!$E$39","v":{"$error":"#VALUE!"}},{"$f":"'SSI Inputs'!$E$40","v":{"$error":"#VALUE!"}},{"$f":"'SSI Inputs'!$R$18","v":12.5},{"$f":"'SSI Inputs'!$R$19","v":12.5},{"$f":"'SSI Inputs'!$R$20","v":12.5},{"$f":"'SSI Inputs'!$R$21","v":12.5},"D",{"$f":"'SSI Inputs'!$E$26","v":{"$error":"#VALUE!"}},{"$f":"'SSI Inputs'!$E$27","v":{"$error":"#VALUE!"}},{"$f":"'SSI Inputs'!$E$28","v":{"$error":"#VALUE!"}},{"$f":"'SSI Inputs'!$E$30","v":{"$error":"#VALUE!"}},{"$f":"'SSI Inputs'!$E$31","v":{"$error":"#VALUE!"}},{"$f":"'SSI Inputs'!$E$32","v":{"$error":"#VALUE!"}},{"$f":"'SSI Inputs'!$E$34","v":{"$error":"#VALUE!"}},{"$f":"'SSI Inputs'!$E$35","v":{"$error":"#VALUE!"}},{"$f":"'SSI Inputs'!$E$36","v":{"$error":"#VALUE!"}},{"$f":"'SSI Inputs'!$E$38","v":{"$error":"#VALUE!"}},{"$f":"'SSI Inputs'!$E$39","v":{"$error":"#VALUE!"}},{"$f":"'SSI Inputs'!$E$40","v":{"$error":"#VALUE!"}},{"$f":"'SSI Inputs'!$R$18","v":12.5},{"$f":"'SSI Inputs'!$R$19","v":12.5},{"$f":"'SSI Inputs'!$R$20","v":12.5},{"$f":"'SSI Inputs'!$R$21","v":12.5}]
[]
[]
[]
[]
[]
[]
[]
[]
[]
[]
[]
[]
[]
[]
[]
[]
[]
[]
[]
[]
[]
[]
[]
[]
[]
[]
[]
[]
[]
[]
[]
[]
[]
[]
[]
[]
[]
[]
[]
[null,null,null,null,null,null,null,null,null,"Exposure",null,null,null,null,null,null,null,null,null,null,null,null,null,null,null,null,null,null,null,null,null,null,null,null,null,null,"Exposure-Severity-Complexity Product"]
[null,null,null,null,null,null,null,null,null,"Q1","Q2","I"]
[null,null,null,null,null,null,null,null,null,{"$f":"SUMPRODUCT($AN4:$BC4,$AN$61:$BC$61)","v":{"$error":"#VALUE!"}},{"$f":"SUMPRODUCT($BE4:$BT4,$BE$61:$BT$61)","v":{"$error":"#VALUE!"}},{"$f":"PRODUCT(J103:K103)","v":{"$error":"#VALUE!"}},null,null,null,null,null,null,null,null,null,null,null,null,null,null,null,null,null,null,null,null,null,null,null,null,{"$f":"L103*R4*AI4","v":{"$error":"#VALUE!"}}]
[null,null,null,null,null,null,null,null,null,{"$f":"SUMPRODUCT($AN5:$BC5,$AN$61:$BC$61)","v":{"$error":"#VALUE!"}},{"$f":"SUMPRODUCT($BE5:$BT5,$BE$61:$BT$61)","v":{"$error":"#VALUE!"}},{"$f":"PRODUCT(J104:K104)","v":{"$error":"#VALUE!"}},null,null,null,null,null,null,null,null,null,null,null,null,null,null,null,null,null,null,null,null,null,null,null,null,{"$f":"L104*R5*AI5","v":{"$error":"#VALUE!"}}]
[null,null,null,null,null,null,null,null,null,{"$error":"#VALUE!"},{"$error":"#VALUE!"},{"$error":"#VALUE!"},null,null,null,null,null,null,null,null,null,null,null,null,null,null,null,null,null,null,null,null,null,null,null,null,{"$error":"#VALUE!"}]
[null,null,null,null,null,null,null,null,null,{"$error":"#VALUE!"},{"$error":"#VALUE!"},{"$error":"#VALUE!"},null,null,null,null,null,null,null,null,null,null,null,null,null,null,null,null,null,null,null,null,null,null,null,null,{"$error":"#VALUE!"}]
[null,null,null,null,null,null,null,null,null,{"$error":"#VALUE!"},{"$error":"#VALUE!"},{"$error":"#VALUE!"},null,null,null,null,null,null,null,null,null,null,null,null,null,null,null,null,null,null,null,null,null,null,null,null,{"$error":"#VALUE!"}]
[null,null,null,null,null,null,null,null,null,{"$error":"#VALUE!"},{"$error":"#VALUE!"},{"$error":"#VALUE!"},null,null,null,null,null,null,null,null,null,null,null,null,null,null,null,null,null,null,null,null,null,null,null,null,{"$error":"#VALUE!"}]
[null,null,null,null,null,null,null,null,null,{"$error":"#VALUE!"},{"$error":"#VALUE!"},{"$error":"#VALUE!"},null,null,null,null,null,null,null,null,null,null,null,null,null,null,null,null,null,null,null,null,null,null,null,null,{"$error":"#VALUE!"}]
[null,null,null,null,null,null,null,null,null,{"$error":"#VALUE!"},{"$error":"#VALUE!"},{"$error":"#VALUE!"},null,null,null,null,null,null,null,null,null,null,null,null,null,null,null,null,null,null,null,null,null,null,null,null,{"$error":"#VALUE!"}]
[null,null,null,null,null,null,null,null,null,{"$error":"#VALUE!"},{"$error":"#VALUE!"},{"$error":"#VALUE!"},null,null,null,null,null,null,null,null,null,null,null,null,null,null,null,null,null,null,null,null,null,null,null,null,{"$error":"#VALUE!"}]
[null,null,null,null,null,null,null,null,null,{"$error":"#VALUE!"},{"$error":"#VALUE!"},{"$error":"#VALUE!"},null,null,null,null,null,null,null,null,null,null,null,null,null,null,null,null,null,null,null,null,null,null,null,null,{"$error":"#VALUE!"}]
[null,null,null,null,null,null,null,null,null,{"$error":"#VALUE!"},{"$error":"#VALUE!"},{"$error":"#VALUE!"},null,null,null,null,null,null,null,null,null,null,null,null,null,null,null,null,null,null,null,null,null,null,null,null,{"$error":"#VALUE!"}]
[null,null,null,null,null,null,null,null,null,{"$error":"#VALUE!"},{"$error":"#VALUE!"},{"$error":"#VALUE!"},null,null,null,null,null,null,null,null,null,null,null,null,null,null,null,null,null,null,null,null,null,null,null,null,{"$error":"#VALUE!"}]
[null,null,null,null,null,null,null,null,null,{"$error":"#VALUE!"},{"$error":"#VALUE!"},{"$error":"#VALUE!"},null,null,null,null,null,null,null,null,null,null,null,null,null,null,null,null,null,null,null,null,null,null,null,null,{"$error":"#VALUE!"}]
[null,null,null,null,null,null,null,null,null,{"$error":"#VALUE!"},{"$error":"#VALUE!"},{"$error":"#VALUE!"},null,null,null,null,null,null,null,null,null,null,null,null,null,null,null,null,null,null,null,null,null,null,null,null,{"$error":"#VALUE!"}]
[null,null,null,null,null,null,null,null,null,{"$error":"#VALUE!"},{"$error":"#VALUE!"},{"$error":"#VALUE!"},null,null,null,null,null,null,null,null,null,null,null,null,null,null,null,null,null,null,null,null,null,null,null,null,{"$error":"#VALUE!"}]
[null,null,null,null,null,null,null,null,null,{"$error":"#VALUE!"},{"$error":"#VALUE!"},{"$error":"#VALUE!"},null,null,null,null,null,null,null,null,null,null,null,null,null,null,null,null,null,null,null,null,null,null,null,null,{"$error":"#VALUE!"}]
[null,null,null,null,null,null,null,null,null,{"$error":"#VALUE!"},{"$error":"#VALUE!"},{"$error":"#VALUE!"},null,null,null,null,null,null,null,null,null,null,null,null,null,null,null,null,null,null,null,null,null,null,null,null,{"$error":"#VALUE!"}]
[null,null,null,null,null,null,null,null,null,{"$error":"#VALUE!"},{"$error":"#VALUE!"},{"$error":"#VALUE!"},null,null,null,null,null,null,null,null,null,null,null,null,null,null,null,null,null,null,null,null,null,null,null,null,{"$error":"#VALUE!"}]
[null,null,null,null,null,null,null,null,null,{"$error":"#VALUE!"},{"$error":"#VALUE!"},{"$error":"#VALUE!"},null,null,null,null,null,null,null,null,null,null,null,null,null,null,null,null,null,null,null,null,null,null,null,null,{"$error":"#VALUE!"}]
[null,null,null,null,null,null,null,null,null,{"$error":"#VALUE!"},{"$error":"#VALUE!"},{"$error":"#VALUE!"},null,null,null,null,null,null,null,null,null,null,null,null,null,null,null,null,null,null,null,null,null,null,null,null,{"$error":"#VALUE!"}]
[null,null,null,null,null,null,null,null,null,{"$error":"#VALUE!"},{"$error":"#VALUE!"},{"$error":"#VALUE!"},null,null,null,null,null,null,null,null,null,null,null,null,null,null,null,null,null,null,null,null,null,null,null,null,{"$error":"#VALUE!"}]
[null,null,null,null,null,null,null,null,null,{"$error":"#VALUE!"},{"$error":"#VALUE!"},{"$error":"#VALUE!"},null,null,null,null,null,null,null,null,null,null,null,null,null,null,null,null,null,null,null,null,null,null,null,null,{"$error":"#VALUE!"}]
[null,null,null,null,null,null,null,null,null,{"$error":"#VALUE!"},{"$error":"#VALUE!"},{"$error":"#VALUE!"},null,null,null,null,null,null,null,null,null,null,null,null,null,null,null,null,null,null,null,null,null,null,null,null,{"$error":"#VALUE!"}]
[null,null,null,null,null,null,null,null,null,{"$error":"#VALUE!"},{"$error":"#VALUE!"},{"$error":"#VALUE!"},null,null,null,null,null,null,null,null,null,null,null,null,null,null,null,null,null,null,null,null,null,null,null,null,{"$error":"#VALUE!"}]
[null,null,null,null,null,null,null,null,null,{"$error":"#VALUE!"},{"$error":"#VALUE!"},{"$error":"#VALUE!"},null,null,null,null,null,null,null,null,null,null,null,null,null,null,null,null,null,null,null,null,null,null,null,null,{"$error":"#VALUE!"}]
[null,null,null,null,null,null,null,null,null,{"$error":"#VALUE!"},{"$error":"#VALUE!"},{"$error":"#VALUE!"},null,null,null,null,null,null,null,null,null,null,null,null,null,null,null,null,null,null,null,null,null,null,null,null,{"$error":"#VALUE!"}]
[null,null,null,null,null,null,null,null,null,{"$error":"#VALUE!"},{"$error":"#VALUE!"},{"$error":"#VALUE!"},null,null,null,null,null,null,null,null,null,null,null,null,null,null,null,null,null,null,null,null,null,null,null,null,{"$error":"#VALUE!"}]
[null,null,null,null,null,null,null,null,null,{"$error":"#VALUE!"},{"$error":"#VALUE!"},{"$error":"#VALUE!"},null,null,null,null,null,null,null,null,null,null,null,null,null,null,null,null,null,null,null,null,null,null,null,null,{"$error":"#VALUE!"}]
[null,null,null,null,null,null,null,null,null,{"$error":"#VALUE!"},{"$error":"#VALUE!"},{"$error":"#VALUE!"},null,null,null,null,null,null,null,null,null,null,null,null,null,null,null,null,null,null,null,null,null,null,null,null,{"$error":"#VALUE!"}]
[null,null,null,null,null,null,null,null,null,{"$error":"#VALUE!"},{"$error":"#VALUE!"},{"$error":"#VALUE!"},null,null,null,null,null,null,null,null,null,null,null,null,null,null,null,null,null,null,null,null,null,null,null,null,{"$error":"#VALUE!"}]
[null,null,null,null,null,null,null,null,null,{"$error":"#VALUE!"},{"$error":"#VALUE!"},{"$error":"#VALUE!"},null,null,null,null,null,null,null,null,null,null,null,null,null,null,null,null,null,null,null,null,null,null,null,null,{"$error":"#VALUE!"}]
[null,null,null,null,null,null,null,null,null,{"$error":"#VALUE!"},{"$error":"#VALUE!"},{"$error":"#VALUE!"},null,null,null,null,null,null,null,null,null,null,null,null,null,null,null,null,null,null,null,null,null,null,null,null,{"$error":"#VALUE!"}]
[null,null,null,null,null,null,null,null,null,{"$error":"#VALUE!"},{"$error":"#VALUE!"},{"$error":"#VALUE!"},null,null,null,null,null,null,null,null,null,null,null,null,null,null,null,null,null,null,null,null,null,null,null,null,{"$error":"#VALUE!"}]
[null,null,null,null,null,null,null,null,null,{"$error":"#VALUE!"},{"$error":"#VALUE!"},{"$error":"#VALUE!"},null,null,null,null,null,null,null,null,null,null,null,null,null,null,null,null,null,null,null,null,null,null,null,null,{"$error":"#VALUE!"}]
[null,null,null,null,null,null,null,null,null,{"$error":"#VALUE!"},{"$error":"#VALUE!"},{"$error":"#VALUE!"},null,null,null,null,null,null,null,null,null,null,null,null,null,null,null,null,null,null,null,null,null,null,null,null,{"$error":"#VALUE!"}]
[null,null,null,null,null,null,null,null,null,{"$error":"#VALUE!"},{"$error":"#VALUE!"},{"$error":"#VALUE!"},null,null,null,null,null,null,null,null,null,null,null,null,null,null,null,null,null,null,null,null,null,null,null,null,{"$error":"#VALUE!"}]
[null,null,null,null,null,null,null,null,null,{"$error":"#VALUE!"},{"$error":"#VALUE!"},{"$error":"#VALUE!"},null,null,null,null,null,null,null,null,null,null,null,null,null,null,null,null,null,null,null,null,null,null,null,null,{"$error":"#VALUE!"}]
[null,null,null,null,null,null,null,null,null,{"$error":"#VALUE!"},{"$error":"#VALUE!"},{"$error":"#VALUE!"},null,null,null,null,null,null,null,null,null,null,null,null,null,null,null,null,null,null,null,null,null,null,null,null,{"$error":"#VALUE!"}]
[null,null,null,null,null,null,null,null,null,{"$error":"#VALUE!"},{"$error":"#VALUE!"},{"$error":"#VALUE!"},null,null,null,null,null,null,null,null,null,null,null,null,null,null,null,null,null,null,null,null,null,null,null,null,{"$error":"#VALUE!"}]
[null,null,null,null,null,null,null,null,null,{"$error":"#VALUE!"},{"$error":"#VALUE!"},{"$error":"#VALUE!"},null,null,null,null,null,null,null,null,null,null,null,null,null,null,null,null,null,null,null,null,null,null,null,null,{"$error":"#VALUE!"}]
[null,null,null,null,null,null,null,null,null,{"$error":"#VALUE!"},{"$error":"#VALUE!"},{"$error":"#VALUE!"},null,null,null,null,null,null,null,null,null,null,null,null,null,null,null,null,null,null,null,null,null,null,null,null,{"$error":"#VALUE!"}]
[null,null,null,null,null,null,null,null,null,{"$error":"#VALUE!"},{"$error":"#VALUE!"},{"$error":"#VALUE!"},null,null,null,null,null,null,null,null,null,null,null,null,null,null,null,null,null,null,null,null,null,null,null,null,{"$error":"#VALUE!"}]
[null,null,null,null,null,null,null,null,null,{"$error":"#VALUE!"},{"$error":"#VALUE!"},{"$error":"#VALUE!"},null,null,null,null,null,null,null,null,null,null,null,null,null,null,null,null,null,null,null,null,null,null,null,null,{"$error":"#VALUE!"}]
[null,null,null,null,null,null,null,null,null,{"$error":"#VALUE!"},{"$error":"#VALUE!"},{"$error":"#VALUE!"},null,null,null,null,null,null,null,null,null,null,null,null,null,null,null,null,null,null,null,null,null,null,null,null,{"$error":"#VALUE!"}]
[null,null,null,null,null,null,null,null,null,{"$error":"#VALUE!"},{"$error":"#VALUE!"},{"$error":"#VALUE!"},null,null,null,null,null,null,null,null,null,null,null,null,null,null,null,null,null,null,null,null,null,null,null,null,{"$error":"#VALUE!"}]
[null,null,null,null,null,null,null,null,null,{"$error":"#VALUE!"},{"$error":"#VALUE!"},{"$error":"#VALUE!"},null,null,null,null,null,null,null,null,null,null,null,null,null,null,null,null,null,null,null,null,null,null,null,null,{"$error":"#VALUE!"}]
[null,null,null,null,null,null,null,null,null,{"$error":"#VALUE!"},{"$error":"#VALUE!"},{"$error":"#VALUE!"},null,null,null,null,null,null,null,null,null,null,null,null,null,null,null,null,null,null,null,null,null,null,null,null,{"$error":"#VALUE!"}]
[null,null,null,null,null,null,null,null,null,{"$error":"#VALUE!"},{"$error":"#VALUE!"},{"$error":"#VALUE!"},null,null,null,null,null,null,null,null,null,null,null,null,null,null,null,null,null,null,null,null,null,null,null,null,{"$error":"#VALUE!"}]
[null,null,null,null,null,null,null,null,null,{"$error":"#VALUE!"},{"$error":"#VALUE!"},{"$error":"#VALUE!"},null,null,null,null,null,null,null,null,null,null,null,null,null,null,null,null,null,null,null,null,null,null,null,null,{"$error":"#VALUE!"}]
[null,null,null,null,null,null,null,null,null,{"$error":"#VALUE!"},{"$error":"#VALUE!"},{"$error":"#VALUE!"},null,null,null,null,null,null,null,null,null,null,null,null,null,null,null,null,null,null,null,null,null,null,null,null,{"$error":"#VALUE!"}]
[null,null,null,null,null,null,null,null,null,{"$error":"#VALUE!"},{"$error":"#VALUE!"},{"$error":"#VALUE!"},null,null,null,null,null,null,null,null,null,null,null,null,null,null,null,null,null,null,null,null,null,null,null,null,{"$error":"#VALUE!"}]
[null,null,null,null,null,null,null,null,null,{"$error":"#VALUE!"},{"$error":"#VALUE!"},{"$error":"#VALUE!"},null,null,null,null,null,null,null,null,null,null,null,null,null,null,null,null,null,null,null,null,null,null,null,null,{"$error":"#VALUE!"}]
[null,null,null,null,null,null,null,null,null,{"$error":"#VALUE!"},{"$error":"#VALUE!"},{"$error":"#VALUE!"},null,null,null,null,null,null,null,null,null,null,null,null,null,null,null,null,null,null,null,null,null,null,null,null,{"$error":"#VALUE!"}]
[null,null,null,null,null,null,null,null,null,{"$error":"#VALUE!"},{"$error":"#VALUE!"},{"$error":"#VALUE!"},null,null,null,null,null,null,null,null,null,null,null,null,null,null,null,null,null,null,null,null,null,null,null,null,{"$error":"#VALUE!"}]
[null,null,null,null,null,null,null,null,null,{"$error":"#VALUE!"},{"$error":"#VALUE!"},{"$error":"#VALUE!"},null,null,null,null,null,null,null,null,null,null,null,null,null,null,null,null,null,null,null,null,null,null,null,null,{"$error":"#VALUE!"}]
[null,null,null,null,null,null,null,null,null,{"$error":"#VALUE!"},{"$error":"#VALUE!"},{"$error":"#VALUE!"},null,null,null,null,null,null,null,null,null,null,null,null,null,null,null,null,null,null,null,null,null,null,null,null,{"$error":"#VALUE!"}]

{"sheet":"Trad_MinorStop","index":45,"n_rows":158,"n_cols":95,"rows_kept":158,"cut":false,"hidden":true,"merged":[[0,19,0,28],[0,30,0,32],[1,31,2,31],[1,32,2,32],[1,21,1,25],[1,27,1,28],[1,30,2,30],[1,76,1,79],[1,81,1,84],[1,86,1,89],[1,91,1,94],[100,9,100,11],[100,36,101,36],[1,34,2,34],[1,36,2,36],[1,39,1,54],[1,9,1,11],[1,13,1,17],[1,56,1,71]]}
[null,null,null,null,null,null,null,null,null,null,null,null,null,null,null,null,null,null,null,"Conflicting Traffic Complexity",null,null,null,null,null,null,null,null,null,null,"Pedestrian Complexity",null,null,null,null,null,null,null,null,null,null,null,null,null,null,null,null,null,null,null,null,null,null,null,null,null,null,null,null,null,null,null,null,null,null,null,null,null,null,null,null,null,null,null,null,"*impact of median on complexity factors"]
[null,null,null,null,null,null,null,null,null,"Exposure",null,null,null,"Severity",null,null,null,null,null,"Traffic Control",null,"Conflicting Lanes",null,null,null,null,null,"Conflicting Speed",null,null,"Indirect Paths Indicator","Non-intuitive movements indicator","Pedestrian Complexity factor",null,"Total Complexity Multiplier",null,"Exposure-Severity-Complexity Product",null,null,"Included in Mvmt1",null,null,null,null,null,null,null,null,null,null,null,null,null,null,null,null,"Included in Mvmt2",null,null,null,null,null,null,null,null,null,null,null,null,null,null,null,null,null,null,null,"Major:No, Minor: No",null,null,null,null,"Major:Yes, Minor: No",null,null,null,null,"Major:No, Minor: Yes",null,null,null,null,"Major:Yes, Minor: Yes"]
["#","Conflict Type","Mvmt1","Mvmt1_gen","Mvmt1_SpeedCat","Mvmt2","Mvmt2_gen","Mvmt2_SpeedCat",null,"Q1","Q2","I",null,"Speed_V1","Speed_V2","Angle","delta_V","P_FSI",null,null,null,"MajC","MinC","MajM/P","MinM/P","Score",null,"Speed","Factor",null,null,null,null,null,null,null,null,null,null,"MajT1","MajL1","MajR1","MajT2","MajL2","MajR2","MinT1","MinL1","MinR1","MinT2","MinL2","MinR2","MajNM1","MajNM2","MinNM1","MinNM2",null,"MajT1","MajL1","MajR1","MajT2","MajL2","MajR2","MinT1","MinL1","MinR1","MinT2","MinL2","MinR2","MajNM1","MajNM2","MinNM1","MinNM2",null,null,"#","Conflict Type","MajC","MinC","MajM/P","MinM/P",null,"MajC","MinC","MajM/P","MinM/P",null,"MajC","MinC","MajM/P","MinM/P",null,"MajC","MinC","MajM/P","MinM/P"]
[1,"Crossing","NBT","MinT1","Stop near","EBT","MajT1","Major thru",null,{"$f":"SUMPRODUCT($AN4:$BC4,$AN$60:$BC$60)","v":{"$error":"#VALUE!"}},{"$f":"SUMPRODUCT($BE4:$BT4,$BE$60:$BT$60)","v":{"$error":"#VALUE!"}},{"$f":"PRODUCT(J4:K4)","v":{"$error":"#VALUE!"}},null,{"$f":"VLOOKUP(E4,SSI_AGI_Range_VehSpeed,5,FALSE)","v":15},{"$f":"VLOOKUP(H4,SSI_AGI_Range_VehSpeed,5,FALSE)","v":0},{"$f":"IF(B4=\"Nonmotorized\",\"\",VLOOKUP(B4,SSI_AGI_Range_CollAngles,5,FALSE))","v":90},{"$f":"IF(B4=\"Nonmotorized\",\"\",SQRT(N4^2+O4^2-2*N4*O4*COS(RADIANS(P4)))/2)","v":7.5},{"$f":"IF(B4=\"Nonmotorized\",1/(1+EXP(3.8432-0.1237*O4)),(Q4/SSI_AGI_RegAlpha)^SSI_AGI_RegK+(Q4/SSI_AGI_RegAlpha)^SSI_AGI_RegK-((Q4/SSI_AGI_RegAlpha)^SSI_AGI_RegK)*((Q4/SSI_AGI_RegAlpha)^SSI_AGI_RegK))","v":4.8454301532720461E-4},null,{"$f":"SSI_AGI_StopFactor","v":0.72500000000000009},null,{"$f":"IF(AND(SS_AGI_MajMedian=\"No\", SS_AGI_MinMedian=\"No\"),BY4,IF(AND(SS_AGI_MajMedian=\"Yes\",SS_AGI_MinMedian=\"No\"),CD4,IF(AND(SS_AGI_MajMedian=\"No\",SS_AGI_MinMedian=\"Yes\"),CI4,IF(AND(SS_AGI_MajMedian=\"Yes\",SS_AGI_MinMedian=\"Yes\"),CN4))))","v":false},{"$f":"IF(AND(SS_AGI_MajMedian=\"No\", SS_AGI_MinMedian=\"No\"),BZ4,IF(AND(SS_AGI_MajMedian=\"Yes\",SS_AGI_MinMedian=\"No\"),CE4,IF(AND(SS_AGI_MajMedian=\"No\",SS_AGI_MinMedian=\"Yes\"),CJ4,IF(AND(SS_AGI_MajMedian=\"Yes\",SS_AGI_MinMedian=\"Yes\"),CO4))))","v":false},{"$f":"IF(AND(SS_AGI_MajMedian=\"No\", SS_AGI_MinMedian=\"No\"),CA4,IF(AND(SS_AGI_MajMedian=\"Yes\",SS_AGI_MinMedian=\"No\"),CF4,IF(AND(SS_AGI_MajMedian=\"No\",SS_AGI_MinMedian=\"Yes\"),CK4,IF(AND(SS_AGI_MajMedian=\"Yes\",SS_AGI_MinMedian=\"Yes\"),CP4))))","v":false},{"$f":"IF(AND(SS_AGI_MajMedian=\"No\", SS_AGI_MinMedian=\"No\"),CB4,IF(AND(SS_AGI_MajMedian=\"Yes\",SS_AGI_MinMedian=\"No\"),CG4,IF(AND(SS_AGI_MajMedian=\"No\",SS_AGI_MinMedian=\"Yes\"),CL4,IF(AND(SS_AGI_MajMedian=\"Yes\",SS_AGI_MinMedian=\"Yes\"),CQ4))))","v":false},{"$f":"MAX(1,IF(B4<>\"Pedestrian\",V4*SSI_AGI_MajorThruLanes+W4*SSI_AGI_MinorThruLanes+X4*IF(SSI_AGI_MajorThruLanes=1,SSI_AGI_MergeWeightL1,IF(SSI_AGI_MajorThruLanes=2,SSI_AGI_MergeWeightL1+SSI_AGI_MergeWeightL2,SSI_AGI_MergeWeightL1+SSI_AGI_MergeWeightL2+SSI_AGI_MergeWeightL3*(SSI_AGI_MajorThruLanes-2)))+Y4*IF(SSI_AGI_MinorThruLanes=1,SSI_AGI_MergeWeightL1,IF(SSI_AGI_MinorThruLanes=2,SSI_AGI_MergeWeightL1+SSI_AGI_MergeWeightL2,SSI_AGI_MergeWeightL1+SSI_AGI_MergeWeightL2+SSI_AGI_MergeWeightL3*(SSI_AGI_MinorThruLanes-2))),V4*SSI_AGI_MajorThruLanes+W4*SSI_AGI_MinorThruLanes+X4*IF(SSI_AGI_MajorThruLanes=1,SSI_AGI_NM_MergeWeightL1,IF(SSI_AGI_MajorThruLanes=2,SSI_AGI_NM_MergeWeightL1+SSI_AGI_NM_MergeWeightL2,SSI_AGI_NM_MergeWeightL1+SSI_AGI_NM_MergeWeightL2+SSI_AGI_NM_MergeWeightL3*(SSI_AGI_MajorThruLanes-2)))+Y4*IF(SSI_AGI_MinorThruLanes=1,SSI_AGI_NM_MergeWeightL1,IF(SSI_AGI_MinorThruLanes=2,SSI_AGI_NM_MergeWeightL1+SSI_AGI_NM_MergeWeightL2,SSI_AGI_NM_MergeWeightL1+SSI_AGI_NM_MergeWeightL2+SSI_AGI_NM_MergeWeightL3*(SSI_AGI_MinorThruLanes-2)))))","v":1},null,{"$f":"IF(B4=\"Diverging\",\"\",SSI_AGI_VehSpeed_MjrThru)","v":0},{"$f":"IF(B4=\"Diverging\",1,1-((60-AB4)/60*0.1/0.15))","v":0.33333333333333326},null,null,null,{"$f":"1+AE4+AF4","v":1},null,{"$f":"PRODUCT(Z4,T4,AC4,AG4)","v":0.24166666666666664},null,{"$f":"L4*R4*AI4","v":{"$error":"#VALUE!"}},null,null,{"$f":"IF(ISNUMBER(SEARCH(AN$3,$D4)),1,\"\")","v":""},{"$f":"IF(ISNUMBER(SEARCH(AO$3,$D4)),1,\"\")","v":""},"","","","",1,"","","","","","","","","",null,{"$f":"IF(ISNUMBER(SEARCH(BE$3,$G4)),1,\"\")","v":1},{"$f":"IF(ISNUMBER(SEARCH(BF$3,$G4)),1,\"\")","v":""},"","","","","","","","","","","","","","",null,null,1,"Crossing",2,0,0,0,null,1,0,0,0,null,2,0,0,0,null,1,0,0,0]
[2,"Crossing - LT","NBT","MinT1","Stop near","SBL","MinL2","Stop far",null,{"$f":"SUMPRODUCT($AN5:$BC5,$AN$60:$BC$60)","v":{"$error":"#VALUE!"}},{"$f":"SUMPRODUCT($BE5:$BT5,$BE$60:$BT$60)","v":{"$error":"#VALUE!"}},{"$f":"PRODUCT(J5:K5)","v":{"$error":"#VALUE!"}},null,15,25,230,{"$f":"IF(B5=\"Nonmotorized\",\"\",SQRT(N5^2+O5^2-2*N5*O5*COS(RADIANS(P5)))/2)","v":18.248908921254063},1.4099039069818802E-2,null,{"$f":"SSI_AGI_StopFactor","v":0.72500000000000009},null,false,false,false,false,1,null,0,0.33333333333333326,null,null,null,{"$f":"1+AE5+AF5","v":1},null,0.24166666666666664,null,{"$f":"L5*R5*AI5","v":{"$error":"#VALUE!"}},null,null,{"$f":"IF(ISNUMBER(SEARCH(AN$3,$D5)),1,\"\")","v":""},"","","","","",1,"","","","","","","","","",null,{"$f":"IF(ISNUMBER(SEARCH(BE$3,$G5)),1,\"\")","v":""},"","","","","","","","","",1,"","","","","",null,null,2,"Crossing - LT",1,1,1,0,null,1,1,0,0,null,0,1,1,0,null,0,1,0,0]
[3,"Crossing - LT","NBT","MinT1","Stop far","WBL","MajL2","Major left",null,{"$error":"#VALUE!"},{"$error":"#VALUE!"},{"$error":"#VALUE!"},null,25,20,230,20.419277715473552,2.1555284139167314E-2,null,{"$f":"SSI_AGI_StopFactor","v":0.72500000000000009},null,false,false,false,false,1,null,0,0.33333333333333326,null,null,null,1,null,0.24166666666666664,null,{"$error":"#VALUE!"},null,null,"","","","","","",1,"","","","","","","","","",null,"","","","",1,"","","","","","","","","","","",null,null,3,"Crossing - LT",2,0,0,0,null,1,0,0,0,null,2,0,0,0,null,1,0,0,0]
[4,"Crossing","NBT","MinT1","Stop far","WBT","MajT2","Major thru",null,{"$error":"#VALUE!"},{"$error":"#VALUE!"},{"$error":"#VALUE!"},null,25,0,90,12.5,3.3637551692797594E-3,null,{"$f":"SSI_AGI_StopFactor","v":0.72500000000000009},null,false,false,false,false,1,null,0,0.33333333333333326,null,null,null,1,null,0.24166666666666664,null,{"$error":"#VALUE!"},null,null,"","","","","","",1,"","","","","","","","","",null,"","","",1,"","","","","","","","","","","","",null,null,4,"Crossing",2,0,0,0,null,1,0,0,0,null,2,0,0,0,null,1,0,0,0]
[5,"Crossing - LT","WBT","MajT2","Major thru","EBL","MajL1","Major left",null,{"$error":"#VALUE!"},{"$error":"#VALUE!"},{"$error":"#VALUE!"},null,0,20,230,10,1.4431392232699444E-3,null,1,null,false,false,false,false,1,null,0,0.33333333333333326,null,null,null,1,null,0.33333333333333326,null,{"$error":"#VALUE!"},null,null,"","","",1,"","","","","","","","","","","","",null,"",1,"","","","","","","","","","","","","","",null,null,5,"Crossing - LT",1,0,0,0,null,1,0,0,0,null,1,0,0,0,null,1,0,0,0]
[6,"Crossing - LT","WBT","MajT2","Major thru","SBL","MinL2","Stop near",null,{"$error":"#VALUE!"},{"$error":"#VALUE!"},{"$error":"#VALUE!"},null,0,15,230,7.5,4.8454301532720461E-4,null,{"$f":"SSI_AGI_StopFactor","v":0.72500000000000009},null,false,false,false,false,1,null,0,0.33333333333333326,null,null,null,1,null,0.24166666666666664,null,{"$error":"#VALUE!"},null,null,"","","",1,"","","","","","","","","","","","",null,"","","","","","","","","","",1,"","","","","",null,null,6,"Crossing - LT",1,1,1,0,null,1,1,0,0,null,1,0,0,0,null,1,0,0,0]
[7,"Crossing","SBT","MinT2","Stop near","WBT","MajT2","Major thru",null,{"$error":"#VALUE!"},{"$error":"#VALUE!"},{"$error":"#VALUE!"},null,15,0,90,7.5,4.8454301532720461E-4,null,{"$f":"SSI_AGI_StopFactor","v":0.72500000000000009},null,false,false,false,false,1,null,0,0.33333333333333326,null,null,null,1,null,0.24166666666666664,null,{"$error":"#VALUE!"},null,null,"","","","","","","","","",1,"","","","","","",null,"","","",1,"","","","","","","","","","","","",null,null,7,"Crossing",2,0,0,0,null,1,0,0,0,null,2,0,0,0,null,1,0,0,0]
[8,"Crossing - LT","SBT","MinT2","Stop near","NBL","MinL1","Stop far",null,{"$error":"#VALUE!"},{"$error":"#VALUE!"},{"$error":"#VALUE!"},null,15,25,230,18.248908921254063,1.4099039069818802E-2,null,{"$f":"SSI_AGI_StopFactor","v":0.72500000000000009},null,false,false,false,false,1,null,0,0.33333333333333326,null,null,null,1,null,0.24166666666666664,null,{"$error":"#VALUE!"},null,null,"","","","","","","","","",1,"","","","","","",null,"","","","","","","",1,"","","","","","","","",null,null,8,"Crossing - LT",1,1,1,0,null,1,1,0,0,null,0,1,1,0,null,0,1,0,0]
[9,"Crossing - LT","SBT","MinT2","Stop far","EBL","MajL1","Major left",null,{"$error":"#VALUE!"},{"$error":"#VALUE!"},{"$error":"#VALUE!"},null,25,20,230,20.419277715473552,2.1555284139167314E-2,null,{"$f":"SSI_AGI_StopFactor","v":0.72500000000000009},null,false,false,false,false,1,null,0,0.33333333333333326,null,null,null,1,null,0.24166666666666664,null,{"$error":"#VALUE!"},null,null,"","","","","","","","","",1,"","","","","","",null,"",1,"","","","","","","","","","","","","","",null,null,9,"Crossing - LT",2,0,0,0,null,1,0,0,0,null,2,0,0,0,null,1,0,0,0]
[10,"Crossing","SBT","MinT2","Stop far","EBT","MajT1","Major thru",null,{"$error":"#VALUE!"},{"$error":"#VALUE!"},{"$error":"#VALUE!"},null,25,0,90,12.5,3.3637551692797594E-3,null,{"$f":"SSI_AGI_StopFactor","v":0.72500000000000009},null,false,false,false,false,1,null,0,0.33333333333333326,null,null,null,1,null,0.24166666666666664,null,{"$error":"#VALUE!"},null,null,"","","","","","","","","",1,"","","","","","",null,1,"","","","","","","","","","","","","","","",null,null,10,"Crossing",2,0,0,0,null,1,0,0,0,null,2,0,0,0,null,1,0,0,0]
[11,"Crossing - LT","EBT","MajT1","Major thru","WBL","MajL2","Major left",null,{"$error":"#VALUE!"},{"$error":"#VALUE!"},{"$error":"#VALUE!"},null,0,20,230,10,1.4431392232699444E-3,null,1,null,false,false,false,false,1,null,0,0.33333333333333326,null,null,null,1,null,0.33333333333333326,null,{"$error":"#VALUE!"},null,null,1,"","","","","","","","","","","","","","","",null,"","","","",1,"","","","","","","","","","","",null,null,11,"Crossing - LT",1,0,0,0,null,1,0,0,0,null,1,0,0,0,null,1,0,0,0]
[12,"Crossing - LT","EBT","MajT1","Major thru","NBL","MinL1","Stop near",null,{"$error":"#VALUE!"},{"$error":"#VALUE!"},{"$error":"#VALUE!"},null,0,15,230,7.5,4.8454301532720461E-4,null,{"$f":"SSI_AGI_StopFactor","v":0.72500000000000009},null,false,false,false,false,1,null,0,0.33333333333333326,null,null,null,1,null,0.24166666666666664,null,{"$error":"#VALUE!"},null,null,1,"","","","","","","","","","","","","","","",null,"","","","","","","",1,"","","","","","","","",null,null,12,"Crossing - LT",1,1,1,0,null,1,1,0,0,null,1,0,0,0,null,1,0,0,0]
[13,"Crossing - LT","NBL","MinL1","Stop near","WBL","MajL2","Major left",null,{"$error":"#VALUE!"},{"$error":"#VALUE!"},{"$error":"#VALUE!"},null,15,20,230,15.895538413434787,8.3616736100371545E-3,null,0.72500000000000009,null,false,false,false,false,1,null,0,0.33333333333333326,null,null,null,1,null,0.24166666666666664,null,{"$error":"#VALUE!"},null,null,"","","","","","","",1,"","","","","","","","",null,"","","","",1,"","","","","","","","","","","",null,null,13,"Crossing - LT",1,1,1,0,null,1,1,0,0,null,1,0,0,0,null,1,0,0,0]
[14,"Crossing - LT","NBL","MinL1","Stop near","EBL","MajL1","Major left",null,{"$error":"#VALUE!"},{"$error":"#VALUE!"},{"$error":"#VALUE!"},null,15,20,230,15.895538413434787,8.3616736100371545E-3,null,0.72500000000000009,null,false,false,false,false,1,null,0,0.33333333333333326,null,null,null,1,null,0.24166666666666664,null,{"$error":"#VALUE!"},null,null,"","","","","","","",1,"","","","","","","","",null,"",1,"","","","","","","","","","","","","","",null,null,14,"Crossing - LT",1,1,1,0,null,1,1,0,0,null,1,0,0,0,null,1,0,0,0]
[15,"Crossing - LT","SBL","MinL2","Stop near","EBL","MajL1","Major left",null,{"$error":"#VALUE!"},{"$error":"#VALUE!"},{"$error":"#VALUE!"},null,15,20,230,15.895538413434787,8.3616736100371545E-3,null,0.72500000000000009,null,false,false,false,false,1,null,0,0.33333333333333326,null,null,null,1,null,0.24166666666666664,null,{"$error":"#VALUE!"},null,null,"","","","","","","","","","",1,"","","","","",null,"",1,"","","","","","","","","","","","","","",null,null,15,"Crossing - LT",1,1,1,0,null,1,1,0,0,null,1,0,0,0,null,1,0,0,0]
[16,"Crossing - LT","SBL","MinL2","Stop near","WBL","MajL2","Major left",null,{"$error":"#VALUE!"},{"$error":"#VALUE!"},{"$error":"#VALUE!"},null,15,20,230,15.895538413434787,8.3616736100371545E-3,null,0.72500000000000009,null,false,false,false,false,1,null,0,0.33333333333333326,null,null,null,1,null,0.24166666666666664,null,{"$error":"#VALUE!"},null,null,"","","","","","","","","","",1,"","","","","",null,"","","","",1,"","","","","","","","","","","",null,null,16,"Crossing - LT",1,1,1,0,null,1,1,0,0,null,1,0,0,0,null,1,0,0,0]
[17,"Merging","EBT","MajT1","Major thru","SBL","MinL2","Stop far",null,{"$error":"#VALUE!"},{"$error":"#VALUE!"},{"$error":"#VALUE!"},null,0,25,45,12.5,3.3637551692797594E-3,null,0.72500000000000009,null,false,false,false,false,1,null,0,0.33333333333333326,null,null,null,1,null,0.24166666666666664,null,{"$error":"#VALUE!"},null,null,1,"","","","","","","","","","","","","","","",null,"","","","","","","","","","",1,"","","","","",null,null,17,"Merging",1,1,1,0,null,0,0,1,0,null,0,1,1,0,null,0,0,1,0]
[18,"Merging","EBT","MajT1","Major thru","NBR","MinR1","Stop near",null,{"$error":"#VALUE!"},{"$error":"#VALUE!"},{"$error":"#VALUE!"},null,0,15,45,7.5,4.8454301532720461E-4,null,0.72500000000000009,null,false,false,false,false,1,null,0,0.33333333333333326,null,null,null,1,null,0.24166666666666664,null,{"$error":"#VALUE!"},null,null,1,"","","","","","","","","","","","","","","",null,"","","","","","","","",1,"","","","","","","",null,null,18,"Merging",0,0,1,0,null,0,0,1,0,null,0,0,1,0,null,0,0,1,0]
[19,"Merging","NBT","MinT1","Stop far","EBL","MajL1","Major left",null,{"$error":"#VALUE!"},{"$error":"#VALUE!"},{"$error":"#VALUE!"},null,25,20,45,8.9147801264732891,9.333798723087925E-4,null,0.72500000000000009,null,false,false,false,false,1,null,0,0.33333333333333326,null,null,null,1,null,0.24166666666666664,null,{"$error":"#VALUE!"},null,null,"","","","","","",1,"","","","","","","","","",null,"",1,"","","","","","","","","","","","","","",null,null,19,"Merging",2,0,0,0,null,1,0,0,0,null,2,0,0,0,null,1,0,0,0]
[20,"Merging","NBT","MinT1","Stop far","WBR","MajR2","Major right",null,{"$error":"#VALUE!"},{"$error":"#VALUE!"},{"$error":"#VALUE!"},null,25,15,45,8.9396576292116645,9.4329959592674944E-4,null,0.72500000000000009,null,false,false,false,false,1,null,0,0.33333333333333326,null,null,null,1,null,0.24166666666666664,null,{"$error":"#VALUE!"},null,null,"","","","","","",1,"","","","","","","","","",null,"","","","","",1,"","","","","","","","","","",null,null,20,"Merging",2,0,0,0,null,1,0,0,0,null,2,0,0,0,null,1,0,0,0]
[21,"Merging","WBT","MajT2","Major thru","NBL","MinL1","Stop far",null,{"$error":"#VALUE!"},{"$error":"#VALUE!"},{"$error":"#VALUE!"},null,0,25,45,12.5,3.3637551692797594E-3,null,0.72500000000000009,null,false,false,false,false,1,null,0,0.33333333333333326,null,null,null,1,null,0.24166666666666664,null,{"$error":"#VALUE!"},null,null,"","","",1,"","","","","","","","","","","","",null,"","","","","","","",1,"","","","","","","","",null,null,21,"Merging",1,1,1,0,null,0,0,1,0,null,0,1,1,0,null,0,0,1,0]
[22,"Merging","WBT","MajT2","Major thru","SBR","MinR2","Stop near",null,{"$error":"#VALUE!"},{"$error":"#VALUE!"},{"$error":"#VALUE!"},null,0,15,45,7.5,4.8454301532720461E-4,null,0.72500000000000009,null,false,false,false,false,1,null,0,0.33333333333333326,null,null,null,1,null,0.24166666666666664,null,{"$error":"#VALUE!"},null,null,"","","",1,"","","","","","","","","","","","",null,"","","","","","","","","","","",1,"","","","",null,null,22,"Merging",0,0,1,0,null,0,0,1,0,null,0,0,1,0,null,0,0,1,0]
[23,"Merging","SBT","MinT2","Stop far","WBL","MajL2","Major left",null,{"$error":"#VALUE!"},{"$error":"#VALUE!"},{"$error":"#VALUE!"},null,25,20,45,8.9147801264732891,9.333798723087925E-4,null,0.72500000000000009,null,false,false,false,false,1,null,0,0.33333333333333326,null,null,null,1,null,0.24166666666666664,null,{"$error":"#VALUE!"},null,null,"","","","","","","","","",1,"","","","","","",null,"","","","",1,"","","","","","","","","","","",null,null,23,"Merging",2,0,0,0,null,1,0,0,0,null,2,0,0,0,null,1,0,0,0]
[24,"Merging","SBT","MinT2","Stop far","EBR","MajR1","Major right",null,{"$error":"#VALUE!"},{"$error":"#VALUE!"},{"$error":"#VALUE!"},null,25,15,45,8.9396576292116645,9.4329959592674944E-4,null,0.72500000000000009,null,false,false,false,false,1,null,0,0.33333333333333326,null,null,null,1,null,0.24166666666666664,null,{"$error":"#VALUE!"},null,null,"","","","","","","","","",1,"","","","","","",null,"","",1,"","","","","","","","","","","","","",null,null,24,"Merging",2,0,0,0,null,1,0,0,0,null,2,0,0,0,null,1,0,0,0]
[25,"Diverging","NBT","MinT1","Stop near","NBL","MinL1","Stop near",null,{"$error":"#VALUE!"},{"$error":"#VALUE!"},{"$error":"#VALUE!"},null,15,15,10,1.3073361412148754,6.4061388075216071E-7,null,1,null,false,false,false,false,1,null,"",1,null,null,null,1,null,1,null,{"$error":"#VALUE!"},null,null,"","","","","","",1,"","","","","","","","","",null,"","","","","","","",1,"","","","","","","","",null,null,25,"Diverging",0,0,0,0,null,0,0,0,0,null,0,0,0,0,null,0,0,0,0]
[26,"Diverging","NBT","MinT1","Stop near","NBR","MinR1","Stop near",null,{"$error":"#VALUE!"},{"$error":"#VALUE!"},{"$error":"#VALUE!"},null,15,15,10,1.3073361412148754,6.4061388075216071E-7,null,1,null,false,false,false,false,1,null,"",1,null,null,null,1,null,1,null,{"$error":"#VALUE!"},null,null,"","","","","","",1,"","","","","","","","","",null,"","","","","","","","",1,"","","","","","","",null,null,26,"Diverging",0,0,0,0,null,0,0,0,0,null,0,0,0,0,null,0,0,0,0]
[27,"Diverging","WBT","MajT2","Major thru","WBR","MajR2","Major right",null,{"$error":"#VALUE!"},{"$error":"#VALUE!"},{"$error":"#VALUE!"},null,0,15,10,7.5,4.8454301532720461E-4,null,1,null,false,false,false,false,1,null,"",1,null,null,null,1,null,1,null,{"$error":"#VALUE!"},null,null,"","","",1,"","","","","","","","","","","","",null,"","","","","",1,"","","","","","","","","","",null,null,27,"Diverging",0,0,0,0,null,0,0,0,0,null,0,0,0,0,null,0,0,0,0]
[28,"Diverging","WBT","MajT2","Major thru","WBL","MajL2","Major left",null,{"$error":"#VALUE!"},{"$error":"#VALUE!"},{"$error":"#VALUE!"},null,0,20,10,10,1.4431392232699444E-3,null,1,null,false,false,false,false,1,null,"",1,null,null,null,1,null,1,null,{"$error":"#VALUE!"},null,null,"","","",1,"","","","","","","","","","","","",null,"","","","",1,"","","","","","","","","","","",null,null,28,"Diverging",0,0,0,0,null,0,0,0,0,null,0,0,0,0,null,0,0,0,0]
[29,"Diverging","SBT","MinT2","Stop near","SBL","MinL2","Stop near",null,{"$error":"#VALUE!"},{"$error":"#VALUE!"},{"$error":"#VALUE!"},null,15,15,10,1.3073361412148754,6.4061388075216071E-7,null,1,null,false,false,false,false,1,null,"",1,null,null,null,1,null,1,null,{"$error":"#VALUE!"},null,null,"","","","","","","","","",1,"","","","","","",null,"","","","","","","","","","",1,"","","","","",null,null,29,"Diverging",0,0,0,0,null,0,0,0,0,null,0,0,0,0,null,0,0,0,0]
[30,"Diverging","SBT","MinT2","Stop near","SBR","MinR2","Stop near",null,{"$error":"#VALUE!"},{"$error":"#VALUE!"},{"$error":"#VALUE!"},null,15,15,10,1.3073361412148754,6.4061388075216071E-7,null,1,null,false,false,false,false,1,null,"",1,null,null,null,1,null,1,null,{"$error":"#VALUE!"},null,null,"","","","","","","","","",1,"","","","","","",null,"","","","","","","","","","","",1,"","","","",null,null,30,"Diverging",0,0,0,0,null,0,0,0,0,null,0,0,0,0,null,0,0,0,0]
[31,"Diverging","EBT","MajT1","Major thru","EBR","MajR1","Major right",null,{"$error":"#VALUE!"},{"$error":"#VALUE!"},{"$error":"#VALUE!"},null,0,15,10,7.5,4.8454301532720461E-4,null,1,null,false,false,false,false,1,null,"",1,null,null,null,1,null,1,null,{"$error":"#VALUE!"},null,null,1,"","","","","","","","","","","","","","","",null,"","",1,"","","","","","","","","","","","","",null,null,31,"Diverging",0,0,0,0,null,0,0,0,0,null,0,0,0,0,null,0,0,0,0]
[32,"Diverging","EBT","MajT1","Major thru","EBL","MajL1","Major left",null,{"$error":"#VALUE!"},{"$error":"#VALUE!"},{"$error":"#VALUE!"},null,0,20,10,10,1.4431392232699444E-3,null,1,null,false,false,false,false,1,null,"",1,null,null,null,1,null,1,null,{"$error":"#VALUE!"},null,null,{"$f":"IF(ISNUMBER(SEARCH(AN$3,$D35)),1,\"\")","v":1},"","","","","","","","","","","","","","","",null,{"$f":"IF(ISNUMBER(SEARCH(BE$3,$G35)),1,\"\")","v":""},1,"","","","","","","","","","","","","","",null,null,32,"Diverging",0,0,0,0,null,0,0,0,0,null,0,0,0,0,null,0,0,0,0]
[33,"Nonmotorized",null,"MajNM2","Nonmotorized",null,"MinR1","Stop near",null,{"$error":"#VALUE!"},{"$error":"#VALUE!"},{"$error":"#VALUE!"},null,{"$f":"VLOOKUP(E36,SSI_AGI_Range_VehSpeed,5,FALSE)","v":0},{"$f":"VLOOKUP(H36,SSI_AGI_Range_VehSpeed,5,FALSE)","v":15},{"$f":"IF(B36=\"Nonmotorized\",\"\",VLOOKUP(B36,SSI_AGI_Range_CollAngles,5,FALSE))","v":""},{"$f":"IF(B36=\"Nonmotorized\",\"\",SQRT(N36^2+O36^2-2*N36*O36*COS(RADIANS(P36)))/2)","v":""},{"$f":"IF(B36=\"Nonmotorized\",1/(1+EXP(3.8432-0.1237*O36)),(Q36/SSI_AGI_RegAlpha)^SSI_AGI_RegK+(Q36/SSI_AGI_RegAlpha)^SSI_AGI_RegK-((Q36/SSI_AGI_RegAlpha)^SSI_AGI_RegK)*((Q36/SSI_AGI_RegAlpha)^SSI_AGI_RegK))","v":0.1205004039155782},null,{"$f":"SSI_AGI_StopFactor","v":0.72500000000000009},null,{"$f":"IF(AND(SS_AGI_MajMedian=\"No\", SS_AGI_MinMedian=\"No\"),BY36,IF(AND(SS_AGI_MajMedian=\"Yes\",SS_AGI_MinMedian=\"No\"),CD36,IF(AND(SS_AGI_MajMedian=\"No\",SS_AGI_MinMedian=\"Yes\"),CI36,IF(AND(SS_AGI_MajMedian=\"Yes\",SS_AGI_MinMedian=\"Yes\"),CN36))))","v":false},{"$f":"IF(AND(SS_AGI_MajMedian=\"No\", SS_AGI_MinMedian=\"No\"),BZ36,IF(AND(SS_AGI_MajMedian=\"Yes\",SS_AGI_MinMedian=\"No\"),CE36,IF(AND(SS_AGI_MajMedian=\"No\",SS_AGI_MinMedian=\"Yes\"),CJ36,IF(AND(SS_AGI_MajMedian=\"Yes\",SS_AGI_MinMedian=\"Yes\"),CO36))))","v":false},{"$f":"IF(AND(SS_AGI_MajMedian=\"No\", SS_AGI_MinMedian=\"No\"),CA36,IF(AND(SS_AGI_MajMedian=\"Yes\",SS_AGI_MinMedian=\"No\"),CF36,IF(AND(SS_AGI_MajMedian=\"No\",SS_AGI_MinMedian=\"Yes\"),CK36,IF(AND(SS_AGI_MajMedian=\"Yes\",SS_AGI_MinMedian=\"Yes\"),CP36))))","v":false},{"$f":"IF(AND(SS_AGI_MajMedian=\"No\", SS_AGI_MinMedian=\"No\"),CB36,IF(AND(SS_AGI_MajMedian=\"Yes\",SS_AGI_MinMedian=\"No\"),CG36,IF(AND(SS_AGI_MajMedian=\"No\",SS_AGI_MinMedian=\"Yes\"),CL36,IF(AND(SS_AGI_MajMedian=\"Yes\",SS_AGI_MinMedian=\"Yes\"),CQ36))))","v":false},{"$f":"MAX(1,IF(B36<>\"Pedestrian\",V36*SSI_AGI_MajorThruLanes+W36*SSI_AGI_MinorThruLanes+X36*IF(SSI_AGI_MajorThruLanes=1,SSI_AGI_MergeWeightL1,IF(SSI_AGI_MajorThruLanes=2,SSI_AGI_MergeWeightL1+SSI_AGI_MergeWeightL2,SSI_AGI_MergeWeightL1+SSI_AGI_MergeWeightL2+SSI_AGI_MergeWeightL3*(SSI_AGI_MajorThruLanes-2)))+Y36*IF(SSI_AGI_MinorThruLanes=1,SSI_AGI_MergeWeightL1,IF(SSI_AGI_MinorThruLanes=2,SSI_AGI_MergeWeightL1+SSI_AGI_MergeWeightL2,SSI_AGI_MergeWeightL1+SSI_AGI_MergeWeightL2+SSI_AGI_MergeWeightL3*(SSI_AGI_MinorThruLanes-2))),V36*SSI_AGI_MajorThruLanes+W36*SSI_AGI_MinorThruLanes+X36*IF(SSI_AGI_MajorThruLanes=1,SSI_AGI_NM_MergeWeightL1,IF(SSI_AGI_MajorThruLanes=2,SSI_AGI_NM_MergeWeightL1+SSI_AGI_NM_MergeWeightL2,SSI_AGI_NM_MergeWeightL1+SSI_AGI_NM_MergeWeightL2+SSI_AGI_NM_MergeWeightL3*(SSI_AGI_MajorThruLanes-2)))+Y36*IF(SSI_AGI_MinorThruLanes=1,SSI_AGI_NM_MergeWeightL1,IF(SSI_AGI_MinorThruLanes=2,SSI_AGI_NM_MergeWeightL1+SSI_AGI_NM_MergeWeightL2,SSI_AGI_NM_MergeWeightL1+SSI_AGI_NM_MergeWeightL2+SSI_AGI_NM_MergeWeightL3*(SSI_AGI_MinorThruLanes-2)))))","v":1},null,{"$f":"IF(B36=\"Diverging\",\"\",SSI_AGI_VehSpeed_MjrThru)","v":0},0.33333333333333326,null,null,null,1,null,0.24166666666666664,null,{"$error":"#VALUE!"},null,null,"","","","","","","","","","","","","",1,"","",null,"","","","","","","","",1,"","","","","","","",null,null,33,"Nonmotorized",2,0,0,2,null,1,0,0,2,null,2,0,0,2,null,1,0,0,2]
[34,"Nonmotorized",null,"MajNM2","Nonmotorized",null,"MajT1","Major thru",null,{"$error":"#VALUE!"},{"$error":"#VALUE!"},{"$f":"PRODUCT(J37:K37)","v":{"$error":"#VALUE!"}},null,0,0,"","",2.0975532400616122E-2,null,1,null,false,false,false,false,1,null,0,0.33333333333333326,null,null,null,1,null,0.33333333333333326,null,{"$error":"#VALUE!"},null,null,"","","","","","","","","","","","","",1,"","",null,1,"","","","","","","","","","","","","","","",null,null,34,"Nonmotorized",2,0,0,2,null,1,0,0,2,null,2,0,0,2,null,1,0,0,2]
[35,"Nonmotorized",null,"MajNM2","Nonmotorized",null,"MinL2","Stop far",null,{"$error":"#VALUE!"},{"$error":"#VALUE!"},{"$error":"#VALUE!"},null,0,25,"","",0.32066879346345062,null,{"$f":"SSI_AGI_StopFactor","v":0.72500000000000009},null,false,false,false,false,1,null,0,0.33333333333333326,null,null,null,1,null,0.24166666666666664,null,{"$error":"#VALUE!"},null,null,"","","","","","","","","","","","","",1,"","",null,"","","","","","","","","","",1,"","","","","",null,null,35,"Nonmotorized",2,0,0,2,null,1,0,0,2,null,2,0,0,2,null,1,0,0,2]
[36,"Nonmotorized",null,"MajNM2","Nonmotorized",null,"MajL2","Major left",null,{"$error":"#VALUE!"},{"$error":"#VALUE!"},{"$error":"#VALUE!"},null,0,20,"","",0.20274912921655375,null,1,null,false,false,false,false,1,null,0,0.33333333333333326,null,null,null,1,null,0.33333333333333326,null,{"$error":"#VALUE!"},null,null,"","","","","","","","","","","","","",1,"","",null,"","","","",1,"","","","","","","","","","","",null,null,36,"Nonmotorized",2,0,0,2,null,1,0,0,0,null,2,0,0,2,null,1,0,0,0]
[37,"Nonmotorized",null,"MajNM2","Nonmotorized",null,"MajT2","Major thru",null,{"$error":"#VALUE!"},{"$error":"#VALUE!"},{"$error":"#VALUE!"},null,0,0,"","",2.0975532400616122E-2,null,1,null,false,false,false,false,1,null,0,0.33333333333333326,null,null,null,1,null,0.33333333333333326,null,{"$error":"#VALUE!"},null,null,"","","","","","","","","","","","","",1,"","",null,"","","",1,"","","","","","","","","","","","",null,null,37,"Nonmotorized",2,0,0,2,null,1,0,0,0,null,2,0,0,2,null,1,0,0,0]
[38,"Nonmotorized",null,"MajNM2","Nonmotorized",null,"MajR2","Major right",null,{"$error":"#VALUE!"},{"$error":"#VALUE!"},{"$error":"#VALUE!"},null,0,15,"","",0.1205004039155782,null,1,null,false,false,false,false,1,null,0,0.33333333333333326,null,null,null,1,null,0.33333333333333326,null,{"$error":"#VALUE!"},null,null,"","","","","","","","","","","","","",1,"","",null,"","","","","",1,"","","","","","","","","","",null,null,38,"Nonmotorized",2,0,0,2,null,1,0,0,0,null,2,0,0,2,null,1,0,0,0]
[39,"Nonmotorized",null,"MinNM2","Nonmotorized",null,"MajR2","Major right",null,{"$error":"#VALUE!"},{"$error":"#VALUE!"},{"$error":"#VALUE!"},null,0,15,"","",0.1205004039155782,null,1,null,false,false,false,false,1,null,0,0.33333333333333326,null,null,null,1,null,0.33333333333333326,null,{"$error":"#VALUE!"},null,null,"","","","","","","","","","","","","","","",1,null,"","","","","",1,"","","","","","","","","","",null,null,39,"Nonmotorized",0,2,2,0,null,0,2,2,0,null,0,2,1,0,null,0,2,1,0]
[40,"Nonmotorized",null,"MinNM2","Nonmotorized",null,"MinT1","Stop far",null,{"$error":"#VALUE!"},{"$error":"#VALUE!"},{"$error":"#VALUE!"},null,0,25,"","",0.32066879346345062,null,{"$f":"SSI_AGI_StopFactor","v":0.72500000000000009},null,false,false,false,false,1,null,0,0.33333333333333326,null,null,null,1,null,0.24166666666666664,null,{"$error":"#VALUE!"},null,null,"","","","","","","","","","","","","","","",1,null,"","","","","","",1,"","","","","","","","","",null,null,40,"Nonmotorized",0,2,2,0,null,0,2,2,0,null,0,2,1,0,null,0,2,1,0]
[41,"Nonmotorized",null,"MinNM2","Nonmotorized",null,"MajL1","Major left",null,{"$error":"#VALUE!"},{"$error":"#VALUE!"},{"$error":"#VALUE!"},null,0,20,"","",0.20274912921655375,null,1,null,false,false,false,false,1,null,0,0.33333333333333326,null,null,null,1,null,0.33333333333333326,null,{"$error":"#VALUE!"},null,null,"","","","","","","","","","","","","","","",1,null,"",1,"","","","","","","","","","","","","","",null,null,41,"Nonmotorized",0,2,2,0,null,0,2,2,0,null,0,2,1,0,null,0,2,1,0]
[42,"Nonmotorized",null,"MinNM2","Nonmotorized",null,"MinL2","Stop near",null,{"$error":"#VALUE!"},{"$error":"#VALUE!"},{"$error":"#VALUE!"},null,0,15,"","",0.1205004039155782,null,{"$f":"SSI_AGI_StopFactor","v":0.72500000000000009},null,false,false,false,false,1,null,0,0.33333333333333326,null,null,null,1,null,0.24166666666666664,null,{"$error":"#VALUE!"},null,null,"","","","","","","","","","","","","","","",1,null,"","","","","","","","","","",1,"","","","","",null,null,42,"Nonmotorized",0,2,2,0,null,0,2,2,0,null,0,0,1,0,null,0,0,1,0]
[43,"Nonmotorized",null,"MinNM2","Nonmotorized",null,"MinT2","Stop near",null,{"$error":"#VALUE!"},{"$error":"#VALUE!"},{"$error":"#VALUE!"},null,0,15,"","",0.1205004039155782,null,{"$f":"SSI_AGI_StopFactor","v":0.72500000000000009},null,false,false,false,false,1,null,0,0.33333333333333326,null,null,null,1,null,0.24166666666666664,null,{"$error":"#VALUE!"},null,null,"","","","","","","","","","","","","","","",1,null,"","","","","","","","","",1,"","","","","","",null,null,43,"Nonmotorized",0,2,2,0,null,0,2,2,0,null,0,0,1,0,null,0,0,1,0]
[44,"Nonmotorized",null,"MinNM2","Nonmotorized",null,"MinR2","Stop near",null,{"$error":"#VALUE!"},{"$error":"#VALUE!"},{"$error":"#VALUE!"},null,0,15,"","",0.1205004039155782,null,{"$f":"SSI_AGI_StopFactor","v":0.72500000000000009},null,false,false,false,false,1,null,0,0.33333333333333326,null,null,null,1,null,0.24166666666666664,null,{"$error":"#VALUE!"},null,null,"","","","","","","","","","","","","","","",1,null,"","","","","","","","","","","",1,"","","","",null,null,44,"Nonmotorized",0,2,2,0,null,0,2,2,0,null,0,0,1,0,null,0,0,1,0]
[45,"Nonmotorized",null,"MajNM1","Nonmotorized",null,"MinR2","Stop near",null,{"$error":"#VALUE!"},{"$error":"#VALUE!"},{"$error":"#VALUE!"},null,0,15,"","",0.1205004039155782,null,{"$f":"SSI_AGI_StopFactor","v":0.72500000000000009},null,false,false,false,false,1,null,0,0.33333333333333326,null,null,null,1,null,0.24166666666666664,null,{"$error":"#VALUE!"},null,null,"","","","","","","","","","","","",1,"","","",null,"","","","","","","","","","","",1,"","","","",null,null,45,"Nonmotorized",2,0,0,2,null,1,0,0,2,null,2,0,0,2,null,1,0,0,2]
[46,"Nonmotorized",null,"MajNM1","Nonmotorized",null,"MajT2","Major thru",null,{"$error":"#VALUE!"},{"$error":"#VALUE!"},{"$error":"#VALUE!"},null,0,0,"","",2.0975532400616122E-2,null,1,null,false,false,false,false,1,null,0,0.33333333333333326,null,null,null,1,null,0.33333333333333326,null,{"$error":"#VALUE!"},null,null,"","","","","","","","","","","","",1,"","","",null,"","","",1,"","","","","","","","","","","","",null,null,46,"Nonmotorized",2,0,0,2,null,1,0,0,2,null,2,0,0,2,null,1,0,0,2]
[47,"Nonmotorized",null,"MajNM1","Nonmotorized",null,"MinL1","Stop far",null,{"$error":"#VALUE!"},{"$error":"#VALUE!"},{"$error":"#VALUE!"},null,0,25,"","",0.32066879346345062,null,{"$f":"SSI_AGI_StopFactor","v":0.72500000000000009},null,false,false,false,false,1,null,0,0.33333333333333326,null,null,null,1,null,0.24166666666666664,null,{"$error":"#VALUE!"},null,null,"","","","","","","","","","","","",1,"","",{"$f":"IF(ISNUMBER(SEARCH(BC$3,$D50)),1,\"\")","v":""},null,"","","","","","","",1,"","","","","","","",{"$f":"IF(ISNUMBER(SEARCH(BT$3,$G50)),1,\"\")","v":""},null,null,47,"Nonmotorized",2,0,0,2,null,1,0,0,2,null,2,0,0,2,null,1,0,0,2]
[48,"Nonmotorized",null,"MajNM1","Nonmotorized",null,"MajL1","Major left",null,{"$error":"#VALUE!"},{"$error":"#VALUE!"},{"$error":"#VALUE!"},null,0,20,"","",0.20274912921655375,null,1,null,false,false,false,false,1,null,0,0.33333333333333326,null,null,null,1,null,0.33333333333333326,null,{"$error":"#VALUE!"},null,null,{"$f":"IF(ISNUMBER(SEARCH(AN$3,$D51)),1,\"\")","v":""},"","","","","","","","","","","",1,"","","",null,{"$f":"IF(ISNUMBER(SEARCH(BE$3,$G51)),1,\"\")","v":""},1,"","","","","","","","","","","","","","",null,null,48,"Nonmotorized",2,0,0,2,null,1,0,0,0,null,2,0,0,2,null,1,0,0,0]
[49,"Nonmotorized",null,"MajNM1","Nonmotorized",null,"MajT1","Major thru",null,{"$error":"#VALUE!"},{"$error":"#VALUE!"},{"$error":"#VALUE!"},null,0,0,"","",2.0975532400616122E-2,null,1,null,false,false,false,false,1,null,0,0.33333333333333326,null,null,null,1,null,0.33333333333333326,null,{"$error":"#VALUE!"},null,null,"","","","","","","","","","","","",1,"","","",null,1,"","","","","","","","","","","","","","","",null,null,49,"Nonmotorized",2,0,0,2,null,1,0,0,0,null,2,0,0,2,null,1,0,0,0]
[50,"Nonmotorized",null,"MajNM1","Nonmotorized",null,"MajR1","Major right",null,{"$error":"#VALUE!"},{"$error":"#VALUE!"},{"$error":"#VALUE!"},null,0,15,"","",0.1205004039155782,null,1,null,false,false,false,false,1,null,0,0.33333333333333326,null,null,null,1,null,0.33333333333333326,null,{"$error":"#VALUE!"},null,null,"","","","","","","","","","","","",1,"","","",null,"","",1,"","","","","","","","","","","","","",null,null,50,"Nonmotorized",2,0,0,2,null,1,0,0,0,null,2,0,0,2,null,1,0,0,0]
[51,"Nonmotorized",null,"MinNM1","Nonmotorized",null,"MajR1","Major right",null,{"$error":"#VALUE!"},{"$error":"#VALUE!"},{"$error":"#VALUE!"},null,0,15,"","",0.1205004039155782,null,1,null,false,false,false,false,1,null,0,0.33333333333333326,null,null,null,1,null,0.33333333333333326,null,{"$error":"#VALUE!"},null,null,"","","","","","","","","","","","","","",1,"",null,"","",1,"","","","","","","","","","","","","",null,null,51,"Nonmotorized",0,2,2,0,null,0,2,2,0,null,0,2,1,0,null,0,2,1,0]
[52,"Nonmotorized",null,"MinNM1","Nonmotorized",null,"MinT2","Stop far",null,{"$error":"#VALUE!"},{"$error":"#VALUE!"},{"$error":"#VALUE!"},null,0,25,"","",0.32066879346345062,null,{"$f":"SSI_AGI_StopFactor","v":0.72500000000000009},null,false,false,false,false,1,null,0,0.33333333333333326,null,null,null,1,null,0.24166666666666664,null,{"$error":"#VALUE!"},null,null,"","","","","","","","","","","","","","",1,"",null,"","","","","","","","","",1,"","","","","","",null,null,52,"Nonmotorized",0,2,2,0,null,0,2,2,0,null,0,2,1,0,null,0,2,1,0]
[53,"Nonmotorized",null,"MinNM1","Nonmotorized",null,"MajL2","Major left",null,{"$error":"#VALUE!"},{"$error":"#VALUE!"},{"$error":"#VALUE!"},null,0,20,"","",0.20274912921655375,null,1,null,false,false,false,false,1,null,0,0.33333333333333326,null,null,null,1,null,0.33333333333333326,null,{"$error":"#VALUE!"},null,null,"","","","","","","","","","","","","","",1,"",null,"","","","",1,"","","","","","","","","","","",null,null,53,"Nonmotorized",0,2,2,0,null,0,2,2,0,null,0,2,1,0,null,0,2,1,0]
[54,"Nonmotorized",null,"MinNM1","Nonmotorized",null,"MinL1","Stop near",null,{"$error":"#VALUE!"},{"$error":"#VALUE!"},{"$error":"#VALUE!"},null,0,15,"","",0.1205004039155782,null,{"$f":"SSI_AGI_StopFactor","v":0.72500000000000009},null,false,false,false,false,1,null,0,0.33333333333333326,null,null,null,1,null,0.24166666666666664,null,{"$error":"#VALUE!"},null,null,"","","","","","","","","","","","","","",1,"",null,"","","","","","","",1,"","","","","","","","",null,null,54,"Nonmotorized",0,2,2,0,null,0,2,2,0,null,0,0,1,0,null,0,0,1,0]
[55,"Nonmotorized",null,"MinNM1","Nonmotorized",null,"MinT1","Stop near",null,{"$error":"#VALUE!"},{"$error":"#VALUE!"},{"$error":"#VALUE!"},null,0,15,"","",0.1205004039155782,null,{"$f":"SSI_AGI_StopFactor","v":0.72500000000000009},null,false,false,false,false,1,null,0,0.33333333333333326,null,null,null,1,null,0.24166666666666664,null,{"$error":"#VALUE!"},null,null,"","","","","","","","","","","","","","",1,"",null,"","","","","","",1,"","","","","","","","","",null,null,55,"Nonmotorized",0,2,2,0,null,0,2,2,0,null,0,0,1,0,null,0,0,1,0]
[56,"Nonmotorized",null,"MinNM1","Nonmotorized",null,"MinR1","Stop near",null,{"$error":"#VALUE!"},{"$error":"#VALUE!"},{"$error":"#VALUE!"},null,0,15,"","",0.1205004039155782,null,{"$f":"SSI_AGI_StopFactor","v":0.72500000000000009},null,false,false,false,false,1,null,0,0.33333333333333326,null,null,null,1,null,0.24166666666666664,null,{"$error":"#VALUE!"},null,null,"","","","","","","","","","","","","","",1,"",null,"","","","","","","","",1,"","","","","","","",null,null,56,"Nonmotorized",0,2,2,0,null,0,2,2,0,null,0,0,1,0,null,0,0,1,0]
[null,null,null,null,null,null,null,null,null,null,null,null,null,null,null,null,null,null,null,null,null,null,null,null,null,null,null,null,null,null,null,null,null,null,null,null,null,null,"O",{"$f":"'SSI Inputs'!$D$26","v":{"$error":"#VALUE!"}},{"$f":"'SSI Inputs'!$D$27","v":{"$error":"#VALUE!"}},{"$f":"'SSI Inputs'!$D$28","v":{"$error":"#VALUE!"}},{"$f":"'SSI Inputs'!$D$30","v":{"$error":"#VALUE!"}},{"$f":"'SSI Inputs'!$D$31","v":{"$error":"#VALUE!"}},{"$f":"'SSI Inputs'!$D$32","v":{"$error":"#VALUE!"}},{"$f":"'SSI Inputs'!$D$34","v":{"$error":"#VALUE!"}},{"$f":"'SSI Inputs'!$D$35","v":{"$error":"#VALUE!"}},{"$f":"'SSI Inputs'!$D$36","v":{"$error":"#VALUE!"}},{"$f":"'SSI Inputs'!$D$38","v":{"$error":"#VALUE!"}},{"$f":"'SSI Inputs'!$D$39","v":{"$error":"#VALUE!"}},{"$f":"'SSI Inputs'!$D$40","v":{"$error":"#VALUE!"}},{"$f":"'SSI Inputs'!$Q$18","v":12.5},{"$f":"'SSI Inputs'!$Q$19","v":12.5},{"$f":"'SSI Inputs'!$Q$20","v":12.5},{"$f":"'SSI Inputs'!$Q$21","v":12.5},"O",{"$f":"'SSI Inputs'!$D$26","v":{"$error":"#VALUE!"}},{"$f":"'SSI Inputs'!$D$27","v":{"$error":"#VALUE!"}},{"$f":"'SSI Inputs'!$D$28","v":{"$error":"#VALUE!"}},{"$f":"'SSI Inputs'!$D$30","v":{"$error":"#VALUE!"}},{"$f":"'SSI Inputs'!$D$31","v":{"$error":"#VALUE!"}},{"$f":"'SSI Inputs'!$D$32","v":{"$error":"#VALUE!"}},{"$f":"'SSI Inputs'!$D$34","v":{"$error":"#VALUE!"}},{"$f":"'SSI Inputs'!$D$35","v":{"$error":"#VALUE!"}},{"$f":"'SSI Inputs'!$D$36","v":{"$error":"#VALUE!"}},{"$f":"'SSI Inputs'!$D$38","v":{"$error":"#VALUE!"}},{"$f":"'SSI Inputs'!$D$39","v":{"$error":"#VALUE!"}},{"$f":"'SSI Inputs'!$D$40","v":{"$error":"#VALUE!"}},{"$f":"'SSI Inputs'!$Q$18","v":12.5},{"$f":"'SSI Inputs'!$Q$19","v":12.5},{"$f":"'SSI Inputs'!$Q$20","v":12.5},{"$f":"'SSI Inputs'!$Q$21","v":12.5}]
[null,null,null,null,null,null,null,null,null,null,null,null,null,null,null,null,null,null,null,null,null,null,null,null,null,null,null,null,null,null,null,null,null,null,null,null,null,null,"D",{"$f":"'SSI Inputs'!$E$26","v":{"$error":"#VALUE!"}},{"$f":"'SSI Inputs'!$E$27","v":{"$error":"#VALUE!"}},{"$f":"'SSI Inputs'!$E$28","v":{"$error":"#VALUE!"}},{"$f":"'SSI Inputs'!$E$30","v":{"$error":"#VALUE!"}},{"$f":"'SSI Inputs'!$E$31","v":{"$error":"#VALUE!"}},{"$f":"'SSI Inputs'!$E$32","v":{"$error":"#VALUE!"}},{"$f":"'SSI Inputs'!$E$34","v":{"$error":"#VALUE!"}},{"$f":"'SSI Inputs'!$E$35","v":{"$error":"#VALUE!"}},{"$f":"'SSI Inputs'!$E$36","v":{"$error":"#VALUE!"}},{"$f":"'SSI Inputs'!$E$38","v":{"$error":"#VALUE!"}},{"$f":"'SSI Inputs'!$E$39","v":{"$error":"#VALUE!"}},{"$f":"'SSI Inputs'!$E$40","v":{"$error":"#VALUE!"}},{"$f":"'SSI Inputs'!$R$18","v":12.5},{"$f":"'SSI Inputs'!$R$19","v":12.5},{"$f":"'SSI Inputs'!$R$20","v":12.5},{"$f":"'SSI Inputs'!$R$21","v":12.5},"D",{"$f":"'SSI Inputs'!$E$26","v":{"$error":"#VALUE!"}},{"$f":"'SSI Inputs'!$E$27","v":{"$error":"#VALUE!"}},{"$f":"'SSI Inputs'!$E$28","v":{"$error":"#VALUE!"}},{"$f":"'SSI Inputs'!$E$30","v":{"$error":"#VALUE!"}},{"$f":"'SSI Inputs'!$E$31","v":{"$error":"#VALUE!"}},{"$f":"'SSI Inputs'!$E$32","v":{"$error":"#VALUE!"}},{"$f":"'SSI Inputs'!$E$34","v":{"$error":"#VALUE!"}},{"$f":"'SSI Inputs'!$E$35","v":{"$error":"#VALUE!"}},{"$f":"'SSI Inputs'!$E$36","v":{"$error":"#VALUE!"}},{"$f":"'SSI Inputs'!$E$38","v":{"$error":"#VALUE!"}},{"$f":"'SSI Inputs'!$E$39","v":{"$error":"#VALUE!"}},{"$f":"'SSI Inputs'!$E$40","v":{"$error":"#VALUE!"}},{"$f":"'SSI Inputs'!$R$18","v":12.5},{"$f":"'SSI Inputs'!$R$19","v":12.5},{"$f":"'SSI Inputs'!$R$20","v":12.5},{"$f":"'SSI Inputs'!$R$21","v":12.5}]
[]
[]
[]
[]
[]
[]
[]
[]
[]
[]
[]
[]
[]
[]
[]
[]
[]
[]
[]
[]
[]
[]
[]
[]
[]
[]
[]
[]
[]
[]
[]
[]
[]
[]
[]
[]
[]
[]
[]
[null,null,null,null,null,null,null,null,null,"Exposure",null,null,null,null,null,null,null,null,null,null,null,null,null,null,null,null,null,null,null,null,null,null,null,null,null,null,"Exposure-Severity-Complexity Product"]
[null,null,null,null,null,null,null,null,null,"Q1","Q2","I"]
[null,null,null,null,null,null,null,null,null,{"$f":"SUMPRODUCT($AN4:$BC4,$AN$61:$BC$61)","v":{"$error":"#VALUE!"}},{"$f":"SUMPRODUCT($BE4:$BT4,$BE$61:$BT$61)","v":{"$error":"#VALUE!"}},{"$f":"PRODUCT(J103:K103)","v":{"$error":"#VALUE!"}},null,null,null,null,null,null,null,null,null,null,null,null,null,null,null,null,null,null,null,null,null,null,null,null,{"$f":"L103*R4*AI4","v":{"$error":"#VALUE!"}}]
[null,null,null,null,null,null,null,null,null,{"$f":"SUMPRODUCT($AN5:$BC5,$AN$61:$BC$61)","v":{"$error":"#VALUE!"}},{"$f":"SUMPRODUCT($BE5:$BT5,$BE$61:$BT$61)","v":{"$error":"#VALUE!"}},{"$f":"PRODUCT(J104:K104)","v":{"$error":"#VALUE!"}},null,null,null,null,null,null,null,null,null,null,null,null,null,null,null,null,null,null,null,null,null,null,null,null,{"$f":"L104*R5*AI5","v":{"$error":"#VALUE!"}}]
[null,null,null,null,null,null,null,null,null,{"$error":"#VALUE!"},{"$error":"#VALUE!"},{"$error":"#VALUE!"},null,null,null,null,null,null,null,null,null,null,null,null,null,null,null,null,null,null,null,null,null,null,null,null,{"$error":"#VALUE!"}]
[null,null,null,null,null,null,null,null,null,{"$error":"#VALUE!"},{"$error":"#VALUE!"},{"$error":"#VALUE!"},null,null,null,null,null,null,null,null,null,null,null,null,null,null,null,null,null,null,null,null,null,null,null,null,{"$error":"#VALUE!"}]
[null,null,null,null,null,null,null,null,null,{"$error":"#VALUE!"},{"$error":"#VALUE!"},{"$error":"#VALUE!"},null,null,null,null,null,null,null,null,null,null,null,null,null,null,null,null,null,null,null,null,null,null,null,null,{"$error":"#VALUE!"}]
[null,null,null,null,null,null,null,null,null,{"$error":"#VALUE!"},{"$error":"#VALUE!"},{"$error":"#VALUE!"},null,null,null,null,null,null,null,null,null,null,null,null,null,null,null,null,null,null,null,null,null,null,null,null,{"$error":"#VALUE!"}]
[null,null,null,null,null,null,null,null,null,{"$error":"#VALUE!"},{"$error":"#VALUE!"},{"$error":"#VALUE!"},null,null,null,null,null,null,null,null,null,null,null,null,null,null,null,null,null,null,null,null,null,null,null,null,{"$error":"#VALUE!"}]
[null,null,null,null,null,null,null,null,null,{"$error":"#VALUE!"},{"$error":"#VALUE!"},{"$error":"#VALUE!"},null,null,null,null,null,null,null,null,null,null,null,null,null,null,null,null,null,null,null,null,null,null,null,null,{"$error":"#VALUE!"}]
[null,null,null,null,null,null,null,null,null,{"$error":"#VALUE!"},{"$error":"#VALUE!"},{"$error":"#VALUE!"},null,null,null,null,null,null,null,null,null,null,null,null,null,null,null,null,null,null,null,null,null,null,null,null,{"$error":"#VALUE!"}]
[null,null,null,null,null,null,null,null,null,{"$error":"#VALUE!"},{"$error":"#VALUE!"},{"$error":"#VALUE!"},null,null,null,null,null,null,null,null,null,null,null,null,null,null,null,null,null,null,null,null,null,null,null,null,{"$error":"#VALUE!"}]
[null,null,null,null,null,null,null,null,null,{"$error":"#VALUE!"},{"$error":"#VALUE!"},{"$error":"#VALUE!"},null,null,null,null,null,null,null,null,null,null,null,null,null,null,null,null,null,null,null,null,null,null,null,null,{"$error":"#VALUE!"}]
[null,null,null,null,null,null,null,null,null,{"$error":"#VALUE!"},{"$error":"#VALUE!"},{"$error":"#VALUE!"},null,null,null,null,null,null,null,null,null,null,null,null,null,null,null,null,null,null,null,null,null,null,null,null,{"$error":"#VALUE!"}]
[null,null,null,null,null,null,null,null,null,{"$error":"#VALUE!"},{"$error":"#VALUE!"},{"$error":"#VALUE!"},null,null,null,null,null,null,null,null,null,null,null,null,null,null,null,null,null,null,null,null,null,null,null,null,{"$error":"#VALUE!"}]
[null,null,null,null,null,null,null,null,null,{"$error":"#VALUE!"},{"$error":"#VALUE!"},{"$error":"#VALUE!"},null,null,null,null,null,null,null,null,null,null,null,null,null,null,null,null,null,null,null,null,null,null,null,null,{"$error":"#VALUE!"}]
[null,null,null,null,null,null,null,null,null,{"$error":"#VALUE!"},{"$error":"#VALUE!"},{"$error":"#VALUE!"},null,null,null,null,null,null,null,null,null,null,null,null,null,null,null,null,null,null,null,null,null,null,null,null,{"$error":"#VALUE!"}]
[null,null,null,null,null,null,null,null,null,{"$error":"#VALUE!"},{"$error":"#VALUE!"},{"$error":"#VALUE!"},null,null,null,null,null,null,null,null,null,null,null,null,null,null,null,null,null,null,null,null,null,null,null,null,{"$error":"#VALUE!"}]
[null,null,null,null,null,null,null,null,null,{"$error":"#VALUE!"},{"$error":"#VALUE!"},{"$error":"#VALUE!"},null,null,null,null,null,null,null,null,null,null,null,null,null,null,null,null,null,null,null,null,null,null,null,null,{"$error":"#VALUE!"}]
[null,null,null,null,null,null,null,null,null,{"$error":"#VALUE!"},{"$error":"#VALUE!"},{"$error":"#VALUE!"},null,null,null,null,null,null,null,null,null,null,null,null,null,null,null,null,null,null,null,null,null,null,null,null,{"$error":"#VALUE!"}]
[null,null,null,null,null,null,null,null,null,{"$error":"#VALUE!"},{"$error":"#VALUE!"},{"$error":"#VALUE!"},null,null,null,null,null,null,null,null,null,null,null,null,null,null,null,null,null,null,null,null,null,null,null,null,{"$error":"#VALUE!"}]
[null,null,null,null,null,null,null,null,null,{"$error":"#VALUE!"},{"$error":"#VALUE!"},{"$error":"#VALUE!"},null,null,null,null,null,null,null,null,null,null,null,null,null,null,null,null,null,null,null,null,null,null,null,null,{"$error":"#VALUE!"}]
[null,null,null,null,null,null,null,null,null,{"$error":"#VALUE!"},{"$error":"#VALUE!"},{"$error":"#VALUE!"},null,null,null,null,null,null,null,null,null,null,null,null,null,null,null,null,null,null,null,null,null,null,null,null,{"$error":"#VALUE!"}]
[null,null,null,null,null,null,null,null,null,{"$error":"#VALUE!"},{"$error":"#VALUE!"},{"$error":"#VALUE!"},null,null,null,null,null,null,null,null,null,null,null,null,null,null,null,null,null,null,null,null,null,null,null,null,{"$error":"#VALUE!"}]
[null,null,null,null,null,null,null,null,null,{"$error":"#VALUE!"},{"$error":"#VALUE!"},{"$error":"#VALUE!"},null,null,null,null,null,null,null,null,null,null,null,null,null,null,null,null,null,null,null,null,null,null,null,null,{"$error":"#VALUE!"}]
[null,null,null,null,null,null,null,null,null,{"$error":"#VALUE!"},{"$error":"#VALUE!"},{"$error":"#VALUE!"},null,null,null,null,null,null,null,null,null,null,null,null,null,null,null,null,null,null,null,null,null,null,null,null,{"$error":"#VALUE!"}]
[null,null,null,null,null,null,null,null,null,{"$error":"#VALUE!"},{"$error":"#VALUE!"},{"$error":"#VALUE!"},null,null,null,null,null,null,null,null,null,null,null,null,null,null,null,null,null,null,null,null,null,null,null,null,{"$error":"#VALUE!"}]
[null,null,null,null,null,null,null,null,null,{"$error":"#VALUE!"},{"$error":"#VALUE!"},{"$error":"#VALUE!"},null,null,null,null,null,null,null,null,null,null,null,null,null,null,null,null,null,null,null,null,null,null,null,null,{"$error":"#VALUE!"}]
[null,null,null,null,null,null,null,null,null,{"$error":"#VALUE!"},{"$error":"#VALUE!"},{"$error":"#VALUE!"},null,null,null,null,null,null,null,null,null,null,null,null,null,null,null,null,null,null,null,null,null,null,null,null,{"$error":"#VALUE!"}]
[null,null,null,null,null,null,null,null,null,{"$error":"#VALUE!"},{"$error":"#VALUE!"},{"$error":"#VALUE!"},null,null,null,null,null,null,null,null,null,null,null,null,null,null,null,null,null,null,null,null,null,null,null,null,{"$error":"#VALUE!"}]
[null,null,null,null,null,null,null,null,null,{"$error":"#VALUE!"},{"$error":"#VALUE!"},{"$error":"#VALUE!"},null,null,null,null,null,null,null,null,null,null,null,null,null,null,null,null,null,null,null,null,null,null,null,null,{"$error":"#VALUE!"}]
[null,null,null,null,null,null,null,null,null,{"$error":"#VALUE!"},{"$error":"#VALUE!"},{"$error":"#VALUE!"},null,null,null,null,null,null,null,null,null,null,null,null,null,null,null,null,null,null,null,null,null,null,null,null,{"$error":"#VALUE!"}]
[null,null,null,null,null,null,null,null,null,{"$error":"#VALUE!"},{"$error":"#VALUE!"},{"$error":"#VALUE!"},null,null,null,null,null,null,null,null,null,null,null,null,null,null,null,null,null,null,null,null,null,null,null,null,{"$error":"#VALUE!"}]
[null,null,null,null,null,null,null,null,null,{"$error":"#VALUE!"},{"$error":"#VALUE!"},{"$error":"#VALUE!"},null,null,null,null,null,null,null,null,null,null,null,null,null,null,null,null,null,null,null,null,null,null,null,null,{"$error":"#VALUE!"}]
[null,null,null,null,null,null,null,null,null,{"$error":"#VALUE!"},{"$error":"#VALUE!"},{"$error":"#VALUE!"},null,null,null,null,null,null,null,null,null,null,null,null,null,null,null,null,null,null,null,null,null,null,null,null,{"$error":"#VALUE!"}]
[null,null,null,null,null,null,null,null,null,{"$error":"#VALUE!"},{"$error":"#VALUE!"},{"$error":"#VALUE!"},null,null,null,null,null,null,null,null,null,null,null,null,null,null,null,null,null,null,null,null,null,null,null,null,{"$error":"#VALUE!"}]
[null,null,null,null,null,null,null,null,null,{"$error":"#VALUE!"},{"$error":"#VALUE!"},{"$error":"#VALUE!"},null,null,null,null,null,null,null,null,null,null,null,null,null,null,null,null,null,null,null,null,null,null,null,null,{"$error":"#VALUE!"}]
[null,null,null,null,null,null,null,null,null,{"$error":"#VALUE!"},{"$error":"#VALUE!"},{"$error":"#VALUE!"},null,null,null,null,null,null,null,null,null,null,null,null,null,null,null,null,null,null,null,null,null,null,null,null,{"$error":"#VALUE!"}]
[null,null,null,null,null,null,null,null,null,{"$error":"#VALUE!"},{"$error":"#VALUE!"},{"$error":"#VALUE!"},null,null,null,null,null,null,null,null,null,null,null,null,null,null,null,null,null,null,null,null,null,null,null,null,{"$error":"#VALUE!"}]
[null,null,null,null,null,null,null,null,null,{"$error":"#VALUE!"},{"$error":"#VALUE!"},{"$error":"#VALUE!"},null,null,null,null,null,null,null,null,null,null,null,null,null,null,null,null,null,null,null,null,null,null,null,null,{"$error":"#VALUE!"}]
[null,null,null,null,null,null,null,null,null,{"$error":"#VALUE!"},{"$error":"#VALUE!"},{"$error":"#VALUE!"},null,null,null,null,null,null,null,null,null,null,null,null,null,null,null,null,null,null,null,null,null,null,null,null,{"$error":"#VALUE!"}]
[null,null,null,null,null,null,null,null,null,{"$error":"#VALUE!"},{"$error":"#VALUE!"},{"$error":"#VALUE!"},null,null,null,null,null,null,null,null,null,null,null,null,null,null,null,null,null,null,null,null,null,null,null,null,{"$error":"#VALUE!"}]
[null,null,null,null,null,null,null,null,null,{"$error":"#VALUE!"},{"$error":"#VALUE!"},{"$error":"#VALUE!"},null,null,null,null,null,null,null,null,null,null,null,null,null,null,null,null,null,null,null,null,null,null,null,null,{"$error":"#VALUE!"}]
[null,null,null,null,null,null,null,null,null,{"$error":"#VALUE!"},{"$error":"#VALUE!"},{"$error":"#VALUE!"},null,null,null,null,null,null,null,null,null,null,null,null,null,null,null,null,null,null,null,null,null,null,null,null,{"$error":"#VALUE!"}]
[null,null,null,null,null,null,null,null,null,{"$error":"#VALUE!"},{"$error":"#VALUE!"},{"$error":"#VALUE!"},null,null,null,null,null,null,null,null,null,null,null,null,null,null,null,null,null,null,null,null,null,null,null,null,{"$error":"#VALUE!"}]
[null,null,null,null,null,null,null,null,null,{"$error":"#VALUE!"},{"$error":"#VALUE!"},{"$error":"#VALUE!"},null,null,null,null,null,null,null,null,null,null,null,null,null,null,null,null,null,null,null,null,null,null,null,null,{"$error":"#VALUE!"}]
[null,null,null,null,null,null,null,null,null,{"$error":"#VALUE!"},{"$error":"#VALUE!"},{"$error":"#VALUE!"},null,null,null,null,null,null,null,null,null,null,null,null,null,null,null,null,null,null,null,null,null,null,null,null,{"$error":"#VALUE!"}]
[null,null,null,null,null,null,null,null,null,{"$error":"#VALUE!"},{"$error":"#VALUE!"},{"$error":"#VALUE!"},null,null,null,null,null,null,null,null,null,null,null,null,null,null,null,null,null,null,null,null,null,null,null,null,{"$error":"#VALUE!"}]
[null,null,null,null,null,null,null,null,null,{"$error":"#VALUE!"},{"$error":"#VALUE!"},{"$error":"#VALUE!"},null,null,null,null,null,null,null,null,null,null,null,null,null,null,null,null,null,null,null,null,null,null,null,null,{"$error":"#VALUE!"}]
[null,null,null,null,null,null,null,null,null,{"$error":"#VALUE!"},{"$error":"#VALUE!"},{"$error":"#VALUE!"},null,null,null,null,null,null,null,null,null,null,null,null,null,null,null,null,null,null,null,null,null,null,null,null,{"$error":"#VALUE!"}]
[null,null,null,null,null,null,null,null,null,{"$error":"#VALUE!"},{"$error":"#VALUE!"},{"$error":"#VALUE!"},null,null,null,null,null,null,null,null,null,null,null,null,null,null,null,null,null,null,null,null,null,null,null,null,{"$error":"#VALUE!"}]
[null,null,null,null,null,null,null,null,null,{"$error":"#VALUE!"},{"$error":"#VALUE!"},{"$error":"#VALUE!"},null,null,null,null,null,null,null,null,null,null,null,null,null,null,null,null,null,null,null,null,null,null,null,null,{"$error":"#VALUE!"}]
[null,null,null,null,null,null,null,null,null,{"$error":"#VALUE!"},{"$error":"#VALUE!"},{"$error":"#VALUE!"},null,null,null,null,null,null,null,null,null,null,null,null,null,null,null,null,null,null,null,null,null,null,null,null,{"$error":"#VALUE!"}]
[null,null,null,null,null,null,null,null,null,{"$error":"#VALUE!"},{"$error":"#VALUE!"},{"$error":"#VALUE!"},null,null,null,null,null,null,null,null,null,null,null,null,null,null,null,null,null,null,null,null,null,null,null,null,{"$error":"#VALUE!"}]
[null,null,null,null,null,null,null,null,null,{"$error":"#VALUE!"},{"$error":"#VALUE!"},{"$error":"#VALUE!"},null,null,null,null,null,null,null,null,null,null,null,null,null,null,null,null,null,null,null,null,null,null,null,null,{"$error":"#VALUE!"}]
[null,null,null,null,null,null,null,null,null,{"$error":"#VALUE!"},{"$error":"#VALUE!"},{"$error":"#VALUE!"},null,null,null,null,null,null,null,null,null,null,null,null,null,null,null,null,null,null,null,null,null,null,null,null,{"$error":"#VALUE!"}]
[null,null,null,null,null,null,null,null,null,{"$error":"#VALUE!"},{"$error":"#VALUE!"},{"$error":"#VALUE!"},null,null,null,null,null,null,null,null,null,null,null,null,null,null,null,null,null,null,null,null,null,null,null,null,{"$error":"#VALUE!"}]
[null,null,null,null,null,null,null,null,null,{"$error":"#VALUE!"},{"$error":"#VALUE!"},{"$error":"#VALUE!"},null,null,null,null,null,null,null,null,null,null,null,null,null,null,null,null,null,null,null,null,null,null,null,null,{"$error":"#VALUE!"}]

{"sheet":"Trad_AllStop","index":46,"n_rows":158,"n_cols":95,"rows_kept":158,"cut":false,"hidden":true,"merged":[[0,19,0,28],[0,30,0,32],[1,31,2,31],[1,32,2,32],[1,21,1,25],[1,27,1,28],[1,30,2,30],[1,76,1,79],[1,81,1,84],[1,86,1,89],[1,91,1,94],[100,9,100,11],[100,36,101,36],[1,34,2,34],[1,36,2,36],[1,39,1,54],[1,9,1,11],[1,13,1,17],[1,56,1,71]]}
[null,null,null,null,null,null,null,null,null,null,null,null,null,null,null,null,null,null,null,"Conflicting Traffic Complexity",null,null,null,null,null,null,null,null,null,null,"Pedestrian Complexity",null,null,null,null,null,null,null,null,null,null,null,null,null,null,null,null,null,null,null,null,null,null,null,null,null,null,null,null,null,null,null,null,null,null,null,null,null,null,null,null,null,null,null,null,"*impact of median on complexity factors"]
[null,null,null,null,null,null,null,null,null,"Exposure",null,null,null,"Severity",null,null,null,null,null,"Traffic Control",null,"Conflicting Lanes",null,null,null,null,null,"Conflicting Speed",null,null,"Indirect Paths Indicator","Non-intuitive movements indicator","Pedestrian Complexity factor",null,"Total Complexity Multiplier",null,"Exposure-Severity-Complexity Product",null,null,"Included in Mvmt1",null,null,null,null,null,null,null,null,null,null,null,null,null,null,null,null,"Included in Mvmt2",null,null,null,null,null,null,null,null,null,null,null,null,null,null,null,null,null,null,null,"Major:No, Minor: No",null,null,null,null,"Major:Yes, Minor: No",null,null,null,null,"Major:No, Minor: Yes",null,null,null,null,"Major:Yes, Minor: Yes"]
["#","Conflict Type","Mvmt1","Mvmt1_gen","Mvmt1_SpeedCat","Mvmt2","Mvmt2_gen","Mvmt2_SpeedCat",null,"Q1","Q2","I",null,"Speed_V1","Speed_V2","Angle","delta_V","P_FSI",null,null,null,"MajC","MinC","MajM/P","MinM/P","Score",null,"Speed","Factor",null,null,null,null,null,null,null,null,null,null,"MajT1","MajL1","MajR1","MajT2","MajL2","MajR2","MinT1","MinL1","MinR1","MinT2","MinL2","MinR2","MajNM1","MajNM2","MinNM1","MinNM2",null,"MajT1","MajL1","MajR1","MajT2","MajL2","MajR2","MinT1","MinL1","MinR1","MinT2","MinL2","MinR2","MajNM1","MajNM2","MinNM1","MinNM2",null,null,"#","Conflict Type","MajC","MinC","MajM/P","MinM/P",null,"MajC","MinC","MajM/P","MinM/P",null,"MajC","MinC","MajM/P","MinM/P",null,"MajC","MinC","MajM/P","MinM/P"]
[1,"Crossing","NBT","MinT1","Stop near","EBT","MajT1","Stop far",null,{"$f":"SUMPRODUCT($AN4:$BC4,$AN$60:$BC$60)","v":{"$error":"#VALUE!"}},{"$f":"SUMPRODUCT($BE4:$BT4,$BE$60:$BT$60)","v":{"$error":"#VALUE!"}},{"$f":"PRODUCT(J4:K4)","v":{"$error":"#VALUE!"}},null,{"$f":"VLOOKUP(E4,SSI_AGI_Range_VehSpeed,5,FALSE)","v":15},{"$f":"VLOOKUP(H4,SSI_AGI_Range_VehSpeed,5,FALSE)","v":25},{"$f":"IF(B4=\"Nonmotorized\",\"\",VLOOKUP(B4,SSI_AGI_Range_CollAngles,5,FALSE))","v":90},{"$f":"IF(B4=\"Nonmotorized\",\"\",SQRT(N4^2+O4^2-2*N4*O4*COS(RADIANS(P4)))/2)","v":14.577379737113251},{"$f":"IF(B4=\"Nonmotorized\",1/(1+EXP(3.8432-0.1237*O4)),(Q4/SSI_AGI_RegAlpha)^SSI_AGI_RegK+(Q4/SSI_AGI_RegAlpha)^SSI_AGI_RegK-((Q4/SSI_AGI_RegAlpha)^SSI_AGI_RegK)*((Q4/SSI_AGI_RegAlpha)^SSI_AGI_RegK))","v":6.0240867167528703E-3},null,{"$f":"SSI_AGI_StopFactor","v":0.72500000000000009},null,{"$f":"IF(AND(SS_AGI_MajMedian=\"No\", SS_AGI_MinMedian=\"No\"),BY4,IF(AND(SS_AGI_MajMedian=\"Yes\",SS_AGI_MinMedian=\"No\"),CD4,IF(AND(SS_AGI_MajMedian=\"No\",SS_AGI_MinMedian=\"Yes\"),CI4,IF(AND(SS_AGI_MajMedian=\"Yes\",SS_AGI_MinMedian=\"Yes\"),CN4))))","v":false},{"$f":"IF(AND(SS_AGI_MajMedian=\"No\", SS_AGI_MinMedian=\"No\"),BZ4,IF(AND(SS_AGI_MajMedian=\"Yes\",SS_AGI_MinMedian=\"No\"),CE4,IF(AND(SS_AGI_MajMedian=\"No\",SS_AGI_MinMedian=\"Yes\"),CJ4,IF(AND(SS_AGI_MajMedian=\"Yes\",SS_AGI_MinMedian=\"Yes\"),CO4))))","v":false},{"$f":"IF(AND(SS_AGI_MajMedian=\"No\", SS_AGI_MinMedian=\"No\"),CA4,IF(AND(SS_AGI_MajMedian=\"Yes\",SS_AGI_MinMedian=\"No\"),CF4,IF(AND(SS_AGI_MajMedian=\"No\",SS_AGI_MinMedian=\"Yes\"),CK4,IF(AND(SS_AGI_MajMedian=\"Yes\",SS_AGI_MinMedian=\"Yes\"),CP4))))","v":false},{"$f":"IF(AND(SS_AGI_MajMedian=\"No\", SS_AGI_MinMedian=\"No\"),CB4,IF(AND(SS_AGI_MajMedian=\"Yes\",SS_AGI_MinMedian=\"No\"),CG4,IF(AND(SS_AGI_MajMedian=\"No\",SS_AGI_MinMedian=\"Yes\"),CL4,IF(AND(SS_AGI_MajMedian=\"Yes\",SS_AGI_MinMedian=\"Yes\"),CQ4))))","v":false},{"$f":"MAX(1,IF(B4<>\"Pedestrian\",V4*SSI_AGI_MajorThruLanes+W4*SSI_AGI_MinorThruLanes+X4*IF(SSI_AGI_MajorThruLanes=1,SSI_AGI_MergeWeightL1,IF(SSI_AGI_MajorThruLanes=2,SSI_AGI_MergeWeightL1+SSI_AGI_MergeWeightL2,SSI_AGI_MergeWeightL1+SSI_AGI_MergeWeightL2+SSI_AGI_MergeWeightL3*(SSI_AGI_MajorThruLanes-2)))+Y4*IF(SSI_AGI_MinorThruLanes=1,SSI_AGI_MergeWeightL1,IF(SSI_AGI_MinorThruLanes=2,SSI_AGI_MergeWeightL1+SSI_AGI_MergeWeightL2,SSI_AGI_MergeWeightL1+SSI_AGI_MergeWeightL2+SSI_AGI_MergeWeightL3*(SSI_AGI_MinorThruLanes-2))),V4*SSI_AGI_MajorThruLanes+W4*SSI_AGI_MinorThruLanes+X4*IF(SSI_AGI_MajorThruLanes=1,SSI_AGI_NM_MergeWeightL1,IF(SSI_AGI_MajorThruLanes=2,SSI_AGI_NM_MergeWeightL1+SSI_AGI_NM_MergeWeightL2,SSI_AGI_NM_MergeWeightL1+SSI_AGI_NM_MergeWeightL2+SSI_AGI_NM_MergeWeightL3*(SSI_AGI_MajorThruLanes-2)))+Y4*IF(SSI_AGI_MinorThruLanes=1,SSI_AGI_NM_MergeWeightL1,IF(SSI_AGI_MinorThruLanes=2,SSI_AGI_NM_MergeWeightL1+SSI_AGI_NM_MergeWeightL2,SSI_AGI_NM_MergeWeightL1+SSI_AGI_NM_MergeWeightL2+SSI_AGI_NM_MergeWeightL3*(SSI_AGI_MinorThruLanes-2)))))","v":1},null,{"$f":"IF(B4=\"Diverging\",\"\",SSI_AGI_VehSpeed_MjrThru)","v":0},{"$f":"IF(B4=\"Diverging\",1,1-((60-AB4)/60*0.1/0.15))","v":0.33333333333333326},null,null,null,{"$f":"1+AE4+AF4","v":1},null,{"$f":"PRODUCT(Z4,T4,AC4,AG4)","v":0.24166666666666664},null,{"$f":"L4*R4*AI4","v":{"$error":"#VALUE!"}},null,null,{"$f":"IF(ISNUMBER(SEARCH(AN$3,$D4)),1,\"\")","v":""},{"$f":"IF(ISNUMBER(SEARCH(AO$3,$D4)),1,\"\")","v":""},"","","","",1,"","","","","","","","","",null,{"$f":"IF(ISNUMBER(SEARCH(BE$3,$G4)),1,\"\")","v":1},{"$f":"IF(ISNUMBER(SEARCH(BF$3,$G4)),1,\"\")","v":""},"","","","","","","","","","","","","","",null,null,1,"Crossing",2,0,0,0,null,1,0,0,0,null,2,0,0,0,null,1,0,0,0]
[2,"Crossing - LT","NBT","MinT1","Stop near","SBL","MinL2","Stop far",null,{"$f":"SUMPRODUCT($AN5:$BC5,$AN$60:$BC$60)","v":{"$error":"#VALUE!"}},{"$f":"SUMPRODUCT($BE5:$BT5,$BE$60:$BT$60)","v":{"$error":"#VALUE!"}},{"$f":"PRODUCT(J5:K5)","v":{"$error":"#VALUE!"}},null,15,25,230,{"$f":"IF(B5=\"Nonmotorized\",\"\",SQRT(N5^2+O5^2-2*N5*O5*COS(RADIANS(P5)))/2)","v":18.248908921254063},1.4099039069818802E-2,null,0.72500000000000009,null,false,false,false,false,1,null,0,0.33333333333333326,null,null,null,{"$f":"1+AE5+AF5","v":1},null,0.24166666666666664,null,{"$f":"L5*R5*AI5","v":{"$error":"#VALUE!"}},null,null,{"$f":"IF(ISNUMBER(SEARCH(AN$3,$D5)),1,\"\")","v":""},"","","","","",1,"","","","","","","","","",null,{"$f":"IF(ISNUMBER(SEARCH(BE$3,$G5)),1,\"\")","v":""},"","","","","","","","","",1,"","","","","",null,null,2,"Crossing - LT",1,1,1,0,null,1,1,0,0,null,0,1,1,0,null,0,1,0,0]
[3,"Crossing - LT","NBT","MinT1","Stop far","WBL","MajL2","Stop near",null,{"$error":"#VALUE!"},{"$error":"#VALUE!"},{"$error":"#VALUE!"},null,25,15,230,18.248908921254063,1.4099039069818802E-2,null,0.72500000000000009,null,false,false,false,false,1,null,0,0.33333333333333326,null,null,null,1,null,0.24166666666666664,null,{"$error":"#VALUE!"},null,null,"","","","","","",1,"","","","","","","","","",null,"","","","",1,"","","","","","","","","","","",null,null,3,"Crossing - LT",2,0,0,0,null,1,0,0,0,null,2,0,0,0,null,1,0,0,0]
[4,"Crossing","NBT","MinT1","Stop far","WBT","MajT2","Stop near",null,{"$error":"#VALUE!"},{"$error":"#VALUE!"},{"$error":"#VALUE!"},null,25,15,90,14.577379737113251,6.0240867167528703E-3,null,0.72500000000000009,null,false,false,false,false,1,null,0,0.33333333333333326,null,null,null,1,null,0.24166666666666664,null,{"$error":"#VALUE!"},null,null,"","","","","","",1,"","","","","","","","","",null,"","","",1,"","","","","","","","","","","","",null,null,4,"Crossing",2,0,0,0,null,1,0,0,0,null,2,0,0,0,null,1,0,0,0]
[5,"Crossing - LT","WBT","MajT2","Stop near","EBL","MajL1","Stop far",null,{"$error":"#VALUE!"},{"$error":"#VALUE!"},{"$error":"#VALUE!"},null,15,25,230,18.248908921254063,1.4099039069818802E-2,null,0.72500000000000009,null,false,false,false,false,1,null,0,0.33333333333333326,null,null,null,1,null,0.24166666666666664,null,{"$error":"#VALUE!"},null,null,"","","",1,"","","","","","","","","","","","",null,"",1,"","","","","","","","","","","","","","",null,null,5,"Crossing - LT",1,0,0,0,null,1,0,0,0,null,1,0,0,0,null,1,0,0,0]
[6,"Crossing - LT","WBT","MajT2","Stop far","SBL","MinL2","Stop near",null,{"$error":"#VALUE!"},{"$error":"#VALUE!"},{"$error":"#VALUE!"},null,25,15,230,18.248908921254063,1.4099039069818802E-2,null,0.72500000000000009,null,false,false,false,false,1,null,0,0.33333333333333326,null,null,null,1,null,0.24166666666666664,null,{"$error":"#VALUE!"},null,null,"","","",1,"","","","","","","","","","","","",null,"","","","","","","","","","",1,"","","","","",null,null,6,"Crossing - LT",1,1,1,0,null,1,1,0,0,null,1,0,0,0,null,1,0,0,0]
[7,"Crossing","SBT","MinT2","Stop near","WBT","MajT2","Stop far",null,{"$error":"#VALUE!"},{"$error":"#VALUE!"},{"$error":"#VALUE!"},null,15,25,90,14.577379737113251,6.0240867167528703E-3,null,0.72500000000000009,null,false,false,false,false,1,null,0,0.33333333333333326,null,null,null,1,null,0.24166666666666664,null,{"$error":"#VALUE!"},null,null,"","","","","","","","","",1,"","","","","","",null,"","","",1,"","","","","","","","","","","","",null,null,7,"Crossing",2,0,0,0,null,1,0,0,0,null,2,0,0,0,null,1,0,0,0]
[8,"Crossing - LT","SBT","MinT2","Stop near","NBL","MinL1","Stop far",null,{"$error":"#VALUE!"},{"$error":"#VALUE!"},{"$error":"#VALUE!"},null,15,25,230,18.248908921254063,1.4099039069818802E-2,null,0.72500000000000009,null,false,false,false,false,1,null,0,0.33333333333333326,null,null,null,1,null,0.24166666666666664,null,{"$error":"#VALUE!"},null,null,"","","","","","","","","",1,"","","","","","",null,"","","","","","","",1,"","","","","","","","",null,null,8,"Crossing - LT",1,1,1,0,null,1,1,0,0,null,0,1,1,0,null,0,1,0,0]
[9,"Crossing - LT","SBT","MinT2","Stop far","EBL","MajL1","Stop near",null,{"$error":"#VALUE!"},{"$error":"#VALUE!"},{"$error":"#VALUE!"},null,25,15,230,18.248908921254063,1.4099039069818802E-2,null,0.72500000000000009,null,false,false,false,false,1,null,0,0.33333333333333326,null,null,null,1,null,0.24166666666666664,null,{"$error":"#VALUE!"},null,null,"","","","","","","","","",1,"","","","","","",null,"",1,"","","","","","","","","","","","","","",null,null,9,"Crossing - LT",2,0,0,0,null,1,0,0,0,null,2,0,0,0,null,1,0,0,0]
[10,"Crossing","SBT","MinT2","Stop far","EBT","MajT1","Stop near",null,{"$error":"#VALUE!"},{"$error":"#VALUE!"},{"$error":"#VALUE!"},null,25,15,90,14.577379737113251,6.0240867167528703E-3,null,0.72500000000000009,null,false,false,false,false,1,null,0,0.33333333333333326,null,null,null,1,null,0.24166666666666664,null,{"$error":"#VALUE!"},null,null,"","","","","","","","","",1,"","","","","","",null,1,"","","","","","","","","","","","","","","",null,null,10,"Crossing",2,0,0,0,null,1,0,0,0,null,2,0,0,0,null,1,0,0,0]
[11,"Crossing - LT","EBT","MajT1","Stop near","WBL","MajL2","Stop far",null,{"$error":"#VALUE!"},{"$error":"#VALUE!"},{"$error":"#VALUE!"},null,15,25,230,18.248908921254063,1.4099039069818802E-2,null,0.72500000000000009,null,false,false,false,false,1,null,0,0.33333333333333326,null,null,null,1,null,0.24166666666666664,null,{"$error":"#VALUE!"},null,null,1,"","","","","","","","","","","","","","","",null,"","","","",1,"","","","","","","","","","","",null,null,11,"Crossing - LT",1,0,0,0,null,1,0,0,0,null,1,0,0,0,null,1,0,0,0]
[12,"Crossing - LT","EBT","MajT1","Stop far","NBL","MinL1","Stop near",null,{"$error":"#VALUE!"},{"$error":"#VALUE!"},{"$error":"#VALUE!"},null,25,15,230,18.248908921254063,1.4099039069818802E-2,null,0.72500000000000009,null,false,false,false,false,1,null,0,0.33333333333333326,null,null,null,1,null,0.24166666666666664,null,{"$error":"#VALUE!"},null,null,1,"","","","","","","","","","","","","","","",null,"","","","","","","",1,"","","","","","","","",null,null,12,"Crossing - LT",1,1,1,0,null,1,1,0,0,null,1,0,0,0,null,1,0,0,0]
[13,"Crossing - LT","NBL","MinL1","Stop near","WBL","MajL2","Stop far",null,{"$error":"#VALUE!"},{"$error":"#VALUE!"},{"$error":"#VALUE!"},null,15,25,230,18.248908921254063,1.4099039069818802E-2,null,0.72500000000000009,null,false,false,false,false,1,null,0,0.33333333333333326,null,null,null,1,null,0.24166666666666664,null,{"$error":"#VALUE!"},null,null,"","","","","","","",1,"","","","","","","","",null,"","","","",1,"","","","","","","","","","","",null,null,13,"Crossing - LT",1,1,1,0,null,1,1,0,0,null,1,0,0,0,null,1,0,0,0]
[14,"Crossing - LT","NBL","MinL1","Stop near","EBL","MajL1","Stop near",null,{"$error":"#VALUE!"},{"$error":"#VALUE!"},{"$error":"#VALUE!"},null,15,15,230,13.59461680554975,4.62405573320822E-3,null,0.72500000000000009,null,false,false,false,false,1,null,0,0.33333333333333326,null,null,null,1,null,0.24166666666666664,null,{"$error":"#VALUE!"},null,null,"","","","","","","",1,"","","","","","","","",null,"",1,"","","","","","","","","","","","","","",null,null,14,"Crossing - LT",1,1,1,0,null,1,1,0,0,null,1,0,0,0,null,1,0,0,0]
[15,"Crossing - LT","SBL","MinL2","Stop near","EBL","MajL1","Stop far",null,{"$error":"#VALUE!"},{"$error":"#VALUE!"},{"$error":"#VALUE!"},null,15,25,230,18.248908921254063,1.4099039069818802E-2,null,0.72500000000000009,null,false,false,false,false,1,null,0,0.33333333333333326,null,null,null,1,null,0.24166666666666664,null,{"$error":"#VALUE!"},null,null,"","","","","","","","","","",1,"","","","","",null,"",1,"","","","","","","","","","","","","","",null,null,15,"Crossing - LT",1,1,1,0,null,1,1,0,0,null,1,0,0,0,null,1,0,0,0]
[16,"Crossing - LT","SBL","MinL2","Stop near","WBL","MajL2","Stop near",null,{"$error":"#VALUE!"},{"$error":"#VALUE!"},{"$error":"#VALUE!"},null,15,15,230,13.59461680554975,4.62405573320822E-3,null,0.72500000000000009,null,false,false,false,false,1,null,0,0.33333333333333326,null,null,null,1,null,0.24166666666666664,null,{"$error":"#VALUE!"},null,null,"","","","","","","","","","",1,"","","","","",null,"","","","",1,"","","","","","","","","","","",null,null,16,"Crossing - LT",1,1,1,0,null,1,1,0,0,null,1,0,0,0,null,1,0,0,0]
[17,"Merging","EBT","MajT1","Stop far","SBL","MinL2","Stop far",null,{"$error":"#VALUE!"},{"$error":"#VALUE!"},{"$error":"#VALUE!"},null,25,25,45,9.5670858091272439,1.2201154392262267E-3,null,0.72500000000000009,null,false,false,false,false,1,null,0,0.33333333333333326,null,null,null,1,null,0.24166666666666664,null,{"$error":"#VALUE!"},null,null,1,"","","","","","","","","","","","","","","",null,"","","","","","","","","","",1,"","","","","",null,null,17,"Merging",1,1,1,0,null,0,0,1,0,null,0,1,1,0,null,0,0,1,0]
[18,"Merging","EBT","MajT1","Stop far","NBR","MinR1","Stop near",null,{"$error":"#VALUE!"},{"$error":"#VALUE!"},{"$error":"#VALUE!"},null,25,15,45,8.9396576292116645,9.4329959592674944E-4,null,0.72500000000000009,null,false,false,false,false,1,null,0,0.33333333333333326,null,null,null,1,null,0.24166666666666664,null,{"$error":"#VALUE!"},null,null,1,"","","","","","","","","","","","","","","",null,"","","","","","","","",1,"","","","","","","",null,null,18,"Merging",0,0,1,0,null,0,0,1,0,null,0,0,1,0,null,0,0,1,0]
[19,"Merging","NBT","MinT1","Stop far","EBL","MajL1","Stop far",null,{"$error":"#VALUE!"},{"$error":"#VALUE!"},{"$error":"#VALUE!"},null,25,25,45,9.5670858091272439,1.2201154392262267E-3,null,0.72500000000000009,null,false,false,false,false,1,null,0,0.33333333333333326,null,null,null,1,null,0.24166666666666664,null,{"$error":"#VALUE!"},null,null,"","","","","","",1,"","","","","","","","","",null,"",1,"","","","","","","","","","","","","","",null,null,19,"Merging",2,0,0,0,null,1,0,0,0,null,2,0,0,0,null,1,0,0,0]
[20,"Merging","NBT","MinT1","Stop far","WBR","MajR2","Stop near",null,{"$error":"#VALUE!"},{"$error":"#VALUE!"},{"$error":"#VALUE!"},null,25,15,45,8.9396576292116645,9.4329959592674944E-4,null,0.72500000000000009,null,false,false,false,false,1,null,0,0.33333333333333326,null,null,null,1,null,0.24166666666666664,null,{"$error":"#VALUE!"},null,null,"","","","","","",1,"","","","","","","","","",null,"","","","","",1,"","","","","","","","","","",null,null,20,"Merging",2,0,0,0,null,1,0,0,0,null,2,0,0,0,null,1,0,0,0]
[21,"Merging","WBT","MajT2","Stop far","NBL","MinL1","Stop far",null,{"$error":"#VALUE!"},{"$error":"#VALUE!"},{"$error":"#VALUE!"},null,25,25,45,9.5670858091272439,1.2201154392262267E-3,null,0.72500000000000009,null,false,false,false,false,1,null,0,0.33333333333333326,null,null,null,1,null,0.24166666666666664,null,{"$error":"#VALUE!"},null,null,"","","",1,"","","","","","","","","","","","",null,"","","","","","","",1,"","","","","","","","",null,null,21,"Merging",1,1,1,0,null,0,0,1,0,null,0,1,1,0,null,0,0,1,0]
[22,"Merging","WBT","MajT2","Stop far","SBR","MinR2","Stop near",null,{"$error":"#VALUE!"},{"$error":"#VALUE!"},{"$error":"#VALUE!"},null,25,15,45,8.9396576292116645,9.4329959592674944E-4,null,0.72500000000000009,null,false,false,false,false,1,null,0,0.33333333333333326,null,null,null,1,null,0.24166666666666664,null,{"$error":"#VALUE!"},null,null,"","","",1,"","","","","","","","","","","","",null,"","","","","","","","","","","",1,"","","","",null,null,22,"Merging",0,0,1,0,null,0,0,1,0,null,0,0,1,0,null,0,0,1,0]
[23,"Merging","SBT","MinT2","Stop far","WBL","MajL2","Stop far",null,{"$error":"#VALUE!"},{"$error":"#VALUE!"},{"$error":"#VALUE!"},null,25,25,45,9.5670858091272439,1.2201154392262267E-3,null,0.72500000000000009,null,false,false,false,false,1,null,0,0.33333333333333326,null,null,null,1,null,0.24166666666666664,null,{"$error":"#VALUE!"},null,null,"","","","","","","","","",1,"","","","","","",null,"","","","",1,"","","","","","","","","","","",null,null,23,"Merging",2,0,0,0,null,1,0,0,0,null,2,0,0,0,null,1,0,0,0]
[24,"Merging","SBT","MinT2","Stop far","EBR","MajR1","Stop near",null,{"$error":"#VALUE!"},{"$error":"#VALUE!"},{"$error":"#VALUE!"},null,25,15,45,8.9396576292116645,9.4329959592674944E-4,null,0.72500000000000009,null,false,false,false,false,1,null,0,0.33333333333333326,null,null,null,1,null,0.24166666666666664,null,{"$error":"#VALUE!"},null,null,"","","","","","","","","",1,"","","","","","",null,"","",1,"","","","","","","","","","","","","",null,null,24,"Merging",2,0,0,0,null,1,0,0,0,null,2,0,0,0,null,1,0,0,0]
[25,"Diverging","NBT","MinT1","Stop near","NBL","MinL1","Stop near",null,{"$error":"#VALUE!"},{"$error":"#VALUE!"},{"$error":"#VALUE!"},null,15,15,10,1.3073361412148754,6.4061388075216071E-7,null,1,null,false,false,false,false,1,null,"",1,null,null,null,1,null,1,null,{"$error":"#VALUE!"},null,null,"","","","","","",1,"","","","","","","","","",null,"","","","","","","",1,"","","","","","","","",null,null,25,"Diverging",0,0,0,0,null,0,0,0,0,null,0,0,0,0,null,0,0,0,0]
[26,"Diverging","NBT","MinT1","Stop near","NBR","MinR1","Stop near",null,{"$error":"#VALUE!"},{"$error":"#VALUE!"},{"$error":"#VALUE!"},null,15,15,10,1.3073361412148754,6.4061388075216071E-7,null,1,null,false,false,false,false,1,null,"",1,null,null,null,1,null,1,null,{"$error":"#VALUE!"},null,null,"","","","","","",1,"","","","","","","","","",null,"","","","","","","","",1,"","","","","","","",null,null,26,"Diverging",0,0,0,0,null,0,0,0,0,null,0,0,0,0,null,0,0,0,0]
[27,"Diverging","WBT","MajT2","Stop near","WBR","MajR2","Stop near",null,{"$error":"#VALUE!"},{"$error":"#VALUE!"},{"$error":"#VALUE!"},null,15,15,10,1.3073361412148754,6.4061388075216071E-7,null,1,null,false,false,false,false,1,null,"",1,null,null,null,1,null,1,null,{"$error":"#VALUE!"},null,null,"","","",1,"","","","","","","","","","","","",null,"","","","","",1,"","","","","","","","","","",null,null,27,"Diverging",0,0,0,0,null,0,0,0,0,null,0,0,0,0,null,0,0,0,0]
[28,"Diverging","WBT","MajT2","Stop near","WBL","MajL2","Stop near",null,{"$error":"#VALUE!"},{"$error":"#VALUE!"},{"$error":"#VALUE!"},null,15,15,10,1.3073361412148754,6.4061388075216071E-7,null,1,null,false,false,false,false,1,null,"",1,null,null,null,1,null,1,null,{"$error":"#VALUE!"},null,null,"","","",1,"","","","","","","","","","","","",null,"","","","",1,"","","","","","","","","","","",null,null,28,"Diverging",0,0,0,0,null,0,0,0,0,null,0,0,0,0,null,0,0,0,0]
[29,"Diverging","SBT","MinT2","Stop near","SBL","MinL2","Stop near",null,{"$error":"#VALUE!"},{"$error":"#VALUE!"},{"$error":"#VALUE!"},null,15,15,10,1.3073361412148754,6.4061388075216071E-7,null,1,null,false,false,false,false,1,null,"",1,null,null,null,1,null,1,null,{"$error":"#VALUE!"},null,null,"","","","","","","","","",1,"","","","","","",null,"","","","","","","","","","",1,"","","","","",null,null,29,"Diverging",0,0,0,0,null,0,0,0,0,null,0,0,0,0,null,0,0,0,0]
[30,"Diverging","SBT","MinT2","Stop near","SBR","MinR2","Stop near",null,{"$error":"#VALUE!"},{"$error":"#VALUE!"},{"$error":"#VALUE!"},null,15,15,10,1.3073361412148754,6.4061388075216071E-7,null,1,null,false,false,false,false,1,null,"",1,null,null,null,1,null,1,null,{"$error":"#VALUE!"},null,null,"","","","","","","","","",1,"","","","","","",null,"","","","","","","","","","","",1,"","","","",null,null,30,"Diverging",0,0,0,0,null,0,0,0,0,null,0,0,0,0,null,0,0,0,0]
[31,"Diverging","EBT","MajT1","Stop near","EBR","MajR1","Stop near",null,{"$error":"#VALUE!"},{"$error":"#VALUE!"},{"$error":"#VALUE!"},null,15,15,10,1.3073361412148754,6.4061388075216071E-7,null,1,null,false,false,false,false,1,null,"",1,null,null,null,1,null,1,null,{"$error":"#VALUE!"},null,null,1,"","","","","","","","","","","","","","","",null,"","",1,"","","","","","","","","","","","","",null,null,31,"Diverging",0,0,0,0,null,0,0,0,0,null,0,0,0,0,null,0,0,0,0]
[32,"Diverging","EBT","MajT1","Stop near","EBL","MajL1","Stop near",null,{"$error":"#VALUE!"},{"$error":"#VALUE!"},{"$error":"#VALUE!"},null,15,15,10,1.3073361412148754,6.4061388075216071E-7,null,1,null,false,false,false,false,1,null,"",1,null,null,null,1,null,1,null,{"$error":"#VALUE!"},null,null,{"$f":"IF(ISNUMBER(SEARCH(AN$3,$D35)),1,\"\")","v":1},"","","","","","","","","","","","","","","",null,{"$f":"IF(ISNUMBER(SEARCH(BE$3,$G35)),1,\"\")","v":""},1,"","","","","","","","","","","","","","",null,null,32,"Diverging",0,0,0,0,null,0,0,0,0,null,0,0,0,0,null,0,0,0,0]
[33,"Nonmotorized",null,"MajNM2","Nonmotorized",null,"MinR1","Stop near",null,{"$error":"#VALUE!"},{"$error":"#VALUE!"},{"$error":"#VALUE!"},null,{"$f":"VLOOKUP(E36,SSI_AGI_Range_VehSpeed,5,FALSE)","v":0},{"$f":"VLOOKUP(H36,SSI_AGI_Range_VehSpeed,5,FALSE)","v":15},{"$f":"IF(B36=\"Nonmotorized\",\"\",VLOOKUP(B36,SSI_AGI_Range_CollAngles,5,FALSE))","v":""},{"$f":"IF(B36=\"Nonmotorized\",\"\",SQRT(N36^2+O36^2-2*N36*O36*COS(RADIANS(P36)))/2)","v":""},{"$f":"IF(B36=\"Nonmotorized\",1/(1+EXP(3.8432-0.1237*O36)),(Q36/SSI_AGI_RegAlpha)^SSI_AGI_RegK+(Q36/SSI_AGI_RegAlpha)^SSI_AGI_RegK-((Q36/SSI_AGI_RegAlpha)^SSI_AGI_RegK)*((Q36/SSI_AGI_RegAlpha)^SSI_AGI_RegK))","v":0.1205004039155782},null,{"$f":"SSI_AGI_StopFactor","v":0.72500000000000009},null,{"$f":"IF(AND(SS_AGI_MajMedian=\"No\", SS_AGI_MinMedian=\"No\"),BY36,IF(AND(SS_AGI_MajMedian=\"Yes\",SS_AGI_MinMedian=\"No\"),CD36,IF(AND(SS_AGI_MajMedian=\"No\",SS_AGI_MinMedian=\"Yes\"),CI36,IF(AND(SS_AGI_MajMedian=\"Yes\",SS_AGI_MinMedian=\"Yes\"),CN36))))","v":false},{"$f":"IF(AND(SS_AGI_MajMedian=\"No\", SS_AGI_MinMedian=\"No\"),BZ36,IF(AND(SS_AGI_MajMedian=\"Yes\",SS_AGI_MinMedian=\"No\"),CE36,IF(AND(SS_AGI_MajMedian=\"No\",SS_AGI_MinMedian=\"Yes\"),CJ36,IF(AND(SS_AGI_MajMedian=\"Yes\",SS_AGI_MinMedian=\"Yes\"),CO36))))","v":false},{"$f":"IF(AND(SS_AGI_MajMedian=\"No\", SS_AGI_MinMedian=\"No\"),CA36,IF(AND(SS_AGI_MajMedian=\"Yes\",SS_AGI_MinMedian=\"No\"),CF36,IF(AND(SS_AGI_MajMedian=\"No\",SS_AGI_MinMedian=\"Yes\"),CK36,IF(AND(SS_AGI_MajMedian=\"Yes\",SS_AGI_MinMedian=\"Yes\"),CP36))))","v":false},{"$f":"IF(AND(SS_AGI_MajMedian=\"No\", SS_AGI_MinMedian=\"No\"),CB36,IF(AND(SS_AGI_MajMedian=\"Yes\",SS_AGI_MinMedian=\"No\"),CG36,IF(AND(SS_AGI_MajMedian=\"No\",SS_AGI_MinMedian=\"Yes\"),CL36,IF(AND(SS_AGI_MajMedian=\"Yes\",SS_AGI_MinMedian=\"Yes\"),CQ36))))","v":false},{"$f":"MAX(1,IF(B36<>\"Pedestrian\",V36*SSI_AGI_MajorThruLanes+W36*SSI_AGI_MinorThruLanes+X36*IF(SSI_AGI_MajorThruLanes=1,SSI_AGI_MergeWeightL1,IF(SSI_AGI_MajorThruLanes=2,SSI_AGI_MergeWeightL1+SSI_AGI_MergeWeightL2,SSI_AGI_MergeWeightL1+SSI_AGI_MergeWeightL2+SSI_AGI_MergeWeightL3*(SSI_AGI_MajorThruLanes-2)))+Y36*IF(SSI_AGI_MinorThruLanes=1,SSI_AGI_MergeWeightL1,IF(SSI_AGI_MinorThruLanes=2,SSI_AGI_MergeWeightL1+SSI_AGI_MergeWeightL2,SSI_AGI_MergeWeightL1+SSI_AGI_MergeWeightL2+SSI_AGI_MergeWeightL3*(SSI_AGI_MinorThruLanes-2))),V36*SSI_AGI_MajorThruLanes+W36*SSI_AGI_MinorThruLanes+X36*IF(SSI_AGI_MajorThruLanes=1,SSI_AGI_NM_MergeWeightL1,IF(SSI_AGI_MajorThruLanes=2,SSI_AGI_NM_MergeWeightL1+SSI_AGI_NM_MergeWeightL2,SSI_AGI_NM_MergeWeightL1+SSI_AGI_NM_MergeWeightL2+SSI_AGI_NM_MergeWeightL3*(SSI_AGI_MajorThruLanes-2)))+Y36*IF(SSI_AGI_MinorThruLanes=1,SSI_AGI_NM_MergeWeightL1,IF(SSI_AGI_MinorThruLanes=2,SSI_AGI_NM_MergeWeightL1+SSI_AGI_NM_MergeWeightL2,SSI_AGI_NM_MergeWeightL1+SSI_AGI_NM_MergeWeightL2+SSI_AGI_NM_MergeWeightL3*(SSI_AGI_MinorThruLanes-2)))))","v":1},null,{"$f":"IF(B36=\"Diverging\",\"\",SSI_AGI_VehSpeed_MjrThru)","v":0},0.33333333333333326,null,null,null,1,null,0.24166666666666664,null,{"$error":"#VALUE!"},null,null,"","","","","","","","","","","","","",1,"","",null,"","","","","","","","",1,"","","","","","","",null,null,33,"Nonmotorized",2,0,0,2,null,1,0,0,2,null,2,0,0,2,null,1,0,0,2]
[34,"Nonmotorized",null,"MajNM2","Nonmotorized",null,"MajT1","Stop far",null,{"$error":"#VALUE!"},{"$error":"#VALUE!"},{"$f":"PRODUCT(J37:K37)","v":{"$error":"#VALUE!"}},null,0,25,"","",0.32066879346345062,null,0.72500000000000009,null,false,false,false,false,1,null,0,0.33333333333333326,null,null,null,1,null,0.24166666666666664,null,{"$error":"#VALUE!"},null,null,"","","","","","","","","","","","","",1,"","",null,1,"","","","","","","","","","","","","","","",null,null,34,"Nonmotorized",2,0,0,2,null,1,0,0,2,null,2,0,0,2,null,1,0,0,2]
[35,"Nonmotorized",null,"MajNM2","Nonmotorized",null,"MinL2","Stop far",null,{"$error":"#VALUE!"},{"$error":"#VALUE!"},{"$error":"#VALUE!"},null,0,25,"","",0.32066879346345062,null,0.72500000000000009,null,false,false,false,false,1,null,0,0.33333333333333326,null,null,null,1,null,0.24166666666666664,null,{"$error":"#VALUE!"},null,null,"","","","","","","","","","","","","",1,"","",null,"","","","","","","","","","",1,"","","","","",null,null,35,"Nonmotorized",2,0,0,2,null,1,0,0,2,null,2,0,0,2,null,1,0,0,2]
[36,"Nonmotorized",null,"MajNM2","Nonmotorized",null,"MajL2","Stop near",null,{"$error":"#VALUE!"},{"$error":"#VALUE!"},{"$error":"#VALUE!"},null,0,15,"","",0.1205004039155782,null,0.72500000000000009,null,false,false,false,false,1,null,0,0.33333333333333326,null,null,null,1,null,0.24166666666666664,null,{"$error":"#VALUE!"},null,null,"","","","","","","","","","","","","",1,"","",null,"","","","",1,"","","","","","","","","","","",null,null,36,"Nonmotorized",2,0,0,2,null,1,0,0,0,null,2,0,0,2,null,1,0,0,0]
[37,"Nonmotorized",null,"MajNM2","Nonmotorized",null,"MajT2","Stop near",null,{"$error":"#VALUE!"},{"$error":"#VALUE!"},{"$error":"#VALUE!"},null,0,15,"","",0.1205004039155782,null,0.72500000000000009,null,false,false,false,false,1,null,0,0.33333333333333326,null,null,null,1,null,0.24166666666666664,null,{"$error":"#VALUE!"},null,null,"","","","","","","","","","","","","",1,"","",null,"","","",1,"","","","","","","","","","","","",null,null,37,"Nonmotorized",2,0,0,2,null,1,0,0,0,null,2,0,0,2,null,1,0,0,0]
[38,"Nonmotorized",null,"MajNM2","Nonmotorized",null,"MajR2","Stop near",null,{"$error":"#VALUE!"},{"$error":"#VALUE!"},{"$error":"#VALUE!"},null,0,15,"","",0.1205004039155782,null,0.72500000000000009,null,false,false,false,false,1,null,0,0.33333333333333326,null,null,null,1,null,0.24166666666666664,null,{"$error":"#VALUE!"},null,null,"","","","","","","","","","","","","",1,"","",null,"","","","","",1,"","","","","","","","","","",null,null,38,"Nonmotorized",2,0,0,2,null,1,0,0,0,null,2,0,0,2,null,1,0,0,0]
[39,"Nonmotorized",null,"MinNM2","Nonmotorized",null,"MajR2","Stop near",null,{"$error":"#VALUE!"},{"$error":"#VALUE!"},{"$error":"#VALUE!"},null,0,15,"","",0.1205004039155782,null,0.72500000000000009,null,false,false,false,false,1,null,0,0.33333333333333326,null,null,null,1,null,0.24166666666666664,null,{"$error":"#VALUE!"},null,null,"","","","","","","","","","","","","","","",1,null,"","","","","",1,"","","","","","","","","","",null,null,39,"Nonmotorized",0,2,2,0,null,0,2,2,0,null,0,2,1,0,null,0,2,1,0]
[40,"Nonmotorized",null,"MinNM2","Nonmotorized",null,"MinT1","Stop far",null,{"$error":"#VALUE!"},{"$error":"#VALUE!"},{"$error":"#VALUE!"},null,0,25,"","",0.32066879346345062,null,0.72500000000000009,null,false,false,false,false,1,null,0,0.33333333333333326,null,null,null,1,null,0.24166666666666664,null,{"$error":"#VALUE!"},null,null,"","","","","","","","","","","","","","","",1,null,"","","","","","",1,"","","","","","","","","",null,null,40,"Nonmotorized",0,2,2,0,null,0,2,2,0,null,0,2,1,0,null,0,2,1,0]
[41,"Nonmotorized",null,"MinNM2","Nonmotorized",null,"MajL1","Stop far",null,{"$error":"#VALUE!"},{"$error":"#VALUE!"},{"$error":"#VALUE!"},null,0,25,"","",0.32066879346345062,null,0.72500000000000009,null,false,false,false,false,1,null,0,0.33333333333333326,null,null,null,1,null,0.24166666666666664,null,{"$error":"#VALUE!"},null,null,"","","","","","","","","","","","","","","",1,null,"",1,"","","","","","","","","","","","","","",null,null,41,"Nonmotorized",0,2,2,0,null,0,2,2,0,null,0,2,1,0,null,0,2,1,0]
[42,"Nonmotorized",null,"MinNM2","Nonmotorized",null,"MinL2","Stop near",null,{"$error":"#VALUE!"},{"$error":"#VALUE!"},{"$error":"#VALUE!"},null,0,15,"","",0.1205004039155782,null,0.72500000000000009,null,false,false,false,false,1,null,0,0.33333333333333326,null,null,null,1,null,0.24166666666666664,null,{"$error":"#VALUE!"},null,null,"","","","","","","","","","","","","","","",1,null,"","","","","","","","","","",1,"","","","","",null,null,42,"Nonmotorized",0,2,2,0,null,0,2,2,0,null,0,0,1,0,null,0,0,1,0]
[43,"Nonmotorized",null,"MinNM2","Nonmotorized",null,"MinT2","Stop near",null,{"$error":"#VALUE!"},{"$error":"#VALUE!"},{"$error":"#VALUE!"},null,0,15,"","",0.1205004039155782,null,0.72500000000000009,null,false,false,false,false,1,null,0,0.33333333333333326,null,null,null,1,null,0.24166666666666664,null,{"$error":"#VALUE!"},null,null,"","","","","","","","","","","","","","","",1,null,"","","","","","","","","",1,"","","","","","",null,null,43,"Nonmotorized",0,2,2,0,null,0,2,2,0,null,0,0,1,0,null,0,0,1,0]
[44,"Nonmotorized",null,"MinNM2","Nonmotorized",null,"MinR2","Stop near",null,{"$error":"#VALUE!"},{"$error":"#VALUE!"},{"$error":"#VALUE!"},null,0,15,"","",0.1205004039155782,null,0.72500000000000009,null,false,false,false,false,1,null,0,0.33333333333333326,null,null,null,1,null,0.24166666666666664,null,{"$error":"#VALUE!"},null,null,"","","","","","","","","","","","","","","",1,null,"","","","","","","","","","","",1,"","","","",null,null,44,"Nonmotorized",0,2,2,0,null,0,2,2,0,null,0,0,1,0,null,0,0,1,0]
[45,"Nonmotorized",null,"MajNM1","Nonmotorized",null,"MinR2","Stop near",null,{"$error":"#VALUE!"},{"$error":"#VALUE!"},{"$error":"#VALUE!"},null,0,15,"","",0.1205004039155782,null,0.72500000000000009,null,false,false,false,false,1,null,0,0.33333333333333326,null,null,null,1,null,0.24166666666666664,null,{"$error":"#VALUE!"},null,null,"","","","","","","","","","","","",1,"","","",null,"","","","","","","","","","","",1,"","","","",null,null,45,"Nonmotorized",2,0,0,2,null,1,0,0,2,null,2,0,0,2,null,1,0,0,2]
[46,"Nonmotorized",null,"MajNM1","Nonmotorized",null,"MajT2","Stop far",null,{"$error":"#VALUE!"},{"$error":"#VALUE!"},{"$error":"#VALUE!"},null,0,25,"","",0.32066879346345062,null,0.72500000000000009,null,false,false,false,false,1,null,0,0.33333333333333326,null,null,null,1,null,0.24166666666666664,null,{"$error":"#VALUE!"},null,null,"","","","","","","","","","","","",1,"","","",null,"","","",1,"","","","","","","","","","","","",null,null,46,"Nonmotorized",2,0,0,2,null,1,0,0,2,null,2,0,0,2,null,1,0,0,2]
[47,"Nonmotorized",null,"MajNM1","Nonmotorized",null,"MinL1","Stop far",null,{"$error":"#VALUE!"},{"$error":"#VALUE!"},{"$error":"#VALUE!"},null,0,25,"","",0.32066879346345062,null,0.72500000000000009,null,false,false,false,false,1,null,0,0.33333333333333326,null,null,null,1,null,0.24166666666666664,null,{"$error":"#VALUE!"},null,null,"","","","","","","","","","","","",1,"","",{"$f":"IF(ISNUMBER(SEARCH(BC$3,$D50)),1,\"\")","v":""},null,"","","","","","","",1,"","","","","","","",{"$f":"IF(ISNUMBER(SEARCH(BT$3,$G50)),1,\"\")","v":""},null,null,47,"Nonmotorized",2,0,0,2,null,1,0,0,2,null,2,0,0,2,null,1,0,0,2]
[48,"Nonmotorized",null,"MajNM1","Nonmotorized",null,"MajL1","Stop near",null,{"$error":"#VALUE!"},{"$error":"#VALUE!"},{"$error":"#VALUE!"},null,0,15,"","",0.1205004039155782,null,0.72500000000000009,null,false,false,false,false,1,null,0,0.33333333333333326,null,null,null,1,null,0.24166666666666664,null,{"$error":"#VALUE!"},null,null,{"$f":"IF(ISNUMBER(SEARCH(AN$3,$D51)),1,\"\")","v":""},"","","","","","","","","","","",1,"","","",null,{"$f":"IF(ISNUMBER(SEARCH(BE$3,$G51)),1,\"\")","v":""},1,"","","","","","","","","","","","","","",null,null,48,"Nonmotorized",2,0,0,2,null,1,0,0,0,null,2,0,0,2,null,1,0,0,0]
[49,"Nonmotorized",null,"MajNM1","Nonmotorized",null,"MajT1","Stop near",null,{"$error":"#VALUE!"},{"$error":"#VALUE!"},{"$error":"#VALUE!"},null,0,15,"","",0.1205004039155782,null,0.72500000000000009,null,false,false,false,false,1,null,0,0.33333333333333326,null,null,null,1,null,0.24166666666666664,null,{"$error":"#VALUE!"},null,null,"","","","","","","","","","","","",1,"","","",null,1,"","","","","","","","","","","","","","","",null,null,49,"Nonmotorized",2,0,0,2,null,1,0,0,0,null,2,0,0,2,null,1,0,0,0]
[50,"Nonmotorized",null,"MajNM1","Nonmotorized",null,"MajR1","Stop near",null,{"$error":"#VALUE!"},{"$error":"#VALUE!"},{"$error":"#VALUE!"},null,0,15,"","",0.1205004039155782,null,0.72500000000000009,null,false,false,false,false,1,null,0,0.33333333333333326,null,null,null,1,null,0.24166666666666664,null,{"$error":"#VALUE!"},null,null,"","","","","","","","","","","","",1,"","","",null,"","",1,"","","","","","","","","","","","","",null,null,50,"Nonmotorized",2,0,0,2,null,1,0,0,0,null,2,0,0,2,null,1,0,0,0]
[51,"Nonmotorized",null,"MinNM1","Nonmotorized",null,"MajR1","Stop near",null,{"$error":"#VALUE!"},{"$error":"#VALUE!"},{"$error":"#VALUE!"},null,0,15,"","",0.1205004039155782,null,0.72500000000000009,null,false,false,false,false,1,null,0,0.33333333333333326,null,null,null,1,null,0.24166666666666664,null,{"$error":"#VALUE!"},null,null,"","","","","","","","","","","","","","",1,"",null,"","",1,"","","","","","","","","","","","","",null,null,51,"Nonmotorized",0,2,2,0,null,0,2,2,0,null,0,2,1,0,null,0,2,1,0]
[52,"Nonmotorized",null,"MinNM1","Nonmotorized",null,"MinT2","Stop far",null,{"$error":"#VALUE!"},{"$error":"#VALUE!"},{"$error":"#VALUE!"},null,0,25,"","",0.32066879346345062,null,0.72500000000000009,null,false,false,false,false,1,null,0,0.33333333333333326,null,null,null,1,null,0.24166666666666664,null,{"$error":"#VALUE!"},null,null,"","","","","","","","","","","","","","",1,"",null,"","","","","","","","","",1,"","","","","","",null,null,52,"Nonmotorized",0,2,2,0,null,0,2,2,0,null,0,2,1,0,null,0,2,1,0]
[53,"Nonmotorized",null,"MinNM1","Nonmotorized",null,"MajL2","Stop far",null,{"$error":"#VALUE!"},{"$error":"#VALUE!"},{"$error":"#VALUE!"},null,0,25,"","",0.32066879346345062,null,0.72500000000000009,null,false,false,false,false,1,null,0,0.33333333333333326,null,null,null,1,null,0.24166666666666664,null,{"$error":"#VALUE!"},null,null,"","","","","","","","","","","","","","",1,"",null,"","","","",1,"","","","","","","","","","","",null,null,53,"Nonmotorized",0,2,2,0,null,0,2,2,0,null,0,2,1,0,null,0,2,1,0]
[54,"Nonmotorized",null,"MinNM1","Nonmotorized",null,"MinL1","Stop near",null,{"$error":"#VALUE!"},{"$error":"#VALUE!"},{"$error":"#VALUE!"},null,0,15,"","",0.1205004039155782,null,0.72500000000000009,null,false,false,false,false,1,null,0,0.33333333333333326,null,null,null,1,null,0.24166666666666664,null,{"$error":"#VALUE!"},null,null,"","","","","","","","","","","","","","",1,"",null,"","","","","","","",1,"","","","","","","","",null,null,54,"Nonmotorized",0,2,2,0,null,0,2,2,0,null,0,0,1,0,null,0,0,1,0]
[55,"Nonmotorized",null,"MinNM1","Nonmotorized",null,"MinT1","Stop near",null,{"$error":"#VALUE!"},{"$error":"#VALUE!"},{"$error":"#VALUE!"},null,0,15,"","",0.1205004039155782,null,0.72500000000000009,null,false,false,false,false,1,null,0,0.33333333333333326,null,null,null,1,null,0.24166666666666664,null,{"$error":"#VALUE!"},null,null,"","","","","","","","","","","","","","",1,"",null,"","","","","","",1,"","","","","","","","","",null,null,55,"Nonmotorized",0,2,2,0,null,0,2,2,0,null,0,0,1,0,null,0,0,1,0]
[56,"Nonmotorized",null,"MinNM1","Nonmotorized",null,"MinR1","Stop near",null,{"$error":"#VALUE!"},{"$error":"#VALUE!"},{"$error":"#VALUE!"},null,0,15,"","",0.1205004039155782,null,0.72500000000000009,null,false,false,false,false,1,null,0,0.33333333333333326,null,null,null,1,null,0.24166666666666664,null,{"$error":"#VALUE!"},null,null,"","","","","","","","","","","","","","",1,"",null,"","","","","","","","",1,"","","","","","","",null,null,56,"Nonmotorized",0,2,2,0,null,0,2,2,0,null,0,0,1,0,null,0,0,1,0]
[null,null,null,null,null,null,null,null,null,null,null,null,null,null,null,null,null,null,null,null,null,null,null,null,null,null,null,null,null,null,null,null,null,null,null,null,null,null,"O",{"$f":"'SSI Inputs'!$D$26","v":{"$error":"#VALUE!"}},{"$f":"'SSI Inputs'!$D$27","v":{"$error":"#VALUE!"}},{"$f":"'SSI Inputs'!$D$28","v":{"$error":"#VALUE!"}},{"$f":"'SSI Inputs'!$D$30","v":{"$error":"#VALUE!"}},{"$f":"'SSI Inputs'!$D$31","v":{"$error":"#VALUE!"}},{"$f":"'SSI Inputs'!$D$32","v":{"$error":"#VALUE!"}},{"$f":"'SSI Inputs'!$D$34","v":{"$error":"#VALUE!"}},{"$f":"'SSI Inputs'!$D$35","v":{"$error":"#VALUE!"}},{"$f":"'SSI Inputs'!$D$36","v":{"$error":"#VALUE!"}},{"$f":"'SSI Inputs'!$D$38","v":{"$error":"#VALUE!"}},{"$f":"'SSI Inputs'!$D$39","v":{"$error":"#VALUE!"}},{"$f":"'SSI Inputs'!$D$40","v":{"$error":"#VALUE!"}},{"$f":"'SSI Inputs'!$Q$18","v":12.5},{"$f":"'SSI Inputs'!$Q$19","v":12.5},{"$f":"'SSI Inputs'!$Q$20","v":12.5},{"$f":"'SSI Inputs'!$Q$21","v":12.5},"O",{"$f":"'SSI Inputs'!$D$26","v":{"$error":"#VALUE!"}},{"$f":"'SSI Inputs'!$D$27","v":{"$error":"#VALUE!"}},{"$f":"'SSI Inputs'!$D$28","v":{"$error":"#VALUE!"}},{"$f":"'SSI Inputs'!$D$30","v":{"$error":"#VALUE!"}},{"$f":"'SSI Inputs'!$D$31","v":{"$error":"#VALUE!"}},{"$f":"'SSI Inputs'!$D$32","v":{"$error":"#VALUE!"}},{"$f":"'SSI Inputs'!$D$34","v":{"$error":"#VALUE!"}},{"$f":"'SSI Inputs'!$D$35","v":{"$error":"#VALUE!"}},{"$f":"'SSI Inputs'!$D$36","v":{"$error":"#VALUE!"}},{"$f":"'SSI Inputs'!$D$38","v":{"$error":"#VALUE!"}},{"$f":"'SSI Inputs'!$D$39","v":{"$error":"#VALUE!"}},{"$f":"'SSI Inputs'!$D$40","v":{"$error":"#VALUE!"}},{"$f":"'SSI Inputs'!$Q$18","v":12.5},{"$f":"'SSI Inputs'!$Q$19","v":12.5},{"$f":"'SSI Inputs'!$Q$20","v":12.5},{"$f":"'SSI Inputs'!$Q$21","v":12.5}]
[null,null,null,null,null,null,null,null,null,null,null,null,null,null,null,null,null,null,null,null,null,null,null,null,null,null,null,null,null,null,null,null,null,null,null,null,null,null,"D",{"$f":"'SSI Inputs'!$E$26","v":{"$error":"#VALUE!"}},{"$f":"'SSI Inputs'!$E$27","v":{"$error":"#VALUE!"}},{"$f":"'SSI Inputs'!$E$28","v":{"$error":"#VALUE!"}},{"$f":"'SSI Inputs'!$E$30","v":{"$error":"#VALUE!"}},{"$f":"'SSI Inputs'!$E$31","v":{"$error":"#VALUE!"}},{"$f":"'SSI Inputs'!$E$32","v":{"$error":"#VALUE!"}},{"$f":"'SSI Inputs'!$E$34","v":{"$error":"#VALUE!"}},{"$f":"'SSI Inputs'!$E$35","v":{"$error":"#VALUE!"}},{"$f":"'SSI Inputs'!$E$36","v":{"$error":"#VALUE!"}},{"$f":"'SSI Inputs'!$E$38","v":{"$error":"#VALUE!"}},{"$f":"'SSI Inputs'!$E$39","v":{"$error":"#VALUE!"}},{"$f":"'SSI Inputs'!$E$40","v":{"$error":"#VALUE!"}},{"$f":"'SSI Inputs'!$R$18","v":12.5},{"$f":"'SSI Inputs'!$R$19","v":12.5},{"$f":"'SSI Inputs'!$R$20","v":12.5},{"$f":"'SSI Inputs'!$R$21","v":12.5},"D",{"$f":"'SSI Inputs'!$E$26","v":{"$error":"#VALUE!"}},{"$f":"'SSI Inputs'!$E$27","v":{"$error":"#VALUE!"}},{"$f":"'SSI Inputs'!$E$28","v":{"$error":"#VALUE!"}},{"$f":"'SSI Inputs'!$E$30","v":{"$error":"#VALUE!"}},{"$f":"'SSI Inputs'!$E$31","v":{"$error":"#VALUE!"}},{"$f":"'SSI Inputs'!$E$32","v":{"$error":"#VALUE!"}},{"$f":"'SSI Inputs'!$E$34","v":{"$error":"#VALUE!"}},{"$f":"'SSI Inputs'!$E$35","v":{"$error":"#VALUE!"}},{"$f":"'SSI Inputs'!$E$36","v":{"$error":"#VALUE!"}},{"$f":"'SSI Inputs'!$E$38","v":{"$error":"#VALUE!"}},{"$f":"'SSI Inputs'!$E$39","v":{"$error":"#VALUE!"}},{"$f":"'SSI Inputs'!$E$40","v":{"$error":"#VALUE!"}},{"$f":"'SSI Inputs'!$R$18","v":12.5},{"$f":"'SSI Inputs'!$R$19","v":12.5},{"$f":"'SSI Inputs'!$R$20","v":12.5},{"$f":"'SSI Inputs'!$R$21","v":12.5}]
[]
[]
[]
[]
[]
[]
[]
[]
[]
[]
[]
[]
[]
[]
[]
[]
[]
[]
[]
[]
[]
[]
[]
[]
[]
[]
[]
[]
[]
[]
[]
[]
[]
[]
[]
[]
[]
[]
[]
[null,null,null,null,null,null,null,null,null,"Exposure",null,null,null,null,null,null,null,null,null,null,null,null,null,null,null,null,null,null,null,null,null,null,null,null,null,null,"Exposure-Severity-Complexity Product"]
[null,null,null,null,null,null,null,null,null,"Q1","Q2","I"]
[null,null,null,null,null,null,null,null,null,{"$f":"SUMPRODUCT($AN4:$BC4,$AN$61:$BC$61)","v":{"$error":"#VALUE!"}},{"$f":"SUMPRODUCT($BE4:$BT4,$BE$61:$BT$61)","v":{"$error":"#VALUE!"}},{"$f":"PRODUCT(J103:K103)","v":{"$error":"#VALUE!"}},null,null,null,null,null,null,null,null,null,null,null,null,null,null,null,null,null,null,null,null,null,null,null,null,{"$f":"L103*R4*AI4","v":{"$error":"#VALUE!"}}]
[null,null,null,null,null,null,null,null,null,{"$f":"SUMPRODUCT($AN5:$BC5,$AN$61:$BC$61)","v":{"$error":"#VALUE!"}},{"$f":"SUMPRODUCT($BE5:$BT5,$BE$61:$BT$61)","v":{"$error":"#VALUE!"}},{"$f":"PRODUCT(J104:K104)","v":{"$error":"#VALUE!"}},null,null,null,null,null,null,null,null,null,null,null,null,null,null,null,null,null,null,null,null,null,null,null,null,{"$f":"L104*R5*AI5","v":{"$error":"#VALUE!"}}]
[null,null,null,null,null,null,null,null,null,{"$error":"#VALUE!"},{"$error":"#VALUE!"},{"$error":"#VALUE!"},null,null,null,null,null,null,null,null,null,null,null,null,null,null,null,null,null,null,null,null,null,null,null,null,{"$error":"#VALUE!"}]
[null,null,null,null,null,null,null,null,null,{"$error":"#VALUE!"},{"$error":"#VALUE!"},{"$error":"#VALUE!"},null,null,null,null,null,null,null,null,null,null,null,null,null,null,null,null,null,null,null,null,null,null,null,null,{"$error":"#VALUE!"}]
[null,null,null,null,null,null,null,null,null,{"$error":"#VALUE!"},{"$error":"#VALUE!"},{"$error":"#VALUE!"},null,null,null,null,null,null,null,null,null,null,null,null,null,null,null,null,null,null,null,null,null,null,null,null,{"$error":"#VALUE!"}]
[null,null,null,null,null,null,null,null,null,{"$error":"#VALUE!"},{"$error":"#VALUE!"},{"$error":"#VALUE!"},null,null,null,null,null,null,null,null,null,null,null,null,null,null,null,null,null,null,null,null,null,null,null,null,{"$error":"#VALUE!"}]
[null,null,null,null,null,null,null,null,null,{"$error":"#VALUE!"},{"$error":"#VALUE!"},{"$error":"#VALUE!"},null,null,null,null,null,null,null,null,null,null,null,null,null,null,null,null,null,null,null,null,null,null,null,null,{"$error":"#VALUE!"}]
[null,null,null,null,null,null,null,null,null,{"$error":"#VALUE!"},{"$error":"#VALUE!"},{"$error":"#VALUE!"},null,null,null,null,null,null,null,null,null,null,null,null,null,null,null,null,null,null,null,null,null,null,null,null,{"$error":"#VALUE!"}]
[null,null,null,null,null,null,null,null,null,{"$error":"#VALUE!"},{"$error":"#VALUE!"},{"$error":"#VALUE!"},null,null,null,null,null,null,null,null,null,null,null,null,null,null,null,null,null,null,null,null,null,null,null,null,{"$error":"#VALUE!"}]
[null,null,null,null,null,null,null,null,null,{"$error":"#VALUE!"},{"$error":"#VALUE!"},{"$error":"#VALUE!"},null,null,null,null,null,null,null,null,null,null,null,null,null,null,null,null,null,null,null,null,null,null,null,null,{"$error":"#VALUE!"}]
[null,null,null,null,null,null,null,null,null,{"$error":"#VALUE!"},{"$error":"#VALUE!"},{"$error":"#VALUE!"},null,null,null,null,null,null,null,null,null,null,null,null,null,null,null,null,null,null,null,null,null,null,null,null,{"$error":"#VALUE!"}]
[null,null,null,null,null,null,null,null,null,{"$error":"#VALUE!"},{"$error":"#VALUE!"},{"$error":"#VALUE!"},null,null,null,null,null,null,null,null,null,null,null,null,null,null,null,null,null,null,null,null,null,null,null,null,{"$error":"#VALUE!"}]
[null,null,null,null,null,null,null,null,null,{"$error":"#VALUE!"},{"$error":"#VALUE!"},{"$error":"#VALUE!"},null,null,null,null,null,null,null,null,null,null,null,null,null,null,null,null,null,null,null,null,null,null,null,null,{"$error":"#VALUE!"}]
[null,null,null,null,null,null,null,null,null,{"$error":"#VALUE!"},{"$error":"#VALUE!"},{"$error":"#VALUE!"},null,null,null,null,null,null,null,null,null,null,null,null,null,null,null,null,null,null,null,null,null,null,null,null,{"$error":"#VALUE!"}]
[null,null,null,null,null,null,null,null,null,{"$error":"#VALUE!"},{"$error":"#VALUE!"},{"$error":"#VALUE!"},null,null,null,null,null,null,null,null,null,null,null,null,null,null,null,null,null,null,null,null,null,null,null,null,{"$error":"#VALUE!"}]
[null,null,null,null,null,null,null,null,null,{"$error":"#VALUE!"},{"$error":"#VALUE!"},{"$error":"#VALUE!"},null,null,null,null,null,null,null,null,null,null,null,null,null,null,null,null,null,null,null,null,null,null,null,null,{"$error":"#VALUE!"}]
[null,null,null,null,null,null,null,null,null,{"$error":"#VALUE!"},{"$error":"#VALUE!"},{"$error":"#VALUE!"},null,null,null,null,null,null,null,null,null,null,null,null,null,null,null,null,null,null,null,null,null,null,null,null,{"$error":"#VALUE!"}]
[null,null,null,null,null,null,null,null,null,{"$error":"#VALUE!"},{"$error":"#VALUE!"},{"$error":"#VALUE!"},null,null,null,null,null,null,null,null,null,null,null,null,null,null,null,null,null,null,null,null,null,null,null,null,{"$error":"#VALUE!"}]
[null,null,null,null,null,null,null,null,null,{"$error":"#VALUE!"},{"$error":"#VALUE!"},{"$error":"#VALUE!"},null,null,null,null,null,null,null,null,null,null,null,null,null,null,null,null,null,null,null,null,null,null,null,null,{"$error":"#VALUE!"}]
[null,null,null,null,null,null,null,null,null,{"$error":"#VALUE!"},{"$error":"#VALUE!"},{"$error":"#VALUE!"},null,null,null,null,null,null,null,null,null,null,null,null,null,null,null,null,null,null,null,null,null,null,null,null,{"$error":"#VALUE!"}]
[null,null,null,null,null,null,null,null,null,{"$error":"#VALUE!"},{"$error":"#VALUE!"},{"$error":"#VALUE!"},null,null,null,null,null,null,null,null,null,null,null,null,null,null,null,null,null,null,null,null,null,null,null,null,{"$error":"#VALUE!"}]
[null,null,null,null,null,null,null,null,null,{"$error":"#VALUE!"},{"$error":"#VALUE!"},{"$error":"#VALUE!"},null,null,null,null,null,null,null,null,null,null,null,null,null,null,null,null,null,null,null,null,null,null,null,null,{"$error":"#VALUE!"}]
[null,null,null,null,null,null,null,null,null,{"$error":"#VALUE!"},{"$error":"#VALUE!"},{"$error":"#VALUE!"},null,null,null,null,null,null,null,null,null,null,null,null,null,null,null,null,null,null,null,null,null,null,null,null,{"$error":"#VALUE!"}]
[null,null,null,null,null,null,null,null,null,{"$error":"#VALUE!"},{"$error":"#VALUE!"},{"$error":"#VALUE!"},null,null,null,null,null,null,null,null,null,null,null,null,null,null,null,null,null,null,null,null,null,null,null,null,{"$error":"#VALUE!"}]
[null,null,null,null,null,null,null,null,null,{"$error":"#VALUE!"},{"$error":"#VALUE!"},{"$error":"#VALUE!"},null,null,null,null,null,null,null,null,null,null,null,null,null,null,null,null,null,null,null,null,null,null,null,null,{"$error":"#VALUE!"}]
[null,null,null,null,null,null,null,null,null,{"$error":"#VALUE!"},{"$error":"#VALUE!"},{"$error":"#VALUE!"},null,null,null,null,null,null,null,null,null,null,null,null,null,null,null,null,null,null,null,null,null,null,null,null,{"$error":"#VALUE!"}]
[null,null,null,null,null,null,null,null,null,{"$error":"#VALUE!"},{"$error":"#VALUE!"},{"$error":"#VALUE!"},null,null,null,null,null,null,null,null,null,null,null,null,null,null,null,null,null,null,null,null,null,null,null,null,{"$error":"#VALUE!"}]
[null,null,null,null,null,null,null,null,null,{"$error":"#VALUE!"},{"$error":"#VALUE!"},{"$error":"#VALUE!"},null,null,null,null,null,null,null,null,null,null,null,null,null,null,null,null,null,null,null,null,null,null,null,null,{"$error":"#VALUE!"}]
[null,null,null,null,null,null,null,null,null,{"$error":"#VALUE!"},{"$error":"#VALUE!"},{"$error":"#VALUE!"},null,null,null,null,null,null,null,null,null,null,null,null,null,null,null,null,null,null,null,null,null,null,null,null,{"$error":"#VALUE!"}]
[null,null,null,null,null,null,null,null,null,{"$error":"#VALUE!"},{"$error":"#VALUE!"},{"$error":"#VALUE!"},null,null,null,null,null,null,null,null,null,null,null,null,null,null,null,null,null,null,null,null,null,null,null,null,{"$error":"#VALUE!"}]
[null,null,null,null,null,null,null,null,null,{"$error":"#VALUE!"},{"$error":"#VALUE!"},{"$error":"#VALUE!"},null,null,null,null,null,null,null,null,null,null,null,null,null,null,null,null,null,null,null,null,null,null,null,null,{"$error":"#VALUE!"}]
[null,null,null,null,null,null,null,null,null,{"$error":"#VALUE!"},{"$error":"#VALUE!"},{"$error":"#VALUE!"},null,null,null,null,null,null,null,null,null,null,null,null,null,null,null,null,null,null,null,null,null,null,null,null,{"$error":"#VALUE!"}]
[null,null,null,null,null,null,null,null,null,{"$error":"#VALUE!"},{"$error":"#VALUE!"},{"$error":"#VALUE!"},null,null,null,null,null,null,null,null,null,null,null,null,null,null,null,null,null,null,null,null,null,null,null,null,{"$error":"#VALUE!"}]
[null,null,null,null,null,null,null,null,null,{"$error":"#VALUE!"},{"$error":"#VALUE!"},{"$error":"#VALUE!"},null,null,null,null,null,null,null,null,null,null,null,null,null,null,null,null,null,null,null,null,null,null,null,null,{"$error":"#VALUE!"}]
[null,null,null,null,null,null,null,null,null,{"$error":"#VALUE!"},{"$error":"#VALUE!"},{"$error":"#VALUE!"},null,null,null,null,null,null,null,null,null,null,null,null,null,null,null,null,null,null,null,null,null,null,null,null,{"$error":"#VALUE!"}]
[null,null,null,null,null,null,null,null,null,{"$error":"#VALUE!"},{"$error":"#VALUE!"},{"$error":"#VALUE!"},null,null,null,null,null,null,null,null,null,null,null,null,null,null,null,null,null,null,null,null,null,null,null,null,{"$error":"#VALUE!"}]
[null,null,null,null,null,null,null,null,null,{"$error":"#VALUE!"},{"$error":"#VALUE!"},{"$error":"#VALUE!"},null,null,null,null,null,null,null,null,null,null,null,null,null,null,null,null,null,null,null,null,null,null,null,null,{"$error":"#VALUE!"}]
[null,null,null,null,null,null,null,null,null,{"$error":"#VALUE!"},{"$error":"#VALUE!"},{"$error":"#VALUE!"},null,null,null,null,null,null,null,null,null,null,null,null,null,null,null,null,null,null,null,null,null,null,null,null,{"$error":"#VALUE!"}]
[null,null,null,null,null,null,null,null,null,{"$error":"#VALUE!"},{"$error":"#VALUE!"},{"$error":"#VALUE!"},null,null,null,null,null,null,null,null,null,null,null,null,null,null,null,null,null,null,null,null,null,null,null,null,{"$error":"#VALUE!"}]
[null,null,null,null,null,null,null,null,null,{"$error":"#VALUE!"},{"$error":"#VALUE!"},{"$error":"#VALUE!"},null,null,null,null,null,null,null,null,null,null,null,null,null,null,null,null,null,null,null,null,null,null,null,null,{"$error":"#VALUE!"}]
[null,null,null,null,null,null,null,null,null,{"$error":"#VALUE!"},{"$error":"#VALUE!"},{"$error":"#VALUE!"},null,null,null,null,null,null,null,null,null,null,null,null,null,null,null,null,null,null,null,null,null,null,null,null,{"$error":"#VALUE!"}]
[null,null,null,null,null,null,null,null,null,{"$error":"#VALUE!"},{"$error":"#VALUE!"},{"$error":"#VALUE!"},null,null,null,null,null,null,null,null,null,null,null,null,null,null,null,null,null,null,null,null,null,null,null,null,{"$error":"#VALUE!"}]
[null,null,null,null,null,null,null,null,null,{"$error":"#VALUE!"},{"$error":"#VALUE!"},{"$error":"#VALUE!"},null,null,null,null,null,null,null,null,null,null,null,null,null,null,null,null,null,null,null,null,null,null,null,null,{"$error":"#VALUE!"}]
[null,null,null,null,null,null,null,null,null,{"$error":"#VALUE!"},{"$error":"#VALUE!"},{"$error":"#VALUE!"},null,null,null,null,null,null,null,null,null,null,null,null,null,null,null,null,null,null,null,null,null,null,null,null,{"$error":"#VALUE!"}]
[null,null,null,null,null,null,null,null,null,{"$error":"#VALUE!"},{"$error":"#VALUE!"},{"$error":"#VALUE!"},null,null,null,null,null,null,null,null,null,null,null,null,null,null,null,null,null,null,null,null,null,null,null,null,{"$error":"#VALUE!"}]
[null,null,null,null,null,null,null,null,null,{"$error":"#VALUE!"},{"$error":"#VALUE!"},{"$error":"#VALUE!"},null,null,null,null,null,null,null,null,null,null,null,null,null,null,null,null,null,null,null,null,null,null,null,null,{"$error":"#VALUE!"}]
[null,null,null,null,null,null,null,null,null,{"$error":"#VALUE!"},{"$error":"#VALUE!"},{"$error":"#VALUE!"},null,null,null,null,null,null,null,null,null,null,null,null,null,null,null,null,null,null,null,null,null,null,null,null,{"$error":"#VALUE!"}]
[null,null,null,null,null,null,null,null,null,{"$error":"#VALUE!"},{"$error":"#VALUE!"},{"$error":"#VALUE!"},null,null,null,null,null,null,null,null,null,null,null,null,null,null,null,null,null,null,null,null,null,null,null,null,{"$error":"#VALUE!"}]
[null,null,null,null,null,null,null,null,null,{"$error":"#VALUE!"},{"$error":"#VALUE!"},{"$error":"#VALUE!"},null,null,null,null,null,null,null,null,null,null,null,null,null,null,null,null,null,null,null,null,null,null,null,null,{"$error":"#VALUE!"}]
[null,null,null,null,null,null,null,null,null,{"$error":"#VALUE!"},{"$error":"#VALUE!"},{"$error":"#VALUE!"},null,null,null,null,null,null,null,null,null,null,null,null,null,null,null,null,null,null,null,null,null,null,null,null,{"$error":"#VALUE!"}]
[null,null,null,null,null,null,null,null,null,{"$error":"#VALUE!"},{"$error":"#VALUE!"},{"$error":"#VALUE!"},null,null,null,null,null,null,null,null,null,null,null,null,null,null,null,null,null,null,null,null,null,null,null,null,{"$error":"#VALUE!"}]
[null,null,null,null,null,null,null,null,null,{"$error":"#VALUE!"},{"$error":"#VALUE!"},{"$error":"#VALUE!"},null,null,null,null,null,null,null,null,null,null,null,null,null,null,null,null,null,null,null,null,null,null,null,null,{"$error":"#VALUE!"}]
[null,null,null,null,null,null,null,null,null,{"$error":"#VALUE!"},{"$error":"#VALUE!"},{"$error":"#VALUE!"},null,null,null,null,null,null,null,null,null,null,null,null,null,null,null,null,null,null,null,null,null,null,null,null,{"$error":"#VALUE!"}]
[null,null,null,null,null,null,null,null,null,{"$error":"#VALUE!"},{"$error":"#VALUE!"},{"$error":"#VALUE!"},null,null,null,null,null,null,null,null,null,null,null,null,null,null,null,null,null,null,null,null,null,null,null,null,{"$error":"#VALUE!"}]
[null,null,null,null,null,null,null,null,null,{"$error":"#VALUE!"},{"$error":"#VALUE!"},{"$error":"#VALUE!"},null,null,null,null,null,null,null,null,null,null,null,null,null,null,null,null,null,null,null,null,null,null,null,null,{"$error":"#VALUE!"}]
[null,null,null,null,null,null,null,null,null,{"$error":"#VALUE!"},{"$error":"#VALUE!"},{"$error":"#VALUE!"},null,null,null,null,null,null,null,null,null,null,null,null,null,null,null,null,null,null,null,null,null,null,null,null,{"$error":"#VALUE!"}]

{"sheet":"RAB1x1","index":47,"n_rows":130,"n_cols":72,"rows_kept":130,"cut":false,"hidden":true,"merged":[[1,56,1,71],[0,19,0,28],[0,30,0,32],[1,31,2,31],[1,32,2,32],[1,21,1,25],[1,27,1,28],[1,30,2,30],[100,9,100,11],[100,36,101,36],[1,34,2,34],[1,36,2,36],[1,39,1,54],[1,9,1,11],[1,13,1,17]]}
[null,null,null,null,null,null,null,null,null,null,null,null,null,null,null,null,null,null,null,"Conflicting Traffic Complexity",null,null,null,null,null,null,null,null,null,null,"Pedestrian Complexity"]
[null,null,null,null,null,null,null,null,null,"Exposure",null,null,null,"Severity",null,null,null,null,null,"Traffic Control",null,"Conflicting Lanes",null,null,null,null,null,"Conflicting Speed",null,null,"Indirect Paths Indicator","Non-intuitive movements indicator","Pedestrian Complexity factor",null,"Total Complexity Multiplier",null,"Exposure-Severity-Complexity Product",null,null,"Included in Mvmt1",null,null,null,null,null,null,null,null,null,null,null,null,null,null,null,null,"Included in Mvmt2"]
["#","Conflict Type","Mvmt1","Mvmt1_gen","Mvmt1_SpeedCat","Mvmt2","Mvmt2_gen","Mvmt2_SpeedCat",null,"Q1","Q2","I",null,"Speed_V1","Speed_V2","Angle","delta_V","P_FSI",null,null,null,"MajC","MinC","MajM/P","MinM/P","Score",null,"Speed","Factor",null,null,null,null,null,null,null,null,null,null,"MajT1","MajL1","MajR1","MajT2","MajL2","MajR2","MinT1","MinL1","MinR1","MinT2","MinL2","MinR2","MajNM1","MajNM2","MinNM1","MinNM2",null,"MajT1","MajL1","MajR1","MajT2","MajL2","MajR2","MinT1","MinL1","MinR1","MinT2","MinL2","MinR2","MajNM1","MajNM2","MinNM1","MinNM2"]
[1,"Crossing - RAB","WBT, NBL","MajT2, MinL1","RAB Exiting","SBT, SBL","MinT2, MinL2","RAB Entering",null,{"$f":"SUMPRODUCT($AN4:$BC4,$AN$32:$BC$32)","v":{"$error":"#VALUE!"}},{"$f":"SUMPRODUCT($BE4:$BT4,$BE$32:$BT$32)","v":{"$error":"#VALUE!"}},{"$f":"PRODUCT(J4:K4)","v":{"$error":"#VALUE!"}},null,{"$f":"VLOOKUP(E4,SSI_AGI_Range_VehSpeed,5,FALSE)","v":30},{"$f":"VLOOKUP(H4,SSI_AGI_Range_VehSpeed,5,FALSE)","v":25},{"$f":"IF(B4=\"Nonmotorized\",\"\",VLOOKUP(B4,SSI_AGI_Range_CollAngles,5,FALSE))","v":60},{"$f":"IF(B4=\"Nonmotorized\",\"\",SQRT(N4^2+O4^2-2*N4*O4*COS(RADIANS(P4)))/2)","v":13.919410907075054},{"$f":"IF(B4=\"Nonmotorized\",1/(1+EXP(3.8432-0.1237*O4)),(Q4/SSI_AGI_RegAlpha)^SSI_AGI_RegK+(Q4/SSI_AGI_RegAlpha)^SSI_AGI_RegK-((Q4/SSI_AGI_RegAlpha)^SSI_AGI_RegK)*((Q4/SSI_AGI_RegAlpha)^SSI_AGI_RegK))","v":5.0568987822489503E-3},null,1,null,null,null,null,null,1,null,{"$f":"IF(B4=\"Diverging\",\"\",SSI_AGI_VehSpeed_RABCirc)","v":25},{"$f":"IF(B4=\"Diverging\",1,1-((60-AB4)/60*0.1/0.15))","v":0.61111111111111105},null,null,null,{"$f":"1+AE4+AF4","v":1},null,{"$f":"PRODUCT(Z4,T4,AC4,AG4)","v":0.61111111111111105},null,{"$f":"L4*R4*AI4","v":{"$error":"#VALUE!"}},null,null,{"$f":"IF(ISNUMBER(SEARCH(AN$3,$D4)),1,\"\")","v":""},{"$f":"IF(ISNUMBER(SEARCH(AO$3,$D4)),1,\"\")","v":""},"",1,"","","",1,"","","","","","","","",null,{"$f":"IF(ISNUMBER(SEARCH(BE$3,$G4)),1,\"\")","v":""},{"$f":"IF(ISNUMBER(SEARCH(BF$3,$G4)),1,\"\")","v":""},"","","","","","","",1,1,"","","","",""]
[2,"Crossing - RAB","SBT, WBL","MinT2, MajL2","RAB Exiting","EBT, EBL","MajT1, MajL1","RAB Entering",null,{"$error":"#VALUE!"},{"$f":"SUMPRODUCT($BE5:$BT5,$BE$32:$BT$32)","v":{"$error":"#VALUE!"}},{"$f":"PRODUCT(J5:K5)","v":{"$error":"#VALUE!"}},null,30,25,60,{"$f":"IF(B5=\"Nonmotorized\",\"\",SQRT(N5^2+O5^2-2*N5*O5*COS(RADIANS(P5)))/2)","v":13.919410907075054},5.0568987822489503E-3,null,1,null,null,null,null,null,1,null,25,0.61111111111111105,null,null,null,{"$f":"1+AE5+AF5","v":1},null,0.61111111111111105,null,{"$f":"L5*R5*AI5","v":{"$error":"#VALUE!"}},null,null,"","","","",1,"","","","",1,"","","","","","",null,1,1,"","","","","","","","","","","","","",""]
[3,"Crossing - RAB","EBT, SBL","MajT1, MinL2","RAB Exiting","NBT, NBL","MinT1, MinL1","RAB Entering",null,{"$error":"#VALUE!"},{"$error":"#VALUE!"},{"$error":"#VALUE!"},null,30,25,60,13.919410907075054,5.0568987822489503E-3,null,1,null,null,null,null,null,1,null,25,0.61111111111111105,null,null,null,1,null,0.61111111111111105,null,{"$error":"#VALUE!"},null,null,1,"","","","","","","","","",1,"","","","","",null,"","","","","","",1,1,"","","","","","","",""]
[4,"Crossing - RAB","NBT, EBL","MinT1, MajL1","RAB Exiting","WBT, WBL","MajT2, MajL2","RAB Entering",null,{"$error":"#VALUE!"},{"$error":"#VALUE!"},{"$error":"#VALUE!"},null,30,25,60,13.919410907075054,5.0568987822489503E-3,null,1,null,null,null,null,null,1,null,25,0.61111111111111105,null,null,null,1,null,0.61111111111111105,null,{"$error":"#VALUE!"},null,null,"",1,"","","","",1,"","","","","","","","","",null,"","","",1,1,"","","","","","","","","","",""]
[5,"Merging","WBT, NBL","MajT2, MinL1","RAB Exiting","SBR","MinR2","RAB Entering",null,{"$error":"#VALUE!"},{"$error":"#VALUE!"},{"$error":"#VALUE!"},null,30,25,45,10.774272924659215,1.9149308964743091E-3,null,1,null,null,null,null,null,1,null,25,0.61111111111111105,null,null,null,1,null,0.61111111111111105,null,{"$error":"#VALUE!"},null,null,"","","",1,"","","",1,"","","","","","","","",null,"","","","","","","","","","","",1,"","","",""]
[6,"Merging","WBL","MajL2","RAB Circulating","SBT, SBL","MinT2, MinL2","RAB Entering",null,{"$error":"#VALUE!"},{"$error":"#VALUE!"},{"$error":"#VALUE!"},null,25,25,45,9.5670858091272439,1.2201154392262267E-3,null,1,null,null,null,null,null,1,null,25,0.61111111111111105,null,null,null,1,null,0.61111111111111105,null,{"$error":"#VALUE!"},null,null,"","","","",1,"","","","","","","","","","","",null,"","","","","","","","","",1,1,"","","","",""]
[7,"Merging","SBT, WBL","MinT2, MajL2","RAB Exiting","EBR","MajR1","RAB Entering",null,{"$error":"#VALUE!"},{"$error":"#VALUE!"},{"$error":"#VALUE!"},null,30,25,45,10.774272924659215,1.9149308964743091E-3,null,1,null,null,null,null,null,1,null,25,0.61111111111111105,null,null,null,1,null,0.61111111111111105,null,{"$error":"#VALUE!"},null,null,"","","","",1,"","","","",1,"","","","","","",null,"","",1,"","","","","","","","","","","","",""]
[8,"Merging","SBL","MinL2","RAB Circulating","EBT, EBL","MajT1, MajL1","RAB Entering",null,{"$error":"#VALUE!"},{"$error":"#VALUE!"},{"$error":"#VALUE!"},null,25,25,45,9.5670858091272439,1.2201154392262267E-3,null,1,null,null,null,null,null,1,null,25,0.61111111111111105,null,null,null,1,null,0.61111111111111105,null,{"$error":"#VALUE!"},null,null,"","","","","","","","","","",1,"","","","","",null,1,1,"","","","","","","","","","","","","",""]
[9,"Merging","EBT, SBL","MajT1, MinL2","RAB Exiting","NBR","MinR1","RAB Entering",null,{"$error":"#VALUE!"},{"$error":"#VALUE!"},{"$error":"#VALUE!"},null,30,25,45,10.774272924659215,1.9149308964743091E-3,null,1,null,null,null,null,null,1,null,25,0.61111111111111105,null,null,null,1,null,0.61111111111111105,null,{"$error":"#VALUE!"},null,null,1,"","","","","","","","","",1,"","","","","",null,"","","","","","","","",1,"","","","","","",""]
[10,"Merging","EBL","MajL1","RAB Circulating","NBT, NBL","MinT1, MinL1","RAB Entering",null,{"$error":"#VALUE!"},{"$error":"#VALUE!"},{"$error":"#VALUE!"},null,25,25,45,9.5670858091272439,1.2201154392262267E-3,null,1,null,null,null,null,null,1,null,25,0.61111111111111105,null,null,null,1,null,0.61111111111111105,null,{"$error":"#VALUE!"},null,null,"",1,"","","","","","","","","","","","","","",null,"","","","","","",1,1,"","","","","","","",""]
[11,"Merging","NBT, EBL","MinT1, MajL2","RAB Exiting","WBR","MajR2","RAB Entering",null,{"$error":"#VALUE!"},{"$error":"#VALUE!"},{"$error":"#VALUE!"},null,30,25,45,10.774272924659215,1.9149308964743091E-3,null,1,null,null,null,null,null,1,null,25,0.61111111111111105,null,null,null,1,null,0.61111111111111105,null,{"$error":"#VALUE!"},null,null,"","","","",1,"",1,"","","","","","","","","",null,"","","","","",1,"","","","","","","","","",""]
[12,"Merging","NBL","MinL1","RAB Circulating","WBT, WBL","MajT2, MajL2","RAB Entering",null,{"$error":"#VALUE!"},{"$error":"#VALUE!"},{"$error":"#VALUE!"},null,25,25,45,9.5670858091272439,1.2201154392262267E-3,null,1,null,null,null,null,null,1,null,25,0.61111111111111105,null,null,null,1,null,0.61111111111111105,null,{"$error":"#VALUE!"},null,null,"","","","","","","",1,"","","","","","","","",null,"","","",1,1,"","","","","","","","","","",""]
[13,"Diverging","SBR","MinR2","RAB Circulating","SBT, SBL","MinT2, MinL2","RAB Entering",null,{"$error":"#VALUE!"},{"$error":"#VALUE!"},{"$error":"#VALUE!"},null,25,25,10,2.1788935686914574,4.4504203221236063E-6,null,1,null,null,null,null,null,1,null,"",1,null,null,null,1,null,1,null,{"$error":"#VALUE!"},null,null,"","","","","","","","","","","",1,"","","","",null,"","","","","","","","","",1,1,"","","","",""]
[14,"Diverging","WBL","MajL2","RAB Circulating","WBT, NBL","MajT2, MinL1","RAB Exiting",null,{"$error":"#VALUE!"},{"$error":"#VALUE!"},{"$error":"#VALUE!"},null,25,30,10,3.4564566568122888,2.5632912055290634E-5,null,1,null,null,null,null,null,1,null,"",1,null,null,null,1,null,1,null,{"$error":"#VALUE!"},null,null,"","","","",1,"","","","","","","","","","","",null,"","","",1,"","","",1,"","","","","","","",""]
[15,"Diverging","EBR","MajR1","RAB Circulating","EBT, EBL","MajT1, MajL1","RAB Entering",null,{"$error":"#VALUE!"},{"$error":"#VALUE!"},{"$error":"#VALUE!"},null,25,25,10,2.1788935686914574,4.4504203221236063E-6,null,1,null,null,null,null,null,1,null,"",1,null,null,null,1,null,1,null,{"$error":"#VALUE!"},null,null,"","",1,"","","","","","","","","","","","","",null,1,1,"","","","","","","","","","","","","",""]
[16,"Diverging","SBL","MinL2","RAB Circulating","SBT, WBL","MinT2, MajL1","RAB Exiting",null,{"$error":"#VALUE!"},{"$error":"#VALUE!"},{"$error":"#VALUE!"},null,25,30,10,3.4564566568122888,2.5632912055290634E-5,null,1,null,null,null,null,null,1,null,"",1,null,null,null,1,null,1,null,{"$error":"#VALUE!"},null,null,"","","","","","","","","","",1,"","","","","",null,"",1,"","","","","","","",1,"","","","","",""]
[17,"Diverging","NBR","MinR1","RAB Circulating","NBT, NBL","MinT1, MinL1","RAB Entering",null,{"$error":"#VALUE!"},{"$error":"#VALUE!"},{"$error":"#VALUE!"},null,25,25,10,2.1788935686914574,4.4504203221236063E-6,null,1,null,null,null,null,null,1,null,"",1,null,null,null,1,null,1,null,{"$error":"#VALUE!"},null,null,"",{"$f":"IF(ISNUMBER(SEARCH(AO$3,$D20)),1,\"\")","v":""},"","","","","","",1,"","","","","","","",null,"",{"$f":"IF(ISNUMBER(SEARCH(BF$3,$G20)),1,\"\")","v":""},"","","","",1,1,"","","","","","","",""]
[18,"Diverging","EBL","MajL1","RAB Circulating","EBT, SBL","MajT1, MinL2","RAB Exiting",null,{"$error":"#VALUE!"},{"$error":"#VALUE!"},{"$error":"#VALUE!"},null,25,30,10,3.4564566568122888,2.5632912055290634E-5,null,1,null,null,null,null,null,1,null,"",1,null,null,null,1,null,1,null,{"$error":"#VALUE!"},null,null,"",1,"","","","","","","","","","","","","","",null,1,"","","","","","","","","",1,"","","","",""]
[19,"Diverging","WBR","MajR2","RAB Circulating","WBT, WBL","MajT2, MajL2","RAB Entering",null,{"$error":"#VALUE!"},{"$error":"#VALUE!"},{"$error":"#VALUE!"},null,25,25,10,2.1788935686914574,4.4504203221236063E-6,null,1,null,null,null,null,null,1,null,"",1,null,null,null,1,null,1,null,{"$error":"#VALUE!"},null,null,"","","","","",1,"","","","","","","","","","",null,"","","",1,1,"","","","","","","","","","",""]
[20,"Diverging","NBL","MinL1","RAB Circulating","NBT, EBL","MinT1, MajL1","RAB Exiting",null,{"$error":"#VALUE!"},{"$error":"#VALUE!"},{"$error":"#VALUE!"},null,25,30,10,3.4564566568122888,2.5632912055290634E-5,null,1,null,null,null,null,null,1,null,"",1,null,null,null,1,null,1,null,{"$error":"#VALUE!"},null,null,"","","","","","","",1,"","","","","","","","",null,"",1,"","","","",1,"","","","","","","","",""]
[21,"Nonmotorized","EB Ped","MajNM1","Nonmotorized","WBT, NBL, SBR","MajT2, MinL1, MinR2","RAB Exiting",null,{"$error":"#VALUE!"},{"$error":"#VALUE!"},{"$error":"#VALUE!"},null,0,30,"","",0.46699805015542578,null,1,null,null,null,null,null,1,null,{"$f":"IF(B24=\"Diverging\",\"\",SSI_AGI_VehSpeed_RABExit)","v":30},0.66666666666666663,null,1,null,2,null,1.3333333333333333,null,{"$error":"#VALUE!"},null,null,"","","","","","","","","","","","",1,"","","",null,"","","",1,"","","",1,"","","",1,"","","",""]
[22,"Nonmotorized","EB Ped","MajNM1","Nonmotorized","EBT, EBL, EBR","MajT1, MajL1, MajR1","RAB Entering",null,{"$error":"#VALUE!"},{"$error":"#VALUE!"},{"$error":"#VALUE!"},null,0,25,"","",0.32066879346345062,null,1,null,null,null,null,null,1,null,{"$f":"IF(B25=\"Diverging\",\"\",SSI_AGI_VehSpeed_RABEnter)","v":25},0.61111111111111105,null,1,null,2,null,1.2222222222222221,null,{"$error":"#VALUE!"},null,null,"","","","","","","","","","","","",1,"","","",null,1,1,1,"","","","","","","","","","","","",""]
[23,"Nonmotorized","NB Ped","MinNM1","Nonmotorized","SBT, WBL, EBR","MinT2, MajL2, MajR1","RAB Exiting",null,{"$error":"#VALUE!"},{"$error":"#VALUE!"},{"$error":"#VALUE!"},null,0,30,"","",0.46699805015542578,null,1,null,null,null,null,null,1,null,{"$f":"IF(B26=\"Diverging\",\"\",SSI_AGI_VehSpeed_RABExit)","v":30},0.66666666666666663,null,1,null,2,null,1.3333333333333333,null,{"$error":"#VALUE!"},null,null,"","","","","","","","","","","","","","",1,"",null,"","",1,"",1,"","","","",1,"","","","","",""]
[24,"Nonmotorized","NB Ped","MinNM1","Nonmotorized","NBT, NBL, NBR","MinT1, MinL1, MinR1","RAB Entering",null,{"$error":"#VALUE!"},{"$error":"#VALUE!"},{"$error":"#VALUE!"},null,0,25,"","",0.32066879346345062,null,1,null,null,null,null,null,1,null,{"$f":"IF(B27=\"Diverging\",\"\",SSI_AGI_VehSpeed_RABEnter)","v":25},0.61111111111111105,null,1,null,2,null,1.2222222222222221,null,{"$error":"#VALUE!"},null,null,"","","","","","","","","","","","","","",1,"",null,"","","","","","",1,1,1,"","","","","","",""]
[25,"Nonmotorized","WB Ped","MajNM2","Nonmotorized","EBT, SBL, NBR","MajT1, MinL2, MinR1","RAB Exiting",null,{"$error":"#VALUE!"},{"$error":"#VALUE!"},{"$error":"#VALUE!"},null,0,30,"","",0.46699805015542578,null,1,null,null,null,null,null,1,null,{"$f":"IF(B28=\"Diverging\",\"\",SSI_AGI_VehSpeed_RABExit)","v":30},0.66666666666666663,null,1,null,2,null,1.3333333333333333,null,{"$error":"#VALUE!"},null,null,"","","","","","","","","","","","","",1,"","",null,1,"","","","","","","",1,"",1,"","","","",""]
[26,"Nonmotorized","WB Ped","MajNM2","Nonmotorized","WBT, WBL, WBR","MajT2, MajL2, MajR2","RAB Entering",null,{"$error":"#VALUE!"},{"$error":"#VALUE!"},{"$error":"#VALUE!"},null,0,25,"","",0.32066879346345062,null,1,null,null,null,null,null,1,null,{"$f":"IF(B29=\"Diverging\",\"\",SSI_AGI_VehSpeed_RABEnter)","v":25},0.61111111111111105,null,1,null,2,null,1.2222222222222221,null,{"$error":"#VALUE!"},null,null,"","","","","","","","","","","","","",1,"","",null,"","","",1,1,1,"","","","","","","","","",""]
[27,"Nonmotorized","SB Ped","MinNM2","Nonmotorized","NBT, EBL, WBR","MinT1, MajL1, MajR2","RAB Exiting",null,{"$error":"#VALUE!"},{"$error":"#VALUE!"},{"$error":"#VALUE!"},null,0,30,"","",0.46699805015542578,null,1,null,null,null,null,null,1,null,{"$f":"IF(B30=\"Diverging\",\"\",SSI_AGI_VehSpeed_RABExit)","v":30},0.66666666666666663,null,1,null,2,null,1.3333333333333333,null,{"$error":"#VALUE!"},null,null,"","","","","","","","","","","","","","","",1,null,"",1,"","","",1,1,"","","","","","","","",""]
[28,"Nonmotorized","SB Ped","MinNM2","Nonmotorized","SBT, SBL, SBR","MinT2, MinL2, MinR2","RAB Entering",null,{"$error":"#VALUE!"},{"$error":"#VALUE!"},{"$error":"#VALUE!"},null,0,25,"","",0.32066879346345062,null,1,null,null,null,null,null,1,null,{"$f":"IF(B31=\"Diverging\",\"\",SSI_AGI_VehSpeed_RABEnter)","v":25},0.61111111111111105,null,1,null,2,null,1.2222222222222221,null,{"$error":"#VALUE!"},null,null,"","","","","","","","","","","","","","","",1,null,"","","","","","","","","",1,1,1,"","","",""]
[null,null,null,null,null,null,null,null,null,null,null,null,null,null,null,null,null,null,null,null,null,null,null,null,null,null,null,null,null,null,null,null,null,null,null,null,null,null,"O",{"$f":"'SSI Inputs'!$D$26","v":{"$error":"#VALUE!"}},{"$f":"'SSI Inputs'!$D$27","v":{"$error":"#VALUE!"}},{"$f":"'SSI Inputs'!$D$28","v":{"$error":"#VALUE!"}},{"$f":"'SSI Inputs'!$D$30","v":{"$error":"#VALUE!"}},{"$f":"'SSI Inputs'!$D$31","v":{"$error":"#VALUE!"}},{"$f":"'SSI Inputs'!$D$32","v":{"$error":"#VALUE!"}},{"$f":"'SSI Inputs'!$D$34","v":{"$error":"#VALUE!"}},{"$f":"'SSI Inputs'!$D$35","v":{"$error":"#VALUE!"}},{"$f":"'SSI Inputs'!$D$36","v":{"$error":"#VALUE!"}},{"$f":"'SSI Inputs'!$D$38","v":{"$error":"#VALUE!"}},{"$f":"'SSI Inputs'!$D$39","v":{"$error":"#VALUE!"}},{"$f":"'SSI Inputs'!$D$40","v":{"$error":"#VALUE!"}},{"$f":"'SSI Inputs'!$Q$18","v":12.5},{"$f":"'SSI Inputs'!$Q$19","v":12.5},{"$f":"'SSI Inputs'!$Q$20","v":12.5},{"$f":"'SSI Inputs'!$Q$21","v":12.5},"O",{"$f":"'SSI Inputs'!$D$26","v":{"$error":"#VALUE!"}},{"$f":"'SSI Inputs'!$D$27","v":{"$error":"#VALUE!"}},{"$f":"'SSI Inputs'!$D$28","v":{"$error":"#VALUE!"}},{"$f":"'SSI Inputs'!$D$30","v":{"$error":"#VALUE!"}},{"$f":"'SSI Inputs'!$D$31","v":{"$error":"#VALUE!"}},{"$f":"'SSI Inputs'!$D$32","v":{"$error":"#VALUE!"}},{"$f":"'SSI Inputs'!$D$34","v":{"$error":"#VALUE!"}},{"$f":"'SSI Inputs'!$D$35","v":{"$error":"#VALUE!"}},{"$f":"'SSI Inputs'!$D$36","v":{"$error":"#VALUE!"}},{"$f":"'SSI Inputs'!$D$38","v":{"$error":"#VALUE!"}},{"$f":"'SSI Inputs'!$D$39","v":{"$error":"#VALUE!"}},{"$f":"'SSI Inputs'!$D$40","v":{"$error":"#VALUE!"}},{"$f":"'SSI Inputs'!$Q$18","v":12.5},{"$f":"'SSI Inputs'!$Q$19","v":12.5},{"$f":"'SSI Inputs'!$Q$20","v":12.5},{"$f":"'SSI Inputs'!$Q$21","v":12.5}]
[null,null,null,null,null,null,null,null,null,null,null,null,null,null,null,null,null,null,null,null,null,null,null,null,null,null,null,null,null,null,null,null,null,null,null,null,null,null,"D",{"$f":"'SSI Inputs'!$E$26","v":{"$error":"#VALUE!"}},{"$f":"'SSI Inputs'!$E$27","v":{"$error":"#VALUE!"}},{"$f":"'SSI Inputs'!$E$28","v":{"$error":"#VALUE!"}},{"$f":"'SSI Inputs'!$E$30","v":{"$error":"#VALUE!"}},{"$f":"'SSI Inputs'!$E$31","v":{"$error":"#VALUE!"}},{"$f":"'SSI Inputs'!$E$32","v":{"$error":"#VALUE!"}},{"$f":"'SSI Inputs'!$E$34","v":{"$error":"#VALUE!"}},{"$f":"'SSI Inputs'!$E$35","v":{"$error":"#VALUE!"}},{"$f":"'SSI Inputs'!$E$36","v":{"$error":"#VALUE!"}},{"$f":"'SSI Inputs'!$E$38","v":{"$error":"#VALUE!"}},{"$f":"'SSI Inputs'!$E$39","v":{"$error":"#VALUE!"}},{"$f":"'SSI Inputs'!$E$40","v":{"$error":"#VALUE!"}},{"$f":"'SSI Inputs'!$R$18","v":12.5},{"$f":"'SSI Inputs'!$R$19","v":12.5},{"$f":"'SSI Inputs'!$R$20","v":12.5},{"$f":"'SSI Inputs'!$R$21","v":12.5},"D",{"$f":"'SSI Inputs'!$E$26","v":{"$error":"#VALUE!"}},{"$f":"'SSI Inputs'!$E$27","v":{"$error":"#VALUE!"}},{"$f":"'SSI Inputs'!$E$28","v":{"$error":"#VALUE!"}},{"$f":"'SSI Inputs'!$E$30","v":{"$error":"#VALUE!"}},{"$f":"'SSI Inputs'!$E$31","v":{"$error":"#VALUE!"}},{"$f":"'SSI Inputs'!$E$32","v":{"$error":"#VALUE!"}},{"$f":"'SSI Inputs'!$E$34","v":{"$error":"#VALUE!"}},{"$f":"'SSI Inputs'!$E$35","v":{"$error":"#VALUE!"}},{"$f":"'SSI Inputs'!$E$36","v":{"$error":"#VALUE!"}},{"$f":"'SSI Inputs'!$E$38","v":{"$error":"#VALUE!"}},{"$f":"'SSI Inputs'!$E$39","v":{"$error":"#VALUE!"}},{"$f":"'SSI Inputs'!$E$40","v":{"$error":"#VALUE!"}},{"$f":"'SSI Inputs'!$R$18","v":12.5},{"$f":"'SSI Inputs'!$R$19","v":12.5},{"$f":"'SSI Inputs'!$R$20","v":12.5},{"$f":"'SSI Inputs'!$R$21","v":12.5}]
[]
[]
[]
[]
[]
[]
[]
[]
[]
[]
[]
[]
[]
[]
[]
[]
[]
[]
[]
[]
[]
[]
[]
[]
[]
[]
[]
[]
[]
[]
[]
[]
[]
[]
[]
[]
[]
[]
[]
[]
[]
[]
[]
[]
[]
[]
[]
[]
[]
[]
[]
[]
[]
[]
[]
[]
[]
[]
[]
[]
[]
[]
[]
[]
[]
[]
[]
[null,null,null,null,null,null,null,null,null,"Exposure",null,null,null,null,null,null,null,null,null,null,null,null,null,null,null,null,null,null,null,null,null,null,null,null,null,null,"Exposure-Severity-Complexity Product"]
[null,null,null,null,null,null,null,null,null,"Q1","Q2","I"]
[null,null,null,null,null,null,null,null,null,{"$f":"SUMPRODUCT($AN4:$BC4,$AN$33:$BC$33)","v":{"$error":"#VALUE!"}},{"$f":"SUMPRODUCT($BE4:$BT4,$BE$33:$BT$33)","v":{"$error":"#VALUE!"}},{"$f":"PRODUCT(J103:K103)","v":{"$error":"#VALUE!"}},null,null,null,null,null,null,null,null,null,null,null,null,null,null,null,null,null,null,null,null,null,null,null,null,{"$f":"L103*R4*AI4","v":{"$error":"#VALUE!"}}]
[null,null,null,null,null,null,null,null,null,{"$f":"SUMPRODUCT($AN5:$BC5,$AN$33:$BC$33)","v":{"$error":"#VALUE!"}},{"$f":"SUMPRODUCT($BE5:$BT5,$BE$33:$BT$33)","v":{"$error":"#VALUE!"}},{"$f":"PRODUCT(J104:K104)","v":{"$error":"#VALUE!"}},null,null,null,null,null,null,null,null,null,null,null,null,null,null,null,null,null,null,null,null,null,null,null,null,{"$f":"L104*R5*AI5","v":{"$error":"#VALUE!"}}]
[null,null,null,null,null,null,null,null,null,{"$error":"#VALUE!"},{"$error":"#VALUE!"},{"$error":"#VALUE!"},null,null,null,null,null,null,null,null,null,null,null,null,null,null,null,null,null,null,null,null,null,null,null,null,{"$error":"#VALUE!"}]
[null,null,null,null,null,null,null,null,null,{"$error":"#VALUE!"},{"$error":"#VALUE!"},{"$error":"#VALUE!"},null,null,null,null,null,null,null,null,null,null,null,null,null,null,null,null,null,null,null,null,null,null,null,null,{"$error":"#VALUE!"}]
[null,null,null,null,null,null,null,null,null,{"$error":"#VALUE!"},{"$error":"#VALUE!"},{"$error":"#VALUE!"},null,null,null,null,null,null,null,null,null,null,null,null,null,null,null,null,null,null,null,null,null,null,null,null,{"$error":"#VALUE!"}]
[null,null,null,null,null,null,null,null,null,{"$error":"#VALUE!"},{"$error":"#VALUE!"},{"$error":"#VALUE!"},null,null,null,null,null,null,null,null,null,null,null,null,null,null,null,null,null,null,null,null,null,null,null,null,{"$error":"#VALUE!"}]
[null,null,null,null,null,null,null,null,null,{"$error":"#VALUE!"},{"$error":"#VALUE!"},{"$error":"#VALUE!"},null,null,null,null,null,null,null,null,null,null,null,null,null,null,null,null,null,null,null,null,null,null,null,null,{"$error":"#VALUE!"}]
[null,null,null,null,null,null,null,null,null,{"$error":"#VALUE!"},{"$error":"#VALUE!"},{"$error":"#VALUE!"},null,null,null,null,null,null,null,null,null,null,null,null,null,null,null,null,null,null,null,null,null,null,null,null,{"$error":"#VALUE!"}]
[null,null,null,null,null,null,null,null,null,{"$error":"#VALUE!"},{"$error":"#VALUE!"},{"$error":"#VALUE!"},null,null,null,null,null,null,null,null,null,null,null,null,null,null,null,null,null,null,null,null,null,null,null,null,{"$error":"#VALUE!"}]
[null,null,null,null,null,null,null,null,null,{"$error":"#VALUE!"},{"$error":"#VALUE!"},{"$error":"#VALUE!"},null,null,null,null,null,null,null,null,null,null,null,null,null,null,null,null,null,null,null,null,null,null,null,null,{"$error":"#VALUE!"}]
[null,null,null,null,null,null,null,null,null,{"$error":"#VALUE!"},{"$error":"#VALUE!"},{"$error":"#VALUE!"},null,null,null,null,null,null,null,null,null,null,null,null,null,null,null,null,null,null,null,null,null,null,null,null,{"$error":"#VALUE!"}]
[null,null,null,null,null,null,null,null,null,{"$error":"#VALUE!"},{"$error":"#VALUE!"},{"$error":"#VALUE!"},null,null,null,null,null,null,null,null,null,null,null,null,null,null,null,null,null,null,null,null,null,null,null,null,{"$error":"#VALUE!"}]
[null,null,null,null,null,null,null,null,null,{"$error":"#VALUE!"},{"$error":"#VALUE!"},{"$error":"#VALUE!"},null,null,null,null,null,null,null,null,null,null,null,null,null,null,null,null,null,null,null,null,null,null,null,null,{"$error":"#VALUE!"}]
[null,null,null,null,null,null,null,null,null,{"$error":"#VALUE!"},{"$error":"#VALUE!"},{"$error":"#VALUE!"},null,null,null,null,null,null,null,null,null,null,null,null,null,null,null,null,null,null,null,null,null,null,null,null,{"$error":"#VALUE!"}]
[null,null,null,null,null,null,null,null,null,{"$error":"#VALUE!"},{"$error":"#VALUE!"},{"$error":"#VALUE!"},null,null,null,null,null,null,null,null,null,null,null,null,null,null,null,null,null,null,null,null,null,null,null,null,{"$error":"#VALUE!"}]
[null,null,null,null,null,null,null,null,null,{"$error":"#VALUE!"},{"$error":"#VALUE!"},{"$error":"#VALUE!"},null,null,null,null,null,null,null,null,null,null,null,null,null,null,null,null,null,null,null,null,null,null,null,null,{"$error":"#VALUE!"}]
[null,null,null,null,null,null,null,null,null,{"$error":"#VALUE!"},{"$error":"#VALUE!"},{"$error":"#VALUE!"},null,null,null,null,null,null,null,null,null,null,null,null,null,null,null,null,null,null,null,null,null,null,null,null,{"$error":"#VALUE!"}]
[null,null,null,null,null,null,null,null,null,{"$error":"#VALUE!"},{"$error":"#VALUE!"},{"$error":"#VALUE!"},null,null,null,null,null,null,null,null,null,null,null,null,null,null,null,null,null,null,null,null,null,null,null,null,{"$error":"#VALUE!"}]
[null,null,null,null,null,null,null,null,null,{"$error":"#VALUE!"},{"$error":"#VALUE!"},{"$error":"#VALUE!"},null,null,null,null,null,null,null,null,null,null,null,null,null,null,null,null,null,null,null,null,null,null,null,null,{"$error":"#VALUE!"}]
[null,null,null,null,null,null,null,null,null,{"$error":"#VALUE!"},{"$error":"#VALUE!"},{"$error":"#VALUE!"},null,null,null,null,null,null,null,null,null,null,null,null,null,null,null,null,null,null,null,null,null,null,null,null,{"$error":"#VALUE!"}]
[null,null,null,null,null,null,null,null,null,{"$error":"#VALUE!"},{"$error":"#VALUE!"},{"$error":"#VALUE!"},null,null,null,null,null,null,null,null,null,null,null,null,null,null,null,null,null,null,null,null,null,null,null,null,{"$error":"#VALUE!"}]
[null,null,null,null,null,null,null,null,null,{"$error":"#VALUE!"},{"$error":"#VALUE!"},{"$error":"#VALUE!"},null,null,null,null,null,null,null,null,null,null,null,null,null,null,null,null,null,null,null,null,null,null,null,null,{"$error":"#VALUE!"}]
[null,null,null,null,null,null,null,null,null,{"$error":"#VALUE!"},{"$error":"#VALUE!"},{"$error":"#VALUE!"},null,null,null,null,null,null,null,null,null,null,null,null,null,null,null,null,null,null,null,null,null,null,null,null,{"$error":"#VALUE!"}]
[null,null,null,null,null,null,null,null,null,{"$error":"#VALUE!"},{"$error":"#VALUE!"},{"$error":"#VALUE!"},null,null,null,null,null,null,null,null,null,null,null,null,null,null,null,null,null,null,null,null,null,null,null,null,{"$error":"#VALUE!"}]
[null,null,null,null,null,null,null,null,null,{"$error":"#VALUE!"},{"$error":"#VALUE!"},{"$error":"#VALUE!"},null,null,null,null,null,null,null,null,null,null,null,null,null,null,null,null,null,null,null,null,null,null,null,null,{"$error":"#VALUE!"}]
[null,null,null,null,null,null,null,null,null,{"$error":"#VALUE!"},{"$error":"#VALUE!"},{"$error":"#VALUE!"},null,null,null,null,null,null,null,null,null,null,null,null,null,null,null,null,null,null,null,null,null,null,null,null,{"$error":"#VALUE!"}]
[null,null,null,null,null,null,null,null,null,{"$error":"#VALUE!"},{"$error":"#VALUE!"},{"$error":"#VALUE!"},null,null,null,null,null,null,null,null,null,null,null,null,null,null,null,null,null,null,null,null,null,null,null,null,{"$error":"#VALUE!"}]
[null,null,null,null,null,null,null,null,null,{"$error":"#VALUE!"},{"$error":"#VALUE!"},{"$error":"#VALUE!"},null,null,null,null,null,null,null,null,null,null,null,null,null,null,null,null,null,null,null,null,null,null,null,null,{"$error":"#VALUE!"}]

{"sheet":"RAB2x1","index":48,"n_rows":130,"n_cols":72,"rows_kept":130,"cut":false,"hidden":true,"merged":[[1,56,1,71],[0,19,0,28],[0,30,0,32],[1,31,2,31],[1,32,2,32],[1,21,1,25],[1,27,1,28],[1,30,2,30],[100,9,100,11],[100,36,101,36],[1,34,2,34],[1,36,2,36],[1,39,1,54],[1,9,1,11],[1,13,1,17]]}
[null,null,null,null,null,null,null,null,null,null,null,null,null,null,null,null,null,null,null,"Conflicting Traffic Complexity",null,null,null,null,null,null,null,null,null,null,"Pedestrian Complexity"]
[null,null,null,null,null,null,null,null,null,"Exposure",null,null,null,"Severity",null,null,null,null,null,"Traffic Control",null,"Conflicting Lanes",null,null,null,null,null,"Conflicting Speed",null,null,"Indirect Paths Indicator","Non-intuitive movements indicator","Pedestrian Complexity factor",null,"Total Complexity Multiplier",null,"Exposure-Severity-Complexity Product",null,null,"Included in Mvmt1",null,null,null,null,null,null,null,null,null,null,null,null,null,null,null,null,"Included in Mvmt2"]
["#","Conflict Type","Mvmt1","Mvmt1_gen","Mvmt1_SpeedCat","Mvmt2","Mvmt2_gen","Mvmt2_SpeedCat",null,"Q1","Q2","I",null,"Speed_V1","Speed_V2","Angle","delta_V","P_FSI",null,null,null,"MajC","MinC","MajM/P","MinM/P","Score",null,"Speed","Factor",null,null,null,null,null,null,null,null,null,null,"MajT1","MajL1","MajR1","MajT2","MajL2","MajR2","MinT1","MinL1","MinR1","MinT2","MinL2","MinR2","MajNM1","MajNM2","MinNM1","MinNM2",null,"MajT1","MajL1","MajR1","MajT2","MajL2","MajR2","MinT1","MinL1","MinR1","MinT2","MinL2","MinR2","MajNM1","MajNM2","MinNM1","MinNM2"]
[1,"Crossing - RAB","WBT, NBL","MajT2, MinL1","RAB Exiting","SBT, SBL","MinT2, MinL2","RAB Entering",null,{"$f":"SUMPRODUCT($AN4:$BC4,$AN$32:$BC$32)","v":{"$error":"#VALUE!"}},{"$f":"SUMPRODUCT($BE4:$BT4,$BE$32:$BT$32)","v":{"$error":"#VALUE!"}},{"$f":"PRODUCT(J4:K4)","v":{"$error":"#VALUE!"}},null,{"$f":"VLOOKUP(E4,SSI_AGI_Range_VehSpeed,5,FALSE)","v":30},{"$f":"VLOOKUP(H4,SSI_AGI_Range_VehSpeed,5,FALSE)","v":25},{"$f":"IF(B4=\"Nonmotorized\",\"\",VLOOKUP(B4,SSI_AGI_Range_CollAngles,5,FALSE))","v":60},{"$f":"IF(B4=\"Nonmotorized\",\"\",SQRT(N4^2+O4^2-2*N4*O4*COS(RADIANS(P4)))/2)","v":13.919410907075054},{"$f":"IF(B4=\"Nonmotorized\",1/(1+EXP(3.8432-0.1237*O4)),(Q4/SSI_AGI_RegAlpha)^SSI_AGI_RegK+(Q4/SSI_AGI_RegAlpha)^SSI_AGI_RegK-((Q4/SSI_AGI_RegAlpha)^SSI_AGI_RegK)*((Q4/SSI_AGI_RegAlpha)^SSI_AGI_RegK))","v":5.0568987822489503E-3},null,1,null,null,null,null,null,2,null,{"$f":"IF(B4=\"Diverging\",\"\",SSI_AGI_VehSpeed_RABCirc)","v":25},{"$f":"IF(B4=\"Diverging\",1,1-((60-AB4)/60*0.1/0.15))","v":0.61111111111111105},null,null,null,{"$f":"1+AE4+AF4","v":1},null,{"$f":"PRODUCT(Z4,T4,AC4,AG4)","v":1.2222222222222221},null,{"$f":"L4*R4*AI4","v":{"$error":"#VALUE!"}},null,null,{"$f":"IF(ISNUMBER(SEARCH(AN$3,$D4)),1,\"\")","v":""},{"$f":"IF(ISNUMBER(SEARCH(AO$3,$D4)),1,\"\")","v":""},"",1,"","","",1,"","","","","","","","",null,{"$f":"IF(ISNUMBER(SEARCH(BE$3,$G4)),1,\"\")","v":""},{"$f":"IF(ISNUMBER(SEARCH(BF$3,$G4)),1,\"\")","v":""},"","","","","","","",1,1,"","","","",""]
[2,"Crossing - RAB","SBT, WBL","MinT2, MajL2","RAB Exiting","EBT, EBL","MajT1, MajL1","RAB Entering",null,{"$error":"#VALUE!"},{"$f":"SUMPRODUCT($BE5:$BT5,$BE$32:$BT$32)","v":{"$error":"#VALUE!"}},{"$f":"PRODUCT(J5:K5)","v":{"$error":"#VALUE!"}},null,30,25,60,{"$f":"IF(B5=\"Nonmotorized\",\"\",SQRT(N5^2+O5^2-2*N5*O5*COS(RADIANS(P5)))/2)","v":13.919410907075054},5.0568987822489503E-3,null,1,null,null,null,null,null,1,null,25,0.61111111111111105,null,null,null,{"$f":"1+AE5+AF5","v":1},null,0.61111111111111105,null,{"$f":"L5*R5*AI5","v":{"$error":"#VALUE!"}},null,null,"","","","",1,"","","","",1,"","","","","","",null,1,1,"","","","","","","","","","","","","",""]
[3,"Crossing - RAB","EBT, SBL","MajT1, MinL2","RAB Exiting","NBT, NBL","MinT1, MinL1","RAB Entering",null,{"$error":"#VALUE!"},{"$error":"#VALUE!"},{"$error":"#VALUE!"},null,30,25,60,13.919410907075054,5.0568987822489503E-3,null,1,null,null,null,null,null,2,null,25,0.61111111111111105,null,null,null,1,null,1.2222222222222221,null,{"$error":"#VALUE!"},null,null,1,"","","","","","","","","",1,"","","","","",null,"","","","","","",1,1,"","","","","","","",""]
[4,"Crossing - RAB","NBT, EBL","MinT1, MajL1","RAB Exiting","WBT, WBL","MajT2, MajL2","RAB Entering",null,{"$error":"#VALUE!"},{"$error":"#VALUE!"},{"$error":"#VALUE!"},null,30,25,60,13.919410907075054,5.0568987822489503E-3,null,1,null,null,null,null,null,1,null,25,0.61111111111111105,null,null,null,1,null,0.61111111111111105,null,{"$error":"#VALUE!"},null,null,"",1,"","","","",1,"","","","","","","","","",null,"","","",1,1,"","","","","","","","","","",""]
[5,"Merging","WBT, NBL","MajT2, MinL1","RAB Exiting","SBR","MinR2","RAB Entering",null,{"$error":"#VALUE!"},{"$error":"#VALUE!"},{"$error":"#VALUE!"},null,30,25,45,10.774272924659215,1.9149308964743091E-3,null,1,null,null,null,null,null,1.75,null,25,0.61111111111111105,null,null,null,1,null,1.0694444444444444,null,{"$error":"#VALUE!"},null,null,"","","",1,"","","",1,"","","","","","","","",null,"","","","","","","","","","","",1,"","","",""]
[6,"Merging","WBL","MajL2","RAB Circulating","SBT, SBL","MinT2, MinL2","RAB Entering",null,{"$error":"#VALUE!"},{"$error":"#VALUE!"},{"$error":"#VALUE!"},null,25,25,45,9.5670858091272439,1.2201154392262267E-3,null,1,null,null,null,null,null,2,null,25,0.61111111111111105,null,null,null,1,null,1.2222222222222221,null,{"$error":"#VALUE!"},null,null,"","","","",1,"","","","","","","","","","","",null,"","","","","","","","","",1,1,"","","","",""]
[7,"Merging","SBT, WBL","MinT2, MajL2","RAB Exiting","EBR","MajR1","RAB Entering",null,{"$error":"#VALUE!"},{"$error":"#VALUE!"},{"$error":"#VALUE!"},null,30,25,45,10.774272924659215,1.9149308964743091E-3,null,1,null,null,null,null,null,1,null,25,0.61111111111111105,null,null,null,1,null,0.61111111111111105,null,{"$error":"#VALUE!"},null,null,"","","","",1,"","","","",1,"","","","","","",null,"","",1,"","","","","","","","","","","","",""]
[8,"Merging","SBL","MinL2","RAB Circulating","EBT, EBL","MajT1, MajL1","RAB Entering",null,{"$error":"#VALUE!"},{"$error":"#VALUE!"},{"$error":"#VALUE!"},null,25,25,45,9.5670858091272439,1.2201154392262267E-3,null,1,null,null,null,null,null,1.75,null,25,0.61111111111111105,null,null,null,1,null,1.0694444444444444,null,{"$error":"#VALUE!"},null,null,"","","","","","","","","","",1,"","","","","",null,1,1,"","","","","","","","","","","","","",""]
[9,"Merging","EBT, SBL","MajT1, MinL2","RAB Exiting","NBR","MinR1","RAB Entering",null,{"$error":"#VALUE!"},{"$error":"#VALUE!"},{"$error":"#VALUE!"},null,30,25,45,10.774272924659215,1.9149308964743091E-3,null,1,null,null,null,null,null,1.75,null,25,0.61111111111111105,null,null,null,1,null,1.0694444444444444,null,{"$error":"#VALUE!"},null,null,1,"","","","","","","","","",1,"","","","","",null,"","","","","","","","",1,"","","","","","",""]
[10,"Merging","EBL","MajL1","RAB Circulating","NBT, NBL","MinT1, MinL1","RAB Entering",null,{"$error":"#VALUE!"},{"$error":"#VALUE!"},{"$error":"#VALUE!"},null,25,25,45,9.5670858091272439,1.2201154392262267E-3,null,1,null,null,null,null,null,2,null,25,0.61111111111111105,null,null,null,1,null,1.2222222222222221,null,{"$error":"#VALUE!"},null,null,"",1,"","","","","","","","","","","","","","",null,"","","","","","",1,1,"","","","","","","",""]
[11,"Merging","NBT, EBL","MinT1, MajL2","RAB Exiting","WBR","MajR2","RAB Entering",null,{"$error":"#VALUE!"},{"$error":"#VALUE!"},{"$error":"#VALUE!"},null,30,25,45,10.774272924659215,1.9149308964743091E-3,null,1,null,null,null,null,null,1,null,25,0.61111111111111105,null,null,null,1,null,0.61111111111111105,null,{"$error":"#VALUE!"},null,null,"","","","",1,"",1,"","","","","","","","","",null,"","","","","",1,"","","","","","","","","",""]
[12,"Merging","NBL","MinL1","RAB Circulating","WBT, WBL","MajT2, MajL2","RAB Entering",null,{"$error":"#VALUE!"},{"$error":"#VALUE!"},{"$error":"#VALUE!"},null,25,25,45,9.5670858091272439,1.2201154392262267E-3,null,1,null,null,null,null,null,1.75,null,25,0.61111111111111105,null,null,null,1,null,1.0694444444444444,null,{"$error":"#VALUE!"},null,null,"","","","","","","",1,"","","","","","","","",null,"","","",1,1,"","","","","","","","","","",""]
[13,"Diverging","SBR","MinR2","RAB Circulating","SBT, SBL","MinT2, MinL2","RAB Entering",null,{"$error":"#VALUE!"},{"$error":"#VALUE!"},{"$error":"#VALUE!"},null,25,25,10,2.1788935686914574,4.4504203221236063E-6,null,1,null,null,null,null,null,1,null,"",1,null,null,null,1,null,1,null,{"$error":"#VALUE!"},null,null,"","","","","","","","","","","",1,"","","","",null,"","","","","","","","","",1,1,"","","","",""]
[14,"Diverging","WBL","MajL2","RAB Circulating","WBT, NBL","MajT2, MinL1","RAB Exiting",null,{"$error":"#VALUE!"},{"$error":"#VALUE!"},{"$error":"#VALUE!"},null,25,30,10,3.4564566568122888,2.5632912055290634E-5,null,1,null,null,null,null,null,1,null,"",1,null,null,null,1,null,1,null,{"$error":"#VALUE!"},null,null,"","","","",1,"","","","","","","","","","","",null,"","","",1,"","","",1,"","","","","","","",""]
[15,"Diverging","EBR","MajR1","RAB Circulating","EBT, EBL","MajT1, MajL1","RAB Entering",null,{"$error":"#VALUE!"},{"$error":"#VALUE!"},{"$error":"#VALUE!"},null,25,25,10,2.1788935686914574,4.4504203221236063E-6,null,1,null,null,null,null,null,1,null,"",1,null,null,null,1,null,1,null,{"$error":"#VALUE!"},null,null,"","",1,"","","","","","","","","","","","","",null,1,1,"","","","","","","","","","","","","",""]
[16,"Diverging","SBL","MinL2","RAB Circulating","SBT, WBL","MinT2, MajL1","RAB Exiting",null,{"$error":"#VALUE!"},{"$error":"#VALUE!"},{"$error":"#VALUE!"},null,25,30,10,3.4564566568122888,2.5632912055290634E-5,null,1,null,null,null,null,null,1,null,"",1,null,null,null,1,null,1,null,{"$error":"#VALUE!"},null,null,"","","","","","","","","","",1,"","","","","",null,"",1,"","","","","","","",1,"","","","","",""]
[17,"Diverging","NBR","MinR1","RAB Circulating","NBT, NBL","MinT1, MinL1","RAB Entering",null,{"$error":"#VALUE!"},{"$error":"#VALUE!"},{"$error":"#VALUE!"},null,25,25,10,2.1788935686914574,4.4504203221236063E-6,null,1,null,null,null,null,null,1,null,"",1,null,null,null,1,null,1,null,{"$error":"#VALUE!"},null,null,"",{"$f":"IF(ISNUMBER(SEARCH(AO$3,$D20)),1,\"\")","v":""},"","","","","","",1,"","","","","","","",null,"",{"$f":"IF(ISNUMBER(SEARCH(BF$3,$G20)),1,\"\")","v":""},"","","","",1,1,"","","","","","","",""]
[18,"Diverging","EBL","MajL1","RAB Circulating","EBT, SBL","MajT1, MinL2","RAB Exiting",null,{"$error":"#VALUE!"},{"$error":"#VALUE!"},{"$error":"#VALUE!"},null,25,30,10,3.4564566568122888,2.5632912055290634E-5,null,1,null,null,null,null,null,1,null,"",1,null,null,null,1,null,1,null,{"$error":"#VALUE!"},null,null,"",1,"","","","","","","","","","","","","","",null,1,"","","","","","","","","",1,"","","","",""]
[19,"Diverging","WBR","MajR2","RAB Circulating","WBT, WBL","MajT2, MajL2","RAB Entering",null,{"$error":"#VALUE!"},{"$error":"#VALUE!"},{"$error":"#VALUE!"},null,25,25,10,2.1788935686914574,4.4504203221236063E-6,null,1,null,null,null,null,null,1,null,"",1,null,null,null,1,null,1,null,{"$error":"#VALUE!"},null,null,"","","","","",1,"","","","","","","","","","",null,"","","",1,1,"","","","","","","","","","",""]
[20,"Diverging","NBL","MinL1","RAB Circulating","NBT, EBL","MinT1, MajL1","RAB Exiting",null,{"$error":"#VALUE!"},{"$error":"#VALUE!"},{"$error":"#VALUE!"},null,25,30,10,3.4564566568122888,2.5632912055290634E-5,null,1,null,null,null,null,null,1,null,"",1,null,null,null,1,null,1,null,{"$error":"#VALUE!"},null,null,"","","","","","","",1,"","","","","","","","",null,"",1,"","","","",1,"","","","","","","","",""]
[21,"Nonmotorized","EB Ped","MajNM1","Nonmotorized","WBT, NBL, SBR","MajT2, MinL1, MinR2","RAB Exiting",null,{"$error":"#VALUE!"},{"$error":"#VALUE!"},{"$error":"#VALUE!"},null,0,30,"","",0.46699805015542578,null,1,null,null,null,null,null,2,null,{"$f":"IF(B24=\"Diverging\",\"\",SSI_AGI_VehSpeed_RABExit)","v":30},0.66666666666666663,null,1,null,2,null,2.6666666666666665,null,{"$error":"#VALUE!"},null,null,"","","","","","","","","","","","",1,"","","",null,"","","",1,"","","",1,"","","",1,"","","",""]
[22,"Nonmotorized","EB Ped","MajNM1","Nonmotorized","EBT, EBL, EBR","MajT1, MajL1, MajR1","RAB Entering",null,{"$error":"#VALUE!"},{"$error":"#VALUE!"},{"$error":"#VALUE!"},null,0,25,"","",0.32066879346345062,null,1,null,null,null,null,null,2,null,{"$f":"IF(B25=\"Diverging\",\"\",SSI_AGI_VehSpeed_RABEnter)","v":25},0.61111111111111105,null,1,null,2,null,2.4444444444444442,null,{"$error":"#VALUE!"},null,null,"","","","","","","","","","","","",1,"","","",null,1,1,1,"","","","","","","","","","","","",""]
[23,"Nonmotorized","NB Ped","MinNM1","Nonmotorized","SBT, WBL, EBR","MinT2, MajL2, MajR1","RAB Exiting",null,{"$error":"#VALUE!"},{"$error":"#VALUE!"},{"$error":"#VALUE!"},null,0,30,"","",0.46699805015542578,null,1,null,null,null,null,null,1,null,{"$f":"IF(B26=\"Diverging\",\"\",SSI_AGI_VehSpeed_RABExit)","v":30},0.66666666666666663,null,1,null,2,null,1.3333333333333333,null,{"$error":"#VALUE!"},null,null,"","","","","","","","","","","","","","",1,"",null,"","",1,"",1,"","","","",1,"","","","","",""]
[24,"Nonmotorized","NB Ped","MinNM1","Nonmotorized","NBT, NBL, NBR","MinT1, MinL1, MinR1","RAB Entering",null,{"$error":"#VALUE!"},{"$error":"#VALUE!"},{"$error":"#VALUE!"},null,0,25,"","",0.32066879346345062,null,1,null,null,null,null,null,1,null,{"$f":"IF(B27=\"Diverging\",\"\",SSI_AGI_VehSpeed_RABEnter)","v":25},0.61111111111111105,null,1,null,2,null,1.2222222222222221,null,{"$error":"#VALUE!"},null,null,"","","","","","","","","","","","","","",1,"",null,"","","","","","",1,1,1,"","","","","","",""]
[25,"Nonmotorized","WB Ped","MajNM2","Nonmotorized","EBT, SBL, NBR","MajT1, MinL2, MinR1","RAB Exiting",null,{"$error":"#VALUE!"},{"$error":"#VALUE!"},{"$error":"#VALUE!"},null,0,30,"","",0.46699805015542578,null,1,null,null,null,null,null,2,null,{"$f":"IF(B28=\"Diverging\",\"\",SSI_AGI_VehSpeed_RABExit)","v":30},0.66666666666666663,null,1,null,2,null,2.6666666666666665,null,{"$error":"#VALUE!"},null,null,"","","","","","","","","","","","","",1,"","",null,1,"","","","","","","",1,"",1,"","","","",""]
[26,"Nonmotorized","WB Ped","MajNM2","Nonmotorized","WBT, WBL, WBR","MajT2, MajL2, MajR2","RAB Entering",null,{"$error":"#VALUE!"},{"$error":"#VALUE!"},{"$error":"#VALUE!"},null,0,25,"","",0.32066879346345062,null,1,null,null,null,null,null,2,null,{"$f":"IF(B29=\"Diverging\",\"\",SSI_AGI_VehSpeed_RABEnter)","v":25},0.61111111111111105,null,1,null,2,null,2.4444444444444442,null,{"$error":"#VALUE!"},null,null,"","","","","","","","","","","","","",1,"","",null,"","","",1,1,1,"","","","","","","","","",""]
[27,"Nonmotorized","SB Ped","MinNM2","Nonmotorized","NBT, EBL, WBR","MinT1, MajL1, MajR2","RAB Exiting",null,{"$error":"#VALUE!"},{"$error":"#VALUE!"},{"$error":"#VALUE!"},null,0,30,"","",0.46699805015542578,null,1,null,null,null,null,null,1,null,{"$f":"IF(B30=\"Diverging\",\"\",SSI_AGI_VehSpeed_RABExit)","v":30},0.66666666666666663,null,1,null,2,null,1.3333333333333333,null,{"$error":"#VALUE!"},null,null,"","","","","","","","","","","","","","","",1,null,"",1,"","","",1,1,"","","","","","","","",""]
[28,"Nonmotorized","SB Ped","MinNM2","Nonmotorized","SBT, SBL, SBR","MinT2, MinL2, MinR2","RAB Entering",null,{"$error":"#VALUE!"},{"$error":"#VALUE!"},{"$error":"#VALUE!"},null,0,25,"","",0.32066879346345062,null,1,null,null,null,null,null,1,null,{"$f":"IF(B31=\"Diverging\",\"\",SSI_AGI_VehSpeed_RABEnter)","v":25},0.61111111111111105,null,1,null,2,null,1.2222222222222221,null,{"$error":"#VALUE!"},null,null,"","","","","","","","","","","","","","","",1,null,"","","","","","","","","",1,1,1,"","","",""]
[null,null,null,null,null,null,null,null,null,null,null,null,null,null,null,null,null,null,null,null,null,null,null,null,null,null,null,null,null,null,null,null,null,null,null,null,null,null,"O",{"$f":"'SSI Inputs'!$D$26","v":{"$error":"#VALUE!"}},{"$f":"'SSI Inputs'!$D$27","v":{"$error":"#VALUE!"}},{"$f":"'SSI Inputs'!$D$28","v":{"$error":"#VALUE!"}},{"$f":"'SSI Inputs'!$D$30","v":{"$error":"#VALUE!"}},{"$f":"'SSI Inputs'!$D$31","v":{"$error":"#VALUE!"}},{"$f":"'SSI Inputs'!$D$32","v":{"$error":"#VALUE!"}},{"$f":"'SSI Inputs'!$D$34","v":{"$error":"#VALUE!"}},{"$f":"'SSI Inputs'!$D$35","v":{"$error":"#VALUE!"}},{"$f":"'SSI Inputs'!$D$36","v":{"$error":"#VALUE!"}},{"$f":"'SSI Inputs'!$D$38","v":{"$error":"#VALUE!"}},{"$f":"'SSI Inputs'!$D$39","v":{"$error":"#VALUE!"}},{"$f":"'SSI Inputs'!$D$40","v":{"$error":"#VALUE!"}},{"$f":"'SSI Inputs'!$Q$18","v":12.5},{"$f":"'SSI Inputs'!$Q$19","v":12.5},{"$f":"'SSI Inputs'!$Q$20","v":12.5},{"$f":"'SSI Inputs'!$Q$21","v":12.5},"O",{"$f":"'SSI Inputs'!$D$26","v":{"$error":"#VALUE!"}},{"$f":"'SSI Inputs'!$D$27","v":{"$error":"#VALUE!"}},{"$f":"'SSI Inputs'!$D$28","v":{"$error":"#VALUE!"}},{"$f":"'SSI Inputs'!$D$30","v":{"$error":"#VALUE!"}},{"$f":"'SSI Inputs'!$D$31","v":{"$error":"#VALUE!"}},{"$f":"'SSI Inputs'!$D$32","v":{"$error":"#VALUE!"}},{"$f":"'SSI Inputs'!$D$34","v":{"$error":"#VALUE!"}},{"$f":"'SSI Inputs'!$D$35","v":{"$error":"#VALUE!"}},{"$f":"'SSI Inputs'!$D$36","v":{"$error":"#VALUE!"}},{"$f":"'SSI Inputs'!$D$38","v":{"$error":"#VALUE!"}},{"$f":"'SSI Inputs'!$D$39","v":{"$error":"#VALUE!"}},{"$f":"'SSI Inputs'!$D$40","v":{"$error":"#VALUE!"}},{"$f":"'SSI Inputs'!$Q$18","v":12.5},{"$f":"'SSI Inputs'!$Q$19","v":12.5},{"$f":"'SSI Inputs'!$Q$20","v":12.5},{"$f":"'SSI Inputs'!$Q$21","v":12.5}]
[null,null,null,null,null,null,null,null,null,null,null,null,null,null,null,null,null,null,null,null,null,null,null,null,null,null,null,null,null,null,null,null,null,null,null,null,null,null,"D",{"$f":"'SSI Inputs'!$E$26","v":{"$error":"#VALUE!"}},{"$f":"'SSI Inputs'!$E$27","v":{"$error":"#VALUE!"}},{"$f":"'SSI Inputs'!$E$28","v":{"$error":"#VALUE!"}},{"$f":"'SSI Inputs'!$E$30","v":{"$error":"#VALUE!"}},{"$f":"'SSI Inputs'!$E$31","v":{"$error":"#VALUE!"}},{"$f":"'SSI Inputs'!$E$32","v":{"$error":"#VALUE!"}},{"$f":"'SSI Inputs'!$E$34","v":{"$error":"#VALUE!"}},{"$f":"'SSI Inputs'!$E$35","v":{"$error":"#VALUE!"}},{"$f":"'SSI Inputs'!$E$36","v":{"$error":"#VALUE!"}},{"$f":"'SSI Inputs'!$E$38","v":{"$error":"#VALUE!"}},{"$f":"'SSI Inputs'!$E$39","v":{"$error":"#VALUE!"}},{"$f":"'SSI Inputs'!$E$40","v":{"$error":"#VALUE!"}},{"$f":"'SSI Inputs'!$R$18","v":12.5},{"$f":"'SSI Inputs'!$R$19","v":12.5},{"$f":"'SSI Inputs'!$R$20","v":12.5},{"$f":"'SSI Inputs'!$R$21","v":12.5},"D",{"$f":"'SSI Inputs'!$E$26","v":{"$error":"#VALUE!"}},{"$f":"'SSI Inputs'!$E$27","v":{"$error":"#VALUE!"}},{"$f":"'SSI Inputs'!$E$28","v":{"$error":"#VALUE!"}},{"$f":"'SSI Inputs'!$E$30","v":{"$error":"#VALUE!"}},{"$f":"'SSI Inputs'!$E$31","v":{"$error":"#VALUE!"}},{"$f":"'SSI Inputs'!$E$32","v":{"$error":"#VALUE!"}},{"$f":"'SSI Inputs'!$E$34","v":{"$error":"#VALUE!"}},{"$f":"'SSI Inputs'!$E$35","v":{"$error":"#VALUE!"}},{"$f":"'SSI Inputs'!$E$36","v":{"$error":"#VALUE!"}},{"$f":"'SSI Inputs'!$E$38","v":{"$error":"#VALUE!"}},{"$f":"'SSI Inputs'!$E$39","v":{"$error":"#VALUE!"}},{"$f":"'SSI Inputs'!$E$40","v":{"$error":"#VALUE!"}},{"$f":"'SSI Inputs'!$R$18","v":12.5},{"$f":"'SSI Inputs'!$R$19","v":12.5},{"$f":"'SSI Inputs'!$R$20","v":12.5},{"$f":"'SSI Inputs'!$R$21","v":12.5}]
[]
[]
[]
[]
[]
[]
[]
[]
[]
[]
[]
[]
[]
[]
[]
[]
[]
[]
[]
[]
[]
[]
[]
[]
[]
[]
[]
[]
[]
[]
[]
[]
[]
[]
[]
[]
[]
[]
[]
[]
[]
[]
[]
[]
[]
[]
[]
[]
[]
[]
[]
[]
[]
[]
[]
[]
[]
[]
[]
[]
[]
[]
[]
[]
[]
[]
[]
[null,null,null,null,null,null,null,null,null,"Exposure",null,null,null,null,null,null,null,null,null,null,null,null,null,null,null,null,null,null,null,null,null,null,null,null,null,null,"Exposure-Severity-Complexity Product"]
[null,null,null,null,null,null,null,null,null,"Q1","Q2","I"]
[null,null,null,null,null,null,null,null,null,{"$f":"SUMPRODUCT($AN4:$BC4,$AN$33:$BC$33)","v":{"$error":"#VALUE!"}},{"$f":"SUMPRODUCT($BE4:$BT4,$BE$33:$BT$33)","v":{"$error":"#VALUE!"}},{"$f":"PRODUCT(J103:K103)","v":{"$error":"#VALUE!"}},null,null,null,null,null,null,null,null,null,null,null,null,null,null,null,null,null,null,null,null,null,null,null,null,{"$f":"L103*R4*AI4","v":{"$error":"#VALUE!"}}]
[null,null,null,null,null,null,null,null,null,{"$f":"SUMPRODUCT($AN5:$BC5,$AN$33:$BC$33)","v":{"$error":"#VALUE!"}},{"$f":"SUMPRODUCT($BE5:$BT5,$BE$33:$BT$33)","v":{"$error":"#VALUE!"}},{"$f":"PRODUCT(J104:K104)","v":{"$error":"#VALUE!"}},null,null,null,null,null,null,null,null,null,null,null,null,null,null,null,null,null,null,null,null,null,null,null,null,{"$f":"L104*R5*AI5","v":{"$error":"#VALUE!"}}]
[null,null,null,null,null,null,null,null,null,{"$error":"#VALUE!"},{"$error":"#VALUE!"},{"$error":"#VALUE!"},null,null,null,null,null,null,null,null,null,null,null,null,null,null,null,null,null,null,null,null,null,null,null,null,{"$error":"#VALUE!"}]
[null,null,null,null,null,null,null,null,null,{"$error":"#VALUE!"},{"$error":"#VALUE!"},{"$error":"#VALUE!"},null,null,null,null,null,null,null,null,null,null,null,null,null,null,null,null,null,null,null,null,null,null,null,null,{"$error":"#VALUE!"}]
[null,null,null,null,null,null,null,null,null,{"$error":"#VALUE!"},{"$error":"#VALUE!"},{"$error":"#VALUE!"},null,null,null,null,null,null,null,null,null,null,null,null,null,null,null,null,null,null,null,null,null,null,null,null,{"$error":"#VALUE!"}]
[null,null,null,null,null,null,null,null,null,{"$error":"#VALUE!"},{"$error":"#VALUE!"},{"$error":"#VALUE!"},null,null,null,null,null,null,null,null,null,null,null,null,null,null,null,null,null,null,null,null,null,null,null,null,{"$error":"#VALUE!"}]
[null,null,null,null,null,null,null,null,null,{"$error":"#VALUE!"},{"$error":"#VALUE!"},{"$error":"#VALUE!"},null,null,null,null,null,null,null,null,null,null,null,null,null,null,null,null,null,null,null,null,null,null,null,null,{"$error":"#VALUE!"}]
[null,null,null,null,null,null,null,null,null,{"$error":"#VALUE!"},{"$error":"#VALUE!"},{"$error":"#VALUE!"},null,null,null,null,null,null,null,null,null,null,null,null,null,null,null,null,null,null,null,null,null,null,null,null,{"$error":"#VALUE!"}]
[null,null,null,null,null,null,null,null,null,{"$error":"#VALUE!"},{"$error":"#VALUE!"},{"$error":"#VALUE!"},null,null,null,null,null,null,null,null,null,null,null,null,null,null,null,null,null,null,null,null,null,null,null,null,{"$error":"#VALUE!"}]
[null,null,null,null,null,null,null,null,null,{"$error":"#VALUE!"},{"$error":"#VALUE!"},{"$error":"#VALUE!"},null,null,null,null,null,null,null,null,null,null,null,null,null,null,null,null,null,null,null,null,null,null,null,null,{"$error":"#VALUE!"}]
[null,null,null,null,null,null,null,null,null,{"$error":"#VALUE!"},{"$error":"#VALUE!"},{"$error":"#VALUE!"},null,null,null,null,null,null,null,null,null,null,null,null,null,null,null,null,null,null,null,null,null,null,null,null,{"$error":"#VALUE!"}]
[null,null,null,null,null,null,null,null,null,{"$error":"#VALUE!"},{"$error":"#VALUE!"},{"$error":"#VALUE!"},null,null,null,null,null,null,null,null,null,null,null,null,null,null,null,null,null,null,null,null,null,null,null,null,{"$error":"#VALUE!"}]
[null,null,null,null,null,null,null,null,null,{"$error":"#VALUE!"},{"$error":"#VALUE!"},{"$error":"#VALUE!"},null,null,null,null,null,null,null,null,null,null,null,null,null,null,null,null,null,null,null,null,null,null,null,null,{"$error":"#VALUE!"}]
[null,null,null,null,null,null,null,null,null,{"$error":"#VALUE!"},{"$error":"#VALUE!"},{"$error":"#VALUE!"},null,null,null,null,null,null,null,null,null,null,null,null,null,null,null,null,null,null,null,null,null,null,null,null,{"$error":"#VALUE!"}]
[null,null,null,null,null,null,null,null,null,{"$error":"#VALUE!"},{"$error":"#VALUE!"},{"$error":"#VALUE!"},null,null,null,null,null,null,null,null,null,null,null,null,null,null,null,null,null,null,null,null,null,null,null,null,{"$error":"#VALUE!"}]
[null,null,null,null,null,null,null,null,null,{"$error":"#VALUE!"},{"$error":"#VALUE!"},{"$error":"#VALUE!"},null,null,null,null,null,null,null,null,null,null,null,null,null,null,null,null,null,null,null,null,null,null,null,null,{"$error":"#VALUE!"}]
[null,null,null,null,null,null,null,null,null,{"$error":"#VALUE!"},{"$error":"#VALUE!"},{"$error":"#VALUE!"},null,null,null,null,null,null,null,null,null,null,null,null,null,null,null,null,null,null,null,null,null,null,null,null,{"$error":"#VALUE!"}]
[null,null,null,null,null,null,null,null,null,{"$error":"#VALUE!"},{"$error":"#VALUE!"},{"$error":"#VALUE!"},null,null,null,null,null,null,null,null,null,null,null,null,null,null,null,null,null,null,null,null,null,null,null,null,{"$error":"#VALUE!"}]
[null,null,null,null,null,null,null,null,null,{"$error":"#VALUE!"},{"$error":"#VALUE!"},{"$error":"#VALUE!"},null,null,null,null,null,null,null,null,null,null,null,null,null,null,null,null,null,null,null,null,null,null,null,null,{"$error":"#VALUE!"}]
[null,null,null,null,null,null,null,null,null,{"$error":"#VALUE!"},{"$error":"#VALUE!"},{"$error":"#VALUE!"},null,null,null,null,null,null,null,null,null,null,null,null,null,null,null,null,null,null,null,null,null,null,null,null,{"$error":"#VALUE!"}]
[null,null,null,null,null,null,null,null,null,{"$error":"#VALUE!"},{"$error":"#VALUE!"},{"$error":"#VALUE!"},null,null,null,null,null,null,null,null,null,null,null,null,null,null,null,null,null,null,null,null,null,null,null,null,{"$error":"#VALUE!"}]
[null,null,null,null,null,null,null,null,null,{"$error":"#VALUE!"},{"$error":"#VALUE!"},{"$error":"#VALUE!"},null,null,null,null,null,null,null,null,null,null,null,null,null,null,null,null,null,null,null,null,null,null,null,null,{"$error":"#VALUE!"}]
[null,null,null,null,null,null,null,null,null,{"$error":"#VALUE!"},{"$error":"#VALUE!"},{"$error":"#VALUE!"},null,null,null,null,null,null,null,null,null,null,null,null,null,null,null,null,null,null,null,null,null,null,null,null,{"$error":"#VALUE!"}]
[null,null,null,null,null,null,null,null,null,{"$error":"#VALUE!"},{"$error":"#VALUE!"},{"$error":"#VALUE!"},null,null,null,null,null,null,null,null,null,null,null,null,null,null,null,null,null,null,null,null,null,null,null,null,{"$error":"#VALUE!"}]
[null,null,null,null,null,null,null,null,null,{"$error":"#VALUE!"},{"$error":"#VALUE!"},{"$error":"#VALUE!"},null,null,null,null,null,null,null,null,null,null,null,null,null,null,null,null,null,null,null,null,null,null,null,null,{"$error":"#VALUE!"}]
[null,null,null,null,null,null,null,null,null,{"$error":"#VALUE!"},{"$error":"#VALUE!"},{"$error":"#VALUE!"},null,null,null,null,null,null,null,null,null,null,null,null,null,null,null,null,null,null,null,null,null,null,null,null,{"$error":"#VALUE!"}]
[null,null,null,null,null,null,null,null,null,{"$error":"#VALUE!"},{"$error":"#VALUE!"},{"$error":"#VALUE!"},null,null,null,null,null,null,null,null,null,null,null,null,null,null,null,null,null,null,null,null,null,null,null,null,{"$error":"#VALUE!"}]
[null,null,null,null,null,null,null,null,null,{"$error":"#VALUE!"},{"$error":"#VALUE!"},{"$error":"#VALUE!"},null,null,null,null,null,null,null,null,null,null,null,null,null,null,null,null,null,null,null,null,null,null,null,null,{"$error":"#VALUE!"}]

{"sheet":"RAB2x2","index":49,"n_rows":130,"n_cols":72,"rows_kept":130,"cut":false,"hidden":true,"merged":[[1,56,1,71],[0,19,0,28],[0,30,0,32],[1,31,2,31],[1,32,2,32],[1,21,1,25],[1,27,1,28],[1,30,2,30],[100,9,100,11],[100,36,101,36],[1,34,2,34],[1,36,2,36],[1,39,1,54],[1,9,1,11],[1,13,1,17]]}
[null,null,null,null,null,null,null,null,null,null,null,null,null,null,null,null,null,null,null,"Conflicting Traffic Complexity",null,null,null,null,null,null,null,null,null,null,"Pedestrian Complexity"]
[null,null,null,null,null,null,null,null,null,"Exposure",null,null,null,"Severity",null,null,null,null,null,"Traffic Control",null,"Conflicting Lanes",null,null,null,null,null,"Conflicting Speed",null,null,"Indirect Paths Indicator","Non-intuitive movements indicator","Pedestrian Complexity factor",null,"Total Complexity Multiplier",null,"Exposure-Severity-Complexity Product",null,null,"Included in Mvmt1",null,null,null,null,null,null,null,null,null,null,null,null,null,null,null,null,"Included in Mvmt2"]
["#","Conflict Type","Mvmt1","Mvmt1_gen","Mvmt1_SpeedCat","Mvmt2","Mvmt2_gen","Mvmt2_SpeedCat",null,"Q1","Q2","I",null,"Speed_V1","Speed_V2","Angle","delta_V","P_FSI",null,null,null,"MajC","MinC","MajM/P","MinM/P","Score",null,"Speed","Factor",null,null,null,null,null,null,null,null,null,null,"MajT1","MajL1","MajR1","MajT2","MajL2","MajR2","MinT1","MinL1","MinR1","MinT2","MinL2","MinR2","MajNM1","MajNM2","MinNM1","MinNM2",null,"MajT1","MajL1","MajR1","MajT2","MajL2","MajR2","MinT1","MinL1","MinR1","MinT2","MinL2","MinR2","MajNM1","MajNM2","MinNM1","MinNM2"]
[1,"Crossing - RAB","WBT, NBL","MajT2, MinL1","RAB Exiting","SBT, SBL","MinT2, MinL2","RAB Entering",null,{"$f":"SUMPRODUCT($AN4:$BC4,$AN$32:$BC$32)","v":{"$error":"#VALUE!"}},{"$f":"SUMPRODUCT($BE4:$BT4,$BE$32:$BT$32)","v":{"$error":"#VALUE!"}},{"$f":"PRODUCT(J4:K4)","v":{"$error":"#VALUE!"}},null,{"$f":"VLOOKUP(E4,SSI_AGI_Range_VehSpeed,5,FALSE)","v":30},{"$f":"VLOOKUP(H4,SSI_AGI_Range_VehSpeed,5,FALSE)","v":25},{"$f":"IF(B4=\"Nonmotorized\",\"\",VLOOKUP(B4,SSI_AGI_Range_CollAngles,5,FALSE))","v":60},{"$f":"IF(B4=\"Nonmotorized\",\"\",SQRT(N4^2+O4^2-2*N4*O4*COS(RADIANS(P4)))/2)","v":13.919410907075054},{"$f":"IF(B4=\"Nonmotorized\",1/(1+EXP(3.8432-0.1237*O4)),(Q4/SSI_AGI_RegAlpha)^SSI_AGI_RegK+(Q4/SSI_AGI_RegAlpha)^SSI_AGI_RegK-((Q4/SSI_AGI_RegAlpha)^SSI_AGI_RegK)*((Q4/SSI_AGI_RegAlpha)^SSI_AGI_RegK))","v":5.0568987822489503E-3},null,1,null,null,null,null,null,2,null,{"$f":"IF(B4=\"Diverging\",\"\",SSI_AGI_VehSpeed_RABCirc)","v":25},{"$f":"IF(B4=\"Diverging\",1,1-((60-AB4)/60*0.1/0.15))","v":0.61111111111111105},null,null,null,{"$f":"1+AE4+AF4","v":1},null,{"$f":"PRODUCT(Z4,T4,AC4,AG4)","v":1.2222222222222221},null,{"$f":"L4*R4*AI4","v":{"$error":"#VALUE!"}},null,null,{"$f":"IF(ISNUMBER(SEARCH(AN$3,$D4)),1,\"\")","v":""},{"$f":"IF(ISNUMBER(SEARCH(AO$3,$D4)),1,\"\")","v":""},"",1,"","","",1,"","","","","","","","",null,{"$f":"IF(ISNUMBER(SEARCH(BE$3,$G4)),1,\"\")","v":""},{"$f":"IF(ISNUMBER(SEARCH(BF$3,$G4)),1,\"\")","v":""},"","","","","","","",1,1,"","","","",""]
[2,"Crossing - RAB","SBT, WBL","MinT2, MajL2","RAB Exiting","EBT, EBL","MajT1, MajL1","RAB Entering",null,{"$error":"#VALUE!"},{"$f":"SUMPRODUCT($BE5:$BT5,$BE$32:$BT$32)","v":{"$error":"#VALUE!"}},{"$f":"PRODUCT(J5:K5)","v":{"$error":"#VALUE!"}},null,30,25,60,{"$f":"IF(B5=\"Nonmotorized\",\"\",SQRT(N5^2+O5^2-2*N5*O5*COS(RADIANS(P5)))/2)","v":13.919410907075054},5.0568987822489503E-3,null,1,null,null,null,null,null,2,null,25,0.61111111111111105,null,null,null,{"$f":"1+AE5+AF5","v":1},null,1.2222222222222221,null,{"$f":"L5*R5*AI5","v":{"$error":"#VALUE!"}},null,null,"","","","",1,"","","","",1,"","","","","","",null,1,1,"","","","","","","","","","","","","",""]
[3,"Crossing - RAB","EBT, SBL","MajT1, MinL2","RAB Exiting","NBT, NBL","MinT1, MinL1","RAB Entering",null,{"$error":"#VALUE!"},{"$error":"#VALUE!"},{"$error":"#VALUE!"},null,30,25,60,13.919410907075054,5.0568987822489503E-3,null,1,null,null,null,null,null,2,null,25,0.61111111111111105,null,null,null,1,null,1.2222222222222221,null,{"$error":"#VALUE!"},null,null,1,"","","","","","","","","",1,"","","","","",null,"","","","","","",1,1,"","","","","","","",""]
[4,"Crossing - RAB","NBT, EBL","MinT1, MajL1","RAB Exiting","WBT, WBL","MajT2, MajL2","RAB Entering",null,{"$error":"#VALUE!"},{"$error":"#VALUE!"},{"$error":"#VALUE!"},null,30,25,60,13.919410907075054,5.0568987822489503E-3,null,1,null,null,null,null,null,2,null,25,0.61111111111111105,null,null,null,1,null,1.2222222222222221,null,{"$error":"#VALUE!"},null,null,"",1,"","","","",1,"","","","","","","","","",null,"","","",1,1,"","","","","","","","","","",""]
[5,"Merging","WBT, NBL","MajT2, MinL1","RAB Exiting","SBR","MinR2","RAB Entering",null,{"$error":"#VALUE!"},{"$error":"#VALUE!"},{"$error":"#VALUE!"},null,30,25,45,10.774272924659215,1.9149308964743091E-3,null,1,null,null,null,null,null,1.75,null,25,0.61111111111111105,null,null,null,1,null,1.0694444444444444,null,{"$error":"#VALUE!"},null,null,"","","",1,"","","",1,"","","","","","","","",null,"","","","","","","","","","","",1,"","","",""]
[6,"Merging","WBL","MajL2","RAB Circulating","SBT, SBL","MinT2, MinL2","RAB Entering",null,{"$error":"#VALUE!"},{"$error":"#VALUE!"},{"$error":"#VALUE!"},null,25,25,45,9.5670858091272439,1.2201154392262267E-3,null,1,null,null,null,null,null,2,null,25,0.61111111111111105,null,null,null,1,null,1.2222222222222221,null,{"$error":"#VALUE!"},null,null,"","","","",1,"","","","","","","","","","","",null,"","","","","","","","","",1,1,"","","","",""]
[7,"Merging","SBT, WBL","MinT2, MajL2","RAB Exiting","EBR","MajR1","RAB Entering",null,{"$error":"#VALUE!"},{"$error":"#VALUE!"},{"$error":"#VALUE!"},null,30,25,45,10.774272924659215,1.9149308964743091E-3,null,1,null,null,null,null,null,1.75,null,25,0.61111111111111105,null,null,null,1,null,1.0694444444444444,null,{"$error":"#VALUE!"},null,null,"","","","",1,"","","","",1,"","","","","","",null,"","",1,"","","","","","","","","","","","",""]
[8,"Merging","SBL","MinL2","RAB Circulating","EBT, EBL","MajT1, MajL1","RAB Entering",null,{"$error":"#VALUE!"},{"$error":"#VALUE!"},{"$error":"#VALUE!"},null,25,25,45,9.5670858091272439,1.2201154392262267E-3,null,1,null,null,null,null,null,2,null,25,0.61111111111111105,null,null,null,1,null,1.2222222222222221,null,{"$error":"#VALUE!"},null,null,"","","","","","","","","","",1,"","","","","",null,1,1,"","","","","","","","","","","","","",""]
[9,"Merging","EBT, SBL","MajT1, MinL2","RAB Exiting","NBR","MinR1","RAB Entering",null,{"$error":"#VALUE!"},{"$error":"#VALUE!"},{"$error":"#VALUE!"},null,30,25,45,10.774272924659215,1.9149308964743091E-3,null,1,null,null,null,null,null,1.75,null,25,0.61111111111111105,null,null,null,1,null,1.0694444444444444,null,{"$error":"#VALUE!"},null,null,1,"","","","","","","","","",1,"","","","","",null,"","","","","","","","",1,"","","","","","",""]
[10,"Merging","EBL","MajL1","RAB Circulating","NBT, NBL","MinT1, MinL1","RAB Entering",null,{"$error":"#VALUE!"},{"$error":"#VALUE!"},{"$error":"#VALUE!"},null,25,25,45,9.5670858091272439,1.2201154392262267E-3,null,1,null,null,null,null,null,2,null,25,0.61111111111111105,null,null,null,1,null,1.2222222222222221,null,{"$error":"#VALUE!"},null,null,"",1,"","","","","","","","","","","","","","",null,"","","","","","",1,1,"","","","","","","",""]
[11,"Merging","NBT, EBL","MinT1, MajL2","RAB Exiting","WBR","MajR2","RAB Entering",null,{"$error":"#VALUE!"},{"$error":"#VALUE!"},{"$error":"#VALUE!"},null,30,25,45,10.774272924659215,1.9149308964743091E-3,null,1,null,null,null,null,null,1.75,null,25,0.61111111111111105,null,null,null,1,null,1.0694444444444444,null,{"$error":"#VALUE!"},null,null,"","","","",1,"",1,"","","","","","","","","",null,"","","","","",1,"","","","","","","","","",""]
[12,"Merging","NBL","MinL1","RAB Circulating","WBT, WBL","MajT2, MajL2","RAB Entering",null,{"$error":"#VALUE!"},{"$error":"#VALUE!"},{"$error":"#VALUE!"},null,25,25,45,9.5670858091272439,1.2201154392262267E-3,null,1,null,null,null,null,null,2,null,25,0.61111111111111105,null,null,null,1,null,1.2222222222222221,null,{"$error":"#VALUE!"},null,null,"","","","","","","",1,"","","","","","","","",null,"","","",1,1,"","","","","","","","","","",""]
[13,"Diverging","SBR","MinR2","RAB Circulating","SBT, SBL","MinT2, MinL2","RAB Entering",null,{"$error":"#VALUE!"},{"$error":"#VALUE!"},{"$error":"#VALUE!"},null,25,25,10,2.1788935686914574,4.4504203221236063E-6,null,1,null,null,null,null,null,1,null,"",1,null,null,null,1,null,1,null,{"$error":"#VALUE!"},null,null,"","","","","","","","","","","",1,"","","","",null,"","","","","","","","","",1,1,"","","","",""]
[14,"Diverging","WBL","MajL2","RAB Circulating","WBT, NBL","MajT2, MinL1","RAB Exiting",null,{"$error":"#VALUE!"},{"$error":"#VALUE!"},{"$error":"#VALUE!"},null,25,30,10,3.4564566568122888,2.5632912055290634E-5,null,1,null,null,null,null,null,1,null,"",1,null,null,null,1,null,1,null,{"$error":"#VALUE!"},null,null,"","","","",1,"","","","","","","","","","","",null,"","","",1,"","","",1,"","","","","","","",""]
[15,"Diverging","EBR","MajR1","RAB Circulating","EBT, EBL","MajT1, MajL1","RAB Entering",null,{"$error":"#VALUE!"},{"$error":"#VALUE!"},{"$error":"#VALUE!"},null,25,25,10,2.1788935686914574,4.4504203221236063E-6,null,1,null,null,null,null,null,1,null,"",1,null,null,null,1,null,1,null,{"$error":"#VALUE!"},null,null,"","",1,"","","","","","","","","","","","","",null,1,1,"","","","","","","","","","","","","",""]
[16,"Diverging","SBL","MinL2","RAB Circulating","SBT, WBL","MinT2, MajL1","RAB Exiting",null,{"$error":"#VALUE!"},{"$error":"#VALUE!"},{"$error":"#VALUE!"},null,25,30,10,3.4564566568122888,2.5632912055290634E-5,null,1,null,null,null,null,null,1,null,"",1,null,null,null,1,null,1,null,{"$error":"#VALUE!"},null,null,"","","","","","","","","","",1,"","","","","",null,"",1,"","","","","","","",1,"","","","","",""]
[17,"Diverging","NBR","MinR1","RAB Circulating","NBT, NBL","MinT1, MinL1","RAB Entering",null,{"$error":"#VALUE!"},{"$error":"#VALUE!"},{"$error":"#VALUE!"},null,25,25,10,2.1788935686914574,4.4504203221236063E-6,null,1,null,null,null,null,null,1,null,"",1,null,null,null,1,null,1,null,{"$error":"#VALUE!"},null,null,"",{"$f":"IF(ISNUMBER(SEARCH(AO$3,$D20)),1,\"\")","v":""},"","","","","","",1,"","","","","","","",null,"",{"$f":"IF(ISNUMBER(SEARCH(BF$3,$G20)),1,\"\")","v":""},"","","","",1,1,"","","","","","","",""]
[18,"Diverging","EBL","MajL1","RAB Circulating","EBT, SBL","MajT1, MinL2","RAB Exiting",null,{"$error":"#VALUE!"},{"$error":"#VALUE!"},{"$error":"#VALUE!"},null,25,30,10,3.4564566568122888,2.5632912055290634E-5,null,1,null,null,null,null,null,1,null,"",1,null,null,null,1,null,1,null,{"$error":"#VALUE!"},null,null,"",1,"","","","","","","","","","","","","","",null,1,"","","","","","","","","",1,"","","","",""]
[19,"Diverging","WBR","MajR2","RAB Circulating","WBT, WBL","MajT2, MajL2","RAB Entering",null,{"$error":"#VALUE!"},{"$error":"#VALUE!"},{"$error":"#VALUE!"},null,25,25,10,2.1788935686914574,4.4504203221236063E-6,null,1,null,null,null,null,null,1,null,"",1,null,null,null,1,null,1,null,{"$error":"#VALUE!"},null,null,"","","","","",1,"","","","","","","","","","",null,"","","",1,1,"","","","","","","","","","",""]
[20,"Diverging","NBL","MinL1","RAB Circulating","NBT, EBL","MinT1, MajL1","RAB Exiting",null,{"$error":"#VALUE!"},{"$error":"#VALUE!"},{"$error":"#VALUE!"},null,25,30,10,3.4564566568122888,2.5632912055290634E-5,null,1,null,null,null,null,null,1,null,"",1,null,null,null,1,null,1,null,{"$error":"#VALUE!"},null,null,"","","","","","","",1,"","","","","","","","",null,"",1,"","","","",1,"","","","","","","","",""]
[21,"Nonmotorized","EB Ped","MajNM1","Nonmotorized","WBT, NBL, SBR","MajT2, MinL1, MinR2","RAB Exiting",null,{"$error":"#VALUE!"},{"$error":"#VALUE!"},{"$error":"#VALUE!"},null,0,30,"","",0.46699805015542578,null,1,null,null,null,null,null,2,null,{"$f":"IF(B24=\"Diverging\",\"\",SSI_AGI_VehSpeed_RABExit)","v":30},0.66666666666666663,null,1,null,2,null,2.6666666666666665,null,{"$error":"#VALUE!"},null,null,"","","","","","","","","","","","",1,"","","",null,"","","",1,"","","",1,"","","",1,"","","",""]
[22,"Nonmotorized","EB Ped","MajNM1","Nonmotorized","EBT, EBL, EBR","MajT1, MajL1, MajR1","RAB Entering",null,{"$error":"#VALUE!"},{"$error":"#VALUE!"},{"$error":"#VALUE!"},null,0,25,"","",0.32066879346345062,null,1,null,null,null,null,null,2,null,{"$f":"IF(B25=\"Diverging\",\"\",SSI_AGI_VehSpeed_RABEnter)","v":25},0.61111111111111105,null,1,null,2,null,2.4444444444444442,null,{"$error":"#VALUE!"},null,null,"","","","","","","","","","","","",1,"","","",null,1,1,1,"","","","","","","","","","","","",""]
[23,"Nonmotorized","NB Ped","MinNM1","Nonmotorized","SBT, WBL, EBR","MinT2, MajL2, MajR1","RAB Exiting",null,{"$error":"#VALUE!"},{"$error":"#VALUE!"},{"$error":"#VALUE!"},null,0,30,"","",0.46699805015542578,null,1,null,null,null,null,null,2,null,{"$f":"IF(B26=\"Diverging\",\"\",SSI_AGI_VehSpeed_RABExit)","v":30},0.66666666666666663,null,1,null,2,null,2.6666666666666665,null,{"$error":"#VALUE!"},null,null,"","","","","","","","","","","","","","",1,"",null,"","",1,"",1,"","","","",1,"","","","","",""]
[24,"Nonmotorized","NB Ped","MinNM1","Nonmotorized","NBT, NBL, NBR","MinT1, MinL1, MinR1","RAB Entering",null,{"$error":"#VALUE!"},{"$error":"#VALUE!"},{"$error":"#VALUE!"},null,0,25,"","",0.32066879346345062,null,1,null,null,null,null,null,2,null,{"$f":"IF(B27=\"Diverging\",\"\",SSI_AGI_VehSpeed_RABEnter)","v":25},0.61111111111111105,null,1,null,2,null,2.4444444444444442,null,{"$error":"#VALUE!"},null,null,"","","","","","","","","","","","","","",1,"",null,"","","","","","",1,1,1,"","","","","","",""]
[25,"Nonmotorized","WB Ped","MajNM2","Nonmotorized","EBT, SBL, NBR","MajT1, MinL2, MinR1","RAB Exiting",null,{"$error":"#VALUE!"},{"$error":"#VALUE!"},{"$error":"#VALUE!"},null,0,30,"","",0.46699805015542578,null,1,null,null,null,null,null,2,null,{"$f":"IF(B28=\"Diverging\",\"\",SSI_AGI_VehSpeed_RABExit)","v":30},0.66666666666666663,null,1,null,2,null,2.6666666666666665,null,{"$error":"#VALUE!"},null,null,"","","","","","","","","","","","","",1,"","",null,1,"","","","","","","",1,"",1,"","","","",""]
[26,"Nonmotorized","WB Ped","MajNM2","Nonmotorized","WBT, WBL, WBR","MajT2, MajL2, MajR2","RAB Entering",null,{"$error":"#VALUE!"},{"$error":"#VALUE!"},{"$error":"#VALUE!"},null,0,25,"","",0.32066879346345062,null,1,null,null,null,null,null,2,null,{"$f":"IF(B29=\"Diverging\",\"\",SSI_AGI_VehSpeed_RABEnter)","v":25},0.61111111111111105,null,1,null,2,null,2.4444444444444442,null,{"$error":"#VALUE!"},null,null,"","","","","","","","","","","","","",1,"","",null,"","","",1,1,1,"","","","","","","","","",""]
[27,"Nonmotorized","SB Ped","MinNM2","Nonmotorized","NBT, EBL, WBR","MinT1, MajL1, MajR2","RAB Exiting",null,{"$error":"#VALUE!"},{"$error":"#VALUE!"},{"$error":"#VALUE!"},null,0,30,"","",0.46699805015542578,null,1,null,null,null,null,null,2,null,{"$f":"IF(B30=\"Diverging\",\"\",SSI_AGI_VehSpeed_RABExit)","v":30},0.66666666666666663,null,1,null,2,null,2.6666666666666665,null,{"$error":"#VALUE!"},null,null,"","","","","","","","","","","","","","","",1,null,"",1,"","","",1,1,"","","","","","","","",""]
[28,"Nonmotorized","SB Ped","MinNM2","Nonmotorized","SBT, SBL, SBR","MinT2, MinL2, MinR2","RAB Entering",null,{"$error":"#VALUE!"},{"$error":"#VALUE!"},{"$error":"#VALUE!"},null,0,25,"","",0.32066879346345062,null,1,null,null,null,null,null,2,null,{"$f":"IF(B31=\"Diverging\",\"\",SSI_AGI_VehSpeed_RABEnter)","v":25},0.61111111111111105,null,1,null,2,null,2.4444444444444442,null,{"$error":"#VALUE!"},null,null,"","","","","","","","","","","","","","","",1,null,"","","","","","","","","",1,1,1,"","","",""]
[null,null,null,null,null,null,null,null,null,null,null,null,null,null,null,null,null,null,null,null,null,null,null,null,null,null,null,null,null,null,null,null,null,null,null,null,null,null,"O",{"$f":"'SSI Inputs'!$D$26","v":{"$error":"#VALUE!"}},{"$f":"'SSI Inputs'!$D$27","v":{"$error":"#VALUE!"}},{"$f":"'SSI Inputs'!$D$28","v":{"$error":"#VALUE!"}},{"$f":"'SSI Inputs'!$D$30","v":{"$error":"#VALUE!"}},{"$f":"'SSI Inputs'!$D$31","v":{"$error":"#VALUE!"}},{"$f":"'SSI Inputs'!$D$32","v":{"$error":"#VALUE!"}},{"$f":"'SSI Inputs'!$D$34","v":{"$error":"#VALUE!"}},{"$f":"'SSI Inputs'!$D$35","v":{"$error":"#VALUE!"}},{"$f":"'SSI Inputs'!$D$36","v":{"$error":"#VALUE!"}},{"$f":"'SSI Inputs'!$D$38","v":{"$error":"#VALUE!"}},{"$f":"'SSI Inputs'!$D$39","v":{"$error":"#VALUE!"}},{"$f":"'SSI Inputs'!$D$40","v":{"$error":"#VALUE!"}},{"$f":"'SSI Inputs'!$Q$18","v":12.5},{"$f":"'SSI Inputs'!$Q$19","v":12.5},{"$f":"'SSI Inputs'!$Q$20","v":12.5},{"$f":"'SSI Inputs'!$Q$21","v":12.5},"O",{"$f":"'SSI Inputs'!$D$26","v":{"$error":"#VALUE!"}},{"$f":"'SSI Inputs'!$D$27","v":{"$error":"#VALUE!"}},{"$f":"'SSI Inputs'!$D$28","v":{"$error":"#VALUE!"}},{"$f":"'SSI Inputs'!$D$30","v":{"$error":"#VALUE!"}},{"$f":"'SSI Inputs'!$D$31","v":{"$error":"#VALUE!"}},{"$f":"'SSI Inputs'!$D$32","v":{"$error":"#VALUE!"}},{"$f":"'SSI Inputs'!$D$34","v":{"$error":"#VALUE!"}},{"$f":"'SSI Inputs'!$D$35","v":{"$error":"#VALUE!"}},{"$f":"'SSI Inputs'!$D$36","v":{"$error":"#VALUE!"}},{"$f":"'SSI Inputs'!$D$38","v":{"$error":"#VALUE!"}},{"$f":"'SSI Inputs'!$D$39","v":{"$error":"#VALUE!"}},{"$f":"'SSI Inputs'!$D$40","v":{"$error":"#VALUE!"}},{"$f":"'SSI Inputs'!$Q$18","v":12.5},{"$f":"'SSI Inputs'!$Q$19","v":12.5},{"$f":"'SSI Inputs'!$Q$20","v":12.5},{"$f":"'SSI Inputs'!$Q$21","v":12.5}]
[null,null,null,null,null,null,null,null,null,null,null,null,null,null,null,null,null,null,null,null,null,null,null,null,null,null,null,null,null,null,null,null,null,null,null,null,null,null,"D",{"$f":"'SSI Inputs'!$E$26","v":{"$error":"#VALUE!"}},{"$f":"'SSI Inputs'!$E$27","v":{"$error":"#VALUE!"}},{"$f":"'SSI Inputs'!$E$28","v":{"$error":"#VALUE!"}},{"$f":"'SSI Inputs'!$E$30","v":{"$error":"#VALUE!"}},{"$f":"'SSI Inputs'!$E$31","v":{"$error":"#VALUE!"}},{"$f":"'SSI Inputs'!$E$32","v":{"$error":"#VALUE!"}},{"$f":"'SSI Inputs'!$E$34","v":{"$error":"#VALUE!"}},{"$f":"'SSI Inputs'!$E$35","v":{"$error":"#VALUE!"}},{"$f":"'SSI Inputs'!$E$36","v":{"$error":"#VALUE!"}},{"$f":"'SSI Inputs'!$E$38","v":{"$error":"#VALUE!"}},{"$f":"'SSI Inputs'!$E$39","v":{"$error":"#VALUE!"}},{"$f":"'SSI Inputs'!$E$40","v":{"$error":"#VALUE!"}},{"$f":"'SSI Inputs'!$R$18","v":12.5},{"$f":"'SSI Inputs'!$R$19","v":12.5},{"$f":"'SSI Inputs'!$R$20","v":12.5},{"$f":"'SSI Inputs'!$R$21","v":12.5},"D",{"$f":"'SSI Inputs'!$E$26","v":{"$error":"#VALUE!"}},{"$f":"'SSI Inputs'!$E$27","v":{"$error":"#VALUE!"}},{"$f":"'SSI Inputs'!$E$28","v":{"$error":"#VALUE!"}},{"$f":"'SSI Inputs'!$E$30","v":{"$error":"#VALUE!"}},{"$f":"'SSI Inputs'!$E$31","v":{"$error":"#VALUE!"}},{"$f":"'SSI Inputs'!$E$32","v":{"$error":"#VALUE!"}},{"$f":"'SSI Inputs'!$E$34","v":{"$error":"#VALUE!"}},{"$f":"'SSI Inputs'!$E$35","v":{"$error":"#VALUE!"}},{"$f":"'SSI Inputs'!$E$36","v":{"$error":"#VALUE!"}},{"$f":"'SSI Inputs'!$E$38","v":{"$error":"#VALUE!"}},{"$f":"'SSI Inputs'!$E$39","v":{"$error":"#VALUE!"}},{"$f":"'SSI Inputs'!$E$40","v":{"$error":"#VALUE!"}},{"$f":"'SSI Inputs'!$R$18","v":12.5},{"$f":"'SSI Inputs'!$R$19","v":12.5},{"$f":"'SSI Inputs'!$R$20","v":12.5},{"$f":"'SSI Inputs'!$R$21","v":12.5}]
[]
[]
[]
[]
[]
[]
[]
[]
[]
[]
[]
[]
[]
[]
[]
[]
[]
[]
[]
[]
[]
[]
[]
[]
[]
[]
[]
[]
[]
[]
[]
[]
[]
[]
[]
[]
[]
[]
[]
[]
[]
[]
[]
[]
[]
[]
[]
[]
[]
[]
[]
[]
[]
[]
[]
[]
[]
[]
[]
[]
[]
[]
[]
[]
[]
[]
[]
[null,null,null,null,null,null,null,null,null,"Exposure",null,null,null,null,null,null,null,null,null,null,null,null,null,null,null,null,null,null,null,null,null,null,null,null,null,null,"Exposure-Severity-Complexity Product"]
[null,null,null,null,null,null,null,null,null,"Q1","Q2","I"]
[null,null,null,null,null,null,null,null,null,{"$f":"SUMPRODUCT($AN4:$BC4,$AN$33:$BC$33)","v":{"$error":"#VALUE!"}},{"$f":"SUMPRODUCT($BE4:$BT4,$BE$33:$BT$33)","v":{"$error":"#VALUE!"}},{"$f":"PRODUCT(J103:K103)","v":{"$error":"#VALUE!"}},null,null,null,null,null,null,null,null,null,null,null,null,null,null,null,null,null,null,null,null,null,null,null,null,{"$f":"L103*R4*AI4","v":{"$error":"#VALUE!"}}]
[null,null,null,null,null,null,null,null,null,{"$f":"SUMPRODUCT($AN5:$BC5,$AN$33:$BC$33)","v":{"$error":"#VALUE!"}},{"$f":"SUMPRODUCT($BE5:$BT5,$BE$33:$BT$33)","v":{"$error":"#VALUE!"}},{"$f":"PRODUCT(J104:K104)","v":{"$error":"#VALUE!"}},null,null,null,null,null,null,null,null,null,null,null,null,null,null,null,null,null,null,null,null,null,null,null,null,{"$f":"L104*R5*AI5","v":{"$error":"#VALUE!"}}]
[null,null,null,null,null,null,null,null,null,{"$error":"#VALUE!"},{"$error":"#VALUE!"},{"$error":"#VALUE!"},null,null,null,null,null,null,null,null,null,null,null,null,null,null,null,null,null,null,null,null,null,null,null,null,{"$error":"#VALUE!"}]
[null,null,null,null,null,null,null,null,null,{"$error":"#VALUE!"},{"$error":"#VALUE!"},{"$error":"#VALUE!"},null,null,null,null,null,null,null,null,null,null,null,null,null,null,null,null,null,null,null,null,null,null,null,null,{"$error":"#VALUE!"}]
[null,null,null,null,null,null,null,null,null,{"$error":"#VALUE!"},{"$error":"#VALUE!"},{"$error":"#VALUE!"},null,null,null,null,null,null,null,null,null,null,null,null,null,null,null,null,null,null,null,null,null,null,null,null,{"$error":"#VALUE!"}]
[null,null,null,null,null,null,null,null,null,{"$error":"#VALUE!"},{"$error":"#VALUE!"},{"$error":"#VALUE!"},null,null,null,null,null,null,null,null,null,null,null,null,null,null,null,null,null,null,null,null,null,null,null,null,{"$error":"#VALUE!"}]
[null,null,null,null,null,null,null,null,null,{"$error":"#VALUE!"},{"$error":"#VALUE!"},{"$error":"#VALUE!"},null,null,null,null,null,null,null,null,null,null,null,null,null,null,null,null,null,null,null,null,null,null,null,null,{"$error":"#VALUE!"}]
[null,null,null,null,null,null,null,null,null,{"$error":"#VALUE!"},{"$error":"#VALUE!"},{"$error":"#VALUE!"},null,null,null,null,null,null,null,null,null,null,null,null,null,null,null,null,null,null,null,null,null,null,null,null,{"$error":"#VALUE!"}]
[null,null,null,null,null,null,null,null,null,{"$error":"#VALUE!"},{"$error":"#VALUE!"},{"$error":"#VALUE!"},null,null,null,null,null,null,null,null,null,null,null,null,null,null,null,null,null,null,null,null,null,null,null,null,{"$error":"#VALUE!"}]
[null,null,null,null,null,null,null,null,null,{"$error":"#VALUE!"},{"$error":"#VALUE!"},{"$error":"#VALUE!"},null,null,null,null,null,null,null,null,null,null,null,null,null,null,null,null,null,null,null,null,null,null,null,null,{"$error":"#VALUE!"}]
[null,null,null,null,null,null,null,null,null,{"$error":"#VALUE!"},{"$error":"#VALUE!"},{"$error":"#VALUE!"},null,null,null,null,null,null,null,null,null,null,null,null,null,null,null,null,null,null,null,null,null,null,null,null,{"$error":"#VALUE!"}]
[null,null,null,null,null,null,null,null,null,{"$error":"#VALUE!"},{"$error":"#VALUE!"},{"$error":"#VALUE!"},null,null,null,null,null,null,null,null,null,null,null,null,null,null,null,null,null,null,null,null,null,null,null,null,{"$error":"#VALUE!"}]
[null,null,null,null,null,null,null,null,null,{"$error":"#VALUE!"},{"$error":"#VALUE!"},{"$error":"#VALUE!"},null,null,null,null,null,null,null,null,null,null,null,null,null,null,null,null,null,null,null,null,null,null,null,null,{"$error":"#VALUE!"}]
[null,null,null,null,null,null,null,null,null,{"$error":"#VALUE!"},{"$error":"#VALUE!"},{"$error":"#VALUE!"},null,null,null,null,null,null,null,null,null,null,null,null,null,null,null,null,null,null,null,null,null,null,null,null,{"$error":"#VALUE!"}]
[null,null,null,null,null,null,null,null,null,{"$error":"#VALUE!"},{"$error":"#VALUE!"},{"$error":"#VALUE!"},null,null,null,null,null,null,null,null,null,null,null,null,null,null,null,null,null,null,null,null,null,null,null,null,{"$error":"#VALUE!"}]
[null,null,null,null,null,null,null,null,null,{"$error":"#VALUE!"},{"$error":"#VALUE!"},{"$error":"#VALUE!"},null,null,null,null,null,null,null,null,null,null,null,null,null,null,null,null,null,null,null,null,null,null,null,null,{"$error":"#VALUE!"}]
[null,null,null,null,null,null,null,null,null,{"$error":"#VALUE!"},{"$error":"#VALUE!"},{"$error":"#VALUE!"},null,null,null,null,null,null,null,null,null,null,null,null,null,null,null,null,null,null,null,null,null,null,null,null,{"$error":"#VALUE!"}]
[null,null,null,null,null,null,null,null,null,{"$error":"#VALUE!"},{"$error":"#VALUE!"},{"$error":"#VALUE!"},null,null,null,null,null,null,null,null,null,null,null,null,null,null,null,null,null,null,null,null,null,null,null,null,{"$error":"#VALUE!"}]
[null,null,null,null,null,null,null,null,null,{"$error":"#VALUE!"},{"$error":"#VALUE!"},{"$error":"#VALUE!"},null,null,null,null,null,null,null,null,null,null,null,null,null,null,null,null,null,null,null,null,null,null,null,null,{"$error":"#VALUE!"}]
[null,null,null,null,null,null,null,null,null,{"$error":"#VALUE!"},{"$error":"#VALUE!"},{"$error":"#VALUE!"},null,null,null,null,null,null,null,null,null,null,null,null,null,null,null,null,null,null,null,null,null,null,null,null,{"$error":"#VALUE!"}]
[null,null,null,null,null,null,null,null,null,{"$error":"#VALUE!"},{"$error":"#VALUE!"},{"$error":"#VALUE!"},null,null,null,null,null,null,null,null,null,null,null,null,null,null,null,null,null,null,null,null,null,null,null,null,{"$error":"#VALUE!"}]
[null,null,null,null,null,null,null,null,null,{"$error":"#VALUE!"},{"$error":"#VALUE!"},{"$error":"#VALUE!"},null,null,null,null,null,null,null,null,null,null,null,null,null,null,null,null,null,null,null,null,null,null,null,null,{"$error":"#VALUE!"}]
[null,null,null,null,null,null,null,null,null,{"$error":"#VALUE!"},{"$error":"#VALUE!"},{"$error":"#VALUE!"},null,null,null,null,null,null,null,null,null,null,null,null,null,null,null,null,null,null,null,null,null,null,null,null,{"$error":"#VALUE!"}]
[null,null,null,null,null,null,null,null,null,{"$error":"#VALUE!"},{"$error":"#VALUE!"},{"$error":"#VALUE!"},null,null,null,null,null,null,null,null,null,null,null,null,null,null,null,null,null,null,null,null,null,null,null,null,{"$error":"#VALUE!"}]
[null,null,null,null,null,null,null,null,null,{"$error":"#VALUE!"},{"$error":"#VALUE!"},{"$error":"#VALUE!"},null,null,null,null,null,null,null,null,null,null,null,null,null,null,null,null,null,null,null,null,null,null,null,null,{"$error":"#VALUE!"}]
[null,null,null,null,null,null,null,null,null,{"$error":"#VALUE!"},{"$error":"#VALUE!"},{"$error":"#VALUE!"},null,null,null,null,null,null,null,null,null,null,null,null,null,null,null,null,null,null,null,null,null,null,null,null,{"$error":"#VALUE!"}]
[null,null,null,null,null,null,null,null,null,{"$error":"#VALUE!"},{"$error":"#VALUE!"},{"$error":"#VALUE!"},null,null,null,null,null,null,null,null,null,null,null,null,null,null,null,null,null,null,null,null,null,null,null,null,{"$error":"#VALUE!"}]
[null,null,null,null,null,null,null,null,null,{"$error":"#VALUE!"},{"$error":"#VALUE!"},{"$error":"#VALUE!"},null,null,null,null,null,null,null,null,null,null,null,null,null,null,null,null,null,null,null,null,null,null,null,null,{"$error":"#VALUE!"}]

{"sheet":"MUT","index":50,"n_rows":134,"n_cols":72,"rows_kept":134,"cut":false,"hidden":true,"merged":[[1,56,1,71],[0,19,0,28],[0,30,0,32],[1,31,2,31],[1,32,2,32],[1,21,1,25],[1,27,1,28],[1,30,2,30],[100,9,100,11],[100,36,101,36],[1,34,2,34],[1,36,2,36],[1,39,1,54],[1,9,1,11],[1,13,1,17]]}
[null,null,null,null,null,null,null,null,null,null,null,null,null,null,null,null,null,null,null,"Conflicting Traffic Complexity",null,null,null,null,null,null,null,null,null,null,"Pedestrian Complexity"]
[null,null,null,null,null,null,null,null,null,"Exposure",null,null,null,"Severity",null,null,null,null,null,"Traffic Control",null,"Conflicting Lanes",null,null,null,null,null,"Conflicting Speed",null,null,"Indirect Paths Indicator","Non-intuitive movements indicator","Pedestrian Complexity factor",null,"Total Complexity Multiplier",null,"Exposure-Severity-Complexity Product",null,null,"Included in Mvmt1",null,null,null,null,null,null,null,null,null,null,null,null,null,null,null,null,"Included in Mvmt2"]
["#","Conflict Type","Mvmt1","Mvmt1_gen","Mvmt1_SpeedCat","Mvmt2","Mvmt2_gen","Mvmt2_SpeedCat",null,"Q1","Q2","I",null,"Speed_V1","Speed_V2","Angle","delta_V","P_FSI",null,null,null,"MajC","MinC","MajM/P","MinM/P","Score",null,"Speed","Factor",null,null,null,null,null,null,null,null,null,null,"MajT1","MajL1","MajR1","MajT2","MajL2","MajR2","MinT1","MinL1","MinR1","MinT2","MinL2","MinR2","MajNM1","MajNM2","MinNM1","MinNM2",null,"MajT1","MajL1","MajR1","MajT2","MajL2","MajR2","MinT1","MinL1","MinR1","MinT2","MinL2","MinR2","MajNM1","MajNM2","MinNM1","MinNM2"]
[1,"Crossing","EBT, EBL, SBL","MajT1, MajL1, MinL2","Major thru","SBT","MinT2","Signal far",null,{"$f":"SUMPRODUCT($AN4:$BC4,$AN$36:$BC$36)","v":{"$error":"#VALUE!"}},{"$f":"SUMPRODUCT($BE4:$BT4,$BE$36:$BT$36)","v":{"$error":"#VALUE!"}},{"$f":"PRODUCT(J4:K4)","v":{"$error":"#VALUE!"}},null,{"$f":"VLOOKUP(E4,SSI_AGI_Range_VehSpeed,5,FALSE)","v":0},{"$f":"VLOOKUP(H4,SSI_AGI_Range_VehSpeed,5,FALSE)","v":25},{"$f":"IF(B4=\"Nonmotorized\",\"\",VLOOKUP(B4,SSI_AGI_Range_CollAngles,5,FALSE))","v":90},{"$f":"IF(B4=\"Nonmotorized\",\"\",SQRT(N4^2+O4^2-2*N4*O4*COS(RADIANS(P4)))/2)","v":12.5},{"$f":"IF(B4=\"Nonmotorized\",1/(1+EXP(3.8432-0.1237*O4)),(Q4/SSI_AGI_RegAlpha)^SSI_AGI_RegK+(Q4/SSI_AGI_RegAlpha)^SSI_AGI_RegK-((Q4/SSI_AGI_RegAlpha)^SSI_AGI_RegK)*((Q4/SSI_AGI_RegAlpha)^SSI_AGI_RegK))","v":3.3637551692797594E-3},null,{"$f":"SSI_AGI_ProtFactor","v":0.505},null,1,null,null,null,{"$f":"MAX(1,IF(B4<>\"Pedestrian\",V4*SSI_AGI_MajorThruLanes+W4*SSI_AGI_MinorThruLanes+X4*IF(SSI_AGI_MajorThruLanes=1,SSI_AGI_MergeWeightL1,IF(SSI_AGI_MajorThruLanes=2,SSI_AGI_MergeWeightL1+SSI_AGI_MergeWeightL2,SSI_AGI_MergeWeightL1+SSI_AGI_MergeWeightL2+SSI_AGI_MergeWeightL3*(SSI_AGI_MajorThruLanes-2)))+Y4*IF(SSI_AGI_MinorThruLanes=1,SSI_AGI_MergeWeightL1,IF(SSI_AGI_MinorThruLanes=2,SSI_AGI_MergeWeightL1+SSI_AGI_MergeWeightL2,SSI_AGI_MergeWeightL1+SSI_AGI_MergeWeightL2+SSI_AGI_MergeWeightL3*(SSI_AGI_MinorThruLanes-2))),V4*SSI_AGI_MajorThruLanes+W4*SSI_AGI_MinorThruLanes+X4*IF(SSI_AGI_MajorThruLanes=1,SSI_AGI_NM_MergeWeightL1,IF(SSI_AGI_MajorThruLanes=2,SSI_AGI_NM_MergeWeightL1+SSI_AGI_NM_MergeWeightL2,SSI_AGI_NM_MergeWeightL1+SSI_AGI_NM_MergeWeightL2+SSI_AGI_NM_MergeWeightL3*(SSI_AGI_MajorThruLanes-2)))+Y4*IF(SSI_AGI_MinorThruLanes=1,SSI_AGI_NM_MergeWeightL1,IF(SSI_AGI_MinorThruLanes=2,SSI_AGI_NM_MergeWeightL1+SSI_AGI_NM_MergeWeightL2,SSI_AGI_NM_MergeWeightL1+SSI_AGI_NM_MergeWeightL2+SSI_AGI_NM_MergeWeightL3*(SSI_AGI_MinorThruLanes-2)))))","v":1},null,{"$f":"IF(B4=\"Diverging\",\"\",SSI_AGI_VehSpeed_MjrThru)","v":0},{"$f":"IF(B4=\"Diverging\",1,1-((60-AB4)/60*0.1/0.15))","v":0.33333333333333326},null,null,null,{"$f":"1+AE4+AF4","v":1},null,{"$f":"PRODUCT(Z4,T4,AC4,AG4)","v":0.16833333333333331},null,{"$f":"L4*R4*AI4","v":{"$error":"#VALUE!"}},null,null,{"$f":"IF(ISNUMBER(SEARCH(AN$3,$D4)),1,\"\")","v":1},{"$f":"IF(ISNUMBER(SEARCH(AO$3,$D4)),1,\"\")","v":1},"","","","","","","","",1,"","","","","",null,{"$f":"IF(ISNUMBER(SEARCH(BE$3,$G4)),1,\"\")","v":""},{"$f":"IF(ISNUMBER(SEARCH(BF$3,$G4)),1,\"\")","v":""},"","","","","","","",1,"","","","","",""]
[2,"Crossing","EBT, EBL, SBL","MajT1, MajL1, MinL2","Major thru","NBT","MinT1","Signal near",null,{"$f":"SUMPRODUCT($AN5:$BC5,$AN$36:$BC$36)","v":{"$error":"#VALUE!"}},{"$f":"SUMPRODUCT($BE5:$BT5,$BE$36:$BT$36)","v":{"$error":"#VALUE!"}},{"$f":"PRODUCT(J5:K5)","v":{"$error":"#VALUE!"}},null,0,15,90,{"$f":"IF(B5=\"Nonmotorized\",\"\",SQRT(N5^2+O5^2-2*N5*O5*COS(RADIANS(P5)))/2)","v":7.5},4.8454301532720461E-4,null,0.505,null,1,null,null,null,1,null,0,0.33333333333333326,null,null,null,{"$f":"1+AE5+AF5","v":1},null,0.16833333333333331,null,{"$f":"L5*R5*AI5","v":{"$error":"#VALUE!"}},null,null,1,1,"","","","","","","","",1,"","","","","",null,"","","","","","",1,"","","","","","","","",""]
[3,"Crossing","WBT, WBL, NBL","MajT2, MajL2, MinL1","Major thru","NBT","MinT1","Signal far",null,{"$error":"#VALUE!"},{"$error":"#VALUE!"},{"$error":"#VALUE!"},null,0,25,90,12.5,3.3637551692797594E-3,null,0.505,null,1,null,null,null,1,null,0,0.33333333333333326,null,null,null,1,null,0.16833333333333331,null,{"$error":"#VALUE!"},null,null,"","","",1,1,"","",1,"","","","","","","","",null,"","","","","","",1,"","","","","","","","",""]
[4,"Crossing","WBT, WBL, NBL","MajT2, MajL2, MinL1","Major thru","SBT","MinT2","Signal near",null,{"$error":"#VALUE!"},{"$error":"#VALUE!"},{"$error":"#VALUE!"},null,0,15,90,7.5,4.8454301532720461E-4,null,0.505,null,1,null,null,null,1,null,0,0.33333333333333326,null,null,null,1,null,0.16833333333333331,null,{"$error":"#VALUE!"},null,null,"","","",1,1,"","",1,"","","","","","","","",null,"","","","","","","","","",1,"","","","","",""]
[5,"Merging","EBT, EBL, EBR","MajT1, MajL1, MajR1","Major thru","SBL, WBL","MinL2, MajL2","Signal near",null,{"$error":"#VALUE!"},{"$error":"#VALUE!"},{"$error":"#VALUE!"},null,0,15,45,7.5,4.8454301532720461E-4,null,0.505,null,null,null,1,null,1,null,0,0.33333333333333326,null,null,null,1,null,0.16833333333333331,null,{"$error":"#VALUE!"},null,null,1,1,1,"","","","","","","","","","","","","",null,"","","","",1,"","","","","",1,"","","","",""]
[6,"Merging","SBT","MinT2","Signal far","EBR, WBL","MajR1, MajL2","Major right",null,{"$error":"#VALUE!"},{"$error":"#VALUE!"},{"$error":"#VALUE!"},null,25,15,45,8.9396576292116645,9.4329959592674944E-4,null,0.505,null,1,null,null,null,1,null,0,0.33333333333333326,null,null,null,1,null,0.16833333333333331,null,{"$error":"#VALUE!"},null,null,"","","","","","","","","",1,"","","","","","",null,"","",1,"",1,"","","","","","","","","","",""]
[7,"Merging","EBT, EBL, SBL","MajT1, MajL1, MinL2","Major thru","NBL, NBR","MinL1, MinR1","Signal near",null,{"$error":"#VALUE!"},{"$error":"#VALUE!"},{"$error":"#VALUE!"},null,0,15,45,7.5,4.8454301532720461E-4,null,0.505,null,null,null,1,null,1,null,0,0.33333333333333326,null,null,null,1,null,0.16833333333333331,null,{"$error":"#VALUE!"},null,null,1,1,"","","","","","","","",1,"","","","","",null,"","","","","","","",1,1,"","","","","","",""]
[8,"Merging","WBT, WBL, WBR","MajT2, MajL2, MajR2","Major thru","NBL, EBL","MinL1, MajL1","Signal near",null,{"$error":"#VALUE!"},{"$error":"#VALUE!"},{"$error":"#VALUE!"},null,0,15,45,7.5,4.8454301532720461E-4,null,0.505,null,null,null,1,null,1,null,0,0.33333333333333326,null,null,null,1,null,0.16833333333333331,null,{"$error":"#VALUE!"},null,null,"","","",1,1,1,"","","","","","","","","","",null,"",1,"","","","","",1,"","","","","","","",""]
[9,"Merging","NBT","MinT1","Signal far","WBR, EBL","MajR2, MajL1","Major right",null,{"$error":"#VALUE!"},{"$error":"#VALUE!"},{"$error":"#VALUE!"},null,25,15,45,8.9396576292116645,9.4329959592674944E-4,null,0.505,null,1,null,null,null,1,null,0,0.33333333333333326,null,null,null,1,null,0.16833333333333331,null,{"$error":"#VALUE!"},null,null,"","","","","","",1,"","","","","","","","","",null,"",1,"","","",1,"","","","","","","","","",""]
[10,"Merging","WBT, WBL, NBL","MajT2, MajL2, MinL1","Major thru","SBL, SBR","MinL2, MinR2","Signal near",null,{"$error":"#VALUE!"},{"$error":"#VALUE!"},{"$error":"#VALUE!"},null,0,15,45,7.5,4.8454301532720461E-4,null,0.505,null,null,null,1,null,1,null,0,0.33333333333333326,null,null,null,1,null,0.16833333333333331,null,{"$error":"#VALUE!"},null,null,"","","",1,1,"","",1,"","","","","","","","",null,"","","","","","","","","","",1,1,"","","",""]
[11,"Diverging","EBT, EBL, SBL","MajT1, MajL1, MinL2","Major thru","EBR, SBT","MajR1, MinT2","Major right",null,{"$error":"#VALUE!"},{"$error":"#VALUE!"},{"$error":"#VALUE!"},null,0,15,10,7.5,4.8454301532720461E-4,null,1,null,null,null,null,null,1,null,"",1,null,null,null,1,null,1,null,{"$error":"#VALUE!"},null,null,1,1,"","","","","","","","",1,"","","","","",null,"","",1,"","","","","","",1,"","","","","",""]
[12,"Diverging","NBT","MinT1","Signal near","NBL, NBR","MinL1, MinR1","Signal near",null,{"$error":"#VALUE!"},{"$error":"#VALUE!"},{"$error":"#VALUE!"},null,15,15,10,1.3073361412148754,6.4061388075216071E-7,null,1,null,null,null,null,null,1,null,"",1,null,null,null,1,null,1,null,{"$error":"#VALUE!"},null,null,"","","","","","",1,"","","","","","","","","",null,"","","","","","","",1,1,"","","","","","",""]
[13,"Diverging","EBT, SBL, NBR","MajT1, MinL2, MinR1","Major thru","NBL, EBL","MinL1, MajL1","Major left",null,{"$error":"#VALUE!"},{"$error":"#VALUE!"},{"$error":"#VALUE!"},null,0,20,10,10,1.4431392232699444E-3,null,1,null,null,null,null,null,1,null,"",1,null,null,null,1,null,1,null,{"$error":"#VALUE!"},null,null,1,"","","","","","","",1,"",1,"","","","","",null,"",1,"","","","","",1,"","","","","","","",""]
[14,"Diverging","WBT, WBL, NBL","MajT2, MajL2, MinL1","Major thru","WBR, NBT","MajR2, MinT1","Major right",null,{"$error":"#VALUE!"},{"$error":"#VALUE!"},{"$error":"#VALUE!"},null,0,15,10,7.5,4.8454301532720461E-4,null,1,null,null,null,null,null,1,null,"",1,null,null,null,1,null,1,null,{"$error":"#VALUE!"},null,null,"","","",1,1,"","",1,"","","","","","","","",null,"","","","","",1,1,"","","","","","","","",""]
[15,"Diverging","SBT","MinT2","Signal near","SBL, SBR","MinL2, MinR2","Signal near",null,{"$error":"#VALUE!"},{"$error":"#VALUE!"},{"$error":"#VALUE!"},null,15,15,10,1.3073361412148754,6.4061388075216071E-7,null,1,null,null,null,null,null,1,null,"",1,null,null,null,1,null,1,null,{"$error":"#VALUE!"},null,null,"","","","","","","","","",1,"","","","","","",null,"","","","","","","","","","",1,1,"","","",""]
[16,"Diverging","WBT, NBL, SBR","MajT2, MinL1, MinR2","Major thru","SBL, WBL","MinL2, MajL2","Major left",null,{"$error":"#VALUE!"},{"$error":"#VALUE!"},{"$error":"#VALUE!"},null,0,20,10,10,1.4431392232699444E-3,null,1,null,null,null,null,null,1,null,"",1,null,null,null,1,null,1,null,{"$error":"#VALUE!"},null,null,"","","",1,"","","",1,"","","",1,"","","","",null,"","","","",1,"","","","","",1,"","","","",""]
[17,"Nonmotorized","NB Ped","MinNM1","Nonmotorized","EBR, WBL","MajR1, MajL2","Major right",null,{"$error":"#VALUE!"},{"$error":"#VALUE!"},{"$error":"#VALUE!"},null,0,15,"","",0.1205004039155782,null,1,null,null,1,1,null,1,null,0,0.33333333333333326,null,null,null,1,null,0.33333333333333326,null,{"$error":"#VALUE!"},null,null,"","","","","","","","","","","","","","",1,"",null,"",{"$f":"IF(ISNUMBER(SEARCH(BF$3,$G20)),1,\"\")","v":""},1,"",1,"","","","","","","","","","",""]
[18,"Nonmotorized","NB Ped","MinNM1","Nonmotorized","SBT","MinT2","Signal far",null,{"$error":"#VALUE!"},{"$error":"#VALUE!"},{"$error":"#VALUE!"},null,0,25,"","",0.32066879346345062,null,{"$f":"SSI_AGI_ProtFactor","v":0.505},null,null,1,1,null,1,null,0,0.33333333333333326,null,null,null,1,null,0.16833333333333331,null,{"$error":"#VALUE!"},null,null,"",{"$f":"IF(ISNUMBER(SEARCH(AO$3,$D21)),1,\"\")","v":""},"","","","","","","","","","","","",1,"",null,"","","","","","","","","",1,"","","","","",""]
[19,"Nonmotorized","NB Ped","MinNM1","Nonmotorized","NBT","MinT1","Signal near",null,{"$error":"#VALUE!"},{"$error":"#VALUE!"},{"$error":"#VALUE!"},null,0,15,"","",0.1205004039155782,null,0.505,null,null,1,null,null,1,null,{"$f":"IF(B22=\"Diverging\",\"\",SSI_AGI_VehSpeed_MnrThru)","v":0},0.33333333333333326,null,null,null,1,null,0.16833333333333331,null,{"$error":"#VALUE!"},null,null,"","","","","","","","","","","","","","",1,"",null,"","","","","","",1,"","","","","","","","",""]
[20,"Nonmotorized","NB Ped","MinNM1","Nonmotorized","NBL, NBR","MinL1, MinR1","Signal near",null,{"$error":"#VALUE!"},{"$error":"#VALUE!"},{"$error":"#VALUE!"},null,0,15,"","",0.1205004039155782,null,0.505,null,null,1,null,null,1,null,{"$f":"IF(B23=\"Diverging\",\"\",SSI_AGI_VehSpeed_MnrThru)","v":0},0.33333333333333326,null,null,null,1,null,0.16833333333333331,null,{"$error":"#VALUE!"},null,null,"","","","","","","","","","","","","","",1,"",null,"","","","","","","",1,1,"","","","","","",""]
[21,"Nonmotorized","WB Ped","MajNM2","Nonmotorized","NBL, NBR","MinL1, MinR1","Signal near",null,{"$error":"#VALUE!"},{"$error":"#VALUE!"},{"$error":"#VALUE!"},null,0,15,"","",0.1205004039155782,null,0.505,null,1,null,null,1,1,null,{"$f":"IF(B24=\"Diverging\",\"\",SSI_AGI_VehSpeed_MjrThru)","v":0},0.33333333333333326,null,null,null,1,null,0.16833333333333331,null,{"$error":"#VALUE!"},null,null,"","","","","","","","","","","","","",1,"","",null,"","","","","","","",1,1,"","","","","","",""]
[22,"Nonmotorized","WB Ped","MajNM2","Nonmotorized","EBT, EBL, SBL","MajT1, MajL1, MinL2","Major thru",null,{"$error":"#VALUE!"},{"$error":"#VALUE!"},{"$error":"#VALUE!"},null,0,0,"","",2.0975532400616122E-2,null,0.505,null,1,null,null,1,1,null,0,0.33333333333333326,null,null,null,1,null,0.16833333333333331,null,{"$error":"#VALUE!"},null,null,"","","","","","","","","","","","","",1,"","",null,1,1,"","","","","","","","",1,"","","","",""]
[23,"Nonmotorized","WB Ped","MajNM2","Nonmotorized","WBT, WBL, NBL","MajT2, MajL2, MinL1","Major thru",null,{"$error":"#VALUE!"},{"$error":"#VALUE!"},{"$error":"#VALUE!"},null,0,0,"","",2.0975532400616122E-2,null,0.505,null,1,null,null,null,1,null,0,0.33333333333333326,null,null,null,1,null,0.16833333333333331,null,{"$error":"#VALUE!"},null,null,"","","","","","","","","","","","","",1,"","",null,"","","",1,1,"","",1,"","","","","","","",""]
[24,"Nonmotorized","WB Ped","MajNM2","Nonmotorized","WBR, EBL","MajR2, MajL1","Major right",null,{"$error":"#VALUE!"},{"$error":"#VALUE!"},{"$error":"#VALUE!"},null,0,15,"","",0.1205004039155782,null,0.505,null,1,null,null,null,1,null,0,0.33333333333333326,null,null,null,1,null,0.16833333333333331,null,{"$error":"#VALUE!"},null,null,"","","","","","","","","","","","","",1,"","",null,"",1,"","","",1,"","","","","","","","","",""]
[25,"Nonmotorized","SB Ped","MajNM2","Nonmotorized","WBR, EBL","MajR2, MajL1","Major right",null,{"$error":"#VALUE!"},{"$f":"SUMPRODUCT($BE28:$BT28,$BE$36:$BT$36)","v":{"$error":"#VALUE!"}},{"$error":"#VALUE!"},null,0,15,"","",0.1205004039155782,null,0.505,null,null,1,1,null,1,null,0,0.33333333333333326,null,null,null,1,null,0.16833333333333331,null,{"$error":"#VALUE!"},null,null,{"$f":"IF(ISNUMBER(SEARCH(AN$3,$D28)),1,\"\")","v":""},"","","","","","","","","","","","",1,"","",null,"",1,"","","",1,"","","","","","","","","",""]
[26,"Nonmotorized","SB Ped","MajNM2","Nonmotorized","NBT","MinT1","Signal far",null,{"$error":"#VALUE!"},{"$error":"#VALUE!"},{"$error":"#VALUE!"},null,0,25,"","",0.32066879346345062,null,{"$f":"SSI_AGI_ProtFactor","v":0.505},null,null,1,1,null,1,null,0,0.33333333333333326,null,null,null,1,null,0.16833333333333331,null,{"$error":"#VALUE!"},null,null,"","","","","","","","","","","","","",1,"","",null,{"$f":"IF(ISNUMBER(SEARCH(BE$3,$G29)),1,\"\")","v":""},"","","","","",1,"","","","","","","","",""]
[27,"Nonmotorized","SB Ped","MajNM2","Nonmotorized","SBT","MinT2","Signal near",null,{"$error":"#VALUE!"},{"$error":"#VALUE!"},{"$error":"#VALUE!"},null,0,15,"","",0.1205004039155782,null,0.505,null,null,1,null,null,1,null,{"$f":"IF(B30=\"Diverging\",\"\",SSI_AGI_VehSpeed_MnrThru)","v":0},0.33333333333333326,null,null,null,1,null,0.16833333333333331,null,{"$error":"#VALUE!"},null,null,"","","","","","","","","","","","","",1,"","",null,"","","","","","","","","",1,"","","","","",""]
[28,"Nonmotorized","SB Ped","MajNM2","Nonmotorized","SBL, SBR","MinL2, MinR2","Signal near",null,{"$error":"#VALUE!"},{"$error":"#VALUE!"},{"$error":"#VALUE!"},null,0,15,"","",0.1205004039155782,null,0.505,null,null,1,null,null,1,null,{"$f":"IF(B31=\"Diverging\",\"\",SSI_AGI_VehSpeed_MnrThru)","v":0},0.33333333333333326,null,null,null,1,null,0.16833333333333331,null,{"$error":"#VALUE!"},null,null,"","","","","","","","","","","","","",1,"","",null,"","","","","","","","","","",1,1,"","","",""]
[29,"Nonmotorized","EB Ped","MinNM1","Nonmotorized","SBL, SBR","MinL2, MinR2","Signal near",null,{"$error":"#VALUE!"},{"$error":"#VALUE!"},{"$error":"#VALUE!"},null,0,15,"","",0.1205004039155782,null,0.505,null,1,null,null,1,1,null,{"$f":"IF(B32=\"Diverging\",\"\",SSI_AGI_VehSpeed_MjrThru)","v":0},0.33333333333333326,null,null,null,1,null,0.16833333333333331,null,{"$error":"#VALUE!"},null,null,"","","","","","","","","","","","","","",1,"",null,"","","","","","","","","","",1,1,"","","",""]
[30,"Nonmotorized","EB Ped","MinNM1","Nonmotorized","WBT, WBL, NBL","MajT2, MajL2, MinL1","Major thru",null,{"$error":"#VALUE!"},{"$error":"#VALUE!"},{"$error":"#VALUE!"},null,0,0,"","",2.0975532400616122E-2,null,0.505,null,1,null,null,1,1,null,{"$f":"IF(B33=\"Diverging\",\"\",SSI_AGI_VehSpeed_MjrThru)","v":0},0.33333333333333326,null,null,null,1,null,0.16833333333333331,null,{"$error":"#VALUE!"},null,null,"","","","","","","","","","","","","","",1,"",null,"","","",1,1,"","",1,"","","","","","","",""]
[31,"Nonmotorized","EB Ped","MinNM1","Nonmotorized","EBT, EBL, SBL","MajT1, MajL1, MinL2","Major thru",null,{"$error":"#VALUE!"},{"$error":"#VALUE!"},{"$error":"#VALUE!"},null,0,0,"","",2.0975532400616122E-2,null,0.505,null,1,null,null,null,1,null,{"$f":"IF(B34=\"Diverging\",\"\",SSI_AGI_VehSpeed_MjrThru)","v":0},0.33333333333333326,null,null,null,1,null,0.16833333333333331,null,{"$error":"#VALUE!"},null,null,"","","","","","","","","","","","","","",1,"",null,1,1,"","","","","","","","",1,"","","","",""]
[32,"Nonmotorized","EB Ped","MinNM1","Nonmotorized","EBR, WBL","MajR1, MajL2","Major right",null,{"$error":"#VALUE!"},{"$error":"#VALUE!"},{"$error":"#VALUE!"},null,0,15,"","",0.1205004039155782,null,0.505,null,1,null,null,null,1,null,{"$f":"IF(B35=\"Diverging\",\"\",SSI_AGI_VehSpeed_MjrThru)","v":0},0.33333333333333326,null,null,null,1,null,0.16833333333333331,null,{"$error":"#VALUE!"},null,null,"","","","","","","","","","","","","","",1,"",null,"","",1,"",1,"","","","","","","","","","",""]
[null,null,null,null,null,null,null,null,null,null,null,null,null,null,null,null,null,null,null,null,null,null,null,null,null,null,null,null,null,null,null,null,null,null,null,null,null,null,"O",{"$f":"'SSI Inputs'!$D$26","v":{"$error":"#VALUE!"}},{"$f":"'SSI Inputs'!$D$27","v":{"$error":"#VALUE!"}},{"$f":"'SSI Inputs'!$D$28","v":{"$error":"#VALUE!"}},{"$f":"'SSI Inputs'!$D$30","v":{"$error":"#VALUE!"}},{"$f":"'SSI Inputs'!$D$31","v":{"$error":"#VALUE!"}},{"$f":"'SSI Inputs'!$D$32","v":{"$error":"#VALUE!"}},{"$f":"'SSI Inputs'!$D$34","v":{"$error":"#VALUE!"}},{"$f":"'SSI Inputs'!$D$35","v":{"$error":"#VALUE!"}},{"$f":"'SSI Inputs'!$D$36","v":{"$error":"#VALUE!"}},{"$f":"'SSI Inputs'!$D$38","v":{"$error":"#VALUE!"}},{"$f":"'SSI Inputs'!$D$39","v":{"$error":"#VALUE!"}},{"$f":"'SSI Inputs'!$D$40","v":{"$error":"#VALUE!"}},{"$f":"'SSI Inputs'!$Q$18","v":12.5},{"$f":"'SSI Inputs'!$Q$19","v":12.5},{"$f":"'SSI Inputs'!$Q$20","v":12.5},{"$f":"'SSI Inputs'!$Q$21","v":12.5},"O",{"$f":"'SSI Inputs'!$D$26","v":{"$error":"#VALUE!"}},{"$f":"'SSI Inputs'!$D$27","v":{"$error":"#VALUE!"}},{"$f":"'SSI Inputs'!$D$28","v":{"$error":"#VALUE!"}},{"$f":"'SSI Inputs'!$D$30","v":{"$error":"#VALUE!"}},{"$f":"'SSI Inputs'!$D$31","v":{"$error":"#VALUE!"}},{"$f":"'SSI Inputs'!$D$32","v":{"$error":"#VALUE!"}},{"$f":"'SSI Inputs'!$D$34","v":{"$error":"#VALUE!"}},{"$f":"'SSI Inputs'!$D$35","v":{"$error":"#VALUE!"}},{"$f":"'SSI Inputs'!$D$36","v":{"$error":"#VALUE!"}},{"$f":"'SSI Inputs'!$D$38","v":{"$error":"#VALUE!"}},{"$f":"'SSI Inputs'!$D$39","v":{"$error":"#VALUE!"}},{"$f":"'SSI Inputs'!$D$40","v":{"$error":"#VALUE!"}},{"$f":"'SSI Inputs'!$Q$18","v":12.5},{"$f":"'SSI Inputs'!$Q$19","v":12.5},{"$f":"'SSI Inputs'!$Q$20","v":12.5},{"$f":"'SSI Inputs'!$Q$21","v":12.5}]
[null,null,null,null,null,null,null,null,null,null,null,null,null,null,null,null,null,null,null,null,null,null,null,null,null,null,null,null,null,null,null,null,null,null,null,null,null,null,"D",{"$f":"'SSI Inputs'!$E$26","v":{"$error":"#VALUE!"}},{"$f":"'SSI Inputs'!$E$27","v":{"$error":"#VALUE!"}},{"$f":"'SSI Inputs'!$E$28","v":{"$error":"#VALUE!"}},{"$f":"'SSI Inputs'!$E$30","v":{"$error":"#VALUE!"}},{"$f":"'SSI Inputs'!$E$31","v":{"$error":"#VALUE!"}},{"$f":"'SSI Inputs'!$E$32","v":{"$error":"#VALUE!"}},{"$f":"'SSI Inputs'!$E$34","v":{"$error":"#VALUE!"}},{"$f":"'SSI Inputs'!$E$35","v":{"$error":"#VALUE!"}},{"$f":"'SSI Inputs'!$E$36","v":{"$error":"#VALUE!"}},{"$f":"'SSI Inputs'!$E$38","v":{"$error":"#VALUE!"}},{"$f":"'SSI Inputs'!$E$39","v":{"$error":"#VALUE!"}},{"$f":"'SSI Inputs'!$E$40","v":{"$error":"#VALUE!"}},{"$f":"'SSI Inputs'!$R$18","v":12.5},{"$f":"'SSI Inputs'!$R$19","v":12.5},{"$f":"'SSI Inputs'!$R$20","v":12.5},{"$f":"'SSI Inputs'!$R$21","v":12.5},"D",{"$f":"'SSI Inputs'!$E$26","v":{"$error":"#VALUE!"}},{"$f":"'SSI Inputs'!$E$27","v":{"$error":"#VALUE!"}},{"$f":"'SSI Inputs'!$E$28","v":{"$error":"#VALUE!"}},{"$f":"'SSI Inputs'!$E$30","v":{"$error":"#VALUE!"}},{"$f":"'SSI Inputs'!$E$31","v":{"$error":"#VALUE!"}},{"$f":"'SSI Inputs'!$E$32","v":{"$error":"#VALUE!"}},{"$f":"'SSI Inputs'!$E$34","v":{"$error":"#VALUE!"}},{"$f":"'SSI Inputs'!$E$35","v":{"$error":"#VALUE!"}},{"$f":"'SSI Inputs'!$E$36","v":{"$error":"#VALUE!"}},{"$f":"'SSI Inputs'!$E$38","v":{"$error":"#VALUE!"}},{"$f":"'SSI Inputs'!$E$39","v":{"$error":"#VALUE!"}},{"$f":"'SSI Inputs'!$E$40","v":{"$error":"#VALUE!"}},{"$f":"'SSI Inputs'!$R$18","v":12.5},{"$f":"'SSI Inputs'!$R$19","v":12.5},{"$f":"'SSI Inputs'!$R$20","v":12.5},{"$f":"'SSI Inputs'!$R$21","v":12.5}]
[]
[]
[]
[]
[]
[]
[]
[]
[]
[]
[]
[]
[]
[]
[]
[]
[]
[]
[]
[]
[]
[]
[]
[]
[]
[]
[]
[]
[]
[]
[]
[]
[]
[]
[]
[]
[]
[]
[]
[]
[]
[]
[]
[]
[]
[]
[]
[]
[]
[]
[]
[]
[]
[]
[]
[]
[]
[]
[]
[]
[]
[]
[]
[null,null,null,null,null,null,null,null,null,"Exposure",null,null,null,null,null,null,null,null,null,null,null,null,null,null,null,null,null,null,null,null,null,null,null,null,null,null,"Exposure-Severity-Complexity Product"]
[null,null,null,null,null,null,null,null,null,"Q1","Q2","I"]
[null,null,null,null,null,null,null,null,null,{"$f":"SUMPRODUCT($AN4:$BC4,$AN$37:$BC$37)","v":{"$error":"#VALUE!"}},{"$f":"SUMPRODUCT($BE4:$BT4,$BE$37:$BT$37)","v":{"$error":"#VALUE!"}},{"$f":"PRODUCT(J103:K103)","v":{"$error":"#VALUE!"}},null,null,null,null,null,null,null,null,null,null,null,null,null,null,null,null,null,null,null,null,null,null,null,null,{"$f":"L103*R4*AI4","v":{"$error":"#VALUE!"}}]
[null,null,null,null,null,null,null,null,null,{"$f":"SUMPRODUCT($AN5:$BC5,$AN$37:$BC$37)","v":{"$error":"#VALUE!"}},{"$f":"SUMPRODUCT($BE5:$BT5,$BE$37:$BT$37)","v":{"$error":"#VALUE!"}},{"$f":"PRODUCT(J104:K104)","v":{"$error":"#VALUE!"}},null,null,null,null,null,null,null,null,null,null,null,null,null,null,null,null,null,null,null,null,null,null,null,null,{"$f":"L104*R5*AI5","v":{"$error":"#VALUE!"}}]
[null,null,null,null,null,null,null,null,null,{"$error":"#VALUE!"},{"$error":"#VALUE!"},{"$error":"#VALUE!"},null,null,null,null,null,null,null,null,null,null,null,null,null,null,null,null,null,null,null,null,null,null,null,null,{"$error":"#VALUE!"}]
[null,null,null,null,null,null,null,null,null,{"$error":"#VALUE!"},{"$error":"#VALUE!"},{"$error":"#VALUE!"},null,null,null,null,null,null,null,null,null,null,null,null,null,null,null,null,null,null,null,null,null,null,null,null,{"$error":"#VALUE!"}]
[null,null,null,null,null,null,null,null,null,{"$error":"#VALUE!"},{"$error":"#VALUE!"},{"$error":"#VALUE!"},null,null,null,null,null,null,null,null,null,null,null,null,null,null,null,null,null,null,null,null,null,null,null,null,{"$error":"#VALUE!"}]
[null,null,null,null,null,null,null,null,null,{"$error":"#VALUE!"},{"$error":"#VALUE!"},{"$error":"#VALUE!"},null,null,null,null,null,null,null,null,null,null,null,null,null,null,null,null,null,null,null,null,null,null,null,null,{"$error":"#VALUE!"}]
[null,null,null,null,null,null,null,null,null,{"$error":"#VALUE!"},{"$error":"#VALUE!"},{"$error":"#VALUE!"},null,null,null,null,null,null,null,null,null,null,null,null,null,null,null,null,null,null,null,null,null,null,null,null,{"$error":"#VALUE!"}]
[null,null,null,null,null,null,null,null,null,{"$error":"#VALUE!"},{"$error":"#VALUE!"},{"$error":"#VALUE!"},null,null,null,null,null,null,null,null,null,null,null,null,null,null,null,null,null,null,null,null,null,null,null,null,{"$error":"#VALUE!"}]
[null,null,null,null,null,null,null,null,null,{"$error":"#VALUE!"},{"$error":"#VALUE!"},{"$error":"#VALUE!"},null,null,null,null,null,null,null,null,null,null,null,null,null,null,null,null,null,null,null,null,null,null,null,null,{"$error":"#VALUE!"}]
[null,null,null,null,null,null,null,null,null,{"$error":"#VALUE!"},{"$error":"#VALUE!"},{"$error":"#VALUE!"},null,null,null,null,null,null,null,null,null,null,null,null,null,null,null,null,null,null,null,null,null,null,null,null,{"$error":"#VALUE!"}]
[null,null,null,null,null,null,null,null,null,{"$error":"#VALUE!"},{"$error":"#VALUE!"},{"$error":"#VALUE!"},null,null,null,null,null,null,null,null,null,null,null,null,null,null,null,null,null,null,null,null,null,null,null,null,{"$error":"#VALUE!"}]
[null,null,null,null,null,null,null,null,null,{"$error":"#VALUE!"},{"$error":"#VALUE!"},{"$error":"#VALUE!"},null,null,null,null,null,null,null,null,null,null,null,null,null,null,null,null,null,null,null,null,null,null,null,null,{"$error":"#VALUE!"}]
[null,null,null,null,null,null,null,null,null,{"$error":"#VALUE!"},{"$error":"#VALUE!"},{"$error":"#VALUE!"},null,null,null,null,null,null,null,null,null,null,null,null,null,null,null,null,null,null,null,null,null,null,null,null,{"$error":"#VALUE!"}]
[null,null,null,null,null,null,null,null,null,{"$error":"#VALUE!"},{"$error":"#VALUE!"},{"$error":"#VALUE!"},null,null,null,null,null,null,null,null,null,null,null,null,null,null,null,null,null,null,null,null,null,null,null,null,{"$error":"#VALUE!"}]
[null,null,null,null,null,null,null,null,null,{"$error":"#VALUE!"},{"$error":"#VALUE!"},{"$error":"#VALUE!"},null,null,null,null,null,null,null,null,null,null,null,null,null,null,null,null,null,null,null,null,null,null,null,null,{"$error":"#VALUE!"}]
[null,null,null,null,null,null,null,null,null,{"$error":"#VALUE!"},{"$error":"#VALUE!"},{"$error":"#VALUE!"},null,null,null,null,null,null,null,null,null,null,null,null,null,null,null,null,null,null,null,null,null,null,null,null,{"$error":"#VALUE!"}]
[null,null,null,null,null,null,null,null,null,{"$error":"#VALUE!"},{"$error":"#VALUE!"},{"$error":"#VALUE!"},null,null,null,null,null,null,null,null,null,null,null,null,null,null,null,null,null,null,null,null,null,null,null,null,{"$error":"#VALUE!"}]
[null,null,null,null,null,null,null,null,null,{"$error":"#VALUE!"},{"$error":"#VALUE!"},{"$error":"#VALUE!"},null,null,null,null,null,null,null,null,null,null,null,null,null,null,null,null,null,null,null,null,null,null,null,null,{"$error":"#VALUE!"}]
[null,null,null,null,null,null,null,null,null,{"$error":"#VALUE!"},{"$error":"#VALUE!"},{"$error":"#VALUE!"},null,null,null,null,null,null,null,null,null,null,null,null,null,null,null,null,null,null,null,null,null,null,null,null,{"$error":"#VALUE!"}]
[null,null,null,null,null,null,null,null,null,{"$error":"#VALUE!"},{"$error":"#VALUE!"},{"$error":"#VALUE!"},null,null,null,null,null,null,null,null,null,null,null,null,null,null,null,null,null,null,null,null,null,null,null,null,{"$error":"#VALUE!"}]
[null,null,null,null,null,null,null,null,null,{"$error":"#VALUE!"},{"$error":"#VALUE!"},{"$error":"#VALUE!"},null,null,null,null,null,null,null,null,null,null,null,null,null,null,null,null,null,null,null,null,null,null,null,null,{"$error":"#VALUE!"}]
[null,null,null,null,null,null,null,null,null,{"$error":"#VALUE!"},{"$error":"#VALUE!"},{"$error":"#VALUE!"},null,null,null,null,null,null,null,null,null,null,null,null,null,null,null,null,null,null,null,null,null,null,null,null,{"$error":"#VALUE!"}]
[null,null,null,null,null,null,null,null,null,{"$error":"#VALUE!"},{"$error":"#VALUE!"},{"$error":"#VALUE!"},null,null,null,null,null,null,null,null,null,null,null,null,null,null,null,null,null,null,null,null,null,null,null,null,{"$error":"#VALUE!"}]
[null,null,null,null,null,null,null,null,null,{"$error":"#VALUE!"},{"$error":"#VALUE!"},{"$error":"#VALUE!"},null,null,null,null,null,null,null,null,null,null,null,null,null,null,null,null,null,null,null,null,null,null,null,null,{"$error":"#VALUE!"}]
[null,null,null,null,null,null,null,null,null,{"$error":"#VALUE!"},{"$error":"#VALUE!"},{"$error":"#VALUE!"},null,null,null,null,null,null,null,null,null,null,null,null,null,null,null,null,null,null,null,null,null,null,null,null,{"$error":"#VALUE!"}]
[null,null,null,null,null,null,null,null,null,{"$error":"#VALUE!"},{"$error":"#VALUE!"},{"$error":"#VALUE!"},null,null,null,null,null,null,null,null,null,null,null,null,null,null,null,null,null,null,null,null,null,null,null,null,{"$error":"#VALUE!"}]
[null,null,null,null,null,null,null,null,null,{"$error":"#VALUE!"},{"$error":"#VALUE!"},{"$error":"#VALUE!"},null,null,null,null,null,null,null,null,null,null,null,null,null,null,null,null,null,null,null,null,null,null,null,null,{"$error":"#VALUE!"}]
[null,null,null,null,null,null,null,null,null,{"$error":"#VALUE!"},{"$error":"#VALUE!"},{"$error":"#VALUE!"},null,null,null,null,null,null,null,null,null,null,null,null,null,null,null,null,null,null,null,null,null,null,null,null,{"$error":"#VALUE!"}]
[null,null,null,null,null,null,null,null,null,{"$error":"#VALUE!"},{"$error":"#VALUE!"},{"$error":"#VALUE!"},null,null,null,null,null,null,null,null,null,null,null,null,null,null,null,null,null,null,null,null,null,null,null,null,{"$error":"#VALUE!"}]
[null,null,null,null,null,null,null,null,null,{"$error":"#VALUE!"},{"$error":"#VALUE!"},{"$error":"#VALUE!"},null,null,null,null,null,null,null,null,null,null,null,null,null,null,null,null,null,null,null,null,null,null,null,null,{"$error":"#VALUE!"}]
[null,null,null,null,null,null,null,null,null,{"$error":"#VALUE!"},{"$error":"#VALUE!"},{"$error":"#VALUE!"},null,null,null,null,null,null,null,null,null,null,null,null,null,null,null,null,null,null,null,null,null,null,null,null,{"$error":"#VALUE!"}]
[null,null,null,null,null,null,null,null,null,{"$error":"#VALUE!"},{"$error":"#VALUE!"},{"$error":"#VALUE!"},null,null,null,null,null,null,null,null,null,null,null,null,null,null,null,null,null,null,null,null,null,null,null,null,{"$error":"#VALUE!"}]

{"sheet":"PDLT","index":51,"n_rows":152,"n_cols":72,"rows_kept":152,"cut":false,"hidden":true,"merged":[[1,56,1,71],[0,19,0,28],[0,30,0,32],[1,31,2,31],[1,32,2,32],[1,21,1,25],[1,27,1,28],[1,30,2,30],[100,9,100,11],[100,36,101,36],[1,34,2,34],[1,36,2,36],[1,39,1,54],[1,9,1,11],[1,13,1,17]]}
[null,null,null,null,null,null,null,null,null,null,null,null,null,null,null,null,null,null,null,"Conflicting Traffic Complexity",null,null,null,null,null,null,null,null,null,null,"Pedestrian Complexity"]
[null,null,null,null,null,null,null,null,null,"Exposure",null,null,null,"Severity",null,null,null,null,null,"Traffic Control",null,"Conflicting Lanes",null,null,null,null,null,"Conflicting Speed",null,null,"Indirect Paths Indicator","Non-intuitive movements indicator","Pedestrian Complexity factor",null,"Total Complexity Multiplier",null,"Exposure-Severity-Complexity Product",null,null,"Included in Mvmt1",null,null,null,null,null,null,null,null,null,null,null,null,null,null,null,null,"Included in Mvmt2"]
["#","Conflict Type","Mvmt1","Mvmt1_gen","Mvmt1_SpeedCat","Mvmt2","Mvmt2_gen","Mvmt2_SpeedCat",null,"Q1","Q2","I",null,"Speed_V1","Speed_V2","Angle","delta_V","P_FSI",null,null,null,"MajC","MinC","MajM/P","MinM/P","Score",null,"Speed","Factor",null,null,null,null,null,null,null,null,null,null,"MajT1","MajL1","MajR1","MajT2","MajL2","MajR2","MinT1","MinL1","MinR1","MinT2","MinL2","MinR2","MajNM1","MajNM2","MinNM1","MinNM2",null,"MajT1","MajL1","MajR1","MajT2","MajL2","MajR2","MinT1","MinL1","MinR1","MinT2","MinL2","MinR2","MajNM1","MajNM2","MinNM1","MinNM2"]
[1,"Crossing","SBT","MinT2","Signal near","WBT","MajT2","Major thru",null,{"$f":"SUMPRODUCT($AN4:$BC4,$AN$54:$BC$54)","v":{"$error":"#VALUE!"}},{"$f":"SUMPRODUCT($BE4:$BT4,$BE$54:$BT$54)","v":{"$error":"#VALUE!"}},{"$f":"PRODUCT(J4:K4)","v":{"$error":"#VALUE!"}},null,{"$f":"VLOOKUP(E4,SSI_AGI_Range_VehSpeed,5,FALSE)","v":15},{"$f":"VLOOKUP(H4,SSI_AGI_Range_VehSpeed,5,FALSE)","v":0},{"$f":"IF(B4=\"Nonmotorized\",\"\",VLOOKUP(B4,SSI_AGI_Range_CollAngles,5,FALSE))","v":90},{"$f":"IF(B4=\"Nonmotorized\",\"\",SQRT(N4^2+O4^2-2*N4*O4*COS(RADIANS(P4)))/2)","v":7.5},{"$f":"IF(B4=\"Nonmotorized\",1/(1+EXP(3.8432-0.1237*O4)),(Q4/SSI_AGI_RegAlpha)^SSI_AGI_RegK+(Q4/SSI_AGI_RegAlpha)^SSI_AGI_RegK-((Q4/SSI_AGI_RegAlpha)^SSI_AGI_RegK)*((Q4/SSI_AGI_RegAlpha)^SSI_AGI_RegK))","v":4.8454301532720461E-4},null,{"$f":"SSI_AGI_ProtFactor","v":0.505},null,2,null,null,null,{"$f":"MAX(1,IF(B4<>\"Pedestrian\",V4*SSI_AGI_MajorThruLanes+W4*SSI_AGI_MinorThruLanes+X4*IF(SSI_AGI_MajorThruLanes=1,SSI_AGI_MergeWeightL1,IF(SSI_AGI_MajorThruLanes=2,SSI_AGI_MergeWeightL1+SSI_AGI_MergeWeightL2,SSI_AGI_MergeWeightL1+SSI_AGI_MergeWeightL2+SSI_AGI_MergeWeightL3*(SSI_AGI_MajorThruLanes-2)))+Y4*IF(SSI_AGI_MinorThruLanes=1,SSI_AGI_MergeWeightL1,IF(SSI_AGI_MinorThruLanes=2,SSI_AGI_MergeWeightL1+SSI_AGI_MergeWeightL2,SSI_AGI_MergeWeightL1+SSI_AGI_MergeWeightL2+SSI_AGI_MergeWeightL3*(SSI_AGI_MinorThruLanes-2))),V4*SSI_AGI_MajorThruLanes+W4*SSI_AGI_MinorThruLanes+X4*IF(SSI_AGI_MajorThruLanes=1,SSI_AGI_NM_MergeWeightL1,IF(SSI_AGI_MajorThruLanes=2,SSI_AGI_NM_MergeWeightL1+SSI_AGI_NM_MergeWeightL2,SSI_AGI_NM_MergeWeightL1+SSI_AGI_NM_MergeWeightL2+SSI_AGI_NM_MergeWeightL3*(SSI_AGI_MajorThruLanes-2)))+Y4*IF(SSI_AGI_MinorThruLanes=1,SSI_AGI_NM_MergeWeightL1,IF(SSI_AGI_MinorThruLanes=2,SSI_AGI_NM_MergeWeightL1+SSI_AGI_NM_MergeWeightL2,SSI_AGI_NM_MergeWeightL1+SSI_AGI_NM_MergeWeightL2+SSI_AGI_NM_MergeWeightL3*(SSI_AGI_MinorThruLanes-2)))))","v":1},null,{"$f":"IF(B4=\"Diverging\",\"\",SSI_AGI_VehSpeed_MjrThru)","v":0},{"$f":"IF(B4=\"Diverging\",1,1-((60-AB4)/60*0.1/0.15))","v":0.33333333333333326},null,null,null,{"$f":"1+AE4+AF4","v":1},null,{"$f":"PRODUCT(Z4,T4,AC4,AG4)","v":0.16833333333333331},null,{"$f":"L4*R4*AI4","v":{"$error":"#VALUE!"}},null,null,{"$f":"IF(ISNUMBER(SEARCH(AN$3,$D4)),1,\"\")","v":""},{"$f":"IF(ISNUMBER(SEARCH(AO$3,$D4)),1,\"\")","v":""},"","","","","","","",1,"","","","","","",null,{"$f":"IF(ISNUMBER(SEARCH(BE$3,$G4)),1,\"\")","v":""},{"$f":"IF(ISNUMBER(SEARCH(BF$3,$G4)),1,\"\")","v":""},"",1,"","","","","","","","","","","",""]
[2,"Crossing - LT","SBL","MinL2","Signal near","WBT","MajT2","Major thru",null,{"$error":"#VALUE!"},{"$error":"#VALUE!"},{"$f":"PRODUCT(J5:K5)","v":{"$error":"#VALUE!"}},null,15,0,230,{"$f":"IF(B5=\"Nonmotorized\",\"\",SQRT(N5^2+O5^2-2*N5*O5*COS(RADIANS(P5)))/2)","v":7.5},4.8454301532720461E-4,null,0.505,null,1,1,1,null,1,null,0,0.33333333333333326,null,null,null,{"$f":"1+AE5+AF5","v":1},null,0.16833333333333331,null,{"$f":"L5*R5*AI5","v":{"$error":"#VALUE!"}},null,null,{"$f":"IF(ISNUMBER(SEARCH(AN$3,$D5)),1,\"\")","v":""},"","","","","","","","","",1,"","","","","",null,{"$f":"IF(ISNUMBER(SEARCH(BE$3,$G5)),1,\"\")","v":""},"","",1,"","","","","","","","","","","",""]
[3,"Crossing","NBT","MinT1","Signal far","WBT","MajT2","Major thru",null,{"$error":"#VALUE!"},{"$error":"#VALUE!"},{"$error":"#VALUE!"},null,25,0,90,12.5,3.3637551692797594E-3,null,0.505,null,2,null,null,null,1,null,0,0.33333333333333326,null,null,null,1,null,0.16833333333333331,null,{"$error":"#VALUE!"},null,null,"","","","","","",1,"","","","","","","","","",null,"","","",1,"","","","","","","","","","","",""]
[4,"Crossing - LT","NBL","MinL1","Signal far","SBT","MinT2","Signal near",null,{"$error":"#VALUE!"},{"$error":"#VALUE!"},{"$error":"#VALUE!"},null,25,15,230,18.248908921254063,1.4099039069818802E-2,null,{"$f":"IF(SSI_AGI_MinorLTPhase=\"Protected/permitted\",SSI_AGI_ProtPermFactor,IF(SSI_AGI_MinorLTPhase=\"Protected\",SSI_AGI_ProtFactor,SSI_AGI_PermFactor))","v":0.92500000000000004},null,1,1,1,null,1,null,0,0.33333333333333326,null,null,null,1,null,0.30833333333333329,null,{"$error":"#VALUE!"},null,null,"","","","","","","",1,"","","","","","","","",null,"","","","","","","","","",1,"","","","","",""]
[5,"Crossing - LT","SBL","MinL2","Signal far","EBT","MajT1","Signal near",null,{"$error":"#VALUE!"},{"$error":"#VALUE!"},{"$error":"#VALUE!"},null,25,15,230,18.248908921254063,1.4099039069818802E-2,null,{"$f":"IF(SSI_AGI_MinorLTPhase=\"Protected/permitted\",SSI_AGI_ProtPermFactor,IF(SSI_AGI_MinorLTPhase=\"Protected\",SSI_AGI_ProtFactor,SSI_AGI_PermFactor))","v":0.92500000000000004},null,1,1,1,null,1,null,0,0.33333333333333326,null,null,null,1,null,0.30833333333333329,null,{"$error":"#VALUE!"},null,null,"","","","","","","","","","",1,"","","","","",null,1,"","","","","","","","","","","","","","",""]
[6,"Crossing","SBT","MinT2","Signal far","EBT","MajT1","Major thru",null,{"$error":"#VALUE!"},{"$error":"#VALUE!"},{"$error":"#VALUE!"},null,25,0,90,12.5,3.3637551692797594E-3,null,0.505,null,2,null,null,null,1,null,0,0.33333333333333326,null,null,null,1,null,0.16833333333333331,null,{"$error":"#VALUE!"},null,null,"","","","","","","","","",1,"","","","","","",null,1,"","","","","","","","","","","","","","",""]
[7,"Crossing - LT","NBL","MinL1","Signal near","EBT","MajT1","Major thru",null,{"$error":"#VALUE!"},{"$error":"#VALUE!"},{"$error":"#VALUE!"},null,15,0,230,7.5,4.8454301532720461E-4,null,0.505,null,1,1,1,null,1,null,0,0.33333333333333326,null,null,null,1,null,0.16833333333333331,null,{"$error":"#VALUE!"},null,null,"","","","","","","",1,"","","","","","","","",null,1,"","","","","","","","","","","","","","",""]
[8,"Crossing","NBT","MinT1","Signal near","EBT","MajT1","Major thru",null,{"$error":"#VALUE!"},{"$error":"#VALUE!"},{"$error":"#VALUE!"},null,15,0,90,7.5,4.8454301532720461E-4,null,0.505,null,2,null,null,null,1,null,0,0.33333333333333326,null,null,null,1,null,0.16833333333333331,null,{"$error":"#VALUE!"},null,null,"","","","","","",1,"","","","","","","","","",null,1,"","","","","","","","","","","","","","",""]
[9,"Crossing - LT","EBL","MajL1","Major left","SBT","MinT2","Signal near",null,{"$error":"#VALUE!"},{"$error":"#VALUE!"},{"$error":"#VALUE!"},null,20,15,230,15.895538413434787,8.3616736100371545E-3,null,0.505,null,2,null,null,null,1,null,0,0.33333333333333326,null,null,null,1,null,0.16833333333333331,null,{"$error":"#VALUE!"},null,null,"",1,"","","","","","","","","","","","","","",null,"","","","","","","","","",1,"","","","","",""]
[10,"Crossing - LT","EBL","MajL1","Major left","SBL","MinL2","Signal near",null,{"$error":"#VALUE!"},{"$error":"#VALUE!"},{"$error":"#VALUE!"},null,20,15,230,15.895538413434787,8.3616736100371545E-3,null,0.505,null,1,1,1,null,1,null,0,0.33333333333333326,null,null,null,1,null,0.16833333333333331,null,{"$error":"#VALUE!"},null,null,"",1,"","","","","","","","","","","","","","",null,"","","","","","","","","","",1,"","","","",""]
[11,"Crossing - LT","WBL","MajL2","Major left","NBL","MinL1","Signal near",null,{"$error":"#VALUE!"},{"$error":"#VALUE!"},{"$error":"#VALUE!"},null,20,15,230,15.895538413434787,8.3616736100371545E-3,null,0.505,null,1,1,1,null,1,null,0,0.33333333333333326,null,null,null,1,null,0.16833333333333331,null,{"$error":"#VALUE!"},null,null,"","","","",1,"","","","","","","","","","","",null,"","","","","","","",1,"","","","","","","",""]
[12,"Crossing - LT","WBL","MajL2","Major left","NBT","MinT1","Signal near",null,{"$error":"#VALUE!"},{"$error":"#VALUE!"},{"$error":"#VALUE!"},null,20,15,230,15.895538413434787,8.3616736100371545E-3,null,0.505,null,2,null,null,null,1,null,0,0.33333333333333326,null,null,null,1,null,0.16833333333333331,null,{"$error":"#VALUE!"},null,null,"","","","",1,"","","","","","","","","","","",null,"","","","","","",1,"","","","","","","","",""]
[13,"Crossing - LT","EBL","MajL1","Major left","WBT","MajT2","Major thru",null,{"$error":"#VALUE!"},{"$error":"#VALUE!"},{"$error":"#VALUE!"},null,20,0,230,10,1.4431392232699444E-3,null,0.505,null,1,null,null,null,1,null,0,0.33333333333333326,null,null,null,1,null,0.16833333333333331,null,{"$error":"#VALUE!"},null,null,"",1,"","","","","","","","","","","","","","",null,"","","",1,"","","","","","","","","","","",""]
[14,"Crossing - LT","WBL","MajL2","Major left","EBT","MajT1","Major thru",null,{"$error":"#VALUE!"},{"$error":"#VALUE!"},{"$error":"#VALUE!"},null,20,0,230,10,1.4431392232699444E-3,null,0.505,null,1,null,null,null,1,null,0,0.33333333333333326,null,null,null,1,null,0.16833333333333331,null,{"$error":"#VALUE!"},null,null,"","","","",1,"","","","","","","","","","","",null,1,"","","","","","","","","","","","","","",""]
[15,"Merging","EBL","MajL1","Major left","NBT","MinT1","Signal far",null,{"$error":"#VALUE!"},{"$error":"#VALUE!"},{"$error":"#VALUE!"},null,20,25,45,8.9147801264732891,9.333798723087925E-4,null,0.505,null,2,null,null,null,1,null,0,0.33333333333333326,null,null,null,1,null,0.16833333333333331,null,{"$error":"#VALUE!"},null,null,"",1,"","","","","","","","","","","","","","",null,"","","","","","",1,"","","","","","","","",""]
[16,"Merging","WBR","MajR2","Major right","NBT","MinT1","Signal far",null,{"$error":"#VALUE!"},{"$error":"#VALUE!"},{"$error":"#VALUE!"},null,15,25,45,8.9396576292116645,9.4329959592674944E-4,null,1,null,2,null,null,null,1,null,0,0.33333333333333326,null,null,null,1,null,0.33333333333333326,null,{"$error":"#VALUE!"},null,null,"","","","","",1,"","","","","","","","","","",null,"","","","","","",1,"","","","","","","","",""]
[17,"Merging","NBL","MinL1","Signal far","WBT","MajT2","Major thru",null,{"$error":"#VALUE!"},{"$error":"#VALUE!"},{"$error":"#VALUE!"},null,25,0,45,12.5,3.3637551692797594E-3,null,{"$f":"SSI_AGI_ProtFactor","v":0.505},null,1,1,1,null,1,null,0,0.33333333333333326,null,null,null,1,null,0.16833333333333331,null,{"$error":"#VALUE!"},null,null,"","","","","","","",1,"","","","","","","","",null,"","","",1,"","","","","","","","","","","",""]
[18,"Merging","SBR","MinR2","Minor right","WBT","MajT2","Major thru",null,{"$error":"#VALUE!"},{"$error":"#VALUE!"},{"$error":"#VALUE!"},null,15,0,45,7.5,4.8454301532720461E-4,null,1,null,null,null,1,null,1,null,0,0.33333333333333326,null,null,null,1,null,0.33333333333333326,null,{"$error":"#VALUE!"},null,null,"","","","","","","","","","","",1,"","","","",null,"","","",1,"","","","","","","","","","","",""]
[19,"Merging","WBL","MajL2","Major left","SBT","MinT2","Signal far",null,{"$error":"#VALUE!"},{"$error":"#VALUE!"},{"$error":"#VALUE!"},null,20,25,45,8.9147801264732891,9.333798723087925E-4,null,{"$f":"SSI_AGI_ProtFactor","v":0.505},null,2,null,null,null,1,null,0,0.33333333333333326,null,null,null,1,null,0.16833333333333331,null,{"$error":"#VALUE!"},null,null,"","","","",1,"","","","","","","","","","","",null,"","","","","","","","","",1,"","","","","",""]
[20,"Merging","EBR","MajR1","Major right","SBT","MinT2","Signal far",null,{"$error":"#VALUE!"},{"$error":"#VALUE!"},{"$error":"#VALUE!"},null,15,25,45,8.9396576292116645,9.4329959592674944E-4,null,1,null,2,null,null,null,1,null,0,0.33333333333333326,null,null,null,1,null,0.33333333333333326,null,{"$error":"#VALUE!"},null,null,"","",1,"","","","","","","","","","","","","",null,"","","","","","","","","",1,"","","","","",""]
[21,"Merging","SBL","MinL2","Signal far","EBT","MajT1","Major thru",null,{"$error":"#VALUE!"},{"$error":"#VALUE!"},{"$error":"#VALUE!"},null,25,0,45,12.5,3.3637551692797594E-3,null,{"$f":"SSI_AGI_ProtFactor","v":0.505},null,1,1,1,null,1,null,0,0.33333333333333326,null,null,null,1,null,0.16833333333333331,null,{"$error":"#VALUE!"},null,null,"","","","","","","","","","",1,"","","","","",null,1,"","","","","","","","","","","","","","",""]
[22,"Merging","NBR","MinR1","Minor right","EBT","MajT1","Major thru",null,{"$error":"#VALUE!"},{"$error":"#VALUE!"},{"$error":"#VALUE!"},null,15,0,45,7.5,4.8454301532720461E-4,null,1,null,null,null,1,null,1,null,0,0.33333333333333326,null,null,null,1,null,0.33333333333333326,null,{"$error":"#VALUE!"},null,null,"","","","","","","","",1,"","","","","","","",null,1,"","","","","","","","","","","","","","",""]
[23,"Diverging","SBT","MinT2","Signal near","SBL","MinL2","Signal near",null,{"$error":"#VALUE!"},{"$error":"#VALUE!"},{"$error":"#VALUE!"},null,15,15,10,1.3073361412148754,6.4061388075216071E-7,null,1,null,null,null,null,null,1,null,"",1,null,null,null,1,null,1,null,{"$error":"#VALUE!"},null,null,"","","","","","","","","",1,"","","","","","",null,"","","","","","","","","","",1,"","","","",""]
[24,"Diverging","SBT","MinT2","Signal near","SBR","MinR2","Minor right",null,{"$error":"#VALUE!"},{"$error":"#VALUE!"},{"$error":"#VALUE!"},null,15,15,10,1.3073361412148754,6.4061388075216071E-7,null,1,null,null,null,null,null,1,null,"",1,null,null,null,1,null,1,null,{"$error":"#VALUE!"},null,null,"","","","","","","","","",1,"","","","","","",null,"","","","","","","","","","","",1,"","","",""]
[25,"Diverging","EBT","MajT1","Major Thru","EBR","MajR1","Major right",null,{"$error":"#VALUE!"},{"$error":"#VALUE!"},{"$error":"#VALUE!"},null,0,15,10,7.5,4.8454301532720461E-4,null,1,null,null,null,null,null,1,null,"",1,null,null,null,1,null,1,null,{"$error":"#VALUE!"},null,null,1,"","","","","","","","","","","","","","","",null,"","",1,"","","","","","","","","","","","",""]
[26,"Diverging","EBT","MajT1","Major Thru","EBL","MajL1","Major left",null,{"$error":"#VALUE!"},{"$error":"#VALUE!"},{"$error":"#VALUE!"},null,0,20,10,10,1.4431392232699444E-3,null,1,null,null,null,null,null,1,null,"",1,null,null,null,1,null,1,null,{"$error":"#VALUE!"},null,null,1,"","","","","","","","","","","","","","","",null,"",1,"","","","","","","","","","","","","",""]
[27,"Diverging","NBT","MinT1","Signal near","NBL","MinL1","Signal near",null,{"$error":"#VALUE!"},{"$error":"#VALUE!"},{"$error":"#VALUE!"},null,15,15,10,1.3073361412148754,6.4061388075216071E-7,null,1,null,null,null,null,null,1,null,"",1,null,null,null,1,null,1,null,{"$error":"#VALUE!"},null,null,"","","","","","",1,"","","","","","","","","",null,"","","","","","","",1,"","","","","","","",""]
[28,"Diverging","NBT","MinT1","Signal near","NBR","MinR1","Minor right",null,{"$error":"#VALUE!"},{"$error":"#VALUE!"},{"$error":"#VALUE!"},null,15,15,10,1.3073361412148754,6.4061388075216071E-7,null,1,null,null,null,null,null,1,null,"",1,null,null,null,1,null,1,null,{"$error":"#VALUE!"},null,null,"","","","","","",1,"","","","","","","","","",null,"","","","","","","","",1,"","","","","","",""]
[29,"Diverging","WBT","MajT2","Major Thru","WBR","MajR2","Major right",null,{"$error":"#VALUE!"},{"$error":"#VALUE!"},{"$error":"#VALUE!"},null,0,15,10,7.5,4.8454301532720461E-4,null,1,null,null,null,null,null,1,null,"",1,null,null,null,1,null,1,null,{"$error":"#VALUE!"},null,null,"","","",1,"","","","","","","","","","","","",null,"","","","","",1,"","","","","","","","","",""]
[30,"Diverging","WBT","MajT2","Major Thru","WBL","MajL2","Major left",null,{"$error":"#VALUE!"},{"$error":"#VALUE!"},{"$error":"#VALUE!"},null,0,20,10,10,1.4431392232699444E-3,null,1,null,null,null,null,null,1,null,"",1,null,null,null,1,null,1,null,{"$error":"#VALUE!"},null,null,"","","",1,"","","","","","","","","","","","",null,"","","","",1,"","","","","","","","","","",""]
[31,"Nonmotorized",null,"MajNM1, MinNM2","Nonmotorized","SBR","MinR2","Minor right",null,{"$error":"#VALUE!"},{"$error":"#VALUE!"},{"$error":"#VALUE!"},null,0,15,"","",0.1205004039155782,null,1,null,null,1,null,null,1,null,{"$f":"IF(B34=\"Diverging\",\"\",SSI_AGI_VehSpeed_MnrThru)","v":0},0.33333333333333326,null,1,1,3,null,0.99999999999999978,null,{"$error":"#VALUE!"},null,null,"","","","","","","","","","","","",1,"","",1,null,"","","","","","","","","","","",1,"","","",""]
[32,"Nonmotorized",null,"MajNM1","Nonmotorized","EBL","MajL1","Major left",null,{"$error":"#VALUE!"},{"$error":"#VALUE!"},{"$error":"#VALUE!"},null,0,20,"","",0.20274912921655375,null,{"$f":"SSI_AGI_ProtFactor","v":0.505},null,1,null,null,null,1,null,{"$f":"IF(B35=\"Diverging\",\"\",SSI_AGI_VehSpeed_MjrThru)","v":0},0.33333333333333326,null,1,1,3,null,0.50499999999999989,null,{"$error":"#VALUE!"},null,null,{"$f":"IF(ISNUMBER(SEARCH(AN$3,$D35)),1,\"\")","v":""},"","","","","","","","","","","",1,"","","",null,{"$f":"IF(ISNUMBER(SEARCH(BE$3,$G35)),1,\"\")","v":""},1,"","","","","","","","","","","","","",""]
[33,"Nonmotorized",null,"MajNM1","Nonmotorized","WBT","MajT2","Major thru",null,{"$error":"#VALUE!"},{"$error":"#VALUE!"},{"$error":"#VALUE!"},null,{"$f":"VLOOKUP(E36,SSI_AGI_Range_VehSpeed,5,FALSE)","v":0},{"$f":"VLOOKUP(H36,SSI_AGI_Range_VehSpeed,5,FALSE)","v":0},"",{"$f":"IF(B36=\"Nonmotorized\",\"\",SQRT(N36^2+O36^2-2*N36*O36*COS(RADIANS(P36)))/2)","v":""},{"$f":"IF(B36=\"Nonmotorized\",1/(1+EXP(3.8432-0.1237*O36)),(Q36/SSI_AGI_RegAlpha)^SSI_AGI_RegK+(Q36/SSI_AGI_RegAlpha)^SSI_AGI_RegK-((Q36/SSI_AGI_RegAlpha)^SSI_AGI_RegK)*((Q36/SSI_AGI_RegAlpha)^SSI_AGI_RegK))","v":2.0975532400616122E-2},null,{"$f":"SSI_AGI_ProtFactor","v":0.505},null,2,null,null,1,{"$f":"MAX(1,IF(B36<>\"Pedestrian\",V36*SSI_AGI_MajorThruLanes+W36*SSI_AGI_MinorThruLanes+X36*IF(SSI_AGI_MajorThruLanes=1,SSI_AGI_MergeWeightL1,IF(SSI_AGI_MajorThruLanes=2,SSI_AGI_MergeWeightL1+SSI_AGI_MergeWeightL2,SSI_AGI_MergeWeightL1+SSI_AGI_MergeWeightL2+SSI_AGI_MergeWeightL3*(SSI_AGI_MajorThruLanes-2)))+Y36*IF(SSI_AGI_MinorThruLanes=1,SSI_AGI_MergeWeightL1,IF(SSI_AGI_MinorThruLanes=2,SSI_AGI_MergeWeightL1+SSI_AGI_MergeWeightL2,SSI_AGI_MergeWeightL1+SSI_AGI_MergeWeightL2+SSI_AGI_MergeWeightL3*(SSI_AGI_MinorThruLanes-2))),V36*SSI_AGI_MajorThruLanes+W36*SSI_AGI_MinorThruLanes+X36*IF(SSI_AGI_MajorThruLanes=1,SSI_AGI_NM_MergeWeightL1,IF(SSI_AGI_MajorThruLanes=2,SSI_AGI_NM_MergeWeightL1+SSI_AGI_NM_MergeWeightL2,SSI_AGI_NM_MergeWeightL1+SSI_AGI_NM_MergeWeightL2+SSI_AGI_NM_MergeWeightL3*(SSI_AGI_MajorThruLanes-2)))+Y36*IF(SSI_AGI_MinorThruLanes=1,SSI_AGI_NM_MergeWeightL1,IF(SSI_AGI_MinorThruLanes=2,SSI_AGI_NM_MergeWeightL1+SSI_AGI_NM_MergeWeightL2,SSI_AGI_NM_MergeWeightL1+SSI_AGI_NM_MergeWeightL2+SSI_AGI_NM_MergeWeightL3*(SSI_AGI_MinorThruLanes-2)))))","v":1},null,0,0.33333333333333326,null,1,1,3,null,0.50499999999999989,null,{"$error":"#VALUE!"},null,null,"","","","","","","","","","","","",1,"","","",null,"","","",1,"","","","","","","","","","","",""]
[34,"Nonmotorized",null,"MajNM1","Nonmotorized","NBL","MinL1","Signal far",null,{"$error":"#VALUE!"},{"$error":"#VALUE!"},{"$f":"PRODUCT(J37:K37)","v":{"$error":"#VALUE!"}},null,0,25,"","",0.32066879346345062,null,{"$f":"IF(SSI_AGI_MinorLTPhase=\"Protected/permitted\",SSI_AGI_ProtPermFactor,IF(SSI_AGI_MinorLTPhase=\"Protected\",SSI_AGI_ProtFactor,SSI_AGI_PermFactor))","v":0.92500000000000004},null,2,null,null,1,1,null,0,0.33333333333333326,null,1,1,3,null,0.92499999999999982,null,{"$error":"#VALUE!"},null,null,"","","","","","","","","","","","",1,"","","",null,"","","","","","","",1,"","","","","","","",""]
[35,"Nonmotorized",null,"MajNM1","Nonmotorized","EBT","MajT1","Major thru",null,{"$error":"#VALUE!"},{"$error":"#VALUE!"},{"$error":"#VALUE!"},null,0,0,"","",2.0975532400616122E-2,null,{"$f":"SSI_AGI_ProtFactor","v":0.505},null,2,null,null,1,1,null,0,0.33333333333333326,null,1,1,3,null,0.50499999999999989,null,{"$error":"#VALUE!"},null,null,"","","","","","","","","","","","",1,"","","",null,1,"","","","","","","","","","","","","","",""]
[36,"Nonmotorized",null,"MinNM1, MajNM1","Nonmotorized","EBR","MajR1","Major right",null,{"$error":"#VALUE!"},{"$error":"#VALUE!"},{"$error":"#VALUE!"},null,0,15,"","",0.1205004039155782,null,1,null,1,null,null,null,1,null,0,0.33333333333333326,null,1,1,3,null,0.99999999999999978,null,{"$error":"#VALUE!"},null,null,"","","","","","","","","","","","",1,"",1,"",null,"","",1,"","","","","","","","","","","","",""]
[37,"Nonmotorized",null,"MinNM2","Nonmotorized","SBT","MinT2","Signal near",null,{"$error":"#VALUE!"},{"$error":"#VALUE!"},{"$error":"#VALUE!"},null,0,15,"","",0.1205004039155782,null,{"$f":"SSI_AGI_ProtFactor","v":0.505},null,null,2,1,null,1,null,0,0.33333333333333326,null,1,1,3,null,0.50499999999999989,null,{"$error":"#VALUE!"},null,null,"","","","","","","","","","","","","","","",1,null,"","","","","","","","","",1,"","","","","",""]
[38,"Nonmotorized",null,"MinNM2","Nonmotorized","SBL","MinL2","Signal near",null,{"$error":"#VALUE!"},{"$error":"#VALUE!"},{"$error":"#VALUE!"},null,0,15,"","",0.1205004039155782,null,{"$f":"SSI_AGI_ProtFactor","v":0.505},null,null,2,1,null,1,null,0,0.33333333333333326,null,1,1,3,null,0.50499999999999989,null,{"$error":"#VALUE!"},null,null,"","","","","","","","","","","","","","","",1,null,"","","","","","","","","","",1,"","","","",""]
[39,"Nonmotorized",null,"MinNM2","Nonmotorized","EBL","MajL1","Major left",null,{"$error":"#VALUE!"},{"$error":"#VALUE!"},{"$error":"#VALUE!"},null,0,20,"","",0.20274912921655375,null,{"$f":"SSI_AGI_ProtFactor","v":0.505},null,null,2,1,null,1,null,0,0.33333333333333326,null,1,1,3,null,0.50499999999999989,null,{"$error":"#VALUE!"},null,null,"","","","","","","","","","","","","","","",1,null,"",1,"","","","","","","","","","","","","",""]
[40,"Nonmotorized",null,"MinNM2","Nonmotorized","NBT","MinT1","Signal far",null,{"$error":"#VALUE!"},{"$error":"#VALUE!"},{"$error":"#VALUE!"},null,0,25,"","",0.32066879346345062,null,{"$f":"SSI_AGI_ProtFactor","v":0.505},null,null,2,1,null,1,null,0,0.33333333333333326,null,1,1,3,null,0.50499999999999989,null,{"$error":"#VALUE!"},null,null,"","","","","","","","","","","","","","","",1,null,"","","","","","",1,"","","","","","","","",""]
[41,"Nonmotorized",null,"MinNM1, MajNM2","Nonmotorized","WBR","MajR2","Major right",null,{"$error":"#VALUE!"},{"$error":"#VALUE!"},{"$error":"#VALUE!"},null,0,15,"","",0.1205004039155782,null,1,null,1,null,null,null,1,null,0,0.33333333333333326,null,1,1,3,null,0.99999999999999978,null,{"$error":"#VALUE!"},null,null,"","","","","","","","","","","","","",1,1,"",null,"","","","","",1,"","","","","","","","","",""]
[42,"Nonmotorized",null,"MinNM1","Nonmotorized","SBT","MinT2","Signal far",null,{"$error":"#VALUE!"},{"$error":"#VALUE!"},{"$error":"#VALUE!"},null,0,25,"","",0.32066879346345062,null,{"$f":"SSI_AGI_ProtFactor","v":0.505},null,null,2,1,null,1,null,0,0.33333333333333326,null,1,1,3,null,0.50499999999999989,null,{"$error":"#VALUE!"},null,null,"","","","","","","","","","","","","","",1,"",null,"","","","","","","","","",1,"","","","","",""]
[43,"Nonmotorized",null,"MinNM1","Nonmotorized","WBL","MajL2","Major left",null,{"$error":"#VALUE!"},{"$error":"#VALUE!"},{"$error":"#VALUE!"},null,0,20,"","",0.20274912921655375,null,{"$f":"SSI_AGI_ProtFactor","v":0.505},null,null,2,1,null,1,null,0,0.33333333333333326,null,1,1,3,null,0.50499999999999989,null,{"$error":"#VALUE!"},null,null,"","","","","","","","","","","","","","",1,"",null,"","","","",1,"","","","","","","","","","",""]
[44,"Nonmotorized",null,"MinNM1","Nonmotorized","NBL","MinL1","Signal near",null,{"$error":"#VALUE!"},{"$error":"#VALUE!"},{"$error":"#VALUE!"},null,0,15,"","",0.1205004039155782,null,{"$f":"SSI_AGI_ProtFactor","v":0.505},null,null,2,1,null,1,null,0,0.33333333333333326,null,1,1,3,null,0.50499999999999989,null,{"$error":"#VALUE!"},null,null,"","","","","","","","","","","","","","",1,"",null,"","","","","","","",1,"","","","","","","",""]
[45,"Nonmotorized",null,"MinNM1","Nonmotorized","NBT","MinT1","Signal near",null,{"$error":"#VALUE!"},{"$error":"#VALUE!"},{"$error":"#VALUE!"},null,0,15,"","",0.1205004039155782,null,{"$f":"SSI_AGI_ProtFactor","v":0.505},null,null,2,1,null,1,null,0,0.33333333333333326,null,1,1,3,null,0.50499999999999989,null,{"$error":"#VALUE!"},null,null,"","","","","","","","","","","","","","",1,"",null,"","","","","","",1,"","","","","","","","",""]
[46,"Nonmotorized",null,"MajNM2, MinNM2","Nonmotorized","NBR","MinR1","Minor right",null,{"$error":"#VALUE!"},{"$error":"#VALUE!"},{"$error":"#VALUE!"},null,0,15,"","",0.1205004039155782,null,1,null,null,1,null,null,1,null,{"$f":"IF(B49=\"Diverging\",\"\",SSI_AGI_VehSpeed_MnrThru)","v":0},0.33333333333333326,null,1,1,3,null,0.99999999999999978,null,{"$error":"#VALUE!"},null,null,"","","","","","","","","","","","","",1,"",1,null,"","","","","","","","",1,"","","","","","",""]
[47,"Nonmotorized",null,"MajNM2","Nonmotorized","WBL","MajL2","Major left",null,{"$error":"#VALUE!"},{"$error":"#VALUE!"},{"$error":"#VALUE!"},null,0,20,"","",0.20274912921655375,null,{"$f":"SSI_AGI_ProtFactor","v":0.505},null,1,null,null,null,1,null,{"$f":"IF(B50=\"Diverging\",\"\",SSI_AGI_VehSpeed_MjrThru)","v":0},0.33333333333333326,null,1,1,3,null,0.50499999999999989,null,{"$error":"#VALUE!"},null,null,"","","","","","","","","","","","","",1,"",{"$f":"IF(ISNUMBER(SEARCH(BC$3,$D50)),1,\"\")","v":""},null,"","","","",1,"","","","","","","","","","",{"$f":"IF(ISNUMBER(SEARCH(BT$3,$G50)),1,\"\")","v":""}]
[48,"Nonmotorized",null,"MajNM2","Nonmotorized","EBT","MajT1","Major thru",null,{"$error":"#VALUE!"},{"$error":"#VALUE!"},{"$error":"#VALUE!"},null,0,0,"","",2.0975532400616122E-2,null,{"$f":"SSI_AGI_ProtFactor","v":0.505},null,2,null,null,1,1,null,{"$f":"IF(B51=\"Diverging\",\"\",SSI_AGI_VehSpeed_MjrThru)","v":0},0.33333333333333326,null,1,1,3,null,0.50499999999999989,null,{"$error":"#VALUE!"},null,null,{"$f":"IF(ISNUMBER(SEARCH(AN$3,$D51)),1,\"\")","v":""},"","","","","","","","","","","","",1,"","",null,{"$f":"IF(ISNUMBER(SEARCH(BE$3,$G51)),1,\"\")","v":1},"","","","","","","","","","","","","","",""]
[49,"Nonmotorized",null,"MajNM2","Nonmotorized","SBL","MinL2","Signal far",null,{"$error":"#VALUE!"},{"$error":"#VALUE!"},{"$error":"#VALUE!"},null,0,25,null,null,0.32066879346345062,null,{"$f":"IF(SSI_AGI_MinorLTPhase=\"Protected/permitted\",SSI_AGI_ProtPermFactor,IF(SSI_AGI_MinorLTPhase=\"Protected\",SSI_AGI_ProtFactor,SSI_AGI_PermFactor))","v":0.92500000000000004},null,2,null,null,1,1,null,{"$f":"IF(B52=\"Diverging\",\"\",SSI_AGI_VehSpeed_MjrThru)","v":0},0.33333333333333326,null,1,1,3,null,{"$f":"PRODUCT(Z52,T52,AC52,AG52)","v":0.92499999999999982},null,{"$error":"#VALUE!"},null,null,"","","","","","","","","","","","","",1,"","",null,"","","","","","","","","","",1,"","","","",""]
[50,"Nonmotorized",null,"MajNM2","Nonmotorized","WBT","MajT2","Major thru",null,{"$error":"#VALUE!"},{"$error":"#VALUE!"},{"$error":"#VALUE!"},null,0,0,null,null,2.0975532400616122E-2,null,{"$f":"SSI_AGI_ProtFactor","v":0.505},null,2,null,null,1,1,null,{"$f":"IF(B53=\"Diverging\",\"\",SSI_AGI_VehSpeed_MjrThru)","v":0},0.33333333333333326,null,1,1,3,null,0.50499999999999989,null,{"$error":"#VALUE!"},null,null,"","","","","","","","","","","","","",1,"","",null,"","","",1,"","","","","","","","","","","",""]
[null,null,null,null,null,null,null,null,null,null,null,null,null,null,null,null,null,null,null,null,null,null,null,null,null,null,null,null,null,null,null,null,null,null,null,null,null,null,"O",{"$f":"'SSI Inputs'!$D$26","v":{"$error":"#VALUE!"}},{"$f":"'SSI Inputs'!$D$27","v":{"$error":"#VALUE!"}},{"$f":"'SSI Inputs'!$D$28","v":{"$error":"#VALUE!"}},{"$f":"'SSI Inputs'!$D$30","v":{"$error":"#VALUE!"}},{"$f":"'SSI Inputs'!$D$31","v":{"$error":"#VALUE!"}},{"$f":"'SSI Inputs'!$D$32","v":{"$error":"#VALUE!"}},{"$f":"'SSI Inputs'!$D$34","v":{"$error":"#VALUE!"}},{"$f":"'SSI Inputs'!$D$35","v":{"$error":"#VALUE!"}},{"$f":"'SSI Inputs'!$D$36","v":{"$error":"#VALUE!"}},{"$f":"'SSI Inputs'!$D$38","v":{"$error":"#VALUE!"}},{"$f":"'SSI Inputs'!$D$39","v":{"$error":"#VALUE!"}},{"$f":"'SSI Inputs'!$D$40","v":{"$error":"#VALUE!"}},{"$f":"'SSI Inputs'!$Q$18","v":12.5},{"$f":"'SSI Inputs'!$Q$19","v":12.5},{"$f":"'SSI Inputs'!$Q$20","v":12.5},{"$f":"'SSI Inputs'!$Q$21","v":12.5},"O",{"$f":"'SSI Inputs'!$D$26","v":{"$error":"#VALUE!"}},{"$f":"'SSI Inputs'!$D$27","v":{"$error":"#VALUE!"}},{"$f":"'SSI Inputs'!$D$28","v":{"$error":"#VALUE!"}},{"$f":"'SSI Inputs'!$D$30","v":{"$error":"#VALUE!"}},{"$f":"'SSI Inputs'!$D$31","v":{"$error":"#VALUE!"}},{"$f":"'SSI Inputs'!$D$32","v":{"$error":"#VALUE!"}},{"$f":"'SSI Inputs'!$D$34","v":{"$error":"#VALUE!"}},{"$f":"'SSI Inputs'!$D$35","v":{"$error":"#VALUE!"}},{"$f":"'SSI Inputs'!$D$36","v":{"$error":"#VALUE!"}},{"$f":"'SSI Inputs'!$D$38","v":{"$error":"#VALUE!"}},{"$f":"'SSI Inputs'!$D$39","v":{"$error":"#VALUE!"}},{"$f":"'SSI Inputs'!$D$40","v":{"$error":"#VALUE!"}},{"$f":"'SSI Inputs'!$Q$18","v":12.5},{"$f":"'SSI Inputs'!$Q$19","v":12.5},{"$f":"'SSI Inputs'!$Q$20","v":12.5},{"$f":"'SSI Inputs'!$Q$21","v":12.5}]
[null,null,null,null,null,null,null,null,null,null,null,null,null,null,null,null,null,null,null,null,null,null,null,null,null,null,null,null,null,null,null,null,null,null,null,null,null,null,"D",{"$f":"'SSI Inputs'!$E$26","v":{"$error":"#VALUE!"}},{"$f":"'SSI Inputs'!$E$27","v":{"$error":"#VALUE!"}},{"$f":"'SSI Inputs'!$E$28","v":{"$error":"#VALUE!"}},{"$f":"'SSI Inputs'!$E$30","v":{"$error":"#VALUE!"}},{"$f":"'SSI Inputs'!$E$31","v":{"$error":"#VALUE!"}},{"$f":"'SSI Inputs'!$E$32","v":{"$error":"#VALUE!"}},{"$f":"'SSI Inputs'!$E$34","v":{"$error":"#VALUE!"}},{"$f":"'SSI Inputs'!$E$35","v":{"$error":"#VALUE!"}},{"$f":"'SSI Inputs'!$E$36","v":{"$error":"#VALUE!"}},{"$f":"'SSI Inputs'!$E$38","v":{"$error":"#VALUE!"}},{"$f":"'SSI Inputs'!$E$39","v":{"$error":"#VALUE!"}},{"$f":"'SSI Inputs'!$E$40","v":{"$error":"#VALUE!"}},{"$f":"'SSI Inputs'!$R$18","v":12.5},{"$f":"'SSI Inputs'!$R$19","v":12.5},{"$f":"'SSI Inputs'!$R$20","v":12.5},{"$f":"'SSI Inputs'!$R$21","v":12.5},"D",{"$f":"'SSI Inputs'!$E$26","v":{"$error":"#VALUE!"}},{"$f":"'SSI Inputs'!$E$27","v":{"$error":"#VALUE!"}},{"$f":"'SSI Inputs'!$E$28","v":{"$error":"#VALUE!"}},{"$f":"'SSI Inputs'!$E$30","v":{"$error":"#VALUE!"}},{"$f":"'SSI Inputs'!$E$31","v":{"$error":"#VALUE!"}},{"$f":"'SSI Inputs'!$E$32","v":{"$error":"#VALUE!"}},{"$f":"'SSI Inputs'!$E$34","v":{"$error":"#VALUE!"}},{"$f":"'SSI Inputs'!$E$35","v":{"$error":"#VALUE!"}},{"$f":"'SSI Inputs'!$E$36","v":{"$error":"#VALUE!"}},{"$f":"'SSI Inputs'!$E$38","v":{"$error":"#VALUE!"}},{"$f":"'SSI Inputs'!$E$39","v":{"$error":"#VALUE!"}},{"$f":"'SSI Inputs'!$E$40","v":{"$error":"#VALUE!"}},{"$f":"'SSI Inputs'!$R$18","v":12.5},{"$f":"'SSI Inputs'!$R$19","v":12.5},{"$f":"'SSI Inputs'!$R$20","v":12.5},{"$f":"'SSI Inputs'!$R$21","v":12.5}]
[]
[]
[]
[]
[]
[]
[]
[]
[]
[]
[]
[]
[]
[]
[]
[]
[]
[]
[]
[]
[]
[]
[]
[]
[]
[]
[]
[]
[]
[]
[]
[]
[]
[]
[]
[]
[]
[]
[]
[]
[]
[]
[]
[]
[]
[null,null,null,null,null,null,null,null,null,"Exposure",null,null,null,null,null,null,null,null,null,null,null,null,null,null,null,null,null,null,null,null,null,null,null,null,null,null,"Exposure-Severity-Complexity Product"]
[null,null,null,null,null,null,null,null,null,"Q1","Q2","I"]
[null,null,null,null,null,null,null,null,null,{"$f":"SUMPRODUCT($AN4:$BC4,$AN$55:$BC$55)","v":{"$error":"#VALUE!"}},{"$f":"SUMPRODUCT($BE4:$BT4,$BE$55:$BT$55)","v":{"$error":"#VALUE!"}},{"$f":"PRODUCT(J103:K103)","v":{"$error":"#VALUE!"}},null,null,null,null,null,null,null,null,null,null,null,null,null,null,null,null,null,null,null,null,null,null,null,null,{"$f":"L103*R4*AI4","v":{"$error":"#VALUE!"}}]
[null,null,null,null,null,null,null,null,null,{"$f":"SUMPRODUCT($AN5:$BC5,$AN$55:$BC$55)","v":{"$error":"#VALUE!"}},{"$f":"SUMPRODUCT($BE5:$BT5,$BE$55:$BT$55)","v":{"$error":"#VALUE!"}},{"$f":"PRODUCT(J104:K104)","v":{"$error":"#VALUE!"}},null,null,null,null,null,null,null,null,null,null,null,null,null,null,null,null,null,null,null,null,null,null,null,null,{"$f":"L104*R5*AI5","v":{"$error":"#VALUE!"}}]
[null,null,null,null,null,null,null,null,null,{"$error":"#VALUE!"},{"$error":"#VALUE!"},{"$error":"#VALUE!"},null,null,null,null,null,null,null,null,null,null,null,null,null,null,null,null,null,null,null,null,null,null,null,null,{"$error":"#VALUE!"}]
[null,null,null,null,null,null,null,null,null,{"$error":"#VALUE!"},{"$error":"#VALUE!"},{"$error":"#VALUE!"},null,null,null,null,null,null,null,null,null,null,null,null,null,null,null,null,null,null,null,null,null,null,null,null,{"$error":"#VALUE!"}]
[null,null,null,null,null,null,null,null,null,{"$error":"#VALUE!"},{"$error":"#VALUE!"},{"$error":"#VALUE!"},null,null,null,null,null,null,null,null,null,null,null,null,null,null,null,null,null,null,null,null,null,null,null,null,{"$error":"#VALUE!"}]
[null,null,null,null,null,null,null,null,null,{"$error":"#VALUE!"},{"$error":"#VALUE!"},{"$error":"#VALUE!"},null,null,null,null,null,null,null,null,null,null,null,null,null,null,null,null,null,null,null,null,null,null,null,null,{"$error":"#VALUE!"}]
[null,null,null,null,null,null,null,null,null,{"$error":"#VALUE!"},{"$error":"#VALUE!"},{"$error":"#VALUE!"},null,null,null,null,null,null,null,null,null,null,null,null,null,null,null,null,null,null,null,null,null,null,null,null,{"$error":"#VALUE!"}]
[null,null,null,null,null,null,null,null,null,{"$error":"#VALUE!"},{"$error":"#VALUE!"},{"$error":"#VALUE!"},null,null,null,null,null,null,null,null,null,null,null,null,null,null,null,null,null,null,null,null,null,null,null,null,{"$error":"#VALUE!"}]
[null,null,null,null,null,null,null,null,null,{"$error":"#VALUE!"},{"$error":"#VALUE!"},{"$error":"#VALUE!"},null,null,null,null,null,null,null,null,null,null,null,null,null,null,null,null,null,null,null,null,null,null,null,null,{"$error":"#VALUE!"}]
[null,null,null,null,null,null,null,null,null,{"$error":"#VALUE!"},{"$error":"#VALUE!"},{"$error":"#VALUE!"},null,null,null,null,null,null,null,null,null,null,null,null,null,null,null,null,null,null,null,null,null,null,null,null,{"$error":"#VALUE!"}]
[null,null,null,null,null,null,null,null,null,{"$error":"#VALUE!"},{"$error":"#VALUE!"},{"$error":"#VALUE!"},null,null,null,null,null,null,null,null,null,null,null,null,null,null,null,null,null,null,null,null,null,null,null,null,{"$error":"#VALUE!"}]
[null,null,null,null,null,null,null,null,null,{"$error":"#VALUE!"},{"$error":"#VALUE!"},{"$error":"#VALUE!"},null,null,null,null,null,null,null,null,null,null,null,null,null,null,null,null,null,null,null,null,null,null,null,null,{"$error":"#VALUE!"}]
[null,null,null,null,null,null,null,null,null,{"$error":"#VALUE!"},{"$error":"#VALUE!"},{"$error":"#VALUE!"},null,null,null,null,null,null,null,null,null,null,null,null,null,null,null,null,null,null,null,null,null,null,null,null,{"$error":"#VALUE!"}]
[null,null,null,null,null,null,null,null,null,{"$error":"#VALUE!"},{"$error":"#VALUE!"},{"$error":"#VALUE!"},null,null,null,null,null,null,null,null,null,null,null,null,null,null,null,null,null,null,null,null,null,null,null,null,{"$error":"#VALUE!"}]
[null,null,null,null,null,null,null,null,null,{"$error":"#VALUE!"},{"$error":"#VALUE!"},{"$error":"#VALUE!"},null,null,null,null,null,null,null,null,null,null,null,null,null,null,null,null,null,null,null,null,null,null,null,null,{"$error":"#VALUE!"}]
[null,null,null,null,null,null,null,null,null,{"$error":"#VALUE!"},{"$error":"#VALUE!"},{"$error":"#VALUE!"},null,null,null,null,null,null,null,null,null,null,null,null,null,null,null,null,null,null,null,null,null,null,null,null,{"$error":"#VALUE!"}]
[null,null,null,null,null,null,null,null,null,{"$error":"#VALUE!"},{"$error":"#VALUE!"},{"$error":"#VALUE!"},null,null,null,null,null,null,null,null,null,null,null,null,null,null,null,null,null,null,null,null,null,null,null,null,{"$error":"#VALUE!"}]
[null,null,null,null,null,null,null,null,null,{"$error":"#VALUE!"},{"$error":"#VALUE!"},{"$error":"#VALUE!"},null,null,null,null,null,null,null,null,null,null,null,null,null,null,null,null,null,null,null,null,null,null,null,null,{"$error":"#VALUE!"}]
[null,null,null,null,null,null,null,null,null,{"$error":"#VALUE!"},{"$error":"#VALUE!"},{"$error":"#VALUE!"},null,null,null,null,null,null,null,null,null,null,null,null,null,null,null,null,null,null,null,null,null,null,null,null,{"$error":"#VALUE!"}]
[null,null,null,null,null,null,null,null,null,{"$error":"#VALUE!"},{"$error":"#VALUE!"},{"$error":"#VALUE!"},null,null,null,null,null,null,null,null,null,null,null,null,null,null,null,null,null,null,null,null,null,null,null,null,{"$error":"#VALUE!"}]
[null,null,null,null,null,null,null,null,null,{"$error":"#VALUE!"},{"$error":"#VALUE!"},{"$error":"#VALUE!"},null,null,null,null,null,null,null,null,null,null,null,null,null,null,null,null,null,null,null,null,null,null,null,null,{"$error":"#VALUE!"}]
[null,null,null,null,null,null,null,null,null,{"$error":"#VALUE!"},{"$error":"#VALUE!"},{"$error":"#VALUE!"},null,null,null,null,null,null,null,null,null,null,null,null,null,null,null,null,null,null,null,null,null,null,null,null,{"$error":"#VALUE!"}]
[null,null,null,null,null,null,null,null,null,{"$error":"#VALUE!"},{"$error":"#VALUE!"},{"$error":"#VALUE!"},null,null,null,null,null,null,null,null,null,null,null,null,null,null,null,null,null,null,null,null,null,null,null,null,{"$error":"#VALUE!"}]
[null,null,null,null,null,null,null,null,null,{"$error":"#VALUE!"},{"$error":"#VALUE!"},{"$error":"#VALUE!"},null,null,null,null,null,null,null,null,null,null,null,null,null,null,null,null,null,null,null,null,null,null,null,null,{"$error":"#VALUE!"}]
[null,null,null,null,null,null,null,null,null,{"$error":"#VALUE!"},{"$error":"#VALUE!"},{"$error":"#VALUE!"},null,null,null,null,null,null,null,null,null,null,null,null,null,null,null,null,null,null,null,null,null,null,null,null,{"$error":"#VALUE!"}]
[null,null,null,null,null,null,null,null,null,{"$error":"#VALUE!"},{"$error":"#VALUE!"},{"$error":"#VALUE!"},null,null,null,null,null,null,null,null,null,null,null,null,null,null,null,null,null,null,null,null,null,null,null,null,{"$error":"#VALUE!"}]
[null,null,null,null,null,null,null,null,null,{"$error":"#VALUE!"},{"$error":"#VALUE!"},{"$error":"#VALUE!"},null,null,null,null,null,null,null,null,null,null,null,null,null,null,null,null,null,null,null,null,null,null,null,null,{"$error":"#VALUE!"}]
[null,null,null,null,null,null,null,null,null,{"$error":"#VALUE!"},{"$error":"#VALUE!"},{"$error":"#VALUE!"},null,null,null,null,null,null,null,null,null,null,null,null,null,null,null,null,null,null,null,null,null,null,null,null,{"$error":"#VALUE!"}]
[null,null,null,null,null,null,null,null,null,{"$error":"#VALUE!"},{"$error":"#VALUE!"},{"$error":"#VALUE!"},null,null,null,null,null,null,null,null,null,null,null,null,null,null,null,null,null,null,null,null,null,null,null,null,{"$error":"#VALUE!"}]
[null,null,null,null,null,null,null,null,null,{"$error":"#VALUE!"},{"$error":"#VALUE!"},{"$error":"#VALUE!"},null,null,null,null,null,null,null,null,null,null,null,null,null,null,null,null,null,null,null,null,null,null,null,null,{"$error":"#VALUE!"}]
[null,null,null,null,null,null,null,null,null,{"$error":"#VALUE!"},{"$error":"#VALUE!"},{"$error":"#VALUE!"},null,null,null,null,null,null,null,null,null,null,null,null,null,null,null,null,null,null,null,null,null,null,null,null,{"$error":"#VALUE!"}]
[null,null,null,null,null,null,null,null,null,{"$error":"#VALUE!"},{"$error":"#VALUE!"},{"$error":"#VALUE!"},null,null,null,null,null,null,null,null,null,null,null,null,null,null,null,null,null,null,null,null,null,null,null,null,{"$error":"#VALUE!"}]
[null,null,null,null,null,null,null,null,null,{"$error":"#VALUE!"},{"$error":"#VALUE!"},{"$error":"#VALUE!"},null,null,null,null,null,null,null,null,null,null,null,null,null,null,null,null,null,null,null,null,null,null,null,null,{"$error":"#VALUE!"}]
[null,null,null,null,null,null,null,null,null,{"$error":"#VALUE!"},{"$error":"#VALUE!"},{"$error":"#VALUE!"},null,null,null,null,null,null,null,null,null,null,null,null,null,null,null,null,null,null,null,null,null,null,null,null,{"$error":"#VALUE!"}]
[null,null,null,null,null,null,null,null,null,{"$error":"#VALUE!"},{"$error":"#VALUE!"},{"$error":"#VALUE!"},null,null,null,null,null,null,null,null,null,null,null,null,null,null,null,null,null,null,null,null,null,null,null,null,{"$error":"#VALUE!"}]
[null,null,null,null,null,null,null,null,null,{"$error":"#VALUE!"},{"$error":"#VALUE!"},{"$error":"#VALUE!"},null,null,null,null,null,null,null,null,null,null,null,null,null,null,null,null,null,null,null,null,null,null,null,null,{"$error":"#VALUE!"}]
[null,null,null,null,null,null,null,null,null,{"$error":"#VALUE!"},{"$error":"#VALUE!"},{"$error":"#VALUE!"},null,null,null,null,null,null,null,null,null,null,null,null,null,null,null,null,null,null,null,null,null,null,null,null,{"$error":"#VALUE!"}]
[null,null,null,null,null,null,null,null,null,{"$error":"#VALUE!"},{"$error":"#VALUE!"},{"$error":"#VALUE!"},null,null,null,null,null,null,null,null,null,null,null,null,null,null,null,null,null,null,null,null,null,null,null,null,{"$error":"#VALUE!"}]
[null,null,null,null,null,null,null,null,null,{"$error":"#VALUE!"},{"$error":"#VALUE!"},{"$error":"#VALUE!"},null,null,null,null,null,null,null,null,null,null,null,null,null,null,null,null,null,null,null,null,null,null,null,null,{"$error":"#VALUE!"}]
[null,null,null,null,null,null,null,null,null,{"$error":"#VALUE!"},{"$error":"#VALUE!"},{"$error":"#VALUE!"},null,null,null,null,null,null,null,null,null,null,null,null,null,null,null,null,null,null,null,null,null,null,null,null,{"$error":"#VALUE!"}]
[null,null,null,null,null,null,null,null,null,{"$error":"#VALUE!"},{"$error":"#VALUE!"},{"$error":"#VALUE!"},null,null,null,null,null,null,null,null,null,null,null,null,null,null,null,null,null,null,null,null,null,null,null,null,{"$error":"#VALUE!"}]
[null,null,null,null,null,null,null,null,null,{"$error":"#VALUE!"},{"$error":"#VALUE!"},{"$error":"#VALUE!"},null,null,null,null,null,null,null,null,null,null,null,null,null,null,null,null,null,null,null,null,null,null,null,null,{"$error":"#VALUE!"}]
[null,null,null,null,null,null,null,null,null,{"$error":"#VALUE!"},{"$error":"#VALUE!"},{"$error":"#VALUE!"},null,null,null,null,null,null,null,null,null,null,null,null,null,null,null,null,null,null,null,null,null,null,null,null,{"$error":"#VALUE!"}]
[null,null,null,null,null,null,null,null,null,{"$error":"#VALUE!"},{"$error":"#VALUE!"},{"$error":"#VALUE!"},null,null,null,null,null,null,null,null,null,null,null,null,null,null,null,null,null,null,null,null,null,null,null,null,{"$error":"#VALUE!"}]
[null,null,null,null,null,null,null,null,null,{"$error":"#VALUE!"},{"$error":"#VALUE!"},{"$error":"#VALUE!"},null,null,null,null,null,null,null,null,null,null,null,null,null,null,null,null,null,null,null,null,null,null,null,null,{"$error":"#VALUE!"}]
[null,null,null,null,null,null,null,null,null,{"$error":"#VALUE!"},{"$error":"#VALUE!"},{"$error":"#VALUE!"},null,null,null,null,null,null,null,null,null,null,null,null,null,null,null,null,null,null,null,null,null,null,null,null,{"$error":"#VALUE!"}]
[null,null,null,null,null,null,null,null,null,{"$error":"#VALUE!"},{"$error":"#VALUE!"},{"$error":"#VALUE!"},null,null,null,null,null,null,null,null,null,null,null,null,null,null,null,null,null,null,null,null,null,null,null,null,{"$error":"#VALUE!"}]
[null,null,null,null,null,null,null,null,null,{"$error":"#VALUE!"},{"$error":"#VALUE!"},{"$error":"#VALUE!"},null,null,null,null,null,null,null,null,null,null,null,null,null,null,null,null,null,null,null,null,null,null,null,null,{"$error":"#VALUE!"}]
[null,null,null,null,null,null,null,null,null,{"$error":"#VALUE!"},{"$error":"#VALUE!"},{"$error":"#VALUE!"},null,null,null,null,null,null,null,null,null,null,null,null,null,null,null,null,null,null,null,null,null,null,null,null,{"$error":"#VALUE!"}]
[null,null,null,null,null,null,null,null,null,{"$error":"#VALUE!"},{"$error":"#VALUE!"},{"$error":"#VALUE!"},null,null,null,null,null,null,null,null,null,null,null,null,null,null,null,null,null,null,null,null,null,null,null,null,{"$error":"#VALUE!"}]

{"sheet":"FDLT","index":52,"n_rows":150,"n_cols":72,"rows_kept":150,"cut":false,"hidden":true,"merged":[[1,56,1,71],[0,19,0,28],[0,30,0,32],[1,31,2,31],[1,32,2,32],[1,21,1,25],[1,27,1,28],[1,30,2,30],[100,9,100,11],[100,36,101,36],[1,34,2,34],[1,36,2,36],[1,39,1,54],[1,9,1,11],[1,13,1,17]]}
[null,null,null,null,null,null,null,null,null,null,null,null,null,null,null,null,null,null,null,"Conflicting Traffic Complexity",null,null,null,null,null,null,null,null,null,null,"Pedestrian Complexity"]
[null,null,null,null,null,null,null,null,null,"Exposure",null,null,null,"Severity",null,null,null,null,null,"Traffic Control",null,"Conflicting Lanes",null,null,null,null,null,"Conflicting Speed",null,null,"Indirect Paths Indicator","Non-intuitive movements indicator","Pedestrian Complexity factor",null,"Total Complexity Multiplier",null,"Exposure-Severity-Complexity Product",null,null,"Included in Mvmt1",null,null,null,null,null,null,null,null,null,null,null,null,null,null,null,null,"Included in Mvmt2"]
["#","Conflict Type","Mvmt1","Mvmt1_gen","Mvmt1_SpeedCat","Mvmt2","Mvmt2_gen","Mvmt2_SpeedCat",null,"Q1","Q2","I",null,"Speed_V1","Speed_V2","Angle","delta_V","P_FSI",null,null,null,"MajC","MinC","MajM/P","MinM/P","Score",null,"Speed","Factor",null,null,null,null,null,null,null,null,null,null,"MajT1","MajL1","MajR1","MajT2","MajL2","MajR2","MinT1","MinL1","MinR1","MinT2","MinL2","MinR2","MajNM1","MajNM2","MinNM1","MinNM2",null,"MajT1","MajL1","MajR1","MajT2","MajL2","MajR2","MinT1","MinL1","MinR1","MinT2","MinL2","MinR2","MajNM1","MajNM2","MinNM1","MinNM2"]
[1,"Crossing","SBT","MinT2","Signal near","WBT","MajT2","Major thru",null,{"$f":"SUMPRODUCT($AN4:$BC4,$AN$52:$BC$52)","v":{"$error":"#VALUE!"}},{"$f":"SUMPRODUCT($BE4:$BT4,$BE$52:$BT$52)","v":{"$error":"#VALUE!"}},{"$f":"PRODUCT(J4:K4)","v":{"$error":"#VALUE!"}},null,{"$f":"VLOOKUP(E4,SSI_AGI_Range_VehSpeed,5,FALSE)","v":15},{"$f":"VLOOKUP(H4,SSI_AGI_Range_VehSpeed,5,FALSE)","v":0},{"$f":"IF(B4=\"Nonmotorized\",\"\",VLOOKUP(B4,SSI_AGI_Range_CollAngles,5,FALSE))","v":90},{"$f":"IF(B4=\"Nonmotorized\",\"\",SQRT(N4^2+O4^2-2*N4*O4*COS(RADIANS(P4)))/2)","v":7.5},{"$f":"IF(B4=\"Nonmotorized\",1/(1+EXP(3.8432-0.1237*O4)),(Q4/SSI_AGI_RegAlpha)^SSI_AGI_RegK+(Q4/SSI_AGI_RegAlpha)^SSI_AGI_RegK-((Q4/SSI_AGI_RegAlpha)^SSI_AGI_RegK)*((Q4/SSI_AGI_RegAlpha)^SSI_AGI_RegK))","v":4.8454301532720461E-4},null,{"$f":"SSI_AGI_ProtFactor","v":0.505},null,2,null,null,null,{"$f":"MAX(1,IF(B4<>\"Pedestrian\",V4*SSI_AGI_MajorThruLanes+W4*SSI_AGI_MinorThruLanes+X4*IF(SSI_AGI_MajorThruLanes=1,SSI_AGI_MergeWeightL1,IF(SSI_AGI_MajorThruLanes=2,SSI_AGI_MergeWeightL1+SSI_AGI_MergeWeightL2,SSI_AGI_MergeWeightL1+SSI_AGI_MergeWeightL2+SSI_AGI_MergeWeightL3*(SSI_AGI_MajorThruLanes-2)))+Y4*IF(SSI_AGI_MinorThruLanes=1,SSI_AGI_MergeWeightL1,IF(SSI_AGI_MinorThruLanes=2,SSI_AGI_MergeWeightL1+SSI_AGI_MergeWeightL2,SSI_AGI_MergeWeightL1+SSI_AGI_MergeWeightL2+SSI_AGI_MergeWeightL3*(SSI_AGI_MinorThruLanes-2))),V4*SSI_AGI_MajorThruLanes+W4*SSI_AGI_MinorThruLanes+X4*IF(SSI_AGI_MajorThruLanes=1,SSI_AGI_NM_MergeWeightL1,IF(SSI_AGI_MajorThruLanes=2,SSI_AGI_NM_MergeWeightL1+SSI_AGI_NM_MergeWeightL2,SSI_AGI_NM_MergeWeightL1+SSI_AGI_NM_MergeWeightL2+SSI_AGI_NM_MergeWeightL3*(SSI_AGI_MajorThruLanes-2)))+Y4*IF(SSI_AGI_MinorThruLanes=1,SSI_AGI_NM_MergeWeightL1,IF(SSI_AGI_MinorThruLanes=2,SSI_AGI_NM_MergeWeightL1+SSI_AGI_NM_MergeWeightL2,SSI_AGI_NM_MergeWeightL1+SSI_AGI_NM_MergeWeightL2+SSI_AGI_NM_MergeWeightL3*(SSI_AGI_MinorThruLanes-2)))))","v":1},null,{"$f":"IF(B4=\"Diverging\",\"\",SSI_AGI_VehSpeed_MjrThru)","v":0},{"$f":"IF(B4=\"Diverging\",1,1-((60-AB4)/60*0.1/0.15))","v":0.33333333333333326},null,null,null,{"$f":"1+AE4+AF4","v":1},null,{"$f":"PRODUCT(Z4,T4,AC4,AG4)","v":0.16833333333333331},null,{"$f":"L4*R4*AI4","v":{"$error":"#VALUE!"}},null,null,{"$f":"IF(ISNUMBER(SEARCH(AN$3,$D4)),1,\"\")","v":""},{"$f":"IF(ISNUMBER(SEARCH(AO$3,$D4)),1,\"\")","v":""},"","","","","","","",1,"","","","","","",null,{"$f":"IF(ISNUMBER(SEARCH(BE$3,$G4)),1,\"\")","v":""},{"$f":"IF(ISNUMBER(SEARCH(BF$3,$G4)),1,\"\")","v":""},"",1,"","","","","","","","","","","",""]
[2,"Crossing","NBT","MinT1","Signal far","WBT","MajT2","Major thru",null,{"$error":"#VALUE!"},{"$error":"#VALUE!"},{"$f":"PRODUCT(J5:K5)","v":{"$error":"#VALUE!"}},null,25,0,90,{"$f":"IF(B5=\"Nonmotorized\",\"\",SQRT(N5^2+O5^2-2*N5*O5*COS(RADIANS(P5)))/2)","v":12.5},3.3637551692797594E-3,null,0.505,null,2,null,null,null,1,null,0,0.33333333333333326,null,null,null,{"$f":"1+AE5+AF5","v":1},null,0.16833333333333331,null,{"$f":"L5*R5*AI5","v":{"$error":"#VALUE!"}},null,null,"","","","","","",1,"","","","","","","","","",null,{"$f":"IF(ISNUMBER(SEARCH(BE$3,$G5)),1,\"\")","v":""},"","",1,"","","","","","","","","","","",""]
[3,"Crossing","SBT","MinT2","Signal far","EBT","MajT1","Major thru",null,{"$error":"#VALUE!"},{"$error":"#VALUE!"},{"$error":"#VALUE!"},null,25,0,90,12.5,3.3637551692797594E-3,null,0.505,null,2,null,null,null,1,null,0,0.33333333333333326,null,null,null,1,null,0.16833333333333331,null,{"$error":"#VALUE!"},null,null,"","","","","","","","","",1,"","","","","","",null,1,"","","","","","","","","","","","","","",""]
[4,"Crossing","NBT","MinT1","Signal near","EBT","MajT1","Major thru",null,{"$error":"#VALUE!"},{"$error":"#VALUE!"},{"$error":"#VALUE!"},null,15,0,90,7.5,4.8454301532720461E-4,null,0.505,null,2,null,null,null,1,null,0,0.33333333333333326,null,null,null,1,null,0.16833333333333331,null,{"$error":"#VALUE!"},null,null,"","","","","","",1,"","","","","","","","","",null,1,"","","","","","","","","","","","","","",""]
[5,"Crossing - LT","SBT","MinT2","Signal near","EBL","MajL1","Major left",null,{"$error":"#VALUE!"},{"$error":"#VALUE!"},{"$error":"#VALUE!"},null,15,20,230,15.895538413434787,8.3616736100371545E-3,null,0.505,null,2,null,null,null,1,null,0,0.33333333333333326,null,null,null,1,null,0.16833333333333331,null,{"$error":"#VALUE!"},null,null,"","","","","","","","","",1,"","","","","","",null,"",1,"","","","","","","","","","","","","",""]
[6,"Crossing - LT","SBL","MinL2","Signal near","WBT","MajT2","Major thru",null,{"$error":"#VALUE!"},{"$error":"#VALUE!"},{"$error":"#VALUE!"},null,15,0,230,7.5,4.8454301532720461E-4,null,0.505,null,1,null,1,null,1,null,0,0.33333333333333326,null,null,null,1,null,0.16833333333333331,null,{"$error":"#VALUE!"},null,null,"","","","","","","","","","",1,"","","","","",null,"","","",1,"","","","","","","","","","","",""]
[7,"Crossing - LT","NBT","MinT1","Signal near","WBL","MajL2","Major left",null,{"$error":"#VALUE!"},{"$error":"#VALUE!"},{"$error":"#VALUE!"},null,15,20,230,15.895538413434787,8.3616736100371545E-3,null,0.505,null,2,null,null,null,1,null,0,0.33333333333333326,null,null,null,1,null,0.16833333333333331,null,{"$error":"#VALUE!"},null,null,"","","","","","",1,"","","","","","","","","",null,"","","","",1,"","","","","","","","","","",""]
[8,"Crossing - LT","NBL","MinL1","Signal near","EBT","MajT1","Major thru",null,{"$error":"#VALUE!"},{"$error":"#VALUE!"},{"$error":"#VALUE!"},null,15,0,230,7.5,4.8454301532720461E-4,null,0.505,null,1,null,1,null,1,null,0,0.33333333333333326,null,null,null,1,null,0.16833333333333331,null,{"$error":"#VALUE!"},null,null,"","","","","","","",1,"","","","","","","","",null,1,"","","","","","","","","","","","","","",""]
[9,"Crossing - LT","NBT","MinT1","Minor thru","SBL","MinL2","Signal near",null,{"$error":"#VALUE!"},{"$error":"#VALUE!"},{"$error":"#VALUE!"},null,0,15,230,7.5,4.8454301532720461E-4,null,0.505,null,null,1,null,null,1,null,{"$f":"IF(B12=\"Diverging\",\"\",SSI_AGI_VehSpeed_MnrThru)","v":0},0.33333333333333326,null,null,null,1,null,0.16833333333333331,null,{"$error":"#VALUE!"},null,null,"","","","","","",1,"","","","","","","","","",null,"","","","","","","","","","",1,"","","","",""]
[10,"Crossing - LT","EBT","MajT1","Major thru","WBL","MajL2","Signal near",null,{"$error":"#VALUE!"},{"$error":"#VALUE!"},{"$error":"#VALUE!"},null,0,15,230,7.5,4.8454301532720461E-4,null,0.505,null,1,null,null,null,1,null,{"$f":"IF(B13=\"Diverging\",\"\",SSI_AGI_VehSpeed_MjrThru)","v":0},0.33333333333333326,null,null,null,1,null,0.16833333333333331,null,{"$error":"#VALUE!"},null,null,1,"","","","","","","","","","","","","","","",null,"","","","",1,"","","","","","","","","","",""]
[11,"Crossing - LT","SBT","MinT2","Minor thru","NBL","MinL1","Signal near",null,{"$error":"#VALUE!"},{"$error":"#VALUE!"},{"$error":"#VALUE!"},null,0,15,230,7.5,4.8454301532720461E-4,null,0.505,null,null,1,null,null,1,null,{"$f":"IF(B14=\"Diverging\",\"\",SSI_AGI_VehSpeed_MnrThru)","v":0},0.33333333333333326,null,null,null,1,null,0.16833333333333331,null,{"$error":"#VALUE!"},null,null,"","","","","","","","","",1,"","","","","","",null,"","","","","","","",1,"","","","","","","",""]
[12,"Crossing - LT","WBT","MajT2","Major thru","EBL","MajL1","Signal near",null,{"$error":"#VALUE!"},{"$error":"#VALUE!"},{"$error":"#VALUE!"},null,0,15,230,7.5,4.8454301532720461E-4,null,0.505,null,1,null,null,null,1,null,{"$f":"IF(B15=\"Diverging\",\"\",SSI_AGI_VehSpeed_MjrThru)","v":0},0.33333333333333326,null,null,null,1,null,0.16833333333333331,null,{"$error":"#VALUE!"},null,null,"","","",1,"","","","","","","","","","","","",null,"",1,"","","","","","","","","","","","","",""]
[13,"Merging","NBT","MinT1","Signal far","EBL","MajL1","Major left",null,{"$error":"#VALUE!"},{"$error":"#VALUE!"},{"$error":"#VALUE!"},null,25,20,45,8.9147801264732891,9.333798723087925E-4,null,0.505,null,2,null,null,null,1,null,0,0.33333333333333326,null,null,null,1,null,0.16833333333333331,null,{"$error":"#VALUE!"},null,null,"","","","","","",1,"","","","","","","","","",null,"",1,"","","","","","","","","","","","","",""]
[14,"Merging","NBT","MinT1","Minor thru","WBR","MajR2","Major right",null,{"$error":"#VALUE!"},{"$error":"#VALUE!"},{"$error":"#VALUE!"},null,0,15,45,7.5,4.8454301532720461E-4,null,1,null,2,null,null,null,1,null,0,0.33333333333333326,null,null,null,1,null,0.33333333333333326,null,{"$error":"#VALUE!"},null,null,"","","","","","",1,"","","","","","","","","",null,"","","","","",1,"","","","","","","","","",""]
[15,"Merging","NBL","MinL1","Signal far","WBT","MajT2","Major thru",null,{"$error":"#VALUE!"},{"$error":"#VALUE!"},{"$error":"#VALUE!"},null,25,0,45,12.5,3.3637551692797594E-3,null,{"$f":"SSI_AGI_ProtFactor","v":0.505},null,1,null,1,null,1,null,0,0.33333333333333326,null,null,null,1,null,0.16833333333333331,null,{"$error":"#VALUE!"},null,null,"","","","","","","",1,"","","","","","","","",null,"","","",1,"","","","","","","","","","","",""]
[16,"Merging","SBR","MinR2","Minor right","WBT","MajT2","Major thru",null,{"$error":"#VALUE!"},{"$error":"#VALUE!"},{"$error":"#VALUE!"},null,15,0,45,7.5,4.8454301532720461E-4,null,1,null,null,null,1,null,1,null,0,0.33333333333333326,null,null,null,1,null,0.33333333333333326,null,{"$error":"#VALUE!"},null,null,"","","","","","","","","","","",1,"","","","",null,"","","",1,"","","","","","","","","","","",""]
[17,"Merging","SBT","MinT2","Signal far","WBL","MajL2","Major left",null,{"$error":"#VALUE!"},{"$error":"#VALUE!"},{"$error":"#VALUE!"},null,25,20,45,8.9147801264732891,9.333798723087925E-4,null,{"$f":"SSI_AGI_ProtFactor","v":0.505},null,2,null,null,null,1,null,0,0.33333333333333326,null,null,null,1,null,0.16833333333333331,null,{"$error":"#VALUE!"},null,null,"","","","","","","","","",1,"","","","","","",null,"","","","",1,"","","","","","","","","","",""]
[18,"Merging","SBT","MinT2","Minor thru","EBR","MajR1","Major right",null,{"$error":"#VALUE!"},{"$error":"#VALUE!"},{"$error":"#VALUE!"},null,0,15,45,7.5,4.8454301532720461E-4,null,1,null,2,null,null,null,1,null,0,0.33333333333333326,null,null,null,1,null,0.33333333333333326,null,{"$error":"#VALUE!"},null,null,"",{"$f":"IF(ISNUMBER(SEARCH(AO$3,$D21)),1,\"\")","v":""},"","","","","","","",1,"","","","","","",null,"","",1,"","","","","","","","","","","","",""]
[19,"Merging","SBL","MinL2","Signal far","EBT","MajT1","Major thru",null,{"$error":"#VALUE!"},{"$error":"#VALUE!"},{"$error":"#VALUE!"},null,25,0,45,12.5,3.3637551692797594E-3,null,{"$f":"SSI_AGI_ProtFactor","v":0.505},null,1,null,1,null,1,null,0,0.33333333333333326,null,null,null,1,null,0.16833333333333331,null,{"$error":"#VALUE!"},null,null,{"$f":"IF(ISNUMBER(SEARCH(AN$3,$D22)),1,\"\")","v":""},"","","","","","","","","",1,"","","","","",null,1,"","","","","","","","","","","","","","",""]
[20,"Merging","NBR","MinR1","Minor right","EBT","MajT1","Major thru",null,{"$error":"#VALUE!"},{"$error":"#VALUE!"},{"$error":"#VALUE!"},null,15,0,45,7.5,4.8454301532720461E-4,null,1,null,null,null,1,null,1,null,0,0.33333333333333326,null,null,null,1,null,0.33333333333333326,null,{"$error":"#VALUE!"},null,null,"","","","","","","","",1,"","","","","","","",null,1,"","","","","","","","","","","","","","",""]
[21,"Diverging","SBT","MinT2","Signal near","SBR","MinR2","Minor right",null,{"$error":"#VALUE!"},{"$error":"#VALUE!"},{"$error":"#VALUE!"},null,15,15,10,1.3073361412148754,6.4061388075216071E-7,null,1,null,null,null,null,null,1,null,"",1,null,null,null,1,null,1,null,{"$error":"#VALUE!"},null,null,"","","","","","","","","",1,"","","","","","",null,"","","","","","","","","","","",1,"","","",""]
[22,"Diverging","SBT","MinT2","Signal near","SBL","MinL2","Signal near",null,{"$error":"#VALUE!"},{"$error":"#VALUE!"},{"$error":"#VALUE!"},null,15,15,10,1.3073361412148754,6.4061388075216071E-7,null,1,null,null,null,null,null,1,null,"",1,null,null,null,1,null,1,null,{"$error":"#VALUE!"},null,null,"","","","","","","","","",1,"","","","","","",null,"","","","","","","","","","",1,"","","","",""]
[23,"Diverging","EBT","MajT1","Major thru","EBR","MajR1","Major right",null,{"$error":"#VALUE!"},{"$error":"#VALUE!"},{"$error":"#VALUE!"},null,0,15,10,7.5,4.8454301532720461E-4,null,1,null,null,null,null,null,1,null,"",1,null,null,null,1,null,1,null,{"$error":"#VALUE!"},null,null,1,"","","","","","","","","","","","","","","",null,"","",1,"","","","","","","","","","","","",""]
[24,"Diverging","EBT","MajT1","Major thru","EBL","MajL1","Major left",null,{"$error":"#VALUE!"},{"$error":"#VALUE!"},{"$error":"#VALUE!"},null,0,20,10,10,1.4431392232699444E-3,null,1,null,null,null,null,null,1,null,"",1,null,null,null,1,null,1,null,{"$error":"#VALUE!"},null,null,1,"","","","","","","","","","","","","","","",null,"",1,"","","","","","","","","","","","","",""]
[25,"Diverging","NBT","MinT1","Signal near","NBL","MinL1","Signal near",null,{"$error":"#VALUE!"},{"$error":"#VALUE!"},{"$error":"#VALUE!"},null,15,15,10,1.3073361412148754,6.4061388075216071E-7,null,1,null,null,null,null,null,1,null,"",1,null,null,null,1,null,1,null,{"$error":"#VALUE!"},null,null,"","","","","","",1,"","","","","","","","","",null,"","","","","","","",1,"","","","","","","",""]
[26,"Diverging","NBT","MinT1","Signal near","NBR","MinR1","Minor right",null,{"$error":"#VALUE!"},{"$error":"#VALUE!"},{"$error":"#VALUE!"},null,15,15,10,1.3073361412148754,6.4061388075216071E-7,null,1,null,null,null,null,null,1,null,"",1,null,null,null,1,null,1,null,{"$error":"#VALUE!"},null,null,"","","","","","",1,"","","","","","","","","",null,"","","","","","","","",1,"","","","","","",""]
[27,"Diverging","WBT","MajT2","Major thru","WBR","MajR2","Major right",null,{"$error":"#VALUE!"},{"$error":"#VALUE!"},{"$error":"#VALUE!"},null,0,15,10,7.5,4.8454301532720461E-4,null,1,null,null,null,null,null,1,null,"",1,null,null,null,1,null,1,null,{"$error":"#VALUE!"},null,null,"","","",1,"","","","","","","","","","","","",null,"","","","","",1,"","","","","","","","","",""]
[28,"Diverging","WBT","MajT2","Major thru","WBL","MajL2","Major left",null,{"$error":"#VALUE!"},{"$error":"#VALUE!"},{"$error":"#VALUE!"},null,0,20,10,10,1.4431392232699444E-3,null,1,null,null,null,null,null,1,null,"",1,null,null,null,1,null,1,null,{"$error":"#VALUE!"},null,null,"","","",1,"","","","","","","","","","","","",null,"","","","",1,"","","","","","","","","","",""]
[29,"Nonmotorized",null,"MajNM1, MinNM2","Nonmotorized","SBR","MinR2","Minor right",null,{"$error":"#VALUE!"},{"$error":"#VALUE!"},{"$error":"#VALUE!"},null,0,15,"","",0.1205004039155782,null,1,null,null,1,null,null,1,null,{"$f":"IF(B32=\"Diverging\",\"\",SSI_AGI_VehSpeed_MnrThru)","v":0},0.33333333333333326,null,1,1,3,null,0.99999999999999978,null,{"$error":"#VALUE!"},null,null,"","","","","","","","","","","","",1,"","",1,null,"","","","","","","","","","","",1,"","","",""]
[30,"Nonmotorized",null,"MajNM1","Nonmotorized","EBL","MajL1","Major left",null,{"$error":"#VALUE!"},{"$error":"#VALUE!"},{"$error":"#VALUE!"},null,0,20,"","",0.20274912921655375,null,{"$f":"SSI_AGI_ProtFactor","v":0.505},null,1,null,null,null,1,null,{"$f":"IF(B33=\"Diverging\",\"\",SSI_AGI_VehSpeed_MjrThru)","v":0},0.33333333333333326,null,1,1,3,null,0.50499999999999989,null,{"$error":"#VALUE!"},null,null,"","","","","","","","","","","","",1,"","","",null,"",1,"","","","","","","","","","","","","",""]
[31,"Nonmotorized",null,"MajNM1","Nonmotorized","WBT","MajT2","Major thru",null,{"$error":"#VALUE!"},{"$error":"#VALUE!"},{"$error":"#VALUE!"},null,0,0,"","",2.0975532400616122E-2,null,{"$f":"SSI_AGI_ProtFactor","v":0.505},null,2,null,null,1,1,null,{"$f":"IF(B34=\"Diverging\",\"\",SSI_AGI_VehSpeed_MjrThru)","v":0},0.33333333333333326,null,1,1,3,null,0.50499999999999989,null,{"$error":"#VALUE!"},null,null,"","","","","","","","","","","","",1,"","","",null,"","","",1,"","","","","","","","","","","",""]
[32,"Nonmotorized",null,"MajNM1","Nonmotorized","NBL","MinL1","Signal far",null,{"$error":"#VALUE!"},{"$error":"#VALUE!"},{"$error":"#VALUE!"},null,0,25,"","",0.32066879346345062,null,{"$f":"SSI_AGI_ProtFactor","v":0.505},null,2,null,null,1,1,null,{"$f":"IF(B35=\"Diverging\",\"\",SSI_AGI_VehSpeed_MjrThru)","v":0},0.33333333333333326,null,1,1,3,null,0.50499999999999989,null,{"$error":"#VALUE!"},null,null,"","","","","","","","","","","","",1,"","","",null,{"$f":"IF(ISNUMBER(SEARCH(BE$3,$G35)),1,\"\")","v":""},"","","","","","",1,"","","","","","","",""]
[33,"Nonmotorized",null,"MajNM1","Nonmotorized","EBT","MajT1","Major thru",null,{"$error":"#VALUE!"},{"$error":"#VALUE!"},{"$error":"#VALUE!"},null,0,0,"",{"$f":"IF(B36=\"Nonmotorized\",\"\",SQRT(N36^2+O36^2-2*N36*O36*COS(RADIANS(P36)))/2)","v":""},2.0975532400616122E-2,null,{"$f":"SSI_AGI_ProtFactor","v":0.505},null,2,null,null,1,1,null,{"$f":"IF(B36=\"Diverging\",\"\",SSI_AGI_VehSpeed_MjrThru)","v":0},0.33333333333333326,null,1,1,3,null,0.50499999999999989,null,{"$error":"#VALUE!"},null,null,"","","","","","","","","","","","",1,"","","",null,1,"","","","","","","","","","","","","","",""]
[34,"Nonmotorized",null,"MinNM1, MajNM1","Nonmotorized","EBR","MajR1","Major right",null,{"$error":"#VALUE!"},{"$error":"#VALUE!"},{"$f":"PRODUCT(J37:K37)","v":{"$error":"#VALUE!"}},null,0,15,"","",0.1205004039155782,null,1,null,1,null,null,null,1,null,{"$f":"IF(B37=\"Diverging\",\"\",SSI_AGI_VehSpeed_MjrThru)","v":0},0.33333333333333326,null,1,1,3,null,0.99999999999999978,null,{"$error":"#VALUE!"},null,null,"","","","","","","","","","","","",1,"",1,{"$f":"IF(ISNUMBER(SEARCH(BC$3,$D37)),1,\"\")","v":""},null,"","",1,"","","","","","","","","","","","",""]
[35,"Nonmotorized",null,"MinNM1","Nonmotorized","NBL","MinL1","Signal near",null,{"$error":"#VALUE!"},{"$error":"#VALUE!"},{"$error":"#VALUE!"},null,0,15,"","",0.1205004039155782,null,{"$f":"SSI_AGI_ProtFactor","v":0.505},null,null,1,null,null,1,null,{"$f":"IF(B38=\"Diverging\",\"\",SSI_AGI_VehSpeed_MnrThru)","v":0},0.33333333333333326,null,1,1,3,null,0.50499999999999989,null,{"$error":"#VALUE!"},null,null,{"$f":"IF(ISNUMBER(SEARCH(AN$3,$D38)),1,\"\")","v":""},"","","","","","","","","","","","","",1,"",null,"","","","","","","",1,"","","","","","","",""]
[36,"Nonmotorized",null,"MinNM1","Nonmotorized","SBT","MinT2","Signal far",null,{"$error":"#VALUE!"},{"$error":"#VALUE!"},{"$error":"#VALUE!"},null,0,25,"","",0.32066879346345062,null,{"$f":"SSI_AGI_ProtFactor","v":0.505},null,null,2,1,null,1,null,{"$f":"IF(B39=\"Diverging\",\"\",SSI_AGI_VehSpeed_MjrThru)","v":0},0.33333333333333326,null,1,1,3,null,0.50499999999999989,null,{"$error":"#VALUE!"},null,null,"","","","","","","","","","","","","","",1,"",null,"","","","","","","","","",1,"","","","","",""]
[37,"Nonmotorized",null,"MinNM1","Nonmotorized","WBL","MajL2","Major left",null,{"$error":"#VALUE!"},{"$error":"#VALUE!"},{"$error":"#VALUE!"},null,0,20,"","",0.20274912921655375,null,{"$f":"SSI_AGI_ProtFactor","v":0.505},null,null,2,1,null,1,null,{"$f":"IF(B40=\"Diverging\",\"\",SSI_AGI_VehSpeed_MjrThru)","v":0},0.33333333333333326,null,1,1,3,null,0.50499999999999989,null,{"$error":"#VALUE!"},null,null,"","","","","","","","","","","","","","",1,"",null,"","","","",1,"","","","","","","","","","",""]
[38,"Nonmotorized",null,"MinNM1","Nonmotorized","NBT","MinT1","Signal near",null,{"$error":"#VALUE!"},{"$error":"#VALUE!"},{"$error":"#VALUE!"},null,0,15,"","",0.1205004039155782,null,{"$f":"SSI_AGI_ProtFactor","v":0.505},null,null,2,1,null,1,null,{"$f":"IF(B41=\"Diverging\",\"\",SSI_AGI_VehSpeed_MjrThru)","v":0},0.33333333333333326,null,1,1,3,null,0.50499999999999989,null,{"$error":"#VALUE!"},null,null,"","","","","","","","","","","","","","",1,"",null,"","","","","","",1,"","","","","","","","",""]
[39,"Nonmotorized",null,"MajNM2, MinNM1","Nonmotorized","NBR","MinR1","Minor right",null,{"$error":"#VALUE!"},{"$error":"#VALUE!"},{"$error":"#VALUE!"},null,0,15,"","",0.1205004039155782,null,1,null,null,1,null,null,1,null,{"$f":"IF(B42=\"Diverging\",\"\",SSI_AGI_VehSpeed_MnrThru)","v":0},0.33333333333333326,null,1,1,3,null,0.99999999999999978,null,{"$error":"#VALUE!"},null,null,"","","","","","","","","","","","","",1,1,"",null,"","","","","","","","",1,"","","","","","",""]
[40,"Nonmotorized",null,"MajNM2","Nonmotorized","WBL","MajL2","Major left",null,{"$error":"#VALUE!"},{"$error":"#VALUE!"},{"$error":"#VALUE!"},null,0,20,"","",0.20274912921655375,null,{"$f":"SSI_AGI_ProtFactor","v":0.505},null,1,null,null,null,1,null,{"$f":"IF(B43=\"Diverging\",\"\",SSI_AGI_VehSpeed_MjrThru)","v":0},0.33333333333333326,null,1,1,3,null,0.50499999999999989,null,{"$error":"#VALUE!"},null,null,"","","","","","","","","","","","","",1,"","",null,"","","","",1,"","","","","","","","","","",""]
[41,"Nonmotorized",null,"MajNM2","Nonmotorized","EBT","MajT1","Major thru",null,{"$error":"#VALUE!"},{"$error":"#VALUE!"},{"$error":"#VALUE!"},null,0,0,"","",2.0975532400616122E-2,null,{"$f":"SSI_AGI_ProtFactor","v":0.505},null,2,null,null,1,1,null,{"$f":"IF(B44=\"Diverging\",\"\",SSI_AGI_VehSpeed_MjrThru)","v":0},0.33333333333333326,null,1,1,3,null,0.50499999999999989,null,{"$error":"#VALUE!"},null,null,"","","","","","","","","","","","","",1,"","",null,1,"","","","","","","","","","","","","","",""]
[42,"Nonmotorized",null,"MajNM2","Nonmotorized","SBL","MinL2","Signal far",null,{"$error":"#VALUE!"},{"$error":"#VALUE!"},{"$error":"#VALUE!"},null,0,25,"","",0.32066879346345062,null,{"$f":"SSI_AGI_ProtFactor","v":0.505},null,2,null,null,1,1,null,{"$f":"IF(B45=\"Diverging\",\"\",SSI_AGI_VehSpeed_MjrThru)","v":0},0.33333333333333326,null,1,1,3,null,0.50499999999999989,null,{"$error":"#VALUE!"},null,null,"","","","","","","","","","","","","",1,"","",null,"","","","","","","","","","",1,"","","","",""]
[43,"Nonmotorized",null,"MajNM2","Nonmotorized","WBT","MajT2","Major thru",null,{"$error":"#VALUE!"},{"$error":"#VALUE!"},{"$error":"#VALUE!"},null,0,0,"","",2.0975532400616122E-2,null,{"$f":"SSI_AGI_ProtFactor","v":0.505},null,2,null,null,1,1,null,{"$f":"IF(B46=\"Diverging\",\"\",SSI_AGI_VehSpeed_MjrThru)","v":0},0.33333333333333326,null,1,1,3,null,0.50499999999999989,null,{"$error":"#VALUE!"},null,null,"","","","","","","","","","","","","",1,"","",null,"","","",1,"","","","","","","","","","","",""]
[44,"Nonmotorized",null,"MinNM2, MajNM2","Nonmotorized","WBR","MajR2","Major right",null,{"$error":"#VALUE!"},{"$error":"#VALUE!"},{"$error":"#VALUE!"},null,0,15,"","",0.1205004039155782,null,1,null,1,null,null,null,1,null,{"$f":"IF(B47=\"Diverging\",\"\",SSI_AGI_VehSpeed_MjrThru)","v":0},0.33333333333333326,null,1,1,3,null,0.99999999999999978,null,{"$error":"#VALUE!"},null,null,"","","","","","","","","","","","","",1,"",1,null,"","","","","",1,"","","","","","","","","",""]
[45,"Nonmotorized",null,"MinNM2","Nonmotorized","SBL","MinL2","Signal near",null,{"$error":"#VALUE!"},{"$error":"#VALUE!"},{"$error":"#VALUE!"},null,0,15,"","",0.1205004039155782,null,{"$f":"SSI_AGI_ProtFactor","v":0.505},null,null,1,null,null,1,null,{"$f":"IF(B48=\"Diverging\",\"\",SSI_AGI_VehSpeed_MnrThru)","v":0},0.33333333333333326,null,1,1,3,null,0.50499999999999989,null,{"$error":"#VALUE!"},null,null,"","","","","","","","","","","","","","","",1,null,"","","","","","","","","","",1,"","","","",""]
[46,"Nonmotorized",null,"MinNM2","Nonmotorized","NBT","MinT1","Signal far",null,{"$error":"#VALUE!"},{"$error":"#VALUE!"},{"$error":"#VALUE!"},null,0,25,"","",0.32066879346345062,null,{"$f":"SSI_AGI_ProtFactor","v":0.505},null,null,2,1,null,1,null,{"$f":"IF(B49=\"Diverging\",\"\",SSI_AGI_VehSpeed_MjrThru)","v":0},0.33333333333333326,null,1,1,3,null,0.50499999999999989,null,{"$error":"#VALUE!"},null,null,"","","","","","","","","","","","","","","",1,null,"","","","","","",1,"","","","","","","","",""]
[47,"Nonmotorized",null,"MinNM2","Nonmotorized","EBL","MajL1","Major left",null,{"$error":"#VALUE!"},{"$error":"#VALUE!"},{"$error":"#VALUE!"},null,0,20,"","",0.20274912921655375,null,{"$f":"SSI_AGI_ProtFactor","v":0.505},null,null,2,1,null,1,null,{"$f":"IF(B50=\"Diverging\",\"\",SSI_AGI_VehSpeed_MjrThru)","v":0},0.33333333333333326,null,1,1,3,null,0.50499999999999989,null,{"$error":"#VALUE!"},null,null,"","","","","","","","","","","","","","","",1,null,"",1,"","","","","","","","","","","","","",{"$f":"IF(ISNUMBER(SEARCH(BT$3,$G50)),1,\"\")","v":""}]
[48,"Nonmotorized",null,"MinNM2","Nonmotorized","SBT","MinT2","Signal near",null,{"$error":"#VALUE!"},{"$error":"#VALUE!"},{"$error":"#VALUE!"},null,0,15,"","",0.1205004039155782,null,{"$f":"SSI_AGI_ProtFactor","v":0.505},null,null,2,1,null,1,null,{"$f":"IF(B51=\"Diverging\",\"\",SSI_AGI_VehSpeed_MjrThru)","v":0},0.33333333333333326,null,1,1,3,null,0.50499999999999989,null,{"$error":"#VALUE!"},null,null,"","","","","","","","","","","","","","","",1,null,{"$f":"IF(ISNUMBER(SEARCH(BE$3,$G51)),1,\"\")","v":""},"","","","","","","","",1,"","","","","",""]
[null,null,null,null,null,null,null,null,null,null,null,null,null,null,null,null,null,null,null,null,null,null,null,null,null,null,null,null,null,null,null,null,null,null,null,null,null,null,"O",{"$f":"'SSI Inputs'!$D$26","v":{"$error":"#VALUE!"}},{"$f":"'SSI Inputs'!$D$27","v":{"$error":"#VALUE!"}},{"$f":"'SSI Inputs'!$D$28","v":{"$error":"#VALUE!"}},{"$f":"'SSI Inputs'!$D$30","v":{"$error":"#VALUE!"}},{"$f":"'SSI Inputs'!$D$31","v":{"$error":"#VALUE!"}},{"$f":"'SSI Inputs'!$D$32","v":{"$error":"#VALUE!"}},{"$f":"'SSI Inputs'!$D$34","v":{"$error":"#VALUE!"}},{"$f":"'SSI Inputs'!$D$35","v":{"$error":"#VALUE!"}},{"$f":"'SSI Inputs'!$D$36","v":{"$error":"#VALUE!"}},{"$f":"'SSI Inputs'!$D$38","v":{"$error":"#VALUE!"}},{"$f":"'SSI Inputs'!$D$39","v":{"$error":"#VALUE!"}},{"$f":"'SSI Inputs'!$D$40","v":{"$error":"#VALUE!"}},{"$f":"'SSI Inputs'!$Q$18","v":12.5},{"$f":"'SSI Inputs'!$Q$19","v":12.5},{"$f":"'SSI Inputs'!$Q$20","v":12.5},{"$f":"'SSI Inputs'!$Q$21","v":12.5},"O",{"$f":"'SSI Inputs'!$D$26","v":{"$error":"#VALUE!"}},{"$f":"'SSI Inputs'!$D$27","v":{"$error":"#VALUE!"}},{"$f":"'SSI Inputs'!$D$28","v":{"$error":"#VALUE!"}},{"$f":"'SSI Inputs'!$D$30","v":{"$error":"#VALUE!"}},{"$f":"'SSI Inputs'!$D$31","v":{"$error":"#VALUE!"}},{"$f":"'SSI Inputs'!$D$32","v":{"$error":"#VALUE!"}},{"$f":"'SSI Inputs'!$D$34","v":{"$error":"#VALUE!"}},{"$f":"'SSI Inputs'!$D$35","v":{"$error":"#VALUE!"}},{"$f":"'SSI Inputs'!$D$36","v":{"$error":"#VALUE!"}},{"$f":"'SSI Inputs'!$D$38","v":{"$error":"#VALUE!"}},{"$f":"'SSI Inputs'!$D$39","v":{"$error":"#VALUE!"}},{"$f":"'SSI Inputs'!$D$40","v":{"$error":"#VALUE!"}},{"$f":"'SSI Inputs'!$Q$18","v":12.5},{"$f":"'SSI Inputs'!$Q$19","v":12.5},{"$f":"'SSI Inputs'!$Q$20","v":12.5},{"$f":"'SSI Inputs'!$Q$21","v":12.5}]
[null,null,null,null,null,null,null,null,null,null,null,null,null,null,null,null,null,null,null,null,null,null,null,null,null,null,null,null,null,null,null,null,null,null,null,null,null,null,"D",{"$f":"'SSI Inputs'!$E$26","v":{"$error":"#VALUE!"}},{"$f":"'SSI Inputs'!$E$27","v":{"$error":"#VALUE!"}},{"$f":"'SSI Inputs'!$E$28","v":{"$error":"#VALUE!"}},{"$f":"'SSI Inputs'!$E$30","v":{"$error":"#VALUE!"}},{"$f":"'SSI Inputs'!$E$31","v":{"$error":"#VALUE!"}},{"$f":"'SSI Inputs'!$E$32","v":{"$error":"#VALUE!"}},{"$f":"'SSI Inputs'!$E$34","v":{"$error":"#VALUE!"}},{"$f":"'SSI Inputs'!$E$35","v":{"$error":"#VALUE!"}},{"$f":"'SSI Inputs'!$E$36","v":{"$error":"#VALUE!"}},{"$f":"'SSI Inputs'!$E$38","v":{"$error":"#VALUE!"}},{"$f":"'SSI Inputs'!$E$39","v":{"$error":"#VALUE!"}},{"$f":"'SSI Inputs'!$E$40","v":{"$error":"#VALUE!"}},{"$f":"'SSI Inputs'!$R$18","v":12.5},{"$f":"'SSI Inputs'!$R$19","v":12.5},{"$f":"'SSI Inputs'!$R$20","v":12.5},{"$f":"'SSI Inputs'!$R$21","v":12.5},"D",{"$f":"'SSI Inputs'!$E$26","v":{"$error":"#VALUE!"}},{"$f":"'SSI Inputs'!$E$27","v":{"$error":"#VALUE!"}},{"$f":"'SSI Inputs'!$E$28","v":{"$error":"#VALUE!"}},{"$f":"'SSI Inputs'!$E$30","v":{"$error":"#VALUE!"}},{"$f":"'SSI Inputs'!$E$31","v":{"$error":"#VALUE!"}},{"$f":"'SSI Inputs'!$E$32","v":{"$error":"#VALUE!"}},{"$f":"'SSI Inputs'!$E$34","v":{"$error":"#VALUE!"}},{"$f":"'SSI Inputs'!$E$35","v":{"$error":"#VALUE!"}},{"$f":"'SSI Inputs'!$E$36","v":{"$error":"#VALUE!"}},{"$f":"'SSI Inputs'!$E$38","v":{"$error":"#VALUE!"}},{"$f":"'SSI Inputs'!$E$39","v":{"$error":"#VALUE!"}},{"$f":"'SSI Inputs'!$E$40","v":{"$error":"#VALUE!"}},{"$f":"'SSI Inputs'!$R$18","v":12.5},{"$f":"'SSI Inputs'!$R$19","v":12.5},{"$f":"'SSI Inputs'!$R$20","v":12.5},{"$f":"'SSI Inputs'!$R$21","v":12.5}]
[]
[]
[]
[]
[]
[]
[]
[]
[]
[]
[]
[]
[]
[]
[]
[]
[]
[]
[]
[]
[]
[]
[]
[]
[]
[]
[]
[]
[]
[]
[]
[]
[]
[]
[]
[]
[]
[]
[]
[]
[]
[]
[]
[]
[]
[]
[]
[null,null,null,null,null,null,null,null,null,"Exposure",null,null,null,null,null,null,null,null,null,null,null,null,null,null,null,null,null,null,null,null,null,null,null,null,null,null,"Exposure-Severity-Complexity Product"]
[null,null,null,null,null,null,null,null,null,"Q1","Q2","I"]
[null,null,null,null,null,null,null,null,null,{"$f":"SUMPRODUCT($AN4:$BC4,$AN$53:$BC$53)","v":{"$error":"#VALUE!"}},{"$f":"SUMPRODUCT($BE4:$BT4,$BE$53:$BT$53)","v":{"$error":"#VALUE!"}},{"$f":"PRODUCT(J103:K103)","v":{"$error":"#VALUE!"}},null,null,null,null,null,null,null,null,null,null,null,null,null,null,null,null,null,null,null,null,null,null,null,null,{"$f":"L103*R4*AI4","v":{"$error":"#VALUE!"}}]
[null,null,null,null,null,null,null,null,null,{"$f":"SUMPRODUCT($AN5:$BC5,$AN$53:$BC$53)","v":{"$error":"#VALUE!"}},{"$f":"SUMPRODUCT($BE5:$BT5,$BE$53:$BT$53)","v":{"$error":"#VALUE!"}},{"$f":"PRODUCT(J104:K104)","v":{"$error":"#VALUE!"}},null,null,null,null,null,null,null,null,null,null,null,null,null,null,null,null,null,null,null,null,null,null,null,null,{"$f":"L104*R5*AI5","v":{"$error":"#VALUE!"}}]
[null,null,null,null,null,null,null,null,null,{"$error":"#VALUE!"},{"$error":"#VALUE!"},{"$error":"#VALUE!"},null,null,null,null,null,null,null,null,null,null,null,null,null,null,null,null,null,null,null,null,null,null,null,null,{"$error":"#VALUE!"}]
[null,null,null,null,null,null,null,null,null,{"$error":"#VALUE!"},{"$error":"#VALUE!"},{"$error":"#VALUE!"},null,null,null,null,null,null,null,null,null,null,null,null,null,null,null,null,null,null,null,null,null,null,null,null,{"$error":"#VALUE!"}]
[null,null,null,null,null,null,null,null,null,{"$error":"#VALUE!"},{"$error":"#VALUE!"},{"$error":"#VALUE!"},null,null,null,null,null,null,null,null,null,null,null,null,null,null,null,null,null,null,null,null,null,null,null,null,{"$error":"#VALUE!"}]
[null,null,null,null,null,null,null,null,null,{"$error":"#VALUE!"},{"$error":"#VALUE!"},{"$error":"#VALUE!"},null,null,null,null,null,null,null,null,null,null,null,null,null,null,null,null,null,null,null,null,null,null,null,null,{"$error":"#VALUE!"}]
[null,null,null,null,null,null,null,null,null,{"$error":"#VALUE!"},{"$error":"#VALUE!"},{"$error":"#VALUE!"},null,null,null,null,null,null,null,null,null,null,null,null,null,null,null,null,null,null,null,null,null,null,null,null,{"$error":"#VALUE!"}]
[null,null,null,null,null,null,null,null,null,{"$error":"#VALUE!"},{"$error":"#VALUE!"},{"$error":"#VALUE!"},null,null,null,null,null,null,null,null,null,null,null,null,null,null,null,null,null,null,null,null,null,null,null,null,{"$error":"#VALUE!"}]
[null,null,null,null,null,null,null,null,null,{"$error":"#VALUE!"},{"$error":"#VALUE!"},{"$error":"#VALUE!"},null,null,null,null,null,null,null,null,null,null,null,null,null,null,null,null,null,null,null,null,null,null,null,null,{"$error":"#VALUE!"}]
[null,null,null,null,null,null,null,null,null,{"$error":"#VALUE!"},{"$error":"#VALUE!"},{"$error":"#VALUE!"},null,null,null,null,null,null,null,null,null,null,null,null,null,null,null,null,null,null,null,null,null,null,null,null,{"$error":"#VALUE!"}]
[null,null,null,null,null,null,null,null,null,{"$error":"#VALUE!"},{"$error":"#VALUE!"},{"$error":"#VALUE!"},null,null,null,null,null,null,null,null,null,null,null,null,null,null,null,null,null,null,null,null,null,null,null,null,{"$error":"#VALUE!"}]
[null,null,null,null,null,null,null,null,null,{"$error":"#VALUE!"},{"$error":"#VALUE!"},{"$error":"#VALUE!"},null,null,null,null,null,null,null,null,null,null,null,null,null,null,null,null,null,null,null,null,null,null,null,null,{"$error":"#VALUE!"}]
[null,null,null,null,null,null,null,null,null,{"$error":"#VALUE!"},{"$error":"#VALUE!"},{"$error":"#VALUE!"},null,null,null,null,null,null,null,null,null,null,null,null,null,null,null,null,null,null,null,null,null,null,null,null,{"$error":"#VALUE!"}]
[null,null,null,null,null,null,null,null,null,{"$error":"#VALUE!"},{"$error":"#VALUE!"},{"$error":"#VALUE!"},null,null,null,null,null,null,null,null,null,null,null,null,null,null,null,null,null,null,null,null,null,null,null,null,{"$error":"#VALUE!"}]
[null,null,null,null,null,null,null,null,null,{"$error":"#VALUE!"},{"$error":"#VALUE!"},{"$error":"#VALUE!"},null,null,null,null,null,null,null,null,null,null,null,null,null,null,null,null,null,null,null,null,null,null,null,null,{"$error":"#VALUE!"}]
[null,null,null,null,null,null,null,null,null,{"$error":"#VALUE!"},{"$error":"#VALUE!"},{"$error":"#VALUE!"},null,null,null,null,null,null,null,null,null,null,null,null,null,null,null,null,null,null,null,null,null,null,null,null,{"$error":"#VALUE!"}]
[null,null,null,null,null,null,null,null,null,{"$error":"#VALUE!"},{"$error":"#VALUE!"},{"$error":"#VALUE!"},null,null,null,null,null,null,null,null,null,null,null,null,null,null,null,null,null,null,null,null,null,null,null,null,{"$error":"#VALUE!"}]
[null,null,null,null,null,null,null,null,null,{"$error":"#VALUE!"},{"$error":"#VALUE!"},{"$error":"#VALUE!"},null,null,null,null,null,null,null,null,null,null,null,null,null,null,null,null,null,null,null,null,null,null,null,null,{"$error":"#VALUE!"}]
[null,null,null,null,null,null,null,null,null,{"$error":"#VALUE!"},{"$error":"#VALUE!"},{"$error":"#VALUE!"},null,null,null,null,null,null,null,null,null,null,null,null,null,null,null,null,null,null,null,null,null,null,null,null,{"$error":"#VALUE!"}]
[null,null,null,null,null,null,null,null,null,{"$error":"#VALUE!"},{"$error":"#VALUE!"},{"$error":"#VALUE!"},null,null,null,null,null,null,null,null,null,null,null,null,null,null,null,null,null,null,null,null,null,null,null,null,{"$error":"#VALUE!"}]
[null,null,null,null,null,null,null,null,null,{"$error":"#VALUE!"},{"$error":"#VALUE!"},{"$error":"#VALUE!"},null,null,null,null,null,null,null,null,null,null,null,null,null,null,null,null,null,null,null,null,null,null,null,null,{"$error":"#VALUE!"}]
[null,null,null,null,null,null,null,null,null,{"$error":"#VALUE!"},{"$error":"#VALUE!"},{"$error":"#VALUE!"},null,null,null,null,null,null,null,null,null,null,null,null,null,null,null,null,null,null,null,null,null,null,null,null,{"$error":"#VALUE!"}]
[null,null,null,null,null,null,null,null,null,{"$error":"#VALUE!"},{"$error":"#VALUE!"},{"$error":"#VALUE!"},null,null,null,null,null,null,null,null,null,null,null,null,null,null,null,null,null,null,null,null,null,null,null,null,{"$error":"#VALUE!"}]
[null,null,null,null,null,null,null,null,null,{"$error":"#VALUE!"},{"$error":"#VALUE!"},{"$error":"#VALUE!"},null,null,null,null,null,null,null,null,null,null,null,null,null,null,null,null,null,null,null,null,null,null,null,null,{"$error":"#VALUE!"}]
[null,null,null,null,null,null,null,null,null,{"$error":"#VALUE!"},{"$error":"#VALUE!"},{"$error":"#VALUE!"},null,null,null,null,null,null,null,null,null,null,null,null,null,null,null,null,null,null,null,null,null,null,null,null,{"$error":"#VALUE!"}]
[null,null,null,null,null,null,null,null,null,{"$error":"#VALUE!"},{"$error":"#VALUE!"},{"$error":"#VALUE!"},null,null,null,null,null,null,null,null,null,null,null,null,null,null,null,null,null,null,null,null,null,null,null,null,{"$error":"#VALUE!"}]
[null,null,null,null,null,null,null,null,null,{"$error":"#VALUE!"},{"$error":"#VALUE!"},{"$error":"#VALUE!"},null,null,null,null,null,null,null,null,null,null,null,null,null,null,null,null,null,null,null,null,null,null,null,null,{"$error":"#VALUE!"}]
[null,null,null,null,null,null,null,null,null,{"$error":"#VALUE!"},{"$error":"#VALUE!"},{"$error":"#VALUE!"},null,null,null,null,null,null,null,null,null,null,null,null,null,null,null,null,null,null,null,null,null,null,null,null,{"$error":"#VALUE!"}]
[null,null,null,null,null,null,null,null,null,{"$error":"#VALUE!"},{"$error":"#VALUE!"},{"$error":"#VALUE!"},null,null,null,null,null,null,null,null,null,null,null,null,null,null,null,null,null,null,null,null,null,null,null,null,{"$error":"#VALUE!"}]
[null,null,null,null,null,null,null,null,null,{"$error":"#VALUE!"},{"$error":"#VALUE!"},{"$error":"#VALUE!"},null,null,null,null,null,null,null,null,null,null,null,null,null,null,null,null,null,null,null,null,null,null,null,null,{"$error":"#VALUE!"}]
[null,null,null,null,null,null,null,null,null,{"$error":"#VALUE!"},{"$error":"#VALUE!"},{"$error":"#VALUE!"},null,null,null,null,null,null,null,null,null,null,null,null,null,null,null,null,null,null,null,null,null,null,null,null,{"$error":"#VALUE!"}]
[null,null,null,null,null,null,null,null,null,{"$error":"#VALUE!"},{"$error":"#VALUE!"},{"$error":"#VALUE!"},null,null,null,null,null,null,null,null,null,null,null,null,null,null,null,null,null,null,null,null,null,null,null,null,{"$error":"#VALUE!"}]
[null,null,null,null,null,null,null,null,null,{"$error":"#VALUE!"},{"$error":"#VALUE!"},{"$error":"#VALUE!"},null,null,null,null,null,null,null,null,null,null,null,null,null,null,null,null,null,null,null,null,null,null,null,null,{"$error":"#VALUE!"}]
[null,null,null,null,null,null,null,null,null,{"$error":"#VALUE!"},{"$error":"#VALUE!"},{"$error":"#VALUE!"},null,null,null,null,null,null,null,null,null,null,null,null,null,null,null,null,null,null,null,null,null,null,null,null,{"$error":"#VALUE!"}]
[null,null,null,null,null,null,null,null,null,{"$error":"#VALUE!"},{"$error":"#VALUE!"},{"$error":"#VALUE!"},null,null,null,null,null,null,null,null,null,null,null,null,null,null,null,null,null,null,null,null,null,null,null,null,{"$error":"#VALUE!"}]
[null,null,null,null,null,null,null,null,null,{"$error":"#VALUE!"},{"$error":"#VALUE!"},{"$error":"#VALUE!"},null,null,null,null,null,null,null,null,null,null,null,null,null,null,null,null,null,null,null,null,null,null,null,null,{"$error":"#VALUE!"}]
[null,null,null,null,null,null,null,null,null,{"$error":"#VALUE!"},{"$error":"#VALUE!"},{"$error":"#VALUE!"},null,null,null,null,null,null,null,null,null,null,null,null,null,null,null,null,null,null,null,null,null,null,null,null,{"$error":"#VALUE!"}]
[null,null,null,null,null,null,null,null,null,{"$error":"#VALUE!"},{"$error":"#VALUE!"},{"$error":"#VALUE!"},null,null,null,null,null,null,null,null,null,null,null,null,null,null,null,null,null,null,null,null,null,null,null,null,{"$error":"#VALUE!"}]
[null,null,null,null,null,null,null,null,null,{"$error":"#VALUE!"},{"$error":"#VALUE!"},{"$error":"#VALUE!"},null,null,null,null,null,null,null,null,null,null,null,null,null,null,null,null,null,null,null,null,null,null,null,null,{"$error":"#VALUE!"}]
[null,null,null,null,null,null,null,null,null,{"$error":"#VALUE!"},{"$error":"#VALUE!"},{"$error":"#VALUE!"},null,null,null,null,null,null,null,null,null,null,null,null,null,null,null,null,null,null,null,null,null,null,null,null,{"$error":"#VALUE!"}]
[null,null,null,null,null,null,null,null,null,{"$error":"#VALUE!"},{"$error":"#VALUE!"},{"$error":"#VALUE!"},null,null,null,null,null,null,null,null,null,null,null,null,null,null,null,null,null,null,null,null,null,null,null,null,{"$error":"#VALUE!"}]
[null,null,null,null,null,null,null,null,null,{"$error":"#VALUE!"},{"$error":"#VALUE!"},{"$error":"#VALUE!"},null,null,null,null,null,null,null,null,null,null,null,null,null,null,null,null,null,null,null,null,null,null,null,null,{"$error":"#VALUE!"}]
[null,null,null,null,null,null,null,null,null,{"$error":"#VALUE!"},{"$error":"#VALUE!"},{"$error":"#VALUE!"},null,null,null,null,null,null,null,null,null,null,null,null,null,null,null,null,null,null,null,null,null,null,null,null,{"$error":"#VALUE!"}]
[null,null,null,null,null,null,null,null,null,{"$error":"#VALUE!"},{"$error":"#VALUE!"},{"$error":"#VALUE!"},null,null,null,null,null,null,null,null,null,null,null,null,null,null,null,null,null,null,null,null,null,null,null,null,{"$error":"#VALUE!"}]
[null,null,null,null,null,null,null,null,null,{"$error":"#VALUE!"},{"$error":"#VALUE!"},{"$error":"#VALUE!"},null,null,null,null,null,null,null,null,null,null,null,null,null,null,null,null,null,null,null,null,null,null,null,null,{"$error":"#VALUE!"}]
[null,null,null,null,null,null,null,null,null,{"$error":"#VALUE!"},{"$error":"#VALUE!"},{"$error":"#VALUE!"},null,null,null,null,null,null,null,null,null,null,null,null,null,null,null,null,null,null,null,null,null,null,null,null,{"$error":"#VALUE!"}]
[null,null,null,null,null,null,null,null,null,{"$error":"#VALUE!"},{"$error":"#VALUE!"},{"$error":"#VALUE!"},null,null,null,null,null,null,null,null,null,null,null,null,null,null,null,null,null,null,null,null,null,null,null,null,{"$error":"#VALUE!"}]
[null,null,null,null,null,null,null,null,null,{"$error":"#VALUE!"},{"$error":"#VALUE!"},{"$error":"#VALUE!"},null,null,null,null,null,null,null,null,null,null,null,null,null,null,null,null,null,null,null,null,null,null,null,null,{"$error":"#VALUE!"}]

{"sheet":"QR","index":53,"n_rows":156,"n_cols":95,"rows_kept":156,"cut":false,"hidden":true,"merged":[[0,19,0,28],[0,30,0,32],[1,31,2,31],[1,32,2,32],[1,21,1,25],[1,27,1,28],[1,30,2,30],[1,76,1,79],[1,81,1,84],[1,86,1,89],[1,91,1,94],[100,9,100,11],[100,36,101,36],[1,34,2,34],[1,36,2,36],[1,39,1,54],[1,9,1,11],[1,13,1,17],[1,56,1,71]]}
[null,null,null,null,null,null,null,null,null,null,null,null,null,null,null,null,null,null,null,"Conflicting Traffic Complexity",null,null,null,null,null,null,null,null,null,null,"Pedestrian Complexity",null,null,null,null,null,null,null,null,null,null,null,null,null,null,null,null,null,null,null,null,null,null,null,null,null,null,null,null,null,null,null,null,null,null,null,null,null,null,null,null,null,null,null,null,null,"*impact of median on complexity factors"]
[null,null,null,null,null,null,null,null,null,"Exposure",null,null,null,"Severity",null,null,null,null,null,"Traffic Control",null,"Conflicting Lanes",null,null,null,null,null,"Conflicting Speed",null,null,"Indirect Paths Indicator","Non-intuitive movements indicator","Pedestrian Complexity factor",null,"Total Complexity Multiplier",null,"Exposure-Severity-Complexity Product",null,null,"Included in Mvmt1",null,null,null,null,null,null,null,null,null,null,null,null,null,null,null,null,"Included in Mvmt2",null,null,null,null,null,null,null,null,null,null,null,null,null,null,null,null,null,null,null,"Major:No, Minor: No",null,null,null,null,"Major:Yes, Minor: No",null,null,null,null,"Major:No, Minor: Yes",null,null,null,null,"Major:Yes, Minor: Yes"]
["#","Conflict Type","Mvmt1","Mvmt1_gen","Mvmt1_SpeedCat","Mvmt2","Mvmt2_gen","Mvmt2_SpeedCat",null,"Q1","Q2","I",null,"Speed_V1","Speed_V2","Angle","delta_V","P_FSI",null,null,null,"MajC","MinC","MajM/P","MinM/P","Score",null,"Speed","Factor",null,null,null,null,null,null,null,null,null,null,"MajT1","MajL1","MajR1","MajT2","MajL2","MajR2","MinT1","MinL1","MinR1","MinT2","MinL2","MinR2","MajNM1","MajNM2","MinNM1","MinNM2",null,"MajT1","MajL1","MajR1","MajT2","MajL2","MajR2","MinT1","MinL1","MinR1","MinT2","MinL2","MinR2","MajNM1","MajNM2","MinNM1","MinNM2",null,null,"#","Conflict Type","MajC","MinC","MajM/P","MinM/P",null,"MajC","MinC","MajM/P","MinM/P",null,"MajC","MinC","MajM/P","MinM/P",null,"MajC","MinC","MajM/P","MinM/P"]
[1,"Crossing","SBT, WBL","MinT2, MajL2","Signal near","WBT, NBL","MajT2, MinL1","Major thru",null,{"$f":"SUMPRODUCT($AN4:$BC4,$AN$74:$BC$74)","v":{"$error":"#VALUE!"}},{"$f":"SUMPRODUCT($BE4:$BT4,$BE$74:$BT$74)","v":{"$error":"#VALUE!"}},{"$f":"PRODUCT(J4:K4)","v":{"$error":"#VALUE!"}},null,{"$f":"VLOOKUP(E4,SSI_AGI_Range_VehSpeed,5,FALSE)","v":15},{"$f":"VLOOKUP(H4,SSI_AGI_Range_VehSpeed,5,FALSE)","v":0},{"$f":"IF(B4=\"Nonmotorized\",\"\",VLOOKUP(B4,SSI_AGI_Range_CollAngles,5,FALSE))","v":90},{"$f":"IF(B4=\"Nonmotorized\",\"\",SQRT(N4^2+O4^2-2*N4*O4*COS(RADIANS(P4)))/2)","v":7.5},{"$f":"IF(B4=\"Nonmotorized\",1/(1+EXP(3.8432-0.1237*O4)),(Q4/SSI_AGI_RegAlpha)^SSI_AGI_RegK+(Q4/SSI_AGI_RegAlpha)^SSI_AGI_RegK-((Q4/SSI_AGI_RegAlpha)^SSI_AGI_RegK)*((Q4/SSI_AGI_RegAlpha)^SSI_AGI_RegK))","v":4.8454301532720461E-4},null,{"$f":"SSI_AGI_ProtFactor","v":0.505},null,{"$f":"IF(AND(SS_AGI_MajMedian=\"No\", SS_AGI_MinMedian=\"No\"),BY4,IF(AND(SS_AGI_MajMedian=\"Yes\",SS_AGI_MinMedian=\"No\"),CD4,IF(AND(SS_AGI_MajMedian=\"No\",SS_AGI_MinMedian=\"Yes\"),CI4,IF(AND(SS_AGI_MajMedian=\"Yes\",SS_AGI_MinMedian=\"Yes\"),CN4))))","v":false},{"$f":"IF(AND(SS_AGI_MajMedian=\"No\", SS_AGI_MinMedian=\"No\"),BZ4,IF(AND(SS_AGI_MajMedian=\"Yes\",SS_AGI_MinMedian=\"No\"),CE4,IF(AND(SS_AGI_MajMedian=\"No\",SS_AGI_MinMedian=\"Yes\"),CJ4,IF(AND(SS_AGI_MajMedian=\"Yes\",SS_AGI_MinMedian=\"Yes\"),CO4))))","v":false},{"$f":"IF(AND(SS_AGI_MajMedian=\"No\", SS_AGI_MinMedian=\"No\"),CA4,IF(AND(SS_AGI_MajMedian=\"Yes\",SS_AGI_MinMedian=\"No\"),CF4,IF(AND(SS_AGI_MajMedian=\"No\",SS_AGI_MinMedian=\"Yes\"),CK4,IF(AND(SS_AGI_MajMedian=\"Yes\",SS_AGI_MinMedian=\"Yes\"),CP4))))","v":false},{"$f":"IF(AND(SS_AGI_MajMedian=\"No\", SS_AGI_MinMedian=\"No\"),CB4,IF(AND(SS_AGI_MajMedian=\"Yes\",SS_AGI_MinMedian=\"No\"),CG4,IF(AND(SS_AGI_MajMedian=\"No\",SS_AGI_MinMedian=\"Yes\"),CL4,IF(AND(SS_AGI_MajMedian=\"Yes\",SS_AGI_MinMedian=\"Yes\"),CQ4))))","v":false},{"$f":"MAX(1,IF(B4<>\"Pedestrian\",V4*SSI_AGI_MajorThruLanes+W4*SSI_AGI_MinorThruLanes+X4*IF(SSI_AGI_MajorThruLanes=1,SSI_AGI_MergeWeightL1,IF(SSI_AGI_MajorThruLanes=2,SSI_AGI_MergeWeightL1+SSI_AGI_MergeWeightL2,SSI_AGI_MergeWeightL1+SSI_AGI_MergeWeightL2+SSI_AGI_MergeWeightL3*(SSI_AGI_MajorThruLanes-2)))+Y4*IF(SSI_AGI_MinorThruLanes=1,SSI_AGI_MergeWeightL1,IF(SSI_AGI_MinorThruLanes=2,SSI_AGI_MergeWeightL1+SSI_AGI_MergeWeightL2,SSI_AGI_MergeWeightL1+SSI_AGI_MergeWeightL2+SSI_AGI_MergeWeightL3*(SSI_AGI_MinorThruLanes-2))),V4*SSI_AGI_MajorThruLanes+W4*SSI_AGI_MinorThruLanes+X4*IF(SSI_AGI_MajorThruLanes=1,SSI_AGI_NM_MergeWeightL1,IF(SSI_AGI_MajorThruLanes=2,SSI_AGI_NM_MergeWeightL1+SSI_AGI_NM_MergeWeightL2,SSI_AGI_NM_MergeWeightL1+SSI_AGI_NM_MergeWeightL2+SSI_AGI_NM_MergeWeightL3*(SSI_AGI_MajorThruLanes-2)))+Y4*IF(SSI_AGI_MinorThruLanes=1,SSI_AGI_NM_MergeWeightL1,IF(SSI_AGI_MinorThruLanes=2,SSI_AGI_NM_MergeWeightL1+SSI_AGI_NM_MergeWeightL2,SSI_AGI_NM_MergeWeightL1+SSI_AGI_NM_MergeWeightL2+SSI_AGI_NM_MergeWeightL3*(SSI_AGI_MinorThruLanes-2)))))","v":1},null,{"$f":"IF(B4=\"Diverging\",\"\",SSI_AGI_VehSpeed_MjrThru)","v":0},{"$f":"IF(B4=\"Diverging\",1,1-((60-AB4)/60*0.1/0.15))","v":0.33333333333333326},null,null,null,{"$f":"1+AE4+AF4","v":1},null,{"$f":"PRODUCT(Z4,T4,AC4,AG4)","v":0.16833333333333331},null,{"$f":"L4*R4*AI4","v":{"$error":"#VALUE!"}},null,null,{"$f":"IF(ISNUMBER(SEARCH(AN$3,$D4)),1,\"\")","v":""},{"$f":"IF(ISNUMBER(SEARCH(AO$3,$D4)),1,\"\")","v":""},"","",1,"","","","",1,"","","","","","",null,{"$f":"IF(ISNUMBER(SEARCH(BE$3,$G4)),1,\"\")","v":""},{"$f":"IF(ISNUMBER(SEARCH(BF$3,$G4)),1,\"\")","v":""},"",1,"","","",1,"","","","","","","","",null,null,1,"Crossing",2,0,0,0,null,1,0,0,0,null,2,0,0,0,null,{"$f":"IF(OR(CD4=\"\",CI4=\"\"),\"\",MIN(CD4,CI4))","v":1},{"$f":"IF(OR(CE4=\"\",CJ4=\"\"),\"\",MIN(CE4,CJ4))","v":0},0,0]
[2,"Crossing","NBT, NBL","MinT1, MinL1","Signal far","WBT, NBL","MajT2, MinL1","Major thru",null,{"$error":"#VALUE!"},{"$error":"#VALUE!"},{"$f":"PRODUCT(J5:K5)","v":{"$error":"#VALUE!"}},null,25,0,90,{"$f":"IF(B5=\"Nonmotorized\",\"\",SQRT(N5^2+O5^2-2*N5*O5*COS(RADIANS(P5)))/2)","v":12.5},3.3637551692797594E-3,null,0.505,null,false,false,false,false,1,null,{"$f":"IF(B5=\"Diverging\",\"\",SSI_AGI_VehSpeed_MjrThru)","v":0},0.33333333333333326,null,null,null,{"$f":"1+AE5+AF5","v":1},null,0.16833333333333331,null,{"$f":"L5*R5*AI5","v":{"$error":"#VALUE!"}},null,null,{"$f":"IF(ISNUMBER(SEARCH(AN$3,$D5)),1,\"\")","v":""},"","","","","",1,1,"","","","","","","","",null,{"$f":"IF(ISNUMBER(SEARCH(BE$3,$G5)),1,\"\")","v":""},"","",1,"","","",1,"","","","","","","","",null,null,2,"Crossing",2,0,0,0,null,1,0,0,0,null,2,0,0,0,null,1,0,0,0]
[3,"Crossing","NBT, NBL","MinT1, MinL1","Signal near","EBT, EBL","MajT1, MajL1","Major thru",null,{"$error":"#VALUE!"},{"$error":"#VALUE!"},{"$error":"#VALUE!"},null,15,0,90,7.5,4.8454301532720461E-4,null,0.505,null,false,false,false,false,1,null,{"$f":"IF(B6=\"Diverging\",\"\",SSI_AGI_VehSpeed_MjrThru)","v":0},0.33333333333333326,null,null,null,1,null,0.16833333333333331,null,{"$error":"#VALUE!"},null,null,"","","","","","",1,1,"","","","","","","","",null,1,1,"","","","","","","","","","","","","","",null,null,3,"Crossing",2,0,0,0,null,1,0,0,0,null,2,0,0,0,null,1,0,0,0]
[4,"Crossing","SBT, WBL","MinT2, MajL2","Signal far","EBT, EBL","MajT1, MajL1","Major thru",null,{"$error":"#VALUE!"},{"$error":"#VALUE!"},{"$error":"#VALUE!"},null,25,0,90,12.5,3.3637551692797594E-3,null,0.505,null,false,false,false,false,1,null,{"$f":"IF(B7=\"Diverging\",\"\",SSI_AGI_VehSpeed_MjrThru)","v":0},0.33333333333333326,null,null,null,1,null,0.16833333333333331,null,{"$error":"#VALUE!"},null,null,"","","","",1,"","","","",1,"","","","","","",null,1,1,"","","","","","","","","","","","","","",null,null,4,"Crossing",2,0,0,0,null,1,0,0,0,null,2,0,0,0,null,1,0,0,0]
[5,"Crossing - LT","SBL","MinL2","Minor left","WBL","MajL2","Signal near",null,{"$error":"#VALUE!"},{"$error":"#VALUE!"},{"$error":"#VALUE!"},null,20,15,230,15.895538413434787,8.3616736100371545E-3,null,0.505,null,false,false,false,false,1,null,{"$f":"IF(B8=\"Diverging\",\"\",SSI_AGI_VehSpeed_MnrThru)","v":0},0.33333333333333326,null,null,null,1,null,0.16833333333333331,null,{"$error":"#VALUE!"},null,null,"","","","","","","","","","",1,"","","","","",null,"","","","",1,"","","","","","","","","","","",null,null,5,"Crossing - LT",0,1,0,1,null,0,1,0,1,null,0,1,0,0,null,0,1,0,0]
[6,"Crossing - LT","NBT, WBR","MinT1, MajR2","Minor thru","WBL","MajL2","Signal near",null,{"$error":"#VALUE!"},{"$error":"#VALUE!"},{"$error":"#VALUE!"},null,0,15,230,7.5,4.8454301532720461E-4,null,0.505,null,false,false,false,false,1,null,{"$f":"IF(B9=\"Diverging\",\"\",SSI_AGI_VehSpeed_MnrThru)","v":0},0.33333333333333326,null,null,null,1,null,0.16833333333333331,null,{"$error":"#VALUE!"},null,null,"","","","","",1,1,"","","","","","","","","",null,"","","","",1,"","","","","","","","","","","",null,null,6,"Crossing - LT",0,1,0,1,null,0,1,0,1,null,0,1,0,0,null,0,1,0,0]
[7,"Crossing - LT","SBL","MinL2","Minor left","NBT, WBR","MinT1, MajR2","Minor thru",null,{"$error":"#VALUE!"},{"$error":"#VALUE!"},{"$error":"#VALUE!"},null,20,0,230,10,1.4431392232699444E-3,null,{"$f":"IF(SSI_AGI_MinorLTPhase=\"Protected/permitted\",SSI_AGI_ProtPermFactor,IF(SSI_AGI_MinorLTPhase=\"Protected\",SSI_AGI_ProtFactor,SSI_AGI_PermFactor))","v":0.92500000000000004},null,false,false,false,false,1,null,{"$f":"IF(B10=\"Diverging\",\"\",SSI_AGI_VehSpeed_MnrThru)","v":0},0.33333333333333326,null,null,null,1,null,0.30833333333333329,null,{"$error":"#VALUE!"},null,null,"","","","","","","","","","",1,"","","","","",null,"","","","","",1,1,"","","","","","","","","",null,null,7,"Crossing - LT",0,1,0,0,null,0,1,0,0,null,0,1,0,0,null,0,1,0,0]
[8,"Crossing - LT","SBL","MinL2","Signal near","WBT","MajT2","Major thru",null,{"$error":"#VALUE!"},{"$error":"#VALUE!"},{"$error":"#VALUE!"},null,15,0,230,7.5,4.8454301532720461E-4,null,{"$f":"SSI_AGI_ProtFactor","v":0.505},null,false,false,false,false,1,null,{"$f":"IF(B11=\"Diverging\",\"\",SSI_AGI_VehSpeed_MjrThru)","v":0},0.33333333333333326,null,null,null,1,null,0.16833333333333331,null,{"$error":"#VALUE!"},null,null,"","","","","","","","","","",1,"","","","","",null,"","","",1,"","","","","","","","","","","","",null,null,8,"Crossing - LT",1,0,1,0,null,1,0,0,0,null,1,0,1,0,null,1,0,0,0]
[9,"Crossing - LT","EBL","MajL1","Major left","WBT","MajT2","Major thru",null,{"$error":"#VALUE!"},{"$error":"#VALUE!"},{"$error":"#VALUE!"},null,20,0,230,10,1.4431392232699444E-3,null,{"$f":"IF(SSI_AGI_MajorLTPhase=\"Protected/permitted\",SSI_AGI_ProtPermFactor,IF(SSI_AGI_MajorLTPhase=\"Protected\",SSI_AGI_ProtFactor,SSI_AGI_PermFactor))","v":0.92500000000000004},null,false,false,false,false,1,null,0,0.33333333333333326,null,null,null,1,null,0.30833333333333329,null,{"$error":"#VALUE!"},null,null,"",1,"","","","","","","","","","","","","","",null,"","","",1,"","","","","","","","","","","","",null,null,9,"Crossing - LT",1,0,0,0,null,1,0,0,0,null,1,0,0,0,null,1,0,0,0]
[10,"Crossing - LT","SBL","MinL2","Signal near","EBL","MajL1","Major left",null,{"$error":"#VALUE!"},{"$error":"#VALUE!"},{"$error":"#VALUE!"},null,15,20,230,15.895538413434787,8.3616736100371545E-3,null,{"$f":"SSI_AGI_ProtFactor","v":0.505},null,false,false,false,false,1,null,0,0.33333333333333326,null,null,null,1,null,0.16833333333333331,null,{"$error":"#VALUE!"},null,null,"","","","","","","","","","",1,"","","","","",null,"",1,"","","","","","","","","","","","","","",null,null,10,"Crossing - LT",1,0,1,0,null,0,0,1,0,null,1,0,1,0,null,0,0,1,0]
[11,"Merging","NBT, NBL","MinT1, MinL1","Signal far","WBR","MajR2","Major right",null,{"$error":"#VALUE!"},{"$error":"#VALUE!"},{"$error":"#VALUE!"},null,25,15,45,8.9396576292116645,9.4329959592674944E-4,null,0.505,null,false,false,false,false,1,null,0,0.33333333333333326,null,null,null,1,null,0.16833333333333331,null,{"$error":"#VALUE!"},null,null,"","","","","","",1,1,"","","","","","","","",null,"","","","","",1,"","","","","","","","","","",null,null,11,"Merging",2,0,0,0,null,1,0,0,0,null,2,0,0,0,null,1,0,0,0]
[12,"Merging","NBR","MinR1","Signal near","EBT, EBL","MajT1, MajL1","Major thru",null,{"$error":"#VALUE!"},{"$error":"#VALUE!"},{"$error":"#VALUE!"},null,15,0,45,7.5,4.8454301532720461E-4,null,0.505,null,false,false,false,false,1,null,0,0.33333333333333326,null,null,null,1,null,0.16833333333333331,null,{"$error":"#VALUE!"},null,null,"","","","","","","","",1,"","","","","","","",null,1,1,"","","","","","","","","","","","","","",null,null,12,"Merging",0,0,1,0,null,0,0,1,0,null,0,0,1,0,null,0,0,1,0]
[13,"Merging","EBR","MajR1","Major right","SBT, WBL","MinT1, MajL2","Signal far",null,{"$error":"#VALUE!"},{"$error":"#VALUE!"},{"$error":"#VALUE!"},null,15,25,45,8.9396576292116645,9.4329959592674944E-4,null,0.505,null,false,false,false,false,1,null,0,0.33333333333333326,null,null,null,1,null,0.16833333333333331,null,{"$error":"#VALUE!"},null,null,"","",1,"","","","","","","","","","","","","",null,"","","","",1,"",1,"","","","","","","","","",null,null,13,"Merging",2,0,0,0,null,1,0,0,0,null,2,0,0,0,null,1,0,0,0]
[14,"Merging","SBR","MinR2","Signal near","WBT, NBL","MajT2, MinL1","Major thru",null,{"$error":"#VALUE!"},{"$error":"#VALUE!"},{"$error":"#VALUE!"},null,15,0,45,7.5,4.8454301532720461E-4,null,0.505,null,false,false,false,false,1,null,0,0.33333333333333326,null,null,null,1,null,0.16833333333333331,null,{"$error":"#VALUE!"},null,null,"","","","","","","","","","","",1,"","","","",null,"","","",1,"","","",1,"","","","","","","","",null,null,14,"Merging",0,0,1,0,null,0,0,1,0,null,0,0,1,0,null,0,0,1,0]
[15,"Merging","SBT, SBR","MinT2, MinR2","Minor thru","WBL","MajL2","Signal far",null,{"$error":"#VALUE!"},{"$error":"#VALUE!"},{"$error":"#VALUE!"},null,0,25,45,12.5,3.3637551692797594E-3,null,0.505,null,false,false,false,false,1,null,{"$f":"IF(B18=\"Diverging\",\"\",SSI_AGI_VehSpeed_MnrThru)","v":0},0.33333333333333326,null,null,null,1,null,0.16833333333333331,null,{"$error":"#VALUE!"},null,null,"","","","","","","","","",1,"",1,"","","","",null,"","","","",1,"","","","","","","","","","","",null,null,15,"Merging",0,1,0,1,null,0,1,0,1,null,0,0,0,1,null,0,0,0,1]
[16,"Merging","SBL","MinL2","Minor left","NBL","MinL1","Minor right",null,{"$error":"#VALUE!"},{"$error":"#VALUE!"},{"$error":"#VALUE!"},null,20,15,45,7.0840654162717795,3.9022923271840544E-4,null,0.505,null,false,false,false,false,1,null,{"$f":"IF(B19=\"Diverging\",\"\",SSI_AGI_VehSpeed_MnrThru)","v":0},0.33333333333333326,null,null,null,1,null,0.16833333333333331,null,{"$error":"#VALUE!"},null,null,"","","","","","","","","","",1,"","","","","",null,"","","","","","","",1,"","","","","","","","",null,null,16,"Merging",0,0,1,0,null,0,0,1,0,null,0,0,1,0,null,0,0,1,0]
[17,"Merging","NBT, WBR","MinT1, MajR2","Minor thru","EBL","MajL1","Signal near",null,{"$error":"#VALUE!"},{"$error":"#VALUE!"},{"$error":"#VALUE!"},null,0,15,45,7.5,4.8454301532720461E-4,null,0.505,null,false,false,false,false,1,null,{"$f":"IF(B20=\"Diverging\",\"\",SSI_AGI_VehSpeed_MnrThru)","v":0},0.33333333333333326,null,null,null,1,null,0.16833333333333331,null,{"$error":"#VALUE!"},null,null,"","","","","",1,1,"","","","","","","","","",null,"",1,"","","","","","","","","","","","","","",null,null,17,"Merging",0,0,0,1,null,0,0,0,1,null,0,0,0,1,null,0,{"$f":"IF(OR(CE20=\"\",CJ20=\"\"),\"\",MIN(CE20,CJ20))","v":0},0,1]
[18,"Merging","NBL","MinL1","Signal near","WBT","MajT2","Major thru",null,{"$error":"#VALUE!"},{"$error":"#VALUE!"},{"$error":"#VALUE!"},null,15,0,45,7.5,4.8454301532720461E-4,null,0.505,null,false,false,false,false,1,null,{"$f":"IF(B21=\"Diverging\",\"\",SSI_AGI_VehSpeed_MjrThru)","v":0},0.33333333333333326,null,null,null,1,null,0.16833333333333331,null,{"$error":"#VALUE!"},null,null,"","","","","","","",1,"","","","","","","","",null,"","","",1,"","","","","","","","","","","","",null,null,18,"Merging",0,0,1,0,null,0,0,1,0,null,0,0,1,0,null,0,0,1,0]
[19,"Merging","EBT, NBR","MajT1, MinR1","Major thru","SBL","MinL2","Signal far",null,{"$error":"#VALUE!"},{"$error":"#VALUE!"},{"$error":"#VALUE!"},null,0,25,45,12.5,3.3637551692797594E-3,null,0.505,null,false,false,false,false,1,null,0,0.33333333333333326,null,null,null,1,null,0.16833333333333331,null,{"$error":"#VALUE!"},null,null,1,"","","","","","","",1,"","","","","","","",null,"","","","","","","","","","",1,"","","","","",null,null,19,"Merging",1,0,1,0,null,0,0,1,0,null,1,0,1,0,null,0,0,1,0]
[20,"Merging","WBR","MajR2","Major right","EBL","MajL1","Major left",null,{"$error":"#VALUE!"},{"$error":"#VALUE!"},{"$error":"#VALUE!"},null,15,20,45,7.0840654162717795,3.9022923271840544E-4,null,0.505,null,false,false,false,false,1,null,0,0.33333333333333326,null,null,null,1,null,0.16833333333333331,null,{"$error":"#VALUE!"},null,null,"","","","","",1,"","","","","","","","","","",null,"",1,"","","","","","","","","","","","","","",null,null,20,"Merging",1,0,0,0,null,1,0,0,0,null,1,0,0,0,null,1,0,0,0]
[21,"Diverging","SBT, WBL","MinT2, MajL2","Signal near","SBR","MinR1","Signal near",null,{"$error":"#VALUE!"},{"$error":"#VALUE!"},{"$error":"#VALUE!"},null,15,15,10,1.3073361412148754,6.4061388075216071E-7,null,1,null,false,false,false,false,1,null,"",1,null,null,null,1,null,1,null,{"$error":"#VALUE!"},null,null,"","","","",1,"","","","",1,"","","","","","",null,"","","","","","","","",1,"","","","","","","",null,null,21,"Diverging",0,0,0,0,null,0,0,0,0,null,0,0,0,0,null,0,0,0,0]
[22,"Diverging","WBT, NBL","MajT2, MinL1","Major thru","WBR","MajR2","Major right",null,{"$error":"#VALUE!"},{"$error":"#VALUE!"},{"$error":"#VALUE!"},null,0,15,10,7.5,4.8454301532720461E-4,null,1,null,false,false,false,false,1,null,"",1,null,null,null,1,null,1,null,{"$error":"#VALUE!"},null,null,"","","",1,"","","",1,"","","","","","","","",null,"","","","","",1,"","","","","","","","","","",null,null,22,"Diverging",0,0,0,0,null,0,0,0,0,null,0,0,0,0,null,{"$f":"IF(OR(CD25=\"\",CI25=\"\"),\"\",MIN(CD25,CI25))","v":0},0,0,0]
[23,"Diverging","NBT, NBL","MinT1, MinL1","Signal near","NBR","MinR1","Signal near",null,{"$error":"#VALUE!"},{"$error":"#VALUE!"},{"$error":"#VALUE!"},null,15,15,10,1.3073361412148754,6.4061388075216071E-7,null,1,null,false,false,false,false,1,null,"",1,null,null,null,1,null,1,null,{"$error":"#VALUE!"},null,null,"","","","","","",1,1,"","","","","","","","",null,"","","","","","","","",1,"","","","","","","",null,null,23,"Diverging",0,0,0,0,null,0,0,0,0,null,0,0,0,0,null,0,0,0,0]
[24,"Diverging","EBT, EBL","MajT1, MajL1","Major thru","EBR","MajR1","Major right",null,{"$error":"#VALUE!"},{"$error":"#VALUE!"},{"$error":"#VALUE!"},null,0,15,10,7.5,4.8454301532720461E-4,null,1,null,false,false,false,false,1,null,"",1,null,null,null,1,null,1,null,{"$error":"#VALUE!"},null,null,1,1,"","","","","","","","","","","","","","",null,"","",1,"","","","","","","","","","","","","",null,null,24,"Diverging",0,0,0,0,null,0,0,0,0,null,0,0,0,0,null,0,0,0,0]
[25,"Diverging","NBT, WBR","MinT1, MajR2","Minor thru","NBL","MinL1","Minor right",null,{"$error":"#VALUE!"},{"$error":"#VALUE!"},{"$error":"#VALUE!"},null,0,15,10,7.5,4.8454301532720461E-4,null,1,null,false,false,false,false,1,null,"",1,null,null,null,1,null,1,null,{"$error":"#VALUE!"},null,null,"","","","","",1,1,"","","","","","","","","",null,"","","","","","","",1,"","","","","","","","",null,null,25,"Diverging",0,0,0,0,null,0,0,0,0,null,0,0,0,0,null,0,0,0,0]
[26,"Diverging","SBT, SBR","MinT2, MinR2","Minor thru","SBL","MinL2","Minor left",null,{"$error":"#VALUE!"},{"$error":"#VALUE!"},{"$error":"#VALUE!"},null,0,20,10,10,1.4431392232699444E-3,null,1,null,false,false,false,false,1,null,"",1,null,null,null,1,null,1,null,{"$error":"#VALUE!"},null,null,"","","","","","","","","",1,"",1,"","","","",null,"","","","","","","","","","",1,"","","","","",null,null,26,"Diverging",0,0,0,0,null,0,0,0,0,null,0,0,0,0,null,0,0,0,0]
[27,"Diverging","WBR, EBL","MajR2, MajL1","Signal near","WBL","MajL2","Signal near",null,{"$error":"#VALUE!"},{"$error":"#VALUE!"},{"$error":"#VALUE!"},null,15,15,10,1.3073361412148754,6.4061388075216071E-7,null,1,null,false,false,false,false,1,null,"",1,null,null,null,1,null,1,null,{"$error":"#VALUE!"},null,null,"",1,"","","",1,"","","","","","","","","","",null,"","","","",1,"","","","","","","","","","","",null,null,27,"Diverging",0,0,0,0,null,0,0,0,0,null,0,0,0,0,null,0,0,0,0]
[28,"Diverging","EBT, NBR","MajT1, MinR1","Major thru","EBL","MajL1","Major left",null,{"$error":"#VALUE!"},{"$error":"#VALUE!"},{"$error":"#VALUE!"},null,0,20,10,10,1.4431392232699444E-3,null,1,null,false,false,false,false,1,null,"",1,null,null,null,1,null,1,null,{"$error":"#VALUE!"},null,null,1,"","","","","","","",1,"","","","","","","",null,"",1,"","","","","","","","","","","","","","",null,null,28,"Diverging",0,0,0,0,null,0,0,0,0,null,0,0,0,0,null,0,0,0,0]
[29,"Diverging","NBL","MinL1","Signal near","SBL","MinL2","Signal near",null,{"$error":"#VALUE!"},{"$error":"#VALUE!"},{"$error":"#VALUE!"},null,15,15,10,1.3073361412148754,6.4061388075216071E-7,null,1,null,false,false,false,false,1,null,"",1,null,null,null,1,null,1,null,{"$error":"#VALUE!"},null,null,"","","","","","","",1,"","","","","","","","",null,"","","","","","","","","","",1,"","","","","",null,null,29,"Diverging",0,0,0,0,null,0,0,0,0,null,0,0,0,0,null,0,0,0,0]
[30,"Diverging","WBT","MajT2","Major thru","WBR, WBL","MajR2, MajL2","Major right",null,{"$error":"#VALUE!"},{"$error":"#VALUE!"},{"$error":"#VALUE!"},null,0,15,10,7.5,4.8454301532720461E-4,null,1,null,false,false,false,false,1,null,"",1,null,null,null,1,null,1,null,{"$error":"#VALUE!"},null,null,"","","",1,"","","","","","","","","","","","",null,"","","","",1,1,"","","","","","","","","","",null,null,30,"Diverging",0,0,0,0,null,0,0,0,0,null,0,0,0,0,null,0,0,0,0]
[31,"Nonmotorized",null,"MajNM1","Nonmotorized","SBR","MinR2","Signal near",null,{"$error":"#VALUE!"},{"$error":"#VALUE!"},{"$error":"#VALUE!"},null,0,15,"","",0.1205004039155782,null,{"$f":"SSI_AGI_ProtFactor","v":0.505},null,false,false,false,false,1,null,0,0.33333333333333326,null,null,null,1,null,0.16833333333333331,null,{"$error":"#VALUE!"},null,null,"","","","","","","","","","","","",1,"","","",null,"","","","","","","","","","","",1,"","","","",null,null,31,"Nonmotorized",2,0,0,1,null,1,0,0,1,null,2,0,0,1,null,1,0,0,1]
[32,"Nonmotorized",null,"MajNM1","Nonmotorized","WBT","MajT2","Major thru",null,{"$error":"#VALUE!"},{"$error":"#VALUE!"},{"$error":"#VALUE!"},null,0,0,"","",2.0975532400616122E-2,null,0.505,null,false,false,false,false,1,null,0,0.33333333333333326,null,null,null,1,null,0.16833333333333331,null,{"$error":"#VALUE!"},null,null,{"$f":"IF(ISNUMBER(SEARCH(AN$3,$D35)),1,\"\")","v":""},"","","","","","","","","","","",1,"","","",null,{"$f":"IF(ISNUMBER(SEARCH(BE$3,$G35)),1,\"\")","v":""},"","",1,"","","","","","","","","","","","",null,null,32,"Nonmotorized",2,0,0,1,null,1,0,0,1,null,2,0,0,1,null,1,0,0,1]
[33,"Nonmotorized",null,"MajNM1","Nonmotorized","EBT","MajT1","Major thru",null,{"$f":"SUMPRODUCT($AN36:$BC36,$AN$74:$BC$74)","v":{"$error":"#VALUE!"}},{"$f":"SUMPRODUCT($BE36:$BT36,$BE$74:$BT$74)","v":{"$error":"#VALUE!"}},{"$error":"#VALUE!"},null,{"$f":"VLOOKUP(E36,SSI_AGI_Range_VehSpeed,5,FALSE)","v":0},{"$f":"VLOOKUP(H36,SSI_AGI_Range_VehSpeed,5,FALSE)","v":0},{"$f":"IF(B36=\"Nonmotorized\",\"\",VLOOKUP(B36,SSI_AGI_Range_CollAngles,5,FALSE))","v":""},{"$f":"IF(B36=\"Nonmotorized\",\"\",SQRT(N36^2+O36^2-2*N36*O36*COS(RADIANS(P36)))/2)","v":""},{"$f":"IF(B36=\"Nonmotorized\",1/(1+EXP(3.8432-0.1237*O36)),(Q36/SSI_AGI_RegAlpha)^SSI_AGI_RegK+(Q36/SSI_AGI_RegAlpha)^SSI_AGI_RegK-((Q36/SSI_AGI_RegAlpha)^SSI_AGI_RegK)*((Q36/SSI_AGI_RegAlpha)^SSI_AGI_RegK))","v":2.0975532400616122E-2},null,0.505,null,{"$f":"IF(AND(SS_AGI_MajMedian=\"No\", SS_AGI_MinMedian=\"No\"),BY36,IF(AND(SS_AGI_MajMedian=\"Yes\",SS_AGI_MinMedian=\"No\"),CD36,IF(AND(SS_AGI_MajMedian=\"No\",SS_AGI_MinMedian=\"Yes\"),CI36,IF(AND(SS_AGI_MajMedian=\"Yes\",SS_AGI_MinMedian=\"Yes\"),CN36))))","v":false},{"$f":"IF(AND(SS_AGI_MajMedian=\"No\", SS_AGI_MinMedian=\"No\"),BZ36,IF(AND(SS_AGI_MajMedian=\"Yes\",SS_AGI_MinMedian=\"No\"),CE36,IF(AND(SS_AGI_MajMedian=\"No\",SS_AGI_MinMedian=\"Yes\"),CJ36,IF(AND(SS_AGI_MajMedian=\"Yes\",SS_AGI_MinMedian=\"Yes\"),CO36))))","v":false},{"$f":"IF(AND(SS_AGI_MajMedian=\"No\", SS_AGI_MinMedian=\"No\"),CA36,IF(AND(SS_AGI_MajMedian=\"Yes\",SS_AGI_MinMedian=\"No\"),CF36,IF(AND(SS_AGI_MajMedian=\"No\",SS_AGI_MinMedian=\"Yes\"),CK36,IF(AND(SS_AGI_MajMedian=\"Yes\",SS_AGI_MinMedian=\"Yes\"),CP36))))","v":false},{"$f":"IF(AND(SS_AGI_MajMedian=\"No\", SS_AGI_MinMedian=\"No\"),CB36,IF(AND(SS_AGI_MajMedian=\"Yes\",SS_AGI_MinMedian=\"No\"),CG36,IF(AND(SS_AGI_MajMedian=\"No\",SS_AGI_MinMedian=\"Yes\"),CL36,IF(AND(SS_AGI_MajMedian=\"Yes\",SS_AGI_MinMedian=\"Yes\"),CQ36))))","v":false},{"$f":"MAX(1,IF(B36<>\"Pedestrian\",V36*SSI_AGI_MajorThruLanes+W36*SSI_AGI_MinorThruLanes+X36*IF(SSI_AGI_MajorThruLanes=1,SSI_AGI_MergeWeightL1,IF(SSI_AGI_MajorThruLanes=2,SSI_AGI_MergeWeightL1+SSI_AGI_MergeWeightL2,SSI_AGI_MergeWeightL1+SSI_AGI_MergeWeightL2+SSI_AGI_MergeWeightL3*(SSI_AGI_MajorThruLanes-2)))+Y36*IF(SSI_AGI_MinorThruLanes=1,SSI_AGI_MergeWeightL1,IF(SSI_AGI_MinorThruLanes=2,SSI_AGI_MergeWeightL1+SSI_AGI_MergeWeightL2,SSI_AGI_MergeWeightL1+SSI_AGI_MergeWeightL2+SSI_AGI_MergeWeightL3*(SSI_AGI_MinorThruLanes-2))),V36*SSI_AGI_MajorThruLanes+W36*SSI_AGI_MinorThruLanes+X36*IF(SSI_AGI_MajorThruLanes=1,SSI_AGI_NM_MergeWeightL1,IF(SSI_AGI_MajorThruLanes=2,SSI_AGI_NM_MergeWeightL1+SSI_AGI_NM_MergeWeightL2,SSI_AGI_NM_MergeWeightL1+SSI_AGI_NM_MergeWeightL2+SSI_AGI_NM_MergeWeightL3*(SSI_AGI_MajorThruLanes-2)))+Y36*IF(SSI_AGI_MinorThruLanes=1,SSI_AGI_NM_MergeWeightL1,IF(SSI_AGI_MinorThruLanes=2,SSI_AGI_NM_MergeWeightL1+SSI_AGI_NM_MergeWeightL2,SSI_AGI_NM_MergeWeightL1+SSI_AGI_NM_MergeWeightL2+SSI_AGI_NM_MergeWeightL3*(SSI_AGI_MinorThruLanes-2)))))","v":1},null,0,0.33333333333333326,null,null,null,1,null,0.16833333333333331,null,{"$error":"#VALUE!"},null,null,"","","","","","","","","","","","",1,"","","",null,1,"","","","","","","","","","","","","","","",null,null,33,"Nonmotorized",2,0,0,1,null,1,0,0,0,null,2,0,0,1,null,1,0,0,0]
[34,"Nonmotorized",null,"MajNM1","Nonmotorized","EBR","MajR1","Major right",null,{"$error":"#VALUE!"},{"$error":"#VALUE!"},{"$f":"PRODUCT(J37:K37)","v":{"$error":"#VALUE!"}},null,0,15,"","",0.1205004039155782,null,0.505,null,false,false,false,false,1,null,0,0.33333333333333326,null,null,null,1,null,0.16833333333333331,null,{"$error":"#VALUE!"},null,null,"","","","","","","","","","","","",1,"","","",null,"","",1,"","","","","","","","","","","","","",null,null,34,"Nonmotorized",2,0,0,1,null,1,0,0,0,null,2,0,0,1,null,1,0,0,0]
[35,"Nonmotorized",null,"MinNM1","Nonmotorized","EBR","MajR1","Major right",null,{"$error":"#VALUE!"},{"$error":"#VALUE!"},{"$error":"#VALUE!"},null,0,15,"","",0.1205004039155782,null,0.505,null,false,false,false,false,1,null,0,0.33333333333333326,null,null,null,1,null,0.16833333333333331,null,{"$error":"#VALUE!"},null,null,"","","","","","","","","","","","","","",1,"",null,"","",1,"","","","","","","","","","","","","",null,null,35,"Nonmotorized",0,2,1,0,null,0,2,1,0,null,0,1,1,0,null,0,1,1,0]
[36,"Nonmotorized",null,"MinNM1","Nonmotorized","SBT","MinT2","Signal far",null,{"$error":"#VALUE!"},{"$error":"#VALUE!"},{"$error":"#VALUE!"},null,0,25,"","",0.32066879346345062,null,0.505,null,false,false,false,false,1,null,0,0.33333333333333326,null,null,null,1,null,0.16833333333333331,null,{"$error":"#VALUE!"},null,null,"","","","","","","","","","","","","","",1,"",null,"","","","","","","","","",1,"","","","","","",null,null,36,"Nonmotorized",0,2,1,0,null,0,2,1,0,null,0,1,1,0,null,0,1,1,0]
[37,"Nonmotorized",null,"MinNM1","Nonmotorized","NBT","MinT1","Signal near",null,{"$error":"#VALUE!"},{"$error":"#VALUE!"},{"$error":"#VALUE!"},null,0,15,"","",0.1205004039155782,null,0.505,null,false,false,false,false,1,null,0,0.33333333333333326,null,null,null,1,null,0.16833333333333331,null,{"$error":"#VALUE!"},null,null,"","","","","","","","","","","","","","",1,"",null,"","","","","","",1,"","","","","","","","","",null,null,37,"Nonmotorized",0,2,1,0,null,0,2,1,0,null,0,1,0,0,null,0,1,0,0]
[38,"Nonmotorized",null,"MinNM1","Nonmotorized","NBR","MinR1","Signal near",null,{"$error":"#VALUE!"},{"$error":"#VALUE!"},{"$error":"#VALUE!"},null,0,15,"","",0.1205004039155782,null,0.505,null,false,false,false,false,1,null,0,0.33333333333333326,null,null,null,1,null,0.16833333333333331,null,{"$error":"#VALUE!"},null,null,"","","","","","","","","","","","","","",1,"",null,"","","","","","","","",1,"","","","","","","",null,null,38,"Nonmotorized",0,2,1,0,null,0,2,1,0,null,0,1,0,0,null,0,1,0,0]
[39,"Nonmotorized",null,"MajNM2","Nonmotorized","NBR","MinR1","Signal near",null,{"$error":"#VALUE!"},{"$error":"#VALUE!"},{"$error":"#VALUE!"},null,0,15,"","",0.1205004039155782,null,0.505,null,false,false,false,false,1,null,0,0.33333333333333326,null,null,null,1,null,0.16833333333333331,null,{"$error":"#VALUE!"},null,null,"","","","","","","","","","","","","",1,"","",null,"","","","","","","","",1,"","","","","","","",null,null,39,"Nonmotorized",2,0,0,1,null,1,0,0,1,null,2,0,0,1,null,1,0,0,1]
[40,"Nonmotorized",null,"MajNM2","Nonmotorized","EBT","MajT1","Major thru",null,{"$error":"#VALUE!"},{"$error":"#VALUE!"},{"$error":"#VALUE!"},null,0,0,"","",2.0975532400616122E-2,null,0.505,null,false,false,false,false,1,null,0,0.33333333333333326,null,null,null,1,null,0.16833333333333331,null,{"$error":"#VALUE!"},null,null,"","","","","","","","","","","","","",1,"","",null,1,"","","","","","","","","","","","","","","",null,null,40,"Nonmotorized",2,0,0,1,null,1,0,0,1,null,2,0,0,1,null,1,0,0,1]
[41,"Nonmotorized",null,"MajNM2","Nonmotorized","WBT","MajT2","Major thru",null,{"$error":"#VALUE!"},{"$error":"#VALUE!"},{"$error":"#VALUE!"},null,0,0,"","",2.0975532400616122E-2,null,0.505,null,false,false,false,false,1,null,0,0.33333333333333326,null,null,null,1,null,0.16833333333333331,null,{"$error":"#VALUE!"},null,null,"","","","","","","","","","","","","",1,"","",null,"","","",1,"","","","","","","","","","","","",null,null,41,"Nonmotorized",2,0,0,1,null,1,0,0,0,null,2,0,0,1,null,1,0,0,0]
[42,"Nonmotorized",null,"MajNM2","Nonmotorized","WBR","MajR2","Major right",null,{"$error":"#VALUE!"},{"$error":"#VALUE!"},{"$error":"#VALUE!"},null,0,15,"","",0.1205004039155782,null,0.505,null,false,false,false,false,1,null,0,0.33333333333333326,null,null,null,1,null,0.16833333333333331,null,{"$error":"#VALUE!"},null,null,"","","","","","","","","","","","","",1,"","",null,"","","","","",1,"","","","","","","","","","",null,null,42,"Nonmotorized",2,0,0,1,null,1,0,0,0,null,2,0,0,1,null,1,0,0,0]
[43,"Nonmotorized",null,"MinNM2","Nonmotorized","WBR","MajR2","Major right",null,{"$error":"#VALUE!"},{"$error":"#VALUE!"},{"$error":"#VALUE!"},null,0,15,"","",0.1205004039155782,null,0.505,null,false,false,false,false,1,null,0,0.33333333333333326,null,null,null,1,null,0.16833333333333331,null,{"$error":"#VALUE!"},null,null,"","","","","","","","","","","","","","","",1,null,"","","","","",1,"","","","","","","","","","",null,null,43,"Nonmotorized",0,2,1,0,null,0,2,1,0,null,0,1,1,0,null,0,1,1,0]
[44,"Nonmotorized",null,"MinNM2","Nonmotorized","NBT","MinT1","Signal far",null,{"$error":"#VALUE!"},{"$error":"#VALUE!"},{"$error":"#VALUE!"},null,0,25,"","",0.32066879346345062,null,0.505,null,false,false,false,false,1,null,0,0.33333333333333326,null,null,null,1,null,0.16833333333333331,null,{"$error":"#VALUE!"},null,null,"","","","","","","","","","","","","","","",1,null,"","","","","","",1,"","","","","","","","","",null,null,44,"Nonmotorized",0,2,1,0,null,0,2,1,0,null,0,1,1,0,null,0,1,1,0]
[45,"Nonmotorized",null,"MinNM2","Nonmotorized","SBT","MinT2","Signal near",null,{"$error":"#VALUE!"},{"$error":"#VALUE!"},{"$error":"#VALUE!"},null,0,15,"","",0.1205004039155782,null,0.505,null,false,false,false,false,1,null,0,0.33333333333333326,null,null,null,1,null,0.16833333333333331,null,{"$error":"#VALUE!"},null,null,"","","","","","","","","","","","","","","",1,null,"","","","","","","","","",1,"","","","","","",null,null,45,"Nonmotorized",0,2,1,0,null,0,2,1,0,null,0,1,0,0,null,0,1,0,0]
[46,"Nonmotorized",null,"MinNM2","Nonmotorized","SBR","MinR2","Signal near",null,{"$error":"#VALUE!"},{"$error":"#VALUE!"},{"$error":"#VALUE!"},null,0,15,"","",0.1205004039155782,null,0.505,null,false,false,false,false,1,null,0,0.33333333333333326,null,null,null,1,null,0.16833333333333331,null,{"$error":"#VALUE!"},null,null,"","","","","","","","","","","","","","","",1,null,"","","","","","","","","","","",1,"","","","",null,null,46,"Nonmotorized",0,2,1,0,null,0,2,1,0,null,0,1,0,0,null,0,1,0,0]
[47,"Nonmotorized",null,"MinNM2","Nonmotorized","NBL","MinL1","Signal near",null,{"$error":"#VALUE!"},{"$error":"#VALUE!"},{"$error":"#VALUE!"},null,0,15,"","",0.1205004039155782,null,0.505,null,false,false,false,false,1,null,0,0.33333333333333326,null,null,null,1,null,0.16833333333333331,null,{"$error":"#VALUE!"},null,null,"","","","","","","","","","","","","","","",{"$f":"IF(ISNUMBER(SEARCH(BC$3,$D50)),1,\"\")","v":1},null,"","","","","","","",1,"","","","","","","",{"$f":"IF(ISNUMBER(SEARCH(BT$3,$G50)),1,\"\")","v":""},null,null,47,"Nonmotorized",0,2,2,0,null,0,2,2,0,null,0,1,0,0,null,0,1,0,0]
[48,"Nonmotorized",null,"MinNM2","Nonmotorized","SBL","MinL1","Signal near",null,{"$error":"#VALUE!"},{"$error":"#VALUE!"},{"$error":"#VALUE!"},null,0,15,"","",0.1205004039155782,null,0.505,null,false,false,false,false,1,null,0,0.33333333333333326,null,null,null,1,null,0.16833333333333331,null,{"$error":"#VALUE!"},null,null,{"$f":"IF(ISNUMBER(SEARCH(AN$3,$D51)),1,\"\")","v":""},"","","","","","","","","","","","","","",1,null,{"$f":"IF(ISNUMBER(SEARCH(BE$3,$G51)),1,\"\")","v":""},"","","","","","",1,"","","","","","","","",null,null,48,"Nonmotorized",0,2,2,0,null,0,2,2,0,null,0,1,0,0,null,0,1,0,0]
[49,"Nonmotorized",null,"MinNM2","Nonmotorized","EBL","MajL1","Major left",null,{"$error":"#VALUE!"},{"$error":"#VALUE!"},{"$error":"#VALUE!"},null,0,20,"","",0.20274912921655375,null,{"$f":"IF(SSI_AGI_PedExclusive=\"Yes\",SSI_AGI_ProtFactor, SSI_AGI_ProtPermFactor)","v":0.92500000000000004},null,false,false,false,false,1,null,0,0.33333333333333326,null,null,null,1,null,0.30833333333333329,null,{"$error":"#VALUE!"},null,null,"","","","","","","","","","","","","","","",1,null,"",1,"","","","","","","","","","","","","","",null,null,49,"Nonmotorized",0,2,2,0,null,0,2,2,0,null,0,1,2,0,null,0,1,2,0]
[50,"Nonmotorized",null,"MinNM2","Nonmotorized","WBL","MajL2","Major right",null,{"$error":"#VALUE!"},{"$error":"#VALUE!"},{"$error":"#VALUE!"},null,0,15,"","",0.1205004039155782,null,0.505,null,false,false,false,false,1,null,0,0.33333333333333326,null,null,null,1,null,0.16833333333333331,null,{"$error":"#VALUE!"},null,null,"","","","","","","","","","","","","","","",1,null,"","","","",1,"","","","","","","","","","","",null,null,50,"Nonmotorized",0,2,2,0,null,0,2,2,0,null,0,1,2,0,null,0,1,2,0]
[51,"Nonmotorized",null,"MajNM2","Nonmotorized","EBL","MajL1","Signal near",null,{"$error":"#VALUE!"},{"$error":"#VALUE!"},{"$error":"#VALUE!"},null,0,15,"","",0.1205004039155782,null,0.505,null,false,false,false,false,1,null,{"$f":"IF(B54=\"Diverging\",\"\",SSI_AGI_VehSpeed_MnrThru)","v":0},0.33333333333333326,null,null,null,1,null,0.16833333333333331,null,{"$error":"#VALUE!"},null,null,"","","","","","","","","","","","","",1,"","",null,"",1,"","","","","","","","","","","","","","",null,null,51,"Nonmotorized",0,2,0,2,null,0,2,0,2,null,0,1,0,0,null,0,1,0,0]
[52,"Nonmotorized",null,"MajNM2","Nonmotorized","WBL","MajL2","Signal near",null,{"$error":"#VALUE!"},{"$error":"#VALUE!"},{"$error":"#VALUE!"},null,0,15,"","",0.1205004039155782,null,0.505,null,false,false,false,false,1,null,0,0.33333333333333326,null,null,null,1,null,0.16833333333333331,null,{"$error":"#VALUE!"},null,null,"","","","","","","","","","","","","",1,"","",null,"","","","",1,"","","","","","","","","","","",null,null,52,"Nonmotorized",0,2,0,2,null,0,2,0,2,null,0,1,0,0,null,0,1,0,0]
[53,"Nonmotorized",null,"MajNM2","Nonmotorized","SBL","MinL2","Minor left",null,{"$error":"#VALUE!"},{"$error":"#VALUE!"},{"$error":"#VALUE!"},null,0,20,"","",0.20274912921655375,null,{"$f":"IF(SSI_AGI_PedExclusive=\"Yes\",SSI_AGI_ProtFactor,SSI_AGI_ProtPermFactor)","v":0.92500000000000004},null,false,false,false,false,1,null,0,0.33333333333333326,null,null,null,1,null,0.30833333333333329,null,{"$error":"#VALUE!"},null,null,"","","","","","","","","","","","","",1,"","",null,"","","","","","","","","","",1,"","","","","",null,null,53,"Nonmotorized",0,2,0,2,null,0,2,0,2,null,0,1,0,2,null,0,1,0,2]
[54,"Nonmotorized",null,"MajNM2","Nonmotorized","NBL","MinL1","Minor right",null,{"$error":"#VALUE!"},{"$error":"#VALUE!"},{"$error":"#VALUE!"},null,0,15,"","",0.1205004039155782,null,0.505,null,false,false,false,false,1,null,0,0.33333333333333326,null,null,null,1,null,0.16833333333333331,null,{"$error":"#VALUE!"},null,null,"","","","","","","","","","","","","",1,"","",null,"","","","","","","",1,"","","","","","","","",null,null,54,"Nonmotorized",0,2,0,2,null,0,2,0,2,null,0,1,0,2,null,0,1,0,2]
[55,"Nonmotorized",null,"MinNM2","Nonmotorized","NBL","MinL1","Minor right",null,{"$f":"SUMPRODUCT($AN58:$BC58,$AN$74:$BC$74)","v":{"$error":"#VALUE!"}},{"$f":"SUMPRODUCT($BE58:$BT58,$BE$74:$BT$74)","v":{"$error":"#VALUE!"}},{"$f":"PRODUCT(J58:K58)","v":{"$error":"#VALUE!"}},null,{"$f":"VLOOKUP(E58,SSI_AGI_Range_VehSpeed,5,FALSE)","v":0},{"$f":"VLOOKUP(H58,SSI_AGI_Range_VehSpeed,5,FALSE)","v":15},{"$f":"IF(B58=\"Nonmotorized\",\"\",VLOOKUP(B58,SSI_AGI_Range_CollAngles,5,FALSE))","v":""},{"$f":"IF(B58=\"Nonmotorized\",\"\",SQRT(N58^2+O58^2-2*N58*O58*COS(RADIANS(P58)))/2)","v":""},{"$f":"IF(B58=\"Nonmotorized\",1/(1+EXP(3.8432-0.1237*O58)),(Q58/SSI_AGI_RegAlpha)^SSI_AGI_RegK+(Q58/SSI_AGI_RegAlpha)^SSI_AGI_RegK-((Q58/SSI_AGI_RegAlpha)^SSI_AGI_RegK)*((Q58/SSI_AGI_RegAlpha)^SSI_AGI_RegK))","v":0.1205004039155782},null,0.505,null,false,false,false,false,1,null,0,0.33333333333333326,null,null,null,1,null,0.16833333333333331,null,{"$error":"#VALUE!"},null,null,"","","","","","","","","","","","","","","",1,null,"","","","","","","",1,"","","","","","","","",null,null,55,"Nonmotorized",0,2,0,1,null,0,2,0,1,null,0,1,0,0,null,0,1,0,0]
[56,"Nonmotorized",null,"MinNM2","Nonmotorized","NBT, WBR","MinT1, MajR2","Minor thru",null,{"$error":"#VALUE!"},{"$error":"#VALUE!"},{"$error":"#VALUE!"},null,0,0,"","",2.0975532400616122E-2,null,0.505,null,false,false,false,false,1,null,0,0.33333333333333326,null,null,null,1,null,0.16833333333333331,null,{"$error":"#VALUE!"},null,null,"","","","","","","","","","","","","","","",1,null,"","","","","",1,1,"","","","","","","","","",null,null,56,"Nonmotorized",0,2,0,1,null,0,2,0,1,null,0,1,0,0,null,0,1,0,0]
[57,"Nonmotorized",null,"MinNM2","Nonmotorized","WBL","MajL2","Signal far",null,{"$error":"#VALUE!"},{"$error":"#VALUE!"},{"$error":"#VALUE!"},null,0,25,"","",0.32066879346345062,null,{"$f":"IF(SSI_AGI_PedExclusive=\"Yes\",SSI_AGI_ProtFactor, SSI_AGI_ProtPermFactor)","v":0.92500000000000004},null,false,false,false,false,1,null,0,0.33333333333333326,null,null,null,1,null,0.30833333333333329,null,{"$error":"#VALUE!"},null,null,"","","","","","","","","","","","","","","",1,null,"","","","",1,"","","","","","","","","","","",null,null,57,"Nonmotorized",0,2,0,1,null,0,2,0,1,null,0,1,0,1,null,0,1,0,1]
[58,"Nonmotorized",null,"MinNM2","Nonmotorized","SBT, SBR","MinT2, MinR2","Minor thru",null,{"$error":"#VALUE!"},{"$error":"#VALUE!"},{"$error":"#VALUE!"},null,0,0,"","",2.0975532400616122E-2,null,0.505,null,false,false,false,false,1,null,0,0.33333333333333326,null,null,null,1,null,0.16833333333333331,null,{"$error":"#VALUE!"},null,null,"","","","","","","","","","","","","","","",1,null,"","","","","","","","","",1,"",1,"","","","",null,null,58,"Nonmotorized",0,2,0,1,null,0,2,0,1,null,0,1,0,1,null,0,1,0,1]
[59,"Nonmotorized",null,"MinNM2","Nonmotorized","SBT, SBR","MinT2, MinR2","Minor thru",null,{"$error":"#VALUE!"},{"$error":"#VALUE!"},{"$error":"#VALUE!"},null,0,0,"","",2.0975532400616122E-2,null,0.505,null,false,false,false,false,1,null,0,0.33333333333333326,null,null,null,1,null,0.16833333333333331,null,{"$error":"#VALUE!"},null,null,"","","","","","","","","","","","","","","",1,null,"","","","","","","","","",1,"",1,"","","","",null,null,59,"Nonmotorized",0,2,0,1,null,0,2,0,1,null,0,1,0,0,null,0,1,0,0]
[60,"Nonmotorized",null,"MinNM2","Nonmotorized","SBL","MinL2","Minor left",null,{"$error":"#VALUE!"},{"$error":"#VALUE!"},{"$error":"#VALUE!"},null,0,20,"","",0.20274912921655375,null,0.505,null,false,false,false,false,1,null,0,0.33333333333333326,null,null,null,1,null,0.16833333333333331,null,{"$error":"#VALUE!"},null,null,"","","","","","","","","","","","","","","",1,null,"","","","","","","","","","",1,"","","","","",null,null,60,"Nonmotorized",0,2,0,1,null,0,2,0,1,null,0,1,0,0,null,0,1,0,0]
[61,"Nonmotorized",null,"MinNM2","Nonmotorized","NBT, WBR","MinT1, MajR2","Minor thru",null,{"$error":"#VALUE!"},{"$error":"#VALUE!"},{"$error":"#VALUE!"},null,0,0,"","",2.0975532400616122E-2,null,0.505,null,false,false,false,false,1,null,0,0.33333333333333326,null,null,null,1,null,0.16833333333333331,null,{"$error":"#VALUE!"},null,null,"","","","","","","","","","","","","","","",1,null,"","","","","",1,1,"","","","","","","","","",null,null,61,"Nonmotorized",0,2,0,1,null,0,2,0,1,null,0,1,0,1,null,0,1,0,1]
[62,"Nonmotorized",null,"MinNM2","Nonmotorized","EBL","MajL1","Signal near",null,{"$error":"#VALUE!"},{"$error":"#VALUE!"},{"$error":"#VALUE!"},null,0,15,"","",0.1205004039155782,null,0.505,null,false,false,false,false,1,null,0,0.33333333333333326,null,null,null,1,null,0.16833333333333331,null,{"$error":"#VALUE!"},null,null,"","","","","","","","","","","","","","","",1,null,"",1,"","","","","","","","","","","","","","",null,null,62,"Nonmotorized",0,2,0,1,null,0,2,0,1,null,0,1,0,1,null,0,1,0,1]
[63,"Nonmotorized",null,"MajNM2","Nonmotorized","NBL","MinL1","Signal near",null,{"$error":"#VALUE!"},{"$error":"#VALUE!"},{"$error":"#VALUE!"},null,0,15,"","",0.1205004039155782,null,0.505,null,false,false,false,false,1,null,{"$f":"IF(B66=\"Diverging\",\"\",SSI_AGI_VehSpeed_MjrThru)","v":0},0.33333333333333326,null,null,null,1,null,0.16833333333333331,null,{"$error":"#VALUE!"},null,null,"","","","","","","","","","","","","",1,"",{"$f":"IF(ISNUMBER(SEARCH(BC$3,$D66)),1,\"\")","v":""},null,"","","","","","","",1,"","","","","","","",{"$f":"IF(ISNUMBER(SEARCH(BT$3,$G66)),1,\"\")","v":""},null,null,63,"Nonmotorized",2,0,0,1,null,1,0,0,1,null,2,0,0,1,null,1,0,0,1]
[64,"Nonmotorized",null,"MajNM2","Nonmotorized","WBT, WBR","MajT2, MajR2","Major thru",null,{"$error":"#VALUE!"},{"$error":"#VALUE!"},{"$error":"#VALUE!"},null,0,0,"","",2.0975532400616122E-2,null,0.505,null,false,false,false,false,1,null,0,0.33333333333333326,null,null,null,1,null,0.16833333333333331,null,{"$error":"#VALUE!"},null,null,"","","","","","","","","","","","","",1,"","",null,"","","",1,"",1,"","","","","","","","","","",null,null,64,"Nonmotorized",2,0,0,1,null,1,0,0,1,null,2,0,0,1,null,1,0,0,1]
[65,"Nonmotorized",null,"MajNM2","Nonmotorized","EBL","MajL1","Major left",null,{"$error":"#VALUE!"},{"$error":"#VALUE!"},{"$error":"#VALUE!"},null,0,20,"","",0.20274912921655375,null,0.505,null,{"$f":"IF(AND(SS_AGI_MajMedian=\"No\", SS_AGI_MinMedian=\"No\"),BY68,IF(AND(SS_AGI_MajMedian=\"Yes\",SS_AGI_MinMedian=\"No\"),CD68,IF(AND(SS_AGI_MajMedian=\"No\",SS_AGI_MinMedian=\"Yes\"),CI68,IF(AND(SS_AGI_MajMedian=\"Yes\",SS_AGI_MinMedian=\"Yes\"),CN68))))","v":false},{"$f":"IF(AND(SS_AGI_MajMedian=\"No\", SS_AGI_MinMedian=\"No\"),BZ68,IF(AND(SS_AGI_MajMedian=\"Yes\",SS_AGI_MinMedian=\"No\"),CE68,IF(AND(SS_AGI_MajMedian=\"No\",SS_AGI_MinMedian=\"Yes\"),CJ68,IF(AND(SS_AGI_MajMedian=\"Yes\",SS_AGI_MinMedian=\"Yes\"),CO68))))","v":false},{"$f":"IF(AND(SS_AGI_MajMedian=\"No\", SS_AGI_MinMedian=\"No\"),CA68,IF(AND(SS_AGI_MajMedian=\"Yes\",SS_AGI_MinMedian=\"No\"),CF68,IF(AND(SS_AGI_MajMedian=\"No\",SS_AGI_MinMedian=\"Yes\"),CK68,IF(AND(SS_AGI_MajMedian=\"Yes\",SS_AGI_MinMedian=\"Yes\"),CP68))))","v":false},{"$f":"IF(AND(SS_AGI_MajMedian=\"No\", SS_AGI_MinMedian=\"No\"),CB68,IF(AND(SS_AGI_MajMedian=\"Yes\",SS_AGI_MinMedian=\"No\"),CG68,IF(AND(SS_AGI_MajMedian=\"No\",SS_AGI_MinMedian=\"Yes\"),CL68,IF(AND(SS_AGI_MajMedian=\"Yes\",SS_AGI_MinMedian=\"Yes\"),CQ68))))","v":false},1,null,0,{"$f":"IF(B68=\"Diverging\",1,1-((60-AB68)/60*0.1/0.15))","v":0.33333333333333326},null,null,null,1,null,{"$f":"PRODUCT(Z68,T68,AC68,AG68)","v":0.16833333333333331},null,{"$error":"#VALUE!"},null,null,"","","","","","","","","","","","","",1,"","",null,"",1,"","","","","","","","","","","","","","",null,null,65,"Nonmotorized",2,0,0,1,null,1,0,0,0,null,2,0,0,1,null,1,0,0,0]
[66,"Nonmotorized",null,"MajNM2","Nonmotorized","EBT, NBR","MajT1, MinR1","Major thru",null,{"$error":"#VALUE!"},{"$error":"#VALUE!"},{"$error":"#VALUE!"},null,0,0,"","",2.0975532400616122E-2,null,0.505,null,false,false,false,false,1,null,0,0.33333333333333326,null,null,null,{"$f":"1+AE69+AF69","v":1},null,0.16833333333333331,null,{"$f":"L69*R69*AI69","v":{"$error":"#VALUE!"}},null,null,"","","","","","","","","","","","","",1,"","",null,1,"","","","","","","",1,"","","","","","","",null,null,66,"Nonmotorized",2,0,0,1,null,1,0,0,0,null,2,0,0,1,null,1,0,0,0]
[67,"Nonmotorized",null,"MajNM2","Nonmotorized","EBT, NBR","MajT1, MinR1","Major thru",null,{"$error":"#VALUE!"},{"$error":"#VALUE!"},{"$error":"#VALUE!"},null,0,0,"","",2.0975532400616122E-2,null,0.505,null,false,false,false,false,1,null,0,0.33333333333333326,null,null,null,{"$f":"1+AE70+AF70","v":1},null,0.16833333333333331,null,{"$f":"L70*R70*AI70","v":{"$error":"#VALUE!"}},null,null,"","","","","","","","","","","","","",1,"","",null,1,"","","","","","","",1,"","","","","","","",null,null,67,"Nonmotorized",2,0,0,1,null,1,0,0,1,null,2,0,0,1,null,1,0,0,1]
[68,"Nonmotorized",null,"MajNM2","Nonmotorized","SBL","MinL2","Signal near",null,{"$error":"#VALUE!"},{"$error":"#VALUE!"},{"$error":"#VALUE!"},null,0,15,"","",0.1205004039155782,null,{"$f":"IF(SSI_AGI_PedExclusive=\"Yes\",SSI_AGI_ProtFactor, SSI_AGI_ProtPermFactor)","v":0.92500000000000004},null,false,false,false,false,1,null,0,0.33333333333333326,null,null,null,{"$f":"1+AE71+AF71","v":1},null,0.30833333333333329,null,{"$f":"L71*R71*AI71","v":{"$error":"#VALUE!"}},null,null,"","","","","","","","","","","","","",1,"","",null,"","","","","","","","","","",1,"","","","","",null,null,68,"Nonmotorized",2,0,0,1,null,1,0,0,1,null,2,0,0,1,null,1,0,0,1]
[69,"Nonmotorized",null,"MajNM2","Nonmotorized","WBT, WBR","MajT2, MajR2","Major thru",null,{"$error":"#VALUE!"},{"$error":"#VALUE!"},{"$error":"#VALUE!"},null,0,0,"","",2.0975532400616122E-2,null,0.505,null,false,false,false,false,1,null,0,0.33333333333333326,null,null,null,{"$f":"1+AE72+AF72","v":1},null,0.16833333333333331,null,{"$f":"L72*R72*AI72","v":{"$error":"#VALUE!"}},null,null,"","","","","","","","","","","","","",1,"","",null,"","","",1,"",1,"","","","","","","","","","",null,null,69,"Nonmotorized",2,0,0,1,null,1,0,0,0,null,2,0,0,1,null,1,0,0,0]
[70,"Nonmotorized",null,"MajNM2","Nonmotorized","WBL","MajL2","Major right",null,{"$error":"#VALUE!"},{"$error":"#VALUE!"},{"$error":"#VALUE!"},null,0,15,"","",0.1205004039155782,null,0.505,null,false,false,false,false,1,null,0,0.33333333333333326,null,null,null,{"$f":"1+AE73+AF73","v":1},null,0.16833333333333331,null,{"$f":"L73*R73*AI73","v":{"$error":"#VALUE!"}},null,null,"","","","","","","","","","","","","",1,"","",null,"","","","",1,"","","","","","","","","","","",null,null,70,"Nonmotorized",2,0,0,1,null,1,0,0,0,null,2,0,0,1,null,1,0,0,0]
[null,null,null,null,null,null,null,null,null,null,null,null,null,null,null,null,null,null,null,null,null,null,null,null,null,null,null,null,null,null,null,null,null,null,null,null,null,null,"O",{"$f":"'SSI Inputs'!$D$26","v":{"$error":"#VALUE!"}},{"$f":"'SSI Inputs'!$D$27","v":{"$error":"#VALUE!"}},{"$f":"'SSI Inputs'!$D$28","v":{"$error":"#VALUE!"}},{"$f":"'SSI Inputs'!$D$30","v":{"$error":"#VALUE!"}},{"$f":"'SSI Inputs'!$D$31","v":{"$error":"#VALUE!"}},{"$f":"'SSI Inputs'!$D$32","v":{"$error":"#VALUE!"}},{"$f":"'SSI Inputs'!$D$34","v":{"$error":"#VALUE!"}},{"$f":"'SSI Inputs'!$D$35","v":{"$error":"#VALUE!"}},{"$f":"'SSI Inputs'!$D$36","v":{"$error":"#VALUE!"}},{"$f":"'SSI Inputs'!$D$38","v":{"$error":"#VALUE!"}},{"$f":"'SSI Inputs'!$D$39","v":{"$error":"#VALUE!"}},{"$f":"'SSI Inputs'!$D$40","v":{"$error":"#VALUE!"}},{"$f":"'SSI Inputs'!$Q$18","v":12.5},{"$f":"'SSI Inputs'!$Q$19","v":12.5},{"$f":"'SSI Inputs'!$Q$20","v":12.5},{"$f":"'SSI Inputs'!$Q$21","v":12.5},"O",{"$f":"'SSI Inputs'!$D$26","v":{"$error":"#VALUE!"}},{"$f":"'SSI Inputs'!$D$27","v":{"$error":"#VALUE!"}},{"$f":"'SSI Inputs'!$D$28","v":{"$error":"#VALUE!"}},{"$f":"'SSI Inputs'!$D$30","v":{"$error":"#VALUE!"}},{"$f":"'SSI Inputs'!$D$31","v":{"$error":"#VALUE!"}},{"$f":"'SSI Inputs'!$D$32","v":{"$error":"#VALUE!"}},{"$f":"'SSI Inputs'!$D$34","v":{"$error":"#VALUE!"}},{"$f":"'SSI Inputs'!$D$35","v":{"$error":"#VALUE!"}},{"$f":"'SSI Inputs'!$D$36","v":{"$error":"#VALUE!"}},{"$f":"'SSI Inputs'!$D$38","v":{"$error":"#VALUE!"}},{"$f":"'SSI Inputs'!$D$39","v":{"$error":"#VALUE!"}},{"$f":"'SSI Inputs'!$D$40","v":{"$error":"#VALUE!"}},{"$f":"'SSI Inputs'!$Q$18","v":12.5},{"$f":"'SSI Inputs'!$Q$19","v":12.5},{"$f":"'SSI Inputs'!$Q$20","v":12.5},{"$f":"'SSI Inputs'!$Q$21","v":12.5}]
[null,null,null,null,null,null,null,null,null,null,null,null,null,null,null,null,null,null,null,null,null,null,null,null,null,null,null,null,null,null,null,null,null,null,null,null,null,null,"D",{"$f":"'SSI Inputs'!$E$26","v":{"$error":"#VALUE!"}},{"$f":"'SSI Inputs'!$E$27","v":{"$error":"#VALUE!"}},{"$f":"'SSI Inputs'!$E$28","v":{"$error":"#VALUE!"}},{"$f":"'SSI Inputs'!$E$30","v":{"$error":"#VALUE!"}},{"$f":"'SSI Inputs'!$E$31","v":{"$error":"#VALUE!"}},{"$f":"'SSI Inputs'!$E$32","v":{"$error":"#VALUE!"}},{"$f":"'SSI Inputs'!$E$34","v":{"$error":"#VALUE!"}},{"$f":"'SSI Inputs'!$E$35","v":{"$error":"#VALUE!"}},{"$f":"'SSI Inputs'!$E$36","v":{"$error":"#VALUE!"}},{"$f":"'SSI Inputs'!$E$38","v":{"$error":"#VALUE!"}},{"$f":"'SSI Inputs'!$E$39","v":{"$error":"#VALUE!"}},{"$f":"'SSI Inputs'!$E$40","v":{"$error":"#VALUE!"}},{"$f":"'SSI Inputs'!$R$18","v":12.5},{"$f":"'SSI Inputs'!$R$19","v":12.5},{"$f":"'SSI Inputs'!$R$20","v":12.5},{"$f":"'SSI Inputs'!$R$21","v":12.5},"D",{"$f":"'SSI Inputs'!$E$26","v":{"$error":"#VALUE!"}},{"$f":"'SSI Inputs'!$E$27","v":{"$error":"#VALUE!"}},{"$f":"'SSI Inputs'!$E$28","v":{"$error":"#VALUE!"}},{"$f":"'SSI Inputs'!$E$30","v":{"$error":"#VALUE!"}},{"$f":"'SSI Inputs'!$E$31","v":{"$error":"#VALUE!"}},{"$f":"'SSI Inputs'!$E$32","v":{"$error":"#VALUE!"}},{"$f":"'SSI Inputs'!$E$34","v":{"$error":"#VALUE!"}},{"$f":"'SSI Inputs'!$E$35","v":{"$error":"#VALUE!"}},{"$f":"'SSI Inputs'!$E$36","v":{"$error":"#VALUE!"}},{"$f":"'SSI Inputs'!$E$38","v":{"$error":"#VALUE!"}},{"$f":"'SSI Inputs'!$E$39","v":{"$error":"#VALUE!"}},{"$f":"'SSI Inputs'!$E$40","v":{"$error":"#VALUE!"}},{"$f":"'SSI Inputs'!$R$18","v":12.5},{"$f":"'SSI Inputs'!$R$19","v":12.5},{"$f":"'SSI Inputs'!$R$20","v":12.5},{"$f":"'SSI Inputs'!$R$21","v":12.5}]
[]
[]
[]
[]
[]
[]
[]
[]
[]
[]
[]
[]
[]
[]
[]
[]
[]
[]
[]
[]
[]
[]
[]
[]
[]
[null,null,null,null,null,null,null,null,null,"Exposure",null,null,null,null,null,null,null,null,null,null,null,null,null,null,null,null,null,null,null,null,null,null,null,null,null,null,"Exposure-Severity-Complexity Product"]
[null,null,null,null,null,null,null,null,null,"Q1","Q2","I"]
[null,null,null,null,null,null,null,null,null,{"$f":"SUMPRODUCT($AN4:$BC4,$AN$75:$BC$75)","v":{"$error":"#VALUE!"}},{"$f":"SUMPRODUCT($BE4:$BT4,$BE$75:$BT$75)","v":{"$error":"#VALUE!"}},{"$f":"PRODUCT(J103:K103)","v":{"$error":"#VALUE!"}},null,null,null,null,null,null,null,null,null,null,null,null,null,null,null,null,null,null,null,null,null,null,null,null,{"$f":"L103*R4*AI4","v":{"$error":"#VALUE!"}}]
[null,null,null,null,null,null,null,null,null,{"$error":"#VALUE!"},{"$error":"#VALUE!"},{"$f":"PRODUCT(J104:K104)","v":{"$error":"#VALUE!"}},null,null,null,null,null,null,null,null,null,null,null,null,null,null,null,null,null,null,null,null,null,null,null,null,{"$f":"L104*R5*AI5","v":{"$error":"#VALUE!"}}]
[null,null,null,null,null,null,null,null,null,{"$error":"#VALUE!"},{"$error":"#VALUE!"},{"$error":"#VALUE!"},null,null,null,null,null,null,null,null,null,null,null,null,null,null,null,null,null,null,null,null,null,null,null,null,{"$error":"#VALUE!"}]
[null,null,null,null,null,null,null,null,null,{"$error":"#VALUE!"},{"$error":"#VALUE!"},{"$error":"#VALUE!"},null,null,null,null,null,null,null,null,null,null,null,null,null,null,null,null,null,null,null,null,null,null,null,null,{"$error":"#VALUE!"}]
[null,null,null,null,null,null,null,null,null,{"$error":"#VALUE!"},{"$error":"#VALUE!"},{"$error":"#VALUE!"},null,null,null,null,null,null,null,null,null,null,null,null,null,null,null,null,null,null,null,null,null,null,null,null,{"$error":"#VALUE!"}]
[null,null,null,null,null,null,null,null,null,{"$error":"#VALUE!"},{"$error":"#VALUE!"},{"$error":"#VALUE!"},null,null,null,null,null,null,null,null,null,null,null,null,null,null,null,null,null,null,null,null,null,null,null,null,{"$error":"#VALUE!"}]
[null,null,null,null,null,null,null,null,null,{"$error":"#VALUE!"},{"$error":"#VALUE!"},{"$error":"#VALUE!"},null,null,null,null,null,null,null,null,null,null,null,null,null,null,null,null,null,null,null,null,null,null,null,null,{"$error":"#VALUE!"}]
[null,null,null,null,null,null,null,null,null,{"$error":"#VALUE!"},{"$error":"#VALUE!"},{"$error":"#VALUE!"},null,null,null,null,null,null,null,null,null,null,null,null,null,null,null,null,null,null,null,null,null,null,null,null,{"$error":"#VALUE!"}]
[null,null,null,null,null,null,null,null,null,{"$error":"#VALUE!"},{"$error":"#VALUE!"},{"$error":"#VALUE!"},null,null,null,null,null,null,null,null,null,null,null,null,null,null,null,null,null,null,null,null,null,null,null,null,{"$error":"#VALUE!"}]
[null,null,null,null,null,null,null,null,null,{"$error":"#VALUE!"},{"$error":"#VALUE!"},{"$error":"#VALUE!"},null,null,null,null,null,null,null,null,null,null,null,null,null,null,null,null,null,null,null,null,null,null,null,null,{"$error":"#VALUE!"}]
[null,null,null,null,null,null,null,null,null,{"$error":"#VALUE!"},{"$error":"#VALUE!"},{"$error":"#VALUE!"},null,null,null,null,null,null,null,null,null,null,null,null,null,null,null,null,null,null,null,null,null,null,null,null,{"$error":"#VALUE!"}]
[null,null,null,null,null,null,null,null,null,{"$error":"#VALUE!"},{"$error":"#VALUE!"},{"$error":"#VALUE!"},null,null,null,null,null,null,null,null,null,null,null,null,null,null,null,null,null,null,null,null,null,null,null,null,{"$error":"#VALUE!"}]
[null,null,null,null,null,null,null,null,null,{"$error":"#VALUE!"},{"$error":"#VALUE!"},{"$error":"#VALUE!"},null,null,null,null,null,null,null,null,null,null,null,null,null,null,null,null,null,null,null,null,null,null,null,null,{"$error":"#VALUE!"}]
[null,null,null,null,null,null,null,null,null,{"$error":"#VALUE!"},{"$error":"#VALUE!"},{"$error":"#VALUE!"},null,null,null,null,null,null,null,null,null,null,null,null,null,null,null,null,null,null,null,null,null,null,null,null,{"$error":"#VALUE!"}]
[null,null,null,null,null,null,null,null,null,{"$error":"#VALUE!"},{"$error":"#VALUE!"},{"$error":"#VALUE!"},null,null,null,null,null,null,null,null,null,null,null,null,null,null,null,null,null,null,null,null,null,null,null,null,{"$error":"#VALUE!"}]
[null,null,null,null,null,null,null,null,null,{"$error":"#VALUE!"},{"$error":"#VALUE!"},{"$error":"#VALUE!"},null,null,null,null,null,null,null,null,null,null,null,null,null,null,null,null,null,null,null,null,null,null,null,null,{"$error":"#VALUE!"}]
[null,null,null,null,null,null,null,null,null,{"$error":"#VALUE!"},{"$error":"#VALUE!"},{"$error":"#VALUE!"},null,null,null,null,null,null,null,null,null,null,null,null,null,null,null,null,null,null,null,null,null,null,null,null,{"$error":"#VALUE!"}]
[null,null,null,null,null,null,null,null,null,{"$error":"#VALUE!"},{"$error":"#VALUE!"},{"$error":"#VALUE!"},null,null,null,null,null,null,null,null,null,null,null,null,null,null,null,null,null,null,null,null,null,null,null,null,{"$error":"#VALUE!"}]
[null,null,null,null,null,null,null,null,null,{"$error":"#VALUE!"},{"$error":"#VALUE!"},{"$error":"#VALUE!"},null,null,null,null,null,null,null,null,null,null,null,null,null,null,null,null,null,null,null,null,null,null,null,null,{"$error":"#VALUE!"}]
[null,null,null,null,null,null,null,null,null,{"$error":"#VALUE!"},{"$error":"#VALUE!"},{"$error":"#VALUE!"},null,null,null,null,null,null,null,null,null,null,null,null,null,null,null,null,null,null,null,null,null,null,null,null,{"$error":"#VALUE!"}]
[null,null,null,null,null,null,null,null,null,{"$error":"#VALUE!"},{"$error":"#VALUE!"},{"$error":"#VALUE!"},null,null,null,null,null,null,null,null,null,null,null,null,null,null,null,null,null,null,null,null,null,null,null,null,{"$error":"#VALUE!"}]
[null,null,null,null,null,null,null,null,null,{"$error":"#VALUE!"},{"$error":"#VALUE!"},{"$error":"#VALUE!"},null,null,null,null,null,null,null,null,null,null,null,null,null,null,null,null,null,null,null,null,null,null,null,null,{"$error":"#VALUE!"}]
[null,null,null,null,null,null,null,null,null,{"$error":"#VALUE!"},{"$error":"#VALUE!"},{"$error":"#VALUE!"},null,null,null,null,null,null,null,null,null,null,null,null,null,null,null,null,null,null,null,null,null,null,null,null,{"$error":"#VALUE!"}]
[null,null,null,null,null,null,null,null,null,{"$error":"#VALUE!"},{"$error":"#VALUE!"},{"$error":"#VALUE!"},null,null,null,null,null,null,null,null,null,null,null,null,null,null,null,null,null,null,null,null,null,null,null,null,{"$error":"#VALUE!"}]
[null,null,null,null,null,null,null,null,null,{"$error":"#VALUE!"},{"$error":"#VALUE!"},{"$error":"#VALUE!"},null,null,null,null,null,null,null,null,null,null,null,null,null,null,null,null,null,null,null,null,null,null,null,null,{"$error":"#VALUE!"}]
[null,null,null,null,null,null,null,null,null,{"$error":"#VALUE!"},{"$error":"#VALUE!"},{"$error":"#VALUE!"},null,null,null,null,null,null,null,null,null,null,null,null,null,null,null,null,null,null,null,null,null,null,null,null,{"$error":"#VALUE!"}]
[null,null,null,null,null,null,null,null,null,{"$error":"#VALUE!"},{"$error":"#VALUE!"},{"$error":"#VALUE!"},null,null,null,null,null,null,null,null,null,null,null,null,null,null,null,null,null,null,null,null,null,null,null,null,{"$error":"#VALUE!"}]
[null,null,null,null,null,null,null,null,null,{"$error":"#VALUE!"},{"$error":"#VALUE!"},{"$error":"#VALUE!"},null,null,null,null,null,null,null,null,null,null,null,null,null,null,null,null,null,null,null,null,null,null,null,null,{"$error":"#VALUE!"}]
[null,null,null,null,null,null,null,null,null,{"$error":"#VALUE!"},{"$error":"#VALUE!"},{"$error":"#VALUE!"},null,null,null,null,null,null,null,null,null,null,null,null,null,null,null,null,null,null,null,null,null,null,null,null,{"$error":"#VALUE!"}]
[null,null,null,null,null,null,null,null,null,{"$error":"#VALUE!"},{"$error":"#VALUE!"},{"$error":"#VALUE!"},null,null,null,null,null,null,null,null,null,null,null,null,null,null,null,null,null,null,null,null,null,null,null,null,{"$error":"#VALUE!"}]
[null,null,null,null,null,null,null,null,null,{"$error":"#VALUE!"},{"$error":"#VALUE!"},{"$error":"#VALUE!"},null,null,null,null,null,null,null,null,null,null,null,null,null,null,null,null,null,null,null,null,null,null,null,null,{"$error":"#VALUE!"}]
[null,null,null,null,null,null,null,null,null,{"$error":"#VALUE!"},{"$error":"#VALUE!"},{"$error":"#VALUE!"},null,null,null,null,null,null,null,null,null,null,null,null,null,null,null,null,null,null,null,null,null,null,null,null,{"$error":"#VALUE!"}]
[null,null,null,null,null,null,null,null,null,{"$f":"SUMPRODUCT($AN36:$BC36,$AN$75:$BC$75)","v":{"$error":"#VALUE!"}},{"$f":"SUMPRODUCT($BE36:$BT36,$BE$75:$BT$75)","v":{"$error":"#VALUE!"}},{"$error":"#VALUE!"},null,null,null,null,null,null,null,null,null,null,null,null,null,null,null,null,null,null,null,null,null,null,null,null,{"$error":"#VALUE!"}]
[null,null,null,null,null,null,null,null,null,{"$error":"#VALUE!"},{"$error":"#VALUE!"},{"$error":"#VALUE!"},null,null,null,null,null,null,null,null,null,null,null,null,null,null,null,null,null,null,null,null,null,null,null,null,{"$error":"#VALUE!"}]
[null,null,null,null,null,null,null,null,null,{"$error":"#VALUE!"},{"$error":"#VALUE!"},{"$error":"#VALUE!"},null,null,null,null,null,null,null,null,null,null,null,null,null,null,null,null,null,null,null,null,null,null,null,null,{"$error":"#VALUE!"}]
[null,null,null,null,null,null,null,null,null,{"$error":"#VALUE!"},{"$error":"#VALUE!"},{"$error":"#VALUE!"},null,null,null,null,null,null,null,null,null,null,null,null,null,null,null,null,null,null,null,null,null,null,null,null,{"$error":"#VALUE!"}]
[null,null,null,null,null,null,null,null,null,{"$error":"#VALUE!"},{"$error":"#VALUE!"},{"$error":"#VALUE!"},null,null,null,null,null,null,null,null,null,null,null,null,null,null,null,null,null,null,null,null,null,null,null,null,{"$error":"#VALUE!"}]
[null,null,null,null,null,null,null,null,null,{"$error":"#VALUE!"},{"$error":"#VALUE!"},{"$error":"#VALUE!"},null,null,null,null,null,null,null,null,null,null,null,null,null,null,null,null,null,null,null,null,null,null,null,null,{"$error":"#VALUE!"}]
[null,null,null,null,null,null,null,null,null,{"$error":"#VALUE!"},{"$error":"#VALUE!"},{"$error":"#VALUE!"},null,null,null,null,null,null,null,null,null,null,null,null,null,null,null,null,null,null,null,null,null,null,null,null,{"$error":"#VALUE!"}]
[null,null,null,null,null,null,null,null,null,{"$error":"#VALUE!"},{"$error":"#VALUE!"},{"$error":"#VALUE!"},null,null,null,null,null,null,null,null,null,null,null,null,null,null,null,null,null,null,null,null,null,null,null,null,{"$error":"#VALUE!"}]
[null,null,null,null,null,null,null,null,null,{"$error":"#VALUE!"},{"$error":"#VALUE!"},{"$error":"#VALUE!"},null,null,null,null,null,null,null,null,null,null,null,null,null,null,null,null,null,null,null,null,null,null,null,null,{"$error":"#VALUE!"}]
[null,null,null,null,null,null,null,null,null,{"$error":"#VALUE!"},{"$error":"#VALUE!"},{"$error":"#VALUE!"},null,null,null,null,null,null,null,null,null,null,null,null,null,null,null,null,null,null,null,null,null,null,null,null,{"$error":"#VALUE!"}]
[null,null,null,null,null,null,null,null,null,{"$error":"#VALUE!"},{"$error":"#VALUE!"},{"$error":"#VALUE!"},null,null,null,null,null,null,null,null,null,null,null,null,null,null,null,null,null,null,null,null,null,null,null,null,{"$error":"#VALUE!"}]
[null,null,null,null,null,null,null,null,null,{"$error":"#VALUE!"},{"$error":"#VALUE!"},{"$error":"#VALUE!"},null,null,null,null,null,null,null,null,null,null,null,null,null,null,null,null,null,null,null,null,null,null,null,null,{"$error":"#VALUE!"}]
[null,null,null,null,null,null,null,null,null,{"$error":"#VALUE!"},{"$error":"#VALUE!"},{"$error":"#VALUE!"},null,null,null,null,null,null,null,null,null,null,null,null,null,null,null,null,null,null,null,null,null,null,null,null,{"$error":"#VALUE!"}]
[null,null,null,null,null,null,null,null,null,{"$error":"#VALUE!"},{"$error":"#VALUE!"},{"$error":"#VALUE!"},null,null,null,null,null,null,null,null,null,null,null,null,null,null,null,null,null,null,null,null,null,null,null,null,{"$error":"#VALUE!"}]
[null,null,null,null,null,null,null,null,null,{"$error":"#VALUE!"},{"$error":"#VALUE!"},{"$error":"#VALUE!"},null,null,null,null,null,null,null,null,null,null,null,null,null,null,null,null,null,null,null,null,null,null,null,null,{"$error":"#VALUE!"}]
[null,null,null,null,null,null,null,null,null,{"$error":"#VALUE!"},{"$error":"#VALUE!"},{"$error":"#VALUE!"},null,null,null,null,null,null,null,null,null,null,null,null,null,null,null,null,null,null,null,null,null,null,null,null,{"$error":"#VALUE!"}]
[null,null,null,null,null,null,null,null,null,{"$error":"#VALUE!"},{"$error":"#VALUE!"},{"$error":"#VALUE!"},null,null,null,null,null,null,null,null,null,null,null,null,null,null,null,null,null,null,null,null,null,null,null,null,{"$error":"#VALUE!"}]
[null,null,null,null,null,null,null,null,null,{"$error":"#VALUE!"},{"$error":"#VALUE!"},{"$error":"#VALUE!"},null,null,null,null,null,null,null,null,null,null,null,null,null,null,null,null,null,null,null,null,null,null,null,null,{"$error":"#VALUE!"}]
[null,null,null,null,null,null,null,null,null,{"$error":"#VALUE!"},{"$error":"#VALUE!"},{"$error":"#VALUE!"},null,null,null,null,null,null,null,null,null,null,null,null,null,null,null,null,null,null,null,null,null,null,null,null,{"$error":"#VALUE!"}]
[null,null,null,null,null,null,null,null,null,{"$error":"#VALUE!"},{"$error":"#VALUE!"},{"$error":"#VALUE!"},null,null,null,null,null,null,null,null,null,null,null,null,null,null,null,null,null,null,null,null,null,null,null,null,{"$error":"#VALUE!"}]
[null,null,null,null,null,null,null,null,null,{"$error":"#VALUE!"},{"$error":"#VALUE!"},{"$error":"#VALUE!"},null,null,null,null,null,null,null,null,null,null,null,null,null,null,null,null,null,null,null,null,null,null,null,null,{"$error":"#VALUE!"}]
[null,null,null,null,null,null,null,null,null,{"$error":"#VALUE!"},{"$error":"#VALUE!"},{"$error":"#VALUE!"},null,null,null,null,null,null,null,null,null,null,null,null,null,null,null,null,null,null,null,null,null,null,null,null,{"$error":"#VALUE!"}]

{"sheet":"Jughandle","index":54,"n_rows":154,"n_cols":95,"rows_kept":154,"cut":false,"hidden":true,"merged":[[0,19,0,28],[0,30,0,32],[1,31,2,31],[1,32,2,32],[1,21,1,25],[1,27,1,28],[1,30,2,30],[1,76,1,79],[1,81,1,84],[1,86,1,89],[1,91,1,94],[100,9,100,11],[100,36,101,36],[1,34,2,34],[1,36,2,36],[1,39,1,54],[1,9,1,11],[1,13,1,17],[1,56,1,71]]}
[null,null,null,null,null,null,null,null,null,null,null,null,null,null,null,null,null,null,null,"Conflicting Traffic Complexity",null,null,null,null,null,null,null,null,null,null,"Pedestrian Complexity",null,null,null,null,null,null,null,null,null,null,null,null,null,null,null,null,null,null,null,null,null,null,null,null,null,null,null,null,null,null,null,null,null,null,null,null,null,null,null,null,null,null,null,null,null,"*impact of median on complexity factors"]
[null,null,null,null,null,null,null,null,null,"Exposure",null,null,null,"Severity",null,null,null,null,null,"Traffic Control",null,"Conflicting Lanes",null,null,null,null,null,"Conflicting Speed",null,null,"Indirect Paths Indicator","Non-intuitive movements indicator","Pedestrian Complexity factor",null,"Total Complexity Multiplier",null,"Exposure-Severity-Complexity Product",null,null,"Included in Mvmt1",null,null,null,null,null,null,null,null,null,null,null,null,null,null,null,null,"Included in Mvmt2",null,null,null,null,null,null,null,null,null,null,null,null,null,null,null,null,null,null,null,"Major:No, Minor: No",null,null,null,null,"Major:Yes, Minor: No",null,null,null,null,"Major:No, Minor: Yes",null,null,null,null,"Major:Yes, Minor: Yes"]
["#","Conflict Type","Mvmt1","Mvmt1_gen","Mvmt1_SpeedCat","Mvmt2","Mvmt2_gen","Mvmt2_SpeedCat",null,"Q1","Q2","I",null,"Speed_V1","Speed_V2","Angle","delta_V","P_FSI",null,null,null,"MajC","MinC","MajM/P","MinM/P","Score",null,"Speed","Factor",null,null,null,null,null,null,null,null,null,null,"MajT1","MajL1","MajR1","MajT2","MajL2","MajR2","MinT1","MinL1","MinR1","MinT2","MinL2","MinR2","MajNM1","MajNM2","MinNM1","MinNM2",null,"MajT1","MajL1","MajR1","MajT2","MajL2","MajR2","MinT1","MinL1","MinR1","MinT2","MinL2","MinR2","MajNM1","MajNM2","MinNM1","MinNM2",null,null,"#","Conflict Type","MajC","MinC","MajM/P","MinM/P",null,"MajC","MinC","MajM/P","MinM/P",null,"MajC","MinC","MajM/P","MinM/P",null,"MajC","MinC","MajM/P","MinM/P"]
[1,"Crossing","WBT","MajT2","Major thru","SBT, WBL","MinT2, MajL2","Signal near",null,{"$f":"SUMPRODUCT($AN4:$BC4,$AN$56:$BC$56)","v":{"$error":"#VALUE!"}},{"$f":"SUMPRODUCT($BE4:$BT4,$BE$56:$BT$56)","v":{"$error":"#VALUE!"}},{"$f":"PRODUCT(J4:K4)","v":{"$error":"#VALUE!"}},null,{"$f":"VLOOKUP(E4,SSI_AGI_Range_VehSpeed,5,FALSE)","v":0},{"$f":"VLOOKUP(H4,SSI_AGI_Range_VehSpeed,5,FALSE)","v":15},{"$f":"IF(B4=\"Nonmotorized\",\"\",VLOOKUP(B4,SSI_AGI_Range_CollAngles,5,FALSE))","v":90},{"$f":"IF(B4=\"Nonmotorized\",\"\",SQRT(N4^2+O4^2-2*N4*O4*COS(RADIANS(P4)))/2)","v":7.5},{"$f":"IF(B4=\"Nonmotorized\",1/(1+EXP(3.8432-0.1237*O4)),(Q4/SSI_AGI_RegAlpha)^SSI_AGI_RegK+(Q4/SSI_AGI_RegAlpha)^SSI_AGI_RegK-((Q4/SSI_AGI_RegAlpha)^SSI_AGI_RegK)*((Q4/SSI_AGI_RegAlpha)^SSI_AGI_RegK))","v":4.8454301532720461E-4},null,{"$f":"SSI_AGI_ProtFactor","v":0.505},null,{"$f":"IF(AND(SS_AGI_MajMedian=\"No\", SS_AGI_MinMedian=\"No\"),BY4,IF(AND(SS_AGI_MajMedian=\"Yes\",SS_AGI_MinMedian=\"No\"),CD4,IF(AND(SS_AGI_MajMedian=\"No\",SS_AGI_MinMedian=\"Yes\"),CI4,IF(AND(SS_AGI_MajMedian=\"Yes\",SS_AGI_MinMedian=\"Yes\"),CN4))))","v":false},{"$f":"IF(AND(SS_AGI_MajMedian=\"No\", SS_AGI_MinMedian=\"No\"),BZ4,IF(AND(SS_AGI_MajMedian=\"Yes\",SS_AGI_MinMedian=\"No\"),CE4,IF(AND(SS_AGI_MajMedian=\"No\",SS_AGI_MinMedian=\"Yes\"),CJ4,IF(AND(SS_AGI_MajMedian=\"Yes\",SS_AGI_MinMedian=\"Yes\"),CO4))))","v":false},{"$f":"IF(AND(SS_AGI_MajMedian=\"No\", SS_AGI_MinMedian=\"No\"),CA4,IF(AND(SS_AGI_MajMedian=\"Yes\",SS_AGI_MinMedian=\"No\"),CF4,IF(AND(SS_AGI_MajMedian=\"No\",SS_AGI_MinMedian=\"Yes\"),CK4,IF(AND(SS_AGI_MajMedian=\"Yes\",SS_AGI_MinMedian=\"Yes\"),CP4))))","v":false},{"$f":"IF(AND(SS_AGI_MajMedian=\"No\", SS_AGI_MinMedian=\"No\"),CB4,IF(AND(SS_AGI_MajMedian=\"Yes\",SS_AGI_MinMedian=\"No\"),CG4,IF(AND(SS_AGI_MajMedian=\"No\",SS_AGI_MinMedian=\"Yes\"),CL4,IF(AND(SS_AGI_MajMedian=\"Yes\",SS_AGI_MinMedian=\"Yes\"),CQ4))))","v":false},{"$f":"MAX(1,IF(B4<>\"Pedestrian\",V4*SSI_AGI_MajorThruLanes+W4*SSI_AGI_MinorThruLanes+X4*IF(SSI_AGI_MajorThruLanes=1,SSI_AGI_MergeWeightL1,IF(SSI_AGI_MajorThruLanes=2,SSI_AGI_MergeWeightL1+SSI_AGI_MergeWeightL2,SSI_AGI_MergeWeightL1+SSI_AGI_MergeWeightL2+SSI_AGI_MergeWeightL3*(SSI_AGI_MajorThruLanes-2)))+Y4*IF(SSI_AGI_MinorThruLanes=1,SSI_AGI_MergeWeightL1,IF(SSI_AGI_MinorThruLanes=2,SSI_AGI_MergeWeightL1+SSI_AGI_MergeWeightL2,SSI_AGI_MergeWeightL1+SSI_AGI_MergeWeightL2+SSI_AGI_MergeWeightL3*(SSI_AGI_MinorThruLanes-2))),V4*SSI_AGI_MajorThruLanes+W4*SSI_AGI_MinorThruLanes+X4*IF(SSI_AGI_MajorThruLanes=1,SSI_AGI_NM_MergeWeightL1,IF(SSI_AGI_MajorThruLanes=2,SSI_AGI_NM_MergeWeightL1+SSI_AGI_NM_MergeWeightL2,SSI_AGI_NM_MergeWeightL1+SSI_AGI_NM_MergeWeightL2+SSI_AGI_NM_MergeWeightL3*(SSI_AGI_MajorThruLanes-2)))+Y4*IF(SSI_AGI_MinorThruLanes=1,SSI_AGI_NM_MergeWeightL1,IF(SSI_AGI_MinorThruLanes=2,SSI_AGI_NM_MergeWeightL1+SSI_AGI_NM_MergeWeightL2,SSI_AGI_NM_MergeWeightL1+SSI_AGI_NM_MergeWeightL2+SSI_AGI_NM_MergeWeightL3*(SSI_AGI_MinorThruLanes-2)))))","v":1},null,{"$f":"IF(B4=\"Diverging\",\"\",SSI_AGI_VehSpeed_MjrThru)","v":0},{"$f":"IF(B4=\"Diverging\",1,1-((60-AB4)/60*0.1/0.15))","v":0.33333333333333326},null,null,null,{"$f":"1+AE4+AF4","v":1},null,{"$f":"PRODUCT(Z4,T4,AC4,AG4)","v":0.16833333333333331},null,{"$f":"L4*R4*AI4","v":{"$error":"#VALUE!"}},null,null,{"$f":"IF(ISNUMBER(SEARCH(AN$3,$D4)),1,\"\")","v":""},{"$f":"IF(ISNUMBER(SEARCH(AO$3,$D4)),1,\"\")","v":""},"",1,"","","","","","","","","","","","",null,{"$f":"IF(ISNUMBER(SEARCH(BE$3,$G4)),1,\"\")","v":""},{"$f":"IF(ISNUMBER(SEARCH(BF$3,$G4)),1,\"\")","v":""},"","",1,"","","","",1,"","","","","","",null,null,1,"Crossing",2,0,0,0,null,1,0,0,0,null,2,0,0,0,null,{"$f":"IF(OR(CD4=\"\",CI4=\"\"),\"\",MIN(CD4,CI4))","v":1},{"$f":"IF(OR(CE4=\"\",CJ4=\"\"),\"\",MIN(CE4,CJ4))","v":0},0,0]
[2,"Crossing - LT","WBT","MajT2","Major thru","SBL","MinL2","Signal near",null,{"$error":"#VALUE!"},{"$error":"#VALUE!"},{"$f":"PRODUCT(J5:K5)","v":{"$error":"#VALUE!"}},null,0,15,230,{"$f":"IF(B5=\"Nonmotorized\",\"\",SQRT(N5^2+O5^2-2*N5*O5*COS(RADIANS(P5)))/2)","v":7.5},4.8454301532720461E-4,null,{"$f":"SSI_AGI_ProtFactor","v":0.505},null,false,false,false,false,1,null,0,0.33333333333333326,null,null,null,{"$f":"1+AE5+AF5","v":1},null,0.16833333333333331,null,{"$f":"L5*R5*AI5","v":{"$error":"#VALUE!"}},null,null,{"$f":"IF(ISNUMBER(SEARCH(AN$3,$D5)),1,\"\")","v":""},"","",1,"","","","","","","","","","","","",null,{"$f":"IF(ISNUMBER(SEARCH(BE$3,$G5)),1,\"\")","v":""},"","","","","","","","","",1,"","","","","",null,null,2,"Crossing - LT",1,1,1,0,null,1,1,0,0,null,1,0,0,0,null,1,0,0,0]
[3,"Crossing - LT","WBT","MajT2","Major thru","EBL","MajL1","Signal far",null,{"$error":"#VALUE!"},{"$error":"#VALUE!"},{"$error":"#VALUE!"},null,0,25,230,12.5,3.3637551692797594E-3,null,{"$f":"IF(SSI_AGI_MajorLTPhase=\"Protected/permitted\",SSI_AGI_ProtPermFactor,IF(SSI_AGI_MajorLTPhase=\"Protected\",SSI_AGI_ProtFactor,SSI_AGI_PermFactor))","v":0.92500000000000004},null,false,false,false,false,1,null,0,0.33333333333333326,null,null,null,1,null,0.30833333333333329,null,{"$error":"#VALUE!"},null,null,"","","",1,"","","","","","","","","","","","",null,"",1,"","","","","","","","","","","","","","",null,null,3,"Crossing - LT",1,0,0,0,null,1,0,0,0,null,1,0,0,0,null,1,0,0,0]
[4,"Crossing","WBT","MajT2","Major thru","NBT","MinT1","Signal far",null,{"$error":"#VALUE!"},{"$error":"#VALUE!"},{"$error":"#VALUE!"},null,0,25,90,12.5,3.3637551692797594E-3,null,{"$f":"SSI_AGI_ProtFactor","v":0.505},null,false,false,false,false,1,null,0,0.33333333333333326,null,null,null,1,null,0.16833333333333331,null,{"$error":"#VALUE!"},null,null,"","","",1,"","","","","","","","","","","","",null,"","","","","","",1,"","","","","","","","","",null,null,4,"Crossing",2,0,0,0,null,1,0,0,0,null,2,0,0,0,null,1,0,0,0]
[5,"Crossing - LT","SBT, WBL","MinT2, MajL2","Signal near","NBL","MinL1","Signal far",null,{"$error":"#VALUE!"},{"$error":"#VALUE!"},{"$error":"#VALUE!"},null,15,25,230,18.248908921254063,1.4099039069818802E-2,null,{"$f":"IF(SSI_AGI_MinorLTPhase=\"Protected/permitted\",SSI_AGI_ProtPermFactor,IF(SSI_AGI_MinorLTPhase=\"Protected\",SSI_AGI_ProtFactor,SSI_AGI_PermFactor))","v":0.92500000000000004},null,false,false,false,false,1,null,0,0.33333333333333326,null,null,null,1,null,0.30833333333333329,null,{"$error":"#VALUE!"},null,null,"","","","",1,"","","","",1,"","","","","","",null,"","","","","","","",1,"","","","","","","","",null,null,5,"Crossing - LT",1,1,1,0,null,1,1,0,0,null,0,1,1,0,null,0,1,0,0]
[6,"Crossing - LT","EBL","MajL1","Major left","NBL","MinL1","Signal near",null,{"$error":"#VALUE!"},{"$error":"#VALUE!"},{"$error":"#VALUE!"},null,20,15,230,15.895538413434787,8.3616736100371545E-3,null,{"$f":"SSI_AGI_ProtFactor","v":0.505},null,false,false,false,false,1,null,0,0.33333333333333326,null,null,null,1,null,0.16833333333333331,null,{"$error":"#VALUE!"},null,null,"",1,"","","","","","","","","","","","","","",null,"","","","","","","",1,"","","","","","","","",null,null,6,"Crossing - LT",1,1,1,0,null,1,1,0,0,null,1,0,0,0,null,1,0,0,0]
[7,"Crossing - LT","EBL","MajL1","Major left","SBL","MinL2","Signal near",null,{"$error":"#VALUE!"},{"$error":"#VALUE!"},{"$error":"#VALUE!"},null,20,15,230,15.895538413434787,8.3616736100371545E-3,null,{"$f":"SSI_AGI_ProtFactor","v":0.505},null,false,false,false,false,1,null,0,0.33333333333333326,null,null,null,1,null,0.16833333333333331,null,{"$error":"#VALUE!"},null,null,"",1,"","","","","","","","","","","","","","",null,"","","","","","","","","","",1,"","","","","",null,null,7,"Crossing - LT",1,1,1,0,null,1,1,0,0,null,1,0,0,0,null,1,0,0,0]
[8,"Crossing - LT","SBL","MinL2","Signal far","NBT","MinT1","Signal near",null,{"$error":"#VALUE!"},{"$error":"#VALUE!"},{"$error":"#VALUE!"},null,25,15,230,18.248908921254063,1.4099039069818802E-2,null,{"$f":"IF(SSI_AGI_MinorLTPhase=\"Protected/permitted\",SSI_AGI_ProtPermFactor,IF(SSI_AGI_MinorLTPhase=\"Protected\",SSI_AGI_ProtFactor,SSI_AGI_PermFactor))","v":0.92500000000000004},null,false,false,false,false,1,null,0,0.33333333333333326,null,null,null,1,null,0.30833333333333329,null,{"$error":"#VALUE!"},null,null,"","","","","","","","","","",1,"","","","","",null,"","","","","","",1,"","","","","","","","","",null,null,8,"Crossing - LT",1,1,1,0,null,1,1,0,0,null,0,1,1,0,null,0,1,0,0]
[9,"Crossing - LT","EBL","MajL1","Major left","SBT, WBL","MinT2, MajL2","Signal far",null,{"$error":"#VALUE!"},{"$error":"#VALUE!"},{"$error":"#VALUE!"},null,20,25,230,20.419277715473552,2.1555284139167314E-2,null,{"$f":"SSI_AGI_ProtFactor","v":0.505},null,false,false,false,false,1,null,0,0.33333333333333326,null,null,null,1,null,0.16833333333333331,null,{"$error":"#VALUE!"},null,null,"",1,"","","","","","","","","","","","","","",null,"","","","",1,"","","","",1,"","","","","","",null,null,9,"Crossing - LT",2,0,0,0,null,1,0,0,0,null,2,0,0,0,null,1,0,0,0]
[10,"Crossing","EBT","MajT1","Major thru","SBT, WBL","MinT2, MajL2","Signal far",null,{"$error":"#VALUE!"},{"$error":"#VALUE!"},{"$error":"#VALUE!"},null,0,25,90,12.5,3.3637551692797594E-3,null,0.505,null,false,false,false,false,1,null,0,0.33333333333333326,null,null,null,1,null,0.16833333333333331,null,{"$error":"#VALUE!"},null,null,1,"","","","","","","","","","","","","","","",null,"","","","",1,"","","","",1,"","","","","","",null,null,10,"Crossing",2,0,0,0,null,1,0,0,0,null,2,0,0,0,null,1,0,0,0]
[11,"Crossing - LT","EBT","MajT1","Major thru","NBL","MinL1","Signal near",null,{"$error":"#VALUE!"},{"$error":"#VALUE!"},{"$error":"#VALUE!"},null,0,15,230,7.5,4.8454301532720461E-4,null,0.505,null,false,false,false,false,1,null,0,0.33333333333333326,null,null,null,1,null,0.16833333333333331,null,{"$error":"#VALUE!"},null,null,1,"","","","","","","","","","","","","","","",null,"","","","","","","",1,"","","","","","","","",null,null,11,"Crossing - LT",1,1,1,0,null,1,1,0,0,null,1,0,0,0,null,1,0,0,0]
[12,"Crossing","EBT","MajT1","Major thru","NBT","MinT1","Signal near",null,{"$error":"#VALUE!"},{"$error":"#VALUE!"},{"$error":"#VALUE!"},null,0,15,90,7.5,4.8454301532720461E-4,null,0.505,null,false,false,false,false,1,null,0,0.33333333333333326,null,null,null,1,null,0.16833333333333331,null,{"$error":"#VALUE!"},null,null,1,"","","","","","","","","","","","","","","",null,"","","","","","",1,"","","","","","","","","",null,null,12,"Crossing",2,0,0,0,null,1,0,0,0,null,2,0,0,0,null,1,0,0,0]
[13,"Crossing - LT","WBL","MajL2","Signal near","NBT, EBL","MinT1, MajL1","Minor thru",null,{"$error":"#VALUE!"},{"$error":"#VALUE!"},{"$error":"#VALUE!"},null,15,0,230,7.5,4.8454301532720461E-4,null,0.505,null,false,false,false,false,1,null,{"$f":"IF(B16=\"Diverging\",\"\",SSI_AGI_VehSpeed_MnrThru)","v":0},0.33333333333333326,null,null,null,1,null,0.16833333333333331,null,{"$error":"#VALUE!"},null,null,"","","","",1,"","","","","","","","","","","",null,"",1,"","","","",1,"","","","","","","","","",null,null,13,"Crossing - LT",0,1,0,1,null,0,1,0,1,null,0,1,0,0,null,0,1,0,0]
[14,"Merging","WBT","MajT2","Major thru","SBR","MinR2","Signal near",null,{"$error":"#VALUE!"},{"$error":"#VALUE!"},{"$error":"#VALUE!"},null,0,15,45,7.5,4.8454301532720461E-4,null,0.505,null,false,false,false,false,1,null,{"$f":"IF(B17=\"Diverging\",\"\",SSI_AGI_VehSpeed_MjrThru)","v":0},0.33333333333333326,null,null,null,1,null,0.16833333333333331,null,{"$error":"#VALUE!"},null,null,"","","",1,"","","","","","","","","","","","",null,"","","","","","","","","","","",1,"","","","",null,null,14,"Merging",0,0,1,0,null,0,0,1,0,null,0,0,1,0,null,0,0,1,0]
[15,"Merging","WBT","MajT2","Major thru","NBL","MinL1","Signal far",null,{"$error":"#VALUE!"},{"$error":"#VALUE!"},{"$error":"#VALUE!"},null,0,25,45,12.5,3.3637551692797594E-3,null,0.505,null,false,false,false,false,1,null,0,0.33333333333333326,null,null,null,1,null,0.16833333333333331,null,{"$error":"#VALUE!"},null,null,"","","",1,"","","","","","","","","","","","",null,"","","","","","","",1,"","","","","","","","",null,null,15,"Merging",1,1,1,0,null,0,0,1,0,null,0,1,1,0,null,0,0,1,0]
[16,"Merging","EBR","MajR1","Major right","SBT, WBL","MinT2, MajL2","Signal far",null,{"$error":"#VALUE!"},{"$error":"#VALUE!"},{"$error":"#VALUE!"},null,15,25,45,8.9396576292116645,9.4329959592674944E-4,null,0.505,null,false,false,false,false,1,null,0,0.33333333333333326,null,null,null,1,null,0.16833333333333331,null,{"$error":"#VALUE!"},null,null,"","",1,"","","","","","","","","","","","","",null,"","","","",1,"","","","",1,"","","","","","",null,null,16,"Merging",2,0,0,0,null,1,0,0,0,null,2,0,0,0,null,1,0,0,0]
[17,"Merging","EBT","MajT1","Major thru","NBR","MinR1","Signal near",null,{"$error":"#VALUE!"},{"$error":"#VALUE!"},{"$error":"#VALUE!"},null,0,15,45,7.5,4.8454301532720461E-4,null,0.505,null,false,false,false,false,1,null,0,0.33333333333333326,null,null,null,1,null,0.16833333333333331,null,{"$error":"#VALUE!"},null,null,1,"","","","","","","","","","","","","","","",null,"","","","","","","","",1,"","","","","","","",null,null,17,"Merging",0,0,1,0,null,0,0,1,0,null,0,0,1,0,null,0,{"$f":"IF(OR(CE20=\"\",CJ20=\"\"),\"\",MIN(CE20,CJ20))","v":0},{"$f":"IF(OR(CF20=\"\",CK20=\"\"),\"\",MIN(CF20,CK20))","v":1},{"$f":"IF(OR(CG20=\"\",CL20=\"\"),\"\",MIN(CG20,CL20))","v":0}]
[18,"Merging","EBT","MajT1","Major thru","SBL","MinL2","Signal far",null,{"$error":"#VALUE!"},{"$error":"#VALUE!"},{"$error":"#VALUE!"},null,0,25,45,12.5,3.3637551692797594E-3,null,0.505,null,false,false,false,false,1,null,0,0.33333333333333326,null,null,null,1,null,0.16833333333333331,null,{"$error":"#VALUE!"},null,null,1,"","","","","","","","","","","","","","","",null,"","","","","","","","","","",1,"","","","","",null,null,18,"Merging",1,1,1,0,null,0,0,1,0,null,0,1,1,0,null,{"$f":"IF(OR(CD21=\"\",CI21=\"\"),\"\",MIN(CD21,CI21))","v":0},0,1,0]
[19,"Merging","EBL","MajL1","Major left","NBT","MinT1","Signal far",null,{"$error":"#VALUE!"},{"$error":"#VALUE!"},{"$error":"#VALUE!"},null,20,25,45,8.9147801264732891,9.333798723087925E-4,null,0.505,null,false,false,false,false,1,null,0,0.33333333333333326,null,null,null,1,null,0.16833333333333331,null,{"$error":"#VALUE!"},null,null,"",1,"","","","","","","","","","","","","","",null,"","","","","","",1,"","","","","","","","","",null,null,19,"Merging",2,0,0,0,null,1,0,0,0,null,2,0,0,0,null,1,0,0,0]
[20,"Merging","WBL","MajL2","Signal far","SBT, SBR, SBL","MinT2, MinR2, MinL2","Minor thru",null,{"$error":"#VALUE!"},{"$error":"#VALUE!"},{"$error":"#VALUE!"},null,25,0,45,12.5,3.3637551692797594E-3,null,0.505,null,false,false,false,false,1,null,{"$f":"IF(B23=\"Diverging\",\"\",SSI_AGI_VehSpeed_MnrThru)","v":0},0.33333333333333326,null,null,null,1,null,0.16833333333333331,null,{"$error":"#VALUE!"},null,null,"","","","",1,"","","","","","","","","","","",null,"","","","","","","","","",1,1,1,"","","","",null,null,20,"Merging",0,1,0,1,null,0,1,0,1,null,0,0,0,1,null,0,0,0,1]
[21,"Merging","WBR","MajR2","Signal near","NBT, EBL","MinT1, MajL1","Minor thru",null,{"$error":"#VALUE!"},{"$error":"#VALUE!"},{"$error":"#VALUE!"},null,15,0,45,7.5,4.8454301532720461E-4,null,0.505,null,false,false,false,false,1,null,{"$f":"IF(B24=\"Diverging\",\"\",SSI_AGI_VehSpeed_MnrThru)","v":0},0.33333333333333326,null,null,null,1,null,0.16833333333333331,null,{"$error":"#VALUE!"},null,null,"","","","","",1,"","","","","","","","","","",null,"",1,"","","","",1,"","","","","","","","","",null,null,21,"Merging",0,0,0,1,null,0,0,0,1,null,0,0,0,1,null,0,0,0,1]
[22,"Diverging","SBT, WBL","MinT2, MajL2","Signal near","SBR","MinR2","Signal near",null,{"$error":"#VALUE!"},{"$error":"#VALUE!"},{"$error":"#VALUE!"},null,15,15,10,1.3073361412148754,6.4061388075216071E-7,null,1,null,false,false,false,false,1,null,{"$f":"IF(B25=\"Diverging\",\"\",SSI_AGI_VehSpeed_MjrThru)","v":""},1,null,null,null,1,null,1,null,{"$error":"#VALUE!"},null,null,"","","","",1,"","","","",1,"","","","","","",null,"","","","","","","","","","","",1,"","","","",null,null,22,"Diverging",0,0,0,0,null,0,0,0,0,null,0,0,0,0,null,0,0,0,0]
[23,"Diverging","SBT, WBL","MinT2, MajL2","Signal near","SBL","MinL2","Signal near",null,{"$error":"#VALUE!"},{"$error":"#VALUE!"},{"$error":"#VALUE!"},null,15,15,10,1.3073361412148754,6.4061388075216071E-7,null,1,null,false,false,false,false,1,null,"",1,null,null,null,1,null,1,null,{"$error":"#VALUE!"},null,null,"","","","",1,"","","","",1,"","","","","","",null,"","","","","","","","","","",1,"","","","","",null,null,23,"Diverging",0,0,0,0,null,0,0,0,0,null,0,0,0,0,null,0,0,0,0]
[24,"Diverging","EBT","MajT1","Major thru","EBL","MajL1","Major left",null,{"$error":"#VALUE!"},{"$error":"#VALUE!"},{"$error":"#VALUE!"},null,0,20,10,10,1.4431392232699444E-3,null,1,null,false,false,false,false,1,null,"",1,null,null,null,1,null,1,null,{"$error":"#VALUE!"},null,null,1,"","","","","","","","","","","","","","","",null,"",1,"","","","","","","","","","","","","","",null,null,24,"Diverging",0,0,0,0,null,0,0,0,0,null,0,0,0,0,null,0,0,0,0]
[25,"Diverging","EBT","MajT1","Major thru","EBR","MajR1","Major right",null,{"$error":"#VALUE!"},{"$error":"#VALUE!"},{"$error":"#VALUE!"},null,0,15,10,7.5,4.8454301532720461E-4,null,1,null,false,false,false,false,1,null,"",1,null,null,null,1,null,1,null,{"$error":"#VALUE!"},null,null,1,"","","","","","","","","","","","","","","",null,"","",1,"","","","","","","","","","","","","",null,null,25,"Diverging",0,0,0,0,null,0,0,0,0,null,0,0,0,0,null,0,0,0,0]
[26,"Diverging","NBT","MinT1","Signal near","NBL","MinL1","Signal near",null,{"$error":"#VALUE!"},{"$error":"#VALUE!"},{"$error":"#VALUE!"},null,15,15,10,1.3073361412148754,6.4061388075216071E-7,null,1,null,false,false,false,false,1,null,"",1,null,null,null,1,null,1,null,{"$error":"#VALUE!"},null,null,"","","","","","",1,"","","","","","","","","",null,"","","","","","","",1,"","","","","","","","",null,null,26,"Diverging",0,0,0,0,null,0,0,0,0,null,0,0,0,0,null,0,0,0,0]
[27,"Diverging","NBT","MinT1","Signal near","NBR","MinR1","Signal near",null,{"$error":"#VALUE!"},{"$error":"#VALUE!"},{"$error":"#VALUE!"},null,15,15,10,1.3073361412148754,6.4061388075216071E-7,null,1,null,false,false,false,false,1,null,"",1,null,null,null,1,null,1,null,{"$error":"#VALUE!"},null,null,"","","","","","",1,"","","","","","","","","",null,"","","","","","","","",1,"","","","","","","",null,null,27,"Diverging",0,0,0,0,null,0,0,0,0,null,0,0,0,0,null,0,0,0,0]
[28,"Diverging","WBT","MajT2","Major thru","WBL, WBR","MajL2, MajR2","Major right",null,{"$error":"#VALUE!"},{"$error":"#VALUE!"},{"$error":"#VALUE!"},null,0,15,10,7.5,4.8454301532720461E-4,null,1,null,false,false,false,false,1,null,"",1,null,null,null,1,null,1,null,{"$error":"#VALUE!"},null,null,"","","",1,"","","","","","","","","","","","",null,"","","","",1,1,"","","","","","","","","","",null,null,28,"Diverging",0,0,0,0,null,0,0,0,0,null,0,0,0,0,null,0,0,0,0]
[29,"Diverging","WBL","MajL2","Signal near","WBR","MajR2","Signal near",null,{"$error":"#VALUE!"},{"$error":"#VALUE!"},{"$error":"#VALUE!"},null,15,15,10,1.3073361412148754,6.4061388075216071E-7,null,1,null,false,false,false,false,1,null,"",1,null,null,null,1,null,1,null,{"$error":"#VALUE!"},null,null,"","","","",1,"","","","","","","","","","","",null,"","","","","",1,"","","","","","","","","","",null,null,29,"Diverging",0,0,0,0,null,0,0,0,0,null,0,0,0,0,null,0,0,0,0]
[30,"Nonmotorized",null,"MinNM2","Nonmotorized","SBR","MinR2","Signal near",null,{"$error":"#VALUE!"},{"$error":"#VALUE!"},{"$error":"#VALUE!"},null,0,15,"","",0.1205004039155782,null,{"$f":"SSI_AGI_ProtFactor","v":0.505},null,false,false,false,false,1,null,0,0.33333333333333326,null,null,null,1,null,0.16833333333333331,null,{"$error":"#VALUE!"},null,null,"","","","","","","","","","","","","","","",1,null,"","","","","","","","","","","",1,"","","","",null,null,30,"Nonmotorized",0,2,1,0,null,0,2,1,0,null,0,1,0,0,null,0,1,0,0]
[31,"Nonmotorized",null,"MinNM2","Nonmotorized","SBT, WBL","MinT2, MajL2","Signal near",null,{"$error":"#VALUE!"},{"$error":"#VALUE!"},{"$error":"#VALUE!"},null,0,15,"","",0.1205004039155782,null,{"$f":"SSI_AGI_ProtFactor","v":0.505},null,false,false,false,false,1,null,0,0.33333333333333326,null,null,null,1,null,0.16833333333333331,null,{"$error":"#VALUE!"},null,null,"","","","","","","","","","","","","","","",1,null,"","","","",1,"","","","",1,"","","","","","",null,null,31,"Nonmotorized",0,2,1,0,null,0,2,1,0,null,0,1,0,0,null,0,1,0,0]
[32,"Nonmotorized",null,"MinNM2","Nonmotorized","SBL","MinL2","Signal near",null,{"$error":"#VALUE!"},{"$error":"#VALUE!"},{"$error":"#VALUE!"},null,0,15,"","",0.1205004039155782,null,{"$f":"SSI_AGI_ProtFactor","v":0.505},null,false,false,false,false,1,null,0,0.33333333333333326,null,null,null,1,null,0.16833333333333331,null,{"$error":"#VALUE!"},null,null,{"$f":"IF(ISNUMBER(SEARCH(AN$3,$D35)),1,\"\")","v":""},"","","","","","","","","","","","","","",1,null,{"$f":"IF(ISNUMBER(SEARCH(BE$3,$G35)),1,\"\")","v":""},"","","","","","","","","",1,"","","","","",null,null,32,"Nonmotorized",0,2,1,0,null,0,2,1,0,null,0,1,0,0,null,0,1,0,0]
[33,"Nonmotorized",null,"MinNM2","Nonmotorized","EBL","MajL1","Major left",null,{"$error":"#VALUE!"},{"$error":"#VALUE!"},{"$error":"#VALUE!"},null,{"$f":"VLOOKUP(E36,SSI_AGI_Range_VehSpeed,5,FALSE)","v":0},{"$f":"VLOOKUP(H36,SSI_AGI_Range_VehSpeed,5,FALSE)","v":20},{"$f":"IF(B36=\"Nonmotorized\",\"\",VLOOKUP(B36,SSI_AGI_Range_CollAngles,5,FALSE))","v":""},{"$f":"IF(B36=\"Nonmotorized\",\"\",SQRT(N36^2+O36^2-2*N36*O36*COS(RADIANS(P36)))/2)","v":""},{"$f":"IF(B36=\"Nonmotorized\",1/(1+EXP(3.8432-0.1237*O36)),(Q36/SSI_AGI_RegAlpha)^SSI_AGI_RegK+(Q36/SSI_AGI_RegAlpha)^SSI_AGI_RegK-((Q36/SSI_AGI_RegAlpha)^SSI_AGI_RegK)*((Q36/SSI_AGI_RegAlpha)^SSI_AGI_RegK))","v":0.20274912921655375},null,{"$f":"IF(SSI_AGI_MajorLTPhase=\"Protected/permitted\",SSI_AGI_ProtPermFactor,IF(SSI_AGI_MajorLTPhase=\"Protected\",SSI_AGI_ProtFactor,SSI_AGI_PermFactor))","v":0.92500000000000004},null,{"$f":"IF(AND(SS_AGI_MajMedian=\"No\", SS_AGI_MinMedian=\"No\"),BY36,IF(AND(SS_AGI_MajMedian=\"Yes\",SS_AGI_MinMedian=\"No\"),CD36,IF(AND(SS_AGI_MajMedian=\"No\",SS_AGI_MinMedian=\"Yes\"),CI36,IF(AND(SS_AGI_MajMedian=\"Yes\",SS_AGI_MinMedian=\"Yes\"),CN36))))","v":false},{"$f":"IF(AND(SS_AGI_MajMedian=\"No\", SS_AGI_MinMedian=\"No\"),BZ36,IF(AND(SS_AGI_MajMedian=\"Yes\",SS_AGI_MinMedian=\"No\"),CE36,IF(AND(SS_AGI_MajMedian=\"No\",SS_AGI_MinMedian=\"Yes\"),CJ36,IF(AND(SS_AGI_MajMedian=\"Yes\",SS_AGI_MinMedian=\"Yes\"),CO36))))","v":false},{"$f":"IF(AND(SS_AGI_MajMedian=\"No\", SS_AGI_MinMedian=\"No\"),CA36,IF(AND(SS_AGI_MajMedian=\"Yes\",SS_AGI_MinMedian=\"No\"),CF36,IF(AND(SS_AGI_MajMedian=\"No\",SS_AGI_MinMedian=\"Yes\"),CK36,IF(AND(SS_AGI_MajMedian=\"Yes\",SS_AGI_MinMedian=\"Yes\"),CP36))))","v":false},{"$f":"IF(AND(SS_AGI_MajMedian=\"No\", SS_AGI_MinMedian=\"No\"),CB36,IF(AND(SS_AGI_MajMedian=\"Yes\",SS_AGI_MinMedian=\"No\"),CG36,IF(AND(SS_AGI_MajMedian=\"No\",SS_AGI_MinMedian=\"Yes\"),CL36,IF(AND(SS_AGI_MajMedian=\"Yes\",SS_AGI_MinMedian=\"Yes\"),CQ36))))","v":false},{"$f":"MAX(1,IF(B36<>\"Pedestrian\",V36*SSI_AGI_MajorThruLanes+W36*SSI_AGI_MinorThruLanes+X36*IF(SSI_AGI_MajorThruLanes=1,SSI_AGI_MergeWeightL1,IF(SSI_AGI_MajorThruLanes=2,SSI_AGI_MergeWeightL1+SSI_AGI_MergeWeightL2,SSI_AGI_MergeWeightL1+SSI_AGI_MergeWeightL2+SSI_AGI_MergeWeightL3*(SSI_AGI_MajorThruLanes-2)))+Y36*IF(SSI_AGI_MinorThruLanes=1,SSI_AGI_MergeWeightL1,IF(SSI_AGI_MinorThruLanes=2,SSI_AGI_MergeWeightL1+SSI_AGI_MergeWeightL2,SSI_AGI_MergeWeightL1+SSI_AGI_MergeWeightL2+SSI_AGI_MergeWeightL3*(SSI_AGI_MinorThruLanes-2))),V36*SSI_AGI_MajorThruLanes+W36*SSI_AGI_MinorThruLanes+X36*IF(SSI_AGI_MajorThruLanes=1,SSI_AGI_NM_MergeWeightL1,IF(SSI_AGI_MajorThruLanes=2,SSI_AGI_NM_MergeWeightL1+SSI_AGI_NM_MergeWeightL2,SSI_AGI_NM_MergeWeightL1+SSI_AGI_NM_MergeWeightL2+SSI_AGI_NM_MergeWeightL3*(SSI_AGI_MajorThruLanes-2)))+Y36*IF(SSI_AGI_MinorThruLanes=1,SSI_AGI_NM_MergeWeightL1,IF(SSI_AGI_MinorThruLanes=2,SSI_AGI_NM_MergeWeightL1+SSI_AGI_NM_MergeWeightL2,SSI_AGI_NM_MergeWeightL1+SSI_AGI_NM_MergeWeightL2+SSI_AGI_NM_MergeWeightL3*(SSI_AGI_MinorThruLanes-2)))))","v":1},null,0,0.33333333333333326,null,null,null,1,null,0.30833333333333329,null,{"$error":"#VALUE!"},null,null,"","","","","","","","","","","","","","","",1,null,"",1,"","","","","","","","","","","","","","",null,null,33,"Nonmotorized",0,2,1,0,null,0,2,1,0,null,0,1,1,0,null,0,1,1,0]
[34,"Nonmotorized",null,"MinNM2","Nonmotorized","NBT","MinT1","Signal far",null,{"$error":"#VALUE!"},{"$error":"#VALUE!"},{"$f":"PRODUCT(J37:K37)","v":{"$error":"#VALUE!"}},null,0,25,"","",0.32066879346345062,null,{"$f":"SSI_AGI_ProtFactor","v":0.505},null,false,false,false,false,1,null,0,0.33333333333333326,null,null,null,1,null,0.16833333333333331,null,{"$error":"#VALUE!"},null,null,"","","","","","","","","","","","","","","",1,null,"","","","","","",1,"","","","","","","","","",null,null,34,"Nonmotorized",0,2,1,0,null,0,2,1,0,null,0,1,1,0,null,{"$f":"IF(OR(CD37=\"\",CI37=\"\"),\"\",MIN(CD37,CI37))","v":0},1,1,0]
[35,"Nonmotorized",null,"MajNM1","Nonmotorized","SBR","MinR2","Signal near",null,{"$error":"#VALUE!"},{"$error":"#VALUE!"},{"$error":"#VALUE!"},null,0,15,"","",0.1205004039155782,null,{"$f":"SSI_AGI_ProtFactor","v":0.505},null,false,false,false,false,1,null,0,0.33333333333333326,null,null,null,1,null,0.16833333333333331,null,{"$error":"#VALUE!"},null,null,"","","","","","","","","","","","",1,"","","",null,"","","","","","","","","","","",1,"","","","",null,null,35,"Nonmotorized",2,0,0,2,null,1,0,0,2,null,2,0,0,2,null,1,0,0,2]
[36,"Nonmotorized",null,"MajNM1","Nonmotorized","WBT","MajT2","Major thru",null,{"$error":"#VALUE!"},{"$error":"#VALUE!"},{"$error":"#VALUE!"},null,0,0,"","",2.0975532400616122E-2,null,{"$f":"SSI_AGI_ProtFactor","v":0.505},null,false,false,false,false,1,null,0,0.33333333333333326,null,null,null,1,null,0.16833333333333331,null,{"$error":"#VALUE!"},null,null,"","","","","","","","","","","","",1,"","","",null,"","","",1,"","","","","","","","","","","","",null,null,36,"Nonmotorized",2,0,0,2,null,1,0,0,2,null,2,0,0,2,null,1,0,0,2]
[37,"Nonmotorized",null,"MajNM1","Nonmotorized","NBL","MinL1","Signal far",null,{"$error":"#VALUE!"},{"$error":"#VALUE!"},{"$error":"#VALUE!"},null,0,25,"","",0.32066879346345062,null,{"$f":"IF(SSI_AGI_MinorLTPhase=\"Protected/permitted\",SSI_AGI_ProtPermFactor,IF(SSI_AGI_MinorLTPhase=\"Protected\",SSI_AGI_ProtFactor,SSI_AGI_PermFactor))","v":0.92500000000000004},null,false,false,false,false,1,null,0,0.33333333333333326,null,null,null,1,null,0.30833333333333329,null,{"$error":"#VALUE!"},null,null,"","","","","","","","","","","","",1,"","","",null,"","","","","","","",1,"","","","","","","","",null,null,37,"Nonmotorized",2,0,0,2,null,1,0,0,2,null,2,0,0,2,null,1,0,0,2]
[38,"Nonmotorized",null,"MajNM1","Nonmotorized","EBL","MajL1","Major left",null,{"$error":"#VALUE!"},{"$error":"#VALUE!"},{"$error":"#VALUE!"},null,0,20,"","",0.20274912921655375,null,{"$f":"SSI_AGI_ProtFactor","v":0.505},null,false,false,false,false,1,null,0,0.33333333333333326,null,null,null,1,null,0.16833333333333331,null,{"$error":"#VALUE!"},null,null,"","","","","","","","","","","","",1,"","","",null,"",1,"","","","","","","","","","","","","","",null,null,38,"Nonmotorized",2,0,0,2,null,1,0,0,0,null,2,0,0,2,null,1,0,0,0]
[39,"Nonmotorized",null,"MajNM1","Nonmotorized","EBT","MajT1","Major thru",null,{"$error":"#VALUE!"},{"$error":"#VALUE!"},{"$error":"#VALUE!"},null,0,0,"","",2.0975532400616122E-2,null,0.505,null,false,false,false,false,1,null,0,0.33333333333333326,null,null,null,1,null,0.16833333333333331,null,{"$error":"#VALUE!"},null,null,"","","","","","","","","","","","",1,"","","",null,1,"","","","","","","","","","","","","","","",null,null,39,"Nonmotorized",2,0,0,2,null,1,0,0,0,null,2,0,0,2,null,1,0,0,0]
[40,"Nonmotorized",null,"MajNM1","Nonmotorized","EBR","MajR1","Major right",null,{"$error":"#VALUE!"},{"$error":"#VALUE!"},{"$error":"#VALUE!"},null,0,15,"","",0.1205004039155782,null,0.505,null,false,false,false,false,1,null,0,0.33333333333333326,null,null,null,1,null,0.16833333333333331,null,{"$error":"#VALUE!"},null,null,"","","","","","","","","","","","",1,"","","",null,"","",1,"","","","","","","","","","","","","",null,null,40,"Nonmotorized",2,0,0,2,null,1,0,0,0,null,2,0,0,2,null,1,0,0,0]
[41,"Nonmotorized",null,"MinNM1","Nonmotorized","EBR","MajR1","Major right",null,{"$error":"#VALUE!"},{"$error":"#VALUE!"},{"$error":"#VALUE!"},null,0,15,"","",0.1205004039155782,null,0.505,null,false,false,false,false,1,null,0,0.33333333333333326,null,null,null,1,null,0.16833333333333331,null,{"$error":"#VALUE!"},null,null,"","","","","","","","","","","","","","",1,"",null,"","",1,"","","","","","","","","","","","","",null,null,41,"Nonmotorized",0,2,1,0,null,0,2,1,0,null,0,1,1,0,null,0,1,1,0]
[42,"Nonmotorized",null,"MinNM1","Nonmotorized","SBT, WBL","MinT2, MajL2","Signal far",null,{"$error":"#VALUE!"},{"$error":"#VALUE!"},{"$error":"#VALUE!"},null,0,25,"","",0.32066879346345062,null,0.505,null,false,false,false,false,1,null,0,0.33333333333333326,null,null,null,1,null,0.16833333333333331,null,{"$error":"#VALUE!"},null,null,"","","","","","","","","","","","","","",1,"",null,"","","","",1,"","","","",1,"","","","","","",null,null,42,"Nonmotorized",0,2,1,0,null,0,2,1,0,null,0,1,1,0,null,0,1,1,0]
[43,"Nonmotorized",null,"MinNM1","Nonmotorized","NBL","MinL1","Signal near",null,{"$error":"#VALUE!"},{"$error":"#VALUE!"},{"$error":"#VALUE!"},null,0,15,"","",0.1205004039155782,null,0.505,null,false,false,false,false,1,null,0,0.33333333333333326,null,null,null,1,null,0.16833333333333331,null,{"$error":"#VALUE!"},null,null,"","","","","","","","","","","","","","",1,"",null,"","","","","","","",1,"","","","","","","","",null,null,43,"Nonmotorized",0,2,1,0,null,0,2,1,0,null,0,1,0,0,null,0,1,0,0]
[44,"Nonmotorized",null,"MinNM1","Nonmotorized","NBT","MinT1","Signal near",null,{"$error":"#VALUE!"},{"$error":"#VALUE!"},{"$error":"#VALUE!"},null,0,15,"","",0.1205004039155782,null,0.505,null,false,false,false,false,1,null,0,0.33333333333333326,null,null,null,1,null,0.16833333333333331,null,{"$error":"#VALUE!"},null,null,"","","","","","","","","","","","","","",1,"",null,"","","","","","",1,"","","","","","","","","",null,null,44,"Nonmotorized",0,2,1,0,null,0,2,1,0,null,0,1,0,0,null,0,1,0,0]
[45,"Nonmotorized",null,"MinNM1","Nonmotorized","NBR","MinR1","Signal near",null,{"$error":"#VALUE!"},{"$error":"#VALUE!"},{"$error":"#VALUE!"},null,0,15,"","",0.1205004039155782,null,0.505,null,false,false,false,false,1,null,0,0.33333333333333326,null,null,null,1,null,0.16833333333333331,null,{"$error":"#VALUE!"},null,null,"","","","","","","","","","","","","","",1,"",null,"","","","","","","","",1,"","","","","","","",null,null,45,"Nonmotorized",0,2,1,0,null,0,2,1,0,null,0,1,0,0,null,0,1,0,0]
[46,"Nonmotorized",null,"MajNM2","Nonmotorized","NBR","MinR1","Signal near",null,{"$error":"#VALUE!"},{"$error":"#VALUE!"},{"$error":"#VALUE!"},null,0,15,"","",0.1205004039155782,null,0.505,null,false,false,false,false,1,null,0,0.33333333333333326,null,null,null,1,null,0.16833333333333331,null,{"$error":"#VALUE!"},null,null,"","","","","","","","","","","","","",1,"","",null,"","","","","","","","",1,"","","","","","","",null,null,46,"Nonmotorized",2,0,0,2,null,1,0,0,2,null,2,0,0,2,null,1,0,0,2]
[47,"Nonmotorized",null,"MajNM2","Nonmotorized","EBT","MajT1","Major thru",null,{"$error":"#VALUE!"},{"$error":"#VALUE!"},{"$error":"#VALUE!"},null,0,0,"","",2.0975532400616122E-2,null,0.505,null,false,false,false,false,1,null,0,0.33333333333333326,null,null,null,1,null,0.16833333333333331,null,{"$error":"#VALUE!"},null,null,"","","","","","","","","","","","","",1,"",{"$f":"IF(ISNUMBER(SEARCH(BC$3,$D50)),1,\"\")","v":""},null,1,"","","","","","","","","","","","","","",{"$f":"IF(ISNUMBER(SEARCH(BT$3,$G50)),1,\"\")","v":""},null,null,47,"Nonmotorized",2,0,0,2,null,1,0,0,2,null,2,0,0,2,null,1,0,0,2]
[48,"Nonmotorized",null,"MajNM2","Nonmotorized","SBL","MinL2","Signal far",null,{"$error":"#VALUE!"},{"$error":"#VALUE!"},{"$error":"#VALUE!"},null,0,25,"","",0.32066879346345062,null,{"$f":"IF(SSI_AGI_MinorLTPhase=\"Protected/permitted\",SSI_AGI_ProtPermFactor,IF(SSI_AGI_MinorLTPhase=\"Protected\",SSI_AGI_ProtFactor,SSI_AGI_PermFactor))","v":0.92500000000000004},null,false,false,false,false,1,null,0,0.33333333333333326,null,null,null,1,null,0.30833333333333329,null,{"$error":"#VALUE!"},null,null,{"$f":"IF(ISNUMBER(SEARCH(AN$3,$D51)),1,\"\")","v":""},"","","","","","","","","","","","",1,"","",null,{"$f":"IF(ISNUMBER(SEARCH(BE$3,$G51)),1,\"\")","v":""},"","","","","","","","","",1,"","","","","",null,null,48,"Nonmotorized",2,0,0,2,null,1,0,0,2,null,2,0,0,2,null,1,0,0,2]
[49,"Nonmotorized",null,"MajNM2","Nonmotorized","WBT","MajT2","Major thru",null,{"$error":"#VALUE!"},{"$error":"#VALUE!"},{"$error":"#VALUE!"},null,0,0,"","",2.0975532400616122E-2,null,{"$f":"SSI_AGI_ProtFactor","v":0.505},null,false,false,false,false,1,null,0,0.33333333333333326,null,null,null,1,null,0.16833333333333331,null,{"$error":"#VALUE!"},null,null,"","","","","","","","","","","","","",1,"","",null,"","","",1,"","","","","","","","","","","","",null,null,49,"Nonmotorized",2,0,0,2,null,1,0,0,0,null,2,0,0,2,null,1,0,0,0]
[50,"Nonmotorized",null,"MajNM2","Nonmotorized","WBL","MajL2","Signal near",null,{"$error":"#VALUE!"},{"$error":"#VALUE!"},{"$error":"#VALUE!"},null,0,15,"","",0.1205004039155782,null,{"$f":"SSI_AGI_ProtFactor","v":0.505},null,false,false,false,false,1,null,{"$f":"IF(B53=\"Diverging\",\"\",SSI_AGI_VehSpeed_MnrThru)","v":0},0.33333333333333326,null,null,null,1,null,0.16833333333333331,null,{"$error":"#VALUE!"},null,null,"","","","","","","","","","","","","",1,"","",null,"","","","",1,"","","","","","","","","","","",null,null,50,"Nonmotorized",0,1,0,0,null,0,1,0,0,null,0,1,0,0,null,0,1,0,0]
[51,"Nonmotorized",null,"MajNM2","Nonmotorized","WBR","MajR2","Signal near",null,{"$error":"#VALUE!"},{"$error":"#VALUE!"},{"$error":"#VALUE!"},null,0,15,"","",0.1205004039155782,null,{"$f":"SSI_AGI_ProtFactor","v":0.505},null,false,false,false,false,1,null,{"$f":"IF(B54=\"Diverging\",\"\",SSI_AGI_VehSpeed_MnrThru)","v":0},0.33333333333333326,null,null,null,1,null,0.16833333333333331,null,{"$error":"#VALUE!"},null,null,"","","","","","","","","","","","","",1,"","",null,"","","","","",1,"","","","","","","","","","",null,null,51,"Nonmotorized",0,1,0,0,null,0,1,0,0,null,0,1,0,0,null,0,1,0,0]
[52,"Nonmotorized",null,"MinNM2","Nonmotorized","WBL, WBR","MajL2, MajR2","Major right",null,{"$error":"#VALUE!"},{"$error":"#VALUE!"},{"$error":"#VALUE!"},null,0,15,"","",0.1205004039155782,null,{"$f":"SSI_AGI_ProtFactor","v":0.505},null,false,false,false,false,1,null,{"$f":"IF(B55=\"Diverging\",\"\",SSI_AGI_VehSpeed_MjrThru)","v":0},0.33333333333333326,null,null,null,1,null,0.16833333333333331,null,{"$error":"#VALUE!"},null,null,"","","","","","","","","","","","","","","",1,null,"","","","",1,1,"","","","","","","","","","",null,null,52,"Nonmotorized",0,0,1,0,null,0,0,1,0,null,0,0,1,0,null,0,0,1,0]
[null,null,null,null,null,null,null,null,null,null,null,null,null,null,null,null,null,null,null,null,null,null,null,null,null,null,null,null,null,null,null,null,null,null,null,null,null,null,"O",{"$f":"'SSI Inputs'!$D$26","v":{"$error":"#VALUE!"}},{"$f":"'SSI Inputs'!$D$27","v":{"$error":"#VALUE!"}},{"$f":"'SSI Inputs'!$D$28","v":{"$error":"#VALUE!"}},{"$f":"'SSI Inputs'!$D$30","v":{"$error":"#VALUE!"}},{"$f":"'SSI Inputs'!$D$31","v":{"$error":"#VALUE!"}},{"$f":"'SSI Inputs'!$D$32","v":{"$error":"#VALUE!"}},{"$f":"'SSI Inputs'!$D$34","v":{"$error":"#VALUE!"}},{"$f":"'SSI Inputs'!$D$35","v":{"$error":"#VALUE!"}},{"$f":"'SSI Inputs'!$D$36","v":{"$error":"#VALUE!"}},{"$f":"'SSI Inputs'!$D$38","v":{"$error":"#VALUE!"}},{"$f":"'SSI Inputs'!$D$39","v":{"$error":"#VALUE!"}},{"$f":"'SSI Inputs'!$D$40","v":{"$error":"#VALUE!"}},{"$f":"'SSI Inputs'!$Q$18","v":12.5},{"$f":"'SSI Inputs'!$Q$19","v":12.5},{"$f":"'SSI Inputs'!$Q$20","v":12.5},{"$f":"'SSI Inputs'!$Q$21","v":12.5},"O",{"$f":"'SSI Inputs'!$D$26","v":{"$error":"#VALUE!"}},{"$f":"'SSI Inputs'!$D$27","v":{"$error":"#VALUE!"}},{"$f":"'SSI Inputs'!$D$28","v":{"$error":"#VALUE!"}},{"$f":"'SSI Inputs'!$D$30","v":{"$error":"#VALUE!"}},{"$f":"'SSI Inputs'!$D$31","v":{"$error":"#VALUE!"}},{"$f":"'SSI Inputs'!$D$32","v":{"$error":"#VALUE!"}},{"$f":"'SSI Inputs'!$D$34","v":{"$error":"#VALUE!"}},{"$f":"'SSI Inputs'!$D$35","v":{"$error":"#VALUE!"}},{"$f":"'SSI Inputs'!$D$36","v":{"$error":"#VALUE!"}},{"$f":"'SSI Inputs'!$D$38","v":{"$error":"#VALUE!"}},{"$f":"'SSI Inputs'!$D$39","v":{"$error":"#VALUE!"}},{"$f":"'SSI Inputs'!$D$40","v":{"$error":"#VALUE!"}},{"$f":"'SSI Inputs'!$Q$18","v":12.5},{"$f":"'SSI Inputs'!$Q$19","v":12.5},{"$f":"'SSI Inputs'!$Q$20","v":12.5},{"$f":"'SSI Inputs'!$Q$21","v":12.5}]
[null,null,null,null,null,null,null,null,null,null,null,null,null,null,null,null,null,null,null,null,null,null,null,null,null,null,null,null,null,null,null,null,null,null,null,null,null,null,"D",{"$f":"'SSI Inputs'!$E$26","v":{"$error":"#VALUE!"}},{"$f":"'SSI Inputs'!$E$27","v":{"$error":"#VALUE!"}},{"$f":"'SSI Inputs'!$E$28","v":{"$error":"#VALUE!"}},{"$f":"'SSI Inputs'!$E$30","v":{"$error":"#VALUE!"}},{"$f":"'SSI Inputs'!$E$31","v":{"$error":"#VALUE!"}},{"$f":"'SSI Inputs'!$E$32","v":{"$error":"#VALUE!"}},{"$f":"'SSI Inputs'!$E$34","v":{"$error":"#VALUE!"}},{"$f":"'SSI Inputs'!$E$35","v":{"$error":"#VALUE!"}},{"$f":"'SSI Inputs'!$E$36","v":{"$error":"#VALUE!"}},{"$f":"'SSI Inputs'!$E$38","v":{"$error":"#VALUE!"}},{"$f":"'SSI Inputs'!$E$39","v":{"$error":"#VALUE!"}},{"$f":"'SSI Inputs'!$E$40","v":{"$error":"#VALUE!"}},{"$f":"'SSI Inputs'!$R$18","v":12.5},{"$f":"'SSI Inputs'!$R$19","v":12.5},{"$f":"'SSI Inputs'!$R$20","v":12.5},{"$f":"'SSI Inputs'!$R$21","v":12.5},"D",{"$f":"'SSI Inputs'!$E$26","v":{"$error":"#VALUE!"}},{"$f":"'SSI Inputs'!$E$27","v":{"$error":"#VALUE!"}},{"$f":"'SSI Inputs'!$E$28","v":{"$error":"#VALUE!"}},{"$f":"'SSI Inputs'!$E$30","v":{"$error":"#VALUE!"}},{"$f":"'SSI Inputs'!$E$31","v":{"$error":"#VALUE!"}},{"$f":"'SSI Inputs'!$E$32","v":{"$error":"#VALUE!"}},{"$f":"'SSI Inputs'!$E$34","v":{"$error":"#VALUE!"}},{"$f":"'SSI Inputs'!$E$35","v":{"$error":"#VALUE!"}},{"$f":"'SSI Inputs'!$E$36","v":{"$error":"#VALUE!"}},{"$f":"'SSI Inputs'!$E$38","v":{"$error":"#VALUE!"}},{"$f":"'SSI Inputs'!$E$39","v":{"$error":"#VALUE!"}},{"$f":"'SSI Inputs'!$E$40","v":{"$error":"#VALUE!"}},{"$f":"'SSI Inputs'!$R$18","v":12.5},{"$f":"'SSI Inputs'!$R$19","v":12.5},{"$f":"'SSI Inputs'!$R$20","v":12.5},{"$f":"'SSI Inputs'!$R$21","v":12.5}]
[]
[]
[]
[]
[]
[]
[]
[]
[]
[]
[]
[]
[]
[]
[]
[]
[]
[]
[]
[]
[]
[]
[]
[]
[]
[]
[]
[]
[]
[]
[]
[]
[]
[]
[]
[]
[]
[]
[]
[]
[]
[]
[]
[null,null,null,null,null,null,null,null,null,"Exposure",null,null,null,null,null,null,null,null,null,null,null,null,null,null,null,null,null,null,null,null,null,null,null,null,null,null,"Exposure-Severity-Complexity Product"]
[null,null,null,null,null,null,null,null,null,"Q1","Q2","I"]
[null,null,null,null,null,null,null,null,null,{"$f":"SUMPRODUCT($AN4:$BC4,$AN$57:$BC$57)","v":{"$error":"#VALUE!"}},{"$f":"SUMPRODUCT($BE4:$BT4,$BE$57:$BT$57)","v":{"$error":"#VALUE!"}},{"$f":"PRODUCT(J103:K103)","v":{"$error":"#VALUE!"}},null,null,null,null,null,null,null,null,null,null,null,null,null,null,null,null,null,null,null,null,null,null,null,null,{"$f":"L103*R4*AI4","v":{"$error":"#VALUE!"}}]
[null,null,null,null,null,null,null,null,null,{"$f":"SUMPRODUCT($AN5:$BC5,$AN$57:$BC$57)","v":{"$error":"#VALUE!"}},{"$f":"SUMPRODUCT($BE5:$BT5,$BE$57:$BT$57)","v":{"$error":"#VALUE!"}},{"$f":"PRODUCT(J104:K104)","v":{"$error":"#VALUE!"}},null,null,null,null,null,null,null,null,null,null,null,null,null,null,null,null,null,null,null,null,null,null,null,null,{"$f":"L104*R5*AI5","v":{"$error":"#VALUE!"}}]
[null,null,null,null,null,null,null,null,null,{"$error":"#VALUE!"},{"$error":"#VALUE!"},{"$error":"#VALUE!"},null,null,null,null,null,null,null,null,null,null,null,null,null,null,null,null,null,null,null,null,null,null,null,null,{"$error":"#VALUE!"}]
[null,null,null,null,null,null,null,null,null,{"$error":"#VALUE!"},{"$error":"#VALUE!"},{"$error":"#VALUE!"},null,null,null,null,null,null,null,null,null,null,null,null,null,null,null,null,null,null,null,null,null,null,null,null,{"$error":"#VALUE!"}]
[null,null,null,null,null,null,null,null,null,{"$error":"#VALUE!"},{"$error":"#VALUE!"},{"$error":"#VALUE!"},null,null,null,null,null,null,null,null,null,null,null,null,null,null,null,null,null,null,null,null,null,null,null,null,{"$error":"#VALUE!"}]
[null,null,null,null,null,null,null,null,null,{"$error":"#VALUE!"},{"$error":"#VALUE!"},{"$error":"#VALUE!"},null,null,null,null,null,null,null,null,null,null,null,null,null,null,null,null,null,null,null,null,null,null,null,null,{"$error":"#VALUE!"}]
[null,null,null,null,null,null,null,null,null,{"$error":"#VALUE!"},{"$error":"#VALUE!"},{"$error":"#VALUE!"},null,null,null,null,null,null,null,null,null,null,null,null,null,null,null,null,null,null,null,null,null,null,null,null,{"$error":"#VALUE!"}]
[null,null,null,null,null,null,null,null,null,{"$error":"#VALUE!"},{"$error":"#VALUE!"},{"$error":"#VALUE!"},null,null,null,null,null,null,null,null,null,null,null,null,null,null,null,null,null,null,null,null,null,null,null,null,{"$error":"#VALUE!"}]
[null,null,null,null,null,null,null,null,null,{"$error":"#VALUE!"},{"$error":"#VALUE!"},{"$error":"#VALUE!"},null,null,null,null,null,null,null,null,null,null,null,null,null,null,null,null,null,null,null,null,null,null,null,null,{"$error":"#VALUE!"}]
[null,null,null,null,null,null,null,null,null,{"$error":"#VALUE!"},{"$error":"#VALUE!"},{"$error":"#VALUE!"},null,null,null,null,null,null,null,null,null,null,null,null,null,null,null,null,null,null,null,null,null,null,null,null,{"$error":"#VALUE!"}]
[null,null,null,null,null,null,null,null,null,{"$error":"#VALUE!"},{"$error":"#VALUE!"},{"$error":"#VALUE!"},null,null,null,null,null,null,null,null,null,null,null,null,null,null,null,null,null,null,null,null,null,null,null,null,{"$error":"#VALUE!"}]
[null,null,null,null,null,null,null,null,null,{"$error":"#VALUE!"},{"$error":"#VALUE!"},{"$error":"#VALUE!"},null,null,null,null,null,null,null,null,null,null,null,null,null,null,null,null,null,null,null,null,null,null,null,null,{"$error":"#VALUE!"}]
[null,null,null,null,null,null,null,null,null,{"$error":"#VALUE!"},{"$error":"#VALUE!"},{"$error":"#VALUE!"},null,null,null,null,null,null,null,null,null,null,null,null,null,null,null,null,null,null,null,null,null,null,null,null,{"$error":"#VALUE!"}]
[null,null,null,null,null,null,null,null,null,{"$error":"#VALUE!"},{"$error":"#VALUE!"},{"$error":"#VALUE!"},null,null,null,null,null,null,null,null,null,null,null,null,null,null,null,null,null,null,null,null,null,null,null,null,{"$error":"#VALUE!"}]
[null,null,null,null,null,null,null,null,null,{"$error":"#VALUE!"},{"$error":"#VALUE!"},{"$error":"#VALUE!"},null,null,null,null,null,null,null,null,null,null,null,null,null,null,null,null,null,null,null,null,null,null,null,null,{"$error":"#VALUE!"}]
[null,null,null,null,null,null,null,null,null,{"$error":"#VALUE!"},{"$error":"#VALUE!"},{"$error":"#VALUE!"},null,null,null,null,null,null,null,null,null,null,null,null,null,null,null,null,null,null,null,null,null,null,null,null,{"$error":"#VALUE!"}]
[null,null,null,null,null,null,null,null,null,{"$error":"#VALUE!"},{"$error":"#VALUE!"},{"$error":"#VALUE!"},null,null,null,null,null,null,null,null,null,null,null,null,null,null,null,null,null,null,null,null,null,null,null,null,{"$error":"#VALUE!"}]
[null,null,null,null,null,null,null,null,null,{"$error":"#VALUE!"},{"$error":"#VALUE!"},{"$error":"#VALUE!"},null,null,null,null,null,null,null,null,null,null,null,null,null,null,null,null,null,null,null,null,null,null,null,null,{"$error":"#VALUE!"}]
[null,null,null,null,null,null,null,null,null,{"$error":"#VALUE!"},{"$error":"#VALUE!"},{"$error":"#VALUE!"},null,null,null,null,null,null,null,null,null,null,null,null,null,null,null,null,null,null,null,null,null,null,null,null,{"$error":"#VALUE!"}]
[null,null,null,null,null,null,null,null,null,{"$error":"#VALUE!"},{"$error":"#VALUE!"},{"$error":"#VALUE!"},null,null,null,null,null,null,null,null,null,null,null,null,null,null,null,null,null,null,null,null,null,null,null,null,{"$error":"#VALUE!"}]
[null,null,null,null,null,null,null,null,null,{"$error":"#VALUE!"},{"$error":"#VALUE!"},{"$error":"#VALUE!"},null,null,null,null,null,null,null,null,null,null,null,null,null,null,null,null,null,null,null,null,null,null,null,null,{"$error":"#VALUE!"}]
[null,null,null,null,null,null,null,null,null,{"$error":"#VALUE!"},{"$error":"#VALUE!"},{"$error":"#VALUE!"},null,null,null,null,null,null,null,null,null,null,null,null,null,null,null,null,null,null,null,null,null,null,null,null,{"$error":"#VALUE!"}]
[null,null,null,null,null,null,null,null,null,{"$error":"#VALUE!"},{"$error":"#VALUE!"},{"$error":"#VALUE!"},null,null,null,null,null,null,null,null,null,null,null,null,null,null,null,null,null,null,null,null,null,null,null,null,{"$error":"#VALUE!"}]
[null,null,null,null,null,null,null,null,null,{"$error":"#VALUE!"},{"$error":"#VALUE!"},{"$error":"#VALUE!"},null,null,null,null,null,null,null,null,null,null,null,null,null,null,null,null,null,null,null,null,null,null,null,null,{"$error":"#VALUE!"}]
[null,null,null,null,null,null,null,null,null,{"$error":"#VALUE!"},{"$error":"#VALUE!"},{"$error":"#VALUE!"},null,null,null,null,null,null,null,null,null,null,null,null,null,null,null,null,null,null,null,null,null,null,null,null,{"$error":"#VALUE!"}]
[null,null,null,null,null,null,null,null,null,{"$error":"#VALUE!"},{"$error":"#VALUE!"},{"$error":"#VALUE!"},null,null,null,null,null,null,null,null,null,null,null,null,null,null,null,null,null,null,null,null,null,null,null,null,{"$error":"#VALUE!"}]
[null,null,null,null,null,null,null,null,null,{"$error":"#VALUE!"},{"$error":"#VALUE!"},{"$error":"#VALUE!"},null,null,null,null,null,null,null,null,null,null,null,null,null,null,null,null,null,null,null,null,null,null,null,null,{"$error":"#VALUE!"}]
[null,null,null,null,null,null,null,null,null,{"$error":"#VALUE!"},{"$error":"#VALUE!"},{"$error":"#VALUE!"},null,null,null,null,null,null,null,null,null,null,null,null,null,null,null,null,null,null,null,null,null,null,null,null,{"$error":"#VALUE!"}]
[null,null,null,null,null,null,null,null,null,{"$error":"#VALUE!"},{"$error":"#VALUE!"},{"$error":"#VALUE!"},null,null,null,null,null,null,null,null,null,null,null,null,null,null,null,null,null,null,null,null,null,null,null,null,{"$error":"#VALUE!"}]
[null,null,null,null,null,null,null,null,null,{"$error":"#VALUE!"},{"$error":"#VALUE!"},{"$error":"#VALUE!"},null,null,null,null,null,null,null,null,null,null,null,null,null,null,null,null,null,null,null,null,null,null,null,null,{"$error":"#VALUE!"}]
[null,null,null,null,null,null,null,null,null,{"$error":"#VALUE!"},{"$error":"#VALUE!"},{"$error":"#VALUE!"},null,null,null,null,null,null,null,null,null,null,null,null,null,null,null,null,null,null,null,null,null,null,null,null,{"$error":"#VALUE!"}]
[null,null,null,null,null,null,null,null,null,{"$error":"#VALUE!"},{"$error":"#VALUE!"},{"$error":"#VALUE!"},null,null,null,null,null,null,null,null,null,null,null,null,null,null,null,null,null,null,null,null,null,null,null,null,{"$error":"#VALUE!"}]
[null,null,null,null,null,null,null,null,null,{"$error":"#VALUE!"},{"$error":"#VALUE!"},{"$error":"#VALUE!"},null,null,null,null,null,null,null,null,null,null,null,null,null,null,null,null,null,null,null,null,null,null,null,null,{"$error":"#VALUE!"}]
[null,null,null,null,null,null,null,null,null,{"$error":"#VALUE!"},{"$error":"#VALUE!"},{"$error":"#VALUE!"},null,null,null,null,null,null,null,null,null,null,null,null,null,null,null,null,null,null,null,null,null,null,null,null,{"$error":"#VALUE!"}]
[null,null,null,null,null,null,null,null,null,{"$error":"#VALUE!"},{"$error":"#VALUE!"},{"$error":"#VALUE!"},null,null,null,null,null,null,null,null,null,null,null,null,null,null,null,null,null,null,null,null,null,null,null,null,{"$error":"#VALUE!"}]
[null,null,null,null,null,null,null,null,null,{"$error":"#VALUE!"},{"$error":"#VALUE!"},{"$error":"#VALUE!"},null,null,null,null,null,null,null,null,null,null,null,null,null,null,null,null,null,null,null,null,null,null,null,null,{"$error":"#VALUE!"}]
[null,null,null,null,null,null,null,null,null,{"$error":"#VALUE!"},{"$error":"#VALUE!"},{"$error":"#VALUE!"},null,null,null,null,null,null,null,null,null,null,null,null,null,null,null,null,null,null,null,null,null,null,null,null,{"$error":"#VALUE!"}]
[null,null,null,null,null,null,null,null,null,{"$error":"#VALUE!"},{"$error":"#VALUE!"},{"$error":"#VALUE!"},null,null,null,null,null,null,null,null,null,null,null,null,null,null,null,null,null,null,null,null,null,null,null,null,{"$error":"#VALUE!"}]
[null,null,null,null,null,null,null,null,null,{"$error":"#VALUE!"},{"$error":"#VALUE!"},{"$error":"#VALUE!"},null,null,null,null,null,null,null,null,null,null,null,null,null,null,null,null,null,null,null,null,null,null,null,null,{"$error":"#VALUE!"}]
[null,null,null,null,null,null,null,null,null,{"$error":"#VALUE!"},{"$error":"#VALUE!"},{"$error":"#VALUE!"},null,null,null,null,null,null,null,null,null,null,null,null,null,null,null,null,null,null,null,null,null,null,null,null,{"$error":"#VALUE!"}]
[null,null,null,null,null,null,null,null,null,{"$error":"#VALUE!"},{"$error":"#VALUE!"},{"$error":"#VALUE!"},null,null,null,null,null,null,null,null,null,null,null,null,null,null,null,null,null,null,null,null,null,null,null,null,{"$error":"#VALUE!"}]
[null,null,null,null,null,null,null,null,null,{"$error":"#VALUE!"},{"$error":"#VALUE!"},{"$error":"#VALUE!"},null,null,null,null,null,null,null,null,null,null,null,null,null,null,null,null,null,null,null,null,null,null,null,null,{"$error":"#VALUE!"}]
[null,null,null,null,null,null,null,null,null,{"$error":"#VALUE!"},{"$error":"#VALUE!"},{"$error":"#VALUE!"},null,null,null,null,null,null,null,null,null,null,null,null,null,null,null,null,null,null,null,null,null,null,null,null,{"$error":"#VALUE!"}]
[null,null,null,null,null,null,null,null,null,{"$error":"#VALUE!"},{"$error":"#VALUE!"},{"$error":"#VALUE!"},null,null,null,null,null,null,null,null,null,null,null,null,null,null,null,null,null,null,null,null,null,null,null,null,{"$error":"#VALUE!"}]
[null,null,null,null,null,null,null,null,null,{"$error":"#VALUE!"},{"$error":"#VALUE!"},{"$error":"#VALUE!"},null,null,null,null,null,null,null,null,null,null,null,null,null,null,null,null,null,null,null,null,null,null,null,null,{"$error":"#VALUE!"}]
[null,null,null,null,null,null,null,null,null,{"$error":"#VALUE!"},{"$error":"#VALUE!"},{"$error":"#VALUE!"},null,null,null,null,null,null,null,null,null,null,null,null,null,null,null,null,null,null,null,null,null,null,null,null,{"$error":"#VALUE!"}]
[null,null,null,null,null,null,null,null,null,{"$error":"#VALUE!"},{"$error":"#VALUE!"},{"$error":"#VALUE!"},null,null,null,null,null,null,null,null,null,null,null,null,null,null,null,null,null,null,null,null,null,null,null,null,{"$error":"#VALUE!"}]
[null,null,null,null,null,null,null,null,null,{"$error":"#VALUE!"},{"$error":"#VALUE!"},{"$error":"#VALUE!"},null,null,null,null,null,null,null,null,null,null,null,null,null,null,null,null,null,null,null,null,null,null,null,null,{"$error":"#VALUE!"}]
[null,null,null,null,null,null,null,null,null,{"$error":"#VALUE!"},{"$error":"#VALUE!"},{"$error":"#VALUE!"},null,null,null,null,null,null,null,null,null,null,null,null,null,null,null,null,null,null,null,null,null,null,null,null,{"$error":"#VALUE!"}]
[null,null,null,null,null,null,null,null,null,{"$error":"#VALUE!"},{"$error":"#VALUE!"},{"$error":"#VALUE!"},null,null,null,null,null,null,null,null,null,null,null,null,null,null,null,null,null,null,null,null,null,null,null,null,{"$error":"#VALUE!"}]
[null,null,null,null,null,null,null,null,null,{"$error":"#VALUE!"},{"$error":"#VALUE!"},{"$error":"#VALUE!"},null,null,null,null,null,null,null,null,null,null,null,null,null,null,null,null,null,null,null,null,null,null,null,null,{"$error":"#VALUE!"}]
[null,null,null,null,null,null,null,null,null,{"$error":"#VALUE!"},{"$error":"#VALUE!"},{"$error":"#VALUE!"},null,null,null,null,null,null,null,null,null,null,null,null,null,null,null,null,null,null,null,null,null,null,null,null,{"$error":"#VALUE!"}]

{"sheet":"Bowtie","index":55,"n_rows":134,"n_cols":95,"rows_kept":134,"cut":false,"hidden":true,"merged":[[1,56,1,71],[0,19,0,28],[0,30,0,32],[1,31,2,31],[1,32,2,32],[1,21,1,25],[1,27,1,28],[1,30,2,30],[100,9,100,11],[100,36,101,36],[1,34,2,34],[1,36,2,36],[1,39,1,54],[1,9,1,11],[1,13,1,17]]}
[null,null,null,null,null,null,null,null,null,null,null,null,null,null,null,null,null,null,null,"Conflicting Traffic Complexity",null,null,null,null,null,null,null,null,null,null,"Pedestrian Complexity",null,null,null,null,null,null,null,null,null,null,null,null,null,null,null,null,null,null,null,null,null,null,null,null,null,null,null,null,null,null,null,null,null,null,null,null,null,null,null,null,null,null,null,null,null,"*impact of median on complexity factors"]
[null,null,null,null,null,null,null,null,null,"Exposure",null,null,null,"Severity",null,null,null,null,null,"Traffic Control",null,"Conflicting Lanes",null,null,null,null,null,"Conflicting Speed",null,null,"Indirect Paths Indicator","Non-intuitive movements indicator","Pedestrian Complexity factor",null,"Total Complexity Multiplier",null,"Exposure-Severity-Complexity Product",null,null,"Included in Mvmt1",null,null,null,null,null,null,null,null,null,null,null,null,null,null,null,null,"Included in Mvmt2",null,null,null,null,null,null,null,null,null,null,null,null,null,null,null,null,null,null,null,"Major:No, Minor: No",null,null,null,null,"Major:Yes, Minor: No",null,null,null,null,"Major:No, Minor: Yes",null,null,null,null,"Major:Yes, Minor: Yes"]
["#","Conflict Type","Mvmt1","Mvmt1_gen","Mvmt1_SpeedCat","Mvmt2","Mvmt2_gen","Mvmt2_SpeedCat",null,"Q1","Q2","I",null,"Speed_V1","Speed_V2","Angle","delta_V","P_FSI",null,null,null,"MajC","MinC","MajM/P","MinM/P","Score",null,"Speed","Factor",null,null,null,null,null,null,null,null,null,null,"MajT1","MajL1","MajR1","MajT2","MajL2","MajR2","MinT1","MinL1","MinR1","MinT2","MinL2","MinR2","MajNM1","MajNM2","MinNM1","MinNM2",null,"MajT1","MajL1","MajR1","MajT2","MajL2","MajR2","MinT1","MinL1","MinR1","MinT2","MinL2","MinR2","MajNM1","MajNM2","MinNM1","MinNM2",null,null,"#","Conflict Type","MajC","MinC","MajM/P","MinM/P",null,"MajC","MinC","MajM/P","MinM/P",null,"MajC","MinC","MajM/P","MinM/P",null,"MajC","MinC","MajM/P","MinM/P"]
[1,"Crossing","WBT","MajT2","Major thru","NBT, NBL, EBL","MinT1, MinL1, MajL1","Signal far",null,{"$f":"SUMPRODUCT($AN4:$BC4,$AN$36:$BC$36)","v":{"$error":"#VALUE!"}},{"$f":"SUMPRODUCT($BE4:$BT4,$BE$36:$BT$36)","v":{"$error":"#VALUE!"}},{"$f":"PRODUCT(J4:K4)","v":{"$error":"#VALUE!"}},null,{"$f":"VLOOKUP(E4,SSI_AGI_Range_VehSpeed,5,FALSE)","v":0},{"$f":"VLOOKUP(H4,SSI_AGI_Range_VehSpeed,5,FALSE)","v":25},{"$f":"IF(B4=\"Nonmotorized\",\"\",VLOOKUP(B4,SSI_AGI_Range_CollAngles,5,FALSE))","v":90},{"$f":"IF(B4=\"Nonmotorized\",\"\",SQRT(N4^2+O4^2-2*N4*O4*COS(RADIANS(P4)))/2)","v":12.5},{"$f":"IF(B4=\"Nonmotorized\",1/(1+EXP(3.8432-0.1237*O4)),(Q4/SSI_AGI_RegAlpha)^SSI_AGI_RegK+(Q4/SSI_AGI_RegAlpha)^SSI_AGI_RegK-((Q4/SSI_AGI_RegAlpha)^SSI_AGI_RegK)*((Q4/SSI_AGI_RegAlpha)^SSI_AGI_RegK))","v":3.3637551692797594E-3},null,{"$f":"SSI_AGI_ProtFactor","v":0.505},null,{"$f":"IF(AND(SS_AGI_MajMedian=\"No\", SS_AGI_MinMedian=\"No\"),BY4,IF(AND(SS_AGI_MajMedian=\"Yes\",SS_AGI_MinMedian=\"No\"),CD4,IF(AND(SS_AGI_MajMedian=\"No\",SS_AGI_MinMedian=\"Yes\"),CI4,IF(AND(SS_AGI_MajMedian=\"Yes\",SS_AGI_MinMedian=\"Yes\"),CN4))))","v":false},{"$f":"IF(AND(SS_AGI_MajMedian=\"No\", SS_AGI_MinMedian=\"No\"),BZ4,IF(AND(SS_AGI_MajMedian=\"Yes\",SS_AGI_MinMedian=\"No\"),CE4,IF(AND(SS_AGI_MajMedian=\"No\",SS_AGI_MinMedian=\"Yes\"),CJ4,IF(AND(SS_AGI_MajMedian=\"Yes\",SS_AGI_MinMedian=\"Yes\"),CO4))))","v":false},{"$f":"IF(AND(SS_AGI_MajMedian=\"No\", SS_AGI_MinMedian=\"No\"),CA4,IF(AND(SS_AGI_MajMedian=\"Yes\",SS_AGI_MinMedian=\"No\"),CF4,IF(AND(SS_AGI_MajMedian=\"No\",SS_AGI_MinMedian=\"Yes\"),CK4,IF(AND(SS_AGI_MajMedian=\"Yes\",SS_AGI_MinMedian=\"Yes\"),CP4))))","v":false},{"$f":"IF(AND(SS_AGI_MajMedian=\"No\", SS_AGI_MinMedian=\"No\"),CB4,IF(AND(SS_AGI_MajMedian=\"Yes\",SS_AGI_MinMedian=\"No\"),CG4,IF(AND(SS_AGI_MajMedian=\"No\",SS_AGI_MinMedian=\"Yes\"),CL4,IF(AND(SS_AGI_MajMedian=\"Yes\",SS_AGI_MinMedian=\"Yes\"),CQ4))))","v":false},{"$f":"MAX(1,IF(B4<>\"Pedestrian\",V4*SSI_AGI_MajorThruLanes+W4*SSI_AGI_MinorThruLanes+X4*IF(SSI_AGI_MajorThruLanes=1,SSI_AGI_MergeWeightL1,IF(SSI_AGI_MajorThruLanes=2,SSI_AGI_MergeWeightL1+SSI_AGI_MergeWeightL2,SSI_AGI_MergeWeightL1+SSI_AGI_MergeWeightL2+SSI_AGI_MergeWeightL3*(SSI_AGI_MajorThruLanes-2)))+Y4*IF(SSI_AGI_MinorThruLanes=1,SSI_AGI_MergeWeightL1,IF(SSI_AGI_MinorThruLanes=2,SSI_AGI_MergeWeightL1+SSI_AGI_MergeWeightL2,SSI_AGI_MergeWeightL1+SSI_AGI_MergeWeightL2+SSI_AGI_MergeWeightL3*(SSI_AGI_MinorThruLanes-2))),V4*SSI_AGI_MajorThruLanes+W4*SSI_AGI_MinorThruLanes+X4*IF(SSI_AGI_MajorThruLanes=1,SSI_AGI_NM_MergeWeightL1,IF(SSI_AGI_MajorThruLanes=2,SSI_AGI_NM_MergeWeightL1+SSI_AGI_NM_MergeWeightL2,SSI_AGI_NM_MergeWeightL1+SSI_AGI_NM_MergeWeightL2+SSI_AGI_NM_MergeWeightL3*(SSI_AGI_MajorThruLanes-2)))+Y4*IF(SSI_AGI_MinorThruLanes=1,SSI_AGI_NM_MergeWeightL1,IF(SSI_AGI_MinorThruLanes=2,SSI_AGI_NM_MergeWeightL1+SSI_AGI_NM_MergeWeightL2,SSI_AGI_NM_MergeWeightL1+SSI_AGI_NM_MergeWeightL2+SSI_AGI_NM_MergeWeightL3*(SSI_AGI_MinorThruLanes-2)))))","v":1},null,{"$f":"IF(B4=\"Diverging\",\"\",SSI_AGI_VehSpeed_MjrThru)","v":0},{"$f":"IF(B4=\"Diverging\",1,1-((60-AB4)/60*0.1/0.15))","v":0.33333333333333326},null,null,null,{"$f":"1+AE4+AF4","v":1},null,{"$f":"PRODUCT(Z4,T4,AC4,AG4)","v":0.16833333333333331},null,{"$f":"L4*R4*AI4","v":{"$error":"#VALUE!"}},null,null,{"$f":"IF(ISNUMBER(SEARCH(AN$3,$D4)),1,\"\")","v":""},{"$f":"IF(ISNUMBER(SEARCH(AO$3,$D4)),1,\"\")","v":""},"",1,"","","","","","","","","","","","",null,{"$f":"IF(ISNUMBER(SEARCH(BE$3,$G4)),1,\"\")","v":""},{"$f":"IF(ISNUMBER(SEARCH(BF$3,$G4)),1,\"\")","v":1},"","","","",1,1,"","","","","","","","",null,null,1,"Crossing",2,0,0,0,null,1,0,0,0,null,2,0,0,0,null,1,0,0,0]
[2,"Crossing","WBT","MajT2","Major thru","SBT, SBL, WBL","MinT2, MinL2, MajL2","Signal near",null,{"$f":"SUMPRODUCT($AN5:$BC5,$AN$36:$BC$36)","v":{"$error":"#VALUE!"}},{"$f":"SUMPRODUCT($BE5:$BT5,$BE$36:$BT$36)","v":{"$error":"#VALUE!"}},{"$f":"PRODUCT(J5:K5)","v":{"$error":"#VALUE!"}},null,0,15,90,{"$f":"IF(B5=\"Nonmotorized\",\"\",SQRT(N5^2+O5^2-2*N5*O5*COS(RADIANS(P5)))/2)","v":7.5},4.8454301532720461E-4,null,0.505,null,{"$f":"IF(AND(SS_AGI_MajMedian=\"No\", SS_AGI_MinMedian=\"No\"),BY5,IF(AND(SS_AGI_MajMedian=\"Yes\",SS_AGI_MinMedian=\"No\"),CD5,IF(AND(SS_AGI_MajMedian=\"No\",SS_AGI_MinMedian=\"Yes\"),CI5,IF(AND(SS_AGI_MajMedian=\"Yes\",SS_AGI_MinMedian=\"Yes\"),CN5))))","v":false},false,false,false,1,null,0,0.33333333333333326,null,null,null,{"$f":"1+AE5+AF5","v":1},null,0.16833333333333331,null,{"$f":"L5*R5*AI5","v":{"$error":"#VALUE!"}},null,null,"","","",1,"","","","","","","","","","","","",null,"","","","",1,"","","","",1,1,"","","","","",null,null,2,"Crossing",2,0,0,0,null,1,0,0,0,null,2,0,0,0,null,1,0,0,0]
[3,"Crossing","EBT","MajT1","Major thru","NBT, NBL, EBL","MinT1, MinL1, MajL1","Signal near",null,{"$error":"#VALUE!"},{"$error":"#VALUE!"},{"$error":"#VALUE!"},null,0,15,90,7.5,4.8454301532720461E-4,null,0.505,null,false,false,false,false,1,null,0,0.33333333333333326,null,null,null,1,null,0.16833333333333331,null,{"$error":"#VALUE!"},null,null,1,"","","","","","","","","","","","","","","",null,"",1,"","","","",1,1,"","","","","","","","",null,null,3,"Crossing",2,0,0,0,null,1,0,0,0,null,2,0,0,0,null,1,0,0,0]
[4,"Crossing","EBT","MajT1","Major thru","SBT, SBL, WBL","MinT2, MinL2, MajL2","Signal far",null,{"$error":"#VALUE!"},{"$error":"#VALUE!"},{"$error":"#VALUE!"},null,0,25,90,12.5,3.3637551692797594E-3,null,0.505,null,false,false,false,false,1,null,0,0.33333333333333326,null,null,null,1,null,0.16833333333333331,null,{"$error":"#VALUE!"},null,null,1,"","","","","","","","","","","","","","","",null,"","","","",1,"","","","",1,1,"","","","","",null,null,4,"Crossing",2,0,0,0,null,1,0,0,0,null,2,0,0,0,null,1,0,0,0]
[5,"Merging","WBR, WBL","MajR2, MajL2","Major right","NBT, NBL, EBL","MinT1, MinL1, MajL1","Signal far",null,{"$error":"#VALUE!"},{"$error":"#VALUE!"},{"$error":"#VALUE!"},null,15,25,45,8.9396576292116645,9.4329959592674944E-4,null,0.505,null,false,false,false,false,1,null,0,0.33333333333333326,null,null,null,1,null,0.16833333333333331,null,{"$error":"#VALUE!"},null,null,"","","","",1,1,"","","","","","","","","","",null,"",1,"","","","",1,1,"","","","","","","","",null,null,5,"Merging",2,0,0,0,null,1,0,0,0,null,2,0,0,0,null,1,0,0,0]
[6,"Merging","EBR, EBL","MajR1, MajL1","Major right","SBT, SBL, WBL","MinT2, MinL2, MajL2","Signal far",null,{"$error":"#VALUE!"},{"$error":"#VALUE!"},{"$error":"#VALUE!"},null,15,25,45,8.9396576292116645,9.4329959592674944E-4,null,0.505,null,false,false,false,false,1,null,0,0.33333333333333326,null,null,null,1,null,0.16833333333333331,null,{"$error":"#VALUE!"},null,null,"",1,1,"","","","","","","","","","","","","",null,"","","","",1,"","","","",1,1,"","","","","",null,null,6,"Merging",2,0,0,0,null,1,0,0,0,null,2,0,0,0,null,1,0,0,0]
[7,"Merging","EBT","MajT1","Major thru","NBR, SBL","MinR1, MinL2","Signal near",null,{"$error":"#VALUE!"},{"$error":"#VALUE!"},{"$error":"#VALUE!"},null,0,15,45,7.5,4.8454301532720461E-4,null,0.505,null,false,false,false,false,1,null,0,0.33333333333333326,null,null,null,1,null,0.16833333333333331,null,{"$error":"#VALUE!"},null,null,1,"","","","","","","","","","","","","","","",null,"","","","","","","","",1,"",1,"","","","","",null,null,7,"Merging",0,0,1,0,null,0,0,1,0,null,0,0,1,0,null,0,0,1,0]
[8,"Merging","WBT","MajT2","Major thru","SBR, NBL","MinR2, MinL1","Signal near",null,{"$error":"#VALUE!"},{"$error":"#VALUE!"},{"$error":"#VALUE!"},null,0,15,45,7.5,4.8454301532720461E-4,null,0.505,null,false,false,false,false,1,null,0,0.33333333333333326,null,null,null,1,null,0.16833333333333331,null,{"$error":"#VALUE!"},null,null,"","","",1,"","","","","","","","","","","","",null,"","","","","","","",1,"","","",1,"","","","",null,null,8,"Merging",0,0,1,0,null,0,0,1,0,null,0,0,1,0,null,0,0,1,0]
[9,"Merging","WBL, NBL","MajL2, MinL1","RAB Circulating","SBT, SBL, SBR","MinT2, MinL2, MinR2","RAB Entering",null,{"$error":"#VALUE!"},{"$error":"#VALUE!"},{"$error":"#VALUE!"},null,25,25,45,9.5670858091272439,1.2201154392262267E-3,null,1,null,false,false,false,false,1,null,{"$f":"IF(B12=\"Diverging\",\"\",SSI_AGI_VehSpeed_RABCirc)","v":25},0.61111111111111105,null,null,null,1,null,0.61111111111111105,null,{"$error":"#VALUE!"},null,null,"","","","",1,"","",1,"","","","","","","","",null,"","","","","","","","","",1,1,1,"","","","",null,null,9,"Merging",0,0,0,1,null,0,0,0,1,null,0,0,0,1,null,0,0,0,1]
[10,"Merging","EBL, SBL","MajL1, MinL2","RAB Circulating","NBT, NBL, NBR","MinT1, MinL1, MinR1","RAB Entering",null,{"$error":"#VALUE!"},{"$error":"#VALUE!"},{"$error":"#VALUE!"},null,25,25,45,9.5670858091272439,1.2201154392262267E-3,null,1,null,false,false,false,false,1,null,{"$f":"IF(B13=\"Diverging\",\"\",SSI_AGI_VehSpeed_RABCirc)","v":25},0.61111111111111105,null,null,null,1,null,0.61111111111111105,null,{"$error":"#VALUE!"},null,null,"",1,"","","","","","","","",1,"","","","","",null,"","","","","","",1,1,1,"","","","","","","",null,null,10,"Merging",0,0,0,1,null,0,0,0,1,null,0,0,0,1,null,0,0,0,1]
[11,"Diverging","WBT","MajT2","Major thru","WBR, WBL","MajR2, MajL2","Major right",null,{"$error":"#VALUE!"},{"$error":"#VALUE!"},{"$error":"#VALUE!"},null,0,15,10,7.5,4.8454301532720461E-4,null,1,null,false,false,false,false,1,null,{"$f":"IF(B14=\"Diverging\",\"\",SSI_AGI_VehSpeed_MjrThru)","v":""},1,null,null,null,1,null,1,null,{"$error":"#VALUE!"},null,null,"","","",1,"","","","","","","","","","","","",null,"","","","",1,1,"","","","","","","","","","",null,null,11,"Diverging",0,0,0,0,null,0,0,0,0,null,0,0,0,0,null,0,0,0,0]
[12,"Diverging","EBT","MajT1","Major thru","EBR, EBL","MajR1, MajL1","Major right",null,{"$error":"#VALUE!"},{"$error":"#VALUE!"},{"$error":"#VALUE!"},null,0,15,10,7.5,4.8454301532720461E-4,null,1,null,false,false,false,false,1,null,"",1,null,null,null,1,null,1,null,{"$error":"#VALUE!"},null,null,1,"","","","","","","","","","","","","","","",null,"",1,1,"","","","","","","","","","","","","",null,null,12,"Diverging",0,0,0,0,null,0,0,0,0,null,0,0,0,0,null,0,0,0,0]
[13,"Diverging","NBT, NBL, EBL","MinT1, MinL1, MajL1","Signal near","NBR, SBL","MinR1, MinL2","Signal near",null,{"$error":"#VALUE!"},{"$error":"#VALUE!"},{"$error":"#VALUE!"},null,15,15,10,1.3073361412148754,6.4061388075216071E-7,null,1,null,false,false,false,false,1,null,"",1,null,null,null,1,null,1,null,{"$error":"#VALUE!"},null,null,"",1,"","","","",1,1,"","","","","","","","",null,"","","","","","","","",1,"",1,"","","","","",null,null,13,"Diverging",0,0,0,0,null,0,0,0,0,null,0,0,0,0,null,0,0,0,0]
[14,"Diverging","SBT, SBL, WBL","MinT2, MinL2, MajL2","Signal near","SBR, NBL","MinR2, MinL1","Signal near",null,{"$error":"#VALUE!"},{"$error":"#VALUE!"},{"$error":"#VALUE!"},null,15,15,10,1.3073361412148754,6.4061388075216071E-7,null,1,null,false,false,false,false,1,null,"",1,null,null,null,1,null,1,null,{"$error":"#VALUE!"},null,null,"","","","",1,"","","","",1,1,"","","","","",null,"","","","","","","",1,"","","",1,"","","","",null,null,14,"Diverging",0,0,0,0,null,0,0,0,0,null,0,0,0,0,null,0,0,0,0]
[15,"Diverging","NBT, WBR, EBL","MinT1, MajR2, MajL1","RAB Exiting","WBL, NBL","MajL2, MinL1","RAB Circulating",null,{"$error":"#VALUE!"},{"$error":"#VALUE!"},{"$error":"#VALUE!"},null,30,25,10,3.4564566568122888,2.5632912055290634E-5,null,1,null,false,false,false,false,1,null,"",1,null,null,null,1,null,1,null,{"$error":"#VALUE!"},null,null,"",1,"","","",1,1,"","","","","","","","","",null,"","","","",1,"","",1,"","","","","","","","",null,null,15,"Diverging",0,0,0,0,null,0,0,0,0,null,0,0,0,0,null,0,0,0,0]
[16,"Diverging","SBT, EBR, WBL","MinT2, MajR1, MajL2","RAB Exiting","EBL, SBL","MajL1, MinL2","RAB Circulating",null,{"$error":"#VALUE!"},{"$error":"#VALUE!"},{"$error":"#VALUE!"},null,30,25,10,3.4564566568122888,2.5632912055290634E-5,null,1,null,false,false,false,false,1,null,"",1,null,null,null,1,null,1,null,{"$error":"#VALUE!"},null,null,"","",1,"",1,"","","","",1,"","","","","","",null,"",1,"","","","","","","","",1,"","","","","",null,null,16,"Diverging",0,0,0,0,null,0,0,0,0,null,0,0,0,0,null,0,0,0,0]
[17,"Nonmotorized","NB Ped","MinNM1","Nonmotorized","EBR, EBL","MajR1, MajL1","Major right",null,{"$error":"#VALUE!"},{"$error":"#VALUE!"},{"$error":"#VALUE!"},null,0,15,"","",0.1205004039155782,null,{"$f":"SSI_AGI_ProtFactor","v":0.505},null,false,false,false,false,1,null,0,0.33333333333333326,null,null,null,1,null,0.16833333333333331,null,{"$error":"#VALUE!"},null,null,"","","","","","","","","","","","","","",1,"",null,"",{"$f":"IF(ISNUMBER(SEARCH(BF$3,$G20)),1,\"\")","v":1},1,"","","","","","","","","","","","","",null,null,17,"Nonmotorized",0,2,1,0,null,0,2,1,0,null,0,1,1,0,null,0,1,1,0]
[18,"Nonmotorized","NB Ped","MinNM1","Nonmotorized","SBT, SBL, WBL","MinT2, MinL2, MajL2","Signal far",null,{"$error":"#VALUE!"},{"$error":"#VALUE!"},{"$error":"#VALUE!"},null,0,25,"","",0.32066879346345062,null,0.505,null,false,false,false,false,1,null,0,0.33333333333333326,null,null,null,1,null,0.16833333333333331,null,{"$error":"#VALUE!"},null,null,"",{"$f":"IF(ISNUMBER(SEARCH(AO$3,$D21)),1,\"\")","v":""},"","","","","","","","","","","","",1,"",null,"","","","",1,"","","","",1,1,"","","","","",null,null,18,"Nonmotorized",0,2,1,0,null,0,2,1,0,null,0,1,1,0,null,0,1,1,0]
[19,"Nonmotorized","NB Ped","MinNM1","Nonmotorized","NBT, NBL, EBL","MinT1, MinL1, MajL1","Signal near",null,{"$error":"#VALUE!"},{"$error":"#VALUE!"},{"$error":"#VALUE!"},null,0,15,"","",0.1205004039155782,null,0.505,null,false,false,false,false,1,null,0,0.33333333333333326,null,null,null,1,null,0.16833333333333331,null,{"$error":"#VALUE!"},null,null,"","","","","","","","","","","","","","",1,"",null,"",1,"","","","",1,1,"","","","","","","","",null,null,19,"Nonmotorized",0,2,1,0,null,0,2,1,0,null,0,1,0,0,null,0,1,0,0]
[20,"Nonmotorized","NB Ped","MinNM1","Nonmotorized","NBR, SBL","MinR1, MinL2","Signal near",null,{"$error":"#VALUE!"},{"$error":"#VALUE!"},{"$error":"#VALUE!"},null,0,15,"","",0.1205004039155782,null,0.505,null,false,false,false,false,1,null,0,0.33333333333333326,null,null,null,1,null,0.16833333333333331,null,{"$error":"#VALUE!"},null,null,"","","","","","","","","","","","","","",1,"",null,"","","","","","","","",1,"",1,"","","","","",null,null,20,"Nonmotorized",0,2,1,0,null,0,2,1,0,null,0,1,0,0,null,0,1,0,0]
[21,"Nonmotorized","WB Ped","MajNM2","Nonmotorized","NBR, SBL","MinR1, MinL2","Signal near",null,{"$error":"#VALUE!"},{"$error":"#VALUE!"},{"$error":"#VALUE!"},null,0,15,"","",0.1205004039155782,null,0.505,null,false,false,false,false,1,null,0,0.33333333333333326,null,null,null,1,null,0.16833333333333331,null,{"$error":"#VALUE!"},null,null,"","","","","","","","","","","","","",1,"","",null,"","","","","","","","",1,"",1,"","","","","",null,null,21,"Nonmotorized",2,0,0,1,null,1,0,0,1,null,2,0,0,1,null,1,0,0,1]
[22,"Nonmotorized","WB Ped","MajNM2","Nonmotorized","EBT","MajT1","Major thru",null,{"$error":"#VALUE!"},{"$error":"#VALUE!"},{"$error":"#VALUE!"},null,0,0,"","",2.0975532400616122E-2,null,0.505,null,false,false,false,false,1,null,0,0.33333333333333326,null,null,null,1,null,0.16833333333333331,null,{"$error":"#VALUE!"},null,null,"","","","","","","","","","","","","",1,"","",null,1,"","","","","","","","","","","","","","","",null,null,22,"Nonmotorized",2,0,0,1,null,1,0,0,1,null,2,0,0,1,null,1,0,0,1]
[23,"Nonmotorized","WB Ped","MajNM2","Nonmotorized","WBT","MajT2","Major thru",null,{"$error":"#VALUE!"},{"$error":"#VALUE!"},{"$error":"#VALUE!"},null,0,0,"","",2.0975532400616122E-2,null,0.505,null,false,false,false,false,1,null,0,0.33333333333333326,null,null,null,1,null,0.16833333333333331,null,{"$error":"#VALUE!"},null,null,"","","","","","","","","","","","","",1,"","",null,"","","",1,"","","","","","","","","","","","",null,null,23,"Nonmotorized",2,0,0,1,null,1,0,0,0,null,2,0,0,1,null,1,0,0,0]
[24,"Nonmotorized","WB Ped","MajNM2","Nonmotorized","WBR, WBL","MajR2, MajL2","Major right",null,{"$error":"#VALUE!"},{"$error":"#VALUE!"},{"$error":"#VALUE!"},null,0,15,"","",0.1205004039155782,null,0.505,null,false,false,false,false,1,null,0,0.33333333333333326,null,null,null,1,null,0.16833333333333331,null,{"$error":"#VALUE!"},null,null,"","","","","","","","","","","","","",1,"","",null,"","","","",1,1,"","","","","","","","","","",null,null,24,"Nonmotorized",2,0,0,1,null,1,0,0,0,null,2,0,0,1,null,1,0,0,0]
[25,"Nonmotorized","SB Ped","MinNM2","Nonmotorized","WBR, WBL","MajR2, MajL2","Major right",null,{"$error":"#VALUE!"},{"$f":"SUMPRODUCT($BE28:$BT28,$BE$36:$BT$36)","v":{"$error":"#VALUE!"}},{"$error":"#VALUE!"},null,0,15,"","",0.1205004039155782,null,0.505,null,false,false,false,false,1,null,0,0.33333333333333326,null,null,null,1,null,0.16833333333333331,null,{"$error":"#VALUE!"},null,null,{"$f":"IF(ISNUMBER(SEARCH(AN$3,$D28)),1,\"\")","v":""},"","","","","","","","","","","","","","",1,null,"","","","",1,1,"","","","","","","","","","",null,null,25,"Nonmotorized",0,2,1,0,null,0,2,1,0,null,0,1,1,0,null,0,1,1,0]
[26,"Nonmotorized","SB Ped","MinNM2","Nonmotorized","NBT, NBL, EBL","MinT1, MinL1, MajL1","Signal far",null,{"$error":"#VALUE!"},{"$error":"#VALUE!"},{"$error":"#VALUE!"},null,0,25,"","",0.32066879346345062,null,0.505,null,false,false,false,false,1,null,0,0.33333333333333326,null,null,null,1,null,0.16833333333333331,null,{"$error":"#VALUE!"},null,null,"","","","","","","","","","","","","","","",1,null,{"$f":"IF(ISNUMBER(SEARCH(BE$3,$G29)),1,\"\")","v":""},1,"","","","",1,1,"","","","","","","","",null,null,26,"Nonmotorized",0,2,1,0,null,0,2,1,0,null,0,1,1,0,null,0,1,1,0]
[27,"Nonmotorized","SB Ped","MinNM2","Nonmotorized","SBT, SBL, WBL","MinT2, MinL2, MajL2","Signal near",null,{"$error":"#VALUE!"},{"$error":"#VALUE!"},{"$error":"#VALUE!"},null,0,15,"","",0.1205004039155782,null,0.505,null,false,false,false,false,1,null,0,0.33333333333333326,null,null,null,1,null,0.16833333333333331,null,{"$error":"#VALUE!"},null,null,"","","","","","","","","","","","","","","",1,null,"","","","",1,"","","","",1,1,"","","","","",null,null,27,"Nonmotorized",0,2,1,0,null,0,2,1,0,null,0,1,0,0,null,0,1,0,0]
[28,"Nonmotorized","SB Ped","MinNM2","Nonmotorized","SBR, NBL","MinR2, MinL1","Signal near",null,{"$error":"#VALUE!"},{"$error":"#VALUE!"},{"$error":"#VALUE!"},null,0,15,"","",0.1205004039155782,null,0.505,null,false,false,false,false,1,null,0,0.33333333333333326,null,null,null,1,null,0.16833333333333331,null,{"$error":"#VALUE!"},null,null,"","","","","","","","","","","","","","","",1,null,"","","","","","","",1,"","","",1,"","","","",null,null,28,"Nonmotorized",0,2,1,0,null,0,2,1,0,null,0,1,0,0,null,0,1,0,0]
[29,"Nonmotorized","EB Ped","MajNM1","Nonmotorized","SBR, NBL","MinR2, MinL1","Signal far",null,{"$error":"#VALUE!"},{"$error":"#VALUE!"},{"$error":"#VALUE!"},null,0,25,"","",0.32066879346345062,null,0.505,null,false,false,false,false,1,null,0,0.33333333333333326,null,null,null,1,null,0.16833333333333331,null,{"$error":"#VALUE!"},null,null,"","","","","","","","","","","","",1,"","","",null,"","","","","","","",1,"","","",1,"","","","",null,null,29,"Nonmotorized",2,0,0,1,null,1,0,0,1,null,2,0,0,1,null,1,0,0,1]
[30,"Nonmotorized","EB Ped","MajNM1","Nonmotorized","WBT","MajT2","Major thru",null,{"$error":"#VALUE!"},{"$error":"#VALUE!"},{"$error":"#VALUE!"},null,0,0,"","",2.0975532400616122E-2,null,0.505,null,false,false,false,false,1,null,0,0.33333333333333326,null,null,null,1,null,0.16833333333333331,null,{"$error":"#VALUE!"},null,null,"","","","","","","","","","","","",1,"","","",null,"","","",1,"","","","","","","","","","","","",null,null,30,"Nonmotorized",2,0,0,1,null,1,0,0,1,null,2,0,0,1,null,1,0,0,1]
[31,"Nonmotorized","EB Ped","MajNM1","Nonmotorized","EBT","MajT1","Major thru",null,{"$error":"#VALUE!"},{"$error":"#VALUE!"},{"$error":"#VALUE!"},null,0,0,"","",2.0975532400616122E-2,null,0.505,null,false,false,false,false,1,null,0,0.33333333333333326,null,null,null,1,null,0.16833333333333331,null,{"$error":"#VALUE!"},null,null,"","","","","","","","","","","","",1,"","","",null,1,"","","","","","","","","","","","","","","",null,null,31,"Nonmotorized",2,0,0,1,null,1,0,0,0,null,2,0,0,1,null,1,0,0,0]
[32,"Nonmotorized","EB Ped","MajNM1","Nonmotorized","EBR, EBL","MajR1, MajL1","Major right",null,{"$error":"#VALUE!"},{"$error":"#VALUE!"},{"$error":"#VALUE!"},null,0,15,"","",0.1205004039155782,null,0.505,null,false,false,false,false,1,null,0,0.33333333333333326,null,null,null,1,null,0.16833333333333331,null,{"$error":"#VALUE!"},null,null,"","","","","","","","","","","","",1,"","","",null,"",1,1,"","","","","","","","","","","","","",null,null,32,"Nonmotorized",2,0,0,1,null,1,0,0,0,null,2,0,0,1,null,1,0,0,0]
[null,null,null,null,null,null,null,null,null,null,null,null,null,null,null,null,null,null,null,null,null,null,null,null,null,null,null,null,null,null,null,null,null,null,null,null,null,null,"O",{"$f":"'SSI Inputs'!$D$26","v":{"$error":"#VALUE!"}},{"$f":"'SSI Inputs'!$D$27","v":{"$error":"#VALUE!"}},{"$f":"'SSI Inputs'!$D$28","v":{"$error":"#VALUE!"}},{"$f":"'SSI Inputs'!$D$30","v":{"$error":"#VALUE!"}},{"$f":"'SSI Inputs'!$D$31","v":{"$error":"#VALUE!"}},{"$f":"'SSI Inputs'!$D$32","v":{"$error":"#VALUE!"}},{"$f":"'SSI Inputs'!$D$34","v":{"$error":"#VALUE!"}},{"$f":"'SSI Inputs'!$D$35","v":{"$error":"#VALUE!"}},{"$f":"'SSI Inputs'!$D$36","v":{"$error":"#VALUE!"}},{"$f":"'SSI Inputs'!$D$38","v":{"$error":"#VALUE!"}},{"$f":"'SSI Inputs'!$D$39","v":{"$error":"#VALUE!"}},{"$f":"'SSI Inputs'!$D$40","v":{"$error":"#VALUE!"}},{"$f":"'SSI Inputs'!$Q$18","v":12.5},{"$f":"'SSI Inputs'!$Q$19","v":12.5},{"$f":"'SSI Inputs'!$Q$20","v":12.5},{"$f":"'SSI Inputs'!$Q$21","v":12.5},"O",{"$f":"'SSI Inputs'!$D$26","v":{"$error":"#VALUE!"}},{"$f":"'SSI Inputs'!$D$27","v":{"$error":"#VALUE!"}},{"$f":"'SSI Inputs'!$D$28","v":{"$error":"#VALUE!"}},{"$f":"'SSI Inputs'!$D$30","v":{"$error":"#VALUE!"}},{"$f":"'SSI Inputs'!$D$31","v":{"$error":"#VALUE!"}},{"$f":"'SSI Inputs'!$D$32","v":{"$error":"#VALUE!"}},{"$f":"'SSI Inputs'!$D$34","v":{"$error":"#VALUE!"}},{"$f":"'SSI Inputs'!$D$35","v":{"$error":"#VALUE!"}},{"$f":"'SSI Inputs'!$D$36","v":{"$error":"#VALUE!"}},{"$f":"'SSI Inputs'!$D$38","v":{"$error":"#VALUE!"}},{"$f":"'SSI Inputs'!$D$39","v":{"$error":"#VALUE!"}},{"$f":"'SSI Inputs'!$D$40","v":{"$error":"#VALUE!"}},{"$f":"'SSI Inputs'!$Q$18","v":12.5},{"$f":"'SSI Inputs'!$Q$19","v":12.5},{"$f":"'SSI Inputs'!$Q$20","v":12.5},{"$f":"'SSI Inputs'!$Q$21","v":12.5}]
[null,null,null,null,null,null,null,null,null,null,null,null,null,null,null,null,null,null,null,null,null,null,null,null,null,null,null,null,null,null,null,null,null,null,null,null,null,null,"D",{"$f":"'SSI Inputs'!$E$26","v":{"$error":"#VALUE!"}},{"$f":"'SSI Inputs'!$E$27","v":{"$error":"#VALUE!"}},{"$f":"'SSI Inputs'!$E$28","v":{"$error":"#VALUE!"}},{"$f":"'SSI Inputs'!$E$30","v":{"$error":"#VALUE!"}},{"$f":"'SSI Inputs'!$E$31","v":{"$error":"#VALUE!"}},{"$f":"'SSI Inputs'!$E$32","v":{"$error":"#VALUE!"}},{"$f":"'SSI Inputs'!$E$34","v":{"$error":"#VALUE!"}},{"$f":"'SSI Inputs'!$E$35","v":{"$error":"#VALUE!"}},{"$f":"'SSI Inputs'!$E$36","v":{"$error":"#VALUE!"}},{"$f":"'SSI Inputs'!$E$38","v":{"$error":"#VALUE!"}},{"$f":"'SSI Inputs'!$E$39","v":{"$error":"#VALUE!"}},{"$f":"'SSI Inputs'!$E$40","v":{"$error":"#VALUE!"}},{"$f":"'SSI Inputs'!$R$18","v":12.5},{"$f":"'SSI Inputs'!$R$19","v":12.5},{"$f":"'SSI Inputs'!$R$20","v":12.5},{"$f":"'SSI Inputs'!$R$21","v":12.5},"D",{"$f":"'SSI Inputs'!$E$26","v":{"$error":"#VALUE!"}},{"$f":"'SSI Inputs'!$E$27","v":{"$error":"#VALUE!"}},{"$f":"'SSI Inputs'!$E$28","v":{"$error":"#VALUE!"}},{"$f":"'SSI Inputs'!$E$30","v":{"$error":"#VALUE!"}},{"$f":"'SSI Inputs'!$E$31","v":{"$error":"#VALUE!"}},{"$f":"'SSI Inputs'!$E$32","v":{"$error":"#VALUE!"}},{"$f":"'SSI Inputs'!$E$34","v":{"$error":"#VALUE!"}},{"$f":"'SSI Inputs'!$E$35","v":{"$error":"#VALUE!"}},{"$f":"'SSI Inputs'!$E$36","v":{"$error":"#VALUE!"}},{"$f":"'SSI Inputs'!$E$38","v":{"$error":"#VALUE!"}},{"$f":"'SSI Inputs'!$E$39","v":{"$error":"#VALUE!"}},{"$f":"'SSI Inputs'!$E$40","v":{"$error":"#VALUE!"}},{"$f":"'SSI Inputs'!$R$18","v":12.5},{"$f":"'SSI Inputs'!$R$19","v":12.5},{"$f":"'SSI Inputs'!$R$20","v":12.5},{"$f":"'SSI Inputs'!$R$21","v":12.5}]
[]
[]
[]
[]
[]
[]
[]
[]
[]
[]
[]
[]
[]
[]
[]
[]
[]
[]
[]
[]
[]
[]
[]
[]
[]
[]
[]
[]
[]
[]
[]
[]
[]
[]
[]
[]
[]
[]
[]
[]
[]
[]
[]
[]
[]
[]
[]
[]
[]
[]
[]
[]
[]
[]
[]
[]
[]
[]
[]
[]
[]
[]
[]
[null,null,null,null,null,null,null,null,null,"Exposure",null,null,null,null,null,null,null,null,null,null,null,null,null,null,null,null,null,null,null,null,null,null,null,null,null,null,"Exposure-Severity-Complexity Product"]
[null,null,null,null,null,null,null,null,null,"Q1","Q2","I"]
[null,null,null,null,null,null,null,null,null,{"$f":"SUMPRODUCT($AN4:$BC4,$AN$37:$BC$37)","v":{"$error":"#VALUE!"}},{"$f":"SUMPRODUCT($BE4:$BT4,$BE$37:$BT$37)","v":{"$error":"#VALUE!"}},{"$f":"PRODUCT(J103:K103)","v":{"$error":"#VALUE!"}},null,null,null,null,null,null,null,null,null,null,null,null,null,null,null,null,null,null,null,null,null,null,null,null,{"$f":"L103*R4*AI4","v":{"$error":"#VALUE!"}}]
[null,null,null,null,null,null,null,null,null,{"$f":"SUMPRODUCT($AN5:$BC5,$AN$37:$BC$37)","v":{"$error":"#VALUE!"}},{"$f":"SUMPRODUCT($BE5:$BT5,$BE$37:$BT$37)","v":{"$error":"#VALUE!"}},{"$f":"PRODUCT(J104:K104)","v":{"$error":"#VALUE!"}},null,null,null,null,null,null,null,null,null,null,null,null,null,null,null,null,null,null,null,null,null,null,null,null,{"$f":"L104*R5*AI5","v":{"$error":"#VALUE!"}}]
[null,null,null,null,null,null,null,null,null,{"$error":"#VALUE!"},{"$error":"#VALUE!"},{"$error":"#VALUE!"},null,null,null,null,null,null,null,null,null,null,null,null,null,null,null,null,null,null,null,null,null,null,null,null,{"$error":"#VALUE!"}]
[null,null,null,null,null,null,null,null,null,{"$error":"#VALUE!"},{"$error":"#VALUE!"},{"$error":"#VALUE!"},null,null,null,null,null,null,null,null,null,null,null,null,null,null,null,null,null,null,null,null,null,null,null,null,{"$error":"#VALUE!"}]
[null,null,null,null,null,null,null,null,null,{"$error":"#VALUE!"},{"$error":"#VALUE!"},{"$error":"#VALUE!"},null,null,null,null,null,null,null,null,null,null,null,null,null,null,null,null,null,null,null,null,null,null,null,null,{"$error":"#VALUE!"}]
[null,null,null,null,null,null,null,null,null,{"$error":"#VALUE!"},{"$error":"#VALUE!"},{"$error":"#VALUE!"},null,null,null,null,null,null,null,null,null,null,null,null,null,null,null,null,null,null,null,null,null,null,null,null,{"$error":"#VALUE!"}]
[null,null,null,null,null,null,null,null,null,{"$error":"#VALUE!"},{"$error":"#VALUE!"},{"$error":"#VALUE!"},null,null,null,null,null,null,null,null,null,null,null,null,null,null,null,null,null,null,null,null,null,null,null,null,{"$error":"#VALUE!"}]
[null,null,null,null,null,null,null,null,null,{"$error":"#VALUE!"},{"$error":"#VALUE!"},{"$error":"#VALUE!"},null,null,null,null,null,null,null,null,null,null,null,null,null,null,null,null,null,null,null,null,null,null,null,null,{"$error":"#VALUE!"}]
[null,null,null,null,null,null,null,null,null,{"$error":"#VALUE!"},{"$error":"#VALUE!"},{"$error":"#VALUE!"},null,null,null,null,null,null,null,null,null,null,null,null,null,null,null,null,null,null,null,null,null,null,null,null,{"$error":"#VALUE!"}]
[null,null,null,null,null,null,null,null,null,{"$error":"#VALUE!"},{"$error":"#VALUE!"},{"$error":"#VALUE!"},null,null,null,null,null,null,null,null,null,null,null,null,null,null,null,null,null,null,null,null,null,null,null,null,{"$error":"#VALUE!"}]
[null,null,null,null,null,null,null,null,null,{"$error":"#VALUE!"},{"$error":"#VALUE!"},{"$error":"#VALUE!"},null,null,null,null,null,null,null,null,null,null,null,null,null,null,null,null,null,null,null,null,null,null,null,null,{"$error":"#VALUE!"}]
[null,null,null,null,null,null,null,null,null,{"$error":"#VALUE!"},{"$error":"#VALUE!"},{"$error":"#VALUE!"},null,null,null,null,null,null,null,null,null,null,null,null,null,null,null,null,null,null,null,null,null,null,null,null,{"$error":"#VALUE!"}]
[null,null,null,null,null,null,null,null,null,{"$error":"#VALUE!"},{"$error":"#VALUE!"},{"$error":"#VALUE!"},null,null,null,null,null,null,null,null,null,null,null,null,null,null,null,null,null,null,null,null,null,null,null,null,{"$error":"#VALUE!"}]
[null,null,null,null,null,null,null,null,null,{"$error":"#VALUE!"},{"$error":"#VALUE!"},{"$error":"#VALUE!"},null,null,null,null,null,null,null,null,null,null,null,null,null,null,null,null,null,null,null,null,null,null,null,null,{"$error":"#VALUE!"}]
[null,null,null,null,null,null,null,null,null,{"$error":"#VALUE!"},{"$error":"#VALUE!"},{"$error":"#VALUE!"},null,null,null,null,null,null,null,null,null,null,null,null,null,null,null,null,null,null,null,null,null,null,null,null,{"$error":"#VALUE!"}]
[null,null,null,null,null,null,null,null,null,{"$error":"#VALUE!"},{"$error":"#VALUE!"},{"$error":"#VALUE!"},null,null,null,null,null,null,null,null,null,null,null,null,null,null,null,null,null,null,null,null,null,null,null,null,{"$error":"#VALUE!"}]
[null,null,null,null,null,null,null,null,null,{"$error":"#VALUE!"},{"$error":"#VALUE!"},{"$error":"#VALUE!"},null,null,null,null,null,null,null,null,null,null,null,null,null,null,null,null,null,null,null,null,null,null,null,null,{"$error":"#VALUE!"}]
[null,null,null,null,null,null,null,null,null,{"$error":"#VALUE!"},{"$error":"#VALUE!"},{"$error":"#VALUE!"},null,null,null,null,null,null,null,null,null,null,null,null,null,null,null,null,null,null,null,null,null,null,null,null,{"$error":"#VALUE!"}]
[null,null,null,null,null,null,null,null,null,{"$error":"#VALUE!"},{"$error":"#VALUE!"},{"$error":"#VALUE!"},null,null,null,null,null,null,null,null,null,null,null,null,null,null,null,null,null,null,null,null,null,null,null,null,{"$error":"#VALUE!"}]
[null,null,null,null,null,null,null,null,null,{"$error":"#VALUE!"},{"$error":"#VALUE!"},{"$error":"#VALUE!"},null,null,null,null,null,null,null,null,null,null,null,null,null,null,null,null,null,null,null,null,null,null,null,null,{"$error":"#VALUE!"}]
[null,null,null,null,null,null,null,null,null,{"$error":"#VALUE!"},{"$error":"#VALUE!"},{"$error":"#VALUE!"},null,null,null,null,null,null,null,null,null,null,null,null,null,null,null,null,null,null,null,null,null,null,null,null,{"$error":"#VALUE!"}]
[null,null,null,null,null,null,null,null,null,{"$error":"#VALUE!"},{"$error":"#VALUE!"},{"$error":"#VALUE!"},null,null,null,null,null,null,null,null,null,null,null,null,null,null,null,null,null,null,null,null,null,null,null,null,{"$error":"#VALUE!"}]
[null,null,null,null,null,null,null,null,null,{"$error":"#VALUE!"},{"$error":"#VALUE!"},{"$error":"#VALUE!"},null,null,null,null,null,null,null,null,null,null,null,null,null,null,null,null,null,null,null,null,null,null,null,null,{"$error":"#VALUE!"}]
[null,null,null,null,null,null,null,null,null,{"$error":"#VALUE!"},{"$error":"#VALUE!"},{"$error":"#VALUE!"},null,null,null,null,null,null,null,null,null,null,null,null,null,null,null,null,null,null,null,null,null,null,null,null,{"$error":"#VALUE!"}]
[null,null,null,null,null,null,null,null,null,{"$error":"#VALUE!"},{"$error":"#VALUE!"},{"$error":"#VALUE!"},null,null,null,null,null,null,null,null,null,null,null,null,null,null,null,null,null,null,null,null,null,null,null,null,{"$error":"#VALUE!"}]
[null,null,null,null,null,null,null,null,null,{"$error":"#VALUE!"},{"$error":"#VALUE!"},{"$error":"#VALUE!"},null,null,null,null,null,null,null,null,null,null,null,null,null,null,null,null,null,null,null,null,null,null,null,null,{"$error":"#VALUE!"}]
[null,null,null,null,null,null,null,null,null,{"$error":"#VALUE!"},{"$error":"#VALUE!"},{"$error":"#VALUE!"},null,null,null,null,null,null,null,null,null,null,null,null,null,null,null,null,null,null,null,null,null,null,null,null,{"$error":"#VALUE!"}]
[null,null,null,null,null,null,null,null,null,{"$error":"#VALUE!"},{"$error":"#VALUE!"},{"$error":"#VALUE!"},null,null,null,null,null,null,null,null,null,null,null,null,null,null,null,null,null,null,null,null,null,null,null,null,{"$error":"#VALUE!"}]
[null,null,null,null,null,null,null,null,null,{"$error":"#VALUE!"},{"$error":"#VALUE!"},{"$error":"#VALUE!"},null,null,null,null,null,null,null,null,null,null,null,null,null,null,null,null,null,null,null,null,null,null,null,null,{"$error":"#VALUE!"}]
[null,null,null,null,null,null,null,null,null,{"$error":"#VALUE!"},{"$error":"#VALUE!"},{"$error":"#VALUE!"},null,null,null,null,null,null,null,null,null,null,null,null,null,null,null,null,null,null,null,null,null,null,null,null,{"$error":"#VALUE!"}]
[null,null,null,null,null,null,null,null,null,{"$error":"#VALUE!"},{"$error":"#VALUE!"},{"$error":"#VALUE!"},null,null,null,null,null,null,null,null,null,null,null,null,null,null,null,null,null,null,null,null,null,null,null,null,{"$error":"#VALUE!"}]
[null,null,null,null,null,null,null,null,null,{"$error":"#VALUE!"},{"$error":"#VALUE!"},{"$error":"#VALUE!"},null,null,null,null,null,null,null,null,null,null,null,null,null,null,null,null,null,null,null,null,null,null,null,null,{"$error":"#VALUE!"}]

{"sheet":"TradT_Sig","index":56,"n_rows":123,"n_cols":95,"rows_kept":123,"cut":false,"hidden":true,"merged":[[1,76,1,79],[1,81,1,84],[1,86,1,89],[1,91,1,94],[1,34,2,34],[1,36,2,36],[1,39,1,54],[1,56,1,71],[100,9,100,11],[100,36,101,36],[0,19,0,28],[0,30,0,32],[1,9,1,11],[1,13,1,17],[1,21,1,25],[1,27,1,28],[1,30,2,30],[1,31,2,31],[1,32,2,32]]}
[null,null,null,null,null,null,null,null,null,null,null,null,null,null,null,null,null,null,null,"Conflicting Traffic Complexity",null,null,null,null,null,null,null,null,null,null,"Pedestrian Complexity"]
[null,null,null,null,null,null,null,null,null,"Exposure",null,null,null,"Severity",null,null,null,null,null,"Traffic Control",null,"Conflicting Lanes",null,null,null,null,null,"Conflicting Speed",null,null,"Indirect Paths Indicator","Non-intuitive movements indicator","Pedestrian Complexity factor",null,"Total Complexity Multiplier",null,"Exposure-Severity-Complexity Product",null,null,"Included in Mvmt1",null,null,null,null,null,null,null,null,null,null,null,null,null,null,null,null,"Included in Mvmt2",null,null,null,null,null,null,null,null,null,null,null,null,null,null,null,null,null,null,null,"Major: No, Minor: No",null,null,null,null,"Major: Yes, Minor: No",null,null,null,null,"Major: No, Minor: Yes",null,null,null,null,"Major: Yes, Minor: Yes"]
["#","Conflict Type","Mvmt1","Mvmt1_gen","Mvmt1_SpeedCat","Mvmt2","Mvmt2_gen","Mvmt2_SpeedCat",null,"Q1","Q2","I",null,"Speed_V1","Speed_V2","Angle","delta_V","P_FSI",null,null,null,"MajC","MinC","MajM/P","MinM/P","Score",null,"Speed","Factor",null,null,null,null,null,null,null,null,null,null,"MajT1","MajL1","MajR1","MajT2","MajL2","MajR2","MinT1","MinL1","MinR1","MinT2","MinL2","MinR2","MajNM1","MajNM2","MinNM1","MinNM2",null,"MajT1","MajL1","MajR1","MajT2","MajL2","MajR2","MinT1","MinL1","MinR1","MinT2","MinL2","MinR2","MajNM1","MajNM2","MinNM1","MinNM2",null,null,"#","Conflict Type","MajC","MinC","MajM/P","MinM/P",null,"MajC","MinC","MajM/P","MinM/P",null,"MajC","MinC","MajM/P","MinM/P",null,"MajC","MinC","MajM/P","MinM/P"]
[1,"Crossing - LT","EBT","MajT1","Major thru","WBL","MajL2","Major left",null,{"$f":"SUMPRODUCT($AN4:$BC4,$AN$25:$BC$25)","v":{"$error":"#VALUE!"}},{"$f":"SUMPRODUCT($BE4:$BT4,$BE$25:$BT$25)","v":{"$error":"#VALUE!"}},{"$f":"PRODUCT(J4:K4)","v":{"$error":"#VALUE!"}},null,{"$f":"VLOOKUP(E4,SSI_AGI_Range_VehSpeed,5,FALSE)","v":0},{"$f":"VLOOKUP(H4,SSI_AGI_Range_VehSpeed,5,FALSE)","v":20},{"$f":"IF(B4=\"Nonmotorized\",\"\",VLOOKUP(B4,SSI_AGI_Range_CollAngles,5,FALSE))","v":230},{"$f":"IF(B4=\"Nonmotorized\",\"\",SQRT(N4^2+O4^2-2*N4*O4*COS(RADIANS(P4)))/2)","v":10},{"$f":"IF(B4=\"Nonmotorized\",1/(1+EXP(3.8432-0.1237*O4)),(Q4/SSI_AGI_RegAlpha)^SSI_AGI_RegK+(Q4/SSI_AGI_RegAlpha)^SSI_AGI_RegK-((Q4/SSI_AGI_RegAlpha)^SSI_AGI_RegK)*((Q4/SSI_AGI_RegAlpha)^SSI_AGI_RegK))","v":1.4431392232699444E-3},null,{"$f":"IF(SSI_AGI_MajorLTPhase=\"Protected/permitted\",SSI_AGI_ProtPermFactor,IF(SSI_AGI_MajorLTPhase=\"Protected\",SSI_AGI_ProtFactor,SSI_AGI_PermFactor))","v":0.92500000000000004},null,{"$f":"IF(AND(SS_AGI_MajMedian=\"No\", SS_AGI_MinMedian=\"No\"),BY4,IF(AND(SS_AGI_MajMedian=\"Yes\",SS_AGI_MinMedian=\"No\"),CD4,IF(AND(SS_AGI_MajMedian=\"No\",SS_AGI_MinMedian=\"Yes\"),CI4,IF(AND(SS_AGI_MajMedian=\"Yes\",SS_AGI_MinMedian=\"Yes\"),CN4))))","v":false},{"$f":"IF(AND(SS_AGI_MajMedian=\"No\", SS_AGI_MinMedian=\"No\"),BZ4,IF(AND(SS_AGI_MajMedian=\"Yes\",SS_AGI_MinMedian=\"No\"),CE4,IF(AND(SS_AGI_MajMedian=\"No\",SS_AGI_MinMedian=\"Yes\"),CJ4,IF(AND(SS_AGI_MajMedian=\"Yes\",SS_AGI_MinMedian=\"Yes\"),CO4))))","v":false},{"$f":"IF(AND(SS_AGI_MajMedian=\"No\", SS_AGI_MinMedian=\"No\"),CA4,IF(AND(SS_AGI_MajMedian=\"Yes\",SS_AGI_MinMedian=\"No\"),CF4,IF(AND(SS_AGI_MajMedian=\"No\",SS_AGI_MinMedian=\"Yes\"),CK4,IF(AND(SS_AGI_MajMedian=\"Yes\",SS_AGI_MinMedian=\"Yes\"),CP4))))","v":false},{"$f":"IF(AND(SS_AGI_MajMedian=\"No\", SS_AGI_MinMedian=\"No\"),CB4,IF(AND(SS_AGI_MajMedian=\"Yes\",SS_AGI_MinMedian=\"No\"),CG4,IF(AND(SS_AGI_MajMedian=\"No\",SS_AGI_MinMedian=\"Yes\"),CL4,IF(AND(SS_AGI_MajMedian=\"Yes\",SS_AGI_MinMedian=\"Yes\"),CQ4))))","v":false},{"$f":"MAX(1,IF(B4<>\"Pedestrian\",V4*SSI_AGI_MajorThruLanes+W4*SSI_AGI_MinorThruLanes+X4*IF(SSI_AGI_MajorThruLanes=1,SSI_AGI_MergeWeightL1,IF(SSI_AGI_MajorThruLanes=2,SSI_AGI_MergeWeightL1+SSI_AGI_MergeWeightL2,SSI_AGI_MergeWeightL1+SSI_AGI_MergeWeightL2+SSI_AGI_MergeWeightL3*(SSI_AGI_MajorThruLanes-2)))+Y4*IF(SSI_AGI_MinorThruLanes=1,SSI_AGI_MergeWeightL1,IF(SSI_AGI_MinorThruLanes=2,SSI_AGI_MergeWeightL1+SSI_AGI_MergeWeightL2,SSI_AGI_MergeWeightL1+SSI_AGI_MergeWeightL2+SSI_AGI_MergeWeightL3*(SSI_AGI_MinorThruLanes-2))),V4*SSI_AGI_MajorThruLanes+W4*SSI_AGI_MinorThruLanes+X4*IF(SSI_AGI_MajorThruLanes=1,SSI_AGI_NM_MergeWeightL1,IF(SSI_AGI_MajorThruLanes=2,SSI_AGI_NM_MergeWeightL1+SSI_AGI_NM_MergeWeightL2,SSI_AGI_NM_MergeWeightL1+SSI_AGI_NM_MergeWeightL2+SSI_AGI_NM_MergeWeightL3*(SSI_AGI_MajorThruLanes-2)))+Y4*IF(SSI_AGI_MinorThruLanes=1,SSI_AGI_NM_MergeWeightL1,IF(SSI_AGI_MinorThruLanes=2,SSI_AGI_NM_MergeWeightL1+SSI_AGI_NM_MergeWeightL2,SSI_AGI_NM_MergeWeightL1+SSI_AGI_NM_MergeWeightL2+SSI_AGI_NM_MergeWeightL3*(SSI_AGI_MinorThruLanes-2)))))","v":1},null,{"$f":"IF(B4=\"Diverging\",\"\",SSI_AGI_VehSpeed_MjrThru)","v":0},{"$f":"IF(B4=\"Diverging\",1,1-((60-AB4)/60*0.1/0.15))","v":0.33333333333333326},null,null,null,{"$f":"1+AE4+AF4","v":1},null,{"$f":"PRODUCT(Z4,T4,AC4,AG4)","v":0.30833333333333329},null,{"$f":"L4*R4*AI4","v":{"$error":"#VALUE!"}},null,null,{"$f":"IF(ISNUMBER(SEARCH(AN$3,$D4)),1,\"\")","v":1},{"$f":"IF(ISNUMBER(SEARCH(AO$3,$D4)),1,\"\")","v":""},"","","","","","","","","","","","","","",null,{"$f":"IF(ISNUMBER(SEARCH(BE$3,$G4)),1,\"\")","v":""},{"$f":"IF(ISNUMBER(SEARCH(BF$3,$G4)),1,\"\")","v":""},"","",1,"","","","","","","","","","","",null,null,1,"Crossing - LT",1,0,0,0,null,1,0,0,0,null,1,0,0,0,null,1,0,0,0]
[2,"Crossing - LT","WBL","MajL2","Major left","NBL","MinL1","Signal near",null,{"$error":"#VALUE!"},{"$error":"#VALUE!"},{"$f":"PRODUCT(J5:K5)","v":{"$error":"#VALUE!"}},null,20,15,230,{"$f":"IF(B5=\"Nonmotorized\",\"\",SQRT(N5^2+O5^2-2*N5*O5*COS(RADIANS(P5)))/2)","v":15.895538413434787},8.3616736100371545E-3,null,{"$f":"SSI_AGI_ProtFactor","v":0.505},null,{"$f":"IF(AND(SS_AGI_MajMedian=\"No\", SS_AGI_MinMedian=\"No\"),BY5,IF(AND(SS_AGI_MajMedian=\"Yes\",SS_AGI_MinMedian=\"No\"),CD5,IF(AND(SS_AGI_MajMedian=\"No\",SS_AGI_MinMedian=\"Yes\"),CI5,IF(AND(SS_AGI_MajMedian=\"Yes\",SS_AGI_MinMedian=\"Yes\"),CN5))))","v":false},false,false,false,1,null,0,0.33333333333333326,null,null,null,{"$f":"1+AE5+AF5","v":1},null,0.16833333333333331,null,{"$f":"L5*R5*AI5","v":{"$error":"#VALUE!"}},null,null,"","","","",1,"","","","","","","","","","","",null,"","","","","","","",1,"","","","","","","","",null,null,2,"Crossing - LT",1,0,1,0,null,1,0,0,0,null,1,0,1,0,null,1,0,0,0]
[3,"Crossing - LT","EBT","MajT1","Major thru","NBL","MinL1","Signal near",null,{"$error":"#VALUE!"},{"$error":"#VALUE!"},{"$error":"#VALUE!"},null,0,15,230,7.5,4.8454301532720461E-4,null,{"$f":"SSI_AGI_ProtFactor","v":0.505},null,false,false,false,false,1,null,0,0.33333333333333326,null,null,null,1,null,0.16833333333333331,null,{"$error":"#VALUE!"},null,null,1,"","","","","","","","","","","","","","","",null,"","","","","","","",1,"","","","","","","","",null,null,3,"Crossing - LT",1,0,1,0,null,1,0,0,0,null,1,0,1,0,null,1,0,0,0]
[4,"Merging","EBR","MajR1","Major right","WBL","MajL2","Major left",null,{"$error":"#VALUE!"},{"$error":"#VALUE!"},{"$error":"#VALUE!"},null,15,20,45,7.0840654162717795,3.9022923271840544E-4,null,{"$f":"IF(SSI_AGI_MajorLTPhase=\"Protected/permitted\",SSI_AGI_ProtPermFactor,IF(SSI_AGI_MajorLTPhase=\"Protected\",SSI_AGI_ProtFactor,SSI_AGI_PermFactor))","v":0.92500000000000004},null,false,false,false,false,1,null,0,0.33333333333333326,null,null,null,1,null,0.30833333333333329,null,{"$error":"#VALUE!"},null,null,"","",1,"","","","","","","","","","","","","",null,"","","","",1,"","","","","","","","","","","",null,null,4,"Merging",1,0,0,0,null,1,0,0,0,null,1,0,0,0,null,1,0,0,0]
[5,"Merging","NBL","MinL1","Signal far","WBT","MajT2","Major thru",null,{"$error":"#VALUE!"},{"$error":"#VALUE!"},{"$error":"#VALUE!"},null,25,0,45,12.5,3.3637551692797594E-3,null,{"$f":"SSI_AGI_ProtFactor","v":0.505},null,false,false,false,false,1,null,0,0.33333333333333326,null,null,null,1,null,0.16833333333333331,null,{"$error":"#VALUE!"},null,null,"","","","","","","",1,"","","","","","","","",null,"","","",1,"","","","","","","","","","","","",null,null,5,"Merging",1,0,1,0,null,0,0,1,0,null,1,0,1,0,null,0,0,1,0]
[6,"Merging","NBR","MinR1","Signal near","EBT","MajT1","Major thru",null,{"$error":"#VALUE!"},{"$error":"#VALUE!"},{"$error":"#VALUE!"},null,15,0,45,7.5,4.8454301532720461E-4,null,{"$f":"SSI_AGI_ProtFactor","v":0.505},null,false,false,false,false,1,null,0,0.33333333333333326,null,null,null,1,null,0.16833333333333331,null,{"$error":"#VALUE!"},null,null,"","","","","","","","",1,"","","","","","","",null,1,"","","","","","","","","","","","","","","",null,null,6,"Merging",0,0,1,0,null,0,0,1,0,null,0,0,1,0,null,0,0,1,0]
[7,"Diverging","NBR","MinR1","Signal near","NBL","MinL1","Signal near",null,{"$error":"#VALUE!"},{"$error":"#VALUE!"},{"$error":"#VALUE!"},null,15,15,10,1.3073361412148754,6.4061388075216071E-7,null,{"$f":"SSI_AGI_PermFactor","v":1},null,false,false,false,false,1,null,"",1,null,null,null,1,null,1,null,{"$error":"#VALUE!"},null,null,"","","","","","","","",1,"","","","","","","",null,"","","","","","","",1,"","","","","","","","",null,null,7,"Diverging",0,0,0,0,null,0,0,0,0,null,0,0,0,0,null,0,0,0,0]
[8,"Diverging","EBR","MajR1","Major right","EBT","MajT1","Major thru",null,{"$error":"#VALUE!"},{"$error":"#VALUE!"},{"$error":"#VALUE!"},null,15,0,10,7.5,4.8454301532720461E-4,null,{"$f":"SSI_AGI_PermFactor","v":1},null,false,false,false,false,1,null,"",1,null,null,null,1,null,1,null,{"$error":"#VALUE!"},null,null,"","",1,"","","","","","","","","","","","","",null,1,"","","","","","","","","","","","","","","",null,null,8,"Diverging",0,0,0,0,null,0,0,0,0,null,0,0,0,0,null,0,0,0,0]
[9,"Diverging","WBL","MajL2","Major left","WBT","MajT2","Major thru",null,{"$error":"#VALUE!"},{"$error":"#VALUE!"},{"$error":"#VALUE!"},null,20,0,10,10,1.4431392232699444E-3,null,{"$f":"SSI_AGI_PermFactor","v":1},null,false,false,false,false,1,null,"",1,null,null,null,1,null,1,null,{"$error":"#VALUE!"},null,null,"","","","",1,"","","","","","","","","","","",null,"","","",1,"","","","","","","","","","","","",null,null,9,"Diverging",0,0,0,0,null,0,0,0,0,null,0,0,0,0,null,0,0,0,0]
[10,"Nonmotorized",null,"MajNM1","Nonmotorized","WBT","MajT2","Major thru",null,{"$error":"#VALUE!"},{"$error":"#VALUE!"},{"$error":"#VALUE!"},null,0,0,"","",2.0975532400616122E-2,null,{"$f":"SSI_AGI_ProtFactor","v":0.505},null,false,false,false,false,1,null,0,0.33333333333333326,null,null,null,1,null,0.16833333333333331,null,{"$error":"#VALUE!"},null,null,"","","","","","","","","","","","",1,"","","",null,"","","",1,"","","","","","","","","","","","",null,null,10,"Nonmotorized",2,0,0,1,null,1,0,0,1,null,2,0,0,1,null,1,0,0,1]
[11,"Nonmotorized",null,"MajNM1","Nonmotorized","NBL","MinL1","Signal far",null,{"$error":"#VALUE!"},{"$error":"#VALUE!"},{"$error":"#VALUE!"},null,0,25,"","",0.32066879346345062,null,{"$f":"IF(SSI_AGI_MinorLTPhase=\"Protected/permitted\",SSI_AGI_ProtPermFactor,IF(SSI_AGI_MinorLTPhase=\"Protected\",SSI_AGI_ProtFactor,SSI_AGI_PermFactor))","v":0.92500000000000004},null,false,false,false,false,1,null,0,0.33333333333333326,null,null,null,1,null,0.30833333333333329,null,{"$error":"#VALUE!"},null,null,"","","","","","","","","","","","",1,"","","",null,"","","","","","","",1,"","","","","","","","",null,null,11,"Nonmotorized",2,0,0,1,null,1,0,0,1,null,2,0,0,1,null,1,0,0,1]
[12,"Nonmotorized",null,"MajNM1","Nonmotorized","EBT","MajT1","Major thru",null,{"$error":"#VALUE!"},{"$error":"#VALUE!"},{"$error":"#VALUE!"},null,0,0,"","",2.0975532400616122E-2,null,{"$f":"SSI_AGI_ProtFactor","v":0.505},null,false,false,false,false,1,null,0,0.33333333333333326,null,null,null,1,null,0.16833333333333331,null,{"$error":"#VALUE!"},null,null,"","","","","","","","","","","","",1,"","","",null,1,"","","","","","","","","","","","","","","",null,null,12,"Nonmotorized",2,0,0,1,null,1,0,0,0,null,2,0,0,1,null,1,0,0,0]
[13,"Nonmotorized",null,"MajNM1","Nonmotorized","EBR","MajR1","Major right",null,{"$error":"#VALUE!"},{"$error":"#VALUE!"},{"$error":"#VALUE!"},null,0,15,"","",0.1205004039155782,null,{"$f":"SSI_AGI_ProtFactor","v":0.505},null,false,false,false,false,1,null,0,0.33333333333333326,null,null,null,1,null,0.16833333333333331,null,{"$error":"#VALUE!"},null,null,"","","","","","","","","","","","",1,"","","",null,"","",1,"","","","","","","","","","","","","",null,null,13,"Nonmotorized",2,0,0,1,null,1,0,0,0,null,2,0,0,1,null,1,0,0,0]
[14,"Nonmotorized",null,"MinNM1","Nonmotorized","EBR","MajR1","Major right",null,{"$error":"#VALUE!"},{"$error":"#VALUE!"},{"$error":"#VALUE!"},null,0,15,"","",0.1205004039155782,null,{"$f":"SSI_AGI_ProtFactor","v":0.505},null,false,false,false,false,1,null,0,0.33333333333333326,null,null,null,1,null,0.16833333333333331,null,{"$error":"#VALUE!"},null,null,"","","","","","","","","","","","","","",1,"",null,"","",1,"","","","","","","","","","","","","",null,null,14,"Nonmotorized",0,2,2,0,null,0,2,2,0,null,0,1,2,0,null,0,1,2,0]
[15,"Nonmotorized",null,"MinNM1","Nonmotorized","WBL","MajL2","Major left",null,{"$error":"#VALUE!"},{"$error":"#VALUE!"},{"$error":"#VALUE!"},null,0,20,"","",0.20274912921655375,null,{"$f":"IF(SSI_AGI_MajorLTPhase=\"Protected/permitted\",SSI_AGI_ProtPermFactor,IF(SSI_AGI_MajorLTPhase=\"Protected\",SSI_AGI_ProtFactor,SSI_AGI_PermFactor))","v":0.92500000000000004},null,false,false,false,false,1,null,0,0.33333333333333326,null,null,null,1,null,0.30833333333333329,null,{"$error":"#VALUE!"},null,null,"","","","","","","","","","","","","","",1,"",null,"","","","",1,"","","","","","","","","","","",null,null,15,"Nonmotorized",0,2,2,0,null,0,2,2,0,null,0,1,2,0,null,0,1,2,0]
[16,"Nonmotorized",null,"MinNM1","Nonmotorized","NBL","MinL1","Signal near",null,{"$error":"#VALUE!"},{"$error":"#VALUE!"},{"$error":"#VALUE!"},null,0,15,"","",0.1205004039155782,null,{"$f":"SSI_AGI_ProtFactor","v":0.505},null,false,false,false,false,1,null,0,0.33333333333333326,null,null,null,1,null,0.16833333333333331,null,{"$error":"#VALUE!"},null,null,"","","","","","","","","","","","","","",1,"",null,"","","","","","","",1,"","","","","","","","",null,null,16,"Nonmotorized",0,2,2,0,null,0,2,2,0,null,0,1,0,0,null,0,1,0,0]
[17,"Nonmotorized",null,"MinNM1","Nonmotorized","NBR","MinR1","Signal near",null,{"$error":"#VALUE!"},{"$error":"#VALUE!"},{"$error":"#VALUE!"},null,0,15,"","",0.1205004039155782,null,0.505,null,false,false,false,false,1,null,0,0.33333333333333326,null,null,null,1,null,0.16833333333333331,null,{"$error":"#VALUE!"},null,null,"",{"$f":"IF(ISNUMBER(SEARCH(AO$3,$D20)),1,\"\")","v":""},"","","","","","","","","","","","",1,"",null,"",{"$f":"IF(ISNUMBER(SEARCH(BF$3,$G20)),1,\"\")","v":""},"","","","","","",1,"","","","","","","",null,null,17,"Nonmotorized",0,2,2,0,null,0,2,2,0,null,0,1,0,0,null,0,1,0,0]
[18,"Nonmotorized",null,"MajNM2","Nonmotorized","NBR","MinR1","Signal near",null,{"$error":"#VALUE!"},{"$error":"#VALUE!"},{"$error":"#VALUE!"},null,0,15,"","",0.1205004039155782,null,0.505,null,false,false,false,false,1,null,0,0.33333333333333326,null,null,null,1,null,0.16833333333333331,null,{"$error":"#VALUE!"},null,null,"","","","","","","","","","","","","",1,"","",null,"","","","","","","","",1,"","","","","","","",null,null,18,"Nonmotorized",2,0,0,1,null,1,0,0,1,null,2,0,0,1,null,1,0,0,1]
[19,"Nonmotorized",null,"MajNM2","Nonmotorized","EBT","MajT1","Major thru",null,{"$error":"#VALUE!"},{"$error":"#VALUE!"},{"$error":"#VALUE!"},null,0,0,"","",2.0975532400616122E-2,null,0.505,null,false,false,false,false,1,null,0,0.33333333333333326,null,null,null,1,null,0.16833333333333331,null,{"$error":"#VALUE!"},null,null,"","","","","","","","","","","","","",1,"","",null,1,"","","","","","","","","","","","","","","",null,null,19,"Nonmotorized",2,0,0,1,null,1,0,0,1,null,2,0,0,1,null,1,0,0,1]
[20,"Nonmotorized",null,"MajNM2","Nonmotorized","WBL","MajL2","Major left",null,{"$error":"#VALUE!"},{"$error":"#VALUE!"},{"$error":"#VALUE!"},null,0,20,"","",0.20274912921655375,null,0.505,null,false,false,false,false,1,null,0,0.33333333333333326,null,null,null,1,null,0.16833333333333331,null,{"$error":"#VALUE!"},null,null,"","","","","","","","","","","","","",1,"","",null,"","","","",1,"","","","","","","","","","","",null,null,20,"Nonmotorized",2,0,0,1,null,1,0,0,0,null,2,0,0,1,null,1,0,0,0]
[21,"Nonmotorized",null,"MajNM2","Nonmotorized","WBT","MajT2","Major thru",null,{"$error":"#VALUE!"},{"$error":"#VALUE!"},{"$error":"#VALUE!"},null,0,0,"","",2.0975532400616122E-2,null,0.505,null,false,false,false,false,1,null,0,0.33333333333333326,null,null,null,1,null,0.16833333333333331,null,{"$error":"#VALUE!"},null,null,"","","","","","","","","","","","","",1,"","",null,"","","",1,"","","","","","","","","","","","",null,null,21,"Nonmotorized",2,0,0,1,null,1,0,0,0,null,2,0,0,1,null,1,0,0,0]
[null,null,null,null,null,null,null,null,null,null,null,null,null,null,null,null,null,null,null,null,null,null,null,null,null,null,null,null,null,null,null,null,null,null,null,null,null,null,null,{"$f":"'SSI Inputs'!$D$26","v":{"$error":"#VALUE!"}},{"$f":"'SSI Inputs'!$D$27","v":{"$error":"#VALUE!"}},{"$f":"'SSI Inputs'!$D$28","v":{"$error":"#VALUE!"}},{"$f":"'SSI Inputs'!$D$30","v":{"$error":"#VALUE!"}},{"$f":"'SSI Inputs'!$D$31","v":{"$error":"#VALUE!"}},{"$f":"'SSI Inputs'!$D$32","v":{"$error":"#VALUE!"}},{"$f":"'SSI Inputs'!$D$34","v":{"$error":"#VALUE!"}},{"$f":"'SSI Inputs'!$D$35","v":{"$error":"#VALUE!"}},{"$f":"'SSI Inputs'!$D$36","v":{"$error":"#VALUE!"}},{"$f":"'SSI Inputs'!$D$38","v":{"$error":"#VALUE!"}},{"$f":"'SSI Inputs'!$D$39","v":{"$error":"#VALUE!"}},{"$f":"'SSI Inputs'!$D$40","v":{"$error":"#VALUE!"}},{"$f":"'SSI Inputs'!$Q$18","v":12.5},{"$f":"'SSI Inputs'!$Q$19","v":12.5},{"$f":"'SSI Inputs'!$Q$20","v":12.5},{"$f":"'SSI Inputs'!$Q$21","v":12.5},null,{"$f":"'SSI Inputs'!$D$26","v":{"$error":"#VALUE!"}},{"$f":"'SSI Inputs'!$D$27","v":{"$error":"#VALUE!"}},{"$f":"'SSI Inputs'!$D$28","v":{"$error":"#VALUE!"}},{"$f":"'SSI Inputs'!$D$30","v":{"$error":"#VALUE!"}},{"$f":"'SSI Inputs'!$D$31","v":{"$error":"#VALUE!"}},{"$f":"'SSI Inputs'!$D$32","v":{"$error":"#VALUE!"}},{"$f":"'SSI Inputs'!$D$34","v":{"$error":"#VALUE!"}},{"$f":"'SSI Inputs'!$D$35","v":{"$error":"#VALUE!"}},{"$f":"'SSI Inputs'!$D$36","v":{"$error":"#VALUE!"}},{"$f":"'SSI Inputs'!$D$38","v":{"$error":"#VALUE!"}},{"$f":"'SSI Inputs'!$D$39","v":{"$error":"#VALUE!"}},{"$f":"'SSI Inputs'!$D$40","v":{"$error":"#VALUE!"}},{"$f":"'SSI Inputs'!$Q$18","v":12.5},{"$f":"'SSI Inputs'!$Q$19","v":12.5},{"$f":"'SSI Inputs'!$Q$20","v":12.5},{"$f":"'SSI Inputs'!$Q$21","v":12.5}]
[null,null,null,null,null,null,null,null,null,null,null,null,null,null,null,null,null,null,null,null,null,null,null,null,null,null,null,null,null,null,null,null,null,null,null,null,null,null,"D",{"$f":"'SSI Inputs'!$E$26","v":{"$error":"#VALUE!"}},{"$f":"'SSI Inputs'!$E$27","v":{"$error":"#VALUE!"}},{"$f":"'SSI Inputs'!$E$28","v":{"$error":"#VALUE!"}},{"$f":"'SSI Inputs'!$E$30","v":{"$error":"#VALUE!"}},{"$f":"'SSI Inputs'!$E$31","v":{"$error":"#VALUE!"}},{"$f":"'SSI Inputs'!$E$32","v":{"$error":"#VALUE!"}},{"$f":"'SSI Inputs'!$E$34","v":{"$error":"#VALUE!"}},{"$f":"'SSI Inputs'!$E$35","v":{"$error":"#VALUE!"}},{"$f":"'SSI Inputs'!$E$36","v":{"$error":"#VALUE!"}},{"$f":"'SSI Inputs'!$E$38","v":{"$error":"#VALUE!"}},{"$f":"'SSI Inputs'!$E$39","v":{"$error":"#VALUE!"}},{"$f":"'SSI Inputs'!$E$40","v":{"$error":"#VALUE!"}},{"$f":"'SSI Inputs'!$R$18","v":12.5},{"$f":"'SSI Inputs'!$R$19","v":12.5},{"$f":"'SSI Inputs'!$R$20","v":12.5},{"$f":"'SSI Inputs'!$R$21","v":12.5},"D",{"$f":"'SSI Inputs'!$E$26","v":{"$error":"#VALUE!"}},{"$f":"'SSI Inputs'!$E$27","v":{"$error":"#VALUE!"}},{"$f":"'SSI Inputs'!$E$28","v":{"$error":"#VALUE!"}},{"$f":"'SSI Inputs'!$E$30","v":{"$error":"#VALUE!"}},{"$f":"'SSI Inputs'!$E$31","v":{"$error":"#VALUE!"}},{"$f":"'SSI Inputs'!$E$32","v":{"$error":"#VALUE!"}},{"$f":"'SSI Inputs'!$E$34","v":{"$error":"#VALUE!"}},{"$f":"'SSI Inputs'!$E$35","v":{"$error":"#VALUE!"}},{"$f":"'SSI Inputs'!$E$36","v":{"$error":"#VALUE!"}},{"$f":"'SSI Inputs'!$E$38","v":{"$error":"#VALUE!"}},{"$f":"'SSI Inputs'!$E$39","v":{"$error":"#VALUE!"}},{"$f":"'SSI Inputs'!$E$40","v":{"$error":"#VALUE!"}},{"$f":"'SSI Inputs'!$R$18","v":12.5},{"$f":"'SSI Inputs'!$R$19","v":12.5},{"$f":"'SSI Inputs'!$R$20","v":12.5},{"$f":"'SSI Inputs'!$R$21","v":12.5}]
[]
[]
[]
[]
[]
[]
[]
[]
[]
[]
[]
[]
[]
[]
[]
[]
[]
[]
[]
[]
[]
[]
[]
[]
[]
[]
[]
[]
[]
[]
[]
[]
[]
[]
[]
[]
[]
[]
[]
[]
[]
[]
[]
[]
[]
[]
[]
[]
[]
[]
[]
[]
[]
[]
[]
[]
[]
[]
[]
[]
[]
[]
[]
[]
[]
[]
[]
[]
[]
[]
[]
[]
[]
[]
[null,null,null,null,null,null,null,null,null,"Exposure",null,null,null,null,null,null,null,null,null,null,null,null,null,null,null,null,null,null,null,null,null,null,null,null,null,null,"Exposure-Severity-Complexity Product"]
[null,null,null,null,null,null,null,null,null,"Q1","Q2","I"]
[null,null,null,null,null,null,null,null,null,{"$f":"SUMPRODUCT($AN4:$BC4,$AN$26:$BC$26)","v":{"$error":"#VALUE!"}},{"$f":"SUMPRODUCT($BE4:$BT4,$BE$26:$BT$26)","v":{"$error":"#VALUE!"}},{"$f":"PRODUCT(J103:K103)","v":{"$error":"#VALUE!"}},null,null,null,null,null,null,null,null,null,null,null,null,null,null,null,null,null,null,null,null,null,null,null,null,{"$f":"L103*R4*AI4","v":{"$error":"#VALUE!"}}]
[null,null,null,null,null,null,null,null,null,{"$f":"SUMPRODUCT($AN5:$BC5,$AN$26:$BC$26)","v":{"$error":"#VALUE!"}},{"$f":"SUMPRODUCT($BE5:$BT5,$BE$26:$BT$26)","v":{"$error":"#VALUE!"}},{"$f":"PRODUCT(J104:K104)","v":{"$error":"#VALUE!"}},null,null,null,null,null,null,null,null,null,null,null,null,null,null,null,null,null,null,null,null,null,null,null,null,{"$f":"L104*R5*AI5","v":{"$error":"#VALUE!"}}]
[null,null,null,null,null,null,null,null,null,{"$error":"#VALUE!"},{"$error":"#VALUE!"},{"$error":"#VALUE!"},null,null,null,null,null,null,null,null,null,null,null,null,null,null,null,null,null,null,null,null,null,null,null,null,{"$error":"#VALUE!"}]
[null,null,null,null,null,null,null,null,null,{"$error":"#VALUE!"},{"$error":"#VALUE!"},{"$error":"#VALUE!"},null,null,null,null,null,null,null,null,null,null,null,null,null,null,null,null,null,null,null,null,null,null,null,null,{"$error":"#VALUE!"}]
[null,null,null,null,null,null,null,null,null,{"$error":"#VALUE!"},{"$error":"#VALUE!"},{"$error":"#VALUE!"},null,null,null,null,null,null,null,null,null,null,null,null,null,null,null,null,null,null,null,null,null,null,null,null,{"$error":"#VALUE!"}]
[null,null,null,null,null,null,null,null,null,{"$error":"#VALUE!"},{"$error":"#VALUE!"},{"$error":"#VALUE!"},null,null,null,null,null,null,null,null,null,null,null,null,null,null,null,null,null,null,null,null,null,null,null,null,{"$error":"#VALUE!"}]
[null,null,null,null,null,null,null,null,null,{"$error":"#VALUE!"},{"$error":"#VALUE!"},{"$error":"#VALUE!"},null,null,null,null,null,null,null,null,null,null,null,null,null,null,null,null,null,null,null,null,null,null,null,null,{"$error":"#VALUE!"}]
[null,null,null,null,null,null,null,null,null,{"$error":"#VALUE!"},{"$error":"#VALUE!"},{"$error":"#VALUE!"},null,null,null,null,null,null,null,null,null,null,null,null,null,null,null,null,null,null,null,null,null,null,null,null,{"$error":"#VALUE!"}]
[null,null,null,null,null,null,null,null,null,{"$error":"#VALUE!"},{"$error":"#VALUE!"},{"$error":"#VALUE!"},null,null,null,null,null,null,null,null,null,null,null,null,null,null,null,null,null,null,null,null,null,null,null,null,{"$error":"#VALUE!"}]
[null,null,null,null,null,null,null,null,null,{"$error":"#VALUE!"},{"$error":"#VALUE!"},{"$error":"#VALUE!"},null,null,null,null,null,null,null,null,null,null,null,null,null,null,null,null,null,null,null,null,null,null,null,null,{"$error":"#VALUE!"}]
[null,null,null,null,null,null,null,null,null,{"$error":"#VALUE!"},{"$error":"#VALUE!"},{"$error":"#VALUE!"},null,null,null,null,null,null,null,null,null,null,null,null,null,null,null,null,null,null,null,null,null,null,null,null,{"$error":"#VALUE!"}]
[null,null,null,null,null,null,null,null,null,{"$error":"#VALUE!"},{"$error":"#VALUE!"},{"$error":"#VALUE!"},null,null,null,null,null,null,null,null,null,null,null,null,null,null,null,null,null,null,null,null,null,null,null,null,{"$error":"#VALUE!"}]
[null,null,null,null,null,null,null,null,null,{"$error":"#VALUE!"},{"$error":"#VALUE!"},{"$error":"#VALUE!"},null,null,null,null,null,null,null,null,null,null,null,null,null,null,null,null,null,null,null,null,null,null,null,null,{"$error":"#VALUE!"}]
[null,null,null,null,null,null,null,null,null,{"$error":"#VALUE!"},{"$error":"#VALUE!"},{"$error":"#VALUE!"},null,null,null,null,null,null,null,null,null,null,null,null,null,null,null,null,null,null,null,null,null,null,null,null,{"$error":"#VALUE!"}]
[null,null,null,null,null,null,null,null,null,{"$error":"#VALUE!"},{"$error":"#VALUE!"},{"$error":"#VALUE!"},null,null,null,null,null,null,null,null,null,null,null,null,null,null,null,null,null,null,null,null,null,null,null,null,{"$error":"#VALUE!"}]
[null,null,null,null,null,null,null,null,null,{"$error":"#VALUE!"},{"$error":"#VALUE!"},{"$error":"#VALUE!"},null,null,null,null,null,null,null,null,null,null,null,null,null,null,null,null,null,null,null,null,null,null,null,null,{"$error":"#VALUE!"}]
[null,null,null,null,null,null,null,null,null,{"$error":"#VALUE!"},{"$error":"#VALUE!"},{"$error":"#VALUE!"},null,null,null,null,null,null,null,null,null,null,null,null,null,null,null,null,null,null,null,null,null,null,null,null,{"$error":"#VALUE!"}]
[null,null,null,null,null,null,null,null,null,{"$error":"#VALUE!"},{"$error":"#VALUE!"},{"$error":"#VALUE!"},null,null,null,null,null,null,null,null,null,null,null,null,null,null,null,null,null,null,null,null,null,null,null,null,{"$error":"#VALUE!"}]
[null,null,null,null,null,null,null,null,null,{"$error":"#VALUE!"},{"$error":"#VALUE!"},{"$error":"#VALUE!"},null,null,null,null,null,null,null,null,null,null,null,null,null,null,null,null,null,null,null,null,null,null,null,null,{"$error":"#VALUE!"}]
[null,null,null,null,null,null,null,null,null,{"$error":"#VALUE!"},{"$error":"#VALUE!"},{"$error":"#VALUE!"},null,null,null,null,null,null,null,null,null,null,null,null,null,null,null,null,null,null,null,null,null,null,null,null,{"$error":"#VALUE!"}]
[null,null,null,null,null,null,null,null,null,{"$error":"#VALUE!"},{"$error":"#VALUE!"},{"$error":"#VALUE!"},null,null,null,null,null,null,null,null,null,null,null,null,null,null,null,null,null,null,null,null,null,null,null,null,{"$error":"#VALUE!"}]

{"sheet":"TradT_AWSC","index":57,"n_rows":123,"n_cols":95,"rows_kept":123,"cut":false,"hidden":true,"merged":[[1,76,1,79],[1,81,1,84],[1,86,1,89],[1,91,1,94],[1,34,2,34],[1,36,2,36],[1,39,1,54],[1,56,1,71],[100,9,100,11],[100,36,101,36],[0,19,0,28],[0,30,0,32],[1,9,1,11],[1,13,1,17],[1,21,1,25],[1,27,1,28],[1,30,2,30],[1,31,2,31],[1,32,2,32]]}
[null,null,null,null,null,null,null,null,null,null,null,null,null,null,null,null,null,null,null,"Conflicting Traffic Complexity",null,null,null,null,null,null,null,null,null,null,"Pedestrian Complexity"]
[null,null,null,null,null,null,null,null,null,"Exposure",null,null,null,"Severity",null,null,null,null,null,"Traffic Control",null,"Conflicting Lanes",null,null,null,null,null,"Conflicting Speed",null,null,"Indirect Paths Indicator","Non-intuitive movements indicator","Pedestrian Complexity factor",null,"Total Complexity Multiplier",null,"Exposure-Severity-Complexity Product",null,null,"Included in Mvmt1",null,null,null,null,null,null,null,null,null,null,null,null,null,null,null,null,"Included in Mvmt2",null,null,null,null,null,null,null,null,null,null,null,null,null,null,null,null,null,null,null,"Major: No, Minor: No",null,null,null,null,"Major: Yes, Minor: No",null,null,null,null,"Major: No, Minor: Yes",null,null,null,null,"Major: Yes, Minor: Yes"]
["#","Conflict Type","Mvmt1","Mvmt1_gen","Mvmt1_SpeedCat","Mvmt2","Mvmt2_gen","Mvmt2_SpeedCat",null,"Q1","Q2","I",null,"Speed_V1","Speed_V2","Angle","delta_V","P_FSI",null,null,null,"MajC","MinC","MajM/P","MinM/P","Score",null,"Speed","Factor",null,null,null,null,null,null,null,null,null,null,"MajT1","MajL1","MajR1","MajT2","MajL2","MajR2","MinT1","MinL1","MinR1","MinT2","MinL2","MinR2","MajNM1","MajNM2","MinNM1","MinNM2",null,"MajT1","MajL1","MajR1","MajT2","MajL2","MajR2","MinT1","MinL1","MinR1","MinT2","MinL2","MinR2","MajNM1","MajNM2","MinNM1","MinNM2",null,null,"#","Conflict Type","MajC","MinC","MajM/P","MinM/P",null,"MajC","MinC","MajM/P","MinM/P",null,"MajC","MinC","MajM/P","MinM/P",null,"MajC","MinC","MajM/P","MinM/P"]
[1,"Crossing - LT","EBT","MajT1","Stop near","WBL","MajL2","Stop far",null,{"$f":"SUMPRODUCT($AN4:$BC4,$AN$25:$BC$25)","v":{"$error":"#VALUE!"}},{"$f":"SUMPRODUCT($BE4:$BT4,$BE$25:$BT$25)","v":{"$error":"#VALUE!"}},{"$f":"PRODUCT(J4:K4)","v":{"$error":"#VALUE!"}},null,{"$f":"VLOOKUP(E4,SSI_AGI_Range_VehSpeed,5,FALSE)","v":15},{"$f":"VLOOKUP(H4,SSI_AGI_Range_VehSpeed,5,FALSE)","v":25},{"$f":"IF(B4=\"Nonmotorized\",\"\",VLOOKUP(B4,SSI_AGI_Range_CollAngles,5,FALSE))","v":230},{"$f":"IF(B4=\"Nonmotorized\",\"\",SQRT(N4^2+O4^2-2*N4*O4*COS(RADIANS(P4)))/2)","v":18.248908921254063},{"$f":"IF(B4=\"Nonmotorized\",1/(1+EXP(3.8432-0.1237*O4)),(Q4/SSI_AGI_RegAlpha)^SSI_AGI_RegK+(Q4/SSI_AGI_RegAlpha)^SSI_AGI_RegK-((Q4/SSI_AGI_RegAlpha)^SSI_AGI_RegK)*((Q4/SSI_AGI_RegAlpha)^SSI_AGI_RegK))","v":1.4099039069818802E-2},null,{"$f":"SSI_AGI_StopFactor","v":0.72500000000000009},null,{"$f":"IF(AND(SS_AGI_MajMedian=\"No\", SS_AGI_MinMedian=\"No\"),BY4,IF(AND(SS_AGI_MajMedian=\"Yes\",SS_AGI_MinMedian=\"No\"),CD4,IF(AND(SS_AGI_MajMedian=\"No\",SS_AGI_MinMedian=\"Yes\"),CI4,IF(AND(SS_AGI_MajMedian=\"Yes\",SS_AGI_MinMedian=\"Yes\"),CN4))))","v":false},false,false,false,{"$f":"MAX(1,IF(B4<>\"Pedestrian\",V4*SSI_AGI_MajorThruLanes+W4*SSI_AGI_MinorThruLanes+X4*IF(SSI_AGI_MajorThruLanes=1,SSI_AGI_MergeWeightL1,IF(SSI_AGI_MajorThruLanes=2,SSI_AGI_MergeWeightL1+SSI_AGI_MergeWeightL2,SSI_AGI_MergeWeightL1+SSI_AGI_MergeWeightL2+SSI_AGI_MergeWeightL3*(SSI_AGI_MajorThruLanes-2)))+Y4*IF(SSI_AGI_MinorThruLanes=1,SSI_AGI_MergeWeightL1,IF(SSI_AGI_MinorThruLanes=2,SSI_AGI_MergeWeightL1+SSI_AGI_MergeWeightL2,SSI_AGI_MergeWeightL1+SSI_AGI_MergeWeightL2+SSI_AGI_MergeWeightL3*(SSI_AGI_MinorThruLanes-2))),V4*SSI_AGI_MajorThruLanes+W4*SSI_AGI_MinorThruLanes+X4*IF(SSI_AGI_MajorThruLanes=1,SSI_AGI_NM_MergeWeightL1,IF(SSI_AGI_MajorThruLanes=2,SSI_AGI_NM_MergeWeightL1+SSI_AGI_NM_MergeWeightL2,SSI_AGI_NM_MergeWeightL1+SSI_AGI_NM_MergeWeightL2+SSI_AGI_NM_MergeWeightL3*(SSI_AGI_MajorThruLanes-2)))+Y4*IF(SSI_AGI_MinorThruLanes=1,SSI_AGI_NM_MergeWeightL1,IF(SSI_AGI_MinorThruLanes=2,SSI_AGI_NM_MergeWeightL1+SSI_AGI_NM_MergeWeightL2,SSI_AGI_NM_MergeWeightL1+SSI_AGI_NM_MergeWeightL2+SSI_AGI_NM_MergeWeightL3*(SSI_AGI_MinorThruLanes-2)))))","v":1},null,{"$f":"IF(B4=\"Diverging\",\"\",SSI_AGI_VehSpeed_MjrThru)","v":0},{"$f":"IF(B4=\"Diverging\",1,1-((60-AB4)/60*0.1/0.15))","v":0.33333333333333326},null,null,null,{"$f":"1+AE4+AF4","v":1},null,{"$f":"PRODUCT(Z4,T4,AC4,AG4)","v":0.24166666666666664},null,{"$f":"L4*R4*AI4","v":{"$error":"#VALUE!"}},null,null,{"$f":"IF(ISNUMBER(SEARCH(AN$3,$D4)),1,\"\")","v":1},{"$f":"IF(ISNUMBER(SEARCH(AO$3,$D4)),1,\"\")","v":""},"","","","","","","","","","","","","","",null,{"$f":"IF(ISNUMBER(SEARCH(BE$3,$G4)),1,\"\")","v":""},{"$f":"IF(ISNUMBER(SEARCH(BF$3,$G4)),1,\"\")","v":""},"","",1,"","","","","","","","","","","",null,null,1,"Crossing - LT",1,0,0,0,null,1,0,0,0,null,1,0,0,0,null,1,0,0,0]
[2,"Crossing - LT","WBL","MajL2","Stop far","NBL","MinL1","Stop near",null,{"$error":"#VALUE!"},{"$error":"#VALUE!"},{"$f":"PRODUCT(J5:K5)","v":{"$error":"#VALUE!"}},null,25,15,230,{"$f":"IF(B5=\"Nonmotorized\",\"\",SQRT(N5^2+O5^2-2*N5*O5*COS(RADIANS(P5)))/2)","v":18.248908921254063},1.4099039069818802E-2,null,0.72500000000000009,null,false,false,false,false,1,null,0,0.33333333333333326,null,null,null,{"$f":"1+AE5+AF5","v":1},null,0.24166666666666664,null,{"$f":"L5*R5*AI5","v":{"$error":"#VALUE!"}},null,null,"","","","",1,"","","","","","","","","","","",null,"","","","","","","",1,"","","","","","","","",null,null,2,"Crossing - LT",1,0,1,0,null,1,0,0,0,null,1,0,1,0,null,1,0,0,0]
[3,"Crossing - LT","EBT","MajT1","Stop near","NBL","MinL1","Stop far",null,{"$error":"#VALUE!"},{"$error":"#VALUE!"},{"$error":"#VALUE!"},null,15,25,230,18.248908921254063,1.4099039069818802E-2,null,0.72500000000000009,null,false,false,false,false,1,null,0,0.33333333333333326,null,null,null,1,null,0.24166666666666664,null,{"$error":"#VALUE!"},null,null,1,"","","","","","","","","","","","","","","",null,"","","","","","","",1,"","","","","","","","",null,null,3,"Crossing - LT",1,0,1,0,null,1,0,0,0,null,1,0,1,0,null,1,0,0,0]
[4,"Merging","EBR","MajR1","Stop near","WBL","MajL2","Stop far",null,{"$error":"#VALUE!"},{"$error":"#VALUE!"},{"$error":"#VALUE!"},null,15,25,45,8.9396576292116645,9.4329959592674944E-4,null,0.72500000000000009,null,false,false,false,false,1,null,0,0.33333333333333326,null,null,null,1,null,0.24166666666666664,null,{"$error":"#VALUE!"},null,null,"","",1,"","","","","","","","","","","","","",null,"","","","",1,"","","","","","","","","","","",null,null,4,"Merging",1,0,0,0,null,1,0,0,0,null,1,0,0,0,null,1,0,0,0]
[5,"Merging","NBL","MinL1","Stop far","WBT","MajT2","Stop far",null,{"$error":"#VALUE!"},{"$error":"#VALUE!"},{"$error":"#VALUE!"},null,25,25,45,9.5670858091272439,1.2201154392262267E-3,null,0.72500000000000009,null,{"$f":"IF(AND(SS_AGI_MajMedian=\"No\", SS_AGI_MinMedian=\"No\"),BY8,IF(AND(SS_AGI_MajMedian=\"Yes\",SS_AGI_MinMedian=\"No\"),CD8,IF(AND(SS_AGI_MajMedian=\"No\",SS_AGI_MinMedian=\"Yes\"),CI8,IF(AND(SS_AGI_MajMedian=\"Yes\",SS_AGI_MinMedian=\"Yes\"),CN8))))","v":false},{"$f":"IF(AND(SS_AGI_MajMedian=\"No\", SS_AGI_MinMedian=\"No\"),BZ8,IF(AND(SS_AGI_MajMedian=\"Yes\",SS_AGI_MinMedian=\"No\"),CE8,IF(AND(SS_AGI_MajMedian=\"No\",SS_AGI_MinMedian=\"Yes\"),CJ8,IF(AND(SS_AGI_MajMedian=\"Yes\",SS_AGI_MinMedian=\"Yes\"),CO8))))","v":false},{"$f":"IF(AND(SS_AGI_MajMedian=\"No\", SS_AGI_MinMedian=\"No\"),CA8,IF(AND(SS_AGI_MajMedian=\"Yes\",SS_AGI_MinMedian=\"No\"),CF8,IF(AND(SS_AGI_MajMedian=\"No\",SS_AGI_MinMedian=\"Yes\"),CK8,IF(AND(SS_AGI_MajMedian=\"Yes\",SS_AGI_MinMedian=\"Yes\"),CP8))))","v":false},{"$f":"IF(AND(SS_AGI_MajMedian=\"No\", SS_AGI_MinMedian=\"No\"),CB8,IF(AND(SS_AGI_MajMedian=\"Yes\",SS_AGI_MinMedian=\"No\"),CG8,IF(AND(SS_AGI_MajMedian=\"No\",SS_AGI_MinMedian=\"Yes\"),CL8,IF(AND(SS_AGI_MajMedian=\"Yes\",SS_AGI_MinMedian=\"Yes\"),CQ8))))","v":false},1,null,0,0.33333333333333326,null,null,null,1,null,0.24166666666666664,null,{"$error":"#VALUE!"},null,null,"","","","","","","",1,"","","","","","","","",null,"","","",1,"","","","","","","","","","","","",null,null,5,"Merging",1,0,1,0,null,0,0,1,0,null,1,0,1,0,null,0,0,1,0]
[6,"Merging","NBR","MinR1","Stop near","EBT","MajT1","Stop far",null,{"$error":"#VALUE!"},{"$error":"#VALUE!"},{"$error":"#VALUE!"},null,15,25,45,8.9396576292116645,9.4329959592674944E-4,null,0.72500000000000009,null,false,false,false,false,1,null,0,0.33333333333333326,null,null,null,1,null,0.24166666666666664,null,{"$error":"#VALUE!"},null,null,"","","","","","","","",1,"","","","","","","",null,1,"","","","","","","","","","","","","","","",null,null,6,"Merging",0,0,1,0,null,0,0,1,0,null,0,0,1,0,null,0,0,1,0]
[7,"Diverging","NBR","MinR1","Stop near","NBL","MinL1","Stop near",null,{"$error":"#VALUE!"},{"$error":"#VALUE!"},{"$error":"#VALUE!"},null,15,15,10,1.3073361412148754,6.4061388075216071E-7,null,{"$f":"SSI_AGI_PermFactor","v":1},null,false,false,false,false,1,null,"",1,null,null,null,1,null,1,null,{"$error":"#VALUE!"},null,null,"","","","","","","","",1,"","","","","","","",null,"","","","","","","",1,"","","","","","","","",null,null,7,"Diverging",0,0,0,0,null,0,0,0,0,null,0,0,0,0,null,0,0,0,0]
[8,"Diverging","EBR","MajR1","Stop near","EBT","MajT1","Stop near",null,{"$error":"#VALUE!"},{"$error":"#VALUE!"},{"$error":"#VALUE!"},null,15,15,10,1.3073361412148754,6.4061388075216071E-7,null,{"$f":"SSI_AGI_PermFactor","v":1},null,false,false,false,false,1,null,"",1,null,null,null,1,null,1,null,{"$error":"#VALUE!"},null,null,"","",1,"","","","","","","","","","","","","",null,1,"","","","","","","","","","","","","","","",null,null,8,"Diverging",0,0,0,0,null,0,0,0,0,null,0,0,0,0,null,0,0,0,0]
[9,"Diverging","WBL","MajL2","Stop near","WBT","MajT2","Stop near",null,{"$error":"#VALUE!"},{"$error":"#VALUE!"},{"$error":"#VALUE!"},null,15,15,10,1.3073361412148754,6.4061388075216071E-7,null,{"$f":"SSI_AGI_PermFactor","v":1},null,false,false,false,false,1,null,"",1,null,null,null,1,null,1,null,{"$error":"#VALUE!"},null,null,"","","","",1,"","","","","","","","","","","",null,"","","",1,"","","","","","","","","","","","",null,null,9,"Diverging",0,0,0,0,null,0,0,0,0,null,0,0,0,0,null,0,0,0,0]
[10,"Nonmotorized",null,"MajNM1","Nonmotorized","WBT","MajT2","Stop far",null,{"$error":"#VALUE!"},{"$error":"#VALUE!"},{"$error":"#VALUE!"},null,0,25,"","",0.32066879346345062,null,{"$f":"SSI_AGI_StopFactor","v":0.72500000000000009},null,false,false,false,false,1,null,0,0.33333333333333326,null,null,null,1,null,0.24166666666666664,null,{"$error":"#VALUE!"},null,null,"","","","","","","","","","","","",1,"","","",null,"","","",1,"","","","","","","","","","","","",null,null,10,"Nonmotorized",2,0,0,1,null,1,0,0,1,null,2,0,0,1,null,1,0,0,1]
[11,"Nonmotorized",null,"MajNM1","Nonmotorized","NBL","MinL1","Stop far",null,{"$error":"#VALUE!"},{"$error":"#VALUE!"},{"$error":"#VALUE!"},null,0,25,"","",0.32066879346345062,null,0.72500000000000009,null,false,false,false,false,1,null,0,0.33333333333333326,null,null,null,1,null,0.24166666666666664,null,{"$error":"#VALUE!"},null,null,"","","","","","","","","","","","",1,"","","",null,"","","","","","","",1,"","","","","","","","",null,null,11,"Nonmotorized",2,0,0,1,null,1,0,0,1,null,2,0,0,1,null,1,0,0,1]
[12,"Nonmotorized",null,"MajNM1","Nonmotorized","EBT","MajT1","Stop near",null,{"$error":"#VALUE!"},{"$error":"#VALUE!"},{"$error":"#VALUE!"},null,0,15,"","",0.1205004039155782,null,0.72500000000000009,null,false,false,false,false,1,null,0,0.33333333333333326,null,null,null,1,null,0.24166666666666664,null,{"$error":"#VALUE!"},null,null,"","","","","","","","","","","","",1,"","","",null,1,"","","","","","","","","","","","","","","",null,null,12,"Nonmotorized",2,0,0,1,null,1,0,0,0,null,2,0,0,1,null,1,0,0,0]
[13,"Nonmotorized",null,"MajNM1","Nonmotorized","EBR","MajR1","Stop near",null,{"$error":"#VALUE!"},{"$error":"#VALUE!"},{"$error":"#VALUE!"},null,0,15,"","",0.1205004039155782,null,0.72500000000000009,null,false,false,false,false,1,null,0,0.33333333333333326,null,null,null,1,null,0.24166666666666664,null,{"$error":"#VALUE!"},null,null,"","","","","","","","","","","","",1,"","","",null,"","",1,"","","","","","","","","","","","","",null,null,13,"Nonmotorized",2,0,0,1,null,1,0,0,0,null,2,0,0,1,null,1,0,0,0]
[14,"Nonmotorized",null,"MinNM1","Nonmotorized","EBR","MajR1","Stop near",null,{"$error":"#VALUE!"},{"$error":"#VALUE!"},{"$error":"#VALUE!"},null,0,15,"","",0.1205004039155782,null,0.72500000000000009,null,false,false,false,false,1,null,0,0.33333333333333326,null,null,null,1,null,0.24166666666666664,null,{"$error":"#VALUE!"},null,null,"","","","","","","","","","","","","","",1,"",null,"","",1,"","","","","","","","","","","","","",null,null,14,"Nonmotorized",0,2,2,0,null,0,2,2,0,null,0,1,2,0,null,0,1,2,0]
[15,"Nonmotorized",null,"MinNM1","Nonmotorized","WBL","MajL2","Stop far",null,{"$error":"#VALUE!"},{"$error":"#VALUE!"},{"$error":"#VALUE!"},null,0,25,"","",0.32066879346345062,null,0.72500000000000009,null,false,false,false,false,1,null,0,0.33333333333333326,null,null,null,1,null,0.24166666666666664,null,{"$error":"#VALUE!"},null,null,"","","","","","","","","","","","","","",1,"",null,"","","","",1,"","","","","","","","","","","",null,null,15,"Nonmotorized",0,2,2,0,null,0,2,2,0,null,0,1,2,0,null,0,1,2,0]
[16,"Nonmotorized",null,"MinNM1","Nonmotorized","NBL","MinL1","Stop near",null,{"$error":"#VALUE!"},{"$error":"#VALUE!"},{"$error":"#VALUE!"},null,0,15,"","",0.1205004039155782,null,0.72500000000000009,null,false,false,false,false,1,null,0,0.33333333333333326,null,null,null,1,null,0.24166666666666664,null,{"$error":"#VALUE!"},null,null,"","","","","","","","","","","","","","",1,"",null,"","","","","","","",1,"","","","","","","","",null,null,16,"Nonmotorized",0,2,2,0,null,0,2,2,0,null,0,1,0,0,null,0,1,0,0]
[17,"Nonmotorized",null,"MinNM1","Nonmotorized","NBR","MinR1","Stop near",null,{"$error":"#VALUE!"},{"$error":"#VALUE!"},{"$error":"#VALUE!"},null,0,15,"","",0.1205004039155782,null,0.72500000000000009,null,false,false,false,false,1,null,0,0.33333333333333326,null,null,null,1,null,0.24166666666666664,null,{"$error":"#VALUE!"},null,null,"",{"$f":"IF(ISNUMBER(SEARCH(AO$3,$D20)),1,\"\")","v":""},"","","","","","","","","","","","",1,"",null,"",{"$f":"IF(ISNUMBER(SEARCH(BF$3,$G20)),1,\"\")","v":""},"","","","","","",1,"","","","","","","",null,null,17,"Nonmotorized",0,2,2,0,null,0,2,2,0,null,0,1,0,0,null,0,1,0,0]
[18,"Nonmotorized",null,"MajNM2","Nonmotorized","NBR","MinR1","Stop near",null,{"$error":"#VALUE!"},{"$error":"#VALUE!"},{"$error":"#VALUE!"},null,0,15,"","",0.1205004039155782,null,0.72500000000000009,null,false,false,false,false,1,null,0,0.33333333333333326,null,null,null,1,null,0.24166666666666664,null,{"$error":"#VALUE!"},null,null,"","","","","","","","","","","","","",1,"","",null,"","","","","","","","",1,"","","","","","","",null,null,18,"Nonmotorized",2,0,0,1,null,1,0,0,1,null,2,0,0,1,null,1,0,0,1]
[19,"Nonmotorized",null,"MajNM2","Nonmotorized","EBT","MajT1","Stop far",null,{"$error":"#VALUE!"},{"$error":"#VALUE!"},{"$error":"#VALUE!"},null,0,25,"","",0.32066879346345062,null,0.72500000000000009,null,false,false,false,false,1,null,0,0.33333333333333326,null,null,null,1,null,0.24166666666666664,null,{"$error":"#VALUE!"},null,null,"","","","","","","","","","","","","",1,"","",null,1,"","","","","","","","","","","","","","","",null,null,19,"Nonmotorized",2,0,0,1,null,1,0,0,1,null,2,0,0,1,null,1,0,0,1]
[20,"Nonmotorized",null,"MajNM2","Nonmotorized","WBL","MajL2","Stop near",null,{"$error":"#VALUE!"},{"$error":"#VALUE!"},{"$error":"#VALUE!"},null,0,15,"","",0.1205004039155782,null,0.72500000000000009,null,false,false,false,false,1,null,0,0.33333333333333326,null,null,null,1,null,0.24166666666666664,null,{"$error":"#VALUE!"},null,null,"","","","","","","","","","","","","",1,"","",null,"","","","",1,"","","","","","","","","","","",null,null,20,"Nonmotorized",2,0,0,1,null,1,0,0,0,null,2,0,0,1,null,1,0,0,0]
[21,"Nonmotorized",null,"MajNM2","Nonmotorized","WBT","MajT2","Stop near",null,{"$error":"#VALUE!"},{"$error":"#VALUE!"},{"$error":"#VALUE!"},null,0,15,"","",0.1205004039155782,null,0.72500000000000009,null,false,false,false,false,1,null,0,0.33333333333333326,null,null,null,1,null,0.24166666666666664,null,{"$error":"#VALUE!"},null,null,"","","","","","","","","","","","","",1,"","",null,"","","",1,"","","","","","","","","","","","",null,null,21,"Nonmotorized",2,0,0,1,null,1,0,0,0,null,2,0,0,1,null,1,0,0,0]
[null,null,null,null,null,null,null,null,null,null,null,null,null,null,null,null,null,null,null,null,null,null,null,null,null,null,null,null,null,null,null,null,null,null,null,null,null,null,null,{"$f":"'SSI Inputs'!$D$26","v":{"$error":"#VALUE!"}},{"$f":"'SSI Inputs'!$D$27","v":{"$error":"#VALUE!"}},{"$f":"'SSI Inputs'!$D$28","v":{"$error":"#VALUE!"}},{"$f":"'SSI Inputs'!$D$30","v":{"$error":"#VALUE!"}},{"$f":"'SSI Inputs'!$D$31","v":{"$error":"#VALUE!"}},{"$f":"'SSI Inputs'!$D$32","v":{"$error":"#VALUE!"}},{"$f":"'SSI Inputs'!$D$34","v":{"$error":"#VALUE!"}},{"$f":"'SSI Inputs'!$D$35","v":{"$error":"#VALUE!"}},{"$f":"'SSI Inputs'!$D$36","v":{"$error":"#VALUE!"}},{"$f":"'SSI Inputs'!$D$38","v":{"$error":"#VALUE!"}},{"$f":"'SSI Inputs'!$D$39","v":{"$error":"#VALUE!"}},{"$f":"'SSI Inputs'!$D$40","v":{"$error":"#VALUE!"}},{"$f":"'SSI Inputs'!$Q$18","v":12.5},{"$f":"'SSI Inputs'!$Q$19","v":12.5},{"$f":"'SSI Inputs'!$Q$20","v":12.5},{"$f":"'SSI Inputs'!$Q$21","v":12.5},null,{"$f":"'SSI Inputs'!$D$26","v":{"$error":"#VALUE!"}},{"$f":"'SSI Inputs'!$D$27","v":{"$error":"#VALUE!"}},{"$f":"'SSI Inputs'!$D$28","v":{"$error":"#VALUE!"}},{"$f":"'SSI Inputs'!$D$30","v":{"$error":"#VALUE!"}},{"$f":"'SSI Inputs'!$D$31","v":{"$error":"#VALUE!"}},{"$f":"'SSI Inputs'!$D$32","v":{"$error":"#VALUE!"}},{"$f":"'SSI Inputs'!$D$34","v":{"$error":"#VALUE!"}},{"$f":"'SSI Inputs'!$D$35","v":{"$error":"#VALUE!"}},{"$f":"'SSI Inputs'!$D$36","v":{"$error":"#VALUE!"}},{"$f":"'SSI Inputs'!$D$38","v":{"$error":"#VALUE!"}},{"$f":"'SSI Inputs'!$D$39","v":{"$error":"#VALUE!"}},{"$f":"'SSI Inputs'!$D$40","v":{"$error":"#VALUE!"}},{"$f":"'SSI Inputs'!$Q$18","v":12.5},{"$f":"'SSI Inputs'!$Q$19","v":12.5},{"$f":"'SSI Inputs'!$Q$20","v":12.5},{"$f":"'SSI Inputs'!$Q$21","v":12.5}]
[null,null,null,null,null,null,null,null,null,null,null,null,null,null,null,null,null,null,null,null,null,null,null,null,null,null,null,null,null,null,null,null,null,null,null,null,null,null,"D",{"$f":"'SSI Inputs'!$E$26","v":{"$error":"#VALUE!"}},{"$f":"'SSI Inputs'!$E$27","v":{"$error":"#VALUE!"}},{"$f":"'SSI Inputs'!$E$28","v":{"$error":"#VALUE!"}},{"$f":"'SSI Inputs'!$E$30","v":{"$error":"#VALUE!"}},{"$f":"'SSI Inputs'!$E$31","v":{"$error":"#VALUE!"}},{"$f":"'SSI Inputs'!$E$32","v":{"$error":"#VALUE!"}},{"$f":"'SSI Inputs'!$E$34","v":{"$error":"#VALUE!"}},{"$f":"'SSI Inputs'!$E$35","v":{"$error":"#VALUE!"}},{"$f":"'SSI Inputs'!$E$36","v":{"$error":"#VALUE!"}},{"$f":"'SSI Inputs'!$E$38","v":{"$error":"#VALUE!"}},{"$f":"'SSI Inputs'!$E$39","v":{"$error":"#VALUE!"}},{"$f":"'SSI Inputs'!$E$40","v":{"$error":"#VALUE!"}},{"$f":"'SSI Inputs'!$R$18","v":12.5},{"$f":"'SSI Inputs'!$R$19","v":12.5},{"$f":"'SSI Inputs'!$R$20","v":12.5},{"$f":"'SSI Inputs'!$R$21","v":12.5},"D",{"$f":"'SSI Inputs'!$E$26","v":{"$error":"#VALUE!"}},{"$f":"'SSI Inputs'!$E$27","v":{"$error":"#VALUE!"}},{"$f":"'SSI Inputs'!$E$28","v":{"$error":"#VALUE!"}},{"$f":"'SSI Inputs'!$E$30","v":{"$error":"#VALUE!"}},{"$f":"'SSI Inputs'!$E$31","v":{"$error":"#VALUE!"}},{"$f":"'SSI Inputs'!$E$32","v":{"$error":"#VALUE!"}},{"$f":"'SSI Inputs'!$E$34","v":{"$error":"#VALUE!"}},{"$f":"'SSI Inputs'!$E$35","v":{"$error":"#VALUE!"}},{"$f":"'SSI Inputs'!$E$36","v":{"$error":"#VALUE!"}},{"$f":"'SSI Inputs'!$E$38","v":{"$error":"#VALUE!"}},{"$f":"'SSI Inputs'!$E$39","v":{"$error":"#VALUE!"}},{"$f":"'SSI Inputs'!$E$40","v":{"$error":"#VALUE!"}},{"$f":"'SSI Inputs'!$R$18","v":12.5},{"$f":"'SSI Inputs'!$R$19","v":12.5},{"$f":"'SSI Inputs'!$R$20","v":12.5},{"$f":"'SSI Inputs'!$R$21","v":12.5}]
[]
[]
[]
[]
[]
[]
[]
[]
[]
[]
[]
[]
[]
[]
[]
[]
[]
[]
[]
[]
[]
[]
[]
[]
[]
[]
[]
[]
[]
[]
[]
[]
[]
[]
[]
[]
[]
[]
[]
[]
[]
[]
[]
[]
[]
[]
[]
[]
[]
[]
[]
[]
[]
[]
[]
[]
[]
[]
[]
[]
[]
[]
[]
[]
[]
[]
[]
[]
[]
[]
[]
[]
[]
[]
[null,null,null,null,null,null,null,null,null,"Exposure",null,null,null,null,null,null,null,null,null,null,null,null,null,null,null,null,null,null,null,null,null,null,null,null,null,null,"Exposure-Severity-Complexity Product"]
[null,null,null,null,null,null,null,null,null,"Q1","Q2","I"]
[null,null,null,null,null,null,null,null,null,{"$f":"SUMPRODUCT($AN4:$BC4,$AN$26:$BC$26)","v":{"$error":"#VALUE!"}},{"$f":"SUMPRODUCT($BE4:$BT4,$BE$26:$BT$26)","v":{"$error":"#VALUE!"}},{"$f":"PRODUCT(J103:K103)","v":{"$error":"#VALUE!"}},null,null,null,null,null,null,null,null,null,null,null,null,null,null,null,null,null,null,null,null,null,null,null,null,{"$f":"L103*R4*AI4","v":{"$error":"#VALUE!"}}]
[null,null,null,null,null,null,null,null,null,{"$f":"SUMPRODUCT($AN5:$BC5,$AN$26:$BC$26)","v":{"$error":"#VALUE!"}},{"$f":"SUMPRODUCT($BE5:$BT5,$BE$26:$BT$26)","v":{"$error":"#VALUE!"}},{"$f":"PRODUCT(J104:K104)","v":{"$error":"#VALUE!"}},null,null,null,null,null,null,null,null,null,null,null,null,null,null,null,null,null,null,null,null,null,null,null,null,{"$f":"L104*R5*AI5","v":{"$error":"#VALUE!"}}]
[null,null,null,null,null,null,null,null,null,{"$error":"#VALUE!"},{"$error":"#VALUE!"},{"$error":"#VALUE!"},null,null,null,null,null,null,null,null,null,null,null,null,null,null,null,null,null,null,null,null,null,null,null,null,{"$error":"#VALUE!"}]
[null,null,null,null,null,null,null,null,null,{"$error":"#VALUE!"},{"$error":"#VALUE!"},{"$error":"#VALUE!"},null,null,null,null,null,null,null,null,null,null,null,null,null,null,null,null,null,null,null,null,null,null,null,null,{"$error":"#VALUE!"}]
[null,null,null,null,null,null,null,null,null,{"$error":"#VALUE!"},{"$error":"#VALUE!"},{"$error":"#VALUE!"},null,null,null,null,null,null,null,null,null,null,null,null,null,null,null,null,null,null,null,null,null,null,null,null,{"$error":"#VALUE!"}]
[null,null,null,null,null,null,null,null,null,{"$error":"#VALUE!"},{"$error":"#VALUE!"},{"$error":"#VALUE!"},null,null,null,null,null,null,null,null,null,null,null,null,null,null,null,null,null,null,null,null,null,null,null,null,{"$error":"#VALUE!"}]
[null,null,null,null,null,null,null,null,null,{"$error":"#VALUE!"},{"$error":"#VALUE!"},{"$error":"#VALUE!"},null,null,null,null,null,null,null,null,null,null,null,null,null,null,null,null,null,null,null,null,null,null,null,null,{"$error":"#VALUE!"}]
[null,null,null,null,null,null,null,null,null,{"$error":"#VALUE!"},{"$error":"#VALUE!"},{"$error":"#VALUE!"},null,null,null,null,null,null,null,null,null,null,null,null,null,null,null,null,null,null,null,null,null,null,null,null,{"$error":"#VALUE!"}]
[null,null,null,null,null,null,null,null,null,{"$error":"#VALUE!"},{"$error":"#VALUE!"},{"$error":"#VALUE!"},null,null,null,null,null,null,null,null,null,null,null,null,null,null,null,null,null,null,null,null,null,null,null,null,{"$error":"#VALUE!"}]
[null,null,null,null,null,null,null,null,null,{"$error":"#VALUE!"},{"$error":"#VALUE!"},{"$error":"#VALUE!"},null,null,null,null,null,null,null,null,null,null,null,null,null,null,null,null,null,null,null,null,null,null,null,null,{"$error":"#VALUE!"}]
[null,null,null,null,null,null,null,null,null,{"$error":"#VALUE!"},{"$error":"#VALUE!"},{"$error":"#VALUE!"},null,null,null,null,null,null,null,null,null,null,null,null,null,null,null,null,null,null,null,null,null,null,null,null,{"$error":"#VALUE!"}]
[null,null,null,null,null,null,null,null,null,{"$error":"#VALUE!"},{"$error":"#VALUE!"},{"$error":"#VALUE!"},null,null,null,null,null,null,null,null,null,null,null,null,null,null,null,null,null,null,null,null,null,null,null,null,{"$error":"#VALUE!"}]
[null,null,null,null,null,null,null,null,null,{"$error":"#VALUE!"},{"$error":"#VALUE!"},{"$error":"#VALUE!"},null,null,null,null,null,null,null,null,null,null,null,null,null,null,null,null,null,null,null,null,null,null,null,null,{"$error":"#VALUE!"}]
[null,null,null,null,null,null,null,null,null,{"$error":"#VALUE!"},{"$error":"#VALUE!"},{"$error":"#VALUE!"},null,null,null,null,null,null,null,null,null,null,null,null,null,null,null,null,null,null,null,null,null,null,null,null,{"$error":"#VALUE!"}]
[null,null,null,null,null,null,null,null,null,{"$error":"#VALUE!"},{"$error":"#VALUE!"},{"$error":"#VALUE!"},null,null,null,null,null,null,null,null,null,null,null,null,null,null,null,null,null,null,null,null,null,null,null,null,{"$error":"#VALUE!"}]
[null,null,null,null,null,null,null,null,null,{"$error":"#VALUE!"},{"$error":"#VALUE!"},{"$error":"#VALUE!"},null,null,null,null,null,null,null,null,null,null,null,null,null,null,null,null,null,null,null,null,null,null,null,null,{"$error":"#VALUE!"}]
[null,null,null,null,null,null,null,null,null,{"$error":"#VALUE!"},{"$error":"#VALUE!"},{"$error":"#VALUE!"},null,null,null,null,null,null,null,null,null,null,null,null,null,null,null,null,null,null,null,null,null,null,null,null,{"$error":"#VALUE!"}]
[null,null,null,null,null,null,null,null,null,{"$error":"#VALUE!"},{"$error":"#VALUE!"},{"$error":"#VALUE!"},null,null,null,null,null,null,null,null,null,null,null,null,null,null,null,null,null,null,null,null,null,null,null,null,{"$error":"#VALUE!"}]
[null,null,null,null,null,null,null,null,null,{"$error":"#VALUE!"},{"$error":"#VALUE!"},{"$error":"#VALUE!"},null,null,null,null,null,null,null,null,null,null,null,null,null,null,null,null,null,null,null,null,null,null,null,null,{"$error":"#VALUE!"}]
[null,null,null,null,null,null,null,null,null,{"$error":"#VALUE!"},{"$error":"#VALUE!"},{"$error":"#VALUE!"},null,null,null,null,null,null,null,null,null,null,null,null,null,null,null,null,null,null,null,null,null,null,null,null,{"$error":"#VALUE!"}]
[null,null,null,null,null,null,null,null,null,{"$error":"#VALUE!"},{"$error":"#VALUE!"},{"$error":"#VALUE!"},null,null,null,null,null,null,null,null,null,null,null,null,null,null,null,null,null,null,null,null,null,null,null,null,{"$error":"#VALUE!"}]

{"sheet":"TradT_MRSC","index":58,"n_rows":123,"n_cols":95,"rows_kept":123,"cut":false,"hidden":true,"merged":[[1,76,1,79],[1,81,1,84],[1,86,1,89],[1,91,1,94],[1,34,2,34],[1,36,2,36],[1,39,1,54],[1,56,1,71],[100,9,100,11],[100,36,101,36],[0,19,0,28],[0,30,0,32],[1,9,1,11],[1,13,1,17],[1,21,1,25],[1,27,1,28],[1,30,2,30],[1,31,2,31],[1,32,2,32]]}
[null,null,null,null,null,null,null,null,null,null,null,null,null,null,null,null,null,null,null,"Conflicting Traffic Complexity",null,null,null,null,null,null,null,null,null,null,"Pedestrian Complexity"]
[null,null,null,null,null,null,null,null,null,"Exposure",null,null,null,"Severity",null,null,null,null,null,"Traffic Control",null,"Conflicting Lanes",null,null,null,null,null,"Conflicting Speed",null,null,"Indirect Paths Indicator","Non-intuitive movements indicator","Pedestrian Complexity factor",null,"Total Complexity Multiplier",null,"Exposure-Severity-Complexity Product",null,null,"Included in Mvmt1",null,null,null,null,null,null,null,null,null,null,null,null,null,null,null,null,"Included in Mvmt2",null,null,null,null,null,null,null,null,null,null,null,null,null,null,null,null,null,null,null,"Major: No, Minor: No",null,null,null,null,"Major: Yes, Minor: No",null,null,null,null,"Major: No, Minor: Yes",null,null,null,null,"Major: Yes, Minor: Yes"]
["#","Conflict Type","Mvmt1","Mvmt1_gen","Mvmt1_SpeedCat","Mvmt2","Mvmt2_gen","Mvmt2_SpeedCat",null,"Q1","Q2","I",null,"Speed_V1","Speed_V2","Angle","delta_V","P_FSI",null,null,null,"MajC","MinC","MajM/P","MinM/P","Score",null,"Speed","Factor",null,null,null,null,null,null,null,null,null,null,"MajT1","MajL1","MajR1","MajT2","MajL2","MajR2","MinT1","MinL1","MinR1","MinT2","MinL2","MinR2","MajNM1","MajNM2","MinNM1","MinNM2",null,"MajT1","MajL1","MajR1","MajT2","MajL2","MajR2","MinT1","MinL1","MinR1","MinT2","MinL2","MinR2","MajNM1","MajNM2","MinNM1","MinNM2",null,null,"#","Conflict Type","MajC","MinC","MajM/P","MinM/P",null,"MajC","MinC","MajM/P","MinM/P",null,"MajC","MinC","MajM/P","MinM/P",null,"MajC","MinC","MajM/P","MinM/P"]
[1,"Crossing - LT","EBT","MajT1","Major thru","WBL","MajL2","Major left",null,{"$f":"SUMPRODUCT($AN4:$BC4,$AN$25:$BC$25)","v":{"$error":"#VALUE!"}},{"$f":"SUMPRODUCT($BE4:$BT4,$BE$25:$BT$25)","v":{"$error":"#VALUE!"}},{"$f":"PRODUCT(J4:K4)","v":{"$error":"#VALUE!"}},null,{"$f":"VLOOKUP(E4,SSI_AGI_Range_VehSpeed,5,FALSE)","v":0},{"$f":"VLOOKUP(H4,SSI_AGI_Range_VehSpeed,5,FALSE)","v":20},{"$f":"IF(B4=\"Nonmotorized\",\"\",VLOOKUP(B4,SSI_AGI_Range_CollAngles,5,FALSE))","v":230},{"$f":"IF(B4=\"Nonmotorized\",\"\",SQRT(N4^2+O4^2-2*N4*O4*COS(RADIANS(P4)))/2)","v":10},{"$f":"IF(B4=\"Nonmotorized\",1/(1+EXP(3.8432-0.1237*O4)),(Q4/SSI_AGI_RegAlpha)^SSI_AGI_RegK+(Q4/SSI_AGI_RegAlpha)^SSI_AGI_RegK-((Q4/SSI_AGI_RegAlpha)^SSI_AGI_RegK)*((Q4/SSI_AGI_RegAlpha)^SSI_AGI_RegK))","v":1.4431392232699444E-3},null,{"$f":"SSI_AGI_PermFactor","v":1},null,{"$f":"IF(AND(SS_AGI_MajMedian=\"No\", SS_AGI_MinMedian=\"No\"),BY4,IF(AND(SS_AGI_MajMedian=\"Yes\",SS_AGI_MinMedian=\"No\"),CD4,IF(AND(SS_AGI_MajMedian=\"No\",SS_AGI_MinMedian=\"Yes\"),CI4,IF(AND(SS_AGI_MajMedian=\"Yes\",SS_AGI_MinMedian=\"Yes\"),CN4))))","v":false},{"$f":"IF(AND(SS_AGI_MajMedian=\"No\", SS_AGI_MinMedian=\"No\"),BZ4,IF(AND(SS_AGI_MajMedian=\"Yes\",SS_AGI_MinMedian=\"No\"),CE4,IF(AND(SS_AGI_MajMedian=\"No\",SS_AGI_MinMedian=\"Yes\"),CJ4,IF(AND(SS_AGI_MajMedian=\"Yes\",SS_AGI_MinMedian=\"Yes\"),CO4))))","v":false},{"$f":"IF(AND(SS_AGI_MajMedian=\"No\", SS_AGI_MinMedian=\"No\"),CA4,IF(AND(SS_AGI_MajMedian=\"Yes\",SS_AGI_MinMedian=\"No\"),CF4,IF(AND(SS_AGI_MajMedian=\"No\",SS_AGI_MinMedian=\"Yes\"),CK4,IF(AND(SS_AGI_MajMedian=\"Yes\",SS_AGI_MinMedian=\"Yes\"),CP4))))","v":false},{"$f":"IF(AND(SS_AGI_MajMedian=\"No\", SS_AGI_MinMedian=\"No\"),CB4,IF(AND(SS_AGI_MajMedian=\"Yes\",SS_AGI_MinMedian=\"No\"),CG4,IF(AND(SS_AGI_MajMedian=\"No\",SS_AGI_MinMedian=\"Yes\"),CL4,IF(AND(SS_AGI_MajMedian=\"Yes\",SS_AGI_MinMedian=\"Yes\"),CQ4))))","v":false},{"$f":"MAX(1,IF(B4<>\"Pedestrian\",V4*SSI_AGI_MajorThruLanes+W4*SSI_AGI_MinorThruLanes+X4*IF(SSI_AGI_MajorThruLanes=1,SSI_AGI_MergeWeightL1,IF(SSI_AGI_MajorThruLanes=2,SSI_AGI_MergeWeightL1+SSI_AGI_MergeWeightL2,SSI_AGI_MergeWeightL1+SSI_AGI_MergeWeightL2+SSI_AGI_MergeWeightL3*(SSI_AGI_MajorThruLanes-2)))+Y4*IF(SSI_AGI_MinorThruLanes=1,SSI_AGI_MergeWeightL1,IF(SSI_AGI_MinorThruLanes=2,SSI_AGI_MergeWeightL1+SSI_AGI_MergeWeightL2,SSI_AGI_MergeWeightL1+SSI_AGI_MergeWeightL2+SSI_AGI_MergeWeightL3*(SSI_AGI_MinorThruLanes-2))),V4*SSI_AGI_MajorThruLanes+W4*SSI_AGI_MinorThruLanes+X4*IF(SSI_AGI_MajorThruLanes=1,SSI_AGI_NM_MergeWeightL1,IF(SSI_AGI_MajorThruLanes=2,SSI_AGI_NM_MergeWeightL1+SSI_AGI_NM_MergeWeightL2,SSI_AGI_NM_MergeWeightL1+SSI_AGI_NM_MergeWeightL2+SSI_AGI_NM_MergeWeightL3*(SSI_AGI_MajorThruLanes-2)))+Y4*IF(SSI_AGI_MinorThruLanes=1,SSI_AGI_NM_MergeWeightL1,IF(SSI_AGI_MinorThruLanes=2,SSI_AGI_NM_MergeWeightL1+SSI_AGI_NM_MergeWeightL2,SSI_AGI_NM_MergeWeightL1+SSI_AGI_NM_MergeWeightL2+SSI_AGI_NM_MergeWeightL3*(SSI_AGI_MinorThruLanes-2)))))","v":1},null,{"$f":"IF(B4=\"Diverging\",\"\",SSI_AGI_VehSpeed_MjrThru)","v":0},{"$f":"IF(B4=\"Diverging\",1,1-((60-AB4)/60*0.1/0.15))","v":0.33333333333333326},null,null,null,{"$f":"1+AE4+AF4","v":1},null,{"$f":"PRODUCT(Z4,T4,AC4,AG4)","v":0.33333333333333326},null,{"$f":"L4*R4*AI4","v":{"$error":"#VALUE!"}},null,null,{"$f":"IF(ISNUMBER(SEARCH(AN$3,$D4)),1,\"\")","v":1},{"$f":"IF(ISNUMBER(SEARCH(AO$3,$D4)),1,\"\")","v":""},"","","","","","","","","","","","","","",null,{"$f":"IF(ISNUMBER(SEARCH(BE$3,$G4)),1,\"\")","v":""},{"$f":"IF(ISNUMBER(SEARCH(BF$3,$G4)),1,\"\")","v":""},"","",1,"","","","","","","","","","","",null,null,1,"Crossing - LT",1,0,0,0,null,1,0,0,0,null,1,0,0,0,null,1,0,0,0]
[2,"Crossing - LT","WBL","MajL2","Major left","NBL","MinL1","Stop near",null,{"$error":"#VALUE!"},{"$error":"#VALUE!"},{"$f":"PRODUCT(J5:K5)","v":{"$error":"#VALUE!"}},null,20,15,230,{"$f":"IF(B5=\"Nonmotorized\",\"\",SQRT(N5^2+O5^2-2*N5*O5*COS(RADIANS(P5)))/2)","v":15.895538413434787},8.3616736100371545E-3,null,1,null,{"$f":"IF(AND(SS_AGI_MajMedian=\"No\", SS_AGI_MinMedian=\"No\"),BY5,IF(AND(SS_AGI_MajMedian=\"Yes\",SS_AGI_MinMedian=\"No\"),CD5,IF(AND(SS_AGI_MajMedian=\"No\",SS_AGI_MinMedian=\"Yes\"),CI5,IF(AND(SS_AGI_MajMedian=\"Yes\",SS_AGI_MinMedian=\"Yes\"),CN5))))","v":false},{"$f":"IF(AND(SS_AGI_MajMedian=\"No\", SS_AGI_MinMedian=\"No\"),BZ5,IF(AND(SS_AGI_MajMedian=\"Yes\",SS_AGI_MinMedian=\"No\"),CE5,IF(AND(SS_AGI_MajMedian=\"No\",SS_AGI_MinMedian=\"Yes\"),CJ5,IF(AND(SS_AGI_MajMedian=\"Yes\",SS_AGI_MinMedian=\"Yes\"),CO5))))","v":false},{"$f":"IF(AND(SS_AGI_MajMedian=\"No\", SS_AGI_MinMedian=\"No\"),CA5,IF(AND(SS_AGI_MajMedian=\"Yes\",SS_AGI_MinMedian=\"No\"),CF5,IF(AND(SS_AGI_MajMedian=\"No\",SS_AGI_MinMedian=\"Yes\"),CK5,IF(AND(SS_AGI_MajMedian=\"Yes\",SS_AGI_MinMedian=\"Yes\"),CP5))))","v":false},{"$f":"IF(AND(SS_AGI_MajMedian=\"No\", SS_AGI_MinMedian=\"No\"),CB5,IF(AND(SS_AGI_MajMedian=\"Yes\",SS_AGI_MinMedian=\"No\"),CG5,IF(AND(SS_AGI_MajMedian=\"No\",SS_AGI_MinMedian=\"Yes\"),CL5,IF(AND(SS_AGI_MajMedian=\"Yes\",SS_AGI_MinMedian=\"Yes\"),CQ5))))","v":false},1,null,0,0.33333333333333326,null,null,null,{"$f":"1+AE5+AF5","v":1},null,0.33333333333333326,null,{"$f":"L5*R5*AI5","v":{"$error":"#VALUE!"}},null,null,"","","","",1,"","","","","","","","","","","",null,"","","","","","","",1,"","","","","","","","",null,null,2,"Crossing - LT",1,0,1,0,null,1,0,0,0,null,1,0,1,0,null,1,0,0,0]
[3,"Crossing - LT","EBT","MajT1","Major thru","NBL","MinL1","Stop far",null,{"$error":"#VALUE!"},{"$error":"#VALUE!"},{"$error":"#VALUE!"},null,0,25,230,12.5,3.3637551692797594E-3,null,1,null,false,false,false,false,1,null,0,0.33333333333333326,null,null,null,1,null,0.33333333333333326,null,{"$error":"#VALUE!"},null,null,1,"","","","","","","","","","","","","","","",null,"","","","","","","",1,"","","","","","","","",null,null,3,"Crossing - LT",1,0,1,0,null,1,0,0,0,null,1,0,1,0,null,1,0,0,0]
[4,"Merging","EBR","MajR1","Major right","WBL","MajL2","Major left",null,{"$error":"#VALUE!"},{"$error":"#VALUE!"},{"$error":"#VALUE!"},null,15,20,45,7.0840654162717795,3.9022923271840544E-4,null,1,null,false,false,false,false,1,null,0,0.33333333333333326,null,null,null,1,null,0.33333333333333326,null,{"$error":"#VALUE!"},null,null,"","",1,"","","","","","","","","","","","","",null,"","","","",1,"","","","","","","","","","","",null,null,4,"Merging",1,0,0,0,null,1,0,0,0,null,1,0,0,0,null,1,0,0,0]
[5,"Merging","NBL","MinL1","Major thru","WBT","MajT2","Major thru",null,{"$error":"#VALUE!"},{"$error":"#VALUE!"},{"$error":"#VALUE!"},null,0,0,45,0,0,null,1,null,false,false,false,false,1,null,0,0.33333333333333326,null,null,null,1,null,0.33333333333333326,null,{"$error":"#VALUE!"},null,null,"","","","","","","",1,"","","","","","","","",null,"","","",1,"","","","","","","","","","","","",null,null,5,"Merging",1,0,1,0,null,0,0,1,0,null,1,0,1,0,null,0,0,1,0]
[6,"Merging","NBR","MinR1","Stop near","EBT","MajT1","Major thru",null,{"$error":"#VALUE!"},{"$error":"#VALUE!"},{"$error":"#VALUE!"},null,15,0,45,7.5,4.8454301532720461E-4,null,1,null,false,false,false,false,1,null,0,0.33333333333333326,null,null,null,1,null,0.33333333333333326,null,{"$error":"#VALUE!"},null,null,"","","","","","","","",1,"","","","","","","",null,1,"","","","","","","","","","","","","","","",null,null,6,"Merging",0,0,1,0,null,0,0,1,0,null,0,0,1,0,null,0,0,1,0]
[7,"Diverging","NBR","MinR1","Stop near","NBL","MinL1","Stop near",null,{"$error":"#VALUE!"},{"$error":"#VALUE!"},{"$error":"#VALUE!"},null,15,15,10,1.3073361412148754,6.4061388075216071E-7,null,1,null,false,false,false,false,1,null,"",1,null,null,null,1,null,1,null,{"$error":"#VALUE!"},null,null,"","","","","","","","",1,"","","","","","","",null,"","","","","","","",1,"","","","","","","","",null,null,7,"Diverging",0,0,0,0,null,0,0,0,0,null,0,0,0,0,null,0,0,0,0]
[8,"Diverging","EBR","MajR1","Major right","EBT","MajT1","Major thru",null,{"$error":"#VALUE!"},{"$error":"#VALUE!"},{"$error":"#VALUE!"},null,15,0,10,7.5,4.8454301532720461E-4,null,1,null,false,false,false,false,1,null,"",1,null,null,null,1,null,1,null,{"$error":"#VALUE!"},null,null,"","",1,"","","","","","","","","","","","","",null,1,"","","","","","","","","","","","","","","",null,null,8,"Diverging",0,0,0,0,null,0,0,0,0,null,0,0,0,0,null,0,0,0,0]
[9,"Diverging","WBL","MajL2","Major left","WBT","MajT2","Major thru",null,{"$error":"#VALUE!"},{"$error":"#VALUE!"},{"$error":"#VALUE!"},null,20,0,10,10,1.4431392232699444E-3,null,1,null,false,false,false,false,1,null,"",1,null,null,null,1,null,1,null,{"$error":"#VALUE!"},null,null,"","","","",1,"","","","","","","","","","","",null,"","","",1,"","","","","","","","","","","","",null,null,9,"Diverging",0,0,0,0,null,0,0,0,0,null,0,0,0,0,null,0,0,0,0]
[10,"Nonmotorized",null,"MajNM1","Nonmotorized","WBT","MajT2","Major thru",null,{"$error":"#VALUE!"},{"$error":"#VALUE!"},{"$error":"#VALUE!"},null,0,0,"","",2.0975532400616122E-2,null,1,null,false,false,false,false,1,null,0,0.33333333333333326,null,null,null,1,null,0.33333333333333326,null,{"$error":"#VALUE!"},null,null,"","","","","","","","","","","","",1,"","","",null,"","","",1,"","","","","","","","","","","","",null,null,10,"Nonmotorized",2,0,0,1,null,1,0,0,1,null,2,0,0,1,null,1,0,0,1]
[11,"Nonmotorized",null,"MajNM1","Nonmotorized","NBL","MinL1","Stop far",null,{"$error":"#VALUE!"},{"$error":"#VALUE!"},{"$error":"#VALUE!"},null,0,25,"","",0.32066879346345062,null,1,null,false,false,false,false,1,null,0,0.33333333333333326,null,null,null,1,null,0.33333333333333326,null,{"$error":"#VALUE!"},null,null,"","","","","","","","","","","","",1,"","","",null,"","","","","","","",1,"","","","","","","","",null,null,11,"Nonmotorized",2,0,0,1,null,1,0,0,1,null,2,0,0,1,null,1,0,0,1]
[12,"Nonmotorized",null,"MajNM1","Nonmotorized","EBT","MajT1","Major thru",null,{"$error":"#VALUE!"},{"$error":"#VALUE!"},{"$error":"#VALUE!"},null,0,0,"","",2.0975532400616122E-2,null,1,null,false,false,false,false,1,null,0,0.33333333333333326,null,null,null,1,null,0.33333333333333326,null,{"$error":"#VALUE!"},null,null,"","","","","","","","","","","","",1,"","","",null,1,"","","","","","","","","","","","","","","",null,null,12,"Nonmotorized",2,0,0,1,null,1,0,0,0,null,2,0,0,1,null,1,0,0,0]
[13,"Nonmotorized",null,"MajNM1","Nonmotorized","EBR","MajR1","Major right",null,{"$error":"#VALUE!"},{"$error":"#VALUE!"},{"$error":"#VALUE!"},null,0,15,"","",0.1205004039155782,null,1,null,false,false,false,false,1,null,0,0.33333333333333326,null,null,null,1,null,0.33333333333333326,null,{"$error":"#VALUE!"},null,null,"","","","","","","","","","","","",1,"","","",null,"","",1,"","","","","","","","","","","","","",null,null,13,"Nonmotorized",2,0,0,1,null,1,0,0,0,null,2,0,0,1,null,1,0,0,0]
[14,"Nonmotorized",null,"MinNM1","Nonmotorized","EBR","MajR1","Major right",null,{"$error":"#VALUE!"},{"$error":"#VALUE!"},{"$error":"#VALUE!"},null,0,15,"","",0.1205004039155782,null,{"$f":"SSI_AGI_StopFactor","v":0.72500000000000009},null,false,false,false,false,1,null,0,0.33333333333333326,null,null,null,1,null,0.24166666666666664,null,{"$error":"#VALUE!"},null,null,"","","","","","","","","","","","","","",1,"",null,"","",1,"","","","","","","","","","","","","",null,null,14,"Nonmotorized",0,2,2,0,null,0,2,2,0,null,0,1,2,0,null,0,1,2,0]
[15,"Nonmotorized",null,"MinNM1","Nonmotorized","WBL","MajL2","Major left",null,{"$error":"#VALUE!"},{"$error":"#VALUE!"},{"$error":"#VALUE!"},null,0,20,"","",0.20274912921655375,null,{"$f":"SSI_AGI_StopFactor","v":0.72500000000000009},null,false,false,false,false,1,null,0,0.33333333333333326,null,null,null,1,null,0.24166666666666664,null,{"$error":"#VALUE!"},null,null,"","","","","","","","","","","","","","",1,"",null,"","","","",1,"","","","","","","","","","","",null,null,15,"Nonmotorized",0,2,2,0,null,0,2,2,0,null,0,1,2,0,null,0,1,2,0]
[16,"Nonmotorized",null,"MinNM1","Nonmotorized","NBL","MinL1","Stop near",null,{"$error":"#VALUE!"},{"$error":"#VALUE!"},{"$error":"#VALUE!"},null,0,15,"","",0.1205004039155782,null,{"$f":"SSI_AGI_StopFactor","v":0.72500000000000009},null,false,false,false,false,1,null,0,0.33333333333333326,null,null,null,1,null,0.24166666666666664,null,{"$error":"#VALUE!"},null,null,"","","","","","","","","","","","","","",1,"",null,"","","","","","","",1,"","","","","","","","",null,null,16,"Nonmotorized",0,2,2,0,null,0,2,2,0,null,0,1,0,0,null,0,1,0,0]
[17,"Nonmotorized",null,"MinNM1","Nonmotorized","NBR","MinR1","Stop near",null,{"$error":"#VALUE!"},{"$error":"#VALUE!"},{"$error":"#VALUE!"},null,0,15,"","",0.1205004039155782,null,{"$f":"SSI_AGI_StopFactor","v":0.72500000000000009},null,false,false,false,false,1,null,0,0.33333333333333326,null,null,null,1,null,0.24166666666666664,null,{"$error":"#VALUE!"},null,null,"",{"$f":"IF(ISNUMBER(SEARCH(AO$3,$D20)),1,\"\")","v":""},"","","","","","","","","","","","",1,"",null,"",{"$f":"IF(ISNUMBER(SEARCH(BF$3,$G20)),1,\"\")","v":""},"","","","","","",1,"","","","","","","",null,null,17,"Nonmotorized",0,2,2,0,null,0,2,2,0,null,0,1,0,0,null,0,1,0,0]
[18,"Nonmotorized",null,"MajNM2","Nonmotorized","NBR","MinR1","Stop near",null,{"$error":"#VALUE!"},{"$error":"#VALUE!"},{"$error":"#VALUE!"},null,0,15,"","",0.1205004039155782,null,{"$f":"SSI_AGI_PermFactor","v":1},null,false,false,false,false,1,null,0,0.33333333333333326,null,null,null,1,null,0.33333333333333326,null,{"$error":"#VALUE!"},null,null,"","","","","","","","","","","","","",1,"","",null,"","","","","","","","",1,"","","","","","","",null,null,18,"Nonmotorized",2,0,0,1,null,1,0,0,1,null,2,0,0,1,null,1,0,0,1]
[19,"Nonmotorized",null,"MajNM2","Nonmotorized","EBT","MajT1","Major thru",null,{"$error":"#VALUE!"},{"$error":"#VALUE!"},{"$error":"#VALUE!"},null,0,0,"","",2.0975532400616122E-2,null,{"$f":"SSI_AGI_PermFactor","v":1},null,false,false,false,false,1,null,0,0.33333333333333326,null,null,null,1,null,0.33333333333333326,null,{"$error":"#VALUE!"},null,null,"","","","","","","","","","","","","",1,"","",null,1,"","","","","","","","","","","","","","","",null,null,19,"Nonmotorized",2,0,0,1,null,1,0,0,1,null,2,0,0,1,null,1,0,0,1]
[20,"Nonmotorized",null,"MajNM2","Nonmotorized","WBL","MajL2","Major left",null,{"$error":"#VALUE!"},{"$error":"#VALUE!"},{"$error":"#VALUE!"},null,0,20,"","",0.20274912921655375,null,{"$f":"SSI_AGI_PermFactor","v":1},null,false,false,false,false,1,null,0,0.33333333333333326,null,null,null,1,null,0.33333333333333326,null,{"$error":"#VALUE!"},null,null,"","","","","","","","","","","","","",1,"","",null,"","","","",1,"","","","","","","","","","","",null,null,20,"Nonmotorized",2,0,0,1,null,1,0,0,0,null,2,0,0,1,null,1,0,0,0]
[21,"Nonmotorized",null,"MajNM2","Nonmotorized","WBT","MajT2","Major thru",null,{"$error":"#VALUE!"},{"$error":"#VALUE!"},{"$error":"#VALUE!"},null,0,0,"","",2.0975532400616122E-2,null,{"$f":"SSI_AGI_PermFactor","v":1},null,false,false,false,false,1,null,0,0.33333333333333326,null,null,null,1,null,0.33333333333333326,null,{"$error":"#VALUE!"},null,null,"","","","","","","","","","","","","",1,"","",null,"","","",1,"","","","","","","","","","","","",null,null,21,"Nonmotorized",2,0,0,1,null,1,0,0,0,null,2,0,0,1,null,1,0,0,0]
[null,null,null,null,null,null,null,null,null,null,null,null,null,null,null,null,null,null,null,null,null,null,null,null,null,null,null,null,null,null,null,null,null,null,null,null,null,null,null,{"$f":"'SSI Inputs'!$D$26","v":{"$error":"#VALUE!"}},{"$f":"'SSI Inputs'!$D$27","v":{"$error":"#VALUE!"}},{"$f":"'SSI Inputs'!$D$28","v":{"$error":"#VALUE!"}},{"$f":"'SSI Inputs'!$D$30","v":{"$error":"#VALUE!"}},{"$f":"'SSI Inputs'!$D$31","v":{"$error":"#VALUE!"}},{"$f":"'SSI Inputs'!$D$32","v":{"$error":"#VALUE!"}},{"$f":"'SSI Inputs'!$D$34","v":{"$error":"#VALUE!"}},{"$f":"'SSI Inputs'!$D$35","v":{"$error":"#VALUE!"}},{"$f":"'SSI Inputs'!$D$36","v":{"$error":"#VALUE!"}},{"$f":"'SSI Inputs'!$D$38","v":{"$error":"#VALUE!"}},{"$f":"'SSI Inputs'!$D$39","v":{"$error":"#VALUE!"}},{"$f":"'SSI Inputs'!$D$40","v":{"$error":"#VALUE!"}},{"$f":"'SSI Inputs'!$Q$18","v":12.5},{"$f":"'SSI Inputs'!$Q$19","v":12.5},{"$f":"'SSI Inputs'!$Q$20","v":12.5},{"$f":"'SSI Inputs'!$Q$21","v":12.5},null,{"$f":"'SSI Inputs'!$D$26","v":{"$error":"#VALUE!"}},{"$f":"'SSI Inputs'!$D$27","v":{"$error":"#VALUE!"}},{"$f":"'SSI Inputs'!$D$28","v":{"$error":"#VALUE!"}},{"$f":"'SSI Inputs'!$D$30","v":{"$error":"#VALUE!"}},{"$f":"'SSI Inputs'!$D$31","v":{"$error":"#VALUE!"}},{"$f":"'SSI Inputs'!$D$32","v":{"$error":"#VALUE!"}},{"$f":"'SSI Inputs'!$D$34","v":{"$error":"#VALUE!"}},{"$f":"'SSI Inputs'!$D$35","v":{"$error":"#VALUE!"}},{"$f":"'SSI Inputs'!$D$36","v":{"$error":"#VALUE!"}},{"$f":"'SSI Inputs'!$D$38","v":{"$error":"#VALUE!"}},{"$f":"'SSI Inputs'!$D$39","v":{"$error":"#VALUE!"}},{"$f":"'SSI Inputs'!$D$40","v":{"$error":"#VALUE!"}},{"$f":"'SSI Inputs'!$Q$18","v":12.5},{"$f":"'SSI Inputs'!$Q$19","v":12.5},{"$f":"'SSI Inputs'!$Q$20","v":12.5},{"$f":"'SSI Inputs'!$Q$21","v":12.5}]
[null,null,null,null,null,null,null,null,null,null,null,null,null,null,null,null,null,null,null,null,null,null,null,null,null,null,null,null,null,null,null,null,null,null,null,null,null,null,"D",{"$f":"'SSI Inputs'!$E$26","v":{"$error":"#VALUE!"}},{"$f":"'SSI Inputs'!$E$27","v":{"$error":"#VALUE!"}},{"$f":"'SSI Inputs'!$E$28","v":{"$error":"#VALUE!"}},{"$f":"'SSI Inputs'!$E$30","v":{"$error":"#VALUE!"}},{"$f":"'SSI Inputs'!$E$31","v":{"$error":"#VALUE!"}},{"$f":"'SSI Inputs'!$E$32","v":{"$error":"#VALUE!"}},{"$f":"'SSI Inputs'!$E$34","v":{"$error":"#VALUE!"}},{"$f":"'SSI Inputs'!$E$35","v":{"$error":"#VALUE!"}},{"$f":"'SSI Inputs'!$E$36","v":{"$error":"#VALUE!"}},{"$f":"'SSI Inputs'!$E$38","v":{"$error":"#VALUE!"}},{"$f":"'SSI Inputs'!$E$39","v":{"$error":"#VALUE!"}},{"$f":"'SSI Inputs'!$E$40","v":{"$error":"#VALUE!"}},{"$f":"'SSI Inputs'!$R$18","v":12.5},{"$f":"'SSI Inputs'!$R$19","v":12.5},{"$f":"'SSI Inputs'!$R$20","v":12.5},{"$f":"'SSI Inputs'!$R$21","v":12.5},"D",{"$f":"'SSI Inputs'!$E$26","v":{"$error":"#VALUE!"}},{"$f":"'SSI Inputs'!$E$27","v":{"$error":"#VALUE!"}},{"$f":"'SSI Inputs'!$E$28","v":{"$error":"#VALUE!"}},{"$f":"'SSI Inputs'!$E$30","v":{"$error":"#VALUE!"}},{"$f":"'SSI Inputs'!$E$31","v":{"$error":"#VALUE!"}},{"$f":"'SSI Inputs'!$E$32","v":{"$error":"#VALUE!"}},{"$f":"'SSI Inputs'!$E$34","v":{"$error":"#VALUE!"}},{"$f":"'SSI Inputs'!$E$35","v":{"$error":"#VALUE!"}},{"$f":"'SSI Inputs'!$E$36","v":{"$error":"#VALUE!"}},{"$f":"'SSI Inputs'!$E$38","v":{"$error":"#VALUE!"}},{"$f":"'SSI Inputs'!$E$39","v":{"$error":"#VALUE!"}},{"$f":"'SSI Inputs'!$E$40","v":{"$error":"#VALUE!"}},{"$f":"'SSI Inputs'!$R$18","v":12.5},{"$f":"'SSI Inputs'!$R$19","v":12.5},{"$f":"'SSI Inputs'!$R$20","v":12.5},{"$f":"'SSI Inputs'!$R$21","v":12.5}]
[]
[]
[]
[]
[]
[]
[]
[]
[]
[]
[]
[]
[]
[]
[]
[]
[]
[]
[]
[]
[]
[]
[]
[]
[]
[]
[]
[]
[]
[]
[]
[]
[]
[]
[]
[]
[]
[]
[]
[]
[]
[]
[]
[]
[]
[]
[]
[]
[]
[]
[]
[]
[]
[]
[]
[]
[]
[]
[]
[]
[]
[]
[]
[]
[]
[]
[]
[]
[]
[]
[]
[]
[]
[]
[null,null,null,null,null,null,null,null,null,"Exposure",null,null,null,null,null,null,null,null,null,null,null,null,null,null,null,null,null,null,null,null,null,null,null,null,null,null,"Exposure-Severity-Complexity Product"]
[null,null,null,null,null,null,null,null,null,"Q1","Q2","I"]
[null,null,null,null,null,null,null,null,null,{"$f":"SUMPRODUCT($AN4:$BC4,$AN$26:$BC$26)","v":{"$error":"#VALUE!"}},{"$f":"SUMPRODUCT($BE4:$BT4,$BE$26:$BT$26)","v":{"$error":"#VALUE!"}},{"$f":"PRODUCT(J103:K103)","v":{"$error":"#VALUE!"}},null,null,null,null,null,null,null,null,null,null,null,null,null,null,null,null,null,null,null,null,null,null,null,null,{"$f":"L103*R4*AI4","v":{"$error":"#VALUE!"}}]
[null,null,null,null,null,null,null,null,null,{"$f":"SUMPRODUCT($AN5:$BC5,$AN$26:$BC$26)","v":{"$error":"#VALUE!"}},{"$f":"SUMPRODUCT($BE5:$BT5,$BE$26:$BT$26)","v":{"$error":"#VALUE!"}},{"$f":"PRODUCT(J104:K104)","v":{"$error":"#VALUE!"}},null,null,null,null,null,null,null,null,null,null,null,null,null,null,null,null,null,null,null,null,null,null,null,null,{"$f":"L104*R5*AI5","v":{"$error":"#VALUE!"}}]
[null,null,null,null,null,null,null,null,null,{"$error":"#VALUE!"},{"$error":"#VALUE!"},{"$error":"#VALUE!"},null,null,null,null,null,null,null,null,null,null,null,null,null,null,null,null,null,null,null,null,null,null,null,null,{"$error":"#VALUE!"}]
[null,null,null,null,null,null,null,null,null,{"$error":"#VALUE!"},{"$error":"#VALUE!"},{"$error":"#VALUE!"},null,null,null,null,null,null,null,null,null,null,null,null,null,null,null,null,null,null,null,null,null,null,null,null,{"$error":"#VALUE!"}]
[null,null,null,null,null,null,null,null,null,{"$error":"#VALUE!"},{"$error":"#VALUE!"},{"$error":"#VALUE!"},null,null,null,null,null,null,null,null,null,null,null,null,null,null,null,null,null,null,null,null,null,null,null,null,{"$error":"#VALUE!"}]
[null,null,null,null,null,null,null,null,null,{"$error":"#VALUE!"},{"$error":"#VALUE!"},{"$error":"#VALUE!"},null,null,null,null,null,null,null,null,null,null,null,null,null,null,null,null,null,null,null,null,null,null,null,null,{"$error":"#VALUE!"}]
[null,null,null,null,null,null,null,null,null,{"$error":"#VALUE!"},{"$error":"#VALUE!"},{"$error":"#VALUE!"},null,null,null,null,null,null,null,null,null,null,null,null,null,null,null,null,null,null,null,null,null,null,null,null,{"$error":"#VALUE!"}]
[null,null,null,null,null,null,null,null,null,{"$error":"#VALUE!"},{"$error":"#VALUE!"},{"$error":"#VALUE!"},null,null,null,null,null,null,null,null,null,null,null,null,null,null,null,null,null,null,null,null,null,null,null,null,{"$error":"#VALUE!"}]
[null,null,null,null,null,null,null,null,null,{"$error":"#VALUE!"},{"$error":"#VALUE!"},{"$error":"#VALUE!"},null,null,null,null,null,null,null,null,null,null,null,null,null,null,null,null,null,null,null,null,null,null,null,null,{"$error":"#VALUE!"}]
[null,null,null,null,null,null,null,null,null,{"$error":"#VALUE!"},{"$error":"#VALUE!"},{"$error":"#VALUE!"},null,null,null,null,null,null,null,null,null,null,null,null,null,null,null,null,null,null,null,null,null,null,null,null,{"$error":"#VALUE!"}]
[null,null,null,null,null,null,null,null,null,{"$error":"#VALUE!"},{"$error":"#VALUE!"},{"$error":"#VALUE!"},null,null,null,null,null,null,null,null,null,null,null,null,null,null,null,null,null,null,null,null,null,null,null,null,{"$error":"#VALUE!"}]
[null,null,null,null,null,null,null,null,null,{"$error":"#VALUE!"},{"$error":"#VALUE!"},{"$error":"#VALUE!"},null,null,null,null,null,null,null,null,null,null,null,null,null,null,null,null,null,null,null,null,null,null,null,null,{"$error":"#VALUE!"}]
[null,null,null,null,null,null,null,null,null,{"$error":"#VALUE!"},{"$error":"#VALUE!"},{"$error":"#VALUE!"},null,null,null,null,null,null,null,null,null,null,null,null,null,null,null,null,null,null,null,null,null,null,null,null,{"$error":"#VALUE!"}]
[null,null,null,null,null,null,null,null,null,{"$error":"#VALUE!"},{"$error":"#VALUE!"},{"$error":"#VALUE!"},null,null,null,null,null,null,null,null,null,null,null,null,null,null,null,null,null,null,null,null,null,null,null,null,{"$error":"#VALUE!"}]
[null,null,null,null,null,null,null,null,null,{"$error":"#VALUE!"},{"$error":"#VALUE!"},{"$error":"#VALUE!"},null,null,null,null,null,null,null,null,null,null,null,null,null,null,null,null,null,null,null,null,null,null,null,null,{"$error":"#VALUE!"}]
[null,null,null,null,null,null,null,null,null,{"$error":"#VALUE!"},{"$error":"#VALUE!"},{"$error":"#VALUE!"},null,null,null,null,null,null,null,null,null,null,null,null,null,null,null,null,null,null,null,null,null,null,null,null,{"$error":"#VALUE!"}]
[null,null,null,null,null,null,null,null,null,{"$error":"#VALUE!"},{"$error":"#VALUE!"},{"$error":"#VALUE!"},null,null,null,null,null,null,null,null,null,null,null,null,null,null,null,null,null,null,null,null,null,null,null,null,{"$error":"#VALUE!"}]
[null,null,null,null,null,null,null,null,null,{"$error":"#VALUE!"},{"$error":"#VALUE!"},{"$error":"#VALUE!"},null,null,null,null,null,null,null,null,null,null,null,null,null,null,null,null,null,null,null,null,null,null,null,null,{"$error":"#VALUE!"}]
[null,null,null,null,null,null,null,null,null,{"$error":"#VALUE!"},{"$error":"#VALUE!"},{"$error":"#VALUE!"},null,null,null,null,null,null,null,null,null,null,null,null,null,null,null,null,null,null,null,null,null,null,null,null,{"$error":"#VALUE!"}]
[null,null,null,null,null,null,null,null,null,{"$error":"#VALUE!"},{"$error":"#VALUE!"},{"$error":"#VALUE!"},null,null,null,null,null,null,null,null,null,null,null,null,null,null,null,null,null,null,null,null,null,null,null,null,{"$error":"#VALUE!"}]
[null,null,null,null,null,null,null,null,null,{"$error":"#VALUE!"},{"$error":"#VALUE!"},{"$error":"#VALUE!"},null,null,null,null,null,null,null,null,null,null,null,null,null,null,null,null,null,null,null,null,null,null,null,null,{"$error":"#VALUE!"}]

{"sheet":"CGT","index":59,"n_rows":123,"n_cols":95,"rows_kept":123,"cut":false,"hidden":true,"merged":[[100,9,100,11],[100,36,101,36],[1,9,1,11],[1,13,1,17],[1,21,1,25],[1,27,1,28],[1,30,2,30],[1,76,1,79],[1,81,1,84],[1,86,1,89],[1,91,1,94],[0,19,0,28],[0,30,0,32],[1,31,2,31],[1,32,2,32],[1,34,2,34],[1,36,2,36],[1,39,1,54],[1,56,1,71]]}
[null,null,null,null,null,null,null,null,null,null,null,null,null,null,null,null,null,null,null,"Conflicting Traffic Complexity",null,null,null,null,null,null,null,null,null,null,"Pedestrian Complexity",null,null,null,null,null,null,null,null,null,null,null,null,null,null,null,null,null,null,null,null,null,null,null,null,null,null,null,null,null,null,null,null,null,null,null,null,null,null,null,null,null,null,null,null,"* median impacts traffic compexity factor"]
[null,null,null,null,null,null,null,null,null,"Exposure",null,null,null,"Severity",null,null,null,null,null,"Traffic Control",null,"Conflicting Lanes",null,null,null,null,null,"Conflicting Speed",null,null,"Indirect Paths Indicator","Non-intuitive movements indicator","Pedestrian Complexity factor",null,"Total Complexity Multiplier",null,"Exposure-Severity-Complexity Product",null,null,"Included in Mvmt1",null,null,null,null,null,null,null,null,null,null,null,null,null,null,null,null,"Included in Mvmt2",null,null,null,null,null,null,null,null,null,null,null,null,null,null,null,null,null,null,null,"Major: No Yes, Minor: No",null,null,null,null,"Major: Yes, Minor: No",null,null,null,null,"Major: No Yes, Minor: Yes",null,null,null,null,"Major: Yes, Minor: Yes"]
["#","Conflict Type","Mvmt1","Mvmt1_gen","Mvmt1_SpeedCat","Mvmt2","Mvmt2_gen","Mvmt2_SpeedCat",null,"Q1","Q2","I",null,"Speed_V1","Speed_V2","Angle","delta_V","P_FSI",null,null,null,"MajC","MinC","MajM/P","MinM/P","Score",null,"Speed","Factor",null,null,null,null,null,null,null,null,null,null,"MajT1","MajL1","MajR1","MajT2","MajL2","MajR2","MinT1","MinL1","MinR1","MinT2","MinL2","MinR2","MajNM1","MajNM2","MinNM1","MinNM2",null,"MajT1","MajL1","MajR1","MajT2","MajL2","MajR2","MinT1","MinL1","MinR1","MinT2","MinL2","MinR2","MajNM1","MajNM2","MinNM1","MinNM2",null,null,"#","Conflict Type","MajC","MinC","MajM/P","MinM/P",null,"MajC","MinC","MajM/P","MinM/P",null,"MajC","MinC","MajM/P","MinM/P",null,"MajC","MinC","MajM/P","MinM/P"]
[1,"Crossing - LT","EBT","MajT1","Major thru","WBL","MajL2","Major left",null,{"$f":"SUMPRODUCT($AN4:$BC4,$AN$25:$BC$25)","v":{"$error":"#VALUE!"}},{"$f":"SUMPRODUCT($BE4:$BT4,$BE$25:$BT$25)","v":{"$error":"#VALUE!"}},{"$f":"PRODUCT(J4:K4)","v":{"$error":"#VALUE!"}},null,{"$f":"VLOOKUP(E4,SSI_AGI_Range_VehSpeed,5,FALSE)","v":0},{"$f":"VLOOKUP(H4,SSI_AGI_Range_VehSpeed,5,FALSE)","v":20},{"$f":"IF(B4=\"Nonmotorized\",\"\",VLOOKUP(B4,SSI_AGI_Range_CollAngles,5,FALSE))","v":230},{"$f":"IF(B4=\"Nonmotorized\",\"\",SQRT(N4^2+O4^2-2*N4*O4*COS(RADIANS(P4)))/2)","v":10},{"$f":"IF(B4=\"Nonmotorized\",1/(1+EXP(3.8432-0.1237*O4)),(Q4/SSI_AGI_RegAlpha)^SSI_AGI_RegK+(Q4/SSI_AGI_RegAlpha)^SSI_AGI_RegK-((Q4/SSI_AGI_RegAlpha)^SSI_AGI_RegK)*((Q4/SSI_AGI_RegAlpha)^SSI_AGI_RegK))","v":1.4431392232699444E-3},null,{"$f":"IF(SSI_AGI_MajorLTPhase=\"Protected/permitted\",SSI_AGI_ProtPermFactor,IF(SSI_AGI_MajorLTPhase=\"Protected\",SSI_AGI_ProtFactor,SSI_AGI_PermFactor))","v":0.92500000000000004},null,{"$f":"IF(AND(SS_AGI_MajMedian=\"No\", SS_AGI_MinMedian=\"No\"),BY4,IF(AND(SS_AGI_MajMedian=\"Yes\",SS_AGI_MinMedian=\"No\"),CD4,IF(AND(SS_AGI_MajMedian=\"No\",SS_AGI_MinMedian=\"Yes\"),CI4,IF(AND(SS_AGI_MajMedian=\"Yes\",SS_AGI_MinMedian=\"Yes\"),CN4))))","v":false},{"$f":"IF(AND(SS_AGI_MajMedian=\"No\", SS_AGI_MinMedian=\"No\"),BZ4,IF(AND(SS_AGI_MajMedian=\"Yes\",SS_AGI_MinMedian=\"No\"),CE4,IF(AND(SS_AGI_MajMedian=\"No\",SS_AGI_MinMedian=\"Yes\"),CJ4,IF(AND(SS_AGI_MajMedian=\"Yes\",SS_AGI_MinMedian=\"Yes\"),CO4))))","v":false},{"$f":"IF(AND(SS_AGI_MajMedian=\"No\", SS_AGI_MinMedian=\"No\"),CA4,IF(AND(SS_AGI_MajMedian=\"Yes\",SS_AGI_MinMedian=\"No\"),CF4,IF(AND(SS_AGI_MajMedian=\"No\",SS_AGI_MinMedian=\"Yes\"),CK4,IF(AND(SS_AGI_MajMedian=\"Yes\",SS_AGI_MinMedian=\"Yes\"),CP4))))","v":false},{"$f":"IF(AND(SS_AGI_MajMedian=\"No\", SS_AGI_MinMedian=\"No\"),CB4,IF(AND(SS_AGI_MajMedian=\"Yes\",SS_AGI_MinMedian=\"No\"),CG4,IF(AND(SS_AGI_MajMedian=\"No\",SS_AGI_MinMedian=\"Yes\"),CL4,IF(AND(SS_AGI_MajMedian=\"Yes\",SS_AGI_MinMedian=\"Yes\"),CQ4))))","v":false},{"$f":"MAX(1,IF(B4<>\"Pedestrian\",V4*SSI_AGI_MajorThruLanes+W4*SSI_AGI_MinorThruLanes+X4*IF(SSI_AGI_MajorThruLanes=1,SSI_AGI_MergeWeightL1,IF(SSI_AGI_MajorThruLanes=2,SSI_AGI_MergeWeightL1+SSI_AGI_MergeWeightL2,SSI_AGI_MergeWeightL1+SSI_AGI_MergeWeightL2+SSI_AGI_MergeWeightL3*(SSI_AGI_MajorThruLanes-2)))+Y4*IF(SSI_AGI_MinorThruLanes=1,SSI_AGI_MergeWeightL1,IF(SSI_AGI_MinorThruLanes=2,SSI_AGI_MergeWeightL1+SSI_AGI_MergeWeightL2,SSI_AGI_MergeWeightL1+SSI_AGI_MergeWeightL2+SSI_AGI_MergeWeightL3*(SSI_AGI_MinorThruLanes-2))),V4*SSI_AGI_MajorThruLanes+W4*SSI_AGI_MinorThruLanes+X4*IF(SSI_AGI_MajorThruLanes=1,SSI_AGI_NM_MergeWeightL1,IF(SSI_AGI_MajorThruLanes=2,SSI_AGI_NM_MergeWeightL1+SSI_AGI_NM_MergeWeightL2,SSI_AGI_NM_MergeWeightL1+SSI_AGI_NM_MergeWeightL2+SSI_AGI_NM_MergeWeightL3*(SSI_AGI_MajorThruLanes-2)))+Y4*IF(SSI_AGI_MinorThruLanes=1,SSI_AGI_NM_MergeWeightL1,IF(SSI_AGI_MinorThruLanes=2,SSI_AGI_NM_MergeWeightL1+SSI_AGI_NM_MergeWeightL2,SSI_AGI_NM_MergeWeightL1+SSI_AGI_NM_MergeWeightL2+SSI_AGI_NM_MergeWeightL3*(SSI_AGI_MinorThruLanes-2)))))","v":1},null,{"$f":"IF(B4=\"Diverging\",\"\",SSI_AGI_VehSpeed_MjrThru)","v":0},{"$f":"IF(B4=\"Diverging\",1,1-((60-AB4)/60*0.1/0.15))","v":0.33333333333333326},null,null,null,{"$f":"1+AE4+AF4","v":1},null,{"$f":"PRODUCT(Z4,T4,AC4,AG4)","v":0.30833333333333329},null,{"$f":"L4*R4*AI4","v":{"$error":"#VALUE!"}},null,null,{"$f":"IF(ISNUMBER(SEARCH(AN$3,$D4)),1,\"\")","v":1},{"$f":"IF(ISNUMBER(SEARCH(AO$3,$D4)),1,\"\")","v":""},"","","","","","","","","","","","","","",null,{"$f":"IF(ISNUMBER(SEARCH(BE$3,$G4)),1,\"\")","v":""},{"$f":"IF(ISNUMBER(SEARCH(BF$3,$G4)),1,\"\")","v":""},"","",1,"","","","","","","","","","","",null,null,1,"Crossing - LT",1,0,0,0,null,1,0,0,0,null,1,0,0,0,null,1,0,0,0]
[2,"Crossing - LT","WBL","MajL2","Major left","NBL","MinL1","Signal near",null,{"$error":"#VALUE!"},{"$error":"#VALUE!"},{"$f":"PRODUCT(J5:K5)","v":{"$error":"#VALUE!"}},null,20,15,230,{"$f":"IF(B5=\"Nonmotorized\",\"\",SQRT(N5^2+O5^2-2*N5*O5*COS(RADIANS(P5)))/2)","v":15.895538413434787},8.3616736100371545E-3,null,{"$f":"SSI_AGI_ProtFactor","v":0.505},null,false,false,false,false,1,null,0,0.33333333333333326,null,null,null,{"$f":"1+AE5+AF5","v":1},null,0.16833333333333331,null,{"$f":"L5*R5*AI5","v":{"$error":"#VALUE!"}},null,null,"","","","",1,"","","","","","","","","","","",null,"","","","","","","",1,"","","","","","","","",null,null,2,"Crossing - LT",1,0,0,0,null,1,0,0,0,null,1,0,0,0,null,1,0,0,0]
[3,"Crossing - LT","EBT","MajT1","Major thru","NBL","MinL1","Signal near",null,{"$error":"#VALUE!"},{"$error":"#VALUE!"},{"$error":"#VALUE!"},null,0,15,230,7.5,4.8454301532720461E-4,null,{"$f":"SSI_AGI_ProtFactor","v":0.505},null,false,false,false,false,1,null,0,0.33333333333333326,null,null,null,1,null,0.16833333333333331,null,{"$error":"#VALUE!"},null,null,1,"","","","","","","","","","","","","","","",null,"","","","","","","",1,"","","","","","","","",null,null,3,"Crossing - LT",1,0,0,0,null,1,0,0,0,null,1,0,0,0,null,1,0,0,0]
[4,"Merging","EBR","MajR1","Major right","WBL","MajL2","Major left",null,{"$error":"#VALUE!"},{"$error":"#VALUE!"},{"$error":"#VALUE!"},null,15,20,45,7.0840654162717795,3.9022923271840544E-4,null,{"$f":"IF(SSI_AGI_MajorLTPhase=\"Protected/permitted\",SSI_AGI_ProtPermFactor,IF(SSI_AGI_MajorLTPhase=\"Protected\",SSI_AGI_ProtFactor,SSI_AGI_PermFactor))","v":0.92500000000000004},null,false,false,false,false,1,null,0,0.33333333333333326,null,null,null,1,null,0.30833333333333329,null,{"$error":"#VALUE!"},null,null,"","",1,"","","","","","","","","","","","","",null,"","","","",1,"","","","","","","","","","","",null,null,4,"Merging",1,0,0,0,null,1,0,0,0,null,1,0,0,0,null,1,0,0,0]
[5,"Merging","NBL","MinL1","Signal far","WBT","MajT2","Major thru",null,{"$error":"#VALUE!"},{"$error":"#VALUE!"},{"$error":"#VALUE!"},null,25,0,45,12.5,3.3637551692797594E-3,null,{"$f":"SSI_AGI_PermFactor","v":1},null,false,false,false,false,1,null,0,0.33333333333333326,null,null,null,1,null,0.33333333333333326,null,{"$error":"#VALUE!"},null,null,"","","","","","","",1,"","","","","","","","",null,"","","",1,"","","","","","","","","","","","",null,null,5,"Merging",0,0,1,0,null,0,0,1,0,null,0,0,1,0,null,0,0,1,0]
[6,"Merging","NBR","MinR1","Signal near","EBT","MajT1","Major thru",null,{"$error":"#VALUE!"},{"$error":"#VALUE!"},{"$error":"#VALUE!"},null,15,0,45,7.5,4.8454301532720461E-4,null,{"$f":"SSI_AGI_ProtFactor","v":0.505},null,false,false,false,false,1,null,0,0.33333333333333326,null,null,null,1,null,0.16833333333333331,null,{"$error":"#VALUE!"},null,null,"","","","","","","","",1,"","","","","","","",null,1,"","","","","","","","","","","","","","","",null,null,6,"Merging",0,0,1,0,null,0,0,1,0,null,0,0,1,0,null,0,0,1,0]
[7,"Diverging","NBR","MinR1","Signal near","NBL","MinL1","Signal near",null,{"$error":"#VALUE!"},{"$error":"#VALUE!"},{"$error":"#VALUE!"},null,15,15,10,1.3073361412148754,6.4061388075216071E-7,null,{"$f":"SSI_AGI_PermFactor","v":1},null,false,false,false,false,1,null,"",1,null,null,null,1,null,1,null,{"$error":"#VALUE!"},null,null,"","","","","","","","",1,"","","","","","","",null,"","","","","","","",1,"","","","","","","","",null,null,7,"Diverging",0,0,0,0,null,0,0,0,0,null,0,0,0,0,null,0,0,0,0]
[8,"Diverging","EBR","MajR1","Major right","EBT","MajT1","Major thru",null,{"$error":"#VALUE!"},{"$error":"#VALUE!"},{"$error":"#VALUE!"},null,15,0,10,7.5,4.8454301532720461E-4,null,{"$f":"SSI_AGI_PermFactor","v":1},null,false,false,false,false,1,null,"",1,null,null,null,1,null,1,null,{"$error":"#VALUE!"},null,null,"","",1,"","","","","","","","","","","","","",null,1,"","","","","","","","","","","","","","","",null,null,8,"Diverging",0,0,0,0,null,0,0,0,0,null,0,0,0,0,null,0,0,0,0]
[9,"Diverging","WBL","MajL2","Major left","WBT","MajT2","Major thru",null,{"$error":"#VALUE!"},{"$error":"#VALUE!"},{"$error":"#VALUE!"},null,20,0,10,10,1.4431392232699444E-3,null,{"$f":"SSI_AGI_PermFactor","v":1},null,false,false,false,false,1,null,"",1,null,null,null,1,null,1,null,{"$error":"#VALUE!"},null,null,"","","","",1,"","","","","","","","","","","",null,"","","",1,"","","","","","","","","","","","",null,null,9,"Diverging",0,0,0,0,null,0,0,0,0,null,0,0,0,0,null,0,0,0,0]
[10,"Nonmotorized",null,"MajNM1","Nonmotorized","WBT","MajT2","Major thru",null,{"$error":"#VALUE!"},{"$error":"#VALUE!"},{"$error":"#VALUE!"},null,0,0,"","",2.0975532400616122E-2,null,{"$f":"SSI_AGI_ProtFactor","v":0.505},null,false,false,false,false,1,null,0,0.33333333333333326,null,null,null,1,null,0.16833333333333331,null,{"$error":"#VALUE!"},null,null,"","","","","","","","","","","","",1,"","","",null,"","","",1,"","","","","","","","","","","","",null,null,10,"Nonmotorized",1,0,0,1,null,1,0,0,1,null,1,0,0,1,null,1,0,0,1]
[11,"Nonmotorized",null,"MajNM1","Nonmotorized","NBL","MinL1","Signal far",null,{"$error":"#VALUE!"},{"$error":"#VALUE!"},{"$error":"#VALUE!"},null,0,25,"","",0.32066879346345062,null,{"$f":"IF(SSI_AGI_MinorLTPhase=\"Protected/permitted\",SSI_AGI_ProtPermFactor,IF(SSI_AGI_MinorLTPhase=\"Protected\",SSI_AGI_ProtFactor,SSI_AGI_PermFactor))","v":0.92500000000000004},null,false,false,false,false,1,null,0,0.33333333333333326,null,null,null,1,null,0.30833333333333329,null,{"$error":"#VALUE!"},null,null,"","","","","","","","","","","","",1,"","","",null,"","","","","","","",1,"","","","","","","","",null,null,11,"Nonmotorized",1,0,0,1,null,1,0,0,1,null,1,0,0,1,null,1,0,0,1]
[12,"Nonmotorized",null,"MajNM1","Nonmotorized","EBT","MajT1","Major thru",null,{"$error":"#VALUE!"},{"$error":"#VALUE!"},{"$error":"#VALUE!"},null,0,0,"","",2.0975532400616122E-2,null,{"$f":"SSI_AGI_ProtFactor","v":0.505},null,false,false,false,false,1,null,0,0.33333333333333326,null,null,null,1,null,0.16833333333333331,null,{"$error":"#VALUE!"},null,null,"","","","","","","","","","","","",1,"","","",null,1,"","","","","","","","","","","","","","","",null,null,12,"Nonmotorized",1,0,0,0,null,1,0,0,0,null,1,0,0,0,null,1,0,0,0]
[13,"Nonmotorized",null,"MajNM1","Nonmotorized","EBR","MajR1","Major right",null,{"$error":"#VALUE!"},{"$error":"#VALUE!"},{"$error":"#VALUE!"},null,0,15,"","",0.1205004039155782,null,{"$f":"SSI_AGI_ProtFactor","v":0.505},null,false,false,false,false,1,null,0,0.33333333333333326,null,null,null,1,null,0.16833333333333331,null,{"$error":"#VALUE!"},null,null,"","","","","","","","","","","","",1,"","","",null,"","",1,"","","","","","","","","","","","","",null,null,13,"Nonmotorized",1,0,0,0,null,1,0,0,0,null,1,0,0,0,null,1,0,0,0]
[14,"Nonmotorized",null,"MinNM1","Nonmotorized","EBR","MajR1","Major right",null,{"$error":"#VALUE!"},{"$error":"#VALUE!"},{"$error":"#VALUE!"},null,0,15,"","",0.1205004039155782,null,{"$f":"SSI_AGI_ProtFactor","v":0.505},null,false,false,false,false,1,null,0,0.33333333333333326,null,null,null,1,null,0.16833333333333331,null,{"$error":"#VALUE!"},null,null,"","","","","","","","","","","","","","",1,"",null,"","",1,"","","","","","","","","","","","","",null,null,14,"Nonmotorized",0,2,2,0,null,0,2,2,0,null,0,1,2,0,null,0,1,2,0]
[15,"Nonmotorized",null,"MinNM1","Nonmotorized","WBL","MajL2","Major left",null,{"$error":"#VALUE!"},{"$error":"#VALUE!"},{"$error":"#VALUE!"},null,0,20,"","",0.20274912921655375,null,{"$f":"IF(SSI_AGI_MajorLTPhase=\"Protected/permitted\",SSI_AGI_ProtPermFactor,IF(SSI_AGI_MajorLTPhase=\"Protected\",SSI_AGI_ProtFactor,SSI_AGI_PermFactor))","v":0.92500000000000004},null,false,false,false,false,1,null,0,0.33333333333333326,null,null,null,1,null,0.30833333333333329,null,{"$error":"#VALUE!"},null,null,"","","","","","","","","","","","","","",1,"",null,"","","","",1,"","","","","","","","","","","",null,null,15,"Nonmotorized",0,2,2,0,null,0,2,2,0,null,0,1,2,0,null,0,1,2,0]
[16,"Nonmotorized",null,"MinNM1","Nonmotorized","NBL","MinL1","Signal near",null,{"$error":"#VALUE!"},{"$error":"#VALUE!"},{"$error":"#VALUE!"},null,0,15,"","",0.1205004039155782,null,{"$f":"SSI_AGI_ProtFactor","v":0.505},null,false,false,false,false,1,null,0,0.33333333333333326,null,null,null,1,null,0.16833333333333331,null,{"$error":"#VALUE!"},null,null,"","","","","","","","","","","","","","",1,"",null,"","","","","","","",1,"","","","","","","","",null,null,16,"Nonmotorized",0,2,2,0,null,0,2,2,0,null,0,1,0,0,null,0,1,0,0]
[17,"Nonmotorized",null,"MinNM1","Nonmotorized","NBR","MinR1","Signal near",null,{"$error":"#VALUE!"},{"$error":"#VALUE!"},{"$error":"#VALUE!"},null,0,15,"","",0.1205004039155782,null,0.505,null,false,false,false,false,1,null,0,0.33333333333333326,null,null,null,1,null,0.16833333333333331,null,{"$error":"#VALUE!"},null,null,"",{"$f":"IF(ISNUMBER(SEARCH(AO$3,$D20)),1,\"\")","v":""},"","","","","","","","","","","","",1,"",null,"",{"$f":"IF(ISNUMBER(SEARCH(BF$3,$G20)),1,\"\")","v":""},"","","","","","",1,"","","","","","","",null,null,17,"Nonmotorized",0,2,2,0,null,0,2,2,0,null,0,1,0,0,null,0,1,0,0]
[18,"Nonmotorized",null,"MajNM2","Nonmotorized","NBR","MinR1","Signal near",null,{"$error":"#VALUE!"},{"$error":"#VALUE!"},{"$error":"#VALUE!"},null,0,15,"","",0.1205004039155782,null,0.505,null,false,false,false,false,1,null,0,0.33333333333333326,null,null,null,1,null,0.16833333333333331,null,{"$error":"#VALUE!"},null,null,"","","","","","","","","","","","","",1,"","",null,"","","","","","","","",1,"","","","","","","",null,null,18,"Nonmotorized",1,0,0,1,null,1,0,0,1,null,1,0,0,1,null,1,0,0,1]
[19,"Nonmotorized",null,"MajNM2","Nonmotorized","EBT","MajT1","Major thru",null,{"$error":"#VALUE!"},{"$error":"#VALUE!"},{"$error":"#VALUE!"},null,0,0,"","",2.0975532400616122E-2,null,0.505,null,false,false,false,false,1,null,0,0.33333333333333326,null,null,null,1,null,0.16833333333333331,null,{"$error":"#VALUE!"},null,null,"","","","","","","","","","","","","",1,"","",null,1,"","","","","","","","","","","","","","","",null,null,19,"Nonmotorized",1,0,0,1,null,1,0,0,1,null,1,0,0,1,null,1,0,0,1]
[20,"Nonmotorized",null,"MajNM2","Nonmotorized","WBL","MajL2","Major left",null,{"$error":"#VALUE!"},{"$error":"#VALUE!"},{"$error":"#VALUE!"},null,0,20,"","",0.20274912921655375,null,0.505,null,false,false,false,false,1,null,0,0.33333333333333326,null,null,null,1,null,0.16833333333333331,null,{"$error":"#VALUE!"},null,null,"","","","","","","","","","","","","",1,"","",null,"","","","",1,"","","","","","","","","","","",null,null,20,"Nonmotorized",1,0,0,0,null,1,0,0,0,null,1,0,0,0,null,1,0,0,0]
[21,"Nonmotorized",null,"MajNM2","Nonmotorized","WBT","MajT2","Major thru",null,{"$error":"#VALUE!"},{"$error":"#VALUE!"},{"$error":"#VALUE!"},null,0,0,"","",2.0975532400616122E-2,null,0.505,null,false,false,false,false,1,null,0,0.33333333333333326,null,null,null,1,null,0.16833333333333331,null,{"$error":"#VALUE!"},null,null,"","","","","","","","","","","","","",1,"","",null,"","","",1,"","","","","","","","","","","","",null,null,21,"Nonmotorized",1,0,0,0,null,1,0,0,0,null,1,0,0,0,null,1,0,0,0]
[null,null,null,null,null,null,null,null,null,null,null,null,null,null,null,null,null,null,null,null,null,null,null,null,null,null,null,null,null,null,null,null,null,null,null,null,null,null,null,{"$f":"'SSI Inputs'!$D$26","v":{"$error":"#VALUE!"}},{"$f":"'SSI Inputs'!$D$27","v":{"$error":"#VALUE!"}},{"$f":"'SSI Inputs'!$D$28","v":{"$error":"#VALUE!"}},{"$f":"'SSI Inputs'!$D$30","v":{"$error":"#VALUE!"}},{"$f":"'SSI Inputs'!$D$31","v":{"$error":"#VALUE!"}},{"$f":"'SSI Inputs'!$D$32","v":{"$error":"#VALUE!"}},{"$f":"'SSI Inputs'!$D$34","v":{"$error":"#VALUE!"}},{"$f":"'SSI Inputs'!$D$35","v":{"$error":"#VALUE!"}},{"$f":"'SSI Inputs'!$D$36","v":{"$error":"#VALUE!"}},{"$f":"'SSI Inputs'!$D$38","v":{"$error":"#VALUE!"}},{"$f":"'SSI Inputs'!$D$39","v":{"$error":"#VALUE!"}},{"$f":"'SSI Inputs'!$D$40","v":{"$error":"#VALUE!"}},{"$f":"'SSI Inputs'!$Q$18","v":12.5},{"$f":"'SSI Inputs'!$Q$19","v":12.5},{"$f":"'SSI Inputs'!$Q$20","v":12.5},{"$f":"'SSI Inputs'!$Q$21","v":12.5},null,{"$f":"'SSI Inputs'!$D$26","v":{"$error":"#VALUE!"}},{"$f":"'SSI Inputs'!$D$27","v":{"$error":"#VALUE!"}},{"$f":"'SSI Inputs'!$D$28","v":{"$error":"#VALUE!"}},{"$f":"'SSI Inputs'!$D$30","v":{"$error":"#VALUE!"}},{"$f":"'SSI Inputs'!$D$31","v":{"$error":"#VALUE!"}},{"$f":"'SSI Inputs'!$D$32","v":{"$error":"#VALUE!"}},{"$f":"'SSI Inputs'!$D$34","v":{"$error":"#VALUE!"}},{"$f":"'SSI Inputs'!$D$35","v":{"$error":"#VALUE!"}},{"$f":"'SSI Inputs'!$D$36","v":{"$error":"#VALUE!"}},{"$f":"'SSI Inputs'!$D$38","v":{"$error":"#VALUE!"}},{"$f":"'SSI Inputs'!$D$39","v":{"$error":"#VALUE!"}},{"$f":"'SSI Inputs'!$D$40","v":{"$error":"#VALUE!"}},{"$f":"'SSI Inputs'!$Q$18","v":12.5},{"$f":"'SSI Inputs'!$Q$19","v":12.5},{"$f":"'SSI Inputs'!$Q$20","v":12.5},{"$f":"'SSI Inputs'!$Q$21","v":12.5}]
[null,null,null,null,null,null,null,null,null,null,null,null,null,null,null,null,null,null,null,null,null,null,null,null,null,null,null,null,null,null,null,null,null,null,null,null,null,null,"D",{"$f":"'SSI Inputs'!$E$26","v":{"$error":"#VALUE!"}},{"$f":"'SSI Inputs'!$E$27","v":{"$error":"#VALUE!"}},{"$f":"'SSI Inputs'!$E$28","v":{"$error":"#VALUE!"}},{"$f":"'SSI Inputs'!$E$30","v":{"$error":"#VALUE!"}},{"$f":"'SSI Inputs'!$E$31","v":{"$error":"#VALUE!"}},{"$f":"'SSI Inputs'!$E$32","v":{"$error":"#VALUE!"}},{"$f":"'SSI Inputs'!$E$34","v":{"$error":"#VALUE!"}},{"$f":"'SSI Inputs'!$E$35","v":{"$error":"#VALUE!"}},{"$f":"'SSI Inputs'!$E$36","v":{"$error":"#VALUE!"}},{"$f":"'SSI Inputs'!$E$38","v":{"$error":"#VALUE!"}},{"$f":"'SSI Inputs'!$E$39","v":{"$error":"#VALUE!"}},{"$f":"'SSI Inputs'!$E$40","v":{"$error":"#VALUE!"}},{"$f":"'SSI Inputs'!$R$18","v":12.5},{"$f":"'SSI Inputs'!$R$19","v":12.5},{"$f":"'SSI Inputs'!$R$20","v":12.5},{"$f":"'SSI Inputs'!$R$21","v":12.5},"D",{"$f":"'SSI Inputs'!$E$26","v":{"$error":"#VALUE!"}},{"$f":"'SSI Inputs'!$E$27","v":{"$error":"#VALUE!"}},{"$f":"'SSI Inputs'!$E$28","v":{"$error":"#VALUE!"}},{"$f":"'SSI Inputs'!$E$30","v":{"$error":"#VALUE!"}},{"$f":"'SSI Inputs'!$E$31","v":{"$error":"#VALUE!"}},{"$f":"'SSI Inputs'!$E$32","v":{"$error":"#VALUE!"}},{"$f":"'SSI Inputs'!$E$34","v":{"$error":"#VALUE!"}},{"$f":"'SSI Inputs'!$E$35","v":{"$error":"#VALUE!"}},{"$f":"'SSI Inputs'!$E$36","v":{"$error":"#VALUE!"}},{"$f":"'SSI Inputs'!$E$38","v":{"$error":"#VALUE!"}},{"$f":"'SSI Inputs'!$E$39","v":{"$error":"#VALUE!"}},{"$f":"'SSI Inputs'!$E$40","v":{"$error":"#VALUE!"}},{"$f":"'SSI Inputs'!$R$18","v":12.5},{"$f":"'SSI Inputs'!$R$19","v":12.5},{"$f":"'SSI Inputs'!$R$20","v":12.5},{"$f":"'SSI Inputs'!$R$21","v":12.5}]
[]
[]
[]
[]
[]
[]
[]
[]
[]
[]
[]
[]
[]
[]
[]
[]
[]
[]
[]
[]
[]
[]
[]
[]
[]
[]
[]
[]
[]
[]
[]
[]
[]
[]
[]
[]
[]
[]
[]
[]
[]
[]
[]
[]
[]
[]
[]
[]
[]
[]
[]
[]
[]
[]
[]
[]
[]
[]
[]
[]
[]
[]
[]
[]
[]
[]
[]
[]
[]
[]
[]
[]
[]
[]
[null,null,null,null,null,null,null,null,null,"Exposure",null,null,null,null,null,null,null,null,null,null,null,null,null,null,null,null,null,null,null,null,null,null,null,null,null,null,"Exposure-Severity-Complexity Product"]
[null,null,null,null,null,null,null,null,null,"Q1","Q2","I"]
[null,null,null,null,null,null,null,null,null,{"$f":"SUMPRODUCT($AN4:$BC4,$AN$26:$BC$26)","v":{"$error":"#VALUE!"}},{"$f":"SUMPRODUCT($BE4:$BT4,$BE$26:$BT$26)","v":{"$error":"#VALUE!"}},{"$f":"PRODUCT(J103:K103)","v":{"$error":"#VALUE!"}},null,null,null,null,null,null,null,null,null,null,null,null,null,null,null,null,null,null,null,null,null,null,null,null,{"$f":"L103*R4*AI4","v":{"$error":"#VALUE!"}}]
[null,null,null,null,null,null,null,null,null,{"$f":"SUMPRODUCT($AN5:$BC5,$AN$26:$BC$26)","v":{"$error":"#VALUE!"}},{"$f":"SUMPRODUCT($BE5:$BT5,$BE$26:$BT$26)","v":{"$error":"#VALUE!"}},{"$f":"PRODUCT(J104:K104)","v":{"$error":"#VALUE!"}},null,null,null,null,null,null,null,null,null,null,null,null,null,null,null,null,null,null,null,null,null,null,null,null,{"$f":"L104*R5*AI5","v":{"$error":"#VALUE!"}}]
[null,null,null,null,null,null,null,null,null,{"$error":"#VALUE!"},{"$error":"#VALUE!"},{"$error":"#VALUE!"},null,null,null,null,null,null,null,null,null,null,null,null,null,null,null,null,null,null,null,null,null,null,null,null,{"$error":"#VALUE!"}]
[null,null,null,null,null,null,null,null,null,{"$error":"#VALUE!"},{"$error":"#VALUE!"},{"$error":"#VALUE!"},null,null,null,null,null,null,null,null,null,null,null,null,null,null,null,null,null,null,null,null,null,null,null,null,{"$error":"#VALUE!"}]
[null,null,null,null,null,null,null,null,null,{"$error":"#VALUE!"},{"$error":"#VALUE!"},{"$error":"#VALUE!"},null,null,null,null,null,null,null,null,null,null,null,null,null,null,null,null,null,null,null,null,null,null,null,null,{"$error":"#VALUE!"}]
[null,null,null,null,null,null,null,null,null,{"$error":"#VALUE!"},{"$error":"#VALUE!"},{"$error":"#VALUE!"},null,null,null,null,null,null,null,null,null,null,null,null,null,null,null,null,null,null,null,null,null,null,null,null,{"$error":"#VALUE!"}]
[null,null,null,null,null,null,null,null,null,{"$error":"#VALUE!"},{"$error":"#VALUE!"},{"$error":"#VALUE!"},null,null,null,null,null,null,null,null,null,null,null,null,null,null,null,null,null,null,null,null,null,null,null,null,{"$error":"#VALUE!"}]
[null,null,null,null,null,null,null,null,null,{"$error":"#VALUE!"},{"$error":"#VALUE!"},{"$error":"#VALUE!"},null,null,null,null,null,null,null,null,null,null,null,null,null,null,null,null,null,null,null,null,null,null,null,null,{"$error":"#VALUE!"}]
[null,null,null,null,null,null,null,null,null,{"$error":"#VALUE!"},{"$error":"#VALUE!"},{"$error":"#VALUE!"},null,null,null,null,null,null,null,null,null,null,null,null,null,null,null,null,null,null,null,null,null,null,null,null,{"$error":"#VALUE!"}]
[null,null,null,null,null,null,null,null,null,{"$error":"#VALUE!"},{"$error":"#VALUE!"},{"$error":"#VALUE!"},null,null,null,null,null,null,null,null,null,null,null,null,null,null,null,null,null,null,null,null,null,null,null,null,{"$error":"#VALUE!"}]
[null,null,null,null,null,null,null,null,null,{"$error":"#VALUE!"},{"$error":"#VALUE!"},{"$error":"#VALUE!"},null,null,null,null,null,null,null,null,null,null,null,null,null,null,null,null,null,null,null,null,null,null,null,null,{"$error":"#VALUE!"}]
[null,null,null,null,null,null,null,null,null,{"$error":"#VALUE!"},{"$error":"#VALUE!"},{"$error":"#VALUE!"},null,null,null,null,null,null,null,null,null,null,null,null,null,null,null,null,null,null,null,null,null,null,null,null,{"$error":"#VALUE!"}]
[null,null,null,null,null,null,null,null,null,{"$error":"#VALUE!"},{"$error":"#VALUE!"},{"$error":"#VALUE!"},null,null,null,null,null,null,null,null,null,null,null,null,null,null,null,null,null,null,null,null,null,null,null,null,{"$error":"#VALUE!"}]
[null,null,null,null,null,null,null,null,null,{"$error":"#VALUE!"},{"$error":"#VALUE!"},{"$error":"#VALUE!"},null,null,null,null,null,null,null,null,null,null,null,null,null,null,null,null,null,null,null,null,null,null,null,null,{"$error":"#VALUE!"}]
[null,null,null,null,null,null,null,null,null,{"$error":"#VALUE!"},{"$error":"#VALUE!"},{"$error":"#VALUE!"},null,null,null,null,null,null,null,null,null,null,null,null,null,null,null,null,null,null,null,null,null,null,null,null,{"$error":"#VALUE!"}]
[null,null,null,null,null,null,null,null,null,{"$error":"#VALUE!"},{"$error":"#VALUE!"},{"$error":"#VALUE!"},null,null,null,null,null,null,null,null,null,null,null,null,null,null,null,null,null,null,null,null,null,null,null,null,{"$error":"#VALUE!"}]
[null,null,null,null,null,null,null,null,null,{"$error":"#VALUE!"},{"$error":"#VALUE!"},{"$error":"#VALUE!"},null,null,null,null,null,null,null,null,null,null,null,null,null,null,null,null,null,null,null,null,null,null,null,null,{"$error":"#VALUE!"}]
[null,null,null,null,null,null,null,null,null,{"$error":"#VALUE!"},{"$error":"#VALUE!"},{"$error":"#VALUE!"},null,null,null,null,null,null,null,null,null,null,null,null,null,null,null,null,null,null,null,null,null,null,null,null,{"$error":"#VALUE!"}]
[null,null,null,null,null,null,null,null,null,{"$error":"#VALUE!"},{"$error":"#VALUE!"},{"$error":"#VALUE!"},null,null,null,null,null,null,null,null,null,null,null,null,null,null,null,null,null,null,null,null,null,null,null,null,{"$error":"#VALUE!"}]
[null,null,null,null,null,null,null,null,null,{"$error":"#VALUE!"},{"$error":"#VALUE!"},{"$error":"#VALUE!"},null,null,null,null,null,null,null,null,null,null,null,null,null,null,null,null,null,null,null,null,null,null,null,null,{"$error":"#VALUE!"}]
[null,null,null,null,null,null,null,null,null,{"$error":"#VALUE!"},{"$error":"#VALUE!"},{"$error":"#VALUE!"},null,null,null,null,null,null,null,null,null,null,null,null,null,null,null,null,null,null,null,null,null,null,null,null,{"$error":"#VALUE!"}]

{"sheet":"T_PDLT","index":60,"n_rows":123,"n_cols":72,"rows_kept":123,"cut":false,"hidden":true,"merged":[[1,34,2,34],[1,36,2,36],[1,39,1,54],[1,56,1,71],[100,9,100,11],[100,36,101,36],[0,19,0,28],[0,30,0,32],[1,9,1,11],[1,13,1,17],[1,21,1,25],[1,27,1,28],[1,30,2,30],[1,31,2,31],[1,32,2,32]]}
[null,null,null,null,null,null,null,null,null,null,null,null,null,null,null,null,null,null,null,"Conflicting Traffic Complexity",null,null,null,null,null,null,null,null,null,null,"Pedestrian Complexity"]
[null,null,null,null,null,null,null,null,null,"Exposure",null,null,null,"Severity",null,null,null,null,null,"Traffic Control",null,"Conflicting Lanes",null,null,null,null,null,"Conflicting Speed",null,null,"Indirect Paths Indicator","Non-intuitive movements indicator","Pedestrian Complexity factor",null,"Total Complexity Multiplier",null,"Exposure-Severity-Complexity Product",null,null,"Included in Mvmt1",null,null,null,null,null,null,null,null,null,null,null,null,null,null,null,null,"Included in Mvmt2"]
["#","Conflict Type","Mvmt1","Mvmt1_gen","Mvmt1_SpeedCat","Mvmt2","Mvmt2_gen","Mvmt2_SpeedCat",null,"Q1","Q2","I",null,"Speed_V1","Speed_V2","Angle","delta_V","P_FSI",null,null,null,"MajC","MinC","MajM/P","MinM/P","Score",null,"Speed","Factor",null,null,null,null,null,null,null,null,null,null,"MajT1","MajL1","MajR1","MajT2","MajL2","MajR2","MinT1","MinL1","MinR1","MinT2","MinL2","MinR2","MajNM1","MajNM2","MinNM1","MinNM2",null,"MajT1","MajL1","MajR1","MajT2","MajL2","MajR2","MinT1","MinL1","MinR1","MinT2","MinL2","MinR2","MajNM1","MajNM2","MinNM1","MinNM2"]
[1,"Crossing - LT","EBT","MajT1","Major thru","WBL","MajL2","Major left",null,{"$f":"SUMPRODUCT($AN4:$BC4,$AN$25:$BC$25)","v":{"$error":"#VALUE!"}},{"$f":"SUMPRODUCT($BE4:$BT4,$BE$25:$BT$25)","v":{"$error":"#VALUE!"}},{"$f":"PRODUCT(J4:K4)","v":{"$error":"#VALUE!"}},null,{"$f":"VLOOKUP(E4,SSI_AGI_Range_VehSpeed,5,FALSE)","v":0},{"$f":"VLOOKUP(H4,SSI_AGI_Range_VehSpeed,5,FALSE)","v":20},{"$f":"IF(B4=\"Nonmotorized\",\"\",VLOOKUP(B4,SSI_AGI_Range_CollAngles,5,FALSE))","v":230},{"$f":"IF(B4=\"Nonmotorized\",\"\",SQRT(N4^2+O4^2-2*N4*O4*COS(RADIANS(P4)))/2)","v":10},{"$f":"IF(B4=\"Nonmotorized\",1/(1+EXP(3.8432-0.1237*O4)),(Q4/SSI_AGI_RegAlpha)^SSI_AGI_RegK+(Q4/SSI_AGI_RegAlpha)^SSI_AGI_RegK-((Q4/SSI_AGI_RegAlpha)^SSI_AGI_RegK)*((Q4/SSI_AGI_RegAlpha)^SSI_AGI_RegK))","v":1.4431392232699444E-3},null,{"$f":"SSI_AGI_ProtFactor","v":0.505},null,1,null,null,null,{"$f":"MAX(1,IF(B4<>\"Pedestrian\",V4*SSI_AGI_MajorThruLanes+W4*SSI_AGI_MinorThruLanes+X4*IF(SSI_AGI_MajorThruLanes=1,SSI_AGI_MergeWeightL1,IF(SSI_AGI_MajorThruLanes=2,SSI_AGI_MergeWeightL1+SSI_AGI_MergeWeightL2,SSI_AGI_MergeWeightL1+SSI_AGI_MergeWeightL2+SSI_AGI_MergeWeightL3*(SSI_AGI_MajorThruLanes-2)))+Y4*IF(SSI_AGI_MinorThruLanes=1,SSI_AGI_MergeWeightL1,IF(SSI_AGI_MinorThruLanes=2,SSI_AGI_MergeWeightL1+SSI_AGI_MergeWeightL2,SSI_AGI_MergeWeightL1+SSI_AGI_MergeWeightL2+SSI_AGI_MergeWeightL3*(SSI_AGI_MinorThruLanes-2))),V4*SSI_AGI_MajorThruLanes+W4*SSI_AGI_MinorThruLanes+X4*IF(SSI_AGI_MajorThruLanes=1,SSI_AGI_NM_MergeWeightL1,IF(SSI_AGI_MajorThruLanes=2,SSI_AGI_NM_MergeWeightL1+SSI_AGI_NM_MergeWeightL2,SSI_AGI_NM_MergeWeightL1+SSI_AGI_NM_MergeWeightL2+SSI_AGI_NM_MergeWeightL3*(SSI_AGI_MajorThruLanes-2)))+Y4*IF(SSI_AGI_MinorThruLanes=1,SSI_AGI_NM_MergeWeightL1,IF(SSI_AGI_MinorThruLanes=2,SSI_AGI_NM_MergeWeightL1+SSI_AGI_NM_MergeWeightL2,SSI_AGI_NM_MergeWeightL1+SSI_AGI_NM_MergeWeightL2+SSI_AGI_NM_MergeWeightL3*(SSI_AGI_MinorThruLanes-2)))))","v":1},null,{"$f":"IF(B4=\"Diverging\",\"\",SSI_AGI_VehSpeed_MjrThru)","v":0},{"$f":"IF(B4=\"Diverging\",1,1-((60-AB4)/60*0.1/0.15))","v":0.33333333333333326},null,null,null,{"$f":"1+AE4+AF4","v":1},null,{"$f":"PRODUCT(Z4,T4,AC4,AG4)","v":0.16833333333333331},null,{"$f":"L4*R4*AI4","v":{"$error":"#VALUE!"}},null,null,{"$f":"IF(ISNUMBER(SEARCH(AN$3,$D4)),1,\"\")","v":1},{"$f":"IF(ISNUMBER(SEARCH(AO$3,$D4)),1,\"\")","v":""},"","","","","","","","","","","","","","",null,{"$f":"IF(ISNUMBER(SEARCH(BE$3,$G4)),1,\"\")","v":""},{"$f":"IF(ISNUMBER(SEARCH(BF$3,$G4)),1,\"\")","v":""},"","",1,"","","","","","","","","","",""]
[2,"Crossing - LT","WBL","MajL2","Major left","NBL","MinL1","Signal near",null,{"$error":"#VALUE!"},{"$error":"#VALUE!"},{"$f":"PRODUCT(J5:K5)","v":{"$error":"#VALUE!"}},null,20,15,230,{"$f":"IF(B5=\"Nonmotorized\",\"\",SQRT(N5^2+O5^2-2*N5*O5*COS(RADIANS(P5)))/2)","v":15.895538413434787},8.3616736100371545E-3,null,{"$f":"SSI_AGI_ProtFactor","v":0.505},null,1,null,1,null,1,null,0,0.33333333333333326,null,null,null,{"$f":"1+AE5+AF5","v":1},null,0.16833333333333331,null,{"$f":"L5*R5*AI5","v":{"$error":"#VALUE!"}},null,null,"","","","",1,"","","","","","","","","","","",null,"","","","","","","",1,"","","","","","","",""]
[3,"Crossing - LT","EBT","MajT1","Major thru","NBL","MinL1","Signal near",null,{"$error":"#VALUE!"},{"$error":"#VALUE!"},{"$error":"#VALUE!"},null,0,15,230,7.5,4.8454301532720461E-4,null,{"$f":"SSI_AGI_ProtFactor","v":0.505},null,1,null,1,null,1,null,0,0.33333333333333326,null,null,null,1,null,0.16833333333333331,null,{"$error":"#VALUE!"},null,null,1,"","","","","","","","","","","","","","","",null,"","","","","","","",1,"","","","","","","",""]
[4,"Merging","EBR","MajR1","Major right","WBL","MajL2","Major left",null,{"$error":"#VALUE!"},{"$error":"#VALUE!"},{"$error":"#VALUE!"},null,15,20,45,7.0840654162717795,3.9022923271840544E-4,null,{"$f":"SSI_AGI_PermFactor","v":1},null,1,null,null,null,1,null,0,0.33333333333333326,null,null,null,1,null,0.33333333333333326,null,{"$error":"#VALUE!"},null,null,"","",1,"","","","","","","","","","","","","",null,"","","","",1,"","","","","","","","","","",""]
[5,"Merging","NBL","MinL1","Signal far","WBT","MajT2","Major thru",null,{"$error":"#VALUE!"},{"$error":"#VALUE!"},{"$error":"#VALUE!"},null,25,0,45,12.5,3.3637551692797594E-3,null,{"$f":"SSI_AGI_ProtFactor","v":0.505},null,1,null,1,null,1,null,0,0.33333333333333326,null,null,null,1,null,0.16833333333333331,null,{"$error":"#VALUE!"},null,null,"","","","","","","",1,"","","","","","","","",null,"","","",1,"","","","","","","","","","","",""]
[6,"Merging","NBR","MinR1","Signal far","EBT","MajT1","Major thru",null,{"$error":"#VALUE!"},{"$error":"#VALUE!"},{"$error":"#VALUE!"},null,25,0,45,12.5,3.3637551692797594E-3,null,{"$f":"SSI_AGI_PermFactor","v":1},null,null,null,1,null,1,null,0,0.33333333333333326,null,null,null,1,null,0.33333333333333326,null,{"$error":"#VALUE!"},null,null,"","","","","","","","",1,"","","","","","","",null,1,"","","","","","","","","","","","","","",""]
[7,"Diverging","NBR","MinR1","Signal near","NBL","MinL1","Signal near",null,{"$error":"#VALUE!"},{"$error":"#VALUE!"},{"$error":"#VALUE!"},null,15,15,10,1.3073361412148754,6.4061388075216071E-7,null,{"$f":"SSI_AGI_PermFactor","v":1},null,null,null,null,null,1,null,"",1,null,null,null,1,null,1,null,{"$error":"#VALUE!"},null,null,"","","","","","","","",1,"","","","","","","",null,"","","","","","","",1,"","","","","","","",""]
[8,"Diverging","EBR","MajR1","Major right","EBT","MajT1","Major thru",null,{"$error":"#VALUE!"},{"$error":"#VALUE!"},{"$error":"#VALUE!"},null,15,0,10,7.5,4.8454301532720461E-4,null,{"$f":"SSI_AGI_PermFactor","v":1},null,null,null,null,null,1,null,"",1,null,null,null,1,null,1,null,{"$error":"#VALUE!"},null,null,"","",1,"","","","","","","","","","","","","",null,1,"","","","","","","","","","","","","","",""]
[9,"Diverging","WBL","MajL2","Major left","WBT","MajT2","Major thru",null,{"$error":"#VALUE!"},{"$error":"#VALUE!"},{"$error":"#VALUE!"},null,20,0,10,10,1.4431392232699444E-3,null,{"$f":"SSI_AGI_PermFactor","v":1},null,null,null,null,null,1,null,"",1,null,null,null,1,null,1,null,{"$error":"#VALUE!"},null,null,"","","","",1,"","","","","","","","","","","",null,"","","",1,"","","","","","","","","","","",""]
[10,"Nonmotorized",null,"MajNM1","Nonmotorized","WBT","MajT2","Major thru",null,{"$error":"#VALUE!"},{"$error":"#VALUE!"},{"$error":"#VALUE!"},null,0,0,"","",2.0975532400616122E-2,null,{"$f":"SSI_AGI_ProtFactor","v":0.505},null,1,null,null,1,1,null,0,0.33333333333333326,null,null,null,1,null,0.16833333333333331,null,{"$error":"#VALUE!"},null,null,"","","","","","","","","","","","",1,"","","",null,"","","",1,"","","","","","","","","","","",""]
[11,"Nonmotorized",null,"MajNM1","Nonmotorized","NBL","MinL1","Signal far",null,{"$error":"#VALUE!"},{"$error":"#VALUE!"},{"$error":"#VALUE!"},null,0,25,"","",0.32066879346345062,null,{"$f":"SSI_AGI_ProtFactor","v":0.505},null,1,null,null,1,1,null,0,0.33333333333333326,null,null,null,1,null,0.16833333333333331,null,{"$error":"#VALUE!"},null,null,"","","","","","","","","","","","",1,"","","",null,"","","","","","","",1,"","","","","","","",""]
[12,"Nonmotorized",null,"MajNM1","Nonmotorized","EBT","MajT1","Major thru",null,{"$error":"#VALUE!"},{"$error":"#VALUE!"},{"$error":"#VALUE!"},null,0,0,"","",2.0975532400616122E-2,null,{"$f":"SSI_AGI_ProtFactor","v":0.505},null,1,null,null,null,1,null,0,0.33333333333333326,null,null,null,1,null,0.16833333333333331,null,{"$error":"#VALUE!"},null,null,"","","","","","","","","","","","",1,"","","",null,1,"","","","","","","","","","","","","","",""]
[13,"Nonmotorized",null,"MajNM1","Nonmotorized","EBR","MajR1","Major right",null,{"$error":"#VALUE!"},{"$error":"#VALUE!"},{"$error":"#VALUE!"},null,0,15,"","",0.1205004039155782,null,{"$f":"SSI_AGI_ProtFactor","v":0.505},null,1,null,null,null,1,null,0,0.33333333333333326,null,null,null,1,null,0.16833333333333331,null,{"$error":"#VALUE!"},null,null,"","","","","","","","","","","","",1,"","","",null,"","",1,"","","","","","","","","","","","",""]
[14,"Nonmotorized",null,"MinNM1","Nonmotorized","EBR","MajR1","Major right",null,{"$error":"#VALUE!"},{"$error":"#VALUE!"},{"$error":"#VALUE!"},null,0,15,"","",0.1205004039155782,null,{"$f":"SSI_AGI_PermFactor","v":1},null,1,null,null,null,1,null,0,0.33333333333333326,null,null,null,1,null,0.33333333333333326,null,{"$error":"#VALUE!"},null,null,"","","","","","","","","","","","","","",1,"",null,"","",1,"","","","","","","","","","","","",""]
[15,"Nonmotorized",null,"MinNM1","Nonmotorized","WBL","MajL2","Major left",null,{"$error":"#VALUE!"},{"$error":"#VALUE!"},{"$error":"#VALUE!"},null,0,20,"","",0.20274912921655375,null,{"$f":"SSI_AGI_ProtFactor","v":0.505},null,null,2,1,null,1,null,0,0.33333333333333326,null,null,null,1,null,0.16833333333333331,null,{"$error":"#VALUE!"},null,null,"","","","","","","","","","","","","","",1,"",null,"","","","",1,"","","","","","","","","","",""]
[16,"Nonmotorized",null,"MinNM1","Nonmotorized","NBL","MinL1","Signal near",null,{"$error":"#VALUE!"},{"$error":"#VALUE!"},{"$error":"#VALUE!"},null,0,15,"","",0.1205004039155782,null,{"$f":"SSI_AGI_ProtFactor","v":0.505},null,null,2,1,null,1,null,0,0.33333333333333326,null,null,null,1,null,0.16833333333333331,null,{"$error":"#VALUE!"},null,null,"","","","","","","","","","","","","","",1,"",null,"","","","","","","",1,"","","","","","","",""]
[17,"Nonmotorized",null,"MinNM1","Nonmotorized","NBR","MinR1","Signal near",null,{"$error":"#VALUE!"},{"$error":"#VALUE!"},{"$error":"#VALUE!"},null,0,15,"","",0.1205004039155782,null,{"$f":"SSI_AGI_ProtFactor","v":0.505},null,null,2,1,null,1,null,0,0.33333333333333326,null,null,null,1,null,0.16833333333333331,null,{"$error":"#VALUE!"},null,null,"",{"$f":"IF(ISNUMBER(SEARCH(AO$3,$D20)),1,\"\")","v":""},"","","","","","","","","","","","",1,"",null,"",{"$f":"IF(ISNUMBER(SEARCH(BF$3,$G20)),1,\"\")","v":""},"","","","","","",1,"","","","","","",""]
[18,"Nonmotorized",null,"MajNM2","Nonmotorized","NBR","MinR1","Signal near",null,{"$error":"#VALUE!"},{"$error":"#VALUE!"},{"$error":"#VALUE!"},null,0,15,"","",0.1205004039155782,null,{"$f":"SSI_AGI_PermFactor","v":1},null,null,1,null,null,1,null,{"$f":"IF(B21=\"Diverging\",\"\",SSI_AGI_VehSpeed_MnrThru)","v":0},0.33333333333333326,null,null,1,2,null,0.66666666666666652,null,{"$error":"#VALUE!"},null,null,"","","","","","","","","","","","","",1,"","",null,"","","","","","","","",1,"","","","","","",""]
[19,"Nonmotorized",null,"MajNM2","Nonmotorized","EBT","MajT1","Major left",null,{"$error":"#VALUE!"},{"$error":"#VALUE!"},{"$error":"#VALUE!"},null,0,20,"","",0.20274912921655375,null,{"$f":"SSI_AGI_ProtFactor","v":0.505},null,2,null,null,null,1,null,{"$f":"IF(B22=\"Diverging\",\"\",SSI_AGI_VehSpeed_MjrThru)","v":0},0.33333333333333326,null,null,1,2,null,0.33666666666666661,null,{"$error":"#VALUE!"},null,null,"","","","","","","","","","","","","",1,"","",null,1,"","","","","","","","","","","","","","",""]
[20,"Nonmotorized",null,"MajNM2","Nonmotorized","WBL","MajL2","Major thru",null,{"$error":"#VALUE!"},{"$error":"#VALUE!"},{"$error":"#VALUE!"},null,0,0,"","",2.0975532400616122E-2,null,{"$f":"SSI_AGI_ProtFactor","v":0.505},null,2,null,null,null,1,null,{"$f":"IF(B23=\"Diverging\",\"\",SSI_AGI_VehSpeed_MjrThru)","v":0},0.33333333333333326,null,null,1,2,null,0.33666666666666661,null,{"$error":"#VALUE!"},null,null,"","","","","","","","","","","","","",1,"","",null,"","","","",1,"","","","","","","","","","",""]
[21,"Nonmotorized",null,"MajNM2","Nonmotorized","WBT","MajT2","Major thru",null,{"$error":"#VALUE!"},{"$error":"#VALUE!"},{"$error":"#VALUE!"},null,0,0,"","",2.0975532400616122E-2,null,{"$f":"SSI_AGI_ProtFactor","v":0.505},null,2,null,null,null,1,null,{"$f":"IF(B24=\"Diverging\",\"\",SSI_AGI_VehSpeed_MjrThru)","v":0},0.33333333333333326,null,null,1,2,null,0.33666666666666661,null,{"$error":"#VALUE!"},null,null,"","","","","","","","","","","","","",1,"","",null,"","","",1,"","","","","","","","","","","",""]
[null,null,null,null,null,null,null,null,null,null,null,null,null,null,null,null,null,null,null,null,null,null,null,null,null,null,null,null,null,null,null,null,null,null,null,null,null,null,null,{"$f":"'SSI Inputs'!$D$26","v":{"$error":"#VALUE!"}},{"$f":"'SSI Inputs'!$D$27","v":{"$error":"#VALUE!"}},{"$f":"'SSI Inputs'!$D$28","v":{"$error":"#VALUE!"}},{"$f":"'SSI Inputs'!$D$30","v":{"$error":"#VALUE!"}},{"$f":"'SSI Inputs'!$D$31","v":{"$error":"#VALUE!"}},{"$f":"'SSI Inputs'!$D$32","v":{"$error":"#VALUE!"}},{"$f":"'SSI Inputs'!$D$34","v":{"$error":"#VALUE!"}},{"$f":"'SSI Inputs'!$D$35","v":{"$error":"#VALUE!"}},{"$f":"'SSI Inputs'!$D$36","v":{"$error":"#VALUE!"}},{"$f":"'SSI Inputs'!$D$38","v":{"$error":"#VALUE!"}},{"$f":"'SSI Inputs'!$D$39","v":{"$error":"#VALUE!"}},{"$f":"'SSI Inputs'!$D$40","v":{"$error":"#VALUE!"}},{"$f":"'SSI Inputs'!$Q$18","v":12.5},{"$f":"'SSI Inputs'!$Q$19","v":12.5},{"$f":"'SSI Inputs'!$Q$20","v":12.5},{"$f":"'SSI Inputs'!$Q$21","v":12.5},null,{"$f":"'SSI Inputs'!$D$26","v":{"$error":"#VALUE!"}},{"$f":"'SSI Inputs'!$D$27","v":{"$error":"#VALUE!"}},{"$f":"'SSI Inputs'!$D$28","v":{"$error":"#VALUE!"}},{"$f":"'SSI Inputs'!$D$30","v":{"$error":"#VALUE!"}},{"$f":"'SSI Inputs'!$D$31","v":{"$error":"#VALUE!"}},{"$f":"'SSI Inputs'!$D$32","v":{"$error":"#VALUE!"}},{"$f":"'SSI Inputs'!$D$34","v":{"$error":"#VALUE!"}},{"$f":"'SSI Inputs'!$D$35","v":{"$error":"#VALUE!"}},{"$f":"'SSI Inputs'!$D$36","v":{"$error":"#VALUE!"}},{"$f":"'SSI Inputs'!$D$38","v":{"$error":"#VALUE!"}},{"$f":"'SSI Inputs'!$D$39","v":{"$error":"#VALUE!"}},{"$f":"'SSI Inputs'!$D$40","v":{"$error":"#VALUE!"}},{"$f":"'SSI Inputs'!$Q$18","v":12.5},{"$f":"'SSI Inputs'!$Q$19","v":12.5},{"$f":"'SSI Inputs'!$Q$20","v":12.5},{"$f":"'SSI Inputs'!$Q$21","v":12.5}]
[null,null,null,null,null,null,null,null,null,null,null,null,null,null,null,null,null,null,null,null,null,null,null,null,null,null,null,null,null,null,null,null,null,null,null,null,null,null,"D",{"$f":"'SSI Inputs'!$E$26","v":{"$error":"#VALUE!"}},{"$f":"'SSI Inputs'!$E$27","v":{"$error":"#VALUE!"}},{"$f":"'SSI Inputs'!$E$28","v":{"$error":"#VALUE!"}},{"$f":"'SSI Inputs'!$E$30","v":{"$error":"#VALUE!"}},{"$f":"'SSI Inputs'!$E$31","v":{"$error":"#VALUE!"}},{"$f":"'SSI Inputs'!$E$32","v":{"$error":"#VALUE!"}},{"$f":"'SSI Inputs'!$E$34","v":{"$error":"#VALUE!"}},{"$f":"'SSI Inputs'!$E$35","v":{"$error":"#VALUE!"}},{"$f":"'SSI Inputs'!$E$36","v":{"$error":"#VALUE!"}},{"$f":"'SSI Inputs'!$E$38","v":{"$error":"#VALUE!"}},{"$f":"'SSI Inputs'!$E$39","v":{"$error":"#VALUE!"}},{"$f":"'SSI Inputs'!$E$40","v":{"$error":"#VALUE!"}},{"$f":"'SSI Inputs'!$R$18","v":12.5},{"$f":"'SSI Inputs'!$R$19","v":12.5},{"$f":"'SSI Inputs'!$R$20","v":12.5},{"$f":"'SSI Inputs'!$R$21","v":12.5},"D",{"$f":"'SSI Inputs'!$E$26","v":{"$error":"#VALUE!"}},{"$f":"'SSI Inputs'!$E$27","v":{"$error":"#VALUE!"}},{"$f":"'SSI Inputs'!$E$28","v":{"$error":"#VALUE!"}},{"$f":"'SSI Inputs'!$E$30","v":{"$error":"#VALUE!"}},{"$f":"'SSI Inputs'!$E$31","v":{"$error":"#VALUE!"}},{"$f":"'SSI Inputs'!$E$32","v":{"$error":"#VALUE!"}},{"$f":"'SSI Inputs'!$E$34","v":{"$error":"#VALUE!"}},{"$f":"'SSI Inputs'!$E$35","v":{"$error":"#VALUE!"}},{"$f":"'SSI Inputs'!$E$36","v":{"$error":"#VALUE!"}},{"$f":"'SSI Inputs'!$E$38","v":{"$error":"#VALUE!"}},{"$f":"'SSI Inputs'!$E$39","v":{"$error":"#VALUE!"}},{"$f":"'SSI Inputs'!$E$40","v":{"$error":"#VALUE!"}},{"$f":"'SSI Inputs'!$R$18","v":12.5},{"$f":"'SSI Inputs'!$R$19","v":12.5},{"$f":"'SSI Inputs'!$R$20","v":12.5},{"$f":"'SSI Inputs'!$R$21","v":12.5}]
[]
[]
[]
[]
[]
[]
[]
[]
[]
[]
[]
[]
[]
[]
[]
[]
[]
[]
[]
[]
[]
[]
[]
[]
[]
[]
[]
[]
[]
[]
[]
[]
[]
[]
[]
[]
[]
[]
[]
[]
[]
[]
[]
[]
[]
[]
[]
[]
[]
[]
[]
[]
[]
[]
[]
[]
[]
[]
[]
[]
[]
[]
[]
[]
[]
[]
[]
[]
[]
[]
[]
[]
[]
[]
[null,null,null,null,null,null,null,null,null,"Exposure",null,null,null,null,null,null,null,null,null,null,null,null,null,null,null,null,null,null,null,null,null,null,null,null,null,null,"Exposure-Severity-Complexity Product"]
[null,null,null,null,null,null,null,null,null,"Q1","Q2","I"]
[null,null,null,null,null,null,null,null,null,{"$f":"SUMPRODUCT($AN4:$BC4,$AN$26:$BC$26)","v":{"$error":"#VALUE!"}},{"$f":"SUMPRODUCT($BE4:$BT4,$BE$26:$BT$26)","v":{"$error":"#VALUE!"}},{"$f":"PRODUCT(J103:K103)","v":{"$error":"#VALUE!"}},null,null,null,null,null,null,null,null,null,null,null,null,null,null,null,null,null,null,null,null,null,null,null,null,{"$f":"L103*R4*AI4","v":{"$error":"#VALUE!"}}]
[null,null,null,null,null,null,null,null,null,{"$f":"SUMPRODUCT($AN5:$BC5,$AN$26:$BC$26)","v":{"$error":"#VALUE!"}},{"$f":"SUMPRODUCT($BE5:$BT5,$BE$26:$BT$26)","v":{"$error":"#VALUE!"}},{"$f":"PRODUCT(J104:K104)","v":{"$error":"#VALUE!"}},null,null,null,null,null,null,null,null,null,null,null,null,null,null,null,null,null,null,null,null,null,null,null,null,{"$f":"L104*R5*AI5","v":{"$error":"#VALUE!"}}]
[null,null,null,null,null,null,null,null,null,{"$error":"#VALUE!"},{"$error":"#VALUE!"},{"$error":"#VALUE!"},null,null,null,null,null,null,null,null,null,null,null,null,null,null,null,null,null,null,null,null,null,null,null,null,{"$error":"#VALUE!"}]
[null,null,null,null,null,null,null,null,null,{"$error":"#VALUE!"},{"$error":"#VALUE!"},{"$error":"#VALUE!"},null,null,null,null,null,null,null,null,null,null,null,null,null,null,null,null,null,null,null,null,null,null,null,null,{"$error":"#VALUE!"}]
[null,null,null,null,null,null,null,null,null,{"$error":"#VALUE!"},{"$error":"#VALUE!"},{"$error":"#VALUE!"},null,null,null,null,null,null,null,null,null,null,null,null,null,null,null,null,null,null,null,null,null,null,null,null,{"$error":"#VALUE!"}]
[null,null,null,null,null,null,null,null,null,{"$error":"#VALUE!"},{"$error":"#VALUE!"},{"$error":"#VALUE!"},null,null,null,null,null,null,null,null,null,null,null,null,null,null,null,null,null,null,null,null,null,null,null,null,{"$error":"#VALUE!"}]
[null,null,null,null,null,null,null,null,null,{"$error":"#VALUE!"},{"$error":"#VALUE!"},{"$error":"#VALUE!"},null,null,null,null,null,null,null,null,null,null,null,null,null,null,null,null,null,null,null,null,null,null,null,null,{"$error":"#VALUE!"}]
[null,null,null,null,null,null,null,null,null,{"$error":"#VALUE!"},{"$error":"#VALUE!"},{"$error":"#VALUE!"},null,null,null,null,null,null,null,null,null,null,null,null,null,null,null,null,null,null,null,null,null,null,null,null,{"$error":"#VALUE!"}]
[null,null,null,null,null,null,null,null,null,{"$error":"#VALUE!"},{"$error":"#VALUE!"},{"$error":"#VALUE!"},null,null,null,null,null,null,null,null,null,null,null,null,null,null,null,null,null,null,null,null,null,null,null,null,{"$error":"#VALUE!"}]
[null,null,null,null,null,null,null,null,null,{"$error":"#VALUE!"},{"$error":"#VALUE!"},{"$error":"#VALUE!"},null,null,null,null,null,null,null,null,null,null,null,null,null,null,null,null,null,null,null,null,null,null,null,null,{"$error":"#VALUE!"}]
[null,null,null,null,null,null,null,null,null,{"$error":"#VALUE!"},{"$error":"#VALUE!"},{"$error":"#VALUE!"},null,null,null,null,null,null,null,null,null,null,null,null,null,null,null,null,null,null,null,null,null,null,null,null,{"$error":"#VALUE!"}]
[null,null,null,null,null,null,null,null,null,{"$error":"#VALUE!"},{"$error":"#VALUE!"},{"$error":"#VALUE!"},null,null,null,null,null,null,null,null,null,null,null,null,null,null,null,null,null,null,null,null,null,null,null,null,{"$error":"#VALUE!"}]
[null,null,null,null,null,null,null,null,null,{"$error":"#VALUE!"},{"$error":"#VALUE!"},{"$error":"#VALUE!"},null,null,null,null,null,null,null,null,null,null,null,null,null,null,null,null,null,null,null,null,null,null,null,null,{"$error":"#VALUE!"}]
[null,null,null,null,null,null,null,null,null,{"$error":"#VALUE!"},{"$error":"#VALUE!"},{"$error":"#VALUE!"},null,null,null,null,null,null,null,null,null,null,null,null,null,null,null,null,null,null,null,null,null,null,null,null,{"$error":"#VALUE!"}]
[null,null,null,null,null,null,null,null,null,{"$error":"#VALUE!"},{"$error":"#VALUE!"},{"$error":"#VALUE!"},null,null,null,null,null,null,null,null,null,null,null,null,null,null,null,null,null,null,null,null,null,null,null,null,{"$error":"#VALUE!"}]
[null,null,null,null,null,null,null,null,null,{"$error":"#VALUE!"},{"$error":"#VALUE!"},{"$error":"#VALUE!"},null,null,null,null,null,null,null,null,null,null,null,null,null,null,null,null,null,null,null,null,null,null,null,null,{"$error":"#VALUE!"}]
[null,null,null,null,null,null,null,null,null,{"$error":"#VALUE!"},{"$error":"#VALUE!"},{"$error":"#VALUE!"},null,null,null,null,null,null,null,null,null,null,null,null,null,null,null,null,null,null,null,null,null,null,null,null,{"$error":"#VALUE!"}]
[null,null,null,null,null,null,null,null,null,{"$error":"#VALUE!"},{"$error":"#VALUE!"},{"$error":"#VALUE!"},null,null,null,null,null,null,null,null,null,null,null,null,null,null,null,null,null,null,null,null,null,null,null,null,{"$error":"#VALUE!"}]
[null,null,null,null,null,null,null,null,null,{"$error":"#VALUE!"},{"$error":"#VALUE!"},{"$error":"#VALUE!"},null,null,null,null,null,null,null,null,null,null,null,null,null,null,null,null,null,null,null,null,null,null,null,null,{"$error":"#VALUE!"}]
[null,null,null,null,null,null,null,null,null,{"$error":"#VALUE!"},{"$error":"#VALUE!"},{"$error":"#VALUE!"},null,null,null,null,null,null,null,null,null,null,null,null,null,null,null,null,null,null,null,null,null,null,null,null,{"$error":"#VALUE!"}]
[null,null,null,null,null,null,null,null,null,{"$error":"#VALUE!"},{"$error":"#VALUE!"},{"$error":"#VALUE!"},null,null,null,null,null,null,null,null,null,null,null,null,null,null,null,null,null,null,null,null,null,null,null,null,{"$error":"#VALUE!"}]

{"sheet":"T_1x1_RAB","index":61,"n_rows":116,"n_cols":72,"rows_kept":116,"cut":false,"hidden":true,"merged":[[1,34,2,34],[1,36,2,36],[1,39,1,54],[1,56,1,71],[100,9,100,11],[100,36,101,36],[0,19,0,28],[0,30,0,32],[1,9,1,11],[1,13,1,17],[1,21,1,25],[1,27,1,28],[1,30,2,30],[1,31,2,31],[1,32,2,32]]}
[null,null,null,null,null,null,null,null,null,null,null,null,null,null,null,null,null,null,null,"Conflicting Traffic Complexity",null,null,null,null,null,null,null,null,null,null,"Pedestrian Complexity"]
[null,null,null,null,null,null,null,null,null,"Exposure",null,null,null,"Severity",null,null,null,null,null,"Traffic Control",null,"Conflicting Lanes",null,null,null,null,null,"Conflicting Speed",null,null,"Indirect Paths Indicator","Non-intuitive movements indicator","Pedestrian Complexity factor",null,"Total Complexity Multiplier",null,"Exposure-Severity-Complexity Product",null,null,"Included in Mvmt1",null,null,null,null,null,null,null,null,null,null,null,null,null,null,null,null,"Included in Mvmt2"]
["#","Conflict Type","Mvmt1","Mvmt1_gen","Mvmt1_SpeedCat","Mvmt2","Mvmt2_gen","Mvmt2_SpeedCat",null,"Q1","Q2","I",null,"Speed_V1","Speed_V2","Angle","delta_V","P_FSI",null,null,null,"MajC","MinC","MajM/P","MinM/P","Score",null,"Speed","Factor",null,null,null,null,null,null,null,null,null,null,"MajT1","MajL1","MajR1","MajT2","MajL2","MajR2","MinT1","MinL1","MinR1","MinT2","MinL2","MinR2","MajNM1","MajNM2","MinNM1","MinNM2",null,"MajT1","MajL1","MajR1","MajT2","MajL2","MajR2","MinT1","MinL1","MinR1","MinT2","MinL2","MinR2","MajNM1","MajNM2","MinNM1","MinNM2"]
[1,"Crossing - RAB","EBT","MajT1","RAB Entering","WBL","MajL2","RAB Exiting",null,{"$f":"SUMPRODUCT($AN4:$BC4,$AN$18:$BC$18)","v":{"$error":"#VALUE!"}},{"$f":"SUMPRODUCT($BE4:$BT4,$BE$18:$BT$18)","v":{"$error":"#VALUE!"}},{"$f":"PRODUCT(J4:K4)","v":{"$error":"#VALUE!"}},null,{"$f":"VLOOKUP(E4,SSI_AGI_Range_VehSpeed,5,FALSE)","v":25},{"$f":"VLOOKUP(H4,SSI_AGI_Range_VehSpeed,5,FALSE)","v":30},{"$f":"IF(B4=\"Nonmotorized\",\"\",VLOOKUP(B4,SSI_AGI_Range_CollAngles,5,FALSE))","v":60},{"$f":"IF(B4=\"Nonmotorized\",\"\",SQRT(N4^2+O4^2-2*N4*O4*COS(RADIANS(P4)))/2)","v":13.919410907075054},{"$f":"IF(B4=\"Nonmotorized\",1/(1+EXP(3.8432-0.1237*O4)),(Q4/SSI_AGI_RegAlpha)^SSI_AGI_RegK+(Q4/SSI_AGI_RegAlpha)^SSI_AGI_RegK-((Q4/SSI_AGI_RegAlpha)^SSI_AGI_RegK)*((Q4/SSI_AGI_RegAlpha)^SSI_AGI_RegK))","v":5.0568987822489503E-3},null,{"$f":"SSI_AGI_PermFactor","v":1},null,null,null,null,null,1,null,{"$f":"IF(B4=\"Diverging\",\"\",SSI_AGI_VehSpeed_RABCirc)","v":25},{"$f":"IF(B4=\"Diverging\",1,1-((60-AB4)/60*0.1/0.15))","v":0.61111111111111105},null,null,null,{"$f":"1+AE4+AF4","v":1},null,{"$f":"PRODUCT(Z4,T4,AC4,AG4)","v":0.61111111111111105},null,{"$f":"L4*R4*AI4","v":{"$error":"#VALUE!"}},null,null,{"$f":"IF(ISNUMBER(SEARCH(AN$3,$D4)),1,\"\")","v":1},{"$f":"IF(ISNUMBER(SEARCH(AO$3,$D4)),1,\"\")","v":""},"","","","","","","","","","","","","","",null,{"$f":"IF(ISNUMBER(SEARCH(BE$3,$G4)),1,\"\")","v":""},{"$f":"IF(ISNUMBER(SEARCH(BF$3,$G4)),1,\"\")","v":""},"","",1,"","","","","","","","","","",""]
[2,"Crossing - RAB","EBT","MajT1","RAB Exiting","NBL","MinL1","RAB Entering",null,{"$error":"#VALUE!"},{"$error":"#VALUE!"},{"$f":"PRODUCT(J5:K5)","v":{"$error":"#VALUE!"}},null,30,25,60,{"$f":"IF(B5=\"Nonmotorized\",\"\",SQRT(N5^2+O5^2-2*N5*O5*COS(RADIANS(P5)))/2)","v":13.919410907075054},5.0568987822489503E-3,null,1,null,null,null,null,null,1,null,25,0.61111111111111105,null,null,null,{"$f":"1+AE5+AF5","v":1},null,0.61111111111111105,null,{"$f":"L5*R5*AI5","v":{"$error":"#VALUE!"}},null,null,{"$f":"IF(ISNUMBER(SEARCH(AN$3,$D5)),1,\"\")","v":1},"","","","","","","","","","","","","","","",null,{"$f":"IF(ISNUMBER(SEARCH(BE$3,$G5)),1,\"\")","v":""},"","","","","","",1,"","","","","","","",""]
[3,"Merging","WBT, WBL","MajT2, MajL2","RAB Entering","NBL","MinL1","RAB Circulating",null,{"$error":"#VALUE!"},{"$error":"#VALUE!"},{"$error":"#VALUE!"},null,25,25,45,9.5670858091272439,1.2201154392262267E-3,null,1,null,null,null,null,null,1,null,25,0.61111111111111105,null,null,null,1,null,0.61111111111111105,null,{"$error":"#VALUE!"},null,null,"","","",1,1,"","","","","","","","","","","",null,"","","","","","","",1,"","","","","","","",""]
[4,"Merging","EBR","MajR1","RAB Entering","WBL","MajL2","RAB Exiting",null,{"$error":"#VALUE!"},{"$error":"#VALUE!"},{"$error":"#VALUE!"},null,25,30,45,10.774272924659215,1.9149308964743091E-3,null,1,null,null,null,null,null,1,null,25,0.61111111111111105,null,null,null,1,null,0.61111111111111105,null,{"$error":"#VALUE!"},null,null,"","",1,"","","","","","","","","","","","","",null,"","","","",1,"","","","","","","","","","",""]
[5,"Merging","EBT","MajT1","RAB Exiting","NBR","MinR1","RAB Entering",null,{"$error":"#VALUE!"},{"$error":"#VALUE!"},{"$error":"#VALUE!"},null,30,25,45,10.774272924659215,1.9149308964743091E-3,null,1,null,null,null,null,null,1,null,25,0.61111111111111105,null,null,null,1,null,0.61111111111111105,null,{"$error":"#VALUE!"},null,null,1,"","","","","","","","","","","","","","","",null,"","","","","","","","",1,"","","","","","",""]
[6,"Diverging","EBT,NBL","MajT2, MinL1","RAB Exiting","WBL","MajL2","RAB Circulating",null,{"$error":"#VALUE!"},{"$error":"#VALUE!"},{"$error":"#VALUE!"},null,30,25,10,3.4564566568122888,2.5632912055290634E-5,null,1,null,null,null,null,null,1,null,"",1,null,null,null,1,null,1,null,{"$error":"#VALUE!"},null,null,"","","",1,"","","",1,"","","","","","","","",null,"","","","",1,"","","","","","","","","","",""]
[7,"Diverging","EBT","MajT1","RAB Entering","EBR","MajR1","RAB Entering",null,{"$error":"#VALUE!"},{"$error":"#VALUE!"},{"$error":"#VALUE!"},null,25,25,10,2.1788935686914574,4.4504203221236063E-6,null,1,null,null,null,null,null,1,null,"",1,null,null,null,1,null,1,null,{"$error":"#VALUE!"},null,null,1,"","","","","","","","","","","","","","","",null,"","",1,"","","","","","","","","","","","",""]
[8,"Diverging","NBL","MinL1","RAB Entering","NBR","MinR1","RAB Entering",null,{"$error":"#VALUE!"},{"$error":"#VALUE!"},{"$error":"#VALUE!"},null,25,25,10,2.1788935686914574,4.4504203221236063E-6,null,1,null,null,null,null,null,1,null,"",1,null,null,null,1,null,1,null,{"$error":"#VALUE!"},null,null,"","","","","","","",1,"","","","","","","","",null,"","","","","","","","",1,"","","","","","",""]
[9,"Nonmotorized",null,"MajNM1","Nonmotorized","WB Exiting","MajT2, MinL1","RAB Exiting",null,{"$error":"#VALUE!"},{"$error":"#VALUE!"},{"$error":"#VALUE!"},null,0,30,"","",0.46699805015542578,null,1,null,null,null,null,null,1,null,{"$f":"IF(B12=\"Diverging\",\"\",SSI_AGI_VehSpeed_RABExit)","v":30},0.66666666666666663,null,1,null,2,null,1.3333333333333333,null,{"$error":"#VALUE!"},null,null,"","","","","","","","","","","","",1,"","","",null,"","","",1,"","","",1,"","","","","","","",""]
[10,"Nonmotorized",null,"MajNM1","Nonmotorized","EB Entering","MajT1, MajR1","RAB Entering",null,{"$error":"#VALUE!"},{"$error":"#VALUE!"},{"$error":"#VALUE!"},null,0,25,"","",0.32066879346345062,null,1,null,null,null,null,null,1,null,{"$f":"IF(B13=\"Diverging\",\"\",SSI_AGI_VehSpeed_RABEnter)","v":25},0.61111111111111105,null,1,null,2,null,1.2222222222222221,null,{"$error":"#VALUE!"},null,null,"","","","","","","","","","","","",1,"","","",null,1,"",1,"","","","","","","","","","","","",""]
[11,"Nonmotorized",null,"MinNM1","Nonmotorized","SB Exiting","MajR1, MajL2","RAB Exiting",null,{"$error":"#VALUE!"},{"$error":"#VALUE!"},{"$error":"#VALUE!"},null,0,30,"","",0.46699805015542578,null,1,null,null,null,null,null,1,null,{"$f":"IF(B14=\"Diverging\",\"\",SSI_AGI_VehSpeed_RABExit)","v":30},0.66666666666666663,null,1,null,2,null,1.3333333333333333,null,{"$error":"#VALUE!"},null,null,"","","","","","","","","","","","","","",1,"",null,"","",1,"",1,"","","","","","","","","","",""]
[12,"Nonmotorized",null,"MinNM1","Nonmotorized","NB Entering","MinL1, MinR1","RAB Entering",null,{"$error":"#VALUE!"},{"$error":"#VALUE!"},{"$error":"#VALUE!"},null,0,25,"","",0.32066879346345062,null,1,null,null,null,null,null,1,null,{"$f":"IF(B15=\"Diverging\",\"\",SSI_AGI_VehSpeed_RABEnter)","v":25},0.61111111111111105,null,1,null,2,null,1.2222222222222221,null,{"$error":"#VALUE!"},null,null,"","","","","","","","","","","","","","",1,"",null,"","","","","","","",1,1,"","","","","","",""]
[13,"Nonmotorized",null,"MajNM2","Nonmotorized","EB Exiting","MajT1, MinR1","RAB Exiting",null,{"$error":"#VALUE!"},{"$error":"#VALUE!"},{"$error":"#VALUE!"},null,0,30,"","",0.46699805015542578,null,1,null,null,null,null,null,1,null,{"$f":"IF(B16=\"Diverging\",\"\",SSI_AGI_VehSpeed_RABExit)","v":30},0.66666666666666663,null,1,null,2,null,1.3333333333333333,null,{"$error":"#VALUE!"},null,null,"","","","","","","","","","","","","",1,"","",null,1,"","","","","","","",1,"","","","","","",""]
[14,"Nonmotorized",null,"MajNM2","Nonmotorized","WB Entering","MajT2, MajL2","RAB Entering",null,{"$error":"#VALUE!"},{"$error":"#VALUE!"},{"$error":"#VALUE!"},null,0,25,"","",0.32066879346345062,null,1,null,null,null,null,null,1,null,{"$f":"IF(B17=\"Diverging\",\"\",SSI_AGI_VehSpeed_RABEnter)","v":25},0.61111111111111105,null,1,null,2,null,1.2222222222222221,null,{"$error":"#VALUE!"},null,null,"","","","","","","","","","","","","",1,"","",null,"","","",1,1,"","","","","","","","","","",""]
[null,null,null,null,null,null,null,null,null,null,null,null,null,null,null,null,null,null,null,null,null,null,null,null,null,null,null,null,null,null,null,null,null,null,null,null,null,null,null,{"$f":"'SSI Inputs'!$D$26","v":{"$error":"#VALUE!"}},{"$f":"'SSI Inputs'!$D$27","v":{"$error":"#VALUE!"}},{"$f":"'SSI Inputs'!$D$28","v":{"$error":"#VALUE!"}},{"$f":"'SSI Inputs'!$D$30","v":{"$error":"#VALUE!"}},{"$f":"'SSI Inputs'!$D$31","v":{"$error":"#VALUE!"}},{"$f":"'SSI Inputs'!$D$32","v":{"$error":"#VALUE!"}},{"$f":"'SSI Inputs'!$D$34","v":{"$error":"#VALUE!"}},{"$f":"'SSI Inputs'!$D$35","v":{"$error":"#VALUE!"}},{"$f":"'SSI Inputs'!$D$36","v":{"$error":"#VALUE!"}},{"$f":"'SSI Inputs'!$D$38","v":{"$error":"#VALUE!"}},{"$f":"'SSI Inputs'!$D$39","v":{"$error":"#VALUE!"}},{"$f":"'SSI Inputs'!$D$40","v":{"$error":"#VALUE!"}},{"$f":"'SSI Inputs'!$Q$18","v":12.5},{"$f":"'SSI Inputs'!$Q$19","v":12.5},{"$f":"'SSI Inputs'!$Q$20","v":12.5},{"$f":"'SSI Inputs'!$Q$21","v":12.5},null,{"$f":"'SSI Inputs'!$D$26","v":{"$error":"#VALUE!"}},{"$f":"'SSI Inputs'!$D$27","v":{"$error":"#VALUE!"}},{"$f":"'SSI Inputs'!$D$28","v":{"$error":"#VALUE!"}},{"$f":"'SSI Inputs'!$D$30","v":{"$error":"#VALUE!"}},{"$f":"'SSI Inputs'!$D$31","v":{"$error":"#VALUE!"}},{"$f":"'SSI Inputs'!$D$32","v":{"$error":"#VALUE!"}},{"$f":"'SSI Inputs'!$D$34","v":{"$error":"#VALUE!"}},{"$f":"'SSI Inputs'!$D$35","v":{"$error":"#VALUE!"}},{"$f":"'SSI Inputs'!$D$36","v":{"$error":"#VALUE!"}},{"$f":"'SSI Inputs'!$D$38","v":{"$error":"#VALUE!"}},{"$f":"'SSI Inputs'!$D$39","v":{"$error":"#VALUE!"}},{"$f":"'SSI Inputs'!$D$40","v":{"$error":"#VALUE!"}},{"$f":"'SSI Inputs'!$Q$18","v":12.5},{"$f":"'SSI Inputs'!$Q$19","v":12.5},{"$f":"'SSI Inputs'!$Q$20","v":12.5},{"$f":"'SSI Inputs'!$Q$21","v":12.5}]
[null,null,null,null,null,null,null,null,null,null,null,null,null,null,null,null,null,null,null,null,null,null,null,null,null,null,null,null,null,null,null,null,null,null,null,null,null,null,"D",{"$f":"'SSI Inputs'!$E$26","v":{"$error":"#VALUE!"}},{"$f":"'SSI Inputs'!$E$27","v":{"$error":"#VALUE!"}},{"$f":"'SSI Inputs'!$E$28","v":{"$error":"#VALUE!"}},{"$f":"'SSI Inputs'!$E$30","v":{"$error":"#VALUE!"}},{"$f":"'SSI Inputs'!$E$31","v":{"$error":"#VALUE!"}},{"$f":"'SSI Inputs'!$E$32","v":{"$error":"#VALUE!"}},{"$f":"'SSI Inputs'!$E$34","v":{"$error":"#VALUE!"}},{"$f":"'SSI Inputs'!$E$35","v":{"$error":"#VALUE!"}},{"$f":"'SSI Inputs'!$E$36","v":{"$error":"#VALUE!"}},{"$f":"'SSI Inputs'!$E$38","v":{"$error":"#VALUE!"}},{"$f":"'SSI Inputs'!$E$39","v":{"$error":"#VALUE!"}},{"$f":"'SSI Inputs'!$E$40","v":{"$error":"#VALUE!"}},{"$f":"'SSI Inputs'!$R$18","v":12.5},{"$f":"'SSI Inputs'!$R$19","v":12.5},{"$f":"'SSI Inputs'!$R$20","v":12.5},{"$f":"'SSI Inputs'!$R$21","v":12.5},"D",{"$f":"'SSI Inputs'!$E$26","v":{"$error":"#VALUE!"}},{"$f":"'SSI Inputs'!$E$27","v":{"$error":"#VALUE!"}},{"$f":"'SSI Inputs'!$E$28","v":{"$error":"#VALUE!"}},{"$f":"'SSI Inputs'!$E$30","v":{"$error":"#VALUE!"}},{"$f":"'SSI Inputs'!$E$31","v":{"$error":"#VALUE!"}},{"$f":"'SSI Inputs'!$E$32","v":{"$error":"#VALUE!"}},{"$f":"'SSI Inputs'!$E$34","v":{"$error":"#VALUE!"}},{"$f":"'SSI Inputs'!$E$35","v":{"$error":"#VALUE!"}},{"$f":"'SSI Inputs'!$E$36","v":{"$error":"#VALUE!"}},{"$f":"'SSI Inputs'!$E$38","v":{"$error":"#VALUE!"}},{"$f":"'SSI Inputs'!$E$39","v":{"$error":"#VALUE!"}},{"$f":"'SSI Inputs'!$E$40","v":{"$error":"#VALUE!"}},{"$f":"'SSI Inputs'!$R$18","v":12.5},{"$f":"'SSI Inputs'!$R$19","v":12.5},{"$f":"'SSI Inputs'!$R$20","v":12.5},{"$f":"'SSI Inputs'!$R$21","v":12.5}]
[]
[]
[]
[]
[]
[]
[]
[]
[]
[]
[]
[]
[]
[]
[]
[]
[]
[]
[]
[]
[]
[]
[]
[]
[]
[]
[]
[]
[]
[]
[]
[]
[]
[]
[]
[]
[]
[]
[]
[]
[]
[]
[]
[]
[]
[]
[]
[]
[]
[]
[]
[]
[]
[]
[]
[]
[]
[]
[]
[]
[]
[]
[]
[]
[]
[]
[]
[]
[]
[]
[]
[]
[]
[]
[]
[]
[]
[]
[]
[]
[]
[null,null,null,null,null,null,null,null,null,"Exposure",null,null,null,null,null,null,null,null,null,null,null,null,null,null,null,null,null,null,null,null,null,null,null,null,null,null,"Exposure-Severity-Complexity Product"]
[null,null,null,null,null,null,null,null,null,"Q1","Q2","I"]
[null,null,null,null,null,null,null,null,null,{"$f":"SUMPRODUCT($AN4:$BC4,$AN$19:$BC$19)","v":{"$error":"#VALUE!"}},{"$f":"SUMPRODUCT($BE4:$BT4,$BE$19:$BT$19)","v":{"$error":"#VALUE!"}},{"$f":"PRODUCT(J103:K103)","v":{"$error":"#VALUE!"}},null,null,null,null,null,null,null,null,null,null,null,null,null,null,null,null,null,null,null,null,null,null,null,null,{"$f":"L103*R4*AI4","v":{"$error":"#VALUE!"}}]
[null,null,null,null,null,null,null,null,null,{"$f":"SUMPRODUCT($AN5:$BC5,$AN$19:$BC$19)","v":{"$error":"#VALUE!"}},{"$f":"SUMPRODUCT($BE5:$BT5,$BE$19:$BT$19)","v":{"$error":"#VALUE!"}},{"$f":"PRODUCT(J104:K104)","v":{"$error":"#VALUE!"}},null,null,null,null,null,null,null,null,null,null,null,null,null,null,null,null,null,null,null,null,null,null,null,null,{"$f":"L104*R5*AI5","v":{"$error":"#VALUE!"}}]
[null,null,null,null,null,null,null,null,null,{"$error":"#VALUE!"},{"$error":"#VALUE!"},{"$error":"#VALUE!"},null,null,null,null,null,null,null,null,null,null,null,null,null,null,null,null,null,null,null,null,null,null,null,null,{"$error":"#VALUE!"}]
[null,null,null,null,null,null,null,null,null,{"$error":"#VALUE!"},{"$error":"#VALUE!"},{"$error":"#VALUE!"},null,null,null,null,null,null,null,null,null,null,null,null,null,null,null,null,null,null,null,null,null,null,null,null,{"$error":"#VALUE!"}]
[null,null,null,null,null,null,null,null,null,{"$error":"#VALUE!"},{"$error":"#VALUE!"},{"$error":"#VALUE!"},null,null,null,null,null,null,null,null,null,null,null,null,null,null,null,null,null,null,null,null,null,null,null,null,{"$error":"#VALUE!"}]
[null,null,null,null,null,null,null,null,null,{"$error":"#VALUE!"},{"$error":"#VALUE!"},{"$error":"#VALUE!"},null,null,null,null,null,null,null,null,null,null,null,null,null,null,null,null,null,null,null,null,null,null,null,null,{"$error":"#VALUE!"}]
[null,null,null,null,null,null,null,null,null,{"$error":"#VALUE!"},{"$error":"#VALUE!"},{"$error":"#VALUE!"},null,null,null,null,null,null,null,null,null,null,null,null,null,null,null,null,null,null,null,null,null,null,null,null,{"$error":"#VALUE!"}]
[null,null,null,null,null,null,null,null,null,{"$error":"#VALUE!"},{"$error":"#VALUE!"},{"$error":"#VALUE!"},null,null,null,null,null,null,null,null,null,null,null,null,null,null,null,null,null,null,null,null,null,null,null,null,{"$error":"#VALUE!"}]
[null,null,null,null,null,null,null,null,null,{"$error":"#VALUE!"},{"$error":"#VALUE!"},{"$error":"#VALUE!"},null,null,null,null,null,null,null,null,null,null,null,null,null,null,null,null,null,null,null,null,null,null,null,null,{"$error":"#VALUE!"}]
[null,null,null,null,null,null,null,null,null,{"$error":"#VALUE!"},{"$error":"#VALUE!"},{"$error":"#VALUE!"},null,null,null,null,null,null,null,null,null,null,null,null,null,null,null,null,null,null,null,null,null,null,null,null,{"$error":"#VALUE!"}]
[null,null,null,null,null,null,null,null,null,{"$error":"#VALUE!"},{"$error":"#VALUE!"},{"$error":"#VALUE!"},null,null,null,null,null,null,null,null,null,null,null,null,null,null,null,null,null,null,null,null,null,null,null,null,{"$error":"#VALUE!"}]
[null,null,null,null,null,null,null,null,null,{"$error":"#VALUE!"},{"$error":"#VALUE!"},{"$error":"#VALUE!"},null,null,null,null,null,null,null,null,null,null,null,null,null,null,null,null,null,null,null,null,null,null,null,null,{"$error":"#VALUE!"}]
[null,null,null,null,null,null,null,null,null,{"$error":"#VALUE!"},{"$error":"#VALUE!"},{"$error":"#VALUE!"},null,null,null,null,null,null,null,null,null,null,null,null,null,null,null,null,null,null,null,null,null,null,null,null,{"$error":"#VALUE!"}]
[null,null,null,null,null,null,null,null,null,{"$error":"#VALUE!"},{"$error":"#VALUE!"},{"$error":"#VALUE!"},null,null,null,null,null,null,null,null,null,null,null,null,null,null,null,null,null,null,null,null,null,null,null,null,{"$error":"#VALUE!"}]

{"sheet":"T_2x1_RAB","index":62,"n_rows":116,"n_cols":72,"rows_kept":116,"cut":false,"hidden":true,"merged":[[1,34,2,34],[1,36,2,36],[1,39,1,54],[1,56,1,71],[100,9,100,11],[100,36,101,36],[0,19,0,28],[0,30,0,32],[1,9,1,11],[1,13,1,17],[1,21,1,25],[1,27,1,28],[1,30,2,30],[1,31,2,31],[1,32,2,32]]}
[null,null,null,null,null,null,null,null,null,null,null,null,null,null,null,null,null,null,null,"Conflicting Traffic Complexity",null,null,null,null,null,null,null,null,null,null,"Pedestrian Complexity"]
[null,null,null,null,null,null,null,null,null,"Exposure",null,null,null,"Severity",null,null,null,null,null,"Traffic Control",null,"Conflicting Lanes",null,null,null,null,null,"Conflicting Speed",null,null,"Indirect Paths Indicator","Non-intuitive movements indicator","Pedestrian Complexity factor",null,"Total Complexity Multiplier",null,"Exposure-Severity-Complexity Product",null,null,"Included in Mvmt1",null,null,null,null,null,null,null,null,null,null,null,null,null,null,null,null,"Included in Mvmt2"]
["#","Conflict Type","Mvmt1","Mvmt1_gen","Mvmt1_SpeedCat","Mvmt2","Mvmt2_gen","Mvmt2_SpeedCat",null,"Q1","Q2","I",null,"Speed_V1","Speed_V2","Angle","delta_V","P_FSI",null,null,null,"MajC","MinC","MajM/P","MinM/P","Score",null,"Speed","Factor",null,null,null,null,null,null,null,null,null,null,"MajT1","MajL1","MajR1","MajT2","MajL2","MajR2","MinT1","MinL1","MinR1","MinT2","MinL2","MinR2","MajNM1","MajNM2","MinNM1","MinNM2",null,"MajT1","MajL1","MajR1","MajT2","MajL2","MajR2","MinT1","MinL1","MinR1","MinT2","MinL2","MinR2","MajNM1","MajNM2","MinNM1","MinNM2"]
[1,"Crossing - RAB","EBT","MajT1","RAB Entering","WBL","MajL2","RAB Exiting",null,{"$f":"SUMPRODUCT($AN4:$BC4,$AN$18:$BC$18)","v":{"$error":"#VALUE!"}},{"$f":"SUMPRODUCT($BE4:$BT4,$BE$18:$BT$18)","v":{"$error":"#VALUE!"}},{"$f":"PRODUCT(J4:K4)","v":{"$error":"#VALUE!"}},null,{"$f":"VLOOKUP(E4,SSI_AGI_Range_VehSpeed,5,FALSE)","v":25},{"$f":"VLOOKUP(H4,SSI_AGI_Range_VehSpeed,5,FALSE)","v":30},{"$f":"IF(B4=\"Nonmotorized\",\"\",VLOOKUP(B4,SSI_AGI_Range_CollAngles,5,FALSE))","v":60},{"$f":"IF(B4=\"Nonmotorized\",\"\",SQRT(N4^2+O4^2-2*N4*O4*COS(RADIANS(P4)))/2)","v":13.919410907075054},{"$f":"IF(B4=\"Nonmotorized\",1/(1+EXP(3.8432-0.1237*O4)),(Q4/SSI_AGI_RegAlpha)^SSI_AGI_RegK+(Q4/SSI_AGI_RegAlpha)^SSI_AGI_RegK-((Q4/SSI_AGI_RegAlpha)^SSI_AGI_RegK)*((Q4/SSI_AGI_RegAlpha)^SSI_AGI_RegK))","v":5.0568987822489503E-3},null,{"$f":"SSI_AGI_PermFactor","v":1},null,null,null,null,null,1,null,{"$f":"IF(B4=\"Diverging\",\"\",SSI_AGI_VehSpeed_RABCirc)","v":25},{"$f":"IF(B4=\"Diverging\",1,1-((60-AB4)/60*0.1/0.15))","v":0.61111111111111105},null,null,null,{"$f":"1+AE4+AF4","v":1},null,{"$f":"PRODUCT(Z4,T4,AC4,AG4)","v":0.61111111111111105},null,{"$f":"L4*R4*AI4","v":{"$error":"#VALUE!"}},null,null,{"$f":"IF(ISNUMBER(SEARCH(AN$3,$D4)),1,\"\")","v":1},{"$f":"IF(ISNUMBER(SEARCH(AO$3,$D4)),1,\"\")","v":""},"","","","","","","","","","","","","","",null,{"$f":"IF(ISNUMBER(SEARCH(BE$3,$G4)),1,\"\")","v":""},{"$f":"IF(ISNUMBER(SEARCH(BF$3,$G4)),1,\"\")","v":""},"","",1,"","","","","","","","","","",""]
[2,"Crossing - RAB","EBT","MajT1","RAB Exiting","NBL","MinL1","RAB Entering",null,{"$error":"#VALUE!"},{"$error":"#VALUE!"},{"$f":"PRODUCT(J5:K5)","v":{"$error":"#VALUE!"}},null,30,25,60,{"$f":"IF(B5=\"Nonmotorized\",\"\",SQRT(N5^2+O5^2-2*N5*O5*COS(RADIANS(P5)))/2)","v":13.919410907075054},5.0568987822489503E-3,null,1,null,null,null,null,null,2,null,25,0.61111111111111105,null,null,null,{"$f":"1+AE5+AF5","v":1},null,1.2222222222222221,null,{"$f":"L5*R5*AI5","v":{"$error":"#VALUE!"}},null,null,{"$f":"IF(ISNUMBER(SEARCH(AN$3,$D5)),1,\"\")","v":1},"","","","","","","","","","","","","","","",null,{"$f":"IF(ISNUMBER(SEARCH(BE$3,$G5)),1,\"\")","v":""},"","","","","","",1,"","","","","","","",""]
[3,"Merging","WBT, WBL","MajT2, MajL2","RAB Entering","NBL","MinL1","RAB Circulating",null,{"$error":"#VALUE!"},{"$error":"#VALUE!"},{"$error":"#VALUE!"},null,25,25,45,9.5670858091272439,1.2201154392262267E-3,null,1,null,null,null,null,null,1.75,null,25,0.61111111111111105,null,null,null,1,null,1.0694444444444444,null,{"$error":"#VALUE!"},null,null,"","","",1,1,"","","","","","","","","","","",null,"","","","","","","",1,"","","","","","","",""]
[4,"Merging","EBR","MajR1","RAB Entering","WBL","MajL2","RAB Exiting",null,{"$error":"#VALUE!"},{"$error":"#VALUE!"},{"$error":"#VALUE!"},null,25,30,45,10.774272924659215,1.9149308964743091E-3,null,1,null,null,null,null,null,1,null,25,0.61111111111111105,null,null,null,1,null,0.61111111111111105,null,{"$error":"#VALUE!"},null,null,"","",1,"","","","","","","","","","","","","",null,"","","","",1,"","","","","","","","","","",""]
[5,"Merging","EBT","MajT1","RAB Exiting","NBR","MinR1","RAB Entering",null,{"$error":"#VALUE!"},{"$error":"#VALUE!"},{"$error":"#VALUE!"},null,30,25,45,10.774272924659215,1.9149308964743091E-3,null,1,null,null,null,null,null,1.75,null,25,0.61111111111111105,null,null,null,1,null,1.0694444444444444,null,{"$error":"#VALUE!"},null,null,1,"","","","","","","","","","","","","","","",null,"","","","","","","","",1,"","","","","","",""]
[6,"Diverging","EBT,NBL","MajT2, MinL1","RAB Exiting","WBL","MajL2","RAB Circulating",null,{"$error":"#VALUE!"},{"$error":"#VALUE!"},{"$error":"#VALUE!"},null,30,25,10,3.4564566568122888,2.5632912055290634E-5,null,1,null,null,null,null,null,1,null,"",1,null,null,null,1,null,1,null,{"$error":"#VALUE!"},null,null,"","","",1,"","","",1,"","","","","","","","",null,"","","","",1,"","","","","","","","","","",""]
[7,"Diverging","EBT","MajT1","RAB Entering","EBR","MajR1","RAB Entering",null,{"$error":"#VALUE!"},{"$error":"#VALUE!"},{"$error":"#VALUE!"},null,25,25,10,2.1788935686914574,4.4504203221236063E-6,null,1,null,null,null,null,null,1,null,"",1,null,null,null,1,null,1,null,{"$error":"#VALUE!"},null,null,1,"","","","","","","","","","","","","","","",null,"","",1,"","","","","","","","","","","","",""]
[8,"Diverging","NBL","MinL1","RAB Entering","NBR","MinR1","RAB Entering",null,{"$error":"#VALUE!"},{"$error":"#VALUE!"},{"$error":"#VALUE!"},null,25,25,10,2.1788935686914574,4.4504203221236063E-6,null,1,null,null,null,null,null,1,null,"",1,null,null,null,1,null,1,null,{"$error":"#VALUE!"},null,null,"","","","","","","",1,"","","","","","","","",null,"","","","","","","","",1,"","","","","","",""]
[9,"Nonmotorized",null,"MajNM1","Nonmotorized","WB Exiting","MajT2, MinL1","RAB Exiting",null,{"$error":"#VALUE!"},{"$error":"#VALUE!"},{"$error":"#VALUE!"},null,0,30,"","",0.46699805015542578,null,1,null,null,null,null,null,2,null,{"$f":"IF(B12=\"Diverging\",\"\",SSI_AGI_VehSpeed_RABExit)","v":30},0.66666666666666663,null,1,null,2,null,2.6666666666666665,null,{"$error":"#VALUE!"},null,null,"","","","","","","","","","","","",1,"","","",null,"","","",1,"","","",1,"","","","","","","",""]
[10,"Nonmotorized",null,"MajNM1","Nonmotorized","EB Entering","MajT1, MajR1","RAB Entering",null,{"$error":"#VALUE!"},{"$error":"#VALUE!"},{"$error":"#VALUE!"},null,0,25,"","",0.32066879346345062,null,1,null,null,null,null,null,2,null,{"$f":"IF(B13=\"Diverging\",\"\",SSI_AGI_VehSpeed_RABEnter)","v":25},0.61111111111111105,null,1,null,2,null,2.4444444444444442,null,{"$error":"#VALUE!"},null,null,"","","","","","","","","","","","",1,"","","",null,1,"",1,"","","","","","","","","","","","",""]
[11,"Nonmotorized",null,"MinNM1","Nonmotorized","SB Exiting","MajR1, MajL2","RAB Exiting",null,{"$error":"#VALUE!"},{"$error":"#VALUE!"},{"$error":"#VALUE!"},null,0,30,"","",0.46699805015542578,null,1,null,null,null,null,null,1,null,{"$f":"IF(B14=\"Diverging\",\"\",SSI_AGI_VehSpeed_RABExit)","v":30},0.66666666666666663,null,1,null,2,null,1.3333333333333333,null,{"$error":"#VALUE!"},null,null,"","","","","","","","","","","","","","",1,"",null,"","",1,"",1,"","","","","","","","","","",""]
[12,"Nonmotorized",null,"MinNM1","Nonmotorized","NB Entering","MinL1, MinR1","RAB Entering",null,{"$error":"#VALUE!"},{"$error":"#VALUE!"},{"$error":"#VALUE!"},null,0,25,"","",0.32066879346345062,null,1,null,null,null,null,null,1,null,{"$f":"IF(B15=\"Diverging\",\"\",SSI_AGI_VehSpeed_RABEnter)","v":25},0.61111111111111105,null,1,null,2,null,1.2222222222222221,null,{"$error":"#VALUE!"},null,null,"","","","","","","","","","","","","","",1,"",null,"","","","","","","",1,1,"","","","","","",""]
[13,"Nonmotorized",null,"MajNM2","Nonmotorized","EB Exiting","MajT1, MinR1","RAB Exiting",null,{"$error":"#VALUE!"},{"$error":"#VALUE!"},{"$error":"#VALUE!"},null,0,30,"","",0.46699805015542578,null,1,null,null,null,null,null,2,null,{"$f":"IF(B16=\"Diverging\",\"\",SSI_AGI_VehSpeed_RABExit)","v":30},0.66666666666666663,null,1,null,2,null,2.6666666666666665,null,{"$error":"#VALUE!"},null,null,"","","","","","","","","","","","","",1,"","",null,1,"","","","","","","",1,"","","","","","",""]
[14,"Nonmotorized",null,"MajNM2","Nonmotorized","WB Entering","MajT2, MajL2","RAB Entering",null,{"$error":"#VALUE!"},{"$error":"#VALUE!"},{"$error":"#VALUE!"},null,0,25,"","",0.32066879346345062,null,1,null,null,null,null,null,2,null,{"$f":"IF(B17=\"Diverging\",\"\",SSI_AGI_VehSpeed_RABEnter)","v":25},0.61111111111111105,null,1,null,2,null,2.4444444444444442,null,{"$error":"#VALUE!"},null,null,"","","","","","","","","","","","","",1,"","",null,"","","",1,1,"","","","","","","","","","",""]
[null,null,null,null,null,null,null,null,null,null,null,null,null,null,null,null,null,null,null,null,null,null,null,null,null,null,null,null,null,null,null,null,null,null,null,null,null,null,null,{"$f":"'SSI Inputs'!$D$26","v":{"$error":"#VALUE!"}},{"$f":"'SSI Inputs'!$D$27","v":{"$error":"#VALUE!"}},{"$f":"'SSI Inputs'!$D$28","v":{"$error":"#VALUE!"}},{"$f":"'SSI Inputs'!$D$30","v":{"$error":"#VALUE!"}},{"$f":"'SSI Inputs'!$D$31","v":{"$error":"#VALUE!"}},{"$f":"'SSI Inputs'!$D$32","v":{"$error":"#VALUE!"}},{"$f":"'SSI Inputs'!$D$34","v":{"$error":"#VALUE!"}},{"$f":"'SSI Inputs'!$D$35","v":{"$error":"#VALUE!"}},{"$f":"'SSI Inputs'!$D$36","v":{"$error":"#VALUE!"}},{"$f":"'SSI Inputs'!$D$38","v":{"$error":"#VALUE!"}},{"$f":"'SSI Inputs'!$D$39","v":{"$error":"#VALUE!"}},{"$f":"'SSI Inputs'!$D$40","v":{"$error":"#VALUE!"}},{"$f":"'SSI Inputs'!$Q$18","v":12.5},{"$f":"'SSI Inputs'!$Q$19","v":12.5},{"$f":"'SSI Inputs'!$Q$20","v":12.5},{"$f":"'SSI Inputs'!$Q$21","v":12.5},null,{"$f":"'SSI Inputs'!$D$26","v":{"$error":"#VALUE!"}},{"$f":"'SSI Inputs'!$D$27","v":{"$error":"#VALUE!"}},{"$f":"'SSI Inputs'!$D$28","v":{"$error":"#VALUE!"}},{"$f":"'SSI Inputs'!$D$30","v":{"$error":"#VALUE!"}},{"$f":"'SSI Inputs'!$D$31","v":{"$error":"#VALUE!"}},{"$f":"'SSI Inputs'!$D$32","v":{"$error":"#VALUE!"}},{"$f":"'SSI Inputs'!$D$34","v":{"$error":"#VALUE!"}},{"$f":"'SSI Inputs'!$D$35","v":{"$error":"#VALUE!"}},{"$f":"'SSI Inputs'!$D$36","v":{"$error":"#VALUE!"}},{"$f":"'SSI Inputs'!$D$38","v":{"$error":"#VALUE!"}},{"$f":"'SSI Inputs'!$D$39","v":{"$error":"#VALUE!"}},{"$f":"'SSI Inputs'!$D$40","v":{"$error":"#VALUE!"}},{"$f":"'SSI Inputs'!$Q$18","v":12.5},{"$f":"'SSI Inputs'!$Q$19","v":12.5},{"$f":"'SSI Inputs'!$Q$20","v":12.5},{"$f":"'SSI Inputs'!$Q$21","v":12.5}]
[null,null,null,null,null,null,null,null,null,null,null,null,null,null,null,null,null,null,null,null,null,null,null,null,null,null,null,null,null,null,null,null,null,null,null,null,null,null,"D",{"$f":"'SSI Inputs'!$E$26","v":{"$error":"#VALUE!"}},{"$f":"'SSI Inputs'!$E$27","v":{"$error":"#VALUE!"}},{"$f":"'SSI Inputs'!$E$28","v":{"$error":"#VALUE!"}},{"$f":"'SSI Inputs'!$E$30","v":{"$error":"#VALUE!"}},{"$f":"'SSI Inputs'!$E$31","v":{"$error":"#VALUE!"}},{"$f":"'SSI Inputs'!$E$32","v":{"$error":"#VALUE!"}},{"$f":"'SSI Inputs'!$E$34","v":{"$error":"#VALUE!"}},{"$f":"'SSI Inputs'!$E$35","v":{"$error":"#VALUE!"}},{"$f":"'SSI Inputs'!$E$36","v":{"$error":"#VALUE!"}},{"$f":"'SSI Inputs'!$E$38","v":{"$error":"#VALUE!"}},{"$f":"'SSI Inputs'!$E$39","v":{"$error":"#VALUE!"}},{"$f":"'SSI Inputs'!$E$40","v":{"$error":"#VALUE!"}},{"$f":"'SSI Inputs'!$R$18","v":12.5},{"$f":"'SSI Inputs'!$R$19","v":12.5},{"$f":"'SSI Inputs'!$R$20","v":12.5},{"$f":"'SSI Inputs'!$R$21","v":12.5},"D",{"$f":"'SSI Inputs'!$E$26","v":{"$error":"#VALUE!"}},{"$f":"'SSI Inputs'!$E$27","v":{"$error":"#VALUE!"}},{"$f":"'SSI Inputs'!$E$28","v":{"$error":"#VALUE!"}},{"$f":"'SSI Inputs'!$E$30","v":{"$error":"#VALUE!"}},{"$f":"'SSI Inputs'!$E$31","v":{"$error":"#VALUE!"}},{"$f":"'SSI Inputs'!$E$32","v":{"$error":"#VALUE!"}},{"$f":"'SSI Inputs'!$E$34","v":{"$error":"#VALUE!"}},{"$f":"'SSI Inputs'!$E$35","v":{"$error":"#VALUE!"}},{"$f":"'SSI Inputs'!$E$36","v":{"$error":"#VALUE!"}},{"$f":"'SSI Inputs'!$E$38","v":{"$error":"#VALUE!"}},{"$f":"'SSI Inputs'!$E$39","v":{"$error":"#VALUE!"}},{"$f":"'SSI Inputs'!$E$40","v":{"$error":"#VALUE!"}},{"$f":"'SSI Inputs'!$R$18","v":12.5},{"$f":"'SSI Inputs'!$R$19","v":12.5},{"$f":"'SSI Inputs'!$R$20","v":12.5},{"$f":"'SSI Inputs'!$R$21","v":12.5}]
[]
[]
[]
[]
[]
[]
[]
[]
[]
[]
[]
[]
[]
[]
[]
[]
[]
[]
[]
[]
[]
[]
[]
[]
[]
[]
[]
[]
[]
[]
[]
[]
[]
[]
[]
[]
[]
[]
[]
[]
[]
[]
[]
[]
[]
[]
[]
[]
[]
[]
[]
[]
[]
[]
[]
[]
[]
[]
[]
[]
[]
[]
[]
[]
[]
[]
[]
[]
[]
[]
[]
[]
[]
[]
[]
[]
[]
[]
[]
[]
[]
[null,null,null,null,null,null,null,null,null,"Exposure",null,null,null,null,null,null,null,null,null,null,null,null,null,null,null,null,null,null,null,null,null,null,null,null,null,null,"Exposure-Severity-Complexity Product"]
[null,null,null,null,null,null,null,null,null,"Q1","Q2","I"]
[null,null,null,null,null,null,null,null,null,{"$f":"SUMPRODUCT($AN4:$BC4,$AN$19:$BC$19)","v":{"$error":"#VALUE!"}},{"$f":"SUMPRODUCT($BE4:$BT4,$BE$19:$BT$19)","v":{"$error":"#VALUE!"}},{"$f":"PRODUCT(J103:K103)","v":{"$error":"#VALUE!"}},null,null,null,null,null,null,null,null,null,null,null,null,null,null,null,null,null,null,null,null,null,null,null,null,{"$f":"L103*R4*AI4","v":{"$error":"#VALUE!"}}]
[null,null,null,null,null,null,null,null,null,{"$f":"SUMPRODUCT($AN5:$BC5,$AN$19:$BC$19)","v":{"$error":"#VALUE!"}},{"$f":"SUMPRODUCT($BE5:$BT5,$BE$19:$BT$19)","v":{"$error":"#VALUE!"}},{"$f":"PRODUCT(J104:K104)","v":{"$error":"#VALUE!"}},null,null,null,null,null,null,null,null,null,null,null,null,null,null,null,null,null,null,null,null,null,null,null,null,{"$f":"L104*R5*AI5","v":{"$error":"#VALUE!"}}]
[null,null,null,null,null,null,null,null,null,{"$error":"#VALUE!"},{"$error":"#VALUE!"},{"$error":"#VALUE!"},null,null,null,null,null,null,null,null,null,null,null,null,null,null,null,null,null,null,null,null,null,null,null,null,{"$error":"#VALUE!"}]
[null,null,null,null,null,null,null,null,null,{"$error":"#VALUE!"},{"$error":"#VALUE!"},{"$error":"#VALUE!"},null,null,null,null,null,null,null,null,null,null,null,null,null,null,null,null,null,null,null,null,null,null,null,null,{"$error":"#VALUE!"}]
[null,null,null,null,null,null,null,null,null,{"$error":"#VALUE!"},{"$error":"#VALUE!"},{"$error":"#VALUE!"},null,null,null,null,null,null,null,null,null,null,null,null,null,null,null,null,null,null,null,null,null,null,null,null,{"$error":"#VALUE!"}]
[null,null,null,null,null,null,null,null,null,{"$error":"#VALUE!"},{"$error":"#VALUE!"},{"$error":"#VALUE!"},null,null,null,null,null,null,null,null,null,null,null,null,null,null,null,null,null,null,null,null,null,null,null,null,{"$error":"#VALUE!"}]
[null,null,null,null,null,null,null,null,null,{"$error":"#VALUE!"},{"$error":"#VALUE!"},{"$error":"#VALUE!"},null,null,null,null,null,null,null,null,null,null,null,null,null,null,null,null,null,null,null,null,null,null,null,null,{"$error":"#VALUE!"}]
[null,null,null,null,null,null,null,null,null,{"$error":"#VALUE!"},{"$error":"#VALUE!"},{"$error":"#VALUE!"},null,null,null,null,null,null,null,null,null,null,null,null,null,null,null,null,null,null,null,null,null,null,null,null,{"$error":"#VALUE!"}]
[null,null,null,null,null,null,null,null,null,{"$error":"#VALUE!"},{"$error":"#VALUE!"},{"$error":"#VALUE!"},null,null,null,null,null,null,null,null,null,null,null,null,null,null,null,null,null,null,null,null,null,null,null,null,{"$error":"#VALUE!"}]
[null,null,null,null,null,null,null,null,null,{"$error":"#VALUE!"},{"$error":"#VALUE!"},{"$error":"#VALUE!"},null,null,null,null,null,null,null,null,null,null,null,null,null,null,null,null,null,null,null,null,null,null,null,null,{"$error":"#VALUE!"}]
[null,null,null,null,null,null,null,null,null,{"$error":"#VALUE!"},{"$error":"#VALUE!"},{"$error":"#VALUE!"},null,null,null,null,null,null,null,null,null,null,null,null,null,null,null,null,null,null,null,null,null,null,null,null,{"$error":"#VALUE!"}]
[null,null,null,null,null,null,null,null,null,{"$error":"#VALUE!"},{"$error":"#VALUE!"},{"$error":"#VALUE!"},null,null,null,null,null,null,null,null,null,null,null,null,null,null,null,null,null,null,null,null,null,null,null,null,{"$error":"#VALUE!"}]
[null,null,null,null,null,null,null,null,null,{"$error":"#VALUE!"},{"$error":"#VALUE!"},{"$error":"#VALUE!"},null,null,null,null,null,null,null,null,null,null,null,null,null,null,null,null,null,null,null,null,null,null,null,null,{"$error":"#VALUE!"}]
[null,null,null,null,null,null,null,null,null,{"$error":"#VALUE!"},{"$error":"#VALUE!"},{"$error":"#VALUE!"},null,null,null,null,null,null,null,null,null,null,null,null,null,null,null,null,null,null,null,null,null,null,null,null,{"$error":"#VALUE!"}]

{"sheet":"T_2x2_RAB","index":63,"n_rows":116,"n_cols":72,"rows_kept":116,"cut":false,"hidden":true,"merged":[[1,34,2,34],[1,36,2,36],[1,39,1,54],[1,56,1,71],[100,9,100,11],[100,36,101,36],[0,19,0,28],[0,30,0,32],[1,9,1,11],[1,13,1,17],[1,21,1,25],[1,27,1,28],[1,30,2,30],[1,31,2,31],[1,32,2,32]]}
[null,null,null,null,null,null,null,null,null,null,null,null,null,null,null,null,null,null,null,"Conflicting Traffic Complexity",null,null,null,null,null,null,null,null,null,null,"Pedestrian Complexity"]
[null,null,null,null,null,null,null,null,null,"Exposure",null,null,null,"Severity",null,null,null,null,null,"Traffic Control",null,"Conflicting Lanes",null,null,null,null,null,"Conflicting Speed",null,null,"Indirect Paths Indicator","Non-intuitive movements indicator","Pedestrian Complexity factor",null,"Total Complexity Multiplier",null,"Exposure-Severity-Complexity Product",null,null,"Included in Mvmt1",null,null,null,null,null,null,null,null,null,null,null,null,null,null,null,null,"Included in Mvmt2"]
["#","Conflict Type","Mvmt1","Mvmt1_gen","Mvmt1_SpeedCat","Mvmt2","Mvmt2_gen","Mvmt2_SpeedCat",null,"Q1","Q2","I",null,"Speed_V1","Speed_V2","Angle","delta_V","P_FSI",null,null,null,"MajC","MinC","MajM/P","MinM/P","Score",null,"Speed","Factor",null,null,null,null,null,null,null,null,null,null,"MajT1","MajL1","MajR1","MajT2","MajL2","MajR2","MinT1","MinL1","MinR1","MinT2","MinL2","MinR2","MajNM1","MajNM2","MinNM1","MinNM2",null,"MajT1","MajL1","MajR1","MajT2","MajL2","MajR2","MinT1","MinL1","MinR1","MinT2","MinL2","MinR2","MajNM1","MajNM2","MinNM1","MinNM2"]
[1,"Crossing - RAB","EBT","MajT1","RAB Entering","WBL","MajL2","RAB Exiting",null,{"$f":"SUMPRODUCT($AN4:$BC4,$AN$18:$BC$18)","v":{"$error":"#VALUE!"}},{"$f":"SUMPRODUCT($BE4:$BT4,$BE$18:$BT$18)","v":{"$error":"#VALUE!"}},{"$f":"PRODUCT(J4:K4)","v":{"$error":"#VALUE!"}},null,{"$f":"VLOOKUP(E4,SSI_AGI_Range_VehSpeed,5,FALSE)","v":25},{"$f":"VLOOKUP(H4,SSI_AGI_Range_VehSpeed,5,FALSE)","v":30},{"$f":"IF(B4=\"Nonmotorized\",\"\",VLOOKUP(B4,SSI_AGI_Range_CollAngles,5,FALSE))","v":60},{"$f":"IF(B4=\"Nonmotorized\",\"\",SQRT(N4^2+O4^2-2*N4*O4*COS(RADIANS(P4)))/2)","v":13.919410907075054},{"$f":"IF(B4=\"Nonmotorized\",1/(1+EXP(3.8432-0.1237*O4)),(Q4/SSI_AGI_RegAlpha)^SSI_AGI_RegK+(Q4/SSI_AGI_RegAlpha)^SSI_AGI_RegK-((Q4/SSI_AGI_RegAlpha)^SSI_AGI_RegK)*((Q4/SSI_AGI_RegAlpha)^SSI_AGI_RegK))","v":5.0568987822489503E-3},null,{"$f":"SSI_AGI_PermFactor","v":1},null,null,null,null,null,2,null,{"$f":"IF(B4=\"Diverging\",\"\",SSI_AGI_VehSpeed_RABCirc)","v":25},{"$f":"IF(B4=\"Diverging\",1,1-((60-AB4)/60*0.1/0.15))","v":0.61111111111111105},null,null,null,{"$f":"1+AE4+AF4","v":1},null,{"$f":"PRODUCT(Z4,T4,AC4,AG4)","v":1.2222222222222221},null,{"$f":"L4*R4*AI4","v":{"$error":"#VALUE!"}},null,null,{"$f":"IF(ISNUMBER(SEARCH(AN$3,$D4)),1,\"\")","v":1},{"$f":"IF(ISNUMBER(SEARCH(AO$3,$D4)),1,\"\")","v":""},"","","","","","","","","","","","","","",null,{"$f":"IF(ISNUMBER(SEARCH(BE$3,$G4)),1,\"\")","v":""},{"$f":"IF(ISNUMBER(SEARCH(BF$3,$G4)),1,\"\")","v":""},"","",1,"","","","","","","","","","",""]
[2,"Crossing - RAB","EBT","MajT1","RAB Exiting","NBL","MinL1","RAB Entering",null,{"$error":"#VALUE!"},{"$error":"#VALUE!"},{"$f":"PRODUCT(J5:K5)","v":{"$error":"#VALUE!"}},null,30,25,60,{"$f":"IF(B5=\"Nonmotorized\",\"\",SQRT(N5^2+O5^2-2*N5*O5*COS(RADIANS(P5)))/2)","v":13.919410907075054},5.0568987822489503E-3,null,1,null,null,null,null,null,2,null,25,0.61111111111111105,null,null,null,{"$f":"1+AE5+AF5","v":1},null,1.2222222222222221,null,{"$f":"L5*R5*AI5","v":{"$error":"#VALUE!"}},null,null,{"$f":"IF(ISNUMBER(SEARCH(AN$3,$D5)),1,\"\")","v":1},"","","","","","","","","","","","","","","",null,{"$f":"IF(ISNUMBER(SEARCH(BE$3,$G5)),1,\"\")","v":""},"","","","","","",1,"","","","","","","",""]
[3,"Merging","WBT, WBL","MajT2, MajL2","RAB Entering","NBL","MinL1","RAB Circulating",null,{"$error":"#VALUE!"},{"$error":"#VALUE!"},{"$error":"#VALUE!"},null,25,25,45,9.5670858091272439,1.2201154392262267E-3,null,1,null,null,null,null,null,2,null,25,0.61111111111111105,null,null,null,1,null,1.2222222222222221,null,{"$error":"#VALUE!"},null,null,"","","",1,1,"","","","","","","","","","","",null,"","","","","","","",1,"","","","","","","",""]
[4,"Merging","EBR","MajR1","RAB Entering","WBL","MajL2","RAB Exiting",null,{"$error":"#VALUE!"},{"$error":"#VALUE!"},{"$error":"#VALUE!"},null,25,30,45,10.774272924659215,1.9149308964743091E-3,null,1,null,null,null,null,null,1.75,null,25,0.61111111111111105,null,null,null,1,null,1.0694444444444444,null,{"$error":"#VALUE!"},null,null,"","",1,"","","","","","","","","","","","","",null,"","","","",1,"","","","","","","","","","",""]
[5,"Merging","EBT","MajT1","RAB Exiting","NBR","MinR1","RAB Entering",null,{"$error":"#VALUE!"},{"$error":"#VALUE!"},{"$error":"#VALUE!"},null,30,25,45,10.774272924659215,1.9149308964743091E-3,null,1,null,null,null,null,null,1.75,null,25,0.61111111111111105,null,null,null,1,null,1.0694444444444444,null,{"$error":"#VALUE!"},null,null,1,"","","","","","","","","","","","","","","",null,"","","","","","","","",1,"","","","","","",""]
[6,"Diverging","EBT,NBL","MajT2, MinL1","RAB Exiting","WBL","MajL2","RAB Circulating",null,{"$error":"#VALUE!"},{"$error":"#VALUE!"},{"$error":"#VALUE!"},null,30,25,10,3.4564566568122888,2.5632912055290634E-5,null,1,null,null,null,null,null,1,null,"",1,null,null,null,1,null,1,null,{"$error":"#VALUE!"},null,null,"","","",1,"","","",1,"","","","","","","","",null,"","","","",1,"","","","","","","","","","",""]
[7,"Diverging","EBT","MajT1","RAB Entering","EBR","MajR1","RAB Entering",null,{"$error":"#VALUE!"},{"$error":"#VALUE!"},{"$error":"#VALUE!"},null,25,25,10,2.1788935686914574,4.4504203221236063E-6,null,1,null,null,null,null,null,1,null,"",1,null,null,null,1,null,1,null,{"$error":"#VALUE!"},null,null,1,"","","","","","","","","","","","","","","",null,"","",1,"","","","","","","","","","","","",""]
[8,"Diverging","NBL","MinL1","RAB Entering","NBR","MinR1","RAB Entering",null,{"$error":"#VALUE!"},{"$error":"#VALUE!"},{"$error":"#VALUE!"},null,25,25,10,2.1788935686914574,4.4504203221236063E-6,null,1,null,null,null,null,null,1,null,"",1,null,null,null,1,null,1,null,{"$error":"#VALUE!"},null,null,"","","","","","","",1,"","","","","","","","",null,"","","","","","","","",1,"","","","","","",""]
[9,"Nonmotorized",null,"MajNM1","Nonmotorized","WB Exiting","MajT2, MinL1","RAB Exiting",null,{"$error":"#VALUE!"},{"$error":"#VALUE!"},{"$error":"#VALUE!"},null,0,30,"","",0.46699805015542578,null,1,null,null,null,null,null,2,null,{"$f":"IF(B12=\"Diverging\",\"\",SSI_AGI_VehSpeed_RABExit)","v":30},0.66666666666666663,null,1,null,2,null,2.6666666666666665,null,{"$error":"#VALUE!"},null,null,"","","","","","","","","","","","",1,"","","",null,"","","",1,"","","",1,"","","","","","","",""]
[10,"Nonmotorized",null,"MajNM1","Nonmotorized","EB Entering","MajT1, MajR1","RAB Entering",null,{"$error":"#VALUE!"},{"$error":"#VALUE!"},{"$error":"#VALUE!"},null,0,25,"","",0.32066879346345062,null,1,null,null,null,null,null,2,null,{"$f":"IF(B13=\"Diverging\",\"\",SSI_AGI_VehSpeed_RABEnter)","v":25},0.61111111111111105,null,1,null,2,null,2.4444444444444442,null,{"$error":"#VALUE!"},null,null,"","","","","","","","","","","","",1,"","","",null,1,"",1,"","","","","","","","","","","","",""]
[11,"Nonmotorized",null,"MinNM1","Nonmotorized","SB Exiting","MajR1, MajL2","RAB Exiting",null,{"$error":"#VALUE!"},{"$error":"#VALUE!"},{"$error":"#VALUE!"},null,0,30,"","",0.46699805015542578,null,1,null,null,null,null,null,2,null,{"$f":"IF(B14=\"Diverging\",\"\",SSI_AGI_VehSpeed_RABExit)","v":30},0.66666666666666663,null,1,null,2,null,2.6666666666666665,null,{"$error":"#VALUE!"},null,null,"","","","","","","","","","","","","","",1,"",null,"","",1,"",1,"","","","","","","","","","",""]
[12,"Nonmotorized",null,"MinNM1","Nonmotorized","NB Entering","MinL1, MinR1","RAB Entering",null,{"$error":"#VALUE!"},{"$error":"#VALUE!"},{"$error":"#VALUE!"},null,0,25,"","",0.32066879346345062,null,1,null,null,null,null,null,2,null,{"$f":"IF(B15=\"Diverging\",\"\",SSI_AGI_VehSpeed_RABEnter)","v":25},0.61111111111111105,null,1,null,2,null,2.4444444444444442,null,{"$error":"#VALUE!"},null,null,"","","","","","","","","","","","","","",1,"",null,"","","","","","","",1,1,"","","","","","",""]
[13,"Nonmotorized",null,"MajNM2","Nonmotorized","EB Exiting","MajT1, MinR1","RAB Exiting",null,{"$error":"#VALUE!"},{"$error":"#VALUE!"},{"$error":"#VALUE!"},null,0,30,"","",0.46699805015542578,null,1,null,null,null,null,null,2,null,{"$f":"IF(B16=\"Diverging\",\"\",SSI_AGI_VehSpeed_RABExit)","v":30},0.66666666666666663,null,1,null,2,null,2.6666666666666665,null,{"$error":"#VALUE!"},null,null,"","","","","","","","","","","","","",1,"","",null,1,"","","","","","","",1,"","","","","","",""]
[14,"Nonmotorized",null,"MajNM2","Nonmotorized","WB Entering","MajT2, MajL2","RAB Entering",null,{"$error":"#VALUE!"},{"$error":"#VALUE!"},{"$error":"#VALUE!"},null,0,25,"","",0.32066879346345062,null,1,null,null,null,null,null,2,null,{"$f":"IF(B17=\"Diverging\",\"\",SSI_AGI_VehSpeed_RABEnter)","v":25},0.61111111111111105,null,1,null,2,null,2.4444444444444442,null,{"$error":"#VALUE!"},null,null,"","","","","","","","","","","","","",1,"","",null,"","","",1,1,"","","","","","","","","","",""]
[null,null,null,null,null,null,null,null,null,null,null,null,null,null,null,null,null,null,null,null,null,null,null,null,null,null,null,null,null,null,null,null,null,null,null,null,null,null,null,{"$f":"'SSI Inputs'!$D$26","v":{"$error":"#VALUE!"}},{"$f":"'SSI Inputs'!$D$27","v":{"$error":"#VALUE!"}},{"$f":"'SSI Inputs'!$D$28","v":{"$error":"#VALUE!"}},{"$f":"'SSI Inputs'!$D$30","v":{"$error":"#VALUE!"}},{"$f":"'SSI Inputs'!$D$31","v":{"$error":"#VALUE!"}},{"$f":"'SSI Inputs'!$D$32","v":{"$error":"#VALUE!"}},{"$f":"'SSI Inputs'!$D$34","v":{"$error":"#VALUE!"}},{"$f":"'SSI Inputs'!$D$35","v":{"$error":"#VALUE!"}},{"$f":"'SSI Inputs'!$D$36","v":{"$error":"#VALUE!"}},{"$f":"'SSI Inputs'!$D$38","v":{"$error":"#VALUE!"}},{"$f":"'SSI Inputs'!$D$39","v":{"$error":"#VALUE!"}},{"$f":"'SSI Inputs'!$D$40","v":{"$error":"#VALUE!"}},{"$f":"'SSI Inputs'!$Q$18","v":12.5},{"$f":"'SSI Inputs'!$Q$19","v":12.5},{"$f":"'SSI Inputs'!$Q$20","v":12.5},{"$f":"'SSI Inputs'!$Q$21","v":12.5},null,{"$f":"'SSI Inputs'!$D$26","v":{"$error":"#VALUE!"}},{"$f":"'SSI Inputs'!$D$27","v":{"$error":"#VALUE!"}},{"$f":"'SSI Inputs'!$D$28","v":{"$error":"#VALUE!"}},{"$f":"'SSI Inputs'!$D$30","v":{"$error":"#VALUE!"}},{"$f":"'SSI Inputs'!$D$31","v":{"$error":"#VALUE!"}},{"$f":"'SSI Inputs'!$D$32","v":{"$error":"#VALUE!"}},{"$f":"'SSI Inputs'!$D$34","v":{"$error":"#VALUE!"}},{"$f":"'SSI Inputs'!$D$35","v":{"$error":"#VALUE!"}},{"$f":"'SSI Inputs'!$D$36","v":{"$error":"#VALUE!"}},{"$f":"'SSI Inputs'!$D$38","v":{"$error":"#VALUE!"}},{"$f":"'SSI Inputs'!$D$39","v":{"$error":"#VALUE!"}},{"$f":"'SSI Inputs'!$D$40","v":{"$error":"#VALUE!"}},{"$f":"'SSI Inputs'!$Q$18","v":12.5},{"$f":"'SSI Inputs'!$Q$19","v":12.5},{"$f":"'SSI Inputs'!$Q$20","v":12.5},{"$f":"'SSI Inputs'!$Q$21","v":12.5}]
[null,null,null,null,null,null,null,null,null,null,null,null,null,null,null,null,null,null,null,null,null,null,null,null,null,null,null,null,null,null,null,null,null,null,null,null,null,null,"D",{"$f":"'SSI Inputs'!$E$26","v":{"$error":"#VALUE!"}},{"$f":"'SSI Inputs'!$E$27","v":{"$error":"#VALUE!"}},{"$f":"'SSI Inputs'!$E$28","v":{"$error":"#VALUE!"}},{"$f":"'SSI Inputs'!$E$30","v":{"$error":"#VALUE!"}},{"$f":"'SSI Inputs'!$E$31","v":{"$error":"#VALUE!"}},{"$f":"'SSI Inputs'!$E$32","v":{"$error":"#VALUE!"}},{"$f":"'SSI Inputs'!$E$34","v":{"$error":"#VALUE!"}},{"$f":"'SSI Inputs'!$E$35","v":{"$error":"#VALUE!"}},{"$f":"'SSI Inputs'!$E$36","v":{"$error":"#VALUE!"}},{"$f":"'SSI Inputs'!$E$38","v":{"$error":"#VALUE!"}},{"$f":"'SSI Inputs'!$E$39","v":{"$error":"#VALUE!"}},{"$f":"'SSI Inputs'!$E$40","v":{"$error":"#VALUE!"}},{"$f":"'SSI Inputs'!$R$18","v":12.5},{"$f":"'SSI Inputs'!$R$19","v":12.5},{"$f":"'SSI Inputs'!$R$20","v":12.5},{"$f":"'SSI Inputs'!$R$21","v":12.5},"D",{"$f":"'SSI Inputs'!$E$26","v":{"$error":"#VALUE!"}},{"$f":"'SSI Inputs'!$E$27","v":{"$error":"#VALUE!"}},{"$f":"'SSI Inputs'!$E$28","v":{"$error":"#VALUE!"}},{"$f":"'SSI Inputs'!$E$30","v":{"$error":"#VALUE!"}},{"$f":"'SSI Inputs'!$E$31","v":{"$error":"#VALUE!"}},{"$f":"'SSI Inputs'!$E$32","v":{"$error":"#VALUE!"}},{"$f":"'SSI Inputs'!$E$34","v":{"$error":"#VALUE!"}},{"$f":"'SSI Inputs'!$E$35","v":{"$error":"#VALUE!"}},{"$f":"'SSI Inputs'!$E$36","v":{"$error":"#VALUE!"}},{"$f":"'SSI Inputs'!$E$38","v":{"$error":"#VALUE!"}},{"$f":"'SSI Inputs'!$E$39","v":{"$error":"#VALUE!"}},{"$f":"'SSI Inputs'!$E$40","v":{"$error":"#VALUE!"}},{"$f":"'SSI Inputs'!$R$18","v":12.5},{"$f":"'SSI Inputs'!$R$19","v":12.5},{"$f":"'SSI Inputs'!$R$20","v":12.5},{"$f":"'SSI Inputs'!$R$21","v":12.5}]
[]
[]
[]
[]
[]
[]
[]
[]
[]
[]
[]
[]
[]
[]
[]
[]
[]
[]
[]
[]
[]
[]
[]
[]
[]
[]
[]
[]
[]
[]
[]
[]
[]
[]
[]
[]
[]
[]
[]
[]
[]
[]
[]
[]
[]
[]
[]
[]
[]
[]
[]
[]
[]
[]
[]
[]
[]
[]
[]
[]
[]
[]
[]
[]
[]
[]
[]
[]
[]
[]
[]
[]
[]
[]
[]
[]
[]
[]
[]
[]
[]
[null,null,null,null,null,null,null,null,null,"Exposure",null,null,null,null,null,null,null,null,null,null,null,null,null,null,null,null,null,null,null,null,null,null,null,null,null,null,"Exposure-Severity-Complexity Product"]
[null,null,null,null,null,null,null,null,null,"Q1","Q2","I"]
[null,null,null,null,null,null,null,null,null,{"$f":"SUMPRODUCT($AN4:$BC4,$AN$19:$BC$19)","v":{"$error":"#VALUE!"}},{"$f":"SUMPRODUCT($BE4:$BT4,$BE$19:$BT$19)","v":{"$error":"#VALUE!"}},{"$f":"PRODUCT(J103:K103)","v":{"$error":"#VALUE!"}},null,null,null,null,null,null,null,null,null,null,null,null,null,null,null,null,null,null,null,null,null,null,null,null,{"$f":"L103*R4*AI4","v":{"$error":"#VALUE!"}}]
[null,null,null,null,null,null,null,null,null,{"$f":"SUMPRODUCT($AN5:$BC5,$AN$19:$BC$19)","v":{"$error":"#VALUE!"}},{"$f":"SUMPRODUCT($BE5:$BT5,$BE$19:$BT$19)","v":{"$error":"#VALUE!"}},{"$f":"PRODUCT(J104:K104)","v":{"$error":"#VALUE!"}},null,null,null,null,null,null,null,null,null,null,null,null,null,null,null,null,null,null,null,null,null,null,null,null,{"$f":"L104*R5*AI5","v":{"$error":"#VALUE!"}}]
[null,null,null,null,null,null,null,null,null,{"$error":"#VALUE!"},{"$error":"#VALUE!"},{"$error":"#VALUE!"},null,null,null,null,null,null,null,null,null,null,null,null,null,null,null,null,null,null,null,null,null,null,null,null,{"$error":"#VALUE!"}]
[null,null,null,null,null,null,null,null,null,{"$error":"#VALUE!"},{"$error":"#VALUE!"},{"$error":"#VALUE!"},null,null,null,null,null,null,null,null,null,null,null,null,null,null,null,null,null,null,null,null,null,null,null,null,{"$error":"#VALUE!"}]
[null,null,null,null,null,null,null,null,null,{"$error":"#VALUE!"},{"$error":"#VALUE!"},{"$error":"#VALUE!"},null,null,null,null,null,null,null,null,null,null,null,null,null,null,null,null,null,null,null,null,null,null,null,null,{"$error":"#VALUE!"}]
[null,null,null,null,null,null,null,null,null,{"$error":"#VALUE!"},{"$error":"#VALUE!"},{"$error":"#VALUE!"},null,null,null,null,null,null,null,null,null,null,null,null,null,null,null,null,null,null,null,null,null,null,null,null,{"$error":"#VALUE!"}]
[null,null,null,null,null,null,null,null,null,{"$error":"#VALUE!"},{"$error":"#VALUE!"},{"$error":"#VALUE!"},null,null,null,null,null,null,null,null,null,null,null,null,null,null,null,null,null,null,null,null,null,null,null,null,{"$error":"#VALUE!"}]
[null,null,null,null,null,null,null,null,null,{"$error":"#VALUE!"},{"$error":"#VALUE!"},{"$error":"#VALUE!"},null,null,null,null,null,null,null,null,null,null,null,null,null,null,null,null,null,null,null,null,null,null,null,null,{"$error":"#VALUE!"}]
[null,null,null,null,null,null,null,null,null,{"$error":"#VALUE!"},{"$error":"#VALUE!"},{"$error":"#VALUE!"},null,null,null,null,null,null,null,null,null,null,null,null,null,null,null,null,null,null,null,null,null,null,null,null,{"$error":"#VALUE!"}]
[null,null,null,null,null,null,null,null,null,{"$error":"#VALUE!"},{"$error":"#VALUE!"},{"$error":"#VALUE!"},null,null,null,null,null,null,null,null,null,null,null,null,null,null,null,null,null,null,null,null,null,null,null,null,{"$error":"#VALUE!"}]
[null,null,null,null,null,null,null,null,null,{"$error":"#VALUE!"},{"$error":"#VALUE!"},{"$error":"#VALUE!"},null,null,null,null,null,null,null,null,null,null,null,null,null,null,null,null,null,null,null,null,null,null,null,null,{"$error":"#VALUE!"}]
[null,null,null,null,null,null,null,null,null,{"$error":"#VALUE!"},{"$error":"#VALUE!"},{"$error":"#VALUE!"},null,null,null,null,null,null,null,null,null,null,null,null,null,null,null,null,null,null,null,null,null,null,null,null,{"$error":"#VALUE!"}]
[null,null,null,null,null,null,null,null,null,{"$error":"#VALUE!"},{"$error":"#VALUE!"},{"$error":"#VALUE!"},null,null,null,null,null,null,null,null,null,null,null,null,null,null,null,null,null,null,null,null,null,null,null,null,{"$error":"#VALUE!"}]
[null,null,null,null,null,null,null,null,null,{"$error":"#VALUE!"},{"$error":"#VALUE!"},{"$error":"#VALUE!"},null,null,null,null,null,null,null,null,null,null,null,null,null,null,null,null,null,null,null,null,null,null,null,null,{"$error":"#VALUE!"}]

{"sheet":"T_RCUT_Sig","index":64,"n_rows":115,"n_cols":72,"rows_kept":115,"cut":false,"hidden":true,"merged":[[1,34,2,34],[1,36,2,36],[1,39,1,54],[1,56,1,71],[100,9,100,11],[100,36,101,36],[0,19,0,28],[0,30,0,32],[1,9,1,11],[1,13,1,17],[1,21,1,25],[1,27,1,28],[1,30,2,30],[1,31,2,31],[1,32,2,32]]}
[null,null,null,null,null,null,null,null,null,null,null,null,null,null,null,null,null,null,null,"Conflicting Traffic Complexity",null,null,null,null,null,null,null,null,null,null,"Pedestrian Complexity"]
[null,null,null,null,null,null,null,null,null,"Exposure",null,null,null,"Severity",null,null,null,null,null,"Traffic Control",null,"Conflicting Lanes",null,null,null,null,null,"Conflicting Speed",null,null,"Indirect Paths Indicator","Non-intuitive movements indicator","Pedestrian Complexity factor",null,"Total Complexity Multiplier",null,"Exposure-Severity-Complexity Product",null,null,"Included in Mvmt1",null,null,null,null,null,null,null,null,null,null,null,null,null,null,null,null,"Included in Mvmt2"]
["#","Conflict Type","Mvmt1","Mvmt1_gen","Mvmt1_SpeedCat","Mvmt2","Mvmt2_gen","Mvmt2_SpeedCat",null,"Q1","Q2","I",null,"Speed_V1","Speed_V2","Angle","delta_V","P_FSI",null,null,null,"MajC","MinC","MajM/P","MinM/P","Score",null,"Speed","Factor",null,null,null,null,null,null,null,null,null,null,"MajT1","MajL1","MajR1","MajT2","MajL2","MajR2","MinT1","MinL1","MinR1","MinT2","MinL2","MinR2","MajNM1","MajNM2","MinNM1","MinNM2",null,"MajT1","MajL1","MajR1","MajT2","MajL2","MajR2","MinT1","MinL1","MinR1","MinT2","MinL2","MinR2","MajNM1","MajNM2","MinNM1","MinNM2"]
[1,"Crossing","EBT","MajT1","Major thru","WBL","MajL2","Major left",null,{"$f":"SUMPRODUCT($AN4:$BC4,$AN$17:$BC$17)","v":{"$error":"#VALUE!"}},{"$f":"SUMPRODUCT($BE4:$BT4,$BE$17:$BT$17)","v":{"$error":"#VALUE!"}},{"$f":"PRODUCT(J4:K4)","v":{"$error":"#VALUE!"}},null,{"$f":"VLOOKUP(E4,SSI_AGI_Range_VehSpeed,5,FALSE)","v":0},{"$f":"VLOOKUP(H4,SSI_AGI_Range_VehSpeed,5,FALSE)","v":20},{"$f":"IF(B4=\"Nonmotorized\",\"\",VLOOKUP(B4,SSI_AGI_Range_CollAngles,5,FALSE))","v":90},{"$f":"IF(B4=\"Nonmotorized\",\"\",SQRT(N4^2+O4^2-2*N4*O4*COS(RADIANS(P4)))/2)","v":10},{"$f":"IF(B4=\"Nonmotorized\",1/(1+EXP(3.8432-0.1237*O4)),(Q4/SSI_AGI_RegAlpha)^SSI_AGI_RegK+(Q4/SSI_AGI_RegAlpha)^SSI_AGI_RegK-((Q4/SSI_AGI_RegAlpha)^SSI_AGI_RegK)*((Q4/SSI_AGI_RegAlpha)^SSI_AGI_RegK))","v":1.4431392232699444E-3},null,{"$f":"SSI_AGI_ProtFactor","v":0.505},null,1,null,null,null,{"$f":"MAX(1,IF(B4<>\"Pedestrian\",V4*SSI_AGI_MajorThruLanes+W4*SSI_AGI_MinorThruLanes+X4*IF(SSI_AGI_MajorThruLanes=1,SSI_AGI_MergeWeightL1,IF(SSI_AGI_MajorThruLanes=2,SSI_AGI_MergeWeightL1+SSI_AGI_MergeWeightL2,SSI_AGI_MergeWeightL1+SSI_AGI_MergeWeightL2+SSI_AGI_MergeWeightL3*(SSI_AGI_MajorThruLanes-2)))+Y4*IF(SSI_AGI_MinorThruLanes=1,SSI_AGI_MergeWeightL1,IF(SSI_AGI_MinorThruLanes=2,SSI_AGI_MergeWeightL1+SSI_AGI_MergeWeightL2,SSI_AGI_MergeWeightL1+SSI_AGI_MergeWeightL2+SSI_AGI_MergeWeightL3*(SSI_AGI_MinorThruLanes-2))),V4*SSI_AGI_MajorThruLanes+W4*SSI_AGI_MinorThruLanes+X4*IF(SSI_AGI_MajorThruLanes=1,SSI_AGI_NM_MergeWeightL1,IF(SSI_AGI_MajorThruLanes=2,SSI_AGI_NM_MergeWeightL1+SSI_AGI_NM_MergeWeightL2,SSI_AGI_NM_MergeWeightL1+SSI_AGI_NM_MergeWeightL2+SSI_AGI_NM_MergeWeightL3*(SSI_AGI_MajorThruLanes-2)))+Y4*IF(SSI_AGI_MinorThruLanes=1,SSI_AGI_NM_MergeWeightL1,IF(SSI_AGI_MinorThruLanes=2,SSI_AGI_NM_MergeWeightL1+SSI_AGI_NM_MergeWeightL2,SSI_AGI_NM_MergeWeightL1+SSI_AGI_NM_MergeWeightL2+SSI_AGI_NM_MergeWeightL3*(SSI_AGI_MinorThruLanes-2)))))","v":1},null,{"$f":"IF(B4=\"Diverging\",\"\",SSI_AGI_VehSpeed_MjrThru)","v":0},{"$f":"IF(B4=\"Diverging\",1,1-((60-AB4)/60*0.1/0.15))","v":0.33333333333333326},null,null,null,{"$f":"1+AE4+AF4","v":1},null,{"$f":"PRODUCT(Z4,T4,AC4,AG4)","v":0.16833333333333331},null,{"$f":"L4*R4*AI4","v":{"$error":"#VALUE!"}},null,null,{"$f":"IF(ISNUMBER(SEARCH(AN$3,$D4)),1,\"\")","v":1},{"$f":"IF(ISNUMBER(SEARCH(AO$3,$D4)),1,\"\")","v":""},"","","","","","","","","","","","","","",null,{"$f":"IF(ISNUMBER(SEARCH(BE$3,$G4)),1,\"\")","v":""},{"$f":"IF(ISNUMBER(SEARCH(BF$3,$G4)),1,\"\")","v":""},"","",1,"","","","","","","","","","",""]
[2,"Merging","EBT","MajT1","Major thru","NBR, NBL","MinL1, MinR1","Signal near",null,{"$error":"#VALUE!"},{"$error":"#VALUE!"},{"$f":"PRODUCT(J5:K5)","v":{"$error":"#VALUE!"}},null,0,15,45,{"$f":"IF(B5=\"Nonmotorized\",\"\",SQRT(N5^2+O5^2-2*N5*O5*COS(RADIANS(P5)))/2)","v":7.5},4.8454301532720461E-4,null,{"$f":"SSI_AGI_ProtFactor","v":0.505},null,null,null,1,null,1,null,0,0.33333333333333326,null,null,null,{"$f":"1+AE5+AF5","v":1},null,0.16833333333333331,null,{"$f":"L5*R5*AI5","v":{"$error":"#VALUE!"}},null,null,{"$f":"IF(ISNUMBER(SEARCH(AN$3,$D5)),1,\"\")","v":1},"","","","","","","","","","","","","","","",null,{"$f":"IF(ISNUMBER(SEARCH(BE$3,$G5)),1,\"\")","v":""},"","","","","","",1,1,"","","","","","",""]
[3,"Merging","EBR","MajR1","Major right","WBL","MajL2","Major left",null,{"$error":"#VALUE!"},{"$error":"#VALUE!"},{"$error":"#VALUE!"},null,15,20,45,7.0840654162717795,3.9022923271840544E-4,null,{"$f":"SSI_AGI_ProtFactor","v":0.505},null,1,null,null,null,1,null,0,0.33333333333333326,null,null,null,1,null,0.16833333333333331,null,{"$error":"#VALUE!"},null,null,"","",1,"","","","","","","","","","","","","",null,"","","","",1,"","","","","","","","","","",""]
[4,"Merging","WBT, WBL","MajT2, MajL2","Major thru","NBL","MinL1","Signal near",null,{"$error":"#VALUE!"},{"$error":"#VALUE!"},{"$error":"#VALUE!"},null,0,15,45,7.5,4.8454301532720461E-4,null,{"$f":"SSI_AGI_ProtFactor","v":0.505},null,null,null,1,null,1,null,0,0.33333333333333326,null,null,null,1,null,0.16833333333333331,null,{"$error":"#VALUE!"},null,null,"","","",1,1,"","","","","","","","","","","",null,"","","","","","","",1,"","","","","","","",""]
[5,"Diverging","EBT, NBR","MajT1, MinR1","Major thru","NBL","MinL1","Major left",null,{"$error":"#VALUE!"},{"$error":"#VALUE!"},{"$error":"#VALUE!"},null,0,20,10,10,1.4431392232699444E-3,null,1,null,null,null,null,null,1,null,"",1,null,null,null,1,null,1,null,{"$error":"#VALUE!"},null,null,1,"","","","","","","",1,"","","","","","","",null,"","","","","","","",1,"","","","","","","",""]
[6,"Diverging","WBT, NBL","MajT2, MinL1","Major thru","WBL","MajL2","Major left",null,{"$error":"#VALUE!"},{"$error":"#VALUE!"},{"$error":"#VALUE!"},null,0,20,10,10,1.4431392232699444E-3,null,1,null,null,null,null,null,1,null,"",1,null,null,null,1,null,1,null,{"$error":"#VALUE!"},null,null,"","","",1,"","","",1,"","","","","","","","",null,"","","","",1,"","","","","","","","","","",""]
[7,"Diverging","EBT","MajT1","Major thru","EBR","MajR1","Major right",null,{"$error":"#VALUE!"},{"$error":"#VALUE!"},{"$error":"#VALUE!"},null,0,15,10,7.5,4.8454301532720461E-4,null,{"$f":"SSI_AGI_PermFactor","v":1},null,null,null,null,null,1,null,"",1,null,null,null,1,null,1,null,{"$error":"#VALUE!"},null,null,1,"","","","","","","","","","","","","","","",null,"","",1,"","","","","","","","","","","","",""]
[8,"Nonmotorized",null,"MajNM1, MajNM2","Nonmotorized","WBT, NBL","MajT2, MinL1","Major thru",null,{"$error":"#VALUE!"},{"$error":"#VALUE!"},{"$error":"#VALUE!"},null,0,0,"","",2.0975532400616122E-2,null,{"$f":"SSI_AGI_ProtFactor","v":0.505},null,1,null,null,null,1,null,0,0.33333333333333326,null,1,null,2,null,0.33666666666666661,null,{"$error":"#VALUE!"},null,null,"","","","","","","","","","","","",1,1,"","",null,"","","",1,"","","",1,"","","","","","","",""]
[9,"Nonmotorized",null,"MajNM1, MajNM2","Nonmotorized","EBT","MajT1","Major thru",null,{"$error":"#VALUE!"},{"$error":"#VALUE!"},{"$error":"#VALUE!"},null,0,0,"","",2.0975532400616122E-2,null,0.505,null,1,null,null,null,1,null,0,0.33333333333333326,null,1,null,2,null,0.33666666666666661,null,{"$error":"#VALUE!"},null,null,"","","","","","","","","","","","",1,1,"","",null,1,"","","","","","","","","","","","","","",""]
[10,"Nonmotorized",null,"MajNM1, MajNM2","Nonmotorized","EBR","MajR1","Major right",null,{"$error":"#VALUE!"},{"$error":"#VALUE!"},{"$error":"#VALUE!"},null,0,15,"","",0.1205004039155782,null,0.505,null,1,null,null,null,1,null,0,0.33333333333333326,null,1,null,2,null,0.33666666666666661,null,{"$error":"#VALUE!"},null,null,"","","","","","","","","","","","",1,1,"","",null,"","",1,"","","","","","","","","","","","",""]
[11,"Nonmotorized",null,"MinNM1","Nonmotorized","EBR","MajR1","Major right",null,{"$error":"#VALUE!"},{"$error":"#VALUE!"},{"$error":"#VALUE!"},null,0,15,"","",0.1205004039155782,null,0.505,null,null,1,2,null,1.5,null,0,0.33333333333333326,null,null,null,1,null,0.25249999999999995,null,{"$error":"#VALUE!"},null,null,"","","","","","","","","","","","","","",1,"",null,"","",1,"","","","","","","","","","","","",""]
[12,"Nonmotorized",null,"MinNM1","Nonmotorized","WBL","MajL2","Major left",null,{"$error":"#VALUE!"},{"$error":"#VALUE!"},{"$error":"#VALUE!"},null,0,20,"","",0.20274912921655375,null,0.505,null,null,1,2,null,1.5,null,0,0.33333333333333326,null,null,null,1,null,0.25249999999999995,null,{"$error":"#VALUE!"},null,null,"","","","","","","","","","","","","","",1,"",null,"","","","",1,"","","","","","","","","","",""]
[13,"Nonmotorized",null,"MinNM1","Nonmotorized","NBL,NBR","MinL1, MinR1","Signal near",null,{"$error":"#VALUE!"},{"$error":"#VALUE!"},{"$error":"#VALUE!"},null,0,15,"","",0.1205004039155782,null,0.505,null,null,1,null,null,1,null,{"$f":"IF(B16=\"Diverging\",\"\",SSI_AGI_VehSpeed_MnrThru)","v":0},0.33333333333333326,null,null,null,1,null,0.16833333333333331,null,{"$error":"#VALUE!"},null,null,"","","","","","","","","","","","","","",1,"",null,"","","","","","","",1,1,"","","","","","",""]
[null,null,null,null,null,null,null,null,null,null,null,null,null,null,null,null,null,null,null,null,null,null,null,null,null,null,null,null,null,null,null,null,null,null,null,null,null,null,null,{"$f":"'SSI Inputs'!$D$26","v":{"$error":"#VALUE!"}},{"$f":"'SSI Inputs'!$D$27","v":{"$error":"#VALUE!"}},{"$f":"'SSI Inputs'!$D$28","v":{"$error":"#VALUE!"}},{"$f":"'SSI Inputs'!$D$30","v":{"$error":"#VALUE!"}},{"$f":"'SSI Inputs'!$D$31","v":{"$error":"#VALUE!"}},{"$f":"'SSI Inputs'!$D$32","v":{"$error":"#VALUE!"}},{"$f":"'SSI Inputs'!$D$34","v":{"$error":"#VALUE!"}},{"$f":"'SSI Inputs'!$D$35","v":{"$error":"#VALUE!"}},{"$f":"'SSI Inputs'!$D$36","v":{"$error":"#VALUE!"}},{"$f":"'SSI Inputs'!$D$38","v":{"$error":"#VALUE!"}},{"$f":"'SSI Inputs'!$D$39","v":{"$error":"#VALUE!"}},{"$f":"'SSI Inputs'!$D$40","v":{"$error":"#VALUE!"}},{"$f":"'SSI Inputs'!$Q$18","v":12.5},{"$f":"'SSI Inputs'!$Q$19","v":12.5},{"$f":"'SSI Inputs'!$Q$20","v":12.5},{"$f":"'SSI Inputs'!$Q$21","v":12.5},null,{"$f":"'SSI Inputs'!$D$26","v":{"$error":"#VALUE!"}},{"$f":"'SSI Inputs'!$D$27","v":{"$error":"#VALUE!"}},{"$f":"'SSI Inputs'!$D$28","v":{"$error":"#VALUE!"}},{"$f":"'SSI Inputs'!$D$30","v":{"$error":"#VALUE!"}},{"$f":"'SSI Inputs'!$D$31","v":{"$error":"#VALUE!"}},{"$f":"'SSI Inputs'!$D$32","v":{"$error":"#VALUE!"}},{"$f":"'SSI Inputs'!$D$34","v":{"$error":"#VALUE!"}},{"$f":"'SSI Inputs'!$D$35","v":{"$error":"#VALUE!"}},{"$f":"'SSI Inputs'!$D$36","v":{"$error":"#VALUE!"}},{"$f":"'SSI Inputs'!$D$38","v":{"$error":"#VALUE!"}},{"$f":"'SSI Inputs'!$D$39","v":{"$error":"#VALUE!"}},{"$f":"'SSI Inputs'!$D$40","v":{"$error":"#VALUE!"}},{"$f":"'SSI Inputs'!$Q$18","v":12.5},{"$f":"'SSI Inputs'!$Q$19","v":12.5},{"$f":"'SSI Inputs'!$Q$20","v":12.5},{"$f":"'SSI Inputs'!$Q$21","v":12.5}]
[null,null,null,null,null,null,null,null,null,null,null,null,null,null,null,null,null,null,null,null,null,null,null,null,null,null,null,null,null,null,null,null,null,null,null,null,null,null,"D",{"$f":"'SSI Inputs'!$E$26","v":{"$error":"#VALUE!"}},{"$f":"'SSI Inputs'!$E$27","v":{"$error":"#VALUE!"}},{"$f":"'SSI Inputs'!$E$28","v":{"$error":"#VALUE!"}},{"$f":"'SSI Inputs'!$E$30","v":{"$error":"#VALUE!"}},{"$f":"'SSI Inputs'!$E$31","v":{"$error":"#VALUE!"}},{"$f":"'SSI Inputs'!$E$32","v":{"$error":"#VALUE!"}},{"$f":"'SSI Inputs'!$E$34","v":{"$error":"#VALUE!"}},{"$f":"'SSI Inputs'!$E$35","v":{"$error":"#VALUE!"}},{"$f":"'SSI Inputs'!$E$36","v":{"$error":"#VALUE!"}},{"$f":"'SSI Inputs'!$E$38","v":{"$error":"#VALUE!"}},{"$f":"'SSI Inputs'!$E$39","v":{"$error":"#VALUE!"}},{"$f":"'SSI Inputs'!$E$40","v":{"$error":"#VALUE!"}},{"$f":"'SSI Inputs'!$R$18","v":12.5},{"$f":"'SSI Inputs'!$R$19","v":12.5},{"$f":"'SSI Inputs'!$R$20","v":12.5},{"$f":"'SSI Inputs'!$R$21","v":12.5},"D",{"$f":"'SSI Inputs'!$E$26","v":{"$error":"#VALUE!"}},{"$f":"'SSI Inputs'!$E$27","v":{"$error":"#VALUE!"}},{"$f":"'SSI Inputs'!$E$28","v":{"$error":"#VALUE!"}},{"$f":"'SSI Inputs'!$E$30","v":{"$error":"#VALUE!"}},{"$f":"'SSI Inputs'!$E$31","v":{"$error":"#VALUE!"}},{"$f":"'SSI Inputs'!$E$32","v":{"$error":"#VALUE!"}},{"$f":"'SSI Inputs'!$E$34","v":{"$error":"#VALUE!"}},{"$f":"'SSI Inputs'!$E$35","v":{"$error":"#VALUE!"}},{"$f":"'SSI Inputs'!$E$36","v":{"$error":"#VALUE!"}},{"$f":"'SSI Inputs'!$E$38","v":{"$error":"#VALUE!"}},{"$f":"'SSI Inputs'!$E$39","v":{"$error":"#VALUE!"}},{"$f":"'SSI Inputs'!$E$40","v":{"$error":"#VALUE!"}},{"$f":"'SSI Inputs'!$R$18","v":12.5},{"$f":"'SSI Inputs'!$R$19","v":12.5},{"$f":"'SSI Inputs'!$R$20","v":12.5},{"$f":"'SSI Inputs'!$R$21","v":12.5}]
[]
[]
[]
[]
[]
[]
[]
[]
[]
[]
[]
[]
[]
[]
[]
[]
[]
[]
[]
[]
[]
[]
[]
[]
[]
[]
[]
[]
[]
[]
[]
[]
[]
[]
[]
[]
[]
[]
[]
[]
[]
[]
[]
[]
[]
[]
[]
[]
[]
[]
[]
[]
[]
[]
[]
[]
[]
[]
[]
[]
[]
[]
[]
[]
[]
[]
[]
[]
[]
[]
[]
[]
[]
[]
[]
[]
[]
[]
[]
[]
[]
[]
[null,null,null,null,null,null,null,null,null,"Exposure",null,null,null,null,null,null,null,null,null,null,null,null,null,null,null,null,null,null,null,null,null,null,null,null,null,null,"Exposure-Severity-Complexity Product"]
[null,null,null,null,null,null,null,null,null,"Q1","Q2","I"]
[null,null,null,null,null,null,null,null,null,{"$f":"SUMPRODUCT($AN4:$BC4,$AN$18:$BC$18)","v":{"$error":"#VALUE!"}},{"$f":"SUMPRODUCT($BE4:$BT4,$BE$18:$BT$18)","v":{"$error":"#VALUE!"}},{"$f":"PRODUCT(J103:K103)","v":{"$error":"#VALUE!"}},null,null,null,null,null,null,null,null,null,null,null,null,null,null,null,null,null,null,null,null,null,null,null,null,{"$f":"L103*R4*AI4","v":{"$error":"#VALUE!"}}]
[null,null,null,null,null,null,null,null,null,{"$f":"SUMPRODUCT($AN5:$BC5,$AN$18:$BC$18)","v":{"$error":"#VALUE!"}},{"$f":"SUMPRODUCT($BE5:$BT5,$BE$18:$BT$18)","v":{"$error":"#VALUE!"}},{"$f":"PRODUCT(J104:K104)","v":{"$error":"#VALUE!"}},null,null,null,null,null,null,null,null,null,null,null,null,null,null,null,null,null,null,null,null,null,null,null,null,{"$f":"L104*R5*AI5","v":{"$error":"#VALUE!"}}]
[null,null,null,null,null,null,null,null,null,{"$error":"#VALUE!"},{"$error":"#VALUE!"},{"$error":"#VALUE!"},null,null,null,null,null,null,null,null,null,null,null,null,null,null,null,null,null,null,null,null,null,null,null,null,{"$error":"#VALUE!"}]
[null,null,null,null,null,null,null,null,null,{"$error":"#VALUE!"},{"$error":"#VALUE!"},{"$error":"#VALUE!"},null,null,null,null,null,null,null,null,null,null,null,null,null,null,null,null,null,null,null,null,null,null,null,null,{"$error":"#VALUE!"}]
[null,null,null,null,null,null,null,null,null,{"$error":"#VALUE!"},{"$error":"#VALUE!"},{"$error":"#VALUE!"},null,null,null,null,null,null,null,null,null,null,null,null,null,null,null,null,null,null,null,null,null,null,null,null,{"$error":"#VALUE!"}]
[null,null,null,null,null,null,null,null,null,{"$error":"#VALUE!"},{"$error":"#VALUE!"},{"$error":"#VALUE!"},null,null,null,null,null,null,null,null,null,null,null,null,null,null,null,null,null,null,null,null,null,null,null,null,{"$error":"#VALUE!"}]
[null,null,null,null,null,null,null,null,null,{"$error":"#VALUE!"},{"$error":"#VALUE!"},{"$error":"#VALUE!"},null,null,null,null,null,null,null,null,null,null,null,null,null,null,null,null,null,null,null,null,null,null,null,null,{"$error":"#VALUE!"}]
[null,null,null,null,null,null,null,null,null,{"$error":"#VALUE!"},{"$error":"#VALUE!"},{"$error":"#VALUE!"},null,null,null,null,null,null,null,null,null,null,null,null,null,null,null,null,null,null,null,null,null,null,null,null,{"$error":"#VALUE!"}]
[null,null,null,null,null,null,null,null,null,{"$error":"#VALUE!"},{"$error":"#VALUE!"},{"$error":"#VALUE!"},null,null,null,null,null,null,null,null,null,null,null,null,null,null,null,null,null,null,null,null,null,null,null,null,{"$error":"#VALUE!"}]
[null,null,null,null,null,null,null,null,null,{"$error":"#VALUE!"},{"$error":"#VALUE!"},{"$error":"#VALUE!"},null,null,null,null,null,null,null,null,null,null,null,null,null,null,null,null,null,null,null,null,null,null,null,null,{"$error":"#VALUE!"}]
[null,null,null,null,null,null,null,null,null,{"$error":"#VALUE!"},{"$error":"#VALUE!"},{"$error":"#VALUE!"},null,null,null,null,null,null,null,null,null,null,null,null,null,null,null,null,null,null,null,null,null,null,null,null,{"$error":"#VALUE!"}]
[null,null,null,null,null,null,null,null,null,{"$error":"#VALUE!"},{"$error":"#VALUE!"},{"$error":"#VALUE!"},null,null,null,null,null,null,null,null,null,null,null,null,null,null,null,null,null,null,null,null,null,null,null,null,{"$error":"#VALUE!"}]
[null,null,null,null,null,null,null,null,null,{"$error":"#VALUE!"},{"$error":"#VALUE!"},{"$error":"#VALUE!"},null,null,null,null,null,null,null,null,null,null,null,null,null,null,null,null,null,null,null,null,null,null,null,null,{"$error":"#VALUE!"}]

{"sheet":"T_RCUT_Unsig","index":65,"n_rows":115,"n_cols":72,"rows_kept":115,"cut":false,"hidden":true,"merged":[[1,34,2,34],[1,36,2,36],[1,39,1,54],[1,56,1,71],[100,9,100,11],[100,36,101,36],[0,19,0,28],[0,30,0,32],[1,9,1,11],[1,13,1,17],[1,21,1,25],[1,27,1,28],[1,30,2,30],[1,31,2,31],[1,32,2,32]]}
[null,null,null,null,null,null,null,null,null,null,null,null,null,null,null,null,null,null,null,"Conflicting Traffic Complexity",null,null,null,null,null,null,null,null,null,null,"Pedestrian Complexity"]
[null,null,null,null,null,null,null,null,null,"Exposure",null,null,null,"Severity",null,null,null,null,null,"Traffic Control",null,"Conflicting Lanes",null,null,null,null,null,"Conflicting Speed",null,null,"Indirect Paths Indicator","Non-intuitive movements indicator","Pedestrian Complexity factor",null,"Total Complexity Multiplier",null,"Exposure-Severity-Complexity Product",null,null,"Included in Mvmt1",null,null,null,null,null,null,null,null,null,null,null,null,null,null,null,null,"Included in Mvmt2"]
["#","Conflict Type","Mvmt1","Mvmt1_gen","Mvmt1_SpeedCat","Mvmt2","Mvmt2_gen","Mvmt2_SpeedCat",null,"Q1","Q2","I",null,"Speed_V1","Speed_V2","Angle","delta_V","P_FSI",null,null,null,"MajC","MinC","MajM/P","MinM/P","Score",null,"Speed","Factor",null,null,null,null,null,null,null,null,null,null,"MajT1","MajL1","MajR1","MajT2","MajL2","MajR2","MinT1","MinL1","MinR1","MinT2","MinL2","MinR2","MajNM1","MajNM2","MinNM1","MinNM2",null,"MajT1","MajL1","MajR1","MajT2","MajL2","MajR2","MinT1","MinL1","MinR1","MinT2","MinL2","MinR2","MajNM1","MajNM2","MinNM1","MinNM2"]
[1,"Crossing","EBT","MajT1","Major thru","WBL","MajL2","Major left",null,{"$f":"SUMPRODUCT($AN4:$BC4,$AN$17:$BC$17)","v":{"$error":"#VALUE!"}},{"$f":"SUMPRODUCT($BE4:$BT4,$BE$17:$BT$17)","v":{"$error":"#VALUE!"}},{"$f":"PRODUCT(J4:K4)","v":{"$error":"#VALUE!"}},null,{"$f":"VLOOKUP(E4,SSI_AGI_Range_VehSpeed,5,FALSE)","v":0},{"$f":"VLOOKUP(H4,SSI_AGI_Range_VehSpeed,5,FALSE)","v":20},{"$f":"IF(B4=\"Nonmotorized\",\"\",VLOOKUP(B4,SSI_AGI_Range_CollAngles,5,FALSE))","v":90},{"$f":"IF(B4=\"Nonmotorized\",\"\",SQRT(N4^2+O4^2-2*N4*O4*COS(RADIANS(P4)))/2)","v":10},{"$f":"IF(B4=\"Nonmotorized\",1/(1+EXP(3.8432-0.1237*O4)),(Q4/SSI_AGI_RegAlpha)^SSI_AGI_RegK+(Q4/SSI_AGI_RegAlpha)^SSI_AGI_RegK-((Q4/SSI_AGI_RegAlpha)^SSI_AGI_RegK)*((Q4/SSI_AGI_RegAlpha)^SSI_AGI_RegK))","v":1.4431392232699444E-3},null,{"$f":"SSI_AGI_StopFactor","v":0.72500000000000009},null,1,null,null,null,{"$f":"MAX(1,IF(B4<>\"Pedestrian\",V4*SSI_AGI_MajorThruLanes+W4*SSI_AGI_MinorThruLanes+X4*IF(SSI_AGI_MajorThruLanes=1,SSI_AGI_MergeWeightL1,IF(SSI_AGI_MajorThruLanes=2,SSI_AGI_MergeWeightL1+SSI_AGI_MergeWeightL2,SSI_AGI_MergeWeightL1+SSI_AGI_MergeWeightL2+SSI_AGI_MergeWeightL3*(SSI_AGI_MajorThruLanes-2)))+Y4*IF(SSI_AGI_MinorThruLanes=1,SSI_AGI_MergeWeightL1,IF(SSI_AGI_MinorThruLanes=2,SSI_AGI_MergeWeightL1+SSI_AGI_MergeWeightL2,SSI_AGI_MergeWeightL1+SSI_AGI_MergeWeightL2+SSI_AGI_MergeWeightL3*(SSI_AGI_MinorThruLanes-2))),V4*SSI_AGI_MajorThruLanes+W4*SSI_AGI_MinorThruLanes+X4*IF(SSI_AGI_MajorThruLanes=1,SSI_AGI_NM_MergeWeightL1,IF(SSI_AGI_MajorThruLanes=2,SSI_AGI_NM_MergeWeightL1+SSI_AGI_NM_MergeWeightL2,SSI_AGI_NM_MergeWeightL1+SSI_AGI_NM_MergeWeightL2+SSI_AGI_NM_MergeWeightL3*(SSI_AGI_MajorThruLanes-2)))+Y4*IF(SSI_AGI_MinorThruLanes=1,SSI_AGI_NM_MergeWeightL1,IF(SSI_AGI_MinorThruLanes=2,SSI_AGI_NM_MergeWeightL1+SSI_AGI_NM_MergeWeightL2,SSI_AGI_NM_MergeWeightL1+SSI_AGI_NM_MergeWeightL2+SSI_AGI_NM_MergeWeightL3*(SSI_AGI_MinorThruLanes-2)))))","v":1},null,{"$f":"IF(B4=\"Diverging\",\"\",SSI_AGI_VehSpeed_MjrThru)","v":0},{"$f":"IF(B4=\"Diverging\",1,1-((60-AB4)/60*0.1/0.15))","v":0.33333333333333326},null,null,null,{"$f":"1+AE4+AF4","v":1},null,{"$f":"PRODUCT(Z4,T4,AC4,AG4)","v":0.24166666666666664},null,{"$f":"L4*R4*AI4","v":{"$error":"#VALUE!"}},null,null,{"$f":"IF(ISNUMBER(SEARCH(AN$3,$D4)),1,\"\")","v":1},{"$f":"IF(ISNUMBER(SEARCH(AO$3,$D4)),1,\"\")","v":""},"","","","","","","","","","","","","","",null,{"$f":"IF(ISNUMBER(SEARCH(BE$3,$G4)),1,\"\")","v":""},{"$f":"IF(ISNUMBER(SEARCH(BF$3,$G4)),1,\"\")","v":""},"","",1,"","","","","","","","","","",""]
[2,"Merging","EBT","MajT1","Major thru","NBR, NBL","MinL1, MinR1","Stop near",null,{"$error":"#VALUE!"},{"$error":"#VALUE!"},{"$f":"PRODUCT(J5:K5)","v":{"$error":"#VALUE!"}},null,0,15,45,{"$f":"IF(B5=\"Nonmotorized\",\"\",SQRT(N5^2+O5^2-2*N5*O5*COS(RADIANS(P5)))/2)","v":7.5},4.8454301532720461E-4,null,{"$f":"SSI_AGI_StopFactor","v":0.72500000000000009},null,null,null,1,null,1,null,0,0.33333333333333326,null,null,null,{"$f":"1+AE5+AF5","v":1},null,0.24166666666666664,null,{"$f":"L5*R5*AI5","v":{"$error":"#VALUE!"}},null,null,{"$f":"IF(ISNUMBER(SEARCH(AN$3,$D5)),1,\"\")","v":1},"","","","","","","","","","","","","","","",null,{"$f":"IF(ISNUMBER(SEARCH(BE$3,$G5)),1,\"\")","v":""},"","","","","","",1,1,"","","","","","",""]
[3,"Merging","EBR","MajR1","Major right","WBL","MajL2","Major left",null,{"$error":"#VALUE!"},{"$error":"#VALUE!"},{"$error":"#VALUE!"},null,15,20,45,7.0840654162717795,3.9022923271840544E-4,null,{"$f":"SSI_AGI_StopFactor","v":0.72500000000000009},null,1,null,null,null,1,null,0,0.33333333333333326,null,null,null,1,null,0.24166666666666664,null,{"$error":"#VALUE!"},null,null,"","",1,"","","","","","","","","","","","","",null,"","","","",1,"","","","","","","","","","",""]
[4,"Merging","WBT, WBL","MajT2, MajL2","Major thru","NBL","MinL1","Stop near",null,{"$error":"#VALUE!"},{"$error":"#VALUE!"},{"$error":"#VALUE!"},null,0,15,45,7.5,4.8454301532720461E-4,null,{"$f":"SSI_AGI_StopFactor","v":0.72500000000000009},null,null,null,1,null,1,null,0,0.33333333333333326,null,null,null,1,null,0.24166666666666664,null,{"$error":"#VALUE!"},null,null,"","","",1,1,"","","","","","","","","","","",null,"","","","","","","",1,"","","","","","","",""]
[5,"Diverging","EBT, NBR","MajT1, MinR1","Major thru","NBL","MinL1","Major left",null,{"$error":"#VALUE!"},{"$error":"#VALUE!"},{"$error":"#VALUE!"},null,0,20,10,10,1.4431392232699444E-3,null,1,null,null,null,null,null,1,null,"",1,null,null,null,1,null,1,null,{"$error":"#VALUE!"},null,null,1,"","","","","","","",1,"","","","","","","",null,"","","","","","","",1,"","","","","","","",""]
[6,"Diverging","WBT, NBL","MajT2, MinL1","Major thru","WBL","MajL2","Major left",null,{"$error":"#VALUE!"},{"$error":"#VALUE!"},{"$error":"#VALUE!"},null,0,20,10,10,1.4431392232699444E-3,null,1,null,null,null,null,null,1,null,"",1,null,null,null,1,null,1,null,{"$error":"#VALUE!"},null,null,"","","",1,"","","",1,"","","","","","","","",null,"","","","",1,"","","","","","","","","","",""]
[7,"Diverging","EBT","MajT1","Major thru","EBR","MajR1","Major right",null,{"$error":"#VALUE!"},{"$error":"#VALUE!"},{"$error":"#VALUE!"},null,0,15,10,7.5,4.8454301532720461E-4,null,{"$f":"SSI_AGI_PermFactor","v":1},null,null,null,null,null,1,null,"",1,null,null,null,1,null,1,null,{"$error":"#VALUE!"},null,null,1,"","","","","","","","","","","","","","","",null,"","",1,"","","","","","","","","","","","",""]
[8,"Nonmotorized",null,"MajNM1, MajNM2","Nonmotorized","WBT, NBL","MajT2, MinL1","Major thru",null,{"$error":"#VALUE!"},{"$error":"#VALUE!"},{"$error":"#VALUE!"},null,0,0,"","",2.0975532400616122E-2,null,{"$f":"SSI_AGI_StopFactor","v":0.72500000000000009},null,1,null,null,null,1,null,0,0.33333333333333326,null,1,null,2,null,0.48333333333333328,null,{"$error":"#VALUE!"},null,null,"","","","","","","","","","","","",1,1,"","",null,"","","",1,"","","",1,"","","","","","","",""]
[9,"Nonmotorized",null,"MajNM1, MajNM2","Nonmotorized","EBT","MajT1","Major thru",null,{"$error":"#VALUE!"},{"$error":"#VALUE!"},{"$error":"#VALUE!"},null,0,0,"","",2.0975532400616122E-2,null,0.72500000000000009,null,1,null,null,null,1,null,0,0.33333333333333326,null,1,null,2,null,0.48333333333333328,null,{"$error":"#VALUE!"},null,null,"","","","","","","","","","","","",1,1,"","",null,1,"","","","","","","","","","","","","","",""]
[10,"Nonmotorized",null,"MajNM1, MajNM2","Nonmotorized","EBR","MajR1","Major right",null,{"$error":"#VALUE!"},{"$error":"#VALUE!"},{"$error":"#VALUE!"},null,0,15,"","",0.1205004039155782,null,0.72500000000000009,null,1,null,null,null,1,null,0,0.33333333333333326,null,1,null,2,null,0.48333333333333328,null,{"$error":"#VALUE!"},null,null,"","","","","","","","","","","","",1,1,"","",null,"","",1,"","","","","","","","","","","","",""]
[11,"Nonmotorized",null,"MinNM1","Nonmotorized","EBR","MajR1","Major right",null,{"$error":"#VALUE!"},{"$error":"#VALUE!"},{"$error":"#VALUE!"},null,0,15,"","",0.1205004039155782,null,0.72500000000000009,null,null,1,2,null,1.5,null,0,0.33333333333333326,null,null,null,1,null,0.36249999999999999,null,{"$error":"#VALUE!"},null,null,"","","","","","","","","","","","","","",1,"",null,"","",1,"","","","","","","","","","","","",""]
[12,"Nonmotorized",null,"MinNM1","Nonmotorized","WBL","MajL2","Major left",null,{"$error":"#VALUE!"},{"$error":"#VALUE!"},{"$error":"#VALUE!"},null,0,20,"","",0.20274912921655375,null,0.72500000000000009,null,null,1,2,null,1.5,null,0,0.33333333333333326,null,null,null,1,null,0.36249999999999999,null,{"$error":"#VALUE!"},null,null,"","","","","","","","","","","","","","",1,"",null,"","","","",1,"","","","","","","","","","",""]
[13,"Nonmotorized",null,"MinNM1","Nonmotorized","NBL,NBR","MinL1, MinR1","Stop near",null,{"$error":"#VALUE!"},{"$error":"#VALUE!"},{"$error":"#VALUE!"},null,0,15,"","",0.1205004039155782,null,0.72500000000000009,null,null,1,null,null,1,null,{"$f":"IF(B16=\"Diverging\",\"\",SSI_AGI_VehSpeed_MnrThru)","v":0},0.33333333333333326,null,null,null,1,null,0.24166666666666664,null,{"$error":"#VALUE!"},null,null,"","","","","","","","","","","","","","",1,"",null,"","","","","","","",1,1,"","","","","","",""]
[null,null,null,null,null,null,null,null,null,null,null,null,null,null,null,null,null,null,null,null,null,null,null,null,null,null,null,null,null,null,null,null,null,null,null,null,null,null,null,{"$f":"'SSI Inputs'!$D$26","v":{"$error":"#VALUE!"}},{"$f":"'SSI Inputs'!$D$27","v":{"$error":"#VALUE!"}},{"$f":"'SSI Inputs'!$D$28","v":{"$error":"#VALUE!"}},{"$f":"'SSI Inputs'!$D$30","v":{"$error":"#VALUE!"}},{"$f":"'SSI Inputs'!$D$31","v":{"$error":"#VALUE!"}},{"$f":"'SSI Inputs'!$D$32","v":{"$error":"#VALUE!"}},{"$f":"'SSI Inputs'!$D$34","v":{"$error":"#VALUE!"}},{"$f":"'SSI Inputs'!$D$35","v":{"$error":"#VALUE!"}},{"$f":"'SSI Inputs'!$D$36","v":{"$error":"#VALUE!"}},{"$f":"'SSI Inputs'!$D$38","v":{"$error":"#VALUE!"}},{"$f":"'SSI Inputs'!$D$39","v":{"$error":"#VALUE!"}},{"$f":"'SSI Inputs'!$D$40","v":{"$error":"#VALUE!"}},{"$f":"'SSI Inputs'!$Q$18","v":12.5},{"$f":"'SSI Inputs'!$Q$19","v":12.5},{"$f":"'SSI Inputs'!$Q$20","v":12.5},{"$f":"'SSI Inputs'!$Q$21","v":12.5},null,{"$f":"'SSI Inputs'!$D$26","v":{"$error":"#VALUE!"}},{"$f":"'SSI Inputs'!$D$27","v":{"$error":"#VALUE!"}},{"$f":"'SSI Inputs'!$D$28","v":{"$error":"#VALUE!"}},{"$f":"'SSI Inputs'!$D$30","v":{"$error":"#VALUE!"}},{"$f":"'SSI Inputs'!$D$31","v":{"$error":"#VALUE!"}},{"$f":"'SSI Inputs'!$D$32","v":{"$error":"#VALUE!"}},{"$f":"'SSI Inputs'!$D$34","v":{"$error":"#VALUE!"}},{"$f":"'SSI Inputs'!$D$35","v":{"$error":"#VALUE!"}},{"$f":"'SSI Inputs'!$D$36","v":{"$error":"#VALUE!"}},{"$f":"'SSI Inputs'!$D$38","v":{"$error":"#VALUE!"}},{"$f":"'SSI Inputs'!$D$39","v":{"$error":"#VALUE!"}},{"$f":"'SSI Inputs'!$D$40","v":{"$error":"#VALUE!"}},{"$f":"'SSI Inputs'!$Q$18","v":12.5},{"$f":"'SSI Inputs'!$Q$19","v":12.5},{"$f":"'SSI Inputs'!$Q$20","v":12.5},{"$f":"'SSI Inputs'!$Q$21","v":12.5}]
[null,null,null,null,null,null,null,null,null,null,null,null,null,null,null,null,null,null,null,null,null,null,null,null,null,null,null,null,null,null,null,null,null,null,null,null,null,null,"D",{"$f":"'SSI Inputs'!$E$26","v":{"$error":"#VALUE!"}},{"$f":"'SSI Inputs'!$E$27","v":{"$error":"#VALUE!"}},{"$f":"'SSI Inputs'!$E$28","v":{"$error":"#VALUE!"}},{"$f":"'SSI Inputs'!$E$30","v":{"$error":"#VALUE!"}},{"$f":"'SSI Inputs'!$E$31","v":{"$error":"#VALUE!"}},{"$f":"'SSI Inputs'!$E$32","v":{"$error":"#VALUE!"}},{"$f":"'SSI Inputs'!$E$34","v":{"$error":"#VALUE!"}},{"$f":"'SSI Inputs'!$E$35","v":{"$error":"#VALUE!"}},{"$f":"'SSI Inputs'!$E$36","v":{"$error":"#VALUE!"}},{"$f":"'SSI Inputs'!$E$38","v":{"$error":"#VALUE!"}},{"$f":"'SSI Inputs'!$E$39","v":{"$error":"#VALUE!"}},{"$f":"'SSI Inputs'!$E$40","v":{"$error":"#VALUE!"}},{"$f":"'SSI Inputs'!$R$18","v":12.5},{"$f":"'SSI Inputs'!$R$19","v":12.5},{"$f":"'SSI Inputs'!$R$20","v":12.5},{"$f":"'SSI Inputs'!$R$21","v":12.5},"D",{"$f":"'SSI Inputs'!$E$26","v":{"$error":"#VALUE!"}},{"$f":"'SSI Inputs'!$E$27","v":{"$error":"#VALUE!"}},{"$f":"'SSI Inputs'!$E$28","v":{"$error":"#VALUE!"}},{"$f":"'SSI Inputs'!$E$30","v":{"$error":"#VALUE!"}},{"$f":"'SSI Inputs'!$E$31","v":{"$error":"#VALUE!"}},{"$f":"'SSI Inputs'!$E$32","v":{"$error":"#VALUE!"}},{"$f":"'SSI Inputs'!$E$34","v":{"$error":"#VALUE!"}},{"$f":"'SSI Inputs'!$E$35","v":{"$error":"#VALUE!"}},{"$f":"'SSI Inputs'!$E$36","v":{"$error":"#VALUE!"}},{"$f":"'SSI Inputs'!$E$38","v":{"$error":"#VALUE!"}},{"$f":"'SSI Inputs'!$E$39","v":{"$error":"#VALUE!"}},{"$f":"'SSI Inputs'!$E$40","v":{"$error":"#VALUE!"}},{"$f":"'SSI Inputs'!$R$18","v":12.5},{"$f":"'SSI Inputs'!$R$19","v":12.5},{"$f":"'SSI Inputs'!$R$20","v":12.5},{"$f":"'SSI Inputs'!$R$21","v":12.5}]
[]
[]
[]
[]
[]
[]
[]
[]
[]
[]
[]
[]
[]
[]
[]
[]
[]
[]
[]
[]
[]
[]
[]
[]
[]
[]
[]
[]
[]
[]
[]
[]
[]
[]
[]
[]
[]
[]
[]
[]
[]
[]
[]
[]
[]
[]
[]
[]
[]
[]
[]
[]
[]
[]
[]
[]
[]
[]
[]
[]
[]
[]
[]
[]
[]
[]
[]
[]
[]
[]
[]
[]
[]
[]
[]
[]
[]
[]
[]
[]
[]
[]
[null,null,null,null,null,null,null,null,null,"Exposure",null,null,null,null,null,null,null,null,null,null,null,null,null,null,null,null,null,null,null,null,null,null,null,null,null,null,"Exposure-Severity-Complexity Product"]
[null,null,null,null,null,null,null,null,null,"Q1","Q2","I"]
[null,null,null,null,null,null,null,null,null,{"$f":"SUMPRODUCT($AN4:$BC4,$AN$18:$BC$18)","v":{"$error":"#VALUE!"}},{"$f":"SUMPRODUCT($BE4:$BT4,$BE$18:$BT$18)","v":{"$error":"#VALUE!"}},{"$f":"PRODUCT(J103:K103)","v":{"$error":"#VALUE!"}},null,null,null,null,null,null,null,null,null,null,null,null,null,null,null,null,null,null,null,null,null,null,null,null,{"$f":"L103*R4*AI4","v":{"$error":"#VALUE!"}}]
[null,null,null,null,null,null,null,null,null,{"$f":"SUMPRODUCT($AN5:$BC5,$AN$18:$BC$18)","v":{"$error":"#VALUE!"}},{"$f":"SUMPRODUCT($BE5:$BT5,$BE$18:$BT$18)","v":{"$error":"#VALUE!"}},{"$f":"PRODUCT(J104:K104)","v":{"$error":"#VALUE!"}},null,null,null,null,null,null,null,null,null,null,null,null,null,null,null,null,null,null,null,null,null,null,null,null,{"$f":"L104*R5*AI5","v":{"$error":"#VALUE!"}}]
[null,null,null,null,null,null,null,null,null,{"$error":"#VALUE!"},{"$error":"#VALUE!"},{"$error":"#VALUE!"},null,null,null,null,null,null,null,null,null,null,null,null,null,null,null,null,null,null,null,null,null,null,null,null,{"$error":"#VALUE!"}]
[null,null,null,null,null,null,null,null,null,{"$error":"#VALUE!"},{"$error":"#VALUE!"},{"$error":"#VALUE!"},null,null,null,null,null,null,null,null,null,null,null,null,null,null,null,null,null,null,null,null,null,null,null,null,{"$error":"#VALUE!"}]
[null,null,null,null,null,null,null,null,null,{"$error":"#VALUE!"},{"$error":"#VALUE!"},{"$error":"#VALUE!"},null,null,null,null,null,null,null,null,null,null,null,null,null,null,null,null,null,null,null,null,null,null,null,null,{"$error":"#VALUE!"}]
[null,null,null,null,null,null,null,null,null,{"$error":"#VALUE!"},{"$error":"#VALUE!"},{"$error":"#VALUE!"},null,null,null,null,null,null,null,null,null,null,null,null,null,null,null,null,null,null,null,null,null,null,null,null,{"$error":"#VALUE!"}]
[null,null,null,null,null,null,null,null,null,{"$error":"#VALUE!"},{"$error":"#VALUE!"},{"$error":"#VALUE!"},null,null,null,null,null,null,null,null,null,null,null,null,null,null,null,null,null,null,null,null,null,null,null,null,{"$error":"#VALUE!"}]
[null,null,null,null,null,null,null,null,null,{"$error":"#VALUE!"},{"$error":"#VALUE!"},{"$error":"#VALUE!"},null,null,null,null,null,null,null,null,null,null,null,null,null,null,null,null,null,null,null,null,null,null,null,null,{"$error":"#VALUE!"}]
[null,null,null,null,null,null,null,null,null,{"$error":"#VALUE!"},{"$error":"#VALUE!"},{"$error":"#VALUE!"},null,null,null,null,null,null,null,null,null,null,null,null,null,null,null,null,null,null,null,null,null,null,null,null,{"$error":"#VALUE!"}]
[null,null,null,null,null,null,null,null,null,{"$error":"#VALUE!"},{"$error":"#VALUE!"},{"$error":"#VALUE!"},null,null,null,null,null,null,null,null,null,null,null,null,null,null,null,null,null,null,null,null,null,null,null,null,{"$error":"#VALUE!"}]
[null,null,null,null,null,null,null,null,null,{"$error":"#VALUE!"},{"$error":"#VALUE!"},{"$error":"#VALUE!"},null,null,null,null,null,null,null,null,null,null,null,null,null,null,null,null,null,null,null,null,null,null,null,null,{"$error":"#VALUE!"}]
[null,null,null,null,null,null,null,null,null,{"$error":"#VALUE!"},{"$error":"#VALUE!"},{"$error":"#VALUE!"},null,null,null,null,null,null,null,null,null,null,null,null,null,null,null,null,null,null,null,null,null,null,null,null,{"$error":"#VALUE!"}]
[null,null,null,null,null,null,null,null,null,{"$error":"#VALUE!"},{"$error":"#VALUE!"},{"$error":"#VALUE!"},null,null,null,null,null,null,null,null,null,null,null,null,null,null,null,null,null,null,null,null,null,null,null,null,{"$error":"#VALUE!"}]