{"text_format":"1","workbook":"xlsx","n_sheets":4,"sheets":["AVI (Desc)","AVI (Code)","AVI Antenna (Desc)","AVI Antenna (Code)"],"not_rendered":{"charts":0,"images":0,"macros":1,"external_links":1,"defined_names":15,"comments":4,"pivot_tables":0},"unopened":[],"bounds":{"document_bytes":16777216,"sheet_cells":100000,"rows_first":2000,"rows_last":500,"rows_between":2000,"halvings":0,"cell_chars":16384,"cell_head_chars":4096},"cells_cut":0,"cells_raw":0,"read":"whole","date_system":"1900"}

{"sheet":"AVI (Desc)","index":0,"n_rows":2,"n_cols":11,"rows_kept":2,"cut":false,"hidden":false,"merged":[]}
["Device Id\nfor update ","Site Identification Name","Device Name","Asset ID Number","Asset ID Source","Longitude","Latitude","Facility Owner","County","Installed Date (YYYY/MM/DD)","Sensor Type"]
["EQUIP_ID","SITE_NO\nREQUIRED FIELD","NAME\nREQUIRED FIELD","ASSET_ID","ASSET_ID_SOURCE","PRIM GEOM (X)\nREQUIRED FIELD","PRIM GEOM (Y)\nREQUIRED FIELD","OWNER_CD\nREQUIRED FIELD","COUNTY_CD\nREQUIRED FIELD","DATE_INSTALLED","AVI_SENSOR_TYPE_CD\n"]

{"sheet":"AVI (Code)","index":1,"n_rows":202,"n_cols":11,"rows_kept":202,"cut":false,"hidden":false,"merged":[]}
["Device Id\nfor update ","Site Identification Name","Device Name","Asset ID Number","Asset ID Source","Latitude ","Longitude","Facility Owner","County","Installed Date (YYYY/MM/DD)","Sensor Type"]
["EQUIP_ID","SITE_NO\nREQUIRED FIELD","NAME\nREQUIRED FIELD","ASSET_ID","ASSET_ID_SOURCE","PRIM GEOM (X) REQUIRED FIELD","PRIM GEOM (Y) REQUIRED FIELD","OWNER_CD REQUIRED FIELD","COUNTY_CD REQUIRED FIELD","DATE_INSTALLED","AVI_SENSOR_TYPE_CD"]
[{"$f":"IF('AVI (Desc)'!A3=\"\",\"\",'AVI (Desc)'!A3)","v":""},{"$f":"IF('AVI (Desc)'!B3=\"\",\"\",'AVI (Desc)'!B3)","v":""},{"$f":"IF('AVI (Desc)'!C3=\"\",\"\",'AVI (Desc)'!C3)","v":""},{"$f":"IF('AVI (Desc)'!D3=\"\",\"\",'AVI (Desc)'!D3)","v":""},{"$f":"IF('AVI (Desc)'!E3=\"\",\"\",INDEX([1]ASSET_ID_SOURCE!$A$2:$A$50,MATCH('AVI (Desc)'!E3,[1]!MASTER_ASSET_ID_SOURCE_DESC,0),0))","v":""},{"$f":"IF('AVI (Desc)'!F3=\"\",\"\",'AVI (Desc)'!F3)","v":""},{"$f":"IF('AVI (Desc)'!G3=\"\",\"\",'AVI (Desc)'!G3)","v":""},{"$f":"IF('AVI (Desc)'!H3=\"\",\"\",INDEX([1]OWNER!$A$2:$A$100,MATCH('AVI (Desc)'!$H3,[1]!MASTER_OWNER_DESC[#Data],0),0))","v":""},{"$f":"IF('AVI (Desc)'!I3=\"\",\"\",INDEX([1]COUNTY!$A$2:$A$80,MATCH('AVI (Desc)'!I3,[1]!MASTER_COUNTY_NAME[#Data],0),0))","v":""},{"$f":"IF('AVI (Desc)'!J3=\"\",\"\",'AVI (Desc)'!J3)","v":""},{"$f":"IF('AVI (Desc)'!K3=\"\",\"\",INDEX([1]AVI_SENSOR_TYPE!$A$2:$A$7,MATCH('AVI (Desc)'!K3,[1]!MASTER_AVI_SENSOR_TYPE_DESC,0),0))","v":""}]
[{"$f":"IF('AVI (Desc)'!A4=\"\",\"\",'AVI (Desc)'!A4)","v":""},{"$f":"IF('AVI (Desc)'!B4=\"\",\"\",'AVI (Desc)'!B4)","v":""},{"$f":"IF('AVI (Desc)'!C4=\"\",\"\",'AVI (Desc)'!C4)","v":""},{"$f":"IF('AVI (Desc)'!D4=\"\",\"\",'AVI (Desc)'!D4)","v":""},{"$f":"IF('AVI (Desc)'!E4=\"\",\"\",INDEX([1]ASSET_ID_SOURCE!$A$2:$A$50,MATCH('AVI (Desc)'!E4,[1]!MASTER_ASSET_ID_SOURCE_DESC,0),0))","v":""},{"$f":"IF('AVI (Desc)'!F4=\"\",\"\",'AVI (Desc)'!F4)","v":""},{"$f":"IF('AVI (Desc)'!G4=\"\",\"\",'AVI (Desc)'!G4)","v":""},{"$f":"IF('AVI (Desc)'!H4=\"\",\"\",INDEX([1]OWNER!$A$2:$A$100,MATCH('AVI (Desc)'!$H4,[1]!MASTER_OWNER_DESC[#Data],0),0))","v":""},{"$f":"IF('AVI (Desc)'!I4=\"\",\"\",INDEX([1]COUNTY!$A$2:$A$80,MATCH('AVI (Desc)'!I4,[1]!MASTER_COUNTY_NAME[#Data],0),0))","v":""},{"$f":"IF('AVI (Desc)'!J4=\"\",\"\",'AVI (Desc)'!J4)","v":""},{"$f":"IF('AVI (Desc)'!K4=\"\",\"\",INDEX([1]AVI_SENSOR_TYPE!$A$2:$A$7,MATCH('AVI (Desc)'!K4,[1]!MASTER_AVI_SENSOR_TYPE_DESC,0),0))","v":""}]
[{"$f":"IF('AVI (Desc)'!A5=\"\",\"\",'AVI (Desc)'!A5)","v":""},{"$f":"IF('AVI (Desc)'!B5=\"\",\"\",'AVI (Desc)'!B5)","v":""},{"$f":"IF('AVI (Desc)'!C5=\"\",\"\",'AVI (Desc)'!C5)","v":""},{"$f":"IF('AVI (Desc)'!D5=\"\",\"\",'AVI (Desc)'!D5)","v":""},{"$f":"IF('AVI (Desc)'!E5=\"\",\"\",INDEX([1]ASSET_ID_SOURCE!$A$2:$A$50,MATCH('AVI (Desc)'!E5,[1]!MASTER_ASSET_ID_SOURCE_DESC,0),0))","v":""},{"$f":"IF('AVI (Desc)'!F5=\"\",\"\",'AVI (Desc)'!F5)","v":""},{"$f":"IF('AVI (Desc)'!G5=\"\",\"\",'AVI (Desc)'!G5)","v":""},{"$f":"IF('AVI (Desc)'!H5=\"\",\"\",INDEX([1]OWNER!$A$2:$A$100,MATCH('AVI (Desc)'!$H5,[1]!MASTER_OWNER_DESC[#Data],0),0))","v":""},{"$f":"IF('AVI (Desc)'!I5=\"\",\"\",INDEX([1]COUNTY!$A$2:$A$80,MATCH('AVI (Desc)'!I5,[1]!MASTER_COUNTY_NAME[#Data],0),0))","v":""},{"$f":"IF('AVI (Desc)'!J5=\"\",\"\",'AVI (Desc)'!J5)","v":""},{"$f":"IF('AVI (Desc)'!K5=\"\",\"\",INDEX([1]AVI_SENSOR_TYPE!$A$2:$A$7,MATCH('AVI (Desc)'!K5,[1]!MASTER_AVI_SENSOR_TYPE_DESC,0),0))","v":""}]
[{"$f":"IF('AVI (Desc)'!A6=\"\",\"\",'AVI (Desc)'!A6)","v":""},{"$f":"IF('AVI (Desc)'!B6=\"\",\"\",'AVI (Desc)'!B6)","v":""},{"$f":"IF('AVI (Desc)'!C6=\"\",\"\",'AVI (Desc)'!C6)","v":""},{"$f":"IF('AVI (Desc)'!D6=\"\",\"\",'AVI (Desc)'!D6)","v":""},{"$f":"IF('AVI (Desc)'!E6=\"\",\"\",INDEX([1]ASSET_ID_SOURCE!$A$2:$A$50,MATCH('AVI (Desc)'!E6,[1]!MASTER_ASSET_ID_SOURCE_DESC,0),0))","v":""},{"$f":"IF('AVI (Desc)'!F6=\"\",\"\",'AVI (Desc)'!F6)","v":""},{"$f":"IF('AVI (Desc)'!G6=\"\",\"\",'AVI (Desc)'!G6)","v":""},{"$f":"IF('AVI (Desc)'!H6=\"\",\"\",INDEX([1]OWNER!$A$2:$A$100,MATCH('AVI (Desc)'!$H6,[1]!MASTER_OWNER_DESC[#Data],0),0))","v":""},{"$f":"IF('AVI (Desc)'!I6=\"\",\"\",INDEX([1]COUNTY!$A$2:$A$80,MATCH('AVI (Desc)'!I6,[1]!MASTER_COUNTY_NAME[#Data],0),0))","v":""},{"$f":"IF('AVI (Desc)'!J6=\"\",\"\",'AVI (Desc)'!J6)","v":""},{"$f":"IF('AVI (Desc)'!K6=\"\",\"\",INDEX([1]AVI_SENSOR_TYPE!$A$2:$A$7,MATCH('AVI (Desc)'!K6,[1]!MASTER_AVI_SENSOR_TYPE_DESC,0),0))","v":""}]
[{"$f":"IF('AVI (Desc)'!A7=\"\",\"\",'AVI (Desc)'!A7)","v":""},{"$f":"IF('AVI (Desc)'!B7=\"\",\"\",'AVI (Desc)'!B7)","v":""},{"$f":"IF('AVI (Desc)'!C7=\"\",\"\",'AVI (Desc)'!C7)","v":""},{"$f":"IF('AVI (Desc)'!D7=\"\",\"\",'AVI (Desc)'!D7)","v":""},{"$f":"IF('AVI (Desc)'!E7=\"\",\"\",INDEX([1]ASSET_ID_SOURCE!$A$2:$A$50,MATCH('AVI (Desc)'!E7,[1]!MASTER_ASSET_ID_SOURCE_DESC,0),0))","v":""},{"$f":"IF('AVI (Desc)'!F7=\"\",\"\",'AVI (Desc)'!F7)","v":""},{"$f":"IF('AVI (Desc)'!G7=\"\",\"\",'AVI (Desc)'!G7)","v":""},{"$f":"IF('AVI (Desc)'!H7=\"\",\"\",INDEX([1]OWNER!$A$2:$A$100,MATCH('AVI (Desc)'!$H7,[1]!MASTER_OWNER_DESC[#Data],0),0))","v":""},{"$f":"IF('AVI (Desc)'!I7=\"\",\"\",INDEX([1]COUNTY!$A$2:$A$80,MATCH('AVI (Desc)'!I7,[1]!MASTER_COUNTY_NAME[#Data],0),0))","v":""},{"$f":"IF('AVI (Desc)'!J7=\"\",\"\",'AVI (Desc)'!J7)","v":""},{"$f":"IF('AVI (Desc)'!K7=\"\",\"\",INDEX([1]AVI_SENSOR_TYPE!$A$2:$A$7,MATCH('AVI (Desc)'!K7,[1]!MASTER_AVI_SENSOR_TYPE_DESC,0),0))","v":""}]
[{"$f":"IF('AVI (Desc)'!A8=\"\",\"\",'AVI (Desc)'!A8)","v":""},{"$f":"IF('AVI (Desc)'!B8=\"\",\"\",'AVI (Desc)'!B8)","v":""},{"$f":"IF('AVI (Desc)'!C8=\"\",\"\",'AVI (Desc)'!C8)","v":""},{"$f":"IF('AVI (Desc)'!D8=\"\",\"\",'AVI (Desc)'!D8)","v":""},{"$f":"IF('AVI (Desc)'!E8=\"\",\"\",INDEX([1]ASSET_ID_SOURCE!$A$2:$A$50,MATCH('AVI (Desc)'!E8,[1]!MASTER_ASSET_ID_SOURCE_DESC,0),0))","v":""},{"$f":"IF('AVI (Desc)'!F8=\"\",\"\",'AVI (Desc)'!F8)","v":""},{"$f":"IF('AVI (Desc)'!G8=\"\",\"\",'AVI (Desc)'!G8)","v":""},{"$f":"IF('AVI (Desc)'!H8=\"\",\"\",INDEX([1]OWNER!$A$2:$A$100,MATCH('AVI (Desc)'!$H8,[1]!MASTER_OWNER_DESC[#Data],0),0))","v":""},{"$f":"IF('AVI (Desc)'!I8=\"\",\"\",INDEX([1]COUNTY!$A$2:$A$80,MATCH('AVI (Desc)'!I8,[1]!MASTER_COUNTY_NAME[#Data],0),0))","v":""},{"$f":"IF('AVI (Desc)'!J8=\"\",\"\",'AVI (Desc)'!J8)","v":""},{"$f":"IF('AVI (Desc)'!K8=\"\",\"\",INDEX([1]AVI_SENSOR_TYPE!$A$2:$A$7,MATCH('AVI (Desc)'!K8,[1]!MASTER_AVI_SENSOR_TYPE_DESC,0),0))","v":""}]
[{"$f":"IF('AVI (Desc)'!A9=\"\",\"\",'AVI (Desc)'!A9)","v":""},{"$f":"IF('AVI (Desc)'!B9=\"\",\"\",'AVI (Desc)'!B9)","v":""},{"$f":"IF('AVI (Desc)'!C9=\"\",\"\",'AVI (Desc)'!C9)","v":""},{"$f":"IF('AVI (Desc)'!D9=\"\",\"\",'AVI (Desc)'!D9)","v":""},{"$f":"IF('AVI (Desc)'!E9=\"\",\"\",INDEX([1]ASSET_ID_SOURCE!$A$2:$A$50,MATCH('AVI (Desc)'!E9,[1]!MASTER_ASSET_ID_SOURCE_DESC,0),0))","v":""},{"$f":"IF('AVI (Desc)'!F9=\"\",\"\",'AVI (Desc)'!F9)","v":""},{"$f":"IF('AVI (Desc)'!G9=\"\",\"\",'AVI (Desc)'!G9)","v":""},{"$f":"IF('AVI (Desc)'!H9=\"\",\"\",INDEX([1]OWNER!$A$2:$A$100,MATCH('AVI (Desc)'!$H9,[1]!MASTER_OWNER_DESC[#Data],0),0))","v":""},{"$f":"IF('AVI (Desc)'!I9=\"\",\"\",INDEX([1]COUNTY!$A$2:$A$80,MATCH('AVI (Desc)'!I9,[1]!MASTER_COUNTY_NAME[#Data],0),0))","v":""},{"$f":"IF('AVI (Desc)'!J9=\"\",\"\",'AVI (Desc)'!J9)","v":""},{"$f":"IF('AVI (Desc)'!K9=\"\",\"\",INDEX([1]AVI_SENSOR_TYPE!$A$2:$A$7,MATCH('AVI (Desc)'!K9,[1]!MASTER_AVI_SENSOR_TYPE_DESC,0),0))","v":""}]
[{"$f":"IF('AVI (Desc)'!A10=\"\",\"\",'AVI (Desc)'!A10)","v":""},{"$f":"IF('AVI (Desc)'!B10=\"\",\"\",'AVI (Desc)'!B10)","v":""},{"$f":"IF('AVI (Desc)'!C10=\"\",\"\",'AVI (Desc)'!C10)","v":""},{"$f":"IF('AVI (Desc)'!D10=\"\",\"\",'AVI (Desc)'!D10)","v":""},{"$f":"IF('AVI (Desc)'!E10=\"\",\"\",INDEX([1]ASSET_ID_SOURCE!$A$2:$A$50,MATCH('AVI (Desc)'!E10,[1]!MASTER_ASSET_ID_SOURCE_DESC,0),0))","v":""},{"$f":"IF('AVI (Desc)'!F10=\"\",\"\",'AVI (Desc)'!F10)","v":""},{"$f":"IF('AVI (Desc)'!G10=\"\",\"\",'AVI (Desc)'!G10)","v":""},{"$f":"IF('AVI (Desc)'!H10=\"\",\"\",INDEX([1]OWNER!$A$2:$A$100,MATCH('AVI (Desc)'!$H10,[1]!MASTER_OWNER_DESC[#Data],0),0))","v":""},{"$f":"IF('AVI (Desc)'!I10=\"\",\"\",INDEX([1]COUNTY!$A$2:$A$80,MATCH('AVI (Desc)'!I10,[1]!MASTER_COUNTY_NAME[#Data],0),0))","v":""},{"$f":"IF('AVI (Desc)'!J10=\"\",\"\",'AVI (Desc)'!J10)","v":""},{"$f":"IF('AVI (Desc)'!K10=\"\",\"\",INDEX([1]AVI_SENSOR_TYPE!$A$2:$A$7,MATCH('AVI (Desc)'!K10,[1]!MASTER_AVI_SENSOR_TYPE_DESC,0),0))","v":""}]
[{"$f":"IF('AVI (Desc)'!A11=\"\",\"\",'AVI (Desc)'!A11)","v":""},{"$f":"IF('AVI (Desc)'!B11=\"\",\"\",'AVI (Desc)'!B11)","v":""},{"$f":"IF('AVI (Desc)'!C11=\"\",\"\",'AVI (Desc)'!C11)","v":""},{"$f":"IF('AVI (Desc)'!D11=\"\",\"\",'AVI (Desc)'!D11)","v":""},{"$f":"IF('AVI (Desc)'!E11=\"\",\"\",INDEX([1]ASSET_ID_SOURCE!$A$2:$A$50,MATCH('AVI (Desc)'!E11,[1]!MASTER_ASSET_ID_SOURCE_DESC,0),0))","v":""},{"$f":"IF('AVI (Desc)'!F11=\"\",\"\",'AVI (Desc)'!F11)","v":""},{"$f":"IF('AVI (Desc)'!G11=\"\",\"\",'AVI (Desc)'!G11)","v":""},{"$f":"IF('AVI (Desc)'!H11=\"\",\"\",INDEX([1]OWNER!$A$2:$A$100,MATCH('AVI (Desc)'!$H11,[1]!MASTER_OWNER_DESC[#Data],0),0))","v":""},{"$f":"IF('AVI (Desc)'!I11=\"\",\"\",INDEX([1]COUNTY!$A$2:$A$80,MATCH('AVI (Desc)'!I11,[1]!MASTER_COUNTY_NAME[#Data],0),0))","v":""},{"$f":"IF('AVI (Desc)'!J11=\"\",\"\",'AVI (Desc)'!J11)","v":""},{"$f":"IF('AVI (Desc)'!K11=\"\",\"\",INDEX([1]AVI_SENSOR_TYPE!$A$2:$A$7,MATCH('AVI (Desc)'!K11,[1]!MASTER_AVI_SENSOR_TYPE_DESC,0),0))","v":""}]
[{"$f":"IF('AVI (Desc)'!A12=\"\",\"\",'AVI (Desc)'!A12)","v":""},{"$f":"IF('AVI (Desc)'!B12=\"\",\"\",'AVI (Desc)'!B12)","v":""},{"$f":"IF('AVI (Desc)'!C12=\"\",\"\",'AVI (Desc)'!C12)","v":""},{"$f":"IF('AVI (Desc)'!D12=\"\",\"\",'AVI (Desc)'!D12)","v":""},{"$f":"IF('AVI (Desc)'!E12=\"\",\"\",INDEX([1]ASSET_ID_SOURCE!$A$2:$A$50,MATCH('AVI (Desc)'!E12,[1]!MASTER_ASSET_ID_SOURCE_DESC,0),0))","v":""},{"$f":"IF('AVI (Desc)'!F12=\"\",\"\",'AVI (Desc)'!F12)","v":""},{"$f":"IF('AVI (Desc)'!G12=\"\",\"\",'AVI (Desc)'!G12)","v":""},{"$f":"IF('AVI (Desc)'!H12=\"\",\"\",INDEX([1]OWNER!$A$2:$A$100,MATCH('AVI (Desc)'!$H12,[1]!MASTER_OWNER_DESC[#Data],0),0))","v":""},{"$f":"IF('AVI (Desc)'!I12=\"\",\"\",INDEX([1]COUNTY!$A$2:$A$80,MATCH('AVI (Desc)'!I12,[1]!MASTER_COUNTY_NAME[#Data],0),0))","v":""},{"$f":"IF('AVI (Desc)'!J12=\"\",\"\",'AVI (Desc)'!J12)","v":""},{"$f":"IF('AVI (Desc)'!K12=\"\",\"\",INDEX([1]AVI_SENSOR_TYPE!$A$2:$A$7,MATCH('AVI (Desc)'!K12,[1]!MASTER_AVI_SENSOR_TYPE_DESC,0),0))","v":""}]
[{"$f":"IF('AVI (Desc)'!A13=\"\",\"\",'AVI (Desc)'!A13)","v":""},{"$f":"IF('AVI (Desc)'!B13=\"\",\"\",'AVI (Desc)'!B13)","v":""},{"$f":"IF('AVI (Desc)'!C13=\"\",\"\",'AVI (Desc)'!C13)","v":""},{"$f":"IF('AVI (Desc)'!D13=\"\",\"\",'AVI (Desc)'!D13)","v":""},{"$f":"IF('AVI (Desc)'!E13=\"\",\"\",INDEX([1]ASSET_ID_SOURCE!$A$2:$A$50,MATCH('AVI (Desc)'!E13,[1]!MASTER_ASSET_ID_SOURCE_DESC,0),0))","v":""},{"$f":"IF('AVI (Desc)'!F13=\"\",\"\",'AVI (Desc)'!F13)","v":""},{"$f":"IF('AVI (Desc)'!G13=\"\",\"\",'AVI (Desc)'!G13)","v":""},{"$f":"IF('AVI (Desc)'!H13=\"\",\"\",INDEX([1]OWNER!$A$2:$A$100,MATCH('AVI (Desc)'!$H13,[1]!MASTER_OWNER_DESC[#Data],0),0))","v":""},{"$f":"IF('AVI (Desc)'!I13=\"\",\"\",INDEX([1]COUNTY!$A$2:$A$80,MATCH('AVI (Desc)'!I13,[1]!MASTER_COUNTY_NAME[#Data],0),0))","v":""},{"$f":"IF('AVI (Desc)'!J13=\"\",\"\",'AVI (Desc)'!J13)","v":""},{"$f":"IF('AVI (Desc)'!K13=\"\",\"\",INDEX([1]AVI_SENSOR_TYPE!$A$2:$A$7,MATCH('AVI (Desc)'!K13,[1]!MASTER_AVI_SENSOR_TYPE_DESC,0),0))","v":""}]
[{"$f":"IF('AVI (Desc)'!A14=\"\",\"\",'AVI (Desc)'!A14)","v":""},{"$f":"IF('AVI (Desc)'!B14=\"\",\"\",'AVI (Desc)'!B14)","v":""},{"$f":"IF('AVI (Desc)'!C14=\"\",\"\",'AVI (Desc)'!C14)","v":""},{"$f":"IF('AVI (Desc)'!D14=\"\",\"\",'AVI (Desc)'!D14)","v":""},{"$f":"IF('AVI (Desc)'!E14=\"\",\"\",INDEX([1]ASSET_ID_SOURCE!$A$2:$A$50,MATCH('AVI (Desc)'!E14,[1]!MASTER_ASSET_ID_SOURCE_DESC,0),0))","v":""},{"$f":"IF('AVI (Desc)'!F14=\"\",\"\",'AVI (Desc)'!F14)","v":""},{"$f":"IF('AVI (Desc)'!G14=\"\",\"\",'AVI (Desc)'!G14)","v":""},{"$f":"IF('AVI (Desc)'!H14=\"\",\"\",INDEX([1]OWNER!$A$2:$A$100,MATCH('AVI (Desc)'!$H14,[1]!MASTER_OWNER_DESC[#Data],0),0))","v":""},{"$f":"IF('AVI (Desc)'!I14=\"\",\"\",INDEX([1]COUNTY!$A$2:$A$80,MATCH('AVI (Desc)'!I14,[1]!MASTER_COUNTY_NAME[#Data],0),0))","v":""},{"$f":"IF('AVI (Desc)'!J14=\"\",\"\",'AVI (Desc)'!J14)","v":""},{"$f":"IF('AVI (Desc)'!K14=\"\",\"\",INDEX([1]AVI_SENSOR_TYPE!$A$2:$A$7,MATCH('AVI (Desc)'!K14,[1]!MASTER_AVI_SENSOR_TYPE_DESC,0),0))","v":""}]
[{"$f":"IF('AVI (Desc)'!A15=\"\",\"\",'AVI (Desc)'!A15)","v":""},{"$f":"IF('AVI (Desc)'!B15=\"\",\"\",'AVI (Desc)'!B15)","v":""},{"$f":"IF('AVI (Desc)'!C15=\"\",\"\",'AVI (Desc)'!C15)","v":""},{"$f":"IF('AVI (Desc)'!D15=\"\",\"\",'AVI (Desc)'!D15)","v":""},{"$f":"IF('AVI (Desc)'!E15=\"\",\"\",INDEX([1]ASSET_ID_SOURCE!$A$2:$A$50,MATCH('AVI (Desc)'!E15,[1]!MASTER_ASSET_ID_SOURCE_DESC,0),0))","v":""},{"$f":"IF('AVI (Desc)'!F15=\"\",\"\",'AVI (Desc)'!F15)","v":""},{"$f":"IF('AVI (Desc)'!G15=\"\",\"\",'AVI (Desc)'!G15)","v":""},{"$f":"IF('AVI (Desc)'!H15=\"\",\"\",INDEX([1]OWNER!$A$2:$A$100,MATCH('AVI (Desc)'!$H15,[1]!MASTER_OWNER_DESC[#Data],0),0))","v":""},{"$f":"IF('AVI (Desc)'!I15=\"\",\"\",INDEX([1]COUNTY!$A$2:$A$80,MATCH('AVI (Desc)'!I15,[1]!MASTER_COUNTY_NAME[#Data],0),0))","v":""},{"$f":"IF('AVI (Desc)'!J15=\"\",\"\",'AVI (Desc)'!J15)","v":""},{"$f":"IF('AVI (Desc)'!K15=\"\",\"\",INDEX([1]AVI_SENSOR_TYPE!$A$2:$A$7,MATCH('AVI (Desc)'!K15,[1]!MASTER_AVI_SENSOR_TYPE_DESC,0),0))","v":""}]
[{"$f":"IF('AVI (Desc)'!A16=\"\",\"\",'AVI (Desc)'!A16)","v":""},{"$f":"IF('AVI (Desc)'!B16=\"\",\"\",'AVI (Desc)'!B16)","v":""},{"$f":"IF('AVI (Desc)'!C16=\"\",\"\",'AVI (Desc)'!C16)","v":""},{"$f":"IF('AVI (Desc)'!D16=\"\",\"\",'AVI (Desc)'!D16)","v":""},{"$f":"IF('AVI (Desc)'!E16=\"\",\"\",INDEX([1]ASSET_ID_SOURCE!$A$2:$A$50,MATCH('AVI (Desc)'!E16,[1]!MASTER_ASSET_ID_SOURCE_DESC,0),0))","v":""},{"$f":"IF('AVI (Desc)'!F16=\"\",\"\",'AVI (Desc)'!F16)","v":""},{"$f":"IF('AVI (Desc)'!G16=\"\",\"\",'AVI (Desc)'!G16)","v":""},{"$f":"IF('AVI (Desc)'!H16=\"\",\"\",INDEX([1]OWNER!$A$2:$A$100,MATCH('AVI (Desc)'!$H16,[1]!MASTER_OWNER_DESC[#Data],0),0))","v":""},{"$f":"IF('AVI (Desc)'!I16=\"\",\"\",INDEX([1]COUNTY!$A$2:$A$80,MATCH('AVI (Desc)'!I16,[1]!MASTER_COUNTY_NAME[#Data],0),0))","v":""},{"$f":"IF('AVI (Desc)'!J16=\"\",\"\",'AVI (Desc)'!J16)","v":""},{"$f":"IF('AVI (Desc)'!K16=\"\",\"\",INDEX([1]AVI_SENSOR_TYPE!$A$2:$A$7,MATCH('AVI (Desc)'!K16,[1]!MASTER_AVI_SENSOR_TYPE_DESC,0),0))","v":""}]
[{"$f":"IF('AVI (Desc)'!A17=\"\",\"\",'AVI (Desc)'!A17)","v":""},{"$f":"IF('AVI (Desc)'!B17=\"\",\"\",'AVI (Desc)'!B17)","v":""},{"$f":"IF('AVI (Desc)'!C17=\"\",\"\",'AVI (Desc)'!C17)","v":""},{"$f":"IF('AVI (Desc)'!D17=\"\",\"\",'AVI (Desc)'!D17)","v":""},{"$f":"IF('AVI (Desc)'!E17=\"\",\"\",INDEX([1]ASSET_ID_SOURCE!$A$2:$A$50,MATCH('AVI (Desc)'!E17,[1]!MASTER_ASSET_ID_SOURCE_DESC,0),0))","v":""},{"$f":"IF('AVI (Desc)'!F17=\"\",\"\",'AVI (Desc)'!F17)","v":""},{"$f":"IF('AVI (Desc)'!G17=\"\",\"\",'AVI (Desc)'!G17)","v":""},{"$f":"IF('AVI (Desc)'!H17=\"\",\"\",INDEX([1]OWNER!$A$2:$A$100,MATCH('AVI (Desc)'!$H17,[1]!MASTER_OWNER_DESC[#Data],0),0))","v":""},{"$f":"IF('AVI (Desc)'!I17=\"\",\"\",INDEX([1]COUNTY!$A$2:$A$80,MATCH('AVI (Desc)'!I17,[1]!MASTER_COUNTY_NAME[#Data],0),0))","v":""},{"$f":"IF('AVI (Desc)'!J17=\"\",\"\",'AVI (Desc)'!J17)","v":""},{"$f":"IF('AVI (Desc)'!K17=\"\",\"\",INDEX([1]AVI_SENSOR_TYPE!$A$2:$A$7,MATCH('AVI (Desc)'!K17,[1]!MASTER_AVI_SENSOR_TYPE_DESC,0),0))","v":""}]
[{"$f":"IF('AVI (Desc)'!A18=\"\",\"\",'AVI (Desc)'!A18)","v":""},{"$f":"IF('AVI (Desc)'!B18=\"\",\"\",'AVI (Desc)'!B18)","v":""},{"$f":"IF('AVI (Desc)'!C18=\"\",\"\",'AVI (Desc)'!C18)","v":""},{"$f":"IF('AVI (Desc)'!D18=\"\",\"\",'AVI (Desc)'!D18)","v":""},{"$f":"IF('AVI (Desc)'!E18=\"\",\"\",INDEX([1]ASSET_ID_SOURCE!$A$2:$A$50,MATCH('AVI (Desc)'!E18,[1]!MASTER_ASSET_ID_SOURCE_DESC,0),0))","v":""},{"$f":"IF('AVI (Desc)'!F18=\"\",\"\",'AVI (Desc)'!F18)","v":""},{"$f":"IF('AVI (Desc)'!G18=\"\",\"\",'AVI (Desc)'!G18)","v":""},{"$f":"IF('AVI (Desc)'!H18=\"\",\"\",INDEX([1]OWNER!$A$2:$A$100,MATCH('AVI (Desc)'!$H18,[1]!MASTER_OWNER_DESC[#Data],0),0))","v":""},{"$f":"IF('AVI (Desc)'!I18=\"\",\"\",INDEX([1]COUNTY!$A$2:$A$80,MATCH('AVI (Desc)'!I18,[1]!MASTER_COUNTY_NAME[#Data],0),0))","v":""},{"$f":"IF('AVI (Desc)'!J18=\"\",\"\",'AVI (Desc)'!J18)","v":""},{"$f":"IF('AVI (Desc)'!K18=\"\",\"\",INDEX([1]AVI_SENSOR_TYPE!$A$2:$A$7,MATCH('AVI (Desc)'!K18,[1]!MASTER_AVI_SENSOR_TYPE_DESC,0),0))","v":""}]
[{"$f":"IF('AVI (Desc)'!A19=\"\",\"\",'AVI (Desc)'!A19)","v":""},{"$f":"IF('AVI (Desc)'!B19=\"\",\"\",'AVI (Desc)'!B19)","v":""},{"$f":"IF('AVI (Desc)'!C19=\"\",\"\",'AVI (Desc)'!C19)","v":""},{"$f":"IF('AVI (Desc)'!D19=\"\",\"\",'AVI (Desc)'!D19)","v":""},{"$f":"IF('AVI (Desc)'!E19=\"\",\"\",INDEX([1]ASSET_ID_SOURCE!$A$2:$A$50,MATCH('AVI (Desc)'!E19,[1]!MASTER_ASSET_ID_SOURCE_DESC,0),0))","v":""},{"$f":"IF('AVI (Desc)'!F19=\"\",\"\",'AVI (Desc)'!F19)","v":""},{"$f":"IF('AVI (Desc)'!G19=\"\",\"\",'AVI (Desc)'!G19)","v":""},{"$f":"IF('AVI (Desc)'!H19=\"\",\"\",INDEX([1]OWNER!$A$2:$A$100,MATCH('AVI (Desc)'!$H19,[1]!MASTER_OWNER_DESC[#Data],0),0))","v":""},{"$f":"IF('AVI (Desc)'!I19=\"\",\"\",INDEX([1]COUNTY!$A$2:$A$80,MATCH('AVI (Desc)'!I19,[1]!MASTER_COUNTY_NAME[#Data],0),0))","v":""},{"$f":"IF('AVI (Desc)'!J19=\"\",\"\",'AVI (Desc)'!J19)","v":""},{"$f":"IF('AVI (Desc)'!K19=\"\",\"\",INDEX([1]AVI_SENSOR_TYPE!$A$2:$A$7,MATCH('AVI (Desc)'!K19,[1]!MASTER_AVI_SENSOR_TYPE_DESC,0),0))","v":""}]
[{"$f":"IF('AVI (Desc)'!A20=\"\",\"\",'AVI (Desc)'!A20)","v":""},{"$f":"IF('AVI (Desc)'!B20=\"\",\"\",'AVI (Desc)'!B20)","v":""},{"$f":"IF('AVI (Desc)'!C20=\"\",\"\",'AVI (Desc)'!C20)","v":""},{"$f":"IF('AVI (Desc)'!D20=\"\",\"\",'AVI (Desc)'!D20)","v":""},{"$f":"IF('AVI (Desc)'!E20=\"\",\"\",INDEX([1]ASSET_ID_SOURCE!$A$2:$A$50,MATCH('AVI (Desc)'!E20,[1]!MASTER_ASSET_ID_SOURCE_DESC,0),0))","v":""},{"$f":"IF('AVI (Desc)'!F20=\"\",\"\",'AVI (Desc)'!F20)","v":""},{"$f":"IF('AVI (Desc)'!G20=\"\",\"\",'AVI (Desc)'!G20)","v":""},{"$f":"IF('AVI (Desc)'!H20=\"\",\"\",INDEX([1]OWNER!$A$2:$A$100,MATCH('AVI (Desc)'!$H20,[1]!MASTER_OWNER_DESC[#Data],0),0))","v":""},{"$f":"IF('AVI (Desc)'!I20=\"\",\"\",INDEX([1]COUNTY!$A$2:$A$80,MATCH('AVI (Desc)'!I20,[1]!MASTER_COUNTY_NAME[#Data],0),0))","v":""},{"$f":"IF('AVI (Desc)'!J20=\"\",\"\",'AVI (Desc)'!J20)","v":""},{"$f":"IF('AVI (Desc)'!K20=\"\",\"\",INDEX([1]AVI_SENSOR_TYPE!$A$2:$A$7,MATCH('AVI (Desc)'!K20,[1]!MASTER_AVI_SENSOR_TYPE_DESC,0),0))","v":""}]
[{"$f":"IF('AVI (Desc)'!A21=\"\",\"\",'AVI (Desc)'!A21)","v":""},{"$f":"IF('AVI (Desc)'!B21=\"\",\"\",'AVI (Desc)'!B21)","v":""},{"$f":"IF('AVI (Desc)'!C21=\"\",\"\",'AVI (Desc)'!C21)","v":""},{"$f":"IF('AVI (Desc)'!D21=\"\",\"\",'AVI (Desc)'!D21)","v":""},{"$f":"IF('AVI (Desc)'!E21=\"\",\"\",INDEX([1]ASSET_ID_SOURCE!$A$2:$A$50,MATCH('AVI (Desc)'!E21,[1]!MASTER_ASSET_ID_SOURCE_DESC,0),0))","v":""},{"$f":"IF('AVI (Desc)'!F21=\"\",\"\",'AVI (Desc)'!F21)","v":""},{"$f":"IF('AVI (Desc)'!G21=\"\",\"\",'AVI (Desc)'!G21)","v":""},{"$f":"IF('AVI (Desc)'!H21=\"\",\"\",INDEX([1]OWNER!$A$2:$A$100,MATCH('AVI (Desc)'!$H21,[1]!MASTER_OWNER_DESC[#Data],0),0))","v":""},{"$f":"IF('AVI (Desc)'!I21=\"\",\"\",INDEX([1]COUNTY!$A$2:$A$80,MATCH('AVI (Desc)'!I21,[1]!MASTER_COUNTY_NAME[#Data],0),0))","v":""},{"$f":"IF('AVI (Desc)'!J21=\"\",\"\",'AVI (Desc)'!J21)","v":""},{"$f":"IF('AVI (Desc)'!K21=\"\",\"\",INDEX([1]AVI_SENSOR_TYPE!$A$2:$A$7,MATCH('AVI (Desc)'!K21,[1]!MASTER_AVI_SENSOR_TYPE_DESC,0),0))","v":""}]
[{"$f":"IF('AVI (Desc)'!A22=\"\",\"\",'AVI (Desc)'!A22)","v":""},{"$f":"IF('AVI (Desc)'!B22=\"\",\"\",'AVI (Desc)'!B22)","v":""},{"$f":"IF('AVI (Desc)'!C22=\"\",\"\",'AVI (Desc)'!C22)","v":""},{"$f":"IF('AVI (Desc)'!D22=\"\",\"\",'AVI (Desc)'!D22)","v":""},{"$f":"IF('AVI (Desc)'!E22=\"\",\"\",INDEX([1]ASSET_ID_SOURCE!$A$2:$A$50,MATCH('AVI (Desc)'!E22,[1]!MASTER_ASSET_ID_SOURCE_DESC,0),0))","v":""},{"$f":"IF('AVI (Desc)'!F22=\"\",\"\",'AVI (Desc)'!F22)","v":""},{"$f":"IF('AVI (Desc)'!G22=\"\",\"\",'AVI (Desc)'!G22)","v":""},{"$f":"IF('AVI (Desc)'!H22=\"\",\"\",INDEX([1]OWNER!$A$2:$A$100,MATCH('AVI (Desc)'!$H22,[1]!MASTER_OWNER_DESC[#Data],0),0))","v":""},{"$f":"IF('AVI (Desc)'!I22=\"\",\"\",INDEX([1]COUNTY!$A$2:$A$80,MATCH('AVI (Desc)'!I22,[1]!MASTER_COUNTY_NAME[#Data],0),0))","v":""},{"$f":"IF('AVI (Desc)'!J22=\"\",\"\",'AVI (Desc)'!J22)","v":""},{"$f":"IF('AVI (Desc)'!K22=\"\",\"\",INDEX([1]AVI_SENSOR_TYPE!$A$2:$A$7,MATCH('AVI (Desc)'!K22,[1]!MASTER_AVI_SENSOR_TYPE_DESC,0),0))","v":""}]
[{"$f":"IF('AVI (Desc)'!A23=\"\",\"\",'AVI (Desc)'!A23)","v":""},{"$f":"IF('AVI (Desc)'!B23=\"\",\"\",'AVI (Desc)'!B23)","v":""},{"$f":"IF('AVI (Desc)'!C23=\"\",\"\",'AVI (Desc)'!C23)","v":""},{"$f":"IF('AVI (Desc)'!D23=\"\",\"\",'AVI (Desc)'!D23)","v":""},{"$f":"IF('AVI (Desc)'!E23=\"\",\"\",INDEX([1]ASSET_ID_SOURCE!$A$2:$A$50,MATCH('AVI (Desc)'!E23,[1]!MASTER_ASSET_ID_SOURCE_DESC,0),0))","v":""},{"$f":"IF('AVI (Desc)'!F23=\"\",\"\",'AVI (Desc)'!F23)","v":""},{"$f":"IF('AVI (Desc)'!G23=\"\",\"\",'AVI (Desc)'!G23)","v":""},{"$f":"IF('AVI (Desc)'!H23=\"\",\"\",INDEX([1]OWNER!$A$2:$A$100,MATCH('AVI (Desc)'!$H23,[1]!MASTER_OWNER_DESC[#Data],0),0))","v":""},{"$f":"IF('AVI (Desc)'!I23=\"\",\"\",INDEX([1]COUNTY!$A$2:$A$80,MATCH('AVI (Desc)'!I23,[1]!MASTER_COUNTY_NAME[#Data],0),0))","v":""},{"$f":"IF('AVI (Desc)'!J23=\"\",\"\",'AVI (Desc)'!J23)","v":""},{"$f":"IF('AVI (Desc)'!K23=\"\",\"\",INDEX([1]AVI_SENSOR_TYPE!$A$2:$A$7,MATCH('AVI (Desc)'!K23,[1]!MASTER_AVI_SENSOR_TYPE_DESC,0),0))","v":""}]
[{"$f":"IF('AVI (Desc)'!A24=\"\",\"\",'AVI (Desc)'!A24)","v":""},{"$f":"IF('AVI (Desc)'!B24=\"\",\"\",'AVI (Desc)'!B24)","v":""},{"$f":"IF('AVI (Desc)'!C24=\"\",\"\",'AVI (Desc)'!C24)","v":""},{"$f":"IF('AVI (Desc)'!D24=\"\",\"\",'AVI (Desc)'!D24)","v":""},{"$f":"IF('AVI (Desc)'!E24=\"\",\"\",INDEX([1]ASSET_ID_SOURCE!$A$2:$A$50,MATCH('AVI (Desc)'!E24,[1]!MASTER_ASSET_ID_SOURCE_DESC,0),0))","v":""},{"$f":"IF('AVI (Desc)'!F24=\"\",\"\",'AVI (Desc)'!F24)","v":""},{"$f":"IF('AVI (Desc)'!G24=\"\",\"\",'AVI (Desc)'!G24)","v":""},{"$f":"IF('AVI (Desc)'!H24=\"\",\"\",INDEX([1]OWNER!$A$2:$A$100,MATCH('AVI (Desc)'!$H24,[1]!MASTER_OWNER_DESC[#Data],0),0))","v":""},{"$f":"IF('AVI (Desc)'!I24=\"\",\"\",INDEX([1]COUNTY!$A$2:$A$80,MATCH('AVI (Desc)'!I24,[1]!MASTER_COUNTY_NAME[#Data],0),0))","v":""},{"$f":"IF('AVI (Desc)'!J24=\"\",\"\",'AVI (Desc)'!J24)","v":""},{"$f":"IF('AVI (Desc)'!K24=\"\",\"\",INDEX([1]AVI_SENSOR_TYPE!$A$2:$A$7,MATCH('AVI (Desc)'!K24,[1]!MASTER_AVI_SENSOR_TYPE_DESC,0),0))","v":""}]
[{"$f":"IF('AVI (Desc)'!A25=\"\",\"\",'AVI (Desc)'!A25)","v":""},{"$f":"IF('AVI (Desc)'!B25=\"\",\"\",'AVI (Desc)'!B25)","v":""},{"$f":"IF('AVI (Desc)'!C25=\"\",\"\",'AVI (Desc)'!C25)","v":""},{"$f":"IF('AVI (Desc)'!D25=\"\",\"\",'AVI (Desc)'!D25)","v":""},{"$f":"IF('AVI (Desc)'!E25=\"\",\"\",INDEX([1]ASSET_ID_SOURCE!$A$2:$A$50,MATCH('AVI (Desc)'!E25,[1]!MASTER_ASSET_ID_SOURCE_DESC,0),0))","v":""},{"$f":"IF('AVI (Desc)'!F25=\"\",\"\",'AVI (Desc)'!F25)","v":""},{"$f":"IF('AVI (Desc)'!G25=\"\",\"\",'AVI (Desc)'!G25)","v":""},{"$f":"IF('AVI (Desc)'!H25=\"\",\"\",INDEX([1]OWNER!$A$2:$A$100,MATCH('AVI (Desc)'!$H25,[1]!MASTER_OWNER_DESC[#Data],0),0))","v":""},{"$f":"IF('AVI (Desc)'!I25=\"\",\"\",INDEX([1]COUNTY!$A$2:$A$80,MATCH('AVI (Desc)'!I25,[1]!MASTER_COUNTY_NAME[#Data],0),0))","v":""},{"$f":"IF('AVI (Desc)'!J25=\"\",\"\",'AVI (Desc)'!J25)","v":""},{"$f":"IF('AVI (Desc)'!K25=\"\",\"\",INDEX([1]AVI_SENSOR_TYPE!$A$2:$A$7,MATCH('AVI (Desc)'!K25,[1]!MASTER_AVI_SENSOR_TYPE_DESC,0),0))","v":""}]
[{"$f":"IF('AVI (Desc)'!A26=\"\",\"\",'AVI (Desc)'!A26)","v":""},{"$f":"IF('AVI (Desc)'!B26=\"\",\"\",'AVI (Desc)'!B26)","v":""},{"$f":"IF('AVI (Desc)'!C26=\"\",\"\",'AVI (Desc)'!C26)","v":""},{"$f":"IF('AVI (Desc)'!D26=\"\",\"\",'AVI (Desc)'!D26)","v":""},{"$f":"IF('AVI (Desc)'!E26=\"\",\"\",INDEX([1]ASSET_ID_SOURCE!$A$2:$A$50,MATCH('AVI (Desc)'!E26,[1]!MASTER_ASSET_ID_SOURCE_DESC,0),0))","v":""},{"$f":"IF('AVI (Desc)'!F26=\"\",\"\",'AVI (Desc)'!F26)","v":""},{"$f":"IF('AVI (Desc)'!G26=\"\",\"\",'AVI (Desc)'!G26)","v":""},{"$f":"IF('AVI (Desc)'!H26=\"\",\"\",INDEX([1]OWNER!$A$2:$A$100,MATCH('AVI (Desc)'!$H26,[1]!MASTER_OWNER_DESC[#Data],0),0))","v":""},{"$f":"IF('AVI (Desc)'!I26=\"\",\"\",INDEX([1]COUNTY!$A$2:$A$80,MATCH('AVI (Desc)'!I26,[1]!MASTER_COUNTY_NAME[#Data],0),0))","v":""},{"$f":"IF('AVI (Desc)'!J26=\"\",\"\",'AVI (Desc)'!J26)","v":""},{"$f":"IF('AVI (Desc)'!K26=\"\",\"\",INDEX([1]AVI_SENSOR_TYPE!$A$2:$A$7,MATCH('AVI (Desc)'!K26,[1]!MASTER_AVI_SENSOR_TYPE_DESC,0),0))","v":""}]
[{"$f":"IF('AVI (Desc)'!A27=\"\",\"\",'AVI (Desc)'!A27)","v":""},{"$f":"IF('AVI (Desc)'!B27=\"\",\"\",'AVI (Desc)'!B27)","v":""},{"$f":"IF('AVI (Desc)'!C27=\"\",\"\",'AVI (Desc)'!C27)","v":""},{"$f":"IF('AVI (Desc)'!D27=\"\",\"\",'AVI (Desc)'!D27)","v":""},{"$f":"IF('AVI (Desc)'!E27=\"\",\"\",INDEX([1]ASSET_ID_SOURCE!$A$2:$A$50,MATCH('AVI (Desc)'!E27,[1]!MASTER_ASSET_ID_SOURCE_DESC,0),0))","v":""},{"$f":"IF('AVI (Desc)'!F27=\"\",\"\",'AVI (Desc)'!F27)","v":""},{"$f":"IF('AVI (Desc)'!G27=\"\",\"\",'AVI (Desc)'!G27)","v":""},{"$f":"IF('AVI (Desc)'!H27=\"\",\"\",INDEX([1]OWNER!$A$2:$A$100,MATCH('AVI (Desc)'!$H27,[1]!MASTER_OWNER_DESC[#Data],0),0))","v":""},{"$f":"IF('AVI (Desc)'!I27=\"\",\"\",INDEX([1]COUNTY!$A$2:$A$80,MATCH('AVI (Desc)'!I27,[1]!MASTER_COUNTY_NAME[#Data],0),0))","v":""},{"$f":"IF('AVI (Desc)'!J27=\"\",\"\",'AVI (Desc)'!J27)","v":""},{"$f":"IF('AVI (Desc)'!K27=\"\",\"\",INDEX([1]AVI_SENSOR_TYPE!$A$2:$A$7,MATCH('AVI (Desc)'!K27,[1]!MASTER_AVI_SENSOR_TYPE_DESC,0),0))","v":""}]
[{"$f":"IF('AVI (Desc)'!A28=\"\",\"\",'AVI (Desc)'!A28)","v":""},{"$f":"IF('AVI (Desc)'!B28=\"\",\"\",'AVI (Desc)'!B28)","v":""},{"$f":"IF('AVI (Desc)'!C28=\"\",\"\",'AVI (Desc)'!C28)","v":""},{"$f":"IF('AVI (Desc)'!D28=\"\",\"\",'AVI (Desc)'!D28)","v":""},{"$f":"IF('AVI (Desc)'!E28=\"\",\"\",INDEX([1]ASSET_ID_SOURCE!$A$2:$A$50,MATCH('AVI (Desc)'!E28,[1]!MASTER_ASSET_ID_SOURCE_DESC,0),0))","v":""},{"$f":"IF('AVI (Desc)'!F28=\"\",\"\",'AVI (Desc)'!F28)","v":""},{"$f":"IF('AVI (Desc)'!G28=\"\",\"\",'AVI (Desc)'!G28)","v":""},{"$f":"IF('AVI (Desc)'!H28=\"\",\"\",INDEX([1]OWNER!$A$2:$A$100,MATCH('AVI (Desc)'!$H28,[1]!MASTER_OWNER_DESC[#Data],0),0))","v":""},{"$f":"IF('AVI (Desc)'!I28=\"\",\"\",INDEX([1]COUNTY!$A$2:$A$80,MATCH('AVI (Desc)'!I28,[1]!MASTER_COUNTY_NAME[#Data],0),0))","v":""},{"$f":"IF('AVI (Desc)'!J28=\"\",\"\",'AVI (Desc)'!J28)","v":""},{"$f":"IF('AVI (Desc)'!K28=\"\",\"\",INDEX([1]AVI_SENSOR_TYPE!$A$2:$A$7,MATCH('AVI (Desc)'!K28,[1]!MASTER_AVI_SENSOR_TYPE_DESC,0),0))","v":""}]
[{"$f":"IF('AVI (Desc)'!A29=\"\",\"\",'AVI (Desc)'!A29)","v":""},{"$f":"IF('AVI (Desc)'!B29=\"\",\"\",'AVI (Desc)'!B29)","v":""},{"$f":"IF('AVI (Desc)'!C29=\"\",\"\",'AVI (Desc)'!C29)","v":""},{"$f":"IF('AVI (Desc)'!D29=\"\",\"\",'AVI (Desc)'!D29)","v":""},{"$f":"IF('AVI (Desc)'!E29=\"\",\"\",INDEX([1]ASSET_ID_SOURCE!$A$2:$A$50,MATCH('AVI (Desc)'!E29,[1]!MASTER_ASSET_ID_SOURCE_DESC,0),0))","v":""},{"$f":"IF('AVI (Desc)'!F29=\"\",\"\",'AVI (Desc)'!F29)","v":""},{"$f":"IF('AVI (Desc)'!G29=\"\",\"\",'AVI (Desc)'!G29)","v":""},{"$f":"IF('AVI (Desc)'!H29=\"\",\"\",INDEX([1]OWNER!$A$2:$A$100,MATCH('AVI (Desc)'!$H29,[1]!MASTER_OWNER_DESC[#Data],0),0))","v":""},{"$f":"IF('AVI (Desc)'!I29=\"\",\"\",INDEX([1]COUNTY!$A$2:$A$80,MATCH('AVI (Desc)'!I29,[1]!MASTER_COUNTY_NAME[#Data],0),0))","v":""},{"$f":"IF('AVI (Desc)'!J29=\"\",\"\",'AVI (Desc)'!J29)","v":""},{"$f":"IF('AVI (Desc)'!K29=\"\",\"\",INDEX([1]AVI_SENSOR_TYPE!$A$2:$A$7,MATCH('AVI (Desc)'!K29,[1]!MASTER_AVI_SENSOR_TYPE_DESC,0),0))","v":""}]
[{"$f":"IF('AVI (Desc)'!A30=\"\",\"\",'AVI (Desc)'!A30)","v":""},{"$f":"IF('AVI (Desc)'!B30=\"\",\"\",'AVI (Desc)'!B30)","v":""},{"$f":"IF('AVI (Desc)'!C30=\"\",\"\",'AVI (Desc)'!C30)","v":""},{"$f":"IF('AVI (Desc)'!D30=\"\",\"\",'AVI (Desc)'!D30)","v":""},{"$f":"IF('AVI (Desc)'!E30=\"\",\"\",INDEX([1]ASSET_ID_SOURCE!$A$2:$A$50,MATCH('AVI (Desc)'!E30,[1]!MASTER_ASSET_ID_SOURCE_DESC,0),0))","v":""},{"$f":"IF('AVI (Desc)'!F30=\"\",\"\",'AVI (Desc)'!F30)","v":""},{"$f":"IF('AVI (Desc)'!G30=\"\",\"\",'AVI (Desc)'!G30)","v":""},{"$f":"IF('AVI (Desc)'!H30=\"\",\"\",INDEX([1]OWNER!$A$2:$A$100,MATCH('AVI (Desc)'!$H30,[1]!MASTER_OWNER_DESC[#Data],0),0))","v":""},{"$f":"IF('AVI (Desc)'!I30=\"\",\"\",INDEX([1]COUNTY!$A$2:$A$80,MATCH('AVI (Desc)'!I30,[1]!MASTER_COUNTY_NAME[#Data],0),0))","v":""},{"$f":"IF('AVI (Desc)'!J30=\"\",\"\",'AVI (Desc)'!J30)","v":""},{"$f":"IF('AVI (Desc)'!K30=\"\",\"\",INDEX([1]AVI_SENSOR_TYPE!$A$2:$A$7,MATCH('AVI (Desc)'!K30,[1]!MASTER_AVI_SENSOR_TYPE_DESC,0),0))","v":""}]
[{"$f":"IF('AVI (Desc)'!A31=\"\",\"\",'AVI (Desc)'!A31)","v":""},{"$f":"IF('AVI (Desc)'!B31=\"\",\"\",'AVI (Desc)'!B31)","v":""},{"$f":"IF('AVI (Desc)'!C31=\"\",\"\",'AVI (Desc)'!C31)","v":""},{"$f":"IF('AVI (Desc)'!D31=\"\",\"\",'AVI (Desc)'!D31)","v":""},{"$f":"IF('AVI (Desc)'!E31=\"\",\"\",INDEX([1]ASSET_ID_SOURCE!$A$2:$A$50,MATCH('AVI (Desc)'!E31,[1]!MASTER_ASSET_ID_SOURCE_DESC,0),0))","v":""},{"$f":"IF('AVI (Desc)'!F31=\"\",\"\",'AVI (Desc)'!F31)","v":""},{"$f":"IF('AVI (Desc)'!G31=\"\",\"\",'AVI (Desc)'!G31)","v":""},{"$f":"IF('AVI (Desc)'!H31=\"\",\"\",INDEX([1]OWNER!$A$2:$A$100,MATCH('AVI (Desc)'!$H31,[1]!MASTER_OWNER_DESC[#Data],0),0))","v":""},{"$f":"IF('AVI (Desc)'!I31=\"\",\"\",INDEX([1]COUNTY!$A$2:$A$80,MATCH('AVI (Desc)'!I31,[1]!MASTER_COUNTY_NAME[#Data],0),0))","v":""},{"$f":"IF('AVI (Desc)'!J31=\"\",\"\",'AVI (Desc)'!J31)","v":""},{"$f":"IF('AVI (Desc)'!K31=\"\",\"\",INDEX([1]AVI_SENSOR_TYPE!$A$2:$A$7,MATCH('AVI (Desc)'!K31,[1]!MASTER_AVI_SENSOR_TYPE_DESC,0),0))","v":""}]
[{"$f":"IF('AVI (Desc)'!A32=\"\",\"\",'AVI (Desc)'!A32)","v":""},{"$f":"IF('AVI (Desc)'!B32=\"\",\"\",'AVI (Desc)'!B32)","v":""},{"$f":"IF('AVI (Desc)'!C32=\"\",\"\",'AVI (Desc)'!C32)","v":""},{"$f":"IF('AVI (Desc)'!D32=\"\",\"\",'AVI (Desc)'!D32)","v":""},{"$f":"IF('AVI (Desc)'!E32=\"\",\"\",INDEX([1]ASSET_ID_SOURCE!$A$2:$A$50,MATCH('AVI (Desc)'!E32,[1]!MASTER_ASSET_ID_SOURCE_DESC,0),0))","v":""},{"$f":"IF('AVI (Desc)'!F32=\"\",\"\",'AVI (Desc)'!F32)","v":""},{"$f":"IF('AVI (Desc)'!G32=\"\",\"\",'AVI (Desc)'!G32)","v":""},{"$f":"IF('AVI (Desc)'!H32=\"\",\"\",INDEX([1]OWNER!$A$2:$A$100,MATCH('AVI (Desc)'!$H32,[1]!MASTER_OWNER_DESC[#Data],0),0))","v":""},{"$f":"IF('AVI (Desc)'!I32=\"\",\"\",INDEX([1]COUNTY!$A$2:$A$80,MATCH('AVI (Desc)'!I32,[1]!MASTER_COUNTY_NAME[#Data],0),0))","v":""},{"$f":"IF('AVI (Desc)'!J32=\"\",\"\",'AVI (Desc)'!J32)","v":""},{"$f":"IF('AVI (Desc)'!K32=\"\",\"\",INDEX([1]AVI_SENSOR_TYPE!$A$2:$A$7,MATCH('AVI (Desc)'!K32,[1]!MASTER_AVI_SENSOR_TYPE_DESC,0),0))","v":""}]
[{"$f":"IF('AVI (Desc)'!A33=\"\",\"\",'AVI (Desc)'!A33)","v":""},{"$f":"IF('AVI (Desc)'!B33=\"\",\"\",'AVI (Desc)'!B33)","v":""},{"$f":"IF('AVI (Desc)'!C33=\"\",\"\",'AVI (Desc)'!C33)","v":""},{"$f":"IF('AVI (Desc)'!D33=\"\",\"\",'AVI (Desc)'!D33)","v":""},{"$f":"IF('AVI (Desc)'!E33=\"\",\"\",INDEX([1]ASSET_ID_SOURCE!$A$2:$A$50,MATCH('AVI (Desc)'!E33,[1]!MASTER_ASSET_ID_SOURCE_DESC,0),0))","v":""},{"$f":"IF('AVI (Desc)'!F33=\"\",\"\",'AVI (Desc)'!F33)","v":""},{"$f":"IF('AVI (Desc)'!G33=\"\",\"\",'AVI (Desc)'!G33)","v":""},{"$f":"IF('AVI (Desc)'!H33=\"\",\"\",INDEX([1]OWNER!$A$2:$A$100,MATCH('AVI (Desc)'!$H33,[1]!MASTER_OWNER_DESC[#Data],0),0))","v":""},{"$f":"IF('AVI (Desc)'!I33=\"\",\"\",INDEX([1]COUNTY!$A$2:$A$80,MATCH('AVI (Desc)'!I33,[1]!MASTER_COUNTY_NAME[#Data],0),0))","v":""},{"$f":"IF('AVI (Desc)'!J33=\"\",\"\",'AVI (Desc)'!J33)","v":""},{"$f":"IF('AVI (Desc)'!K33=\"\",\"\",INDEX([1]AVI_SENSOR_TYPE!$A$2:$A$7,MATCH('AVI (Desc)'!K33,[1]!MASTER_AVI_SENSOR_TYPE_DESC,0),0))","v":""}]
[{"$f":"IF('AVI (Desc)'!A34=\"\",\"\",'AVI (Desc)'!A34)","v":""},{"$f":"IF('AVI (Desc)'!B34=\"\",\"\",'AVI (Desc)'!B34)","v":""},{"$f":"IF('AVI (Desc)'!C34=\"\",\"\",'AVI (Desc)'!C34)","v":""},{"$f":"IF('AVI (Desc)'!D34=\"\",\"\",'AVI (Desc)'!D34)","v":""},{"$f":"IF('AVI (Desc)'!E34=\"\",\"\",INDEX([1]ASSET_ID_SOURCE!$A$2:$A$50,MATCH('AVI (Desc)'!E34,[1]!MASTER_ASSET_ID_SOURCE_DESC,0),0))","v":""},{"$f":"IF('AVI (Desc)'!F34=\"\",\"\",'AVI (Desc)'!F34)","v":""},{"$f":"IF('AVI (Desc)'!G34=\"\",\"\",'AVI (Desc)'!G34)","v":""},{"$f":"IF('AVI (Desc)'!H34=\"\",\"\",INDEX([1]OWNER!$A$2:$A$100,MATCH('AVI (Desc)'!$H34,[1]!MASTER_OWNER_DESC[#Data],0),0))","v":""},{"$f":"IF('AVI (Desc)'!I34=\"\",\"\",INDEX([1]COUNTY!$A$2:$A$80,MATCH('AVI (Desc)'!I34,[1]!MASTER_COUNTY_NAME[#Data],0),0))","v":""},{"$f":"IF('AVI (Desc)'!J34=\"\",\"\",'AVI (Desc)'!J34)","v":""},{"$f":"IF('AVI (Desc)'!K34=\"\",\"\",INDEX([1]AVI_SENSOR_TYPE!$A$2:$A$7,MATCH('AVI (Desc)'!K34,[1]!MASTER_AVI_SENSOR_TYPE_DESC,0),0))","v":""}]
[{"$f":"IF('AVI (Desc)'!A35=\"\",\"\",'AVI (Desc)'!A35)","v":""},{"$f":"IF('AVI (Desc)'!B35=\"\",\"\",'AVI (Desc)'!B35)","v":""},{"$f":"IF('AVI (Desc)'!C35=\"\",\"\",'AVI (Desc)'!C35)","v":""},{"$f":"IF('AVI (Desc)'!D35=\"\",\"\",'AVI (Desc)'!D35)","v":""},{"$f":"IF('AVI (Desc)'!E35=\"\",\"\",INDEX([1]ASSET_ID_SOURCE!$A$2:$A$50,MATCH('AVI (Desc)'!E35,[1]!MASTER_ASSET_ID_SOURCE_DESC,0),0))","v":""},{"$f":"IF('AVI (Desc)'!F35=\"\",\"\",'AVI (Desc)'!F35)","v":""},{"$f":"IF('AVI (Desc)'!G35=\"\",\"\",'AVI (Desc)'!G35)","v":""},{"$f":"IF('AVI (Desc)'!H35=\"\",\"\",INDEX([1]OWNER!$A$2:$A$100,MATCH('AVI (Desc)'!$H35,[1]!MASTER_OWNER_DESC[#Data],0),0))","v":""},{"$f":"IF('AVI (Desc)'!I35=\"\",\"\",INDEX([1]COUNTY!$A$2:$A$80,MATCH('AVI (Desc)'!I35,[1]!MASTER_COUNTY_NAME[#Data],0),0))","v":""},{"$f":"IF('AVI (Desc)'!J35=\"\",\"\",'AVI (Desc)'!J35)","v":""},{"$f":"IF('AVI (Desc)'!K35=\"\",\"\",INDEX([1]AVI_SENSOR_TYPE!$A$2:$A$7,MATCH('AVI (Desc)'!K35,[1]!MASTER_AVI_SENSOR_TYPE_DESC,0),0))","v":""}]
[{"$f":"IF('AVI (Desc)'!A36=\"\",\"\",'AVI (Desc)'!A36)","v":""},{"$f":"IF('AVI (Desc)'!B36=\"\",\"\",'AVI (Desc)'!B36)","v":""},{"$f":"IF('AVI (Desc)'!C36=\"\",\"\",'AVI (Desc)'!C36)","v":""},{"$f":"IF('AVI (Desc)'!D36=\"\",\"\",'AVI (Desc)'!D36)","v":""},{"$f":"IF('AVI (Desc)'!E36=\"\",\"\",INDEX([1]ASSET_ID_SOURCE!$A$2:$A$50,MATCH('AVI (Desc)'!E36,[1]!MASTER_ASSET_ID_SOURCE_DESC,0),0))","v":""},{"$f":"IF('AVI (Desc)'!F36=\"\",\"\",'AVI (Desc)'!F36)","v":""},{"$f":"IF('AVI (Desc)'!G36=\"\",\"\",'AVI (Desc)'!G36)","v":""},{"$f":"IF('AVI (Desc)'!H36=\"\",\"\",INDEX([1]OWNER!$A$2:$A$100,MATCH('AVI (Desc)'!$H36,[1]!MASTER_OWNER_DESC[#Data],0),0))","v":""},{"$f":"IF('AVI (Desc)'!I36=\"\",\"\",INDEX([1]COUNTY!$A$2:$A$80,MATCH('AVI (Desc)'!I36,[1]!MASTER_COUNTY_NAME[#Data],0),0))","v":""},{"$f":"IF('AVI (Desc)'!J36=\"\",\"\",'AVI (Desc)'!J36)","v":""},{"$f":"IF('AVI (Desc)'!K36=\"\",\"\",INDEX([1]AVI_SENSOR_TYPE!$A$2:$A$7,MATCH('AVI (Desc)'!K36,[1]!MASTER_AVI_SENSOR_TYPE_DESC,0),0))","v":""}]
[{"$f":"IF('AVI (Desc)'!A37=\"\",\"\",'AVI (Desc)'!A37)","v":""},{"$f":"IF('AVI (Desc)'!B37=\"\",\"\",'AVI (Desc)'!B37)","v":""},{"$f":"IF('AVI (Desc)'!C37=\"\",\"\",'AVI (Desc)'!C37)","v":""},{"$f":"IF('AVI (Desc)'!D37=\"\",\"\",'AVI (Desc)'!D37)","v":""},{"$f":"IF('AVI (Desc)'!E37=\"\",\"\",INDEX([1]ASSET_ID_SOURCE!$A$2:$A$50,MATCH('AVI (Desc)'!E37,[1]!MASTER_ASSET_ID_SOURCE_DESC,0),0))","v":""},{"$f":"IF('AVI (Desc)'!F37=\"\",\"\",'AVI (Desc)'!F37)","v":""},{"$f":"IF('AVI (Desc)'!G37=\"\",\"\",'AVI (Desc)'!G37)","v":""},{"$f":"IF('AVI (Desc)'!H37=\"\",\"\",INDEX([1]OWNER!$A$2:$A$100,MATCH('AVI (Desc)'!$H37,[1]!MASTER_OWNER_DESC[#Data],0),0))","v":""},{"$f":"IF('AVI (Desc)'!I37=\"\",\"\",INDEX([1]COUNTY!$A$2:$A$80,MATCH('AVI (Desc)'!I37,[1]!MASTER_COUNTY_NAME[#Data],0),0))","v":""},{"$f":"IF('AVI (Desc)'!J37=\"\",\"\",'AVI (Desc)'!J37)","v":""},{"$f":"IF('AVI (Desc)'!K37=\"\",\"\",INDEX([1]AVI_SENSOR_TYPE!$A$2:$A$7,MATCH('AVI (Desc)'!K37,[1]!MASTER_AVI_SENSOR_TYPE_DESC,0),0))","v":""}]
[{"$f":"IF('AVI (Desc)'!A38=\"\",\"\",'AVI (Desc)'!A38)","v":""},{"$f":"IF('AVI (Desc)'!B38=\"\",\"\",'AVI (Desc)'!B38)","v":""},{"$f":"IF('AVI (Desc)'!C38=\"\",\"\",'AVI (Desc)'!C38)","v":""},{"$f":"IF('AVI (Desc)'!D38=\"\",\"\",'AVI (Desc)'!D38)","v":""},{"$f":"IF('AVI (Desc)'!E38=\"\",\"\",INDEX([1]ASSET_ID_SOURCE!$A$2:$A$50,MATCH('AVI (Desc)'!E38,[1]!MASTER_ASSET_ID_SOURCE_DESC,0),0))","v":""},{"$f":"IF('AVI (Desc)'!F38=\"\",\"\",'AVI (Desc)'!F38)","v":""},{"$f":"IF('AVI (Desc)'!G38=\"\",\"\",'AVI (Desc)'!G38)","v":""},{"$f":"IF('AVI (Desc)'!H38=\"\",\"\",INDEX([1]OWNER!$A$2:$A$100,MATCH('AVI (Desc)'!$H38,[1]!MASTER_OWNER_DESC[#Data],0),0))","v":""},{"$f":"IF('AVI (Desc)'!I38=\"\",\"\",INDEX([1]COUNTY!$A$2:$A$80,MATCH('AVI (Desc)'!I38,[1]!MASTER_COUNTY_NAME[#Data],0),0))","v":""},{"$f":"IF('AVI (Desc)'!J38=\"\",\"\",'AVI (Desc)'!J38)","v":""},{"$f":"IF('AVI (Desc)'!K38=\"\",\"\",INDEX([1]AVI_SENSOR_TYPE!$A$2:$A$7,MATCH('AVI (Desc)'!K38,[1]!MASTER_AVI_SENSOR_TYPE_DESC,0),0))","v":""}]
[{"$f":"IF('AVI (Desc)'!A39=\"\",\"\",'AVI (Desc)'!A39)","v":""},{"$f":"IF('AVI (Desc)'!B39=\"\",\"\",'AVI (Desc)'!B39)","v":""},{"$f":"IF('AVI (Desc)'!C39=\"\",\"\",'AVI (Desc)'!C39)","v":""},{"$f":"IF('AVI (Desc)'!D39=\"\",\"\",'AVI (Desc)'!D39)","v":""},{"$f":"IF('AVI (Desc)'!E39=\"\",\"\",INDEX([1]ASSET_ID_SOURCE!$A$2:$A$50,MATCH('AVI (Desc)'!E39,[1]!MASTER_ASSET_ID_SOURCE_DESC,0),0))","v":""},{"$f":"IF('AVI (Desc)'!F39=\"\",\"\",'AVI (Desc)'!F39)","v":""},{"$f":"IF('AVI (Desc)'!G39=\"\",\"\",'AVI (Desc)'!G39)","v":""},{"$f":"IF('AVI (Desc)'!H39=\"\",\"\",INDEX([1]OWNER!$A$2:$A$100,MATCH('AVI (Desc)'!$H39,[1]!MASTER_OWNER_DESC[#Data],0),0))","v":""},{"$f":"IF('AVI (Desc)'!I39=\"\",\"\",INDEX([1]COUNTY!$A$2:$A$80,MATCH('AVI (Desc)'!I39,[1]!MASTER_COUNTY_NAME[#Data],0),0))","v":""},{"$f":"IF('AVI (Desc)'!J39=\"\",\"\",'AVI (Desc)'!J39)","v":""},{"$f":"IF('AVI (Desc)'!K39=\"\",\"\",INDEX([1]AVI_SENSOR_TYPE!$A$2:$A$7,MATCH('AVI (Desc)'!K39,[1]!MASTER_AVI_SENSOR_TYPE_DESC,0),0))","v":""}]
[{"$f":"IF('AVI (Desc)'!A40=\"\",\"\",'AVI (Desc)'!A40)","v":""},{"$f":"IF('AVI (Desc)'!B40=\"\",\"\",'AVI (Desc)'!B40)","v":""},{"$f":"IF('AVI (Desc)'!C40=\"\",\"\",'AVI (Desc)'!C40)","v":""},{"$f":"IF('AVI (Desc)'!D40=\"\",\"\",'AVI (Desc)'!D40)","v":""},{"$f":"IF('AVI (Desc)'!E40=\"\",\"\",INDEX([1]ASSET_ID_SOURCE!$A$2:$A$50,MATCH('AVI (Desc)'!E40,[1]!MASTER_ASSET_ID_SOURCE_DESC,0),0))","v":""},{"$f":"IF('AVI (Desc)'!F40=\"\",\"\",'AVI (Desc)'!F40)","v":""},{"$f":"IF('AVI (Desc)'!G40=\"\",\"\",'AVI (Desc)'!G40)","v":""},{"$f":"IF('AVI (Desc)'!H40=\"\",\"\",INDEX([1]OWNER!$A$2:$A$100,MATCH('AVI (Desc)'!$H40,[1]!MASTER_OWNER_DESC[#Data],0),0))","v":""},{"$f":"IF('AVI (Desc)'!I40=\"\",\"\",INDEX([1]COUNTY!$A$2:$A$80,MATCH('AVI (Desc)'!I40,[1]!MASTER_COUNTY_NAME[#Data],0),0))","v":""},{"$f":"IF('AVI (Desc)'!J40=\"\",\"\",'AVI (Desc)'!J40)","v":""},{"$f":"IF('AVI (Desc)'!K40=\"\",\"\",INDEX([1]AVI_SENSOR_TYPE!$A$2:$A$7,MATCH('AVI (Desc)'!K40,[1]!MASTER_AVI_SENSOR_TYPE_DESC,0),0))","v":""}]
[{"$f":"IF('AVI (Desc)'!A41=\"\",\"\",'AVI (Desc)'!A41)","v":""},{"$f":"IF('AVI (Desc)'!B41=\"\",\"\",'AVI (Desc)'!B41)","v":""},{"$f":"IF('AVI (Desc)'!C41=\"\",\"\",'AVI (Desc)'!C41)","v":""},{"$f":"IF('AVI (Desc)'!D41=\"\",\"\",'AVI (Desc)'!D41)","v":""},{"$f":"IF('AVI (Desc)'!E41=\"\",\"\",INDEX([1]ASSET_ID_SOURCE!$A$2:$A$50,MATCH('AVI (Desc)'!E41,[1]!MASTER_ASSET_ID_SOURCE_DESC,0),0))","v":""},{"$f":"IF('AVI (Desc)'!F41=\"\",\"\",'AVI (Desc)'!F41)","v":""},{"$f":"IF('AVI (Desc)'!G41=\"\",\"\",'AVI (Desc)'!G41)","v":""},{"$f":"IF('AVI (Desc)'!H41=\"\",\"\",INDEX([1]OWNER!$A$2:$A$100,MATCH('AVI (Desc)'!$H41,[1]!MASTER_OWNER_DESC[#Data],0),0))","v":""},{"$f":"IF('AVI (Desc)'!I41=\"\",\"\",INDEX([1]COUNTY!$A$2:$A$80,MATCH('AVI (Desc)'!I41,[1]!MASTER_COUNTY_NAME[#Data],0),0))","v":""},{"$f":"IF('AVI (Desc)'!J41=\"\",\"\",'AVI (Desc)'!J41)","v":""},{"$f":"IF('AVI (Desc)'!K41=\"\",\"\",INDEX([1]AVI_SENSOR_TYPE!$A$2:$A$7,MATCH('AVI (Desc)'!K41,[1]!MASTER_AVI_SENSOR_TYPE_DESC,0),0))","v":""}]
[{"$f":"IF('AVI (Desc)'!A42=\"\",\"\",'AVI (Desc)'!A42)","v":""},{"$f":"IF('AVI (Desc)'!B42=\"\",\"\",'AVI (Desc)'!B42)","v":""},{"$f":"IF('AVI (Desc)'!C42=\"\",\"\",'AVI (Desc)'!C42)","v":""},{"$f":"IF('AVI (Desc)'!D42=\"\",\"\",'AVI (Desc)'!D42)","v":""},{"$f":"IF('AVI (Desc)'!E42=\"\",\"\",INDEX([1]ASSET_ID_SOURCE!$A$2:$A$50,MATCH('AVI (Desc)'!E42,[1]!MASTER_ASSET_ID_SOURCE_DESC,0),0))","v":""},{"$f":"IF('AVI (Desc)'!F42=\"\",\"\",'AVI (Desc)'!F42)","v":""},{"$f":"IF('AVI (Desc)'!G42=\"\",\"\",'AVI (Desc)'!G42)","v":""},{"$f":"IF('AVI (Desc)'!H42=\"\",\"\",INDEX([1]OWNER!$A$2:$A$100,MATCH('AVI (Desc)'!$H42,[1]!MASTER_OWNER_DESC[#Data],0),0))","v":""},{"$f":"IF('AVI (Desc)'!I42=\"\",\"\",INDEX([1]COUNTY!$A$2:$A$80,MATCH('AVI (Desc)'!I42,[1]!MASTER_COUNTY_NAME[#Data],0),0))","v":""},{"$f":"IF('AVI (Desc)'!J42=\"\",\"\",'AVI (Desc)'!J42)","v":""},{"$f":"IF('AVI (Desc)'!K42=\"\",\"\",INDEX([1]AVI_SENSOR_TYPE!$A$2:$A$7,MATCH('AVI (Desc)'!K42,[1]!MASTER_AVI_SENSOR_TYPE_DESC,0),0))","v":""}]
[{"$f":"IF('AVI (Desc)'!A43=\"\",\"\",'AVI (Desc)'!A43)","v":""},{"$f":"IF('AVI (Desc)'!B43=\"\",\"\",'AVI (Desc)'!B43)","v":""},{"$f":"IF('AVI (Desc)'!C43=\"\",\"\",'AVI (Desc)'!C43)","v":""},{"$f":"IF('AVI (Desc)'!D43=\"\",\"\",'AVI (Desc)'!D43)","v":""},{"$f":"IF('AVI (Desc)'!E43=\"\",\"\",INDEX([1]ASSET_ID_SOURCE!$A$2:$A$50,MATCH('AVI (Desc)'!E43,[1]!MASTER_ASSET_ID_SOURCE_DESC,0),0))","v":""},{"$f":"IF('AVI (Desc)'!F43=\"\",\"\",'AVI (Desc)'!F43)","v":""},{"$f":"IF('AVI (Desc)'!G43=\"\",\"\",'AVI (Desc)'!G43)","v":""},{"$f":"IF('AVI (Desc)'!H43=\"\",\"\",INDEX([1]OWNER!$A$2:$A$100,MATCH('AVI (Desc)'!$H43,[1]!MASTER_OWNER_DESC[#Data],0),0))","v":""},{"$f":"IF('AVI (Desc)'!I43=\"\",\"\",INDEX([1]COUNTY!$A$2:$A$80,MATCH('AVI (Desc)'!I43,[1]!MASTER_COUNTY_NAME[#Data],0),0))","v":""},{"$f":"IF('AVI (Desc)'!J43=\"\",\"\",'AVI (Desc)'!J43)","v":""},{"$f":"IF('AVI (Desc)'!K43=\"\",\"\",INDEX([1]AVI_SENSOR_TYPE!$A$2:$A$7,MATCH('AVI (Desc)'!K43,[1]!MASTER_AVI_SENSOR_TYPE_DESC,0),0))","v":""}]
[{"$f":"IF('AVI (Desc)'!A44=\"\",\"\",'AVI (Desc)'!A44)","v":""},{"$f":"IF('AVI (Desc)'!B44=\"\",\"\",'AVI (Desc)'!B44)","v":""},{"$f":"IF('AVI (Desc)'!C44=\"\",\"\",'AVI (Desc)'!C44)","v":""},{"$f":"IF('AVI (Desc)'!D44=\"\",\"\",'AVI (Desc)'!D44)","v":""},{"$f":"IF('AVI (Desc)'!E44=\"\",\"\",INDEX([1]ASSET_ID_SOURCE!$A$2:$A$50,MATCH('AVI (Desc)'!E44,[1]!MASTER_ASSET_ID_SOURCE_DESC,0),0))","v":""},{"$f":"IF('AVI (Desc)'!F44=\"\",\"\",'AVI (Desc)'!F44)","v":""},{"$f":"IF('AVI (Desc)'!G44=\"\",\"\",'AVI (Desc)'!G44)","v":""},{"$f":"IF('AVI (Desc)'!H44=\"\",\"\",INDEX([1]OWNER!$A$2:$A$100,MATCH('AVI (Desc)'!$H44,[1]!MASTER_OWNER_DESC[#Data],0),0))","v":""},{"$f":"IF('AVI (Desc)'!I44=\"\",\"\",INDEX([1]COUNTY!$A$2:$A$80,MATCH('AVI (Desc)'!I44,[1]!MASTER_COUNTY_NAME[#Data],0),0))","v":""},{"$f":"IF('AVI (Desc)'!J44=\"\",\"\",'AVI (Desc)'!J44)","v":""},{"$f":"IF('AVI (Desc)'!K44=\"\",\"\",INDEX([1]AVI_SENSOR_TYPE!$A$2:$A$7,MATCH('AVI (Desc)'!K44,[1]!MASTER_AVI_SENSOR_TYPE_DESC,0),0))","v":""}]
[{"$f":"IF('AVI (Desc)'!A45=\"\",\"\",'AVI (Desc)'!A45)","v":""},{"$f":"IF('AVI (Desc)'!B45=\"\",\"\",'AVI (Desc)'!B45)","v":""},{"$f":"IF('AVI (Desc)'!C45=\"\",\"\",'AVI (Desc)'!C45)","v":""},{"$f":"IF('AVI (Desc)'!D45=\"\",\"\",'AVI (Desc)'!D45)","v":""},{"$f":"IF('AVI (Desc)'!E45=\"\",\"\",INDEX([1]ASSET_ID_SOURCE!$A$2:$A$50,MATCH('AVI (Desc)'!E45,[1]!MASTER_ASSET_ID_SOURCE_DESC,0),0))","v":""},{"$f":"IF('AVI (Desc)'!F45=\"\",\"\",'AVI (Desc)'!F45)","v":""},{"$f":"IF('AVI (Desc)'!G45=\"\",\"\",'AVI (Desc)'!G45)","v":""},{"$f":"IF('AVI (Desc)'!H45=\"\",\"\",INDEX([1]OWNER!$A$2:$A$100,MATCH('AVI (Desc)'!$H45,[1]!MASTER_OWNER_DESC[#Data],0),0))","v":""},{"$f":"IF('AVI (Desc)'!I45=\"\",\"\",INDEX([1]COUNTY!$A$2:$A$80,MATCH('AVI (Desc)'!I45,[1]!MASTER_COUNTY_NAME[#Data],0),0))","v":""},{"$f":"IF('AVI (Desc)'!J45=\"\",\"\",'AVI (Desc)'!J45)","v":""},{"$f":"IF('AVI (Desc)'!K45=\"\",\"\",INDEX([1]AVI_SENSOR_TYPE!$A$2:$A$7,MATCH('AVI (Desc)'!K45,[1]!MASTER_AVI_SENSOR_TYPE_DESC,0),0))","v":""}]
[{"$f":"IF('AVI (Desc)'!A46=\"\",\"\",'AVI (Desc)'!A46)","v":""},{"$f":"IF('AVI (Desc)'!B46=\"\",\"\",'AVI (Desc)'!B46)","v":""},{"$f":"IF('AVI (Desc)'!C46=\"\",\"\",'AVI (Desc)'!C46)","v":""},{"$f":"IF('AVI (Desc)'!D46=\"\",\"\",'AVI (Desc)'!D46)","v":""},{"$f":"IF('AVI (Desc)'!E46=\"\",\"\",INDEX([1]ASSET_ID_SOURCE!$A$2:$A$50,MATCH('AVI (Desc)'!E46,[1]!MASTER_ASSET_ID_SOURCE_DESC,0),0))","v":""},{"$f":"IF('AVI (Desc)'!F46=\"\",\"\",'AVI (Desc)'!F46)","v":""},{"$f":"IF('AVI (Desc)'!G46=\"\",\"\",'AVI (Desc)'!G46)","v":""},{"$f":"IF('AVI (Desc)'!H46=\"\",\"\",INDEX([1]OWNER!$A$2:$A$100,MATCH('AVI (Desc)'!$H46,[1]!MASTER_OWNER_DESC[#Data],0),0))","v":""},{"$f":"IF('AVI (Desc)'!I46=\"\",\"\",INDEX([1]COUNTY!$A$2:$A$80,MATCH('AVI (Desc)'!I46,[1]!MASTER_COUNTY_NAME[#Data],0),0))","v":""},{"$f":"IF('AVI (Desc)'!J46=\"\",\"\",'AVI (Desc)'!J46)","v":""},{"$f":"IF('AVI (Desc)'!K46=\"\",\"\",INDEX([1]AVI_SENSOR_TYPE!$A$2:$A$7,MATCH('AVI (Desc)'!K46,[1]!MASTER_AVI_SENSOR_TYPE_DESC,0),0))","v":""}]
[{"$f":"IF('AVI (Desc)'!A47=\"\",\"\",'AVI (Desc)'!A47)","v":""},{"$f":"IF('AVI (Desc)'!B47=\"\",\"\",'AVI (Desc)'!B47)","v":""},{"$f":"IF('AVI (Desc)'!C47=\"\",\"\",'AVI (Desc)'!C47)","v":""},{"$f":"IF('AVI (Desc)'!D47=\"\",\"\",'AVI (Desc)'!D47)","v":""},{"$f":"IF('AVI (Desc)'!E47=\"\",\"\",INDEX([1]ASSET_ID_SOURCE!$A$2:$A$50,MATCH('AVI (Desc)'!E47,[1]!MASTER_ASSET_ID_SOURCE_DESC,0),0))","v":""},{"$f":"IF('AVI (Desc)'!F47=\"\",\"\",'AVI (Desc)'!F47)","v":""},{"$f":"IF('AVI (Desc)'!G47=\"\",\"\",'AVI (Desc)'!G47)","v":""},{"$f":"IF('AVI (Desc)'!H47=\"\",\"\",INDEX([1]OWNER!$A$2:$A$100,MATCH('AVI (Desc)'!$H47,[1]!MASTER_OWNER_DESC[#Data],0),0))","v":""},{"$f":"IF('AVI (Desc)'!I47=\"\",\"\",INDEX([1]COUNTY!$A$2:$A$80,MATCH('AVI (Desc)'!I47,[1]!MASTER_COUNTY_NAME[#Data],0),0))","v":""},{"$f":"IF('AVI (Desc)'!J47=\"\",\"\",'AVI (Desc)'!J47)","v":""},{"$f":"IF('AVI (Desc)'!K47=\"\",\"\",INDEX([1]AVI_SENSOR_TYPE!$A$2:$A$7,MATCH('AVI (Desc)'!K47,[1]!MASTER_AVI_SENSOR_TYPE_DESC,0),0))","v":""}]
[{"$f":"IF('AVI (Desc)'!A48=\"\",\"\",'AVI (Desc)'!A48)","v":""},{"$f":"IF('AVI (Desc)'!B48=\"\",\"\",'AVI (Desc)'!B48)","v":""},{"$f":"IF('AVI (Desc)'!C48=\"\",\"\",'AVI (Desc)'!C48)","v":""},{"$f":"IF('AVI (Desc)'!D48=\"\",\"\",'AVI (Desc)'!D48)","v":""},{"$f":"IF('AVI (Desc)'!E48=\"\",\"\",INDEX([1]ASSET_ID_SOURCE!$A$2:$A$50,MATCH('AVI (Desc)'!E48,[1]!MASTER_ASSET_ID_SOURCE_DESC,0),0))","v":""},{"$f":"IF('AVI (Desc)'!F48=\"\",\"\",'AVI (Desc)'!F48)","v":""},{"$f":"IF('AVI (Desc)'!G48=\"\",\"\",'AVI (Desc)'!G48)","v":""},{"$f":"IF('AVI (Desc)'!H48=\"\",\"\",INDEX([1]OWNER!$A$2:$A$100,MATCH('AVI (Desc)'!$H48,[1]!MASTER_OWNER_DESC[#Data],0),0))","v":""},{"$f":"IF('AVI (Desc)'!I48=\"\",\"\",INDEX([1]COUNTY!$A$2:$A$80,MATCH('AVI (Desc)'!I48,[1]!MASTER_COUNTY_NAME[#Data],0),0))","v":""},{"$f":"IF('AVI (Desc)'!J48=\"\",\"\",'AVI (Desc)'!J48)","v":""},{"$f":"IF('AVI (Desc)'!K48=\"\",\"\",INDEX([1]AVI_SENSOR_TYPE!$A$2:$A$7,MATCH('AVI (Desc)'!K48,[1]!MASTER_AVI_SENSOR_TYPE_DESC,0),0))","v":""}]
[{"$f":"IF('AVI (Desc)'!A49=\"\",\"\",'AVI (Desc)'!A49)","v":""},{"$f":"IF('AVI (Desc)'!B49=\"\",\"\",'AVI (Desc)'!B49)","v":""},{"$f":"IF('AVI (Desc)'!C49=\"\",\"\",'AVI (Desc)'!C49)","v":""},{"$f":"IF('AVI (Desc)'!D49=\"\",\"\",'AVI (Desc)'!D49)","v":""},{"$f":"IF('AVI (Desc)'!E49=\"\",\"\",INDEX([1]ASSET_ID_SOURCE!$A$2:$A$50,MATCH('AVI (Desc)'!E49,[1]!MASTER_ASSET_ID_SOURCE_DESC,0),0))","v":""},{"$f":"IF('AVI (Desc)'!F49=\"\",\"\",'AVI (Desc)'!F49)","v":""},{"$f":"IF('AVI (Desc)'!G49=\"\",\"\",'AVI (Desc)'!G49)","v":""},{"$f":"IF('AVI (Desc)'!H49=\"\",\"\",INDEX([1]OWNER!$A$2:$A$100,MATCH('AVI (Desc)'!$H49,[1]!MASTER_OWNER_DESC[#Data],0),0))","v":""},{"$f":"IF('AVI (Desc)'!I49=\"\",\"\",INDEX([1]COUNTY!$A$2:$A$80,MATCH('AVI (Desc)'!I49,[1]!MASTER_COUNTY_NAME[#Data],0),0))","v":""},{"$f":"IF('AVI (Desc)'!J49=\"\",\"\",'AVI (Desc)'!J49)","v":""},{"$f":"IF('AVI (Desc)'!K49=\"\",\"\",INDEX([1]AVI_SENSOR_TYPE!$A$2:$A$7,MATCH('AVI (Desc)'!K49,[1]!MASTER_AVI_SENSOR_TYPE_DESC,0),0))","v":""}]
[{"$f":"IF('AVI (Desc)'!A50=\"\",\"\",'AVI (Desc)'!A50)","v":""},{"$f":"IF('AVI (Desc)'!B50=\"\",\"\",'AVI (Desc)'!B50)","v":""},{"$f":"IF('AVI (Desc)'!C50=\"\",\"\",'AVI (Desc)'!C50)","v":""},{"$f":"IF('AVI (Desc)'!D50=\"\",\"\",'AVI (Desc)'!D50)","v":""},{"$f":"IF('AVI (Desc)'!E50=\"\",\"\",INDEX([1]ASSET_ID_SOURCE!$A$2:$A$50,MATCH('AVI (Desc)'!E50,[1]!MASTER_ASSET_ID_SOURCE_DESC,0),0))","v":""},{"$f":"IF('AVI (Desc)'!F50=\"\",\"\",'AVI (Desc)'!F50)","v":""},{"$f":"IF('AVI (Desc)'!G50=\"\",\"\",'AVI (Desc)'!G50)","v":""},{"$f":"IF('AVI (Desc)'!H50=\"\",\"\",INDEX([1]OWNER!$A$2:$A$100,MATCH('AVI (Desc)'!$H50,[1]!MASTER_OWNER_DESC[#Data],0),0))","v":""},{"$f":"IF('AVI (Desc)'!I50=\"\",\"\",INDEX([1]COUNTY!$A$2:$A$80,MATCH('AVI (Desc)'!I50,[1]!MASTER_COUNTY_NAME[#Data],0),0))","v":""},{"$f":"IF('AVI (Desc)'!J50=\"\",\"\",'AVI (Desc)'!J50)","v":""},{"$f":"IF('AVI (Desc)'!K50=\"\",\"\",INDEX([1]AVI_SENSOR_TYPE!$A$2:$A$7,MATCH('AVI (Desc)'!K50,[1]!MASTER_AVI_SENSOR_TYPE_DESC,0),0))","v":""}]
[{"$f":"IF('AVI (Desc)'!A51=\"\",\"\",'AVI (Desc)'!A51)","v":""},{"$f":"IF('AVI (Desc)'!B51=\"\",\"\",'AVI (Desc)'!B51)","v":""},{"$f":"IF('AVI (Desc)'!C51=\"\",\"\",'AVI (Desc)'!C51)","v":""},{"$f":"IF('AVI (Desc)'!D51=\"\",\"\",'AVI (Desc)'!D51)","v":""},{"$f":"IF('AVI (Desc)'!E51=\"\",\"\",INDEX([1]ASSET_ID_SOURCE!$A$2:$A$50,MATCH('AVI (Desc)'!E51,[1]!MASTER_ASSET_ID_SOURCE_DESC,0),0))","v":""},{"$f":"IF('AVI (Desc)'!F51=\"\",\"\",'AVI (Desc)'!F51)","v":""},{"$f":"IF('AVI (Desc)'!G51=\"\",\"\",'AVI (Desc)'!G51)","v":""},{"$f":"IF('AVI (Desc)'!H51=\"\",\"\",INDEX([1]OWNER!$A$2:$A$100,MATCH('AVI (Desc)'!$H51,[1]!MASTER_OWNER_DESC[#Data],0),0))","v":""},{"$f":"IF('AVI (Desc)'!I51=\"\",\"\",INDEX([1]COUNTY!$A$2:$A$80,MATCH('AVI (Desc)'!I51,[1]!MASTER_COUNTY_NAME[#Data],0),0))","v":""},{"$f":"IF('AVI (Desc)'!J51=\"\",\"\",'AVI (Desc)'!J51)","v":""},{"$f":"IF('AVI (Desc)'!K51=\"\",\"\",INDEX([1]AVI_SENSOR_TYPE!$A$2:$A$7,MATCH('AVI (Desc)'!K51,[1]!MASTER_AVI_SENSOR_TYPE_DESC,0),0))","v":""}]
[{"$f":"IF('AVI (Desc)'!A52=\"\",\"\",'AVI (Desc)'!A52)","v":""},{"$f":"IF('AVI (Desc)'!B52=\"\",\"\",'AVI (Desc)'!B52)","v":""},{"$f":"IF('AVI (Desc)'!C52=\"\",\"\",'AVI (Desc)'!C52)","v":""},{"$f":"IF('AVI (Desc)'!D52=\"\",\"\",'AVI (Desc)'!D52)","v":""},{"$f":"IF('AVI (Desc)'!E52=\"\",\"\",INDEX([1]ASSET_ID_SOURCE!$A$2:$A$50,MATCH('AVI (Desc)'!E52,[1]!MASTER_ASSET_ID_SOURCE_DESC,0),0))","v":""},{"$f":"IF('AVI (Desc)'!F52=\"\",\"\",'AVI (Desc)'!F52)","v":""},{"$f":"IF('AVI (Desc)'!G52=\"\",\"\",'AVI (Desc)'!G52)","v":""},{"$f":"IF('AVI (Desc)'!H52=\"\",\"\",INDEX([1]OWNER!$A$2:$A$100,MATCH('AVI (Desc)'!$H52,[1]!MASTER_OWNER_DESC[#Data],0),0))","v":""},{"$f":"IF('AVI (Desc)'!I52=\"\",\"\",INDEX([1]COUNTY!$A$2:$A$80,MATCH('AVI (Desc)'!I52,[1]!MASTER_COUNTY_NAME[#Data],0),0))","v":""},{"$f":"IF('AVI (Desc)'!J52=\"\",\"\",'AVI (Desc)'!J52)","v":""},{"$f":"IF('AVI (Desc)'!K52=\"\",\"\",INDEX([1]AVI_SENSOR_TYPE!$A$2:$A$7,MATCH('AVI (Desc)'!K52,[1]!MASTER_AVI_SENSOR_TYPE_DESC,0),0))","v":""}]
[{"$f":"IF('AVI (Desc)'!A53=\"\",\"\",'AVI (Desc)'!A53)","v":""},{"$f":"IF('AVI (Desc)'!B53=\"\",\"\",'AVI (Desc)'!B53)","v":""},{"$f":"IF('AVI (Desc)'!C53=\"\",\"\",'AVI (Desc)'!C53)","v":""},{"$f":"IF('AVI (Desc)'!D53=\"\",\"\",'AVI (Desc)'!D53)","v":""},{"$f":"IF('AVI (Desc)'!E53=\"\",\"\",INDEX([1]ASSET_ID_SOURCE!$A$2:$A$50,MATCH('AVI (Desc)'!E53,[1]!MASTER_ASSET_ID_SOURCE_DESC,0),0))","v":""},{"$f":"IF('AVI (Desc)'!F53=\"\",\"\",'AVI (Desc)'!F53)","v":""},{"$f":"IF('AVI (Desc)'!G53=\"\",\"\",'AVI (Desc)'!G53)","v":""},{"$f":"IF('AVI (Desc)'!H53=\"\",\"\",INDEX([1]OWNER!$A$2:$A$100,MATCH('AVI (Desc)'!$H53,[1]!MASTER_OWNER_DESC[#Data],0),0))","v":""},{"$f":"IF('AVI (Desc)'!I53=\"\",\"\",INDEX([1]COUNTY!$A$2:$A$80,MATCH('AVI (Desc)'!I53,[1]!MASTER_COUNTY_NAME[#Data],0),0))","v":""},{"$f":"IF('AVI (Desc)'!J53=\"\",\"\",'AVI (Desc)'!J53)","v":""},{"$f":"IF('AVI (Desc)'!K53=\"\",\"\",INDEX([1]AVI_SENSOR_TYPE!$A$2:$A$7,MATCH('AVI (Desc)'!K53,[1]!MASTER_AVI_SENSOR_TYPE_DESC,0),0))","v":""}]
[{"$f":"IF('AVI (Desc)'!A54=\"\",\"\",'AVI (Desc)'!A54)","v":""},{"$f":"IF('AVI (Desc)'!B54=\"\",\"\",'AVI (Desc)'!B54)","v":""},{"$f":"IF('AVI (Desc)'!C54=\"\",\"\",'AVI (Desc)'!C54)","v":""},{"$f":"IF('AVI (Desc)'!D54=\"\",\"\",'AVI (Desc)'!D54)","v":""},{"$f":"IF('AVI (Desc)'!E54=\"\",\"\",INDEX([1]ASSET_ID_SOURCE!$A$2:$A$50,MATCH('AVI (Desc)'!E54,[1]!MASTER_ASSET_ID_SOURCE_DESC,0),0))","v":""},{"$f":"IF('AVI (Desc)'!F54=\"\",\"\",'AVI (Desc)'!F54)","v":""},{"$f":"IF('AVI (Desc)'!G54=\"\",\"\",'AVI (Desc)'!G54)","v":""},{"$f":"IF('AVI (Desc)'!H54=\"\",\"\",INDEX([1]OWNER!$A$2:$A$100,MATCH('AVI (Desc)'!$H54,[1]!MASTER_OWNER_DESC[#Data],0),0))","v":""},{"$f":"IF('AVI (Desc)'!I54=\"\",\"\",INDEX([1]COUNTY!$A$2:$A$80,MATCH('AVI (Desc)'!I54,[1]!MASTER_COUNTY_NAME[#Data],0),0))","v":""},{"$f":"IF('AVI (Desc)'!J54=\"\",\"\",'AVI (Desc)'!J54)","v":""},{"$f":"IF('AVI (Desc)'!K54=\"\",\"\",INDEX([1]AVI_SENSOR_TYPE!$A$2:$A$7,MATCH('AVI (Desc)'!K54,[1]!MASTER_AVI_SENSOR_TYPE_DESC,0),0))","v":""}]
[{"$f":"IF('AVI (Desc)'!A55=\"\",\"\",'AVI (Desc)'!A55)","v":""},{"$f":"IF('AVI (Desc)'!B55=\"\",\"\",'AVI (Desc)'!B55)","v":""},{"$f":"IF('AVI (Desc)'!C55=\"\",\"\",'AVI (Desc)'!C55)","v":""},{"$f":"IF('AVI (Desc)'!D55=\"\",\"\",'AVI (Desc)'!D55)","v":""},{"$f":"IF('AVI (Desc)'!E55=\"\",\"\",INDEX([1]ASSET_ID_SOURCE!$A$2:$A$50,MATCH('AVI (Desc)'!E55,[1]!MASTER_ASSET_ID_SOURCE_DESC,0),0))","v":""},{"$f":"IF('AVI (Desc)'!F55=\"\",\"\",'AVI (Desc)'!F55)","v":""},{"$f":"IF('AVI (Desc)'!G55=\"\",\"\",'AVI (Desc)'!G55)","v":""},{"$f":"IF('AVI (Desc)'!H55=\"\",\"\",INDEX([1]OWNER!$A$2:$A$100,MATCH('AVI (Desc)'!$H55,[1]!MASTER_OWNER_DESC[#Data],0),0))","v":""},{"$f":"IF('AVI (Desc)'!I55=\"\",\"\",INDEX([1]COUNTY!$A$2:$A$80,MATCH('AVI (Desc)'!I55,[1]!MASTER_COUNTY_NAME[#Data],0),0))","v":""},{"$f":"IF('AVI (Desc)'!J55=\"\",\"\",'AVI (Desc)'!J55)","v":""},{"$f":"IF('AVI (Desc)'!K55=\"\",\"\",INDEX([1]AVI_SENSOR_TYPE!$A$2:$A$7,MATCH('AVI (Desc)'!K55,[1]!MASTER_AVI_SENSOR_TYPE_DESC,0),0))","v":""}]
[{"$f":"IF('AVI (Desc)'!A56=\"\",\"\",'AVI (Desc)'!A56)","v":""},{"$f":"IF('AVI (Desc)'!B56=\"\",\"\",'AVI (Desc)'!B56)","v":""},{"$f":"IF('AVI (Desc)'!C56=\"\",\"\",'AVI (Desc)'!C56)","v":""},{"$f":"IF('AVI (Desc)'!D56=\"\",\"\",'AVI (Desc)'!D56)","v":""},{"$f":"IF('AVI (Desc)'!E56=\"\",\"\",INDEX([1]ASSET_ID_SOURCE!$A$2:$A$50,MATCH('AVI (Desc)'!E56,[1]!MASTER_ASSET_ID_SOURCE_DESC,0),0))","v":""},{"$f":"IF('AVI (Desc)'!F56=\"\",\"\",'AVI (Desc)'!F56)","v":""},{"$f":"IF('AVI (Desc)'!G56=\"\",\"\",'AVI (Desc)'!G56)","v":""},{"$f":"IF('AVI (Desc)'!H56=\"\",\"\",INDEX([1]OWNER!$A$2:$A$100,MATCH('AVI (Desc)'!$H56,[1]!MASTER_OWNER_DESC[#Data],0),0))","v":""},{"$f":"IF('AVI (Desc)'!I56=\"\",\"\",INDEX([1]COUNTY!$A$2:$A$80,MATCH('AVI (Desc)'!I56,[1]!MASTER_COUNTY_NAME[#Data],0),0))","v":""},{"$f":"IF('AVI (Desc)'!J56=\"\",\"\",'AVI (Desc)'!J56)","v":""},{"$f":"IF('AVI (Desc)'!K56=\"\",\"\",INDEX([1]AVI_SENSOR_TYPE!$A$2:$A$7,MATCH('AVI (Desc)'!K56,[1]!MASTER_AVI_SENSOR_TYPE_DESC,0),0))","v":""}]
[{"$f":"IF('AVI (Desc)'!A57=\"\",\"\",'AVI (Desc)'!A57)","v":""},{"$f":"IF('AVI (Desc)'!B57=\"\",\"\",'AVI (Desc)'!B57)","v":""},{"$f":"IF('AVI (Desc)'!C57=\"\",\"\",'AVI (Desc)'!C57)","v":""},{"$f":"IF('AVI (Desc)'!D57=\"\",\"\",'AVI (Desc)'!D57)","v":""},{"$f":"IF('AVI (Desc)'!E57=\"\",\"\",INDEX([1]ASSET_ID_SOURCE!$A$2:$A$50,MATCH('AVI (Desc)'!E57,[1]!MASTER_ASSET_ID_SOURCE_DESC,0),0))","v":""},{"$f":"IF('AVI (Desc)'!F57=\"\",\"\",'AVI (Desc)'!F57)","v":""},{"$f":"IF('AVI (Desc)'!G57=\"\",\"\",'AVI (Desc)'!G57)","v":""},{"$f":"IF('AVI (Desc)'!H57=\"\",\"\",INDEX([1]OWNER!$A$2:$A$100,MATCH('AVI (Desc)'!$H57,[1]!MASTER_OWNER_DESC[#Data],0),0))","v":""},{"$f":"IF('AVI (Desc)'!I57=\"\",\"\",INDEX([1]COUNTY!$A$2:$A$80,MATCH('AVI (Desc)'!I57,[1]!MASTER_COUNTY_NAME[#Data],0),0))","v":""},{"$f":"IF('AVI (Desc)'!J57=\"\",\"\",'AVI (Desc)'!J57)","v":""},{"$f":"IF('AVI (Desc)'!K57=\"\",\"\",INDEX([1]AVI_SENSOR_TYPE!$A$2:$A$7,MATCH('AVI (Desc)'!K57,[1]!MASTER_AVI_SENSOR_TYPE_DESC,0),0))","v":""}]
[{"$f":"IF('AVI (Desc)'!A58=\"\",\"\",'AVI (Desc)'!A58)","v":""},{"$f":"IF('AVI (Desc)'!B58=\"\",\"\",'AVI (Desc)'!B58)","v":""},{"$f":"IF('AVI (Desc)'!C58=\"\",\"\",'AVI (Desc)'!C58)","v":""},{"$f":"IF('AVI (Desc)'!D58=\"\",\"\",'AVI (Desc)'!D58)","v":""},{"$f":"IF('AVI (Desc)'!E58=\"\",\"\",INDEX([1]ASSET_ID_SOURCE!$A$2:$A$50,MATCH('AVI (Desc)'!E58,[1]!MASTER_ASSET_ID_SOURCE_DESC,0),0))","v":""},{"$f":"IF('AVI (Desc)'!F58=\"\",\"\",'AVI (Desc)'!F58)","v":""},{"$f":"IF('AVI (Desc)'!G58=\"\",\"\",'AVI (Desc)'!G58)","v":""},{"$f":"IF('AVI (Desc)'!H58=\"\",\"\",INDEX([1]OWNER!$A$2:$A$100,MATCH('AVI (Desc)'!$H58,[1]!MASTER_OWNER_DESC[#Data],0),0))","v":""},{"$f":"IF('AVI (Desc)'!I58=\"\",\"\",INDEX([1]COUNTY!$A$2:$A$80,MATCH('AVI (Desc)'!I58,[1]!MASTER_COUNTY_NAME[#Data],0),0))","v":""},{"$f":"IF('AVI (Desc)'!J58=\"\",\"\",'AVI (Desc)'!J58)","v":""},{"$f":"IF('AVI (Desc)'!K58=\"\",\"\",INDEX([1]AVI_SENSOR_TYPE!$A$2:$A$7,MATCH('AVI (Desc)'!K58,[1]!MASTER_AVI_SENSOR_TYPE_DESC,0),0))","v":""}]
[{"$f":"IF('AVI (Desc)'!A59=\"\",\"\",'AVI (Desc)'!A59)","v":""},{"$f":"IF('AVI (Desc)'!B59=\"\",\"\",'AVI (Desc)'!B59)","v":""},{"$f":"IF('AVI (Desc)'!C59=\"\",\"\",'AVI (Desc)'!C59)","v":""},{"$f":"IF('AVI (Desc)'!D59=\"\",\"\",'AVI (Desc)'!D59)","v":""},{"$f":"IF('AVI (Desc)'!E59=\"\",\"\",INDEX([1]ASSET_ID_SOURCE!$A$2:$A$50,MATCH('AVI (Desc)'!E59,[1]!MASTER_ASSET_ID_SOURCE_DESC,0),0))","v":""},{"$f":"IF('AVI (Desc)'!F59=\"\",\"\",'AVI (Desc)'!F59)","v":""},{"$f":"IF('AVI (Desc)'!G59=\"\",\"\",'AVI (Desc)'!G59)","v":""},{"$f":"IF('AVI (Desc)'!H59=\"\",\"\",INDEX([1]OWNER!$A$2:$A$100,MATCH('AVI (Desc)'!$H59,[1]!MASTER_OWNER_DESC[#Data],0),0))","v":""},{"$f":"IF('AVI (Desc)'!I59=\"\",\"\",INDEX([1]COUNTY!$A$2:$A$80,MATCH('AVI (Desc)'!I59,[1]!MASTER_COUNTY_NAME[#Data],0),0))","v":""},{"$f":"IF('AVI (Desc)'!J59=\"\",\"\",'AVI (Desc)'!J59)","v":""},{"$f":"IF('AVI (Desc)'!K59=\"\",\"\",INDEX([1]AVI_SENSOR_TYPE!$A$2:$A$7,MATCH('AVI (Desc)'!K59,[1]!MASTER_AVI_SENSOR_TYPE_DESC,0),0))","v":""}]
[{"$f":"IF('AVI (Desc)'!A60=\"\",\"\",'AVI (Desc)'!A60)","v":""},{"$f":"IF('AVI (Desc)'!B60=\"\",\"\",'AVI (Desc)'!B60)","v":""},{"$f":"IF('AVI (Desc)'!C60=\"\",\"\",'AVI (Desc)'!C60)","v":""},{"$f":"IF('AVI (Desc)'!D60=\"\",\"\",'AVI (Desc)'!D60)","v":""},{"$f":"IF('AVI (Desc)'!E60=\"\",\"\",INDEX([1]ASSET_ID_SOURCE!$A$2:$A$50,MATCH('AVI (Desc)'!E60,[1]!MASTER_ASSET_ID_SOURCE_DESC,0),0))","v":""},{"$f":"IF('AVI (Desc)'!F60=\"\",\"\",'AVI (Desc)'!F60)","v":""},{"$f":"IF('AVI (Desc)'!G60=\"\",\"\",'AVI (Desc)'!G60)","v":""},{"$f":"IF('AVI (Desc)'!H60=\"\",\"\",INDEX([1]OWNER!$A$2:$A$100,MATCH('AVI (Desc)'!$H60,[1]!MASTER_OWNER_DESC[#Data],0),0))","v":""},{"$f":"IF('AVI (Desc)'!I60=\"\",\"\",INDEX([1]COUNTY!$A$2:$A$80,MATCH('AVI (Desc)'!I60,[1]!MASTER_COUNTY_NAME[#Data],0),0))","v":""},{"$f":"IF('AVI (Desc)'!J60=\"\",\"\",'AVI (Desc)'!J60)","v":""},{"$f":"IF('AVI (Desc)'!K60=\"\",\"\",INDEX([1]AVI_SENSOR_TYPE!$A$2:$A$7,MATCH('AVI (Desc)'!K60,[1]!MASTER_AVI_SENSOR_TYPE_DESC,0),0))","v":""}]
[{"$f":"IF('AVI (Desc)'!A61=\"\",\"\",'AVI (Desc)'!A61)","v":""},{"$f":"IF('AVI (Desc)'!B61=\"\",\"\",'AVI (Desc)'!B61)","v":""},{"$f":"IF('AVI (Desc)'!C61=\"\",\"\",'AVI (Desc)'!C61)","v":""},{"$f":"IF('AVI (Desc)'!D61=\"\",\"\",'AVI (Desc)'!D61)","v":""},{"$f":"IF('AVI (Desc)'!E61=\"\",\"\",INDEX([1]ASSET_ID_SOURCE!$A$2:$A$50,MATCH('AVI (Desc)'!E61,[1]!MASTER_ASSET_ID_SOURCE_DESC,0),0))","v":""},{"$f":"IF('AVI (Desc)'!F61=\"\",\"\",'AVI (Desc)'!F61)","v":""},{"$f":"IF('AVI (Desc)'!G61=\"\",\"\",'AVI (Desc)'!G61)","v":""},{"$f":"IF('AVI (Desc)'!H61=\"\",\"\",INDEX([1]OWNER!$A$2:$A$100,MATCH('AVI (Desc)'!$H61,[1]!MASTER_OWNER_DESC[#Data],0),0))","v":""},{"$f":"IF('AVI (Desc)'!I61=\"\",\"\",INDEX([1]COUNTY!$A$2:$A$80,MATCH('AVI (Desc)'!I61,[1]!MASTER_COUNTY_NAME[#Data],0),0))","v":""},{"$f":"IF('AVI (Desc)'!J61=\"\",\"\",'AVI (Desc)'!J61)","v":""},{"$f":"IF('AVI (Desc)'!K61=\"\",\"\",INDEX([1]AVI_SENSOR_TYPE!$A$2:$A$7,MATCH('AVI (Desc)'!K61,[1]!MASTER_AVI_SENSOR_TYPE_DESC,0),0))","v":""}]
[{"$f":"IF('AVI (Desc)'!A62=\"\",\"\",'AVI (Desc)'!A62)","v":""},{"$f":"IF('AVI (Desc)'!B62=\"\",\"\",'AVI (Desc)'!B62)","v":""},{"$f":"IF('AVI (Desc)'!C62=\"\",\"\",'AVI (Desc)'!C62)","v":""},{"$f":"IF('AVI (Desc)'!D62=\"\",\"\",'AVI (Desc)'!D62)","v":""},{"$f":"IF('AVI (Desc)'!E62=\"\",\"\",INDEX([1]ASSET_ID_SOURCE!$A$2:$A$50,MATCH('AVI (Desc)'!E62,[1]!MASTER_ASSET_ID_SOURCE_DESC,0),0))","v":""},{"$f":"IF('AVI (Desc)'!F62=\"\",\"\",'AVI (Desc)'!F62)","v":""},{"$f":"IF('AVI (Desc)'!G62=\"\",\"\",'AVI (Desc)'!G62)","v":""},{"$f":"IF('AVI (Desc)'!H62=\"\",\"\",INDEX([1]OWNER!$A$2:$A$100,MATCH('AVI (Desc)'!$H62,[1]!MASTER_OWNER_DESC[#Data],0),0))","v":""},{"$f":"IF('AVI (Desc)'!I62=\"\",\"\",INDEX([1]COUNTY!$A$2:$A$80,MATCH('AVI (Desc)'!I62,[1]!MASTER_COUNTY_NAME[#Data],0),0))","v":""},{"$f":"IF('AVI (Desc)'!J62=\"\",\"\",'AVI (Desc)'!J62)","v":""},{"$f":"IF('AVI (Desc)'!K62=\"\",\"\",INDEX([1]AVI_SENSOR_TYPE!$A$2:$A$7,MATCH('AVI (Desc)'!K62,[1]!MASTER_AVI_SENSOR_TYPE_DESC,0),0))","v":""}]
[{"$f":"IF('AVI (Desc)'!A63=\"\",\"\",'AVI (Desc)'!A63)","v":""},{"$f":"IF('AVI (Desc)'!B63=\"\",\"\",'AVI (Desc)'!B63)","v":""},{"$f":"IF('AVI (Desc)'!C63=\"\",\"\",'AVI (Desc)'!C63)","v":""},{"$f":"IF('AVI (Desc)'!D63=\"\",\"\",'AVI (Desc)'!D63)","v":""},{"$f":"IF('AVI (Desc)'!E63=\"\",\"\",INDEX([1]ASSET_ID_SOURCE!$A$2:$A$50,MATCH('AVI (Desc)'!E63,[1]!MASTER_ASSET_ID_SOURCE_DESC,0),0))","v":""},{"$f":"IF('AVI (Desc)'!F63=\"\",\"\",'AVI (Desc)'!F63)","v":""},{"$f":"IF('AVI (Desc)'!G63=\"\",\"\",'AVI (Desc)'!G63)","v":""},{"$f":"IF('AVI (Desc)'!H63=\"\",\"\",INDEX([1]OWNER!$A$2:$A$100,MATCH('AVI (Desc)'!$H63,[1]!MASTER_OWNER_DESC[#Data],0),0))","v":""},{"$f":"IF('AVI (Desc)'!I63=\"\",\"\",INDEX([1]COUNTY!$A$2:$A$80,MATCH('AVI (Desc)'!I63,[1]!MASTER_COUNTY_NAME[#Data],0),0))","v":""},{"$f":"IF('AVI (Desc)'!J63=\"\",\"\",'AVI (Desc)'!J63)","v":""},{"$f":"IF('AVI (Desc)'!K63=\"\",\"\",INDEX([1]AVI_SENSOR_TYPE!$A$2:$A$7,MATCH('AVI (Desc)'!K63,[1]!MASTER_AVI_SENSOR_TYPE_DESC,0),0))","v":""}]
[{"$f":"IF('AVI (Desc)'!A64=\"\",\"\",'AVI (Desc)'!A64)","v":""},{"$f":"IF('AVI (Desc)'!B64=\"\",\"\",'AVI (Desc)'!B64)","v":""},{"$f":"IF('AVI (Desc)'!C64=\"\",\"\",'AVI (Desc)'!C64)","v":""},{"$f":"IF('AVI (Desc)'!D64=\"\",\"\",'AVI (Desc)'!D64)","v":""},{"$f":"IF('AVI (Desc)'!E64=\"\",\"\",INDEX([1]ASSET_ID_SOURCE!$A$2:$A$50,MATCH('AVI (Desc)'!E64,[1]!MASTER_ASSET_ID_SOURCE_DESC,0),0))","v":""},{"$f":"IF('AVI (Desc)'!F64=\"\",\"\",'AVI (Desc)'!F64)","v":""},{"$f":"IF('AVI (Desc)'!G64=\"\",\"\",'AVI (Desc)'!G64)","v":""},{"$f":"IF('AVI (Desc)'!H64=\"\",\"\",INDEX([1]OWNER!$A$2:$A$100,MATCH('AVI (Desc)'!$H64,[1]!MASTER_OWNER_DESC[#Data],0),0))","v":""},{"$f":"IF('AVI (Desc)'!I64=\"\",\"\",INDEX([1]COUNTY!$A$2:$A$80,MATCH('AVI (Desc)'!I64,[1]!MASTER_COUNTY_NAME[#Data],0),0))","v":""},{"$f":"IF('AVI (Desc)'!J64=\"\",\"\",'AVI (Desc)'!J64)","v":""},{"$f":"IF('AVI (Desc)'!K64=\"\",\"\",INDEX([1]AVI_SENSOR_TYPE!$A$2:$A$7,MATCH('AVI (Desc)'!K64,[1]!MASTER_AVI_SENSOR_TYPE_DESC,0),0))","v":""}]
[{"$f":"IF('AVI (Desc)'!A65=\"\",\"\",'AVI (Desc)'!A65)","v":""},{"$f":"IF('AVI (Desc)'!B65=\"\",\"\",'AVI (Desc)'!B65)","v":""},{"$f":"IF('AVI (Desc)'!C65=\"\",\"\",'AVI (Desc)'!C65)","v":""},{"$f":"IF('AVI (Desc)'!D65=\"\",\"\",'AVI (Desc)'!D65)","v":""},{"$f":"IF('AVI (Desc)'!E65=\"\",\"\",INDEX([1]ASSET_ID_SOURCE!$A$2:$A$50,MATCH('AVI (Desc)'!E65,[1]!MASTER_ASSET_ID_SOURCE_DESC,0),0))","v":""},{"$f":"IF('AVI (Desc)'!F65=\"\",\"\",'AVI (Desc)'!F65)","v":""},{"$f":"IF('AVI (Desc)'!G65=\"\",\"\",'AVI (Desc)'!G65)","v":""},{"$f":"IF('AVI (Desc)'!H65=\"\",\"\",INDEX([1]OWNER!$A$2:$A$100,MATCH('AVI (Desc)'!$H65,[1]!MASTER_OWNER_DESC[#Data],0),0))","v":""},{"$f":"IF('AVI (Desc)'!I65=\"\",\"\",INDEX([1]COUNTY!$A$2:$A$80,MATCH('AVI (Desc)'!I65,[1]!MASTER_COUNTY_NAME[#Data],0),0))","v":""},{"$f":"IF('AVI (Desc)'!J65=\"\",\"\",'AVI (Desc)'!J65)","v":""},{"$f":"IF('AVI (Desc)'!K65=\"\",\"\",INDEX([1]AVI_SENSOR_TYPE!$A$2:$A$7,MATCH('AVI (Desc)'!K65,[1]!MASTER_AVI_SENSOR_TYPE_DESC,0),0))","v":""}]
[{"$f":"IF('AVI (Desc)'!A66=\"\",\"\",'AVI (Desc)'!A66)","v":""},{"$f":"IF('AVI (Desc)'!B66=\"\",\"\",'AVI (Desc)'!B66)","v":""},{"$f":"IF('AVI (Desc)'!C66=\"\",\"\",'AVI (Desc)'!C66)","v":""},{"$f":"IF('AVI (Desc)'!D66=\"\",\"\",'AVI (Desc)'!D66)","v":""},{"$f":"IF('AVI (Desc)'!E66=\"\",\"\",INDEX([1]ASSET_ID_SOURCE!$A$2:$A$50,MATCH('AVI (Desc)'!E66,[1]!MASTER_ASSET_ID_SOURCE_DESC,0),0))","v":""},{"$f":"IF('AVI (Desc)'!F66=\"\",\"\",'AVI (Desc)'!F66)","v":""},{"$f":"IF('AVI (Desc)'!G66=\"\",\"\",'AVI (Desc)'!G66)","v":""},{"$f":"IF('AVI (Desc)'!H66=\"\",\"\",INDEX([1]OWNER!$A$2:$A$100,MATCH('AVI (Desc)'!$H66,[1]!MASTER_OWNER_DESC[#Data],0),0))","v":""},{"$f":"IF('AVI (Desc)'!I66=\"\",\"\",INDEX([1]COUNTY!$A$2:$A$80,MATCH('AVI (Desc)'!I66,[1]!MASTER_COUNTY_NAME[#Data],0),0))","v":""},{"$f":"IF('AVI (Desc)'!J66=\"\",\"\",'AVI (Desc)'!J66)","v":""},{"$f":"IF('AVI (Desc)'!K66=\"\",\"\",INDEX([1]AVI_SENSOR_TYPE!$A$2:$A$7,MATCH('AVI (Desc)'!K66,[1]!MASTER_AVI_SENSOR_TYPE_DESC,0),0))","v":""}]
[{"$f":"IF('AVI (Desc)'!A67=\"\",\"\",'AVI (Desc)'!A67)","v":""},{"$f":"IF('AVI (Desc)'!B67=\"\",\"\",'AVI (Desc)'!B67)","v":""},{"$f":"IF('AVI (Desc)'!C67=\"\",\"\",'AVI (Desc)'!C67)","v":""},{"$f":"IF('AVI (Desc)'!D67=\"\",\"\",'AVI (Desc)'!D67)","v":""},{"$f":"IF('AVI (Desc)'!E67=\"\",\"\",INDEX([1]ASSET_ID_SOURCE!$A$2:$A$50,MATCH('AVI (Desc)'!E67,[1]!MASTER_ASSET_ID_SOURCE_DESC,0),0))","v":""},{"$f":"IF('AVI (Desc)'!F67=\"\",\"\",'AVI (Desc)'!F67)","v":""},{"$f":"IF('AVI (Desc)'!G67=\"\",\"\",'AVI (Desc)'!G67)","v":""},{"$f":"IF('AVI (Desc)'!H67=\"\",\"\",INDEX([1]OWNER!$A$2:$A$100,MATCH('AVI (Desc)'!$H67,[1]!MASTER_OWNER_DESC[#Data],0),0))","v":""},{"$f":"IF('AVI (Desc)'!I67=\"\",\"\",INDEX([1]COUNTY!$A$2:$A$80,MATCH('AVI (Desc)'!I67,[1]!MASTER_COUNTY_NAME[#Data],0),0))","v":""},{"$f":"IF('AVI (Desc)'!J67=\"\",\"\",'AVI (Desc)'!J67)","v":""},{"$f":"IF('AVI (Desc)'!K67=\"\",\"\",INDEX([1]AVI_SENSOR_TYPE!$A$2:$A$7,MATCH('AVI (Desc)'!K67,[1]!MASTER_AVI_SENSOR_TYPE_DESC,0),0))","v":""}]
[{"$f":"IF('AVI (Desc)'!A68=\"\",\"\",'AVI (Desc)'!A68)","v":""},{"$f":"IF('AVI (Desc)'!B68=\"\",\"\",'AVI (Desc)'!B68)","v":""},{"$f":"IF('AVI (Desc)'!C68=\"\",\"\",'AVI (Desc)'!C68)","v":""},{"$f":"IF('AVI (Desc)'!D68=\"\",\"\",'AVI (Desc)'!D68)","v":""},{"$f":"IF('AVI (Desc)'!E68=\"\",\"\",INDEX([1]ASSET_ID_SOURCE!$A$2:$A$50,MATCH('AVI (Desc)'!E68,[1]!MASTER_ASSET_ID_SOURCE_DESC,0),0))","v":""},{"$f":"IF('AVI (Desc)'!F68=\"\",\"\",'AVI (Desc)'!F68)","v":""},{"$f":"IF('AVI (Desc)'!G68=\"\",\"\",'AVI (Desc)'!G68)","v":""},{"$f":"IF('AVI (Desc)'!H68=\"\",\"\",INDEX([1]OWNER!$A$2:$A$100,MATCH('AVI (Desc)'!$H68,[1]!MASTER_OWNER_DESC[#Data],0),0))","v":""},{"$f":"IF('AVI (Desc)'!I68=\"\",\"\",INDEX([1]COUNTY!$A$2:$A$80,MATCH('AVI (Desc)'!I68,[1]!MASTER_COUNTY_NAME[#Data],0),0))","v":""},{"$f":"IF('AVI (Desc)'!J68=\"\",\"\",'AVI (Desc)'!J68)","v":""},{"$f":"IF('AVI (Desc)'!K68=\"\",\"\",INDEX([1]AVI_SENSOR_TYPE!$A$2:$A$7,MATCH('AVI (Desc)'!K68,[1]!MASTER_AVI_SENSOR_TYPE_DESC,0),0))","v":""}]
[{"$f":"IF('AVI (Desc)'!A69=\"\",\"\",'AVI (Desc)'!A69)","v":""},{"$f":"IF('AVI (Desc)'!B69=\"\",\"\",'AVI (Desc)'!B69)","v":""},{"$f":"IF('AVI (Desc)'!C69=\"\",\"\",'AVI (Desc)'!C69)","v":""},{"$f":"IF('AVI (Desc)'!D69=\"\",\"\",'AVI (Desc)'!D69)","v":""},{"$f":"IF('AVI (Desc)'!E69=\"\",\"\",INDEX([1]ASSET_ID_SOURCE!$A$2:$A$50,MATCH('AVI (Desc)'!E69,[1]!MASTER_ASSET_ID_SOURCE_DESC,0),0))","v":""},{"$f":"IF('AVI (Desc)'!F69=\"\",\"\",'AVI (Desc)'!F69)","v":""},{"$f":"IF('AVI (Desc)'!G69=\"\",\"\",'AVI (Desc)'!G69)","v":""},{"$f":"IF('AVI (Desc)'!H69=\"\",\"\",INDEX([1]OWNER!$A$2:$A$100,MATCH('AVI (Desc)'!$H69,[1]!MASTER_OWNER_DESC[#Data],0),0))","v":""},{"$f":"IF('AVI (Desc)'!I69=\"\",\"\",INDEX([1]COUNTY!$A$2:$A$80,MATCH('AVI (Desc)'!I69,[1]!MASTER_COUNTY_NAME[#Data],0),0))","v":""},{"$f":"IF('AVI (Desc)'!J69=\"\",\"\",'AVI (Desc)'!J69)","v":""},{"$f":"IF('AVI (Desc)'!K69=\"\",\"\",INDEX([1]AVI_SENSOR_TYPE!$A$2:$A$7,MATCH('AVI (Desc)'!K69,[1]!MASTER_AVI_SENSOR_TYPE_DESC,0),0))","v":""}]
[{"$f":"IF('AVI (Desc)'!A70=\"\",\"\",'AVI (Desc)'!A70)","v":""},{"$f":"IF('AVI (Desc)'!B70=\"\",\"\",'AVI (Desc)'!B70)","v":""},{"$f":"IF('AVI (Desc)'!C70=\"\",\"\",'AVI (Desc)'!C70)","v":""},{"$f":"IF('AVI (Desc)'!D70=\"\",\"\",'AVI (Desc)'!D70)","v":""},{"$f":"IF('AVI (Desc)'!E70=\"\",\"\",INDEX([1]ASSET_ID_SOURCE!$A$2:$A$50,MATCH('AVI (Desc)'!E70,[1]!MASTER_ASSET_ID_SOURCE_DESC,0),0))","v":""},{"$f":"IF('AVI (Desc)'!F70=\"\",\"\",'AVI (Desc)'!F70)","v":""},{"$f":"IF('AVI (Desc)'!G70=\"\",\"\",'AVI (Desc)'!G70)","v":""},{"$f":"IF('AVI (Desc)'!H70=\"\",\"\",INDEX([1]OWNER!$A$2:$A$100,MATCH('AVI (Desc)'!$H70,[1]!MASTER_OWNER_DESC[#Data],0),0))","v":""},{"$f":"IF('AVI (Desc)'!I70=\"\",\"\",INDEX([1]COUNTY!$A$2:$A$80,MATCH('AVI (Desc)'!I70,[1]!MASTER_COUNTY_NAME[#Data],0),0))","v":""},{"$f":"IF('AVI (Desc)'!J70=\"\",\"\",'AVI (Desc)'!J70)","v":""},{"$f":"IF('AVI (Desc)'!K70=\"\",\"\",INDEX([1]AVI_SENSOR_TYPE!$A$2:$A$7,MATCH('AVI (Desc)'!K70,[1]!MASTER_AVI_SENSOR_TYPE_DESC,0),0))","v":""}]
[{"$f":"IF('AVI (Desc)'!A71=\"\",\"\",'AVI (Desc)'!A71)","v":""},{"$f":"IF('AVI (Desc)'!B71=\"\",\"\",'AVI (Desc)'!B71)","v":""},{"$f":"IF('AVI (Desc)'!C71=\"\",\"\",'AVI (Desc)'!C71)","v":""},{"$f":"IF('AVI (Desc)'!D71=\"\",\"\",'AVI (Desc)'!D71)","v":""},{"$f":"IF('AVI (Desc)'!E71=\"\",\"\",INDEX([1]ASSET_ID_SOURCE!$A$2:$A$50,MATCH('AVI (Desc)'!E71,[1]!MASTER_ASSET_ID_SOURCE_DESC,0),0))","v":""},{"$f":"IF('AVI (Desc)'!F71=\"\",\"\",'AVI (Desc)'!F71)","v":""},{"$f":"IF('AVI (Desc)'!G71=\"\",\"\",'AVI (Desc)'!G71)","v":""},{"$f":"IF('AVI (Desc)'!H71=\"\",\"\",INDEX([1]OWNER!$A$2:$A$100,MATCH('AVI (Desc)'!$H71,[1]!MASTER_OWNER_DESC[#Data],0),0))","v":""},{"$f":"IF('AVI (Desc)'!I71=\"\",\"\",INDEX([1]COUNTY!$A$2:$A$80,MATCH('AVI (Desc)'!I71,[1]!MASTER_COUNTY_NAME[#Data],0),0))","v":""},{"$f":"IF('AVI (Desc)'!J71=\"\",\"\",'AVI (Desc)'!J71)","v":""},{"$f":"IF('AVI (Desc)'!K71=\"\",\"\",INDEX([1]AVI_SENSOR_TYPE!$A$2:$A$7,MATCH('AVI (Desc)'!K71,[1]!MASTER_AVI_SENSOR_TYPE_DESC,0),0))","v":""}]
[{"$f":"IF('AVI (Desc)'!A72=\"\",\"\",'AVI (Desc)'!A72)","v":""},{"$f":"IF('AVI (Desc)'!B72=\"\",\"\",'AVI (Desc)'!B72)","v":""},{"$f":"IF('AVI (Desc)'!C72=\"\",\"\",'AVI (Desc)'!C72)","v":""},{"$f":"IF('AVI (Desc)'!D72=\"\",\"\",'AVI (Desc)'!D72)","v":""},{"$f":"IF('AVI (Desc)'!E72=\"\",\"\",INDEX([1]ASSET_ID_SOURCE!$A$2:$A$50,MATCH('AVI (Desc)'!E72,[1]!MASTER_ASSET_ID_SOURCE_DESC,0),0))","v":""},{"$f":"IF('AVI (Desc)'!F72=\"\",\"\",'AVI (Desc)'!F72)","v":""},{"$f":"IF('AVI (Desc)'!G72=\"\",\"\",'AVI (Desc)'!G72)","v":""},{"$f":"IF('AVI (Desc)'!H72=\"\",\"\",INDEX([1]OWNER!$A$2:$A$100,MATCH('AVI (Desc)'!$H72,[1]!MASTER_OWNER_DESC[#Data],0),0))","v":""},{"$f":"IF('AVI (Desc)'!I72=\"\",\"\",INDEX([1]COUNTY!$A$2:$A$80,MATCH('AVI (Desc)'!I72,[1]!MASTER_COUNTY_NAME[#Data],0),0))","v":""},{"$f":"IF('AVI (Desc)'!J72=\"\",\"\",'AVI (Desc)'!J72)","v":""},{"$f":"IF('AVI (Desc)'!K72=\"\",\"\",INDEX([1]AVI_SENSOR_TYPE!$A$2:$A$7,MATCH('AVI (Desc)'!K72,[1]!MASTER_AVI_SENSOR_TYPE_DESC,0),0))","v":""}]
[{"$f":"IF('AVI (Desc)'!A73=\"\",\"\",'AVI (Desc)'!A73)","v":""},{"$f":"IF('AVI (Desc)'!B73=\"\",\"\",'AVI (Desc)'!B73)","v":""},{"$f":"IF('AVI (Desc)'!C73=\"\",\"\",'AVI (Desc)'!C73)","v":""},{"$f":"IF('AVI (Desc)'!D73=\"\",\"\",'AVI (Desc)'!D73)","v":""},{"$f":"IF('AVI (Desc)'!E73=\"\",\"\",INDEX([1]ASSET_ID_SOURCE!$A$2:$A$50,MATCH('AVI (Desc)'!E73,[1]!MASTER_ASSET_ID_SOURCE_DESC,0),0))","v":""},{"$f":"IF('AVI (Desc)'!F73=\"\",\"\",'AVI (Desc)'!F73)","v":""},{"$f":"IF('AVI (Desc)'!G73=\"\",\"\",'AVI (Desc)'!G73)","v":""},{"$f":"IF('AVI (Desc)'!H73=\"\",\"\",INDEX([1]OWNER!$A$2:$A$100,MATCH('AVI (Desc)'!$H73,[1]!MASTER_OWNER_DESC[#Data],0),0))","v":""},{"$f":"IF('AVI (Desc)'!I73=\"\",\"\",INDEX([1]COUNTY!$A$2:$A$80,MATCH('AVI (Desc)'!I73,[1]!MASTER_COUNTY_NAME[#Data],0),0))","v":""},{"$f":"IF('AVI (Desc)'!J73=\"\",\"\",'AVI (Desc)'!J73)","v":""},{"$f":"IF('AVI (Desc)'!K73=\"\",\"\",INDEX([1]AVI_SENSOR_TYPE!$A$2:$A$7,MATCH('AVI (Desc)'!K73,[1]!MASTER_AVI_SENSOR_TYPE_DESC,0),0))","v":""}]
[{"$f":"IF('AVI (Desc)'!A74=\"\",\"\",'AVI (Desc)'!A74)","v":""},{"$f":"IF('AVI (Desc)'!B74=\"\",\"\",'AVI (Desc)'!B74)","v":""},{"$f":"IF('AVI (Desc)'!C74=\"\",\"\",'AVI (Desc)'!C74)","v":""},{"$f":"IF('AVI (Desc)'!D74=\"\",\"\",'AVI (Desc)'!D74)","v":""},{"$f":"IF('AVI (Desc)'!E74=\"\",\"\",INDEX([1]ASSET_ID_SOURCE!$A$2:$A$50,MATCH('AVI (Desc)'!E74,[1]!MASTER_ASSET_ID_SOURCE_DESC,0),0))","v":""},{"$f":"IF('AVI (Desc)'!F74=\"\",\"\",'AVI (Desc)'!F74)","v":""},{"$f":"IF('AVI (Desc)'!G74=\"\",\"\",'AVI (Desc)'!G74)","v":""},{"$f":"IF('AVI (Desc)'!H74=\"\",\"\",INDEX([1]OWNER!$A$2:$A$100,MATCH('AVI (Desc)'!$H74,[1]!MASTER_OWNER_DESC[#Data],0),0))","v":""},{"$f":"IF('AVI (Desc)'!I74=\"\",\"\",INDEX([1]COUNTY!$A$2:$A$80,MATCH('AVI (Desc)'!I74,[1]!MASTER_COUNTY_NAME[#Data],0),0))","v":""},{"$f":"IF('AVI (Desc)'!J74=\"\",\"\",'AVI (Desc)'!J74)","v":""},{"$f":"IF('AVI (Desc)'!K74=\"\",\"\",INDEX([1]AVI_SENSOR_TYPE!$A$2:$A$7,MATCH('AVI (Desc)'!K74,[1]!MASTER_AVI_SENSOR_TYPE_DESC,0),0))","v":""}]
[{"$f":"IF('AVI (Desc)'!A75=\"\",\"\",'AVI (Desc)'!A75)","v":""},{"$f":"IF('AVI (Desc)'!B75=\"\",\"\",'AVI (Desc)'!B75)","v":""},{"$f":"IF('AVI (Desc)'!C75=\"\",\"\",'AVI (Desc)'!C75)","v":""},{"$f":"IF('AVI (Desc)'!D75=\"\",\"\",'AVI (Desc)'!D75)","v":""},{"$f":"IF('AVI (Desc)'!E75=\"\",\"\",INDEX([1]ASSET_ID_SOURCE!$A$2:$A$50,MATCH('AVI (Desc)'!E75,[1]!MASTER_ASSET_ID_SOURCE_DESC,0),0))","v":""},{"$f":"IF('AVI (Desc)'!F75=\"\",\"\",'AVI (Desc)'!F75)","v":""},{"$f":"IF('AVI (Desc)'!G75=\"\",\"\",'AVI (Desc)'!G75)","v":""},{"$f":"IF('AVI (Desc)'!H75=\"\",\"\",INDEX([1]OWNER!$A$2:$A$100,MATCH('AVI (Desc)'!$H75,[1]!MASTER_OWNER_DESC[#Data],0),0))","v":""},{"$f":"IF('AVI (Desc)'!I75=\"\",\"\",INDEX([1]COUNTY!$A$2:$A$80,MATCH('AVI (Desc)'!I75,[1]!MASTER_COUNTY_NAME[#Data],0),0))","v":""},{"$f":"IF('AVI (Desc)'!J75=\"\",\"\",'AVI (Desc)'!J75)","v":""},{"$f":"IF('AVI (Desc)'!K75=\"\",\"\",INDEX([1]AVI_SENSOR_TYPE!$A$2:$A$7,MATCH('AVI (Desc)'!K75,[1]!MASTER_AVI_SENSOR_TYPE_DESC,0),0))","v":""}]
[{"$f":"IF('AVI (Desc)'!A76=\"\",\"\",'AVI (Desc)'!A76)","v":""},{"$f":"IF('AVI (Desc)'!B76=\"\",\"\",'AVI (Desc)'!B76)","v":""},{"$f":"IF('AVI (Desc)'!C76=\"\",\"\",'AVI (Desc)'!C76)","v":""},{"$f":"IF('AVI (Desc)'!D76=\"\",\"\",'AVI (Desc)'!D76)","v":""},{"$f":"IF('AVI (Desc)'!E76=\"\",\"\",INDEX([1]ASSET_ID_SOURCE!$A$2:$A$50,MATCH('AVI (Desc)'!E76,[1]!MASTER_ASSET_ID_SOURCE_DESC,0),0))","v":""},{"$f":"IF('AVI (Desc)'!F76=\"\",\"\",'AVI (Desc)'!F76)","v":""},{"$f":"IF('AVI (Desc)'!G76=\"\",\"\",'AVI (Desc)'!G76)","v":""},{"$f":"IF('AVI (Desc)'!H76=\"\",\"\",INDEX([1]OWNER!$A$2:$A$100,MATCH('AVI (Desc)'!$H76,[1]!MASTER_OWNER_DESC[#Data],0),0))","v":""},{"$f":"IF('AVI (Desc)'!I76=\"\",\"\",INDEX([1]COUNTY!$A$2:$A$80,MATCH('AVI (Desc)'!I76,[1]!MASTER_COUNTY_NAME[#Data],0),0))","v":""},{"$f":"IF('AVI (Desc)'!J76=\"\",\"\",'AVI (Desc)'!J76)","v":""},{"$f":"IF('AVI (Desc)'!K76=\"\",\"\",INDEX([1]AVI_SENSOR_TYPE!$A$2:$A$7,MATCH('AVI (Desc)'!K76,[1]!MASTER_AVI_SENSOR_TYPE_DESC,0),0))","v":""}]
[{"$f":"IF('AVI (Desc)'!A77=\"\",\"\",'AVI (Desc)'!A77)","v":""},{"$f":"IF('AVI (Desc)'!B77=\"\",\"\",'AVI (Desc)'!B77)","v":""},{"$f":"IF('AVI (Desc)'!C77=\"\",\"\",'AVI (Desc)'!C77)","v":""},{"$f":"IF('AVI (Desc)'!D77=\"\",\"\",'AVI (Desc)'!D77)","v":""},{"$f":"IF('AVI (Desc)'!E77=\"\",\"\",INDEX([1]ASSET_ID_SOURCE!$A$2:$A$50,MATCH('AVI (Desc)'!E77,[1]!MASTER_ASSET_ID_SOURCE_DESC,0),0))","v":""},{"$f":"IF('AVI (Desc)'!F77=\"\",\"\",'AVI (Desc)'!F77)","v":""},{"$f":"IF('AVI (Desc)'!G77=\"\",\"\",'AVI (Desc)'!G77)","v":""},{"$f":"IF('AVI (Desc)'!H77=\"\",\"\",INDEX([1]OWNER!$A$2:$A$100,MATCH('AVI (Desc)'!$H77,[1]!MASTER_OWNER_DESC[#Data],0),0))","v":""},{"$f":"IF('AVI (Desc)'!I77=\"\",\"\",INDEX([1]COUNTY!$A$2:$A$80,MATCH('AVI (Desc)'!I77,[1]!MASTER_COUNTY_NAME[#Data],0),0))","v":""},{"$f":"IF('AVI (Desc)'!J77=\"\",\"\",'AVI (Desc)'!J77)","v":""},{"$f":"IF('AVI (Desc)'!K77=\"\",\"\",INDEX([1]AVI_SENSOR_TYPE!$A$2:$A$7,MATCH('AVI (Desc)'!K77,[1]!MASTER_AVI_SENSOR_TYPE_DESC,0),0))","v":""}]
[{"$f":"IF('AVI (Desc)'!A78=\"\",\"\",'AVI (Desc)'!A78)","v":""},{"$f":"IF('AVI (Desc)'!B78=\"\",\"\",'AVI (Desc)'!B78)","v":""},{"$f":"IF('AVI (Desc)'!C78=\"\",\"\",'AVI (Desc)'!C78)","v":""},{"$f":"IF('AVI (Desc)'!D78=\"\",\"\",'AVI (Desc)'!D78)","v":""},{"$f":"IF('AVI (Desc)'!E78=\"\",\"\",INDEX([1]ASSET_ID_SOURCE!$A$2:$A$50,MATCH('AVI (Desc)'!E78,[1]!MASTER_ASSET_ID_SOURCE_DESC,0),0))","v":""},{"$f":"IF('AVI (Desc)'!F78=\"\",\"\",'AVI (Desc)'!F78)","v":""},{"$f":"IF('AVI (Desc)'!G78=\"\",\"\",'AVI (Desc)'!G78)","v":""},{"$f":"IF('AVI (Desc)'!H78=\"\",\"\",INDEX([1]OWNER!$A$2:$A$100,MATCH('AVI (Desc)'!$H78,[1]!MASTER_OWNER_DESC[#Data],0),0))","v":""},{"$f":"IF('AVI (Desc)'!I78=\"\",\"\",INDEX([1]COUNTY!$A$2:$A$80,MATCH('AVI (Desc)'!I78,[1]!MASTER_COUNTY_NAME[#Data],0),0))","v":""},{"$f":"IF('AVI (Desc)'!J78=\"\",\"\",'AVI (Desc)'!J78)","v":""},{"$f":"IF('AVI (Desc)'!K78=\"\",\"\",INDEX([1]AVI_SENSOR_TYPE!$A$2:$A$7,MATCH('AVI (Desc)'!K78,[1]!MASTER_AVI_SENSOR_TYPE_DESC,0),0))","v":""}]
[{"$f":"IF('AVI (Desc)'!A79=\"\",\"\",'AVI (Desc)'!A79)","v":""},{"$f":"IF('AVI (Desc)'!B79=\"\",\"\",'AVI (Desc)'!B79)","v":""},{"$f":"IF('AVI (Desc)'!C79=\"\",\"\",'AVI (Desc)'!C79)","v":""},{"$f":"IF('AVI (Desc)'!D79=\"\",\"\",'AVI (Desc)'!D79)","v":""},{"$f":"IF('AVI (Desc)'!E79=\"\",\"\",INDEX([1]ASSET_ID_SOURCE!$A$2:$A$50,MATCH('AVI (Desc)'!E79,[1]!MASTER_ASSET_ID_SOURCE_DESC,0),0))","v":""},{"$f":"IF('AVI (Desc)'!F79=\"\",\"\",'AVI (Desc)'!F79)","v":""},{"$f":"IF('AVI (Desc)'!G79=\"\",\"\",'AVI (Desc)'!G79)","v":""},{"$f":"IF('AVI (Desc)'!H79=\"\",\"\",INDEX([1]OWNER!$A$2:$A$100,MATCH('AVI (Desc)'!$H79,[1]!MASTER_OWNER_DESC[#Data],0),0))","v":""},{"$f":"IF('AVI (Desc)'!I79=\"\",\"\",INDEX([1]COUNTY!$A$2:$A$80,MATCH('AVI (Desc)'!I79,[1]!MASTER_COUNTY_NAME[#Data],0),0))","v":""},{"$f":"IF('AVI (Desc)'!J79=\"\",\"\",'AVI (Desc)'!J79)","v":""},{"$f":"IF('AVI (Desc)'!K79=\"\",\"\",INDEX([1]AVI_SENSOR_TYPE!$A$2:$A$7,MATCH('AVI (Desc)'!K79,[1]!MASTER_AVI_SENSOR_TYPE_DESC,0),0))","v":""}]
[{"$f":"IF('AVI (Desc)'!A80=\"\",\"\",'AVI (Desc)'!A80)","v":""},{"$f":"IF('AVI (Desc)'!B80=\"\",\"\",'AVI (Desc)'!B80)","v":""},{"$f":"IF('AVI (Desc)'!C80=\"\",\"\",'AVI (Desc)'!C80)","v":""},{"$f":"IF('AVI (Desc)'!D80=\"\",\"\",'AVI (Desc)'!D80)","v":""},{"$f":"IF('AVI (Desc)'!E80=\"\",\"\",INDEX([1]ASSET_ID_SOURCE!$A$2:$A$50,MATCH('AVI (Desc)'!E80,[1]!MASTER_ASSET_ID_SOURCE_DESC,0),0))","v":""},{"$f":"IF('AVI (Desc)'!F80=\"\",\"\",'AVI (Desc)'!F80)","v":""},{"$f":"IF('AVI (Desc)'!G80=\"\",\"\",'AVI (Desc)'!G80)","v":""},{"$f":"IF('AVI (Desc)'!H80=\"\",\"\",INDEX([1]OWNER!$A$2:$A$100,MATCH('AVI (Desc)'!$H80,[1]!MASTER_OWNER_DESC[#Data],0),0))","v":""},{"$f":"IF('AVI (Desc)'!I80=\"\",\"\",INDEX([1]COUNTY!$A$2:$A$80,MATCH('AVI (Desc)'!I80,[1]!MASTER_COUNTY_NAME[#Data],0),0))","v":""},{"$f":"IF('AVI (Desc)'!J80=\"\",\"\",'AVI (Desc)'!J80)","v":""},{"$f":"IF('AVI (Desc)'!K80=\"\",\"\",INDEX([1]AVI_SENSOR_TYPE!$A$2:$A$7,MATCH('AVI (Desc)'!K80,[1]!MASTER_AVI_SENSOR_TYPE_DESC,0),0))","v":""}]
[{"$f":"IF('AVI (Desc)'!A81=\"\",\"\",'AVI (Desc)'!A81)","v":""},{"$f":"IF('AVI (Desc)'!B81=\"\",\"\",'AVI (Desc)'!B81)","v":""},{"$f":"IF('AVI (Desc)'!C81=\"\",\"\",'AVI (Desc)'!C81)","v":""},{"$f":"IF('AVI (Desc)'!D81=\"\",\"\",'AVI (Desc)'!D81)","v":""},{"$f":"IF('AVI (Desc)'!E81=\"\",\"\",INDEX([1]ASSET_ID_SOURCE!$A$2:$A$50,MATCH('AVI (Desc)'!E81,[1]!MASTER_ASSET_ID_SOURCE_DESC,0),0))","v":""},{"$f":"IF('AVI (Desc)'!F81=\"\",\"\",'AVI (Desc)'!F81)","v":""},{"$f":"IF('AVI (Desc)'!G81=\"\",\"\",'AVI (Desc)'!G81)","v":""},{"$f":"IF('AVI (Desc)'!H81=\"\",\"\",INDEX([1]OWNER!$A$2:$A$100,MATCH('AVI (Desc)'!$H81,[1]!MASTER_OWNER_DESC[#Data],0),0))","v":""},{"$f":"IF('AVI (Desc)'!I81=\"\",\"\",INDEX([1]COUNTY!$A$2:$A$80,MATCH('AVI (Desc)'!I81,[1]!MASTER_COUNTY_NAME[#Data],0),0))","v":""},{"$f":"IF('AVI (Desc)'!J81=\"\",\"\",'AVI (Desc)'!J81)","v":""},{"$f":"IF('AVI (Desc)'!K81=\"\",\"\",INDEX([1]AVI_SENSOR_TYPE!$A$2:$A$7,MATCH('AVI (Desc)'!K81,[1]!MASTER_AVI_SENSOR_TYPE_DESC,0),0))","v":""}]
[{"$f":"IF('AVI (Desc)'!A82=\"\",\"\",'AVI (Desc)'!A82)","v":""},{"$f":"IF('AVI (Desc)'!B82=\"\",\"\",'AVI (Desc)'!B82)","v":""},{"$f":"IF('AVI (Desc)'!C82=\"\",\"\",'AVI (Desc)'!C82)","v":""},{"$f":"IF('AVI (Desc)'!D82=\"\",\"\",'AVI (Desc)'!D82)","v":""},{"$f":"IF('AVI (Desc)'!E82=\"\",\"\",INDEX([1]ASSET_ID_SOURCE!$A$2:$A$50,MATCH('AVI (Desc)'!E82,[1]!MASTER_ASSET_ID_SOURCE_DESC,0),0))","v":""},{"$f":"IF('AVI (Desc)'!F82=\"\",\"\",'AVI (Desc)'!F82)","v":""},{"$f":"IF('AVI (Desc)'!G82=\"\",\"\",'AVI (Desc)'!G82)","v":""},{"$f":"IF('AVI (Desc)'!H82=\"\",\"\",INDEX([1]OWNER!$A$2:$A$100,MATCH('AVI (Desc)'!$H82,[1]!MASTER_OWNER_DESC[#Data],0),0))","v":""},{"$f":"IF('AVI (Desc)'!I82=\"\",\"\",INDEX([1]COUNTY!$A$2:$A$80,MATCH('AVI (Desc)'!I82,[1]!MASTER_COUNTY_NAME[#Data],0),0))","v":""},{"$f":"IF('AVI (Desc)'!J82=\"\",\"\",'AVI (Desc)'!J82)","v":""},{"$f":"IF('AVI (Desc)'!K82=\"\",\"\",INDEX([1]AVI_SENSOR_TYPE!$A$2:$A$7,MATCH('AVI (Desc)'!K82,[1]!MASTER_AVI_SENSOR_TYPE_DESC,0),0))","v":""}]
[{"$f":"IF('AVI (Desc)'!A83=\"\",\"\",'AVI (Desc)'!A83)","v":""},{"$f":"IF('AVI (Desc)'!B83=\"\",\"\",'AVI (Desc)'!B83)","v":""},{"$f":"IF('AVI (Desc)'!C83=\"\",\"\",'AVI (Desc)'!C83)","v":""},{"$f":"IF('AVI (Desc)'!D83=\"\",\"\",'AVI (Desc)'!D83)","v":""},{"$f":"IF('AVI (Desc)'!E83=\"\",\"\",INDEX([1]ASSET_ID_SOURCE!$A$2:$A$50,MATCH('AVI (Desc)'!E83,[1]!MASTER_ASSET_ID_SOURCE_DESC,0),0))","v":""},{"$f":"IF('AVI (Desc)'!F83=\"\",\"\",'AVI (Desc)'!F83)","v":""},{"$f":"IF('AVI (Desc)'!G83=\"\",\"\",'AVI (Desc)'!G83)","v":""},{"$f":"IF('AVI (Desc)'!H83=\"\",\"\",INDEX([1]OWNER!$A$2:$A$100,MATCH('AVI (Desc)'!$H83,[1]!MASTER_OWNER_DESC[#Data],0),0))","v":""},{"$f":"IF('AVI (Desc)'!I83=\"\",\"\",INDEX([1]COUNTY!$A$2:$A$80,MATCH('AVI (Desc)'!I83,[1]!MASTER_COUNTY_NAME[#Data],0),0))","v":""},{"$f":"IF('AVI (Desc)'!J83=\"\",\"\",'AVI (Desc)'!J83)","v":""},{"$f":"IF('AVI (Desc)'!K83=\"\",\"\",INDEX([1]AVI_SENSOR_TYPE!$A$2:$A$7,MATCH('AVI (Desc)'!K83,[1]!MASTER_AVI_SENSOR_TYPE_DESC,0),0))","v":""}]
[{"$f":"IF('AVI (Desc)'!A84=\"\",\"\",'AVI (Desc)'!A84)","v":""},{"$f":"IF('AVI (Desc)'!B84=\"\",\"\",'AVI (Desc)'!B84)","v":""},{"$f":"IF('AVI (Desc)'!C84=\"\",\"\",'AVI (Desc)'!C84)","v":""},{"$f":"IF('AVI (Desc)'!D84=\"\",\"\",'AVI (Desc)'!D84)","v":""},{"$f":"IF('AVI (Desc)'!E84=\"\",\"\",INDEX([1]ASSET_ID_SOURCE!$A$2:$A$50,MATCH('AVI (Desc)'!E84,[1]!MASTER_ASSET_ID_SOURCE_DESC,0),0))","v":""},{"$f":"IF('AVI (Desc)'!F84=\"\",\"\",'AVI (Desc)'!F84)","v":""},{"$f":"IF('AVI (Desc)'!G84=\"\",\"\",'AVI (Desc)'!G84)","v":""},{"$f":"IF('AVI (Desc)'!H84=\"\",\"\",INDEX([1]OWNER!$A$2:$A$100,MATCH('AVI (Desc)'!$H84,[1]!MASTER_OWNER_DESC[#Data],0),0))","v":""},{"$f":"IF('AVI (Desc)'!I84=\"\",\"\",INDEX([1]COUNTY!$A$2:$A$80,MATCH('AVI (Desc)'!I84,[1]!MASTER_COUNTY_NAME[#Data],0),0))","v":""},{"$f":"IF('AVI (Desc)'!J84=\"\",\"\",'AVI (Desc)'!J84)","v":""},{"$f":"IF('AVI (Desc)'!K84=\"\",\"\",INDEX([1]AVI_SENSOR_TYPE!$A$2:$A$7,MATCH('AVI (Desc)'!K84,[1]!MASTER_AVI_SENSOR_TYPE_DESC,0),0))","v":""}]
[{"$f":"IF('AVI (Desc)'!A85=\"\",\"\",'AVI (Desc)'!A85)","v":""},{"$f":"IF('AVI (Desc)'!B85=\"\",\"\",'AVI (Desc)'!B85)","v":""},{"$f":"IF('AVI (Desc)'!C85=\"\",\"\",'AVI (Desc)'!C85)","v":""},{"$f":"IF('AVI (Desc)'!D85=\"\",\"\",'AVI (Desc)'!D85)","v":""},{"$f":"IF('AVI (Desc)'!E85=\"\",\"\",INDEX([1]ASSET_ID_SOURCE!$A$2:$A$50,MATCH('AVI (Desc)'!E85,[1]!MASTER_ASSET_ID_SOURCE_DESC,0),0))","v":""},{"$f":"IF('AVI (Desc)'!F85=\"\",\"\",'AVI (Desc)'!F85)","v":""},{"$f":"IF('AVI (Desc)'!G85=\"\",\"\",'AVI (Desc)'!G85)","v":""},{"$f":"IF('AVI (Desc)'!H85=\"\",\"\",INDEX([1]OWNER!$A$2:$A$100,MATCH('AVI (Desc)'!$H85,[1]!MASTER_OWNER_DESC[#Data],0),0))","v":""},{"$f":"IF('AVI (Desc)'!I85=\"\",\"\",INDEX([1]COUNTY!$A$2:$A$80,MATCH('AVI (Desc)'!I85,[1]!MASTER_COUNTY_NAME[#Data],0),0))","v":""},{"$f":"IF('AVI (Desc)'!J85=\"\",\"\",'AVI (Desc)'!J85)","v":""},{"$f":"IF('AVI (Desc)'!K85=\"\",\"\",INDEX([1]AVI_SENSOR_TYPE!$A$2:$A$7,MATCH('AVI (Desc)'!K85,[1]!MASTER_AVI_SENSOR_TYPE_DESC,0),0))","v":""}]
[{"$f":"IF('AVI (Desc)'!A86=\"\",\"\",'AVI (Desc)'!A86)","v":""},{"$f":"IF('AVI (Desc)'!B86=\"\",\"\",'AVI (Desc)'!B86)","v":""},{"$f":"IF('AVI (Desc)'!C86=\"\",\"\",'AVI (Desc)'!C86)","v":""},{"$f":"IF('AVI (Desc)'!D86=\"\",\"\",'AVI (Desc)'!D86)","v":""},{"$f":"IF('AVI (Desc)'!E86=\"\",\"\",INDEX([1]ASSET_ID_SOURCE!$A$2:$A$50,MATCH('AVI (Desc)'!E86,[1]!MASTER_ASSET_ID_SOURCE_DESC,0),0))","v":""},{"$f":"IF('AVI (Desc)'!F86=\"\",\"\",'AVI (Desc)'!F86)","v":""},{"$f":"IF('AVI (Desc)'!G86=\"\",\"\",'AVI (Desc)'!G86)","v":""},{"$f":"IF('AVI (Desc)'!H86=\"\",\"\",INDEX([1]OWNER!$A$2:$A$100,MATCH('AVI (Desc)'!$H86,[1]!MASTER_OWNER_DESC[#Data],0),0))","v":""},{"$f":"IF('AVI (Desc)'!I86=\"\",\"\",INDEX([1]COUNTY!$A$2:$A$80,MATCH('AVI (Desc)'!I86,[1]!MASTER_COUNTY_NAME[#Data],0),0))","v":""},{"$f":"IF('AVI (Desc)'!J86=\"\",\"\",'AVI (Desc)'!J86)","v":""},{"$f":"IF('AVI (Desc)'!K86=\"\",\"\",INDEX([1]AVI_SENSOR_TYPE!$A$2:$A$7,MATCH('AVI (Desc)'!K86,[1]!MASTER_AVI_SENSOR_TYPE_DESC,0),0))","v":""}]
[{"$f":"IF('AVI (Desc)'!A87=\"\",\"\",'AVI (Desc)'!A87)","v":""},{"$f":"IF('AVI (Desc)'!B87=\"\",\"\",'AVI (Desc)'!B87)","v":""},{"$f":"IF('AVI (Desc)'!C87=\"\",\"\",'AVI (Desc)'!C87)","v":""},{"$f":"IF('AVI (Desc)'!D87=\"\",\"\",'AVI (Desc)'!D87)","v":""},{"$f":"IF('AVI (Desc)'!E87=\"\",\"\",INDEX([1]ASSET_ID_SOURCE!$A$2:$A$50,MATCH('AVI (Desc)'!E87,[1]!MASTER_ASSET_ID_SOURCE_DESC,0),0))","v":""},{"$f":"IF('AVI (Desc)'!F87=\"\",\"\",'AVI (Desc)'!F87)","v":""},{"$f":"IF('AVI (Desc)'!G87=\"\",\"\",'AVI (Desc)'!G87)","v":""},{"$f":"IF('AVI (Desc)'!H87=\"\",\"\",INDEX([1]OWNER!$A$2:$A$100,MATCH('AVI (Desc)'!$H87,[1]!MASTER_OWNER_DESC[#Data],0),0))","v":""},{"$f":"IF('AVI (Desc)'!I87=\"\",\"\",INDEX([1]COUNTY!$A$2:$A$80,MATCH('AVI (Desc)'!I87,[1]!MASTER_COUNTY_NAME[#Data],0),0))","v":""},{"$f":"IF('AVI (Desc)'!J87=\"\",\"\",'AVI (Desc)'!J87)","v":""},{"$f":"IF('AVI (Desc)'!K87=\"\",\"\",INDEX([1]AVI_SENSOR_TYPE!$A$2:$A$7,MATCH('AVI (Desc)'!K87,[1]!MASTER_AVI_SENSOR_TYPE_DESC,0),0))","v":""}]
[{"$f":"IF('AVI (Desc)'!A88=\"\",\"\",'AVI (Desc)'!A88)","v":""},{"$f":"IF('AVI (Desc)'!B88=\"\",\"\",'AVI (Desc)'!B88)","v":""},{"$f":"IF('AVI (Desc)'!C88=\"\",\"\",'AVI (Desc)'!C88)","v":""},{"$f":"IF('AVI (Desc)'!D88=\"\",\"\",'AVI (Desc)'!D88)","v":""},{"$f":"IF('AVI (Desc)'!E88=\"\",\"\",INDEX([1]ASSET_ID_SOURCE!$A$2:$A$50,MATCH('AVI (Desc)'!E88,[1]!MASTER_ASSET_ID_SOURCE_DESC,0),0))","v":""},{"$f":"IF('AVI (Desc)'!F88=\"\",\"\",'AVI (Desc)'!F88)","v":""},{"$f":"IF('AVI (Desc)'!G88=\"\",\"\",'AVI (Desc)'!G88)","v":""},{"$f":"IF('AVI (Desc)'!H88=\"\",\"\",INDEX([1]OWNER!$A$2:$A$100,MATCH('AVI (Desc)'!$H88,[1]!MASTER_OWNER_DESC[#Data],0),0))","v":""},{"$f":"IF('AVI (Desc)'!I88=\"\",\"\",INDEX([1]COUNTY!$A$2:$A$80,MATCH('AVI (Desc)'!I88,[1]!MASTER_COUNTY_NAME[#Data],0),0))","v":""},{"$f":"IF('AVI (Desc)'!J88=\"\",\"\",'AVI (Desc)'!J88)","v":""},{"$f":"IF('AVI (Desc)'!K88=\"\",\"\",INDEX([1]AVI_SENSOR_TYPE!$A$2:$A$7,MATCH('AVI (Desc)'!K88,[1]!MASTER_AVI_SENSOR_TYPE_DESC,0),0))","v":""}]
[{"$f":"IF('AVI (Desc)'!A89=\"\",\"\",'AVI (Desc)'!A89)","v":""},{"$f":"IF('AVI (Desc)'!B89=\"\",\"\",'AVI (Desc)'!B89)","v":""},{"$f":"IF('AVI (Desc)'!C89=\"\",\"\",'AVI (Desc)'!C89)","v":""},{"$f":"IF('AVI (Desc)'!D89=\"\",\"\",'AVI (Desc)'!D89)","v":""},{"$f":"IF('AVI (Desc)'!E89=\"\",\"\",INDEX([1]ASSET_ID_SOURCE!$A$2:$A$50,MATCH('AVI (Desc)'!E89,[1]!MASTER_ASSET_ID_SOURCE_DESC,0),0))","v":""},{"$f":"IF('AVI (Desc)'!F89=\"\",\"\",'AVI (Desc)'!F89)","v":""},{"$f":"IF('AVI (Desc)'!G89=\"\",\"\",'AVI (Desc)'!G89)","v":""},{"$f":"IF('AVI (Desc)'!H89=\"\",\"\",INDEX([1]OWNER!$A$2:$A$100,MATCH('AVI (Desc)'!$H89,[1]!MASTER_OWNER_DESC[#Data],0),0))","v":""},{"$f":"IF('AVI (Desc)'!I89=\"\",\"\",INDEX([1]COUNTY!$A$2:$A$80,MATCH('AVI (Desc)'!I89,[1]!MASTER_COUNTY_NAME[#Data],0),0))","v":""},{"$f":"IF('AVI (Desc)'!J89=\"\",\"\",'AVI (Desc)'!J89)","v":""},{"$f":"IF('AVI (Desc)'!K89=\"\",\"\",INDEX([1]AVI_SENSOR_TYPE!$A$2:$A$7,MATCH('AVI (Desc)'!K89,[1]!MASTER_AVI_SENSOR_TYPE_DESC,0),0))","v":""}]
[{"$f":"IF('AVI (Desc)'!A90=\"\",\"\",'AVI (Desc)'!A90)","v":""},{"$f":"IF('AVI (Desc)'!B90=\"\",\"\",'AVI (Desc)'!B90)","v":""},{"$f":"IF('AVI (Desc)'!C90=\"\",\"\",'AVI (Desc)'!C90)","v":""},{"$f":"IF('AVI (Desc)'!D90=\"\",\"\",'AVI (Desc)'!D90)","v":""},{"$f":"IF('AVI (Desc)'!E90=\"\",\"\",INDEX([1]ASSET_ID_SOURCE!$A$2:$A$50,MATCH('AVI (Desc)'!E90,[1]!MASTER_ASSET_ID_SOURCE_DESC,0),0))","v":""},{"$f":"IF('AVI (Desc)'!F90=\"\",\"\",'AVI (Desc)'!F90)","v":""},{"$f":"IF('AVI (Desc)'!G90=\"\",\"\",'AVI (Desc)'!G90)","v":""},{"$f":"IF('AVI (Desc)'!H90=\"\",\"\",INDEX([1]OWNER!$A$2:$A$100,MATCH('AVI (Desc)'!$H90,[1]!MASTER_OWNER_DESC[#Data],0),0))","v":""},{"$f":"IF('AVI (Desc)'!I90=\"\",\"\",INDEX([1]COUNTY!$A$2:$A$80,MATCH('AVI (Desc)'!I90,[1]!MASTER_COUNTY_NAME[#Data],0),0))","v":""},{"$f":"IF('AVI (Desc)'!J90=\"\",\"\",'AVI (Desc)'!J90)","v":""},{"$f":"IF('AVI (Desc)'!K90=\"\",\"\",INDEX([1]AVI_SENSOR_TYPE!$A$2:$A$7,MATCH('AVI (Desc)'!K90,[1]!MASTER_AVI_SENSOR_TYPE_DESC,0),0))","v":""}]
[{"$f":"IF('AVI (Desc)'!A91=\"\",\"\",'AVI (Desc)'!A91)","v":""},{"$f":"IF('AVI (Desc)'!B91=\"\",\"\",'AVI (Desc)'!B91)","v":""},{"$f":"IF('AVI (Desc)'!C91=\"\",\"\",'AVI (Desc)'!C91)","v":""},{"$f":"IF('AVI (Desc)'!D91=\"\",\"\",'AVI (Desc)'!D91)","v":""},{"$f":"IF('AVI (Desc)'!E91=\"\",\"\",INDEX([1]ASSET_ID_SOURCE!$A$2:$A$50,MATCH('AVI (Desc)'!E91,[1]!MASTER_ASSET_ID_SOURCE_DESC,0),0))","v":""},{"$f":"IF('AVI (Desc)'!F91=\"\",\"\",'AVI (Desc)'!F91)","v":""},{"$f":"IF('AVI (Desc)'!G91=\"\",\"\",'AVI (Desc)'!G91)","v":""},{"$f":"IF('AVI (Desc)'!H91=\"\",\"\",INDEX([1]OWNER!$A$2:$A$100,MATCH('AVI (Desc)'!$H91,[1]!MASTER_OWNER_DESC[#Data],0),0))","v":""},{"$f":"IF('AVI (Desc)'!I91=\"\",\"\",INDEX([1]COUNTY!$A$2:$A$80,MATCH('AVI (Desc)'!I91,[1]!MASTER_COUNTY_NAME[#Data],0),0))","v":""},{"$f":"IF('AVI (Desc)'!J91=\"\",\"\",'AVI (Desc)'!J91)","v":""},{"$f":"IF('AVI (Desc)'!K91=\"\",\"\",INDEX([1]AVI_SENSOR_TYPE!$A$2:$A$7,MATCH('AVI (Desc)'!K91,[1]!MASTER_AVI_SENSOR_TYPE_DESC,0),0))","v":""}]
[{"$f":"IF('AVI (Desc)'!A92=\"\",\"\",'AVI (Desc)'!A92)","v":""},{"$f":"IF('AVI (Desc)'!B92=\"\",\"\",'AVI (Desc)'!B92)","v":""},{"$f":"IF('AVI (Desc)'!C92=\"\",\"\",'AVI (Desc)'!C92)","v":""},{"$f":"IF('AVI (Desc)'!D92=\"\",\"\",'AVI (Desc)'!D92)","v":""},{"$f":"IF('AVI (Desc)'!E92=\"\",\"\",INDEX([1]ASSET_ID_SOURCE!$A$2:$A$50,MATCH('AVI (Desc)'!E92,[1]!MASTER_ASSET_ID_SOURCE_DESC,0),0))","v":""},{"$f":"IF('AVI (Desc)'!F92=\"\",\"\",'AVI (Desc)'!F92)","v":""},{"$f":"IF('AVI (Desc)'!G92=\"\",\"\",'AVI (Desc)'!G92)","v":""},{"$f":"IF('AVI (Desc)'!H92=\"\",\"\",INDEX([1]OWNER!$A$2:$A$100,MATCH('AVI (Desc)'!$H92,[1]!MASTER_OWNER_DESC[#Data],0),0))","v":""},{"$f":"IF('AVI (Desc)'!I92=\"\",\"\",INDEX([1]COUNTY!$A$2:$A$80,MATCH('AVI (Desc)'!I92,[1]!MASTER_COUNTY_NAME[#Data],0),0))","v":""},{"$f":"IF('AVI (Desc)'!J92=\"\",\"\",'AVI (Desc)'!J92)","v":""},{"$f":"IF('AVI (Desc)'!K92=\"\",\"\",INDEX([1]AVI_SENSOR_TYPE!$A$2:$A$7,MATCH('AVI (Desc)'!K92,[1]!MASTER_AVI_SENSOR_TYPE_DESC,0),0))","v":""}]
[{"$f":"IF('AVI (Desc)'!A93=\"\",\"\",'AVI (Desc)'!A93)","v":""},{"$f":"IF('AVI (Desc)'!B93=\"\",\"\",'AVI (Desc)'!B93)","v":""},{"$f":"IF('AVI (Desc)'!C93=\"\",\"\",'AVI (Desc)'!C93)","v":""},{"$f":"IF('AVI (Desc)'!D93=\"\",\"\",'AVI (Desc)'!D93)","v":""},{"$f":"IF('AVI (Desc)'!E93=\"\",\"\",INDEX([1]ASSET_ID_SOURCE!$A$2:$A$50,MATCH('AVI (Desc)'!E93,[1]!MASTER_ASSET_ID_SOURCE_DESC,0),0))","v":""},{"$f":"IF('AVI (Desc)'!F93=\"\",\"\",'AVI (Desc)'!F93)","v":""},{"$f":"IF('AVI (Desc)'!G93=\"\",\"\",'AVI (Desc)'!G93)","v":""},{"$f":"IF('AVI (Desc)'!H93=\"\",\"\",INDEX([1]OWNER!$A$2:$A$100,MATCH('AVI (Desc)'!$H93,[1]!MASTER_OWNER_DESC[#Data],0),0))","v":""},{"$f":"IF('AVI (Desc)'!I93=\"\",\"\",INDEX([1]COUNTY!$A$2:$A$80,MATCH('AVI (Desc)'!I93,[1]!MASTER_COUNTY_NAME[#Data],0),0))","v":""},{"$f":"IF('AVI (Desc)'!J93=\"\",\"\",'AVI (Desc)'!J93)","v":""},{"$f":"IF('AVI (Desc)'!K93=\"\",\"\",INDEX([1]AVI_SENSOR_TYPE!$A$2:$A$7,MATCH('AVI (Desc)'!K93,[1]!MASTER_AVI_SENSOR_TYPE_DESC,0),0))","v":""}]
[{"$f":"IF('AVI (Desc)'!A94=\"\",\"\",'AVI (Desc)'!A94)","v":""},{"$f":"IF('AVI (Desc)'!B94=\"\",\"\",'AVI (Desc)'!B94)","v":""},{"$f":"IF('AVI (Desc)'!C94=\"\",\"\",'AVI (Desc)'!C94)","v":""},{"$f":"IF('AVI (Desc)'!D94=\"\",\"\",'AVI (Desc)'!D94)","v":""},{"$f":"IF('AVI (Desc)'!E94=\"\",\"\",INDEX([1]ASSET_ID_SOURCE!$A$2:$A$50,MATCH('AVI (Desc)'!E94,[1]!MASTER_ASSET_ID_SOURCE_DESC,0),0))","v":""},{"$f":"IF('AVI (Desc)'!F94=\"\",\"\",'AVI (Desc)'!F94)","v":""},{"$f":"IF('AVI (Desc)'!G94=\"\",\"\",'AVI (Desc)'!G94)","v":""},{"$f":"IF('AVI (Desc)'!H94=\"\",\"\",INDEX([1]OWNER!$A$2:$A$100,MATCH('AVI (Desc)'!$H94,[1]!MASTER_OWNER_DESC[#Data],0),0))","v":""},{"$f":"IF('AVI (Desc)'!I94=\"\",\"\",INDEX([1]COUNTY!$A$2:$A$80,MATCH('AVI (Desc)'!I94,[1]!MASTER_COUNTY_NAME[#Data],0),0))","v":""},{"$f":"IF('AVI (Desc)'!J94=\"\",\"\",'AVI (Desc)'!J94)","v":""},{"$f":"IF('AVI (Desc)'!K94=\"\",\"\",INDEX([1]AVI_SENSOR_TYPE!$A$2:$A$7,MATCH('AVI (Desc)'!K94,[1]!MASTER_AVI_SENSOR_TYPE_DESC,0),0))","v":""}]
[{"$f":"IF('AVI (Desc)'!A95=\"\",\"\",'AVI (Desc)'!A95)","v":""},{"$f":"IF('AVI (Desc)'!B95=\"\",\"\",'AVI (Desc)'!B95)","v":""},{"$f":"IF('AVI (Desc)'!C95=\"\",\"\",'AVI (Desc)'!C95)","v":""},{"$f":"IF('AVI (Desc)'!D95=\"\",\"\",'AVI (Desc)'!D95)","v":""},{"$f":"IF('AVI (Desc)'!E95=\"\",\"\",INDEX([1]ASSET_ID_SOURCE!$A$2:$A$50,MATCH('AVI (Desc)'!E95,[1]!MASTER_ASSET_ID_SOURCE_DESC,0),0))","v":""},{"$f":"IF('AVI (Desc)'!F95=\"\",\"\",'AVI (Desc)'!F95)","v":""},{"$f":"IF('AVI (Desc)'!G95=\"\",\"\",'AVI (Desc)'!G95)","v":""},{"$f":"IF('AVI (Desc)'!H95=\"\",\"\",INDEX([1]OWNER!$A$2:$A$100,MATCH('AVI (Desc)'!$H95,[1]!MASTER_OWNER_DESC[#Data],0),0))","v":""},{"$f":"IF('AVI (Desc)'!I95=\"\",\"\",INDEX([1]COUNTY!$A$2:$A$80,MATCH('AVI (Desc)'!I95,[1]!MASTER_COUNTY_NAME[#Data],0),0))","v":""},{"$f":"IF('AVI (Desc)'!J95=\"\",\"\",'AVI (Desc)'!J95)","v":""},{"$f":"IF('AVI (Desc)'!K95=\"\",\"\",INDEX([1]AVI_SENSOR_TYPE!$A$2:$A$7,MATCH('AVI (Desc)'!K95,[1]!MASTER_AVI_SENSOR_TYPE_DESC,0),0))","v":""}]
[{"$f":"IF('AVI (Desc)'!A96=\"\",\"\",'AVI (Desc)'!A96)","v":""},{"$f":"IF('AVI (Desc)'!B96=\"\",\"\",'AVI (Desc)'!B96)","v":""},{"$f":"IF('AVI (Desc)'!C96=\"\",\"\",'AVI (Desc)'!C96)","v":""},{"$f":"IF('AVI (Desc)'!D96=\"\",\"\",'AVI (Desc)'!D96)","v":""},{"$f":"IF('AVI (Desc)'!E96=\"\",\"\",INDEX([1]ASSET_ID_SOURCE!$A$2:$A$50,MATCH('AVI (Desc)'!E96,[1]!MASTER_ASSET_ID_SOURCE_DESC,0),0))","v":""},{"$f":"IF('AVI (Desc)'!F96=\"\",\"\",'AVI (Desc)'!F96)","v":""},{"$f":"IF('AVI (Desc)'!G96=\"\",\"\",'AVI (Desc)'!G96)","v":""},{"$f":"IF('AVI (Desc)'!H96=\"\",\"\",INDEX([1]OWNER!$A$2:$A$100,MATCH('AVI (Desc)'!$H96,[1]!MASTER_OWNER_DESC[#Data],0),0))","v":""},{"$f":"IF('AVI (Desc)'!I96=\"\",\"\",INDEX([1]COUNTY!$A$2:$A$80,MATCH('AVI (Desc)'!I96,[1]!MASTER_COUNTY_NAME[#Data],0),0))","v":""},{"$f":"IF('AVI (Desc)'!J96=\"\",\"\",'AVI (Desc)'!J96)","v":""},{"$f":"IF('AVI (Desc)'!K96=\"\",\"\",INDEX([1]AVI_SENSOR_TYPE!$A$2:$A$7,MATCH('AVI (Desc)'!K96,[1]!MASTER_AVI_SENSOR_TYPE_DESC,0),0))","v":""}]
[{"$f":"IF('AVI (Desc)'!A97=\"\",\"\",'AVI (Desc)'!A97)","v":""},{"$f":"IF('AVI (Desc)'!B97=\"\",\"\",'AVI (Desc)'!B97)","v":""},{"$f":"IF('AVI (Desc)'!C97=\"\",\"\",'AVI (Desc)'!C97)","v":""},{"$f":"IF('AVI (Desc)'!D97=\"\",\"\",'AVI (Desc)'!D97)","v":""},{"$f":"IF('AVI (Desc)'!E97=\"\",\"\",INDEX([1]ASSET_ID_SOURCE!$A$2:$A$50,MATCH('AVI (Desc)'!E97,[1]!MASTER_ASSET_ID_SOURCE_DESC,0),0))","v":""},{"$f":"IF('AVI (Desc)'!F97=\"\",\"\",'AVI (Desc)'!F97)","v":""},{"$f":"IF('AVI (Desc)'!G97=\"\",\"\",'AVI (Desc)'!G97)","v":""},{"$f":"IF('AVI (Desc)'!H97=\"\",\"\",INDEX([1]OWNER!$A$2:$A$100,MATCH('AVI (Desc)'!$H97,[1]!MASTER_OWNER_DESC[#Data],0),0))","v":""},{"$f":"IF('AVI (Desc)'!I97=\"\",\"\",INDEX([1]COUNTY!$A$2:$A$80,MATCH('AVI (Desc)'!I97,[1]!MASTER_COUNTY_NAME[#Data],0),0))","v":""},{"$f":"IF('AVI (Desc)'!J97=\"\",\"\",'AVI (Desc)'!J97)","v":""},{"$f":"IF('AVI (Desc)'!K97=\"\",\"\",INDEX([1]AVI_SENSOR_TYPE!$A$2:$A$7,MATCH('AVI (Desc)'!K97,[1]!MASTER_AVI_SENSOR_TYPE_DESC,0),0))","v":""}]
[{"$f":"IF('AVI (Desc)'!A98=\"\",\"\",'AVI (Desc)'!A98)","v":""},{"$f":"IF('AVI (Desc)'!B98=\"\",\"\",'AVI (Desc)'!B98)","v":""},{"$f":"IF('AVI (Desc)'!C98=\"\",\"\",'AVI (Desc)'!C98)","v":""},{"$f":"IF('AVI (Desc)'!D98=\"\",\"\",'AVI (Desc)'!D98)","v":""},{"$f":"IF('AVI (Desc)'!E98=\"\",\"\",INDEX([1]ASSET_ID_SOURCE!$A$2:$A$50,MATCH('AVI (Desc)'!E98,[1]!MASTER_ASSET_ID_SOURCE_DESC,0),0))","v":""},{"$f":"IF('AVI (Desc)'!F98=\"\",\"\",'AVI (Desc)'!F98)","v":""},{"$f":"IF('AVI (Desc)'!G98=\"\",\"\",'AVI (Desc)'!G98)","v":""},{"$f":"IF('AVI (Desc)'!H98=\"\",\"\",INDEX([1]OWNER!$A$2:$A$100,MATCH('AVI (Desc)'!$H98,[1]!MASTER_OWNER_DESC[#Data],0),0))","v":""},{"$f":"IF('AVI (Desc)'!I98=\"\",\"\",INDEX([1]COUNTY!$A$2:$A$80,MATCH('AVI (Desc)'!I98,[1]!MASTER_COUNTY_NAME[#Data],0),0))","v":""},{"$f":"IF('AVI (Desc)'!J98=\"\",\"\",'AVI (Desc)'!J98)","v":""},{"$f":"IF('AVI (Desc)'!K98=\"\",\"\",INDEX([1]AVI_SENSOR_TYPE!$A$2:$A$7,MATCH('AVI (Desc)'!K98,[1]!MASTER_AVI_SENSOR_TYPE_DESC,0),0))","v":""}]
[{"$f":"IF('AVI (Desc)'!A99=\"\",\"\",'AVI (Desc)'!A99)","v":""},{"$f":"IF('AVI (Desc)'!B99=\"\",\"\",'AVI (Desc)'!B99)","v":""},{"$f":"IF('AVI (Desc)'!C99=\"\",\"\",'AVI (Desc)'!C99)","v":""},{"$f":"IF('AVI (Desc)'!D99=\"\",\"\",'AVI (Desc)'!D99)","v":""},{"$f":"IF('AVI (Desc)'!E99=\"\",\"\",INDEX([1]ASSET_ID_SOURCE!$A$2:$A$50,MATCH('AVI (Desc)'!E99,[1]!MASTER_ASSET_ID_SOURCE_DESC,0),0))","v":""},{"$f":"IF('AVI (Desc)'!F99=\"\",\"\",'AVI (Desc)'!F99)","v":""},{"$f":"IF('AVI (Desc)'!G99=\"\",\"\",'AVI (Desc)'!G99)","v":""},{"$f":"IF('AVI (Desc)'!H99=\"\",\"\",INDEX([1]OWNER!$A$2:$A$100,MATCH('AVI (Desc)'!$H99,[1]!MASTER_OWNER_DESC[#Data],0),0))","v":""},{"$f":"IF('AVI (Desc)'!I99=\"\",\"\",INDEX([1]COUNTY!$A$2:$A$80,MATCH('AVI (Desc)'!I99,[1]!MASTER_COUNTY_NAME[#Data],0),0))","v":""},{"$f":"IF('AVI (Desc)'!J99=\"\",\"\",'AVI (Desc)'!J99)","v":""},{"$f":"IF('AVI (Desc)'!K99=\"\",\"\",INDEX([1]AVI_SENSOR_TYPE!$A$2:$A$7,MATCH('AVI (Desc)'!K99,[1]!MASTER_AVI_SENSOR_TYPE_DESC,0),0))","v":""}]
[{"$f":"IF('AVI (Desc)'!A100=\"\",\"\",'AVI (Desc)'!A100)","v":""},{"$f":"IF('AVI (Desc)'!B100=\"\",\"\",'AVI (Desc)'!B100)","v":""},{"$f":"IF('AVI (Desc)'!C100=\"\",\"\",'AVI (Desc)'!C100)","v":""},{"$f":"IF('AVI (Desc)'!D100=\"\",\"\",'AVI (Desc)'!D100)","v":""},{"$f":"IF('AVI (Desc)'!E100=\"\",\"\",INDEX([1]ASSET_ID_SOURCE!$A$2:$A$50,MATCH('AVI (Desc)'!E100,[1]!MASTER_ASSET_ID_SOURCE_DESC,0),0))","v":""},{"$f":"IF('AVI (Desc)'!F100=\"\",\"\",'AVI (Desc)'!F100)","v":""},{"$f":"IF('AVI (Desc)'!G100=\"\",\"\",'AVI (Desc)'!G100)","v":""},{"$f":"IF('AVI (Desc)'!H100=\"\",\"\",INDEX([1]OWNER!$A$2:$A$100,MATCH('AVI (Desc)'!$H100,[1]!MASTER_OWNER_DESC[#Data],0),0))","v":""},{"$f":"IF('AVI (Desc)'!I100=\"\",\"\",INDEX([1]COUNTY!$A$2:$A$80,MATCH('AVI (Desc)'!I100,[1]!MASTER_COUNTY_NAME[#Data],0),0))","v":""},{"$f":"IF('AVI (Desc)'!J100=\"\",\"\",'AVI (Desc)'!J100)","v":""},{"$f":"IF('AVI (Desc)'!K100=\"\",\"\",INDEX([1]AVI_SENSOR_TYPE!$A$2:$A$7,MATCH('AVI (Desc)'!K100,[1]!MASTER_AVI_SENSOR_TYPE_DESC,0),0))","v":""}]
[{"$f":"IF('AVI (Desc)'!A101=\"\",\"\",'AVI (Desc)'!A101)","v":""},{"$f":"IF('AVI (Desc)'!B101=\"\",\"\",'AVI (Desc)'!B101)","v":""},{"$f":"IF('AVI (Desc)'!C101=\"\",\"\",'AVI (Desc)'!C101)","v":""},{"$f":"IF('AVI (Desc)'!D101=\"\",\"\",'AVI (Desc)'!D101)","v":""},{"$f":"IF('AVI (Desc)'!E101=\"\",\"\",INDEX([1]ASSET_ID_SOURCE!$A$2:$A$50,MATCH('AVI (Desc)'!E101,[1]!MASTER_ASSET_ID_SOURCE_DESC,0),0))","v":""},{"$f":"IF('AVI (Desc)'!F101=\"\",\"\",'AVI (Desc)'!F101)","v":""},{"$f":"IF('AVI (Desc)'!G101=\"\",\"\",'AVI (Desc)'!G101)","v":""},{"$f":"IF('AVI (Desc)'!H101=\"\",\"\",INDEX([1]OWNER!$A$2:$A$100,MATCH('AVI (Desc)'!$H101,[1]!MASTER_OWNER_DESC[#Data],0),0))","v":""},{"$f":"IF('AVI (Desc)'!I101=\"\",\"\",INDEX([1]COUNTY!$A$2:$A$80,MATCH('AVI (Desc)'!I101,[1]!MASTER_COUNTY_NAME[#Data],0),0))","v":""},{"$f":"IF('AVI (Desc)'!J101=\"\",\"\",'AVI (Desc)'!J101)","v":""},{"$f":"IF('AVI (Desc)'!K101=\"\",\"\",INDEX([1]AVI_SENSOR_TYPE!$A$2:$A$7,MATCH('AVI (Desc)'!K101,[1]!MASTER_AVI_SENSOR_TYPE_DESC,0),0))","v":""}]
[{"$f":"IF('AVI (Desc)'!A102=\"\",\"\",'AVI (Desc)'!A102)","v":""},{"$f":"IF('AVI (Desc)'!B102=\"\",\"\",'AVI (Desc)'!B102)","v":""},{"$f":"IF('AVI (Desc)'!C102=\"\",\"\",'AVI (Desc)'!C102)","v":""},{"$f":"IF('AVI (Desc)'!D102=\"\",\"\",'AVI (Desc)'!D102)","v":""},{"$f":"IF('AVI (Desc)'!E102=\"\",\"\",INDEX([1]ASSET_ID_SOURCE!$A$2:$A$50,MATCH('AVI (Desc)'!E102,[1]!MASTER_ASSET_ID_SOURCE_DESC,0),0))","v":""},{"$f":"IF('AVI (Desc)'!F102=\"\",\"\",'AVI (Desc)'!F102)","v":""},{"$f":"IF('AVI (Desc)'!G102=\"\",\"\",'AVI (Desc)'!G102)","v":""},{"$f":"IF('AVI (Desc)'!H102=\"\",\"\",INDEX([1]OWNER!$A$2:$A$100,MATCH('AVI (Desc)'!$H102,[1]!MASTER_OWNER_DESC[#Data],0),0))","v":""},{"$f":"IF('AVI (Desc)'!I102=\"\",\"\",INDEX([1]COUNTY!$A$2:$A$80,MATCH('AVI (Desc)'!I102,[1]!MASTER_COUNTY_NAME[#Data],0),0))","v":""},{"$f":"IF('AVI (Desc)'!J102=\"\",\"\",'AVI (Desc)'!J102)","v":""},{"$f":"IF('AVI (Desc)'!K102=\"\",\"\",INDEX([1]AVI_SENSOR_TYPE!$A$2:$A$7,MATCH('AVI (Desc)'!K102,[1]!MASTER_AVI_SENSOR_TYPE_DESC,0),0))","v":""}]
[{"$f":"IF('AVI (Desc)'!A103=\"\",\"\",'AVI (Desc)'!A103)","v":""},{"$f":"IF('AVI (Desc)'!B103=\"\",\"\",'AVI (Desc)'!B103)","v":""},{"$f":"IF('AVI (Desc)'!C103=\"\",\"\",'AVI (Desc)'!C103)","v":""},{"$f":"IF('AVI (Desc)'!D103=\"\",\"\",'AVI (Desc)'!D103)","v":""},{"$f":"IF('AVI (Desc)'!E103=\"\",\"\",INDEX([1]ASSET_ID_SOURCE!$A$2:$A$50,MATCH('AVI (Desc)'!E103,[1]!MASTER_ASSET_ID_SOURCE_DESC,0),0))","v":""},{"$f":"IF('AVI (Desc)'!F103=\"\",\"\",'AVI (Desc)'!F103)","v":""},{"$f":"IF('AVI (Desc)'!G103=\"\",\"\",'AVI (Desc)'!G103)","v":""},{"$f":"IF('AVI (Desc)'!H103=\"\",\"\",INDEX([1]OWNER!$A$2:$A$100,MATCH('AVI (Desc)'!$H103,[1]!MASTER_OWNER_DESC[#Data],0),0))","v":""},{"$f":"IF('AVI (Desc)'!I103=\"\",\"\",INDEX([1]COUNTY!$A$2:$A$80,MATCH('AVI (Desc)'!I103,[1]!MASTER_COUNTY_NAME[#Data],0),0))","v":""},{"$f":"IF('AVI (Desc)'!J103=\"\",\"\",'AVI (Desc)'!J103)","v":""},{"$f":"IF('AVI (Desc)'!K103=\"\",\"\",INDEX([1]AVI_SENSOR_TYPE!$A$2:$A$7,MATCH('AVI (Desc)'!K103,[1]!MASTER_AVI_SENSOR_TYPE_DESC,0),0))","v":""}]
[{"$f":"IF('AVI (Desc)'!A104=\"\",\"\",'AVI (Desc)'!A104)","v":""},{"$f":"IF('AVI (Desc)'!B104=\"\",\"\",'AVI (Desc)'!B104)","v":""},{"$f":"IF('AVI (Desc)'!C104=\"\",\"\",'AVI (Desc)'!C104)","v":""},{"$f":"IF('AVI (Desc)'!D104=\"\",\"\",'AVI (Desc)'!D104)","v":""},{"$f":"IF('AVI (Desc)'!E104=\"\",\"\",INDEX([1]ASSET_ID_SOURCE!$A$2:$A$50,MATCH('AVI (Desc)'!E104,[1]!MASTER_ASSET_ID_SOURCE_DESC,0),0))","v":""},{"$f":"IF('AVI (Desc)'!F104=\"\",\"\",'AVI (Desc)'!F104)","v":""},{"$f":"IF('AVI (Desc)'!G104=\"\",\"\",'AVI (Desc)'!G104)","v":""},{"$f":"IF('AVI (Desc)'!H104=\"\",\"\",INDEX([1]OWNER!$A$2:$A$100,MATCH('AVI (Desc)'!$H104,[1]!MASTER_OWNER_DESC[#Data],0),0))","v":""},{"$f":"IF('AVI (Desc)'!I104=\"\",\"\",INDEX([1]COUNTY!$A$2:$A$80,MATCH('AVI (Desc)'!I104,[1]!MASTER_COUNTY_NAME[#Data],0),0))","v":""},{"$f":"IF('AVI (Desc)'!J104=\"\",\"\",'AVI (Desc)'!J104)","v":""},{"$f":"IF('AVI (Desc)'!K104=\"\",\"\",INDEX([1]AVI_SENSOR_TYPE!$A$2:$A$7,MATCH('AVI (Desc)'!K104,[1]!MASTER_AVI_SENSOR_TYPE_DESC,0),0))","v":""}]
[{"$f":"IF('AVI (Desc)'!A105=\"\",\"\",'AVI (Desc)'!A105)","v":""},{"$f":"IF('AVI (Desc)'!B105=\"\",\"\",'AVI (Desc)'!B105)","v":""},{"$f":"IF('AVI (Desc)'!C105=\"\",\"\",'AVI (Desc)'!C105)","v":""},{"$f":"IF('AVI (Desc)'!D105=\"\",\"\",'AVI (Desc)'!D105)","v":""},{"$f":"IF('AVI (Desc)'!E105=\"\",\"\",INDEX([1]ASSET_ID_SOURCE!$A$2:$A$50,MATCH('AVI (Desc)'!E105,[1]!MASTER_ASSET_ID_SOURCE_DESC,0),0))","v":""},{"$f":"IF('AVI (Desc)'!F105=\"\",\"\",'AVI (Desc)'!F105)","v":""},{"$f":"IF('AVI (Desc)'!G105=\"\",\"\",'AVI (Desc)'!G105)","v":""},{"$f":"IF('AVI (Desc)'!H105=\"\",\"\",INDEX([1]OWNER!$A$2:$A$100,MATCH('AVI (Desc)'!$H105,[1]!MASTER_OWNER_DESC[#Data],0),0))","v":""},{"$f":"IF('AVI (Desc)'!I105=\"\",\"\",INDEX([1]COUNTY!$A$2:$A$80,MATCH('AVI (Desc)'!I105,[1]!MASTER_COUNTY_NAME[#Data],0),0))","v":""},{"$f":"IF('AVI (Desc)'!J105=\"\",\"\",'AVI (Desc)'!J105)","v":""},{"$f":"IF('AVI (Desc)'!K105=\"\",\"\",INDEX([1]AVI_SENSOR_TYPE!$A$2:$A$7,MATCH('AVI (Desc)'!K105,[1]!MASTER_AVI_SENSOR_TYPE_DESC,0),0))","v":""}]
[{"$f":"IF('AVI (Desc)'!A106=\"\",\"\",'AVI (Desc)'!A106)","v":""},{"$f":"IF('AVI (Desc)'!B106=\"\",\"\",'AVI (Desc)'!B106)","v":""},{"$f":"IF('AVI (Desc)'!C106=\"\",\"\",'AVI (Desc)'!C106)","v":""},{"$f":"IF('AVI (Desc)'!D106=\"\",\"\",'AVI (Desc)'!D106)","v":""},{"$f":"IF('AVI (Desc)'!E106=\"\",\"\",INDEX([1]ASSET_ID_SOURCE!$A$2:$A$50,MATCH('AVI (Desc)'!E106,[1]!MASTER_ASSET_ID_SOURCE_DESC,0),0))","v":""},{"$f":"IF('AVI (Desc)'!F106=\"\",\"\",'AVI (Desc)'!F106)","v":""},{"$f":"IF('AVI (Desc)'!G106=\"\",\"\",'AVI (Desc)'!G106)","v":""},{"$f":"IF('AVI (Desc)'!H106=\"\",\"\",INDEX([1]OWNER!$A$2:$A$100,MATCH('AVI (Desc)'!$H106,[1]!MASTER_OWNER_DESC[#Data],0),0))","v":""},{"$f":"IF('AVI (Desc)'!I106=\"\",\"\",INDEX([1]COUNTY!$A$2:$A$80,MATCH('AVI (Desc)'!I106,[1]!MASTER_COUNTY_NAME[#Data],0),0))","v":""},{"$f":"IF('AVI (Desc)'!J106=\"\",\"\",'AVI (Desc)'!J106)","v":""},{"$f":"IF('AVI (Desc)'!K106=\"\",\"\",INDEX([1]AVI_SENSOR_TYPE!$A$2:$A$7,MATCH('AVI (Desc)'!K106,[1]!MASTER_AVI_SENSOR_TYPE_DESC,0),0))","v":""}]
[{"$f":"IF('AVI (Desc)'!A107=\"\",\"\",'AVI (Desc)'!A107)","v":""},{"$f":"IF('AVI (Desc)'!B107=\"\",\"\",'AVI (Desc)'!B107)","v":""},{"$f":"IF('AVI (Desc)'!C107=\"\",\"\",'AVI (Desc)'!C107)","v":""},{"$f":"IF('AVI (Desc)'!D107=\"\",\"\",'AVI (Desc)'!D107)","v":""},{"$f":"IF('AVI (Desc)'!E107=\"\",\"\",INDEX([1]ASSET_ID_SOURCE!$A$2:$A$50,MATCH('AVI (Desc)'!E107,[1]!MASTER_ASSET_ID_SOURCE_DESC,0),0))","v":""},{"$f":"IF('AVI (Desc)'!F107=\"\",\"\",'AVI (Desc)'!F107)","v":""},{"$f":"IF('AVI (Desc)'!G107=\"\",\"\",'AVI (Desc)'!G107)","v":""},{"$f":"IF('AVI (Desc)'!H107=\"\",\"\",INDEX([1]OWNER!$A$2:$A$100,MATCH('AVI (Desc)'!$H107,[1]!MASTER_OWNER_DESC[#Data],0),0))","v":""},{"$f":"IF('AVI (Desc)'!I107=\"\",\"\",INDEX([1]COUNTY!$A$2:$A$80,MATCH('AVI (Desc)'!I107,[1]!MASTER_COUNTY_NAME[#Data],0),0))","v":""},{"$f":"IF('AVI (Desc)'!J107=\"\",\"\",'AVI (Desc)'!J107)","v":""},{"$f":"IF('AVI (Desc)'!K107=\"\",\"\",INDEX([1]AVI_SENSOR_TYPE!$A$2:$A$7,MATCH('AVI (Desc)'!K107,[1]!MASTER_AVI_SENSOR_TYPE_DESC,0),0))","v":""}]
[{"$f":"IF('AVI (Desc)'!A108=\"\",\"\",'AVI (Desc)'!A108)","v":""},{"$f":"IF('AVI (Desc)'!B108=\"\",\"\",'AVI (Desc)'!B108)","v":""},{"$f":"IF('AVI (Desc)'!C108=\"\",\"\",'AVI (Desc)'!C108)","v":""},{"$f":"IF('AVI (Desc)'!D108=\"\",\"\",'AVI (Desc)'!D108)","v":""},{"$f":"IF('AVI (Desc)'!E108=\"\",\"\",INDEX([1]ASSET_ID_SOURCE!$A$2:$A$50,MATCH('AVI (Desc)'!E108,[1]!MASTER_ASSET_ID_SOURCE_DESC,0),0))","v":""},{"$f":"IF('AVI (Desc)'!F108=\"\",\"\",'AVI (Desc)'!F108)","v":""},{"$f":"IF('AVI (Desc)'!G108=\"\",\"\",'AVI (Desc)'!G108)","v":""},{"$f":"IF('AVI (Desc)'!H108=\"\",\"\",INDEX([1]OWNER!$A$2:$A$100,MATCH('AVI (Desc)'!$H108,[1]!MASTER_OWNER_DESC[#Data],0),0))","v":""},{"$f":"IF('AVI (Desc)'!I108=\"\",\"\",INDEX([1]COUNTY!$A$2:$A$80,MATCH('AVI (Desc)'!I108,[1]!MASTER_COUNTY_NAME[#Data],0),0))","v":""},{"$f":"IF('AVI (Desc)'!J108=\"\",\"\",'AVI (Desc)'!J108)","v":""},{"$f":"IF('AVI (Desc)'!K108=\"\",\"\",INDEX([1]AVI_SENSOR_TYPE!$A$2:$A$7,MATCH('AVI (Desc)'!K108,[1]!MASTER_AVI_SENSOR_TYPE_DESC,0),0))","v":""}]
[{"$f":"IF('AVI (Desc)'!A109=\"\",\"\",'AVI (Desc)'!A109)","v":""},{"$f":"IF('AVI (Desc)'!B109=\"\",\"\",'AVI (Desc)'!B109)","v":""},{"$f":"IF('AVI (Desc)'!C109=\"\",\"\",'AVI (Desc)'!C109)","v":""},{"$f":"IF('AVI (Desc)'!D109=\"\",\"\",'AVI (Desc)'!D109)","v":""},{"$f":"IF('AVI (Desc)'!E109=\"\",\"\",INDEX([1]ASSET_ID_SOURCE!$A$2:$A$50,MATCH('AVI (Desc)'!E109,[1]!MASTER_ASSET_ID_SOURCE_DESC,0),0))","v":""},{"$f":"IF('AVI (Desc)'!F109=\"\",\"\",'AVI (Desc)'!F109)","v":""},{"$f":"IF('AVI (Desc)'!G109=\"\",\"\",'AVI (Desc)'!G109)","v":""},{"$f":"IF('AVI (Desc)'!H109=\"\",\"\",INDEX([1]OWNER!$A$2:$A$100,MATCH('AVI (Desc)'!$H109,[1]!MASTER_OWNER_DESC[#Data],0),0))","v":""},{"$f":"IF('AVI (Desc)'!I109=\"\",\"\",INDEX([1]COUNTY!$A$2:$A$80,MATCH('AVI (Desc)'!I109,[1]!MASTER_COUNTY_NAME[#Data],0),0))","v":""},{"$f":"IF('AVI (Desc)'!J109=\"\",\"\",'AVI (Desc)'!J109)","v":""},{"$f":"IF('AVI (Desc)'!K109=\"\",\"\",INDEX([1]AVI_SENSOR_TYPE!$A$2:$A$7,MATCH('AVI (Desc)'!K109,[1]!MASTER_AVI_SENSOR_TYPE_DESC,0),0))","v":""}]
[{"$f":"IF('AVI (Desc)'!A110=\"\",\"\",'AVI (Desc)'!A110)","v":""},{"$f":"IF('AVI (Desc)'!B110=\"\",\"\",'AVI (Desc)'!B110)","v":""},{"$f":"IF('AVI (Desc)'!C110=\"\",\"\",'AVI (Desc)'!C110)","v":""},{"$f":"IF('AVI (Desc)'!D110=\"\",\"\",'AVI (Desc)'!D110)","v":""},{"$f":"IF('AVI (Desc)'!E110=\"\",\"\",INDEX([1]ASSET_ID_SOURCE!$A$2:$A$50,MATCH('AVI (Desc)'!E110,[1]!MASTER_ASSET_ID_SOURCE_DESC,0),0))","v":""},{"$f":"IF('AVI (Desc)'!F110=\"\",\"\",'AVI (Desc)'!F110)","v":""},{"$f":"IF('AVI (Desc)'!G110=\"\",\"\",'AVI (Desc)'!G110)","v":""},{"$f":"IF('AVI (Desc)'!H110=\"\",\"\",INDEX([1]OWNER!$A$2:$A$100,MATCH('AVI (Desc)'!$H110,[1]!MASTER_OWNER_DESC[#Data],0),0))","v":""},{"$f":"IF('AVI (Desc)'!I110=\"\",\"\",INDEX([1]COUNTY!$A$2:$A$80,MATCH('AVI (Desc)'!I110,[1]!MASTER_COUNTY_NAME[#Data],0),0))","v":""},{"$f":"IF('AVI (Desc)'!J110=\"\",\"\",'AVI (Desc)'!J110)","v":""},{"$f":"IF('AVI (Desc)'!K110=\"\",\"\",INDEX([1]AVI_SENSOR_TYPE!$A$2:$A$7,MATCH('AVI (Desc)'!K110,[1]!MASTER_AVI_SENSOR_TYPE_DESC,0),0))","v":""}]
[{"$f":"IF('AVI (Desc)'!A111=\"\",\"\",'AVI (Desc)'!A111)","v":""},{"$f":"IF('AVI (Desc)'!B111=\"\",\"\",'AVI (Desc)'!B111)","v":""},{"$f":"IF('AVI (Desc)'!C111=\"\",\"\",'AVI (Desc)'!C111)","v":""},{"$f":"IF('AVI (Desc)'!D111=\"\",\"\",'AVI (Desc)'!D111)","v":""},{"$f":"IF('AVI (Desc)'!E111=\"\",\"\",INDEX([1]ASSET_ID_SOURCE!$A$2:$A$50,MATCH('AVI (Desc)'!E111,[1]!MASTER_ASSET_ID_SOURCE_DESC,0),0))","v":""},{"$f":"IF('AVI (Desc)'!F111=\"\",\"\",'AVI (Desc)'!F111)","v":""},{"$f":"IF('AVI (Desc)'!G111=\"\",\"\",'AVI (Desc)'!G111)","v":""},{"$f":"IF('AVI (Desc)'!H111=\"\",\"\",INDEX([1]OWNER!$A$2:$A$100,MATCH('AVI (Desc)'!$H111,[1]!MASTER_OWNER_DESC[#Data],0),0))","v":""},{"$f":"IF('AVI (Desc)'!I111=\"\",\"\",INDEX([1]COUNTY!$A$2:$A$80,MATCH('AVI (Desc)'!I111,[1]!MASTER_COUNTY_NAME[#Data],0),0))","v":""},{"$f":"IF('AVI (Desc)'!J111=\"\",\"\",'AVI (Desc)'!J111)","v":""},{"$f":"IF('AVI (Desc)'!K111=\"\",\"\",INDEX([1]AVI_SENSOR_TYPE!$A$2:$A$7,MATCH('AVI (Desc)'!K111,[1]!MASTER_AVI_SENSOR_TYPE_DESC,0),0))","v":""}]
[{"$f":"IF('AVI (Desc)'!A112=\"\",\"\",'AVI (Desc)'!A112)","v":""},{"$f":"IF('AVI (Desc)'!B112=\"\",\"\",'AVI (Desc)'!B112)","v":""},{"$f":"IF('AVI (Desc)'!C112=\"\",\"\",'AVI (Desc)'!C112)","v":""},{"$f":"IF('AVI (Desc)'!D112=\"\",\"\",'AVI (Desc)'!D112)","v":""},{"$f":"IF('AVI (Desc)'!E112=\"\",\"\",INDEX([1]ASSET_ID_SOURCE!$A$2:$A$50,MATCH('AVI (Desc)'!E112,[1]!MASTER_ASSET_ID_SOURCE_DESC,0),0))","v":""},{"$f":"IF('AVI (Desc)'!F112=\"\",\"\",'AVI (Desc)'!F112)","v":""},{"$f":"IF('AVI (Desc)'!G112=\"\",\"\",'AVI (Desc)'!G112)","v":""},{"$f":"IF('AVI (Desc)'!H112=\"\",\"\",INDEX([1]OWNER!$A$2:$A$100,MATCH('AVI (Desc)'!$H112,[1]!MASTER_OWNER_DESC[#Data],0),0))","v":""},{"$f":"IF('AVI (Desc)'!I112=\"\",\"\",INDEX([1]COUNTY!$A$2:$A$80,MATCH('AVI (Desc)'!I112,[1]!MASTER_COUNTY_NAME[#Data],0),0))","v":""},{"$f":"IF('AVI (Desc)'!J112=\"\",\"\",'AVI (Desc)'!J112)","v":""},{"$f":"IF('AVI (Desc)'!K112=\"\",\"\",INDEX([1]AVI_SENSOR_TYPE!$A$2:$A$7,MATCH('AVI (Desc)'!K112,[1]!MASTER_AVI_SENSOR_TYPE_DESC,0),0))","v":""}]
[{"$f":"IF('AVI (Desc)'!A113=\"\",\"\",'AVI (Desc)'!A113)","v":""},{"$f":"IF('AVI (Desc)'!B113=\"\",\"\",'AVI (Desc)'!B113)","v":""},{"$f":"IF('AVI (Desc)'!C113=\"\",\"\",'AVI (Desc)'!C113)","v":""},{"$f":"IF('AVI (Desc)'!D113=\"\",\"\",'AVI (Desc)'!D113)","v":""},{"$f":"IF('AVI (Desc)'!E113=\"\",\"\",INDEX([1]ASSET_ID_SOURCE!$A$2:$A$50,MATCH('AVI (Desc)'!E113,[1]!MASTER_ASSET_ID_SOURCE_DESC,0),0))","v":""},{"$f":"IF('AVI (Desc)'!F113=\"\",\"\",'AVI (Desc)'!F113)","v":""},{"$f":"IF('AVI (Desc)'!G113=\"\",\"\",'AVI (Desc)'!G113)","v":""},{"$f":"IF('AVI (Desc)'!H113=\"\",\"\",INDEX([1]OWNER!$A$2:$A$100,MATCH('AVI (Desc)'!$H113,[1]!MASTER_OWNER_DESC[#Data],0),0))","v":""},{"$f":"IF('AVI (Desc)'!I113=\"\",\"\",INDEX([1]COUNTY!$A$2:$A$80,MATCH('AVI (Desc)'!I113,[1]!MASTER_COUNTY_NAME[#Data],0),0))","v":""},{"$f":"IF('AVI (Desc)'!J113=\"\",\"\",'AVI (Desc)'!J113)","v":""},{"$f":"IF('AVI (Desc)'!K113=\"\",\"\",INDEX([1]AVI_SENSOR_TYPE!$A$2:$A$7,MATCH('AVI (Desc)'!K113,[1]!MASTER_AVI_SENSOR_TYPE_DESC,0),0))","v":""}]
[{"$f":"IF('AVI (Desc)'!A114=\"\",\"\",'AVI (Desc)'!A114)","v":""},{"$f":"IF('AVI (Desc)'!B114=\"\",\"\",'AVI (Desc)'!B114)","v":""},{"$f":"IF('AVI (Desc)'!C114=\"\",\"\",'AVI (Desc)'!C114)","v":""},{"$f":"IF('AVI (Desc)'!D114=\"\",\"\",'AVI (Desc)'!D114)","v":""},{"$f":"IF('AVI (Desc)'!E114=\"\",\"\",INDEX([1]ASSET_ID_SOURCE!$A$2:$A$50,MATCH('AVI (Desc)'!E114,[1]!MASTER_ASSET_ID_SOURCE_DESC,0),0))","v":""},{"$f":"IF('AVI (Desc)'!F114=\"\",\"\",'AVI (Desc)'!F114)","v":""},{"$f":"IF('AVI (Desc)'!G114=\"\",\"\",'AVI (Desc)'!G114)","v":""},{"$f":"IF('AVI (Desc)'!H114=\"\",\"\",INDEX([1]OWNER!$A$2:$A$100,MATCH('AVI (Desc)'!$H114,[1]!MASTER_OWNER_DESC[#Data],0),0))","v":""},{"$f":"IF('AVI (Desc)'!I114=\"\",\"\",INDEX([1]COUNTY!$A$2:$A$80,MATCH('AVI (Desc)'!I114,[1]!MASTER_COUNTY_NAME[#Data],0),0))","v":""},{"$f":"IF('AVI (Desc)'!J114=\"\",\"\",'AVI (Desc)'!J114)","v":""},{"$f":"IF('AVI (Desc)'!K114=\"\",\"\",INDEX([1]AVI_SENSOR_TYPE!$A$2:$A$7,MATCH('AVI (Desc)'!K114,[1]!MASTER_AVI_SENSOR_TYPE_DESC,0),0))","v":""}]
[{"$f":"IF('AVI (Desc)'!A115=\"\",\"\",'AVI (Desc)'!A115)","v":""},{"$f":"IF('AVI (Desc)'!B115=\"\",\"\",'AVI (Desc)'!B115)","v":""},{"$f":"IF('AVI (Desc)'!C115=\"\",\"\",'AVI (Desc)'!C115)","v":""},{"$f":"IF('AVI (Desc)'!D115=\"\",\"\",'AVI (Desc)'!D115)","v":""},{"$f":"IF('AVI (Desc)'!E115=\"\",\"\",INDEX([1]ASSET_ID_SOURCE!$A$2:$A$50,MATCH('AVI (Desc)'!E115,[1]!MASTER_ASSET_ID_SOURCE_DESC,0),0))","v":""},{"$f":"IF('AVI (Desc)'!F115=\"\",\"\",'AVI (Desc)'!F115)","v":""},{"$f":"IF('AVI (Desc)'!G115=\"\",\"\",'AVI (Desc)'!G115)","v":""},{"$f":"IF('AVI (Desc)'!H115=\"\",\"\",INDEX([1]OWNER!$A$2:$A$100,MATCH('AVI (Desc)'!$H115,[1]!MASTER_OWNER_DESC[#Data],0),0))","v":""},{"$f":"IF('AVI (Desc)'!I115=\"\",\"\",INDEX([1]COUNTY!$A$2:$A$80,MATCH('AVI (Desc)'!I115,[1]!MASTER_COUNTY_NAME[#Data],0),0))","v":""},{"$f":"IF('AVI (Desc)'!J115=\"\",\"\",'AVI (Desc)'!J115)","v":""},{"$f":"IF('AVI (Desc)'!K115=\"\",\"\",INDEX([1]AVI_SENSOR_TYPE!$A$2:$A$7,MATCH('AVI (Desc)'!K115,[1]!MASTER_AVI_SENSOR_TYPE_DESC,0),0))","v":""}]
[{"$f":"IF('AVI (Desc)'!A116=\"\",\"\",'AVI (Desc)'!A116)","v":""},{"$f":"IF('AVI (Desc)'!B116=\"\",\"\",'AVI (Desc)'!B116)","v":""},{"$f":"IF('AVI (Desc)'!C116=\"\",\"\",'AVI (Desc)'!C116)","v":""},{"$f":"IF('AVI (Desc)'!D116=\"\",\"\",'AVI (Desc)'!D116)","v":""},{"$f":"IF('AVI (Desc)'!E116=\"\",\"\",INDEX([1]ASSET_ID_SOURCE!$A$2:$A$50,MATCH('AVI (Desc)'!E116,[1]!MASTER_ASSET_ID_SOURCE_DESC,0),0))","v":""},{"$f":"IF('AVI (Desc)'!F116=\"\",\"\",'AVI (Desc)'!F116)","v":""},{"$f":"IF('AVI (Desc)'!G116=\"\",\"\",'AVI (Desc)'!G116)","v":""},{"$f":"IF('AVI (Desc)'!H116=\"\",\"\",INDEX([1]OWNER!$A$2:$A$100,MATCH('AVI (Desc)'!$H116,[1]!MASTER_OWNER_DESC[#Data],0),0))","v":""},{"$f":"IF('AVI (Desc)'!I116=\"\",\"\",INDEX([1]COUNTY!$A$2:$A$80,MATCH('AVI (Desc)'!I116,[1]!MASTER_COUNTY_NAME[#Data],0),0))","v":""},{"$f":"IF('AVI (Desc)'!J116=\"\",\"\",'AVI (Desc)'!J116)","v":""},{"$f":"IF('AVI (Desc)'!K116=\"\",\"\",INDEX([1]AVI_SENSOR_TYPE!$A$2:$A$7,MATCH('AVI (Desc)'!K116,[1]!MASTER_AVI_SENSOR_TYPE_DESC,0),0))","v":""}]
[{"$f":"IF('AVI (Desc)'!A117=\"\",\"\",'AVI (Desc)'!A117)","v":""},{"$f":"IF('AVI (Desc)'!B117=\"\",\"\",'AVI (Desc)'!B117)","v":""},{"$f":"IF('AVI (Desc)'!C117=\"\",\"\",'AVI (Desc)'!C117)","v":""},{"$f":"IF('AVI (Desc)'!D117=\"\",\"\",'AVI (Desc)'!D117)","v":""},{"$f":"IF('AVI (Desc)'!E117=\"\",\"\",INDEX([1]ASSET_ID_SOURCE!$A$2:$A$50,MATCH('AVI (Desc)'!E117,[1]!MASTER_ASSET_ID_SOURCE_DESC,0),0))","v":""},{"$f":"IF('AVI (Desc)'!F117=\"\",\"\",'AVI (Desc)'!F117)","v":""},{"$f":"IF('AVI (Desc)'!G117=\"\",\"\",'AVI (Desc)'!G117)","v":""},{"$f":"IF('AVI (Desc)'!H117=\"\",\"\",INDEX([1]OWNER!$A$2:$A$100,MATCH('AVI (Desc)'!$H117,[1]!MASTER_OWNER_DESC[#Data],0),0))","v":""},{"$f":"IF('AVI (Desc)'!I117=\"\",\"\",INDEX([1]COUNTY!$A$2:$A$80,MATCH('AVI (Desc)'!I117,[1]!MASTER_COUNTY_NAME[#Data],0),0))","v":""},{"$f":"IF('AVI (Desc)'!J117=\"\",\"\",'AVI (Desc)'!J117)","v":""},{"$f":"IF('AVI (Desc)'!K117=\"\",\"\",INDEX([1]AVI_SENSOR_TYPE!$A$2:$A$7,MATCH('AVI (Desc)'!K117,[1]!MASTER_AVI_SENSOR_TYPE_DESC,0),0))","v":""}]
[{"$f":"IF('AVI (Desc)'!A118=\"\",\"\",'AVI (Desc)'!A118)","v":""},{"$f":"IF('AVI (Desc)'!B118=\"\",\"\",'AVI (Desc)'!B118)","v":""},{"$f":"IF('AVI (Desc)'!C118=\"\",\"\",'AVI (Desc)'!C118)","v":""},{"$f":"IF('AVI (Desc)'!D118=\"\",\"\",'AVI (Desc)'!D118)","v":""},{"$f":"IF('AVI (Desc)'!E118=\"\",\"\",INDEX([1]ASSET_ID_SOURCE!$A$2:$A$50,MATCH('AVI (Desc)'!E118,[1]!MASTER_ASSET_ID_SOURCE_DESC,0),0))","v":""},{"$f":"IF('AVI (Desc)'!F118=\"\",\"\",'AVI (Desc)'!F118)","v":""},{"$f":"IF('AVI (Desc)'!G118=\"\",\"\",'AVI (Desc)'!G118)","v":""},{"$f":"IF('AVI (Desc)'!H118=\"\",\"\",INDEX([1]OWNER!$A$2:$A$100,MATCH('AVI (Desc)'!$H118,[1]!MASTER_OWNER_DESC[#Data],0),0))","v":""},{"$f":"IF('AVI (Desc)'!I118=\"\",\"\",INDEX([1]COUNTY!$A$2:$A$80,MATCH('AVI (Desc)'!I118,[1]!MASTER_COUNTY_NAME[#Data],0),0))","v":""},{"$f":"IF('AVI (Desc)'!J118=\"\",\"\",'AVI (Desc)'!J118)","v":""},{"$f":"IF('AVI (Desc)'!K118=\"\",\"\",INDEX([1]AVI_SENSOR_TYPE!$A$2:$A$7,MATCH('AVI (Desc)'!K118,[1]!MASTER_AVI_SENSOR_TYPE_DESC,0),0))","v":""}]
[{"$f":"IF('AVI (Desc)'!A119=\"\",\"\",'AVI (Desc)'!A119)","v":""},{"$f":"IF('AVI (Desc)'!B119=\"\",\"\",'AVI (Desc)'!B119)","v":""},{"$f":"IF('AVI (Desc)'!C119=\"\",\"\",'AVI (Desc)'!C119)","v":""},{"$f":"IF('AVI (Desc)'!D119=\"\",\"\",'AVI (Desc)'!D119)","v":""},{"$f":"IF('AVI (Desc)'!E119=\"\",\"\",INDEX([1]ASSET_ID_SOURCE!$A$2:$A$50,MATCH('AVI (Desc)'!E119,[1]!MASTER_ASSET_ID_SOURCE_DESC,0),0))","v":""},{"$f":"IF('AVI (Desc)'!F119=\"\",\"\",'AVI (Desc)'!F119)","v":""},{"$f":"IF('AVI (Desc)'!G119=\"\",\"\",'AVI (Desc)'!G119)","v":""},{"$f":"IF('AVI (Desc)'!H119=\"\",\"\",INDEX([1]OWNER!$A$2:$A$100,MATCH('AVI (Desc)'!$H119,[1]!MASTER_OWNER_DESC[#Data],0),0))","v":""},{"$f":"IF('AVI (Desc)'!I119=\"\",\"\",INDEX([1]COUNTY!$A$2:$A$80,MATCH('AVI (Desc)'!I119,[1]!MASTER_COUNTY_NAME[#Data],0),0))","v":""},{"$f":"IF('AVI (Desc)'!J119=\"\",\"\",'AVI (Desc)'!J119)","v":""},{"$f":"IF('AVI (Desc)'!K119=\"\",\"\",INDEX([1]AVI_SENSOR_TYPE!$A$2:$A$7,MATCH('AVI (Desc)'!K119,[1]!MASTER_AVI_SENSOR_TYPE_DESC,0),0))","v":""}]
[{"$f":"IF('AVI (Desc)'!A120=\"\",\"\",'AVI (Desc)'!A120)","v":""},{"$f":"IF('AVI (Desc)'!B120=\"\",\"\",'AVI (Desc)'!B120)","v":""},{"$f":"IF('AVI (Desc)'!C120=\"\",\"\",'AVI (Desc)'!C120)","v":""},{"$f":"IF('AVI (Desc)'!D120=\"\",\"\",'AVI (Desc)'!D120)","v":""},{"$f":"IF('AVI (Desc)'!E120=\"\",\"\",INDEX([1]ASSET_ID_SOURCE!$A$2:$A$50,MATCH('AVI (Desc)'!E120,[1]!MASTER_ASSET_ID_SOURCE_DESC,0),0))","v":""},{"$f":"IF('AVI (Desc)'!F120=\"\",\"\",'AVI (Desc)'!F120)","v":""},{"$f":"IF('AVI (Desc)'!G120=\"\",\"\",'AVI (Desc)'!G120)","v":""},{"$f":"IF('AVI (Desc)'!H120=\"\",\"\",INDEX([1]OWNER!$A$2:$A$100,MATCH('AVI (Desc)'!$H120,[1]!MASTER_OWNER_DESC[#Data],0),0))","v":""},{"$f":"IF('AVI (Desc)'!I120=\"\",\"\",INDEX([1]COUNTY!$A$2:$A$80,MATCH('AVI (Desc)'!I120,[1]!MASTER_COUNTY_NAME[#Data],0),0))","v":""},{"$f":"IF('AVI (Desc)'!J120=\"\",\"\",'AVI (Desc)'!J120)","v":""},{"$f":"IF('AVI (Desc)'!K120=\"\",\"\",INDEX([1]AVI_SENSOR_TYPE!$A$2:$A$7,MATCH('AVI (Desc)'!K120,[1]!MASTER_AVI_SENSOR_TYPE_DESC,0),0))","v":""}]
[{"$f":"IF('AVI (Desc)'!A121=\"\",\"\",'AVI (Desc)'!A121)","v":""},{"$f":"IF('AVI (Desc)'!B121=\"\",\"\",'AVI (Desc)'!B121)","v":""},{"$f":"IF('AVI (Desc)'!C121=\"\",\"\",'AVI (Desc)'!C121)","v":""},{"$f":"IF('AVI (Desc)'!D121=\"\",\"\",'AVI (Desc)'!D121)","v":""},{"$f":"IF('AVI (Desc)'!E121=\"\",\"\",INDEX([1]ASSET_ID_SOURCE!$A$2:$A$50,MATCH('AVI (Desc)'!E121,[1]!MASTER_ASSET_ID_SOURCE_DESC,0),0))","v":""},{"$f":"IF('AVI (Desc)'!F121=\"\",\"\",'AVI (Desc)'!F121)","v":""},{"$f":"IF('AVI (Desc)'!G121=\"\",\"\",'AVI (Desc)'!G121)","v":""},{"$f":"IF('AVI (Desc)'!H121=\"\",\"\",INDEX([1]OWNER!$A$2:$A$100,MATCH('AVI (Desc)'!$H121,[1]!MASTER_OWNER_DESC[#Data],0),0))","v":""},{"$f":"IF('AVI (Desc)'!I121=\"\",\"\",INDEX([1]COUNTY!$A$2:$A$80,MATCH('AVI (Desc)'!I121,[1]!MASTER_COUNTY_NAME[#Data],0),0))","v":""},{"$f":"IF('AVI (Desc)'!J121=\"\",\"\",'AVI (Desc)'!J121)","v":""},{"$f":"IF('AVI (Desc)'!K121=\"\",\"\",INDEX([1]AVI_SENSOR_TYPE!$A$2:$A$7,MATCH('AVI (Desc)'!K121,[1]!MASTER_AVI_SENSOR_TYPE_DESC,0),0))","v":""}]
[{"$f":"IF('AVI (Desc)'!A122=\"\",\"\",'AVI (Desc)'!A122)","v":""},{"$f":"IF('AVI (Desc)'!B122=\"\",\"\",'AVI (Desc)'!B122)","v":""},{"$f":"IF('AVI (Desc)'!C122=\"\",\"\",'AVI (Desc)'!C122)","v":""},{"$f":"IF('AVI (Desc)'!D122=\"\",\"\",'AVI (Desc)'!D122)","v":""},{"$f":"IF('AVI (Desc)'!E122=\"\",\"\",INDEX([1]ASSET_ID_SOURCE!$A$2:$A$50,MATCH('AVI (Desc)'!E122,[1]!MASTER_ASSET_ID_SOURCE_DESC,0),0))","v":""},{"$f":"IF('AVI (Desc)'!F122=\"\",\"\",'AVI (Desc)'!F122)","v":""},{"$f":"IF('AVI (Desc)'!G122=\"\",\"\",'AVI (Desc)'!G122)","v":""},{"$f":"IF('AVI (Desc)'!H122=\"\",\"\",INDEX([1]OWNER!$A$2:$A$100,MATCH('AVI (Desc)'!$H122,[1]!MASTER_OWNER_DESC[#Data],0),0))","v":""},{"$f":"IF('AVI (Desc)'!I122=\"\",\"\",INDEX([1]COUNTY!$A$2:$A$80,MATCH('AVI (Desc)'!I122,[1]!MASTER_COUNTY_NAME[#Data],0),0))","v":""},{"$f":"IF('AVI (Desc)'!J122=\"\",\"\",'AVI (Desc)'!J122)","v":""},{"$f":"IF('AVI (Desc)'!K122=\"\",\"\",INDEX([1]AVI_SENSOR_TYPE!$A$2:$A$7,MATCH('AVI (Desc)'!K122,[1]!MASTER_AVI_SENSOR_TYPE_DESC,0),0))","v":""}]
[{"$f":"IF('AVI (Desc)'!A123=\"\",\"\",'AVI (Desc)'!A123)","v":""},{"$f":"IF('AVI (Desc)'!B123=\"\",\"\",'AVI (Desc)'!B123)","v":""},{"$f":"IF('AVI (Desc)'!C123=\"\",\"\",'AVI (Desc)'!C123)","v":""},{"$f":"IF('AVI (Desc)'!D123=\"\",\"\",'AVI (Desc)'!D123)","v":""},{"$f":"IF('AVI (Desc)'!E123=\"\",\"\",INDEX([1]ASSET_ID_SOURCE!$A$2:$A$50,MATCH('AVI (Desc)'!E123,[1]!MASTER_ASSET_ID_SOURCE_DESC,0),0))","v":""},{"$f":"IF('AVI (Desc)'!F123=\"\",\"\",'AVI (Desc)'!F123)","v":""},{"$f":"IF('AVI (Desc)'!G123=\"\",\"\",'AVI (Desc)'!G123)","v":""},{"$f":"IF('AVI (Desc)'!H123=\"\",\"\",INDEX([1]OWNER!$A$2:$A$100,MATCH('AVI (Desc)'!$H123,[1]!MASTER_OWNER_DESC[#Data],0),0))","v":""},{"$f":"IF('AVI (Desc)'!I123=\"\",\"\",INDEX([1]COUNTY!$A$2:$A$80,MATCH('AVI (Desc)'!I123,[1]!MASTER_COUNTY_NAME[#Data],0),0))","v":""},{"$f":"IF('AVI (Desc)'!J123=\"\",\"\",'AVI (Desc)'!J123)","v":""},{"$f":"IF('AVI (Desc)'!K123=\"\",\"\",INDEX([1]AVI_SENSOR_TYPE!$A$2:$A$7,MATCH('AVI (Desc)'!K123,[1]!MASTER_AVI_SENSOR_TYPE_DESC,0),0))","v":""}]
[{"$f":"IF('AVI (Desc)'!A124=\"\",\"\",'AVI (Desc)'!A124)","v":""},{"$f":"IF('AVI (Desc)'!B124=\"\",\"\",'AVI (Desc)'!B124)","v":""},{"$f":"IF('AVI (Desc)'!C124=\"\",\"\",'AVI (Desc)'!C124)","v":""},{"$f":"IF('AVI (Desc)'!D124=\"\",\"\",'AVI (Desc)'!D124)","v":""},{"$f":"IF('AVI (Desc)'!E124=\"\",\"\",INDEX([1]ASSET_ID_SOURCE!$A$2:$A$50,MATCH('AVI (Desc)'!E124,[1]!MASTER_ASSET_ID_SOURCE_DESC,0),0))","v":""},{"$f":"IF('AVI (Desc)'!F124=\"\",\"\",'AVI (Desc)'!F124)","v":""},{"$f":"IF('AVI (Desc)'!G124=\"\",\"\",'AVI (Desc)'!G124)","v":""},{"$f":"IF('AVI (Desc)'!H124=\"\",\"\",INDEX([1]OWNER!$A$2:$A$100,MATCH('AVI (Desc)'!$H124,[1]!MASTER_OWNER_DESC[#Data],0),0))","v":""},{"$f":"IF('AVI (Desc)'!I124=\"\",\"\",INDEX([1]COUNTY!$A$2:$A$80,MATCH('AVI (Desc)'!I124,[1]!MASTER_COUNTY_NAME[#Data],0),0))","v":""},{"$f":"IF('AVI (Desc)'!J124=\"\",\"\",'AVI (Desc)'!J124)","v":""},{"$f":"IF('AVI (Desc)'!K124=\"\",\"\",INDEX([1]AVI_SENSOR_TYPE!$A$2:$A$7,MATCH('AVI (Desc)'!K124,[1]!MASTER_AVI_SENSOR_TYPE_DESC,0),0))","v":""}]
[{"$f":"IF('AVI (Desc)'!A125=\"\",\"\",'AVI (Desc)'!A125)","v":""},{"$f":"IF('AVI (Desc)'!B125=\"\",\"\",'AVI (Desc)'!B125)","v":""},{"$f":"IF('AVI (Desc)'!C125=\"\",\"\",'AVI (Desc)'!C125)","v":""},{"$f":"IF('AVI (Desc)'!D125=\"\",\"\",'AVI (Desc)'!D125)","v":""},{"$f":"IF('AVI (Desc)'!E125=\"\",\"\",INDEX([1]ASSET_ID_SOURCE!$A$2:$A$50,MATCH('AVI (Desc)'!E125,[1]!MASTER_ASSET_ID_SOURCE_DESC,0),0))","v":""},{"$f":"IF('AVI (Desc)'!F125=\"\",\"\",'AVI (Desc)'!F125)","v":""},{"$f":"IF('AVI (Desc)'!G125=\"\",\"\",'AVI (Desc)'!G125)","v":""},{"$f":"IF('AVI (Desc)'!H125=\"\",\"\",INDEX([1]OWNER!$A$2:$A$100,MATCH('AVI (Desc)'!$H125,[1]!MASTER_OWNER_DESC[#Data],0),0))","v":""},{"$f":"IF('AVI (Desc)'!I125=\"\",\"\",INDEX([1]COUNTY!$A$2:$A$80,MATCH('AVI (Desc)'!I125,[1]!MASTER_COUNTY_NAME[#Data],0),0))","v":""},{"$f":"IF('AVI (Desc)'!J125=\"\",\"\",'AVI (Desc)'!J125)","v":""},{"$f":"IF('AVI (Desc)'!K125=\"\",\"\",INDEX([1]AVI_SENSOR_TYPE!$A$2:$A$7,MATCH('AVI (Desc)'!K125,[1]!MASTER_AVI_SENSOR_TYPE_DESC,0),0))","v":""}]
[{"$f":"IF('AVI (Desc)'!A126=\"\",\"\",'AVI (Desc)'!A126)","v":""},{"$f":"IF('AVI (Desc)'!B126=\"\",\"\",'AVI (Desc)'!B126)","v":""},{"$f":"IF('AVI (Desc)'!C126=\"\",\"\",'AVI (Desc)'!C126)","v":""},{"$f":"IF('AVI (Desc)'!D126=\"\",\"\",'AVI (Desc)'!D126)","v":""},{"$f":"IF('AVI (Desc)'!E126=\"\",\"\",INDEX([1]ASSET_ID_SOURCE!$A$2:$A$50,MATCH('AVI (Desc)'!E126,[1]!MASTER_ASSET_ID_SOURCE_DESC,0),0))","v":""},{"$f":"IF('AVI (Desc)'!F126=\"\",\"\",'AVI (Desc)'!F126)","v":""},{"$f":"IF('AVI (Desc)'!G126=\"\",\"\",'AVI (Desc)'!G126)","v":""},{"$f":"IF('AVI (Desc)'!H126=\"\",\"\",INDEX([1]OWNER!$A$2:$A$100,MATCH('AVI (Desc)'!$H126,[1]!MASTER_OWNER_DESC[#Data],0),0))","v":""},{"$f":"IF('AVI (Desc)'!I126=\"\",\"\",INDEX([1]COUNTY!$A$2:$A$80,MATCH('AVI (Desc)'!I126,[1]!MASTER_COUNTY_NAME[#Data],0),0))","v":""},{"$f":"IF('AVI (Desc)'!J126=\"\",\"\",'AVI (Desc)'!J126)","v":""},{"$f":"IF('AVI (Desc)'!K126=\"\",\"\",INDEX([1]AVI_SENSOR_TYPE!$A$2:$A$7,MATCH('AVI (Desc)'!K126,[1]!MASTER_AVI_SENSOR_TYPE_DESC,0),0))","v":""}]
[{"$f":"IF('AVI (Desc)'!A127=\"\",\"\",'AVI (Desc)'!A127)","v":""},{"$f":"IF('AVI (Desc)'!B127=\"\",\"\",'AVI (Desc)'!B127)","v":""},{"$f":"IF('AVI (Desc)'!C127=\"\",\"\",'AVI (Desc)'!C127)","v":""},{"$f":"IF('AVI (Desc)'!D127=\"\",\"\",'AVI (Desc)'!D127)","v":""},{"$f":"IF('AVI (Desc)'!E127=\"\",\"\",INDEX([1]ASSET_ID_SOURCE!$A$2:$A$50,MATCH('AVI (Desc)'!E127,[1]!MASTER_ASSET_ID_SOURCE_DESC,0),0))","v":""},{"$f":"IF('AVI (Desc)'!F127=\"\",\"\",'AVI (Desc)'!F127)","v":""},{"$f":"IF('AVI (Desc)'!G127=\"\",\"\",'AVI (Desc)'!G127)","v":""},{"$f":"IF('AVI (Desc)'!H127=\"\",\"\",INDEX([1]OWNER!$A$2:$A$100,MATCH('AVI (Desc)'!$H127,[1]!MASTER_OWNER_DESC[#Data],0),0))","v":""},{"$f":"IF('AVI (Desc)'!I127=\"\",\"\",INDEX([1]COUNTY!$A$2:$A$80,MATCH('AVI (Desc)'!I127,[1]!MASTER_COUNTY_NAME[#Data],0),0))","v":""},{"$f":"IF('AVI (Desc)'!J127=\"\",\"\",'AVI (Desc)'!J127)","v":""},{"$f":"IF('AVI (Desc)'!K127=\"\",\"\",INDEX([1]AVI_SENSOR_TYPE!$A$2:$A$7,MATCH('AVI (Desc)'!K127,[1]!MASTER_AVI_SENSOR_TYPE_DESC,0),0))","v":""}]
[{"$f":"IF('AVI (Desc)'!A128=\"\",\"\",'AVI (Desc)'!A128)","v":""},{"$f":"IF('AVI (Desc)'!B128=\"\",\"\",'AVI (Desc)'!B128)","v":""},{"$f":"IF('AVI (Desc)'!C128=\"\",\"\",'AVI (Desc)'!C128)","v":""},{"$f":"IF('AVI (Desc)'!D128=\"\",\"\",'AVI (Desc)'!D128)","v":""},{"$f":"IF('AVI (Desc)'!E128=\"\",\"\",INDEX([1]ASSET_ID_SOURCE!$A$2:$A$50,MATCH('AVI (Desc)'!E128,[1]!MASTER_ASSET_ID_SOURCE_DESC,0),0))","v":""},{"$f":"IF('AVI (Desc)'!F128=\"\",\"\",'AVI (Desc)'!F128)","v":""},{"$f":"IF('AVI (Desc)'!G128=\"\",\"\",'AVI (Desc)'!G128)","v":""},{"$f":"IF('AVI (Desc)'!H128=\"\",\"\",INDEX([1]OWNER!$A$2:$A$100,MATCH('AVI (Desc)'!$H128,[1]!MASTER_OWNER_DESC[#Data],0),0))","v":""},{"$f":"IF('AVI (Desc)'!I128=\"\",\"\",INDEX([1]COUNTY!$A$2:$A$80,MATCH('AVI (Desc)'!I128,[1]!MASTER_COUNTY_NAME[#Data],0),0))","v":""},{"$f":"IF('AVI (Desc)'!J128=\"\",\"\",'AVI (Desc)'!J128)","v":""},{"$f":"IF('AVI (Desc)'!K128=\"\",\"\",INDEX([1]AVI_SENSOR_TYPE!$A$2:$A$7,MATCH('AVI (Desc)'!K128,[1]!MASTER_AVI_SENSOR_TYPE_DESC,0),0))","v":""}]
[{"$f":"IF('AVI (Desc)'!A129=\"\",\"\",'AVI (Desc)'!A129)","v":""},{"$f":"IF('AVI (Desc)'!B129=\"\",\"\",'AVI (Desc)'!B129)","v":""},{"$f":"IF('AVI (Desc)'!C129=\"\",\"\",'AVI (Desc)'!C129)","v":""},{"$f":"IF('AVI (Desc)'!D129=\"\",\"\",'AVI (Desc)'!D129)","v":""},{"$f":"IF('AVI (Desc)'!E129=\"\",\"\",INDEX([1]ASSET_ID_SOURCE!$A$2:$A$50,MATCH('AVI (Desc)'!E129,[1]!MASTER_ASSET_ID_SOURCE_DESC,0),0))","v":""},{"$f":"IF('AVI (Desc)'!F129=\"\",\"\",'AVI (Desc)'!F129)","v":""},{"$f":"IF('AVI (Desc)'!G129=\"\",\"\",'AVI (Desc)'!G129)","v":""},{"$f":"IF('AVI (Desc)'!H129=\"\",\"\",INDEX([1]OWNER!$A$2:$A$100,MATCH('AVI (Desc)'!$H129,[1]!MASTER_OWNER_DESC[#Data],0),0))","v":""},{"$f":"IF('AVI (Desc)'!I129=\"\",\"\",INDEX([1]COUNTY!$A$2:$A$80,MATCH('AVI (Desc)'!I129,[1]!MASTER_COUNTY_NAME[#Data],0),0))","v":""},{"$f":"IF('AVI (Desc)'!J129=\"\",\"\",'AVI (Desc)'!J129)","v":""},{"$f":"IF('AVI (Desc)'!K129=\"\",\"\",INDEX([1]AVI_SENSOR_TYPE!$A$2:$A$7,MATCH('AVI (Desc)'!K129,[1]!MASTER_AVI_SENSOR_TYPE_DESC,0),0))","v":""}]
[{"$f":"IF('AVI (Desc)'!A130=\"\",\"\",'AVI (Desc)'!A130)","v":""},{"$f":"IF('AVI (Desc)'!B130=\"\",\"\",'AVI (Desc)'!B130)","v":""},{"$f":"IF('AVI (Desc)'!C130=\"\",\"\",'AVI (Desc)'!C130)","v":""},{"$f":"IF('AVI (Desc)'!D130=\"\",\"\",'AVI (Desc)'!D130)","v":""},{"$f":"IF('AVI (Desc)'!E130=\"\",\"\",INDEX([1]ASSET_ID_SOURCE!$A$2:$A$50,MATCH('AVI (Desc)'!E130,[1]!MASTER_ASSET_ID_SOURCE_DESC,0),0))","v":""},{"$f":"IF('AVI (Desc)'!F130=\"\",\"\",'AVI (Desc)'!F130)","v":""},{"$f":"IF('AVI (Desc)'!G130=\"\",\"\",'AVI (Desc)'!G130)","v":""},{"$f":"IF('AVI (Desc)'!H130=\"\",\"\",INDEX([1]OWNER!$A$2:$A$100,MATCH('AVI (Desc)'!$H130,[1]!MASTER_OWNER_DESC[#Data],0),0))","v":""},{"$f":"IF('AVI (Desc)'!I130=\"\",\"\",INDEX([1]COUNTY!$A$2:$A$80,MATCH('AVI (Desc)'!I130,[1]!MASTER_COUNTY_NAME[#Data],0),0))","v":""},{"$f":"IF('AVI (Desc)'!J130=\"\",\"\",'AVI (Desc)'!J130)","v":""},{"$f":"IF('AVI (Desc)'!K130=\"\",\"\",INDEX([1]AVI_SENSOR_TYPE!$A$2:$A$7,MATCH('AVI (Desc)'!K130,[1]!MASTER_AVI_SENSOR_TYPE_DESC,0),0))","v":""}]
[{"$f":"IF('AVI (Desc)'!A131=\"\",\"\",'AVI (Desc)'!A131)","v":""},{"$f":"IF('AVI (Desc)'!B131=\"\",\"\",'AVI (Desc)'!B131)","v":""},{"$f":"IF('AVI (Desc)'!C131=\"\",\"\",'AVI (Desc)'!C131)","v":""},{"$f":"IF('AVI (Desc)'!D131=\"\",\"\",'AVI (Desc)'!D131)","v":""},{"$f":"IF('AVI (Desc)'!E131=\"\",\"\",INDEX([1]ASSET_ID_SOURCE!$A$2:$A$50,MATCH('AVI (Desc)'!E131,[1]!MASTER_ASSET_ID_SOURCE_DESC,0),0))","v":""},{"$f":"IF('AVI (Desc)'!F131=\"\",\"\",'AVI (Desc)'!F131)","v":""},{"$f":"IF('AVI (Desc)'!G131=\"\",\"\",'AVI (Desc)'!G131)","v":""},{"$f":"IF('AVI (Desc)'!H131=\"\",\"\",INDEX([1]OWNER!$A$2:$A$100,MATCH('AVI (Desc)'!$H131,[1]!MASTER_OWNER_DESC[#Data],0),0))","v":""},{"$f":"IF('AVI (Desc)'!I131=\"\",\"\",INDEX([1]COUNTY!$A$2:$A$80,MATCH('AVI (Desc)'!I131,[1]!MASTER_COUNTY_NAME[#Data],0),0))","v":""},{"$f":"IF('AVI (Desc)'!J131=\"\",\"\",'AVI (Desc)'!J131)","v":""},{"$f":"IF('AVI (Desc)'!K131=\"\",\"\",INDEX([1]AVI_SENSOR_TYPE!$A$2:$A$7,MATCH('AVI (Desc)'!K131,[1]!MASTER_AVI_SENSOR_TYPE_DESC,0),0))","v":""}]
[{"$f":"IF('AVI (Desc)'!A132=\"\",\"\",'AVI (Desc)'!A132)","v":""},{"$f":"IF('AVI (Desc)'!B132=\"\",\"\",'AVI (Desc)'!B132)","v":""},{"$f":"IF('AVI (Desc)'!C132=\"\",\"\",'AVI (Desc)'!C132)","v":""},{"$f":"IF('AVI (Desc)'!D132=\"\",\"\",'AVI (Desc)'!D132)","v":""},{"$f":"IF('AVI (Desc)'!E132=\"\",\"\",INDEX([1]ASSET_ID_SOURCE!$A$2:$A$50,MATCH('AVI (Desc)'!E132,[1]!MASTER_ASSET_ID_SOURCE_DESC,0),0))","v":""},{"$f":"IF('AVI (Desc)'!F132=\"\",\"\",'AVI (Desc)'!F132)","v":""},{"$f":"IF('AVI (Desc)'!G132=\"\",\"\",'AVI (Desc)'!G132)","v":""},{"$f":"IF('AVI (Desc)'!H132=\"\",\"\",INDEX([1]OWNER!$A$2:$A$100,MATCH('AVI (Desc)'!$H132,[1]!MASTER_OWNER_DESC[#Data],0),0))","v":""},{"$f":"IF('AVI (Desc)'!I132=\"\",\"\",INDEX([1]COUNTY!$A$2:$A$80,MATCH('AVI (Desc)'!I132,[1]!MASTER_COUNTY_NAME[#Data],0),0))","v":""},{"$f":"IF('AVI (Desc)'!J132=\"\",\"\",'AVI (Desc)'!J132)","v":""},{"$f":"IF('AVI (Desc)'!K132=\"\",\"\",INDEX([1]AVI_SENSOR_TYPE!$A$2:$A$7,MATCH('AVI (Desc)'!K132,[1]!MASTER_AVI_SENSOR_TYPE_DESC,0),0))","v":""}]
[{"$f":"IF('AVI (Desc)'!A133=\"\",\"\",'AVI (Desc)'!A133)","v":""},{"$f":"IF('AVI (Desc)'!B133=\"\",\"\",'AVI (Desc)'!B133)","v":""},{"$f":"IF('AVI (Desc)'!C133=\"\",\"\",'AVI (Desc)'!C133)","v":""},{"$f":"IF('AVI (Desc)'!D133=\"\",\"\",'AVI (Desc)'!D133)","v":""},{"$f":"IF('AVI (Desc)'!E133=\"\",\"\",INDEX([1]ASSET_ID_SOURCE!$A$2:$A$50,MATCH('AVI (Desc)'!E133,[1]!MASTER_ASSET_ID_SOURCE_DESC,0),0))","v":""},{"$f":"IF('AVI (Desc)'!F133=\"\",\"\",'AVI (Desc)'!F133)","v":""},{"$f":"IF('AVI (Desc)'!G133=\"\",\"\",'AVI (Desc)'!G133)","v":""},{"$f":"IF('AVI (Desc)'!H133=\"\",\"\",INDEX([1]OWNER!$A$2:$A$100,MATCH('AVI (Desc)'!$H133,[1]!MASTER_OWNER_DESC[#Data],0),0))","v":""},{"$f":"IF('AVI (Desc)'!I133=\"\",\"\",INDEX([1]COUNTY!$A$2:$A$80,MATCH('AVI (Desc)'!I133,[1]!MASTER_COUNTY_NAME[#Data],0),0))","v":""},{"$f":"IF('AVI (Desc)'!J133=\"\",\"\",'AVI (Desc)'!J133)","v":""},{"$f":"IF('AVI (Desc)'!K133=\"\",\"\",INDEX([1]AVI_SENSOR_TYPE!$A$2:$A$7,MATCH('AVI (Desc)'!K133,[1]!MASTER_AVI_SENSOR_TYPE_DESC,0),0))","v":""}]
[{"$f":"IF('AVI (Desc)'!A134=\"\",\"\",'AVI (Desc)'!A134)","v":""},{"$f":"IF('AVI (Desc)'!B134=\"\",\"\",'AVI (Desc)'!B134)","v":""},{"$f":"IF('AVI (Desc)'!C134=\"\",\"\",'AVI (Desc)'!C134)","v":""},{"$f":"IF('AVI (Desc)'!D134=\"\",\"\",'AVI (Desc)'!D134)","v":""},{"$f":"IF('AVI (Desc)'!E134=\"\",\"\",INDEX([1]ASSET_ID_SOURCE!$A$2:$A$50,MATCH('AVI (Desc)'!E134,[1]!MASTER_ASSET_ID_SOURCE_DESC,0),0))","v":""},{"$f":"IF('AVI (Desc)'!F134=\"\",\"\",'AVI (Desc)'!F134)","v":""},{"$f":"IF('AVI (Desc)'!G134=\"\",\"\",'AVI (Desc)'!G134)","v":""},{"$f":"IF('AVI (Desc)'!H134=\"\",\"\",INDEX([1]OWNER!$A$2:$A$100,MATCH('AVI (Desc)'!$H134,[1]!MASTER_OWNER_DESC[#Data],0),0))","v":""},{"$f":"IF('AVI (Desc)'!I134=\"\",\"\",INDEX([1]COUNTY!$A$2:$A$80,MATCH('AVI (Desc)'!I134,[1]!MASTER_COUNTY_NAME[#Data],0),0))","v":""},{"$f":"IF('AVI (Desc)'!J134=\"\",\"\",'AVI (Desc)'!J134)","v":""},{"$f":"IF('AVI (Desc)'!K134=\"\",\"\",INDEX([1]AVI_SENSOR_TYPE!$A$2:$A$7,MATCH('AVI (Desc)'!K134,[1]!MASTER_AVI_SENSOR_TYPE_DESC,0),0))","v":""}]
[{"$f":"IF('AVI (Desc)'!A135=\"\",\"\",'AVI (Desc)'!A135)","v":""},{"$f":"IF('AVI (Desc)'!B135=\"\",\"\",'AVI (Desc)'!B135)","v":""},{"$f":"IF('AVI (Desc)'!C135=\"\",\"\",'AVI (Desc)'!C135)","v":""},{"$f":"IF('AVI (Desc)'!D135=\"\",\"\",'AVI (Desc)'!D135)","v":""},{"$f":"IF('AVI (Desc)'!E135=\"\",\"\",INDEX([1]ASSET_ID_SOURCE!$A$2:$A$50,MATCH('AVI (Desc)'!E135,[1]!MASTER_ASSET_ID_SOURCE_DESC,0),0))","v":""},{"$f":"IF('AVI (Desc)'!F135=\"\",\"\",'AVI (Desc)'!F135)","v":""},{"$f":"IF('AVI (Desc)'!G135=\"\",\"\",'AVI (Desc)'!G135)","v":""},{"$f":"IF('AVI (Desc)'!H135=\"\",\"\",INDEX([1]OWNER!$A$2:$A$100,MATCH('AVI (Desc)'!$H135,[1]!MASTER_OWNER_DESC[#Data],0),0))","v":""},{"$f":"IF('AVI (Desc)'!I135=\"\",\"\",INDEX([1]COUNTY!$A$2:$A$80,MATCH('AVI (Desc)'!I135,[1]!MASTER_COUNTY_NAME[#Data],0),0))","v":""},{"$f":"IF('AVI (Desc)'!J135=\"\",\"\",'AVI (Desc)'!J135)","v":""},{"$f":"IF('AVI (Desc)'!K135=\"\",\"\",INDEX([1]AVI_SENSOR_TYPE!$A$2:$A$7,MATCH('AVI (Desc)'!K135,[1]!MASTER_AVI_SENSOR_TYPE_DESC,0),0))","v":""}]
[{"$f":"IF('AVI (Desc)'!A136=\"\",\"\",'AVI (Desc)'!A136)","v":""},{"$f":"IF('AVI (Desc)'!B136=\"\",\"\",'AVI (Desc)'!B136)","v":""},{"$f":"IF('AVI (Desc)'!C136=\"\",\"\",'AVI (Desc)'!C136)","v":""},{"$f":"IF('AVI (Desc)'!D136=\"\",\"\",'AVI (Desc)'!D136)","v":""},{"$f":"IF('AVI (Desc)'!E136=\"\",\"\",INDEX([1]ASSET_ID_SOURCE!$A$2:$A$50,MATCH('AVI (Desc)'!E136,[1]!MASTER_ASSET_ID_SOURCE_DESC,0),0))","v":""},{"$f":"IF('AVI (Desc)'!F136=\"\",\"\",'AVI (Desc)'!F136)","v":""},{"$f":"IF('AVI (Desc)'!G136=\"\",\"\",'AVI (Desc)'!G136)","v":""},{"$f":"IF('AVI (Desc)'!H136=\"\",\"\",INDEX([1]OWNER!$A$2:$A$100,MATCH('AVI (Desc)'!$H136,[1]!MASTER_OWNER_DESC[#Data],0),0))","v":""},{"$f":"IF('AVI (Desc)'!I136=\"\",\"\",INDEX([1]COUNTY!$A$2:$A$80,MATCH('AVI (Desc)'!I136,[1]!MASTER_COUNTY_NAME[#Data],0),0))","v":""},{"$f":"IF('AVI (Desc)'!J136=\"\",\"\",'AVI (Desc)'!J136)","v":""},{"$f":"IF('AVI (Desc)'!K136=\"\",\"\",INDEX([1]AVI_SENSOR_TYPE!$A$2:$A$7,MATCH('AVI (Desc)'!K136,[1]!MASTER_AVI_SENSOR_TYPE_DESC,0),0))","v":""}]
[{"$f":"IF('AVI (Desc)'!A137=\"\",\"\",'AVI (Desc)'!A137)","v":""},{"$f":"IF('AVI (Desc)'!B137=\"\",\"\",'AVI (Desc)'!B137)","v":""},{"$f":"IF('AVI (Desc)'!C137=\"\",\"\",'AVI (Desc)'!C137)","v":""},{"$f":"IF('AVI (Desc)'!D137=\"\",\"\",'AVI (Desc)'!D137)","v":""},{"$f":"IF('AVI (Desc)'!E137=\"\",\"\",INDEX([1]ASSET_ID_SOURCE!$A$2:$A$50,MATCH('AVI (Desc)'!E137,[1]!MASTER_ASSET_ID_SOURCE_DESC,0),0))","v":""},{"$f":"IF('AVI (Desc)'!F137=\"\",\"\",'AVI (Desc)'!F137)","v":""},{"$f":"IF('AVI (Desc)'!G137=\"\",\"\",'AVI (Desc)'!G137)","v":""},{"$f":"IF('AVI (Desc)'!H137=\"\",\"\",INDEX([1]OWNER!$A$2:$A$100,MATCH('AVI (Desc)'!$H137,[1]!MASTER_OWNER_DESC[#Data],0),0))","v":""},{"$f":"IF('AVI (Desc)'!I137=\"\",\"\",INDEX([1]COUNTY!$A$2:$A$80,MATCH('AVI (Desc)'!I137,[1]!MASTER_COUNTY_NAME[#Data],0),0))","v":""},{"$f":"IF('AVI (Desc)'!J137=\"\",\"\",'AVI (Desc)'!J137)","v":""},{"$f":"IF('AVI (Desc)'!K137=\"\",\"\",INDEX([1]AVI_SENSOR_TYPE!$A$2:$A$7,MATCH('AVI (Desc)'!K137,[1]!MASTER_AVI_SENSOR_TYPE_DESC,0),0))","v":""}]
[{"$f":"IF('AVI (Desc)'!A138=\"\",\"\",'AVI (Desc)'!A138)","v":""},{"$f":"IF('AVI (Desc)'!B138=\"\",\"\",'AVI (Desc)'!B138)","v":""},{"$f":"IF('AVI (Desc)'!C138=\"\",\"\",'AVI (Desc)'!C138)","v":""},{"$f":"IF('AVI (Desc)'!D138=\"\",\"\",'AVI (Desc)'!D138)","v":""},{"$f":"IF('AVI (Desc)'!E138=\"\",\"\",INDEX([1]ASSET_ID_SOURCE!$A$2:$A$50,MATCH('AVI (Desc)'!E138,[1]!MASTER_ASSET_ID_SOURCE_DESC,0),0))","v":""},{"$f":"IF('AVI (Desc)'!F138=\"\",\"\",'AVI (Desc)'!F138)","v":""},{"$f":"IF('AVI (Desc)'!G138=\"\",\"\",'AVI (Desc)'!G138)","v":""},{"$f":"IF('AVI (Desc)'!H138=\"\",\"\",INDEX([1]OWNER!$A$2:$A$100,MATCH('AVI (Desc)'!$H138,[1]!MASTER_OWNER_DESC[#Data],0),0))","v":""},{"$f":"IF('AVI (Desc)'!I138=\"\",\"\",INDEX([1]COUNTY!$A$2:$A$80,MATCH('AVI (Desc)'!I138,[1]!MASTER_COUNTY_NAME[#Data],0),0))","v":""},{"$f":"IF('AVI (Desc)'!J138=\"\",\"\",'AVI (Desc)'!J138)","v":""},{"$f":"IF('AVI (Desc)'!K138=\"\",\"\",INDEX([1]AVI_SENSOR_TYPE!$A$2:$A$7,MATCH('AVI (Desc)'!K138,[1]!MASTER_AVI_SENSOR_TYPE_DESC,0),0))","v":""}]
[{"$f":"IF('AVI (Desc)'!A139=\"\",\"\",'AVI (Desc)'!A139)","v":""},{"$f":"IF('AVI (Desc)'!B139=\"\",\"\",'AVI (Desc)'!B139)","v":""},{"$f":"IF('AVI (Desc)'!C139=\"\",\"\",'AVI (Desc)'!C139)","v":""},{"$f":"IF('AVI (Desc)'!D139=\"\",\"\",'AVI (Desc)'!D139)","v":""},{"$f":"IF('AVI (Desc)'!E139=\"\",\"\",INDEX([1]ASSET_ID_SOURCE!$A$2:$A$50,MATCH('AVI (Desc)'!E139,[1]!MASTER_ASSET_ID_SOURCE_DESC,0),0))","v":""},{"$f":"IF('AVI (Desc)'!F139=\"\",\"\",'AVI (Desc)'!F139)","v":""},{"$f":"IF('AVI (Desc)'!G139=\"\",\"\",'AVI (Desc)'!G139)","v":""},{"$f":"IF('AVI (Desc)'!H139=\"\",\"\",INDEX([1]OWNER!$A$2:$A$100,MATCH('AVI (Desc)'!$H139,[1]!MASTER_OWNER_DESC[#Data],0),0))","v":""},{"$f":"IF('AVI (Desc)'!I139=\"\",\"\",INDEX([1]COUNTY!$A$2:$A$80,MATCH('AVI (Desc)'!I139,[1]!MASTER_COUNTY_NAME[#Data],0),0))","v":""},{"$f":"IF('AVI (Desc)'!J139=\"\",\"\",'AVI (Desc)'!J139)","v":""},{"$f":"IF('AVI (Desc)'!K139=\"\",\"\",INDEX([1]AVI_SENSOR_TYPE!$A$2:$A$7,MATCH('AVI (Desc)'!K139,[1]!MASTER_AVI_SENSOR_TYPE_DESC,0),0))","v":""}]
[{"$f":"IF('AVI (Desc)'!A140=\"\",\"\",'AVI (Desc)'!A140)","v":""},{"$f":"IF('AVI (Desc)'!B140=\"\",\"\",'AVI (Desc)'!B140)","v":""},{"$f":"IF('AVI (Desc)'!C140=\"\",\"\",'AVI (Desc)'!C140)","v":""},{"$f":"IF('AVI (Desc)'!D140=\"\",\"\",'AVI (Desc)'!D140)","v":""},{"$f":"IF('AVI (Desc)'!E140=\"\",\"\",INDEX([1]ASSET_ID_SOURCE!$A$2:$A$50,MATCH('AVI (Desc)'!E140,[1]!MASTER_ASSET_ID_SOURCE_DESC,0),0))","v":""},{"$f":"IF('AVI (Desc)'!F140=\"\",\"\",'AVI (Desc)'!F140)","v":""},{"$f":"IF('AVI (Desc)'!G140=\"\",\"\",'AVI (Desc)'!G140)","v":""},{"$f":"IF('AVI (Desc)'!H140=\"\",\"\",INDEX([1]OWNER!$A$2:$A$100,MATCH('AVI (Desc)'!$H140,[1]!MASTER_OWNER_DESC[#Data],0),0))","v":""},{"$f":"IF('AVI (Desc)'!I140=\"\",\"\",INDEX([1]COUNTY!$A$2:$A$80,MATCH('AVI (Desc)'!I140,[1]!MASTER_COUNTY_NAME[#Data],0),0))","v":""},{"$f":"IF('AVI (Desc)'!J140=\"\",\"\",'AVI (Desc)'!J140)","v":""},{"$f":"IF('AVI (Desc)'!K140=\"\",\"\",INDEX([1]AVI_SENSOR_TYPE!$A$2:$A$7,MATCH('AVI (Desc)'!K140,[1]!MASTER_AVI_SENSOR_TYPE_DESC,0),0))","v":""}]
[{"$f":"IF('AVI (Desc)'!A141=\"\",\"\",'AVI (Desc)'!A141)","v":""},{"$f":"IF('AVI (Desc)'!B141=\"\",\"\",'AVI (Desc)'!B141)","v":""},{"$f":"IF('AVI (Desc)'!C141=\"\",\"\",'AVI (Desc)'!C141)","v":""},{"$f":"IF('AVI (Desc)'!D141=\"\",\"\",'AVI (Desc)'!D141)","v":""},{"$f":"IF('AVI (Desc)'!E141=\"\",\"\",INDEX([1]ASSET_ID_SOURCE!$A$2:$A$50,MATCH('AVI (Desc)'!E141,[1]!MASTER_ASSET_ID_SOURCE_DESC,0),0))","v":""},{"$f":"IF('AVI (Desc)'!F141=\"\",\"\",'AVI (Desc)'!F141)","v":""},{"$f":"IF('AVI (Desc)'!G141=\"\",\"\",'AVI (Desc)'!G141)","v":""},{"$f":"IF('AVI (Desc)'!H141=\"\",\"\",INDEX([1]OWNER!$A$2:$A$100,MATCH('AVI (Desc)'!$H141,[1]!MASTER_OWNER_DESC[#Data],0),0))","v":""},{"$f":"IF('AVI (Desc)'!I141=\"\",\"\",INDEX([1]COUNTY!$A$2:$A$80,MATCH('AVI (Desc)'!I141,[1]!MASTER_COUNTY_NAME[#Data],0),0))","v":""},{"$f":"IF('AVI (Desc)'!J141=\"\",\"\",'AVI (Desc)'!J141)","v":""},{"$f":"IF('AVI (Desc)'!K141=\"\",\"\",INDEX([1]AVI_SENSOR_TYPE!$A$2:$A$7,MATCH('AVI (Desc)'!K141,[1]!MASTER_AVI_SENSOR_TYPE_DESC,0),0))","v":""}]
[{"$f":"IF('AVI (Desc)'!A142=\"\",\"\",'AVI (Desc)'!A142)","v":""},{"$f":"IF('AVI (Desc)'!B142=\"\",\"\",'AVI (Desc)'!B142)","v":""},{"$f":"IF('AVI (Desc)'!C142=\"\",\"\",'AVI (Desc)'!C142)","v":""},{"$f":"IF('AVI (Desc)'!D142=\"\",\"\",'AVI (Desc)'!D142)","v":""},{"$f":"IF('AVI (Desc)'!E142=\"\",\"\",INDEX([1]ASSET_ID_SOURCE!$A$2:$A$50,MATCH('AVI (Desc)'!E142,[1]!MASTER_ASSET_ID_SOURCE_DESC,0),0))","v":""},{"$f":"IF('AVI (Desc)'!F142=\"\",\"\",'AVI (Desc)'!F142)","v":""},{"$f":"IF('AVI (Desc)'!G142=\"\",\"\",'AVI (Desc)'!G142)","v":""},{"$f":"IF('AVI (Desc)'!H142=\"\",\"\",INDEX([1]OWNER!$A$2:$A$100,MATCH('AVI (Desc)'!$H142,[1]!MASTER_OWNER_DESC[#Data],0),0))","v":""},{"$f":"IF('AVI (Desc)'!I142=\"\",\"\",INDEX([1]COUNTY!$A$2:$A$80,MATCH('AVI (Desc)'!I142,[1]!MASTER_COUNTY_NAME[#Data],0),0))","v":""},{"$f":"IF('AVI (Desc)'!J142=\"\",\"\",'AVI (Desc)'!J142)","v":""},{"$f":"IF('AVI (Desc)'!K142=\"\",\"\",INDEX([1]AVI_SENSOR_TYPE!$A$2:$A$7,MATCH('AVI (Desc)'!K142,[1]!MASTER_AVI_SENSOR_TYPE_DESC,0),0))","v":""}]
[{"$f":"IF('AVI (Desc)'!A143=\"\",\"\",'AVI (Desc)'!A143)","v":""},{"$f":"IF('AVI (Desc)'!B143=\"\",\"\",'AVI (Desc)'!B143)","v":""},{"$f":"IF('AVI (Desc)'!C143=\"\",\"\",'AVI (Desc)'!C143)","v":""},{"$f":"IF('AVI (Desc)'!D143=\"\",\"\",'AVI (Desc)'!D143)","v":""},{"$f":"IF('AVI (Desc)'!E143=\"\",\"\",INDEX([1]ASSET_ID_SOURCE!$A$2:$A$50,MATCH('AVI (Desc)'!E143,[1]!MASTER_ASSET_ID_SOURCE_DESC,0),0))","v":""},{"$f":"IF('AVI (Desc)'!F143=\"\",\"\",'AVI (Desc)'!F143)","v":""},{"$f":"IF('AVI (Desc)'!G143=\"\",\"\",'AVI (Desc)'!G143)","v":""},{"$f":"IF('AVI (Desc)'!H143=\"\",\"\",INDEX([1]OWNER!$A$2:$A$100,MATCH('AVI (Desc)'!$H143,[1]!MASTER_OWNER_DESC[#Data],0),0))","v":""},{"$f":"IF('AVI (Desc)'!I143=\"\",\"\",INDEX([1]COUNTY!$A$2:$A$80,MATCH('AVI (Desc)'!I143,[1]!MASTER_COUNTY_NAME[#Data],0),0))","v":""},{"$f":"IF('AVI (Desc)'!J143=\"\",\"\",'AVI (Desc)'!J143)","v":""},{"$f":"IF('AVI (Desc)'!K143=\"\",\"\",INDEX([1]AVI_SENSOR_TYPE!$A$2:$A$7,MATCH('AVI (Desc)'!K143,[1]!MASTER_AVI_SENSOR_TYPE_DESC,0),0))","v":""}]
[{"$f":"IF('AVI (Desc)'!A144=\"\",\"\",'AVI (Desc)'!A144)","v":""},{"$f":"IF('AVI (Desc)'!B144=\"\",\"\",'AVI (Desc)'!B144)","v":""},{"$f":"IF('AVI (Desc)'!C144=\"\",\"\",'AVI (Desc)'!C144)","v":""},{"$f":"IF('AVI (Desc)'!D144=\"\",\"\",'AVI (Desc)'!D144)","v":""},{"$f":"IF('AVI (Desc)'!E144=\"\",\"\",INDEX([1]ASSET_ID_SOURCE!$A$2:$A$50,MATCH('AVI (Desc)'!E144,[1]!MASTER_ASSET_ID_SOURCE_DESC,0),0))","v":""},{"$f":"IF('AVI (Desc)'!F144=\"\",\"\",'AVI (Desc)'!F144)","v":""},{"$f":"IF('AVI (Desc)'!G144=\"\",\"\",'AVI (Desc)'!G144)","v":""},{"$f":"IF('AVI (Desc)'!H144=\"\",\"\",INDEX([1]OWNER!$A$2:$A$100,MATCH('AVI (Desc)'!$H144,[1]!MASTER_OWNER_DESC[#Data],0),0))","v":""},{"$f":"IF('AVI (Desc)'!I144=\"\",\"\",INDEX([1]COUNTY!$A$2:$A$80,MATCH('AVI (Desc)'!I144,[1]!MASTER_COUNTY_NAME[#Data],0),0))","v":""},{"$f":"IF('AVI (Desc)'!J144=\"\",\"\",'AVI (Desc)'!J144)","v":""},{"$f":"IF('AVI (Desc)'!K144=\"\",\"\",INDEX([1]AVI_SENSOR_TYPE!$A$2:$A$7,MATCH('AVI (Desc)'!K144,[1]!MASTER_AVI_SENSOR_TYPE_DESC,0),0))","v":""}]
[{"$f":"IF('AVI (Desc)'!A145=\"\",\"\",'AVI (Desc)'!A145)","v":""},{"$f":"IF('AVI (Desc)'!B145=\"\",\"\",'AVI (Desc)'!B145)","v":""},{"$f":"IF('AVI (Desc)'!C145=\"\",\"\",'AVI (Desc)'!C145)","v":""},{"$f":"IF('AVI (Desc)'!D145=\"\",\"\",'AVI (Desc)'!D145)","v":""},{"$f":"IF('AVI (Desc)'!E145=\"\",\"\",INDEX([1]ASSET_ID_SOURCE!$A$2:$A$50,MATCH('AVI (Desc)'!E145,[1]!MASTER_ASSET_ID_SOURCE_DESC,0),0))","v":""},{"$f":"IF('AVI (Desc)'!F145=\"\",\"\",'AVI (Desc)'!F145)","v":""},{"$f":"IF('AVI (Desc)'!G145=\"\",\"\",'AVI (Desc)'!G145)","v":""},{"$f":"IF('AVI (Desc)'!H145=\"\",\"\",INDEX([1]OWNER!$A$2:$A$100,MATCH('AVI (Desc)'!$H145,[1]!MASTER_OWNER_DESC[#Data],0),0))","v":""},{"$f":"IF('AVI (Desc)'!I145=\"\",\"\",INDEX([1]COUNTY!$A$2:$A$80,MATCH('AVI (Desc)'!I145,[1]!MASTER_COUNTY_NAME[#Data],0),0))","v":""},{"$f":"IF('AVI (Desc)'!J145=\"\",\"\",'AVI (Desc)'!J145)","v":""},{"$f":"IF('AVI (Desc)'!K145=\"\",\"\",INDEX([1]AVI_SENSOR_TYPE!$A$2:$A$7,MATCH('AVI (Desc)'!K145,[1]!MASTER_AVI_SENSOR_TYPE_DESC,0),0))","v":""}]
[{"$f":"IF('AVI (Desc)'!A146=\"\",\"\",'AVI (Desc)'!A146)","v":""},{"$f":"IF('AVI (Desc)'!B146=\"\",\"\",'AVI (Desc)'!B146)","v":""},{"$f":"IF('AVI (Desc)'!C146=\"\",\"\",'AVI (Desc)'!C146)","v":""},{"$f":"IF('AVI (Desc)'!D146=\"\",\"\",'AVI (Desc)'!D146)","v":""},{"$f":"IF('AVI (Desc)'!E146=\"\",\"\",INDEX([1]ASSET_ID_SOURCE!$A$2:$A$50,MATCH('AVI (Desc)'!E146,[1]!MASTER_ASSET_ID_SOURCE_DESC,0),0))","v":""},{"$f":"IF('AVI (Desc)'!F146=\"\",\"\",'AVI (Desc)'!F146)","v":""},{"$f":"IF('AVI (Desc)'!G146=\"\",\"\",'AVI (Desc)'!G146)","v":""},{"$f":"IF('AVI (Desc)'!H146=\"\",\"\",INDEX([1]OWNER!$A$2:$A$100,MATCH('AVI (Desc)'!$H146,[1]!MASTER_OWNER_DESC[#Data],0),0))","v":""},{"$f":"IF('AVI (Desc)'!I146=\"\",\"\",INDEX([1]COUNTY!$A$2:$A$80,MATCH('AVI (Desc)'!I146,[1]!MASTER_COUNTY_NAME[#Data],0),0))","v":""},{"$f":"IF('AVI (Desc)'!J146=\"\",\"\",'AVI (Desc)'!J146)","v":""},{"$f":"IF('AVI (Desc)'!K146=\"\",\"\",INDEX([1]AVI_SENSOR_TYPE!$A$2:$A$7,MATCH('AVI (Desc)'!K146,[1]!MASTER_AVI_SENSOR_TYPE_DESC,0),0))","v":""}]
[{"$f":"IF('AVI (Desc)'!A147=\"\",\"\",'AVI (Desc)'!A147)","v":""},{"$f":"IF('AVI (Desc)'!B147=\"\",\"\",'AVI (Desc)'!B147)","v":""},{"$f":"IF('AVI (Desc)'!C147=\"\",\"\",'AVI (Desc)'!C147)","v":""},{"$f":"IF('AVI (Desc)'!D147=\"\",\"\",'AVI (Desc)'!D147)","v":""},{"$f":"IF('AVI (Desc)'!E147=\"\",\"\",INDEX([1]ASSET_ID_SOURCE!$A$2:$A$50,MATCH('AVI (Desc)'!E147,[1]!MASTER_ASSET_ID_SOURCE_DESC,0),0))","v":""},{"$f":"IF('AVI (Desc)'!F147=\"\",\"\",'AVI (Desc)'!F147)","v":""},{"$f":"IF('AVI (Desc)'!G147=\"\",\"\",'AVI (Desc)'!G147)","v":""},{"$f":"IF('AVI (Desc)'!H147=\"\",\"\",INDEX([1]OWNER!$A$2:$A$100,MATCH('AVI (Desc)'!$H147,[1]!MASTER_OWNER_DESC[#Data],0),0))","v":""},{"$f":"IF('AVI (Desc)'!I147=\"\",\"\",INDEX([1]COUNTY!$A$2:$A$80,MATCH('AVI (Desc)'!I147,[1]!MASTER_COUNTY_NAME[#Data],0),0))","v":""},{"$f":"IF('AVI (Desc)'!J147=\"\",\"\",'AVI (Desc)'!J147)","v":""},{"$f":"IF('AVI (Desc)'!K147=\"\",\"\",INDEX([1]AVI_SENSOR_TYPE!$A$2:$A$7,MATCH('AVI (Desc)'!K147,[1]!MASTER_AVI_SENSOR_TYPE_DESC,0),0))","v":""}]
[{"$f":"IF('AVI (Desc)'!A148=\"\",\"\",'AVI (Desc)'!A148)","v":""},{"$f":"IF('AVI (Desc)'!B148=\"\",\"\",'AVI (Desc)'!B148)","v":""},{"$f":"IF('AVI (Desc)'!C148=\"\",\"\",'AVI (Desc)'!C148)","v":""},{"$f":"IF('AVI (Desc)'!D148=\"\",\"\",'AVI (Desc)'!D148)","v":""},{"$f":"IF('AVI (Desc)'!E148=\"\",\"\",INDEX([1]ASSET_ID_SOURCE!$A$2:$A$50,MATCH('AVI (Desc)'!E148,[1]!MASTER_ASSET_ID_SOURCE_DESC,0),0))","v":""},{"$f":"IF('AVI (Desc)'!F148=\"\",\"\",'AVI (Desc)'!F148)","v":""},{"$f":"IF('AVI (Desc)'!G148=\"\",\"\",'AVI (Desc)'!G148)","v":""},{"$f":"IF('AVI (Desc)'!H148=\"\",\"\",INDEX([1]OWNER!$A$2:$A$100,MATCH('AVI (Desc)'!$H148,[1]!MASTER_OWNER_DESC[#Data],0),0))","v":""},{"$f":"IF('AVI (Desc)'!I148=\"\",\"\",INDEX([1]COUNTY!$A$2:$A$80,MATCH('AVI (Desc)'!I148,[1]!MASTER_COUNTY_NAME[#Data],0),0))","v":""},{"$f":"IF('AVI (Desc)'!J148=\"\",\"\",'AVI (Desc)'!J148)","v":""},{"$f":"IF('AVI (Desc)'!K148=\"\",\"\",INDEX([1]AVI_SENSOR_TYPE!$A$2:$A$7,MATCH('AVI (Desc)'!K148,[1]!MASTER_AVI_SENSOR_TYPE_DESC,0),0))","v":""}]
[{"$f":"IF('AVI (Desc)'!A149=\"\",\"\",'AVI (Desc)'!A149)","v":""},{"$f":"IF('AVI (Desc)'!B149=\"\",\"\",'AVI (Desc)'!B149)","v":""},{"$f":"IF('AVI (Desc)'!C149=\"\",\"\",'AVI (Desc)'!C149)","v":""},{"$f":"IF('AVI (Desc)'!D149=\"\",\"\",'AVI (Desc)'!D149)","v":""},{"$f":"IF('AVI (Desc)'!E149=\"\",\"\",INDEX([1]ASSET_ID_SOURCE!$A$2:$A$50,MATCH('AVI (Desc)'!E149,[1]!MASTER_ASSET_ID_SOURCE_DESC,0),0))","v":""},{"$f":"IF('AVI (Desc)'!F149=\"\",\"\",'AVI (Desc)'!F149)","v":""},{"$f":"IF('AVI (Desc)'!G149=\"\",\"\",'AVI (Desc)'!G149)","v":""},{"$f":"IF('AVI (Desc)'!H149=\"\",\"\",INDEX([1]OWNER!$A$2:$A$100,MATCH('AVI (Desc)'!$H149,[1]!MASTER_OWNER_DESC[#Data],0),0))","v":""},{"$f":"IF('AVI (Desc)'!I149=\"\",\"\",INDEX([1]COUNTY!$A$2:$A$80,MATCH('AVI (Desc)'!I149,[1]!MASTER_COUNTY_NAME[#Data],0),0))","v":""},{"$f":"IF('AVI (Desc)'!J149=\"\",\"\",'AVI (Desc)'!J149)","v":""},{"$f":"IF('AVI (Desc)'!K149=\"\",\"\",INDEX([1]AVI_SENSOR_TYPE!$A$2:$A$7,MATCH('AVI (Desc)'!K149,[1]!MASTER_AVI_SENSOR_TYPE_DESC,0),0))","v":""}]
[{"$f":"IF('AVI (Desc)'!A150=\"\",\"\",'AVI (Desc)'!A150)","v":""},{"$f":"IF('AVI (Desc)'!B150=\"\",\"\",'AVI (Desc)'!B150)","v":""},{"$f":"IF('AVI (Desc)'!C150=\"\",\"\",'AVI (Desc)'!C150)","v":""},{"$f":"IF('AVI (Desc)'!D150=\"\",\"\",'AVI (Desc)'!D150)","v":""},{"$f":"IF('AVI (Desc)'!E150=\"\",\"\",INDEX([1]ASSET_ID_SOURCE!$A$2:$A$50,MATCH('AVI (Desc)'!E150,[1]!MASTER_ASSET_ID_SOURCE_DESC,0),0))","v":""},{"$f":"IF('AVI (Desc)'!F150=\"\",\"\",'AVI (Desc)'!F150)","v":""},{"$f":"IF('AVI (Desc)'!G150=\"\",\"\",'AVI (Desc)'!G150)","v":""},{"$f":"IF('AVI (Desc)'!H150=\"\",\"\",INDEX([1]OWNER!$A$2:$A$100,MATCH('AVI (Desc)'!$H150,[1]!MASTER_OWNER_DESC[#Data],0),0))","v":""},{"$f":"IF('AVI (Desc)'!I150=\"\",\"\",INDEX([1]COUNTY!$A$2:$A$80,MATCH('AVI (Desc)'!I150,[1]!MASTER_COUNTY_NAME[#Data],0),0))","v":""},{"$f":"IF('AVI (Desc)'!J150=\"\",\"\",'AVI (Desc)'!J150)","v":""},{"$f":"IF('AVI (Desc)'!K150=\"\",\"\",INDEX([1]AVI_SENSOR_TYPE!$A$2:$A$7,MATCH('AVI (Desc)'!K150,[1]!MASTER_AVI_SENSOR_TYPE_DESC,0),0))","v":""}]
[{"$f":"IF('AVI (Desc)'!A151=\"\",\"\",'AVI (Desc)'!A151)","v":""},{"$f":"IF('AVI (Desc)'!B151=\"\",\"\",'AVI (Desc)'!B151)","v":""},{"$f":"IF('AVI (Desc)'!C151=\"\",\"\",'AVI (Desc)'!C151)","v":""},{"$f":"IF('AVI (Desc)'!D151=\"\",\"\",'AVI (Desc)'!D151)","v":""},{"$f":"IF('AVI (Desc)'!E151=\"\",\"\",INDEX([1]ASSET_ID_SOURCE!$A$2:$A$50,MATCH('AVI (Desc)'!E151,[1]!MASTER_ASSET_ID_SOURCE_DESC,0),0))","v":""},{"$f":"IF('AVI (Desc)'!F151=\"\",\"\",'AVI (Desc)'!F151)","v":""},{"$f":"IF('AVI (Desc)'!G151=\"\",\"\",'AVI (Desc)'!G151)","v":""},{"$f":"IF('AVI (Desc)'!H151=\"\",\"\",INDEX([1]OWNER!$A$2:$A$100,MATCH('AVI (Desc)'!$H151,[1]!MASTER_OWNER_DESC[#Data],0),0))","v":""},{"$f":"IF('AVI (Desc)'!I151=\"\",\"\",INDEX([1]COUNTY!$A$2:$A$80,MATCH('AVI (Desc)'!I151,[1]!MASTER_COUNTY_NAME[#Data],0),0))","v":""},{"$f":"IF('AVI (Desc)'!J151=\"\",\"\",'AVI (Desc)'!J151)","v":""},{"$f":"IF('AVI (Desc)'!K151=\"\",\"\",INDEX([1]AVI_SENSOR_TYPE!$A$2:$A$7,MATCH('AVI (Desc)'!K151,[1]!MASTER_AVI_SENSOR_TYPE_DESC,0),0))","v":""}]
[{"$f":"IF('AVI (Desc)'!A152=\"\",\"\",'AVI (Desc)'!A152)","v":""},{"$f":"IF('AVI (Desc)'!B152=\"\",\"\",'AVI (Desc)'!B152)","v":""},{"$f":"IF('AVI (Desc)'!C152=\"\",\"\",'AVI (Desc)'!C152)","v":""},{"$f":"IF('AVI (Desc)'!D152=\"\",\"\",'AVI (Desc)'!D152)","v":""},{"$f":"IF('AVI (Desc)'!E152=\"\",\"\",INDEX([1]ASSET_ID_SOURCE!$A$2:$A$50,MATCH('AVI (Desc)'!E152,[1]!MASTER_ASSET_ID_SOURCE_DESC,0),0))","v":""},{"$f":"IF('AVI (Desc)'!F152=\"\",\"\",'AVI (Desc)'!F152)","v":""},{"$f":"IF('AVI (Desc)'!G152=\"\",\"\",'AVI (Desc)'!G152)","v":""},{"$f":"IF('AVI (Desc)'!H152=\"\",\"\",INDEX([1]OWNER!$A$2:$A$100,MATCH('AVI (Desc)'!$H152,[1]!MASTER_OWNER_DESC[#Data],0),0))","v":""},{"$f":"IF('AVI (Desc)'!I152=\"\",\"\",INDEX([1]COUNTY!$A$2:$A$80,MATCH('AVI (Desc)'!I152,[1]!MASTER_COUNTY_NAME[#Data],0),0))","v":""},{"$f":"IF('AVI (Desc)'!J152=\"\",\"\",'AVI (Desc)'!J152)","v":""},{"$f":"IF('AVI (Desc)'!K152=\"\",\"\",INDEX([1]AVI_SENSOR_TYPE!$A$2:$A$7,MATCH('AVI (Desc)'!K152,[1]!MASTER_AVI_SENSOR_TYPE_DESC,0),0))","v":""}]
[{"$f":"IF('AVI (Desc)'!A153=\"\",\"\",'AVI (Desc)'!A153)","v":""},{"$f":"IF('AVI (Desc)'!B153=\"\",\"\",'AVI (Desc)'!B153)","v":""},{"$f":"IF('AVI (Desc)'!C153=\"\",\"\",'AVI (Desc)'!C153)","v":""},{"$f":"IF('AVI (Desc)'!D153=\"\",\"\",'AVI (Desc)'!D153)","v":""},{"$f":"IF('AVI (Desc)'!E153=\"\",\"\",INDEX([1]ASSET_ID_SOURCE!$A$2:$A$50,MATCH('AVI (Desc)'!E153,[1]!MASTER_ASSET_ID_SOURCE_DESC,0),0))","v":""},{"$f":"IF('AVI (Desc)'!F153=\"\",\"\",'AVI (Desc)'!F153)","v":""},{"$f":"IF('AVI (Desc)'!G153=\"\",\"\",'AVI (Desc)'!G153)","v":""},{"$f":"IF('AVI (Desc)'!H153=\"\",\"\",INDEX([1]OWNER!$A$2:$A$100,MATCH('AVI (Desc)'!$H153,[1]!MASTER_OWNER_DESC[#Data],0),0))","v":""},{"$f":"IF('AVI (Desc)'!I153=\"\",\"\",INDEX([1]COUNTY!$A$2:$A$80,MATCH('AVI (Desc)'!I153,[1]!MASTER_COUNTY_NAME[#Data],0),0))","v":""},{"$f":"IF('AVI (Desc)'!J153=\"\",\"\",'AVI (Desc)'!J153)","v":""},{"$f":"IF('AVI (Desc)'!K153=\"\",\"\",INDEX([1]AVI_SENSOR_TYPE!$A$2:$A$7,MATCH('AVI (Desc)'!K153,[1]!MASTER_AVI_SENSOR_TYPE_DESC,0),0))","v":""}]
[{"$f":"IF('AVI (Desc)'!A154=\"\",\"\",'AVI (Desc)'!A154)","v":""},{"$f":"IF('AVI (Desc)'!B154=\"\",\"\",'AVI (Desc)'!B154)","v":""},{"$f":"IF('AVI (Desc)'!C154=\"\",\"\",'AVI (Desc)'!C154)","v":""},{"$f":"IF('AVI (Desc)'!D154=\"\",\"\",'AVI (Desc)'!D154)","v":""},{"$f":"IF('AVI (Desc)'!E154=\"\",\"\",INDEX([1]ASSET_ID_SOURCE!$A$2:$A$50,MATCH('AVI (Desc)'!E154,[1]!MASTER_ASSET_ID_SOURCE_DESC,0),0))","v":""},{"$f":"IF('AVI (Desc)'!F154=\"\",\"\",'AVI (Desc)'!F154)","v":""},{"$f":"IF('AVI (Desc)'!G154=\"\",\"\",'AVI (Desc)'!G154)","v":""},{"$f":"IF('AVI (Desc)'!H154=\"\",\"\",INDEX([1]OWNER!$A$2:$A$100,MATCH('AVI (Desc)'!$H154,[1]!MASTER_OWNER_DESC[#Data],0),0))","v":""},{"$f":"IF('AVI (Desc)'!I154=\"\",\"\",INDEX([1]COUNTY!$A$2:$A$80,MATCH('AVI (Desc)'!I154,[1]!MASTER_COUNTY_NAME[#Data],0),0))","v":""},{"$f":"IF('AVI (Desc)'!J154=\"\",\"\",'AVI (Desc)'!J154)","v":""},{"$f":"IF('AVI (Desc)'!K154=\"\",\"\",INDEX([1]AVI_SENSOR_TYPE!$A$2:$A$7,MATCH('AVI (Desc)'!K154,[1]!MASTER_AVI_SENSOR_TYPE_DESC,0),0))","v":""}]
[{"$f":"IF('AVI (Desc)'!A155=\"\",\"\",'AVI (Desc)'!A155)","v":""},{"$f":"IF('AVI (Desc)'!B155=\"\",\"\",'AVI (Desc)'!B155)","v":""},{"$f":"IF('AVI (Desc)'!C155=\"\",\"\",'AVI (Desc)'!C155)","v":""},{"$f":"IF('AVI (Desc)'!D155=\"\",\"\",'AVI (Desc)'!D155)","v":""},{"$f":"IF('AVI (Desc)'!E155=\"\",\"\",INDEX([1]ASSET_ID_SOURCE!$A$2:$A$50,MATCH('AVI (Desc)'!E155,[1]!MASTER_ASSET_ID_SOURCE_DESC,0),0))","v":""},{"$f":"IF('AVI (Desc)'!F155=\"\",\"\",'AVI (Desc)'!F155)","v":""},{"$f":"IF('AVI (Desc)'!G155=\"\",\"\",'AVI (Desc)'!G155)","v":""},{"$f":"IF('AVI (Desc)'!H155=\"\",\"\",INDEX([1]OWNER!$A$2:$A$100,MATCH('AVI (Desc)'!$H155,[1]!MASTER_OWNER_DESC[#Data],0),0))","v":""},{"$f":"IF('AVI (Desc)'!I155=\"\",\"\",INDEX([1]COUNTY!$A$2:$A$80,MATCH('AVI (Desc)'!I155,[1]!MASTER_COUNTY_NAME[#Data],0),0))","v":""},{"$f":"IF('AVI (Desc)'!J155=\"\",\"\",'AVI (Desc)'!J155)","v":""},{"$f":"IF('AVI (Desc)'!K155=\"\",\"\",INDEX([1]AVI_SENSOR_TYPE!$A$2:$A$7,MATCH('AVI (Desc)'!K155,[1]!MASTER_AVI_SENSOR_TYPE_DESC,0),0))","v":""}]
[{"$f":"IF('AVI (Desc)'!A156=\"\",\"\",'AVI (Desc)'!A156)","v":""},{"$f":"IF('AVI (Desc)'!B156=\"\",\"\",'AVI (Desc)'!B156)","v":""},{"$f":"IF('AVI (Desc)'!C156=\"\",\"\",'AVI (Desc)'!C156)","v":""},{"$f":"IF('AVI (Desc)'!D156=\"\",\"\",'AVI (Desc)'!D156)","v":""},{"$f":"IF('AVI (Desc)'!E156=\"\",\"\",INDEX([1]ASSET_ID_SOURCE!$A$2:$A$50,MATCH('AVI (Desc)'!E156,[1]!MASTER_ASSET_ID_SOURCE_DESC,0),0))","v":""},{"$f":"IF('AVI (Desc)'!F156=\"\",\"\",'AVI (Desc)'!F156)","v":""},{"$f":"IF('AVI (Desc)'!G156=\"\",\"\",'AVI (Desc)'!G156)","v":""},{"$f":"IF('AVI (Desc)'!H156=\"\",\"\",INDEX([1]OWNER!$A$2:$A$100,MATCH('AVI (Desc)'!$H156,[1]!MASTER_OWNER_DESC[#Data],0),0))","v":""},{"$f":"IF('AVI (Desc)'!I156=\"\",\"\",INDEX([1]COUNTY!$A$2:$A$80,MATCH('AVI (Desc)'!I156,[1]!MASTER_COUNTY_NAME[#Data],0),0))","v":""},{"$f":"IF('AVI (Desc)'!J156=\"\",\"\",'AVI (Desc)'!J156)","v":""},{"$f":"IF('AVI (Desc)'!K156=\"\",\"\",INDEX([1]AVI_SENSOR_TYPE!$A$2:$A$7,MATCH('AVI (Desc)'!K156,[1]!MASTER_AVI_SENSOR_TYPE_DESC,0),0))","v":""}]
[{"$f":"IF('AVI (Desc)'!A157=\"\",\"\",'AVI (Desc)'!A157)","v":""},{"$f":"IF('AVI (Desc)'!B157=\"\",\"\",'AVI (Desc)'!B157)","v":""},{"$f":"IF('AVI (Desc)'!C157=\"\",\"\",'AVI (Desc)'!C157)","v":""},{"$f":"IF('AVI (Desc)'!D157=\"\",\"\",'AVI (Desc)'!D157)","v":""},{"$f":"IF('AVI (Desc)'!E157=\"\",\"\",INDEX([1]ASSET_ID_SOURCE!$A$2:$A$50,MATCH('AVI (Desc)'!E157,[1]!MASTER_ASSET_ID_SOURCE_DESC,0),0))","v":""},{"$f":"IF('AVI (Desc)'!F157=\"\",\"\",'AVI (Desc)'!F157)","v":""},{"$f":"IF('AVI (Desc)'!G157=\"\",\"\",'AVI (Desc)'!G157)","v":""},{"$f":"IF('AVI (Desc)'!H157=\"\",\"\",INDEX([1]OWNER!$A$2:$A$100,MATCH('AVI (Desc)'!$H157,[1]!MASTER_OWNER_DESC[#Data],0),0))","v":""},{"$f":"IF('AVI (Desc)'!I157=\"\",\"\",INDEX([1]COUNTY!$A$2:$A$80,MATCH('AVI (Desc)'!I157,[1]!MASTER_COUNTY_NAME[#Data],0),0))","v":""},{"$f":"IF('AVI (Desc)'!J157=\"\",\"\",'AVI (Desc)'!J157)","v":""},{"$f":"IF('AVI (Desc)'!K157=\"\",\"\",INDEX([1]AVI_SENSOR_TYPE!$A$2:$A$7,MATCH('AVI (Desc)'!K157,[1]!MASTER_AVI_SENSOR_TYPE_DESC,0),0))","v":""}]
[{"$f":"IF('AVI (Desc)'!A158=\"\",\"\",'AVI (Desc)'!A158)","v":""},{"$f":"IF('AVI (Desc)'!B158=\"\",\"\",'AVI (Desc)'!B158)","v":""},{"$f":"IF('AVI (Desc)'!C158=\"\",\"\",'AVI (Desc)'!C158)","v":""},{"$f":"IF('AVI (Desc)'!D158=\"\",\"\",'AVI (Desc)'!D158)","v":""},{"$f":"IF('AVI (Desc)'!E158=\"\",\"\",INDEX([1]ASSET_ID_SOURCE!$A$2:$A$50,MATCH('AVI (Desc)'!E158,[1]!MASTER_ASSET_ID_SOURCE_DESC,0),0))","v":""},{"$f":"IF('AVI (Desc)'!F158=\"\",\"\",'AVI (Desc)'!F158)","v":""},{"$f":"IF('AVI (Desc)'!G158=\"\",\"\",'AVI (Desc)'!G158)","v":""},{"$f":"IF('AVI (Desc)'!H158=\"\",\"\",INDEX([1]OWNER!$A$2:$A$100,MATCH('AVI (Desc)'!$H158,[1]!MASTER_OWNER_DESC[#Data],0),0))","v":""},{"$f":"IF('AVI (Desc)'!I158=\"\",\"\",INDEX([1]COUNTY!$A$2:$A$80,MATCH('AVI (Desc)'!I158,[1]!MASTER_COUNTY_NAME[#Data],0),0))","v":""},{"$f":"IF('AVI (Desc)'!J158=\"\",\"\",'AVI (Desc)'!J158)","v":""},{"$f":"IF('AVI (Desc)'!K158=\"\",\"\",INDEX([1]AVI_SENSOR_TYPE!$A$2:$A$7,MATCH('AVI (Desc)'!K158,[1]!MASTER_AVI_SENSOR_TYPE_DESC,0),0))","v":""}]
[{"$f":"IF('AVI (Desc)'!A159=\"\",\"\",'AVI (Desc)'!A159)","v":""},{"$f":"IF('AVI (Desc)'!B159=\"\",\"\",'AVI (Desc)'!B159)","v":""},{"$f":"IF('AVI (Desc)'!C159=\"\",\"\",'AVI (Desc)'!C159)","v":""},{"$f":"IF('AVI (Desc)'!D159=\"\",\"\",'AVI (Desc)'!D159)","v":""},{"$f":"IF('AVI (Desc)'!E159=\"\",\"\",INDEX([1]ASSET_ID_SOURCE!$A$2:$A$50,MATCH('AVI (Desc)'!E159,[1]!MASTER_ASSET_ID_SOURCE_DESC,0),0))","v":""},{"$f":"IF('AVI (Desc)'!F159=\"\",\"\",'AVI (Desc)'!F159)","v":""},{"$f":"IF('AVI (Desc)'!G159=\"\",\"\",'AVI (Desc)'!G159)","v":""},{"$f":"IF('AVI (Desc)'!H159=\"\",\"\",INDEX([1]OWNER!$A$2:$A$100,MATCH('AVI (Desc)'!$H159,[1]!MASTER_OWNER_DESC[#Data],0),0))","v":""},{"$f":"IF('AVI (Desc)'!I159=\"\",\"\",INDEX([1]COUNTY!$A$2:$A$80,MATCH('AVI (Desc)'!I159,[1]!MASTER_COUNTY_NAME[#Data],0),0))","v":""},{"$f":"IF('AVI (Desc)'!J159=\"\",\"\",'AVI (Desc)'!J159)","v":""},{"$f":"IF('AVI (Desc)'!K159=\"\",\"\",INDEX([1]AVI_SENSOR_TYPE!$A$2:$A$7,MATCH('AVI (Desc)'!K159,[1]!MASTER_AVI_SENSOR_TYPE_DESC,0),0))","v":""}]
[{"$f":"IF('AVI (Desc)'!A160=\"\",\"\",'AVI (Desc)'!A160)","v":""},{"$f":"IF('AVI (Desc)'!B160=\"\",\"\",'AVI (Desc)'!B160)","v":""},{"$f":"IF('AVI (Desc)'!C160=\"\",\"\",'AVI (Desc)'!C160)","v":""},{"$f":"IF('AVI (Desc)'!D160=\"\",\"\",'AVI (Desc)'!D160)","v":""},{"$f":"IF('AVI (Desc)'!E160=\"\",\"\",INDEX([1]ASSET_ID_SOURCE!$A$2:$A$50,MATCH('AVI (Desc)'!E160,[1]!MASTER_ASSET_ID_SOURCE_DESC,0),0))","v":""},{"$f":"IF('AVI (Desc)'!F160=\"\",\"\",'AVI (Desc)'!F160)","v":""},{"$f":"IF('AVI (Desc)'!G160=\"\",\"\",'AVI (Desc)'!G160)","v":""},{"$f":"IF('AVI (Desc)'!H160=\"\",\"\",INDEX([1]OWNER!$A$2:$A$100,MATCH('AVI (Desc)'!$H160,[1]!MASTER_OWNER_DESC[#Data],0),0))","v":""},{"$f":"IF('AVI (Desc)'!I160=\"\",\"\",INDEX([1]COUNTY!$A$2:$A$80,MATCH('AVI (Desc)'!I160,[1]!MASTER_COUNTY_NAME[#Data],0),0))","v":""},{"$f":"IF('AVI (Desc)'!J160=\"\",\"\",'AVI (Desc)'!J160)","v":""},{"$f":"IF('AVI (Desc)'!K160=\"\",\"\",INDEX([1]AVI_SENSOR_TYPE!$A$2:$A$7,MATCH('AVI (Desc)'!K160,[1]!MASTER_AVI_SENSOR_TYPE_DESC,0),0))","v":""}]
[{"$f":"IF('AVI (Desc)'!A161=\"\",\"\",'AVI (Desc)'!A161)","v":""},{"$f":"IF('AVI (Desc)'!B161=\"\",\"\",'AVI (Desc)'!B161)","v":""},{"$f":"IF('AVI (Desc)'!C161=\"\",\"\",'AVI (Desc)'!C161)","v":""},{"$f":"IF('AVI (Desc)'!D161=\"\",\"\",'AVI (Desc)'!D161)","v":""},{"$f":"IF('AVI (Desc)'!E161=\"\",\"\",INDEX([1]ASSET_ID_SOURCE!$A$2:$A$50,MATCH('AVI (Desc)'!E161,[1]!MASTER_ASSET_ID_SOURCE_DESC,0),0))","v":""},{"$f":"IF('AVI (Desc)'!F161=\"\",\"\",'AVI (Desc)'!F161)","v":""},{"$f":"IF('AVI (Desc)'!G161=\"\",\"\",'AVI (Desc)'!G161)","v":""},{"$f":"IF('AVI (Desc)'!H161=\"\",\"\",INDEX([1]OWNER!$A$2:$A$100,MATCH('AVI (Desc)'!$H161,[1]!MASTER_OWNER_DESC[#Data],0),0))","v":""},{"$f":"IF('AVI (Desc)'!I161=\"\",\"\",INDEX([1]COUNTY!$A$2:$A$80,MATCH('AVI (Desc)'!I161,[1]!MASTER_COUNTY_NAME[#Data],0),0))","v":""},{"$f":"IF('AVI (Desc)'!J161=\"\",\"\",'AVI (Desc)'!J161)","v":""},{"$f":"IF('AVI (Desc)'!K161=\"\",\"\",INDEX([1]AVI_SENSOR_TYPE!$A$2:$A$7,MATCH('AVI (Desc)'!K161,[1]!MASTER_AVI_SENSOR_TYPE_DESC,0),0))","v":""}]
[{"$f":"IF('AVI (Desc)'!A162=\"\",\"\",'AVI (Desc)'!A162)","v":""},{"$f":"IF('AVI (Desc)'!B162=\"\",\"\",'AVI (Desc)'!B162)","v":""},{"$f":"IF('AVI (Desc)'!C162=\"\",\"\",'AVI (Desc)'!C162)","v":""},{"$f":"IF('AVI (Desc)'!D162=\"\",\"\",'AVI (Desc)'!D162)","v":""},{"$f":"IF('AVI (Desc)'!E162=\"\",\"\",INDEX([1]ASSET_ID_SOURCE!$A$2:$A$50,MATCH('AVI (Desc)'!E162,[1]!MASTER_ASSET_ID_SOURCE_DESC,0),0))","v":""},{"$f":"IF('AVI (Desc)'!F162=\"\",\"\",'AVI (Desc)'!F162)","v":""},{"$f":"IF('AVI (Desc)'!G162=\"\",\"\",'AVI (Desc)'!G162)","v":""},{"$f":"IF('AVI (Desc)'!H162=\"\",\"\",INDEX([1]OWNER!$A$2:$A$100,MATCH('AVI (Desc)'!$H162,[1]!MASTER_OWNER_DESC[#Data],0),0))","v":""},{"$f":"IF('AVI (Desc)'!I162=\"\",\"\",INDEX([1]COUNTY!$A$2:$A$80,MATCH('AVI (Desc)'!I162,[1]!MASTER_COUNTY_NAME[#Data],0),0))","v":""},{"$f":"IF('AVI (Desc)'!J162=\"\",\"\",'AVI (Desc)'!J162)","v":""},{"$f":"IF('AVI (Desc)'!K162=\"\",\"\",INDEX([1]AVI_SENSOR_TYPE!$A$2:$A$7,MATCH('AVI (Desc)'!K162,[1]!MASTER_AVI_SENSOR_TYPE_DESC,0),0))","v":""}]
[{"$f":"IF('AVI (Desc)'!A163=\"\",\"\",'AVI (Desc)'!A163)","v":""},{"$f":"IF('AVI (Desc)'!B163=\"\",\"\",'AVI (Desc)'!B163)","v":""},{"$f":"IF('AVI (Desc)'!C163=\"\",\"\",'AVI (Desc)'!C163)","v":""},{"$f":"IF('AVI (Desc)'!D163=\"\",\"\",'AVI (Desc)'!D163)","v":""},{"$f":"IF('AVI (Desc)'!E163=\"\",\"\",INDEX([1]ASSET_ID_SOURCE!$A$2:$A$50,MATCH('AVI (Desc)'!E163,[1]!MASTER_ASSET_ID_SOURCE_DESC,0),0))","v":""},{"$f":"IF('AVI (Desc)'!F163=\"\",\"\",'AVI (Desc)'!F163)","v":""},{"$f":"IF('AVI (Desc)'!G163=\"\",\"\",'AVI (Desc)'!G163)","v":""},{"$f":"IF('AVI (Desc)'!H163=\"\",\"\",INDEX([1]OWNER!$A$2:$A$100,MATCH('AVI (Desc)'!$H163,[1]!MASTER_OWNER_DESC[#Data],0),0))","v":""},{"$f":"IF('AVI (Desc)'!I163=\"\",\"\",INDEX([1]COUNTY!$A$2:$A$80,MATCH('AVI (Desc)'!I163,[1]!MASTER_COUNTY_NAME[#Data],0),0))","v":""},{"$f":"IF('AVI (Desc)'!J163=\"\",\"\",'AVI (Desc)'!J163)","v":""},{"$f":"IF('AVI (Desc)'!K163=\"\",\"\",INDEX([1]AVI_SENSOR_TYPE!$A$2:$A$7,MATCH('AVI (Desc)'!K163,[1]!MASTER_AVI_SENSOR_TYPE_DESC,0),0))","v":""}]
[{"$f":"IF('AVI (Desc)'!A164=\"\",\"\",'AVI (Desc)'!A164)","v":""},{"$f":"IF('AVI (Desc)'!B164=\"\",\"\",'AVI (Desc)'!B164)","v":""},{"$f":"IF('AVI (Desc)'!C164=\"\",\"\",'AVI (Desc)'!C164)","v":""},{"$f":"IF('AVI (Desc)'!D164=\"\",\"\",'AVI (Desc)'!D164)","v":""},{"$f":"IF('AVI (Desc)'!E164=\"\",\"\",INDEX([1]ASSET_ID_SOURCE!$A$2:$A$50,MATCH('AVI (Desc)'!E164,[1]!MASTER_ASSET_ID_SOURCE_DESC,0),0))","v":""},{"$f":"IF('AVI (Desc)'!F164=\"\",\"\",'AVI (Desc)'!F164)","v":""},{"$f":"IF('AVI (Desc)'!G164=\"\",\"\",'AVI (Desc)'!G164)","v":""},{"$f":"IF('AVI (Desc)'!H164=\"\",\"\",INDEX([1]OWNER!$A$2:$A$100,MATCH('AVI (Desc)'!$H164,[1]!MASTER_OWNER_DESC[#Data],0),0))","v":""},{"$f":"IF('AVI (Desc)'!I164=\"\",\"\",INDEX([1]COUNTY!$A$2:$A$80,MATCH('AVI (Desc)'!I164,[1]!MASTER_COUNTY_NAME[#Data],0),0))","v":""},{"$f":"IF('AVI (Desc)'!J164=\"\",\"\",'AVI (Desc)'!J164)","v":""},{"$f":"IF('AVI (Desc)'!K164=\"\",\"\",INDEX([1]AVI_SENSOR_TYPE!$A$2:$A$7,MATCH('AVI (Desc)'!K164,[1]!MASTER_AVI_SENSOR_TYPE_DESC,0),0))","v":""}]
[{"$f":"IF('AVI (Desc)'!A165=\"\",\"\",'AVI (Desc)'!A165)","v":""},{"$f":"IF('AVI (Desc)'!B165=\"\",\"\",'AVI (Desc)'!B165)","v":""},{"$f":"IF('AVI (Desc)'!C165=\"\",\"\",'AVI (Desc)'!C165)","v":""},{"$f":"IF('AVI (Desc)'!D165=\"\",\"\",'AVI (Desc)'!D165)","v":""},{"$f":"IF('AVI (Desc)'!E165=\"\",\"\",INDEX([1]ASSET_ID_SOURCE!$A$2:$A$50,MATCH('AVI (Desc)'!E165,[1]!MASTER_ASSET_ID_SOURCE_DESC,0),0))","v":""},{"$f":"IF('AVI (Desc)'!F165=\"\",\"\",'AVI (Desc)'!F165)","v":""},{"$f":"IF('AVI (Desc)'!G165=\"\",\"\",'AVI (Desc)'!G165)","v":""},{"$f":"IF('AVI (Desc)'!H165=\"\",\"\",INDEX([1]OWNER!$A$2:$A$100,MATCH('AVI (Desc)'!$H165,[1]!MASTER_OWNER_DESC[#Data],0),0))","v":""},{"$f":"IF('AVI (Desc)'!I165=\"\",\"\",INDEX([1]COUNTY!$A$2:$A$80,MATCH('AVI (Desc)'!I165,[1]!MASTER_COUNTY_NAME[#Data],0),0))","v":""},{"$f":"IF('AVI (Desc)'!J165=\"\",\"\",'AVI (Desc)'!J165)","v":""},{"$f":"IF('AVI (Desc)'!K165=\"\",\"\",INDEX([1]AVI_SENSOR_TYPE!$A$2:$A$7,MATCH('AVI (Desc)'!K165,[1]!MASTER_AVI_SENSOR_TYPE_DESC,0),0))","v":""}]
[{"$f":"IF('AVI (Desc)'!A166=\"\",\"\",'AVI (Desc)'!A166)","v":""},{"$f":"IF('AVI (Desc)'!B166=\"\",\"\",'AVI (Desc)'!B166)","v":""},{"$f":"IF('AVI (Desc)'!C166=\"\",\"\",'AVI (Desc)'!C166)","v":""},{"$f":"IF('AVI (Desc)'!D166=\"\",\"\",'AVI (Desc)'!D166)","v":""},{"$f":"IF('AVI (Desc)'!E166=\"\",\"\",INDEX([1]ASSET_ID_SOURCE!$A$2:$A$50,MATCH('AVI (Desc)'!E166,[1]!MASTER_ASSET_ID_SOURCE_DESC,0),0))","v":""},{"$f":"IF('AVI (Desc)'!F166=\"\",\"\",'AVI (Desc)'!F166)","v":""},{"$f":"IF('AVI (Desc)'!G166=\"\",\"\",'AVI (Desc)'!G166)","v":""},{"$f":"IF('AVI (Desc)'!H166=\"\",\"\",INDEX([1]OWNER!$A$2:$A$100,MATCH('AVI (Desc)'!$H166,[1]!MASTER_OWNER_DESC[#Data],0),0))","v":""},{"$f":"IF('AVI (Desc)'!I166=\"\",\"\",INDEX([1]COUNTY!$A$2:$A$80,MATCH('AVI (Desc)'!I166,[1]!MASTER_COUNTY_NAME[#Data],0),0))","v":""},{"$f":"IF('AVI (Desc)'!J166=\"\",\"\",'AVI (Desc)'!J166)","v":""},{"$f":"IF('AVI (Desc)'!K166=\"\",\"\",INDEX([1]AVI_SENSOR_TYPE!$A$2:$A$7,MATCH('AVI (Desc)'!K166,[1]!MASTER_AVI_SENSOR_TYPE_DESC,0),0))","v":""}]
[{"$f":"IF('AVI (Desc)'!A167=\"\",\"\",'AVI (Desc)'!A167)","v":""},{"$f":"IF('AVI (Desc)'!B167=\"\",\"\",'AVI (Desc)'!B167)","v":""},{"$f":"IF('AVI (Desc)'!C167=\"\",\"\",'AVI (Desc)'!C167)","v":""},{"$f":"IF('AVI (Desc)'!D167=\"\",\"\",'AVI (Desc)'!D167)","v":""},{"$f":"IF('AVI (Desc)'!E167=\"\",\"\",INDEX([1]ASSET_ID_SOURCE!$A$2:$A$50,MATCH('AVI (Desc)'!E167,[1]!MASTER_ASSET_ID_SOURCE_DESC,0),0))","v":""},{"$f":"IF('AVI (Desc)'!F167=\"\",\"\",'AVI (Desc)'!F167)","v":""},{"$f":"IF('AVI (Desc)'!G167=\"\",\"\",'AVI (Desc)'!G167)","v":""},{"$f":"IF('AVI (Desc)'!H167=\"\",\"\",INDEX([1]OWNER!$A$2:$A$100,MATCH('AVI (Desc)'!$H167,[1]!MASTER_OWNER_DESC[#Data],0),0))","v":""},{"$f":"IF('AVI (Desc)'!I167=\"\",\"\",INDEX([1]COUNTY!$A$2:$A$80,MATCH('AVI (Desc)'!I167,[1]!MASTER_COUNTY_NAME[#Data],0),0))","v":""},{"$f":"IF('AVI (Desc)'!J167=\"\",\"\",'AVI (Desc)'!J167)","v":""},{"$f":"IF('AVI (Desc)'!K167=\"\",\"\",INDEX([1]AVI_SENSOR_TYPE!$A$2:$A$7,MATCH('AVI (Desc)'!K167,[1]!MASTER_AVI_SENSOR_TYPE_DESC,0),0))","v":""}]
[{"$f":"IF('AVI (Desc)'!A168=\"\",\"\",'AVI (Desc)'!A168)","v":""},{"$f":"IF('AVI (Desc)'!B168=\"\",\"\",'AVI (Desc)'!B168)","v":""},{"$f":"IF('AVI (Desc)'!C168=\"\",\"\",'AVI (Desc)'!C168)","v":""},{"$f":"IF('AVI (Desc)'!D168=\"\",\"\",'AVI (Desc)'!D168)","v":""},{"$f":"IF('AVI (Desc)'!E168=\"\",\"\",INDEX([1]ASSET_ID_SOURCE!$A$2:$A$50,MATCH('AVI (Desc)'!E168,[1]!MASTER_ASSET_ID_SOURCE_DESC,0),0))","v":""},{"$f":"IF('AVI (Desc)'!F168=\"\",\"\",'AVI (Desc)'!F168)","v":""},{"$f":"IF('AVI (Desc)'!G168=\"\",\"\",'AVI (Desc)'!G168)","v":""},{"$f":"IF('AVI (Desc)'!H168=\"\",\"\",INDEX([1]OWNER!$A$2:$A$100,MATCH('AVI (Desc)'!$H168,[1]!MASTER_OWNER_DESC[#Data],0),0))","v":""},{"$f":"IF('AVI (Desc)'!I168=\"\",\"\",INDEX([1]COUNTY!$A$2:$A$80,MATCH('AVI (Desc)'!I168,[1]!MASTER_COUNTY_NAME[#Data],0),0))","v":""},{"$f":"IF('AVI (Desc)'!J168=\"\",\"\",'AVI (Desc)'!J168)","v":""},{"$f":"IF('AVI (Desc)'!K168=\"\",\"\",INDEX([1]AVI_SENSOR_TYPE!$A$2:$A$7,MATCH('AVI (Desc)'!K168,[1]!MASTER_AVI_SENSOR_TYPE_DESC,0),0))","v":""}]
[{"$f":"IF('AVI (Desc)'!A169=\"\",\"\",'AVI (Desc)'!A169)","v":""},{"$f":"IF('AVI (Desc)'!B169=\"\",\"\",'AVI (Desc)'!B169)","v":""},{"$f":"IF('AVI (Desc)'!C169=\"\",\"\",'AVI (Desc)'!C169)","v":""},{"$f":"IF('AVI (Desc)'!D169=\"\",\"\",'AVI (Desc)'!D169)","v":""},{"$f":"IF('AVI (Desc)'!E169=\"\",\"\",INDEX([1]ASSET_ID_SOURCE!$A$2:$A$50,MATCH('AVI (Desc)'!E169,[1]!MASTER_ASSET_ID_SOURCE_DESC,0),0))","v":""},{"$f":"IF('AVI (Desc)'!F169=\"\",\"\",'AVI (Desc)'!F169)","v":""},{"$f":"IF('AVI (Desc)'!G169=\"\",\"\",'AVI (Desc)'!G169)","v":""},{"$f":"IF('AVI (Desc)'!H169=\"\",\"\",INDEX([1]OWNER!$A$2:$A$100,MATCH('AVI (Desc)'!$H169,[1]!MASTER_OWNER_DESC[#Data],0),0))","v":""},{"$f":"IF('AVI (Desc)'!I169=\"\",\"\",INDEX([1]COUNTY!$A$2:$A$80,MATCH('AVI (Desc)'!I169,[1]!MASTER_COUNTY_NAME[#Data],0),0))","v":""},{"$f":"IF('AVI (Desc)'!J169=\"\",\"\",'AVI (Desc)'!J169)","v":""},{"$f":"IF('AVI (Desc)'!K169=\"\",\"\",INDEX([1]AVI_SENSOR_TYPE!$A$2:$A$7,MATCH('AVI (Desc)'!K169,[1]!MASTER_AVI_SENSOR_TYPE_DESC,0),0))","v":""}]
[{"$f":"IF('AVI (Desc)'!A170=\"\",\"\",'AVI (Desc)'!A170)","v":""},{"$f":"IF('AVI (Desc)'!B170=\"\",\"\",'AVI (Desc)'!B170)","v":""},{"$f":"IF('AVI (Desc)'!C170=\"\",\"\",'AVI (Desc)'!C170)","v":""},{"$f":"IF('AVI (Desc)'!D170=\"\",\"\",'AVI (Desc)'!D170)","v":""},{"$f":"IF('AVI (Desc)'!E170=\"\",\"\",INDEX([1]ASSET_ID_SOURCE!$A$2:$A$50,MATCH('AVI (Desc)'!E170,[1]!MASTER_ASSET_ID_SOURCE_DESC,0),0))","v":""},{"$f":"IF('AVI (Desc)'!F170=\"\",\"\",'AVI (Desc)'!F170)","v":""},{"$f":"IF('AVI (Desc)'!G170=\"\",\"\",'AVI (Desc)'!G170)","v":""},{"$f":"IF('AVI (Desc)'!H170=\"\",\"\",INDEX([1]OWNER!$A$2:$A$100,MATCH('AVI (Desc)'!$H170,[1]!MASTER_OWNER_DESC[#Data],0),0))","v":""},{"$f":"IF('AVI (Desc)'!I170=\"\",\"\",INDEX([1]COUNTY!$A$2:$A$80,MATCH('AVI (Desc)'!I170,[1]!MASTER_COUNTY_NAME[#Data],0),0))","v":""},{"$f":"IF('AVI (Desc)'!J170=\"\",\"\",'AVI (Desc)'!J170)","v":""},{"$f":"IF('AVI (Desc)'!K170=\"\",\"\",INDEX([1]AVI_SENSOR_TYPE!$A$2:$A$7,MATCH('AVI (Desc)'!K170,[1]!MASTER_AVI_SENSOR_TYPE_DESC,0),0))","v":""}]
[{"$f":"IF('AVI (Desc)'!A171=\"\",\"\",'AVI (Desc)'!A171)","v":""},{"$f":"IF('AVI (Desc)'!B171=\"\",\"\",'AVI (Desc)'!B171)","v":""},{"$f":"IF('AVI (Desc)'!C171=\"\",\"\",'AVI (Desc)'!C171)","v":""},{"$f":"IF('AVI (Desc)'!D171=\"\",\"\",'AVI (Desc)'!D171)","v":""},{"$f":"IF('AVI (Desc)'!E171=\"\",\"\",INDEX([1]ASSET_ID_SOURCE!$A$2:$A$50,MATCH('AVI (Desc)'!E171,[1]!MASTER_ASSET_ID_SOURCE_DESC,0),0))","v":""},{"$f":"IF('AVI (Desc)'!F171=\"\",\"\",'AVI (Desc)'!F171)","v":""},{"$f":"IF('AVI (Desc)'!G171=\"\",\"\",'AVI (Desc)'!G171)","v":""},{"$f":"IF('AVI (Desc)'!H171=\"\",\"\",INDEX([1]OWNER!$A$2:$A$100,MATCH('AVI (Desc)'!$H171,[1]!MASTER_OWNER_DESC[#Data],0),0))","v":""},{"$f":"IF('AVI (Desc)'!I171=\"\",\"\",INDEX([1]COUNTY!$A$2:$A$80,MATCH('AVI (Desc)'!I171,[1]!MASTER_COUNTY_NAME[#Data],0),0))","v":""},{"$f":"IF('AVI (Desc)'!J171=\"\",\"\",'AVI (Desc)'!J171)","v":""},{"$f":"IF('AVI (Desc)'!K171=\"\",\"\",INDEX([1]AVI_SENSOR_TYPE!$A$2:$A$7,MATCH('AVI (Desc)'!K171,[1]!MASTER_AVI_SENSOR_TYPE_DESC,0),0))","v":""}]
[{"$f":"IF('AVI (Desc)'!A172=\"\",\"\",'AVI (Desc)'!A172)","v":""},{"$f":"IF('AVI (Desc)'!B172=\"\",\"\",'AVI (Desc)'!B172)","v":""},{"$f":"IF('AVI (Desc)'!C172=\"\",\"\",'AVI (Desc)'!C172)","v":""},{"$f":"IF('AVI (Desc)'!D172=\"\",\"\",'AVI (Desc)'!D172)","v":""},{"$f":"IF('AVI (Desc)'!E172=\"\",\"\",INDEX([1]ASSET_ID_SOURCE!$A$2:$A$50,MATCH('AVI (Desc)'!E172,[1]!MASTER_ASSET_ID_SOURCE_DESC,0),0))","v":""},{"$f":"IF('AVI (Desc)'!F172=\"\",\"\",'AVI (Desc)'!F172)","v":""},{"$f":"IF('AVI (Desc)'!G172=\"\",\"\",'AVI (Desc)'!G172)","v":""},{"$f":"IF('AVI (Desc)'!H172=\"\",\"\",INDEX([1]OWNER!$A$2:$A$100,MATCH('AVI (Desc)'!$H172,[1]!MASTER_OWNER_DESC[#Data],0),0))","v":""},{"$f":"IF('AVI (Desc)'!I172=\"\",\"\",INDEX([1]COUNTY!$A$2:$A$80,MATCH('AVI (Desc)'!I172,[1]!MASTER_COUNTY_NAME[#Data],0),0))","v":""},{"$f":"IF('AVI (Desc)'!J172=\"\",\"\",'AVI (Desc)'!J172)","v":""},{"$f":"IF('AVI (Desc)'!K172=\"\",\"\",INDEX([1]AVI_SENSOR_TYPE!$A$2:$A$7,MATCH('AVI (Desc)'!K172,[1]!MASTER_AVI_SENSOR_TYPE_DESC,0),0))","v":""}]
[{"$f":"IF('AVI (Desc)'!A173=\"\",\"\",'AVI (Desc)'!A173)","v":""},{"$f":"IF('AVI (Desc)'!B173=\"\",\"\",'AVI (Desc)'!B173)","v":""},{"$f":"IF('AVI (Desc)'!C173=\"\",\"\",'AVI (Desc)'!C173)","v":""},{"$f":"IF('AVI (Desc)'!D173=\"\",\"\",'AVI (Desc)'!D173)","v":""},{"$f":"IF('AVI (Desc)'!E173=\"\",\"\",INDEX([1]ASSET_ID_SOURCE!$A$2:$A$50,MATCH('AVI (Desc)'!E173,[1]!MASTER_ASSET_ID_SOURCE_DESC,0),0))","v":""},{"$f":"IF('AVI (Desc)'!F173=\"\",\"\",'AVI (Desc)'!F173)","v":""},{"$f":"IF('AVI (Desc)'!G173=\"\",\"\",'AVI (Desc)'!G173)","v":""},{"$f":"IF('AVI (Desc)'!H173=\"\",\"\",INDEX([1]OWNER!$A$2:$A$100,MATCH('AVI (Desc)'!$H173,[1]!MASTER_OWNER_DESC[#Data],0),0))","v":""},{"$f":"IF('AVI (Desc)'!I173=\"\",\"\",INDEX([1]COUNTY!$A$2:$A$80,MATCH('AVI (Desc)'!I173,[1]!MASTER_COUNTY_NAME[#Data],0),0))","v":""},{"$f":"IF('AVI (Desc)'!J173=\"\",\"\",'AVI (Desc)'!J173)","v":""},{"$f":"IF('AVI (Desc)'!K173=\"\",\"\",INDEX([1]AVI_SENSOR_TYPE!$A$2:$A$7,MATCH('AVI (Desc)'!K173,[1]!MASTER_AVI_SENSOR_TYPE_DESC,0),0))","v":""}]
[{"$f":"IF('AVI (Desc)'!A174=\"\",\"\",'AVI (Desc)'!A174)","v":""},{"$f":"IF('AVI (Desc)'!B174=\"\",\"\",'AVI (Desc)'!B174)","v":""},{"$f":"IF('AVI (Desc)'!C174=\"\",\"\",'AVI (Desc)'!C174)","v":""},{"$f":"IF('AVI (Desc)'!D174=\"\",\"\",'AVI (Desc)'!D174)","v":""},{"$f":"IF('AVI (Desc)'!E174=\"\",\"\",INDEX([1]ASSET_ID_SOURCE!$A$2:$A$50,MATCH('AVI (Desc)'!E174,[1]!MASTER_ASSET_ID_SOURCE_DESC,0),0))","v":""},{"$f":"IF('AVI (Desc)'!F174=\"\",\"\",'AVI (Desc)'!F174)","v":""},{"$f":"IF('AVI (Desc)'!G174=\"\",\"\",'AVI (Desc)'!G174)","v":""},{"$f":"IF('AVI (Desc)'!H174=\"\",\"\",INDEX([1]OWNER!$A$2:$A$100,MATCH('AVI (Desc)'!$H174,[1]!MASTER_OWNER_DESC[#Data],0),0))","v":""},{"$f":"IF('AVI (Desc)'!I174=\"\",\"\",INDEX([1]COUNTY!$A$2:$A$80,MATCH('AVI (Desc)'!I174,[1]!MASTER_COUNTY_NAME[#Data],0),0))","v":""},{"$f":"IF('AVI (Desc)'!J174=\"\",\"\",'AVI (Desc)'!J174)","v":""},{"$f":"IF('AVI (Desc)'!K174=\"\",\"\",INDEX([1]AVI_SENSOR_TYPE!$A$2:$A$7,MATCH('AVI (Desc)'!K174,[1]!MASTER_AVI_SENSOR_TYPE_DESC,0),0))","v":""}]
[{"$f":"IF('AVI (Desc)'!A175=\"\",\"\",'AVI (Desc)'!A175)","v":""},{"$f":"IF('AVI (Desc)'!B175=\"\",\"\",'AVI (Desc)'!B175)","v":""},{"$f":"IF('AVI (Desc)'!C175=\"\",\"\",'AVI (Desc)'!C175)","v":""},{"$f":"IF('AVI (Desc)'!D175=\"\",\"\",'AVI (Desc)'!D175)","v":""},{"$f":"IF('AVI (Desc)'!E175=\"\",\"\",INDEX([1]ASSET_ID_SOURCE!$A$2:$A$50,MATCH('AVI (Desc)'!E175,[1]!MASTER_ASSET_ID_SOURCE_DESC,0),0))","v":""},{"$f":"IF('AVI (Desc)'!F175=\"\",\"\",'AVI (Desc)'!F175)","v":""},{"$f":"IF('AVI (Desc)'!G175=\"\",\"\",'AVI (Desc)'!G175)","v":""},{"$f":"IF('AVI (Desc)'!H175=\"\",\"\",INDEX([1]OWNER!$A$2:$A$100,MATCH('AVI (Desc)'!$H175,[1]!MASTER_OWNER_DESC[#Data],0),0))","v":""},{"$f":"IF('AVI (Desc)'!I175=\"\",\"\",INDEX([1]COUNTY!$A$2:$A$80,MATCH('AVI (Desc)'!I175,[1]!MASTER_COUNTY_NAME[#Data],0),0))","v":""},{"$f":"IF('AVI (Desc)'!J175=\"\",\"\",'AVI (Desc)'!J175)","v":""},{"$f":"IF('AVI (Desc)'!K175=\"\",\"\",INDEX([1]AVI_SENSOR_TYPE!$A$2:$A$7,MATCH('AVI (Desc)'!K175,[1]!MASTER_AVI_SENSOR_TYPE_DESC,0),0))","v":""}]
[{"$f":"IF('AVI (Desc)'!A176=\"\",\"\",'AVI (Desc)'!A176)","v":""},{"$f":"IF('AVI (Desc)'!B176=\"\",\"\",'AVI (Desc)'!B176)","v":""},{"$f":"IF('AVI (Desc)'!C176=\"\",\"\",'AVI (Desc)'!C176)","v":""},{"$f":"IF('AVI (Desc)'!D176=\"\",\"\",'AVI (Desc)'!D176)","v":""},{"$f":"IF('AVI (Desc)'!E176=\"\",\"\",INDEX([1]ASSET_ID_SOURCE!$A$2:$A$50,MATCH('AVI (Desc)'!E176,[1]!MASTER_ASSET_ID_SOURCE_DESC,0),0))","v":""},{"$f":"IF('AVI (Desc)'!F176=\"\",\"\",'AVI (Desc)'!F176)","v":""},{"$f":"IF('AVI (Desc)'!G176=\"\",\"\",'AVI (Desc)'!G176)","v":""},{"$f":"IF('AVI (Desc)'!H176=\"\",\"\",INDEX([1]OWNER!$A$2:$A$100,MATCH('AVI (Desc)'!$H176,[1]!MASTER_OWNER_DESC[#Data],0),0))","v":""},{"$f":"IF('AVI (Desc)'!I176=\"\",\"\",INDEX([1]COUNTY!$A$2:$A$80,MATCH('AVI (Desc)'!I176,[1]!MASTER_COUNTY_NAME[#Data],0),0))","v":""},{"$f":"IF('AVI (Desc)'!J176=\"\",\"\",'AVI (Desc)'!J176)","v":""},{"$f":"IF('AVI (Desc)'!K176=\"\",\"\",INDEX([1]AVI_SENSOR_TYPE!$A$2:$A$7,MATCH('AVI (Desc)'!K176,[1]!MASTER_AVI_SENSOR_TYPE_DESC,0),0))","v":""}]
[{"$f":"IF('AVI (Desc)'!A177=\"\",\"\",'AVI (Desc)'!A177)","v":""},{"$f":"IF('AVI (Desc)'!B177=\"\",\"\",'AVI (Desc)'!B177)","v":""},{"$f":"IF('AVI (Desc)'!C177=\"\",\"\",'AVI (Desc)'!C177)","v":""},{"$f":"IF('AVI (Desc)'!D177=\"\",\"\",'AVI (Desc)'!D177)","v":""},{"$f":"IF('AVI (Desc)'!E177=\"\",\"\",INDEX([1]ASSET_ID_SOURCE!$A$2:$A$50,MATCH('AVI (Desc)'!E177,[1]!MASTER_ASSET_ID_SOURCE_DESC,0),0))","v":""},{"$f":"IF('AVI (Desc)'!F177=\"\",\"\",'AVI (Desc)'!F177)","v":""},{"$f":"IF('AVI (Desc)'!G177=\"\",\"\",'AVI (Desc)'!G177)","v":""},{"$f":"IF('AVI (Desc)'!H177=\"\",\"\",INDEX([1]OWNER!$A$2:$A$100,MATCH('AVI (Desc)'!$H177,[1]!MASTER_OWNER_DESC[#Data],0),0))","v":""},{"$f":"IF('AVI (Desc)'!I177=\"\",\"\",INDEX([1]COUNTY!$A$2:$A$80,MATCH('AVI (Desc)'!I177,[1]!MASTER_COUNTY_NAME[#Data],0),0))","v":""},{"$f":"IF('AVI (Desc)'!J177=\"\",\"\",'AVI (Desc)'!J177)","v":""},{"$f":"IF('AVI (Desc)'!K177=\"\",\"\",INDEX([1]AVI_SENSOR_TYPE!$A$2:$A$7,MATCH('AVI (Desc)'!K177,[1]!MASTER_AVI_SENSOR_TYPE_DESC,0),0))","v":""}]
[{"$f":"IF('AVI (Desc)'!A178=\"\",\"\",'AVI (Desc)'!A178)","v":""},{"$f":"IF('AVI (Desc)'!B178=\"\",\"\",'AVI (Desc)'!B178)","v":""},{"$f":"IF('AVI (Desc)'!C178=\"\",\"\",'AVI (Desc)'!C178)","v":""},{"$f":"IF('AVI (Desc)'!D178=\"\",\"\",'AVI (Desc)'!D178)","v":""},{"$f":"IF('AVI (Desc)'!E178=\"\",\"\",INDEX([1]ASSET_ID_SOURCE!$A$2:$A$50,MATCH('AVI (Desc)'!E178,[1]!MASTER_ASSET_ID_SOURCE_DESC,0),0))","v":""},{"$f":"IF('AVI (Desc)'!F178=\"\",\"\",'AVI (Desc)'!F178)","v":""},{"$f":"IF('AVI (Desc)'!G178=\"\",\"\",'AVI (Desc)'!G178)","v":""},{"$f":"IF('AVI (Desc)'!H178=\"\",\"\",INDEX([1]OWNER!$A$2:$A$100,MATCH('AVI (Desc)'!$H178,[1]!MASTER_OWNER_DESC[#Data],0),0))","v":""},{"$f":"IF('AVI (Desc)'!I178=\"\",\"\",INDEX([1]COUNTY!$A$2:$A$80,MATCH('AVI (Desc)'!I178,[1]!MASTER_COUNTY_NAME[#Data],0),0))","v":""},{"$f":"IF('AVI (Desc)'!J178=\"\",\"\",'AVI (Desc)'!J178)","v":""},{"$f":"IF('AVI (Desc)'!K178=\"\",\"\",INDEX([1]AVI_SENSOR_TYPE!$A$2:$A$7,MATCH('AVI (Desc)'!K178,[1]!MASTER_AVI_SENSOR_TYPE_DESC,0),0))","v":""}]
[{"$f":"IF('AVI (Desc)'!A179=\"\",\"\",'AVI (Desc)'!A179)","v":""},{"$f":"IF('AVI (Desc)'!B179=\"\",\"\",'AVI (Desc)'!B179)","v":""},{"$f":"IF('AVI (Desc)'!C179=\"\",\"\",'AVI (Desc)'!C179)","v":""},{"$f":"IF('AVI (Desc)'!D179=\"\",\"\",'AVI (Desc)'!D179)","v":""},{"$f":"IF('AVI (Desc)'!E179=\"\",\"\",INDEX([1]ASSET_ID_SOURCE!$A$2:$A$50,MATCH('AVI (Desc)'!E179,[1]!MASTER_ASSET_ID_SOURCE_DESC,0),0))","v":""},{"$f":"IF('AVI (Desc)'!F179=\"\",\"\",'AVI (Desc)'!F179)","v":""},{"$f":"IF('AVI (Desc)'!G179=\"\",\"\",'AVI (Desc)'!G179)","v":""},{"$f":"IF('AVI (Desc)'!H179=\"\",\"\",INDEX([1]OWNER!$A$2:$A$100,MATCH('AVI (Desc)'!$H179,[1]!MASTER_OWNER_DESC[#Data],0),0))","v":""},{"$f":"IF('AVI (Desc)'!I179=\"\",\"\",INDEX([1]COUNTY!$A$2:$A$80,MATCH('AVI (Desc)'!I179,[1]!MASTER_COUNTY_NAME[#Data],0),0))","v":""},{"$f":"IF('AVI (Desc)'!J179=\"\",\"\",'AVI (Desc)'!J179)","v":""},{"$f":"IF('AVI (Desc)'!K179=\"\",\"\",INDEX([1]AVI_SENSOR_TYPE!$A$2:$A$7,MATCH('AVI (Desc)'!K179,[1]!MASTER_AVI_SENSOR_TYPE_DESC,0),0))","v":""}]
[{"$f":"IF('AVI (Desc)'!A180=\"\",\"\",'AVI (Desc)'!A180)","v":""},{"$f":"IF('AVI (Desc)'!B180=\"\",\"\",'AVI (Desc)'!B180)","v":""},{"$f":"IF('AVI (Desc)'!C180=\"\",\"\",'AVI (Desc)'!C180)","v":""},{"$f":"IF('AVI (Desc)'!D180=\"\",\"\",'AVI (Desc)'!D180)","v":""},{"$f":"IF('AVI (Desc)'!E180=\"\",\"\",INDEX([1]ASSET_ID_SOURCE!$A$2:$A$50,MATCH('AVI (Desc)'!E180,[1]!MASTER_ASSET_ID_SOURCE_DESC,0),0))","v":""},{"$f":"IF('AVI (Desc)'!F180=\"\",\"\",'AVI (Desc)'!F180)","v":""},{"$f":"IF('AVI (Desc)'!G180=\"\",\"\",'AVI (Desc)'!G180)","v":""},{"$f":"IF('AVI (Desc)'!H180=\"\",\"\",INDEX([1]OWNER!$A$2:$A$100,MATCH('AVI (Desc)'!$H180,[1]!MASTER_OWNER_DESC[#Data],0),0))","v":""},{"$f":"IF('AVI (Desc)'!I180=\"\",\"\",INDEX([1]COUNTY!$A$2:$A$80,MATCH('AVI (Desc)'!I180,[1]!MASTER_COUNTY_NAME[#Data],0),0))","v":""},{"$f":"IF('AVI (Desc)'!J180=\"\",\"\",'AVI (Desc)'!J180)","v":""},{"$f":"IF('AVI (Desc)'!K180=\"\",\"\",INDEX([1]AVI_SENSOR_TYPE!$A$2:$A$7,MATCH('AVI (Desc)'!K180,[1]!MASTER_AVI_SENSOR_TYPE_DESC,0),0))","v":""}]
[{"$f":"IF('AVI (Desc)'!A181=\"\",\"\",'AVI (Desc)'!A181)","v":""},{"$f":"IF('AVI (Desc)'!B181=\"\",\"\",'AVI (Desc)'!B181)","v":""},{"$f":"IF('AVI (Desc)'!C181=\"\",\"\",'AVI (Desc)'!C181)","v":""},{"$f":"IF('AVI (Desc)'!D181=\"\",\"\",'AVI (Desc)'!D181)","v":""},{"$f":"IF('AVI (Desc)'!E181=\"\",\"\",INDEX([1]ASSET_ID_SOURCE!$A$2:$A$50,MATCH('AVI (Desc)'!E181,[1]!MASTER_ASSET_ID_SOURCE_DESC,0),0))","v":""},{"$f":"IF('AVI (Desc)'!F181=\"\",\"\",'AVI (Desc)'!F181)","v":""},{"$f":"IF('AVI (Desc)'!G181=\"\",\"\",'AVI (Desc)'!G181)","v":""},{"$f":"IF('AVI (Desc)'!H181=\"\",\"\",INDEX([1]OWNER!$A$2:$A$100,MATCH('AVI (Desc)'!$H181,[1]!MASTER_OWNER_DESC[#Data],0),0))","v":""},{"$f":"IF('AVI (Desc)'!I181=\"\",\"\",INDEX([1]COUNTY!$A$2:$A$80,MATCH('AVI (Desc)'!I181,[1]!MASTER_COUNTY_NAME[#Data],0),0))","v":""},{"$f":"IF('AVI (Desc)'!J181=\"\",\"\",'AVI (Desc)'!J181)","v":""},{"$f":"IF('AVI (Desc)'!K181=\"\",\"\",INDEX([1]AVI_SENSOR_TYPE!$A$2:$A$7,MATCH('AVI (Desc)'!K181,[1]!MASTER_AVI_SENSOR_TYPE_DESC,0),0))","v":""}]
[{"$f":"IF('AVI (Desc)'!A182=\"\",\"\",'AVI (Desc)'!A182)","v":""},{"$f":"IF('AVI (Desc)'!B182=\"\",\"\",'AVI (Desc)'!B182)","v":""},{"$f":"IF('AVI (Desc)'!C182=\"\",\"\",'AVI (Desc)'!C182)","v":""},{"$f":"IF('AVI (Desc)'!D182=\"\",\"\",'AVI (Desc)'!D182)","v":""},{"$f":"IF('AVI (Desc)'!E182=\"\",\"\",INDEX([1]ASSET_ID_SOURCE!$A$2:$A$50,MATCH('AVI (Desc)'!E182,[1]!MASTER_ASSET_ID_SOURCE_DESC,0),0))","v":""},{"$f":"IF('AVI (Desc)'!F182=\"\",\"\",'AVI (Desc)'!F182)","v":""},{"$f":"IF('AVI (Desc)'!G182=\"\",\"\",'AVI (Desc)'!G182)","v":""},{"$f":"IF('AVI (Desc)'!H182=\"\",\"\",INDEX([1]OWNER!$A$2:$A$100,MATCH('AVI (Desc)'!$H182,[1]!MASTER_OWNER_DESC[#Data],0),0))","v":""},{"$f":"IF('AVI (Desc)'!I182=\"\",\"\",INDEX([1]COUNTY!$A$2:$A$80,MATCH('AVI (Desc)'!I182,[1]!MASTER_COUNTY_NAME[#Data],0),0))","v":""},{"$f":"IF('AVI (Desc)'!J182=\"\",\"\",'AVI (Desc)'!J182)","v":""},{"$f":"IF('AVI (Desc)'!K182=\"\",\"\",INDEX([1]AVI_SENSOR_TYPE!$A$2:$A$7,MATCH('AVI (Desc)'!K182,[1]!MASTER_AVI_SENSOR_TYPE_DESC,0),0))","v":""}]
[{"$f":"IF('AVI (Desc)'!A183=\"\",\"\",'AVI (Desc)'!A183)","v":""},{"$f":"IF('AVI (Desc)'!B183=\"\",\"\",'AVI (Desc)'!B183)","v":""},{"$f":"IF('AVI (Desc)'!C183=\"\",\"\",'AVI (Desc)'!C183)","v":""},{"$f":"IF('AVI (Desc)'!D183=\"\",\"\",'AVI (Desc)'!D183)","v":""},{"$f":"IF('AVI (Desc)'!E183=\"\",\"\",INDEX([1]ASSET_ID_SOURCE!$A$2:$A$50,MATCH('AVI (Desc)'!E183,[1]!MASTER_ASSET_ID_SOURCE_DESC,0),0))","v":""},{"$f":"IF('AVI (Desc)'!F183=\"\",\"\",'AVI (Desc)'!F183)","v":""},{"$f":"IF('AVI (Desc)'!G183=\"\",\"\",'AVI (Desc)'!G183)","v":""},{"$f":"IF('AVI (Desc)'!H183=\"\",\"\",INDEX([1]OWNER!$A$2:$A$100,MATCH('AVI (Desc)'!$H183,[1]!MASTER_OWNER_DESC[#Data],0),0))","v":""},{"$f":"IF('AVI (Desc)'!I183=\"\",\"\",INDEX([1]COUNTY!$A$2:$A$80,MATCH('AVI (Desc)'!I183,[1]!MASTER_COUNTY_NAME[#Data],0),0))","v":""},{"$f":"IF('AVI (Desc)'!J183=\"\",\"\",'AVI (Desc)'!J183)","v":""},{"$f":"IF('AVI (Desc)'!K183=\"\",\"\",INDEX([1]AVI_SENSOR_TYPE!$A$2:$A$7,MATCH('AVI (Desc)'!K183,[1]!MASTER_AVI_SENSOR_TYPE_DESC,0),0))","v":""}]
[{"$f":"IF('AVI (Desc)'!A184=\"\",\"\",'AVI (Desc)'!A184)","v":""},{"$f":"IF('AVI (Desc)'!B184=\"\",\"\",'AVI (Desc)'!B184)","v":""},{"$f":"IF('AVI (Desc)'!C184=\"\",\"\",'AVI (Desc)'!C184)","v":""},{"$f":"IF('AVI (Desc)'!D184=\"\",\"\",'AVI (Desc)'!D184)","v":""},{"$f":"IF('AVI (Desc)'!E184=\"\",\"\",INDEX([1]ASSET_ID_SOURCE!$A$2:$A$50,MATCH('AVI (Desc)'!E184,[1]!MASTER_ASSET_ID_SOURCE_DESC,0),0))","v":""},{"$f":"IF('AVI (Desc)'!F184=\"\",\"\",'AVI (Desc)'!F184)","v":""},{"$f":"IF('AVI (Desc)'!G184=\"\",\"\",'AVI (Desc)'!G184)","v":""},{"$f":"IF('AVI (Desc)'!H184=\"\",\"\",INDEX([1]OWNER!$A$2:$A$100,MATCH('AVI (Desc)'!$H184,[1]!MASTER_OWNER_DESC[#Data],0),0))","v":""},{"$f":"IF('AVI (Desc)'!I184=\"\",\"\",INDEX([1]COUNTY!$A$2:$A$80,MATCH('AVI (Desc)'!I184,[1]!MASTER_COUNTY_NAME[#Data],0),0))","v":""},{"$f":"IF('AVI (Desc)'!J184=\"\",\"\",'AVI (Desc)'!J184)","v":""},{"$f":"IF('AVI (Desc)'!K184=\"\",\"\",INDEX([1]AVI_SENSOR_TYPE!$A$2:$A$7,MATCH('AVI (Desc)'!K184,[1]!MASTER_AVI_SENSOR_TYPE_DESC,0),0))","v":""}]
[{"$f":"IF('AVI (Desc)'!A185=\"\",\"\",'AVI (Desc)'!A185)","v":""},{"$f":"IF('AVI (Desc)'!B185=\"\",\"\",'AVI (Desc)'!B185)","v":""},{"$f":"IF('AVI (Desc)'!C185=\"\",\"\",'AVI (Desc)'!C185)","v":""},{"$f":"IF('AVI (Desc)'!D185=\"\",\"\",'AVI (Desc)'!D185)","v":""},{"$f":"IF('AVI (Desc)'!E185=\"\",\"\",INDEX([1]ASSET_ID_SOURCE!$A$2:$A$50,MATCH('AVI (Desc)'!E185,[1]!MASTER_ASSET_ID_SOURCE_DESC,0),0))","v":""},{"$f":"IF('AVI (Desc)'!F185=\"\",\"\",'AVI (Desc)'!F185)","v":""},{"$f":"IF('AVI (Desc)'!G185=\"\",\"\",'AVI (Desc)'!G185)","v":""},{"$f":"IF('AVI (Desc)'!H185=\"\",\"\",INDEX([1]OWNER!$A$2:$A$100,MATCH('AVI (Desc)'!$H185,[1]!MASTER_OWNER_DESC[#Data],0),0))","v":""},{"$f":"IF('AVI (Desc)'!I185=\"\",\"\",INDEX([1]COUNTY!$A$2:$A$80,MATCH('AVI (Desc)'!I185,[1]!MASTER_COUNTY_NAME[#Data],0),0))","v":""},{"$f":"IF('AVI (Desc)'!J185=\"\",\"\",'AVI (Desc)'!J185)","v":""},{"$f":"IF('AVI (Desc)'!K185=\"\",\"\",INDEX([1]AVI_SENSOR_TYPE!$A$2:$A$7,MATCH('AVI (Desc)'!K185,[1]!MASTER_AVI_SENSOR_TYPE_DESC,0),0))","v":""}]
[{"$f":"IF('AVI (Desc)'!A186=\"\",\"\",'AVI (Desc)'!A186)","v":""},{"$f":"IF('AVI (Desc)'!B186=\"\",\"\",'AVI (Desc)'!B186)","v":""},{"$f":"IF('AVI (Desc)'!C186=\"\",\"\",'AVI (Desc)'!C186)","v":""},{"$f":"IF('AVI (Desc)'!D186=\"\",\"\",'AVI (Desc)'!D186)","v":""},{"$f":"IF('AVI (Desc)'!E186=\"\",\"\",INDEX([1]ASSET_ID_SOURCE!$A$2:$A$50,MATCH('AVI (Desc)'!E186,[1]!MASTER_ASSET_ID_SOURCE_DESC,0),0))","v":""},{"$f":"IF('AVI (Desc)'!F186=\"\",\"\",'AVI (Desc)'!F186)","v":""},{"$f":"IF('AVI (Desc)'!G186=\"\",\"\",'AVI (Desc)'!G186)","v":""},{"$f":"IF('AVI (Desc)'!H186=\"\",\"\",INDEX([1]OWNER!$A$2:$A$100,MATCH('AVI (Desc)'!$H186,[1]!MASTER_OWNER_DESC[#Data],0),0))","v":""},{"$f":"IF('AVI (Desc)'!I186=\"\",\"\",INDEX([1]COUNTY!$A$2:$A$80,MATCH('AVI (Desc)'!I186,[1]!MASTER_COUNTY_NAME[#Data],0),0))","v":""},{"$f":"IF('AVI (Desc)'!J186=\"\",\"\",'AVI (Desc)'!J186)","v":""},{"$f":"IF('AVI (Desc)'!K186=\"\",\"\",INDEX([1]AVI_SENSOR_TYPE!$A$2:$A$7,MATCH('AVI (Desc)'!K186,[1]!MASTER_AVI_SENSOR_TYPE_DESC,0),0))","v":""}]
[{"$f":"IF('AVI (Desc)'!A187=\"\",\"\",'AVI (Desc)'!A187)","v":""},{"$f":"IF('AVI (Desc)'!B187=\"\",\"\",'AVI (Desc)'!B187)","v":""},{"$f":"IF('AVI (Desc)'!C187=\"\",\"\",'AVI (Desc)'!C187)","v":""},{"$f":"IF('AVI (Desc)'!D187=\"\",\"\",'AVI (Desc)'!D187)","v":""},{"$f":"IF('AVI (Desc)'!E187=\"\",\"\",INDEX([1]ASSET_ID_SOURCE!$A$2:$A$50,MATCH('AVI (Desc)'!E187,[1]!MASTER_ASSET_ID_SOURCE_DESC,0),0))","v":""},{"$f":"IF('AVI (Desc)'!F187=\"\",\"\",'AVI (Desc)'!F187)","v":""},{"$f":"IF('AVI (Desc)'!G187=\"\",\"\",'AVI (Desc)'!G187)","v":""},{"$f":"IF('AVI (Desc)'!H187=\"\",\"\",INDEX([1]OWNER!$A$2:$A$100,MATCH('AVI (Desc)'!$H187,[1]!MASTER_OWNER_DESC[#Data],0),0))","v":""},{"$f":"IF('AVI (Desc)'!I187=\"\",\"\",INDEX([1]COUNTY!$A$2:$A$80,MATCH('AVI (Desc)'!I187,[1]!MASTER_COUNTY_NAME[#Data],0),0))","v":""},{"$f":"IF('AVI (Desc)'!J187=\"\",\"\",'AVI (Desc)'!J187)","v":""},{"$f":"IF('AVI (Desc)'!K187=\"\",\"\",INDEX([1]AVI_SENSOR_TYPE!$A$2:$A$7,MATCH('AVI (Desc)'!K187,[1]!MASTER_AVI_SENSOR_TYPE_DESC,0),0))","v":""}]
[{"$f":"IF('AVI (Desc)'!A188=\"\",\"\",'AVI (Desc)'!A188)","v":""},{"$f":"IF('AVI (Desc)'!B188=\"\",\"\",'AVI (Desc)'!B188)","v":""},{"$f":"IF('AVI (Desc)'!C188=\"\",\"\",'AVI (Desc)'!C188)","v":""},{"$f":"IF('AVI (Desc)'!D188=\"\",\"\",'AVI (Desc)'!D188)","v":""},{"$f":"IF('AVI (Desc)'!E188=\"\",\"\",INDEX([1]ASSET_ID_SOURCE!$A$2:$A$50,MATCH('AVI (Desc)'!E188,[1]!MASTER_ASSET_ID_SOURCE_DESC,0),0))","v":""},{"$f":"IF('AVI (Desc)'!F188=\"\",\"\",'AVI (Desc)'!F188)","v":""},{"$f":"IF('AVI (Desc)'!G188=\"\",\"\",'AVI (Desc)'!G188)","v":""},{"$f":"IF('AVI (Desc)'!H188=\"\",\"\",INDEX([1]OWNER!$A$2:$A$100,MATCH('AVI (Desc)'!$H188,[1]!MASTER_OWNER_DESC[#Data],0),0))","v":""},{"$f":"IF('AVI (Desc)'!I188=\"\",\"\",INDEX([1]COUNTY!$A$2:$A$80,MATCH('AVI (Desc)'!I188,[1]!MASTER_COUNTY_NAME[#Data],0),0))","v":""},{"$f":"IF('AVI (Desc)'!J188=\"\",\"\",'AVI (Desc)'!J188)","v":""},{"$f":"IF('AVI (Desc)'!K188=\"\",\"\",INDEX([1]AVI_SENSOR_TYPE!$A$2:$A$7,MATCH('AVI (Desc)'!K188,[1]!MASTER_AVI_SENSOR_TYPE_DESC,0),0))","v":""}]
[{"$f":"IF('AVI (Desc)'!A189=\"\",\"\",'AVI (Desc)'!A189)","v":""},{"$f":"IF('AVI (Desc)'!B189=\"\",\"\",'AVI (Desc)'!B189)","v":""},{"$f":"IF('AVI (Desc)'!C189=\"\",\"\",'AVI (Desc)'!C189)","v":""},{"$f":"IF('AVI (Desc)'!D189=\"\",\"\",'AVI (Desc)'!D189)","v":""},{"$f":"IF('AVI (Desc)'!E189=\"\",\"\",INDEX([1]ASSET_ID_SOURCE!$A$2:$A$50,MATCH('AVI (Desc)'!E189,[1]!MASTER_ASSET_ID_SOURCE_DESC,0),0))","v":""},{"$f":"IF('AVI (Desc)'!F189=\"\",\"\",'AVI (Desc)'!F189)","v":""},{"$f":"IF('AVI (Desc)'!G189=\"\",\"\",'AVI (Desc)'!G189)","v":""},{"$f":"IF('AVI (Desc)'!H189=\"\",\"\",INDEX([1]OWNER!$A$2:$A$100,MATCH('AVI (Desc)'!$H189,[1]!MASTER_OWNER_DESC[#Data],0),0))","v":""},{"$f":"IF('AVI (Desc)'!I189=\"\",\"\",INDEX([1]COUNTY!$A$2:$A$80,MATCH('AVI (Desc)'!I189,[1]!MASTER_COUNTY_NAME[#Data],0),0))","v":""},{"$f":"IF('AVI (Desc)'!J189=\"\",\"\",'AVI (Desc)'!J189)","v":""},{"$f":"IF('AVI (Desc)'!K189=\"\",\"\",INDEX([1]AVI_SENSOR_TYPE!$A$2:$A$7,MATCH('AVI (Desc)'!K189,[1]!MASTER_AVI_SENSOR_TYPE_DESC,0),0))","v":""}]
[{"$f":"IF('AVI (Desc)'!A190=\"\",\"\",'AVI (Desc)'!A190)","v":""},{"$f":"IF('AVI (Desc)'!B190=\"\",\"\",'AVI (Desc)'!B190)","v":""},{"$f":"IF('AVI (Desc)'!C190=\"\",\"\",'AVI (Desc)'!C190)","v":""},{"$f":"IF('AVI (Desc)'!D190=\"\",\"\",'AVI (Desc)'!D190)","v":""},{"$f":"IF('AVI (Desc)'!E190=\"\",\"\",INDEX([1]ASSET_ID_SOURCE!$A$2:$A$50,MATCH('AVI (Desc)'!E190,[1]!MASTER_ASSET_ID_SOURCE_DESC,0),0))","v":""},{"$f":"IF('AVI (Desc)'!F190=\"\",\"\",'AVI (Desc)'!F190)","v":""},{"$f":"IF('AVI (Desc)'!G190=\"\",\"\",'AVI (Desc)'!G190)","v":""},{"$f":"IF('AVI (Desc)'!H190=\"\",\"\",INDEX([1]OWNER!$A$2:$A$100,MATCH('AVI (Desc)'!$H190,[1]!MASTER_OWNER_DESC[#Data],0),0))","v":""},{"$f":"IF('AVI (Desc)'!I190=\"\",\"\",INDEX([1]COUNTY!$A$2:$A$80,MATCH('AVI (Desc)'!I190,[1]!MASTER_COUNTY_NAME[#Data],0),0))","v":""},{"$f":"IF('AVI (Desc)'!J190=\"\",\"\",'AVI (Desc)'!J190)","v":""},{"$f":"IF('AVI (Desc)'!K190=\"\",\"\",INDEX([1]AVI_SENSOR_TYPE!$A$2:$A$7,MATCH('AVI (Desc)'!K190,[1]!MASTER_AVI_SENSOR_TYPE_DESC,0),0))","v":""}]
[{"$f":"IF('AVI (Desc)'!A191=\"\",\"\",'AVI (Desc)'!A191)","v":""},{"$f":"IF('AVI (Desc)'!B191=\"\",\"\",'AVI (Desc)'!B191)","v":""},{"$f":"IF('AVI (Desc)'!C191=\"\",\"\",'AVI (Desc)'!C191)","v":""},{"$f":"IF('AVI (Desc)'!D191=\"\",\"\",'AVI (Desc)'!D191)","v":""},{"$f":"IF('AVI (Desc)'!E191=\"\",\"\",INDEX([1]ASSET_ID_SOURCE!$A$2:$A$50,MATCH('AVI (Desc)'!E191,[1]!MASTER_ASSET_ID_SOURCE_DESC,0),0))","v":""},{"$f":"IF('AVI (Desc)'!F191=\"\",\"\",'AVI (Desc)'!F191)","v":""},{"$f":"IF('AVI (Desc)'!G191=\"\",\"\",'AVI (Desc)'!G191)","v":""},{"$f":"IF('AVI (Desc)'!H191=\"\",\"\",INDEX([1]OWNER!$A$2:$A$100,MATCH('AVI (Desc)'!$H191,[1]!MASTER_OWNER_DESC[#Data],0),0))","v":""},{"$f":"IF('AVI (Desc)'!I191=\"\",\"\",INDEX([1]COUNTY!$A$2:$A$80,MATCH('AVI (Desc)'!I191,[1]!MASTER_COUNTY_NAME[#Data],0),0))","v":""},{"$f":"IF('AVI (Desc)'!J191=\"\",\"\",'AVI (Desc)'!J191)","v":""},{"$f":"IF('AVI (Desc)'!K191=\"\",\"\",INDEX([1]AVI_SENSOR_TYPE!$A$2:$A$7,MATCH('AVI (Desc)'!K191,[1]!MASTER_AVI_SENSOR_TYPE_DESC,0),0))","v":""}]
[{"$f":"IF('AVI (Desc)'!A192=\"\",\"\",'AVI (Desc)'!A192)","v":""},{"$f":"IF('AVI (Desc)'!B192=\"\",\"\",'AVI (Desc)'!B192)","v":""},{"$f":"IF('AVI (Desc)'!C192=\"\",\"\",'AVI (Desc)'!C192)","v":""},{"$f":"IF('AVI (Desc)'!D192=\"\",\"\",'AVI (Desc)'!D192)","v":""},{"$f":"IF('AVI (Desc)'!E192=\"\",\"\",INDEX([1]ASSET_ID_SOURCE!$A$2:$A$50,MATCH('AVI (Desc)'!E192,[1]!MASTER_ASSET_ID_SOURCE_DESC,0),0))","v":""},{"$f":"IF('AVI (Desc)'!F192=\"\",\"\",'AVI (Desc)'!F192)","v":""},{"$f":"IF('AVI (Desc)'!G192=\"\",\"\",'AVI (Desc)'!G192)","v":""},{"$f":"IF('AVI (Desc)'!H192=\"\",\"\",INDEX([1]OWNER!$A$2:$A$100,MATCH('AVI (Desc)'!$H192,[1]!MASTER_OWNER_DESC[#Data],0),0))","v":""},{"$f":"IF('AVI (Desc)'!I192=\"\",\"\",INDEX([1]COUNTY!$A$2:$A$80,MATCH('AVI (Desc)'!I192,[1]!MASTER_COUNTY_NAME[#Data],0),0))","v":""},{"$f":"IF('AVI (Desc)'!J192=\"\",\"\",'AVI (Desc)'!J192)","v":""},{"$f":"IF('AVI (Desc)'!K192=\"\",\"\",INDEX([1]AVI_SENSOR_TYPE!$A$2:$A$7,MATCH('AVI (Desc)'!K192,[1]!MASTER_AVI_SENSOR_TYPE_DESC,0),0))","v":""}]
[{"$f":"IF('AVI (Desc)'!A193=\"\",\"\",'AVI (Desc)'!A193)","v":""},{"$f":"IF('AVI (Desc)'!B193=\"\",\"\",'AVI (Desc)'!B193)","v":""},{"$f":"IF('AVI (Desc)'!C193=\"\",\"\",'AVI (Desc)'!C193)","v":""},{"$f":"IF('AVI (Desc)'!D193=\"\",\"\",'AVI (Desc)'!D193)","v":""},{"$f":"IF('AVI (Desc)'!E193=\"\",\"\",INDEX([1]ASSET_ID_SOURCE!$A$2:$A$50,MATCH('AVI (Desc)'!E193,[1]!MASTER_ASSET_ID_SOURCE_DESC,0),0))","v":""},{"$f":"IF('AVI (Desc)'!F193=\"\",\"\",'AVI (Desc)'!F193)","v":""},{"$f":"IF('AVI (Desc)'!G193=\"\",\"\",'AVI (Desc)'!G193)","v":""},{"$f":"IF('AVI (Desc)'!H193=\"\",\"\",INDEX([1]OWNER!$A$2:$A$100,MATCH('AVI (Desc)'!$H193,[1]!MASTER_OWNER_DESC[#Data],0),0))","v":""},{"$f":"IF('AVI (Desc)'!I193=\"\",\"\",INDEX([1]COUNTY!$A$2:$A$80,MATCH('AVI (Desc)'!I193,[1]!MASTER_COUNTY_NAME[#Data],0),0))","v":""},{"$f":"IF('AVI (Desc)'!J193=\"\",\"\",'AVI (Desc)'!J193)","v":""},{"$f":"IF('AVI (Desc)'!K193=\"\",\"\",INDEX([1]AVI_SENSOR_TYPE!$A$2:$A$7,MATCH('AVI (Desc)'!K193,[1]!MASTER_AVI_SENSOR_TYPE_DESC,0),0))","v":""}]
[{"$f":"IF('AVI (Desc)'!A194=\"\",\"\",'AVI (Desc)'!A194)","v":""},{"$f":"IF('AVI (Desc)'!B194=\"\",\"\",'AVI (Desc)'!B194)","v":""},{"$f":"IF('AVI (Desc)'!C194=\"\",\"\",'AVI (Desc)'!C194)","v":""},{"$f":"IF('AVI (Desc)'!D194=\"\",\"\",'AVI (Desc)'!D194)","v":""},{"$f":"IF('AVI (Desc)'!E194=\"\",\"\",INDEX([1]ASSET_ID_SOURCE!$A$2:$A$50,MATCH('AVI (Desc)'!E194,[1]!MASTER_ASSET_ID_SOURCE_DESC,0),0))","v":""},{"$f":"IF('AVI (Desc)'!F194=\"\",\"\",'AVI (Desc)'!F194)","v":""},{"$f":"IF('AVI (Desc)'!G194=\"\",\"\",'AVI (Desc)'!G194)","v":""},{"$f":"IF('AVI (Desc)'!H194=\"\",\"\",INDEX([1]OWNER!$A$2:$A$100,MATCH('AVI (Desc)'!$H194,[1]!MASTER_OWNER_DESC[#Data],0),0))","v":""},{"$f":"IF('AVI (Desc)'!I194=\"\",\"\",INDEX([1]COUNTY!$A$2:$A$80,MATCH('AVI (Desc)'!I194,[1]!MASTER_COUNTY_NAME[#Data],0),0))","v":""},{"$f":"IF('AVI (Desc)'!J194=\"\",\"\",'AVI (Desc)'!J194)","v":""},{"$f":"IF('AVI (Desc)'!K194=\"\",\"\",INDEX([1]AVI_SENSOR_TYPE!$A$2:$A$7,MATCH('AVI (Desc)'!K194,[1]!MASTER_AVI_SENSOR_TYPE_DESC,0),0))","v":""}]
[{"$f":"IF('AVI (Desc)'!A195=\"\",\"\",'AVI (Desc)'!A195)","v":""},{"$f":"IF('AVI (Desc)'!B195=\"\",\"\",'AVI (Desc)'!B195)","v":""},{"$f":"IF('AVI (Desc)'!C195=\"\",\"\",'AVI (Desc)'!C195)","v":""},{"$f":"IF('AVI (Desc)'!D195=\"\",\"\",'AVI (Desc)'!D195)","v":""},{"$f":"IF('AVI (Desc)'!E195=\"\",\"\",INDEX([1]ASSET_ID_SOURCE!$A$2:$A$50,MATCH('AVI (Desc)'!E195,[1]!MASTER_ASSET_ID_SOURCE_DESC,0),0))","v":""},{"$f":"IF('AVI (Desc)'!F195=\"\",\"\",'AVI (Desc)'!F195)","v":""},{"$f":"IF('AVI (Desc)'!G195=\"\",\"\",'AVI (Desc)'!G195)","v":""},{"$f":"IF('AVI (Desc)'!H195=\"\",\"\",INDEX([1]OWNER!$A$2:$A$100,MATCH('AVI (Desc)'!$H195,[1]!MASTER_OWNER_DESC[#Data],0),0))","v":""},{"$f":"IF('AVI (Desc)'!I195=\"\",\"\",INDEX([1]COUNTY!$A$2:$A$80,MATCH('AVI (Desc)'!I195,[1]!MASTER_COUNTY_NAME[#Data],0),0))","v":""},{"$f":"IF('AVI (Desc)'!J195=\"\",\"\",'AVI (Desc)'!J195)","v":""},{"$f":"IF('AVI (Desc)'!K195=\"\",\"\",INDEX([1]AVI_SENSOR_TYPE!$A$2:$A$7,MATCH('AVI (Desc)'!K195,[1]!MASTER_AVI_SENSOR_TYPE_DESC,0),0))","v":""}]
[{"$f":"IF('AVI (Desc)'!A196=\"\",\"\",'AVI (Desc)'!A196)","v":""},{"$f":"IF('AVI (Desc)'!B196=\"\",\"\",'AVI (Desc)'!B196)","v":""},{"$f":"IF('AVI (Desc)'!C196=\"\",\"\",'AVI (Desc)'!C196)","v":""},{"$f":"IF('AVI (Desc)'!D196=\"\",\"\",'AVI (Desc)'!D196)","v":""},{"$f":"IF('AVI (Desc)'!E196=\"\",\"\",INDEX([1]ASSET_ID_SOURCE!$A$2:$A$50,MATCH('AVI (Desc)'!E196,[1]!MASTER_ASSET_ID_SOURCE_DESC,0),0))","v":""},{"$f":"IF('AVI (Desc)'!F196=\"\",\"\",'AVI (Desc)'!F196)","v":""},{"$f":"IF('AVI (Desc)'!G196=\"\",\"\",'AVI (Desc)'!G196)","v":""},{"$f":"IF('AVI (Desc)'!H196=\"\",\"\",INDEX([1]OWNER!$A$2:$A$100,MATCH('AVI (Desc)'!$H196,[1]!MASTER_OWNER_DESC[#Data],0),0))","v":""},{"$f":"IF('AVI (Desc)'!I196=\"\",\"\",INDEX([1]COUNTY!$A$2:$A$80,MATCH('AVI (Desc)'!I196,[1]!MASTER_COUNTY_NAME[#Data],0),0))","v":""},{"$f":"IF('AVI (Desc)'!J196=\"\",\"\",'AVI (Desc)'!J196)","v":""},{"$f":"IF('AVI (Desc)'!K196=\"\",\"\",INDEX([1]AVI_SENSOR_TYPE!$A$2:$A$7,MATCH('AVI (Desc)'!K196,[1]!MASTER_AVI_SENSOR_TYPE_DESC,0),0))","v":""}]
[{"$f":"IF('AVI (Desc)'!A197=\"\",\"\",'AVI (Desc)'!A197)","v":""},{"$f":"IF('AVI (Desc)'!B197=\"\",\"\",'AVI (Desc)'!B197)","v":""},{"$f":"IF('AVI (Desc)'!C197=\"\",\"\",'AVI (Desc)'!C197)","v":""},{"$f":"IF('AVI (Desc)'!D197=\"\",\"\",'AVI (Desc)'!D197)","v":""},{"$f":"IF('AVI (Desc)'!E197=\"\",\"\",INDEX([1]ASSET_ID_SOURCE!$A$2:$A$50,MATCH('AVI (Desc)'!E197,[1]!MASTER_ASSET_ID_SOURCE_DESC,0),0))","v":""},{"$f":"IF('AVI (Desc)'!F197=\"\",\"\",'AVI (Desc)'!F197)","v":""},{"$f":"IF('AVI (Desc)'!G197=\"\",\"\",'AVI (Desc)'!G197)","v":""},{"$f":"IF('AVI (Desc)'!H197=\"\",\"\",INDEX([1]OWNER!$A$2:$A$100,MATCH('AVI (Desc)'!$H197,[1]!MASTER_OWNER_DESC[#Data],0),0))","v":""},{"$f":"IF('AVI (Desc)'!I197=\"\",\"\",INDEX([1]COUNTY!$A$2:$A$80,MATCH('AVI (Desc)'!I197,[1]!MASTER_COUNTY_NAME[#Data],0),0))","v":""},{"$f":"IF('AVI (Desc)'!J197=\"\",\"\",'AVI (Desc)'!J197)","v":""},{"$f":"IF('AVI (Desc)'!K197=\"\",\"\",INDEX([1]AVI_SENSOR_TYPE!$A$2:$A$7,MATCH('AVI (Desc)'!K197,[1]!MASTER_AVI_SENSOR_TYPE_DESC,0),0))","v":""}]
[{"$f":"IF('AVI (Desc)'!A198=\"\",\"\",'AVI (Desc)'!A198)","v":""},{"$f":"IF('AVI (Desc)'!B198=\"\",\"\",'AVI (Desc)'!B198)","v":""},{"$f":"IF('AVI (Desc)'!C198=\"\",\"\",'AVI (Desc)'!C198)","v":""},{"$f":"IF('AVI (Desc)'!D198=\"\",\"\",'AVI (Desc)'!D198)","v":""},{"$f":"IF('AVI (Desc)'!E198=\"\",\"\",INDEX([1]ASSET_ID_SOURCE!$A$2:$A$50,MATCH('AVI (Desc)'!E198,[1]!MASTER_ASSET_ID_SOURCE_DESC,0),0))","v":""},{"$f":"IF('AVI (Desc)'!F198=\"\",\"\",'AVI (Desc)'!F198)","v":""},{"$f":"IF('AVI (Desc)'!G198=\"\",\"\",'AVI (Desc)'!G198)","v":""},{"$f":"IF('AVI (Desc)'!H198=\"\",\"\",INDEX([1]OWNER!$A$2:$A$100,MATCH('AVI (Desc)'!$H198,[1]!MASTER_OWNER_DESC[#Data],0),0))","v":""},{"$f":"IF('AVI (Desc)'!I198=\"\",\"\",INDEX([1]COUNTY!$A$2:$A$80,MATCH('AVI (Desc)'!I198,[1]!MASTER_COUNTY_NAME[#Data],0),0))","v":""},{"$f":"IF('AVI (Desc)'!J198=\"\",\"\",'AVI (Desc)'!J198)","v":""},{"$f":"IF('AVI (Desc)'!K198=\"\",\"\",INDEX([1]AVI_SENSOR_TYPE!$A$2:$A$7,MATCH('AVI (Desc)'!K198,[1]!MASTER_AVI_SENSOR_TYPE_DESC,0),0))","v":""}]
[{"$f":"IF('AVI (Desc)'!A199=\"\",\"\",'AVI (Desc)'!A199)","v":""},{"$f":"IF('AVI (Desc)'!B199=\"\",\"\",'AVI (Desc)'!B199)","v":""},{"$f":"IF('AVI (Desc)'!C199=\"\",\"\",'AVI (Desc)'!C199)","v":""},{"$f":"IF('AVI (Desc)'!D199=\"\",\"\",'AVI (Desc)'!D199)","v":""},{"$f":"IF('AVI (Desc)'!E199=\"\",\"\",INDEX([1]ASSET_ID_SOURCE!$A$2:$A$50,MATCH('AVI (Desc)'!E199,[1]!MASTER_ASSET_ID_SOURCE_DESC,0),0))","v":""},{"$f":"IF('AVI (Desc)'!F199=\"\",\"\",'AVI (Desc)'!F199)","v":""},{"$f":"IF('AVI (Desc)'!G199=\"\",\"\",'AVI (Desc)'!G199)","v":""},{"$f":"IF('AVI (Desc)'!H199=\"\",\"\",INDEX([1]OWNER!$A$2:$A$100,MATCH('AVI (Desc)'!$H199,[1]!MASTER_OWNER_DESC[#Data],0),0))","v":""},{"$f":"IF('AVI (Desc)'!I199=\"\",\"\",INDEX([1]COUNTY!$A$2:$A$80,MATCH('AVI (Desc)'!I199,[1]!MASTER_COUNTY_NAME[#Data],0),0))","v":""},{"$f":"IF('AVI (Desc)'!J199=\"\",\"\",'AVI (Desc)'!J199)","v":""},{"$f":"IF('AVI (Desc)'!K199=\"\",\"\",INDEX([1]AVI_SENSOR_TYPE!$A$2:$A$7,MATCH('AVI (Desc)'!K199,[1]!MASTER_AVI_SENSOR_TYPE_DESC,0),0))","v":""}]
[{"$f":"IF('AVI (Desc)'!A200=\"\",\"\",'AVI (Desc)'!A200)","v":""},{"$f":"IF('AVI (Desc)'!B200=\"\",\"\",'AVI (Desc)'!B200)","v":""},{"$f":"IF('AVI (Desc)'!C200=\"\",\"\",'AVI (Desc)'!C200)","v":""},{"$f":"IF('AVI (Desc)'!D200=\"\",\"\",'AVI (Desc)'!D200)","v":""},{"$f":"IF('AVI (Desc)'!E200=\"\",\"\",INDEX([1]ASSET_ID_SOURCE!$A$2:$A$50,MATCH('AVI (Desc)'!E200,[1]!MASTER_ASSET_ID_SOURCE_DESC,0),0))","v":""},{"$f":"IF('AVI (Desc)'!F200=\"\",\"\",'AVI (Desc)'!F200)","v":""},{"$f":"IF('AVI (Desc)'!G200=\"\",\"\",'AVI (Desc)'!G200)","v":""},{"$f":"IF('AVI (Desc)'!H200=\"\",\"\",INDEX([1]OWNER!$A$2:$A$100,MATCH('AVI (Desc)'!$H200,[1]!MASTER_OWNER_DESC[#Data],0),0))","v":""},{"$f":"IF('AVI (Desc)'!I200=\"\",\"\",INDEX([1]COUNTY!$A$2:$A$80,MATCH('AVI (Desc)'!I200,[1]!MASTER_COUNTY_NAME[#Data],0),0))","v":""},{"$f":"IF('AVI (Desc)'!J200=\"\",\"\",'AVI (Desc)'!J200)","v":""},{"$f":"IF('AVI (Desc)'!K200=\"\",\"\",INDEX([1]AVI_SENSOR_TYPE!$A$2:$A$7,MATCH('AVI (Desc)'!K200,[1]!MASTER_AVI_SENSOR_TYPE_DESC,0),0))","v":""}]
[{"$f":"IF('AVI (Desc)'!A201=\"\",\"\",'AVI (Desc)'!A201)","v":""},{"$f":"IF('AVI (Desc)'!B201=\"\",\"\",'AVI (Desc)'!B201)","v":""},{"$f":"IF('AVI (Desc)'!C201=\"\",\"\",'AVI (Desc)'!C201)","v":""},{"$f":"IF('AVI (Desc)'!D201=\"\",\"\",'AVI (Desc)'!D201)","v":""},{"$f":"IF('AVI (Desc)'!E201=\"\",\"\",INDEX([1]ASSET_ID_SOURCE!$A$2:$A$50,MATCH('AVI (Desc)'!E201,[1]!MASTER_ASSET_ID_SOURCE_DESC,0),0))","v":""},{"$f":"IF('AVI (Desc)'!F201=\"\",\"\",'AVI (Desc)'!F201)","v":""},{"$f":"IF('AVI (Desc)'!G201=\"\",\"\",'AVI (Desc)'!G201)","v":""},{"$f":"IF('AVI (Desc)'!H201=\"\",\"\",INDEX([1]OWNER!$A$2:$A$100,MATCH('AVI (Desc)'!$H201,[1]!MASTER_OWNER_DESC[#Data],0),0))","v":""},{"$f":"IF('AVI (Desc)'!I201=\"\",\"\",INDEX([1]COUNTY!$A$2:$A$80,MATCH('AVI (Desc)'!I201,[1]!MASTER_COUNTY_NAME[#Data],0),0))","v":""},{"$f":"IF('AVI (Desc)'!J201=\"\",\"\",'AVI (Desc)'!J201)","v":""},{"$f":"IF('AVI (Desc)'!K201=\"\",\"\",INDEX([1]AVI_SENSOR_TYPE!$A$2:$A$7,MATCH('AVI (Desc)'!K201,[1]!MASTER_AVI_SENSOR_TYPE_DESC,0),0))","v":""}]
[{"$f":"IF('AVI (Desc)'!A202=\"\",\"\",'AVI (Desc)'!A202)","v":""},{"$f":"IF('AVI (Desc)'!B202=\"\",\"\",'AVI (Desc)'!B202)","v":""},{"$f":"IF('AVI (Desc)'!C202=\"\",\"\",'AVI (Desc)'!C202)","v":""},{"$f":"IF('AVI (Desc)'!D202=\"\",\"\",'AVI (Desc)'!D202)","v":""},{"$f":"IF('AVI (Desc)'!E202=\"\",\"\",INDEX([1]ASSET_ID_SOURCE!$A$2:$A$50,MATCH('AVI (Desc)'!E202,[1]!MASTER_ASSET_ID_SOURCE_DESC,0),0))","v":""},{"$f":"IF('AVI (Desc)'!F202=\"\",\"\",'AVI (Desc)'!F202)","v":""},{"$f":"IF('AVI (Desc)'!G202=\"\",\"\",'AVI (Desc)'!G202)","v":""},{"$f":"IF('AVI (Desc)'!H202=\"\",\"\",INDEX([1]OWNER!$A$2:$A$100,MATCH('AVI (Desc)'!$H202,[1]!MASTER_OWNER_DESC[#Data],0),0))","v":""},{"$f":"IF('AVI (Desc)'!I202=\"\",\"\",INDEX([1]COUNTY!$A$2:$A$80,MATCH('AVI (Desc)'!I202,[1]!MASTER_COUNTY_NAME[#Data],0),0))","v":""},{"$f":"IF('AVI (Desc)'!J202=\"\",\"\",'AVI (Desc)'!J202)","v":""},{"$f":"IF('AVI (Desc)'!K202=\"\",\"\",INDEX([1]AVI_SENSOR_TYPE!$A$2:$A$7,MATCH('AVI (Desc)'!K202,[1]!MASTER_AVI_SENSOR_TYPE_DESC,0),0))","v":""}]

{"sheet":"AVI Antenna (Desc)","index":2,"n_rows":2,"n_cols":11,"rows_kept":2,"cut":false,"hidden":false,"merged":[]}
["Device Id\nfor update ","Site Identification Name\nController/Reader Cabinet SIN","Device ID","Asset ID Number","Asset ID Source","Associated Controller/Reader","Antenna Type ","Manufacturer ","Model ","Travel Lane Number ","Travel Lane Direction "]
["EQUIP_ID","This Field is for Reference Only\nDO NOT IMPORT","EQUIP_LOC_ID\nREQUIRED FIELD","ASSET_ID","ASSET_ID_SOURCE","ASSOC_READER_ID","ANTENNA_TYPE_CD ","ANTENNA_MANUF_CD ","ANTENNA _MODEL_CD ","LANE_COVERAGE_CD ","LANE_DIRECTION_CD "]

{"sheet":"AVI Antenna (Code)","index":3,"n_rows":202,"n_cols":11,"rows_kept":202,"cut":false,"hidden":false,"merged":[]}
["Device Id\nfor update ","Parent ITS Device Entity Cd","Device ID","Asset ID Number","Asset ID Source","Associated Controller/Reader","Antenna Type ","Manufacturer","Model ","Travel Lane Number ","Travel Lane Direction "]
["EQUIP_ID","ENTITY_CD                   REQUIRED FIELD","EQUIP_LOC_ID            REQUIRED FIELD","ASSET_ID","ASSET_ID_SOURCE","ASSOC_READER_ID","ANTENNA_TYPE_CD ","ANTENNA_MANUF_CD ","ANTENNA _MODEL_CD ","LANE_COVERAGE_CD ","LANE_DIRECTION_CD "]
[{"$f":"IF('AVI Antenna (Desc)'!D3=\"\",\"\",'AVI Antenna (Desc)'!A3)","v":""},{"$f":"IF('AVI Antenna (Desc)'!C3=\"\",\"\",\"2007\")","v":""},{"$f":"IF('AVI Antenna (Desc)'!F3=\"\",\"\",'AVI Antenna (Desc)'!C3)","v":""},{"$f":"IF('AVI Antenna (Desc)'!D3=\"\",\"\",'AVI Antenna (Desc)'!D3)","v":""},{"$f":"IF('AVI Antenna (Desc)'!E3=\"\",\"\",INDEX([1]ASSET_ID_SOURCE!$A$2:$A$50,MATCH('AVI Antenna (Desc)'!E3,[1]!MASTER_ASSET_ID_SOURCE_DESC,0),0))","v":""},{"$f":"IF('AVI Antenna (Desc)'!G3=\"\",\"\",'AVI Antenna (Desc)'!F3)","v":""},{"$f":"IF('AVI Antenna (Desc)'!G3=\"\",\"\",INDEX([1]ANTENNA_TYPE!$A$2:$A$100,MATCH('AVI Antenna (Desc)'!$G3,[1]!MASTER_ANTENNA_TYPE_DESC[#Data],0),0))","v":""},{"$f":"IF('AVI Antenna (Desc)'!H3=\"\",\"\",INDEX([1]ANTENNA_MANUF!$A$2:$A$100,MATCH('AVI Antenna (Desc)'!$H3,[1]!MASTER_ANTENNA_MANUF_DESC[#Data],0),0))","v":""},{"$f":"IF('AVI Antenna (Desc)'!I3=\"\",\"\",INDEX([1]ANTENNA_MODEL!$A$2:$A$50,MATCH(1,([1]ANTENNA_MODEL!$C$2:$C$50='AVI Antenna (Desc)'!$H3)*([1]ANTENNA_MODEL!$D$2:$D$50='AVI Antenna (Desc)'!$I3),0),0))","v":""},{"$f":"IF('AVI Antenna (Desc)'!J3=\"\",\"\",INDEX([1]LANE_COVERAGE!$A$2:$A$100,MATCH('AVI Antenna (Desc)'!$J3,[1]!MASTER_LANE_COVERAGE_DESC[#Data],0),0))","v":""},{"$f":"IF('AVI Antenna (Desc)'!K3=\"\",\"\",INDEX([1]LANE_DIRECTION!$A$2:$A$100,MATCH('AVI Antenna (Desc)'!$K3,[1]!MASTER_LANE_DIRECTION_DESC[#Data],0),0))","v":""}]
[{"$f":"IF('AVI Antenna (Desc)'!D4=\"\",\"\",'AVI Antenna (Desc)'!A4)","v":""},{"$f":"IF('AVI Antenna (Desc)'!C4=\"\",\"\",\"2007\")","v":""},{"$f":"IF('AVI Antenna (Desc)'!F4=\"\",\"\",'AVI Antenna (Desc)'!C4)","v":""},{"$f":"IF('AVI Antenna (Desc)'!D4=\"\",\"\",'AVI Antenna (Desc)'!D4)","v":""},{"$f":"IF('AVI Antenna (Desc)'!E4=\"\",\"\",INDEX([1]ASSET_ID_SOURCE!$A$2:$A$50,MATCH('AVI Antenna (Desc)'!E4,[1]!MASTER_ASSET_ID_SOURCE_DESC,0),0))","v":""},{"$f":"IF('AVI Antenna (Desc)'!G4=\"\",\"\",'AVI Antenna (Desc)'!F4)","v":""},{"$f":"IF('AVI Antenna (Desc)'!G4=\"\",\"\",INDEX([1]ANTENNA_TYPE!$A$2:$A$100,MATCH('AVI Antenna (Desc)'!$G4,[1]!MASTER_ANTENNA_TYPE_DESC[#Data],0),0))","v":""},{"$f":"IF('AVI Antenna (Desc)'!H4=\"\",\"\",INDEX([1]ANTENNA_MANUF!$A$2:$A$100,MATCH('AVI Antenna (Desc)'!$H4,[1]!MASTER_ANTENNA_MANUF_DESC[#Data],0),0))","v":""},{"$f":"IF('AVI Antenna (Desc)'!I4=\"\",\"\",INDEX([1]ANTENNA_MODEL!$A$2:$A$50,MATCH(1,([1]ANTENNA_MODEL!$C$2:$C$50='AVI Antenna (Desc)'!$H4)*([1]ANTENNA_MODEL!$D$2:$D$50='AVI Antenna (Desc)'!$I4),0),0))","v":""},{"$f":"IF('AVI Antenna (Desc)'!J4=\"\",\"\",INDEX([1]LANE_COVERAGE!$A$2:$A$100,MATCH('AVI Antenna (Desc)'!$J4,[1]!MASTER_LANE_COVERAGE_DESC[#Data],0),0))","v":""},{"$f":"IF('AVI Antenna (Desc)'!K4=\"\",\"\",INDEX([1]LANE_DIRECTION!$A$2:$A$100,MATCH('AVI Antenna (Desc)'!$K4,[1]!MASTER_LANE_DIRECTION_DESC[#Data],0),0))","v":""}]
[{"$f":"IF('AVI Antenna (Desc)'!D5=\"\",\"\",'AVI Antenna (Desc)'!A5)","v":""},{"$f":"IF('AVI Antenna (Desc)'!C5=\"\",\"\",\"2007\")","v":""},{"$f":"IF('AVI Antenna (Desc)'!F5=\"\",\"\",'AVI Antenna (Desc)'!C5)","v":""},{"$f":"IF('AVI Antenna (Desc)'!D5=\"\",\"\",'AVI Antenna (Desc)'!D5)","v":""},{"$f":"IF('AVI Antenna (Desc)'!E5=\"\",\"\",INDEX([1]ASSET_ID_SOURCE!$A$2:$A$50,MATCH('AVI Antenna (Desc)'!E5,[1]!MASTER_ASSET_ID_SOURCE_DESC,0),0))","v":""},{"$f":"IF('AVI Antenna (Desc)'!G5=\"\",\"\",'AVI Antenna (Desc)'!F5)","v":""},{"$f":"IF('AVI Antenna (Desc)'!G5=\"\",\"\",INDEX([1]ANTENNA_TYPE!$A$2:$A$100,MATCH('AVI Antenna (Desc)'!$G5,[1]!MASTER_ANTENNA_TYPE_DESC[#Data],0),0))","v":""},{"$f":"IF('AVI Antenna (Desc)'!H5=\"\",\"\",INDEX([1]ANTENNA_MANUF!$A$2:$A$100,MATCH('AVI Antenna (Desc)'!$H5,[1]!MASTER_ANTENNA_MANUF_DESC[#Data],0),0))","v":""},{"$f":"IF('AVI Antenna (Desc)'!I5=\"\",\"\",INDEX([1]ANTENNA_MODEL!$A$2:$A$50,MATCH(1,([1]ANTENNA_MODEL!$C$2:$C$50='AVI Antenna (Desc)'!$H5)*([1]ANTENNA_MODEL!$D$2:$D$50='AVI Antenna (Desc)'!$I5),0),0))","v":""},{"$f":"IF('AVI Antenna (Desc)'!J5=\"\",\"\",INDEX([1]LANE_COVERAGE!$A$2:$A$100,MATCH('AVI Antenna (Desc)'!$J5,[1]!MASTER_LANE_COVERAGE_DESC[#Data],0),0))","v":""},{"$f":"IF('AVI Antenna (Desc)'!K5=\"\",\"\",INDEX([1]LANE_DIRECTION!$A$2:$A$100,MATCH('AVI Antenna (Desc)'!$K5,[1]!MASTER_LANE_DIRECTION_DESC[#Data],0),0))","v":""}]
[{"$f":"IF('AVI Antenna (Desc)'!D6=\"\",\"\",'AVI Antenna (Desc)'!A6)","v":""},{"$f":"IF('AVI Antenna (Desc)'!C6=\"\",\"\",\"2007\")","v":""},{"$f":"IF('AVI Antenna (Desc)'!F6=\"\",\"\",'AVI Antenna (Desc)'!C6)","v":""},{"$f":"IF('AVI Antenna (Desc)'!D6=\"\",\"\",'AVI Antenna (Desc)'!D6)","v":""},{"$f":"IF('AVI Antenna (Desc)'!E6=\"\",\"\",INDEX([1]ASSET_ID_SOURCE!$A$2:$A$50,MATCH('AVI Antenna (Desc)'!E6,[1]!MASTER_ASSET_ID_SOURCE_DESC,0),0))","v":""},{"$f":"IF('AVI Antenna (Desc)'!G6=\"\",\"\",'AVI Antenna (Desc)'!F6)","v":""},{"$f":"IF('AVI Antenna (Desc)'!G6=\"\",\"\",INDEX([1]ANTENNA_TYPE!$A$2:$A$100,MATCH('AVI Antenna (Desc)'!$G6,[1]!MASTER_ANTENNA_TYPE_DESC[#Data],0),0))","v":""},{"$f":"IF('AVI Antenna (Desc)'!H6=\"\",\"\",INDEX([1]ANTENNA_MANUF!$A$2:$A$100,MATCH('AVI Antenna (Desc)'!$H6,[1]!MASTER_ANTENNA_MANUF_DESC[#Data],0),0))","v":""},{"$f":"IF('AVI Antenna (Desc)'!I6=\"\",\"\",INDEX([1]ANTENNA_MODEL!$A$2:$A$50,MATCH(1,([1]ANTENNA_MODEL!$C$2:$C$50='AVI Antenna (Desc)'!$H6)*([1]ANTENNA_MODEL!$D$2:$D$50='AVI Antenna (Desc)'!$I6),0),0))","v":""},{"$f":"IF('AVI Antenna (Desc)'!J6=\"\",\"\",INDEX([1]LANE_COVERAGE!$A$2:$A$100,MATCH('AVI Antenna (Desc)'!$J6,[1]!MASTER_LANE_COVERAGE_DESC[#Data],0),0))","v":""},{"$f":"IF('AVI Antenna (Desc)'!K6=\"\",\"\",INDEX([1]LANE_DIRECTION!$A$2:$A$100,MATCH('AVI Antenna (Desc)'!$K6,[1]!MASTER_LANE_DIRECTION_DESC[#Data],0),0))","v":""}]
[{"$f":"IF('AVI Antenna (Desc)'!D7=\"\",\"\",'AVI Antenna (Desc)'!A7)","v":""},{"$f":"IF('AVI Antenna (Desc)'!C7=\"\",\"\",\"2007\")","v":""},{"$f":"IF('AVI Antenna (Desc)'!F7=\"\",\"\",'AVI Antenna (Desc)'!C7)","v":""},{"$f":"IF('AVI Antenna (Desc)'!D7=\"\",\"\",'AVI Antenna (Desc)'!D7)","v":""},{"$f":"IF('AVI Antenna (Desc)'!E7=\"\",\"\",INDEX([1]ASSET_ID_SOURCE!$A$2:$A$50,MATCH('AVI Antenna (Desc)'!E7,[1]!MASTER_ASSET_ID_SOURCE_DESC,0),0))","v":""},{"$f":"IF('AVI Antenna (Desc)'!G7=\"\",\"\",'AVI Antenna (Desc)'!F7)","v":""},{"$f":"IF('AVI Antenna (Desc)'!G7=\"\",\"\",INDEX([1]ANTENNA_TYPE!$A$2:$A$100,MATCH('AVI Antenna (Desc)'!$G7,[1]!MASTER_ANTENNA_TYPE_DESC[#Data],0),0))","v":""},{"$f":"IF('AVI Antenna (Desc)'!H7=\"\",\"\",INDEX([1]ANTENNA_MANUF!$A$2:$A$100,MATCH('AVI Antenna (Desc)'!$H7,[1]!MASTER_ANTENNA_MANUF_DESC[#Data],0),0))","v":""},{"$f":"IF('AVI Antenna (Desc)'!I7=\"\",\"\",INDEX([1]ANTENNA_MODEL!$A$2:$A$50,MATCH(1,([1]ANTENNA_MODEL!$C$2:$C$50='AVI Antenna (Desc)'!$H7)*([1]ANTENNA_MODEL!$D$2:$D$50='AVI Antenna (Desc)'!$I7),0),0))","v":""},{"$f":"IF('AVI Antenna (Desc)'!J7=\"\",\"\",INDEX([1]LANE_COVERAGE!$A$2:$A$100,MATCH('AVI Antenna (Desc)'!$J7,[1]!MASTER_LANE_COVERAGE_DESC[#Data],0),0))","v":""},{"$f":"IF('AVI Antenna (Desc)'!K7=\"\",\"\",INDEX([1]LANE_DIRECTION!$A$2:$A$100,MATCH('AVI Antenna (Desc)'!$K7,[1]!MASTER_LANE_DIRECTION_DESC[#Data],0),0))","v":""}]
[{"$f":"IF('AVI Antenna (Desc)'!D8=\"\",\"\",'AVI Antenna (Desc)'!A8)","v":""},{"$f":"IF('AVI Antenna (Desc)'!C8=\"\",\"\",\"2007\")","v":""},{"$f":"IF('AVI Antenna (Desc)'!F8=\"\",\"\",'AVI Antenna (Desc)'!C8)","v":""},{"$f":"IF('AVI Antenna (Desc)'!D8=\"\",\"\",'AVI Antenna (Desc)'!D8)","v":""},{"$f":"IF('AVI Antenna (Desc)'!E8=\"\",\"\",INDEX([1]ASSET_ID_SOURCE!$A$2:$A$50,MATCH('AVI Antenna (Desc)'!E8,[1]!MASTER_ASSET_ID_SOURCE_DESC,0),0))","v":""},{"$f":"IF('AVI Antenna (Desc)'!G8=\"\",\"\",'AVI Antenna (Desc)'!F8)","v":""},{"$f":"IF('AVI Antenna (Desc)'!G8=\"\",\"\",INDEX([1]ANTENNA_TYPE!$A$2:$A$100,MATCH('AVI Antenna (Desc)'!$G8,[1]!MASTER_ANTENNA_TYPE_DESC[#Data],0),0))","v":""},{"$f":"IF('AVI Antenna (Desc)'!H8=\"\",\"\",INDEX([1]ANTENNA_MANUF!$A$2:$A$100,MATCH('AVI Antenna (Desc)'!$H8,[1]!MASTER_ANTENNA_MANUF_DESC[#Data],0),0))","v":""},{"$f":"IF('AVI Antenna (Desc)'!I8=\"\",\"\",INDEX([1]ANTENNA_MODEL!$A$2:$A$50,MATCH(1,([1]ANTENNA_MODEL!$C$2:$C$50='AVI Antenna (Desc)'!$H8)*([1]ANTENNA_MODEL!$D$2:$D$50='AVI Antenna (Desc)'!$I8),0),0))","v":""},{"$f":"IF('AVI Antenna (Desc)'!J8=\"\",\"\",INDEX([1]LANE_COVERAGE!$A$2:$A$100,MATCH('AVI Antenna (Desc)'!$J8,[1]!MASTER_LANE_COVERAGE_DESC[#Data],0),0))","v":""},{"$f":"IF('AVI Antenna (Desc)'!K8=\"\",\"\",INDEX([1]LANE_DIRECTION!$A$2:$A$100,MATCH('AVI Antenna (Desc)'!$K8,[1]!MASTER_LANE_DIRECTION_DESC[#Data],0),0))","v":""}]
[{"$f":"IF('AVI Antenna (Desc)'!D9=\"\",\"\",'AVI Antenna (Desc)'!A9)","v":""},{"$f":"IF('AVI Antenna (Desc)'!C9=\"\",\"\",\"2007\")","v":""},{"$f":"IF('AVI Antenna (Desc)'!F9=\"\",\"\",'AVI Antenna (Desc)'!C9)","v":""},{"$f":"IF('AVI Antenna (Desc)'!D9=\"\",\"\",'AVI Antenna (Desc)'!D9)","v":""},{"$f":"IF('AVI Antenna (Desc)'!E9=\"\",\"\",INDEX([1]ASSET_ID_SOURCE!$A$2:$A$50,MATCH('AVI Antenna (Desc)'!E9,[1]!MASTER_ASSET_ID_SOURCE_DESC,0),0))","v":""},{"$f":"IF('AVI Antenna (Desc)'!G9=\"\",\"\",'AVI Antenna (Desc)'!F9)","v":""},{"$f":"IF('AVI Antenna (Desc)'!G9=\"\",\"\",INDEX([1]ANTENNA_TYPE!$A$2:$A$100,MATCH('AVI Antenna (Desc)'!$G9,[1]!MASTER_ANTENNA_TYPE_DESC[#Data],0),0))","v":""},{"$f":"IF('AVI Antenna (Desc)'!H9=\"\",\"\",INDEX([1]ANTENNA_MANUF!$A$2:$A$100,MATCH('AVI Antenna (Desc)'!$H9,[1]!MASTER_ANTENNA_MANUF_DESC[#Data],0),0))","v":""},{"$f":"IF('AVI Antenna (Desc)'!I9=\"\",\"\",INDEX([1]ANTENNA_MODEL!$A$2:$A$50,MATCH(1,([1]ANTENNA_MODEL!$C$2:$C$50='AVI Antenna (Desc)'!$H9)*([1]ANTENNA_MODEL!$D$2:$D$50='AVI Antenna (Desc)'!$I9),0),0))","v":""},{"$f":"IF('AVI Antenna (Desc)'!J9=\"\",\"\",INDEX([1]LANE_COVERAGE!$A$2:$A$100,MATCH('AVI Antenna (Desc)'!$J9,[1]!MASTER_LANE_COVERAGE_DESC[#Data],0),0))","v":""},{"$f":"IF('AVI Antenna (Desc)'!K9=\"\",\"\",INDEX([1]LANE_DIRECTION!$A$2:$A$100,MATCH('AVI Antenna (Desc)'!$K9,[1]!MASTER_LANE_DIRECTION_DESC[#Data],0),0))","v":""}]
[{"$f":"IF('AVI Antenna (Desc)'!D10=\"\",\"\",'AVI Antenna (Desc)'!A10)","v":""},{"$f":"IF('AVI Antenna (Desc)'!C10=\"\",\"\",\"2007\")","v":""},{"$f":"IF('AVI Antenna (Desc)'!F10=\"\",\"\",'AVI Antenna (Desc)'!C10)","v":""},{"$f":"IF('AVI Antenna (Desc)'!D10=\"\",\"\",'AVI Antenna (Desc)'!D10)","v":""},{"$f":"IF('AVI Antenna (Desc)'!E10=\"\",\"\",INDEX([1]ASSET_ID_SOURCE!$A$2:$A$50,MATCH('AVI Antenna (Desc)'!E10,[1]!MASTER_ASSET_ID_SOURCE_DESC,0),0))","v":""},{"$f":"IF('AVI Antenna (Desc)'!G10=\"\",\"\",'AVI Antenna (Desc)'!F10)","v":""},{"$f":"IF('AVI Antenna (Desc)'!G10=\"\",\"\",INDEX([1]ANTENNA_TYPE!$A$2:$A$100,MATCH('AVI Antenna (Desc)'!$G10,[1]!MASTER_ANTENNA_TYPE_DESC[#Data],0),0))","v":""},{"$f":"IF('AVI Antenna (Desc)'!H10=\"\",\"\",INDEX([1]ANTENNA_MANUF!$A$2:$A$100,MATCH('AVI Antenna (Desc)'!$H10,[1]!MASTER_ANTENNA_MANUF_DESC[#Data],0),0))","v":""},{"$f":"IF('AVI Antenna (Desc)'!I10=\"\",\"\",INDEX([1]ANTENNA_MODEL!$A$2:$A$50,MATCH(1,([1]ANTENNA_MODEL!$C$2:$C$50='AVI Antenna (Desc)'!$H10)*([1]ANTENNA_MODEL!$D$2:$D$50='AVI Antenna (Desc)'!$I10),0),0))","v":""},{"$f":"IF('AVI Antenna (Desc)'!J10=\"\",\"\",INDEX([1]LANE_COVERAGE!$A$2:$A$100,MATCH('AVI Antenna (Desc)'!$J10,[1]!MASTER_LANE_COVERAGE_DESC[#Data],0),0))","v":""},{"$f":"IF('AVI Antenna (Desc)'!K10=\"\",\"\",INDEX([1]LANE_DIRECTION!$A$2:$A$100,MATCH('AVI Antenna (Desc)'!$K10,[1]!MASTER_LANE_DIRECTION_DESC[#Data],0),0))","v":""}]
[{"$f":"IF('AVI Antenna (Desc)'!D11=\"\",\"\",'AVI Antenna (Desc)'!A11)","v":""},{"$f":"IF('AVI Antenna (Desc)'!C11=\"\",\"\",\"2007\")","v":""},{"$f":"IF('AVI Antenna (Desc)'!F11=\"\",\"\",'AVI Antenna (Desc)'!C11)","v":""},{"$f":"IF('AVI Antenna (Desc)'!D11=\"\",\"\",'AVI Antenna (Desc)'!D11)","v":""},{"$f":"IF('AVI Antenna (Desc)'!E11=\"\",\"\",INDEX([1]ASSET_ID_SOURCE!$A$2:$A$50,MATCH('AVI Antenna (Desc)'!E11,[1]!MASTER_ASSET_ID_SOURCE_DESC,0),0))","v":""},{"$f":"IF('AVI Antenna (Desc)'!G11=\"\",\"\",'AVI Antenna (Desc)'!F11)","v":""},{"$f":"IF('AVI Antenna (Desc)'!G11=\"\",\"\",INDEX([1]ANTENNA_TYPE!$A$2:$A$100,MATCH('AVI Antenna (Desc)'!$G11,[1]!MASTER_ANTENNA_TYPE_DESC[#Data],0),0))","v":""},{"$f":"IF('AVI Antenna (Desc)'!H11=\"\",\"\",INDEX([1]ANTENNA_MANUF!$A$2:$A$100,MATCH('AVI Antenna (Desc)'!$H11,[1]!MASTER_ANTENNA_MANUF_DESC[#Data],0),0))","v":""},{"$f":"IF('AVI Antenna (Desc)'!I11=\"\",\"\",INDEX([1]ANTENNA_MODEL!$A$2:$A$50,MATCH(1,([1]ANTENNA_MODEL!$C$2:$C$50='AVI Antenna (Desc)'!$H11)*([1]ANTENNA_MODEL!$D$2:$D$50='AVI Antenna (Desc)'!$I11),0),0))","v":""},{"$f":"IF('AVI Antenna (Desc)'!J11=\"\",\"\",INDEX([1]LANE_COVERAGE!$A$2:$A$100,MATCH('AVI Antenna (Desc)'!$J11,[1]!MASTER_LANE_COVERAGE_DESC[#Data],0),0))","v":""},{"$f":"IF('AVI Antenna (Desc)'!K11=\"\",\"\",INDEX([1]LANE_DIRECTION!$A$2:$A$100,MATCH('AVI Antenna (Desc)'!$K11,[1]!MASTER_LANE_DIRECTION_DESC[#Data],0),0))","v":""}]
[{"$f":"IF('AVI Antenna (Desc)'!D12=\"\",\"\",'AVI Antenna (Desc)'!A12)","v":""},{"$f":"IF('AVI Antenna (Desc)'!C12=\"\",\"\",\"2007\")","v":""},{"$f":"IF('AVI Antenna (Desc)'!F12=\"\",\"\",'AVI Antenna (Desc)'!C12)","v":""},{"$f":"IF('AVI Antenna (Desc)'!D12=\"\",\"\",'AVI Antenna (Desc)'!D12)","v":""},{"$f":"IF('AVI Antenna (Desc)'!E12=\"\",\"\",INDEX([1]ASSET_ID_SOURCE!$A$2:$A$50,MATCH('AVI Antenna (Desc)'!E12,[1]!MASTER_ASSET_ID_SOURCE_DESC,0),0))","v":""},{"$f":"IF('AVI Antenna (Desc)'!G12=\"\",\"\",'AVI Antenna (Desc)'!F12)","v":""},{"$f":"IF('AVI Antenna (Desc)'!G12=\"\",\"\",INDEX([1]ANTENNA_TYPE!$A$2:$A$100,MATCH('AVI Antenna (Desc)'!$G12,[1]!MASTER_ANTENNA_TYPE_DESC[#Data],0),0))","v":""},{"$f":"IF('AVI Antenna (Desc)'!H12=\"\",\"\",INDEX([1]ANTENNA_MANUF!$A$2:$A$100,MATCH('AVI Antenna (Desc)'!$H12,[1]!MASTER_ANTENNA_MANUF_DESC[#Data],0),0))","v":""},{"$f":"IF('AVI Antenna (Desc)'!I12=\"\",\"\",INDEX([1]ANTENNA_MODEL!$A$2:$A$50,MATCH(1,([1]ANTENNA_MODEL!$C$2:$C$50='AVI Antenna (Desc)'!$H12)*([1]ANTENNA_MODEL!$D$2:$D$50='AVI Antenna (Desc)'!$I12),0),0))","v":""},{"$f":"IF('AVI Antenna (Desc)'!J12=\"\",\"\",INDEX([1]LANE_COVERAGE!$A$2:$A$100,MATCH('AVI Antenna (Desc)'!$J12,[1]!MASTER_LANE_COVERAGE_DESC[#Data],0),0))","v":""},{"$f":"IF('AVI Antenna (Desc)'!K12=\"\",\"\",INDEX([1]LANE_DIRECTION!$A$2:$A$100,MATCH('AVI Antenna (Desc)'!$K12,[1]!MASTER_LANE_DIRECTION_DESC[#Data],0),0))","v":""}]
[{"$f":"IF('AVI Antenna (Desc)'!D13=\"\",\"\",'AVI Antenna (Desc)'!A13)","v":""},{"$f":"IF('AVI Antenna (Desc)'!C13=\"\",\"\",\"2007\")","v":""},{"$f":"IF('AVI Antenna (Desc)'!F13=\"\",\"\",'AVI Antenna (Desc)'!C13)","v":""},{"$f":"IF('AVI Antenna (Desc)'!D13=\"\",\"\",'AVI Antenna (Desc)'!D13)","v":""},{"$f":"IF('AVI Antenna (Desc)'!E13=\"\",\"\",INDEX([1]ASSET_ID_SOURCE!$A$2:$A$50,MATCH('AVI Antenna (Desc)'!E13,[1]!MASTER_ASSET_ID_SOURCE_DESC,0),0))","v":""},{"$f":"IF('AVI Antenna (Desc)'!G13=\"\",\"\",'AVI Antenna (Desc)'!F13)","v":""},{"$f":"IF('AVI Antenna (Desc)'!G13=\"\",\"\",INDEX([1]ANTENNA_TYPE!$A$2:$A$100,MATCH('AVI Antenna (Desc)'!$G13,[1]!MASTER_ANTENNA_TYPE_DESC[#Data],0),0))","v":""},{"$f":"IF('AVI Antenna (Desc)'!H13=\"\",\"\",INDEX([1]ANTENNA_MANUF!$A$2:$A$100,MATCH('AVI Antenna (Desc)'!$H13,[1]!MASTER_ANTENNA_MANUF_DESC[#Data],0),0))","v":""},{"$f":"IF('AVI Antenna (Desc)'!I13=\"\",\"\",INDEX([1]ANTENNA_MODEL!$A$2:$A$50,MATCH(1,([1]ANTENNA_MODEL!$C$2:$C$50='AVI Antenna (Desc)'!$H13)*([1]ANTENNA_MODEL!$D$2:$D$50='AVI Antenna (Desc)'!$I13),0),0))","v":""},{"$f":"IF('AVI Antenna (Desc)'!J13=\"\",\"\",INDEX([1]LANE_COVERAGE!$A$2:$A$100,MATCH('AVI Antenna (Desc)'!$J13,[1]!MASTER_LANE_COVERAGE_DESC[#Data],0),0))","v":""},{"$f":"IF('AVI Antenna (Desc)'!K13=\"\",\"\",INDEX([1]LANE_DIRECTION!$A$2:$A$100,MATCH('AVI Antenna (Desc)'!$K13,[1]!MASTER_LANE_DIRECTION_DESC[#Data],0),0))","v":""}]
[{"$f":"IF('AVI Antenna (Desc)'!D14=\"\",\"\",'AVI Antenna (Desc)'!A14)","v":""},{"$f":"IF('AVI Antenna (Desc)'!C14=\"\",\"\",\"2007\")","v":""},{"$f":"IF('AVI Antenna (Desc)'!F14=\"\",\"\",'AVI Antenna (Desc)'!C14)","v":""},{"$f":"IF('AVI Antenna (Desc)'!D14=\"\",\"\",'AVI Antenna (Desc)'!D14)","v":""},{"$f":"IF('AVI Antenna (Desc)'!E14=\"\",\"\",INDEX([1]ASSET_ID_SOURCE!$A$2:$A$50,MATCH('AVI Antenna (Desc)'!E14,[1]!MASTER_ASSET_ID_SOURCE_DESC,0),0))","v":""},{"$f":"IF('AVI Antenna (Desc)'!G14=\"\",\"\",'AVI Antenna (Desc)'!F14)","v":""},{"$f":"IF('AVI Antenna (Desc)'!G14=\"\",\"\",INDEX([1]ANTENNA_TYPE!$A$2:$A$100,MATCH('AVI Antenna (Desc)'!$G14,[1]!MASTER_ANTENNA_TYPE_DESC[#Data],0),0))","v":""},{"$f":"IF('AVI Antenna (Desc)'!H14=\"\",\"\",INDEX([1]ANTENNA_MANUF!$A$2:$A$100,MATCH('AVI Antenna (Desc)'!$H14,[1]!MASTER_ANTENNA_MANUF_DESC[#Data],0),0))","v":""},{"$f":"IF('AVI Antenna (Desc)'!I14=\"\",\"\",INDEX([1]ANTENNA_MODEL!$A$2:$A$50,MATCH(1,([1]ANTENNA_MODEL!$C$2:$C$50='AVI Antenna (Desc)'!$H14)*([1]ANTENNA_MODEL!$D$2:$D$50='AVI Antenna (Desc)'!$I14),0),0))","v":""},{"$f":"IF('AVI Antenna (Desc)'!J14=\"\",\"\",INDEX([1]LANE_COVERAGE!$A$2:$A$100,MATCH('AVI Antenna (Desc)'!$J14,[1]!MASTER_LANE_COVERAGE_DESC[#Data],0),0))","v":""},{"$f":"IF('AVI Antenna (Desc)'!K14=\"\",\"\",INDEX([1]LANE_DIRECTION!$A$2:$A$100,MATCH('AVI Antenna (Desc)'!$K14,[1]!MASTER_LANE_DIRECTION_DESC[#Data],0),0))","v":""}]
[{"$f":"IF('AVI Antenna (Desc)'!D15=\"\",\"\",'AVI Antenna (Desc)'!A15)","v":""},{"$f":"IF('AVI Antenna (Desc)'!C15=\"\",\"\",\"2007\")","v":""},{"$f":"IF('AVI Antenna (Desc)'!F15=\"\",\"\",'AVI Antenna (Desc)'!C15)","v":""},{"$f":"IF('AVI Antenna (Desc)'!D15=\"\",\"\",'AVI Antenna (Desc)'!D15)","v":""},{"$f":"IF('AVI Antenna (Desc)'!E15=\"\",\"\",INDEX([1]ASSET_ID_SOURCE!$A$2:$A$50,MATCH('AVI Antenna (Desc)'!E15,[1]!MASTER_ASSET_ID_SOURCE_DESC,0),0))","v":""},{"$f":"IF('AVI Antenna (Desc)'!G15=\"\",\"\",'AVI Antenna (Desc)'!F15)","v":""},{"$f":"IF('AVI Antenna (Desc)'!G15=\"\",\"\",INDEX([1]ANTENNA_TYPE!$A$2:$A$100,MATCH('AVI Antenna (Desc)'!$G15,[1]!MASTER_ANTENNA_TYPE_DESC[#Data],0),0))","v":""},{"$f":"IF('AVI Antenna (Desc)'!H15=\"\",\"\",INDEX([1]ANTENNA_MANUF!$A$2:$A$100,MATCH('AVI Antenna (Desc)'!$H15,[1]!MASTER_ANTENNA_MANUF_DESC[#Data],0),0))","v":""},{"$f":"IF('AVI Antenna (Desc)'!I15=\"\",\"\",INDEX([1]ANTENNA_MODEL!$A$2:$A$50,MATCH(1,([1]ANTENNA_MODEL!$C$2:$C$50='AVI Antenna (Desc)'!$H15)*([1]ANTENNA_MODEL!$D$2:$D$50='AVI Antenna (Desc)'!$I15),0),0))","v":""},{"$f":"IF('AVI Antenna (Desc)'!J15=\"\",\"\",INDEX([1]LANE_COVERAGE!$A$2:$A$100,MATCH('AVI Antenna (Desc)'!$J15,[1]!MASTER_LANE_COVERAGE_DESC[#Data],0),0))","v":""},{"$f":"IF('AVI Antenna (Desc)'!K15=\"\",\"\",INDEX([1]LANE_DIRECTION!$A$2:$A$100,MATCH('AVI Antenna (Desc)'!$K15,[1]!MASTER_LANE_DIRECTION_DESC[#Data],0),0))","v":""}]
[{"$f":"IF('AVI Antenna (Desc)'!D16=\"\",\"\",'AVI Antenna (Desc)'!A16)","v":""},{"$f":"IF('AVI Antenna (Desc)'!C16=\"\",\"\",\"2007\")","v":""},{"$f":"IF('AVI Antenna (Desc)'!F16=\"\",\"\",'AVI Antenna (Desc)'!C16)","v":""},{"$f":"IF('AVI Antenna (Desc)'!D16=\"\",\"\",'AVI Antenna (Desc)'!D16)","v":""},{"$f":"IF('AVI Antenna (Desc)'!E16=\"\",\"\",INDEX([1]ASSET_ID_SOURCE!$A$2:$A$50,MATCH('AVI Antenna (Desc)'!E16,[1]!MASTER_ASSET_ID_SOURCE_DESC,0),0))","v":""},{"$f":"IF('AVI Antenna (Desc)'!G16=\"\",\"\",'AVI Antenna (Desc)'!F16)","v":""},{"$f":"IF('AVI Antenna (Desc)'!G16=\"\",\"\",INDEX([1]ANTENNA_TYPE!$A$2:$A$100,MATCH('AVI Antenna (Desc)'!$G16,[1]!MASTER_ANTENNA_TYPE_DESC[#Data],0),0))","v":""},{"$f":"IF('AVI Antenna (Desc)'!H16=\"\",\"\",INDEX([1]ANTENNA_MANUF!$A$2:$A$100,MATCH('AVI Antenna (Desc)'!$H16,[1]!MASTER_ANTENNA_MANUF_DESC[#Data],0),0))","v":""},{"$f":"IF('AVI Antenna (Desc)'!I16=\"\",\"\",INDEX([1]ANTENNA_MODEL!$A$2:$A$50,MATCH(1,([1]ANTENNA_MODEL!$C$2:$C$50='AVI Antenna (Desc)'!$H16)*([1]ANTENNA_MODEL!$D$2:$D$50='AVI Antenna (Desc)'!$I16),0),0))","v":""},{"$f":"IF('AVI Antenna (Desc)'!J16=\"\",\"\",INDEX([1]LANE_COVERAGE!$A$2:$A$100,MATCH('AVI Antenna (Desc)'!$J16,[1]!MASTER_LANE_COVERAGE_DESC[#Data],0),0))","v":""},{"$f":"IF('AVI Antenna (Desc)'!K16=\"\",\"\",INDEX([1]LANE_DIRECTION!$A$2:$A$100,MATCH('AVI Antenna (Desc)'!$K16,[1]!MASTER_LANE_DIRECTION_DESC[#Data],0),0))","v":""}]
[{"$f":"IF('AVI Antenna (Desc)'!D17=\"\",\"\",'AVI Antenna (Desc)'!A17)","v":""},{"$f":"IF('AVI Antenna (Desc)'!C17=\"\",\"\",\"2007\")","v":""},{"$f":"IF('AVI Antenna (Desc)'!F17=\"\",\"\",'AVI Antenna (Desc)'!C17)","v":""},{"$f":"IF('AVI Antenna (Desc)'!D17=\"\",\"\",'AVI Antenna (Desc)'!D17)","v":""},{"$f":"IF('AVI Antenna (Desc)'!E17=\"\",\"\",INDEX([1]ASSET_ID_SOURCE!$A$2:$A$50,MATCH('AVI Antenna (Desc)'!E17,[1]!MASTER_ASSET_ID_SOURCE_DESC,0),0))","v":""},{"$f":"IF('AVI Antenna (Desc)'!G17=\"\",\"\",'AVI Antenna (Desc)'!F17)","v":""},{"$f":"IF('AVI Antenna (Desc)'!G17=\"\",\"\",INDEX([1]ANTENNA_TYPE!$A$2:$A$100,MATCH('AVI Antenna (Desc)'!$G17,[1]!MASTER_ANTENNA_TYPE_DESC[#Data],0),0))","v":""},{"$f":"IF('AVI Antenna (Desc)'!H17=\"\",\"\",INDEX([1]ANTENNA_MANUF!$A$2:$A$100,MATCH('AVI Antenna (Desc)'!$H17,[1]!MASTER_ANTENNA_MANUF_DESC[#Data],0),0))","v":""},{"$f":"IF('AVI Antenna (Desc)'!I17=\"\",\"\",INDEX([1]ANTENNA_MODEL!$A$2:$A$50,MATCH(1,([1]ANTENNA_MODEL!$C$2:$C$50='AVI Antenna (Desc)'!$H17)*([1]ANTENNA_MODEL!$D$2:$D$50='AVI Antenna (Desc)'!$I17),0),0))","v":""},{"$f":"IF('AVI Antenna (Desc)'!J17=\"\",\"\",INDEX([1]LANE_COVERAGE!$A$2:$A$100,MATCH('AVI Antenna (Desc)'!$J17,[1]!MASTER_LANE_COVERAGE_DESC[#Data],0),0))","v":""},{"$f":"IF('AVI Antenna (Desc)'!K17=\"\",\"\",INDEX([1]LANE_DIRECTION!$A$2:$A$100,MATCH('AVI Antenna (Desc)'!$K17,[1]!MASTER_LANE_DIRECTION_DESC[#Data],0),0))","v":""}]
[{"$f":"IF('AVI Antenna (Desc)'!D18=\"\",\"\",'AVI Antenna (Desc)'!A18)","v":""},{"$f":"IF('AVI Antenna (Desc)'!C18=\"\",\"\",\"2007\")","v":""},{"$f":"IF('AVI Antenna (Desc)'!F18=\"\",\"\",'AVI Antenna (Desc)'!C18)","v":""},{"$f":"IF('AVI Antenna (Desc)'!D18=\"\",\"\",'AVI Antenna (Desc)'!D18)","v":""},{"$f":"IF('AVI Antenna (Desc)'!E18=\"\",\"\",INDEX([1]ASSET_ID_SOURCE!$A$2:$A$50,MATCH('AVI Antenna (Desc)'!E18,[1]!MASTER_ASSET_ID_SOURCE_DESC,0),0))","v":""},{"$f":"IF('AVI Antenna (Desc)'!G18=\"\",\"\",'AVI Antenna (Desc)'!F18)","v":""},{"$f":"IF('AVI Antenna (Desc)'!G18=\"\",\"\",INDEX([1]ANTENNA_TYPE!$A$2:$A$100,MATCH('AVI Antenna (Desc)'!$G18,[1]!MASTER_ANTENNA_TYPE_DESC[#Data],0),0))","v":""},{"$f":"IF('AVI Antenna (Desc)'!H18=\"\",\"\",INDEX([1]ANTENNA_MANUF!$A$2:$A$100,MATCH('AVI Antenna (Desc)'!$H18,[1]!MASTER_ANTENNA_MANUF_DESC[#Data],0),0))","v":""},{"$f":"IF('AVI Antenna (Desc)'!I18=\"\",\"\",INDEX([1]ANTENNA_MODEL!$A$2:$A$50,MATCH(1,([1]ANTENNA_MODEL!$C$2:$C$50='AVI Antenna (Desc)'!$H18)*([1]ANTENNA_MODEL!$D$2:$D$50='AVI Antenna (Desc)'!$I18),0),0))","v":""},{"$f":"IF('AVI Antenna (Desc)'!J18=\"\",\"\",INDEX([1]LANE_COVERAGE!$A$2:$A$100,MATCH('AVI Antenna (Desc)'!$J18,[1]!MASTER_LANE_COVERAGE_DESC[#Data],0),0))","v":""},{"$f":"IF('AVI Antenna (Desc)'!K18=\"\",\"\",INDEX([1]LANE_DIRECTION!$A$2:$A$100,MATCH('AVI Antenna (Desc)'!$K18,[1]!MASTER_LANE_DIRECTION_DESC[#Data],0),0))","v":""}]
[{"$f":"IF('AVI Antenna (Desc)'!D19=\"\",\"\",'AVI Antenna (Desc)'!A19)","v":""},{"$f":"IF('AVI Antenna (Desc)'!C19=\"\",\"\",\"2007\")","v":""},{"$f":"IF('AVI Antenna (Desc)'!F19=\"\",\"\",'AVI Antenna (Desc)'!C19)","v":""},{"$f":"IF('AVI Antenna (Desc)'!D19=\"\",\"\",'AVI Antenna (Desc)'!D19)","v":""},{"$f":"IF('AVI Antenna (Desc)'!E19=\"\",\"\",INDEX([1]ASSET_ID_SOURCE!$A$2:$A$50,MATCH('AVI Antenna (Desc)'!E19,[1]!MASTER_ASSET_ID_SOURCE_DESC,0),0))","v":""},{"$f":"IF('AVI Antenna (Desc)'!G19=\"\",\"\",'AVI Antenna (Desc)'!F19)","v":""},{"$f":"IF('AVI Antenna (Desc)'!G19=\"\",\"\",INDEX([1]ANTENNA_TYPE!$A$2:$A$100,MATCH('AVI Antenna (Desc)'!$G19,[1]!MASTER_ANTENNA_TYPE_DESC[#Data],0),0))","v":""},{"$f":"IF('AVI Antenna (Desc)'!H19=\"\",\"\",INDEX([1]ANTENNA_MANUF!$A$2:$A$100,MATCH('AVI Antenna (Desc)'!$H19,[1]!MASTER_ANTENNA_MANUF_DESC[#Data],0),0))","v":""},{"$f":"IF('AVI Antenna (Desc)'!I19=\"\",\"\",INDEX([1]ANTENNA_MODEL!$A$2:$A$50,MATCH(1,([1]ANTENNA_MODEL!$C$2:$C$50='AVI Antenna (Desc)'!$H19)*([1]ANTENNA_MODEL!$D$2:$D$50='AVI Antenna (Desc)'!$I19),0),0))","v":""},{"$f":"IF('AVI Antenna (Desc)'!J19=\"\",\"\",INDEX([1]LANE_COVERAGE!$A$2:$A$100,MATCH('AVI Antenna (Desc)'!$J19,[1]!MASTER_LANE_COVERAGE_DESC[#Data],0),0))","v":""},{"$f":"IF('AVI Antenna (Desc)'!K19=\"\",\"\",INDEX([1]LANE_DIRECTION!$A$2:$A$100,MATCH('AVI Antenna (Desc)'!$K19,[1]!MASTER_LANE_DIRECTION_DESC[#Data],0),0))","v":""}]
[{"$f":"IF('AVI Antenna (Desc)'!D20=\"\",\"\",'AVI Antenna (Desc)'!A20)","v":""},{"$f":"IF('AVI Antenna (Desc)'!C20=\"\",\"\",\"2007\")","v":""},{"$f":"IF('AVI Antenna (Desc)'!F20=\"\",\"\",'AVI Antenna (Desc)'!C20)","v":""},{"$f":"IF('AVI Antenna (Desc)'!D20=\"\",\"\",'AVI Antenna (Desc)'!D20)","v":""},{"$f":"IF('AVI Antenna (Desc)'!E20=\"\",\"\",INDEX([1]ASSET_ID_SOURCE!$A$2:$A$50,MATCH('AVI Antenna (Desc)'!E20,[1]!MASTER_ASSET_ID_SOURCE_DESC,0),0))","v":""},{"$f":"IF('AVI Antenna (Desc)'!G20=\"\",\"\",'AVI Antenna (Desc)'!F20)","v":""},{"$f":"IF('AVI Antenna (Desc)'!G20=\"\",\"\",INDEX([1]ANTENNA_TYPE!$A$2:$A$100,MATCH('AVI Antenna (Desc)'!$G20,[1]!MASTER_ANTENNA_TYPE_DESC[#Data],0),0))","v":""},{"$f":"IF('AVI Antenna (Desc)'!H20=\"\",\"\",INDEX([1]ANTENNA_MANUF!$A$2:$A$100,MATCH('AVI Antenna (Desc)'!$H20,[1]!MASTER_ANTENNA_MANUF_DESC[#Data],0),0))","v":""},{"$f":"IF('AVI Antenna (Desc)'!I20=\"\",\"\",INDEX([1]ANTENNA_MODEL!$A$2:$A$50,MATCH(1,([1]ANTENNA_MODEL!$C$2:$C$50='AVI Antenna (Desc)'!$H20)*([1]ANTENNA_MODEL!$D$2:$D$50='AVI Antenna (Desc)'!$I20),0),0))","v":""},{"$f":"IF('AVI Antenna (Desc)'!J20=\"\",\"\",INDEX([1]LANE_COVERAGE!$A$2:$A$100,MATCH('AVI Antenna (Desc)'!$J20,[1]!MASTER_LANE_COVERAGE_DESC[#Data],0),0))","v":""},{"$f":"IF('AVI Antenna (Desc)'!K20=\"\",\"\",INDEX([1]LANE_DIRECTION!$A$2:$A$100,MATCH('AVI Antenna (Desc)'!$K20,[1]!MASTER_LANE_DIRECTION_DESC[#Data],0),0))","v":""}]
[{"$f":"IF('AVI Antenna (Desc)'!D21=\"\",\"\",'AVI Antenna (Desc)'!A21)","v":""},{"$f":"IF('AVI Antenna (Desc)'!C21=\"\",\"\",\"2007\")","v":""},{"$f":"IF('AVI Antenna (Desc)'!F21=\"\",\"\",'AVI Antenna (Desc)'!C21)","v":""},{"$f":"IF('AVI Antenna (Desc)'!D21=\"\",\"\",'AVI Antenna (Desc)'!D21)","v":""},{"$f":"IF('AVI Antenna (Desc)'!E21=\"\",\"\",INDEX([1]ASSET_ID_SOURCE!$A$2:$A$50,MATCH('AVI Antenna (Desc)'!E21,[1]!MASTER_ASSET_ID_SOURCE_DESC,0),0))","v":""},{"$f":"IF('AVI Antenna (Desc)'!G21=\"\",\"\",'AVI Antenna (Desc)'!F21)","v":""},{"$f":"IF('AVI Antenna (Desc)'!G21=\"\",\"\",INDEX([1]ANTENNA_TYPE!$A$2:$A$100,MATCH('AVI Antenna (Desc)'!$G21,[1]!MASTER_ANTENNA_TYPE_DESC[#Data],0),0))","v":""},{"$f":"IF('AVI Antenna (Desc)'!H21=\"\",\"\",INDEX([1]ANTENNA_MANUF!$A$2:$A$100,MATCH('AVI Antenna (Desc)'!$H21,[1]!MASTER_ANTENNA_MANUF_DESC[#Data],0),0))","v":""},{"$f":"IF('AVI Antenna (Desc)'!I21=\"\",\"\",INDEX([1]ANTENNA_MODEL!$A$2:$A$50,MATCH(1,([1]ANTENNA_MODEL!$C$2:$C$50='AVI Antenna (Desc)'!$H21)*([1]ANTENNA_MODEL!$D$2:$D$50='AVI Antenna (Desc)'!$I21),0),0))","v":""},{"$f":"IF('AVI Antenna (Desc)'!J21=\"\",\"\",INDEX([1]LANE_COVERAGE!$A$2:$A$100,MATCH('AVI Antenna (Desc)'!$J21,[1]!MASTER_LANE_COVERAGE_DESC[#Data],0),0))","v":""},{"$f":"IF('AVI Antenna (Desc)'!K21=\"\",\"\",INDEX([1]LANE_DIRECTION!$A$2:$A$100,MATCH('AVI Antenna (Desc)'!$K21,[1]!MASTER_LANE_DIRECTION_DESC[#Data],0),0))","v":""}]
[{"$f":"IF('AVI Antenna (Desc)'!D22=\"\",\"\",'AVI Antenna (Desc)'!A22)","v":""},{"$f":"IF('AVI Antenna (Desc)'!C22=\"\",\"\",\"2007\")","v":""},{"$f":"IF('AVI Antenna (Desc)'!F22=\"\",\"\",'AVI Antenna (Desc)'!C22)","v":""},{"$f":"IF('AVI Antenna (Desc)'!D22=\"\",\"\",'AVI Antenna (Desc)'!D22)","v":""},{"$f":"IF('AVI Antenna (Desc)'!E22=\"\",\"\",INDEX([1]ASSET_ID_SOURCE!$A$2:$A$50,MATCH('AVI Antenna (Desc)'!E22,[1]!MASTER_ASSET_ID_SOURCE_DESC,0),0))","v":""},{"$f":"IF('AVI Antenna (Desc)'!G22=\"\",\"\",'AVI Antenna (Desc)'!F22)","v":""},{"$f":"IF('AVI Antenna (Desc)'!G22=\"\",\"\",INDEX([1]ANTENNA_TYPE!$A$2:$A$100,MATCH('AVI Antenna (Desc)'!$G22,[1]!MASTER_ANTENNA_TYPE_DESC[#Data],0),0))","v":""},{"$f":"IF('AVI Antenna (Desc)'!H22=\"\",\"\",INDEX([1]ANTENNA_MANUF!$A$2:$A$100,MATCH('AVI Antenna (Desc)'!$H22,[1]!MASTER_ANTENNA_MANUF_DESC[#Data],0),0))","v":""},{"$f":"IF('AVI Antenna (Desc)'!I22=\"\",\"\",INDEX([1]ANTENNA_MODEL!$A$2:$A$50,MATCH(1,([1]ANTENNA_MODEL!$C$2:$C$50='AVI Antenna (Desc)'!$H22)*([1]ANTENNA_MODEL!$D$2:$D$50='AVI Antenna (Desc)'!$I22),0),0))","v":""},{"$f":"IF('AVI Antenna (Desc)'!J22=\"\",\"\",INDEX([1]LANE_COVERAGE!$A$2:$A$100,MATCH('AVI Antenna (Desc)'!$J22,[1]!MASTER_LANE_COVERAGE_DESC[#Data],0),0))","v":""},{"$f":"IF('AVI Antenna (Desc)'!K22=\"\",\"\",INDEX([1]LANE_DIRECTION!$A$2:$A$100,MATCH('AVI Antenna (Desc)'!$K22,[1]!MASTER_LANE_DIRECTION_DESC[#Data],0),0))","v":""}]
[{"$f":"IF('AVI Antenna (Desc)'!D23=\"\",\"\",'AVI Antenna (Desc)'!A23)","v":""},{"$f":"IF('AVI Antenna (Desc)'!C23=\"\",\"\",\"2007\")","v":""},{"$f":"IF('AVI Antenna (Desc)'!F23=\"\",\"\",'AVI Antenna (Desc)'!C23)","v":""},{"$f":"IF('AVI Antenna (Desc)'!D23=\"\",\"\",'AVI Antenna (Desc)'!D23)","v":""},{"$f":"IF('AVI Antenna (Desc)'!E23=\"\",\"\",INDEX([1]ASSET_ID_SOURCE!$A$2:$A$50,MATCH('AVI Antenna (Desc)'!E23,[1]!MASTER_ASSET_ID_SOURCE_DESC,0),0))","v":""},{"$f":"IF('AVI Antenna (Desc)'!G23=\"\",\"\",'AVI Antenna (Desc)'!F23)","v":""},{"$f":"IF('AVI Antenna (Desc)'!G23=\"\",\"\",INDEX([1]ANTENNA_TYPE!$A$2:$A$100,MATCH('AVI Antenna (Desc)'!$G23,[1]!MASTER_ANTENNA_TYPE_DESC[#Data],0),0))","v":""},{"$f":"IF('AVI Antenna (Desc)'!H23=\"\",\"\",INDEX([1]ANTENNA_MANUF!$A$2:$A$100,MATCH('AVI Antenna (Desc)'!$H23,[1]!MASTER_ANTENNA_MANUF_DESC[#Data],0),0))","v":""},{"$f":"IF('AVI Antenna (Desc)'!I23=\"\",\"\",INDEX([1]ANTENNA_MODEL!$A$2:$A$50,MATCH(1,([1]ANTENNA_MODEL!$C$2:$C$50='AVI Antenna (Desc)'!$H23)*([1]ANTENNA_MODEL!$D$2:$D$50='AVI Antenna (Desc)'!$I23),0),0))","v":""},{"$f":"IF('AVI Antenna (Desc)'!J23=\"\",\"\",INDEX([1]LANE_COVERAGE!$A$2:$A$100,MATCH('AVI Antenna (Desc)'!$J23,[1]!MASTER_LANE_COVERAGE_DESC[#Data],0),0))","v":""},{"$f":"IF('AVI Antenna (Desc)'!K23=\"\",\"\",INDEX([1]LANE_DIRECTION!$A$2:$A$100,MATCH('AVI Antenna (Desc)'!$K23,[1]!MASTER_LANE_DIRECTION_DESC[#Data],0),0))","v":""}]
[{"$f":"IF('AVI Antenna (Desc)'!D24=\"\",\"\",'AVI Antenna (Desc)'!A24)","v":""},{"$f":"IF('AVI Antenna (Desc)'!C24=\"\",\"\",\"2007\")","v":""},{"$f":"IF('AVI Antenna (Desc)'!F24=\"\",\"\",'AVI Antenna (Desc)'!C24)","v":""},{"$f":"IF('AVI Antenna (Desc)'!D24=\"\",\"\",'AVI Antenna (Desc)'!D24)","v":""},{"$f":"IF('AVI Antenna (Desc)'!E24=\"\",\"\",INDEX([1]ASSET_ID_SOURCE!$A$2:$A$50,MATCH('AVI Antenna (Desc)'!E24,[1]!MASTER_ASSET_ID_SOURCE_DESC,0),0))","v":""},{"$f":"IF('AVI Antenna (Desc)'!G24=\"\",\"\",'AVI Antenna (Desc)'!F24)","v":""},{"$f":"IF('AVI Antenna (Desc)'!G24=\"\",\"\",INDEX([1]ANTENNA_TYPE!$A$2:$A$100,MATCH('AVI Antenna (Desc)'!$G24,[1]!MASTER_ANTENNA_TYPE_DESC[#Data],0),0))","v":""},{"$f":"IF('AVI Antenna (Desc)'!H24=\"\",\"\",INDEX([1]ANTENNA_MANUF!$A$2:$A$100,MATCH('AVI Antenna (Desc)'!$H24,[1]!MASTER_ANTENNA_MANUF_DESC[#Data],0),0))","v":""},{"$f":"IF('AVI Antenna (Desc)'!I24=\"\",\"\",INDEX([1]ANTENNA_MODEL!$A$2:$A$50,MATCH(1,([1]ANTENNA_MODEL!$C$2:$C$50='AVI Antenna (Desc)'!$H24)*([1]ANTENNA_MODEL!$D$2:$D$50='AVI Antenna (Desc)'!$I24),0),0))","v":""},{"$f":"IF('AVI Antenna (Desc)'!J24=\"\",\"\",INDEX([1]LANE_COVERAGE!$A$2:$A$100,MATCH('AVI Antenna (Desc)'!$J24,[1]!MASTER_LANE_COVERAGE_DESC[#Data],0),0))","v":""},{"$f":"IF('AVI Antenna (Desc)'!K24=\"\",\"\",INDEX([1]LANE_DIRECTION!$A$2:$A$100,MATCH('AVI Antenna (Desc)'!$K24,[1]!MASTER_LANE_DIRECTION_DESC[#Data],0),0))","v":""}]
[{"$f":"IF('AVI Antenna (Desc)'!D25=\"\",\"\",'AVI Antenna (Desc)'!A25)","v":""},{"$f":"IF('AVI Antenna (Desc)'!C25=\"\",\"\",\"2007\")","v":""},{"$f":"IF('AVI Antenna (Desc)'!F25=\"\",\"\",'AVI Antenna (Desc)'!C25)","v":""},{"$f":"IF('AVI Antenna (Desc)'!D25=\"\",\"\",'AVI Antenna (Desc)'!D25)","v":""},{"$f":"IF('AVI Antenna (Desc)'!E25=\"\",\"\",INDEX([1]ASSET_ID_SOURCE!$A$2:$A$50,MATCH('AVI Antenna (Desc)'!E25,[1]!MASTER_ASSET_ID_SOURCE_DESC,0),0))","v":""},{"$f":"IF('AVI Antenna (Desc)'!G25=\"\",\"\",'AVI Antenna (Desc)'!F25)","v":""},{"$f":"IF('AVI Antenna (Desc)'!G25=\"\",\"\",INDEX([1]ANTENNA_TYPE!$A$2:$A$100,MATCH('AVI Antenna (Desc)'!$G25,[1]!MASTER_ANTENNA_TYPE_DESC[#Data],0),0))","v":""},{"$f":"IF('AVI Antenna (Desc)'!H25=\"\",\"\",INDEX([1]ANTENNA_MANUF!$A$2:$A$100,MATCH('AVI Antenna (Desc)'!$H25,[1]!MASTER_ANTENNA_MANUF_DESC[#Data],0),0))","v":""},{"$f":"IF('AVI Antenna (Desc)'!I25=\"\",\"\",INDEX([1]ANTENNA_MODEL!$A$2:$A$50,MATCH(1,([1]ANTENNA_MODEL!$C$2:$C$50='AVI Antenna (Desc)'!$H25)*([1]ANTENNA_MODEL!$D$2:$D$50='AVI Antenna (Desc)'!$I25),0),0))","v":""},{"$f":"IF('AVI Antenna (Desc)'!J25=\"\",\"\",INDEX([1]LANE_COVERAGE!$A$2:$A$100,MATCH('AVI Antenna (Desc)'!$J25,[1]!MASTER_LANE_COVERAGE_DESC[#Data],0),0))","v":""},{"$f":"IF('AVI Antenna (Desc)'!K25=\"\",\"\",INDEX([1]LANE_DIRECTION!$A$2:$A$100,MATCH('AVI Antenna (Desc)'!$K25,[1]!MASTER_LANE_DIRECTION_DESC[#Data],0),0))","v":""}]
[{"$f":"IF('AVI Antenna (Desc)'!D26=\"\",\"\",'AVI Antenna (Desc)'!A26)","v":""},{"$f":"IF('AVI Antenna (Desc)'!C26=\"\",\"\",\"2007\")","v":""},{"$f":"IF('AVI Antenna (Desc)'!F26=\"\",\"\",'AVI Antenna (Desc)'!C26)","v":""},{"$f":"IF('AVI Antenna (Desc)'!D26=\"\",\"\",'AVI Antenna (Desc)'!D26)","v":""},{"$f":"IF('AVI Antenna (Desc)'!E26=\"\",\"\",INDEX([1]ASSET_ID_SOURCE!$A$2:$A$50,MATCH('AVI Antenna (Desc)'!E26,[1]!MASTER_ASSET_ID_SOURCE_DESC,0),0))","v":""},{"$f":"IF('AVI Antenna (Desc)'!G26=\"\",\"\",'AVI Antenna (Desc)'!F26)","v":""},{"$f":"IF('AVI Antenna (Desc)'!G26=\"\",\"\",INDEX([1]ANTENNA_TYPE!$A$2:$A$100,MATCH('AVI Antenna (Desc)'!$G26,[1]!MASTER_ANTENNA_TYPE_DESC[#Data],0),0))","v":""},{"$f":"IF('AVI Antenna (Desc)'!H26=\"\",\"\",INDEX([1]ANTENNA_MANUF!$A$2:$A$100,MATCH('AVI Antenna (Desc)'!$H26,[1]!MASTER_ANTENNA_MANUF_DESC[#Data],0),0))","v":""},{"$f":"IF('AVI Antenna (Desc)'!I26=\"\",\"\",INDEX([1]ANTENNA_MODEL!$A$2:$A$50,MATCH(1,([1]ANTENNA_MODEL!$C$2:$C$50='AVI Antenna (Desc)'!$H26)*([1]ANTENNA_MODEL!$D$2:$D$50='AVI Antenna (Desc)'!$I26),0),0))","v":""},{"$f":"IF('AVI Antenna (Desc)'!J26=\"\",\"\",INDEX([1]LANE_COVERAGE!$A$2:$A$100,MATCH('AVI Antenna (Desc)'!$J26,[1]!MASTER_LANE_COVERAGE_DESC[#Data],0),0))","v":""},{"$f":"IF('AVI Antenna (Desc)'!K26=\"\",\"\",INDEX([1]LANE_DIRECTION!$A$2:$A$100,MATCH('AVI Antenna (Desc)'!$K26,[1]!MASTER_LANE_DIRECTION_DESC[#Data],0),0))","v":""}]
[{"$f":"IF('AVI Antenna (Desc)'!D27=\"\",\"\",'AVI Antenna (Desc)'!A27)","v":""},{"$f":"IF('AVI Antenna (Desc)'!C27=\"\",\"\",\"2007\")","v":""},{"$f":"IF('AVI Antenna (Desc)'!F27=\"\",\"\",'AVI Antenna (Desc)'!C27)","v":""},{"$f":"IF('AVI Antenna (Desc)'!D27=\"\",\"\",'AVI Antenna (Desc)'!D27)","v":""},{"$f":"IF('AVI Antenna (Desc)'!E27=\"\",\"\",INDEX([1]ASSET_ID_SOURCE!$A$2:$A$50,MATCH('AVI Antenna (Desc)'!E27,[1]!MASTER_ASSET_ID_SOURCE_DESC,0),0))","v":""},{"$f":"IF('AVI Antenna (Desc)'!G27=\"\",\"\",'AVI Antenna (Desc)'!F27)","v":""},{"$f":"IF('AVI Antenna (Desc)'!G27=\"\",\"\",INDEX([1]ANTENNA_TYPE!$A$2:$A$100,MATCH('AVI Antenna (Desc)'!$G27,[1]!MASTER_ANTENNA_TYPE_DESC[#Data],0),0))","v":""},{"$f":"IF('AVI Antenna (Desc)'!H27=\"\",\"\",INDEX([1]ANTENNA_MANUF!$A$2:$A$100,MATCH('AVI Antenna (Desc)'!$H27,[1]!MASTER_ANTENNA_MANUF_DESC[#Data],0),0))","v":""},{"$f":"IF('AVI Antenna (Desc)'!I27=\"\",\"\",INDEX([1]ANTENNA_MODEL!$A$2:$A$50,MATCH(1,([1]ANTENNA_MODEL!$C$2:$C$50='AVI Antenna (Desc)'!$H27)*([1]ANTENNA_MODEL!$D$2:$D$50='AVI Antenna (Desc)'!$I27),0),0))","v":""},{"$f":"IF('AVI Antenna (Desc)'!J27=\"\",\"\",INDEX([1]LANE_COVERAGE!$A$2:$A$100,MATCH('AVI Antenna (Desc)'!$J27,[1]!MASTER_LANE_COVERAGE_DESC[#Data],0),0))","v":""},{"$f":"IF('AVI Antenna (Desc)'!K27=\"\",\"\",INDEX([1]LANE_DIRECTION!$A$2:$A$100,MATCH('AVI Antenna (Desc)'!$K27,[1]!MASTER_LANE_DIRECTION_DESC[#Data],0),0))","v":""}]
[{"$f":"IF('AVI Antenna (Desc)'!D28=\"\",\"\",'AVI Antenna (Desc)'!A28)","v":""},{"$f":"IF('AVI Antenna (Desc)'!C28=\"\",\"\",\"2007\")","v":""},{"$f":"IF('AVI Antenna (Desc)'!F28=\"\",\"\",'AVI Antenna (Desc)'!C28)","v":""},{"$f":"IF('AVI Antenna (Desc)'!D28=\"\",\"\",'AVI Antenna (Desc)'!D28)","v":""},{"$f":"IF('AVI Antenna (Desc)'!E28=\"\",\"\",INDEX([1]ASSET_ID_SOURCE!$A$2:$A$50,MATCH('AVI Antenna (Desc)'!E28,[1]!MASTER_ASSET_ID_SOURCE_DESC,0),0))","v":""},{"$f":"IF('AVI Antenna (Desc)'!G28=\"\",\"\",'AVI Antenna (Desc)'!F28)","v":""},{"$f":"IF('AVI Antenna (Desc)'!G28=\"\",\"\",INDEX([1]ANTENNA_TYPE!$A$2:$A$100,MATCH('AVI Antenna (Desc)'!$G28,[1]!MASTER_ANTENNA_TYPE_DESC[#Data],0),0))","v":""},{"$f":"IF('AVI Antenna (Desc)'!H28=\"\",\"\",INDEX([1]ANTENNA_MANUF!$A$2:$A$100,MATCH('AVI Antenna (Desc)'!$H28,[1]!MASTER_ANTENNA_MANUF_DESC[#Data],0),0))","v":""},{"$f":"IF('AVI Antenna (Desc)'!I28=\"\",\"\",INDEX([1]ANTENNA_MODEL!$A$2:$A$50,MATCH(1,([1]ANTENNA_MODEL!$C$2:$C$50='AVI Antenna (Desc)'!$H28)*([1]ANTENNA_MODEL!$D$2:$D$50='AVI Antenna (Desc)'!$I28),0),0))","v":""},{"$f":"IF('AVI Antenna (Desc)'!J28=\"\",\"\",INDEX([1]LANE_COVERAGE!$A$2:$A$100,MATCH('AVI Antenna (Desc)'!$J28,[1]!MASTER_LANE_COVERAGE_DESC[#Data],0),0))","v":""},{"$f":"IF('AVI Antenna (Desc)'!K28=\"\",\"\",INDEX([1]LANE_DIRECTION!$A$2:$A$100,MATCH('AVI Antenna (Desc)'!$K28,[1]!MASTER_LANE_DIRECTION_DESC[#Data],0),0))","v":""}]
[{"$f":"IF('AVI Antenna (Desc)'!D29=\"\",\"\",'AVI Antenna (Desc)'!A29)","v":""},{"$f":"IF('AVI Antenna (Desc)'!C29=\"\",\"\",\"2007\")","v":""},{"$f":"IF('AVI Antenna (Desc)'!F29=\"\",\"\",'AVI Antenna (Desc)'!C29)","v":""},{"$f":"IF('AVI Antenna (Desc)'!D29=\"\",\"\",'AVI Antenna (Desc)'!D29)","v":""},{"$f":"IF('AVI Antenna (Desc)'!E29=\"\",\"\",INDEX([1]ASSET_ID_SOURCE!$A$2:$A$50,MATCH('AVI Antenna (Desc)'!E29,[1]!MASTER_ASSET_ID_SOURCE_DESC,0),0))","v":""},{"$f":"IF('AVI Antenna (Desc)'!G29=\"\",\"\",'AVI Antenna (Desc)'!F29)","v":""},{"$f":"IF('AVI Antenna (Desc)'!G29=\"\",\"\",INDEX([1]ANTENNA_TYPE!$A$2:$A$100,MATCH('AVI Antenna (Desc)'!$G29,[1]!MASTER_ANTENNA_TYPE_DESC[#Data],0),0))","v":""},{"$f":"IF('AVI Antenna (Desc)'!H29=\"\",\"\",INDEX([1]ANTENNA_MANUF!$A$2:$A$100,MATCH('AVI Antenna (Desc)'!$H29,[1]!MASTER_ANTENNA_MANUF_DESC[#Data],0),0))","v":""},{"$f":"IF('AVI Antenna (Desc)'!I29=\"\",\"\",INDEX([1]ANTENNA_MODEL!$A$2:$A$50,MATCH(1,([1]ANTENNA_MODEL!$C$2:$C$50='AVI Antenna (Desc)'!$H29)*([1]ANTENNA_MODEL!$D$2:$D$50='AVI Antenna (Desc)'!$I29),0),0))","v":""},{"$f":"IF('AVI Antenna (Desc)'!J29=\"\",\"\",INDEX([1]LANE_COVERAGE!$A$2:$A$100,MATCH('AVI Antenna (Desc)'!$J29,[1]!MASTER_LANE_COVERAGE_DESC[#Data],0),0))","v":""},{"$f":"IF('AVI Antenna (Desc)'!K29=\"\",\"\",INDEX([1]LANE_DIRECTION!$A$2:$A$100,MATCH('AVI Antenna (Desc)'!$K29,[1]!MASTER_LANE_DIRECTION_DESC[#Data],0),0))","v":""}]
[{"$f":"IF('AVI Antenna (Desc)'!D30=\"\",\"\",'AVI Antenna (Desc)'!A30)","v":""},{"$f":"IF('AVI Antenna (Desc)'!C30=\"\",\"\",\"2007\")","v":""},{"$f":"IF('AVI Antenna (Desc)'!F30=\"\",\"\",'AVI Antenna (Desc)'!C30)","v":""},{"$f":"IF('AVI Antenna (Desc)'!D30=\"\",\"\",'AVI Antenna (Desc)'!D30)","v":""},{"$f":"IF('AVI Antenna (Desc)'!E30=\"\",\"\",INDEX([1]ASSET_ID_SOURCE!$A$2:$A$50,MATCH('AVI Antenna (Desc)'!E30,[1]!MASTER_ASSET_ID_SOURCE_DESC,0),0))","v":""},{"$f":"IF('AVI Antenna (Desc)'!G30=\"\",\"\",'AVI Antenna (Desc)'!F30)","v":""},{"$f":"IF('AVI Antenna (Desc)'!G30=\"\",\"\",INDEX([1]ANTENNA_TYPE!$A$2:$A$100,MATCH('AVI Antenna (Desc)'!$G30,[1]!MASTER_ANTENNA_TYPE_DESC[#Data],0),0))","v":""},{"$f":"IF('AVI Antenna (Desc)'!H30=\"\",\"\",INDEX([1]ANTENNA_MANUF!$A$2:$A$100,MATCH('AVI Antenna (Desc)'!$H30,[1]!MASTER_ANTENNA_MANUF_DESC[#Data],0),0))","v":""},{"$f":"IF('AVI Antenna (Desc)'!I30=\"\",\"\",INDEX([1]ANTENNA_MODEL!$A$2:$A$50,MATCH(1,([1]ANTENNA_MODEL!$C$2:$C$50='AVI Antenna (Desc)'!$H30)*([1]ANTENNA_MODEL!$D$2:$D$50='AVI Antenna (Desc)'!$I30),0),0))","v":""},{"$f":"IF('AVI Antenna (Desc)'!J30=\"\",\"\",INDEX([1]LANE_COVERAGE!$A$2:$A$100,MATCH('AVI Antenna (Desc)'!$J30,[1]!MASTER_LANE_COVERAGE_DESC[#Data],0),0))","v":""},{"$f":"IF('AVI Antenna (Desc)'!K30=\"\",\"\",INDEX([1]LANE_DIRECTION!$A$2:$A$100,MATCH('AVI Antenna (Desc)'!$K30,[1]!MASTER_LANE_DIRECTION_DESC[#Data],0),0))","v":""}]
[{"$f":"IF('AVI Antenna (Desc)'!D31=\"\",\"\",'AVI Antenna (Desc)'!A31)","v":""},{"$f":"IF('AVI Antenna (Desc)'!C31=\"\",\"\",\"2007\")","v":""},{"$f":"IF('AVI Antenna (Desc)'!F31=\"\",\"\",'AVI Antenna (Desc)'!C31)","v":""},{"$f":"IF('AVI Antenna (Desc)'!D31=\"\",\"\",'AVI Antenna (Desc)'!D31)","v":""},{"$f":"IF('AVI Antenna (Desc)'!E31=\"\",\"\",INDEX([1]ASSET_ID_SOURCE!$A$2:$A$50,MATCH('AVI Antenna (Desc)'!E31,[1]!MASTER_ASSET_ID_SOURCE_DESC,0),0))","v":""},{"$f":"IF('AVI Antenna (Desc)'!G31=\"\",\"\",'AVI Antenna (Desc)'!F31)","v":""},{"$f":"IF('AVI Antenna (Desc)'!G31=\"\",\"\",INDEX([1]ANTENNA_TYPE!$A$2:$A$100,MATCH('AVI Antenna (Desc)'!$G31,[1]!MASTER_ANTENNA_TYPE_DESC[#Data],0),0))","v":""},{"$f":"IF('AVI Antenna (Desc)'!H31=\"\",\"\",INDEX([1]ANTENNA_MANUF!$A$2:$A$100,MATCH('AVI Antenna (Desc)'!$H31,[1]!MASTER_ANTENNA_MANUF_DESC[#Data],0),0))","v":""},{"$f":"IF('AVI Antenna (Desc)'!I31=\"\",\"\",INDEX([1]ANTENNA_MODEL!$A$2:$A$50,MATCH(1,([1]ANTENNA_MODEL!$C$2:$C$50='AVI Antenna (Desc)'!$H31)*([1]ANTENNA_MODEL!$D$2:$D$50='AVI Antenna (Desc)'!$I31),0),0))","v":""},{"$f":"IF('AVI Antenna (Desc)'!J31=\"\",\"\",INDEX([1]LANE_COVERAGE!$A$2:$A$100,MATCH('AVI Antenna (Desc)'!$J31,[1]!MASTER_LANE_COVERAGE_DESC[#Data],0),0))","v":""},{"$f":"IF('AVI Antenna (Desc)'!K31=\"\",\"\",INDEX([1]LANE_DIRECTION!$A$2:$A$100,MATCH('AVI Antenna (Desc)'!$K31,[1]!MASTER_LANE_DIRECTION_DESC[#Data],0),0))","v":""}]
[{"$f":"IF('AVI Antenna (Desc)'!D32=\"\",\"\",'AVI Antenna (Desc)'!A32)","v":""},{"$f":"IF('AVI Antenna (Desc)'!C32=\"\",\"\",\"2007\")","v":""},{"$f":"IF('AVI Antenna (Desc)'!F32=\"\",\"\",'AVI Antenna (Desc)'!C32)","v":""},{"$f":"IF('AVI Antenna (Desc)'!D32=\"\",\"\",'AVI Antenna (Desc)'!D32)","v":""},{"$f":"IF('AVI Antenna (Desc)'!E32=\"\",\"\",INDEX([1]ASSET_ID_SOURCE!$A$2:$A$50,MATCH('AVI Antenna (Desc)'!E32,[1]!MASTER_ASSET_ID_SOURCE_DESC,0),0))","v":""},{"$f":"IF('AVI Antenna (Desc)'!G32=\"\",\"\",'AVI Antenna (Desc)'!F32)","v":""},{"$f":"IF('AVI Antenna (Desc)'!G32=\"\",\"\",INDEX([1]ANTENNA_TYPE!$A$2:$A$100,MATCH('AVI Antenna (Desc)'!$G32,[1]!MASTER_ANTENNA_TYPE_DESC[#Data],0),0))","v":""},{"$f":"IF('AVI Antenna (Desc)'!H32=\"\",\"\",INDEX([1]ANTENNA_MANUF!$A$2:$A$100,MATCH('AVI Antenna (Desc)'!$H32,[1]!MASTER_ANTENNA_MANUF_DESC[#Data],0),0))","v":""},{"$f":"IF('AVI Antenna (Desc)'!I32=\"\",\"\",INDEX([1]ANTENNA_MODEL!$A$2:$A$50,MATCH(1,([1]ANTENNA_MODEL!$C$2:$C$50='AVI Antenna (Desc)'!$H32)*([1]ANTENNA_MODEL!$D$2:$D$50='AVI Antenna (Desc)'!$I32),0),0))","v":""},{"$f":"IF('AVI Antenna (Desc)'!J32=\"\",\"\",INDEX([1]LANE_COVERAGE!$A$2:$A$100,MATCH('AVI Antenna (Desc)'!$J32,[1]!MASTER_LANE_COVERAGE_DESC[#Data],0),0))","v":""},{"$f":"IF('AVI Antenna (Desc)'!K32=\"\",\"\",INDEX([1]LANE_DIRECTION!$A$2:$A$100,MATCH('AVI Antenna (Desc)'!$K32,[1]!MASTER_LANE_DIRECTION_DESC[#Data],0),0))","v":""}]
[{"$f":"IF('AVI Antenna (Desc)'!D33=\"\",\"\",'AVI Antenna (Desc)'!A33)","v":""},{"$f":"IF('AVI Antenna (Desc)'!C33=\"\",\"\",\"2007\")","v":""},{"$f":"IF('AVI Antenna (Desc)'!F33=\"\",\"\",'AVI Antenna (Desc)'!C33)","v":""},{"$f":"IF('AVI Antenna (Desc)'!D33=\"\",\"\",'AVI Antenna (Desc)'!D33)","v":""},{"$f":"IF('AVI Antenna (Desc)'!E33=\"\",\"\",INDEX([1]ASSET_ID_SOURCE!$A$2:$A$50,MATCH('AVI Antenna (Desc)'!E33,[1]!MASTER_ASSET_ID_SOURCE_DESC,0),0))","v":""},{"$f":"IF('AVI Antenna (Desc)'!G33=\"\",\"\",'AVI Antenna (Desc)'!F33)","v":""},{"$f":"IF('AVI Antenna (Desc)'!G33=\"\",\"\",INDEX([1]ANTENNA_TYPE!$A$2:$A$100,MATCH('AVI Antenna (Desc)'!$G33,[1]!MASTER_ANTENNA_TYPE_DESC[#Data],0),0))","v":""},{"$f":"IF('AVI Antenna (Desc)'!H33=\"\",\"\",INDEX([1]ANTENNA_MANUF!$A$2:$A$100,MATCH('AVI Antenna (Desc)'!$H33,[1]!MASTER_ANTENNA_MANUF_DESC[#Data],0),0))","v":""},{"$f":"IF('AVI Antenna (Desc)'!I33=\"\",\"\",INDEX([1]ANTENNA_MODEL!$A$2:$A$50,MATCH(1,([1]ANTENNA_MODEL!$C$2:$C$50='AVI Antenna (Desc)'!$H33)*([1]ANTENNA_MODEL!$D$2:$D$50='AVI Antenna (Desc)'!$I33),0),0))","v":""},{"$f":"IF('AVI Antenna (Desc)'!J33=\"\",\"\",INDEX([1]LANE_COVERAGE!$A$2:$A$100,MATCH('AVI Antenna (Desc)'!$J33,[1]!MASTER_LANE_COVERAGE_DESC[#Data],0),0))","v":""},{"$f":"IF('AVI Antenna (Desc)'!K33=\"\",\"\",INDEX([1]LANE_DIRECTION!$A$2:$A$100,MATCH('AVI Antenna (Desc)'!$K33,[1]!MASTER_LANE_DIRECTION_DESC[#Data],0),0))","v":""}]
[{"$f":"IF('AVI Antenna (Desc)'!D34=\"\",\"\",'AVI Antenna (Desc)'!A34)","v":""},{"$f":"IF('AVI Antenna (Desc)'!C34=\"\",\"\",\"2007\")","v":""},{"$f":"IF('AVI Antenna (Desc)'!F34=\"\",\"\",'AVI Antenna (Desc)'!C34)","v":""},{"$f":"IF('AVI Antenna (Desc)'!D34=\"\",\"\",'AVI Antenna (Desc)'!D34)","v":""},{"$f":"IF('AVI Antenna (Desc)'!E34=\"\",\"\",INDEX([1]ASSET_ID_SOURCE!$A$2:$A$50,MATCH('AVI Antenna (Desc)'!E34,[1]!MASTER_ASSET_ID_SOURCE_DESC,0),0))","v":""},{"$f":"IF('AVI Antenna (Desc)'!G34=\"\",\"\",'AVI Antenna (Desc)'!F34)","v":""},{"$f":"IF('AVI Antenna (Desc)'!G34=\"\",\"\",INDEX([1]ANTENNA_TYPE!$A$2:$A$100,MATCH('AVI Antenna (Desc)'!$G34,[1]!MASTER_ANTENNA_TYPE_DESC[#Data],0),0))","v":""},{"$f":"IF('AVI Antenna (Desc)'!H34=\"\",\"\",INDEX([1]ANTENNA_MANUF!$A$2:$A$100,MATCH('AVI Antenna (Desc)'!$H34,[1]!MASTER_ANTENNA_MANUF_DESC[#Data],0),0))","v":""},{"$f":"IF('AVI Antenna (Desc)'!I34=\"\",\"\",INDEX([1]ANTENNA_MODEL!$A$2:$A$50,MATCH(1,([1]ANTENNA_MODEL!$C$2:$C$50='AVI Antenna (Desc)'!$H34)*([1]ANTENNA_MODEL!$D$2:$D$50='AVI Antenna (Desc)'!$I34),0),0))","v":""},{"$f":"IF('AVI Antenna (Desc)'!J34=\"\",\"\",INDEX([1]LANE_COVERAGE!$A$2:$A$100,MATCH('AVI Antenna (Desc)'!$J34,[1]!MASTER_LANE_COVERAGE_DESC[#Data],0),0))","v":""},{"$f":"IF('AVI Antenna (Desc)'!K34=\"\",\"\",INDEX([1]LANE_DIRECTION!$A$2:$A$100,MATCH('AVI Antenna (Desc)'!$K34,[1]!MASTER_LANE_DIRECTION_DESC[#Data],0),0))","v":""}]
[{"$f":"IF('AVI Antenna (Desc)'!D35=\"\",\"\",'AVI Antenna (Desc)'!A35)","v":""},{"$f":"IF('AVI Antenna (Desc)'!C35=\"\",\"\",\"2007\")","v":""},{"$f":"IF('AVI Antenna (Desc)'!F35=\"\",\"\",'AVI Antenna (Desc)'!C35)","v":""},{"$f":"IF('AVI Antenna (Desc)'!D35=\"\",\"\",'AVI Antenna (Desc)'!D35)","v":""},{"$f":"IF('AVI Antenna (Desc)'!E35=\"\",\"\",INDEX([1]ASSET_ID_SOURCE!$A$2:$A$50,MATCH('AVI Antenna (Desc)'!E35,[1]!MASTER_ASSET_ID_SOURCE_DESC,0),0))","v":""},{"$f":"IF('AVI Antenna (Desc)'!G35=\"\",\"\",'AVI Antenna (Desc)'!F35)","v":""},{"$f":"IF('AVI Antenna (Desc)'!G35=\"\",\"\",INDEX([1]ANTENNA_TYPE!$A$2:$A$100,MATCH('AVI Antenna (Desc)'!$G35,[1]!MASTER_ANTENNA_TYPE_DESC[#Data],0),0))","v":""},{"$f":"IF('AVI Antenna (Desc)'!H35=\"\",\"\",INDEX([1]ANTENNA_MANUF!$A$2:$A$100,MATCH('AVI Antenna (Desc)'!$H35,[1]!MASTER_ANTENNA_MANUF_DESC[#Data],0),0))","v":""},{"$f":"IF('AVI Antenna (Desc)'!I35=\"\",\"\",INDEX([1]ANTENNA_MODEL!$A$2:$A$50,MATCH(1,([1]ANTENNA_MODEL!$C$2:$C$50='AVI Antenna (Desc)'!$H35)*([1]ANTENNA_MODEL!$D$2:$D$50='AVI Antenna (Desc)'!$I35),0),0))","v":""},{"$f":"IF('AVI Antenna (Desc)'!J35=\"\",\"\",INDEX([1]LANE_COVERAGE!$A$2:$A$100,MATCH('AVI Antenna (Desc)'!$J35,[1]!MASTER_LANE_COVERAGE_DESC[#Data],0),0))","v":""},{"$f":"IF('AVI Antenna (Desc)'!K35=\"\",\"\",INDEX([1]LANE_DIRECTION!$A$2:$A$100,MATCH('AVI Antenna (Desc)'!$K35,[1]!MASTER_LANE_DIRECTION_DESC[#Data],0),0))","v":""}]
[{"$f":"IF('AVI Antenna (Desc)'!D36=\"\",\"\",'AVI Antenna (Desc)'!A36)","v":""},{"$f":"IF('AVI Antenna (Desc)'!C36=\"\",\"\",\"2007\")","v":""},{"$f":"IF('AVI Antenna (Desc)'!F36=\"\",\"\",'AVI Antenna (Desc)'!C36)","v":""},{"$f":"IF('AVI Antenna (Desc)'!D36=\"\",\"\",'AVI Antenna (Desc)'!D36)","v":""},{"$f":"IF('AVI Antenna (Desc)'!E36=\"\",\"\",INDEX([1]ASSET_ID_SOURCE!$A$2:$A$50,MATCH('AVI Antenna (Desc)'!E36,[1]!MASTER_ASSET_ID_SOURCE_DESC,0),0))","v":""},{"$f":"IF('AVI Antenna (Desc)'!G36=\"\",\"\",'AVI Antenna (Desc)'!F36)","v":""},{"$f":"IF('AVI Antenna (Desc)'!G36=\"\",\"\",INDEX([1]ANTENNA_TYPE!$A$2:$A$100,MATCH('AVI Antenna (Desc)'!$G36,[1]!MASTER_ANTENNA_TYPE_DESC[#Data],0),0))","v":""},{"$f":"IF('AVI Antenna (Desc)'!H36=\"\",\"\",INDEX([1]ANTENNA_MANUF!$A$2:$A$100,MATCH('AVI Antenna (Desc)'!$H36,[1]!MASTER_ANTENNA_MANUF_DESC[#Data],0),0))","v":""},{"$f":"IF('AVI Antenna (Desc)'!I36=\"\",\"\",INDEX([1]ANTENNA_MODEL!$A$2:$A$50,MATCH(1,([1]ANTENNA_MODEL!$C$2:$C$50='AVI Antenna (Desc)'!$H36)*([1]ANTENNA_MODEL!$D$2:$D$50='AVI Antenna (Desc)'!$I36),0),0))","v":""},{"$f":"IF('AVI Antenna (Desc)'!J36=\"\",\"\",INDEX([1]LANE_COVERAGE!$A$2:$A$100,MATCH('AVI Antenna (Desc)'!$J36,[1]!MASTER_LANE_COVERAGE_DESC[#Data],0),0))","v":""},{"$f":"IF('AVI Antenna (Desc)'!K36=\"\",\"\",INDEX([1]LANE_DIRECTION!$A$2:$A$100,MATCH('AVI Antenna (Desc)'!$K36,[1]!MASTER_LANE_DIRECTION_DESC[#Data],0),0))","v":""}]
[{"$f":"IF('AVI Antenna (Desc)'!D37=\"\",\"\",'AVI Antenna (Desc)'!A37)","v":""},{"$f":"IF('AVI Antenna (Desc)'!C37=\"\",\"\",\"2007\")","v":""},{"$f":"IF('AVI Antenna (Desc)'!F37=\"\",\"\",'AVI Antenna (Desc)'!C37)","v":""},{"$f":"IF('AVI Antenna (Desc)'!D37=\"\",\"\",'AVI Antenna (Desc)'!D37)","v":""},{"$f":"IF('AVI Antenna (Desc)'!E37=\"\",\"\",INDEX([1]ASSET_ID_SOURCE!$A$2:$A$50,MATCH('AVI Antenna (Desc)'!E37,[1]!MASTER_ASSET_ID_SOURCE_DESC,0),0))","v":""},{"$f":"IF('AVI Antenna (Desc)'!G37=\"\",\"\",'AVI Antenna (Desc)'!F37)","v":""},{"$f":"IF('AVI Antenna (Desc)'!G37=\"\",\"\",INDEX([1]ANTENNA_TYPE!$A$2:$A$100,MATCH('AVI Antenna (Desc)'!$G37,[1]!MASTER_ANTENNA_TYPE_DESC[#Data],0),0))","v":""},{"$f":"IF('AVI Antenna (Desc)'!H37=\"\",\"\",INDEX([1]ANTENNA_MANUF!$A$2:$A$100,MATCH('AVI Antenna (Desc)'!$H37,[1]!MASTER_ANTENNA_MANUF_DESC[#Data],0),0))","v":""},{"$f":"IF('AVI Antenna (Desc)'!I37=\"\",\"\",INDEX([1]ANTENNA_MODEL!$A$2:$A$50,MATCH(1,([1]ANTENNA_MODEL!$C$2:$C$50='AVI Antenna (Desc)'!$H37)*([1]ANTENNA_MODEL!$D$2:$D$50='AVI Antenna (Desc)'!$I37),0),0))","v":""},{"$f":"IF('AVI Antenna (Desc)'!J37=\"\",\"\",INDEX([1]LANE_COVERAGE!$A$2:$A$100,MATCH('AVI Antenna (Desc)'!$J37,[1]!MASTER_LANE_COVERAGE_DESC[#Data],0),0))","v":""},{"$f":"IF('AVI Antenna (Desc)'!K37=\"\",\"\",INDEX([1]LANE_DIRECTION!$A$2:$A$100,MATCH('AVI Antenna (Desc)'!$K37,[1]!MASTER_LANE_DIRECTION_DESC[#Data],0),0))","v":""}]
[{"$f":"IF('AVI Antenna (Desc)'!D38=\"\",\"\",'AVI Antenna (Desc)'!A38)","v":""},{"$f":"IF('AVI Antenna (Desc)'!C38=\"\",\"\",\"2007\")","v":""},{"$f":"IF('AVI Antenna (Desc)'!F38=\"\",\"\",'AVI Antenna (Desc)'!C38)","v":""},{"$f":"IF('AVI Antenna (Desc)'!D38=\"\",\"\",'AVI Antenna (Desc)'!D38)","v":""},{"$f":"IF('AVI Antenna (Desc)'!E38=\"\",\"\",INDEX([1]ASSET_ID_SOURCE!$A$2:$A$50,MATCH('AVI Antenna (Desc)'!E38,[1]!MASTER_ASSET_ID_SOURCE_DESC,0),0))","v":""},{"$f":"IF('AVI Antenna (Desc)'!G38=\"\",\"\",'AVI Antenna (Desc)'!F38)","v":""},{"$f":"IF('AVI Antenna (Desc)'!G38=\"\",\"\",INDEX([1]ANTENNA_TYPE!$A$2:$A$100,MATCH('AVI Antenna (Desc)'!$G38,[1]!MASTER_ANTENNA_TYPE_DESC[#Data],0),0))","v":""},{"$f":"IF('AVI Antenna (Desc)'!H38=\"\",\"\",INDEX([1]ANTENNA_MANUF!$A$2:$A$100,MATCH('AVI Antenna (Desc)'!$H38,[1]!MASTER_ANTENNA_MANUF_DESC[#Data],0),0))","v":""},{"$f":"IF('AVI Antenna (Desc)'!I38=\"\",\"\",INDEX([1]ANTENNA_MODEL!$A$2:$A$50,MATCH(1,([1]ANTENNA_MODEL!$C$2:$C$50='AVI Antenna (Desc)'!$H38)*([1]ANTENNA_MODEL!$D$2:$D$50='AVI Antenna (Desc)'!$I38),0),0))","v":""},{"$f":"IF('AVI Antenna (Desc)'!J38=\"\",\"\",INDEX([1]LANE_COVERAGE!$A$2:$A$100,MATCH('AVI Antenna (Desc)'!$J38,[1]!MASTER_LANE_COVERAGE_DESC[#Data],0),0))","v":""},{"$f":"IF('AVI Antenna (Desc)'!K38=\"\",\"\",INDEX([1]LANE_DIRECTION!$A$2:$A$100,MATCH('AVI Antenna (Desc)'!$K38,[1]!MASTER_LANE_DIRECTION_DESC[#Data],0),0))","v":""}]
[{"$f":"IF('AVI Antenna (Desc)'!D39=\"\",\"\",'AVI Antenna (Desc)'!A39)","v":""},{"$f":"IF('AVI Antenna (Desc)'!C39=\"\",\"\",\"2007\")","v":""},{"$f":"IF('AVI Antenna (Desc)'!F39=\"\",\"\",'AVI Antenna (Desc)'!C39)","v":""},{"$f":"IF('AVI Antenna (Desc)'!D39=\"\",\"\",'AVI Antenna (Desc)'!D39)","v":""},{"$f":"IF('AVI Antenna (Desc)'!E39=\"\",\"\",INDEX([1]ASSET_ID_SOURCE!$A$2:$A$50,MATCH('AVI Antenna (Desc)'!E39,[1]!MASTER_ASSET_ID_SOURCE_DESC,0),0))","v":""},{"$f":"IF('AVI Antenna (Desc)'!G39=\"\",\"\",'AVI Antenna (Desc)'!F39)","v":""},{"$f":"IF('AVI Antenna (Desc)'!G39=\"\",\"\",INDEX([1]ANTENNA_TYPE!$A$2:$A$100,MATCH('AVI Antenna (Desc)'!$G39,[1]!MASTER_ANTENNA_TYPE_DESC[#Data],0),0))","v":""},{"$f":"IF('AVI Antenna (Desc)'!H39=\"\",\"\",INDEX([1]ANTENNA_MANUF!$A$2:$A$100,MATCH('AVI Antenna (Desc)'!$H39,[1]!MASTER_ANTENNA_MANUF_DESC[#Data],0),0))","v":""},{"$f":"IF('AVI Antenna (Desc)'!I39=\"\",\"\",INDEX([1]ANTENNA_MODEL!$A$2:$A$50,MATCH(1,([1]ANTENNA_MODEL!$C$2:$C$50='AVI Antenna (Desc)'!$H39)*([1]ANTENNA_MODEL!$D$2:$D$50='AVI Antenna (Desc)'!$I39),0),0))","v":""},{"$f":"IF('AVI Antenna (Desc)'!J39=\"\",\"\",INDEX([1]LANE_COVERAGE!$A$2:$A$100,MATCH('AVI Antenna (Desc)'!$J39,[1]!MASTER_LANE_COVERAGE_DESC[#Data],0),0))","v":""},{"$f":"IF('AVI Antenna (Desc)'!K39=\"\",\"\",INDEX([1]LANE_DIRECTION!$A$2:$A$100,MATCH('AVI Antenna (Desc)'!$K39,[1]!MASTER_LANE_DIRECTION_DESC[#Data],0),0))","v":""}]
[{"$f":"IF('AVI Antenna (Desc)'!D40=\"\",\"\",'AVI Antenna (Desc)'!A40)","v":""},{"$f":"IF('AVI Antenna (Desc)'!C40=\"\",\"\",\"2007\")","v":""},{"$f":"IF('AVI Antenna (Desc)'!F40=\"\",\"\",'AVI Antenna (Desc)'!C40)","v":""},{"$f":"IF('AVI Antenna (Desc)'!D40=\"\",\"\",'AVI Antenna (Desc)'!D40)","v":""},{"$f":"IF('AVI Antenna (Desc)'!E40=\"\",\"\",INDEX([1]ASSET_ID_SOURCE!$A$2:$A$50,MATCH('AVI Antenna (Desc)'!E40,[1]!MASTER_ASSET_ID_SOURCE_DESC,0),0))","v":""},{"$f":"IF('AVI Antenna (Desc)'!G40=\"\",\"\",'AVI Antenna (Desc)'!F40)","v":""},{"$f":"IF('AVI Antenna (Desc)'!G40=\"\",\"\",INDEX([1]ANTENNA_TYPE!$A$2:$A$100,MATCH('AVI Antenna (Desc)'!$G40,[1]!MASTER_ANTENNA_TYPE_DESC[#Data],0),0))","v":""},{"$f":"IF('AVI Antenna (Desc)'!H40=\"\",\"\",INDEX([1]ANTENNA_MANUF!$A$2:$A$100,MATCH('AVI Antenna (Desc)'!$H40,[1]!MASTER_ANTENNA_MANUF_DESC[#Data],0),0))","v":""},{"$f":"IF('AVI Antenna (Desc)'!I40=\"\",\"\",INDEX([1]ANTENNA_MODEL!$A$2:$A$50,MATCH(1,([1]ANTENNA_MODEL!$C$2:$C$50='AVI Antenna (Desc)'!$H40)*([1]ANTENNA_MODEL!$D$2:$D$50='AVI Antenna (Desc)'!$I40),0),0))","v":""},{"$f":"IF('AVI Antenna (Desc)'!J40=\"\",\"\",INDEX([1]LANE_COVERAGE!$A$2:$A$100,MATCH('AVI Antenna (Desc)'!$J40,[1]!MASTER_LANE_COVERAGE_DESC[#Data],0),0))","v":""},{"$f":"IF('AVI Antenna (Desc)'!K40=\"\",\"\",INDEX([1]LANE_DIRECTION!$A$2:$A$100,MATCH('AVI Antenna (Desc)'!$K40,[1]!MASTER_LANE_DIRECTION_DESC[#Data],0),0))","v":""}]
[{"$f":"IF('AVI Antenna (Desc)'!D41=\"\",\"\",'AVI Antenna (Desc)'!A41)","v":""},{"$f":"IF('AVI Antenna (Desc)'!C41=\"\",\"\",\"2007\")","v":""},{"$f":"IF('AVI Antenna (Desc)'!F41=\"\",\"\",'AVI Antenna (Desc)'!C41)","v":""},{"$f":"IF('AVI Antenna (Desc)'!D41=\"\",\"\",'AVI Antenna (Desc)'!D41)","v":""},{"$f":"IF('AVI Antenna (Desc)'!E41=\"\",\"\",INDEX([1]ASSET_ID_SOURCE!$A$2:$A$50,MATCH('AVI Antenna (Desc)'!E41,[1]!MASTER_ASSET_ID_SOURCE_DESC,0),0))","v":""},{"$f":"IF('AVI Antenna (Desc)'!G41=\"\",\"\",'AVI Antenna (Desc)'!F41)","v":""},{"$f":"IF('AVI Antenna (Desc)'!G41=\"\",\"\",INDEX([1]ANTENNA_TYPE!$A$2:$A$100,MATCH('AVI Antenna (Desc)'!$G41,[1]!MASTER_ANTENNA_TYPE_DESC[#Data],0),0))","v":""},{"$f":"IF('AVI Antenna (Desc)'!H41=\"\",\"\",INDEX([1]ANTENNA_MANUF!$A$2:$A$100,MATCH('AVI Antenna (Desc)'!$H41,[1]!MASTER_ANTENNA_MANUF_DESC[#Data],0),0))","v":""},{"$f":"IF('AVI Antenna (Desc)'!I41=\"\",\"\",INDEX([1]ANTENNA_MODEL!$A$2:$A$50,MATCH(1,([1]ANTENNA_MODEL!$C$2:$C$50='AVI Antenna (Desc)'!$H41)*([1]ANTENNA_MODEL!$D$2:$D$50='AVI Antenna (Desc)'!$I41),0),0))","v":""},{"$f":"IF('AVI Antenna (Desc)'!J41=\"\",\"\",INDEX([1]LANE_COVERAGE!$A$2:$A$100,MATCH('AVI Antenna (Desc)'!$J41,[1]!MASTER_LANE_COVERAGE_DESC[#Data],0),0))","v":""},{"$f":"IF('AVI Antenna (Desc)'!K41=\"\",\"\",INDEX([1]LANE_DIRECTION!$A$2:$A$100,MATCH('AVI Antenna (Desc)'!$K41,[1]!MASTER_LANE_DIRECTION_DESC[#Data],0),0))","v":""}]
[{"$f":"IF('AVI Antenna (Desc)'!D42=\"\",\"\",'AVI Antenna (Desc)'!A42)","v":""},{"$f":"IF('AVI Antenna (Desc)'!C42=\"\",\"\",\"2007\")","v":""},{"$f":"IF('AVI Antenna (Desc)'!F42=\"\",\"\",'AVI Antenna (Desc)'!C42)","v":""},{"$f":"IF('AVI Antenna (Desc)'!D42=\"\",\"\",'AVI Antenna (Desc)'!D42)","v":""},{"$f":"IF('AVI Antenna (Desc)'!E42=\"\",\"\",INDEX([1]ASSET_ID_SOURCE!$A$2:$A$50,MATCH('AVI Antenna (Desc)'!E42,[1]!MASTER_ASSET_ID_SOURCE_DESC,0),0))","v":""},{"$f":"IF('AVI Antenna (Desc)'!G42=\"\",\"\",'AVI Antenna (Desc)'!F42)","v":""},{"$f":"IF('AVI Antenna (Desc)'!G42=\"\",\"\",INDEX([1]ANTENNA_TYPE!$A$2:$A$100,MATCH('AVI Antenna (Desc)'!$G42,[1]!MASTER_ANTENNA_TYPE_DESC[#Data],0),0))","v":""},{"$f":"IF('AVI Antenna (Desc)'!H42=\"\",\"\",INDEX([1]ANTENNA_MANUF!$A$2:$A$100,MATCH('AVI Antenna (Desc)'!$H42,[1]!MASTER_ANTENNA_MANUF_DESC[#Data],0),0))","v":""},{"$f":"IF('AVI Antenna (Desc)'!I42=\"\",\"\",INDEX([1]ANTENNA_MODEL!$A$2:$A$50,MATCH(1,([1]ANTENNA_MODEL!$C$2:$C$50='AVI Antenna (Desc)'!$H42)*([1]ANTENNA_MODEL!$D$2:$D$50='AVI Antenna (Desc)'!$I42),0),0))","v":""},{"$f":"IF('AVI Antenna (Desc)'!J42=\"\",\"\",INDEX([1]LANE_COVERAGE!$A$2:$A$100,MATCH('AVI Antenna (Desc)'!$J42,[1]!MASTER_LANE_COVERAGE_DESC[#Data],0),0))","v":""},{"$f":"IF('AVI Antenna (Desc)'!K42=\"\",\"\",INDEX([1]LANE_DIRECTION!$A$2:$A$100,MATCH('AVI Antenna (Desc)'!$K42,[1]!MASTER_LANE_DIRECTION_DESC[#Data],0),0))","v":""}]
[{"$f":"IF('AVI Antenna (Desc)'!D43=\"\",\"\",'AVI Antenna (Desc)'!A43)","v":""},{"$f":"IF('AVI Antenna (Desc)'!C43=\"\",\"\",\"2007\")","v":""},{"$f":"IF('AVI Antenna (Desc)'!F43=\"\",\"\",'AVI Antenna (Desc)'!C43)","v":""},{"$f":"IF('AVI Antenna (Desc)'!D43=\"\",\"\",'AVI Antenna (Desc)'!D43)","v":""},{"$f":"IF('AVI Antenna (Desc)'!E43=\"\",\"\",INDEX([1]ASSET_ID_SOURCE!$A$2:$A$50,MATCH('AVI Antenna (Desc)'!E43,[1]!MASTER_ASSET_ID_SOURCE_DESC,0),0))","v":""},{"$f":"IF('AVI Antenna (Desc)'!G43=\"\",\"\",'AVI Antenna (Desc)'!F43)","v":""},{"$f":"IF('AVI Antenna (Desc)'!G43=\"\",\"\",INDEX([1]ANTENNA_TYPE!$A$2:$A$100,MATCH('AVI Antenna (Desc)'!$G43,[1]!MASTER_ANTENNA_TYPE_DESC[#Data],0),0))","v":""},{"$f":"IF('AVI Antenna (Desc)'!H43=\"\",\"\",INDEX([1]ANTENNA_MANUF!$A$2:$A$100,MATCH('AVI Antenna (Desc)'!$H43,[1]!MASTER_ANTENNA_MANUF_DESC[#Data],0),0))","v":""},{"$f":"IF('AVI Antenna (Desc)'!I43=\"\",\"\",INDEX([1]ANTENNA_MODEL!$A$2:$A$50,MATCH(1,([1]ANTENNA_MODEL!$C$2:$C$50='AVI Antenna (Desc)'!$H43)*([1]ANTENNA_MODEL!$D$2:$D$50='AVI Antenna (Desc)'!$I43),0),0))","v":""},{"$f":"IF('AVI Antenna (Desc)'!J43=\"\",\"\",INDEX([1]LANE_COVERAGE!$A$2:$A$100,MATCH('AVI Antenna (Desc)'!$J43,[1]!MASTER_LANE_COVERAGE_DESC[#Data],0),0))","v":""},{"$f":"IF('AVI Antenna (Desc)'!K43=\"\",\"\",INDEX([1]LANE_DIRECTION!$A$2:$A$100,MATCH('AVI Antenna (Desc)'!$K43,[1]!MASTER_LANE_DIRECTION_DESC[#Data],0),0))","v":""}]
[{"$f":"IF('AVI Antenna (Desc)'!D44=\"\",\"\",'AVI Antenna (Desc)'!A44)","v":""},{"$f":"IF('AVI Antenna (Desc)'!C44=\"\",\"\",\"2007\")","v":""},{"$f":"IF('AVI Antenna (Desc)'!F44=\"\",\"\",'AVI Antenna (Desc)'!C44)","v":""},{"$f":"IF('AVI Antenna (Desc)'!D44=\"\",\"\",'AVI Antenna (Desc)'!D44)","v":""},{"$f":"IF('AVI Antenna (Desc)'!E44=\"\",\"\",INDEX([1]ASSET_ID_SOURCE!$A$2:$A$50,MATCH('AVI Antenna (Desc)'!E44,[1]!MASTER_ASSET_ID_SOURCE_DESC,0),0))","v":""},{"$f":"IF('AVI Antenna (Desc)'!G44=\"\",\"\",'AVI Antenna (Desc)'!F44)","v":""},{"$f":"IF('AVI Antenna (Desc)'!G44=\"\",\"\",INDEX([1]ANTENNA_TYPE!$A$2:$A$100,MATCH('AVI Antenna (Desc)'!$G44,[1]!MASTER_ANTENNA_TYPE_DESC[#Data],0),0))","v":""},{"$f":"IF('AVI Antenna (Desc)'!H44=\"\",\"\",INDEX([1]ANTENNA_MANUF!$A$2:$A$100,MATCH('AVI Antenna (Desc)'!$H44,[1]!MASTER_ANTENNA_MANUF_DESC[#Data],0),0))","v":""},{"$f":"IF('AVI Antenna (Desc)'!I44=\"\",\"\",INDEX([1]ANTENNA_MODEL!$A$2:$A$50,MATCH(1,([1]ANTENNA_MODEL!$C$2:$C$50='AVI Antenna (Desc)'!$H44)*([1]ANTENNA_MODEL!$D$2:$D$50='AVI Antenna (Desc)'!$I44),0),0))","v":""},{"$f":"IF('AVI Antenna (Desc)'!J44=\"\",\"\",INDEX([1]LANE_COVERAGE!$A$2:$A$100,MATCH('AVI Antenna (Desc)'!$J44,[1]!MASTER_LANE_COVERAGE_DESC[#Data],0),0))","v":""},{"$f":"IF('AVI Antenna (Desc)'!K44=\"\",\"\",INDEX([1]LANE_DIRECTION!$A$2:$A$100,MATCH('AVI Antenna (Desc)'!$K44,[1]!MASTER_LANE_DIRECTION_DESC[#Data],0),0))","v":""}]
[{"$f":"IF('AVI Antenna (Desc)'!D45=\"\",\"\",'AVI Antenna (Desc)'!A45)","v":""},{"$f":"IF('AVI Antenna (Desc)'!C45=\"\",\"\",\"2007\")","v":""},{"$f":"IF('AVI Antenna (Desc)'!F45=\"\",\"\",'AVI Antenna (Desc)'!C45)","v":""},{"$f":"IF('AVI Antenna (Desc)'!D45=\"\",\"\",'AVI Antenna (Desc)'!D45)","v":""},{"$f":"IF('AVI Antenna (Desc)'!E45=\"\",\"\",INDEX([1]ASSET_ID_SOURCE!$A$2:$A$50,MATCH('AVI Antenna (Desc)'!E45,[1]!MASTER_ASSET_ID_SOURCE_DESC,0),0))","v":""},{"$f":"IF('AVI Antenna (Desc)'!G45=\"\",\"\",'AVI Antenna (Desc)'!F45)","v":""},{"$f":"IF('AVI Antenna (Desc)'!G45=\"\",\"\",INDEX([1]ANTENNA_TYPE!$A$2:$A$100,MATCH('AVI Antenna (Desc)'!$G45,[1]!MASTER_ANTENNA_TYPE_DESC[#Data],0),0))","v":""},{"$f":"IF('AVI Antenna (Desc)'!H45=\"\",\"\",INDEX([1]ANTENNA_MANUF!$A$2:$A$100,MATCH('AVI Antenna (Desc)'!$H45,[1]!MASTER_ANTENNA_MANUF_DESC[#Data],0),0))","v":""},{"$f":"IF('AVI Antenna (Desc)'!I45=\"\",\"\",INDEX([1]ANTENNA_MODEL!$A$2:$A$50,MATCH(1,([1]ANTENNA_MODEL!$C$2:$C$50='AVI Antenna (Desc)'!$H45)*([1]ANTENNA_MODEL!$D$2:$D$50='AVI Antenna (Desc)'!$I45),0),0))","v":""},{"$f":"IF('AVI Antenna (Desc)'!J45=\"\",\"\",INDEX([1]LANE_COVERAGE!$A$2:$A$100,MATCH('AVI Antenna (Desc)'!$J45,[1]!MASTER_LANE_COVERAGE_DESC[#Data],0),0))","v":""},{"$f":"IF('AVI Antenna (Desc)'!K45=\"\",\"\",INDEX([1]LANE_DIRECTION!$A$2:$A$100,MATCH('AVI Antenna (Desc)'!$K45,[1]!MASTER_LANE_DIRECTION_DESC[#Data],0),0))","v":""}]
[{"$f":"IF('AVI Antenna (Desc)'!D46=\"\",\"\",'AVI Antenna (Desc)'!A46)","v":""},{"$f":"IF('AVI Antenna (Desc)'!C46=\"\",\"\",\"2007\")","v":""},{"$f":"IF('AVI Antenna (Desc)'!F46=\"\",\"\",'AVI Antenna (Desc)'!C46)","v":""},{"$f":"IF('AVI Antenna (Desc)'!D46=\"\",\"\",'AVI Antenna (Desc)'!D46)","v":""},{"$f":"IF('AVI Antenna (Desc)'!E46=\"\",\"\",INDEX([1]ASSET_ID_SOURCE!$A$2:$A$50,MATCH('AVI Antenna (Desc)'!E46,[1]!MASTER_ASSET_ID_SOURCE_DESC,0),0))","v":""},{"$f":"IF('AVI Antenna (Desc)'!G46=\"\",\"\",'AVI Antenna (Desc)'!F46)","v":""},{"$f":"IF('AVI Antenna (Desc)'!G46=\"\",\"\",INDEX([1]ANTENNA_TYPE!$A$2:$A$100,MATCH('AVI Antenna (Desc)'!$G46,[1]!MASTER_ANTENNA_TYPE_DESC[#Data],0),0))","v":""},{"$f":"IF('AVI Antenna (Desc)'!H46=\"\",\"\",INDEX([1]ANTENNA_MANUF!$A$2:$A$100,MATCH('AVI Antenna (Desc)'!$H46,[1]!MASTER_ANTENNA_MANUF_DESC[#Data],0),0))","v":""},{"$f":"IF('AVI Antenna (Desc)'!I46=\"\",\"\",INDEX([1]ANTENNA_MODEL!$A$2:$A$50,MATCH(1,([1]ANTENNA_MODEL!$C$2:$C$50='AVI Antenna (Desc)'!$H46)*([1]ANTENNA_MODEL!$D$2:$D$50='AVI Antenna (Desc)'!$I46),0),0))","v":""},{"$f":"IF('AVI Antenna (Desc)'!J46=\"\",\"\",INDEX([1]LANE_COVERAGE!$A$2:$A$100,MATCH('AVI Antenna (Desc)'!$J46,[1]!MASTER_LANE_COVERAGE_DESC[#Data],0),0))","v":""},{"$f":"IF('AVI Antenna (Desc)'!K46=\"\",\"\",INDEX([1]LANE_DIRECTION!$A$2:$A$100,MATCH('AVI Antenna (Desc)'!$K46,[1]!MASTER_LANE_DIRECTION_DESC[#Data],0),0))","v":""}]
[{"$f":"IF('AVI Antenna (Desc)'!D47=\"\",\"\",'AVI Antenna (Desc)'!A47)","v":""},{"$f":"IF('AVI Antenna (Desc)'!C47=\"\",\"\",\"2007\")","v":""},{"$f":"IF('AVI Antenna (Desc)'!F47=\"\",\"\",'AVI Antenna (Desc)'!C47)","v":""},{"$f":"IF('AVI Antenna (Desc)'!D47=\"\",\"\",'AVI Antenna (Desc)'!D47)","v":""},{"$f":"IF('AVI Antenna (Desc)'!E47=\"\",\"\",INDEX([1]ASSET_ID_SOURCE!$A$2:$A$50,MATCH('AVI Antenna (Desc)'!E47,[1]!MASTER_ASSET_ID_SOURCE_DESC,0),0))","v":""},{"$f":"IF('AVI Antenna (Desc)'!G47=\"\",\"\",'AVI Antenna (Desc)'!F47)","v":""},{"$f":"IF('AVI Antenna (Desc)'!G47=\"\",\"\",INDEX([1]ANTENNA_TYPE!$A$2:$A$100,MATCH('AVI Antenna (Desc)'!$G47,[1]!MASTER_ANTENNA_TYPE_DESC[#Data],0),0))","v":""},{"$f":"IF('AVI Antenna (Desc)'!H47=\"\",\"\",INDEX([1]ANTENNA_MANUF!$A$2:$A$100,MATCH('AVI Antenna (Desc)'!$H47,[1]!MASTER_ANTENNA_MANUF_DESC[#Data],0),0))","v":""},{"$f":"IF('AVI Antenna (Desc)'!I47=\"\",\"\",INDEX([1]ANTENNA_MODEL!$A$2:$A$50,MATCH(1,([1]ANTENNA_MODEL!$C$2:$C$50='AVI Antenna (Desc)'!$H47)*([1]ANTENNA_MODEL!$D$2:$D$50='AVI Antenna (Desc)'!$I47),0),0))","v":""},{"$f":"IF('AVI Antenna (Desc)'!J47=\"\",\"\",INDEX([1]LANE_COVERAGE!$A$2:$A$100,MATCH('AVI Antenna (Desc)'!$J47,[1]!MASTER_LANE_COVERAGE_DESC[#Data],0),0))","v":""},{"$f":"IF('AVI Antenna (Desc)'!K47=\"\",\"\",INDEX([1]LANE_DIRECTION!$A$2:$A$100,MATCH('AVI Antenna (Desc)'!$K47,[1]!MASTER_LANE_DIRECTION_DESC[#Data],0),0))","v":""}]
[{"$f":"IF('AVI Antenna (Desc)'!D48=\"\",\"\",'AVI Antenna (Desc)'!A48)","v":""},{"$f":"IF('AVI Antenna (Desc)'!C48=\"\",\"\",\"2007\")","v":""},{"$f":"IF('AVI Antenna (Desc)'!F48=\"\",\"\",'AVI Antenna (Desc)'!C48)","v":""},{"$f":"IF('AVI Antenna (Desc)'!D48=\"\",\"\",'AVI Antenna (Desc)'!D48)","v":""},{"$f":"IF('AVI Antenna (Desc)'!E48=\"\",\"\",INDEX([1]ASSET_ID_SOURCE!$A$2:$A$50,MATCH('AVI Antenna (Desc)'!E48,[1]!MASTER_ASSET_ID_SOURCE_DESC,0),0))","v":""},{"$f":"IF('AVI Antenna (Desc)'!G48=\"\",\"\",'AVI Antenna (Desc)'!F48)","v":""},{"$f":"IF('AVI Antenna (Desc)'!G48=\"\",\"\",INDEX([1]ANTENNA_TYPE!$A$2:$A$100,MATCH('AVI Antenna (Desc)'!$G48,[1]!MASTER_ANTENNA_TYPE_DESC[#Data],0),0))","v":""},{"$f":"IF('AVI Antenna (Desc)'!H48=\"\",\"\",INDEX([1]ANTENNA_MANUF!$A$2:$A$100,MATCH('AVI Antenna (Desc)'!$H48,[1]!MASTER_ANTENNA_MANUF_DESC[#Data],0),0))","v":""},{"$f":"IF('AVI Antenna (Desc)'!I48=\"\",\"\",INDEX([1]ANTENNA_MODEL!$A$2:$A$50,MATCH(1,([1]ANTENNA_MODEL!$C$2:$C$50='AVI Antenna (Desc)'!$H48)*([1]ANTENNA_MODEL!$D$2:$D$50='AVI Antenna (Desc)'!$I48),0),0))","v":""},{"$f":"IF('AVI Antenna (Desc)'!J48=\"\",\"\",INDEX([1]LANE_COVERAGE!$A$2:$A$100,MATCH('AVI Antenna (Desc)'!$J48,[1]!MASTER_LANE_COVERAGE_DESC[#Data],0),0))","v":""},{"$f":"IF('AVI Antenna (Desc)'!K48=\"\",\"\",INDEX([1]LANE_DIRECTION!$A$2:$A$100,MATCH('AVI Antenna (Desc)'!$K48,[1]!MASTER_LANE_DIRECTION_DESC[#Data],0),0))","v":""}]
[{"$f":"IF('AVI Antenna (Desc)'!D49=\"\",\"\",'AVI Antenna (Desc)'!A49)","v":""},{"$f":"IF('AVI Antenna (Desc)'!C49=\"\",\"\",\"2007\")","v":""},{"$f":"IF('AVI Antenna (Desc)'!F49=\"\",\"\",'AVI Antenna (Desc)'!C49)","v":""},{"$f":"IF('AVI Antenna (Desc)'!D49=\"\",\"\",'AVI Antenna (Desc)'!D49)","v":""},{"$f":"IF('AVI Antenna (Desc)'!E49=\"\",\"\",INDEX([1]ASSET_ID_SOURCE!$A$2:$A$50,MATCH('AVI Antenna (Desc)'!E49,[1]!MASTER_ASSET_ID_SOURCE_DESC,0),0))","v":""},{"$f":"IF('AVI Antenna (Desc)'!G49=\"\",\"\",'AVI Antenna (Desc)'!F49)","v":""},{"$f":"IF('AVI Antenna (Desc)'!G49=\"\",\"\",INDEX([1]ANTENNA_TYPE!$A$2:$A$100,MATCH('AVI Antenna (Desc)'!$G49,[1]!MASTER_ANTENNA_TYPE_DESC[#Data],0),0))","v":""},{"$f":"IF('AVI Antenna (Desc)'!H49=\"\",\"\",INDEX([1]ANTENNA_MANUF!$A$2:$A$100,MATCH('AVI Antenna (Desc)'!$H49,[1]!MASTER_ANTENNA_MANUF_DESC[#Data],0),0))","v":""},{"$f":"IF('AVI Antenna (Desc)'!I49=\"\",\"\",INDEX([1]ANTENNA_MODEL!$A$2:$A$50,MATCH(1,([1]ANTENNA_MODEL!$C$2:$C$50='AVI Antenna (Desc)'!$H49)*([1]ANTENNA_MODEL!$D$2:$D$50='AVI Antenna (Desc)'!$I49),0),0))","v":""},{"$f":"IF('AVI Antenna (Desc)'!J49=\"\",\"\",INDEX([1]LANE_COVERAGE!$A$2:$A$100,MATCH('AVI Antenna (Desc)'!$J49,[1]!MASTER_LANE_COVERAGE_DESC[#Data],0),0))","v":""},{"$f":"IF('AVI Antenna (Desc)'!K49=\"\",\"\",INDEX([1]LANE_DIRECTION!$A$2:$A$100,MATCH('AVI Antenna (Desc)'!$K49,[1]!MASTER_LANE_DIRECTION_DESC[#Data],0),0))","v":""}]
[{"$f":"IF('AVI Antenna (Desc)'!D50=\"\",\"\",'AVI Antenna (Desc)'!A50)","v":""},{"$f":"IF('AVI Antenna (Desc)'!C50=\"\",\"\",\"2007\")","v":""},{"$f":"IF('AVI Antenna (Desc)'!F50=\"\",\"\",'AVI Antenna (Desc)'!C50)","v":""},{"$f":"IF('AVI Antenna (Desc)'!D50=\"\",\"\",'AVI Antenna (Desc)'!D50)","v":""},{"$f":"IF('AVI Antenna (Desc)'!E50=\"\",\"\",INDEX([1]ASSET_ID_SOURCE!$A$2:$A$50,MATCH('AVI Antenna (Desc)'!E50,[1]!MASTER_ASSET_ID_SOURCE_DESC,0),0))","v":""},{"$f":"IF('AVI Antenna (Desc)'!G50=\"\",\"\",'AVI Antenna (Desc)'!F50)","v":""},{"$f":"IF('AVI Antenna (Desc)'!G50=\"\",\"\",INDEX([1]ANTENNA_TYPE!$A$2:$A$100,MATCH('AVI Antenna (Desc)'!$G50,[1]!MASTER_ANTENNA_TYPE_DESC[#Data],0),0))","v":""},{"$f":"IF('AVI Antenna (Desc)'!H50=\"\",\"\",INDEX([1]ANTENNA_MANUF!$A$2:$A$100,MATCH('AVI Antenna (Desc)'!$H50,[1]!MASTER_ANTENNA_MANUF_DESC[#Data],0),0))","v":""},{"$f":"IF('AVI Antenna (Desc)'!I50=\"\",\"\",INDEX([1]ANTENNA_MODEL!$A$2:$A$50,MATCH(1,([1]ANTENNA_MODEL!$C$2:$C$50='AVI Antenna (Desc)'!$H50)*([1]ANTENNA_MODEL!$D$2:$D$50='AVI Antenna (Desc)'!$I50),0),0))","v":""},{"$f":"IF('AVI Antenna (Desc)'!J50=\"\",\"\",INDEX([1]LANE_COVERAGE!$A$2:$A$100,MATCH('AVI Antenna (Desc)'!$J50,[1]!MASTER_LANE_COVERAGE_DESC[#Data],0),0))","v":""},{"$f":"IF('AVI Antenna (Desc)'!K50=\"\",\"\",INDEX([1]LANE_DIRECTION!$A$2:$A$100,MATCH('AVI Antenna (Desc)'!$K50,[1]!MASTER_LANE_DIRECTION_DESC[#Data],0),0))","v":""}]
[{"$f":"IF('AVI Antenna (Desc)'!D51=\"\",\"\",'AVI Antenna (Desc)'!A51)","v":""},{"$f":"IF('AVI Antenna (Desc)'!C51=\"\",\"\",\"2007\")","v":""},{"$f":"IF('AVI Antenna (Desc)'!F51=\"\",\"\",'AVI Antenna (Desc)'!C51)","v":""},{"$f":"IF('AVI Antenna (Desc)'!D51=\"\",\"\",'AVI Antenna (Desc)'!D51)","v":""},{"$f":"IF('AVI Antenna (Desc)'!E51=\"\",\"\",INDEX([1]ASSET_ID_SOURCE!$A$2:$A$50,MATCH('AVI Antenna (Desc)'!E51,[1]!MASTER_ASSET_ID_SOURCE_DESC,0),0))","v":""},{"$f":"IF('AVI Antenna (Desc)'!G51=\"\",\"\",'AVI Antenna (Desc)'!F51)","v":""},{"$f":"IF('AVI Antenna (Desc)'!G51=\"\",\"\",INDEX([1]ANTENNA_TYPE!$A$2:$A$100,MATCH('AVI Antenna (Desc)'!$G51,[1]!MASTER_ANTENNA_TYPE_DESC[#Data],0),0))","v":""},{"$f":"IF('AVI Antenna (Desc)'!H51=\"\",\"\",INDEX([1]ANTENNA_MANUF!$A$2:$A$100,MATCH('AVI Antenna (Desc)'!$H51,[1]!MASTER_ANTENNA_MANUF_DESC[#Data],0),0))","v":""},{"$f":"IF('AVI Antenna (Desc)'!I51=\"\",\"\",INDEX([1]ANTENNA_MODEL!$A$2:$A$50,MATCH(1,([1]ANTENNA_MODEL!$C$2:$C$50='AVI Antenna (Desc)'!$H51)*([1]ANTENNA_MODEL!$D$2:$D$50='AVI Antenna (Desc)'!$I51),0),0))","v":""},{"$f":"IF('AVI Antenna (Desc)'!J51=\"\",\"\",INDEX([1]LANE_COVERAGE!$A$2:$A$100,MATCH('AVI Antenna (Desc)'!$J51,[1]!MASTER_LANE_COVERAGE_DESC[#Data],0),0))","v":""},{"$f":"IF('AVI Antenna (Desc)'!K51=\"\",\"\",INDEX([1]LANE_DIRECTION!$A$2:$A$100,MATCH('AVI Antenna (Desc)'!$K51,[1]!MASTER_LANE_DIRECTION_DESC[#Data],0),0))","v":""}]
[{"$f":"IF('AVI Antenna (Desc)'!D52=\"\",\"\",'AVI Antenna (Desc)'!A52)","v":""},{"$f":"IF('AVI Antenna (Desc)'!C52=\"\",\"\",\"2007\")","v":""},{"$f":"IF('AVI Antenna (Desc)'!F52=\"\",\"\",'AVI Antenna (Desc)'!C52)","v":""},{"$f":"IF('AVI Antenna (Desc)'!D52=\"\",\"\",'AVI Antenna (Desc)'!D52)","v":""},{"$f":"IF('AVI Antenna (Desc)'!E52=\"\",\"\",INDEX([1]ASSET_ID_SOURCE!$A$2:$A$50,MATCH('AVI Antenna (Desc)'!E52,[1]!MASTER_ASSET_ID_SOURCE_DESC,0),0))","v":""},{"$f":"IF('AVI Antenna (Desc)'!G52=\"\",\"\",'AVI Antenna (Desc)'!F52)","v":""},{"$f":"IF('AVI Antenna (Desc)'!G52=\"\",\"\",INDEX([1]ANTENNA_TYPE!$A$2:$A$100,MATCH('AVI Antenna (Desc)'!$G52,[1]!MASTER_ANTENNA_TYPE_DESC[#Data],0),0))","v":""},{"$f":"IF('AVI Antenna (Desc)'!H52=\"\",\"\",INDEX([1]ANTENNA_MANUF!$A$2:$A$100,MATCH('AVI Antenna (Desc)'!$H52,[1]!MASTER_ANTENNA_MANUF_DESC[#Data],0),0))","v":""},{"$f":"IF('AVI Antenna (Desc)'!I52=\"\",\"\",INDEX([1]ANTENNA_MODEL!$A$2:$A$50,MATCH(1,([1]ANTENNA_MODEL!$C$2:$C$50='AVI Antenna (Desc)'!$H52)*([1]ANTENNA_MODEL!$D$2:$D$50='AVI Antenna (Desc)'!$I52),0),0))","v":""},{"$f":"IF('AVI Antenna (Desc)'!J52=\"\",\"\",INDEX([1]LANE_COVERAGE!$A$2:$A$100,MATCH('AVI Antenna (Desc)'!$J52,[1]!MASTER_LANE_COVERAGE_DESC[#Data],0),0))","v":""},{"$f":"IF('AVI Antenna (Desc)'!K52=\"\",\"\",INDEX([1]LANE_DIRECTION!$A$2:$A$100,MATCH('AVI Antenna (Desc)'!$K52,[1]!MASTER_LANE_DIRECTION_DESC[#Data],0),0))","v":""}]
[{"$f":"IF('AVI Antenna (Desc)'!D53=\"\",\"\",'AVI Antenna (Desc)'!A53)","v":""},{"$f":"IF('AVI Antenna (Desc)'!C53=\"\",\"\",\"2007\")","v":""},{"$f":"IF('AVI Antenna (Desc)'!F53=\"\",\"\",'AVI Antenna (Desc)'!C53)","v":""},{"$f":"IF('AVI Antenna (Desc)'!D53=\"\",\"\",'AVI Antenna (Desc)'!D53)","v":""},{"$f":"IF('AVI Antenna (Desc)'!E53=\"\",\"\",INDEX([1]ASSET_ID_SOURCE!$A$2:$A$50,MATCH('AVI Antenna (Desc)'!E53,[1]!MASTER_ASSET_ID_SOURCE_DESC,0),0))","v":""},{"$f":"IF('AVI Antenna (Desc)'!G53=\"\",\"\",'AVI Antenna (Desc)'!F53)","v":""},{"$f":"IF('AVI Antenna (Desc)'!G53=\"\",\"\",INDEX([1]ANTENNA_TYPE!$A$2:$A$100,MATCH('AVI Antenna (Desc)'!$G53,[1]!MASTER_ANTENNA_TYPE_DESC[#Data],0),0))","v":""},{"$f":"IF('AVI Antenna (Desc)'!H53=\"\",\"\",INDEX([1]ANTENNA_MANUF!$A$2:$A$100,MATCH('AVI Antenna (Desc)'!$H53,[1]!MASTER_ANTENNA_MANUF_DESC[#Data],0),0))","v":""},{"$f":"IF('AVI Antenna (Desc)'!I53=\"\",\"\",INDEX([1]ANTENNA_MODEL!$A$2:$A$50,MATCH(1,([1]ANTENNA_MODEL!$C$2:$C$50='AVI Antenna (Desc)'!$H53)*([1]ANTENNA_MODEL!$D$2:$D$50='AVI Antenna (Desc)'!$I53),0),0))","v":""},{"$f":"IF('AVI Antenna (Desc)'!J53=\"\",\"\",INDEX([1]LANE_COVERAGE!$A$2:$A$100,MATCH('AVI Antenna (Desc)'!$J53,[1]!MASTER_LANE_COVERAGE_DESC[#Data],0),0))","v":""},{"$f":"IF('AVI Antenna (Desc)'!K53=\"\",\"\",INDEX([1]LANE_DIRECTION!$A$2:$A$100,MATCH('AVI Antenna (Desc)'!$K53,[1]!MASTER_LANE_DIRECTION_DESC[#Data],0),0))","v":""}]
[{"$f":"IF('AVI Antenna (Desc)'!D54=\"\",\"\",'AVI Antenna (Desc)'!A54)","v":""},{"$f":"IF('AVI Antenna (Desc)'!C54=\"\",\"\",\"2007\")","v":""},{"$f":"IF('AVI Antenna (Desc)'!F54=\"\",\"\",'AVI Antenna (Desc)'!C54)","v":""},{"$f":"IF('AVI Antenna (Desc)'!D54=\"\",\"\",'AVI Antenna (Desc)'!D54)","v":""},{"$f":"IF('AVI Antenna (Desc)'!E54=\"\",\"\",INDEX([1]ASSET_ID_SOURCE!$A$2:$A$50,MATCH('AVI Antenna (Desc)'!E54,[1]!MASTER_ASSET_ID_SOURCE_DESC,0),0))","v":""},{"$f":"IF('AVI Antenna (Desc)'!G54=\"\",\"\",'AVI Antenna (Desc)'!F54)","v":""},{"$f":"IF('AVI Antenna (Desc)'!G54=\"\",\"\",INDEX([1]ANTENNA_TYPE!$A$2:$A$100,MATCH('AVI Antenna (Desc)'!$G54,[1]!MASTER_ANTENNA_TYPE_DESC[#Data],0),0))","v":""},{"$f":"IF('AVI Antenna (Desc)'!H54=\"\",\"\",INDEX([1]ANTENNA_MANUF!$A$2:$A$100,MATCH('AVI Antenna (Desc)'!$H54,[1]!MASTER_ANTENNA_MANUF_DESC[#Data],0),0))","v":""},{"$f":"IF('AVI Antenna (Desc)'!I54=\"\",\"\",INDEX([1]ANTENNA_MODEL!$A$2:$A$50,MATCH(1,([1]ANTENNA_MODEL!$C$2:$C$50='AVI Antenna (Desc)'!$H54)*([1]ANTENNA_MODEL!$D$2:$D$50='AVI Antenna (Desc)'!$I54),0),0))","v":""},{"$f":"IF('AVI Antenna (Desc)'!J54=\"\",\"\",INDEX([1]LANE_COVERAGE!$A$2:$A$100,MATCH('AVI Antenna (Desc)'!$J54,[1]!MASTER_LANE_COVERAGE_DESC[#Data],0),0))","v":""},{"$f":"IF('AVI Antenna (Desc)'!K54=\"\",\"\",INDEX([1]LANE_DIRECTION!$A$2:$A$100,MATCH('AVI Antenna (Desc)'!$K54,[1]!MASTER_LANE_DIRECTION_DESC[#Data],0),0))","v":""}]
[{"$f":"IF('AVI Antenna (Desc)'!D55=\"\",\"\",'AVI Antenna (Desc)'!A55)","v":""},{"$f":"IF('AVI Antenna (Desc)'!C55=\"\",\"\",\"2007\")","v":""},{"$f":"IF('AVI Antenna (Desc)'!F55=\"\",\"\",'AVI Antenna (Desc)'!C55)","v":""},{"$f":"IF('AVI Antenna (Desc)'!D55=\"\",\"\",'AVI Antenna (Desc)'!D55)","v":""},{"$f":"IF('AVI Antenna (Desc)'!E55=\"\",\"\",INDEX([1]ASSET_ID_SOURCE!$A$2:$A$50,MATCH('AVI Antenna (Desc)'!E55,[1]!MASTER_ASSET_ID_SOURCE_DESC,0),0))","v":""},{"$f":"IF('AVI Antenna (Desc)'!G55=\"\",\"\",'AVI Antenna (Desc)'!F55)","v":""},{"$f":"IF('AVI Antenna (Desc)'!G55=\"\",\"\",INDEX([1]ANTENNA_TYPE!$A$2:$A$100,MATCH('AVI Antenna (Desc)'!$G55,[1]!MASTER_ANTENNA_TYPE_DESC[#Data],0),0))","v":""},{"$f":"IF('AVI Antenna (Desc)'!H55=\"\",\"\",INDEX([1]ANTENNA_MANUF!$A$2:$A$100,MATCH('AVI Antenna (Desc)'!$H55,[1]!MASTER_ANTENNA_MANUF_DESC[#Data],0),0))","v":""},{"$f":"IF('AVI Antenna (Desc)'!I55=\"\",\"\",INDEX([1]ANTENNA_MODEL!$A$2:$A$50,MATCH(1,([1]ANTENNA_MODEL!$C$2:$C$50='AVI Antenna (Desc)'!$H55)*([1]ANTENNA_MODEL!$D$2:$D$50='AVI Antenna (Desc)'!$I55),0),0))","v":""},{"$f":"IF('AVI Antenna (Desc)'!J55=\"\",\"\",INDEX([1]LANE_COVERAGE!$A$2:$A$100,MATCH('AVI Antenna (Desc)'!$J55,[1]!MASTER_LANE_COVERAGE_DESC[#Data],0),0))","v":""},{"$f":"IF('AVI Antenna (Desc)'!K55=\"\",\"\",INDEX([1]LANE_DIRECTION!$A$2:$A$100,MATCH('AVI Antenna (Desc)'!$K55,[1]!MASTER_LANE_DIRECTION_DESC[#Data],0),0))","v":""}]
[{"$f":"IF('AVI Antenna (Desc)'!D56=\"\",\"\",'AVI Antenna (Desc)'!A56)","v":""},{"$f":"IF('AVI Antenna (Desc)'!C56=\"\",\"\",\"2007\")","v":""},{"$f":"IF('AVI Antenna (Desc)'!F56=\"\",\"\",'AVI Antenna (Desc)'!C56)","v":""},{"$f":"IF('AVI Antenna (Desc)'!D56=\"\",\"\",'AVI Antenna (Desc)'!D56)","v":""},{"$f":"IF('AVI Antenna (Desc)'!E56=\"\",\"\",INDEX([1]ASSET_ID_SOURCE!$A$2:$A$50,MATCH('AVI Antenna (Desc)'!E56,[1]!MASTER_ASSET_ID_SOURCE_DESC,0),0))","v":""},{"$f":"IF('AVI Antenna (Desc)'!G56=\"\",\"\",'AVI Antenna (Desc)'!F56)","v":""},{"$f":"IF('AVI Antenna (Desc)'!G56=\"\",\"\",INDEX([1]ANTENNA_TYPE!$A$2:$A$100,MATCH('AVI Antenna (Desc)'!$G56,[1]!MASTER_ANTENNA_TYPE_DESC[#Data],0),0))","v":""},{"$f":"IF('AVI Antenna (Desc)'!H56=\"\",\"\",INDEX([1]ANTENNA_MANUF!$A$2:$A$100,MATCH('AVI Antenna (Desc)'!$H56,[1]!MASTER_ANTENNA_MANUF_DESC[#Data],0),0))","v":""},{"$f":"IF('AVI Antenna (Desc)'!I56=\"\",\"\",INDEX([1]ANTENNA_MODEL!$A$2:$A$50,MATCH(1,([1]ANTENNA_MODEL!$C$2:$C$50='AVI Antenna (Desc)'!$H56)*([1]ANTENNA_MODEL!$D$2:$D$50='AVI Antenna (Desc)'!$I56),0),0))","v":""},{"$f":"IF('AVI Antenna (Desc)'!J56=\"\",\"\",INDEX([1]LANE_COVERAGE!$A$2:$A$100,MATCH('AVI Antenna (Desc)'!$J56,[1]!MASTER_LANE_COVERAGE_DESC[#Data],0),0))","v":""},{"$f":"IF('AVI Antenna (Desc)'!K56=\"\",\"\",INDEX([1]LANE_DIRECTION!$A$2:$A$100,MATCH('AVI Antenna (Desc)'!$K56,[1]!MASTER_LANE_DIRECTION_DESC[#Data],0),0))","v":""}]
[{"$f":"IF('AVI Antenna (Desc)'!D57=\"\",\"\",'AVI Antenna (Desc)'!A57)","v":""},{"$f":"IF('AVI Antenna (Desc)'!C57=\"\",\"\",\"2007\")","v":""},{"$f":"IF('AVI Antenna (Desc)'!F57=\"\",\"\",'AVI Antenna (Desc)'!C57)","v":""},{"$f":"IF('AVI Antenna (Desc)'!D57=\"\",\"\",'AVI Antenna (Desc)'!D57)","v":""},{"$f":"IF('AVI Antenna (Desc)'!E57=\"\",\"\",INDEX([1]ASSET_ID_SOURCE!$A$2:$A$50,MATCH('AVI Antenna (Desc)'!E57,[1]!MASTER_ASSET_ID_SOURCE_DESC,0),0))","v":""},{"$f":"IF('AVI Antenna (Desc)'!G57=\"\",\"\",'AVI Antenna (Desc)'!F57)","v":""},{"$f":"IF('AVI Antenna (Desc)'!G57=\"\",\"\",INDEX([1]ANTENNA_TYPE!$A$2:$A$100,MATCH('AVI Antenna (Desc)'!$G57,[1]!MASTER_ANTENNA_TYPE_DESC[#Data],0),0))","v":""},{"$f":"IF('AVI Antenna (Desc)'!H57=\"\",\"\",INDEX([1]ANTENNA_MANUF!$A$2:$A$100,MATCH('AVI Antenna (Desc)'!$H57,[1]!MASTER_ANTENNA_MANUF_DESC[#Data],0),0))","v":""},{"$f":"IF('AVI Antenna (Desc)'!I57=\"\",\"\",INDEX([1]ANTENNA_MODEL!$A$2:$A$50,MATCH(1,([1]ANTENNA_MODEL!$C$2:$C$50='AVI Antenna (Desc)'!$H57)*([1]ANTENNA_MODEL!$D$2:$D$50='AVI Antenna (Desc)'!$I57),0),0))","v":""},{"$f":"IF('AVI Antenna (Desc)'!J57=\"\",\"\",INDEX([1]LANE_COVERAGE!$A$2:$A$100,MATCH('AVI Antenna (Desc)'!$J57,[1]!MASTER_LANE_COVERAGE_DESC[#Data],0),0))","v":""},{"$f":"IF('AVI Antenna (Desc)'!K57=\"\",\"\",INDEX([1]LANE_DIRECTION!$A$2:$A$100,MATCH('AVI Antenna (Desc)'!$K57,[1]!MASTER_LANE_DIRECTION_DESC[#Data],0),0))","v":""}]
[{"$f":"IF('AVI Antenna (Desc)'!D58=\"\",\"\",'AVI Antenna (Desc)'!A58)","v":""},{"$f":"IF('AVI Antenna (Desc)'!C58=\"\",\"\",\"2007\")","v":""},{"$f":"IF('AVI Antenna (Desc)'!F58=\"\",\"\",'AVI Antenna (Desc)'!C58)","v":""},{"$f":"IF('AVI Antenna (Desc)'!D58=\"\",\"\",'AVI Antenna (Desc)'!D58)","v":""},{"$f":"IF('AVI Antenna (Desc)'!E58=\"\",\"\",INDEX([1]ASSET_ID_SOURCE!$A$2:$A$50,MATCH('AVI Antenna (Desc)'!E58,[1]!MASTER_ASSET_ID_SOURCE_DESC,0),0))","v":""},{"$f":"IF('AVI Antenna (Desc)'!G58=\"\",\"\",'AVI Antenna (Desc)'!F58)","v":""},{"$f":"IF('AVI Antenna (Desc)'!G58=\"\",\"\",INDEX([1]ANTENNA_TYPE!$A$2:$A$100,MATCH('AVI Antenna (Desc)'!$G58,[1]!MASTER_ANTENNA_TYPE_DESC[#Data],0),0))","v":""},{"$f":"IF('AVI Antenna (Desc)'!H58=\"\",\"\",INDEX([1]ANTENNA_MANUF!$A$2:$A$100,MATCH('AVI Antenna (Desc)'!$H58,[1]!MASTER_ANTENNA_MANUF_DESC[#Data],0),0))","v":""},{"$f":"IF('AVI Antenna (Desc)'!I58=\"\",\"\",INDEX([1]ANTENNA_MODEL!$A$2:$A$50,MATCH(1,([1]ANTENNA_MODEL!$C$2:$C$50='AVI Antenna (Desc)'!$H58)*([1]ANTENNA_MODEL!$D$2:$D$50='AVI Antenna (Desc)'!$I58),0),0))","v":""},{"$f":"IF('AVI Antenna (Desc)'!J58=\"\",\"\",INDEX([1]LANE_COVERAGE!$A$2:$A$100,MATCH('AVI Antenna (Desc)'!$J58,[1]!MASTER_LANE_COVERAGE_DESC[#Data],0),0))","v":""},{"$f":"IF('AVI Antenna (Desc)'!K58=\"\",\"\",INDEX([1]LANE_DIRECTION!$A$2:$A$100,MATCH('AVI Antenna (Desc)'!$K58,[1]!MASTER_LANE_DIRECTION_DESC[#Data],0),0))","v":""}]
[{"$f":"IF('AVI Antenna (Desc)'!D59=\"\",\"\",'AVI Antenna (Desc)'!A59)","v":""},{"$f":"IF('AVI Antenna (Desc)'!C59=\"\",\"\",\"2007\")","v":""},{"$f":"IF('AVI Antenna (Desc)'!F59=\"\",\"\",'AVI Antenna (Desc)'!C59)","v":""},{"$f":"IF('AVI Antenna (Desc)'!D59=\"\",\"\",'AVI Antenna (Desc)'!D59)","v":""},{"$f":"IF('AVI Antenna (Desc)'!E59=\"\",\"\",INDEX([1]ASSET_ID_SOURCE!$A$2:$A$50,MATCH('AVI Antenna (Desc)'!E59,[1]!MASTER_ASSET_ID_SOURCE_DESC,0),0))","v":""},{"$f":"IF('AVI Antenna (Desc)'!G59=\"\",\"\",'AVI Antenna (Desc)'!F59)","v":""},{"$f":"IF('AVI Antenna (Desc)'!G59=\"\",\"\",INDEX([1]ANTENNA_TYPE!$A$2:$A$100,MATCH('AVI Antenna (Desc)'!$G59,[1]!MASTER_ANTENNA_TYPE_DESC[#Data],0),0))","v":""},{"$f":"IF('AVI Antenna (Desc)'!H59=\"\",\"\",INDEX([1]ANTENNA_MANUF!$A$2:$A$100,MATCH('AVI Antenna (Desc)'!$H59,[1]!MASTER_ANTENNA_MANUF_DESC[#Data],0),0))","v":""},{"$f":"IF('AVI Antenna (Desc)'!I59=\"\",\"\",INDEX([1]ANTENNA_MODEL!$A$2:$A$50,MATCH(1,([1]ANTENNA_MODEL!$C$2:$C$50='AVI Antenna (Desc)'!$H59)*([1]ANTENNA_MODEL!$D$2:$D$50='AVI Antenna (Desc)'!$I59),0),0))","v":""},{"$f":"IF('AVI Antenna (Desc)'!J59=\"\",\"\",INDEX([1]LANE_COVERAGE!$A$2:$A$100,MATCH('AVI Antenna (Desc)'!$J59,[1]!MASTER_LANE_COVERAGE_DESC[#Data],0),0))","v":""},{"$f":"IF('AVI Antenna (Desc)'!K59=\"\",\"\",INDEX([1]LANE_DIRECTION!$A$2:$A$100,MATCH('AVI Antenna (Desc)'!$K59,[1]!MASTER_LANE_DIRECTION_DESC[#Data],0),0))","v":""}]
[{"$f":"IF('AVI Antenna (Desc)'!D60=\"\",\"\",'AVI Antenna (Desc)'!A60)","v":""},{"$f":"IF('AVI Antenna (Desc)'!C60=\"\",\"\",\"2007\")","v":""},{"$f":"IF('AVI Antenna (Desc)'!F60=\"\",\"\",'AVI Antenna (Desc)'!C60)","v":""},{"$f":"IF('AVI Antenna (Desc)'!D60=\"\",\"\",'AVI Antenna (Desc)'!D60)","v":""},{"$f":"IF('AVI Antenna (Desc)'!E60=\"\",\"\",INDEX([1]ASSET_ID_SOURCE!$A$2:$A$50,MATCH('AVI Antenna (Desc)'!E60,[1]!MASTER_ASSET_ID_SOURCE_DESC,0),0))","v":""},{"$f":"IF('AVI Antenna (Desc)'!G60=\"\",\"\",'AVI Antenna (Desc)'!F60)","v":""},{"$f":"IF('AVI Antenna (Desc)'!G60=\"\",\"\",INDEX([1]ANTENNA_TYPE!$A$2:$A$100,MATCH('AVI Antenna (Desc)'!$G60,[1]!MASTER_ANTENNA_TYPE_DESC[#Data],0),0))","v":""},{"$f":"IF('AVI Antenna (Desc)'!H60=\"\",\"\",INDEX([1]ANTENNA_MANUF!$A$2:$A$100,MATCH('AVI Antenna (Desc)'!$H60,[1]!MASTER_ANTENNA_MANUF_DESC[#Data],0),0))","v":""},{"$f":"IF('AVI Antenna (Desc)'!I60=\"\",\"\",INDEX([1]ANTENNA_MODEL!$A$2:$A$50,MATCH(1,([1]ANTENNA_MODEL!$C$2:$C$50='AVI Antenna (Desc)'!$H60)*([1]ANTENNA_MODEL!$D$2:$D$50='AVI Antenna (Desc)'!$I60),0),0))","v":""},{"$f":"IF('AVI Antenna (Desc)'!J60=\"\",\"\",INDEX([1]LANE_COVERAGE!$A$2:$A$100,MATCH('AVI Antenna (Desc)'!$J60,[1]!MASTER_LANE_COVERAGE_DESC[#Data],0),0))","v":""},{"$f":"IF('AVI Antenna (Desc)'!K60=\"\",\"\",INDEX([1]LANE_DIRECTION!$A$2:$A$100,MATCH('AVI Antenna (Desc)'!$K60,[1]!MASTER_LANE_DIRECTION_DESC[#Data],0),0))","v":""}]
[{"$f":"IF('AVI Antenna (Desc)'!D61=\"\",\"\",'AVI Antenna (Desc)'!A61)","v":""},{"$f":"IF('AVI Antenna (Desc)'!C61=\"\",\"\",\"2007\")","v":""},{"$f":"IF('AVI Antenna (Desc)'!F61=\"\",\"\",'AVI Antenna (Desc)'!C61)","v":""},{"$f":"IF('AVI Antenna (Desc)'!D61=\"\",\"\",'AVI Antenna (Desc)'!D61)","v":""},{"$f":"IF('AVI Antenna (Desc)'!E61=\"\",\"\",INDEX([1]ASSET_ID_SOURCE!$A$2:$A$50,MATCH('AVI Antenna (Desc)'!E61,[1]!MASTER_ASSET_ID_SOURCE_DESC,0),0))","v":""},{"$f":"IF('AVI Antenna (Desc)'!G61=\"\",\"\",'AVI Antenna (Desc)'!F61)","v":""},{"$f":"IF('AVI Antenna (Desc)'!G61=\"\",\"\",INDEX([1]ANTENNA_TYPE!$A$2:$A$100,MATCH('AVI Antenna (Desc)'!$G61,[1]!MASTER_ANTENNA_TYPE_DESC[#Data],0),0))","v":""},{"$f":"IF('AVI Antenna (Desc)'!H61=\"\",\"\",INDEX([1]ANTENNA_MANUF!$A$2:$A$100,MATCH('AVI Antenna (Desc)'!$H61,[1]!MASTER_ANTENNA_MANUF_DESC[#Data],0),0))","v":""},{"$f":"IF('AVI Antenna (Desc)'!I61=\"\",\"\",INDEX([1]ANTENNA_MODEL!$A$2:$A$50,MATCH(1,([1]ANTENNA_MODEL!$C$2:$C$50='AVI Antenna (Desc)'!$H61)*([1]ANTENNA_MODEL!$D$2:$D$50='AVI Antenna (Desc)'!$I61),0),0))","v":""},{"$f":"IF('AVI Antenna (Desc)'!J61=\"\",\"\",INDEX([1]LANE_COVERAGE!$A$2:$A$100,MATCH('AVI Antenna (Desc)'!$J61,[1]!MASTER_LANE_COVERAGE_DESC[#Data],0),0))","v":""},{"$f":"IF('AVI Antenna (Desc)'!K61=\"\",\"\",INDEX([1]LANE_DIRECTION!$A$2:$A$100,MATCH('AVI Antenna (Desc)'!$K61,[1]!MASTER_LANE_DIRECTION_DESC[#Data],0),0))","v":""}]
[{"$f":"IF('AVI Antenna (Desc)'!D62=\"\",\"\",'AVI Antenna (Desc)'!A62)","v":""},{"$f":"IF('AVI Antenna (Desc)'!C62=\"\",\"\",\"2007\")","v":""},{"$f":"IF('AVI Antenna (Desc)'!F62=\"\",\"\",'AVI Antenna (Desc)'!C62)","v":""},{"$f":"IF('AVI Antenna (Desc)'!D62=\"\",\"\",'AVI Antenna (Desc)'!D62)","v":""},{"$f":"IF('AVI Antenna (Desc)'!E62=\"\",\"\",INDEX([1]ASSET_ID_SOURCE!$A$2:$A$50,MATCH('AVI Antenna (Desc)'!E62,[1]!MASTER_ASSET_ID_SOURCE_DESC,0),0))","v":""},{"$f":"IF('AVI Antenna (Desc)'!G62=\"\",\"\",'AVI Antenna (Desc)'!F62)","v":""},{"$f":"IF('AVI Antenna (Desc)'!G62=\"\",\"\",INDEX([1]ANTENNA_TYPE!$A$2:$A$100,MATCH('AVI Antenna (Desc)'!$G62,[1]!MASTER_ANTENNA_TYPE_DESC[#Data],0),0))","v":""},{"$f":"IF('AVI Antenna (Desc)'!H62=\"\",\"\",INDEX([1]ANTENNA_MANUF!$A$2:$A$100,MATCH('AVI Antenna (Desc)'!$H62,[1]!MASTER_ANTENNA_MANUF_DESC[#Data],0),0))","v":""},{"$f":"IF('AVI Antenna (Desc)'!I62=\"\",\"\",INDEX([1]ANTENNA_MODEL!$A$2:$A$50,MATCH(1,([1]ANTENNA_MODEL!$C$2:$C$50='AVI Antenna (Desc)'!$H62)*([1]ANTENNA_MODEL!$D$2:$D$50='AVI Antenna (Desc)'!$I62),0),0))","v":""},{"$f":"IF('AVI Antenna (Desc)'!J62=\"\",\"\",INDEX([1]LANE_COVERAGE!$A$2:$A$100,MATCH('AVI Antenna (Desc)'!$J62,[1]!MASTER_LANE_COVERAGE_DESC[#Data],0),0))","v":""},{"$f":"IF('AVI Antenna (Desc)'!K62=\"\",\"\",INDEX([1]LANE_DIRECTION!$A$2:$A$100,MATCH('AVI Antenna (Desc)'!$K62,[1]!MASTER_LANE_DIRECTION_DESC[#Data],0),0))","v":""}]
[{"$f":"IF('AVI Antenna (Desc)'!D63=\"\",\"\",'AVI Antenna (Desc)'!A63)","v":""},{"$f":"IF('AVI Antenna (Desc)'!C63=\"\",\"\",\"2007\")","v":""},{"$f":"IF('AVI Antenna (Desc)'!F63=\"\",\"\",'AVI Antenna (Desc)'!C63)","v":""},{"$f":"IF('AVI Antenna (Desc)'!D63=\"\",\"\",'AVI Antenna (Desc)'!D63)","v":""},{"$f":"IF('AVI Antenna (Desc)'!E63=\"\",\"\",INDEX([1]ASSET_ID_SOURCE!$A$2:$A$50,MATCH('AVI Antenna (Desc)'!E63,[1]!MASTER_ASSET_ID_SOURCE_DESC,0),0))","v":""},{"$f":"IF('AVI Antenna (Desc)'!G63=\"\",\"\",'AVI Antenna (Desc)'!F63)","v":""},{"$f":"IF('AVI Antenna (Desc)'!G63=\"\",\"\",INDEX([1]ANTENNA_TYPE!$A$2:$A$100,MATCH('AVI Antenna (Desc)'!$G63,[1]!MASTER_ANTENNA_TYPE_DESC[#Data],0),0))","v":""},{"$f":"IF('AVI Antenna (Desc)'!H63=\"\",\"\",INDEX([1]ANTENNA_MANUF!$A$2:$A$100,MATCH('AVI Antenna (Desc)'!$H63,[1]!MASTER_ANTENNA_MANUF_DESC[#Data],0),0))","v":""},{"$f":"IF('AVI Antenna (Desc)'!I63=\"\",\"\",INDEX([1]ANTENNA_MODEL!$A$2:$A$50,MATCH(1,([1]ANTENNA_MODEL!$C$2:$C$50='AVI Antenna (Desc)'!$H63)*([1]ANTENNA_MODEL!$D$2:$D$50='AVI Antenna (Desc)'!$I63),0),0))","v":""},{"$f":"IF('AVI Antenna (Desc)'!J63=\"\",\"\",INDEX([1]LANE_COVERAGE!$A$2:$A$100,MATCH('AVI Antenna (Desc)'!$J63,[1]!MASTER_LANE_COVERAGE_DESC[#Data],0),0))","v":""},{"$f":"IF('AVI Antenna (Desc)'!K63=\"\",\"\",INDEX([1]LANE_DIRECTION!$A$2:$A$100,MATCH('AVI Antenna (Desc)'!$K63,[1]!MASTER_LANE_DIRECTION_DESC[#Data],0),0))","v":""}]
[{"$f":"IF('AVI Antenna (Desc)'!D64=\"\",\"\",'AVI Antenna (Desc)'!A64)","v":""},{"$f":"IF('AVI Antenna (Desc)'!C64=\"\",\"\",\"2007\")","v":""},{"$f":"IF('AVI Antenna (Desc)'!F64=\"\",\"\",'AVI Antenna (Desc)'!C64)","v":""},{"$f":"IF('AVI Antenna (Desc)'!D64=\"\",\"\",'AVI Antenna (Desc)'!D64)","v":""},{"$f":"IF('AVI Antenna (Desc)'!E64=\"\",\"\",INDEX([1]ASSET_ID_SOURCE!$A$2:$A$50,MATCH('AVI Antenna (Desc)'!E64,[1]!MASTER_ASSET_ID_SOURCE_DESC,0),0))","v":""},{"$f":"IF('AVI Antenna (Desc)'!G64=\"\",\"\",'AVI Antenna (Desc)'!F64)","v":""},{"$f":"IF('AVI Antenna (Desc)'!G64=\"\",\"\",INDEX([1]ANTENNA_TYPE!$A$2:$A$100,MATCH('AVI Antenna (Desc)'!$G64,[1]!MASTER_ANTENNA_TYPE_DESC[#Data],0),0))","v":""},{"$f":"IF('AVI Antenna (Desc)'!H64=\"\",\"\",INDEX([1]ANTENNA_MANUF!$A$2:$A$100,MATCH('AVI Antenna (Desc)'!$H64,[1]!MASTER_ANTENNA_MANUF_DESC[#Data],0),0))","v":""},{"$f":"IF('AVI Antenna (Desc)'!I64=\"\",\"\",INDEX([1]ANTENNA_MODEL!$A$2:$A$50,MATCH(1,([1]ANTENNA_MODEL!$C$2:$C$50='AVI Antenna (Desc)'!$H64)*([1]ANTENNA_MODEL!$D$2:$D$50='AVI Antenna (Desc)'!$I64),0),0))","v":""},{"$f":"IF('AVI Antenna (Desc)'!J64=\"\",\"\",INDEX([1]LANE_COVERAGE!$A$2:$A$100,MATCH('AVI Antenna (Desc)'!$J64,[1]!MASTER_LANE_COVERAGE_DESC[#Data],0),0))","v":""},{"$f":"IF('AVI Antenna (Desc)'!K64=\"\",\"\",INDEX([1]LANE_DIRECTION!$A$2:$A$100,MATCH('AVI Antenna (Desc)'!$K64,[1]!MASTER_LANE_DIRECTION_DESC[#Data],0),0))","v":""}]
[{"$f":"IF('AVI Antenna (Desc)'!D65=\"\",\"\",'AVI Antenna (Desc)'!A65)","v":""},{"$f":"IF('AVI Antenna (Desc)'!C65=\"\",\"\",\"2007\")","v":""},{"$f":"IF('AVI Antenna (Desc)'!F65=\"\",\"\",'AVI Antenna (Desc)'!C65)","v":""},{"$f":"IF('AVI Antenna (Desc)'!D65=\"\",\"\",'AVI Antenna (Desc)'!D65)","v":""},{"$f":"IF('AVI Antenna (Desc)'!E65=\"\",\"\",INDEX([1]ASSET_ID_SOURCE!$A$2:$A$50,MATCH('AVI Antenna (Desc)'!E65,[1]!MASTER_ASSET_ID_SOURCE_DESC,0),0))","v":""},{"$f":"IF('AVI Antenna (Desc)'!G65=\"\",\"\",'AVI Antenna (Desc)'!F65)","v":""},{"$f":"IF('AVI Antenna (Desc)'!G65=\"\",\"\",INDEX([1]ANTENNA_TYPE!$A$2:$A$100,MATCH('AVI Antenna (Desc)'!$G65,[1]!MASTER_ANTENNA_TYPE_DESC[#Data],0),0))","v":""},{"$f":"IF('AVI Antenna (Desc)'!H65=\"\",\"\",INDEX([1]ANTENNA_MANUF!$A$2:$A$100,MATCH('AVI Antenna (Desc)'!$H65,[1]!MASTER_ANTENNA_MANUF_DESC[#Data],0),0))","v":""},{"$f":"IF('AVI Antenna (Desc)'!I65=\"\",\"\",INDEX([1]ANTENNA_MODEL!$A$2:$A$50,MATCH(1,([1]ANTENNA_MODEL!$C$2:$C$50='AVI Antenna (Desc)'!$H65)*([1]ANTENNA_MODEL!$D$2:$D$50='AVI Antenna (Desc)'!$I65),0),0))","v":""},{"$f":"IF('AVI Antenna (Desc)'!J65=\"\",\"\",INDEX([1]LANE_COVERAGE!$A$2:$A$100,MATCH('AVI Antenna (Desc)'!$J65,[1]!MASTER_LANE_COVERAGE_DESC[#Data],0),0))","v":""},{"$f":"IF('AVI Antenna (Desc)'!K65=\"\",\"\",INDEX([1]LANE_DIRECTION!$A$2:$A$100,MATCH('AVI Antenna (Desc)'!$K65,[1]!MASTER_LANE_DIRECTION_DESC[#Data],0),0))","v":""}]
[{"$f":"IF('AVI Antenna (Desc)'!D66=\"\",\"\",'AVI Antenna (Desc)'!A66)","v":""},{"$f":"IF('AVI Antenna (Desc)'!C66=\"\",\"\",\"2007\")","v":""},{"$f":"IF('AVI Antenna (Desc)'!F66=\"\",\"\",'AVI Antenna (Desc)'!C66)","v":""},{"$f":"IF('AVI Antenna (Desc)'!D66=\"\",\"\",'AVI Antenna (Desc)'!D66)","v":""},{"$f":"IF('AVI Antenna (Desc)'!E66=\"\",\"\",INDEX([1]ASSET_ID_SOURCE!$A$2:$A$50,MATCH('AVI Antenna (Desc)'!E66,[1]!MASTER_ASSET_ID_SOURCE_DESC,0),0))","v":""},{"$f":"IF('AVI Antenna (Desc)'!G66=\"\",\"\",'AVI Antenna (Desc)'!F66)","v":""},{"$f":"IF('AVI Antenna (Desc)'!G66=\"\",\"\",INDEX([1]ANTENNA_TYPE!$A$2:$A$100,MATCH('AVI Antenna (Desc)'!$G66,[1]!MASTER_ANTENNA_TYPE_DESC[#Data],0),0))","v":""},{"$f":"IF('AVI Antenna (Desc)'!H66=\"\",\"\",INDEX([1]ANTENNA_MANUF!$A$2:$A$100,MATCH('AVI Antenna (Desc)'!$H66,[1]!MASTER_ANTENNA_MANUF_DESC[#Data],0),0))","v":""},{"$f":"IF('AVI Antenna (Desc)'!I66=\"\",\"\",INDEX([1]ANTENNA_MODEL!$A$2:$A$50,MATCH(1,([1]ANTENNA_MODEL!$C$2:$C$50='AVI Antenna (Desc)'!$H66)*([1]ANTENNA_MODEL!$D$2:$D$50='AVI Antenna (Desc)'!$I66),0),0))","v":""},{"$f":"IF('AVI Antenna (Desc)'!J66=\"\",\"\",INDEX([1]LANE_COVERAGE!$A$2:$A$100,MATCH('AVI Antenna (Desc)'!$J66,[1]!MASTER_LANE_COVERAGE_DESC[#Data],0),0))","v":""},{"$f":"IF('AVI Antenna (Desc)'!K66=\"\",\"\",INDEX([1]LANE_DIRECTION!$A$2:$A$100,MATCH('AVI Antenna (Desc)'!$K66,[1]!MASTER_LANE_DIRECTION_DESC[#Data],0),0))","v":""}]
[{"$f":"IF('AVI Antenna (Desc)'!D67=\"\",\"\",'AVI Antenna (Desc)'!A67)","v":""},{"$f":"IF('AVI Antenna (Desc)'!C67=\"\",\"\",\"2007\")","v":""},{"$f":"IF('AVI Antenna (Desc)'!F67=\"\",\"\",'AVI Antenna (Desc)'!C67)","v":""},{"$f":"IF('AVI Antenna (Desc)'!D67=\"\",\"\",'AVI Antenna (Desc)'!D67)","v":""},{"$f":"IF('AVI Antenna (Desc)'!E67=\"\",\"\",INDEX([1]ASSET_ID_SOURCE!$A$2:$A$50,MATCH('AVI Antenna (Desc)'!E67,[1]!MASTER_ASSET_ID_SOURCE_DESC,0),0))","v":""},{"$f":"IF('AVI Antenna (Desc)'!G67=\"\",\"\",'AVI Antenna (Desc)'!F67)","v":""},{"$f":"IF('AVI Antenna (Desc)'!G67=\"\",\"\",INDEX([1]ANTENNA_TYPE!$A$2:$A$100,MATCH('AVI Antenna (Desc)'!$G67,[1]!MASTER_ANTENNA_TYPE_DESC[#Data],0),0))","v":""},{"$f":"IF('AVI Antenna (Desc)'!H67=\"\",\"\",INDEX([1]ANTENNA_MANUF!$A$2:$A$100,MATCH('AVI Antenna (Desc)'!$H67,[1]!MASTER_ANTENNA_MANUF_DESC[#Data],0),0))","v":""},{"$f":"IF('AVI Antenna (Desc)'!I67=\"\",\"\",INDEX([1]ANTENNA_MODEL!$A$2:$A$50,MATCH(1,([1]ANTENNA_MODEL!$C$2:$C$50='AVI Antenna (Desc)'!$H67)*([1]ANTENNA_MODEL!$D$2:$D$50='AVI Antenna (Desc)'!$I67),0),0))","v":""},{"$f":"IF('AVI Antenna (Desc)'!J67=\"\",\"\",INDEX([1]LANE_COVERAGE!$A$2:$A$100,MATCH('AVI Antenna (Desc)'!$J67,[1]!MASTER_LANE_COVERAGE_DESC[#Data],0),0))","v":""},{"$f":"IF('AVI Antenna (Desc)'!K67=\"\",\"\",INDEX([1]LANE_DIRECTION!$A$2:$A$100,MATCH('AVI Antenna (Desc)'!$K67,[1]!MASTER_LANE_DIRECTION_DESC[#Data],0),0))","v":""}]
[{"$f":"IF('AVI Antenna (Desc)'!D68=\"\",\"\",'AVI Antenna (Desc)'!A68)","v":""},{"$f":"IF('AVI Antenna (Desc)'!C68=\"\",\"\",\"2007\")","v":""},{"$f":"IF('AVI Antenna (Desc)'!F68=\"\",\"\",'AVI Antenna (Desc)'!C68)","v":""},{"$f":"IF('AVI Antenna (Desc)'!D68=\"\",\"\",'AVI Antenna (Desc)'!D68)","v":""},{"$f":"IF('AVI Antenna (Desc)'!E68=\"\",\"\",INDEX([1]ASSET_ID_SOURCE!$A$2:$A$50,MATCH('AVI Antenna (Desc)'!E68,[1]!MASTER_ASSET_ID_SOURCE_DESC,0),0))","v":""},{"$f":"IF('AVI Antenna (Desc)'!G68=\"\",\"\",'AVI Antenna (Desc)'!F68)","v":""},{"$f":"IF('AVI Antenna (Desc)'!G68=\"\",\"\",INDEX([1]ANTENNA_TYPE!$A$2:$A$100,MATCH('AVI Antenna (Desc)'!$G68,[1]!MASTER_ANTENNA_TYPE_DESC[#Data],0),0))","v":""},{"$f":"IF('AVI Antenna (Desc)'!H68=\"\",\"\",INDEX([1]ANTENNA_MANUF!$A$2:$A$100,MATCH('AVI Antenna (Desc)'!$H68,[1]!MASTER_ANTENNA_MANUF_DESC[#Data],0),0))","v":""},{"$f":"IF('AVI Antenna (Desc)'!I68=\"\",\"\",INDEX([1]ANTENNA_MODEL!$A$2:$A$50,MATCH(1,([1]ANTENNA_MODEL!$C$2:$C$50='AVI Antenna (Desc)'!$H68)*([1]ANTENNA_MODEL!$D$2:$D$50='AVI Antenna (Desc)'!$I68),0),0))","v":""},{"$f":"IF('AVI Antenna (Desc)'!J68=\"\",\"\",INDEX([1]LANE_COVERAGE!$A$2:$A$100,MATCH('AVI Antenna (Desc)'!$J68,[1]!MASTER_LANE_COVERAGE_DESC[#Data],0),0))","v":""},{"$f":"IF('AVI Antenna (Desc)'!K68=\"\",\"\",INDEX([1]LANE_DIRECTION!$A$2:$A$100,MATCH('AVI Antenna (Desc)'!$K68,[1]!MASTER_LANE_DIRECTION_DESC[#Data],0),0))","v":""}]
[{"$f":"IF('AVI Antenna (Desc)'!D69=\"\",\"\",'AVI Antenna (Desc)'!A69)","v":""},{"$f":"IF('AVI Antenna (Desc)'!C69=\"\",\"\",\"2007\")","v":""},{"$f":"IF('AVI Antenna (Desc)'!F69=\"\",\"\",'AVI Antenna (Desc)'!C69)","v":""},{"$f":"IF('AVI Antenna (Desc)'!D69=\"\",\"\",'AVI Antenna (Desc)'!D69)","v":""},{"$f":"IF('AVI Antenna (Desc)'!E69=\"\",\"\",INDEX([1]ASSET_ID_SOURCE!$A$2:$A$50,MATCH('AVI Antenna (Desc)'!E69,[1]!MASTER_ASSET_ID_SOURCE_DESC,0),0))","v":""},{"$f":"IF('AVI Antenna (Desc)'!G69=\"\",\"\",'AVI Antenna (Desc)'!F69)","v":""},{"$f":"IF('AVI Antenna (Desc)'!G69=\"\",\"\",INDEX([1]ANTENNA_TYPE!$A$2:$A$100,MATCH('AVI Antenna (Desc)'!$G69,[1]!MASTER_ANTENNA_TYPE_DESC[#Data],0),0))","v":""},{"$f":"IF('AVI Antenna (Desc)'!H69=\"\",\"\",INDEX([1]ANTENNA_MANUF!$A$2:$A$100,MATCH('AVI Antenna (Desc)'!$H69,[1]!MASTER_ANTENNA_MANUF_DESC[#Data],0),0))","v":""},{"$f":"IF('AVI Antenna (Desc)'!I69=\"\",\"\",INDEX([1]ANTENNA_MODEL!$A$2:$A$50,MATCH(1,([1]ANTENNA_MODEL!$C$2:$C$50='AVI Antenna (Desc)'!$H69)*([1]ANTENNA_MODEL!$D$2:$D$50='AVI Antenna (Desc)'!$I69),0),0))","v":""},{"$f":"IF('AVI Antenna (Desc)'!J69=\"\",\"\",INDEX([1]LANE_COVERAGE!$A$2:$A$100,MATCH('AVI Antenna (Desc)'!$J69,[1]!MASTER_LANE_COVERAGE_DESC[#Data],0),0))","v":""},{"$f":"IF('AVI Antenna (Desc)'!K69=\"\",\"\",INDEX([1]LANE_DIRECTION!$A$2:$A$100,MATCH('AVI Antenna (Desc)'!$K69,[1]!MASTER_LANE_DIRECTION_DESC[#Data],0),0))","v":""}]
[{"$f":"IF('AVI Antenna (Desc)'!D70=\"\",\"\",'AVI Antenna (Desc)'!A70)","v":""},{"$f":"IF('AVI Antenna (Desc)'!C70=\"\",\"\",\"2007\")","v":""},{"$f":"IF('AVI Antenna (Desc)'!F70=\"\",\"\",'AVI Antenna (Desc)'!C70)","v":""},{"$f":"IF('AVI Antenna (Desc)'!D70=\"\",\"\",'AVI Antenna (Desc)'!D70)","v":""},{"$f":"IF('AVI Antenna (Desc)'!E70=\"\",\"\",INDEX([1]ASSET_ID_SOURCE!$A$2:$A$50,MATCH('AVI Antenna (Desc)'!E70,[1]!MASTER_ASSET_ID_SOURCE_DESC,0),0))","v":""},{"$f":"IF('AVI Antenna (Desc)'!G70=\"\",\"\",'AVI Antenna (Desc)'!F70)","v":""},{"$f":"IF('AVI Antenna (Desc)'!G70=\"\",\"\",INDEX([1]ANTENNA_TYPE!$A$2:$A$100,MATCH('AVI Antenna (Desc)'!$G70,[1]!MASTER_ANTENNA_TYPE_DESC[#Data],0),0))","v":""},{"$f":"IF('AVI Antenna (Desc)'!H70=\"\",\"\",INDEX([1]ANTENNA_MANUF!$A$2:$A$100,MATCH('AVI Antenna (Desc)'!$H70,[1]!MASTER_ANTENNA_MANUF_DESC[#Data],0),0))","v":""},{"$f":"IF('AVI Antenna (Desc)'!I70=\"\",\"\",INDEX([1]ANTENNA_MODEL!$A$2:$A$50,MATCH(1,([1]ANTENNA_MODEL!$C$2:$C$50='AVI Antenna (Desc)'!$H70)*([1]ANTENNA_MODEL!$D$2:$D$50='AVI Antenna (Desc)'!$I70),0),0))","v":""},{"$f":"IF('AVI Antenna (Desc)'!J70=\"\",\"\",INDEX([1]LANE_COVERAGE!$A$2:$A$100,MATCH('AVI Antenna (Desc)'!$J70,[1]!MASTER_LANE_COVERAGE_DESC[#Data],0),0))","v":""},{"$f":"IF('AVI Antenna (Desc)'!K70=\"\",\"\",INDEX([1]LANE_DIRECTION!$A$2:$A$100,MATCH('AVI Antenna (Desc)'!$K70,[1]!MASTER_LANE_DIRECTION_DESC[#Data],0),0))","v":""}]
[{"$f":"IF('AVI Antenna (Desc)'!D71=\"\",\"\",'AVI Antenna (Desc)'!A71)","v":""},{"$f":"IF('AVI Antenna (Desc)'!C71=\"\",\"\",\"2007\")","v":""},{"$f":"IF('AVI Antenna (Desc)'!F71=\"\",\"\",'AVI Antenna (Desc)'!C71)","v":""},{"$f":"IF('AVI Antenna (Desc)'!D71=\"\",\"\",'AVI Antenna (Desc)'!D71)","v":""},{"$f":"IF('AVI Antenna (Desc)'!E71=\"\",\"\",INDEX([1]ASSET_ID_SOURCE!$A$2:$A$50,MATCH('AVI Antenna (Desc)'!E71,[1]!MASTER_ASSET_ID_SOURCE_DESC,0),0))","v":""},{"$f":"IF('AVI Antenna (Desc)'!G71=\"\",\"\",'AVI Antenna (Desc)'!F71)","v":""},{"$f":"IF('AVI Antenna (Desc)'!G71=\"\",\"\",INDEX([1]ANTENNA_TYPE!$A$2:$A$100,MATCH('AVI Antenna (Desc)'!$G71,[1]!MASTER_ANTENNA_TYPE_DESC[#Data],0),0))","v":""},{"$f":"IF('AVI Antenna (Desc)'!H71=\"\",\"\",INDEX([1]ANTENNA_MANUF!$A$2:$A$100,MATCH('AVI Antenna (Desc)'!$H71,[1]!MASTER_ANTENNA_MANUF_DESC[#Data],0),0))","v":""},{"$f":"IF('AVI Antenna (Desc)'!I71=\"\",\"\",INDEX([1]ANTENNA_MODEL!$A$2:$A$50,MATCH(1,([1]ANTENNA_MODEL!$C$2:$C$50='AVI Antenna (Desc)'!$H71)*([1]ANTENNA_MODEL!$D$2:$D$50='AVI Antenna (Desc)'!$I71),0),0))","v":""},{"$f":"IF('AVI Antenna (Desc)'!J71=\"\",\"\",INDEX([1]LANE_COVERAGE!$A$2:$A$100,MATCH('AVI Antenna (Desc)'!$J71,[1]!MASTER_LANE_COVERAGE_DESC[#Data],0),0))","v":""},{"$f":"IF('AVI Antenna (Desc)'!K71=\"\",\"\",INDEX([1]LANE_DIRECTION!$A$2:$A$100,MATCH('AVI Antenna (Desc)'!$K71,[1]!MASTER_LANE_DIRECTION_DESC[#Data],0),0))","v":""}]
[{"$f":"IF('AVI Antenna (Desc)'!D72=\"\",\"\",'AVI Antenna (Desc)'!A72)","v":""},{"$f":"IF('AVI Antenna (Desc)'!C72=\"\",\"\",\"2007\")","v":""},{"$f":"IF('AVI Antenna (Desc)'!F72=\"\",\"\",'AVI Antenna (Desc)'!C72)","v":""},{"$f":"IF('AVI Antenna (Desc)'!D72=\"\",\"\",'AVI Antenna (Desc)'!D72)","v":""},{"$f":"IF('AVI Antenna (Desc)'!E72=\"\",\"\",INDEX([1]ASSET_ID_SOURCE!$A$2:$A$50,MATCH('AVI Antenna (Desc)'!E72,[1]!MASTER_ASSET_ID_SOURCE_DESC,0),0))","v":""},{"$f":"IF('AVI Antenna (Desc)'!G72=\"\",\"\",'AVI Antenna (Desc)'!F72)","v":""},{"$f":"IF('AVI Antenna (Desc)'!G72=\"\",\"\",INDEX([1]ANTENNA_TYPE!$A$2:$A$100,MATCH('AVI Antenna (Desc)'!$G72,[1]!MASTER_ANTENNA_TYPE_DESC[#Data],0),0))","v":""},{"$f":"IF('AVI Antenna (Desc)'!H72=\"\",\"\",INDEX([1]ANTENNA_MANUF!$A$2:$A$100,MATCH('AVI Antenna (Desc)'!$H72,[1]!MASTER_ANTENNA_MANUF_DESC[#Data],0),0))","v":""},{"$f":"IF('AVI Antenna (Desc)'!I72=\"\",\"\",INDEX([1]ANTENNA_MODEL!$A$2:$A$50,MATCH(1,([1]ANTENNA_MODEL!$C$2:$C$50='AVI Antenna (Desc)'!$H72)*([1]ANTENNA_MODEL!$D$2:$D$50='AVI Antenna (Desc)'!$I72),0),0))","v":""},{"$f":"IF('AVI Antenna (Desc)'!J72=\"\",\"\",INDEX([1]LANE_COVERAGE!$A$2:$A$100,MATCH('AVI Antenna (Desc)'!$J72,[1]!MASTER_LANE_COVERAGE_DESC[#Data],0),0))","v":""},{"$f":"IF('AVI Antenna (Desc)'!K72=\"\",\"\",INDEX([1]LANE_DIRECTION!$A$2:$A$100,MATCH('AVI Antenna (Desc)'!$K72,[1]!MASTER_LANE_DIRECTION_DESC[#Data],0),0))","v":""}]
[{"$f":"IF('AVI Antenna (Desc)'!D73=\"\",\"\",'AVI Antenna (Desc)'!A73)","v":""},{"$f":"IF('AVI Antenna (Desc)'!C73=\"\",\"\",\"2007\")","v":""},{"$f":"IF('AVI Antenna (Desc)'!F73=\"\",\"\",'AVI Antenna (Desc)'!C73)","v":""},{"$f":"IF('AVI Antenna (Desc)'!D73=\"\",\"\",'AVI Antenna (Desc)'!D73)","v":""},{"$f":"IF('AVI Antenna (Desc)'!E73=\"\",\"\",INDEX([1]ASSET_ID_SOURCE!$A$2:$A$50,MATCH('AVI Antenna (Desc)'!E73,[1]!MASTER_ASSET_ID_SOURCE_DESC,0),0))","v":""},{"$f":"IF('AVI Antenna (Desc)'!G73=\"\",\"\",'AVI Antenna (Desc)'!F73)","v":""},{"$f":"IF('AVI Antenna (Desc)'!G73=\"\",\"\",INDEX([1]ANTENNA_TYPE!$A$2:$A$100,MATCH('AVI Antenna (Desc)'!$G73,[1]!MASTER_ANTENNA_TYPE_DESC[#Data],0),0))","v":""},{"$f":"IF('AVI Antenna (Desc)'!H73=\"\",\"\",INDEX([1]ANTENNA_MANUF!$A$2:$A$100,MATCH('AVI Antenna (Desc)'!$H73,[1]!MASTER_ANTENNA_MANUF_DESC[#Data],0),0))","v":""},{"$f":"IF('AVI Antenna (Desc)'!I73=\"\",\"\",INDEX([1]ANTENNA_MODEL!$A$2:$A$50,MATCH(1,([1]ANTENNA_MODEL!$C$2:$C$50='AVI Antenna (Desc)'!$H73)*([1]ANTENNA_MODEL!$D$2:$D$50='AVI Antenna (Desc)'!$I73),0),0))","v":""},{"$f":"IF('AVI Antenna (Desc)'!J73=\"\",\"\",INDEX([1]LANE_COVERAGE!$A$2:$A$100,MATCH('AVI Antenna (Desc)'!$J73,[1]!MASTER_LANE_COVERAGE_DESC[#Data],0),0))","v":""},{"$f":"IF('AVI Antenna (Desc)'!K73=\"\",\"\",INDEX([1]LANE_DIRECTION!$A$2:$A$100,MATCH('AVI Antenna (Desc)'!$K73,[1]!MASTER_LANE_DIRECTION_DESC[#Data],0),0))","v":""}]
[{"$f":"IF('AVI Antenna (Desc)'!D74=\"\",\"\",'AVI Antenna (Desc)'!A74)","v":""},{"$f":"IF('AVI Antenna (Desc)'!C74=\"\",\"\",\"2007\")","v":""},{"$f":"IF('AVI Antenna (Desc)'!F74=\"\",\"\",'AVI Antenna (Desc)'!C74)","v":""},{"$f":"IF('AVI Antenna (Desc)'!D74=\"\",\"\",'AVI Antenna (Desc)'!D74)","v":""},{"$f":"IF('AVI Antenna (Desc)'!E74=\"\",\"\",INDEX([1]ASSET_ID_SOURCE!$A$2:$A$50,MATCH('AVI Antenna (Desc)'!E74,[1]!MASTER_ASSET_ID_SOURCE_DESC,0),0))","v":""},{"$f":"IF('AVI Antenna (Desc)'!G74=\"\",\"\",'AVI Antenna (Desc)'!F74)","v":""},{"$f":"IF('AVI Antenna (Desc)'!G74=\"\",\"\",INDEX([1]ANTENNA_TYPE!$A$2:$A$100,MATCH('AVI Antenna (Desc)'!$G74,[1]!MASTER_ANTENNA_TYPE_DESC[#Data],0),0))","v":""},{"$f":"IF('AVI Antenna (Desc)'!H74=\"\",\"\",INDEX([1]ANTENNA_MANUF!$A$2:$A$100,MATCH('AVI Antenna (Desc)'!$H74,[1]!MASTER_ANTENNA_MANUF_DESC[#Data],0),0))","v":""},{"$f":"IF('AVI Antenna (Desc)'!I74=\"\",\"\",INDEX([1]ANTENNA_MODEL!$A$2:$A$50,MATCH(1,([1]ANTENNA_MODEL!$C$2:$C$50='AVI Antenna (Desc)'!$H74)*([1]ANTENNA_MODEL!$D$2:$D$50='AVI Antenna (Desc)'!$I74),0),0))","v":""},{"$f":"IF('AVI Antenna (Desc)'!J74=\"\",\"\",INDEX([1]LANE_COVERAGE!$A$2:$A$100,MATCH('AVI Antenna (Desc)'!$J74,[1]!MASTER_LANE_COVERAGE_DESC[#Data],0),0))","v":""},{"$f":"IF('AVI Antenna (Desc)'!K74=\"\",\"\",INDEX([1]LANE_DIRECTION!$A$2:$A$100,MATCH('AVI Antenna (Desc)'!$K74,[1]!MASTER_LANE_DIRECTION_DESC[#Data],0),0))","v":""}]
[{"$f":"IF('AVI Antenna (Desc)'!D75=\"\",\"\",'AVI Antenna (Desc)'!A75)","v":""},{"$f":"IF('AVI Antenna (Desc)'!C75=\"\",\"\",\"2007\")","v":""},{"$f":"IF('AVI Antenna (Desc)'!F75=\"\",\"\",'AVI Antenna (Desc)'!C75)","v":""},{"$f":"IF('AVI Antenna (Desc)'!D75=\"\",\"\",'AVI Antenna (Desc)'!D75)","v":""},{"$f":"IF('AVI Antenna (Desc)'!E75=\"\",\"\",INDEX([1]ASSET_ID_SOURCE!$A$2:$A$50,MATCH('AVI Antenna (Desc)'!E75,[1]!MASTER_ASSET_ID_SOURCE_DESC,0),0))","v":""},{"$f":"IF('AVI Antenna (Desc)'!G75=\"\",\"\",'AVI Antenna (Desc)'!F75)","v":""},{"$f":"IF('AVI Antenna (Desc)'!G75=\"\",\"\",INDEX([1]ANTENNA_TYPE!$A$2:$A$100,MATCH('AVI Antenna (Desc)'!$G75,[1]!MASTER_ANTENNA_TYPE_DESC[#Data],0),0))","v":""},{"$f":"IF('AVI Antenna (Desc)'!H75=\"\",\"\",INDEX([1]ANTENNA_MANUF!$A$2:$A$100,MATCH('AVI Antenna (Desc)'!$H75,[1]!MASTER_ANTENNA_MANUF_DESC[#Data],0),0))","v":""},{"$f":"IF('AVI Antenna (Desc)'!I75=\"\",\"\",INDEX([1]ANTENNA_MODEL!$A$2:$A$50,MATCH(1,([1]ANTENNA_MODEL!$C$2:$C$50='AVI Antenna (Desc)'!$H75)*([1]ANTENNA_MODEL!$D$2:$D$50='AVI Antenna (Desc)'!$I75),0),0))","v":""},{"$f":"IF('AVI Antenna (Desc)'!J75=\"\",\"\",INDEX([1]LANE_COVERAGE!$A$2:$A$100,MATCH('AVI Antenna (Desc)'!$J75,[1]!MASTER_LANE_COVERAGE_DESC[#Data],0),0))","v":""},{"$f":"IF('AVI Antenna (Desc)'!K75=\"\",\"\",INDEX([1]LANE_DIRECTION!$A$2:$A$100,MATCH('AVI Antenna (Desc)'!$K75,[1]!MASTER_LANE_DIRECTION_DESC[#Data],0),0))","v":""}]
[{"$f":"IF('AVI Antenna (Desc)'!D76=\"\",\"\",'AVI Antenna (Desc)'!A76)","v":""},{"$f":"IF('AVI Antenna (Desc)'!C76=\"\",\"\",\"2007\")","v":""},{"$f":"IF('AVI Antenna (Desc)'!F76=\"\",\"\",'AVI Antenna (Desc)'!C76)","v":""},{"$f":"IF('AVI Antenna (Desc)'!D76=\"\",\"\",'AVI Antenna (Desc)'!D76)","v":""},{"$f":"IF('AVI Antenna (Desc)'!E76=\"\",\"\",INDEX([1]ASSET_ID_SOURCE!$A$2:$A$50,MATCH('AVI Antenna (Desc)'!E76,[1]!MASTER_ASSET_ID_SOURCE_DESC,0),0))","v":""},{"$f":"IF('AVI Antenna (Desc)'!G76=\"\",\"\",'AVI Antenna (Desc)'!F76)","v":""},{"$f":"IF('AVI Antenna (Desc)'!G76=\"\",\"\",INDEX([1]ANTENNA_TYPE!$A$2:$A$100,MATCH('AVI Antenna (Desc)'!$G76,[1]!MASTER_ANTENNA_TYPE_DESC[#Data],0),0))","v":""},{"$f":"IF('AVI Antenna (Desc)'!H76=\"\",\"\",INDEX([1]ANTENNA_MANUF!$A$2:$A$100,MATCH('AVI Antenna (Desc)'!$H76,[1]!MASTER_ANTENNA_MANUF_DESC[#Data],0),0))","v":""},{"$f":"IF('AVI Antenna (Desc)'!I76=\"\",\"\",INDEX([1]ANTENNA_MODEL!$A$2:$A$50,MATCH(1,([1]ANTENNA_MODEL!$C$2:$C$50='AVI Antenna (Desc)'!$H76)*([1]ANTENNA_MODEL!$D$2:$D$50='AVI Antenna (Desc)'!$I76),0),0))","v":""},{"$f":"IF('AVI Antenna (Desc)'!J76=\"\",\"\",INDEX([1]LANE_COVERAGE!$A$2:$A$100,MATCH('AVI Antenna (Desc)'!$J76,[1]!MASTER_LANE_COVERAGE_DESC[#Data],0),0))","v":""},{"$f":"IF('AVI Antenna (Desc)'!K76=\"\",\"\",INDEX([1]LANE_DIRECTION!$A$2:$A$100,MATCH('AVI Antenna (Desc)'!$K76,[1]!MASTER_LANE_DIRECTION_DESC[#Data],0),0))","v":""}]
[{"$f":"IF('AVI Antenna (Desc)'!D77=\"\",\"\",'AVI Antenna (Desc)'!A77)","v":""},{"$f":"IF('AVI Antenna (Desc)'!C77=\"\",\"\",\"2007\")","v":""},{"$f":"IF('AVI Antenna (Desc)'!F77=\"\",\"\",'AVI Antenna (Desc)'!C77)","v":""},{"$f":"IF('AVI Antenna (Desc)'!D77=\"\",\"\",'AVI Antenna (Desc)'!D77)","v":""},{"$f":"IF('AVI Antenna (Desc)'!E77=\"\",\"\",INDEX([1]ASSET_ID_SOURCE!$A$2:$A$50,MATCH('AVI Antenna (Desc)'!E77,[1]!MASTER_ASSET_ID_SOURCE_DESC,0),0))","v":""},{"$f":"IF('AVI Antenna (Desc)'!G77=\"\",\"\",'AVI Antenna (Desc)'!F77)","v":""},{"$f":"IF('AVI Antenna (Desc)'!G77=\"\",\"\",INDEX([1]ANTENNA_TYPE!$A$2:$A$100,MATCH('AVI Antenna (Desc)'!$G77,[1]!MASTER_ANTENNA_TYPE_DESC[#Data],0),0))","v":""},{"$f":"IF('AVI Antenna (Desc)'!H77=\"\",\"\",INDEX([1]ANTENNA_MANUF!$A$2:$A$100,MATCH('AVI Antenna (Desc)'!$H77,[1]!MASTER_ANTENNA_MANUF_DESC[#Data],0),0))","v":""},{"$f":"IF('AVI Antenna (Desc)'!I77=\"\",\"\",INDEX([1]ANTENNA_MODEL!$A$2:$A$50,MATCH(1,([1]ANTENNA_MODEL!$C$2:$C$50='AVI Antenna (Desc)'!$H77)*([1]ANTENNA_MODEL!$D$2:$D$50='AVI Antenna (Desc)'!$I77),0),0))","v":""},{"$f":"IF('AVI Antenna (Desc)'!J77=\"\",\"\",INDEX([1]LANE_COVERAGE!$A$2:$A$100,MATCH('AVI Antenna (Desc)'!$J77,[1]!MASTER_LANE_COVERAGE_DESC[#Data],0),0))","v":""},{"$f":"IF('AVI Antenna (Desc)'!K77=\"\",\"\",INDEX([1]LANE_DIRECTION!$A$2:$A$100,MATCH('AVI Antenna (Desc)'!$K77,[1]!MASTER_LANE_DIRECTION_DESC[#Data],0),0))","v":""}]
[{"$f":"IF('AVI Antenna (Desc)'!D78=\"\",\"\",'AVI Antenna (Desc)'!A78)","v":""},{"$f":"IF('AVI Antenna (Desc)'!C78=\"\",\"\",\"2007\")","v":""},{"$f":"IF('AVI Antenna (Desc)'!F78=\"\",\"\",'AVI Antenna (Desc)'!C78)","v":""},{"$f":"IF('AVI Antenna (Desc)'!D78=\"\",\"\",'AVI Antenna (Desc)'!D78)","v":""},{"$f":"IF('AVI Antenna (Desc)'!E78=\"\",\"\",INDEX([1]ASSET_ID_SOURCE!$A$2:$A$50,MATCH('AVI Antenna (Desc)'!E78,[1]!MASTER_ASSET_ID_SOURCE_DESC,0),0))","v":""},{"$f":"IF('AVI Antenna (Desc)'!G78=\"\",\"\",'AVI Antenna (Desc)'!F78)","v":""},{"$f":"IF('AVI Antenna (Desc)'!G78=\"\",\"\",INDEX([1]ANTENNA_TYPE!$A$2:$A$100,MATCH('AVI Antenna (Desc)'!$G78,[1]!MASTER_ANTENNA_TYPE_DESC[#Data],0),0))","v":""},{"$f":"IF('AVI Antenna (Desc)'!H78=\"\",\"\",INDEX([1]ANTENNA_MANUF!$A$2:$A$100,MATCH('AVI Antenna (Desc)'!$H78,[1]!MASTER_ANTENNA_MANUF_DESC[#Data],0),0))","v":""},{"$f":"IF('AVI Antenna (Desc)'!I78=\"\",\"\",INDEX([1]ANTENNA_MODEL!$A$2:$A$50,MATCH(1,([1]ANTENNA_MODEL!$C$2:$C$50='AVI Antenna (Desc)'!$H78)*([1]ANTENNA_MODEL!$D$2:$D$50='AVI Antenna (Desc)'!$I78),0),0))","v":""},{"$f":"IF('AVI Antenna (Desc)'!J78=\"\",\"\",INDEX([1]LANE_COVERAGE!$A$2:$A$100,MATCH('AVI Antenna (Desc)'!$J78,[1]!MASTER_LANE_COVERAGE_DESC[#Data],0),0))","v":""},{"$f":"IF('AVI Antenna (Desc)'!K78=\"\",\"\",INDEX([1]LANE_DIRECTION!$A$2:$A$100,MATCH('AVI Antenna (Desc)'!$K78,[1]!MASTER_LANE_DIRECTION_DESC[#Data],0),0))","v":""}]
[{"$f":"IF('AVI Antenna (Desc)'!D79=\"\",\"\",'AVI Antenna (Desc)'!A79)","v":""},{"$f":"IF('AVI Antenna (Desc)'!C79=\"\",\"\",\"2007\")","v":""},{"$f":"IF('AVI Antenna (Desc)'!F79=\"\",\"\",'AVI Antenna (Desc)'!C79)","v":""},{"$f":"IF('AVI Antenna (Desc)'!D79=\"\",\"\",'AVI Antenna (Desc)'!D79)","v":""},{"$f":"IF('AVI Antenna (Desc)'!E79=\"\",\"\",INDEX([1]ASSET_ID_SOURCE!$A$2:$A$50,MATCH('AVI Antenna (Desc)'!E79,[1]!MASTER_ASSET_ID_SOURCE_DESC,0),0))","v":""},{"$f":"IF('AVI Antenna (Desc)'!G79=\"\",\"\",'AVI Antenna (Desc)'!F79)","v":""},{"$f":"IF('AVI Antenna (Desc)'!G79=\"\",\"\",INDEX([1]ANTENNA_TYPE!$A$2:$A$100,MATCH('AVI Antenna (Desc)'!$G79,[1]!MASTER_ANTENNA_TYPE_DESC[#Data],0),0))","v":""},{"$f":"IF('AVI Antenna (Desc)'!H79=\"\",\"\",INDEX([1]ANTENNA_MANUF!$A$2:$A$100,MATCH('AVI Antenna (Desc)'!$H79,[1]!MASTER_ANTENNA_MANUF_DESC[#Data],0),0))","v":""},{"$f":"IF('AVI Antenna (Desc)'!I79=\"\",\"\",INDEX([1]ANTENNA_MODEL!$A$2:$A$50,MATCH(1,([1]ANTENNA_MODEL!$C$2:$C$50='AVI Antenna (Desc)'!$H79)*([1]ANTENNA_MODEL!$D$2:$D$50='AVI Antenna (Desc)'!$I79),0),0))","v":""},{"$f":"IF('AVI Antenna (Desc)'!J79=\"\",\"\",INDEX([1]LANE_COVERAGE!$A$2:$A$100,MATCH('AVI Antenna (Desc)'!$J79,[1]!MASTER_LANE_COVERAGE_DESC[#Data],0),0))","v":""},{"$f":"IF('AVI Antenna (Desc)'!K79=\"\",\"\",INDEX([1]LANE_DIRECTION!$A$2:$A$100,MATCH('AVI Antenna (Desc)'!$K79,[1]!MASTER_LANE_DIRECTION_DESC[#Data],0),0))","v":""}]
[{"$f":"IF('AVI Antenna (Desc)'!D80=\"\",\"\",'AVI Antenna (Desc)'!A80)","v":""},{"$f":"IF('AVI Antenna (Desc)'!C80=\"\",\"\",\"2007\")","v":""},{"$f":"IF('AVI Antenna (Desc)'!F80=\"\",\"\",'AVI Antenna (Desc)'!C80)","v":""},{"$f":"IF('AVI Antenna (Desc)'!D80=\"\",\"\",'AVI Antenna (Desc)'!D80)","v":""},{"$f":"IF('AVI Antenna (Desc)'!E80=\"\",\"\",INDEX([1]ASSET_ID_SOURCE!$A$2:$A$50,MATCH('AVI Antenna (Desc)'!E80,[1]!MASTER_ASSET_ID_SOURCE_DESC,0),0))","v":""},{"$f":"IF('AVI Antenna (Desc)'!G80=\"\",\"\",'AVI Antenna (Desc)'!F80)","v":""},{"$f":"IF('AVI Antenna (Desc)'!G80=\"\",\"\",INDEX([1]ANTENNA_TYPE!$A$2:$A$100,MATCH('AVI Antenna (Desc)'!$G80,[1]!MASTER_ANTENNA_TYPE_DESC[#Data],0),0))","v":""},{"$f":"IF('AVI Antenna (Desc)'!H80=\"\",\"\",INDEX([1]ANTENNA_MANUF!$A$2:$A$100,MATCH('AVI Antenna (Desc)'!$H80,[1]!MASTER_ANTENNA_MANUF_DESC[#Data],0),0))","v":""},{"$f":"IF('AVI Antenna (Desc)'!I80=\"\",\"\",INDEX([1]ANTENNA_MODEL!$A$2:$A$50,MATCH(1,([1]ANTENNA_MODEL!$C$2:$C$50='AVI Antenna (Desc)'!$H80)*([1]ANTENNA_MODEL!$D$2:$D$50='AVI Antenna (Desc)'!$I80),0),0))","v":""},{"$f":"IF('AVI Antenna (Desc)'!J80=\"\",\"\",INDEX([1]LANE_COVERAGE!$A$2:$A$100,MATCH('AVI Antenna (Desc)'!$J80,[1]!MASTER_LANE_COVERAGE_DESC[#Data],0),0))","v":""},{"$f":"IF('AVI Antenna (Desc)'!K80=\"\",\"\",INDEX([1]LANE_DIRECTION!$A$2:$A$100,MATCH('AVI Antenna (Desc)'!$K80,[1]!MASTER_LANE_DIRECTION_DESC[#Data],0),0))","v":""}]
[{"$f":"IF('AVI Antenna (Desc)'!D81=\"\",\"\",'AVI Antenna (Desc)'!A81)","v":""},{"$f":"IF('AVI Antenna (Desc)'!C81=\"\",\"\",\"2007\")","v":""},{"$f":"IF('AVI Antenna (Desc)'!F81=\"\",\"\",'AVI Antenna (Desc)'!C81)","v":""},{"$f":"IF('AVI Antenna (Desc)'!D81=\"\",\"\",'AVI Antenna (Desc)'!D81)","v":""},{"$f":"IF('AVI Antenna (Desc)'!E81=\"\",\"\",INDEX([1]ASSET_ID_SOURCE!$A$2:$A$50,MATCH('AVI Antenna (Desc)'!E81,[1]!MASTER_ASSET_ID_SOURCE_DESC,0),0))","v":""},{"$f":"IF('AVI Antenna (Desc)'!G81=\"\",\"\",'AVI Antenna (Desc)'!F81)","v":""},{"$f":"IF('AVI Antenna (Desc)'!G81=\"\",\"\",INDEX([1]ANTENNA_TYPE!$A$2:$A$100,MATCH('AVI Antenna (Desc)'!$G81,[1]!MASTER_ANTENNA_TYPE_DESC[#Data],0),0))","v":""},{"$f":"IF('AVI Antenna (Desc)'!H81=\"\",\"\",INDEX([1]ANTENNA_MANUF!$A$2:$A$100,MATCH('AVI Antenna (Desc)'!$H81,[1]!MASTER_ANTENNA_MANUF_DESC[#Data],0),0))","v":""},{"$f":"IF('AVI Antenna (Desc)'!I81=\"\",\"\",INDEX([1]ANTENNA_MODEL!$A$2:$A$50,MATCH(1,([1]ANTENNA_MODEL!$C$2:$C$50='AVI Antenna (Desc)'!$H81)*([1]ANTENNA_MODEL!$D$2:$D$50='AVI Antenna (Desc)'!$I81),0),0))","v":""},{"$f":"IF('AVI Antenna (Desc)'!J81=\"\",\"\",INDEX([1]LANE_COVERAGE!$A$2:$A$100,MATCH('AVI Antenna (Desc)'!$J81,[1]!MASTER_LANE_COVERAGE_DESC[#Data],0),0))","v":""},{"$f":"IF('AVI Antenna (Desc)'!K81=\"\",\"\",INDEX([1]LANE_DIRECTION!$A$2:$A$100,MATCH('AVI Antenna (Desc)'!$K81,[1]!MASTER_LANE_DIRECTION_DESC[#Data],0),0))","v":""}]
[{"$f":"IF('AVI Antenna (Desc)'!D82=\"\",\"\",'AVI Antenna (Desc)'!A82)","v":""},{"$f":"IF('AVI Antenna (Desc)'!C82=\"\",\"\",\"2007\")","v":""},{"$f":"IF('AVI Antenna (Desc)'!F82=\"\",\"\",'AVI Antenna (Desc)'!C82)","v":""},{"$f":"IF('AVI Antenna (Desc)'!D82=\"\",\"\",'AVI Antenna (Desc)'!D82)","v":""},{"$f":"IF('AVI Antenna (Desc)'!E82=\"\",\"\",INDEX([1]ASSET_ID_SOURCE!$A$2:$A$50,MATCH('AVI Antenna (Desc)'!E82,[1]!MASTER_ASSET_ID_SOURCE_DESC,0),0))","v":""},{"$f":"IF('AVI Antenna (Desc)'!G82=\"\",\"\",'AVI Antenna (Desc)'!F82)","v":""},{"$f":"IF('AVI Antenna (Desc)'!G82=\"\",\"\",INDEX([1]ANTENNA_TYPE!$A$2:$A$100,MATCH('AVI Antenna (Desc)'!$G82,[1]!MASTER_ANTENNA_TYPE_DESC[#Data],0),0))","v":""},{"$f":"IF('AVI Antenna (Desc)'!H82=\"\",\"\",INDEX([1]ANTENNA_MANUF!$A$2:$A$100,MATCH('AVI Antenna (Desc)'!$H82,[1]!MASTER_ANTENNA_MANUF_DESC[#Data],0),0))","v":""},{"$f":"IF('AVI Antenna (Desc)'!I82=\"\",\"\",INDEX([1]ANTENNA_MODEL!$A$2:$A$50,MATCH(1,([1]ANTENNA_MODEL!$C$2:$C$50='AVI Antenna (Desc)'!$H82)*([1]ANTENNA_MODEL!$D$2:$D$50='AVI Antenna (Desc)'!$I82),0),0))","v":""},{"$f":"IF('AVI Antenna (Desc)'!J82=\"\",\"\",INDEX([1]LANE_COVERAGE!$A$2:$A$100,MATCH('AVI Antenna (Desc)'!$J82,[1]!MASTER_LANE_COVERAGE_DESC[#Data],0),0))","v":""},{"$f":"IF('AVI Antenna (Desc)'!K82=\"\",\"\",INDEX([1]LANE_DIRECTION!$A$2:$A$100,MATCH('AVI Antenna (Desc)'!$K82,[1]!MASTER_LANE_DIRECTION_DESC[#Data],0),0))","v":""}]
[{"$f":"IF('AVI Antenna (Desc)'!D83=\"\",\"\",'AVI Antenna (Desc)'!A83)","v":""},{"$f":"IF('AVI Antenna (Desc)'!C83=\"\",\"\",\"2007\")","v":""},{"$f":"IF('AVI Antenna (Desc)'!F83=\"\",\"\",'AVI Antenna (Desc)'!C83)","v":""},{"$f":"IF('AVI Antenna (Desc)'!D83=\"\",\"\",'AVI Antenna (Desc)'!D83)","v":""},{"$f":"IF('AVI Antenna (Desc)'!E83=\"\",\"\",INDEX([1]ASSET_ID_SOURCE!$A$2:$A$50,MATCH('AVI Antenna (Desc)'!E83,[1]!MASTER_ASSET_ID_SOURCE_DESC,0),0))","v":""},{"$f":"IF('AVI Antenna (Desc)'!G83=\"\",\"\",'AVI Antenna (Desc)'!F83)","v":""},{"$f":"IF('AVI Antenna (Desc)'!G83=\"\",\"\",INDEX([1]ANTENNA_TYPE!$A$2:$A$100,MATCH('AVI Antenna (Desc)'!$G83,[1]!MASTER_ANTENNA_TYPE_DESC[#Data],0),0))","v":""},{"$f":"IF('AVI Antenna (Desc)'!H83=\"\",\"\",INDEX([1]ANTENNA_MANUF!$A$2:$A$100,MATCH('AVI Antenna (Desc)'!$H83,[1]!MASTER_ANTENNA_MANUF_DESC[#Data],0),0))","v":""},{"$f":"IF('AVI Antenna (Desc)'!I83=\"\",\"\",INDEX([1]ANTENNA_MODEL!$A$2:$A$50,MATCH(1,([1]ANTENNA_MODEL!$C$2:$C$50='AVI Antenna (Desc)'!$H83)*([1]ANTENNA_MODEL!$D$2:$D$50='AVI Antenna (Desc)'!$I83),0),0))","v":""},{"$f":"IF('AVI Antenna (Desc)'!J83=\"\",\"\",INDEX([1]LANE_COVERAGE!$A$2:$A$100,MATCH('AVI Antenna (Desc)'!$J83,[1]!MASTER_LANE_COVERAGE_DESC[#Data],0),0))","v":""},{"$f":"IF('AVI Antenna (Desc)'!K83=\"\",\"\",INDEX([1]LANE_DIRECTION!$A$2:$A$100,MATCH('AVI Antenna (Desc)'!$K83,[1]!MASTER_LANE_DIRECTION_DESC[#Data],0),0))","v":""}]
[{"$f":"IF('AVI Antenna (Desc)'!D84=\"\",\"\",'AVI Antenna (Desc)'!A84)","v":""},{"$f":"IF('AVI Antenna (Desc)'!C84=\"\",\"\",\"2007\")","v":""},{"$f":"IF('AVI Antenna (Desc)'!F84=\"\",\"\",'AVI Antenna (Desc)'!C84)","v":""},{"$f":"IF('AVI Antenna (Desc)'!D84=\"\",\"\",'AVI Antenna (Desc)'!D84)","v":""},{"$f":"IF('AVI Antenna (Desc)'!E84=\"\",\"\",INDEX([1]ASSET_ID_SOURCE!$A$2:$A$50,MATCH('AVI Antenna (Desc)'!E84,[1]!MASTER_ASSET_ID_SOURCE_DESC,0),0))","v":""},{"$f":"IF('AVI Antenna (Desc)'!G84=\"\",\"\",'AVI Antenna (Desc)'!F84)","v":""},{"$f":"IF('AVI Antenna (Desc)'!G84=\"\",\"\",INDEX([1]ANTENNA_TYPE!$A$2:$A$100,MATCH('AVI Antenna (Desc)'!$G84,[1]!MASTER_ANTENNA_TYPE_DESC[#Data],0),0))","v":""},{"$f":"IF('AVI Antenna (Desc)'!H84=\"\",\"\",INDEX([1]ANTENNA_MANUF!$A$2:$A$100,MATCH('AVI Antenna (Desc)'!$H84,[1]!MASTER_ANTENNA_MANUF_DESC[#Data],0),0))","v":""},{"$f":"IF('AVI Antenna (Desc)'!I84=\"\",\"\",INDEX([1]ANTENNA_MODEL!$A$2:$A$50,MATCH(1,([1]ANTENNA_MODEL!$C$2:$C$50='AVI Antenna (Desc)'!$H84)*([1]ANTENNA_MODEL!$D$2:$D$50='AVI Antenna (Desc)'!$I84),0),0))","v":""},{"$f":"IF('AVI Antenna (Desc)'!J84=\"\",\"\",INDEX([1]LANE_COVERAGE!$A$2:$A$100,MATCH('AVI Antenna (Desc)'!$J84,[1]!MASTER_LANE_COVERAGE_DESC[#Data],0),0))","v":""},{"$f":"IF('AVI Antenna (Desc)'!K84=\"\",\"\",INDEX([1]LANE_DIRECTION!$A$2:$A$100,MATCH('AVI Antenna (Desc)'!$K84,[1]!MASTER_LANE_DIRECTION_DESC[#Data],0),0))","v":""}]
[{"$f":"IF('AVI Antenna (Desc)'!D85=\"\",\"\",'AVI Antenna (Desc)'!A85)","v":""},{"$f":"IF('AVI Antenna (Desc)'!C85=\"\",\"\",\"2007\")","v":""},{"$f":"IF('AVI Antenna (Desc)'!F85=\"\",\"\",'AVI Antenna (Desc)'!C85)","v":""},{"$f":"IF('AVI Antenna (Desc)'!D85=\"\",\"\",'AVI Antenna (Desc)'!D85)","v":""},{"$f":"IF('AVI Antenna (Desc)'!E85=\"\",\"\",INDEX([1]ASSET_ID_SOURCE!$A$2:$A$50,MATCH('AVI Antenna (Desc)'!E85,[1]!MASTER_ASSET_ID_SOURCE_DESC,0),0))","v":""},{"$f":"IF('AVI Antenna (Desc)'!G85=\"\",\"\",'AVI Antenna (Desc)'!F85)","v":""},{"$f":"IF('AVI Antenna (Desc)'!G85=\"\",\"\",INDEX([1]ANTENNA_TYPE!$A$2:$A$100,MATCH('AVI Antenna (Desc)'!$G85,[1]!MASTER_ANTENNA_TYPE_DESC[#Data],0),0))","v":""},{"$f":"IF('AVI Antenna (Desc)'!H85=\"\",\"\",INDEX([1]ANTENNA_MANUF!$A$2:$A$100,MATCH('AVI Antenna (Desc)'!$H85,[1]!MASTER_ANTENNA_MANUF_DESC[#Data],0),0))","v":""},{"$f":"IF('AVI Antenna (Desc)'!I85=\"\",\"\",INDEX([1]ANTENNA_MODEL!$A$2:$A$50,MATCH(1,([1]ANTENNA_MODEL!$C$2:$C$50='AVI Antenna (Desc)'!$H85)*([1]ANTENNA_MODEL!$D$2:$D$50='AVI Antenna (Desc)'!$I85),0),0))","v":""},{"$f":"IF('AVI Antenna (Desc)'!J85=\"\",\"\",INDEX([1]LANE_COVERAGE!$A$2:$A$100,MATCH('AVI Antenna (Desc)'!$J85,[1]!MASTER_LANE_COVERAGE_DESC[#Data],0),0))","v":""},{"$f":"IF('AVI Antenna (Desc)'!K85=\"\",\"\",INDEX([1]LANE_DIRECTION!$A$2:$A$100,MATCH('AVI Antenna (Desc)'!$K85,[1]!MASTER_LANE_DIRECTION_DESC[#Data],0),0))","v":""}]
[{"$f":"IF('AVI Antenna (Desc)'!D86=\"\",\"\",'AVI Antenna (Desc)'!A86)","v":""},{"$f":"IF('AVI Antenna (Desc)'!C86=\"\",\"\",\"2007\")","v":""},{"$f":"IF('AVI Antenna (Desc)'!F86=\"\",\"\",'AVI Antenna (Desc)'!C86)","v":""},{"$f":"IF('AVI Antenna (Desc)'!D86=\"\",\"\",'AVI Antenna (Desc)'!D86)","v":""},{"$f":"IF('AVI Antenna (Desc)'!E86=\"\",\"\",INDEX([1]ASSET_ID_SOURCE!$A$2:$A$50,MATCH('AVI Antenna (Desc)'!E86,[1]!MASTER_ASSET_ID_SOURCE_DESC,0),0))","v":""},{"$f":"IF('AVI Antenna (Desc)'!G86=\"\",\"\",'AVI Antenna (Desc)'!F86)","v":""},{"$f":"IF('AVI Antenna (Desc)'!G86=\"\",\"\",INDEX([1]ANTENNA_TYPE!$A$2:$A$100,MATCH('AVI Antenna (Desc)'!$G86,[1]!MASTER_ANTENNA_TYPE_DESC[#Data],0),0))","v":""},{"$f":"IF('AVI Antenna (Desc)'!H86=\"\",\"\",INDEX([1]ANTENNA_MANUF!$A$2:$A$100,MATCH('AVI Antenna (Desc)'!$H86,[1]!MASTER_ANTENNA_MANUF_DESC[#Data],0),0))","v":""},{"$f":"IF('AVI Antenna (Desc)'!I86=\"\",\"\",INDEX([1]ANTENNA_MODEL!$A$2:$A$50,MATCH(1,([1]ANTENNA_MODEL!$C$2:$C$50='AVI Antenna (Desc)'!$H86)*([1]ANTENNA_MODEL!$D$2:$D$50='AVI Antenna (Desc)'!$I86),0),0))","v":""},{"$f":"IF('AVI Antenna (Desc)'!J86=\"\",\"\",INDEX([1]LANE_COVERAGE!$A$2:$A$100,MATCH('AVI Antenna (Desc)'!$J86,[1]!MASTER_LANE_COVERAGE_DESC[#Data],0),0))","v":""},{"$f":"IF('AVI Antenna (Desc)'!K86=\"\",\"\",INDEX([1]LANE_DIRECTION!$A$2:$A$100,MATCH('AVI Antenna (Desc)'!$K86,[1]!MASTER_LANE_DIRECTION_DESC[#Data],0),0))","v":""}]
[{"$f":"IF('AVI Antenna (Desc)'!D87=\"\",\"\",'AVI Antenna (Desc)'!A87)","v":""},{"$f":"IF('AVI Antenna (Desc)'!C87=\"\",\"\",\"2007\")","v":""},{"$f":"IF('AVI Antenna (Desc)'!F87=\"\",\"\",'AVI Antenna (Desc)'!C87)","v":""},{"$f":"IF('AVI Antenna (Desc)'!D87=\"\",\"\",'AVI Antenna (Desc)'!D87)","v":""},{"$f":"IF('AVI Antenna (Desc)'!E87=\"\",\"\",INDEX([1]ASSET_ID_SOURCE!$A$2:$A$50,MATCH('AVI Antenna (Desc)'!E87,[1]!MASTER_ASSET_ID_SOURCE_DESC,0),0))","v":""},{"$f":"IF('AVI Antenna (Desc)'!G87=\"\",\"\",'AVI Antenna (Desc)'!F87)","v":""},{"$f":"IF('AVI Antenna (Desc)'!G87=\"\",\"\",INDEX([1]ANTENNA_TYPE!$A$2:$A$100,MATCH('AVI Antenna (Desc)'!$G87,[1]!MASTER_ANTENNA_TYPE_DESC[#Data],0),0))","v":""},{"$f":"IF('AVI Antenna (Desc)'!H87=\"\",\"\",INDEX([1]ANTENNA_MANUF!$A$2:$A$100,MATCH('AVI Antenna (Desc)'!$H87,[1]!MASTER_ANTENNA_MANUF_DESC[#Data],0),0))","v":""},{"$f":"IF('AVI Antenna (Desc)'!I87=\"\",\"\",INDEX([1]ANTENNA_MODEL!$A$2:$A$50,MATCH(1,([1]ANTENNA_MODEL!$C$2:$C$50='AVI Antenna (Desc)'!$H87)*([1]ANTENNA_MODEL!$D$2:$D$50='AVI Antenna (Desc)'!$I87),0),0))","v":""},{"$f":"IF('AVI Antenna (Desc)'!J87=\"\",\"\",INDEX([1]LANE_COVERAGE!$A$2:$A$100,MATCH('AVI Antenna (Desc)'!$J87,[1]!MASTER_LANE_COVERAGE_DESC[#Data],0),0))","v":""},{"$f":"IF('AVI Antenna (Desc)'!K87=\"\",\"\",INDEX([1]LANE_DIRECTION!$A$2:$A$100,MATCH('AVI Antenna (Desc)'!$K87,[1]!MASTER_LANE_DIRECTION_DESC[#Data],0),0))","v":""}]
[{"$f":"IF('AVI Antenna (Desc)'!D88=\"\",\"\",'AVI Antenna (Desc)'!A88)","v":""},{"$f":"IF('AVI Antenna (Desc)'!C88=\"\",\"\",\"2007\")","v":""},{"$f":"IF('AVI Antenna (Desc)'!F88=\"\",\"\",'AVI Antenna (Desc)'!C88)","v":""},{"$f":"IF('AVI Antenna (Desc)'!D88=\"\",\"\",'AVI Antenna (Desc)'!D88)","v":""},{"$f":"IF('AVI Antenna (Desc)'!E88=\"\",\"\",INDEX([1]ASSET_ID_SOURCE!$A$2:$A$50,MATCH('AVI Antenna (Desc)'!E88,[1]!MASTER_ASSET_ID_SOURCE_DESC,0),0))","v":""},{"$f":"IF('AVI Antenna (Desc)'!G88=\"\",\"\",'AVI Antenna (Desc)'!F88)","v":""},{"$f":"IF('AVI Antenna (Desc)'!G88=\"\",\"\",INDEX([1]ANTENNA_TYPE!$A$2:$A$100,MATCH('AVI Antenna (Desc)'!$G88,[1]!MASTER_ANTENNA_TYPE_DESC[#Data],0),0))","v":""},{"$f":"IF('AVI Antenna (Desc)'!H88=\"\",\"\",INDEX([1]ANTENNA_MANUF!$A$2:$A$100,MATCH('AVI Antenna (Desc)'!$H88,[1]!MASTER_ANTENNA_MANUF_DESC[#Data],0),0))","v":""},{"$f":"IF('AVI Antenna (Desc)'!I88=\"\",\"\",INDEX([1]ANTENNA_MODEL!$A$2:$A$50,MATCH(1,([1]ANTENNA_MODEL!$C$2:$C$50='AVI Antenna (Desc)'!$H88)*([1]ANTENNA_MODEL!$D$2:$D$50='AVI Antenna (Desc)'!$I88),0),0))","v":""},{"$f":"IF('AVI Antenna (Desc)'!J88=\"\",\"\",INDEX([1]LANE_COVERAGE!$A$2:$A$100,MATCH('AVI Antenna (Desc)'!$J88,[1]!MASTER_LANE_COVERAGE_DESC[#Data],0),0))","v":""},{"$f":"IF('AVI Antenna (Desc)'!K88=\"\",\"\",INDEX([1]LANE_DIRECTION!$A$2:$A$100,MATCH('AVI Antenna (Desc)'!$K88,[1]!MASTER_LANE_DIRECTION_DESC[#Data],0),0))","v":""}]
[{"$f":"IF('AVI Antenna (Desc)'!D89=\"\",\"\",'AVI Antenna (Desc)'!A89)","v":""},{"$f":"IF('AVI Antenna (Desc)'!C89=\"\",\"\",\"2007\")","v":""},{"$f":"IF('AVI Antenna (Desc)'!F89=\"\",\"\",'AVI Antenna (Desc)'!C89)","v":""},{"$f":"IF('AVI Antenna (Desc)'!D89=\"\",\"\",'AVI Antenna (Desc)'!D89)","v":""},{"$f":"IF('AVI Antenna (Desc)'!E89=\"\",\"\",INDEX([1]ASSET_ID_SOURCE!$A$2:$A$50,MATCH('AVI Antenna (Desc)'!E89,[1]!MASTER_ASSET_ID_SOURCE_DESC,0),0))","v":""},{"$f":"IF('AVI Antenna (Desc)'!G89=\"\",\"\",'AVI Antenna (Desc)'!F89)","v":""},{"$f":"IF('AVI Antenna (Desc)'!G89=\"\",\"\",INDEX([1]ANTENNA_TYPE!$A$2:$A$100,MATCH('AVI Antenna (Desc)'!$G89,[1]!MASTER_ANTENNA_TYPE_DESC[#Data],0),0))","v":""},{"$f":"IF('AVI Antenna (Desc)'!H89=\"\",\"\",INDEX([1]ANTENNA_MANUF!$A$2:$A$100,MATCH('AVI Antenna (Desc)'!$H89,[1]!MASTER_ANTENNA_MANUF_DESC[#Data],0),0))","v":""},{"$f":"IF('AVI Antenna (Desc)'!I89=\"\",\"\",INDEX([1]ANTENNA_MODEL!$A$2:$A$50,MATCH(1,([1]ANTENNA_MODEL!$C$2:$C$50='AVI Antenna (Desc)'!$H89)*([1]ANTENNA_MODEL!$D$2:$D$50='AVI Antenna (Desc)'!$I89),0),0))","v":""},{"$f":"IF('AVI Antenna (Desc)'!J89=\"\",\"\",INDEX([1]LANE_COVERAGE!$A$2:$A$100,MATCH('AVI Antenna (Desc)'!$J89,[1]!MASTER_LANE_COVERAGE_DESC[#Data],0),0))","v":""},{"$f":"IF('AVI Antenna (Desc)'!K89=\"\",\"\",INDEX([1]LANE_DIRECTION!$A$2:$A$100,MATCH('AVI Antenna (Desc)'!$K89,[1]!MASTER_LANE_DIRECTION_DESC[#Data],0),0))","v":""}]
[{"$f":"IF('AVI Antenna (Desc)'!D90=\"\",\"\",'AVI Antenna (Desc)'!A90)","v":""},{"$f":"IF('AVI Antenna (Desc)'!C90=\"\",\"\",\"2007\")","v":""},{"$f":"IF('AVI Antenna (Desc)'!F90=\"\",\"\",'AVI Antenna (Desc)'!C90)","v":""},{"$f":"IF('AVI Antenna (Desc)'!D90=\"\",\"\",'AVI Antenna (Desc)'!D90)","v":""},{"$f":"IF('AVI Antenna (Desc)'!E90=\"\",\"\",INDEX([1]ASSET_ID_SOURCE!$A$2:$A$50,MATCH('AVI Antenna (Desc)'!E90,[1]!MASTER_ASSET_ID_SOURCE_DESC,0),0))","v":""},{"$f":"IF('AVI Antenna (Desc)'!G90=\"\",\"\",'AVI Antenna (Desc)'!F90)","v":""},{"$f":"IF('AVI Antenna (Desc)'!G90=\"\",\"\",INDEX([1]ANTENNA_TYPE!$A$2:$A$100,MATCH('AVI Antenna (Desc)'!$G90,[1]!MASTER_ANTENNA_TYPE_DESC[#Data],0),0))","v":""},{"$f":"IF('AVI Antenna (Desc)'!H90=\"\",\"\",INDEX([1]ANTENNA_MANUF!$A$2:$A$100,MATCH('AVI Antenna (Desc)'!$H90,[1]!MASTER_ANTENNA_MANUF_DESC[#Data],0),0))","v":""},{"$f":"IF('AVI Antenna (Desc)'!I90=\"\",\"\",INDEX([1]ANTENNA_MODEL!$A$2:$A$50,MATCH(1,([1]ANTENNA_MODEL!$C$2:$C$50='AVI Antenna (Desc)'!$H90)*([1]ANTENNA_MODEL!$D$2:$D$50='AVI Antenna (Desc)'!$I90),0),0))","v":""},{"$f":"IF('AVI Antenna (Desc)'!J90=\"\",\"\",INDEX([1]LANE_COVERAGE!$A$2:$A$100,MATCH('AVI Antenna (Desc)'!$J90,[1]!MASTER_LANE_COVERAGE_DESC[#Data],0),0))","v":""},{"$f":"IF('AVI Antenna (Desc)'!K90=\"\",\"\",INDEX([1]LANE_DIRECTION!$A$2:$A$100,MATCH('AVI Antenna (Desc)'!$K90,[1]!MASTER_LANE_DIRECTION_DESC[#Data],0),0))","v":""}]
[{"$f":"IF('AVI Antenna (Desc)'!D91=\"\",\"\",'AVI Antenna (Desc)'!A91)","v":""},{"$f":"IF('AVI Antenna (Desc)'!C91=\"\",\"\",\"2007\")","v":""},{"$f":"IF('AVI Antenna (Desc)'!F91=\"\",\"\",'AVI Antenna (Desc)'!C91)","v":""},{"$f":"IF('AVI Antenna (Desc)'!D91=\"\",\"\",'AVI Antenna (Desc)'!D91)","v":""},{"$f":"IF('AVI Antenna (Desc)'!E91=\"\",\"\",INDEX([1]ASSET_ID_SOURCE!$A$2:$A$50,MATCH('AVI Antenna (Desc)'!E91,[1]!MASTER_ASSET_ID_SOURCE_DESC,0),0))","v":""},{"$f":"IF('AVI Antenna (Desc)'!G91=\"\",\"\",'AVI Antenna (Desc)'!F91)","v":""},{"$f":"IF('AVI Antenna (Desc)'!G91=\"\",\"\",INDEX([1]ANTENNA_TYPE!$A$2:$A$100,MATCH('AVI Antenna (Desc)'!$G91,[1]!MASTER_ANTENNA_TYPE_DESC[#Data],0),0))","v":""},{"$f":"IF('AVI Antenna (Desc)'!H91=\"\",\"\",INDEX([1]ANTENNA_MANUF!$A$2:$A$100,MATCH('AVI Antenna (Desc)'!$H91,[1]!MASTER_ANTENNA_MANUF_DESC[#Data],0),0))","v":""},{"$f":"IF('AVI Antenna (Desc)'!I91=\"\",\"\",INDEX([1]ANTENNA_MODEL!$A$2:$A$50,MATCH(1,([1]ANTENNA_MODEL!$C$2:$C$50='AVI Antenna (Desc)'!$H91)*([1]ANTENNA_MODEL!$D$2:$D$50='AVI Antenna (Desc)'!$I91),0),0))","v":""},{"$f":"IF('AVI Antenna (Desc)'!J91=\"\",\"\",INDEX([1]LANE_COVERAGE!$A$2:$A$100,MATCH('AVI Antenna (Desc)'!$J91,[1]!MASTER_LANE_COVERAGE_DESC[#Data],0),0))","v":""},{"$f":"IF('AVI Antenna (Desc)'!K91=\"\",\"\",INDEX([1]LANE_DIRECTION!$A$2:$A$100,MATCH('AVI Antenna (Desc)'!$K91,[1]!MASTER_LANE_DIRECTION_DESC[#Data],0),0))","v":""}]
[{"$f":"IF('AVI Antenna (Desc)'!D92=\"\",\"\",'AVI Antenna (Desc)'!A92)","v":""},{"$f":"IF('AVI Antenna (Desc)'!C92=\"\",\"\",\"2007\")","v":""},{"$f":"IF('AVI Antenna (Desc)'!F92=\"\",\"\",'AVI Antenna (Desc)'!C92)","v":""},{"$f":"IF('AVI Antenna (Desc)'!D92=\"\",\"\",'AVI Antenna (Desc)'!D92)","v":""},{"$f":"IF('AVI Antenna (Desc)'!E92=\"\",\"\",INDEX([1]ASSET_ID_SOURCE!$A$2:$A$50,MATCH('AVI Antenna (Desc)'!E92,[1]!MASTER_ASSET_ID_SOURCE_DESC,0),0))","v":""},{"$f":"IF('AVI Antenna (Desc)'!G92=\"\",\"\",'AVI Antenna (Desc)'!F92)","v":""},{"$f":"IF('AVI Antenna (Desc)'!G92=\"\",\"\",INDEX([1]ANTENNA_TYPE!$A$2:$A$100,MATCH('AVI Antenna (Desc)'!$G92,[1]!MASTER_ANTENNA_TYPE_DESC[#Data],0),0))","v":""},{"$f":"IF('AVI Antenna (Desc)'!H92=\"\",\"\",INDEX([1]ANTENNA_MANUF!$A$2:$A$100,MATCH('AVI Antenna (Desc)'!$H92,[1]!MASTER_ANTENNA_MANUF_DESC[#Data],0),0))","v":""},{"$f":"IF('AVI Antenna (Desc)'!I92=\"\",\"\",INDEX([1]ANTENNA_MODEL!$A$2:$A$50,MATCH(1,([1]ANTENNA_MODEL!$C$2:$C$50='AVI Antenna (Desc)'!$H92)*([1]ANTENNA_MODEL!$D$2:$D$50='AVI Antenna (Desc)'!$I92),0),0))","v":""},{"$f":"IF('AVI Antenna (Desc)'!J92=\"\",\"\",INDEX([1]LANE_COVERAGE!$A$2:$A$100,MATCH('AVI Antenna (Desc)'!$J92,[1]!MASTER_LANE_COVERAGE_DESC[#Data],0),0))","v":""},{"$f":"IF('AVI Antenna (Desc)'!K92=\"\",\"\",INDEX([1]LANE_DIRECTION!$A$2:$A$100,MATCH('AVI Antenna (Desc)'!$K92,[1]!MASTER_LANE_DIRECTION_DESC[#Data],0),0))","v":""}]
[{"$f":"IF('AVI Antenna (Desc)'!D93=\"\",\"\",'AVI Antenna (Desc)'!A93)","v":""},{"$f":"IF('AVI Antenna (Desc)'!C93=\"\",\"\",\"2007\")","v":""},{"$f":"IF('AVI Antenna (Desc)'!F93=\"\",\"\",'AVI Antenna (Desc)'!C93)","v":""},{"$f":"IF('AVI Antenna (Desc)'!D93=\"\",\"\",'AVI Antenna (Desc)'!D93)","v":""},{"$f":"IF('AVI Antenna (Desc)'!E93=\"\",\"\",INDEX([1]ASSET_ID_SOURCE!$A$2:$A$50,MATCH('AVI Antenna (Desc)'!E93,[1]!MASTER_ASSET_ID_SOURCE_DESC,0),0))","v":""},{"$f":"IF('AVI Antenna (Desc)'!G93=\"\",\"\",'AVI Antenna (Desc)'!F93)","v":""},{"$f":"IF('AVI Antenna (Desc)'!G93=\"\",\"\",INDEX([1]ANTENNA_TYPE!$A$2:$A$100,MATCH('AVI Antenna (Desc)'!$G93,[1]!MASTER_ANTENNA_TYPE_DESC[#Data],0),0))","v":""},{"$f":"IF('AVI Antenna (Desc)'!H93=\"\",\"\",INDEX([1]ANTENNA_MANUF!$A$2:$A$100,MATCH('AVI Antenna (Desc)'!$H93,[1]!MASTER_ANTENNA_MANUF_DESC[#Data],0),0))","v":""},{"$f":"IF('AVI Antenna (Desc)'!I93=\"\",\"\",INDEX([1]ANTENNA_MODEL!$A$2:$A$50,MATCH(1,([1]ANTENNA_MODEL!$C$2:$C$50='AVI Antenna (Desc)'!$H93)*([1]ANTENNA_MODEL!$D$2:$D$50='AVI Antenna (Desc)'!$I93),0),0))","v":""},{"$f":"IF('AVI Antenna (Desc)'!J93=\"\",\"\",INDEX([1]LANE_COVERAGE!$A$2:$A$100,MATCH('AVI Antenna (Desc)'!$J93,[1]!MASTER_LANE_COVERAGE_DESC[#Data],0),0))","v":""},{"$f":"IF('AVI Antenna (Desc)'!K93=\"\",\"\",INDEX([1]LANE_DIRECTION!$A$2:$A$100,MATCH('AVI Antenna (Desc)'!$K93,[1]!MASTER_LANE_DIRECTION_DESC[#Data],0),0))","v":""}]
[{"$f":"IF('AVI Antenna (Desc)'!D94=\"\",\"\",'AVI Antenna (Desc)'!A94)","v":""},{"$f":"IF('AVI Antenna (Desc)'!C94=\"\",\"\",\"2007\")","v":""},{"$f":"IF('AVI Antenna (Desc)'!F94=\"\",\"\",'AVI Antenna (Desc)'!C94)","v":""},{"$f":"IF('AVI Antenna (Desc)'!D94=\"\",\"\",'AVI Antenna (Desc)'!D94)","v":""},{"$f":"IF('AVI Antenna (Desc)'!E94=\"\",\"\",INDEX([1]ASSET_ID_SOURCE!$A$2:$A$50,MATCH('AVI Antenna (Desc)'!E94,[1]!MASTER_ASSET_ID_SOURCE_DESC,0),0))","v":""},{"$f":"IF('AVI Antenna (Desc)'!G94=\"\",\"\",'AVI Antenna (Desc)'!F94)","v":""},{"$f":"IF('AVI Antenna (Desc)'!G94=\"\",\"\",INDEX([1]ANTENNA_TYPE!$A$2:$A$100,MATCH('AVI Antenna (Desc)'!$G94,[1]!MASTER_ANTENNA_TYPE_DESC[#Data],0),0))","v":""},{"$f":"IF('AVI Antenna (Desc)'!H94=\"\",\"\",INDEX([1]ANTENNA_MANUF!$A$2:$A$100,MATCH('AVI Antenna (Desc)'!$H94,[1]!MASTER_ANTENNA_MANUF_DESC[#Data],0),0))","v":""},{"$f":"IF('AVI Antenna (Desc)'!I94=\"\",\"\",INDEX([1]ANTENNA_MODEL!$A$2:$A$50,MATCH(1,([1]ANTENNA_MODEL!$C$2:$C$50='AVI Antenna (Desc)'!$H94)*([1]ANTENNA_MODEL!$D$2:$D$50='AVI Antenna (Desc)'!$I94),0),0))","v":""},{"$f":"IF('AVI Antenna (Desc)'!J94=\"\",\"\",INDEX([1]LANE_COVERAGE!$A$2:$A$100,MATCH('AVI Antenna (Desc)'!$J94,[1]!MASTER_LANE_COVERAGE_DESC[#Data],0),0))","v":""},{"$f":"IF('AVI Antenna (Desc)'!K94=\"\",\"\",INDEX([1]LANE_DIRECTION!$A$2:$A$100,MATCH('AVI Antenna (Desc)'!$K94,[1]!MASTER_LANE_DIRECTION_DESC[#Data],0),0))","v":""}]
[{"$f":"IF('AVI Antenna (Desc)'!D95=\"\",\"\",'AVI Antenna (Desc)'!A95)","v":""},{"$f":"IF('AVI Antenna (Desc)'!C95=\"\",\"\",\"2007\")","v":""},{"$f":"IF('AVI Antenna (Desc)'!F95=\"\",\"\",'AVI Antenna (Desc)'!C95)","v":""},{"$f":"IF('AVI Antenna (Desc)'!D95=\"\",\"\",'AVI Antenna (Desc)'!D95)","v":""},{"$f":"IF('AVI Antenna (Desc)'!E95=\"\",\"\",INDEX([1]ASSET_ID_SOURCE!$A$2:$A$50,MATCH('AVI Antenna (Desc)'!E95,[1]!MASTER_ASSET_ID_SOURCE_DESC,0),0))","v":""},{"$f":"IF('AVI Antenna (Desc)'!G95=\"\",\"\",'AVI Antenna (Desc)'!F95)","v":""},{"$f":"IF('AVI Antenna (Desc)'!G95=\"\",\"\",INDEX([1]ANTENNA_TYPE!$A$2:$A$100,MATCH('AVI Antenna (Desc)'!$G95,[1]!MASTER_ANTENNA_TYPE_DESC[#Data],0),0))","v":""},{"$f":"IF('AVI Antenna (Desc)'!H95=\"\",\"\",INDEX([1]ANTENNA_MANUF!$A$2:$A$100,MATCH('AVI Antenna (Desc)'!$H95,[1]!MASTER_ANTENNA_MANUF_DESC[#Data],0),0))","v":""},{"$f":"IF('AVI Antenna (Desc)'!I95=\"\",\"\",INDEX([1]ANTENNA_MODEL!$A$2:$A$50,MATCH(1,([1]ANTENNA_MODEL!$C$2:$C$50='AVI Antenna (Desc)'!$H95)*([1]ANTENNA_MODEL!$D$2:$D$50='AVI Antenna (Desc)'!$I95),0),0))","v":""},{"$f":"IF('AVI Antenna (Desc)'!J95=\"\",\"\",INDEX([1]LANE_COVERAGE!$A$2:$A$100,MATCH('AVI Antenna (Desc)'!$J95,[1]!MASTER_LANE_COVERAGE_DESC[#Data],0),0))","v":""},{"$f":"IF('AVI Antenna (Desc)'!K95=\"\",\"\",INDEX([1]LANE_DIRECTION!$A$2:$A$100,MATCH('AVI Antenna (Desc)'!$K95,[1]!MASTER_LANE_DIRECTION_DESC[#Data],0),0))","v":""}]
[{"$f":"IF('AVI Antenna (Desc)'!D96=\"\",\"\",'AVI Antenna (Desc)'!A96)","v":""},{"$f":"IF('AVI Antenna (Desc)'!C96=\"\",\"\",\"2007\")","v":""},{"$f":"IF('AVI Antenna (Desc)'!F96=\"\",\"\",'AVI Antenna (Desc)'!C96)","v":""},{"$f":"IF('AVI Antenna (Desc)'!D96=\"\",\"\",'AVI Antenna (Desc)'!D96)","v":""},{"$f":"IF('AVI Antenna (Desc)'!E96=\"\",\"\",INDEX([1]ASSET_ID_SOURCE!$A$2:$A$50,MATCH('AVI Antenna (Desc)'!E96,[1]!MASTER_ASSET_ID_SOURCE_DESC,0),0))","v":""},{"$f":"IF('AVI Antenna (Desc)'!G96=\"\",\"\",'AVI Antenna (Desc)'!F96)","v":""},{"$f":"IF('AVI Antenna (Desc)'!G96=\"\",\"\",INDEX([1]ANTENNA_TYPE!$A$2:$A$100,MATCH('AVI Antenna (Desc)'!$G96,[1]!MASTER_ANTENNA_TYPE_DESC[#Data],0),0))","v":""},{"$f":"IF('AVI Antenna (Desc)'!H96=\"\",\"\",INDEX([1]ANTENNA_MANUF!$A$2:$A$100,MATCH('AVI Antenna (Desc)'!$H96,[1]!MASTER_ANTENNA_MANUF_DESC[#Data],0),0))","v":""},{"$f":"IF('AVI Antenna (Desc)'!I96=\"\",\"\",INDEX([1]ANTENNA_MODEL!$A$2:$A$50,MATCH(1,([1]ANTENNA_MODEL!$C$2:$C$50='AVI Antenna (Desc)'!$H96)*([1]ANTENNA_MODEL!$D$2:$D$50='AVI Antenna (Desc)'!$I96),0),0))","v":""},{"$f":"IF('AVI Antenna (Desc)'!J96=\"\",\"\",INDEX([1]LANE_COVERAGE!$A$2:$A$100,MATCH('AVI Antenna (Desc)'!$J96,[1]!MASTER_LANE_COVERAGE_DESC[#Data],0),0))","v":""},{"$f":"IF('AVI Antenna (Desc)'!K96=\"\",\"\",INDEX([1]LANE_DIRECTION!$A$2:$A$100,MATCH('AVI Antenna (Desc)'!$K96,[1]!MASTER_LANE_DIRECTION_DESC[#Data],0),0))","v":""}]
[{"$f":"IF('AVI Antenna (Desc)'!D97=\"\",\"\",'AVI Antenna (Desc)'!A97)","v":""},{"$f":"IF('AVI Antenna (Desc)'!C97=\"\",\"\",\"2007\")","v":""},{"$f":"IF('AVI Antenna (Desc)'!F97=\"\",\"\",'AVI Antenna (Desc)'!C97)","v":""},{"$f":"IF('AVI Antenna (Desc)'!D97=\"\",\"\",'AVI Antenna (Desc)'!D97)","v":""},{"$f":"IF('AVI Antenna (Desc)'!E97=\"\",\"\",INDEX([1]ASSET_ID_SOURCE!$A$2:$A$50,MATCH('AVI Antenna (Desc)'!E97,[1]!MASTER_ASSET_ID_SOURCE_DESC,0),0))","v":""},{"$f":"IF('AVI Antenna (Desc)'!G97=\"\",\"\",'AVI Antenna (Desc)'!F97)","v":""},{"$f":"IF('AVI Antenna (Desc)'!G97=\"\",\"\",INDEX([1]ANTENNA_TYPE!$A$2:$A$100,MATCH('AVI Antenna (Desc)'!$G97,[1]!MASTER_ANTENNA_TYPE_DESC[#Data],0),0))","v":""},{"$f":"IF('AVI Antenna (Desc)'!H97=\"\",\"\",INDEX([1]ANTENNA_MANUF!$A$2:$A$100,MATCH('AVI Antenna (Desc)'!$H97,[1]!MASTER_ANTENNA_MANUF_DESC[#Data],0),0))","v":""},{"$f":"IF('AVI Antenna (Desc)'!I97=\"\",\"\",INDEX([1]ANTENNA_MODEL!$A$2:$A$50,MATCH(1,([1]ANTENNA_MODEL!$C$2:$C$50='AVI Antenna (Desc)'!$H97)*([1]ANTENNA_MODEL!$D$2:$D$50='AVI Antenna (Desc)'!$I97),0),0))","v":""},{"$f":"IF('AVI Antenna (Desc)'!J97=\"\",\"\",INDEX([1]LANE_COVERAGE!$A$2:$A$100,MATCH('AVI Antenna (Desc)'!$J97,[1]!MASTER_LANE_COVERAGE_DESC[#Data],0),0))","v":""},{"$f":"IF('AVI Antenna (Desc)'!K97=\"\",\"\",INDEX([1]LANE_DIRECTION!$A$2:$A$100,MATCH('AVI Antenna (Desc)'!$K97,[1]!MASTER_LANE_DIRECTION_DESC[#Data],0),0))","v":""}]
[{"$f":"IF('AVI Antenna (Desc)'!D98=\"\",\"\",'AVI Antenna (Desc)'!A98)","v":""},{"$f":"IF('AVI Antenna (Desc)'!C98=\"\",\"\",\"2007\")","v":""},{"$f":"IF('AVI Antenna (Desc)'!F98=\"\",\"\",'AVI Antenna (Desc)'!C98)","v":""},{"$f":"IF('AVI Antenna (Desc)'!D98=\"\",\"\",'AVI Antenna (Desc)'!D98)","v":""},{"$f":"IF('AVI Antenna (Desc)'!E98=\"\",\"\",INDEX([1]ASSET_ID_SOURCE!$A$2:$A$50,MATCH('AVI Antenna (Desc)'!E98,[1]!MASTER_ASSET_ID_SOURCE_DESC,0),0))","v":""},{"$f":"IF('AVI Antenna (Desc)'!G98=\"\",\"\",'AVI Antenna (Desc)'!F98)","v":""},{"$f":"IF('AVI Antenna (Desc)'!G98=\"\",\"\",INDEX([1]ANTENNA_TYPE!$A$2:$A$100,MATCH('AVI Antenna (Desc)'!$G98,[1]!MASTER_ANTENNA_TYPE_DESC[#Data],0),0))","v":""},{"$f":"IF('AVI Antenna (Desc)'!H98=\"\",\"\",INDEX([1]ANTENNA_MANUF!$A$2:$A$100,MATCH('AVI Antenna (Desc)'!$H98,[1]!MASTER_ANTENNA_MANUF_DESC[#Data],0),0))","v":""},{"$f":"IF('AVI Antenna (Desc)'!I98=\"\",\"\",INDEX([1]ANTENNA_MODEL!$A$2:$A$50,MATCH(1,([1]ANTENNA_MODEL!$C$2:$C$50='AVI Antenna (Desc)'!$H98)*([1]ANTENNA_MODEL!$D$2:$D$50='AVI Antenna (Desc)'!$I98),0),0))","v":""},{"$f":"IF('AVI Antenna (Desc)'!J98=\"\",\"\",INDEX([1]LANE_COVERAGE!$A$2:$A$100,MATCH('AVI Antenna (Desc)'!$J98,[1]!MASTER_LANE_COVERAGE_DESC[#Data],0),0))","v":""},{"$f":"IF('AVI Antenna (Desc)'!K98=\"\",\"\",INDEX([1]LANE_DIRECTION!$A$2:$A$100,MATCH('AVI Antenna (Desc)'!$K98,[1]!MASTER_LANE_DIRECTION_DESC[#Data],0),0))","v":""}]
[{"$f":"IF('AVI Antenna (Desc)'!D99=\"\",\"\",'AVI Antenna (Desc)'!A99)","v":""},{"$f":"IF('AVI Antenna (Desc)'!C99=\"\",\"\",\"2007\")","v":""},{"$f":"IF('AVI Antenna (Desc)'!F99=\"\",\"\",'AVI Antenna (Desc)'!C99)","v":""},{"$f":"IF('AVI Antenna (Desc)'!D99=\"\",\"\",'AVI Antenna (Desc)'!D99)","v":""},{"$f":"IF('AVI Antenna (Desc)'!E99=\"\",\"\",INDEX([1]ASSET_ID_SOURCE!$A$2:$A$50,MATCH('AVI Antenna (Desc)'!E99,[1]!MASTER_ASSET_ID_SOURCE_DESC,0),0))","v":""},{"$f":"IF('AVI Antenna (Desc)'!G99=\"\",\"\",'AVI Antenna (Desc)'!F99)","v":""},{"$f":"IF('AVI Antenna (Desc)'!G99=\"\",\"\",INDEX([1]ANTENNA_TYPE!$A$2:$A$100,MATCH('AVI Antenna (Desc)'!$G99,[1]!MASTER_ANTENNA_TYPE_DESC[#Data],0),0))","v":""},{"$f":"IF('AVI Antenna (Desc)'!H99=\"\",\"\",INDEX([1]ANTENNA_MANUF!$A$2:$A$100,MATCH('AVI Antenna (Desc)'!$H99,[1]!MASTER_ANTENNA_MANUF_DESC[#Data],0),0))","v":""},{"$f":"IF('AVI Antenna (Desc)'!I99=\"\",\"\",INDEX([1]ANTENNA_MODEL!$A$2:$A$50,MATCH(1,([1]ANTENNA_MODEL!$C$2:$C$50='AVI Antenna (Desc)'!$H99)*([1]ANTENNA_MODEL!$D$2:$D$50='AVI Antenna (Desc)'!$I99),0),0))","v":""},{"$f":"IF('AVI Antenna (Desc)'!J99=\"\",\"\",INDEX([1]LANE_COVERAGE!$A$2:$A$100,MATCH('AVI Antenna (Desc)'!$J99,[1]!MASTER_LANE_COVERAGE_DESC[#Data],0),0))","v":""},{"$f":"IF('AVI Antenna (Desc)'!K99=\"\",\"\",INDEX([1]LANE_DIRECTION!$A$2:$A$100,MATCH('AVI Antenna (Desc)'!$K99,[1]!MASTER_LANE_DIRECTION_DESC[#Data],0),0))","v":""}]
[{"$f":"IF('AVI Antenna (Desc)'!D100=\"\",\"\",'AVI Antenna (Desc)'!A100)","v":""},{"$f":"IF('AVI Antenna (Desc)'!C100=\"\",\"\",\"2007\")","v":""},{"$f":"IF('AVI Antenna (Desc)'!F100=\"\",\"\",'AVI Antenna (Desc)'!C100)","v":""},{"$f":"IF('AVI Antenna (Desc)'!D100=\"\",\"\",'AVI Antenna (Desc)'!D100)","v":""},{"$f":"IF('AVI Antenna (Desc)'!E100=\"\",\"\",INDEX([1]ASSET_ID_SOURCE!$A$2:$A$50,MATCH('AVI Antenna (Desc)'!E100,[1]!MASTER_ASSET_ID_SOURCE_DESC,0),0))","v":""},{"$f":"IF('AVI Antenna (Desc)'!G100=\"\",\"\",'AVI Antenna (Desc)'!F100)","v":""},{"$f":"IF('AVI Antenna (Desc)'!G100=\"\",\"\",INDEX([1]ANTENNA_TYPE!$A$2:$A$100,MATCH('AVI Antenna (Desc)'!$G100,[1]!MASTER_ANTENNA_TYPE_DESC[#Data],0),0))","v":""},{"$f":"IF('AVI Antenna (Desc)'!H100=\"\",\"\",INDEX([1]ANTENNA_MANUF!$A$2:$A$100,MATCH('AVI Antenna (Desc)'!$H100,[1]!MASTER_ANTENNA_MANUF_DESC[#Data],0),0))","v":""},{"$f":"IF('AVI Antenna (Desc)'!I100=\"\",\"\",INDEX([1]ANTENNA_MODEL!$A$2:$A$50,MATCH(1,([1]ANTENNA_MODEL!$C$2:$C$50='AVI Antenna (Desc)'!$H100)*([1]ANTENNA_MODEL!$D$2:$D$50='AVI Antenna (Desc)'!$I100),0),0))","v":""},{"$f":"IF('AVI Antenna (Desc)'!J100=\"\",\"\",INDEX([1]LANE_COVERAGE!$A$2:$A$100,MATCH('AVI Antenna (Desc)'!$J100,[1]!MASTER_LANE_COVERAGE_DESC[#Data],0),0))","v":""},{"$f":"IF('AVI Antenna (Desc)'!K100=\"\",\"\",INDEX([1]LANE_DIRECTION!$A$2:$A$100,MATCH('AVI Antenna (Desc)'!$K100,[1]!MASTER_LANE_DIRECTION_DESC[#Data],0),0))","v":""}]
[{"$f":"IF('AVI Antenna (Desc)'!D101=\"\",\"\",'AVI Antenna (Desc)'!A101)","v":""},{"$f":"IF('AVI Antenna (Desc)'!C101=\"\",\"\",\"2007\")","v":""},{"$f":"IF('AVI Antenna (Desc)'!F101=\"\",\"\",'AVI Antenna (Desc)'!C101)","v":""},{"$f":"IF('AVI Antenna (Desc)'!D101=\"\",\"\",'AVI Antenna (Desc)'!D101)","v":""},{"$f":"IF('AVI Antenna (Desc)'!E101=\"\",\"\",INDEX([1]ASSET_ID_SOURCE!$A$2:$A$50,MATCH('AVI Antenna (Desc)'!E101,[1]!MASTER_ASSET_ID_SOURCE_DESC,0),0))","v":""},{"$f":"IF('AVI Antenna (Desc)'!G101=\"\",\"\",'AVI Antenna (Desc)'!F101)","v":""},{"$f":"IF('AVI Antenna (Desc)'!G101=\"\",\"\",INDEX([1]ANTENNA_TYPE!$A$2:$A$100,MATCH('AVI Antenna (Desc)'!$G101,[1]!MASTER_ANTENNA_TYPE_DESC[#Data],0),0))","v":""},{"$f":"IF('AVI Antenna (Desc)'!H101=\"\",\"\",INDEX([1]ANTENNA_MANUF!$A$2:$A$100,MATCH('AVI Antenna (Desc)'!$H101,[1]!MASTER_ANTENNA_MANUF_DESC[#Data],0),0))","v":""},{"$f":"IF('AVI Antenna (Desc)'!I101=\"\",\"\",INDEX([1]ANTENNA_MODEL!$A$2:$A$50,MATCH(1,([1]ANTENNA_MODEL!$C$2:$C$50='AVI Antenna (Desc)'!$H101)*([1]ANTENNA_MODEL!$D$2:$D$50='AVI Antenna (Desc)'!$I101),0),0))","v":""},{"$f":"IF('AVI Antenna (Desc)'!J101=\"\",\"\",INDEX([1]LANE_COVERAGE!$A$2:$A$100,MATCH('AVI Antenna (Desc)'!$J101,[1]!MASTER_LANE_COVERAGE_DESC[#Data],0),0))","v":""},{"$f":"IF('AVI Antenna (Desc)'!K101=\"\",\"\",INDEX([1]LANE_DIRECTION!$A$2:$A$100,MATCH('AVI Antenna (Desc)'!$K101,[1]!MASTER_LANE_DIRECTION_DESC[#Data],0),0))","v":""}]
[{"$f":"IF('AVI Antenna (Desc)'!D102=\"\",\"\",'AVI Antenna (Desc)'!A102)","v":""},{"$f":"IF('AVI Antenna (Desc)'!C102=\"\",\"\",\"2007\")","v":""},{"$f":"IF('AVI Antenna (Desc)'!F102=\"\",\"\",'AVI Antenna (Desc)'!C102)","v":""},{"$f":"IF('AVI Antenna (Desc)'!D102=\"\",\"\",'AVI Antenna (Desc)'!D102)","v":""},{"$f":"IF('AVI Antenna (Desc)'!E102=\"\",\"\",INDEX([1]ASSET_ID_SOURCE!$A$2:$A$50,MATCH('AVI Antenna (Desc)'!E102,[1]!MASTER_ASSET_ID_SOURCE_DESC,0),0))","v":""},{"$f":"IF('AVI Antenna (Desc)'!G102=\"\",\"\",'AVI Antenna (Desc)'!F102)","v":""},{"$f":"IF('AVI Antenna (Desc)'!G102=\"\",\"\",INDEX([1]ANTENNA_TYPE!$A$2:$A$100,MATCH('AVI Antenna (Desc)'!$G102,[1]!MASTER_ANTENNA_TYPE_DESC[#Data],0),0))","v":""},{"$f":"IF('AVI Antenna (Desc)'!H102=\"\",\"\",INDEX([1]ANTENNA_MANUF!$A$2:$A$100,MATCH('AVI Antenna (Desc)'!$H102,[1]!MASTER_ANTENNA_MANUF_DESC[#Data],0),0))","v":""},{"$f":"IF('AVI Antenna (Desc)'!I102=\"\",\"\",INDEX([1]ANTENNA_MODEL!$A$2:$A$50,MATCH(1,([1]ANTENNA_MODEL!$C$2:$C$50='AVI Antenna (Desc)'!$H102)*([1]ANTENNA_MODEL!$D$2:$D$50='AVI Antenna (Desc)'!$I102),0),0))","v":""},{"$f":"IF('AVI Antenna (Desc)'!J102=\"\",\"\",INDEX([1]LANE_COVERAGE!$A$2:$A$100,MATCH('AVI Antenna (Desc)'!$J102,[1]!MASTER_LANE_COVERAGE_DESC[#Data],0),0))","v":""},{"$f":"IF('AVI Antenna (Desc)'!K102=\"\",\"\",INDEX([1]LANE_DIRECTION!$A$2:$A$100,MATCH('AVI Antenna (Desc)'!$K102,[1]!MASTER_LANE_DIRECTION_DESC[#Data],0),0))","v":""}]
[{"$f":"IF('AVI Antenna (Desc)'!D103=\"\",\"\",'AVI Antenna (Desc)'!A103)","v":""},{"$f":"IF('AVI Antenna (Desc)'!C103=\"\",\"\",\"2007\")","v":""},{"$f":"IF('AVI Antenna (Desc)'!F103=\"\",\"\",'AVI Antenna (Desc)'!C103)","v":""},{"$f":"IF('AVI Antenna (Desc)'!D103=\"\",\"\",'AVI Antenna (Desc)'!D103)","v":""},{"$f":"IF('AVI Antenna (Desc)'!E103=\"\",\"\",INDEX([1]ASSET_ID_SOURCE!$A$2:$A$50,MATCH('AVI Antenna (Desc)'!E103,[1]!MASTER_ASSET_ID_SOURCE_DESC,0),0))","v":""},{"$f":"IF('AVI Antenna (Desc)'!G103=\"\",\"\",'AVI Antenna (Desc)'!F103)","v":""},{"$f":"IF('AVI Antenna (Desc)'!G103=\"\",\"\",INDEX([1]ANTENNA_TYPE!$A$2:$A$100,MATCH('AVI Antenna (Desc)'!$G103,[1]!MASTER_ANTENNA_TYPE_DESC[#Data],0),0))","v":""},{"$f":"IF('AVI Antenna (Desc)'!H103=\"\",\"\",INDEX([1]ANTENNA_MANUF!$A$2:$A$100,MATCH('AVI Antenna (Desc)'!$H103,[1]!MASTER_ANTENNA_MANUF_DESC[#Data],0),0))","v":""},{"$f":"IF('AVI Antenna (Desc)'!I103=\"\",\"\",INDEX([1]ANTENNA_MODEL!$A$2:$A$50,MATCH(1,([1]ANTENNA_MODEL!$C$2:$C$50='AVI Antenna (Desc)'!$H103)*([1]ANTENNA_MODEL!$D$2:$D$50='AVI Antenna (Desc)'!$I103),0),0))","v":""},{"$f":"IF('AVI Antenna (Desc)'!J103=\"\",\"\",INDEX([1]LANE_COVERAGE!$A$2:$A$100,MATCH('AVI Antenna (Desc)'!$J103,[1]!MASTER_LANE_COVERAGE_DESC[#Data],0),0))","v":""},{"$f":"IF('AVI Antenna (Desc)'!K103=\"\",\"\",INDEX([1]LANE_DIRECTION!$A$2:$A$100,MATCH('AVI Antenna (Desc)'!$K103,[1]!MASTER_LANE_DIRECTION_DESC[#Data],0),0))","v":""}]
[{"$f":"IF('AVI Antenna (Desc)'!D104=\"\",\"\",'AVI Antenna (Desc)'!A104)","v":""},{"$f":"IF('AVI Antenna (Desc)'!C104=\"\",\"\",\"2007\")","v":""},{"$f":"IF('AVI Antenna (Desc)'!F104=\"\",\"\",'AVI Antenna (Desc)'!C104)","v":""},{"$f":"IF('AVI Antenna (Desc)'!D104=\"\",\"\",'AVI Antenna (Desc)'!D104)","v":""},{"$f":"IF('AVI Antenna (Desc)'!E104=\"\",\"\",INDEX([1]ASSET_ID_SOURCE!$A$2:$A$50,MATCH('AVI Antenna (Desc)'!E104,[1]!MASTER_ASSET_ID_SOURCE_DESC,0),0))","v":""},{"$f":"IF('AVI Antenna (Desc)'!G104=\"\",\"\",'AVI Antenna (Desc)'!F104)","v":""},{"$f":"IF('AVI Antenna (Desc)'!G104=\"\",\"\",INDEX([1]ANTENNA_TYPE!$A$2:$A$100,MATCH('AVI Antenna (Desc)'!$G104,[1]!MASTER_ANTENNA_TYPE_DESC[#Data],0),0))","v":""},{"$f":"IF('AVI Antenna (Desc)'!H104=\"\",\"\",INDEX([1]ANTENNA_MANUF!$A$2:$A$100,MATCH('AVI Antenna (Desc)'!$H104,[1]!MASTER_ANTENNA_MANUF_DESC[#Data],0),0))","v":""},{"$f":"IF('AVI Antenna (Desc)'!I104=\"\",\"\",INDEX([1]ANTENNA_MODEL!$A$2:$A$50,MATCH(1,([1]ANTENNA_MODEL!$C$2:$C$50='AVI Antenna (Desc)'!$H104)*([1]ANTENNA_MODEL!$D$2:$D$50='AVI Antenna (Desc)'!$I104),0),0))","v":""},{"$f":"IF('AVI Antenna (Desc)'!J104=\"\",\"\",INDEX([1]LANE_COVERAGE!$A$2:$A$100,MATCH('AVI Antenna (Desc)'!$J104,[1]!MASTER_LANE_COVERAGE_DESC[#Data],0),0))","v":""},{"$f":"IF('AVI Antenna (Desc)'!K104=\"\",\"\",INDEX([1]LANE_DIRECTION!$A$2:$A$100,MATCH('AVI Antenna (Desc)'!$K104,[1]!MASTER_LANE_DIRECTION_DESC[#Data],0),0))","v":""}]
[{"$f":"IF('AVI Antenna (Desc)'!D105=\"\",\"\",'AVI Antenna (Desc)'!A105)","v":""},{"$f":"IF('AVI Antenna (Desc)'!C105=\"\",\"\",\"2007\")","v":""},{"$f":"IF('AVI Antenna (Desc)'!F105=\"\",\"\",'AVI Antenna (Desc)'!C105)","v":""},{"$f":"IF('AVI Antenna (Desc)'!D105=\"\",\"\",'AVI Antenna (Desc)'!D105)","v":""},{"$f":"IF('AVI Antenna (Desc)'!E105=\"\",\"\",INDEX([1]ASSET_ID_SOURCE!$A$2:$A$50,MATCH('AVI Antenna (Desc)'!E105,[1]!MASTER_ASSET_ID_SOURCE_DESC,0),0))","v":""},{"$f":"IF('AVI Antenna (Desc)'!G105=\"\",\"\",'AVI Antenna (Desc)'!F105)","v":""},{"$f":"IF('AVI Antenna (Desc)'!G105=\"\",\"\",INDEX([1]ANTENNA_TYPE!$A$2:$A$100,MATCH('AVI Antenna (Desc)'!$G105,[1]!MASTER_ANTENNA_TYPE_DESC[#Data],0),0))","v":""},{"$f":"IF('AVI Antenna (Desc)'!H105=\"\",\"\",INDEX([1]ANTENNA_MANUF!$A$2:$A$100,MATCH('AVI Antenna (Desc)'!$H105,[1]!MASTER_ANTENNA_MANUF_DESC[#Data],0),0))","v":""},{"$f":"IF('AVI Antenna (Desc)'!I105=\"\",\"\",INDEX([1]ANTENNA_MODEL!$A$2:$A$50,MATCH(1,([1]ANTENNA_MODEL!$C$2:$C$50='AVI Antenna (Desc)'!$H105)*([1]ANTENNA_MODEL!$D$2:$D$50='AVI Antenna (Desc)'!$I105),0),0))","v":""},{"$f":"IF('AVI Antenna (Desc)'!J105=\"\",\"\",INDEX([1]LANE_COVERAGE!$A$2:$A$100,MATCH('AVI Antenna (Desc)'!$J105,[1]!MASTER_LANE_COVERAGE_DESC[#Data],0),0))","v":""},{"$f":"IF('AVI Antenna (Desc)'!K105=\"\",\"\",INDEX([1]LANE_DIRECTION!$A$2:$A$100,MATCH('AVI Antenna (Desc)'!$K105,[1]!MASTER_LANE_DIRECTION_DESC[#Data],0),0))","v":""}]
[{"$f":"IF('AVI Antenna (Desc)'!D106=\"\",\"\",'AVI Antenna (Desc)'!A106)","v":""},{"$f":"IF('AVI Antenna (Desc)'!C106=\"\",\"\",\"2007\")","v":""},{"$f":"IF('AVI Antenna (Desc)'!F106=\"\",\"\",'AVI Antenna (Desc)'!C106)","v":""},{"$f":"IF('AVI Antenna (Desc)'!D106=\"\",\"\",'AVI Antenna (Desc)'!D106)","v":""},{"$f":"IF('AVI Antenna (Desc)'!E106=\"\",\"\",INDEX([1]ASSET_ID_SOURCE!$A$2:$A$50,MATCH('AVI Antenna (Desc)'!E106,[1]!MASTER_ASSET_ID_SOURCE_DESC,0),0))","v":""},{"$f":"IF('AVI Antenna (Desc)'!G106=\"\",\"\",'AVI Antenna (Desc)'!F106)","v":""},{"$f":"IF('AVI Antenna (Desc)'!G106=\"\",\"\",INDEX([1]ANTENNA_TYPE!$A$2:$A$100,MATCH('AVI Antenna (Desc)'!$G106,[1]!MASTER_ANTENNA_TYPE_DESC[#Data],0),0))","v":""},{"$f":"IF('AVI Antenna (Desc)'!H106=\"\",\"\",INDEX([1]ANTENNA_MANUF!$A$2:$A$100,MATCH('AVI Antenna (Desc)'!$H106,[1]!MASTER_ANTENNA_MANUF_DESC[#Data],0),0))","v":""},{"$f":"IF('AVI Antenna (Desc)'!I106=\"\",\"\",INDEX([1]ANTENNA_MODEL!$A$2:$A$50,MATCH(1,([1]ANTENNA_MODEL!$C$2:$C$50='AVI Antenna (Desc)'!$H106)*([1]ANTENNA_MODEL!$D$2:$D$50='AVI Antenna (Desc)'!$I106),0),0))","v":""},{"$f":"IF('AVI Antenna (Desc)'!J106=\"\",\"\",INDEX([1]LANE_COVERAGE!$A$2:$A$100,MATCH('AVI Antenna (Desc)'!$J106,[1]!MASTER_LANE_COVERAGE_DESC[#Data],0),0))","v":""},{"$f":"IF('AVI Antenna (Desc)'!K106=\"\",\"\",INDEX([1]LANE_DIRECTION!$A$2:$A$100,MATCH('AVI Antenna (Desc)'!$K106,[1]!MASTER_LANE_DIRECTION_DESC[#Data],0),0))","v":""}]
[{"$f":"IF('AVI Antenna (Desc)'!D107=\"\",\"\",'AVI Antenna (Desc)'!A107)","v":""},{"$f":"IF('AVI Antenna (Desc)'!C107=\"\",\"\",\"2007\")","v":""},{"$f":"IF('AVI Antenna (Desc)'!F107=\"\",\"\",'AVI Antenna (Desc)'!C107)","v":""},{"$f":"IF('AVI Antenna (Desc)'!D107=\"\",\"\",'AVI Antenna (Desc)'!D107)","v":""},{"$f":"IF('AVI Antenna (Desc)'!E107=\"\",\"\",INDEX([1]ASSET_ID_SOURCE!$A$2:$A$50,MATCH('AVI Antenna (Desc)'!E107,[1]!MASTER_ASSET_ID_SOURCE_DESC,0),0))","v":""},{"$f":"IF('AVI Antenna (Desc)'!G107=\"\",\"\",'AVI Antenna (Desc)'!F107)","v":""},{"$f":"IF('AVI Antenna (Desc)'!G107=\"\",\"\",INDEX([1]ANTENNA_TYPE!$A$2:$A$100,MATCH('AVI Antenna (Desc)'!$G107,[1]!MASTER_ANTENNA_TYPE_DESC[#Data],0),0))","v":""},{"$f":"IF('AVI Antenna (Desc)'!H107=\"\",\"\",INDEX([1]ANTENNA_MANUF!$A$2:$A$100,MATCH('AVI Antenna (Desc)'!$H107,[1]!MASTER_ANTENNA_MANUF_DESC[#Data],0),0))","v":""},{"$f":"IF('AVI Antenna (Desc)'!I107=\"\",\"\",INDEX([1]ANTENNA_MODEL!$A$2:$A$50,MATCH(1,([1]ANTENNA_MODEL!$C$2:$C$50='AVI Antenna (Desc)'!$H107)*([1]ANTENNA_MODEL!$D$2:$D$50='AVI Antenna (Desc)'!$I107),0),0))","v":""},{"$f":"IF('AVI Antenna (Desc)'!J107=\"\",\"\",INDEX([1]LANE_COVERAGE!$A$2:$A$100,MATCH('AVI Antenna (Desc)'!$J107,[1]!MASTER_LANE_COVERAGE_DESC[#Data],0),0))","v":""},{"$f":"IF('AVI Antenna (Desc)'!K107=\"\",\"\",INDEX([1]LANE_DIRECTION!$A$2:$A$100,MATCH('AVI Antenna (Desc)'!$K107,[1]!MASTER_LANE_DIRECTION_DESC[#Data],0),0))","v":""}]
[{"$f":"IF('AVI Antenna (Desc)'!D108=\"\",\"\",'AVI Antenna (Desc)'!A108)","v":""},{"$f":"IF('AVI Antenna (Desc)'!C108=\"\",\"\",\"2007\")","v":""},{"$f":"IF('AVI Antenna (Desc)'!F108=\"\",\"\",'AVI Antenna (Desc)'!C108)","v":""},{"$f":"IF('AVI Antenna (Desc)'!D108=\"\",\"\",'AVI Antenna (Desc)'!D108)","v":""},{"$f":"IF('AVI Antenna (Desc)'!E108=\"\",\"\",INDEX([1]ASSET_ID_SOURCE!$A$2:$A$50,MATCH('AVI Antenna (Desc)'!E108,[1]!MASTER_ASSET_ID_SOURCE_DESC,0),0))","v":""},{"$f":"IF('AVI Antenna (Desc)'!G108=\"\",\"\",'AVI Antenna (Desc)'!F108)","v":""},{"$f":"IF('AVI Antenna (Desc)'!G108=\"\",\"\",INDEX([1]ANTENNA_TYPE!$A$2:$A$100,MATCH('AVI Antenna (Desc)'!$G108,[1]!MASTER_ANTENNA_TYPE_DESC[#Data],0),0))","v":""},{"$f":"IF('AVI Antenna (Desc)'!H108=\"\",\"\",INDEX([1]ANTENNA_MANUF!$A$2:$A$100,MATCH('AVI Antenna (Desc)'!$H108,[1]!MASTER_ANTENNA_MANUF_DESC[#Data],0),0))","v":""},{"$f":"IF('AVI Antenna (Desc)'!I108=\"\",\"\",INDEX([1]ANTENNA_MODEL!$A$2:$A$50,MATCH(1,([1]ANTENNA_MODEL!$C$2:$C$50='AVI Antenna (Desc)'!$H108)*([1]ANTENNA_MODEL!$D$2:$D$50='AVI Antenna (Desc)'!$I108),0),0))","v":""},{"$f":"IF('AVI Antenna (Desc)'!J108=\"\",\"\",INDEX([1]LANE_COVERAGE!$A$2:$A$100,MATCH('AVI Antenna (Desc)'!$J108,[1]!MASTER_LANE_COVERAGE_DESC[#Data],0),0))","v":""},{"$f":"IF('AVI Antenna (Desc)'!K108=\"\",\"\",INDEX([1]LANE_DIRECTION!$A$2:$A$100,MATCH('AVI Antenna (Desc)'!$K108,[1]!MASTER_LANE_DIRECTION_DESC[#Data],0),0))","v":""}]
[{"$f":"IF('AVI Antenna (Desc)'!D109=\"\",\"\",'AVI Antenna (Desc)'!A109)","v":""},{"$f":"IF('AVI Antenna (Desc)'!C109=\"\",\"\",\"2007\")","v":""},{"$f":"IF('AVI Antenna (Desc)'!F109=\"\",\"\",'AVI Antenna (Desc)'!C109)","v":""},{"$f":"IF('AVI Antenna (Desc)'!D109=\"\",\"\",'AVI Antenna (Desc)'!D109)","v":""},{"$f":"IF('AVI Antenna (Desc)'!E109=\"\",\"\",INDEX([1]ASSET_ID_SOURCE!$A$2:$A$50,MATCH('AVI Antenna (Desc)'!E109,[1]!MASTER_ASSET_ID_SOURCE_DESC,0),0))","v":""},{"$f":"IF('AVI Antenna (Desc)'!G109=\"\",\"\",'AVI Antenna (Desc)'!F109)","v":""},{"$f":"IF('AVI Antenna (Desc)'!G109=\"\",\"\",INDEX([1]ANTENNA_TYPE!$A$2:$A$100,MATCH('AVI Antenna (Desc)'!$G109,[1]!MASTER_ANTENNA_TYPE_DESC[#Data],0),0))","v":""},{"$f":"IF('AVI Antenna (Desc)'!H109=\"\",\"\",INDEX([1]ANTENNA_MANUF!$A$2:$A$100,MATCH('AVI Antenna (Desc)'!$H109,[1]!MASTER_ANTENNA_MANUF_DESC[#Data],0),0))","v":""},{"$f":"IF('AVI Antenna (Desc)'!I109=\"\",\"\",INDEX([1]ANTENNA_MODEL!$A$2:$A$50,MATCH(1,([1]ANTENNA_MODEL!$C$2:$C$50='AVI Antenna (Desc)'!$H109)*([1]ANTENNA_MODEL!$D$2:$D$50='AVI Antenna (Desc)'!$I109),0),0))","v":""},{"$f":"IF('AVI Antenna (Desc)'!J109=\"\",\"\",INDEX([1]LANE_COVERAGE!$A$2:$A$100,MATCH('AVI Antenna (Desc)'!$J109,[1]!MASTER_LANE_COVERAGE_DESC[#Data],0),0))","v":""},{"$f":"IF('AVI Antenna (Desc)'!K109=\"\",\"\",INDEX([1]LANE_DIRECTION!$A$2:$A$100,MATCH('AVI Antenna (Desc)'!$K109,[1]!MASTER_LANE_DIRECTION_DESC[#Data],0),0))","v":""}]
[{"$f":"IF('AVI Antenna (Desc)'!D110=\"\",\"\",'AVI Antenna (Desc)'!A110)","v":""},{"$f":"IF('AVI Antenna (Desc)'!C110=\"\",\"\",\"2007\")","v":""},{"$f":"IF('AVI Antenna (Desc)'!F110=\"\",\"\",'AVI Antenna (Desc)'!C110)","v":""},{"$f":"IF('AVI Antenna (Desc)'!D110=\"\",\"\",'AVI Antenna (Desc)'!D110)","v":""},{"$f":"IF('AVI Antenna (Desc)'!E110=\"\",\"\",INDEX([1]ASSET_ID_SOURCE!$A$2:$A$50,MATCH('AVI Antenna (Desc)'!E110,[1]!MASTER_ASSET_ID_SOURCE_DESC,0),0))","v":""},{"$f":"IF('AVI Antenna (Desc)'!G110=\"\",\"\",'AVI Antenna (Desc)'!F110)","v":""},{"$f":"IF('AVI Antenna (Desc)'!G110=\"\",\"\",INDEX([1]ANTENNA_TYPE!$A$2:$A$100,MATCH('AVI Antenna (Desc)'!$G110,[1]!MASTER_ANTENNA_TYPE_DESC[#Data],0),0))","v":""},{"$f":"IF('AVI Antenna (Desc)'!H110=\"\",\"\",INDEX([1]ANTENNA_MANUF!$A$2:$A$100,MATCH('AVI Antenna (Desc)'!$H110,[1]!MASTER_ANTENNA_MANUF_DESC[#Data],0),0))","v":""},{"$f":"IF('AVI Antenna (Desc)'!I110=\"\",\"\",INDEX([1]ANTENNA_MODEL!$A$2:$A$50,MATCH(1,([1]ANTENNA_MODEL!$C$2:$C$50='AVI Antenna (Desc)'!$H110)*([1]ANTENNA_MODEL!$D$2:$D$50='AVI Antenna (Desc)'!$I110),0),0))","v":""},{"$f":"IF('AVI Antenna (Desc)'!J110=\"\",\"\",INDEX([1]LANE_COVERAGE!$A$2:$A$100,MATCH('AVI Antenna (Desc)'!$J110,[1]!MASTER_LANE_COVERAGE_DESC[#Data],0),0))","v":""},{"$f":"IF('AVI Antenna (Desc)'!K110=\"\",\"\",INDEX([1]LANE_DIRECTION!$A$2:$A$100,MATCH('AVI Antenna (Desc)'!$K110,[1]!MASTER_LANE_DIRECTION_DESC[#Data],0),0))","v":""}]
[{"$f":"IF('AVI Antenna (Desc)'!D111=\"\",\"\",'AVI Antenna (Desc)'!A111)","v":""},{"$f":"IF('AVI Antenna (Desc)'!C111=\"\",\"\",\"2007\")","v":""},{"$f":"IF('AVI Antenna (Desc)'!F111=\"\",\"\",'AVI Antenna (Desc)'!C111)","v":""},{"$f":"IF('AVI Antenna (Desc)'!D111=\"\",\"\",'AVI Antenna (Desc)'!D111)","v":""},{"$f":"IF('AVI Antenna (Desc)'!E111=\"\",\"\",INDEX([1]ASSET_ID_SOURCE!$A$2:$A$50,MATCH('AVI Antenna (Desc)'!E111,[1]!MASTER_ASSET_ID_SOURCE_DESC,0),0))","v":""},{"$f":"IF('AVI Antenna (Desc)'!G111=\"\",\"\",'AVI Antenna (Desc)'!F111)","v":""},{"$f":"IF('AVI Antenna (Desc)'!G111=\"\",\"\",INDEX([1]ANTENNA_TYPE!$A$2:$A$100,MATCH('AVI Antenna (Desc)'!$G111,[1]!MASTER_ANTENNA_TYPE_DESC[#Data],0),0))","v":""},{"$f":"IF('AVI Antenna (Desc)'!H111=\"\",\"\",INDEX([1]ANTENNA_MANUF!$A$2:$A$100,MATCH('AVI Antenna (Desc)'!$H111,[1]!MASTER_ANTENNA_MANUF_DESC[#Data],0),0))","v":""},{"$f":"IF('AVI Antenna (Desc)'!I111=\"\",\"\",INDEX([1]ANTENNA_MODEL!$A$2:$A$50,MATCH(1,([1]ANTENNA_MODEL!$C$2:$C$50='AVI Antenna (Desc)'!$H111)*([1]ANTENNA_MODEL!$D$2:$D$50='AVI Antenna (Desc)'!$I111),0),0))","v":""},{"$f":"IF('AVI Antenna (Desc)'!J111=\"\",\"\",INDEX([1]LANE_COVERAGE!$A$2:$A$100,MATCH('AVI Antenna (Desc)'!$J111,[1]!MASTER_LANE_COVERAGE_DESC[#Data],0),0))","v":""},{"$f":"IF('AVI Antenna (Desc)'!K111=\"\",\"\",INDEX([1]LANE_DIRECTION!$A$2:$A$100,MATCH('AVI Antenna (Desc)'!$K111,[1]!MASTER_LANE_DIRECTION_DESC[#Data],0),0))","v":""}]
[{"$f":"IF('AVI Antenna (Desc)'!D112=\"\",\"\",'AVI Antenna (Desc)'!A112)","v":""},{"$f":"IF('AVI Antenna (Desc)'!C112=\"\",\"\",\"2007\")","v":""},{"$f":"IF('AVI Antenna (Desc)'!F112=\"\",\"\",'AVI Antenna (Desc)'!C112)","v":""},{"$f":"IF('AVI Antenna (Desc)'!D112=\"\",\"\",'AVI Antenna (Desc)'!D112)","v":""},{"$f":"IF('AVI Antenna (Desc)'!E112=\"\",\"\",INDEX([1]ASSET_ID_SOURCE!$A$2:$A$50,MATCH('AVI Antenna (Desc)'!E112,[1]!MASTER_ASSET_ID_SOURCE_DESC,0),0))","v":""},{"$f":"IF('AVI Antenna (Desc)'!G112=\"\",\"\",'AVI Antenna (Desc)'!F112)","v":""},{"$f":"IF('AVI Antenna (Desc)'!G112=\"\",\"\",INDEX([1]ANTENNA_TYPE!$A$2:$A$100,MATCH('AVI Antenna (Desc)'!$G112,[1]!MASTER_ANTENNA_TYPE_DESC[#Data],0),0))","v":""},{"$f":"IF('AVI Antenna (Desc)'!H112=\"\",\"\",INDEX([1]ANTENNA_MANUF!$A$2:$A$100,MATCH('AVI Antenna (Desc)'!$H112,[1]!MASTER_ANTENNA_MANUF_DESC[#Data],0),0))","v":""},{"$f":"IF('AVI Antenna (Desc)'!I112=\"\",\"\",INDEX([1]ANTENNA_MODEL!$A$2:$A$50,MATCH(1,([1]ANTENNA_MODEL!$C$2:$C$50='AVI Antenna (Desc)'!$H112)*([1]ANTENNA_MODEL!$D$2:$D$50='AVI Antenna (Desc)'!$I112),0),0))","v":""},{"$f":"IF('AVI Antenna (Desc)'!J112=\"\",\"\",INDEX([1]LANE_COVERAGE!$A$2:$A$100,MATCH('AVI Antenna (Desc)'!$J112,[1]!MASTER_LANE_COVERAGE_DESC[#Data],0),0))","v":""},{"$f":"IF('AVI Antenna (Desc)'!K112=\"\",\"\",INDEX([1]LANE_DIRECTION!$A$2:$A$100,MATCH('AVI Antenna (Desc)'!$K112,[1]!MASTER_LANE_DIRECTION_DESC[#Data],0),0))","v":""}]
[{"$f":"IF('AVI Antenna (Desc)'!D113=\"\",\"\",'AVI Antenna (Desc)'!A113)","v":""},{"$f":"IF('AVI Antenna (Desc)'!C113=\"\",\"\",\"2007\")","v":""},{"$f":"IF('AVI Antenna (Desc)'!F113=\"\",\"\",'AVI Antenna (Desc)'!C113)","v":""},{"$f":"IF('AVI Antenna (Desc)'!D113=\"\",\"\",'AVI Antenna (Desc)'!D113)","v":""},{"$f":"IF('AVI Antenna (Desc)'!E113=\"\",\"\",INDEX([1]ASSET_ID_SOURCE!$A$2:$A$50,MATCH('AVI Antenna (Desc)'!E113,[1]!MASTER_ASSET_ID_SOURCE_DESC,0),0))","v":""},{"$f":"IF('AVI Antenna (Desc)'!G113=\"\",\"\",'AVI Antenna (Desc)'!F113)","v":""},{"$f":"IF('AVI Antenna (Desc)'!G113=\"\",\"\",INDEX([1]ANTENNA_TYPE!$A$2:$A$100,MATCH('AVI Antenna (Desc)'!$G113,[1]!MASTER_ANTENNA_TYPE_DESC[#Data],0),0))","v":""},{"$f":"IF('AVI Antenna (Desc)'!H113=\"\",\"\",INDEX([1]ANTENNA_MANUF!$A$2:$A$100,MATCH('AVI Antenna (Desc)'!$H113,[1]!MASTER_ANTENNA_MANUF_DESC[#Data],0),0))","v":""},{"$f":"IF('AVI Antenna (Desc)'!I113=\"\",\"\",INDEX([1]ANTENNA_MODEL!$A$2:$A$50,MATCH(1,([1]ANTENNA_MODEL!$C$2:$C$50='AVI Antenna (Desc)'!$H113)*([1]ANTENNA_MODEL!$D$2:$D$50='AVI Antenna (Desc)'!$I113),0),0))","v":""},{"$f":"IF('AVI Antenna (Desc)'!J113=\"\",\"\",INDEX([1]LANE_COVERAGE!$A$2:$A$100,MATCH('AVI Antenna (Desc)'!$J113,[1]!MASTER_LANE_COVERAGE_DESC[#Data],0),0))","v":""},{"$f":"IF('AVI Antenna (Desc)'!K113=\"\",\"\",INDEX([1]LANE_DIRECTION!$A$2:$A$100,MATCH('AVI Antenna (Desc)'!$K113,[1]!MASTER_LANE_DIRECTION_DESC[#Data],0),0))","v":""}]
[{"$f":"IF('AVI Antenna (Desc)'!D114=\"\",\"\",'AVI Antenna (Desc)'!A114)","v":""},{"$f":"IF('AVI Antenna (Desc)'!C114=\"\",\"\",\"2007\")","v":""},{"$f":"IF('AVI Antenna (Desc)'!F114=\"\",\"\",'AVI Antenna (Desc)'!C114)","v":""},{"$f":"IF('AVI Antenna (Desc)'!D114=\"\",\"\",'AVI Antenna (Desc)'!D114)","v":""},{"$f":"IF('AVI Antenna (Desc)'!E114=\"\",\"\",INDEX([1]ASSET_ID_SOURCE!$A$2:$A$50,MATCH('AVI Antenna (Desc)'!E114,[1]!MASTER_ASSET_ID_SOURCE_DESC,0),0))","v":""},{"$f":"IF('AVI Antenna (Desc)'!G114=\"\",\"\",'AVI Antenna (Desc)'!F114)","v":""},{"$f":"IF('AVI Antenna (Desc)'!G114=\"\",\"\",INDEX([1]ANTENNA_TYPE!$A$2:$A$100,MATCH('AVI Antenna (Desc)'!$G114,[1]!MASTER_ANTENNA_TYPE_DESC[#Data],0),0))","v":""},{"$f":"IF('AVI Antenna (Desc)'!H114=\"\",\"\",INDEX([1]ANTENNA_MANUF!$A$2:$A$100,MATCH('AVI Antenna (Desc)'!$H114,[1]!MASTER_ANTENNA_MANUF_DESC[#Data],0),0))","v":""},{"$f":"IF('AVI Antenna (Desc)'!I114=\"\",\"\",INDEX([1]ANTENNA_MODEL!$A$2:$A$50,MATCH(1,([1]ANTENNA_MODEL!$C$2:$C$50='AVI Antenna (Desc)'!$H114)*([1]ANTENNA_MODEL!$D$2:$D$50='AVI Antenna (Desc)'!$I114),0),0))","v":""},{"$f":"IF('AVI Antenna (Desc)'!J114=\"\",\"\",INDEX([1]LANE_COVERAGE!$A$2:$A$100,MATCH('AVI Antenna (Desc)'!$J114,[1]!MASTER_LANE_COVERAGE_DESC[#Data],0),0))","v":""},{"$f":"IF('AVI Antenna (Desc)'!K114=\"\",\"\",INDEX([1]LANE_DIRECTION!$A$2:$A$100,MATCH('AVI Antenna (Desc)'!$K114,[1]!MASTER_LANE_DIRECTION_DESC[#Data],0),0))","v":""}]
[{"$f":"IF('AVI Antenna (Desc)'!D115=\"\",\"\",'AVI Antenna (Desc)'!A115)","v":""},{"$f":"IF('AVI Antenna (Desc)'!C115=\"\",\"\",\"2007\")","v":""},{"$f":"IF('AVI Antenna (Desc)'!F115=\"\",\"\",'AVI Antenna (Desc)'!C115)","v":""},{"$f":"IF('AVI Antenna (Desc)'!D115=\"\",\"\",'AVI Antenna (Desc)'!D115)","v":""},{"$f":"IF('AVI Antenna (Desc)'!E115=\"\",\"\",INDEX([1]ASSET_ID_SOURCE!$A$2:$A$50,MATCH('AVI Antenna (Desc)'!E115,[1]!MASTER_ASSET_ID_SOURCE_DESC,0),0))","v":""},{"$f":"IF('AVI Antenna (Desc)'!G115=\"\",\"\",'AVI Antenna (Desc)'!F115)","v":""},{"$f":"IF('AVI Antenna (Desc)'!G115=\"\",\"\",INDEX([1]ANTENNA_TYPE!$A$2:$A$100,MATCH('AVI Antenna (Desc)'!$G115,[1]!MASTER_ANTENNA_TYPE_DESC[#Data],0),0))","v":""},{"$f":"IF('AVI Antenna (Desc)'!H115=\"\",\"\",INDEX([1]ANTENNA_MANUF!$A$2:$A$100,MATCH('AVI Antenna (Desc)'!$H115,[1]!MASTER_ANTENNA_MANUF_DESC[#Data],0),0))","v":""},{"$f":"IF('AVI Antenna (Desc)'!I115=\"\",\"\",INDEX([1]ANTENNA_MODEL!$A$2:$A$50,MATCH(1,([1]ANTENNA_MODEL!$C$2:$C$50='AVI Antenna (Desc)'!$H115)*([1]ANTENNA_MODEL!$D$2:$D$50='AVI Antenna (Desc)'!$I115),0),0))","v":""},{"$f":"IF('AVI Antenna (Desc)'!J115=\"\",\"\",INDEX([1]LANE_COVERAGE!$A$2:$A$100,MATCH('AVI Antenna (Desc)'!$J115,[1]!MASTER_LANE_COVERAGE_DESC[#Data],0),0))","v":""},{"$f":"IF('AVI Antenna (Desc)'!K115=\"\",\"\",INDEX([1]LANE_DIRECTION!$A$2:$A$100,MATCH('AVI Antenna (Desc)'!$K115,[1]!MASTER_LANE_DIRECTION_DESC[#Data],0),0))","v":""}]
[{"$f":"IF('AVI Antenna (Desc)'!D116=\"\",\"\",'AVI Antenna (Desc)'!A116)","v":""},{"$f":"IF('AVI Antenna (Desc)'!C116=\"\",\"\",\"2007\")","v":""},{"$f":"IF('AVI Antenna (Desc)'!F116=\"\",\"\",'AVI Antenna (Desc)'!C116)","v":""},{"$f":"IF('AVI Antenna (Desc)'!D116=\"\",\"\",'AVI Antenna (Desc)'!D116)","v":""},{"$f":"IF('AVI Antenna (Desc)'!E116=\"\",\"\",INDEX([1]ASSET_ID_SOURCE!$A$2:$A$50,MATCH('AVI Antenna (Desc)'!E116,[1]!MASTER_ASSET_ID_SOURCE_DESC,0),0))","v":""},{"$f":"IF('AVI Antenna (Desc)'!G116=\"\",\"\",'AVI Antenna (Desc)'!F116)","v":""},{"$f":"IF('AVI Antenna (Desc)'!G116=\"\",\"\",INDEX([1]ANTENNA_TYPE!$A$2:$A$100,MATCH('AVI Antenna (Desc)'!$G116,[1]!MASTER_ANTENNA_TYPE_DESC[#Data],0),0))","v":""},{"$f":"IF('AVI Antenna (Desc)'!H116=\"\",\"\",INDEX([1]ANTENNA_MANUF!$A$2:$A$100,MATCH('AVI Antenna (Desc)'!$H116,[1]!MASTER_ANTENNA_MANUF_DESC[#Data],0),0))","v":""},{"$f":"IF('AVI Antenna (Desc)'!I116=\"\",\"\",INDEX([1]ANTENNA_MODEL!$A$2:$A$50,MATCH(1,([1]ANTENNA_MODEL!$C$2:$C$50='AVI Antenna (Desc)'!$H116)*([1]ANTENNA_MODEL!$D$2:$D$50='AVI Antenna (Desc)'!$I116),0),0))","v":""},{"$f":"IF('AVI Antenna (Desc)'!J116=\"\",\"\",INDEX([1]LANE_COVERAGE!$A$2:$A$100,MATCH('AVI Antenna (Desc)'!$J116,[1]!MASTER_LANE_COVERAGE_DESC[#Data],0),0))","v":""},{"$f":"IF('AVI Antenna (Desc)'!K116=\"\",\"\",INDEX([1]LANE_DIRECTION!$A$2:$A$100,MATCH('AVI Antenna (Desc)'!$K116,[1]!MASTER_LANE_DIRECTION_DESC[#Data],0),0))","v":""}]
[{"$f":"IF('AVI Antenna (Desc)'!D117=\"\",\"\",'AVI Antenna (Desc)'!A117)","v":""},{"$f":"IF('AVI Antenna (Desc)'!C117=\"\",\"\",\"2007\")","v":""},{"$f":"IF('AVI Antenna (Desc)'!F117=\"\",\"\",'AVI Antenna (Desc)'!C117)","v":""},{"$f":"IF('AVI Antenna (Desc)'!D117=\"\",\"\",'AVI Antenna (Desc)'!D117)","v":""},{"$f":"IF('AVI Antenna (Desc)'!E117=\"\",\"\",INDEX([1]ASSET_ID_SOURCE!$A$2:$A$50,MATCH('AVI Antenna (Desc)'!E117,[1]!MASTER_ASSET_ID_SOURCE_DESC,0),0))","v":""},{"$f":"IF('AVI Antenna (Desc)'!G117=\"\",\"\",'AVI Antenna (Desc)'!F117)","v":""},{"$f":"IF('AVI Antenna (Desc)'!G117=\"\",\"\",INDEX([1]ANTENNA_TYPE!$A$2:$A$100,MATCH('AVI Antenna (Desc)'!$G117,[1]!MASTER_ANTENNA_TYPE_DESC[#Data],0),0))","v":""},{"$f":"IF('AVI Antenna (Desc)'!H117=\"\",\"\",INDEX([1]ANTENNA_MANUF!$A$2:$A$100,MATCH('AVI Antenna (Desc)'!$H117,[1]!MASTER_ANTENNA_MANUF_DESC[#Data],0),0))","v":""},{"$f":"IF('AVI Antenna (Desc)'!I117=\"\",\"\",INDEX([1]ANTENNA_MODEL!$A$2:$A$50,MATCH(1,([1]ANTENNA_MODEL!$C$2:$C$50='AVI Antenna (Desc)'!$H117)*([1]ANTENNA_MODEL!$D$2:$D$50='AVI Antenna (Desc)'!$I117),0),0))","v":""},{"$f":"IF('AVI Antenna (Desc)'!J117=\"\",\"\",INDEX([1]LANE_COVERAGE!$A$2:$A$100,MATCH('AVI Antenna (Desc)'!$J117,[1]!MASTER_LANE_COVERAGE_DESC[#Data],0),0))","v":""},{"$f":"IF('AVI Antenna (Desc)'!K117=\"\",\"\",INDEX([1]LANE_DIRECTION!$A$2:$A$100,MATCH('AVI Antenna (Desc)'!$K117,[1]!MASTER_LANE_DIRECTION_DESC[#Data],0),0))","v":""}]
[{"$f":"IF('AVI Antenna (Desc)'!D118=\"\",\"\",'AVI Antenna (Desc)'!A118)","v":""},{"$f":"IF('AVI Antenna (Desc)'!C118=\"\",\"\",\"2007\")","v":""},{"$f":"IF('AVI Antenna (Desc)'!F118=\"\",\"\",'AVI Antenna (Desc)'!C118)","v":""},{"$f":"IF('AVI Antenna (Desc)'!D118=\"\",\"\",'AVI Antenna (Desc)'!D118)","v":""},{"$f":"IF('AVI Antenna (Desc)'!E118=\"\",\"\",INDEX([1]ASSET_ID_SOURCE!$A$2:$A$50,MATCH('AVI Antenna (Desc)'!E118,[1]!MASTER_ASSET_ID_SOURCE_DESC,0),0))","v":""},{"$f":"IF('AVI Antenna (Desc)'!G118=\"\",\"\",'AVI Antenna (Desc)'!F118)","v":""},{"$f":"IF('AVI Antenna (Desc)'!G118=\"\",\"\",INDEX([1]ANTENNA_TYPE!$A$2:$A$100,MATCH('AVI Antenna (Desc)'!$G118,[1]!MASTER_ANTENNA_TYPE_DESC[#Data],0),0))","v":""},{"$f":"IF('AVI Antenna (Desc)'!H118=\"\",\"\",INDEX([1]ANTENNA_MANUF!$A$2:$A$100,MATCH('AVI Antenna (Desc)'!$H118,[1]!MASTER_ANTENNA_MANUF_DESC[#Data],0),0))","v":""},{"$f":"IF('AVI Antenna (Desc)'!I118=\"\",\"\",INDEX([1]ANTENNA_MODEL!$A$2:$A$50,MATCH(1,([1]ANTENNA_MODEL!$C$2:$C$50='AVI Antenna (Desc)'!$H118)*([1]ANTENNA_MODEL!$D$2:$D$50='AVI Antenna (Desc)'!$I118),0),0))","v":""},{"$f":"IF('AVI Antenna (Desc)'!J118=\"\",\"\",INDEX([1]LANE_COVERAGE!$A$2:$A$100,MATCH('AVI Antenna (Desc)'!$J118,[1]!MASTER_LANE_COVERAGE_DESC[#Data],0),0))","v":""},{"$f":"IF('AVI Antenna (Desc)'!K118=\"\",\"\",INDEX([1]LANE_DIRECTION!$A$2:$A$100,MATCH('AVI Antenna (Desc)'!$K118,[1]!MASTER_LANE_DIRECTION_DESC[#Data],0),0))","v":""}]
[{"$f":"IF('AVI Antenna (Desc)'!D119=\"\",\"\",'AVI Antenna (Desc)'!A119)","v":""},{"$f":"IF('AVI Antenna (Desc)'!C119=\"\",\"\",\"2007\")","v":""},{"$f":"IF('AVI Antenna (Desc)'!F119=\"\",\"\",'AVI Antenna (Desc)'!C119)","v":""},{"$f":"IF('AVI Antenna (Desc)'!D119=\"\",\"\",'AVI Antenna (Desc)'!D119)","v":""},{"$f":"IF('AVI Antenna (Desc)'!E119=\"\",\"\",INDEX([1]ASSET_ID_SOURCE!$A$2:$A$50,MATCH('AVI Antenna (Desc)'!E119,[1]!MASTER_ASSET_ID_SOURCE_DESC,0),0))","v":""},{"$f":"IF('AVI Antenna (Desc)'!G119=\"\",\"\",'AVI Antenna (Desc)'!F119)","v":""},{"$f":"IF('AVI Antenna (Desc)'!G119=\"\",\"\",INDEX([1]ANTENNA_TYPE!$A$2:$A$100,MATCH('AVI Antenna (Desc)'!$G119,[1]!MASTER_ANTENNA_TYPE_DESC[#Data],0),0))","v":""},{"$f":"IF('AVI Antenna (Desc)'!H119=\"\",\"\",INDEX([1]ANTENNA_MANUF!$A$2:$A$100,MATCH('AVI Antenna (Desc)'!$H119,[1]!MASTER_ANTENNA_MANUF_DESC[#Data],0),0))","v":""},{"$f":"IF('AVI Antenna (Desc)'!I119=\"\",\"\",INDEX([1]ANTENNA_MODEL!$A$2:$A$50,MATCH(1,([1]ANTENNA_MODEL!$C$2:$C$50='AVI Antenna (Desc)'!$H119)*([1]ANTENNA_MODEL!$D$2:$D$50='AVI Antenna (Desc)'!$I119),0),0))","v":""},{"$f":"IF('AVI Antenna (Desc)'!J119=\"\",\"\",INDEX([1]LANE_COVERAGE!$A$2:$A$100,MATCH('AVI Antenna (Desc)'!$J119,[1]!MASTER_LANE_COVERAGE_DESC[#Data],0),0))","v":""},{"$f":"IF('AVI Antenna (Desc)'!K119=\"\",\"\",INDEX([1]LANE_DIRECTION!$A$2:$A$100,MATCH('AVI Antenna (Desc)'!$K119,[1]!MASTER_LANE_DIRECTION_DESC[#Data],0),0))","v":""}]
[{"$f":"IF('AVI Antenna (Desc)'!D120=\"\",\"\",'AVI Antenna (Desc)'!A120)","v":""},{"$f":"IF('AVI Antenna (Desc)'!C120=\"\",\"\",\"2007\")","v":""},{"$f":"IF('AVI Antenna (Desc)'!F120=\"\",\"\",'AVI Antenna (Desc)'!C120)","v":""},{"$f":"IF('AVI Antenna (Desc)'!D120=\"\",\"\",'AVI Antenna (Desc)'!D120)","v":""},{"$f":"IF('AVI Antenna (Desc)'!E120=\"\",\"\",INDEX([1]ASSET_ID_SOURCE!$A$2:$A$50,MATCH('AVI Antenna (Desc)'!E120,[1]!MASTER_ASSET_ID_SOURCE_DESC,0),0))","v":""},{"$f":"IF('AVI Antenna (Desc)'!G120=\"\",\"\",'AVI Antenna (Desc)'!F120)","v":""},{"$f":"IF('AVI Antenna (Desc)'!G120=\"\",\"\",INDEX([1]ANTENNA_TYPE!$A$2:$A$100,MATCH('AVI Antenna (Desc)'!$G120,[1]!MASTER_ANTENNA_TYPE_DESC[#Data],0),0))","v":""},{"$f":"IF('AVI Antenna (Desc)'!H120=\"\",\"\",INDEX([1]ANTENNA_MANUF!$A$2:$A$100,MATCH('AVI Antenna (Desc)'!$H120,[1]!MASTER_ANTENNA_MANUF_DESC[#Data],0),0))","v":""},{"$f":"IF('AVI Antenna (Desc)'!I120=\"\",\"\",INDEX([1]ANTENNA_MODEL!$A$2:$A$50,MATCH(1,([1]ANTENNA_MODEL!$C$2:$C$50='AVI Antenna (Desc)'!$H120)*([1]ANTENNA_MODEL!$D$2:$D$50='AVI Antenna (Desc)'!$I120),0),0))","v":""},{"$f":"IF('AVI Antenna (Desc)'!J120=\"\",\"\",INDEX([1]LANE_COVERAGE!$A$2:$A$100,MATCH('AVI Antenna (Desc)'!$J120,[1]!MASTER_LANE_COVERAGE_DESC[#Data],0),0))","v":""},{"$f":"IF('AVI Antenna (Desc)'!K120=\"\",\"\",INDEX([1]LANE_DIRECTION!$A$2:$A$100,MATCH('AVI Antenna (Desc)'!$K120,[1]!MASTER_LANE_DIRECTION_DESC[#Data],0),0))","v":""}]
[{"$f":"IF('AVI Antenna (Desc)'!D121=\"\",\"\",'AVI Antenna (Desc)'!A121)","v":""},{"$f":"IF('AVI Antenna (Desc)'!C121=\"\",\"\",\"2007\")","v":""},{"$f":"IF('AVI Antenna (Desc)'!F121=\"\",\"\",'AVI Antenna (Desc)'!C121)","v":""},{"$f":"IF('AVI Antenna (Desc)'!D121=\"\",\"\",'AVI Antenna (Desc)'!D121)","v":""},{"$f":"IF('AVI Antenna (Desc)'!E121=\"\",\"\",INDEX([1]ASSET_ID_SOURCE!$A$2:$A$50,MATCH('AVI Antenna (Desc)'!E121,[1]!MASTER_ASSET_ID_SOURCE_DESC,0),0))","v":""},{"$f":"IF('AVI Antenna (Desc)'!G121=\"\",\"\",'AVI Antenna (Desc)'!F121)","v":""},{"$f":"IF('AVI Antenna (Desc)'!G121=\"\",\"\",INDEX([1]ANTENNA_TYPE!$A$2:$A$100,MATCH('AVI Antenna (Desc)'!$G121,[1]!MASTER_ANTENNA_TYPE_DESC[#Data],0),0))","v":""},{"$f":"IF('AVI Antenna (Desc)'!H121=\"\",\"\",INDEX([1]ANTENNA_MANUF!$A$2:$A$100,MATCH('AVI Antenna (Desc)'!$H121,[1]!MASTER_ANTENNA_MANUF_DESC[#Data],0),0))","v":""},{"$f":"IF('AVI Antenna (Desc)'!I121=\"\",\"\",INDEX([1]ANTENNA_MODEL!$A$2:$A$50,MATCH(1,([1]ANTENNA_MODEL!$C$2:$C$50='AVI Antenna (Desc)'!$H121)*([1]ANTENNA_MODEL!$D$2:$D$50='AVI Antenna (Desc)'!$I121),0),0))","v":""},{"$f":"IF('AVI Antenna (Desc)'!J121=\"\",\"\",INDEX([1]LANE_COVERAGE!$A$2:$A$100,MATCH('AVI Antenna (Desc)'!$J121,[1]!MASTER_LANE_COVERAGE_DESC[#Data],0),0))","v":""},{"$f":"IF('AVI Antenna (Desc)'!K121=\"\",\"\",INDEX([1]LANE_DIRECTION!$A$2:$A$100,MATCH('AVI Antenna (Desc)'!$K121,[1]!MASTER_LANE_DIRECTION_DESC[#Data],0),0))","v":""}]
[{"$f":"IF('AVI Antenna (Desc)'!D122=\"\",\"\",'AVI Antenna (Desc)'!A122)","v":""},{"$f":"IF('AVI Antenna (Desc)'!C122=\"\",\"\",\"2007\")","v":""},{"$f":"IF('AVI Antenna (Desc)'!F122=\"\",\"\",'AVI Antenna (Desc)'!C122)","v":""},{"$f":"IF('AVI Antenna (Desc)'!D122=\"\",\"\",'AVI Antenna (Desc)'!D122)","v":""},{"$f":"IF('AVI Antenna (Desc)'!E122=\"\",\"\",INDEX([1]ASSET_ID_SOURCE!$A$2:$A$50,MATCH('AVI Antenna (Desc)'!E122,[1]!MASTER_ASSET_ID_SOURCE_DESC,0),0))","v":""},{"$f":"IF('AVI Antenna (Desc)'!G122=\"\",\"\",'AVI Antenna (Desc)'!F122)","v":""},{"$f":"IF('AVI Antenna (Desc)'!G122=\"\",\"\",INDEX([1]ANTENNA_TYPE!$A$2:$A$100,MATCH('AVI Antenna (Desc)'!$G122,[1]!MASTER_ANTENNA_TYPE_DESC[#Data],0),0))","v":""},{"$f":"IF('AVI Antenna (Desc)'!H122=\"\",\"\",INDEX([1]ANTENNA_MANUF!$A$2:$A$100,MATCH('AVI Antenna (Desc)'!$H122,[1]!MASTER_ANTENNA_MANUF_DESC[#Data],0),0))","v":""},{"$f":"IF('AVI Antenna (Desc)'!I122=\"\",\"\",INDEX([1]ANTENNA_MODEL!$A$2:$A$50,MATCH(1,([1]ANTENNA_MODEL!$C$2:$C$50='AVI Antenna (Desc)'!$H122)*([1]ANTENNA_MODEL!$D$2:$D$50='AVI Antenna (Desc)'!$I122),0),0))","v":""},{"$f":"IF('AVI Antenna (Desc)'!J122=\"\",\"\",INDEX([1]LANE_COVERAGE!$A$2:$A$100,MATCH('AVI Antenna (Desc)'!$J122,[1]!MASTER_LANE_COVERAGE_DESC[#Data],0),0))","v":""},{"$f":"IF('AVI Antenna (Desc)'!K122=\"\",\"\",INDEX([1]LANE_DIRECTION!$A$2:$A$100,MATCH('AVI Antenna (Desc)'!$K122,[1]!MASTER_LANE_DIRECTION_DESC[#Data],0),0))","v":""}]
[{"$f":"IF('AVI Antenna (Desc)'!D123=\"\",\"\",'AVI Antenna (Desc)'!A123)","v":""},{"$f":"IF('AVI Antenna (Desc)'!C123=\"\",\"\",\"2007\")","v":""},{"$f":"IF('AVI Antenna (Desc)'!F123=\"\",\"\",'AVI Antenna (Desc)'!C123)","v":""},{"$f":"IF('AVI Antenna (Desc)'!D123=\"\",\"\",'AVI Antenna (Desc)'!D123)","v":""},{"$f":"IF('AVI Antenna (Desc)'!E123=\"\",\"\",INDEX([1]ASSET_ID_SOURCE!$A$2:$A$50,MATCH('AVI Antenna (Desc)'!E123,[1]!MASTER_ASSET_ID_SOURCE_DESC,0),0))","v":""},{"$f":"IF('AVI Antenna (Desc)'!G123=\"\",\"\",'AVI Antenna (Desc)'!F123)","v":""},{"$f":"IF('AVI Antenna (Desc)'!G123=\"\",\"\",INDEX([1]ANTENNA_TYPE!$A$2:$A$100,MATCH('AVI Antenna (Desc)'!$G123,[1]!MASTER_ANTENNA_TYPE_DESC[#Data],0),0))","v":""},{"$f":"IF('AVI Antenna (Desc)'!H123=\"\",\"\",INDEX([1]ANTENNA_MANUF!$A$2:$A$100,MATCH('AVI Antenna (Desc)'!$H123,[1]!MASTER_ANTENNA_MANUF_DESC[#Data],0),0))","v":""},{"$f":"IF('AVI Antenna (Desc)'!I123=\"\",\"\",INDEX([1]ANTENNA_MODEL!$A$2:$A$50,MATCH(1,([1]ANTENNA_MODEL!$C$2:$C$50='AVI Antenna (Desc)'!$H123)*([1]ANTENNA_MODEL!$D$2:$D$50='AVI Antenna (Desc)'!$I123),0),0))","v":""},{"$f":"IF('AVI Antenna (Desc)'!J123=\"\",\"\",INDEX([1]LANE_COVERAGE!$A$2:$A$100,MATCH('AVI Antenna (Desc)'!$J123,[1]!MASTER_LANE_COVERAGE_DESC[#Data],0),0))","v":""},{"$f":"IF('AVI Antenna (Desc)'!K123=\"\",\"\",INDEX([1]LANE_DIRECTION!$A$2:$A$100,MATCH('AVI Antenna (Desc)'!$K123,[1]!MASTER_LANE_DIRECTION_DESC[#Data],0),0))","v":""}]
[{"$f":"IF('AVI Antenna (Desc)'!D124=\"\",\"\",'AVI Antenna (Desc)'!A124)","v":""},{"$f":"IF('AVI Antenna (Desc)'!C124=\"\",\"\",\"2007\")","v":""},{"$f":"IF('AVI Antenna (Desc)'!F124=\"\",\"\",'AVI Antenna (Desc)'!C124)","v":""},{"$f":"IF('AVI Antenna (Desc)'!D124=\"\",\"\",'AVI Antenna (Desc)'!D124)","v":""},{"$f":"IF('AVI Antenna (Desc)'!E124=\"\",\"\",INDEX([1]ASSET_ID_SOURCE!$A$2:$A$50,MATCH('AVI Antenna (Desc)'!E124,[1]!MASTER_ASSET_ID_SOURCE_DESC,0),0))","v":""},{"$f":"IF('AVI Antenna (Desc)'!G124=\"\",\"\",'AVI Antenna (Desc)'!F124)","v":""},{"$f":"IF('AVI Antenna (Desc)'!G124=\"\",\"\",INDEX([1]ANTENNA_TYPE!$A$2:$A$100,MATCH('AVI Antenna (Desc)'!$G124,[1]!MASTER_ANTENNA_TYPE_DESC[#Data],0),0))","v":""},{"$f":"IF('AVI Antenna (Desc)'!H124=\"\",\"\",INDEX([1]ANTENNA_MANUF!$A$2:$A$100,MATCH('AVI Antenna (Desc)'!$H124,[1]!MASTER_ANTENNA_MANUF_DESC[#Data],0),0))","v":""},{"$f":"IF('AVI Antenna (Desc)'!I124=\"\",\"\",INDEX([1]ANTENNA_MODEL!$A$2:$A$50,MATCH(1,([1]ANTENNA_MODEL!$C$2:$C$50='AVI Antenna (Desc)'!$H124)*([1]ANTENNA_MODEL!$D$2:$D$50='AVI Antenna (Desc)'!$I124),0),0))","v":""},{"$f":"IF('AVI Antenna (Desc)'!J124=\"\",\"\",INDEX([1]LANE_COVERAGE!$A$2:$A$100,MATCH('AVI Antenna (Desc)'!$J124,[1]!MASTER_LANE_COVERAGE_DESC[#Data],0),0))","v":""},{"$f":"IF('AVI Antenna (Desc)'!K124=\"\",\"\",INDEX([1]LANE_DIRECTION!$A$2:$A$100,MATCH('AVI Antenna (Desc)'!$K124,[1]!MASTER_LANE_DIRECTION_DESC[#Data],0),0))","v":""}]
[{"$f":"IF('AVI Antenna (Desc)'!D125=\"\",\"\",'AVI Antenna (Desc)'!A125)","v":""},{"$f":"IF('AVI Antenna (Desc)'!C125=\"\",\"\",\"2007\")","v":""},{"$f":"IF('AVI Antenna (Desc)'!F125=\"\",\"\",'AVI Antenna (Desc)'!C125)","v":""},{"$f":"IF('AVI Antenna (Desc)'!D125=\"\",\"\",'AVI Antenna (Desc)'!D125)","v":""},{"$f":"IF('AVI Antenna (Desc)'!E125=\"\",\"\",INDEX([1]ASSET_ID_SOURCE!$A$2:$A$50,MATCH('AVI Antenna (Desc)'!E125,[1]!MASTER_ASSET_ID_SOURCE_DESC,0),0))","v":""},{"$f":"IF('AVI Antenna (Desc)'!G125=\"\",\"\",'AVI Antenna (Desc)'!F125)","v":""},{"$f":"IF('AVI Antenna (Desc)'!G125=\"\",\"\",INDEX([1]ANTENNA_TYPE!$A$2:$A$100,MATCH('AVI Antenna (Desc)'!$G125,[1]!MASTER_ANTENNA_TYPE_DESC[#Data],0),0))","v":""},{"$f":"IF('AVI Antenna (Desc)'!H125=\"\",\"\",INDEX([1]ANTENNA_MANUF!$A$2:$A$100,MATCH('AVI Antenna (Desc)'!$H125,[1]!MASTER_ANTENNA_MANUF_DESC[#Data],0),0))","v":""},{"$f":"IF('AVI Antenna (Desc)'!I125=\"\",\"\",INDEX([1]ANTENNA_MODEL!$A$2:$A$50,MATCH(1,([1]ANTENNA_MODEL!$C$2:$C$50='AVI Antenna (Desc)'!$H125)*([1]ANTENNA_MODEL!$D$2:$D$50='AVI Antenna (Desc)'!$I125),0),0))","v":""},{"$f":"IF('AVI Antenna (Desc)'!J125=\"\",\"\",INDEX([1]LANE_COVERAGE!$A$2:$A$100,MATCH('AVI Antenna (Desc)'!$J125,[1]!MASTER_LANE_COVERAGE_DESC[#Data],0),0))","v":""},{"$f":"IF('AVI Antenna (Desc)'!K125=\"\",\"\",INDEX([1]LANE_DIRECTION!$A$2:$A$100,MATCH('AVI Antenna (Desc)'!$K125,[1]!MASTER_LANE_DIRECTION_DESC[#Data],0),0))","v":""}]
[{"$f":"IF('AVI Antenna (Desc)'!D126=\"\",\"\",'AVI Antenna (Desc)'!A126)","v":""},{"$f":"IF('AVI Antenna (Desc)'!C126=\"\",\"\",\"2007\")","v":""},{"$f":"IF('AVI Antenna (Desc)'!F126=\"\",\"\",'AVI Antenna (Desc)'!C126)","v":""},{"$f":"IF('AVI Antenna (Desc)'!D126=\"\",\"\",'AVI Antenna (Desc)'!D126)","v":""},{"$f":"IF('AVI Antenna (Desc)'!E126=\"\",\"\",INDEX([1]ASSET_ID_SOURCE!$A$2:$A$50,MATCH('AVI Antenna (Desc)'!E126,[1]!MASTER_ASSET_ID_SOURCE_DESC,0),0))","v":""},{"$f":"IF('AVI Antenna (Desc)'!G126=\"\",\"\",'AVI Antenna (Desc)'!F126)","v":""},{"$f":"IF('AVI Antenna (Desc)'!G126=\"\",\"\",INDEX([1]ANTENNA_TYPE!$A$2:$A$100,MATCH('AVI Antenna (Desc)'!$G126,[1]!MASTER_ANTENNA_TYPE_DESC[#Data],0),0))","v":""},{"$f":"IF('AVI Antenna (Desc)'!H126=\"\",\"\",INDEX([1]ANTENNA_MANUF!$A$2:$A$100,MATCH('AVI Antenna (Desc)'!$H126,[1]!MASTER_ANTENNA_MANUF_DESC[#Data],0),0))","v":""},{"$f":"IF('AVI Antenna (Desc)'!I126=\"\",\"\",INDEX([1]ANTENNA_MODEL!$A$2:$A$50,MATCH(1,([1]ANTENNA_MODEL!$C$2:$C$50='AVI Antenna (Desc)'!$H126)*([1]ANTENNA_MODEL!$D$2:$D$50='AVI Antenna (Desc)'!$I126),0),0))","v":""},{"$f":"IF('AVI Antenna (Desc)'!J126=\"\",\"\",INDEX([1]LANE_COVERAGE!$A$2:$A$100,MATCH('AVI Antenna (Desc)'!$J126,[1]!MASTER_LANE_COVERAGE_DESC[#Data],0),0))","v":""},{"$f":"IF('AVI Antenna (Desc)'!K126=\"\",\"\",INDEX([1]LANE_DIRECTION!$A$2:$A$100,MATCH('AVI Antenna (Desc)'!$K126,[1]!MASTER_LANE_DIRECTION_DESC[#Data],0),0))","v":""}]
[{"$f":"IF('AVI Antenna (Desc)'!D127=\"\",\"\",'AVI Antenna (Desc)'!A127)","v":""},{"$f":"IF('AVI Antenna (Desc)'!C127=\"\",\"\",\"2007\")","v":""},{"$f":"IF('AVI Antenna (Desc)'!F127=\"\",\"\",'AVI Antenna (Desc)'!C127)","v":""},{"$f":"IF('AVI Antenna (Desc)'!D127=\"\",\"\",'AVI Antenna (Desc)'!D127)","v":""},{"$f":"IF('AVI Antenna (Desc)'!E127=\"\",\"\",INDEX([1]ASSET_ID_SOURCE!$A$2:$A$50,MATCH('AVI Antenna (Desc)'!E127,[1]!MASTER_ASSET_ID_SOURCE_DESC,0),0))","v":""},{"$f":"IF('AVI Antenna (Desc)'!G127=\"\",\"\",'AVI Antenna (Desc)'!F127)","v":""},{"$f":"IF('AVI Antenna (Desc)'!G127=\"\",\"\",INDEX([1]ANTENNA_TYPE!$A$2:$A$100,MATCH('AVI Antenna (Desc)'!$G127,[1]!MASTER_ANTENNA_TYPE_DESC[#Data],0),0))","v":""},{"$f":"IF('AVI Antenna (Desc)'!H127=\"\",\"\",INDEX([1]ANTENNA_MANUF!$A$2:$A$100,MATCH('AVI Antenna (Desc)'!$H127,[1]!MASTER_ANTENNA_MANUF_DESC[#Data],0),0))","v":""},{"$f":"IF('AVI Antenna (Desc)'!I127=\"\",\"\",INDEX([1]ANTENNA_MODEL!$A$2:$A$50,MATCH(1,([1]ANTENNA_MODEL!$C$2:$C$50='AVI Antenna (Desc)'!$H127)*([1]ANTENNA_MODEL!$D$2:$D$50='AVI Antenna (Desc)'!$I127),0),0))","v":""},{"$f":"IF('AVI Antenna (Desc)'!J127=\"\",\"\",INDEX([1]LANE_COVERAGE!$A$2:$A$100,MATCH('AVI Antenna (Desc)'!$J127,[1]!MASTER_LANE_COVERAGE_DESC[#Data],0),0))","v":""},{"$f":"IF('AVI Antenna (Desc)'!K127=\"\",\"\",INDEX([1]LANE_DIRECTION!$A$2:$A$100,MATCH('AVI Antenna (Desc)'!$K127,[1]!MASTER_LANE_DIRECTION_DESC[#Data],0),0))","v":""}]
[{"$f":"IF('AVI Antenna (Desc)'!D128=\"\",\"\",'AVI Antenna (Desc)'!A128)","v":""},{"$f":"IF('AVI Antenna (Desc)'!C128=\"\",\"\",\"2007\")","v":""},{"$f":"IF('AVI Antenna (Desc)'!F128=\"\",\"\",'AVI Antenna (Desc)'!C128)","v":""},{"$f":"IF('AVI Antenna (Desc)'!D128=\"\",\"\",'AVI Antenna (Desc)'!D128)","v":""},{"$f":"IF('AVI Antenna (Desc)'!E128=\"\",\"\",INDEX([1]ASSET_ID_SOURCE!$A$2:$A$50,MATCH('AVI Antenna (Desc)'!E128,[1]!MASTER_ASSET_ID_SOURCE_DESC,0),0))","v":""},{"$f":"IF('AVI Antenna (Desc)'!G128=\"\",\"\",'AVI Antenna (Desc)'!F128)","v":""},{"$f":"IF('AVI Antenna (Desc)'!G128=\"\",\"\",INDEX([1]ANTENNA_TYPE!$A$2:$A$100,MATCH('AVI Antenna (Desc)'!$G128,[1]!MASTER_ANTENNA_TYPE_DESC[#Data],0),0))","v":""},{"$f":"IF('AVI Antenna (Desc)'!H128=\"\",\"\",INDEX([1]ANTENNA_MANUF!$A$2:$A$100,MATCH('AVI Antenna (Desc)'!$H128,[1]!MASTER_ANTENNA_MANUF_DESC[#Data],0),0))","v":""},{"$f":"IF('AVI Antenna (Desc)'!I128=\"\",\"\",INDEX([1]ANTENNA_MODEL!$A$2:$A$50,MATCH(1,([1]ANTENNA_MODEL!$C$2:$C$50='AVI Antenna (Desc)'!$H128)*([1]ANTENNA_MODEL!$D$2:$D$50='AVI Antenna (Desc)'!$I128),0),0))","v":""},{"$f":"IF('AVI Antenna (Desc)'!J128=\"\",\"\",INDEX([1]LANE_COVERAGE!$A$2:$A$100,MATCH('AVI Antenna (Desc)'!$J128,[1]!MASTER_LANE_COVERAGE_DESC[#Data],0),0))","v":""},{"$f":"IF('AVI Antenna (Desc)'!K128=\"\",\"\",INDEX([1]LANE_DIRECTION!$A$2:$A$100,MATCH('AVI Antenna (Desc)'!$K128,[1]!MASTER_LANE_DIRECTION_DESC[#Data],0),0))","v":""}]
[{"$f":"IF('AVI Antenna (Desc)'!D129=\"\",\"\",'AVI Antenna (Desc)'!A129)","v":""},{"$f":"IF('AVI Antenna (Desc)'!C129=\"\",\"\",\"2007\")","v":""},{"$f":"IF('AVI Antenna (Desc)'!F129=\"\",\"\",'AVI Antenna (Desc)'!C129)","v":""},{"$f":"IF('AVI Antenna (Desc)'!D129=\"\",\"\",'AVI Antenna (Desc)'!D129)","v":""},{"$f":"IF('AVI Antenna (Desc)'!E129=\"\",\"\",INDEX([1]ASSET_ID_SOURCE!$A$2:$A$50,MATCH('AVI Antenna (Desc)'!E129,[1]!MASTER_ASSET_ID_SOURCE_DESC,0),0))","v":""},{"$f":"IF('AVI Antenna (Desc)'!G129=\"\",\"\",'AVI Antenna (Desc)'!F129)","v":""},{"$f":"IF('AVI Antenna (Desc)'!G129=\"\",\"\",INDEX([1]ANTENNA_TYPE!$A$2:$A$100,MATCH('AVI Antenna (Desc)'!$G129,[1]!MASTER_ANTENNA_TYPE_DESC[#Data],0),0))","v":""},{"$f":"IF('AVI Antenna (Desc)'!H129=\"\",\"\",INDEX([1]ANTENNA_MANUF!$A$2:$A$100,MATCH('AVI Antenna (Desc)'!$H129,[1]!MASTER_ANTENNA_MANUF_DESC[#Data],0),0))","v":""},{"$f":"IF('AVI Antenna (Desc)'!I129=\"\",\"\",INDEX([1]ANTENNA_MODEL!$A$2:$A$50,MATCH(1,([1]ANTENNA_MODEL!$C$2:$C$50='AVI Antenna (Desc)'!$H129)*([1]ANTENNA_MODEL!$D$2:$D$50='AVI Antenna (Desc)'!$I129),0),0))","v":""},{"$f":"IF('AVI Antenna (Desc)'!J129=\"\",\"\",INDEX([1]LANE_COVERAGE!$A$2:$A$100,MATCH('AVI Antenna (Desc)'!$J129,[1]!MASTER_LANE_COVERAGE_DESC[#Data],0),0))","v":""},{"$f":"IF('AVI Antenna (Desc)'!K129=\"\",\"\",INDEX([1]LANE_DIRECTION!$A$2:$A$100,MATCH('AVI Antenna (Desc)'!$K129,[1]!MASTER_LANE_DIRECTION_DESC[#Data],0),0))","v":""}]
[{"$f":"IF('AVI Antenna (Desc)'!D130=\"\",\"\",'AVI Antenna (Desc)'!A130)","v":""},{"$f":"IF('AVI Antenna (Desc)'!C130=\"\",\"\",\"2007\")","v":""},{"$f":"IF('AVI Antenna (Desc)'!F130=\"\",\"\",'AVI Antenna (Desc)'!C130)","v":""},{"$f":"IF('AVI Antenna (Desc)'!D130=\"\",\"\",'AVI Antenna (Desc)'!D130)","v":""},{"$f":"IF('AVI Antenna (Desc)'!E130=\"\",\"\",INDEX([1]ASSET_ID_SOURCE!$A$2:$A$50,MATCH('AVI Antenna (Desc)'!E130,[1]!MASTER_ASSET_ID_SOURCE_DESC,0),0))","v":""},{"$f":"IF('AVI Antenna (Desc)'!G130=\"\",\"\",'AVI Antenna (Desc)'!F130)","v":""},{"$f":"IF('AVI Antenna (Desc)'!G130=\"\",\"\",INDEX([1]ANTENNA_TYPE!$A$2:$A$100,MATCH('AVI Antenna (Desc)'!$G130,[1]!MASTER_ANTENNA_TYPE_DESC[#Data],0),0))","v":""},{"$f":"IF('AVI Antenna (Desc)'!H130=\"\",\"\",INDEX([1]ANTENNA_MANUF!$A$2:$A$100,MATCH('AVI Antenna (Desc)'!$H130,[1]!MASTER_ANTENNA_MANUF_DESC[#Data],0),0))","v":""},{"$f":"IF('AVI Antenna (Desc)'!I130=\"\",\"\",INDEX([1]ANTENNA_MODEL!$A$2:$A$50,MATCH(1,([1]ANTENNA_MODEL!$C$2:$C$50='AVI Antenna (Desc)'!$H130)*([1]ANTENNA_MODEL!$D$2:$D$50='AVI Antenna (Desc)'!$I130),0),0))","v":""},{"$f":"IF('AVI Antenna (Desc)'!J130=\"\",\"\",INDEX([1]LANE_COVERAGE!$A$2:$A$100,MATCH('AVI Antenna (Desc)'!$J130,[1]!MASTER_LANE_COVERAGE_DESC[#Data],0),0))","v":""},{"$f":"IF('AVI Antenna (Desc)'!K130=\"\",\"\",INDEX([1]LANE_DIRECTION!$A$2:$A$100,MATCH('AVI Antenna (Desc)'!$K130,[1]!MASTER_LANE_DIRECTION_DESC[#Data],0),0))","v":""}]
[{"$f":"IF('AVI Antenna (Desc)'!D131=\"\",\"\",'AVI Antenna (Desc)'!A131)","v":""},{"$f":"IF('AVI Antenna (Desc)'!C131=\"\",\"\",\"2007\")","v":""},{"$f":"IF('AVI Antenna (Desc)'!F131=\"\",\"\",'AVI Antenna (Desc)'!C131)","v":""},{"$f":"IF('AVI Antenna (Desc)'!D131=\"\",\"\",'AVI Antenna (Desc)'!D131)","v":""},{"$f":"IF('AVI Antenna (Desc)'!E131=\"\",\"\",INDEX([1]ASSET_ID_SOURCE!$A$2:$A$50,MATCH('AVI Antenna (Desc)'!E131,[1]!MASTER_ASSET_ID_SOURCE_DESC,0),0))","v":""},{"$f":"IF('AVI Antenna (Desc)'!G131=\"\",\"\",'AVI Antenna (Desc)'!F131)","v":""},{"$f":"IF('AVI Antenna (Desc)'!G131=\"\",\"\",INDEX([1]ANTENNA_TYPE!$A$2:$A$100,MATCH('AVI Antenna (Desc)'!$G131,[1]!MASTER_ANTENNA_TYPE_DESC[#Data],0),0))","v":""},{"$f":"IF('AVI Antenna (Desc)'!H131=\"\",\"\",INDEX([1]ANTENNA_MANUF!$A$2:$A$100,MATCH('AVI Antenna (Desc)'!$H131,[1]!MASTER_ANTENNA_MANUF_DESC[#Data],0),0))","v":""},{"$f":"IF('AVI Antenna (Desc)'!I131=\"\",\"\",INDEX([1]ANTENNA_MODEL!$A$2:$A$50,MATCH(1,([1]ANTENNA_MODEL!$C$2:$C$50='AVI Antenna (Desc)'!$H131)*([1]ANTENNA_MODEL!$D$2:$D$50='AVI Antenna (Desc)'!$I131),0),0))","v":""},{"$f":"IF('AVI Antenna (Desc)'!J131=\"\",\"\",INDEX([1]LANE_COVERAGE!$A$2:$A$100,MATCH('AVI Antenna (Desc)'!$J131,[1]!MASTER_LANE_COVERAGE_DESC[#Data],0),0))","v":""},{"$f":"IF('AVI Antenna (Desc)'!K131=\"\",\"\",INDEX([1]LANE_DIRECTION!$A$2:$A$100,MATCH('AVI Antenna (Desc)'!$K131,[1]!MASTER_LANE_DIRECTION_DESC[#Data],0),0))","v":""}]
[{"$f":"IF('AVI Antenna (Desc)'!D132=\"\",\"\",'AVI Antenna (Desc)'!A132)","v":""},{"$f":"IF('AVI Antenna (Desc)'!C132=\"\",\"\",\"2007\")","v":""},{"$f":"IF('AVI Antenna (Desc)'!F132=\"\",\"\",'AVI Antenna (Desc)'!C132)","v":""},{"$f":"IF('AVI Antenna (Desc)'!D132=\"\",\"\",'AVI Antenna (Desc)'!D132)","v":""},{"$f":"IF('AVI Antenna (Desc)'!E132=\"\",\"\",INDEX([1]ASSET_ID_SOURCE!$A$2:$A$50,MATCH('AVI Antenna (Desc)'!E132,[1]!MASTER_ASSET_ID_SOURCE_DESC,0),0))","v":""},{"$f":"IF('AVI Antenna (Desc)'!G132=\"\",\"\",'AVI Antenna (Desc)'!F132)","v":""},{"$f":"IF('AVI Antenna (Desc)'!G132=\"\",\"\",INDEX([1]ANTENNA_TYPE!$A$2:$A$100,MATCH('AVI Antenna (Desc)'!$G132,[1]!MASTER_ANTENNA_TYPE_DESC[#Data],0),0))","v":""},{"$f":"IF('AVI Antenna (Desc)'!H132=\"\",\"\",INDEX([1]ANTENNA_MANUF!$A$2:$A$100,MATCH('AVI Antenna (Desc)'!$H132,[1]!MASTER_ANTENNA_MANUF_DESC[#Data],0),0))","v":""},{"$f":"IF('AVI Antenna (Desc)'!I132=\"\",\"\",INDEX([1]ANTENNA_MODEL!$A$2:$A$50,MATCH(1,([1]ANTENNA_MODEL!$C$2:$C$50='AVI Antenna (Desc)'!$H132)*([1]ANTENNA_MODEL!$D$2:$D$50='AVI Antenna (Desc)'!$I132),0),0))","v":""},{"$f":"IF('AVI Antenna (Desc)'!J132=\"\",\"\",INDEX([1]LANE_COVERAGE!$A$2:$A$100,MATCH('AVI Antenna (Desc)'!$J132,[1]!MASTER_LANE_COVERAGE_DESC[#Data],0),0))","v":""},{"$f":"IF('AVI Antenna (Desc)'!K132=\"\",\"\",INDEX([1]LANE_DIRECTION!$A$2:$A$100,MATCH('AVI Antenna (Desc)'!$K132,[1]!MASTER_LANE_DIRECTION_DESC[#Data],0),0))","v":""}]
[{"$f":"IF('AVI Antenna (Desc)'!D133=\"\",\"\",'AVI Antenna (Desc)'!A133)","v":""},{"$f":"IF('AVI Antenna (Desc)'!C133=\"\",\"\",\"2007\")","v":""},{"$f":"IF('AVI Antenna (Desc)'!F133=\"\",\"\",'AVI Antenna (Desc)'!C133)","v":""},{"$f":"IF('AVI Antenna (Desc)'!D133=\"\",\"\",'AVI Antenna (Desc)'!D133)","v":""},{"$f":"IF('AVI Antenna (Desc)'!E133=\"\",\"\",INDEX([1]ASSET_ID_SOURCE!$A$2:$A$50,MATCH('AVI Antenna (Desc)'!E133,[1]!MASTER_ASSET_ID_SOURCE_DESC,0),0))","v":""},{"$f":"IF('AVI Antenna (Desc)'!G133=\"\",\"\",'AVI Antenna (Desc)'!F133)","v":""},{"$f":"IF('AVI Antenna (Desc)'!G133=\"\",\"\",INDEX([1]ANTENNA_TYPE!$A$2:$A$100,MATCH('AVI Antenna (Desc)'!$G133,[1]!MASTER_ANTENNA_TYPE_DESC[#Data],0),0))","v":""},{"$f":"IF('AVI Antenna (Desc)'!H133=\"\",\"\",INDEX([1]ANTENNA_MANUF!$A$2:$A$100,MATCH('AVI Antenna (Desc)'!$H133,[1]!MASTER_ANTENNA_MANUF_DESC[#Data],0),0))","v":""},{"$f":"IF('AVI Antenna (Desc)'!I133=\"\",\"\",INDEX([1]ANTENNA_MODEL!$A$2:$A$50,MATCH(1,([1]ANTENNA_MODEL!$C$2:$C$50='AVI Antenna (Desc)'!$H133)*([1]ANTENNA_MODEL!$D$2:$D$50='AVI Antenna (Desc)'!$I133),0),0))","v":""},{"$f":"IF('AVI Antenna (Desc)'!J133=\"\",\"\",INDEX([1]LANE_COVERAGE!$A$2:$A$100,MATCH('AVI Antenna (Desc)'!$J133,[1]!MASTER_LANE_COVERAGE_DESC[#Data],0),0))","v":""},{"$f":"IF('AVI Antenna (Desc)'!K133=\"\",\"\",INDEX([1]LANE_DIRECTION!$A$2:$A$100,MATCH('AVI Antenna (Desc)'!$K133,[1]!MASTER_LANE_DIRECTION_DESC[#Data],0),0))","v":""}]
[{"$f":"IF('AVI Antenna (Desc)'!D134=\"\",\"\",'AVI Antenna (Desc)'!A134)","v":""},{"$f":"IF('AVI Antenna (Desc)'!C134=\"\",\"\",\"2007\")","v":""},{"$f":"IF('AVI Antenna (Desc)'!F134=\"\",\"\",'AVI Antenna (Desc)'!C134)","v":""},{"$f":"IF('AVI Antenna (Desc)'!D134=\"\",\"\",'AVI Antenna (Desc)'!D134)","v":""},{"$f":"IF('AVI Antenna (Desc)'!E134=\"\",\"\",INDEX([1]ASSET_ID_SOURCE!$A$2:$A$50,MATCH('AVI Antenna (Desc)'!E134,[1]!MASTER_ASSET_ID_SOURCE_DESC,0),0))","v":""},{"$f":"IF('AVI Antenna (Desc)'!G134=\"\",\"\",'AVI Antenna (Desc)'!F134)","v":""},{"$f":"IF('AVI Antenna (Desc)'!G134=\"\",\"\",INDEX([1]ANTENNA_TYPE!$A$2:$A$100,MATCH('AVI Antenna (Desc)'!$G134,[1]!MASTER_ANTENNA_TYPE_DESC[#Data],0),0))","v":""},{"$f":"IF('AVI Antenna (Desc)'!H134=\"\",\"\",INDEX([1]ANTENNA_MANUF!$A$2:$A$100,MATCH('AVI Antenna (Desc)'!$H134,[1]!MASTER_ANTENNA_MANUF_DESC[#Data],0),0))","v":""},{"$f":"IF('AVI Antenna (Desc)'!I134=\"\",\"\",INDEX([1]ANTENNA_MODEL!$A$2:$A$50,MATCH(1,([1]ANTENNA_MODEL!$C$2:$C$50='AVI Antenna (Desc)'!$H134)*([1]ANTENNA_MODEL!$D$2:$D$50='AVI Antenna (Desc)'!$I134),0),0))","v":""},{"$f":"IF('AVI Antenna (Desc)'!J134=\"\",\"\",INDEX([1]LANE_COVERAGE!$A$2:$A$100,MATCH('AVI Antenna (Desc)'!$J134,[1]!MASTER_LANE_COVERAGE_DESC[#Data],0),0))","v":""},{"$f":"IF('AVI Antenna (Desc)'!K134=\"\",\"\",INDEX([1]LANE_DIRECTION!$A$2:$A$100,MATCH('AVI Antenna (Desc)'!$K134,[1]!MASTER_LANE_DIRECTION_DESC[#Data],0),0))","v":""}]
[{"$f":"IF('AVI Antenna (Desc)'!D135=\"\",\"\",'AVI Antenna (Desc)'!A135)","v":""},{"$f":"IF('AVI Antenna (Desc)'!C135=\"\",\"\",\"2007\")","v":""},{"$f":"IF('AVI Antenna (Desc)'!F135=\"\",\"\",'AVI Antenna (Desc)'!C135)","v":""},{"$f":"IF('AVI Antenna (Desc)'!D135=\"\",\"\",'AVI Antenna (Desc)'!D135)","v":""},{"$f":"IF('AVI Antenna (Desc)'!E135=\"\",\"\",INDEX([1]ASSET_ID_SOURCE!$A$2:$A$50,MATCH('AVI Antenna (Desc)'!E135,[1]!MASTER_ASSET_ID_SOURCE_DESC,0),0))","v":""},{"$f":"IF('AVI Antenna (Desc)'!G135=\"\",\"\",'AVI Antenna (Desc)'!F135)","v":""},{"$f":"IF('AVI Antenna (Desc)'!G135=\"\",\"\",INDEX([1]ANTENNA_TYPE!$A$2:$A$100,MATCH('AVI Antenna (Desc)'!$G135,[1]!MASTER_ANTENNA_TYPE_DESC[#Data],0),0))","v":""},{"$f":"IF('AVI Antenna (Desc)'!H135=\"\",\"\",INDEX([1]ANTENNA_MANUF!$A$2:$A$100,MATCH('AVI Antenna (Desc)'!$H135,[1]!MASTER_ANTENNA_MANUF_DESC[#Data],0),0))","v":""},{"$f":"IF('AVI Antenna (Desc)'!I135=\"\",\"\",INDEX([1]ANTENNA_MODEL!$A$2:$A$50,MATCH(1,([1]ANTENNA_MODEL!$C$2:$C$50='AVI Antenna (Desc)'!$H135)*([1]ANTENNA_MODEL!$D$2:$D$50='AVI Antenna (Desc)'!$I135),0),0))","v":""},{"$f":"IF('AVI Antenna (Desc)'!J135=\"\",\"\",INDEX([1]LANE_COVERAGE!$A$2:$A$100,MATCH('AVI Antenna (Desc)'!$J135,[1]!MASTER_LANE_COVERAGE_DESC[#Data],0),0))","v":""},{"$f":"IF('AVI Antenna (Desc)'!K135=\"\",\"\",INDEX([1]LANE_DIRECTION!$A$2:$A$100,MATCH('AVI Antenna (Desc)'!$K135,[1]!MASTER_LANE_DIRECTION_DESC[#Data],0),0))","v":""}]
[{"$f":"IF('AVI Antenna (Desc)'!D136=\"\",\"\",'AVI Antenna (Desc)'!A136)","v":""},{"$f":"IF('AVI Antenna (Desc)'!C136=\"\",\"\",\"2007\")","v":""},{"$f":"IF('AVI Antenna (Desc)'!F136=\"\",\"\",'AVI Antenna (Desc)'!C136)","v":""},{"$f":"IF('AVI Antenna (Desc)'!D136=\"\",\"\",'AVI Antenna (Desc)'!D136)","v":""},{"$f":"IF('AVI Antenna (Desc)'!E136=\"\",\"\",INDEX([1]ASSET_ID_SOURCE!$A$2:$A$50,MATCH('AVI Antenna (Desc)'!E136,[1]!MASTER_ASSET_ID_SOURCE_DESC,0),0))","v":""},{"$f":"IF('AVI Antenna (Desc)'!G136=\"\",\"\",'AVI Antenna (Desc)'!F136)","v":""},{"$f":"IF('AVI Antenna (Desc)'!G136=\"\",\"\",INDEX([1]ANTENNA_TYPE!$A$2:$A$100,MATCH('AVI Antenna (Desc)'!$G136,[1]!MASTER_ANTENNA_TYPE_DESC[#Data],0),0))","v":""},{"$f":"IF('AVI Antenna (Desc)'!H136=\"\",\"\",INDEX([1]ANTENNA_MANUF!$A$2:$A$100,MATCH('AVI Antenna (Desc)'!$H136,[1]!MASTER_ANTENNA_MANUF_DESC[#Data],0),0))","v":""},{"$f":"IF('AVI Antenna (Desc)'!I136=\"\",\"\",INDEX([1]ANTENNA_MODEL!$A$2:$A$50,MATCH(1,([1]ANTENNA_MODEL!$C$2:$C$50='AVI Antenna (Desc)'!$H136)*([1]ANTENNA_MODEL!$D$2:$D$50='AVI Antenna (Desc)'!$I136),0),0))","v":""},{"$f":"IF('AVI Antenna (Desc)'!J136=\"\",\"\",INDEX([1]LANE_COVERAGE!$A$2:$A$100,MATCH('AVI Antenna (Desc)'!$J136,[1]!MASTER_LANE_COVERAGE_DESC[#Data],0),0))","v":""},{"$f":"IF('AVI Antenna (Desc)'!K136=\"\",\"\",INDEX([1]LANE_DIRECTION!$A$2:$A$100,MATCH('AVI Antenna (Desc)'!$K136,[1]!MASTER_LANE_DIRECTION_DESC[#Data],0),0))","v":""}]
[{"$f":"IF('AVI Antenna (Desc)'!D137=\"\",\"\",'AVI Antenna (Desc)'!A137)","v":""},{"$f":"IF('AVI Antenna (Desc)'!C137=\"\",\"\",\"2007\")","v":""},{"$f":"IF('AVI Antenna (Desc)'!F137=\"\",\"\",'AVI Antenna (Desc)'!C137)","v":""},{"$f":"IF('AVI Antenna (Desc)'!D137=\"\",\"\",'AVI Antenna (Desc)'!D137)","v":""},{"$f":"IF('AVI Antenna (Desc)'!E137=\"\",\"\",INDEX([1]ASSET_ID_SOURCE!$A$2:$A$50,MATCH('AVI Antenna (Desc)'!E137,[1]!MASTER_ASSET_ID_SOURCE_DESC,0),0))","v":""},{"$f":"IF('AVI Antenna (Desc)'!G137=\"\",\"\",'AVI Antenna (Desc)'!F137)","v":""},{"$f":"IF('AVI Antenna (Desc)'!G137=\"\",\"\",INDEX([1]ANTENNA_TYPE!$A$2:$A$100,MATCH('AVI Antenna (Desc)'!$G137,[1]!MASTER_ANTENNA_TYPE_DESC[#Data],0),0))","v":""},{"$f":"IF('AVI Antenna (Desc)'!H137=\"\",\"\",INDEX([1]ANTENNA_MANUF!$A$2:$A$100,MATCH('AVI Antenna (Desc)'!$H137,[1]!MASTER_ANTENNA_MANUF_DESC[#Data],0),0))","v":""},{"$f":"IF('AVI Antenna (Desc)'!I137=\"\",\"\",INDEX([1]ANTENNA_MODEL!$A$2:$A$50,MATCH(1,([1]ANTENNA_MODEL!$C$2:$C$50='AVI Antenna (Desc)'!$H137)*([1]ANTENNA_MODEL!$D$2:$D$50='AVI Antenna (Desc)'!$I137),0),0))","v":""},{"$f":"IF('AVI Antenna (Desc)'!J137=\"\",\"\",INDEX([1]LANE_COVERAGE!$A$2:$A$100,MATCH('AVI Antenna (Desc)'!$J137,[1]!MASTER_LANE_COVERAGE_DESC[#Data],0),0))","v":""},{"$f":"IF('AVI Antenna (Desc)'!K137=\"\",\"\",INDEX([1]LANE_DIRECTION!$A$2:$A$100,MATCH('AVI Antenna (Desc)'!$K137,[1]!MASTER_LANE_DIRECTION_DESC[#Data],0),0))","v":""}]
[{"$f":"IF('AVI Antenna (Desc)'!D138=\"\",\"\",'AVI Antenna (Desc)'!A138)","v":""},{"$f":"IF('AVI Antenna (Desc)'!C138=\"\",\"\",\"2007\")","v":""},{"$f":"IF('AVI Antenna (Desc)'!F138=\"\",\"\",'AVI Antenna (Desc)'!C138)","v":""},{"$f":"IF('AVI Antenna (Desc)'!D138=\"\",\"\",'AVI Antenna (Desc)'!D138)","v":""},{"$f":"IF('AVI Antenna (Desc)'!E138=\"\",\"\",INDEX([1]ASSET_ID_SOURCE!$A$2:$A$50,MATCH('AVI Antenna (Desc)'!E138,[1]!MASTER_ASSET_ID_SOURCE_DESC,0),0))","v":""},{"$f":"IF('AVI Antenna (Desc)'!G138=\"\",\"\",'AVI Antenna (Desc)'!F138)","v":""},{"$f":"IF('AVI Antenna (Desc)'!G138=\"\",\"\",INDEX([1]ANTENNA_TYPE!$A$2:$A$100,MATCH('AVI Antenna (Desc)'!$G138,[1]!MASTER_ANTENNA_TYPE_DESC[#Data],0),0))","v":""},{"$f":"IF('AVI Antenna (Desc)'!H138=\"\",\"\",INDEX([1]ANTENNA_MANUF!$A$2:$A$100,MATCH('AVI Antenna (Desc)'!$H138,[1]!MASTER_ANTENNA_MANUF_DESC[#Data],0),0))","v":""},{"$f":"IF('AVI Antenna (Desc)'!I138=\"\",\"\",INDEX([1]ANTENNA_MODEL!$A$2:$A$50,MATCH(1,([1]ANTENNA_MODEL!$C$2:$C$50='AVI Antenna (Desc)'!$H138)*([1]ANTENNA_MODEL!$D$2:$D$50='AVI Antenna (Desc)'!$I138),0),0))","v":""},{"$f":"IF('AVI Antenna (Desc)'!J138=\"\",\"\",INDEX([1]LANE_COVERAGE!$A$2:$A$100,MATCH('AVI Antenna (Desc)'!$J138,[1]!MASTER_LANE_COVERAGE_DESC[#Data],0),0))","v":""},{"$f":"IF('AVI Antenna (Desc)'!K138=\"\",\"\",INDEX([1]LANE_DIRECTION!$A$2:$A$100,MATCH('AVI Antenna (Desc)'!$K138,[1]!MASTER_LANE_DIRECTION_DESC[#Data],0),0))","v":""}]
[{"$f":"IF('AVI Antenna (Desc)'!D139=\"\",\"\",'AVI Antenna (Desc)'!A139)","v":""},{"$f":"IF('AVI Antenna (Desc)'!C139=\"\",\"\",\"2007\")","v":""},{"$f":"IF('AVI Antenna (Desc)'!F139=\"\",\"\",'AVI Antenna (Desc)'!C139)","v":""},{"$f":"IF('AVI Antenna (Desc)'!D139=\"\",\"\",'AVI Antenna (Desc)'!D139)","v":""},{"$f":"IF('AVI Antenna (Desc)'!E139=\"\",\"\",INDEX([1]ASSET_ID_SOURCE!$A$2:$A$50,MATCH('AVI Antenna (Desc)'!E139,[1]!MASTER_ASSET_ID_SOURCE_DESC,0),0))","v":""},{"$f":"IF('AVI Antenna (Desc)'!G139=\"\",\"\",'AVI Antenna (Desc)'!F139)","v":""},{"$f":"IF('AVI Antenna (Desc)'!G139=\"\",\"\",INDEX([1]ANTENNA_TYPE!$A$2:$A$100,MATCH('AVI Antenna (Desc)'!$G139,[1]!MASTER_ANTENNA_TYPE_DESC[#Data],0),0))","v":""},{"$f":"IF('AVI Antenna (Desc)'!H139=\"\",\"\",INDEX([1]ANTENNA_MANUF!$A$2:$A$100,MATCH('AVI Antenna (Desc)'!$H139,[1]!MASTER_ANTENNA_MANUF_DESC[#Data],0),0))","v":""},{"$f":"IF('AVI Antenna (Desc)'!I139=\"\",\"\",INDEX([1]ANTENNA_MODEL!$A$2:$A$50,MATCH(1,([1]ANTENNA_MODEL!$C$2:$C$50='AVI Antenna (Desc)'!$H139)*([1]ANTENNA_MODEL!$D$2:$D$50='AVI Antenna (Desc)'!$I139),0),0))","v":""},{"$f":"IF('AVI Antenna (Desc)'!J139=\"\",\"\",INDEX([1]LANE_COVERAGE!$A$2:$A$100,MATCH('AVI Antenna (Desc)'!$J139,[1]!MASTER_LANE_COVERAGE_DESC[#Data],0),0))","v":""},{"$f":"IF('AVI Antenna (Desc)'!K139=\"\",\"\",INDEX([1]LANE_DIRECTION!$A$2:$A$100,MATCH('AVI Antenna (Desc)'!$K139,[1]!MASTER_LANE_DIRECTION_DESC[#Data],0),0))","v":""}]
[{"$f":"IF('AVI Antenna (Desc)'!D140=\"\",\"\",'AVI Antenna (Desc)'!A140)","v":""},{"$f":"IF('AVI Antenna (Desc)'!C140=\"\",\"\",\"2007\")","v":""},{"$f":"IF('AVI Antenna (Desc)'!F140=\"\",\"\",'AVI Antenna (Desc)'!C140)","v":""},{"$f":"IF('AVI Antenna (Desc)'!D140=\"\",\"\",'AVI Antenna (Desc)'!D140)","v":""},{"$f":"IF('AVI Antenna (Desc)'!E140=\"\",\"\",INDEX([1]ASSET_ID_SOURCE!$A$2:$A$50,MATCH('AVI Antenna (Desc)'!E140,[1]!MASTER_ASSET_ID_SOURCE_DESC,0),0))","v":""},{"$f":"IF('AVI Antenna (Desc)'!G140=\"\",\"\",'AVI Antenna (Desc)'!F140)","v":""},{"$f":"IF('AVI Antenna (Desc)'!G140=\"\",\"\",INDEX([1]ANTENNA_TYPE!$A$2:$A$100,MATCH('AVI Antenna (Desc)'!$G140,[1]!MASTER_ANTENNA_TYPE_DESC[#Data],0),0))","v":""},{"$f":"IF('AVI Antenna (Desc)'!H140=\"\",\"\",INDEX([1]ANTENNA_MANUF!$A$2:$A$100,MATCH('AVI Antenna (Desc)'!$H140,[1]!MASTER_ANTENNA_MANUF_DESC[#Data],0),0))","v":""},{"$f":"IF('AVI Antenna (Desc)'!I140=\"\",\"\",INDEX([1]ANTENNA_MODEL!$A$2:$A$50,MATCH(1,([1]ANTENNA_MODEL!$C$2:$C$50='AVI Antenna (Desc)'!$H140)*([1]ANTENNA_MODEL!$D$2:$D$50='AVI Antenna (Desc)'!$I140),0),0))","v":""},{"$f":"IF('AVI Antenna (Desc)'!J140=\"\",\"\",INDEX([1]LANE_COVERAGE!$A$2:$A$100,MATCH('AVI Antenna (Desc)'!$J140,[1]!MASTER_LANE_COVERAGE_DESC[#Data],0),0))","v":""},{"$f":"IF('AVI Antenna (Desc)'!K140=\"\",\"\",INDEX([1]LANE_DIRECTION!$A$2:$A$100,MATCH('AVI Antenna (Desc)'!$K140,[1]!MASTER_LANE_DIRECTION_DESC[#Data],0),0))","v":""}]
[{"$f":"IF('AVI Antenna (Desc)'!D141=\"\",\"\",'AVI Antenna (Desc)'!A141)","v":""},{"$f":"IF('AVI Antenna (Desc)'!C141=\"\",\"\",\"2007\")","v":""},{"$f":"IF('AVI Antenna (Desc)'!F141=\"\",\"\",'AVI Antenna (Desc)'!C141)","v":""},{"$f":"IF('AVI Antenna (Desc)'!D141=\"\",\"\",'AVI Antenna (Desc)'!D141)","v":""},{"$f":"IF('AVI Antenna (Desc)'!E141=\"\",\"\",INDEX([1]ASSET_ID_SOURCE!$A$2:$A$50,MATCH('AVI Antenna (Desc)'!E141,[1]!MASTER_ASSET_ID_SOURCE_DESC,0),0))","v":""},{"$f":"IF('AVI Antenna (Desc)'!G141=\"\",\"\",'AVI Antenna (Desc)'!F141)","v":""},{"$f":"IF('AVI Antenna (Desc)'!G141=\"\",\"\",INDEX([1]ANTENNA_TYPE!$A$2:$A$100,MATCH('AVI Antenna (Desc)'!$G141,[1]!MASTER_ANTENNA_TYPE_DESC[#Data],0),0))","v":""},{"$f":"IF('AVI Antenna (Desc)'!H141=\"\",\"\",INDEX([1]ANTENNA_MANUF!$A$2:$A$100,MATCH('AVI Antenna (Desc)'!$H141,[1]!MASTER_ANTENNA_MANUF_DESC[#Data],0),0))","v":""},{"$f":"IF('AVI Antenna (Desc)'!I141=\"\",\"\",INDEX([1]ANTENNA_MODEL!$A$2:$A$50,MATCH(1,([1]ANTENNA_MODEL!$C$2:$C$50='AVI Antenna (Desc)'!$H141)*([1]ANTENNA_MODEL!$D$2:$D$50='AVI Antenna (Desc)'!$I141),0),0))","v":""},{"$f":"IF('AVI Antenna (Desc)'!J141=\"\",\"\",INDEX([1]LANE_COVERAGE!$A$2:$A$100,MATCH('AVI Antenna (Desc)'!$J141,[1]!MASTER_LANE_COVERAGE_DESC[#Data],0),0))","v":""},{"$f":"IF('AVI Antenna (Desc)'!K141=\"\",\"\",INDEX([1]LANE_DIRECTION!$A$2:$A$100,MATCH('AVI Antenna (Desc)'!$K141,[1]!MASTER_LANE_DIRECTION_DESC[#Data],0),0))","v":""}]
[{"$f":"IF('AVI Antenna (Desc)'!D142=\"\",\"\",'AVI Antenna (Desc)'!A142)","v":""},{"$f":"IF('AVI Antenna (Desc)'!C142=\"\",\"\",\"2007\")","v":""},{"$f":"IF('AVI Antenna (Desc)'!F142=\"\",\"\",'AVI Antenna (Desc)'!C142)","v":""},{"$f":"IF('AVI Antenna (Desc)'!D142=\"\",\"\",'AVI Antenna (Desc)'!D142)","v":""},{"$f":"IF('AVI Antenna (Desc)'!E142=\"\",\"\",INDEX([1]ASSET_ID_SOURCE!$A$2:$A$50,MATCH('AVI Antenna (Desc)'!E142,[1]!MASTER_ASSET_ID_SOURCE_DESC,0),0))","v":""},{"$f":"IF('AVI Antenna (Desc)'!G142=\"\",\"\",'AVI Antenna (Desc)'!F142)","v":""},{"$f":"IF('AVI Antenna (Desc)'!G142=\"\",\"\",INDEX([1]ANTENNA_TYPE!$A$2:$A$100,MATCH('AVI Antenna (Desc)'!$G142,[1]!MASTER_ANTENNA_TYPE_DESC[#Data],0),0))","v":""},{"$f":"IF('AVI Antenna (Desc)'!H142=\"\",\"\",INDEX([1]ANTENNA_MANUF!$A$2:$A$100,MATCH('AVI Antenna (Desc)'!$H142,[1]!MASTER_ANTENNA_MANUF_DESC[#Data],0),0))","v":""},{"$f":"IF('AVI Antenna (Desc)'!I142=\"\",\"\",INDEX([1]ANTENNA_MODEL!$A$2:$A$50,MATCH(1,([1]ANTENNA_MODEL!$C$2:$C$50='AVI Antenna (Desc)'!$H142)*([1]ANTENNA_MODEL!$D$2:$D$50='AVI Antenna (Desc)'!$I142),0),0))","v":""},{"$f":"IF('AVI Antenna (Desc)'!J142=\"\",\"\",INDEX([1]LANE_COVERAGE!$A$2:$A$100,MATCH('AVI Antenna (Desc)'!$J142,[1]!MASTER_LANE_COVERAGE_DESC[#Data],0),0))","v":""},{"$f":"IF('AVI Antenna (Desc)'!K142=\"\",\"\",INDEX([1]LANE_DIRECTION!$A$2:$A$100,MATCH('AVI Antenna (Desc)'!$K142,[1]!MASTER_LANE_DIRECTION_DESC[#Data],0),0))","v":""}]
[{"$f":"IF('AVI Antenna (Desc)'!D143=\"\",\"\",'AVI Antenna (Desc)'!A143)","v":""},{"$f":"IF('AVI Antenna (Desc)'!C143=\"\",\"\",\"2007\")","v":""},{"$f":"IF('AVI Antenna (Desc)'!F143=\"\",\"\",'AVI Antenna (Desc)'!C143)","v":""},{"$f":"IF('AVI Antenna (Desc)'!D143=\"\",\"\",'AVI Antenna (Desc)'!D143)","v":""},{"$f":"IF('AVI Antenna (Desc)'!E143=\"\",\"\",INDEX([1]ASSET_ID_SOURCE!$A$2:$A$50,MATCH('AVI Antenna (Desc)'!E143,[1]!MASTER_ASSET_ID_SOURCE_DESC,0),0))","v":""},{"$f":"IF('AVI Antenna (Desc)'!G143=\"\",\"\",'AVI Antenna (Desc)'!F143)","v":""},{"$f":"IF('AVI Antenna (Desc)'!G143=\"\",\"\",INDEX([1]ANTENNA_TYPE!$A$2:$A$100,MATCH('AVI Antenna (Desc)'!$G143,[1]!MASTER_ANTENNA_TYPE_DESC[#Data],0),0))","v":""},{"$f":"IF('AVI Antenna (Desc)'!H143=\"\",\"\",INDEX([1]ANTENNA_MANUF!$A$2:$A$100,MATCH('AVI Antenna (Desc)'!$H143,[1]!MASTER_ANTENNA_MANUF_DESC[#Data],0),0))","v":""},{"$f":"IF('AVI Antenna (Desc)'!I143=\"\",\"\",INDEX([1]ANTENNA_MODEL!$A$2:$A$50,MATCH(1,([1]ANTENNA_MODEL!$C$2:$C$50='AVI Antenna (Desc)'!$H143)*([1]ANTENNA_MODEL!$D$2:$D$50='AVI Antenna (Desc)'!$I143),0),0))","v":""},{"$f":"IF('AVI Antenna (Desc)'!J143=\"\",\"\",INDEX([1]LANE_COVERAGE!$A$2:$A$100,MATCH('AVI Antenna (Desc)'!$J143,[1]!MASTER_LANE_COVERAGE_DESC[#Data],0),0))","v":""},{"$f":"IF('AVI Antenna (Desc)'!K143=\"\",\"\",INDEX([1]LANE_DIRECTION!$A$2:$A$100,MATCH('AVI Antenna (Desc)'!$K143,[1]!MASTER_LANE_DIRECTION_DESC[#Data],0),0))","v":""}]
[{"$f":"IF('AVI Antenna (Desc)'!D144=\"\",\"\",'AVI Antenna (Desc)'!A144)","v":""},{"$f":"IF('AVI Antenna (Desc)'!C144=\"\",\"\",\"2007\")","v":""},{"$f":"IF('AVI Antenna (Desc)'!F144=\"\",\"\",'AVI Antenna (Desc)'!C144)","v":""},{"$f":"IF('AVI Antenna (Desc)'!D144=\"\",\"\",'AVI Antenna (Desc)'!D144)","v":""},{"$f":"IF('AVI Antenna (Desc)'!E144=\"\",\"\",INDEX([1]ASSET_ID_SOURCE!$A$2:$A$50,MATCH('AVI Antenna (Desc)'!E144,[1]!MASTER_ASSET_ID_SOURCE_DESC,0),0))","v":""},{"$f":"IF('AVI Antenna (Desc)'!G144=\"\",\"\",'AVI Antenna (Desc)'!F144)","v":""},{"$f":"IF('AVI Antenna (Desc)'!G144=\"\",\"\",INDEX([1]ANTENNA_TYPE!$A$2:$A$100,MATCH('AVI Antenna (Desc)'!$G144,[1]!MASTER_ANTENNA_TYPE_DESC[#Data],0),0))","v":""},{"$f":"IF('AVI Antenna (Desc)'!H144=\"\",\"\",INDEX([1]ANTENNA_MANUF!$A$2:$A$100,MATCH('AVI Antenna (Desc)'!$H144,[1]!MASTER_ANTENNA_MANUF_DESC[#Data],0),0))","v":""},{"$f":"IF('AVI Antenna (Desc)'!I144=\"\",\"\",INDEX([1]ANTENNA_MODEL!$A$2:$A$50,MATCH(1,([1]ANTENNA_MODEL!$C$2:$C$50='AVI Antenna (Desc)'!$H144)*([1]ANTENNA_MODEL!$D$2:$D$50='AVI Antenna (Desc)'!$I144),0),0))","v":""},{"$f":"IF('AVI Antenna (Desc)'!J144=\"\",\"\",INDEX([1]LANE_COVERAGE!$A$2:$A$100,MATCH('AVI Antenna (Desc)'!$J144,[1]!MASTER_LANE_COVERAGE_DESC[#Data],0),0))","v":""},{"$f":"IF('AVI Antenna (Desc)'!K144=\"\",\"\",INDEX([1]LANE_DIRECTION!$A$2:$A$100,MATCH('AVI Antenna (Desc)'!$K144,[1]!MASTER_LANE_DIRECTION_DESC[#Data],0),0))","v":""}]
[{"$f":"IF('AVI Antenna (Desc)'!D145=\"\",\"\",'AVI Antenna (Desc)'!A145)","v":""},{"$f":"IF('AVI Antenna (Desc)'!C145=\"\",\"\",\"2007\")","v":""},{"$f":"IF('AVI Antenna (Desc)'!F145=\"\",\"\",'AVI Antenna (Desc)'!C145)","v":""},{"$f":"IF('AVI Antenna (Desc)'!D145=\"\",\"\",'AVI Antenna (Desc)'!D145)","v":""},{"$f":"IF('AVI Antenna (Desc)'!E145=\"\",\"\",INDEX([1]ASSET_ID_SOURCE!$A$2:$A$50,MATCH('AVI Antenna (Desc)'!E145,[1]!MASTER_ASSET_ID_SOURCE_DESC,0),0))","v":""},{"$f":"IF('AVI Antenna (Desc)'!G145=\"\",\"\",'AVI Antenna (Desc)'!F145)","v":""},{"$f":"IF('AVI Antenna (Desc)'!G145=\"\",\"\",INDEX([1]ANTENNA_TYPE!$A$2:$A$100,MATCH('AVI Antenna (Desc)'!$G145,[1]!MASTER_ANTENNA_TYPE_DESC[#Data],0),0))","v":""},{"$f":"IF('AVI Antenna (Desc)'!H145=\"\",\"\",INDEX([1]ANTENNA_MANUF!$A$2:$A$100,MATCH('AVI Antenna (Desc)'!$H145,[1]!MASTER_ANTENNA_MANUF_DESC[#Data],0),0))","v":""},{"$f":"IF('AVI Antenna (Desc)'!I145=\"\",\"\",INDEX([1]ANTENNA_MODEL!$A$2:$A$50,MATCH(1,([1]ANTENNA_MODEL!$C$2:$C$50='AVI Antenna (Desc)'!$H145)*([1]ANTENNA_MODEL!$D$2:$D$50='AVI Antenna (Desc)'!$I145),0),0))","v":""},{"$f":"IF('AVI Antenna (Desc)'!J145=\"\",\"\",INDEX([1]LANE_COVERAGE!$A$2:$A$100,MATCH('AVI Antenna (Desc)'!$J145,[1]!MASTER_LANE_COVERAGE_DESC[#Data],0),0))","v":""},{"$f":"IF('AVI Antenna (Desc)'!K145=\"\",\"\",INDEX([1]LANE_DIRECTION!$A$2:$A$100,MATCH('AVI Antenna (Desc)'!$K145,[1]!MASTER_LANE_DIRECTION_DESC[#Data],0),0))","v":""}]
[{"$f":"IF('AVI Antenna (Desc)'!D146=\"\",\"\",'AVI Antenna (Desc)'!A146)","v":""},{"$f":"IF('AVI Antenna (Desc)'!C146=\"\",\"\",\"2007\")","v":""},{"$f":"IF('AVI Antenna (Desc)'!F146=\"\",\"\",'AVI Antenna (Desc)'!C146)","v":""},{"$f":"IF('AVI Antenna (Desc)'!D146=\"\",\"\",'AVI Antenna (Desc)'!D146)","v":""},{"$f":"IF('AVI Antenna (Desc)'!E146=\"\",\"\",INDEX([1]ASSET_ID_SOURCE!$A$2:$A$50,MATCH('AVI Antenna (Desc)'!E146,[1]!MASTER_ASSET_ID_SOURCE_DESC,0),0))","v":""},{"$f":"IF('AVI Antenna (Desc)'!G146=\"\",\"\",'AVI Antenna (Desc)'!F146)","v":""},{"$f":"IF('AVI Antenna (Desc)'!G146=\"\",\"\",INDEX([1]ANTENNA_TYPE!$A$2:$A$100,MATCH('AVI Antenna (Desc)'!$G146,[1]!MASTER_ANTENNA_TYPE_DESC[#Data],0),0))","v":""},{"$f":"IF('AVI Antenna (Desc)'!H146=\"\",\"\",INDEX([1]ANTENNA_MANUF!$A$2:$A$100,MATCH('AVI Antenna (Desc)'!$H146,[1]!MASTER_ANTENNA_MANUF_DESC[#Data],0),0))","v":""},{"$f":"IF('AVI Antenna (Desc)'!I146=\"\",\"\",INDEX([1]ANTENNA_MODEL!$A$2:$A$50,MATCH(1,([1]ANTENNA_MODEL!$C$2:$C$50='AVI Antenna (Desc)'!$H146)*([1]ANTENNA_MODEL!$D$2:$D$50='AVI Antenna (Desc)'!$I146),0),0))","v":""},{"$f":"IF('AVI Antenna (Desc)'!J146=\"\",\"\",INDEX([1]LANE_COVERAGE!$A$2:$A$100,MATCH('AVI Antenna (Desc)'!$J146,[1]!MASTER_LANE_COVERAGE_DESC[#Data],0),0))","v":""},{"$f":"IF('AVI Antenna (Desc)'!K146=\"\",\"\",INDEX([1]LANE_DIRECTION!$A$2:$A$100,MATCH('AVI Antenna (Desc)'!$K146,[1]!MASTER_LANE_DIRECTION_DESC[#Data],0),0))","v":""}]
[{"$f":"IF('AVI Antenna (Desc)'!D147=\"\",\"\",'AVI Antenna (Desc)'!A147)","v":""},{"$f":"IF('AVI Antenna (Desc)'!C147=\"\",\"\",\"2007\")","v":""},{"$f":"IF('AVI Antenna (Desc)'!F147=\"\",\"\",'AVI Antenna (Desc)'!C147)","v":""},{"$f":"IF('AVI Antenna (Desc)'!D147=\"\",\"\",'AVI Antenna (Desc)'!D147)","v":""},{"$f":"IF('AVI Antenna (Desc)'!E147=\"\",\"\",INDEX([1]ASSET_ID_SOURCE!$A$2:$A$50,MATCH('AVI Antenna (Desc)'!E147,[1]!MASTER_ASSET_ID_SOURCE_DESC,0),0))","v":""},{"$f":"IF('AVI Antenna (Desc)'!G147=\"\",\"\",'AVI Antenna (Desc)'!F147)","v":""},{"$f":"IF('AVI Antenna (Desc)'!G147=\"\",\"\",INDEX([1]ANTENNA_TYPE!$A$2:$A$100,MATCH('AVI Antenna (Desc)'!$G147,[1]!MASTER_ANTENNA_TYPE_DESC[#Data],0),0))","v":""},{"$f":"IF('AVI Antenna (Desc)'!H147=\"\",\"\",INDEX([1]ANTENNA_MANUF!$A$2:$A$100,MATCH('AVI Antenna (Desc)'!$H147,[1]!MASTER_ANTENNA_MANUF_DESC[#Data],0),0))","v":""},{"$f":"IF('AVI Antenna (Desc)'!I147=\"\",\"\",INDEX([1]ANTENNA_MODEL!$A$2:$A$50,MATCH(1,([1]ANTENNA_MODEL!$C$2:$C$50='AVI Antenna (Desc)'!$H147)*([1]ANTENNA_MODEL!$D$2:$D$50='AVI Antenna (Desc)'!$I147),0),0))","v":""},{"$f":"IF('AVI Antenna (Desc)'!J147=\"\",\"\",INDEX([1]LANE_COVERAGE!$A$2:$A$100,MATCH('AVI Antenna (Desc)'!$J147,[1]!MASTER_LANE_COVERAGE_DESC[#Data],0),0))","v":""},{"$f":"IF('AVI Antenna (Desc)'!K147=\"\",\"\",INDEX([1]LANE_DIRECTION!$A$2:$A$100,MATCH('AVI Antenna (Desc)'!$K147,[1]!MASTER_LANE_DIRECTION_DESC[#Data],0),0))","v":""}]
[{"$f":"IF('AVI Antenna (Desc)'!D148=\"\",\"\",'AVI Antenna (Desc)'!A148)","v":""},{"$f":"IF('AVI Antenna (Desc)'!C148=\"\",\"\",\"2007\")","v":""},{"$f":"IF('AVI Antenna (Desc)'!F148=\"\",\"\",'AVI Antenna (Desc)'!C148)","v":""},{"$f":"IF('AVI Antenna (Desc)'!D148=\"\",\"\",'AVI Antenna (Desc)'!D148)","v":""},{"$f":"IF('AVI Antenna (Desc)'!E148=\"\",\"\",INDEX([1]ASSET_ID_SOURCE!$A$2:$A$50,MATCH('AVI Antenna (Desc)'!E148,[1]!MASTER_ASSET_ID_SOURCE_DESC,0),0))","v":""},{"$f":"IF('AVI Antenna (Desc)'!G148=\"\",\"\",'AVI Antenna (Desc)'!F148)","v":""},{"$f":"IF('AVI Antenna (Desc)'!G148=\"\",\"\",INDEX([1]ANTENNA_TYPE!$A$2:$A$100,MATCH('AVI Antenna (Desc)'!$G148,[1]!MASTER_ANTENNA_TYPE_DESC[#Data],0),0))","v":""},{"$f":"IF('AVI Antenna (Desc)'!H148=\"\",\"\",INDEX([1]ANTENNA_MANUF!$A$2:$A$100,MATCH('AVI Antenna (Desc)'!$H148,[1]!MASTER_ANTENNA_MANUF_DESC[#Data],0),0))","v":""},{"$f":"IF('AVI Antenna (Desc)'!I148=\"\",\"\",INDEX([1]ANTENNA_MODEL!$A$2:$A$50,MATCH(1,([1]ANTENNA_MODEL!$C$2:$C$50='AVI Antenna (Desc)'!$H148)*([1]ANTENNA_MODEL!$D$2:$D$50='AVI Antenna (Desc)'!$I148),0),0))","v":""},{"$f":"IF('AVI Antenna (Desc)'!J148=\"\",\"\",INDEX([1]LANE_COVERAGE!$A$2:$A$100,MATCH('AVI Antenna (Desc)'!$J148,[1]!MASTER_LANE_COVERAGE_DESC[#Data],0),0))","v":""},{"$f":"IF('AVI Antenna (Desc)'!K148=\"\",\"\",INDEX([1]LANE_DIRECTION!$A$2:$A$100,MATCH('AVI Antenna (Desc)'!$K148,[1]!MASTER_LANE_DIRECTION_DESC[#Data],0),0))","v":""}]
[{"$f":"IF('AVI Antenna (Desc)'!D149=\"\",\"\",'AVI Antenna (Desc)'!A149)","v":""},{"$f":"IF('AVI Antenna (Desc)'!C149=\"\",\"\",\"2007\")","v":""},{"$f":"IF('AVI Antenna (Desc)'!F149=\"\",\"\",'AVI Antenna (Desc)'!C149)","v":""},{"$f":"IF('AVI Antenna (Desc)'!D149=\"\",\"\",'AVI Antenna (Desc)'!D149)","v":""},{"$f":"IF('AVI Antenna (Desc)'!E149=\"\",\"\",INDEX([1]ASSET_ID_SOURCE!$A$2:$A$50,MATCH('AVI Antenna (Desc)'!E149,[1]!MASTER_ASSET_ID_SOURCE_DESC,0),0))","v":""},{"$f":"IF('AVI Antenna (Desc)'!G149=\"\",\"\",'AVI Antenna (Desc)'!F149)","v":""},{"$f":"IF('AVI Antenna (Desc)'!G149=\"\",\"\",INDEX([1]ANTENNA_TYPE!$A$2:$A$100,MATCH('AVI Antenna (Desc)'!$G149,[1]!MASTER_ANTENNA_TYPE_DESC[#Data],0),0))","v":""},{"$f":"IF('AVI Antenna (Desc)'!H149=\"\",\"\",INDEX([1]ANTENNA_MANUF!$A$2:$A$100,MATCH('AVI Antenna (Desc)'!$H149,[1]!MASTER_ANTENNA_MANUF_DESC[#Data],0),0))","v":""},{"$f":"IF('AVI Antenna (Desc)'!I149=\"\",\"\",INDEX([1]ANTENNA_MODEL!$A$2:$A$50,MATCH(1,([1]ANTENNA_MODEL!$C$2:$C$50='AVI Antenna (Desc)'!$H149)*([1]ANTENNA_MODEL!$D$2:$D$50='AVI Antenna (Desc)'!$I149),0),0))","v":""},{"$f":"IF('AVI Antenna (Desc)'!J149=\"\",\"\",INDEX([1]LANE_COVERAGE!$A$2:$A$100,MATCH('AVI Antenna (Desc)'!$J149,[1]!MASTER_LANE_COVERAGE_DESC[#Data],0),0))","v":""},{"$f":"IF('AVI Antenna (Desc)'!K149=\"\",\"\",INDEX([1]LANE_DIRECTION!$A$2:$A$100,MATCH('AVI Antenna (Desc)'!$K149,[1]!MASTER_LANE_DIRECTION_DESC[#Data],0),0))","v":""}]
[{"$f":"IF('AVI Antenna (Desc)'!D150=\"\",\"\",'AVI Antenna (Desc)'!A150)","v":""},{"$f":"IF('AVI Antenna (Desc)'!C150=\"\",\"\",\"2007\")","v":""},{"$f":"IF('AVI Antenna (Desc)'!F150=\"\",\"\",'AVI Antenna (Desc)'!C150)","v":""},{"$f":"IF('AVI Antenna (Desc)'!D150=\"\",\"\",'AVI Antenna (Desc)'!D150)","v":""},{"$f":"IF('AVI Antenna (Desc)'!E150=\"\",\"\",INDEX([1]ASSET_ID_SOURCE!$A$2:$A$50,MATCH('AVI Antenna (Desc)'!E150,[1]!MASTER_ASSET_ID_SOURCE_DESC,0),0))","v":""},{"$f":"IF('AVI Antenna (Desc)'!G150=\"\",\"\",'AVI Antenna (Desc)'!F150)","v":""},{"$f":"IF('AVI Antenna (Desc)'!G150=\"\",\"\",INDEX([1]ANTENNA_TYPE!$A$2:$A$100,MATCH('AVI Antenna (Desc)'!$G150,[1]!MASTER_ANTENNA_TYPE_DESC[#Data],0),0))","v":""},{"$f":"IF('AVI Antenna (Desc)'!H150=\"\",\"\",INDEX([1]ANTENNA_MANUF!$A$2:$A$100,MATCH('AVI Antenna (Desc)'!$H150,[1]!MASTER_ANTENNA_MANUF_DESC[#Data],0),0))","v":""},{"$f":"IF('AVI Antenna (Desc)'!I150=\"\",\"\",INDEX([1]ANTENNA_MODEL!$A$2:$A$50,MATCH(1,([1]ANTENNA_MODEL!$C$2:$C$50='AVI Antenna (Desc)'!$H150)*([1]ANTENNA_MODEL!$D$2:$D$50='AVI Antenna (Desc)'!$I150),0),0))","v":""},{"$f":"IF('AVI Antenna (Desc)'!J150=\"\",\"\",INDEX([1]LANE_COVERAGE!$A$2:$A$100,MATCH('AVI Antenna (Desc)'!$J150,[1]!MASTER_LANE_COVERAGE_DESC[#Data],0),0))","v":""},{"$f":"IF('AVI Antenna (Desc)'!K150=\"\",\"\",INDEX([1]LANE_DIRECTION!$A$2:$A$100,MATCH('AVI Antenna (Desc)'!$K150,[1]!MASTER_LANE_DIRECTION_DESC[#Data],0),0))","v":""}]
[{"$f":"IF('AVI Antenna (Desc)'!D151=\"\",\"\",'AVI Antenna (Desc)'!A151)","v":""},{"$f":"IF('AVI Antenna (Desc)'!C151=\"\",\"\",\"2007\")","v":""},{"$f":"IF('AVI Antenna (Desc)'!F151=\"\",\"\",'AVI Antenna (Desc)'!C151)","v":""},{"$f":"IF('AVI Antenna (Desc)'!D151=\"\",\"\",'AVI Antenna (Desc)'!D151)","v":""},{"$f":"IF('AVI Antenna (Desc)'!E151=\"\",\"\",INDEX([1]ASSET_ID_SOURCE!$A$2:$A$50,MATCH('AVI Antenna (Desc)'!E151,[1]!MASTER_ASSET_ID_SOURCE_DESC,0),0))","v":""},{"$f":"IF('AVI Antenna (Desc)'!G151=\"\",\"\",'AVI Antenna (Desc)'!F151)","v":""},{"$f":"IF('AVI Antenna (Desc)'!G151=\"\",\"\",INDEX([1]ANTENNA_TYPE!$A$2:$A$100,MATCH('AVI Antenna (Desc)'!$G151,[1]!MASTER_ANTENNA_TYPE_DESC[#Data],0),0))","v":""},{"$f":"IF('AVI Antenna (Desc)'!H151=\"\",\"\",INDEX([1]ANTENNA_MANUF!$A$2:$A$100,MATCH('AVI Antenna (Desc)'!$H151,[1]!MASTER_ANTENNA_MANUF_DESC[#Data],0),0))","v":""},{"$f":"IF('AVI Antenna (Desc)'!I151=\"\",\"\",INDEX([1]ANTENNA_MODEL!$A$2:$A$50,MATCH(1,([1]ANTENNA_MODEL!$C$2:$C$50='AVI Antenna (Desc)'!$H151)*([1]ANTENNA_MODEL!$D$2:$D$50='AVI Antenna (Desc)'!$I151),0),0))","v":""},{"$f":"IF('AVI Antenna (Desc)'!J151=\"\",\"\",INDEX([1]LANE_COVERAGE!$A$2:$A$100,MATCH('AVI Antenna (Desc)'!$J151,[1]!MASTER_LANE_COVERAGE_DESC[#Data],0),0))","v":""},{"$f":"IF('AVI Antenna (Desc)'!K151=\"\",\"\",INDEX([1]LANE_DIRECTION!$A$2:$A$100,MATCH('AVI Antenna (Desc)'!$K151,[1]!MASTER_LANE_DIRECTION_DESC[#Data],0),0))","v":""}]
[{"$f":"IF('AVI Antenna (Desc)'!D152=\"\",\"\",'AVI Antenna (Desc)'!A152)","v":""},{"$f":"IF('AVI Antenna (Desc)'!C152=\"\",\"\",\"2007\")","v":""},{"$f":"IF('AVI Antenna (Desc)'!F152=\"\",\"\",'AVI Antenna (Desc)'!C152)","v":""},{"$f":"IF('AVI Antenna (Desc)'!D152=\"\",\"\",'AVI Antenna (Desc)'!D152)","v":""},{"$f":"IF('AVI Antenna (Desc)'!E152=\"\",\"\",INDEX([1]ASSET_ID_SOURCE!$A$2:$A$50,MATCH('AVI Antenna (Desc)'!E152,[1]!MASTER_ASSET_ID_SOURCE_DESC,0),0))","v":""},{"$f":"IF('AVI Antenna (Desc)'!G152=\"\",\"\",'AVI Antenna (Desc)'!F152)","v":""},{"$f":"IF('AVI Antenna (Desc)'!G152=\"\",\"\",INDEX([1]ANTENNA_TYPE!$A$2:$A$100,MATCH('AVI Antenna (Desc)'!$G152,[1]!MASTER_ANTENNA_TYPE_DESC[#Data],0),0))","v":""},{"$f":"IF('AVI Antenna (Desc)'!H152=\"\",\"\",INDEX([1]ANTENNA_MANUF!$A$2:$A$100,MATCH('AVI Antenna (Desc)'!$H152,[1]!MASTER_ANTENNA_MANUF_DESC[#Data],0),0))","v":""},{"$f":"IF('AVI Antenna (Desc)'!I152=\"\",\"\",INDEX([1]ANTENNA_MODEL!$A$2:$A$50,MATCH(1,([1]ANTENNA_MODEL!$C$2:$C$50='AVI Antenna (Desc)'!$H152)*([1]ANTENNA_MODEL!$D$2:$D$50='AVI Antenna (Desc)'!$I152),0),0))","v":""},{"$f":"IF('AVI Antenna (Desc)'!J152=\"\",\"\",INDEX([1]LANE_COVERAGE!$A$2:$A$100,MATCH('AVI Antenna (Desc)'!$J152,[1]!MASTER_LANE_COVERAGE_DESC[#Data],0),0))","v":""},{"$f":"IF('AVI Antenna (Desc)'!K152=\"\",\"\",INDEX([1]LANE_DIRECTION!$A$2:$A$100,MATCH('AVI Antenna (Desc)'!$K152,[1]!MASTER_LANE_DIRECTION_DESC[#Data],0),0))","v":""}]
[{"$f":"IF('AVI Antenna (Desc)'!D153=\"\",\"\",'AVI Antenna (Desc)'!A153)","v":""},{"$f":"IF('AVI Antenna (Desc)'!C153=\"\",\"\",\"2007\")","v":""},{"$f":"IF('AVI Antenna (Desc)'!F153=\"\",\"\",'AVI Antenna (Desc)'!C153)","v":""},{"$f":"IF('AVI Antenna (Desc)'!D153=\"\",\"\",'AVI Antenna (Desc)'!D153)","v":""},{"$f":"IF('AVI Antenna (Desc)'!E153=\"\",\"\",INDEX([1]ASSET_ID_SOURCE!$A$2:$A$50,MATCH('AVI Antenna (Desc)'!E153,[1]!MASTER_ASSET_ID_SOURCE_DESC,0),0))","v":""},{"$f":"IF('AVI Antenna (Desc)'!G153=\"\",\"\",'AVI Antenna (Desc)'!F153)","v":""},{"$f":"IF('AVI Antenna (Desc)'!G153=\"\",\"\",INDEX([1]ANTENNA_TYPE!$A$2:$A$100,MATCH('AVI Antenna (Desc)'!$G153,[1]!MASTER_ANTENNA_TYPE_DESC[#Data],0),0))","v":""},{"$f":"IF('AVI Antenna (Desc)'!H153=\"\",\"\",INDEX([1]ANTENNA_MANUF!$A$2:$A$100,MATCH('AVI Antenna (Desc)'!$H153,[1]!MASTER_ANTENNA_MANUF_DESC[#Data],0),0))","v":""},{"$f":"IF('AVI Antenna (Desc)'!I153=\"\",\"\",INDEX([1]ANTENNA_MODEL!$A$2:$A$50,MATCH(1,([1]ANTENNA_MODEL!$C$2:$C$50='AVI Antenna (Desc)'!$H153)*([1]ANTENNA_MODEL!$D$2:$D$50='AVI Antenna (Desc)'!$I153),0),0))","v":""},{"$f":"IF('AVI Antenna (Desc)'!J153=\"\",\"\",INDEX([1]LANE_COVERAGE!$A$2:$A$100,MATCH('AVI Antenna (Desc)'!$J153,[1]!MASTER_LANE_COVERAGE_DESC[#Data],0),0))","v":""},{"$f":"IF('AVI Antenna (Desc)'!K153=\"\",\"\",INDEX([1]LANE_DIRECTION!$A$2:$A$100,MATCH('AVI Antenna (Desc)'!$K153,[1]!MASTER_LANE_DIRECTION_DESC[#Data],0),0))","v":""}]
[{"$f":"IF('AVI Antenna (Desc)'!D154=\"\",\"\",'AVI Antenna (Desc)'!A154)","v":""},{"$f":"IF('AVI Antenna (Desc)'!C154=\"\",\"\",\"2007\")","v":""},{"$f":"IF('AVI Antenna (Desc)'!F154=\"\",\"\",'AVI Antenna (Desc)'!C154)","v":""},{"$f":"IF('AVI Antenna (Desc)'!D154=\"\",\"\",'AVI Antenna (Desc)'!D154)","v":""},{"$f":"IF('AVI Antenna (Desc)'!E154=\"\",\"\",INDEX([1]ASSET_ID_SOURCE!$A$2:$A$50,MATCH('AVI Antenna (Desc)'!E154,[1]!MASTER_ASSET_ID_SOURCE_DESC,0),0))","v":""},{"$f":"IF('AVI Antenna (Desc)'!G154=\"\",\"\",'AVI Antenna (Desc)'!F154)","v":""},{"$f":"IF('AVI Antenna (Desc)'!G154=\"\",\"\",INDEX([1]ANTENNA_TYPE!$A$2:$A$100,MATCH('AVI Antenna (Desc)'!$G154,[1]!MASTER_ANTENNA_TYPE_DESC[#Data],0),0))","v":""},{"$f":"IF('AVI Antenna (Desc)'!H154=\"\",\"\",INDEX([1]ANTENNA_MANUF!$A$2:$A$100,MATCH('AVI Antenna (Desc)'!$H154,[1]!MASTER_ANTENNA_MANUF_DESC[#Data],0),0))","v":""},{"$f":"IF('AVI Antenna (Desc)'!I154=\"\",\"\",INDEX([1]ANTENNA_MODEL!$A$2:$A$50,MATCH(1,([1]ANTENNA_MODEL!$C$2:$C$50='AVI Antenna (Desc)'!$H154)*([1]ANTENNA_MODEL!$D$2:$D$50='AVI Antenna (Desc)'!$I154),0),0))","v":""},{"$f":"IF('AVI Antenna (Desc)'!J154=\"\",\"\",INDEX([1]LANE_COVERAGE!$A$2:$A$100,MATCH('AVI Antenna (Desc)'!$J154,[1]!MASTER_LANE_COVERAGE_DESC[#Data],0),0))","v":""},{"$f":"IF('AVI Antenna (Desc)'!K154=\"\",\"\",INDEX([1]LANE_DIRECTION!$A$2:$A$100,MATCH('AVI Antenna (Desc)'!$K154,[1]!MASTER_LANE_DIRECTION_DESC[#Data],0),0))","v":""}]
[{"$f":"IF('AVI Antenna (Desc)'!D155=\"\",\"\",'AVI Antenna (Desc)'!A155)","v":""},{"$f":"IF('AVI Antenna (Desc)'!C155=\"\",\"\",\"2007\")","v":""},{"$f":"IF('AVI Antenna (Desc)'!F155=\"\",\"\",'AVI Antenna (Desc)'!C155)","v":""},{"$f":"IF('AVI Antenna (Desc)'!D155=\"\",\"\",'AVI Antenna (Desc)'!D155)","v":""},{"$f":"IF('AVI Antenna (Desc)'!E155=\"\",\"\",INDEX([1]ASSET_ID_SOURCE!$A$2:$A$50,MATCH('AVI Antenna (Desc)'!E155,[1]!MASTER_ASSET_ID_SOURCE_DESC,0),0))","v":""},{"$f":"IF('AVI Antenna (Desc)'!G155=\"\",\"\",'AVI Antenna (Desc)'!F155)","v":""},{"$f":"IF('AVI Antenna (Desc)'!G155=\"\",\"\",INDEX([1]ANTENNA_TYPE!$A$2:$A$100,MATCH('AVI Antenna (Desc)'!$G155,[1]!MASTER_ANTENNA_TYPE_DESC[#Data],0),0))","v":""},{"$f":"IF('AVI Antenna (Desc)'!H155=\"\",\"\",INDEX([1]ANTENNA_MANUF!$A$2:$A$100,MATCH('AVI Antenna (Desc)'!$H155,[1]!MASTER_ANTENNA_MANUF_DESC[#Data],0),0))","v":""},{"$f":"IF('AVI Antenna (Desc)'!I155=\"\",\"\",INDEX([1]ANTENNA_MODEL!$A$2:$A$50,MATCH(1,([1]ANTENNA_MODEL!$C$2:$C$50='AVI Antenna (Desc)'!$H155)*([1]ANTENNA_MODEL!$D$2:$D$50='AVI Antenna (Desc)'!$I155),0),0))","v":""},{"$f":"IF('AVI Antenna (Desc)'!J155=\"\",\"\",INDEX([1]LANE_COVERAGE!$A$2:$A$100,MATCH('AVI Antenna (Desc)'!$J155,[1]!MASTER_LANE_COVERAGE_DESC[#Data],0),0))","v":""},{"$f":"IF('AVI Antenna (Desc)'!K155=\"\",\"\",INDEX([1]LANE_DIRECTION!$A$2:$A$100,MATCH('AVI Antenna (Desc)'!$K155,[1]!MASTER_LANE_DIRECTION_DESC[#Data],0),0))","v":""}]
[{"$f":"IF('AVI Antenna (Desc)'!D156=\"\",\"\",'AVI Antenna (Desc)'!A156)","v":""},{"$f":"IF('AVI Antenna (Desc)'!C156=\"\",\"\",\"2007\")","v":""},{"$f":"IF('AVI Antenna (Desc)'!F156=\"\",\"\",'AVI Antenna (Desc)'!C156)","v":""},{"$f":"IF('AVI Antenna (Desc)'!D156=\"\",\"\",'AVI Antenna (Desc)'!D156)","v":""},{"$f":"IF('AVI Antenna (Desc)'!E156=\"\",\"\",INDEX([1]ASSET_ID_SOURCE!$A$2:$A$50,MATCH('AVI Antenna (Desc)'!E156,[1]!MASTER_ASSET_ID_SOURCE_DESC,0),0))","v":""},{"$f":"IF('AVI Antenna (Desc)'!G156=\"\",\"\",'AVI Antenna (Desc)'!F156)","v":""},{"$f":"IF('AVI Antenna (Desc)'!G156=\"\",\"\",INDEX([1]ANTENNA_TYPE!$A$2:$A$100,MATCH('AVI Antenna (Desc)'!$G156,[1]!MASTER_ANTENNA_TYPE_DESC[#Data],0),0))","v":""},{"$f":"IF('AVI Antenna (Desc)'!H156=\"\",\"\",INDEX([1]ANTENNA_MANUF!$A$2:$A$100,MATCH('AVI Antenna (Desc)'!$H156,[1]!MASTER_ANTENNA_MANUF_DESC[#Data],0),0))","v":""},{"$f":"IF('AVI Antenna (Desc)'!I156=\"\",\"\",INDEX([1]ANTENNA_MODEL!$A$2:$A$50,MATCH(1,([1]ANTENNA_MODEL!$C$2:$C$50='AVI Antenna (Desc)'!$H156)*([1]ANTENNA_MODEL!$D$2:$D$50='AVI Antenna (Desc)'!$I156),0),0))","v":""},{"$f":"IF('AVI Antenna (Desc)'!J156=\"\",\"\",INDEX([1]LANE_COVERAGE!$A$2:$A$100,MATCH('AVI Antenna (Desc)'!$J156,[1]!MASTER_LANE_COVERAGE_DESC[#Data],0),0))","v":""},{"$f":"IF('AVI Antenna (Desc)'!K156=\"\",\"\",INDEX([1]LANE_DIRECTION!$A$2:$A$100,MATCH('AVI Antenna (Desc)'!$K156,[1]!MASTER_LANE_DIRECTION_DESC[#Data],0),0))","v":""}]
[{"$f":"IF('AVI Antenna (Desc)'!D157=\"\",\"\",'AVI Antenna (Desc)'!A157)","v":""},{"$f":"IF('AVI Antenna (Desc)'!C157=\"\",\"\",\"2007\")","v":""},{"$f":"IF('AVI Antenna (Desc)'!F157=\"\",\"\",'AVI Antenna (Desc)'!C157)","v":""},{"$f":"IF('AVI Antenna (Desc)'!D157=\"\",\"\",'AVI Antenna (Desc)'!D157)","v":""},{"$f":"IF('AVI Antenna (Desc)'!E157=\"\",\"\",INDEX([1]ASSET_ID_SOURCE!$A$2:$A$50,MATCH('AVI Antenna (Desc)'!E157,[1]!MASTER_ASSET_ID_SOURCE_DESC,0),0))","v":""},{"$f":"IF('AVI Antenna (Desc)'!G157=\"\",\"\",'AVI Antenna (Desc)'!F157)","v":""},{"$f":"IF('AVI Antenna (Desc)'!G157=\"\",\"\",INDEX([1]ANTENNA_TYPE!$A$2:$A$100,MATCH('AVI Antenna (Desc)'!$G157,[1]!MASTER_ANTENNA_TYPE_DESC[#Data],0),0))","v":""},{"$f":"IF('AVI Antenna (Desc)'!H157=\"\",\"\",INDEX([1]ANTENNA_MANUF!$A$2:$A$100,MATCH('AVI Antenna (Desc)'!$H157,[1]!MASTER_ANTENNA_MANUF_DESC[#Data],0),0))","v":""},{"$f":"IF('AVI Antenna (Desc)'!I157=\"\",\"\",INDEX([1]ANTENNA_MODEL!$A$2:$A$50,MATCH(1,([1]ANTENNA_MODEL!$C$2:$C$50='AVI Antenna (Desc)'!$H157)*([1]ANTENNA_MODEL!$D$2:$D$50='AVI Antenna (Desc)'!$I157),0),0))","v":""},{"$f":"IF('AVI Antenna (Desc)'!J157=\"\",\"\",INDEX([1]LANE_COVERAGE!$A$2:$A$100,MATCH('AVI Antenna (Desc)'!$J157,[1]!MASTER_LANE_COVERAGE_DESC[#Data],0),0))","v":""},{"$f":"IF('AVI Antenna (Desc)'!K157=\"\",\"\",INDEX([1]LANE_DIRECTION!$A$2:$A$100,MATCH('AVI Antenna (Desc)'!$K157,[1]!MASTER_LANE_DIRECTION_DESC[#Data],0),0))","v":""}]
[{"$f":"IF('AVI Antenna (Desc)'!D158=\"\",\"\",'AVI Antenna (Desc)'!A158)","v":""},{"$f":"IF('AVI Antenna (Desc)'!C158=\"\",\"\",\"2007\")","v":""},{"$f":"IF('AVI Antenna (Desc)'!F158=\"\",\"\",'AVI Antenna (Desc)'!C158)","v":""},{"$f":"IF('AVI Antenna (Desc)'!D158=\"\",\"\",'AVI Antenna (Desc)'!D158)","v":""},{"$f":"IF('AVI Antenna (Desc)'!E158=\"\",\"\",INDEX([1]ASSET_ID_SOURCE!$A$2:$A$50,MATCH('AVI Antenna (Desc)'!E158,[1]!MASTER_ASSET_ID_SOURCE_DESC,0),0))","v":""},{"$f":"IF('AVI Antenna (Desc)'!G158=\"\",\"\",'AVI Antenna (Desc)'!F158)","v":""},{"$f":"IF('AVI Antenna (Desc)'!G158=\"\",\"\",INDEX([1]ANTENNA_TYPE!$A$2:$A$100,MATCH('AVI Antenna (Desc)'!$G158,[1]!MASTER_ANTENNA_TYPE_DESC[#Data],0),0))","v":""},{"$f":"IF('AVI Antenna (Desc)'!H158=\"\",\"\",INDEX([1]ANTENNA_MANUF!$A$2:$A$100,MATCH('AVI Antenna (Desc)'!$H158,[1]!MASTER_ANTENNA_MANUF_DESC[#Data],0),0))","v":""},{"$f":"IF('AVI Antenna (Desc)'!I158=\"\",\"\",INDEX([1]ANTENNA_MODEL!$A$2:$A$50,MATCH(1,([1]ANTENNA_MODEL!$C$2:$C$50='AVI Antenna (Desc)'!$H158)*([1]ANTENNA_MODEL!$D$2:$D$50='AVI Antenna (Desc)'!$I158),0),0))","v":""},{"$f":"IF('AVI Antenna (Desc)'!J158=\"\",\"\",INDEX([1]LANE_COVERAGE!$A$2:$A$100,MATCH('AVI Antenna (Desc)'!$J158,[1]!MASTER_LANE_COVERAGE_DESC[#Data],0),0))","v":""},{"$f":"IF('AVI Antenna (Desc)'!K158=\"\",\"\",INDEX([1]LANE_DIRECTION!$A$2:$A$100,MATCH('AVI Antenna (Desc)'!$K158,[1]!MASTER_LANE_DIRECTION_DESC[#Data],0),0))","v":""}]
[{"$f":"IF('AVI Antenna (Desc)'!D159=\"\",\"\",'AVI Antenna (Desc)'!A159)","v":""},{"$f":"IF('AVI Antenna (Desc)'!C159=\"\",\"\",\"2007\")","v":""},{"$f":"IF('AVI Antenna (Desc)'!F159=\"\",\"\",'AVI Antenna (Desc)'!C159)","v":""},{"$f":"IF('AVI Antenna (Desc)'!D159=\"\",\"\",'AVI Antenna (Desc)'!D159)","v":""},{"$f":"IF('AVI Antenna (Desc)'!E159=\"\",\"\",INDEX([1]ASSET_ID_SOURCE!$A$2:$A$50,MATCH('AVI Antenna (Desc)'!E159,[1]!MASTER_ASSET_ID_SOURCE_DESC,0),0))","v":""},{"$f":"IF('AVI Antenna (Desc)'!G159=\"\",\"\",'AVI Antenna (Desc)'!F159)","v":""},{"$f":"IF('AVI Antenna (Desc)'!G159=\"\",\"\",INDEX([1]ANTENNA_TYPE!$A$2:$A$100,MATCH('AVI Antenna (Desc)'!$G159,[1]!MASTER_ANTENNA_TYPE_DESC[#Data],0),0))","v":""},{"$f":"IF('AVI Antenna (Desc)'!H159=\"\",\"\",INDEX([1]ANTENNA_MANUF!$A$2:$A$100,MATCH('AVI Antenna (Desc)'!$H159,[1]!MASTER_ANTENNA_MANUF_DESC[#Data],0),0))","v":""},{"$f":"IF('AVI Antenna (Desc)'!I159=\"\",\"\",INDEX([1]ANTENNA_MODEL!$A$2:$A$50,MATCH(1,([1]ANTENNA_MODEL!$C$2:$C$50='AVI Antenna (Desc)'!$H159)*([1]ANTENNA_MODEL!$D$2:$D$50='AVI Antenna (Desc)'!$I159),0),0))","v":""},{"$f":"IF('AVI Antenna (Desc)'!J159=\"\",\"\",INDEX([1]LANE_COVERAGE!$A$2:$A$100,MATCH('AVI Antenna (Desc)'!$J159,[1]!MASTER_LANE_COVERAGE_DESC[#Data],0),0))","v":""},{"$f":"IF('AVI Antenna (Desc)'!K159=\"\",\"\",INDEX([1]LANE_DIRECTION!$A$2:$A$100,MATCH('AVI Antenna (Desc)'!$K159,[1]!MASTER_LANE_DIRECTION_DESC[#Data],0),0))","v":""}]
[{"$f":"IF('AVI Antenna (Desc)'!D160=\"\",\"\",'AVI Antenna (Desc)'!A160)","v":""},{"$f":"IF('AVI Antenna (Desc)'!C160=\"\",\"\",\"2007\")","v":""},{"$f":"IF('AVI Antenna (Desc)'!F160=\"\",\"\",'AVI Antenna (Desc)'!C160)","v":""},{"$f":"IF('AVI Antenna (Desc)'!D160=\"\",\"\",'AVI Antenna (Desc)'!D160)","v":""},{"$f":"IF('AVI Antenna (Desc)'!E160=\"\",\"\",INDEX([1]ASSET_ID_SOURCE!$A$2:$A$50,MATCH('AVI Antenna (Desc)'!E160,[1]!MASTER_ASSET_ID_SOURCE_DESC,0),0))","v":""},{"$f":"IF('AVI Antenna (Desc)'!G160=\"\",\"\",'AVI Antenna (Desc)'!F160)","v":""},{"$f":"IF('AVI Antenna (Desc)'!G160=\"\",\"\",INDEX([1]ANTENNA_TYPE!$A$2:$A$100,MATCH('AVI Antenna (Desc)'!$G160,[1]!MASTER_ANTENNA_TYPE_DESC[#Data],0),0))","v":""},{"$f":"IF('AVI Antenna (Desc)'!H160=\"\",\"\",INDEX([1]ANTENNA_MANUF!$A$2:$A$100,MATCH('AVI Antenna (Desc)'!$H160,[1]!MASTER_ANTENNA_MANUF_DESC[#Data],0),0))","v":""},{"$f":"IF('AVI Antenna (Desc)'!I160=\"\",\"\",INDEX([1]ANTENNA_MODEL!$A$2:$A$50,MATCH(1,([1]ANTENNA_MODEL!$C$2:$C$50='AVI Antenna (Desc)'!$H160)*([1]ANTENNA_MODEL!$D$2:$D$50='AVI Antenna (Desc)'!$I160),0),0))","v":""},{"$f":"IF('AVI Antenna (Desc)'!J160=\"\",\"\",INDEX([1]LANE_COVERAGE!$A$2:$A$100,MATCH('AVI Antenna (Desc)'!$J160,[1]!MASTER_LANE_COVERAGE_DESC[#Data],0),0))","v":""},{"$f":"IF('AVI Antenna (Desc)'!K160=\"\",\"\",INDEX([1]LANE_DIRECTION!$A$2:$A$100,MATCH('AVI Antenna (Desc)'!$K160,[1]!MASTER_LANE_DIRECTION_DESC[#Data],0),0))","v":""}]
[{"$f":"IF('AVI Antenna (Desc)'!D161=\"\",\"\",'AVI Antenna (Desc)'!A161)","v":""},{"$f":"IF('AVI Antenna (Desc)'!C161=\"\",\"\",\"2007\")","v":""},{"$f":"IF('AVI Antenna (Desc)'!F161=\"\",\"\",'AVI Antenna (Desc)'!C161)","v":""},{"$f":"IF('AVI Antenna (Desc)'!D161=\"\",\"\",'AVI Antenna (Desc)'!D161)","v":""},{"$f":"IF('AVI Antenna (Desc)'!E161=\"\",\"\",INDEX([1]ASSET_ID_SOURCE!$A$2:$A$50,MATCH('AVI Antenna (Desc)'!E161,[1]!MASTER_ASSET_ID_SOURCE_DESC,0),0))","v":""},{"$f":"IF('AVI Antenna (Desc)'!G161=\"\",\"\",'AVI Antenna (Desc)'!F161)","v":""},{"$f":"IF('AVI Antenna (Desc)'!G161=\"\",\"\",INDEX([1]ANTENNA_TYPE!$A$2:$A$100,MATCH('AVI Antenna (Desc)'!$G161,[1]!MASTER_ANTENNA_TYPE_DESC[#Data],0),0))","v":""},{"$f":"IF('AVI Antenna (Desc)'!H161=\"\",\"\",INDEX([1]ANTENNA_MANUF!$A$2:$A$100,MATCH('AVI Antenna (Desc)'!$H161,[1]!MASTER_ANTENNA_MANUF_DESC[#Data],0),0))","v":""},{"$f":"IF('AVI Antenna (Desc)'!I161=\"\",\"\",INDEX([1]ANTENNA_MODEL!$A$2:$A$50,MATCH(1,([1]ANTENNA_MODEL!$C$2:$C$50='AVI Antenna (Desc)'!$H161)*([1]ANTENNA_MODEL!$D$2:$D$50='AVI Antenna (Desc)'!$I161),0),0))","v":""},{"$f":"IF('AVI Antenna (Desc)'!J161=\"\",\"\",INDEX([1]LANE_COVERAGE!$A$2:$A$100,MATCH('AVI Antenna (Desc)'!$J161,[1]!MASTER_LANE_COVERAGE_DESC[#Data],0),0))","v":""},{"$f":"IF('AVI Antenna (Desc)'!K161=\"\",\"\",INDEX([1]LANE_DIRECTION!$A$2:$A$100,MATCH('AVI Antenna (Desc)'!$K161,[1]!MASTER_LANE_DIRECTION_DESC[#Data],0),0))","v":""}]
[{"$f":"IF('AVI Antenna (Desc)'!D162=\"\",\"\",'AVI Antenna (Desc)'!A162)","v":""},{"$f":"IF('AVI Antenna (Desc)'!C162=\"\",\"\",\"2007\")","v":""},{"$f":"IF('AVI Antenna (Desc)'!F162=\"\",\"\",'AVI Antenna (Desc)'!C162)","v":""},{"$f":"IF('AVI Antenna (Desc)'!D162=\"\",\"\",'AVI Antenna (Desc)'!D162)","v":""},{"$f":"IF('AVI Antenna (Desc)'!E162=\"\",\"\",INDEX([1]ASSET_ID_SOURCE!$A$2:$A$50,MATCH('AVI Antenna (Desc)'!E162,[1]!MASTER_ASSET_ID_SOURCE_DESC,0),0))","v":""},{"$f":"IF('AVI Antenna (Desc)'!G162=\"\",\"\",'AVI Antenna (Desc)'!F162)","v":""},{"$f":"IF('AVI Antenna (Desc)'!G162=\"\",\"\",INDEX([1]ANTENNA_TYPE!$A$2:$A$100,MATCH('AVI Antenna (Desc)'!$G162,[1]!MASTER_ANTENNA_TYPE_DESC[#Data],0),0))","v":""},{"$f":"IF('AVI Antenna (Desc)'!H162=\"\",\"\",INDEX([1]ANTENNA_MANUF!$A$2:$A$100,MATCH('AVI Antenna (Desc)'!$H162,[1]!MASTER_ANTENNA_MANUF_DESC[#Data],0),0))","v":""},{"$f":"IF('AVI Antenna (Desc)'!I162=\"\",\"\",INDEX([1]ANTENNA_MODEL!$A$2:$A$50,MATCH(1,([1]ANTENNA_MODEL!$C$2:$C$50='AVI Antenna (Desc)'!$H162)*([1]ANTENNA_MODEL!$D$2:$D$50='AVI Antenna (Desc)'!$I162),0),0))","v":""},{"$f":"IF('AVI Antenna (Desc)'!J162=\"\",\"\",INDEX([1]LANE_COVERAGE!$A$2:$A$100,MATCH('AVI Antenna (Desc)'!$J162,[1]!MASTER_LANE_COVERAGE_DESC[#Data],0),0))","v":""},{"$f":"IF('AVI Antenna (Desc)'!K162=\"\",\"\",INDEX([1]LANE_DIRECTION!$A$2:$A$100,MATCH('AVI Antenna (Desc)'!$K162,[1]!MASTER_LANE_DIRECTION_DESC[#Data],0),0))","v":""}]
[{"$f":"IF('AVI Antenna (Desc)'!D163=\"\",\"\",'AVI Antenna (Desc)'!A163)","v":""},{"$f":"IF('AVI Antenna (Desc)'!C163=\"\",\"\",\"2007\")","v":""},{"$f":"IF('AVI Antenna (Desc)'!F163=\"\",\"\",'AVI Antenna (Desc)'!C163)","v":""},{"$f":"IF('AVI Antenna (Desc)'!D163=\"\",\"\",'AVI Antenna (Desc)'!D163)","v":""},{"$f":"IF('AVI Antenna (Desc)'!E163=\"\",\"\",INDEX([1]ASSET_ID_SOURCE!$A$2:$A$50,MATCH('AVI Antenna (Desc)'!E163,[1]!MASTER_ASSET_ID_SOURCE_DESC,0),0))","v":""},{"$f":"IF('AVI Antenna (Desc)'!G163=\"\",\"\",'AVI Antenna (Desc)'!F163)","v":""},{"$f":"IF('AVI Antenna (Desc)'!G163=\"\",\"\",INDEX([1]ANTENNA_TYPE!$A$2:$A$100,MATCH('AVI Antenna (Desc)'!$G163,[1]!MASTER_ANTENNA_TYPE_DESC[#Data],0),0))","v":""},{"$f":"IF('AVI Antenna (Desc)'!H163=\"\",\"\",INDEX([1]ANTENNA_MANUF!$A$2:$A$100,MATCH('AVI Antenna (Desc)'!$H163,[1]!MASTER_ANTENNA_MANUF_DESC[#Data],0),0))","v":""},{"$f":"IF('AVI Antenna (Desc)'!I163=\"\",\"\",INDEX([1]ANTENNA_MODEL!$A$2:$A$50,MATCH(1,([1]ANTENNA_MODEL!$C$2:$C$50='AVI Antenna (Desc)'!$H163)*([1]ANTENNA_MODEL!$D$2:$D$50='AVI Antenna (Desc)'!$I163),0),0))","v":""},{"$f":"IF('AVI Antenna (Desc)'!J163=\"\",\"\",INDEX([1]LANE_COVERAGE!$A$2:$A$100,MATCH('AVI Antenna (Desc)'!$J163,[1]!MASTER_LANE_COVERAGE_DESC[#Data],0),0))","v":""},{"$f":"IF('AVI Antenna (Desc)'!K163=\"\",\"\",INDEX([1]LANE_DIRECTION!$A$2:$A$100,MATCH('AVI Antenna (Desc)'!$K163,[1]!MASTER_LANE_DIRECTION_DESC[#Data],0),0))","v":""}]
[{"$f":"IF('AVI Antenna (Desc)'!D164=\"\",\"\",'AVI Antenna (Desc)'!A164)","v":""},{"$f":"IF('AVI Antenna (Desc)'!C164=\"\",\"\",\"2007\")","v":""},{"$f":"IF('AVI Antenna (Desc)'!F164=\"\",\"\",'AVI Antenna (Desc)'!C164)","v":""},{"$f":"IF('AVI Antenna (Desc)'!D164=\"\",\"\",'AVI Antenna (Desc)'!D164)","v":""},{"$f":"IF('AVI Antenna (Desc)'!E164=\"\",\"\",INDEX([1]ASSET_ID_SOURCE!$A$2:$A$50,MATCH('AVI Antenna (Desc)'!E164,[1]!MASTER_ASSET_ID_SOURCE_DESC,0),0))","v":""},{"$f":"IF('AVI Antenna (Desc)'!G164=\"\",\"\",'AVI Antenna (Desc)'!F164)","v":""},{"$f":"IF('AVI Antenna (Desc)'!G164=\"\",\"\",INDEX([1]ANTENNA_TYPE!$A$2:$A$100,MATCH('AVI Antenna (Desc)'!$G164,[1]!MASTER_ANTENNA_TYPE_DESC[#Data],0),0))","v":""},{"$f":"IF('AVI Antenna (Desc)'!H164=\"\",\"\",INDEX([1]ANTENNA_MANUF!$A$2:$A$100,MATCH('AVI Antenna (Desc)'!$H164,[1]!MASTER_ANTENNA_MANUF_DESC[#Data],0),0))","v":""},{"$f":"IF('AVI Antenna (Desc)'!I164=\"\",\"\",INDEX([1]ANTENNA_MODEL!$A$2:$A$50,MATCH(1,([1]ANTENNA_MODEL!$C$2:$C$50='AVI Antenna (Desc)'!$H164)*([1]ANTENNA_MODEL!$D$2:$D$50='AVI Antenna (Desc)'!$I164),0),0))","v":""},{"$f":"IF('AVI Antenna (Desc)'!J164=\"\",\"\",INDEX([1]LANE_COVERAGE!$A$2:$A$100,MATCH('AVI Antenna (Desc)'!$J164,[1]!MASTER_LANE_COVERAGE_DESC[#Data],0),0))","v":""},{"$f":"IF('AVI Antenna (Desc)'!K164=\"\",\"\",INDEX([1]LANE_DIRECTION!$A$2:$A$100,MATCH('AVI Antenna (Desc)'!$K164,[1]!MASTER_LANE_DIRECTION_DESC[#Data],0),0))","v":""}]
[{"$f":"IF('AVI Antenna (Desc)'!D165=\"\",\"\",'AVI Antenna (Desc)'!A165)","v":""},{"$f":"IF('AVI Antenna (Desc)'!C165=\"\",\"\",\"2007\")","v":""},{"$f":"IF('AVI Antenna (Desc)'!F165=\"\",\"\",'AVI Antenna (Desc)'!C165)","v":""},{"$f":"IF('AVI Antenna (Desc)'!D165=\"\",\"\",'AVI Antenna (Desc)'!D165)","v":""},{"$f":"IF('AVI Antenna (Desc)'!E165=\"\",\"\",INDEX([1]ASSET_ID_SOURCE!$A$2:$A$50,MATCH('AVI Antenna (Desc)'!E165,[1]!MASTER_ASSET_ID_SOURCE_DESC,0),0))","v":""},{"$f":"IF('AVI Antenna (Desc)'!G165=\"\",\"\",'AVI Antenna (Desc)'!F165)","v":""},{"$f":"IF('AVI Antenna (Desc)'!G165=\"\",\"\",INDEX([1]ANTENNA_TYPE!$A$2:$A$100,MATCH('AVI Antenna (Desc)'!$G165,[1]!MASTER_ANTENNA_TYPE_DESC[#Data],0),0))","v":""},{"$f":"IF('AVI Antenna (Desc)'!H165=\"\",\"\",INDEX([1]ANTENNA_MANUF!$A$2:$A$100,MATCH('AVI Antenna (Desc)'!$H165,[1]!MASTER_ANTENNA_MANUF_DESC[#Data],0),0))","v":""},{"$f":"IF('AVI Antenna (Desc)'!I165=\"\",\"\",INDEX([1]ANTENNA_MODEL!$A$2:$A$50,MATCH(1,([1]ANTENNA_MODEL!$C$2:$C$50='AVI Antenna (Desc)'!$H165)*([1]ANTENNA_MODEL!$D$2:$D$50='AVI Antenna (Desc)'!$I165),0),0))","v":""},{"$f":"IF('AVI Antenna (Desc)'!J165=\"\",\"\",INDEX([1]LANE_COVERAGE!$A$2:$A$100,MATCH('AVI Antenna (Desc)'!$J165,[1]!MASTER_LANE_COVERAGE_DESC[#Data],0),0))","v":""},{"$f":"IF('AVI Antenna (Desc)'!K165=\"\",\"\",INDEX([1]LANE_DIRECTION!$A$2:$A$100,MATCH('AVI Antenna (Desc)'!$K165,[1]!MASTER_LANE_DIRECTION_DESC[#Data],0),0))","v":""}]
[{"$f":"IF('AVI Antenna (Desc)'!D166=\"\",\"\",'AVI Antenna (Desc)'!A166)","v":""},{"$f":"IF('AVI Antenna (Desc)'!C166=\"\",\"\",\"2007\")","v":""},{"$f":"IF('AVI Antenna (Desc)'!F166=\"\",\"\",'AVI Antenna (Desc)'!C166)","v":""},{"$f":"IF('AVI Antenna (Desc)'!D166=\"\",\"\",'AVI Antenna (Desc)'!D166)","v":""},{"$f":"IF('AVI Antenna (Desc)'!E166=\"\",\"\",INDEX([1]ASSET_ID_SOURCE!$A$2:$A$50,MATCH('AVI Antenna (Desc)'!E166,[1]!MASTER_ASSET_ID_SOURCE_DESC,0),0))","v":""},{"$f":"IF('AVI Antenna (Desc)'!G166=\"\",\"\",'AVI Antenna (Desc)'!F166)","v":""},{"$f":"IF('AVI Antenna (Desc)'!G166=\"\",\"\",INDEX([1]ANTENNA_TYPE!$A$2:$A$100,MATCH('AVI Antenna (Desc)'!$G166,[1]!MASTER_ANTENNA_TYPE_DESC[#Data],0),0))","v":""},{"$f":"IF('AVI Antenna (Desc)'!H166=\"\",\"\",INDEX([1]ANTENNA_MANUF!$A$2:$A$100,MATCH('AVI Antenna (Desc)'!$H166,[1]!MASTER_ANTENNA_MANUF_DESC[#Data],0),0))","v":""},{"$f":"IF('AVI Antenna (Desc)'!I166=\"\",\"\",INDEX([1]ANTENNA_MODEL!$A$2:$A$50,MATCH(1,([1]ANTENNA_MODEL!$C$2:$C$50='AVI Antenna (Desc)'!$H166)*([1]ANTENNA_MODEL!$D$2:$D$50='AVI Antenna (Desc)'!$I166),0),0))","v":""},{"$f":"IF('AVI Antenna (Desc)'!J166=\"\",\"\",INDEX([1]LANE_COVERAGE!$A$2:$A$100,MATCH('AVI Antenna (Desc)'!$J166,[1]!MASTER_LANE_COVERAGE_DESC[#Data],0),0))","v":""},{"$f":"IF('AVI Antenna (Desc)'!K166=\"\",\"\",INDEX([1]LANE_DIRECTION!$A$2:$A$100,MATCH('AVI Antenna (Desc)'!$K166,[1]!MASTER_LANE_DIRECTION_DESC[#Data],0),0))","v":""}]
[{"$f":"IF('AVI Antenna (Desc)'!D167=\"\",\"\",'AVI Antenna (Desc)'!A167)","v":""},{"$f":"IF('AVI Antenna (Desc)'!C167=\"\",\"\",\"2007\")","v":""},{"$f":"IF('AVI Antenna (Desc)'!F167=\"\",\"\",'AVI Antenna (Desc)'!C167)","v":""},{"$f":"IF('AVI Antenna (Desc)'!D167=\"\",\"\",'AVI Antenna (Desc)'!D167)","v":""},{"$f":"IF('AVI Antenna (Desc)'!E167=\"\",\"\",INDEX([1]ASSET_ID_SOURCE!$A$2:$A$50,MATCH('AVI Antenna (Desc)'!E167,[1]!MASTER_ASSET_ID_SOURCE_DESC,0),0))","v":""},{"$f":"IF('AVI Antenna (Desc)'!G167=\"\",\"\",'AVI Antenna (Desc)'!F167)","v":""},{"$f":"IF('AVI Antenna (Desc)'!G167=\"\",\"\",INDEX([1]ANTENNA_TYPE!$A$2:$A$100,MATCH('AVI Antenna (Desc)'!$G167,[1]!MASTER_ANTENNA_TYPE_DESC[#Data],0),0))","v":""},{"$f":"IF('AVI Antenna (Desc)'!H167=\"\",\"\",INDEX([1]ANTENNA_MANUF!$A$2:$A$100,MATCH('AVI Antenna (Desc)'!$H167,[1]!MASTER_ANTENNA_MANUF_DESC[#Data],0),0))","v":""},{"$f":"IF('AVI Antenna (Desc)'!I167=\"\",\"\",INDEX([1]ANTENNA_MODEL!$A$2:$A$50,MATCH(1,([1]ANTENNA_MODEL!$C$2:$C$50='AVI Antenna (Desc)'!$H167)*([1]ANTENNA_MODEL!$D$2:$D$50='AVI Antenna (Desc)'!$I167),0),0))","v":""},{"$f":"IF('AVI Antenna (Desc)'!J167=\"\",\"\",INDEX([1]LANE_COVERAGE!$A$2:$A$100,MATCH('AVI Antenna (Desc)'!$J167,[1]!MASTER_LANE_COVERAGE_DESC[#Data],0),0))","v":""},{"$f":"IF('AVI Antenna (Desc)'!K167=\"\",\"\",INDEX([1]LANE_DIRECTION!$A$2:$A$100,MATCH('AVI Antenna (Desc)'!$K167,[1]!MASTER_LANE_DIRECTION_DESC[#Data],0),0))","v":""}]
[{"$f":"IF('AVI Antenna (Desc)'!D168=\"\",\"\",'AVI Antenna (Desc)'!A168)","v":""},{"$f":"IF('AVI Antenna (Desc)'!C168=\"\",\"\",\"2007\")","v":""},{"$f":"IF('AVI Antenna (Desc)'!F168=\"\",\"\",'AVI Antenna (Desc)'!C168)","v":""},{"$f":"IF('AVI Antenna (Desc)'!D168=\"\",\"\",'AVI Antenna (Desc)'!D168)","v":""},{"$f":"IF('AVI Antenna (Desc)'!E168=\"\",\"\",INDEX([1]ASSET_ID_SOURCE!$A$2:$A$50,MATCH('AVI Antenna (Desc)'!E168,[1]!MASTER_ASSET_ID_SOURCE_DESC,0),0))","v":""},{"$f":"IF('AVI Antenna (Desc)'!G168=\"\",\"\",'AVI Antenna (Desc)'!F168)","v":""},{"$f":"IF('AVI Antenna (Desc)'!G168=\"\",\"\",INDEX([1]ANTENNA_TYPE!$A$2:$A$100,MATCH('AVI Antenna (Desc)'!$G168,[1]!MASTER_ANTENNA_TYPE_DESC[#Data],0),0))","v":""},{"$f":"IF('AVI Antenna (Desc)'!H168=\"\",\"\",INDEX([1]ANTENNA_MANUF!$A$2:$A$100,MATCH('AVI Antenna (Desc)'!$H168,[1]!MASTER_ANTENNA_MANUF_DESC[#Data],0),0))","v":""},{"$f":"IF('AVI Antenna (Desc)'!I168=\"\",\"\",INDEX([1]ANTENNA_MODEL!$A$2:$A$50,MATCH(1,([1]ANTENNA_MODEL!$C$2:$C$50='AVI Antenna (Desc)'!$H168)*([1]ANTENNA_MODEL!$D$2:$D$50='AVI Antenna (Desc)'!$I168),0),0))","v":""},{"$f":"IF('AVI Antenna (Desc)'!J168=\"\",\"\",INDEX([1]LANE_COVERAGE!$A$2:$A$100,MATCH('AVI Antenna (Desc)'!$J168,[1]!MASTER_LANE_COVERAGE_DESC[#Data],0),0))","v":""},{"$f":"IF('AVI Antenna (Desc)'!K168=\"\",\"\",INDEX([1]LANE_DIRECTION!$A$2:$A$100,MATCH('AVI Antenna (Desc)'!$K168,[1]!MASTER_LANE_DIRECTION_DESC[#Data],0),0))","v":""}]
[{"$f":"IF('AVI Antenna (Desc)'!D169=\"\",\"\",'AVI Antenna (Desc)'!A169)","v":""},{"$f":"IF('AVI Antenna (Desc)'!C169=\"\",\"\",\"2007\")","v":""},{"$f":"IF('AVI Antenna (Desc)'!F169=\"\",\"\",'AVI Antenna (Desc)'!C169)","v":""},{"$f":"IF('AVI Antenna (Desc)'!D169=\"\",\"\",'AVI Antenna (Desc)'!D169)","v":""},{"$f":"IF('AVI Antenna (Desc)'!E169=\"\",\"\",INDEX([1]ASSET_ID_SOURCE!$A$2:$A$50,MATCH('AVI Antenna (Desc)'!E169,[1]!MASTER_ASSET_ID_SOURCE_DESC,0),0))","v":""},{"$f":"IF('AVI Antenna (Desc)'!G169=\"\",\"\",'AVI Antenna (Desc)'!F169)","v":""},{"$f":"IF('AVI Antenna (Desc)'!G169=\"\",\"\",INDEX([1]ANTENNA_TYPE!$A$2:$A$100,MATCH('AVI Antenna (Desc)'!$G169,[1]!MASTER_ANTENNA_TYPE_DESC[#Data],0),0))","v":""},{"$f":"IF('AVI Antenna (Desc)'!H169=\"\",\"\",INDEX([1]ANTENNA_MANUF!$A$2:$A$100,MATCH('AVI Antenna (Desc)'!$H169,[1]!MASTER_ANTENNA_MANUF_DESC[#Data],0),0))","v":""},{"$f":"IF('AVI Antenna (Desc)'!I169=\"\",\"\",INDEX([1]ANTENNA_MODEL!$A$2:$A$50,MATCH(1,([1]ANTENNA_MODEL!$C$2:$C$50='AVI Antenna (Desc)'!$H169)*([1]ANTENNA_MODEL!$D$2:$D$50='AVI Antenna (Desc)'!$I169),0),0))","v":""},{"$f":"IF('AVI Antenna (Desc)'!J169=\"\",\"\",INDEX([1]LANE_COVERAGE!$A$2:$A$100,MATCH('AVI Antenna (Desc)'!$J169,[1]!MASTER_LANE_COVERAGE_DESC[#Data],0),0))","v":""},{"$f":"IF('AVI Antenna (Desc)'!K169=\"\",\"\",INDEX([1]LANE_DIRECTION!$A$2:$A$100,MATCH('AVI Antenna (Desc)'!$K169,[1]!MASTER_LANE_DIRECTION_DESC[#Data],0),0))","v":""}]
[{"$f":"IF('AVI Antenna (Desc)'!D170=\"\",\"\",'AVI Antenna (Desc)'!A170)","v":""},{"$f":"IF('AVI Antenna (Desc)'!C170=\"\",\"\",\"2007\")","v":""},{"$f":"IF('AVI Antenna (Desc)'!F170=\"\",\"\",'AVI Antenna (Desc)'!C170)","v":""},{"$f":"IF('AVI Antenna (Desc)'!D170=\"\",\"\",'AVI Antenna (Desc)'!D170)","v":""},{"$f":"IF('AVI Antenna (Desc)'!E170=\"\",\"\",INDEX([1]ASSET_ID_SOURCE!$A$2:$A$50,MATCH('AVI Antenna (Desc)'!E170,[1]!MASTER_ASSET_ID_SOURCE_DESC,0),0))","v":""},{"$f":"IF('AVI Antenna (Desc)'!G170=\"\",\"\",'AVI Antenna (Desc)'!F170)","v":""},{"$f":"IF('AVI Antenna (Desc)'!G170=\"\",\"\",INDEX([1]ANTENNA_TYPE!$A$2:$A$100,MATCH('AVI Antenna (Desc)'!$G170,[1]!MASTER_ANTENNA_TYPE_DESC[#Data],0),0))","v":""},{"$f":"IF('AVI Antenna (Desc)'!H170=\"\",\"\",INDEX([1]ANTENNA_MANUF!$A$2:$A$100,MATCH('AVI Antenna (Desc)'!$H170,[1]!MASTER_ANTENNA_MANUF_DESC[#Data],0),0))","v":""},{"$f":"IF('AVI Antenna (Desc)'!I170=\"\",\"\",INDEX([1]ANTENNA_MODEL!$A$2:$A$50,MATCH(1,([1]ANTENNA_MODEL!$C$2:$C$50='AVI Antenna (Desc)'!$H170)*([1]ANTENNA_MODEL!$D$2:$D$50='AVI Antenna (Desc)'!$I170),0),0))","v":""},{"$f":"IF('AVI Antenna (Desc)'!J170=\"\",\"\",INDEX([1]LANE_COVERAGE!$A$2:$A$100,MATCH('AVI Antenna (Desc)'!$J170,[1]!MASTER_LANE_COVERAGE_DESC[#Data],0),0))","v":""},{"$f":"IF('AVI Antenna (Desc)'!K170=\"\",\"\",INDEX([1]LANE_DIRECTION!$A$2:$A$100,MATCH('AVI Antenna (Desc)'!$K170,[1]!MASTER_LANE_DIRECTION_DESC[#Data],0),0))","v":""}]
[{"$f":"IF('AVI Antenna (Desc)'!D171=\"\",\"\",'AVI Antenna (Desc)'!A171)","v":""},{"$f":"IF('AVI Antenna (Desc)'!C171=\"\",\"\",\"2007\")","v":""},{"$f":"IF('AVI Antenna (Desc)'!F171=\"\",\"\",'AVI Antenna (Desc)'!C171)","v":""},{"$f":"IF('AVI Antenna (Desc)'!D171=\"\",\"\",'AVI Antenna (Desc)'!D171)","v":""},{"$f":"IF('AVI Antenna (Desc)'!E171=\"\",\"\",INDEX([1]ASSET_ID_SOURCE!$A$2:$A$50,MATCH('AVI Antenna (Desc)'!E171,[1]!MASTER_ASSET_ID_SOURCE_DESC,0),0))","v":""},{"$f":"IF('AVI Antenna (Desc)'!G171=\"\",\"\",'AVI Antenna (Desc)'!F171)","v":""},{"$f":"IF('AVI Antenna (Desc)'!G171=\"\",\"\",INDEX([1]ANTENNA_TYPE!$A$2:$A$100,MATCH('AVI Antenna (Desc)'!$G171,[1]!MASTER_ANTENNA_TYPE_DESC[#Data],0),0))","v":""},{"$f":"IF('AVI Antenna (Desc)'!H171=\"\",\"\",INDEX([1]ANTENNA_MANUF!$A$2:$A$100,MATCH('AVI Antenna (Desc)'!$H171,[1]!MASTER_ANTENNA_MANUF_DESC[#Data],0),0))","v":""},{"$f":"IF('AVI Antenna (Desc)'!I171=\"\",\"\",INDEX([1]ANTENNA_MODEL!$A$2:$A$50,MATCH(1,([1]ANTENNA_MODEL!$C$2:$C$50='AVI Antenna (Desc)'!$H171)*([1]ANTENNA_MODEL!$D$2:$D$50='AVI Antenna (Desc)'!$I171),0),0))","v":""},{"$f":"IF('AVI Antenna (Desc)'!J171=\"\",\"\",INDEX([1]LANE_COVERAGE!$A$2:$A$100,MATCH('AVI Antenna (Desc)'!$J171,[1]!MASTER_LANE_COVERAGE_DESC[#Data],0),0))","v":""},{"$f":"IF('AVI Antenna (Desc)'!K171=\"\",\"\",INDEX([1]LANE_DIRECTION!$A$2:$A$100,MATCH('AVI Antenna (Desc)'!$K171,[1]!MASTER_LANE_DIRECTION_DESC[#Data],0),0))","v":""}]
[{"$f":"IF('AVI Antenna (Desc)'!D172=\"\",\"\",'AVI Antenna (Desc)'!A172)","v":""},{"$f":"IF('AVI Antenna (Desc)'!C172=\"\",\"\",\"2007\")","v":""},{"$f":"IF('AVI Antenna (Desc)'!F172=\"\",\"\",'AVI Antenna (Desc)'!C172)","v":""},{"$f":"IF('AVI Antenna (Desc)'!D172=\"\",\"\",'AVI Antenna (Desc)'!D172)","v":""},{"$f":"IF('AVI Antenna (Desc)'!E172=\"\",\"\",INDEX([1]ASSET_ID_SOURCE!$A$2:$A$50,MATCH('AVI Antenna (Desc)'!E172,[1]!MASTER_ASSET_ID_SOURCE_DESC,0),0))","v":""},{"$f":"IF('AVI Antenna (Desc)'!G172=\"\",\"\",'AVI Antenna (Desc)'!F172)","v":""},{"$f":"IF('AVI Antenna (Desc)'!G172=\"\",\"\",INDEX([1]ANTENNA_TYPE!$A$2:$A$100,MATCH('AVI Antenna (Desc)'!$G172,[1]!MASTER_ANTENNA_TYPE_DESC[#Data],0),0))","v":""},{"$f":"IF('AVI Antenna (Desc)'!H172=\"\",\"\",INDEX([1]ANTENNA_MANUF!$A$2:$A$100,MATCH('AVI Antenna (Desc)'!$H172,[1]!MASTER_ANTENNA_MANUF_DESC[#Data],0),0))","v":""},{"$f":"IF('AVI Antenna (Desc)'!I172=\"\",\"\",INDEX([1]ANTENNA_MODEL!$A$2:$A$50,MATCH(1,([1]ANTENNA_MODEL!$C$2:$C$50='AVI Antenna (Desc)'!$H172)*([1]ANTENNA_MODEL!$D$2:$D$50='AVI Antenna (Desc)'!$I172),0),0))","v":""},{"$f":"IF('AVI Antenna (Desc)'!J172=\"\",\"\",INDEX([1]LANE_COVERAGE!$A$2:$A$100,MATCH('AVI Antenna (Desc)'!$J172,[1]!MASTER_LANE_COVERAGE_DESC[#Data],0),0))","v":""},{"$f":"IF('AVI Antenna (Desc)'!K172=\"\",\"\",INDEX([1]LANE_DIRECTION!$A$2:$A$100,MATCH('AVI Antenna (Desc)'!$K172,[1]!MASTER_LANE_DIRECTION_DESC[#Data],0),0))","v":""}]
[{"$f":"IF('AVI Antenna (Desc)'!D173=\"\",\"\",'AVI Antenna (Desc)'!A173)","v":""},{"$f":"IF('AVI Antenna (Desc)'!C173=\"\",\"\",\"2007\")","v":""},{"$f":"IF('AVI Antenna (Desc)'!F173=\"\",\"\",'AVI Antenna (Desc)'!C173)","v":""},{"$f":"IF('AVI Antenna (Desc)'!D173=\"\",\"\",'AVI Antenna (Desc)'!D173)","v":""},{"$f":"IF('AVI Antenna (Desc)'!E173=\"\",\"\",INDEX([1]ASSET_ID_SOURCE!$A$2:$A$50,MATCH('AVI Antenna (Desc)'!E173,[1]!MASTER_ASSET_ID_SOURCE_DESC,0),0))","v":""},{"$f":"IF('AVI Antenna (Desc)'!G173=\"\",\"\",'AVI Antenna (Desc)'!F173)","v":""},{"$f":"IF('AVI Antenna (Desc)'!G173=\"\",\"\",INDEX([1]ANTENNA_TYPE!$A$2:$A$100,MATCH('AVI Antenna (Desc)'!$G173,[1]!MASTER_ANTENNA_TYPE_DESC[#Data],0),0))","v":""},{"$f":"IF('AVI Antenna (Desc)'!H173=\"\",\"\",INDEX([1]ANTENNA_MANUF!$A$2:$A$100,MATCH('AVI Antenna (Desc)'!$H173,[1]!MASTER_ANTENNA_MANUF_DESC[#Data],0),0))","v":""},{"$f":"IF('AVI Antenna (Desc)'!I173=\"\",\"\",INDEX([1]ANTENNA_MODEL!$A$2:$A$50,MATCH(1,([1]ANTENNA_MODEL!$C$2:$C$50='AVI Antenna (Desc)'!$H173)*([1]ANTENNA_MODEL!$D$2:$D$50='AVI Antenna (Desc)'!$I173),0),0))","v":""},{"$f":"IF('AVI Antenna (Desc)'!J173=\"\",\"\",INDEX([1]LANE_COVERAGE!$A$2:$A$100,MATCH('AVI Antenna (Desc)'!$J173,[1]!MASTER_LANE_COVERAGE_DESC[#Data],0),0))","v":""},{"$f":"IF('AVI Antenna (Desc)'!K173=\"\",\"\",INDEX([1]LANE_DIRECTION!$A$2:$A$100,MATCH('AVI Antenna (Desc)'!$K173,[1]!MASTER_LANE_DIRECTION_DESC[#Data],0),0))","v":""}]
[{"$f":"IF('AVI Antenna (Desc)'!D174=\"\",\"\",'AVI Antenna (Desc)'!A174)","v":""},{"$f":"IF('AVI Antenna (Desc)'!C174=\"\",\"\",\"2007\")","v":""},{"$f":"IF('AVI Antenna (Desc)'!F174=\"\",\"\",'AVI Antenna (Desc)'!C174)","v":""},{"$f":"IF('AVI Antenna (Desc)'!D174=\"\",\"\",'AVI Antenna (Desc)'!D174)","v":""},{"$f":"IF('AVI Antenna (Desc)'!E174=\"\",\"\",INDEX([1]ASSET_ID_SOURCE!$A$2:$A$50,MATCH('AVI Antenna (Desc)'!E174,[1]!MASTER_ASSET_ID_SOURCE_DESC,0),0))","v":""},{"$f":"IF('AVI Antenna (Desc)'!G174=\"\",\"\",'AVI Antenna (Desc)'!F174)","v":""},{"$f":"IF('AVI Antenna (Desc)'!G174=\"\",\"\",INDEX([1]ANTENNA_TYPE!$A$2:$A$100,MATCH('AVI Antenna (Desc)'!$G174,[1]!MASTER_ANTENNA_TYPE_DESC[#Data],0),0))","v":""},{"$f":"IF('AVI Antenna (Desc)'!H174=\"\",\"\",INDEX([1]ANTENNA_MANUF!$A$2:$A$100,MATCH('AVI Antenna (Desc)'!$H174,[1]!MASTER_ANTENNA_MANUF_DESC[#Data],0),0))","v":""},{"$f":"IF('AVI Antenna (Desc)'!I174=\"\",\"\",INDEX([1]ANTENNA_MODEL!$A$2:$A$50,MATCH(1,([1]ANTENNA_MODEL!$C$2:$C$50='AVI Antenna (Desc)'!$H174)*([1]ANTENNA_MODEL!$D$2:$D$50='AVI Antenna (Desc)'!$I174),0),0))","v":""},{"$f":"IF('AVI Antenna (Desc)'!J174=\"\",\"\",INDEX([1]LANE_COVERAGE!$A$2:$A$100,MATCH('AVI Antenna (Desc)'!$J174,[1]!MASTER_LANE_COVERAGE_DESC[#Data],0),0))","v":""},{"$f":"IF('AVI Antenna (Desc)'!K174=\"\",\"\",INDEX([1]LANE_DIRECTION!$A$2:$A$100,MATCH('AVI Antenna (Desc)'!$K174,[1]!MASTER_LANE_DIRECTION_DESC[#Data],0),0))","v":""}]
[{"$f":"IF('AVI Antenna (Desc)'!D175=\"\",\"\",'AVI Antenna (Desc)'!A175)","v":""},{"$f":"IF('AVI Antenna (Desc)'!C175=\"\",\"\",\"2007\")","v":""},{"$f":"IF('AVI Antenna (Desc)'!F175=\"\",\"\",'AVI Antenna (Desc)'!C175)","v":""},{"$f":"IF('AVI Antenna (Desc)'!D175=\"\",\"\",'AVI Antenna (Desc)'!D175)","v":""},{"$f":"IF('AVI Antenna (Desc)'!E175=\"\",\"\",INDEX([1]ASSET_ID_SOURCE!$A$2:$A$50,MATCH('AVI Antenna (Desc)'!E175,[1]!MASTER_ASSET_ID_SOURCE_DESC,0),0))","v":""},{"$f":"IF('AVI Antenna (Desc)'!G175=\"\",\"\",'AVI Antenna (Desc)'!F175)","v":""},{"$f":"IF('AVI Antenna (Desc)'!G175=\"\",\"\",INDEX([1]ANTENNA_TYPE!$A$2:$A$100,MATCH('AVI Antenna (Desc)'!$G175,[1]!MASTER_ANTENNA_TYPE_DESC[#Data],0),0))","v":""},{"$f":"IF('AVI Antenna (Desc)'!H175=\"\",\"\",INDEX([1]ANTENNA_MANUF!$A$2:$A$100,MATCH('AVI Antenna (Desc)'!$H175,[1]!MASTER_ANTENNA_MANUF_DESC[#Data],0),0))","v":""},{"$f":"IF('AVI Antenna (Desc)'!I175=\"\",\"\",INDEX([1]ANTENNA_MODEL!$A$2:$A$50,MATCH(1,([1]ANTENNA_MODEL!$C$2:$C$50='AVI Antenna (Desc)'!$H175)*([1]ANTENNA_MODEL!$D$2:$D$50='AVI Antenna (Desc)'!$I175),0),0))","v":""},{"$f":"IF('AVI Antenna (Desc)'!J175=\"\",\"\",INDEX([1]LANE_COVERAGE!$A$2:$A$100,MATCH('AVI Antenna (Desc)'!$J175,[1]!MASTER_LANE_COVERAGE_DESC[#Data],0),0))","v":""},{"$f":"IF('AVI Antenna (Desc)'!K175=\"\",\"\",INDEX([1]LANE_DIRECTION!$A$2:$A$100,MATCH('AVI Antenna (Desc)'!$K175,[1]!MASTER_LANE_DIRECTION_DESC[#Data],0),0))","v":""}]
[{"$f":"IF('AVI Antenna (Desc)'!D176=\"\",\"\",'AVI Antenna (Desc)'!A176)","v":""},{"$f":"IF('AVI Antenna (Desc)'!C176=\"\",\"\",\"2007\")","v":""},{"$f":"IF('AVI Antenna (Desc)'!F176=\"\",\"\",'AVI Antenna (Desc)'!C176)","v":""},{"$f":"IF('AVI Antenna (Desc)'!D176=\"\",\"\",'AVI Antenna (Desc)'!D176)","v":""},{"$f":"IF('AVI Antenna (Desc)'!E176=\"\",\"\",INDEX([1]ASSET_ID_SOURCE!$A$2:$A$50,MATCH('AVI Antenna (Desc)'!E176,[1]!MASTER_ASSET_ID_SOURCE_DESC,0),0))","v":""},{"$f":"IF('AVI Antenna (Desc)'!G176=\"\",\"\",'AVI Antenna (Desc)'!F176)","v":""},{"$f":"IF('AVI Antenna (Desc)'!G176=\"\",\"\",INDEX([1]ANTENNA_TYPE!$A$2:$A$100,MATCH('AVI Antenna (Desc)'!$G176,[1]!MASTER_ANTENNA_TYPE_DESC[#Data],0),0))","v":""},{"$f":"IF('AVI Antenna (Desc)'!H176=\"\",\"\",INDEX([1]ANTENNA_MANUF!$A$2:$A$100,MATCH('AVI Antenna (Desc)'!$H176,[1]!MASTER_ANTENNA_MANUF_DESC[#Data],0),0))","v":""},{"$f":"IF('AVI Antenna (Desc)'!I176=\"\",\"\",INDEX([1]ANTENNA_MODEL!$A$2:$A$50,MATCH(1,([1]ANTENNA_MODEL!$C$2:$C$50='AVI Antenna (Desc)'!$H176)*([1]ANTENNA_MODEL!$D$2:$D$50='AVI Antenna (Desc)'!$I176),0),0))","v":""},{"$f":"IF('AVI Antenna (Desc)'!J176=\"\",\"\",INDEX([1]LANE_COVERAGE!$A$2:$A$100,MATCH('AVI Antenna (Desc)'!$J176,[1]!MASTER_LANE_COVERAGE_DESC[#Data],0),0))","v":""},{"$f":"IF('AVI Antenna (Desc)'!K176=\"\",\"\",INDEX([1]LANE_DIRECTION!$A$2:$A$100,MATCH('AVI Antenna (Desc)'!$K176,[1]!MASTER_LANE_DIRECTION_DESC[#Data],0),0))","v":""}]
[{"$f":"IF('AVI Antenna (Desc)'!D177=\"\",\"\",'AVI Antenna (Desc)'!A177)","v":""},{"$f":"IF('AVI Antenna (Desc)'!C177=\"\",\"\",\"2007\")","v":""},{"$f":"IF('AVI Antenna (Desc)'!F177=\"\",\"\",'AVI Antenna (Desc)'!C177)","v":""},{"$f":"IF('AVI Antenna (Desc)'!D177=\"\",\"\",'AVI Antenna (Desc)'!D177)","v":""},{"$f":"IF('AVI Antenna (Desc)'!E177=\"\",\"\",INDEX([1]ASSET_ID_SOURCE!$A$2:$A$50,MATCH('AVI Antenna (Desc)'!E177,[1]!MASTER_ASSET_ID_SOURCE_DESC,0),0))","v":""},{"$f":"IF('AVI Antenna (Desc)'!G177=\"\",\"\",'AVI Antenna (Desc)'!F177)","v":""},{"$f":"IF('AVI Antenna (Desc)'!G177=\"\",\"\",INDEX([1]ANTENNA_TYPE!$A$2:$A$100,MATCH('AVI Antenna (Desc)'!$G177,[1]!MASTER_ANTENNA_TYPE_DESC[#Data],0),0))","v":""},{"$f":"IF('AVI Antenna (Desc)'!H177=\"\",\"\",INDEX([1]ANTENNA_MANUF!$A$2:$A$100,MATCH('AVI Antenna (Desc)'!$H177,[1]!MASTER_ANTENNA_MANUF_DESC[#Data],0),0))","v":""},{"$f":"IF('AVI Antenna (Desc)'!I177=\"\",\"\",INDEX([1]ANTENNA_MODEL!$A$2:$A$50,MATCH(1,([1]ANTENNA_MODEL!$C$2:$C$50='AVI Antenna (Desc)'!$H177)*([1]ANTENNA_MODEL!$D$2:$D$50='AVI Antenna (Desc)'!$I177),0),0))","v":""},{"$f":"IF('AVI Antenna (Desc)'!J177=\"\",\"\",INDEX([1]LANE_COVERAGE!$A$2:$A$100,MATCH('AVI Antenna (Desc)'!$J177,[1]!MASTER_LANE_COVERAGE_DESC[#Data],0),0))","v":""},{"$f":"IF('AVI Antenna (Desc)'!K177=\"\",\"\",INDEX([1]LANE_DIRECTION!$A$2:$A$100,MATCH('AVI Antenna (Desc)'!$K177,[1]!MASTER_LANE_DIRECTION_DESC[#Data],0),0))","v":""}]
[{"$f":"IF('AVI Antenna (Desc)'!D178=\"\",\"\",'AVI Antenna (Desc)'!A178)","v":""},{"$f":"IF('AVI Antenna (Desc)'!C178=\"\",\"\",\"2007\")","v":""},{"$f":"IF('AVI Antenna (Desc)'!F178=\"\",\"\",'AVI Antenna (Desc)'!C178)","v":""},{"$f":"IF('AVI Antenna (Desc)'!D178=\"\",\"\",'AVI Antenna (Desc)'!D178)","v":""},{"$f":"IF('AVI Antenna (Desc)'!E178=\"\",\"\",INDEX([1]ASSET_ID_SOURCE!$A$2:$A$50,MATCH('AVI Antenna (Desc)'!E178,[1]!MASTER_ASSET_ID_SOURCE_DESC,0),0))","v":""},{"$f":"IF('AVI Antenna (Desc)'!G178=\"\",\"\",'AVI Antenna (Desc)'!F178)","v":""},{"$f":"IF('AVI Antenna (Desc)'!G178=\"\",\"\",INDEX([1]ANTENNA_TYPE!$A$2:$A$100,MATCH('AVI Antenna (Desc)'!$G178,[1]!MASTER_ANTENNA_TYPE_DESC[#Data],0),0))","v":""},{"$f":"IF('AVI Antenna (Desc)'!H178=\"\",\"\",INDEX([1]ANTENNA_MANUF!$A$2:$A$100,MATCH('AVI Antenna (Desc)'!$H178,[1]!MASTER_ANTENNA_MANUF_DESC[#Data],0),0))","v":""},{"$f":"IF('AVI Antenna (Desc)'!I178=\"\",\"\",INDEX([1]ANTENNA_MODEL!$A$2:$A$50,MATCH(1,([1]ANTENNA_MODEL!$C$2:$C$50='AVI Antenna (Desc)'!$H178)*([1]ANTENNA_MODEL!$D$2:$D$50='AVI Antenna (Desc)'!$I178),0),0))","v":""},{"$f":"IF('AVI Antenna (Desc)'!J178=\"\",\"\",INDEX([1]LANE_COVERAGE!$A$2:$A$100,MATCH('AVI Antenna (Desc)'!$J178,[1]!MASTER_LANE_COVERAGE_DESC[#Data],0),0))","v":""},{"$f":"IF('AVI Antenna (Desc)'!K178=\"\",\"\",INDEX([1]LANE_DIRECTION!$A$2:$A$100,MATCH('AVI Antenna (Desc)'!$K178,[1]!MASTER_LANE_DIRECTION_DESC[#Data],0),0))","v":""}]
[{"$f":"IF('AVI Antenna (Desc)'!D179=\"\",\"\",'AVI Antenna (Desc)'!A179)","v":""},{"$f":"IF('AVI Antenna (Desc)'!C179=\"\",\"\",\"2007\")","v":""},{"$f":"IF('AVI Antenna (Desc)'!F179=\"\",\"\",'AVI Antenna (Desc)'!C179)","v":""},{"$f":"IF('AVI Antenna (Desc)'!D179=\"\",\"\",'AVI Antenna (Desc)'!D179)","v":""},{"$f":"IF('AVI Antenna (Desc)'!E179=\"\",\"\",INDEX([1]ASSET_ID_SOURCE!$A$2:$A$50,MATCH('AVI Antenna (Desc)'!E179,[1]!MASTER_ASSET_ID_SOURCE_DESC,0),0))","v":""},{"$f":"IF('AVI Antenna (Desc)'!G179=\"\",\"\",'AVI Antenna (Desc)'!F179)","v":""},{"$f":"IF('AVI Antenna (Desc)'!G179=\"\",\"\",INDEX([1]ANTENNA_TYPE!$A$2:$A$100,MATCH('AVI Antenna (Desc)'!$G179,[1]!MASTER_ANTENNA_TYPE_DESC[#Data],0),0))","v":""},{"$f":"IF('AVI Antenna (Desc)'!H179=\"\",\"\",INDEX([1]ANTENNA_MANUF!$A$2:$A$100,MATCH('AVI Antenna (Desc)'!$H179,[1]!MASTER_ANTENNA_MANUF_DESC[#Data],0),0))","v":""},{"$f":"IF('AVI Antenna (Desc)'!I179=\"\",\"\",INDEX([1]ANTENNA_MODEL!$A$2:$A$50,MATCH(1,([1]ANTENNA_MODEL!$C$2:$C$50='AVI Antenna (Desc)'!$H179)*([1]ANTENNA_MODEL!$D$2:$D$50='AVI Antenna (Desc)'!$I179),0),0))","v":""},{"$f":"IF('AVI Antenna (Desc)'!J179=\"\",\"\",INDEX([1]LANE_COVERAGE!$A$2:$A$100,MATCH('AVI Antenna (Desc)'!$J179,[1]!MASTER_LANE_COVERAGE_DESC[#Data],0),0))","v":""},{"$f":"IF('AVI Antenna (Desc)'!K179=\"\",\"\",INDEX([1]LANE_DIRECTION!$A$2:$A$100,MATCH('AVI Antenna (Desc)'!$K179,[1]!MASTER_LANE_DIRECTION_DESC[#Data],0),0))","v":""}]
[{"$f":"IF('AVI Antenna (Desc)'!D180=\"\",\"\",'AVI Antenna (Desc)'!A180)","v":""},{"$f":"IF('AVI Antenna (Desc)'!C180=\"\",\"\",\"2007\")","v":""},{"$f":"IF('AVI Antenna (Desc)'!F180=\"\",\"\",'AVI Antenna (Desc)'!C180)","v":""},{"$f":"IF('AVI Antenna (Desc)'!D180=\"\",\"\",'AVI Antenna (Desc)'!D180)","v":""},{"$f":"IF('AVI Antenna (Desc)'!E180=\"\",\"\",INDEX([1]ASSET_ID_SOURCE!$A$2:$A$50,MATCH('AVI Antenna (Desc)'!E180,[1]!MASTER_ASSET_ID_SOURCE_DESC,0),0))","v":""},{"$f":"IF('AVI Antenna (Desc)'!G180=\"\",\"\",'AVI Antenna (Desc)'!F180)","v":""},{"$f":"IF('AVI Antenna (Desc)'!G180=\"\",\"\",INDEX([1]ANTENNA_TYPE!$A$2:$A$100,MATCH('AVI Antenna (Desc)'!$G180,[1]!MASTER_ANTENNA_TYPE_DESC[#Data],0),0))","v":""},{"$f":"IF('AVI Antenna (Desc)'!H180=\"\",\"\",INDEX([1]ANTENNA_MANUF!$A$2:$A$100,MATCH('AVI Antenna (Desc)'!$H180,[1]!MASTER_ANTENNA_MANUF_DESC[#Data],0),0))","v":""},{"$f":"IF('AVI Antenna (Desc)'!I180=\"\",\"\",INDEX([1]ANTENNA_MODEL!$A$2:$A$50,MATCH(1,([1]ANTENNA_MODEL!$C$2:$C$50='AVI Antenna (Desc)'!$H180)*([1]ANTENNA_MODEL!$D$2:$D$50='AVI Antenna (Desc)'!$I180),0),0))","v":""},{"$f":"IF('AVI Antenna (Desc)'!J180=\"\",\"\",INDEX([1]LANE_COVERAGE!$A$2:$A$100,MATCH('AVI Antenna (Desc)'!$J180,[1]!MASTER_LANE_COVERAGE_DESC[#Data],0),0))","v":""},{"$f":"IF('AVI Antenna (Desc)'!K180=\"\",\"\",INDEX([1]LANE_DIRECTION!$A$2:$A$100,MATCH('AVI Antenna (Desc)'!$K180,[1]!MASTER_LANE_DIRECTION_DESC[#Data],0),0))","v":""}]
[{"$f":"IF('AVI Antenna (Desc)'!D181=\"\",\"\",'AVI Antenna (Desc)'!A181)","v":""},{"$f":"IF('AVI Antenna (Desc)'!C181=\"\",\"\",\"2007\")","v":""},{"$f":"IF('AVI Antenna (Desc)'!F181=\"\",\"\",'AVI Antenna (Desc)'!C181)","v":""},{"$f":"IF('AVI Antenna (Desc)'!D181=\"\",\"\",'AVI Antenna (Desc)'!D181)","v":""},{"$f":"IF('AVI Antenna (Desc)'!E181=\"\",\"\",INDEX([1]ASSET_ID_SOURCE!$A$2:$A$50,MATCH('AVI Antenna (Desc)'!E181,[1]!MASTER_ASSET_ID_SOURCE_DESC,0),0))","v":""},{"$f":"IF('AVI Antenna (Desc)'!G181=\"\",\"\",'AVI Antenna (Desc)'!F181)","v":""},{"$f":"IF('AVI Antenna (Desc)'!G181=\"\",\"\",INDEX([1]ANTENNA_TYPE!$A$2:$A$100,MATCH('AVI Antenna (Desc)'!$G181,[1]!MASTER_ANTENNA_TYPE_DESC[#Data],0),0))","v":""},{"$f":"IF('AVI Antenna (Desc)'!H181=\"\",\"\",INDEX([1]ANTENNA_MANUF!$A$2:$A$100,MATCH('AVI Antenna (Desc)'!$H181,[1]!MASTER_ANTENNA_MANUF_DESC[#Data],0),0))","v":""},{"$f":"IF('AVI Antenna (Desc)'!I181=\"\",\"\",INDEX([1]ANTENNA_MODEL!$A$2:$A$50,MATCH(1,([1]ANTENNA_MODEL!$C$2:$C$50='AVI Antenna (Desc)'!$H181)*([1]ANTENNA_MODEL!$D$2:$D$50='AVI Antenna (Desc)'!$I181),0),0))","v":""},{"$f":"IF('AVI Antenna (Desc)'!J181=\"\",\"\",INDEX([1]LANE_COVERAGE!$A$2:$A$100,MATCH('AVI Antenna (Desc)'!$J181,[1]!MASTER_LANE_COVERAGE_DESC[#Data],0),0))","v":""},{"$f":"IF('AVI Antenna (Desc)'!K181=\"\",\"\",INDEX([1]LANE_DIRECTION!$A$2:$A$100,MATCH('AVI Antenna (Desc)'!$K181,[1]!MASTER_LANE_DIRECTION_DESC[#Data],0),0))","v":""}]
[{"$f":"IF('AVI Antenna (Desc)'!D182=\"\",\"\",'AVI Antenna (Desc)'!A182)","v":""},{"$f":"IF('AVI Antenna (Desc)'!C182=\"\",\"\",\"2007\")","v":""},{"$f":"IF('AVI Antenna (Desc)'!F182=\"\",\"\",'AVI Antenna (Desc)'!C182)","v":""},{"$f":"IF('AVI Antenna (Desc)'!D182=\"\",\"\",'AVI Antenna (Desc)'!D182)","v":""},{"$f":"IF('AVI Antenna (Desc)'!E182=\"\",\"\",INDEX([1]ASSET_ID_SOURCE!$A$2:$A$50,MATCH('AVI Antenna (Desc)'!E182,[1]!MASTER_ASSET_ID_SOURCE_DESC,0),0))","v":""},{"$f":"IF('AVI Antenna (Desc)'!G182=\"\",\"\",'AVI Antenna (Desc)'!F182)","v":""},{"$f":"IF('AVI Antenna (Desc)'!G182=\"\",\"\",INDEX([1]ANTENNA_TYPE!$A$2:$A$100,MATCH('AVI Antenna (Desc)'!$G182,[1]!MASTER_ANTENNA_TYPE_DESC[#Data],0),0))","v":""},{"$f":"IF('AVI Antenna (Desc)'!H182=\"\",\"\",INDEX([1]ANTENNA_MANUF!$A$2:$A$100,MATCH('AVI Antenna (Desc)'!$H182,[1]!MASTER_ANTENNA_MANUF_DESC[#Data],0),0))","v":""},{"$f":"IF('AVI Antenna (Desc)'!I182=\"\",\"\",INDEX([1]ANTENNA_MODEL!$A$2:$A$50,MATCH(1,([1]ANTENNA_MODEL!$C$2:$C$50='AVI Antenna (Desc)'!$H182)*([1]ANTENNA_MODEL!$D$2:$D$50='AVI Antenna (Desc)'!$I182),0),0))","v":""},{"$f":"IF('AVI Antenna (Desc)'!J182=\"\",\"\",INDEX([1]LANE_COVERAGE!$A$2:$A$100,MATCH('AVI Antenna (Desc)'!$J182,[1]!MASTER_LANE_COVERAGE_DESC[#Data],0),0))","v":""},{"$f":"IF('AVI Antenna (Desc)'!K182=\"\",\"\",INDEX([1]LANE_DIRECTION!$A$2:$A$100,MATCH('AVI Antenna (Desc)'!$K182,[1]!MASTER_LANE_DIRECTION_DESC[#Data],0),0))","v":""}]
[{"$f":"IF('AVI Antenna (Desc)'!D183=\"\",\"\",'AVI Antenna (Desc)'!A183)","v":""},{"$f":"IF('AVI Antenna (Desc)'!C183=\"\",\"\",\"2007\")","v":""},{"$f":"IF('AVI Antenna (Desc)'!F183=\"\",\"\",'AVI Antenna (Desc)'!C183)","v":""},{"$f":"IF('AVI Antenna (Desc)'!D183=\"\",\"\",'AVI Antenna (Desc)'!D183)","v":""},{"$f":"IF('AVI Antenna (Desc)'!E183=\"\",\"\",INDEX([1]ASSET_ID_SOURCE!$A$2:$A$50,MATCH('AVI Antenna (Desc)'!E183,[1]!MASTER_ASSET_ID_SOURCE_DESC,0),0))","v":""},{"$f":"IF('AVI Antenna (Desc)'!G183=\"\",\"\",'AVI Antenna (Desc)'!F183)","v":""},{"$f":"IF('AVI Antenna (Desc)'!G183=\"\",\"\",INDEX([1]ANTENNA_TYPE!$A$2:$A$100,MATCH('AVI Antenna (Desc)'!$G183,[1]!MASTER_ANTENNA_TYPE_DESC[#Data],0),0))","v":""},{"$f":"IF('AVI Antenna (Desc)'!H183=\"\",\"\",INDEX([1]ANTENNA_MANUF!$A$2:$A$100,MATCH('AVI Antenna (Desc)'!$H183,[1]!MASTER_ANTENNA_MANUF_DESC[#Data],0),0))","v":""},{"$f":"IF('AVI Antenna (Desc)'!I183=\"\",\"\",INDEX([1]ANTENNA_MODEL!$A$2:$A$50,MATCH(1,([1]ANTENNA_MODEL!$C$2:$C$50='AVI Antenna (Desc)'!$H183)*([1]ANTENNA_MODEL!$D$2:$D$50='AVI Antenna (Desc)'!$I183),0),0))","v":""},{"$f":"IF('AVI Antenna (Desc)'!J183=\"\",\"\",INDEX([1]LANE_COVERAGE!$A$2:$A$100,MATCH('AVI Antenna (Desc)'!$J183,[1]!MASTER_LANE_COVERAGE_DESC[#Data],0),0))","v":""},{"$f":"IF('AVI Antenna (Desc)'!K183=\"\",\"\",INDEX([1]LANE_DIRECTION!$A$2:$A$100,MATCH('AVI Antenna (Desc)'!$K183,[1]!MASTER_LANE_DIRECTION_DESC[#Data],0),0))","v":""}]
[{"$f":"IF('AVI Antenna (Desc)'!D184=\"\",\"\",'AVI Antenna (Desc)'!A184)","v":""},{"$f":"IF('AVI Antenna (Desc)'!C184=\"\",\"\",\"2007\")","v":""},{"$f":"IF('AVI Antenna (Desc)'!F184=\"\",\"\",'AVI Antenna (Desc)'!C184)","v":""},{"$f":"IF('AVI Antenna (Desc)'!D184=\"\",\"\",'AVI Antenna (Desc)'!D184)","v":""},{"$f":"IF('AVI Antenna (Desc)'!E184=\"\",\"\",INDEX([1]ASSET_ID_SOURCE!$A$2:$A$50,MATCH('AVI Antenna (Desc)'!E184,[1]!MASTER_ASSET_ID_SOURCE_DESC,0),0))","v":""},{"$f":"IF('AVI Antenna (Desc)'!G184=\"\",\"\",'AVI Antenna (Desc)'!F184)","v":""},{"$f":"IF('AVI Antenna (Desc)'!G184=\"\",\"\",INDEX([1]ANTENNA_TYPE!$A$2:$A$100,MATCH('AVI Antenna (Desc)'!$G184,[1]!MASTER_ANTENNA_TYPE_DESC[#Data],0),0))","v":""},{"$f":"IF('AVI Antenna (Desc)'!H184=\"\",\"\",INDEX([1]ANTENNA_MANUF!$A$2:$A$100,MATCH('AVI Antenna (Desc)'!$H184,[1]!MASTER_ANTENNA_MANUF_DESC[#Data],0),0))","v":""},{"$f":"IF('AVI Antenna (Desc)'!I184=\"\",\"\",INDEX([1]ANTENNA_MODEL!$A$2:$A$50,MATCH(1,([1]ANTENNA_MODEL!$C$2:$C$50='AVI Antenna (Desc)'!$H184)*([1]ANTENNA_MODEL!$D$2:$D$50='AVI Antenna (Desc)'!$I184),0),0))","v":""},{"$f":"IF('AVI Antenna (Desc)'!J184=\"\",\"\",INDEX([1]LANE_COVERAGE!$A$2:$A$100,MATCH('AVI Antenna (Desc)'!$J184,[1]!MASTER_LANE_COVERAGE_DESC[#Data],0),0))","v":""},{"$f":"IF('AVI Antenna (Desc)'!K184=\"\",\"\",INDEX([1]LANE_DIRECTION!$A$2:$A$100,MATCH('AVI Antenna (Desc)'!$K184,[1]!MASTER_LANE_DIRECTION_DESC[#Data],0),0))","v":""}]
[{"$f":"IF('AVI Antenna (Desc)'!D185=\"\",\"\",'AVI Antenna (Desc)'!A185)","v":""},{"$f":"IF('AVI Antenna (Desc)'!C185=\"\",\"\",\"2007\")","v":""},{"$f":"IF('AVI Antenna (Desc)'!F185=\"\",\"\",'AVI Antenna (Desc)'!C185)","v":""},{"$f":"IF('AVI Antenna (Desc)'!D185=\"\",\"\",'AVI Antenna (Desc)'!D185)","v":""},{"$f":"IF('AVI Antenna (Desc)'!E185=\"\",\"\",INDEX([1]ASSET_ID_SOURCE!$A$2:$A$50,MATCH('AVI Antenna (Desc)'!E185,[1]!MASTER_ASSET_ID_SOURCE_DESC,0),0))","v":""},{"$f":"IF('AVI Antenna (Desc)'!G185=\"\",\"\",'AVI Antenna (Desc)'!F185)","v":""},{"$f":"IF('AVI Antenna (Desc)'!G185=\"\",\"\",INDEX([1]ANTENNA_TYPE!$A$2:$A$100,MATCH('AVI Antenna (Desc)'!$G185,[1]!MASTER_ANTENNA_TYPE_DESC[#Data],0),0))","v":""},{"$f":"IF('AVI Antenna (Desc)'!H185=\"\",\"\",INDEX([1]ANTENNA_MANUF!$A$2:$A$100,MATCH('AVI Antenna (Desc)'!$H185,[1]!MASTER_ANTENNA_MANUF_DESC[#Data],0),0))","v":""},{"$f":"IF('AVI Antenna (Desc)'!I185=\"\",\"\",INDEX([1]ANTENNA_MODEL!$A$2:$A$50,MATCH(1,([1]ANTENNA_MODEL!$C$2:$C$50='AVI Antenna (Desc)'!$H185)*([1]ANTENNA_MODEL!$D$2:$D$50='AVI Antenna (Desc)'!$I185),0),0))","v":""},{"$f":"IF('AVI Antenna (Desc)'!J185=\"\",\"\",INDEX([1]LANE_COVERAGE!$A$2:$A$100,MATCH('AVI Antenna (Desc)'!$J185,[1]!MASTER_LANE_COVERAGE_DESC[#Data],0),0))","v":""},{"$f":"IF('AVI Antenna (Desc)'!K185=\"\",\"\",INDEX([1]LANE_DIRECTION!$A$2:$A$100,MATCH('AVI Antenna (Desc)'!$K185,[1]!MASTER_LANE_DIRECTION_DESC[#Data],0),0))","v":""}]
[{"$f":"IF('AVI Antenna (Desc)'!D186=\"\",\"\",'AVI Antenna (Desc)'!A186)","v":""},{"$f":"IF('AVI Antenna (Desc)'!C186=\"\",\"\",\"2007\")","v":""},{"$f":"IF('AVI Antenna (Desc)'!F186=\"\",\"\",'AVI Antenna (Desc)'!C186)","v":""},{"$f":"IF('AVI Antenna (Desc)'!D186=\"\",\"\",'AVI Antenna (Desc)'!D186)","v":""},{"$f":"IF('AVI Antenna (Desc)'!E186=\"\",\"\",INDEX([1]ASSET_ID_SOURCE!$A$2:$A$50,MATCH('AVI Antenna (Desc)'!E186,[1]!MASTER_ASSET_ID_SOURCE_DESC,0),0))","v":""},{"$f":"IF('AVI Antenna (Desc)'!G186=\"\",\"\",'AVI Antenna (Desc)'!F186)","v":""},{"$f":"IF('AVI Antenna (Desc)'!G186=\"\",\"\",INDEX([1]ANTENNA_TYPE!$A$2:$A$100,MATCH('AVI Antenna (Desc)'!$G186,[1]!MASTER_ANTENNA_TYPE_DESC[#Data],0),0))","v":""},{"$f":"IF('AVI Antenna (Desc)'!H186=\"\",\"\",INDEX([1]ANTENNA_MANUF!$A$2:$A$100,MATCH('AVI Antenna (Desc)'!$H186,[1]!MASTER_ANTENNA_MANUF_DESC[#Data],0),0))","v":""},{"$f":"IF('AVI Antenna (Desc)'!I186=\"\",\"\",INDEX([1]ANTENNA_MODEL!$A$2:$A$50,MATCH(1,([1]ANTENNA_MODEL!$C$2:$C$50='AVI Antenna (Desc)'!$H186)*([1]ANTENNA_MODEL!$D$2:$D$50='AVI Antenna (Desc)'!$I186),0),0))","v":""},{"$f":"IF('AVI Antenna (Desc)'!J186=\"\",\"\",INDEX([1]LANE_COVERAGE!$A$2:$A$100,MATCH('AVI Antenna (Desc)'!$J186,[1]!MASTER_LANE_COVERAGE_DESC[#Data],0),0))","v":""},{"$f":"IF('AVI Antenna (Desc)'!K186=\"\",\"\",INDEX([1]LANE_DIRECTION!$A$2:$A$100,MATCH('AVI Antenna (Desc)'!$K186,[1]!MASTER_LANE_DIRECTION_DESC[#Data],0),0))","v":""}]
[{"$f":"IF('AVI Antenna (Desc)'!D187=\"\",\"\",'AVI Antenna (Desc)'!A187)","v":""},{"$f":"IF('AVI Antenna (Desc)'!C187=\"\",\"\",\"2007\")","v":""},{"$f":"IF('AVI Antenna (Desc)'!F187=\"\",\"\",'AVI Antenna (Desc)'!C187)","v":""},{"$f":"IF('AVI Antenna (Desc)'!D187=\"\",\"\",'AVI Antenna (Desc)'!D187)","v":""},{"$f":"IF('AVI Antenna (Desc)'!E187=\"\",\"\",INDEX([1]ASSET_ID_SOURCE!$A$2:$A$50,MATCH('AVI Antenna (Desc)'!E187,[1]!MASTER_ASSET_ID_SOURCE_DESC,0),0))","v":""},{"$f":"IF('AVI Antenna (Desc)'!G187=\"\",\"\",'AVI Antenna (Desc)'!F187)","v":""},{"$f":"IF('AVI Antenna (Desc)'!G187=\"\",\"\",INDEX([1]ANTENNA_TYPE!$A$2:$A$100,MATCH('AVI Antenna (Desc)'!$G187,[1]!MASTER_ANTENNA_TYPE_DESC[#Data],0),0))","v":""},{"$f":"IF('AVI Antenna (Desc)'!H187=\"\",\"\",INDEX([1]ANTENNA_MANUF!$A$2:$A$100,MATCH('AVI Antenna (Desc)'!$H187,[1]!MASTER_ANTENNA_MANUF_DESC[#Data],0),0))","v":""},{"$f":"IF('AVI Antenna (Desc)'!I187=\"\",\"\",INDEX([1]ANTENNA_MODEL!$A$2:$A$50,MATCH(1,([1]ANTENNA_MODEL!$C$2:$C$50='AVI Antenna (Desc)'!$H187)*([1]ANTENNA_MODEL!$D$2:$D$50='AVI Antenna (Desc)'!$I187),0),0))","v":""},{"$f":"IF('AVI Antenna (Desc)'!J187=\"\",\"\",INDEX([1]LANE_COVERAGE!$A$2:$A$100,MATCH('AVI Antenna (Desc)'!$J187,[1]!MASTER_LANE_COVERAGE_DESC[#Data],0),0))","v":""},{"$f":"IF('AVI Antenna (Desc)'!K187=\"\",\"\",INDEX([1]LANE_DIRECTION!$A$2:$A$100,MATCH('AVI Antenna (Desc)'!$K187,[1]!MASTER_LANE_DIRECTION_DESC[#Data],0),0))","v":""}]
[{"$f":"IF('AVI Antenna (Desc)'!D188=\"\",\"\",'AVI Antenna (Desc)'!A188)","v":""},{"$f":"IF('AVI Antenna (Desc)'!C188=\"\",\"\",\"2007\")","v":""},{"$f":"IF('AVI Antenna (Desc)'!F188=\"\",\"\",'AVI Antenna (Desc)'!C188)","v":""},{"$f":"IF('AVI Antenna (Desc)'!D188=\"\",\"\",'AVI Antenna (Desc)'!D188)","v":""},{"$f":"IF('AVI Antenna (Desc)'!E188=\"\",\"\",INDEX([1]ASSET_ID_SOURCE!$A$2:$A$50,MATCH('AVI Antenna (Desc)'!E188,[1]!MASTER_ASSET_ID_SOURCE_DESC,0),0))","v":""},{"$f":"IF('AVI Antenna (Desc)'!G188=\"\",\"\",'AVI Antenna (Desc)'!F188)","v":""},{"$f":"IF('AVI Antenna (Desc)'!G188=\"\",\"\",INDEX([1]ANTENNA_TYPE!$A$2:$A$100,MATCH('AVI Antenna (Desc)'!$G188,[1]!MASTER_ANTENNA_TYPE_DESC[#Data],0),0))","v":""},{"$f":"IF('AVI Antenna (Desc)'!H188=\"\",\"\",INDEX([1]ANTENNA_MANUF!$A$2:$A$100,MATCH('AVI Antenna (Desc)'!$H188,[1]!MASTER_ANTENNA_MANUF_DESC[#Data],0),0))","v":""},{"$f":"IF('AVI Antenna (Desc)'!I188=\"\",\"\",INDEX([1]ANTENNA_MODEL!$A$2:$A$50,MATCH(1,([1]ANTENNA_MODEL!$C$2:$C$50='AVI Antenna (Desc)'!$H188)*([1]ANTENNA_MODEL!$D$2:$D$50='AVI Antenna (Desc)'!$I188),0),0))","v":""},{"$f":"IF('AVI Antenna (Desc)'!J188=\"\",\"\",INDEX([1]LANE_COVERAGE!$A$2:$A$100,MATCH('AVI Antenna (Desc)'!$J188,[1]!MASTER_LANE_COVERAGE_DESC[#Data],0),0))","v":""},{"$f":"IF('AVI Antenna (Desc)'!K188=\"\",\"\",INDEX([1]LANE_DIRECTION!$A$2:$A$100,MATCH('AVI Antenna (Desc)'!$K188,[1]!MASTER_LANE_DIRECTION_DESC[#Data],0),0))","v":""}]
[{"$f":"IF('AVI Antenna (Desc)'!D189=\"\",\"\",'AVI Antenna (Desc)'!A189)","v":""},{"$f":"IF('AVI Antenna (Desc)'!C189=\"\",\"\",\"2007\")","v":""},{"$f":"IF('AVI Antenna (Desc)'!F189=\"\",\"\",'AVI Antenna (Desc)'!C189)","v":""},{"$f":"IF('AVI Antenna (Desc)'!D189=\"\",\"\",'AVI Antenna (Desc)'!D189)","v":""},{"$f":"IF('AVI Antenna (Desc)'!E189=\"\",\"\",INDEX([1]ASSET_ID_SOURCE!$A$2:$A$50,MATCH('AVI Antenna (Desc)'!E189,[1]!MASTER_ASSET_ID_SOURCE_DESC,0),0))","v":""},{"$f":"IF('AVI Antenna (Desc)'!G189=\"\",\"\",'AVI Antenna (Desc)'!F189)","v":""},{"$f":"IF('AVI Antenna (Desc)'!G189=\"\",\"\",INDEX([1]ANTENNA_TYPE!$A$2:$A$100,MATCH('AVI Antenna (Desc)'!$G189,[1]!MASTER_ANTENNA_TYPE_DESC[#Data],0),0))","v":""},{"$f":"IF('AVI Antenna (Desc)'!H189=\"\",\"\",INDEX([1]ANTENNA_MANUF!$A$2:$A$100,MATCH('AVI Antenna (Desc)'!$H189,[1]!MASTER_ANTENNA_MANUF_DESC[#Data],0),0))","v":""},{"$f":"IF('AVI Antenna (Desc)'!I189=\"\",\"\",INDEX([1]ANTENNA_MODEL!$A$2:$A$50,MATCH(1,([1]ANTENNA_MODEL!$C$2:$C$50='AVI Antenna (Desc)'!$H189)*([1]ANTENNA_MODEL!$D$2:$D$50='AVI Antenna (Desc)'!$I189),0),0))","v":""},{"$f":"IF('AVI Antenna (Desc)'!J189=\"\",\"\",INDEX([1]LANE_COVERAGE!$A$2:$A$100,MATCH('AVI Antenna (Desc)'!$J189,[1]!MASTER_LANE_COVERAGE_DESC[#Data],0),0))","v":""},{"$f":"IF('AVI Antenna (Desc)'!K189=\"\",\"\",INDEX([1]LANE_DIRECTION!$A$2:$A$100,MATCH('AVI Antenna (Desc)'!$K189,[1]!MASTER_LANE_DIRECTION_DESC[#Data],0),0))","v":""}]
[{"$f":"IF('AVI Antenna (Desc)'!D190=\"\",\"\",'AVI Antenna (Desc)'!A190)","v":""},{"$f":"IF('AVI Antenna (Desc)'!C190=\"\",\"\",\"2007\")","v":""},{"$f":"IF('AVI Antenna (Desc)'!F190=\"\",\"\",'AVI Antenna (Desc)'!C190)","v":""},{"$f":"IF('AVI Antenna (Desc)'!D190=\"\",\"\",'AVI Antenna (Desc)'!D190)","v":""},{"$f":"IF('AVI Antenna (Desc)'!E190=\"\",\"\",INDEX([1]ASSET_ID_SOURCE!$A$2:$A$50,MATCH('AVI Antenna (Desc)'!E190,[1]!MASTER_ASSET_ID_SOURCE_DESC,0),0))","v":""},{"$f":"IF('AVI Antenna (Desc)'!G190=\"\",\"\",'AVI Antenna (Desc)'!F190)","v":""},{"$f":"IF('AVI Antenna (Desc)'!G190=\"\",\"\",INDEX([1]ANTENNA_TYPE!$A$2:$A$100,MATCH('AVI Antenna (Desc)'!$G190,[1]!MASTER_ANTENNA_TYPE_DESC[#Data],0),0))","v":""},{"$f":"IF('AVI Antenna (Desc)'!H190=\"\",\"\",INDEX([1]ANTENNA_MANUF!$A$2:$A$100,MATCH('AVI Antenna (Desc)'!$H190,[1]!MASTER_ANTENNA_MANUF_DESC[#Data],0),0))","v":""},{"$f":"IF('AVI Antenna (Desc)'!I190=\"\",\"\",INDEX([1]ANTENNA_MODEL!$A$2:$A$50,MATCH(1,([1]ANTENNA_MODEL!$C$2:$C$50='AVI Antenna (Desc)'!$H190)*([1]ANTENNA_MODEL!$D$2:$D$50='AVI Antenna (Desc)'!$I190),0),0))","v":""},{"$f":"IF('AVI Antenna (Desc)'!J190=\"\",\"\",INDEX([1]LANE_COVERAGE!$A$2:$A$100,MATCH('AVI Antenna (Desc)'!$J190,[1]!MASTER_LANE_COVERAGE_DESC[#Data],0),0))","v":""},{"$f":"IF('AVI Antenna (Desc)'!K190=\"\",\"\",INDEX([1]LANE_DIRECTION!$A$2:$A$100,MATCH('AVI Antenna (Desc)'!$K190,[1]!MASTER_LANE_DIRECTION_DESC[#Data],0),0))","v":""}]
[{"$f":"IF('AVI Antenna (Desc)'!D191=\"\",\"\",'AVI Antenna (Desc)'!A191)","v":""},{"$f":"IF('AVI Antenna (Desc)'!C191=\"\",\"\",\"2007\")","v":""},{"$f":"IF('AVI Antenna (Desc)'!F191=\"\",\"\",'AVI Antenna (Desc)'!C191)","v":""},{"$f":"IF('AVI Antenna (Desc)'!D191=\"\",\"\",'AVI Antenna (Desc)'!D191)","v":""},{"$f":"IF('AVI Antenna (Desc)'!E191=\"\",\"\",INDEX([1]ASSET_ID_SOURCE!$A$2:$A$50,MATCH('AVI Antenna (Desc)'!E191,[1]!MASTER_ASSET_ID_SOURCE_DESC,0),0))","v":""},{"$f":"IF('AVI Antenna (Desc)'!G191=\"\",\"\",'AVI Antenna (Desc)'!F191)","v":""},{"$f":"IF('AVI Antenna (Desc)'!G191=\"\",\"\",INDEX([1]ANTENNA_TYPE!$A$2:$A$100,MATCH('AVI Antenna (Desc)'!$G191,[1]!MASTER_ANTENNA_TYPE_DESC[#Data],0),0))","v":""},{"$f":"IF('AVI Antenna (Desc)'!H191=\"\",\"\",INDEX([1]ANTENNA_MANUF!$A$2:$A$100,MATCH('AVI Antenna (Desc)'!$H191,[1]!MASTER_ANTENNA_MANUF_DESC[#Data],0),0))","v":""},{"$f":"IF('AVI Antenna (Desc)'!I191=\"\",\"\",INDEX([1]ANTENNA_MODEL!$A$2:$A$50,MATCH(1,([1]ANTENNA_MODEL!$C$2:$C$50='AVI Antenna (Desc)'!$H191)*([1]ANTENNA_MODEL!$D$2:$D$50='AVI Antenna (Desc)'!$I191),0),0))","v":""},{"$f":"IF('AVI Antenna (Desc)'!J191=\"\",\"\",INDEX([1]LANE_COVERAGE!$A$2:$A$100,MATCH('AVI Antenna (Desc)'!$J191,[1]!MASTER_LANE_COVERAGE_DESC[#Data],0),0))","v":""},{"$f":"IF('AVI Antenna (Desc)'!K191=\"\",\"\",INDEX([1]LANE_DIRECTION!$A$2:$A$100,MATCH('AVI Antenna (Desc)'!$K191,[1]!MASTER_LANE_DIRECTION_DESC[#Data],0),0))","v":""}]
[{"$f":"IF('AVI Antenna (Desc)'!D192=\"\",\"\",'AVI Antenna (Desc)'!A192)","v":""},{"$f":"IF('AVI Antenna (Desc)'!C192=\"\",\"\",\"2007\")","v":""},{"$f":"IF('AVI Antenna (Desc)'!F192=\"\",\"\",'AVI Antenna (Desc)'!C192)","v":""},{"$f":"IF('AVI Antenna (Desc)'!D192=\"\",\"\",'AVI Antenna (Desc)'!D192)","v":""},{"$f":"IF('AVI Antenna (Desc)'!E192=\"\",\"\",INDEX([1]ASSET_ID_SOURCE!$A$2:$A$50,MATCH('AVI Antenna (Desc)'!E192,[1]!MASTER_ASSET_ID_SOURCE_DESC,0),0))","v":""},{"$f":"IF('AVI Antenna (Desc)'!G192=\"\",\"\",'AVI Antenna (Desc)'!F192)","v":""},{"$f":"IF('AVI Antenna (Desc)'!G192=\"\",\"\",INDEX([1]ANTENNA_TYPE!$A$2:$A$100,MATCH('AVI Antenna (Desc)'!$G192,[1]!MASTER_ANTENNA_TYPE_DESC[#Data],0),0))","v":""},{"$f":"IF('AVI Antenna (Desc)'!H192=\"\",\"\",INDEX([1]ANTENNA_MANUF!$A$2:$A$100,MATCH('AVI Antenna (Desc)'!$H192,[1]!MASTER_ANTENNA_MANUF_DESC[#Data],0),0))","v":""},{"$f":"IF('AVI Antenna (Desc)'!I192=\"\",\"\",INDEX([1]ANTENNA_MODEL!$A$2:$A$50,MATCH(1,([1]ANTENNA_MODEL!$C$2:$C$50='AVI Antenna (Desc)'!$H192)*([1]ANTENNA_MODEL!$D$2:$D$50='AVI Antenna (Desc)'!$I192),0),0))","v":""},{"$f":"IF('AVI Antenna (Desc)'!J192=\"\",\"\",INDEX([1]LANE_COVERAGE!$A$2:$A$100,MATCH('AVI Antenna (Desc)'!$J192,[1]!MASTER_LANE_COVERAGE_DESC[#Data],0),0))","v":""},{"$f":"IF('AVI Antenna (Desc)'!K192=\"\",\"\",INDEX([1]LANE_DIRECTION!$A$2:$A$100,MATCH('AVI Antenna (Desc)'!$K192,[1]!MASTER_LANE_DIRECTION_DESC[#Data],0),0))","v":""}]
[{"$f":"IF('AVI Antenna (Desc)'!D193=\"\",\"\",'AVI Antenna (Desc)'!A193)","v":""},{"$f":"IF('AVI Antenna (Desc)'!C193=\"\",\"\",\"2007\")","v":""},{"$f":"IF('AVI Antenna (Desc)'!F193=\"\",\"\",'AVI Antenna (Desc)'!C193)","v":""},{"$f":"IF('AVI Antenna (Desc)'!D193=\"\",\"\",'AVI Antenna (Desc)'!D193)","v":""},{"$f":"IF('AVI Antenna (Desc)'!E193=\"\",\"\",INDEX([1]ASSET_ID_SOURCE!$A$2:$A$50,MATCH('AVI Antenna (Desc)'!E193,[1]!MASTER_ASSET_ID_SOURCE_DESC,0),0))","v":""},{"$f":"IF('AVI Antenna (Desc)'!G193=\"\",\"\",'AVI Antenna (Desc)'!F193)","v":""},{"$f":"IF('AVI Antenna (Desc)'!G193=\"\",\"\",INDEX([1]ANTENNA_TYPE!$A$2:$A$100,MATCH('AVI Antenna (Desc)'!$G193,[1]!MASTER_ANTENNA_TYPE_DESC[#Data],0),0))","v":""},{"$f":"IF('AVI Antenna (Desc)'!H193=\"\",\"\",INDEX([1]ANTENNA_MANUF!$A$2:$A$100,MATCH('AVI Antenna (Desc)'!$H193,[1]!MASTER_ANTENNA_MANUF_DESC[#Data],0),0))","v":""},{"$f":"IF('AVI Antenna (Desc)'!I193=\"\",\"\",INDEX([1]ANTENNA_MODEL!$A$2:$A$50,MATCH(1,([1]ANTENNA_MODEL!$C$2:$C$50='AVI Antenna (Desc)'!$H193)*([1]ANTENNA_MODEL!$D$2:$D$50='AVI Antenna (Desc)'!$I193),0),0))","v":""},{"$f":"IF('AVI Antenna (Desc)'!J193=\"\",\"\",INDEX([1]LANE_COVERAGE!$A$2:$A$100,MATCH('AVI Antenna (Desc)'!$J193,[1]!MASTER_LANE_COVERAGE_DESC[#Data],0),0))","v":""},{"$f":"IF('AVI Antenna (Desc)'!K193=\"\",\"\",INDEX([1]LANE_DIRECTION!$A$2:$A$100,MATCH('AVI Antenna (Desc)'!$K193,[1]!MASTER_LANE_DIRECTION_DESC[#Data],0),0))","v":""}]
[{"$f":"IF('AVI Antenna (Desc)'!D194=\"\",\"\",'AVI Antenna (Desc)'!A194)","v":""},{"$f":"IF('AVI Antenna (Desc)'!C194=\"\",\"\",\"2007\")","v":""},{"$f":"IF('AVI Antenna (Desc)'!F194=\"\",\"\",'AVI Antenna (Desc)'!C194)","v":""},{"$f":"IF('AVI Antenna (Desc)'!D194=\"\",\"\",'AVI Antenna (Desc)'!D194)","v":""},{"$f":"IF('AVI Antenna (Desc)'!E194=\"\",\"\",INDEX([1]ASSET_ID_SOURCE!$A$2:$A$50,MATCH('AVI Antenna (Desc)'!E194,[1]!MASTER_ASSET_ID_SOURCE_DESC,0),0))","v":""},{"$f":"IF('AVI Antenna (Desc)'!G194=\"\",\"\",'AVI Antenna (Desc)'!F194)","v":""},{"$f":"IF('AVI Antenna (Desc)'!G194=\"\",\"\",INDEX([1]ANTENNA_TYPE!$A$2:$A$100,MATCH('AVI Antenna (Desc)'!$G194,[1]!MASTER_ANTENNA_TYPE_DESC[#Data],0),0))","v":""},{"$f":"IF('AVI Antenna (Desc)'!H194=\"\",\"\",INDEX([1]ANTENNA_MANUF!$A$2:$A$100,MATCH('AVI Antenna (Desc)'!$H194,[1]!MASTER_ANTENNA_MANUF_DESC[#Data],0),0))","v":""},{"$f":"IF('AVI Antenna (Desc)'!I194=\"\",\"\",INDEX([1]ANTENNA_MODEL!$A$2:$A$50,MATCH(1,([1]ANTENNA_MODEL!$C$2:$C$50='AVI Antenna (Desc)'!$H194)*([1]ANTENNA_MODEL!$D$2:$D$50='AVI Antenna (Desc)'!$I194),0),0))","v":""},{"$f":"IF('AVI Antenna (Desc)'!J194=\"\",\"\",INDEX([1]LANE_COVERAGE!$A$2:$A$100,MATCH('AVI Antenna (Desc)'!$J194,[1]!MASTER_LANE_COVERAGE_DESC[#Data],0),0))","v":""},{"$f":"IF('AVI Antenna (Desc)'!K194=\"\",\"\",INDEX([1]LANE_DIRECTION!$A$2:$A$100,MATCH('AVI Antenna (Desc)'!$K194,[1]!MASTER_LANE_DIRECTION_DESC[#Data],0),0))","v":""}]
[{"$f":"IF('AVI Antenna (Desc)'!D195=\"\",\"\",'AVI Antenna (Desc)'!A195)","v":""},{"$f":"IF('AVI Antenna (Desc)'!C195=\"\",\"\",\"2007\")","v":""},{"$f":"IF('AVI Antenna (Desc)'!F195=\"\",\"\",'AVI Antenna (Desc)'!C195)","v":""},{"$f":"IF('AVI Antenna (Desc)'!D195=\"\",\"\",'AVI Antenna (Desc)'!D195)","v":""},{"$f":"IF('AVI Antenna (Desc)'!E195=\"\",\"\",INDEX([1]ASSET_ID_SOURCE!$A$2:$A$50,MATCH('AVI Antenna (Desc)'!E195,[1]!MASTER_ASSET_ID_SOURCE_DESC,0),0))","v":""},{"$f":"IF('AVI Antenna (Desc)'!G195=\"\",\"\",'AVI Antenna (Desc)'!F195)","v":""},{"$f":"IF('AVI Antenna (Desc)'!G195=\"\",\"\",INDEX([1]ANTENNA_TYPE!$A$2:$A$100,MATCH('AVI Antenna (Desc)'!$G195,[1]!MASTER_ANTENNA_TYPE_DESC[#Data],0),0))","v":""},{"$f":"IF('AVI Antenna (Desc)'!H195=\"\",\"\",INDEX([1]ANTENNA_MANUF!$A$2:$A$100,MATCH('AVI Antenna (Desc)'!$H195,[1]!MASTER_ANTENNA_MANUF_DESC[#Data],0),0))","v":""},{"$f":"IF('AVI Antenna (Desc)'!I195=\"\",\"\",INDEX([1]ANTENNA_MODEL!$A$2:$A$50,MATCH(1,([1]ANTENNA_MODEL!$C$2:$C$50='AVI Antenna (Desc)'!$H195)*([1]ANTENNA_MODEL!$D$2:$D$50='AVI Antenna (Desc)'!$I195),0),0))","v":""},{"$f":"IF('AVI Antenna (Desc)'!J195=\"\",\"\",INDEX([1]LANE_COVERAGE!$A$2:$A$100,MATCH('AVI Antenna (Desc)'!$J195,[1]!MASTER_LANE_COVERAGE_DESC[#Data],0),0))","v":""},{"$f":"IF('AVI Antenna (Desc)'!K195=\"\",\"\",INDEX([1]LANE_DIRECTION!$A$2:$A$100,MATCH('AVI Antenna (Desc)'!$K195,[1]!MASTER_LANE_DIRECTION_DESC[#Data],0),0))","v":""}]
[{"$f":"IF('AVI Antenna (Desc)'!D196=\"\",\"\",'AVI Antenna (Desc)'!A196)","v":""},{"$f":"IF('AVI Antenna (Desc)'!C196=\"\",\"\",\"2007\")","v":""},{"$f":"IF('AVI Antenna (Desc)'!F196=\"\",\"\",'AVI Antenna (Desc)'!C196)","v":""},{"$f":"IF('AVI Antenna (Desc)'!D196=\"\",\"\",'AVI Antenna (Desc)'!D196)","v":""},{"$f":"IF('AVI Antenna (Desc)'!E196=\"\",\"\",INDEX([1]ASSET_ID_SOURCE!$A$2:$A$50,MATCH('AVI Antenna (Desc)'!E196,[1]!MASTER_ASSET_ID_SOURCE_DESC,0),0))","v":""},{"$f":"IF('AVI Antenna (Desc)'!G196=\"\",\"\",'AVI Antenna (Desc)'!F196)","v":""},{"$f":"IF('AVI Antenna (Desc)'!G196=\"\",\"\",INDEX([1]ANTENNA_TYPE!$A$2:$A$100,MATCH('AVI Antenna (Desc)'!$G196,[1]!MASTER_ANTENNA_TYPE_DESC[#Data],0),0))","v":""},{"$f":"IF('AVI Antenna (Desc)'!H196=\"\",\"\",INDEX([1]ANTENNA_MANUF!$A$2:$A$100,MATCH('AVI Antenna (Desc)'!$H196,[1]!MASTER_ANTENNA_MANUF_DESC[#Data],0),0))","v":""},{"$f":"IF('AVI Antenna (Desc)'!I196=\"\",\"\",INDEX([1]ANTENNA_MODEL!$A$2:$A$50,MATCH(1,([1]ANTENNA_MODEL!$C$2:$C$50='AVI Antenna (Desc)'!$H196)*([1]ANTENNA_MODEL!$D$2:$D$50='AVI Antenna (Desc)'!$I196),0),0))","v":""},{"$f":"IF('AVI Antenna (Desc)'!J196=\"\",\"\",INDEX([1]LANE_COVERAGE!$A$2:$A$100,MATCH('AVI Antenna (Desc)'!$J196,[1]!MASTER_LANE_COVERAGE_DESC[#Data],0),0))","v":""},{"$f":"IF('AVI Antenna (Desc)'!K196=\"\",\"\",INDEX([1]LANE_DIRECTION!$A$2:$A$100,MATCH('AVI Antenna (Desc)'!$K196,[1]!MASTER_LANE_DIRECTION_DESC[#Data],0),0))","v":""}]
[{"$f":"IF('AVI Antenna (Desc)'!D197=\"\",\"\",'AVI Antenna (Desc)'!A197)","v":""},{"$f":"IF('AVI Antenna (Desc)'!C197=\"\",\"\",\"2007\")","v":""},{"$f":"IF('AVI Antenna (Desc)'!F197=\"\",\"\",'AVI Antenna (Desc)'!C197)","v":""},{"$f":"IF('AVI Antenna (Desc)'!D197=\"\",\"\",'AVI Antenna (Desc)'!D197)","v":""},{"$f":"IF('AVI Antenna (Desc)'!E197=\"\",\"\",INDEX([1]ASSET_ID_SOURCE!$A$2:$A$50,MATCH('AVI Antenna (Desc)'!E197,[1]!MASTER_ASSET_ID_SOURCE_DESC,0),0))","v":""},{"$f":"IF('AVI Antenna (Desc)'!G197=\"\",\"\",'AVI Antenna (Desc)'!F197)","v":""},{"$f":"IF('AVI Antenna (Desc)'!G197=\"\",\"\",INDEX([1]ANTENNA_TYPE!$A$2:$A$100,MATCH('AVI Antenna (Desc)'!$G197,[1]!MASTER_ANTENNA_TYPE_DESC[#Data],0),0))","v":""},{"$f":"IF('AVI Antenna (Desc)'!H197=\"\",\"\",INDEX([1]ANTENNA_MANUF!$A$2:$A$100,MATCH('AVI Antenna (Desc)'!$H197,[1]!MASTER_ANTENNA_MANUF_DESC[#Data],0),0))","v":""},{"$f":"IF('AVI Antenna (Desc)'!I197=\"\",\"\",INDEX([1]ANTENNA_MODEL!$A$2:$A$50,MATCH(1,([1]ANTENNA_MODEL!$C$2:$C$50='AVI Antenna (Desc)'!$H197)*([1]ANTENNA_MODEL!$D$2:$D$50='AVI Antenna (Desc)'!$I197),0),0))","v":""},{"$f":"IF('AVI Antenna (Desc)'!J197=\"\",\"\",INDEX([1]LANE_COVERAGE!$A$2:$A$100,MATCH('AVI Antenna (Desc)'!$J197,[1]!MASTER_LANE_COVERAGE_DESC[#Data],0),0))","v":""},{"$f":"IF('AVI Antenna (Desc)'!K197=\"\",\"\",INDEX([1]LANE_DIRECTION!$A$2:$A$100,MATCH('AVI Antenna (Desc)'!$K197,[1]!MASTER_LANE_DIRECTION_DESC[#Data],0),0))","v":""}]
[{"$f":"IF('AVI Antenna (Desc)'!D198=\"\",\"\",'AVI Antenna (Desc)'!A198)","v":""},{"$f":"IF('AVI Antenna (Desc)'!C198=\"\",\"\",\"2007\")","v":""},{"$f":"IF('AVI Antenna (Desc)'!F198=\"\",\"\",'AVI Antenna (Desc)'!C198)","v":""},{"$f":"IF('AVI Antenna (Desc)'!D198=\"\",\"\",'AVI Antenna (Desc)'!D198)","v":""},{"$f":"IF('AVI Antenna (Desc)'!E198=\"\",\"\",INDEX([1]ASSET_ID_SOURCE!$A$2:$A$50,MATCH('AVI Antenna (Desc)'!E198,[1]!MASTER_ASSET_ID_SOURCE_DESC,0),0))","v":""},{"$f":"IF('AVI Antenna (Desc)'!G198=\"\",\"\",'AVI Antenna (Desc)'!F198)","v":""},{"$f":"IF('AVI Antenna (Desc)'!G198=\"\",\"\",INDEX([1]ANTENNA_TYPE!$A$2:$A$100,MATCH('AVI Antenna (Desc)'!$G198,[1]!MASTER_ANTENNA_TYPE_DESC[#Data],0),0))","v":""},{"$f":"IF('AVI Antenna (Desc)'!H198=\"\",\"\",INDEX([1]ANTENNA_MANUF!$A$2:$A$100,MATCH('AVI Antenna (Desc)'!$H198,[1]!MASTER_ANTENNA_MANUF_DESC[#Data],0),0))","v":""},{"$f":"IF('AVI Antenna (Desc)'!I198=\"\",\"\",INDEX([1]ANTENNA_MODEL!$A$2:$A$50,MATCH(1,([1]ANTENNA_MODEL!$C$2:$C$50='AVI Antenna (Desc)'!$H198)*([1]ANTENNA_MODEL!$D$2:$D$50='AVI Antenna (Desc)'!$I198),0),0))","v":""},{"$f":"IF('AVI Antenna (Desc)'!J198=\"\",\"\",INDEX([1]LANE_COVERAGE!$A$2:$A$100,MATCH('AVI Antenna (Desc)'!$J198,[1]!MASTER_LANE_COVERAGE_DESC[#Data],0),0))","v":""},{"$f":"IF('AVI Antenna (Desc)'!K198=\"\",\"\",INDEX([1]LANE_DIRECTION!$A$2:$A$100,MATCH('AVI Antenna (Desc)'!$K198,[1]!MASTER_LANE_DIRECTION_DESC[#Data],0),0))","v":""}]
[{"$f":"IF('AVI Antenna (Desc)'!D199=\"\",\"\",'AVI Antenna (Desc)'!A199)","v":""},{"$f":"IF('AVI Antenna (Desc)'!C199=\"\",\"\",\"2007\")","v":""},{"$f":"IF('AVI Antenna (Desc)'!F199=\"\",\"\",'AVI Antenna (Desc)'!C199)","v":""},{"$f":"IF('AVI Antenna (Desc)'!D199=\"\",\"\",'AVI Antenna (Desc)'!D199)","v":""},{"$f":"IF('AVI Antenna (Desc)'!E199=\"\",\"\",INDEX([1]ASSET_ID_SOURCE!$A$2:$A$50,MATCH('AVI Antenna (Desc)'!E199,[1]!MASTER_ASSET_ID_SOURCE_DESC,0),0))","v":""},{"$f":"IF('AVI Antenna (Desc)'!G199=\"\",\"\",'AVI Antenna (Desc)'!F199)","v":""},{"$f":"IF('AVI Antenna (Desc)'!G199=\"\",\"\",INDEX([1]ANTENNA_TYPE!$A$2:$A$100,MATCH('AVI Antenna (Desc)'!$G199,[1]!MASTER_ANTENNA_TYPE_DESC[#Data],0),0))","v":""},{"$f":"IF('AVI Antenna (Desc)'!H199=\"\",\"\",INDEX([1]ANTENNA_MANUF!$A$2:$A$100,MATCH('AVI Antenna (Desc)'!$H199,[1]!MASTER_ANTENNA_MANUF_DESC[#Data],0),0))","v":""},{"$f":"IF('AVI Antenna (Desc)'!I199=\"\",\"\",INDEX([1]ANTENNA_MODEL!$A$2:$A$50,MATCH(1,([1]ANTENNA_MODEL!$C$2:$C$50='AVI Antenna (Desc)'!$H199)*([1]ANTENNA_MODEL!$D$2:$D$50='AVI Antenna (Desc)'!$I199),0),0))","v":""},{"$f":"IF('AVI Antenna (Desc)'!J199=\"\",\"\",INDEX([1]LANE_COVERAGE!$A$2:$A$100,MATCH('AVI Antenna (Desc)'!$J199,[1]!MASTER_LANE_COVERAGE_DESC[#Data],0),0))","v":""},{"$f":"IF('AVI Antenna (Desc)'!K199=\"\",\"\",INDEX([1]LANE_DIRECTION!$A$2:$A$100,MATCH('AVI Antenna (Desc)'!$K199,[1]!MASTER_LANE_DIRECTION_DESC[#Data],0),0))","v":""}]
[{"$f":"IF('AVI Antenna (Desc)'!D200=\"\",\"\",'AVI Antenna (Desc)'!A200)","v":""},{"$f":"IF('AVI Antenna (Desc)'!C200=\"\",\"\",\"2007\")","v":""},{"$f":"IF('AVI Antenna (Desc)'!F200=\"\",\"\",'AVI Antenna (Desc)'!C200)","v":""},{"$f":"IF('AVI Antenna (Desc)'!D200=\"\",\"\",'AVI Antenna (Desc)'!D200)","v":""},{"$f":"IF('AVI Antenna (Desc)'!E200=\"\",\"\",INDEX([1]ASSET_ID_SOURCE!$A$2:$A$50,MATCH('AVI Antenna (Desc)'!E200,[1]!MASTER_ASSET_ID_SOURCE_DESC,0),0))","v":""},{"$f":"IF('AVI Antenna (Desc)'!G200=\"\",\"\",'AVI Antenna (Desc)'!F200)","v":""},{"$f":"IF('AVI Antenna (Desc)'!G200=\"\",\"\",INDEX([1]ANTENNA_TYPE!$A$2:$A$100,MATCH('AVI Antenna (Desc)'!$G200,[1]!MASTER_ANTENNA_TYPE_DESC[#Data],0),0))","v":""},{"$f":"IF('AVI Antenna (Desc)'!H200=\"\",\"\",INDEX([1]ANTENNA_MANUF!$A$2:$A$100,MATCH('AVI Antenna (Desc)'!$H200,[1]!MASTER_ANTENNA_MANUF_DESC[#Data],0),0))","v":""},{"$f":"IF('AVI Antenna (Desc)'!I200=\"\",\"\",INDEX([1]ANTENNA_MODEL!$A$2:$A$50,MATCH(1,([1]ANTENNA_MODEL!$C$2:$C$50='AVI Antenna (Desc)'!$H200)*([1]ANTENNA_MODEL!$D$2:$D$50='AVI Antenna (Desc)'!$I200),0),0))","v":""},{"$f":"IF('AVI Antenna (Desc)'!J200=\"\",\"\",INDEX([1]LANE_COVERAGE!$A$2:$A$100,MATCH('AVI Antenna (Desc)'!$J200,[1]!MASTER_LANE_COVERAGE_DESC[#Data],0),0))","v":""},{"$f":"IF('AVI Antenna (Desc)'!K200=\"\",\"\",INDEX([1]LANE_DIRECTION!$A$2:$A$100,MATCH('AVI Antenna (Desc)'!$K200,[1]!MASTER_LANE_DIRECTION_DESC[#Data],0),0))","v":""}]
[{"$f":"IF('AVI Antenna (Desc)'!D201=\"\",\"\",'AVI Antenna (Desc)'!A201)","v":""},{"$f":"IF('AVI Antenna (Desc)'!C201=\"\",\"\",\"2007\")","v":""},{"$f":"IF('AVI Antenna (Desc)'!F201=\"\",\"\",'AVI Antenna (Desc)'!C201)","v":""},{"$f":"IF('AVI Antenna (Desc)'!D201=\"\",\"\",'AVI Antenna (Desc)'!D201)","v":""},{"$f":"IF('AVI Antenna (Desc)'!E201=\"\",\"\",INDEX([1]ASSET_ID_SOURCE!$A$2:$A$50,MATCH('AVI Antenna (Desc)'!E201,[1]!MASTER_ASSET_ID_SOURCE_DESC,0),0))","v":""},{"$f":"IF('AVI Antenna (Desc)'!G201=\"\",\"\",'AVI Antenna (Desc)'!F201)","v":""},{"$f":"IF('AVI Antenna (Desc)'!G201=\"\",\"\",INDEX([1]ANTENNA_TYPE!$A$2:$A$100,MATCH('AVI Antenna (Desc)'!$G201,[1]!MASTER_ANTENNA_TYPE_DESC[#Data],0),0))","v":""},{"$f":"IF('AVI Antenna (Desc)'!H201=\"\",\"\",INDEX([1]ANTENNA_MANUF!$A$2:$A$100,MATCH('AVI Antenna (Desc)'!$H201,[1]!MASTER_ANTENNA_MANUF_DESC[#Data],0),0))","v":""},{"$f":"IF('AVI Antenna (Desc)'!I201=\"\",\"\",INDEX([1]ANTENNA_MODEL!$A$2:$A$50,MATCH(1,([1]ANTENNA_MODEL!$C$2:$C$50='AVI Antenna (Desc)'!$H201)*([1]ANTENNA_MODEL!$D$2:$D$50='AVI Antenna (Desc)'!$I201),0),0))","v":""},{"$f":"IF('AVI Antenna (Desc)'!J201=\"\",\"\",INDEX([1]LANE_COVERAGE!$A$2:$A$100,MATCH('AVI Antenna (Desc)'!$J201,[1]!MASTER_LANE_COVERAGE_DESC[#Data],0),0))","v":""},{"$f":"IF('AVI Antenna (Desc)'!K201=\"\",\"\",INDEX([1]LANE_DIRECTION!$A$2:$A$100,MATCH('AVI Antenna (Desc)'!$K201,[1]!MASTER_LANE_DIRECTION_DESC[#Data],0),0))","v":""}]
[{"$f":"IF('AVI Antenna (Desc)'!D202=\"\",\"\",'AVI Antenna (Desc)'!A202)","v":""},{"$f":"IF('AVI Antenna (Desc)'!C202=\"\",\"\",\"2007\")","v":""},{"$f":"IF('AVI Antenna (Desc)'!F202=\"\",\"\",'AVI Antenna (Desc)'!C202)","v":""},{"$f":"IF('AVI Antenna (Desc)'!D202=\"\",\"\",'AVI Antenna (Desc)'!D202)","v":""},{"$f":"IF('AVI Antenna (Desc)'!E202=\"\",\"\",INDEX([1]ASSET_ID_SOURCE!$A$2:$A$50,MATCH('AVI Antenna (Desc)'!E202,[1]!MASTER_ASSET_ID_SOURCE_DESC,0),0))","v":""},{"$f":"IF('AVI Antenna (Desc)'!G202=\"\",\"\",'AVI Antenna (Desc)'!F202)","v":""},{"$f":"IF('AVI Antenna (Desc)'!G202=\"\",\"\",INDEX([1]ANTENNA_TYPE!$A$2:$A$100,MATCH('AVI Antenna (Desc)'!$G202,[1]!MASTER_ANTENNA_TYPE_DESC[#Data],0),0))","v":""},{"$f":"IF('AVI Antenna (Desc)'!H202=\"\",\"\",INDEX([1]ANTENNA_MANUF!$A$2:$A$100,MATCH('AVI Antenna (Desc)'!$H202,[1]!MASTER_ANTENNA_MANUF_DESC[#Data],0),0))","v":""},{"$f":"IF('AVI Antenna (Desc)'!I202=\"\",\"\",INDEX([1]ANTENNA_MODEL!$A$2:$A$50,MATCH(1,([1]ANTENNA_MODEL!$C$2:$C$50='AVI Antenna (Desc)'!$H202)*([1]ANTENNA_MODEL!$D$2:$D$50='AVI Antenna (Desc)'!$I202),0),0))","v":""},{"$f":"IF('AVI Antenna (Desc)'!J202=\"\",\"\",INDEX([1]LANE_COVERAGE!$A$2:$A$100,MATCH('AVI Antenna (Desc)'!$J202,[1]!MASTER_LANE_COVERAGE_DESC[#Data],0),0))","v":""},{"$f":"IF('AVI Antenna (Desc)'!K202=\"\",\"\",INDEX([1]LANE_DIRECTION!$A$2:$A$100,MATCH('AVI Antenna (Desc)'!$K202,[1]!MASTER_LANE_DIRECTION_DESC[#Data],0),0))","v":""}]