{"text_format":"1","workbook":"xlsx","n_sheets":2,"sheets":["DC Power Distribution (Desc)","DC Power Distribution (Code)"],"not_rendered":{"charts":0,"images":0,"macros":1,"external_links":1,"defined_names":12,"comments":0,"pivot_tables":0},"unopened":[],"bounds":{"document_bytes":16777216,"sheet_cells":100000,"rows_first":2000,"rows_last":500,"rows_between":2000,"halvings":0,"cell_chars":16384,"cell_head_chars":4096},"cells_cut":0,"cells_raw":0,"read":"whole","date_system":"1900"}

{"sheet":"DC Power Distribution (Desc)","index":0,"n_rows":2,"n_cols":17,"rows_kept":2,"cut":false,"hidden":false,"merged":[]}
["Device Id\nfor update ","Site Identification Name\nEquipment Cabinet SIN","Equipment Location Id ","Previous Name","Installed Date (YYYY/MM/DD)","Manufacturer ","Model ","Serial Number ","NIC Card Installed ","IP Address ","MAC Address ","Battery Pack Installed ","Input Voltage","Output Voltage(s)","Load/Draw (Amp)","Number of Rectifier Positions","Number of Breaker Positions"]
["EQUIP_ID","This Field is for Reference Only\nDO NOT IMPORT","EQUIP_LOC_ID\nREQUIRED FIELD","This Field is for Reference Only\nDO NOT IMPORT","DATE_INSTALLED","ELEC_MANUF_CD ","ELEC_MODEL_CD ","SERIAL_NUMBER","NIC_CARD_IND_CD \nREQUIRED FIELD","IP_ADDRESS","MAC_ADDRESS","BATTERY_PACK_IND_CD\nREQUIRED FIELD","DEV_INPUT_VOLTAGE_CD ","DEV_OUTPUT_VOLTAGE_CD ","DCPDS_LOAD_DRAW ","RECTIFIER _POSITION ","BREAKER_POSITION "]

{"sheet":"DC Power Distribution (Code)","index":1,"n_rows":202,"n_cols":17,"rows_kept":202,"cut":false,"hidden":false,"merged":[]}
["Device Id\nfor update ","Structure Entity Cd","Equipment Location Id ","Installed Date (YYYY/MM/DD)","Manufacturer ","Model ","Serial Number ","NIC Card Installed ","IP Address ","MAC Address ","Battery Pack Installed ","Input Voltage","Output Voltage(s)","Load/Draw (Amp)","Number of Rectifier Positions","Number of Breaker Positions","Electrical Equipment Type"]
["EQUIP_ID","ENTITY_ID      REQUIRED FIELD","EQUIP_LOC_ID  REQUIRED FIELD","DATE_INSTALLED","ELEC_MANUF_CD ","ELEC_MODEL_CD ","SERIAL_NUMBER","NIC_CARD_IND_CD REQUIRED FIELD","IP_ADDRESS","MAC_ADDRESS","BATTERY_PACK_IND_CD REQUIRED FIELD","DEV_INPUT_VOLTAGE_CD ","DEV_OUTPUT_VOLTAGE_CD ","DCPDS_LOAD_DRAW ","RECTIFIER _POSITION ","BREAKER_POSITION ","ELEC_DEV_TYPE_CD"]
[{"$f":"IF('DC Power Distribution (Desc)'!A3=\"\",\"\",'DC Power Distribution (Desc)'!A3)","v":""},{"$f":"IF('DC Power Distribution (Desc)'!C3=\"\",\"\",2029)","v":""},{"$f":"IF('DC Power Distribution (Desc)'!C3=\"\",\"\",'DC Power Distribution (Desc)'!C3)","v":""},{"$f":"IF('DC Power Distribution (Desc)'!E3=\"\",\"\",'DC Power Distribution (Desc)'!E3)","v":""},{"$f":"IF('DC Power Distribution (Desc)'!F3=\"\",\"\",INDEX([1]ELECTRIC_DEV_MANUF!$A$2:$A$1500,MATCH(1,([1]ELECTRIC_DEV_MANUF!$B$2:$B$1500='DC Power Distribution (Desc)'!$F3)*([1]ELECTRIC_DEV_MANUF!$D$2:$D$1500=\"DCPWRDIS\"),0),0))","v":""},{"$f":"IF('DC Power Distribution (Desc)'!G3=\"\",\"\",INDEX([1]ELECTRIC_DEV_MODEL!$A$2:$A$1500,MATCH(1,([1]ELECTRIC_DEV_MODEL!$C$2:$C$1500='DC Power Distribution (Desc)'!$F3)*([1]ELECTRIC_DEV_MODEL!$D$2:$D$1500='DC Power Distribution (Desc)'!$G3)*([1]ELECTRIC_DEV_MODEL!$F$2:$F$1500=\"DCPWRDIS\"),0),0))","v":""},{"$f":"IF('DC Power Distribution (Desc)'!H3=\"\",\"\",'DC Power Distribution (Desc)'!H3)","v":""},{"$f":"IF('DC Power Distribution (Desc)'!I3=\"\",\"\",INDEX([1]YES_NO!$A$2:$A$100,MATCH('DC Power Distribution (Desc)'!$I3,[1]!MASTER_YES_NO_DESC[#Data],0),0))","v":""},{"$f":"IF('DC Power Distribution (Desc)'!J3=\"\",\"\",'DC Power Distribution (Desc)'!J3)","v":""},{"$f":"IF('DC Power Distribution (Desc)'!K3=\"\",\"\",'DC Power Distribution (Desc)'!K3)","v":""},{"$f":"IF('DC Power Distribution (Desc)'!L3=\"\",\"\",INDEX([1]YES_NO!$A$2:$A$100,MATCH('DC Power Distribution (Desc)'!$L3,[1]!MASTER_YES_NO_DESC[#Data],0),0))","v":""},{"$f":"IF('DC Power Distribution (Desc)'!M3=\"\",\"\",INDEX([1]DEV_INPUT_VOLTAGE!$A$2:$A$100,MATCH('DC Power Distribution (Desc)'!$M3,[1]!MASTER_DEV_INPUT_VOLTAGE_DESC[#Data],0),0))","v":""},{"$f":"IF('DC Power Distribution (Desc)'!N3=\"\",\"\",INDEX([1]DEV_OUTPUT_VOLTAGE!$A$2:$A$100,MATCH('DC Power Distribution (Desc)'!$N3,[1]!MASTER_DEV_INPUT_VOLTAGE_DESC[#Data],0),0))","v":""},{"$f":"IF('DC Power Distribution (Desc)'!O3=\"\",\"\",'DC Power Distribution (Desc)'!O3)","v":""},{"$f":"IF('DC Power Distribution (Desc)'!P3=\"\",\"\",'DC Power Distribution (Desc)'!P3)","v":""},{"$f":"IF('DC Power Distribution (Desc)'!Q3=\"\",\"\",'DC Power Distribution (Desc)'!Q3)","v":""},{"$f":"IF('DC Power Distribution (Desc)'!C3=\"\",\"\",\"NA\")","v":""}]
[{"$f":"IF('DC Power Distribution (Desc)'!A4=\"\",\"\",'DC Power Distribution (Desc)'!A4)","v":""},{"$f":"IF('DC Power Distribution (Desc)'!C4=\"\",\"\",2029)","v":""},{"$f":"IF('DC Power Distribution (Desc)'!C4=\"\",\"\",'DC Power Distribution (Desc)'!C4)","v":""},{"$f":"IF('DC Power Distribution (Desc)'!E4=\"\",\"\",'DC Power Distribution (Desc)'!E4)","v":""},{"$f":"IF('DC Power Distribution (Desc)'!F4=\"\",\"\",INDEX([1]ELECTRIC_DEV_MANUF!$A$2:$A$1500,MATCH(1,([1]ELECTRIC_DEV_MANUF!$B$2:$B$1500='DC Power Distribution (Desc)'!$F4)*([1]ELECTRIC_DEV_MANUF!$D$2:$D$1500=\"DCPWRDIS\"),0),0))","v":""},{"$f":"IF('DC Power Distribution (Desc)'!G4=\"\",\"\",INDEX([1]ELECTRIC_DEV_MODEL!$A$2:$A$1500,MATCH(1,([1]ELECTRIC_DEV_MODEL!$C$2:$C$1500='DC Power Distribution (Desc)'!$F4)*([1]ELECTRIC_DEV_MODEL!$D$2:$D$1500='DC Power Distribution (Desc)'!$G4)*([1]ELECTRIC_DEV_MODEL!$F$2:$F$1500=\"DCPWRDIS\"),0),0))","v":""},{"$f":"IF('DC Power Distribution (Desc)'!H4=\"\",\"\",'DC Power Distribution (Desc)'!H4)","v":""},{"$f":"IF('DC Power Distribution (Desc)'!I4=\"\",\"\",INDEX([1]YES_NO!$A$2:$A$100,MATCH('DC Power Distribution (Desc)'!$I4,[1]!MASTER_YES_NO_DESC[#Data],0),0))","v":""},{"$f":"IF('DC Power Distribution (Desc)'!J4=\"\",\"\",'DC Power Distribution (Desc)'!J4)","v":""},{"$f":"IF('DC Power Distribution (Desc)'!K4=\"\",\"\",'DC Power Distribution (Desc)'!K4)","v":""},{"$f":"IF('DC Power Distribution (Desc)'!L4=\"\",\"\",INDEX([1]YES_NO!$A$2:$A$100,MATCH('DC Power Distribution (Desc)'!$L4,[1]!MASTER_YES_NO_DESC[#Data],0),0))","v":""},{"$f":"IF('DC Power Distribution (Desc)'!M4=\"\",\"\",INDEX([1]DEV_INPUT_VOLTAGE!$A$2:$A$100,MATCH('DC Power Distribution (Desc)'!$M4,[1]!MASTER_DEV_INPUT_VOLTAGE_DESC[#Data],0),0))","v":""},{"$f":"IF('DC Power Distribution (Desc)'!N4=\"\",\"\",INDEX([1]DEV_OUTPUT_VOLTAGE!$A$2:$A$100,MATCH('DC Power Distribution (Desc)'!$N4,[1]!MASTER_DEV_INPUT_VOLTAGE_DESC[#Data],0),0))","v":""},{"$f":"IF('DC Power Distribution (Desc)'!O4=\"\",\"\",'DC Power Distribution (Desc)'!O4)","v":""},{"$f":"IF('DC Power Distribution (Desc)'!P4=\"\",\"\",'DC Power Distribution (Desc)'!P4)","v":""},{"$f":"IF('DC Power Distribution (Desc)'!Q4=\"\",\"\",'DC Power Distribution (Desc)'!Q4)","v":""},{"$f":"IF('DC Power Distribution (Desc)'!C4=\"\",\"\",\"NA\")","v":""}]
[{"$f":"IF('DC Power Distribution (Desc)'!A5=\"\",\"\",'DC Power Distribution (Desc)'!A5)","v":""},{"$f":"IF('DC Power Distribution (Desc)'!C5=\"\",\"\",2029)","v":""},{"$f":"IF('DC Power Distribution (Desc)'!C5=\"\",\"\",'DC Power Distribution (Desc)'!C5)","v":""},{"$f":"IF('DC Power Distribution (Desc)'!E5=\"\",\"\",'DC Power Distribution (Desc)'!E5)","v":""},{"$f":"IF('DC Power Distribution (Desc)'!F5=\"\",\"\",INDEX([1]ELECTRIC_DEV_MANUF!$A$2:$A$1500,MATCH(1,([1]ELECTRIC_DEV_MANUF!$B$2:$B$1500='DC Power Distribution (Desc)'!$F5)*([1]ELECTRIC_DEV_MANUF!$D$2:$D$1500=\"DCPWRDIS\"),0),0))","v":""},{"$f":"IF('DC Power Distribution (Desc)'!G5=\"\",\"\",INDEX([1]ELECTRIC_DEV_MODEL!$A$2:$A$1500,MATCH(1,([1]ELECTRIC_DEV_MODEL!$C$2:$C$1500='DC Power Distribution (Desc)'!$F5)*([1]ELECTRIC_DEV_MODEL!$D$2:$D$1500='DC Power Distribution (Desc)'!$G5)*([1]ELECTRIC_DEV_MODEL!$F$2:$F$1500=\"DCPWRDIS\"),0),0))","v":""},{"$f":"IF('DC Power Distribution (Desc)'!H5=\"\",\"\",'DC Power Distribution (Desc)'!H5)","v":""},{"$f":"IF('DC Power Distribution (Desc)'!I5=\"\",\"\",INDEX([1]YES_NO!$A$2:$A$100,MATCH('DC Power Distribution (Desc)'!$I5,[1]!MASTER_YES_NO_DESC[#Data],0),0))","v":""},{"$f":"IF('DC Power Distribution (Desc)'!J5=\"\",\"\",'DC Power Distribution (Desc)'!J5)","v":""},{"$f":"IF('DC Power Distribution (Desc)'!K5=\"\",\"\",'DC Power Distribution (Desc)'!K5)","v":""},{"$f":"IF('DC Power Distribution (Desc)'!L5=\"\",\"\",INDEX([1]YES_NO!$A$2:$A$100,MATCH('DC Power Distribution (Desc)'!$L5,[1]!MASTER_YES_NO_DESC[#Data],0),0))","v":""},{"$f":"IF('DC Power Distribution (Desc)'!M5=\"\",\"\",INDEX([1]DEV_INPUT_VOLTAGE!$A$2:$A$100,MATCH('DC Power Distribution (Desc)'!$M5,[1]!MASTER_DEV_INPUT_VOLTAGE_DESC[#Data],0),0))","v":""},{"$f":"IF('DC Power Distribution (Desc)'!N5=\"\",\"\",INDEX([1]DEV_OUTPUT_VOLTAGE!$A$2:$A$100,MATCH('DC Power Distribution (Desc)'!$N5,[1]!MASTER_DEV_INPUT_VOLTAGE_DESC[#Data],0),0))","v":""},{"$f":"IF('DC Power Distribution (Desc)'!O5=\"\",\"\",'DC Power Distribution (Desc)'!O5)","v":""},{"$f":"IF('DC Power Distribution (Desc)'!P5=\"\",\"\",'DC Power Distribution (Desc)'!P5)","v":""},{"$f":"IF('DC Power Distribution (Desc)'!Q5=\"\",\"\",'DC Power Distribution (Desc)'!Q5)","v":""},{"$f":"IF('DC Power Distribution (Desc)'!C5=\"\",\"\",\"NA\")","v":""}]
[{"$f":"IF('DC Power Distribution (Desc)'!A6=\"\",\"\",'DC Power Distribution (Desc)'!A6)","v":""},{"$f":"IF('DC Power Distribution (Desc)'!C6=\"\",\"\",2029)","v":""},{"$f":"IF('DC Power Distribution (Desc)'!C6=\"\",\"\",'DC Power Distribution (Desc)'!C6)","v":""},{"$f":"IF('DC Power Distribution (Desc)'!E6=\"\",\"\",'DC Power Distribution (Desc)'!E6)","v":""},{"$f":"IF('DC Power Distribution (Desc)'!F6=\"\",\"\",INDEX([1]ELECTRIC_DEV_MANUF!$A$2:$A$1500,MATCH(1,([1]ELECTRIC_DEV_MANUF!$B$2:$B$1500='DC Power Distribution (Desc)'!$F6)*([1]ELECTRIC_DEV_MANUF!$D$2:$D$1500=\"DCPWRDIS\"),0),0))","v":""},{"$f":"IF('DC Power Distribution (Desc)'!G6=\"\",\"\",INDEX([1]ELECTRIC_DEV_MODEL!$A$2:$A$1500,MATCH(1,([1]ELECTRIC_DEV_MODEL!$C$2:$C$1500='DC Power Distribution (Desc)'!$F6)*([1]ELECTRIC_DEV_MODEL!$D$2:$D$1500='DC Power Distribution (Desc)'!$G6)*([1]ELECTRIC_DEV_MODEL!$F$2:$F$1500=\"DCPWRDIS\"),0),0))","v":""},{"$f":"IF('DC Power Distribution (Desc)'!H6=\"\",\"\",'DC Power Distribution (Desc)'!H6)","v":""},{"$f":"IF('DC Power Distribution (Desc)'!I6=\"\",\"\",INDEX([1]YES_NO!$A$2:$A$100,MATCH('DC Power Distribution (Desc)'!$I6,[1]!MASTER_YES_NO_DESC[#Data],0),0))","v":""},{"$f":"IF('DC Power Distribution (Desc)'!J6=\"\",\"\",'DC Power Distribution (Desc)'!J6)","v":""},{"$f":"IF('DC Power Distribution (Desc)'!K6=\"\",\"\",'DC Power Distribution (Desc)'!K6)","v":""},{"$f":"IF('DC Power Distribution (Desc)'!L6=\"\",\"\",INDEX([1]YES_NO!$A$2:$A$100,MATCH('DC Power Distribution (Desc)'!$L6,[1]!MASTER_YES_NO_DESC[#Data],0),0))","v":""},{"$f":"IF('DC Power Distribution (Desc)'!M6=\"\",\"\",INDEX([1]DEV_INPUT_VOLTAGE!$A$2:$A$100,MATCH('DC Power Distribution (Desc)'!$M6,[1]!MASTER_DEV_INPUT_VOLTAGE_DESC[#Data],0),0))","v":""},{"$f":"IF('DC Power Distribution (Desc)'!N6=\"\",\"\",INDEX([1]DEV_OUTPUT_VOLTAGE!$A$2:$A$100,MATCH('DC Power Distribution (Desc)'!$N6,[1]!MASTER_DEV_INPUT_VOLTAGE_DESC[#Data],0),0))","v":""},{"$f":"IF('DC Power Distribution (Desc)'!O6=\"\",\"\",'DC Power Distribution (Desc)'!O6)","v":""},{"$f":"IF('DC Power Distribution (Desc)'!P6=\"\",\"\",'DC Power Distribution (Desc)'!P6)","v":""},{"$f":"IF('DC Power Distribution (Desc)'!Q6=\"\",\"\",'DC Power Distribution (Desc)'!Q6)","v":""},{"$f":"IF('DC Power Distribution (Desc)'!C6=\"\",\"\",\"NA\")","v":""}]
[{"$f":"IF('DC Power Distribution (Desc)'!A7=\"\",\"\",'DC Power Distribution (Desc)'!A7)","v":""},{"$f":"IF('DC Power Distribution (Desc)'!C7=\"\",\"\",2029)","v":""},{"$f":"IF('DC Power Distribution (Desc)'!C7=\"\",\"\",'DC Power Distribution (Desc)'!C7)","v":""},{"$f":"IF('DC Power Distribution (Desc)'!E7=\"\",\"\",'DC Power Distribution (Desc)'!E7)","v":""},{"$f":"IF('DC Power Distribution (Desc)'!F7=\"\",\"\",INDEX([1]ELECTRIC_DEV_MANUF!$A$2:$A$1500,MATCH(1,([1]ELECTRIC_DEV_MANUF!$B$2:$B$1500='DC Power Distribution (Desc)'!$F7)*([1]ELECTRIC_DEV_MANUF!$D$2:$D$1500=\"DCPWRDIS\"),0),0))","v":""},{"$f":"IF('DC Power Distribution (Desc)'!G7=\"\",\"\",INDEX([1]ELECTRIC_DEV_MODEL!$A$2:$A$1500,MATCH(1,([1]ELECTRIC_DEV_MODEL!$C$2:$C$1500='DC Power Distribution (Desc)'!$F7)*([1]ELECTRIC_DEV_MODEL!$D$2:$D$1500='DC Power Distribution (Desc)'!$G7)*([1]ELECTRIC_DEV_MODEL!$F$2:$F$1500=\"DCPWRDIS\"),0),0))","v":""},{"$f":"IF('DC Power Distribution (Desc)'!H7=\"\",\"\",'DC Power Distribution (Desc)'!H7)","v":""},{"$f":"IF('DC Power Distribution (Desc)'!I7=\"\",\"\",INDEX([1]YES_NO!$A$2:$A$100,MATCH('DC Power Distribution (Desc)'!$I7,[1]!MASTER_YES_NO_DESC[#Data],0),0))","v":""},{"$f":"IF('DC Power Distribution (Desc)'!J7=\"\",\"\",'DC Power Distribution (Desc)'!J7)","v":""},{"$f":"IF('DC Power Distribution (Desc)'!K7=\"\",\"\",'DC Power Distribution (Desc)'!K7)","v":""},{"$f":"IF('DC Power Distribution (Desc)'!L7=\"\",\"\",INDEX([1]YES_NO!$A$2:$A$100,MATCH('DC Power Distribution (Desc)'!$L7,[1]!MASTER_YES_NO_DESC[#Data],0),0))","v":""},{"$f":"IF('DC Power Distribution (Desc)'!M7=\"\",\"\",INDEX([1]DEV_INPUT_VOLTAGE!$A$2:$A$100,MATCH('DC Power Distribution (Desc)'!$M7,[1]!MASTER_DEV_INPUT_VOLTAGE_DESC[#Data],0),0))","v":""},{"$f":"IF('DC Power Distribution (Desc)'!N7=\"\",\"\",INDEX([1]DEV_OUTPUT_VOLTAGE!$A$2:$A$100,MATCH('DC Power Distribution (Desc)'!$N7,[1]!MASTER_DEV_INPUT_VOLTAGE_DESC[#Data],0),0))","v":""},{"$f":"IF('DC Power Distribution (Desc)'!O7=\"\",\"\",'DC Power Distribution (Desc)'!O7)","v":""},{"$f":"IF('DC Power Distribution (Desc)'!P7=\"\",\"\",'DC Power Distribution (Desc)'!P7)","v":""},{"$f":"IF('DC Power Distribution (Desc)'!Q7=\"\",\"\",'DC Power Distribution (Desc)'!Q7)","v":""},{"$f":"IF('DC Power Distribution (Desc)'!C7=\"\",\"\",\"NA\")","v":""}]
[{"$f":"IF('DC Power Distribution (Desc)'!A8=\"\",\"\",'DC Power Distribution (Desc)'!A8)","v":""},{"$f":"IF('DC Power Distribution (Desc)'!C8=\"\",\"\",2029)","v":""},{"$f":"IF('DC Power Distribution (Desc)'!C8=\"\",\"\",'DC Power Distribution (Desc)'!C8)","v":""},{"$f":"IF('DC Power Distribution (Desc)'!E8=\"\",\"\",'DC Power Distribution (Desc)'!E8)","v":""},{"$f":"IF('DC Power Distribution (Desc)'!F8=\"\",\"\",INDEX([1]ELECTRIC_DEV_MANUF!$A$2:$A$1500,MATCH(1,([1]ELECTRIC_DEV_MANUF!$B$2:$B$1500='DC Power Distribution (Desc)'!$F8)*([1]ELECTRIC_DEV_MANUF!$D$2:$D$1500=\"DCPWRDIS\"),0),0))","v":""},{"$f":"IF('DC Power Distribution (Desc)'!G8=\"\",\"\",INDEX([1]ELECTRIC_DEV_MODEL!$A$2:$A$1500,MATCH(1,([1]ELECTRIC_DEV_MODEL!$C$2:$C$1500='DC Power Distribution (Desc)'!$F8)*([1]ELECTRIC_DEV_MODEL!$D$2:$D$1500='DC Power Distribution (Desc)'!$G8)*([1]ELECTRIC_DEV_MODEL!$F$2:$F$1500=\"DCPWRDIS\"),0),0))","v":""},{"$f":"IF('DC Power Distribution (Desc)'!H8=\"\",\"\",'DC Power Distribution (Desc)'!H8)","v":""},{"$f":"IF('DC Power Distribution (Desc)'!I8=\"\",\"\",INDEX([1]YES_NO!$A$2:$A$100,MATCH('DC Power Distribution (Desc)'!$I8,[1]!MASTER_YES_NO_DESC[#Data],0),0))","v":""},{"$f":"IF('DC Power Distribution (Desc)'!J8=\"\",\"\",'DC Power Distribution (Desc)'!J8)","v":""},{"$f":"IF('DC Power Distribution (Desc)'!K8=\"\",\"\",'DC Power Distribution (Desc)'!K8)","v":""},{"$f":"IF('DC Power Distribution (Desc)'!L8=\"\",\"\",INDEX([1]YES_NO!$A$2:$A$100,MATCH('DC Power Distribution (Desc)'!$L8,[1]!MASTER_YES_NO_DESC[#Data],0),0))","v":""},{"$f":"IF('DC Power Distribution (Desc)'!M8=\"\",\"\",INDEX([1]DEV_INPUT_VOLTAGE!$A$2:$A$100,MATCH('DC Power Distribution (Desc)'!$M8,[1]!MASTER_DEV_INPUT_VOLTAGE_DESC[#Data],0),0))","v":""},{"$f":"IF('DC Power Distribution (Desc)'!N8=\"\",\"\",INDEX([1]DEV_OUTPUT_VOLTAGE!$A$2:$A$100,MATCH('DC Power Distribution (Desc)'!$N8,[1]!MASTER_DEV_INPUT_VOLTAGE_DESC[#Data],0),0))","v":""},{"$f":"IF('DC Power Distribution (Desc)'!O8=\"\",\"\",'DC Power Distribution (Desc)'!O8)","v":""},{"$f":"IF('DC Power Distribution (Desc)'!P8=\"\",\"\",'DC Power Distribution (Desc)'!P8)","v":""},{"$f":"IF('DC Power Distribution (Desc)'!Q8=\"\",\"\",'DC Power Distribution (Desc)'!Q8)","v":""},{"$f":"IF('DC Power Distribution (Desc)'!C8=\"\",\"\",\"NA\")","v":""}]
[{"$f":"IF('DC Power Distribution (Desc)'!A9=\"\",\"\",'DC Power Distribution (Desc)'!A9)","v":""},{"$f":"IF('DC Power Distribution (Desc)'!C9=\"\",\"\",2029)","v":""},{"$f":"IF('DC Power Distribution (Desc)'!C9=\"\",\"\",'DC Power Distribution (Desc)'!C9)","v":""},{"$f":"IF('DC Power Distribution (Desc)'!E9=\"\",\"\",'DC Power Distribution (Desc)'!E9)","v":""},{"$f":"IF('DC Power Distribution (Desc)'!F9=\"\",\"\",INDEX([1]ELECTRIC_DEV_MANUF!$A$2:$A$1500,MATCH(1,([1]ELECTRIC_DEV_MANUF!$B$2:$B$1500='DC Power Distribution (Desc)'!$F9)*([1]ELECTRIC_DEV_MANUF!$D$2:$D$1500=\"DCPWRDIS\"),0),0))","v":""},{"$f":"IF('DC Power Distribution (Desc)'!G9=\"\",\"\",INDEX([1]ELECTRIC_DEV_MODEL!$A$2:$A$1500,MATCH(1,([1]ELECTRIC_DEV_MODEL!$C$2:$C$1500='DC Power Distribution (Desc)'!$F9)*([1]ELECTRIC_DEV_MODEL!$D$2:$D$1500='DC Power Distribution (Desc)'!$G9)*([1]ELECTRIC_DEV_MODEL!$F$2:$F$1500=\"DCPWRDIS\"),0),0))","v":""},{"$f":"IF('DC Power Distribution (Desc)'!H9=\"\",\"\",'DC Power Distribution (Desc)'!H9)","v":""},{"$f":"IF('DC Power Distribution (Desc)'!I9=\"\",\"\",INDEX([1]YES_NO!$A$2:$A$100,MATCH('DC Power Distribution (Desc)'!$I9,[1]!MASTER_YES_NO_DESC[#Data],0),0))","v":""},{"$f":"IF('DC Power Distribution (Desc)'!J9=\"\",\"\",'DC Power Distribution (Desc)'!J9)","v":""},{"$f":"IF('DC Power Distribution (Desc)'!K9=\"\",\"\",'DC Power Distribution (Desc)'!K9)","v":""},{"$f":"IF('DC Power Distribution (Desc)'!L9=\"\",\"\",INDEX([1]YES_NO!$A$2:$A$100,MATCH('DC Power Distribution (Desc)'!$L9,[1]!MASTER_YES_NO_DESC[#Data],0),0))","v":""},{"$f":"IF('DC Power Distribution (Desc)'!M9=\"\",\"\",INDEX([1]DEV_INPUT_VOLTAGE!$A$2:$A$100,MATCH('DC Power Distribution (Desc)'!$M9,[1]!MASTER_DEV_INPUT_VOLTAGE_DESC[#Data],0),0))","v":""},{"$f":"IF('DC Power Distribution (Desc)'!N9=\"\",\"\",INDEX([1]DEV_OUTPUT_VOLTAGE!$A$2:$A$100,MATCH('DC Power Distribution (Desc)'!$N9,[1]!MASTER_DEV_INPUT_VOLTAGE_DESC[#Data],0),0))","v":""},{"$f":"IF('DC Power Distribution (Desc)'!O9=\"\",\"\",'DC Power Distribution (Desc)'!O9)","v":""},{"$f":"IF('DC Power Distribution (Desc)'!P9=\"\",\"\",'DC Power Distribution (Desc)'!P9)","v":""},{"$f":"IF('DC Power Distribution (Desc)'!Q9=\"\",\"\",'DC Power Distribution (Desc)'!Q9)","v":""},{"$f":"IF('DC Power Distribution (Desc)'!C9=\"\",\"\",\"NA\")","v":""}]
[{"$f":"IF('DC Power Distribution (Desc)'!A10=\"\",\"\",'DC Power Distribution (Desc)'!A10)","v":""},{"$f":"IF('DC Power Distribution (Desc)'!C10=\"\",\"\",2029)","v":""},{"$f":"IF('DC Power Distribution (Desc)'!C10=\"\",\"\",'DC Power Distribution (Desc)'!C10)","v":""},{"$f":"IF('DC Power Distribution (Desc)'!E10=\"\",\"\",'DC Power Distribution (Desc)'!E10)","v":""},{"$f":"IF('DC Power Distribution (Desc)'!F10=\"\",\"\",INDEX([1]ELECTRIC_DEV_MANUF!$A$2:$A$1500,MATCH(1,([1]ELECTRIC_DEV_MANUF!$B$2:$B$1500='DC Power Distribution (Desc)'!$F10)*([1]ELECTRIC_DEV_MANUF!$D$2:$D$1500=\"DCPWRDIS\"),0),0))","v":""},{"$f":"IF('DC Power Distribution (Desc)'!G10=\"\",\"\",INDEX([1]ELECTRIC_DEV_MODEL!$A$2:$A$1500,MATCH(1,([1]ELECTRIC_DEV_MODEL!$C$2:$C$1500='DC Power Distribution (Desc)'!$F10)*([1]ELECTRIC_DEV_MODEL!$D$2:$D$1500='DC Power Distribution (Desc)'!$G10)*([1]ELECTRIC_DEV_MODEL!$F$2:$F$1500=\"DCPWRDIS\"),0),0))","v":""},{"$f":"IF('DC Power Distribution (Desc)'!H10=\"\",\"\",'DC Power Distribution (Desc)'!H10)","v":""},{"$f":"IF('DC Power Distribution (Desc)'!I10=\"\",\"\",INDEX([1]YES_NO!$A$2:$A$100,MATCH('DC Power Distribution (Desc)'!$I10,[1]!MASTER_YES_NO_DESC[#Data],0),0))","v":""},{"$f":"IF('DC Power Distribution (Desc)'!J10=\"\",\"\",'DC Power Distribution (Desc)'!J10)","v":""},{"$f":"IF('DC Power Distribution (Desc)'!K10=\"\",\"\",'DC Power Distribution (Desc)'!K10)","v":""},{"$f":"IF('DC Power Distribution (Desc)'!L10=\"\",\"\",INDEX([1]YES_NO!$A$2:$A$100,MATCH('DC Power Distribution (Desc)'!$L10,[1]!MASTER_YES_NO_DESC[#Data],0),0))","v":""},{"$f":"IF('DC Power Distribution (Desc)'!M10=\"\",\"\",INDEX([1]DEV_INPUT_VOLTAGE!$A$2:$A$100,MATCH('DC Power Distribution (Desc)'!$M10,[1]!MASTER_DEV_INPUT_VOLTAGE_DESC[#Data],0),0))","v":""},{"$f":"IF('DC Power Distribution (Desc)'!N10=\"\",\"\",INDEX([1]DEV_OUTPUT_VOLTAGE!$A$2:$A$100,MATCH('DC Power Distribution (Desc)'!$N10,[1]!MASTER_DEV_INPUT_VOLTAGE_DESC[#Data],0),0))","v":""},{"$f":"IF('DC Power Distribution (Desc)'!O10=\"\",\"\",'DC Power Distribution (Desc)'!O10)","v":""},{"$f":"IF('DC Power Distribution (Desc)'!P10=\"\",\"\",'DC Power Distribution (Desc)'!P10)","v":""},{"$f":"IF('DC Power Distribution (Desc)'!Q10=\"\",\"\",'DC Power Distribution (Desc)'!Q10)","v":""},{"$f":"IF('DC Power Distribution (Desc)'!C10=\"\",\"\",\"NA\")","v":""}]
[{"$f":"IF('DC Power Distribution (Desc)'!A11=\"\",\"\",'DC Power Distribution (Desc)'!A11)","v":""},{"$f":"IF('DC Power Distribution (Desc)'!C11=\"\",\"\",2029)","v":""},{"$f":"IF('DC Power Distribution (Desc)'!C11=\"\",\"\",'DC Power Distribution (Desc)'!C11)","v":""},{"$f":"IF('DC Power Distribution (Desc)'!E11=\"\",\"\",'DC Power Distribution (Desc)'!E11)","v":""},{"$f":"IF('DC Power Distribution (Desc)'!F11=\"\",\"\",INDEX([1]ELECTRIC_DEV_MANUF!$A$2:$A$1500,MATCH(1,([1]ELECTRIC_DEV_MANUF!$B$2:$B$1500='DC Power Distribution (Desc)'!$F11)*([1]ELECTRIC_DEV_MANUF!$D$2:$D$1500=\"DCPWRDIS\"),0),0))","v":""},{"$f":"IF('DC Power Distribution (Desc)'!G11=\"\",\"\",INDEX([1]ELECTRIC_DEV_MODEL!$A$2:$A$1500,MATCH(1,([1]ELECTRIC_DEV_MODEL!$C$2:$C$1500='DC Power Distribution (Desc)'!$F11)*([1]ELECTRIC_DEV_MODEL!$D$2:$D$1500='DC Power Distribution (Desc)'!$G11)*([1]ELECTRIC_DEV_MODEL!$F$2:$F$1500=\"DCPWRDIS\"),0),0))","v":""},{"$f":"IF('DC Power Distribution (Desc)'!H11=\"\",\"\",'DC Power Distribution (Desc)'!H11)","v":""},{"$f":"IF('DC Power Distribution (Desc)'!I11=\"\",\"\",INDEX([1]YES_NO!$A$2:$A$100,MATCH('DC Power Distribution (Desc)'!$I11,[1]!MASTER_YES_NO_DESC[#Data],0),0))","v":""},{"$f":"IF('DC Power Distribution (Desc)'!J11=\"\",\"\",'DC Power Distribution (Desc)'!J11)","v":""},{"$f":"IF('DC Power Distribution (Desc)'!K11=\"\",\"\",'DC Power Distribution (Desc)'!K11)","v":""},{"$f":"IF('DC Power Distribution (Desc)'!L11=\"\",\"\",INDEX([1]YES_NO!$A$2:$A$100,MATCH('DC Power Distribution (Desc)'!$L11,[1]!MASTER_YES_NO_DESC[#Data],0),0))","v":""},{"$f":"IF('DC Power Distribution (Desc)'!M11=\"\",\"\",INDEX([1]DEV_INPUT_VOLTAGE!$A$2:$A$100,MATCH('DC Power Distribution (Desc)'!$M11,[1]!MASTER_DEV_INPUT_VOLTAGE_DESC[#Data],0),0))","v":""},{"$f":"IF('DC Power Distribution (Desc)'!N11=\"\",\"\",INDEX([1]DEV_OUTPUT_VOLTAGE!$A$2:$A$100,MATCH('DC Power Distribution (Desc)'!$N11,[1]!MASTER_DEV_INPUT_VOLTAGE_DESC[#Data],0),0))","v":""},{"$f":"IF('DC Power Distribution (Desc)'!O11=\"\",\"\",'DC Power Distribution (Desc)'!O11)","v":""},{"$f":"IF('DC Power Distribution (Desc)'!P11=\"\",\"\",'DC Power Distribution (Desc)'!P11)","v":""},{"$f":"IF('DC Power Distribution (Desc)'!Q11=\"\",\"\",'DC Power Distribution (Desc)'!Q11)","v":""},{"$f":"IF('DC Power Distribution (Desc)'!C11=\"\",\"\",\"NA\")","v":""}]
[{"$f":"IF('DC Power Distribution (Desc)'!A12=\"\",\"\",'DC Power Distribution (Desc)'!A12)","v":""},{"$f":"IF('DC Power Distribution (Desc)'!C12=\"\",\"\",2029)","v":""},{"$f":"IF('DC Power Distribution (Desc)'!C12=\"\",\"\",'DC Power Distribution (Desc)'!C12)","v":""},{"$f":"IF('DC Power Distribution (Desc)'!E12=\"\",\"\",'DC Power Distribution (Desc)'!E12)","v":""},{"$f":"IF('DC Power Distribution (Desc)'!F12=\"\",\"\",INDEX([1]ELECTRIC_DEV_MANUF!$A$2:$A$1500,MATCH(1,([1]ELECTRIC_DEV_MANUF!$B$2:$B$1500='DC Power Distribution (Desc)'!$F12)*([1]ELECTRIC_DEV_MANUF!$D$2:$D$1500=\"DCPWRDIS\"),0),0))","v":""},{"$f":"IF('DC Power Distribution (Desc)'!G12=\"\",\"\",INDEX([1]ELECTRIC_DEV_MODEL!$A$2:$A$1500,MATCH(1,([1]ELECTRIC_DEV_MODEL!$C$2:$C$1500='DC Power Distribution (Desc)'!$F12)*([1]ELECTRIC_DEV_MODEL!$D$2:$D$1500='DC Power Distribution (Desc)'!$G12)*([1]ELECTRIC_DEV_MODEL!$F$2:$F$1500=\"DCPWRDIS\"),0),0))","v":""},{"$f":"IF('DC Power Distribution (Desc)'!H12=\"\",\"\",'DC Power Distribution (Desc)'!H12)","v":""},{"$f":"IF('DC Power Distribution (Desc)'!I12=\"\",\"\",INDEX([1]YES_NO!$A$2:$A$100,MATCH('DC Power Distribution (Desc)'!$I12,[1]!MASTER_YES_NO_DESC[#Data],0),0))","v":""},{"$f":"IF('DC Power Distribution (Desc)'!J12=\"\",\"\",'DC Power Distribution (Desc)'!J12)","v":""},{"$f":"IF('DC Power Distribution (Desc)'!K12=\"\",\"\",'DC Power Distribution (Desc)'!K12)","v":""},{"$f":"IF('DC Power Distribution (Desc)'!L12=\"\",\"\",INDEX([1]YES_NO!$A$2:$A$100,MATCH('DC Power Distribution (Desc)'!$L12,[1]!MASTER_YES_NO_DESC[#Data],0),0))","v":""},{"$f":"IF('DC Power Distribution (Desc)'!M12=\"\",\"\",INDEX([1]DEV_INPUT_VOLTAGE!$A$2:$A$100,MATCH('DC Power Distribution (Desc)'!$M12,[1]!MASTER_DEV_INPUT_VOLTAGE_DESC[#Data],0),0))","v":""},{"$f":"IF('DC Power Distribution (Desc)'!N12=\"\",\"\",INDEX([1]DEV_OUTPUT_VOLTAGE!$A$2:$A$100,MATCH('DC Power Distribution (Desc)'!$N12,[1]!MASTER_DEV_INPUT_VOLTAGE_DESC[#Data],0),0))","v":""},{"$f":"IF('DC Power Distribution (Desc)'!O12=\"\",\"\",'DC Power Distribution (Desc)'!O12)","v":""},{"$f":"IF('DC Power Distribution (Desc)'!P12=\"\",\"\",'DC Power Distribution (Desc)'!P12)","v":""},{"$f":"IF('DC Power Distribution (Desc)'!Q12=\"\",\"\",'DC Power Distribution (Desc)'!Q12)","v":""},{"$f":"IF('DC Power Distribution (Desc)'!C12=\"\",\"\",\"NA\")","v":""}]
[{"$f":"IF('DC Power Distribution (Desc)'!A13=\"\",\"\",'DC Power Distribution (Desc)'!A13)","v":""},{"$f":"IF('DC Power Distribution (Desc)'!C13=\"\",\"\",2029)","v":""},{"$f":"IF('DC Power Distribution (Desc)'!C13=\"\",\"\",'DC Power Distribution (Desc)'!C13)","v":""},{"$f":"IF('DC Power Distribution (Desc)'!E13=\"\",\"\",'DC Power Distribution (Desc)'!E13)","v":""},{"$f":"IF('DC Power Distribution (Desc)'!F13=\"\",\"\",INDEX([1]ELECTRIC_DEV_MANUF!$A$2:$A$1500,MATCH(1,([1]ELECTRIC_DEV_MANUF!$B$2:$B$1500='DC Power Distribution (Desc)'!$F13)*([1]ELECTRIC_DEV_MANUF!$D$2:$D$1500=\"DCPWRDIS\"),0),0))","v":""},{"$f":"IF('DC Power Distribution (Desc)'!G13=\"\",\"\",INDEX([1]ELECTRIC_DEV_MODEL!$A$2:$A$1500,MATCH(1,([1]ELECTRIC_DEV_MODEL!$C$2:$C$1500='DC Power Distribution (Desc)'!$F13)*([1]ELECTRIC_DEV_MODEL!$D$2:$D$1500='DC Power Distribution (Desc)'!$G13)*([1]ELECTRIC_DEV_MODEL!$F$2:$F$1500=\"DCPWRDIS\"),0),0))","v":""},{"$f":"IF('DC Power Distribution (Desc)'!H13=\"\",\"\",'DC Power Distribution (Desc)'!H13)","v":""},{"$f":"IF('DC Power Distribution (Desc)'!I13=\"\",\"\",INDEX([1]YES_NO!$A$2:$A$100,MATCH('DC Power Distribution (Desc)'!$I13,[1]!MASTER_YES_NO_DESC[#Data],0),0))","v":""},{"$f":"IF('DC Power Distribution (Desc)'!J13=\"\",\"\",'DC Power Distribution (Desc)'!J13)","v":""},{"$f":"IF('DC Power Distribution (Desc)'!K13=\"\",\"\",'DC Power Distribution (Desc)'!K13)","v":""},{"$f":"IF('DC Power Distribution (Desc)'!L13=\"\",\"\",INDEX([1]YES_NO!$A$2:$A$100,MATCH('DC Power Distribution (Desc)'!$L13,[1]!MASTER_YES_NO_DESC[#Data],0),0))","v":""},{"$f":"IF('DC Power Distribution (Desc)'!M13=\"\",\"\",INDEX([1]DEV_INPUT_VOLTAGE!$A$2:$A$100,MATCH('DC Power Distribution (Desc)'!$M13,[1]!MASTER_DEV_INPUT_VOLTAGE_DESC[#Data],0),0))","v":""},{"$f":"IF('DC Power Distribution (Desc)'!N13=\"\",\"\",INDEX([1]DEV_OUTPUT_VOLTAGE!$A$2:$A$100,MATCH('DC Power Distribution (Desc)'!$N13,[1]!MASTER_DEV_INPUT_VOLTAGE_DESC[#Data],0),0))","v":""},{"$f":"IF('DC Power Distribution (Desc)'!O13=\"\",\"\",'DC Power Distribution (Desc)'!O13)","v":""},{"$f":"IF('DC Power Distribution (Desc)'!P13=\"\",\"\",'DC Power Distribution (Desc)'!P13)","v":""},{"$f":"IF('DC Power Distribution (Desc)'!Q13=\"\",\"\",'DC Power Distribution (Desc)'!Q13)","v":""},{"$f":"IF('DC Power Distribution (Desc)'!C13=\"\",\"\",\"NA\")","v":""}]
[{"$f":"IF('DC Power Distribution (Desc)'!A14=\"\",\"\",'DC Power Distribution (Desc)'!A14)","v":""},{"$f":"IF('DC Power Distribution (Desc)'!C14=\"\",\"\",2029)","v":""},{"$f":"IF('DC Power Distribution (Desc)'!C14=\"\",\"\",'DC Power Distribution (Desc)'!C14)","v":""},{"$f":"IF('DC Power Distribution (Desc)'!E14=\"\",\"\",'DC Power Distribution (Desc)'!E14)","v":""},{"$f":"IF('DC Power Distribution (Desc)'!F14=\"\",\"\",INDEX([1]ELECTRIC_DEV_MANUF!$A$2:$A$1500,MATCH(1,([1]ELECTRIC_DEV_MANUF!$B$2:$B$1500='DC Power Distribution (Desc)'!$F14)*([1]ELECTRIC_DEV_MANUF!$D$2:$D$1500=\"DCPWRDIS\"),0),0))","v":""},{"$f":"IF('DC Power Distribution (Desc)'!G14=\"\",\"\",INDEX([1]ELECTRIC_DEV_MODEL!$A$2:$A$1500,MATCH(1,([1]ELECTRIC_DEV_MODEL!$C$2:$C$1500='DC Power Distribution (Desc)'!$F14)*([1]ELECTRIC_DEV_MODEL!$D$2:$D$1500='DC Power Distribution (Desc)'!$G14)*([1]ELECTRIC_DEV_MODEL!$F$2:$F$1500=\"DCPWRDIS\"),0),0))","v":""},{"$f":"IF('DC Power Distribution (Desc)'!H14=\"\",\"\",'DC Power Distribution (Desc)'!H14)","v":""},{"$f":"IF('DC Power Distribution (Desc)'!I14=\"\",\"\",INDEX([1]YES_NO!$A$2:$A$100,MATCH('DC Power Distribution (Desc)'!$I14,[1]!MASTER_YES_NO_DESC[#Data],0),0))","v":""},{"$f":"IF('DC Power Distribution (Desc)'!J14=\"\",\"\",'DC Power Distribution (Desc)'!J14)","v":""},{"$f":"IF('DC Power Distribution (Desc)'!K14=\"\",\"\",'DC Power Distribution (Desc)'!K14)","v":""},{"$f":"IF('DC Power Distribution (Desc)'!L14=\"\",\"\",INDEX([1]YES_NO!$A$2:$A$100,MATCH('DC Power Distribution (Desc)'!$L14,[1]!MASTER_YES_NO_DESC[#Data],0),0))","v":""},{"$f":"IF('DC Power Distribution (Desc)'!M14=\"\",\"\",INDEX([1]DEV_INPUT_VOLTAGE!$A$2:$A$100,MATCH('DC Power Distribution (Desc)'!$M14,[1]!MASTER_DEV_INPUT_VOLTAGE_DESC[#Data],0),0))","v":""},{"$f":"IF('DC Power Distribution (Desc)'!N14=\"\",\"\",INDEX([1]DEV_OUTPUT_VOLTAGE!$A$2:$A$100,MATCH('DC Power Distribution (Desc)'!$N14,[1]!MASTER_DEV_INPUT_VOLTAGE_DESC[#Data],0),0))","v":""},{"$f":"IF('DC Power Distribution (Desc)'!O14=\"\",\"\",'DC Power Distribution (Desc)'!O14)","v":""},{"$f":"IF('DC Power Distribution (Desc)'!P14=\"\",\"\",'DC Power Distribution (Desc)'!P14)","v":""},{"$f":"IF('DC Power Distribution (Desc)'!Q14=\"\",\"\",'DC Power Distribution (Desc)'!Q14)","v":""},{"$f":"IF('DC Power Distribution (Desc)'!C14=\"\",\"\",\"NA\")","v":""}]
[{"$f":"IF('DC Power Distribution (Desc)'!A15=\"\",\"\",'DC Power Distribution (Desc)'!A15)","v":""},{"$f":"IF('DC Power Distribution (Desc)'!C15=\"\",\"\",2029)","v":""},{"$f":"IF('DC Power Distribution (Desc)'!C15=\"\",\"\",'DC Power Distribution (Desc)'!C15)","v":""},{"$f":"IF('DC Power Distribution (Desc)'!E15=\"\",\"\",'DC Power Distribution (Desc)'!E15)","v":""},{"$f":"IF('DC Power Distribution (Desc)'!F15=\"\",\"\",INDEX([1]ELECTRIC_DEV_MANUF!$A$2:$A$1500,MATCH(1,([1]ELECTRIC_DEV_MANUF!$B$2:$B$1500='DC Power Distribution (Desc)'!$F15)*([1]ELECTRIC_DEV_MANUF!$D$2:$D$1500=\"DCPWRDIS\"),0),0))","v":""},{"$f":"IF('DC Power Distribution (Desc)'!G15=\"\",\"\",INDEX([1]ELECTRIC_DEV_MODEL!$A$2:$A$1500,MATCH(1,([1]ELECTRIC_DEV_MODEL!$C$2:$C$1500='DC Power Distribution (Desc)'!$F15)*([1]ELECTRIC_DEV_MODEL!$D$2:$D$1500='DC Power Distribution (Desc)'!$G15)*([1]ELECTRIC_DEV_MODEL!$F$2:$F$1500=\"DCPWRDIS\"),0),0))","v":""},{"$f":"IF('DC Power Distribution (Desc)'!H15=\"\",\"\",'DC Power Distribution (Desc)'!H15)","v":""},{"$f":"IF('DC Power Distribution (Desc)'!I15=\"\",\"\",INDEX([1]YES_NO!$A$2:$A$100,MATCH('DC Power Distribution (Desc)'!$I15,[1]!MASTER_YES_NO_DESC[#Data],0),0))","v":""},{"$f":"IF('DC Power Distribution (Desc)'!J15=\"\",\"\",'DC Power Distribution (Desc)'!J15)","v":""},{"$f":"IF('DC Power Distribution (Desc)'!K15=\"\",\"\",'DC Power Distribution (Desc)'!K15)","v":""},{"$f":"IF('DC Power Distribution (Desc)'!L15=\"\",\"\",INDEX([1]YES_NO!$A$2:$A$100,MATCH('DC Power Distribution (Desc)'!$L15,[1]!MASTER_YES_NO_DESC[#Data],0),0))","v":""},{"$f":"IF('DC Power Distribution (Desc)'!M15=\"\",\"\",INDEX([1]DEV_INPUT_VOLTAGE!$A$2:$A$100,MATCH('DC Power Distribution (Desc)'!$M15,[1]!MASTER_DEV_INPUT_VOLTAGE_DESC[#Data],0),0))","v":""},{"$f":"IF('DC Power Distribution (Desc)'!N15=\"\",\"\",INDEX([1]DEV_OUTPUT_VOLTAGE!$A$2:$A$100,MATCH('DC Power Distribution (Desc)'!$N15,[1]!MASTER_DEV_INPUT_VOLTAGE_DESC[#Data],0),0))","v":""},{"$f":"IF('DC Power Distribution (Desc)'!O15=\"\",\"\",'DC Power Distribution (Desc)'!O15)","v":""},{"$f":"IF('DC Power Distribution (Desc)'!P15=\"\",\"\",'DC Power Distribution (Desc)'!P15)","v":""},{"$f":"IF('DC Power Distribution (Desc)'!Q15=\"\",\"\",'DC Power Distribution (Desc)'!Q15)","v":""},{"$f":"IF('DC Power Distribution (Desc)'!C15=\"\",\"\",\"NA\")","v":""}]
[{"$f":"IF('DC Power Distribution (Desc)'!A16=\"\",\"\",'DC Power Distribution (Desc)'!A16)","v":""},{"$f":"IF('DC Power Distribution (Desc)'!C16=\"\",\"\",2029)","v":""},{"$f":"IF('DC Power Distribution (Desc)'!C16=\"\",\"\",'DC Power Distribution (Desc)'!C16)","v":""},{"$f":"IF('DC Power Distribution (Desc)'!E16=\"\",\"\",'DC Power Distribution (Desc)'!E16)","v":""},{"$f":"IF('DC Power Distribution (Desc)'!F16=\"\",\"\",INDEX([1]ELECTRIC_DEV_MANUF!$A$2:$A$1500,MATCH(1,([1]ELECTRIC_DEV_MANUF!$B$2:$B$1500='DC Power Distribution (Desc)'!$F16)*([1]ELECTRIC_DEV_MANUF!$D$2:$D$1500=\"DCPWRDIS\"),0),0))","v":""},{"$f":"IF('DC Power Distribution (Desc)'!G16=\"\",\"\",INDEX([1]ELECTRIC_DEV_MODEL!$A$2:$A$1500,MATCH(1,([1]ELECTRIC_DEV_MODEL!$C$2:$C$1500='DC Power Distribution (Desc)'!$F16)*([1]ELECTRIC_DEV_MODEL!$D$2:$D$1500='DC Power Distribution (Desc)'!$G16)*([1]ELECTRIC_DEV_MODEL!$F$2:$F$1500=\"DCPWRDIS\"),0),0))","v":""},{"$f":"IF('DC Power Distribution (Desc)'!H16=\"\",\"\",'DC Power Distribution (Desc)'!H16)","v":""},{"$f":"IF('DC Power Distribution (Desc)'!I16=\"\",\"\",INDEX([1]YES_NO!$A$2:$A$100,MATCH('DC Power Distribution (Desc)'!$I16,[1]!MASTER_YES_NO_DESC[#Data],0),0))","v":""},{"$f":"IF('DC Power Distribution (Desc)'!J16=\"\",\"\",'DC Power Distribution (Desc)'!J16)","v":""},{"$f":"IF('DC Power Distribution (Desc)'!K16=\"\",\"\",'DC Power Distribution (Desc)'!K16)","v":""},{"$f":"IF('DC Power Distribution (Desc)'!L16=\"\",\"\",INDEX([1]YES_NO!$A$2:$A$100,MATCH('DC Power Distribution (Desc)'!$L16,[1]!MASTER_YES_NO_DESC[#Data],0),0))","v":""},{"$f":"IF('DC Power Distribution (Desc)'!M16=\"\",\"\",INDEX([1]DEV_INPUT_VOLTAGE!$A$2:$A$100,MATCH('DC Power Distribution (Desc)'!$M16,[1]!MASTER_DEV_INPUT_VOLTAGE_DESC[#Data],0),0))","v":""},{"$f":"IF('DC Power Distribution (Desc)'!N16=\"\",\"\",INDEX([1]DEV_OUTPUT_VOLTAGE!$A$2:$A$100,MATCH('DC Power Distribution (Desc)'!$N16,[1]!MASTER_DEV_INPUT_VOLTAGE_DESC[#Data],0),0))","v":""},{"$f":"IF('DC Power Distribution (Desc)'!O16=\"\",\"\",'DC Power Distribution (Desc)'!O16)","v":""},{"$f":"IF('DC Power Distribution (Desc)'!P16=\"\",\"\",'DC Power Distribution (Desc)'!P16)","v":""},{"$f":"IF('DC Power Distribution (Desc)'!Q16=\"\",\"\",'DC Power Distribution (Desc)'!Q16)","v":""},{"$f":"IF('DC Power Distribution (Desc)'!C16=\"\",\"\",\"NA\")","v":""}]
[{"$f":"IF('DC Power Distribution (Desc)'!A17=\"\",\"\",'DC Power Distribution (Desc)'!A17)","v":""},{"$f":"IF('DC Power Distribution (Desc)'!C17=\"\",\"\",2029)","v":""},{"$f":"IF('DC Power Distribution (Desc)'!C17=\"\",\"\",'DC Power Distribution (Desc)'!C17)","v":""},{"$f":"IF('DC Power Distribution (Desc)'!E17=\"\",\"\",'DC Power Distribution (Desc)'!E17)","v":""},{"$f":"IF('DC Power Distribution (Desc)'!F17=\"\",\"\",INDEX([1]ELECTRIC_DEV_MANUF!$A$2:$A$1500,MATCH(1,([1]ELECTRIC_DEV_MANUF!$B$2:$B$1500='DC Power Distribution (Desc)'!$F17)*([1]ELECTRIC_DEV_MANUF!$D$2:$D$1500=\"DCPWRDIS\"),0),0))","v":""},{"$f":"IF('DC Power Distribution (Desc)'!G17=\"\",\"\",INDEX([1]ELECTRIC_DEV_MODEL!$A$2:$A$1500,MATCH(1,([1]ELECTRIC_DEV_MODEL!$C$2:$C$1500='DC Power Distribution (Desc)'!$F17)*([1]ELECTRIC_DEV_MODEL!$D$2:$D$1500='DC Power Distribution (Desc)'!$G17)*([1]ELECTRIC_DEV_MODEL!$F$2:$F$1500=\"DCPWRDIS\"),0),0))","v":""},{"$f":"IF('DC Power Distribution (Desc)'!H17=\"\",\"\",'DC Power Distribution (Desc)'!H17)","v":""},{"$f":"IF('DC Power Distribution (Desc)'!I17=\"\",\"\",INDEX([1]YES_NO!$A$2:$A$100,MATCH('DC Power Distribution (Desc)'!$I17,[1]!MASTER_YES_NO_DESC[#Data],0),0))","v":""},{"$f":"IF('DC Power Distribution (Desc)'!J17=\"\",\"\",'DC Power Distribution (Desc)'!J17)","v":""},{"$f":"IF('DC Power Distribution (Desc)'!K17=\"\",\"\",'DC Power Distribution (Desc)'!K17)","v":""},{"$f":"IF('DC Power Distribution (Desc)'!L17=\"\",\"\",INDEX([1]YES_NO!$A$2:$A$100,MATCH('DC Power Distribution (Desc)'!$L17,[1]!MASTER_YES_NO_DESC[#Data],0),0))","v":""},{"$f":"IF('DC Power Distribution (Desc)'!M17=\"\",\"\",INDEX([1]DEV_INPUT_VOLTAGE!$A$2:$A$100,MATCH('DC Power Distribution (Desc)'!$M17,[1]!MASTER_DEV_INPUT_VOLTAGE_DESC[#Data],0),0))","v":""},{"$f":"IF('DC Power Distribution (Desc)'!N17=\"\",\"\",INDEX([1]DEV_OUTPUT_VOLTAGE!$A$2:$A$100,MATCH('DC Power Distribution (Desc)'!$N17,[1]!MASTER_DEV_INPUT_VOLTAGE_DESC[#Data],0),0))","v":""},{"$f":"IF('DC Power Distribution (Desc)'!O17=\"\",\"\",'DC Power Distribution (Desc)'!O17)","v":""},{"$f":"IF('DC Power Distribution (Desc)'!P17=\"\",\"\",'DC Power Distribution (Desc)'!P17)","v":""},{"$f":"IF('DC Power Distribution (Desc)'!Q17=\"\",\"\",'DC Power Distribution (Desc)'!Q17)","v":""},{"$f":"IF('DC Power Distribution (Desc)'!C17=\"\",\"\",\"NA\")","v":""}]
[{"$f":"IF('DC Power Distribution (Desc)'!A18=\"\",\"\",'DC Power Distribution (Desc)'!A18)","v":""},{"$f":"IF('DC Power Distribution (Desc)'!C18=\"\",\"\",2029)","v":""},{"$f":"IF('DC Power Distribution (Desc)'!C18=\"\",\"\",'DC Power Distribution (Desc)'!C18)","v":""},{"$f":"IF('DC Power Distribution (Desc)'!E18=\"\",\"\",'DC Power Distribution (Desc)'!E18)","v":""},{"$f":"IF('DC Power Distribution (Desc)'!F18=\"\",\"\",INDEX([1]ELECTRIC_DEV_MANUF!$A$2:$A$1500,MATCH(1,([1]ELECTRIC_DEV_MANUF!$B$2:$B$1500='DC Power Distribution (Desc)'!$F18)*([1]ELECTRIC_DEV_MANUF!$D$2:$D$1500=\"DCPWRDIS\"),0),0))","v":""},{"$f":"IF('DC Power Distribution (Desc)'!G18=\"\",\"\",INDEX([1]ELECTRIC_DEV_MODEL!$A$2:$A$1500,MATCH(1,([1]ELECTRIC_DEV_MODEL!$C$2:$C$1500='DC Power Distribution (Desc)'!$F18)*([1]ELECTRIC_DEV_MODEL!$D$2:$D$1500='DC Power Distribution (Desc)'!$G18)*([1]ELECTRIC_DEV_MODEL!$F$2:$F$1500=\"DCPWRDIS\"),0),0))","v":""},{"$f":"IF('DC Power Distribution (Desc)'!H18=\"\",\"\",'DC Power Distribution (Desc)'!H18)","v":""},{"$f":"IF('DC Power Distribution (Desc)'!I18=\"\",\"\",INDEX([1]YES_NO!$A$2:$A$100,MATCH('DC Power Distribution (Desc)'!$I18,[1]!MASTER_YES_NO_DESC[#Data],0),0))","v":""},{"$f":"IF('DC Power Distribution (Desc)'!J18=\"\",\"\",'DC Power Distribution (Desc)'!J18)","v":""},{"$f":"IF('DC Power Distribution (Desc)'!K18=\"\",\"\",'DC Power Distribution (Desc)'!K18)","v":""},{"$f":"IF('DC Power Distribution (Desc)'!L18=\"\",\"\",INDEX([1]YES_NO!$A$2:$A$100,MATCH('DC Power Distribution (Desc)'!$L18,[1]!MASTER_YES_NO_DESC[#Data],0),0))","v":""},{"$f":"IF('DC Power Distribution (Desc)'!M18=\"\",\"\",INDEX([1]DEV_INPUT_VOLTAGE!$A$2:$A$100,MATCH('DC Power Distribution (Desc)'!$M18,[1]!MASTER_DEV_INPUT_VOLTAGE_DESC[#Data],0),0))","v":""},{"$f":"IF('DC Power Distribution (Desc)'!N18=\"\",\"\",INDEX([1]DEV_OUTPUT_VOLTAGE!$A$2:$A$100,MATCH('DC Power Distribution (Desc)'!$N18,[1]!MASTER_DEV_INPUT_VOLTAGE_DESC[#Data],0),0))","v":""},{"$f":"IF('DC Power Distribution (Desc)'!O18=\"\",\"\",'DC Power Distribution (Desc)'!O18)","v":""},{"$f":"IF('DC Power Distribution (Desc)'!P18=\"\",\"\",'DC Power Distribution (Desc)'!P18)","v":""},{"$f":"IF('DC Power Distribution (Desc)'!Q18=\"\",\"\",'DC Power Distribution (Desc)'!Q18)","v":""},{"$f":"IF('DC Power Distribution (Desc)'!C18=\"\",\"\",\"NA\")","v":""}]
[{"$f":"IF('DC Power Distribution (Desc)'!A19=\"\",\"\",'DC Power Distribution (Desc)'!A19)","v":""},{"$f":"IF('DC Power Distribution (Desc)'!C19=\"\",\"\",2029)","v":""},{"$f":"IF('DC Power Distribution (Desc)'!C19=\"\",\"\",'DC Power Distribution (Desc)'!C19)","v":""},{"$f":"IF('DC Power Distribution (Desc)'!E19=\"\",\"\",'DC Power Distribution (Desc)'!E19)","v":""},{"$f":"IF('DC Power Distribution (Desc)'!F19=\"\",\"\",INDEX([1]ELECTRIC_DEV_MANUF!$A$2:$A$1500,MATCH(1,([1]ELECTRIC_DEV_MANUF!$B$2:$B$1500='DC Power Distribution (Desc)'!$F19)*([1]ELECTRIC_DEV_MANUF!$D$2:$D$1500=\"DCPWRDIS\"),0),0))","v":""},{"$f":"IF('DC Power Distribution (Desc)'!G19=\"\",\"\",INDEX([1]ELECTRIC_DEV_MODEL!$A$2:$A$1500,MATCH(1,([1]ELECTRIC_DEV_MODEL!$C$2:$C$1500='DC Power Distribution (Desc)'!$F19)*([1]ELECTRIC_DEV_MODEL!$D$2:$D$1500='DC Power Distribution (Desc)'!$G19)*([1]ELECTRIC_DEV_MODEL!$F$2:$F$1500=\"DCPWRDIS\"),0),0))","v":""},{"$f":"IF('DC Power Distribution (Desc)'!H19=\"\",\"\",'DC Power Distribution (Desc)'!H19)","v":""},{"$f":"IF('DC Power Distribution (Desc)'!I19=\"\",\"\",INDEX([1]YES_NO!$A$2:$A$100,MATCH('DC Power Distribution (Desc)'!$I19,[1]!MASTER_YES_NO_DESC[#Data],0),0))","v":""},{"$f":"IF('DC Power Distribution (Desc)'!J19=\"\",\"\",'DC Power Distribution (Desc)'!J19)","v":""},{"$f":"IF('DC Power Distribution (Desc)'!K19=\"\",\"\",'DC Power Distribution (Desc)'!K19)","v":""},{"$f":"IF('DC Power Distribution (Desc)'!L19=\"\",\"\",INDEX([1]YES_NO!$A$2:$A$100,MATCH('DC Power Distribution (Desc)'!$L19,[1]!MASTER_YES_NO_DESC[#Data],0),0))","v":""},{"$f":"IF('DC Power Distribution (Desc)'!M19=\"\",\"\",INDEX([1]DEV_INPUT_VOLTAGE!$A$2:$A$100,MATCH('DC Power Distribution (Desc)'!$M19,[1]!MASTER_DEV_INPUT_VOLTAGE_DESC[#Data],0),0))","v":""},{"$f":"IF('DC Power Distribution (Desc)'!N19=\"\",\"\",INDEX([1]DEV_OUTPUT_VOLTAGE!$A$2:$A$100,MATCH('DC Power Distribution (Desc)'!$N19,[1]!MASTER_DEV_INPUT_VOLTAGE_DESC[#Data],0),0))","v":""},{"$f":"IF('DC Power Distribution (Desc)'!O19=\"\",\"\",'DC Power Distribution (Desc)'!O19)","v":""},{"$f":"IF('DC Power Distribution (Desc)'!P19=\"\",\"\",'DC Power Distribution (Desc)'!P19)","v":""},{"$f":"IF('DC Power Distribution (Desc)'!Q19=\"\",\"\",'DC Power Distribution (Desc)'!Q19)","v":""},{"$f":"IF('DC Power Distribution (Desc)'!C19=\"\",\"\",\"NA\")","v":""}]
[{"$f":"IF('DC Power Distribution (Desc)'!A20=\"\",\"\",'DC Power Distribution (Desc)'!A20)","v":""},{"$f":"IF('DC Power Distribution (Desc)'!C20=\"\",\"\",2029)","v":""},{"$f":"IF('DC Power Distribution (Desc)'!C20=\"\",\"\",'DC Power Distribution (Desc)'!C20)","v":""},{"$f":"IF('DC Power Distribution (Desc)'!E20=\"\",\"\",'DC Power Distribution (Desc)'!E20)","v":""},{"$f":"IF('DC Power Distribution (Desc)'!F20=\"\",\"\",INDEX([1]ELECTRIC_DEV_MANUF!$A$2:$A$1500,MATCH(1,([1]ELECTRIC_DEV_MANUF!$B$2:$B$1500='DC Power Distribution (Desc)'!$F20)*([1]ELECTRIC_DEV_MANUF!$D$2:$D$1500=\"DCPWRDIS\"),0),0))","v":""},{"$f":"IF('DC Power Distribution (Desc)'!G20=\"\",\"\",INDEX([1]ELECTRIC_DEV_MODEL!$A$2:$A$1500,MATCH(1,([1]ELECTRIC_DEV_MODEL!$C$2:$C$1500='DC Power Distribution (Desc)'!$F20)*([1]ELECTRIC_DEV_MODEL!$D$2:$D$1500='DC Power Distribution (Desc)'!$G20)*([1]ELECTRIC_DEV_MODEL!$F$2:$F$1500=\"DCPWRDIS\"),0),0))","v":""},{"$f":"IF('DC Power Distribution (Desc)'!H20=\"\",\"\",'DC Power Distribution (Desc)'!H20)","v":""},{"$f":"IF('DC Power Distribution (Desc)'!I20=\"\",\"\",INDEX([1]YES_NO!$A$2:$A$100,MATCH('DC Power Distribution (Desc)'!$I20,[1]!MASTER_YES_NO_DESC[#Data],0),0))","v":""},{"$f":"IF('DC Power Distribution (Desc)'!J20=\"\",\"\",'DC Power Distribution (Desc)'!J20)","v":""},{"$f":"IF('DC Power Distribution (Desc)'!K20=\"\",\"\",'DC Power Distribution (Desc)'!K20)","v":""},{"$f":"IF('DC Power Distribution (Desc)'!L20=\"\",\"\",INDEX([1]YES_NO!$A$2:$A$100,MATCH('DC Power Distribution (Desc)'!$L20,[1]!MASTER_YES_NO_DESC[#Data],0),0))","v":""},{"$f":"IF('DC Power Distribution (Desc)'!M20=\"\",\"\",INDEX([1]DEV_INPUT_VOLTAGE!$A$2:$A$100,MATCH('DC Power Distribution (Desc)'!$M20,[1]!MASTER_DEV_INPUT_VOLTAGE_DESC[#Data],0),0))","v":""},{"$f":"IF('DC Power Distribution (Desc)'!N20=\"\",\"\",INDEX([1]DEV_OUTPUT_VOLTAGE!$A$2:$A$100,MATCH('DC Power Distribution (Desc)'!$N20,[1]!MASTER_DEV_INPUT_VOLTAGE_DESC[#Data],0),0))","v":""},{"$f":"IF('DC Power Distribution (Desc)'!O20=\"\",\"\",'DC Power Distribution (Desc)'!O20)","v":""},{"$f":"IF('DC Power Distribution (Desc)'!P20=\"\",\"\",'DC Power Distribution (Desc)'!P20)","v":""},{"$f":"IF('DC Power Distribution (Desc)'!Q20=\"\",\"\",'DC Power Distribution (Desc)'!Q20)","v":""},{"$f":"IF('DC Power Distribution (Desc)'!C20=\"\",\"\",\"NA\")","v":""}]
[{"$f":"IF('DC Power Distribution (Desc)'!A21=\"\",\"\",'DC Power Distribution (Desc)'!A21)","v":""},{"$f":"IF('DC Power Distribution (Desc)'!C21=\"\",\"\",2029)","v":""},{"$f":"IF('DC Power Distribution (Desc)'!C21=\"\",\"\",'DC Power Distribution (Desc)'!C21)","v":""},{"$f":"IF('DC Power Distribution (Desc)'!E21=\"\",\"\",'DC Power Distribution (Desc)'!E21)","v":""},{"$f":"IF('DC Power Distribution (Desc)'!F21=\"\",\"\",INDEX([1]ELECTRIC_DEV_MANUF!$A$2:$A$1500,MATCH(1,([1]ELECTRIC_DEV_MANUF!$B$2:$B$1500='DC Power Distribution (Desc)'!$F21)*([1]ELECTRIC_DEV_MANUF!$D$2:$D$1500=\"DCPWRDIS\"),0),0))","v":""},{"$f":"IF('DC Power Distribution (Desc)'!G21=\"\",\"\",INDEX([1]ELECTRIC_DEV_MODEL!$A$2:$A$1500,MATCH(1,([1]ELECTRIC_DEV_MODEL!$C$2:$C$1500='DC Power Distribution (Desc)'!$F21)*([1]ELECTRIC_DEV_MODEL!$D$2:$D$1500='DC Power Distribution (Desc)'!$G21)*([1]ELECTRIC_DEV_MODEL!$F$2:$F$1500=\"DCPWRDIS\"),0),0))","v":""},{"$f":"IF('DC Power Distribution (Desc)'!H21=\"\",\"\",'DC Power Distribution (Desc)'!H21)","v":""},{"$f":"IF('DC Power Distribution (Desc)'!I21=\"\",\"\",INDEX([1]YES_NO!$A$2:$A$100,MATCH('DC Power Distribution (Desc)'!$I21,[1]!MASTER_YES_NO_DESC[#Data],0),0))","v":""},{"$f":"IF('DC Power Distribution (Desc)'!J21=\"\",\"\",'DC Power Distribution (Desc)'!J21)","v":""},{"$f":"IF('DC Power Distribution (Desc)'!K21=\"\",\"\",'DC Power Distribution (Desc)'!K21)","v":""},{"$f":"IF('DC Power Distribution (Desc)'!L21=\"\",\"\",INDEX([1]YES_NO!$A$2:$A$100,MATCH('DC Power Distribution (Desc)'!$L21,[1]!MASTER_YES_NO_DESC[#Data],0),0))","v":""},{"$f":"IF('DC Power Distribution (Desc)'!M21=\"\",\"\",INDEX([1]DEV_INPUT_VOLTAGE!$A$2:$A$100,MATCH('DC Power Distribution (Desc)'!$M21,[1]!MASTER_DEV_INPUT_VOLTAGE_DESC[#Data],0),0))","v":""},{"$f":"IF('DC Power Distribution (Desc)'!N21=\"\",\"\",INDEX([1]DEV_OUTPUT_VOLTAGE!$A$2:$A$100,MATCH('DC Power Distribution (Desc)'!$N21,[1]!MASTER_DEV_INPUT_VOLTAGE_DESC[#Data],0),0))","v":""},{"$f":"IF('DC Power Distribution (Desc)'!O21=\"\",\"\",'DC Power Distribution (Desc)'!O21)","v":""},{"$f":"IF('DC Power Distribution (Desc)'!P21=\"\",\"\",'DC Power Distribution (Desc)'!P21)","v":""},{"$f":"IF('DC Power Distribution (Desc)'!Q21=\"\",\"\",'DC Power Distribution (Desc)'!Q21)","v":""},{"$f":"IF('DC Power Distribution (Desc)'!C21=\"\",\"\",\"NA\")","v":""}]
[{"$f":"IF('DC Power Distribution (Desc)'!A22=\"\",\"\",'DC Power Distribution (Desc)'!A22)","v":""},{"$f":"IF('DC Power Distribution (Desc)'!C22=\"\",\"\",2029)","v":""},{"$f":"IF('DC Power Distribution (Desc)'!C22=\"\",\"\",'DC Power Distribution (Desc)'!C22)","v":""},{"$f":"IF('DC Power Distribution (Desc)'!E22=\"\",\"\",'DC Power Distribution (Desc)'!E22)","v":""},{"$f":"IF('DC Power Distribution (Desc)'!F22=\"\",\"\",INDEX([1]ELECTRIC_DEV_MANUF!$A$2:$A$1500,MATCH(1,([1]ELECTRIC_DEV_MANUF!$B$2:$B$1500='DC Power Distribution (Desc)'!$F22)*([1]ELECTRIC_DEV_MANUF!$D$2:$D$1500=\"DCPWRDIS\"),0),0))","v":""},{"$f":"IF('DC Power Distribution (Desc)'!G22=\"\",\"\",INDEX([1]ELECTRIC_DEV_MODEL!$A$2:$A$1500,MATCH(1,([1]ELECTRIC_DEV_MODEL!$C$2:$C$1500='DC Power Distribution (Desc)'!$F22)*([1]ELECTRIC_DEV_MODEL!$D$2:$D$1500='DC Power Distribution (Desc)'!$G22)*([1]ELECTRIC_DEV_MODEL!$F$2:$F$1500=\"DCPWRDIS\"),0),0))","v":""},{"$f":"IF('DC Power Distribution (Desc)'!H22=\"\",\"\",'DC Power Distribution (Desc)'!H22)","v":""},{"$f":"IF('DC Power Distribution (Desc)'!I22=\"\",\"\",INDEX([1]YES_NO!$A$2:$A$100,MATCH('DC Power Distribution (Desc)'!$I22,[1]!MASTER_YES_NO_DESC[#Data],0),0))","v":""},{"$f":"IF('DC Power Distribution (Desc)'!J22=\"\",\"\",'DC Power Distribution (Desc)'!J22)","v":""},{"$f":"IF('DC Power Distribution (Desc)'!K22=\"\",\"\",'DC Power Distribution (Desc)'!K22)","v":""},{"$f":"IF('DC Power Distribution (Desc)'!L22=\"\",\"\",INDEX([1]YES_NO!$A$2:$A$100,MATCH('DC Power Distribution (Desc)'!$L22,[1]!MASTER_YES_NO_DESC[#Data],0),0))","v":""},{"$f":"IF('DC Power Distribution (Desc)'!M22=\"\",\"\",INDEX([1]DEV_INPUT_VOLTAGE!$A$2:$A$100,MATCH('DC Power Distribution (Desc)'!$M22,[1]!MASTER_DEV_INPUT_VOLTAGE_DESC[#Data],0),0))","v":""},{"$f":"IF('DC Power Distribution (Desc)'!N22=\"\",\"\",INDEX([1]DEV_OUTPUT_VOLTAGE!$A$2:$A$100,MATCH('DC Power Distribution (Desc)'!$N22,[1]!MASTER_DEV_INPUT_VOLTAGE_DESC[#Data],0),0))","v":""},{"$f":"IF('DC Power Distribution (Desc)'!O22=\"\",\"\",'DC Power Distribution (Desc)'!O22)","v":""},{"$f":"IF('DC Power Distribution (Desc)'!P22=\"\",\"\",'DC Power Distribution (Desc)'!P22)","v":""},{"$f":"IF('DC Power Distribution (Desc)'!Q22=\"\",\"\",'DC Power Distribution (Desc)'!Q22)","v":""},{"$f":"IF('DC Power Distribution (Desc)'!C22=\"\",\"\",\"NA\")","v":""}]
[{"$f":"IF('DC Power Distribution (Desc)'!A23=\"\",\"\",'DC Power Distribution (Desc)'!A23)","v":""},{"$f":"IF('DC Power Distribution (Desc)'!C23=\"\",\"\",2029)","v":""},{"$f":"IF('DC Power Distribution (Desc)'!C23=\"\",\"\",'DC Power Distribution (Desc)'!C23)","v":""},{"$f":"IF('DC Power Distribution (Desc)'!E23=\"\",\"\",'DC Power Distribution (Desc)'!E23)","v":""},{"$f":"IF('DC Power Distribution (Desc)'!F23=\"\",\"\",INDEX([1]ELECTRIC_DEV_MANUF!$A$2:$A$1500,MATCH(1,([1]ELECTRIC_DEV_MANUF!$B$2:$B$1500='DC Power Distribution (Desc)'!$F23)*([1]ELECTRIC_DEV_MANUF!$D$2:$D$1500=\"DCPWRDIS\"),0),0))","v":""},{"$f":"IF('DC Power Distribution (Desc)'!G23=\"\",\"\",INDEX([1]ELECTRIC_DEV_MODEL!$A$2:$A$1500,MATCH(1,([1]ELECTRIC_DEV_MODEL!$C$2:$C$1500='DC Power Distribution (Desc)'!$F23)*([1]ELECTRIC_DEV_MODEL!$D$2:$D$1500='DC Power Distribution (Desc)'!$G23)*([1]ELECTRIC_DEV_MODEL!$F$2:$F$1500=\"DCPWRDIS\"),0),0))","v":""},{"$f":"IF('DC Power Distribution (Desc)'!H23=\"\",\"\",'DC Power Distribution (Desc)'!H23)","v":""},{"$f":"IF('DC Power Distribution (Desc)'!I23=\"\",\"\",INDEX([1]YES_NO!$A$2:$A$100,MATCH('DC Power Distribution (Desc)'!$I23,[1]!MASTER_YES_NO_DESC[#Data],0),0))","v":""},{"$f":"IF('DC Power Distribution (Desc)'!J23=\"\",\"\",'DC Power Distribution (Desc)'!J23)","v":""},{"$f":"IF('DC Power Distribution (Desc)'!K23=\"\",\"\",'DC Power Distribution (Desc)'!K23)","v":""},{"$f":"IF('DC Power Distribution (Desc)'!L23=\"\",\"\",INDEX([1]YES_NO!$A$2:$A$100,MATCH('DC Power Distribution (Desc)'!$L23,[1]!MASTER_YES_NO_DESC[#Data],0),0))","v":""},{"$f":"IF('DC Power Distribution (Desc)'!M23=\"\",\"\",INDEX([1]DEV_INPUT_VOLTAGE!$A$2:$A$100,MATCH('DC Power Distribution (Desc)'!$M23,[1]!MASTER_DEV_INPUT_VOLTAGE_DESC[#Data],0),0))","v":""},{"$f":"IF('DC Power Distribution (Desc)'!N23=\"\",\"\",INDEX([1]DEV_OUTPUT_VOLTAGE!$A$2:$A$100,MATCH('DC Power Distribution (Desc)'!$N23,[1]!MASTER_DEV_INPUT_VOLTAGE_DESC[#Data],0),0))","v":""},{"$f":"IF('DC Power Distribution (Desc)'!O23=\"\",\"\",'DC Power Distribution (Desc)'!O23)","v":""},{"$f":"IF('DC Power Distribution (Desc)'!P23=\"\",\"\",'DC Power Distribution (Desc)'!P23)","v":""},{"$f":"IF('DC Power Distribution (Desc)'!Q23=\"\",\"\",'DC Power Distribution (Desc)'!Q23)","v":""},{"$f":"IF('DC Power Distribution (Desc)'!C23=\"\",\"\",\"NA\")","v":""}]
[{"$f":"IF('DC Power Distribution (Desc)'!A24=\"\",\"\",'DC Power Distribution (Desc)'!A24)","v":""},{"$f":"IF('DC Power Distribution (Desc)'!C24=\"\",\"\",2029)","v":""},{"$f":"IF('DC Power Distribution (Desc)'!C24=\"\",\"\",'DC Power Distribution (Desc)'!C24)","v":""},{"$f":"IF('DC Power Distribution (Desc)'!E24=\"\",\"\",'DC Power Distribution (Desc)'!E24)","v":""},{"$f":"IF('DC Power Distribution (Desc)'!F24=\"\",\"\",INDEX([1]ELECTRIC_DEV_MANUF!$A$2:$A$1500,MATCH(1,([1]ELECTRIC_DEV_MANUF!$B$2:$B$1500='DC Power Distribution (Desc)'!$F24)*([1]ELECTRIC_DEV_MANUF!$D$2:$D$1500=\"DCPWRDIS\"),0),0))","v":""},{"$f":"IF('DC Power Distribution (Desc)'!G24=\"\",\"\",INDEX([1]ELECTRIC_DEV_MODEL!$A$2:$A$1500,MATCH(1,([1]ELECTRIC_DEV_MODEL!$C$2:$C$1500='DC Power Distribution (Desc)'!$F24)*([1]ELECTRIC_DEV_MODEL!$D$2:$D$1500='DC Power Distribution (Desc)'!$G24)*([1]ELECTRIC_DEV_MODEL!$F$2:$F$1500=\"DCPWRDIS\"),0),0))","v":""},{"$f":"IF('DC Power Distribution (Desc)'!H24=\"\",\"\",'DC Power Distribution (Desc)'!H24)","v":""},{"$f":"IF('DC Power Distribution (Desc)'!I24=\"\",\"\",INDEX([1]YES_NO!$A$2:$A$100,MATCH('DC Power Distribution (Desc)'!$I24,[1]!MASTER_YES_NO_DESC[#Data],0),0))","v":""},{"$f":"IF('DC Power Distribution (Desc)'!J24=\"\",\"\",'DC Power Distribution (Desc)'!J24)","v":""},{"$f":"IF('DC Power Distribution (Desc)'!K24=\"\",\"\",'DC Power Distribution (Desc)'!K24)","v":""},{"$f":"IF('DC Power Distribution (Desc)'!L24=\"\",\"\",INDEX([1]YES_NO!$A$2:$A$100,MATCH('DC Power Distribution (Desc)'!$L24,[1]!MASTER_YES_NO_DESC[#Data],0),0))","v":""},{"$f":"IF('DC Power Distribution (Desc)'!M24=\"\",\"\",INDEX([1]DEV_INPUT_VOLTAGE!$A$2:$A$100,MATCH('DC Power Distribution (Desc)'!$M24,[1]!MASTER_DEV_INPUT_VOLTAGE_DESC[#Data],0),0))","v":""},{"$f":"IF('DC Power Distribution (Desc)'!N24=\"\",\"\",INDEX([1]DEV_OUTPUT_VOLTAGE!$A$2:$A$100,MATCH('DC Power Distribution (Desc)'!$N24,[1]!MASTER_DEV_INPUT_VOLTAGE_DESC[#Data],0),0))","v":""},{"$f":"IF('DC Power Distribution (Desc)'!O24=\"\",\"\",'DC Power Distribution (Desc)'!O24)","v":""},{"$f":"IF('DC Power Distribution (Desc)'!P24=\"\",\"\",'DC Power Distribution (Desc)'!P24)","v":""},{"$f":"IF('DC Power Distribution (Desc)'!Q24=\"\",\"\",'DC Power Distribution (Desc)'!Q24)","v":""},{"$f":"IF('DC Power Distribution (Desc)'!C24=\"\",\"\",\"NA\")","v":""}]
[{"$f":"IF('DC Power Distribution (Desc)'!A25=\"\",\"\",'DC Power Distribution (Desc)'!A25)","v":""},{"$f":"IF('DC Power Distribution (Desc)'!C25=\"\",\"\",2029)","v":""},{"$f":"IF('DC Power Distribution (Desc)'!C25=\"\",\"\",'DC Power Distribution (Desc)'!C25)","v":""},{"$f":"IF('DC Power Distribution (Desc)'!E25=\"\",\"\",'DC Power Distribution (Desc)'!E25)","v":""},{"$f":"IF('DC Power Distribution (Desc)'!F25=\"\",\"\",INDEX([1]ELECTRIC_DEV_MANUF!$A$2:$A$1500,MATCH(1,([1]ELECTRIC_DEV_MANUF!$B$2:$B$1500='DC Power Distribution (Desc)'!$F25)*([1]ELECTRIC_DEV_MANUF!$D$2:$D$1500=\"DCPWRDIS\"),0),0))","v":""},{"$f":"IF('DC Power Distribution (Desc)'!G25=\"\",\"\",INDEX([1]ELECTRIC_DEV_MODEL!$A$2:$A$1500,MATCH(1,([1]ELECTRIC_DEV_MODEL!$C$2:$C$1500='DC Power Distribution (Desc)'!$F25)*([1]ELECTRIC_DEV_MODEL!$D$2:$D$1500='DC Power Distribution (Desc)'!$G25)*([1]ELECTRIC_DEV_MODEL!$F$2:$F$1500=\"DCPWRDIS\"),0),0))","v":""},{"$f":"IF('DC Power Distribution (Desc)'!H25=\"\",\"\",'DC Power Distribution (Desc)'!H25)","v":""},{"$f":"IF('DC Power Distribution (Desc)'!I25=\"\",\"\",INDEX([1]YES_NO!$A$2:$A$100,MATCH('DC Power Distribution (Desc)'!$I25,[1]!MASTER_YES_NO_DESC[#Data],0),0))","v":""},{"$f":"IF('DC Power Distribution (Desc)'!J25=\"\",\"\",'DC Power Distribution (Desc)'!J25)","v":""},{"$f":"IF('DC Power Distribution (Desc)'!K25=\"\",\"\",'DC Power Distribution (Desc)'!K25)","v":""},{"$f":"IF('DC Power Distribution (Desc)'!L25=\"\",\"\",INDEX([1]YES_NO!$A$2:$A$100,MATCH('DC Power Distribution (Desc)'!$L25,[1]!MASTER_YES_NO_DESC[#Data],0),0))","v":""},{"$f":"IF('DC Power Distribution (Desc)'!M25=\"\",\"\",INDEX([1]DEV_INPUT_VOLTAGE!$A$2:$A$100,MATCH('DC Power Distribution (Desc)'!$M25,[1]!MASTER_DEV_INPUT_VOLTAGE_DESC[#Data],0),0))","v":""},{"$f":"IF('DC Power Distribution (Desc)'!N25=\"\",\"\",INDEX([1]DEV_OUTPUT_VOLTAGE!$A$2:$A$100,MATCH('DC Power Distribution (Desc)'!$N25,[1]!MASTER_DEV_INPUT_VOLTAGE_DESC[#Data],0),0))","v":""},{"$f":"IF('DC Power Distribution (Desc)'!O25=\"\",\"\",'DC Power Distribution (Desc)'!O25)","v":""},{"$f":"IF('DC Power Distribution (Desc)'!P25=\"\",\"\",'DC Power Distribution (Desc)'!P25)","v":""},{"$f":"IF('DC Power Distribution (Desc)'!Q25=\"\",\"\",'DC Power Distribution (Desc)'!Q25)","v":""},{"$f":"IF('DC Power Distribution (Desc)'!C25=\"\",\"\",\"NA\")","v":""}]
[{"$f":"IF('DC Power Distribution (Desc)'!A26=\"\",\"\",'DC Power Distribution (Desc)'!A26)","v":""},{"$f":"IF('DC Power Distribution (Desc)'!C26=\"\",\"\",2029)","v":""},{"$f":"IF('DC Power Distribution (Desc)'!C26=\"\",\"\",'DC Power Distribution (Desc)'!C26)","v":""},{"$f":"IF('DC Power Distribution (Desc)'!E26=\"\",\"\",'DC Power Distribution (Desc)'!E26)","v":""},{"$f":"IF('DC Power Distribution (Desc)'!F26=\"\",\"\",INDEX([1]ELECTRIC_DEV_MANUF!$A$2:$A$1500,MATCH(1,([1]ELECTRIC_DEV_MANUF!$B$2:$B$1500='DC Power Distribution (Desc)'!$F26)*([1]ELECTRIC_DEV_MANUF!$D$2:$D$1500=\"DCPWRDIS\"),0),0))","v":""},{"$f":"IF('DC Power Distribution (Desc)'!G26=\"\",\"\",INDEX([1]ELECTRIC_DEV_MODEL!$A$2:$A$1500,MATCH(1,([1]ELECTRIC_DEV_MODEL!$C$2:$C$1500='DC Power Distribution (Desc)'!$F26)*([1]ELECTRIC_DEV_MODEL!$D$2:$D$1500='DC Power Distribution (Desc)'!$G26)*([1]ELECTRIC_DEV_MODEL!$F$2:$F$1500=\"DCPWRDIS\"),0),0))","v":""},{"$f":"IF('DC Power Distribution (Desc)'!H26=\"\",\"\",'DC Power Distribution (Desc)'!H26)","v":""},{"$f":"IF('DC Power Distribution (Desc)'!I26=\"\",\"\",INDEX([1]YES_NO!$A$2:$A$100,MATCH('DC Power Distribution (Desc)'!$I26,[1]!MASTER_YES_NO_DESC[#Data],0),0))","v":""},{"$f":"IF('DC Power Distribution (Desc)'!J26=\"\",\"\",'DC Power Distribution (Desc)'!J26)","v":""},{"$f":"IF('DC Power Distribution (Desc)'!K26=\"\",\"\",'DC Power Distribution (Desc)'!K26)","v":""},{"$f":"IF('DC Power Distribution (Desc)'!L26=\"\",\"\",INDEX([1]YES_NO!$A$2:$A$100,MATCH('DC Power Distribution (Desc)'!$L26,[1]!MASTER_YES_NO_DESC[#Data],0),0))","v":""},{"$f":"IF('DC Power Distribution (Desc)'!M26=\"\",\"\",INDEX([1]DEV_INPUT_VOLTAGE!$A$2:$A$100,MATCH('DC Power Distribution (Desc)'!$M26,[1]!MASTER_DEV_INPUT_VOLTAGE_DESC[#Data],0),0))","v":""},{"$f":"IF('DC Power Distribution (Desc)'!N26=\"\",\"\",INDEX([1]DEV_OUTPUT_VOLTAGE!$A$2:$A$100,MATCH('DC Power Distribution (Desc)'!$N26,[1]!MASTER_DEV_INPUT_VOLTAGE_DESC[#Data],0),0))","v":""},{"$f":"IF('DC Power Distribution (Desc)'!O26=\"\",\"\",'DC Power Distribution (Desc)'!O26)","v":""},{"$f":"IF('DC Power Distribution (Desc)'!P26=\"\",\"\",'DC Power Distribution (Desc)'!P26)","v":""},{"$f":"IF('DC Power Distribution (Desc)'!Q26=\"\",\"\",'DC Power Distribution (Desc)'!Q26)","v":""},{"$f":"IF('DC Power Distribution (Desc)'!C26=\"\",\"\",\"NA\")","v":""}]
[{"$f":"IF('DC Power Distribution (Desc)'!A27=\"\",\"\",'DC Power Distribution (Desc)'!A27)","v":""},{"$f":"IF('DC Power Distribution (Desc)'!C27=\"\",\"\",2029)","v":""},{"$f":"IF('DC Power Distribution (Desc)'!C27=\"\",\"\",'DC Power Distribution (Desc)'!C27)","v":""},{"$f":"IF('DC Power Distribution (Desc)'!E27=\"\",\"\",'DC Power Distribution (Desc)'!E27)","v":""},{"$f":"IF('DC Power Distribution (Desc)'!F27=\"\",\"\",INDEX([1]ELECTRIC_DEV_MANUF!$A$2:$A$1500,MATCH(1,([1]ELECTRIC_DEV_MANUF!$B$2:$B$1500='DC Power Distribution (Desc)'!$F27)*([1]ELECTRIC_DEV_MANUF!$D$2:$D$1500=\"DCPWRDIS\"),0),0))","v":""},{"$f":"IF('DC Power Distribution (Desc)'!G27=\"\",\"\",INDEX([1]ELECTRIC_DEV_MODEL!$A$2:$A$1500,MATCH(1,([1]ELECTRIC_DEV_MODEL!$C$2:$C$1500='DC Power Distribution (Desc)'!$F27)*([1]ELECTRIC_DEV_MODEL!$D$2:$D$1500='DC Power Distribution (Desc)'!$G27)*([1]ELECTRIC_DEV_MODEL!$F$2:$F$1500=\"DCPWRDIS\"),0),0))","v":""},{"$f":"IF('DC Power Distribution (Desc)'!H27=\"\",\"\",'DC Power Distribution (Desc)'!H27)","v":""},{"$f":"IF('DC Power Distribution (Desc)'!I27=\"\",\"\",INDEX([1]YES_NO!$A$2:$A$100,MATCH('DC Power Distribution (Desc)'!$I27,[1]!MASTER_YES_NO_DESC[#Data],0),0))","v":""},{"$f":"IF('DC Power Distribution (Desc)'!J27=\"\",\"\",'DC Power Distribution (Desc)'!J27)","v":""},{"$f":"IF('DC Power Distribution (Desc)'!K27=\"\",\"\",'DC Power Distribution (Desc)'!K27)","v":""},{"$f":"IF('DC Power Distribution (Desc)'!L27=\"\",\"\",INDEX([1]YES_NO!$A$2:$A$100,MATCH('DC Power Distribution (Desc)'!$L27,[1]!MASTER_YES_NO_DESC[#Data],0),0))","v":""},{"$f":"IF('DC Power Distribution (Desc)'!M27=\"\",\"\",INDEX([1]DEV_INPUT_VOLTAGE!$A$2:$A$100,MATCH('DC Power Distribution (Desc)'!$M27,[1]!MASTER_DEV_INPUT_VOLTAGE_DESC[#Data],0),0))","v":""},{"$f":"IF('DC Power Distribution (Desc)'!N27=\"\",\"\",INDEX([1]DEV_OUTPUT_VOLTAGE!$A$2:$A$100,MATCH('DC Power Distribution (Desc)'!$N27,[1]!MASTER_DEV_INPUT_VOLTAGE_DESC[#Data],0),0))","v":""},{"$f":"IF('DC Power Distribution (Desc)'!O27=\"\",\"\",'DC Power Distribution (Desc)'!O27)","v":""},{"$f":"IF('DC Power Distribution (Desc)'!P27=\"\",\"\",'DC Power Distribution (Desc)'!P27)","v":""},{"$f":"IF('DC Power Distribution (Desc)'!Q27=\"\",\"\",'DC Power Distribution (Desc)'!Q27)","v":""},{"$f":"IF('DC Power Distribution (Desc)'!C27=\"\",\"\",\"NA\")","v":""}]
[{"$f":"IF('DC Power Distribution (Desc)'!A28=\"\",\"\",'DC Power Distribution (Desc)'!A28)","v":""},{"$f":"IF('DC Power Distribution (Desc)'!C28=\"\",\"\",2029)","v":""},{"$f":"IF('DC Power Distribution (Desc)'!C28=\"\",\"\",'DC Power Distribution (Desc)'!C28)","v":""},{"$f":"IF('DC Power Distribution (Desc)'!E28=\"\",\"\",'DC Power Distribution (Desc)'!E28)","v":""},{"$f":"IF('DC Power Distribution (Desc)'!F28=\"\",\"\",INDEX([1]ELECTRIC_DEV_MANUF!$A$2:$A$1500,MATCH(1,([1]ELECTRIC_DEV_MANUF!$B$2:$B$1500='DC Power Distribution (Desc)'!$F28)*([1]ELECTRIC_DEV_MANUF!$D$2:$D$1500=\"DCPWRDIS\"),0),0))","v":""},{"$f":"IF('DC Power Distribution (Desc)'!G28=\"\",\"\",INDEX([1]ELECTRIC_DEV_MODEL!$A$2:$A$1500,MATCH(1,([1]ELECTRIC_DEV_MODEL!$C$2:$C$1500='DC Power Distribution (Desc)'!$F28)*([1]ELECTRIC_DEV_MODEL!$D$2:$D$1500='DC Power Distribution (Desc)'!$G28)*([1]ELECTRIC_DEV_MODEL!$F$2:$F$1500=\"DCPWRDIS\"),0),0))","v":""},{"$f":"IF('DC Power Distribution (Desc)'!H28=\"\",\"\",'DC Power Distribution (Desc)'!H28)","v":""},{"$f":"IF('DC Power Distribution (Desc)'!I28=\"\",\"\",INDEX([1]YES_NO!$A$2:$A$100,MATCH('DC Power Distribution (Desc)'!$I28,[1]!MASTER_YES_NO_DESC[#Data],0),0))","v":""},{"$f":"IF('DC Power Distribution (Desc)'!J28=\"\",\"\",'DC Power Distribution (Desc)'!J28)","v":""},{"$f":"IF('DC Power Distribution (Desc)'!K28=\"\",\"\",'DC Power Distribution (Desc)'!K28)","v":""},{"$f":"IF('DC Power Distribution (Desc)'!L28=\"\",\"\",INDEX([1]YES_NO!$A$2:$A$100,MATCH('DC Power Distribution (Desc)'!$L28,[1]!MASTER_YES_NO_DESC[#Data],0),0))","v":""},{"$f":"IF('DC Power Distribution (Desc)'!M28=\"\",\"\",INDEX([1]DEV_INPUT_VOLTAGE!$A$2:$A$100,MATCH('DC Power Distribution (Desc)'!$M28,[1]!MASTER_DEV_INPUT_VOLTAGE_DESC[#Data],0),0))","v":""},{"$f":"IF('DC Power Distribution (Desc)'!N28=\"\",\"\",INDEX([1]DEV_OUTPUT_VOLTAGE!$A$2:$A$100,MATCH('DC Power Distribution (Desc)'!$N28,[1]!MASTER_DEV_INPUT_VOLTAGE_DESC[#Data],0),0))","v":""},{"$f":"IF('DC Power Distribution (Desc)'!O28=\"\",\"\",'DC Power Distribution (Desc)'!O28)","v":""},{"$f":"IF('DC Power Distribution (Desc)'!P28=\"\",\"\",'DC Power Distribution (Desc)'!P28)","v":""},{"$f":"IF('DC Power Distribution (Desc)'!Q28=\"\",\"\",'DC Power Distribution (Desc)'!Q28)","v":""},{"$f":"IF('DC Power Distribution (Desc)'!C28=\"\",\"\",\"NA\")","v":""}]
[{"$f":"IF('DC Power Distribution (Desc)'!A29=\"\",\"\",'DC Power Distribution (Desc)'!A29)","v":""},{"$f":"IF('DC Power Distribution (Desc)'!C29=\"\",\"\",2029)","v":""},{"$f":"IF('DC Power Distribution (Desc)'!C29=\"\",\"\",'DC Power Distribution (Desc)'!C29)","v":""},{"$f":"IF('DC Power Distribution (Desc)'!E29=\"\",\"\",'DC Power Distribution (Desc)'!E29)","v":""},{"$f":"IF('DC Power Distribution (Desc)'!F29=\"\",\"\",INDEX([1]ELECTRIC_DEV_MANUF!$A$2:$A$1500,MATCH(1,([1]ELECTRIC_DEV_MANUF!$B$2:$B$1500='DC Power Distribution (Desc)'!$F29)*([1]ELECTRIC_DEV_MANUF!$D$2:$D$1500=\"DCPWRDIS\"),0),0))","v":""},{"$f":"IF('DC Power Distribution (Desc)'!G29=\"\",\"\",INDEX([1]ELECTRIC_DEV_MODEL!$A$2:$A$1500,MATCH(1,([1]ELECTRIC_DEV_MODEL!$C$2:$C$1500='DC Power Distribution (Desc)'!$F29)*([1]ELECTRIC_DEV_MODEL!$D$2:$D$1500='DC Power Distribution (Desc)'!$G29)*([1]ELECTRIC_DEV_MODEL!$F$2:$F$1500=\"DCPWRDIS\"),0),0))","v":""},{"$f":"IF('DC Power Distribution (Desc)'!H29=\"\",\"\",'DC Power Distribution (Desc)'!H29)","v":""},{"$f":"IF('DC Power Distribution (Desc)'!I29=\"\",\"\",INDEX([1]YES_NO!$A$2:$A$100,MATCH('DC Power Distribution (Desc)'!$I29,[1]!MASTER_YES_NO_DESC[#Data],0),0))","v":""},{"$f":"IF('DC Power Distribution (Desc)'!J29=\"\",\"\",'DC Power Distribution (Desc)'!J29)","v":""},{"$f":"IF('DC Power Distribution (Desc)'!K29=\"\",\"\",'DC Power Distribution (Desc)'!K29)","v":""},{"$f":"IF('DC Power Distribution (Desc)'!L29=\"\",\"\",INDEX([1]YES_NO!$A$2:$A$100,MATCH('DC Power Distribution (Desc)'!$L29,[1]!MASTER_YES_NO_DESC[#Data],0),0))","v":""},{"$f":"IF('DC Power Distribution (Desc)'!M29=\"\",\"\",INDEX([1]DEV_INPUT_VOLTAGE!$A$2:$A$100,MATCH('DC Power Distribution (Desc)'!$M29,[1]!MASTER_DEV_INPUT_VOLTAGE_DESC[#Data],0),0))","v":""},{"$f":"IF('DC Power Distribution (Desc)'!N29=\"\",\"\",INDEX([1]DEV_OUTPUT_VOLTAGE!$A$2:$A$100,MATCH('DC Power Distribution (Desc)'!$N29,[1]!MASTER_DEV_INPUT_VOLTAGE_DESC[#Data],0),0))","v":""},{"$f":"IF('DC Power Distribution (Desc)'!O29=\"\",\"\",'DC Power Distribution (Desc)'!O29)","v":""},{"$f":"IF('DC Power Distribution (Desc)'!P29=\"\",\"\",'DC Power Distribution (Desc)'!P29)","v":""},{"$f":"IF('DC Power Distribution (Desc)'!Q29=\"\",\"\",'DC Power Distribution (Desc)'!Q29)","v":""},{"$f":"IF('DC Power Distribution (Desc)'!C29=\"\",\"\",\"NA\")","v":""}]
[{"$f":"IF('DC Power Distribution (Desc)'!A30=\"\",\"\",'DC Power Distribution (Desc)'!A30)","v":""},{"$f":"IF('DC Power Distribution (Desc)'!C30=\"\",\"\",2029)","v":""},{"$f":"IF('DC Power Distribution (Desc)'!C30=\"\",\"\",'DC Power Distribution (Desc)'!C30)","v":""},{"$f":"IF('DC Power Distribution (Desc)'!E30=\"\",\"\",'DC Power Distribution (Desc)'!E30)","v":""},{"$f":"IF('DC Power Distribution (Desc)'!F30=\"\",\"\",INDEX([1]ELECTRIC_DEV_MANUF!$A$2:$A$1500,MATCH(1,([1]ELECTRIC_DEV_MANUF!$B$2:$B$1500='DC Power Distribution (Desc)'!$F30)*([1]ELECTRIC_DEV_MANUF!$D$2:$D$1500=\"DCPWRDIS\"),0),0))","v":""},{"$f":"IF('DC Power Distribution (Desc)'!G30=\"\",\"\",INDEX([1]ELECTRIC_DEV_MODEL!$A$2:$A$1500,MATCH(1,([1]ELECTRIC_DEV_MODEL!$C$2:$C$1500='DC Power Distribution (Desc)'!$F30)*([1]ELECTRIC_DEV_MODEL!$D$2:$D$1500='DC Power Distribution (Desc)'!$G30)*([1]ELECTRIC_DEV_MODEL!$F$2:$F$1500=\"DCPWRDIS\"),0),0))","v":""},{"$f":"IF('DC Power Distribution (Desc)'!H30=\"\",\"\",'DC Power Distribution (Desc)'!H30)","v":""},{"$f":"IF('DC Power Distribution (Desc)'!I30=\"\",\"\",INDEX([1]YES_NO!$A$2:$A$100,MATCH('DC Power Distribution (Desc)'!$I30,[1]!MASTER_YES_NO_DESC[#Data],0),0))","v":""},{"$f":"IF('DC Power Distribution (Desc)'!J30=\"\",\"\",'DC Power Distribution (Desc)'!J30)","v":""},{"$f":"IF('DC Power Distribution (Desc)'!K30=\"\",\"\",'DC Power Distribution (Desc)'!K30)","v":""},{"$f":"IF('DC Power Distribution (Desc)'!L30=\"\",\"\",INDEX([1]YES_NO!$A$2:$A$100,MATCH('DC Power Distribution (Desc)'!$L30,[1]!MASTER_YES_NO_DESC[#Data],0),0))","v":""},{"$f":"IF('DC Power Distribution (Desc)'!M30=\"\",\"\",INDEX([1]DEV_INPUT_VOLTAGE!$A$2:$A$100,MATCH('DC Power Distribution (Desc)'!$M30,[1]!MASTER_DEV_INPUT_VOLTAGE_DESC[#Data],0),0))","v":""},{"$f":"IF('DC Power Distribution (Desc)'!N30=\"\",\"\",INDEX([1]DEV_OUTPUT_VOLTAGE!$A$2:$A$100,MATCH('DC Power Distribution (Desc)'!$N30,[1]!MASTER_DEV_INPUT_VOLTAGE_DESC[#Data],0),0))","v":""},{"$f":"IF('DC Power Distribution (Desc)'!O30=\"\",\"\",'DC Power Distribution (Desc)'!O30)","v":""},{"$f":"IF('DC Power Distribution (Desc)'!P30=\"\",\"\",'DC Power Distribution (Desc)'!P30)","v":""},{"$f":"IF('DC Power Distribution (Desc)'!Q30=\"\",\"\",'DC Power Distribution (Desc)'!Q30)","v":""},{"$f":"IF('DC Power Distribution (Desc)'!C30=\"\",\"\",\"NA\")","v":""}]
[{"$f":"IF('DC Power Distribution (Desc)'!A31=\"\",\"\",'DC Power Distribution (Desc)'!A31)","v":""},{"$f":"IF('DC Power Distribution (Desc)'!C31=\"\",\"\",2029)","v":""},{"$f":"IF('DC Power Distribution (Desc)'!C31=\"\",\"\",'DC Power Distribution (Desc)'!C31)","v":""},{"$f":"IF('DC Power Distribution (Desc)'!E31=\"\",\"\",'DC Power Distribution (Desc)'!E31)","v":""},{"$f":"IF('DC Power Distribution (Desc)'!F31=\"\",\"\",INDEX([1]ELECTRIC_DEV_MANUF!$A$2:$A$1500,MATCH(1,([1]ELECTRIC_DEV_MANUF!$B$2:$B$1500='DC Power Distribution (Desc)'!$F31)*([1]ELECTRIC_DEV_MANUF!$D$2:$D$1500=\"DCPWRDIS\"),0),0))","v":""},{"$f":"IF('DC Power Distribution (Desc)'!G31=\"\",\"\",INDEX([1]ELECTRIC_DEV_MODEL!$A$2:$A$1500,MATCH(1,([1]ELECTRIC_DEV_MODEL!$C$2:$C$1500='DC Power Distribution (Desc)'!$F31)*([1]ELECTRIC_DEV_MODEL!$D$2:$D$1500='DC Power Distribution (Desc)'!$G31)*([1]ELECTRIC_DEV_MODEL!$F$2:$F$1500=\"DCPWRDIS\"),0),0))","v":""},{"$f":"IF('DC Power Distribution (Desc)'!H31=\"\",\"\",'DC Power Distribution (Desc)'!H31)","v":""},{"$f":"IF('DC Power Distribution (Desc)'!I31=\"\",\"\",INDEX([1]YES_NO!$A$2:$A$100,MATCH('DC Power Distribution (Desc)'!$I31,[1]!MASTER_YES_NO_DESC[#Data],0),0))","v":""},{"$f":"IF('DC Power Distribution (Desc)'!J31=\"\",\"\",'DC Power Distribution (Desc)'!J31)","v":""},{"$f":"IF('DC Power Distribution (Desc)'!K31=\"\",\"\",'DC Power Distribution (Desc)'!K31)","v":""},{"$f":"IF('DC Power Distribution (Desc)'!L31=\"\",\"\",INDEX([1]YES_NO!$A$2:$A$100,MATCH('DC Power Distribution (Desc)'!$L31,[1]!MASTER_YES_NO_DESC[#Data],0),0))","v":""},{"$f":"IF('DC Power Distribution (Desc)'!M31=\"\",\"\",INDEX([1]DEV_INPUT_VOLTAGE!$A$2:$A$100,MATCH('DC Power Distribution (Desc)'!$M31,[1]!MASTER_DEV_INPUT_VOLTAGE_DESC[#Data],0),0))","v":""},{"$f":"IF('DC Power Distribution (Desc)'!N31=\"\",\"\",INDEX([1]DEV_OUTPUT_VOLTAGE!$A$2:$A$100,MATCH('DC Power Distribution (Desc)'!$N31,[1]!MASTER_DEV_INPUT_VOLTAGE_DESC[#Data],0),0))","v":""},{"$f":"IF('DC Power Distribution (Desc)'!O31=\"\",\"\",'DC Power Distribution (Desc)'!O31)","v":""},{"$f":"IF('DC Power Distribution (Desc)'!P31=\"\",\"\",'DC Power Distribution (Desc)'!P31)","v":""},{"$f":"IF('DC Power Distribution (Desc)'!Q31=\"\",\"\",'DC Power Distribution (Desc)'!Q31)","v":""},{"$f":"IF('DC Power Distribution (Desc)'!C31=\"\",\"\",\"NA\")","v":""}]
[{"$f":"IF('DC Power Distribution (Desc)'!A32=\"\",\"\",'DC Power Distribution (Desc)'!A32)","v":""},{"$f":"IF('DC Power Distribution (Desc)'!C32=\"\",\"\",2029)","v":""},{"$f":"IF('DC Power Distribution (Desc)'!C32=\"\",\"\",'DC Power Distribution (Desc)'!C32)","v":""},{"$f":"IF('DC Power Distribution (Desc)'!E32=\"\",\"\",'DC Power Distribution (Desc)'!E32)","v":""},{"$f":"IF('DC Power Distribution (Desc)'!F32=\"\",\"\",INDEX([1]ELECTRIC_DEV_MANUF!$A$2:$A$1500,MATCH(1,([1]ELECTRIC_DEV_MANUF!$B$2:$B$1500='DC Power Distribution (Desc)'!$F32)*([1]ELECTRIC_DEV_MANUF!$D$2:$D$1500=\"DCPWRDIS\"),0),0))","v":""},{"$f":"IF('DC Power Distribution (Desc)'!G32=\"\",\"\",INDEX([1]ELECTRIC_DEV_MODEL!$A$2:$A$1500,MATCH(1,([1]ELECTRIC_DEV_MODEL!$C$2:$C$1500='DC Power Distribution (Desc)'!$F32)*([1]ELECTRIC_DEV_MODEL!$D$2:$D$1500='DC Power Distribution (Desc)'!$G32)*([1]ELECTRIC_DEV_MODEL!$F$2:$F$1500=\"DCPWRDIS\"),0),0))","v":""},{"$f":"IF('DC Power Distribution (Desc)'!H32=\"\",\"\",'DC Power Distribution (Desc)'!H32)","v":""},{"$f":"IF('DC Power Distribution (Desc)'!I32=\"\",\"\",INDEX([1]YES_NO!$A$2:$A$100,MATCH('DC Power Distribution (Desc)'!$I32,[1]!MASTER_YES_NO_DESC[#Data],0),0))","v":""},{"$f":"IF('DC Power Distribution (Desc)'!J32=\"\",\"\",'DC Power Distribution (Desc)'!J32)","v":""},{"$f":"IF('DC Power Distribution (Desc)'!K32=\"\",\"\",'DC Power Distribution (Desc)'!K32)","v":""},{"$f":"IF('DC Power Distribution (Desc)'!L32=\"\",\"\",INDEX([1]YES_NO!$A$2:$A$100,MATCH('DC Power Distribution (Desc)'!$L32,[1]!MASTER_YES_NO_DESC[#Data],0),0))","v":""},{"$f":"IF('DC Power Distribution (Desc)'!M32=\"\",\"\",INDEX([1]DEV_INPUT_VOLTAGE!$A$2:$A$100,MATCH('DC Power Distribution (Desc)'!$M32,[1]!MASTER_DEV_INPUT_VOLTAGE_DESC[#Data],0),0))","v":""},{"$f":"IF('DC Power Distribution (Desc)'!N32=\"\",\"\",INDEX([1]DEV_OUTPUT_VOLTAGE!$A$2:$A$100,MATCH('DC Power Distribution (Desc)'!$N32,[1]!MASTER_DEV_INPUT_VOLTAGE_DESC[#Data],0),0))","v":""},{"$f":"IF('DC Power Distribution (Desc)'!O32=\"\",\"\",'DC Power Distribution (Desc)'!O32)","v":""},{"$f":"IF('DC Power Distribution (Desc)'!P32=\"\",\"\",'DC Power Distribution (Desc)'!P32)","v":""},{"$f":"IF('DC Power Distribution (Desc)'!Q32=\"\",\"\",'DC Power Distribution (Desc)'!Q32)","v":""},{"$f":"IF('DC Power Distribution (Desc)'!C32=\"\",\"\",\"NA\")","v":""}]
[{"$f":"IF('DC Power Distribution (Desc)'!A33=\"\",\"\",'DC Power Distribution (Desc)'!A33)","v":""},{"$f":"IF('DC Power Distribution (Desc)'!C33=\"\",\"\",2029)","v":""},{"$f":"IF('DC Power Distribution (Desc)'!C33=\"\",\"\",'DC Power Distribution (Desc)'!C33)","v":""},{"$f":"IF('DC Power Distribution (Desc)'!E33=\"\",\"\",'DC Power Distribution (Desc)'!E33)","v":""},{"$f":"IF('DC Power Distribution (Desc)'!F33=\"\",\"\",INDEX([1]ELECTRIC_DEV_MANUF!$A$2:$A$1500,MATCH(1,([1]ELECTRIC_DEV_MANUF!$B$2:$B$1500='DC Power Distribution (Desc)'!$F33)*([1]ELECTRIC_DEV_MANUF!$D$2:$D$1500=\"DCPWRDIS\"),0),0))","v":""},{"$f":"IF('DC Power Distribution (Desc)'!G33=\"\",\"\",INDEX([1]ELECTRIC_DEV_MODEL!$A$2:$A$1500,MATCH(1,([1]ELECTRIC_DEV_MODEL!$C$2:$C$1500='DC Power Distribution (Desc)'!$F33)*([1]ELECTRIC_DEV_MODEL!$D$2:$D$1500='DC Power Distribution (Desc)'!$G33)*([1]ELECTRIC_DEV_MODEL!$F$2:$F$1500=\"DCPWRDIS\"),0),0))","v":""},{"$f":"IF('DC Power Distribution (Desc)'!H33=\"\",\"\",'DC Power Distribution (Desc)'!H33)","v":""},{"$f":"IF('DC Power Distribution (Desc)'!I33=\"\",\"\",INDEX([1]YES_NO!$A$2:$A$100,MATCH('DC Power Distribution (Desc)'!$I33,[1]!MASTER_YES_NO_DESC[#Data],0),0))","v":""},{"$f":"IF('DC Power Distribution (Desc)'!J33=\"\",\"\",'DC Power Distribution (Desc)'!J33)","v":""},{"$f":"IF('DC Power Distribution (Desc)'!K33=\"\",\"\",'DC Power Distribution (Desc)'!K33)","v":""},{"$f":"IF('DC Power Distribution (Desc)'!L33=\"\",\"\",INDEX([1]YES_NO!$A$2:$A$100,MATCH('DC Power Distribution (Desc)'!$L33,[1]!MASTER_YES_NO_DESC[#Data],0),0))","v":""},{"$f":"IF('DC Power Distribution (Desc)'!M33=\"\",\"\",INDEX([1]DEV_INPUT_VOLTAGE!$A$2:$A$100,MATCH('DC Power Distribution (Desc)'!$M33,[1]!MASTER_DEV_INPUT_VOLTAGE_DESC[#Data],0),0))","v":""},{"$f":"IF('DC Power Distribution (Desc)'!N33=\"\",\"\",INDEX([1]DEV_OUTPUT_VOLTAGE!$A$2:$A$100,MATCH('DC Power Distribution (Desc)'!$N33,[1]!MASTER_DEV_INPUT_VOLTAGE_DESC[#Data],0),0))","v":""},{"$f":"IF('DC Power Distribution (Desc)'!O33=\"\",\"\",'DC Power Distribution (Desc)'!O33)","v":""},{"$f":"IF('DC Power Distribution (Desc)'!P33=\"\",\"\",'DC Power Distribution (Desc)'!P33)","v":""},{"$f":"IF('DC Power Distribution (Desc)'!Q33=\"\",\"\",'DC Power Distribution (Desc)'!Q33)","v":""},{"$f":"IF('DC Power Distribution (Desc)'!C33=\"\",\"\",\"NA\")","v":""}]
[{"$f":"IF('DC Power Distribution (Desc)'!A34=\"\",\"\",'DC Power Distribution (Desc)'!A34)","v":""},{"$f":"IF('DC Power Distribution (Desc)'!C34=\"\",\"\",2029)","v":""},{"$f":"IF('DC Power Distribution (Desc)'!C34=\"\",\"\",'DC Power Distribution (Desc)'!C34)","v":""},{"$f":"IF('DC Power Distribution (Desc)'!E34=\"\",\"\",'DC Power Distribution (Desc)'!E34)","v":""},{"$f":"IF('DC Power Distribution (Desc)'!F34=\"\",\"\",INDEX([1]ELECTRIC_DEV_MANUF!$A$2:$A$1500,MATCH(1,([1]ELECTRIC_DEV_MANUF!$B$2:$B$1500='DC Power Distribution (Desc)'!$F34)*([1]ELECTRIC_DEV_MANUF!$D$2:$D$1500=\"DCPWRDIS\"),0),0))","v":""},{"$f":"IF('DC Power Distribution (Desc)'!G34=\"\",\"\",INDEX([1]ELECTRIC_DEV_MODEL!$A$2:$A$1500,MATCH(1,([1]ELECTRIC_DEV_MODEL!$C$2:$C$1500='DC Power Distribution (Desc)'!$F34)*([1]ELECTRIC_DEV_MODEL!$D$2:$D$1500='DC Power Distribution (Desc)'!$G34)*([1]ELECTRIC_DEV_MODEL!$F$2:$F$1500=\"DCPWRDIS\"),0),0))","v":""},{"$f":"IF('DC Power Distribution (Desc)'!H34=\"\",\"\",'DC Power Distribution (Desc)'!H34)","v":""},{"$f":"IF('DC Power Distribution (Desc)'!I34=\"\",\"\",INDEX([1]YES_NO!$A$2:$A$100,MATCH('DC Power Distribution (Desc)'!$I34,[1]!MASTER_YES_NO_DESC[#Data],0),0))","v":""},{"$f":"IF('DC Power Distribution (Desc)'!J34=\"\",\"\",'DC Power Distribution (Desc)'!J34)","v":""},{"$f":"IF('DC Power Distribution (Desc)'!K34=\"\",\"\",'DC Power Distribution (Desc)'!K34)","v":""},{"$f":"IF('DC Power Distribution (Desc)'!L34=\"\",\"\",INDEX([1]YES_NO!$A$2:$A$100,MATCH('DC Power Distribution (Desc)'!$L34,[1]!MASTER_YES_NO_DESC[#Data],0),0))","v":""},{"$f":"IF('DC Power Distribution (Desc)'!M34=\"\",\"\",INDEX([1]DEV_INPUT_VOLTAGE!$A$2:$A$100,MATCH('DC Power Distribution (Desc)'!$M34,[1]!MASTER_DEV_INPUT_VOLTAGE_DESC[#Data],0),0))","v":""},{"$f":"IF('DC Power Distribution (Desc)'!N34=\"\",\"\",INDEX([1]DEV_OUTPUT_VOLTAGE!$A$2:$A$100,MATCH('DC Power Distribution (Desc)'!$N34,[1]!MASTER_DEV_INPUT_VOLTAGE_DESC[#Data],0),0))","v":""},{"$f":"IF('DC Power Distribution (Desc)'!O34=\"\",\"\",'DC Power Distribution (Desc)'!O34)","v":""},{"$f":"IF('DC Power Distribution (Desc)'!P34=\"\",\"\",'DC Power Distribution (Desc)'!P34)","v":""},{"$f":"IF('DC Power Distribution (Desc)'!Q34=\"\",\"\",'DC Power Distribution (Desc)'!Q34)","v":""},{"$f":"IF('DC Power Distribution (Desc)'!C34=\"\",\"\",\"NA\")","v":""}]
[{"$f":"IF('DC Power Distribution (Desc)'!A35=\"\",\"\",'DC Power Distribution (Desc)'!A35)","v":""},{"$f":"IF('DC Power Distribution (Desc)'!C35=\"\",\"\",2029)","v":""},{"$f":"IF('DC Power Distribution (Desc)'!C35=\"\",\"\",'DC Power Distribution (Desc)'!C35)","v":""},{"$f":"IF('DC Power Distribution (Desc)'!E35=\"\",\"\",'DC Power Distribution (Desc)'!E35)","v":""},{"$f":"IF('DC Power Distribution (Desc)'!F35=\"\",\"\",INDEX([1]ELECTRIC_DEV_MANUF!$A$2:$A$1500,MATCH(1,([1]ELECTRIC_DEV_MANUF!$B$2:$B$1500='DC Power Distribution (Desc)'!$F35)*([1]ELECTRIC_DEV_MANUF!$D$2:$D$1500=\"DCPWRDIS\"),0),0))","v":""},{"$f":"IF('DC Power Distribution (Desc)'!G35=\"\",\"\",INDEX([1]ELECTRIC_DEV_MODEL!$A$2:$A$1500,MATCH(1,([1]ELECTRIC_DEV_MODEL!$C$2:$C$1500='DC Power Distribution (Desc)'!$F35)*([1]ELECTRIC_DEV_MODEL!$D$2:$D$1500='DC Power Distribution (Desc)'!$G35)*([1]ELECTRIC_DEV_MODEL!$F$2:$F$1500=\"DCPWRDIS\"),0),0))","v":""},{"$f":"IF('DC Power Distribution (Desc)'!H35=\"\",\"\",'DC Power Distribution (Desc)'!H35)","v":""},{"$f":"IF('DC Power Distribution (Desc)'!I35=\"\",\"\",INDEX([1]YES_NO!$A$2:$A$100,MATCH('DC Power Distribution (Desc)'!$I35,[1]!MASTER_YES_NO_DESC[#Data],0),0))","v":""},{"$f":"IF('DC Power Distribution (Desc)'!J35=\"\",\"\",'DC Power Distribution (Desc)'!J35)","v":""},{"$f":"IF('DC Power Distribution (Desc)'!K35=\"\",\"\",'DC Power Distribution (Desc)'!K35)","v":""},{"$f":"IF('DC Power Distribution (Desc)'!L35=\"\",\"\",INDEX([1]YES_NO!$A$2:$A$100,MATCH('DC Power Distribution (Desc)'!$L35,[1]!MASTER_YES_NO_DESC[#Data],0),0))","v":""},{"$f":"IF('DC Power Distribution (Desc)'!M35=\"\",\"\",INDEX([1]DEV_INPUT_VOLTAGE!$A$2:$A$100,MATCH('DC Power Distribution (Desc)'!$M35,[1]!MASTER_DEV_INPUT_VOLTAGE_DESC[#Data],0),0))","v":""},{"$f":"IF('DC Power Distribution (Desc)'!N35=\"\",\"\",INDEX([1]DEV_OUTPUT_VOLTAGE!$A$2:$A$100,MATCH('DC Power Distribution (Desc)'!$N35,[1]!MASTER_DEV_INPUT_VOLTAGE_DESC[#Data],0),0))","v":""},{"$f":"IF('DC Power Distribution (Desc)'!O35=\"\",\"\",'DC Power Distribution (Desc)'!O35)","v":""},{"$f":"IF('DC Power Distribution (Desc)'!P35=\"\",\"\",'DC Power Distribution (Desc)'!P35)","v":""},{"$f":"IF('DC Power Distribution (Desc)'!Q35=\"\",\"\",'DC Power Distribution (Desc)'!Q35)","v":""},{"$f":"IF('DC Power Distribution (Desc)'!C35=\"\",\"\",\"NA\")","v":""}]
[{"$f":"IF('DC Power Distribution (Desc)'!A36=\"\",\"\",'DC Power Distribution (Desc)'!A36)","v":""},{"$f":"IF('DC Power Distribution (Desc)'!C36=\"\",\"\",2029)","v":""},{"$f":"IF('DC Power Distribution (Desc)'!C36=\"\",\"\",'DC Power Distribution (Desc)'!C36)","v":""},{"$f":"IF('DC Power Distribution (Desc)'!E36=\"\",\"\",'DC Power Distribution (Desc)'!E36)","v":""},{"$f":"IF('DC Power Distribution (Desc)'!F36=\"\",\"\",INDEX([1]ELECTRIC_DEV_MANUF!$A$2:$A$1500,MATCH(1,([1]ELECTRIC_DEV_MANUF!$B$2:$B$1500='DC Power Distribution (Desc)'!$F36)*([1]ELECTRIC_DEV_MANUF!$D$2:$D$1500=\"DCPWRDIS\"),0),0))","v":""},{"$f":"IF('DC Power Distribution (Desc)'!G36=\"\",\"\",INDEX([1]ELECTRIC_DEV_MODEL!$A$2:$A$1500,MATCH(1,([1]ELECTRIC_DEV_MODEL!$C$2:$C$1500='DC Power Distribution (Desc)'!$F36)*([1]ELECTRIC_DEV_MODEL!$D$2:$D$1500='DC Power Distribution (Desc)'!$G36)*([1]ELECTRIC_DEV_MODEL!$F$2:$F$1500=\"DCPWRDIS\"),0),0))","v":""},{"$f":"IF('DC Power Distribution (Desc)'!H36=\"\",\"\",'DC Power Distribution (Desc)'!H36)","v":""},{"$f":"IF('DC Power Distribution (Desc)'!I36=\"\",\"\",INDEX([1]YES_NO!$A$2:$A$100,MATCH('DC Power Distribution (Desc)'!$I36,[1]!MASTER_YES_NO_DESC[#Data],0),0))","v":""},{"$f":"IF('DC Power Distribution (Desc)'!J36=\"\",\"\",'DC Power Distribution (Desc)'!J36)","v":""},{"$f":"IF('DC Power Distribution (Desc)'!K36=\"\",\"\",'DC Power Distribution (Desc)'!K36)","v":""},{"$f":"IF('DC Power Distribution (Desc)'!L36=\"\",\"\",INDEX([1]YES_NO!$A$2:$A$100,MATCH('DC Power Distribution (Desc)'!$L36,[1]!MASTER_YES_NO_DESC[#Data],0),0))","v":""},{"$f":"IF('DC Power Distribution (Desc)'!M36=\"\",\"\",INDEX([1]DEV_INPUT_VOLTAGE!$A$2:$A$100,MATCH('DC Power Distribution (Desc)'!$M36,[1]!MASTER_DEV_INPUT_VOLTAGE_DESC[#Data],0),0))","v":""},{"$f":"IF('DC Power Distribution (Desc)'!N36=\"\",\"\",INDEX([1]DEV_OUTPUT_VOLTAGE!$A$2:$A$100,MATCH('DC Power Distribution (Desc)'!$N36,[1]!MASTER_DEV_INPUT_VOLTAGE_DESC[#Data],0),0))","v":""},{"$f":"IF('DC Power Distribution (Desc)'!O36=\"\",\"\",'DC Power Distribution (Desc)'!O36)","v":""},{"$f":"IF('DC Power Distribution (Desc)'!P36=\"\",\"\",'DC Power Distribution (Desc)'!P36)","v":""},{"$f":"IF('DC Power Distribution (Desc)'!Q36=\"\",\"\",'DC Power Distribution (Desc)'!Q36)","v":""},{"$f":"IF('DC Power Distribution (Desc)'!C36=\"\",\"\",\"NA\")","v":""}]
[{"$f":"IF('DC Power Distribution (Desc)'!A37=\"\",\"\",'DC Power Distribution (Desc)'!A37)","v":""},{"$f":"IF('DC Power Distribution (Desc)'!C37=\"\",\"\",2029)","v":""},{"$f":"IF('DC Power Distribution (Desc)'!C37=\"\",\"\",'DC Power Distribution (Desc)'!C37)","v":""},{"$f":"IF('DC Power Distribution (Desc)'!E37=\"\",\"\",'DC Power Distribution (Desc)'!E37)","v":""},{"$f":"IF('DC Power Distribution (Desc)'!F37=\"\",\"\",INDEX([1]ELECTRIC_DEV_MANUF!$A$2:$A$1500,MATCH(1,([1]ELECTRIC_DEV_MANUF!$B$2:$B$1500='DC Power Distribution (Desc)'!$F37)*([1]ELECTRIC_DEV_MANUF!$D$2:$D$1500=\"DCPWRDIS\"),0),0))","v":""},{"$f":"IF('DC Power Distribution (Desc)'!G37=\"\",\"\",INDEX([1]ELECTRIC_DEV_MODEL!$A$2:$A$1500,MATCH(1,([1]ELECTRIC_DEV_MODEL!$C$2:$C$1500='DC Power Distribution (Desc)'!$F37)*([1]ELECTRIC_DEV_MODEL!$D$2:$D$1500='DC Power Distribution (Desc)'!$G37)*([1]ELECTRIC_DEV_MODEL!$F$2:$F$1500=\"DCPWRDIS\"),0),0))","v":""},{"$f":"IF('DC Power Distribution (Desc)'!H37=\"\",\"\",'DC Power Distribution (Desc)'!H37)","v":""},{"$f":"IF('DC Power Distribution (Desc)'!I37=\"\",\"\",INDEX([1]YES_NO!$A$2:$A$100,MATCH('DC Power Distribution (Desc)'!$I37,[1]!MASTER_YES_NO_DESC[#Data],0),0))","v":""},{"$f":"IF('DC Power Distribution (Desc)'!J37=\"\",\"\",'DC Power Distribution (Desc)'!J37)","v":""},{"$f":"IF('DC Power Distribution (Desc)'!K37=\"\",\"\",'DC Power Distribution (Desc)'!K37)","v":""},{"$f":"IF('DC Power Distribution (Desc)'!L37=\"\",\"\",INDEX([1]YES_NO!$A$2:$A$100,MATCH('DC Power Distribution (Desc)'!$L37,[1]!MASTER_YES_NO_DESC[#Data],0),0))","v":""},{"$f":"IF('DC Power Distribution (Desc)'!M37=\"\",\"\",INDEX([1]DEV_INPUT_VOLTAGE!$A$2:$A$100,MATCH('DC Power Distribution (Desc)'!$M37,[1]!MASTER_DEV_INPUT_VOLTAGE_DESC[#Data],0),0))","v":""},{"$f":"IF('DC Power Distribution (Desc)'!N37=\"\",\"\",INDEX([1]DEV_OUTPUT_VOLTAGE!$A$2:$A$100,MATCH('DC Power Distribution (Desc)'!$N37,[1]!MASTER_DEV_INPUT_VOLTAGE_DESC[#Data],0),0))","v":""},{"$f":"IF('DC Power Distribution (Desc)'!O37=\"\",\"\",'DC Power Distribution (Desc)'!O37)","v":""},{"$f":"IF('DC Power Distribution (Desc)'!P37=\"\",\"\",'DC Power Distribution (Desc)'!P37)","v":""},{"$f":"IF('DC Power Distribution (Desc)'!Q37=\"\",\"\",'DC Power Distribution (Desc)'!Q37)","v":""},{"$f":"IF('DC Power Distribution (Desc)'!C37=\"\",\"\",\"NA\")","v":""}]
[{"$f":"IF('DC Power Distribution (Desc)'!A38=\"\",\"\",'DC Power Distribution (Desc)'!A38)","v":""},{"$f":"IF('DC Power Distribution (Desc)'!C38=\"\",\"\",2029)","v":""},{"$f":"IF('DC Power Distribution (Desc)'!C38=\"\",\"\",'DC Power Distribution (Desc)'!C38)","v":""},{"$f":"IF('DC Power Distribution (Desc)'!E38=\"\",\"\",'DC Power Distribution (Desc)'!E38)","v":""},{"$f":"IF('DC Power Distribution (Desc)'!F38=\"\",\"\",INDEX([1]ELECTRIC_DEV_MANUF!$A$2:$A$1500,MATCH(1,([1]ELECTRIC_DEV_MANUF!$B$2:$B$1500='DC Power Distribution (Desc)'!$F38)*([1]ELECTRIC_DEV_MANUF!$D$2:$D$1500=\"DCPWRDIS\"),0),0))","v":""},{"$f":"IF('DC Power Distribution (Desc)'!G38=\"\",\"\",INDEX([1]ELECTRIC_DEV_MODEL!$A$2:$A$1500,MATCH(1,([1]ELECTRIC_DEV_MODEL!$C$2:$C$1500='DC Power Distribution (Desc)'!$F38)*([1]ELECTRIC_DEV_MODEL!$D$2:$D$1500='DC Power Distribution (Desc)'!$G38)*([1]ELECTRIC_DEV_MODEL!$F$2:$F$1500=\"DCPWRDIS\"),0),0))","v":""},{"$f":"IF('DC Power Distribution (Desc)'!H38=\"\",\"\",'DC Power Distribution (Desc)'!H38)","v":""},{"$f":"IF('DC Power Distribution (Desc)'!I38=\"\",\"\",INDEX([1]YES_NO!$A$2:$A$100,MATCH('DC Power Distribution (Desc)'!$I38,[1]!MASTER_YES_NO_DESC[#Data],0),0))","v":""},{"$f":"IF('DC Power Distribution (Desc)'!J38=\"\",\"\",'DC Power Distribution (Desc)'!J38)","v":""},{"$f":"IF('DC Power Distribution (Desc)'!K38=\"\",\"\",'DC Power Distribution (Desc)'!K38)","v":""},{"$f":"IF('DC Power Distribution (Desc)'!L38=\"\",\"\",INDEX([1]YES_NO!$A$2:$A$100,MATCH('DC Power Distribution (Desc)'!$L38,[1]!MASTER_YES_NO_DESC[#Data],0),0))","v":""},{"$f":"IF('DC Power Distribution (Desc)'!M38=\"\",\"\",INDEX([1]DEV_INPUT_VOLTAGE!$A$2:$A$100,MATCH('DC Power Distribution (Desc)'!$M38,[1]!MASTER_DEV_INPUT_VOLTAGE_DESC[#Data],0),0))","v":""},{"$f":"IF('DC Power Distribution (Desc)'!N38=\"\",\"\",INDEX([1]DEV_OUTPUT_VOLTAGE!$A$2:$A$100,MATCH('DC Power Distribution (Desc)'!$N38,[1]!MASTER_DEV_INPUT_VOLTAGE_DESC[#Data],0),0))","v":""},{"$f":"IF('DC Power Distribution (Desc)'!O38=\"\",\"\",'DC Power Distribution (Desc)'!O38)","v":""},{"$f":"IF('DC Power Distribution (Desc)'!P38=\"\",\"\",'DC Power Distribution (Desc)'!P38)","v":""},{"$f":"IF('DC Power Distribution (Desc)'!Q38=\"\",\"\",'DC Power Distribution (Desc)'!Q38)","v":""},{"$f":"IF('DC Power Distribution (Desc)'!C38=\"\",\"\",\"NA\")","v":""}]
[{"$f":"IF('DC Power Distribution (Desc)'!A39=\"\",\"\",'DC Power Distribution (Desc)'!A39)","v":""},{"$f":"IF('DC Power Distribution (Desc)'!C39=\"\",\"\",2029)","v":""},{"$f":"IF('DC Power Distribution (Desc)'!C39=\"\",\"\",'DC Power Distribution (Desc)'!C39)","v":""},{"$f":"IF('DC Power Distribution (Desc)'!E39=\"\",\"\",'DC Power Distribution (Desc)'!E39)","v":""},{"$f":"IF('DC Power Distribution (Desc)'!F39=\"\",\"\",INDEX([1]ELECTRIC_DEV_MANUF!$A$2:$A$1500,MATCH(1,([1]ELECTRIC_DEV_MANUF!$B$2:$B$1500='DC Power Distribution (Desc)'!$F39)*([1]ELECTRIC_DEV_MANUF!$D$2:$D$1500=\"DCPWRDIS\"),0),0))","v":""},{"$f":"IF('DC Power Distribution (Desc)'!G39=\"\",\"\",INDEX([1]ELECTRIC_DEV_MODEL!$A$2:$A$1500,MATCH(1,([1]ELECTRIC_DEV_MODEL!$C$2:$C$1500='DC Power Distribution (Desc)'!$F39)*([1]ELECTRIC_DEV_MODEL!$D$2:$D$1500='DC Power Distribution (Desc)'!$G39)*([1]ELECTRIC_DEV_MODEL!$F$2:$F$1500=\"DCPWRDIS\"),0),0))","v":""},{"$f":"IF('DC Power Distribution (Desc)'!H39=\"\",\"\",'DC Power Distribution (Desc)'!H39)","v":""},{"$f":"IF('DC Power Distribution (Desc)'!I39=\"\",\"\",INDEX([1]YES_NO!$A$2:$A$100,MATCH('DC Power Distribution (Desc)'!$I39,[1]!MASTER_YES_NO_DESC[#Data],0),0))","v":""},{"$f":"IF('DC Power Distribution (Desc)'!J39=\"\",\"\",'DC Power Distribution (Desc)'!J39)","v":""},{"$f":"IF('DC Power Distribution (Desc)'!K39=\"\",\"\",'DC Power Distribution (Desc)'!K39)","v":""},{"$f":"IF('DC Power Distribution (Desc)'!L39=\"\",\"\",INDEX([1]YES_NO!$A$2:$A$100,MATCH('DC Power Distribution (Desc)'!$L39,[1]!MASTER_YES_NO_DESC[#Data],0),0))","v":""},{"$f":"IF('DC Power Distribution (Desc)'!M39=\"\",\"\",INDEX([1]DEV_INPUT_VOLTAGE!$A$2:$A$100,MATCH('DC Power Distribution (Desc)'!$M39,[1]!MASTER_DEV_INPUT_VOLTAGE_DESC[#Data],0),0))","v":""},{"$f":"IF('DC Power Distribution (Desc)'!N39=\"\",\"\",INDEX([1]DEV_OUTPUT_VOLTAGE!$A$2:$A$100,MATCH('DC Power Distribution (Desc)'!$N39,[1]!MASTER_DEV_INPUT_VOLTAGE_DESC[#Data],0),0))","v":""},{"$f":"IF('DC Power Distribution (Desc)'!O39=\"\",\"\",'DC Power Distribution (Desc)'!O39)","v":""},{"$f":"IF('DC Power Distribution (Desc)'!P39=\"\",\"\",'DC Power Distribution (Desc)'!P39)","v":""},{"$f":"IF('DC Power Distribution (Desc)'!Q39=\"\",\"\",'DC Power Distribution (Desc)'!Q39)","v":""},{"$f":"IF('DC Power Distribution (Desc)'!C39=\"\",\"\",\"NA\")","v":""}]
[{"$f":"IF('DC Power Distribution (Desc)'!A40=\"\",\"\",'DC Power Distribution (Desc)'!A40)","v":""},{"$f":"IF('DC Power Distribution (Desc)'!C40=\"\",\"\",2029)","v":""},{"$f":"IF('DC Power Distribution (Desc)'!C40=\"\",\"\",'DC Power Distribution (Desc)'!C40)","v":""},{"$f":"IF('DC Power Distribution (Desc)'!E40=\"\",\"\",'DC Power Distribution (Desc)'!E40)","v":""},{"$f":"IF('DC Power Distribution (Desc)'!F40=\"\",\"\",INDEX([1]ELECTRIC_DEV_MANUF!$A$2:$A$1500,MATCH(1,([1]ELECTRIC_DEV_MANUF!$B$2:$B$1500='DC Power Distribution (Desc)'!$F40)*([1]ELECTRIC_DEV_MANUF!$D$2:$D$1500=\"DCPWRDIS\"),0),0))","v":""},{"$f":"IF('DC Power Distribution (Desc)'!G40=\"\",\"\",INDEX([1]ELECTRIC_DEV_MODEL!$A$2:$A$1500,MATCH(1,([1]ELECTRIC_DEV_MODEL!$C$2:$C$1500='DC Power Distribution (Desc)'!$F40)*([1]ELECTRIC_DEV_MODEL!$D$2:$D$1500='DC Power Distribution (Desc)'!$G40)*([1]ELECTRIC_DEV_MODEL!$F$2:$F$1500=\"DCPWRDIS\"),0),0))","v":""},{"$f":"IF('DC Power Distribution (Desc)'!H40=\"\",\"\",'DC Power Distribution (Desc)'!H40)","v":""},{"$f":"IF('DC Power Distribution (Desc)'!I40=\"\",\"\",INDEX([1]YES_NO!$A$2:$A$100,MATCH('DC Power Distribution (Desc)'!$I40,[1]!MASTER_YES_NO_DESC[#Data],0),0))","v":""},{"$f":"IF('DC Power Distribution (Desc)'!J40=\"\",\"\",'DC Power Distribution (Desc)'!J40)","v":""},{"$f":"IF('DC Power Distribution (Desc)'!K40=\"\",\"\",'DC Power Distribution (Desc)'!K40)","v":""},{"$f":"IF('DC Power Distribution (Desc)'!L40=\"\",\"\",INDEX([1]YES_NO!$A$2:$A$100,MATCH('DC Power Distribution (Desc)'!$L40,[1]!MASTER_YES_NO_DESC[#Data],0),0))","v":""},{"$f":"IF('DC Power Distribution (Desc)'!M40=\"\",\"\",INDEX([1]DEV_INPUT_VOLTAGE!$A$2:$A$100,MATCH('DC Power Distribution (Desc)'!$M40,[1]!MASTER_DEV_INPUT_VOLTAGE_DESC[#Data],0),0))","v":""},{"$f":"IF('DC Power Distribution (Desc)'!N40=\"\",\"\",INDEX([1]DEV_OUTPUT_VOLTAGE!$A$2:$A$100,MATCH('DC Power Distribution (Desc)'!$N40,[1]!MASTER_DEV_INPUT_VOLTAGE_DESC[#Data],0),0))","v":""},{"$f":"IF('DC Power Distribution (Desc)'!O40=\"\",\"\",'DC Power Distribution (Desc)'!O40)","v":""},{"$f":"IF('DC Power Distribution (Desc)'!P40=\"\",\"\",'DC Power Distribution (Desc)'!P40)","v":""},{"$f":"IF('DC Power Distribution (Desc)'!Q40=\"\",\"\",'DC Power Distribution (Desc)'!Q40)","v":""},{"$f":"IF('DC Power Distribution (Desc)'!C40=\"\",\"\",\"NA\")","v":""}]
[{"$f":"IF('DC Power Distribution (Desc)'!A41=\"\",\"\",'DC Power Distribution (Desc)'!A41)","v":""},{"$f":"IF('DC Power Distribution (Desc)'!C41=\"\",\"\",2029)","v":""},{"$f":"IF('DC Power Distribution (Desc)'!C41=\"\",\"\",'DC Power Distribution (Desc)'!C41)","v":""},{"$f":"IF('DC Power Distribution (Desc)'!E41=\"\",\"\",'DC Power Distribution (Desc)'!E41)","v":""},{"$f":"IF('DC Power Distribution (Desc)'!F41=\"\",\"\",INDEX([1]ELECTRIC_DEV_MANUF!$A$2:$A$1500,MATCH(1,([1]ELECTRIC_DEV_MANUF!$B$2:$B$1500='DC Power Distribution (Desc)'!$F41)*([1]ELECTRIC_DEV_MANUF!$D$2:$D$1500=\"DCPWRDIS\"),0),0))","v":""},{"$f":"IF('DC Power Distribution (Desc)'!G41=\"\",\"\",INDEX([1]ELECTRIC_DEV_MODEL!$A$2:$A$1500,MATCH(1,([1]ELECTRIC_DEV_MODEL!$C$2:$C$1500='DC Power Distribution (Desc)'!$F41)*([1]ELECTRIC_DEV_MODEL!$D$2:$D$1500='DC Power Distribution (Desc)'!$G41)*([1]ELECTRIC_DEV_MODEL!$F$2:$F$1500=\"DCPWRDIS\"),0),0))","v":""},{"$f":"IF('DC Power Distribution (Desc)'!H41=\"\",\"\",'DC Power Distribution (Desc)'!H41)","v":""},{"$f":"IF('DC Power Distribution (Desc)'!I41=\"\",\"\",INDEX([1]YES_NO!$A$2:$A$100,MATCH('DC Power Distribution (Desc)'!$I41,[1]!MASTER_YES_NO_DESC[#Data],0),0))","v":""},{"$f":"IF('DC Power Distribution (Desc)'!J41=\"\",\"\",'DC Power Distribution (Desc)'!J41)","v":""},{"$f":"IF('DC Power Distribution (Desc)'!K41=\"\",\"\",'DC Power Distribution (Desc)'!K41)","v":""},{"$f":"IF('DC Power Distribution (Desc)'!L41=\"\",\"\",INDEX([1]YES_NO!$A$2:$A$100,MATCH('DC Power Distribution (Desc)'!$L41,[1]!MASTER_YES_NO_DESC[#Data],0),0))","v":""},{"$f":"IF('DC Power Distribution (Desc)'!M41=\"\",\"\",INDEX([1]DEV_INPUT_VOLTAGE!$A$2:$A$100,MATCH('DC Power Distribution (Desc)'!$M41,[1]!MASTER_DEV_INPUT_VOLTAGE_DESC[#Data],0),0))","v":""},{"$f":"IF('DC Power Distribution (Desc)'!N41=\"\",\"\",INDEX([1]DEV_OUTPUT_VOLTAGE!$A$2:$A$100,MATCH('DC Power Distribution (Desc)'!$N41,[1]!MASTER_DEV_INPUT_VOLTAGE_DESC[#Data],0),0))","v":""},{"$f":"IF('DC Power Distribution (Desc)'!O41=\"\",\"\",'DC Power Distribution (Desc)'!O41)","v":""},{"$f":"IF('DC Power Distribution (Desc)'!P41=\"\",\"\",'DC Power Distribution (Desc)'!P41)","v":""},{"$f":"IF('DC Power Distribution (Desc)'!Q41=\"\",\"\",'DC Power Distribution (Desc)'!Q41)","v":""},{"$f":"IF('DC Power Distribution (Desc)'!C41=\"\",\"\",\"NA\")","v":""}]
[{"$f":"IF('DC Power Distribution (Desc)'!A42=\"\",\"\",'DC Power Distribution (Desc)'!A42)","v":""},{"$f":"IF('DC Power Distribution (Desc)'!C42=\"\",\"\",2029)","v":""},{"$f":"IF('DC Power Distribution (Desc)'!C42=\"\",\"\",'DC Power Distribution (Desc)'!C42)","v":""},{"$f":"IF('DC Power Distribution (Desc)'!E42=\"\",\"\",'DC Power Distribution (Desc)'!E42)","v":""},{"$f":"IF('DC Power Distribution (Desc)'!F42=\"\",\"\",INDEX([1]ELECTRIC_DEV_MANUF!$A$2:$A$1500,MATCH(1,([1]ELECTRIC_DEV_MANUF!$B$2:$B$1500='DC Power Distribution (Desc)'!$F42)*([1]ELECTRIC_DEV_MANUF!$D$2:$D$1500=\"DCPWRDIS\"),0),0))","v":""},{"$f":"IF('DC Power Distribution (Desc)'!G42=\"\",\"\",INDEX([1]ELECTRIC_DEV_MODEL!$A$2:$A$1500,MATCH(1,([1]ELECTRIC_DEV_MODEL!$C$2:$C$1500='DC Power Distribution (Desc)'!$F42)*([1]ELECTRIC_DEV_MODEL!$D$2:$D$1500='DC Power Distribution (Desc)'!$G42)*([1]ELECTRIC_DEV_MODEL!$F$2:$F$1500=\"DCPWRDIS\"),0),0))","v":""},{"$f":"IF('DC Power Distribution (Desc)'!H42=\"\",\"\",'DC Power Distribution (Desc)'!H42)","v":""},{"$f":"IF('DC Power Distribution (Desc)'!I42=\"\",\"\",INDEX([1]YES_NO!$A$2:$A$100,MATCH('DC Power Distribution (Desc)'!$I42,[1]!MASTER_YES_NO_DESC[#Data],0),0))","v":""},{"$f":"IF('DC Power Distribution (Desc)'!J42=\"\",\"\",'DC Power Distribution (Desc)'!J42)","v":""},{"$f":"IF('DC Power Distribution (Desc)'!K42=\"\",\"\",'DC Power Distribution (Desc)'!K42)","v":""},{"$f":"IF('DC Power Distribution (Desc)'!L42=\"\",\"\",INDEX([1]YES_NO!$A$2:$A$100,MATCH('DC Power Distribution (Desc)'!$L42,[1]!MASTER_YES_NO_DESC[#Data],0),0))","v":""},{"$f":"IF('DC Power Distribution (Desc)'!M42=\"\",\"\",INDEX([1]DEV_INPUT_VOLTAGE!$A$2:$A$100,MATCH('DC Power Distribution (Desc)'!$M42,[1]!MASTER_DEV_INPUT_VOLTAGE_DESC[#Data],0),0))","v":""},{"$f":"IF('DC Power Distribution (Desc)'!N42=\"\",\"\",INDEX([1]DEV_OUTPUT_VOLTAGE!$A$2:$A$100,MATCH('DC Power Distribution (Desc)'!$N42,[1]!MASTER_DEV_INPUT_VOLTAGE_DESC[#Data],0),0))","v":""},{"$f":"IF('DC Power Distribution (Desc)'!O42=\"\",\"\",'DC Power Distribution (Desc)'!O42)","v":""},{"$f":"IF('DC Power Distribution (Desc)'!P42=\"\",\"\",'DC Power Distribution (Desc)'!P42)","v":""},{"$f":"IF('DC Power Distribution (Desc)'!Q42=\"\",\"\",'DC Power Distribution (Desc)'!Q42)","v":""},{"$f":"IF('DC Power Distribution (Desc)'!C42=\"\",\"\",\"NA\")","v":""}]
[{"$f":"IF('DC Power Distribution (Desc)'!A43=\"\",\"\",'DC Power Distribution (Desc)'!A43)","v":""},{"$f":"IF('DC Power Distribution (Desc)'!C43=\"\",\"\",2029)","v":""},{"$f":"IF('DC Power Distribution (Desc)'!C43=\"\",\"\",'DC Power Distribution (Desc)'!C43)","v":""},{"$f":"IF('DC Power Distribution (Desc)'!E43=\"\",\"\",'DC Power Distribution (Desc)'!E43)","v":""},{"$f":"IF('DC Power Distribution (Desc)'!F43=\"\",\"\",INDEX([1]ELECTRIC_DEV_MANUF!$A$2:$A$1500,MATCH(1,([1]ELECTRIC_DEV_MANUF!$B$2:$B$1500='DC Power Distribution (Desc)'!$F43)*([1]ELECTRIC_DEV_MANUF!$D$2:$D$1500=\"DCPWRDIS\"),0),0))","v":""},{"$f":"IF('DC Power Distribution (Desc)'!G43=\"\",\"\",INDEX([1]ELECTRIC_DEV_MODEL!$A$2:$A$1500,MATCH(1,([1]ELECTRIC_DEV_MODEL!$C$2:$C$1500='DC Power Distribution (Desc)'!$F43)*([1]ELECTRIC_DEV_MODEL!$D$2:$D$1500='DC Power Distribution (Desc)'!$G43)*([1]ELECTRIC_DEV_MODEL!$F$2:$F$1500=\"DCPWRDIS\"),0),0))","v":""},{"$f":"IF('DC Power Distribution (Desc)'!H43=\"\",\"\",'DC Power Distribution (Desc)'!H43)","v":""},{"$f":"IF('DC Power Distribution (Desc)'!I43=\"\",\"\",INDEX([1]YES_NO!$A$2:$A$100,MATCH('DC Power Distribution (Desc)'!$I43,[1]!MASTER_YES_NO_DESC[#Data],0),0))","v":""},{"$f":"IF('DC Power Distribution (Desc)'!J43=\"\",\"\",'DC Power Distribution (Desc)'!J43)","v":""},{"$f":"IF('DC Power Distribution (Desc)'!K43=\"\",\"\",'DC Power Distribution (Desc)'!K43)","v":""},{"$f":"IF('DC Power Distribution (Desc)'!L43=\"\",\"\",INDEX([1]YES_NO!$A$2:$A$100,MATCH('DC Power Distribution (Desc)'!$L43,[1]!MASTER_YES_NO_DESC[#Data],0),0))","v":""},{"$f":"IF('DC Power Distribution (Desc)'!M43=\"\",\"\",INDEX([1]DEV_INPUT_VOLTAGE!$A$2:$A$100,MATCH('DC Power Distribution (Desc)'!$M43,[1]!MASTER_DEV_INPUT_VOLTAGE_DESC[#Data],0),0))","v":""},{"$f":"IF('DC Power Distribution (Desc)'!N43=\"\",\"\",INDEX([1]DEV_OUTPUT_VOLTAGE!$A$2:$A$100,MATCH('DC Power Distribution (Desc)'!$N43,[1]!MASTER_DEV_INPUT_VOLTAGE_DESC[#Data],0),0))","v":""},{"$f":"IF('DC Power Distribution (Desc)'!O43=\"\",\"\",'DC Power Distribution (Desc)'!O43)","v":""},{"$f":"IF('DC Power Distribution (Desc)'!P43=\"\",\"\",'DC Power Distribution (Desc)'!P43)","v":""},{"$f":"IF('DC Power Distribution (Desc)'!Q43=\"\",\"\",'DC Power Distribution (Desc)'!Q43)","v":""},{"$f":"IF('DC Power Distribution (Desc)'!C43=\"\",\"\",\"NA\")","v":""}]
[{"$f":"IF('DC Power Distribution (Desc)'!A44=\"\",\"\",'DC Power Distribution (Desc)'!A44)","v":""},{"$f":"IF('DC Power Distribution (Desc)'!C44=\"\",\"\",2029)","v":""},{"$f":"IF('DC Power Distribution (Desc)'!C44=\"\",\"\",'DC Power Distribution (Desc)'!C44)","v":""},{"$f":"IF('DC Power Distribution (Desc)'!E44=\"\",\"\",'DC Power Distribution (Desc)'!E44)","v":""},{"$f":"IF('DC Power Distribution (Desc)'!F44=\"\",\"\",INDEX([1]ELECTRIC_DEV_MANUF!$A$2:$A$1500,MATCH(1,([1]ELECTRIC_DEV_MANUF!$B$2:$B$1500='DC Power Distribution (Desc)'!$F44)*([1]ELECTRIC_DEV_MANUF!$D$2:$D$1500=\"DCPWRDIS\"),0),0))","v":""},{"$f":"IF('DC Power Distribution (Desc)'!G44=\"\",\"\",INDEX([1]ELECTRIC_DEV_MODEL!$A$2:$A$1500,MATCH(1,([1]ELECTRIC_DEV_MODEL!$C$2:$C$1500='DC Power Distribution (Desc)'!$F44)*([1]ELECTRIC_DEV_MODEL!$D$2:$D$1500='DC Power Distribution (Desc)'!$G44)*([1]ELECTRIC_DEV_MODEL!$F$2:$F$1500=\"DCPWRDIS\"),0),0))","v":""},{"$f":"IF('DC Power Distribution (Desc)'!H44=\"\",\"\",'DC Power Distribution (Desc)'!H44)","v":""},{"$f":"IF('DC Power Distribution (Desc)'!I44=\"\",\"\",INDEX([1]YES_NO!$A$2:$A$100,MATCH('DC Power Distribution (Desc)'!$I44,[1]!MASTER_YES_NO_DESC[#Data],0),0))","v":""},{"$f":"IF('DC Power Distribution (Desc)'!J44=\"\",\"\",'DC Power Distribution (Desc)'!J44)","v":""},{"$f":"IF('DC Power Distribution (Desc)'!K44=\"\",\"\",'DC Power Distribution (Desc)'!K44)","v":""},{"$f":"IF('DC Power Distribution (Desc)'!L44=\"\",\"\",INDEX([1]YES_NO!$A$2:$A$100,MATCH('DC Power Distribution (Desc)'!$L44,[1]!MASTER_YES_NO_DESC[#Data],0),0))","v":""},{"$f":"IF('DC Power Distribution (Desc)'!M44=\"\",\"\",INDEX([1]DEV_INPUT_VOLTAGE!$A$2:$A$100,MATCH('DC Power Distribution (Desc)'!$M44,[1]!MASTER_DEV_INPUT_VOLTAGE_DESC[#Data],0),0))","v":""},{"$f":"IF('DC Power Distribution (Desc)'!N44=\"\",\"\",INDEX([1]DEV_OUTPUT_VOLTAGE!$A$2:$A$100,MATCH('DC Power Distribution (Desc)'!$N44,[1]!MASTER_DEV_INPUT_VOLTAGE_DESC[#Data],0),0))","v":""},{"$f":"IF('DC Power Distribution (Desc)'!O44=\"\",\"\",'DC Power Distribution (Desc)'!O44)","v":""},{"$f":"IF('DC Power Distribution (Desc)'!P44=\"\",\"\",'DC Power Distribution (Desc)'!P44)","v":""},{"$f":"IF('DC Power Distribution (Desc)'!Q44=\"\",\"\",'DC Power Distribution (Desc)'!Q44)","v":""},{"$f":"IF('DC Power Distribution (Desc)'!C44=\"\",\"\",\"NA\")","v":""}]
[{"$f":"IF('DC Power Distribution (Desc)'!A45=\"\",\"\",'DC Power Distribution (Desc)'!A45)","v":""},{"$f":"IF('DC Power Distribution (Desc)'!C45=\"\",\"\",2029)","v":""},{"$f":"IF('DC Power Distribution (Desc)'!C45=\"\",\"\",'DC Power Distribution (Desc)'!C45)","v":""},{"$f":"IF('DC Power Distribution (Desc)'!E45=\"\",\"\",'DC Power Distribution (Desc)'!E45)","v":""},{"$f":"IF('DC Power Distribution (Desc)'!F45=\"\",\"\",INDEX([1]ELECTRIC_DEV_MANUF!$A$2:$A$1500,MATCH(1,([1]ELECTRIC_DEV_MANUF!$B$2:$B$1500='DC Power Distribution (Desc)'!$F45)*([1]ELECTRIC_DEV_MANUF!$D$2:$D$1500=\"DCPWRDIS\"),0),0))","v":""},{"$f":"IF('DC Power Distribution (Desc)'!G45=\"\",\"\",INDEX([1]ELECTRIC_DEV_MODEL!$A$2:$A$1500,MATCH(1,([1]ELECTRIC_DEV_MODEL!$C$2:$C$1500='DC Power Distribution (Desc)'!$F45)*([1]ELECTRIC_DEV_MODEL!$D$2:$D$1500='DC Power Distribution (Desc)'!$G45)*([1]ELECTRIC_DEV_MODEL!$F$2:$F$1500=\"DCPWRDIS\"),0),0))","v":""},{"$f":"IF('DC Power Distribution (Desc)'!H45=\"\",\"\",'DC Power Distribution (Desc)'!H45)","v":""},{"$f":"IF('DC Power Distribution (Desc)'!I45=\"\",\"\",INDEX([1]YES_NO!$A$2:$A$100,MATCH('DC Power Distribution (Desc)'!$I45,[1]!MASTER_YES_NO_DESC[#Data],0),0))","v":""},{"$f":"IF('DC Power Distribution (Desc)'!J45=\"\",\"\",'DC Power Distribution (Desc)'!J45)","v":""},{"$f":"IF('DC Power Distribution (Desc)'!K45=\"\",\"\",'DC Power Distribution (Desc)'!K45)","v":""},{"$f":"IF('DC Power Distribution (Desc)'!L45=\"\",\"\",INDEX([1]YES_NO!$A$2:$A$100,MATCH('DC Power Distribution (Desc)'!$L45,[1]!MASTER_YES_NO_DESC[#Data],0),0))","v":""},{"$f":"IF('DC Power Distribution (Desc)'!M45=\"\",\"\",INDEX([1]DEV_INPUT_VOLTAGE!$A$2:$A$100,MATCH('DC Power Distribution (Desc)'!$M45,[1]!MASTER_DEV_INPUT_VOLTAGE_DESC[#Data],0),0))","v":""},{"$f":"IF('DC Power Distribution (Desc)'!N45=\"\",\"\",INDEX([1]DEV_OUTPUT_VOLTAGE!$A$2:$A$100,MATCH('DC Power Distribution (Desc)'!$N45,[1]!MASTER_DEV_INPUT_VOLTAGE_DESC[#Data],0),0))","v":""},{"$f":"IF('DC Power Distribution (Desc)'!O45=\"\",\"\",'DC Power Distribution (Desc)'!O45)","v":""},{"$f":"IF('DC Power Distribution (Desc)'!P45=\"\",\"\",'DC Power Distribution (Desc)'!P45)","v":""},{"$f":"IF('DC Power Distribution (Desc)'!Q45=\"\",\"\",'DC Power Distribution (Desc)'!Q45)","v":""},{"$f":"IF('DC Power Distribution (Desc)'!C45=\"\",\"\",\"NA\")","v":""}]
[{"$f":"IF('DC Power Distribution (Desc)'!A46=\"\",\"\",'DC Power Distribution (Desc)'!A46)","v":""},{"$f":"IF('DC Power Distribution (Desc)'!C46=\"\",\"\",2029)","v":""},{"$f":"IF('DC Power Distribution (Desc)'!C46=\"\",\"\",'DC Power Distribution (Desc)'!C46)","v":""},{"$f":"IF('DC Power Distribution (Desc)'!E46=\"\",\"\",'DC Power Distribution (Desc)'!E46)","v":""},{"$f":"IF('DC Power Distribution (Desc)'!F46=\"\",\"\",INDEX([1]ELECTRIC_DEV_MANUF!$A$2:$A$1500,MATCH(1,([1]ELECTRIC_DEV_MANUF!$B$2:$B$1500='DC Power Distribution (Desc)'!$F46)*([1]ELECTRIC_DEV_MANUF!$D$2:$D$1500=\"DCPWRDIS\"),0),0))","v":""},{"$f":"IF('DC Power Distribution (Desc)'!G46=\"\",\"\",INDEX([1]ELECTRIC_DEV_MODEL!$A$2:$A$1500,MATCH(1,([1]ELECTRIC_DEV_MODEL!$C$2:$C$1500='DC Power Distribution (Desc)'!$F46)*([1]ELECTRIC_DEV_MODEL!$D$2:$D$1500='DC Power Distribution (Desc)'!$G46)*([1]ELECTRIC_DEV_MODEL!$F$2:$F$1500=\"DCPWRDIS\"),0),0))","v":""},{"$f":"IF('DC Power Distribution (Desc)'!H46=\"\",\"\",'DC Power Distribution (Desc)'!H46)","v":""},{"$f":"IF('DC Power Distribution (Desc)'!I46=\"\",\"\",INDEX([1]YES_NO!$A$2:$A$100,MATCH('DC Power Distribution (Desc)'!$I46,[1]!MASTER_YES_NO_DESC[#Data],0),0))","v":""},{"$f":"IF('DC Power Distribution (Desc)'!J46=\"\",\"\",'DC Power Distribution (Desc)'!J46)","v":""},{"$f":"IF('DC Power Distribution (Desc)'!K46=\"\",\"\",'DC Power Distribution (Desc)'!K46)","v":""},{"$f":"IF('DC Power Distribution (Desc)'!L46=\"\",\"\",INDEX([1]YES_NO!$A$2:$A$100,MATCH('DC Power Distribution (Desc)'!$L46,[1]!MASTER_YES_NO_DESC[#Data],0),0))","v":""},{"$f":"IF('DC Power Distribution (Desc)'!M46=\"\",\"\",INDEX([1]DEV_INPUT_VOLTAGE!$A$2:$A$100,MATCH('DC Power Distribution (Desc)'!$M46,[1]!MASTER_DEV_INPUT_VOLTAGE_DESC[#Data],0),0))","v":""},{"$f":"IF('DC Power Distribution (Desc)'!N46=\"\",\"\",INDEX([1]DEV_OUTPUT_VOLTAGE!$A$2:$A$100,MATCH('DC Power Distribution (Desc)'!$N46,[1]!MASTER_DEV_INPUT_VOLTAGE_DESC[#Data],0),0))","v":""},{"$f":"IF('DC Power Distribution (Desc)'!O46=\"\",\"\",'DC Power Distribution (Desc)'!O46)","v":""},{"$f":"IF('DC Power Distribution (Desc)'!P46=\"\",\"\",'DC Power Distribution (Desc)'!P46)","v":""},{"$f":"IF('DC Power Distribution (Desc)'!Q46=\"\",\"\",'DC Power Distribution (Desc)'!Q46)","v":""},{"$f":"IF('DC Power Distribution (Desc)'!C46=\"\",\"\",\"NA\")","v":""}]
[{"$f":"IF('DC Power Distribution (Desc)'!A47=\"\",\"\",'DC Power Distribution (Desc)'!A47)","v":""},{"$f":"IF('DC Power Distribution (Desc)'!C47=\"\",\"\",2029)","v":""},{"$f":"IF('DC Power Distribution (Desc)'!C47=\"\",\"\",'DC Power Distribution (Desc)'!C47)","v":""},{"$f":"IF('DC Power Distribution (Desc)'!E47=\"\",\"\",'DC Power Distribution (Desc)'!E47)","v":""},{"$f":"IF('DC Power Distribution (Desc)'!F47=\"\",\"\",INDEX([1]ELECTRIC_DEV_MANUF!$A$2:$A$1500,MATCH(1,([1]ELECTRIC_DEV_MANUF!$B$2:$B$1500='DC Power Distribution (Desc)'!$F47)*([1]ELECTRIC_DEV_MANUF!$D$2:$D$1500=\"DCPWRDIS\"),0),0))","v":""},{"$f":"IF('DC Power Distribution (Desc)'!G47=\"\",\"\",INDEX([1]ELECTRIC_DEV_MODEL!$A$2:$A$1500,MATCH(1,([1]ELECTRIC_DEV_MODEL!$C$2:$C$1500='DC Power Distribution (Desc)'!$F47)*([1]ELECTRIC_DEV_MODEL!$D$2:$D$1500='DC Power Distribution (Desc)'!$G47)*([1]ELECTRIC_DEV_MODEL!$F$2:$F$1500=\"DCPWRDIS\"),0),0))","v":""},{"$f":"IF('DC Power Distribution (Desc)'!H47=\"\",\"\",'DC Power Distribution (Desc)'!H47)","v":""},{"$f":"IF('DC Power Distribution (Desc)'!I47=\"\",\"\",INDEX([1]YES_NO!$A$2:$A$100,MATCH('DC Power Distribution (Desc)'!$I47,[1]!MASTER_YES_NO_DESC[#Data],0),0))","v":""},{"$f":"IF('DC Power Distribution (Desc)'!J47=\"\",\"\",'DC Power Distribution (Desc)'!J47)","v":""},{"$f":"IF('DC Power Distribution (Desc)'!K47=\"\",\"\",'DC Power Distribution (Desc)'!K47)","v":""},{"$f":"IF('DC Power Distribution (Desc)'!L47=\"\",\"\",INDEX([1]YES_NO!$A$2:$A$100,MATCH('DC Power Distribution (Desc)'!$L47,[1]!MASTER_YES_NO_DESC[#Data],0),0))","v":""},{"$f":"IF('DC Power Distribution (Desc)'!M47=\"\",\"\",INDEX([1]DEV_INPUT_VOLTAGE!$A$2:$A$100,MATCH('DC Power Distribution (Desc)'!$M47,[1]!MASTER_DEV_INPUT_VOLTAGE_DESC[#Data],0),0))","v":""},{"$f":"IF('DC Power Distribution (Desc)'!N47=\"\",\"\",INDEX([1]DEV_OUTPUT_VOLTAGE!$A$2:$A$100,MATCH('DC Power Distribution (Desc)'!$N47,[1]!MASTER_DEV_INPUT_VOLTAGE_DESC[#Data],0),0))","v":""},{"$f":"IF('DC Power Distribution (Desc)'!O47=\"\",\"\",'DC Power Distribution (Desc)'!O47)","v":""},{"$f":"IF('DC Power Distribution (Desc)'!P47=\"\",\"\",'DC Power Distribution (Desc)'!P47)","v":""},{"$f":"IF('DC Power Distribution (Desc)'!Q47=\"\",\"\",'DC Power Distribution (Desc)'!Q47)","v":""},{"$f":"IF('DC Power Distribution (Desc)'!C47=\"\",\"\",\"NA\")","v":""}]
[{"$f":"IF('DC Power Distribution (Desc)'!A48=\"\",\"\",'DC Power Distribution (Desc)'!A48)","v":""},{"$f":"IF('DC Power Distribution (Desc)'!C48=\"\",\"\",2029)","v":""},{"$f":"IF('DC Power Distribution (Desc)'!C48=\"\",\"\",'DC Power Distribution (Desc)'!C48)","v":""},{"$f":"IF('DC Power Distribution (Desc)'!E48=\"\",\"\",'DC Power Distribution (Desc)'!E48)","v":""},{"$f":"IF('DC Power Distribution (Desc)'!F48=\"\",\"\",INDEX([1]ELECTRIC_DEV_MANUF!$A$2:$A$1500,MATCH(1,([1]ELECTRIC_DEV_MANUF!$B$2:$B$1500='DC Power Distribution (Desc)'!$F48)*([1]ELECTRIC_DEV_MANUF!$D$2:$D$1500=\"DCPWRDIS\"),0),0))","v":""},{"$f":"IF('DC Power Distribution (Desc)'!G48=\"\",\"\",INDEX([1]ELECTRIC_DEV_MODEL!$A$2:$A$1500,MATCH(1,([1]ELECTRIC_DEV_MODEL!$C$2:$C$1500='DC Power Distribution (Desc)'!$F48)*([1]ELECTRIC_DEV_MODEL!$D$2:$D$1500='DC Power Distribution (Desc)'!$G48)*([1]ELECTRIC_DEV_MODEL!$F$2:$F$1500=\"DCPWRDIS\"),0),0))","v":""},{"$f":"IF('DC Power Distribution (Desc)'!H48=\"\",\"\",'DC Power Distribution (Desc)'!H48)","v":""},{"$f":"IF('DC Power Distribution (Desc)'!I48=\"\",\"\",INDEX([1]YES_NO!$A$2:$A$100,MATCH('DC Power Distribution (Desc)'!$I48,[1]!MASTER_YES_NO_DESC[#Data],0),0))","v":""},{"$f":"IF('DC Power Distribution (Desc)'!J48=\"\",\"\",'DC Power Distribution (Desc)'!J48)","v":""},{"$f":"IF('DC Power Distribution (Desc)'!K48=\"\",\"\",'DC Power Distribution (Desc)'!K48)","v":""},{"$f":"IF('DC Power Distribution (Desc)'!L48=\"\",\"\",INDEX([1]YES_NO!$A$2:$A$100,MATCH('DC Power Distribution (Desc)'!$L48,[1]!MASTER_YES_NO_DESC[#Data],0),0))","v":""},{"$f":"IF('DC Power Distribution (Desc)'!M48=\"\",\"\",INDEX([1]DEV_INPUT_VOLTAGE!$A$2:$A$100,MATCH('DC Power Distribution (Desc)'!$M48,[1]!MASTER_DEV_INPUT_VOLTAGE_DESC[#Data],0),0))","v":""},{"$f":"IF('DC Power Distribution (Desc)'!N48=\"\",\"\",INDEX([1]DEV_OUTPUT_VOLTAGE!$A$2:$A$100,MATCH('DC Power Distribution (Desc)'!$N48,[1]!MASTER_DEV_INPUT_VOLTAGE_DESC[#Data],0),0))","v":""},{"$f":"IF('DC Power Distribution (Desc)'!O48=\"\",\"\",'DC Power Distribution (Desc)'!O48)","v":""},{"$f":"IF('DC Power Distribution (Desc)'!P48=\"\",\"\",'DC Power Distribution (Desc)'!P48)","v":""},{"$f":"IF('DC Power Distribution (Desc)'!Q48=\"\",\"\",'DC Power Distribution (Desc)'!Q48)","v":""},{"$f":"IF('DC Power Distribution (Desc)'!C48=\"\",\"\",\"NA\")","v":""}]
[{"$f":"IF('DC Power Distribution (Desc)'!A49=\"\",\"\",'DC Power Distribution (Desc)'!A49)","v":""},{"$f":"IF('DC Power Distribution (Desc)'!C49=\"\",\"\",2029)","v":""},{"$f":"IF('DC Power Distribution (Desc)'!C49=\"\",\"\",'DC Power Distribution (Desc)'!C49)","v":""},{"$f":"IF('DC Power Distribution (Desc)'!E49=\"\",\"\",'DC Power Distribution (Desc)'!E49)","v":""},{"$f":"IF('DC Power Distribution (Desc)'!F49=\"\",\"\",INDEX([1]ELECTRIC_DEV_MANUF!$A$2:$A$1500,MATCH(1,([1]ELECTRIC_DEV_MANUF!$B$2:$B$1500='DC Power Distribution (Desc)'!$F49)*([1]ELECTRIC_DEV_MANUF!$D$2:$D$1500=\"DCPWRDIS\"),0),0))","v":""},{"$f":"IF('DC Power Distribution (Desc)'!G49=\"\",\"\",INDEX([1]ELECTRIC_DEV_MODEL!$A$2:$A$1500,MATCH(1,([1]ELECTRIC_DEV_MODEL!$C$2:$C$1500='DC Power Distribution (Desc)'!$F49)*([1]ELECTRIC_DEV_MODEL!$D$2:$D$1500='DC Power Distribution (Desc)'!$G49)*([1]ELECTRIC_DEV_MODEL!$F$2:$F$1500=\"DCPWRDIS\"),0),0))","v":""},{"$f":"IF('DC Power Distribution (Desc)'!H49=\"\",\"\",'DC Power Distribution (Desc)'!H49)","v":""},{"$f":"IF('DC Power Distribution (Desc)'!I49=\"\",\"\",INDEX([1]YES_NO!$A$2:$A$100,MATCH('DC Power Distribution (Desc)'!$I49,[1]!MASTER_YES_NO_DESC[#Data],0),0))","v":""},{"$f":"IF('DC Power Distribution (Desc)'!J49=\"\",\"\",'DC Power Distribution (Desc)'!J49)","v":""},{"$f":"IF('DC Power Distribution (Desc)'!K49=\"\",\"\",'DC Power Distribution (Desc)'!K49)","v":""},{"$f":"IF('DC Power Distribution (Desc)'!L49=\"\",\"\",INDEX([1]YES_NO!$A$2:$A$100,MATCH('DC Power Distribution (Desc)'!$L49,[1]!MASTER_YES_NO_DESC[#Data],0),0))","v":""},{"$f":"IF('DC Power Distribution (Desc)'!M49=\"\",\"\",INDEX([1]DEV_INPUT_VOLTAGE!$A$2:$A$100,MATCH('DC Power Distribution (Desc)'!$M49,[1]!MASTER_DEV_INPUT_VOLTAGE_DESC[#Data],0),0))","v":""},{"$f":"IF('DC Power Distribution (Desc)'!N49=\"\",\"\",INDEX([1]DEV_OUTPUT_VOLTAGE!$A$2:$A$100,MATCH('DC Power Distribution (Desc)'!$N49,[1]!MASTER_DEV_INPUT_VOLTAGE_DESC[#Data],0),0))","v":""},{"$f":"IF('DC Power Distribution (Desc)'!O49=\"\",\"\",'DC Power Distribution (Desc)'!O49)","v":""},{"$f":"IF('DC Power Distribution (Desc)'!P49=\"\",\"\",'DC Power Distribution (Desc)'!P49)","v":""},{"$f":"IF('DC Power Distribution (Desc)'!Q49=\"\",\"\",'DC Power Distribution (Desc)'!Q49)","v":""},{"$f":"IF('DC Power Distribution (Desc)'!C49=\"\",\"\",\"NA\")","v":""}]
[{"$f":"IF('DC Power Distribution (Desc)'!A50=\"\",\"\",'DC Power Distribution (Desc)'!A50)","v":""},{"$f":"IF('DC Power Distribution (Desc)'!C50=\"\",\"\",2029)","v":""},{"$f":"IF('DC Power Distribution (Desc)'!C50=\"\",\"\",'DC Power Distribution (Desc)'!C50)","v":""},{"$f":"IF('DC Power Distribution (Desc)'!E50=\"\",\"\",'DC Power Distribution (Desc)'!E50)","v":""},{"$f":"IF('DC Power Distribution (Desc)'!F50=\"\",\"\",INDEX([1]ELECTRIC_DEV_MANUF!$A$2:$A$1500,MATCH(1,([1]ELECTRIC_DEV_MANUF!$B$2:$B$1500='DC Power Distribution (Desc)'!$F50)*([1]ELECTRIC_DEV_MANUF!$D$2:$D$1500=\"DCPWRDIS\"),0),0))","v":""},{"$f":"IF('DC Power Distribution (Desc)'!G50=\"\",\"\",INDEX([1]ELECTRIC_DEV_MODEL!$A$2:$A$1500,MATCH(1,([1]ELECTRIC_DEV_MODEL!$C$2:$C$1500='DC Power Distribution (Desc)'!$F50)*([1]ELECTRIC_DEV_MODEL!$D$2:$D$1500='DC Power Distribution (Desc)'!$G50)*([1]ELECTRIC_DEV_MODEL!$F$2:$F$1500=\"DCPWRDIS\"),0),0))","v":""},{"$f":"IF('DC Power Distribution (Desc)'!H50=\"\",\"\",'DC Power Distribution (Desc)'!H50)","v":""},{"$f":"IF('DC Power Distribution (Desc)'!I50=\"\",\"\",INDEX([1]YES_NO!$A$2:$A$100,MATCH('DC Power Distribution (Desc)'!$I50,[1]!MASTER_YES_NO_DESC[#Data],0),0))","v":""},{"$f":"IF('DC Power Distribution (Desc)'!J50=\"\",\"\",'DC Power Distribution (Desc)'!J50)","v":""},{"$f":"IF('DC Power Distribution (Desc)'!K50=\"\",\"\",'DC Power Distribution (Desc)'!K50)","v":""},{"$f":"IF('DC Power Distribution (Desc)'!L50=\"\",\"\",INDEX([1]YES_NO!$A$2:$A$100,MATCH('DC Power Distribution (Desc)'!$L50,[1]!MASTER_YES_NO_DESC[#Data],0),0))","v":""},{"$f":"IF('DC Power Distribution (Desc)'!M50=\"\",\"\",INDEX([1]DEV_INPUT_VOLTAGE!$A$2:$A$100,MATCH('DC Power Distribution (Desc)'!$M50,[1]!MASTER_DEV_INPUT_VOLTAGE_DESC[#Data],0),0))","v":""},{"$f":"IF('DC Power Distribution (Desc)'!N50=\"\",\"\",INDEX([1]DEV_OUTPUT_VOLTAGE!$A$2:$A$100,MATCH('DC Power Distribution (Desc)'!$N50,[1]!MASTER_DEV_INPUT_VOLTAGE_DESC[#Data],0),0))","v":""},{"$f":"IF('DC Power Distribution (Desc)'!O50=\"\",\"\",'DC Power Distribution (Desc)'!O50)","v":""},{"$f":"IF('DC Power Distribution (Desc)'!P50=\"\",\"\",'DC Power Distribution (Desc)'!P50)","v":""},{"$f":"IF('DC Power Distribution (Desc)'!Q50=\"\",\"\",'DC Power Distribution (Desc)'!Q50)","v":""},{"$f":"IF('DC Power Distribution (Desc)'!C50=\"\",\"\",\"NA\")","v":""}]
[{"$f":"IF('DC Power Distribution (Desc)'!A51=\"\",\"\",'DC Power Distribution (Desc)'!A51)","v":""},{"$f":"IF('DC Power Distribution (Desc)'!C51=\"\",\"\",2029)","v":""},{"$f":"IF('DC Power Distribution (Desc)'!C51=\"\",\"\",'DC Power Distribution (Desc)'!C51)","v":""},{"$f":"IF('DC Power Distribution (Desc)'!E51=\"\",\"\",'DC Power Distribution (Desc)'!E51)","v":""},{"$f":"IF('DC Power Distribution (Desc)'!F51=\"\",\"\",INDEX([1]ELECTRIC_DEV_MANUF!$A$2:$A$1500,MATCH(1,([1]ELECTRIC_DEV_MANUF!$B$2:$B$1500='DC Power Distribution (Desc)'!$F51)*([1]ELECTRIC_DEV_MANUF!$D$2:$D$1500=\"DCPWRDIS\"),0),0))","v":""},{"$f":"IF('DC Power Distribution (Desc)'!G51=\"\",\"\",INDEX([1]ELECTRIC_DEV_MODEL!$A$2:$A$1500,MATCH(1,([1]ELECTRIC_DEV_MODEL!$C$2:$C$1500='DC Power Distribution (Desc)'!$F51)*([1]ELECTRIC_DEV_MODEL!$D$2:$D$1500='DC Power Distribution (Desc)'!$G51)*([1]ELECTRIC_DEV_MODEL!$F$2:$F$1500=\"DCPWRDIS\"),0),0))","v":""},{"$f":"IF('DC Power Distribution (Desc)'!H51=\"\",\"\",'DC Power Distribution (Desc)'!H51)","v":""},{"$f":"IF('DC Power Distribution (Desc)'!I51=\"\",\"\",INDEX([1]YES_NO!$A$2:$A$100,MATCH('DC Power Distribution (Desc)'!$I51,[1]!MASTER_YES_NO_DESC[#Data],0),0))","v":""},{"$f":"IF('DC Power Distribution (Desc)'!J51=\"\",\"\",'DC Power Distribution (Desc)'!J51)","v":""},{"$f":"IF('DC Power Distribution (Desc)'!K51=\"\",\"\",'DC Power Distribution (Desc)'!K51)","v":""},{"$f":"IF('DC Power Distribution (Desc)'!L51=\"\",\"\",INDEX([1]YES_NO!$A$2:$A$100,MATCH('DC Power Distribution (Desc)'!$L51,[1]!MASTER_YES_NO_DESC[#Data],0),0))","v":""},{"$f":"IF('DC Power Distribution (Desc)'!M51=\"\",\"\",INDEX([1]DEV_INPUT_VOLTAGE!$A$2:$A$100,MATCH('DC Power Distribution (Desc)'!$M51,[1]!MASTER_DEV_INPUT_VOLTAGE_DESC[#Data],0),0))","v":""},{"$f":"IF('DC Power Distribution (Desc)'!N51=\"\",\"\",INDEX([1]DEV_OUTPUT_VOLTAGE!$A$2:$A$100,MATCH('DC Power Distribution (Desc)'!$N51,[1]!MASTER_DEV_INPUT_VOLTAGE_DESC[#Data],0),0))","v":""},{"$f":"IF('DC Power Distribution (Desc)'!O51=\"\",\"\",'DC Power Distribution (Desc)'!O51)","v":""},{"$f":"IF('DC Power Distribution (Desc)'!P51=\"\",\"\",'DC Power Distribution (Desc)'!P51)","v":""},{"$f":"IF('DC Power Distribution (Desc)'!Q51=\"\",\"\",'DC Power Distribution (Desc)'!Q51)","v":""},{"$f":"IF('DC Power Distribution (Desc)'!C51=\"\",\"\",\"NA\")","v":""}]
[{"$f":"IF('DC Power Distribution (Desc)'!A52=\"\",\"\",'DC Power Distribution (Desc)'!A52)","v":""},{"$f":"IF('DC Power Distribution (Desc)'!C52=\"\",\"\",2029)","v":""},{"$f":"IF('DC Power Distribution (Desc)'!C52=\"\",\"\",'DC Power Distribution (Desc)'!C52)","v":""},{"$f":"IF('DC Power Distribution (Desc)'!E52=\"\",\"\",'DC Power Distribution (Desc)'!E52)","v":""},{"$f":"IF('DC Power Distribution (Desc)'!F52=\"\",\"\",INDEX([1]ELECTRIC_DEV_MANUF!$A$2:$A$1500,MATCH(1,([1]ELECTRIC_DEV_MANUF!$B$2:$B$1500='DC Power Distribution (Desc)'!$F52)*([1]ELECTRIC_DEV_MANUF!$D$2:$D$1500=\"DCPWRDIS\"),0),0))","v":""},{"$f":"IF('DC Power Distribution (Desc)'!G52=\"\",\"\",INDEX([1]ELECTRIC_DEV_MODEL!$A$2:$A$1500,MATCH(1,([1]ELECTRIC_DEV_MODEL!$C$2:$C$1500='DC Power Distribution (Desc)'!$F52)*([1]ELECTRIC_DEV_MODEL!$D$2:$D$1500='DC Power Distribution (Desc)'!$G52)*([1]ELECTRIC_DEV_MODEL!$F$2:$F$1500=\"DCPWRDIS\"),0),0))","v":""},{"$f":"IF('DC Power Distribution (Desc)'!H52=\"\",\"\",'DC Power Distribution (Desc)'!H52)","v":""},{"$f":"IF('DC Power Distribution (Desc)'!I52=\"\",\"\",INDEX([1]YES_NO!$A$2:$A$100,MATCH('DC Power Distribution (Desc)'!$I52,[1]!MASTER_YES_NO_DESC[#Data],0),0))","v":""},{"$f":"IF('DC Power Distribution (Desc)'!J52=\"\",\"\",'DC Power Distribution (Desc)'!J52)","v":""},{"$f":"IF('DC Power Distribution (Desc)'!K52=\"\",\"\",'DC Power Distribution (Desc)'!K52)","v":""},{"$f":"IF('DC Power Distribution (Desc)'!L52=\"\",\"\",INDEX([1]YES_NO!$A$2:$A$100,MATCH('DC Power Distribution (Desc)'!$L52,[1]!MASTER_YES_NO_DESC[#Data],0),0))","v":""},{"$f":"IF('DC Power Distribution (Desc)'!M52=\"\",\"\",INDEX([1]DEV_INPUT_VOLTAGE!$A$2:$A$100,MATCH('DC Power Distribution (Desc)'!$M52,[1]!MASTER_DEV_INPUT_VOLTAGE_DESC[#Data],0),0))","v":""},{"$f":"IF('DC Power Distribution (Desc)'!N52=\"\",\"\",INDEX([1]DEV_OUTPUT_VOLTAGE!$A$2:$A$100,MATCH('DC Power Distribution (Desc)'!$N52,[1]!MASTER_DEV_INPUT_VOLTAGE_DESC[#Data],0),0))","v":""},{"$f":"IF('DC Power Distribution (Desc)'!O52=\"\",\"\",'DC Power Distribution (Desc)'!O52)","v":""},{"$f":"IF('DC Power Distribution (Desc)'!P52=\"\",\"\",'DC Power Distribution (Desc)'!P52)","v":""},{"$f":"IF('DC Power Distribution (Desc)'!Q52=\"\",\"\",'DC Power Distribution (Desc)'!Q52)","v":""},{"$f":"IF('DC Power Distribution (Desc)'!C52=\"\",\"\",\"NA\")","v":""}]
[{"$f":"IF('DC Power Distribution (Desc)'!A53=\"\",\"\",'DC Power Distribution (Desc)'!A53)","v":""},{"$f":"IF('DC Power Distribution (Desc)'!C53=\"\",\"\",2029)","v":""},{"$f":"IF('DC Power Distribution (Desc)'!C53=\"\",\"\",'DC Power Distribution (Desc)'!C53)","v":""},{"$f":"IF('DC Power Distribution (Desc)'!E53=\"\",\"\",'DC Power Distribution (Desc)'!E53)","v":""},{"$f":"IF('DC Power Distribution (Desc)'!F53=\"\",\"\",INDEX([1]ELECTRIC_DEV_MANUF!$A$2:$A$1500,MATCH(1,([1]ELECTRIC_DEV_MANUF!$B$2:$B$1500='DC Power Distribution (Desc)'!$F53)*([1]ELECTRIC_DEV_MANUF!$D$2:$D$1500=\"DCPWRDIS\"),0),0))","v":""},{"$f":"IF('DC Power Distribution (Desc)'!G53=\"\",\"\",INDEX([1]ELECTRIC_DEV_MODEL!$A$2:$A$1500,MATCH(1,([1]ELECTRIC_DEV_MODEL!$C$2:$C$1500='DC Power Distribution (Desc)'!$F53)*([1]ELECTRIC_DEV_MODEL!$D$2:$D$1500='DC Power Distribution (Desc)'!$G53)*([1]ELECTRIC_DEV_MODEL!$F$2:$F$1500=\"DCPWRDIS\"),0),0))","v":""},{"$f":"IF('DC Power Distribution (Desc)'!H53=\"\",\"\",'DC Power Distribution (Desc)'!H53)","v":""},{"$f":"IF('DC Power Distribution (Desc)'!I53=\"\",\"\",INDEX([1]YES_NO!$A$2:$A$100,MATCH('DC Power Distribution (Desc)'!$I53,[1]!MASTER_YES_NO_DESC[#Data],0),0))","v":""},{"$f":"IF('DC Power Distribution (Desc)'!J53=\"\",\"\",'DC Power Distribution (Desc)'!J53)","v":""},{"$f":"IF('DC Power Distribution (Desc)'!K53=\"\",\"\",'DC Power Distribution (Desc)'!K53)","v":""},{"$f":"IF('DC Power Distribution (Desc)'!L53=\"\",\"\",INDEX([1]YES_NO!$A$2:$A$100,MATCH('DC Power Distribution (Desc)'!$L53,[1]!MASTER_YES_NO_DESC[#Data],0),0))","v":""},{"$f":"IF('DC Power Distribution (Desc)'!M53=\"\",\"\",INDEX([1]DEV_INPUT_VOLTAGE!$A$2:$A$100,MATCH('DC Power Distribution (Desc)'!$M53,[1]!MASTER_DEV_INPUT_VOLTAGE_DESC[#Data],0),0))","v":""},{"$f":"IF('DC Power Distribution (Desc)'!N53=\"\",\"\",INDEX([1]DEV_OUTPUT_VOLTAGE!$A$2:$A$100,MATCH('DC Power Distribution (Desc)'!$N53,[1]!MASTER_DEV_INPUT_VOLTAGE_DESC[#Data],0),0))","v":""},{"$f":"IF('DC Power Distribution (Desc)'!O53=\"\",\"\",'DC Power Distribution (Desc)'!O53)","v":""},{"$f":"IF('DC Power Distribution (Desc)'!P53=\"\",\"\",'DC Power Distribution (Desc)'!P53)","v":""},{"$f":"IF('DC Power Distribution (Desc)'!Q53=\"\",\"\",'DC Power Distribution (Desc)'!Q53)","v":""},{"$f":"IF('DC Power Distribution (Desc)'!C53=\"\",\"\",\"NA\")","v":""}]
[{"$f":"IF('DC Power Distribution (Desc)'!A54=\"\",\"\",'DC Power Distribution (Desc)'!A54)","v":""},{"$f":"IF('DC Power Distribution (Desc)'!C54=\"\",\"\",2029)","v":""},{"$f":"IF('DC Power Distribution (Desc)'!C54=\"\",\"\",'DC Power Distribution (Desc)'!C54)","v":""},{"$f":"IF('DC Power Distribution (Desc)'!E54=\"\",\"\",'DC Power Distribution (Desc)'!E54)","v":""},{"$f":"IF('DC Power Distribution (Desc)'!F54=\"\",\"\",INDEX([1]ELECTRIC_DEV_MANUF!$A$2:$A$1500,MATCH(1,([1]ELECTRIC_DEV_MANUF!$B$2:$B$1500='DC Power Distribution (Desc)'!$F54)*([1]ELECTRIC_DEV_MANUF!$D$2:$D$1500=\"DCPWRDIS\"),0),0))","v":""},{"$f":"IF('DC Power Distribution (Desc)'!G54=\"\",\"\",INDEX([1]ELECTRIC_DEV_MODEL!$A$2:$A$1500,MATCH(1,([1]ELECTRIC_DEV_MODEL!$C$2:$C$1500='DC Power Distribution (Desc)'!$F54)*([1]ELECTRIC_DEV_MODEL!$D$2:$D$1500='DC Power Distribution (Desc)'!$G54)*([1]ELECTRIC_DEV_MODEL!$F$2:$F$1500=\"DCPWRDIS\"),0),0))","v":""},{"$f":"IF('DC Power Distribution (Desc)'!H54=\"\",\"\",'DC Power Distribution (Desc)'!H54)","v":""},{"$f":"IF('DC Power Distribution (Desc)'!I54=\"\",\"\",INDEX([1]YES_NO!$A$2:$A$100,MATCH('DC Power Distribution (Desc)'!$I54,[1]!MASTER_YES_NO_DESC[#Data],0),0))","v":""},{"$f":"IF('DC Power Distribution (Desc)'!J54=\"\",\"\",'DC Power Distribution (Desc)'!J54)","v":""},{"$f":"IF('DC Power Distribution (Desc)'!K54=\"\",\"\",'DC Power Distribution (Desc)'!K54)","v":""},{"$f":"IF('DC Power Distribution (Desc)'!L54=\"\",\"\",INDEX([1]YES_NO!$A$2:$A$100,MATCH('DC Power Distribution (Desc)'!$L54,[1]!MASTER_YES_NO_DESC[#Data],0),0))","v":""},{"$f":"IF('DC Power Distribution (Desc)'!M54=\"\",\"\",INDEX([1]DEV_INPUT_VOLTAGE!$A$2:$A$100,MATCH('DC Power Distribution (Desc)'!$M54,[1]!MASTER_DEV_INPUT_VOLTAGE_DESC[#Data],0),0))","v":""},{"$f":"IF('DC Power Distribution (Desc)'!N54=\"\",\"\",INDEX([1]DEV_OUTPUT_VOLTAGE!$A$2:$A$100,MATCH('DC Power Distribution (Desc)'!$N54,[1]!MASTER_DEV_INPUT_VOLTAGE_DESC[#Data],0),0))","v":""},{"$f":"IF('DC Power Distribution (Desc)'!O54=\"\",\"\",'DC Power Distribution (Desc)'!O54)","v":""},{"$f":"IF('DC Power Distribution (Desc)'!P54=\"\",\"\",'DC Power Distribution (Desc)'!P54)","v":""},{"$f":"IF('DC Power Distribution (Desc)'!Q54=\"\",\"\",'DC Power Distribution (Desc)'!Q54)","v":""},{"$f":"IF('DC Power Distribution (Desc)'!C54=\"\",\"\",\"NA\")","v":""}]
[{"$f":"IF('DC Power Distribution (Desc)'!A55=\"\",\"\",'DC Power Distribution (Desc)'!A55)","v":""},{"$f":"IF('DC Power Distribution (Desc)'!C55=\"\",\"\",2029)","v":""},{"$f":"IF('DC Power Distribution (Desc)'!C55=\"\",\"\",'DC Power Distribution (Desc)'!C55)","v":""},{"$f":"IF('DC Power Distribution (Desc)'!E55=\"\",\"\",'DC Power Distribution (Desc)'!E55)","v":""},{"$f":"IF('DC Power Distribution (Desc)'!F55=\"\",\"\",INDEX([1]ELECTRIC_DEV_MANUF!$A$2:$A$1500,MATCH(1,([1]ELECTRIC_DEV_MANUF!$B$2:$B$1500='DC Power Distribution (Desc)'!$F55)*([1]ELECTRIC_DEV_MANUF!$D$2:$D$1500=\"DCPWRDIS\"),0),0))","v":""},{"$f":"IF('DC Power Distribution (Desc)'!G55=\"\",\"\",INDEX([1]ELECTRIC_DEV_MODEL!$A$2:$A$1500,MATCH(1,([1]ELECTRIC_DEV_MODEL!$C$2:$C$1500='DC Power Distribution (Desc)'!$F55)*([1]ELECTRIC_DEV_MODEL!$D$2:$D$1500='DC Power Distribution (Desc)'!$G55)*([1]ELECTRIC_DEV_MODEL!$F$2:$F$1500=\"DCPWRDIS\"),0),0))","v":""},{"$f":"IF('DC Power Distribution (Desc)'!H55=\"\",\"\",'DC Power Distribution (Desc)'!H55)","v":""},{"$f":"IF('DC Power Distribution (Desc)'!I55=\"\",\"\",INDEX([1]YES_NO!$A$2:$A$100,MATCH('DC Power Distribution (Desc)'!$I55,[1]!MASTER_YES_NO_DESC[#Data],0),0))","v":""},{"$f":"IF('DC Power Distribution (Desc)'!J55=\"\",\"\",'DC Power Distribution (Desc)'!J55)","v":""},{"$f":"IF('DC Power Distribution (Desc)'!K55=\"\",\"\",'DC Power Distribution (Desc)'!K55)","v":""},{"$f":"IF('DC Power Distribution (Desc)'!L55=\"\",\"\",INDEX([1]YES_NO!$A$2:$A$100,MATCH('DC Power Distribution (Desc)'!$L55,[1]!MASTER_YES_NO_DESC[#Data],0),0))","v":""},{"$f":"IF('DC Power Distribution (Desc)'!M55=\"\",\"\",INDEX([1]DEV_INPUT_VOLTAGE!$A$2:$A$100,MATCH('DC Power Distribution (Desc)'!$M55,[1]!MASTER_DEV_INPUT_VOLTAGE_DESC[#Data],0),0))","v":""},{"$f":"IF('DC Power Distribution (Desc)'!N55=\"\",\"\",INDEX([1]DEV_OUTPUT_VOLTAGE!$A$2:$A$100,MATCH('DC Power Distribution (Desc)'!$N55,[1]!MASTER_DEV_INPUT_VOLTAGE_DESC[#Data],0),0))","v":""},{"$f":"IF('DC Power Distribution (Desc)'!O55=\"\",\"\",'DC Power Distribution (Desc)'!O55)","v":""},{"$f":"IF('DC Power Distribution (Desc)'!P55=\"\",\"\",'DC Power Distribution (Desc)'!P55)","v":""},{"$f":"IF('DC Power Distribution (Desc)'!Q55=\"\",\"\",'DC Power Distribution (Desc)'!Q55)","v":""},{"$f":"IF('DC Power Distribution (Desc)'!C55=\"\",\"\",\"NA\")","v":""}]
[{"$f":"IF('DC Power Distribution (Desc)'!A56=\"\",\"\",'DC Power Distribution (Desc)'!A56)","v":""},{"$f":"IF('DC Power Distribution (Desc)'!C56=\"\",\"\",2029)","v":""},{"$f":"IF('DC Power Distribution (Desc)'!C56=\"\",\"\",'DC Power Distribution (Desc)'!C56)","v":""},{"$f":"IF('DC Power Distribution (Desc)'!E56=\"\",\"\",'DC Power Distribution (Desc)'!E56)","v":""},{"$f":"IF('DC Power Distribution (Desc)'!F56=\"\",\"\",INDEX([1]ELECTRIC_DEV_MANUF!$A$2:$A$1500,MATCH(1,([1]ELECTRIC_DEV_MANUF!$B$2:$B$1500='DC Power Distribution (Desc)'!$F56)*([1]ELECTRIC_DEV_MANUF!$D$2:$D$1500=\"DCPWRDIS\"),0),0))","v":""},{"$f":"IF('DC Power Distribution (Desc)'!G56=\"\",\"\",INDEX([1]ELECTRIC_DEV_MODEL!$A$2:$A$1500,MATCH(1,([1]ELECTRIC_DEV_MODEL!$C$2:$C$1500='DC Power Distribution (Desc)'!$F56)*([1]ELECTRIC_DEV_MODEL!$D$2:$D$1500='DC Power Distribution (Desc)'!$G56)*([1]ELECTRIC_DEV_MODEL!$F$2:$F$1500=\"DCPWRDIS\"),0),0))","v":""},{"$f":"IF('DC Power Distribution (Desc)'!H56=\"\",\"\",'DC Power Distribution (Desc)'!H56)","v":""},{"$f":"IF('DC Power Distribution (Desc)'!I56=\"\",\"\",INDEX([1]YES_NO!$A$2:$A$100,MATCH('DC Power Distribution (Desc)'!$I56,[1]!MASTER_YES_NO_DESC[#Data],0),0))","v":""},{"$f":"IF('DC Power Distribution (Desc)'!J56=\"\",\"\",'DC Power Distribution (Desc)'!J56)","v":""},{"$f":"IF('DC Power Distribution (Desc)'!K56=\"\",\"\",'DC Power Distribution (Desc)'!K56)","v":""},{"$f":"IF('DC Power Distribution (Desc)'!L56=\"\",\"\",INDEX([1]YES_NO!$A$2:$A$100,MATCH('DC Power Distribution (Desc)'!$L56,[1]!MASTER_YES_NO_DESC[#Data],0),0))","v":""},{"$f":"IF('DC Power Distribution (Desc)'!M56=\"\",\"\",INDEX([1]DEV_INPUT_VOLTAGE!$A$2:$A$100,MATCH('DC Power Distribution (Desc)'!$M56,[1]!MASTER_DEV_INPUT_VOLTAGE_DESC[#Data],0),0))","v":""},{"$f":"IF('DC Power Distribution (Desc)'!N56=\"\",\"\",INDEX([1]DEV_OUTPUT_VOLTAGE!$A$2:$A$100,MATCH('DC Power Distribution (Desc)'!$N56,[1]!MASTER_DEV_INPUT_VOLTAGE_DESC[#Data],0),0))","v":""},{"$f":"IF('DC Power Distribution (Desc)'!O56=\"\",\"\",'DC Power Distribution (Desc)'!O56)","v":""},{"$f":"IF('DC Power Distribution (Desc)'!P56=\"\",\"\",'DC Power Distribution (Desc)'!P56)","v":""},{"$f":"IF('DC Power Distribution (Desc)'!Q56=\"\",\"\",'DC Power Distribution (Desc)'!Q56)","v":""},{"$f":"IF('DC Power Distribution (Desc)'!C56=\"\",\"\",\"NA\")","v":""}]
[{"$f":"IF('DC Power Distribution (Desc)'!A57=\"\",\"\",'DC Power Distribution (Desc)'!A57)","v":""},{"$f":"IF('DC Power Distribution (Desc)'!C57=\"\",\"\",2029)","v":""},{"$f":"IF('DC Power Distribution (Desc)'!C57=\"\",\"\",'DC Power Distribution (Desc)'!C57)","v":""},{"$f":"IF('DC Power Distribution (Desc)'!E57=\"\",\"\",'DC Power Distribution (Desc)'!E57)","v":""},{"$f":"IF('DC Power Distribution (Desc)'!F57=\"\",\"\",INDEX([1]ELECTRIC_DEV_MANUF!$A$2:$A$1500,MATCH(1,([1]ELECTRIC_DEV_MANUF!$B$2:$B$1500='DC Power Distribution (Desc)'!$F57)*([1]ELECTRIC_DEV_MANUF!$D$2:$D$1500=\"DCPWRDIS\"),0),0))","v":""},{"$f":"IF('DC Power Distribution (Desc)'!G57=\"\",\"\",INDEX([1]ELECTRIC_DEV_MODEL!$A$2:$A$1500,MATCH(1,([1]ELECTRIC_DEV_MODEL!$C$2:$C$1500='DC Power Distribution (Desc)'!$F57)*([1]ELECTRIC_DEV_MODEL!$D$2:$D$1500='DC Power Distribution (Desc)'!$G57)*([1]ELECTRIC_DEV_MODEL!$F$2:$F$1500=\"DCPWRDIS\"),0),0))","v":""},{"$f":"IF('DC Power Distribution (Desc)'!H57=\"\",\"\",'DC Power Distribution (Desc)'!H57)","v":""},{"$f":"IF('DC Power Distribution (Desc)'!I57=\"\",\"\",INDEX([1]YES_NO!$A$2:$A$100,MATCH('DC Power Distribution (Desc)'!$I57,[1]!MASTER_YES_NO_DESC[#Data],0),0))","v":""},{"$f":"IF('DC Power Distribution (Desc)'!J57=\"\",\"\",'DC Power Distribution (Desc)'!J57)","v":""},{"$f":"IF('DC Power Distribution (Desc)'!K57=\"\",\"\",'DC Power Distribution (Desc)'!K57)","v":""},{"$f":"IF('DC Power Distribution (Desc)'!L57=\"\",\"\",INDEX([1]YES_NO!$A$2:$A$100,MATCH('DC Power Distribution (Desc)'!$L57,[1]!MASTER_YES_NO_DESC[#Data],0),0))","v":""},{"$f":"IF('DC Power Distribution (Desc)'!M57=\"\",\"\",INDEX([1]DEV_INPUT_VOLTAGE!$A$2:$A$100,MATCH('DC Power Distribution (Desc)'!$M57,[1]!MASTER_DEV_INPUT_VOLTAGE_DESC[#Data],0),0))","v":""},{"$f":"IF('DC Power Distribution (Desc)'!N57=\"\",\"\",INDEX([1]DEV_OUTPUT_VOLTAGE!$A$2:$A$100,MATCH('DC Power Distribution (Desc)'!$N57,[1]!MASTER_DEV_INPUT_VOLTAGE_DESC[#Data],0),0))","v":""},{"$f":"IF('DC Power Distribution (Desc)'!O57=\"\",\"\",'DC Power Distribution (Desc)'!O57)","v":""},{"$f":"IF('DC Power Distribution (Desc)'!P57=\"\",\"\",'DC Power Distribution (Desc)'!P57)","v":""},{"$f":"IF('DC Power Distribution (Desc)'!Q57=\"\",\"\",'DC Power Distribution (Desc)'!Q57)","v":""},{"$f":"IF('DC Power Distribution (Desc)'!C57=\"\",\"\",\"NA\")","v":""}]
[{"$f":"IF('DC Power Distribution (Desc)'!A58=\"\",\"\",'DC Power Distribution (Desc)'!A58)","v":""},{"$f":"IF('DC Power Distribution (Desc)'!C58=\"\",\"\",2029)","v":""},{"$f":"IF('DC Power Distribution (Desc)'!C58=\"\",\"\",'DC Power Distribution (Desc)'!C58)","v":""},{"$f":"IF('DC Power Distribution (Desc)'!E58=\"\",\"\",'DC Power Distribution (Desc)'!E58)","v":""},{"$f":"IF('DC Power Distribution (Desc)'!F58=\"\",\"\",INDEX([1]ELECTRIC_DEV_MANUF!$A$2:$A$1500,MATCH(1,([1]ELECTRIC_DEV_MANUF!$B$2:$B$1500='DC Power Distribution (Desc)'!$F58)*([1]ELECTRIC_DEV_MANUF!$D$2:$D$1500=\"DCPWRDIS\"),0),0))","v":""},{"$f":"IF('DC Power Distribution (Desc)'!G58=\"\",\"\",INDEX([1]ELECTRIC_DEV_MODEL!$A$2:$A$1500,MATCH(1,([1]ELECTRIC_DEV_MODEL!$C$2:$C$1500='DC Power Distribution (Desc)'!$F58)*([1]ELECTRIC_DEV_MODEL!$D$2:$D$1500='DC Power Distribution (Desc)'!$G58)*([1]ELECTRIC_DEV_MODEL!$F$2:$F$1500=\"DCPWRDIS\"),0),0))","v":""},{"$f":"IF('DC Power Distribution (Desc)'!H58=\"\",\"\",'DC Power Distribution (Desc)'!H58)","v":""},{"$f":"IF('DC Power Distribution (Desc)'!I58=\"\",\"\",INDEX([1]YES_NO!$A$2:$A$100,MATCH('DC Power Distribution (Desc)'!$I58,[1]!MASTER_YES_NO_DESC[#Data],0),0))","v":""},{"$f":"IF('DC Power Distribution (Desc)'!J58=\"\",\"\",'DC Power Distribution (Desc)'!J58)","v":""},{"$f":"IF('DC Power Distribution (Desc)'!K58=\"\",\"\",'DC Power Distribution (Desc)'!K58)","v":""},{"$f":"IF('DC Power Distribution (Desc)'!L58=\"\",\"\",INDEX([1]YES_NO!$A$2:$A$100,MATCH('DC Power Distribution (Desc)'!$L58,[1]!MASTER_YES_NO_DESC[#Data],0),0))","v":""},{"$f":"IF('DC Power Distribution (Desc)'!M58=\"\",\"\",INDEX([1]DEV_INPUT_VOLTAGE!$A$2:$A$100,MATCH('DC Power Distribution (Desc)'!$M58,[1]!MASTER_DEV_INPUT_VOLTAGE_DESC[#Data],0),0))","v":""},{"$f":"IF('DC Power Distribution (Desc)'!N58=\"\",\"\",INDEX([1]DEV_OUTPUT_VOLTAGE!$A$2:$A$100,MATCH('DC Power Distribution (Desc)'!$N58,[1]!MASTER_DEV_INPUT_VOLTAGE_DESC[#Data],0),0))","v":""},{"$f":"IF('DC Power Distribution (Desc)'!O58=\"\",\"\",'DC Power Distribution (Desc)'!O58)","v":""},{"$f":"IF('DC Power Distribution (Desc)'!P58=\"\",\"\",'DC Power Distribution (Desc)'!P58)","v":""},{"$f":"IF('DC Power Distribution (Desc)'!Q58=\"\",\"\",'DC Power Distribution (Desc)'!Q58)","v":""},{"$f":"IF('DC Power Distribution (Desc)'!C58=\"\",\"\",\"NA\")","v":""}]
[{"$f":"IF('DC Power Distribution (Desc)'!A59=\"\",\"\",'DC Power Distribution (Desc)'!A59)","v":""},{"$f":"IF('DC Power Distribution (Desc)'!C59=\"\",\"\",2029)","v":""},{"$f":"IF('DC Power Distribution (Desc)'!C59=\"\",\"\",'DC Power Distribution (Desc)'!C59)","v":""},{"$f":"IF('DC Power Distribution (Desc)'!E59=\"\",\"\",'DC Power Distribution (Desc)'!E59)","v":""},{"$f":"IF('DC Power Distribution (Desc)'!F59=\"\",\"\",INDEX([1]ELECTRIC_DEV_MANUF!$A$2:$A$1500,MATCH(1,([1]ELECTRIC_DEV_MANUF!$B$2:$B$1500='DC Power Distribution (Desc)'!$F59)*([1]ELECTRIC_DEV_MANUF!$D$2:$D$1500=\"DCPWRDIS\"),0),0))","v":""},{"$f":"IF('DC Power Distribution (Desc)'!G59=\"\",\"\",INDEX([1]ELECTRIC_DEV_MODEL!$A$2:$A$1500,MATCH(1,([1]ELECTRIC_DEV_MODEL!$C$2:$C$1500='DC Power Distribution (Desc)'!$F59)*([1]ELECTRIC_DEV_MODEL!$D$2:$D$1500='DC Power Distribution (Desc)'!$G59)*([1]ELECTRIC_DEV_MODEL!$F$2:$F$1500=\"DCPWRDIS\"),0),0))","v":""},{"$f":"IF('DC Power Distribution (Desc)'!H59=\"\",\"\",'DC Power Distribution (Desc)'!H59)","v":""},{"$f":"IF('DC Power Distribution (Desc)'!I59=\"\",\"\",INDEX([1]YES_NO!$A$2:$A$100,MATCH('DC Power Distribution (Desc)'!$I59,[1]!MASTER_YES_NO_DESC[#Data],0),0))","v":""},{"$f":"IF('DC Power Distribution (Desc)'!J59=\"\",\"\",'DC Power Distribution (Desc)'!J59)","v":""},{"$f":"IF('DC Power Distribution (Desc)'!K59=\"\",\"\",'DC Power Distribution (Desc)'!K59)","v":""},{"$f":"IF('DC Power Distribution (Desc)'!L59=\"\",\"\",INDEX([1]YES_NO!$A$2:$A$100,MATCH('DC Power Distribution (Desc)'!$L59,[1]!MASTER_YES_NO_DESC[#Data],0),0))","v":""},{"$f":"IF('DC Power Distribution (Desc)'!M59=\"\",\"\",INDEX([1]DEV_INPUT_VOLTAGE!$A$2:$A$100,MATCH('DC Power Distribution (Desc)'!$M59,[1]!MASTER_DEV_INPUT_VOLTAGE_DESC[#Data],0),0))","v":""},{"$f":"IF('DC Power Distribution (Desc)'!N59=\"\",\"\",INDEX([1]DEV_OUTPUT_VOLTAGE!$A$2:$A$100,MATCH('DC Power Distribution (Desc)'!$N59,[1]!MASTER_DEV_INPUT_VOLTAGE_DESC[#Data],0),0))","v":""},{"$f":"IF('DC Power Distribution (Desc)'!O59=\"\",\"\",'DC Power Distribution (Desc)'!O59)","v":""},{"$f":"IF('DC Power Distribution (Desc)'!P59=\"\",\"\",'DC Power Distribution (Desc)'!P59)","v":""},{"$f":"IF('DC Power Distribution (Desc)'!Q59=\"\",\"\",'DC Power Distribution (Desc)'!Q59)","v":""},{"$f":"IF('DC Power Distribution (Desc)'!C59=\"\",\"\",\"NA\")","v":""}]
[{"$f":"IF('DC Power Distribution (Desc)'!A60=\"\",\"\",'DC Power Distribution (Desc)'!A60)","v":""},{"$f":"IF('DC Power Distribution (Desc)'!C60=\"\",\"\",2029)","v":""},{"$f":"IF('DC Power Distribution (Desc)'!C60=\"\",\"\",'DC Power Distribution (Desc)'!C60)","v":""},{"$f":"IF('DC Power Distribution (Desc)'!E60=\"\",\"\",'DC Power Distribution (Desc)'!E60)","v":""},{"$f":"IF('DC Power Distribution (Desc)'!F60=\"\",\"\",INDEX([1]ELECTRIC_DEV_MANUF!$A$2:$A$1500,MATCH(1,([1]ELECTRIC_DEV_MANUF!$B$2:$B$1500='DC Power Distribution (Desc)'!$F60)*([1]ELECTRIC_DEV_MANUF!$D$2:$D$1500=\"DCPWRDIS\"),0),0))","v":""},{"$f":"IF('DC Power Distribution (Desc)'!G60=\"\",\"\",INDEX([1]ELECTRIC_DEV_MODEL!$A$2:$A$1500,MATCH(1,([1]ELECTRIC_DEV_MODEL!$C$2:$C$1500='DC Power Distribution (Desc)'!$F60)*([1]ELECTRIC_DEV_MODEL!$D$2:$D$1500='DC Power Distribution (Desc)'!$G60)*([1]ELECTRIC_DEV_MODEL!$F$2:$F$1500=\"DCPWRDIS\"),0),0))","v":""},{"$f":"IF('DC Power Distribution (Desc)'!H60=\"\",\"\",'DC Power Distribution (Desc)'!H60)","v":""},{"$f":"IF('DC Power Distribution (Desc)'!I60=\"\",\"\",INDEX([1]YES_NO!$A$2:$A$100,MATCH('DC Power Distribution (Desc)'!$I60,[1]!MASTER_YES_NO_DESC[#Data],0),0))","v":""},{"$f":"IF('DC Power Distribution (Desc)'!J60=\"\",\"\",'DC Power Distribution (Desc)'!J60)","v":""},{"$f":"IF('DC Power Distribution (Desc)'!K60=\"\",\"\",'DC Power Distribution (Desc)'!K60)","v":""},{"$f":"IF('DC Power Distribution (Desc)'!L60=\"\",\"\",INDEX([1]YES_NO!$A$2:$A$100,MATCH('DC Power Distribution (Desc)'!$L60,[1]!MASTER_YES_NO_DESC[#Data],0),0))","v":""},{"$f":"IF('DC Power Distribution (Desc)'!M60=\"\",\"\",INDEX([1]DEV_INPUT_VOLTAGE!$A$2:$A$100,MATCH('DC Power Distribution (Desc)'!$M60,[1]!MASTER_DEV_INPUT_VOLTAGE_DESC[#Data],0),0))","v":""},{"$f":"IF('DC Power Distribution (Desc)'!N60=\"\",\"\",INDEX([1]DEV_OUTPUT_VOLTAGE!$A$2:$A$100,MATCH('DC Power Distribution (Desc)'!$N60,[1]!MASTER_DEV_INPUT_VOLTAGE_DESC[#Data],0),0))","v":""},{"$f":"IF('DC Power Distribution (Desc)'!O60=\"\",\"\",'DC Power Distribution (Desc)'!O60)","v":""},{"$f":"IF('DC Power Distribution (Desc)'!P60=\"\",\"\",'DC Power Distribution (Desc)'!P60)","v":""},{"$f":"IF('DC Power Distribution (Desc)'!Q60=\"\",\"\",'DC Power Distribution (Desc)'!Q60)","v":""},{"$f":"IF('DC Power Distribution (Desc)'!C60=\"\",\"\",\"NA\")","v":""}]
[{"$f":"IF('DC Power Distribution (Desc)'!A61=\"\",\"\",'DC Power Distribution (Desc)'!A61)","v":""},{"$f":"IF('DC Power Distribution (Desc)'!C61=\"\",\"\",2029)","v":""},{"$f":"IF('DC Power Distribution (Desc)'!C61=\"\",\"\",'DC Power Distribution (Desc)'!C61)","v":""},{"$f":"IF('DC Power Distribution (Desc)'!E61=\"\",\"\",'DC Power Distribution (Desc)'!E61)","v":""},{"$f":"IF('DC Power Distribution (Desc)'!F61=\"\",\"\",INDEX([1]ELECTRIC_DEV_MANUF!$A$2:$A$1500,MATCH(1,([1]ELECTRIC_DEV_MANUF!$B$2:$B$1500='DC Power Distribution (Desc)'!$F61)*([1]ELECTRIC_DEV_MANUF!$D$2:$D$1500=\"DCPWRDIS\"),0),0))","v":""},{"$f":"IF('DC Power Distribution (Desc)'!G61=\"\",\"\",INDEX([1]ELECTRIC_DEV_MODEL!$A$2:$A$1500,MATCH(1,([1]ELECTRIC_DEV_MODEL!$C$2:$C$1500='DC Power Distribution (Desc)'!$F61)*([1]ELECTRIC_DEV_MODEL!$D$2:$D$1500='DC Power Distribution (Desc)'!$G61)*([1]ELECTRIC_DEV_MODEL!$F$2:$F$1500=\"DCPWRDIS\"),0),0))","v":""},{"$f":"IF('DC Power Distribution (Desc)'!H61=\"\",\"\",'DC Power Distribution (Desc)'!H61)","v":""},{"$f":"IF('DC Power Distribution (Desc)'!I61=\"\",\"\",INDEX([1]YES_NO!$A$2:$A$100,MATCH('DC Power Distribution (Desc)'!$I61,[1]!MASTER_YES_NO_DESC[#Data],0),0))","v":""},{"$f":"IF('DC Power Distribution (Desc)'!J61=\"\",\"\",'DC Power Distribution (Desc)'!J61)","v":""},{"$f":"IF('DC Power Distribution (Desc)'!K61=\"\",\"\",'DC Power Distribution (Desc)'!K61)","v":""},{"$f":"IF('DC Power Distribution (Desc)'!L61=\"\",\"\",INDEX([1]YES_NO!$A$2:$A$100,MATCH('DC Power Distribution (Desc)'!$L61,[1]!MASTER_YES_NO_DESC[#Data],0),0))","v":""},{"$f":"IF('DC Power Distribution (Desc)'!M61=\"\",\"\",INDEX([1]DEV_INPUT_VOLTAGE!$A$2:$A$100,MATCH('DC Power Distribution (Desc)'!$M61,[1]!MASTER_DEV_INPUT_VOLTAGE_DESC[#Data],0),0))","v":""},{"$f":"IF('DC Power Distribution (Desc)'!N61=\"\",\"\",INDEX([1]DEV_OUTPUT_VOLTAGE!$A$2:$A$100,MATCH('DC Power Distribution (Desc)'!$N61,[1]!MASTER_DEV_INPUT_VOLTAGE_DESC[#Data],0),0))","v":""},{"$f":"IF('DC Power Distribution (Desc)'!O61=\"\",\"\",'DC Power Distribution (Desc)'!O61)","v":""},{"$f":"IF('DC Power Distribution (Desc)'!P61=\"\",\"\",'DC Power Distribution (Desc)'!P61)","v":""},{"$f":"IF('DC Power Distribution (Desc)'!Q61=\"\",\"\",'DC Power Distribution (Desc)'!Q61)","v":""},{"$f":"IF('DC Power Distribution (Desc)'!C61=\"\",\"\",\"NA\")","v":""}]
[{"$f":"IF('DC Power Distribution (Desc)'!A62=\"\",\"\",'DC Power Distribution (Desc)'!A62)","v":""},{"$f":"IF('DC Power Distribution (Desc)'!C62=\"\",\"\",2029)","v":""},{"$f":"IF('DC Power Distribution (Desc)'!C62=\"\",\"\",'DC Power Distribution (Desc)'!C62)","v":""},{"$f":"IF('DC Power Distribution (Desc)'!E62=\"\",\"\",'DC Power Distribution (Desc)'!E62)","v":""},{"$f":"IF('DC Power Distribution (Desc)'!F62=\"\",\"\",INDEX([1]ELECTRIC_DEV_MANUF!$A$2:$A$1500,MATCH(1,([1]ELECTRIC_DEV_MANUF!$B$2:$B$1500='DC Power Distribution (Desc)'!$F62)*([1]ELECTRIC_DEV_MANUF!$D$2:$D$1500=\"DCPWRDIS\"),0),0))","v":""},{"$f":"IF('DC Power Distribution (Desc)'!G62=\"\",\"\",INDEX([1]ELECTRIC_DEV_MODEL!$A$2:$A$1500,MATCH(1,([1]ELECTRIC_DEV_MODEL!$C$2:$C$1500='DC Power Distribution (Desc)'!$F62)*([1]ELECTRIC_DEV_MODEL!$D$2:$D$1500='DC Power Distribution (Desc)'!$G62)*([1]ELECTRIC_DEV_MODEL!$F$2:$F$1500=\"DCPWRDIS\"),0),0))","v":""},{"$f":"IF('DC Power Distribution (Desc)'!H62=\"\",\"\",'DC Power Distribution (Desc)'!H62)","v":""},{"$f":"IF('DC Power Distribution (Desc)'!I62=\"\",\"\",INDEX([1]YES_NO!$A$2:$A$100,MATCH('DC Power Distribution (Desc)'!$I62,[1]!MASTER_YES_NO_DESC[#Data],0),0))","v":""},{"$f":"IF('DC Power Distribution (Desc)'!J62=\"\",\"\",'DC Power Distribution (Desc)'!J62)","v":""},{"$f":"IF('DC Power Distribution (Desc)'!K62=\"\",\"\",'DC Power Distribution (Desc)'!K62)","v":""},{"$f":"IF('DC Power Distribution (Desc)'!L62=\"\",\"\",INDEX([1]YES_NO!$A$2:$A$100,MATCH('DC Power Distribution (Desc)'!$L62,[1]!MASTER_YES_NO_DESC[#Data],0),0))","v":""},{"$f":"IF('DC Power Distribution (Desc)'!M62=\"\",\"\",INDEX([1]DEV_INPUT_VOLTAGE!$A$2:$A$100,MATCH('DC Power Distribution (Desc)'!$M62,[1]!MASTER_DEV_INPUT_VOLTAGE_DESC[#Data],0),0))","v":""},{"$f":"IF('DC Power Distribution (Desc)'!N62=\"\",\"\",INDEX([1]DEV_OUTPUT_VOLTAGE!$A$2:$A$100,MATCH('DC Power Distribution (Desc)'!$N62,[1]!MASTER_DEV_INPUT_VOLTAGE_DESC[#Data],0),0))","v":""},{"$f":"IF('DC Power Distribution (Desc)'!O62=\"\",\"\",'DC Power Distribution (Desc)'!O62)","v":""},{"$f":"IF('DC Power Distribution (Desc)'!P62=\"\",\"\",'DC Power Distribution (Desc)'!P62)","v":""},{"$f":"IF('DC Power Distribution (Desc)'!Q62=\"\",\"\",'DC Power Distribution (Desc)'!Q62)","v":""},{"$f":"IF('DC Power Distribution (Desc)'!C62=\"\",\"\",\"NA\")","v":""}]
[{"$f":"IF('DC Power Distribution (Desc)'!A63=\"\",\"\",'DC Power Distribution (Desc)'!A63)","v":""},{"$f":"IF('DC Power Distribution (Desc)'!C63=\"\",\"\",2029)","v":""},{"$f":"IF('DC Power Distribution (Desc)'!C63=\"\",\"\",'DC Power Distribution (Desc)'!C63)","v":""},{"$f":"IF('DC Power Distribution (Desc)'!E63=\"\",\"\",'DC Power Distribution (Desc)'!E63)","v":""},{"$f":"IF('DC Power Distribution (Desc)'!F63=\"\",\"\",INDEX([1]ELECTRIC_DEV_MANUF!$A$2:$A$1500,MATCH(1,([1]ELECTRIC_DEV_MANUF!$B$2:$B$1500='DC Power Distribution (Desc)'!$F63)*([1]ELECTRIC_DEV_MANUF!$D$2:$D$1500=\"DCPWRDIS\"),0),0))","v":""},{"$f":"IF('DC Power Distribution (Desc)'!G63=\"\",\"\",INDEX([1]ELECTRIC_DEV_MODEL!$A$2:$A$1500,MATCH(1,([1]ELECTRIC_DEV_MODEL!$C$2:$C$1500='DC Power Distribution (Desc)'!$F63)*([1]ELECTRIC_DEV_MODEL!$D$2:$D$1500='DC Power Distribution (Desc)'!$G63)*([1]ELECTRIC_DEV_MODEL!$F$2:$F$1500=\"DCPWRDIS\"),0),0))","v":""},{"$f":"IF('DC Power Distribution (Desc)'!H63=\"\",\"\",'DC Power Distribution (Desc)'!H63)","v":""},{"$f":"IF('DC Power Distribution (Desc)'!I63=\"\",\"\",INDEX([1]YES_NO!$A$2:$A$100,MATCH('DC Power Distribution (Desc)'!$I63,[1]!MASTER_YES_NO_DESC[#Data],0),0))","v":""},{"$f":"IF('DC Power Distribution (Desc)'!J63=\"\",\"\",'DC Power Distribution (Desc)'!J63)","v":""},{"$f":"IF('DC Power Distribution (Desc)'!K63=\"\",\"\",'DC Power Distribution (Desc)'!K63)","v":""},{"$f":"IF('DC Power Distribution (Desc)'!L63=\"\",\"\",INDEX([1]YES_NO!$A$2:$A$100,MATCH('DC Power Distribution (Desc)'!$L63,[1]!MASTER_YES_NO_DESC[#Data],0),0))","v":""},{"$f":"IF('DC Power Distribution (Desc)'!M63=\"\",\"\",INDEX([1]DEV_INPUT_VOLTAGE!$A$2:$A$100,MATCH('DC Power Distribution (Desc)'!$M63,[1]!MASTER_DEV_INPUT_VOLTAGE_DESC[#Data],0),0))","v":""},{"$f":"IF('DC Power Distribution (Desc)'!N63=\"\",\"\",INDEX([1]DEV_OUTPUT_VOLTAGE!$A$2:$A$100,MATCH('DC Power Distribution (Desc)'!$N63,[1]!MASTER_DEV_INPUT_VOLTAGE_DESC[#Data],0),0))","v":""},{"$f":"IF('DC Power Distribution (Desc)'!O63=\"\",\"\",'DC Power Distribution (Desc)'!O63)","v":""},{"$f":"IF('DC Power Distribution (Desc)'!P63=\"\",\"\",'DC Power Distribution (Desc)'!P63)","v":""},{"$f":"IF('DC Power Distribution (Desc)'!Q63=\"\",\"\",'DC Power Distribution (Desc)'!Q63)","v":""},{"$f":"IF('DC Power Distribution (Desc)'!C63=\"\",\"\",\"NA\")","v":""}]
[{"$f":"IF('DC Power Distribution (Desc)'!A64=\"\",\"\",'DC Power Distribution (Desc)'!A64)","v":""},{"$f":"IF('DC Power Distribution (Desc)'!C64=\"\",\"\",2029)","v":""},{"$f":"IF('DC Power Distribution (Desc)'!C64=\"\",\"\",'DC Power Distribution (Desc)'!C64)","v":""},{"$f":"IF('DC Power Distribution (Desc)'!E64=\"\",\"\",'DC Power Distribution (Desc)'!E64)","v":""},{"$f":"IF('DC Power Distribution (Desc)'!F64=\"\",\"\",INDEX([1]ELECTRIC_DEV_MANUF!$A$2:$A$1500,MATCH(1,([1]ELECTRIC_DEV_MANUF!$B$2:$B$1500='DC Power Distribution (Desc)'!$F64)*([1]ELECTRIC_DEV_MANUF!$D$2:$D$1500=\"DCPWRDIS\"),0),0))","v":""},{"$f":"IF('DC Power Distribution (Desc)'!G64=\"\",\"\",INDEX([1]ELECTRIC_DEV_MODEL!$A$2:$A$1500,MATCH(1,([1]ELECTRIC_DEV_MODEL!$C$2:$C$1500='DC Power Distribution (Desc)'!$F64)*([1]ELECTRIC_DEV_MODEL!$D$2:$D$1500='DC Power Distribution (Desc)'!$G64)*([1]ELECTRIC_DEV_MODEL!$F$2:$F$1500=\"DCPWRDIS\"),0),0))","v":""},{"$f":"IF('DC Power Distribution (Desc)'!H64=\"\",\"\",'DC Power Distribution (Desc)'!H64)","v":""},{"$f":"IF('DC Power Distribution (Desc)'!I64=\"\",\"\",INDEX([1]YES_NO!$A$2:$A$100,MATCH('DC Power Distribution (Desc)'!$I64,[1]!MASTER_YES_NO_DESC[#Data],0),0))","v":""},{"$f":"IF('DC Power Distribution (Desc)'!J64=\"\",\"\",'DC Power Distribution (Desc)'!J64)","v":""},{"$f":"IF('DC Power Distribution (Desc)'!K64=\"\",\"\",'DC Power Distribution (Desc)'!K64)","v":""},{"$f":"IF('DC Power Distribution (Desc)'!L64=\"\",\"\",INDEX([1]YES_NO!$A$2:$A$100,MATCH('DC Power Distribution (Desc)'!$L64,[1]!MASTER_YES_NO_DESC[#Data],0),0))","v":""},{"$f":"IF('DC Power Distribution (Desc)'!M64=\"\",\"\",INDEX([1]DEV_INPUT_VOLTAGE!$A$2:$A$100,MATCH('DC Power Distribution (Desc)'!$M64,[1]!MASTER_DEV_INPUT_VOLTAGE_DESC[#Data],0),0))","v":""},{"$f":"IF('DC Power Distribution (Desc)'!N64=\"\",\"\",INDEX([1]DEV_OUTPUT_VOLTAGE!$A$2:$A$100,MATCH('DC Power Distribution (Desc)'!$N64,[1]!MASTER_DEV_INPUT_VOLTAGE_DESC[#Data],0),0))","v":""},{"$f":"IF('DC Power Distribution (Desc)'!O64=\"\",\"\",'DC Power Distribution (Desc)'!O64)","v":""},{"$f":"IF('DC Power Distribution (Desc)'!P64=\"\",\"\",'DC Power Distribution (Desc)'!P64)","v":""},{"$f":"IF('DC Power Distribution (Desc)'!Q64=\"\",\"\",'DC Power Distribution (Desc)'!Q64)","v":""},{"$f":"IF('DC Power Distribution (Desc)'!C64=\"\",\"\",\"NA\")","v":""}]
[{"$f":"IF('DC Power Distribution (Desc)'!A65=\"\",\"\",'DC Power Distribution (Desc)'!A65)","v":""},{"$f":"IF('DC Power Distribution (Desc)'!C65=\"\",\"\",2029)","v":""},{"$f":"IF('DC Power Distribution (Desc)'!C65=\"\",\"\",'DC Power Distribution (Desc)'!C65)","v":""},{"$f":"IF('DC Power Distribution (Desc)'!E65=\"\",\"\",'DC Power Distribution (Desc)'!E65)","v":""},{"$f":"IF('DC Power Distribution (Desc)'!F65=\"\",\"\",INDEX([1]ELECTRIC_DEV_MANUF!$A$2:$A$1500,MATCH(1,([1]ELECTRIC_DEV_MANUF!$B$2:$B$1500='DC Power Distribution (Desc)'!$F65)*([1]ELECTRIC_DEV_MANUF!$D$2:$D$1500=\"DCPWRDIS\"),0),0))","v":""},{"$f":"IF('DC Power Distribution (Desc)'!G65=\"\",\"\",INDEX([1]ELECTRIC_DEV_MODEL!$A$2:$A$1500,MATCH(1,([1]ELECTRIC_DEV_MODEL!$C$2:$C$1500='DC Power Distribution (Desc)'!$F65)*([1]ELECTRIC_DEV_MODEL!$D$2:$D$1500='DC Power Distribution (Desc)'!$G65)*([1]ELECTRIC_DEV_MODEL!$F$2:$F$1500=\"DCPWRDIS\"),0),0))","v":""},{"$f":"IF('DC Power Distribution (Desc)'!H65=\"\",\"\",'DC Power Distribution (Desc)'!H65)","v":""},{"$f":"IF('DC Power Distribution (Desc)'!I65=\"\",\"\",INDEX([1]YES_NO!$A$2:$A$100,MATCH('DC Power Distribution (Desc)'!$I65,[1]!MASTER_YES_NO_DESC[#Data],0),0))","v":""},{"$f":"IF('DC Power Distribution (Desc)'!J65=\"\",\"\",'DC Power Distribution (Desc)'!J65)","v":""},{"$f":"IF('DC Power Distribution (Desc)'!K65=\"\",\"\",'DC Power Distribution (Desc)'!K65)","v":""},{"$f":"IF('DC Power Distribution (Desc)'!L65=\"\",\"\",INDEX([1]YES_NO!$A$2:$A$100,MATCH('DC Power Distribution (Desc)'!$L65,[1]!MASTER_YES_NO_DESC[#Data],0),0))","v":""},{"$f":"IF('DC Power Distribution (Desc)'!M65=\"\",\"\",INDEX([1]DEV_INPUT_VOLTAGE!$A$2:$A$100,MATCH('DC Power Distribution (Desc)'!$M65,[1]!MASTER_DEV_INPUT_VOLTAGE_DESC[#Data],0),0))","v":""},{"$f":"IF('DC Power Distribution (Desc)'!N65=\"\",\"\",INDEX([1]DEV_OUTPUT_VOLTAGE!$A$2:$A$100,MATCH('DC Power Distribution (Desc)'!$N65,[1]!MASTER_DEV_INPUT_VOLTAGE_DESC[#Data],0),0))","v":""},{"$f":"IF('DC Power Distribution (Desc)'!O65=\"\",\"\",'DC Power Distribution (Desc)'!O65)","v":""},{"$f":"IF('DC Power Distribution (Desc)'!P65=\"\",\"\",'DC Power Distribution (Desc)'!P65)","v":""},{"$f":"IF('DC Power Distribution (Desc)'!Q65=\"\",\"\",'DC Power Distribution (Desc)'!Q65)","v":""},{"$f":"IF('DC Power Distribution (Desc)'!C65=\"\",\"\",\"NA\")","v":""}]
[{"$f":"IF('DC Power Distribution (Desc)'!A66=\"\",\"\",'DC Power Distribution (Desc)'!A66)","v":""},{"$f":"IF('DC Power Distribution (Desc)'!C66=\"\",\"\",2029)","v":""},{"$f":"IF('DC Power Distribution (Desc)'!C66=\"\",\"\",'DC Power Distribution (Desc)'!C66)","v":""},{"$f":"IF('DC Power Distribution (Desc)'!E66=\"\",\"\",'DC Power Distribution (Desc)'!E66)","v":""},{"$f":"IF('DC Power Distribution (Desc)'!F66=\"\",\"\",INDEX([1]ELECTRIC_DEV_MANUF!$A$2:$A$1500,MATCH(1,([1]ELECTRIC_DEV_MANUF!$B$2:$B$1500='DC Power Distribution (Desc)'!$F66)*([1]ELECTRIC_DEV_MANUF!$D$2:$D$1500=\"DCPWRDIS\"),0),0))","v":""},{"$f":"IF('DC Power Distribution (Desc)'!G66=\"\",\"\",INDEX([1]ELECTRIC_DEV_MODEL!$A$2:$A$1500,MATCH(1,([1]ELECTRIC_DEV_MODEL!$C$2:$C$1500='DC Power Distribution (Desc)'!$F66)*([1]ELECTRIC_DEV_MODEL!$D$2:$D$1500='DC Power Distribution (Desc)'!$G66)*([1]ELECTRIC_DEV_MODEL!$F$2:$F$1500=\"DCPWRDIS\"),0),0))","v":""},{"$f":"IF('DC Power Distribution (Desc)'!H66=\"\",\"\",'DC Power Distribution (Desc)'!H66)","v":""},{"$f":"IF('DC Power Distribution (Desc)'!I66=\"\",\"\",INDEX([1]YES_NO!$A$2:$A$100,MATCH('DC Power Distribution (Desc)'!$I66,[1]!MASTER_YES_NO_DESC[#Data],0),0))","v":""},{"$f":"IF('DC Power Distribution (Desc)'!J66=\"\",\"\",'DC Power Distribution (Desc)'!J66)","v":""},{"$f":"IF('DC Power Distribution (Desc)'!K66=\"\",\"\",'DC Power Distribution (Desc)'!K66)","v":""},{"$f":"IF('DC Power Distribution (Desc)'!L66=\"\",\"\",INDEX([1]YES_NO!$A$2:$A$100,MATCH('DC Power Distribution (Desc)'!$L66,[1]!MASTER_YES_NO_DESC[#Data],0),0))","v":""},{"$f":"IF('DC Power Distribution (Desc)'!M66=\"\",\"\",INDEX([1]DEV_INPUT_VOLTAGE!$A$2:$A$100,MATCH('DC Power Distribution (Desc)'!$M66,[1]!MASTER_DEV_INPUT_VOLTAGE_DESC[#Data],0),0))","v":""},{"$f":"IF('DC Power Distribution (Desc)'!N66=\"\",\"\",INDEX([1]DEV_OUTPUT_VOLTAGE!$A$2:$A$100,MATCH('DC Power Distribution (Desc)'!$N66,[1]!MASTER_DEV_INPUT_VOLTAGE_DESC[#Data],0),0))","v":""},{"$f":"IF('DC Power Distribution (Desc)'!O66=\"\",\"\",'DC Power Distribution (Desc)'!O66)","v":""},{"$f":"IF('DC Power Distribution (Desc)'!P66=\"\",\"\",'DC Power Distribution (Desc)'!P66)","v":""},{"$f":"IF('DC Power Distribution (Desc)'!Q66=\"\",\"\",'DC Power Distribution (Desc)'!Q66)","v":""},{"$f":"IF('DC Power Distribution (Desc)'!C66=\"\",\"\",\"NA\")","v":""}]
[{"$f":"IF('DC Power Distribution (Desc)'!A67=\"\",\"\",'DC Power Distribution (Desc)'!A67)","v":""},{"$f":"IF('DC Power Distribution (Desc)'!C67=\"\",\"\",2029)","v":""},{"$f":"IF('DC Power Distribution (Desc)'!C67=\"\",\"\",'DC Power Distribution (Desc)'!C67)","v":""},{"$f":"IF('DC Power Distribution (Desc)'!E67=\"\",\"\",'DC Power Distribution (Desc)'!E67)","v":""},{"$f":"IF('DC Power Distribution (Desc)'!F67=\"\",\"\",INDEX([1]ELECTRIC_DEV_MANUF!$A$2:$A$1500,MATCH(1,([1]ELECTRIC_DEV_MANUF!$B$2:$B$1500='DC Power Distribution (Desc)'!$F67)*([1]ELECTRIC_DEV_MANUF!$D$2:$D$1500=\"DCPWRDIS\"),0),0))","v":""},{"$f":"IF('DC Power Distribution (Desc)'!G67=\"\",\"\",INDEX([1]ELECTRIC_DEV_MODEL!$A$2:$A$1500,MATCH(1,([1]ELECTRIC_DEV_MODEL!$C$2:$C$1500='DC Power Distribution (Desc)'!$F67)*([1]ELECTRIC_DEV_MODEL!$D$2:$D$1500='DC Power Distribution (Desc)'!$G67)*([1]ELECTRIC_DEV_MODEL!$F$2:$F$1500=\"DCPWRDIS\"),0),0))","v":""},{"$f":"IF('DC Power Distribution (Desc)'!H67=\"\",\"\",'DC Power Distribution (Desc)'!H67)","v":""},{"$f":"IF('DC Power Distribution (Desc)'!I67=\"\",\"\",INDEX([1]YES_NO!$A$2:$A$100,MATCH('DC Power Distribution (Desc)'!$I67,[1]!MASTER_YES_NO_DESC[#Data],0),0))","v":""},{"$f":"IF('DC Power Distribution (Desc)'!J67=\"\",\"\",'DC Power Distribution (Desc)'!J67)","v":""},{"$f":"IF('DC Power Distribution (Desc)'!K67=\"\",\"\",'DC Power Distribution (Desc)'!K67)","v":""},{"$f":"IF('DC Power Distribution (Desc)'!L67=\"\",\"\",INDEX([1]YES_NO!$A$2:$A$100,MATCH('DC Power Distribution (Desc)'!$L67,[1]!MASTER_YES_NO_DESC[#Data],0),0))","v":""},{"$f":"IF('DC Power Distribution (Desc)'!M67=\"\",\"\",INDEX([1]DEV_INPUT_VOLTAGE!$A$2:$A$100,MATCH('DC Power Distribution (Desc)'!$M67,[1]!MASTER_DEV_INPUT_VOLTAGE_DESC[#Data],0),0))","v":""},{"$f":"IF('DC Power Distribution (Desc)'!N67=\"\",\"\",INDEX([1]DEV_OUTPUT_VOLTAGE!$A$2:$A$100,MATCH('DC Power Distribution (Desc)'!$N67,[1]!MASTER_DEV_INPUT_VOLTAGE_DESC[#Data],0),0))","v":""},{"$f":"IF('DC Power Distribution (Desc)'!O67=\"\",\"\",'DC Power Distribution (Desc)'!O67)","v":""},{"$f":"IF('DC Power Distribution (Desc)'!P67=\"\",\"\",'DC Power Distribution (Desc)'!P67)","v":""},{"$f":"IF('DC Power Distribution (Desc)'!Q67=\"\",\"\",'DC Power Distribution (Desc)'!Q67)","v":""},{"$f":"IF('DC Power Distribution (Desc)'!C67=\"\",\"\",\"NA\")","v":""}]
[{"$f":"IF('DC Power Distribution (Desc)'!A68=\"\",\"\",'DC Power Distribution (Desc)'!A68)","v":""},{"$f":"IF('DC Power Distribution (Desc)'!C68=\"\",\"\",2029)","v":""},{"$f":"IF('DC Power Distribution (Desc)'!C68=\"\",\"\",'DC Power Distribution (Desc)'!C68)","v":""},{"$f":"IF('DC Power Distribution (Desc)'!E68=\"\",\"\",'DC Power Distribution (Desc)'!E68)","v":""},{"$f":"IF('DC Power Distribution (Desc)'!F68=\"\",\"\",INDEX([1]ELECTRIC_DEV_MANUF!$A$2:$A$1500,MATCH(1,([1]ELECTRIC_DEV_MANUF!$B$2:$B$1500='DC Power Distribution (Desc)'!$F68)*([1]ELECTRIC_DEV_MANUF!$D$2:$D$1500=\"DCPWRDIS\"),0),0))","v":""},{"$f":"IF('DC Power Distribution (Desc)'!G68=\"\",\"\",INDEX([1]ELECTRIC_DEV_MODEL!$A$2:$A$1500,MATCH(1,([1]ELECTRIC_DEV_MODEL!$C$2:$C$1500='DC Power Distribution (Desc)'!$F68)*([1]ELECTRIC_DEV_MODEL!$D$2:$D$1500='DC Power Distribution (Desc)'!$G68)*([1]ELECTRIC_DEV_MODEL!$F$2:$F$1500=\"DCPWRDIS\"),0),0))","v":""},{"$f":"IF('DC Power Distribution (Desc)'!H68=\"\",\"\",'DC Power Distribution (Desc)'!H68)","v":""},{"$f":"IF('DC Power Distribution (Desc)'!I68=\"\",\"\",INDEX([1]YES_NO!$A$2:$A$100,MATCH('DC Power Distribution (Desc)'!$I68,[1]!MASTER_YES_NO_DESC[#Data],0),0))","v":""},{"$f":"IF('DC Power Distribution (Desc)'!J68=\"\",\"\",'DC Power Distribution (Desc)'!J68)","v":""},{"$f":"IF('DC Power Distribution (Desc)'!K68=\"\",\"\",'DC Power Distribution (Desc)'!K68)","v":""},{"$f":"IF('DC Power Distribution (Desc)'!L68=\"\",\"\",INDEX([1]YES_NO!$A$2:$A$100,MATCH('DC Power Distribution (Desc)'!$L68,[1]!MASTER_YES_NO_DESC[#Data],0),0))","v":""},{"$f":"IF('DC Power Distribution (Desc)'!M68=\"\",\"\",INDEX([1]DEV_INPUT_VOLTAGE!$A$2:$A$100,MATCH('DC Power Distribution (Desc)'!$M68,[1]!MASTER_DEV_INPUT_VOLTAGE_DESC[#Data],0),0))","v":""},{"$f":"IF('DC Power Distribution (Desc)'!N68=\"\",\"\",INDEX([1]DEV_OUTPUT_VOLTAGE!$A$2:$A$100,MATCH('DC Power Distribution (Desc)'!$N68,[1]!MASTER_DEV_INPUT_VOLTAGE_DESC[#Data],0),0))","v":""},{"$f":"IF('DC Power Distribution (Desc)'!O68=\"\",\"\",'DC Power Distribution (Desc)'!O68)","v":""},{"$f":"IF('DC Power Distribution (Desc)'!P68=\"\",\"\",'DC Power Distribution (Desc)'!P68)","v":""},{"$f":"IF('DC Power Distribution (Desc)'!Q68=\"\",\"\",'DC Power Distribution (Desc)'!Q68)","v":""},{"$f":"IF('DC Power Distribution (Desc)'!C68=\"\",\"\",\"NA\")","v":""}]
[{"$f":"IF('DC Power Distribution (Desc)'!A69=\"\",\"\",'DC Power Distribution (Desc)'!A69)","v":""},{"$f":"IF('DC Power Distribution (Desc)'!C69=\"\",\"\",2029)","v":""},{"$f":"IF('DC Power Distribution (Desc)'!C69=\"\",\"\",'DC Power Distribution (Desc)'!C69)","v":""},{"$f":"IF('DC Power Distribution (Desc)'!E69=\"\",\"\",'DC Power Distribution (Desc)'!E69)","v":""},{"$f":"IF('DC Power Distribution (Desc)'!F69=\"\",\"\",INDEX([1]ELECTRIC_DEV_MANUF!$A$2:$A$1500,MATCH(1,([1]ELECTRIC_DEV_MANUF!$B$2:$B$1500='DC Power Distribution (Desc)'!$F69)*([1]ELECTRIC_DEV_MANUF!$D$2:$D$1500=\"DCPWRDIS\"),0),0))","v":""},{"$f":"IF('DC Power Distribution (Desc)'!G69=\"\",\"\",INDEX([1]ELECTRIC_DEV_MODEL!$A$2:$A$1500,MATCH(1,([1]ELECTRIC_DEV_MODEL!$C$2:$C$1500='DC Power Distribution (Desc)'!$F69)*([1]ELECTRIC_DEV_MODEL!$D$2:$D$1500='DC Power Distribution (Desc)'!$G69)*([1]ELECTRIC_DEV_MODEL!$F$2:$F$1500=\"DCPWRDIS\"),0),0))","v":""},{"$f":"IF('DC Power Distribution (Desc)'!H69=\"\",\"\",'DC Power Distribution (Desc)'!H69)","v":""},{"$f":"IF('DC Power Distribution (Desc)'!I69=\"\",\"\",INDEX([1]YES_NO!$A$2:$A$100,MATCH('DC Power Distribution (Desc)'!$I69,[1]!MASTER_YES_NO_DESC[#Data],0),0))","v":""},{"$f":"IF('DC Power Distribution (Desc)'!J69=\"\",\"\",'DC Power Distribution (Desc)'!J69)","v":""},{"$f":"IF('DC Power Distribution (Desc)'!K69=\"\",\"\",'DC Power Distribution (Desc)'!K69)","v":""},{"$f":"IF('DC Power Distribution (Desc)'!L69=\"\",\"\",INDEX([1]YES_NO!$A$2:$A$100,MATCH('DC Power Distribution (Desc)'!$L69,[1]!MASTER_YES_NO_DESC[#Data],0),0))","v":""},{"$f":"IF('DC Power Distribution (Desc)'!M69=\"\",\"\",INDEX([1]DEV_INPUT_VOLTAGE!$A$2:$A$100,MATCH('DC Power Distribution (Desc)'!$M69,[1]!MASTER_DEV_INPUT_VOLTAGE_DESC[#Data],0),0))","v":""},{"$f":"IF('DC Power Distribution (Desc)'!N69=\"\",\"\",INDEX([1]DEV_OUTPUT_VOLTAGE!$A$2:$A$100,MATCH('DC Power Distribution (Desc)'!$N69,[1]!MASTER_DEV_INPUT_VOLTAGE_DESC[#Data],0),0))","v":""},{"$f":"IF('DC Power Distribution (Desc)'!O69=\"\",\"\",'DC Power Distribution (Desc)'!O69)","v":""},{"$f":"IF('DC Power Distribution (Desc)'!P69=\"\",\"\",'DC Power Distribution (Desc)'!P69)","v":""},{"$f":"IF('DC Power Distribution (Desc)'!Q69=\"\",\"\",'DC Power Distribution (Desc)'!Q69)","v":""},{"$f":"IF('DC Power Distribution (Desc)'!C69=\"\",\"\",\"NA\")","v":""}]
[{"$f":"IF('DC Power Distribution (Desc)'!A70=\"\",\"\",'DC Power Distribution (Desc)'!A70)","v":""},{"$f":"IF('DC Power Distribution (Desc)'!C70=\"\",\"\",2029)","v":""},{"$f":"IF('DC Power Distribution (Desc)'!C70=\"\",\"\",'DC Power Distribution (Desc)'!C70)","v":""},{"$f":"IF('DC Power Distribution (Desc)'!E70=\"\",\"\",'DC Power Distribution (Desc)'!E70)","v":""},{"$f":"IF('DC Power Distribution (Desc)'!F70=\"\",\"\",INDEX([1]ELECTRIC_DEV_MANUF!$A$2:$A$1500,MATCH(1,([1]ELECTRIC_DEV_MANUF!$B$2:$B$1500='DC Power Distribution (Desc)'!$F70)*([1]ELECTRIC_DEV_MANUF!$D$2:$D$1500=\"DCPWRDIS\"),0),0))","v":""},{"$f":"IF('DC Power Distribution (Desc)'!G70=\"\",\"\",INDEX([1]ELECTRIC_DEV_MODEL!$A$2:$A$1500,MATCH(1,([1]ELECTRIC_DEV_MODEL!$C$2:$C$1500='DC Power Distribution (Desc)'!$F70)*([1]ELECTRIC_DEV_MODEL!$D$2:$D$1500='DC Power Distribution (Desc)'!$G70)*([1]ELECTRIC_DEV_MODEL!$F$2:$F$1500=\"DCPWRDIS\"),0),0))","v":""},{"$f":"IF('DC Power Distribution (Desc)'!H70=\"\",\"\",'DC Power Distribution (Desc)'!H70)","v":""},{"$f":"IF('DC Power Distribution (Desc)'!I70=\"\",\"\",INDEX([1]YES_NO!$A$2:$A$100,MATCH('DC Power Distribution (Desc)'!$I70,[1]!MASTER_YES_NO_DESC[#Data],0),0))","v":""},{"$f":"IF('DC Power Distribution (Desc)'!J70=\"\",\"\",'DC Power Distribution (Desc)'!J70)","v":""},{"$f":"IF('DC Power Distribution (Desc)'!K70=\"\",\"\",'DC Power Distribution (Desc)'!K70)","v":""},{"$f":"IF('DC Power Distribution (Desc)'!L70=\"\",\"\",INDEX([1]YES_NO!$A$2:$A$100,MATCH('DC Power Distribution (Desc)'!$L70,[1]!MASTER_YES_NO_DESC[#Data],0),0))","v":""},{"$f":"IF('DC Power Distribution (Desc)'!M70=\"\",\"\",INDEX([1]DEV_INPUT_VOLTAGE!$A$2:$A$100,MATCH('DC Power Distribution (Desc)'!$M70,[1]!MASTER_DEV_INPUT_VOLTAGE_DESC[#Data],0),0))","v":""},{"$f":"IF('DC Power Distribution (Desc)'!N70=\"\",\"\",INDEX([1]DEV_OUTPUT_VOLTAGE!$A$2:$A$100,MATCH('DC Power Distribution (Desc)'!$N70,[1]!MASTER_DEV_INPUT_VOLTAGE_DESC[#Data],0),0))","v":""},{"$f":"IF('DC Power Distribution (Desc)'!O70=\"\",\"\",'DC Power Distribution (Desc)'!O70)","v":""},{"$f":"IF('DC Power Distribution (Desc)'!P70=\"\",\"\",'DC Power Distribution (Desc)'!P70)","v":""},{"$f":"IF('DC Power Distribution (Desc)'!Q70=\"\",\"\",'DC Power Distribution (Desc)'!Q70)","v":""},{"$f":"IF('DC Power Distribution (Desc)'!C70=\"\",\"\",\"NA\")","v":""}]
[{"$f":"IF('DC Power Distribution (Desc)'!A71=\"\",\"\",'DC Power Distribution (Desc)'!A71)","v":""},{"$f":"IF('DC Power Distribution (Desc)'!C71=\"\",\"\",2029)","v":""},{"$f":"IF('DC Power Distribution (Desc)'!C71=\"\",\"\",'DC Power Distribution (Desc)'!C71)","v":""},{"$f":"IF('DC Power Distribution (Desc)'!E71=\"\",\"\",'DC Power Distribution (Desc)'!E71)","v":""},{"$f":"IF('DC Power Distribution (Desc)'!F71=\"\",\"\",INDEX([1]ELECTRIC_DEV_MANUF!$A$2:$A$1500,MATCH(1,([1]ELECTRIC_DEV_MANUF!$B$2:$B$1500='DC Power Distribution (Desc)'!$F71)*([1]ELECTRIC_DEV_MANUF!$D$2:$D$1500=\"DCPWRDIS\"),0),0))","v":""},{"$f":"IF('DC Power Distribution (Desc)'!G71=\"\",\"\",INDEX([1]ELECTRIC_DEV_MODEL!$A$2:$A$1500,MATCH(1,([1]ELECTRIC_DEV_MODEL!$C$2:$C$1500='DC Power Distribution (Desc)'!$F71)*([1]ELECTRIC_DEV_MODEL!$D$2:$D$1500='DC Power Distribution (Desc)'!$G71)*([1]ELECTRIC_DEV_MODEL!$F$2:$F$1500=\"DCPWRDIS\"),0),0))","v":""},{"$f":"IF('DC Power Distribution (Desc)'!H71=\"\",\"\",'DC Power Distribution (Desc)'!H71)","v":""},{"$f":"IF('DC Power Distribution (Desc)'!I71=\"\",\"\",INDEX([1]YES_NO!$A$2:$A$100,MATCH('DC Power Distribution (Desc)'!$I71,[1]!MASTER_YES_NO_DESC[#Data],0),0))","v":""},{"$f":"IF('DC Power Distribution (Desc)'!J71=\"\",\"\",'DC Power Distribution (Desc)'!J71)","v":""},{"$f":"IF('DC Power Distribution (Desc)'!K71=\"\",\"\",'DC Power Distribution (Desc)'!K71)","v":""},{"$f":"IF('DC Power Distribution (Desc)'!L71=\"\",\"\",INDEX([1]YES_NO!$A$2:$A$100,MATCH('DC Power Distribution (Desc)'!$L71,[1]!MASTER_YES_NO_DESC[#Data],0),0))","v":""},{"$f":"IF('DC Power Distribution (Desc)'!M71=\"\",\"\",INDEX([1]DEV_INPUT_VOLTAGE!$A$2:$A$100,MATCH('DC Power Distribution (Desc)'!$M71,[1]!MASTER_DEV_INPUT_VOLTAGE_DESC[#Data],0),0))","v":""},{"$f":"IF('DC Power Distribution (Desc)'!N71=\"\",\"\",INDEX([1]DEV_OUTPUT_VOLTAGE!$A$2:$A$100,MATCH('DC Power Distribution (Desc)'!$N71,[1]!MASTER_DEV_INPUT_VOLTAGE_DESC[#Data],0),0))","v":""},{"$f":"IF('DC Power Distribution (Desc)'!O71=\"\",\"\",'DC Power Distribution (Desc)'!O71)","v":""},{"$f":"IF('DC Power Distribution (Desc)'!P71=\"\",\"\",'DC Power Distribution (Desc)'!P71)","v":""},{"$f":"IF('DC Power Distribution (Desc)'!Q71=\"\",\"\",'DC Power Distribution (Desc)'!Q71)","v":""},{"$f":"IF('DC Power Distribution (Desc)'!C71=\"\",\"\",\"NA\")","v":""}]
[{"$f":"IF('DC Power Distribution (Desc)'!A72=\"\",\"\",'DC Power Distribution (Desc)'!A72)","v":""},{"$f":"IF('DC Power Distribution (Desc)'!C72=\"\",\"\",2029)","v":""},{"$f":"IF('DC Power Distribution (Desc)'!C72=\"\",\"\",'DC Power Distribution (Desc)'!C72)","v":""},{"$f":"IF('DC Power Distribution (Desc)'!E72=\"\",\"\",'DC Power Distribution (Desc)'!E72)","v":""},{"$f":"IF('DC Power Distribution (Desc)'!F72=\"\",\"\",INDEX([1]ELECTRIC_DEV_MANUF!$A$2:$A$1500,MATCH(1,([1]ELECTRIC_DEV_MANUF!$B$2:$B$1500='DC Power Distribution (Desc)'!$F72)*([1]ELECTRIC_DEV_MANUF!$D$2:$D$1500=\"DCPWRDIS\"),0),0))","v":""},{"$f":"IF('DC Power Distribution (Desc)'!G72=\"\",\"\",INDEX([1]ELECTRIC_DEV_MODEL!$A$2:$A$1500,MATCH(1,([1]ELECTRIC_DEV_MODEL!$C$2:$C$1500='DC Power Distribution (Desc)'!$F72)*([1]ELECTRIC_DEV_MODEL!$D$2:$D$1500='DC Power Distribution (Desc)'!$G72)*([1]ELECTRIC_DEV_MODEL!$F$2:$F$1500=\"DCPWRDIS\"),0),0))","v":""},{"$f":"IF('DC Power Distribution (Desc)'!H72=\"\",\"\",'DC Power Distribution (Desc)'!H72)","v":""},{"$f":"IF('DC Power Distribution (Desc)'!I72=\"\",\"\",INDEX([1]YES_NO!$A$2:$A$100,MATCH('DC Power Distribution (Desc)'!$I72,[1]!MASTER_YES_NO_DESC[#Data],0),0))","v":""},{"$f":"IF('DC Power Distribution (Desc)'!J72=\"\",\"\",'DC Power Distribution (Desc)'!J72)","v":""},{"$f":"IF('DC Power Distribution (Desc)'!K72=\"\",\"\",'DC Power Distribution (Desc)'!K72)","v":""},{"$f":"IF('DC Power Distribution (Desc)'!L72=\"\",\"\",INDEX([1]YES_NO!$A$2:$A$100,MATCH('DC Power Distribution (Desc)'!$L72,[1]!MASTER_YES_NO_DESC[#Data],0),0))","v":""},{"$f":"IF('DC Power Distribution (Desc)'!M72=\"\",\"\",INDEX([1]DEV_INPUT_VOLTAGE!$A$2:$A$100,MATCH('DC Power Distribution (Desc)'!$M72,[1]!MASTER_DEV_INPUT_VOLTAGE_DESC[#Data],0),0))","v":""},{"$f":"IF('DC Power Distribution (Desc)'!N72=\"\",\"\",INDEX([1]DEV_OUTPUT_VOLTAGE!$A$2:$A$100,MATCH('DC Power Distribution (Desc)'!$N72,[1]!MASTER_DEV_INPUT_VOLTAGE_DESC[#Data],0),0))","v":""},{"$f":"IF('DC Power Distribution (Desc)'!O72=\"\",\"\",'DC Power Distribution (Desc)'!O72)","v":""},{"$f":"IF('DC Power Distribution (Desc)'!P72=\"\",\"\",'DC Power Distribution (Desc)'!P72)","v":""},{"$f":"IF('DC Power Distribution (Desc)'!Q72=\"\",\"\",'DC Power Distribution (Desc)'!Q72)","v":""},{"$f":"IF('DC Power Distribution (Desc)'!C72=\"\",\"\",\"NA\")","v":""}]
[{"$f":"IF('DC Power Distribution (Desc)'!A73=\"\",\"\",'DC Power Distribution (Desc)'!A73)","v":""},{"$f":"IF('DC Power Distribution (Desc)'!C73=\"\",\"\",2029)","v":""},{"$f":"IF('DC Power Distribution (Desc)'!C73=\"\",\"\",'DC Power Distribution (Desc)'!C73)","v":""},{"$f":"IF('DC Power Distribution (Desc)'!E73=\"\",\"\",'DC Power Distribution (Desc)'!E73)","v":""},{"$f":"IF('DC Power Distribution (Desc)'!F73=\"\",\"\",INDEX([1]ELECTRIC_DEV_MANUF!$A$2:$A$1500,MATCH(1,([1]ELECTRIC_DEV_MANUF!$B$2:$B$1500='DC Power Distribution (Desc)'!$F73)*([1]ELECTRIC_DEV_MANUF!$D$2:$D$1500=\"DCPWRDIS\"),0),0))","v":""},{"$f":"IF('DC Power Distribution (Desc)'!G73=\"\",\"\",INDEX([1]ELECTRIC_DEV_MODEL!$A$2:$A$1500,MATCH(1,([1]ELECTRIC_DEV_MODEL!$C$2:$C$1500='DC Power Distribution (Desc)'!$F73)*([1]ELECTRIC_DEV_MODEL!$D$2:$D$1500='DC Power Distribution (Desc)'!$G73)*([1]ELECTRIC_DEV_MODEL!$F$2:$F$1500=\"DCPWRDIS\"),0),0))","v":""},{"$f":"IF('DC Power Distribution (Desc)'!H73=\"\",\"\",'DC Power Distribution (Desc)'!H73)","v":""},{"$f":"IF('DC Power Distribution (Desc)'!I73=\"\",\"\",INDEX([1]YES_NO!$A$2:$A$100,MATCH('DC Power Distribution (Desc)'!$I73,[1]!MASTER_YES_NO_DESC[#Data],0),0))","v":""},{"$f":"IF('DC Power Distribution (Desc)'!J73=\"\",\"\",'DC Power Distribution (Desc)'!J73)","v":""},{"$f":"IF('DC Power Distribution (Desc)'!K73=\"\",\"\",'DC Power Distribution (Desc)'!K73)","v":""},{"$f":"IF('DC Power Distribution (Desc)'!L73=\"\",\"\",INDEX([1]YES_NO!$A$2:$A$100,MATCH('DC Power Distribution (Desc)'!$L73,[1]!MASTER_YES_NO_DESC[#Data],0),0))","v":""},{"$f":"IF('DC Power Distribution (Desc)'!M73=\"\",\"\",INDEX([1]DEV_INPUT_VOLTAGE!$A$2:$A$100,MATCH('DC Power Distribution (Desc)'!$M73,[1]!MASTER_DEV_INPUT_VOLTAGE_DESC[#Data],0),0))","v":""},{"$f":"IF('DC Power Distribution (Desc)'!N73=\"\",\"\",INDEX([1]DEV_OUTPUT_VOLTAGE!$A$2:$A$100,MATCH('DC Power Distribution (Desc)'!$N73,[1]!MASTER_DEV_INPUT_VOLTAGE_DESC[#Data],0),0))","v":""},{"$f":"IF('DC Power Distribution (Desc)'!O73=\"\",\"\",'DC Power Distribution (Desc)'!O73)","v":""},{"$f":"IF('DC Power Distribution (Desc)'!P73=\"\",\"\",'DC Power Distribution (Desc)'!P73)","v":""},{"$f":"IF('DC Power Distribution (Desc)'!Q73=\"\",\"\",'DC Power Distribution (Desc)'!Q73)","v":""},{"$f":"IF('DC Power Distribution (Desc)'!C73=\"\",\"\",\"NA\")","v":""}]
[{"$f":"IF('DC Power Distribution (Desc)'!A74=\"\",\"\",'DC Power Distribution (Desc)'!A74)","v":""},{"$f":"IF('DC Power Distribution (Desc)'!C74=\"\",\"\",2029)","v":""},{"$f":"IF('DC Power Distribution (Desc)'!C74=\"\",\"\",'DC Power Distribution (Desc)'!C74)","v":""},{"$f":"IF('DC Power Distribution (Desc)'!E74=\"\",\"\",'DC Power Distribution (Desc)'!E74)","v":""},{"$f":"IF('DC Power Distribution (Desc)'!F74=\"\",\"\",INDEX([1]ELECTRIC_DEV_MANUF!$A$2:$A$1500,MATCH(1,([1]ELECTRIC_DEV_MANUF!$B$2:$B$1500='DC Power Distribution (Desc)'!$F74)*([1]ELECTRIC_DEV_MANUF!$D$2:$D$1500=\"DCPWRDIS\"),0),0))","v":""},{"$f":"IF('DC Power Distribution (Desc)'!G74=\"\",\"\",INDEX([1]ELECTRIC_DEV_MODEL!$A$2:$A$1500,MATCH(1,([1]ELECTRIC_DEV_MODEL!$C$2:$C$1500='DC Power Distribution (Desc)'!$F74)*([1]ELECTRIC_DEV_MODEL!$D$2:$D$1500='DC Power Distribution (Desc)'!$G74)*([1]ELECTRIC_DEV_MODEL!$F$2:$F$1500=\"DCPWRDIS\"),0),0))","v":""},{"$f":"IF('DC Power Distribution (Desc)'!H74=\"\",\"\",'DC Power Distribution (Desc)'!H74)","v":""},{"$f":"IF('DC Power Distribution (Desc)'!I74=\"\",\"\",INDEX([1]YES_NO!$A$2:$A$100,MATCH('DC Power Distribution (Desc)'!$I74,[1]!MASTER_YES_NO_DESC[#Data],0),0))","v":""},{"$f":"IF('DC Power Distribution (Desc)'!J74=\"\",\"\",'DC Power Distribution (Desc)'!J74)","v":""},{"$f":"IF('DC Power Distribution (Desc)'!K74=\"\",\"\",'DC Power Distribution (Desc)'!K74)","v":""},{"$f":"IF('DC Power Distribution (Desc)'!L74=\"\",\"\",INDEX([1]YES_NO!$A$2:$A$100,MATCH('DC Power Distribution (Desc)'!$L74,[1]!MASTER_YES_NO_DESC[#Data],0),0))","v":""},{"$f":"IF('DC Power Distribution (Desc)'!M74=\"\",\"\",INDEX([1]DEV_INPUT_VOLTAGE!$A$2:$A$100,MATCH('DC Power Distribution (Desc)'!$M74,[1]!MASTER_DEV_INPUT_VOLTAGE_DESC[#Data],0),0))","v":""},{"$f":"IF('DC Power Distribution (Desc)'!N74=\"\",\"\",INDEX([1]DEV_OUTPUT_VOLTAGE!$A$2:$A$100,MATCH('DC Power Distribution (Desc)'!$N74,[1]!MASTER_DEV_INPUT_VOLTAGE_DESC[#Data],0),0))","v":""},{"$f":"IF('DC Power Distribution (Desc)'!O74=\"\",\"\",'DC Power Distribution (Desc)'!O74)","v":""},{"$f":"IF('DC Power Distribution (Desc)'!P74=\"\",\"\",'DC Power Distribution (Desc)'!P74)","v":""},{"$f":"IF('DC Power Distribution (Desc)'!Q74=\"\",\"\",'DC Power Distribution (Desc)'!Q74)","v":""},{"$f":"IF('DC Power Distribution (Desc)'!C74=\"\",\"\",\"NA\")","v":""}]
[{"$f":"IF('DC Power Distribution (Desc)'!A75=\"\",\"\",'DC Power Distribution (Desc)'!A75)","v":""},{"$f":"IF('DC Power Distribution (Desc)'!C75=\"\",\"\",2029)","v":""},{"$f":"IF('DC Power Distribution (Desc)'!C75=\"\",\"\",'DC Power Distribution (Desc)'!C75)","v":""},{"$f":"IF('DC Power Distribution (Desc)'!E75=\"\",\"\",'DC Power Distribution (Desc)'!E75)","v":""},{"$f":"IF('DC Power Distribution (Desc)'!F75=\"\",\"\",INDEX([1]ELECTRIC_DEV_MANUF!$A$2:$A$1500,MATCH(1,([1]ELECTRIC_DEV_MANUF!$B$2:$B$1500='DC Power Distribution (Desc)'!$F75)*([1]ELECTRIC_DEV_MANUF!$D$2:$D$1500=\"DCPWRDIS\"),0),0))","v":""},{"$f":"IF('DC Power Distribution (Desc)'!G75=\"\",\"\",INDEX([1]ELECTRIC_DEV_MODEL!$A$2:$A$1500,MATCH(1,([1]ELECTRIC_DEV_MODEL!$C$2:$C$1500='DC Power Distribution (Desc)'!$F75)*([1]ELECTRIC_DEV_MODEL!$D$2:$D$1500='DC Power Distribution (Desc)'!$G75)*([1]ELECTRIC_DEV_MODEL!$F$2:$F$1500=\"DCPWRDIS\"),0),0))","v":""},{"$f":"IF('DC Power Distribution (Desc)'!H75=\"\",\"\",'DC Power Distribution (Desc)'!H75)","v":""},{"$f":"IF('DC Power Distribution (Desc)'!I75=\"\",\"\",INDEX([1]YES_NO!$A$2:$A$100,MATCH('DC Power Distribution (Desc)'!$I75,[1]!MASTER_YES_NO_DESC[#Data],0),0))","v":""},{"$f":"IF('DC Power Distribution (Desc)'!J75=\"\",\"\",'DC Power Distribution (Desc)'!J75)","v":""},{"$f":"IF('DC Power Distribution (Desc)'!K75=\"\",\"\",'DC Power Distribution (Desc)'!K75)","v":""},{"$f":"IF('DC Power Distribution (Desc)'!L75=\"\",\"\",INDEX([1]YES_NO!$A$2:$A$100,MATCH('DC Power Distribution (Desc)'!$L75,[1]!MASTER_YES_NO_DESC[#Data],0),0))","v":""},{"$f":"IF('DC Power Distribution (Desc)'!M75=\"\",\"\",INDEX([1]DEV_INPUT_VOLTAGE!$A$2:$A$100,MATCH('DC Power Distribution (Desc)'!$M75,[1]!MASTER_DEV_INPUT_VOLTAGE_DESC[#Data],0),0))","v":""},{"$f":"IF('DC Power Distribution (Desc)'!N75=\"\",\"\",INDEX([1]DEV_OUTPUT_VOLTAGE!$A$2:$A$100,MATCH('DC Power Distribution (Desc)'!$N75,[1]!MASTER_DEV_INPUT_VOLTAGE_DESC[#Data],0),0))","v":""},{"$f":"IF('DC Power Distribution (Desc)'!O75=\"\",\"\",'DC Power Distribution (Desc)'!O75)","v":""},{"$f":"IF('DC Power Distribution (Desc)'!P75=\"\",\"\",'DC Power Distribution (Desc)'!P75)","v":""},{"$f":"IF('DC Power Distribution (Desc)'!Q75=\"\",\"\",'DC Power Distribution (Desc)'!Q75)","v":""},{"$f":"IF('DC Power Distribution (Desc)'!C75=\"\",\"\",\"NA\")","v":""}]
[{"$f":"IF('DC Power Distribution (Desc)'!A76=\"\",\"\",'DC Power Distribution (Desc)'!A76)","v":""},{"$f":"IF('DC Power Distribution (Desc)'!C76=\"\",\"\",2029)","v":""},{"$f":"IF('DC Power Distribution (Desc)'!C76=\"\",\"\",'DC Power Distribution (Desc)'!C76)","v":""},{"$f":"IF('DC Power Distribution (Desc)'!E76=\"\",\"\",'DC Power Distribution (Desc)'!E76)","v":""},{"$f":"IF('DC Power Distribution (Desc)'!F76=\"\",\"\",INDEX([1]ELECTRIC_DEV_MANUF!$A$2:$A$1500,MATCH(1,([1]ELECTRIC_DEV_MANUF!$B$2:$B$1500='DC Power Distribution (Desc)'!$F76)*([1]ELECTRIC_DEV_MANUF!$D$2:$D$1500=\"DCPWRDIS\"),0),0))","v":""},{"$f":"IF('DC Power Distribution (Desc)'!G76=\"\",\"\",INDEX([1]ELECTRIC_DEV_MODEL!$A$2:$A$1500,MATCH(1,([1]ELECTRIC_DEV_MODEL!$C$2:$C$1500='DC Power Distribution (Desc)'!$F76)*([1]ELECTRIC_DEV_MODEL!$D$2:$D$1500='DC Power Distribution (Desc)'!$G76)*([1]ELECTRIC_DEV_MODEL!$F$2:$F$1500=\"DCPWRDIS\"),0),0))","v":""},{"$f":"IF('DC Power Distribution (Desc)'!H76=\"\",\"\",'DC Power Distribution (Desc)'!H76)","v":""},{"$f":"IF('DC Power Distribution (Desc)'!I76=\"\",\"\",INDEX([1]YES_NO!$A$2:$A$100,MATCH('DC Power Distribution (Desc)'!$I76,[1]!MASTER_YES_NO_DESC[#Data],0),0))","v":""},{"$f":"IF('DC Power Distribution (Desc)'!J76=\"\",\"\",'DC Power Distribution (Desc)'!J76)","v":""},{"$f":"IF('DC Power Distribution (Desc)'!K76=\"\",\"\",'DC Power Distribution (Desc)'!K76)","v":""},{"$f":"IF('DC Power Distribution (Desc)'!L76=\"\",\"\",INDEX([1]YES_NO!$A$2:$A$100,MATCH('DC Power Distribution (Desc)'!$L76,[1]!MASTER_YES_NO_DESC[#Data],0),0))","v":""},{"$f":"IF('DC Power Distribution (Desc)'!M76=\"\",\"\",INDEX([1]DEV_INPUT_VOLTAGE!$A$2:$A$100,MATCH('DC Power Distribution (Desc)'!$M76,[1]!MASTER_DEV_INPUT_VOLTAGE_DESC[#Data],0),0))","v":""},{"$f":"IF('DC Power Distribution (Desc)'!N76=\"\",\"\",INDEX([1]DEV_OUTPUT_VOLTAGE!$A$2:$A$100,MATCH('DC Power Distribution (Desc)'!$N76,[1]!MASTER_DEV_INPUT_VOLTAGE_DESC[#Data],0),0))","v":""},{"$f":"IF('DC Power Distribution (Desc)'!O76=\"\",\"\",'DC Power Distribution (Desc)'!O76)","v":""},{"$f":"IF('DC Power Distribution (Desc)'!P76=\"\",\"\",'DC Power Distribution (Desc)'!P76)","v":""},{"$f":"IF('DC Power Distribution (Desc)'!Q76=\"\",\"\",'DC Power Distribution (Desc)'!Q76)","v":""},{"$f":"IF('DC Power Distribution (Desc)'!C76=\"\",\"\",\"NA\")","v":""}]
[{"$f":"IF('DC Power Distribution (Desc)'!A77=\"\",\"\",'DC Power Distribution (Desc)'!A77)","v":""},{"$f":"IF('DC Power Distribution (Desc)'!C77=\"\",\"\",2029)","v":""},{"$f":"IF('DC Power Distribution (Desc)'!C77=\"\",\"\",'DC Power Distribution (Desc)'!C77)","v":""},{"$f":"IF('DC Power Distribution (Desc)'!E77=\"\",\"\",'DC Power Distribution (Desc)'!E77)","v":""},{"$f":"IF('DC Power Distribution (Desc)'!F77=\"\",\"\",INDEX([1]ELECTRIC_DEV_MANUF!$A$2:$A$1500,MATCH(1,([1]ELECTRIC_DEV_MANUF!$B$2:$B$1500='DC Power Distribution (Desc)'!$F77)*([1]ELECTRIC_DEV_MANUF!$D$2:$D$1500=\"DCPWRDIS\"),0),0))","v":""},{"$f":"IF('DC Power Distribution (Desc)'!G77=\"\",\"\",INDEX([1]ELECTRIC_DEV_MODEL!$A$2:$A$1500,MATCH(1,([1]ELECTRIC_DEV_MODEL!$C$2:$C$1500='DC Power Distribution (Desc)'!$F77)*([1]ELECTRIC_DEV_MODEL!$D$2:$D$1500='DC Power Distribution (Desc)'!$G77)*([1]ELECTRIC_DEV_MODEL!$F$2:$F$1500=\"DCPWRDIS\"),0),0))","v":""},{"$f":"IF('DC Power Distribution (Desc)'!H77=\"\",\"\",'DC Power Distribution (Desc)'!H77)","v":""},{"$f":"IF('DC Power Distribution (Desc)'!I77=\"\",\"\",INDEX([1]YES_NO!$A$2:$A$100,MATCH('DC Power Distribution (Desc)'!$I77,[1]!MASTER_YES_NO_DESC[#Data],0),0))","v":""},{"$f":"IF('DC Power Distribution (Desc)'!J77=\"\",\"\",'DC Power Distribution (Desc)'!J77)","v":""},{"$f":"IF('DC Power Distribution (Desc)'!K77=\"\",\"\",'DC Power Distribution (Desc)'!K77)","v":""},{"$f":"IF('DC Power Distribution (Desc)'!L77=\"\",\"\",INDEX([1]YES_NO!$A$2:$A$100,MATCH('DC Power Distribution (Desc)'!$L77,[1]!MASTER_YES_NO_DESC[#Data],0),0))","v":""},{"$f":"IF('DC Power Distribution (Desc)'!M77=\"\",\"\",INDEX([1]DEV_INPUT_VOLTAGE!$A$2:$A$100,MATCH('DC Power Distribution (Desc)'!$M77,[1]!MASTER_DEV_INPUT_VOLTAGE_DESC[#Data],0),0))","v":""},{"$f":"IF('DC Power Distribution (Desc)'!N77=\"\",\"\",INDEX([1]DEV_OUTPUT_VOLTAGE!$A$2:$A$100,MATCH('DC Power Distribution (Desc)'!$N77,[1]!MASTER_DEV_INPUT_VOLTAGE_DESC[#Data],0),0))","v":""},{"$f":"IF('DC Power Distribution (Desc)'!O77=\"\",\"\",'DC Power Distribution (Desc)'!O77)","v":""},{"$f":"IF('DC Power Distribution (Desc)'!P77=\"\",\"\",'DC Power Distribution (Desc)'!P77)","v":""},{"$f":"IF('DC Power Distribution (Desc)'!Q77=\"\",\"\",'DC Power Distribution (Desc)'!Q77)","v":""},{"$f":"IF('DC Power Distribution (Desc)'!C77=\"\",\"\",\"NA\")","v":""}]
[{"$f":"IF('DC Power Distribution (Desc)'!A78=\"\",\"\",'DC Power Distribution (Desc)'!A78)","v":""},{"$f":"IF('DC Power Distribution (Desc)'!C78=\"\",\"\",2029)","v":""},{"$f":"IF('DC Power Distribution (Desc)'!C78=\"\",\"\",'DC Power Distribution (Desc)'!C78)","v":""},{"$f":"IF('DC Power Distribution (Desc)'!E78=\"\",\"\",'DC Power Distribution (Desc)'!E78)","v":""},{"$f":"IF('DC Power Distribution (Desc)'!F78=\"\",\"\",INDEX([1]ELECTRIC_DEV_MANUF!$A$2:$A$1500,MATCH(1,([1]ELECTRIC_DEV_MANUF!$B$2:$B$1500='DC Power Distribution (Desc)'!$F78)*([1]ELECTRIC_DEV_MANUF!$D$2:$D$1500=\"DCPWRDIS\"),0),0))","v":""},{"$f":"IF('DC Power Distribution (Desc)'!G78=\"\",\"\",INDEX([1]ELECTRIC_DEV_MODEL!$A$2:$A$1500,MATCH(1,([1]ELECTRIC_DEV_MODEL!$C$2:$C$1500='DC Power Distribution (Desc)'!$F78)*([1]ELECTRIC_DEV_MODEL!$D$2:$D$1500='DC Power Distribution (Desc)'!$G78)*([1]ELECTRIC_DEV_MODEL!$F$2:$F$1500=\"DCPWRDIS\"),0),0))","v":""},{"$f":"IF('DC Power Distribution (Desc)'!H78=\"\",\"\",'DC Power Distribution (Desc)'!H78)","v":""},{"$f":"IF('DC Power Distribution (Desc)'!I78=\"\",\"\",INDEX([1]YES_NO!$A$2:$A$100,MATCH('DC Power Distribution (Desc)'!$I78,[1]!MASTER_YES_NO_DESC[#Data],0),0))","v":""},{"$f":"IF('DC Power Distribution (Desc)'!J78=\"\",\"\",'DC Power Distribution (Desc)'!J78)","v":""},{"$f":"IF('DC Power Distribution (Desc)'!K78=\"\",\"\",'DC Power Distribution (Desc)'!K78)","v":""},{"$f":"IF('DC Power Distribution (Desc)'!L78=\"\",\"\",INDEX([1]YES_NO!$A$2:$A$100,MATCH('DC Power Distribution (Desc)'!$L78,[1]!MASTER_YES_NO_DESC[#Data],0),0))","v":""},{"$f":"IF('DC Power Distribution (Desc)'!M78=\"\",\"\",INDEX([1]DEV_INPUT_VOLTAGE!$A$2:$A$100,MATCH('DC Power Distribution (Desc)'!$M78,[1]!MASTER_DEV_INPUT_VOLTAGE_DESC[#Data],0),0))","v":""},{"$f":"IF('DC Power Distribution (Desc)'!N78=\"\",\"\",INDEX([1]DEV_OUTPUT_VOLTAGE!$A$2:$A$100,MATCH('DC Power Distribution (Desc)'!$N78,[1]!MASTER_DEV_INPUT_VOLTAGE_DESC[#Data],0),0))","v":""},{"$f":"IF('DC Power Distribution (Desc)'!O78=\"\",\"\",'DC Power Distribution (Desc)'!O78)","v":""},{"$f":"IF('DC Power Distribution (Desc)'!P78=\"\",\"\",'DC Power Distribution (Desc)'!P78)","v":""},{"$f":"IF('DC Power Distribution (Desc)'!Q78=\"\",\"\",'DC Power Distribution (Desc)'!Q78)","v":""},{"$f":"IF('DC Power Distribution (Desc)'!C78=\"\",\"\",\"NA\")","v":""}]
[{"$f":"IF('DC Power Distribution (Desc)'!A79=\"\",\"\",'DC Power Distribution (Desc)'!A79)","v":""},{"$f":"IF('DC Power Distribution (Desc)'!C79=\"\",\"\",2029)","v":""},{"$f":"IF('DC Power Distribution (Desc)'!C79=\"\",\"\",'DC Power Distribution (Desc)'!C79)","v":""},{"$f":"IF('DC Power Distribution (Desc)'!E79=\"\",\"\",'DC Power Distribution (Desc)'!E79)","v":""},{"$f":"IF('DC Power Distribution (Desc)'!F79=\"\",\"\",INDEX([1]ELECTRIC_DEV_MANUF!$A$2:$A$1500,MATCH(1,([1]ELECTRIC_DEV_MANUF!$B$2:$B$1500='DC Power Distribution (Desc)'!$F79)*([1]ELECTRIC_DEV_MANUF!$D$2:$D$1500=\"DCPWRDIS\"),0),0))","v":""},{"$f":"IF('DC Power Distribution (Desc)'!G79=\"\",\"\",INDEX([1]ELECTRIC_DEV_MODEL!$A$2:$A$1500,MATCH(1,([1]ELECTRIC_DEV_MODEL!$C$2:$C$1500='DC Power Distribution (Desc)'!$F79)*([1]ELECTRIC_DEV_MODEL!$D$2:$D$1500='DC Power Distribution (Desc)'!$G79)*([1]ELECTRIC_DEV_MODEL!$F$2:$F$1500=\"DCPWRDIS\"),0),0))","v":""},{"$f":"IF('DC Power Distribution (Desc)'!H79=\"\",\"\",'DC Power Distribution (Desc)'!H79)","v":""},{"$f":"IF('DC Power Distribution (Desc)'!I79=\"\",\"\",INDEX([1]YES_NO!$A$2:$A$100,MATCH('DC Power Distribution (Desc)'!$I79,[1]!MASTER_YES_NO_DESC[#Data],0),0))","v":""},{"$f":"IF('DC Power Distribution (Desc)'!J79=\"\",\"\",'DC Power Distribution (Desc)'!J79)","v":""},{"$f":"IF('DC Power Distribution (Desc)'!K79=\"\",\"\",'DC Power Distribution (Desc)'!K79)","v":""},{"$f":"IF('DC Power Distribution (Desc)'!L79=\"\",\"\",INDEX([1]YES_NO!$A$2:$A$100,MATCH('DC Power Distribution (Desc)'!$L79,[1]!MASTER_YES_NO_DESC[#Data],0),0))","v":""},{"$f":"IF('DC Power Distribution (Desc)'!M79=\"\",\"\",INDEX([1]DEV_INPUT_VOLTAGE!$A$2:$A$100,MATCH('DC Power Distribution (Desc)'!$M79,[1]!MASTER_DEV_INPUT_VOLTAGE_DESC[#Data],0),0))","v":""},{"$f":"IF('DC Power Distribution (Desc)'!N79=\"\",\"\",INDEX([1]DEV_OUTPUT_VOLTAGE!$A$2:$A$100,MATCH('DC Power Distribution (Desc)'!$N79,[1]!MASTER_DEV_INPUT_VOLTAGE_DESC[#Data],0),0))","v":""},{"$f":"IF('DC Power Distribution (Desc)'!O79=\"\",\"\",'DC Power Distribution (Desc)'!O79)","v":""},{"$f":"IF('DC Power Distribution (Desc)'!P79=\"\",\"\",'DC Power Distribution (Desc)'!P79)","v":""},{"$f":"IF('DC Power Distribution (Desc)'!Q79=\"\",\"\",'DC Power Distribution (Desc)'!Q79)","v":""},{"$f":"IF('DC Power Distribution (Desc)'!C79=\"\",\"\",\"NA\")","v":""}]
[{"$f":"IF('DC Power Distribution (Desc)'!A80=\"\",\"\",'DC Power Distribution (Desc)'!A80)","v":""},{"$f":"IF('DC Power Distribution (Desc)'!C80=\"\",\"\",2029)","v":""},{"$f":"IF('DC Power Distribution (Desc)'!C80=\"\",\"\",'DC Power Distribution (Desc)'!C80)","v":""},{"$f":"IF('DC Power Distribution (Desc)'!E80=\"\",\"\",'DC Power Distribution (Desc)'!E80)","v":""},{"$f":"IF('DC Power Distribution (Desc)'!F80=\"\",\"\",INDEX([1]ELECTRIC_DEV_MANUF!$A$2:$A$1500,MATCH(1,([1]ELECTRIC_DEV_MANUF!$B$2:$B$1500='DC Power Distribution (Desc)'!$F80)*([1]ELECTRIC_DEV_MANUF!$D$2:$D$1500=\"DCPWRDIS\"),0),0))","v":""},{"$f":"IF('DC Power Distribution (Desc)'!G80=\"\",\"\",INDEX([1]ELECTRIC_DEV_MODEL!$A$2:$A$1500,MATCH(1,([1]ELECTRIC_DEV_MODEL!$C$2:$C$1500='DC Power Distribution (Desc)'!$F80)*([1]ELECTRIC_DEV_MODEL!$D$2:$D$1500='DC Power Distribution (Desc)'!$G80)*([1]ELECTRIC_DEV_MODEL!$F$2:$F$1500=\"DCPWRDIS\"),0),0))","v":""},{"$f":"IF('DC Power Distribution (Desc)'!H80=\"\",\"\",'DC Power Distribution (Desc)'!H80)","v":""},{"$f":"IF('DC Power Distribution (Desc)'!I80=\"\",\"\",INDEX([1]YES_NO!$A$2:$A$100,MATCH('DC Power Distribution (Desc)'!$I80,[1]!MASTER_YES_NO_DESC[#Data],0),0))","v":""},{"$f":"IF('DC Power Distribution (Desc)'!J80=\"\",\"\",'DC Power Distribution (Desc)'!J80)","v":""},{"$f":"IF('DC Power Distribution (Desc)'!K80=\"\",\"\",'DC Power Distribution (Desc)'!K80)","v":""},{"$f":"IF('DC Power Distribution (Desc)'!L80=\"\",\"\",INDEX([1]YES_NO!$A$2:$A$100,MATCH('DC Power Distribution (Desc)'!$L80,[1]!MASTER_YES_NO_DESC[#Data],0),0))","v":""},{"$f":"IF('DC Power Distribution (Desc)'!M80=\"\",\"\",INDEX([1]DEV_INPUT_VOLTAGE!$A$2:$A$100,MATCH('DC Power Distribution (Desc)'!$M80,[1]!MASTER_DEV_INPUT_VOLTAGE_DESC[#Data],0),0))","v":""},{"$f":"IF('DC Power Distribution (Desc)'!N80=\"\",\"\",INDEX([1]DEV_OUTPUT_VOLTAGE!$A$2:$A$100,MATCH('DC Power Distribution (Desc)'!$N80,[1]!MASTER_DEV_INPUT_VOLTAGE_DESC[#Data],0),0))","v":""},{"$f":"IF('DC Power Distribution (Desc)'!O80=\"\",\"\",'DC Power Distribution (Desc)'!O80)","v":""},{"$f":"IF('DC Power Distribution (Desc)'!P80=\"\",\"\",'DC Power Distribution (Desc)'!P80)","v":""},{"$f":"IF('DC Power Distribution (Desc)'!Q80=\"\",\"\",'DC Power Distribution (Desc)'!Q80)","v":""},{"$f":"IF('DC Power Distribution (Desc)'!C80=\"\",\"\",\"NA\")","v":""}]
[{"$f":"IF('DC Power Distribution (Desc)'!A81=\"\",\"\",'DC Power Distribution (Desc)'!A81)","v":""},{"$f":"IF('DC Power Distribution (Desc)'!C81=\"\",\"\",2029)","v":""},{"$f":"IF('DC Power Distribution (Desc)'!C81=\"\",\"\",'DC Power Distribution (Desc)'!C81)","v":""},{"$f":"IF('DC Power Distribution (Desc)'!E81=\"\",\"\",'DC Power Distribution (Desc)'!E81)","v":""},{"$f":"IF('DC Power Distribution (Desc)'!F81=\"\",\"\",INDEX([1]ELECTRIC_DEV_MANUF!$A$2:$A$1500,MATCH(1,([1]ELECTRIC_DEV_MANUF!$B$2:$B$1500='DC Power Distribution (Desc)'!$F81)*([1]ELECTRIC_DEV_MANUF!$D$2:$D$1500=\"DCPWRDIS\"),0),0))","v":""},{"$f":"IF('DC Power Distribution (Desc)'!G81=\"\",\"\",INDEX([1]ELECTRIC_DEV_MODEL!$A$2:$A$1500,MATCH(1,([1]ELECTRIC_DEV_MODEL!$C$2:$C$1500='DC Power Distribution (Desc)'!$F81)*([1]ELECTRIC_DEV_MODEL!$D$2:$D$1500='DC Power Distribution (Desc)'!$G81)*([1]ELECTRIC_DEV_MODEL!$F$2:$F$1500=\"DCPWRDIS\"),0),0))","v":""},{"$f":"IF('DC Power Distribution (Desc)'!H81=\"\",\"\",'DC Power Distribution (Desc)'!H81)","v":""},{"$f":"IF('DC Power Distribution (Desc)'!I81=\"\",\"\",INDEX([1]YES_NO!$A$2:$A$100,MATCH('DC Power Distribution (Desc)'!$I81,[1]!MASTER_YES_NO_DESC[#Data],0),0))","v":""},{"$f":"IF('DC Power Distribution (Desc)'!J81=\"\",\"\",'DC Power Distribution (Desc)'!J81)","v":""},{"$f":"IF('DC Power Distribution (Desc)'!K81=\"\",\"\",'DC Power Distribution (Desc)'!K81)","v":""},{"$f":"IF('DC Power Distribution (Desc)'!L81=\"\",\"\",INDEX([1]YES_NO!$A$2:$A$100,MATCH('DC Power Distribution (Desc)'!$L81,[1]!MASTER_YES_NO_DESC[#Data],0),0))","v":""},{"$f":"IF('DC Power Distribution (Desc)'!M81=\"\",\"\",INDEX([1]DEV_INPUT_VOLTAGE!$A$2:$A$100,MATCH('DC Power Distribution (Desc)'!$M81,[1]!MASTER_DEV_INPUT_VOLTAGE_DESC[#Data],0),0))","v":""},{"$f":"IF('DC Power Distribution (Desc)'!N81=\"\",\"\",INDEX([1]DEV_OUTPUT_VOLTAGE!$A$2:$A$100,MATCH('DC Power Distribution (Desc)'!$N81,[1]!MASTER_DEV_INPUT_VOLTAGE_DESC[#Data],0),0))","v":""},{"$f":"IF('DC Power Distribution (Desc)'!O81=\"\",\"\",'DC Power Distribution (Desc)'!O81)","v":""},{"$f":"IF('DC Power Distribution (Desc)'!P81=\"\",\"\",'DC Power Distribution (Desc)'!P81)","v":""},{"$f":"IF('DC Power Distribution (Desc)'!Q81=\"\",\"\",'DC Power Distribution (Desc)'!Q81)","v":""},{"$f":"IF('DC Power Distribution (Desc)'!C81=\"\",\"\",\"NA\")","v":""}]
[{"$f":"IF('DC Power Distribution (Desc)'!A82=\"\",\"\",'DC Power Distribution (Desc)'!A82)","v":""},{"$f":"IF('DC Power Distribution (Desc)'!C82=\"\",\"\",2029)","v":""},{"$f":"IF('DC Power Distribution (Desc)'!C82=\"\",\"\",'DC Power Distribution (Desc)'!C82)","v":""},{"$f":"IF('DC Power Distribution (Desc)'!E82=\"\",\"\",'DC Power Distribution (Desc)'!E82)","v":""},{"$f":"IF('DC Power Distribution (Desc)'!F82=\"\",\"\",INDEX([1]ELECTRIC_DEV_MANUF!$A$2:$A$1500,MATCH(1,([1]ELECTRIC_DEV_MANUF!$B$2:$B$1500='DC Power Distribution (Desc)'!$F82)*([1]ELECTRIC_DEV_MANUF!$D$2:$D$1500=\"DCPWRDIS\"),0),0))","v":""},{"$f":"IF('DC Power Distribution (Desc)'!G82=\"\",\"\",INDEX([1]ELECTRIC_DEV_MODEL!$A$2:$A$1500,MATCH(1,([1]ELECTRIC_DEV_MODEL!$C$2:$C$1500='DC Power Distribution (Desc)'!$F82)*([1]ELECTRIC_DEV_MODEL!$D$2:$D$1500='DC Power Distribution (Desc)'!$G82)*([1]ELECTRIC_DEV_MODEL!$F$2:$F$1500=\"DCPWRDIS\"),0),0))","v":""},{"$f":"IF('DC Power Distribution (Desc)'!H82=\"\",\"\",'DC Power Distribution (Desc)'!H82)","v":""},{"$f":"IF('DC Power Distribution (Desc)'!I82=\"\",\"\",INDEX([1]YES_NO!$A$2:$A$100,MATCH('DC Power Distribution (Desc)'!$I82,[1]!MASTER_YES_NO_DESC[#Data],0),0))","v":""},{"$f":"IF('DC Power Distribution (Desc)'!J82=\"\",\"\",'DC Power Distribution (Desc)'!J82)","v":""},{"$f":"IF('DC Power Distribution (Desc)'!K82=\"\",\"\",'DC Power Distribution (Desc)'!K82)","v":""},{"$f":"IF('DC Power Distribution (Desc)'!L82=\"\",\"\",INDEX([1]YES_NO!$A$2:$A$100,MATCH('DC Power Distribution (Desc)'!$L82,[1]!MASTER_YES_NO_DESC[#Data],0),0))","v":""},{"$f":"IF('DC Power Distribution (Desc)'!M82=\"\",\"\",INDEX([1]DEV_INPUT_VOLTAGE!$A$2:$A$100,MATCH('DC Power Distribution (Desc)'!$M82,[1]!MASTER_DEV_INPUT_VOLTAGE_DESC[#Data],0),0))","v":""},{"$f":"IF('DC Power Distribution (Desc)'!N82=\"\",\"\",INDEX([1]DEV_OUTPUT_VOLTAGE!$A$2:$A$100,MATCH('DC Power Distribution (Desc)'!$N82,[1]!MASTER_DEV_INPUT_VOLTAGE_DESC[#Data],0),0))","v":""},{"$f":"IF('DC Power Distribution (Desc)'!O82=\"\",\"\",'DC Power Distribution (Desc)'!O82)","v":""},{"$f":"IF('DC Power Distribution (Desc)'!P82=\"\",\"\",'DC Power Distribution (Desc)'!P82)","v":""},{"$f":"IF('DC Power Distribution (Desc)'!Q82=\"\",\"\",'DC Power Distribution (Desc)'!Q82)","v":""},{"$f":"IF('DC Power Distribution (Desc)'!C82=\"\",\"\",\"NA\")","v":""}]
[{"$f":"IF('DC Power Distribution (Desc)'!A83=\"\",\"\",'DC Power Distribution (Desc)'!A83)","v":""},{"$f":"IF('DC Power Distribution (Desc)'!C83=\"\",\"\",2029)","v":""},{"$f":"IF('DC Power Distribution (Desc)'!C83=\"\",\"\",'DC Power Distribution (Desc)'!C83)","v":""},{"$f":"IF('DC Power Distribution (Desc)'!E83=\"\",\"\",'DC Power Distribution (Desc)'!E83)","v":""},{"$f":"IF('DC Power Distribution (Desc)'!F83=\"\",\"\",INDEX([1]ELECTRIC_DEV_MANUF!$A$2:$A$1500,MATCH(1,([1]ELECTRIC_DEV_MANUF!$B$2:$B$1500='DC Power Distribution (Desc)'!$F83)*([1]ELECTRIC_DEV_MANUF!$D$2:$D$1500=\"DCPWRDIS\"),0),0))","v":""},{"$f":"IF('DC Power Distribution (Desc)'!G83=\"\",\"\",INDEX([1]ELECTRIC_DEV_MODEL!$A$2:$A$1500,MATCH(1,([1]ELECTRIC_DEV_MODEL!$C$2:$C$1500='DC Power Distribution (Desc)'!$F83)*([1]ELECTRIC_DEV_MODEL!$D$2:$D$1500='DC Power Distribution (Desc)'!$G83)*([1]ELECTRIC_DEV_MODEL!$F$2:$F$1500=\"DCPWRDIS\"),0),0))","v":""},{"$f":"IF('DC Power Distribution (Desc)'!H83=\"\",\"\",'DC Power Distribution (Desc)'!H83)","v":""},{"$f":"IF('DC Power Distribution (Desc)'!I83=\"\",\"\",INDEX([1]YES_NO!$A$2:$A$100,MATCH('DC Power Distribution (Desc)'!$I83,[1]!MASTER_YES_NO_DESC[#Data],0),0))","v":""},{"$f":"IF('DC Power Distribution (Desc)'!J83=\"\",\"\",'DC Power Distribution (Desc)'!J83)","v":""},{"$f":"IF('DC Power Distribution (Desc)'!K83=\"\",\"\",'DC Power Distribution (Desc)'!K83)","v":""},{"$f":"IF('DC Power Distribution (Desc)'!L83=\"\",\"\",INDEX([1]YES_NO!$A$2:$A$100,MATCH('DC Power Distribution (Desc)'!$L83,[1]!MASTER_YES_NO_DESC[#Data],0),0))","v":""},{"$f":"IF('DC Power Distribution (Desc)'!M83=\"\",\"\",INDEX([1]DEV_INPUT_VOLTAGE!$A$2:$A$100,MATCH('DC Power Distribution (Desc)'!$M83,[1]!MASTER_DEV_INPUT_VOLTAGE_DESC[#Data],0),0))","v":""},{"$f":"IF('DC Power Distribution (Desc)'!N83=\"\",\"\",INDEX([1]DEV_OUTPUT_VOLTAGE!$A$2:$A$100,MATCH('DC Power Distribution (Desc)'!$N83,[1]!MASTER_DEV_INPUT_VOLTAGE_DESC[#Data],0),0))","v":""},{"$f":"IF('DC Power Distribution (Desc)'!O83=\"\",\"\",'DC Power Distribution (Desc)'!O83)","v":""},{"$f":"IF('DC Power Distribution (Desc)'!P83=\"\",\"\",'DC Power Distribution (Desc)'!P83)","v":""},{"$f":"IF('DC Power Distribution (Desc)'!Q83=\"\",\"\",'DC Power Distribution (Desc)'!Q83)","v":""},{"$f":"IF('DC Power Distribution (Desc)'!C83=\"\",\"\",\"NA\")","v":""}]
[{"$f":"IF('DC Power Distribution (Desc)'!A84=\"\",\"\",'DC Power Distribution (Desc)'!A84)","v":""},{"$f":"IF('DC Power Distribution (Desc)'!C84=\"\",\"\",2029)","v":""},{"$f":"IF('DC Power Distribution (Desc)'!C84=\"\",\"\",'DC Power Distribution (Desc)'!C84)","v":""},{"$f":"IF('DC Power Distribution (Desc)'!E84=\"\",\"\",'DC Power Distribution (Desc)'!E84)","v":""},{"$f":"IF('DC Power Distribution (Desc)'!F84=\"\",\"\",INDEX([1]ELECTRIC_DEV_MANUF!$A$2:$A$1500,MATCH(1,([1]ELECTRIC_DEV_MANUF!$B$2:$B$1500='DC Power Distribution (Desc)'!$F84)*([1]ELECTRIC_DEV_MANUF!$D$2:$D$1500=\"DCPWRDIS\"),0),0))","v":""},{"$f":"IF('DC Power Distribution (Desc)'!G84=\"\",\"\",INDEX([1]ELECTRIC_DEV_MODEL!$A$2:$A$1500,MATCH(1,([1]ELECTRIC_DEV_MODEL!$C$2:$C$1500='DC Power Distribution (Desc)'!$F84)*([1]ELECTRIC_DEV_MODEL!$D$2:$D$1500='DC Power Distribution (Desc)'!$G84)*([1]ELECTRIC_DEV_MODEL!$F$2:$F$1500=\"DCPWRDIS\"),0),0))","v":""},{"$f":"IF('DC Power Distribution (Desc)'!H84=\"\",\"\",'DC Power Distribution (Desc)'!H84)","v":""},{"$f":"IF('DC Power Distribution (Desc)'!I84=\"\",\"\",INDEX([1]YES_NO!$A$2:$A$100,MATCH('DC Power Distribution (Desc)'!$I84,[1]!MASTER_YES_NO_DESC[#Data],0),0))","v":""},{"$f":"IF('DC Power Distribution (Desc)'!J84=\"\",\"\",'DC Power Distribution (Desc)'!J84)","v":""},{"$f":"IF('DC Power Distribution (Desc)'!K84=\"\",\"\",'DC Power Distribution (Desc)'!K84)","v":""},{"$f":"IF('DC Power Distribution (Desc)'!L84=\"\",\"\",INDEX([1]YES_NO!$A$2:$A$100,MATCH('DC Power Distribution (Desc)'!$L84,[1]!MASTER_YES_NO_DESC[#Data],0),0))","v":""},{"$f":"IF('DC Power Distribution (Desc)'!M84=\"\",\"\",INDEX([1]DEV_INPUT_VOLTAGE!$A$2:$A$100,MATCH('DC Power Distribution (Desc)'!$M84,[1]!MASTER_DEV_INPUT_VOLTAGE_DESC[#Data],0),0))","v":""},{"$f":"IF('DC Power Distribution (Desc)'!N84=\"\",\"\",INDEX([1]DEV_OUTPUT_VOLTAGE!$A$2:$A$100,MATCH('DC Power Distribution (Desc)'!$N84,[1]!MASTER_DEV_INPUT_VOLTAGE_DESC[#Data],0),0))","v":""},{"$f":"IF('DC Power Distribution (Desc)'!O84=\"\",\"\",'DC Power Distribution (Desc)'!O84)","v":""},{"$f":"IF('DC Power Distribution (Desc)'!P84=\"\",\"\",'DC Power Distribution (Desc)'!P84)","v":""},{"$f":"IF('DC Power Distribution (Desc)'!Q84=\"\",\"\",'DC Power Distribution (Desc)'!Q84)","v":""},{"$f":"IF('DC Power Distribution (Desc)'!C84=\"\",\"\",\"NA\")","v":""}]
[{"$f":"IF('DC Power Distribution (Desc)'!A85=\"\",\"\",'DC Power Distribution (Desc)'!A85)","v":""},{"$f":"IF('DC Power Distribution (Desc)'!C85=\"\",\"\",2029)","v":""},{"$f":"IF('DC Power Distribution (Desc)'!C85=\"\",\"\",'DC Power Distribution (Desc)'!C85)","v":""},{"$f":"IF('DC Power Distribution (Desc)'!E85=\"\",\"\",'DC Power Distribution (Desc)'!E85)","v":""},{"$f":"IF('DC Power Distribution (Desc)'!F85=\"\",\"\",INDEX([1]ELECTRIC_DEV_MANUF!$A$2:$A$1500,MATCH(1,([1]ELECTRIC_DEV_MANUF!$B$2:$B$1500='DC Power Distribution (Desc)'!$F85)*([1]ELECTRIC_DEV_MANUF!$D$2:$D$1500=\"DCPWRDIS\"),0),0))","v":""},{"$f":"IF('DC Power Distribution (Desc)'!G85=\"\",\"\",INDEX([1]ELECTRIC_DEV_MODEL!$A$2:$A$1500,MATCH(1,([1]ELECTRIC_DEV_MODEL!$C$2:$C$1500='DC Power Distribution (Desc)'!$F85)*([1]ELECTRIC_DEV_MODEL!$D$2:$D$1500='DC Power Distribution (Desc)'!$G85)*([1]ELECTRIC_DEV_MODEL!$F$2:$F$1500=\"DCPWRDIS\"),0),0))","v":""},{"$f":"IF('DC Power Distribution (Desc)'!H85=\"\",\"\",'DC Power Distribution (Desc)'!H85)","v":""},{"$f":"IF('DC Power Distribution (Desc)'!I85=\"\",\"\",INDEX([1]YES_NO!$A$2:$A$100,MATCH('DC Power Distribution (Desc)'!$I85,[1]!MASTER_YES_NO_DESC[#Data],0),0))","v":""},{"$f":"IF('DC Power Distribution (Desc)'!J85=\"\",\"\",'DC Power Distribution (Desc)'!J85)","v":""},{"$f":"IF('DC Power Distribution (Desc)'!K85=\"\",\"\",'DC Power Distribution (Desc)'!K85)","v":""},{"$f":"IF('DC Power Distribution (Desc)'!L85=\"\",\"\",INDEX([1]YES_NO!$A$2:$A$100,MATCH('DC Power Distribution (Desc)'!$L85,[1]!MASTER_YES_NO_DESC[#Data],0),0))","v":""},{"$f":"IF('DC Power Distribution (Desc)'!M85=\"\",\"\",INDEX([1]DEV_INPUT_VOLTAGE!$A$2:$A$100,MATCH('DC Power Distribution (Desc)'!$M85,[1]!MASTER_DEV_INPUT_VOLTAGE_DESC[#Data],0),0))","v":""},{"$f":"IF('DC Power Distribution (Desc)'!N85=\"\",\"\",INDEX([1]DEV_OUTPUT_VOLTAGE!$A$2:$A$100,MATCH('DC Power Distribution (Desc)'!$N85,[1]!MASTER_DEV_INPUT_VOLTAGE_DESC[#Data],0),0))","v":""},{"$f":"IF('DC Power Distribution (Desc)'!O85=\"\",\"\",'DC Power Distribution (Desc)'!O85)","v":""},{"$f":"IF('DC Power Distribution (Desc)'!P85=\"\",\"\",'DC Power Distribution (Desc)'!P85)","v":""},{"$f":"IF('DC Power Distribution (Desc)'!Q85=\"\",\"\",'DC Power Distribution (Desc)'!Q85)","v":""},{"$f":"IF('DC Power Distribution (Desc)'!C85=\"\",\"\",\"NA\")","v":""}]
[{"$f":"IF('DC Power Distribution (Desc)'!A86=\"\",\"\",'DC Power Distribution (Desc)'!A86)","v":""},{"$f":"IF('DC Power Distribution (Desc)'!C86=\"\",\"\",2029)","v":""},{"$f":"IF('DC Power Distribution (Desc)'!C86=\"\",\"\",'DC Power Distribution (Desc)'!C86)","v":""},{"$f":"IF('DC Power Distribution (Desc)'!E86=\"\",\"\",'DC Power Distribution (Desc)'!E86)","v":""},{"$f":"IF('DC Power Distribution (Desc)'!F86=\"\",\"\",INDEX([1]ELECTRIC_DEV_MANUF!$A$2:$A$1500,MATCH(1,([1]ELECTRIC_DEV_MANUF!$B$2:$B$1500='DC Power Distribution (Desc)'!$F86)*([1]ELECTRIC_DEV_MANUF!$D$2:$D$1500=\"DCPWRDIS\"),0),0))","v":""},{"$f":"IF('DC Power Distribution (Desc)'!G86=\"\",\"\",INDEX([1]ELECTRIC_DEV_MODEL!$A$2:$A$1500,MATCH(1,([1]ELECTRIC_DEV_MODEL!$C$2:$C$1500='DC Power Distribution (Desc)'!$F86)*([1]ELECTRIC_DEV_MODEL!$D$2:$D$1500='DC Power Distribution (Desc)'!$G86)*([1]ELECTRIC_DEV_MODEL!$F$2:$F$1500=\"DCPWRDIS\"),0),0))","v":""},{"$f":"IF('DC Power Distribution (Desc)'!H86=\"\",\"\",'DC Power Distribution (Desc)'!H86)","v":""},{"$f":"IF('DC Power Distribution (Desc)'!I86=\"\",\"\",INDEX([1]YES_NO!$A$2:$A$100,MATCH('DC Power Distribution (Desc)'!$I86,[1]!MASTER_YES_NO_DESC[#Data],0),0))","v":""},{"$f":"IF('DC Power Distribution (Desc)'!J86=\"\",\"\",'DC Power Distribution (Desc)'!J86)","v":""},{"$f":"IF('DC Power Distribution (Desc)'!K86=\"\",\"\",'DC Power Distribution (Desc)'!K86)","v":""},{"$f":"IF('DC Power Distribution (Desc)'!L86=\"\",\"\",INDEX([1]YES_NO!$A$2:$A$100,MATCH('DC Power Distribution (Desc)'!$L86,[1]!MASTER_YES_NO_DESC[#Data],0),0))","v":""},{"$f":"IF('DC Power Distribution (Desc)'!M86=\"\",\"\",INDEX([1]DEV_INPUT_VOLTAGE!$A$2:$A$100,MATCH('DC Power Distribution (Desc)'!$M86,[1]!MASTER_DEV_INPUT_VOLTAGE_DESC[#Data],0),0))","v":""},{"$f":"IF('DC Power Distribution (Desc)'!N86=\"\",\"\",INDEX([1]DEV_OUTPUT_VOLTAGE!$A$2:$A$100,MATCH('DC Power Distribution (Desc)'!$N86,[1]!MASTER_DEV_INPUT_VOLTAGE_DESC[#Data],0),0))","v":""},{"$f":"IF('DC Power Distribution (Desc)'!O86=\"\",\"\",'DC Power Distribution (Desc)'!O86)","v":""},{"$f":"IF('DC Power Distribution (Desc)'!P86=\"\",\"\",'DC Power Distribution (Desc)'!P86)","v":""},{"$f":"IF('DC Power Distribution (Desc)'!Q86=\"\",\"\",'DC Power Distribution (Desc)'!Q86)","v":""},{"$f":"IF('DC Power Distribution (Desc)'!C86=\"\",\"\",\"NA\")","v":""}]
[{"$f":"IF('DC Power Distribution (Desc)'!A87=\"\",\"\",'DC Power Distribution (Desc)'!A87)","v":""},{"$f":"IF('DC Power Distribution (Desc)'!C87=\"\",\"\",2029)","v":""},{"$f":"IF('DC Power Distribution (Desc)'!C87=\"\",\"\",'DC Power Distribution (Desc)'!C87)","v":""},{"$f":"IF('DC Power Distribution (Desc)'!E87=\"\",\"\",'DC Power Distribution (Desc)'!E87)","v":""},{"$f":"IF('DC Power Distribution (Desc)'!F87=\"\",\"\",INDEX([1]ELECTRIC_DEV_MANUF!$A$2:$A$1500,MATCH(1,([1]ELECTRIC_DEV_MANUF!$B$2:$B$1500='DC Power Distribution (Desc)'!$F87)*([1]ELECTRIC_DEV_MANUF!$D$2:$D$1500=\"DCPWRDIS\"),0),0))","v":""},{"$f":"IF('DC Power Distribution (Desc)'!G87=\"\",\"\",INDEX([1]ELECTRIC_DEV_MODEL!$A$2:$A$1500,MATCH(1,([1]ELECTRIC_DEV_MODEL!$C$2:$C$1500='DC Power Distribution (Desc)'!$F87)*([1]ELECTRIC_DEV_MODEL!$D$2:$D$1500='DC Power Distribution (Desc)'!$G87)*([1]ELECTRIC_DEV_MODEL!$F$2:$F$1500=\"DCPWRDIS\"),0),0))","v":""},{"$f":"IF('DC Power Distribution (Desc)'!H87=\"\",\"\",'DC Power Distribution (Desc)'!H87)","v":""},{"$f":"IF('DC Power Distribution (Desc)'!I87=\"\",\"\",INDEX([1]YES_NO!$A$2:$A$100,MATCH('DC Power Distribution (Desc)'!$I87,[1]!MASTER_YES_NO_DESC[#Data],0),0))","v":""},{"$f":"IF('DC Power Distribution (Desc)'!J87=\"\",\"\",'DC Power Distribution (Desc)'!J87)","v":""},{"$f":"IF('DC Power Distribution (Desc)'!K87=\"\",\"\",'DC Power Distribution (Desc)'!K87)","v":""},{"$f":"IF('DC Power Distribution (Desc)'!L87=\"\",\"\",INDEX([1]YES_NO!$A$2:$A$100,MATCH('DC Power Distribution (Desc)'!$L87,[1]!MASTER_YES_NO_DESC[#Data],0),0))","v":""},{"$f":"IF('DC Power Distribution (Desc)'!M87=\"\",\"\",INDEX([1]DEV_INPUT_VOLTAGE!$A$2:$A$100,MATCH('DC Power Distribution (Desc)'!$M87,[1]!MASTER_DEV_INPUT_VOLTAGE_DESC[#Data],0),0))","v":""},{"$f":"IF('DC Power Distribution (Desc)'!N87=\"\",\"\",INDEX([1]DEV_OUTPUT_VOLTAGE!$A$2:$A$100,MATCH('DC Power Distribution (Desc)'!$N87,[1]!MASTER_DEV_INPUT_VOLTAGE_DESC[#Data],0),0))","v":""},{"$f":"IF('DC Power Distribution (Desc)'!O87=\"\",\"\",'DC Power Distribution (Desc)'!O87)","v":""},{"$f":"IF('DC Power Distribution (Desc)'!P87=\"\",\"\",'DC Power Distribution (Desc)'!P87)","v":""},{"$f":"IF('DC Power Distribution (Desc)'!Q87=\"\",\"\",'DC Power Distribution (Desc)'!Q87)","v":""},{"$f":"IF('DC Power Distribution (Desc)'!C87=\"\",\"\",\"NA\")","v":""}]
[{"$f":"IF('DC Power Distribution (Desc)'!A88=\"\",\"\",'DC Power Distribution (Desc)'!A88)","v":""},{"$f":"IF('DC Power Distribution (Desc)'!C88=\"\",\"\",2029)","v":""},{"$f":"IF('DC Power Distribution (Desc)'!C88=\"\",\"\",'DC Power Distribution (Desc)'!C88)","v":""},{"$f":"IF('DC Power Distribution (Desc)'!E88=\"\",\"\",'DC Power Distribution (Desc)'!E88)","v":""},{"$f":"IF('DC Power Distribution (Desc)'!F88=\"\",\"\",INDEX([1]ELECTRIC_DEV_MANUF!$A$2:$A$1500,MATCH(1,([1]ELECTRIC_DEV_MANUF!$B$2:$B$1500='DC Power Distribution (Desc)'!$F88)*([1]ELECTRIC_DEV_MANUF!$D$2:$D$1500=\"DCPWRDIS\"),0),0))","v":""},{"$f":"IF('DC Power Distribution (Desc)'!G88=\"\",\"\",INDEX([1]ELECTRIC_DEV_MODEL!$A$2:$A$1500,MATCH(1,([1]ELECTRIC_DEV_MODEL!$C$2:$C$1500='DC Power Distribution (Desc)'!$F88)*([1]ELECTRIC_DEV_MODEL!$D$2:$D$1500='DC Power Distribution (Desc)'!$G88)*([1]ELECTRIC_DEV_MODEL!$F$2:$F$1500=\"DCPWRDIS\"),0),0))","v":""},{"$f":"IF('DC Power Distribution (Desc)'!H88=\"\",\"\",'DC Power Distribution (Desc)'!H88)","v":""},{"$f":"IF('DC Power Distribution (Desc)'!I88=\"\",\"\",INDEX([1]YES_NO!$A$2:$A$100,MATCH('DC Power Distribution (Desc)'!$I88,[1]!MASTER_YES_NO_DESC[#Data],0),0))","v":""},{"$f":"IF('DC Power Distribution (Desc)'!J88=\"\",\"\",'DC Power Distribution (Desc)'!J88)","v":""},{"$f":"IF('DC Power Distribution (Desc)'!K88=\"\",\"\",'DC Power Distribution (Desc)'!K88)","v":""},{"$f":"IF('DC Power Distribution (Desc)'!L88=\"\",\"\",INDEX([1]YES_NO!$A$2:$A$100,MATCH('DC Power Distribution (Desc)'!$L88,[1]!MASTER_YES_NO_DESC[#Data],0),0))","v":""},{"$f":"IF('DC Power Distribution (Desc)'!M88=\"\",\"\",INDEX([1]DEV_INPUT_VOLTAGE!$A$2:$A$100,MATCH('DC Power Distribution (Desc)'!$M88,[1]!MASTER_DEV_INPUT_VOLTAGE_DESC[#Data],0),0))","v":""},{"$f":"IF('DC Power Distribution (Desc)'!N88=\"\",\"\",INDEX([1]DEV_OUTPUT_VOLTAGE!$A$2:$A$100,MATCH('DC Power Distribution (Desc)'!$N88,[1]!MASTER_DEV_INPUT_VOLTAGE_DESC[#Data],0),0))","v":""},{"$f":"IF('DC Power Distribution (Desc)'!O88=\"\",\"\",'DC Power Distribution (Desc)'!O88)","v":""},{"$f":"IF('DC Power Distribution (Desc)'!P88=\"\",\"\",'DC Power Distribution (Desc)'!P88)","v":""},{"$f":"IF('DC Power Distribution (Desc)'!Q88=\"\",\"\",'DC Power Distribution (Desc)'!Q88)","v":""},{"$f":"IF('DC Power Distribution (Desc)'!C88=\"\",\"\",\"NA\")","v":""}]
[{"$f":"IF('DC Power Distribution (Desc)'!A89=\"\",\"\",'DC Power Distribution (Desc)'!A89)","v":""},{"$f":"IF('DC Power Distribution (Desc)'!C89=\"\",\"\",2029)","v":""},{"$f":"IF('DC Power Distribution (Desc)'!C89=\"\",\"\",'DC Power Distribution (Desc)'!C89)","v":""},{"$f":"IF('DC Power Distribution (Desc)'!E89=\"\",\"\",'DC Power Distribution (Desc)'!E89)","v":""},{"$f":"IF('DC Power Distribution (Desc)'!F89=\"\",\"\",INDEX([1]ELECTRIC_DEV_MANUF!$A$2:$A$1500,MATCH(1,([1]ELECTRIC_DEV_MANUF!$B$2:$B$1500='DC Power Distribution (Desc)'!$F89)*([1]ELECTRIC_DEV_MANUF!$D$2:$D$1500=\"DCPWRDIS\"),0),0))","v":""},{"$f":"IF('DC Power Distribution (Desc)'!G89=\"\",\"\",INDEX([1]ELECTRIC_DEV_MODEL!$A$2:$A$1500,MATCH(1,([1]ELECTRIC_DEV_MODEL!$C$2:$C$1500='DC Power Distribution (Desc)'!$F89)*([1]ELECTRIC_DEV_MODEL!$D$2:$D$1500='DC Power Distribution (Desc)'!$G89)*([1]ELECTRIC_DEV_MODEL!$F$2:$F$1500=\"DCPWRDIS\"),0),0))","v":""},{"$f":"IF('DC Power Distribution (Desc)'!H89=\"\",\"\",'DC Power Distribution (Desc)'!H89)","v":""},{"$f":"IF('DC Power Distribution (Desc)'!I89=\"\",\"\",INDEX([1]YES_NO!$A$2:$A$100,MATCH('DC Power Distribution (Desc)'!$I89,[1]!MASTER_YES_NO_DESC[#Data],0),0))","v":""},{"$f":"IF('DC Power Distribution (Desc)'!J89=\"\",\"\",'DC Power Distribution (Desc)'!J89)","v":""},{"$f":"IF('DC Power Distribution (Desc)'!K89=\"\",\"\",'DC Power Distribution (Desc)'!K89)","v":""},{"$f":"IF('DC Power Distribution (Desc)'!L89=\"\",\"\",INDEX([1]YES_NO!$A$2:$A$100,MATCH('DC Power Distribution (Desc)'!$L89,[1]!MASTER_YES_NO_DESC[#Data],0),0))","v":""},{"$f":"IF('DC Power Distribution (Desc)'!M89=\"\",\"\",INDEX([1]DEV_INPUT_VOLTAGE!$A$2:$A$100,MATCH('DC Power Distribution (Desc)'!$M89,[1]!MASTER_DEV_INPUT_VOLTAGE_DESC[#Data],0),0))","v":""},{"$f":"IF('DC Power Distribution (Desc)'!N89=\"\",\"\",INDEX([1]DEV_OUTPUT_VOLTAGE!$A$2:$A$100,MATCH('DC Power Distribution (Desc)'!$N89,[1]!MASTER_DEV_INPUT_VOLTAGE_DESC[#Data],0),0))","v":""},{"$f":"IF('DC Power Distribution (Desc)'!O89=\"\",\"\",'DC Power Distribution (Desc)'!O89)","v":""},{"$f":"IF('DC Power Distribution (Desc)'!P89=\"\",\"\",'DC Power Distribution (Desc)'!P89)","v":""},{"$f":"IF('DC Power Distribution (Desc)'!Q89=\"\",\"\",'DC Power Distribution (Desc)'!Q89)","v":""},{"$f":"IF('DC Power Distribution (Desc)'!C89=\"\",\"\",\"NA\")","v":""}]
[{"$f":"IF('DC Power Distribution (Desc)'!A90=\"\",\"\",'DC Power Distribution (Desc)'!A90)","v":""},{"$f":"IF('DC Power Distribution (Desc)'!C90=\"\",\"\",2029)","v":""},{"$f":"IF('DC Power Distribution (Desc)'!C90=\"\",\"\",'DC Power Distribution (Desc)'!C90)","v":""},{"$f":"IF('DC Power Distribution (Desc)'!E90=\"\",\"\",'DC Power Distribution (Desc)'!E90)","v":""},{"$f":"IF('DC Power Distribution (Desc)'!F90=\"\",\"\",INDEX([1]ELECTRIC_DEV_MANUF!$A$2:$A$1500,MATCH(1,([1]ELECTRIC_DEV_MANUF!$B$2:$B$1500='DC Power Distribution (Desc)'!$F90)*([1]ELECTRIC_DEV_MANUF!$D$2:$D$1500=\"DCPWRDIS\"),0),0))","v":""},{"$f":"IF('DC Power Distribution (Desc)'!G90=\"\",\"\",INDEX([1]ELECTRIC_DEV_MODEL!$A$2:$A$1500,MATCH(1,([1]ELECTRIC_DEV_MODEL!$C$2:$C$1500='DC Power Distribution (Desc)'!$F90)*([1]ELECTRIC_DEV_MODEL!$D$2:$D$1500='DC Power Distribution (Desc)'!$G90)*([1]ELECTRIC_DEV_MODEL!$F$2:$F$1500=\"DCPWRDIS\"),0),0))","v":""},{"$f":"IF('DC Power Distribution (Desc)'!H90=\"\",\"\",'DC Power Distribution (Desc)'!H90)","v":""},{"$f":"IF('DC Power Distribution (Desc)'!I90=\"\",\"\",INDEX([1]YES_NO!$A$2:$A$100,MATCH('DC Power Distribution (Desc)'!$I90,[1]!MASTER_YES_NO_DESC[#Data],0),0))","v":""},{"$f":"IF('DC Power Distribution (Desc)'!J90=\"\",\"\",'DC Power Distribution (Desc)'!J90)","v":""},{"$f":"IF('DC Power Distribution (Desc)'!K90=\"\",\"\",'DC Power Distribution (Desc)'!K90)","v":""},{"$f":"IF('DC Power Distribution (Desc)'!L90=\"\",\"\",INDEX([1]YES_NO!$A$2:$A$100,MATCH('DC Power Distribution (Desc)'!$L90,[1]!MASTER_YES_NO_DESC[#Data],0),0))","v":""},{"$f":"IF('DC Power Distribution (Desc)'!M90=\"\",\"\",INDEX([1]DEV_INPUT_VOLTAGE!$A$2:$A$100,MATCH('DC Power Distribution (Desc)'!$M90,[1]!MASTER_DEV_INPUT_VOLTAGE_DESC[#Data],0),0))","v":""},{"$f":"IF('DC Power Distribution (Desc)'!N90=\"\",\"\",INDEX([1]DEV_OUTPUT_VOLTAGE!$A$2:$A$100,MATCH('DC Power Distribution (Desc)'!$N90,[1]!MASTER_DEV_INPUT_VOLTAGE_DESC[#Data],0),0))","v":""},{"$f":"IF('DC Power Distribution (Desc)'!O90=\"\",\"\",'DC Power Distribution (Desc)'!O90)","v":""},{"$f":"IF('DC Power Distribution (Desc)'!P90=\"\",\"\",'DC Power Distribution (Desc)'!P90)","v":""},{"$f":"IF('DC Power Distribution (Desc)'!Q90=\"\",\"\",'DC Power Distribution (Desc)'!Q90)","v":""},{"$f":"IF('DC Power Distribution (Desc)'!C90=\"\",\"\",\"NA\")","v":""}]
[{"$f":"IF('DC Power Distribution (Desc)'!A91=\"\",\"\",'DC Power Distribution (Desc)'!A91)","v":""},{"$f":"IF('DC Power Distribution (Desc)'!C91=\"\",\"\",2029)","v":""},{"$f":"IF('DC Power Distribution (Desc)'!C91=\"\",\"\",'DC Power Distribution (Desc)'!C91)","v":""},{"$f":"IF('DC Power Distribution (Desc)'!E91=\"\",\"\",'DC Power Distribution (Desc)'!E91)","v":""},{"$f":"IF('DC Power Distribution (Desc)'!F91=\"\",\"\",INDEX([1]ELECTRIC_DEV_MANUF!$A$2:$A$1500,MATCH(1,([1]ELECTRIC_DEV_MANUF!$B$2:$B$1500='DC Power Distribution (Desc)'!$F91)*([1]ELECTRIC_DEV_MANUF!$D$2:$D$1500=\"DCPWRDIS\"),0),0))","v":""},{"$f":"IF('DC Power Distribution (Desc)'!G91=\"\",\"\",INDEX([1]ELECTRIC_DEV_MODEL!$A$2:$A$1500,MATCH(1,([1]ELECTRIC_DEV_MODEL!$C$2:$C$1500='DC Power Distribution (Desc)'!$F91)*([1]ELECTRIC_DEV_MODEL!$D$2:$D$1500='DC Power Distribution (Desc)'!$G91)*([1]ELECTRIC_DEV_MODEL!$F$2:$F$1500=\"DCPWRDIS\"),0),0))","v":""},{"$f":"IF('DC Power Distribution (Desc)'!H91=\"\",\"\",'DC Power Distribution (Desc)'!H91)","v":""},{"$f":"IF('DC Power Distribution (Desc)'!I91=\"\",\"\",INDEX([1]YES_NO!$A$2:$A$100,MATCH('DC Power Distribution (Desc)'!$I91,[1]!MASTER_YES_NO_DESC[#Data],0),0))","v":""},{"$f":"IF('DC Power Distribution (Desc)'!J91=\"\",\"\",'DC Power Distribution (Desc)'!J91)","v":""},{"$f":"IF('DC Power Distribution (Desc)'!K91=\"\",\"\",'DC Power Distribution (Desc)'!K91)","v":""},{"$f":"IF('DC Power Distribution (Desc)'!L91=\"\",\"\",INDEX([1]YES_NO!$A$2:$A$100,MATCH('DC Power Distribution (Desc)'!$L91,[1]!MASTER_YES_NO_DESC[#Data],0),0))","v":""},{"$f":"IF('DC Power Distribution (Desc)'!M91=\"\",\"\",INDEX([1]DEV_INPUT_VOLTAGE!$A$2:$A$100,MATCH('DC Power Distribution (Desc)'!$M91,[1]!MASTER_DEV_INPUT_VOLTAGE_DESC[#Data],0),0))","v":""},{"$f":"IF('DC Power Distribution (Desc)'!N91=\"\",\"\",INDEX([1]DEV_OUTPUT_VOLTAGE!$A$2:$A$100,MATCH('DC Power Distribution (Desc)'!$N91,[1]!MASTER_DEV_INPUT_VOLTAGE_DESC[#Data],0),0))","v":""},{"$f":"IF('DC Power Distribution (Desc)'!O91=\"\",\"\",'DC Power Distribution (Desc)'!O91)","v":""},{"$f":"IF('DC Power Distribution (Desc)'!P91=\"\",\"\",'DC Power Distribution (Desc)'!P91)","v":""},{"$f":"IF('DC Power Distribution (Desc)'!Q91=\"\",\"\",'DC Power Distribution (Desc)'!Q91)","v":""},{"$f":"IF('DC Power Distribution (Desc)'!C91=\"\",\"\",\"NA\")","v":""}]
[{"$f":"IF('DC Power Distribution (Desc)'!A92=\"\",\"\",'DC Power Distribution (Desc)'!A92)","v":""},{"$f":"IF('DC Power Distribution (Desc)'!C92=\"\",\"\",2029)","v":""},{"$f":"IF('DC Power Distribution (Desc)'!C92=\"\",\"\",'DC Power Distribution (Desc)'!C92)","v":""},{"$f":"IF('DC Power Distribution (Desc)'!E92=\"\",\"\",'DC Power Distribution (Desc)'!E92)","v":""},{"$f":"IF('DC Power Distribution (Desc)'!F92=\"\",\"\",INDEX([1]ELECTRIC_DEV_MANUF!$A$2:$A$1500,MATCH(1,([1]ELECTRIC_DEV_MANUF!$B$2:$B$1500='DC Power Distribution (Desc)'!$F92)*([1]ELECTRIC_DEV_MANUF!$D$2:$D$1500=\"DCPWRDIS\"),0),0))","v":""},{"$f":"IF('DC Power Distribution (Desc)'!G92=\"\",\"\",INDEX([1]ELECTRIC_DEV_MODEL!$A$2:$A$1500,MATCH(1,([1]ELECTRIC_DEV_MODEL!$C$2:$C$1500='DC Power Distribution (Desc)'!$F92)*([1]ELECTRIC_DEV_MODEL!$D$2:$D$1500='DC Power Distribution (Desc)'!$G92)*([1]ELECTRIC_DEV_MODEL!$F$2:$F$1500=\"DCPWRDIS\"),0),0))","v":""},{"$f":"IF('DC Power Distribution (Desc)'!H92=\"\",\"\",'DC Power Distribution (Desc)'!H92)","v":""},{"$f":"IF('DC Power Distribution (Desc)'!I92=\"\",\"\",INDEX([1]YES_NO!$A$2:$A$100,MATCH('DC Power Distribution (Desc)'!$I92,[1]!MASTER_YES_NO_DESC[#Data],0),0))","v":""},{"$f":"IF('DC Power Distribution (Desc)'!J92=\"\",\"\",'DC Power Distribution (Desc)'!J92)","v":""},{"$f":"IF('DC Power Distribution (Desc)'!K92=\"\",\"\",'DC Power Distribution (Desc)'!K92)","v":""},{"$f":"IF('DC Power Distribution (Desc)'!L92=\"\",\"\",INDEX([1]YES_NO!$A$2:$A$100,MATCH('DC Power Distribution (Desc)'!$L92,[1]!MASTER_YES_NO_DESC[#Data],0),0))","v":""},{"$f":"IF('DC Power Distribution (Desc)'!M92=\"\",\"\",INDEX([1]DEV_INPUT_VOLTAGE!$A$2:$A$100,MATCH('DC Power Distribution (Desc)'!$M92,[1]!MASTER_DEV_INPUT_VOLTAGE_DESC[#Data],0),0))","v":""},{"$f":"IF('DC Power Distribution (Desc)'!N92=\"\",\"\",INDEX([1]DEV_OUTPUT_VOLTAGE!$A$2:$A$100,MATCH('DC Power Distribution (Desc)'!$N92,[1]!MASTER_DEV_INPUT_VOLTAGE_DESC[#Data],0),0))","v":""},{"$f":"IF('DC Power Distribution (Desc)'!O92=\"\",\"\",'DC Power Distribution (Desc)'!O92)","v":""},{"$f":"IF('DC Power Distribution (Desc)'!P92=\"\",\"\",'DC Power Distribution (Desc)'!P92)","v":""},{"$f":"IF('DC Power Distribution (Desc)'!Q92=\"\",\"\",'DC Power Distribution (Desc)'!Q92)","v":""},{"$f":"IF('DC Power Distribution (Desc)'!C92=\"\",\"\",\"NA\")","v":""}]
[{"$f":"IF('DC Power Distribution (Desc)'!A93=\"\",\"\",'DC Power Distribution (Desc)'!A93)","v":""},{"$f":"IF('DC Power Distribution (Desc)'!C93=\"\",\"\",2029)","v":""},{"$f":"IF('DC Power Distribution (Desc)'!C93=\"\",\"\",'DC Power Distribution (Desc)'!C93)","v":""},{"$f":"IF('DC Power Distribution (Desc)'!E93=\"\",\"\",'DC Power Distribution (Desc)'!E93)","v":""},{"$f":"IF('DC Power Distribution (Desc)'!F93=\"\",\"\",INDEX([1]ELECTRIC_DEV_MANUF!$A$2:$A$1500,MATCH(1,([1]ELECTRIC_DEV_MANUF!$B$2:$B$1500='DC Power Distribution (Desc)'!$F93)*([1]ELECTRIC_DEV_MANUF!$D$2:$D$1500=\"DCPWRDIS\"),0),0))","v":""},{"$f":"IF('DC Power Distribution (Desc)'!G93=\"\",\"\",INDEX([1]ELECTRIC_DEV_MODEL!$A$2:$A$1500,MATCH(1,([1]ELECTRIC_DEV_MODEL!$C$2:$C$1500='DC Power Distribution (Desc)'!$F93)*([1]ELECTRIC_DEV_MODEL!$D$2:$D$1500='DC Power Distribution (Desc)'!$G93)*([1]ELECTRIC_DEV_MODEL!$F$2:$F$1500=\"DCPWRDIS\"),0),0))","v":""},{"$f":"IF('DC Power Distribution (Desc)'!H93=\"\",\"\",'DC Power Distribution (Desc)'!H93)","v":""},{"$f":"IF('DC Power Distribution (Desc)'!I93=\"\",\"\",INDEX([1]YES_NO!$A$2:$A$100,MATCH('DC Power Distribution (Desc)'!$I93,[1]!MASTER_YES_NO_DESC[#Data],0),0))","v":""},{"$f":"IF('DC Power Distribution (Desc)'!J93=\"\",\"\",'DC Power Distribution (Desc)'!J93)","v":""},{"$f":"IF('DC Power Distribution (Desc)'!K93=\"\",\"\",'DC Power Distribution (Desc)'!K93)","v":""},{"$f":"IF('DC Power Distribution (Desc)'!L93=\"\",\"\",INDEX([1]YES_NO!$A$2:$A$100,MATCH('DC Power Distribution (Desc)'!$L93,[1]!MASTER_YES_NO_DESC[#Data],0),0))","v":""},{"$f":"IF('DC Power Distribution (Desc)'!M93=\"\",\"\",INDEX([1]DEV_INPUT_VOLTAGE!$A$2:$A$100,MATCH('DC Power Distribution (Desc)'!$M93,[1]!MASTER_DEV_INPUT_VOLTAGE_DESC[#Data],0),0))","v":""},{"$f":"IF('DC Power Distribution (Desc)'!N93=\"\",\"\",INDEX([1]DEV_OUTPUT_VOLTAGE!$A$2:$A$100,MATCH('DC Power Distribution (Desc)'!$N93,[1]!MASTER_DEV_INPUT_VOLTAGE_DESC[#Data],0),0))","v":""},{"$f":"IF('DC Power Distribution (Desc)'!O93=\"\",\"\",'DC Power Distribution (Desc)'!O93)","v":""},{"$f":"IF('DC Power Distribution (Desc)'!P93=\"\",\"\",'DC Power Distribution (Desc)'!P93)","v":""},{"$f":"IF('DC Power Distribution (Desc)'!Q93=\"\",\"\",'DC Power Distribution (Desc)'!Q93)","v":""},{"$f":"IF('DC Power Distribution (Desc)'!C93=\"\",\"\",\"NA\")","v":""}]
[{"$f":"IF('DC Power Distribution (Desc)'!A94=\"\",\"\",'DC Power Distribution (Desc)'!A94)","v":""},{"$f":"IF('DC Power Distribution (Desc)'!C94=\"\",\"\",2029)","v":""},{"$f":"IF('DC Power Distribution (Desc)'!C94=\"\",\"\",'DC Power Distribution (Desc)'!C94)","v":""},{"$f":"IF('DC Power Distribution (Desc)'!E94=\"\",\"\",'DC Power Distribution (Desc)'!E94)","v":""},{"$f":"IF('DC Power Distribution (Desc)'!F94=\"\",\"\",INDEX([1]ELECTRIC_DEV_MANUF!$A$2:$A$1500,MATCH(1,([1]ELECTRIC_DEV_MANUF!$B$2:$B$1500='DC Power Distribution (Desc)'!$F94)*([1]ELECTRIC_DEV_MANUF!$D$2:$D$1500=\"DCPWRDIS\"),0),0))","v":""},{"$f":"IF('DC Power Distribution (Desc)'!G94=\"\",\"\",INDEX([1]ELECTRIC_DEV_MODEL!$A$2:$A$1500,MATCH(1,([1]ELECTRIC_DEV_MODEL!$C$2:$C$1500='DC Power Distribution (Desc)'!$F94)*([1]ELECTRIC_DEV_MODEL!$D$2:$D$1500='DC Power Distribution (Desc)'!$G94)*([1]ELECTRIC_DEV_MODEL!$F$2:$F$1500=\"DCPWRDIS\"),0),0))","v":""},{"$f":"IF('DC Power Distribution (Desc)'!H94=\"\",\"\",'DC Power Distribution (Desc)'!H94)","v":""},{"$f":"IF('DC Power Distribution (Desc)'!I94=\"\",\"\",INDEX([1]YES_NO!$A$2:$A$100,MATCH('DC Power Distribution (Desc)'!$I94,[1]!MASTER_YES_NO_DESC[#Data],0),0))","v":""},{"$f":"IF('DC Power Distribution (Desc)'!J94=\"\",\"\",'DC Power Distribution (Desc)'!J94)","v":""},{"$f":"IF('DC Power Distribution (Desc)'!K94=\"\",\"\",'DC Power Distribution (Desc)'!K94)","v":""},{"$f":"IF('DC Power Distribution (Desc)'!L94=\"\",\"\",INDEX([1]YES_NO!$A$2:$A$100,MATCH('DC Power Distribution (Desc)'!$L94,[1]!MASTER_YES_NO_DESC[#Data],0),0))","v":""},{"$f":"IF('DC Power Distribution (Desc)'!M94=\"\",\"\",INDEX([1]DEV_INPUT_VOLTAGE!$A$2:$A$100,MATCH('DC Power Distribution (Desc)'!$M94,[1]!MASTER_DEV_INPUT_VOLTAGE_DESC[#Data],0),0))","v":""},{"$f":"IF('DC Power Distribution (Desc)'!N94=\"\",\"\",INDEX([1]DEV_OUTPUT_VOLTAGE!$A$2:$A$100,MATCH('DC Power Distribution (Desc)'!$N94,[1]!MASTER_DEV_INPUT_VOLTAGE_DESC[#Data],0),0))","v":""},{"$f":"IF('DC Power Distribution (Desc)'!O94=\"\",\"\",'DC Power Distribution (Desc)'!O94)","v":""},{"$f":"IF('DC Power Distribution (Desc)'!P94=\"\",\"\",'DC Power Distribution (Desc)'!P94)","v":""},{"$f":"IF('DC Power Distribution (Desc)'!Q94=\"\",\"\",'DC Power Distribution (Desc)'!Q94)","v":""},{"$f":"IF('DC Power Distribution (Desc)'!C94=\"\",\"\",\"NA\")","v":""}]
[{"$f":"IF('DC Power Distribution (Desc)'!A95=\"\",\"\",'DC Power Distribution (Desc)'!A95)","v":""},{"$f":"IF('DC Power Distribution (Desc)'!C95=\"\",\"\",2029)","v":""},{"$f":"IF('DC Power Distribution (Desc)'!C95=\"\",\"\",'DC Power Distribution (Desc)'!C95)","v":""},{"$f":"IF('DC Power Distribution (Desc)'!E95=\"\",\"\",'DC Power Distribution (Desc)'!E95)","v":""},{"$f":"IF('DC Power Distribution (Desc)'!F95=\"\",\"\",INDEX([1]ELECTRIC_DEV_MANUF!$A$2:$A$1500,MATCH(1,([1]ELECTRIC_DEV_MANUF!$B$2:$B$1500='DC Power Distribution (Desc)'!$F95)*([1]ELECTRIC_DEV_MANUF!$D$2:$D$1500=\"DCPWRDIS\"),0),0))","v":""},{"$f":"IF('DC Power Distribution (Desc)'!G95=\"\",\"\",INDEX([1]ELECTRIC_DEV_MODEL!$A$2:$A$1500,MATCH(1,([1]ELECTRIC_DEV_MODEL!$C$2:$C$1500='DC Power Distribution (Desc)'!$F95)*([1]ELECTRIC_DEV_MODEL!$D$2:$D$1500='DC Power Distribution (Desc)'!$G95)*([1]ELECTRIC_DEV_MODEL!$F$2:$F$1500=\"DCPWRDIS\"),0),0))","v":""},{"$f":"IF('DC Power Distribution (Desc)'!H95=\"\",\"\",'DC Power Distribution (Desc)'!H95)","v":""},{"$f":"IF('DC Power Distribution (Desc)'!I95=\"\",\"\",INDEX([1]YES_NO!$A$2:$A$100,MATCH('DC Power Distribution (Desc)'!$I95,[1]!MASTER_YES_NO_DESC[#Data],0),0))","v":""},{"$f":"IF('DC Power Distribution (Desc)'!J95=\"\",\"\",'DC Power Distribution (Desc)'!J95)","v":""},{"$f":"IF('DC Power Distribution (Desc)'!K95=\"\",\"\",'DC Power Distribution (Desc)'!K95)","v":""},{"$f":"IF('DC Power Distribution (Desc)'!L95=\"\",\"\",INDEX([1]YES_NO!$A$2:$A$100,MATCH('DC Power Distribution (Desc)'!$L95,[1]!MASTER_YES_NO_DESC[#Data],0),0))","v":""},{"$f":"IF('DC Power Distribution (Desc)'!M95=\"\",\"\",INDEX([1]DEV_INPUT_VOLTAGE!$A$2:$A$100,MATCH('DC Power Distribution (Desc)'!$M95,[1]!MASTER_DEV_INPUT_VOLTAGE_DESC[#Data],0),0))","v":""},{"$f":"IF('DC Power Distribution (Desc)'!N95=\"\",\"\",INDEX([1]DEV_OUTPUT_VOLTAGE!$A$2:$A$100,MATCH('DC Power Distribution (Desc)'!$N95,[1]!MASTER_DEV_INPUT_VOLTAGE_DESC[#Data],0),0))","v":""},{"$f":"IF('DC Power Distribution (Desc)'!O95=\"\",\"\",'DC Power Distribution (Desc)'!O95)","v":""},{"$f":"IF('DC Power Distribution (Desc)'!P95=\"\",\"\",'DC Power Distribution (Desc)'!P95)","v":""},{"$f":"IF('DC Power Distribution (Desc)'!Q95=\"\",\"\",'DC Power Distribution (Desc)'!Q95)","v":""},{"$f":"IF('DC Power Distribution (Desc)'!C95=\"\",\"\",\"NA\")","v":""}]
[{"$f":"IF('DC Power Distribution (Desc)'!A96=\"\",\"\",'DC Power Distribution (Desc)'!A96)","v":""},{"$f":"IF('DC Power Distribution (Desc)'!C96=\"\",\"\",2029)","v":""},{"$f":"IF('DC Power Distribution (Desc)'!C96=\"\",\"\",'DC Power Distribution (Desc)'!C96)","v":""},{"$f":"IF('DC Power Distribution (Desc)'!E96=\"\",\"\",'DC Power Distribution (Desc)'!E96)","v":""},{"$f":"IF('DC Power Distribution (Desc)'!F96=\"\",\"\",INDEX([1]ELECTRIC_DEV_MANUF!$A$2:$A$1500,MATCH(1,([1]ELECTRIC_DEV_MANUF!$B$2:$B$1500='DC Power Distribution (Desc)'!$F96)*([1]ELECTRIC_DEV_MANUF!$D$2:$D$1500=\"DCPWRDIS\"),0),0))","v":""},{"$f":"IF('DC Power Distribution (Desc)'!G96=\"\",\"\",INDEX([1]ELECTRIC_DEV_MODEL!$A$2:$A$1500,MATCH(1,([1]ELECTRIC_DEV_MODEL!$C$2:$C$1500='DC Power Distribution (Desc)'!$F96)*([1]ELECTRIC_DEV_MODEL!$D$2:$D$1500='DC Power Distribution (Desc)'!$G96)*([1]ELECTRIC_DEV_MODEL!$F$2:$F$1500=\"DCPWRDIS\"),0),0))","v":""},{"$f":"IF('DC Power Distribution (Desc)'!H96=\"\",\"\",'DC Power Distribution (Desc)'!H96)","v":""},{"$f":"IF('DC Power Distribution (Desc)'!I96=\"\",\"\",INDEX([1]YES_NO!$A$2:$A$100,MATCH('DC Power Distribution (Desc)'!$I96,[1]!MASTER_YES_NO_DESC[#Data],0),0))","v":""},{"$f":"IF('DC Power Distribution (Desc)'!J96=\"\",\"\",'DC Power Distribution (Desc)'!J96)","v":""},{"$f":"IF('DC Power Distribution (Desc)'!K96=\"\",\"\",'DC Power Distribution (Desc)'!K96)","v":""},{"$f":"IF('DC Power Distribution (Desc)'!L96=\"\",\"\",INDEX([1]YES_NO!$A$2:$A$100,MATCH('DC Power Distribution (Desc)'!$L96,[1]!MASTER_YES_NO_DESC[#Data],0),0))","v":""},{"$f":"IF('DC Power Distribution (Desc)'!M96=\"\",\"\",INDEX([1]DEV_INPUT_VOLTAGE!$A$2:$A$100,MATCH('DC Power Distribution (Desc)'!$M96,[1]!MASTER_DEV_INPUT_VOLTAGE_DESC[#Data],0),0))","v":""},{"$f":"IF('DC Power Distribution (Desc)'!N96=\"\",\"\",INDEX([1]DEV_OUTPUT_VOLTAGE!$A$2:$A$100,MATCH('DC Power Distribution (Desc)'!$N96,[1]!MASTER_DEV_INPUT_VOLTAGE_DESC[#Data],0),0))","v":""},{"$f":"IF('DC Power Distribution (Desc)'!O96=\"\",\"\",'DC Power Distribution (Desc)'!O96)","v":""},{"$f":"IF('DC Power Distribution (Desc)'!P96=\"\",\"\",'DC Power Distribution (Desc)'!P96)","v":""},{"$f":"IF('DC Power Distribution (Desc)'!Q96=\"\",\"\",'DC Power Distribution (Desc)'!Q96)","v":""},{"$f":"IF('DC Power Distribution (Desc)'!C96=\"\",\"\",\"NA\")","v":""}]
[{"$f":"IF('DC Power Distribution (Desc)'!A97=\"\",\"\",'DC Power Distribution (Desc)'!A97)","v":""},{"$f":"IF('DC Power Distribution (Desc)'!C97=\"\",\"\",2029)","v":""},{"$f":"IF('DC Power Distribution (Desc)'!C97=\"\",\"\",'DC Power Distribution (Desc)'!C97)","v":""},{"$f":"IF('DC Power Distribution (Desc)'!E97=\"\",\"\",'DC Power Distribution (Desc)'!E97)","v":""},{"$f":"IF('DC Power Distribution (Desc)'!F97=\"\",\"\",INDEX([1]ELECTRIC_DEV_MANUF!$A$2:$A$1500,MATCH(1,([1]ELECTRIC_DEV_MANUF!$B$2:$B$1500='DC Power Distribution (Desc)'!$F97)*([1]ELECTRIC_DEV_MANUF!$D$2:$D$1500=\"DCPWRDIS\"),0),0))","v":""},{"$f":"IF('DC Power Distribution (Desc)'!G97=\"\",\"\",INDEX([1]ELECTRIC_DEV_MODEL!$A$2:$A$1500,MATCH(1,([1]ELECTRIC_DEV_MODEL!$C$2:$C$1500='DC Power Distribution (Desc)'!$F97)*([1]ELECTRIC_DEV_MODEL!$D$2:$D$1500='DC Power Distribution (Desc)'!$G97)*([1]ELECTRIC_DEV_MODEL!$F$2:$F$1500=\"DCPWRDIS\"),0),0))","v":""},{"$f":"IF('DC Power Distribution (Desc)'!H97=\"\",\"\",'DC Power Distribution (Desc)'!H97)","v":""},{"$f":"IF('DC Power Distribution (Desc)'!I97=\"\",\"\",INDEX([1]YES_NO!$A$2:$A$100,MATCH('DC Power Distribution (Desc)'!$I97,[1]!MASTER_YES_NO_DESC[#Data],0),0))","v":""},{"$f":"IF('DC Power Distribution (Desc)'!J97=\"\",\"\",'DC Power Distribution (Desc)'!J97)","v":""},{"$f":"IF('DC Power Distribution (Desc)'!K97=\"\",\"\",'DC Power Distribution (Desc)'!K97)","v":""},{"$f":"IF('DC Power Distribution (Desc)'!L97=\"\",\"\",INDEX([1]YES_NO!$A$2:$A$100,MATCH('DC Power Distribution (Desc)'!$L97,[1]!MASTER_YES_NO_DESC[#Data],0),0))","v":""},{"$f":"IF('DC Power Distribution (Desc)'!M97=\"\",\"\",INDEX([1]DEV_INPUT_VOLTAGE!$A$2:$A$100,MATCH('DC Power Distribution (Desc)'!$M97,[1]!MASTER_DEV_INPUT_VOLTAGE_DESC[#Data],0),0))","v":""},{"$f":"IF('DC Power Distribution (Desc)'!N97=\"\",\"\",INDEX([1]DEV_OUTPUT_VOLTAGE!$A$2:$A$100,MATCH('DC Power Distribution (Desc)'!$N97,[1]!MASTER_DEV_INPUT_VOLTAGE_DESC[#Data],0),0))","v":""},{"$f":"IF('DC Power Distribution (Desc)'!O97=\"\",\"\",'DC Power Distribution (Desc)'!O97)","v":""},{"$f":"IF('DC Power Distribution (Desc)'!P97=\"\",\"\",'DC Power Distribution (Desc)'!P97)","v":""},{"$f":"IF('DC Power Distribution (Desc)'!Q97=\"\",\"\",'DC Power Distribution (Desc)'!Q97)","v":""},{"$f":"IF('DC Power Distribution (Desc)'!C97=\"\",\"\",\"NA\")","v":""}]
[{"$f":"IF('DC Power Distribution (Desc)'!A98=\"\",\"\",'DC Power Distribution (Desc)'!A98)","v":""},{"$f":"IF('DC Power Distribution (Desc)'!C98=\"\",\"\",2029)","v":""},{"$f":"IF('DC Power Distribution (Desc)'!C98=\"\",\"\",'DC Power Distribution (Desc)'!C98)","v":""},{"$f":"IF('DC Power Distribution (Desc)'!E98=\"\",\"\",'DC Power Distribution (Desc)'!E98)","v":""},{"$f":"IF('DC Power Distribution (Desc)'!F98=\"\",\"\",INDEX([1]ELECTRIC_DEV_MANUF!$A$2:$A$1500,MATCH(1,([1]ELECTRIC_DEV_MANUF!$B$2:$B$1500='DC Power Distribution (Desc)'!$F98)*([1]ELECTRIC_DEV_MANUF!$D$2:$D$1500=\"DCPWRDIS\"),0),0))","v":""},{"$f":"IF('DC Power Distribution (Desc)'!G98=\"\",\"\",INDEX([1]ELECTRIC_DEV_MODEL!$A$2:$A$1500,MATCH(1,([1]ELECTRIC_DEV_MODEL!$C$2:$C$1500='DC Power Distribution (Desc)'!$F98)*([1]ELECTRIC_DEV_MODEL!$D$2:$D$1500='DC Power Distribution (Desc)'!$G98)*([1]ELECTRIC_DEV_MODEL!$F$2:$F$1500=\"DCPWRDIS\"),0),0))","v":""},{"$f":"IF('DC Power Distribution (Desc)'!H98=\"\",\"\",'DC Power Distribution (Desc)'!H98)","v":""},{"$f":"IF('DC Power Distribution (Desc)'!I98=\"\",\"\",INDEX([1]YES_NO!$A$2:$A$100,MATCH('DC Power Distribution (Desc)'!$I98,[1]!MASTER_YES_NO_DESC[#Data],0),0))","v":""},{"$f":"IF('DC Power Distribution (Desc)'!J98=\"\",\"\",'DC Power Distribution (Desc)'!J98)","v":""},{"$f":"IF('DC Power Distribution (Desc)'!K98=\"\",\"\",'DC Power Distribution (Desc)'!K98)","v":""},{"$f":"IF('DC Power Distribution (Desc)'!L98=\"\",\"\",INDEX([1]YES_NO!$A$2:$A$100,MATCH('DC Power Distribution (Desc)'!$L98,[1]!MASTER_YES_NO_DESC[#Data],0),0))","v":""},{"$f":"IF('DC Power Distribution (Desc)'!M98=\"\",\"\",INDEX([1]DEV_INPUT_VOLTAGE!$A$2:$A$100,MATCH('DC Power Distribution (Desc)'!$M98,[1]!MASTER_DEV_INPUT_VOLTAGE_DESC[#Data],0),0))","v":""},{"$f":"IF('DC Power Distribution (Desc)'!N98=\"\",\"\",INDEX([1]DEV_OUTPUT_VOLTAGE!$A$2:$A$100,MATCH('DC Power Distribution (Desc)'!$N98,[1]!MASTER_DEV_INPUT_VOLTAGE_DESC[#Data],0),0))","v":""},{"$f":"IF('DC Power Distribution (Desc)'!O98=\"\",\"\",'DC Power Distribution (Desc)'!O98)","v":""},{"$f":"IF('DC Power Distribution (Desc)'!P98=\"\",\"\",'DC Power Distribution (Desc)'!P98)","v":""},{"$f":"IF('DC Power Distribution (Desc)'!Q98=\"\",\"\",'DC Power Distribution (Desc)'!Q98)","v":""},{"$f":"IF('DC Power Distribution (Desc)'!C98=\"\",\"\",\"NA\")","v":""}]
[{"$f":"IF('DC Power Distribution (Desc)'!A99=\"\",\"\",'DC Power Distribution (Desc)'!A99)","v":""},{"$f":"IF('DC Power Distribution (Desc)'!C99=\"\",\"\",2029)","v":""},{"$f":"IF('DC Power Distribution (Desc)'!C99=\"\",\"\",'DC Power Distribution (Desc)'!C99)","v":""},{"$f":"IF('DC Power Distribution (Desc)'!E99=\"\",\"\",'DC Power Distribution (Desc)'!E99)","v":""},{"$f":"IF('DC Power Distribution (Desc)'!F99=\"\",\"\",INDEX([1]ELECTRIC_DEV_MANUF!$A$2:$A$1500,MATCH(1,([1]ELECTRIC_DEV_MANUF!$B$2:$B$1500='DC Power Distribution (Desc)'!$F99)*([1]ELECTRIC_DEV_MANUF!$D$2:$D$1500=\"DCPWRDIS\"),0),0))","v":""},{"$f":"IF('DC Power Distribution (Desc)'!G99=\"\",\"\",INDEX([1]ELECTRIC_DEV_MODEL!$A$2:$A$1500,MATCH(1,([1]ELECTRIC_DEV_MODEL!$C$2:$C$1500='DC Power Distribution (Desc)'!$F99)*([1]ELECTRIC_DEV_MODEL!$D$2:$D$1500='DC Power Distribution (Desc)'!$G99)*([1]ELECTRIC_DEV_MODEL!$F$2:$F$1500=\"DCPWRDIS\"),0),0))","v":""},{"$f":"IF('DC Power Distribution (Desc)'!H99=\"\",\"\",'DC Power Distribution (Desc)'!H99)","v":""},{"$f":"IF('DC Power Distribution (Desc)'!I99=\"\",\"\",INDEX([1]YES_NO!$A$2:$A$100,MATCH('DC Power Distribution (Desc)'!$I99,[1]!MASTER_YES_NO_DESC[#Data],0),0))","v":""},{"$f":"IF('DC Power Distribution (Desc)'!J99=\"\",\"\",'DC Power Distribution (Desc)'!J99)","v":""},{"$f":"IF('DC Power Distribution (Desc)'!K99=\"\",\"\",'DC Power Distribution (Desc)'!K99)","v":""},{"$f":"IF('DC Power Distribution (Desc)'!L99=\"\",\"\",INDEX([1]YES_NO!$A$2:$A$100,MATCH('DC Power Distribution (Desc)'!$L99,[1]!MASTER_YES_NO_DESC[#Data],0),0))","v":""},{"$f":"IF('DC Power Distribution (Desc)'!M99=\"\",\"\",INDEX([1]DEV_INPUT_VOLTAGE!$A$2:$A$100,MATCH('DC Power Distribution (Desc)'!$M99,[1]!MASTER_DEV_INPUT_VOLTAGE_DESC[#Data],0),0))","v":""},{"$f":"IF('DC Power Distribution (Desc)'!N99=\"\",\"\",INDEX([1]DEV_OUTPUT_VOLTAGE!$A$2:$A$100,MATCH('DC Power Distribution (Desc)'!$N99,[1]!MASTER_DEV_INPUT_VOLTAGE_DESC[#Data],0),0))","v":""},{"$f":"IF('DC Power Distribution (Desc)'!O99=\"\",\"\",'DC Power Distribution (Desc)'!O99)","v":""},{"$f":"IF('DC Power Distribution (Desc)'!P99=\"\",\"\",'DC Power Distribution (Desc)'!P99)","v":""},{"$f":"IF('DC Power Distribution (Desc)'!Q99=\"\",\"\",'DC Power Distribution (Desc)'!Q99)","v":""},{"$f":"IF('DC Power Distribution (Desc)'!C99=\"\",\"\",\"NA\")","v":""}]
[{"$f":"IF('DC Power Distribution (Desc)'!A100=\"\",\"\",'DC Power Distribution (Desc)'!A100)","v":""},{"$f":"IF('DC Power Distribution (Desc)'!C100=\"\",\"\",2029)","v":""},{"$f":"IF('DC Power Distribution (Desc)'!C100=\"\",\"\",'DC Power Distribution (Desc)'!C100)","v":""},{"$f":"IF('DC Power Distribution (Desc)'!E100=\"\",\"\",'DC Power Distribution (Desc)'!E100)","v":""},{"$f":"IF('DC Power Distribution (Desc)'!F100=\"\",\"\",INDEX([1]ELECTRIC_DEV_MANUF!$A$2:$A$1500,MATCH(1,([1]ELECTRIC_DEV_MANUF!$B$2:$B$1500='DC Power Distribution (Desc)'!$F100)*([1]ELECTRIC_DEV_MANUF!$D$2:$D$1500=\"DCPWRDIS\"),0),0))","v":""},{"$f":"IF('DC Power Distribution (Desc)'!G100=\"\",\"\",INDEX([1]ELECTRIC_DEV_MODEL!$A$2:$A$1500,MATCH(1,([1]ELECTRIC_DEV_MODEL!$C$2:$C$1500='DC Power Distribution (Desc)'!$F100)*([1]ELECTRIC_DEV_MODEL!$D$2:$D$1500='DC Power Distribution (Desc)'!$G100)*([1]ELECTRIC_DEV_MODEL!$F$2:$F$1500=\"DCPWRDIS\"),0),0))","v":""},{"$f":"IF('DC Power Distribution (Desc)'!H100=\"\",\"\",'DC Power Distribution (Desc)'!H100)","v":""},{"$f":"IF('DC Power Distribution (Desc)'!I100=\"\",\"\",INDEX([1]YES_NO!$A$2:$A$100,MATCH('DC Power Distribution (Desc)'!$I100,[1]!MASTER_YES_NO_DESC[#Data],0),0))","v":""},{"$f":"IF('DC Power Distribution (Desc)'!J100=\"\",\"\",'DC Power Distribution (Desc)'!J100)","v":""},{"$f":"IF('DC Power Distribution (Desc)'!K100=\"\",\"\",'DC Power Distribution (Desc)'!K100)","v":""},{"$f":"IF('DC Power Distribution (Desc)'!L100=\"\",\"\",INDEX([1]YES_NO!$A$2:$A$100,MATCH('DC Power Distribution (Desc)'!$L100,[1]!MASTER_YES_NO_DESC[#Data],0),0))","v":""},{"$f":"IF('DC Power Distribution (Desc)'!M100=\"\",\"\",INDEX([1]DEV_INPUT_VOLTAGE!$A$2:$A$100,MATCH('DC Power Distribution (Desc)'!$M100,[1]!MASTER_DEV_INPUT_VOLTAGE_DESC[#Data],0),0))","v":""},{"$f":"IF('DC Power Distribution (Desc)'!N100=\"\",\"\",INDEX([1]DEV_OUTPUT_VOLTAGE!$A$2:$A$100,MATCH('DC Power Distribution (Desc)'!$N100,[1]!MASTER_DEV_INPUT_VOLTAGE_DESC[#Data],0),0))","v":""},{"$f":"IF('DC Power Distribution (Desc)'!O100=\"\",\"\",'DC Power Distribution (Desc)'!O100)","v":""},{"$f":"IF('DC Power Distribution (Desc)'!P100=\"\",\"\",'DC Power Distribution (Desc)'!P100)","v":""},{"$f":"IF('DC Power Distribution (Desc)'!Q100=\"\",\"\",'DC Power Distribution (Desc)'!Q100)","v":""},{"$f":"IF('DC Power Distribution (Desc)'!C100=\"\",\"\",\"NA\")","v":""}]
[{"$f":"IF('DC Power Distribution (Desc)'!A101=\"\",\"\",'DC Power Distribution (Desc)'!A101)","v":""},{"$f":"IF('DC Power Distribution (Desc)'!C101=\"\",\"\",2029)","v":""},{"$f":"IF('DC Power Distribution (Desc)'!C101=\"\",\"\",'DC Power Distribution (Desc)'!C101)","v":""},{"$f":"IF('DC Power Distribution (Desc)'!E101=\"\",\"\",'DC Power Distribution (Desc)'!E101)","v":""},{"$f":"IF('DC Power Distribution (Desc)'!F101=\"\",\"\",INDEX([1]ELECTRIC_DEV_MANUF!$A$2:$A$1500,MATCH(1,([1]ELECTRIC_DEV_MANUF!$B$2:$B$1500='DC Power Distribution (Desc)'!$F101)*([1]ELECTRIC_DEV_MANUF!$D$2:$D$1500=\"DCPWRDIS\"),0),0))","v":""},{"$f":"IF('DC Power Distribution (Desc)'!G101=\"\",\"\",INDEX([1]ELECTRIC_DEV_MODEL!$A$2:$A$1500,MATCH(1,([1]ELECTRIC_DEV_MODEL!$C$2:$C$1500='DC Power Distribution (Desc)'!$F101)*([1]ELECTRIC_DEV_MODEL!$D$2:$D$1500='DC Power Distribution (Desc)'!$G101)*([1]ELECTRIC_DEV_MODEL!$F$2:$F$1500=\"DCPWRDIS\"),0),0))","v":""},{"$f":"IF('DC Power Distribution (Desc)'!H101=\"\",\"\",'DC Power Distribution (Desc)'!H101)","v":""},{"$f":"IF('DC Power Distribution (Desc)'!I101=\"\",\"\",INDEX([1]YES_NO!$A$2:$A$100,MATCH('DC Power Distribution (Desc)'!$I101,[1]!MASTER_YES_NO_DESC[#Data],0),0))","v":""},{"$f":"IF('DC Power Distribution (Desc)'!J101=\"\",\"\",'DC Power Distribution (Desc)'!J101)","v":""},{"$f":"IF('DC Power Distribution (Desc)'!K101=\"\",\"\",'DC Power Distribution (Desc)'!K101)","v":""},{"$f":"IF('DC Power Distribution (Desc)'!L101=\"\",\"\",INDEX([1]YES_NO!$A$2:$A$100,MATCH('DC Power Distribution (Desc)'!$L101,[1]!MASTER_YES_NO_DESC[#Data],0),0))","v":""},{"$f":"IF('DC Power Distribution (Desc)'!M101=\"\",\"\",INDEX([1]DEV_INPUT_VOLTAGE!$A$2:$A$100,MATCH('DC Power Distribution (Desc)'!$M101,[1]!MASTER_DEV_INPUT_VOLTAGE_DESC[#Data],0),0))","v":""},{"$f":"IF('DC Power Distribution (Desc)'!N101=\"\",\"\",INDEX([1]DEV_OUTPUT_VOLTAGE!$A$2:$A$100,MATCH('DC Power Distribution (Desc)'!$N101,[1]!MASTER_DEV_INPUT_VOLTAGE_DESC[#Data],0),0))","v":""},{"$f":"IF('DC Power Distribution (Desc)'!O101=\"\",\"\",'DC Power Distribution (Desc)'!O101)","v":""},{"$f":"IF('DC Power Distribution (Desc)'!P101=\"\",\"\",'DC Power Distribution (Desc)'!P101)","v":""},{"$f":"IF('DC Power Distribution (Desc)'!Q101=\"\",\"\",'DC Power Distribution (Desc)'!Q101)","v":""},{"$f":"IF('DC Power Distribution (Desc)'!C101=\"\",\"\",\"NA\")","v":""}]
[{"$f":"IF('DC Power Distribution (Desc)'!A102=\"\",\"\",'DC Power Distribution (Desc)'!A102)","v":""},{"$f":"IF('DC Power Distribution (Desc)'!C102=\"\",\"\",2029)","v":""},{"$f":"IF('DC Power Distribution (Desc)'!C102=\"\",\"\",'DC Power Distribution (Desc)'!C102)","v":""},{"$f":"IF('DC Power Distribution (Desc)'!E102=\"\",\"\",'DC Power Distribution (Desc)'!E102)","v":""},{"$f":"IF('DC Power Distribution (Desc)'!F102=\"\",\"\",INDEX([1]ELECTRIC_DEV_MANUF!$A$2:$A$1500,MATCH(1,([1]ELECTRIC_DEV_MANUF!$B$2:$B$1500='DC Power Distribution (Desc)'!$F102)*([1]ELECTRIC_DEV_MANUF!$D$2:$D$1500=\"DCPWRDIS\"),0),0))","v":""},{"$f":"IF('DC Power Distribution (Desc)'!G102=\"\",\"\",INDEX([1]ELECTRIC_DEV_MODEL!$A$2:$A$1500,MATCH(1,([1]ELECTRIC_DEV_MODEL!$C$2:$C$1500='DC Power Distribution (Desc)'!$F102)*([1]ELECTRIC_DEV_MODEL!$D$2:$D$1500='DC Power Distribution (Desc)'!$G102)*([1]ELECTRIC_DEV_MODEL!$F$2:$F$1500=\"DCPWRDIS\"),0),0))","v":""},{"$f":"IF('DC Power Distribution (Desc)'!H102=\"\",\"\",'DC Power Distribution (Desc)'!H102)","v":""},{"$f":"IF('DC Power Distribution (Desc)'!I102=\"\",\"\",INDEX([1]YES_NO!$A$2:$A$100,MATCH('DC Power Distribution (Desc)'!$I102,[1]!MASTER_YES_NO_DESC[#Data],0),0))","v":""},{"$f":"IF('DC Power Distribution (Desc)'!J102=\"\",\"\",'DC Power Distribution (Desc)'!J102)","v":""},{"$f":"IF('DC Power Distribution (Desc)'!K102=\"\",\"\",'DC Power Distribution (Desc)'!K102)","v":""},{"$f":"IF('DC Power Distribution (Desc)'!L102=\"\",\"\",INDEX([1]YES_NO!$A$2:$A$100,MATCH('DC Power Distribution (Desc)'!$L102,[1]!MASTER_YES_NO_DESC[#Data],0),0))","v":""},{"$f":"IF('DC Power Distribution (Desc)'!M102=\"\",\"\",INDEX([1]DEV_INPUT_VOLTAGE!$A$2:$A$100,MATCH('DC Power Distribution (Desc)'!$M102,[1]!MASTER_DEV_INPUT_VOLTAGE_DESC[#Data],0),0))","v":""},{"$f":"IF('DC Power Distribution (Desc)'!N102=\"\",\"\",INDEX([1]DEV_OUTPUT_VOLTAGE!$A$2:$A$100,MATCH('DC Power Distribution (Desc)'!$N102,[1]!MASTER_DEV_INPUT_VOLTAGE_DESC[#Data],0),0))","v":""},{"$f":"IF('DC Power Distribution (Desc)'!O102=\"\",\"\",'DC Power Distribution (Desc)'!O102)","v":""},{"$f":"IF('DC Power Distribution (Desc)'!P102=\"\",\"\",'DC Power Distribution (Desc)'!P102)","v":""},{"$f":"IF('DC Power Distribution (Desc)'!Q102=\"\",\"\",'DC Power Distribution (Desc)'!Q102)","v":""},{"$f":"IF('DC Power Distribution (Desc)'!C102=\"\",\"\",\"NA\")","v":""}]
[{"$f":"IF('DC Power Distribution (Desc)'!A103=\"\",\"\",'DC Power Distribution (Desc)'!A103)","v":""},{"$f":"IF('DC Power Distribution (Desc)'!C103=\"\",\"\",2029)","v":""},{"$f":"IF('DC Power Distribution (Desc)'!C103=\"\",\"\",'DC Power Distribution (Desc)'!C103)","v":""},{"$f":"IF('DC Power Distribution (Desc)'!E103=\"\",\"\",'DC Power Distribution (Desc)'!E103)","v":""},{"$f":"IF('DC Power Distribution (Desc)'!F103=\"\",\"\",INDEX([1]ELECTRIC_DEV_MANUF!$A$2:$A$1500,MATCH(1,([1]ELECTRIC_DEV_MANUF!$B$2:$B$1500='DC Power Distribution (Desc)'!$F103)*([1]ELECTRIC_DEV_MANUF!$D$2:$D$1500=\"DCPWRDIS\"),0),0))","v":""},{"$f":"IF('DC Power Distribution (Desc)'!G103=\"\",\"\",INDEX([1]ELECTRIC_DEV_MODEL!$A$2:$A$1500,MATCH(1,([1]ELECTRIC_DEV_MODEL!$C$2:$C$1500='DC Power Distribution (Desc)'!$F103)*([1]ELECTRIC_DEV_MODEL!$D$2:$D$1500='DC Power Distribution (Desc)'!$G103)*([1]ELECTRIC_DEV_MODEL!$F$2:$F$1500=\"DCPWRDIS\"),0),0))","v":""},{"$f":"IF('DC Power Distribution (Desc)'!H103=\"\",\"\",'DC Power Distribution (Desc)'!H103)","v":""},{"$f":"IF('DC Power Distribution (Desc)'!I103=\"\",\"\",INDEX([1]YES_NO!$A$2:$A$100,MATCH('DC Power Distribution (Desc)'!$I103,[1]!MASTER_YES_NO_DESC[#Data],0),0))","v":""},{"$f":"IF('DC Power Distribution (Desc)'!J103=\"\",\"\",'DC Power Distribution (Desc)'!J103)","v":""},{"$f":"IF('DC Power Distribution (Desc)'!K103=\"\",\"\",'DC Power Distribution (Desc)'!K103)","v":""},{"$f":"IF('DC Power Distribution (Desc)'!L103=\"\",\"\",INDEX([1]YES_NO!$A$2:$A$100,MATCH('DC Power Distribution (Desc)'!$L103,[1]!MASTER_YES_NO_DESC[#Data],0),0))","v":""},{"$f":"IF('DC Power Distribution (Desc)'!M103=\"\",\"\",INDEX([1]DEV_INPUT_VOLTAGE!$A$2:$A$100,MATCH('DC Power Distribution (Desc)'!$M103,[1]!MASTER_DEV_INPUT_VOLTAGE_DESC[#Data],0),0))","v":""},{"$f":"IF('DC Power Distribution (Desc)'!N103=\"\",\"\",INDEX([1]DEV_OUTPUT_VOLTAGE!$A$2:$A$100,MATCH('DC Power Distribution (Desc)'!$N103,[1]!MASTER_DEV_INPUT_VOLTAGE_DESC[#Data],0),0))","v":""},{"$f":"IF('DC Power Distribution (Desc)'!O103=\"\",\"\",'DC Power Distribution (Desc)'!O103)","v":""},{"$f":"IF('DC Power Distribution (Desc)'!P103=\"\",\"\",'DC Power Distribution (Desc)'!P103)","v":""},{"$f":"IF('DC Power Distribution (Desc)'!Q103=\"\",\"\",'DC Power Distribution (Desc)'!Q103)","v":""},{"$f":"IF('DC Power Distribution (Desc)'!C103=\"\",\"\",\"NA\")","v":""}]
[{"$f":"IF('DC Power Distribution (Desc)'!A104=\"\",\"\",'DC Power Distribution (Desc)'!A104)","v":""},{"$f":"IF('DC Power Distribution (Desc)'!C104=\"\",\"\",2029)","v":""},{"$f":"IF('DC Power Distribution (Desc)'!C104=\"\",\"\",'DC Power Distribution (Desc)'!C104)","v":""},{"$f":"IF('DC Power Distribution (Desc)'!E104=\"\",\"\",'DC Power Distribution (Desc)'!E104)","v":""},{"$f":"IF('DC Power Distribution (Desc)'!F104=\"\",\"\",INDEX([1]ELECTRIC_DEV_MANUF!$A$2:$A$1500,MATCH(1,([1]ELECTRIC_DEV_MANUF!$B$2:$B$1500='DC Power Distribution (Desc)'!$F104)*([1]ELECTRIC_DEV_MANUF!$D$2:$D$1500=\"DCPWRDIS\"),0),0))","v":""},{"$f":"IF('DC Power Distribution (Desc)'!G104=\"\",\"\",INDEX([1]ELECTRIC_DEV_MODEL!$A$2:$A$1500,MATCH(1,([1]ELECTRIC_DEV_MODEL!$C$2:$C$1500='DC Power Distribution (Desc)'!$F104)*([1]ELECTRIC_DEV_MODEL!$D$2:$D$1500='DC Power Distribution (Desc)'!$G104)*([1]ELECTRIC_DEV_MODEL!$F$2:$F$1500=\"DCPWRDIS\"),0),0))","v":""},{"$f":"IF('DC Power Distribution (Desc)'!H104=\"\",\"\",'DC Power Distribution (Desc)'!H104)","v":""},{"$f":"IF('DC Power Distribution (Desc)'!I104=\"\",\"\",INDEX([1]YES_NO!$A$2:$A$100,MATCH('DC Power Distribution (Desc)'!$I104,[1]!MASTER_YES_NO_DESC[#Data],0),0))","v":""},{"$f":"IF('DC Power Distribution (Desc)'!J104=\"\",\"\",'DC Power Distribution (Desc)'!J104)","v":""},{"$f":"IF('DC Power Distribution (Desc)'!K104=\"\",\"\",'DC Power Distribution (Desc)'!K104)","v":""},{"$f":"IF('DC Power Distribution (Desc)'!L104=\"\",\"\",INDEX([1]YES_NO!$A$2:$A$100,MATCH('DC Power Distribution (Desc)'!$L104,[1]!MASTER_YES_NO_DESC[#Data],0),0))","v":""},{"$f":"IF('DC Power Distribution (Desc)'!M104=\"\",\"\",INDEX([1]DEV_INPUT_VOLTAGE!$A$2:$A$100,MATCH('DC Power Distribution (Desc)'!$M104,[1]!MASTER_DEV_INPUT_VOLTAGE_DESC[#Data],0),0))","v":""},{"$f":"IF('DC Power Distribution (Desc)'!N104=\"\",\"\",INDEX([1]DEV_OUTPUT_VOLTAGE!$A$2:$A$100,MATCH('DC Power Distribution (Desc)'!$N104,[1]!MASTER_DEV_INPUT_VOLTAGE_DESC[#Data],0),0))","v":""},{"$f":"IF('DC Power Distribution (Desc)'!O104=\"\",\"\",'DC Power Distribution (Desc)'!O104)","v":""},{"$f":"IF('DC Power Distribution (Desc)'!P104=\"\",\"\",'DC Power Distribution (Desc)'!P104)","v":""},{"$f":"IF('DC Power Distribution (Desc)'!Q104=\"\",\"\",'DC Power Distribution (Desc)'!Q104)","v":""},{"$f":"IF('DC Power Distribution (Desc)'!C104=\"\",\"\",\"NA\")","v":""}]
[{"$f":"IF('DC Power Distribution (Desc)'!A105=\"\",\"\",'DC Power Distribution (Desc)'!A105)","v":""},{"$f":"IF('DC Power Distribution (Desc)'!C105=\"\",\"\",2029)","v":""},{"$f":"IF('DC Power Distribution (Desc)'!C105=\"\",\"\",'DC Power Distribution (Desc)'!C105)","v":""},{"$f":"IF('DC Power Distribution (Desc)'!E105=\"\",\"\",'DC Power Distribution (Desc)'!E105)","v":""},{"$f":"IF('DC Power Distribution (Desc)'!F105=\"\",\"\",INDEX([1]ELECTRIC_DEV_MANUF!$A$2:$A$1500,MATCH(1,([1]ELECTRIC_DEV_MANUF!$B$2:$B$1500='DC Power Distribution (Desc)'!$F105)*([1]ELECTRIC_DEV_MANUF!$D$2:$D$1500=\"DCPWRDIS\"),0),0))","v":""},{"$f":"IF('DC Power Distribution (Desc)'!G105=\"\",\"\",INDEX([1]ELECTRIC_DEV_MODEL!$A$2:$A$1500,MATCH(1,([1]ELECTRIC_DEV_MODEL!$C$2:$C$1500='DC Power Distribution (Desc)'!$F105)*([1]ELECTRIC_DEV_MODEL!$D$2:$D$1500='DC Power Distribution (Desc)'!$G105)*([1]ELECTRIC_DEV_MODEL!$F$2:$F$1500=\"DCPWRDIS\"),0),0))","v":""},{"$f":"IF('DC Power Distribution (Desc)'!H105=\"\",\"\",'DC Power Distribution (Desc)'!H105)","v":""},{"$f":"IF('DC Power Distribution (Desc)'!I105=\"\",\"\",INDEX([1]YES_NO!$A$2:$A$100,MATCH('DC Power Distribution (Desc)'!$I105,[1]!MASTER_YES_NO_DESC[#Data],0),0))","v":""},{"$f":"IF('DC Power Distribution (Desc)'!J105=\"\",\"\",'DC Power Distribution (Desc)'!J105)","v":""},{"$f":"IF('DC Power Distribution (Desc)'!K105=\"\",\"\",'DC Power Distribution (Desc)'!K105)","v":""},{"$f":"IF('DC Power Distribution (Desc)'!L105=\"\",\"\",INDEX([1]YES_NO!$A$2:$A$100,MATCH('DC Power Distribution (Desc)'!$L105,[1]!MASTER_YES_NO_DESC[#Data],0),0))","v":""},{"$f":"IF('DC Power Distribution (Desc)'!M105=\"\",\"\",INDEX([1]DEV_INPUT_VOLTAGE!$A$2:$A$100,MATCH('DC Power Distribution (Desc)'!$M105,[1]!MASTER_DEV_INPUT_VOLTAGE_DESC[#Data],0),0))","v":""},{"$f":"IF('DC Power Distribution (Desc)'!N105=\"\",\"\",INDEX([1]DEV_OUTPUT_VOLTAGE!$A$2:$A$100,MATCH('DC Power Distribution (Desc)'!$N105,[1]!MASTER_DEV_INPUT_VOLTAGE_DESC[#Data],0),0))","v":""},{"$f":"IF('DC Power Distribution (Desc)'!O105=\"\",\"\",'DC Power Distribution (Desc)'!O105)","v":""},{"$f":"IF('DC Power Distribution (Desc)'!P105=\"\",\"\",'DC Power Distribution (Desc)'!P105)","v":""},{"$f":"IF('DC Power Distribution (Desc)'!Q105=\"\",\"\",'DC Power Distribution (Desc)'!Q105)","v":""},{"$f":"IF('DC Power Distribution (Desc)'!C105=\"\",\"\",\"NA\")","v":""}]
[{"$f":"IF('DC Power Distribution (Desc)'!A106=\"\",\"\",'DC Power Distribution (Desc)'!A106)","v":""},{"$f":"IF('DC Power Distribution (Desc)'!C106=\"\",\"\",2029)","v":""},{"$f":"IF('DC Power Distribution (Desc)'!C106=\"\",\"\",'DC Power Distribution (Desc)'!C106)","v":""},{"$f":"IF('DC Power Distribution (Desc)'!E106=\"\",\"\",'DC Power Distribution (Desc)'!E106)","v":""},{"$f":"IF('DC Power Distribution (Desc)'!F106=\"\",\"\",INDEX([1]ELECTRIC_DEV_MANUF!$A$2:$A$1500,MATCH(1,([1]ELECTRIC_DEV_MANUF!$B$2:$B$1500='DC Power Distribution (Desc)'!$F106)*([1]ELECTRIC_DEV_MANUF!$D$2:$D$1500=\"DCPWRDIS\"),0),0))","v":""},{"$f":"IF('DC Power Distribution (Desc)'!G106=\"\",\"\",INDEX([1]ELECTRIC_DEV_MODEL!$A$2:$A$1500,MATCH(1,([1]ELECTRIC_DEV_MODEL!$C$2:$C$1500='DC Power Distribution (Desc)'!$F106)*([1]ELECTRIC_DEV_MODEL!$D$2:$D$1500='DC Power Distribution (Desc)'!$G106)*([1]ELECTRIC_DEV_MODEL!$F$2:$F$1500=\"DCPWRDIS\"),0),0))","v":""},{"$f":"IF('DC Power Distribution (Desc)'!H106=\"\",\"\",'DC Power Distribution (Desc)'!H106)","v":""},{"$f":"IF('DC Power Distribution (Desc)'!I106=\"\",\"\",INDEX([1]YES_NO!$A$2:$A$100,MATCH('DC Power Distribution (Desc)'!$I106,[1]!MASTER_YES_NO_DESC[#Data],0),0))","v":""},{"$f":"IF('DC Power Distribution (Desc)'!J106=\"\",\"\",'DC Power Distribution (Desc)'!J106)","v":""},{"$f":"IF('DC Power Distribution (Desc)'!K106=\"\",\"\",'DC Power Distribution (Desc)'!K106)","v":""},{"$f":"IF('DC Power Distribution (Desc)'!L106=\"\",\"\",INDEX([1]YES_NO!$A$2:$A$100,MATCH('DC Power Distribution (Desc)'!$L106,[1]!MASTER_YES_NO_DESC[#Data],0),0))","v":""},{"$f":"IF('DC Power Distribution (Desc)'!M106=\"\",\"\",INDEX([1]DEV_INPUT_VOLTAGE!$A$2:$A$100,MATCH('DC Power Distribution (Desc)'!$M106,[1]!MASTER_DEV_INPUT_VOLTAGE_DESC[#Data],0),0))","v":""},{"$f":"IF('DC Power Distribution (Desc)'!N106=\"\",\"\",INDEX([1]DEV_OUTPUT_VOLTAGE!$A$2:$A$100,MATCH('DC Power Distribution (Desc)'!$N106,[1]!MASTER_DEV_INPUT_VOLTAGE_DESC[#Data],0),0))","v":""},{"$f":"IF('DC Power Distribution (Desc)'!O106=\"\",\"\",'DC Power Distribution (Desc)'!O106)","v":""},{"$f":"IF('DC Power Distribution (Desc)'!P106=\"\",\"\",'DC Power Distribution (Desc)'!P106)","v":""},{"$f":"IF('DC Power Distribution (Desc)'!Q106=\"\",\"\",'DC Power Distribution (Desc)'!Q106)","v":""},{"$f":"IF('DC Power Distribution (Desc)'!C106=\"\",\"\",\"NA\")","v":""}]
[{"$f":"IF('DC Power Distribution (Desc)'!A107=\"\",\"\",'DC Power Distribution (Desc)'!A107)","v":""},{"$f":"IF('DC Power Distribution (Desc)'!C107=\"\",\"\",2029)","v":""},{"$f":"IF('DC Power Distribution (Desc)'!C107=\"\",\"\",'DC Power Distribution (Desc)'!C107)","v":""},{"$f":"IF('DC Power Distribution (Desc)'!E107=\"\",\"\",'DC Power Distribution (Desc)'!E107)","v":""},{"$f":"IF('DC Power Distribution (Desc)'!F107=\"\",\"\",INDEX([1]ELECTRIC_DEV_MANUF!$A$2:$A$1500,MATCH(1,([1]ELECTRIC_DEV_MANUF!$B$2:$B$1500='DC Power Distribution (Desc)'!$F107)*([1]ELECTRIC_DEV_MANUF!$D$2:$D$1500=\"DCPWRDIS\"),0),0))","v":""},{"$f":"IF('DC Power Distribution (Desc)'!G107=\"\",\"\",INDEX([1]ELECTRIC_DEV_MODEL!$A$2:$A$1500,MATCH(1,([1]ELECTRIC_DEV_MODEL!$C$2:$C$1500='DC Power Distribution (Desc)'!$F107)*([1]ELECTRIC_DEV_MODEL!$D$2:$D$1500='DC Power Distribution (Desc)'!$G107)*([1]ELECTRIC_DEV_MODEL!$F$2:$F$1500=\"DCPWRDIS\"),0),0))","v":""},{"$f":"IF('DC Power Distribution (Desc)'!H107=\"\",\"\",'DC Power Distribution (Desc)'!H107)","v":""},{"$f":"IF('DC Power Distribution (Desc)'!I107=\"\",\"\",INDEX([1]YES_NO!$A$2:$A$100,MATCH('DC Power Distribution (Desc)'!$I107,[1]!MASTER_YES_NO_DESC[#Data],0),0))","v":""},{"$f":"IF('DC Power Distribution (Desc)'!J107=\"\",\"\",'DC Power Distribution (Desc)'!J107)","v":""},{"$f":"IF('DC Power Distribution (Desc)'!K107=\"\",\"\",'DC Power Distribution (Desc)'!K107)","v":""},{"$f":"IF('DC Power Distribution (Desc)'!L107=\"\",\"\",INDEX([1]YES_NO!$A$2:$A$100,MATCH('DC Power Distribution (Desc)'!$L107,[1]!MASTER_YES_NO_DESC[#Data],0),0))","v":""},{"$f":"IF('DC Power Distribution (Desc)'!M107=\"\",\"\",INDEX([1]DEV_INPUT_VOLTAGE!$A$2:$A$100,MATCH('DC Power Distribution (Desc)'!$M107,[1]!MASTER_DEV_INPUT_VOLTAGE_DESC[#Data],0),0))","v":""},{"$f":"IF('DC Power Distribution (Desc)'!N107=\"\",\"\",INDEX([1]DEV_OUTPUT_VOLTAGE!$A$2:$A$100,MATCH('DC Power Distribution (Desc)'!$N107,[1]!MASTER_DEV_INPUT_VOLTAGE_DESC[#Data],0),0))","v":""},{"$f":"IF('DC Power Distribution (Desc)'!O107=\"\",\"\",'DC Power Distribution (Desc)'!O107)","v":""},{"$f":"IF('DC Power Distribution (Desc)'!P107=\"\",\"\",'DC Power Distribution (Desc)'!P107)","v":""},{"$f":"IF('DC Power Distribution (Desc)'!Q107=\"\",\"\",'DC Power Distribution (Desc)'!Q107)","v":""},{"$f":"IF('DC Power Distribution (Desc)'!C107=\"\",\"\",\"NA\")","v":""}]
[{"$f":"IF('DC Power Distribution (Desc)'!A108=\"\",\"\",'DC Power Distribution (Desc)'!A108)","v":""},{"$f":"IF('DC Power Distribution (Desc)'!C108=\"\",\"\",2029)","v":""},{"$f":"IF('DC Power Distribution (Desc)'!C108=\"\",\"\",'DC Power Distribution (Desc)'!C108)","v":""},{"$f":"IF('DC Power Distribution (Desc)'!E108=\"\",\"\",'DC Power Distribution (Desc)'!E108)","v":""},{"$f":"IF('DC Power Distribution (Desc)'!F108=\"\",\"\",INDEX([1]ELECTRIC_DEV_MANUF!$A$2:$A$1500,MATCH(1,([1]ELECTRIC_DEV_MANUF!$B$2:$B$1500='DC Power Distribution (Desc)'!$F108)*([1]ELECTRIC_DEV_MANUF!$D$2:$D$1500=\"DCPWRDIS\"),0),0))","v":""},{"$f":"IF('DC Power Distribution (Desc)'!G108=\"\",\"\",INDEX([1]ELECTRIC_DEV_MODEL!$A$2:$A$1500,MATCH(1,([1]ELECTRIC_DEV_MODEL!$C$2:$C$1500='DC Power Distribution (Desc)'!$F108)*([1]ELECTRIC_DEV_MODEL!$D$2:$D$1500='DC Power Distribution (Desc)'!$G108)*([1]ELECTRIC_DEV_MODEL!$F$2:$F$1500=\"DCPWRDIS\"),0),0))","v":""},{"$f":"IF('DC Power Distribution (Desc)'!H108=\"\",\"\",'DC Power Distribution (Desc)'!H108)","v":""},{"$f":"IF('DC Power Distribution (Desc)'!I108=\"\",\"\",INDEX([1]YES_NO!$A$2:$A$100,MATCH('DC Power Distribution (Desc)'!$I108,[1]!MASTER_YES_NO_DESC[#Data],0),0))","v":""},{"$f":"IF('DC Power Distribution (Desc)'!J108=\"\",\"\",'DC Power Distribution (Desc)'!J108)","v":""},{"$f":"IF('DC Power Distribution (Desc)'!K108=\"\",\"\",'DC Power Distribution (Desc)'!K108)","v":""},{"$f":"IF('DC Power Distribution (Desc)'!L108=\"\",\"\",INDEX([1]YES_NO!$A$2:$A$100,MATCH('DC Power Distribution (Desc)'!$L108,[1]!MASTER_YES_NO_DESC[#Data],0),0))","v":""},{"$f":"IF('DC Power Distribution (Desc)'!M108=\"\",\"\",INDEX([1]DEV_INPUT_VOLTAGE!$A$2:$A$100,MATCH('DC Power Distribution (Desc)'!$M108,[1]!MASTER_DEV_INPUT_VOLTAGE_DESC[#Data],0),0))","v":""},{"$f":"IF('DC Power Distribution (Desc)'!N108=\"\",\"\",INDEX([1]DEV_OUTPUT_VOLTAGE!$A$2:$A$100,MATCH('DC Power Distribution (Desc)'!$N108,[1]!MASTER_DEV_INPUT_VOLTAGE_DESC[#Data],0),0))","v":""},{"$f":"IF('DC Power Distribution (Desc)'!O108=\"\",\"\",'DC Power Distribution (Desc)'!O108)","v":""},{"$f":"IF('DC Power Distribution (Desc)'!P108=\"\",\"\",'DC Power Distribution (Desc)'!P108)","v":""},{"$f":"IF('DC Power Distribution (Desc)'!Q108=\"\",\"\",'DC Power Distribution (Desc)'!Q108)","v":""},{"$f":"IF('DC Power Distribution (Desc)'!C108=\"\",\"\",\"NA\")","v":""}]
[{"$f":"IF('DC Power Distribution (Desc)'!A109=\"\",\"\",'DC Power Distribution (Desc)'!A109)","v":""},{"$f":"IF('DC Power Distribution (Desc)'!C109=\"\",\"\",2029)","v":""},{"$f":"IF('DC Power Distribution (Desc)'!C109=\"\",\"\",'DC Power Distribution (Desc)'!C109)","v":""},{"$f":"IF('DC Power Distribution (Desc)'!E109=\"\",\"\",'DC Power Distribution (Desc)'!E109)","v":""},{"$f":"IF('DC Power Distribution (Desc)'!F109=\"\",\"\",INDEX([1]ELECTRIC_DEV_MANUF!$A$2:$A$1500,MATCH(1,([1]ELECTRIC_DEV_MANUF!$B$2:$B$1500='DC Power Distribution (Desc)'!$F109)*([1]ELECTRIC_DEV_MANUF!$D$2:$D$1500=\"DCPWRDIS\"),0),0))","v":""},{"$f":"IF('DC Power Distribution (Desc)'!G109=\"\",\"\",INDEX([1]ELECTRIC_DEV_MODEL!$A$2:$A$1500,MATCH(1,([1]ELECTRIC_DEV_MODEL!$C$2:$C$1500='DC Power Distribution (Desc)'!$F109)*([1]ELECTRIC_DEV_MODEL!$D$2:$D$1500='DC Power Distribution (Desc)'!$G109)*([1]ELECTRIC_DEV_MODEL!$F$2:$F$1500=\"DCPWRDIS\"),0),0))","v":""},{"$f":"IF('DC Power Distribution (Desc)'!H109=\"\",\"\",'DC Power Distribution (Desc)'!H109)","v":""},{"$f":"IF('DC Power Distribution (Desc)'!I109=\"\",\"\",INDEX([1]YES_NO!$A$2:$A$100,MATCH('DC Power Distribution (Desc)'!$I109,[1]!MASTER_YES_NO_DESC[#Data],0),0))","v":""},{"$f":"IF('DC Power Distribution (Desc)'!J109=\"\",\"\",'DC Power Distribution (Desc)'!J109)","v":""},{"$f":"IF('DC Power Distribution (Desc)'!K109=\"\",\"\",'DC Power Distribution (Desc)'!K109)","v":""},{"$f":"IF('DC Power Distribution (Desc)'!L109=\"\",\"\",INDEX([1]YES_NO!$A$2:$A$100,MATCH('DC Power Distribution (Desc)'!$L109,[1]!MASTER_YES_NO_DESC[#Data],0),0))","v":""},{"$f":"IF('DC Power Distribution (Desc)'!M109=\"\",\"\",INDEX([1]DEV_INPUT_VOLTAGE!$A$2:$A$100,MATCH('DC Power Distribution (Desc)'!$M109,[1]!MASTER_DEV_INPUT_VOLTAGE_DESC[#Data],0),0))","v":""},{"$f":"IF('DC Power Distribution (Desc)'!N109=\"\",\"\",INDEX([1]DEV_OUTPUT_VOLTAGE!$A$2:$A$100,MATCH('DC Power Distribution (Desc)'!$N109,[1]!MASTER_DEV_INPUT_VOLTAGE_DESC[#Data],0),0))","v":""},{"$f":"IF('DC Power Distribution (Desc)'!O109=\"\",\"\",'DC Power Distribution (Desc)'!O109)","v":""},{"$f":"IF('DC Power Distribution (Desc)'!P109=\"\",\"\",'DC Power Distribution (Desc)'!P109)","v":""},{"$f":"IF('DC Power Distribution (Desc)'!Q109=\"\",\"\",'DC Power Distribution (Desc)'!Q109)","v":""},{"$f":"IF('DC Power Distribution (Desc)'!C109=\"\",\"\",\"NA\")","v":""}]
[{"$f":"IF('DC Power Distribution (Desc)'!A110=\"\",\"\",'DC Power Distribution (Desc)'!A110)","v":""},{"$f":"IF('DC Power Distribution (Desc)'!C110=\"\",\"\",2029)","v":""},{"$f":"IF('DC Power Distribution (Desc)'!C110=\"\",\"\",'DC Power Distribution (Desc)'!C110)","v":""},{"$f":"IF('DC Power Distribution (Desc)'!E110=\"\",\"\",'DC Power Distribution (Desc)'!E110)","v":""},{"$f":"IF('DC Power Distribution (Desc)'!F110=\"\",\"\",INDEX([1]ELECTRIC_DEV_MANUF!$A$2:$A$1500,MATCH(1,([1]ELECTRIC_DEV_MANUF!$B$2:$B$1500='DC Power Distribution (Desc)'!$F110)*([1]ELECTRIC_DEV_MANUF!$D$2:$D$1500=\"DCPWRDIS\"),0),0))","v":""},{"$f":"IF('DC Power Distribution (Desc)'!G110=\"\",\"\",INDEX([1]ELECTRIC_DEV_MODEL!$A$2:$A$1500,MATCH(1,([1]ELECTRIC_DEV_MODEL!$C$2:$C$1500='DC Power Distribution (Desc)'!$F110)*([1]ELECTRIC_DEV_MODEL!$D$2:$D$1500='DC Power Distribution (Desc)'!$G110)*([1]ELECTRIC_DEV_MODEL!$F$2:$F$1500=\"DCPWRDIS\"),0),0))","v":""},{"$f":"IF('DC Power Distribution (Desc)'!H110=\"\",\"\",'DC Power Distribution (Desc)'!H110)","v":""},{"$f":"IF('DC Power Distribution (Desc)'!I110=\"\",\"\",INDEX([1]YES_NO!$A$2:$A$100,MATCH('DC Power Distribution (Desc)'!$I110,[1]!MASTER_YES_NO_DESC[#Data],0),0))","v":""},{"$f":"IF('DC Power Distribution (Desc)'!J110=\"\",\"\",'DC Power Distribution (Desc)'!J110)","v":""},{"$f":"IF('DC Power Distribution (Desc)'!K110=\"\",\"\",'DC Power Distribution (Desc)'!K110)","v":""},{"$f":"IF('DC Power Distribution (Desc)'!L110=\"\",\"\",INDEX([1]YES_NO!$A$2:$A$100,MATCH('DC Power Distribution (Desc)'!$L110,[1]!MASTER_YES_NO_DESC[#Data],0),0))","v":""},{"$f":"IF('DC Power Distribution (Desc)'!M110=\"\",\"\",INDEX([1]DEV_INPUT_VOLTAGE!$A$2:$A$100,MATCH('DC Power Distribution (Desc)'!$M110,[1]!MASTER_DEV_INPUT_VOLTAGE_DESC[#Data],0),0))","v":""},{"$f":"IF('DC Power Distribution (Desc)'!N110=\"\",\"\",INDEX([1]DEV_OUTPUT_VOLTAGE!$A$2:$A$100,MATCH('DC Power Distribution (Desc)'!$N110,[1]!MASTER_DEV_INPUT_VOLTAGE_DESC[#Data],0),0))","v":""},{"$f":"IF('DC Power Distribution (Desc)'!O110=\"\",\"\",'DC Power Distribution (Desc)'!O110)","v":""},{"$f":"IF('DC Power Distribution (Desc)'!P110=\"\",\"\",'DC Power Distribution (Desc)'!P110)","v":""},{"$f":"IF('DC Power Distribution (Desc)'!Q110=\"\",\"\",'DC Power Distribution (Desc)'!Q110)","v":""},{"$f":"IF('DC Power Distribution (Desc)'!C110=\"\",\"\",\"NA\")","v":""}]
[{"$f":"IF('DC Power Distribution (Desc)'!A111=\"\",\"\",'DC Power Distribution (Desc)'!A111)","v":""},{"$f":"IF('DC Power Distribution (Desc)'!C111=\"\",\"\",2029)","v":""},{"$f":"IF('DC Power Distribution (Desc)'!C111=\"\",\"\",'DC Power Distribution (Desc)'!C111)","v":""},{"$f":"IF('DC Power Distribution (Desc)'!E111=\"\",\"\",'DC Power Distribution (Desc)'!E111)","v":""},{"$f":"IF('DC Power Distribution (Desc)'!F111=\"\",\"\",INDEX([1]ELECTRIC_DEV_MANUF!$A$2:$A$1500,MATCH(1,([1]ELECTRIC_DEV_MANUF!$B$2:$B$1500='DC Power Distribution (Desc)'!$F111)*([1]ELECTRIC_DEV_MANUF!$D$2:$D$1500=\"DCPWRDIS\"),0),0))","v":""},{"$f":"IF('DC Power Distribution (Desc)'!G111=\"\",\"\",INDEX([1]ELECTRIC_DEV_MODEL!$A$2:$A$1500,MATCH(1,([1]ELECTRIC_DEV_MODEL!$C$2:$C$1500='DC Power Distribution (Desc)'!$F111)*([1]ELECTRIC_DEV_MODEL!$D$2:$D$1500='DC Power Distribution (Desc)'!$G111)*([1]ELECTRIC_DEV_MODEL!$F$2:$F$1500=\"DCPWRDIS\"),0),0))","v":""},{"$f":"IF('DC Power Distribution (Desc)'!H111=\"\",\"\",'DC Power Distribution (Desc)'!H111)","v":""},{"$f":"IF('DC Power Distribution (Desc)'!I111=\"\",\"\",INDEX([1]YES_NO!$A$2:$A$100,MATCH('DC Power Distribution (Desc)'!$I111,[1]!MASTER_YES_NO_DESC[#Data],0),0))","v":""},{"$f":"IF('DC Power Distribution (Desc)'!J111=\"\",\"\",'DC Power Distribution (Desc)'!J111)","v":""},{"$f":"IF('DC Power Distribution (Desc)'!K111=\"\",\"\",'DC Power Distribution (Desc)'!K111)","v":""},{"$f":"IF('DC Power Distribution (Desc)'!L111=\"\",\"\",INDEX([1]YES_NO!$A$2:$A$100,MATCH('DC Power Distribution (Desc)'!$L111,[1]!MASTER_YES_NO_DESC[#Data],0),0))","v":""},{"$f":"IF('DC Power Distribution (Desc)'!M111=\"\",\"\",INDEX([1]DEV_INPUT_VOLTAGE!$A$2:$A$100,MATCH('DC Power Distribution (Desc)'!$M111,[1]!MASTER_DEV_INPUT_VOLTAGE_DESC[#Data],0),0))","v":""},{"$f":"IF('DC Power Distribution (Desc)'!N111=\"\",\"\",INDEX([1]DEV_OUTPUT_VOLTAGE!$A$2:$A$100,MATCH('DC Power Distribution (Desc)'!$N111,[1]!MASTER_DEV_INPUT_VOLTAGE_DESC[#Data],0),0))","v":""},{"$f":"IF('DC Power Distribution (Desc)'!O111=\"\",\"\",'DC Power Distribution (Desc)'!O111)","v":""},{"$f":"IF('DC Power Distribution (Desc)'!P111=\"\",\"\",'DC Power Distribution (Desc)'!P111)","v":""},{"$f":"IF('DC Power Distribution (Desc)'!Q111=\"\",\"\",'DC Power Distribution (Desc)'!Q111)","v":""},{"$f":"IF('DC Power Distribution (Desc)'!C111=\"\",\"\",\"NA\")","v":""}]
[{"$f":"IF('DC Power Distribution (Desc)'!A112=\"\",\"\",'DC Power Distribution (Desc)'!A112)","v":""},{"$f":"IF('DC Power Distribution (Desc)'!C112=\"\",\"\",2029)","v":""},{"$f":"IF('DC Power Distribution (Desc)'!C112=\"\",\"\",'DC Power Distribution (Desc)'!C112)","v":""},{"$f":"IF('DC Power Distribution (Desc)'!E112=\"\",\"\",'DC Power Distribution (Desc)'!E112)","v":""},{"$f":"IF('DC Power Distribution (Desc)'!F112=\"\",\"\",INDEX([1]ELECTRIC_DEV_MANUF!$A$2:$A$1500,MATCH(1,([1]ELECTRIC_DEV_MANUF!$B$2:$B$1500='DC Power Distribution (Desc)'!$F112)*([1]ELECTRIC_DEV_MANUF!$D$2:$D$1500=\"DCPWRDIS\"),0),0))","v":""},{"$f":"IF('DC Power Distribution (Desc)'!G112=\"\",\"\",INDEX([1]ELECTRIC_DEV_MODEL!$A$2:$A$1500,MATCH(1,([1]ELECTRIC_DEV_MODEL!$C$2:$C$1500='DC Power Distribution (Desc)'!$F112)*([1]ELECTRIC_DEV_MODEL!$D$2:$D$1500='DC Power Distribution (Desc)'!$G112)*([1]ELECTRIC_DEV_MODEL!$F$2:$F$1500=\"DCPWRDIS\"),0),0))","v":""},{"$f":"IF('DC Power Distribution (Desc)'!H112=\"\",\"\",'DC Power Distribution (Desc)'!H112)","v":""},{"$f":"IF('DC Power Distribution (Desc)'!I112=\"\",\"\",INDEX([1]YES_NO!$A$2:$A$100,MATCH('DC Power Distribution (Desc)'!$I112,[1]!MASTER_YES_NO_DESC[#Data],0),0))","v":""},{"$f":"IF('DC Power Distribution (Desc)'!J112=\"\",\"\",'DC Power Distribution (Desc)'!J112)","v":""},{"$f":"IF('DC Power Distribution (Desc)'!K112=\"\",\"\",'DC Power Distribution (Desc)'!K112)","v":""},{"$f":"IF('DC Power Distribution (Desc)'!L112=\"\",\"\",INDEX([1]YES_NO!$A$2:$A$100,MATCH('DC Power Distribution (Desc)'!$L112,[1]!MASTER_YES_NO_DESC[#Data],0),0))","v":""},{"$f":"IF('DC Power Distribution (Desc)'!M112=\"\",\"\",INDEX([1]DEV_INPUT_VOLTAGE!$A$2:$A$100,MATCH('DC Power Distribution (Desc)'!$M112,[1]!MASTER_DEV_INPUT_VOLTAGE_DESC[#Data],0),0))","v":""},{"$f":"IF('DC Power Distribution (Desc)'!N112=\"\",\"\",INDEX([1]DEV_OUTPUT_VOLTAGE!$A$2:$A$100,MATCH('DC Power Distribution (Desc)'!$N112,[1]!MASTER_DEV_INPUT_VOLTAGE_DESC[#Data],0),0))","v":""},{"$f":"IF('DC Power Distribution (Desc)'!O112=\"\",\"\",'DC Power Distribution (Desc)'!O112)","v":""},{"$f":"IF('DC Power Distribution (Desc)'!P112=\"\",\"\",'DC Power Distribution (Desc)'!P112)","v":""},{"$f":"IF('DC Power Distribution (Desc)'!Q112=\"\",\"\",'DC Power Distribution (Desc)'!Q112)","v":""},{"$f":"IF('DC Power Distribution (Desc)'!C112=\"\",\"\",\"NA\")","v":""}]
[{"$f":"IF('DC Power Distribution (Desc)'!A113=\"\",\"\",'DC Power Distribution (Desc)'!A113)","v":""},{"$f":"IF('DC Power Distribution (Desc)'!C113=\"\",\"\",2029)","v":""},{"$f":"IF('DC Power Distribution (Desc)'!C113=\"\",\"\",'DC Power Distribution (Desc)'!C113)","v":""},{"$f":"IF('DC Power Distribution (Desc)'!E113=\"\",\"\",'DC Power Distribution (Desc)'!E113)","v":""},{"$f":"IF('DC Power Distribution (Desc)'!F113=\"\",\"\",INDEX([1]ELECTRIC_DEV_MANUF!$A$2:$A$1500,MATCH(1,([1]ELECTRIC_DEV_MANUF!$B$2:$B$1500='DC Power Distribution (Desc)'!$F113)*([1]ELECTRIC_DEV_MANUF!$D$2:$D$1500=\"DCPWRDIS\"),0),0))","v":""},{"$f":"IF('DC Power Distribution (Desc)'!G113=\"\",\"\",INDEX([1]ELECTRIC_DEV_MODEL!$A$2:$A$1500,MATCH(1,([1]ELECTRIC_DEV_MODEL!$C$2:$C$1500='DC Power Distribution (Desc)'!$F113)*([1]ELECTRIC_DEV_MODEL!$D$2:$D$1500='DC Power Distribution (Desc)'!$G113)*([1]ELECTRIC_DEV_MODEL!$F$2:$F$1500=\"DCPWRDIS\"),0),0))","v":""},{"$f":"IF('DC Power Distribution (Desc)'!H113=\"\",\"\",'DC Power Distribution (Desc)'!H113)","v":""},{"$f":"IF('DC Power Distribution (Desc)'!I113=\"\",\"\",INDEX([1]YES_NO!$A$2:$A$100,MATCH('DC Power Distribution (Desc)'!$I113,[1]!MASTER_YES_NO_DESC[#Data],0),0))","v":""},{"$f":"IF('DC Power Distribution (Desc)'!J113=\"\",\"\",'DC Power Distribution (Desc)'!J113)","v":""},{"$f":"IF('DC Power Distribution (Desc)'!K113=\"\",\"\",'DC Power Distribution (Desc)'!K113)","v":""},{"$f":"IF('DC Power Distribution (Desc)'!L113=\"\",\"\",INDEX([1]YES_NO!$A$2:$A$100,MATCH('DC Power Distribution (Desc)'!$L113,[1]!MASTER_YES_NO_DESC[#Data],0),0))","v":""},{"$f":"IF('DC Power Distribution (Desc)'!M113=\"\",\"\",INDEX([1]DEV_INPUT_VOLTAGE!$A$2:$A$100,MATCH('DC Power Distribution (Desc)'!$M113,[1]!MASTER_DEV_INPUT_VOLTAGE_DESC[#Data],0),0))","v":""},{"$f":"IF('DC Power Distribution (Desc)'!N113=\"\",\"\",INDEX([1]DEV_OUTPUT_VOLTAGE!$A$2:$A$100,MATCH('DC Power Distribution (Desc)'!$N113,[1]!MASTER_DEV_INPUT_VOLTAGE_DESC[#Data],0),0))","v":""},{"$f":"IF('DC Power Distribution (Desc)'!O113=\"\",\"\",'DC Power Distribution (Desc)'!O113)","v":""},{"$f":"IF('DC Power Distribution (Desc)'!P113=\"\",\"\",'DC Power Distribution (Desc)'!P113)","v":""},{"$f":"IF('DC Power Distribution (Desc)'!Q113=\"\",\"\",'DC Power Distribution (Desc)'!Q113)","v":""},{"$f":"IF('DC Power Distribution (Desc)'!C113=\"\",\"\",\"NA\")","v":""}]
[{"$f":"IF('DC Power Distribution (Desc)'!A114=\"\",\"\",'DC Power Distribution (Desc)'!A114)","v":""},{"$f":"IF('DC Power Distribution (Desc)'!C114=\"\",\"\",2029)","v":""},{"$f":"IF('DC Power Distribution (Desc)'!C114=\"\",\"\",'DC Power Distribution (Desc)'!C114)","v":""},{"$f":"IF('DC Power Distribution (Desc)'!E114=\"\",\"\",'DC Power Distribution (Desc)'!E114)","v":""},{"$f":"IF('DC Power Distribution (Desc)'!F114=\"\",\"\",INDEX([1]ELECTRIC_DEV_MANUF!$A$2:$A$1500,MATCH(1,([1]ELECTRIC_DEV_MANUF!$B$2:$B$1500='DC Power Distribution (Desc)'!$F114)*([1]ELECTRIC_DEV_MANUF!$D$2:$D$1500=\"DCPWRDIS\"),0),0))","v":""},{"$f":"IF('DC Power Distribution (Desc)'!G114=\"\",\"\",INDEX([1]ELECTRIC_DEV_MODEL!$A$2:$A$1500,MATCH(1,([1]ELECTRIC_DEV_MODEL!$C$2:$C$1500='DC Power Distribution (Desc)'!$F114)*([1]ELECTRIC_DEV_MODEL!$D$2:$D$1500='DC Power Distribution (Desc)'!$G114)*([1]ELECTRIC_DEV_MODEL!$F$2:$F$1500=\"DCPWRDIS\"),0),0))","v":""},{"$f":"IF('DC Power Distribution (Desc)'!H114=\"\",\"\",'DC Power Distribution (Desc)'!H114)","v":""},{"$f":"IF('DC Power Distribution (Desc)'!I114=\"\",\"\",INDEX([1]YES_NO!$A$2:$A$100,MATCH('DC Power Distribution (Desc)'!$I114,[1]!MASTER_YES_NO_DESC[#Data],0),0))","v":""},{"$f":"IF('DC Power Distribution (Desc)'!J114=\"\",\"\",'DC Power Distribution (Desc)'!J114)","v":""},{"$f":"IF('DC Power Distribution (Desc)'!K114=\"\",\"\",'DC Power Distribution (Desc)'!K114)","v":""},{"$f":"IF('DC Power Distribution (Desc)'!L114=\"\",\"\",INDEX([1]YES_NO!$A$2:$A$100,MATCH('DC Power Distribution (Desc)'!$L114,[1]!MASTER_YES_NO_DESC[#Data],0),0))","v":""},{"$f":"IF('DC Power Distribution (Desc)'!M114=\"\",\"\",INDEX([1]DEV_INPUT_VOLTAGE!$A$2:$A$100,MATCH('DC Power Distribution (Desc)'!$M114,[1]!MASTER_DEV_INPUT_VOLTAGE_DESC[#Data],0),0))","v":""},{"$f":"IF('DC Power Distribution (Desc)'!N114=\"\",\"\",INDEX([1]DEV_OUTPUT_VOLTAGE!$A$2:$A$100,MATCH('DC Power Distribution (Desc)'!$N114,[1]!MASTER_DEV_INPUT_VOLTAGE_DESC[#Data],0),0))","v":""},{"$f":"IF('DC Power Distribution (Desc)'!O114=\"\",\"\",'DC Power Distribution (Desc)'!O114)","v":""},{"$f":"IF('DC Power Distribution (Desc)'!P114=\"\",\"\",'DC Power Distribution (Desc)'!P114)","v":""},{"$f":"IF('DC Power Distribution (Desc)'!Q114=\"\",\"\",'DC Power Distribution (Desc)'!Q114)","v":""},{"$f":"IF('DC Power Distribution (Desc)'!C114=\"\",\"\",\"NA\")","v":""}]
[{"$f":"IF('DC Power Distribution (Desc)'!A115=\"\",\"\",'DC Power Distribution (Desc)'!A115)","v":""},{"$f":"IF('DC Power Distribution (Desc)'!C115=\"\",\"\",2029)","v":""},{"$f":"IF('DC Power Distribution (Desc)'!C115=\"\",\"\",'DC Power Distribution (Desc)'!C115)","v":""},{"$f":"IF('DC Power Distribution (Desc)'!E115=\"\",\"\",'DC Power Distribution (Desc)'!E115)","v":""},{"$f":"IF('DC Power Distribution (Desc)'!F115=\"\",\"\",INDEX([1]ELECTRIC_DEV_MANUF!$A$2:$A$1500,MATCH(1,([1]ELECTRIC_DEV_MANUF!$B$2:$B$1500='DC Power Distribution (Desc)'!$F115)*([1]ELECTRIC_DEV_MANUF!$D$2:$D$1500=\"DCPWRDIS\"),0),0))","v":""},{"$f":"IF('DC Power Distribution (Desc)'!G115=\"\",\"\",INDEX([1]ELECTRIC_DEV_MODEL!$A$2:$A$1500,MATCH(1,([1]ELECTRIC_DEV_MODEL!$C$2:$C$1500='DC Power Distribution (Desc)'!$F115)*([1]ELECTRIC_DEV_MODEL!$D$2:$D$1500='DC Power Distribution (Desc)'!$G115)*([1]ELECTRIC_DEV_MODEL!$F$2:$F$1500=\"DCPWRDIS\"),0),0))","v":""},{"$f":"IF('DC Power Distribution (Desc)'!H115=\"\",\"\",'DC Power Distribution (Desc)'!H115)","v":""},{"$f":"IF('DC Power Distribution (Desc)'!I115=\"\",\"\",INDEX([1]YES_NO!$A$2:$A$100,MATCH('DC Power Distribution (Desc)'!$I115,[1]!MASTER_YES_NO_DESC[#Data],0),0))","v":""},{"$f":"IF('DC Power Distribution (Desc)'!J115=\"\",\"\",'DC Power Distribution (Desc)'!J115)","v":""},{"$f":"IF('DC Power Distribution (Desc)'!K115=\"\",\"\",'DC Power Distribution (Desc)'!K115)","v":""},{"$f":"IF('DC Power Distribution (Desc)'!L115=\"\",\"\",INDEX([1]YES_NO!$A$2:$A$100,MATCH('DC Power Distribution (Desc)'!$L115,[1]!MASTER_YES_NO_DESC[#Data],0),0))","v":""},{"$f":"IF('DC Power Distribution (Desc)'!M115=\"\",\"\",INDEX([1]DEV_INPUT_VOLTAGE!$A$2:$A$100,MATCH('DC Power Distribution (Desc)'!$M115,[1]!MASTER_DEV_INPUT_VOLTAGE_DESC[#Data],0),0))","v":""},{"$f":"IF('DC Power Distribution (Desc)'!N115=\"\",\"\",INDEX([1]DEV_OUTPUT_VOLTAGE!$A$2:$A$100,MATCH('DC Power Distribution (Desc)'!$N115,[1]!MASTER_DEV_INPUT_VOLTAGE_DESC[#Data],0),0))","v":""},{"$f":"IF('DC Power Distribution (Desc)'!O115=\"\",\"\",'DC Power Distribution (Desc)'!O115)","v":""},{"$f":"IF('DC Power Distribution (Desc)'!P115=\"\",\"\",'DC Power Distribution (Desc)'!P115)","v":""},{"$f":"IF('DC Power Distribution (Desc)'!Q115=\"\",\"\",'DC Power Distribution (Desc)'!Q115)","v":""},{"$f":"IF('DC Power Distribution (Desc)'!C115=\"\",\"\",\"NA\")","v":""}]
[{"$f":"IF('DC Power Distribution (Desc)'!A116=\"\",\"\",'DC Power Distribution (Desc)'!A116)","v":""},{"$f":"IF('DC Power Distribution (Desc)'!C116=\"\",\"\",2029)","v":""},{"$f":"IF('DC Power Distribution (Desc)'!C116=\"\",\"\",'DC Power Distribution (Desc)'!C116)","v":""},{"$f":"IF('DC Power Distribution (Desc)'!E116=\"\",\"\",'DC Power Distribution (Desc)'!E116)","v":""},{"$f":"IF('DC Power Distribution (Desc)'!F116=\"\",\"\",INDEX([1]ELECTRIC_DEV_MANUF!$A$2:$A$1500,MATCH(1,([1]ELECTRIC_DEV_MANUF!$B$2:$B$1500='DC Power Distribution (Desc)'!$F116)*([1]ELECTRIC_DEV_MANUF!$D$2:$D$1500=\"DCPWRDIS\"),0),0))","v":""},{"$f":"IF('DC Power Distribution (Desc)'!G116=\"\",\"\",INDEX([1]ELECTRIC_DEV_MODEL!$A$2:$A$1500,MATCH(1,([1]ELECTRIC_DEV_MODEL!$C$2:$C$1500='DC Power Distribution (Desc)'!$F116)*([1]ELECTRIC_DEV_MODEL!$D$2:$D$1500='DC Power Distribution (Desc)'!$G116)*([1]ELECTRIC_DEV_MODEL!$F$2:$F$1500=\"DCPWRDIS\"),0),0))","v":""},{"$f":"IF('DC Power Distribution (Desc)'!H116=\"\",\"\",'DC Power Distribution (Desc)'!H116)","v":""},{"$f":"IF('DC Power Distribution (Desc)'!I116=\"\",\"\",INDEX([1]YES_NO!$A$2:$A$100,MATCH('DC Power Distribution (Desc)'!$I116,[1]!MASTER_YES_NO_DESC[#Data],0),0))","v":""},{"$f":"IF('DC Power Distribution (Desc)'!J116=\"\",\"\",'DC Power Distribution (Desc)'!J116)","v":""},{"$f":"IF('DC Power Distribution (Desc)'!K116=\"\",\"\",'DC Power Distribution (Desc)'!K116)","v":""},{"$f":"IF('DC Power Distribution (Desc)'!L116=\"\",\"\",INDEX([1]YES_NO!$A$2:$A$100,MATCH('DC Power Distribution (Desc)'!$L116,[1]!MASTER_YES_NO_DESC[#Data],0),0))","v":""},{"$f":"IF('DC Power Distribution (Desc)'!M116=\"\",\"\",INDEX([1]DEV_INPUT_VOLTAGE!$A$2:$A$100,MATCH('DC Power Distribution (Desc)'!$M116,[1]!MASTER_DEV_INPUT_VOLTAGE_DESC[#Data],0),0))","v":""},{"$f":"IF('DC Power Distribution (Desc)'!N116=\"\",\"\",INDEX([1]DEV_OUTPUT_VOLTAGE!$A$2:$A$100,MATCH('DC Power Distribution (Desc)'!$N116,[1]!MASTER_DEV_INPUT_VOLTAGE_DESC[#Data],0),0))","v":""},{"$f":"IF('DC Power Distribution (Desc)'!O116=\"\",\"\",'DC Power Distribution (Desc)'!O116)","v":""},{"$f":"IF('DC Power Distribution (Desc)'!P116=\"\",\"\",'DC Power Distribution (Desc)'!P116)","v":""},{"$f":"IF('DC Power Distribution (Desc)'!Q116=\"\",\"\",'DC Power Distribution (Desc)'!Q116)","v":""},{"$f":"IF('DC Power Distribution (Desc)'!C116=\"\",\"\",\"NA\")","v":""}]
[{"$f":"IF('DC Power Distribution (Desc)'!A117=\"\",\"\",'DC Power Distribution (Desc)'!A117)","v":""},{"$f":"IF('DC Power Distribution (Desc)'!C117=\"\",\"\",2029)","v":""},{"$f":"IF('DC Power Distribution (Desc)'!C117=\"\",\"\",'DC Power Distribution (Desc)'!C117)","v":""},{"$f":"IF('DC Power Distribution (Desc)'!E117=\"\",\"\",'DC Power Distribution (Desc)'!E117)","v":""},{"$f":"IF('DC Power Distribution (Desc)'!F117=\"\",\"\",INDEX([1]ELECTRIC_DEV_MANUF!$A$2:$A$1500,MATCH(1,([1]ELECTRIC_DEV_MANUF!$B$2:$B$1500='DC Power Distribution (Desc)'!$F117)*([1]ELECTRIC_DEV_MANUF!$D$2:$D$1500=\"DCPWRDIS\"),0),0))","v":""},{"$f":"IF('DC Power Distribution (Desc)'!G117=\"\",\"\",INDEX([1]ELECTRIC_DEV_MODEL!$A$2:$A$1500,MATCH(1,([1]ELECTRIC_DEV_MODEL!$C$2:$C$1500='DC Power Distribution (Desc)'!$F117)*([1]ELECTRIC_DEV_MODEL!$D$2:$D$1500='DC Power Distribution (Desc)'!$G117)*([1]ELECTRIC_DEV_MODEL!$F$2:$F$1500=\"DCPWRDIS\"),0),0))","v":""},{"$f":"IF('DC Power Distribution (Desc)'!H117=\"\",\"\",'DC Power Distribution (Desc)'!H117)","v":""},{"$f":"IF('DC Power Distribution (Desc)'!I117=\"\",\"\",INDEX([1]YES_NO!$A$2:$A$100,MATCH('DC Power Distribution (Desc)'!$I117,[1]!MASTER_YES_NO_DESC[#Data],0),0))","v":""},{"$f":"IF('DC Power Distribution (Desc)'!J117=\"\",\"\",'DC Power Distribution (Desc)'!J117)","v":""},{"$f":"IF('DC Power Distribution (Desc)'!K117=\"\",\"\",'DC Power Distribution (Desc)'!K117)","v":""},{"$f":"IF('DC Power Distribution (Desc)'!L117=\"\",\"\",INDEX([1]YES_NO!$A$2:$A$100,MATCH('DC Power Distribution (Desc)'!$L117,[1]!MASTER_YES_NO_DESC[#Data],0),0))","v":""},{"$f":"IF('DC Power Distribution (Desc)'!M117=\"\",\"\",INDEX([1]DEV_INPUT_VOLTAGE!$A$2:$A$100,MATCH('DC Power Distribution (Desc)'!$M117,[1]!MASTER_DEV_INPUT_VOLTAGE_DESC[#Data],0),0))","v":""},{"$f":"IF('DC Power Distribution (Desc)'!N117=\"\",\"\",INDEX([1]DEV_OUTPUT_VOLTAGE!$A$2:$A$100,MATCH('DC Power Distribution (Desc)'!$N117,[1]!MASTER_DEV_INPUT_VOLTAGE_DESC[#Data],0),0))","v":""},{"$f":"IF('DC Power Distribution (Desc)'!O117=\"\",\"\",'DC Power Distribution (Desc)'!O117)","v":""},{"$f":"IF('DC Power Distribution (Desc)'!P117=\"\",\"\",'DC Power Distribution (Desc)'!P117)","v":""},{"$f":"IF('DC Power Distribution (Desc)'!Q117=\"\",\"\",'DC Power Distribution (Desc)'!Q117)","v":""},{"$f":"IF('DC Power Distribution (Desc)'!C117=\"\",\"\",\"NA\")","v":""}]
[{"$f":"IF('DC Power Distribution (Desc)'!A118=\"\",\"\",'DC Power Distribution (Desc)'!A118)","v":""},{"$f":"IF('DC Power Distribution (Desc)'!C118=\"\",\"\",2029)","v":""},{"$f":"IF('DC Power Distribution (Desc)'!C118=\"\",\"\",'DC Power Distribution (Desc)'!C118)","v":""},{"$f":"IF('DC Power Distribution (Desc)'!E118=\"\",\"\",'DC Power Distribution (Desc)'!E118)","v":""},{"$f":"IF('DC Power Distribution (Desc)'!F118=\"\",\"\",INDEX([1]ELECTRIC_DEV_MANUF!$A$2:$A$1500,MATCH(1,([1]ELECTRIC_DEV_MANUF!$B$2:$B$1500='DC Power Distribution (Desc)'!$F118)*([1]ELECTRIC_DEV_MANUF!$D$2:$D$1500=\"DCPWRDIS\"),0),0))","v":""},{"$f":"IF('DC Power Distribution (Desc)'!G118=\"\",\"\",INDEX([1]ELECTRIC_DEV_MODEL!$A$2:$A$1500,MATCH(1,([1]ELECTRIC_DEV_MODEL!$C$2:$C$1500='DC Power Distribution (Desc)'!$F118)*([1]ELECTRIC_DEV_MODEL!$D$2:$D$1500='DC Power Distribution (Desc)'!$G118)*([1]ELECTRIC_DEV_MODEL!$F$2:$F$1500=\"DCPWRDIS\"),0),0))","v":""},{"$f":"IF('DC Power Distribution (Desc)'!H118=\"\",\"\",'DC Power Distribution (Desc)'!H118)","v":""},{"$f":"IF('DC Power Distribution (Desc)'!I118=\"\",\"\",INDEX([1]YES_NO!$A$2:$A$100,MATCH('DC Power Distribution (Desc)'!$I118,[1]!MASTER_YES_NO_DESC[#Data],0),0))","v":""},{"$f":"IF('DC Power Distribution (Desc)'!J118=\"\",\"\",'DC Power Distribution (Desc)'!J118)","v":""},{"$f":"IF('DC Power Distribution (Desc)'!K118=\"\",\"\",'DC Power Distribution (Desc)'!K118)","v":""},{"$f":"IF('DC Power Distribution (Desc)'!L118=\"\",\"\",INDEX([1]YES_NO!$A$2:$A$100,MATCH('DC Power Distribution (Desc)'!$L118,[1]!MASTER_YES_NO_DESC[#Data],0),0))","v":""},{"$f":"IF('DC Power Distribution (Desc)'!M118=\"\",\"\",INDEX([1]DEV_INPUT_VOLTAGE!$A$2:$A$100,MATCH('DC Power Distribution (Desc)'!$M118,[1]!MASTER_DEV_INPUT_VOLTAGE_DESC[#Data],0),0))","v":""},{"$f":"IF('DC Power Distribution (Desc)'!N118=\"\",\"\",INDEX([1]DEV_OUTPUT_VOLTAGE!$A$2:$A$100,MATCH('DC Power Distribution (Desc)'!$N118,[1]!MASTER_DEV_INPUT_VOLTAGE_DESC[#Data],0),0))","v":""},{"$f":"IF('DC Power Distribution (Desc)'!O118=\"\",\"\",'DC Power Distribution (Desc)'!O118)","v":""},{"$f":"IF('DC Power Distribution (Desc)'!P118=\"\",\"\",'DC Power Distribution (Desc)'!P118)","v":""},{"$f":"IF('DC Power Distribution (Desc)'!Q118=\"\",\"\",'DC Power Distribution (Desc)'!Q118)","v":""},{"$f":"IF('DC Power Distribution (Desc)'!C118=\"\",\"\",\"NA\")","v":""}]
[{"$f":"IF('DC Power Distribution (Desc)'!A119=\"\",\"\",'DC Power Distribution (Desc)'!A119)","v":""},{"$f":"IF('DC Power Distribution (Desc)'!C119=\"\",\"\",2029)","v":""},{"$f":"IF('DC Power Distribution (Desc)'!C119=\"\",\"\",'DC Power Distribution (Desc)'!C119)","v":""},{"$f":"IF('DC Power Distribution (Desc)'!E119=\"\",\"\",'DC Power Distribution (Desc)'!E119)","v":""},{"$f":"IF('DC Power Distribution (Desc)'!F119=\"\",\"\",INDEX([1]ELECTRIC_DEV_MANUF!$A$2:$A$1500,MATCH(1,([1]ELECTRIC_DEV_MANUF!$B$2:$B$1500='DC Power Distribution (Desc)'!$F119)*([1]ELECTRIC_DEV_MANUF!$D$2:$D$1500=\"DCPWRDIS\"),0),0))","v":""},{"$f":"IF('DC Power Distribution (Desc)'!G119=\"\",\"\",INDEX([1]ELECTRIC_DEV_MODEL!$A$2:$A$1500,MATCH(1,([1]ELECTRIC_DEV_MODEL!$C$2:$C$1500='DC Power Distribution (Desc)'!$F119)*([1]ELECTRIC_DEV_MODEL!$D$2:$D$1500='DC Power Distribution (Desc)'!$G119)*([1]ELECTRIC_DEV_MODEL!$F$2:$F$1500=\"DCPWRDIS\"),0),0))","v":""},{"$f":"IF('DC Power Distribution (Desc)'!H119=\"\",\"\",'DC Power Distribution (Desc)'!H119)","v":""},{"$f":"IF('DC Power Distribution (Desc)'!I119=\"\",\"\",INDEX([1]YES_NO!$A$2:$A$100,MATCH('DC Power Distribution (Desc)'!$I119,[1]!MASTER_YES_NO_DESC[#Data],0),0))","v":""},{"$f":"IF('DC Power Distribution (Desc)'!J119=\"\",\"\",'DC Power Distribution (Desc)'!J119)","v":""},{"$f":"IF('DC Power Distribution (Desc)'!K119=\"\",\"\",'DC Power Distribution (Desc)'!K119)","v":""},{"$f":"IF('DC Power Distribution (Desc)'!L119=\"\",\"\",INDEX([1]YES_NO!$A$2:$A$100,MATCH('DC Power Distribution (Desc)'!$L119,[1]!MASTER_YES_NO_DESC[#Data],0),0))","v":""},{"$f":"IF('DC Power Distribution (Desc)'!M119=\"\",\"\",INDEX([1]DEV_INPUT_VOLTAGE!$A$2:$A$100,MATCH('DC Power Distribution (Desc)'!$M119,[1]!MASTER_DEV_INPUT_VOLTAGE_DESC[#Data],0),0))","v":""},{"$f":"IF('DC Power Distribution (Desc)'!N119=\"\",\"\",INDEX([1]DEV_OUTPUT_VOLTAGE!$A$2:$A$100,MATCH('DC Power Distribution (Desc)'!$N119,[1]!MASTER_DEV_INPUT_VOLTAGE_DESC[#Data],0),0))","v":""},{"$f":"IF('DC Power Distribution (Desc)'!O119=\"\",\"\",'DC Power Distribution (Desc)'!O119)","v":""},{"$f":"IF('DC Power Distribution (Desc)'!P119=\"\",\"\",'DC Power Distribution (Desc)'!P119)","v":""},{"$f":"IF('DC Power Distribution (Desc)'!Q119=\"\",\"\",'DC Power Distribution (Desc)'!Q119)","v":""},{"$f":"IF('DC Power Distribution (Desc)'!C119=\"\",\"\",\"NA\")","v":""}]
[{"$f":"IF('DC Power Distribution (Desc)'!A120=\"\",\"\",'DC Power Distribution (Desc)'!A120)","v":""},{"$f":"IF('DC Power Distribution (Desc)'!C120=\"\",\"\",2029)","v":""},{"$f":"IF('DC Power Distribution (Desc)'!C120=\"\",\"\",'DC Power Distribution (Desc)'!C120)","v":""},{"$f":"IF('DC Power Distribution (Desc)'!E120=\"\",\"\",'DC Power Distribution (Desc)'!E120)","v":""},{"$f":"IF('DC Power Distribution (Desc)'!F120=\"\",\"\",INDEX([1]ELECTRIC_DEV_MANUF!$A$2:$A$1500,MATCH(1,([1]ELECTRIC_DEV_MANUF!$B$2:$B$1500='DC Power Distribution (Desc)'!$F120)*([1]ELECTRIC_DEV_MANUF!$D$2:$D$1500=\"DCPWRDIS\"),0),0))","v":""},{"$f":"IF('DC Power Distribution (Desc)'!G120=\"\",\"\",INDEX([1]ELECTRIC_DEV_MODEL!$A$2:$A$1500,MATCH(1,([1]ELECTRIC_DEV_MODEL!$C$2:$C$1500='DC Power Distribution (Desc)'!$F120)*([1]ELECTRIC_DEV_MODEL!$D$2:$D$1500='DC Power Distribution (Desc)'!$G120)*([1]ELECTRIC_DEV_MODEL!$F$2:$F$1500=\"DCPWRDIS\"),0),0))","v":""},{"$f":"IF('DC Power Distribution (Desc)'!H120=\"\",\"\",'DC Power Distribution (Desc)'!H120)","v":""},{"$f":"IF('DC Power Distribution (Desc)'!I120=\"\",\"\",INDEX([1]YES_NO!$A$2:$A$100,MATCH('DC Power Distribution (Desc)'!$I120,[1]!MASTER_YES_NO_DESC[#Data],0),0))","v":""},{"$f":"IF('DC Power Distribution (Desc)'!J120=\"\",\"\",'DC Power Distribution (Desc)'!J120)","v":""},{"$f":"IF('DC Power Distribution (Desc)'!K120=\"\",\"\",'DC Power Distribution (Desc)'!K120)","v":""},{"$f":"IF('DC Power Distribution (Desc)'!L120=\"\",\"\",INDEX([1]YES_NO!$A$2:$A$100,MATCH('DC Power Distribution (Desc)'!$L120,[1]!MASTER_YES_NO_DESC[#Data],0),0))","v":""},{"$f":"IF('DC Power Distribution (Desc)'!M120=\"\",\"\",INDEX([1]DEV_INPUT_VOLTAGE!$A$2:$A$100,MATCH('DC Power Distribution (Desc)'!$M120,[1]!MASTER_DEV_INPUT_VOLTAGE_DESC[#Data],0),0))","v":""},{"$f":"IF('DC Power Distribution (Desc)'!N120=\"\",\"\",INDEX([1]DEV_OUTPUT_VOLTAGE!$A$2:$A$100,MATCH('DC Power Distribution (Desc)'!$N120,[1]!MASTER_DEV_INPUT_VOLTAGE_DESC[#Data],0),0))","v":""},{"$f":"IF('DC Power Distribution (Desc)'!O120=\"\",\"\",'DC Power Distribution (Desc)'!O120)","v":""},{"$f":"IF('DC Power Distribution (Desc)'!P120=\"\",\"\",'DC Power Distribution (Desc)'!P120)","v":""},{"$f":"IF('DC Power Distribution (Desc)'!Q120=\"\",\"\",'DC Power Distribution (Desc)'!Q120)","v":""},{"$f":"IF('DC Power Distribution (Desc)'!C120=\"\",\"\",\"NA\")","v":""}]
[{"$f":"IF('DC Power Distribution (Desc)'!A121=\"\",\"\",'DC Power Distribution (Desc)'!A121)","v":""},{"$f":"IF('DC Power Distribution (Desc)'!C121=\"\",\"\",2029)","v":""},{"$f":"IF('DC Power Distribution (Desc)'!C121=\"\",\"\",'DC Power Distribution (Desc)'!C121)","v":""},{"$f":"IF('DC Power Distribution (Desc)'!E121=\"\",\"\",'DC Power Distribution (Desc)'!E121)","v":""},{"$f":"IF('DC Power Distribution (Desc)'!F121=\"\",\"\",INDEX([1]ELECTRIC_DEV_MANUF!$A$2:$A$1500,MATCH(1,([1]ELECTRIC_DEV_MANUF!$B$2:$B$1500='DC Power Distribution (Desc)'!$F121)*([1]ELECTRIC_DEV_MANUF!$D$2:$D$1500=\"DCPWRDIS\"),0),0))","v":""},{"$f":"IF('DC Power Distribution (Desc)'!G121=\"\",\"\",INDEX([1]ELECTRIC_DEV_MODEL!$A$2:$A$1500,MATCH(1,([1]ELECTRIC_DEV_MODEL!$C$2:$C$1500='DC Power Distribution (Desc)'!$F121)*([1]ELECTRIC_DEV_MODEL!$D$2:$D$1500='DC Power Distribution (Desc)'!$G121)*([1]ELECTRIC_DEV_MODEL!$F$2:$F$1500=\"DCPWRDIS\"),0),0))","v":""},{"$f":"IF('DC Power Distribution (Desc)'!H121=\"\",\"\",'DC Power Distribution (Desc)'!H121)","v":""},{"$f":"IF('DC Power Distribution (Desc)'!I121=\"\",\"\",INDEX([1]YES_NO!$A$2:$A$100,MATCH('DC Power Distribution (Desc)'!$I121,[1]!MASTER_YES_NO_DESC[#Data],0),0))","v":""},{"$f":"IF('DC Power Distribution (Desc)'!J121=\"\",\"\",'DC Power Distribution (Desc)'!J121)","v":""},{"$f":"IF('DC Power Distribution (Desc)'!K121=\"\",\"\",'DC Power Distribution (Desc)'!K121)","v":""},{"$f":"IF('DC Power Distribution (Desc)'!L121=\"\",\"\",INDEX([1]YES_NO!$A$2:$A$100,MATCH('DC Power Distribution (Desc)'!$L121,[1]!MASTER_YES_NO_DESC[#Data],0),0))","v":""},{"$f":"IF('DC Power Distribution (Desc)'!M121=\"\",\"\",INDEX([1]DEV_INPUT_VOLTAGE!$A$2:$A$100,MATCH('DC Power Distribution (Desc)'!$M121,[1]!MASTER_DEV_INPUT_VOLTAGE_DESC[#Data],0),0))","v":""},{"$f":"IF('DC Power Distribution (Desc)'!N121=\"\",\"\",INDEX([1]DEV_OUTPUT_VOLTAGE!$A$2:$A$100,MATCH('DC Power Distribution (Desc)'!$N121,[1]!MASTER_DEV_INPUT_VOLTAGE_DESC[#Data],0),0))","v":""},{"$f":"IF('DC Power Distribution (Desc)'!O121=\"\",\"\",'DC Power Distribution (Desc)'!O121)","v":""},{"$f":"IF('DC Power Distribution (Desc)'!P121=\"\",\"\",'DC Power Distribution (Desc)'!P121)","v":""},{"$f":"IF('DC Power Distribution (Desc)'!Q121=\"\",\"\",'DC Power Distribution (Desc)'!Q121)","v":""},{"$f":"IF('DC Power Distribution (Desc)'!C121=\"\",\"\",\"NA\")","v":""}]
[{"$f":"IF('DC Power Distribution (Desc)'!A122=\"\",\"\",'DC Power Distribution (Desc)'!A122)","v":""},{"$f":"IF('DC Power Distribution (Desc)'!C122=\"\",\"\",2029)","v":""},{"$f":"IF('DC Power Distribution (Desc)'!C122=\"\",\"\",'DC Power Distribution (Desc)'!C122)","v":""},{"$f":"IF('DC Power Distribution (Desc)'!E122=\"\",\"\",'DC Power Distribution (Desc)'!E122)","v":""},{"$f":"IF('DC Power Distribution (Desc)'!F122=\"\",\"\",INDEX([1]ELECTRIC_DEV_MANUF!$A$2:$A$1500,MATCH(1,([1]ELECTRIC_DEV_MANUF!$B$2:$B$1500='DC Power Distribution (Desc)'!$F122)*([1]ELECTRIC_DEV_MANUF!$D$2:$D$1500=\"DCPWRDIS\"),0),0))","v":""},{"$f":"IF('DC Power Distribution (Desc)'!G122=\"\",\"\",INDEX([1]ELECTRIC_DEV_MODEL!$A$2:$A$1500,MATCH(1,([1]ELECTRIC_DEV_MODEL!$C$2:$C$1500='DC Power Distribution (Desc)'!$F122)*([1]ELECTRIC_DEV_MODEL!$D$2:$D$1500='DC Power Distribution (Desc)'!$G122)*([1]ELECTRIC_DEV_MODEL!$F$2:$F$1500=\"DCPWRDIS\"),0),0))","v":""},{"$f":"IF('DC Power Distribution (Desc)'!H122=\"\",\"\",'DC Power Distribution (Desc)'!H122)","v":""},{"$f":"IF('DC Power Distribution (Desc)'!I122=\"\",\"\",INDEX([1]YES_NO!$A$2:$A$100,MATCH('DC Power Distribution (Desc)'!$I122,[1]!MASTER_YES_NO_DESC[#Data],0),0))","v":""},{"$f":"IF('DC Power Distribution (Desc)'!J122=\"\",\"\",'DC Power Distribution (Desc)'!J122)","v":""},{"$f":"IF('DC Power Distribution (Desc)'!K122=\"\",\"\",'DC Power Distribution (Desc)'!K122)","v":""},{"$f":"IF('DC Power Distribution (Desc)'!L122=\"\",\"\",INDEX([1]YES_NO!$A$2:$A$100,MATCH('DC Power Distribution (Desc)'!$L122,[1]!MASTER_YES_NO_DESC[#Data],0),0))","v":""},{"$f":"IF('DC Power Distribution (Desc)'!M122=\"\",\"\",INDEX([1]DEV_INPUT_VOLTAGE!$A$2:$A$100,MATCH('DC Power Distribution (Desc)'!$M122,[1]!MASTER_DEV_INPUT_VOLTAGE_DESC[#Data],0),0))","v":""},{"$f":"IF('DC Power Distribution (Desc)'!N122=\"\",\"\",INDEX([1]DEV_OUTPUT_VOLTAGE!$A$2:$A$100,MATCH('DC Power Distribution (Desc)'!$N122,[1]!MASTER_DEV_INPUT_VOLTAGE_DESC[#Data],0),0))","v":""},{"$f":"IF('DC Power Distribution (Desc)'!O122=\"\",\"\",'DC Power Distribution (Desc)'!O122)","v":""},{"$f":"IF('DC Power Distribution (Desc)'!P122=\"\",\"\",'DC Power Distribution (Desc)'!P122)","v":""},{"$f":"IF('DC Power Distribution (Desc)'!Q122=\"\",\"\",'DC Power Distribution (Desc)'!Q122)","v":""},{"$f":"IF('DC Power Distribution (Desc)'!C122=\"\",\"\",\"NA\")","v":""}]
[{"$f":"IF('DC Power Distribution (Desc)'!A123=\"\",\"\",'DC Power Distribution (Desc)'!A123)","v":""},{"$f":"IF('DC Power Distribution (Desc)'!C123=\"\",\"\",2029)","v":""},{"$f":"IF('DC Power Distribution (Desc)'!C123=\"\",\"\",'DC Power Distribution (Desc)'!C123)","v":""},{"$f":"IF('DC Power Distribution (Desc)'!E123=\"\",\"\",'DC Power Distribution (Desc)'!E123)","v":""},{"$f":"IF('DC Power Distribution (Desc)'!F123=\"\",\"\",INDEX([1]ELECTRIC_DEV_MANUF!$A$2:$A$1500,MATCH(1,([1]ELECTRIC_DEV_MANUF!$B$2:$B$1500='DC Power Distribution (Desc)'!$F123)*([1]ELECTRIC_DEV_MANUF!$D$2:$D$1500=\"DCPWRDIS\"),0),0))","v":""},{"$f":"IF('DC Power Distribution (Desc)'!G123=\"\",\"\",INDEX([1]ELECTRIC_DEV_MODEL!$A$2:$A$1500,MATCH(1,([1]ELECTRIC_DEV_MODEL!$C$2:$C$1500='DC Power Distribution (Desc)'!$F123)*([1]ELECTRIC_DEV_MODEL!$D$2:$D$1500='DC Power Distribution (Desc)'!$G123)*([1]ELECTRIC_DEV_MODEL!$F$2:$F$1500=\"DCPWRDIS\"),0),0))","v":""},{"$f":"IF('DC Power Distribution (Desc)'!H123=\"\",\"\",'DC Power Distribution (Desc)'!H123)","v":""},{"$f":"IF('DC Power Distribution (Desc)'!I123=\"\",\"\",INDEX([1]YES_NO!$A$2:$A$100,MATCH('DC Power Distribution (Desc)'!$I123,[1]!MASTER_YES_NO_DESC[#Data],0),0))","v":""},{"$f":"IF('DC Power Distribution (Desc)'!J123=\"\",\"\",'DC Power Distribution (Desc)'!J123)","v":""},{"$f":"IF('DC Power Distribution (Desc)'!K123=\"\",\"\",'DC Power Distribution (Desc)'!K123)","v":""},{"$f":"IF('DC Power Distribution (Desc)'!L123=\"\",\"\",INDEX([1]YES_NO!$A$2:$A$100,MATCH('DC Power Distribution (Desc)'!$L123,[1]!MASTER_YES_NO_DESC[#Data],0),0))","v":""},{"$f":"IF('DC Power Distribution (Desc)'!M123=\"\",\"\",INDEX([1]DEV_INPUT_VOLTAGE!$A$2:$A$100,MATCH('DC Power Distribution (Desc)'!$M123,[1]!MASTER_DEV_INPUT_VOLTAGE_DESC[#Data],0),0))","v":""},{"$f":"IF('DC Power Distribution (Desc)'!N123=\"\",\"\",INDEX([1]DEV_OUTPUT_VOLTAGE!$A$2:$A$100,MATCH('DC Power Distribution (Desc)'!$N123,[1]!MASTER_DEV_INPUT_VOLTAGE_DESC[#Data],0),0))","v":""},{"$f":"IF('DC Power Distribution (Desc)'!O123=\"\",\"\",'DC Power Distribution (Desc)'!O123)","v":""},{"$f":"IF('DC Power Distribution (Desc)'!P123=\"\",\"\",'DC Power Distribution (Desc)'!P123)","v":""},{"$f":"IF('DC Power Distribution (Desc)'!Q123=\"\",\"\",'DC Power Distribution (Desc)'!Q123)","v":""},{"$f":"IF('DC Power Distribution (Desc)'!C123=\"\",\"\",\"NA\")","v":""}]
[{"$f":"IF('DC Power Distribution (Desc)'!A124=\"\",\"\",'DC Power Distribution (Desc)'!A124)","v":""},{"$f":"IF('DC Power Distribution (Desc)'!C124=\"\",\"\",2029)","v":""},{"$f":"IF('DC Power Distribution (Desc)'!C124=\"\",\"\",'DC Power Distribution (Desc)'!C124)","v":""},{"$f":"IF('DC Power Distribution (Desc)'!E124=\"\",\"\",'DC Power Distribution (Desc)'!E124)","v":""},{"$f":"IF('DC Power Distribution (Desc)'!F124=\"\",\"\",INDEX([1]ELECTRIC_DEV_MANUF!$A$2:$A$1500,MATCH(1,([1]ELECTRIC_DEV_MANUF!$B$2:$B$1500='DC Power Distribution (Desc)'!$F124)*([1]ELECTRIC_DEV_MANUF!$D$2:$D$1500=\"DCPWRDIS\"),0),0))","v":""},{"$f":"IF('DC Power Distribution (Desc)'!G124=\"\",\"\",INDEX([1]ELECTRIC_DEV_MODEL!$A$2:$A$1500,MATCH(1,([1]ELECTRIC_DEV_MODEL!$C$2:$C$1500='DC Power Distribution (Desc)'!$F124)*([1]ELECTRIC_DEV_MODEL!$D$2:$D$1500='DC Power Distribution (Desc)'!$G124)*([1]ELECTRIC_DEV_MODEL!$F$2:$F$1500=\"DCPWRDIS\"),0),0))","v":""},{"$f":"IF('DC Power Distribution (Desc)'!H124=\"\",\"\",'DC Power Distribution (Desc)'!H124)","v":""},{"$f":"IF('DC Power Distribution (Desc)'!I124=\"\",\"\",INDEX([1]YES_NO!$A$2:$A$100,MATCH('DC Power Distribution (Desc)'!$I124,[1]!MASTER_YES_NO_DESC[#Data],0),0))","v":""},{"$f":"IF('DC Power Distribution (Desc)'!J124=\"\",\"\",'DC Power Distribution (Desc)'!J124)","v":""},{"$f":"IF('DC Power Distribution (Desc)'!K124=\"\",\"\",'DC Power Distribution (Desc)'!K124)","v":""},{"$f":"IF('DC Power Distribution (Desc)'!L124=\"\",\"\",INDEX([1]YES_NO!$A$2:$A$100,MATCH('DC Power Distribution (Desc)'!$L124,[1]!MASTER_YES_NO_DESC[#Data],0),0))","v":""},{"$f":"IF('DC Power Distribution (Desc)'!M124=\"\",\"\",INDEX([1]DEV_INPUT_VOLTAGE!$A$2:$A$100,MATCH('DC Power Distribution (Desc)'!$M124,[1]!MASTER_DEV_INPUT_VOLTAGE_DESC[#Data],0),0))","v":""},{"$f":"IF('DC Power Distribution (Desc)'!N124=\"\",\"\",INDEX([1]DEV_OUTPUT_VOLTAGE!$A$2:$A$100,MATCH('DC Power Distribution (Desc)'!$N124,[1]!MASTER_DEV_INPUT_VOLTAGE_DESC[#Data],0),0))","v":""},{"$f":"IF('DC Power Distribution (Desc)'!O124=\"\",\"\",'DC Power Distribution (Desc)'!O124)","v":""},{"$f":"IF('DC Power Distribution (Desc)'!P124=\"\",\"\",'DC Power Distribution (Desc)'!P124)","v":""},{"$f":"IF('DC Power Distribution (Desc)'!Q124=\"\",\"\",'DC Power Distribution (Desc)'!Q124)","v":""},{"$f":"IF('DC Power Distribution (Desc)'!C124=\"\",\"\",\"NA\")","v":""}]
[{"$f":"IF('DC Power Distribution (Desc)'!A125=\"\",\"\",'DC Power Distribution (Desc)'!A125)","v":""},{"$f":"IF('DC Power Distribution (Desc)'!C125=\"\",\"\",2029)","v":""},{"$f":"IF('DC Power Distribution (Desc)'!C125=\"\",\"\",'DC Power Distribution (Desc)'!C125)","v":""},{"$f":"IF('DC Power Distribution (Desc)'!E125=\"\",\"\",'DC Power Distribution (Desc)'!E125)","v":""},{"$f":"IF('DC Power Distribution (Desc)'!F125=\"\",\"\",INDEX([1]ELECTRIC_DEV_MANUF!$A$2:$A$1500,MATCH(1,([1]ELECTRIC_DEV_MANUF!$B$2:$B$1500='DC Power Distribution (Desc)'!$F125)*([1]ELECTRIC_DEV_MANUF!$D$2:$D$1500=\"DCPWRDIS\"),0),0))","v":""},{"$f":"IF('DC Power Distribution (Desc)'!G125=\"\",\"\",INDEX([1]ELECTRIC_DEV_MODEL!$A$2:$A$1500,MATCH(1,([1]ELECTRIC_DEV_MODEL!$C$2:$C$1500='DC Power Distribution (Desc)'!$F125)*([1]ELECTRIC_DEV_MODEL!$D$2:$D$1500='DC Power Distribution (Desc)'!$G125)*([1]ELECTRIC_DEV_MODEL!$F$2:$F$1500=\"DCPWRDIS\"),0),0))","v":""},{"$f":"IF('DC Power Distribution (Desc)'!H125=\"\",\"\",'DC Power Distribution (Desc)'!H125)","v":""},{"$f":"IF('DC Power Distribution (Desc)'!I125=\"\",\"\",INDEX([1]YES_NO!$A$2:$A$100,MATCH('DC Power Distribution (Desc)'!$I125,[1]!MASTER_YES_NO_DESC[#Data],0),0))","v":""},{"$f":"IF('DC Power Distribution (Desc)'!J125=\"\",\"\",'DC Power Distribution (Desc)'!J125)","v":""},{"$f":"IF('DC Power Distribution (Desc)'!K125=\"\",\"\",'DC Power Distribution (Desc)'!K125)","v":""},{"$f":"IF('DC Power Distribution (Desc)'!L125=\"\",\"\",INDEX([1]YES_NO!$A$2:$A$100,MATCH('DC Power Distribution (Desc)'!$L125,[1]!MASTER_YES_NO_DESC[#Data],0),0))","v":""},{"$f":"IF('DC Power Distribution (Desc)'!M125=\"\",\"\",INDEX([1]DEV_INPUT_VOLTAGE!$A$2:$A$100,MATCH('DC Power Distribution (Desc)'!$M125,[1]!MASTER_DEV_INPUT_VOLTAGE_DESC[#Data],0),0))","v":""},{"$f":"IF('DC Power Distribution (Desc)'!N125=\"\",\"\",INDEX([1]DEV_OUTPUT_VOLTAGE!$A$2:$A$100,MATCH('DC Power Distribution (Desc)'!$N125,[1]!MASTER_DEV_INPUT_VOLTAGE_DESC[#Data],0),0))","v":""},{"$f":"IF('DC Power Distribution (Desc)'!O125=\"\",\"\",'DC Power Distribution (Desc)'!O125)","v":""},{"$f":"IF('DC Power Distribution (Desc)'!P125=\"\",\"\",'DC Power Distribution (Desc)'!P125)","v":""},{"$f":"IF('DC Power Distribution (Desc)'!Q125=\"\",\"\",'DC Power Distribution (Desc)'!Q125)","v":""},{"$f":"IF('DC Power Distribution (Desc)'!C125=\"\",\"\",\"NA\")","v":""}]
[{"$f":"IF('DC Power Distribution (Desc)'!A126=\"\",\"\",'DC Power Distribution (Desc)'!A126)","v":""},{"$f":"IF('DC Power Distribution (Desc)'!C126=\"\",\"\",2029)","v":""},{"$f":"IF('DC Power Distribution (Desc)'!C126=\"\",\"\",'DC Power Distribution (Desc)'!C126)","v":""},{"$f":"IF('DC Power Distribution (Desc)'!E126=\"\",\"\",'DC Power Distribution (Desc)'!E126)","v":""},{"$f":"IF('DC Power Distribution (Desc)'!F126=\"\",\"\",INDEX([1]ELECTRIC_DEV_MANUF!$A$2:$A$1500,MATCH(1,([1]ELECTRIC_DEV_MANUF!$B$2:$B$1500='DC Power Distribution (Desc)'!$F126)*([1]ELECTRIC_DEV_MANUF!$D$2:$D$1500=\"DCPWRDIS\"),0),0))","v":""},{"$f":"IF('DC Power Distribution (Desc)'!G126=\"\",\"\",INDEX([1]ELECTRIC_DEV_MODEL!$A$2:$A$1500,MATCH(1,([1]ELECTRIC_DEV_MODEL!$C$2:$C$1500='DC Power Distribution (Desc)'!$F126)*([1]ELECTRIC_DEV_MODEL!$D$2:$D$1500='DC Power Distribution (Desc)'!$G126)*([1]ELECTRIC_DEV_MODEL!$F$2:$F$1500=\"DCPWRDIS\"),0),0))","v":""},{"$f":"IF('DC Power Distribution (Desc)'!H126=\"\",\"\",'DC Power Distribution (Desc)'!H126)","v":""},{"$f":"IF('DC Power Distribution (Desc)'!I126=\"\",\"\",INDEX([1]YES_NO!$A$2:$A$100,MATCH('DC Power Distribution (Desc)'!$I126,[1]!MASTER_YES_NO_DESC[#Data],0),0))","v":""},{"$f":"IF('DC Power Distribution (Desc)'!J126=\"\",\"\",'DC Power Distribution (Desc)'!J126)","v":""},{"$f":"IF('DC Power Distribution (Desc)'!K126=\"\",\"\",'DC Power Distribution (Desc)'!K126)","v":""},{"$f":"IF('DC Power Distribution (Desc)'!L126=\"\",\"\",INDEX([1]YES_NO!$A$2:$A$100,MATCH('DC Power Distribution (Desc)'!$L126,[1]!MASTER_YES_NO_DESC[#Data],0),0))","v":""},{"$f":"IF('DC Power Distribution (Desc)'!M126=\"\",\"\",INDEX([1]DEV_INPUT_VOLTAGE!$A$2:$A$100,MATCH('DC Power Distribution (Desc)'!$M126,[1]!MASTER_DEV_INPUT_VOLTAGE_DESC[#Data],0),0))","v":""},{"$f":"IF('DC Power Distribution (Desc)'!N126=\"\",\"\",INDEX([1]DEV_OUTPUT_VOLTAGE!$A$2:$A$100,MATCH('DC Power Distribution (Desc)'!$N126,[1]!MASTER_DEV_INPUT_VOLTAGE_DESC[#Data],0),0))","v":""},{"$f":"IF('DC Power Distribution (Desc)'!O126=\"\",\"\",'DC Power Distribution (Desc)'!O126)","v":""},{"$f":"IF('DC Power Distribution (Desc)'!P126=\"\",\"\",'DC Power Distribution (Desc)'!P126)","v":""},{"$f":"IF('DC Power Distribution (Desc)'!Q126=\"\",\"\",'DC Power Distribution (Desc)'!Q126)","v":""},{"$f":"IF('DC Power Distribution (Desc)'!C126=\"\",\"\",\"NA\")","v":""}]
[{"$f":"IF('DC Power Distribution (Desc)'!A127=\"\",\"\",'DC Power Distribution (Desc)'!A127)","v":""},{"$f":"IF('DC Power Distribution (Desc)'!C127=\"\",\"\",2029)","v":""},{"$f":"IF('DC Power Distribution (Desc)'!C127=\"\",\"\",'DC Power Distribution (Desc)'!C127)","v":""},{"$f":"IF('DC Power Distribution (Desc)'!E127=\"\",\"\",'DC Power Distribution (Desc)'!E127)","v":""},{"$f":"IF('DC Power Distribution (Desc)'!F127=\"\",\"\",INDEX([1]ELECTRIC_DEV_MANUF!$A$2:$A$1500,MATCH(1,([1]ELECTRIC_DEV_MANUF!$B$2:$B$1500='DC Power Distribution (Desc)'!$F127)*([1]ELECTRIC_DEV_MANUF!$D$2:$D$1500=\"DCPWRDIS\"),0),0))","v":""},{"$f":"IF('DC Power Distribution (Desc)'!G127=\"\",\"\",INDEX([1]ELECTRIC_DEV_MODEL!$A$2:$A$1500,MATCH(1,([1]ELECTRIC_DEV_MODEL!$C$2:$C$1500='DC Power Distribution (Desc)'!$F127)*([1]ELECTRIC_DEV_MODEL!$D$2:$D$1500='DC Power Distribution (Desc)'!$G127)*([1]ELECTRIC_DEV_MODEL!$F$2:$F$1500=\"DCPWRDIS\"),0),0))","v":""},{"$f":"IF('DC Power Distribution (Desc)'!H127=\"\",\"\",'DC Power Distribution (Desc)'!H127)","v":""},{"$f":"IF('DC Power Distribution (Desc)'!I127=\"\",\"\",INDEX([1]YES_NO!$A$2:$A$100,MATCH('DC Power Distribution (Desc)'!$I127,[1]!MASTER_YES_NO_DESC[#Data],0),0))","v":""},{"$f":"IF('DC Power Distribution (Desc)'!J127=\"\",\"\",'DC Power Distribution (Desc)'!J127)","v":""},{"$f":"IF('DC Power Distribution (Desc)'!K127=\"\",\"\",'DC Power Distribution (Desc)'!K127)","v":""},{"$f":"IF('DC Power Distribution (Desc)'!L127=\"\",\"\",INDEX([1]YES_NO!$A$2:$A$100,MATCH('DC Power Distribution (Desc)'!$L127,[1]!MASTER_YES_NO_DESC[#Data],0),0))","v":""},{"$f":"IF('DC Power Distribution (Desc)'!M127=\"\",\"\",INDEX([1]DEV_INPUT_VOLTAGE!$A$2:$A$100,MATCH('DC Power Distribution (Desc)'!$M127,[1]!MASTER_DEV_INPUT_VOLTAGE_DESC[#Data],0),0))","v":""},{"$f":"IF('DC Power Distribution (Desc)'!N127=\"\",\"\",INDEX([1]DEV_OUTPUT_VOLTAGE!$A$2:$A$100,MATCH('DC Power Distribution (Desc)'!$N127,[1]!MASTER_DEV_INPUT_VOLTAGE_DESC[#Data],0),0))","v":""},{"$f":"IF('DC Power Distribution (Desc)'!O127=\"\",\"\",'DC Power Distribution (Desc)'!O127)","v":""},{"$f":"IF('DC Power Distribution (Desc)'!P127=\"\",\"\",'DC Power Distribution (Desc)'!P127)","v":""},{"$f":"IF('DC Power Distribution (Desc)'!Q127=\"\",\"\",'DC Power Distribution (Desc)'!Q127)","v":""},{"$f":"IF('DC Power Distribution (Desc)'!C127=\"\",\"\",\"NA\")","v":""}]
[{"$f":"IF('DC Power Distribution (Desc)'!A128=\"\",\"\",'DC Power Distribution (Desc)'!A128)","v":""},{"$f":"IF('DC Power Distribution (Desc)'!C128=\"\",\"\",2029)","v":""},{"$f":"IF('DC Power Distribution (Desc)'!C128=\"\",\"\",'DC Power Distribution (Desc)'!C128)","v":""},{"$f":"IF('DC Power Distribution (Desc)'!E128=\"\",\"\",'DC Power Distribution (Desc)'!E128)","v":""},{"$f":"IF('DC Power Distribution (Desc)'!F128=\"\",\"\",INDEX([1]ELECTRIC_DEV_MANUF!$A$2:$A$1500,MATCH(1,([1]ELECTRIC_DEV_MANUF!$B$2:$B$1500='DC Power Distribution (Desc)'!$F128)*([1]ELECTRIC_DEV_MANUF!$D$2:$D$1500=\"DCPWRDIS\"),0),0))","v":""},{"$f":"IF('DC Power Distribution (Desc)'!G128=\"\",\"\",INDEX([1]ELECTRIC_DEV_MODEL!$A$2:$A$1500,MATCH(1,([1]ELECTRIC_DEV_MODEL!$C$2:$C$1500='DC Power Distribution (Desc)'!$F128)*([1]ELECTRIC_DEV_MODEL!$D$2:$D$1500='DC Power Distribution (Desc)'!$G128)*([1]ELECTRIC_DEV_MODEL!$F$2:$F$1500=\"DCPWRDIS\"),0),0))","v":""},{"$f":"IF('DC Power Distribution (Desc)'!H128=\"\",\"\",'DC Power Distribution (Desc)'!H128)","v":""},{"$f":"IF('DC Power Distribution (Desc)'!I128=\"\",\"\",INDEX([1]YES_NO!$A$2:$A$100,MATCH('DC Power Distribution (Desc)'!$I128,[1]!MASTER_YES_NO_DESC[#Data],0),0))","v":""},{"$f":"IF('DC Power Distribution (Desc)'!J128=\"\",\"\",'DC Power Distribution (Desc)'!J128)","v":""},{"$f":"IF('DC Power Distribution (Desc)'!K128=\"\",\"\",'DC Power Distribution (Desc)'!K128)","v":""},{"$f":"IF('DC Power Distribution (Desc)'!L128=\"\",\"\",INDEX([1]YES_NO!$A$2:$A$100,MATCH('DC Power Distribution (Desc)'!$L128,[1]!MASTER_YES_NO_DESC[#Data],0),0))","v":""},{"$f":"IF('DC Power Distribution (Desc)'!M128=\"\",\"\",INDEX([1]DEV_INPUT_VOLTAGE!$A$2:$A$100,MATCH('DC Power Distribution (Desc)'!$M128,[1]!MASTER_DEV_INPUT_VOLTAGE_DESC[#Data],0),0))","v":""},{"$f":"IF('DC Power Distribution (Desc)'!N128=\"\",\"\",INDEX([1]DEV_OUTPUT_VOLTAGE!$A$2:$A$100,MATCH('DC Power Distribution (Desc)'!$N128,[1]!MASTER_DEV_INPUT_VOLTAGE_DESC[#Data],0),0))","v":""},{"$f":"IF('DC Power Distribution (Desc)'!O128=\"\",\"\",'DC Power Distribution (Desc)'!O128)","v":""},{"$f":"IF('DC Power Distribution (Desc)'!P128=\"\",\"\",'DC Power Distribution (Desc)'!P128)","v":""},{"$f":"IF('DC Power Distribution (Desc)'!Q128=\"\",\"\",'DC Power Distribution (Desc)'!Q128)","v":""},{"$f":"IF('DC Power Distribution (Desc)'!C128=\"\",\"\",\"NA\")","v":""}]
[{"$f":"IF('DC Power Distribution (Desc)'!A129=\"\",\"\",'DC Power Distribution (Desc)'!A129)","v":""},{"$f":"IF('DC Power Distribution (Desc)'!C129=\"\",\"\",2029)","v":""},{"$f":"IF('DC Power Distribution (Desc)'!C129=\"\",\"\",'DC Power Distribution (Desc)'!C129)","v":""},{"$f":"IF('DC Power Distribution (Desc)'!E129=\"\",\"\",'DC Power Distribution (Desc)'!E129)","v":""},{"$f":"IF('DC Power Distribution (Desc)'!F129=\"\",\"\",INDEX([1]ELECTRIC_DEV_MANUF!$A$2:$A$1500,MATCH(1,([1]ELECTRIC_DEV_MANUF!$B$2:$B$1500='DC Power Distribution (Desc)'!$F129)*([1]ELECTRIC_DEV_MANUF!$D$2:$D$1500=\"DCPWRDIS\"),0),0))","v":""},{"$f":"IF('DC Power Distribution (Desc)'!G129=\"\",\"\",INDEX([1]ELECTRIC_DEV_MODEL!$A$2:$A$1500,MATCH(1,([1]ELECTRIC_DEV_MODEL!$C$2:$C$1500='DC Power Distribution (Desc)'!$F129)*([1]ELECTRIC_DEV_MODEL!$D$2:$D$1500='DC Power Distribution (Desc)'!$G129)*([1]ELECTRIC_DEV_MODEL!$F$2:$F$1500=\"DCPWRDIS\"),0),0))","v":""},{"$f":"IF('DC Power Distribution (Desc)'!H129=\"\",\"\",'DC Power Distribution (Desc)'!H129)","v":""},{"$f":"IF('DC Power Distribution (Desc)'!I129=\"\",\"\",INDEX([1]YES_NO!$A$2:$A$100,MATCH('DC Power Distribution (Desc)'!$I129,[1]!MASTER_YES_NO_DESC[#Data],0),0))","v":""},{"$f":"IF('DC Power Distribution (Desc)'!J129=\"\",\"\",'DC Power Distribution (Desc)'!J129)","v":""},{"$f":"IF('DC Power Distribution (Desc)'!K129=\"\",\"\",'DC Power Distribution (Desc)'!K129)","v":""},{"$f":"IF('DC Power Distribution (Desc)'!L129=\"\",\"\",INDEX([1]YES_NO!$A$2:$A$100,MATCH('DC Power Distribution (Desc)'!$L129,[1]!MASTER_YES_NO_DESC[#Data],0),0))","v":""},{"$f":"IF('DC Power Distribution (Desc)'!M129=\"\",\"\",INDEX([1]DEV_INPUT_VOLTAGE!$A$2:$A$100,MATCH('DC Power Distribution (Desc)'!$M129,[1]!MASTER_DEV_INPUT_VOLTAGE_DESC[#Data],0),0))","v":""},{"$f":"IF('DC Power Distribution (Desc)'!N129=\"\",\"\",INDEX([1]DEV_OUTPUT_VOLTAGE!$A$2:$A$100,MATCH('DC Power Distribution (Desc)'!$N129,[1]!MASTER_DEV_INPUT_VOLTAGE_DESC[#Data],0),0))","v":""},{"$f":"IF('DC Power Distribution (Desc)'!O129=\"\",\"\",'DC Power Distribution (Desc)'!O129)","v":""},{"$f":"IF('DC Power Distribution (Desc)'!P129=\"\",\"\",'DC Power Distribution (Desc)'!P129)","v":""},{"$f":"IF('DC Power Distribution (Desc)'!Q129=\"\",\"\",'DC Power Distribution (Desc)'!Q129)","v":""},{"$f":"IF('DC Power Distribution (Desc)'!C129=\"\",\"\",\"NA\")","v":""}]
[{"$f":"IF('DC Power Distribution (Desc)'!A130=\"\",\"\",'DC Power Distribution (Desc)'!A130)","v":""},{"$f":"IF('DC Power Distribution (Desc)'!C130=\"\",\"\",2029)","v":""},{"$f":"IF('DC Power Distribution (Desc)'!C130=\"\",\"\",'DC Power Distribution (Desc)'!C130)","v":""},{"$f":"IF('DC Power Distribution (Desc)'!E130=\"\",\"\",'DC Power Distribution (Desc)'!E130)","v":""},{"$f":"IF('DC Power Distribution (Desc)'!F130=\"\",\"\",INDEX([1]ELECTRIC_DEV_MANUF!$A$2:$A$1500,MATCH(1,([1]ELECTRIC_DEV_MANUF!$B$2:$B$1500='DC Power Distribution (Desc)'!$F130)*([1]ELECTRIC_DEV_MANUF!$D$2:$D$1500=\"DCPWRDIS\"),0),0))","v":""},{"$f":"IF('DC Power Distribution (Desc)'!G130=\"\",\"\",INDEX([1]ELECTRIC_DEV_MODEL!$A$2:$A$1500,MATCH(1,([1]ELECTRIC_DEV_MODEL!$C$2:$C$1500='DC Power Distribution (Desc)'!$F130)*([1]ELECTRIC_DEV_MODEL!$D$2:$D$1500='DC Power Distribution (Desc)'!$G130)*([1]ELECTRIC_DEV_MODEL!$F$2:$F$1500=\"DCPWRDIS\"),0),0))","v":""},{"$f":"IF('DC Power Distribution (Desc)'!H130=\"\",\"\",'DC Power Distribution (Desc)'!H130)","v":""},{"$f":"IF('DC Power Distribution (Desc)'!I130=\"\",\"\",INDEX([1]YES_NO!$A$2:$A$100,MATCH('DC Power Distribution (Desc)'!$I130,[1]!MASTER_YES_NO_DESC[#Data],0),0))","v":""},{"$f":"IF('DC Power Distribution (Desc)'!J130=\"\",\"\",'DC Power Distribution (Desc)'!J130)","v":""},{"$f":"IF('DC Power Distribution (Desc)'!K130=\"\",\"\",'DC Power Distribution (Desc)'!K130)","v":""},{"$f":"IF('DC Power Distribution (Desc)'!L130=\"\",\"\",INDEX([1]YES_NO!$A$2:$A$100,MATCH('DC Power Distribution (Desc)'!$L130,[1]!MASTER_YES_NO_DESC[#Data],0),0))","v":""},{"$f":"IF('DC Power Distribution (Desc)'!M130=\"\",\"\",INDEX([1]DEV_INPUT_VOLTAGE!$A$2:$A$100,MATCH('DC Power Distribution (Desc)'!$M130,[1]!MASTER_DEV_INPUT_VOLTAGE_DESC[#Data],0),0))","v":""},{"$f":"IF('DC Power Distribution (Desc)'!N130=\"\",\"\",INDEX([1]DEV_OUTPUT_VOLTAGE!$A$2:$A$100,MATCH('DC Power Distribution (Desc)'!$N130,[1]!MASTER_DEV_INPUT_VOLTAGE_DESC[#Data],0),0))","v":""},{"$f":"IF('DC Power Distribution (Desc)'!O130=\"\",\"\",'DC Power Distribution (Desc)'!O130)","v":""},{"$f":"IF('DC Power Distribution (Desc)'!P130=\"\",\"\",'DC Power Distribution (Desc)'!P130)","v":""},{"$f":"IF('DC Power Distribution (Desc)'!Q130=\"\",\"\",'DC Power Distribution (Desc)'!Q130)","v":""},{"$f":"IF('DC Power Distribution (Desc)'!C130=\"\",\"\",\"NA\")","v":""}]
[{"$f":"IF('DC Power Distribution (Desc)'!A131=\"\",\"\",'DC Power Distribution (Desc)'!A131)","v":""},{"$f":"IF('DC Power Distribution (Desc)'!C131=\"\",\"\",2029)","v":""},{"$f":"IF('DC Power Distribution (Desc)'!C131=\"\",\"\",'DC Power Distribution (Desc)'!C131)","v":""},{"$f":"IF('DC Power Distribution (Desc)'!E131=\"\",\"\",'DC Power Distribution (Desc)'!E131)","v":""},{"$f":"IF('DC Power Distribution (Desc)'!F131=\"\",\"\",INDEX([1]ELECTRIC_DEV_MANUF!$A$2:$A$1500,MATCH(1,([1]ELECTRIC_DEV_MANUF!$B$2:$B$1500='DC Power Distribution (Desc)'!$F131)*([1]ELECTRIC_DEV_MANUF!$D$2:$D$1500=\"DCPWRDIS\"),0),0))","v":""},{"$f":"IF('DC Power Distribution (Desc)'!G131=\"\",\"\",INDEX([1]ELECTRIC_DEV_MODEL!$A$2:$A$1500,MATCH(1,([1]ELECTRIC_DEV_MODEL!$C$2:$C$1500='DC Power Distribution (Desc)'!$F131)*([1]ELECTRIC_DEV_MODEL!$D$2:$D$1500='DC Power Distribution (Desc)'!$G131)*([1]ELECTRIC_DEV_MODEL!$F$2:$F$1500=\"DCPWRDIS\"),0),0))","v":""},{"$f":"IF('DC Power Distribution (Desc)'!H131=\"\",\"\",'DC Power Distribution (Desc)'!H131)","v":""},{"$f":"IF('DC Power Distribution (Desc)'!I131=\"\",\"\",INDEX([1]YES_NO!$A$2:$A$100,MATCH('DC Power Distribution (Desc)'!$I131,[1]!MASTER_YES_NO_DESC[#Data],0),0))","v":""},{"$f":"IF('DC Power Distribution (Desc)'!J131=\"\",\"\",'DC Power Distribution (Desc)'!J131)","v":""},{"$f":"IF('DC Power Distribution (Desc)'!K131=\"\",\"\",'DC Power Distribution (Desc)'!K131)","v":""},{"$f":"IF('DC Power Distribution (Desc)'!L131=\"\",\"\",INDEX([1]YES_NO!$A$2:$A$100,MATCH('DC Power Distribution (Desc)'!$L131,[1]!MASTER_YES_NO_DESC[#Data],0),0))","v":""},{"$f":"IF('DC Power Distribution (Desc)'!M131=\"\",\"\",INDEX([1]DEV_INPUT_VOLTAGE!$A$2:$A$100,MATCH('DC Power Distribution (Desc)'!$M131,[1]!MASTER_DEV_INPUT_VOLTAGE_DESC[#Data],0),0))","v":""},{"$f":"IF('DC Power Distribution (Desc)'!N131=\"\",\"\",INDEX([1]DEV_OUTPUT_VOLTAGE!$A$2:$A$100,MATCH('DC Power Distribution (Desc)'!$N131,[1]!MASTER_DEV_INPUT_VOLTAGE_DESC[#Data],0),0))","v":""},{"$f":"IF('DC Power Distribution (Desc)'!O131=\"\",\"\",'DC Power Distribution (Desc)'!O131)","v":""},{"$f":"IF('DC Power Distribution (Desc)'!P131=\"\",\"\",'DC Power Distribution (Desc)'!P131)","v":""},{"$f":"IF('DC Power Distribution (Desc)'!Q131=\"\",\"\",'DC Power Distribution (Desc)'!Q131)","v":""},{"$f":"IF('DC Power Distribution (Desc)'!C131=\"\",\"\",\"NA\")","v":""}]
[{"$f":"IF('DC Power Distribution (Desc)'!A132=\"\",\"\",'DC Power Distribution (Desc)'!A132)","v":""},{"$f":"IF('DC Power Distribution (Desc)'!C132=\"\",\"\",2029)","v":""},{"$f":"IF('DC Power Distribution (Desc)'!C132=\"\",\"\",'DC Power Distribution (Desc)'!C132)","v":""},{"$f":"IF('DC Power Distribution (Desc)'!E132=\"\",\"\",'DC Power Distribution (Desc)'!E132)","v":""},{"$f":"IF('DC Power Distribution (Desc)'!F132=\"\",\"\",INDEX([1]ELECTRIC_DEV_MANUF!$A$2:$A$1500,MATCH(1,([1]ELECTRIC_DEV_MANUF!$B$2:$B$1500='DC Power Distribution (Desc)'!$F132)*([1]ELECTRIC_DEV_MANUF!$D$2:$D$1500=\"DCPWRDIS\"),0),0))","v":""},{"$f":"IF('DC Power Distribution (Desc)'!G132=\"\",\"\",INDEX([1]ELECTRIC_DEV_MODEL!$A$2:$A$1500,MATCH(1,([1]ELECTRIC_DEV_MODEL!$C$2:$C$1500='DC Power Distribution (Desc)'!$F132)*([1]ELECTRIC_DEV_MODEL!$D$2:$D$1500='DC Power Distribution (Desc)'!$G132)*([1]ELECTRIC_DEV_MODEL!$F$2:$F$1500=\"DCPWRDIS\"),0),0))","v":""},{"$f":"IF('DC Power Distribution (Desc)'!H132=\"\",\"\",'DC Power Distribution (Desc)'!H132)","v":""},{"$f":"IF('DC Power Distribution (Desc)'!I132=\"\",\"\",INDEX([1]YES_NO!$A$2:$A$100,MATCH('DC Power Distribution (Desc)'!$I132,[1]!MASTER_YES_NO_DESC[#Data],0),0))","v":""},{"$f":"IF('DC Power Distribution (Desc)'!J132=\"\",\"\",'DC Power Distribution (Desc)'!J132)","v":""},{"$f":"IF('DC Power Distribution (Desc)'!K132=\"\",\"\",'DC Power Distribution (Desc)'!K132)","v":""},{"$f":"IF('DC Power Distribution (Desc)'!L132=\"\",\"\",INDEX([1]YES_NO!$A$2:$A$100,MATCH('DC Power Distribution (Desc)'!$L132,[1]!MASTER_YES_NO_DESC[#Data],0),0))","v":""},{"$f":"IF('DC Power Distribution (Desc)'!M132=\"\",\"\",INDEX([1]DEV_INPUT_VOLTAGE!$A$2:$A$100,MATCH('DC Power Distribution (Desc)'!$M132,[1]!MASTER_DEV_INPUT_VOLTAGE_DESC[#Data],0),0))","v":""},{"$f":"IF('DC Power Distribution (Desc)'!N132=\"\",\"\",INDEX([1]DEV_OUTPUT_VOLTAGE!$A$2:$A$100,MATCH('DC Power Distribution (Desc)'!$N132,[1]!MASTER_DEV_INPUT_VOLTAGE_DESC[#Data],0),0))","v":""},{"$f":"IF('DC Power Distribution (Desc)'!O132=\"\",\"\",'DC Power Distribution (Desc)'!O132)","v":""},{"$f":"IF('DC Power Distribution (Desc)'!P132=\"\",\"\",'DC Power Distribution (Desc)'!P132)","v":""},{"$f":"IF('DC Power Distribution (Desc)'!Q132=\"\",\"\",'DC Power Distribution (Desc)'!Q132)","v":""},{"$f":"IF('DC Power Distribution (Desc)'!C132=\"\",\"\",\"NA\")","v":""}]
[{"$f":"IF('DC Power Distribution (Desc)'!A133=\"\",\"\",'DC Power Distribution (Desc)'!A133)","v":""},{"$f":"IF('DC Power Distribution (Desc)'!C133=\"\",\"\",2029)","v":""},{"$f":"IF('DC Power Distribution (Desc)'!C133=\"\",\"\",'DC Power Distribution (Desc)'!C133)","v":""},{"$f":"IF('DC Power Distribution (Desc)'!E133=\"\",\"\",'DC Power Distribution (Desc)'!E133)","v":""},{"$f":"IF('DC Power Distribution (Desc)'!F133=\"\",\"\",INDEX([1]ELECTRIC_DEV_MANUF!$A$2:$A$1500,MATCH(1,([1]ELECTRIC_DEV_MANUF!$B$2:$B$1500='DC Power Distribution (Desc)'!$F133)*([1]ELECTRIC_DEV_MANUF!$D$2:$D$1500=\"DCPWRDIS\"),0),0))","v":""},{"$f":"IF('DC Power Distribution (Desc)'!G133=\"\",\"\",INDEX([1]ELECTRIC_DEV_MODEL!$A$2:$A$1500,MATCH(1,([1]ELECTRIC_DEV_MODEL!$C$2:$C$1500='DC Power Distribution (Desc)'!$F133)*([1]ELECTRIC_DEV_MODEL!$D$2:$D$1500='DC Power Distribution (Desc)'!$G133)*([1]ELECTRIC_DEV_MODEL!$F$2:$F$1500=\"DCPWRDIS\"),0),0))","v":""},{"$f":"IF('DC Power Distribution (Desc)'!H133=\"\",\"\",'DC Power Distribution (Desc)'!H133)","v":""},{"$f":"IF('DC Power Distribution (Desc)'!I133=\"\",\"\",INDEX([1]YES_NO!$A$2:$A$100,MATCH('DC Power Distribution (Desc)'!$I133,[1]!MASTER_YES_NO_DESC[#Data],0),0))","v":""},{"$f":"IF('DC Power Distribution (Desc)'!J133=\"\",\"\",'DC Power Distribution (Desc)'!J133)","v":""},{"$f":"IF('DC Power Distribution (Desc)'!K133=\"\",\"\",'DC Power Distribution (Desc)'!K133)","v":""},{"$f":"IF('DC Power Distribution (Desc)'!L133=\"\",\"\",INDEX([1]YES_NO!$A$2:$A$100,MATCH('DC Power Distribution (Desc)'!$L133,[1]!MASTER_YES_NO_DESC[#Data],0),0))","v":""},{"$f":"IF('DC Power Distribution (Desc)'!M133=\"\",\"\",INDEX([1]DEV_INPUT_VOLTAGE!$A$2:$A$100,MATCH('DC Power Distribution (Desc)'!$M133,[1]!MASTER_DEV_INPUT_VOLTAGE_DESC[#Data],0),0))","v":""},{"$f":"IF('DC Power Distribution (Desc)'!N133=\"\",\"\",INDEX([1]DEV_OUTPUT_VOLTAGE!$A$2:$A$100,MATCH('DC Power Distribution (Desc)'!$N133,[1]!MASTER_DEV_INPUT_VOLTAGE_DESC[#Data],0),0))","v":""},{"$f":"IF('DC Power Distribution (Desc)'!O133=\"\",\"\",'DC Power Distribution (Desc)'!O133)","v":""},{"$f":"IF('DC Power Distribution (Desc)'!P133=\"\",\"\",'DC Power Distribution (Desc)'!P133)","v":""},{"$f":"IF('DC Power Distribution (Desc)'!Q133=\"\",\"\",'DC Power Distribution (Desc)'!Q133)","v":""},{"$f":"IF('DC Power Distribution (Desc)'!C133=\"\",\"\",\"NA\")","v":""}]
[{"$f":"IF('DC Power Distribution (Desc)'!A134=\"\",\"\",'DC Power Distribution (Desc)'!A134)","v":""},{"$f":"IF('DC Power Distribution (Desc)'!C134=\"\",\"\",2029)","v":""},{"$f":"IF('DC Power Distribution (Desc)'!C134=\"\",\"\",'DC Power Distribution (Desc)'!C134)","v":""},{"$f":"IF('DC Power Distribution (Desc)'!E134=\"\",\"\",'DC Power Distribution (Desc)'!E134)","v":""},{"$f":"IF('DC Power Distribution (Desc)'!F134=\"\",\"\",INDEX([1]ELECTRIC_DEV_MANUF!$A$2:$A$1500,MATCH(1,([1]ELECTRIC_DEV_MANUF!$B$2:$B$1500='DC Power Distribution (Desc)'!$F134)*([1]ELECTRIC_DEV_MANUF!$D$2:$D$1500=\"DCPWRDIS\"),0),0))","v":""},{"$f":"IF('DC Power Distribution (Desc)'!G134=\"\",\"\",INDEX([1]ELECTRIC_DEV_MODEL!$A$2:$A$1500,MATCH(1,([1]ELECTRIC_DEV_MODEL!$C$2:$C$1500='DC Power Distribution (Desc)'!$F134)*([1]ELECTRIC_DEV_MODEL!$D$2:$D$1500='DC Power Distribution (Desc)'!$G134)*([1]ELECTRIC_DEV_MODEL!$F$2:$F$1500=\"DCPWRDIS\"),0),0))","v":""},{"$f":"IF('DC Power Distribution (Desc)'!H134=\"\",\"\",'DC Power Distribution (Desc)'!H134)","v":""},{"$f":"IF('DC Power Distribution (Desc)'!I134=\"\",\"\",INDEX([1]YES_NO!$A$2:$A$100,MATCH('DC Power Distribution (Desc)'!$I134,[1]!MASTER_YES_NO_DESC[#Data],0),0))","v":""},{"$f":"IF('DC Power Distribution (Desc)'!J134=\"\",\"\",'DC Power Distribution (Desc)'!J134)","v":""},{"$f":"IF('DC Power Distribution (Desc)'!K134=\"\",\"\",'DC Power Distribution (Desc)'!K134)","v":""},{"$f":"IF('DC Power Distribution (Desc)'!L134=\"\",\"\",INDEX([1]YES_NO!$A$2:$A$100,MATCH('DC Power Distribution (Desc)'!$L134,[1]!MASTER_YES_NO_DESC[#Data],0),0))","v":""},{"$f":"IF('DC Power Distribution (Desc)'!M134=\"\",\"\",INDEX([1]DEV_INPUT_VOLTAGE!$A$2:$A$100,MATCH('DC Power Distribution (Desc)'!$M134,[1]!MASTER_DEV_INPUT_VOLTAGE_DESC[#Data],0),0))","v":""},{"$f":"IF('DC Power Distribution (Desc)'!N134=\"\",\"\",INDEX([1]DEV_OUTPUT_VOLTAGE!$A$2:$A$100,MATCH('DC Power Distribution (Desc)'!$N134,[1]!MASTER_DEV_INPUT_VOLTAGE_DESC[#Data],0),0))","v":""},{"$f":"IF('DC Power Distribution (Desc)'!O134=\"\",\"\",'DC Power Distribution (Desc)'!O134)","v":""},{"$f":"IF('DC Power Distribution (Desc)'!P134=\"\",\"\",'DC Power Distribution (Desc)'!P134)","v":""},{"$f":"IF('DC Power Distribution (Desc)'!Q134=\"\",\"\",'DC Power Distribution (Desc)'!Q134)","v":""},{"$f":"IF('DC Power Distribution (Desc)'!C134=\"\",\"\",\"NA\")","v":""}]
[{"$f":"IF('DC Power Distribution (Desc)'!A135=\"\",\"\",'DC Power Distribution (Desc)'!A135)","v":""},{"$f":"IF('DC Power Distribution (Desc)'!C135=\"\",\"\",2029)","v":""},{"$f":"IF('DC Power Distribution (Desc)'!C135=\"\",\"\",'DC Power Distribution (Desc)'!C135)","v":""},{"$f":"IF('DC Power Distribution (Desc)'!E135=\"\",\"\",'DC Power Distribution (Desc)'!E135)","v":""},{"$f":"IF('DC Power Distribution (Desc)'!F135=\"\",\"\",INDEX([1]ELECTRIC_DEV_MANUF!$A$2:$A$1500,MATCH(1,([1]ELECTRIC_DEV_MANUF!$B$2:$B$1500='DC Power Distribution (Desc)'!$F135)*([1]ELECTRIC_DEV_MANUF!$D$2:$D$1500=\"DCPWRDIS\"),0),0))","v":""},{"$f":"IF('DC Power Distribution (Desc)'!G135=\"\",\"\",INDEX([1]ELECTRIC_DEV_MODEL!$A$2:$A$1500,MATCH(1,([1]ELECTRIC_DEV_MODEL!$C$2:$C$1500='DC Power Distribution (Desc)'!$F135)*([1]ELECTRIC_DEV_MODEL!$D$2:$D$1500='DC Power Distribution (Desc)'!$G135)*([1]ELECTRIC_DEV_MODEL!$F$2:$F$1500=\"DCPWRDIS\"),0),0))","v":""},{"$f":"IF('DC Power Distribution (Desc)'!H135=\"\",\"\",'DC Power Distribution (Desc)'!H135)","v":""},{"$f":"IF('DC Power Distribution (Desc)'!I135=\"\",\"\",INDEX([1]YES_NO!$A$2:$A$100,MATCH('DC Power Distribution (Desc)'!$I135,[1]!MASTER_YES_NO_DESC[#Data],0),0))","v":""},{"$f":"IF('DC Power Distribution (Desc)'!J135=\"\",\"\",'DC Power Distribution (Desc)'!J135)","v":""},{"$f":"IF('DC Power Distribution (Desc)'!K135=\"\",\"\",'DC Power Distribution (Desc)'!K135)","v":""},{"$f":"IF('DC Power Distribution (Desc)'!L135=\"\",\"\",INDEX([1]YES_NO!$A$2:$A$100,MATCH('DC Power Distribution (Desc)'!$L135,[1]!MASTER_YES_NO_DESC[#Data],0),0))","v":""},{"$f":"IF('DC Power Distribution (Desc)'!M135=\"\",\"\",INDEX([1]DEV_INPUT_VOLTAGE!$A$2:$A$100,MATCH('DC Power Distribution (Desc)'!$M135,[1]!MASTER_DEV_INPUT_VOLTAGE_DESC[#Data],0),0))","v":""},{"$f":"IF('DC Power Distribution (Desc)'!N135=\"\",\"\",INDEX([1]DEV_OUTPUT_VOLTAGE!$A$2:$A$100,MATCH('DC Power Distribution (Desc)'!$N135,[1]!MASTER_DEV_INPUT_VOLTAGE_DESC[#Data],0),0))","v":""},{"$f":"IF('DC Power Distribution (Desc)'!O135=\"\",\"\",'DC Power Distribution (Desc)'!O135)","v":""},{"$f":"IF('DC Power Distribution (Desc)'!P135=\"\",\"\",'DC Power Distribution (Desc)'!P135)","v":""},{"$f":"IF('DC Power Distribution (Desc)'!Q135=\"\",\"\",'DC Power Distribution (Desc)'!Q135)","v":""},{"$f":"IF('DC Power Distribution (Desc)'!C135=\"\",\"\",\"NA\")","v":""}]
[{"$f":"IF('DC Power Distribution (Desc)'!A136=\"\",\"\",'DC Power Distribution (Desc)'!A136)","v":""},{"$f":"IF('DC Power Distribution (Desc)'!C136=\"\",\"\",2029)","v":""},{"$f":"IF('DC Power Distribution (Desc)'!C136=\"\",\"\",'DC Power Distribution (Desc)'!C136)","v":""},{"$f":"IF('DC Power Distribution (Desc)'!E136=\"\",\"\",'DC Power Distribution (Desc)'!E136)","v":""},{"$f":"IF('DC Power Distribution (Desc)'!F136=\"\",\"\",INDEX([1]ELECTRIC_DEV_MANUF!$A$2:$A$1500,MATCH(1,([1]ELECTRIC_DEV_MANUF!$B$2:$B$1500='DC Power Distribution (Desc)'!$F136)*([1]ELECTRIC_DEV_MANUF!$D$2:$D$1500=\"DCPWRDIS\"),0),0))","v":""},{"$f":"IF('DC Power Distribution (Desc)'!G136=\"\",\"\",INDEX([1]ELECTRIC_DEV_MODEL!$A$2:$A$1500,MATCH(1,([1]ELECTRIC_DEV_MODEL!$C$2:$C$1500='DC Power Distribution (Desc)'!$F136)*([1]ELECTRIC_DEV_MODEL!$D$2:$D$1500='DC Power Distribution (Desc)'!$G136)*([1]ELECTRIC_DEV_MODEL!$F$2:$F$1500=\"DCPWRDIS\"),0),0))","v":""},{"$f":"IF('DC Power Distribution (Desc)'!H136=\"\",\"\",'DC Power Distribution (Desc)'!H136)","v":""},{"$f":"IF('DC Power Distribution (Desc)'!I136=\"\",\"\",INDEX([1]YES_NO!$A$2:$A$100,MATCH('DC Power Distribution (Desc)'!$I136,[1]!MASTER_YES_NO_DESC[#Data],0),0))","v":""},{"$f":"IF('DC Power Distribution (Desc)'!J136=\"\",\"\",'DC Power Distribution (Desc)'!J136)","v":""},{"$f":"IF('DC Power Distribution (Desc)'!K136=\"\",\"\",'DC Power Distribution (Desc)'!K136)","v":""},{"$f":"IF('DC Power Distribution (Desc)'!L136=\"\",\"\",INDEX([1]YES_NO!$A$2:$A$100,MATCH('DC Power Distribution (Desc)'!$L136,[1]!MASTER_YES_NO_DESC[#Data],0),0))","v":""},{"$f":"IF('DC Power Distribution (Desc)'!M136=\"\",\"\",INDEX([1]DEV_INPUT_VOLTAGE!$A$2:$A$100,MATCH('DC Power Distribution (Desc)'!$M136,[1]!MASTER_DEV_INPUT_VOLTAGE_DESC[#Data],0),0))","v":""},{"$f":"IF('DC Power Distribution (Desc)'!N136=\"\",\"\",INDEX([1]DEV_OUTPUT_VOLTAGE!$A$2:$A$100,MATCH('DC Power Distribution (Desc)'!$N136,[1]!MASTER_DEV_INPUT_VOLTAGE_DESC[#Data],0),0))","v":""},{"$f":"IF('DC Power Distribution (Desc)'!O136=\"\",\"\",'DC Power Distribution (Desc)'!O136)","v":""},{"$f":"IF('DC Power Distribution (Desc)'!P136=\"\",\"\",'DC Power Distribution (Desc)'!P136)","v":""},{"$f":"IF('DC Power Distribution (Desc)'!Q136=\"\",\"\",'DC Power Distribution (Desc)'!Q136)","v":""},{"$f":"IF('DC Power Distribution (Desc)'!C136=\"\",\"\",\"NA\")","v":""}]
[{"$f":"IF('DC Power Distribution (Desc)'!A137=\"\",\"\",'DC Power Distribution (Desc)'!A137)","v":""},{"$f":"IF('DC Power Distribution (Desc)'!C137=\"\",\"\",2029)","v":""},{"$f":"IF('DC Power Distribution (Desc)'!C137=\"\",\"\",'DC Power Distribution (Desc)'!C137)","v":""},{"$f":"IF('DC Power Distribution (Desc)'!E137=\"\",\"\",'DC Power Distribution (Desc)'!E137)","v":""},{"$f":"IF('DC Power Distribution (Desc)'!F137=\"\",\"\",INDEX([1]ELECTRIC_DEV_MANUF!$A$2:$A$1500,MATCH(1,([1]ELECTRIC_DEV_MANUF!$B$2:$B$1500='DC Power Distribution (Desc)'!$F137)*([1]ELECTRIC_DEV_MANUF!$D$2:$D$1500=\"DCPWRDIS\"),0),0))","v":""},{"$f":"IF('DC Power Distribution (Desc)'!G137=\"\",\"\",INDEX([1]ELECTRIC_DEV_MODEL!$A$2:$A$1500,MATCH(1,([1]ELECTRIC_DEV_MODEL!$C$2:$C$1500='DC Power Distribution (Desc)'!$F137)*([1]ELECTRIC_DEV_MODEL!$D$2:$D$1500='DC Power Distribution (Desc)'!$G137)*([1]ELECTRIC_DEV_MODEL!$F$2:$F$1500=\"DCPWRDIS\"),0),0))","v":""},{"$f":"IF('DC Power Distribution (Desc)'!H137=\"\",\"\",'DC Power Distribution (Desc)'!H137)","v":""},{"$f":"IF('DC Power Distribution (Desc)'!I137=\"\",\"\",INDEX([1]YES_NO!$A$2:$A$100,MATCH('DC Power Distribution (Desc)'!$I137,[1]!MASTER_YES_NO_DESC[#Data],0),0))","v":""},{"$f":"IF('DC Power Distribution (Desc)'!J137=\"\",\"\",'DC Power Distribution (Desc)'!J137)","v":""},{"$f":"IF('DC Power Distribution (Desc)'!K137=\"\",\"\",'DC Power Distribution (Desc)'!K137)","v":""},{"$f":"IF('DC Power Distribution (Desc)'!L137=\"\",\"\",INDEX([1]YES_NO!$A$2:$A$100,MATCH('DC Power Distribution (Desc)'!$L137,[1]!MASTER_YES_NO_DESC[#Data],0),0))","v":""},{"$f":"IF('DC Power Distribution (Desc)'!M137=\"\",\"\",INDEX([1]DEV_INPUT_VOLTAGE!$A$2:$A$100,MATCH('DC Power Distribution (Desc)'!$M137,[1]!MASTER_DEV_INPUT_VOLTAGE_DESC[#Data],0),0))","v":""},{"$f":"IF('DC Power Distribution (Desc)'!N137=\"\",\"\",INDEX([1]DEV_OUTPUT_VOLTAGE!$A$2:$A$100,MATCH('DC Power Distribution (Desc)'!$N137,[1]!MASTER_DEV_INPUT_VOLTAGE_DESC[#Data],0),0))","v":""},{"$f":"IF('DC Power Distribution (Desc)'!O137=\"\",\"\",'DC Power Distribution (Desc)'!O137)","v":""},{"$f":"IF('DC Power Distribution (Desc)'!P137=\"\",\"\",'DC Power Distribution (Desc)'!P137)","v":""},{"$f":"IF('DC Power Distribution (Desc)'!Q137=\"\",\"\",'DC Power Distribution (Desc)'!Q137)","v":""},{"$f":"IF('DC Power Distribution (Desc)'!C137=\"\",\"\",\"NA\")","v":""}]
[{"$f":"IF('DC Power Distribution (Desc)'!A138=\"\",\"\",'DC Power Distribution (Desc)'!A138)","v":""},{"$f":"IF('DC Power Distribution (Desc)'!C138=\"\",\"\",2029)","v":""},{"$f":"IF('DC Power Distribution (Desc)'!C138=\"\",\"\",'DC Power Distribution (Desc)'!C138)","v":""},{"$f":"IF('DC Power Distribution (Desc)'!E138=\"\",\"\",'DC Power Distribution (Desc)'!E138)","v":""},{"$f":"IF('DC Power Distribution (Desc)'!F138=\"\",\"\",INDEX([1]ELECTRIC_DEV_MANUF!$A$2:$A$1500,MATCH(1,([1]ELECTRIC_DEV_MANUF!$B$2:$B$1500='DC Power Distribution (Desc)'!$F138)*([1]ELECTRIC_DEV_MANUF!$D$2:$D$1500=\"DCPWRDIS\"),0),0))","v":""},{"$f":"IF('DC Power Distribution (Desc)'!G138=\"\",\"\",INDEX([1]ELECTRIC_DEV_MODEL!$A$2:$A$1500,MATCH(1,([1]ELECTRIC_DEV_MODEL!$C$2:$C$1500='DC Power Distribution (Desc)'!$F138)*([1]ELECTRIC_DEV_MODEL!$D$2:$D$1500='DC Power Distribution (Desc)'!$G138)*([1]ELECTRIC_DEV_MODEL!$F$2:$F$1500=\"DCPWRDIS\"),0),0))","v":""},{"$f":"IF('DC Power Distribution (Desc)'!H138=\"\",\"\",'DC Power Distribution (Desc)'!H138)","v":""},{"$f":"IF('DC Power Distribution (Desc)'!I138=\"\",\"\",INDEX([1]YES_NO!$A$2:$A$100,MATCH('DC Power Distribution (Desc)'!$I138,[1]!MASTER_YES_NO_DESC[#Data],0),0))","v":""},{"$f":"IF('DC Power Distribution (Desc)'!J138=\"\",\"\",'DC Power Distribution (Desc)'!J138)","v":""},{"$f":"IF('DC Power Distribution (Desc)'!K138=\"\",\"\",'DC Power Distribution (Desc)'!K138)","v":""},{"$f":"IF('DC Power Distribution (Desc)'!L138=\"\",\"\",INDEX([1]YES_NO!$A$2:$A$100,MATCH('DC Power Distribution (Desc)'!$L138,[1]!MASTER_YES_NO_DESC[#Data],0),0))","v":""},{"$f":"IF('DC Power Distribution (Desc)'!M138=\"\",\"\",INDEX([1]DEV_INPUT_VOLTAGE!$A$2:$A$100,MATCH('DC Power Distribution (Desc)'!$M138,[1]!MASTER_DEV_INPUT_VOLTAGE_DESC[#Data],0),0))","v":""},{"$f":"IF('DC Power Distribution (Desc)'!N138=\"\",\"\",INDEX([1]DEV_OUTPUT_VOLTAGE!$A$2:$A$100,MATCH('DC Power Distribution (Desc)'!$N138,[1]!MASTER_DEV_INPUT_VOLTAGE_DESC[#Data],0),0))","v":""},{"$f":"IF('DC Power Distribution (Desc)'!O138=\"\",\"\",'DC Power Distribution (Desc)'!O138)","v":""},{"$f":"IF('DC Power Distribution (Desc)'!P138=\"\",\"\",'DC Power Distribution (Desc)'!P138)","v":""},{"$f":"IF('DC Power Distribution (Desc)'!Q138=\"\",\"\",'DC Power Distribution (Desc)'!Q138)","v":""},{"$f":"IF('DC Power Distribution (Desc)'!C138=\"\",\"\",\"NA\")","v":""}]
[{"$f":"IF('DC Power Distribution (Desc)'!A139=\"\",\"\",'DC Power Distribution (Desc)'!A139)","v":""},{"$f":"IF('DC Power Distribution (Desc)'!C139=\"\",\"\",2029)","v":""},{"$f":"IF('DC Power Distribution (Desc)'!C139=\"\",\"\",'DC Power Distribution (Desc)'!C139)","v":""},{"$f":"IF('DC Power Distribution (Desc)'!E139=\"\",\"\",'DC Power Distribution (Desc)'!E139)","v":""},{"$f":"IF('DC Power Distribution (Desc)'!F139=\"\",\"\",INDEX([1]ELECTRIC_DEV_MANUF!$A$2:$A$1500,MATCH(1,([1]ELECTRIC_DEV_MANUF!$B$2:$B$1500='DC Power Distribution (Desc)'!$F139)*([1]ELECTRIC_DEV_MANUF!$D$2:$D$1500=\"DCPWRDIS\"),0),0))","v":""},{"$f":"IF('DC Power Distribution (Desc)'!G139=\"\",\"\",INDEX([1]ELECTRIC_DEV_MODEL!$A$2:$A$1500,MATCH(1,([1]ELECTRIC_DEV_MODEL!$C$2:$C$1500='DC Power Distribution (Desc)'!$F139)*([1]ELECTRIC_DEV_MODEL!$D$2:$D$1500='DC Power Distribution (Desc)'!$G139)*([1]ELECTRIC_DEV_MODEL!$F$2:$F$1500=\"DCPWRDIS\"),0),0))","v":""},{"$f":"IF('DC Power Distribution (Desc)'!H139=\"\",\"\",'DC Power Distribution (Desc)'!H139)","v":""},{"$f":"IF('DC Power Distribution (Desc)'!I139=\"\",\"\",INDEX([1]YES_NO!$A$2:$A$100,MATCH('DC Power Distribution (Desc)'!$I139,[1]!MASTER_YES_NO_DESC[#Data],0),0))","v":""},{"$f":"IF('DC Power Distribution (Desc)'!J139=\"\",\"\",'DC Power Distribution (Desc)'!J139)","v":""},{"$f":"IF('DC Power Distribution (Desc)'!K139=\"\",\"\",'DC Power Distribution (Desc)'!K139)","v":""},{"$f":"IF('DC Power Distribution (Desc)'!L139=\"\",\"\",INDEX([1]YES_NO!$A$2:$A$100,MATCH('DC Power Distribution (Desc)'!$L139,[1]!MASTER_YES_NO_DESC[#Data],0),0))","v":""},{"$f":"IF('DC Power Distribution (Desc)'!M139=\"\",\"\",INDEX([1]DEV_INPUT_VOLTAGE!$A$2:$A$100,MATCH('DC Power Distribution (Desc)'!$M139,[1]!MASTER_DEV_INPUT_VOLTAGE_DESC[#Data],0),0))","v":""},{"$f":"IF('DC Power Distribution (Desc)'!N139=\"\",\"\",INDEX([1]DEV_OUTPUT_VOLTAGE!$A$2:$A$100,MATCH('DC Power Distribution (Desc)'!$N139,[1]!MASTER_DEV_INPUT_VOLTAGE_DESC[#Data],0),0))","v":""},{"$f":"IF('DC Power Distribution (Desc)'!O139=\"\",\"\",'DC Power Distribution (Desc)'!O139)","v":""},{"$f":"IF('DC Power Distribution (Desc)'!P139=\"\",\"\",'DC Power Distribution (Desc)'!P139)","v":""},{"$f":"IF('DC Power Distribution (Desc)'!Q139=\"\",\"\",'DC Power Distribution (Desc)'!Q139)","v":""},{"$f":"IF('DC Power Distribution (Desc)'!C139=\"\",\"\",\"NA\")","v":""}]
[{"$f":"IF('DC Power Distribution (Desc)'!A140=\"\",\"\",'DC Power Distribution (Desc)'!A140)","v":""},{"$f":"IF('DC Power Distribution (Desc)'!C140=\"\",\"\",2029)","v":""},{"$f":"IF('DC Power Distribution (Desc)'!C140=\"\",\"\",'DC Power Distribution (Desc)'!C140)","v":""},{"$f":"IF('DC Power Distribution (Desc)'!E140=\"\",\"\",'DC Power Distribution (Desc)'!E140)","v":""},{"$f":"IF('DC Power Distribution (Desc)'!F140=\"\",\"\",INDEX([1]ELECTRIC_DEV_MANUF!$A$2:$A$1500,MATCH(1,([1]ELECTRIC_DEV_MANUF!$B$2:$B$1500='DC Power Distribution (Desc)'!$F140)*([1]ELECTRIC_DEV_MANUF!$D$2:$D$1500=\"DCPWRDIS\"),0),0))","v":""},{"$f":"IF('DC Power Distribution (Desc)'!G140=\"\",\"\",INDEX([1]ELECTRIC_DEV_MODEL!$A$2:$A$1500,MATCH(1,([1]ELECTRIC_DEV_MODEL!$C$2:$C$1500='DC Power Distribution (Desc)'!$F140)*([1]ELECTRIC_DEV_MODEL!$D$2:$D$1500='DC Power Distribution (Desc)'!$G140)*([1]ELECTRIC_DEV_MODEL!$F$2:$F$1500=\"DCPWRDIS\"),0),0))","v":""},{"$f":"IF('DC Power Distribution (Desc)'!H140=\"\",\"\",'DC Power Distribution (Desc)'!H140)","v":""},{"$f":"IF('DC Power Distribution (Desc)'!I140=\"\",\"\",INDEX([1]YES_NO!$A$2:$A$100,MATCH('DC Power Distribution (Desc)'!$I140,[1]!MASTER_YES_NO_DESC[#Data],0),0))","v":""},{"$f":"IF('DC Power Distribution (Desc)'!J140=\"\",\"\",'DC Power Distribution (Desc)'!J140)","v":""},{"$f":"IF('DC Power Distribution (Desc)'!K140=\"\",\"\",'DC Power Distribution (Desc)'!K140)","v":""},{"$f":"IF('DC Power Distribution (Desc)'!L140=\"\",\"\",INDEX([1]YES_NO!$A$2:$A$100,MATCH('DC Power Distribution (Desc)'!$L140,[1]!MASTER_YES_NO_DESC[#Data],0),0))","v":""},{"$f":"IF('DC Power Distribution (Desc)'!M140=\"\",\"\",INDEX([1]DEV_INPUT_VOLTAGE!$A$2:$A$100,MATCH('DC Power Distribution (Desc)'!$M140,[1]!MASTER_DEV_INPUT_VOLTAGE_DESC[#Data],0),0))","v":""},{"$f":"IF('DC Power Distribution (Desc)'!N140=\"\",\"\",INDEX([1]DEV_OUTPUT_VOLTAGE!$A$2:$A$100,MATCH('DC Power Distribution (Desc)'!$N140,[1]!MASTER_DEV_INPUT_VOLTAGE_DESC[#Data],0),0))","v":""},{"$f":"IF('DC Power Distribution (Desc)'!O140=\"\",\"\",'DC Power Distribution (Desc)'!O140)","v":""},{"$f":"IF('DC Power Distribution (Desc)'!P140=\"\",\"\",'DC Power Distribution (Desc)'!P140)","v":""},{"$f":"IF('DC Power Distribution (Desc)'!Q140=\"\",\"\",'DC Power Distribution (Desc)'!Q140)","v":""},{"$f":"IF('DC Power Distribution (Desc)'!C140=\"\",\"\",\"NA\")","v":""}]
[{"$f":"IF('DC Power Distribution (Desc)'!A141=\"\",\"\",'DC Power Distribution (Desc)'!A141)","v":""},{"$f":"IF('DC Power Distribution (Desc)'!C141=\"\",\"\",2029)","v":""},{"$f":"IF('DC Power Distribution (Desc)'!C141=\"\",\"\",'DC Power Distribution (Desc)'!C141)","v":""},{"$f":"IF('DC Power Distribution (Desc)'!E141=\"\",\"\",'DC Power Distribution (Desc)'!E141)","v":""},{"$f":"IF('DC Power Distribution (Desc)'!F141=\"\",\"\",INDEX([1]ELECTRIC_DEV_MANUF!$A$2:$A$1500,MATCH(1,([1]ELECTRIC_DEV_MANUF!$B$2:$B$1500='DC Power Distribution (Desc)'!$F141)*([1]ELECTRIC_DEV_MANUF!$D$2:$D$1500=\"DCPWRDIS\"),0),0))","v":""},{"$f":"IF('DC Power Distribution (Desc)'!G141=\"\",\"\",INDEX([1]ELECTRIC_DEV_MODEL!$A$2:$A$1500,MATCH(1,([1]ELECTRIC_DEV_MODEL!$C$2:$C$1500='DC Power Distribution (Desc)'!$F141)*([1]ELECTRIC_DEV_MODEL!$D$2:$D$1500='DC Power Distribution (Desc)'!$G141)*([1]ELECTRIC_DEV_MODEL!$F$2:$F$1500=\"DCPWRDIS\"),0),0))","v":""},{"$f":"IF('DC Power Distribution (Desc)'!H141=\"\",\"\",'DC Power Distribution (Desc)'!H141)","v":""},{"$f":"IF('DC Power Distribution (Desc)'!I141=\"\",\"\",INDEX([1]YES_NO!$A$2:$A$100,MATCH('DC Power Distribution (Desc)'!$I141,[1]!MASTER_YES_NO_DESC[#Data],0),0))","v":""},{"$f":"IF('DC Power Distribution (Desc)'!J141=\"\",\"\",'DC Power Distribution (Desc)'!J141)","v":""},{"$f":"IF('DC Power Distribution (Desc)'!K141=\"\",\"\",'DC Power Distribution (Desc)'!K141)","v":""},{"$f":"IF('DC Power Distribution (Desc)'!L141=\"\",\"\",INDEX([1]YES_NO!$A$2:$A$100,MATCH('DC Power Distribution (Desc)'!$L141,[1]!MASTER_YES_NO_DESC[#Data],0),0))","v":""},{"$f":"IF('DC Power Distribution (Desc)'!M141=\"\",\"\",INDEX([1]DEV_INPUT_VOLTAGE!$A$2:$A$100,MATCH('DC Power Distribution (Desc)'!$M141,[1]!MASTER_DEV_INPUT_VOLTAGE_DESC[#Data],0),0))","v":""},{"$f":"IF('DC Power Distribution (Desc)'!N141=\"\",\"\",INDEX([1]DEV_OUTPUT_VOLTAGE!$A$2:$A$100,MATCH('DC Power Distribution (Desc)'!$N141,[1]!MASTER_DEV_INPUT_VOLTAGE_DESC[#Data],0),0))","v":""},{"$f":"IF('DC Power Distribution (Desc)'!O141=\"\",\"\",'DC Power Distribution (Desc)'!O141)","v":""},{"$f":"IF('DC Power Distribution (Desc)'!P141=\"\",\"\",'DC Power Distribution (Desc)'!P141)","v":""},{"$f":"IF('DC Power Distribution (Desc)'!Q141=\"\",\"\",'DC Power Distribution (Desc)'!Q141)","v":""},{"$f":"IF('DC Power Distribution (Desc)'!C141=\"\",\"\",\"NA\")","v":""}]
[{"$f":"IF('DC Power Distribution (Desc)'!A142=\"\",\"\",'DC Power Distribution (Desc)'!A142)","v":""},{"$f":"IF('DC Power Distribution (Desc)'!C142=\"\",\"\",2029)","v":""},{"$f":"IF('DC Power Distribution (Desc)'!C142=\"\",\"\",'DC Power Distribution (Desc)'!C142)","v":""},{"$f":"IF('DC Power Distribution (Desc)'!E142=\"\",\"\",'DC Power Distribution (Desc)'!E142)","v":""},{"$f":"IF('DC Power Distribution (Desc)'!F142=\"\",\"\",INDEX([1]ELECTRIC_DEV_MANUF!$A$2:$A$1500,MATCH(1,([1]ELECTRIC_DEV_MANUF!$B$2:$B$1500='DC Power Distribution (Desc)'!$F142)*([1]ELECTRIC_DEV_MANUF!$D$2:$D$1500=\"DCPWRDIS\"),0),0))","v":""},{"$f":"IF('DC Power Distribution (Desc)'!G142=\"\",\"\",INDEX([1]ELECTRIC_DEV_MODEL!$A$2:$A$1500,MATCH(1,([1]ELECTRIC_DEV_MODEL!$C$2:$C$1500='DC Power Distribution (Desc)'!$F142)*([1]ELECTRIC_DEV_MODEL!$D$2:$D$1500='DC Power Distribution (Desc)'!$G142)*([1]ELECTRIC_DEV_MODEL!$F$2:$F$1500=\"DCPWRDIS\"),0),0))","v":""},{"$f":"IF('DC Power Distribution (Desc)'!H142=\"\",\"\",'DC Power Distribution (Desc)'!H142)","v":""},{"$f":"IF('DC Power Distribution (Desc)'!I142=\"\",\"\",INDEX([1]YES_NO!$A$2:$A$100,MATCH('DC Power Distribution (Desc)'!$I142,[1]!MASTER_YES_NO_DESC[#Data],0),0))","v":""},{"$f":"IF('DC Power Distribution (Desc)'!J142=\"\",\"\",'DC Power Distribution (Desc)'!J142)","v":""},{"$f":"IF('DC Power Distribution (Desc)'!K142=\"\",\"\",'DC Power Distribution (Desc)'!K142)","v":""},{"$f":"IF('DC Power Distribution (Desc)'!L142=\"\",\"\",INDEX([1]YES_NO!$A$2:$A$100,MATCH('DC Power Distribution (Desc)'!$L142,[1]!MASTER_YES_NO_DESC[#Data],0),0))","v":""},{"$f":"IF('DC Power Distribution (Desc)'!M142=\"\",\"\",INDEX([1]DEV_INPUT_VOLTAGE!$A$2:$A$100,MATCH('DC Power Distribution (Desc)'!$M142,[1]!MASTER_DEV_INPUT_VOLTAGE_DESC[#Data],0),0))","v":""},{"$f":"IF('DC Power Distribution (Desc)'!N142=\"\",\"\",INDEX([1]DEV_OUTPUT_VOLTAGE!$A$2:$A$100,MATCH('DC Power Distribution (Desc)'!$N142,[1]!MASTER_DEV_INPUT_VOLTAGE_DESC[#Data],0),0))","v":""},{"$f":"IF('DC Power Distribution (Desc)'!O142=\"\",\"\",'DC Power Distribution (Desc)'!O142)","v":""},{"$f":"IF('DC Power Distribution (Desc)'!P142=\"\",\"\",'DC Power Distribution (Desc)'!P142)","v":""},{"$f":"IF('DC Power Distribution (Desc)'!Q142=\"\",\"\",'DC Power Distribution (Desc)'!Q142)","v":""},{"$f":"IF('DC Power Distribution (Desc)'!C142=\"\",\"\",\"NA\")","v":""}]
[{"$f":"IF('DC Power Distribution (Desc)'!A143=\"\",\"\",'DC Power Distribution (Desc)'!A143)","v":""},{"$f":"IF('DC Power Distribution (Desc)'!C143=\"\",\"\",2029)","v":""},{"$f":"IF('DC Power Distribution (Desc)'!C143=\"\",\"\",'DC Power Distribution (Desc)'!C143)","v":""},{"$f":"IF('DC Power Distribution (Desc)'!E143=\"\",\"\",'DC Power Distribution (Desc)'!E143)","v":""},{"$f":"IF('DC Power Distribution (Desc)'!F143=\"\",\"\",INDEX([1]ELECTRIC_DEV_MANUF!$A$2:$A$1500,MATCH(1,([1]ELECTRIC_DEV_MANUF!$B$2:$B$1500='DC Power Distribution (Desc)'!$F143)*([1]ELECTRIC_DEV_MANUF!$D$2:$D$1500=\"DCPWRDIS\"),0),0))","v":""},{"$f":"IF('DC Power Distribution (Desc)'!G143=\"\",\"\",INDEX([1]ELECTRIC_DEV_MODEL!$A$2:$A$1500,MATCH(1,([1]ELECTRIC_DEV_MODEL!$C$2:$C$1500='DC Power Distribution (Desc)'!$F143)*([1]ELECTRIC_DEV_MODEL!$D$2:$D$1500='DC Power Distribution (Desc)'!$G143)*([1]ELECTRIC_DEV_MODEL!$F$2:$F$1500=\"DCPWRDIS\"),0),0))","v":""},{"$f":"IF('DC Power Distribution (Desc)'!H143=\"\",\"\",'DC Power Distribution (Desc)'!H143)","v":""},{"$f":"IF('DC Power Distribution (Desc)'!I143=\"\",\"\",INDEX([1]YES_NO!$A$2:$A$100,MATCH('DC Power Distribution (Desc)'!$I143,[1]!MASTER_YES_NO_DESC[#Data],0),0))","v":""},{"$f":"IF('DC Power Distribution (Desc)'!J143=\"\",\"\",'DC Power Distribution (Desc)'!J143)","v":""},{"$f":"IF('DC Power Distribution (Desc)'!K143=\"\",\"\",'DC Power Distribution (Desc)'!K143)","v":""},{"$f":"IF('DC Power Distribution (Desc)'!L143=\"\",\"\",INDEX([1]YES_NO!$A$2:$A$100,MATCH('DC Power Distribution (Desc)'!$L143,[1]!MASTER_YES_NO_DESC[#Data],0),0))","v":""},{"$f":"IF('DC Power Distribution (Desc)'!M143=\"\",\"\",INDEX([1]DEV_INPUT_VOLTAGE!$A$2:$A$100,MATCH('DC Power Distribution (Desc)'!$M143,[1]!MASTER_DEV_INPUT_VOLTAGE_DESC[#Data],0),0))","v":""},{"$f":"IF('DC Power Distribution (Desc)'!N143=\"\",\"\",INDEX([1]DEV_OUTPUT_VOLTAGE!$A$2:$A$100,MATCH('DC Power Distribution (Desc)'!$N143,[1]!MASTER_DEV_INPUT_VOLTAGE_DESC[#Data],0),0))","v":""},{"$f":"IF('DC Power Distribution (Desc)'!O143=\"\",\"\",'DC Power Distribution (Desc)'!O143)","v":""},{"$f":"IF('DC Power Distribution (Desc)'!P143=\"\",\"\",'DC Power Distribution (Desc)'!P143)","v":""},{"$f":"IF('DC Power Distribution (Desc)'!Q143=\"\",\"\",'DC Power Distribution (Desc)'!Q143)","v":""},{"$f":"IF('DC Power Distribution (Desc)'!C143=\"\",\"\",\"NA\")","v":""}]
[{"$f":"IF('DC Power Distribution (Desc)'!A144=\"\",\"\",'DC Power Distribution (Desc)'!A144)","v":""},{"$f":"IF('DC Power Distribution (Desc)'!C144=\"\",\"\",2029)","v":""},{"$f":"IF('DC Power Distribution (Desc)'!C144=\"\",\"\",'DC Power Distribution (Desc)'!C144)","v":""},{"$f":"IF('DC Power Distribution (Desc)'!E144=\"\",\"\",'DC Power Distribution (Desc)'!E144)","v":""},{"$f":"IF('DC Power Distribution (Desc)'!F144=\"\",\"\",INDEX([1]ELECTRIC_DEV_MANUF!$A$2:$A$1500,MATCH(1,([1]ELECTRIC_DEV_MANUF!$B$2:$B$1500='DC Power Distribution (Desc)'!$F144)*([1]ELECTRIC_DEV_MANUF!$D$2:$D$1500=\"DCPWRDIS\"),0),0))","v":""},{"$f":"IF('DC Power Distribution (Desc)'!G144=\"\",\"\",INDEX([1]ELECTRIC_DEV_MODEL!$A$2:$A$1500,MATCH(1,([1]ELECTRIC_DEV_MODEL!$C$2:$C$1500='DC Power Distribution (Desc)'!$F144)*([1]ELECTRIC_DEV_MODEL!$D$2:$D$1500='DC Power Distribution (Desc)'!$G144)*([1]ELECTRIC_DEV_MODEL!$F$2:$F$1500=\"DCPWRDIS\"),0),0))","v":""},{"$f":"IF('DC Power Distribution (Desc)'!H144=\"\",\"\",'DC Power Distribution (Desc)'!H144)","v":""},{"$f":"IF('DC Power Distribution (Desc)'!I144=\"\",\"\",INDEX([1]YES_NO!$A$2:$A$100,MATCH('DC Power Distribution (Desc)'!$I144,[1]!MASTER_YES_NO_DESC[#Data],0),0))","v":""},{"$f":"IF('DC Power Distribution (Desc)'!J144=\"\",\"\",'DC Power Distribution (Desc)'!J144)","v":""},{"$f":"IF('DC Power Distribution (Desc)'!K144=\"\",\"\",'DC Power Distribution (Desc)'!K144)","v":""},{"$f":"IF('DC Power Distribution (Desc)'!L144=\"\",\"\",INDEX([1]YES_NO!$A$2:$A$100,MATCH('DC Power Distribution (Desc)'!$L144,[1]!MASTER_YES_NO_DESC[#Data],0),0))","v":""},{"$f":"IF('DC Power Distribution (Desc)'!M144=\"\",\"\",INDEX([1]DEV_INPUT_VOLTAGE!$A$2:$A$100,MATCH('DC Power Distribution (Desc)'!$M144,[1]!MASTER_DEV_INPUT_VOLTAGE_DESC[#Data],0),0))","v":""},{"$f":"IF('DC Power Distribution (Desc)'!N144=\"\",\"\",INDEX([1]DEV_OUTPUT_VOLTAGE!$A$2:$A$100,MATCH('DC Power Distribution (Desc)'!$N144,[1]!MASTER_DEV_INPUT_VOLTAGE_DESC[#Data],0),0))","v":""},{"$f":"IF('DC Power Distribution (Desc)'!O144=\"\",\"\",'DC Power Distribution (Desc)'!O144)","v":""},{"$f":"IF('DC Power Distribution (Desc)'!P144=\"\",\"\",'DC Power Distribution (Desc)'!P144)","v":""},{"$f":"IF('DC Power Distribution (Desc)'!Q144=\"\",\"\",'DC Power Distribution (Desc)'!Q144)","v":""},{"$f":"IF('DC Power Distribution (Desc)'!C144=\"\",\"\",\"NA\")","v":""}]
[{"$f":"IF('DC Power Distribution (Desc)'!A145=\"\",\"\",'DC Power Distribution (Desc)'!A145)","v":""},{"$f":"IF('DC Power Distribution (Desc)'!C145=\"\",\"\",2029)","v":""},{"$f":"IF('DC Power Distribution (Desc)'!C145=\"\",\"\",'DC Power Distribution (Desc)'!C145)","v":""},{"$f":"IF('DC Power Distribution (Desc)'!E145=\"\",\"\",'DC Power Distribution (Desc)'!E145)","v":""},{"$f":"IF('DC Power Distribution (Desc)'!F145=\"\",\"\",INDEX([1]ELECTRIC_DEV_MANUF!$A$2:$A$1500,MATCH(1,([1]ELECTRIC_DEV_MANUF!$B$2:$B$1500='DC Power Distribution (Desc)'!$F145)*([1]ELECTRIC_DEV_MANUF!$D$2:$D$1500=\"DCPWRDIS\"),0),0))","v":""},{"$f":"IF('DC Power Distribution (Desc)'!G145=\"\",\"\",INDEX([1]ELECTRIC_DEV_MODEL!$A$2:$A$1500,MATCH(1,([1]ELECTRIC_DEV_MODEL!$C$2:$C$1500='DC Power Distribution (Desc)'!$F145)*([1]ELECTRIC_DEV_MODEL!$D$2:$D$1500='DC Power Distribution (Desc)'!$G145)*([1]ELECTRIC_DEV_MODEL!$F$2:$F$1500=\"DCPWRDIS\"),0),0))","v":""},{"$f":"IF('DC Power Distribution (Desc)'!H145=\"\",\"\",'DC Power Distribution (Desc)'!H145)","v":""},{"$f":"IF('DC Power Distribution (Desc)'!I145=\"\",\"\",INDEX([1]YES_NO!$A$2:$A$100,MATCH('DC Power Distribution (Desc)'!$I145,[1]!MASTER_YES_NO_DESC[#Data],0),0))","v":""},{"$f":"IF('DC Power Distribution (Desc)'!J145=\"\",\"\",'DC Power Distribution (Desc)'!J145)","v":""},{"$f":"IF('DC Power Distribution (Desc)'!K145=\"\",\"\",'DC Power Distribution (Desc)'!K145)","v":""},{"$f":"IF('DC Power Distribution (Desc)'!L145=\"\",\"\",INDEX([1]YES_NO!$A$2:$A$100,MATCH('DC Power Distribution (Desc)'!$L145,[1]!MASTER_YES_NO_DESC[#Data],0),0))","v":""},{"$f":"IF('DC Power Distribution (Desc)'!M145=\"\",\"\",INDEX([1]DEV_INPUT_VOLTAGE!$A$2:$A$100,MATCH('DC Power Distribution (Desc)'!$M145,[1]!MASTER_DEV_INPUT_VOLTAGE_DESC[#Data],0),0))","v":""},{"$f":"IF('DC Power Distribution (Desc)'!N145=\"\",\"\",INDEX([1]DEV_OUTPUT_VOLTAGE!$A$2:$A$100,MATCH('DC Power Distribution (Desc)'!$N145,[1]!MASTER_DEV_INPUT_VOLTAGE_DESC[#Data],0),0))","v":""},{"$f":"IF('DC Power Distribution (Desc)'!O145=\"\",\"\",'DC Power Distribution (Desc)'!O145)","v":""},{"$f":"IF('DC Power Distribution (Desc)'!P145=\"\",\"\",'DC Power Distribution (Desc)'!P145)","v":""},{"$f":"IF('DC Power Distribution (Desc)'!Q145=\"\",\"\",'DC Power Distribution (Desc)'!Q145)","v":""},{"$f":"IF('DC Power Distribution (Desc)'!C145=\"\",\"\",\"NA\")","v":""}]
[{"$f":"IF('DC Power Distribution (Desc)'!A146=\"\",\"\",'DC Power Distribution (Desc)'!A146)","v":""},{"$f":"IF('DC Power Distribution (Desc)'!C146=\"\",\"\",2029)","v":""},{"$f":"IF('DC Power Distribution (Desc)'!C146=\"\",\"\",'DC Power Distribution (Desc)'!C146)","v":""},{"$f":"IF('DC Power Distribution (Desc)'!E146=\"\",\"\",'DC Power Distribution (Desc)'!E146)","v":""},{"$f":"IF('DC Power Distribution (Desc)'!F146=\"\",\"\",INDEX([1]ELECTRIC_DEV_MANUF!$A$2:$A$1500,MATCH(1,([1]ELECTRIC_DEV_MANUF!$B$2:$B$1500='DC Power Distribution (Desc)'!$F146)*([1]ELECTRIC_DEV_MANUF!$D$2:$D$1500=\"DCPWRDIS\"),0),0))","v":""},{"$f":"IF('DC Power Distribution (Desc)'!G146=\"\",\"\",INDEX([1]ELECTRIC_DEV_MODEL!$A$2:$A$1500,MATCH(1,([1]ELECTRIC_DEV_MODEL!$C$2:$C$1500='DC Power Distribution (Desc)'!$F146)*([1]ELECTRIC_DEV_MODEL!$D$2:$D$1500='DC Power Distribution (Desc)'!$G146)*([1]ELECTRIC_DEV_MODEL!$F$2:$F$1500=\"DCPWRDIS\"),0),0))","v":""},{"$f":"IF('DC Power Distribution (Desc)'!H146=\"\",\"\",'DC Power Distribution (Desc)'!H146)","v":""},{"$f":"IF('DC Power Distribution (Desc)'!I146=\"\",\"\",INDEX([1]YES_NO!$A$2:$A$100,MATCH('DC Power Distribution (Desc)'!$I146,[1]!MASTER_YES_NO_DESC[#Data],0),0))","v":""},{"$f":"IF('DC Power Distribution (Desc)'!J146=\"\",\"\",'DC Power Distribution (Desc)'!J146)","v":""},{"$f":"IF('DC Power Distribution (Desc)'!K146=\"\",\"\",'DC Power Distribution (Desc)'!K146)","v":""},{"$f":"IF('DC Power Distribution (Desc)'!L146=\"\",\"\",INDEX([1]YES_NO!$A$2:$A$100,MATCH('DC Power Distribution (Desc)'!$L146,[1]!MASTER_YES_NO_DESC[#Data],0),0))","v":""},{"$f":"IF('DC Power Distribution (Desc)'!M146=\"\",\"\",INDEX([1]DEV_INPUT_VOLTAGE!$A$2:$A$100,MATCH('DC Power Distribution (Desc)'!$M146,[1]!MASTER_DEV_INPUT_VOLTAGE_DESC[#Data],0),0))","v":""},{"$f":"IF('DC Power Distribution (Desc)'!N146=\"\",\"\",INDEX([1]DEV_OUTPUT_VOLTAGE!$A$2:$A$100,MATCH('DC Power Distribution (Desc)'!$N146,[1]!MASTER_DEV_INPUT_VOLTAGE_DESC[#Data],0),0))","v":""},{"$f":"IF('DC Power Distribution (Desc)'!O146=\"\",\"\",'DC Power Distribution (Desc)'!O146)","v":""},{"$f":"IF('DC Power Distribution (Desc)'!P146=\"\",\"\",'DC Power Distribution (Desc)'!P146)","v":""},{"$f":"IF('DC Power Distribution (Desc)'!Q146=\"\",\"\",'DC Power Distribution (Desc)'!Q146)","v":""},{"$f":"IF('DC Power Distribution (Desc)'!C146=\"\",\"\",\"NA\")","v":""}]
[{"$f":"IF('DC Power Distribution (Desc)'!A147=\"\",\"\",'DC Power Distribution (Desc)'!A147)","v":""},{"$f":"IF('DC Power Distribution (Desc)'!C147=\"\",\"\",2029)","v":""},{"$f":"IF('DC Power Distribution (Desc)'!C147=\"\",\"\",'DC Power Distribution (Desc)'!C147)","v":""},{"$f":"IF('DC Power Distribution (Desc)'!E147=\"\",\"\",'DC Power Distribution (Desc)'!E147)","v":""},{"$f":"IF('DC Power Distribution (Desc)'!F147=\"\",\"\",INDEX([1]ELECTRIC_DEV_MANUF!$A$2:$A$1500,MATCH(1,([1]ELECTRIC_DEV_MANUF!$B$2:$B$1500='DC Power Distribution (Desc)'!$F147)*([1]ELECTRIC_DEV_MANUF!$D$2:$D$1500=\"DCPWRDIS\"),0),0))","v":""},{"$f":"IF('DC Power Distribution (Desc)'!G147=\"\",\"\",INDEX([1]ELECTRIC_DEV_MODEL!$A$2:$A$1500,MATCH(1,([1]ELECTRIC_DEV_MODEL!$C$2:$C$1500='DC Power Distribution (Desc)'!$F147)*([1]ELECTRIC_DEV_MODEL!$D$2:$D$1500='DC Power Distribution (Desc)'!$G147)*([1]ELECTRIC_DEV_MODEL!$F$2:$F$1500=\"DCPWRDIS\"),0),0))","v":""},{"$f":"IF('DC Power Distribution (Desc)'!H147=\"\",\"\",'DC Power Distribution (Desc)'!H147)","v":""},{"$f":"IF('DC Power Distribution (Desc)'!I147=\"\",\"\",INDEX([1]YES_NO!$A$2:$A$100,MATCH('DC Power Distribution (Desc)'!$I147,[1]!MASTER_YES_NO_DESC[#Data],0),0))","v":""},{"$f":"IF('DC Power Distribution (Desc)'!J147=\"\",\"\",'DC Power Distribution (Desc)'!J147)","v":""},{"$f":"IF('DC Power Distribution (Desc)'!K147=\"\",\"\",'DC Power Distribution (Desc)'!K147)","v":""},{"$f":"IF('DC Power Distribution (Desc)'!L147=\"\",\"\",INDEX([1]YES_NO!$A$2:$A$100,MATCH('DC Power Distribution (Desc)'!$L147,[1]!MASTER_YES_NO_DESC[#Data],0),0))","v":""},{"$f":"IF('DC Power Distribution (Desc)'!M147=\"\",\"\",INDEX([1]DEV_INPUT_VOLTAGE!$A$2:$A$100,MATCH('DC Power Distribution (Desc)'!$M147,[1]!MASTER_DEV_INPUT_VOLTAGE_DESC[#Data],0),0))","v":""},{"$f":"IF('DC Power Distribution (Desc)'!N147=\"\",\"\",INDEX([1]DEV_OUTPUT_VOLTAGE!$A$2:$A$100,MATCH('DC Power Distribution (Desc)'!$N147,[1]!MASTER_DEV_INPUT_VOLTAGE_DESC[#Data],0),0))","v":""},{"$f":"IF('DC Power Distribution (Desc)'!O147=\"\",\"\",'DC Power Distribution (Desc)'!O147)","v":""},{"$f":"IF('DC Power Distribution (Desc)'!P147=\"\",\"\",'DC Power Distribution (Desc)'!P147)","v":""},{"$f":"IF('DC Power Distribution (Desc)'!Q147=\"\",\"\",'DC Power Distribution (Desc)'!Q147)","v":""},{"$f":"IF('DC Power Distribution (Desc)'!C147=\"\",\"\",\"NA\")","v":""}]
[{"$f":"IF('DC Power Distribution (Desc)'!A148=\"\",\"\",'DC Power Distribution (Desc)'!A148)","v":""},{"$f":"IF('DC Power Distribution (Desc)'!C148=\"\",\"\",2029)","v":""},{"$f":"IF('DC Power Distribution (Desc)'!C148=\"\",\"\",'DC Power Distribution (Desc)'!C148)","v":""},{"$f":"IF('DC Power Distribution (Desc)'!E148=\"\",\"\",'DC Power Distribution (Desc)'!E148)","v":""},{"$f":"IF('DC Power Distribution (Desc)'!F148=\"\",\"\",INDEX([1]ELECTRIC_DEV_MANUF!$A$2:$A$1500,MATCH(1,([1]ELECTRIC_DEV_MANUF!$B$2:$B$1500='DC Power Distribution (Desc)'!$F148)*([1]ELECTRIC_DEV_MANUF!$D$2:$D$1500=\"DCPWRDIS\"),0),0))","v":""},{"$f":"IF('DC Power Distribution (Desc)'!G148=\"\",\"\",INDEX([1]ELECTRIC_DEV_MODEL!$A$2:$A$1500,MATCH(1,([1]ELECTRIC_DEV_MODEL!$C$2:$C$1500='DC Power Distribution (Desc)'!$F148)*([1]ELECTRIC_DEV_MODEL!$D$2:$D$1500='DC Power Distribution (Desc)'!$G148)*([1]ELECTRIC_DEV_MODEL!$F$2:$F$1500=\"DCPWRDIS\"),0),0))","v":""},{"$f":"IF('DC Power Distribution (Desc)'!H148=\"\",\"\",'DC Power Distribution (Desc)'!H148)","v":""},{"$f":"IF('DC Power Distribution (Desc)'!I148=\"\",\"\",INDEX([1]YES_NO!$A$2:$A$100,MATCH('DC Power Distribution (Desc)'!$I148,[1]!MASTER_YES_NO_DESC[#Data],0),0))","v":""},{"$f":"IF('DC Power Distribution (Desc)'!J148=\"\",\"\",'DC Power Distribution (Desc)'!J148)","v":""},{"$f":"IF('DC Power Distribution (Desc)'!K148=\"\",\"\",'DC Power Distribution (Desc)'!K148)","v":""},{"$f":"IF('DC Power Distribution (Desc)'!L148=\"\",\"\",INDEX([1]YES_NO!$A$2:$A$100,MATCH('DC Power Distribution (Desc)'!$L148,[1]!MASTER_YES_NO_DESC[#Data],0),0))","v":""},{"$f":"IF('DC Power Distribution (Desc)'!M148=\"\",\"\",INDEX([1]DEV_INPUT_VOLTAGE!$A$2:$A$100,MATCH('DC Power Distribution (Desc)'!$M148,[1]!MASTER_DEV_INPUT_VOLTAGE_DESC[#Data],0),0))","v":""},{"$f":"IF('DC Power Distribution (Desc)'!N148=\"\",\"\",INDEX([1]DEV_OUTPUT_VOLTAGE!$A$2:$A$100,MATCH('DC Power Distribution (Desc)'!$N148,[1]!MASTER_DEV_INPUT_VOLTAGE_DESC[#Data],0),0))","v":""},{"$f":"IF('DC Power Distribution (Desc)'!O148=\"\",\"\",'DC Power Distribution (Desc)'!O148)","v":""},{"$f":"IF('DC Power Distribution (Desc)'!P148=\"\",\"\",'DC Power Distribution (Desc)'!P148)","v":""},{"$f":"IF('DC Power Distribution (Desc)'!Q148=\"\",\"\",'DC Power Distribution (Desc)'!Q148)","v":""},{"$f":"IF('DC Power Distribution (Desc)'!C148=\"\",\"\",\"NA\")","v":""}]
[{"$f":"IF('DC Power Distribution (Desc)'!A149=\"\",\"\",'DC Power Distribution (Desc)'!A149)","v":""},{"$f":"IF('DC Power Distribution (Desc)'!C149=\"\",\"\",2029)","v":""},{"$f":"IF('DC Power Distribution (Desc)'!C149=\"\",\"\",'DC Power Distribution (Desc)'!C149)","v":""},{"$f":"IF('DC Power Distribution (Desc)'!E149=\"\",\"\",'DC Power Distribution (Desc)'!E149)","v":""},{"$f":"IF('DC Power Distribution (Desc)'!F149=\"\",\"\",INDEX([1]ELECTRIC_DEV_MANUF!$A$2:$A$1500,MATCH(1,([1]ELECTRIC_DEV_MANUF!$B$2:$B$1500='DC Power Distribution (Desc)'!$F149)*([1]ELECTRIC_DEV_MANUF!$D$2:$D$1500=\"DCPWRDIS\"),0),0))","v":""},{"$f":"IF('DC Power Distribution (Desc)'!G149=\"\",\"\",INDEX([1]ELECTRIC_DEV_MODEL!$A$2:$A$1500,MATCH(1,([1]ELECTRIC_DEV_MODEL!$C$2:$C$1500='DC Power Distribution (Desc)'!$F149)*([1]ELECTRIC_DEV_MODEL!$D$2:$D$1500='DC Power Distribution (Desc)'!$G149)*([1]ELECTRIC_DEV_MODEL!$F$2:$F$1500=\"DCPWRDIS\"),0),0))","v":""},{"$f":"IF('DC Power Distribution (Desc)'!H149=\"\",\"\",'DC Power Distribution (Desc)'!H149)","v":""},{"$f":"IF('DC Power Distribution (Desc)'!I149=\"\",\"\",INDEX([1]YES_NO!$A$2:$A$100,MATCH('DC Power Distribution (Desc)'!$I149,[1]!MASTER_YES_NO_DESC[#Data],0),0))","v":""},{"$f":"IF('DC Power Distribution (Desc)'!J149=\"\",\"\",'DC Power Distribution (Desc)'!J149)","v":""},{"$f":"IF('DC Power Distribution (Desc)'!K149=\"\",\"\",'DC Power Distribution (Desc)'!K149)","v":""},{"$f":"IF('DC Power Distribution (Desc)'!L149=\"\",\"\",INDEX([1]YES_NO!$A$2:$A$100,MATCH('DC Power Distribution (Desc)'!$L149,[1]!MASTER_YES_NO_DESC[#Data],0),0))","v":""},{"$f":"IF('DC Power Distribution (Desc)'!M149=\"\",\"\",INDEX([1]DEV_INPUT_VOLTAGE!$A$2:$A$100,MATCH('DC Power Distribution (Desc)'!$M149,[1]!MASTER_DEV_INPUT_VOLTAGE_DESC[#Data],0),0))","v":""},{"$f":"IF('DC Power Distribution (Desc)'!N149=\"\",\"\",INDEX([1]DEV_OUTPUT_VOLTAGE!$A$2:$A$100,MATCH('DC Power Distribution (Desc)'!$N149,[1]!MASTER_DEV_INPUT_VOLTAGE_DESC[#Data],0),0))","v":""},{"$f":"IF('DC Power Distribution (Desc)'!O149=\"\",\"\",'DC Power Distribution (Desc)'!O149)","v":""},{"$f":"IF('DC Power Distribution (Desc)'!P149=\"\",\"\",'DC Power Distribution (Desc)'!P149)","v":""},{"$f":"IF('DC Power Distribution (Desc)'!Q149=\"\",\"\",'DC Power Distribution (Desc)'!Q149)","v":""},{"$f":"IF('DC Power Distribution (Desc)'!C149=\"\",\"\",\"NA\")","v":""}]
[{"$f":"IF('DC Power Distribution (Desc)'!A150=\"\",\"\",'DC Power Distribution (Desc)'!A150)","v":""},{"$f":"IF('DC Power Distribution (Desc)'!C150=\"\",\"\",2029)","v":""},{"$f":"IF('DC Power Distribution (Desc)'!C150=\"\",\"\",'DC Power Distribution (Desc)'!C150)","v":""},{"$f":"IF('DC Power Distribution (Desc)'!E150=\"\",\"\",'DC Power Distribution (Desc)'!E150)","v":""},{"$f":"IF('DC Power Distribution (Desc)'!F150=\"\",\"\",INDEX([1]ELECTRIC_DEV_MANUF!$A$2:$A$1500,MATCH(1,([1]ELECTRIC_DEV_MANUF!$B$2:$B$1500='DC Power Distribution (Desc)'!$F150)*([1]ELECTRIC_DEV_MANUF!$D$2:$D$1500=\"DCPWRDIS\"),0),0))","v":""},{"$f":"IF('DC Power Distribution (Desc)'!G150=\"\",\"\",INDEX([1]ELECTRIC_DEV_MODEL!$A$2:$A$1500,MATCH(1,([1]ELECTRIC_DEV_MODEL!$C$2:$C$1500='DC Power Distribution (Desc)'!$F150)*([1]ELECTRIC_DEV_MODEL!$D$2:$D$1500='DC Power Distribution (Desc)'!$G150)*([1]ELECTRIC_DEV_MODEL!$F$2:$F$1500=\"DCPWRDIS\"),0),0))","v":""},{"$f":"IF('DC Power Distribution (Desc)'!H150=\"\",\"\",'DC Power Distribution (Desc)'!H150)","v":""},{"$f":"IF('DC Power Distribution (Desc)'!I150=\"\",\"\",INDEX([1]YES_NO!$A$2:$A$100,MATCH('DC Power Distribution (Desc)'!$I150,[1]!MASTER_YES_NO_DESC[#Data],0),0))","v":""},{"$f":"IF('DC Power Distribution (Desc)'!J150=\"\",\"\",'DC Power Distribution (Desc)'!J150)","v":""},{"$f":"IF('DC Power Distribution (Desc)'!K150=\"\",\"\",'DC Power Distribution (Desc)'!K150)","v":""},{"$f":"IF('DC Power Distribution (Desc)'!L150=\"\",\"\",INDEX([1]YES_NO!$A$2:$A$100,MATCH('DC Power Distribution (Desc)'!$L150,[1]!MASTER_YES_NO_DESC[#Data],0),0))","v":""},{"$f":"IF('DC Power Distribution (Desc)'!M150=\"\",\"\",INDEX([1]DEV_INPUT_VOLTAGE!$A$2:$A$100,MATCH('DC Power Distribution (Desc)'!$M150,[1]!MASTER_DEV_INPUT_VOLTAGE_DESC[#Data],0),0))","v":""},{"$f":"IF('DC Power Distribution (Desc)'!N150=\"\",\"\",INDEX([1]DEV_OUTPUT_VOLTAGE!$A$2:$A$100,MATCH('DC Power Distribution (Desc)'!$N150,[1]!MASTER_DEV_INPUT_VOLTAGE_DESC[#Data],0),0))","v":""},{"$f":"IF('DC Power Distribution (Desc)'!O150=\"\",\"\",'DC Power Distribution (Desc)'!O150)","v":""},{"$f":"IF('DC Power Distribution (Desc)'!P150=\"\",\"\",'DC Power Distribution (Desc)'!P150)","v":""},{"$f":"IF('DC Power Distribution (Desc)'!Q150=\"\",\"\",'DC Power Distribution (Desc)'!Q150)","v":""},{"$f":"IF('DC Power Distribution (Desc)'!C150=\"\",\"\",\"NA\")","v":""}]
[{"$f":"IF('DC Power Distribution (Desc)'!A151=\"\",\"\",'DC Power Distribution (Desc)'!A151)","v":""},{"$f":"IF('DC Power Distribution (Desc)'!C151=\"\",\"\",2029)","v":""},{"$f":"IF('DC Power Distribution (Desc)'!C151=\"\",\"\",'DC Power Distribution (Desc)'!C151)","v":""},{"$f":"IF('DC Power Distribution (Desc)'!E151=\"\",\"\",'DC Power Distribution (Desc)'!E151)","v":""},{"$f":"IF('DC Power Distribution (Desc)'!F151=\"\",\"\",INDEX([1]ELECTRIC_DEV_MANUF!$A$2:$A$1500,MATCH(1,([1]ELECTRIC_DEV_MANUF!$B$2:$B$1500='DC Power Distribution (Desc)'!$F151)*([1]ELECTRIC_DEV_MANUF!$D$2:$D$1500=\"DCPWRDIS\"),0),0))","v":""},{"$f":"IF('DC Power Distribution (Desc)'!G151=\"\",\"\",INDEX([1]ELECTRIC_DEV_MODEL!$A$2:$A$1500,MATCH(1,([1]ELECTRIC_DEV_MODEL!$C$2:$C$1500='DC Power Distribution (Desc)'!$F151)*([1]ELECTRIC_DEV_MODEL!$D$2:$D$1500='DC Power Distribution (Desc)'!$G151)*([1]ELECTRIC_DEV_MODEL!$F$2:$F$1500=\"DCPWRDIS\"),0),0))","v":""},{"$f":"IF('DC Power Distribution (Desc)'!H151=\"\",\"\",'DC Power Distribution (Desc)'!H151)","v":""},{"$f":"IF('DC Power Distribution (Desc)'!I151=\"\",\"\",INDEX([1]YES_NO!$A$2:$A$100,MATCH('DC Power Distribution (Desc)'!$I151,[1]!MASTER_YES_NO_DESC[#Data],0),0))","v":""},{"$f":"IF('DC Power Distribution (Desc)'!J151=\"\",\"\",'DC Power Distribution (Desc)'!J151)","v":""},{"$f":"IF('DC Power Distribution (Desc)'!K151=\"\",\"\",'DC Power Distribution (Desc)'!K151)","v":""},{"$f":"IF('DC Power Distribution (Desc)'!L151=\"\",\"\",INDEX([1]YES_NO!$A$2:$A$100,MATCH('DC Power Distribution (Desc)'!$L151,[1]!MASTER_YES_NO_DESC[#Data],0),0))","v":""},{"$f":"IF('DC Power Distribution (Desc)'!M151=\"\",\"\",INDEX([1]DEV_INPUT_VOLTAGE!$A$2:$A$100,MATCH('DC Power Distribution (Desc)'!$M151,[1]!MASTER_DEV_INPUT_VOLTAGE_DESC[#Data],0),0))","v":""},{"$f":"IF('DC Power Distribution (Desc)'!N151=\"\",\"\",INDEX([1]DEV_OUTPUT_VOLTAGE!$A$2:$A$100,MATCH('DC Power Distribution (Desc)'!$N151,[1]!MASTER_DEV_INPUT_VOLTAGE_DESC[#Data],0),0))","v":""},{"$f":"IF('DC Power Distribution (Desc)'!O151=\"\",\"\",'DC Power Distribution (Desc)'!O151)","v":""},{"$f":"IF('DC Power Distribution (Desc)'!P151=\"\",\"\",'DC Power Distribution (Desc)'!P151)","v":""},{"$f":"IF('DC Power Distribution (Desc)'!Q151=\"\",\"\",'DC Power Distribution (Desc)'!Q151)","v":""},{"$f":"IF('DC Power Distribution (Desc)'!C151=\"\",\"\",\"NA\")","v":""}]
[{"$f":"IF('DC Power Distribution (Desc)'!A152=\"\",\"\",'DC Power Distribution (Desc)'!A152)","v":""},{"$f":"IF('DC Power Distribution (Desc)'!C152=\"\",\"\",2029)","v":""},{"$f":"IF('DC Power Distribution (Desc)'!C152=\"\",\"\",'DC Power Distribution (Desc)'!C152)","v":""},{"$f":"IF('DC Power Distribution (Desc)'!E152=\"\",\"\",'DC Power Distribution (Desc)'!E152)","v":""},{"$f":"IF('DC Power Distribution (Desc)'!F152=\"\",\"\",INDEX([1]ELECTRIC_DEV_MANUF!$A$2:$A$1500,MATCH(1,([1]ELECTRIC_DEV_MANUF!$B$2:$B$1500='DC Power Distribution (Desc)'!$F152)*([1]ELECTRIC_DEV_MANUF!$D$2:$D$1500=\"DCPWRDIS\"),0),0))","v":""},{"$f":"IF('DC Power Distribution (Desc)'!G152=\"\",\"\",INDEX([1]ELECTRIC_DEV_MODEL!$A$2:$A$1500,MATCH(1,([1]ELECTRIC_DEV_MODEL!$C$2:$C$1500='DC Power Distribution (Desc)'!$F152)*([1]ELECTRIC_DEV_MODEL!$D$2:$D$1500='DC Power Distribution (Desc)'!$G152)*([1]ELECTRIC_DEV_MODEL!$F$2:$F$1500=\"DCPWRDIS\"),0),0))","v":""},{"$f":"IF('DC Power Distribution (Desc)'!H152=\"\",\"\",'DC Power Distribution (Desc)'!H152)","v":""},{"$f":"IF('DC Power Distribution (Desc)'!I152=\"\",\"\",INDEX([1]YES_NO!$A$2:$A$100,MATCH('DC Power Distribution (Desc)'!$I152,[1]!MASTER_YES_NO_DESC[#Data],0),0))","v":""},{"$f":"IF('DC Power Distribution (Desc)'!J152=\"\",\"\",'DC Power Distribution (Desc)'!J152)","v":""},{"$f":"IF('DC Power Distribution (Desc)'!K152=\"\",\"\",'DC Power Distribution (Desc)'!K152)","v":""},{"$f":"IF('DC Power Distribution (Desc)'!L152=\"\",\"\",INDEX([1]YES_NO!$A$2:$A$100,MATCH('DC Power Distribution (Desc)'!$L152,[1]!MASTER_YES_NO_DESC[#Data],0),0))","v":""},{"$f":"IF('DC Power Distribution (Desc)'!M152=\"\",\"\",INDEX([1]DEV_INPUT_VOLTAGE!$A$2:$A$100,MATCH('DC Power Distribution (Desc)'!$M152,[1]!MASTER_DEV_INPUT_VOLTAGE_DESC[#Data],0),0))","v":""},{"$f":"IF('DC Power Distribution (Desc)'!N152=\"\",\"\",INDEX([1]DEV_OUTPUT_VOLTAGE!$A$2:$A$100,MATCH('DC Power Distribution (Desc)'!$N152,[1]!MASTER_DEV_INPUT_VOLTAGE_DESC[#Data],0),0))","v":""},{"$f":"IF('DC Power Distribution (Desc)'!O152=\"\",\"\",'DC Power Distribution (Desc)'!O152)","v":""},{"$f":"IF('DC Power Distribution (Desc)'!P152=\"\",\"\",'DC Power Distribution (Desc)'!P152)","v":""},{"$f":"IF('DC Power Distribution (Desc)'!Q152=\"\",\"\",'DC Power Distribution (Desc)'!Q152)","v":""},{"$f":"IF('DC Power Distribution (Desc)'!C152=\"\",\"\",\"NA\")","v":""}]
[{"$f":"IF('DC Power Distribution (Desc)'!A153=\"\",\"\",'DC Power Distribution (Desc)'!A153)","v":""},{"$f":"IF('DC Power Distribution (Desc)'!C153=\"\",\"\",2029)","v":""},{"$f":"IF('DC Power Distribution (Desc)'!C153=\"\",\"\",'DC Power Distribution (Desc)'!C153)","v":""},{"$f":"IF('DC Power Distribution (Desc)'!E153=\"\",\"\",'DC Power Distribution (Desc)'!E153)","v":""},{"$f":"IF('DC Power Distribution (Desc)'!F153=\"\",\"\",INDEX([1]ELECTRIC_DEV_MANUF!$A$2:$A$1500,MATCH(1,([1]ELECTRIC_DEV_MANUF!$B$2:$B$1500='DC Power Distribution (Desc)'!$F153)*([1]ELECTRIC_DEV_MANUF!$D$2:$D$1500=\"DCPWRDIS\"),0),0))","v":""},{"$f":"IF('DC Power Distribution (Desc)'!G153=\"\",\"\",INDEX([1]ELECTRIC_DEV_MODEL!$A$2:$A$1500,MATCH(1,([1]ELECTRIC_DEV_MODEL!$C$2:$C$1500='DC Power Distribution (Desc)'!$F153)*([1]ELECTRIC_DEV_MODEL!$D$2:$D$1500='DC Power Distribution (Desc)'!$G153)*([1]ELECTRIC_DEV_MODEL!$F$2:$F$1500=\"DCPWRDIS\"),0),0))","v":""},{"$f":"IF('DC Power Distribution (Desc)'!H153=\"\",\"\",'DC Power Distribution (Desc)'!H153)","v":""},{"$f":"IF('DC Power Distribution (Desc)'!I153=\"\",\"\",INDEX([1]YES_NO!$A$2:$A$100,MATCH('DC Power Distribution (Desc)'!$I153,[1]!MASTER_YES_NO_DESC[#Data],0),0))","v":""},{"$f":"IF('DC Power Distribution (Desc)'!J153=\"\",\"\",'DC Power Distribution (Desc)'!J153)","v":""},{"$f":"IF('DC Power Distribution (Desc)'!K153=\"\",\"\",'DC Power Distribution (Desc)'!K153)","v":""},{"$f":"IF('DC Power Distribution (Desc)'!L153=\"\",\"\",INDEX([1]YES_NO!$A$2:$A$100,MATCH('DC Power Distribution (Desc)'!$L153,[1]!MASTER_YES_NO_DESC[#Data],0),0))","v":""},{"$f":"IF('DC Power Distribution (Desc)'!M153=\"\",\"\",INDEX([1]DEV_INPUT_VOLTAGE!$A$2:$A$100,MATCH('DC Power Distribution (Desc)'!$M153,[1]!MASTER_DEV_INPUT_VOLTAGE_DESC[#Data],0),0))","v":""},{"$f":"IF('DC Power Distribution (Desc)'!N153=\"\",\"\",INDEX([1]DEV_OUTPUT_VOLTAGE!$A$2:$A$100,MATCH('DC Power Distribution (Desc)'!$N153,[1]!MASTER_DEV_INPUT_VOLTAGE_DESC[#Data],0),0))","v":""},{"$f":"IF('DC Power Distribution (Desc)'!O153=\"\",\"\",'DC Power Distribution (Desc)'!O153)","v":""},{"$f":"IF('DC Power Distribution (Desc)'!P153=\"\",\"\",'DC Power Distribution (Desc)'!P153)","v":""},{"$f":"IF('DC Power Distribution (Desc)'!Q153=\"\",\"\",'DC Power Distribution (Desc)'!Q153)","v":""},{"$f":"IF('DC Power Distribution (Desc)'!C153=\"\",\"\",\"NA\")","v":""}]
[{"$f":"IF('DC Power Distribution (Desc)'!A154=\"\",\"\",'DC Power Distribution (Desc)'!A154)","v":""},{"$f":"IF('DC Power Distribution (Desc)'!C154=\"\",\"\",2029)","v":""},{"$f":"IF('DC Power Distribution (Desc)'!C154=\"\",\"\",'DC Power Distribution (Desc)'!C154)","v":""},{"$f":"IF('DC Power Distribution (Desc)'!E154=\"\",\"\",'DC Power Distribution (Desc)'!E154)","v":""},{"$f":"IF('DC Power Distribution (Desc)'!F154=\"\",\"\",INDEX([1]ELECTRIC_DEV_MANUF!$A$2:$A$1500,MATCH(1,([1]ELECTRIC_DEV_MANUF!$B$2:$B$1500='DC Power Distribution (Desc)'!$F154)*([1]ELECTRIC_DEV_MANUF!$D$2:$D$1500=\"DCPWRDIS\"),0),0))","v":""},{"$f":"IF('DC Power Distribution (Desc)'!G154=\"\",\"\",INDEX([1]ELECTRIC_DEV_MODEL!$A$2:$A$1500,MATCH(1,([1]ELECTRIC_DEV_MODEL!$C$2:$C$1500='DC Power Distribution (Desc)'!$F154)*([1]ELECTRIC_DEV_MODEL!$D$2:$D$1500='DC Power Distribution (Desc)'!$G154)*([1]ELECTRIC_DEV_MODEL!$F$2:$F$1500=\"DCPWRDIS\"),0),0))","v":""},{"$f":"IF('DC Power Distribution (Desc)'!H154=\"\",\"\",'DC Power Distribution (Desc)'!H154)","v":""},{"$f":"IF('DC Power Distribution (Desc)'!I154=\"\",\"\",INDEX([1]YES_NO!$A$2:$A$100,MATCH('DC Power Distribution (Desc)'!$I154,[1]!MASTER_YES_NO_DESC[#Data],0),0))","v":""},{"$f":"IF('DC Power Distribution (Desc)'!J154=\"\",\"\",'DC Power Distribution (Desc)'!J154)","v":""},{"$f":"IF('DC Power Distribution (Desc)'!K154=\"\",\"\",'DC Power Distribution (Desc)'!K154)","v":""},{"$f":"IF('DC Power Distribution (Desc)'!L154=\"\",\"\",INDEX([1]YES_NO!$A$2:$A$100,MATCH('DC Power Distribution (Desc)'!$L154,[1]!MASTER_YES_NO_DESC[#Data],0),0))","v":""},{"$f":"IF('DC Power Distribution (Desc)'!M154=\"\",\"\",INDEX([1]DEV_INPUT_VOLTAGE!$A$2:$A$100,MATCH('DC Power Distribution (Desc)'!$M154,[1]!MASTER_DEV_INPUT_VOLTAGE_DESC[#Data],0),0))","v":""},{"$f":"IF('DC Power Distribution (Desc)'!N154=\"\",\"\",INDEX([1]DEV_OUTPUT_VOLTAGE!$A$2:$A$100,MATCH('DC Power Distribution (Desc)'!$N154,[1]!MASTER_DEV_INPUT_VOLTAGE_DESC[#Data],0),0))","v":""},{"$f":"IF('DC Power Distribution (Desc)'!O154=\"\",\"\",'DC Power Distribution (Desc)'!O154)","v":""},{"$f":"IF('DC Power Distribution (Desc)'!P154=\"\",\"\",'DC Power Distribution (Desc)'!P154)","v":""},{"$f":"IF('DC Power Distribution (Desc)'!Q154=\"\",\"\",'DC Power Distribution (Desc)'!Q154)","v":""},{"$f":"IF('DC Power Distribution (Desc)'!C154=\"\",\"\",\"NA\")","v":""}]
[{"$f":"IF('DC Power Distribution (Desc)'!A155=\"\",\"\",'DC Power Distribution (Desc)'!A155)","v":""},{"$f":"IF('DC Power Distribution (Desc)'!C155=\"\",\"\",2029)","v":""},{"$f":"IF('DC Power Distribution (Desc)'!C155=\"\",\"\",'DC Power Distribution (Desc)'!C155)","v":""},{"$f":"IF('DC Power Distribution (Desc)'!E155=\"\",\"\",'DC Power Distribution (Desc)'!E155)","v":""},{"$f":"IF('DC Power Distribution (Desc)'!F155=\"\",\"\",INDEX([1]ELECTRIC_DEV_MANUF!$A$2:$A$1500,MATCH(1,([1]ELECTRIC_DEV_MANUF!$B$2:$B$1500='DC Power Distribution (Desc)'!$F155)*([1]ELECTRIC_DEV_MANUF!$D$2:$D$1500=\"DCPWRDIS\"),0),0))","v":""},{"$f":"IF('DC Power Distribution (Desc)'!G155=\"\",\"\",INDEX([1]ELECTRIC_DEV_MODEL!$A$2:$A$1500,MATCH(1,([1]ELECTRIC_DEV_MODEL!$C$2:$C$1500='DC Power Distribution (Desc)'!$F155)*([1]ELECTRIC_DEV_MODEL!$D$2:$D$1500='DC Power Distribution (Desc)'!$G155)*([1]ELECTRIC_DEV_MODEL!$F$2:$F$1500=\"DCPWRDIS\"),0),0))","v":""},{"$f":"IF('DC Power Distribution (Desc)'!H155=\"\",\"\",'DC Power Distribution (Desc)'!H155)","v":""},{"$f":"IF('DC Power Distribution (Desc)'!I155=\"\",\"\",INDEX([1]YES_NO!$A$2:$A$100,MATCH('DC Power Distribution (Desc)'!$I155,[1]!MASTER_YES_NO_DESC[#Data],0),0))","v":""},{"$f":"IF('DC Power Distribution (Desc)'!J155=\"\",\"\",'DC Power Distribution (Desc)'!J155)","v":""},{"$f":"IF('DC Power Distribution (Desc)'!K155=\"\",\"\",'DC Power Distribution (Desc)'!K155)","v":""},{"$f":"IF('DC Power Distribution (Desc)'!L155=\"\",\"\",INDEX([1]YES_NO!$A$2:$A$100,MATCH('DC Power Distribution (Desc)'!$L155,[1]!MASTER_YES_NO_DESC[#Data],0),0))","v":""},{"$f":"IF('DC Power Distribution (Desc)'!M155=\"\",\"\",INDEX([1]DEV_INPUT_VOLTAGE!$A$2:$A$100,MATCH('DC Power Distribution (Desc)'!$M155,[1]!MASTER_DEV_INPUT_VOLTAGE_DESC[#Data],0),0))","v":""},{"$f":"IF('DC Power Distribution (Desc)'!N155=\"\",\"\",INDEX([1]DEV_OUTPUT_VOLTAGE!$A$2:$A$100,MATCH('DC Power Distribution (Desc)'!$N155,[1]!MASTER_DEV_INPUT_VOLTAGE_DESC[#Data],0),0))","v":""},{"$f":"IF('DC Power Distribution (Desc)'!O155=\"\",\"\",'DC Power Distribution (Desc)'!O155)","v":""},{"$f":"IF('DC Power Distribution (Desc)'!P155=\"\",\"\",'DC Power Distribution (Desc)'!P155)","v":""},{"$f":"IF('DC Power Distribution (Desc)'!Q155=\"\",\"\",'DC Power Distribution (Desc)'!Q155)","v":""},{"$f":"IF('DC Power Distribution (Desc)'!C155=\"\",\"\",\"NA\")","v":""}]
[{"$f":"IF('DC Power Distribution (Desc)'!A156=\"\",\"\",'DC Power Distribution (Desc)'!A156)","v":""},{"$f":"IF('DC Power Distribution (Desc)'!C156=\"\",\"\",2029)","v":""},{"$f":"IF('DC Power Distribution (Desc)'!C156=\"\",\"\",'DC Power Distribution (Desc)'!C156)","v":""},{"$f":"IF('DC Power Distribution (Desc)'!E156=\"\",\"\",'DC Power Distribution (Desc)'!E156)","v":""},{"$f":"IF('DC Power Distribution (Desc)'!F156=\"\",\"\",INDEX([1]ELECTRIC_DEV_MANUF!$A$2:$A$1500,MATCH(1,([1]ELECTRIC_DEV_MANUF!$B$2:$B$1500='DC Power Distribution (Desc)'!$F156)*([1]ELECTRIC_DEV_MANUF!$D$2:$D$1500=\"DCPWRDIS\"),0),0))","v":""},{"$f":"IF('DC Power Distribution (Desc)'!G156=\"\",\"\",INDEX([1]ELECTRIC_DEV_MODEL!$A$2:$A$1500,MATCH(1,([1]ELECTRIC_DEV_MODEL!$C$2:$C$1500='DC Power Distribution (Desc)'!$F156)*([1]ELECTRIC_DEV_MODEL!$D$2:$D$1500='DC Power Distribution (Desc)'!$G156)*([1]ELECTRIC_DEV_MODEL!$F$2:$F$1500=\"DCPWRDIS\"),0),0))","v":""},{"$f":"IF('DC Power Distribution (Desc)'!H156=\"\",\"\",'DC Power Distribution (Desc)'!H156)","v":""},{"$f":"IF('DC Power Distribution (Desc)'!I156=\"\",\"\",INDEX([1]YES_NO!$A$2:$A$100,MATCH('DC Power Distribution (Desc)'!$I156,[1]!MASTER_YES_NO_DESC[#Data],0),0))","v":""},{"$f":"IF('DC Power Distribution (Desc)'!J156=\"\",\"\",'DC Power Distribution (Desc)'!J156)","v":""},{"$f":"IF('DC Power Distribution (Desc)'!K156=\"\",\"\",'DC Power Distribution (Desc)'!K156)","v":""},{"$f":"IF('DC Power Distribution (Desc)'!L156=\"\",\"\",INDEX([1]YES_NO!$A$2:$A$100,MATCH('DC Power Distribution (Desc)'!$L156,[1]!MASTER_YES_NO_DESC[#Data],0),0))","v":""},{"$f":"IF('DC Power Distribution (Desc)'!M156=\"\",\"\",INDEX([1]DEV_INPUT_VOLTAGE!$A$2:$A$100,MATCH('DC Power Distribution (Desc)'!$M156,[1]!MASTER_DEV_INPUT_VOLTAGE_DESC[#Data],0),0))","v":""},{"$f":"IF('DC Power Distribution (Desc)'!N156=\"\",\"\",INDEX([1]DEV_OUTPUT_VOLTAGE!$A$2:$A$100,MATCH('DC Power Distribution (Desc)'!$N156,[1]!MASTER_DEV_INPUT_VOLTAGE_DESC[#Data],0),0))","v":""},{"$f":"IF('DC Power Distribution (Desc)'!O156=\"\",\"\",'DC Power Distribution (Desc)'!O156)","v":""},{"$f":"IF('DC Power Distribution (Desc)'!P156=\"\",\"\",'DC Power Distribution (Desc)'!P156)","v":""},{"$f":"IF('DC Power Distribution (Desc)'!Q156=\"\",\"\",'DC Power Distribution (Desc)'!Q156)","v":""},{"$f":"IF('DC Power Distribution (Desc)'!C156=\"\",\"\",\"NA\")","v":""}]
[{"$f":"IF('DC Power Distribution (Desc)'!A157=\"\",\"\",'DC Power Distribution (Desc)'!A157)","v":""},{"$f":"IF('DC Power Distribution (Desc)'!C157=\"\",\"\",2029)","v":""},{"$f":"IF('DC Power Distribution (Desc)'!C157=\"\",\"\",'DC Power Distribution (Desc)'!C157)","v":""},{"$f":"IF('DC Power Distribution (Desc)'!E157=\"\",\"\",'DC Power Distribution (Desc)'!E157)","v":""},{"$f":"IF('DC Power Distribution (Desc)'!F157=\"\",\"\",INDEX([1]ELECTRIC_DEV_MANUF!$A$2:$A$1500,MATCH(1,([1]ELECTRIC_DEV_MANUF!$B$2:$B$1500='DC Power Distribution (Desc)'!$F157)*([1]ELECTRIC_DEV_MANUF!$D$2:$D$1500=\"DCPWRDIS\"),0),0))","v":""},{"$f":"IF('DC Power Distribution (Desc)'!G157=\"\",\"\",INDEX([1]ELECTRIC_DEV_MODEL!$A$2:$A$1500,MATCH(1,([1]ELECTRIC_DEV_MODEL!$C$2:$C$1500='DC Power Distribution (Desc)'!$F157)*([1]ELECTRIC_DEV_MODEL!$D$2:$D$1500='DC Power Distribution (Desc)'!$G157)*([1]ELECTRIC_DEV_MODEL!$F$2:$F$1500=\"DCPWRDIS\"),0),0))","v":""},{"$f":"IF('DC Power Distribution (Desc)'!H157=\"\",\"\",'DC Power Distribution (Desc)'!H157)","v":""},{"$f":"IF('DC Power Distribution (Desc)'!I157=\"\",\"\",INDEX([1]YES_NO!$A$2:$A$100,MATCH('DC Power Distribution (Desc)'!$I157,[1]!MASTER_YES_NO_DESC[#Data],0),0))","v":""},{"$f":"IF('DC Power Distribution (Desc)'!J157=\"\",\"\",'DC Power Distribution (Desc)'!J157)","v":""},{"$f":"IF('DC Power Distribution (Desc)'!K157=\"\",\"\",'DC Power Distribution (Desc)'!K157)","v":""},{"$f":"IF('DC Power Distribution (Desc)'!L157=\"\",\"\",INDEX([1]YES_NO!$A$2:$A$100,MATCH('DC Power Distribution (Desc)'!$L157,[1]!MASTER_YES_NO_DESC[#Data],0),0))","v":""},{"$f":"IF('DC Power Distribution (Desc)'!M157=\"\",\"\",INDEX([1]DEV_INPUT_VOLTAGE!$A$2:$A$100,MATCH('DC Power Distribution (Desc)'!$M157,[1]!MASTER_DEV_INPUT_VOLTAGE_DESC[#Data],0),0))","v":""},{"$f":"IF('DC Power Distribution (Desc)'!N157=\"\",\"\",INDEX([1]DEV_OUTPUT_VOLTAGE!$A$2:$A$100,MATCH('DC Power Distribution (Desc)'!$N157,[1]!MASTER_DEV_INPUT_VOLTAGE_DESC[#Data],0),0))","v":""},{"$f":"IF('DC Power Distribution (Desc)'!O157=\"\",\"\",'DC Power Distribution (Desc)'!O157)","v":""},{"$f":"IF('DC Power Distribution (Desc)'!P157=\"\",\"\",'DC Power Distribution (Desc)'!P157)","v":""},{"$f":"IF('DC Power Distribution (Desc)'!Q157=\"\",\"\",'DC Power Distribution (Desc)'!Q157)","v":""},{"$f":"IF('DC Power Distribution (Desc)'!C157=\"\",\"\",\"NA\")","v":""}]
[{"$f":"IF('DC Power Distribution (Desc)'!A158=\"\",\"\",'DC Power Distribution (Desc)'!A158)","v":""},{"$f":"IF('DC Power Distribution (Desc)'!C158=\"\",\"\",2029)","v":""},{"$f":"IF('DC Power Distribution (Desc)'!C158=\"\",\"\",'DC Power Distribution (Desc)'!C158)","v":""},{"$f":"IF('DC Power Distribution (Desc)'!E158=\"\",\"\",'DC Power Distribution (Desc)'!E158)","v":""},{"$f":"IF('DC Power Distribution (Desc)'!F158=\"\",\"\",INDEX([1]ELECTRIC_DEV_MANUF!$A$2:$A$1500,MATCH(1,([1]ELECTRIC_DEV_MANUF!$B$2:$B$1500='DC Power Distribution (Desc)'!$F158)*([1]ELECTRIC_DEV_MANUF!$D$2:$D$1500=\"DCPWRDIS\"),0),0))","v":""},{"$f":"IF('DC Power Distribution (Desc)'!G158=\"\",\"\",INDEX([1]ELECTRIC_DEV_MODEL!$A$2:$A$1500,MATCH(1,([1]ELECTRIC_DEV_MODEL!$C$2:$C$1500='DC Power Distribution (Desc)'!$F158)*([1]ELECTRIC_DEV_MODEL!$D$2:$D$1500='DC Power Distribution (Desc)'!$G158)*([1]ELECTRIC_DEV_MODEL!$F$2:$F$1500=\"DCPWRDIS\"),0),0))","v":""},{"$f":"IF('DC Power Distribution (Desc)'!H158=\"\",\"\",'DC Power Distribution (Desc)'!H158)","v":""},{"$f":"IF('DC Power Distribution (Desc)'!I158=\"\",\"\",INDEX([1]YES_NO!$A$2:$A$100,MATCH('DC Power Distribution (Desc)'!$I158,[1]!MASTER_YES_NO_DESC[#Data],0),0))","v":""},{"$f":"IF('DC Power Distribution (Desc)'!J158=\"\",\"\",'DC Power Distribution (Desc)'!J158)","v":""},{"$f":"IF('DC Power Distribution (Desc)'!K158=\"\",\"\",'DC Power Distribution (Desc)'!K158)","v":""},{"$f":"IF('DC Power Distribution (Desc)'!L158=\"\",\"\",INDEX([1]YES_NO!$A$2:$A$100,MATCH('DC Power Distribution (Desc)'!$L158,[1]!MASTER_YES_NO_DESC[#Data],0),0))","v":""},{"$f":"IF('DC Power Distribution (Desc)'!M158=\"\",\"\",INDEX([1]DEV_INPUT_VOLTAGE!$A$2:$A$100,MATCH('DC Power Distribution (Desc)'!$M158,[1]!MASTER_DEV_INPUT_VOLTAGE_DESC[#Data],0),0))","v":""},{"$f":"IF('DC Power Distribution (Desc)'!N158=\"\",\"\",INDEX([1]DEV_OUTPUT_VOLTAGE!$A$2:$A$100,MATCH('DC Power Distribution (Desc)'!$N158,[1]!MASTER_DEV_INPUT_VOLTAGE_DESC[#Data],0),0))","v":""},{"$f":"IF('DC Power Distribution (Desc)'!O158=\"\",\"\",'DC Power Distribution (Desc)'!O158)","v":""},{"$f":"IF('DC Power Distribution (Desc)'!P158=\"\",\"\",'DC Power Distribution (Desc)'!P158)","v":""},{"$f":"IF('DC Power Distribution (Desc)'!Q158=\"\",\"\",'DC Power Distribution (Desc)'!Q158)","v":""},{"$f":"IF('DC Power Distribution (Desc)'!C158=\"\",\"\",\"NA\")","v":""}]
[{"$f":"IF('DC Power Distribution (Desc)'!A159=\"\",\"\",'DC Power Distribution (Desc)'!A159)","v":""},{"$f":"IF('DC Power Distribution (Desc)'!C159=\"\",\"\",2029)","v":""},{"$f":"IF('DC Power Distribution (Desc)'!C159=\"\",\"\",'DC Power Distribution (Desc)'!C159)","v":""},{"$f":"IF('DC Power Distribution (Desc)'!E159=\"\",\"\",'DC Power Distribution (Desc)'!E159)","v":""},{"$f":"IF('DC Power Distribution (Desc)'!F159=\"\",\"\",INDEX([1]ELECTRIC_DEV_MANUF!$A$2:$A$1500,MATCH(1,([1]ELECTRIC_DEV_MANUF!$B$2:$B$1500='DC Power Distribution (Desc)'!$F159)*([1]ELECTRIC_DEV_MANUF!$D$2:$D$1500=\"DCPWRDIS\"),0),0))","v":""},{"$f":"IF('DC Power Distribution (Desc)'!G159=\"\",\"\",INDEX([1]ELECTRIC_DEV_MODEL!$A$2:$A$1500,MATCH(1,([1]ELECTRIC_DEV_MODEL!$C$2:$C$1500='DC Power Distribution (Desc)'!$F159)*([1]ELECTRIC_DEV_MODEL!$D$2:$D$1500='DC Power Distribution (Desc)'!$G159)*([1]ELECTRIC_DEV_MODEL!$F$2:$F$1500=\"DCPWRDIS\"),0),0))","v":""},{"$f":"IF('DC Power Distribution (Desc)'!H159=\"\",\"\",'DC Power Distribution (Desc)'!H159)","v":""},{"$f":"IF('DC Power Distribution (Desc)'!I159=\"\",\"\",INDEX([1]YES_NO!$A$2:$A$100,MATCH('DC Power Distribution (Desc)'!$I159,[1]!MASTER_YES_NO_DESC[#Data],0),0))","v":""},{"$f":"IF('DC Power Distribution (Desc)'!J159=\"\",\"\",'DC Power Distribution (Desc)'!J159)","v":""},{"$f":"IF('DC Power Distribution (Desc)'!K159=\"\",\"\",'DC Power Distribution (Desc)'!K159)","v":""},{"$f":"IF('DC Power Distribution (Desc)'!L159=\"\",\"\",INDEX([1]YES_NO!$A$2:$A$100,MATCH('DC Power Distribution (Desc)'!$L159,[1]!MASTER_YES_NO_DESC[#Data],0),0))","v":""},{"$f":"IF('DC Power Distribution (Desc)'!M159=\"\",\"\",INDEX([1]DEV_INPUT_VOLTAGE!$A$2:$A$100,MATCH('DC Power Distribution (Desc)'!$M159,[1]!MASTER_DEV_INPUT_VOLTAGE_DESC[#Data],0),0))","v":""},{"$f":"IF('DC Power Distribution (Desc)'!N159=\"\",\"\",INDEX([1]DEV_OUTPUT_VOLTAGE!$A$2:$A$100,MATCH('DC Power Distribution (Desc)'!$N159,[1]!MASTER_DEV_INPUT_VOLTAGE_DESC[#Data],0),0))","v":""},{"$f":"IF('DC Power Distribution (Desc)'!O159=\"\",\"\",'DC Power Distribution (Desc)'!O159)","v":""},{"$f":"IF('DC Power Distribution (Desc)'!P159=\"\",\"\",'DC Power Distribution (Desc)'!P159)","v":""},{"$f":"IF('DC Power Distribution (Desc)'!Q159=\"\",\"\",'DC Power Distribution (Desc)'!Q159)","v":""},{"$f":"IF('DC Power Distribution (Desc)'!C159=\"\",\"\",\"NA\")","v":""}]
[{"$f":"IF('DC Power Distribution (Desc)'!A160=\"\",\"\",'DC Power Distribution (Desc)'!A160)","v":""},{"$f":"IF('DC Power Distribution (Desc)'!C160=\"\",\"\",2029)","v":""},{"$f":"IF('DC Power Distribution (Desc)'!C160=\"\",\"\",'DC Power Distribution (Desc)'!C160)","v":""},{"$f":"IF('DC Power Distribution (Desc)'!E160=\"\",\"\",'DC Power Distribution (Desc)'!E160)","v":""},{"$f":"IF('DC Power Distribution (Desc)'!F160=\"\",\"\",INDEX([1]ELECTRIC_DEV_MANUF!$A$2:$A$1500,MATCH(1,([1]ELECTRIC_DEV_MANUF!$B$2:$B$1500='DC Power Distribution (Desc)'!$F160)*([1]ELECTRIC_DEV_MANUF!$D$2:$D$1500=\"DCPWRDIS\"),0),0))","v":""},{"$f":"IF('DC Power Distribution (Desc)'!G160=\"\",\"\",INDEX([1]ELECTRIC_DEV_MODEL!$A$2:$A$1500,MATCH(1,([1]ELECTRIC_DEV_MODEL!$C$2:$C$1500='DC Power Distribution (Desc)'!$F160)*([1]ELECTRIC_DEV_MODEL!$D$2:$D$1500='DC Power Distribution (Desc)'!$G160)*([1]ELECTRIC_DEV_MODEL!$F$2:$F$1500=\"DCPWRDIS\"),0),0))","v":""},{"$f":"IF('DC Power Distribution (Desc)'!H160=\"\",\"\",'DC Power Distribution (Desc)'!H160)","v":""},{"$f":"IF('DC Power Distribution (Desc)'!I160=\"\",\"\",INDEX([1]YES_NO!$A$2:$A$100,MATCH('DC Power Distribution (Desc)'!$I160,[1]!MASTER_YES_NO_DESC[#Data],0),0))","v":""},{"$f":"IF('DC Power Distribution (Desc)'!J160=\"\",\"\",'DC Power Distribution (Desc)'!J160)","v":""},{"$f":"IF('DC Power Distribution (Desc)'!K160=\"\",\"\",'DC Power Distribution (Desc)'!K160)","v":""},{"$f":"IF('DC Power Distribution (Desc)'!L160=\"\",\"\",INDEX([1]YES_NO!$A$2:$A$100,MATCH('DC Power Distribution (Desc)'!$L160,[1]!MASTER_YES_NO_DESC[#Data],0),0))","v":""},{"$f":"IF('DC Power Distribution (Desc)'!M160=\"\",\"\",INDEX([1]DEV_INPUT_VOLTAGE!$A$2:$A$100,MATCH('DC Power Distribution (Desc)'!$M160,[1]!MASTER_DEV_INPUT_VOLTAGE_DESC[#Data],0),0))","v":""},{"$f":"IF('DC Power Distribution (Desc)'!N160=\"\",\"\",INDEX([1]DEV_OUTPUT_VOLTAGE!$A$2:$A$100,MATCH('DC Power Distribution (Desc)'!$N160,[1]!MASTER_DEV_INPUT_VOLTAGE_DESC[#Data],0),0))","v":""},{"$f":"IF('DC Power Distribution (Desc)'!O160=\"\",\"\",'DC Power Distribution (Desc)'!O160)","v":""},{"$f":"IF('DC Power Distribution (Desc)'!P160=\"\",\"\",'DC Power Distribution (Desc)'!P160)","v":""},{"$f":"IF('DC Power Distribution (Desc)'!Q160=\"\",\"\",'DC Power Distribution (Desc)'!Q160)","v":""},{"$f":"IF('DC Power Distribution (Desc)'!C160=\"\",\"\",\"NA\")","v":""}]
[{"$f":"IF('DC Power Distribution (Desc)'!A161=\"\",\"\",'DC Power Distribution (Desc)'!A161)","v":""},{"$f":"IF('DC Power Distribution (Desc)'!C161=\"\",\"\",2029)","v":""},{"$f":"IF('DC Power Distribution (Desc)'!C161=\"\",\"\",'DC Power Distribution (Desc)'!C161)","v":""},{"$f":"IF('DC Power Distribution (Desc)'!E161=\"\",\"\",'DC Power Distribution (Desc)'!E161)","v":""},{"$f":"IF('DC Power Distribution (Desc)'!F161=\"\",\"\",INDEX([1]ELECTRIC_DEV_MANUF!$A$2:$A$1500,MATCH(1,([1]ELECTRIC_DEV_MANUF!$B$2:$B$1500='DC Power Distribution (Desc)'!$F161)*([1]ELECTRIC_DEV_MANUF!$D$2:$D$1500=\"DCPWRDIS\"),0),0))","v":""},{"$f":"IF('DC Power Distribution (Desc)'!G161=\"\",\"\",INDEX([1]ELECTRIC_DEV_MODEL!$A$2:$A$1500,MATCH(1,([1]ELECTRIC_DEV_MODEL!$C$2:$C$1500='DC Power Distribution (Desc)'!$F161)*([1]ELECTRIC_DEV_MODEL!$D$2:$D$1500='DC Power Distribution (Desc)'!$G161)*([1]ELECTRIC_DEV_MODEL!$F$2:$F$1500=\"DCPWRDIS\"),0),0))","v":""},{"$f":"IF('DC Power Distribution (Desc)'!H161=\"\",\"\",'DC Power Distribution (Desc)'!H161)","v":""},{"$f":"IF('DC Power Distribution (Desc)'!I161=\"\",\"\",INDEX([1]YES_NO!$A$2:$A$100,MATCH('DC Power Distribution (Desc)'!$I161,[1]!MASTER_YES_NO_DESC[#Data],0),0))","v":""},{"$f":"IF('DC Power Distribution (Desc)'!J161=\"\",\"\",'DC Power Distribution (Desc)'!J161)","v":""},{"$f":"IF('DC Power Distribution (Desc)'!K161=\"\",\"\",'DC Power Distribution (Desc)'!K161)","v":""},{"$f":"IF('DC Power Distribution (Desc)'!L161=\"\",\"\",INDEX([1]YES_NO!$A$2:$A$100,MATCH('DC Power Distribution (Desc)'!$L161,[1]!MASTER_YES_NO_DESC[#Data],0),0))","v":""},{"$f":"IF('DC Power Distribution (Desc)'!M161=\"\",\"\",INDEX([1]DEV_INPUT_VOLTAGE!$A$2:$A$100,MATCH('DC Power Distribution (Desc)'!$M161,[1]!MASTER_DEV_INPUT_VOLTAGE_DESC[#Data],0),0))","v":""},{"$f":"IF('DC Power Distribution (Desc)'!N161=\"\",\"\",INDEX([1]DEV_OUTPUT_VOLTAGE!$A$2:$A$100,MATCH('DC Power Distribution (Desc)'!$N161,[1]!MASTER_DEV_INPUT_VOLTAGE_DESC[#Data],0),0))","v":""},{"$f":"IF('DC Power Distribution (Desc)'!O161=\"\",\"\",'DC Power Distribution (Desc)'!O161)","v":""},{"$f":"IF('DC Power Distribution (Desc)'!P161=\"\",\"\",'DC Power Distribution (Desc)'!P161)","v":""},{"$f":"IF('DC Power Distribution (Desc)'!Q161=\"\",\"\",'DC Power Distribution (Desc)'!Q161)","v":""},{"$f":"IF('DC Power Distribution (Desc)'!C161=\"\",\"\",\"NA\")","v":""}]
[{"$f":"IF('DC Power Distribution (Desc)'!A162=\"\",\"\",'DC Power Distribution (Desc)'!A162)","v":""},{"$f":"IF('DC Power Distribution (Desc)'!C162=\"\",\"\",2029)","v":""},{"$f":"IF('DC Power Distribution (Desc)'!C162=\"\",\"\",'DC Power Distribution (Desc)'!C162)","v":""},{"$f":"IF('DC Power Distribution (Desc)'!E162=\"\",\"\",'DC Power Distribution (Desc)'!E162)","v":""},{"$f":"IF('DC Power Distribution (Desc)'!F162=\"\",\"\",INDEX([1]ELECTRIC_DEV_MANUF!$A$2:$A$1500,MATCH(1,([1]ELECTRIC_DEV_MANUF!$B$2:$B$1500='DC Power Distribution (Desc)'!$F162)*([1]ELECTRIC_DEV_MANUF!$D$2:$D$1500=\"DCPWRDIS\"),0),0))","v":""},{"$f":"IF('DC Power Distribution (Desc)'!G162=\"\",\"\",INDEX([1]ELECTRIC_DEV_MODEL!$A$2:$A$1500,MATCH(1,([1]ELECTRIC_DEV_MODEL!$C$2:$C$1500='DC Power Distribution (Desc)'!$F162)*([1]ELECTRIC_DEV_MODEL!$D$2:$D$1500='DC Power Distribution (Desc)'!$G162)*([1]ELECTRIC_DEV_MODEL!$F$2:$F$1500=\"DCPWRDIS\"),0),0))","v":""},{"$f":"IF('DC Power Distribution (Desc)'!H162=\"\",\"\",'DC Power Distribution (Desc)'!H162)","v":""},{"$f":"IF('DC Power Distribution (Desc)'!I162=\"\",\"\",INDEX([1]YES_NO!$A$2:$A$100,MATCH('DC Power Distribution (Desc)'!$I162,[1]!MASTER_YES_NO_DESC[#Data],0),0))","v":""},{"$f":"IF('DC Power Distribution (Desc)'!J162=\"\",\"\",'DC Power Distribution (Desc)'!J162)","v":""},{"$f":"IF('DC Power Distribution (Desc)'!K162=\"\",\"\",'DC Power Distribution (Desc)'!K162)","v":""},{"$f":"IF('DC Power Distribution (Desc)'!L162=\"\",\"\",INDEX([1]YES_NO!$A$2:$A$100,MATCH('DC Power Distribution (Desc)'!$L162,[1]!MASTER_YES_NO_DESC[#Data],0),0))","v":""},{"$f":"IF('DC Power Distribution (Desc)'!M162=\"\",\"\",INDEX([1]DEV_INPUT_VOLTAGE!$A$2:$A$100,MATCH('DC Power Distribution (Desc)'!$M162,[1]!MASTER_DEV_INPUT_VOLTAGE_DESC[#Data],0),0))","v":""},{"$f":"IF('DC Power Distribution (Desc)'!N162=\"\",\"\",INDEX([1]DEV_OUTPUT_VOLTAGE!$A$2:$A$100,MATCH('DC Power Distribution (Desc)'!$N162,[1]!MASTER_DEV_INPUT_VOLTAGE_DESC[#Data],0),0))","v":""},{"$f":"IF('DC Power Distribution (Desc)'!O162=\"\",\"\",'DC Power Distribution (Desc)'!O162)","v":""},{"$f":"IF('DC Power Distribution (Desc)'!P162=\"\",\"\",'DC Power Distribution (Desc)'!P162)","v":""},{"$f":"IF('DC Power Distribution (Desc)'!Q162=\"\",\"\",'DC Power Distribution (Desc)'!Q162)","v":""},{"$f":"IF('DC Power Distribution (Desc)'!C162=\"\",\"\",\"NA\")","v":""}]
[{"$f":"IF('DC Power Distribution (Desc)'!A163=\"\",\"\",'DC Power Distribution (Desc)'!A163)","v":""},{"$f":"IF('DC Power Distribution (Desc)'!C163=\"\",\"\",2029)","v":""},{"$f":"IF('DC Power Distribution (Desc)'!C163=\"\",\"\",'DC Power Distribution (Desc)'!C163)","v":""},{"$f":"IF('DC Power Distribution (Desc)'!E163=\"\",\"\",'DC Power Distribution (Desc)'!E163)","v":""},{"$f":"IF('DC Power Distribution (Desc)'!F163=\"\",\"\",INDEX([1]ELECTRIC_DEV_MANUF!$A$2:$A$1500,MATCH(1,([1]ELECTRIC_DEV_MANUF!$B$2:$B$1500='DC Power Distribution (Desc)'!$F163)*([1]ELECTRIC_DEV_MANUF!$D$2:$D$1500=\"DCPWRDIS\"),0),0))","v":""},{"$f":"IF('DC Power Distribution (Desc)'!G163=\"\",\"\",INDEX([1]ELECTRIC_DEV_MODEL!$A$2:$A$1500,MATCH(1,([1]ELECTRIC_DEV_MODEL!$C$2:$C$1500='DC Power Distribution (Desc)'!$F163)*([1]ELECTRIC_DEV_MODEL!$D$2:$D$1500='DC Power Distribution (Desc)'!$G163)*([1]ELECTRIC_DEV_MODEL!$F$2:$F$1500=\"DCPWRDIS\"),0),0))","v":""},{"$f":"IF('DC Power Distribution (Desc)'!H163=\"\",\"\",'DC Power Distribution (Desc)'!H163)","v":""},{"$f":"IF('DC Power Distribution (Desc)'!I163=\"\",\"\",INDEX([1]YES_NO!$A$2:$A$100,MATCH('DC Power Distribution (Desc)'!$I163,[1]!MASTER_YES_NO_DESC[#Data],0),0))","v":""},{"$f":"IF('DC Power Distribution (Desc)'!J163=\"\",\"\",'DC Power Distribution (Desc)'!J163)","v":""},{"$f":"IF('DC Power Distribution (Desc)'!K163=\"\",\"\",'DC Power Distribution (Desc)'!K163)","v":""},{"$f":"IF('DC Power Distribution (Desc)'!L163=\"\",\"\",INDEX([1]YES_NO!$A$2:$A$100,MATCH('DC Power Distribution (Desc)'!$L163,[1]!MASTER_YES_NO_DESC[#Data],0),0))","v":""},{"$f":"IF('DC Power Distribution (Desc)'!M163=\"\",\"\",INDEX([1]DEV_INPUT_VOLTAGE!$A$2:$A$100,MATCH('DC Power Distribution (Desc)'!$M163,[1]!MASTER_DEV_INPUT_VOLTAGE_DESC[#Data],0),0))","v":""},{"$f":"IF('DC Power Distribution (Desc)'!N163=\"\",\"\",INDEX([1]DEV_OUTPUT_VOLTAGE!$A$2:$A$100,MATCH('DC Power Distribution (Desc)'!$N163,[1]!MASTER_DEV_INPUT_VOLTAGE_DESC[#Data],0),0))","v":""},{"$f":"IF('DC Power Distribution (Desc)'!O163=\"\",\"\",'DC Power Distribution (Desc)'!O163)","v":""},{"$f":"IF('DC Power Distribution (Desc)'!P163=\"\",\"\",'DC Power Distribution (Desc)'!P163)","v":""},{"$f":"IF('DC Power Distribution (Desc)'!Q163=\"\",\"\",'DC Power Distribution (Desc)'!Q163)","v":""},{"$f":"IF('DC Power Distribution (Desc)'!C163=\"\",\"\",\"NA\")","v":""}]
[{"$f":"IF('DC Power Distribution (Desc)'!A164=\"\",\"\",'DC Power Distribution (Desc)'!A164)","v":""},{"$f":"IF('DC Power Distribution (Desc)'!C164=\"\",\"\",2029)","v":""},{"$f":"IF('DC Power Distribution (Desc)'!C164=\"\",\"\",'DC Power Distribution (Desc)'!C164)","v":""},{"$f":"IF('DC Power Distribution (Desc)'!E164=\"\",\"\",'DC Power Distribution (Desc)'!E164)","v":""},{"$f":"IF('DC Power Distribution (Desc)'!F164=\"\",\"\",INDEX([1]ELECTRIC_DEV_MANUF!$A$2:$A$1500,MATCH(1,([1]ELECTRIC_DEV_MANUF!$B$2:$B$1500='DC Power Distribution (Desc)'!$F164)*([1]ELECTRIC_DEV_MANUF!$D$2:$D$1500=\"DCPWRDIS\"),0),0))","v":""},{"$f":"IF('DC Power Distribution (Desc)'!G164=\"\",\"\",INDEX([1]ELECTRIC_DEV_MODEL!$A$2:$A$1500,MATCH(1,([1]ELECTRIC_DEV_MODEL!$C$2:$C$1500='DC Power Distribution (Desc)'!$F164)*([1]ELECTRIC_DEV_MODEL!$D$2:$D$1500='DC Power Distribution (Desc)'!$G164)*([1]ELECTRIC_DEV_MODEL!$F$2:$F$1500=\"DCPWRDIS\"),0),0))","v":""},{"$f":"IF('DC Power Distribution (Desc)'!H164=\"\",\"\",'DC Power Distribution (Desc)'!H164)","v":""},{"$f":"IF('DC Power Distribution (Desc)'!I164=\"\",\"\",INDEX([1]YES_NO!$A$2:$A$100,MATCH('DC Power Distribution (Desc)'!$I164,[1]!MASTER_YES_NO_DESC[#Data],0),0))","v":""},{"$f":"IF('DC Power Distribution (Desc)'!J164=\"\",\"\",'DC Power Distribution (Desc)'!J164)","v":""},{"$f":"IF('DC Power Distribution (Desc)'!K164=\"\",\"\",'DC Power Distribution (Desc)'!K164)","v":""},{"$f":"IF('DC Power Distribution (Desc)'!L164=\"\",\"\",INDEX([1]YES_NO!$A$2:$A$100,MATCH('DC Power Distribution (Desc)'!$L164,[1]!MASTER_YES_NO_DESC[#Data],0),0))","v":""},{"$f":"IF('DC Power Distribution (Desc)'!M164=\"\",\"\",INDEX([1]DEV_INPUT_VOLTAGE!$A$2:$A$100,MATCH('DC Power Distribution (Desc)'!$M164,[1]!MASTER_DEV_INPUT_VOLTAGE_DESC[#Data],0),0))","v":""},{"$f":"IF('DC Power Distribution (Desc)'!N164=\"\",\"\",INDEX([1]DEV_OUTPUT_VOLTAGE!$A$2:$A$100,MATCH('DC Power Distribution (Desc)'!$N164,[1]!MASTER_DEV_INPUT_VOLTAGE_DESC[#Data],0),0))","v":""},{"$f":"IF('DC Power Distribution (Desc)'!O164=\"\",\"\",'DC Power Distribution (Desc)'!O164)","v":""},{"$f":"IF('DC Power Distribution (Desc)'!P164=\"\",\"\",'DC Power Distribution (Desc)'!P164)","v":""},{"$f":"IF('DC Power Distribution (Desc)'!Q164=\"\",\"\",'DC Power Distribution (Desc)'!Q164)","v":""},{"$f":"IF('DC Power Distribution (Desc)'!C164=\"\",\"\",\"NA\")","v":""}]
[{"$f":"IF('DC Power Distribution (Desc)'!A165=\"\",\"\",'DC Power Distribution (Desc)'!A165)","v":""},{"$f":"IF('DC Power Distribution (Desc)'!C165=\"\",\"\",2029)","v":""},{"$f":"IF('DC Power Distribution (Desc)'!C165=\"\",\"\",'DC Power Distribution (Desc)'!C165)","v":""},{"$f":"IF('DC Power Distribution (Desc)'!E165=\"\",\"\",'DC Power Distribution (Desc)'!E165)","v":""},{"$f":"IF('DC Power Distribution (Desc)'!F165=\"\",\"\",INDEX([1]ELECTRIC_DEV_MANUF!$A$2:$A$1500,MATCH(1,([1]ELECTRIC_DEV_MANUF!$B$2:$B$1500='DC Power Distribution (Desc)'!$F165)*([1]ELECTRIC_DEV_MANUF!$D$2:$D$1500=\"DCPWRDIS\"),0),0))","v":""},{"$f":"IF('DC Power Distribution (Desc)'!G165=\"\",\"\",INDEX([1]ELECTRIC_DEV_MODEL!$A$2:$A$1500,MATCH(1,([1]ELECTRIC_DEV_MODEL!$C$2:$C$1500='DC Power Distribution (Desc)'!$F165)*([1]ELECTRIC_DEV_MODEL!$D$2:$D$1500='DC Power Distribution (Desc)'!$G165)*([1]ELECTRIC_DEV_MODEL!$F$2:$F$1500=\"DCPWRDIS\"),0),0))","v":""},{"$f":"IF('DC Power Distribution (Desc)'!H165=\"\",\"\",'DC Power Distribution (Desc)'!H165)","v":""},{"$f":"IF('DC Power Distribution (Desc)'!I165=\"\",\"\",INDEX([1]YES_NO!$A$2:$A$100,MATCH('DC Power Distribution (Desc)'!$I165,[1]!MASTER_YES_NO_DESC[#Data],0),0))","v":""},{"$f":"IF('DC Power Distribution (Desc)'!J165=\"\",\"\",'DC Power Distribution (Desc)'!J165)","v":""},{"$f":"IF('DC Power Distribution (Desc)'!K165=\"\",\"\",'DC Power Distribution (Desc)'!K165)","v":""},{"$f":"IF('DC Power Distribution (Desc)'!L165=\"\",\"\",INDEX([1]YES_NO!$A$2:$A$100,MATCH('DC Power Distribution (Desc)'!$L165,[1]!MASTER_YES_NO_DESC[#Data],0),0))","v":""},{"$f":"IF('DC Power Distribution (Desc)'!M165=\"\",\"\",INDEX([1]DEV_INPUT_VOLTAGE!$A$2:$A$100,MATCH('DC Power Distribution (Desc)'!$M165,[1]!MASTER_DEV_INPUT_VOLTAGE_DESC[#Data],0),0))","v":""},{"$f":"IF('DC Power Distribution (Desc)'!N165=\"\",\"\",INDEX([1]DEV_OUTPUT_VOLTAGE!$A$2:$A$100,MATCH('DC Power Distribution (Desc)'!$N165,[1]!MASTER_DEV_INPUT_VOLTAGE_DESC[#Data],0),0))","v":""},{"$f":"IF('DC Power Distribution (Desc)'!O165=\"\",\"\",'DC Power Distribution (Desc)'!O165)","v":""},{"$f":"IF('DC Power Distribution (Desc)'!P165=\"\",\"\",'DC Power Distribution (Desc)'!P165)","v":""},{"$f":"IF('DC Power Distribution (Desc)'!Q165=\"\",\"\",'DC Power Distribution (Desc)'!Q165)","v":""},{"$f":"IF('DC Power Distribution (Desc)'!C165=\"\",\"\",\"NA\")","v":""}]
[{"$f":"IF('DC Power Distribution (Desc)'!A166=\"\",\"\",'DC Power Distribution (Desc)'!A166)","v":""},{"$f":"IF('DC Power Distribution (Desc)'!C166=\"\",\"\",2029)","v":""},{"$f":"IF('DC Power Distribution (Desc)'!C166=\"\",\"\",'DC Power Distribution (Desc)'!C166)","v":""},{"$f":"IF('DC Power Distribution (Desc)'!E166=\"\",\"\",'DC Power Distribution (Desc)'!E166)","v":""},{"$f":"IF('DC Power Distribution (Desc)'!F166=\"\",\"\",INDEX([1]ELECTRIC_DEV_MANUF!$A$2:$A$1500,MATCH(1,([1]ELECTRIC_DEV_MANUF!$B$2:$B$1500='DC Power Distribution (Desc)'!$F166)*([1]ELECTRIC_DEV_MANUF!$D$2:$D$1500=\"DCPWRDIS\"),0),0))","v":""},{"$f":"IF('DC Power Distribution (Desc)'!G166=\"\",\"\",INDEX([1]ELECTRIC_DEV_MODEL!$A$2:$A$1500,MATCH(1,([1]ELECTRIC_DEV_MODEL!$C$2:$C$1500='DC Power Distribution (Desc)'!$F166)*([1]ELECTRIC_DEV_MODEL!$D$2:$D$1500='DC Power Distribution (Desc)'!$G166)*([1]ELECTRIC_DEV_MODEL!$F$2:$F$1500=\"DCPWRDIS\"),0),0))","v":""},{"$f":"IF('DC Power Distribution (Desc)'!H166=\"\",\"\",'DC Power Distribution (Desc)'!H166)","v":""},{"$f":"IF('DC Power Distribution (Desc)'!I166=\"\",\"\",INDEX([1]YES_NO!$A$2:$A$100,MATCH('DC Power Distribution (Desc)'!$I166,[1]!MASTER_YES_NO_DESC[#Data],0),0))","v":""},{"$f":"IF('DC Power Distribution (Desc)'!J166=\"\",\"\",'DC Power Distribution (Desc)'!J166)","v":""},{"$f":"IF('DC Power Distribution (Desc)'!K166=\"\",\"\",'DC Power Distribution (Desc)'!K166)","v":""},{"$f":"IF('DC Power Distribution (Desc)'!L166=\"\",\"\",INDEX([1]YES_NO!$A$2:$A$100,MATCH('DC Power Distribution (Desc)'!$L166,[1]!MASTER_YES_NO_DESC[#Data],0),0))","v":""},{"$f":"IF('DC Power Distribution (Desc)'!M166=\"\",\"\",INDEX([1]DEV_INPUT_VOLTAGE!$A$2:$A$100,MATCH('DC Power Distribution (Desc)'!$M166,[1]!MASTER_DEV_INPUT_VOLTAGE_DESC[#Data],0),0))","v":""},{"$f":"IF('DC Power Distribution (Desc)'!N166=\"\",\"\",INDEX([1]DEV_OUTPUT_VOLTAGE!$A$2:$A$100,MATCH('DC Power Distribution (Desc)'!$N166,[1]!MASTER_DEV_INPUT_VOLTAGE_DESC[#Data],0),0))","v":""},{"$f":"IF('DC Power Distribution (Desc)'!O166=\"\",\"\",'DC Power Distribution (Desc)'!O166)","v":""},{"$f":"IF('DC Power Distribution (Desc)'!P166=\"\",\"\",'DC Power Distribution (Desc)'!P166)","v":""},{"$f":"IF('DC Power Distribution (Desc)'!Q166=\"\",\"\",'DC Power Distribution (Desc)'!Q166)","v":""},{"$f":"IF('DC Power Distribution (Desc)'!C166=\"\",\"\",\"NA\")","v":""}]
[{"$f":"IF('DC Power Distribution (Desc)'!A167=\"\",\"\",'DC Power Distribution (Desc)'!A167)","v":""},{"$f":"IF('DC Power Distribution (Desc)'!C167=\"\",\"\",2029)","v":""},{"$f":"IF('DC Power Distribution (Desc)'!C167=\"\",\"\",'DC Power Distribution (Desc)'!C167)","v":""},{"$f":"IF('DC Power Distribution (Desc)'!E167=\"\",\"\",'DC Power Distribution (Desc)'!E167)","v":""},{"$f":"IF('DC Power Distribution (Desc)'!F167=\"\",\"\",INDEX([1]ELECTRIC_DEV_MANUF!$A$2:$A$1500,MATCH(1,([1]ELECTRIC_DEV_MANUF!$B$2:$B$1500='DC Power Distribution (Desc)'!$F167)*([1]ELECTRIC_DEV_MANUF!$D$2:$D$1500=\"DCPWRDIS\"),0),0))","v":""},{"$f":"IF('DC Power Distribution (Desc)'!G167=\"\",\"\",INDEX([1]ELECTRIC_DEV_MODEL!$A$2:$A$1500,MATCH(1,([1]ELECTRIC_DEV_MODEL!$C$2:$C$1500='DC Power Distribution (Desc)'!$F167)*([1]ELECTRIC_DEV_MODEL!$D$2:$D$1500='DC Power Distribution (Desc)'!$G167)*([1]ELECTRIC_DEV_MODEL!$F$2:$F$1500=\"DCPWRDIS\"),0),0))","v":""},{"$f":"IF('DC Power Distribution (Desc)'!H167=\"\",\"\",'DC Power Distribution (Desc)'!H167)","v":""},{"$f":"IF('DC Power Distribution (Desc)'!I167=\"\",\"\",INDEX([1]YES_NO!$A$2:$A$100,MATCH('DC Power Distribution (Desc)'!$I167,[1]!MASTER_YES_NO_DESC[#Data],0),0))","v":""},{"$f":"IF('DC Power Distribution (Desc)'!J167=\"\",\"\",'DC Power Distribution (Desc)'!J167)","v":""},{"$f":"IF('DC Power Distribution (Desc)'!K167=\"\",\"\",'DC Power Distribution (Desc)'!K167)","v":""},{"$f":"IF('DC Power Distribution (Desc)'!L167=\"\",\"\",INDEX([1]YES_NO!$A$2:$A$100,MATCH('DC Power Distribution (Desc)'!$L167,[1]!MASTER_YES_NO_DESC[#Data],0),0))","v":""},{"$f":"IF('DC Power Distribution (Desc)'!M167=\"\",\"\",INDEX([1]DEV_INPUT_VOLTAGE!$A$2:$A$100,MATCH('DC Power Distribution (Desc)'!$M167,[1]!MASTER_DEV_INPUT_VOLTAGE_DESC[#Data],0),0))","v":""},{"$f":"IF('DC Power Distribution (Desc)'!N167=\"\",\"\",INDEX([1]DEV_OUTPUT_VOLTAGE!$A$2:$A$100,MATCH('DC Power Distribution (Desc)'!$N167,[1]!MASTER_DEV_INPUT_VOLTAGE_DESC[#Data],0),0))","v":""},{"$f":"IF('DC Power Distribution (Desc)'!O167=\"\",\"\",'DC Power Distribution (Desc)'!O167)","v":""},{"$f":"IF('DC Power Distribution (Desc)'!P167=\"\",\"\",'DC Power Distribution (Desc)'!P167)","v":""},{"$f":"IF('DC Power Distribution (Desc)'!Q167=\"\",\"\",'DC Power Distribution (Desc)'!Q167)","v":""},{"$f":"IF('DC Power Distribution (Desc)'!C167=\"\",\"\",\"NA\")","v":""}]
[{"$f":"IF('DC Power Distribution (Desc)'!A168=\"\",\"\",'DC Power Distribution (Desc)'!A168)","v":""},{"$f":"IF('DC Power Distribution (Desc)'!C168=\"\",\"\",2029)","v":""},{"$f":"IF('DC Power Distribution (Desc)'!C168=\"\",\"\",'DC Power Distribution (Desc)'!C168)","v":""},{"$f":"IF('DC Power Distribution (Desc)'!E168=\"\",\"\",'DC Power Distribution (Desc)'!E168)","v":""},{"$f":"IF('DC Power Distribution (Desc)'!F168=\"\",\"\",INDEX([1]ELECTRIC_DEV_MANUF!$A$2:$A$1500,MATCH(1,([1]ELECTRIC_DEV_MANUF!$B$2:$B$1500='DC Power Distribution (Desc)'!$F168)*([1]ELECTRIC_DEV_MANUF!$D$2:$D$1500=\"DCPWRDIS\"),0),0))","v":""},{"$f":"IF('DC Power Distribution (Desc)'!G168=\"\",\"\",INDEX([1]ELECTRIC_DEV_MODEL!$A$2:$A$1500,MATCH(1,([1]ELECTRIC_DEV_MODEL!$C$2:$C$1500='DC Power Distribution (Desc)'!$F168)*([1]ELECTRIC_DEV_MODEL!$D$2:$D$1500='DC Power Distribution (Desc)'!$G168)*([1]ELECTRIC_DEV_MODEL!$F$2:$F$1500=\"DCPWRDIS\"),0),0))","v":""},{"$f":"IF('DC Power Distribution (Desc)'!H168=\"\",\"\",'DC Power Distribution (Desc)'!H168)","v":""},{"$f":"IF('DC Power Distribution (Desc)'!I168=\"\",\"\",INDEX([1]YES_NO!$A$2:$A$100,MATCH('DC Power Distribution (Desc)'!$I168,[1]!MASTER_YES_NO_DESC[#Data],0),0))","v":""},{"$f":"IF('DC Power Distribution (Desc)'!J168=\"\",\"\",'DC Power Distribution (Desc)'!J168)","v":""},{"$f":"IF('DC Power Distribution (Desc)'!K168=\"\",\"\",'DC Power Distribution (Desc)'!K168)","v":""},{"$f":"IF('DC Power Distribution (Desc)'!L168=\"\",\"\",INDEX([1]YES_NO!$A$2:$A$100,MATCH('DC Power Distribution (Desc)'!$L168,[1]!MASTER_YES_NO_DESC[#Data],0),0))","v":""},{"$f":"IF('DC Power Distribution (Desc)'!M168=\"\",\"\",INDEX([1]DEV_INPUT_VOLTAGE!$A$2:$A$100,MATCH('DC Power Distribution (Desc)'!$M168,[1]!MASTER_DEV_INPUT_VOLTAGE_DESC[#Data],0),0))","v":""},{"$f":"IF('DC Power Distribution (Desc)'!N168=\"\",\"\",INDEX([1]DEV_OUTPUT_VOLTAGE!$A$2:$A$100,MATCH('DC Power Distribution (Desc)'!$N168,[1]!MASTER_DEV_INPUT_VOLTAGE_DESC[#Data],0),0))","v":""},{"$f":"IF('DC Power Distribution (Desc)'!O168=\"\",\"\",'DC Power Distribution (Desc)'!O168)","v":""},{"$f":"IF('DC Power Distribution (Desc)'!P168=\"\",\"\",'DC Power Distribution (Desc)'!P168)","v":""},{"$f":"IF('DC Power Distribution (Desc)'!Q168=\"\",\"\",'DC Power Distribution (Desc)'!Q168)","v":""},{"$f":"IF('DC Power Distribution (Desc)'!C168=\"\",\"\",\"NA\")","v":""}]
[{"$f":"IF('DC Power Distribution (Desc)'!A169=\"\",\"\",'DC Power Distribution (Desc)'!A169)","v":""},{"$f":"IF('DC Power Distribution (Desc)'!C169=\"\",\"\",2029)","v":""},{"$f":"IF('DC Power Distribution (Desc)'!C169=\"\",\"\",'DC Power Distribution (Desc)'!C169)","v":""},{"$f":"IF('DC Power Distribution (Desc)'!E169=\"\",\"\",'DC Power Distribution (Desc)'!E169)","v":""},{"$f":"IF('DC Power Distribution (Desc)'!F169=\"\",\"\",INDEX([1]ELECTRIC_DEV_MANUF!$A$2:$A$1500,MATCH(1,([1]ELECTRIC_DEV_MANUF!$B$2:$B$1500='DC Power Distribution (Desc)'!$F169)*([1]ELECTRIC_DEV_MANUF!$D$2:$D$1500=\"DCPWRDIS\"),0),0))","v":""},{"$f":"IF('DC Power Distribution (Desc)'!G169=\"\",\"\",INDEX([1]ELECTRIC_DEV_MODEL!$A$2:$A$1500,MATCH(1,([1]ELECTRIC_DEV_MODEL!$C$2:$C$1500='DC Power Distribution (Desc)'!$F169)*([1]ELECTRIC_DEV_MODEL!$D$2:$D$1500='DC Power Distribution (Desc)'!$G169)*([1]ELECTRIC_DEV_MODEL!$F$2:$F$1500=\"DCPWRDIS\"),0),0))","v":""},{"$f":"IF('DC Power Distribution (Desc)'!H169=\"\",\"\",'DC Power Distribution (Desc)'!H169)","v":""},{"$f":"IF('DC Power Distribution (Desc)'!I169=\"\",\"\",INDEX([1]YES_NO!$A$2:$A$100,MATCH('DC Power Distribution (Desc)'!$I169,[1]!MASTER_YES_NO_DESC[#Data],0),0))","v":""},{"$f":"IF('DC Power Distribution (Desc)'!J169=\"\",\"\",'DC Power Distribution (Desc)'!J169)","v":""},{"$f":"IF('DC Power Distribution (Desc)'!K169=\"\",\"\",'DC Power Distribution (Desc)'!K169)","v":""},{"$f":"IF('DC Power Distribution (Desc)'!L169=\"\",\"\",INDEX([1]YES_NO!$A$2:$A$100,MATCH('DC Power Distribution (Desc)'!$L169,[1]!MASTER_YES_NO_DESC[#Data],0),0))","v":""},{"$f":"IF('DC Power Distribution (Desc)'!M169=\"\",\"\",INDEX([1]DEV_INPUT_VOLTAGE!$A$2:$A$100,MATCH('DC Power Distribution (Desc)'!$M169,[1]!MASTER_DEV_INPUT_VOLTAGE_DESC[#Data],0),0))","v":""},{"$f":"IF('DC Power Distribution (Desc)'!N169=\"\",\"\",INDEX([1]DEV_OUTPUT_VOLTAGE!$A$2:$A$100,MATCH('DC Power Distribution (Desc)'!$N169,[1]!MASTER_DEV_INPUT_VOLTAGE_DESC[#Data],0),0))","v":""},{"$f":"IF('DC Power Distribution (Desc)'!O169=\"\",\"\",'DC Power Distribution (Desc)'!O169)","v":""},{"$f":"IF('DC Power Distribution (Desc)'!P169=\"\",\"\",'DC Power Distribution (Desc)'!P169)","v":""},{"$f":"IF('DC Power Distribution (Desc)'!Q169=\"\",\"\",'DC Power Distribution (Desc)'!Q169)","v":""},{"$f":"IF('DC Power Distribution (Desc)'!C169=\"\",\"\",\"NA\")","v":""}]
[{"$f":"IF('DC Power Distribution (Desc)'!A170=\"\",\"\",'DC Power Distribution (Desc)'!A170)","v":""},{"$f":"IF('DC Power Distribution (Desc)'!C170=\"\",\"\",2029)","v":""},{"$f":"IF('DC Power Distribution (Desc)'!C170=\"\",\"\",'DC Power Distribution (Desc)'!C170)","v":""},{"$f":"IF('DC Power Distribution (Desc)'!E170=\"\",\"\",'DC Power Distribution (Desc)'!E170)","v":""},{"$f":"IF('DC Power Distribution (Desc)'!F170=\"\",\"\",INDEX([1]ELECTRIC_DEV_MANUF!$A$2:$A$1500,MATCH(1,([1]ELECTRIC_DEV_MANUF!$B$2:$B$1500='DC Power Distribution (Desc)'!$F170)*([1]ELECTRIC_DEV_MANUF!$D$2:$D$1500=\"DCPWRDIS\"),0),0))","v":""},{"$f":"IF('DC Power Distribution (Desc)'!G170=\"\",\"\",INDEX([1]ELECTRIC_DEV_MODEL!$A$2:$A$1500,MATCH(1,([1]ELECTRIC_DEV_MODEL!$C$2:$C$1500='DC Power Distribution (Desc)'!$F170)*([1]ELECTRIC_DEV_MODEL!$D$2:$D$1500='DC Power Distribution (Desc)'!$G170)*([1]ELECTRIC_DEV_MODEL!$F$2:$F$1500=\"DCPWRDIS\"),0),0))","v":""},{"$f":"IF('DC Power Distribution (Desc)'!H170=\"\",\"\",'DC Power Distribution (Desc)'!H170)","v":""},{"$f":"IF('DC Power Distribution (Desc)'!I170=\"\",\"\",INDEX([1]YES_NO!$A$2:$A$100,MATCH('DC Power Distribution (Desc)'!$I170,[1]!MASTER_YES_NO_DESC[#Data],0),0))","v":""},{"$f":"IF('DC Power Distribution (Desc)'!J170=\"\",\"\",'DC Power Distribution (Desc)'!J170)","v":""},{"$f":"IF('DC Power Distribution (Desc)'!K170=\"\",\"\",'DC Power Distribution (Desc)'!K170)","v":""},{"$f":"IF('DC Power Distribution (Desc)'!L170=\"\",\"\",INDEX([1]YES_NO!$A$2:$A$100,MATCH('DC Power Distribution (Desc)'!$L170,[1]!MASTER_YES_NO_DESC[#Data],0),0))","v":""},{"$f":"IF('DC Power Distribution (Desc)'!M170=\"\",\"\",INDEX([1]DEV_INPUT_VOLTAGE!$A$2:$A$100,MATCH('DC Power Distribution (Desc)'!$M170,[1]!MASTER_DEV_INPUT_VOLTAGE_DESC[#Data],0),0))","v":""},{"$f":"IF('DC Power Distribution (Desc)'!N170=\"\",\"\",INDEX([1]DEV_OUTPUT_VOLTAGE!$A$2:$A$100,MATCH('DC Power Distribution (Desc)'!$N170,[1]!MASTER_DEV_INPUT_VOLTAGE_DESC[#Data],0),0))","v":""},{"$f":"IF('DC Power Distribution (Desc)'!O170=\"\",\"\",'DC Power Distribution (Desc)'!O170)","v":""},{"$f":"IF('DC Power Distribution (Desc)'!P170=\"\",\"\",'DC Power Distribution (Desc)'!P170)","v":""},{"$f":"IF('DC Power Distribution (Desc)'!Q170=\"\",\"\",'DC Power Distribution (Desc)'!Q170)","v":""},{"$f":"IF('DC Power Distribution (Desc)'!C170=\"\",\"\",\"NA\")","v":""}]
[{"$f":"IF('DC Power Distribution (Desc)'!A171=\"\",\"\",'DC Power Distribution (Desc)'!A171)","v":""},{"$f":"IF('DC Power Distribution (Desc)'!C171=\"\",\"\",2029)","v":""},{"$f":"IF('DC Power Distribution (Desc)'!C171=\"\",\"\",'DC Power Distribution (Desc)'!C171)","v":""},{"$f":"IF('DC Power Distribution (Desc)'!E171=\"\",\"\",'DC Power Distribution (Desc)'!E171)","v":""},{"$f":"IF('DC Power Distribution (Desc)'!F171=\"\",\"\",INDEX([1]ELECTRIC_DEV_MANUF!$A$2:$A$1500,MATCH(1,([1]ELECTRIC_DEV_MANUF!$B$2:$B$1500='DC Power Distribution (Desc)'!$F171)*([1]ELECTRIC_DEV_MANUF!$D$2:$D$1500=\"DCPWRDIS\"),0),0))","v":""},{"$f":"IF('DC Power Distribution (Desc)'!G171=\"\",\"\",INDEX([1]ELECTRIC_DEV_MODEL!$A$2:$A$1500,MATCH(1,([1]ELECTRIC_DEV_MODEL!$C$2:$C$1500='DC Power Distribution (Desc)'!$F171)*([1]ELECTRIC_DEV_MODEL!$D$2:$D$1500='DC Power Distribution (Desc)'!$G171)*([1]ELECTRIC_DEV_MODEL!$F$2:$F$1500=\"DCPWRDIS\"),0),0))","v":""},{"$f":"IF('DC Power Distribution (Desc)'!H171=\"\",\"\",'DC Power Distribution (Desc)'!H171)","v":""},{"$f":"IF('DC Power Distribution (Desc)'!I171=\"\",\"\",INDEX([1]YES_NO!$A$2:$A$100,MATCH('DC Power Distribution (Desc)'!$I171,[1]!MASTER_YES_NO_DESC[#Data],0),0))","v":""},{"$f":"IF('DC Power Distribution (Desc)'!J171=\"\",\"\",'DC Power Distribution (Desc)'!J171)","v":""},{"$f":"IF('DC Power Distribution (Desc)'!K171=\"\",\"\",'DC Power Distribution (Desc)'!K171)","v":""},{"$f":"IF('DC Power Distribution (Desc)'!L171=\"\",\"\",INDEX([1]YES_NO!$A$2:$A$100,MATCH('DC Power Distribution (Desc)'!$L171,[1]!MASTER_YES_NO_DESC[#Data],0),0))","v":""},{"$f":"IF('DC Power Distribution (Desc)'!M171=\"\",\"\",INDEX([1]DEV_INPUT_VOLTAGE!$A$2:$A$100,MATCH('DC Power Distribution (Desc)'!$M171,[1]!MASTER_DEV_INPUT_VOLTAGE_DESC[#Data],0),0))","v":""},{"$f":"IF('DC Power Distribution (Desc)'!N171=\"\",\"\",INDEX([1]DEV_OUTPUT_VOLTAGE!$A$2:$A$100,MATCH('DC Power Distribution (Desc)'!$N171,[1]!MASTER_DEV_INPUT_VOLTAGE_DESC[#Data],0),0))","v":""},{"$f":"IF('DC Power Distribution (Desc)'!O171=\"\",\"\",'DC Power Distribution (Desc)'!O171)","v":""},{"$f":"IF('DC Power Distribution (Desc)'!P171=\"\",\"\",'DC Power Distribution (Desc)'!P171)","v":""},{"$f":"IF('DC Power Distribution (Desc)'!Q171=\"\",\"\",'DC Power Distribution (Desc)'!Q171)","v":""},{"$f":"IF('DC Power Distribution (Desc)'!C171=\"\",\"\",\"NA\")","v":""}]
[{"$f":"IF('DC Power Distribution (Desc)'!A172=\"\",\"\",'DC Power Distribution (Desc)'!A172)","v":""},{"$f":"IF('DC Power Distribution (Desc)'!C172=\"\",\"\",2029)","v":""},{"$f":"IF('DC Power Distribution (Desc)'!C172=\"\",\"\",'DC Power Distribution (Desc)'!C172)","v":""},{"$f":"IF('DC Power Distribution (Desc)'!E172=\"\",\"\",'DC Power Distribution (Desc)'!E172)","v":""},{"$f":"IF('DC Power Distribution (Desc)'!F172=\"\",\"\",INDEX([1]ELECTRIC_DEV_MANUF!$A$2:$A$1500,MATCH(1,([1]ELECTRIC_DEV_MANUF!$B$2:$B$1500='DC Power Distribution (Desc)'!$F172)*([1]ELECTRIC_DEV_MANUF!$D$2:$D$1500=\"DCPWRDIS\"),0),0))","v":""},{"$f":"IF('DC Power Distribution (Desc)'!G172=\"\",\"\",INDEX([1]ELECTRIC_DEV_MODEL!$A$2:$A$1500,MATCH(1,([1]ELECTRIC_DEV_MODEL!$C$2:$C$1500='DC Power Distribution (Desc)'!$F172)*([1]ELECTRIC_DEV_MODEL!$D$2:$D$1500='DC Power Distribution (Desc)'!$G172)*([1]ELECTRIC_DEV_MODEL!$F$2:$F$1500=\"DCPWRDIS\"),0),0))","v":""},{"$f":"IF('DC Power Distribution (Desc)'!H172=\"\",\"\",'DC Power Distribution (Desc)'!H172)","v":""},{"$f":"IF('DC Power Distribution (Desc)'!I172=\"\",\"\",INDEX([1]YES_NO!$A$2:$A$100,MATCH('DC Power Distribution (Desc)'!$I172,[1]!MASTER_YES_NO_DESC[#Data],0),0))","v":""},{"$f":"IF('DC Power Distribution (Desc)'!J172=\"\",\"\",'DC Power Distribution (Desc)'!J172)","v":""},{"$f":"IF('DC Power Distribution (Desc)'!K172=\"\",\"\",'DC Power Distribution (Desc)'!K172)","v":""},{"$f":"IF('DC Power Distribution (Desc)'!L172=\"\",\"\",INDEX([1]YES_NO!$A$2:$A$100,MATCH('DC Power Distribution (Desc)'!$L172,[1]!MASTER_YES_NO_DESC[#Data],0),0))","v":""},{"$f":"IF('DC Power Distribution (Desc)'!M172=\"\",\"\",INDEX([1]DEV_INPUT_VOLTAGE!$A$2:$A$100,MATCH('DC Power Distribution (Desc)'!$M172,[1]!MASTER_DEV_INPUT_VOLTAGE_DESC[#Data],0),0))","v":""},{"$f":"IF('DC Power Distribution (Desc)'!N172=\"\",\"\",INDEX([1]DEV_OUTPUT_VOLTAGE!$A$2:$A$100,MATCH('DC Power Distribution (Desc)'!$N172,[1]!MASTER_DEV_INPUT_VOLTAGE_DESC[#Data],0),0))","v":""},{"$f":"IF('DC Power Distribution (Desc)'!O172=\"\",\"\",'DC Power Distribution (Desc)'!O172)","v":""},{"$f":"IF('DC Power Distribution (Desc)'!P172=\"\",\"\",'DC Power Distribution (Desc)'!P172)","v":""},{"$f":"IF('DC Power Distribution (Desc)'!Q172=\"\",\"\",'DC Power Distribution (Desc)'!Q172)","v":""},{"$f":"IF('DC Power Distribution (Desc)'!C172=\"\",\"\",\"NA\")","v":""}]
[{"$f":"IF('DC Power Distribution (Desc)'!A173=\"\",\"\",'DC Power Distribution (Desc)'!A173)","v":""},{"$f":"IF('DC Power Distribution (Desc)'!C173=\"\",\"\",2029)","v":""},{"$f":"IF('DC Power Distribution (Desc)'!C173=\"\",\"\",'DC Power Distribution (Desc)'!C173)","v":""},{"$f":"IF('DC Power Distribution (Desc)'!E173=\"\",\"\",'DC Power Distribution (Desc)'!E173)","v":""},{"$f":"IF('DC Power Distribution (Desc)'!F173=\"\",\"\",INDEX([1]ELECTRIC_DEV_MANUF!$A$2:$A$1500,MATCH(1,([1]ELECTRIC_DEV_MANUF!$B$2:$B$1500='DC Power Distribution (Desc)'!$F173)*([1]ELECTRIC_DEV_MANUF!$D$2:$D$1500=\"DCPWRDIS\"),0),0))","v":""},{"$f":"IF('DC Power Distribution (Desc)'!G173=\"\",\"\",INDEX([1]ELECTRIC_DEV_MODEL!$A$2:$A$1500,MATCH(1,([1]ELECTRIC_DEV_MODEL!$C$2:$C$1500='DC Power Distribution (Desc)'!$F173)*([1]ELECTRIC_DEV_MODEL!$D$2:$D$1500='DC Power Distribution (Desc)'!$G173)*([1]ELECTRIC_DEV_MODEL!$F$2:$F$1500=\"DCPWRDIS\"),0),0))","v":""},{"$f":"IF('DC Power Distribution (Desc)'!H173=\"\",\"\",'DC Power Distribution (Desc)'!H173)","v":""},{"$f":"IF('DC Power Distribution (Desc)'!I173=\"\",\"\",INDEX([1]YES_NO!$A$2:$A$100,MATCH('DC Power Distribution (Desc)'!$I173,[1]!MASTER_YES_NO_DESC[#Data],0),0))","v":""},{"$f":"IF('DC Power Distribution (Desc)'!J173=\"\",\"\",'DC Power Distribution (Desc)'!J173)","v":""},{"$f":"IF('DC Power Distribution (Desc)'!K173=\"\",\"\",'DC Power Distribution (Desc)'!K173)","v":""},{"$f":"IF('DC Power Distribution (Desc)'!L173=\"\",\"\",INDEX([1]YES_NO!$A$2:$A$100,MATCH('DC Power Distribution (Desc)'!$L173,[1]!MASTER_YES_NO_DESC[#Data],0),0))","v":""},{"$f":"IF('DC Power Distribution (Desc)'!M173=\"\",\"\",INDEX([1]DEV_INPUT_VOLTAGE!$A$2:$A$100,MATCH('DC Power Distribution (Desc)'!$M173,[1]!MASTER_DEV_INPUT_VOLTAGE_DESC[#Data],0),0))","v":""},{"$f":"IF('DC Power Distribution (Desc)'!N173=\"\",\"\",INDEX([1]DEV_OUTPUT_VOLTAGE!$A$2:$A$100,MATCH('DC Power Distribution (Desc)'!$N173,[1]!MASTER_DEV_INPUT_VOLTAGE_DESC[#Data],0),0))","v":""},{"$f":"IF('DC Power Distribution (Desc)'!O173=\"\",\"\",'DC Power Distribution (Desc)'!O173)","v":""},{"$f":"IF('DC Power Distribution (Desc)'!P173=\"\",\"\",'DC Power Distribution (Desc)'!P173)","v":""},{"$f":"IF('DC Power Distribution (Desc)'!Q173=\"\",\"\",'DC Power Distribution (Desc)'!Q173)","v":""},{"$f":"IF('DC Power Distribution (Desc)'!C173=\"\",\"\",\"NA\")","v":""}]
[{"$f":"IF('DC Power Distribution (Desc)'!A174=\"\",\"\",'DC Power Distribution (Desc)'!A174)","v":""},{"$f":"IF('DC Power Distribution (Desc)'!C174=\"\",\"\",2029)","v":""},{"$f":"IF('DC Power Distribution (Desc)'!C174=\"\",\"\",'DC Power Distribution (Desc)'!C174)","v":""},{"$f":"IF('DC Power Distribution (Desc)'!E174=\"\",\"\",'DC Power Distribution (Desc)'!E174)","v":""},{"$f":"IF('DC Power Distribution (Desc)'!F174=\"\",\"\",INDEX([1]ELECTRIC_DEV_MANUF!$A$2:$A$1500,MATCH(1,([1]ELECTRIC_DEV_MANUF!$B$2:$B$1500='DC Power Distribution (Desc)'!$F174)*([1]ELECTRIC_DEV_MANUF!$D$2:$D$1500=\"DCPWRDIS\"),0),0))","v":""},{"$f":"IF('DC Power Distribution (Desc)'!G174=\"\",\"\",INDEX([1]ELECTRIC_DEV_MODEL!$A$2:$A$1500,MATCH(1,([1]ELECTRIC_DEV_MODEL!$C$2:$C$1500='DC Power Distribution (Desc)'!$F174)*([1]ELECTRIC_DEV_MODEL!$D$2:$D$1500='DC Power Distribution (Desc)'!$G174)*([1]ELECTRIC_DEV_MODEL!$F$2:$F$1500=\"DCPWRDIS\"),0),0))","v":""},{"$f":"IF('DC Power Distribution (Desc)'!H174=\"\",\"\",'DC Power Distribution (Desc)'!H174)","v":""},{"$f":"IF('DC Power Distribution (Desc)'!I174=\"\",\"\",INDEX([1]YES_NO!$A$2:$A$100,MATCH('DC Power Distribution (Desc)'!$I174,[1]!MASTER_YES_NO_DESC[#Data],0),0))","v":""},{"$f":"IF('DC Power Distribution (Desc)'!J174=\"\",\"\",'DC Power Distribution (Desc)'!J174)","v":""},{"$f":"IF('DC Power Distribution (Desc)'!K174=\"\",\"\",'DC Power Distribution (Desc)'!K174)","v":""},{"$f":"IF('DC Power Distribution (Desc)'!L174=\"\",\"\",INDEX([1]YES_NO!$A$2:$A$100,MATCH('DC Power Distribution (Desc)'!$L174,[1]!MASTER_YES_NO_DESC[#Data],0),0))","v":""},{"$f":"IF('DC Power Distribution (Desc)'!M174=\"\",\"\",INDEX([1]DEV_INPUT_VOLTAGE!$A$2:$A$100,MATCH('DC Power Distribution (Desc)'!$M174,[1]!MASTER_DEV_INPUT_VOLTAGE_DESC[#Data],0),0))","v":""},{"$f":"IF('DC Power Distribution (Desc)'!N174=\"\",\"\",INDEX([1]DEV_OUTPUT_VOLTAGE!$A$2:$A$100,MATCH('DC Power Distribution (Desc)'!$N174,[1]!MASTER_DEV_INPUT_VOLTAGE_DESC[#Data],0),0))","v":""},{"$f":"IF('DC Power Distribution (Desc)'!O174=\"\",\"\",'DC Power Distribution (Desc)'!O174)","v":""},{"$f":"IF('DC Power Distribution (Desc)'!P174=\"\",\"\",'DC Power Distribution (Desc)'!P174)","v":""},{"$f":"IF('DC Power Distribution (Desc)'!Q174=\"\",\"\",'DC Power Distribution (Desc)'!Q174)","v":""},{"$f":"IF('DC Power Distribution (Desc)'!C174=\"\",\"\",\"NA\")","v":""}]
[{"$f":"IF('DC Power Distribution (Desc)'!A175=\"\",\"\",'DC Power Distribution (Desc)'!A175)","v":""},{"$f":"IF('DC Power Distribution (Desc)'!C175=\"\",\"\",2029)","v":""},{"$f":"IF('DC Power Distribution (Desc)'!C175=\"\",\"\",'DC Power Distribution (Desc)'!C175)","v":""},{"$f":"IF('DC Power Distribution (Desc)'!E175=\"\",\"\",'DC Power Distribution (Desc)'!E175)","v":""},{"$f":"IF('DC Power Distribution (Desc)'!F175=\"\",\"\",INDEX([1]ELECTRIC_DEV_MANUF!$A$2:$A$1500,MATCH(1,([1]ELECTRIC_DEV_MANUF!$B$2:$B$1500='DC Power Distribution (Desc)'!$F175)*([1]ELECTRIC_DEV_MANUF!$D$2:$D$1500=\"DCPWRDIS\"),0),0))","v":""},{"$f":"IF('DC Power Distribution (Desc)'!G175=\"\",\"\",INDEX([1]ELECTRIC_DEV_MODEL!$A$2:$A$1500,MATCH(1,([1]ELECTRIC_DEV_MODEL!$C$2:$C$1500='DC Power Distribution (Desc)'!$F175)*([1]ELECTRIC_DEV_MODEL!$D$2:$D$1500='DC Power Distribution (Desc)'!$G175)*([1]ELECTRIC_DEV_MODEL!$F$2:$F$1500=\"DCPWRDIS\"),0),0))","v":""},{"$f":"IF('DC Power Distribution (Desc)'!H175=\"\",\"\",'DC Power Distribution (Desc)'!H175)","v":""},{"$f":"IF('DC Power Distribution (Desc)'!I175=\"\",\"\",INDEX([1]YES_NO!$A$2:$A$100,MATCH('DC Power Distribution (Desc)'!$I175,[1]!MASTER_YES_NO_DESC[#Data],0),0))","v":""},{"$f":"IF('DC Power Distribution (Desc)'!J175=\"\",\"\",'DC Power Distribution (Desc)'!J175)","v":""},{"$f":"IF('DC Power Distribution (Desc)'!K175=\"\",\"\",'DC Power Distribution (Desc)'!K175)","v":""},{"$f":"IF('DC Power Distribution (Desc)'!L175=\"\",\"\",INDEX([1]YES_NO!$A$2:$A$100,MATCH('DC Power Distribution (Desc)'!$L175,[1]!MASTER_YES_NO_DESC[#Data],0),0))","v":""},{"$f":"IF('DC Power Distribution (Desc)'!M175=\"\",\"\",INDEX([1]DEV_INPUT_VOLTAGE!$A$2:$A$100,MATCH('DC Power Distribution (Desc)'!$M175,[1]!MASTER_DEV_INPUT_VOLTAGE_DESC[#Data],0),0))","v":""},{"$f":"IF('DC Power Distribution (Desc)'!N175=\"\",\"\",INDEX([1]DEV_OUTPUT_VOLTAGE!$A$2:$A$100,MATCH('DC Power Distribution (Desc)'!$N175,[1]!MASTER_DEV_INPUT_VOLTAGE_DESC[#Data],0),0))","v":""},{"$f":"IF('DC Power Distribution (Desc)'!O175=\"\",\"\",'DC Power Distribution (Desc)'!O175)","v":""},{"$f":"IF('DC Power Distribution (Desc)'!P175=\"\",\"\",'DC Power Distribution (Desc)'!P175)","v":""},{"$f":"IF('DC Power Distribution (Desc)'!Q175=\"\",\"\",'DC Power Distribution (Desc)'!Q175)","v":""},{"$f":"IF('DC Power Distribution (Desc)'!C175=\"\",\"\",\"NA\")","v":""}]
[{"$f":"IF('DC Power Distribution (Desc)'!A176=\"\",\"\",'DC Power Distribution (Desc)'!A176)","v":""},{"$f":"IF('DC Power Distribution (Desc)'!C176=\"\",\"\",2029)","v":""},{"$f":"IF('DC Power Distribution (Desc)'!C176=\"\",\"\",'DC Power Distribution (Desc)'!C176)","v":""},{"$f":"IF('DC Power Distribution (Desc)'!E176=\"\",\"\",'DC Power Distribution (Desc)'!E176)","v":""},{"$f":"IF('DC Power Distribution (Desc)'!F176=\"\",\"\",INDEX([1]ELECTRIC_DEV_MANUF!$A$2:$A$1500,MATCH(1,([1]ELECTRIC_DEV_MANUF!$B$2:$B$1500='DC Power Distribution (Desc)'!$F176)*([1]ELECTRIC_DEV_MANUF!$D$2:$D$1500=\"DCPWRDIS\"),0),0))","v":""},{"$f":"IF('DC Power Distribution (Desc)'!G176=\"\",\"\",INDEX([1]ELECTRIC_DEV_MODEL!$A$2:$A$1500,MATCH(1,([1]ELECTRIC_DEV_MODEL!$C$2:$C$1500='DC Power Distribution (Desc)'!$F176)*([1]ELECTRIC_DEV_MODEL!$D$2:$D$1500='DC Power Distribution (Desc)'!$G176)*([1]ELECTRIC_DEV_MODEL!$F$2:$F$1500=\"DCPWRDIS\"),0),0))","v":""},{"$f":"IF('DC Power Distribution (Desc)'!H176=\"\",\"\",'DC Power Distribution (Desc)'!H176)","v":""},{"$f":"IF('DC Power Distribution (Desc)'!I176=\"\",\"\",INDEX([1]YES_NO!$A$2:$A$100,MATCH('DC Power Distribution (Desc)'!$I176,[1]!MASTER_YES_NO_DESC[#Data],0),0))","v":""},{"$f":"IF('DC Power Distribution (Desc)'!J176=\"\",\"\",'DC Power Distribution (Desc)'!J176)","v":""},{"$f":"IF('DC Power Distribution (Desc)'!K176=\"\",\"\",'DC Power Distribution (Desc)'!K176)","v":""},{"$f":"IF('DC Power Distribution (Desc)'!L176=\"\",\"\",INDEX([1]YES_NO!$A$2:$A$100,MATCH('DC Power Distribution (Desc)'!$L176,[1]!MASTER_YES_NO_DESC[#Data],0),0))","v":""},{"$f":"IF('DC Power Distribution (Desc)'!M176=\"\",\"\",INDEX([1]DEV_INPUT_VOLTAGE!$A$2:$A$100,MATCH('DC Power Distribution (Desc)'!$M176,[1]!MASTER_DEV_INPUT_VOLTAGE_DESC[#Data],0),0))","v":""},{"$f":"IF('DC Power Distribution (Desc)'!N176=\"\",\"\",INDEX([1]DEV_OUTPUT_VOLTAGE!$A$2:$A$100,MATCH('DC Power Distribution (Desc)'!$N176,[1]!MASTER_DEV_INPUT_VOLTAGE_DESC[#Data],0),0))","v":""},{"$f":"IF('DC Power Distribution (Desc)'!O176=\"\",\"\",'DC Power Distribution (Desc)'!O176)","v":""},{"$f":"IF('DC Power Distribution (Desc)'!P176=\"\",\"\",'DC Power Distribution (Desc)'!P176)","v":""},{"$f":"IF('DC Power Distribution (Desc)'!Q176=\"\",\"\",'DC Power Distribution (Desc)'!Q176)","v":""},{"$f":"IF('DC Power Distribution (Desc)'!C176=\"\",\"\",\"NA\")","v":""}]
[{"$f":"IF('DC Power Distribution (Desc)'!A177=\"\",\"\",'DC Power Distribution (Desc)'!A177)","v":""},{"$f":"IF('DC Power Distribution (Desc)'!C177=\"\",\"\",2029)","v":""},{"$f":"IF('DC Power Distribution (Desc)'!C177=\"\",\"\",'DC Power Distribution (Desc)'!C177)","v":""},{"$f":"IF('DC Power Distribution (Desc)'!E177=\"\",\"\",'DC Power Distribution (Desc)'!E177)","v":""},{"$f":"IF('DC Power Distribution (Desc)'!F177=\"\",\"\",INDEX([1]ELECTRIC_DEV_MANUF!$A$2:$A$1500,MATCH(1,([1]ELECTRIC_DEV_MANUF!$B$2:$B$1500='DC Power Distribution (Desc)'!$F177)*([1]ELECTRIC_DEV_MANUF!$D$2:$D$1500=\"DCPWRDIS\"),0),0))","v":""},{"$f":"IF('DC Power Distribution (Desc)'!G177=\"\",\"\",INDEX([1]ELECTRIC_DEV_MODEL!$A$2:$A$1500,MATCH(1,([1]ELECTRIC_DEV_MODEL!$C$2:$C$1500='DC Power Distribution (Desc)'!$F177)*([1]ELECTRIC_DEV_MODEL!$D$2:$D$1500='DC Power Distribution (Desc)'!$G177)*([1]ELECTRIC_DEV_MODEL!$F$2:$F$1500=\"DCPWRDIS\"),0),0))","v":""},{"$f":"IF('DC Power Distribution (Desc)'!H177=\"\",\"\",'DC Power Distribution (Desc)'!H177)","v":""},{"$f":"IF('DC Power Distribution (Desc)'!I177=\"\",\"\",INDEX([1]YES_NO!$A$2:$A$100,MATCH('DC Power Distribution (Desc)'!$I177,[1]!MASTER_YES_NO_DESC[#Data],0),0))","v":""},{"$f":"IF('DC Power Distribution (Desc)'!J177=\"\",\"\",'DC Power Distribution (Desc)'!J177)","v":""},{"$f":"IF('DC Power Distribution (Desc)'!K177=\"\",\"\",'DC Power Distribution (Desc)'!K177)","v":""},{"$f":"IF('DC Power Distribution (Desc)'!L177=\"\",\"\",INDEX([1]YES_NO!$A$2:$A$100,MATCH('DC Power Distribution (Desc)'!$L177,[1]!MASTER_YES_NO_DESC[#Data],0),0))","v":""},{"$f":"IF('DC Power Distribution (Desc)'!M177=\"\",\"\",INDEX([1]DEV_INPUT_VOLTAGE!$A$2:$A$100,MATCH('DC Power Distribution (Desc)'!$M177,[1]!MASTER_DEV_INPUT_VOLTAGE_DESC[#Data],0),0))","v":""},{"$f":"IF('DC Power Distribution (Desc)'!N177=\"\",\"\",INDEX([1]DEV_OUTPUT_VOLTAGE!$A$2:$A$100,MATCH('DC Power Distribution (Desc)'!$N177,[1]!MASTER_DEV_INPUT_VOLTAGE_DESC[#Data],0),0))","v":""},{"$f":"IF('DC Power Distribution (Desc)'!O177=\"\",\"\",'DC Power Distribution (Desc)'!O177)","v":""},{"$f":"IF('DC Power Distribution (Desc)'!P177=\"\",\"\",'DC Power Distribution (Desc)'!P177)","v":""},{"$f":"IF('DC Power Distribution (Desc)'!Q177=\"\",\"\",'DC Power Distribution (Desc)'!Q177)","v":""},{"$f":"IF('DC Power Distribution (Desc)'!C177=\"\",\"\",\"NA\")","v":""}]
[{"$f":"IF('DC Power Distribution (Desc)'!A178=\"\",\"\",'DC Power Distribution (Desc)'!A178)","v":""},{"$f":"IF('DC Power Distribution (Desc)'!C178=\"\",\"\",2029)","v":""},{"$f":"IF('DC Power Distribution (Desc)'!C178=\"\",\"\",'DC Power Distribution (Desc)'!C178)","v":""},{"$f":"IF('DC Power Distribution (Desc)'!E178=\"\",\"\",'DC Power Distribution (Desc)'!E178)","v":""},{"$f":"IF('DC Power Distribution (Desc)'!F178=\"\",\"\",INDEX([1]ELECTRIC_DEV_MANUF!$A$2:$A$1500,MATCH(1,([1]ELECTRIC_DEV_MANUF!$B$2:$B$1500='DC Power Distribution (Desc)'!$F178)*([1]ELECTRIC_DEV_MANUF!$D$2:$D$1500=\"DCPWRDIS\"),0),0))","v":""},{"$f":"IF('DC Power Distribution (Desc)'!G178=\"\",\"\",INDEX([1]ELECTRIC_DEV_MODEL!$A$2:$A$1500,MATCH(1,([1]ELECTRIC_DEV_MODEL!$C$2:$C$1500='DC Power Distribution (Desc)'!$F178)*([1]ELECTRIC_DEV_MODEL!$D$2:$D$1500='DC Power Distribution (Desc)'!$G178)*([1]ELECTRIC_DEV_MODEL!$F$2:$F$1500=\"DCPWRDIS\"),0),0))","v":""},{"$f":"IF('DC Power Distribution (Desc)'!H178=\"\",\"\",'DC Power Distribution (Desc)'!H178)","v":""},{"$f":"IF('DC Power Distribution (Desc)'!I178=\"\",\"\",INDEX([1]YES_NO!$A$2:$A$100,MATCH('DC Power Distribution (Desc)'!$I178,[1]!MASTER_YES_NO_DESC[#Data],0),0))","v":""},{"$f":"IF('DC Power Distribution (Desc)'!J178=\"\",\"\",'DC Power Distribution (Desc)'!J178)","v":""},{"$f":"IF('DC Power Distribution (Desc)'!K178=\"\",\"\",'DC Power Distribution (Desc)'!K178)","v":""},{"$f":"IF('DC Power Distribution (Desc)'!L178=\"\",\"\",INDEX([1]YES_NO!$A$2:$A$100,MATCH('DC Power Distribution (Desc)'!$L178,[1]!MASTER_YES_NO_DESC[#Data],0),0))","v":""},{"$f":"IF('DC Power Distribution (Desc)'!M178=\"\",\"\",INDEX([1]DEV_INPUT_VOLTAGE!$A$2:$A$100,MATCH('DC Power Distribution (Desc)'!$M178,[1]!MASTER_DEV_INPUT_VOLTAGE_DESC[#Data],0),0))","v":""},{"$f":"IF('DC Power Distribution (Desc)'!N178=\"\",\"\",INDEX([1]DEV_OUTPUT_VOLTAGE!$A$2:$A$100,MATCH('DC Power Distribution (Desc)'!$N178,[1]!MASTER_DEV_INPUT_VOLTAGE_DESC[#Data],0),0))","v":""},{"$f":"IF('DC Power Distribution (Desc)'!O178=\"\",\"\",'DC Power Distribution (Desc)'!O178)","v":""},{"$f":"IF('DC Power Distribution (Desc)'!P178=\"\",\"\",'DC Power Distribution (Desc)'!P178)","v":""},{"$f":"IF('DC Power Distribution (Desc)'!Q178=\"\",\"\",'DC Power Distribution (Desc)'!Q178)","v":""},{"$f":"IF('DC Power Distribution (Desc)'!C178=\"\",\"\",\"NA\")","v":""}]
[{"$f":"IF('DC Power Distribution (Desc)'!A179=\"\",\"\",'DC Power Distribution (Desc)'!A179)","v":""},{"$f":"IF('DC Power Distribution (Desc)'!C179=\"\",\"\",2029)","v":""},{"$f":"IF('DC Power Distribution (Desc)'!C179=\"\",\"\",'DC Power Distribution (Desc)'!C179)","v":""},{"$f":"IF('DC Power Distribution (Desc)'!E179=\"\",\"\",'DC Power Distribution (Desc)'!E179)","v":""},{"$f":"IF('DC Power Distribution (Desc)'!F179=\"\",\"\",INDEX([1]ELECTRIC_DEV_MANUF!$A$2:$A$1500,MATCH(1,([1]ELECTRIC_DEV_MANUF!$B$2:$B$1500='DC Power Distribution (Desc)'!$F179)*([1]ELECTRIC_DEV_MANUF!$D$2:$D$1500=\"DCPWRDIS\"),0),0))","v":""},{"$f":"IF('DC Power Distribution (Desc)'!G179=\"\",\"\",INDEX([1]ELECTRIC_DEV_MODEL!$A$2:$A$1500,MATCH(1,([1]ELECTRIC_DEV_MODEL!$C$2:$C$1500='DC Power Distribution (Desc)'!$F179)*([1]ELECTRIC_DEV_MODEL!$D$2:$D$1500='DC Power Distribution (Desc)'!$G179)*([1]ELECTRIC_DEV_MODEL!$F$2:$F$1500=\"DCPWRDIS\"),0),0))","v":""},{"$f":"IF('DC Power Distribution (Desc)'!H179=\"\",\"\",'DC Power Distribution (Desc)'!H179)","v":""},{"$f":"IF('DC Power Distribution (Desc)'!I179=\"\",\"\",INDEX([1]YES_NO!$A$2:$A$100,MATCH('DC Power Distribution (Desc)'!$I179,[1]!MASTER_YES_NO_DESC[#Data],0),0))","v":""},{"$f":"IF('DC Power Distribution (Desc)'!J179=\"\",\"\",'DC Power Distribution (Desc)'!J179)","v":""},{"$f":"IF('DC Power Distribution (Desc)'!K179=\"\",\"\",'DC Power Distribution (Desc)'!K179)","v":""},{"$f":"IF('DC Power Distribution (Desc)'!L179=\"\",\"\",INDEX([1]YES_NO!$A$2:$A$100,MATCH('DC Power Distribution (Desc)'!$L179,[1]!MASTER_YES_NO_DESC[#Data],0),0))","v":""},{"$f":"IF('DC Power Distribution (Desc)'!M179=\"\",\"\",INDEX([1]DEV_INPUT_VOLTAGE!$A$2:$A$100,MATCH('DC Power Distribution (Desc)'!$M179,[1]!MASTER_DEV_INPUT_VOLTAGE_DESC[#Data],0),0))","v":""},{"$f":"IF('DC Power Distribution (Desc)'!N179=\"\",\"\",INDEX([1]DEV_OUTPUT_VOLTAGE!$A$2:$A$100,MATCH('DC Power Distribution (Desc)'!$N179,[1]!MASTER_DEV_INPUT_VOLTAGE_DESC[#Data],0),0))","v":""},{"$f":"IF('DC Power Distribution (Desc)'!O179=\"\",\"\",'DC Power Distribution (Desc)'!O179)","v":""},{"$f":"IF('DC Power Distribution (Desc)'!P179=\"\",\"\",'DC Power Distribution (Desc)'!P179)","v":""},{"$f":"IF('DC Power Distribution (Desc)'!Q179=\"\",\"\",'DC Power Distribution (Desc)'!Q179)","v":""},{"$f":"IF('DC Power Distribution (Desc)'!C179=\"\",\"\",\"NA\")","v":""}]
[{"$f":"IF('DC Power Distribution (Desc)'!A180=\"\",\"\",'DC Power Distribution (Desc)'!A180)","v":""},{"$f":"IF('DC Power Distribution (Desc)'!C180=\"\",\"\",2029)","v":""},{"$f":"IF('DC Power Distribution (Desc)'!C180=\"\",\"\",'DC Power Distribution (Desc)'!C180)","v":""},{"$f":"IF('DC Power Distribution (Desc)'!E180=\"\",\"\",'DC Power Distribution (Desc)'!E180)","v":""},{"$f":"IF('DC Power Distribution (Desc)'!F180=\"\",\"\",INDEX([1]ELECTRIC_DEV_MANUF!$A$2:$A$1500,MATCH(1,([1]ELECTRIC_DEV_MANUF!$B$2:$B$1500='DC Power Distribution (Desc)'!$F180)*([1]ELECTRIC_DEV_MANUF!$D$2:$D$1500=\"DCPWRDIS\"),0),0))","v":""},{"$f":"IF('DC Power Distribution (Desc)'!G180=\"\",\"\",INDEX([1]ELECTRIC_DEV_MODEL!$A$2:$A$1500,MATCH(1,([1]ELECTRIC_DEV_MODEL!$C$2:$C$1500='DC Power Distribution (Desc)'!$F180)*([1]ELECTRIC_DEV_MODEL!$D$2:$D$1500='DC Power Distribution (Desc)'!$G180)*([1]ELECTRIC_DEV_MODEL!$F$2:$F$1500=\"DCPWRDIS\"),0),0))","v":""},{"$f":"IF('DC Power Distribution (Desc)'!H180=\"\",\"\",'DC Power Distribution (Desc)'!H180)","v":""},{"$f":"IF('DC Power Distribution (Desc)'!I180=\"\",\"\",INDEX([1]YES_NO!$A$2:$A$100,MATCH('DC Power Distribution (Desc)'!$I180,[1]!MASTER_YES_NO_DESC[#Data],0),0))","v":""},{"$f":"IF('DC Power Distribution (Desc)'!J180=\"\",\"\",'DC Power Distribution (Desc)'!J180)","v":""},{"$f":"IF('DC Power Distribution (Desc)'!K180=\"\",\"\",'DC Power Distribution (Desc)'!K180)","v":""},{"$f":"IF('DC Power Distribution (Desc)'!L180=\"\",\"\",INDEX([1]YES_NO!$A$2:$A$100,MATCH('DC Power Distribution (Desc)'!$L180,[1]!MASTER_YES_NO_DESC[#Data],0),0))","v":""},{"$f":"IF('DC Power Distribution (Desc)'!M180=\"\",\"\",INDEX([1]DEV_INPUT_VOLTAGE!$A$2:$A$100,MATCH('DC Power Distribution (Desc)'!$M180,[1]!MASTER_DEV_INPUT_VOLTAGE_DESC[#Data],0),0))","v":""},{"$f":"IF('DC Power Distribution (Desc)'!N180=\"\",\"\",INDEX([1]DEV_OUTPUT_VOLTAGE!$A$2:$A$100,MATCH('DC Power Distribution (Desc)'!$N180,[1]!MASTER_DEV_INPUT_VOLTAGE_DESC[#Data],0),0))","v":""},{"$f":"IF('DC Power Distribution (Desc)'!O180=\"\",\"\",'DC Power Distribution (Desc)'!O180)","v":""},{"$f":"IF('DC Power Distribution (Desc)'!P180=\"\",\"\",'DC Power Distribution (Desc)'!P180)","v":""},{"$f":"IF('DC Power Distribution (Desc)'!Q180=\"\",\"\",'DC Power Distribution (Desc)'!Q180)","v":""},{"$f":"IF('DC Power Distribution (Desc)'!C180=\"\",\"\",\"NA\")","v":""}]
[{"$f":"IF('DC Power Distribution (Desc)'!A181=\"\",\"\",'DC Power Distribution (Desc)'!A181)","v":""},{"$f":"IF('DC Power Distribution (Desc)'!C181=\"\",\"\",2029)","v":""},{"$f":"IF('DC Power Distribution (Desc)'!C181=\"\",\"\",'DC Power Distribution (Desc)'!C181)","v":""},{"$f":"IF('DC Power Distribution (Desc)'!E181=\"\",\"\",'DC Power Distribution (Desc)'!E181)","v":""},{"$f":"IF('DC Power Distribution (Desc)'!F181=\"\",\"\",INDEX([1]ELECTRIC_DEV_MANUF!$A$2:$A$1500,MATCH(1,([1]ELECTRIC_DEV_MANUF!$B$2:$B$1500='DC Power Distribution (Desc)'!$F181)*([1]ELECTRIC_DEV_MANUF!$D$2:$D$1500=\"DCPWRDIS\"),0),0))","v":""},{"$f":"IF('DC Power Distribution (Desc)'!G181=\"\",\"\",INDEX([1]ELECTRIC_DEV_MODEL!$A$2:$A$1500,MATCH(1,([1]ELECTRIC_DEV_MODEL!$C$2:$C$1500='DC Power Distribution (Desc)'!$F181)*([1]ELECTRIC_DEV_MODEL!$D$2:$D$1500='DC Power Distribution (Desc)'!$G181)*([1]ELECTRIC_DEV_MODEL!$F$2:$F$1500=\"DCPWRDIS\"),0),0))","v":""},{"$f":"IF('DC Power Distribution (Desc)'!H181=\"\",\"\",'DC Power Distribution (Desc)'!H181)","v":""},{"$f":"IF('DC Power Distribution (Desc)'!I181=\"\",\"\",INDEX([1]YES_NO!$A$2:$A$100,MATCH('DC Power Distribution (Desc)'!$I181,[1]!MASTER_YES_NO_DESC[#Data],0),0))","v":""},{"$f":"IF('DC Power Distribution (Desc)'!J181=\"\",\"\",'DC Power Distribution (Desc)'!J181)","v":""},{"$f":"IF('DC Power Distribution (Desc)'!K181=\"\",\"\",'DC Power Distribution (Desc)'!K181)","v":""},{"$f":"IF('DC Power Distribution (Desc)'!L181=\"\",\"\",INDEX([1]YES_NO!$A$2:$A$100,MATCH('DC Power Distribution (Desc)'!$L181,[1]!MASTER_YES_NO_DESC[#Data],0),0))","v":""},{"$f":"IF('DC Power Distribution (Desc)'!M181=\"\",\"\",INDEX([1]DEV_INPUT_VOLTAGE!$A$2:$A$100,MATCH('DC Power Distribution (Desc)'!$M181,[1]!MASTER_DEV_INPUT_VOLTAGE_DESC[#Data],0),0))","v":""},{"$f":"IF('DC Power Distribution (Desc)'!N181=\"\",\"\",INDEX([1]DEV_OUTPUT_VOLTAGE!$A$2:$A$100,MATCH('DC Power Distribution (Desc)'!$N181,[1]!MASTER_DEV_INPUT_VOLTAGE_DESC[#Data],0),0))","v":""},{"$f":"IF('DC Power Distribution (Desc)'!O181=\"\",\"\",'DC Power Distribution (Desc)'!O181)","v":""},{"$f":"IF('DC Power Distribution (Desc)'!P181=\"\",\"\",'DC Power Distribution (Desc)'!P181)","v":""},{"$f":"IF('DC Power Distribution (Desc)'!Q181=\"\",\"\",'DC Power Distribution (Desc)'!Q181)","v":""},{"$f":"IF('DC Power Distribution (Desc)'!C181=\"\",\"\",\"NA\")","v":""}]
[{"$f":"IF('DC Power Distribution (Desc)'!A182=\"\",\"\",'DC Power Distribution (Desc)'!A182)","v":""},{"$f":"IF('DC Power Distribution (Desc)'!C182=\"\",\"\",2029)","v":""},{"$f":"IF('DC Power Distribution (Desc)'!C182=\"\",\"\",'DC Power Distribution (Desc)'!C182)","v":""},{"$f":"IF('DC Power Distribution (Desc)'!E182=\"\",\"\",'DC Power Distribution (Desc)'!E182)","v":""},{"$f":"IF('DC Power Distribution (Desc)'!F182=\"\",\"\",INDEX([1]ELECTRIC_DEV_MANUF!$A$2:$A$1500,MATCH(1,([1]ELECTRIC_DEV_MANUF!$B$2:$B$1500='DC Power Distribution (Desc)'!$F182)*([1]ELECTRIC_DEV_MANUF!$D$2:$D$1500=\"DCPWRDIS\"),0),0))","v":""},{"$f":"IF('DC Power Distribution (Desc)'!G182=\"\",\"\",INDEX([1]ELECTRIC_DEV_MODEL!$A$2:$A$1500,MATCH(1,([1]ELECTRIC_DEV_MODEL!$C$2:$C$1500='DC Power Distribution (Desc)'!$F182)*([1]ELECTRIC_DEV_MODEL!$D$2:$D$1500='DC Power Distribution (Desc)'!$G182)*([1]ELECTRIC_DEV_MODEL!$F$2:$F$1500=\"DCPWRDIS\"),0),0))","v":""},{"$f":"IF('DC Power Distribution (Desc)'!H182=\"\",\"\",'DC Power Distribution (Desc)'!H182)","v":""},{"$f":"IF('DC Power Distribution (Desc)'!I182=\"\",\"\",INDEX([1]YES_NO!$A$2:$A$100,MATCH('DC Power Distribution (Desc)'!$I182,[1]!MASTER_YES_NO_DESC[#Data],0),0))","v":""},{"$f":"IF('DC Power Distribution (Desc)'!J182=\"\",\"\",'DC Power Distribution (Desc)'!J182)","v":""},{"$f":"IF('DC Power Distribution (Desc)'!K182=\"\",\"\",'DC Power Distribution (Desc)'!K182)","v":""},{"$f":"IF('DC Power Distribution (Desc)'!L182=\"\",\"\",INDEX([1]YES_NO!$A$2:$A$100,MATCH('DC Power Distribution (Desc)'!$L182,[1]!MASTER_YES_NO_DESC[#Data],0),0))","v":""},{"$f":"IF('DC Power Distribution (Desc)'!M182=\"\",\"\",INDEX([1]DEV_INPUT_VOLTAGE!$A$2:$A$100,MATCH('DC Power Distribution (Desc)'!$M182,[1]!MASTER_DEV_INPUT_VOLTAGE_DESC[#Data],0),0))","v":""},{"$f":"IF('DC Power Distribution (Desc)'!N182=\"\",\"\",INDEX([1]DEV_OUTPUT_VOLTAGE!$A$2:$A$100,MATCH('DC Power Distribution (Desc)'!$N182,[1]!MASTER_DEV_INPUT_VOLTAGE_DESC[#Data],0),0))","v":""},{"$f":"IF('DC Power Distribution (Desc)'!O182=\"\",\"\",'DC Power Distribution (Desc)'!O182)","v":""},{"$f":"IF('DC Power Distribution (Desc)'!P182=\"\",\"\",'DC Power Distribution (Desc)'!P182)","v":""},{"$f":"IF('DC Power Distribution (Desc)'!Q182=\"\",\"\",'DC Power Distribution (Desc)'!Q182)","v":""},{"$f":"IF('DC Power Distribution (Desc)'!C182=\"\",\"\",\"NA\")","v":""}]
[{"$f":"IF('DC Power Distribution (Desc)'!A183=\"\",\"\",'DC Power Distribution (Desc)'!A183)","v":""},{"$f":"IF('DC Power Distribution (Desc)'!C183=\"\",\"\",2029)","v":""},{"$f":"IF('DC Power Distribution (Desc)'!C183=\"\",\"\",'DC Power Distribution (Desc)'!C183)","v":""},{"$f":"IF('DC Power Distribution (Desc)'!E183=\"\",\"\",'DC Power Distribution (Desc)'!E183)","v":""},{"$f":"IF('DC Power Distribution (Desc)'!F183=\"\",\"\",INDEX([1]ELECTRIC_DEV_MANUF!$A$2:$A$1500,MATCH(1,([1]ELECTRIC_DEV_MANUF!$B$2:$B$1500='DC Power Distribution (Desc)'!$F183)*([1]ELECTRIC_DEV_MANUF!$D$2:$D$1500=\"DCPWRDIS\"),0),0))","v":""},{"$f":"IF('DC Power Distribution (Desc)'!G183=\"\",\"\",INDEX([1]ELECTRIC_DEV_MODEL!$A$2:$A$1500,MATCH(1,([1]ELECTRIC_DEV_MODEL!$C$2:$C$1500='DC Power Distribution (Desc)'!$F183)*([1]ELECTRIC_DEV_MODEL!$D$2:$D$1500='DC Power Distribution (Desc)'!$G183)*([1]ELECTRIC_DEV_MODEL!$F$2:$F$1500=\"DCPWRDIS\"),0),0))","v":""},{"$f":"IF('DC Power Distribution (Desc)'!H183=\"\",\"\",'DC Power Distribution (Desc)'!H183)","v":""},{"$f":"IF('DC Power Distribution (Desc)'!I183=\"\",\"\",INDEX([1]YES_NO!$A$2:$A$100,MATCH('DC Power Distribution (Desc)'!$I183,[1]!MASTER_YES_NO_DESC[#Data],0),0))","v":""},{"$f":"IF('DC Power Distribution (Desc)'!J183=\"\",\"\",'DC Power Distribution (Desc)'!J183)","v":""},{"$f":"IF('DC Power Distribution (Desc)'!K183=\"\",\"\",'DC Power Distribution (Desc)'!K183)","v":""},{"$f":"IF('DC Power Distribution (Desc)'!L183=\"\",\"\",INDEX([1]YES_NO!$A$2:$A$100,MATCH('DC Power Distribution (Desc)'!$L183,[1]!MASTER_YES_NO_DESC[#Data],0),0))","v":""},{"$f":"IF('DC Power Distribution (Desc)'!M183=\"\",\"\",INDEX([1]DEV_INPUT_VOLTAGE!$A$2:$A$100,MATCH('DC Power Distribution (Desc)'!$M183,[1]!MASTER_DEV_INPUT_VOLTAGE_DESC[#Data],0),0))","v":""},{"$f":"IF('DC Power Distribution (Desc)'!N183=\"\",\"\",INDEX([1]DEV_OUTPUT_VOLTAGE!$A$2:$A$100,MATCH('DC Power Distribution (Desc)'!$N183,[1]!MASTER_DEV_INPUT_VOLTAGE_DESC[#Data],0),0))","v":""},{"$f":"IF('DC Power Distribution (Desc)'!O183=\"\",\"\",'DC Power Distribution (Desc)'!O183)","v":""},{"$f":"IF('DC Power Distribution (Desc)'!P183=\"\",\"\",'DC Power Distribution (Desc)'!P183)","v":""},{"$f":"IF('DC Power Distribution (Desc)'!Q183=\"\",\"\",'DC Power Distribution (Desc)'!Q183)","v":""},{"$f":"IF('DC Power Distribution (Desc)'!C183=\"\",\"\",\"NA\")","v":""}]
[{"$f":"IF('DC Power Distribution (Desc)'!A184=\"\",\"\",'DC Power Distribution (Desc)'!A184)","v":""},{"$f":"IF('DC Power Distribution (Desc)'!C184=\"\",\"\",2029)","v":""},{"$f":"IF('DC Power Distribution (Desc)'!C184=\"\",\"\",'DC Power Distribution (Desc)'!C184)","v":""},{"$f":"IF('DC Power Distribution (Desc)'!E184=\"\",\"\",'DC Power Distribution (Desc)'!E184)","v":""},{"$f":"IF('DC Power Distribution (Desc)'!F184=\"\",\"\",INDEX([1]ELECTRIC_DEV_MANUF!$A$2:$A$1500,MATCH(1,([1]ELECTRIC_DEV_MANUF!$B$2:$B$1500='DC Power Distribution (Desc)'!$F184)*([1]ELECTRIC_DEV_MANUF!$D$2:$D$1500=\"DCPWRDIS\"),0),0))","v":""},{"$f":"IF('DC Power Distribution (Desc)'!G184=\"\",\"\",INDEX([1]ELECTRIC_DEV_MODEL!$A$2:$A$1500,MATCH(1,([1]ELECTRIC_DEV_MODEL!$C$2:$C$1500='DC Power Distribution (Desc)'!$F184)*([1]ELECTRIC_DEV_MODEL!$D$2:$D$1500='DC Power Distribution (Desc)'!$G184)*([1]ELECTRIC_DEV_MODEL!$F$2:$F$1500=\"DCPWRDIS\"),0),0))","v":""},{"$f":"IF('DC Power Distribution (Desc)'!H184=\"\",\"\",'DC Power Distribution (Desc)'!H184)","v":""},{"$f":"IF('DC Power Distribution (Desc)'!I184=\"\",\"\",INDEX([1]YES_NO!$A$2:$A$100,MATCH('DC Power Distribution (Desc)'!$I184,[1]!MASTER_YES_NO_DESC[#Data],0),0))","v":""},{"$f":"IF('DC Power Distribution (Desc)'!J184=\"\",\"\",'DC Power Distribution (Desc)'!J184)","v":""},{"$f":"IF('DC Power Distribution (Desc)'!K184=\"\",\"\",'DC Power Distribution (Desc)'!K184)","v":""},{"$f":"IF('DC Power Distribution (Desc)'!L184=\"\",\"\",INDEX([1]YES_NO!$A$2:$A$100,MATCH('DC Power Distribution (Desc)'!$L184,[1]!MASTER_YES_NO_DESC[#Data],0),0))","v":""},{"$f":"IF('DC Power Distribution (Desc)'!M184=\"\",\"\",INDEX([1]DEV_INPUT_VOLTAGE!$A$2:$A$100,MATCH('DC Power Distribution (Desc)'!$M184,[1]!MASTER_DEV_INPUT_VOLTAGE_DESC[#Data],0),0))","v":""},{"$f":"IF('DC Power Distribution (Desc)'!N184=\"\",\"\",INDEX([1]DEV_OUTPUT_VOLTAGE!$A$2:$A$100,MATCH('DC Power Distribution (Desc)'!$N184,[1]!MASTER_DEV_INPUT_VOLTAGE_DESC[#Data],0),0))","v":""},{"$f":"IF('DC Power Distribution (Desc)'!O184=\"\",\"\",'DC Power Distribution (Desc)'!O184)","v":""},{"$f":"IF('DC Power Distribution (Desc)'!P184=\"\",\"\",'DC Power Distribution (Desc)'!P184)","v":""},{"$f":"IF('DC Power Distribution (Desc)'!Q184=\"\",\"\",'DC Power Distribution (Desc)'!Q184)","v":""},{"$f":"IF('DC Power Distribution (Desc)'!C184=\"\",\"\",\"NA\")","v":""}]
[{"$f":"IF('DC Power Distribution (Desc)'!A185=\"\",\"\",'DC Power Distribution (Desc)'!A185)","v":""},{"$f":"IF('DC Power Distribution (Desc)'!C185=\"\",\"\",2029)","v":""},{"$f":"IF('DC Power Distribution (Desc)'!C185=\"\",\"\",'DC Power Distribution (Desc)'!C185)","v":""},{"$f":"IF('DC Power Distribution (Desc)'!E185=\"\",\"\",'DC Power Distribution (Desc)'!E185)","v":""},{"$f":"IF('DC Power Distribution (Desc)'!F185=\"\",\"\",INDEX([1]ELECTRIC_DEV_MANUF!$A$2:$A$1500,MATCH(1,([1]ELECTRIC_DEV_MANUF!$B$2:$B$1500='DC Power Distribution (Desc)'!$F185)*([1]ELECTRIC_DEV_MANUF!$D$2:$D$1500=\"DCPWRDIS\"),0),0))","v":""},{"$f":"IF('DC Power Distribution (Desc)'!G185=\"\",\"\",INDEX([1]ELECTRIC_DEV_MODEL!$A$2:$A$1500,MATCH(1,([1]ELECTRIC_DEV_MODEL!$C$2:$C$1500='DC Power Distribution (Desc)'!$F185)*([1]ELECTRIC_DEV_MODEL!$D$2:$D$1500='DC Power Distribution (Desc)'!$G185)*([1]ELECTRIC_DEV_MODEL!$F$2:$F$1500=\"DCPWRDIS\"),0),0))","v":""},{"$f":"IF('DC Power Distribution (Desc)'!H185=\"\",\"\",'DC Power Distribution (Desc)'!H185)","v":""},{"$f":"IF('DC Power Distribution (Desc)'!I185=\"\",\"\",INDEX([1]YES_NO!$A$2:$A$100,MATCH('DC Power Distribution (Desc)'!$I185,[1]!MASTER_YES_NO_DESC[#Data],0),0))","v":""},{"$f":"IF('DC Power Distribution (Desc)'!J185=\"\",\"\",'DC Power Distribution (Desc)'!J185)","v":""},{"$f":"IF('DC Power Distribution (Desc)'!K185=\"\",\"\",'DC Power Distribution (Desc)'!K185)","v":""},{"$f":"IF('DC Power Distribution (Desc)'!L185=\"\",\"\",INDEX([1]YES_NO!$A$2:$A$100,MATCH('DC Power Distribution (Desc)'!$L185,[1]!MASTER_YES_NO_DESC[#Data],0),0))","v":""},{"$f":"IF('DC Power Distribution (Desc)'!M185=\"\",\"\",INDEX([1]DEV_INPUT_VOLTAGE!$A$2:$A$100,MATCH('DC Power Distribution (Desc)'!$M185,[1]!MASTER_DEV_INPUT_VOLTAGE_DESC[#Data],0),0))","v":""},{"$f":"IF('DC Power Distribution (Desc)'!N185=\"\",\"\",INDEX([1]DEV_OUTPUT_VOLTAGE!$A$2:$A$100,MATCH('DC Power Distribution (Desc)'!$N185,[1]!MASTER_DEV_INPUT_VOLTAGE_DESC[#Data],0),0))","v":""},{"$f":"IF('DC Power Distribution (Desc)'!O185=\"\",\"\",'DC Power Distribution (Desc)'!O185)","v":""},{"$f":"IF('DC Power Distribution (Desc)'!P185=\"\",\"\",'DC Power Distribution (Desc)'!P185)","v":""},{"$f":"IF('DC Power Distribution (Desc)'!Q185=\"\",\"\",'DC Power Distribution (Desc)'!Q185)","v":""},{"$f":"IF('DC Power Distribution (Desc)'!C185=\"\",\"\",\"NA\")","v":""}]
[{"$f":"IF('DC Power Distribution (Desc)'!A186=\"\",\"\",'DC Power Distribution (Desc)'!A186)","v":""},{"$f":"IF('DC Power Distribution (Desc)'!C186=\"\",\"\",2029)","v":""},{"$f":"IF('DC Power Distribution (Desc)'!C186=\"\",\"\",'DC Power Distribution (Desc)'!C186)","v":""},{"$f":"IF('DC Power Distribution (Desc)'!E186=\"\",\"\",'DC Power Distribution (Desc)'!E186)","v":""},{"$f":"IF('DC Power Distribution (Desc)'!F186=\"\",\"\",INDEX([1]ELECTRIC_DEV_MANUF!$A$2:$A$1500,MATCH(1,([1]ELECTRIC_DEV_MANUF!$B$2:$B$1500='DC Power Distribution (Desc)'!$F186)*([1]ELECTRIC_DEV_MANUF!$D$2:$D$1500=\"DCPWRDIS\"),0),0))","v":""},{"$f":"IF('DC Power Distribution (Desc)'!G186=\"\",\"\",INDEX([1]ELECTRIC_DEV_MODEL!$A$2:$A$1500,MATCH(1,([1]ELECTRIC_DEV_MODEL!$C$2:$C$1500='DC Power Distribution (Desc)'!$F186)*([1]ELECTRIC_DEV_MODEL!$D$2:$D$1500='DC Power Distribution (Desc)'!$G186)*([1]ELECTRIC_DEV_MODEL!$F$2:$F$1500=\"DCPWRDIS\"),0),0))","v":""},{"$f":"IF('DC Power Distribution (Desc)'!H186=\"\",\"\",'DC Power Distribution (Desc)'!H186)","v":""},{"$f":"IF('DC Power Distribution (Desc)'!I186=\"\",\"\",INDEX([1]YES_NO!$A$2:$A$100,MATCH('DC Power Distribution (Desc)'!$I186,[1]!MASTER_YES_NO_DESC[#Data],0),0))","v":""},{"$f":"IF('DC Power Distribution (Desc)'!J186=\"\",\"\",'DC Power Distribution (Desc)'!J186)","v":""},{"$f":"IF('DC Power Distribution (Desc)'!K186=\"\",\"\",'DC Power Distribution (Desc)'!K186)","v":""},{"$f":"IF('DC Power Distribution (Desc)'!L186=\"\",\"\",INDEX([1]YES_NO!$A$2:$A$100,MATCH('DC Power Distribution (Desc)'!$L186,[1]!MASTER_YES_NO_DESC[#Data],0),0))","v":""},{"$f":"IF('DC Power Distribution (Desc)'!M186=\"\",\"\",INDEX([1]DEV_INPUT_VOLTAGE!$A$2:$A$100,MATCH('DC Power Distribution (Desc)'!$M186,[1]!MASTER_DEV_INPUT_VOLTAGE_DESC[#Data],0),0))","v":""},{"$f":"IF('DC Power Distribution (Desc)'!N186=\"\",\"\",INDEX([1]DEV_OUTPUT_VOLTAGE!$A$2:$A$100,MATCH('DC Power Distribution (Desc)'!$N186,[1]!MASTER_DEV_INPUT_VOLTAGE_DESC[#Data],0),0))","v":""},{"$f":"IF('DC Power Distribution (Desc)'!O186=\"\",\"\",'DC Power Distribution (Desc)'!O186)","v":""},{"$f":"IF('DC Power Distribution (Desc)'!P186=\"\",\"\",'DC Power Distribution (Desc)'!P186)","v":""},{"$f":"IF('DC Power Distribution (Desc)'!Q186=\"\",\"\",'DC Power Distribution (Desc)'!Q186)","v":""},{"$f":"IF('DC Power Distribution (Desc)'!C186=\"\",\"\",\"NA\")","v":""}]
[{"$f":"IF('DC Power Distribution (Desc)'!A187=\"\",\"\",'DC Power Distribution (Desc)'!A187)","v":""},{"$f":"IF('DC Power Distribution (Desc)'!C187=\"\",\"\",2029)","v":""},{"$f":"IF('DC Power Distribution (Desc)'!C187=\"\",\"\",'DC Power Distribution (Desc)'!C187)","v":""},{"$f":"IF('DC Power Distribution (Desc)'!E187=\"\",\"\",'DC Power Distribution (Desc)'!E187)","v":""},{"$f":"IF('DC Power Distribution (Desc)'!F187=\"\",\"\",INDEX([1]ELECTRIC_DEV_MANUF!$A$2:$A$1500,MATCH(1,([1]ELECTRIC_DEV_MANUF!$B$2:$B$1500='DC Power Distribution (Desc)'!$F187)*([1]ELECTRIC_DEV_MANUF!$D$2:$D$1500=\"DCPWRDIS\"),0),0))","v":""},{"$f":"IF('DC Power Distribution (Desc)'!G187=\"\",\"\",INDEX([1]ELECTRIC_DEV_MODEL!$A$2:$A$1500,MATCH(1,([1]ELECTRIC_DEV_MODEL!$C$2:$C$1500='DC Power Distribution (Desc)'!$F187)*([1]ELECTRIC_DEV_MODEL!$D$2:$D$1500='DC Power Distribution (Desc)'!$G187)*([1]ELECTRIC_DEV_MODEL!$F$2:$F$1500=\"DCPWRDIS\"),0),0))","v":""},{"$f":"IF('DC Power Distribution (Desc)'!H187=\"\",\"\",'DC Power Distribution (Desc)'!H187)","v":""},{"$f":"IF('DC Power Distribution (Desc)'!I187=\"\",\"\",INDEX([1]YES_NO!$A$2:$A$100,MATCH('DC Power Distribution (Desc)'!$I187,[1]!MASTER_YES_NO_DESC[#Data],0),0))","v":""},{"$f":"IF('DC Power Distribution (Desc)'!J187=\"\",\"\",'DC Power Distribution (Desc)'!J187)","v":""},{"$f":"IF('DC Power Distribution (Desc)'!K187=\"\",\"\",'DC Power Distribution (Desc)'!K187)","v":""},{"$f":"IF('DC Power Distribution (Desc)'!L187=\"\",\"\",INDEX([1]YES_NO!$A$2:$A$100,MATCH('DC Power Distribution (Desc)'!$L187,[1]!MASTER_YES_NO_DESC[#Data],0),0))","v":""},{"$f":"IF('DC Power Distribution (Desc)'!M187=\"\",\"\",INDEX([1]DEV_INPUT_VOLTAGE!$A$2:$A$100,MATCH('DC Power Distribution (Desc)'!$M187,[1]!MASTER_DEV_INPUT_VOLTAGE_DESC[#Data],0),0))","v":""},{"$f":"IF('DC Power Distribution (Desc)'!N187=\"\",\"\",INDEX([1]DEV_OUTPUT_VOLTAGE!$A$2:$A$100,MATCH('DC Power Distribution (Desc)'!$N187,[1]!MASTER_DEV_INPUT_VOLTAGE_DESC[#Data],0),0))","v":""},{"$f":"IF('DC Power Distribution (Desc)'!O187=\"\",\"\",'DC Power Distribution (Desc)'!O187)","v":""},{"$f":"IF('DC Power Distribution (Desc)'!P187=\"\",\"\",'DC Power Distribution (Desc)'!P187)","v":""},{"$f":"IF('DC Power Distribution (Desc)'!Q187=\"\",\"\",'DC Power Distribution (Desc)'!Q187)","v":""},{"$f":"IF('DC Power Distribution (Desc)'!C187=\"\",\"\",\"NA\")","v":""}]
[{"$f":"IF('DC Power Distribution (Desc)'!A188=\"\",\"\",'DC Power Distribution (Desc)'!A188)","v":""},{"$f":"IF('DC Power Distribution (Desc)'!C188=\"\",\"\",2029)","v":""},{"$f":"IF('DC Power Distribution (Desc)'!C188=\"\",\"\",'DC Power Distribution (Desc)'!C188)","v":""},{"$f":"IF('DC Power Distribution (Desc)'!E188=\"\",\"\",'DC Power Distribution (Desc)'!E188)","v":""},{"$f":"IF('DC Power Distribution (Desc)'!F188=\"\",\"\",INDEX([1]ELECTRIC_DEV_MANUF!$A$2:$A$1500,MATCH(1,([1]ELECTRIC_DEV_MANUF!$B$2:$B$1500='DC Power Distribution (Desc)'!$F188)*([1]ELECTRIC_DEV_MANUF!$D$2:$D$1500=\"DCPWRDIS\"),0),0))","v":""},{"$f":"IF('DC Power Distribution (Desc)'!G188=\"\",\"\",INDEX([1]ELECTRIC_DEV_MODEL!$A$2:$A$1500,MATCH(1,([1]ELECTRIC_DEV_MODEL!$C$2:$C$1500='DC Power Distribution (Desc)'!$F188)*([1]ELECTRIC_DEV_MODEL!$D$2:$D$1500='DC Power Distribution (Desc)'!$G188)*([1]ELECTRIC_DEV_MODEL!$F$2:$F$1500=\"DCPWRDIS\"),0),0))","v":""},{"$f":"IF('DC Power Distribution (Desc)'!H188=\"\",\"\",'DC Power Distribution (Desc)'!H188)","v":""},{"$f":"IF('DC Power Distribution (Desc)'!I188=\"\",\"\",INDEX([1]YES_NO!$A$2:$A$100,MATCH('DC Power Distribution (Desc)'!$I188,[1]!MASTER_YES_NO_DESC[#Data],0),0))","v":""},{"$f":"IF('DC Power Distribution (Desc)'!J188=\"\",\"\",'DC Power Distribution (Desc)'!J188)","v":""},{"$f":"IF('DC Power Distribution (Desc)'!K188=\"\",\"\",'DC Power Distribution (Desc)'!K188)","v":""},{"$f":"IF('DC Power Distribution (Desc)'!L188=\"\",\"\",INDEX([1]YES_NO!$A$2:$A$100,MATCH('DC Power Distribution (Desc)'!$L188,[1]!MASTER_YES_NO_DESC[#Data],0),0))","v":""},{"$f":"IF('DC Power Distribution (Desc)'!M188=\"\",\"\",INDEX([1]DEV_INPUT_VOLTAGE!$A$2:$A$100,MATCH('DC Power Distribution (Desc)'!$M188,[1]!MASTER_DEV_INPUT_VOLTAGE_DESC[#Data],0),0))","v":""},{"$f":"IF('DC Power Distribution (Desc)'!N188=\"\",\"\",INDEX([1]DEV_OUTPUT_VOLTAGE!$A$2:$A$100,MATCH('DC Power Distribution (Desc)'!$N188,[1]!MASTER_DEV_INPUT_VOLTAGE_DESC[#Data],0),0))","v":""},{"$f":"IF('DC Power Distribution (Desc)'!O188=\"\",\"\",'DC Power Distribution (Desc)'!O188)","v":""},{"$f":"IF('DC Power Distribution (Desc)'!P188=\"\",\"\",'DC Power Distribution (Desc)'!P188)","v":""},{"$f":"IF('DC Power Distribution (Desc)'!Q188=\"\",\"\",'DC Power Distribution (Desc)'!Q188)","v":""},{"$f":"IF('DC Power Distribution (Desc)'!C188=\"\",\"\",\"NA\")","v":""}]
[{"$f":"IF('DC Power Distribution (Desc)'!A189=\"\",\"\",'DC Power Distribution (Desc)'!A189)","v":""},{"$f":"IF('DC Power Distribution (Desc)'!C189=\"\",\"\",2029)","v":""},{"$f":"IF('DC Power Distribution (Desc)'!C189=\"\",\"\",'DC Power Distribution (Desc)'!C189)","v":""},{"$f":"IF('DC Power Distribution (Desc)'!E189=\"\",\"\",'DC Power Distribution (Desc)'!E189)","v":""},{"$f":"IF('DC Power Distribution (Desc)'!F189=\"\",\"\",INDEX([1]ELECTRIC_DEV_MANUF!$A$2:$A$1500,MATCH(1,([1]ELECTRIC_DEV_MANUF!$B$2:$B$1500='DC Power Distribution (Desc)'!$F189)*([1]ELECTRIC_DEV_MANUF!$D$2:$D$1500=\"DCPWRDIS\"),0),0))","v":""},{"$f":"IF('DC Power Distribution (Desc)'!G189=\"\",\"\",INDEX([1]ELECTRIC_DEV_MODEL!$A$2:$A$1500,MATCH(1,([1]ELECTRIC_DEV_MODEL!$C$2:$C$1500='DC Power Distribution (Desc)'!$F189)*([1]ELECTRIC_DEV_MODEL!$D$2:$D$1500='DC Power Distribution (Desc)'!$G189)*([1]ELECTRIC_DEV_MODEL!$F$2:$F$1500=\"DCPWRDIS\"),0),0))","v":""},{"$f":"IF('DC Power Distribution (Desc)'!H189=\"\",\"\",'DC Power Distribution (Desc)'!H189)","v":""},{"$f":"IF('DC Power Distribution (Desc)'!I189=\"\",\"\",INDEX([1]YES_NO!$A$2:$A$100,MATCH('DC Power Distribution (Desc)'!$I189,[1]!MASTER_YES_NO_DESC[#Data],0),0))","v":""},{"$f":"IF('DC Power Distribution (Desc)'!J189=\"\",\"\",'DC Power Distribution (Desc)'!J189)","v":""},{"$f":"IF('DC Power Distribution (Desc)'!K189=\"\",\"\",'DC Power Distribution (Desc)'!K189)","v":""},{"$f":"IF('DC Power Distribution (Desc)'!L189=\"\",\"\",INDEX([1]YES_NO!$A$2:$A$100,MATCH('DC Power Distribution (Desc)'!$L189,[1]!MASTER_YES_NO_DESC[#Data],0),0))","v":""},{"$f":"IF('DC Power Distribution (Desc)'!M189=\"\",\"\",INDEX([1]DEV_INPUT_VOLTAGE!$A$2:$A$100,MATCH('DC Power Distribution (Desc)'!$M189,[1]!MASTER_DEV_INPUT_VOLTAGE_DESC[#Data],0),0))","v":""},{"$f":"IF('DC Power Distribution (Desc)'!N189=\"\",\"\",INDEX([1]DEV_OUTPUT_VOLTAGE!$A$2:$A$100,MATCH('DC Power Distribution (Desc)'!$N189,[1]!MASTER_DEV_INPUT_VOLTAGE_DESC[#Data],0),0))","v":""},{"$f":"IF('DC Power Distribution (Desc)'!O189=\"\",\"\",'DC Power Distribution (Desc)'!O189)","v":""},{"$f":"IF('DC Power Distribution (Desc)'!P189=\"\",\"\",'DC Power Distribution (Desc)'!P189)","v":""},{"$f":"IF('DC Power Distribution (Desc)'!Q189=\"\",\"\",'DC Power Distribution (Desc)'!Q189)","v":""},{"$f":"IF('DC Power Distribution (Desc)'!C189=\"\",\"\",\"NA\")","v":""}]
[{"$f":"IF('DC Power Distribution (Desc)'!A190=\"\",\"\",'DC Power Distribution (Desc)'!A190)","v":""},{"$f":"IF('DC Power Distribution (Desc)'!C190=\"\",\"\",2029)","v":""},{"$f":"IF('DC Power Distribution (Desc)'!C190=\"\",\"\",'DC Power Distribution (Desc)'!C190)","v":""},{"$f":"IF('DC Power Distribution (Desc)'!E190=\"\",\"\",'DC Power Distribution (Desc)'!E190)","v":""},{"$f":"IF('DC Power Distribution (Desc)'!F190=\"\",\"\",INDEX([1]ELECTRIC_DEV_MANUF!$A$2:$A$1500,MATCH(1,([1]ELECTRIC_DEV_MANUF!$B$2:$B$1500='DC Power Distribution (Desc)'!$F190)*([1]ELECTRIC_DEV_MANUF!$D$2:$D$1500=\"DCPWRDIS\"),0),0))","v":""},{"$f":"IF('DC Power Distribution (Desc)'!G190=\"\",\"\",INDEX([1]ELECTRIC_DEV_MODEL!$A$2:$A$1500,MATCH(1,([1]ELECTRIC_DEV_MODEL!$C$2:$C$1500='DC Power Distribution (Desc)'!$F190)*([1]ELECTRIC_DEV_MODEL!$D$2:$D$1500='DC Power Distribution (Desc)'!$G190)*([1]ELECTRIC_DEV_MODEL!$F$2:$F$1500=\"DCPWRDIS\"),0),0))","v":""},{"$f":"IF('DC Power Distribution (Desc)'!H190=\"\",\"\",'DC Power Distribution (Desc)'!H190)","v":""},{"$f":"IF('DC Power Distribution (Desc)'!I190=\"\",\"\",INDEX([1]YES_NO!$A$2:$A$100,MATCH('DC Power Distribution (Desc)'!$I190,[1]!MASTER_YES_NO_DESC[#Data],0),0))","v":""},{"$f":"IF('DC Power Distribution (Desc)'!J190=\"\",\"\",'DC Power Distribution (Desc)'!J190)","v":""},{"$f":"IF('DC Power Distribution (Desc)'!K190=\"\",\"\",'DC Power Distribution (Desc)'!K190)","v":""},{"$f":"IF('DC Power Distribution (Desc)'!L190=\"\",\"\",INDEX([1]YES_NO!$A$2:$A$100,MATCH('DC Power Distribution (Desc)'!$L190,[1]!MASTER_YES_NO_DESC[#Data],0),0))","v":""},{"$f":"IF('DC Power Distribution (Desc)'!M190=\"\",\"\",INDEX([1]DEV_INPUT_VOLTAGE!$A$2:$A$100,MATCH('DC Power Distribution (Desc)'!$M190,[1]!MASTER_DEV_INPUT_VOLTAGE_DESC[#Data],0),0))","v":""},{"$f":"IF('DC Power Distribution (Desc)'!N190=\"\",\"\",INDEX([1]DEV_OUTPUT_VOLTAGE!$A$2:$A$100,MATCH('DC Power Distribution (Desc)'!$N190,[1]!MASTER_DEV_INPUT_VOLTAGE_DESC[#Data],0),0))","v":""},{"$f":"IF('DC Power Distribution (Desc)'!O190=\"\",\"\",'DC Power Distribution (Desc)'!O190)","v":""},{"$f":"IF('DC Power Distribution (Desc)'!P190=\"\",\"\",'DC Power Distribution (Desc)'!P190)","v":""},{"$f":"IF('DC Power Distribution (Desc)'!Q190=\"\",\"\",'DC Power Distribution (Desc)'!Q190)","v":""},{"$f":"IF('DC Power Distribution (Desc)'!C190=\"\",\"\",\"NA\")","v":""}]
[{"$f":"IF('DC Power Distribution (Desc)'!A191=\"\",\"\",'DC Power Distribution (Desc)'!A191)","v":""},{"$f":"IF('DC Power Distribution (Desc)'!C191=\"\",\"\",2029)","v":""},{"$f":"IF('DC Power Distribution (Desc)'!C191=\"\",\"\",'DC Power Distribution (Desc)'!C191)","v":""},{"$f":"IF('DC Power Distribution (Desc)'!E191=\"\",\"\",'DC Power Distribution (Desc)'!E191)","v":""},{"$f":"IF('DC Power Distribution (Desc)'!F191=\"\",\"\",INDEX([1]ELECTRIC_DEV_MANUF!$A$2:$A$1500,MATCH(1,([1]ELECTRIC_DEV_MANUF!$B$2:$B$1500='DC Power Distribution (Desc)'!$F191)*([1]ELECTRIC_DEV_MANUF!$D$2:$D$1500=\"DCPWRDIS\"),0),0))","v":""},{"$f":"IF('DC Power Distribution (Desc)'!G191=\"\",\"\",INDEX([1]ELECTRIC_DEV_MODEL!$A$2:$A$1500,MATCH(1,([1]ELECTRIC_DEV_MODEL!$C$2:$C$1500='DC Power Distribution (Desc)'!$F191)*([1]ELECTRIC_DEV_MODEL!$D$2:$D$1500='DC Power Distribution (Desc)'!$G191)*([1]ELECTRIC_DEV_MODEL!$F$2:$F$1500=\"DCPWRDIS\"),0),0))","v":""},{"$f":"IF('DC Power Distribution (Desc)'!H191=\"\",\"\",'DC Power Distribution (Desc)'!H191)","v":""},{"$f":"IF('DC Power Distribution (Desc)'!I191=\"\",\"\",INDEX([1]YES_NO!$A$2:$A$100,MATCH('DC Power Distribution (Desc)'!$I191,[1]!MASTER_YES_NO_DESC[#Data],0),0))","v":""},{"$f":"IF('DC Power Distribution (Desc)'!J191=\"\",\"\",'DC Power Distribution (Desc)'!J191)","v":""},{"$f":"IF('DC Power Distribution (Desc)'!K191=\"\",\"\",'DC Power Distribution (Desc)'!K191)","v":""},{"$f":"IF('DC Power Distribution (Desc)'!L191=\"\",\"\",INDEX([1]YES_NO!$A$2:$A$100,MATCH('DC Power Distribution (Desc)'!$L191,[1]!MASTER_YES_NO_DESC[#Data],0),0))","v":""},{"$f":"IF('DC Power Distribution (Desc)'!M191=\"\",\"\",INDEX([1]DEV_INPUT_VOLTAGE!$A$2:$A$100,MATCH('DC Power Distribution (Desc)'!$M191,[1]!MASTER_DEV_INPUT_VOLTAGE_DESC[#Data],0),0))","v":""},{"$f":"IF('DC Power Distribution (Desc)'!N191=\"\",\"\",INDEX([1]DEV_OUTPUT_VOLTAGE!$A$2:$A$100,MATCH('DC Power Distribution (Desc)'!$N191,[1]!MASTER_DEV_INPUT_VOLTAGE_DESC[#Data],0),0))","v":""},{"$f":"IF('DC Power Distribution (Desc)'!O191=\"\",\"\",'DC Power Distribution (Desc)'!O191)","v":""},{"$f":"IF('DC Power Distribution (Desc)'!P191=\"\",\"\",'DC Power Distribution (Desc)'!P191)","v":""},{"$f":"IF('DC Power Distribution (Desc)'!Q191=\"\",\"\",'DC Power Distribution (Desc)'!Q191)","v":""},{"$f":"IF('DC Power Distribution (Desc)'!C191=\"\",\"\",\"NA\")","v":""}]
[{"$f":"IF('DC Power Distribution (Desc)'!A192=\"\",\"\",'DC Power Distribution (Desc)'!A192)","v":""},{"$f":"IF('DC Power Distribution (Desc)'!C192=\"\",\"\",2029)","v":""},{"$f":"IF('DC Power Distribution (Desc)'!C192=\"\",\"\",'DC Power Distribution (Desc)'!C192)","v":""},{"$f":"IF('DC Power Distribution (Desc)'!E192=\"\",\"\",'DC Power Distribution (Desc)'!E192)","v":""},{"$f":"IF('DC Power Distribution (Desc)'!F192=\"\",\"\",INDEX([1]ELECTRIC_DEV_MANUF!$A$2:$A$1500,MATCH(1,([1]ELECTRIC_DEV_MANUF!$B$2:$B$1500='DC Power Distribution (Desc)'!$F192)*([1]ELECTRIC_DEV_MANUF!$D$2:$D$1500=\"DCPWRDIS\"),0),0))","v":""},{"$f":"IF('DC Power Distribution (Desc)'!G192=\"\",\"\",INDEX([1]ELECTRIC_DEV_MODEL!$A$2:$A$1500,MATCH(1,([1]ELECTRIC_DEV_MODEL!$C$2:$C$1500='DC Power Distribution (Desc)'!$F192)*([1]ELECTRIC_DEV_MODEL!$D$2:$D$1500='DC Power Distribution (Desc)'!$G192)*([1]ELECTRIC_DEV_MODEL!$F$2:$F$1500=\"DCPWRDIS\"),0),0))","v":""},{"$f":"IF('DC Power Distribution (Desc)'!H192=\"\",\"\",'DC Power Distribution (Desc)'!H192)","v":""},{"$f":"IF('DC Power Distribution (Desc)'!I192=\"\",\"\",INDEX([1]YES_NO!$A$2:$A$100,MATCH('DC Power Distribution (Desc)'!$I192,[1]!MASTER_YES_NO_DESC[#Data],0),0))","v":""},{"$f":"IF('DC Power Distribution (Desc)'!J192=\"\",\"\",'DC Power Distribution (Desc)'!J192)","v":""},{"$f":"IF('DC Power Distribution (Desc)'!K192=\"\",\"\",'DC Power Distribution (Desc)'!K192)","v":""},{"$f":"IF('DC Power Distribution (Desc)'!L192=\"\",\"\",INDEX([1]YES_NO!$A$2:$A$100,MATCH('DC Power Distribution (Desc)'!$L192,[1]!MASTER_YES_NO_DESC[#Data],0),0))","v":""},{"$f":"IF('DC Power Distribution (Desc)'!M192=\"\",\"\",INDEX([1]DEV_INPUT_VOLTAGE!$A$2:$A$100,MATCH('DC Power Distribution (Desc)'!$M192,[1]!MASTER_DEV_INPUT_VOLTAGE_DESC[#Data],0),0))","v":""},{"$f":"IF('DC Power Distribution (Desc)'!N192=\"\",\"\",INDEX([1]DEV_OUTPUT_VOLTAGE!$A$2:$A$100,MATCH('DC Power Distribution (Desc)'!$N192,[1]!MASTER_DEV_INPUT_VOLTAGE_DESC[#Data],0),0))","v":""},{"$f":"IF('DC Power Distribution (Desc)'!O192=\"\",\"\",'DC Power Distribution (Desc)'!O192)","v":""},{"$f":"IF('DC Power Distribution (Desc)'!P192=\"\",\"\",'DC Power Distribution (Desc)'!P192)","v":""},{"$f":"IF('DC Power Distribution (Desc)'!Q192=\"\",\"\",'DC Power Distribution (Desc)'!Q192)","v":""},{"$f":"IF('DC Power Distribution (Desc)'!C192=\"\",\"\",\"NA\")","v":""}]
[{"$f":"IF('DC Power Distribution (Desc)'!A193=\"\",\"\",'DC Power Distribution (Desc)'!A193)","v":""},{"$f":"IF('DC Power Distribution (Desc)'!C193=\"\",\"\",2029)","v":""},{"$f":"IF('DC Power Distribution (Desc)'!C193=\"\",\"\",'DC Power Distribution (Desc)'!C193)","v":""},{"$f":"IF('DC Power Distribution (Desc)'!E193=\"\",\"\",'DC Power Distribution (Desc)'!E193)","v":""},{"$f":"IF('DC Power Distribution (Desc)'!F193=\"\",\"\",INDEX([1]ELECTRIC_DEV_MANUF!$A$2:$A$1500,MATCH(1,([1]ELECTRIC_DEV_MANUF!$B$2:$B$1500='DC Power Distribution (Desc)'!$F193)*([1]ELECTRIC_DEV_MANUF!$D$2:$D$1500=\"DCPWRDIS\"),0),0))","v":""},{"$f":"IF('DC Power Distribution (Desc)'!G193=\"\",\"\",INDEX([1]ELECTRIC_DEV_MODEL!$A$2:$A$1500,MATCH(1,([1]ELECTRIC_DEV_MODEL!$C$2:$C$1500='DC Power Distribution (Desc)'!$F193)*([1]ELECTRIC_DEV_MODEL!$D$2:$D$1500='DC Power Distribution (Desc)'!$G193)*([1]ELECTRIC_DEV_MODEL!$F$2:$F$1500=\"DCPWRDIS\"),0),0))","v":""},{"$f":"IF('DC Power Distribution (Desc)'!H193=\"\",\"\",'DC Power Distribution (Desc)'!H193)","v":""},{"$f":"IF('DC Power Distribution (Desc)'!I193=\"\",\"\",INDEX([1]YES_NO!$A$2:$A$100,MATCH('DC Power Distribution (Desc)'!$I193,[1]!MASTER_YES_NO_DESC[#Data],0),0))","v":""},{"$f":"IF('DC Power Distribution (Desc)'!J193=\"\",\"\",'DC Power Distribution (Desc)'!J193)","v":""},{"$f":"IF('DC Power Distribution (Desc)'!K193=\"\",\"\",'DC Power Distribution (Desc)'!K193)","v":""},{"$f":"IF('DC Power Distribution (Desc)'!L193=\"\",\"\",INDEX([1]YES_NO!$A$2:$A$100,MATCH('DC Power Distribution (Desc)'!$L193,[1]!MASTER_YES_NO_DESC[#Data],0),0))","v":""},{"$f":"IF('DC Power Distribution (Desc)'!M193=\"\",\"\",INDEX([1]DEV_INPUT_VOLTAGE!$A$2:$A$100,MATCH('DC Power Distribution (Desc)'!$M193,[1]!MASTER_DEV_INPUT_VOLTAGE_DESC[#Data],0),0))","v":""},{"$f":"IF('DC Power Distribution (Desc)'!N193=\"\",\"\",INDEX([1]DEV_OUTPUT_VOLTAGE!$A$2:$A$100,MATCH('DC Power Distribution (Desc)'!$N193,[1]!MASTER_DEV_INPUT_VOLTAGE_DESC[#Data],0),0))","v":""},{"$f":"IF('DC Power Distribution (Desc)'!O193=\"\",\"\",'DC Power Distribution (Desc)'!O193)","v":""},{"$f":"IF('DC Power Distribution (Desc)'!P193=\"\",\"\",'DC Power Distribution (Desc)'!P193)","v":""},{"$f":"IF('DC Power Distribution (Desc)'!Q193=\"\",\"\",'DC Power Distribution (Desc)'!Q193)","v":""},{"$f":"IF('DC Power Distribution (Desc)'!C193=\"\",\"\",\"NA\")","v":""}]
[{"$f":"IF('DC Power Distribution (Desc)'!A194=\"\",\"\",'DC Power Distribution (Desc)'!A194)","v":""},{"$f":"IF('DC Power Distribution (Desc)'!C194=\"\",\"\",2029)","v":""},{"$f":"IF('DC Power Distribution (Desc)'!C194=\"\",\"\",'DC Power Distribution (Desc)'!C194)","v":""},{"$f":"IF('DC Power Distribution (Desc)'!E194=\"\",\"\",'DC Power Distribution (Desc)'!E194)","v":""},{"$f":"IF('DC Power Distribution (Desc)'!F194=\"\",\"\",INDEX([1]ELECTRIC_DEV_MANUF!$A$2:$A$1500,MATCH(1,([1]ELECTRIC_DEV_MANUF!$B$2:$B$1500='DC Power Distribution (Desc)'!$F194)*([1]ELECTRIC_DEV_MANUF!$D$2:$D$1500=\"DCPWRDIS\"),0),0))","v":""},{"$f":"IF('DC Power Distribution (Desc)'!G194=\"\",\"\",INDEX([1]ELECTRIC_DEV_MODEL!$A$2:$A$1500,MATCH(1,([1]ELECTRIC_DEV_MODEL!$C$2:$C$1500='DC Power Distribution (Desc)'!$F194)*([1]ELECTRIC_DEV_MODEL!$D$2:$D$1500='DC Power Distribution (Desc)'!$G194)*([1]ELECTRIC_DEV_MODEL!$F$2:$F$1500=\"DCPWRDIS\"),0),0))","v":""},{"$f":"IF('DC Power Distribution (Desc)'!H194=\"\",\"\",'DC Power Distribution (Desc)'!H194)","v":""},{"$f":"IF('DC Power Distribution (Desc)'!I194=\"\",\"\",INDEX([1]YES_NO!$A$2:$A$100,MATCH('DC Power Distribution (Desc)'!$I194,[1]!MASTER_YES_NO_DESC[#Data],0),0))","v":""},{"$f":"IF('DC Power Distribution (Desc)'!J194=\"\",\"\",'DC Power Distribution (Desc)'!J194)","v":""},{"$f":"IF('DC Power Distribution (Desc)'!K194=\"\",\"\",'DC Power Distribution (Desc)'!K194)","v":""},{"$f":"IF('DC Power Distribution (Desc)'!L194=\"\",\"\",INDEX([1]YES_NO!$A$2:$A$100,MATCH('DC Power Distribution (Desc)'!$L194,[1]!MASTER_YES_NO_DESC[#Data],0),0))","v":""},{"$f":"IF('DC Power Distribution (Desc)'!M194=\"\",\"\",INDEX([1]DEV_INPUT_VOLTAGE!$A$2:$A$100,MATCH('DC Power Distribution (Desc)'!$M194,[1]!MASTER_DEV_INPUT_VOLTAGE_DESC[#Data],0),0))","v":""},{"$f":"IF('DC Power Distribution (Desc)'!N194=\"\",\"\",INDEX([1]DEV_OUTPUT_VOLTAGE!$A$2:$A$100,MATCH('DC Power Distribution (Desc)'!$N194,[1]!MASTER_DEV_INPUT_VOLTAGE_DESC[#Data],0),0))","v":""},{"$f":"IF('DC Power Distribution (Desc)'!O194=\"\",\"\",'DC Power Distribution (Desc)'!O194)","v":""},{"$f":"IF('DC Power Distribution (Desc)'!P194=\"\",\"\",'DC Power Distribution (Desc)'!P194)","v":""},{"$f":"IF('DC Power Distribution (Desc)'!Q194=\"\",\"\",'DC Power Distribution (Desc)'!Q194)","v":""},{"$f":"IF('DC Power Distribution (Desc)'!C194=\"\",\"\",\"NA\")","v":""}]
[{"$f":"IF('DC Power Distribution (Desc)'!A195=\"\",\"\",'DC Power Distribution (Desc)'!A195)","v":""},{"$f":"IF('DC Power Distribution (Desc)'!C195=\"\",\"\",2029)","v":""},{"$f":"IF('DC Power Distribution (Desc)'!C195=\"\",\"\",'DC Power Distribution (Desc)'!C195)","v":""},{"$f":"IF('DC Power Distribution (Desc)'!E195=\"\",\"\",'DC Power Distribution (Desc)'!E195)","v":""},{"$f":"IF('DC Power Distribution (Desc)'!F195=\"\",\"\",INDEX([1]ELECTRIC_DEV_MANUF!$A$2:$A$1500,MATCH(1,([1]ELECTRIC_DEV_MANUF!$B$2:$B$1500='DC Power Distribution (Desc)'!$F195)*([1]ELECTRIC_DEV_MANUF!$D$2:$D$1500=\"DCPWRDIS\"),0),0))","v":""},{"$f":"IF('DC Power Distribution (Desc)'!G195=\"\",\"\",INDEX([1]ELECTRIC_DEV_MODEL!$A$2:$A$1500,MATCH(1,([1]ELECTRIC_DEV_MODEL!$C$2:$C$1500='DC Power Distribution (Desc)'!$F195)*([1]ELECTRIC_DEV_MODEL!$D$2:$D$1500='DC Power Distribution (Desc)'!$G195)*([1]ELECTRIC_DEV_MODEL!$F$2:$F$1500=\"DCPWRDIS\"),0),0))","v":""},{"$f":"IF('DC Power Distribution (Desc)'!H195=\"\",\"\",'DC Power Distribution (Desc)'!H195)","v":""},{"$f":"IF('DC Power Distribution (Desc)'!I195=\"\",\"\",INDEX([1]YES_NO!$A$2:$A$100,MATCH('DC Power Distribution (Desc)'!$I195,[1]!MASTER_YES_NO_DESC[#Data],0),0))","v":""},{"$f":"IF('DC Power Distribution (Desc)'!J195=\"\",\"\",'DC Power Distribution (Desc)'!J195)","v":""},{"$f":"IF('DC Power Distribution (Desc)'!K195=\"\",\"\",'DC Power Distribution (Desc)'!K195)","v":""},{"$f":"IF('DC Power Distribution (Desc)'!L195=\"\",\"\",INDEX([1]YES_NO!$A$2:$A$100,MATCH('DC Power Distribution (Desc)'!$L195,[1]!MASTER_YES_NO_DESC[#Data],0),0))","v":""},{"$f":"IF('DC Power Distribution (Desc)'!M195=\"\",\"\",INDEX([1]DEV_INPUT_VOLTAGE!$A$2:$A$100,MATCH('DC Power Distribution (Desc)'!$M195,[1]!MASTER_DEV_INPUT_VOLTAGE_DESC[#Data],0),0))","v":""},{"$f":"IF('DC Power Distribution (Desc)'!N195=\"\",\"\",INDEX([1]DEV_OUTPUT_VOLTAGE!$A$2:$A$100,MATCH('DC Power Distribution (Desc)'!$N195,[1]!MASTER_DEV_INPUT_VOLTAGE_DESC[#Data],0),0))","v":""},{"$f":"IF('DC Power Distribution (Desc)'!O195=\"\",\"\",'DC Power Distribution (Desc)'!O195)","v":""},{"$f":"IF('DC Power Distribution (Desc)'!P195=\"\",\"\",'DC Power Distribution (Desc)'!P195)","v":""},{"$f":"IF('DC Power Distribution (Desc)'!Q195=\"\",\"\",'DC Power Distribution (Desc)'!Q195)","v":""},{"$f":"IF('DC Power Distribution (Desc)'!C195=\"\",\"\",\"NA\")","v":""}]
[{"$f":"IF('DC Power Distribution (Desc)'!A196=\"\",\"\",'DC Power Distribution (Desc)'!A196)","v":""},{"$f":"IF('DC Power Distribution (Desc)'!C196=\"\",\"\",2029)","v":""},{"$f":"IF('DC Power Distribution (Desc)'!C196=\"\",\"\",'DC Power Distribution (Desc)'!C196)","v":""},{"$f":"IF('DC Power Distribution (Desc)'!E196=\"\",\"\",'DC Power Distribution (Desc)'!E196)","v":""},{"$f":"IF('DC Power Distribution (Desc)'!F196=\"\",\"\",INDEX([1]ELECTRIC_DEV_MANUF!$A$2:$A$1500,MATCH(1,([1]ELECTRIC_DEV_MANUF!$B$2:$B$1500='DC Power Distribution (Desc)'!$F196)*([1]ELECTRIC_DEV_MANUF!$D$2:$D$1500=\"DCPWRDIS\"),0),0))","v":""},{"$f":"IF('DC Power Distribution (Desc)'!G196=\"\",\"\",INDEX([1]ELECTRIC_DEV_MODEL!$A$2:$A$1500,MATCH(1,([1]ELECTRIC_DEV_MODEL!$C$2:$C$1500='DC Power Distribution (Desc)'!$F196)*([1]ELECTRIC_DEV_MODEL!$D$2:$D$1500='DC Power Distribution (Desc)'!$G196)*([1]ELECTRIC_DEV_MODEL!$F$2:$F$1500=\"DCPWRDIS\"),0),0))","v":""},{"$f":"IF('DC Power Distribution (Desc)'!H196=\"\",\"\",'DC Power Distribution (Desc)'!H196)","v":""},{"$f":"IF('DC Power Distribution (Desc)'!I196=\"\",\"\",INDEX([1]YES_NO!$A$2:$A$100,MATCH('DC Power Distribution (Desc)'!$I196,[1]!MASTER_YES_NO_DESC[#Data],0),0))","v":""},{"$f":"IF('DC Power Distribution (Desc)'!J196=\"\",\"\",'DC Power Distribution (Desc)'!J196)","v":""},{"$f":"IF('DC Power Distribution (Desc)'!K196=\"\",\"\",'DC Power Distribution (Desc)'!K196)","v":""},{"$f":"IF('DC Power Distribution (Desc)'!L196=\"\",\"\",INDEX([1]YES_NO!$A$2:$A$100,MATCH('DC Power Distribution (Desc)'!$L196,[1]!MASTER_YES_NO_DESC[#Data],0),0))","v":""},{"$f":"IF('DC Power Distribution (Desc)'!M196=\"\",\"\",INDEX([1]DEV_INPUT_VOLTAGE!$A$2:$A$100,MATCH('DC Power Distribution (Desc)'!$M196,[1]!MASTER_DEV_INPUT_VOLTAGE_DESC[#Data],0),0))","v":""},{"$f":"IF('DC Power Distribution (Desc)'!N196=\"\",\"\",INDEX([1]DEV_OUTPUT_VOLTAGE!$A$2:$A$100,MATCH('DC Power Distribution (Desc)'!$N196,[1]!MASTER_DEV_INPUT_VOLTAGE_DESC[#Data],0),0))","v":""},{"$f":"IF('DC Power Distribution (Desc)'!O196=\"\",\"\",'DC Power Distribution (Desc)'!O196)","v":""},{"$f":"IF('DC Power Distribution (Desc)'!P196=\"\",\"\",'DC Power Distribution (Desc)'!P196)","v":""},{"$f":"IF('DC Power Distribution (Desc)'!Q196=\"\",\"\",'DC Power Distribution (Desc)'!Q196)","v":""},{"$f":"IF('DC Power Distribution (Desc)'!C196=\"\",\"\",\"NA\")","v":""}]
[{"$f":"IF('DC Power Distribution (Desc)'!A197=\"\",\"\",'DC Power Distribution (Desc)'!A197)","v":""},{"$f":"IF('DC Power Distribution (Desc)'!C197=\"\",\"\",2029)","v":""},{"$f":"IF('DC Power Distribution (Desc)'!C197=\"\",\"\",'DC Power Distribution (Desc)'!C197)","v":""},{"$f":"IF('DC Power Distribution (Desc)'!E197=\"\",\"\",'DC Power Distribution (Desc)'!E197)","v":""},{"$f":"IF('DC Power Distribution (Desc)'!F197=\"\",\"\",INDEX([1]ELECTRIC_DEV_MANUF!$A$2:$A$1500,MATCH(1,([1]ELECTRIC_DEV_MANUF!$B$2:$B$1500='DC Power Distribution (Desc)'!$F197)*([1]ELECTRIC_DEV_MANUF!$D$2:$D$1500=\"DCPWRDIS\"),0),0))","v":""},{"$f":"IF('DC Power Distribution (Desc)'!G197=\"\",\"\",INDEX([1]ELECTRIC_DEV_MODEL!$A$2:$A$1500,MATCH(1,([1]ELECTRIC_DEV_MODEL!$C$2:$C$1500='DC Power Distribution (Desc)'!$F197)*([1]ELECTRIC_DEV_MODEL!$D$2:$D$1500='DC Power Distribution (Desc)'!$G197)*([1]ELECTRIC_DEV_MODEL!$F$2:$F$1500=\"DCPWRDIS\"),0),0))","v":""},{"$f":"IF('DC Power Distribution (Desc)'!H197=\"\",\"\",'DC Power Distribution (Desc)'!H197)","v":""},{"$f":"IF('DC Power Distribution (Desc)'!I197=\"\",\"\",INDEX([1]YES_NO!$A$2:$A$100,MATCH('DC Power Distribution (Desc)'!$I197,[1]!MASTER_YES_NO_DESC[#Data],0),0))","v":""},{"$f":"IF('DC Power Distribution (Desc)'!J197=\"\",\"\",'DC Power Distribution (Desc)'!J197)","v":""},{"$f":"IF('DC Power Distribution (Desc)'!K197=\"\",\"\",'DC Power Distribution (Desc)'!K197)","v":""},{"$f":"IF('DC Power Distribution (Desc)'!L197=\"\",\"\",INDEX([1]YES_NO!$A$2:$A$100,MATCH('DC Power Distribution (Desc)'!$L197,[1]!MASTER_YES_NO_DESC[#Data],0),0))","v":""},{"$f":"IF('DC Power Distribution (Desc)'!M197=\"\",\"\",INDEX([1]DEV_INPUT_VOLTAGE!$A$2:$A$100,MATCH('DC Power Distribution (Desc)'!$M197,[1]!MASTER_DEV_INPUT_VOLTAGE_DESC[#Data],0),0))","v":""},{"$f":"IF('DC Power Distribution (Desc)'!N197=\"\",\"\",INDEX([1]DEV_OUTPUT_VOLTAGE!$A$2:$A$100,MATCH('DC Power Distribution (Desc)'!$N197,[1]!MASTER_DEV_INPUT_VOLTAGE_DESC[#Data],0),0))","v":""},{"$f":"IF('DC Power Distribution (Desc)'!O197=\"\",\"\",'DC Power Distribution (Desc)'!O197)","v":""},{"$f":"IF('DC Power Distribution (Desc)'!P197=\"\",\"\",'DC Power Distribution (Desc)'!P197)","v":""},{"$f":"IF('DC Power Distribution (Desc)'!Q197=\"\",\"\",'DC Power Distribution (Desc)'!Q197)","v":""},{"$f":"IF('DC Power Distribution (Desc)'!C197=\"\",\"\",\"NA\")","v":""}]
[{"$f":"IF('DC Power Distribution (Desc)'!A198=\"\",\"\",'DC Power Distribution (Desc)'!A198)","v":""},{"$f":"IF('DC Power Distribution (Desc)'!C198=\"\",\"\",2029)","v":""},{"$f":"IF('DC Power Distribution (Desc)'!C198=\"\",\"\",'DC Power Distribution (Desc)'!C198)","v":""},{"$f":"IF('DC Power Distribution (Desc)'!E198=\"\",\"\",'DC Power Distribution (Desc)'!E198)","v":""},{"$f":"IF('DC Power Distribution (Desc)'!F198=\"\",\"\",INDEX([1]ELECTRIC_DEV_MANUF!$A$2:$A$1500,MATCH(1,([1]ELECTRIC_DEV_MANUF!$B$2:$B$1500='DC Power Distribution (Desc)'!$F198)*([1]ELECTRIC_DEV_MANUF!$D$2:$D$1500=\"DCPWRDIS\"),0),0))","v":""},{"$f":"IF('DC Power Distribution (Desc)'!G198=\"\",\"\",INDEX([1]ELECTRIC_DEV_MODEL!$A$2:$A$1500,MATCH(1,([1]ELECTRIC_DEV_MODEL!$C$2:$C$1500='DC Power Distribution (Desc)'!$F198)*([1]ELECTRIC_DEV_MODEL!$D$2:$D$1500='DC Power Distribution (Desc)'!$G198)*([1]ELECTRIC_DEV_MODEL!$F$2:$F$1500=\"DCPWRDIS\"),0),0))","v":""},{"$f":"IF('DC Power Distribution (Desc)'!H198=\"\",\"\",'DC Power Distribution (Desc)'!H198)","v":""},{"$f":"IF('DC Power Distribution (Desc)'!I198=\"\",\"\",INDEX([1]YES_NO!$A$2:$A$100,MATCH('DC Power Distribution (Desc)'!$I198,[1]!MASTER_YES_NO_DESC[#Data],0),0))","v":""},{"$f":"IF('DC Power Distribution (Desc)'!J198=\"\",\"\",'DC Power Distribution (Desc)'!J198)","v":""},{"$f":"IF('DC Power Distribution (Desc)'!K198=\"\",\"\",'DC Power Distribution (Desc)'!K198)","v":""},{"$f":"IF('DC Power Distribution (Desc)'!L198=\"\",\"\",INDEX([1]YES_NO!$A$2:$A$100,MATCH('DC Power Distribution (Desc)'!$L198,[1]!MASTER_YES_NO_DESC[#Data],0),0))","v":""},{"$f":"IF('DC Power Distribution (Desc)'!M198=\"\",\"\",INDEX([1]DEV_INPUT_VOLTAGE!$A$2:$A$100,MATCH('DC Power Distribution (Desc)'!$M198,[1]!MASTER_DEV_INPUT_VOLTAGE_DESC[#Data],0),0))","v":""},{"$f":"IF('DC Power Distribution (Desc)'!N198=\"\",\"\",INDEX([1]DEV_OUTPUT_VOLTAGE!$A$2:$A$100,MATCH('DC Power Distribution (Desc)'!$N198,[1]!MASTER_DEV_INPUT_VOLTAGE_DESC[#Data],0),0))","v":""},{"$f":"IF('DC Power Distribution (Desc)'!O198=\"\",\"\",'DC Power Distribution (Desc)'!O198)","v":""},{"$f":"IF('DC Power Distribution (Desc)'!P198=\"\",\"\",'DC Power Distribution (Desc)'!P198)","v":""},{"$f":"IF('DC Power Distribution (Desc)'!Q198=\"\",\"\",'DC Power Distribution (Desc)'!Q198)","v":""},{"$f":"IF('DC Power Distribution (Desc)'!C198=\"\",\"\",\"NA\")","v":""}]
[{"$f":"IF('DC Power Distribution (Desc)'!A199=\"\",\"\",'DC Power Distribution (Desc)'!A199)","v":""},{"$f":"IF('DC Power Distribution (Desc)'!C199=\"\",\"\",2029)","v":""},{"$f":"IF('DC Power Distribution (Desc)'!C199=\"\",\"\",'DC Power Distribution (Desc)'!C199)","v":""},{"$f":"IF('DC Power Distribution (Desc)'!E199=\"\",\"\",'DC Power Distribution (Desc)'!E199)","v":""},{"$f":"IF('DC Power Distribution (Desc)'!F199=\"\",\"\",INDEX([1]ELECTRIC_DEV_MANUF!$A$2:$A$1500,MATCH(1,([1]ELECTRIC_DEV_MANUF!$B$2:$B$1500='DC Power Distribution (Desc)'!$F199)*([1]ELECTRIC_DEV_MANUF!$D$2:$D$1500=\"DCPWRDIS\"),0),0))","v":""},{"$f":"IF('DC Power Distribution (Desc)'!G199=\"\",\"\",INDEX([1]ELECTRIC_DEV_MODEL!$A$2:$A$1500,MATCH(1,([1]ELECTRIC_DEV_MODEL!$C$2:$C$1500='DC Power Distribution (Desc)'!$F199)*([1]ELECTRIC_DEV_MODEL!$D$2:$D$1500='DC Power Distribution (Desc)'!$G199)*([1]ELECTRIC_DEV_MODEL!$F$2:$F$1500=\"DCPWRDIS\"),0),0))","v":""},{"$f":"IF('DC Power Distribution (Desc)'!H199=\"\",\"\",'DC Power Distribution (Desc)'!H199)","v":""},{"$f":"IF('DC Power Distribution (Desc)'!I199=\"\",\"\",INDEX([1]YES_NO!$A$2:$A$100,MATCH('DC Power Distribution (Desc)'!$I199,[1]!MASTER_YES_NO_DESC[#Data],0),0))","v":""},{"$f":"IF('DC Power Distribution (Desc)'!J199=\"\",\"\",'DC Power Distribution (Desc)'!J199)","v":""},{"$f":"IF('DC Power Distribution (Desc)'!K199=\"\",\"\",'DC Power Distribution (Desc)'!K199)","v":""},{"$f":"IF('DC Power Distribution (Desc)'!L199=\"\",\"\",INDEX([1]YES_NO!$A$2:$A$100,MATCH('DC Power Distribution (Desc)'!$L199,[1]!MASTER_YES_NO_DESC[#Data],0),0))","v":""},{"$f":"IF('DC Power Distribution (Desc)'!M199=\"\",\"\",INDEX([1]DEV_INPUT_VOLTAGE!$A$2:$A$100,MATCH('DC Power Distribution (Desc)'!$M199,[1]!MASTER_DEV_INPUT_VOLTAGE_DESC[#Data],0),0))","v":""},{"$f":"IF('DC Power Distribution (Desc)'!N199=\"\",\"\",INDEX([1]DEV_OUTPUT_VOLTAGE!$A$2:$A$100,MATCH('DC Power Distribution (Desc)'!$N199,[1]!MASTER_DEV_INPUT_VOLTAGE_DESC[#Data],0),0))","v":""},{"$f":"IF('DC Power Distribution (Desc)'!O199=\"\",\"\",'DC Power Distribution (Desc)'!O199)","v":""},{"$f":"IF('DC Power Distribution (Desc)'!P199=\"\",\"\",'DC Power Distribution (Desc)'!P199)","v":""},{"$f":"IF('DC Power Distribution (Desc)'!Q199=\"\",\"\",'DC Power Distribution (Desc)'!Q199)","v":""},{"$f":"IF('DC Power Distribution (Desc)'!C199=\"\",\"\",\"NA\")","v":""}]
[{"$f":"IF('DC Power Distribution (Desc)'!A200=\"\",\"\",'DC Power Distribution (Desc)'!A200)","v":""},{"$f":"IF('DC Power Distribution (Desc)'!C200=\"\",\"\",2029)","v":""},{"$f":"IF('DC Power Distribution (Desc)'!C200=\"\",\"\",'DC Power Distribution (Desc)'!C200)","v":""},{"$f":"IF('DC Power Distribution (Desc)'!E200=\"\",\"\",'DC Power Distribution (Desc)'!E200)","v":""},{"$f":"IF('DC Power Distribution (Desc)'!F200=\"\",\"\",INDEX([1]ELECTRIC_DEV_MANUF!$A$2:$A$1500,MATCH(1,([1]ELECTRIC_DEV_MANUF!$B$2:$B$1500='DC Power Distribution (Desc)'!$F200)*([1]ELECTRIC_DEV_MANUF!$D$2:$D$1500=\"DCPWRDIS\"),0),0))","v":""},{"$f":"IF('DC Power Distribution (Desc)'!G200=\"\",\"\",INDEX([1]ELECTRIC_DEV_MODEL!$A$2:$A$1500,MATCH(1,([1]ELECTRIC_DEV_MODEL!$C$2:$C$1500='DC Power Distribution (Desc)'!$F200)*([1]ELECTRIC_DEV_MODEL!$D$2:$D$1500='DC Power Distribution (Desc)'!$G200)*([1]ELECTRIC_DEV_MODEL!$F$2:$F$1500=\"DCPWRDIS\"),0),0))","v":""},{"$f":"IF('DC Power Distribution (Desc)'!H200=\"\",\"\",'DC Power Distribution (Desc)'!H200)","v":""},{"$f":"IF('DC Power Distribution (Desc)'!I200=\"\",\"\",INDEX([1]YES_NO!$A$2:$A$100,MATCH('DC Power Distribution (Desc)'!$I200,[1]!MASTER_YES_NO_DESC[#Data],0),0))","v":""},{"$f":"IF('DC Power Distribution (Desc)'!J200=\"\",\"\",'DC Power Distribution (Desc)'!J200)","v":""},{"$f":"IF('DC Power Distribution (Desc)'!K200=\"\",\"\",'DC Power Distribution (Desc)'!K200)","v":""},{"$f":"IF('DC Power Distribution (Desc)'!L200=\"\",\"\",INDEX([1]YES_NO!$A$2:$A$100,MATCH('DC Power Distribution (Desc)'!$L200,[1]!MASTER_YES_NO_DESC[#Data],0),0))","v":""},{"$f":"IF('DC Power Distribution (Desc)'!M200=\"\",\"\",INDEX([1]DEV_INPUT_VOLTAGE!$A$2:$A$100,MATCH('DC Power Distribution (Desc)'!$M200,[1]!MASTER_DEV_INPUT_VOLTAGE_DESC[#Data],0),0))","v":""},{"$f":"IF('DC Power Distribution (Desc)'!N200=\"\",\"\",INDEX([1]DEV_OUTPUT_VOLTAGE!$A$2:$A$100,MATCH('DC Power Distribution (Desc)'!$N200,[1]!MASTER_DEV_INPUT_VOLTAGE_DESC[#Data],0),0))","v":""},{"$f":"IF('DC Power Distribution (Desc)'!O200=\"\",\"\",'DC Power Distribution (Desc)'!O200)","v":""},{"$f":"IF('DC Power Distribution (Desc)'!P200=\"\",\"\",'DC Power Distribution (Desc)'!P200)","v":""},{"$f":"IF('DC Power Distribution (Desc)'!Q200=\"\",\"\",'DC Power Distribution (Desc)'!Q200)","v":""},{"$f":"IF('DC Power Distribution (Desc)'!C200=\"\",\"\",\"NA\")","v":""}]
[{"$f":"IF('DC Power Distribution (Desc)'!A201=\"\",\"\",'DC Power Distribution (Desc)'!A201)","v":""},{"$f":"IF('DC Power Distribution (Desc)'!C201=\"\",\"\",2029)","v":""},{"$f":"IF('DC Power Distribution (Desc)'!C201=\"\",\"\",'DC Power Distribution (Desc)'!C201)","v":""},{"$f":"IF('DC Power Distribution (Desc)'!E201=\"\",\"\",'DC Power Distribution (Desc)'!E201)","v":""},{"$f":"IF('DC Power Distribution (Desc)'!F201=\"\",\"\",INDEX([1]ELECTRIC_DEV_MANUF!$A$2:$A$1500,MATCH(1,([1]ELECTRIC_DEV_MANUF!$B$2:$B$1500='DC Power Distribution (Desc)'!$F201)*([1]ELECTRIC_DEV_MANUF!$D$2:$D$1500=\"DCPWRDIS\"),0),0))","v":""},{"$f":"IF('DC Power Distribution (Desc)'!G201=\"\",\"\",INDEX([1]ELECTRIC_DEV_MODEL!$A$2:$A$1500,MATCH(1,([1]ELECTRIC_DEV_MODEL!$C$2:$C$1500='DC Power Distribution (Desc)'!$F201)*([1]ELECTRIC_DEV_MODEL!$D$2:$D$1500='DC Power Distribution (Desc)'!$G201)*([1]ELECTRIC_DEV_MODEL!$F$2:$F$1500=\"DCPWRDIS\"),0),0))","v":""},{"$f":"IF('DC Power Distribution (Desc)'!H201=\"\",\"\",'DC Power Distribution (Desc)'!H201)","v":""},{"$f":"IF('DC Power Distribution (Desc)'!I201=\"\",\"\",INDEX([1]YES_NO!$A$2:$A$100,MATCH('DC Power Distribution (Desc)'!$I201,[1]!MASTER_YES_NO_DESC[#Data],0),0))","v":""},{"$f":"IF('DC Power Distribution (Desc)'!J201=\"\",\"\",'DC Power Distribution (Desc)'!J201)","v":""},{"$f":"IF('DC Power Distribution (Desc)'!K201=\"\",\"\",'DC Power Distribution (Desc)'!K201)","v":""},{"$f":"IF('DC Power Distribution (Desc)'!L201=\"\",\"\",INDEX([1]YES_NO!$A$2:$A$100,MATCH('DC Power Distribution (Desc)'!$L201,[1]!MASTER_YES_NO_DESC[#Data],0),0))","v":""},{"$f":"IF('DC Power Distribution (Desc)'!M201=\"\",\"\",INDEX([1]DEV_INPUT_VOLTAGE!$A$2:$A$100,MATCH('DC Power Distribution (Desc)'!$M201,[1]!MASTER_DEV_INPUT_VOLTAGE_DESC[#Data],0),0))","v":""},{"$f":"IF('DC Power Distribution (Desc)'!N201=\"\",\"\",INDEX([1]DEV_OUTPUT_VOLTAGE!$A$2:$A$100,MATCH('DC Power Distribution (Desc)'!$N201,[1]!MASTER_DEV_INPUT_VOLTAGE_DESC[#Data],0),0))","v":""},{"$f":"IF('DC Power Distribution (Desc)'!O201=\"\",\"\",'DC Power Distribution (Desc)'!O201)","v":""},{"$f":"IF('DC Power Distribution (Desc)'!P201=\"\",\"\",'DC Power Distribution (Desc)'!P201)","v":""},{"$f":"IF('DC Power Distribution (Desc)'!Q201=\"\",\"\",'DC Power Distribution (Desc)'!Q201)","v":""},{"$f":"IF('DC Power Distribution (Desc)'!C201=\"\",\"\",\"NA\")","v":""}]
[{"$f":"IF('DC Power Distribution (Desc)'!A202=\"\",\"\",'DC Power Distribution (Desc)'!A202)","v":""},{"$f":"IF('DC Power Distribution (Desc)'!C202=\"\",\"\",2029)","v":""},{"$f":"IF('DC Power Distribution (Desc)'!C202=\"\",\"\",'DC Power Distribution (Desc)'!C202)","v":""},{"$f":"IF('DC Power Distribution (Desc)'!E202=\"\",\"\",'DC Power Distribution (Desc)'!E202)","v":""},{"$f":"IF('DC Power Distribution (Desc)'!F202=\"\",\"\",INDEX([1]ELECTRIC_DEV_MANUF!$A$2:$A$1500,MATCH(1,([1]ELECTRIC_DEV_MANUF!$B$2:$B$1500='DC Power Distribution (Desc)'!$F202)*([1]ELECTRIC_DEV_MANUF!$D$2:$D$1500=\"DCPWRDIS\"),0),0))","v":""},{"$f":"IF('DC Power Distribution (Desc)'!G202=\"\",\"\",INDEX([1]ELECTRIC_DEV_MODEL!$A$2:$A$1500,MATCH(1,([1]ELECTRIC_DEV_MODEL!$C$2:$C$1500='DC Power Distribution (Desc)'!$F202)*([1]ELECTRIC_DEV_MODEL!$D$2:$D$1500='DC Power Distribution (Desc)'!$G202)*([1]ELECTRIC_DEV_MODEL!$F$2:$F$1500=\"DCPWRDIS\"),0),0))","v":""},{"$f":"IF('DC Power Distribution (Desc)'!H202=\"\",\"\",'DC Power Distribution (Desc)'!H202)","v":""},{"$f":"IF('DC Power Distribution (Desc)'!I202=\"\",\"\",INDEX([1]YES_NO!$A$2:$A$100,MATCH('DC Power Distribution (Desc)'!$I202,[1]!MASTER_YES_NO_DESC[#Data],0),0))","v":""},{"$f":"IF('DC Power Distribution (Desc)'!J202=\"\",\"\",'DC Power Distribution (Desc)'!J202)","v":""},{"$f":"IF('DC Power Distribution (Desc)'!K202=\"\",\"\",'DC Power Distribution (Desc)'!K202)","v":""},{"$f":"IF('DC Power Distribution (Desc)'!L202=\"\",\"\",INDEX([1]YES_NO!$A$2:$A$100,MATCH('DC Power Distribution (Desc)'!$L202,[1]!MASTER_YES_NO_DESC[#Data],0),0))","v":""},{"$f":"IF('DC Power Distribution (Desc)'!M202=\"\",\"\",INDEX([1]DEV_INPUT_VOLTAGE!$A$2:$A$100,MATCH('DC Power Distribution (Desc)'!$M202,[1]!MASTER_DEV_INPUT_VOLTAGE_DESC[#Data],0),0))","v":""},{"$f":"IF('DC Power Distribution (Desc)'!N202=\"\",\"\",INDEX([1]DEV_OUTPUT_VOLTAGE!$A$2:$A$100,MATCH('DC Power Distribution (Desc)'!$N202,[1]!MASTER_DEV_INPUT_VOLTAGE_DESC[#Data],0),0))","v":""},{"$f":"IF('DC Power Distribution (Desc)'!O202=\"\",\"\",'DC Power Distribution (Desc)'!O202)","v":""},{"$f":"IF('DC Power Distribution (Desc)'!P202=\"\",\"\",'DC Power Distribution (Desc)'!P202)","v":""},{"$f":"IF('DC Power Distribution (Desc)'!Q202=\"\",\"\",'DC Power Distribution (Desc)'!Q202)","v":""},{"$f":"IF('DC Power Distribution (Desc)'!C202=\"\",\"\",\"NA\")","v":""}]