{"text_format":"1","workbook":"xlsx","n_sheets":4,"sheets":["Comm Device (Desc)","Comm Device (Code)","Radio (Desc)","Radio (Code)"],"not_rendered":{"charts":0,"images":0,"macros":1,"external_links":1,"defined_names":23,"comments":0,"pivot_tables":0},"unopened":[],"bounds":{"document_bytes":16777216,"sheet_cells":100000,"rows_first":2000,"rows_last":500,"rows_between":2000,"halvings":0,"cell_chars":16384,"cell_head_chars":4096},"cells_cut":0,"cells_raw":0,"read":"whole","date_system":"1900"}

{"sheet":"Comm Device (Desc)","index":0,"n_rows":2,"n_cols":22,"rows_kept":2,"cut":false,"hidden":false,"merged":[]}
["Device Id\nfor update ","Site Identification Name\nSignal Equipment Cabinet SIN","Equipment Location Id ","Facility Owner","Previous Name","Comm Device Type","Communications Type","Installed Date (YYYY/MM/DD)","Comments","Manufacturer ","Model ","Serial Number ","IP Address ","MAC Address ","Firmware Version ","Input Voltage ","Load/Draw (Amp) ","Copper Ports (In) ","Copper Ports (Out) ","Fiber Ports (In) ","Fiber Ports (Out) ","Fiber Connector Type"]
["EQUIP_ID","This Field is for Reference Only\nDO NOT IMPORT","EQUIP_LOC_ID\nREQUIRED FIELD","OWNER_CD\nREQUIRED FIELD","This Field is for Reference Only\nDO NOT IMPORT","ITS_COMM_DEV_TYPE_CD\nREQUIRED FIELD","COMM_TYPE_CD\nREQUIRED FIELD","DATE_INSTALLED","NAME","ITS_COMM_DEV_MANUF_CD ","ITS_COMM_DEV_MODEL_CD ","SERIAL_NUMBER ","IP_ADDRESS","MAC_ADDRESS","FIRMWARE_VERSION","DEV_INPUT_VOLTAGE_CD ","COMM_LOAD_DRAW","COPPER_PORTS_IN","COPPER_PORTS_OUT","FIBER_PORTS_IN ","FIBER_PORTS_OUT","FIBER_CONN_TYPE_CD "]

{"sheet":"Comm Device (Code)","index":1,"n_rows":202,"n_cols":21,"rows_kept":202,"cut":false,"hidden":false,"merged":[]}
["Device Id\nfor update ","Parent ITS Device Entity Cd","Equipment Location Id ","Facility Owner","Comm Device Type","Communications Type","Installed Date (YYYY/MM/DD)","Comments","Manufacturer ","Model ","Serial Number ","IP Address ","MAC Address ","Firmware Version ","Input Voltage ","Load/Draw (Amp) ","Copper Ports (In) ","Copper Ports (Out) ","Fiber Ports (In) ","Fiber Ports (Out) ","Fiber Connector Type"]
["EQUIP_ID","ENTITY_CD             REQUIRED FIELD","EQUIP_LOC_ID       REQUIRED FIELD","OWNER_CD REQUIRED FIELD","ITS_COMM_DEV_TYPE_CD REQUIRED FIELD","COMM_TYPE_CD REQUIRED FIELD","DATE_INSTALLED","NAME","ITS_COMM_DEV_MANUF_CD ","ITS_COMM_DEV_MODEL_CD ","SERIAL_NUMBER ","IP_ADDRESS","MAC_ADDRESS","FIRMWARE_VERSION","DEV_INPUT_VOLTAGE_CD ","COMM_LOAD_DRAW","COPPER_PORTS_IN","COPPER_PORTS_OUT","FIBER_PORTS_IN ","FIBER_PORTS_OUT","FIBER_CONN_TYPE_CD "]
[{"$f":"IF('Comm Device (Desc)'!A3=\"\",\"\",'Comm Device (Desc)'!A3)","v":""},{"$f":"IF('Comm Device (Desc)'!C3=\"\",\"\",\"2029\")","v":""},{"$f":"IF('Comm Device (Desc)'!C3=\"\",\"\",'Comm Device (Desc)'!C3)","v":""},{"$f":"IF('Comm Device (Desc)'!D3=\"\",\"\",INDEX([1]OWNER!$A$2:$A$100,MATCH('Comm Device (Desc)'!$D3,[1]!MASTER_OWNER_DESC[#Data],0),0))","v":""},{"$f":"IF('Comm Device (Desc)'!F3=\"\",\"\",INDEX([1]ITS_COMM_DEV_TYPE!$A$2:$A$100,MATCH('Comm Device (Desc)'!$F3,[1]!MASTER_ITS_COMM_DEV_TYPE_DESC[#Data],0),0))","v":""},{"$f":"IF('Comm Device (Desc)'!G3=\"\",\"\",INDEX([1]COMM_TYPE!$A$2:$A$100,MATCH('Comm Device (Desc)'!$G3,[1]!MASTER_COMM_TYPE_DESC[#Data],0),0))","v":""},{"$f":"IF('Comm Device (Desc)'!H3=\"\",\"\",'Comm Device (Desc)'!H3)","v":""},{"$f":"IF('Comm Device (Desc)'!I3=\"\",\"\",'Comm Device (Desc)'!I3)","v":""},{"$f":"IF('Comm Device (Desc)'!J3=\"\",\"\",INDEX([1]ITS_COMM_DEV_MANUF!$A$2:$A$300,MATCH(1,([1]ITS_COMM_DEV_MANUF!$B$2:$B$300='Comm Device (Desc)'!$J3)*([1]ITS_COMM_DEV_MANUF!$C$2:$C$300=E3),0),0))","v":""},{"$f":"IF('Comm Device (Desc)'!K3=\"\",\"\",INDEX([1]ITS_COMM_DEV_MODEL!$A$2:$A$500,MATCH(1,([1]ITS_COMM_DEV_MODEL!$C$2:$C$500='Comm Device (Desc)'!$J3)*([1]ITS_COMM_DEV_MODEL!$D$2:$D$500='Comm Device (Code)'!$E3)*([1]ITS_COMM_DEV_MODEL!$E$2:$E$500='Comm Device (Desc)'!$K3),0),0))","v":""},{"$f":"IF('Comm Device (Desc)'!L3=\"\",\"\",'Comm Device (Desc)'!L3)","v":""},{"$f":"IF('Comm Device (Desc)'!M3=\"\",\"\",'Comm Device (Desc)'!M3)","v":""},{"$f":"IF('Comm Device (Desc)'!N3=\"\",\"\",'Comm Device (Desc)'!N3)","v":""},{"$f":"IF('Comm Device (Desc)'!O3=\"\",\"\",'Comm Device (Desc)'!O3)","v":""},{"$f":"IF('Comm Device (Desc)'!P3=\"\",\"\",INDEX([1]DEV_INPUT_VOLTAGE!$A$2:$A$100,MATCH('Comm Device (Desc)'!$P3,[1]!MASTER_DEV_INPUT_VOLTAGE_DESC[#Data],0),0))","v":""},{"$f":"IF('Comm Device (Desc)'!Q3=\"\",\"\",'Comm Device (Desc)'!Q3)","v":""},{"$f":"IF('Comm Device (Desc)'!R3=\"\",\"\",'Comm Device (Desc)'!R3)","v":""},{"$f":"IF('Comm Device (Desc)'!S3=\"\",\"\",'Comm Device (Desc)'!S3)","v":""},{"$f":"IF('Comm Device (Desc)'!T3=\"\",\"\",'Comm Device (Desc)'!T3)","v":""},{"$f":"IF('Comm Device (Desc)'!U3=\"\",\"\",'Comm Device (Desc)'!U3)","v":""},{"$f":"IF('Comm Device (Desc)'!V3=\"\",\"\",INDEX([1]FIBER_CONN_TYPE!$A$2:$A$100,MATCH('Comm Device (Desc)'!$V3,[1]!MASTER_FIBER_CONN_TYPE_DESC[#Data],0),0))","v":""}]
[{"$f":"IF('Comm Device (Desc)'!A4=\"\",\"\",'Comm Device (Desc)'!A4)","v":""},{"$f":"IF('Comm Device (Desc)'!C4=\"\",\"\",\"2029\")","v":""},{"$f":"IF('Comm Device (Desc)'!C4=\"\",\"\",'Comm Device (Desc)'!C4)","v":""},{"$f":"IF('Comm Device (Desc)'!D4=\"\",\"\",INDEX([1]OWNER!$A$2:$A$100,MATCH('Comm Device (Desc)'!$D4,[1]!MASTER_OWNER_DESC[#Data],0),0))","v":""},{"$f":"IF('Comm Device (Desc)'!F4=\"\",\"\",INDEX([1]ITS_COMM_DEV_TYPE!$A$2:$A$100,MATCH('Comm Device (Desc)'!$F4,[1]!MASTER_ITS_COMM_DEV_TYPE_DESC[#Data],0),0))","v":""},{"$f":"IF('Comm Device (Desc)'!G4=\"\",\"\",INDEX([1]COMM_TYPE!$A$2:$A$100,MATCH('Comm Device (Desc)'!$G4,[1]!MASTER_COMM_TYPE_DESC[#Data],0),0))","v":""},{"$f":"IF('Comm Device (Desc)'!H4=\"\",\"\",'Comm Device (Desc)'!H4)","v":""},{"$f":"IF('Comm Device (Desc)'!I4=\"\",\"\",'Comm Device (Desc)'!I4)","v":""},{"$f":"IF('Comm Device (Desc)'!J4=\"\",\"\",INDEX([1]ITS_COMM_DEV_MANUF!$A$2:$A$300,MATCH(1,([1]ITS_COMM_DEV_MANUF!$B$2:$B$300='Comm Device (Desc)'!$J4)*([1]ITS_COMM_DEV_MANUF!$C$2:$C$300=E4),0),0))","v":""},{"$f":"IF('Comm Device (Desc)'!K4=\"\",\"\",INDEX([1]ITS_COMM_DEV_MODEL!$A$2:$A$500,MATCH(1,([1]ITS_COMM_DEV_MODEL!$C$2:$C$500='Comm Device (Desc)'!$J4)*([1]ITS_COMM_DEV_MODEL!$D$2:$D$500='Comm Device (Code)'!$E4)*([1]ITS_COMM_DEV_MODEL!$E$2:$E$500='Comm Device (Desc)'!$K4),0),0))","v":""},{"$f":"IF('Comm Device (Desc)'!L4=\"\",\"\",'Comm Device (Desc)'!L4)","v":""},{"$f":"IF('Comm Device (Desc)'!M4=\"\",\"\",'Comm Device (Desc)'!M4)","v":""},{"$f":"IF('Comm Device (Desc)'!N4=\"\",\"\",'Comm Device (Desc)'!N4)","v":""},{"$f":"IF('Comm Device (Desc)'!O4=\"\",\"\",'Comm Device (Desc)'!O4)","v":""},{"$f":"IF('Comm Device (Desc)'!P4=\"\",\"\",INDEX([1]DEV_INPUT_VOLTAGE!$A$2:$A$100,MATCH('Comm Device (Desc)'!$P4,[1]!MASTER_DEV_INPUT_VOLTAGE_DESC[#Data],0),0))","v":""},{"$f":"IF('Comm Device (Desc)'!Q4=\"\",\"\",'Comm Device (Desc)'!Q4)","v":""},{"$f":"IF('Comm Device (Desc)'!R4=\"\",\"\",'Comm Device (Desc)'!R4)","v":""},{"$f":"IF('Comm Device (Desc)'!S4=\"\",\"\",'Comm Device (Desc)'!S4)","v":""},{"$f":"IF('Comm Device (Desc)'!T4=\"\",\"\",'Comm Device (Desc)'!T4)","v":""},{"$f":"IF('Comm Device (Desc)'!U4=\"\",\"\",'Comm Device (Desc)'!U4)","v":""},{"$f":"IF('Comm Device (Desc)'!V4=\"\",\"\",INDEX([1]FIBER_CONN_TYPE!$A$2:$A$100,MATCH('Comm Device (Desc)'!$V4,[1]!MASTER_FIBER_CONN_TYPE_DESC[#Data],0),0))","v":""}]
[{"$f":"IF('Comm Device (Desc)'!A5=\"\",\"\",'Comm Device (Desc)'!A5)","v":""},{"$f":"IF('Comm Device (Desc)'!C5=\"\",\"\",\"2029\")","v":""},{"$f":"IF('Comm Device (Desc)'!C5=\"\",\"\",'Comm Device (Desc)'!C5)","v":""},{"$f":"IF('Comm Device (Desc)'!D5=\"\",\"\",INDEX([1]OWNER!$A$2:$A$100,MATCH('Comm Device (Desc)'!$D5,[1]!MASTER_OWNER_DESC[#Data],0),0))","v":""},{"$f":"IF('Comm Device (Desc)'!F5=\"\",\"\",INDEX([1]ITS_COMM_DEV_TYPE!$A$2:$A$100,MATCH('Comm Device (Desc)'!$F5,[1]!MASTER_ITS_COMM_DEV_TYPE_DESC[#Data],0),0))","v":""},{"$f":"IF('Comm Device (Desc)'!G5=\"\",\"\",INDEX([1]COMM_TYPE!$A$2:$A$100,MATCH('Comm Device (Desc)'!$G5,[1]!MASTER_COMM_TYPE_DESC[#Data],0),0))","v":""},{"$f":"IF('Comm Device (Desc)'!H5=\"\",\"\",'Comm Device (Desc)'!H5)","v":""},{"$f":"IF('Comm Device (Desc)'!I5=\"\",\"\",'Comm Device (Desc)'!I5)","v":""},{"$f":"IF('Comm Device (Desc)'!J5=\"\",\"\",INDEX([1]ITS_COMM_DEV_MANUF!$A$2:$A$300,MATCH(1,([1]ITS_COMM_DEV_MANUF!$B$2:$B$300='Comm Device (Desc)'!$J5)*([1]ITS_COMM_DEV_MANUF!$C$2:$C$300='Comm Device (Code)'!$E5),0),0))","v":""},{"$f":"IF('Comm Device (Desc)'!K5=\"\",\"\",INDEX([1]ITS_COMM_DEV_MODEL!$A$2:$A$500,MATCH(1,([1]ITS_COMM_DEV_MODEL!$C$2:$C$500='Comm Device (Desc)'!$J5)*([1]ITS_COMM_DEV_MODEL!$D$2:$D$500='Comm Device (Code)'!$E5)*([1]ITS_COMM_DEV_MODEL!$E$2:$E$500='Comm Device (Desc)'!$K5),0),0))","v":""},{"$f":"IF('Comm Device (Desc)'!L5=\"\",\"\",'Comm Device (Desc)'!L5)","v":""},{"$f":"IF('Comm Device (Desc)'!M5=\"\",\"\",'Comm Device (Desc)'!M5)","v":""},{"$f":"IF('Comm Device (Desc)'!N5=\"\",\"\",'Comm Device (Desc)'!N5)","v":""},{"$f":"IF('Comm Device (Desc)'!O5=\"\",\"\",'Comm Device (Desc)'!O5)","v":""},{"$f":"IF('Comm Device (Desc)'!P5=\"\",\"\",INDEX([1]DEV_INPUT_VOLTAGE!$A$2:$A$100,MATCH('Comm Device (Desc)'!$P5,[1]!MASTER_DEV_INPUT_VOLTAGE_DESC[#Data],0),0))","v":""},{"$f":"IF('Comm Device (Desc)'!Q5=\"\",\"\",'Comm Device (Desc)'!Q5)","v":""},{"$f":"IF('Comm Device (Desc)'!R5=\"\",\"\",'Comm Device (Desc)'!R5)","v":""},{"$f":"IF('Comm Device (Desc)'!S5=\"\",\"\",'Comm Device (Desc)'!S5)","v":""},{"$f":"IF('Comm Device (Desc)'!T5=\"\",\"\",'Comm Device (Desc)'!T5)","v":""},{"$f":"IF('Comm Device (Desc)'!U5=\"\",\"\",'Comm Device (Desc)'!U5)","v":""},{"$f":"IF('Comm Device (Desc)'!V5=\"\",\"\",INDEX([1]FIBER_CONN_TYPE!$A$2:$A$100,MATCH('Comm Device (Desc)'!$V5,[1]!MASTER_FIBER_CONN_TYPE_DESC[#Data],0),0))","v":""}]
[{"$f":"IF('Comm Device (Desc)'!A6=\"\",\"\",'Comm Device (Desc)'!A6)","v":""},{"$f":"IF('Comm Device (Desc)'!C6=\"\",\"\",\"2029\")","v":""},{"$f":"IF('Comm Device (Desc)'!C6=\"\",\"\",'Comm Device (Desc)'!C6)","v":""},{"$f":"IF('Comm Device (Desc)'!D6=\"\",\"\",INDEX([1]OWNER!$A$2:$A$100,MATCH('Comm Device (Desc)'!$D6,[1]!MASTER_OWNER_DESC[#Data],0),0))","v":""},{"$f":"IF('Comm Device (Desc)'!F6=\"\",\"\",INDEX([1]ITS_COMM_DEV_TYPE!$A$2:$A$100,MATCH('Comm Device (Desc)'!$F6,[1]!MASTER_ITS_COMM_DEV_TYPE_DESC[#Data],0),0))","v":""},{"$f":"IF('Comm Device (Desc)'!G6=\"\",\"\",INDEX([1]COMM_TYPE!$A$2:$A$100,MATCH('Comm Device (Desc)'!$G6,[1]!MASTER_COMM_TYPE_DESC[#Data],0),0))","v":""},{"$f":"IF('Comm Device (Desc)'!H6=\"\",\"\",'Comm Device (Desc)'!H6)","v":""},{"$f":"IF('Comm Device (Desc)'!I6=\"\",\"\",'Comm Device (Desc)'!I6)","v":""},{"$f":"IF('Comm Device (Desc)'!J6=\"\",\"\",INDEX([1]ITS_COMM_DEV_MANUF!$A$2:$A$300,MATCH(1,([1]ITS_COMM_DEV_MANUF!$B$2:$B$300='Comm Device (Desc)'!$J6)*([1]ITS_COMM_DEV_MANUF!$C$2:$C$300='Comm Device (Code)'!$E6),0),0))","v":""},{"$f":"IF('Comm Device (Desc)'!K6=\"\",\"\",INDEX([1]ITS_COMM_DEV_MODEL!$A$2:$A$500,MATCH(1,([1]ITS_COMM_DEV_MODEL!$C$2:$C$500='Comm Device (Desc)'!$J6)*([1]ITS_COMM_DEV_MODEL!$D$2:$D$500='Comm Device (Code)'!$E6)*([1]ITS_COMM_DEV_MODEL!$E$2:$E$500='Comm Device (Desc)'!$K6),0),0))","v":""},{"$f":"IF('Comm Device (Desc)'!L6=\"\",\"\",'Comm Device (Desc)'!L6)","v":""},{"$f":"IF('Comm Device (Desc)'!M6=\"\",\"\",'Comm Device (Desc)'!M6)","v":""},{"$f":"IF('Comm Device (Desc)'!N6=\"\",\"\",'Comm Device (Desc)'!N6)","v":""},{"$f":"IF('Comm Device (Desc)'!O6=\"\",\"\",'Comm Device (Desc)'!O6)","v":""},{"$f":"IF('Comm Device (Desc)'!P6=\"\",\"\",INDEX([1]DEV_INPUT_VOLTAGE!$A$2:$A$100,MATCH('Comm Device (Desc)'!$P6,[1]!MASTER_DEV_INPUT_VOLTAGE_DESC[#Data],0),0))","v":""},{"$f":"IF('Comm Device (Desc)'!Q6=\"\",\"\",'Comm Device (Desc)'!Q6)","v":""},{"$f":"IF('Comm Device (Desc)'!R6=\"\",\"\",'Comm Device (Desc)'!R6)","v":""},{"$f":"IF('Comm Device (Desc)'!S6=\"\",\"\",'Comm Device (Desc)'!S6)","v":""},{"$f":"IF('Comm Device (Desc)'!T6=\"\",\"\",'Comm Device (Desc)'!T6)","v":""},{"$f":"IF('Comm Device (Desc)'!U6=\"\",\"\",'Comm Device (Desc)'!U6)","v":""},{"$f":"IF('Comm Device (Desc)'!V6=\"\",\"\",INDEX([1]FIBER_CONN_TYPE!$A$2:$A$100,MATCH('Comm Device (Desc)'!$V6,[1]!MASTER_FIBER_CONN_TYPE_DESC[#Data],0),0))","v":""}]
[{"$f":"IF('Comm Device (Desc)'!A7=\"\",\"\",'Comm Device (Desc)'!A7)","v":""},{"$f":"IF('Comm Device (Desc)'!C7=\"\",\"\",\"2029\")","v":""},{"$f":"IF('Comm Device (Desc)'!C7=\"\",\"\",'Comm Device (Desc)'!C7)","v":""},{"$f":"IF('Comm Device (Desc)'!D7=\"\",\"\",INDEX([1]OWNER!$A$2:$A$100,MATCH('Comm Device (Desc)'!$D7,[1]!MASTER_OWNER_DESC[#Data],0),0))","v":""},{"$f":"IF('Comm Device (Desc)'!F7=\"\",\"\",INDEX([1]ITS_COMM_DEV_TYPE!$A$2:$A$100,MATCH('Comm Device (Desc)'!$F7,[1]!MASTER_ITS_COMM_DEV_TYPE_DESC[#Data],0),0))","v":""},{"$f":"IF('Comm Device (Desc)'!G7=\"\",\"\",INDEX([1]COMM_TYPE!$A$2:$A$100,MATCH('Comm Device (Desc)'!$G7,[1]!MASTER_COMM_TYPE_DESC[#Data],0),0))","v":""},{"$f":"IF('Comm Device (Desc)'!H7=\"\",\"\",'Comm Device (Desc)'!H7)","v":""},{"$f":"IF('Comm Device (Desc)'!I7=\"\",\"\",'Comm Device (Desc)'!I7)","v":""},{"$f":"IF('Comm Device (Desc)'!J7=\"\",\"\",INDEX([1]ITS_COMM_DEV_MANUF!$A$2:$A$300,MATCH(1,([1]ITS_COMM_DEV_MANUF!$B$2:$B$300='Comm Device (Desc)'!$J7)*([1]ITS_COMM_DEV_MANUF!$C$2:$C$300='Comm Device (Code)'!$E7),0),0))","v":""},{"$f":"IF('Comm Device (Desc)'!K7=\"\",\"\",INDEX([1]ITS_COMM_DEV_MODEL!$A$2:$A$500,MATCH(1,([1]ITS_COMM_DEV_MODEL!$C$2:$C$500='Comm Device (Desc)'!$J7)*([1]ITS_COMM_DEV_MODEL!$D$2:$D$500='Comm Device (Code)'!$E7)*([1]ITS_COMM_DEV_MODEL!$E$2:$E$500='Comm Device (Desc)'!$K7),0),0))","v":""},{"$f":"IF('Comm Device (Desc)'!L7=\"\",\"\",'Comm Device (Desc)'!L7)","v":""},{"$f":"IF('Comm Device (Desc)'!M7=\"\",\"\",'Comm Device (Desc)'!M7)","v":""},{"$f":"IF('Comm Device (Desc)'!N7=\"\",\"\",'Comm Device (Desc)'!N7)","v":""},{"$f":"IF('Comm Device (Desc)'!O7=\"\",\"\",'Comm Device (Desc)'!O7)","v":""},{"$f":"IF('Comm Device (Desc)'!P7=\"\",\"\",INDEX([1]DEV_INPUT_VOLTAGE!$A$2:$A$100,MATCH('Comm Device (Desc)'!$P7,[1]!MASTER_DEV_INPUT_VOLTAGE_DESC[#Data],0),0))","v":""},{"$f":"IF('Comm Device (Desc)'!Q7=\"\",\"\",'Comm Device (Desc)'!Q7)","v":""},{"$f":"IF('Comm Device (Desc)'!R7=\"\",\"\",'Comm Device (Desc)'!R7)","v":""},{"$f":"IF('Comm Device (Desc)'!S7=\"\",\"\",'Comm Device (Desc)'!S7)","v":""},{"$f":"IF('Comm Device (Desc)'!T7=\"\",\"\",'Comm Device (Desc)'!T7)","v":""},{"$f":"IF('Comm Device (Desc)'!U7=\"\",\"\",'Comm Device (Desc)'!U7)","v":""},{"$f":"IF('Comm Device (Desc)'!V7=\"\",\"\",INDEX([1]FIBER_CONN_TYPE!$A$2:$A$100,MATCH('Comm Device (Desc)'!$V7,[1]!MASTER_FIBER_CONN_TYPE_DESC[#Data],0),0))","v":""}]
[{"$f":"IF('Comm Device (Desc)'!A8=\"\",\"\",'Comm Device (Desc)'!A8)","v":""},{"$f":"IF('Comm Device (Desc)'!C8=\"\",\"\",\"2029\")","v":""},{"$f":"IF('Comm Device (Desc)'!C8=\"\",\"\",'Comm Device (Desc)'!C8)","v":""},{"$f":"IF('Comm Device (Desc)'!D8=\"\",\"\",INDEX([1]OWNER!$A$2:$A$100,MATCH('Comm Device (Desc)'!$D8,[1]!MASTER_OWNER_DESC[#Data],0),0))","v":""},{"$f":"IF('Comm Device (Desc)'!F8=\"\",\"\",INDEX([1]ITS_COMM_DEV_TYPE!$A$2:$A$100,MATCH('Comm Device (Desc)'!$F8,[1]!MASTER_ITS_COMM_DEV_TYPE_DESC[#Data],0),0))","v":""},{"$f":"IF('Comm Device (Desc)'!G8=\"\",\"\",INDEX([1]COMM_TYPE!$A$2:$A$100,MATCH('Comm Device (Desc)'!$G8,[1]!MASTER_COMM_TYPE_DESC[#Data],0),0))","v":""},{"$f":"IF('Comm Device (Desc)'!H8=\"\",\"\",'Comm Device (Desc)'!H8)","v":""},{"$f":"IF('Comm Device (Desc)'!I8=\"\",\"\",'Comm Device (Desc)'!I8)","v":""},{"$f":"IF('Comm Device (Desc)'!J8=\"\",\"\",INDEX([1]ITS_COMM_DEV_MANUF!$A$2:$A$300,MATCH(1,([1]ITS_COMM_DEV_MANUF!$B$2:$B$300='Comm Device (Desc)'!$J8)*([1]ITS_COMM_DEV_MANUF!$C$2:$C$300='Comm Device (Code)'!$E8),0),0))","v":""},{"$f":"IF('Comm Device (Desc)'!K8=\"\",\"\",INDEX([1]ITS_COMM_DEV_MODEL!$A$2:$A$500,MATCH(1,([1]ITS_COMM_DEV_MODEL!$C$2:$C$500='Comm Device (Desc)'!$J8)*([1]ITS_COMM_DEV_MODEL!$D$2:$D$500='Comm Device (Code)'!$E8)*([1]ITS_COMM_DEV_MODEL!$E$2:$E$500='Comm Device (Desc)'!$K8),0),0))","v":""},{"$f":"IF('Comm Device (Desc)'!L8=\"\",\"\",'Comm Device (Desc)'!L8)","v":""},{"$f":"IF('Comm Device (Desc)'!M8=\"\",\"\",'Comm Device (Desc)'!M8)","v":""},{"$f":"IF('Comm Device (Desc)'!N8=\"\",\"\",'Comm Device (Desc)'!N8)","v":""},{"$f":"IF('Comm Device (Desc)'!O8=\"\",\"\",'Comm Device (Desc)'!O8)","v":""},{"$f":"IF('Comm Device (Desc)'!P8=\"\",\"\",INDEX([1]DEV_INPUT_VOLTAGE!$A$2:$A$100,MATCH('Comm Device (Desc)'!$P8,[1]!MASTER_DEV_INPUT_VOLTAGE_DESC[#Data],0),0))","v":""},{"$f":"IF('Comm Device (Desc)'!Q8=\"\",\"\",'Comm Device (Desc)'!Q8)","v":""},{"$f":"IF('Comm Device (Desc)'!R8=\"\",\"\",'Comm Device (Desc)'!R8)","v":""},{"$f":"IF('Comm Device (Desc)'!S8=\"\",\"\",'Comm Device (Desc)'!S8)","v":""},{"$f":"IF('Comm Device (Desc)'!T8=\"\",\"\",'Comm Device (Desc)'!T8)","v":""},{"$f":"IF('Comm Device (Desc)'!U8=\"\",\"\",'Comm Device (Desc)'!U8)","v":""},{"$f":"IF('Comm Device (Desc)'!V8=\"\",\"\",INDEX([1]FIBER_CONN_TYPE!$A$2:$A$100,MATCH('Comm Device (Desc)'!$V8,[1]!MASTER_FIBER_CONN_TYPE_DESC[#Data],0),0))","v":""}]
[{"$f":"IF('Comm Device (Desc)'!A9=\"\",\"\",'Comm Device (Desc)'!A9)","v":""},{"$f":"IF('Comm Device (Desc)'!C9=\"\",\"\",\"2029\")","v":""},{"$f":"IF('Comm Device (Desc)'!C9=\"\",\"\",'Comm Device (Desc)'!C9)","v":""},{"$f":"IF('Comm Device (Desc)'!D9=\"\",\"\",INDEX([1]OWNER!$A$2:$A$100,MATCH('Comm Device (Desc)'!$D9,[1]!MASTER_OWNER_DESC[#Data],0),0))","v":""},{"$f":"IF('Comm Device (Desc)'!F9=\"\",\"\",INDEX([1]ITS_COMM_DEV_TYPE!$A$2:$A$100,MATCH('Comm Device (Desc)'!$F9,[1]!MASTER_ITS_COMM_DEV_TYPE_DESC[#Data],0),0))","v":""},{"$f":"IF('Comm Device (Desc)'!G9=\"\",\"\",INDEX([1]COMM_TYPE!$A$2:$A$100,MATCH('Comm Device (Desc)'!$G9,[1]!MASTER_COMM_TYPE_DESC[#Data],0),0))","v":""},{"$f":"IF('Comm Device (Desc)'!H9=\"\",\"\",'Comm Device (Desc)'!H9)","v":""},{"$f":"IF('Comm Device (Desc)'!I9=\"\",\"\",'Comm Device (Desc)'!I9)","v":""},{"$f":"IF('Comm Device (Desc)'!J9=\"\",\"\",INDEX([1]ITS_COMM_DEV_MANUF!$A$2:$A$300,MATCH(1,([1]ITS_COMM_DEV_MANUF!$B$2:$B$300='Comm Device (Desc)'!$J9)*([1]ITS_COMM_DEV_MANUF!$C$2:$C$300='Comm Device (Code)'!$E9),0),0))","v":""},{"$f":"IF('Comm Device (Desc)'!K9=\"\",\"\",INDEX([1]ITS_COMM_DEV_MODEL!$A$2:$A$500,MATCH(1,([1]ITS_COMM_DEV_MODEL!$C$2:$C$500='Comm Device (Desc)'!$J9)*([1]ITS_COMM_DEV_MODEL!$D$2:$D$500='Comm Device (Code)'!$E9)*([1]ITS_COMM_DEV_MODEL!$E$2:$E$500='Comm Device (Desc)'!$K9),0),0))","v":""},{"$f":"IF('Comm Device (Desc)'!L9=\"\",\"\",'Comm Device (Desc)'!L9)","v":""},{"$f":"IF('Comm Device (Desc)'!M9=\"\",\"\",'Comm Device (Desc)'!M9)","v":""},{"$f":"IF('Comm Device (Desc)'!N9=\"\",\"\",'Comm Device (Desc)'!N9)","v":""},{"$f":"IF('Comm Device (Desc)'!O9=\"\",\"\",'Comm Device (Desc)'!O9)","v":""},{"$f":"IF('Comm Device (Desc)'!P9=\"\",\"\",INDEX([1]DEV_INPUT_VOLTAGE!$A$2:$A$100,MATCH('Comm Device (Desc)'!$P9,[1]!MASTER_DEV_INPUT_VOLTAGE_DESC[#Data],0),0))","v":""},{"$f":"IF('Comm Device (Desc)'!Q9=\"\",\"\",'Comm Device (Desc)'!Q9)","v":""},{"$f":"IF('Comm Device (Desc)'!R9=\"\",\"\",'Comm Device (Desc)'!R9)","v":""},{"$f":"IF('Comm Device (Desc)'!S9=\"\",\"\",'Comm Device (Desc)'!S9)","v":""},{"$f":"IF('Comm Device (Desc)'!T9=\"\",\"\",'Comm Device (Desc)'!T9)","v":""},{"$f":"IF('Comm Device (Desc)'!U9=\"\",\"\",'Comm Device (Desc)'!U9)","v":""},{"$f":"IF('Comm Device (Desc)'!V9=\"\",\"\",INDEX([1]FIBER_CONN_TYPE!$A$2:$A$100,MATCH('Comm Device (Desc)'!$V9,[1]!MASTER_FIBER_CONN_TYPE_DESC[#Data],0),0))","v":""}]
[{"$f":"IF('Comm Device (Desc)'!A10=\"\",\"\",'Comm Device (Desc)'!A10)","v":""},{"$f":"IF('Comm Device (Desc)'!C10=\"\",\"\",\"2029\")","v":""},{"$f":"IF('Comm Device (Desc)'!C10=\"\",\"\",'Comm Device (Desc)'!C10)","v":""},{"$f":"IF('Comm Device (Desc)'!D10=\"\",\"\",INDEX([1]OWNER!$A$2:$A$100,MATCH('Comm Device (Desc)'!$D10,[1]!MASTER_OWNER_DESC[#Data],0),0))","v":""},{"$f":"IF('Comm Device (Desc)'!F10=\"\",\"\",INDEX([1]ITS_COMM_DEV_TYPE!$A$2:$A$100,MATCH('Comm Device (Desc)'!$F10,[1]!MASTER_ITS_COMM_DEV_TYPE_DESC[#Data],0),0))","v":""},{"$f":"IF('Comm Device (Desc)'!G10=\"\",\"\",INDEX([1]COMM_TYPE!$A$2:$A$100,MATCH('Comm Device (Desc)'!$G10,[1]!MASTER_COMM_TYPE_DESC[#Data],0),0))","v":""},{"$f":"IF('Comm Device (Desc)'!H10=\"\",\"\",'Comm Device (Desc)'!H10)","v":""},{"$f":"IF('Comm Device (Desc)'!I10=\"\",\"\",'Comm Device (Desc)'!I10)","v":""},{"$f":"IF('Comm Device (Desc)'!J10=\"\",\"\",INDEX([1]ITS_COMM_DEV_MANUF!$A$2:$A$300,MATCH(1,([1]ITS_COMM_DEV_MANUF!$B$2:$B$300='Comm Device (Desc)'!$J10)*([1]ITS_COMM_DEV_MANUF!$C$2:$C$300='Comm Device (Code)'!$E10),0),0))","v":""},{"$f":"IF('Comm Device (Desc)'!K10=\"\",\"\",INDEX([1]ITS_COMM_DEV_MODEL!$A$2:$A$500,MATCH(1,([1]ITS_COMM_DEV_MODEL!$C$2:$C$500='Comm Device (Desc)'!$J10)*([1]ITS_COMM_DEV_MODEL!$D$2:$D$500='Comm Device (Code)'!$E10)*([1]ITS_COMM_DEV_MODEL!$E$2:$E$500='Comm Device (Desc)'!$K10),0),0))","v":""},{"$f":"IF('Comm Device (Desc)'!L10=\"\",\"\",'Comm Device (Desc)'!L10)","v":""},{"$f":"IF('Comm Device (Desc)'!M10=\"\",\"\",'Comm Device (Desc)'!M10)","v":""},{"$f":"IF('Comm Device (Desc)'!N10=\"\",\"\",'Comm Device (Desc)'!N10)","v":""},{"$f":"IF('Comm Device (Desc)'!O10=\"\",\"\",'Comm Device (Desc)'!O10)","v":""},{"$f":"IF('Comm Device (Desc)'!P10=\"\",\"\",INDEX([1]DEV_INPUT_VOLTAGE!$A$2:$A$100,MATCH('Comm Device (Desc)'!$P10,[1]!MASTER_DEV_INPUT_VOLTAGE_DESC[#Data],0),0))","v":""},{"$f":"IF('Comm Device (Desc)'!Q10=\"\",\"\",'Comm Device (Desc)'!Q10)","v":""},{"$f":"IF('Comm Device (Desc)'!R10=\"\",\"\",'Comm Device (Desc)'!R10)","v":""},{"$f":"IF('Comm Device (Desc)'!S10=\"\",\"\",'Comm Device (Desc)'!S10)","v":""},{"$f":"IF('Comm Device (Desc)'!T10=\"\",\"\",'Comm Device (Desc)'!T10)","v":""},{"$f":"IF('Comm Device (Desc)'!U10=\"\",\"\",'Comm Device (Desc)'!U10)","v":""},{"$f":"IF('Comm Device (Desc)'!V10=\"\",\"\",INDEX([1]FIBER_CONN_TYPE!$A$2:$A$100,MATCH('Comm Device (Desc)'!$V10,[1]!MASTER_FIBER_CONN_TYPE_DESC[#Data],0),0))","v":""}]
[{"$f":"IF('Comm Device (Desc)'!A11=\"\",\"\",'Comm Device (Desc)'!A11)","v":""},{"$f":"IF('Comm Device (Desc)'!C11=\"\",\"\",\"2029\")","v":""},{"$f":"IF('Comm Device (Desc)'!C11=\"\",\"\",'Comm Device (Desc)'!C11)","v":""},{"$f":"IF('Comm Device (Desc)'!D11=\"\",\"\",INDEX([1]OWNER!$A$2:$A$100,MATCH('Comm Device (Desc)'!$D11,[1]!MASTER_OWNER_DESC[#Data],0),0))","v":""},{"$f":"IF('Comm Device (Desc)'!F11=\"\",\"\",INDEX([1]ITS_COMM_DEV_TYPE!$A$2:$A$100,MATCH('Comm Device (Desc)'!$F11,[1]!MASTER_ITS_COMM_DEV_TYPE_DESC[#Data],0),0))","v":""},{"$f":"IF('Comm Device (Desc)'!G11=\"\",\"\",INDEX([1]COMM_TYPE!$A$2:$A$100,MATCH('Comm Device (Desc)'!$G11,[1]!MASTER_COMM_TYPE_DESC[#Data],0),0))","v":""},{"$f":"IF('Comm Device (Desc)'!H11=\"\",\"\",'Comm Device (Desc)'!H11)","v":""},{"$f":"IF('Comm Device (Desc)'!I11=\"\",\"\",'Comm Device (Desc)'!I11)","v":""},{"$f":"IF('Comm Device (Desc)'!J11=\"\",\"\",INDEX([1]ITS_COMM_DEV_MANUF!$A$2:$A$300,MATCH(1,([1]ITS_COMM_DEV_MANUF!$B$2:$B$300='Comm Device (Desc)'!$J11)*([1]ITS_COMM_DEV_MANUF!$C$2:$C$300='Comm Device (Code)'!$E11),0),0))","v":""},{"$f":"IF('Comm Device (Desc)'!K11=\"\",\"\",INDEX([1]ITS_COMM_DEV_MODEL!$A$2:$A$500,MATCH(1,([1]ITS_COMM_DEV_MODEL!$C$2:$C$500='Comm Device (Desc)'!$J11)*([1]ITS_COMM_DEV_MODEL!$D$2:$D$500='Comm Device (Code)'!$E11)*([1]ITS_COMM_DEV_MODEL!$E$2:$E$500='Comm Device (Desc)'!$K11),0),0))","v":""},{"$f":"IF('Comm Device (Desc)'!L11=\"\",\"\",'Comm Device (Desc)'!L11)","v":""},{"$f":"IF('Comm Device (Desc)'!M11=\"\",\"\",'Comm Device (Desc)'!M11)","v":""},{"$f":"IF('Comm Device (Desc)'!N11=\"\",\"\",'Comm Device (Desc)'!N11)","v":""},{"$f":"IF('Comm Device (Desc)'!O11=\"\",\"\",'Comm Device (Desc)'!O11)","v":""},{"$f":"IF('Comm Device (Desc)'!P11=\"\",\"\",INDEX([1]DEV_INPUT_VOLTAGE!$A$2:$A$100,MATCH('Comm Device (Desc)'!$P11,[1]!MASTER_DEV_INPUT_VOLTAGE_DESC[#Data],0),0))","v":""},{"$f":"IF('Comm Device (Desc)'!Q11=\"\",\"\",'Comm Device (Desc)'!Q11)","v":""},{"$f":"IF('Comm Device (Desc)'!R11=\"\",\"\",'Comm Device (Desc)'!R11)","v":""},{"$f":"IF('Comm Device (Desc)'!S11=\"\",\"\",'Comm Device (Desc)'!S11)","v":""},{"$f":"IF('Comm Device (Desc)'!T11=\"\",\"\",'Comm Device (Desc)'!T11)","v":""},{"$f":"IF('Comm Device (Desc)'!U11=\"\",\"\",'Comm Device (Desc)'!U11)","v":""},{"$f":"IF('Comm Device (Desc)'!V11=\"\",\"\",INDEX([1]FIBER_CONN_TYPE!$A$2:$A$100,MATCH('Comm Device (Desc)'!$V11,[1]!MASTER_FIBER_CONN_TYPE_DESC[#Data],0),0))","v":""}]
[{"$f":"IF('Comm Device (Desc)'!A12=\"\",\"\",'Comm Device (Desc)'!A12)","v":""},{"$f":"IF('Comm Device (Desc)'!C12=\"\",\"\",\"2029\")","v":""},{"$f":"IF('Comm Device (Desc)'!C12=\"\",\"\",'Comm Device (Desc)'!C12)","v":""},{"$f":"IF('Comm Device (Desc)'!D12=\"\",\"\",INDEX([1]OWNER!$A$2:$A$100,MATCH('Comm Device (Desc)'!$D12,[1]!MASTER_OWNER_DESC[#Data],0),0))","v":""},{"$f":"IF('Comm Device (Desc)'!F12=\"\",\"\",INDEX([1]ITS_COMM_DEV_TYPE!$A$2:$A$100,MATCH('Comm Device (Desc)'!$F12,[1]!MASTER_ITS_COMM_DEV_TYPE_DESC[#Data],0),0))","v":""},{"$f":"IF('Comm Device (Desc)'!G12=\"\",\"\",INDEX([1]COMM_TYPE!$A$2:$A$100,MATCH('Comm Device (Desc)'!$G12,[1]!MASTER_COMM_TYPE_DESC[#Data],0),0))","v":""},{"$f":"IF('Comm Device (Desc)'!H12=\"\",\"\",'Comm Device (Desc)'!H12)","v":""},{"$f":"IF('Comm Device (Desc)'!I12=\"\",\"\",'Comm Device (Desc)'!I12)","v":""},{"$f":"IF('Comm Device (Desc)'!J12=\"\",\"\",INDEX([1]ITS_COMM_DEV_MANUF!$A$2:$A$300,MATCH(1,([1]ITS_COMM_DEV_MANUF!$B$2:$B$300='Comm Device (Desc)'!$J12)*([1]ITS_COMM_DEV_MANUF!$C$2:$C$300='Comm Device (Code)'!$E12),0),0))","v":""},{"$f":"IF('Comm Device (Desc)'!K12=\"\",\"\",INDEX([1]ITS_COMM_DEV_MODEL!$A$2:$A$500,MATCH(1,([1]ITS_COMM_DEV_MODEL!$C$2:$C$500='Comm Device (Desc)'!$J12)*([1]ITS_COMM_DEV_MODEL!$D$2:$D$500='Comm Device (Code)'!$E12)*([1]ITS_COMM_DEV_MODEL!$E$2:$E$500='Comm Device (Desc)'!$K12),0),0))","v":""},{"$f":"IF('Comm Device (Desc)'!L12=\"\",\"\",'Comm Device (Desc)'!L12)","v":""},{"$f":"IF('Comm Device (Desc)'!M12=\"\",\"\",'Comm Device (Desc)'!M12)","v":""},{"$f":"IF('Comm Device (Desc)'!N12=\"\",\"\",'Comm Device (Desc)'!N12)","v":""},{"$f":"IF('Comm Device (Desc)'!O12=\"\",\"\",'Comm Device (Desc)'!O12)","v":""},{"$f":"IF('Comm Device (Desc)'!P12=\"\",\"\",INDEX([1]DEV_INPUT_VOLTAGE!$A$2:$A$100,MATCH('Comm Device (Desc)'!$P12,[1]!MASTER_DEV_INPUT_VOLTAGE_DESC[#Data],0),0))","v":""},{"$f":"IF('Comm Device (Desc)'!Q12=\"\",\"\",'Comm Device (Desc)'!Q12)","v":""},{"$f":"IF('Comm Device (Desc)'!R12=\"\",\"\",'Comm Device (Desc)'!R12)","v":""},{"$f":"IF('Comm Device (Desc)'!S12=\"\",\"\",'Comm Device (Desc)'!S12)","v":""},{"$f":"IF('Comm Device (Desc)'!T12=\"\",\"\",'Comm Device (Desc)'!T12)","v":""},{"$f":"IF('Comm Device (Desc)'!U12=\"\",\"\",'Comm Device (Desc)'!U12)","v":""},{"$f":"IF('Comm Device (Desc)'!V12=\"\",\"\",INDEX([1]FIBER_CONN_TYPE!$A$2:$A$100,MATCH('Comm Device (Desc)'!$V12,[1]!MASTER_FIBER_CONN_TYPE_DESC[#Data],0),0))","v":""}]
[{"$f":"IF('Comm Device (Desc)'!A13=\"\",\"\",'Comm Device (Desc)'!A13)","v":""},{"$f":"IF('Comm Device (Desc)'!C13=\"\",\"\",\"2029\")","v":""},{"$f":"IF('Comm Device (Desc)'!C13=\"\",\"\",'Comm Device (Desc)'!C13)","v":""},{"$f":"IF('Comm Device (Desc)'!D13=\"\",\"\",INDEX([1]OWNER!$A$2:$A$100,MATCH('Comm Device (Desc)'!$D13,[1]!MASTER_OWNER_DESC[#Data],0),0))","v":""},{"$f":"IF('Comm Device (Desc)'!F13=\"\",\"\",INDEX([1]ITS_COMM_DEV_TYPE!$A$2:$A$100,MATCH('Comm Device (Desc)'!$F13,[1]!MASTER_ITS_COMM_DEV_TYPE_DESC[#Data],0),0))","v":""},{"$f":"IF('Comm Device (Desc)'!G13=\"\",\"\",INDEX([1]COMM_TYPE!$A$2:$A$100,MATCH('Comm Device (Desc)'!$G13,[1]!MASTER_COMM_TYPE_DESC[#Data],0),0))","v":""},{"$f":"IF('Comm Device (Desc)'!H13=\"\",\"\",'Comm Device (Desc)'!H13)","v":""},{"$f":"IF('Comm Device (Desc)'!I13=\"\",\"\",'Comm Device (Desc)'!I13)","v":""},{"$f":"IF('Comm Device (Desc)'!J13=\"\",\"\",INDEX([1]ITS_COMM_DEV_MANUF!$A$2:$A$300,MATCH(1,([1]ITS_COMM_DEV_MANUF!$B$2:$B$300='Comm Device (Desc)'!$J13)*([1]ITS_COMM_DEV_MANUF!$C$2:$C$300='Comm Device (Code)'!$E13),0),0))","v":""},{"$f":"IF('Comm Device (Desc)'!K13=\"\",\"\",INDEX([1]ITS_COMM_DEV_MODEL!$A$2:$A$500,MATCH(1,([1]ITS_COMM_DEV_MODEL!$C$2:$C$500='Comm Device (Desc)'!$J13)*([1]ITS_COMM_DEV_MODEL!$D$2:$D$500='Comm Device (Code)'!$E13)*([1]ITS_COMM_DEV_MODEL!$E$2:$E$500='Comm Device (Desc)'!$K13),0),0))","v":""},{"$f":"IF('Comm Device (Desc)'!L13=\"\",\"\",'Comm Device (Desc)'!L13)","v":""},{"$f":"IF('Comm Device (Desc)'!M13=\"\",\"\",'Comm Device (Desc)'!M13)","v":""},{"$f":"IF('Comm Device (Desc)'!N13=\"\",\"\",'Comm Device (Desc)'!N13)","v":""},{"$f":"IF('Comm Device (Desc)'!O13=\"\",\"\",'Comm Device (Desc)'!O13)","v":""},{"$f":"IF('Comm Device (Desc)'!P13=\"\",\"\",INDEX([1]DEV_INPUT_VOLTAGE!$A$2:$A$100,MATCH('Comm Device (Desc)'!$P13,[1]!MASTER_DEV_INPUT_VOLTAGE_DESC[#Data],0),0))","v":""},{"$f":"IF('Comm Device (Desc)'!Q13=\"\",\"\",'Comm Device (Desc)'!Q13)","v":""},{"$f":"IF('Comm Device (Desc)'!R13=\"\",\"\",'Comm Device (Desc)'!R13)","v":""},{"$f":"IF('Comm Device (Desc)'!S13=\"\",\"\",'Comm Device (Desc)'!S13)","v":""},{"$f":"IF('Comm Device (Desc)'!T13=\"\",\"\",'Comm Device (Desc)'!T13)","v":""},{"$f":"IF('Comm Device (Desc)'!U13=\"\",\"\",'Comm Device (Desc)'!U13)","v":""},{"$f":"IF('Comm Device (Desc)'!V13=\"\",\"\",INDEX([1]FIBER_CONN_TYPE!$A$2:$A$100,MATCH('Comm Device (Desc)'!$V13,[1]!MASTER_FIBER_CONN_TYPE_DESC[#Data],0),0))","v":""}]
[{"$f":"IF('Comm Device (Desc)'!A14=\"\",\"\",'Comm Device (Desc)'!A14)","v":""},{"$f":"IF('Comm Device (Desc)'!C14=\"\",\"\",\"2029\")","v":""},{"$f":"IF('Comm Device (Desc)'!C14=\"\",\"\",'Comm Device (Desc)'!C14)","v":""},{"$f":"IF('Comm Device (Desc)'!D14=\"\",\"\",INDEX([1]OWNER!$A$2:$A$100,MATCH('Comm Device (Desc)'!$D14,[1]!MASTER_OWNER_DESC[#Data],0),0))","v":""},{"$f":"IF('Comm Device (Desc)'!F14=\"\",\"\",INDEX([1]ITS_COMM_DEV_TYPE!$A$2:$A$100,MATCH('Comm Device (Desc)'!$F14,[1]!MASTER_ITS_COMM_DEV_TYPE_DESC[#Data],0),0))","v":""},{"$f":"IF('Comm Device (Desc)'!G14=\"\",\"\",INDEX([1]COMM_TYPE!$A$2:$A$100,MATCH('Comm Device (Desc)'!$G14,[1]!MASTER_COMM_TYPE_DESC[#Data],0),0))","v":""},{"$f":"IF('Comm Device (Desc)'!H14=\"\",\"\",'Comm Device (Desc)'!H14)","v":""},{"$f":"IF('Comm Device (Desc)'!I14=\"\",\"\",'Comm Device (Desc)'!I14)","v":""},{"$f":"IF('Comm Device (Desc)'!J14=\"\",\"\",INDEX([1]ITS_COMM_DEV_MANUF!$A$2:$A$300,MATCH(1,([1]ITS_COMM_DEV_MANUF!$B$2:$B$300='Comm Device (Desc)'!$J14)*([1]ITS_COMM_DEV_MANUF!$C$2:$C$300='Comm Device (Code)'!$E14),0),0))","v":""},{"$f":"IF('Comm Device (Desc)'!K14=\"\",\"\",INDEX([1]ITS_COMM_DEV_MODEL!$A$2:$A$500,MATCH(1,([1]ITS_COMM_DEV_MODEL!$C$2:$C$500='Comm Device (Desc)'!$J14)*([1]ITS_COMM_DEV_MODEL!$D$2:$D$500='Comm Device (Code)'!$E14)*([1]ITS_COMM_DEV_MODEL!$E$2:$E$500='Comm Device (Desc)'!$K14),0),0))","v":""},{"$f":"IF('Comm Device (Desc)'!L14=\"\",\"\",'Comm Device (Desc)'!L14)","v":""},{"$f":"IF('Comm Device (Desc)'!M14=\"\",\"\",'Comm Device (Desc)'!M14)","v":""},{"$f":"IF('Comm Device (Desc)'!N14=\"\",\"\",'Comm Device (Desc)'!N14)","v":""},{"$f":"IF('Comm Device (Desc)'!O14=\"\",\"\",'Comm Device (Desc)'!O14)","v":""},{"$f":"IF('Comm Device (Desc)'!P14=\"\",\"\",INDEX([1]DEV_INPUT_VOLTAGE!$A$2:$A$100,MATCH('Comm Device (Desc)'!$P14,[1]!MASTER_DEV_INPUT_VOLTAGE_DESC[#Data],0),0))","v":""},{"$f":"IF('Comm Device (Desc)'!Q14=\"\",\"\",'Comm Device (Desc)'!Q14)","v":""},{"$f":"IF('Comm Device (Desc)'!R14=\"\",\"\",'Comm Device (Desc)'!R14)","v":""},{"$f":"IF('Comm Device (Desc)'!S14=\"\",\"\",'Comm Device (Desc)'!S14)","v":""},{"$f":"IF('Comm Device (Desc)'!T14=\"\",\"\",'Comm Device (Desc)'!T14)","v":""},{"$f":"IF('Comm Device (Desc)'!U14=\"\",\"\",'Comm Device (Desc)'!U14)","v":""},{"$f":"IF('Comm Device (Desc)'!V14=\"\",\"\",INDEX([1]FIBER_CONN_TYPE!$A$2:$A$100,MATCH('Comm Device (Desc)'!$V14,[1]!MASTER_FIBER_CONN_TYPE_DESC[#Data],0),0))","v":""}]
[{"$f":"IF('Comm Device (Desc)'!A15=\"\",\"\",'Comm Device (Desc)'!A15)","v":""},{"$f":"IF('Comm Device (Desc)'!C15=\"\",\"\",\"2029\")","v":""},{"$f":"IF('Comm Device (Desc)'!C15=\"\",\"\",'Comm Device (Desc)'!C15)","v":""},{"$f":"IF('Comm Device (Desc)'!D15=\"\",\"\",INDEX([1]OWNER!$A$2:$A$100,MATCH('Comm Device (Desc)'!$D15,[1]!MASTER_OWNER_DESC[#Data],0),0))","v":""},{"$f":"IF('Comm Device (Desc)'!F15=\"\",\"\",INDEX([1]ITS_COMM_DEV_TYPE!$A$2:$A$100,MATCH('Comm Device (Desc)'!$F15,[1]!MASTER_ITS_COMM_DEV_TYPE_DESC[#Data],0),0))","v":""},{"$f":"IF('Comm Device (Desc)'!G15=\"\",\"\",INDEX([1]COMM_TYPE!$A$2:$A$100,MATCH('Comm Device (Desc)'!$G15,[1]!MASTER_COMM_TYPE_DESC[#Data],0),0))","v":""},{"$f":"IF('Comm Device (Desc)'!H15=\"\",\"\",'Comm Device (Desc)'!H15)","v":""},{"$f":"IF('Comm Device (Desc)'!I15=\"\",\"\",'Comm Device (Desc)'!I15)","v":""},{"$f":"IF('Comm Device (Desc)'!J15=\"\",\"\",INDEX([1]ITS_COMM_DEV_MANUF!$A$2:$A$300,MATCH(1,([1]ITS_COMM_DEV_MANUF!$B$2:$B$300='Comm Device (Desc)'!$J15)*([1]ITS_COMM_DEV_MANUF!$C$2:$C$300='Comm Device (Code)'!$E15),0),0))","v":""},{"$f":"IF('Comm Device (Desc)'!K15=\"\",\"\",INDEX([1]ITS_COMM_DEV_MODEL!$A$2:$A$500,MATCH(1,([1]ITS_COMM_DEV_MODEL!$C$2:$C$500='Comm Device (Desc)'!$J15)*([1]ITS_COMM_DEV_MODEL!$D$2:$D$500='Comm Device (Code)'!$E15)*([1]ITS_COMM_DEV_MODEL!$E$2:$E$500='Comm Device (Desc)'!$K15),0),0))","v":""},{"$f":"IF('Comm Device (Desc)'!L15=\"\",\"\",'Comm Device (Desc)'!L15)","v":""},{"$f":"IF('Comm Device (Desc)'!M15=\"\",\"\",'Comm Device (Desc)'!M15)","v":""},{"$f":"IF('Comm Device (Desc)'!N15=\"\",\"\",'Comm Device (Desc)'!N15)","v":""},{"$f":"IF('Comm Device (Desc)'!O15=\"\",\"\",'Comm Device (Desc)'!O15)","v":""},{"$f":"IF('Comm Device (Desc)'!P15=\"\",\"\",INDEX([1]DEV_INPUT_VOLTAGE!$A$2:$A$100,MATCH('Comm Device (Desc)'!$P15,[1]!MASTER_DEV_INPUT_VOLTAGE_DESC[#Data],0),0))","v":""},{"$f":"IF('Comm Device (Desc)'!Q15=\"\",\"\",'Comm Device (Desc)'!Q15)","v":""},{"$f":"IF('Comm Device (Desc)'!R15=\"\",\"\",'Comm Device (Desc)'!R15)","v":""},{"$f":"IF('Comm Device (Desc)'!S15=\"\",\"\",'Comm Device (Desc)'!S15)","v":""},{"$f":"IF('Comm Device (Desc)'!T15=\"\",\"\",'Comm Device (Desc)'!T15)","v":""},{"$f":"IF('Comm Device (Desc)'!U15=\"\",\"\",'Comm Device (Desc)'!U15)","v":""},{"$f":"IF('Comm Device (Desc)'!V15=\"\",\"\",INDEX([1]FIBER_CONN_TYPE!$A$2:$A$100,MATCH('Comm Device (Desc)'!$V15,[1]!MASTER_FIBER_CONN_TYPE_DESC[#Data],0),0))","v":""}]
[{"$f":"IF('Comm Device (Desc)'!A16=\"\",\"\",'Comm Device (Desc)'!A16)","v":""},{"$f":"IF('Comm Device (Desc)'!C16=\"\",\"\",\"2029\")","v":""},{"$f":"IF('Comm Device (Desc)'!C16=\"\",\"\",'Comm Device (Desc)'!C16)","v":""},{"$f":"IF('Comm Device (Desc)'!D16=\"\",\"\",INDEX([1]OWNER!$A$2:$A$100,MATCH('Comm Device (Desc)'!$D16,[1]!MASTER_OWNER_DESC[#Data],0),0))","v":""},{"$f":"IF('Comm Device (Desc)'!F16=\"\",\"\",INDEX([1]ITS_COMM_DEV_TYPE!$A$2:$A$100,MATCH('Comm Device (Desc)'!$F16,[1]!MASTER_ITS_COMM_DEV_TYPE_DESC[#Data],0),0))","v":""},{"$f":"IF('Comm Device (Desc)'!G16=\"\",\"\",INDEX([1]COMM_TYPE!$A$2:$A$100,MATCH('Comm Device (Desc)'!$G16,[1]!MASTER_COMM_TYPE_DESC[#Data],0),0))","v":""},{"$f":"IF('Comm Device (Desc)'!H16=\"\",\"\",'Comm Device (Desc)'!H16)","v":""},{"$f":"IF('Comm Device (Desc)'!I16=\"\",\"\",'Comm Device (Desc)'!I16)","v":""},{"$f":"IF('Comm Device (Desc)'!J16=\"\",\"\",INDEX([1]ITS_COMM_DEV_MANUF!$A$2:$A$300,MATCH(1,([1]ITS_COMM_DEV_MANUF!$B$2:$B$300='Comm Device (Desc)'!$J16)*([1]ITS_COMM_DEV_MANUF!$C$2:$C$300='Comm Device (Code)'!$E16),0),0))","v":""},{"$f":"IF('Comm Device (Desc)'!K16=\"\",\"\",INDEX([1]ITS_COMM_DEV_MODEL!$A$2:$A$500,MATCH(1,([1]ITS_COMM_DEV_MODEL!$C$2:$C$500='Comm Device (Desc)'!$J16)*([1]ITS_COMM_DEV_MODEL!$D$2:$D$500='Comm Device (Code)'!$E16)*([1]ITS_COMM_DEV_MODEL!$E$2:$E$500='Comm Device (Desc)'!$K16),0),0))","v":""},{"$f":"IF('Comm Device (Desc)'!L16=\"\",\"\",'Comm Device (Desc)'!L16)","v":""},{"$f":"IF('Comm Device (Desc)'!M16=\"\",\"\",'Comm Device (Desc)'!M16)","v":""},{"$f":"IF('Comm Device (Desc)'!N16=\"\",\"\",'Comm Device (Desc)'!N16)","v":""},{"$f":"IF('Comm Device (Desc)'!O16=\"\",\"\",'Comm Device (Desc)'!O16)","v":""},{"$f":"IF('Comm Device (Desc)'!P16=\"\",\"\",INDEX([1]DEV_INPUT_VOLTAGE!$A$2:$A$100,MATCH('Comm Device (Desc)'!$P16,[1]!MASTER_DEV_INPUT_VOLTAGE_DESC[#Data],0),0))","v":""},{"$f":"IF('Comm Device (Desc)'!Q16=\"\",\"\",'Comm Device (Desc)'!Q16)","v":""},{"$f":"IF('Comm Device (Desc)'!R16=\"\",\"\",'Comm Device (Desc)'!R16)","v":""},{"$f":"IF('Comm Device (Desc)'!S16=\"\",\"\",'Comm Device (Desc)'!S16)","v":""},{"$f":"IF('Comm Device (Desc)'!T16=\"\",\"\",'Comm Device (Desc)'!T16)","v":""},{"$f":"IF('Comm Device (Desc)'!U16=\"\",\"\",'Comm Device (Desc)'!U16)","v":""},{"$f":"IF('Comm Device (Desc)'!V16=\"\",\"\",INDEX([1]FIBER_CONN_TYPE!$A$2:$A$100,MATCH('Comm Device (Desc)'!$V16,[1]!MASTER_FIBER_CONN_TYPE_DESC[#Data],0),0))","v":""}]
[{"$f":"IF('Comm Device (Desc)'!A17=\"\",\"\",'Comm Device (Desc)'!A17)","v":""},{"$f":"IF('Comm Device (Desc)'!C17=\"\",\"\",\"2029\")","v":""},{"$f":"IF('Comm Device (Desc)'!C17=\"\",\"\",'Comm Device (Desc)'!C17)","v":""},{"$f":"IF('Comm Device (Desc)'!D17=\"\",\"\",INDEX([1]OWNER!$A$2:$A$100,MATCH('Comm Device (Desc)'!$D17,[1]!MASTER_OWNER_DESC[#Data],0),0))","v":""},{"$f":"IF('Comm Device (Desc)'!F17=\"\",\"\",INDEX([1]ITS_COMM_DEV_TYPE!$A$2:$A$100,MATCH('Comm Device (Desc)'!$F17,[1]!MASTER_ITS_COMM_DEV_TYPE_DESC[#Data],0),0))","v":""},{"$f":"IF('Comm Device (Desc)'!G17=\"\",\"\",INDEX([1]COMM_TYPE!$A$2:$A$100,MATCH('Comm Device (Desc)'!$G17,[1]!MASTER_COMM_TYPE_DESC[#Data],0),0))","v":""},{"$f":"IF('Comm Device (Desc)'!H17=\"\",\"\",'Comm Device (Desc)'!H17)","v":""},{"$f":"IF('Comm Device (Desc)'!I17=\"\",\"\",'Comm Device (Desc)'!I17)","v":""},{"$f":"IF('Comm Device (Desc)'!J17=\"\",\"\",INDEX([1]ITS_COMM_DEV_MANUF!$A$2:$A$300,MATCH(1,([1]ITS_COMM_DEV_MANUF!$B$2:$B$300='Comm Device (Desc)'!$J17)*([1]ITS_COMM_DEV_MANUF!$C$2:$C$300='Comm Device (Code)'!$E17),0),0))","v":""},{"$f":"IF('Comm Device (Desc)'!K17=\"\",\"\",INDEX([1]ITS_COMM_DEV_MODEL!$A$2:$A$500,MATCH(1,([1]ITS_COMM_DEV_MODEL!$C$2:$C$500='Comm Device (Desc)'!$J17)*([1]ITS_COMM_DEV_MODEL!$D$2:$D$500='Comm Device (Code)'!$E17)*([1]ITS_COMM_DEV_MODEL!$E$2:$E$500='Comm Device (Desc)'!$K17),0),0))","v":""},{"$f":"IF('Comm Device (Desc)'!L17=\"\",\"\",'Comm Device (Desc)'!L17)","v":""},{"$f":"IF('Comm Device (Desc)'!M17=\"\",\"\",'Comm Device (Desc)'!M17)","v":""},{"$f":"IF('Comm Device (Desc)'!N17=\"\",\"\",'Comm Device (Desc)'!N17)","v":""},{"$f":"IF('Comm Device (Desc)'!O17=\"\",\"\",'Comm Device (Desc)'!O17)","v":""},{"$f":"IF('Comm Device (Desc)'!P17=\"\",\"\",INDEX([1]DEV_INPUT_VOLTAGE!$A$2:$A$100,MATCH('Comm Device (Desc)'!$P17,[1]!MASTER_DEV_INPUT_VOLTAGE_DESC[#Data],0),0))","v":""},{"$f":"IF('Comm Device (Desc)'!Q17=\"\",\"\",'Comm Device (Desc)'!Q17)","v":""},{"$f":"IF('Comm Device (Desc)'!R17=\"\",\"\",'Comm Device (Desc)'!R17)","v":""},{"$f":"IF('Comm Device (Desc)'!S17=\"\",\"\",'Comm Device (Desc)'!S17)","v":""},{"$f":"IF('Comm Device (Desc)'!T17=\"\",\"\",'Comm Device (Desc)'!T17)","v":""},{"$f":"IF('Comm Device (Desc)'!U17=\"\",\"\",'Comm Device (Desc)'!U17)","v":""},{"$f":"IF('Comm Device (Desc)'!V17=\"\",\"\",INDEX([1]FIBER_CONN_TYPE!$A$2:$A$100,MATCH('Comm Device (Desc)'!$V17,[1]!MASTER_FIBER_CONN_TYPE_DESC[#Data],0),0))","v":""}]
[{"$f":"IF('Comm Device (Desc)'!A18=\"\",\"\",'Comm Device (Desc)'!A18)","v":""},{"$f":"IF('Comm Device (Desc)'!C18=\"\",\"\",\"2029\")","v":""},{"$f":"IF('Comm Device (Desc)'!C18=\"\",\"\",'Comm Device (Desc)'!C18)","v":""},{"$f":"IF('Comm Device (Desc)'!D18=\"\",\"\",INDEX([1]OWNER!$A$2:$A$100,MATCH('Comm Device (Desc)'!$D18,[1]!MASTER_OWNER_DESC[#Data],0),0))","v":""},{"$f":"IF('Comm Device (Desc)'!F18=\"\",\"\",INDEX([1]ITS_COMM_DEV_TYPE!$A$2:$A$100,MATCH('Comm Device (Desc)'!$F18,[1]!MASTER_ITS_COMM_DEV_TYPE_DESC[#Data],0),0))","v":""},{"$f":"IF('Comm Device (Desc)'!G18=\"\",\"\",INDEX([1]COMM_TYPE!$A$2:$A$100,MATCH('Comm Device (Desc)'!$G18,[1]!MASTER_COMM_TYPE_DESC[#Data],0),0))","v":""},{"$f":"IF('Comm Device (Desc)'!H18=\"\",\"\",'Comm Device (Desc)'!H18)","v":""},{"$f":"IF('Comm Device (Desc)'!I18=\"\",\"\",'Comm Device (Desc)'!I18)","v":""},{"$f":"IF('Comm Device (Desc)'!J18=\"\",\"\",INDEX([1]ITS_COMM_DEV_MANUF!$A$2:$A$300,MATCH(1,([1]ITS_COMM_DEV_MANUF!$B$2:$B$300='Comm Device (Desc)'!$J18)*([1]ITS_COMM_DEV_MANUF!$C$2:$C$300='Comm Device (Code)'!$E18),0),0))","v":""},{"$f":"IF('Comm Device (Desc)'!K18=\"\",\"\",INDEX([1]ITS_COMM_DEV_MODEL!$A$2:$A$500,MATCH(1,([1]ITS_COMM_DEV_MODEL!$C$2:$C$500='Comm Device (Desc)'!$J18)*([1]ITS_COMM_DEV_MODEL!$D$2:$D$500='Comm Device (Code)'!$E18)*([1]ITS_COMM_DEV_MODEL!$E$2:$E$500='Comm Device (Desc)'!$K18),0),0))","v":""},{"$f":"IF('Comm Device (Desc)'!L18=\"\",\"\",'Comm Device (Desc)'!L18)","v":""},{"$f":"IF('Comm Device (Desc)'!M18=\"\",\"\",'Comm Device (Desc)'!M18)","v":""},{"$f":"IF('Comm Device (Desc)'!N18=\"\",\"\",'Comm Device (Desc)'!N18)","v":""},{"$f":"IF('Comm Device (Desc)'!O18=\"\",\"\",'Comm Device (Desc)'!O18)","v":""},{"$f":"IF('Comm Device (Desc)'!P18=\"\",\"\",INDEX([1]DEV_INPUT_VOLTAGE!$A$2:$A$100,MATCH('Comm Device (Desc)'!$P18,[1]!MASTER_DEV_INPUT_VOLTAGE_DESC[#Data],0),0))","v":""},{"$f":"IF('Comm Device (Desc)'!Q18=\"\",\"\",'Comm Device (Desc)'!Q18)","v":""},{"$f":"IF('Comm Device (Desc)'!R18=\"\",\"\",'Comm Device (Desc)'!R18)","v":""},{"$f":"IF('Comm Device (Desc)'!S18=\"\",\"\",'Comm Device (Desc)'!S18)","v":""},{"$f":"IF('Comm Device (Desc)'!T18=\"\",\"\",'Comm Device (Desc)'!T18)","v":""},{"$f":"IF('Comm Device (Desc)'!U18=\"\",\"\",'Comm Device (Desc)'!U18)","v":""},{"$f":"IF('Comm Device (Desc)'!V18=\"\",\"\",INDEX([1]FIBER_CONN_TYPE!$A$2:$A$100,MATCH('Comm Device (Desc)'!$V18,[1]!MASTER_FIBER_CONN_TYPE_DESC[#Data],0),0))","v":""}]
[{"$f":"IF('Comm Device (Desc)'!A19=\"\",\"\",'Comm Device (Desc)'!A19)","v":""},{"$f":"IF('Comm Device (Desc)'!C19=\"\",\"\",\"2029\")","v":""},{"$f":"IF('Comm Device (Desc)'!C19=\"\",\"\",'Comm Device (Desc)'!C19)","v":""},{"$f":"IF('Comm Device (Desc)'!D19=\"\",\"\",INDEX([1]OWNER!$A$2:$A$100,MATCH('Comm Device (Desc)'!$D19,[1]!MASTER_OWNER_DESC[#Data],0),0))","v":""},{"$f":"IF('Comm Device (Desc)'!F19=\"\",\"\",INDEX([1]ITS_COMM_DEV_TYPE!$A$2:$A$100,MATCH('Comm Device (Desc)'!$F19,[1]!MASTER_ITS_COMM_DEV_TYPE_DESC[#Data],0),0))","v":""},{"$f":"IF('Comm Device (Desc)'!G19=\"\",\"\",INDEX([1]COMM_TYPE!$A$2:$A$100,MATCH('Comm Device (Desc)'!$G19,[1]!MASTER_COMM_TYPE_DESC[#Data],0),0))","v":""},{"$f":"IF('Comm Device (Desc)'!H19=\"\",\"\",'Comm Device (Desc)'!H19)","v":""},{"$f":"IF('Comm Device (Desc)'!I19=\"\",\"\",'Comm Device (Desc)'!I19)","v":""},{"$f":"IF('Comm Device (Desc)'!J19=\"\",\"\",INDEX([1]ITS_COMM_DEV_MANUF!$A$2:$A$300,MATCH(1,([1]ITS_COMM_DEV_MANUF!$B$2:$B$300='Comm Device (Desc)'!$J19)*([1]ITS_COMM_DEV_MANUF!$C$2:$C$300='Comm Device (Code)'!$E19),0),0))","v":""},{"$f":"IF('Comm Device (Desc)'!K19=\"\",\"\",INDEX([1]ITS_COMM_DEV_MODEL!$A$2:$A$500,MATCH(1,([1]ITS_COMM_DEV_MODEL!$C$2:$C$500='Comm Device (Desc)'!$J19)*([1]ITS_COMM_DEV_MODEL!$D$2:$D$500='Comm Device (Code)'!$E19)*([1]ITS_COMM_DEV_MODEL!$E$2:$E$500='Comm Device (Desc)'!$K19),0),0))","v":""},{"$f":"IF('Comm Device (Desc)'!L19=\"\",\"\",'Comm Device (Desc)'!L19)","v":""},{"$f":"IF('Comm Device (Desc)'!M19=\"\",\"\",'Comm Device (Desc)'!M19)","v":""},{"$f":"IF('Comm Device (Desc)'!N19=\"\",\"\",'Comm Device (Desc)'!N19)","v":""},{"$f":"IF('Comm Device (Desc)'!O19=\"\",\"\",'Comm Device (Desc)'!O19)","v":""},{"$f":"IF('Comm Device (Desc)'!P19=\"\",\"\",INDEX([1]DEV_INPUT_VOLTAGE!$A$2:$A$100,MATCH('Comm Device (Desc)'!$P19,[1]!MASTER_DEV_INPUT_VOLTAGE_DESC[#Data],0),0))","v":""},{"$f":"IF('Comm Device (Desc)'!Q19=\"\",\"\",'Comm Device (Desc)'!Q19)","v":""},{"$f":"IF('Comm Device (Desc)'!R19=\"\",\"\",'Comm Device (Desc)'!R19)","v":""},{"$f":"IF('Comm Device (Desc)'!S19=\"\",\"\",'Comm Device (Desc)'!S19)","v":""},{"$f":"IF('Comm Device (Desc)'!T19=\"\",\"\",'Comm Device (Desc)'!T19)","v":""},{"$f":"IF('Comm Device (Desc)'!U19=\"\",\"\",'Comm Device (Desc)'!U19)","v":""},{"$f":"IF('Comm Device (Desc)'!V19=\"\",\"\",INDEX([1]FIBER_CONN_TYPE!$A$2:$A$100,MATCH('Comm Device (Desc)'!$V19,[1]!MASTER_FIBER_CONN_TYPE_DESC[#Data],0),0))","v":""}]
[{"$f":"IF('Comm Device (Desc)'!A20=\"\",\"\",'Comm Device (Desc)'!A20)","v":""},{"$f":"IF('Comm Device (Desc)'!C20=\"\",\"\",\"2029\")","v":""},{"$f":"IF('Comm Device (Desc)'!C20=\"\",\"\",'Comm Device (Desc)'!C20)","v":""},{"$f":"IF('Comm Device (Desc)'!D20=\"\",\"\",INDEX([1]OWNER!$A$2:$A$100,MATCH('Comm Device (Desc)'!$D20,[1]!MASTER_OWNER_DESC[#Data],0),0))","v":""},{"$f":"IF('Comm Device (Desc)'!F20=\"\",\"\",INDEX([1]ITS_COMM_DEV_TYPE!$A$2:$A$100,MATCH('Comm Device (Desc)'!$F20,[1]!MASTER_ITS_COMM_DEV_TYPE_DESC[#Data],0),0))","v":""},{"$f":"IF('Comm Device (Desc)'!G20=\"\",\"\",INDEX([1]COMM_TYPE!$A$2:$A$100,MATCH('Comm Device (Desc)'!$G20,[1]!MASTER_COMM_TYPE_DESC[#Data],0),0))","v":""},{"$f":"IF('Comm Device (Desc)'!H20=\"\",\"\",'Comm Device (Desc)'!H20)","v":""},{"$f":"IF('Comm Device (Desc)'!I20=\"\",\"\",'Comm Device (Desc)'!I20)","v":""},{"$f":"IF('Comm Device (Desc)'!J20=\"\",\"\",INDEX([1]ITS_COMM_DEV_MANUF!$A$2:$A$300,MATCH(1,([1]ITS_COMM_DEV_MANUF!$B$2:$B$300='Comm Device (Desc)'!$J20)*([1]ITS_COMM_DEV_MANUF!$C$2:$C$300='Comm Device (Code)'!$E20),0),0))","v":""},{"$f":"IF('Comm Device (Desc)'!K20=\"\",\"\",INDEX([1]ITS_COMM_DEV_MODEL!$A$2:$A$500,MATCH(1,([1]ITS_COMM_DEV_MODEL!$C$2:$C$500='Comm Device (Desc)'!$J20)*([1]ITS_COMM_DEV_MODEL!$D$2:$D$500='Comm Device (Code)'!$E20)*([1]ITS_COMM_DEV_MODEL!$E$2:$E$500='Comm Device (Desc)'!$K20),0),0))","v":""},{"$f":"IF('Comm Device (Desc)'!L20=\"\",\"\",'Comm Device (Desc)'!L20)","v":""},{"$f":"IF('Comm Device (Desc)'!M20=\"\",\"\",'Comm Device (Desc)'!M20)","v":""},{"$f":"IF('Comm Device (Desc)'!N20=\"\",\"\",'Comm Device (Desc)'!N20)","v":""},{"$f":"IF('Comm Device (Desc)'!O20=\"\",\"\",'Comm Device (Desc)'!O20)","v":""},{"$f":"IF('Comm Device (Desc)'!P20=\"\",\"\",INDEX([1]DEV_INPUT_VOLTAGE!$A$2:$A$100,MATCH('Comm Device (Desc)'!$P20,[1]!MASTER_DEV_INPUT_VOLTAGE_DESC[#Data],0),0))","v":""},{"$f":"IF('Comm Device (Desc)'!Q20=\"\",\"\",'Comm Device (Desc)'!Q20)","v":""},{"$f":"IF('Comm Device (Desc)'!R20=\"\",\"\",'Comm Device (Desc)'!R20)","v":""},{"$f":"IF('Comm Device (Desc)'!S20=\"\",\"\",'Comm Device (Desc)'!S20)","v":""},{"$f":"IF('Comm Device (Desc)'!T20=\"\",\"\",'Comm Device (Desc)'!T20)","v":""},{"$f":"IF('Comm Device (Desc)'!U20=\"\",\"\",'Comm Device (Desc)'!U20)","v":""},{"$f":"IF('Comm Device (Desc)'!V20=\"\",\"\",INDEX([1]FIBER_CONN_TYPE!$A$2:$A$100,MATCH('Comm Device (Desc)'!$V20,[1]!MASTER_FIBER_CONN_TYPE_DESC[#Data],0),0))","v":""}]
[{"$f":"IF('Comm Device (Desc)'!A21=\"\",\"\",'Comm Device (Desc)'!A21)","v":""},{"$f":"IF('Comm Device (Desc)'!C21=\"\",\"\",\"2029\")","v":""},{"$f":"IF('Comm Device (Desc)'!C21=\"\",\"\",'Comm Device (Desc)'!C21)","v":""},{"$f":"IF('Comm Device (Desc)'!D21=\"\",\"\",INDEX([1]OWNER!$A$2:$A$100,MATCH('Comm Device (Desc)'!$D21,[1]!MASTER_OWNER_DESC[#Data],0),0))","v":""},{"$f":"IF('Comm Device (Desc)'!F21=\"\",\"\",INDEX([1]ITS_COMM_DEV_TYPE!$A$2:$A$100,MATCH('Comm Device (Desc)'!$F21,[1]!MASTER_ITS_COMM_DEV_TYPE_DESC[#Data],0),0))","v":""},{"$f":"IF('Comm Device (Desc)'!G21=\"\",\"\",INDEX([1]COMM_TYPE!$A$2:$A$100,MATCH('Comm Device (Desc)'!$G21,[1]!MASTER_COMM_TYPE_DESC[#Data],0),0))","v":""},{"$f":"IF('Comm Device (Desc)'!H21=\"\",\"\",'Comm Device (Desc)'!H21)","v":""},{"$f":"IF('Comm Device (Desc)'!I21=\"\",\"\",'Comm Device (Desc)'!I21)","v":""},{"$f":"IF('Comm Device (Desc)'!J21=\"\",\"\",INDEX([1]ITS_COMM_DEV_MANUF!$A$2:$A$300,MATCH(1,([1]ITS_COMM_DEV_MANUF!$B$2:$B$300='Comm Device (Desc)'!$J21)*([1]ITS_COMM_DEV_MANUF!$C$2:$C$300='Comm Device (Code)'!$E21),0),0))","v":""},{"$f":"IF('Comm Device (Desc)'!K21=\"\",\"\",INDEX([1]ITS_COMM_DEV_MODEL!$A$2:$A$500,MATCH(1,([1]ITS_COMM_DEV_MODEL!$C$2:$C$500='Comm Device (Desc)'!$J21)*([1]ITS_COMM_DEV_MODEL!$D$2:$D$500='Comm Device (Code)'!$E21)*([1]ITS_COMM_DEV_MODEL!$E$2:$E$500='Comm Device (Desc)'!$K21),0),0))","v":""},{"$f":"IF('Comm Device (Desc)'!L21=\"\",\"\",'Comm Device (Desc)'!L21)","v":""},{"$f":"IF('Comm Device (Desc)'!M21=\"\",\"\",'Comm Device (Desc)'!M21)","v":""},{"$f":"IF('Comm Device (Desc)'!N21=\"\",\"\",'Comm Device (Desc)'!N21)","v":""},{"$f":"IF('Comm Device (Desc)'!O21=\"\",\"\",'Comm Device (Desc)'!O21)","v":""},{"$f":"IF('Comm Device (Desc)'!P21=\"\",\"\",INDEX([1]DEV_INPUT_VOLTAGE!$A$2:$A$100,MATCH('Comm Device (Desc)'!$P21,[1]!MASTER_DEV_INPUT_VOLTAGE_DESC[#Data],0),0))","v":""},{"$f":"IF('Comm Device (Desc)'!Q21=\"\",\"\",'Comm Device (Desc)'!Q21)","v":""},{"$f":"IF('Comm Device (Desc)'!R21=\"\",\"\",'Comm Device (Desc)'!R21)","v":""},{"$f":"IF('Comm Device (Desc)'!S21=\"\",\"\",'Comm Device (Desc)'!S21)","v":""},{"$f":"IF('Comm Device (Desc)'!T21=\"\",\"\",'Comm Device (Desc)'!T21)","v":""},{"$f":"IF('Comm Device (Desc)'!U21=\"\",\"\",'Comm Device (Desc)'!U21)","v":""},{"$f":"IF('Comm Device (Desc)'!V21=\"\",\"\",INDEX([1]FIBER_CONN_TYPE!$A$2:$A$100,MATCH('Comm Device (Desc)'!$V21,[1]!MASTER_FIBER_CONN_TYPE_DESC[#Data],0),0))","v":""}]
[{"$f":"IF('Comm Device (Desc)'!A22=\"\",\"\",'Comm Device (Desc)'!A22)","v":""},{"$f":"IF('Comm Device (Desc)'!C22=\"\",\"\",\"2029\")","v":""},{"$f":"IF('Comm Device (Desc)'!C22=\"\",\"\",'Comm Device (Desc)'!C22)","v":""},{"$f":"IF('Comm Device (Desc)'!D22=\"\",\"\",INDEX([1]OWNER!$A$2:$A$100,MATCH('Comm Device (Desc)'!$D22,[1]!MASTER_OWNER_DESC[#Data],0),0))","v":""},{"$f":"IF('Comm Device (Desc)'!F22=\"\",\"\",INDEX([1]ITS_COMM_DEV_TYPE!$A$2:$A$100,MATCH('Comm Device (Desc)'!$F22,[1]!MASTER_ITS_COMM_DEV_TYPE_DESC[#Data],0),0))","v":""},{"$f":"IF('Comm Device (Desc)'!G22=\"\",\"\",INDEX([1]COMM_TYPE!$A$2:$A$100,MATCH('Comm Device (Desc)'!$G22,[1]!MASTER_COMM_TYPE_DESC[#Data],0),0))","v":""},{"$f":"IF('Comm Device (Desc)'!H22=\"\",\"\",'Comm Device (Desc)'!H22)","v":""},{"$f":"IF('Comm Device (Desc)'!I22=\"\",\"\",'Comm Device (Desc)'!I22)","v":""},{"$f":"IF('Comm Device (Desc)'!J22=\"\",\"\",INDEX([1]ITS_COMM_DEV_MANUF!$A$2:$A$300,MATCH(1,([1]ITS_COMM_DEV_MANUF!$B$2:$B$300='Comm Device (Desc)'!$J22)*([1]ITS_COMM_DEV_MANUF!$C$2:$C$300='Comm Device (Code)'!$E22),0),0))","v":""},{"$f":"IF('Comm Device (Desc)'!K22=\"\",\"\",INDEX([1]ITS_COMM_DEV_MODEL!$A$2:$A$500,MATCH(1,([1]ITS_COMM_DEV_MODEL!$C$2:$C$500='Comm Device (Desc)'!$J22)*([1]ITS_COMM_DEV_MODEL!$D$2:$D$500='Comm Device (Code)'!$E22)*([1]ITS_COMM_DEV_MODEL!$E$2:$E$500='Comm Device (Desc)'!$K22),0),0))","v":""},{"$f":"IF('Comm Device (Desc)'!L22=\"\",\"\",'Comm Device (Desc)'!L22)","v":""},{"$f":"IF('Comm Device (Desc)'!M22=\"\",\"\",'Comm Device (Desc)'!M22)","v":""},{"$f":"IF('Comm Device (Desc)'!N22=\"\",\"\",'Comm Device (Desc)'!N22)","v":""},{"$f":"IF('Comm Device (Desc)'!O22=\"\",\"\",'Comm Device (Desc)'!O22)","v":""},{"$f":"IF('Comm Device (Desc)'!P22=\"\",\"\",INDEX([1]DEV_INPUT_VOLTAGE!$A$2:$A$100,MATCH('Comm Device (Desc)'!$P22,[1]!MASTER_DEV_INPUT_VOLTAGE_DESC[#Data],0),0))","v":""},{"$f":"IF('Comm Device (Desc)'!Q22=\"\",\"\",'Comm Device (Desc)'!Q22)","v":""},{"$f":"IF('Comm Device (Desc)'!R22=\"\",\"\",'Comm Device (Desc)'!R22)","v":""},{"$f":"IF('Comm Device (Desc)'!S22=\"\",\"\",'Comm Device (Desc)'!S22)","v":""},{"$f":"IF('Comm Device (Desc)'!T22=\"\",\"\",'Comm Device (Desc)'!T22)","v":""},{"$f":"IF('Comm Device (Desc)'!U22=\"\",\"\",'Comm Device (Desc)'!U22)","v":""},{"$f":"IF('Comm Device (Desc)'!V22=\"\",\"\",INDEX([1]FIBER_CONN_TYPE!$A$2:$A$100,MATCH('Comm Device (Desc)'!$V22,[1]!MASTER_FIBER_CONN_TYPE_DESC[#Data],0),0))","v":""}]
[{"$f":"IF('Comm Device (Desc)'!A23=\"\",\"\",'Comm Device (Desc)'!A23)","v":""},{"$f":"IF('Comm Device (Desc)'!C23=\"\",\"\",\"2029\")","v":""},{"$f":"IF('Comm Device (Desc)'!C23=\"\",\"\",'Comm Device (Desc)'!C23)","v":""},{"$f":"IF('Comm Device (Desc)'!D23=\"\",\"\",INDEX([1]OWNER!$A$2:$A$100,MATCH('Comm Device (Desc)'!$D23,[1]!MASTER_OWNER_DESC[#Data],0),0))","v":""},{"$f":"IF('Comm Device (Desc)'!F23=\"\",\"\",INDEX([1]ITS_COMM_DEV_TYPE!$A$2:$A$100,MATCH('Comm Device (Desc)'!$F23,[1]!MASTER_ITS_COMM_DEV_TYPE_DESC[#Data],0),0))","v":""},{"$f":"IF('Comm Device (Desc)'!G23=\"\",\"\",INDEX([1]COMM_TYPE!$A$2:$A$100,MATCH('Comm Device (Desc)'!$G23,[1]!MASTER_COMM_TYPE_DESC[#Data],0),0))","v":""},{"$f":"IF('Comm Device (Desc)'!H23=\"\",\"\",'Comm Device (Desc)'!H23)","v":""},{"$f":"IF('Comm Device (Desc)'!I23=\"\",\"\",'Comm Device (Desc)'!I23)","v":""},{"$f":"IF('Comm Device (Desc)'!J23=\"\",\"\",INDEX([1]ITS_COMM_DEV_MANUF!$A$2:$A$300,MATCH(1,([1]ITS_COMM_DEV_MANUF!$B$2:$B$300='Comm Device (Desc)'!$J23)*([1]ITS_COMM_DEV_MANUF!$C$2:$C$300='Comm Device (Code)'!$E23),0),0))","v":""},{"$f":"IF('Comm Device (Desc)'!K23=\"\",\"\",INDEX([1]ITS_COMM_DEV_MODEL!$A$2:$A$500,MATCH(1,([1]ITS_COMM_DEV_MODEL!$C$2:$C$500='Comm Device (Desc)'!$J23)*([1]ITS_COMM_DEV_MODEL!$D$2:$D$500='Comm Device (Code)'!$E23)*([1]ITS_COMM_DEV_MODEL!$E$2:$E$500='Comm Device (Desc)'!$K23),0),0))","v":""},{"$f":"IF('Comm Device (Desc)'!L23=\"\",\"\",'Comm Device (Desc)'!L23)","v":""},{"$f":"IF('Comm Device (Desc)'!M23=\"\",\"\",'Comm Device (Desc)'!M23)","v":""},{"$f":"IF('Comm Device (Desc)'!N23=\"\",\"\",'Comm Device (Desc)'!N23)","v":""},{"$f":"IF('Comm Device (Desc)'!O23=\"\",\"\",'Comm Device (Desc)'!O23)","v":""},{"$f":"IF('Comm Device (Desc)'!P23=\"\",\"\",INDEX([1]DEV_INPUT_VOLTAGE!$A$2:$A$100,MATCH('Comm Device (Desc)'!$P23,[1]!MASTER_DEV_INPUT_VOLTAGE_DESC[#Data],0),0))","v":""},{"$f":"IF('Comm Device (Desc)'!Q23=\"\",\"\",'Comm Device (Desc)'!Q23)","v":""},{"$f":"IF('Comm Device (Desc)'!R23=\"\",\"\",'Comm Device (Desc)'!R23)","v":""},{"$f":"IF('Comm Device (Desc)'!S23=\"\",\"\",'Comm Device (Desc)'!S23)","v":""},{"$f":"IF('Comm Device (Desc)'!T23=\"\",\"\",'Comm Device (Desc)'!T23)","v":""},{"$f":"IF('Comm Device (Desc)'!U23=\"\",\"\",'Comm Device (Desc)'!U23)","v":""},{"$f":"IF('Comm Device (Desc)'!V23=\"\",\"\",INDEX([1]FIBER_CONN_TYPE!$A$2:$A$100,MATCH('Comm Device (Desc)'!$V23,[1]!MASTER_FIBER_CONN_TYPE_DESC[#Data],0),0))","v":""}]
[{"$f":"IF('Comm Device (Desc)'!A24=\"\",\"\",'Comm Device (Desc)'!A24)","v":""},{"$f":"IF('Comm Device (Desc)'!C24=\"\",\"\",\"2029\")","v":""},{"$f":"IF('Comm Device (Desc)'!C24=\"\",\"\",'Comm Device (Desc)'!C24)","v":""},{"$f":"IF('Comm Device (Desc)'!D24=\"\",\"\",INDEX([1]OWNER!$A$2:$A$100,MATCH('Comm Device (Desc)'!$D24,[1]!MASTER_OWNER_DESC[#Data],0),0))","v":""},{"$f":"IF('Comm Device (Desc)'!F24=\"\",\"\",INDEX([1]ITS_COMM_DEV_TYPE!$A$2:$A$100,MATCH('Comm Device (Desc)'!$F24,[1]!MASTER_ITS_COMM_DEV_TYPE_DESC[#Data],0),0))","v":""},{"$f":"IF('Comm Device (Desc)'!G24=\"\",\"\",INDEX([1]COMM_TYPE!$A$2:$A$100,MATCH('Comm Device (Desc)'!$G24,[1]!MASTER_COMM_TYPE_DESC[#Data],0),0))","v":""},{"$f":"IF('Comm Device (Desc)'!H24=\"\",\"\",'Comm Device (Desc)'!H24)","v":""},{"$f":"IF('Comm Device (Desc)'!I24=\"\",\"\",'Comm Device (Desc)'!I24)","v":""},{"$f":"IF('Comm Device (Desc)'!J24=\"\",\"\",INDEX([1]ITS_COMM_DEV_MANUF!$A$2:$A$300,MATCH(1,([1]ITS_COMM_DEV_MANUF!$B$2:$B$300='Comm Device (Desc)'!$J24)*([1]ITS_COMM_DEV_MANUF!$C$2:$C$300='Comm Device (Code)'!$E24),0),0))","v":""},{"$f":"IF('Comm Device (Desc)'!K24=\"\",\"\",INDEX([1]ITS_COMM_DEV_MODEL!$A$2:$A$500,MATCH(1,([1]ITS_COMM_DEV_MODEL!$C$2:$C$500='Comm Device (Desc)'!$J24)*([1]ITS_COMM_DEV_MODEL!$D$2:$D$500='Comm Device (Code)'!$E24)*([1]ITS_COMM_DEV_MODEL!$E$2:$E$500='Comm Device (Desc)'!$K24),0),0))","v":""},{"$f":"IF('Comm Device (Desc)'!L24=\"\",\"\",'Comm Device (Desc)'!L24)","v":""},{"$f":"IF('Comm Device (Desc)'!M24=\"\",\"\",'Comm Device (Desc)'!M24)","v":""},{"$f":"IF('Comm Device (Desc)'!N24=\"\",\"\",'Comm Device (Desc)'!N24)","v":""},{"$f":"IF('Comm Device (Desc)'!O24=\"\",\"\",'Comm Device (Desc)'!O24)","v":""},{"$f":"IF('Comm Device (Desc)'!P24=\"\",\"\",INDEX([1]DEV_INPUT_VOLTAGE!$A$2:$A$100,MATCH('Comm Device (Desc)'!$P24,[1]!MASTER_DEV_INPUT_VOLTAGE_DESC[#Data],0),0))","v":""},{"$f":"IF('Comm Device (Desc)'!Q24=\"\",\"\",'Comm Device (Desc)'!Q24)","v":""},{"$f":"IF('Comm Device (Desc)'!R24=\"\",\"\",'Comm Device (Desc)'!R24)","v":""},{"$f":"IF('Comm Device (Desc)'!S24=\"\",\"\",'Comm Device (Desc)'!S24)","v":""},{"$f":"IF('Comm Device (Desc)'!T24=\"\",\"\",'Comm Device (Desc)'!T24)","v":""},{"$f":"IF('Comm Device (Desc)'!U24=\"\",\"\",'Comm Device (Desc)'!U24)","v":""},{"$f":"IF('Comm Device (Desc)'!V24=\"\",\"\",INDEX([1]FIBER_CONN_TYPE!$A$2:$A$100,MATCH('Comm Device (Desc)'!$V24,[1]!MASTER_FIBER_CONN_TYPE_DESC[#Data],0),0))","v":""}]
[{"$f":"IF('Comm Device (Desc)'!A25=\"\",\"\",'Comm Device (Desc)'!A25)","v":""},{"$f":"IF('Comm Device (Desc)'!C25=\"\",\"\",\"2029\")","v":""},{"$f":"IF('Comm Device (Desc)'!C25=\"\",\"\",'Comm Device (Desc)'!C25)","v":""},{"$f":"IF('Comm Device (Desc)'!D25=\"\",\"\",INDEX([1]OWNER!$A$2:$A$100,MATCH('Comm Device (Desc)'!$D25,[1]!MASTER_OWNER_DESC[#Data],0),0))","v":""},{"$f":"IF('Comm Device (Desc)'!F25=\"\",\"\",INDEX([1]ITS_COMM_DEV_TYPE!$A$2:$A$100,MATCH('Comm Device (Desc)'!$F25,[1]!MASTER_ITS_COMM_DEV_TYPE_DESC[#Data],0),0))","v":""},{"$f":"IF('Comm Device (Desc)'!G25=\"\",\"\",INDEX([1]COMM_TYPE!$A$2:$A$100,MATCH('Comm Device (Desc)'!$G25,[1]!MASTER_COMM_TYPE_DESC[#Data],0),0))","v":""},{"$f":"IF('Comm Device (Desc)'!H25=\"\",\"\",'Comm Device (Desc)'!H25)","v":""},{"$f":"IF('Comm Device (Desc)'!I25=\"\",\"\",'Comm Device (Desc)'!I25)","v":""},{"$f":"IF('Comm Device (Desc)'!J25=\"\",\"\",INDEX([1]ITS_COMM_DEV_MANUF!$A$2:$A$300,MATCH(1,([1]ITS_COMM_DEV_MANUF!$B$2:$B$300='Comm Device (Desc)'!$J25)*([1]ITS_COMM_DEV_MANUF!$C$2:$C$300='Comm Device (Code)'!$E25),0),0))","v":""},{"$f":"IF('Comm Device (Desc)'!K25=\"\",\"\",INDEX([1]ITS_COMM_DEV_MODEL!$A$2:$A$500,MATCH(1,([1]ITS_COMM_DEV_MODEL!$C$2:$C$500='Comm Device (Desc)'!$J25)*([1]ITS_COMM_DEV_MODEL!$D$2:$D$500='Comm Device (Code)'!$E25)*([1]ITS_COMM_DEV_MODEL!$E$2:$E$500='Comm Device (Desc)'!$K25),0),0))","v":""},{"$f":"IF('Comm Device (Desc)'!L25=\"\",\"\",'Comm Device (Desc)'!L25)","v":""},{"$f":"IF('Comm Device (Desc)'!M25=\"\",\"\",'Comm Device (Desc)'!M25)","v":""},{"$f":"IF('Comm Device (Desc)'!N25=\"\",\"\",'Comm Device (Desc)'!N25)","v":""},{"$f":"IF('Comm Device (Desc)'!O25=\"\",\"\",'Comm Device (Desc)'!O25)","v":""},{"$f":"IF('Comm Device (Desc)'!P25=\"\",\"\",INDEX([1]DEV_INPUT_VOLTAGE!$A$2:$A$100,MATCH('Comm Device (Desc)'!$P25,[1]!MASTER_DEV_INPUT_VOLTAGE_DESC[#Data],0),0))","v":""},{"$f":"IF('Comm Device (Desc)'!Q25=\"\",\"\",'Comm Device (Desc)'!Q25)","v":""},{"$f":"IF('Comm Device (Desc)'!R25=\"\",\"\",'Comm Device (Desc)'!R25)","v":""},{"$f":"IF('Comm Device (Desc)'!S25=\"\",\"\",'Comm Device (Desc)'!S25)","v":""},{"$f":"IF('Comm Device (Desc)'!T25=\"\",\"\",'Comm Device (Desc)'!T25)","v":""},{"$f":"IF('Comm Device (Desc)'!U25=\"\",\"\",'Comm Device (Desc)'!U25)","v":""},{"$f":"IF('Comm Device (Desc)'!V25=\"\",\"\",INDEX([1]FIBER_CONN_TYPE!$A$2:$A$100,MATCH('Comm Device (Desc)'!$V25,[1]!MASTER_FIBER_CONN_TYPE_DESC[#Data],0),0))","v":""}]
[{"$f":"IF('Comm Device (Desc)'!A26=\"\",\"\",'Comm Device (Desc)'!A26)","v":""},{"$f":"IF('Comm Device (Desc)'!C26=\"\",\"\",\"2029\")","v":""},{"$f":"IF('Comm Device (Desc)'!C26=\"\",\"\",'Comm Device (Desc)'!C26)","v":""},{"$f":"IF('Comm Device (Desc)'!D26=\"\",\"\",INDEX([1]OWNER!$A$2:$A$100,MATCH('Comm Device (Desc)'!$D26,[1]!MASTER_OWNER_DESC[#Data],0),0))","v":""},{"$f":"IF('Comm Device (Desc)'!F26=\"\",\"\",INDEX([1]ITS_COMM_DEV_TYPE!$A$2:$A$100,MATCH('Comm Device (Desc)'!$F26,[1]!MASTER_ITS_COMM_DEV_TYPE_DESC[#Data],0),0))","v":""},{"$f":"IF('Comm Device (Desc)'!G26=\"\",\"\",INDEX([1]COMM_TYPE!$A$2:$A$100,MATCH('Comm Device (Desc)'!$G26,[1]!MASTER_COMM_TYPE_DESC[#Data],0),0))","v":""},{"$f":"IF('Comm Device (Desc)'!H26=\"\",\"\",'Comm Device (Desc)'!H26)","v":""},{"$f":"IF('Comm Device (Desc)'!I26=\"\",\"\",'Comm Device (Desc)'!I26)","v":""},{"$f":"IF('Comm Device (Desc)'!J26=\"\",\"\",INDEX([1]ITS_COMM_DEV_MANUF!$A$2:$A$300,MATCH(1,([1]ITS_COMM_DEV_MANUF!$B$2:$B$300='Comm Device (Desc)'!$J26)*([1]ITS_COMM_DEV_MANUF!$C$2:$C$300='Comm Device (Code)'!$E26),0),0))","v":""},{"$f":"IF('Comm Device (Desc)'!K26=\"\",\"\",INDEX([1]ITS_COMM_DEV_MODEL!$A$2:$A$500,MATCH(1,([1]ITS_COMM_DEV_MODEL!$C$2:$C$500='Comm Device (Desc)'!$J26)*([1]ITS_COMM_DEV_MODEL!$D$2:$D$500='Comm Device (Code)'!$E26)*([1]ITS_COMM_DEV_MODEL!$E$2:$E$500='Comm Device (Desc)'!$K26),0),0))","v":""},{"$f":"IF('Comm Device (Desc)'!L26=\"\",\"\",'Comm Device (Desc)'!L26)","v":""},{"$f":"IF('Comm Device (Desc)'!M26=\"\",\"\",'Comm Device (Desc)'!M26)","v":""},{"$f":"IF('Comm Device (Desc)'!N26=\"\",\"\",'Comm Device (Desc)'!N26)","v":""},{"$f":"IF('Comm Device (Desc)'!O26=\"\",\"\",'Comm Device (Desc)'!O26)","v":""},{"$f":"IF('Comm Device (Desc)'!P26=\"\",\"\",INDEX([1]DEV_INPUT_VOLTAGE!$A$2:$A$100,MATCH('Comm Device (Desc)'!$P26,[1]!MASTER_DEV_INPUT_VOLTAGE_DESC[#Data],0),0))","v":""},{"$f":"IF('Comm Device (Desc)'!Q26=\"\",\"\",'Comm Device (Desc)'!Q26)","v":""},{"$f":"IF('Comm Device (Desc)'!R26=\"\",\"\",'Comm Device (Desc)'!R26)","v":""},{"$f":"IF('Comm Device (Desc)'!S26=\"\",\"\",'Comm Device (Desc)'!S26)","v":""},{"$f":"IF('Comm Device (Desc)'!T26=\"\",\"\",'Comm Device (Desc)'!T26)","v":""},{"$f":"IF('Comm Device (Desc)'!U26=\"\",\"\",'Comm Device (Desc)'!U26)","v":""},{"$f":"IF('Comm Device (Desc)'!V26=\"\",\"\",INDEX([1]FIBER_CONN_TYPE!$A$2:$A$100,MATCH('Comm Device (Desc)'!$V26,[1]!MASTER_FIBER_CONN_TYPE_DESC[#Data],0),0))","v":""}]
[{"$f":"IF('Comm Device (Desc)'!A27=\"\",\"\",'Comm Device (Desc)'!A27)","v":""},{"$f":"IF('Comm Device (Desc)'!C27=\"\",\"\",\"2029\")","v":""},{"$f":"IF('Comm Device (Desc)'!C27=\"\",\"\",'Comm Device (Desc)'!C27)","v":""},{"$f":"IF('Comm Device (Desc)'!D27=\"\",\"\",INDEX([1]OWNER!$A$2:$A$100,MATCH('Comm Device (Desc)'!$D27,[1]!MASTER_OWNER_DESC[#Data],0),0))","v":""},{"$f":"IF('Comm Device (Desc)'!F27=\"\",\"\",INDEX([1]ITS_COMM_DEV_TYPE!$A$2:$A$100,MATCH('Comm Device (Desc)'!$F27,[1]!MASTER_ITS_COMM_DEV_TYPE_DESC[#Data],0),0))","v":""},{"$f":"IF('Comm Device (Desc)'!G27=\"\",\"\",INDEX([1]COMM_TYPE!$A$2:$A$100,MATCH('Comm Device (Desc)'!$G27,[1]!MASTER_COMM_TYPE_DESC[#Data],0),0))","v":""},{"$f":"IF('Comm Device (Desc)'!H27=\"\",\"\",'Comm Device (Desc)'!H27)","v":""},{"$f":"IF('Comm Device (Desc)'!I27=\"\",\"\",'Comm Device (Desc)'!I27)","v":""},{"$f":"IF('Comm Device (Desc)'!J27=\"\",\"\",INDEX([1]ITS_COMM_DEV_MANUF!$A$2:$A$300,MATCH(1,([1]ITS_COMM_DEV_MANUF!$B$2:$B$300='Comm Device (Desc)'!$J27)*([1]ITS_COMM_DEV_MANUF!$C$2:$C$300='Comm Device (Code)'!$E27),0),0))","v":""},{"$f":"IF('Comm Device (Desc)'!K27=\"\",\"\",INDEX([1]ITS_COMM_DEV_MODEL!$A$2:$A$500,MATCH(1,([1]ITS_COMM_DEV_MODEL!$C$2:$C$500='Comm Device (Desc)'!$J27)*([1]ITS_COMM_DEV_MODEL!$D$2:$D$500='Comm Device (Code)'!$E27)*([1]ITS_COMM_DEV_MODEL!$E$2:$E$500='Comm Device (Desc)'!$K27),0),0))","v":""},{"$f":"IF('Comm Device (Desc)'!L27=\"\",\"\",'Comm Device (Desc)'!L27)","v":""},{"$f":"IF('Comm Device (Desc)'!M27=\"\",\"\",'Comm Device (Desc)'!M27)","v":""},{"$f":"IF('Comm Device (Desc)'!N27=\"\",\"\",'Comm Device (Desc)'!N27)","v":""},{"$f":"IF('Comm Device (Desc)'!O27=\"\",\"\",'Comm Device (Desc)'!O27)","v":""},{"$f":"IF('Comm Device (Desc)'!P27=\"\",\"\",INDEX([1]DEV_INPUT_VOLTAGE!$A$2:$A$100,MATCH('Comm Device (Desc)'!$P27,[1]!MASTER_DEV_INPUT_VOLTAGE_DESC[#Data],0),0))","v":""},{"$f":"IF('Comm Device (Desc)'!Q27=\"\",\"\",'Comm Device (Desc)'!Q27)","v":""},{"$f":"IF('Comm Device (Desc)'!R27=\"\",\"\",'Comm Device (Desc)'!R27)","v":""},{"$f":"IF('Comm Device (Desc)'!S27=\"\",\"\",'Comm Device (Desc)'!S27)","v":""},{"$f":"IF('Comm Device (Desc)'!T27=\"\",\"\",'Comm Device (Desc)'!T27)","v":""},{"$f":"IF('Comm Device (Desc)'!U27=\"\",\"\",'Comm Device (Desc)'!U27)","v":""},{"$f":"IF('Comm Device (Desc)'!V27=\"\",\"\",INDEX([1]FIBER_CONN_TYPE!$A$2:$A$100,MATCH('Comm Device (Desc)'!$V27,[1]!MASTER_FIBER_CONN_TYPE_DESC[#Data],0),0))","v":""}]
[{"$f":"IF('Comm Device (Desc)'!A28=\"\",\"\",'Comm Device (Desc)'!A28)","v":""},{"$f":"IF('Comm Device (Desc)'!C28=\"\",\"\",\"2029\")","v":""},{"$f":"IF('Comm Device (Desc)'!C28=\"\",\"\",'Comm Device (Desc)'!C28)","v":""},{"$f":"IF('Comm Device (Desc)'!D28=\"\",\"\",INDEX([1]OWNER!$A$2:$A$100,MATCH('Comm Device (Desc)'!$D28,[1]!MASTER_OWNER_DESC[#Data],0),0))","v":""},{"$f":"IF('Comm Device (Desc)'!F28=\"\",\"\",INDEX([1]ITS_COMM_DEV_TYPE!$A$2:$A$100,MATCH('Comm Device (Desc)'!$F28,[1]!MASTER_ITS_COMM_DEV_TYPE_DESC[#Data],0),0))","v":""},{"$f":"IF('Comm Device (Desc)'!G28=\"\",\"\",INDEX([1]COMM_TYPE!$A$2:$A$100,MATCH('Comm Device (Desc)'!$G28,[1]!MASTER_COMM_TYPE_DESC[#Data],0),0))","v":""},{"$f":"IF('Comm Device (Desc)'!H28=\"\",\"\",'Comm Device (Desc)'!H28)","v":""},{"$f":"IF('Comm Device (Desc)'!I28=\"\",\"\",'Comm Device (Desc)'!I28)","v":""},{"$f":"IF('Comm Device (Desc)'!J28=\"\",\"\",INDEX([1]ITS_COMM_DEV_MANUF!$A$2:$A$300,MATCH(1,([1]ITS_COMM_DEV_MANUF!$B$2:$B$300='Comm Device (Desc)'!$J28)*([1]ITS_COMM_DEV_MANUF!$C$2:$C$300='Comm Device (Code)'!$E28),0),0))","v":""},{"$f":"IF('Comm Device (Desc)'!K28=\"\",\"\",INDEX([1]ITS_COMM_DEV_MODEL!$A$2:$A$500,MATCH(1,([1]ITS_COMM_DEV_MODEL!$C$2:$C$500='Comm Device (Desc)'!$J28)*([1]ITS_COMM_DEV_MODEL!$D$2:$D$500='Comm Device (Code)'!$E28)*([1]ITS_COMM_DEV_MODEL!$E$2:$E$500='Comm Device (Desc)'!$K28),0),0))","v":""},{"$f":"IF('Comm Device (Desc)'!L28=\"\",\"\",'Comm Device (Desc)'!L28)","v":""},{"$f":"IF('Comm Device (Desc)'!M28=\"\",\"\",'Comm Device (Desc)'!M28)","v":""},{"$f":"IF('Comm Device (Desc)'!N28=\"\",\"\",'Comm Device (Desc)'!N28)","v":""},{"$f":"IF('Comm Device (Desc)'!O28=\"\",\"\",'Comm Device (Desc)'!O28)","v":""},{"$f":"IF('Comm Device (Desc)'!P28=\"\",\"\",INDEX([1]DEV_INPUT_VOLTAGE!$A$2:$A$100,MATCH('Comm Device (Desc)'!$P28,[1]!MASTER_DEV_INPUT_VOLTAGE_DESC[#Data],0),0))","v":""},{"$f":"IF('Comm Device (Desc)'!Q28=\"\",\"\",'Comm Device (Desc)'!Q28)","v":""},{"$f":"IF('Comm Device (Desc)'!R28=\"\",\"\",'Comm Device (Desc)'!R28)","v":""},{"$f":"IF('Comm Device (Desc)'!S28=\"\",\"\",'Comm Device (Desc)'!S28)","v":""},{"$f":"IF('Comm Device (Desc)'!T28=\"\",\"\",'Comm Device (Desc)'!T28)","v":""},{"$f":"IF('Comm Device (Desc)'!U28=\"\",\"\",'Comm Device (Desc)'!U28)","v":""},{"$f":"IF('Comm Device (Desc)'!V28=\"\",\"\",INDEX([1]FIBER_CONN_TYPE!$A$2:$A$100,MATCH('Comm Device (Desc)'!$V28,[1]!MASTER_FIBER_CONN_TYPE_DESC[#Data],0),0))","v":""}]
[{"$f":"IF('Comm Device (Desc)'!A29=\"\",\"\",'Comm Device (Desc)'!A29)","v":""},{"$f":"IF('Comm Device (Desc)'!C29=\"\",\"\",\"2029\")","v":""},{"$f":"IF('Comm Device (Desc)'!C29=\"\",\"\",'Comm Device (Desc)'!C29)","v":""},{"$f":"IF('Comm Device (Desc)'!D29=\"\",\"\",INDEX([1]OWNER!$A$2:$A$100,MATCH('Comm Device (Desc)'!$D29,[1]!MASTER_OWNER_DESC[#Data],0),0))","v":""},{"$f":"IF('Comm Device (Desc)'!F29=\"\",\"\",INDEX([1]ITS_COMM_DEV_TYPE!$A$2:$A$100,MATCH('Comm Device (Desc)'!$F29,[1]!MASTER_ITS_COMM_DEV_TYPE_DESC[#Data],0),0))","v":""},{"$f":"IF('Comm Device (Desc)'!G29=\"\",\"\",INDEX([1]COMM_TYPE!$A$2:$A$100,MATCH('Comm Device (Desc)'!$G29,[1]!MASTER_COMM_TYPE_DESC[#Data],0),0))","v":""},{"$f":"IF('Comm Device (Desc)'!H29=\"\",\"\",'Comm Device (Desc)'!H29)","v":""},{"$f":"IF('Comm Device (Desc)'!I29=\"\",\"\",'Comm Device (Desc)'!I29)","v":""},{"$f":"IF('Comm Device (Desc)'!J29=\"\",\"\",INDEX([1]ITS_COMM_DEV_MANUF!$A$2:$A$300,MATCH(1,([1]ITS_COMM_DEV_MANUF!$B$2:$B$300='Comm Device (Desc)'!$J29)*([1]ITS_COMM_DEV_MANUF!$C$2:$C$300='Comm Device (Code)'!$E29),0),0))","v":""},{"$f":"IF('Comm Device (Desc)'!K29=\"\",\"\",INDEX([1]ITS_COMM_DEV_MODEL!$A$2:$A$500,MATCH(1,([1]ITS_COMM_DEV_MODEL!$C$2:$C$500='Comm Device (Desc)'!$J29)*([1]ITS_COMM_DEV_MODEL!$D$2:$D$500='Comm Device (Code)'!$E29)*([1]ITS_COMM_DEV_MODEL!$E$2:$E$500='Comm Device (Desc)'!$K29),0),0))","v":""},{"$f":"IF('Comm Device (Desc)'!L29=\"\",\"\",'Comm Device (Desc)'!L29)","v":""},{"$f":"IF('Comm Device (Desc)'!M29=\"\",\"\",'Comm Device (Desc)'!M29)","v":""},{"$f":"IF('Comm Device (Desc)'!N29=\"\",\"\",'Comm Device (Desc)'!N29)","v":""},{"$f":"IF('Comm Device (Desc)'!O29=\"\",\"\",'Comm Device (Desc)'!O29)","v":""},{"$f":"IF('Comm Device (Desc)'!P29=\"\",\"\",INDEX([1]DEV_INPUT_VOLTAGE!$A$2:$A$100,MATCH('Comm Device (Desc)'!$P29,[1]!MASTER_DEV_INPUT_VOLTAGE_DESC[#Data],0),0))","v":""},{"$f":"IF('Comm Device (Desc)'!Q29=\"\",\"\",'Comm Device (Desc)'!Q29)","v":""},{"$f":"IF('Comm Device (Desc)'!R29=\"\",\"\",'Comm Device (Desc)'!R29)","v":""},{"$f":"IF('Comm Device (Desc)'!S29=\"\",\"\",'Comm Device (Desc)'!S29)","v":""},{"$f":"IF('Comm Device (Desc)'!T29=\"\",\"\",'Comm Device (Desc)'!T29)","v":""},{"$f":"IF('Comm Device (Desc)'!U29=\"\",\"\",'Comm Device (Desc)'!U29)","v":""},{"$f":"IF('Comm Device (Desc)'!V29=\"\",\"\",INDEX([1]FIBER_CONN_TYPE!$A$2:$A$100,MATCH('Comm Device (Desc)'!$V29,[1]!MASTER_FIBER_CONN_TYPE_DESC[#Data],0),0))","v":""}]
[{"$f":"IF('Comm Device (Desc)'!A30=\"\",\"\",'Comm Device (Desc)'!A30)","v":""},{"$f":"IF('Comm Device (Desc)'!C30=\"\",\"\",\"2029\")","v":""},{"$f":"IF('Comm Device (Desc)'!C30=\"\",\"\",'Comm Device (Desc)'!C30)","v":""},{"$f":"IF('Comm Device (Desc)'!D30=\"\",\"\",INDEX([1]OWNER!$A$2:$A$100,MATCH('Comm Device (Desc)'!$D30,[1]!MASTER_OWNER_DESC[#Data],0),0))","v":""},{"$f":"IF('Comm Device (Desc)'!F30=\"\",\"\",INDEX([1]ITS_COMM_DEV_TYPE!$A$2:$A$100,MATCH('Comm Device (Desc)'!$F30,[1]!MASTER_ITS_COMM_DEV_TYPE_DESC[#Data],0),0))","v":""},{"$f":"IF('Comm Device (Desc)'!G30=\"\",\"\",INDEX([1]COMM_TYPE!$A$2:$A$100,MATCH('Comm Device (Desc)'!$G30,[1]!MASTER_COMM_TYPE_DESC[#Data],0),0))","v":""},{"$f":"IF('Comm Device (Desc)'!H30=\"\",\"\",'Comm Device (Desc)'!H30)","v":""},{"$f":"IF('Comm Device (Desc)'!I30=\"\",\"\",'Comm Device (Desc)'!I30)","v":""},{"$f":"IF('Comm Device (Desc)'!J30=\"\",\"\",INDEX([1]ITS_COMM_DEV_MANUF!$A$2:$A$300,MATCH(1,([1]ITS_COMM_DEV_MANUF!$B$2:$B$300='Comm Device (Desc)'!$J30)*([1]ITS_COMM_DEV_MANUF!$C$2:$C$300='Comm Device (Code)'!$E30),0),0))","v":""},{"$f":"IF('Comm Device (Desc)'!K30=\"\",\"\",INDEX([1]ITS_COMM_DEV_MODEL!$A$2:$A$500,MATCH(1,([1]ITS_COMM_DEV_MODEL!$C$2:$C$500='Comm Device (Desc)'!$J30)*([1]ITS_COMM_DEV_MODEL!$D$2:$D$500='Comm Device (Code)'!$E30)*([1]ITS_COMM_DEV_MODEL!$E$2:$E$500='Comm Device (Desc)'!$K30),0),0))","v":""},{"$f":"IF('Comm Device (Desc)'!L30=\"\",\"\",'Comm Device (Desc)'!L30)","v":""},{"$f":"IF('Comm Device (Desc)'!M30=\"\",\"\",'Comm Device (Desc)'!M30)","v":""},{"$f":"IF('Comm Device (Desc)'!N30=\"\",\"\",'Comm Device (Desc)'!N30)","v":""},{"$f":"IF('Comm Device (Desc)'!O30=\"\",\"\",'Comm Device (Desc)'!O30)","v":""},{"$f":"IF('Comm Device (Desc)'!P30=\"\",\"\",INDEX([1]DEV_INPUT_VOLTAGE!$A$2:$A$100,MATCH('Comm Device (Desc)'!$P30,[1]!MASTER_DEV_INPUT_VOLTAGE_DESC[#Data],0),0))","v":""},{"$f":"IF('Comm Device (Desc)'!Q30=\"\",\"\",'Comm Device (Desc)'!Q30)","v":""},{"$f":"IF('Comm Device (Desc)'!R30=\"\",\"\",'Comm Device (Desc)'!R30)","v":""},{"$f":"IF('Comm Device (Desc)'!S30=\"\",\"\",'Comm Device (Desc)'!S30)","v":""},{"$f":"IF('Comm Device (Desc)'!T30=\"\",\"\",'Comm Device (Desc)'!T30)","v":""},{"$f":"IF('Comm Device (Desc)'!U30=\"\",\"\",'Comm Device (Desc)'!U30)","v":""},{"$f":"IF('Comm Device (Desc)'!V30=\"\",\"\",INDEX([1]FIBER_CONN_TYPE!$A$2:$A$100,MATCH('Comm Device (Desc)'!$V30,[1]!MASTER_FIBER_CONN_TYPE_DESC[#Data],0),0))","v":""}]
[{"$f":"IF('Comm Device (Desc)'!A31=\"\",\"\",'Comm Device (Desc)'!A31)","v":""},{"$f":"IF('Comm Device (Desc)'!C31=\"\",\"\",\"2029\")","v":""},{"$f":"IF('Comm Device (Desc)'!C31=\"\",\"\",'Comm Device (Desc)'!C31)","v":""},{"$f":"IF('Comm Device (Desc)'!D31=\"\",\"\",INDEX([1]OWNER!$A$2:$A$100,MATCH('Comm Device (Desc)'!$D31,[1]!MASTER_OWNER_DESC[#Data],0),0))","v":""},{"$f":"IF('Comm Device (Desc)'!F31=\"\",\"\",INDEX([1]ITS_COMM_DEV_TYPE!$A$2:$A$100,MATCH('Comm Device (Desc)'!$F31,[1]!MASTER_ITS_COMM_DEV_TYPE_DESC[#Data],0),0))","v":""},{"$f":"IF('Comm Device (Desc)'!G31=\"\",\"\",INDEX([1]COMM_TYPE!$A$2:$A$100,MATCH('Comm Device (Desc)'!$G31,[1]!MASTER_COMM_TYPE_DESC[#Data],0),0))","v":""},{"$f":"IF('Comm Device (Desc)'!H31=\"\",\"\",'Comm Device (Desc)'!H31)","v":""},{"$f":"IF('Comm Device (Desc)'!I31=\"\",\"\",'Comm Device (Desc)'!I31)","v":""},{"$f":"IF('Comm Device (Desc)'!J31=\"\",\"\",INDEX([1]ITS_COMM_DEV_MANUF!$A$2:$A$300,MATCH(1,([1]ITS_COMM_DEV_MANUF!$B$2:$B$300='Comm Device (Desc)'!$J31)*([1]ITS_COMM_DEV_MANUF!$C$2:$C$300='Comm Device (Code)'!$E31),0),0))","v":""},{"$f":"IF('Comm Device (Desc)'!K31=\"\",\"\",INDEX([1]ITS_COMM_DEV_MODEL!$A$2:$A$500,MATCH(1,([1]ITS_COMM_DEV_MODEL!$C$2:$C$500='Comm Device (Desc)'!$J31)*([1]ITS_COMM_DEV_MODEL!$D$2:$D$500='Comm Device (Code)'!$E31)*([1]ITS_COMM_DEV_MODEL!$E$2:$E$500='Comm Device (Desc)'!$K31),0),0))","v":""},{"$f":"IF('Comm Device (Desc)'!L31=\"\",\"\",'Comm Device (Desc)'!L31)","v":""},{"$f":"IF('Comm Device (Desc)'!M31=\"\",\"\",'Comm Device (Desc)'!M31)","v":""},{"$f":"IF('Comm Device (Desc)'!N31=\"\",\"\",'Comm Device (Desc)'!N31)","v":""},{"$f":"IF('Comm Device (Desc)'!O31=\"\",\"\",'Comm Device (Desc)'!O31)","v":""},{"$f":"IF('Comm Device (Desc)'!P31=\"\",\"\",INDEX([1]DEV_INPUT_VOLTAGE!$A$2:$A$100,MATCH('Comm Device (Desc)'!$P31,[1]!MASTER_DEV_INPUT_VOLTAGE_DESC[#Data],0),0))","v":""},{"$f":"IF('Comm Device (Desc)'!Q31=\"\",\"\",'Comm Device (Desc)'!Q31)","v":""},{"$f":"IF('Comm Device (Desc)'!R31=\"\",\"\",'Comm Device (Desc)'!R31)","v":""},{"$f":"IF('Comm Device (Desc)'!S31=\"\",\"\",'Comm Device (Desc)'!S31)","v":""},{"$f":"IF('Comm Device (Desc)'!T31=\"\",\"\",'Comm Device (Desc)'!T31)","v":""},{"$f":"IF('Comm Device (Desc)'!U31=\"\",\"\",'Comm Device (Desc)'!U31)","v":""},{"$f":"IF('Comm Device (Desc)'!V31=\"\",\"\",INDEX([1]FIBER_CONN_TYPE!$A$2:$A$100,MATCH('Comm Device (Desc)'!$V31,[1]!MASTER_FIBER_CONN_TYPE_DESC[#Data],0),0))","v":""}]
[{"$f":"IF('Comm Device (Desc)'!A32=\"\",\"\",'Comm Device (Desc)'!A32)","v":""},{"$f":"IF('Comm Device (Desc)'!C32=\"\",\"\",\"2029\")","v":""},{"$f":"IF('Comm Device (Desc)'!C32=\"\",\"\",'Comm Device (Desc)'!C32)","v":""},{"$f":"IF('Comm Device (Desc)'!D32=\"\",\"\",INDEX([1]OWNER!$A$2:$A$100,MATCH('Comm Device (Desc)'!$D32,[1]!MASTER_OWNER_DESC[#Data],0),0))","v":""},{"$f":"IF('Comm Device (Desc)'!F32=\"\",\"\",INDEX([1]ITS_COMM_DEV_TYPE!$A$2:$A$100,MATCH('Comm Device (Desc)'!$F32,[1]!MASTER_ITS_COMM_DEV_TYPE_DESC[#Data],0),0))","v":""},{"$f":"IF('Comm Device (Desc)'!G32=\"\",\"\",INDEX([1]COMM_TYPE!$A$2:$A$100,MATCH('Comm Device (Desc)'!$G32,[1]!MASTER_COMM_TYPE_DESC[#Data],0),0))","v":""},{"$f":"IF('Comm Device (Desc)'!H32=\"\",\"\",'Comm Device (Desc)'!H32)","v":""},{"$f":"IF('Comm Device (Desc)'!I32=\"\",\"\",'Comm Device (Desc)'!I32)","v":""},{"$f":"IF('Comm Device (Desc)'!J32=\"\",\"\",INDEX([1]ITS_COMM_DEV_MANUF!$A$2:$A$300,MATCH(1,([1]ITS_COMM_DEV_MANUF!$B$2:$B$300='Comm Device (Desc)'!$J32)*([1]ITS_COMM_DEV_MANUF!$C$2:$C$300='Comm Device (Code)'!$E32),0),0))","v":""},{"$f":"IF('Comm Device (Desc)'!K32=\"\",\"\",INDEX([1]ITS_COMM_DEV_MODEL!$A$2:$A$500,MATCH(1,([1]ITS_COMM_DEV_MODEL!$C$2:$C$500='Comm Device (Desc)'!$J32)*([1]ITS_COMM_DEV_MODEL!$D$2:$D$500='Comm Device (Code)'!$E32)*([1]ITS_COMM_DEV_MODEL!$E$2:$E$500='Comm Device (Desc)'!$K32),0),0))","v":""},{"$f":"IF('Comm Device (Desc)'!L32=\"\",\"\",'Comm Device (Desc)'!L32)","v":""},{"$f":"IF('Comm Device (Desc)'!M32=\"\",\"\",'Comm Device (Desc)'!M32)","v":""},{"$f":"IF('Comm Device (Desc)'!N32=\"\",\"\",'Comm Device (Desc)'!N32)","v":""},{"$f":"IF('Comm Device (Desc)'!O32=\"\",\"\",'Comm Device (Desc)'!O32)","v":""},{"$f":"IF('Comm Device (Desc)'!P32=\"\",\"\",INDEX([1]DEV_INPUT_VOLTAGE!$A$2:$A$100,MATCH('Comm Device (Desc)'!$P32,[1]!MASTER_DEV_INPUT_VOLTAGE_DESC[#Data],0),0))","v":""},{"$f":"IF('Comm Device (Desc)'!Q32=\"\",\"\",'Comm Device (Desc)'!Q32)","v":""},{"$f":"IF('Comm Device (Desc)'!R32=\"\",\"\",'Comm Device (Desc)'!R32)","v":""},{"$f":"IF('Comm Device (Desc)'!S32=\"\",\"\",'Comm Device (Desc)'!S32)","v":""},{"$f":"IF('Comm Device (Desc)'!T32=\"\",\"\",'Comm Device (Desc)'!T32)","v":""},{"$f":"IF('Comm Device (Desc)'!U32=\"\",\"\",'Comm Device (Desc)'!U32)","v":""},{"$f":"IF('Comm Device (Desc)'!V32=\"\",\"\",INDEX([1]FIBER_CONN_TYPE!$A$2:$A$100,MATCH('Comm Device (Desc)'!$V32,[1]!MASTER_FIBER_CONN_TYPE_DESC[#Data],0),0))","v":""}]
[{"$f":"IF('Comm Device (Desc)'!A33=\"\",\"\",'Comm Device (Desc)'!A33)","v":""},{"$f":"IF('Comm Device (Desc)'!C33=\"\",\"\",\"2029\")","v":""},{"$f":"IF('Comm Device (Desc)'!C33=\"\",\"\",'Comm Device (Desc)'!C33)","v":""},{"$f":"IF('Comm Device (Desc)'!D33=\"\",\"\",INDEX([1]OWNER!$A$2:$A$100,MATCH('Comm Device (Desc)'!$D33,[1]!MASTER_OWNER_DESC[#Data],0),0))","v":""},{"$f":"IF('Comm Device (Desc)'!F33=\"\",\"\",INDEX([1]ITS_COMM_DEV_TYPE!$A$2:$A$100,MATCH('Comm Device (Desc)'!$F33,[1]!MASTER_ITS_COMM_DEV_TYPE_DESC[#Data],0),0))","v":""},{"$f":"IF('Comm Device (Desc)'!G33=\"\",\"\",INDEX([1]COMM_TYPE!$A$2:$A$100,MATCH('Comm Device (Desc)'!$G33,[1]!MASTER_COMM_TYPE_DESC[#Data],0),0))","v":""},{"$f":"IF('Comm Device (Desc)'!H33=\"\",\"\",'Comm Device (Desc)'!H33)","v":""},{"$f":"IF('Comm Device (Desc)'!I33=\"\",\"\",'Comm Device (Desc)'!I33)","v":""},{"$f":"IF('Comm Device (Desc)'!J33=\"\",\"\",INDEX([1]ITS_COMM_DEV_MANUF!$A$2:$A$300,MATCH(1,([1]ITS_COMM_DEV_MANUF!$B$2:$B$300='Comm Device (Desc)'!$J33)*([1]ITS_COMM_DEV_MANUF!$C$2:$C$300='Comm Device (Code)'!$E33),0),0))","v":""},{"$f":"IF('Comm Device (Desc)'!K33=\"\",\"\",INDEX([1]ITS_COMM_DEV_MODEL!$A$2:$A$500,MATCH(1,([1]ITS_COMM_DEV_MODEL!$C$2:$C$500='Comm Device (Desc)'!$J33)*([1]ITS_COMM_DEV_MODEL!$D$2:$D$500='Comm Device (Code)'!$E33)*([1]ITS_COMM_DEV_MODEL!$E$2:$E$500='Comm Device (Desc)'!$K33),0),0))","v":""},{"$f":"IF('Comm Device (Desc)'!L33=\"\",\"\",'Comm Device (Desc)'!L33)","v":""},{"$f":"IF('Comm Device (Desc)'!M33=\"\",\"\",'Comm Device (Desc)'!M33)","v":""},{"$f":"IF('Comm Device (Desc)'!N33=\"\",\"\",'Comm Device (Desc)'!N33)","v":""},{"$f":"IF('Comm Device (Desc)'!O33=\"\",\"\",'Comm Device (Desc)'!O33)","v":""},{"$f":"IF('Comm Device (Desc)'!P33=\"\",\"\",INDEX([1]DEV_INPUT_VOLTAGE!$A$2:$A$100,MATCH('Comm Device (Desc)'!$P33,[1]!MASTER_DEV_INPUT_VOLTAGE_DESC[#Data],0),0))","v":""},{"$f":"IF('Comm Device (Desc)'!Q33=\"\",\"\",'Comm Device (Desc)'!Q33)","v":""},{"$f":"IF('Comm Device (Desc)'!R33=\"\",\"\",'Comm Device (Desc)'!R33)","v":""},{"$f":"IF('Comm Device (Desc)'!S33=\"\",\"\",'Comm Device (Desc)'!S33)","v":""},{"$f":"IF('Comm Device (Desc)'!T33=\"\",\"\",'Comm Device (Desc)'!T33)","v":""},{"$f":"IF('Comm Device (Desc)'!U33=\"\",\"\",'Comm Device (Desc)'!U33)","v":""},{"$f":"IF('Comm Device (Desc)'!V33=\"\",\"\",INDEX([1]FIBER_CONN_TYPE!$A$2:$A$100,MATCH('Comm Device (Desc)'!$V33,[1]!MASTER_FIBER_CONN_TYPE_DESC[#Data],0),0))","v":""}]
[{"$f":"IF('Comm Device (Desc)'!A34=\"\",\"\",'Comm Device (Desc)'!A34)","v":""},{"$f":"IF('Comm Device (Desc)'!C34=\"\",\"\",\"2029\")","v":""},{"$f":"IF('Comm Device (Desc)'!C34=\"\",\"\",'Comm Device (Desc)'!C34)","v":""},{"$f":"IF('Comm Device (Desc)'!D34=\"\",\"\",INDEX([1]OWNER!$A$2:$A$100,MATCH('Comm Device (Desc)'!$D34,[1]!MASTER_OWNER_DESC[#Data],0),0))","v":""},{"$f":"IF('Comm Device (Desc)'!F34=\"\",\"\",INDEX([1]ITS_COMM_DEV_TYPE!$A$2:$A$100,MATCH('Comm Device (Desc)'!$F34,[1]!MASTER_ITS_COMM_DEV_TYPE_DESC[#Data],0),0))","v":""},{"$f":"IF('Comm Device (Desc)'!G34=\"\",\"\",INDEX([1]COMM_TYPE!$A$2:$A$100,MATCH('Comm Device (Desc)'!$G34,[1]!MASTER_COMM_TYPE_DESC[#Data],0),0))","v":""},{"$f":"IF('Comm Device (Desc)'!H34=\"\",\"\",'Comm Device (Desc)'!H34)","v":""},{"$f":"IF('Comm Device (Desc)'!I34=\"\",\"\",'Comm Device (Desc)'!I34)","v":""},{"$f":"IF('Comm Device (Desc)'!J34=\"\",\"\",INDEX([1]ITS_COMM_DEV_MANUF!$A$2:$A$300,MATCH(1,([1]ITS_COMM_DEV_MANUF!$B$2:$B$300='Comm Device (Desc)'!$J34)*([1]ITS_COMM_DEV_MANUF!$C$2:$C$300='Comm Device (Code)'!$E34),0),0))","v":""},{"$f":"IF('Comm Device (Desc)'!K34=\"\",\"\",INDEX([1]ITS_COMM_DEV_MODEL!$A$2:$A$500,MATCH(1,([1]ITS_COMM_DEV_MODEL!$C$2:$C$500='Comm Device (Desc)'!$J34)*([1]ITS_COMM_DEV_MODEL!$D$2:$D$500='Comm Device (Code)'!$E34)*([1]ITS_COMM_DEV_MODEL!$E$2:$E$500='Comm Device (Desc)'!$K34),0),0))","v":""},{"$f":"IF('Comm Device (Desc)'!L34=\"\",\"\",'Comm Device (Desc)'!L34)","v":""},{"$f":"IF('Comm Device (Desc)'!M34=\"\",\"\",'Comm Device (Desc)'!M34)","v":""},{"$f":"IF('Comm Device (Desc)'!N34=\"\",\"\",'Comm Device (Desc)'!N34)","v":""},{"$f":"IF('Comm Device (Desc)'!O34=\"\",\"\",'Comm Device (Desc)'!O34)","v":""},{"$f":"IF('Comm Device (Desc)'!P34=\"\",\"\",INDEX([1]DEV_INPUT_VOLTAGE!$A$2:$A$100,MATCH('Comm Device (Desc)'!$P34,[1]!MASTER_DEV_INPUT_VOLTAGE_DESC[#Data],0),0))","v":""},{"$f":"IF('Comm Device (Desc)'!Q34=\"\",\"\",'Comm Device (Desc)'!Q34)","v":""},{"$f":"IF('Comm Device (Desc)'!R34=\"\",\"\",'Comm Device (Desc)'!R34)","v":""},{"$f":"IF('Comm Device (Desc)'!S34=\"\",\"\",'Comm Device (Desc)'!S34)","v":""},{"$f":"IF('Comm Device (Desc)'!T34=\"\",\"\",'Comm Device (Desc)'!T34)","v":""},{"$f":"IF('Comm Device (Desc)'!U34=\"\",\"\",'Comm Device (Desc)'!U34)","v":""},{"$f":"IF('Comm Device (Desc)'!V34=\"\",\"\",INDEX([1]FIBER_CONN_TYPE!$A$2:$A$100,MATCH('Comm Device (Desc)'!$V34,[1]!MASTER_FIBER_CONN_TYPE_DESC[#Data],0),0))","v":""}]
[{"$f":"IF('Comm Device (Desc)'!A35=\"\",\"\",'Comm Device (Desc)'!A35)","v":""},{"$f":"IF('Comm Device (Desc)'!C35=\"\",\"\",\"2029\")","v":""},{"$f":"IF('Comm Device (Desc)'!C35=\"\",\"\",'Comm Device (Desc)'!C35)","v":""},{"$f":"IF('Comm Device (Desc)'!D35=\"\",\"\",INDEX([1]OWNER!$A$2:$A$100,MATCH('Comm Device (Desc)'!$D35,[1]!MASTER_OWNER_DESC[#Data],0),0))","v":""},{"$f":"IF('Comm Device (Desc)'!F35=\"\",\"\",INDEX([1]ITS_COMM_DEV_TYPE!$A$2:$A$100,MATCH('Comm Device (Desc)'!$F35,[1]!MASTER_ITS_COMM_DEV_TYPE_DESC[#Data],0),0))","v":""},{"$f":"IF('Comm Device (Desc)'!G35=\"\",\"\",INDEX([1]COMM_TYPE!$A$2:$A$100,MATCH('Comm Device (Desc)'!$G35,[1]!MASTER_COMM_TYPE_DESC[#Data],0),0))","v":""},{"$f":"IF('Comm Device (Desc)'!H35=\"\",\"\",'Comm Device (Desc)'!H35)","v":""},{"$f":"IF('Comm Device (Desc)'!I35=\"\",\"\",'Comm Device (Desc)'!I35)","v":""},{"$f":"IF('Comm Device (Desc)'!J35=\"\",\"\",INDEX([1]ITS_COMM_DEV_MANUF!$A$2:$A$300,MATCH(1,([1]ITS_COMM_DEV_MANUF!$B$2:$B$300='Comm Device (Desc)'!$J35)*([1]ITS_COMM_DEV_MANUF!$C$2:$C$300='Comm Device (Code)'!$E35),0),0))","v":""},{"$f":"IF('Comm Device (Desc)'!K35=\"\",\"\",INDEX([1]ITS_COMM_DEV_MODEL!$A$2:$A$500,MATCH(1,([1]ITS_COMM_DEV_MODEL!$C$2:$C$500='Comm Device (Desc)'!$J35)*([1]ITS_COMM_DEV_MODEL!$D$2:$D$500='Comm Device (Code)'!$E35)*([1]ITS_COMM_DEV_MODEL!$E$2:$E$500='Comm Device (Desc)'!$K35),0),0))","v":""},{"$f":"IF('Comm Device (Desc)'!L35=\"\",\"\",'Comm Device (Desc)'!L35)","v":""},{"$f":"IF('Comm Device (Desc)'!M35=\"\",\"\",'Comm Device (Desc)'!M35)","v":""},{"$f":"IF('Comm Device (Desc)'!N35=\"\",\"\",'Comm Device (Desc)'!N35)","v":""},{"$f":"IF('Comm Device (Desc)'!O35=\"\",\"\",'Comm Device (Desc)'!O35)","v":""},{"$f":"IF('Comm Device (Desc)'!P35=\"\",\"\",INDEX([1]DEV_INPUT_VOLTAGE!$A$2:$A$100,MATCH('Comm Device (Desc)'!$P35,[1]!MASTER_DEV_INPUT_VOLTAGE_DESC[#Data],0),0))","v":""},{"$f":"IF('Comm Device (Desc)'!Q35=\"\",\"\",'Comm Device (Desc)'!Q35)","v":""},{"$f":"IF('Comm Device (Desc)'!R35=\"\",\"\",'Comm Device (Desc)'!R35)","v":""},{"$f":"IF('Comm Device (Desc)'!S35=\"\",\"\",'Comm Device (Desc)'!S35)","v":""},{"$f":"IF('Comm Device (Desc)'!T35=\"\",\"\",'Comm Device (Desc)'!T35)","v":""},{"$f":"IF('Comm Device (Desc)'!U35=\"\",\"\",'Comm Device (Desc)'!U35)","v":""},{"$f":"IF('Comm Device (Desc)'!V35=\"\",\"\",INDEX([1]FIBER_CONN_TYPE!$A$2:$A$100,MATCH('Comm Device (Desc)'!$V35,[1]!MASTER_FIBER_CONN_TYPE_DESC[#Data],0),0))","v":""}]
[{"$f":"IF('Comm Device (Desc)'!A36=\"\",\"\",'Comm Device (Desc)'!A36)","v":""},{"$f":"IF('Comm Device (Desc)'!C36=\"\",\"\",\"2029\")","v":""},{"$f":"IF('Comm Device (Desc)'!C36=\"\",\"\",'Comm Device (Desc)'!C36)","v":""},{"$f":"IF('Comm Device (Desc)'!D36=\"\",\"\",INDEX([1]OWNER!$A$2:$A$100,MATCH('Comm Device (Desc)'!$D36,[1]!MASTER_OWNER_DESC[#Data],0),0))","v":""},{"$f":"IF('Comm Device (Desc)'!F36=\"\",\"\",INDEX([1]ITS_COMM_DEV_TYPE!$A$2:$A$100,MATCH('Comm Device (Desc)'!$F36,[1]!MASTER_ITS_COMM_DEV_TYPE_DESC[#Data],0),0))","v":""},{"$f":"IF('Comm Device (Desc)'!G36=\"\",\"\",INDEX([1]COMM_TYPE!$A$2:$A$100,MATCH('Comm Device (Desc)'!$G36,[1]!MASTER_COMM_TYPE_DESC[#Data],0),0))","v":""},{"$f":"IF('Comm Device (Desc)'!H36=\"\",\"\",'Comm Device (Desc)'!H36)","v":""},{"$f":"IF('Comm Device (Desc)'!I36=\"\",\"\",'Comm Device (Desc)'!I36)","v":""},{"$f":"IF('Comm Device (Desc)'!J36=\"\",\"\",INDEX([1]ITS_COMM_DEV_MANUF!$A$2:$A$300,MATCH(1,([1]ITS_COMM_DEV_MANUF!$B$2:$B$300='Comm Device (Desc)'!$J36)*([1]ITS_COMM_DEV_MANUF!$C$2:$C$300='Comm Device (Code)'!$E36),0),0))","v":""},{"$f":"IF('Comm Device (Desc)'!K36=\"\",\"\",INDEX([1]ITS_COMM_DEV_MODEL!$A$2:$A$500,MATCH(1,([1]ITS_COMM_DEV_MODEL!$C$2:$C$500='Comm Device (Desc)'!$J36)*([1]ITS_COMM_DEV_MODEL!$D$2:$D$500='Comm Device (Code)'!$E36)*([1]ITS_COMM_DEV_MODEL!$E$2:$E$500='Comm Device (Desc)'!$K36),0),0))","v":""},{"$f":"IF('Comm Device (Desc)'!L36=\"\",\"\",'Comm Device (Desc)'!L36)","v":""},{"$f":"IF('Comm Device (Desc)'!M36=\"\",\"\",'Comm Device (Desc)'!M36)","v":""},{"$f":"IF('Comm Device (Desc)'!N36=\"\",\"\",'Comm Device (Desc)'!N36)","v":""},{"$f":"IF('Comm Device (Desc)'!O36=\"\",\"\",'Comm Device (Desc)'!O36)","v":""},{"$f":"IF('Comm Device (Desc)'!P36=\"\",\"\",INDEX([1]DEV_INPUT_VOLTAGE!$A$2:$A$100,MATCH('Comm Device (Desc)'!$P36,[1]!MASTER_DEV_INPUT_VOLTAGE_DESC[#Data],0),0))","v":""},{"$f":"IF('Comm Device (Desc)'!Q36=\"\",\"\",'Comm Device (Desc)'!Q36)","v":""},{"$f":"IF('Comm Device (Desc)'!R36=\"\",\"\",'Comm Device (Desc)'!R36)","v":""},{"$f":"IF('Comm Device (Desc)'!S36=\"\",\"\",'Comm Device (Desc)'!S36)","v":""},{"$f":"IF('Comm Device (Desc)'!T36=\"\",\"\",'Comm Device (Desc)'!T36)","v":""},{"$f":"IF('Comm Device (Desc)'!U36=\"\",\"\",'Comm Device (Desc)'!U36)","v":""},{"$f":"IF('Comm Device (Desc)'!V36=\"\",\"\",INDEX([1]FIBER_CONN_TYPE!$A$2:$A$100,MATCH('Comm Device (Desc)'!$V36,[1]!MASTER_FIBER_CONN_TYPE_DESC[#Data],0),0))","v":""}]
[{"$f":"IF('Comm Device (Desc)'!A37=\"\",\"\",'Comm Device (Desc)'!A37)","v":""},{"$f":"IF('Comm Device (Desc)'!C37=\"\",\"\",\"2029\")","v":""},{"$f":"IF('Comm Device (Desc)'!C37=\"\",\"\",'Comm Device (Desc)'!C37)","v":""},{"$f":"IF('Comm Device (Desc)'!D37=\"\",\"\",INDEX([1]OWNER!$A$2:$A$100,MATCH('Comm Device (Desc)'!$D37,[1]!MASTER_OWNER_DESC[#Data],0),0))","v":""},{"$f":"IF('Comm Device (Desc)'!F37=\"\",\"\",INDEX([1]ITS_COMM_DEV_TYPE!$A$2:$A$100,MATCH('Comm Device (Desc)'!$F37,[1]!MASTER_ITS_COMM_DEV_TYPE_DESC[#Data],0),0))","v":""},{"$f":"IF('Comm Device (Desc)'!G37=\"\",\"\",INDEX([1]COMM_TYPE!$A$2:$A$100,MATCH('Comm Device (Desc)'!$G37,[1]!MASTER_COMM_TYPE_DESC[#Data],0),0))","v":""},{"$f":"IF('Comm Device (Desc)'!H37=\"\",\"\",'Comm Device (Desc)'!H37)","v":""},{"$f":"IF('Comm Device (Desc)'!I37=\"\",\"\",'Comm Device (Desc)'!I37)","v":""},{"$f":"IF('Comm Device (Desc)'!J37=\"\",\"\",INDEX([1]ITS_COMM_DEV_MANUF!$A$2:$A$300,MATCH(1,([1]ITS_COMM_DEV_MANUF!$B$2:$B$300='Comm Device (Desc)'!$J37)*([1]ITS_COMM_DEV_MANUF!$C$2:$C$300='Comm Device (Code)'!$E37),0),0))","v":""},{"$f":"IF('Comm Device (Desc)'!K37=\"\",\"\",INDEX([1]ITS_COMM_DEV_MODEL!$A$2:$A$500,MATCH(1,([1]ITS_COMM_DEV_MODEL!$C$2:$C$500='Comm Device (Desc)'!$J37)*([1]ITS_COMM_DEV_MODEL!$D$2:$D$500='Comm Device (Code)'!$E37)*([1]ITS_COMM_DEV_MODEL!$E$2:$E$500='Comm Device (Desc)'!$K37),0),0))","v":""},{"$f":"IF('Comm Device (Desc)'!L37=\"\",\"\",'Comm Device (Desc)'!L37)","v":""},{"$f":"IF('Comm Device (Desc)'!M37=\"\",\"\",'Comm Device (Desc)'!M37)","v":""},{"$f":"IF('Comm Device (Desc)'!N37=\"\",\"\",'Comm Device (Desc)'!N37)","v":""},{"$f":"IF('Comm Device (Desc)'!O37=\"\",\"\",'Comm Device (Desc)'!O37)","v":""},{"$f":"IF('Comm Device (Desc)'!P37=\"\",\"\",INDEX([1]DEV_INPUT_VOLTAGE!$A$2:$A$100,MATCH('Comm Device (Desc)'!$P37,[1]!MASTER_DEV_INPUT_VOLTAGE_DESC[#Data],0),0))","v":""},{"$f":"IF('Comm Device (Desc)'!Q37=\"\",\"\",'Comm Device (Desc)'!Q37)","v":""},{"$f":"IF('Comm Device (Desc)'!R37=\"\",\"\",'Comm Device (Desc)'!R37)","v":""},{"$f":"IF('Comm Device (Desc)'!S37=\"\",\"\",'Comm Device (Desc)'!S37)","v":""},{"$f":"IF('Comm Device (Desc)'!T37=\"\",\"\",'Comm Device (Desc)'!T37)","v":""},{"$f":"IF('Comm Device (Desc)'!U37=\"\",\"\",'Comm Device (Desc)'!U37)","v":""},{"$f":"IF('Comm Device (Desc)'!V37=\"\",\"\",INDEX([1]FIBER_CONN_TYPE!$A$2:$A$100,MATCH('Comm Device (Desc)'!$V37,[1]!MASTER_FIBER_CONN_TYPE_DESC[#Data],0),0))","v":""}]
[{"$f":"IF('Comm Device (Desc)'!A38=\"\",\"\",'Comm Device (Desc)'!A38)","v":""},{"$f":"IF('Comm Device (Desc)'!C38=\"\",\"\",\"2029\")","v":""},{"$f":"IF('Comm Device (Desc)'!C38=\"\",\"\",'Comm Device (Desc)'!C38)","v":""},{"$f":"IF('Comm Device (Desc)'!D38=\"\",\"\",INDEX([1]OWNER!$A$2:$A$100,MATCH('Comm Device (Desc)'!$D38,[1]!MASTER_OWNER_DESC[#Data],0),0))","v":""},{"$f":"IF('Comm Device (Desc)'!F38=\"\",\"\",INDEX([1]ITS_COMM_DEV_TYPE!$A$2:$A$100,MATCH('Comm Device (Desc)'!$F38,[1]!MASTER_ITS_COMM_DEV_TYPE_DESC[#Data],0),0))","v":""},{"$f":"IF('Comm Device (Desc)'!G38=\"\",\"\",INDEX([1]COMM_TYPE!$A$2:$A$100,MATCH('Comm Device (Desc)'!$G38,[1]!MASTER_COMM_TYPE_DESC[#Data],0),0))","v":""},{"$f":"IF('Comm Device (Desc)'!H38=\"\",\"\",'Comm Device (Desc)'!H38)","v":""},{"$f":"IF('Comm Device (Desc)'!I38=\"\",\"\",'Comm Device (Desc)'!I38)","v":""},{"$f":"IF('Comm Device (Desc)'!J38=\"\",\"\",INDEX([1]ITS_COMM_DEV_MANUF!$A$2:$A$300,MATCH(1,([1]ITS_COMM_DEV_MANUF!$B$2:$B$300='Comm Device (Desc)'!$J38)*([1]ITS_COMM_DEV_MANUF!$C$2:$C$300='Comm Device (Code)'!$E38),0),0))","v":""},{"$f":"IF('Comm Device (Desc)'!K38=\"\",\"\",INDEX([1]ITS_COMM_DEV_MODEL!$A$2:$A$500,MATCH(1,([1]ITS_COMM_DEV_MODEL!$C$2:$C$500='Comm Device (Desc)'!$J38)*([1]ITS_COMM_DEV_MODEL!$D$2:$D$500='Comm Device (Code)'!$E38)*([1]ITS_COMM_DEV_MODEL!$E$2:$E$500='Comm Device (Desc)'!$K38),0),0))","v":""},{"$f":"IF('Comm Device (Desc)'!L38=\"\",\"\",'Comm Device (Desc)'!L38)","v":""},{"$f":"IF('Comm Device (Desc)'!M38=\"\",\"\",'Comm Device (Desc)'!M38)","v":""},{"$f":"IF('Comm Device (Desc)'!N38=\"\",\"\",'Comm Device (Desc)'!N38)","v":""},{"$f":"IF('Comm Device (Desc)'!O38=\"\",\"\",'Comm Device (Desc)'!O38)","v":""},{"$f":"IF('Comm Device (Desc)'!P38=\"\",\"\",INDEX([1]DEV_INPUT_VOLTAGE!$A$2:$A$100,MATCH('Comm Device (Desc)'!$P38,[1]!MASTER_DEV_INPUT_VOLTAGE_DESC[#Data],0),0))","v":""},{"$f":"IF('Comm Device (Desc)'!Q38=\"\",\"\",'Comm Device (Desc)'!Q38)","v":""},{"$f":"IF('Comm Device (Desc)'!R38=\"\",\"\",'Comm Device (Desc)'!R38)","v":""},{"$f":"IF('Comm Device (Desc)'!S38=\"\",\"\",'Comm Device (Desc)'!S38)","v":""},{"$f":"IF('Comm Device (Desc)'!T38=\"\",\"\",'Comm Device (Desc)'!T38)","v":""},{"$f":"IF('Comm Device (Desc)'!U38=\"\",\"\",'Comm Device (Desc)'!U38)","v":""},{"$f":"IF('Comm Device (Desc)'!V38=\"\",\"\",INDEX([1]FIBER_CONN_TYPE!$A$2:$A$100,MATCH('Comm Device (Desc)'!$V38,[1]!MASTER_FIBER_CONN_TYPE_DESC[#Data],0),0))","v":""}]
[{"$f":"IF('Comm Device (Desc)'!A39=\"\",\"\",'Comm Device (Desc)'!A39)","v":""},{"$f":"IF('Comm Device (Desc)'!C39=\"\",\"\",\"2029\")","v":""},{"$f":"IF('Comm Device (Desc)'!C39=\"\",\"\",'Comm Device (Desc)'!C39)","v":""},{"$f":"IF('Comm Device (Desc)'!D39=\"\",\"\",INDEX([1]OWNER!$A$2:$A$100,MATCH('Comm Device (Desc)'!$D39,[1]!MASTER_OWNER_DESC[#Data],0),0))","v":""},{"$f":"IF('Comm Device (Desc)'!F39=\"\",\"\",INDEX([1]ITS_COMM_DEV_TYPE!$A$2:$A$100,MATCH('Comm Device (Desc)'!$F39,[1]!MASTER_ITS_COMM_DEV_TYPE_DESC[#Data],0),0))","v":""},{"$f":"IF('Comm Device (Desc)'!G39=\"\",\"\",INDEX([1]COMM_TYPE!$A$2:$A$100,MATCH('Comm Device (Desc)'!$G39,[1]!MASTER_COMM_TYPE_DESC[#Data],0),0))","v":""},{"$f":"IF('Comm Device (Desc)'!H39=\"\",\"\",'Comm Device (Desc)'!H39)","v":""},{"$f":"IF('Comm Device (Desc)'!I39=\"\",\"\",'Comm Device (Desc)'!I39)","v":""},{"$f":"IF('Comm Device (Desc)'!J39=\"\",\"\",INDEX([1]ITS_COMM_DEV_MANUF!$A$2:$A$300,MATCH(1,([1]ITS_COMM_DEV_MANUF!$B$2:$B$300='Comm Device (Desc)'!$J39)*([1]ITS_COMM_DEV_MANUF!$C$2:$C$300='Comm Device (Code)'!$E39),0),0))","v":""},{"$f":"IF('Comm Device (Desc)'!K39=\"\",\"\",INDEX([1]ITS_COMM_DEV_MODEL!$A$2:$A$500,MATCH(1,([1]ITS_COMM_DEV_MODEL!$C$2:$C$500='Comm Device (Desc)'!$J39)*([1]ITS_COMM_DEV_MODEL!$D$2:$D$500='Comm Device (Code)'!$E39)*([1]ITS_COMM_DEV_MODEL!$E$2:$E$500='Comm Device (Desc)'!$K39),0),0))","v":""},{"$f":"IF('Comm Device (Desc)'!L39=\"\",\"\",'Comm Device (Desc)'!L39)","v":""},{"$f":"IF('Comm Device (Desc)'!M39=\"\",\"\",'Comm Device (Desc)'!M39)","v":""},{"$f":"IF('Comm Device (Desc)'!N39=\"\",\"\",'Comm Device (Desc)'!N39)","v":""},{"$f":"IF('Comm Device (Desc)'!O39=\"\",\"\",'Comm Device (Desc)'!O39)","v":""},{"$f":"IF('Comm Device (Desc)'!P39=\"\",\"\",INDEX([1]DEV_INPUT_VOLTAGE!$A$2:$A$100,MATCH('Comm Device (Desc)'!$P39,[1]!MASTER_DEV_INPUT_VOLTAGE_DESC[#Data],0),0))","v":""},{"$f":"IF('Comm Device (Desc)'!Q39=\"\",\"\",'Comm Device (Desc)'!Q39)","v":""},{"$f":"IF('Comm Device (Desc)'!R39=\"\",\"\",'Comm Device (Desc)'!R39)","v":""},{"$f":"IF('Comm Device (Desc)'!S39=\"\",\"\",'Comm Device (Desc)'!S39)","v":""},{"$f":"IF('Comm Device (Desc)'!T39=\"\",\"\",'Comm Device (Desc)'!T39)","v":""},{"$f":"IF('Comm Device (Desc)'!U39=\"\",\"\",'Comm Device (Desc)'!U39)","v":""},{"$f":"IF('Comm Device (Desc)'!V39=\"\",\"\",INDEX([1]FIBER_CONN_TYPE!$A$2:$A$100,MATCH('Comm Device (Desc)'!$V39,[1]!MASTER_FIBER_CONN_TYPE_DESC[#Data],0),0))","v":""}]
[{"$f":"IF('Comm Device (Desc)'!A40=\"\",\"\",'Comm Device (Desc)'!A40)","v":""},{"$f":"IF('Comm Device (Desc)'!C40=\"\",\"\",\"2029\")","v":""},{"$f":"IF('Comm Device (Desc)'!C40=\"\",\"\",'Comm Device (Desc)'!C40)","v":""},{"$f":"IF('Comm Device (Desc)'!D40=\"\",\"\",INDEX([1]OWNER!$A$2:$A$100,MATCH('Comm Device (Desc)'!$D40,[1]!MASTER_OWNER_DESC[#Data],0),0))","v":""},{"$f":"IF('Comm Device (Desc)'!F40=\"\",\"\",INDEX([1]ITS_COMM_DEV_TYPE!$A$2:$A$100,MATCH('Comm Device (Desc)'!$F40,[1]!MASTER_ITS_COMM_DEV_TYPE_DESC[#Data],0),0))","v":""},{"$f":"IF('Comm Device (Desc)'!G40=\"\",\"\",INDEX([1]COMM_TYPE!$A$2:$A$100,MATCH('Comm Device (Desc)'!$G40,[1]!MASTER_COMM_TYPE_DESC[#Data],0),0))","v":""},{"$f":"IF('Comm Device (Desc)'!H40=\"\",\"\",'Comm Device (Desc)'!H40)","v":""},{"$f":"IF('Comm Device (Desc)'!I40=\"\",\"\",'Comm Device (Desc)'!I40)","v":""},{"$f":"IF('Comm Device (Desc)'!J40=\"\",\"\",INDEX([1]ITS_COMM_DEV_MANUF!$A$2:$A$300,MATCH(1,([1]ITS_COMM_DEV_MANUF!$B$2:$B$300='Comm Device (Desc)'!$J40)*([1]ITS_COMM_DEV_MANUF!$C$2:$C$300='Comm Device (Code)'!$E40),0),0))","v":""},{"$f":"IF('Comm Device (Desc)'!K40=\"\",\"\",INDEX([1]ITS_COMM_DEV_MODEL!$A$2:$A$500,MATCH(1,([1]ITS_COMM_DEV_MODEL!$C$2:$C$500='Comm Device (Desc)'!$J40)*([1]ITS_COMM_DEV_MODEL!$D$2:$D$500='Comm Device (Code)'!$E40)*([1]ITS_COMM_DEV_MODEL!$E$2:$E$500='Comm Device (Desc)'!$K40),0),0))","v":""},{"$f":"IF('Comm Device (Desc)'!L40=\"\",\"\",'Comm Device (Desc)'!L40)","v":""},{"$f":"IF('Comm Device (Desc)'!M40=\"\",\"\",'Comm Device (Desc)'!M40)","v":""},{"$f":"IF('Comm Device (Desc)'!N40=\"\",\"\",'Comm Device (Desc)'!N40)","v":""},{"$f":"IF('Comm Device (Desc)'!O40=\"\",\"\",'Comm Device (Desc)'!O40)","v":""},{"$f":"IF('Comm Device (Desc)'!P40=\"\",\"\",INDEX([1]DEV_INPUT_VOLTAGE!$A$2:$A$100,MATCH('Comm Device (Desc)'!$P40,[1]!MASTER_DEV_INPUT_VOLTAGE_DESC[#Data],0),0))","v":""},{"$f":"IF('Comm Device (Desc)'!Q40=\"\",\"\",'Comm Device (Desc)'!Q40)","v":""},{"$f":"IF('Comm Device (Desc)'!R40=\"\",\"\",'Comm Device (Desc)'!R40)","v":""},{"$f":"IF('Comm Device (Desc)'!S40=\"\",\"\",'Comm Device (Desc)'!S40)","v":""},{"$f":"IF('Comm Device (Desc)'!T40=\"\",\"\",'Comm Device (Desc)'!T40)","v":""},{"$f":"IF('Comm Device (Desc)'!U40=\"\",\"\",'Comm Device (Desc)'!U40)","v":""},{"$f":"IF('Comm Device (Desc)'!V40=\"\",\"\",INDEX([1]FIBER_CONN_TYPE!$A$2:$A$100,MATCH('Comm Device (Desc)'!$V40,[1]!MASTER_FIBER_CONN_TYPE_DESC[#Data],0),0))","v":""}]
[{"$f":"IF('Comm Device (Desc)'!A41=\"\",\"\",'Comm Device (Desc)'!A41)","v":""},{"$f":"IF('Comm Device (Desc)'!C41=\"\",\"\",\"2029\")","v":""},{"$f":"IF('Comm Device (Desc)'!C41=\"\",\"\",'Comm Device (Desc)'!C41)","v":""},{"$f":"IF('Comm Device (Desc)'!D41=\"\",\"\",INDEX([1]OWNER!$A$2:$A$100,MATCH('Comm Device (Desc)'!$D41,[1]!MASTER_OWNER_DESC[#Data],0),0))","v":""},{"$f":"IF('Comm Device (Desc)'!F41=\"\",\"\",INDEX([1]ITS_COMM_DEV_TYPE!$A$2:$A$100,MATCH('Comm Device (Desc)'!$F41,[1]!MASTER_ITS_COMM_DEV_TYPE_DESC[#Data],0),0))","v":""},{"$f":"IF('Comm Device (Desc)'!G41=\"\",\"\",INDEX([1]COMM_TYPE!$A$2:$A$100,MATCH('Comm Device (Desc)'!$G41,[1]!MASTER_COMM_TYPE_DESC[#Data],0),0))","v":""},{"$f":"IF('Comm Device (Desc)'!H41=\"\",\"\",'Comm Device (Desc)'!H41)","v":""},{"$f":"IF('Comm Device (Desc)'!I41=\"\",\"\",'Comm Device (Desc)'!I41)","v":""},{"$f":"IF('Comm Device (Desc)'!J41=\"\",\"\",INDEX([1]ITS_COMM_DEV_MANUF!$A$2:$A$300,MATCH(1,([1]ITS_COMM_DEV_MANUF!$B$2:$B$300='Comm Device (Desc)'!$J41)*([1]ITS_COMM_DEV_MANUF!$C$2:$C$300='Comm Device (Code)'!$E41),0),0))","v":""},{"$f":"IF('Comm Device (Desc)'!K41=\"\",\"\",INDEX([1]ITS_COMM_DEV_MODEL!$A$2:$A$500,MATCH(1,([1]ITS_COMM_DEV_MODEL!$C$2:$C$500='Comm Device (Desc)'!$J41)*([1]ITS_COMM_DEV_MODEL!$D$2:$D$500='Comm Device (Code)'!$E41)*([1]ITS_COMM_DEV_MODEL!$E$2:$E$500='Comm Device (Desc)'!$K41),0),0))","v":""},{"$f":"IF('Comm Device (Desc)'!L41=\"\",\"\",'Comm Device (Desc)'!L41)","v":""},{"$f":"IF('Comm Device (Desc)'!M41=\"\",\"\",'Comm Device (Desc)'!M41)","v":""},{"$f":"IF('Comm Device (Desc)'!N41=\"\",\"\",'Comm Device (Desc)'!N41)","v":""},{"$f":"IF('Comm Device (Desc)'!O41=\"\",\"\",'Comm Device (Desc)'!O41)","v":""},{"$f":"IF('Comm Device (Desc)'!P41=\"\",\"\",INDEX([1]DEV_INPUT_VOLTAGE!$A$2:$A$100,MATCH('Comm Device (Desc)'!$P41,[1]!MASTER_DEV_INPUT_VOLTAGE_DESC[#Data],0),0))","v":""},{"$f":"IF('Comm Device (Desc)'!Q41=\"\",\"\",'Comm Device (Desc)'!Q41)","v":""},{"$f":"IF('Comm Device (Desc)'!R41=\"\",\"\",'Comm Device (Desc)'!R41)","v":""},{"$f":"IF('Comm Device (Desc)'!S41=\"\",\"\",'Comm Device (Desc)'!S41)","v":""},{"$f":"IF('Comm Device (Desc)'!T41=\"\",\"\",'Comm Device (Desc)'!T41)","v":""},{"$f":"IF('Comm Device (Desc)'!U41=\"\",\"\",'Comm Device (Desc)'!U41)","v":""},{"$f":"IF('Comm Device (Desc)'!V41=\"\",\"\",INDEX([1]FIBER_CONN_TYPE!$A$2:$A$100,MATCH('Comm Device (Desc)'!$V41,[1]!MASTER_FIBER_CONN_TYPE_DESC[#Data],0),0))","v":""}]
[{"$f":"IF('Comm Device (Desc)'!A42=\"\",\"\",'Comm Device (Desc)'!A42)","v":""},{"$f":"IF('Comm Device (Desc)'!C42=\"\",\"\",\"2029\")","v":""},{"$f":"IF('Comm Device (Desc)'!C42=\"\",\"\",'Comm Device (Desc)'!C42)","v":""},{"$f":"IF('Comm Device (Desc)'!D42=\"\",\"\",INDEX([1]OWNER!$A$2:$A$100,MATCH('Comm Device (Desc)'!$D42,[1]!MASTER_OWNER_DESC[#Data],0),0))","v":""},{"$f":"IF('Comm Device (Desc)'!F42=\"\",\"\",INDEX([1]ITS_COMM_DEV_TYPE!$A$2:$A$100,MATCH('Comm Device (Desc)'!$F42,[1]!MASTER_ITS_COMM_DEV_TYPE_DESC[#Data],0),0))","v":""},{"$f":"IF('Comm Device (Desc)'!G42=\"\",\"\",INDEX([1]COMM_TYPE!$A$2:$A$100,MATCH('Comm Device (Desc)'!$G42,[1]!MASTER_COMM_TYPE_DESC[#Data],0),0))","v":""},{"$f":"IF('Comm Device (Desc)'!H42=\"\",\"\",'Comm Device (Desc)'!H42)","v":""},{"$f":"IF('Comm Device (Desc)'!I42=\"\",\"\",'Comm Device (Desc)'!I42)","v":""},{"$f":"IF('Comm Device (Desc)'!J42=\"\",\"\",INDEX([1]ITS_COMM_DEV_MANUF!$A$2:$A$300,MATCH(1,([1]ITS_COMM_DEV_MANUF!$B$2:$B$300='Comm Device (Desc)'!$J42)*([1]ITS_COMM_DEV_MANUF!$C$2:$C$300='Comm Device (Code)'!$E42),0),0))","v":""},{"$f":"IF('Comm Device (Desc)'!K42=\"\",\"\",INDEX([1]ITS_COMM_DEV_MODEL!$A$2:$A$500,MATCH(1,([1]ITS_COMM_DEV_MODEL!$C$2:$C$500='Comm Device (Desc)'!$J42)*([1]ITS_COMM_DEV_MODEL!$D$2:$D$500='Comm Device (Code)'!$E42)*([1]ITS_COMM_DEV_MODEL!$E$2:$E$500='Comm Device (Desc)'!$K42),0),0))","v":""},{"$f":"IF('Comm Device (Desc)'!L42=\"\",\"\",'Comm Device (Desc)'!L42)","v":""},{"$f":"IF('Comm Device (Desc)'!M42=\"\",\"\",'Comm Device (Desc)'!M42)","v":""},{"$f":"IF('Comm Device (Desc)'!N42=\"\",\"\",'Comm Device (Desc)'!N42)","v":""},{"$f":"IF('Comm Device (Desc)'!O42=\"\",\"\",'Comm Device (Desc)'!O42)","v":""},{"$f":"IF('Comm Device (Desc)'!P42=\"\",\"\",INDEX([1]DEV_INPUT_VOLTAGE!$A$2:$A$100,MATCH('Comm Device (Desc)'!$P42,[1]!MASTER_DEV_INPUT_VOLTAGE_DESC[#Data],0),0))","v":""},{"$f":"IF('Comm Device (Desc)'!Q42=\"\",\"\",'Comm Device (Desc)'!Q42)","v":""},{"$f":"IF('Comm Device (Desc)'!R42=\"\",\"\",'Comm Device (Desc)'!R42)","v":""},{"$f":"IF('Comm Device (Desc)'!S42=\"\",\"\",'Comm Device (Desc)'!S42)","v":""},{"$f":"IF('Comm Device (Desc)'!T42=\"\",\"\",'Comm Device (Desc)'!T42)","v":""},{"$f":"IF('Comm Device (Desc)'!U42=\"\",\"\",'Comm Device (Desc)'!U42)","v":""},{"$f":"IF('Comm Device (Desc)'!V42=\"\",\"\",INDEX([1]FIBER_CONN_TYPE!$A$2:$A$100,MATCH('Comm Device (Desc)'!$V42,[1]!MASTER_FIBER_CONN_TYPE_DESC[#Data],0),0))","v":""}]
[{"$f":"IF('Comm Device (Desc)'!A43=\"\",\"\",'Comm Device (Desc)'!A43)","v":""},{"$f":"IF('Comm Device (Desc)'!C43=\"\",\"\",\"2029\")","v":""},{"$f":"IF('Comm Device (Desc)'!C43=\"\",\"\",'Comm Device (Desc)'!C43)","v":""},{"$f":"IF('Comm Device (Desc)'!D43=\"\",\"\",INDEX([1]OWNER!$A$2:$A$100,MATCH('Comm Device (Desc)'!$D43,[1]!MASTER_OWNER_DESC[#Data],0),0))","v":""},{"$f":"IF('Comm Device (Desc)'!F43=\"\",\"\",INDEX([1]ITS_COMM_DEV_TYPE!$A$2:$A$100,MATCH('Comm Device (Desc)'!$F43,[1]!MASTER_ITS_COMM_DEV_TYPE_DESC[#Data],0),0))","v":""},{"$f":"IF('Comm Device (Desc)'!G43=\"\",\"\",INDEX([1]COMM_TYPE!$A$2:$A$100,MATCH('Comm Device (Desc)'!$G43,[1]!MASTER_COMM_TYPE_DESC[#Data],0),0))","v":""},{"$f":"IF('Comm Device (Desc)'!H43=\"\",\"\",'Comm Device (Desc)'!H43)","v":""},{"$f":"IF('Comm Device (Desc)'!I43=\"\",\"\",'Comm Device (Desc)'!I43)","v":""},{"$f":"IF('Comm Device (Desc)'!J43=\"\",\"\",INDEX([1]ITS_COMM_DEV_MANUF!$A$2:$A$300,MATCH(1,([1]ITS_COMM_DEV_MANUF!$B$2:$B$300='Comm Device (Desc)'!$J43)*([1]ITS_COMM_DEV_MANUF!$C$2:$C$300='Comm Device (Code)'!$E43),0),0))","v":""},{"$f":"IF('Comm Device (Desc)'!K43=\"\",\"\",INDEX([1]ITS_COMM_DEV_MODEL!$A$2:$A$500,MATCH(1,([1]ITS_COMM_DEV_MODEL!$C$2:$C$500='Comm Device (Desc)'!$J43)*([1]ITS_COMM_DEV_MODEL!$D$2:$D$500='Comm Device (Code)'!$E43)*([1]ITS_COMM_DEV_MODEL!$E$2:$E$500='Comm Device (Desc)'!$K43),0),0))","v":""},{"$f":"IF('Comm Device (Desc)'!L43=\"\",\"\",'Comm Device (Desc)'!L43)","v":""},{"$f":"IF('Comm Device (Desc)'!M43=\"\",\"\",'Comm Device (Desc)'!M43)","v":""},{"$f":"IF('Comm Device (Desc)'!N43=\"\",\"\",'Comm Device (Desc)'!N43)","v":""},{"$f":"IF('Comm Device (Desc)'!O43=\"\",\"\",'Comm Device (Desc)'!O43)","v":""},{"$f":"IF('Comm Device (Desc)'!P43=\"\",\"\",INDEX([1]DEV_INPUT_VOLTAGE!$A$2:$A$100,MATCH('Comm Device (Desc)'!$P43,[1]!MASTER_DEV_INPUT_VOLTAGE_DESC[#Data],0),0))","v":""},{"$f":"IF('Comm Device (Desc)'!Q43=\"\",\"\",'Comm Device (Desc)'!Q43)","v":""},{"$f":"IF('Comm Device (Desc)'!R43=\"\",\"\",'Comm Device (Desc)'!R43)","v":""},{"$f":"IF('Comm Device (Desc)'!S43=\"\",\"\",'Comm Device (Desc)'!S43)","v":""},{"$f":"IF('Comm Device (Desc)'!T43=\"\",\"\",'Comm Device (Desc)'!T43)","v":""},{"$f":"IF('Comm Device (Desc)'!U43=\"\",\"\",'Comm Device (Desc)'!U43)","v":""},{"$f":"IF('Comm Device (Desc)'!V43=\"\",\"\",INDEX([1]FIBER_CONN_TYPE!$A$2:$A$100,MATCH('Comm Device (Desc)'!$V43,[1]!MASTER_FIBER_CONN_TYPE_DESC[#Data],0),0))","v":""}]
[{"$f":"IF('Comm Device (Desc)'!A44=\"\",\"\",'Comm Device (Desc)'!A44)","v":""},{"$f":"IF('Comm Device (Desc)'!C44=\"\",\"\",\"2029\")","v":""},{"$f":"IF('Comm Device (Desc)'!C44=\"\",\"\",'Comm Device (Desc)'!C44)","v":""},{"$f":"IF('Comm Device (Desc)'!D44=\"\",\"\",INDEX([1]OWNER!$A$2:$A$100,MATCH('Comm Device (Desc)'!$D44,[1]!MASTER_OWNER_DESC[#Data],0),0))","v":""},{"$f":"IF('Comm Device (Desc)'!F44=\"\",\"\",INDEX([1]ITS_COMM_DEV_TYPE!$A$2:$A$100,MATCH('Comm Device (Desc)'!$F44,[1]!MASTER_ITS_COMM_DEV_TYPE_DESC[#Data],0),0))","v":""},{"$f":"IF('Comm Device (Desc)'!G44=\"\",\"\",INDEX([1]COMM_TYPE!$A$2:$A$100,MATCH('Comm Device (Desc)'!$G44,[1]!MASTER_COMM_TYPE_DESC[#Data],0),0))","v":""},{"$f":"IF('Comm Device (Desc)'!H44=\"\",\"\",'Comm Device (Desc)'!H44)","v":""},{"$f":"IF('Comm Device (Desc)'!I44=\"\",\"\",'Comm Device (Desc)'!I44)","v":""},{"$f":"IF('Comm Device (Desc)'!J44=\"\",\"\",INDEX([1]ITS_COMM_DEV_MANUF!$A$2:$A$300,MATCH(1,([1]ITS_COMM_DEV_MANUF!$B$2:$B$300='Comm Device (Desc)'!$J44)*([1]ITS_COMM_DEV_MANUF!$C$2:$C$300='Comm Device (Code)'!$E44),0),0))","v":""},{"$f":"IF('Comm Device (Desc)'!K44=\"\",\"\",INDEX([1]ITS_COMM_DEV_MODEL!$A$2:$A$500,MATCH(1,([1]ITS_COMM_DEV_MODEL!$C$2:$C$500='Comm Device (Desc)'!$J44)*([1]ITS_COMM_DEV_MODEL!$D$2:$D$500='Comm Device (Code)'!$E44)*([1]ITS_COMM_DEV_MODEL!$E$2:$E$500='Comm Device (Desc)'!$K44),0),0))","v":""},{"$f":"IF('Comm Device (Desc)'!L44=\"\",\"\",'Comm Device (Desc)'!L44)","v":""},{"$f":"IF('Comm Device (Desc)'!M44=\"\",\"\",'Comm Device (Desc)'!M44)","v":""},{"$f":"IF('Comm Device (Desc)'!N44=\"\",\"\",'Comm Device (Desc)'!N44)","v":""},{"$f":"IF('Comm Device (Desc)'!O44=\"\",\"\",'Comm Device (Desc)'!O44)","v":""},{"$f":"IF('Comm Device (Desc)'!P44=\"\",\"\",INDEX([1]DEV_INPUT_VOLTAGE!$A$2:$A$100,MATCH('Comm Device (Desc)'!$P44,[1]!MASTER_DEV_INPUT_VOLTAGE_DESC[#Data],0),0))","v":""},{"$f":"IF('Comm Device (Desc)'!Q44=\"\",\"\",'Comm Device (Desc)'!Q44)","v":""},{"$f":"IF('Comm Device (Desc)'!R44=\"\",\"\",'Comm Device (Desc)'!R44)","v":""},{"$f":"IF('Comm Device (Desc)'!S44=\"\",\"\",'Comm Device (Desc)'!S44)","v":""},{"$f":"IF('Comm Device (Desc)'!T44=\"\",\"\",'Comm Device (Desc)'!T44)","v":""},{"$f":"IF('Comm Device (Desc)'!U44=\"\",\"\",'Comm Device (Desc)'!U44)","v":""},{"$f":"IF('Comm Device (Desc)'!V44=\"\",\"\",INDEX([1]FIBER_CONN_TYPE!$A$2:$A$100,MATCH('Comm Device (Desc)'!$V44,[1]!MASTER_FIBER_CONN_TYPE_DESC[#Data],0),0))","v":""}]
[{"$f":"IF('Comm Device (Desc)'!A45=\"\",\"\",'Comm Device (Desc)'!A45)","v":""},{"$f":"IF('Comm Device (Desc)'!C45=\"\",\"\",\"2029\")","v":""},{"$f":"IF('Comm Device (Desc)'!C45=\"\",\"\",'Comm Device (Desc)'!C45)","v":""},{"$f":"IF('Comm Device (Desc)'!D45=\"\",\"\",INDEX([1]OWNER!$A$2:$A$100,MATCH('Comm Device (Desc)'!$D45,[1]!MASTER_OWNER_DESC[#Data],0),0))","v":""},{"$f":"IF('Comm Device (Desc)'!F45=\"\",\"\",INDEX([1]ITS_COMM_DEV_TYPE!$A$2:$A$100,MATCH('Comm Device (Desc)'!$F45,[1]!MASTER_ITS_COMM_DEV_TYPE_DESC[#Data],0),0))","v":""},{"$f":"IF('Comm Device (Desc)'!G45=\"\",\"\",INDEX([1]COMM_TYPE!$A$2:$A$100,MATCH('Comm Device (Desc)'!$G45,[1]!MASTER_COMM_TYPE_DESC[#Data],0),0))","v":""},{"$f":"IF('Comm Device (Desc)'!H45=\"\",\"\",'Comm Device (Desc)'!H45)","v":""},{"$f":"IF('Comm Device (Desc)'!I45=\"\",\"\",'Comm Device (Desc)'!I45)","v":""},{"$f":"IF('Comm Device (Desc)'!J45=\"\",\"\",INDEX([1]ITS_COMM_DEV_MANUF!$A$2:$A$300,MATCH(1,([1]ITS_COMM_DEV_MANUF!$B$2:$B$300='Comm Device (Desc)'!$J45)*([1]ITS_COMM_DEV_MANUF!$C$2:$C$300='Comm Device (Code)'!$E45),0),0))","v":""},{"$f":"IF('Comm Device (Desc)'!K45=\"\",\"\",INDEX([1]ITS_COMM_DEV_MODEL!$A$2:$A$500,MATCH(1,([1]ITS_COMM_DEV_MODEL!$C$2:$C$500='Comm Device (Desc)'!$J45)*([1]ITS_COMM_DEV_MODEL!$D$2:$D$500='Comm Device (Code)'!$E45)*([1]ITS_COMM_DEV_MODEL!$E$2:$E$500='Comm Device (Desc)'!$K45),0),0))","v":""},{"$f":"IF('Comm Device (Desc)'!L45=\"\",\"\",'Comm Device (Desc)'!L45)","v":""},{"$f":"IF('Comm Device (Desc)'!M45=\"\",\"\",'Comm Device (Desc)'!M45)","v":""},{"$f":"IF('Comm Device (Desc)'!N45=\"\",\"\",'Comm Device (Desc)'!N45)","v":""},{"$f":"IF('Comm Device (Desc)'!O45=\"\",\"\",'Comm Device (Desc)'!O45)","v":""},{"$f":"IF('Comm Device (Desc)'!P45=\"\",\"\",INDEX([1]DEV_INPUT_VOLTAGE!$A$2:$A$100,MATCH('Comm Device (Desc)'!$P45,[1]!MASTER_DEV_INPUT_VOLTAGE_DESC[#Data],0),0))","v":""},{"$f":"IF('Comm Device (Desc)'!Q45=\"\",\"\",'Comm Device (Desc)'!Q45)","v":""},{"$f":"IF('Comm Device (Desc)'!R45=\"\",\"\",'Comm Device (Desc)'!R45)","v":""},{"$f":"IF('Comm Device (Desc)'!S45=\"\",\"\",'Comm Device (Desc)'!S45)","v":""},{"$f":"IF('Comm Device (Desc)'!T45=\"\",\"\",'Comm Device (Desc)'!T45)","v":""},{"$f":"IF('Comm Device (Desc)'!U45=\"\",\"\",'Comm Device (Desc)'!U45)","v":""},{"$f":"IF('Comm Device (Desc)'!V45=\"\",\"\",INDEX([1]FIBER_CONN_TYPE!$A$2:$A$100,MATCH('Comm Device (Desc)'!$V45,[1]!MASTER_FIBER_CONN_TYPE_DESC[#Data],0),0))","v":""}]
[{"$f":"IF('Comm Device (Desc)'!A46=\"\",\"\",'Comm Device (Desc)'!A46)","v":""},{"$f":"IF('Comm Device (Desc)'!C46=\"\",\"\",\"2029\")","v":""},{"$f":"IF('Comm Device (Desc)'!C46=\"\",\"\",'Comm Device (Desc)'!C46)","v":""},{"$f":"IF('Comm Device (Desc)'!D46=\"\",\"\",INDEX([1]OWNER!$A$2:$A$100,MATCH('Comm Device (Desc)'!$D46,[1]!MASTER_OWNER_DESC[#Data],0),0))","v":""},{"$f":"IF('Comm Device (Desc)'!F46=\"\",\"\",INDEX([1]ITS_COMM_DEV_TYPE!$A$2:$A$100,MATCH('Comm Device (Desc)'!$F46,[1]!MASTER_ITS_COMM_DEV_TYPE_DESC[#Data],0),0))","v":""},{"$f":"IF('Comm Device (Desc)'!G46=\"\",\"\",INDEX([1]COMM_TYPE!$A$2:$A$100,MATCH('Comm Device (Desc)'!$G46,[1]!MASTER_COMM_TYPE_DESC[#Data],0),0))","v":""},{"$f":"IF('Comm Device (Desc)'!H46=\"\",\"\",'Comm Device (Desc)'!H46)","v":""},{"$f":"IF('Comm Device (Desc)'!I46=\"\",\"\",'Comm Device (Desc)'!I46)","v":""},{"$f":"IF('Comm Device (Desc)'!J46=\"\",\"\",INDEX([1]ITS_COMM_DEV_MANUF!$A$2:$A$300,MATCH(1,([1]ITS_COMM_DEV_MANUF!$B$2:$B$300='Comm Device (Desc)'!$J46)*([1]ITS_COMM_DEV_MANUF!$C$2:$C$300='Comm Device (Code)'!$E46),0),0))","v":""},{"$f":"IF('Comm Device (Desc)'!K46=\"\",\"\",INDEX([1]ITS_COMM_DEV_MODEL!$A$2:$A$500,MATCH(1,([1]ITS_COMM_DEV_MODEL!$C$2:$C$500='Comm Device (Desc)'!$J46)*([1]ITS_COMM_DEV_MODEL!$D$2:$D$500='Comm Device (Code)'!$E46)*([1]ITS_COMM_DEV_MODEL!$E$2:$E$500='Comm Device (Desc)'!$K46),0),0))","v":""},{"$f":"IF('Comm Device (Desc)'!L46=\"\",\"\",'Comm Device (Desc)'!L46)","v":""},{"$f":"IF('Comm Device (Desc)'!M46=\"\",\"\",'Comm Device (Desc)'!M46)","v":""},{"$f":"IF('Comm Device (Desc)'!N46=\"\",\"\",'Comm Device (Desc)'!N46)","v":""},{"$f":"IF('Comm Device (Desc)'!O46=\"\",\"\",'Comm Device (Desc)'!O46)","v":""},{"$f":"IF('Comm Device (Desc)'!P46=\"\",\"\",INDEX([1]DEV_INPUT_VOLTAGE!$A$2:$A$100,MATCH('Comm Device (Desc)'!$P46,[1]!MASTER_DEV_INPUT_VOLTAGE_DESC[#Data],0),0))","v":""},{"$f":"IF('Comm Device (Desc)'!Q46=\"\",\"\",'Comm Device (Desc)'!Q46)","v":""},{"$f":"IF('Comm Device (Desc)'!R46=\"\",\"\",'Comm Device (Desc)'!R46)","v":""},{"$f":"IF('Comm Device (Desc)'!S46=\"\",\"\",'Comm Device (Desc)'!S46)","v":""},{"$f":"IF('Comm Device (Desc)'!T46=\"\",\"\",'Comm Device (Desc)'!T46)","v":""},{"$f":"IF('Comm Device (Desc)'!U46=\"\",\"\",'Comm Device (Desc)'!U46)","v":""},{"$f":"IF('Comm Device (Desc)'!V46=\"\",\"\",INDEX([1]FIBER_CONN_TYPE!$A$2:$A$100,MATCH('Comm Device (Desc)'!$V46,[1]!MASTER_FIBER_CONN_TYPE_DESC[#Data],0),0))","v":""}]
[{"$f":"IF('Comm Device (Desc)'!A47=\"\",\"\",'Comm Device (Desc)'!A47)","v":""},{"$f":"IF('Comm Device (Desc)'!C47=\"\",\"\",\"2029\")","v":""},{"$f":"IF('Comm Device (Desc)'!C47=\"\",\"\",'Comm Device (Desc)'!C47)","v":""},{"$f":"IF('Comm Device (Desc)'!D47=\"\",\"\",INDEX([1]OWNER!$A$2:$A$100,MATCH('Comm Device (Desc)'!$D47,[1]!MASTER_OWNER_DESC[#Data],0),0))","v":""},{"$f":"IF('Comm Device (Desc)'!F47=\"\",\"\",INDEX([1]ITS_COMM_DEV_TYPE!$A$2:$A$100,MATCH('Comm Device (Desc)'!$F47,[1]!MASTER_ITS_COMM_DEV_TYPE_DESC[#Data],0),0))","v":""},{"$f":"IF('Comm Device (Desc)'!G47=\"\",\"\",INDEX([1]COMM_TYPE!$A$2:$A$100,MATCH('Comm Device (Desc)'!$G47,[1]!MASTER_COMM_TYPE_DESC[#Data],0),0))","v":""},{"$f":"IF('Comm Device (Desc)'!H47=\"\",\"\",'Comm Device (Desc)'!H47)","v":""},{"$f":"IF('Comm Device (Desc)'!I47=\"\",\"\",'Comm Device (Desc)'!I47)","v":""},{"$f":"IF('Comm Device (Desc)'!J47=\"\",\"\",INDEX([1]ITS_COMM_DEV_MANUF!$A$2:$A$300,MATCH(1,([1]ITS_COMM_DEV_MANUF!$B$2:$B$300='Comm Device (Desc)'!$J47)*([1]ITS_COMM_DEV_MANUF!$C$2:$C$300='Comm Device (Code)'!$E47),0),0))","v":""},{"$f":"IF('Comm Device (Desc)'!K47=\"\",\"\",INDEX([1]ITS_COMM_DEV_MODEL!$A$2:$A$500,MATCH(1,([1]ITS_COMM_DEV_MODEL!$C$2:$C$500='Comm Device (Desc)'!$J47)*([1]ITS_COMM_DEV_MODEL!$D$2:$D$500='Comm Device (Code)'!$E47)*([1]ITS_COMM_DEV_MODEL!$E$2:$E$500='Comm Device (Desc)'!$K47),0),0))","v":""},{"$f":"IF('Comm Device (Desc)'!L47=\"\",\"\",'Comm Device (Desc)'!L47)","v":""},{"$f":"IF('Comm Device (Desc)'!M47=\"\",\"\",'Comm Device (Desc)'!M47)","v":""},{"$f":"IF('Comm Device (Desc)'!N47=\"\",\"\",'Comm Device (Desc)'!N47)","v":""},{"$f":"IF('Comm Device (Desc)'!O47=\"\",\"\",'Comm Device (Desc)'!O47)","v":""},{"$f":"IF('Comm Device (Desc)'!P47=\"\",\"\",INDEX([1]DEV_INPUT_VOLTAGE!$A$2:$A$100,MATCH('Comm Device (Desc)'!$P47,[1]!MASTER_DEV_INPUT_VOLTAGE_DESC[#Data],0),0))","v":""},{"$f":"IF('Comm Device (Desc)'!Q47=\"\",\"\",'Comm Device (Desc)'!Q47)","v":""},{"$f":"IF('Comm Device (Desc)'!R47=\"\",\"\",'Comm Device (Desc)'!R47)","v":""},{"$f":"IF('Comm Device (Desc)'!S47=\"\",\"\",'Comm Device (Desc)'!S47)","v":""},{"$f":"IF('Comm Device (Desc)'!T47=\"\",\"\",'Comm Device (Desc)'!T47)","v":""},{"$f":"IF('Comm Device (Desc)'!U47=\"\",\"\",'Comm Device (Desc)'!U47)","v":""},{"$f":"IF('Comm Device (Desc)'!V47=\"\",\"\",INDEX([1]FIBER_CONN_TYPE!$A$2:$A$100,MATCH('Comm Device (Desc)'!$V47,[1]!MASTER_FIBER_CONN_TYPE_DESC[#Data],0),0))","v":""}]
[{"$f":"IF('Comm Device (Desc)'!A48=\"\",\"\",'Comm Device (Desc)'!A48)","v":""},{"$f":"IF('Comm Device (Desc)'!C48=\"\",\"\",\"2029\")","v":""},{"$f":"IF('Comm Device (Desc)'!C48=\"\",\"\",'Comm Device (Desc)'!C48)","v":""},{"$f":"IF('Comm Device (Desc)'!D48=\"\",\"\",INDEX([1]OWNER!$A$2:$A$100,MATCH('Comm Device (Desc)'!$D48,[1]!MASTER_OWNER_DESC[#Data],0),0))","v":""},{"$f":"IF('Comm Device (Desc)'!F48=\"\",\"\",INDEX([1]ITS_COMM_DEV_TYPE!$A$2:$A$100,MATCH('Comm Device (Desc)'!$F48,[1]!MASTER_ITS_COMM_DEV_TYPE_DESC[#Data],0),0))","v":""},{"$f":"IF('Comm Device (Desc)'!G48=\"\",\"\",INDEX([1]COMM_TYPE!$A$2:$A$100,MATCH('Comm Device (Desc)'!$G48,[1]!MASTER_COMM_TYPE_DESC[#Data],0),0))","v":""},{"$f":"IF('Comm Device (Desc)'!H48=\"\",\"\",'Comm Device (Desc)'!H48)","v":""},{"$f":"IF('Comm Device (Desc)'!I48=\"\",\"\",'Comm Device (Desc)'!I48)","v":""},{"$f":"IF('Comm Device (Desc)'!J48=\"\",\"\",INDEX([1]ITS_COMM_DEV_MANUF!$A$2:$A$300,MATCH(1,([1]ITS_COMM_DEV_MANUF!$B$2:$B$300='Comm Device (Desc)'!$J48)*([1]ITS_COMM_DEV_MANUF!$C$2:$C$300='Comm Device (Code)'!$E48),0),0))","v":""},{"$f":"IF('Comm Device (Desc)'!K48=\"\",\"\",INDEX([1]ITS_COMM_DEV_MODEL!$A$2:$A$500,MATCH(1,([1]ITS_COMM_DEV_MODEL!$C$2:$C$500='Comm Device (Desc)'!$J48)*([1]ITS_COMM_DEV_MODEL!$D$2:$D$500='Comm Device (Code)'!$E48)*([1]ITS_COMM_DEV_MODEL!$E$2:$E$500='Comm Device (Desc)'!$K48),0),0))","v":""},{"$f":"IF('Comm Device (Desc)'!L48=\"\",\"\",'Comm Device (Desc)'!L48)","v":""},{"$f":"IF('Comm Device (Desc)'!M48=\"\",\"\",'Comm Device (Desc)'!M48)","v":""},{"$f":"IF('Comm Device (Desc)'!N48=\"\",\"\",'Comm Device (Desc)'!N48)","v":""},{"$f":"IF('Comm Device (Desc)'!O48=\"\",\"\",'Comm Device (Desc)'!O48)","v":""},{"$f":"IF('Comm Device (Desc)'!P48=\"\",\"\",INDEX([1]DEV_INPUT_VOLTAGE!$A$2:$A$100,MATCH('Comm Device (Desc)'!$P48,[1]!MASTER_DEV_INPUT_VOLTAGE_DESC[#Data],0),0))","v":""},{"$f":"IF('Comm Device (Desc)'!Q48=\"\",\"\",'Comm Device (Desc)'!Q48)","v":""},{"$f":"IF('Comm Device (Desc)'!R48=\"\",\"\",'Comm Device (Desc)'!R48)","v":""},{"$f":"IF('Comm Device (Desc)'!S48=\"\",\"\",'Comm Device (Desc)'!S48)","v":""},{"$f":"IF('Comm Device (Desc)'!T48=\"\",\"\",'Comm Device (Desc)'!T48)","v":""},{"$f":"IF('Comm Device (Desc)'!U48=\"\",\"\",'Comm Device (Desc)'!U48)","v":""},{"$f":"IF('Comm Device (Desc)'!V48=\"\",\"\",INDEX([1]FIBER_CONN_TYPE!$A$2:$A$100,MATCH('Comm Device (Desc)'!$V48,[1]!MASTER_FIBER_CONN_TYPE_DESC[#Data],0),0))","v":""}]
[{"$f":"IF('Comm Device (Desc)'!A49=\"\",\"\",'Comm Device (Desc)'!A49)","v":""},{"$f":"IF('Comm Device (Desc)'!C49=\"\",\"\",\"2029\")","v":""},{"$f":"IF('Comm Device (Desc)'!C49=\"\",\"\",'Comm Device (Desc)'!C49)","v":""},{"$f":"IF('Comm Device (Desc)'!D49=\"\",\"\",INDEX([1]OWNER!$A$2:$A$100,MATCH('Comm Device (Desc)'!$D49,[1]!MASTER_OWNER_DESC[#Data],0),0))","v":""},{"$f":"IF('Comm Device (Desc)'!F49=\"\",\"\",INDEX([1]ITS_COMM_DEV_TYPE!$A$2:$A$100,MATCH('Comm Device (Desc)'!$F49,[1]!MASTER_ITS_COMM_DEV_TYPE_DESC[#Data],0),0))","v":""},{"$f":"IF('Comm Device (Desc)'!G49=\"\",\"\",INDEX([1]COMM_TYPE!$A$2:$A$100,MATCH('Comm Device (Desc)'!$G49,[1]!MASTER_COMM_TYPE_DESC[#Data],0),0))","v":""},{"$f":"IF('Comm Device (Desc)'!H49=\"\",\"\",'Comm Device (Desc)'!H49)","v":""},{"$f":"IF('Comm Device (Desc)'!I49=\"\",\"\",'Comm Device (Desc)'!I49)","v":""},{"$f":"IF('Comm Device (Desc)'!J49=\"\",\"\",INDEX([1]ITS_COMM_DEV_MANUF!$A$2:$A$300,MATCH(1,([1]ITS_COMM_DEV_MANUF!$B$2:$B$300='Comm Device (Desc)'!$J49)*([1]ITS_COMM_DEV_MANUF!$C$2:$C$300='Comm Device (Code)'!$E49),0),0))","v":""},{"$f":"IF('Comm Device (Desc)'!K49=\"\",\"\",INDEX([1]ITS_COMM_DEV_MODEL!$A$2:$A$500,MATCH(1,([1]ITS_COMM_DEV_MODEL!$C$2:$C$500='Comm Device (Desc)'!$J49)*([1]ITS_COMM_DEV_MODEL!$D$2:$D$500='Comm Device (Code)'!$E49)*([1]ITS_COMM_DEV_MODEL!$E$2:$E$500='Comm Device (Desc)'!$K49),0),0))","v":""},{"$f":"IF('Comm Device (Desc)'!L49=\"\",\"\",'Comm Device (Desc)'!L49)","v":""},{"$f":"IF('Comm Device (Desc)'!M49=\"\",\"\",'Comm Device (Desc)'!M49)","v":""},{"$f":"IF('Comm Device (Desc)'!N49=\"\",\"\",'Comm Device (Desc)'!N49)","v":""},{"$f":"IF('Comm Device (Desc)'!O49=\"\",\"\",'Comm Device (Desc)'!O49)","v":""},{"$f":"IF('Comm Device (Desc)'!P49=\"\",\"\",INDEX([1]DEV_INPUT_VOLTAGE!$A$2:$A$100,MATCH('Comm Device (Desc)'!$P49,[1]!MASTER_DEV_INPUT_VOLTAGE_DESC[#Data],0),0))","v":""},{"$f":"IF('Comm Device (Desc)'!Q49=\"\",\"\",'Comm Device (Desc)'!Q49)","v":""},{"$f":"IF('Comm Device (Desc)'!R49=\"\",\"\",'Comm Device (Desc)'!R49)","v":""},{"$f":"IF('Comm Device (Desc)'!S49=\"\",\"\",'Comm Device (Desc)'!S49)","v":""},{"$f":"IF('Comm Device (Desc)'!T49=\"\",\"\",'Comm Device (Desc)'!T49)","v":""},{"$f":"IF('Comm Device (Desc)'!U49=\"\",\"\",'Comm Device (Desc)'!U49)","v":""},{"$f":"IF('Comm Device (Desc)'!V49=\"\",\"\",INDEX([1]FIBER_CONN_TYPE!$A$2:$A$100,MATCH('Comm Device (Desc)'!$V49,[1]!MASTER_FIBER_CONN_TYPE_DESC[#Data],0),0))","v":""}]
[{"$f":"IF('Comm Device (Desc)'!A50=\"\",\"\",'Comm Device (Desc)'!A50)","v":""},{"$f":"IF('Comm Device (Desc)'!C50=\"\",\"\",\"2029\")","v":""},{"$f":"IF('Comm Device (Desc)'!C50=\"\",\"\",'Comm Device (Desc)'!C50)","v":""},{"$f":"IF('Comm Device (Desc)'!D50=\"\",\"\",INDEX([1]OWNER!$A$2:$A$100,MATCH('Comm Device (Desc)'!$D50,[1]!MASTER_OWNER_DESC[#Data],0),0))","v":""},{"$f":"IF('Comm Device (Desc)'!F50=\"\",\"\",INDEX([1]ITS_COMM_DEV_TYPE!$A$2:$A$100,MATCH('Comm Device (Desc)'!$F50,[1]!MASTER_ITS_COMM_DEV_TYPE_DESC[#Data],0),0))","v":""},{"$f":"IF('Comm Device (Desc)'!G50=\"\",\"\",INDEX([1]COMM_TYPE!$A$2:$A$100,MATCH('Comm Device (Desc)'!$G50,[1]!MASTER_COMM_TYPE_DESC[#Data],0),0))","v":""},{"$f":"IF('Comm Device (Desc)'!H50=\"\",\"\",'Comm Device (Desc)'!H50)","v":""},{"$f":"IF('Comm Device (Desc)'!I50=\"\",\"\",'Comm Device (Desc)'!I50)","v":""},{"$f":"IF('Comm Device (Desc)'!J50=\"\",\"\",INDEX([1]ITS_COMM_DEV_MANUF!$A$2:$A$300,MATCH(1,([1]ITS_COMM_DEV_MANUF!$B$2:$B$300='Comm Device (Desc)'!$J50)*([1]ITS_COMM_DEV_MANUF!$C$2:$C$300='Comm Device (Code)'!$E50),0),0))","v":""},{"$f":"IF('Comm Device (Desc)'!K50=\"\",\"\",INDEX([1]ITS_COMM_DEV_MODEL!$A$2:$A$500,MATCH(1,([1]ITS_COMM_DEV_MODEL!$C$2:$C$500='Comm Device (Desc)'!$J50)*([1]ITS_COMM_DEV_MODEL!$D$2:$D$500='Comm Device (Code)'!$E50)*([1]ITS_COMM_DEV_MODEL!$E$2:$E$500='Comm Device (Desc)'!$K50),0),0))","v":""},{"$f":"IF('Comm Device (Desc)'!L50=\"\",\"\",'Comm Device (Desc)'!L50)","v":""},{"$f":"IF('Comm Device (Desc)'!M50=\"\",\"\",'Comm Device (Desc)'!M50)","v":""},{"$f":"IF('Comm Device (Desc)'!N50=\"\",\"\",'Comm Device (Desc)'!N50)","v":""},{"$f":"IF('Comm Device (Desc)'!O50=\"\",\"\",'Comm Device (Desc)'!O50)","v":""},{"$f":"IF('Comm Device (Desc)'!P50=\"\",\"\",INDEX([1]DEV_INPUT_VOLTAGE!$A$2:$A$100,MATCH('Comm Device (Desc)'!$P50,[1]!MASTER_DEV_INPUT_VOLTAGE_DESC[#Data],0),0))","v":""},{"$f":"IF('Comm Device (Desc)'!Q50=\"\",\"\",'Comm Device (Desc)'!Q50)","v":""},{"$f":"IF('Comm Device (Desc)'!R50=\"\",\"\",'Comm Device (Desc)'!R50)","v":""},{"$f":"IF('Comm Device (Desc)'!S50=\"\",\"\",'Comm Device (Desc)'!S50)","v":""},{"$f":"IF('Comm Device (Desc)'!T50=\"\",\"\",'Comm Device (Desc)'!T50)","v":""},{"$f":"IF('Comm Device (Desc)'!U50=\"\",\"\",'Comm Device (Desc)'!U50)","v":""},{"$f":"IF('Comm Device (Desc)'!V50=\"\",\"\",INDEX([1]FIBER_CONN_TYPE!$A$2:$A$100,MATCH('Comm Device (Desc)'!$V50,[1]!MASTER_FIBER_CONN_TYPE_DESC[#Data],0),0))","v":""}]
[{"$f":"IF('Comm Device (Desc)'!A51=\"\",\"\",'Comm Device (Desc)'!A51)","v":""},{"$f":"IF('Comm Device (Desc)'!C51=\"\",\"\",\"2029\")","v":""},{"$f":"IF('Comm Device (Desc)'!C51=\"\",\"\",'Comm Device (Desc)'!C51)","v":""},{"$f":"IF('Comm Device (Desc)'!D51=\"\",\"\",INDEX([1]OWNER!$A$2:$A$100,MATCH('Comm Device (Desc)'!$D51,[1]!MASTER_OWNER_DESC[#Data],0),0))","v":""},{"$f":"IF('Comm Device (Desc)'!F51=\"\",\"\",INDEX([1]ITS_COMM_DEV_TYPE!$A$2:$A$100,MATCH('Comm Device (Desc)'!$F51,[1]!MASTER_ITS_COMM_DEV_TYPE_DESC[#Data],0),0))","v":""},{"$f":"IF('Comm Device (Desc)'!G51=\"\",\"\",INDEX([1]COMM_TYPE!$A$2:$A$100,MATCH('Comm Device (Desc)'!$G51,[1]!MASTER_COMM_TYPE_DESC[#Data],0),0))","v":""},{"$f":"IF('Comm Device (Desc)'!H51=\"\",\"\",'Comm Device (Desc)'!H51)","v":""},{"$f":"IF('Comm Device (Desc)'!I51=\"\",\"\",'Comm Device (Desc)'!I51)","v":""},{"$f":"IF('Comm Device (Desc)'!J51=\"\",\"\",INDEX([1]ITS_COMM_DEV_MANUF!$A$2:$A$300,MATCH(1,([1]ITS_COMM_DEV_MANUF!$B$2:$B$300='Comm Device (Desc)'!$J51)*([1]ITS_COMM_DEV_MANUF!$C$2:$C$300='Comm Device (Code)'!$E51),0),0))","v":""},{"$f":"IF('Comm Device (Desc)'!K51=\"\",\"\",INDEX([1]ITS_COMM_DEV_MODEL!$A$2:$A$500,MATCH(1,([1]ITS_COMM_DEV_MODEL!$C$2:$C$500='Comm Device (Desc)'!$J51)*([1]ITS_COMM_DEV_MODEL!$D$2:$D$500='Comm Device (Code)'!$E51)*([1]ITS_COMM_DEV_MODEL!$E$2:$E$500='Comm Device (Desc)'!$K51),0),0))","v":""},{"$f":"IF('Comm Device (Desc)'!L51=\"\",\"\",'Comm Device (Desc)'!L51)","v":""},{"$f":"IF('Comm Device (Desc)'!M51=\"\",\"\",'Comm Device (Desc)'!M51)","v":""},{"$f":"IF('Comm Device (Desc)'!N51=\"\",\"\",'Comm Device (Desc)'!N51)","v":""},{"$f":"IF('Comm Device (Desc)'!O51=\"\",\"\",'Comm Device (Desc)'!O51)","v":""},{"$f":"IF('Comm Device (Desc)'!P51=\"\",\"\",INDEX([1]DEV_INPUT_VOLTAGE!$A$2:$A$100,MATCH('Comm Device (Desc)'!$P51,[1]!MASTER_DEV_INPUT_VOLTAGE_DESC[#Data],0),0))","v":""},{"$f":"IF('Comm Device (Desc)'!Q51=\"\",\"\",'Comm Device (Desc)'!Q51)","v":""},{"$f":"IF('Comm Device (Desc)'!R51=\"\",\"\",'Comm Device (Desc)'!R51)","v":""},{"$f":"IF('Comm Device (Desc)'!S51=\"\",\"\",'Comm Device (Desc)'!S51)","v":""},{"$f":"IF('Comm Device (Desc)'!T51=\"\",\"\",'Comm Device (Desc)'!T51)","v":""},{"$f":"IF('Comm Device (Desc)'!U51=\"\",\"\",'Comm Device (Desc)'!U51)","v":""},{"$f":"IF('Comm Device (Desc)'!V51=\"\",\"\",INDEX([1]FIBER_CONN_TYPE!$A$2:$A$100,MATCH('Comm Device (Desc)'!$V51,[1]!MASTER_FIBER_CONN_TYPE_DESC[#Data],0),0))","v":""}]
[{"$f":"IF('Comm Device (Desc)'!A52=\"\",\"\",'Comm Device (Desc)'!A52)","v":""},{"$f":"IF('Comm Device (Desc)'!C52=\"\",\"\",\"2029\")","v":""},{"$f":"IF('Comm Device (Desc)'!C52=\"\",\"\",'Comm Device (Desc)'!C52)","v":""},{"$f":"IF('Comm Device (Desc)'!D52=\"\",\"\",INDEX([1]OWNER!$A$2:$A$100,MATCH('Comm Device (Desc)'!$D52,[1]!MASTER_OWNER_DESC[#Data],0),0))","v":""},{"$f":"IF('Comm Device (Desc)'!F52=\"\",\"\",INDEX([1]ITS_COMM_DEV_TYPE!$A$2:$A$100,MATCH('Comm Device (Desc)'!$F52,[1]!MASTER_ITS_COMM_DEV_TYPE_DESC[#Data],0),0))","v":""},{"$f":"IF('Comm Device (Desc)'!G52=\"\",\"\",INDEX([1]COMM_TYPE!$A$2:$A$100,MATCH('Comm Device (Desc)'!$G52,[1]!MASTER_COMM_TYPE_DESC[#Data],0),0))","v":""},{"$f":"IF('Comm Device (Desc)'!H52=\"\",\"\",'Comm Device (Desc)'!H52)","v":""},{"$f":"IF('Comm Device (Desc)'!I52=\"\",\"\",'Comm Device (Desc)'!I52)","v":""},{"$f":"IF('Comm Device (Desc)'!J52=\"\",\"\",INDEX([1]ITS_COMM_DEV_MANUF!$A$2:$A$300,MATCH(1,([1]ITS_COMM_DEV_MANUF!$B$2:$B$300='Comm Device (Desc)'!$J52)*([1]ITS_COMM_DEV_MANUF!$C$2:$C$300='Comm Device (Code)'!$E52),0),0))","v":""},{"$f":"IF('Comm Device (Desc)'!K52=\"\",\"\",INDEX([1]ITS_COMM_DEV_MODEL!$A$2:$A$500,MATCH(1,([1]ITS_COMM_DEV_MODEL!$C$2:$C$500='Comm Device (Desc)'!$J52)*([1]ITS_COMM_DEV_MODEL!$D$2:$D$500='Comm Device (Code)'!$E52)*([1]ITS_COMM_DEV_MODEL!$E$2:$E$500='Comm Device (Desc)'!$K52),0),0))","v":""},{"$f":"IF('Comm Device (Desc)'!L52=\"\",\"\",'Comm Device (Desc)'!L52)","v":""},{"$f":"IF('Comm Device (Desc)'!M52=\"\",\"\",'Comm Device (Desc)'!M52)","v":""},{"$f":"IF('Comm Device (Desc)'!N52=\"\",\"\",'Comm Device (Desc)'!N52)","v":""},{"$f":"IF('Comm Device (Desc)'!O52=\"\",\"\",'Comm Device (Desc)'!O52)","v":""},{"$f":"IF('Comm Device (Desc)'!P52=\"\",\"\",INDEX([1]DEV_INPUT_VOLTAGE!$A$2:$A$100,MATCH('Comm Device (Desc)'!$P52,[1]!MASTER_DEV_INPUT_VOLTAGE_DESC[#Data],0),0))","v":""},{"$f":"IF('Comm Device (Desc)'!Q52=\"\",\"\",'Comm Device (Desc)'!Q52)","v":""},{"$f":"IF('Comm Device (Desc)'!R52=\"\",\"\",'Comm Device (Desc)'!R52)","v":""},{"$f":"IF('Comm Device (Desc)'!S52=\"\",\"\",'Comm Device (Desc)'!S52)","v":""},{"$f":"IF('Comm Device (Desc)'!T52=\"\",\"\",'Comm Device (Desc)'!T52)","v":""},{"$f":"IF('Comm Device (Desc)'!U52=\"\",\"\",'Comm Device (Desc)'!U52)","v":""},{"$f":"IF('Comm Device (Desc)'!V52=\"\",\"\",INDEX([1]FIBER_CONN_TYPE!$A$2:$A$100,MATCH('Comm Device (Desc)'!$V52,[1]!MASTER_FIBER_CONN_TYPE_DESC[#Data],0),0))","v":""}]
[{"$f":"IF('Comm Device (Desc)'!A53=\"\",\"\",'Comm Device (Desc)'!A53)","v":""},{"$f":"IF('Comm Device (Desc)'!C53=\"\",\"\",\"2029\")","v":""},{"$f":"IF('Comm Device (Desc)'!C53=\"\",\"\",'Comm Device (Desc)'!C53)","v":""},{"$f":"IF('Comm Device (Desc)'!D53=\"\",\"\",INDEX([1]OWNER!$A$2:$A$100,MATCH('Comm Device (Desc)'!$D53,[1]!MASTER_OWNER_DESC[#Data],0),0))","v":""},{"$f":"IF('Comm Device (Desc)'!F53=\"\",\"\",INDEX([1]ITS_COMM_DEV_TYPE!$A$2:$A$100,MATCH('Comm Device (Desc)'!$F53,[1]!MASTER_ITS_COMM_DEV_TYPE_DESC[#Data],0),0))","v":""},{"$f":"IF('Comm Device (Desc)'!G53=\"\",\"\",INDEX([1]COMM_TYPE!$A$2:$A$100,MATCH('Comm Device (Desc)'!$G53,[1]!MASTER_COMM_TYPE_DESC[#Data],0),0))","v":""},{"$f":"IF('Comm Device (Desc)'!H53=\"\",\"\",'Comm Device (Desc)'!H53)","v":""},{"$f":"IF('Comm Device (Desc)'!I53=\"\",\"\",'Comm Device (Desc)'!I53)","v":""},{"$f":"IF('Comm Device (Desc)'!J53=\"\",\"\",INDEX([1]ITS_COMM_DEV_MANUF!$A$2:$A$300,MATCH(1,([1]ITS_COMM_DEV_MANUF!$B$2:$B$300='Comm Device (Desc)'!$J53)*([1]ITS_COMM_DEV_MANUF!$C$2:$C$300='Comm Device (Code)'!$E53),0),0))","v":""},{"$f":"IF('Comm Device (Desc)'!K53=\"\",\"\",INDEX([1]ITS_COMM_DEV_MODEL!$A$2:$A$500,MATCH(1,([1]ITS_COMM_DEV_MODEL!$C$2:$C$500='Comm Device (Desc)'!$J53)*([1]ITS_COMM_DEV_MODEL!$D$2:$D$500='Comm Device (Code)'!$E53)*([1]ITS_COMM_DEV_MODEL!$E$2:$E$500='Comm Device (Desc)'!$K53),0),0))","v":""},{"$f":"IF('Comm Device (Desc)'!L53=\"\",\"\",'Comm Device (Desc)'!L53)","v":""},{"$f":"IF('Comm Device (Desc)'!M53=\"\",\"\",'Comm Device (Desc)'!M53)","v":""},{"$f":"IF('Comm Device (Desc)'!N53=\"\",\"\",'Comm Device (Desc)'!N53)","v":""},{"$f":"IF('Comm Device (Desc)'!O53=\"\",\"\",'Comm Device (Desc)'!O53)","v":""},{"$f":"IF('Comm Device (Desc)'!P53=\"\",\"\",INDEX([1]DEV_INPUT_VOLTAGE!$A$2:$A$100,MATCH('Comm Device (Desc)'!$P53,[1]!MASTER_DEV_INPUT_VOLTAGE_DESC[#Data],0),0))","v":""},{"$f":"IF('Comm Device (Desc)'!Q53=\"\",\"\",'Comm Device (Desc)'!Q53)","v":""},{"$f":"IF('Comm Device (Desc)'!R53=\"\",\"\",'Comm Device (Desc)'!R53)","v":""},{"$f":"IF('Comm Device (Desc)'!S53=\"\",\"\",'Comm Device (Desc)'!S53)","v":""},{"$f":"IF('Comm Device (Desc)'!T53=\"\",\"\",'Comm Device (Desc)'!T53)","v":""},{"$f":"IF('Comm Device (Desc)'!U53=\"\",\"\",'Comm Device (Desc)'!U53)","v":""},{"$f":"IF('Comm Device (Desc)'!V53=\"\",\"\",INDEX([1]FIBER_CONN_TYPE!$A$2:$A$100,MATCH('Comm Device (Desc)'!$V53,[1]!MASTER_FIBER_CONN_TYPE_DESC[#Data],0),0))","v":""}]
[{"$f":"IF('Comm Device (Desc)'!A54=\"\",\"\",'Comm Device (Desc)'!A54)","v":""},{"$f":"IF('Comm Device (Desc)'!C54=\"\",\"\",\"2029\")","v":""},{"$f":"IF('Comm Device (Desc)'!C54=\"\",\"\",'Comm Device (Desc)'!C54)","v":""},{"$f":"IF('Comm Device (Desc)'!D54=\"\",\"\",INDEX([1]OWNER!$A$2:$A$100,MATCH('Comm Device (Desc)'!$D54,[1]!MASTER_OWNER_DESC[#Data],0),0))","v":""},{"$f":"IF('Comm Device (Desc)'!F54=\"\",\"\",INDEX([1]ITS_COMM_DEV_TYPE!$A$2:$A$100,MATCH('Comm Device (Desc)'!$F54,[1]!MASTER_ITS_COMM_DEV_TYPE_DESC[#Data],0),0))","v":""},{"$f":"IF('Comm Device (Desc)'!G54=\"\",\"\",INDEX([1]COMM_TYPE!$A$2:$A$100,MATCH('Comm Device (Desc)'!$G54,[1]!MASTER_COMM_TYPE_DESC[#Data],0),0))","v":""},{"$f":"IF('Comm Device (Desc)'!H54=\"\",\"\",'Comm Device (Desc)'!H54)","v":""},{"$f":"IF('Comm Device (Desc)'!I54=\"\",\"\",'Comm Device (Desc)'!I54)","v":""},{"$f":"IF('Comm Device (Desc)'!J54=\"\",\"\",INDEX([1]ITS_COMM_DEV_MANUF!$A$2:$A$300,MATCH(1,([1]ITS_COMM_DEV_MANUF!$B$2:$B$300='Comm Device (Desc)'!$J54)*([1]ITS_COMM_DEV_MANUF!$C$2:$C$300='Comm Device (Code)'!$E54),0),0))","v":""},{"$f":"IF('Comm Device (Desc)'!K54=\"\",\"\",INDEX([1]ITS_COMM_DEV_MODEL!$A$2:$A$500,MATCH(1,([1]ITS_COMM_DEV_MODEL!$C$2:$C$500='Comm Device (Desc)'!$J54)*([1]ITS_COMM_DEV_MODEL!$D$2:$D$500='Comm Device (Code)'!$E54)*([1]ITS_COMM_DEV_MODEL!$E$2:$E$500='Comm Device (Desc)'!$K54),0),0))","v":""},{"$f":"IF('Comm Device (Desc)'!L54=\"\",\"\",'Comm Device (Desc)'!L54)","v":""},{"$f":"IF('Comm Device (Desc)'!M54=\"\",\"\",'Comm Device (Desc)'!M54)","v":""},{"$f":"IF('Comm Device (Desc)'!N54=\"\",\"\",'Comm Device (Desc)'!N54)","v":""},{"$f":"IF('Comm Device (Desc)'!O54=\"\",\"\",'Comm Device (Desc)'!O54)","v":""},{"$f":"IF('Comm Device (Desc)'!P54=\"\",\"\",INDEX([1]DEV_INPUT_VOLTAGE!$A$2:$A$100,MATCH('Comm Device (Desc)'!$P54,[1]!MASTER_DEV_INPUT_VOLTAGE_DESC[#Data],0),0))","v":""},{"$f":"IF('Comm Device (Desc)'!Q54=\"\",\"\",'Comm Device (Desc)'!Q54)","v":""},{"$f":"IF('Comm Device (Desc)'!R54=\"\",\"\",'Comm Device (Desc)'!R54)","v":""},{"$f":"IF('Comm Device (Desc)'!S54=\"\",\"\",'Comm Device (Desc)'!S54)","v":""},{"$f":"IF('Comm Device (Desc)'!T54=\"\",\"\",'Comm Device (Desc)'!T54)","v":""},{"$f":"IF('Comm Device (Desc)'!U54=\"\",\"\",'Comm Device (Desc)'!U54)","v":""},{"$f":"IF('Comm Device (Desc)'!V54=\"\",\"\",INDEX([1]FIBER_CONN_TYPE!$A$2:$A$100,MATCH('Comm Device (Desc)'!$V54,[1]!MASTER_FIBER_CONN_TYPE_DESC[#Data],0),0))","v":""}]
[{"$f":"IF('Comm Device (Desc)'!A55=\"\",\"\",'Comm Device (Desc)'!A55)","v":""},{"$f":"IF('Comm Device (Desc)'!C55=\"\",\"\",\"2029\")","v":""},{"$f":"IF('Comm Device (Desc)'!C55=\"\",\"\",'Comm Device (Desc)'!C55)","v":""},{"$f":"IF('Comm Device (Desc)'!D55=\"\",\"\",INDEX([1]OWNER!$A$2:$A$100,MATCH('Comm Device (Desc)'!$D55,[1]!MASTER_OWNER_DESC[#Data],0),0))","v":""},{"$f":"IF('Comm Device (Desc)'!F55=\"\",\"\",INDEX([1]ITS_COMM_DEV_TYPE!$A$2:$A$100,MATCH('Comm Device (Desc)'!$F55,[1]!MASTER_ITS_COMM_DEV_TYPE_DESC[#Data],0),0))","v":""},{"$f":"IF('Comm Device (Desc)'!G55=\"\",\"\",INDEX([1]COMM_TYPE!$A$2:$A$100,MATCH('Comm Device (Desc)'!$G55,[1]!MASTER_COMM_TYPE_DESC[#Data],0),0))","v":""},{"$f":"IF('Comm Device (Desc)'!H55=\"\",\"\",'Comm Device (Desc)'!H55)","v":""},{"$f":"IF('Comm Device (Desc)'!I55=\"\",\"\",'Comm Device (Desc)'!I55)","v":""},{"$f":"IF('Comm Device (Desc)'!J55=\"\",\"\",INDEX([1]ITS_COMM_DEV_MANUF!$A$2:$A$300,MATCH(1,([1]ITS_COMM_DEV_MANUF!$B$2:$B$300='Comm Device (Desc)'!$J55)*([1]ITS_COMM_DEV_MANUF!$C$2:$C$300='Comm Device (Code)'!$E55),0),0))","v":""},{"$f":"IF('Comm Device (Desc)'!K55=\"\",\"\",INDEX([1]ITS_COMM_DEV_MODEL!$A$2:$A$500,MATCH(1,([1]ITS_COMM_DEV_MODEL!$C$2:$C$500='Comm Device (Desc)'!$J55)*([1]ITS_COMM_DEV_MODEL!$D$2:$D$500='Comm Device (Code)'!$E55)*([1]ITS_COMM_DEV_MODEL!$E$2:$E$500='Comm Device (Desc)'!$K55),0),0))","v":""},{"$f":"IF('Comm Device (Desc)'!L55=\"\",\"\",'Comm Device (Desc)'!L55)","v":""},{"$f":"IF('Comm Device (Desc)'!M55=\"\",\"\",'Comm Device (Desc)'!M55)","v":""},{"$f":"IF('Comm Device (Desc)'!N55=\"\",\"\",'Comm Device (Desc)'!N55)","v":""},{"$f":"IF('Comm Device (Desc)'!O55=\"\",\"\",'Comm Device (Desc)'!O55)","v":""},{"$f":"IF('Comm Device (Desc)'!P55=\"\",\"\",INDEX([1]DEV_INPUT_VOLTAGE!$A$2:$A$100,MATCH('Comm Device (Desc)'!$P55,[1]!MASTER_DEV_INPUT_VOLTAGE_DESC[#Data],0),0))","v":""},{"$f":"IF('Comm Device (Desc)'!Q55=\"\",\"\",'Comm Device (Desc)'!Q55)","v":""},{"$f":"IF('Comm Device (Desc)'!R55=\"\",\"\",'Comm Device (Desc)'!R55)","v":""},{"$f":"IF('Comm Device (Desc)'!S55=\"\",\"\",'Comm Device (Desc)'!S55)","v":""},{"$f":"IF('Comm Device (Desc)'!T55=\"\",\"\",'Comm Device (Desc)'!T55)","v":""},{"$f":"IF('Comm Device (Desc)'!U55=\"\",\"\",'Comm Device (Desc)'!U55)","v":""},{"$f":"IF('Comm Device (Desc)'!V55=\"\",\"\",INDEX([1]FIBER_CONN_TYPE!$A$2:$A$100,MATCH('Comm Device (Desc)'!$V55,[1]!MASTER_FIBER_CONN_TYPE_DESC[#Data],0),0))","v":""}]
[{"$f":"IF('Comm Device (Desc)'!A56=\"\",\"\",'Comm Device (Desc)'!A56)","v":""},{"$f":"IF('Comm Device (Desc)'!C56=\"\",\"\",\"2029\")","v":""},{"$f":"IF('Comm Device (Desc)'!C56=\"\",\"\",'Comm Device (Desc)'!C56)","v":""},{"$f":"IF('Comm Device (Desc)'!D56=\"\",\"\",INDEX([1]OWNER!$A$2:$A$100,MATCH('Comm Device (Desc)'!$D56,[1]!MASTER_OWNER_DESC[#Data],0),0))","v":""},{"$f":"IF('Comm Device (Desc)'!F56=\"\",\"\",INDEX([1]ITS_COMM_DEV_TYPE!$A$2:$A$100,MATCH('Comm Device (Desc)'!$F56,[1]!MASTER_ITS_COMM_DEV_TYPE_DESC[#Data],0),0))","v":""},{"$f":"IF('Comm Device (Desc)'!G56=\"\",\"\",INDEX([1]COMM_TYPE!$A$2:$A$100,MATCH('Comm Device (Desc)'!$G56,[1]!MASTER_COMM_TYPE_DESC[#Data],0),0))","v":""},{"$f":"IF('Comm Device (Desc)'!H56=\"\",\"\",'Comm Device (Desc)'!H56)","v":""},{"$f":"IF('Comm Device (Desc)'!I56=\"\",\"\",'Comm Device (Desc)'!I56)","v":""},{"$f":"IF('Comm Device (Desc)'!J56=\"\",\"\",INDEX([1]ITS_COMM_DEV_MANUF!$A$2:$A$300,MATCH(1,([1]ITS_COMM_DEV_MANUF!$B$2:$B$300='Comm Device (Desc)'!$J56)*([1]ITS_COMM_DEV_MANUF!$C$2:$C$300='Comm Device (Code)'!$E56),0),0))","v":""},{"$f":"IF('Comm Device (Desc)'!K56=\"\",\"\",INDEX([1]ITS_COMM_DEV_MODEL!$A$2:$A$500,MATCH(1,([1]ITS_COMM_DEV_MODEL!$C$2:$C$500='Comm Device (Desc)'!$J56)*([1]ITS_COMM_DEV_MODEL!$D$2:$D$500='Comm Device (Code)'!$E56)*([1]ITS_COMM_DEV_MODEL!$E$2:$E$500='Comm Device (Desc)'!$K56),0),0))","v":""},{"$f":"IF('Comm Device (Desc)'!L56=\"\",\"\",'Comm Device (Desc)'!L56)","v":""},{"$f":"IF('Comm Device (Desc)'!M56=\"\",\"\",'Comm Device (Desc)'!M56)","v":""},{"$f":"IF('Comm Device (Desc)'!N56=\"\",\"\",'Comm Device (Desc)'!N56)","v":""},{"$f":"IF('Comm Device (Desc)'!O56=\"\",\"\",'Comm Device (Desc)'!O56)","v":""},{"$f":"IF('Comm Device (Desc)'!P56=\"\",\"\",INDEX([1]DEV_INPUT_VOLTAGE!$A$2:$A$100,MATCH('Comm Device (Desc)'!$P56,[1]!MASTER_DEV_INPUT_VOLTAGE_DESC[#Data],0),0))","v":""},{"$f":"IF('Comm Device (Desc)'!Q56=\"\",\"\",'Comm Device (Desc)'!Q56)","v":""},{"$f":"IF('Comm Device (Desc)'!R56=\"\",\"\",'Comm Device (Desc)'!R56)","v":""},{"$f":"IF('Comm Device (Desc)'!S56=\"\",\"\",'Comm Device (Desc)'!S56)","v":""},{"$f":"IF('Comm Device (Desc)'!T56=\"\",\"\",'Comm Device (Desc)'!T56)","v":""},{"$f":"IF('Comm Device (Desc)'!U56=\"\",\"\",'Comm Device (Desc)'!U56)","v":""},{"$f":"IF('Comm Device (Desc)'!V56=\"\",\"\",INDEX([1]FIBER_CONN_TYPE!$A$2:$A$100,MATCH('Comm Device (Desc)'!$V56,[1]!MASTER_FIBER_CONN_TYPE_DESC[#Data],0),0))","v":""}]
[{"$f":"IF('Comm Device (Desc)'!A57=\"\",\"\",'Comm Device (Desc)'!A57)","v":""},{"$f":"IF('Comm Device (Desc)'!C57=\"\",\"\",\"2029\")","v":""},{"$f":"IF('Comm Device (Desc)'!C57=\"\",\"\",'Comm Device (Desc)'!C57)","v":""},{"$f":"IF('Comm Device (Desc)'!D57=\"\",\"\",INDEX([1]OWNER!$A$2:$A$100,MATCH('Comm Device (Desc)'!$D57,[1]!MASTER_OWNER_DESC[#Data],0),0))","v":""},{"$f":"IF('Comm Device (Desc)'!F57=\"\",\"\",INDEX([1]ITS_COMM_DEV_TYPE!$A$2:$A$100,MATCH('Comm Device (Desc)'!$F57,[1]!MASTER_ITS_COMM_DEV_TYPE_DESC[#Data],0),0))","v":""},{"$f":"IF('Comm Device (Desc)'!G57=\"\",\"\",INDEX([1]COMM_TYPE!$A$2:$A$100,MATCH('Comm Device (Desc)'!$G57,[1]!MASTER_COMM_TYPE_DESC[#Data],0),0))","v":""},{"$f":"IF('Comm Device (Desc)'!H57=\"\",\"\",'Comm Device (Desc)'!H57)","v":""},{"$f":"IF('Comm Device (Desc)'!I57=\"\",\"\",'Comm Device (Desc)'!I57)","v":""},{"$f":"IF('Comm Device (Desc)'!J57=\"\",\"\",INDEX([1]ITS_COMM_DEV_MANUF!$A$2:$A$300,MATCH(1,([1]ITS_COMM_DEV_MANUF!$B$2:$B$300='Comm Device (Desc)'!$J57)*([1]ITS_COMM_DEV_MANUF!$C$2:$C$300='Comm Device (Code)'!$E57),0),0))","v":""},{"$f":"IF('Comm Device (Desc)'!K57=\"\",\"\",INDEX([1]ITS_COMM_DEV_MODEL!$A$2:$A$500,MATCH(1,([1]ITS_COMM_DEV_MODEL!$C$2:$C$500='Comm Device (Desc)'!$J57)*([1]ITS_COMM_DEV_MODEL!$D$2:$D$500='Comm Device (Code)'!$E57)*([1]ITS_COMM_DEV_MODEL!$E$2:$E$500='Comm Device (Desc)'!$K57),0),0))","v":""},{"$f":"IF('Comm Device (Desc)'!L57=\"\",\"\",'Comm Device (Desc)'!L57)","v":""},{"$f":"IF('Comm Device (Desc)'!M57=\"\",\"\",'Comm Device (Desc)'!M57)","v":""},{"$f":"IF('Comm Device (Desc)'!N57=\"\",\"\",'Comm Device (Desc)'!N57)","v":""},{"$f":"IF('Comm Device (Desc)'!O57=\"\",\"\",'Comm Device (Desc)'!O57)","v":""},{"$f":"IF('Comm Device (Desc)'!P57=\"\",\"\",INDEX([1]DEV_INPUT_VOLTAGE!$A$2:$A$100,MATCH('Comm Device (Desc)'!$P57,[1]!MASTER_DEV_INPUT_VOLTAGE_DESC[#Data],0),0))","v":""},{"$f":"IF('Comm Device (Desc)'!Q57=\"\",\"\",'Comm Device (Desc)'!Q57)","v":""},{"$f":"IF('Comm Device (Desc)'!R57=\"\",\"\",'Comm Device (Desc)'!R57)","v":""},{"$f":"IF('Comm Device (Desc)'!S57=\"\",\"\",'Comm Device (Desc)'!S57)","v":""},{"$f":"IF('Comm Device (Desc)'!T57=\"\",\"\",'Comm Device (Desc)'!T57)","v":""},{"$f":"IF('Comm Device (Desc)'!U57=\"\",\"\",'Comm Device (Desc)'!U57)","v":""},{"$f":"IF('Comm Device (Desc)'!V57=\"\",\"\",INDEX([1]FIBER_CONN_TYPE!$A$2:$A$100,MATCH('Comm Device (Desc)'!$V57,[1]!MASTER_FIBER_CONN_TYPE_DESC[#Data],0),0))","v":""}]
[{"$f":"IF('Comm Device (Desc)'!A58=\"\",\"\",'Comm Device (Desc)'!A58)","v":""},{"$f":"IF('Comm Device (Desc)'!C58=\"\",\"\",\"2029\")","v":""},{"$f":"IF('Comm Device (Desc)'!C58=\"\",\"\",'Comm Device (Desc)'!C58)","v":""},{"$f":"IF('Comm Device (Desc)'!D58=\"\",\"\",INDEX([1]OWNER!$A$2:$A$100,MATCH('Comm Device (Desc)'!$D58,[1]!MASTER_OWNER_DESC[#Data],0),0))","v":""},{"$f":"IF('Comm Device (Desc)'!F58=\"\",\"\",INDEX([1]ITS_COMM_DEV_TYPE!$A$2:$A$100,MATCH('Comm Device (Desc)'!$F58,[1]!MASTER_ITS_COMM_DEV_TYPE_DESC[#Data],0),0))","v":""},{"$f":"IF('Comm Device (Desc)'!G58=\"\",\"\",INDEX([1]COMM_TYPE!$A$2:$A$100,MATCH('Comm Device (Desc)'!$G58,[1]!MASTER_COMM_TYPE_DESC[#Data],0),0))","v":""},{"$f":"IF('Comm Device (Desc)'!H58=\"\",\"\",'Comm Device (Desc)'!H58)","v":""},{"$f":"IF('Comm Device (Desc)'!I58=\"\",\"\",'Comm Device (Desc)'!I58)","v":""},{"$f":"IF('Comm Device (Desc)'!J58=\"\",\"\",INDEX([1]ITS_COMM_DEV_MANUF!$A$2:$A$300,MATCH(1,([1]ITS_COMM_DEV_MANUF!$B$2:$B$300='Comm Device (Desc)'!$J58)*([1]ITS_COMM_DEV_MANUF!$C$2:$C$300='Comm Device (Code)'!$E58),0),0))","v":""},{"$f":"IF('Comm Device (Desc)'!K58=\"\",\"\",INDEX([1]ITS_COMM_DEV_MODEL!$A$2:$A$500,MATCH(1,([1]ITS_COMM_DEV_MODEL!$C$2:$C$500='Comm Device (Desc)'!$J58)*([1]ITS_COMM_DEV_MODEL!$D$2:$D$500='Comm Device (Code)'!$E58)*([1]ITS_COMM_DEV_MODEL!$E$2:$E$500='Comm Device (Desc)'!$K58),0),0))","v":""},{"$f":"IF('Comm Device (Desc)'!L58=\"\",\"\",'Comm Device (Desc)'!L58)","v":""},{"$f":"IF('Comm Device (Desc)'!M58=\"\",\"\",'Comm Device (Desc)'!M58)","v":""},{"$f":"IF('Comm Device (Desc)'!N58=\"\",\"\",'Comm Device (Desc)'!N58)","v":""},{"$f":"IF('Comm Device (Desc)'!O58=\"\",\"\",'Comm Device (Desc)'!O58)","v":""},{"$f":"IF('Comm Device (Desc)'!P58=\"\",\"\",INDEX([1]DEV_INPUT_VOLTAGE!$A$2:$A$100,MATCH('Comm Device (Desc)'!$P58,[1]!MASTER_DEV_INPUT_VOLTAGE_DESC[#Data],0),0))","v":""},{"$f":"IF('Comm Device (Desc)'!Q58=\"\",\"\",'Comm Device (Desc)'!Q58)","v":""},{"$f":"IF('Comm Device (Desc)'!R58=\"\",\"\",'Comm Device (Desc)'!R58)","v":""},{"$f":"IF('Comm Device (Desc)'!S58=\"\",\"\",'Comm Device (Desc)'!S58)","v":""},{"$f":"IF('Comm Device (Desc)'!T58=\"\",\"\",'Comm Device (Desc)'!T58)","v":""},{"$f":"IF('Comm Device (Desc)'!U58=\"\",\"\",'Comm Device (Desc)'!U58)","v":""},{"$f":"IF('Comm Device (Desc)'!V58=\"\",\"\",INDEX([1]FIBER_CONN_TYPE!$A$2:$A$100,MATCH('Comm Device (Desc)'!$V58,[1]!MASTER_FIBER_CONN_TYPE_DESC[#Data],0),0))","v":""}]
[{"$f":"IF('Comm Device (Desc)'!A59=\"\",\"\",'Comm Device (Desc)'!A59)","v":""},{"$f":"IF('Comm Device (Desc)'!C59=\"\",\"\",\"2029\")","v":""},{"$f":"IF('Comm Device (Desc)'!C59=\"\",\"\",'Comm Device (Desc)'!C59)","v":""},{"$f":"IF('Comm Device (Desc)'!D59=\"\",\"\",INDEX([1]OWNER!$A$2:$A$100,MATCH('Comm Device (Desc)'!$D59,[1]!MASTER_OWNER_DESC[#Data],0),0))","v":""},{"$f":"IF('Comm Device (Desc)'!F59=\"\",\"\",INDEX([1]ITS_COMM_DEV_TYPE!$A$2:$A$100,MATCH('Comm Device (Desc)'!$F59,[1]!MASTER_ITS_COMM_DEV_TYPE_DESC[#Data],0),0))","v":""},{"$f":"IF('Comm Device (Desc)'!G59=\"\",\"\",INDEX([1]COMM_TYPE!$A$2:$A$100,MATCH('Comm Device (Desc)'!$G59,[1]!MASTER_COMM_TYPE_DESC[#Data],0),0))","v":""},{"$f":"IF('Comm Device (Desc)'!H59=\"\",\"\",'Comm Device (Desc)'!H59)","v":""},{"$f":"IF('Comm Device (Desc)'!I59=\"\",\"\",'Comm Device (Desc)'!I59)","v":""},{"$f":"IF('Comm Device (Desc)'!J59=\"\",\"\",INDEX([1]ITS_COMM_DEV_MANUF!$A$2:$A$300,MATCH(1,([1]ITS_COMM_DEV_MANUF!$B$2:$B$300='Comm Device (Desc)'!$J59)*([1]ITS_COMM_DEV_MANUF!$C$2:$C$300='Comm Device (Code)'!$E59),0),0))","v":""},{"$f":"IF('Comm Device (Desc)'!K59=\"\",\"\",INDEX([1]ITS_COMM_DEV_MODEL!$A$2:$A$500,MATCH(1,([1]ITS_COMM_DEV_MODEL!$C$2:$C$500='Comm Device (Desc)'!$J59)*([1]ITS_COMM_DEV_MODEL!$D$2:$D$500='Comm Device (Code)'!$E59)*([1]ITS_COMM_DEV_MODEL!$E$2:$E$500='Comm Device (Desc)'!$K59),0),0))","v":""},{"$f":"IF('Comm Device (Desc)'!L59=\"\",\"\",'Comm Device (Desc)'!L59)","v":""},{"$f":"IF('Comm Device (Desc)'!M59=\"\",\"\",'Comm Device (Desc)'!M59)","v":""},{"$f":"IF('Comm Device (Desc)'!N59=\"\",\"\",'Comm Device (Desc)'!N59)","v":""},{"$f":"IF('Comm Device (Desc)'!O59=\"\",\"\",'Comm Device (Desc)'!O59)","v":""},{"$f":"IF('Comm Device (Desc)'!P59=\"\",\"\",INDEX([1]DEV_INPUT_VOLTAGE!$A$2:$A$100,MATCH('Comm Device (Desc)'!$P59,[1]!MASTER_DEV_INPUT_VOLTAGE_DESC[#Data],0),0))","v":""},{"$f":"IF('Comm Device (Desc)'!Q59=\"\",\"\",'Comm Device (Desc)'!Q59)","v":""},{"$f":"IF('Comm Device (Desc)'!R59=\"\",\"\",'Comm Device (Desc)'!R59)","v":""},{"$f":"IF('Comm Device (Desc)'!S59=\"\",\"\",'Comm Device (Desc)'!S59)","v":""},{"$f":"IF('Comm Device (Desc)'!T59=\"\",\"\",'Comm Device (Desc)'!T59)","v":""},{"$f":"IF('Comm Device (Desc)'!U59=\"\",\"\",'Comm Device (Desc)'!U59)","v":""},{"$f":"IF('Comm Device (Desc)'!V59=\"\",\"\",INDEX([1]FIBER_CONN_TYPE!$A$2:$A$100,MATCH('Comm Device (Desc)'!$V59,[1]!MASTER_FIBER_CONN_TYPE_DESC[#Data],0),0))","v":""}]
[{"$f":"IF('Comm Device (Desc)'!A60=\"\",\"\",'Comm Device (Desc)'!A60)","v":""},{"$f":"IF('Comm Device (Desc)'!C60=\"\",\"\",\"2029\")","v":""},{"$f":"IF('Comm Device (Desc)'!C60=\"\",\"\",'Comm Device (Desc)'!C60)","v":""},{"$f":"IF('Comm Device (Desc)'!D60=\"\",\"\",INDEX([1]OWNER!$A$2:$A$100,MATCH('Comm Device (Desc)'!$D60,[1]!MASTER_OWNER_DESC[#Data],0),0))","v":""},{"$f":"IF('Comm Device (Desc)'!F60=\"\",\"\",INDEX([1]ITS_COMM_DEV_TYPE!$A$2:$A$100,MATCH('Comm Device (Desc)'!$F60,[1]!MASTER_ITS_COMM_DEV_TYPE_DESC[#Data],0),0))","v":""},{"$f":"IF('Comm Device (Desc)'!G60=\"\",\"\",INDEX([1]COMM_TYPE!$A$2:$A$100,MATCH('Comm Device (Desc)'!$G60,[1]!MASTER_COMM_TYPE_DESC[#Data],0),0))","v":""},{"$f":"IF('Comm Device (Desc)'!H60=\"\",\"\",'Comm Device (Desc)'!H60)","v":""},{"$f":"IF('Comm Device (Desc)'!I60=\"\",\"\",'Comm Device (Desc)'!I60)","v":""},{"$f":"IF('Comm Device (Desc)'!J60=\"\",\"\",INDEX([1]ITS_COMM_DEV_MANUF!$A$2:$A$300,MATCH(1,([1]ITS_COMM_DEV_MANUF!$B$2:$B$300='Comm Device (Desc)'!$J60)*([1]ITS_COMM_DEV_MANUF!$C$2:$C$300='Comm Device (Code)'!$E60),0),0))","v":""},{"$f":"IF('Comm Device (Desc)'!K60=\"\",\"\",INDEX([1]ITS_COMM_DEV_MODEL!$A$2:$A$500,MATCH(1,([1]ITS_COMM_DEV_MODEL!$C$2:$C$500='Comm Device (Desc)'!$J60)*([1]ITS_COMM_DEV_MODEL!$D$2:$D$500='Comm Device (Code)'!$E60)*([1]ITS_COMM_DEV_MODEL!$E$2:$E$500='Comm Device (Desc)'!$K60),0),0))","v":""},{"$f":"IF('Comm Device (Desc)'!L60=\"\",\"\",'Comm Device (Desc)'!L60)","v":""},{"$f":"IF('Comm Device (Desc)'!M60=\"\",\"\",'Comm Device (Desc)'!M60)","v":""},{"$f":"IF('Comm Device (Desc)'!N60=\"\",\"\",'Comm Device (Desc)'!N60)","v":""},{"$f":"IF('Comm Device (Desc)'!O60=\"\",\"\",'Comm Device (Desc)'!O60)","v":""},{"$f":"IF('Comm Device (Desc)'!P60=\"\",\"\",INDEX([1]DEV_INPUT_VOLTAGE!$A$2:$A$100,MATCH('Comm Device (Desc)'!$P60,[1]!MASTER_DEV_INPUT_VOLTAGE_DESC[#Data],0),0))","v":""},{"$f":"IF('Comm Device (Desc)'!Q60=\"\",\"\",'Comm Device (Desc)'!Q60)","v":""},{"$f":"IF('Comm Device (Desc)'!R60=\"\",\"\",'Comm Device (Desc)'!R60)","v":""},{"$f":"IF('Comm Device (Desc)'!S60=\"\",\"\",'Comm Device (Desc)'!S60)","v":""},{"$f":"IF('Comm Device (Desc)'!T60=\"\",\"\",'Comm Device (Desc)'!T60)","v":""},{"$f":"IF('Comm Device (Desc)'!U60=\"\",\"\",'Comm Device (Desc)'!U60)","v":""},{"$f":"IF('Comm Device (Desc)'!V60=\"\",\"\",INDEX([1]FIBER_CONN_TYPE!$A$2:$A$100,MATCH('Comm Device (Desc)'!$V60,[1]!MASTER_FIBER_CONN_TYPE_DESC[#Data],0),0))","v":""}]
[{"$f":"IF('Comm Device (Desc)'!A61=\"\",\"\",'Comm Device (Desc)'!A61)","v":""},{"$f":"IF('Comm Device (Desc)'!C61=\"\",\"\",\"2029\")","v":""},{"$f":"IF('Comm Device (Desc)'!C61=\"\",\"\",'Comm Device (Desc)'!C61)","v":""},{"$f":"IF('Comm Device (Desc)'!D61=\"\",\"\",INDEX([1]OWNER!$A$2:$A$100,MATCH('Comm Device (Desc)'!$D61,[1]!MASTER_OWNER_DESC[#Data],0),0))","v":""},{"$f":"IF('Comm Device (Desc)'!F61=\"\",\"\",INDEX([1]ITS_COMM_DEV_TYPE!$A$2:$A$100,MATCH('Comm Device (Desc)'!$F61,[1]!MASTER_ITS_COMM_DEV_TYPE_DESC[#Data],0),0))","v":""},{"$f":"IF('Comm Device (Desc)'!G61=\"\",\"\",INDEX([1]COMM_TYPE!$A$2:$A$100,MATCH('Comm Device (Desc)'!$G61,[1]!MASTER_COMM_TYPE_DESC[#Data],0),0))","v":""},{"$f":"IF('Comm Device (Desc)'!H61=\"\",\"\",'Comm Device (Desc)'!H61)","v":""},{"$f":"IF('Comm Device (Desc)'!I61=\"\",\"\",'Comm Device (Desc)'!I61)","v":""},{"$f":"IF('Comm Device (Desc)'!J61=\"\",\"\",INDEX([1]ITS_COMM_DEV_MANUF!$A$2:$A$300,MATCH(1,([1]ITS_COMM_DEV_MANUF!$B$2:$B$300='Comm Device (Desc)'!$J61)*([1]ITS_COMM_DEV_MANUF!$C$2:$C$300='Comm Device (Code)'!$E61),0),0))","v":""},{"$f":"IF('Comm Device (Desc)'!K61=\"\",\"\",INDEX([1]ITS_COMM_DEV_MODEL!$A$2:$A$500,MATCH(1,([1]ITS_COMM_DEV_MODEL!$C$2:$C$500='Comm Device (Desc)'!$J61)*([1]ITS_COMM_DEV_MODEL!$D$2:$D$500='Comm Device (Code)'!$E61)*([1]ITS_COMM_DEV_MODEL!$E$2:$E$500='Comm Device (Desc)'!$K61),0),0))","v":""},{"$f":"IF('Comm Device (Desc)'!L61=\"\",\"\",'Comm Device (Desc)'!L61)","v":""},{"$f":"IF('Comm Device (Desc)'!M61=\"\",\"\",'Comm Device (Desc)'!M61)","v":""},{"$f":"IF('Comm Device (Desc)'!N61=\"\",\"\",'Comm Device (Desc)'!N61)","v":""},{"$f":"IF('Comm Device (Desc)'!O61=\"\",\"\",'Comm Device (Desc)'!O61)","v":""},{"$f":"IF('Comm Device (Desc)'!P61=\"\",\"\",INDEX([1]DEV_INPUT_VOLTAGE!$A$2:$A$100,MATCH('Comm Device (Desc)'!$P61,[1]!MASTER_DEV_INPUT_VOLTAGE_DESC[#Data],0),0))","v":""},{"$f":"IF('Comm Device (Desc)'!Q61=\"\",\"\",'Comm Device (Desc)'!Q61)","v":""},{"$f":"IF('Comm Device (Desc)'!R61=\"\",\"\",'Comm Device (Desc)'!R61)","v":""},{"$f":"IF('Comm Device (Desc)'!S61=\"\",\"\",'Comm Device (Desc)'!S61)","v":""},{"$f":"IF('Comm Device (Desc)'!T61=\"\",\"\",'Comm Device (Desc)'!T61)","v":""},{"$f":"IF('Comm Device (Desc)'!U61=\"\",\"\",'Comm Device (Desc)'!U61)","v":""},{"$f":"IF('Comm Device (Desc)'!V61=\"\",\"\",INDEX([1]FIBER_CONN_TYPE!$A$2:$A$100,MATCH('Comm Device (Desc)'!$V61,[1]!MASTER_FIBER_CONN_TYPE_DESC[#Data],0),0))","v":""}]
[{"$f":"IF('Comm Device (Desc)'!A62=\"\",\"\",'Comm Device (Desc)'!A62)","v":""},{"$f":"IF('Comm Device (Desc)'!C62=\"\",\"\",\"2029\")","v":""},{"$f":"IF('Comm Device (Desc)'!C62=\"\",\"\",'Comm Device (Desc)'!C62)","v":""},{"$f":"IF('Comm Device (Desc)'!D62=\"\",\"\",INDEX([1]OWNER!$A$2:$A$100,MATCH('Comm Device (Desc)'!$D62,[1]!MASTER_OWNER_DESC[#Data],0),0))","v":""},{"$f":"IF('Comm Device (Desc)'!F62=\"\",\"\",INDEX([1]ITS_COMM_DEV_TYPE!$A$2:$A$100,MATCH('Comm Device (Desc)'!$F62,[1]!MASTER_ITS_COMM_DEV_TYPE_DESC[#Data],0),0))","v":""},{"$f":"IF('Comm Device (Desc)'!G62=\"\",\"\",INDEX([1]COMM_TYPE!$A$2:$A$100,MATCH('Comm Device (Desc)'!$G62,[1]!MASTER_COMM_TYPE_DESC[#Data],0),0))","v":""},{"$f":"IF('Comm Device (Desc)'!H62=\"\",\"\",'Comm Device (Desc)'!H62)","v":""},{"$f":"IF('Comm Device (Desc)'!I62=\"\",\"\",'Comm Device (Desc)'!I62)","v":""},{"$f":"IF('Comm Device (Desc)'!J62=\"\",\"\",INDEX([1]ITS_COMM_DEV_MANUF!$A$2:$A$300,MATCH(1,([1]ITS_COMM_DEV_MANUF!$B$2:$B$300='Comm Device (Desc)'!$J62)*([1]ITS_COMM_DEV_MANUF!$C$2:$C$300='Comm Device (Code)'!$E62),0),0))","v":""},{"$f":"IF('Comm Device (Desc)'!K62=\"\",\"\",INDEX([1]ITS_COMM_DEV_MODEL!$A$2:$A$500,MATCH(1,([1]ITS_COMM_DEV_MODEL!$C$2:$C$500='Comm Device (Desc)'!$J62)*([1]ITS_COMM_DEV_MODEL!$D$2:$D$500='Comm Device (Code)'!$E62)*([1]ITS_COMM_DEV_MODEL!$E$2:$E$500='Comm Device (Desc)'!$K62),0),0))","v":""},{"$f":"IF('Comm Device (Desc)'!L62=\"\",\"\",'Comm Device (Desc)'!L62)","v":""},{"$f":"IF('Comm Device (Desc)'!M62=\"\",\"\",'Comm Device (Desc)'!M62)","v":""},{"$f":"IF('Comm Device (Desc)'!N62=\"\",\"\",'Comm Device (Desc)'!N62)","v":""},{"$f":"IF('Comm Device (Desc)'!O62=\"\",\"\",'Comm Device (Desc)'!O62)","v":""},{"$f":"IF('Comm Device (Desc)'!P62=\"\",\"\",INDEX([1]DEV_INPUT_VOLTAGE!$A$2:$A$100,MATCH('Comm Device (Desc)'!$P62,[1]!MASTER_DEV_INPUT_VOLTAGE_DESC[#Data],0),0))","v":""},{"$f":"IF('Comm Device (Desc)'!Q62=\"\",\"\",'Comm Device (Desc)'!Q62)","v":""},{"$f":"IF('Comm Device (Desc)'!R62=\"\",\"\",'Comm Device (Desc)'!R62)","v":""},{"$f":"IF('Comm Device (Desc)'!S62=\"\",\"\",'Comm Device (Desc)'!S62)","v":""},{"$f":"IF('Comm Device (Desc)'!T62=\"\",\"\",'Comm Device (Desc)'!T62)","v":""},{"$f":"IF('Comm Device (Desc)'!U62=\"\",\"\",'Comm Device (Desc)'!U62)","v":""},{"$f":"IF('Comm Device (Desc)'!V62=\"\",\"\",INDEX([1]FIBER_CONN_TYPE!$A$2:$A$100,MATCH('Comm Device (Desc)'!$V62,[1]!MASTER_FIBER_CONN_TYPE_DESC[#Data],0),0))","v":""}]
[{"$f":"IF('Comm Device (Desc)'!A63=\"\",\"\",'Comm Device (Desc)'!A63)","v":""},{"$f":"IF('Comm Device (Desc)'!C63=\"\",\"\",\"2029\")","v":""},{"$f":"IF('Comm Device (Desc)'!C63=\"\",\"\",'Comm Device (Desc)'!C63)","v":""},{"$f":"IF('Comm Device (Desc)'!D63=\"\",\"\",INDEX([1]OWNER!$A$2:$A$100,MATCH('Comm Device (Desc)'!$D63,[1]!MASTER_OWNER_DESC[#Data],0),0))","v":""},{"$f":"IF('Comm Device (Desc)'!F63=\"\",\"\",INDEX([1]ITS_COMM_DEV_TYPE!$A$2:$A$100,MATCH('Comm Device (Desc)'!$F63,[1]!MASTER_ITS_COMM_DEV_TYPE_DESC[#Data],0),0))","v":""},{"$f":"IF('Comm Device (Desc)'!G63=\"\",\"\",INDEX([1]COMM_TYPE!$A$2:$A$100,MATCH('Comm Device (Desc)'!$G63,[1]!MASTER_COMM_TYPE_DESC[#Data],0),0))","v":""},{"$f":"IF('Comm Device (Desc)'!H63=\"\",\"\",'Comm Device (Desc)'!H63)","v":""},{"$f":"IF('Comm Device (Desc)'!I63=\"\",\"\",'Comm Device (Desc)'!I63)","v":""},{"$f":"IF('Comm Device (Desc)'!J63=\"\",\"\",INDEX([1]ITS_COMM_DEV_MANUF!$A$2:$A$300,MATCH(1,([1]ITS_COMM_DEV_MANUF!$B$2:$B$300='Comm Device (Desc)'!$J63)*([1]ITS_COMM_DEV_MANUF!$C$2:$C$300='Comm Device (Code)'!$E63),0),0))","v":""},{"$f":"IF('Comm Device (Desc)'!K63=\"\",\"\",INDEX([1]ITS_COMM_DEV_MODEL!$A$2:$A$500,MATCH(1,([1]ITS_COMM_DEV_MODEL!$C$2:$C$500='Comm Device (Desc)'!$J63)*([1]ITS_COMM_DEV_MODEL!$D$2:$D$500='Comm Device (Code)'!$E63)*([1]ITS_COMM_DEV_MODEL!$E$2:$E$500='Comm Device (Desc)'!$K63),0),0))","v":""},{"$f":"IF('Comm Device (Desc)'!L63=\"\",\"\",'Comm Device (Desc)'!L63)","v":""},{"$f":"IF('Comm Device (Desc)'!M63=\"\",\"\",'Comm Device (Desc)'!M63)","v":""},{"$f":"IF('Comm Device (Desc)'!N63=\"\",\"\",'Comm Device (Desc)'!N63)","v":""},{"$f":"IF('Comm Device (Desc)'!O63=\"\",\"\",'Comm Device (Desc)'!O63)","v":""},{"$f":"IF('Comm Device (Desc)'!P63=\"\",\"\",INDEX([1]DEV_INPUT_VOLTAGE!$A$2:$A$100,MATCH('Comm Device (Desc)'!$P63,[1]!MASTER_DEV_INPUT_VOLTAGE_DESC[#Data],0),0))","v":""},{"$f":"IF('Comm Device (Desc)'!Q63=\"\",\"\",'Comm Device (Desc)'!Q63)","v":""},{"$f":"IF('Comm Device (Desc)'!R63=\"\",\"\",'Comm Device (Desc)'!R63)","v":""},{"$f":"IF('Comm Device (Desc)'!S63=\"\",\"\",'Comm Device (Desc)'!S63)","v":""},{"$f":"IF('Comm Device (Desc)'!T63=\"\",\"\",'Comm Device (Desc)'!T63)","v":""},{"$f":"IF('Comm Device (Desc)'!U63=\"\",\"\",'Comm Device (Desc)'!U63)","v":""},{"$f":"IF('Comm Device (Desc)'!V63=\"\",\"\",INDEX([1]FIBER_CONN_TYPE!$A$2:$A$100,MATCH('Comm Device (Desc)'!$V63,[1]!MASTER_FIBER_CONN_TYPE_DESC[#Data],0),0))","v":""}]
[{"$f":"IF('Comm Device (Desc)'!A64=\"\",\"\",'Comm Device (Desc)'!A64)","v":""},{"$f":"IF('Comm Device (Desc)'!C64=\"\",\"\",\"2029\")","v":""},{"$f":"IF('Comm Device (Desc)'!C64=\"\",\"\",'Comm Device (Desc)'!C64)","v":""},{"$f":"IF('Comm Device (Desc)'!D64=\"\",\"\",INDEX([1]OWNER!$A$2:$A$100,MATCH('Comm Device (Desc)'!$D64,[1]!MASTER_OWNER_DESC[#Data],0),0))","v":""},{"$f":"IF('Comm Device (Desc)'!F64=\"\",\"\",INDEX([1]ITS_COMM_DEV_TYPE!$A$2:$A$100,MATCH('Comm Device (Desc)'!$F64,[1]!MASTER_ITS_COMM_DEV_TYPE_DESC[#Data],0),0))","v":""},{"$f":"IF('Comm Device (Desc)'!G64=\"\",\"\",INDEX([1]COMM_TYPE!$A$2:$A$100,MATCH('Comm Device (Desc)'!$G64,[1]!MASTER_COMM_TYPE_DESC[#Data],0),0))","v":""},{"$f":"IF('Comm Device (Desc)'!H64=\"\",\"\",'Comm Device (Desc)'!H64)","v":""},{"$f":"IF('Comm Device (Desc)'!I64=\"\",\"\",'Comm Device (Desc)'!I64)","v":""},{"$f":"IF('Comm Device (Desc)'!J64=\"\",\"\",INDEX([1]ITS_COMM_DEV_MANUF!$A$2:$A$300,MATCH(1,([1]ITS_COMM_DEV_MANUF!$B$2:$B$300='Comm Device (Desc)'!$J64)*([1]ITS_COMM_DEV_MANUF!$C$2:$C$300='Comm Device (Code)'!$E64),0),0))","v":""},{"$f":"IF('Comm Device (Desc)'!K64=\"\",\"\",INDEX([1]ITS_COMM_DEV_MODEL!$A$2:$A$500,MATCH(1,([1]ITS_COMM_DEV_MODEL!$C$2:$C$500='Comm Device (Desc)'!$J64)*([1]ITS_COMM_DEV_MODEL!$D$2:$D$500='Comm Device (Code)'!$E64)*([1]ITS_COMM_DEV_MODEL!$E$2:$E$500='Comm Device (Desc)'!$K64),0),0))","v":""},{"$f":"IF('Comm Device (Desc)'!L64=\"\",\"\",'Comm Device (Desc)'!L64)","v":""},{"$f":"IF('Comm Device (Desc)'!M64=\"\",\"\",'Comm Device (Desc)'!M64)","v":""},{"$f":"IF('Comm Device (Desc)'!N64=\"\",\"\",'Comm Device (Desc)'!N64)","v":""},{"$f":"IF('Comm Device (Desc)'!O64=\"\",\"\",'Comm Device (Desc)'!O64)","v":""},{"$f":"IF('Comm Device (Desc)'!P64=\"\",\"\",INDEX([1]DEV_INPUT_VOLTAGE!$A$2:$A$100,MATCH('Comm Device (Desc)'!$P64,[1]!MASTER_DEV_INPUT_VOLTAGE_DESC[#Data],0),0))","v":""},{"$f":"IF('Comm Device (Desc)'!Q64=\"\",\"\",'Comm Device (Desc)'!Q64)","v":""},{"$f":"IF('Comm Device (Desc)'!R64=\"\",\"\",'Comm Device (Desc)'!R64)","v":""},{"$f":"IF('Comm Device (Desc)'!S64=\"\",\"\",'Comm Device (Desc)'!S64)","v":""},{"$f":"IF('Comm Device (Desc)'!T64=\"\",\"\",'Comm Device (Desc)'!T64)","v":""},{"$f":"IF('Comm Device (Desc)'!U64=\"\",\"\",'Comm Device (Desc)'!U64)","v":""},{"$f":"IF('Comm Device (Desc)'!V64=\"\",\"\",INDEX([1]FIBER_CONN_TYPE!$A$2:$A$100,MATCH('Comm Device (Desc)'!$V64,[1]!MASTER_FIBER_CONN_TYPE_DESC[#Data],0),0))","v":""}]
[{"$f":"IF('Comm Device (Desc)'!A65=\"\",\"\",'Comm Device (Desc)'!A65)","v":""},{"$f":"IF('Comm Device (Desc)'!C65=\"\",\"\",\"2029\")","v":""},{"$f":"IF('Comm Device (Desc)'!C65=\"\",\"\",'Comm Device (Desc)'!C65)","v":""},{"$f":"IF('Comm Device (Desc)'!D65=\"\",\"\",INDEX([1]OWNER!$A$2:$A$100,MATCH('Comm Device (Desc)'!$D65,[1]!MASTER_OWNER_DESC[#Data],0),0))","v":""},{"$f":"IF('Comm Device (Desc)'!F65=\"\",\"\",INDEX([1]ITS_COMM_DEV_TYPE!$A$2:$A$100,MATCH('Comm Device (Desc)'!$F65,[1]!MASTER_ITS_COMM_DEV_TYPE_DESC[#Data],0),0))","v":""},{"$f":"IF('Comm Device (Desc)'!G65=\"\",\"\",INDEX([1]COMM_TYPE!$A$2:$A$100,MATCH('Comm Device (Desc)'!$G65,[1]!MASTER_COMM_TYPE_DESC[#Data],0),0))","v":""},{"$f":"IF('Comm Device (Desc)'!H65=\"\",\"\",'Comm Device (Desc)'!H65)","v":""},{"$f":"IF('Comm Device (Desc)'!I65=\"\",\"\",'Comm Device (Desc)'!I65)","v":""},{"$f":"IF('Comm Device (Desc)'!J65=\"\",\"\",INDEX([1]ITS_COMM_DEV_MANUF!$A$2:$A$300,MATCH(1,([1]ITS_COMM_DEV_MANUF!$B$2:$B$300='Comm Device (Desc)'!$J65)*([1]ITS_COMM_DEV_MANUF!$C$2:$C$300='Comm Device (Code)'!$E65),0),0))","v":""},{"$f":"IF('Comm Device (Desc)'!K65=\"\",\"\",INDEX([1]ITS_COMM_DEV_MODEL!$A$2:$A$500,MATCH(1,([1]ITS_COMM_DEV_MODEL!$C$2:$C$500='Comm Device (Desc)'!$J65)*([1]ITS_COMM_DEV_MODEL!$D$2:$D$500='Comm Device (Code)'!$E65)*([1]ITS_COMM_DEV_MODEL!$E$2:$E$500='Comm Device (Desc)'!$K65),0),0))","v":""},{"$f":"IF('Comm Device (Desc)'!L65=\"\",\"\",'Comm Device (Desc)'!L65)","v":""},{"$f":"IF('Comm Device (Desc)'!M65=\"\",\"\",'Comm Device (Desc)'!M65)","v":""},{"$f":"IF('Comm Device (Desc)'!N65=\"\",\"\",'Comm Device (Desc)'!N65)","v":""},{"$f":"IF('Comm Device (Desc)'!O65=\"\",\"\",'Comm Device (Desc)'!O65)","v":""},{"$f":"IF('Comm Device (Desc)'!P65=\"\",\"\",INDEX([1]DEV_INPUT_VOLTAGE!$A$2:$A$100,MATCH('Comm Device (Desc)'!$P65,[1]!MASTER_DEV_INPUT_VOLTAGE_DESC[#Data],0),0))","v":""},{"$f":"IF('Comm Device (Desc)'!Q65=\"\",\"\",'Comm Device (Desc)'!Q65)","v":""},{"$f":"IF('Comm Device (Desc)'!R65=\"\",\"\",'Comm Device (Desc)'!R65)","v":""},{"$f":"IF('Comm Device (Desc)'!S65=\"\",\"\",'Comm Device (Desc)'!S65)","v":""},{"$f":"IF('Comm Device (Desc)'!T65=\"\",\"\",'Comm Device (Desc)'!T65)","v":""},{"$f":"IF('Comm Device (Desc)'!U65=\"\",\"\",'Comm Device (Desc)'!U65)","v":""},{"$f":"IF('Comm Device (Desc)'!V65=\"\",\"\",INDEX([1]FIBER_CONN_TYPE!$A$2:$A$100,MATCH('Comm Device (Desc)'!$V65,[1]!MASTER_FIBER_CONN_TYPE_DESC[#Data],0),0))","v":""}]
[{"$f":"IF('Comm Device (Desc)'!A66=\"\",\"\",'Comm Device (Desc)'!A66)","v":""},{"$f":"IF('Comm Device (Desc)'!C66=\"\",\"\",\"2029\")","v":""},{"$f":"IF('Comm Device (Desc)'!C66=\"\",\"\",'Comm Device (Desc)'!C66)","v":""},{"$f":"IF('Comm Device (Desc)'!D66=\"\",\"\",INDEX([1]OWNER!$A$2:$A$100,MATCH('Comm Device (Desc)'!$D66,[1]!MASTER_OWNER_DESC[#Data],0),0))","v":""},{"$f":"IF('Comm Device (Desc)'!F66=\"\",\"\",INDEX([1]ITS_COMM_DEV_TYPE!$A$2:$A$100,MATCH('Comm Device (Desc)'!$F66,[1]!MASTER_ITS_COMM_DEV_TYPE_DESC[#Data],0),0))","v":""},{"$f":"IF('Comm Device (Desc)'!G66=\"\",\"\",INDEX([1]COMM_TYPE!$A$2:$A$100,MATCH('Comm Device (Desc)'!$G66,[1]!MASTER_COMM_TYPE_DESC[#Data],0),0))","v":""},{"$f":"IF('Comm Device (Desc)'!H66=\"\",\"\",'Comm Device (Desc)'!H66)","v":""},{"$f":"IF('Comm Device (Desc)'!I66=\"\",\"\",'Comm Device (Desc)'!I66)","v":""},{"$f":"IF('Comm Device (Desc)'!J66=\"\",\"\",INDEX([1]ITS_COMM_DEV_MANUF!$A$2:$A$300,MATCH(1,([1]ITS_COMM_DEV_MANUF!$B$2:$B$300='Comm Device (Desc)'!$J66)*([1]ITS_COMM_DEV_MANUF!$C$2:$C$300='Comm Device (Code)'!$E66),0),0))","v":""},{"$f":"IF('Comm Device (Desc)'!K66=\"\",\"\",INDEX([1]ITS_COMM_DEV_MODEL!$A$2:$A$500,MATCH(1,([1]ITS_COMM_DEV_MODEL!$C$2:$C$500='Comm Device (Desc)'!$J66)*([1]ITS_COMM_DEV_MODEL!$D$2:$D$500='Comm Device (Code)'!$E66)*([1]ITS_COMM_DEV_MODEL!$E$2:$E$500='Comm Device (Desc)'!$K66),0),0))","v":""},{"$f":"IF('Comm Device (Desc)'!L66=\"\",\"\",'Comm Device (Desc)'!L66)","v":""},{"$f":"IF('Comm Device (Desc)'!M66=\"\",\"\",'Comm Device (Desc)'!M66)","v":""},{"$f":"IF('Comm Device (Desc)'!N66=\"\",\"\",'Comm Device (Desc)'!N66)","v":""},{"$f":"IF('Comm Device (Desc)'!O66=\"\",\"\",'Comm Device (Desc)'!O66)","v":""},{"$f":"IF('Comm Device (Desc)'!P66=\"\",\"\",INDEX([1]DEV_INPUT_VOLTAGE!$A$2:$A$100,MATCH('Comm Device (Desc)'!$P66,[1]!MASTER_DEV_INPUT_VOLTAGE_DESC[#Data],0),0))","v":""},{"$f":"IF('Comm Device (Desc)'!Q66=\"\",\"\",'Comm Device (Desc)'!Q66)","v":""},{"$f":"IF('Comm Device (Desc)'!R66=\"\",\"\",'Comm Device (Desc)'!R66)","v":""},{"$f":"IF('Comm Device (Desc)'!S66=\"\",\"\",'Comm Device (Desc)'!S66)","v":""},{"$f":"IF('Comm Device (Desc)'!T66=\"\",\"\",'Comm Device (Desc)'!T66)","v":""},{"$f":"IF('Comm Device (Desc)'!U66=\"\",\"\",'Comm Device (Desc)'!U66)","v":""},{"$f":"IF('Comm Device (Desc)'!V66=\"\",\"\",INDEX([1]FIBER_CONN_TYPE!$A$2:$A$100,MATCH('Comm Device (Desc)'!$V66,[1]!MASTER_FIBER_CONN_TYPE_DESC[#Data],0),0))","v":""}]
[{"$f":"IF('Comm Device (Desc)'!A67=\"\",\"\",'Comm Device (Desc)'!A67)","v":""},{"$f":"IF('Comm Device (Desc)'!C67=\"\",\"\",\"2029\")","v":""},{"$f":"IF('Comm Device (Desc)'!C67=\"\",\"\",'Comm Device (Desc)'!C67)","v":""},{"$f":"IF('Comm Device (Desc)'!D67=\"\",\"\",INDEX([1]OWNER!$A$2:$A$100,MATCH('Comm Device (Desc)'!$D67,[1]!MASTER_OWNER_DESC[#Data],0),0))","v":""},{"$f":"IF('Comm Device (Desc)'!F67=\"\",\"\",INDEX([1]ITS_COMM_DEV_TYPE!$A$2:$A$100,MATCH('Comm Device (Desc)'!$F67,[1]!MASTER_ITS_COMM_DEV_TYPE_DESC[#Data],0),0))","v":""},{"$f":"IF('Comm Device (Desc)'!G67=\"\",\"\",INDEX([1]COMM_TYPE!$A$2:$A$100,MATCH('Comm Device (Desc)'!$G67,[1]!MASTER_COMM_TYPE_DESC[#Data],0),0))","v":""},{"$f":"IF('Comm Device (Desc)'!H67=\"\",\"\",'Comm Device (Desc)'!H67)","v":""},{"$f":"IF('Comm Device (Desc)'!I67=\"\",\"\",'Comm Device (Desc)'!I67)","v":""},{"$f":"IF('Comm Device (Desc)'!J67=\"\",\"\",INDEX([1]ITS_COMM_DEV_MANUF!$A$2:$A$300,MATCH(1,([1]ITS_COMM_DEV_MANUF!$B$2:$B$300='Comm Device (Desc)'!$J67)*([1]ITS_COMM_DEV_MANUF!$C$2:$C$300='Comm Device (Code)'!$E67),0),0))","v":""},{"$f":"IF('Comm Device (Desc)'!K67=\"\",\"\",INDEX([1]ITS_COMM_DEV_MODEL!$A$2:$A$500,MATCH(1,([1]ITS_COMM_DEV_MODEL!$C$2:$C$500='Comm Device (Desc)'!$J67)*([1]ITS_COMM_DEV_MODEL!$D$2:$D$500='Comm Device (Code)'!$E67)*([1]ITS_COMM_DEV_MODEL!$E$2:$E$500='Comm Device (Desc)'!$K67),0),0))","v":""},{"$f":"IF('Comm Device (Desc)'!L67=\"\",\"\",'Comm Device (Desc)'!L67)","v":""},{"$f":"IF('Comm Device (Desc)'!M67=\"\",\"\",'Comm Device (Desc)'!M67)","v":""},{"$f":"IF('Comm Device (Desc)'!N67=\"\",\"\",'Comm Device (Desc)'!N67)","v":""},{"$f":"IF('Comm Device (Desc)'!O67=\"\",\"\",'Comm Device (Desc)'!O67)","v":""},{"$f":"IF('Comm Device (Desc)'!P67=\"\",\"\",INDEX([1]DEV_INPUT_VOLTAGE!$A$2:$A$100,MATCH('Comm Device (Desc)'!$P67,[1]!MASTER_DEV_INPUT_VOLTAGE_DESC[#Data],0),0))","v":""},{"$f":"IF('Comm Device (Desc)'!Q67=\"\",\"\",'Comm Device (Desc)'!Q67)","v":""},{"$f":"IF('Comm Device (Desc)'!R67=\"\",\"\",'Comm Device (Desc)'!R67)","v":""},{"$f":"IF('Comm Device (Desc)'!S67=\"\",\"\",'Comm Device (Desc)'!S67)","v":""},{"$f":"IF('Comm Device (Desc)'!T67=\"\",\"\",'Comm Device (Desc)'!T67)","v":""},{"$f":"IF('Comm Device (Desc)'!U67=\"\",\"\",'Comm Device (Desc)'!U67)","v":""},{"$f":"IF('Comm Device (Desc)'!V67=\"\",\"\",INDEX([1]FIBER_CONN_TYPE!$A$2:$A$100,MATCH('Comm Device (Desc)'!$V67,[1]!MASTER_FIBER_CONN_TYPE_DESC[#Data],0),0))","v":""}]
[{"$f":"IF('Comm Device (Desc)'!A68=\"\",\"\",'Comm Device (Desc)'!A68)","v":""},{"$f":"IF('Comm Device (Desc)'!C68=\"\",\"\",\"2029\")","v":""},{"$f":"IF('Comm Device (Desc)'!C68=\"\",\"\",'Comm Device (Desc)'!C68)","v":""},{"$f":"IF('Comm Device (Desc)'!D68=\"\",\"\",INDEX([1]OWNER!$A$2:$A$100,MATCH('Comm Device (Desc)'!$D68,[1]!MASTER_OWNER_DESC[#Data],0),0))","v":""},{"$f":"IF('Comm Device (Desc)'!F68=\"\",\"\",INDEX([1]ITS_COMM_DEV_TYPE!$A$2:$A$100,MATCH('Comm Device (Desc)'!$F68,[1]!MASTER_ITS_COMM_DEV_TYPE_DESC[#Data],0),0))","v":""},{"$f":"IF('Comm Device (Desc)'!G68=\"\",\"\",INDEX([1]COMM_TYPE!$A$2:$A$100,MATCH('Comm Device (Desc)'!$G68,[1]!MASTER_COMM_TYPE_DESC[#Data],0),0))","v":""},{"$f":"IF('Comm Device (Desc)'!H68=\"\",\"\",'Comm Device (Desc)'!H68)","v":""},{"$f":"IF('Comm Device (Desc)'!I68=\"\",\"\",'Comm Device (Desc)'!I68)","v":""},{"$f":"IF('Comm Device (Desc)'!J68=\"\",\"\",INDEX([1]ITS_COMM_DEV_MANUF!$A$2:$A$300,MATCH(1,([1]ITS_COMM_DEV_MANUF!$B$2:$B$300='Comm Device (Desc)'!$J68)*([1]ITS_COMM_DEV_MANUF!$C$2:$C$300='Comm Device (Code)'!$E68),0),0))","v":""},{"$f":"IF('Comm Device (Desc)'!K68=\"\",\"\",INDEX([1]ITS_COMM_DEV_MODEL!$A$2:$A$500,MATCH(1,([1]ITS_COMM_DEV_MODEL!$C$2:$C$500='Comm Device (Desc)'!$J68)*([1]ITS_COMM_DEV_MODEL!$D$2:$D$500='Comm Device (Code)'!$E68)*([1]ITS_COMM_DEV_MODEL!$E$2:$E$500='Comm Device (Desc)'!$K68),0),0))","v":""},{"$f":"IF('Comm Device (Desc)'!L68=\"\",\"\",'Comm Device (Desc)'!L68)","v":""},{"$f":"IF('Comm Device (Desc)'!M68=\"\",\"\",'Comm Device (Desc)'!M68)","v":""},{"$f":"IF('Comm Device (Desc)'!N68=\"\",\"\",'Comm Device (Desc)'!N68)","v":""},{"$f":"IF('Comm Device (Desc)'!O68=\"\",\"\",'Comm Device (Desc)'!O68)","v":""},{"$f":"IF('Comm Device (Desc)'!P68=\"\",\"\",INDEX([1]DEV_INPUT_VOLTAGE!$A$2:$A$100,MATCH('Comm Device (Desc)'!$P68,[1]!MASTER_DEV_INPUT_VOLTAGE_DESC[#Data],0),0))","v":""},{"$f":"IF('Comm Device (Desc)'!Q68=\"\",\"\",'Comm Device (Desc)'!Q68)","v":""},{"$f":"IF('Comm Device (Desc)'!R68=\"\",\"\",'Comm Device (Desc)'!R68)","v":""},{"$f":"IF('Comm Device (Desc)'!S68=\"\",\"\",'Comm Device (Desc)'!S68)","v":""},{"$f":"IF('Comm Device (Desc)'!T68=\"\",\"\",'Comm Device (Desc)'!T68)","v":""},{"$f":"IF('Comm Device (Desc)'!U68=\"\",\"\",'Comm Device (Desc)'!U68)","v":""},{"$f":"IF('Comm Device (Desc)'!V68=\"\",\"\",INDEX([1]FIBER_CONN_TYPE!$A$2:$A$100,MATCH('Comm Device (Desc)'!$V68,[1]!MASTER_FIBER_CONN_TYPE_DESC[#Data],0),0))","v":""}]
[{"$f":"IF('Comm Device (Desc)'!A69=\"\",\"\",'Comm Device (Desc)'!A69)","v":""},{"$f":"IF('Comm Device (Desc)'!C69=\"\",\"\",\"2029\")","v":""},{"$f":"IF('Comm Device (Desc)'!C69=\"\",\"\",'Comm Device (Desc)'!C69)","v":""},{"$f":"IF('Comm Device (Desc)'!D69=\"\",\"\",INDEX([1]OWNER!$A$2:$A$100,MATCH('Comm Device (Desc)'!$D69,[1]!MASTER_OWNER_DESC[#Data],0),0))","v":""},{"$f":"IF('Comm Device (Desc)'!F69=\"\",\"\",INDEX([1]ITS_COMM_DEV_TYPE!$A$2:$A$100,MATCH('Comm Device (Desc)'!$F69,[1]!MASTER_ITS_COMM_DEV_TYPE_DESC[#Data],0),0))","v":""},{"$f":"IF('Comm Device (Desc)'!G69=\"\",\"\",INDEX([1]COMM_TYPE!$A$2:$A$100,MATCH('Comm Device (Desc)'!$G69,[1]!MASTER_COMM_TYPE_DESC[#Data],0),0))","v":""},{"$f":"IF('Comm Device (Desc)'!H69=\"\",\"\",'Comm Device (Desc)'!H69)","v":""},{"$f":"IF('Comm Device (Desc)'!I69=\"\",\"\",'Comm Device (Desc)'!I69)","v":""},{"$f":"IF('Comm Device (Desc)'!J69=\"\",\"\",INDEX([1]ITS_COMM_DEV_MANUF!$A$2:$A$300,MATCH(1,([1]ITS_COMM_DEV_MANUF!$B$2:$B$300='Comm Device (Desc)'!$J69)*([1]ITS_COMM_DEV_MANUF!$C$2:$C$300='Comm Device (Code)'!$E69),0),0))","v":""},{"$f":"IF('Comm Device (Desc)'!K69=\"\",\"\",INDEX([1]ITS_COMM_DEV_MODEL!$A$2:$A$500,MATCH(1,([1]ITS_COMM_DEV_MODEL!$C$2:$C$500='Comm Device (Desc)'!$J69)*([1]ITS_COMM_DEV_MODEL!$D$2:$D$500='Comm Device (Code)'!$E69)*([1]ITS_COMM_DEV_MODEL!$E$2:$E$500='Comm Device (Desc)'!$K69),0),0))","v":""},{"$f":"IF('Comm Device (Desc)'!L69=\"\",\"\",'Comm Device (Desc)'!L69)","v":""},{"$f":"IF('Comm Device (Desc)'!M69=\"\",\"\",'Comm Device (Desc)'!M69)","v":""},{"$f":"IF('Comm Device (Desc)'!N69=\"\",\"\",'Comm Device (Desc)'!N69)","v":""},{"$f":"IF('Comm Device (Desc)'!O69=\"\",\"\",'Comm Device (Desc)'!O69)","v":""},{"$f":"IF('Comm Device (Desc)'!P69=\"\",\"\",INDEX([1]DEV_INPUT_VOLTAGE!$A$2:$A$100,MATCH('Comm Device (Desc)'!$P69,[1]!MASTER_DEV_INPUT_VOLTAGE_DESC[#Data],0),0))","v":""},{"$f":"IF('Comm Device (Desc)'!Q69=\"\",\"\",'Comm Device (Desc)'!Q69)","v":""},{"$f":"IF('Comm Device (Desc)'!R69=\"\",\"\",'Comm Device (Desc)'!R69)","v":""},{"$f":"IF('Comm Device (Desc)'!S69=\"\",\"\",'Comm Device (Desc)'!S69)","v":""},{"$f":"IF('Comm Device (Desc)'!T69=\"\",\"\",'Comm Device (Desc)'!T69)","v":""},{"$f":"IF('Comm Device (Desc)'!U69=\"\",\"\",'Comm Device (Desc)'!U69)","v":""},{"$f":"IF('Comm Device (Desc)'!V69=\"\",\"\",INDEX([1]FIBER_CONN_TYPE!$A$2:$A$100,MATCH('Comm Device (Desc)'!$V69,[1]!MASTER_FIBER_CONN_TYPE_DESC[#Data],0),0))","v":""}]
[{"$f":"IF('Comm Device (Desc)'!A70=\"\",\"\",'Comm Device (Desc)'!A70)","v":""},{"$f":"IF('Comm Device (Desc)'!C70=\"\",\"\",\"2029\")","v":""},{"$f":"IF('Comm Device (Desc)'!C70=\"\",\"\",'Comm Device (Desc)'!C70)","v":""},{"$f":"IF('Comm Device (Desc)'!D70=\"\",\"\",INDEX([1]OWNER!$A$2:$A$100,MATCH('Comm Device (Desc)'!$D70,[1]!MASTER_OWNER_DESC[#Data],0),0))","v":""},{"$f":"IF('Comm Device (Desc)'!F70=\"\",\"\",INDEX([1]ITS_COMM_DEV_TYPE!$A$2:$A$100,MATCH('Comm Device (Desc)'!$F70,[1]!MASTER_ITS_COMM_DEV_TYPE_DESC[#Data],0),0))","v":""},{"$f":"IF('Comm Device (Desc)'!G70=\"\",\"\",INDEX([1]COMM_TYPE!$A$2:$A$100,MATCH('Comm Device (Desc)'!$G70,[1]!MASTER_COMM_TYPE_DESC[#Data],0),0))","v":""},{"$f":"IF('Comm Device (Desc)'!H70=\"\",\"\",'Comm Device (Desc)'!H70)","v":""},{"$f":"IF('Comm Device (Desc)'!I70=\"\",\"\",'Comm Device (Desc)'!I70)","v":""},{"$f":"IF('Comm Device (Desc)'!J70=\"\",\"\",INDEX([1]ITS_COMM_DEV_MANUF!$A$2:$A$300,MATCH(1,([1]ITS_COMM_DEV_MANUF!$B$2:$B$300='Comm Device (Desc)'!$J70)*([1]ITS_COMM_DEV_MANUF!$C$2:$C$300='Comm Device (Code)'!$E70),0),0))","v":""},{"$f":"IF('Comm Device (Desc)'!K70=\"\",\"\",INDEX([1]ITS_COMM_DEV_MODEL!$A$2:$A$500,MATCH(1,([1]ITS_COMM_DEV_MODEL!$C$2:$C$500='Comm Device (Desc)'!$J70)*([1]ITS_COMM_DEV_MODEL!$D$2:$D$500='Comm Device (Code)'!$E70)*([1]ITS_COMM_DEV_MODEL!$E$2:$E$500='Comm Device (Desc)'!$K70),0),0))","v":""},{"$f":"IF('Comm Device (Desc)'!L70=\"\",\"\",'Comm Device (Desc)'!L70)","v":""},{"$f":"IF('Comm Device (Desc)'!M70=\"\",\"\",'Comm Device (Desc)'!M70)","v":""},{"$f":"IF('Comm Device (Desc)'!N70=\"\",\"\",'Comm Device (Desc)'!N70)","v":""},{"$f":"IF('Comm Device (Desc)'!O70=\"\",\"\",'Comm Device (Desc)'!O70)","v":""},{"$f":"IF('Comm Device (Desc)'!P70=\"\",\"\",INDEX([1]DEV_INPUT_VOLTAGE!$A$2:$A$100,MATCH('Comm Device (Desc)'!$P70,[1]!MASTER_DEV_INPUT_VOLTAGE_DESC[#Data],0),0))","v":""},{"$f":"IF('Comm Device (Desc)'!Q70=\"\",\"\",'Comm Device (Desc)'!Q70)","v":""},{"$f":"IF('Comm Device (Desc)'!R70=\"\",\"\",'Comm Device (Desc)'!R70)","v":""},{"$f":"IF('Comm Device (Desc)'!S70=\"\",\"\",'Comm Device (Desc)'!S70)","v":""},{"$f":"IF('Comm Device (Desc)'!T70=\"\",\"\",'Comm Device (Desc)'!T70)","v":""},{"$f":"IF('Comm Device (Desc)'!U70=\"\",\"\",'Comm Device (Desc)'!U70)","v":""},{"$f":"IF('Comm Device (Desc)'!V70=\"\",\"\",INDEX([1]FIBER_CONN_TYPE!$A$2:$A$100,MATCH('Comm Device (Desc)'!$V70,[1]!MASTER_FIBER_CONN_TYPE_DESC[#Data],0),0))","v":""}]
[{"$f":"IF('Comm Device (Desc)'!A71=\"\",\"\",'Comm Device (Desc)'!A71)","v":""},{"$f":"IF('Comm Device (Desc)'!C71=\"\",\"\",\"2029\")","v":""},{"$f":"IF('Comm Device (Desc)'!C71=\"\",\"\",'Comm Device (Desc)'!C71)","v":""},{"$f":"IF('Comm Device (Desc)'!D71=\"\",\"\",INDEX([1]OWNER!$A$2:$A$100,MATCH('Comm Device (Desc)'!$D71,[1]!MASTER_OWNER_DESC[#Data],0),0))","v":""},{"$f":"IF('Comm Device (Desc)'!F71=\"\",\"\",INDEX([1]ITS_COMM_DEV_TYPE!$A$2:$A$100,MATCH('Comm Device (Desc)'!$F71,[1]!MASTER_ITS_COMM_DEV_TYPE_DESC[#Data],0),0))","v":""},{"$f":"IF('Comm Device (Desc)'!G71=\"\",\"\",INDEX([1]COMM_TYPE!$A$2:$A$100,MATCH('Comm Device (Desc)'!$G71,[1]!MASTER_COMM_TYPE_DESC[#Data],0),0))","v":""},{"$f":"IF('Comm Device (Desc)'!H71=\"\",\"\",'Comm Device (Desc)'!H71)","v":""},{"$f":"IF('Comm Device (Desc)'!I71=\"\",\"\",'Comm Device (Desc)'!I71)","v":""},{"$f":"IF('Comm Device (Desc)'!J71=\"\",\"\",INDEX([1]ITS_COMM_DEV_MANUF!$A$2:$A$300,MATCH(1,([1]ITS_COMM_DEV_MANUF!$B$2:$B$300='Comm Device (Desc)'!$J71)*([1]ITS_COMM_DEV_MANUF!$C$2:$C$300='Comm Device (Code)'!$E71),0),0))","v":""},{"$f":"IF('Comm Device (Desc)'!K71=\"\",\"\",INDEX([1]ITS_COMM_DEV_MODEL!$A$2:$A$500,MATCH(1,([1]ITS_COMM_DEV_MODEL!$C$2:$C$500='Comm Device (Desc)'!$J71)*([1]ITS_COMM_DEV_MODEL!$D$2:$D$500='Comm Device (Code)'!$E71)*([1]ITS_COMM_DEV_MODEL!$E$2:$E$500='Comm Device (Desc)'!$K71),0),0))","v":""},{"$f":"IF('Comm Device (Desc)'!L71=\"\",\"\",'Comm Device (Desc)'!L71)","v":""},{"$f":"IF('Comm Device (Desc)'!M71=\"\",\"\",'Comm Device (Desc)'!M71)","v":""},{"$f":"IF('Comm Device (Desc)'!N71=\"\",\"\",'Comm Device (Desc)'!N71)","v":""},{"$f":"IF('Comm Device (Desc)'!O71=\"\",\"\",'Comm Device (Desc)'!O71)","v":""},{"$f":"IF('Comm Device (Desc)'!P71=\"\",\"\",INDEX([1]DEV_INPUT_VOLTAGE!$A$2:$A$100,MATCH('Comm Device (Desc)'!$P71,[1]!MASTER_DEV_INPUT_VOLTAGE_DESC[#Data],0),0))","v":""},{"$f":"IF('Comm Device (Desc)'!Q71=\"\",\"\",'Comm Device (Desc)'!Q71)","v":""},{"$f":"IF('Comm Device (Desc)'!R71=\"\",\"\",'Comm Device (Desc)'!R71)","v":""},{"$f":"IF('Comm Device (Desc)'!S71=\"\",\"\",'Comm Device (Desc)'!S71)","v":""},{"$f":"IF('Comm Device (Desc)'!T71=\"\",\"\",'Comm Device (Desc)'!T71)","v":""},{"$f":"IF('Comm Device (Desc)'!U71=\"\",\"\",'Comm Device (Desc)'!U71)","v":""},{"$f":"IF('Comm Device (Desc)'!V71=\"\",\"\",INDEX([1]FIBER_CONN_TYPE!$A$2:$A$100,MATCH('Comm Device (Desc)'!$V71,[1]!MASTER_FIBER_CONN_TYPE_DESC[#Data],0),0))","v":""}]
[{"$f":"IF('Comm Device (Desc)'!A72=\"\",\"\",'Comm Device (Desc)'!A72)","v":""},{"$f":"IF('Comm Device (Desc)'!C72=\"\",\"\",\"2029\")","v":""},{"$f":"IF('Comm Device (Desc)'!C72=\"\",\"\",'Comm Device (Desc)'!C72)","v":""},{"$f":"IF('Comm Device (Desc)'!D72=\"\",\"\",INDEX([1]OWNER!$A$2:$A$100,MATCH('Comm Device (Desc)'!$D72,[1]!MASTER_OWNER_DESC[#Data],0),0))","v":""},{"$f":"IF('Comm Device (Desc)'!F72=\"\",\"\",INDEX([1]ITS_COMM_DEV_TYPE!$A$2:$A$100,MATCH('Comm Device (Desc)'!$F72,[1]!MASTER_ITS_COMM_DEV_TYPE_DESC[#Data],0),0))","v":""},{"$f":"IF('Comm Device (Desc)'!G72=\"\",\"\",INDEX([1]COMM_TYPE!$A$2:$A$100,MATCH('Comm Device (Desc)'!$G72,[1]!MASTER_COMM_TYPE_DESC[#Data],0),0))","v":""},{"$f":"IF('Comm Device (Desc)'!H72=\"\",\"\",'Comm Device (Desc)'!H72)","v":""},{"$f":"IF('Comm Device (Desc)'!I72=\"\",\"\",'Comm Device (Desc)'!I72)","v":""},{"$f":"IF('Comm Device (Desc)'!J72=\"\",\"\",INDEX([1]ITS_COMM_DEV_MANUF!$A$2:$A$300,MATCH(1,([1]ITS_COMM_DEV_MANUF!$B$2:$B$300='Comm Device (Desc)'!$J72)*([1]ITS_COMM_DEV_MANUF!$C$2:$C$300='Comm Device (Code)'!$E72),0),0))","v":""},{"$f":"IF('Comm Device (Desc)'!K72=\"\",\"\",INDEX([1]ITS_COMM_DEV_MODEL!$A$2:$A$500,MATCH(1,([1]ITS_COMM_DEV_MODEL!$C$2:$C$500='Comm Device (Desc)'!$J72)*([1]ITS_COMM_DEV_MODEL!$D$2:$D$500='Comm Device (Code)'!$E72)*([1]ITS_COMM_DEV_MODEL!$E$2:$E$500='Comm Device (Desc)'!$K72),0),0))","v":""},{"$f":"IF('Comm Device (Desc)'!L72=\"\",\"\",'Comm Device (Desc)'!L72)","v":""},{"$f":"IF('Comm Device (Desc)'!M72=\"\",\"\",'Comm Device (Desc)'!M72)","v":""},{"$f":"IF('Comm Device (Desc)'!N72=\"\",\"\",'Comm Device (Desc)'!N72)","v":""},{"$f":"IF('Comm Device (Desc)'!O72=\"\",\"\",'Comm Device (Desc)'!O72)","v":""},{"$f":"IF('Comm Device (Desc)'!P72=\"\",\"\",INDEX([1]DEV_INPUT_VOLTAGE!$A$2:$A$100,MATCH('Comm Device (Desc)'!$P72,[1]!MASTER_DEV_INPUT_VOLTAGE_DESC[#Data],0),0))","v":""},{"$f":"IF('Comm Device (Desc)'!Q72=\"\",\"\",'Comm Device (Desc)'!Q72)","v":""},{"$f":"IF('Comm Device (Desc)'!R72=\"\",\"\",'Comm Device (Desc)'!R72)","v":""},{"$f":"IF('Comm Device (Desc)'!S72=\"\",\"\",'Comm Device (Desc)'!S72)","v":""},{"$f":"IF('Comm Device (Desc)'!T72=\"\",\"\",'Comm Device (Desc)'!T72)","v":""},{"$f":"IF('Comm Device (Desc)'!U72=\"\",\"\",'Comm Device (Desc)'!U72)","v":""},{"$f":"IF('Comm Device (Desc)'!V72=\"\",\"\",INDEX([1]FIBER_CONN_TYPE!$A$2:$A$100,MATCH('Comm Device (Desc)'!$V72,[1]!MASTER_FIBER_CONN_TYPE_DESC[#Data],0),0))","v":""}]
[{"$f":"IF('Comm Device (Desc)'!A73=\"\",\"\",'Comm Device (Desc)'!A73)","v":""},{"$f":"IF('Comm Device (Desc)'!C73=\"\",\"\",\"2029\")","v":""},{"$f":"IF('Comm Device (Desc)'!C73=\"\",\"\",'Comm Device (Desc)'!C73)","v":""},{"$f":"IF('Comm Device (Desc)'!D73=\"\",\"\",INDEX([1]OWNER!$A$2:$A$100,MATCH('Comm Device (Desc)'!$D73,[1]!MASTER_OWNER_DESC[#Data],0),0))","v":""},{"$f":"IF('Comm Device (Desc)'!F73=\"\",\"\",INDEX([1]ITS_COMM_DEV_TYPE!$A$2:$A$100,MATCH('Comm Device (Desc)'!$F73,[1]!MASTER_ITS_COMM_DEV_TYPE_DESC[#Data],0),0))","v":""},{"$f":"IF('Comm Device (Desc)'!G73=\"\",\"\",INDEX([1]COMM_TYPE!$A$2:$A$100,MATCH('Comm Device (Desc)'!$G73,[1]!MASTER_COMM_TYPE_DESC[#Data],0),0))","v":""},{"$f":"IF('Comm Device (Desc)'!H73=\"\",\"\",'Comm Device (Desc)'!H73)","v":""},{"$f":"IF('Comm Device (Desc)'!I73=\"\",\"\",'Comm Device (Desc)'!I73)","v":""},{"$f":"IF('Comm Device (Desc)'!J73=\"\",\"\",INDEX([1]ITS_COMM_DEV_MANUF!$A$2:$A$300,MATCH(1,([1]ITS_COMM_DEV_MANUF!$B$2:$B$300='Comm Device (Desc)'!$J73)*([1]ITS_COMM_DEV_MANUF!$C$2:$C$300='Comm Device (Code)'!$E73),0),0))","v":""},{"$f":"IF('Comm Device (Desc)'!K73=\"\",\"\",INDEX([1]ITS_COMM_DEV_MODEL!$A$2:$A$500,MATCH(1,([1]ITS_COMM_DEV_MODEL!$C$2:$C$500='Comm Device (Desc)'!$J73)*([1]ITS_COMM_DEV_MODEL!$D$2:$D$500='Comm Device (Code)'!$E73)*([1]ITS_COMM_DEV_MODEL!$E$2:$E$500='Comm Device (Desc)'!$K73),0),0))","v":""},{"$f":"IF('Comm Device (Desc)'!L73=\"\",\"\",'Comm Device (Desc)'!L73)","v":""},{"$f":"IF('Comm Device (Desc)'!M73=\"\",\"\",'Comm Device (Desc)'!M73)","v":""},{"$f":"IF('Comm Device (Desc)'!N73=\"\",\"\",'Comm Device (Desc)'!N73)","v":""},{"$f":"IF('Comm Device (Desc)'!O73=\"\",\"\",'Comm Device (Desc)'!O73)","v":""},{"$f":"IF('Comm Device (Desc)'!P73=\"\",\"\",INDEX([1]DEV_INPUT_VOLTAGE!$A$2:$A$100,MATCH('Comm Device (Desc)'!$P73,[1]!MASTER_DEV_INPUT_VOLTAGE_DESC[#Data],0),0))","v":""},{"$f":"IF('Comm Device (Desc)'!Q73=\"\",\"\",'Comm Device (Desc)'!Q73)","v":""},{"$f":"IF('Comm Device (Desc)'!R73=\"\",\"\",'Comm Device (Desc)'!R73)","v":""},{"$f":"IF('Comm Device (Desc)'!S73=\"\",\"\",'Comm Device (Desc)'!S73)","v":""},{"$f":"IF('Comm Device (Desc)'!T73=\"\",\"\",'Comm Device (Desc)'!T73)","v":""},{"$f":"IF('Comm Device (Desc)'!U73=\"\",\"\",'Comm Device (Desc)'!U73)","v":""},{"$f":"IF('Comm Device (Desc)'!V73=\"\",\"\",INDEX([1]FIBER_CONN_TYPE!$A$2:$A$100,MATCH('Comm Device (Desc)'!$V73,[1]!MASTER_FIBER_CONN_TYPE_DESC[#Data],0),0))","v":""}]
[{"$f":"IF('Comm Device (Desc)'!A74=\"\",\"\",'Comm Device (Desc)'!A74)","v":""},{"$f":"IF('Comm Device (Desc)'!C74=\"\",\"\",\"2029\")","v":""},{"$f":"IF('Comm Device (Desc)'!C74=\"\",\"\",'Comm Device (Desc)'!C74)","v":""},{"$f":"IF('Comm Device (Desc)'!D74=\"\",\"\",INDEX([1]OWNER!$A$2:$A$100,MATCH('Comm Device (Desc)'!$D74,[1]!MASTER_OWNER_DESC[#Data],0),0))","v":""},{"$f":"IF('Comm Device (Desc)'!F74=\"\",\"\",INDEX([1]ITS_COMM_DEV_TYPE!$A$2:$A$100,MATCH('Comm Device (Desc)'!$F74,[1]!MASTER_ITS_COMM_DEV_TYPE_DESC[#Data],0),0))","v":""},{"$f":"IF('Comm Device (Desc)'!G74=\"\",\"\",INDEX([1]COMM_TYPE!$A$2:$A$100,MATCH('Comm Device (Desc)'!$G74,[1]!MASTER_COMM_TYPE_DESC[#Data],0),0))","v":""},{"$f":"IF('Comm Device (Desc)'!H74=\"\",\"\",'Comm Device (Desc)'!H74)","v":""},{"$f":"IF('Comm Device (Desc)'!I74=\"\",\"\",'Comm Device (Desc)'!I74)","v":""},{"$f":"IF('Comm Device (Desc)'!J74=\"\",\"\",INDEX([1]ITS_COMM_DEV_MANUF!$A$2:$A$300,MATCH(1,([1]ITS_COMM_DEV_MANUF!$B$2:$B$300='Comm Device (Desc)'!$J74)*([1]ITS_COMM_DEV_MANUF!$C$2:$C$300='Comm Device (Code)'!$E74),0),0))","v":""},{"$f":"IF('Comm Device (Desc)'!K74=\"\",\"\",INDEX([1]ITS_COMM_DEV_MODEL!$A$2:$A$500,MATCH(1,([1]ITS_COMM_DEV_MODEL!$C$2:$C$500='Comm Device (Desc)'!$J74)*([1]ITS_COMM_DEV_MODEL!$D$2:$D$500='Comm Device (Code)'!$E74)*([1]ITS_COMM_DEV_MODEL!$E$2:$E$500='Comm Device (Desc)'!$K74),0),0))","v":""},{"$f":"IF('Comm Device (Desc)'!L74=\"\",\"\",'Comm Device (Desc)'!L74)","v":""},{"$f":"IF('Comm Device (Desc)'!M74=\"\",\"\",'Comm Device (Desc)'!M74)","v":""},{"$f":"IF('Comm Device (Desc)'!N74=\"\",\"\",'Comm Device (Desc)'!N74)","v":""},{"$f":"IF('Comm Device (Desc)'!O74=\"\",\"\",'Comm Device (Desc)'!O74)","v":""},{"$f":"IF('Comm Device (Desc)'!P74=\"\",\"\",INDEX([1]DEV_INPUT_VOLTAGE!$A$2:$A$100,MATCH('Comm Device (Desc)'!$P74,[1]!MASTER_DEV_INPUT_VOLTAGE_DESC[#Data],0),0))","v":""},{"$f":"IF('Comm Device (Desc)'!Q74=\"\",\"\",'Comm Device (Desc)'!Q74)","v":""},{"$f":"IF('Comm Device (Desc)'!R74=\"\",\"\",'Comm Device (Desc)'!R74)","v":""},{"$f":"IF('Comm Device (Desc)'!S74=\"\",\"\",'Comm Device (Desc)'!S74)","v":""},{"$f":"IF('Comm Device (Desc)'!T74=\"\",\"\",'Comm Device (Desc)'!T74)","v":""},{"$f":"IF('Comm Device (Desc)'!U74=\"\",\"\",'Comm Device (Desc)'!U74)","v":""},{"$f":"IF('Comm Device (Desc)'!V74=\"\",\"\",INDEX([1]FIBER_CONN_TYPE!$A$2:$A$100,MATCH('Comm Device (Desc)'!$V74,[1]!MASTER_FIBER_CONN_TYPE_DESC[#Data],0),0))","v":""}]
[{"$f":"IF('Comm Device (Desc)'!A75=\"\",\"\",'Comm Device (Desc)'!A75)","v":""},{"$f":"IF('Comm Device (Desc)'!C75=\"\",\"\",\"2029\")","v":""},{"$f":"IF('Comm Device (Desc)'!C75=\"\",\"\",'Comm Device (Desc)'!C75)","v":""},{"$f":"IF('Comm Device (Desc)'!D75=\"\",\"\",INDEX([1]OWNER!$A$2:$A$100,MATCH('Comm Device (Desc)'!$D75,[1]!MASTER_OWNER_DESC[#Data],0),0))","v":""},{"$f":"IF('Comm Device (Desc)'!F75=\"\",\"\",INDEX([1]ITS_COMM_DEV_TYPE!$A$2:$A$100,MATCH('Comm Device (Desc)'!$F75,[1]!MASTER_ITS_COMM_DEV_TYPE_DESC[#Data],0),0))","v":""},{"$f":"IF('Comm Device (Desc)'!G75=\"\",\"\",INDEX([1]COMM_TYPE!$A$2:$A$100,MATCH('Comm Device (Desc)'!$G75,[1]!MASTER_COMM_TYPE_DESC[#Data],0),0))","v":""},{"$f":"IF('Comm Device (Desc)'!H75=\"\",\"\",'Comm Device (Desc)'!H75)","v":""},{"$f":"IF('Comm Device (Desc)'!I75=\"\",\"\",'Comm Device (Desc)'!I75)","v":""},{"$f":"IF('Comm Device (Desc)'!J75=\"\",\"\",INDEX([1]ITS_COMM_DEV_MANUF!$A$2:$A$300,MATCH(1,([1]ITS_COMM_DEV_MANUF!$B$2:$B$300='Comm Device (Desc)'!$J75)*([1]ITS_COMM_DEV_MANUF!$C$2:$C$300='Comm Device (Code)'!$E75),0),0))","v":""},{"$f":"IF('Comm Device (Desc)'!K75=\"\",\"\",INDEX([1]ITS_COMM_DEV_MODEL!$A$2:$A$500,MATCH(1,([1]ITS_COMM_DEV_MODEL!$C$2:$C$500='Comm Device (Desc)'!$J75)*([1]ITS_COMM_DEV_MODEL!$D$2:$D$500='Comm Device (Code)'!$E75)*([1]ITS_COMM_DEV_MODEL!$E$2:$E$500='Comm Device (Desc)'!$K75),0),0))","v":""},{"$f":"IF('Comm Device (Desc)'!L75=\"\",\"\",'Comm Device (Desc)'!L75)","v":""},{"$f":"IF('Comm Device (Desc)'!M75=\"\",\"\",'Comm Device (Desc)'!M75)","v":""},{"$f":"IF('Comm Device (Desc)'!N75=\"\",\"\",'Comm Device (Desc)'!N75)","v":""},{"$f":"IF('Comm Device (Desc)'!O75=\"\",\"\",'Comm Device (Desc)'!O75)","v":""},{"$f":"IF('Comm Device (Desc)'!P75=\"\",\"\",INDEX([1]DEV_INPUT_VOLTAGE!$A$2:$A$100,MATCH('Comm Device (Desc)'!$P75,[1]!MASTER_DEV_INPUT_VOLTAGE_DESC[#Data],0),0))","v":""},{"$f":"IF('Comm Device (Desc)'!Q75=\"\",\"\",'Comm Device (Desc)'!Q75)","v":""},{"$f":"IF('Comm Device (Desc)'!R75=\"\",\"\",'Comm Device (Desc)'!R75)","v":""},{"$f":"IF('Comm Device (Desc)'!S75=\"\",\"\",'Comm Device (Desc)'!S75)","v":""},{"$f":"IF('Comm Device (Desc)'!T75=\"\",\"\",'Comm Device (Desc)'!T75)","v":""},{"$f":"IF('Comm Device (Desc)'!U75=\"\",\"\",'Comm Device (Desc)'!U75)","v":""},{"$f":"IF('Comm Device (Desc)'!V75=\"\",\"\",INDEX([1]FIBER_CONN_TYPE!$A$2:$A$100,MATCH('Comm Device (Desc)'!$V75,[1]!MASTER_FIBER_CONN_TYPE_DESC[#Data],0),0))","v":""}]
[{"$f":"IF('Comm Device (Desc)'!A76=\"\",\"\",'Comm Device (Desc)'!A76)","v":""},{"$f":"IF('Comm Device (Desc)'!C76=\"\",\"\",\"2029\")","v":""},{"$f":"IF('Comm Device (Desc)'!C76=\"\",\"\",'Comm Device (Desc)'!C76)","v":""},{"$f":"IF('Comm Device (Desc)'!D76=\"\",\"\",INDEX([1]OWNER!$A$2:$A$100,MATCH('Comm Device (Desc)'!$D76,[1]!MASTER_OWNER_DESC[#Data],0),0))","v":""},{"$f":"IF('Comm Device (Desc)'!F76=\"\",\"\",INDEX([1]ITS_COMM_DEV_TYPE!$A$2:$A$100,MATCH('Comm Device (Desc)'!$F76,[1]!MASTER_ITS_COMM_DEV_TYPE_DESC[#Data],0),0))","v":""},{"$f":"IF('Comm Device (Desc)'!G76=\"\",\"\",INDEX([1]COMM_TYPE!$A$2:$A$100,MATCH('Comm Device (Desc)'!$G76,[1]!MASTER_COMM_TYPE_DESC[#Data],0),0))","v":""},{"$f":"IF('Comm Device (Desc)'!H76=\"\",\"\",'Comm Device (Desc)'!H76)","v":""},{"$f":"IF('Comm Device (Desc)'!I76=\"\",\"\",'Comm Device (Desc)'!I76)","v":""},{"$f":"IF('Comm Device (Desc)'!J76=\"\",\"\",INDEX([1]ITS_COMM_DEV_MANUF!$A$2:$A$300,MATCH(1,([1]ITS_COMM_DEV_MANUF!$B$2:$B$300='Comm Device (Desc)'!$J76)*([1]ITS_COMM_DEV_MANUF!$C$2:$C$300='Comm Device (Code)'!$E76),0),0))","v":""},{"$f":"IF('Comm Device (Desc)'!K76=\"\",\"\",INDEX([1]ITS_COMM_DEV_MODEL!$A$2:$A$500,MATCH(1,([1]ITS_COMM_DEV_MODEL!$C$2:$C$500='Comm Device (Desc)'!$J76)*([1]ITS_COMM_DEV_MODEL!$D$2:$D$500='Comm Device (Code)'!$E76)*([1]ITS_COMM_DEV_MODEL!$E$2:$E$500='Comm Device (Desc)'!$K76),0),0))","v":""},{"$f":"IF('Comm Device (Desc)'!L76=\"\",\"\",'Comm Device (Desc)'!L76)","v":""},{"$f":"IF('Comm Device (Desc)'!M76=\"\",\"\",'Comm Device (Desc)'!M76)","v":""},{"$f":"IF('Comm Device (Desc)'!N76=\"\",\"\",'Comm Device (Desc)'!N76)","v":""},{"$f":"IF('Comm Device (Desc)'!O76=\"\",\"\",'Comm Device (Desc)'!O76)","v":""},{"$f":"IF('Comm Device (Desc)'!P76=\"\",\"\",INDEX([1]DEV_INPUT_VOLTAGE!$A$2:$A$100,MATCH('Comm Device (Desc)'!$P76,[1]!MASTER_DEV_INPUT_VOLTAGE_DESC[#Data],0),0))","v":""},{"$f":"IF('Comm Device (Desc)'!Q76=\"\",\"\",'Comm Device (Desc)'!Q76)","v":""},{"$f":"IF('Comm Device (Desc)'!R76=\"\",\"\",'Comm Device (Desc)'!R76)","v":""},{"$f":"IF('Comm Device (Desc)'!S76=\"\",\"\",'Comm Device (Desc)'!S76)","v":""},{"$f":"IF('Comm Device (Desc)'!T76=\"\",\"\",'Comm Device (Desc)'!T76)","v":""},{"$f":"IF('Comm Device (Desc)'!U76=\"\",\"\",'Comm Device (Desc)'!U76)","v":""},{"$f":"IF('Comm Device (Desc)'!V76=\"\",\"\",INDEX([1]FIBER_CONN_TYPE!$A$2:$A$100,MATCH('Comm Device (Desc)'!$V76,[1]!MASTER_FIBER_CONN_TYPE_DESC[#Data],0),0))","v":""}]
[{"$f":"IF('Comm Device (Desc)'!A77=\"\",\"\",'Comm Device (Desc)'!A77)","v":""},{"$f":"IF('Comm Device (Desc)'!C77=\"\",\"\",\"2029\")","v":""},{"$f":"IF('Comm Device (Desc)'!C77=\"\",\"\",'Comm Device (Desc)'!C77)","v":""},{"$f":"IF('Comm Device (Desc)'!D77=\"\",\"\",INDEX([1]OWNER!$A$2:$A$100,MATCH('Comm Device (Desc)'!$D77,[1]!MASTER_OWNER_DESC[#Data],0),0))","v":""},{"$f":"IF('Comm Device (Desc)'!F77=\"\",\"\",INDEX([1]ITS_COMM_DEV_TYPE!$A$2:$A$100,MATCH('Comm Device (Desc)'!$F77,[1]!MASTER_ITS_COMM_DEV_TYPE_DESC[#Data],0),0))","v":""},{"$f":"IF('Comm Device (Desc)'!G77=\"\",\"\",INDEX([1]COMM_TYPE!$A$2:$A$100,MATCH('Comm Device (Desc)'!$G77,[1]!MASTER_COMM_TYPE_DESC[#Data],0),0))","v":""},{"$f":"IF('Comm Device (Desc)'!H77=\"\",\"\",'Comm Device (Desc)'!H77)","v":""},{"$f":"IF('Comm Device (Desc)'!I77=\"\",\"\",'Comm Device (Desc)'!I77)","v":""},{"$f":"IF('Comm Device (Desc)'!J77=\"\",\"\",INDEX([1]ITS_COMM_DEV_MANUF!$A$2:$A$300,MATCH(1,([1]ITS_COMM_DEV_MANUF!$B$2:$B$300='Comm Device (Desc)'!$J77)*([1]ITS_COMM_DEV_MANUF!$C$2:$C$300='Comm Device (Code)'!$E77),0),0))","v":""},{"$f":"IF('Comm Device (Desc)'!K77=\"\",\"\",INDEX([1]ITS_COMM_DEV_MODEL!$A$2:$A$500,MATCH(1,([1]ITS_COMM_DEV_MODEL!$C$2:$C$500='Comm Device (Desc)'!$J77)*([1]ITS_COMM_DEV_MODEL!$D$2:$D$500='Comm Device (Code)'!$E77)*([1]ITS_COMM_DEV_MODEL!$E$2:$E$500='Comm Device (Desc)'!$K77),0),0))","v":""},{"$f":"IF('Comm Device (Desc)'!L77=\"\",\"\",'Comm Device (Desc)'!L77)","v":""},{"$f":"IF('Comm Device (Desc)'!M77=\"\",\"\",'Comm Device (Desc)'!M77)","v":""},{"$f":"IF('Comm Device (Desc)'!N77=\"\",\"\",'Comm Device (Desc)'!N77)","v":""},{"$f":"IF('Comm Device (Desc)'!O77=\"\",\"\",'Comm Device (Desc)'!O77)","v":""},{"$f":"IF('Comm Device (Desc)'!P77=\"\",\"\",INDEX([1]DEV_INPUT_VOLTAGE!$A$2:$A$100,MATCH('Comm Device (Desc)'!$P77,[1]!MASTER_DEV_INPUT_VOLTAGE_DESC[#Data],0),0))","v":""},{"$f":"IF('Comm Device (Desc)'!Q77=\"\",\"\",'Comm Device (Desc)'!Q77)","v":""},{"$f":"IF('Comm Device (Desc)'!R77=\"\",\"\",'Comm Device (Desc)'!R77)","v":""},{"$f":"IF('Comm Device (Desc)'!S77=\"\",\"\",'Comm Device (Desc)'!S77)","v":""},{"$f":"IF('Comm Device (Desc)'!T77=\"\",\"\",'Comm Device (Desc)'!T77)","v":""},{"$f":"IF('Comm Device (Desc)'!U77=\"\",\"\",'Comm Device (Desc)'!U77)","v":""},{"$f":"IF('Comm Device (Desc)'!V77=\"\",\"\",INDEX([1]FIBER_CONN_TYPE!$A$2:$A$100,MATCH('Comm Device (Desc)'!$V77,[1]!MASTER_FIBER_CONN_TYPE_DESC[#Data],0),0))","v":""}]
[{"$f":"IF('Comm Device (Desc)'!A78=\"\",\"\",'Comm Device (Desc)'!A78)","v":""},{"$f":"IF('Comm Device (Desc)'!C78=\"\",\"\",\"2029\")","v":""},{"$f":"IF('Comm Device (Desc)'!C78=\"\",\"\",'Comm Device (Desc)'!C78)","v":""},{"$f":"IF('Comm Device (Desc)'!D78=\"\",\"\",INDEX([1]OWNER!$A$2:$A$100,MATCH('Comm Device (Desc)'!$D78,[1]!MASTER_OWNER_DESC[#Data],0),0))","v":""},{"$f":"IF('Comm Device (Desc)'!F78=\"\",\"\",INDEX([1]ITS_COMM_DEV_TYPE!$A$2:$A$100,MATCH('Comm Device (Desc)'!$F78,[1]!MASTER_ITS_COMM_DEV_TYPE_DESC[#Data],0),0))","v":""},{"$f":"IF('Comm Device (Desc)'!G78=\"\",\"\",INDEX([1]COMM_TYPE!$A$2:$A$100,MATCH('Comm Device (Desc)'!$G78,[1]!MASTER_COMM_TYPE_DESC[#Data],0),0))","v":""},{"$f":"IF('Comm Device (Desc)'!H78=\"\",\"\",'Comm Device (Desc)'!H78)","v":""},{"$f":"IF('Comm Device (Desc)'!I78=\"\",\"\",'Comm Device (Desc)'!I78)","v":""},{"$f":"IF('Comm Device (Desc)'!J78=\"\",\"\",INDEX([1]ITS_COMM_DEV_MANUF!$A$2:$A$300,MATCH(1,([1]ITS_COMM_DEV_MANUF!$B$2:$B$300='Comm Device (Desc)'!$J78)*([1]ITS_COMM_DEV_MANUF!$C$2:$C$300='Comm Device (Code)'!$E78),0),0))","v":""},{"$f":"IF('Comm Device (Desc)'!K78=\"\",\"\",INDEX([1]ITS_COMM_DEV_MODEL!$A$2:$A$500,MATCH(1,([1]ITS_COMM_DEV_MODEL!$C$2:$C$500='Comm Device (Desc)'!$J78)*([1]ITS_COMM_DEV_MODEL!$D$2:$D$500='Comm Device (Code)'!$E78)*([1]ITS_COMM_DEV_MODEL!$E$2:$E$500='Comm Device (Desc)'!$K78),0),0))","v":""},{"$f":"IF('Comm Device (Desc)'!L78=\"\",\"\",'Comm Device (Desc)'!L78)","v":""},{"$f":"IF('Comm Device (Desc)'!M78=\"\",\"\",'Comm Device (Desc)'!M78)","v":""},{"$f":"IF('Comm Device (Desc)'!N78=\"\",\"\",'Comm Device (Desc)'!N78)","v":""},{"$f":"IF('Comm Device (Desc)'!O78=\"\",\"\",'Comm Device (Desc)'!O78)","v":""},{"$f":"IF('Comm Device (Desc)'!P78=\"\",\"\",INDEX([1]DEV_INPUT_VOLTAGE!$A$2:$A$100,MATCH('Comm Device (Desc)'!$P78,[1]!MASTER_DEV_INPUT_VOLTAGE_DESC[#Data],0),0))","v":""},{"$f":"IF('Comm Device (Desc)'!Q78=\"\",\"\",'Comm Device (Desc)'!Q78)","v":""},{"$f":"IF('Comm Device (Desc)'!R78=\"\",\"\",'Comm Device (Desc)'!R78)","v":""},{"$f":"IF('Comm Device (Desc)'!S78=\"\",\"\",'Comm Device (Desc)'!S78)","v":""},{"$f":"IF('Comm Device (Desc)'!T78=\"\",\"\",'Comm Device (Desc)'!T78)","v":""},{"$f":"IF('Comm Device (Desc)'!U78=\"\",\"\",'Comm Device (Desc)'!U78)","v":""},{"$f":"IF('Comm Device (Desc)'!V78=\"\",\"\",INDEX([1]FIBER_CONN_TYPE!$A$2:$A$100,MATCH('Comm Device (Desc)'!$V78,[1]!MASTER_FIBER_CONN_TYPE_DESC[#Data],0),0))","v":""}]
[{"$f":"IF('Comm Device (Desc)'!A79=\"\",\"\",'Comm Device (Desc)'!A79)","v":""},{"$f":"IF('Comm Device (Desc)'!C79=\"\",\"\",\"2029\")","v":""},{"$f":"IF('Comm Device (Desc)'!C79=\"\",\"\",'Comm Device (Desc)'!C79)","v":""},{"$f":"IF('Comm Device (Desc)'!D79=\"\",\"\",INDEX([1]OWNER!$A$2:$A$100,MATCH('Comm Device (Desc)'!$D79,[1]!MASTER_OWNER_DESC[#Data],0),0))","v":""},{"$f":"IF('Comm Device (Desc)'!F79=\"\",\"\",INDEX([1]ITS_COMM_DEV_TYPE!$A$2:$A$100,MATCH('Comm Device (Desc)'!$F79,[1]!MASTER_ITS_COMM_DEV_TYPE_DESC[#Data],0),0))","v":""},{"$f":"IF('Comm Device (Desc)'!G79=\"\",\"\",INDEX([1]COMM_TYPE!$A$2:$A$100,MATCH('Comm Device (Desc)'!$G79,[1]!MASTER_COMM_TYPE_DESC[#Data],0),0))","v":""},{"$f":"IF('Comm Device (Desc)'!H79=\"\",\"\",'Comm Device (Desc)'!H79)","v":""},{"$f":"IF('Comm Device (Desc)'!I79=\"\",\"\",'Comm Device (Desc)'!I79)","v":""},{"$f":"IF('Comm Device (Desc)'!J79=\"\",\"\",INDEX([1]ITS_COMM_DEV_MANUF!$A$2:$A$300,MATCH(1,([1]ITS_COMM_DEV_MANUF!$B$2:$B$300='Comm Device (Desc)'!$J79)*([1]ITS_COMM_DEV_MANUF!$C$2:$C$300='Comm Device (Code)'!$E79),0),0))","v":""},{"$f":"IF('Comm Device (Desc)'!K79=\"\",\"\",INDEX([1]ITS_COMM_DEV_MODEL!$A$2:$A$500,MATCH(1,([1]ITS_COMM_DEV_MODEL!$C$2:$C$500='Comm Device (Desc)'!$J79)*([1]ITS_COMM_DEV_MODEL!$D$2:$D$500='Comm Device (Code)'!$E79)*([1]ITS_COMM_DEV_MODEL!$E$2:$E$500='Comm Device (Desc)'!$K79),0),0))","v":""},{"$f":"IF('Comm Device (Desc)'!L79=\"\",\"\",'Comm Device (Desc)'!L79)","v":""},{"$f":"IF('Comm Device (Desc)'!M79=\"\",\"\",'Comm Device (Desc)'!M79)","v":""},{"$f":"IF('Comm Device (Desc)'!N79=\"\",\"\",'Comm Device (Desc)'!N79)","v":""},{"$f":"IF('Comm Device (Desc)'!O79=\"\",\"\",'Comm Device (Desc)'!O79)","v":""},{"$f":"IF('Comm Device (Desc)'!P79=\"\",\"\",INDEX([1]DEV_INPUT_VOLTAGE!$A$2:$A$100,MATCH('Comm Device (Desc)'!$P79,[1]!MASTER_DEV_INPUT_VOLTAGE_DESC[#Data],0),0))","v":""},{"$f":"IF('Comm Device (Desc)'!Q79=\"\",\"\",'Comm Device (Desc)'!Q79)","v":""},{"$f":"IF('Comm Device (Desc)'!R79=\"\",\"\",'Comm Device (Desc)'!R79)","v":""},{"$f":"IF('Comm Device (Desc)'!S79=\"\",\"\",'Comm Device (Desc)'!S79)","v":""},{"$f":"IF('Comm Device (Desc)'!T79=\"\",\"\",'Comm Device (Desc)'!T79)","v":""},{"$f":"IF('Comm Device (Desc)'!U79=\"\",\"\",'Comm Device (Desc)'!U79)","v":""},{"$f":"IF('Comm Device (Desc)'!V79=\"\",\"\",INDEX([1]FIBER_CONN_TYPE!$A$2:$A$100,MATCH('Comm Device (Desc)'!$V79,[1]!MASTER_FIBER_CONN_TYPE_DESC[#Data],0),0))","v":""}]
[{"$f":"IF('Comm Device (Desc)'!A80=\"\",\"\",'Comm Device (Desc)'!A80)","v":""},{"$f":"IF('Comm Device (Desc)'!C80=\"\",\"\",\"2029\")","v":""},{"$f":"IF('Comm Device (Desc)'!C80=\"\",\"\",'Comm Device (Desc)'!C80)","v":""},{"$f":"IF('Comm Device (Desc)'!D80=\"\",\"\",INDEX([1]OWNER!$A$2:$A$100,MATCH('Comm Device (Desc)'!$D80,[1]!MASTER_OWNER_DESC[#Data],0),0))","v":""},{"$f":"IF('Comm Device (Desc)'!F80=\"\",\"\",INDEX([1]ITS_COMM_DEV_TYPE!$A$2:$A$100,MATCH('Comm Device (Desc)'!$F80,[1]!MASTER_ITS_COMM_DEV_TYPE_DESC[#Data],0),0))","v":""},{"$f":"IF('Comm Device (Desc)'!G80=\"\",\"\",INDEX([1]COMM_TYPE!$A$2:$A$100,MATCH('Comm Device (Desc)'!$G80,[1]!MASTER_COMM_TYPE_DESC[#Data],0),0))","v":""},{"$f":"IF('Comm Device (Desc)'!H80=\"\",\"\",'Comm Device (Desc)'!H80)","v":""},{"$f":"IF('Comm Device (Desc)'!I80=\"\",\"\",'Comm Device (Desc)'!I80)","v":""},{"$f":"IF('Comm Device (Desc)'!J80=\"\",\"\",INDEX([1]ITS_COMM_DEV_MANUF!$A$2:$A$300,MATCH(1,([1]ITS_COMM_DEV_MANUF!$B$2:$B$300='Comm Device (Desc)'!$J80)*([1]ITS_COMM_DEV_MANUF!$C$2:$C$300='Comm Device (Code)'!$E80),0),0))","v":""},{"$f":"IF('Comm Device (Desc)'!K80=\"\",\"\",INDEX([1]ITS_COMM_DEV_MODEL!$A$2:$A$500,MATCH(1,([1]ITS_COMM_DEV_MODEL!$C$2:$C$500='Comm Device (Desc)'!$J80)*([1]ITS_COMM_DEV_MODEL!$D$2:$D$500='Comm Device (Code)'!$E80)*([1]ITS_COMM_DEV_MODEL!$E$2:$E$500='Comm Device (Desc)'!$K80),0),0))","v":""},{"$f":"IF('Comm Device (Desc)'!L80=\"\",\"\",'Comm Device (Desc)'!L80)","v":""},{"$f":"IF('Comm Device (Desc)'!M80=\"\",\"\",'Comm Device (Desc)'!M80)","v":""},{"$f":"IF('Comm Device (Desc)'!N80=\"\",\"\",'Comm Device (Desc)'!N80)","v":""},{"$f":"IF('Comm Device (Desc)'!O80=\"\",\"\",'Comm Device (Desc)'!O80)","v":""},{"$f":"IF('Comm Device (Desc)'!P80=\"\",\"\",INDEX([1]DEV_INPUT_VOLTAGE!$A$2:$A$100,MATCH('Comm Device (Desc)'!$P80,[1]!MASTER_DEV_INPUT_VOLTAGE_DESC[#Data],0),0))","v":""},{"$f":"IF('Comm Device (Desc)'!Q80=\"\",\"\",'Comm Device (Desc)'!Q80)","v":""},{"$f":"IF('Comm Device (Desc)'!R80=\"\",\"\",'Comm Device (Desc)'!R80)","v":""},{"$f":"IF('Comm Device (Desc)'!S80=\"\",\"\",'Comm Device (Desc)'!S80)","v":""},{"$f":"IF('Comm Device (Desc)'!T80=\"\",\"\",'Comm Device (Desc)'!T80)","v":""},{"$f":"IF('Comm Device (Desc)'!U80=\"\",\"\",'Comm Device (Desc)'!U80)","v":""},{"$f":"IF('Comm Device (Desc)'!V80=\"\",\"\",INDEX([1]FIBER_CONN_TYPE!$A$2:$A$100,MATCH('Comm Device (Desc)'!$V80,[1]!MASTER_FIBER_CONN_TYPE_DESC[#Data],0),0))","v":""}]
[{"$f":"IF('Comm Device (Desc)'!A81=\"\",\"\",'Comm Device (Desc)'!A81)","v":""},{"$f":"IF('Comm Device (Desc)'!C81=\"\",\"\",\"2029\")","v":""},{"$f":"IF('Comm Device (Desc)'!C81=\"\",\"\",'Comm Device (Desc)'!C81)","v":""},{"$f":"IF('Comm Device (Desc)'!D81=\"\",\"\",INDEX([1]OWNER!$A$2:$A$100,MATCH('Comm Device (Desc)'!$D81,[1]!MASTER_OWNER_DESC[#Data],0),0))","v":""},{"$f":"IF('Comm Device (Desc)'!F81=\"\",\"\",INDEX([1]ITS_COMM_DEV_TYPE!$A$2:$A$100,MATCH('Comm Device (Desc)'!$F81,[1]!MASTER_ITS_COMM_DEV_TYPE_DESC[#Data],0),0))","v":""},{"$f":"IF('Comm Device (Desc)'!G81=\"\",\"\",INDEX([1]COMM_TYPE!$A$2:$A$100,MATCH('Comm Device (Desc)'!$G81,[1]!MASTER_COMM_TYPE_DESC[#Data],0),0))","v":""},{"$f":"IF('Comm Device (Desc)'!H81=\"\",\"\",'Comm Device (Desc)'!H81)","v":""},{"$f":"IF('Comm Device (Desc)'!I81=\"\",\"\",'Comm Device (Desc)'!I81)","v":""},{"$f":"IF('Comm Device (Desc)'!J81=\"\",\"\",INDEX([1]ITS_COMM_DEV_MANUF!$A$2:$A$300,MATCH(1,([1]ITS_COMM_DEV_MANUF!$B$2:$B$300='Comm Device (Desc)'!$J81)*([1]ITS_COMM_DEV_MANUF!$C$2:$C$300='Comm Device (Code)'!$E81),0),0))","v":""},{"$f":"IF('Comm Device (Desc)'!K81=\"\",\"\",INDEX([1]ITS_COMM_DEV_MODEL!$A$2:$A$500,MATCH(1,([1]ITS_COMM_DEV_MODEL!$C$2:$C$500='Comm Device (Desc)'!$J81)*([1]ITS_COMM_DEV_MODEL!$D$2:$D$500='Comm Device (Code)'!$E81)*([1]ITS_COMM_DEV_MODEL!$E$2:$E$500='Comm Device (Desc)'!$K81),0),0))","v":""},{"$f":"IF('Comm Device (Desc)'!L81=\"\",\"\",'Comm Device (Desc)'!L81)","v":""},{"$f":"IF('Comm Device (Desc)'!M81=\"\",\"\",'Comm Device (Desc)'!M81)","v":""},{"$f":"IF('Comm Device (Desc)'!N81=\"\",\"\",'Comm Device (Desc)'!N81)","v":""},{"$f":"IF('Comm Device (Desc)'!O81=\"\",\"\",'Comm Device (Desc)'!O81)","v":""},{"$f":"IF('Comm Device (Desc)'!P81=\"\",\"\",INDEX([1]DEV_INPUT_VOLTAGE!$A$2:$A$100,MATCH('Comm Device (Desc)'!$P81,[1]!MASTER_DEV_INPUT_VOLTAGE_DESC[#Data],0),0))","v":""},{"$f":"IF('Comm Device (Desc)'!Q81=\"\",\"\",'Comm Device (Desc)'!Q81)","v":""},{"$f":"IF('Comm Device (Desc)'!R81=\"\",\"\",'Comm Device (Desc)'!R81)","v":""},{"$f":"IF('Comm Device (Desc)'!S81=\"\",\"\",'Comm Device (Desc)'!S81)","v":""},{"$f":"IF('Comm Device (Desc)'!T81=\"\",\"\",'Comm Device (Desc)'!T81)","v":""},{"$f":"IF('Comm Device (Desc)'!U81=\"\",\"\",'Comm Device (Desc)'!U81)","v":""},{"$f":"IF('Comm Device (Desc)'!V81=\"\",\"\",INDEX([1]FIBER_CONN_TYPE!$A$2:$A$100,MATCH('Comm Device (Desc)'!$V81,[1]!MASTER_FIBER_CONN_TYPE_DESC[#Data],0),0))","v":""}]
[{"$f":"IF('Comm Device (Desc)'!A82=\"\",\"\",'Comm Device (Desc)'!A82)","v":""},{"$f":"IF('Comm Device (Desc)'!C82=\"\",\"\",\"2029\")","v":""},{"$f":"IF('Comm Device (Desc)'!C82=\"\",\"\",'Comm Device (Desc)'!C82)","v":""},{"$f":"IF('Comm Device (Desc)'!D82=\"\",\"\",INDEX([1]OWNER!$A$2:$A$100,MATCH('Comm Device (Desc)'!$D82,[1]!MASTER_OWNER_DESC[#Data],0),0))","v":""},{"$f":"IF('Comm Device (Desc)'!F82=\"\",\"\",INDEX([1]ITS_COMM_DEV_TYPE!$A$2:$A$100,MATCH('Comm Device (Desc)'!$F82,[1]!MASTER_ITS_COMM_DEV_TYPE_DESC[#Data],0),0))","v":""},{"$f":"IF('Comm Device (Desc)'!G82=\"\",\"\",INDEX([1]COMM_TYPE!$A$2:$A$100,MATCH('Comm Device (Desc)'!$G82,[1]!MASTER_COMM_TYPE_DESC[#Data],0),0))","v":""},{"$f":"IF('Comm Device (Desc)'!H82=\"\",\"\",'Comm Device (Desc)'!H82)","v":""},{"$f":"IF('Comm Device (Desc)'!I82=\"\",\"\",'Comm Device (Desc)'!I82)","v":""},{"$f":"IF('Comm Device (Desc)'!J82=\"\",\"\",INDEX([1]ITS_COMM_DEV_MANUF!$A$2:$A$300,MATCH(1,([1]ITS_COMM_DEV_MANUF!$B$2:$B$300='Comm Device (Desc)'!$J82)*([1]ITS_COMM_DEV_MANUF!$C$2:$C$300='Comm Device (Code)'!$E82),0),0))","v":""},{"$f":"IF('Comm Device (Desc)'!K82=\"\",\"\",INDEX([1]ITS_COMM_DEV_MODEL!$A$2:$A$500,MATCH(1,([1]ITS_COMM_DEV_MODEL!$C$2:$C$500='Comm Device (Desc)'!$J82)*([1]ITS_COMM_DEV_MODEL!$D$2:$D$500='Comm Device (Code)'!$E82)*([1]ITS_COMM_DEV_MODEL!$E$2:$E$500='Comm Device (Desc)'!$K82),0),0))","v":""},{"$f":"IF('Comm Device (Desc)'!L82=\"\",\"\",'Comm Device (Desc)'!L82)","v":""},{"$f":"IF('Comm Device (Desc)'!M82=\"\",\"\",'Comm Device (Desc)'!M82)","v":""},{"$f":"IF('Comm Device (Desc)'!N82=\"\",\"\",'Comm Device (Desc)'!N82)","v":""},{"$f":"IF('Comm Device (Desc)'!O82=\"\",\"\",'Comm Device (Desc)'!O82)","v":""},{"$f":"IF('Comm Device (Desc)'!P82=\"\",\"\",INDEX([1]DEV_INPUT_VOLTAGE!$A$2:$A$100,MATCH('Comm Device (Desc)'!$P82,[1]!MASTER_DEV_INPUT_VOLTAGE_DESC[#Data],0),0))","v":""},{"$f":"IF('Comm Device (Desc)'!Q82=\"\",\"\",'Comm Device (Desc)'!Q82)","v":""},{"$f":"IF('Comm Device (Desc)'!R82=\"\",\"\",'Comm Device (Desc)'!R82)","v":""},{"$f":"IF('Comm Device (Desc)'!S82=\"\",\"\",'Comm Device (Desc)'!S82)","v":""},{"$f":"IF('Comm Device (Desc)'!T82=\"\",\"\",'Comm Device (Desc)'!T82)","v":""},{"$f":"IF('Comm Device (Desc)'!U82=\"\",\"\",'Comm Device (Desc)'!U82)","v":""},{"$f":"IF('Comm Device (Desc)'!V82=\"\",\"\",INDEX([1]FIBER_CONN_TYPE!$A$2:$A$100,MATCH('Comm Device (Desc)'!$V82,[1]!MASTER_FIBER_CONN_TYPE_DESC[#Data],0),0))","v":""}]
[{"$f":"IF('Comm Device (Desc)'!A83=\"\",\"\",'Comm Device (Desc)'!A83)","v":""},{"$f":"IF('Comm Device (Desc)'!C83=\"\",\"\",\"2029\")","v":""},{"$f":"IF('Comm Device (Desc)'!C83=\"\",\"\",'Comm Device (Desc)'!C83)","v":""},{"$f":"IF('Comm Device (Desc)'!D83=\"\",\"\",INDEX([1]OWNER!$A$2:$A$100,MATCH('Comm Device (Desc)'!$D83,[1]!MASTER_OWNER_DESC[#Data],0),0))","v":""},{"$f":"IF('Comm Device (Desc)'!F83=\"\",\"\",INDEX([1]ITS_COMM_DEV_TYPE!$A$2:$A$100,MATCH('Comm Device (Desc)'!$F83,[1]!MASTER_ITS_COMM_DEV_TYPE_DESC[#Data],0),0))","v":""},{"$f":"IF('Comm Device (Desc)'!G83=\"\",\"\",INDEX([1]COMM_TYPE!$A$2:$A$100,MATCH('Comm Device (Desc)'!$G83,[1]!MASTER_COMM_TYPE_DESC[#Data],0),0))","v":""},{"$f":"IF('Comm Device (Desc)'!H83=\"\",\"\",'Comm Device (Desc)'!H83)","v":""},{"$f":"IF('Comm Device (Desc)'!I83=\"\",\"\",'Comm Device (Desc)'!I83)","v":""},{"$f":"IF('Comm Device (Desc)'!J83=\"\",\"\",INDEX([1]ITS_COMM_DEV_MANUF!$A$2:$A$300,MATCH(1,([1]ITS_COMM_DEV_MANUF!$B$2:$B$300='Comm Device (Desc)'!$J83)*([1]ITS_COMM_DEV_MANUF!$C$2:$C$300='Comm Device (Code)'!$E83),0),0))","v":""},{"$f":"IF('Comm Device (Desc)'!K83=\"\",\"\",INDEX([1]ITS_COMM_DEV_MODEL!$A$2:$A$500,MATCH(1,([1]ITS_COMM_DEV_MODEL!$C$2:$C$500='Comm Device (Desc)'!$J83)*([1]ITS_COMM_DEV_MODEL!$D$2:$D$500='Comm Device (Code)'!$E83)*([1]ITS_COMM_DEV_MODEL!$E$2:$E$500='Comm Device (Desc)'!$K83),0),0))","v":""},{"$f":"IF('Comm Device (Desc)'!L83=\"\",\"\",'Comm Device (Desc)'!L83)","v":""},{"$f":"IF('Comm Device (Desc)'!M83=\"\",\"\",'Comm Device (Desc)'!M83)","v":""},{"$f":"IF('Comm Device (Desc)'!N83=\"\",\"\",'Comm Device (Desc)'!N83)","v":""},{"$f":"IF('Comm Device (Desc)'!O83=\"\",\"\",'Comm Device (Desc)'!O83)","v":""},{"$f":"IF('Comm Device (Desc)'!P83=\"\",\"\",INDEX([1]DEV_INPUT_VOLTAGE!$A$2:$A$100,MATCH('Comm Device (Desc)'!$P83,[1]!MASTER_DEV_INPUT_VOLTAGE_DESC[#Data],0),0))","v":""},{"$f":"IF('Comm Device (Desc)'!Q83=\"\",\"\",'Comm Device (Desc)'!Q83)","v":""},{"$f":"IF('Comm Device (Desc)'!R83=\"\",\"\",'Comm Device (Desc)'!R83)","v":""},{"$f":"IF('Comm Device (Desc)'!S83=\"\",\"\",'Comm Device (Desc)'!S83)","v":""},{"$f":"IF('Comm Device (Desc)'!T83=\"\",\"\",'Comm Device (Desc)'!T83)","v":""},{"$f":"IF('Comm Device (Desc)'!U83=\"\",\"\",'Comm Device (Desc)'!U83)","v":""},{"$f":"IF('Comm Device (Desc)'!V83=\"\",\"\",INDEX([1]FIBER_CONN_TYPE!$A$2:$A$100,MATCH('Comm Device (Desc)'!$V83,[1]!MASTER_FIBER_CONN_TYPE_DESC[#Data],0),0))","v":""}]
[{"$f":"IF('Comm Device (Desc)'!A84=\"\",\"\",'Comm Device (Desc)'!A84)","v":""},{"$f":"IF('Comm Device (Desc)'!C84=\"\",\"\",\"2029\")","v":""},{"$f":"IF('Comm Device (Desc)'!C84=\"\",\"\",'Comm Device (Desc)'!C84)","v":""},{"$f":"IF('Comm Device (Desc)'!D84=\"\",\"\",INDEX([1]OWNER!$A$2:$A$100,MATCH('Comm Device (Desc)'!$D84,[1]!MASTER_OWNER_DESC[#Data],0),0))","v":""},{"$f":"IF('Comm Device (Desc)'!F84=\"\",\"\",INDEX([1]ITS_COMM_DEV_TYPE!$A$2:$A$100,MATCH('Comm Device (Desc)'!$F84,[1]!MASTER_ITS_COMM_DEV_TYPE_DESC[#Data],0),0))","v":""},{"$f":"IF('Comm Device (Desc)'!G84=\"\",\"\",INDEX([1]COMM_TYPE!$A$2:$A$100,MATCH('Comm Device (Desc)'!$G84,[1]!MASTER_COMM_TYPE_DESC[#Data],0),0))","v":""},{"$f":"IF('Comm Device (Desc)'!H84=\"\",\"\",'Comm Device (Desc)'!H84)","v":""},{"$f":"IF('Comm Device (Desc)'!I84=\"\",\"\",'Comm Device (Desc)'!I84)","v":""},{"$f":"IF('Comm Device (Desc)'!J84=\"\",\"\",INDEX([1]ITS_COMM_DEV_MANUF!$A$2:$A$300,MATCH(1,([1]ITS_COMM_DEV_MANUF!$B$2:$B$300='Comm Device (Desc)'!$J84)*([1]ITS_COMM_DEV_MANUF!$C$2:$C$300='Comm Device (Code)'!$E84),0),0))","v":""},{"$f":"IF('Comm Device (Desc)'!K84=\"\",\"\",INDEX([1]ITS_COMM_DEV_MODEL!$A$2:$A$500,MATCH(1,([1]ITS_COMM_DEV_MODEL!$C$2:$C$500='Comm Device (Desc)'!$J84)*([1]ITS_COMM_DEV_MODEL!$D$2:$D$500='Comm Device (Code)'!$E84)*([1]ITS_COMM_DEV_MODEL!$E$2:$E$500='Comm Device (Desc)'!$K84),0),0))","v":""},{"$f":"IF('Comm Device (Desc)'!L84=\"\",\"\",'Comm Device (Desc)'!L84)","v":""},{"$f":"IF('Comm Device (Desc)'!M84=\"\",\"\",'Comm Device (Desc)'!M84)","v":""},{"$f":"IF('Comm Device (Desc)'!N84=\"\",\"\",'Comm Device (Desc)'!N84)","v":""},{"$f":"IF('Comm Device (Desc)'!O84=\"\",\"\",'Comm Device (Desc)'!O84)","v":""},{"$f":"IF('Comm Device (Desc)'!P84=\"\",\"\",INDEX([1]DEV_INPUT_VOLTAGE!$A$2:$A$100,MATCH('Comm Device (Desc)'!$P84,[1]!MASTER_DEV_INPUT_VOLTAGE_DESC[#Data],0),0))","v":""},{"$f":"IF('Comm Device (Desc)'!Q84=\"\",\"\",'Comm Device (Desc)'!Q84)","v":""},{"$f":"IF('Comm Device (Desc)'!R84=\"\",\"\",'Comm Device (Desc)'!R84)","v":""},{"$f":"IF('Comm Device (Desc)'!S84=\"\",\"\",'Comm Device (Desc)'!S84)","v":""},{"$f":"IF('Comm Device (Desc)'!T84=\"\",\"\",'Comm Device (Desc)'!T84)","v":""},{"$f":"IF('Comm Device (Desc)'!U84=\"\",\"\",'Comm Device (Desc)'!U84)","v":""},{"$f":"IF('Comm Device (Desc)'!V84=\"\",\"\",INDEX([1]FIBER_CONN_TYPE!$A$2:$A$100,MATCH('Comm Device (Desc)'!$V84,[1]!MASTER_FIBER_CONN_TYPE_DESC[#Data],0),0))","v":""}]
[{"$f":"IF('Comm Device (Desc)'!A85=\"\",\"\",'Comm Device (Desc)'!A85)","v":""},{"$f":"IF('Comm Device (Desc)'!C85=\"\",\"\",\"2029\")","v":""},{"$f":"IF('Comm Device (Desc)'!C85=\"\",\"\",'Comm Device (Desc)'!C85)","v":""},{"$f":"IF('Comm Device (Desc)'!D85=\"\",\"\",INDEX([1]OWNER!$A$2:$A$100,MATCH('Comm Device (Desc)'!$D85,[1]!MASTER_OWNER_DESC[#Data],0),0))","v":""},{"$f":"IF('Comm Device (Desc)'!F85=\"\",\"\",INDEX([1]ITS_COMM_DEV_TYPE!$A$2:$A$100,MATCH('Comm Device (Desc)'!$F85,[1]!MASTER_ITS_COMM_DEV_TYPE_DESC[#Data],0),0))","v":""},{"$f":"IF('Comm Device (Desc)'!G85=\"\",\"\",INDEX([1]COMM_TYPE!$A$2:$A$100,MATCH('Comm Device (Desc)'!$G85,[1]!MASTER_COMM_TYPE_DESC[#Data],0),0))","v":""},{"$f":"IF('Comm Device (Desc)'!H85=\"\",\"\",'Comm Device (Desc)'!H85)","v":""},{"$f":"IF('Comm Device (Desc)'!I85=\"\",\"\",'Comm Device (Desc)'!I85)","v":""},{"$f":"IF('Comm Device (Desc)'!J85=\"\",\"\",INDEX([1]ITS_COMM_DEV_MANUF!$A$2:$A$300,MATCH(1,([1]ITS_COMM_DEV_MANUF!$B$2:$B$300='Comm Device (Desc)'!$J85)*([1]ITS_COMM_DEV_MANUF!$C$2:$C$300='Comm Device (Code)'!$E85),0),0))","v":""},{"$f":"IF('Comm Device (Desc)'!K85=\"\",\"\",INDEX([1]ITS_COMM_DEV_MODEL!$A$2:$A$500,MATCH(1,([1]ITS_COMM_DEV_MODEL!$C$2:$C$500='Comm Device (Desc)'!$J85)*([1]ITS_COMM_DEV_MODEL!$D$2:$D$500='Comm Device (Code)'!$E85)*([1]ITS_COMM_DEV_MODEL!$E$2:$E$500='Comm Device (Desc)'!$K85),0),0))","v":""},{"$f":"IF('Comm Device (Desc)'!L85=\"\",\"\",'Comm Device (Desc)'!L85)","v":""},{"$f":"IF('Comm Device (Desc)'!M85=\"\",\"\",'Comm Device (Desc)'!M85)","v":""},{"$f":"IF('Comm Device (Desc)'!N85=\"\",\"\",'Comm Device (Desc)'!N85)","v":""},{"$f":"IF('Comm Device (Desc)'!O85=\"\",\"\",'Comm Device (Desc)'!O85)","v":""},{"$f":"IF('Comm Device (Desc)'!P85=\"\",\"\",INDEX([1]DEV_INPUT_VOLTAGE!$A$2:$A$100,MATCH('Comm Device (Desc)'!$P85,[1]!MASTER_DEV_INPUT_VOLTAGE_DESC[#Data],0),0))","v":""},{"$f":"IF('Comm Device (Desc)'!Q85=\"\",\"\",'Comm Device (Desc)'!Q85)","v":""},{"$f":"IF('Comm Device (Desc)'!R85=\"\",\"\",'Comm Device (Desc)'!R85)","v":""},{"$f":"IF('Comm Device (Desc)'!S85=\"\",\"\",'Comm Device (Desc)'!S85)","v":""},{"$f":"IF('Comm Device (Desc)'!T85=\"\",\"\",'Comm Device (Desc)'!T85)","v":""},{"$f":"IF('Comm Device (Desc)'!U85=\"\",\"\",'Comm Device (Desc)'!U85)","v":""},{"$f":"IF('Comm Device (Desc)'!V85=\"\",\"\",INDEX([1]FIBER_CONN_TYPE!$A$2:$A$100,MATCH('Comm Device (Desc)'!$V85,[1]!MASTER_FIBER_CONN_TYPE_DESC[#Data],0),0))","v":""}]
[{"$f":"IF('Comm Device (Desc)'!A86=\"\",\"\",'Comm Device (Desc)'!A86)","v":""},{"$f":"IF('Comm Device (Desc)'!C86=\"\",\"\",\"2029\")","v":""},{"$f":"IF('Comm Device (Desc)'!C86=\"\",\"\",'Comm Device (Desc)'!C86)","v":""},{"$f":"IF('Comm Device (Desc)'!D86=\"\",\"\",INDEX([1]OWNER!$A$2:$A$100,MATCH('Comm Device (Desc)'!$D86,[1]!MASTER_OWNER_DESC[#Data],0),0))","v":""},{"$f":"IF('Comm Device (Desc)'!F86=\"\",\"\",INDEX([1]ITS_COMM_DEV_TYPE!$A$2:$A$100,MATCH('Comm Device (Desc)'!$F86,[1]!MASTER_ITS_COMM_DEV_TYPE_DESC[#Data],0),0))","v":""},{"$f":"IF('Comm Device (Desc)'!G86=\"\",\"\",INDEX([1]COMM_TYPE!$A$2:$A$100,MATCH('Comm Device (Desc)'!$G86,[1]!MASTER_COMM_TYPE_DESC[#Data],0),0))","v":""},{"$f":"IF('Comm Device (Desc)'!H86=\"\",\"\",'Comm Device (Desc)'!H86)","v":""},{"$f":"IF('Comm Device (Desc)'!I86=\"\",\"\",'Comm Device (Desc)'!I86)","v":""},{"$f":"IF('Comm Device (Desc)'!J86=\"\",\"\",INDEX([1]ITS_COMM_DEV_MANUF!$A$2:$A$300,MATCH(1,([1]ITS_COMM_DEV_MANUF!$B$2:$B$300='Comm Device (Desc)'!$J86)*([1]ITS_COMM_DEV_MANUF!$C$2:$C$300='Comm Device (Code)'!$E86),0),0))","v":""},{"$f":"IF('Comm Device (Desc)'!K86=\"\",\"\",INDEX([1]ITS_COMM_DEV_MODEL!$A$2:$A$500,MATCH(1,([1]ITS_COMM_DEV_MODEL!$C$2:$C$500='Comm Device (Desc)'!$J86)*([1]ITS_COMM_DEV_MODEL!$D$2:$D$500='Comm Device (Code)'!$E86)*([1]ITS_COMM_DEV_MODEL!$E$2:$E$500='Comm Device (Desc)'!$K86),0),0))","v":""},{"$f":"IF('Comm Device (Desc)'!L86=\"\",\"\",'Comm Device (Desc)'!L86)","v":""},{"$f":"IF('Comm Device (Desc)'!M86=\"\",\"\",'Comm Device (Desc)'!M86)","v":""},{"$f":"IF('Comm Device (Desc)'!N86=\"\",\"\",'Comm Device (Desc)'!N86)","v":""},{"$f":"IF('Comm Device (Desc)'!O86=\"\",\"\",'Comm Device (Desc)'!O86)","v":""},{"$f":"IF('Comm Device (Desc)'!P86=\"\",\"\",INDEX([1]DEV_INPUT_VOLTAGE!$A$2:$A$100,MATCH('Comm Device (Desc)'!$P86,[1]!MASTER_DEV_INPUT_VOLTAGE_DESC[#Data],0),0))","v":""},{"$f":"IF('Comm Device (Desc)'!Q86=\"\",\"\",'Comm Device (Desc)'!Q86)","v":""},{"$f":"IF('Comm Device (Desc)'!R86=\"\",\"\",'Comm Device (Desc)'!R86)","v":""},{"$f":"IF('Comm Device (Desc)'!S86=\"\",\"\",'Comm Device (Desc)'!S86)","v":""},{"$f":"IF('Comm Device (Desc)'!T86=\"\",\"\",'Comm Device (Desc)'!T86)","v":""},{"$f":"IF('Comm Device (Desc)'!U86=\"\",\"\",'Comm Device (Desc)'!U86)","v":""},{"$f":"IF('Comm Device (Desc)'!V86=\"\",\"\",INDEX([1]FIBER_CONN_TYPE!$A$2:$A$100,MATCH('Comm Device (Desc)'!$V86,[1]!MASTER_FIBER_CONN_TYPE_DESC[#Data],0),0))","v":""}]
[{"$f":"IF('Comm Device (Desc)'!A87=\"\",\"\",'Comm Device (Desc)'!A87)","v":""},{"$f":"IF('Comm Device (Desc)'!C87=\"\",\"\",\"2029\")","v":""},{"$f":"IF('Comm Device (Desc)'!C87=\"\",\"\",'Comm Device (Desc)'!C87)","v":""},{"$f":"IF('Comm Device (Desc)'!D87=\"\",\"\",INDEX([1]OWNER!$A$2:$A$100,MATCH('Comm Device (Desc)'!$D87,[1]!MASTER_OWNER_DESC[#Data],0),0))","v":""},{"$f":"IF('Comm Device (Desc)'!F87=\"\",\"\",INDEX([1]ITS_COMM_DEV_TYPE!$A$2:$A$100,MATCH('Comm Device (Desc)'!$F87,[1]!MASTER_ITS_COMM_DEV_TYPE_DESC[#Data],0),0))","v":""},{"$f":"IF('Comm Device (Desc)'!G87=\"\",\"\",INDEX([1]COMM_TYPE!$A$2:$A$100,MATCH('Comm Device (Desc)'!$G87,[1]!MASTER_COMM_TYPE_DESC[#Data],0),0))","v":""},{"$f":"IF('Comm Device (Desc)'!H87=\"\",\"\",'Comm Device (Desc)'!H87)","v":""},{"$f":"IF('Comm Device (Desc)'!I87=\"\",\"\",'Comm Device (Desc)'!I87)","v":""},{"$f":"IF('Comm Device (Desc)'!J87=\"\",\"\",INDEX([1]ITS_COMM_DEV_MANUF!$A$2:$A$300,MATCH(1,([1]ITS_COMM_DEV_MANUF!$B$2:$B$300='Comm Device (Desc)'!$J87)*([1]ITS_COMM_DEV_MANUF!$C$2:$C$300='Comm Device (Code)'!$E87),0),0))","v":""},{"$f":"IF('Comm Device (Desc)'!K87=\"\",\"\",INDEX([1]ITS_COMM_DEV_MODEL!$A$2:$A$500,MATCH(1,([1]ITS_COMM_DEV_MODEL!$C$2:$C$500='Comm Device (Desc)'!$J87)*([1]ITS_COMM_DEV_MODEL!$D$2:$D$500='Comm Device (Code)'!$E87)*([1]ITS_COMM_DEV_MODEL!$E$2:$E$500='Comm Device (Desc)'!$K87),0),0))","v":""},{"$f":"IF('Comm Device (Desc)'!L87=\"\",\"\",'Comm Device (Desc)'!L87)","v":""},{"$f":"IF('Comm Device (Desc)'!M87=\"\",\"\",'Comm Device (Desc)'!M87)","v":""},{"$f":"IF('Comm Device (Desc)'!N87=\"\",\"\",'Comm Device (Desc)'!N87)","v":""},{"$f":"IF('Comm Device (Desc)'!O87=\"\",\"\",'Comm Device (Desc)'!O87)","v":""},{"$f":"IF('Comm Device (Desc)'!P87=\"\",\"\",INDEX([1]DEV_INPUT_VOLTAGE!$A$2:$A$100,MATCH('Comm Device (Desc)'!$P87,[1]!MASTER_DEV_INPUT_VOLTAGE_DESC[#Data],0),0))","v":""},{"$f":"IF('Comm Device (Desc)'!Q87=\"\",\"\",'Comm Device (Desc)'!Q87)","v":""},{"$f":"IF('Comm Device (Desc)'!R87=\"\",\"\",'Comm Device (Desc)'!R87)","v":""},{"$f":"IF('Comm Device (Desc)'!S87=\"\",\"\",'Comm Device (Desc)'!S87)","v":""},{"$f":"IF('Comm Device (Desc)'!T87=\"\",\"\",'Comm Device (Desc)'!T87)","v":""},{"$f":"IF('Comm Device (Desc)'!U87=\"\",\"\",'Comm Device (Desc)'!U87)","v":""},{"$f":"IF('Comm Device (Desc)'!V87=\"\",\"\",INDEX([1]FIBER_CONN_TYPE!$A$2:$A$100,MATCH('Comm Device (Desc)'!$V87,[1]!MASTER_FIBER_CONN_TYPE_DESC[#Data],0),0))","v":""}]
[{"$f":"IF('Comm Device (Desc)'!A88=\"\",\"\",'Comm Device (Desc)'!A88)","v":""},{"$f":"IF('Comm Device (Desc)'!C88=\"\",\"\",\"2029\")","v":""},{"$f":"IF('Comm Device (Desc)'!C88=\"\",\"\",'Comm Device (Desc)'!C88)","v":""},{"$f":"IF('Comm Device (Desc)'!D88=\"\",\"\",INDEX([1]OWNER!$A$2:$A$100,MATCH('Comm Device (Desc)'!$D88,[1]!MASTER_OWNER_DESC[#Data],0),0))","v":""},{"$f":"IF('Comm Device (Desc)'!F88=\"\",\"\",INDEX([1]ITS_COMM_DEV_TYPE!$A$2:$A$100,MATCH('Comm Device (Desc)'!$F88,[1]!MASTER_ITS_COMM_DEV_TYPE_DESC[#Data],0),0))","v":""},{"$f":"IF('Comm Device (Desc)'!G88=\"\",\"\",INDEX([1]COMM_TYPE!$A$2:$A$100,MATCH('Comm Device (Desc)'!$G88,[1]!MASTER_COMM_TYPE_DESC[#Data],0),0))","v":""},{"$f":"IF('Comm Device (Desc)'!H88=\"\",\"\",'Comm Device (Desc)'!H88)","v":""},{"$f":"IF('Comm Device (Desc)'!I88=\"\",\"\",'Comm Device (Desc)'!I88)","v":""},{"$f":"IF('Comm Device (Desc)'!J88=\"\",\"\",INDEX([1]ITS_COMM_DEV_MANUF!$A$2:$A$300,MATCH(1,([1]ITS_COMM_DEV_MANUF!$B$2:$B$300='Comm Device (Desc)'!$J88)*([1]ITS_COMM_DEV_MANUF!$C$2:$C$300='Comm Device (Code)'!$E88),0),0))","v":""},{"$f":"IF('Comm Device (Desc)'!K88=\"\",\"\",INDEX([1]ITS_COMM_DEV_MODEL!$A$2:$A$500,MATCH(1,([1]ITS_COMM_DEV_MODEL!$C$2:$C$500='Comm Device (Desc)'!$J88)*([1]ITS_COMM_DEV_MODEL!$D$2:$D$500='Comm Device (Code)'!$E88)*([1]ITS_COMM_DEV_MODEL!$E$2:$E$500='Comm Device (Desc)'!$K88),0),0))","v":""},{"$f":"IF('Comm Device (Desc)'!L88=\"\",\"\",'Comm Device (Desc)'!L88)","v":""},{"$f":"IF('Comm Device (Desc)'!M88=\"\",\"\",'Comm Device (Desc)'!M88)","v":""},{"$f":"IF('Comm Device (Desc)'!N88=\"\",\"\",'Comm Device (Desc)'!N88)","v":""},{"$f":"IF('Comm Device (Desc)'!O88=\"\",\"\",'Comm Device (Desc)'!O88)","v":""},{"$f":"IF('Comm Device (Desc)'!P88=\"\",\"\",INDEX([1]DEV_INPUT_VOLTAGE!$A$2:$A$100,MATCH('Comm Device (Desc)'!$P88,[1]!MASTER_DEV_INPUT_VOLTAGE_DESC[#Data],0),0))","v":""},{"$f":"IF('Comm Device (Desc)'!Q88=\"\",\"\",'Comm Device (Desc)'!Q88)","v":""},{"$f":"IF('Comm Device (Desc)'!R88=\"\",\"\",'Comm Device (Desc)'!R88)","v":""},{"$f":"IF('Comm Device (Desc)'!S88=\"\",\"\",'Comm Device (Desc)'!S88)","v":""},{"$f":"IF('Comm Device (Desc)'!T88=\"\",\"\",'Comm Device (Desc)'!T88)","v":""},{"$f":"IF('Comm Device (Desc)'!U88=\"\",\"\",'Comm Device (Desc)'!U88)","v":""},{"$f":"IF('Comm Device (Desc)'!V88=\"\",\"\",INDEX([1]FIBER_CONN_TYPE!$A$2:$A$100,MATCH('Comm Device (Desc)'!$V88,[1]!MASTER_FIBER_CONN_TYPE_DESC[#Data],0),0))","v":""}]
[{"$f":"IF('Comm Device (Desc)'!A89=\"\",\"\",'Comm Device (Desc)'!A89)","v":""},{"$f":"IF('Comm Device (Desc)'!C89=\"\",\"\",\"2029\")","v":""},{"$f":"IF('Comm Device (Desc)'!C89=\"\",\"\",'Comm Device (Desc)'!C89)","v":""},{"$f":"IF('Comm Device (Desc)'!D89=\"\",\"\",INDEX([1]OWNER!$A$2:$A$100,MATCH('Comm Device (Desc)'!$D89,[1]!MASTER_OWNER_DESC[#Data],0),0))","v":""},{"$f":"IF('Comm Device (Desc)'!F89=\"\",\"\",INDEX([1]ITS_COMM_DEV_TYPE!$A$2:$A$100,MATCH('Comm Device (Desc)'!$F89,[1]!MASTER_ITS_COMM_DEV_TYPE_DESC[#Data],0),0))","v":""},{"$f":"IF('Comm Device (Desc)'!G89=\"\",\"\",INDEX([1]COMM_TYPE!$A$2:$A$100,MATCH('Comm Device (Desc)'!$G89,[1]!MASTER_COMM_TYPE_DESC[#Data],0),0))","v":""},{"$f":"IF('Comm Device (Desc)'!H89=\"\",\"\",'Comm Device (Desc)'!H89)","v":""},{"$f":"IF('Comm Device (Desc)'!I89=\"\",\"\",'Comm Device (Desc)'!I89)","v":""},{"$f":"IF('Comm Device (Desc)'!J89=\"\",\"\",INDEX([1]ITS_COMM_DEV_MANUF!$A$2:$A$300,MATCH(1,([1]ITS_COMM_DEV_MANUF!$B$2:$B$300='Comm Device (Desc)'!$J89)*([1]ITS_COMM_DEV_MANUF!$C$2:$C$300='Comm Device (Code)'!$E89),0),0))","v":""},{"$f":"IF('Comm Device (Desc)'!K89=\"\",\"\",INDEX([1]ITS_COMM_DEV_MODEL!$A$2:$A$500,MATCH(1,([1]ITS_COMM_DEV_MODEL!$C$2:$C$500='Comm Device (Desc)'!$J89)*([1]ITS_COMM_DEV_MODEL!$D$2:$D$500='Comm Device (Code)'!$E89)*([1]ITS_COMM_DEV_MODEL!$E$2:$E$500='Comm Device (Desc)'!$K89),0),0))","v":""},{"$f":"IF('Comm Device (Desc)'!L89=\"\",\"\",'Comm Device (Desc)'!L89)","v":""},{"$f":"IF('Comm Device (Desc)'!M89=\"\",\"\",'Comm Device (Desc)'!M89)","v":""},{"$f":"IF('Comm Device (Desc)'!N89=\"\",\"\",'Comm Device (Desc)'!N89)","v":""},{"$f":"IF('Comm Device (Desc)'!O89=\"\",\"\",'Comm Device (Desc)'!O89)","v":""},{"$f":"IF('Comm Device (Desc)'!P89=\"\",\"\",INDEX([1]DEV_INPUT_VOLTAGE!$A$2:$A$100,MATCH('Comm Device (Desc)'!$P89,[1]!MASTER_DEV_INPUT_VOLTAGE_DESC[#Data],0),0))","v":""},{"$f":"IF('Comm Device (Desc)'!Q89=\"\",\"\",'Comm Device (Desc)'!Q89)","v":""},{"$f":"IF('Comm Device (Desc)'!R89=\"\",\"\",'Comm Device (Desc)'!R89)","v":""},{"$f":"IF('Comm Device (Desc)'!S89=\"\",\"\",'Comm Device (Desc)'!S89)","v":""},{"$f":"IF('Comm Device (Desc)'!T89=\"\",\"\",'Comm Device (Desc)'!T89)","v":""},{"$f":"IF('Comm Device (Desc)'!U89=\"\",\"\",'Comm Device (Desc)'!U89)","v":""},{"$f":"IF('Comm Device (Desc)'!V89=\"\",\"\",INDEX([1]FIBER_CONN_TYPE!$A$2:$A$100,MATCH('Comm Device (Desc)'!$V89,[1]!MASTER_FIBER_CONN_TYPE_DESC[#Data],0),0))","v":""}]
[{"$f":"IF('Comm Device (Desc)'!A90=\"\",\"\",'Comm Device (Desc)'!A90)","v":""},{"$f":"IF('Comm Device (Desc)'!C90=\"\",\"\",\"2029\")","v":""},{"$f":"IF('Comm Device (Desc)'!C90=\"\",\"\",'Comm Device (Desc)'!C90)","v":""},{"$f":"IF('Comm Device (Desc)'!D90=\"\",\"\",INDEX([1]OWNER!$A$2:$A$100,MATCH('Comm Device (Desc)'!$D90,[1]!MASTER_OWNER_DESC[#Data],0),0))","v":""},{"$f":"IF('Comm Device (Desc)'!F90=\"\",\"\",INDEX([1]ITS_COMM_DEV_TYPE!$A$2:$A$100,MATCH('Comm Device (Desc)'!$F90,[1]!MASTER_ITS_COMM_DEV_TYPE_DESC[#Data],0),0))","v":""},{"$f":"IF('Comm Device (Desc)'!G90=\"\",\"\",INDEX([1]COMM_TYPE!$A$2:$A$100,MATCH('Comm Device (Desc)'!$G90,[1]!MASTER_COMM_TYPE_DESC[#Data],0),0))","v":""},{"$f":"IF('Comm Device (Desc)'!H90=\"\",\"\",'Comm Device (Desc)'!H90)","v":""},{"$f":"IF('Comm Device (Desc)'!I90=\"\",\"\",'Comm Device (Desc)'!I90)","v":""},{"$f":"IF('Comm Device (Desc)'!J90=\"\",\"\",INDEX([1]ITS_COMM_DEV_MANUF!$A$2:$A$300,MATCH(1,([1]ITS_COMM_DEV_MANUF!$B$2:$B$300='Comm Device (Desc)'!$J90)*([1]ITS_COMM_DEV_MANUF!$C$2:$C$300='Comm Device (Code)'!$E90),0),0))","v":""},{"$f":"IF('Comm Device (Desc)'!K90=\"\",\"\",INDEX([1]ITS_COMM_DEV_MODEL!$A$2:$A$500,MATCH(1,([1]ITS_COMM_DEV_MODEL!$C$2:$C$500='Comm Device (Desc)'!$J90)*([1]ITS_COMM_DEV_MODEL!$D$2:$D$500='Comm Device (Code)'!$E90)*([1]ITS_COMM_DEV_MODEL!$E$2:$E$500='Comm Device (Desc)'!$K90),0),0))","v":""},{"$f":"IF('Comm Device (Desc)'!L90=\"\",\"\",'Comm Device (Desc)'!L90)","v":""},{"$f":"IF('Comm Device (Desc)'!M90=\"\",\"\",'Comm Device (Desc)'!M90)","v":""},{"$f":"IF('Comm Device (Desc)'!N90=\"\",\"\",'Comm Device (Desc)'!N90)","v":""},{"$f":"IF('Comm Device (Desc)'!O90=\"\",\"\",'Comm Device (Desc)'!O90)","v":""},{"$f":"IF('Comm Device (Desc)'!P90=\"\",\"\",INDEX([1]DEV_INPUT_VOLTAGE!$A$2:$A$100,MATCH('Comm Device (Desc)'!$P90,[1]!MASTER_DEV_INPUT_VOLTAGE_DESC[#Data],0),0))","v":""},{"$f":"IF('Comm Device (Desc)'!Q90=\"\",\"\",'Comm Device (Desc)'!Q90)","v":""},{"$f":"IF('Comm Device (Desc)'!R90=\"\",\"\",'Comm Device (Desc)'!R90)","v":""},{"$f":"IF('Comm Device (Desc)'!S90=\"\",\"\",'Comm Device (Desc)'!S90)","v":""},{"$f":"IF('Comm Device (Desc)'!T90=\"\",\"\",'Comm Device (Desc)'!T90)","v":""},{"$f":"IF('Comm Device (Desc)'!U90=\"\",\"\",'Comm Device (Desc)'!U90)","v":""},{"$f":"IF('Comm Device (Desc)'!V90=\"\",\"\",INDEX([1]FIBER_CONN_TYPE!$A$2:$A$100,MATCH('Comm Device (Desc)'!$V90,[1]!MASTER_FIBER_CONN_TYPE_DESC[#Data],0),0))","v":""}]
[{"$f":"IF('Comm Device (Desc)'!A91=\"\",\"\",'Comm Device (Desc)'!A91)","v":""},{"$f":"IF('Comm Device (Desc)'!C91=\"\",\"\",\"2029\")","v":""},{"$f":"IF('Comm Device (Desc)'!C91=\"\",\"\",'Comm Device (Desc)'!C91)","v":""},{"$f":"IF('Comm Device (Desc)'!D91=\"\",\"\",INDEX([1]OWNER!$A$2:$A$100,MATCH('Comm Device (Desc)'!$D91,[1]!MASTER_OWNER_DESC[#Data],0),0))","v":""},{"$f":"IF('Comm Device (Desc)'!F91=\"\",\"\",INDEX([1]ITS_COMM_DEV_TYPE!$A$2:$A$100,MATCH('Comm Device (Desc)'!$F91,[1]!MASTER_ITS_COMM_DEV_TYPE_DESC[#Data],0),0))","v":""},{"$f":"IF('Comm Device (Desc)'!G91=\"\",\"\",INDEX([1]COMM_TYPE!$A$2:$A$100,MATCH('Comm Device (Desc)'!$G91,[1]!MASTER_COMM_TYPE_DESC[#Data],0),0))","v":""},{"$f":"IF('Comm Device (Desc)'!H91=\"\",\"\",'Comm Device (Desc)'!H91)","v":""},{"$f":"IF('Comm Device (Desc)'!I91=\"\",\"\",'Comm Device (Desc)'!I91)","v":""},{"$f":"IF('Comm Device (Desc)'!J91=\"\",\"\",INDEX([1]ITS_COMM_DEV_MANUF!$A$2:$A$300,MATCH(1,([1]ITS_COMM_DEV_MANUF!$B$2:$B$300='Comm Device (Desc)'!$J91)*([1]ITS_COMM_DEV_MANUF!$C$2:$C$300='Comm Device (Code)'!$E91),0),0))","v":""},{"$f":"IF('Comm Device (Desc)'!K91=\"\",\"\",INDEX([1]ITS_COMM_DEV_MODEL!$A$2:$A$500,MATCH(1,([1]ITS_COMM_DEV_MODEL!$C$2:$C$500='Comm Device (Desc)'!$J91)*([1]ITS_COMM_DEV_MODEL!$D$2:$D$500='Comm Device (Code)'!$E91)*([1]ITS_COMM_DEV_MODEL!$E$2:$E$500='Comm Device (Desc)'!$K91),0),0))","v":""},{"$f":"IF('Comm Device (Desc)'!L91=\"\",\"\",'Comm Device (Desc)'!L91)","v":""},{"$f":"IF('Comm Device (Desc)'!M91=\"\",\"\",'Comm Device (Desc)'!M91)","v":""},{"$f":"IF('Comm Device (Desc)'!N91=\"\",\"\",'Comm Device (Desc)'!N91)","v":""},{"$f":"IF('Comm Device (Desc)'!O91=\"\",\"\",'Comm Device (Desc)'!O91)","v":""},{"$f":"IF('Comm Device (Desc)'!P91=\"\",\"\",INDEX([1]DEV_INPUT_VOLTAGE!$A$2:$A$100,MATCH('Comm Device (Desc)'!$P91,[1]!MASTER_DEV_INPUT_VOLTAGE_DESC[#Data],0),0))","v":""},{"$f":"IF('Comm Device (Desc)'!Q91=\"\",\"\",'Comm Device (Desc)'!Q91)","v":""},{"$f":"IF('Comm Device (Desc)'!R91=\"\",\"\",'Comm Device (Desc)'!R91)","v":""},{"$f":"IF('Comm Device (Desc)'!S91=\"\",\"\",'Comm Device (Desc)'!S91)","v":""},{"$f":"IF('Comm Device (Desc)'!T91=\"\",\"\",'Comm Device (Desc)'!T91)","v":""},{"$f":"IF('Comm Device (Desc)'!U91=\"\",\"\",'Comm Device (Desc)'!U91)","v":""},{"$f":"IF('Comm Device (Desc)'!V91=\"\",\"\",INDEX([1]FIBER_CONN_TYPE!$A$2:$A$100,MATCH('Comm Device (Desc)'!$V91,[1]!MASTER_FIBER_CONN_TYPE_DESC[#Data],0),0))","v":""}]
[{"$f":"IF('Comm Device (Desc)'!A92=\"\",\"\",'Comm Device (Desc)'!A92)","v":""},{"$f":"IF('Comm Device (Desc)'!C92=\"\",\"\",\"2029\")","v":""},{"$f":"IF('Comm Device (Desc)'!C92=\"\",\"\",'Comm Device (Desc)'!C92)","v":""},{"$f":"IF('Comm Device (Desc)'!D92=\"\",\"\",INDEX([1]OWNER!$A$2:$A$100,MATCH('Comm Device (Desc)'!$D92,[1]!MASTER_OWNER_DESC[#Data],0),0))","v":""},{"$f":"IF('Comm Device (Desc)'!F92=\"\",\"\",INDEX([1]ITS_COMM_DEV_TYPE!$A$2:$A$100,MATCH('Comm Device (Desc)'!$F92,[1]!MASTER_ITS_COMM_DEV_TYPE_DESC[#Data],0),0))","v":""},{"$f":"IF('Comm Device (Desc)'!G92=\"\",\"\",INDEX([1]COMM_TYPE!$A$2:$A$100,MATCH('Comm Device (Desc)'!$G92,[1]!MASTER_COMM_TYPE_DESC[#Data],0),0))","v":""},{"$f":"IF('Comm Device (Desc)'!H92=\"\",\"\",'Comm Device (Desc)'!H92)","v":""},{"$f":"IF('Comm Device (Desc)'!I92=\"\",\"\",'Comm Device (Desc)'!I92)","v":""},{"$f":"IF('Comm Device (Desc)'!J92=\"\",\"\",INDEX([1]ITS_COMM_DEV_MANUF!$A$2:$A$300,MATCH(1,([1]ITS_COMM_DEV_MANUF!$B$2:$B$300='Comm Device (Desc)'!$J92)*([1]ITS_COMM_DEV_MANUF!$C$2:$C$300='Comm Device (Code)'!$E92),0),0))","v":""},{"$f":"IF('Comm Device (Desc)'!K92=\"\",\"\",INDEX([1]ITS_COMM_DEV_MODEL!$A$2:$A$500,MATCH(1,([1]ITS_COMM_DEV_MODEL!$C$2:$C$500='Comm Device (Desc)'!$J92)*([1]ITS_COMM_DEV_MODEL!$D$2:$D$500='Comm Device (Code)'!$E92)*([1]ITS_COMM_DEV_MODEL!$E$2:$E$500='Comm Device (Desc)'!$K92),0),0))","v":""},{"$f":"IF('Comm Device (Desc)'!L92=\"\",\"\",'Comm Device (Desc)'!L92)","v":""},{"$f":"IF('Comm Device (Desc)'!M92=\"\",\"\",'Comm Device (Desc)'!M92)","v":""},{"$f":"IF('Comm Device (Desc)'!N92=\"\",\"\",'Comm Device (Desc)'!N92)","v":""},{"$f":"IF('Comm Device (Desc)'!O92=\"\",\"\",'Comm Device (Desc)'!O92)","v":""},{"$f":"IF('Comm Device (Desc)'!P92=\"\",\"\",INDEX([1]DEV_INPUT_VOLTAGE!$A$2:$A$100,MATCH('Comm Device (Desc)'!$P92,[1]!MASTER_DEV_INPUT_VOLTAGE_DESC[#Data],0),0))","v":""},{"$f":"IF('Comm Device (Desc)'!Q92=\"\",\"\",'Comm Device (Desc)'!Q92)","v":""},{"$f":"IF('Comm Device (Desc)'!R92=\"\",\"\",'Comm Device (Desc)'!R92)","v":""},{"$f":"IF('Comm Device (Desc)'!S92=\"\",\"\",'Comm Device (Desc)'!S92)","v":""},{"$f":"IF('Comm Device (Desc)'!T92=\"\",\"\",'Comm Device (Desc)'!T92)","v":""},{"$f":"IF('Comm Device (Desc)'!U92=\"\",\"\",'Comm Device (Desc)'!U92)","v":""},{"$f":"IF('Comm Device (Desc)'!V92=\"\",\"\",INDEX([1]FIBER_CONN_TYPE!$A$2:$A$100,MATCH('Comm Device (Desc)'!$V92,[1]!MASTER_FIBER_CONN_TYPE_DESC[#Data],0),0))","v":""}]
[{"$f":"IF('Comm Device (Desc)'!A93=\"\",\"\",'Comm Device (Desc)'!A93)","v":""},{"$f":"IF('Comm Device (Desc)'!C93=\"\",\"\",\"2029\")","v":""},{"$f":"IF('Comm Device (Desc)'!C93=\"\",\"\",'Comm Device (Desc)'!C93)","v":""},{"$f":"IF('Comm Device (Desc)'!D93=\"\",\"\",INDEX([1]OWNER!$A$2:$A$100,MATCH('Comm Device (Desc)'!$D93,[1]!MASTER_OWNER_DESC[#Data],0),0))","v":""},{"$f":"IF('Comm Device (Desc)'!F93=\"\",\"\",INDEX([1]ITS_COMM_DEV_TYPE!$A$2:$A$100,MATCH('Comm Device (Desc)'!$F93,[1]!MASTER_ITS_COMM_DEV_TYPE_DESC[#Data],0),0))","v":""},{"$f":"IF('Comm Device (Desc)'!G93=\"\",\"\",INDEX([1]COMM_TYPE!$A$2:$A$100,MATCH('Comm Device (Desc)'!$G93,[1]!MASTER_COMM_TYPE_DESC[#Data],0),0))","v":""},{"$f":"IF('Comm Device (Desc)'!H93=\"\",\"\",'Comm Device (Desc)'!H93)","v":""},{"$f":"IF('Comm Device (Desc)'!I93=\"\",\"\",'Comm Device (Desc)'!I93)","v":""},{"$f":"IF('Comm Device (Desc)'!J93=\"\",\"\",INDEX([1]ITS_COMM_DEV_MANUF!$A$2:$A$300,MATCH(1,([1]ITS_COMM_DEV_MANUF!$B$2:$B$300='Comm Device (Desc)'!$J93)*([1]ITS_COMM_DEV_MANUF!$C$2:$C$300='Comm Device (Code)'!$E93),0),0))","v":""},{"$f":"IF('Comm Device (Desc)'!K93=\"\",\"\",INDEX([1]ITS_COMM_DEV_MODEL!$A$2:$A$500,MATCH(1,([1]ITS_COMM_DEV_MODEL!$C$2:$C$500='Comm Device (Desc)'!$J93)*([1]ITS_COMM_DEV_MODEL!$D$2:$D$500='Comm Device (Code)'!$E93)*([1]ITS_COMM_DEV_MODEL!$E$2:$E$500='Comm Device (Desc)'!$K93),0),0))","v":""},{"$f":"IF('Comm Device (Desc)'!L93=\"\",\"\",'Comm Device (Desc)'!L93)","v":""},{"$f":"IF('Comm Device (Desc)'!M93=\"\",\"\",'Comm Device (Desc)'!M93)","v":""},{"$f":"IF('Comm Device (Desc)'!N93=\"\",\"\",'Comm Device (Desc)'!N93)","v":""},{"$f":"IF('Comm Device (Desc)'!O93=\"\",\"\",'Comm Device (Desc)'!O93)","v":""},{"$f":"IF('Comm Device (Desc)'!P93=\"\",\"\",INDEX([1]DEV_INPUT_VOLTAGE!$A$2:$A$100,MATCH('Comm Device (Desc)'!$P93,[1]!MASTER_DEV_INPUT_VOLTAGE_DESC[#Data],0),0))","v":""},{"$f":"IF('Comm Device (Desc)'!Q93=\"\",\"\",'Comm Device (Desc)'!Q93)","v":""},{"$f":"IF('Comm Device (Desc)'!R93=\"\",\"\",'Comm Device (Desc)'!R93)","v":""},{"$f":"IF('Comm Device (Desc)'!S93=\"\",\"\",'Comm Device (Desc)'!S93)","v":""},{"$f":"IF('Comm Device (Desc)'!T93=\"\",\"\",'Comm Device (Desc)'!T93)","v":""},{"$f":"IF('Comm Device (Desc)'!U93=\"\",\"\",'Comm Device (Desc)'!U93)","v":""},{"$f":"IF('Comm Device (Desc)'!V93=\"\",\"\",INDEX([1]FIBER_CONN_TYPE!$A$2:$A$100,MATCH('Comm Device (Desc)'!$V93,[1]!MASTER_FIBER_CONN_TYPE_DESC[#Data],0),0))","v":""}]
[{"$f":"IF('Comm Device (Desc)'!A94=\"\",\"\",'Comm Device (Desc)'!A94)","v":""},{"$f":"IF('Comm Device (Desc)'!C94=\"\",\"\",\"2029\")","v":""},{"$f":"IF('Comm Device (Desc)'!C94=\"\",\"\",'Comm Device (Desc)'!C94)","v":""},{"$f":"IF('Comm Device (Desc)'!D94=\"\",\"\",INDEX([1]OWNER!$A$2:$A$100,MATCH('Comm Device (Desc)'!$D94,[1]!MASTER_OWNER_DESC[#Data],0),0))","v":""},{"$f":"IF('Comm Device (Desc)'!F94=\"\",\"\",INDEX([1]ITS_COMM_DEV_TYPE!$A$2:$A$100,MATCH('Comm Device (Desc)'!$F94,[1]!MASTER_ITS_COMM_DEV_TYPE_DESC[#Data],0),0))","v":""},{"$f":"IF('Comm Device (Desc)'!G94=\"\",\"\",INDEX([1]COMM_TYPE!$A$2:$A$100,MATCH('Comm Device (Desc)'!$G94,[1]!MASTER_COMM_TYPE_DESC[#Data],0),0))","v":""},{"$f":"IF('Comm Device (Desc)'!H94=\"\",\"\",'Comm Device (Desc)'!H94)","v":""},{"$f":"IF('Comm Device (Desc)'!I94=\"\",\"\",'Comm Device (Desc)'!I94)","v":""},{"$f":"IF('Comm Device (Desc)'!J94=\"\",\"\",INDEX([1]ITS_COMM_DEV_MANUF!$A$2:$A$300,MATCH(1,([1]ITS_COMM_DEV_MANUF!$B$2:$B$300='Comm Device (Desc)'!$J94)*([1]ITS_COMM_DEV_MANUF!$C$2:$C$300='Comm Device (Code)'!$E94),0),0))","v":""},{"$f":"IF('Comm Device (Desc)'!K94=\"\",\"\",INDEX([1]ITS_COMM_DEV_MODEL!$A$2:$A$500,MATCH(1,([1]ITS_COMM_DEV_MODEL!$C$2:$C$500='Comm Device (Desc)'!$J94)*([1]ITS_COMM_DEV_MODEL!$D$2:$D$500='Comm Device (Code)'!$E94)*([1]ITS_COMM_DEV_MODEL!$E$2:$E$500='Comm Device (Desc)'!$K94),0),0))","v":""},{"$f":"IF('Comm Device (Desc)'!L94=\"\",\"\",'Comm Device (Desc)'!L94)","v":""},{"$f":"IF('Comm Device (Desc)'!M94=\"\",\"\",'Comm Device (Desc)'!M94)","v":""},{"$f":"IF('Comm Device (Desc)'!N94=\"\",\"\",'Comm Device (Desc)'!N94)","v":""},{"$f":"IF('Comm Device (Desc)'!O94=\"\",\"\",'Comm Device (Desc)'!O94)","v":""},{"$f":"IF('Comm Device (Desc)'!P94=\"\",\"\",INDEX([1]DEV_INPUT_VOLTAGE!$A$2:$A$100,MATCH('Comm Device (Desc)'!$P94,[1]!MASTER_DEV_INPUT_VOLTAGE_DESC[#Data],0),0))","v":""},{"$f":"IF('Comm Device (Desc)'!Q94=\"\",\"\",'Comm Device (Desc)'!Q94)","v":""},{"$f":"IF('Comm Device (Desc)'!R94=\"\",\"\",'Comm Device (Desc)'!R94)","v":""},{"$f":"IF('Comm Device (Desc)'!S94=\"\",\"\",'Comm Device (Desc)'!S94)","v":""},{"$f":"IF('Comm Device (Desc)'!T94=\"\",\"\",'Comm Device (Desc)'!T94)","v":""},{"$f":"IF('Comm Device (Desc)'!U94=\"\",\"\",'Comm Device (Desc)'!U94)","v":""},{"$f":"IF('Comm Device (Desc)'!V94=\"\",\"\",INDEX([1]FIBER_CONN_TYPE!$A$2:$A$100,MATCH('Comm Device (Desc)'!$V94,[1]!MASTER_FIBER_CONN_TYPE_DESC[#Data],0),0))","v":""}]
[{"$f":"IF('Comm Device (Desc)'!A95=\"\",\"\",'Comm Device (Desc)'!A95)","v":""},{"$f":"IF('Comm Device (Desc)'!C95=\"\",\"\",\"2029\")","v":""},{"$f":"IF('Comm Device (Desc)'!C95=\"\",\"\",'Comm Device (Desc)'!C95)","v":""},{"$f":"IF('Comm Device (Desc)'!D95=\"\",\"\",INDEX([1]OWNER!$A$2:$A$100,MATCH('Comm Device (Desc)'!$D95,[1]!MASTER_OWNER_DESC[#Data],0),0))","v":""},{"$f":"IF('Comm Device (Desc)'!F95=\"\",\"\",INDEX([1]ITS_COMM_DEV_TYPE!$A$2:$A$100,MATCH('Comm Device (Desc)'!$F95,[1]!MASTER_ITS_COMM_DEV_TYPE_DESC[#Data],0),0))","v":""},{"$f":"IF('Comm Device (Desc)'!G95=\"\",\"\",INDEX([1]COMM_TYPE!$A$2:$A$100,MATCH('Comm Device (Desc)'!$G95,[1]!MASTER_COMM_TYPE_DESC[#Data],0),0))","v":""},{"$f":"IF('Comm Device (Desc)'!H95=\"\",\"\",'Comm Device (Desc)'!H95)","v":""},{"$f":"IF('Comm Device (Desc)'!I95=\"\",\"\",'Comm Device (Desc)'!I95)","v":""},{"$f":"IF('Comm Device (Desc)'!J95=\"\",\"\",INDEX([1]ITS_COMM_DEV_MANUF!$A$2:$A$300,MATCH(1,([1]ITS_COMM_DEV_MANUF!$B$2:$B$300='Comm Device (Desc)'!$J95)*([1]ITS_COMM_DEV_MANUF!$C$2:$C$300='Comm Device (Code)'!$E95),0),0))","v":""},{"$f":"IF('Comm Device (Desc)'!K95=\"\",\"\",INDEX([1]ITS_COMM_DEV_MODEL!$A$2:$A$500,MATCH(1,([1]ITS_COMM_DEV_MODEL!$C$2:$C$500='Comm Device (Desc)'!$J95)*([1]ITS_COMM_DEV_MODEL!$D$2:$D$500='Comm Device (Code)'!$E95)*([1]ITS_COMM_DEV_MODEL!$E$2:$E$500='Comm Device (Desc)'!$K95),0),0))","v":""},{"$f":"IF('Comm Device (Desc)'!L95=\"\",\"\",'Comm Device (Desc)'!L95)","v":""},{"$f":"IF('Comm Device (Desc)'!M95=\"\",\"\",'Comm Device (Desc)'!M95)","v":""},{"$f":"IF('Comm Device (Desc)'!N95=\"\",\"\",'Comm Device (Desc)'!N95)","v":""},{"$f":"IF('Comm Device (Desc)'!O95=\"\",\"\",'Comm Device (Desc)'!O95)","v":""},{"$f":"IF('Comm Device (Desc)'!P95=\"\",\"\",INDEX([1]DEV_INPUT_VOLTAGE!$A$2:$A$100,MATCH('Comm Device (Desc)'!$P95,[1]!MASTER_DEV_INPUT_VOLTAGE_DESC[#Data],0),0))","v":""},{"$f":"IF('Comm Device (Desc)'!Q95=\"\",\"\",'Comm Device (Desc)'!Q95)","v":""},{"$f":"IF('Comm Device (Desc)'!R95=\"\",\"\",'Comm Device (Desc)'!R95)","v":""},{"$f":"IF('Comm Device (Desc)'!S95=\"\",\"\",'Comm Device (Desc)'!S95)","v":""},{"$f":"IF('Comm Device (Desc)'!T95=\"\",\"\",'Comm Device (Desc)'!T95)","v":""},{"$f":"IF('Comm Device (Desc)'!U95=\"\",\"\",'Comm Device (Desc)'!U95)","v":""},{"$f":"IF('Comm Device (Desc)'!V95=\"\",\"\",INDEX([1]FIBER_CONN_TYPE!$A$2:$A$100,MATCH('Comm Device (Desc)'!$V95,[1]!MASTER_FIBER_CONN_TYPE_DESC[#Data],0),0))","v":""}]
[{"$f":"IF('Comm Device (Desc)'!A96=\"\",\"\",'Comm Device (Desc)'!A96)","v":""},{"$f":"IF('Comm Device (Desc)'!C96=\"\",\"\",\"2029\")","v":""},{"$f":"IF('Comm Device (Desc)'!C96=\"\",\"\",'Comm Device (Desc)'!C96)","v":""},{"$f":"IF('Comm Device (Desc)'!D96=\"\",\"\",INDEX([1]OWNER!$A$2:$A$100,MATCH('Comm Device (Desc)'!$D96,[1]!MASTER_OWNER_DESC[#Data],0),0))","v":""},{"$f":"IF('Comm Device (Desc)'!F96=\"\",\"\",INDEX([1]ITS_COMM_DEV_TYPE!$A$2:$A$100,MATCH('Comm Device (Desc)'!$F96,[1]!MASTER_ITS_COMM_DEV_TYPE_DESC[#Data],0),0))","v":""},{"$f":"IF('Comm Device (Desc)'!G96=\"\",\"\",INDEX([1]COMM_TYPE!$A$2:$A$100,MATCH('Comm Device (Desc)'!$G96,[1]!MASTER_COMM_TYPE_DESC[#Data],0),0))","v":""},{"$f":"IF('Comm Device (Desc)'!H96=\"\",\"\",'Comm Device (Desc)'!H96)","v":""},{"$f":"IF('Comm Device (Desc)'!I96=\"\",\"\",'Comm Device (Desc)'!I96)","v":""},{"$f":"IF('Comm Device (Desc)'!J96=\"\",\"\",INDEX([1]ITS_COMM_DEV_MANUF!$A$2:$A$300,MATCH(1,([1]ITS_COMM_DEV_MANUF!$B$2:$B$300='Comm Device (Desc)'!$J96)*([1]ITS_COMM_DEV_MANUF!$C$2:$C$300='Comm Device (Code)'!$E96),0),0))","v":""},{"$f":"IF('Comm Device (Desc)'!K96=\"\",\"\",INDEX([1]ITS_COMM_DEV_MODEL!$A$2:$A$500,MATCH(1,([1]ITS_COMM_DEV_MODEL!$C$2:$C$500='Comm Device (Desc)'!$J96)*([1]ITS_COMM_DEV_MODEL!$D$2:$D$500='Comm Device (Code)'!$E96)*([1]ITS_COMM_DEV_MODEL!$E$2:$E$500='Comm Device (Desc)'!$K96),0),0))","v":""},{"$f":"IF('Comm Device (Desc)'!L96=\"\",\"\",'Comm Device (Desc)'!L96)","v":""},{"$f":"IF('Comm Device (Desc)'!M96=\"\",\"\",'Comm Device (Desc)'!M96)","v":""},{"$f":"IF('Comm Device (Desc)'!N96=\"\",\"\",'Comm Device (Desc)'!N96)","v":""},{"$f":"IF('Comm Device (Desc)'!O96=\"\",\"\",'Comm Device (Desc)'!O96)","v":""},{"$f":"IF('Comm Device (Desc)'!P96=\"\",\"\",INDEX([1]DEV_INPUT_VOLTAGE!$A$2:$A$100,MATCH('Comm Device (Desc)'!$P96,[1]!MASTER_DEV_INPUT_VOLTAGE_DESC[#Data],0),0))","v":""},{"$f":"IF('Comm Device (Desc)'!Q96=\"\",\"\",'Comm Device (Desc)'!Q96)","v":""},{"$f":"IF('Comm Device (Desc)'!R96=\"\",\"\",'Comm Device (Desc)'!R96)","v":""},{"$f":"IF('Comm Device (Desc)'!S96=\"\",\"\",'Comm Device (Desc)'!S96)","v":""},{"$f":"IF('Comm Device (Desc)'!T96=\"\",\"\",'Comm Device (Desc)'!T96)","v":""},{"$f":"IF('Comm Device (Desc)'!U96=\"\",\"\",'Comm Device (Desc)'!U96)","v":""},{"$f":"IF('Comm Device (Desc)'!V96=\"\",\"\",INDEX([1]FIBER_CONN_TYPE!$A$2:$A$100,MATCH('Comm Device (Desc)'!$V96,[1]!MASTER_FIBER_CONN_TYPE_DESC[#Data],0),0))","v":""}]
[{"$f":"IF('Comm Device (Desc)'!A97=\"\",\"\",'Comm Device (Desc)'!A97)","v":""},{"$f":"IF('Comm Device (Desc)'!C97=\"\",\"\",\"2029\")","v":""},{"$f":"IF('Comm Device (Desc)'!C97=\"\",\"\",'Comm Device (Desc)'!C97)","v":""},{"$f":"IF('Comm Device (Desc)'!D97=\"\",\"\",INDEX([1]OWNER!$A$2:$A$100,MATCH('Comm Device (Desc)'!$D97,[1]!MASTER_OWNER_DESC[#Data],0),0))","v":""},{"$f":"IF('Comm Device (Desc)'!F97=\"\",\"\",INDEX([1]ITS_COMM_DEV_TYPE!$A$2:$A$100,MATCH('Comm Device (Desc)'!$F97,[1]!MASTER_ITS_COMM_DEV_TYPE_DESC[#Data],0),0))","v":""},{"$f":"IF('Comm Device (Desc)'!G97=\"\",\"\",INDEX([1]COMM_TYPE!$A$2:$A$100,MATCH('Comm Device (Desc)'!$G97,[1]!MASTER_COMM_TYPE_DESC[#Data],0),0))","v":""},{"$f":"IF('Comm Device (Desc)'!H97=\"\",\"\",'Comm Device (Desc)'!H97)","v":""},{"$f":"IF('Comm Device (Desc)'!I97=\"\",\"\",'Comm Device (Desc)'!I97)","v":""},{"$f":"IF('Comm Device (Desc)'!J97=\"\",\"\",INDEX([1]ITS_COMM_DEV_MANUF!$A$2:$A$300,MATCH(1,([1]ITS_COMM_DEV_MANUF!$B$2:$B$300='Comm Device (Desc)'!$J97)*([1]ITS_COMM_DEV_MANUF!$C$2:$C$300='Comm Device (Code)'!$E97),0),0))","v":""},{"$f":"IF('Comm Device (Desc)'!K97=\"\",\"\",INDEX([1]ITS_COMM_DEV_MODEL!$A$2:$A$500,MATCH(1,([1]ITS_COMM_DEV_MODEL!$C$2:$C$500='Comm Device (Desc)'!$J97)*([1]ITS_COMM_DEV_MODEL!$D$2:$D$500='Comm Device (Code)'!$E97)*([1]ITS_COMM_DEV_MODEL!$E$2:$E$500='Comm Device (Desc)'!$K97),0),0))","v":""},{"$f":"IF('Comm Device (Desc)'!L97=\"\",\"\",'Comm Device (Desc)'!L97)","v":""},{"$f":"IF('Comm Device (Desc)'!M97=\"\",\"\",'Comm Device (Desc)'!M97)","v":""},{"$f":"IF('Comm Device (Desc)'!N97=\"\",\"\",'Comm Device (Desc)'!N97)","v":""},{"$f":"IF('Comm Device (Desc)'!O97=\"\",\"\",'Comm Device (Desc)'!O97)","v":""},{"$f":"IF('Comm Device (Desc)'!P97=\"\",\"\",INDEX([1]DEV_INPUT_VOLTAGE!$A$2:$A$100,MATCH('Comm Device (Desc)'!$P97,[1]!MASTER_DEV_INPUT_VOLTAGE_DESC[#Data],0),0))","v":""},{"$f":"IF('Comm Device (Desc)'!Q97=\"\",\"\",'Comm Device (Desc)'!Q97)","v":""},{"$f":"IF('Comm Device (Desc)'!R97=\"\",\"\",'Comm Device (Desc)'!R97)","v":""},{"$f":"IF('Comm Device (Desc)'!S97=\"\",\"\",'Comm Device (Desc)'!S97)","v":""},{"$f":"IF('Comm Device (Desc)'!T97=\"\",\"\",'Comm Device (Desc)'!T97)","v":""},{"$f":"IF('Comm Device (Desc)'!U97=\"\",\"\",'Comm Device (Desc)'!U97)","v":""},{"$f":"IF('Comm Device (Desc)'!V97=\"\",\"\",INDEX([1]FIBER_CONN_TYPE!$A$2:$A$100,MATCH('Comm Device (Desc)'!$V97,[1]!MASTER_FIBER_CONN_TYPE_DESC[#Data],0),0))","v":""}]
[{"$f":"IF('Comm Device (Desc)'!A98=\"\",\"\",'Comm Device (Desc)'!A98)","v":""},{"$f":"IF('Comm Device (Desc)'!C98=\"\",\"\",\"2029\")","v":""},{"$f":"IF('Comm Device (Desc)'!C98=\"\",\"\",'Comm Device (Desc)'!C98)","v":""},{"$f":"IF('Comm Device (Desc)'!D98=\"\",\"\",INDEX([1]OWNER!$A$2:$A$100,MATCH('Comm Device (Desc)'!$D98,[1]!MASTER_OWNER_DESC[#Data],0),0))","v":""},{"$f":"IF('Comm Device (Desc)'!F98=\"\",\"\",INDEX([1]ITS_COMM_DEV_TYPE!$A$2:$A$100,MATCH('Comm Device (Desc)'!$F98,[1]!MASTER_ITS_COMM_DEV_TYPE_DESC[#Data],0),0))","v":""},{"$f":"IF('Comm Device (Desc)'!G98=\"\",\"\",INDEX([1]COMM_TYPE!$A$2:$A$100,MATCH('Comm Device (Desc)'!$G98,[1]!MASTER_COMM_TYPE_DESC[#Data],0),0))","v":""},{"$f":"IF('Comm Device (Desc)'!H98=\"\",\"\",'Comm Device (Desc)'!H98)","v":""},{"$f":"IF('Comm Device (Desc)'!I98=\"\",\"\",'Comm Device (Desc)'!I98)","v":""},{"$f":"IF('Comm Device (Desc)'!J98=\"\",\"\",INDEX([1]ITS_COMM_DEV_MANUF!$A$2:$A$300,MATCH(1,([1]ITS_COMM_DEV_MANUF!$B$2:$B$300='Comm Device (Desc)'!$J98)*([1]ITS_COMM_DEV_MANUF!$C$2:$C$300='Comm Device (Code)'!$E98),0),0))","v":""},{"$f":"IF('Comm Device (Desc)'!K98=\"\",\"\",INDEX([1]ITS_COMM_DEV_MODEL!$A$2:$A$500,MATCH(1,([1]ITS_COMM_DEV_MODEL!$C$2:$C$500='Comm Device (Desc)'!$J98)*([1]ITS_COMM_DEV_MODEL!$D$2:$D$500='Comm Device (Code)'!$E98)*([1]ITS_COMM_DEV_MODEL!$E$2:$E$500='Comm Device (Desc)'!$K98),0),0))","v":""},{"$f":"IF('Comm Device (Desc)'!L98=\"\",\"\",'Comm Device (Desc)'!L98)","v":""},{"$f":"IF('Comm Device (Desc)'!M98=\"\",\"\",'Comm Device (Desc)'!M98)","v":""},{"$f":"IF('Comm Device (Desc)'!N98=\"\",\"\",'Comm Device (Desc)'!N98)","v":""},{"$f":"IF('Comm Device (Desc)'!O98=\"\",\"\",'Comm Device (Desc)'!O98)","v":""},{"$f":"IF('Comm Device (Desc)'!P98=\"\",\"\",INDEX([1]DEV_INPUT_VOLTAGE!$A$2:$A$100,MATCH('Comm Device (Desc)'!$P98,[1]!MASTER_DEV_INPUT_VOLTAGE_DESC[#Data],0),0))","v":""},{"$f":"IF('Comm Device (Desc)'!Q98=\"\",\"\",'Comm Device (Desc)'!Q98)","v":""},{"$f":"IF('Comm Device (Desc)'!R98=\"\",\"\",'Comm Device (Desc)'!R98)","v":""},{"$f":"IF('Comm Device (Desc)'!S98=\"\",\"\",'Comm Device (Desc)'!S98)","v":""},{"$f":"IF('Comm Device (Desc)'!T98=\"\",\"\",'Comm Device (Desc)'!T98)","v":""},{"$f":"IF('Comm Device (Desc)'!U98=\"\",\"\",'Comm Device (Desc)'!U98)","v":""},{"$f":"IF('Comm Device (Desc)'!V98=\"\",\"\",INDEX([1]FIBER_CONN_TYPE!$A$2:$A$100,MATCH('Comm Device (Desc)'!$V98,[1]!MASTER_FIBER_CONN_TYPE_DESC[#Data],0),0))","v":""}]
[{"$f":"IF('Comm Device (Desc)'!A99=\"\",\"\",'Comm Device (Desc)'!A99)","v":""},{"$f":"IF('Comm Device (Desc)'!C99=\"\",\"\",\"2029\")","v":""},{"$f":"IF('Comm Device (Desc)'!C99=\"\",\"\",'Comm Device (Desc)'!C99)","v":""},{"$f":"IF('Comm Device (Desc)'!D99=\"\",\"\",INDEX([1]OWNER!$A$2:$A$100,MATCH('Comm Device (Desc)'!$D99,[1]!MASTER_OWNER_DESC[#Data],0),0))","v":""},{"$f":"IF('Comm Device (Desc)'!F99=\"\",\"\",INDEX([1]ITS_COMM_DEV_TYPE!$A$2:$A$100,MATCH('Comm Device (Desc)'!$F99,[1]!MASTER_ITS_COMM_DEV_TYPE_DESC[#Data],0),0))","v":""},{"$f":"IF('Comm Device (Desc)'!G99=\"\",\"\",INDEX([1]COMM_TYPE!$A$2:$A$100,MATCH('Comm Device (Desc)'!$G99,[1]!MASTER_COMM_TYPE_DESC[#Data],0),0))","v":""},{"$f":"IF('Comm Device (Desc)'!H99=\"\",\"\",'Comm Device (Desc)'!H99)","v":""},{"$f":"IF('Comm Device (Desc)'!I99=\"\",\"\",'Comm Device (Desc)'!I99)","v":""},{"$f":"IF('Comm Device (Desc)'!J99=\"\",\"\",INDEX([1]ITS_COMM_DEV_MANUF!$A$2:$A$300,MATCH(1,([1]ITS_COMM_DEV_MANUF!$B$2:$B$300='Comm Device (Desc)'!$J99)*([1]ITS_COMM_DEV_MANUF!$C$2:$C$300='Comm Device (Code)'!$E99),0),0))","v":""},{"$f":"IF('Comm Device (Desc)'!K99=\"\",\"\",INDEX([1]ITS_COMM_DEV_MODEL!$A$2:$A$500,MATCH(1,([1]ITS_COMM_DEV_MODEL!$C$2:$C$500='Comm Device (Desc)'!$J99)*([1]ITS_COMM_DEV_MODEL!$D$2:$D$500='Comm Device (Code)'!$E99)*([1]ITS_COMM_DEV_MODEL!$E$2:$E$500='Comm Device (Desc)'!$K99),0),0))","v":""},{"$f":"IF('Comm Device (Desc)'!L99=\"\",\"\",'Comm Device (Desc)'!L99)","v":""},{"$f":"IF('Comm Device (Desc)'!M99=\"\",\"\",'Comm Device (Desc)'!M99)","v":""},{"$f":"IF('Comm Device (Desc)'!N99=\"\",\"\",'Comm Device (Desc)'!N99)","v":""},{"$f":"IF('Comm Device (Desc)'!O99=\"\",\"\",'Comm Device (Desc)'!O99)","v":""},{"$f":"IF('Comm Device (Desc)'!P99=\"\",\"\",INDEX([1]DEV_INPUT_VOLTAGE!$A$2:$A$100,MATCH('Comm Device (Desc)'!$P99,[1]!MASTER_DEV_INPUT_VOLTAGE_DESC[#Data],0),0))","v":""},{"$f":"IF('Comm Device (Desc)'!Q99=\"\",\"\",'Comm Device (Desc)'!Q99)","v":""},{"$f":"IF('Comm Device (Desc)'!R99=\"\",\"\",'Comm Device (Desc)'!R99)","v":""},{"$f":"IF('Comm Device (Desc)'!S99=\"\",\"\",'Comm Device (Desc)'!S99)","v":""},{"$f":"IF('Comm Device (Desc)'!T99=\"\",\"\",'Comm Device (Desc)'!T99)","v":""},{"$f":"IF('Comm Device (Desc)'!U99=\"\",\"\",'Comm Device (Desc)'!U99)","v":""},{"$f":"IF('Comm Device (Desc)'!V99=\"\",\"\",INDEX([1]FIBER_CONN_TYPE!$A$2:$A$100,MATCH('Comm Device (Desc)'!$V99,[1]!MASTER_FIBER_CONN_TYPE_DESC[#Data],0),0))","v":""}]
[{"$f":"IF('Comm Device (Desc)'!A100=\"\",\"\",'Comm Device (Desc)'!A100)","v":""},{"$f":"IF('Comm Device (Desc)'!C100=\"\",\"\",\"2029\")","v":""},{"$f":"IF('Comm Device (Desc)'!C100=\"\",\"\",'Comm Device (Desc)'!C100)","v":""},{"$f":"IF('Comm Device (Desc)'!D100=\"\",\"\",INDEX([1]OWNER!$A$2:$A$100,MATCH('Comm Device (Desc)'!$D100,[1]!MASTER_OWNER_DESC[#Data],0),0))","v":""},{"$f":"IF('Comm Device (Desc)'!F100=\"\",\"\",INDEX([1]ITS_COMM_DEV_TYPE!$A$2:$A$100,MATCH('Comm Device (Desc)'!$F100,[1]!MASTER_ITS_COMM_DEV_TYPE_DESC[#Data],0),0))","v":""},{"$f":"IF('Comm Device (Desc)'!G100=\"\",\"\",INDEX([1]COMM_TYPE!$A$2:$A$100,MATCH('Comm Device (Desc)'!$G100,[1]!MASTER_COMM_TYPE_DESC[#Data],0),0))","v":""},{"$f":"IF('Comm Device (Desc)'!H100=\"\",\"\",'Comm Device (Desc)'!H100)","v":""},{"$f":"IF('Comm Device (Desc)'!I100=\"\",\"\",'Comm Device (Desc)'!I100)","v":""},{"$f":"IF('Comm Device (Desc)'!J100=\"\",\"\",INDEX([1]ITS_COMM_DEV_MANUF!$A$2:$A$300,MATCH(1,([1]ITS_COMM_DEV_MANUF!$B$2:$B$300='Comm Device (Desc)'!$J100)*([1]ITS_COMM_DEV_MANUF!$C$2:$C$300='Comm Device (Code)'!$E100),0),0))","v":""},{"$f":"IF('Comm Device (Desc)'!K100=\"\",\"\",INDEX([1]ITS_COMM_DEV_MODEL!$A$2:$A$500,MATCH(1,([1]ITS_COMM_DEV_MODEL!$C$2:$C$500='Comm Device (Desc)'!$J100)*([1]ITS_COMM_DEV_MODEL!$D$2:$D$500='Comm Device (Code)'!$E100)*([1]ITS_COMM_DEV_MODEL!$E$2:$E$500='Comm Device (Desc)'!$K100),0),0))","v":""},{"$f":"IF('Comm Device (Desc)'!L100=\"\",\"\",'Comm Device (Desc)'!L100)","v":""},{"$f":"IF('Comm Device (Desc)'!M100=\"\",\"\",'Comm Device (Desc)'!M100)","v":""},{"$f":"IF('Comm Device (Desc)'!N100=\"\",\"\",'Comm Device (Desc)'!N100)","v":""},{"$f":"IF('Comm Device (Desc)'!O100=\"\",\"\",'Comm Device (Desc)'!O100)","v":""},{"$f":"IF('Comm Device (Desc)'!P100=\"\",\"\",INDEX([1]DEV_INPUT_VOLTAGE!$A$2:$A$100,MATCH('Comm Device (Desc)'!$P100,[1]!MASTER_DEV_INPUT_VOLTAGE_DESC[#Data],0),0))","v":""},{"$f":"IF('Comm Device (Desc)'!Q100=\"\",\"\",'Comm Device (Desc)'!Q100)","v":""},{"$f":"IF('Comm Device (Desc)'!R100=\"\",\"\",'Comm Device (Desc)'!R100)","v":""},{"$f":"IF('Comm Device (Desc)'!S100=\"\",\"\",'Comm Device (Desc)'!S100)","v":""},{"$f":"IF('Comm Device (Desc)'!T100=\"\",\"\",'Comm Device (Desc)'!T100)","v":""},{"$f":"IF('Comm Device (Desc)'!U100=\"\",\"\",'Comm Device (Desc)'!U100)","v":""},{"$f":"IF('Comm Device (Desc)'!V100=\"\",\"\",INDEX([1]FIBER_CONN_TYPE!$A$2:$A$100,MATCH('Comm Device (Desc)'!$V100,[1]!MASTER_FIBER_CONN_TYPE_DESC[#Data],0),0))","v":""}]
[{"$f":"IF('Comm Device (Desc)'!A101=\"\",\"\",'Comm Device (Desc)'!A101)","v":""},{"$f":"IF('Comm Device (Desc)'!C101=\"\",\"\",\"2029\")","v":""},{"$f":"IF('Comm Device (Desc)'!C101=\"\",\"\",'Comm Device (Desc)'!C101)","v":""},{"$f":"IF('Comm Device (Desc)'!D101=\"\",\"\",INDEX([1]OWNER!$A$2:$A$100,MATCH('Comm Device (Desc)'!$D101,[1]!MASTER_OWNER_DESC[#Data],0),0))","v":""},{"$f":"IF('Comm Device (Desc)'!F101=\"\",\"\",INDEX([1]ITS_COMM_DEV_TYPE!$A$2:$A$100,MATCH('Comm Device (Desc)'!$F101,[1]!MASTER_ITS_COMM_DEV_TYPE_DESC[#Data],0),0))","v":""},{"$f":"IF('Comm Device (Desc)'!G101=\"\",\"\",INDEX([1]COMM_TYPE!$A$2:$A$100,MATCH('Comm Device (Desc)'!$G101,[1]!MASTER_COMM_TYPE_DESC[#Data],0),0))","v":""},{"$f":"IF('Comm Device (Desc)'!H101=\"\",\"\",'Comm Device (Desc)'!H101)","v":""},{"$f":"IF('Comm Device (Desc)'!I101=\"\",\"\",'Comm Device (Desc)'!I101)","v":""},{"$f":"IF('Comm Device (Desc)'!J101=\"\",\"\",INDEX([1]ITS_COMM_DEV_MANUF!$A$2:$A$300,MATCH(1,([1]ITS_COMM_DEV_MANUF!$B$2:$B$300='Comm Device (Desc)'!$J101)*([1]ITS_COMM_DEV_MANUF!$C$2:$C$300='Comm Device (Code)'!$E101),0),0))","v":""},{"$f":"IF('Comm Device (Desc)'!K101=\"\",\"\",INDEX([1]ITS_COMM_DEV_MODEL!$A$2:$A$500,MATCH(1,([1]ITS_COMM_DEV_MODEL!$C$2:$C$500='Comm Device (Desc)'!$J101)*([1]ITS_COMM_DEV_MODEL!$D$2:$D$500='Comm Device (Code)'!$E101)*([1]ITS_COMM_DEV_MODEL!$E$2:$E$500='Comm Device (Desc)'!$K101),0),0))","v":""},{"$f":"IF('Comm Device (Desc)'!L101=\"\",\"\",'Comm Device (Desc)'!L101)","v":""},{"$f":"IF('Comm Device (Desc)'!M101=\"\",\"\",'Comm Device (Desc)'!M101)","v":""},{"$f":"IF('Comm Device (Desc)'!N101=\"\",\"\",'Comm Device (Desc)'!N101)","v":""},{"$f":"IF('Comm Device (Desc)'!O101=\"\",\"\",'Comm Device (Desc)'!O101)","v":""},{"$f":"IF('Comm Device (Desc)'!P101=\"\",\"\",INDEX([1]DEV_INPUT_VOLTAGE!$A$2:$A$100,MATCH('Comm Device (Desc)'!$P101,[1]!MASTER_DEV_INPUT_VOLTAGE_DESC[#Data],0),0))","v":""},{"$f":"IF('Comm Device (Desc)'!Q101=\"\",\"\",'Comm Device (Desc)'!Q101)","v":""},{"$f":"IF('Comm Device (Desc)'!R101=\"\",\"\",'Comm Device (Desc)'!R101)","v":""},{"$f":"IF('Comm Device (Desc)'!S101=\"\",\"\",'Comm Device (Desc)'!S101)","v":""},{"$f":"IF('Comm Device (Desc)'!T101=\"\",\"\",'Comm Device (Desc)'!T101)","v":""},{"$f":"IF('Comm Device (Desc)'!U101=\"\",\"\",'Comm Device (Desc)'!U101)","v":""},{"$f":"IF('Comm Device (Desc)'!V101=\"\",\"\",INDEX([1]FIBER_CONN_TYPE!$A$2:$A$100,MATCH('Comm Device (Desc)'!$V101,[1]!MASTER_FIBER_CONN_TYPE_DESC[#Data],0),0))","v":""}]
[{"$f":"IF('Comm Device (Desc)'!A102=\"\",\"\",'Comm Device (Desc)'!A102)","v":""},{"$f":"IF('Comm Device (Desc)'!C102=\"\",\"\",\"2029\")","v":""},{"$f":"IF('Comm Device (Desc)'!C102=\"\",\"\",'Comm Device (Desc)'!C102)","v":""},{"$f":"IF('Comm Device (Desc)'!D102=\"\",\"\",INDEX([1]OWNER!$A$2:$A$100,MATCH('Comm Device (Desc)'!$D102,[1]!MASTER_OWNER_DESC[#Data],0),0))","v":""},{"$f":"IF('Comm Device (Desc)'!F102=\"\",\"\",INDEX([1]ITS_COMM_DEV_TYPE!$A$2:$A$100,MATCH('Comm Device (Desc)'!$F102,[1]!MASTER_ITS_COMM_DEV_TYPE_DESC[#Data],0),0))","v":""},{"$f":"IF('Comm Device (Desc)'!G102=\"\",\"\",INDEX([1]COMM_TYPE!$A$2:$A$100,MATCH('Comm Device (Desc)'!$G102,[1]!MASTER_COMM_TYPE_DESC[#Data],0),0))","v":""},{"$f":"IF('Comm Device (Desc)'!H102=\"\",\"\",'Comm Device (Desc)'!H102)","v":""},{"$f":"IF('Comm Device (Desc)'!I102=\"\",\"\",'Comm Device (Desc)'!I102)","v":""},{"$f":"IF('Comm Device (Desc)'!J102=\"\",\"\",INDEX([1]ITS_COMM_DEV_MANUF!$A$2:$A$300,MATCH(1,([1]ITS_COMM_DEV_MANUF!$B$2:$B$300='Comm Device (Desc)'!$J102)*([1]ITS_COMM_DEV_MANUF!$C$2:$C$300='Comm Device (Code)'!$E102),0),0))","v":""},{"$f":"IF('Comm Device (Desc)'!K102=\"\",\"\",INDEX([1]ITS_COMM_DEV_MODEL!$A$2:$A$500,MATCH(1,([1]ITS_COMM_DEV_MODEL!$C$2:$C$500='Comm Device (Desc)'!$J102)*([1]ITS_COMM_DEV_MODEL!$D$2:$D$500='Comm Device (Code)'!$E102)*([1]ITS_COMM_DEV_MODEL!$E$2:$E$500='Comm Device (Desc)'!$K102),0),0))","v":""},{"$f":"IF('Comm Device (Desc)'!L102=\"\",\"\",'Comm Device (Desc)'!L102)","v":""},{"$f":"IF('Comm Device (Desc)'!M102=\"\",\"\",'Comm Device (Desc)'!M102)","v":""},{"$f":"IF('Comm Device (Desc)'!N102=\"\",\"\",'Comm Device (Desc)'!N102)","v":""},{"$f":"IF('Comm Device (Desc)'!O102=\"\",\"\",'Comm Device (Desc)'!O102)","v":""},{"$f":"IF('Comm Device (Desc)'!P102=\"\",\"\",INDEX([1]DEV_INPUT_VOLTAGE!$A$2:$A$100,MATCH('Comm Device (Desc)'!$P102,[1]!MASTER_DEV_INPUT_VOLTAGE_DESC[#Data],0),0))","v":""},{"$f":"IF('Comm Device (Desc)'!Q102=\"\",\"\",'Comm Device (Desc)'!Q102)","v":""},{"$f":"IF('Comm Device (Desc)'!R102=\"\",\"\",'Comm Device (Desc)'!R102)","v":""},{"$f":"IF('Comm Device (Desc)'!S102=\"\",\"\",'Comm Device (Desc)'!S102)","v":""},{"$f":"IF('Comm Device (Desc)'!T102=\"\",\"\",'Comm Device (Desc)'!T102)","v":""},{"$f":"IF('Comm Device (Desc)'!U102=\"\",\"\",'Comm Device (Desc)'!U102)","v":""},{"$f":"IF('Comm Device (Desc)'!V102=\"\",\"\",INDEX([1]FIBER_CONN_TYPE!$A$2:$A$100,MATCH('Comm Device (Desc)'!$V102,[1]!MASTER_FIBER_CONN_TYPE_DESC[#Data],0),0))","v":""}]
[{"$f":"IF('Comm Device (Desc)'!A103=\"\",\"\",'Comm Device (Desc)'!A103)","v":""},{"$f":"IF('Comm Device (Desc)'!C103=\"\",\"\",\"2029\")","v":""},{"$f":"IF('Comm Device (Desc)'!C103=\"\",\"\",'Comm Device (Desc)'!C103)","v":""},{"$f":"IF('Comm Device (Desc)'!D103=\"\",\"\",INDEX([1]OWNER!$A$2:$A$100,MATCH('Comm Device (Desc)'!$D103,[1]!MASTER_OWNER_DESC[#Data],0),0))","v":""},{"$f":"IF('Comm Device (Desc)'!F103=\"\",\"\",INDEX([1]ITS_COMM_DEV_TYPE!$A$2:$A$100,MATCH('Comm Device (Desc)'!$F103,[1]!MASTER_ITS_COMM_DEV_TYPE_DESC[#Data],0),0))","v":""},{"$f":"IF('Comm Device (Desc)'!G103=\"\",\"\",INDEX([1]COMM_TYPE!$A$2:$A$100,MATCH('Comm Device (Desc)'!$G103,[1]!MASTER_COMM_TYPE_DESC[#Data],0),0))","v":""},{"$f":"IF('Comm Device (Desc)'!H103=\"\",\"\",'Comm Device (Desc)'!H103)","v":""},{"$f":"IF('Comm Device (Desc)'!I103=\"\",\"\",'Comm Device (Desc)'!I103)","v":""},{"$f":"IF('Comm Device (Desc)'!J103=\"\",\"\",INDEX([1]ITS_COMM_DEV_MANUF!$A$2:$A$300,MATCH(1,([1]ITS_COMM_DEV_MANUF!$B$2:$B$300='Comm Device (Desc)'!$J103)*([1]ITS_COMM_DEV_MANUF!$C$2:$C$300='Comm Device (Code)'!$E103),0),0))","v":""},{"$f":"IF('Comm Device (Desc)'!K103=\"\",\"\",INDEX([1]ITS_COMM_DEV_MODEL!$A$2:$A$500,MATCH(1,([1]ITS_COMM_DEV_MODEL!$C$2:$C$500='Comm Device (Desc)'!$J103)*([1]ITS_COMM_DEV_MODEL!$D$2:$D$500='Comm Device (Code)'!$E103)*([1]ITS_COMM_DEV_MODEL!$E$2:$E$500='Comm Device (Desc)'!$K103),0),0))","v":""},{"$f":"IF('Comm Device (Desc)'!L103=\"\",\"\",'Comm Device (Desc)'!L103)","v":""},{"$f":"IF('Comm Device (Desc)'!M103=\"\",\"\",'Comm Device (Desc)'!M103)","v":""},{"$f":"IF('Comm Device (Desc)'!N103=\"\",\"\",'Comm Device (Desc)'!N103)","v":""},{"$f":"IF('Comm Device (Desc)'!O103=\"\",\"\",'Comm Device (Desc)'!O103)","v":""},{"$f":"IF('Comm Device (Desc)'!P103=\"\",\"\",INDEX([1]DEV_INPUT_VOLTAGE!$A$2:$A$100,MATCH('Comm Device (Desc)'!$P103,[1]!MASTER_DEV_INPUT_VOLTAGE_DESC[#Data],0),0))","v":""},{"$f":"IF('Comm Device (Desc)'!Q103=\"\",\"\",'Comm Device (Desc)'!Q103)","v":""},{"$f":"IF('Comm Device (Desc)'!R103=\"\",\"\",'Comm Device (Desc)'!R103)","v":""},{"$f":"IF('Comm Device (Desc)'!S103=\"\",\"\",'Comm Device (Desc)'!S103)","v":""},{"$f":"IF('Comm Device (Desc)'!T103=\"\",\"\",'Comm Device (Desc)'!T103)","v":""},{"$f":"IF('Comm Device (Desc)'!U103=\"\",\"\",'Comm Device (Desc)'!U103)","v":""},{"$f":"IF('Comm Device (Desc)'!V103=\"\",\"\",INDEX([1]FIBER_CONN_TYPE!$A$2:$A$100,MATCH('Comm Device (Desc)'!$V103,[1]!MASTER_FIBER_CONN_TYPE_DESC[#Data],0),0))","v":""}]
[{"$f":"IF('Comm Device (Desc)'!A104=\"\",\"\",'Comm Device (Desc)'!A104)","v":""},{"$f":"IF('Comm Device (Desc)'!C104=\"\",\"\",\"2029\")","v":""},{"$f":"IF('Comm Device (Desc)'!C104=\"\",\"\",'Comm Device (Desc)'!C104)","v":""},{"$f":"IF('Comm Device (Desc)'!D104=\"\",\"\",INDEX([1]OWNER!$A$2:$A$100,MATCH('Comm Device (Desc)'!$D104,[1]!MASTER_OWNER_DESC[#Data],0),0))","v":""},{"$f":"IF('Comm Device (Desc)'!F104=\"\",\"\",INDEX([1]ITS_COMM_DEV_TYPE!$A$2:$A$100,MATCH('Comm Device (Desc)'!$F104,[1]!MASTER_ITS_COMM_DEV_TYPE_DESC[#Data],0),0))","v":""},{"$f":"IF('Comm Device (Desc)'!G104=\"\",\"\",INDEX([1]COMM_TYPE!$A$2:$A$100,MATCH('Comm Device (Desc)'!$G104,[1]!MASTER_COMM_TYPE_DESC[#Data],0),0))","v":""},{"$f":"IF('Comm Device (Desc)'!H104=\"\",\"\",'Comm Device (Desc)'!H104)","v":""},{"$f":"IF('Comm Device (Desc)'!I104=\"\",\"\",'Comm Device (Desc)'!I104)","v":""},{"$f":"IF('Comm Device (Desc)'!J104=\"\",\"\",INDEX([1]ITS_COMM_DEV_MANUF!$A$2:$A$300,MATCH(1,([1]ITS_COMM_DEV_MANUF!$B$2:$B$300='Comm Device (Desc)'!$J104)*([1]ITS_COMM_DEV_MANUF!$C$2:$C$300='Comm Device (Code)'!$E104),0),0))","v":""},{"$f":"IF('Comm Device (Desc)'!K104=\"\",\"\",INDEX([1]ITS_COMM_DEV_MODEL!$A$2:$A$500,MATCH(1,([1]ITS_COMM_DEV_MODEL!$C$2:$C$500='Comm Device (Desc)'!$J104)*([1]ITS_COMM_DEV_MODEL!$D$2:$D$500='Comm Device (Code)'!$E104)*([1]ITS_COMM_DEV_MODEL!$E$2:$E$500='Comm Device (Desc)'!$K104),0),0))","v":""},{"$f":"IF('Comm Device (Desc)'!L104=\"\",\"\",'Comm Device (Desc)'!L104)","v":""},{"$f":"IF('Comm Device (Desc)'!M104=\"\",\"\",'Comm Device (Desc)'!M104)","v":""},{"$f":"IF('Comm Device (Desc)'!N104=\"\",\"\",'Comm Device (Desc)'!N104)","v":""},{"$f":"IF('Comm Device (Desc)'!O104=\"\",\"\",'Comm Device (Desc)'!O104)","v":""},{"$f":"IF('Comm Device (Desc)'!P104=\"\",\"\",INDEX([1]DEV_INPUT_VOLTAGE!$A$2:$A$100,MATCH('Comm Device (Desc)'!$P104,[1]!MASTER_DEV_INPUT_VOLTAGE_DESC[#Data],0),0))","v":""},{"$f":"IF('Comm Device (Desc)'!Q104=\"\",\"\",'Comm Device (Desc)'!Q104)","v":""},{"$f":"IF('Comm Device (Desc)'!R104=\"\",\"\",'Comm Device (Desc)'!R104)","v":""},{"$f":"IF('Comm Device (Desc)'!S104=\"\",\"\",'Comm Device (Desc)'!S104)","v":""},{"$f":"IF('Comm Device (Desc)'!T104=\"\",\"\",'Comm Device (Desc)'!T104)","v":""},{"$f":"IF('Comm Device (Desc)'!U104=\"\",\"\",'Comm Device (Desc)'!U104)","v":""},{"$f":"IF('Comm Device (Desc)'!V104=\"\",\"\",INDEX([1]FIBER_CONN_TYPE!$A$2:$A$100,MATCH('Comm Device (Desc)'!$V104,[1]!MASTER_FIBER_CONN_TYPE_DESC[#Data],0),0))","v":""}]
[{"$f":"IF('Comm Device (Desc)'!A105=\"\",\"\",'Comm Device (Desc)'!A105)","v":""},{"$f":"IF('Comm Device (Desc)'!C105=\"\",\"\",\"2029\")","v":""},{"$f":"IF('Comm Device (Desc)'!C105=\"\",\"\",'Comm Device (Desc)'!C105)","v":""},{"$f":"IF('Comm Device (Desc)'!D105=\"\",\"\",INDEX([1]OWNER!$A$2:$A$100,MATCH('Comm Device (Desc)'!$D105,[1]!MASTER_OWNER_DESC[#Data],0),0))","v":""},{"$f":"IF('Comm Device (Desc)'!F105=\"\",\"\",INDEX([1]ITS_COMM_DEV_TYPE!$A$2:$A$100,MATCH('Comm Device (Desc)'!$F105,[1]!MASTER_ITS_COMM_DEV_TYPE_DESC[#Data],0),0))","v":""},{"$f":"IF('Comm Device (Desc)'!G105=\"\",\"\",INDEX([1]COMM_TYPE!$A$2:$A$100,MATCH('Comm Device (Desc)'!$G105,[1]!MASTER_COMM_TYPE_DESC[#Data],0),0))","v":""},{"$f":"IF('Comm Device (Desc)'!H105=\"\",\"\",'Comm Device (Desc)'!H105)","v":""},{"$f":"IF('Comm Device (Desc)'!I105=\"\",\"\",'Comm Device (Desc)'!I105)","v":""},{"$f":"IF('Comm Device (Desc)'!J105=\"\",\"\",INDEX([1]ITS_COMM_DEV_MANUF!$A$2:$A$300,MATCH(1,([1]ITS_COMM_DEV_MANUF!$B$2:$B$300='Comm Device (Desc)'!$J105)*([1]ITS_COMM_DEV_MANUF!$C$2:$C$300='Comm Device (Code)'!$E105),0),0))","v":""},{"$f":"IF('Comm Device (Desc)'!K105=\"\",\"\",INDEX([1]ITS_COMM_DEV_MODEL!$A$2:$A$500,MATCH(1,([1]ITS_COMM_DEV_MODEL!$C$2:$C$500='Comm Device (Desc)'!$J105)*([1]ITS_COMM_DEV_MODEL!$D$2:$D$500='Comm Device (Code)'!$E105)*([1]ITS_COMM_DEV_MODEL!$E$2:$E$500='Comm Device (Desc)'!$K105),0),0))","v":""},{"$f":"IF('Comm Device (Desc)'!L105=\"\",\"\",'Comm Device (Desc)'!L105)","v":""},{"$f":"IF('Comm Device (Desc)'!M105=\"\",\"\",'Comm Device (Desc)'!M105)","v":""},{"$f":"IF('Comm Device (Desc)'!N105=\"\",\"\",'Comm Device (Desc)'!N105)","v":""},{"$f":"IF('Comm Device (Desc)'!O105=\"\",\"\",'Comm Device (Desc)'!O105)","v":""},{"$f":"IF('Comm Device (Desc)'!P105=\"\",\"\",INDEX([1]DEV_INPUT_VOLTAGE!$A$2:$A$100,MATCH('Comm Device (Desc)'!$P105,[1]!MASTER_DEV_INPUT_VOLTAGE_DESC[#Data],0),0))","v":""},{"$f":"IF('Comm Device (Desc)'!Q105=\"\",\"\",'Comm Device (Desc)'!Q105)","v":""},{"$f":"IF('Comm Device (Desc)'!R105=\"\",\"\",'Comm Device (Desc)'!R105)","v":""},{"$f":"IF('Comm Device (Desc)'!S105=\"\",\"\",'Comm Device (Desc)'!S105)","v":""},{"$f":"IF('Comm Device (Desc)'!T105=\"\",\"\",'Comm Device (Desc)'!T105)","v":""},{"$f":"IF('Comm Device (Desc)'!U105=\"\",\"\",'Comm Device (Desc)'!U105)","v":""},{"$f":"IF('Comm Device (Desc)'!V105=\"\",\"\",INDEX([1]FIBER_CONN_TYPE!$A$2:$A$100,MATCH('Comm Device (Desc)'!$V105,[1]!MASTER_FIBER_CONN_TYPE_DESC[#Data],0),0))","v":""}]
[{"$f":"IF('Comm Device (Desc)'!A106=\"\",\"\",'Comm Device (Desc)'!A106)","v":""},{"$f":"IF('Comm Device (Desc)'!C106=\"\",\"\",\"2029\")","v":""},{"$f":"IF('Comm Device (Desc)'!C106=\"\",\"\",'Comm Device (Desc)'!C106)","v":""},{"$f":"IF('Comm Device (Desc)'!D106=\"\",\"\",INDEX([1]OWNER!$A$2:$A$100,MATCH('Comm Device (Desc)'!$D106,[1]!MASTER_OWNER_DESC[#Data],0),0))","v":""},{"$f":"IF('Comm Device (Desc)'!F106=\"\",\"\",INDEX([1]ITS_COMM_DEV_TYPE!$A$2:$A$100,MATCH('Comm Device (Desc)'!$F106,[1]!MASTER_ITS_COMM_DEV_TYPE_DESC[#Data],0),0))","v":""},{"$f":"IF('Comm Device (Desc)'!G106=\"\",\"\",INDEX([1]COMM_TYPE!$A$2:$A$100,MATCH('Comm Device (Desc)'!$G106,[1]!MASTER_COMM_TYPE_DESC[#Data],0),0))","v":""},{"$f":"IF('Comm Device (Desc)'!H106=\"\",\"\",'Comm Device (Desc)'!H106)","v":""},{"$f":"IF('Comm Device (Desc)'!I106=\"\",\"\",'Comm Device (Desc)'!I106)","v":""},{"$f":"IF('Comm Device (Desc)'!J106=\"\",\"\",INDEX([1]ITS_COMM_DEV_MANUF!$A$2:$A$300,MATCH(1,([1]ITS_COMM_DEV_MANUF!$B$2:$B$300='Comm Device (Desc)'!$J106)*([1]ITS_COMM_DEV_MANUF!$C$2:$C$300='Comm Device (Code)'!$E106),0),0))","v":""},{"$f":"IF('Comm Device (Desc)'!K106=\"\",\"\",INDEX([1]ITS_COMM_DEV_MODEL!$A$2:$A$500,MATCH(1,([1]ITS_COMM_DEV_MODEL!$C$2:$C$500='Comm Device (Desc)'!$J106)*([1]ITS_COMM_DEV_MODEL!$D$2:$D$500='Comm Device (Code)'!$E106)*([1]ITS_COMM_DEV_MODEL!$E$2:$E$500='Comm Device (Desc)'!$K106),0),0))","v":""},{"$f":"IF('Comm Device (Desc)'!L106=\"\",\"\",'Comm Device (Desc)'!L106)","v":""},{"$f":"IF('Comm Device (Desc)'!M106=\"\",\"\",'Comm Device (Desc)'!M106)","v":""},{"$f":"IF('Comm Device (Desc)'!N106=\"\",\"\",'Comm Device (Desc)'!N106)","v":""},{"$f":"IF('Comm Device (Desc)'!O106=\"\",\"\",'Comm Device (Desc)'!O106)","v":""},{"$f":"IF('Comm Device (Desc)'!P106=\"\",\"\",INDEX([1]DEV_INPUT_VOLTAGE!$A$2:$A$100,MATCH('Comm Device (Desc)'!$P106,[1]!MASTER_DEV_INPUT_VOLTAGE_DESC[#Data],0),0))","v":""},{"$f":"IF('Comm Device (Desc)'!Q106=\"\",\"\",'Comm Device (Desc)'!Q106)","v":""},{"$f":"IF('Comm Device (Desc)'!R106=\"\",\"\",'Comm Device (Desc)'!R106)","v":""},{"$f":"IF('Comm Device (Desc)'!S106=\"\",\"\",'Comm Device (Desc)'!S106)","v":""},{"$f":"IF('Comm Device (Desc)'!T106=\"\",\"\",'Comm Device (Desc)'!T106)","v":""},{"$f":"IF('Comm Device (Desc)'!U106=\"\",\"\",'Comm Device (Desc)'!U106)","v":""},{"$f":"IF('Comm Device (Desc)'!V106=\"\",\"\",INDEX([1]FIBER_CONN_TYPE!$A$2:$A$100,MATCH('Comm Device (Desc)'!$V106,[1]!MASTER_FIBER_CONN_TYPE_DESC[#Data],0),0))","v":""}]
[{"$f":"IF('Comm Device (Desc)'!A107=\"\",\"\",'Comm Device (Desc)'!A107)","v":""},{"$f":"IF('Comm Device (Desc)'!C107=\"\",\"\",\"2029\")","v":""},{"$f":"IF('Comm Device (Desc)'!C107=\"\",\"\",'Comm Device (Desc)'!C107)","v":""},{"$f":"IF('Comm Device (Desc)'!D107=\"\",\"\",INDEX([1]OWNER!$A$2:$A$100,MATCH('Comm Device (Desc)'!$D107,[1]!MASTER_OWNER_DESC[#Data],0),0))","v":""},{"$f":"IF('Comm Device (Desc)'!F107=\"\",\"\",INDEX([1]ITS_COMM_DEV_TYPE!$A$2:$A$100,MATCH('Comm Device (Desc)'!$F107,[1]!MASTER_ITS_COMM_DEV_TYPE_DESC[#Data],0),0))","v":""},{"$f":"IF('Comm Device (Desc)'!G107=\"\",\"\",INDEX([1]COMM_TYPE!$A$2:$A$100,MATCH('Comm Device (Desc)'!$G107,[1]!MASTER_COMM_TYPE_DESC[#Data],0),0))","v":""},{"$f":"IF('Comm Device (Desc)'!H107=\"\",\"\",'Comm Device (Desc)'!H107)","v":""},{"$f":"IF('Comm Device (Desc)'!I107=\"\",\"\",'Comm Device (Desc)'!I107)","v":""},{"$f":"IF('Comm Device (Desc)'!J107=\"\",\"\",INDEX([1]ITS_COMM_DEV_MANUF!$A$2:$A$300,MATCH(1,([1]ITS_COMM_DEV_MANUF!$B$2:$B$300='Comm Device (Desc)'!$J107)*([1]ITS_COMM_DEV_MANUF!$C$2:$C$300='Comm Device (Code)'!$E107),0),0))","v":""},{"$f":"IF('Comm Device (Desc)'!K107=\"\",\"\",INDEX([1]ITS_COMM_DEV_MODEL!$A$2:$A$500,MATCH(1,([1]ITS_COMM_DEV_MODEL!$C$2:$C$500='Comm Device (Desc)'!$J107)*([1]ITS_COMM_DEV_MODEL!$D$2:$D$500='Comm Device (Code)'!$E107)*([1]ITS_COMM_DEV_MODEL!$E$2:$E$500='Comm Device (Desc)'!$K107),0),0))","v":""},{"$f":"IF('Comm Device (Desc)'!L107=\"\",\"\",'Comm Device (Desc)'!L107)","v":""},{"$f":"IF('Comm Device (Desc)'!M107=\"\",\"\",'Comm Device (Desc)'!M107)","v":""},{"$f":"IF('Comm Device (Desc)'!N107=\"\",\"\",'Comm Device (Desc)'!N107)","v":""},{"$f":"IF('Comm Device (Desc)'!O107=\"\",\"\",'Comm Device (Desc)'!O107)","v":""},{"$f":"IF('Comm Device (Desc)'!P107=\"\",\"\",INDEX([1]DEV_INPUT_VOLTAGE!$A$2:$A$100,MATCH('Comm Device (Desc)'!$P107,[1]!MASTER_DEV_INPUT_VOLTAGE_DESC[#Data],0),0))","v":""},{"$f":"IF('Comm Device (Desc)'!Q107=\"\",\"\",'Comm Device (Desc)'!Q107)","v":""},{"$f":"IF('Comm Device (Desc)'!R107=\"\",\"\",'Comm Device (Desc)'!R107)","v":""},{"$f":"IF('Comm Device (Desc)'!S107=\"\",\"\",'Comm Device (Desc)'!S107)","v":""},{"$f":"IF('Comm Device (Desc)'!T107=\"\",\"\",'Comm Device (Desc)'!T107)","v":""},{"$f":"IF('Comm Device (Desc)'!U107=\"\",\"\",'Comm Device (Desc)'!U107)","v":""},{"$f":"IF('Comm Device (Desc)'!V107=\"\",\"\",INDEX([1]FIBER_CONN_TYPE!$A$2:$A$100,MATCH('Comm Device (Desc)'!$V107,[1]!MASTER_FIBER_CONN_TYPE_DESC[#Data],0),0))","v":""}]
[{"$f":"IF('Comm Device (Desc)'!A108=\"\",\"\",'Comm Device (Desc)'!A108)","v":""},{"$f":"IF('Comm Device (Desc)'!C108=\"\",\"\",\"2029\")","v":""},{"$f":"IF('Comm Device (Desc)'!C108=\"\",\"\",'Comm Device (Desc)'!C108)","v":""},{"$f":"IF('Comm Device (Desc)'!D108=\"\",\"\",INDEX([1]OWNER!$A$2:$A$100,MATCH('Comm Device (Desc)'!$D108,[1]!MASTER_OWNER_DESC[#Data],0),0))","v":""},{"$f":"IF('Comm Device (Desc)'!F108=\"\",\"\",INDEX([1]ITS_COMM_DEV_TYPE!$A$2:$A$100,MATCH('Comm Device (Desc)'!$F108,[1]!MASTER_ITS_COMM_DEV_TYPE_DESC[#Data],0),0))","v":""},{"$f":"IF('Comm Device (Desc)'!G108=\"\",\"\",INDEX([1]COMM_TYPE!$A$2:$A$100,MATCH('Comm Device (Desc)'!$G108,[1]!MASTER_COMM_TYPE_DESC[#Data],0),0))","v":""},{"$f":"IF('Comm Device (Desc)'!H108=\"\",\"\",'Comm Device (Desc)'!H108)","v":""},{"$f":"IF('Comm Device (Desc)'!I108=\"\",\"\",'Comm Device (Desc)'!I108)","v":""},{"$f":"IF('Comm Device (Desc)'!J108=\"\",\"\",INDEX([1]ITS_COMM_DEV_MANUF!$A$2:$A$300,MATCH(1,([1]ITS_COMM_DEV_MANUF!$B$2:$B$300='Comm Device (Desc)'!$J108)*([1]ITS_COMM_DEV_MANUF!$C$2:$C$300='Comm Device (Code)'!$E108),0),0))","v":""},{"$f":"IF('Comm Device (Desc)'!K108=\"\",\"\",INDEX([1]ITS_COMM_DEV_MODEL!$A$2:$A$500,MATCH(1,([1]ITS_COMM_DEV_MODEL!$C$2:$C$500='Comm Device (Desc)'!$J108)*([1]ITS_COMM_DEV_MODEL!$D$2:$D$500='Comm Device (Code)'!$E108)*([1]ITS_COMM_DEV_MODEL!$E$2:$E$500='Comm Device (Desc)'!$K108),0),0))","v":""},{"$f":"IF('Comm Device (Desc)'!L108=\"\",\"\",'Comm Device (Desc)'!L108)","v":""},{"$f":"IF('Comm Device (Desc)'!M108=\"\",\"\",'Comm Device (Desc)'!M108)","v":""},{"$f":"IF('Comm Device (Desc)'!N108=\"\",\"\",'Comm Device (Desc)'!N108)","v":""},{"$f":"IF('Comm Device (Desc)'!O108=\"\",\"\",'Comm Device (Desc)'!O108)","v":""},{"$f":"IF('Comm Device (Desc)'!P108=\"\",\"\",INDEX([1]DEV_INPUT_VOLTAGE!$A$2:$A$100,MATCH('Comm Device (Desc)'!$P108,[1]!MASTER_DEV_INPUT_VOLTAGE_DESC[#Data],0),0))","v":""},{"$f":"IF('Comm Device (Desc)'!Q108=\"\",\"\",'Comm Device (Desc)'!Q108)","v":""},{"$f":"IF('Comm Device (Desc)'!R108=\"\",\"\",'Comm Device (Desc)'!R108)","v":""},{"$f":"IF('Comm Device (Desc)'!S108=\"\",\"\",'Comm Device (Desc)'!S108)","v":""},{"$f":"IF('Comm Device (Desc)'!T108=\"\",\"\",'Comm Device (Desc)'!T108)","v":""},{"$f":"IF('Comm Device (Desc)'!U108=\"\",\"\",'Comm Device (Desc)'!U108)","v":""},{"$f":"IF('Comm Device (Desc)'!V108=\"\",\"\",INDEX([1]FIBER_CONN_TYPE!$A$2:$A$100,MATCH('Comm Device (Desc)'!$V108,[1]!MASTER_FIBER_CONN_TYPE_DESC[#Data],0),0))","v":""}]
[{"$f":"IF('Comm Device (Desc)'!A109=\"\",\"\",'Comm Device (Desc)'!A109)","v":""},{"$f":"IF('Comm Device (Desc)'!C109=\"\",\"\",\"2029\")","v":""},{"$f":"IF('Comm Device (Desc)'!C109=\"\",\"\",'Comm Device (Desc)'!C109)","v":""},{"$f":"IF('Comm Device (Desc)'!D109=\"\",\"\",INDEX([1]OWNER!$A$2:$A$100,MATCH('Comm Device (Desc)'!$D109,[1]!MASTER_OWNER_DESC[#Data],0),0))","v":""},{"$f":"IF('Comm Device (Desc)'!F109=\"\",\"\",INDEX([1]ITS_COMM_DEV_TYPE!$A$2:$A$100,MATCH('Comm Device (Desc)'!$F109,[1]!MASTER_ITS_COMM_DEV_TYPE_DESC[#Data],0),0))","v":""},{"$f":"IF('Comm Device (Desc)'!G109=\"\",\"\",INDEX([1]COMM_TYPE!$A$2:$A$100,MATCH('Comm Device (Desc)'!$G109,[1]!MASTER_COMM_TYPE_DESC[#Data],0),0))","v":""},{"$f":"IF('Comm Device (Desc)'!H109=\"\",\"\",'Comm Device (Desc)'!H109)","v":""},{"$f":"IF('Comm Device (Desc)'!I109=\"\",\"\",'Comm Device (Desc)'!I109)","v":""},{"$f":"IF('Comm Device (Desc)'!J109=\"\",\"\",INDEX([1]ITS_COMM_DEV_MANUF!$A$2:$A$300,MATCH(1,([1]ITS_COMM_DEV_MANUF!$B$2:$B$300='Comm Device (Desc)'!$J109)*([1]ITS_COMM_DEV_MANUF!$C$2:$C$300='Comm Device (Code)'!$E109),0),0))","v":""},{"$f":"IF('Comm Device (Desc)'!K109=\"\",\"\",INDEX([1]ITS_COMM_DEV_MODEL!$A$2:$A$500,MATCH(1,([1]ITS_COMM_DEV_MODEL!$C$2:$C$500='Comm Device (Desc)'!$J109)*([1]ITS_COMM_DEV_MODEL!$D$2:$D$500='Comm Device (Code)'!$E109)*([1]ITS_COMM_DEV_MODEL!$E$2:$E$500='Comm Device (Desc)'!$K109),0),0))","v":""},{"$f":"IF('Comm Device (Desc)'!L109=\"\",\"\",'Comm Device (Desc)'!L109)","v":""},{"$f":"IF('Comm Device (Desc)'!M109=\"\",\"\",'Comm Device (Desc)'!M109)","v":""},{"$f":"IF('Comm Device (Desc)'!N109=\"\",\"\",'Comm Device (Desc)'!N109)","v":""},{"$f":"IF('Comm Device (Desc)'!O109=\"\",\"\",'Comm Device (Desc)'!O109)","v":""},{"$f":"IF('Comm Device (Desc)'!P109=\"\",\"\",INDEX([1]DEV_INPUT_VOLTAGE!$A$2:$A$100,MATCH('Comm Device (Desc)'!$P109,[1]!MASTER_DEV_INPUT_VOLTAGE_DESC[#Data],0),0))","v":""},{"$f":"IF('Comm Device (Desc)'!Q109=\"\",\"\",'Comm Device (Desc)'!Q109)","v":""},{"$f":"IF('Comm Device (Desc)'!R109=\"\",\"\",'Comm Device (Desc)'!R109)","v":""},{"$f":"IF('Comm Device (Desc)'!S109=\"\",\"\",'Comm Device (Desc)'!S109)","v":""},{"$f":"IF('Comm Device (Desc)'!T109=\"\",\"\",'Comm Device (Desc)'!T109)","v":""},{"$f":"IF('Comm Device (Desc)'!U109=\"\",\"\",'Comm Device (Desc)'!U109)","v":""},{"$f":"IF('Comm Device (Desc)'!V109=\"\",\"\",INDEX([1]FIBER_CONN_TYPE!$A$2:$A$100,MATCH('Comm Device (Desc)'!$V109,[1]!MASTER_FIBER_CONN_TYPE_DESC[#Data],0),0))","v":""}]
[{"$f":"IF('Comm Device (Desc)'!A110=\"\",\"\",'Comm Device (Desc)'!A110)","v":""},{"$f":"IF('Comm Device (Desc)'!C110=\"\",\"\",\"2029\")","v":""},{"$f":"IF('Comm Device (Desc)'!C110=\"\",\"\",'Comm Device (Desc)'!C110)","v":""},{"$f":"IF('Comm Device (Desc)'!D110=\"\",\"\",INDEX([1]OWNER!$A$2:$A$100,MATCH('Comm Device (Desc)'!$D110,[1]!MASTER_OWNER_DESC[#Data],0),0))","v":""},{"$f":"IF('Comm Device (Desc)'!F110=\"\",\"\",INDEX([1]ITS_COMM_DEV_TYPE!$A$2:$A$100,MATCH('Comm Device (Desc)'!$F110,[1]!MASTER_ITS_COMM_DEV_TYPE_DESC[#Data],0),0))","v":""},{"$f":"IF('Comm Device (Desc)'!G110=\"\",\"\",INDEX([1]COMM_TYPE!$A$2:$A$100,MATCH('Comm Device (Desc)'!$G110,[1]!MASTER_COMM_TYPE_DESC[#Data],0),0))","v":""},{"$f":"IF('Comm Device (Desc)'!H110=\"\",\"\",'Comm Device (Desc)'!H110)","v":""},{"$f":"IF('Comm Device (Desc)'!I110=\"\",\"\",'Comm Device (Desc)'!I110)","v":""},{"$f":"IF('Comm Device (Desc)'!J110=\"\",\"\",INDEX([1]ITS_COMM_DEV_MANUF!$A$2:$A$300,MATCH(1,([1]ITS_COMM_DEV_MANUF!$B$2:$B$300='Comm Device (Desc)'!$J110)*([1]ITS_COMM_DEV_MANUF!$C$2:$C$300='Comm Device (Code)'!$E110),0),0))","v":""},{"$f":"IF('Comm Device (Desc)'!K110=\"\",\"\",INDEX([1]ITS_COMM_DEV_MODEL!$A$2:$A$500,MATCH(1,([1]ITS_COMM_DEV_MODEL!$C$2:$C$500='Comm Device (Desc)'!$J110)*([1]ITS_COMM_DEV_MODEL!$D$2:$D$500='Comm Device (Code)'!$E110)*([1]ITS_COMM_DEV_MODEL!$E$2:$E$500='Comm Device (Desc)'!$K110),0),0))","v":""},{"$f":"IF('Comm Device (Desc)'!L110=\"\",\"\",'Comm Device (Desc)'!L110)","v":""},{"$f":"IF('Comm Device (Desc)'!M110=\"\",\"\",'Comm Device (Desc)'!M110)","v":""},{"$f":"IF('Comm Device (Desc)'!N110=\"\",\"\",'Comm Device (Desc)'!N110)","v":""},{"$f":"IF('Comm Device (Desc)'!O110=\"\",\"\",'Comm Device (Desc)'!O110)","v":""},{"$f":"IF('Comm Device (Desc)'!P110=\"\",\"\",INDEX([1]DEV_INPUT_VOLTAGE!$A$2:$A$100,MATCH('Comm Device (Desc)'!$P110,[1]!MASTER_DEV_INPUT_VOLTAGE_DESC[#Data],0),0))","v":""},{"$f":"IF('Comm Device (Desc)'!Q110=\"\",\"\",'Comm Device (Desc)'!Q110)","v":""},{"$f":"IF('Comm Device (Desc)'!R110=\"\",\"\",'Comm Device (Desc)'!R110)","v":""},{"$f":"IF('Comm Device (Desc)'!S110=\"\",\"\",'Comm Device (Desc)'!S110)","v":""},{"$f":"IF('Comm Device (Desc)'!T110=\"\",\"\",'Comm Device (Desc)'!T110)","v":""},{"$f":"IF('Comm Device (Desc)'!U110=\"\",\"\",'Comm Device (Desc)'!U110)","v":""},{"$f":"IF('Comm Device (Desc)'!V110=\"\",\"\",INDEX([1]FIBER_CONN_TYPE!$A$2:$A$100,MATCH('Comm Device (Desc)'!$V110,[1]!MASTER_FIBER_CONN_TYPE_DESC[#Data],0),0))","v":""}]
[{"$f":"IF('Comm Device (Desc)'!A111=\"\",\"\",'Comm Device (Desc)'!A111)","v":""},{"$f":"IF('Comm Device (Desc)'!C111=\"\",\"\",\"2029\")","v":""},{"$f":"IF('Comm Device (Desc)'!C111=\"\",\"\",'Comm Device (Desc)'!C111)","v":""},{"$f":"IF('Comm Device (Desc)'!D111=\"\",\"\",INDEX([1]OWNER!$A$2:$A$100,MATCH('Comm Device (Desc)'!$D111,[1]!MASTER_OWNER_DESC[#Data],0),0))","v":""},{"$f":"IF('Comm Device (Desc)'!F111=\"\",\"\",INDEX([1]ITS_COMM_DEV_TYPE!$A$2:$A$100,MATCH('Comm Device (Desc)'!$F111,[1]!MASTER_ITS_COMM_DEV_TYPE_DESC[#Data],0),0))","v":""},{"$f":"IF('Comm Device (Desc)'!G111=\"\",\"\",INDEX([1]COMM_TYPE!$A$2:$A$100,MATCH('Comm Device (Desc)'!$G111,[1]!MASTER_COMM_TYPE_DESC[#Data],0),0))","v":""},{"$f":"IF('Comm Device (Desc)'!H111=\"\",\"\",'Comm Device (Desc)'!H111)","v":""},{"$f":"IF('Comm Device (Desc)'!I111=\"\",\"\",'Comm Device (Desc)'!I111)","v":""},{"$f":"IF('Comm Device (Desc)'!J111=\"\",\"\",INDEX([1]ITS_COMM_DEV_MANUF!$A$2:$A$300,MATCH(1,([1]ITS_COMM_DEV_MANUF!$B$2:$B$300='Comm Device (Desc)'!$J111)*([1]ITS_COMM_DEV_MANUF!$C$2:$C$300='Comm Device (Code)'!$E111),0),0))","v":""},{"$f":"IF('Comm Device (Desc)'!K111=\"\",\"\",INDEX([1]ITS_COMM_DEV_MODEL!$A$2:$A$500,MATCH(1,([1]ITS_COMM_DEV_MODEL!$C$2:$C$500='Comm Device (Desc)'!$J111)*([1]ITS_COMM_DEV_MODEL!$D$2:$D$500='Comm Device (Code)'!$E111)*([1]ITS_COMM_DEV_MODEL!$E$2:$E$500='Comm Device (Desc)'!$K111),0),0))","v":""},{"$f":"IF('Comm Device (Desc)'!L111=\"\",\"\",'Comm Device (Desc)'!L111)","v":""},{"$f":"IF('Comm Device (Desc)'!M111=\"\",\"\",'Comm Device (Desc)'!M111)","v":""},{"$f":"IF('Comm Device (Desc)'!N111=\"\",\"\",'Comm Device (Desc)'!N111)","v":""},{"$f":"IF('Comm Device (Desc)'!O111=\"\",\"\",'Comm Device (Desc)'!O111)","v":""},{"$f":"IF('Comm Device (Desc)'!P111=\"\",\"\",INDEX([1]DEV_INPUT_VOLTAGE!$A$2:$A$100,MATCH('Comm Device (Desc)'!$P111,[1]!MASTER_DEV_INPUT_VOLTAGE_DESC[#Data],0),0))","v":""},{"$f":"IF('Comm Device (Desc)'!Q111=\"\",\"\",'Comm Device (Desc)'!Q111)","v":""},{"$f":"IF('Comm Device (Desc)'!R111=\"\",\"\",'Comm Device (Desc)'!R111)","v":""},{"$f":"IF('Comm Device (Desc)'!S111=\"\",\"\",'Comm Device (Desc)'!S111)","v":""},{"$f":"IF('Comm Device (Desc)'!T111=\"\",\"\",'Comm Device (Desc)'!T111)","v":""},{"$f":"IF('Comm Device (Desc)'!U111=\"\",\"\",'Comm Device (Desc)'!U111)","v":""},{"$f":"IF('Comm Device (Desc)'!V111=\"\",\"\",INDEX([1]FIBER_CONN_TYPE!$A$2:$A$100,MATCH('Comm Device (Desc)'!$V111,[1]!MASTER_FIBER_CONN_TYPE_DESC[#Data],0),0))","v":""}]
[{"$f":"IF('Comm Device (Desc)'!A112=\"\",\"\",'Comm Device (Desc)'!A112)","v":""},{"$f":"IF('Comm Device (Desc)'!C112=\"\",\"\",\"2029\")","v":""},{"$f":"IF('Comm Device (Desc)'!C112=\"\",\"\",'Comm Device (Desc)'!C112)","v":""},{"$f":"IF('Comm Device (Desc)'!D112=\"\",\"\",INDEX([1]OWNER!$A$2:$A$100,MATCH('Comm Device (Desc)'!$D112,[1]!MASTER_OWNER_DESC[#Data],0),0))","v":""},{"$f":"IF('Comm Device (Desc)'!F112=\"\",\"\",INDEX([1]ITS_COMM_DEV_TYPE!$A$2:$A$100,MATCH('Comm Device (Desc)'!$F112,[1]!MASTER_ITS_COMM_DEV_TYPE_DESC[#Data],0),0))","v":""},{"$f":"IF('Comm Device (Desc)'!G112=\"\",\"\",INDEX([1]COMM_TYPE!$A$2:$A$100,MATCH('Comm Device (Desc)'!$G112,[1]!MASTER_COMM_TYPE_DESC[#Data],0),0))","v":""},{"$f":"IF('Comm Device (Desc)'!H112=\"\",\"\",'Comm Device (Desc)'!H112)","v":""},{"$f":"IF('Comm Device (Desc)'!I112=\"\",\"\",'Comm Device (Desc)'!I112)","v":""},{"$f":"IF('Comm Device (Desc)'!J112=\"\",\"\",INDEX([1]ITS_COMM_DEV_MANUF!$A$2:$A$300,MATCH(1,([1]ITS_COMM_DEV_MANUF!$B$2:$B$300='Comm Device (Desc)'!$J112)*([1]ITS_COMM_DEV_MANUF!$C$2:$C$300='Comm Device (Code)'!$E112),0),0))","v":""},{"$f":"IF('Comm Device (Desc)'!K112=\"\",\"\",INDEX([1]ITS_COMM_DEV_MODEL!$A$2:$A$500,MATCH(1,([1]ITS_COMM_DEV_MODEL!$C$2:$C$500='Comm Device (Desc)'!$J112)*([1]ITS_COMM_DEV_MODEL!$D$2:$D$500='Comm Device (Code)'!$E112)*([1]ITS_COMM_DEV_MODEL!$E$2:$E$500='Comm Device (Desc)'!$K112),0),0))","v":""},{"$f":"IF('Comm Device (Desc)'!L112=\"\",\"\",'Comm Device (Desc)'!L112)","v":""},{"$f":"IF('Comm Device (Desc)'!M112=\"\",\"\",'Comm Device (Desc)'!M112)","v":""},{"$f":"IF('Comm Device (Desc)'!N112=\"\",\"\",'Comm Device (Desc)'!N112)","v":""},{"$f":"IF('Comm Device (Desc)'!O112=\"\",\"\",'Comm Device (Desc)'!O112)","v":""},{"$f":"IF('Comm Device (Desc)'!P112=\"\",\"\",INDEX([1]DEV_INPUT_VOLTAGE!$A$2:$A$100,MATCH('Comm Device (Desc)'!$P112,[1]!MASTER_DEV_INPUT_VOLTAGE_DESC[#Data],0),0))","v":""},{"$f":"IF('Comm Device (Desc)'!Q112=\"\",\"\",'Comm Device (Desc)'!Q112)","v":""},{"$f":"IF('Comm Device (Desc)'!R112=\"\",\"\",'Comm Device (Desc)'!R112)","v":""},{"$f":"IF('Comm Device (Desc)'!S112=\"\",\"\",'Comm Device (Desc)'!S112)","v":""},{"$f":"IF('Comm Device (Desc)'!T112=\"\",\"\",'Comm Device (Desc)'!T112)","v":""},{"$f":"IF('Comm Device (Desc)'!U112=\"\",\"\",'Comm Device (Desc)'!U112)","v":""},{"$f":"IF('Comm Device (Desc)'!V112=\"\",\"\",INDEX([1]FIBER_CONN_TYPE!$A$2:$A$100,MATCH('Comm Device (Desc)'!$V112,[1]!MASTER_FIBER_CONN_TYPE_DESC[#Data],0),0))","v":""}]
[{"$f":"IF('Comm Device (Desc)'!A113=\"\",\"\",'Comm Device (Desc)'!A113)","v":""},{"$f":"IF('Comm Device (Desc)'!C113=\"\",\"\",\"2029\")","v":""},{"$f":"IF('Comm Device (Desc)'!C113=\"\",\"\",'Comm Device (Desc)'!C113)","v":""},{"$f":"IF('Comm Device (Desc)'!D113=\"\",\"\",INDEX([1]OWNER!$A$2:$A$100,MATCH('Comm Device (Desc)'!$D113,[1]!MASTER_OWNER_DESC[#Data],0),0))","v":""},{"$f":"IF('Comm Device (Desc)'!F113=\"\",\"\",INDEX([1]ITS_COMM_DEV_TYPE!$A$2:$A$100,MATCH('Comm Device (Desc)'!$F113,[1]!MASTER_ITS_COMM_DEV_TYPE_DESC[#Data],0),0))","v":""},{"$f":"IF('Comm Device (Desc)'!G113=\"\",\"\",INDEX([1]COMM_TYPE!$A$2:$A$100,MATCH('Comm Device (Desc)'!$G113,[1]!MASTER_COMM_TYPE_DESC[#Data],0),0))","v":""},{"$f":"IF('Comm Device (Desc)'!H113=\"\",\"\",'Comm Device (Desc)'!H113)","v":""},{"$f":"IF('Comm Device (Desc)'!I113=\"\",\"\",'Comm Device (Desc)'!I113)","v":""},{"$f":"IF('Comm Device (Desc)'!J113=\"\",\"\",INDEX([1]ITS_COMM_DEV_MANUF!$A$2:$A$300,MATCH(1,([1]ITS_COMM_DEV_MANUF!$B$2:$B$300='Comm Device (Desc)'!$J113)*([1]ITS_COMM_DEV_MANUF!$C$2:$C$300='Comm Device (Code)'!$E113),0),0))","v":""},{"$f":"IF('Comm Device (Desc)'!K113=\"\",\"\",INDEX([1]ITS_COMM_DEV_MODEL!$A$2:$A$500,MATCH(1,([1]ITS_COMM_DEV_MODEL!$C$2:$C$500='Comm Device (Desc)'!$J113)*([1]ITS_COMM_DEV_MODEL!$D$2:$D$500='Comm Device (Code)'!$E113)*([1]ITS_COMM_DEV_MODEL!$E$2:$E$500='Comm Device (Desc)'!$K113),0),0))","v":""},{"$f":"IF('Comm Device (Desc)'!L113=\"\",\"\",'Comm Device (Desc)'!L113)","v":""},{"$f":"IF('Comm Device (Desc)'!M113=\"\",\"\",'Comm Device (Desc)'!M113)","v":""},{"$f":"IF('Comm Device (Desc)'!N113=\"\",\"\",'Comm Device (Desc)'!N113)","v":""},{"$f":"IF('Comm Device (Desc)'!O113=\"\",\"\",'Comm Device (Desc)'!O113)","v":""},{"$f":"IF('Comm Device (Desc)'!P113=\"\",\"\",INDEX([1]DEV_INPUT_VOLTAGE!$A$2:$A$100,MATCH('Comm Device (Desc)'!$P113,[1]!MASTER_DEV_INPUT_VOLTAGE_DESC[#Data],0),0))","v":""},{"$f":"IF('Comm Device (Desc)'!Q113=\"\",\"\",'Comm Device (Desc)'!Q113)","v":""},{"$f":"IF('Comm Device (Desc)'!R113=\"\",\"\",'Comm Device (Desc)'!R113)","v":""},{"$f":"IF('Comm Device (Desc)'!S113=\"\",\"\",'Comm Device (Desc)'!S113)","v":""},{"$f":"IF('Comm Device (Desc)'!T113=\"\",\"\",'Comm Device (Desc)'!T113)","v":""},{"$f":"IF('Comm Device (Desc)'!U113=\"\",\"\",'Comm Device (Desc)'!U113)","v":""},{"$f":"IF('Comm Device (Desc)'!V113=\"\",\"\",INDEX([1]FIBER_CONN_TYPE!$A$2:$A$100,MATCH('Comm Device (Desc)'!$V113,[1]!MASTER_FIBER_CONN_TYPE_DESC[#Data],0),0))","v":""}]
[{"$f":"IF('Comm Device (Desc)'!A114=\"\",\"\",'Comm Device (Desc)'!A114)","v":""},{"$f":"IF('Comm Device (Desc)'!C114=\"\",\"\",\"2029\")","v":""},{"$f":"IF('Comm Device (Desc)'!C114=\"\",\"\",'Comm Device (Desc)'!C114)","v":""},{"$f":"IF('Comm Device (Desc)'!D114=\"\",\"\",INDEX([1]OWNER!$A$2:$A$100,MATCH('Comm Device (Desc)'!$D114,[1]!MASTER_OWNER_DESC[#Data],0),0))","v":""},{"$f":"IF('Comm Device (Desc)'!F114=\"\",\"\",INDEX([1]ITS_COMM_DEV_TYPE!$A$2:$A$100,MATCH('Comm Device (Desc)'!$F114,[1]!MASTER_ITS_COMM_DEV_TYPE_DESC[#Data],0),0))","v":""},{"$f":"IF('Comm Device (Desc)'!G114=\"\",\"\",INDEX([1]COMM_TYPE!$A$2:$A$100,MATCH('Comm Device (Desc)'!$G114,[1]!MASTER_COMM_TYPE_DESC[#Data],0),0))","v":""},{"$f":"IF('Comm Device (Desc)'!H114=\"\",\"\",'Comm Device (Desc)'!H114)","v":""},{"$f":"IF('Comm Device (Desc)'!I114=\"\",\"\",'Comm Device (Desc)'!I114)","v":""},{"$f":"IF('Comm Device (Desc)'!J114=\"\",\"\",INDEX([1]ITS_COMM_DEV_MANUF!$A$2:$A$300,MATCH(1,([1]ITS_COMM_DEV_MANUF!$B$2:$B$300='Comm Device (Desc)'!$J114)*([1]ITS_COMM_DEV_MANUF!$C$2:$C$300='Comm Device (Code)'!$E114),0),0))","v":""},{"$f":"IF('Comm Device (Desc)'!K114=\"\",\"\",INDEX([1]ITS_COMM_DEV_MODEL!$A$2:$A$500,MATCH(1,([1]ITS_COMM_DEV_MODEL!$C$2:$C$500='Comm Device (Desc)'!$J114)*([1]ITS_COMM_DEV_MODEL!$D$2:$D$500='Comm Device (Code)'!$E114)*([1]ITS_COMM_DEV_MODEL!$E$2:$E$500='Comm Device (Desc)'!$K114),0),0))","v":""},{"$f":"IF('Comm Device (Desc)'!L114=\"\",\"\",'Comm Device (Desc)'!L114)","v":""},{"$f":"IF('Comm Device (Desc)'!M114=\"\",\"\",'Comm Device (Desc)'!M114)","v":""},{"$f":"IF('Comm Device (Desc)'!N114=\"\",\"\",'Comm Device (Desc)'!N114)","v":""},{"$f":"IF('Comm Device (Desc)'!O114=\"\",\"\",'Comm Device (Desc)'!O114)","v":""},{"$f":"IF('Comm Device (Desc)'!P114=\"\",\"\",INDEX([1]DEV_INPUT_VOLTAGE!$A$2:$A$100,MATCH('Comm Device (Desc)'!$P114,[1]!MASTER_DEV_INPUT_VOLTAGE_DESC[#Data],0),0))","v":""},{"$f":"IF('Comm Device (Desc)'!Q114=\"\",\"\",'Comm Device (Desc)'!Q114)","v":""},{"$f":"IF('Comm Device (Desc)'!R114=\"\",\"\",'Comm Device (Desc)'!R114)","v":""},{"$f":"IF('Comm Device (Desc)'!S114=\"\",\"\",'Comm Device (Desc)'!S114)","v":""},{"$f":"IF('Comm Device (Desc)'!T114=\"\",\"\",'Comm Device (Desc)'!T114)","v":""},{"$f":"IF('Comm Device (Desc)'!U114=\"\",\"\",'Comm Device (Desc)'!U114)","v":""},{"$f":"IF('Comm Device (Desc)'!V114=\"\",\"\",INDEX([1]FIBER_CONN_TYPE!$A$2:$A$100,MATCH('Comm Device (Desc)'!$V114,[1]!MASTER_FIBER_CONN_TYPE_DESC[#Data],0),0))","v":""}]
[{"$f":"IF('Comm Device (Desc)'!A115=\"\",\"\",'Comm Device (Desc)'!A115)","v":""},{"$f":"IF('Comm Device (Desc)'!C115=\"\",\"\",\"2029\")","v":""},{"$f":"IF('Comm Device (Desc)'!C115=\"\",\"\",'Comm Device (Desc)'!C115)","v":""},{"$f":"IF('Comm Device (Desc)'!D115=\"\",\"\",INDEX([1]OWNER!$A$2:$A$100,MATCH('Comm Device (Desc)'!$D115,[1]!MASTER_OWNER_DESC[#Data],0),0))","v":""},{"$f":"IF('Comm Device (Desc)'!F115=\"\",\"\",INDEX([1]ITS_COMM_DEV_TYPE!$A$2:$A$100,MATCH('Comm Device (Desc)'!$F115,[1]!MASTER_ITS_COMM_DEV_TYPE_DESC[#Data],0),0))","v":""},{"$f":"IF('Comm Device (Desc)'!G115=\"\",\"\",INDEX([1]COMM_TYPE!$A$2:$A$100,MATCH('Comm Device (Desc)'!$G115,[1]!MASTER_COMM_TYPE_DESC[#Data],0),0))","v":""},{"$f":"IF('Comm Device (Desc)'!H115=\"\",\"\",'Comm Device (Desc)'!H115)","v":""},{"$f":"IF('Comm Device (Desc)'!I115=\"\",\"\",'Comm Device (Desc)'!I115)","v":""},{"$f":"IF('Comm Device (Desc)'!J115=\"\",\"\",INDEX([1]ITS_COMM_DEV_MANUF!$A$2:$A$300,MATCH(1,([1]ITS_COMM_DEV_MANUF!$B$2:$B$300='Comm Device (Desc)'!$J115)*([1]ITS_COMM_DEV_MANUF!$C$2:$C$300='Comm Device (Code)'!$E115),0),0))","v":""},{"$f":"IF('Comm Device (Desc)'!K115=\"\",\"\",INDEX([1]ITS_COMM_DEV_MODEL!$A$2:$A$500,MATCH(1,([1]ITS_COMM_DEV_MODEL!$C$2:$C$500='Comm Device (Desc)'!$J115)*([1]ITS_COMM_DEV_MODEL!$D$2:$D$500='Comm Device (Code)'!$E115)*([1]ITS_COMM_DEV_MODEL!$E$2:$E$500='Comm Device (Desc)'!$K115),0),0))","v":""},{"$f":"IF('Comm Device (Desc)'!L115=\"\",\"\",'Comm Device (Desc)'!L115)","v":""},{"$f":"IF('Comm Device (Desc)'!M115=\"\",\"\",'Comm Device (Desc)'!M115)","v":""},{"$f":"IF('Comm Device (Desc)'!N115=\"\",\"\",'Comm Device (Desc)'!N115)","v":""},{"$f":"IF('Comm Device (Desc)'!O115=\"\",\"\",'Comm Device (Desc)'!O115)","v":""},{"$f":"IF('Comm Device (Desc)'!P115=\"\",\"\",INDEX([1]DEV_INPUT_VOLTAGE!$A$2:$A$100,MATCH('Comm Device (Desc)'!$P115,[1]!MASTER_DEV_INPUT_VOLTAGE_DESC[#Data],0),0))","v":""},{"$f":"IF('Comm Device (Desc)'!Q115=\"\",\"\",'Comm Device (Desc)'!Q115)","v":""},{"$f":"IF('Comm Device (Desc)'!R115=\"\",\"\",'Comm Device (Desc)'!R115)","v":""},{"$f":"IF('Comm Device (Desc)'!S115=\"\",\"\",'Comm Device (Desc)'!S115)","v":""},{"$f":"IF('Comm Device (Desc)'!T115=\"\",\"\",'Comm Device (Desc)'!T115)","v":""},{"$f":"IF('Comm Device (Desc)'!U115=\"\",\"\",'Comm Device (Desc)'!U115)","v":""},{"$f":"IF('Comm Device (Desc)'!V115=\"\",\"\",INDEX([1]FIBER_CONN_TYPE!$A$2:$A$100,MATCH('Comm Device (Desc)'!$V115,[1]!MASTER_FIBER_CONN_TYPE_DESC[#Data],0),0))","v":""}]
[{"$f":"IF('Comm Device (Desc)'!A116=\"\",\"\",'Comm Device (Desc)'!A116)","v":""},{"$f":"IF('Comm Device (Desc)'!C116=\"\",\"\",\"2029\")","v":""},{"$f":"IF('Comm Device (Desc)'!C116=\"\",\"\",'Comm Device (Desc)'!C116)","v":""},{"$f":"IF('Comm Device (Desc)'!D116=\"\",\"\",INDEX([1]OWNER!$A$2:$A$100,MATCH('Comm Device (Desc)'!$D116,[1]!MASTER_OWNER_DESC[#Data],0),0))","v":""},{"$f":"IF('Comm Device (Desc)'!F116=\"\",\"\",INDEX([1]ITS_COMM_DEV_TYPE!$A$2:$A$100,MATCH('Comm Device (Desc)'!$F116,[1]!MASTER_ITS_COMM_DEV_TYPE_DESC[#Data],0),0))","v":""},{"$f":"IF('Comm Device (Desc)'!G116=\"\",\"\",INDEX([1]COMM_TYPE!$A$2:$A$100,MATCH('Comm Device (Desc)'!$G116,[1]!MASTER_COMM_TYPE_DESC[#Data],0),0))","v":""},{"$f":"IF('Comm Device (Desc)'!H116=\"\",\"\",'Comm Device (Desc)'!H116)","v":""},{"$f":"IF('Comm Device (Desc)'!I116=\"\",\"\",'Comm Device (Desc)'!I116)","v":""},{"$f":"IF('Comm Device (Desc)'!J116=\"\",\"\",INDEX([1]ITS_COMM_DEV_MANUF!$A$2:$A$300,MATCH(1,([1]ITS_COMM_DEV_MANUF!$B$2:$B$300='Comm Device (Desc)'!$J116)*([1]ITS_COMM_DEV_MANUF!$C$2:$C$300='Comm Device (Code)'!$E116),0),0))","v":""},{"$f":"IF('Comm Device (Desc)'!K116=\"\",\"\",INDEX([1]ITS_COMM_DEV_MODEL!$A$2:$A$500,MATCH(1,([1]ITS_COMM_DEV_MODEL!$C$2:$C$500='Comm Device (Desc)'!$J116)*([1]ITS_COMM_DEV_MODEL!$D$2:$D$500='Comm Device (Code)'!$E116)*([1]ITS_COMM_DEV_MODEL!$E$2:$E$500='Comm Device (Desc)'!$K116),0),0))","v":""},{"$f":"IF('Comm Device (Desc)'!L116=\"\",\"\",'Comm Device (Desc)'!L116)","v":""},{"$f":"IF('Comm Device (Desc)'!M116=\"\",\"\",'Comm Device (Desc)'!M116)","v":""},{"$f":"IF('Comm Device (Desc)'!N116=\"\",\"\",'Comm Device (Desc)'!N116)","v":""},{"$f":"IF('Comm Device (Desc)'!O116=\"\",\"\",'Comm Device (Desc)'!O116)","v":""},{"$f":"IF('Comm Device (Desc)'!P116=\"\",\"\",INDEX([1]DEV_INPUT_VOLTAGE!$A$2:$A$100,MATCH('Comm Device (Desc)'!$P116,[1]!MASTER_DEV_INPUT_VOLTAGE_DESC[#Data],0),0))","v":""},{"$f":"IF('Comm Device (Desc)'!Q116=\"\",\"\",'Comm Device (Desc)'!Q116)","v":""},{"$f":"IF('Comm Device (Desc)'!R116=\"\",\"\",'Comm Device (Desc)'!R116)","v":""},{"$f":"IF('Comm Device (Desc)'!S116=\"\",\"\",'Comm Device (Desc)'!S116)","v":""},{"$f":"IF('Comm Device (Desc)'!T116=\"\",\"\",'Comm Device (Desc)'!T116)","v":""},{"$f":"IF('Comm Device (Desc)'!U116=\"\",\"\",'Comm Device (Desc)'!U116)","v":""},{"$f":"IF('Comm Device (Desc)'!V116=\"\",\"\",INDEX([1]FIBER_CONN_TYPE!$A$2:$A$100,MATCH('Comm Device (Desc)'!$V116,[1]!MASTER_FIBER_CONN_TYPE_DESC[#Data],0),0))","v":""}]
[{"$f":"IF('Comm Device (Desc)'!A117=\"\",\"\",'Comm Device (Desc)'!A117)","v":""},{"$f":"IF('Comm Device (Desc)'!C117=\"\",\"\",\"2029\")","v":""},{"$f":"IF('Comm Device (Desc)'!C117=\"\",\"\",'Comm Device (Desc)'!C117)","v":""},{"$f":"IF('Comm Device (Desc)'!D117=\"\",\"\",INDEX([1]OWNER!$A$2:$A$100,MATCH('Comm Device (Desc)'!$D117,[1]!MASTER_OWNER_DESC[#Data],0),0))","v":""},{"$f":"IF('Comm Device (Desc)'!F117=\"\",\"\",INDEX([1]ITS_COMM_DEV_TYPE!$A$2:$A$100,MATCH('Comm Device (Desc)'!$F117,[1]!MASTER_ITS_COMM_DEV_TYPE_DESC[#Data],0),0))","v":""},{"$f":"IF('Comm Device (Desc)'!G117=\"\",\"\",INDEX([1]COMM_TYPE!$A$2:$A$100,MATCH('Comm Device (Desc)'!$G117,[1]!MASTER_COMM_TYPE_DESC[#Data],0),0))","v":""},{"$f":"IF('Comm Device (Desc)'!H117=\"\",\"\",'Comm Device (Desc)'!H117)","v":""},{"$f":"IF('Comm Device (Desc)'!I117=\"\",\"\",'Comm Device (Desc)'!I117)","v":""},{"$f":"IF('Comm Device (Desc)'!J117=\"\",\"\",INDEX([1]ITS_COMM_DEV_MANUF!$A$2:$A$300,MATCH(1,([1]ITS_COMM_DEV_MANUF!$B$2:$B$300='Comm Device (Desc)'!$J117)*([1]ITS_COMM_DEV_MANUF!$C$2:$C$300='Comm Device (Code)'!$E117),0),0))","v":""},{"$f":"IF('Comm Device (Desc)'!K117=\"\",\"\",INDEX([1]ITS_COMM_DEV_MODEL!$A$2:$A$500,MATCH(1,([1]ITS_COMM_DEV_MODEL!$C$2:$C$500='Comm Device (Desc)'!$J117)*([1]ITS_COMM_DEV_MODEL!$D$2:$D$500='Comm Device (Code)'!$E117)*([1]ITS_COMM_DEV_MODEL!$E$2:$E$500='Comm Device (Desc)'!$K117),0),0))","v":""},{"$f":"IF('Comm Device (Desc)'!L117=\"\",\"\",'Comm Device (Desc)'!L117)","v":""},{"$f":"IF('Comm Device (Desc)'!M117=\"\",\"\",'Comm Device (Desc)'!M117)","v":""},{"$f":"IF('Comm Device (Desc)'!N117=\"\",\"\",'Comm Device (Desc)'!N117)","v":""},{"$f":"IF('Comm Device (Desc)'!O117=\"\",\"\",'Comm Device (Desc)'!O117)","v":""},{"$f":"IF('Comm Device (Desc)'!P117=\"\",\"\",INDEX([1]DEV_INPUT_VOLTAGE!$A$2:$A$100,MATCH('Comm Device (Desc)'!$P117,[1]!MASTER_DEV_INPUT_VOLTAGE_DESC[#Data],0),0))","v":""},{"$f":"IF('Comm Device (Desc)'!Q117=\"\",\"\",'Comm Device (Desc)'!Q117)","v":""},{"$f":"IF('Comm Device (Desc)'!R117=\"\",\"\",'Comm Device (Desc)'!R117)","v":""},{"$f":"IF('Comm Device (Desc)'!S117=\"\",\"\",'Comm Device (Desc)'!S117)","v":""},{"$f":"IF('Comm Device (Desc)'!T117=\"\",\"\",'Comm Device (Desc)'!T117)","v":""},{"$f":"IF('Comm Device (Desc)'!U117=\"\",\"\",'Comm Device (Desc)'!U117)","v":""},{"$f":"IF('Comm Device (Desc)'!V117=\"\",\"\",INDEX([1]FIBER_CONN_TYPE!$A$2:$A$100,MATCH('Comm Device (Desc)'!$V117,[1]!MASTER_FIBER_CONN_TYPE_DESC[#Data],0),0))","v":""}]
[{"$f":"IF('Comm Device (Desc)'!A118=\"\",\"\",'Comm Device (Desc)'!A118)","v":""},{"$f":"IF('Comm Device (Desc)'!C118=\"\",\"\",\"2029\")","v":""},{"$f":"IF('Comm Device (Desc)'!C118=\"\",\"\",'Comm Device (Desc)'!C118)","v":""},{"$f":"IF('Comm Device (Desc)'!D118=\"\",\"\",INDEX([1]OWNER!$A$2:$A$100,MATCH('Comm Device (Desc)'!$D118,[1]!MASTER_OWNER_DESC[#Data],0),0))","v":""},{"$f":"IF('Comm Device (Desc)'!F118=\"\",\"\",INDEX([1]ITS_COMM_DEV_TYPE!$A$2:$A$100,MATCH('Comm Device (Desc)'!$F118,[1]!MASTER_ITS_COMM_DEV_TYPE_DESC[#Data],0),0))","v":""},{"$f":"IF('Comm Device (Desc)'!G118=\"\",\"\",INDEX([1]COMM_TYPE!$A$2:$A$100,MATCH('Comm Device (Desc)'!$G118,[1]!MASTER_COMM_TYPE_DESC[#Data],0),0))","v":""},{"$f":"IF('Comm Device (Desc)'!H118=\"\",\"\",'Comm Device (Desc)'!H118)","v":""},{"$f":"IF('Comm Device (Desc)'!I118=\"\",\"\",'Comm Device (Desc)'!I118)","v":""},{"$f":"IF('Comm Device (Desc)'!J118=\"\",\"\",INDEX([1]ITS_COMM_DEV_MANUF!$A$2:$A$300,MATCH(1,([1]ITS_COMM_DEV_MANUF!$B$2:$B$300='Comm Device (Desc)'!$J118)*([1]ITS_COMM_DEV_MANUF!$C$2:$C$300='Comm Device (Code)'!$E118),0),0))","v":""},{"$f":"IF('Comm Device (Desc)'!K118=\"\",\"\",INDEX([1]ITS_COMM_DEV_MODEL!$A$2:$A$500,MATCH(1,([1]ITS_COMM_DEV_MODEL!$C$2:$C$500='Comm Device (Desc)'!$J118)*([1]ITS_COMM_DEV_MODEL!$D$2:$D$500='Comm Device (Code)'!$E118)*([1]ITS_COMM_DEV_MODEL!$E$2:$E$500='Comm Device (Desc)'!$K118),0),0))","v":""},{"$f":"IF('Comm Device (Desc)'!L118=\"\",\"\",'Comm Device (Desc)'!L118)","v":""},{"$f":"IF('Comm Device (Desc)'!M118=\"\",\"\",'Comm Device (Desc)'!M118)","v":""},{"$f":"IF('Comm Device (Desc)'!N118=\"\",\"\",'Comm Device (Desc)'!N118)","v":""},{"$f":"IF('Comm Device (Desc)'!O118=\"\",\"\",'Comm Device (Desc)'!O118)","v":""},{"$f":"IF('Comm Device (Desc)'!P118=\"\",\"\",INDEX([1]DEV_INPUT_VOLTAGE!$A$2:$A$100,MATCH('Comm Device (Desc)'!$P118,[1]!MASTER_DEV_INPUT_VOLTAGE_DESC[#Data],0),0))","v":""},{"$f":"IF('Comm Device (Desc)'!Q118=\"\",\"\",'Comm Device (Desc)'!Q118)","v":""},{"$f":"IF('Comm Device (Desc)'!R118=\"\",\"\",'Comm Device (Desc)'!R118)","v":""},{"$f":"IF('Comm Device (Desc)'!S118=\"\",\"\",'Comm Device (Desc)'!S118)","v":""},{"$f":"IF('Comm Device (Desc)'!T118=\"\",\"\",'Comm Device (Desc)'!T118)","v":""},{"$f":"IF('Comm Device (Desc)'!U118=\"\",\"\",'Comm Device (Desc)'!U118)","v":""},{"$f":"IF('Comm Device (Desc)'!V118=\"\",\"\",INDEX([1]FIBER_CONN_TYPE!$A$2:$A$100,MATCH('Comm Device (Desc)'!$V118,[1]!MASTER_FIBER_CONN_TYPE_DESC[#Data],0),0))","v":""}]
[{"$f":"IF('Comm Device (Desc)'!A119=\"\",\"\",'Comm Device (Desc)'!A119)","v":""},{"$f":"IF('Comm Device (Desc)'!C119=\"\",\"\",\"2029\")","v":""},{"$f":"IF('Comm Device (Desc)'!C119=\"\",\"\",'Comm Device (Desc)'!C119)","v":""},{"$f":"IF('Comm Device (Desc)'!D119=\"\",\"\",INDEX([1]OWNER!$A$2:$A$100,MATCH('Comm Device (Desc)'!$D119,[1]!MASTER_OWNER_DESC[#Data],0),0))","v":""},{"$f":"IF('Comm Device (Desc)'!F119=\"\",\"\",INDEX([1]ITS_COMM_DEV_TYPE!$A$2:$A$100,MATCH('Comm Device (Desc)'!$F119,[1]!MASTER_ITS_COMM_DEV_TYPE_DESC[#Data],0),0))","v":""},{"$f":"IF('Comm Device (Desc)'!G119=\"\",\"\",INDEX([1]COMM_TYPE!$A$2:$A$100,MATCH('Comm Device (Desc)'!$G119,[1]!MASTER_COMM_TYPE_DESC[#Data],0),0))","v":""},{"$f":"IF('Comm Device (Desc)'!H119=\"\",\"\",'Comm Device (Desc)'!H119)","v":""},{"$f":"IF('Comm Device (Desc)'!I119=\"\",\"\",'Comm Device (Desc)'!I119)","v":""},{"$f":"IF('Comm Device (Desc)'!J119=\"\",\"\",INDEX([1]ITS_COMM_DEV_MANUF!$A$2:$A$300,MATCH(1,([1]ITS_COMM_DEV_MANUF!$B$2:$B$300='Comm Device (Desc)'!$J119)*([1]ITS_COMM_DEV_MANUF!$C$2:$C$300='Comm Device (Code)'!$E119),0),0))","v":""},{"$f":"IF('Comm Device (Desc)'!K119=\"\",\"\",INDEX([1]ITS_COMM_DEV_MODEL!$A$2:$A$500,MATCH(1,([1]ITS_COMM_DEV_MODEL!$C$2:$C$500='Comm Device (Desc)'!$J119)*([1]ITS_COMM_DEV_MODEL!$D$2:$D$500='Comm Device (Code)'!$E119)*([1]ITS_COMM_DEV_MODEL!$E$2:$E$500='Comm Device (Desc)'!$K119),0),0))","v":""},{"$f":"IF('Comm Device (Desc)'!L119=\"\",\"\",'Comm Device (Desc)'!L119)","v":""},{"$f":"IF('Comm Device (Desc)'!M119=\"\",\"\",'Comm Device (Desc)'!M119)","v":""},{"$f":"IF('Comm Device (Desc)'!N119=\"\",\"\",'Comm Device (Desc)'!N119)","v":""},{"$f":"IF('Comm Device (Desc)'!O119=\"\",\"\",'Comm Device (Desc)'!O119)","v":""},{"$f":"IF('Comm Device (Desc)'!P119=\"\",\"\",INDEX([1]DEV_INPUT_VOLTAGE!$A$2:$A$100,MATCH('Comm Device (Desc)'!$P119,[1]!MASTER_DEV_INPUT_VOLTAGE_DESC[#Data],0),0))","v":""},{"$f":"IF('Comm Device (Desc)'!Q119=\"\",\"\",'Comm Device (Desc)'!Q119)","v":""},{"$f":"IF('Comm Device (Desc)'!R119=\"\",\"\",'Comm Device (Desc)'!R119)","v":""},{"$f":"IF('Comm Device (Desc)'!S119=\"\",\"\",'Comm Device (Desc)'!S119)","v":""},{"$f":"IF('Comm Device (Desc)'!T119=\"\",\"\",'Comm Device (Desc)'!T119)","v":""},{"$f":"IF('Comm Device (Desc)'!U119=\"\",\"\",'Comm Device (Desc)'!U119)","v":""},{"$f":"IF('Comm Device (Desc)'!V119=\"\",\"\",INDEX([1]FIBER_CONN_TYPE!$A$2:$A$100,MATCH('Comm Device (Desc)'!$V119,[1]!MASTER_FIBER_CONN_TYPE_DESC[#Data],0),0))","v":""}]
[{"$f":"IF('Comm Device (Desc)'!A120=\"\",\"\",'Comm Device (Desc)'!A120)","v":""},{"$f":"IF('Comm Device (Desc)'!C120=\"\",\"\",\"2029\")","v":""},{"$f":"IF('Comm Device (Desc)'!C120=\"\",\"\",'Comm Device (Desc)'!C120)","v":""},{"$f":"IF('Comm Device (Desc)'!D120=\"\",\"\",INDEX([1]OWNER!$A$2:$A$100,MATCH('Comm Device (Desc)'!$D120,[1]!MASTER_OWNER_DESC[#Data],0),0))","v":""},{"$f":"IF('Comm Device (Desc)'!F120=\"\",\"\",INDEX([1]ITS_COMM_DEV_TYPE!$A$2:$A$100,MATCH('Comm Device (Desc)'!$F120,[1]!MASTER_ITS_COMM_DEV_TYPE_DESC[#Data],0),0))","v":""},{"$f":"IF('Comm Device (Desc)'!G120=\"\",\"\",INDEX([1]COMM_TYPE!$A$2:$A$100,MATCH('Comm Device (Desc)'!$G120,[1]!MASTER_COMM_TYPE_DESC[#Data],0),0))","v":""},{"$f":"IF('Comm Device (Desc)'!H120=\"\",\"\",'Comm Device (Desc)'!H120)","v":""},{"$f":"IF('Comm Device (Desc)'!I120=\"\",\"\",'Comm Device (Desc)'!I120)","v":""},{"$f":"IF('Comm Device (Desc)'!J120=\"\",\"\",INDEX([1]ITS_COMM_DEV_MANUF!$A$2:$A$300,MATCH(1,([1]ITS_COMM_DEV_MANUF!$B$2:$B$300='Comm Device (Desc)'!$J120)*([1]ITS_COMM_DEV_MANUF!$C$2:$C$300='Comm Device (Code)'!$E120),0),0))","v":""},{"$f":"IF('Comm Device (Desc)'!K120=\"\",\"\",INDEX([1]ITS_COMM_DEV_MODEL!$A$2:$A$500,MATCH(1,([1]ITS_COMM_DEV_MODEL!$C$2:$C$500='Comm Device (Desc)'!$J120)*([1]ITS_COMM_DEV_MODEL!$D$2:$D$500='Comm Device (Code)'!$E120)*([1]ITS_COMM_DEV_MODEL!$E$2:$E$500='Comm Device (Desc)'!$K120),0),0))","v":""},{"$f":"IF('Comm Device (Desc)'!L120=\"\",\"\",'Comm Device (Desc)'!L120)","v":""},{"$f":"IF('Comm Device (Desc)'!M120=\"\",\"\",'Comm Device (Desc)'!M120)","v":""},{"$f":"IF('Comm Device (Desc)'!N120=\"\",\"\",'Comm Device (Desc)'!N120)","v":""},{"$f":"IF('Comm Device (Desc)'!O120=\"\",\"\",'Comm Device (Desc)'!O120)","v":""},{"$f":"IF('Comm Device (Desc)'!P120=\"\",\"\",INDEX([1]DEV_INPUT_VOLTAGE!$A$2:$A$100,MATCH('Comm Device (Desc)'!$P120,[1]!MASTER_DEV_INPUT_VOLTAGE_DESC[#Data],0),0))","v":""},{"$f":"IF('Comm Device (Desc)'!Q120=\"\",\"\",'Comm Device (Desc)'!Q120)","v":""},{"$f":"IF('Comm Device (Desc)'!R120=\"\",\"\",'Comm Device (Desc)'!R120)","v":""},{"$f":"IF('Comm Device (Desc)'!S120=\"\",\"\",'Comm Device (Desc)'!S120)","v":""},{"$f":"IF('Comm Device (Desc)'!T120=\"\",\"\",'Comm Device (Desc)'!T120)","v":""},{"$f":"IF('Comm Device (Desc)'!U120=\"\",\"\",'Comm Device (Desc)'!U120)","v":""},{"$f":"IF('Comm Device (Desc)'!V120=\"\",\"\",INDEX([1]FIBER_CONN_TYPE!$A$2:$A$100,MATCH('Comm Device (Desc)'!$V120,[1]!MASTER_FIBER_CONN_TYPE_DESC[#Data],0),0))","v":""}]
[{"$f":"IF('Comm Device (Desc)'!A121=\"\",\"\",'Comm Device (Desc)'!A121)","v":""},{"$f":"IF('Comm Device (Desc)'!C121=\"\",\"\",\"2029\")","v":""},{"$f":"IF('Comm Device (Desc)'!C121=\"\",\"\",'Comm Device (Desc)'!C121)","v":""},{"$f":"IF('Comm Device (Desc)'!D121=\"\",\"\",INDEX([1]OWNER!$A$2:$A$100,MATCH('Comm Device (Desc)'!$D121,[1]!MASTER_OWNER_DESC[#Data],0),0))","v":""},{"$f":"IF('Comm Device (Desc)'!F121=\"\",\"\",INDEX([1]ITS_COMM_DEV_TYPE!$A$2:$A$100,MATCH('Comm Device (Desc)'!$F121,[1]!MASTER_ITS_COMM_DEV_TYPE_DESC[#Data],0),0))","v":""},{"$f":"IF('Comm Device (Desc)'!G121=\"\",\"\",INDEX([1]COMM_TYPE!$A$2:$A$100,MATCH('Comm Device (Desc)'!$G121,[1]!MASTER_COMM_TYPE_DESC[#Data],0),0))","v":""},{"$f":"IF('Comm Device (Desc)'!H121=\"\",\"\",'Comm Device (Desc)'!H121)","v":""},{"$f":"IF('Comm Device (Desc)'!I121=\"\",\"\",'Comm Device (Desc)'!I121)","v":""},{"$f":"IF('Comm Device (Desc)'!J121=\"\",\"\",INDEX([1]ITS_COMM_DEV_MANUF!$A$2:$A$300,MATCH(1,([1]ITS_COMM_DEV_MANUF!$B$2:$B$300='Comm Device (Desc)'!$J121)*([1]ITS_COMM_DEV_MANUF!$C$2:$C$300='Comm Device (Code)'!$E121),0),0))","v":""},{"$f":"IF('Comm Device (Desc)'!K121=\"\",\"\",INDEX([1]ITS_COMM_DEV_MODEL!$A$2:$A$500,MATCH(1,([1]ITS_COMM_DEV_MODEL!$C$2:$C$500='Comm Device (Desc)'!$J121)*([1]ITS_COMM_DEV_MODEL!$D$2:$D$500='Comm Device (Code)'!$E121)*([1]ITS_COMM_DEV_MODEL!$E$2:$E$500='Comm Device (Desc)'!$K121),0),0))","v":""},{"$f":"IF('Comm Device (Desc)'!L121=\"\",\"\",'Comm Device (Desc)'!L121)","v":""},{"$f":"IF('Comm Device (Desc)'!M121=\"\",\"\",'Comm Device (Desc)'!M121)","v":""},{"$f":"IF('Comm Device (Desc)'!N121=\"\",\"\",'Comm Device (Desc)'!N121)","v":""},{"$f":"IF('Comm Device (Desc)'!O121=\"\",\"\",'Comm Device (Desc)'!O121)","v":""},{"$f":"IF('Comm Device (Desc)'!P121=\"\",\"\",INDEX([1]DEV_INPUT_VOLTAGE!$A$2:$A$100,MATCH('Comm Device (Desc)'!$P121,[1]!MASTER_DEV_INPUT_VOLTAGE_DESC[#Data],0),0))","v":""},{"$f":"IF('Comm Device (Desc)'!Q121=\"\",\"\",'Comm Device (Desc)'!Q121)","v":""},{"$f":"IF('Comm Device (Desc)'!R121=\"\",\"\",'Comm Device (Desc)'!R121)","v":""},{"$f":"IF('Comm Device (Desc)'!S121=\"\",\"\",'Comm Device (Desc)'!S121)","v":""},{"$f":"IF('Comm Device (Desc)'!T121=\"\",\"\",'Comm Device (Desc)'!T121)","v":""},{"$f":"IF('Comm Device (Desc)'!U121=\"\",\"\",'Comm Device (Desc)'!U121)","v":""},{"$f":"IF('Comm Device (Desc)'!V121=\"\",\"\",INDEX([1]FIBER_CONN_TYPE!$A$2:$A$100,MATCH('Comm Device (Desc)'!$V121,[1]!MASTER_FIBER_CONN_TYPE_DESC[#Data],0),0))","v":""}]
[{"$f":"IF('Comm Device (Desc)'!A122=\"\",\"\",'Comm Device (Desc)'!A122)","v":""},{"$f":"IF('Comm Device (Desc)'!C122=\"\",\"\",\"2029\")","v":""},{"$f":"IF('Comm Device (Desc)'!C122=\"\",\"\",'Comm Device (Desc)'!C122)","v":""},{"$f":"IF('Comm Device (Desc)'!D122=\"\",\"\",INDEX([1]OWNER!$A$2:$A$100,MATCH('Comm Device (Desc)'!$D122,[1]!MASTER_OWNER_DESC[#Data],0),0))","v":""},{"$f":"IF('Comm Device (Desc)'!F122=\"\",\"\",INDEX([1]ITS_COMM_DEV_TYPE!$A$2:$A$100,MATCH('Comm Device (Desc)'!$F122,[1]!MASTER_ITS_COMM_DEV_TYPE_DESC[#Data],0),0))","v":""},{"$f":"IF('Comm Device (Desc)'!G122=\"\",\"\",INDEX([1]COMM_TYPE!$A$2:$A$100,MATCH('Comm Device (Desc)'!$G122,[1]!MASTER_COMM_TYPE_DESC[#Data],0),0))","v":""},{"$f":"IF('Comm Device (Desc)'!H122=\"\",\"\",'Comm Device (Desc)'!H122)","v":""},{"$f":"IF('Comm Device (Desc)'!I122=\"\",\"\",'Comm Device (Desc)'!I122)","v":""},{"$f":"IF('Comm Device (Desc)'!J122=\"\",\"\",INDEX([1]ITS_COMM_DEV_MANUF!$A$2:$A$300,MATCH(1,([1]ITS_COMM_DEV_MANUF!$B$2:$B$300='Comm Device (Desc)'!$J122)*([1]ITS_COMM_DEV_MANUF!$C$2:$C$300='Comm Device (Code)'!$E122),0),0))","v":""},{"$f":"IF('Comm Device (Desc)'!K122=\"\",\"\",INDEX([1]ITS_COMM_DEV_MODEL!$A$2:$A$500,MATCH(1,([1]ITS_COMM_DEV_MODEL!$C$2:$C$500='Comm Device (Desc)'!$J122)*([1]ITS_COMM_DEV_MODEL!$D$2:$D$500='Comm Device (Code)'!$E122)*([1]ITS_COMM_DEV_MODEL!$E$2:$E$500='Comm Device (Desc)'!$K122),0),0))","v":""},{"$f":"IF('Comm Device (Desc)'!L122=\"\",\"\",'Comm Device (Desc)'!L122)","v":""},{"$f":"IF('Comm Device (Desc)'!M122=\"\",\"\",'Comm Device (Desc)'!M122)","v":""},{"$f":"IF('Comm Device (Desc)'!N122=\"\",\"\",'Comm Device (Desc)'!N122)","v":""},{"$f":"IF('Comm Device (Desc)'!O122=\"\",\"\",'Comm Device (Desc)'!O122)","v":""},{"$f":"IF('Comm Device (Desc)'!P122=\"\",\"\",INDEX([1]DEV_INPUT_VOLTAGE!$A$2:$A$100,MATCH('Comm Device (Desc)'!$P122,[1]!MASTER_DEV_INPUT_VOLTAGE_DESC[#Data],0),0))","v":""},{"$f":"IF('Comm Device (Desc)'!Q122=\"\",\"\",'Comm Device (Desc)'!Q122)","v":""},{"$f":"IF('Comm Device (Desc)'!R122=\"\",\"\",'Comm Device (Desc)'!R122)","v":""},{"$f":"IF('Comm Device (Desc)'!S122=\"\",\"\",'Comm Device (Desc)'!S122)","v":""},{"$f":"IF('Comm Device (Desc)'!T122=\"\",\"\",'Comm Device (Desc)'!T122)","v":""},{"$f":"IF('Comm Device (Desc)'!U122=\"\",\"\",'Comm Device (Desc)'!U122)","v":""},{"$f":"IF('Comm Device (Desc)'!V122=\"\",\"\",INDEX([1]FIBER_CONN_TYPE!$A$2:$A$100,MATCH('Comm Device (Desc)'!$V122,[1]!MASTER_FIBER_CONN_TYPE_DESC[#Data],0),0))","v":""}]
[{"$f":"IF('Comm Device (Desc)'!A123=\"\",\"\",'Comm Device (Desc)'!A123)","v":""},{"$f":"IF('Comm Device (Desc)'!C123=\"\",\"\",\"2029\")","v":""},{"$f":"IF('Comm Device (Desc)'!C123=\"\",\"\",'Comm Device (Desc)'!C123)","v":""},{"$f":"IF('Comm Device (Desc)'!D123=\"\",\"\",INDEX([1]OWNER!$A$2:$A$100,MATCH('Comm Device (Desc)'!$D123,[1]!MASTER_OWNER_DESC[#Data],0),0))","v":""},{"$f":"IF('Comm Device (Desc)'!F123=\"\",\"\",INDEX([1]ITS_COMM_DEV_TYPE!$A$2:$A$100,MATCH('Comm Device (Desc)'!$F123,[1]!MASTER_ITS_COMM_DEV_TYPE_DESC[#Data],0),0))","v":""},{"$f":"IF('Comm Device (Desc)'!G123=\"\",\"\",INDEX([1]COMM_TYPE!$A$2:$A$100,MATCH('Comm Device (Desc)'!$G123,[1]!MASTER_COMM_TYPE_DESC[#Data],0),0))","v":""},{"$f":"IF('Comm Device (Desc)'!H123=\"\",\"\",'Comm Device (Desc)'!H123)","v":""},{"$f":"IF('Comm Device (Desc)'!I123=\"\",\"\",'Comm Device (Desc)'!I123)","v":""},{"$f":"IF('Comm Device (Desc)'!J123=\"\",\"\",INDEX([1]ITS_COMM_DEV_MANUF!$A$2:$A$300,MATCH(1,([1]ITS_COMM_DEV_MANUF!$B$2:$B$300='Comm Device (Desc)'!$J123)*([1]ITS_COMM_DEV_MANUF!$C$2:$C$300='Comm Device (Code)'!$E123),0),0))","v":""},{"$f":"IF('Comm Device (Desc)'!K123=\"\",\"\",INDEX([1]ITS_COMM_DEV_MODEL!$A$2:$A$500,MATCH(1,([1]ITS_COMM_DEV_MODEL!$C$2:$C$500='Comm Device (Desc)'!$J123)*([1]ITS_COMM_DEV_MODEL!$D$2:$D$500='Comm Device (Code)'!$E123)*([1]ITS_COMM_DEV_MODEL!$E$2:$E$500='Comm Device (Desc)'!$K123),0),0))","v":""},{"$f":"IF('Comm Device (Desc)'!L123=\"\",\"\",'Comm Device (Desc)'!L123)","v":""},{"$f":"IF('Comm Device (Desc)'!M123=\"\",\"\",'Comm Device (Desc)'!M123)","v":""},{"$f":"IF('Comm Device (Desc)'!N123=\"\",\"\",'Comm Device (Desc)'!N123)","v":""},{"$f":"IF('Comm Device (Desc)'!O123=\"\",\"\",'Comm Device (Desc)'!O123)","v":""},{"$f":"IF('Comm Device (Desc)'!P123=\"\",\"\",INDEX([1]DEV_INPUT_VOLTAGE!$A$2:$A$100,MATCH('Comm Device (Desc)'!$P123,[1]!MASTER_DEV_INPUT_VOLTAGE_DESC[#Data],0),0))","v":""},{"$f":"IF('Comm Device (Desc)'!Q123=\"\",\"\",'Comm Device (Desc)'!Q123)","v":""},{"$f":"IF('Comm Device (Desc)'!R123=\"\",\"\",'Comm Device (Desc)'!R123)","v":""},{"$f":"IF('Comm Device (Desc)'!S123=\"\",\"\",'Comm Device (Desc)'!S123)","v":""},{"$f":"IF('Comm Device (Desc)'!T123=\"\",\"\",'Comm Device (Desc)'!T123)","v":""},{"$f":"IF('Comm Device (Desc)'!U123=\"\",\"\",'Comm Device (Desc)'!U123)","v":""},{"$f":"IF('Comm Device (Desc)'!V123=\"\",\"\",INDEX([1]FIBER_CONN_TYPE!$A$2:$A$100,MATCH('Comm Device (Desc)'!$V123,[1]!MASTER_FIBER_CONN_TYPE_DESC[#Data],0),0))","v":""}]
[{"$f":"IF('Comm Device (Desc)'!A124=\"\",\"\",'Comm Device (Desc)'!A124)","v":""},{"$f":"IF('Comm Device (Desc)'!C124=\"\",\"\",\"2029\")","v":""},{"$f":"IF('Comm Device (Desc)'!C124=\"\",\"\",'Comm Device (Desc)'!C124)","v":""},{"$f":"IF('Comm Device (Desc)'!D124=\"\",\"\",INDEX([1]OWNER!$A$2:$A$100,MATCH('Comm Device (Desc)'!$D124,[1]!MASTER_OWNER_DESC[#Data],0),0))","v":""},{"$f":"IF('Comm Device (Desc)'!F124=\"\",\"\",INDEX([1]ITS_COMM_DEV_TYPE!$A$2:$A$100,MATCH('Comm Device (Desc)'!$F124,[1]!MASTER_ITS_COMM_DEV_TYPE_DESC[#Data],0),0))","v":""},{"$f":"IF('Comm Device (Desc)'!G124=\"\",\"\",INDEX([1]COMM_TYPE!$A$2:$A$100,MATCH('Comm Device (Desc)'!$G124,[1]!MASTER_COMM_TYPE_DESC[#Data],0),0))","v":""},{"$f":"IF('Comm Device (Desc)'!H124=\"\",\"\",'Comm Device (Desc)'!H124)","v":""},{"$f":"IF('Comm Device (Desc)'!I124=\"\",\"\",'Comm Device (Desc)'!I124)","v":""},{"$f":"IF('Comm Device (Desc)'!J124=\"\",\"\",INDEX([1]ITS_COMM_DEV_MANUF!$A$2:$A$300,MATCH(1,([1]ITS_COMM_DEV_MANUF!$B$2:$B$300='Comm Device (Desc)'!$J124)*([1]ITS_COMM_DEV_MANUF!$C$2:$C$300='Comm Device (Code)'!$E124),0),0))","v":""},{"$f":"IF('Comm Device (Desc)'!K124=\"\",\"\",INDEX([1]ITS_COMM_DEV_MODEL!$A$2:$A$500,MATCH(1,([1]ITS_COMM_DEV_MODEL!$C$2:$C$500='Comm Device (Desc)'!$J124)*([1]ITS_COMM_DEV_MODEL!$D$2:$D$500='Comm Device (Code)'!$E124)*([1]ITS_COMM_DEV_MODEL!$E$2:$E$500='Comm Device (Desc)'!$K124),0),0))","v":""},{"$f":"IF('Comm Device (Desc)'!L124=\"\",\"\",'Comm Device (Desc)'!L124)","v":""},{"$f":"IF('Comm Device (Desc)'!M124=\"\",\"\",'Comm Device (Desc)'!M124)","v":""},{"$f":"IF('Comm Device (Desc)'!N124=\"\",\"\",'Comm Device (Desc)'!N124)","v":""},{"$f":"IF('Comm Device (Desc)'!O124=\"\",\"\",'Comm Device (Desc)'!O124)","v":""},{"$f":"IF('Comm Device (Desc)'!P124=\"\",\"\",INDEX([1]DEV_INPUT_VOLTAGE!$A$2:$A$100,MATCH('Comm Device (Desc)'!$P124,[1]!MASTER_DEV_INPUT_VOLTAGE_DESC[#Data],0),0))","v":""},{"$f":"IF('Comm Device (Desc)'!Q124=\"\",\"\",'Comm Device (Desc)'!Q124)","v":""},{"$f":"IF('Comm Device (Desc)'!R124=\"\",\"\",'Comm Device (Desc)'!R124)","v":""},{"$f":"IF('Comm Device (Desc)'!S124=\"\",\"\",'Comm Device (Desc)'!S124)","v":""},{"$f":"IF('Comm Device (Desc)'!T124=\"\",\"\",'Comm Device (Desc)'!T124)","v":""},{"$f":"IF('Comm Device (Desc)'!U124=\"\",\"\",'Comm Device (Desc)'!U124)","v":""},{"$f":"IF('Comm Device (Desc)'!V124=\"\",\"\",INDEX([1]FIBER_CONN_TYPE!$A$2:$A$100,MATCH('Comm Device (Desc)'!$V124,[1]!MASTER_FIBER_CONN_TYPE_DESC[#Data],0),0))","v":""}]
[{"$f":"IF('Comm Device (Desc)'!A125=\"\",\"\",'Comm Device (Desc)'!A125)","v":""},{"$f":"IF('Comm Device (Desc)'!C125=\"\",\"\",\"2029\")","v":""},{"$f":"IF('Comm Device (Desc)'!C125=\"\",\"\",'Comm Device (Desc)'!C125)","v":""},{"$f":"IF('Comm Device (Desc)'!D125=\"\",\"\",INDEX([1]OWNER!$A$2:$A$100,MATCH('Comm Device (Desc)'!$D125,[1]!MASTER_OWNER_DESC[#Data],0),0))","v":""},{"$f":"IF('Comm Device (Desc)'!F125=\"\",\"\",INDEX([1]ITS_COMM_DEV_TYPE!$A$2:$A$100,MATCH('Comm Device (Desc)'!$F125,[1]!MASTER_ITS_COMM_DEV_TYPE_DESC[#Data],0),0))","v":""},{"$f":"IF('Comm Device (Desc)'!G125=\"\",\"\",INDEX([1]COMM_TYPE!$A$2:$A$100,MATCH('Comm Device (Desc)'!$G125,[1]!MASTER_COMM_TYPE_DESC[#Data],0),0))","v":""},{"$f":"IF('Comm Device (Desc)'!H125=\"\",\"\",'Comm Device (Desc)'!H125)","v":""},{"$f":"IF('Comm Device (Desc)'!I125=\"\",\"\",'Comm Device (Desc)'!I125)","v":""},{"$f":"IF('Comm Device (Desc)'!J125=\"\",\"\",INDEX([1]ITS_COMM_DEV_MANUF!$A$2:$A$300,MATCH(1,([1]ITS_COMM_DEV_MANUF!$B$2:$B$300='Comm Device (Desc)'!$J125)*([1]ITS_COMM_DEV_MANUF!$C$2:$C$300='Comm Device (Code)'!$E125),0),0))","v":""},{"$f":"IF('Comm Device (Desc)'!K125=\"\",\"\",INDEX([1]ITS_COMM_DEV_MODEL!$A$2:$A$500,MATCH(1,([1]ITS_COMM_DEV_MODEL!$C$2:$C$500='Comm Device (Desc)'!$J125)*([1]ITS_COMM_DEV_MODEL!$D$2:$D$500='Comm Device (Code)'!$E125)*([1]ITS_COMM_DEV_MODEL!$E$2:$E$500='Comm Device (Desc)'!$K125),0),0))","v":""},{"$f":"IF('Comm Device (Desc)'!L125=\"\",\"\",'Comm Device (Desc)'!L125)","v":""},{"$f":"IF('Comm Device (Desc)'!M125=\"\",\"\",'Comm Device (Desc)'!M125)","v":""},{"$f":"IF('Comm Device (Desc)'!N125=\"\",\"\",'Comm Device (Desc)'!N125)","v":""},{"$f":"IF('Comm Device (Desc)'!O125=\"\",\"\",'Comm Device (Desc)'!O125)","v":""},{"$f":"IF('Comm Device (Desc)'!P125=\"\",\"\",INDEX([1]DEV_INPUT_VOLTAGE!$A$2:$A$100,MATCH('Comm Device (Desc)'!$P125,[1]!MASTER_DEV_INPUT_VOLTAGE_DESC[#Data],0),0))","v":""},{"$f":"IF('Comm Device (Desc)'!Q125=\"\",\"\",'Comm Device (Desc)'!Q125)","v":""},{"$f":"IF('Comm Device (Desc)'!R125=\"\",\"\",'Comm Device (Desc)'!R125)","v":""},{"$f":"IF('Comm Device (Desc)'!S125=\"\",\"\",'Comm Device (Desc)'!S125)","v":""},{"$f":"IF('Comm Device (Desc)'!T125=\"\",\"\",'Comm Device (Desc)'!T125)","v":""},{"$f":"IF('Comm Device (Desc)'!U125=\"\",\"\",'Comm Device (Desc)'!U125)","v":""},{"$f":"IF('Comm Device (Desc)'!V125=\"\",\"\",INDEX([1]FIBER_CONN_TYPE!$A$2:$A$100,MATCH('Comm Device (Desc)'!$V125,[1]!MASTER_FIBER_CONN_TYPE_DESC[#Data],0),0))","v":""}]
[{"$f":"IF('Comm Device (Desc)'!A126=\"\",\"\",'Comm Device (Desc)'!A126)","v":""},{"$f":"IF('Comm Device (Desc)'!C126=\"\",\"\",\"2029\")","v":""},{"$f":"IF('Comm Device (Desc)'!C126=\"\",\"\",'Comm Device (Desc)'!C126)","v":""},{"$f":"IF('Comm Device (Desc)'!D126=\"\",\"\",INDEX([1]OWNER!$A$2:$A$100,MATCH('Comm Device (Desc)'!$D126,[1]!MASTER_OWNER_DESC[#Data],0),0))","v":""},{"$f":"IF('Comm Device (Desc)'!F126=\"\",\"\",INDEX([1]ITS_COMM_DEV_TYPE!$A$2:$A$100,MATCH('Comm Device (Desc)'!$F126,[1]!MASTER_ITS_COMM_DEV_TYPE_DESC[#Data],0),0))","v":""},{"$f":"IF('Comm Device (Desc)'!G126=\"\",\"\",INDEX([1]COMM_TYPE!$A$2:$A$100,MATCH('Comm Device (Desc)'!$G126,[1]!MASTER_COMM_TYPE_DESC[#Data],0),0))","v":""},{"$f":"IF('Comm Device (Desc)'!H126=\"\",\"\",'Comm Device (Desc)'!H126)","v":""},{"$f":"IF('Comm Device (Desc)'!I126=\"\",\"\",'Comm Device (Desc)'!I126)","v":""},{"$f":"IF('Comm Device (Desc)'!J126=\"\",\"\",INDEX([1]ITS_COMM_DEV_MANUF!$A$2:$A$300,MATCH(1,([1]ITS_COMM_DEV_MANUF!$B$2:$B$300='Comm Device (Desc)'!$J126)*([1]ITS_COMM_DEV_MANUF!$C$2:$C$300='Comm Device (Code)'!$E126),0),0))","v":""},{"$f":"IF('Comm Device (Desc)'!K126=\"\",\"\",INDEX([1]ITS_COMM_DEV_MODEL!$A$2:$A$500,MATCH(1,([1]ITS_COMM_DEV_MODEL!$C$2:$C$500='Comm Device (Desc)'!$J126)*([1]ITS_COMM_DEV_MODEL!$D$2:$D$500='Comm Device (Code)'!$E126)*([1]ITS_COMM_DEV_MODEL!$E$2:$E$500='Comm Device (Desc)'!$K126),0),0))","v":""},{"$f":"IF('Comm Device (Desc)'!L126=\"\",\"\",'Comm Device (Desc)'!L126)","v":""},{"$f":"IF('Comm Device (Desc)'!M126=\"\",\"\",'Comm Device (Desc)'!M126)","v":""},{"$f":"IF('Comm Device (Desc)'!N126=\"\",\"\",'Comm Device (Desc)'!N126)","v":""},{"$f":"IF('Comm Device (Desc)'!O126=\"\",\"\",'Comm Device (Desc)'!O126)","v":""},{"$f":"IF('Comm Device (Desc)'!P126=\"\",\"\",INDEX([1]DEV_INPUT_VOLTAGE!$A$2:$A$100,MATCH('Comm Device (Desc)'!$P126,[1]!MASTER_DEV_INPUT_VOLTAGE_DESC[#Data],0),0))","v":""},{"$f":"IF('Comm Device (Desc)'!Q126=\"\",\"\",'Comm Device (Desc)'!Q126)","v":""},{"$f":"IF('Comm Device (Desc)'!R126=\"\",\"\",'Comm Device (Desc)'!R126)","v":""},{"$f":"IF('Comm Device (Desc)'!S126=\"\",\"\",'Comm Device (Desc)'!S126)","v":""},{"$f":"IF('Comm Device (Desc)'!T126=\"\",\"\",'Comm Device (Desc)'!T126)","v":""},{"$f":"IF('Comm Device (Desc)'!U126=\"\",\"\",'Comm Device (Desc)'!U126)","v":""},{"$f":"IF('Comm Device (Desc)'!V126=\"\",\"\",INDEX([1]FIBER_CONN_TYPE!$A$2:$A$100,MATCH('Comm Device (Desc)'!$V126,[1]!MASTER_FIBER_CONN_TYPE_DESC[#Data],0),0))","v":""}]
[{"$f":"IF('Comm Device (Desc)'!A127=\"\",\"\",'Comm Device (Desc)'!A127)","v":""},{"$f":"IF('Comm Device (Desc)'!C127=\"\",\"\",\"2029\")","v":""},{"$f":"IF('Comm Device (Desc)'!C127=\"\",\"\",'Comm Device (Desc)'!C127)","v":""},{"$f":"IF('Comm Device (Desc)'!D127=\"\",\"\",INDEX([1]OWNER!$A$2:$A$100,MATCH('Comm Device (Desc)'!$D127,[1]!MASTER_OWNER_DESC[#Data],0),0))","v":""},{"$f":"IF('Comm Device (Desc)'!F127=\"\",\"\",INDEX([1]ITS_COMM_DEV_TYPE!$A$2:$A$100,MATCH('Comm Device (Desc)'!$F127,[1]!MASTER_ITS_COMM_DEV_TYPE_DESC[#Data],0),0))","v":""},{"$f":"IF('Comm Device (Desc)'!G127=\"\",\"\",INDEX([1]COMM_TYPE!$A$2:$A$100,MATCH('Comm Device (Desc)'!$G127,[1]!MASTER_COMM_TYPE_DESC[#Data],0),0))","v":""},{"$f":"IF('Comm Device (Desc)'!H127=\"\",\"\",'Comm Device (Desc)'!H127)","v":""},{"$f":"IF('Comm Device (Desc)'!I127=\"\",\"\",'Comm Device (Desc)'!I127)","v":""},{"$f":"IF('Comm Device (Desc)'!J127=\"\",\"\",INDEX([1]ITS_COMM_DEV_MANUF!$A$2:$A$300,MATCH(1,([1]ITS_COMM_DEV_MANUF!$B$2:$B$300='Comm Device (Desc)'!$J127)*([1]ITS_COMM_DEV_MANUF!$C$2:$C$300='Comm Device (Code)'!$E127),0),0))","v":""},{"$f":"IF('Comm Device (Desc)'!K127=\"\",\"\",INDEX([1]ITS_COMM_DEV_MODEL!$A$2:$A$500,MATCH(1,([1]ITS_COMM_DEV_MODEL!$C$2:$C$500='Comm Device (Desc)'!$J127)*([1]ITS_COMM_DEV_MODEL!$D$2:$D$500='Comm Device (Code)'!$E127)*([1]ITS_COMM_DEV_MODEL!$E$2:$E$500='Comm Device (Desc)'!$K127),0),0))","v":""},{"$f":"IF('Comm Device (Desc)'!L127=\"\",\"\",'Comm Device (Desc)'!L127)","v":""},{"$f":"IF('Comm Device (Desc)'!M127=\"\",\"\",'Comm Device (Desc)'!M127)","v":""},{"$f":"IF('Comm Device (Desc)'!N127=\"\",\"\",'Comm Device (Desc)'!N127)","v":""},{"$f":"IF('Comm Device (Desc)'!O127=\"\",\"\",'Comm Device (Desc)'!O127)","v":""},{"$f":"IF('Comm Device (Desc)'!P127=\"\",\"\",INDEX([1]DEV_INPUT_VOLTAGE!$A$2:$A$100,MATCH('Comm Device (Desc)'!$P127,[1]!MASTER_DEV_INPUT_VOLTAGE_DESC[#Data],0),0))","v":""},{"$f":"IF('Comm Device (Desc)'!Q127=\"\",\"\",'Comm Device (Desc)'!Q127)","v":""},{"$f":"IF('Comm Device (Desc)'!R127=\"\",\"\",'Comm Device (Desc)'!R127)","v":""},{"$f":"IF('Comm Device (Desc)'!S127=\"\",\"\",'Comm Device (Desc)'!S127)","v":""},{"$f":"IF('Comm Device (Desc)'!T127=\"\",\"\",'Comm Device (Desc)'!T127)","v":""},{"$f":"IF('Comm Device (Desc)'!U127=\"\",\"\",'Comm Device (Desc)'!U127)","v":""},{"$f":"IF('Comm Device (Desc)'!V127=\"\",\"\",INDEX([1]FIBER_CONN_TYPE!$A$2:$A$100,MATCH('Comm Device (Desc)'!$V127,[1]!MASTER_FIBER_CONN_TYPE_DESC[#Data],0),0))","v":""}]
[{"$f":"IF('Comm Device (Desc)'!A128=\"\",\"\",'Comm Device (Desc)'!A128)","v":""},{"$f":"IF('Comm Device (Desc)'!C128=\"\",\"\",\"2029\")","v":""},{"$f":"IF('Comm Device (Desc)'!C128=\"\",\"\",'Comm Device (Desc)'!C128)","v":""},{"$f":"IF('Comm Device (Desc)'!D128=\"\",\"\",INDEX([1]OWNER!$A$2:$A$100,MATCH('Comm Device (Desc)'!$D128,[1]!MASTER_OWNER_DESC[#Data],0),0))","v":""},{"$f":"IF('Comm Device (Desc)'!F128=\"\",\"\",INDEX([1]ITS_COMM_DEV_TYPE!$A$2:$A$100,MATCH('Comm Device (Desc)'!$F128,[1]!MASTER_ITS_COMM_DEV_TYPE_DESC[#Data],0),0))","v":""},{"$f":"IF('Comm Device (Desc)'!G128=\"\",\"\",INDEX([1]COMM_TYPE!$A$2:$A$100,MATCH('Comm Device (Desc)'!$G128,[1]!MASTER_COMM_TYPE_DESC[#Data],0),0))","v":""},{"$f":"IF('Comm Device (Desc)'!H128=\"\",\"\",'Comm Device (Desc)'!H128)","v":""},{"$f":"IF('Comm Device (Desc)'!I128=\"\",\"\",'Comm Device (Desc)'!I128)","v":""},{"$f":"IF('Comm Device (Desc)'!J128=\"\",\"\",INDEX([1]ITS_COMM_DEV_MANUF!$A$2:$A$300,MATCH(1,([1]ITS_COMM_DEV_MANUF!$B$2:$B$300='Comm Device (Desc)'!$J128)*([1]ITS_COMM_DEV_MANUF!$C$2:$C$300='Comm Device (Code)'!$E128),0),0))","v":""},{"$f":"IF('Comm Device (Desc)'!K128=\"\",\"\",INDEX([1]ITS_COMM_DEV_MODEL!$A$2:$A$500,MATCH(1,([1]ITS_COMM_DEV_MODEL!$C$2:$C$500='Comm Device (Desc)'!$J128)*([1]ITS_COMM_DEV_MODEL!$D$2:$D$500='Comm Device (Code)'!$E128)*([1]ITS_COMM_DEV_MODEL!$E$2:$E$500='Comm Device (Desc)'!$K128),0),0))","v":""},{"$f":"IF('Comm Device (Desc)'!L128=\"\",\"\",'Comm Device (Desc)'!L128)","v":""},{"$f":"IF('Comm Device (Desc)'!M128=\"\",\"\",'Comm Device (Desc)'!M128)","v":""},{"$f":"IF('Comm Device (Desc)'!N128=\"\",\"\",'Comm Device (Desc)'!N128)","v":""},{"$f":"IF('Comm Device (Desc)'!O128=\"\",\"\",'Comm Device (Desc)'!O128)","v":""},{"$f":"IF('Comm Device (Desc)'!P128=\"\",\"\",INDEX([1]DEV_INPUT_VOLTAGE!$A$2:$A$100,MATCH('Comm Device (Desc)'!$P128,[1]!MASTER_DEV_INPUT_VOLTAGE_DESC[#Data],0),0))","v":""},{"$f":"IF('Comm Device (Desc)'!Q128=\"\",\"\",'Comm Device (Desc)'!Q128)","v":""},{"$f":"IF('Comm Device (Desc)'!R128=\"\",\"\",'Comm Device (Desc)'!R128)","v":""},{"$f":"IF('Comm Device (Desc)'!S128=\"\",\"\",'Comm Device (Desc)'!S128)","v":""},{"$f":"IF('Comm Device (Desc)'!T128=\"\",\"\",'Comm Device (Desc)'!T128)","v":""},{"$f":"IF('Comm Device (Desc)'!U128=\"\",\"\",'Comm Device (Desc)'!U128)","v":""},{"$f":"IF('Comm Device (Desc)'!V128=\"\",\"\",INDEX([1]FIBER_CONN_TYPE!$A$2:$A$100,MATCH('Comm Device (Desc)'!$V128,[1]!MASTER_FIBER_CONN_TYPE_DESC[#Data],0),0))","v":""}]
[{"$f":"IF('Comm Device (Desc)'!A129=\"\",\"\",'Comm Device (Desc)'!A129)","v":""},{"$f":"IF('Comm Device (Desc)'!C129=\"\",\"\",\"2029\")","v":""},{"$f":"IF('Comm Device (Desc)'!C129=\"\",\"\",'Comm Device (Desc)'!C129)","v":""},{"$f":"IF('Comm Device (Desc)'!D129=\"\",\"\",INDEX([1]OWNER!$A$2:$A$100,MATCH('Comm Device (Desc)'!$D129,[1]!MASTER_OWNER_DESC[#Data],0),0))","v":""},{"$f":"IF('Comm Device (Desc)'!F129=\"\",\"\",INDEX([1]ITS_COMM_DEV_TYPE!$A$2:$A$100,MATCH('Comm Device (Desc)'!$F129,[1]!MASTER_ITS_COMM_DEV_TYPE_DESC[#Data],0),0))","v":""},{"$f":"IF('Comm Device (Desc)'!G129=\"\",\"\",INDEX([1]COMM_TYPE!$A$2:$A$100,MATCH('Comm Device (Desc)'!$G129,[1]!MASTER_COMM_TYPE_DESC[#Data],0),0))","v":""},{"$f":"IF('Comm Device (Desc)'!H129=\"\",\"\",'Comm Device (Desc)'!H129)","v":""},{"$f":"IF('Comm Device (Desc)'!I129=\"\",\"\",'Comm Device (Desc)'!I129)","v":""},{"$f":"IF('Comm Device (Desc)'!J129=\"\",\"\",INDEX([1]ITS_COMM_DEV_MANUF!$A$2:$A$300,MATCH(1,([1]ITS_COMM_DEV_MANUF!$B$2:$B$300='Comm Device (Desc)'!$J129)*([1]ITS_COMM_DEV_MANUF!$C$2:$C$300='Comm Device (Code)'!$E129),0),0))","v":""},{"$f":"IF('Comm Device (Desc)'!K129=\"\",\"\",INDEX([1]ITS_COMM_DEV_MODEL!$A$2:$A$500,MATCH(1,([1]ITS_COMM_DEV_MODEL!$C$2:$C$500='Comm Device (Desc)'!$J129)*([1]ITS_COMM_DEV_MODEL!$D$2:$D$500='Comm Device (Code)'!$E129)*([1]ITS_COMM_DEV_MODEL!$E$2:$E$500='Comm Device (Desc)'!$K129),0),0))","v":""},{"$f":"IF('Comm Device (Desc)'!L129=\"\",\"\",'Comm Device (Desc)'!L129)","v":""},{"$f":"IF('Comm Device (Desc)'!M129=\"\",\"\",'Comm Device (Desc)'!M129)","v":""},{"$f":"IF('Comm Device (Desc)'!N129=\"\",\"\",'Comm Device (Desc)'!N129)","v":""},{"$f":"IF('Comm Device (Desc)'!O129=\"\",\"\",'Comm Device (Desc)'!O129)","v":""},{"$f":"IF('Comm Device (Desc)'!P129=\"\",\"\",INDEX([1]DEV_INPUT_VOLTAGE!$A$2:$A$100,MATCH('Comm Device (Desc)'!$P129,[1]!MASTER_DEV_INPUT_VOLTAGE_DESC[#Data],0),0))","v":""},{"$f":"IF('Comm Device (Desc)'!Q129=\"\",\"\",'Comm Device (Desc)'!Q129)","v":""},{"$f":"IF('Comm Device (Desc)'!R129=\"\",\"\",'Comm Device (Desc)'!R129)","v":""},{"$f":"IF('Comm Device (Desc)'!S129=\"\",\"\",'Comm Device (Desc)'!S129)","v":""},{"$f":"IF('Comm Device (Desc)'!T129=\"\",\"\",'Comm Device (Desc)'!T129)","v":""},{"$f":"IF('Comm Device (Desc)'!U129=\"\",\"\",'Comm Device (Desc)'!U129)","v":""},{"$f":"IF('Comm Device (Desc)'!V129=\"\",\"\",INDEX([1]FIBER_CONN_TYPE!$A$2:$A$100,MATCH('Comm Device (Desc)'!$V129,[1]!MASTER_FIBER_CONN_TYPE_DESC[#Data],0),0))","v":""}]
[{"$f":"IF('Comm Device (Desc)'!A130=\"\",\"\",'Comm Device (Desc)'!A130)","v":""},{"$f":"IF('Comm Device (Desc)'!C130=\"\",\"\",\"2029\")","v":""},{"$f":"IF('Comm Device (Desc)'!C130=\"\",\"\",'Comm Device (Desc)'!C130)","v":""},{"$f":"IF('Comm Device (Desc)'!D130=\"\",\"\",INDEX([1]OWNER!$A$2:$A$100,MATCH('Comm Device (Desc)'!$D130,[1]!MASTER_OWNER_DESC[#Data],0),0))","v":""},{"$f":"IF('Comm Device (Desc)'!F130=\"\",\"\",INDEX([1]ITS_COMM_DEV_TYPE!$A$2:$A$100,MATCH('Comm Device (Desc)'!$F130,[1]!MASTER_ITS_COMM_DEV_TYPE_DESC[#Data],0),0))","v":""},{"$f":"IF('Comm Device (Desc)'!G130=\"\",\"\",INDEX([1]COMM_TYPE!$A$2:$A$100,MATCH('Comm Device (Desc)'!$G130,[1]!MASTER_COMM_TYPE_DESC[#Data],0),0))","v":""},{"$f":"IF('Comm Device (Desc)'!H130=\"\",\"\",'Comm Device (Desc)'!H130)","v":""},{"$f":"IF('Comm Device (Desc)'!I130=\"\",\"\",'Comm Device (Desc)'!I130)","v":""},{"$f":"IF('Comm Device (Desc)'!J130=\"\",\"\",INDEX([1]ITS_COMM_DEV_MANUF!$A$2:$A$300,MATCH(1,([1]ITS_COMM_DEV_MANUF!$B$2:$B$300='Comm Device (Desc)'!$J130)*([1]ITS_COMM_DEV_MANUF!$C$2:$C$300='Comm Device (Code)'!$E130),0),0))","v":""},{"$f":"IF('Comm Device (Desc)'!K130=\"\",\"\",INDEX([1]ITS_COMM_DEV_MODEL!$A$2:$A$500,MATCH(1,([1]ITS_COMM_DEV_MODEL!$C$2:$C$500='Comm Device (Desc)'!$J130)*([1]ITS_COMM_DEV_MODEL!$D$2:$D$500='Comm Device (Code)'!$E130)*([1]ITS_COMM_DEV_MODEL!$E$2:$E$500='Comm Device (Desc)'!$K130),0),0))","v":""},{"$f":"IF('Comm Device (Desc)'!L130=\"\",\"\",'Comm Device (Desc)'!L130)","v":""},{"$f":"IF('Comm Device (Desc)'!M130=\"\",\"\",'Comm Device (Desc)'!M130)","v":""},{"$f":"IF('Comm Device (Desc)'!N130=\"\",\"\",'Comm Device (Desc)'!N130)","v":""},{"$f":"IF('Comm Device (Desc)'!O130=\"\",\"\",'Comm Device (Desc)'!O130)","v":""},{"$f":"IF('Comm Device (Desc)'!P130=\"\",\"\",INDEX([1]DEV_INPUT_VOLTAGE!$A$2:$A$100,MATCH('Comm Device (Desc)'!$P130,[1]!MASTER_DEV_INPUT_VOLTAGE_DESC[#Data],0),0))","v":""},{"$f":"IF('Comm Device (Desc)'!Q130=\"\",\"\",'Comm Device (Desc)'!Q130)","v":""},{"$f":"IF('Comm Device (Desc)'!R130=\"\",\"\",'Comm Device (Desc)'!R130)","v":""},{"$f":"IF('Comm Device (Desc)'!S130=\"\",\"\",'Comm Device (Desc)'!S130)","v":""},{"$f":"IF('Comm Device (Desc)'!T130=\"\",\"\",'Comm Device (Desc)'!T130)","v":""},{"$f":"IF('Comm Device (Desc)'!U130=\"\",\"\",'Comm Device (Desc)'!U130)","v":""},{"$f":"IF('Comm Device (Desc)'!V130=\"\",\"\",INDEX([1]FIBER_CONN_TYPE!$A$2:$A$100,MATCH('Comm Device (Desc)'!$V130,[1]!MASTER_FIBER_CONN_TYPE_DESC[#Data],0),0))","v":""}]
[{"$f":"IF('Comm Device (Desc)'!A131=\"\",\"\",'Comm Device (Desc)'!A131)","v":""},{"$f":"IF('Comm Device (Desc)'!C131=\"\",\"\",\"2029\")","v":""},{"$f":"IF('Comm Device (Desc)'!C131=\"\",\"\",'Comm Device (Desc)'!C131)","v":""},{"$f":"IF('Comm Device (Desc)'!D131=\"\",\"\",INDEX([1]OWNER!$A$2:$A$100,MATCH('Comm Device (Desc)'!$D131,[1]!MASTER_OWNER_DESC[#Data],0),0))","v":""},{"$f":"IF('Comm Device (Desc)'!F131=\"\",\"\",INDEX([1]ITS_COMM_DEV_TYPE!$A$2:$A$100,MATCH('Comm Device (Desc)'!$F131,[1]!MASTER_ITS_COMM_DEV_TYPE_DESC[#Data],0),0))","v":""},{"$f":"IF('Comm Device (Desc)'!G131=\"\",\"\",INDEX([1]COMM_TYPE!$A$2:$A$100,MATCH('Comm Device (Desc)'!$G131,[1]!MASTER_COMM_TYPE_DESC[#Data],0),0))","v":""},{"$f":"IF('Comm Device (Desc)'!H131=\"\",\"\",'Comm Device (Desc)'!H131)","v":""},{"$f":"IF('Comm Device (Desc)'!I131=\"\",\"\",'Comm Device (Desc)'!I131)","v":""},{"$f":"IF('Comm Device (Desc)'!J131=\"\",\"\",INDEX([1]ITS_COMM_DEV_MANUF!$A$2:$A$300,MATCH(1,([1]ITS_COMM_DEV_MANUF!$B$2:$B$300='Comm Device (Desc)'!$J131)*([1]ITS_COMM_DEV_MANUF!$C$2:$C$300='Comm Device (Code)'!$E131),0),0))","v":""},{"$f":"IF('Comm Device (Desc)'!K131=\"\",\"\",INDEX([1]ITS_COMM_DEV_MODEL!$A$2:$A$500,MATCH(1,([1]ITS_COMM_DEV_MODEL!$C$2:$C$500='Comm Device (Desc)'!$J131)*([1]ITS_COMM_DEV_MODEL!$D$2:$D$500='Comm Device (Code)'!$E131)*([1]ITS_COMM_DEV_MODEL!$E$2:$E$500='Comm Device (Desc)'!$K131),0),0))","v":""},{"$f":"IF('Comm Device (Desc)'!L131=\"\",\"\",'Comm Device (Desc)'!L131)","v":""},{"$f":"IF('Comm Device (Desc)'!M131=\"\",\"\",'Comm Device (Desc)'!M131)","v":""},{"$f":"IF('Comm Device (Desc)'!N131=\"\",\"\",'Comm Device (Desc)'!N131)","v":""},{"$f":"IF('Comm Device (Desc)'!O131=\"\",\"\",'Comm Device (Desc)'!O131)","v":""},{"$f":"IF('Comm Device (Desc)'!P131=\"\",\"\",INDEX([1]DEV_INPUT_VOLTAGE!$A$2:$A$100,MATCH('Comm Device (Desc)'!$P131,[1]!MASTER_DEV_INPUT_VOLTAGE_DESC[#Data],0),0))","v":""},{"$f":"IF('Comm Device (Desc)'!Q131=\"\",\"\",'Comm Device (Desc)'!Q131)","v":""},{"$f":"IF('Comm Device (Desc)'!R131=\"\",\"\",'Comm Device (Desc)'!R131)","v":""},{"$f":"IF('Comm Device (Desc)'!S131=\"\",\"\",'Comm Device (Desc)'!S131)","v":""},{"$f":"IF('Comm Device (Desc)'!T131=\"\",\"\",'Comm Device (Desc)'!T131)","v":""},{"$f":"IF('Comm Device (Desc)'!U131=\"\",\"\",'Comm Device (Desc)'!U131)","v":""},{"$f":"IF('Comm Device (Desc)'!V131=\"\",\"\",INDEX([1]FIBER_CONN_TYPE!$A$2:$A$100,MATCH('Comm Device (Desc)'!$V131,[1]!MASTER_FIBER_CONN_TYPE_DESC[#Data],0),0))","v":""}]
[{"$f":"IF('Comm Device (Desc)'!A132=\"\",\"\",'Comm Device (Desc)'!A132)","v":""},{"$f":"IF('Comm Device (Desc)'!C132=\"\",\"\",\"2029\")","v":""},{"$f":"IF('Comm Device (Desc)'!C132=\"\",\"\",'Comm Device (Desc)'!C132)","v":""},{"$f":"IF('Comm Device (Desc)'!D132=\"\",\"\",INDEX([1]OWNER!$A$2:$A$100,MATCH('Comm Device (Desc)'!$D132,[1]!MASTER_OWNER_DESC[#Data],0),0))","v":""},{"$f":"IF('Comm Device (Desc)'!F132=\"\",\"\",INDEX([1]ITS_COMM_DEV_TYPE!$A$2:$A$100,MATCH('Comm Device (Desc)'!$F132,[1]!MASTER_ITS_COMM_DEV_TYPE_DESC[#Data],0),0))","v":""},{"$f":"IF('Comm Device (Desc)'!G132=\"\",\"\",INDEX([1]COMM_TYPE!$A$2:$A$100,MATCH('Comm Device (Desc)'!$G132,[1]!MASTER_COMM_TYPE_DESC[#Data],0),0))","v":""},{"$f":"IF('Comm Device (Desc)'!H132=\"\",\"\",'Comm Device (Desc)'!H132)","v":""},{"$f":"IF('Comm Device (Desc)'!I132=\"\",\"\",'Comm Device (Desc)'!I132)","v":""},{"$f":"IF('Comm Device (Desc)'!J132=\"\",\"\",INDEX([1]ITS_COMM_DEV_MANUF!$A$2:$A$300,MATCH(1,([1]ITS_COMM_DEV_MANUF!$B$2:$B$300='Comm Device (Desc)'!$J132)*([1]ITS_COMM_DEV_MANUF!$C$2:$C$300='Comm Device (Code)'!$E132),0),0))","v":""},{"$f":"IF('Comm Device (Desc)'!K132=\"\",\"\",INDEX([1]ITS_COMM_DEV_MODEL!$A$2:$A$500,MATCH(1,([1]ITS_COMM_DEV_MODEL!$C$2:$C$500='Comm Device (Desc)'!$J132)*([1]ITS_COMM_DEV_MODEL!$D$2:$D$500='Comm Device (Code)'!$E132)*([1]ITS_COMM_DEV_MODEL!$E$2:$E$500='Comm Device (Desc)'!$K132),0),0))","v":""},{"$f":"IF('Comm Device (Desc)'!L132=\"\",\"\",'Comm Device (Desc)'!L132)","v":""},{"$f":"IF('Comm Device (Desc)'!M132=\"\",\"\",'Comm Device (Desc)'!M132)","v":""},{"$f":"IF('Comm Device (Desc)'!N132=\"\",\"\",'Comm Device (Desc)'!N132)","v":""},{"$f":"IF('Comm Device (Desc)'!O132=\"\",\"\",'Comm Device (Desc)'!O132)","v":""},{"$f":"IF('Comm Device (Desc)'!P132=\"\",\"\",INDEX([1]DEV_INPUT_VOLTAGE!$A$2:$A$100,MATCH('Comm Device (Desc)'!$P132,[1]!MASTER_DEV_INPUT_VOLTAGE_DESC[#Data],0),0))","v":""},{"$f":"IF('Comm Device (Desc)'!Q132=\"\",\"\",'Comm Device (Desc)'!Q132)","v":""},{"$f":"IF('Comm Device (Desc)'!R132=\"\",\"\",'Comm Device (Desc)'!R132)","v":""},{"$f":"IF('Comm Device (Desc)'!S132=\"\",\"\",'Comm Device (Desc)'!S132)","v":""},{"$f":"IF('Comm Device (Desc)'!T132=\"\",\"\",'Comm Device (Desc)'!T132)","v":""},{"$f":"IF('Comm Device (Desc)'!U132=\"\",\"\",'Comm Device (Desc)'!U132)","v":""},{"$f":"IF('Comm Device (Desc)'!V132=\"\",\"\",INDEX([1]FIBER_CONN_TYPE!$A$2:$A$100,MATCH('Comm Device (Desc)'!$V132,[1]!MASTER_FIBER_CONN_TYPE_DESC[#Data],0),0))","v":""}]
[{"$f":"IF('Comm Device (Desc)'!A133=\"\",\"\",'Comm Device (Desc)'!A133)","v":""},{"$f":"IF('Comm Device (Desc)'!C133=\"\",\"\",\"2029\")","v":""},{"$f":"IF('Comm Device (Desc)'!C133=\"\",\"\",'Comm Device (Desc)'!C133)","v":""},{"$f":"IF('Comm Device (Desc)'!D133=\"\",\"\",INDEX([1]OWNER!$A$2:$A$100,MATCH('Comm Device (Desc)'!$D133,[1]!MASTER_OWNER_DESC[#Data],0),0))","v":""},{"$f":"IF('Comm Device (Desc)'!F133=\"\",\"\",INDEX([1]ITS_COMM_DEV_TYPE!$A$2:$A$100,MATCH('Comm Device (Desc)'!$F133,[1]!MASTER_ITS_COMM_DEV_TYPE_DESC[#Data],0),0))","v":""},{"$f":"IF('Comm Device (Desc)'!G133=\"\",\"\",INDEX([1]COMM_TYPE!$A$2:$A$100,MATCH('Comm Device (Desc)'!$G133,[1]!MASTER_COMM_TYPE_DESC[#Data],0),0))","v":""},{"$f":"IF('Comm Device (Desc)'!H133=\"\",\"\",'Comm Device (Desc)'!H133)","v":""},{"$f":"IF('Comm Device (Desc)'!I133=\"\",\"\",'Comm Device (Desc)'!I133)","v":""},{"$f":"IF('Comm Device (Desc)'!J133=\"\",\"\",INDEX([1]ITS_COMM_DEV_MANUF!$A$2:$A$300,MATCH(1,([1]ITS_COMM_DEV_MANUF!$B$2:$B$300='Comm Device (Desc)'!$J133)*([1]ITS_COMM_DEV_MANUF!$C$2:$C$300='Comm Device (Code)'!$E133),0),0))","v":""},{"$f":"IF('Comm Device (Desc)'!K133=\"\",\"\",INDEX([1]ITS_COMM_DEV_MODEL!$A$2:$A$500,MATCH(1,([1]ITS_COMM_DEV_MODEL!$C$2:$C$500='Comm Device (Desc)'!$J133)*([1]ITS_COMM_DEV_MODEL!$D$2:$D$500='Comm Device (Code)'!$E133)*([1]ITS_COMM_DEV_MODEL!$E$2:$E$500='Comm Device (Desc)'!$K133),0),0))","v":""},{"$f":"IF('Comm Device (Desc)'!L133=\"\",\"\",'Comm Device (Desc)'!L133)","v":""},{"$f":"IF('Comm Device (Desc)'!M133=\"\",\"\",'Comm Device (Desc)'!M133)","v":""},{"$f":"IF('Comm Device (Desc)'!N133=\"\",\"\",'Comm Device (Desc)'!N133)","v":""},{"$f":"IF('Comm Device (Desc)'!O133=\"\",\"\",'Comm Device (Desc)'!O133)","v":""},{"$f":"IF('Comm Device (Desc)'!P133=\"\",\"\",INDEX([1]DEV_INPUT_VOLTAGE!$A$2:$A$100,MATCH('Comm Device (Desc)'!$P133,[1]!MASTER_DEV_INPUT_VOLTAGE_DESC[#Data],0),0))","v":""},{"$f":"IF('Comm Device (Desc)'!Q133=\"\",\"\",'Comm Device (Desc)'!Q133)","v":""},{"$f":"IF('Comm Device (Desc)'!R133=\"\",\"\",'Comm Device (Desc)'!R133)","v":""},{"$f":"IF('Comm Device (Desc)'!S133=\"\",\"\",'Comm Device (Desc)'!S133)","v":""},{"$f":"IF('Comm Device (Desc)'!T133=\"\",\"\",'Comm Device (Desc)'!T133)","v":""},{"$f":"IF('Comm Device (Desc)'!U133=\"\",\"\",'Comm Device (Desc)'!U133)","v":""},{"$f":"IF('Comm Device (Desc)'!V133=\"\",\"\",INDEX([1]FIBER_CONN_TYPE!$A$2:$A$100,MATCH('Comm Device (Desc)'!$V133,[1]!MASTER_FIBER_CONN_TYPE_DESC[#Data],0),0))","v":""}]
[{"$f":"IF('Comm Device (Desc)'!A134=\"\",\"\",'Comm Device (Desc)'!A134)","v":""},{"$f":"IF('Comm Device (Desc)'!C134=\"\",\"\",\"2029\")","v":""},{"$f":"IF('Comm Device (Desc)'!C134=\"\",\"\",'Comm Device (Desc)'!C134)","v":""},{"$f":"IF('Comm Device (Desc)'!D134=\"\",\"\",INDEX([1]OWNER!$A$2:$A$100,MATCH('Comm Device (Desc)'!$D134,[1]!MASTER_OWNER_DESC[#Data],0),0))","v":""},{"$f":"IF('Comm Device (Desc)'!F134=\"\",\"\",INDEX([1]ITS_COMM_DEV_TYPE!$A$2:$A$100,MATCH('Comm Device (Desc)'!$F134,[1]!MASTER_ITS_COMM_DEV_TYPE_DESC[#Data],0),0))","v":""},{"$f":"IF('Comm Device (Desc)'!G134=\"\",\"\",INDEX([1]COMM_TYPE!$A$2:$A$100,MATCH('Comm Device (Desc)'!$G134,[1]!MASTER_COMM_TYPE_DESC[#Data],0),0))","v":""},{"$f":"IF('Comm Device (Desc)'!H134=\"\",\"\",'Comm Device (Desc)'!H134)","v":""},{"$f":"IF('Comm Device (Desc)'!I134=\"\",\"\",'Comm Device (Desc)'!I134)","v":""},{"$f":"IF('Comm Device (Desc)'!J134=\"\",\"\",INDEX([1]ITS_COMM_DEV_MANUF!$A$2:$A$300,MATCH(1,([1]ITS_COMM_DEV_MANUF!$B$2:$B$300='Comm Device (Desc)'!$J134)*([1]ITS_COMM_DEV_MANUF!$C$2:$C$300='Comm Device (Code)'!$E134),0),0))","v":""},{"$f":"IF('Comm Device (Desc)'!K134=\"\",\"\",INDEX([1]ITS_COMM_DEV_MODEL!$A$2:$A$500,MATCH(1,([1]ITS_COMM_DEV_MODEL!$C$2:$C$500='Comm Device (Desc)'!$J134)*([1]ITS_COMM_DEV_MODEL!$D$2:$D$500='Comm Device (Code)'!$E134)*([1]ITS_COMM_DEV_MODEL!$E$2:$E$500='Comm Device (Desc)'!$K134),0),0))","v":""},{"$f":"IF('Comm Device (Desc)'!L134=\"\",\"\",'Comm Device (Desc)'!L134)","v":""},{"$f":"IF('Comm Device (Desc)'!M134=\"\",\"\",'Comm Device (Desc)'!M134)","v":""},{"$f":"IF('Comm Device (Desc)'!N134=\"\",\"\",'Comm Device (Desc)'!N134)","v":""},{"$f":"IF('Comm Device (Desc)'!O134=\"\",\"\",'Comm Device (Desc)'!O134)","v":""},{"$f":"IF('Comm Device (Desc)'!P134=\"\",\"\",INDEX([1]DEV_INPUT_VOLTAGE!$A$2:$A$100,MATCH('Comm Device (Desc)'!$P134,[1]!MASTER_DEV_INPUT_VOLTAGE_DESC[#Data],0),0))","v":""},{"$f":"IF('Comm Device (Desc)'!Q134=\"\",\"\",'Comm Device (Desc)'!Q134)","v":""},{"$f":"IF('Comm Device (Desc)'!R134=\"\",\"\",'Comm Device (Desc)'!R134)","v":""},{"$f":"IF('Comm Device (Desc)'!S134=\"\",\"\",'Comm Device (Desc)'!S134)","v":""},{"$f":"IF('Comm Device (Desc)'!T134=\"\",\"\",'Comm Device (Desc)'!T134)","v":""},{"$f":"IF('Comm Device (Desc)'!U134=\"\",\"\",'Comm Device (Desc)'!U134)","v":""},{"$f":"IF('Comm Device (Desc)'!V134=\"\",\"\",INDEX([1]FIBER_CONN_TYPE!$A$2:$A$100,MATCH('Comm Device (Desc)'!$V134,[1]!MASTER_FIBER_CONN_TYPE_DESC[#Data],0),0))","v":""}]
[{"$f":"IF('Comm Device (Desc)'!A135=\"\",\"\",'Comm Device (Desc)'!A135)","v":""},{"$f":"IF('Comm Device (Desc)'!C135=\"\",\"\",\"2029\")","v":""},{"$f":"IF('Comm Device (Desc)'!C135=\"\",\"\",'Comm Device (Desc)'!C135)","v":""},{"$f":"IF('Comm Device (Desc)'!D135=\"\",\"\",INDEX([1]OWNER!$A$2:$A$100,MATCH('Comm Device (Desc)'!$D135,[1]!MASTER_OWNER_DESC[#Data],0),0))","v":""},{"$f":"IF('Comm Device (Desc)'!F135=\"\",\"\",INDEX([1]ITS_COMM_DEV_TYPE!$A$2:$A$100,MATCH('Comm Device (Desc)'!$F135,[1]!MASTER_ITS_COMM_DEV_TYPE_DESC[#Data],0),0))","v":""},{"$f":"IF('Comm Device (Desc)'!G135=\"\",\"\",INDEX([1]COMM_TYPE!$A$2:$A$100,MATCH('Comm Device (Desc)'!$G135,[1]!MASTER_COMM_TYPE_DESC[#Data],0),0))","v":""},{"$f":"IF('Comm Device (Desc)'!H135=\"\",\"\",'Comm Device (Desc)'!H135)","v":""},{"$f":"IF('Comm Device (Desc)'!I135=\"\",\"\",'Comm Device (Desc)'!I135)","v":""},{"$f":"IF('Comm Device (Desc)'!J135=\"\",\"\",INDEX([1]ITS_COMM_DEV_MANUF!$A$2:$A$300,MATCH(1,([1]ITS_COMM_DEV_MANUF!$B$2:$B$300='Comm Device (Desc)'!$J135)*([1]ITS_COMM_DEV_MANUF!$C$2:$C$300='Comm Device (Code)'!$E135),0),0))","v":""},{"$f":"IF('Comm Device (Desc)'!K135=\"\",\"\",INDEX([1]ITS_COMM_DEV_MODEL!$A$2:$A$500,MATCH(1,([1]ITS_COMM_DEV_MODEL!$C$2:$C$500='Comm Device (Desc)'!$J135)*([1]ITS_COMM_DEV_MODEL!$D$2:$D$500='Comm Device (Code)'!$E135)*([1]ITS_COMM_DEV_MODEL!$E$2:$E$500='Comm Device (Desc)'!$K135),0),0))","v":""},{"$f":"IF('Comm Device (Desc)'!L135=\"\",\"\",'Comm Device (Desc)'!L135)","v":""},{"$f":"IF('Comm Device (Desc)'!M135=\"\",\"\",'Comm Device (Desc)'!M135)","v":""},{"$f":"IF('Comm Device (Desc)'!N135=\"\",\"\",'Comm Device (Desc)'!N135)","v":""},{"$f":"IF('Comm Device (Desc)'!O135=\"\",\"\",'Comm Device (Desc)'!O135)","v":""},{"$f":"IF('Comm Device (Desc)'!P135=\"\",\"\",INDEX([1]DEV_INPUT_VOLTAGE!$A$2:$A$100,MATCH('Comm Device (Desc)'!$P135,[1]!MASTER_DEV_INPUT_VOLTAGE_DESC[#Data],0),0))","v":""},{"$f":"IF('Comm Device (Desc)'!Q135=\"\",\"\",'Comm Device (Desc)'!Q135)","v":""},{"$f":"IF('Comm Device (Desc)'!R135=\"\",\"\",'Comm Device (Desc)'!R135)","v":""},{"$f":"IF('Comm Device (Desc)'!S135=\"\",\"\",'Comm Device (Desc)'!S135)","v":""},{"$f":"IF('Comm Device (Desc)'!T135=\"\",\"\",'Comm Device (Desc)'!T135)","v":""},{"$f":"IF('Comm Device (Desc)'!U135=\"\",\"\",'Comm Device (Desc)'!U135)","v":""},{"$f":"IF('Comm Device (Desc)'!V135=\"\",\"\",INDEX([1]FIBER_CONN_TYPE!$A$2:$A$100,MATCH('Comm Device (Desc)'!$V135,[1]!MASTER_FIBER_CONN_TYPE_DESC[#Data],0),0))","v":""}]
[{"$f":"IF('Comm Device (Desc)'!A136=\"\",\"\",'Comm Device (Desc)'!A136)","v":""},{"$f":"IF('Comm Device (Desc)'!C136=\"\",\"\",\"2029\")","v":""},{"$f":"IF('Comm Device (Desc)'!C136=\"\",\"\",'Comm Device (Desc)'!C136)","v":""},{"$f":"IF('Comm Device (Desc)'!D136=\"\",\"\",INDEX([1]OWNER!$A$2:$A$100,MATCH('Comm Device (Desc)'!$D136,[1]!MASTER_OWNER_DESC[#Data],0),0))","v":""},{"$f":"IF('Comm Device (Desc)'!F136=\"\",\"\",INDEX([1]ITS_COMM_DEV_TYPE!$A$2:$A$100,MATCH('Comm Device (Desc)'!$F136,[1]!MASTER_ITS_COMM_DEV_TYPE_DESC[#Data],0),0))","v":""},{"$f":"IF('Comm Device (Desc)'!G136=\"\",\"\",INDEX([1]COMM_TYPE!$A$2:$A$100,MATCH('Comm Device (Desc)'!$G136,[1]!MASTER_COMM_TYPE_DESC[#Data],0),0))","v":""},{"$f":"IF('Comm Device (Desc)'!H136=\"\",\"\",'Comm Device (Desc)'!H136)","v":""},{"$f":"IF('Comm Device (Desc)'!I136=\"\",\"\",'Comm Device (Desc)'!I136)","v":""},{"$f":"IF('Comm Device (Desc)'!J136=\"\",\"\",INDEX([1]ITS_COMM_DEV_MANUF!$A$2:$A$300,MATCH(1,([1]ITS_COMM_DEV_MANUF!$B$2:$B$300='Comm Device (Desc)'!$J136)*([1]ITS_COMM_DEV_MANUF!$C$2:$C$300='Comm Device (Code)'!$E136),0),0))","v":""},{"$f":"IF('Comm Device (Desc)'!K136=\"\",\"\",INDEX([1]ITS_COMM_DEV_MODEL!$A$2:$A$500,MATCH(1,([1]ITS_COMM_DEV_MODEL!$C$2:$C$500='Comm Device (Desc)'!$J136)*([1]ITS_COMM_DEV_MODEL!$D$2:$D$500='Comm Device (Code)'!$E136)*([1]ITS_COMM_DEV_MODEL!$E$2:$E$500='Comm Device (Desc)'!$K136),0),0))","v":""},{"$f":"IF('Comm Device (Desc)'!L136=\"\",\"\",'Comm Device (Desc)'!L136)","v":""},{"$f":"IF('Comm Device (Desc)'!M136=\"\",\"\",'Comm Device (Desc)'!M136)","v":""},{"$f":"IF('Comm Device (Desc)'!N136=\"\",\"\",'Comm Device (Desc)'!N136)","v":""},{"$f":"IF('Comm Device (Desc)'!O136=\"\",\"\",'Comm Device (Desc)'!O136)","v":""},{"$f":"IF('Comm Device (Desc)'!P136=\"\",\"\",INDEX([1]DEV_INPUT_VOLTAGE!$A$2:$A$100,MATCH('Comm Device (Desc)'!$P136,[1]!MASTER_DEV_INPUT_VOLTAGE_DESC[#Data],0),0))","v":""},{"$f":"IF('Comm Device (Desc)'!Q136=\"\",\"\",'Comm Device (Desc)'!Q136)","v":""},{"$f":"IF('Comm Device (Desc)'!R136=\"\",\"\",'Comm Device (Desc)'!R136)","v":""},{"$f":"IF('Comm Device (Desc)'!S136=\"\",\"\",'Comm Device (Desc)'!S136)","v":""},{"$f":"IF('Comm Device (Desc)'!T136=\"\",\"\",'Comm Device (Desc)'!T136)","v":""},{"$f":"IF('Comm Device (Desc)'!U136=\"\",\"\",'Comm Device (Desc)'!U136)","v":""},{"$f":"IF('Comm Device (Desc)'!V136=\"\",\"\",INDEX([1]FIBER_CONN_TYPE!$A$2:$A$100,MATCH('Comm Device (Desc)'!$V136,[1]!MASTER_FIBER_CONN_TYPE_DESC[#Data],0),0))","v":""}]
[{"$f":"IF('Comm Device (Desc)'!A137=\"\",\"\",'Comm Device (Desc)'!A137)","v":""},{"$f":"IF('Comm Device (Desc)'!C137=\"\",\"\",\"2029\")","v":""},{"$f":"IF('Comm Device (Desc)'!C137=\"\",\"\",'Comm Device (Desc)'!C137)","v":""},{"$f":"IF('Comm Device (Desc)'!D137=\"\",\"\",INDEX([1]OWNER!$A$2:$A$100,MATCH('Comm Device (Desc)'!$D137,[1]!MASTER_OWNER_DESC[#Data],0),0))","v":""},{"$f":"IF('Comm Device (Desc)'!F137=\"\",\"\",INDEX([1]ITS_COMM_DEV_TYPE!$A$2:$A$100,MATCH('Comm Device (Desc)'!$F137,[1]!MASTER_ITS_COMM_DEV_TYPE_DESC[#Data],0),0))","v":""},{"$f":"IF('Comm Device (Desc)'!G137=\"\",\"\",INDEX([1]COMM_TYPE!$A$2:$A$100,MATCH('Comm Device (Desc)'!$G137,[1]!MASTER_COMM_TYPE_DESC[#Data],0),0))","v":""},{"$f":"IF('Comm Device (Desc)'!H137=\"\",\"\",'Comm Device (Desc)'!H137)","v":""},{"$f":"IF('Comm Device (Desc)'!I137=\"\",\"\",'Comm Device (Desc)'!I137)","v":""},{"$f":"IF('Comm Device (Desc)'!J137=\"\",\"\",INDEX([1]ITS_COMM_DEV_MANUF!$A$2:$A$300,MATCH(1,([1]ITS_COMM_DEV_MANUF!$B$2:$B$300='Comm Device (Desc)'!$J137)*([1]ITS_COMM_DEV_MANUF!$C$2:$C$300='Comm Device (Code)'!$E137),0),0))","v":""},{"$f":"IF('Comm Device (Desc)'!K137=\"\",\"\",INDEX([1]ITS_COMM_DEV_MODEL!$A$2:$A$500,MATCH(1,([1]ITS_COMM_DEV_MODEL!$C$2:$C$500='Comm Device (Desc)'!$J137)*([1]ITS_COMM_DEV_MODEL!$D$2:$D$500='Comm Device (Code)'!$E137)*([1]ITS_COMM_DEV_MODEL!$E$2:$E$500='Comm Device (Desc)'!$K137),0),0))","v":""},{"$f":"IF('Comm Device (Desc)'!L137=\"\",\"\",'Comm Device (Desc)'!L137)","v":""},{"$f":"IF('Comm Device (Desc)'!M137=\"\",\"\",'Comm Device (Desc)'!M137)","v":""},{"$f":"IF('Comm Device (Desc)'!N137=\"\",\"\",'Comm Device (Desc)'!N137)","v":""},{"$f":"IF('Comm Device (Desc)'!O137=\"\",\"\",'Comm Device (Desc)'!O137)","v":""},{"$f":"IF('Comm Device (Desc)'!P137=\"\",\"\",INDEX([1]DEV_INPUT_VOLTAGE!$A$2:$A$100,MATCH('Comm Device (Desc)'!$P137,[1]!MASTER_DEV_INPUT_VOLTAGE_DESC[#Data],0),0))","v":""},{"$f":"IF('Comm Device (Desc)'!Q137=\"\",\"\",'Comm Device (Desc)'!Q137)","v":""},{"$f":"IF('Comm Device (Desc)'!R137=\"\",\"\",'Comm Device (Desc)'!R137)","v":""},{"$f":"IF('Comm Device (Desc)'!S137=\"\",\"\",'Comm Device (Desc)'!S137)","v":""},{"$f":"IF('Comm Device (Desc)'!T137=\"\",\"\",'Comm Device (Desc)'!T137)","v":""},{"$f":"IF('Comm Device (Desc)'!U137=\"\",\"\",'Comm Device (Desc)'!U137)","v":""},{"$f":"IF('Comm Device (Desc)'!V137=\"\",\"\",INDEX([1]FIBER_CONN_TYPE!$A$2:$A$100,MATCH('Comm Device (Desc)'!$V137,[1]!MASTER_FIBER_CONN_TYPE_DESC[#Data],0),0))","v":""}]
[{"$f":"IF('Comm Device (Desc)'!A138=\"\",\"\",'Comm Device (Desc)'!A138)","v":""},{"$f":"IF('Comm Device (Desc)'!C138=\"\",\"\",\"2029\")","v":""},{"$f":"IF('Comm Device (Desc)'!C138=\"\",\"\",'Comm Device (Desc)'!C138)","v":""},{"$f":"IF('Comm Device (Desc)'!D138=\"\",\"\",INDEX([1]OWNER!$A$2:$A$100,MATCH('Comm Device (Desc)'!$D138,[1]!MASTER_OWNER_DESC[#Data],0),0))","v":""},{"$f":"IF('Comm Device (Desc)'!F138=\"\",\"\",INDEX([1]ITS_COMM_DEV_TYPE!$A$2:$A$100,MATCH('Comm Device (Desc)'!$F138,[1]!MASTER_ITS_COMM_DEV_TYPE_DESC[#Data],0),0))","v":""},{"$f":"IF('Comm Device (Desc)'!G138=\"\",\"\",INDEX([1]COMM_TYPE!$A$2:$A$100,MATCH('Comm Device (Desc)'!$G138,[1]!MASTER_COMM_TYPE_DESC[#Data],0),0))","v":""},{"$f":"IF('Comm Device (Desc)'!H138=\"\",\"\",'Comm Device (Desc)'!H138)","v":""},{"$f":"IF('Comm Device (Desc)'!I138=\"\",\"\",'Comm Device (Desc)'!I138)","v":""},{"$f":"IF('Comm Device (Desc)'!J138=\"\",\"\",INDEX([1]ITS_COMM_DEV_MANUF!$A$2:$A$300,MATCH(1,([1]ITS_COMM_DEV_MANUF!$B$2:$B$300='Comm Device (Desc)'!$J138)*([1]ITS_COMM_DEV_MANUF!$C$2:$C$300='Comm Device (Code)'!$E138),0),0))","v":""},{"$f":"IF('Comm Device (Desc)'!K138=\"\",\"\",INDEX([1]ITS_COMM_DEV_MODEL!$A$2:$A$500,MATCH(1,([1]ITS_COMM_DEV_MODEL!$C$2:$C$500='Comm Device (Desc)'!$J138)*([1]ITS_COMM_DEV_MODEL!$D$2:$D$500='Comm Device (Code)'!$E138)*([1]ITS_COMM_DEV_MODEL!$E$2:$E$500='Comm Device (Desc)'!$K138),0),0))","v":""},{"$f":"IF('Comm Device (Desc)'!L138=\"\",\"\",'Comm Device (Desc)'!L138)","v":""},{"$f":"IF('Comm Device (Desc)'!M138=\"\",\"\",'Comm Device (Desc)'!M138)","v":""},{"$f":"IF('Comm Device (Desc)'!N138=\"\",\"\",'Comm Device (Desc)'!N138)","v":""},{"$f":"IF('Comm Device (Desc)'!O138=\"\",\"\",'Comm Device (Desc)'!O138)","v":""},{"$f":"IF('Comm Device (Desc)'!P138=\"\",\"\",INDEX([1]DEV_INPUT_VOLTAGE!$A$2:$A$100,MATCH('Comm Device (Desc)'!$P138,[1]!MASTER_DEV_INPUT_VOLTAGE_DESC[#Data],0),0))","v":""},{"$f":"IF('Comm Device (Desc)'!Q138=\"\",\"\",'Comm Device (Desc)'!Q138)","v":""},{"$f":"IF('Comm Device (Desc)'!R138=\"\",\"\",'Comm Device (Desc)'!R138)","v":""},{"$f":"IF('Comm Device (Desc)'!S138=\"\",\"\",'Comm Device (Desc)'!S138)","v":""},{"$f":"IF('Comm Device (Desc)'!T138=\"\",\"\",'Comm Device (Desc)'!T138)","v":""},{"$f":"IF('Comm Device (Desc)'!U138=\"\",\"\",'Comm Device (Desc)'!U138)","v":""},{"$f":"IF('Comm Device (Desc)'!V138=\"\",\"\",INDEX([1]FIBER_CONN_TYPE!$A$2:$A$100,MATCH('Comm Device (Desc)'!$V138,[1]!MASTER_FIBER_CONN_TYPE_DESC[#Data],0),0))","v":""}]
[{"$f":"IF('Comm Device (Desc)'!A139=\"\",\"\",'Comm Device (Desc)'!A139)","v":""},{"$f":"IF('Comm Device (Desc)'!C139=\"\",\"\",\"2029\")","v":""},{"$f":"IF('Comm Device (Desc)'!C139=\"\",\"\",'Comm Device (Desc)'!C139)","v":""},{"$f":"IF('Comm Device (Desc)'!D139=\"\",\"\",INDEX([1]OWNER!$A$2:$A$100,MATCH('Comm Device (Desc)'!$D139,[1]!MASTER_OWNER_DESC[#Data],0),0))","v":""},{"$f":"IF('Comm Device (Desc)'!F139=\"\",\"\",INDEX([1]ITS_COMM_DEV_TYPE!$A$2:$A$100,MATCH('Comm Device (Desc)'!$F139,[1]!MASTER_ITS_COMM_DEV_TYPE_DESC[#Data],0),0))","v":""},{"$f":"IF('Comm Device (Desc)'!G139=\"\",\"\",INDEX([1]COMM_TYPE!$A$2:$A$100,MATCH('Comm Device (Desc)'!$G139,[1]!MASTER_COMM_TYPE_DESC[#Data],0),0))","v":""},{"$f":"IF('Comm Device (Desc)'!H139=\"\",\"\",'Comm Device (Desc)'!H139)","v":""},{"$f":"IF('Comm Device (Desc)'!I139=\"\",\"\",'Comm Device (Desc)'!I139)","v":""},{"$f":"IF('Comm Device (Desc)'!J139=\"\",\"\",INDEX([1]ITS_COMM_DEV_MANUF!$A$2:$A$300,MATCH(1,([1]ITS_COMM_DEV_MANUF!$B$2:$B$300='Comm Device (Desc)'!$J139)*([1]ITS_COMM_DEV_MANUF!$C$2:$C$300='Comm Device (Code)'!$E139),0),0))","v":""},{"$f":"IF('Comm Device (Desc)'!K139=\"\",\"\",INDEX([1]ITS_COMM_DEV_MODEL!$A$2:$A$500,MATCH(1,([1]ITS_COMM_DEV_MODEL!$C$2:$C$500='Comm Device (Desc)'!$J139)*([1]ITS_COMM_DEV_MODEL!$D$2:$D$500='Comm Device (Code)'!$E139)*([1]ITS_COMM_DEV_MODEL!$E$2:$E$500='Comm Device (Desc)'!$K139),0),0))","v":""},{"$f":"IF('Comm Device (Desc)'!L139=\"\",\"\",'Comm Device (Desc)'!L139)","v":""},{"$f":"IF('Comm Device (Desc)'!M139=\"\",\"\",'Comm Device (Desc)'!M139)","v":""},{"$f":"IF('Comm Device (Desc)'!N139=\"\",\"\",'Comm Device (Desc)'!N139)","v":""},{"$f":"IF('Comm Device (Desc)'!O139=\"\",\"\",'Comm Device (Desc)'!O139)","v":""},{"$f":"IF('Comm Device (Desc)'!P139=\"\",\"\",INDEX([1]DEV_INPUT_VOLTAGE!$A$2:$A$100,MATCH('Comm Device (Desc)'!$P139,[1]!MASTER_DEV_INPUT_VOLTAGE_DESC[#Data],0),0))","v":""},{"$f":"IF('Comm Device (Desc)'!Q139=\"\",\"\",'Comm Device (Desc)'!Q139)","v":""},{"$f":"IF('Comm Device (Desc)'!R139=\"\",\"\",'Comm Device (Desc)'!R139)","v":""},{"$f":"IF('Comm Device (Desc)'!S139=\"\",\"\",'Comm Device (Desc)'!S139)","v":""},{"$f":"IF('Comm Device (Desc)'!T139=\"\",\"\",'Comm Device (Desc)'!T139)","v":""},{"$f":"IF('Comm Device (Desc)'!U139=\"\",\"\",'Comm Device (Desc)'!U139)","v":""},{"$f":"IF('Comm Device (Desc)'!V139=\"\",\"\",INDEX([1]FIBER_CONN_TYPE!$A$2:$A$100,MATCH('Comm Device (Desc)'!$V139,[1]!MASTER_FIBER_CONN_TYPE_DESC[#Data],0),0))","v":""}]
[{"$f":"IF('Comm Device (Desc)'!A140=\"\",\"\",'Comm Device (Desc)'!A140)","v":""},{"$f":"IF('Comm Device (Desc)'!C140=\"\",\"\",\"2029\")","v":""},{"$f":"IF('Comm Device (Desc)'!C140=\"\",\"\",'Comm Device (Desc)'!C140)","v":""},{"$f":"IF('Comm Device (Desc)'!D140=\"\",\"\",INDEX([1]OWNER!$A$2:$A$100,MATCH('Comm Device (Desc)'!$D140,[1]!MASTER_OWNER_DESC[#Data],0),0))","v":""},{"$f":"IF('Comm Device (Desc)'!F140=\"\",\"\",INDEX([1]ITS_COMM_DEV_TYPE!$A$2:$A$100,MATCH('Comm Device (Desc)'!$F140,[1]!MASTER_ITS_COMM_DEV_TYPE_DESC[#Data],0),0))","v":""},{"$f":"IF('Comm Device (Desc)'!G140=\"\",\"\",INDEX([1]COMM_TYPE!$A$2:$A$100,MATCH('Comm Device (Desc)'!$G140,[1]!MASTER_COMM_TYPE_DESC[#Data],0),0))","v":""},{"$f":"IF('Comm Device (Desc)'!H140=\"\",\"\",'Comm Device (Desc)'!H140)","v":""},{"$f":"IF('Comm Device (Desc)'!I140=\"\",\"\",'Comm Device (Desc)'!I140)","v":""},{"$f":"IF('Comm Device (Desc)'!J140=\"\",\"\",INDEX([1]ITS_COMM_DEV_MANUF!$A$2:$A$300,MATCH(1,([1]ITS_COMM_DEV_MANUF!$B$2:$B$300='Comm Device (Desc)'!$J140)*([1]ITS_COMM_DEV_MANUF!$C$2:$C$300='Comm Device (Code)'!$E140),0),0))","v":""},{"$f":"IF('Comm Device (Desc)'!K140=\"\",\"\",INDEX([1]ITS_COMM_DEV_MODEL!$A$2:$A$500,MATCH(1,([1]ITS_COMM_DEV_MODEL!$C$2:$C$500='Comm Device (Desc)'!$J140)*([1]ITS_COMM_DEV_MODEL!$D$2:$D$500='Comm Device (Code)'!$E140)*([1]ITS_COMM_DEV_MODEL!$E$2:$E$500='Comm Device (Desc)'!$K140),0),0))","v":""},{"$f":"IF('Comm Device (Desc)'!L140=\"\",\"\",'Comm Device (Desc)'!L140)","v":""},{"$f":"IF('Comm Device (Desc)'!M140=\"\",\"\",'Comm Device (Desc)'!M140)","v":""},{"$f":"IF('Comm Device (Desc)'!N140=\"\",\"\",'Comm Device (Desc)'!N140)","v":""},{"$f":"IF('Comm Device (Desc)'!O140=\"\",\"\",'Comm Device (Desc)'!O140)","v":""},{"$f":"IF('Comm Device (Desc)'!P140=\"\",\"\",INDEX([1]DEV_INPUT_VOLTAGE!$A$2:$A$100,MATCH('Comm Device (Desc)'!$P140,[1]!MASTER_DEV_INPUT_VOLTAGE_DESC[#Data],0),0))","v":""},{"$f":"IF('Comm Device (Desc)'!Q140=\"\",\"\",'Comm Device (Desc)'!Q140)","v":""},{"$f":"IF('Comm Device (Desc)'!R140=\"\",\"\",'Comm Device (Desc)'!R140)","v":""},{"$f":"IF('Comm Device (Desc)'!S140=\"\",\"\",'Comm Device (Desc)'!S140)","v":""},{"$f":"IF('Comm Device (Desc)'!T140=\"\",\"\",'Comm Device (Desc)'!T140)","v":""},{"$f":"IF('Comm Device (Desc)'!U140=\"\",\"\",'Comm Device (Desc)'!U140)","v":""},{"$f":"IF('Comm Device (Desc)'!V140=\"\",\"\",INDEX([1]FIBER_CONN_TYPE!$A$2:$A$100,MATCH('Comm Device (Desc)'!$V140,[1]!MASTER_FIBER_CONN_TYPE_DESC[#Data],0),0))","v":""}]
[{"$f":"IF('Comm Device (Desc)'!A141=\"\",\"\",'Comm Device (Desc)'!A141)","v":""},{"$f":"IF('Comm Device (Desc)'!C141=\"\",\"\",\"2029\")","v":""},{"$f":"IF('Comm Device (Desc)'!C141=\"\",\"\",'Comm Device (Desc)'!C141)","v":""},{"$f":"IF('Comm Device (Desc)'!D141=\"\",\"\",INDEX([1]OWNER!$A$2:$A$100,MATCH('Comm Device (Desc)'!$D141,[1]!MASTER_OWNER_DESC[#Data],0),0))","v":""},{"$f":"IF('Comm Device (Desc)'!F141=\"\",\"\",INDEX([1]ITS_COMM_DEV_TYPE!$A$2:$A$100,MATCH('Comm Device (Desc)'!$F141,[1]!MASTER_ITS_COMM_DEV_TYPE_DESC[#Data],0),0))","v":""},{"$f":"IF('Comm Device (Desc)'!G141=\"\",\"\",INDEX([1]COMM_TYPE!$A$2:$A$100,MATCH('Comm Device (Desc)'!$G141,[1]!MASTER_COMM_TYPE_DESC[#Data],0),0))","v":""},{"$f":"IF('Comm Device (Desc)'!H141=\"\",\"\",'Comm Device (Desc)'!H141)","v":""},{"$f":"IF('Comm Device (Desc)'!I141=\"\",\"\",'Comm Device (Desc)'!I141)","v":""},{"$f":"IF('Comm Device (Desc)'!J141=\"\",\"\",INDEX([1]ITS_COMM_DEV_MANUF!$A$2:$A$300,MATCH(1,([1]ITS_COMM_DEV_MANUF!$B$2:$B$300='Comm Device (Desc)'!$J141)*([1]ITS_COMM_DEV_MANUF!$C$2:$C$300='Comm Device (Code)'!$E141),0),0))","v":""},{"$f":"IF('Comm Device (Desc)'!K141=\"\",\"\",INDEX([1]ITS_COMM_DEV_MODEL!$A$2:$A$500,MATCH(1,([1]ITS_COMM_DEV_MODEL!$C$2:$C$500='Comm Device (Desc)'!$J141)*([1]ITS_COMM_DEV_MODEL!$D$2:$D$500='Comm Device (Code)'!$E141)*([1]ITS_COMM_DEV_MODEL!$E$2:$E$500='Comm Device (Desc)'!$K141),0),0))","v":""},{"$f":"IF('Comm Device (Desc)'!L141=\"\",\"\",'Comm Device (Desc)'!L141)","v":""},{"$f":"IF('Comm Device (Desc)'!M141=\"\",\"\",'Comm Device (Desc)'!M141)","v":""},{"$f":"IF('Comm Device (Desc)'!N141=\"\",\"\",'Comm Device (Desc)'!N141)","v":""},{"$f":"IF('Comm Device (Desc)'!O141=\"\",\"\",'Comm Device (Desc)'!O141)","v":""},{"$f":"IF('Comm Device (Desc)'!P141=\"\",\"\",INDEX([1]DEV_INPUT_VOLTAGE!$A$2:$A$100,MATCH('Comm Device (Desc)'!$P141,[1]!MASTER_DEV_INPUT_VOLTAGE_DESC[#Data],0),0))","v":""},{"$f":"IF('Comm Device (Desc)'!Q141=\"\",\"\",'Comm Device (Desc)'!Q141)","v":""},{"$f":"IF('Comm Device (Desc)'!R141=\"\",\"\",'Comm Device (Desc)'!R141)","v":""},{"$f":"IF('Comm Device (Desc)'!S141=\"\",\"\",'Comm Device (Desc)'!S141)","v":""},{"$f":"IF('Comm Device (Desc)'!T141=\"\",\"\",'Comm Device (Desc)'!T141)","v":""},{"$f":"IF('Comm Device (Desc)'!U141=\"\",\"\",'Comm Device (Desc)'!U141)","v":""},{"$f":"IF('Comm Device (Desc)'!V141=\"\",\"\",INDEX([1]FIBER_CONN_TYPE!$A$2:$A$100,MATCH('Comm Device (Desc)'!$V141,[1]!MASTER_FIBER_CONN_TYPE_DESC[#Data],0),0))","v":""}]
[{"$f":"IF('Comm Device (Desc)'!A142=\"\",\"\",'Comm Device (Desc)'!A142)","v":""},{"$f":"IF('Comm Device (Desc)'!C142=\"\",\"\",\"2029\")","v":""},{"$f":"IF('Comm Device (Desc)'!C142=\"\",\"\",'Comm Device (Desc)'!C142)","v":""},{"$f":"IF('Comm Device (Desc)'!D142=\"\",\"\",INDEX([1]OWNER!$A$2:$A$100,MATCH('Comm Device (Desc)'!$D142,[1]!MASTER_OWNER_DESC[#Data],0),0))","v":""},{"$f":"IF('Comm Device (Desc)'!F142=\"\",\"\",INDEX([1]ITS_COMM_DEV_TYPE!$A$2:$A$100,MATCH('Comm Device (Desc)'!$F142,[1]!MASTER_ITS_COMM_DEV_TYPE_DESC[#Data],0),0))","v":""},{"$f":"IF('Comm Device (Desc)'!G142=\"\",\"\",INDEX([1]COMM_TYPE!$A$2:$A$100,MATCH('Comm Device (Desc)'!$G142,[1]!MASTER_COMM_TYPE_DESC[#Data],0),0))","v":""},{"$f":"IF('Comm Device (Desc)'!H142=\"\",\"\",'Comm Device (Desc)'!H142)","v":""},{"$f":"IF('Comm Device (Desc)'!I142=\"\",\"\",'Comm Device (Desc)'!I142)","v":""},{"$f":"IF('Comm Device (Desc)'!J142=\"\",\"\",INDEX([1]ITS_COMM_DEV_MANUF!$A$2:$A$300,MATCH(1,([1]ITS_COMM_DEV_MANUF!$B$2:$B$300='Comm Device (Desc)'!$J142)*([1]ITS_COMM_DEV_MANUF!$C$2:$C$300='Comm Device (Code)'!$E142),0),0))","v":""},{"$f":"IF('Comm Device (Desc)'!K142=\"\",\"\",INDEX([1]ITS_COMM_DEV_MODEL!$A$2:$A$500,MATCH(1,([1]ITS_COMM_DEV_MODEL!$C$2:$C$500='Comm Device (Desc)'!$J142)*([1]ITS_COMM_DEV_MODEL!$D$2:$D$500='Comm Device (Code)'!$E142)*([1]ITS_COMM_DEV_MODEL!$E$2:$E$500='Comm Device (Desc)'!$K142),0),0))","v":""},{"$f":"IF('Comm Device (Desc)'!L142=\"\",\"\",'Comm Device (Desc)'!L142)","v":""},{"$f":"IF('Comm Device (Desc)'!M142=\"\",\"\",'Comm Device (Desc)'!M142)","v":""},{"$f":"IF('Comm Device (Desc)'!N142=\"\",\"\",'Comm Device (Desc)'!N142)","v":""},{"$f":"IF('Comm Device (Desc)'!O142=\"\",\"\",'Comm Device (Desc)'!O142)","v":""},{"$f":"IF('Comm Device (Desc)'!P142=\"\",\"\",INDEX([1]DEV_INPUT_VOLTAGE!$A$2:$A$100,MATCH('Comm Device (Desc)'!$P142,[1]!MASTER_DEV_INPUT_VOLTAGE_DESC[#Data],0),0))","v":""},{"$f":"IF('Comm Device (Desc)'!Q142=\"\",\"\",'Comm Device (Desc)'!Q142)","v":""},{"$f":"IF('Comm Device (Desc)'!R142=\"\",\"\",'Comm Device (Desc)'!R142)","v":""},{"$f":"IF('Comm Device (Desc)'!S142=\"\",\"\",'Comm Device (Desc)'!S142)","v":""},{"$f":"IF('Comm Device (Desc)'!T142=\"\",\"\",'Comm Device (Desc)'!T142)","v":""},{"$f":"IF('Comm Device (Desc)'!U142=\"\",\"\",'Comm Device (Desc)'!U142)","v":""},{"$f":"IF('Comm Device (Desc)'!V142=\"\",\"\",INDEX([1]FIBER_CONN_TYPE!$A$2:$A$100,MATCH('Comm Device (Desc)'!$V142,[1]!MASTER_FIBER_CONN_TYPE_DESC[#Data],0),0))","v":""}]
[{"$f":"IF('Comm Device (Desc)'!A143=\"\",\"\",'Comm Device (Desc)'!A143)","v":""},{"$f":"IF('Comm Device (Desc)'!C143=\"\",\"\",\"2029\")","v":""},{"$f":"IF('Comm Device (Desc)'!C143=\"\",\"\",'Comm Device (Desc)'!C143)","v":""},{"$f":"IF('Comm Device (Desc)'!D143=\"\",\"\",INDEX([1]OWNER!$A$2:$A$100,MATCH('Comm Device (Desc)'!$D143,[1]!MASTER_OWNER_DESC[#Data],0),0))","v":""},{"$f":"IF('Comm Device (Desc)'!F143=\"\",\"\",INDEX([1]ITS_COMM_DEV_TYPE!$A$2:$A$100,MATCH('Comm Device (Desc)'!$F143,[1]!MASTER_ITS_COMM_DEV_TYPE_DESC[#Data],0),0))","v":""},{"$f":"IF('Comm Device (Desc)'!G143=\"\",\"\",INDEX([1]COMM_TYPE!$A$2:$A$100,MATCH('Comm Device (Desc)'!$G143,[1]!MASTER_COMM_TYPE_DESC[#Data],0),0))","v":""},{"$f":"IF('Comm Device (Desc)'!H143=\"\",\"\",'Comm Device (Desc)'!H143)","v":""},{"$f":"IF('Comm Device (Desc)'!I143=\"\",\"\",'Comm Device (Desc)'!I143)","v":""},{"$f":"IF('Comm Device (Desc)'!J143=\"\",\"\",INDEX([1]ITS_COMM_DEV_MANUF!$A$2:$A$300,MATCH(1,([1]ITS_COMM_DEV_MANUF!$B$2:$B$300='Comm Device (Desc)'!$J143)*([1]ITS_COMM_DEV_MANUF!$C$2:$C$300='Comm Device (Code)'!$E143),0),0))","v":""},{"$f":"IF('Comm Device (Desc)'!K143=\"\",\"\",INDEX([1]ITS_COMM_DEV_MODEL!$A$2:$A$500,MATCH(1,([1]ITS_COMM_DEV_MODEL!$C$2:$C$500='Comm Device (Desc)'!$J143)*([1]ITS_COMM_DEV_MODEL!$D$2:$D$500='Comm Device (Code)'!$E143)*([1]ITS_COMM_DEV_MODEL!$E$2:$E$500='Comm Device (Desc)'!$K143),0),0))","v":""},{"$f":"IF('Comm Device (Desc)'!L143=\"\",\"\",'Comm Device (Desc)'!L143)","v":""},{"$f":"IF('Comm Device (Desc)'!M143=\"\",\"\",'Comm Device (Desc)'!M143)","v":""},{"$f":"IF('Comm Device (Desc)'!N143=\"\",\"\",'Comm Device (Desc)'!N143)","v":""},{"$f":"IF('Comm Device (Desc)'!O143=\"\",\"\",'Comm Device (Desc)'!O143)","v":""},{"$f":"IF('Comm Device (Desc)'!P143=\"\",\"\",INDEX([1]DEV_INPUT_VOLTAGE!$A$2:$A$100,MATCH('Comm Device (Desc)'!$P143,[1]!MASTER_DEV_INPUT_VOLTAGE_DESC[#Data],0),0))","v":""},{"$f":"IF('Comm Device (Desc)'!Q143=\"\",\"\",'Comm Device (Desc)'!Q143)","v":""},{"$f":"IF('Comm Device (Desc)'!R143=\"\",\"\",'Comm Device (Desc)'!R143)","v":""},{"$f":"IF('Comm Device (Desc)'!S143=\"\",\"\",'Comm Device (Desc)'!S143)","v":""},{"$f":"IF('Comm Device (Desc)'!T143=\"\",\"\",'Comm Device (Desc)'!T143)","v":""},{"$f":"IF('Comm Device (Desc)'!U143=\"\",\"\",'Comm Device (Desc)'!U143)","v":""},{"$f":"IF('Comm Device (Desc)'!V143=\"\",\"\",INDEX([1]FIBER_CONN_TYPE!$A$2:$A$100,MATCH('Comm Device (Desc)'!$V143,[1]!MASTER_FIBER_CONN_TYPE_DESC[#Data],0),0))","v":""}]
[{"$f":"IF('Comm Device (Desc)'!A144=\"\",\"\",'Comm Device (Desc)'!A144)","v":""},{"$f":"IF('Comm Device (Desc)'!C144=\"\",\"\",\"2029\")","v":""},{"$f":"IF('Comm Device (Desc)'!C144=\"\",\"\",'Comm Device (Desc)'!C144)","v":""},{"$f":"IF('Comm Device (Desc)'!D144=\"\",\"\",INDEX([1]OWNER!$A$2:$A$100,MATCH('Comm Device (Desc)'!$D144,[1]!MASTER_OWNER_DESC[#Data],0),0))","v":""},{"$f":"IF('Comm Device (Desc)'!F144=\"\",\"\",INDEX([1]ITS_COMM_DEV_TYPE!$A$2:$A$100,MATCH('Comm Device (Desc)'!$F144,[1]!MASTER_ITS_COMM_DEV_TYPE_DESC[#Data],0),0))","v":""},{"$f":"IF('Comm Device (Desc)'!G144=\"\",\"\",INDEX([1]COMM_TYPE!$A$2:$A$100,MATCH('Comm Device (Desc)'!$G144,[1]!MASTER_COMM_TYPE_DESC[#Data],0),0))","v":""},{"$f":"IF('Comm Device (Desc)'!H144=\"\",\"\",'Comm Device (Desc)'!H144)","v":""},{"$f":"IF('Comm Device (Desc)'!I144=\"\",\"\",'Comm Device (Desc)'!I144)","v":""},{"$f":"IF('Comm Device (Desc)'!J144=\"\",\"\",INDEX([1]ITS_COMM_DEV_MANUF!$A$2:$A$300,MATCH(1,([1]ITS_COMM_DEV_MANUF!$B$2:$B$300='Comm Device (Desc)'!$J144)*([1]ITS_COMM_DEV_MANUF!$C$2:$C$300='Comm Device (Code)'!$E144),0),0))","v":""},{"$f":"IF('Comm Device (Desc)'!K144=\"\",\"\",INDEX([1]ITS_COMM_DEV_MODEL!$A$2:$A$500,MATCH(1,([1]ITS_COMM_DEV_MODEL!$C$2:$C$500='Comm Device (Desc)'!$J144)*([1]ITS_COMM_DEV_MODEL!$D$2:$D$500='Comm Device (Code)'!$E144)*([1]ITS_COMM_DEV_MODEL!$E$2:$E$500='Comm Device (Desc)'!$K144),0),0))","v":""},{"$f":"IF('Comm Device (Desc)'!L144=\"\",\"\",'Comm Device (Desc)'!L144)","v":""},{"$f":"IF('Comm Device (Desc)'!M144=\"\",\"\",'Comm Device (Desc)'!M144)","v":""},{"$f":"IF('Comm Device (Desc)'!N144=\"\",\"\",'Comm Device (Desc)'!N144)","v":""},{"$f":"IF('Comm Device (Desc)'!O144=\"\",\"\",'Comm Device (Desc)'!O144)","v":""},{"$f":"IF('Comm Device (Desc)'!P144=\"\",\"\",INDEX([1]DEV_INPUT_VOLTAGE!$A$2:$A$100,MATCH('Comm Device (Desc)'!$P144,[1]!MASTER_DEV_INPUT_VOLTAGE_DESC[#Data],0),0))","v":""},{"$f":"IF('Comm Device (Desc)'!Q144=\"\",\"\",'Comm Device (Desc)'!Q144)","v":""},{"$f":"IF('Comm Device (Desc)'!R144=\"\",\"\",'Comm Device (Desc)'!R144)","v":""},{"$f":"IF('Comm Device (Desc)'!S144=\"\",\"\",'Comm Device (Desc)'!S144)","v":""},{"$f":"IF('Comm Device (Desc)'!T144=\"\",\"\",'Comm Device (Desc)'!T144)","v":""},{"$f":"IF('Comm Device (Desc)'!U144=\"\",\"\",'Comm Device (Desc)'!U144)","v":""},{"$f":"IF('Comm Device (Desc)'!V144=\"\",\"\",INDEX([1]FIBER_CONN_TYPE!$A$2:$A$100,MATCH('Comm Device (Desc)'!$V144,[1]!MASTER_FIBER_CONN_TYPE_DESC[#Data],0),0))","v":""}]
[{"$f":"IF('Comm Device (Desc)'!A145=\"\",\"\",'Comm Device (Desc)'!A145)","v":""},{"$f":"IF('Comm Device (Desc)'!C145=\"\",\"\",\"2029\")","v":""},{"$f":"IF('Comm Device (Desc)'!C145=\"\",\"\",'Comm Device (Desc)'!C145)","v":""},{"$f":"IF('Comm Device (Desc)'!D145=\"\",\"\",INDEX([1]OWNER!$A$2:$A$100,MATCH('Comm Device (Desc)'!$D145,[1]!MASTER_OWNER_DESC[#Data],0),0))","v":""},{"$f":"IF('Comm Device (Desc)'!F145=\"\",\"\",INDEX([1]ITS_COMM_DEV_TYPE!$A$2:$A$100,MATCH('Comm Device (Desc)'!$F145,[1]!MASTER_ITS_COMM_DEV_TYPE_DESC[#Data],0),0))","v":""},{"$f":"IF('Comm Device (Desc)'!G145=\"\",\"\",INDEX([1]COMM_TYPE!$A$2:$A$100,MATCH('Comm Device (Desc)'!$G145,[1]!MASTER_COMM_TYPE_DESC[#Data],0),0))","v":""},{"$f":"IF('Comm Device (Desc)'!H145=\"\",\"\",'Comm Device (Desc)'!H145)","v":""},{"$f":"IF('Comm Device (Desc)'!I145=\"\",\"\",'Comm Device (Desc)'!I145)","v":""},{"$f":"IF('Comm Device (Desc)'!J145=\"\",\"\",INDEX([1]ITS_COMM_DEV_MANUF!$A$2:$A$300,MATCH(1,([1]ITS_COMM_DEV_MANUF!$B$2:$B$300='Comm Device (Desc)'!$J145)*([1]ITS_COMM_DEV_MANUF!$C$2:$C$300='Comm Device (Code)'!$E145),0),0))","v":""},{"$f":"IF('Comm Device (Desc)'!K145=\"\",\"\",INDEX([1]ITS_COMM_DEV_MODEL!$A$2:$A$500,MATCH(1,([1]ITS_COMM_DEV_MODEL!$C$2:$C$500='Comm Device (Desc)'!$J145)*([1]ITS_COMM_DEV_MODEL!$D$2:$D$500='Comm Device (Code)'!$E145)*([1]ITS_COMM_DEV_MODEL!$E$2:$E$500='Comm Device (Desc)'!$K145),0),0))","v":""},{"$f":"IF('Comm Device (Desc)'!L145=\"\",\"\",'Comm Device (Desc)'!L145)","v":""},{"$f":"IF('Comm Device (Desc)'!M145=\"\",\"\",'Comm Device (Desc)'!M145)","v":""},{"$f":"IF('Comm Device (Desc)'!N145=\"\",\"\",'Comm Device (Desc)'!N145)","v":""},{"$f":"IF('Comm Device (Desc)'!O145=\"\",\"\",'Comm Device (Desc)'!O145)","v":""},{"$f":"IF('Comm Device (Desc)'!P145=\"\",\"\",INDEX([1]DEV_INPUT_VOLTAGE!$A$2:$A$100,MATCH('Comm Device (Desc)'!$P145,[1]!MASTER_DEV_INPUT_VOLTAGE_DESC[#Data],0),0))","v":""},{"$f":"IF('Comm Device (Desc)'!Q145=\"\",\"\",'Comm Device (Desc)'!Q145)","v":""},{"$f":"IF('Comm Device (Desc)'!R145=\"\",\"\",'Comm Device (Desc)'!R145)","v":""},{"$f":"IF('Comm Device (Desc)'!S145=\"\",\"\",'Comm Device (Desc)'!S145)","v":""},{"$f":"IF('Comm Device (Desc)'!T145=\"\",\"\",'Comm Device (Desc)'!T145)","v":""},{"$f":"IF('Comm Device (Desc)'!U145=\"\",\"\",'Comm Device (Desc)'!U145)","v":""},{"$f":"IF('Comm Device (Desc)'!V145=\"\",\"\",INDEX([1]FIBER_CONN_TYPE!$A$2:$A$100,MATCH('Comm Device (Desc)'!$V145,[1]!MASTER_FIBER_CONN_TYPE_DESC[#Data],0),0))","v":""}]
[{"$f":"IF('Comm Device (Desc)'!A146=\"\",\"\",'Comm Device (Desc)'!A146)","v":""},{"$f":"IF('Comm Device (Desc)'!C146=\"\",\"\",\"2029\")","v":""},{"$f":"IF('Comm Device (Desc)'!C146=\"\",\"\",'Comm Device (Desc)'!C146)","v":""},{"$f":"IF('Comm Device (Desc)'!D146=\"\",\"\",INDEX([1]OWNER!$A$2:$A$100,MATCH('Comm Device (Desc)'!$D146,[1]!MASTER_OWNER_DESC[#Data],0),0))","v":""},{"$f":"IF('Comm Device (Desc)'!F146=\"\",\"\",INDEX([1]ITS_COMM_DEV_TYPE!$A$2:$A$100,MATCH('Comm Device (Desc)'!$F146,[1]!MASTER_ITS_COMM_DEV_TYPE_DESC[#Data],0),0))","v":""},{"$f":"IF('Comm Device (Desc)'!G146=\"\",\"\",INDEX([1]COMM_TYPE!$A$2:$A$100,MATCH('Comm Device (Desc)'!$G146,[1]!MASTER_COMM_TYPE_DESC[#Data],0),0))","v":""},{"$f":"IF('Comm Device (Desc)'!H146=\"\",\"\",'Comm Device (Desc)'!H146)","v":""},{"$f":"IF('Comm Device (Desc)'!I146=\"\",\"\",'Comm Device (Desc)'!I146)","v":""},{"$f":"IF('Comm Device (Desc)'!J146=\"\",\"\",INDEX([1]ITS_COMM_DEV_MANUF!$A$2:$A$300,MATCH(1,([1]ITS_COMM_DEV_MANUF!$B$2:$B$300='Comm Device (Desc)'!$J146)*([1]ITS_COMM_DEV_MANUF!$C$2:$C$300='Comm Device (Code)'!$E146),0),0))","v":""},{"$f":"IF('Comm Device (Desc)'!K146=\"\",\"\",INDEX([1]ITS_COMM_DEV_MODEL!$A$2:$A$500,MATCH(1,([1]ITS_COMM_DEV_MODEL!$C$2:$C$500='Comm Device (Desc)'!$J146)*([1]ITS_COMM_DEV_MODEL!$D$2:$D$500='Comm Device (Code)'!$E146)*([1]ITS_COMM_DEV_MODEL!$E$2:$E$500='Comm Device (Desc)'!$K146),0),0))","v":""},{"$f":"IF('Comm Device (Desc)'!L146=\"\",\"\",'Comm Device (Desc)'!L146)","v":""},{"$f":"IF('Comm Device (Desc)'!M146=\"\",\"\",'Comm Device (Desc)'!M146)","v":""},{"$f":"IF('Comm Device (Desc)'!N146=\"\",\"\",'Comm Device (Desc)'!N146)","v":""},{"$f":"IF('Comm Device (Desc)'!O146=\"\",\"\",'Comm Device (Desc)'!O146)","v":""},{"$f":"IF('Comm Device (Desc)'!P146=\"\",\"\",INDEX([1]DEV_INPUT_VOLTAGE!$A$2:$A$100,MATCH('Comm Device (Desc)'!$P146,[1]!MASTER_DEV_INPUT_VOLTAGE_DESC[#Data],0),0))","v":""},{"$f":"IF('Comm Device (Desc)'!Q146=\"\",\"\",'Comm Device (Desc)'!Q146)","v":""},{"$f":"IF('Comm Device (Desc)'!R146=\"\",\"\",'Comm Device (Desc)'!R146)","v":""},{"$f":"IF('Comm Device (Desc)'!S146=\"\",\"\",'Comm Device (Desc)'!S146)","v":""},{"$f":"IF('Comm Device (Desc)'!T146=\"\",\"\",'Comm Device (Desc)'!T146)","v":""},{"$f":"IF('Comm Device (Desc)'!U146=\"\",\"\",'Comm Device (Desc)'!U146)","v":""},{"$f":"IF('Comm Device (Desc)'!V146=\"\",\"\",INDEX([1]FIBER_CONN_TYPE!$A$2:$A$100,MATCH('Comm Device (Desc)'!$V146,[1]!MASTER_FIBER_CONN_TYPE_DESC[#Data],0),0))","v":""}]
[{"$f":"IF('Comm Device (Desc)'!A147=\"\",\"\",'Comm Device (Desc)'!A147)","v":""},{"$f":"IF('Comm Device (Desc)'!C147=\"\",\"\",\"2029\")","v":""},{"$f":"IF('Comm Device (Desc)'!C147=\"\",\"\",'Comm Device (Desc)'!C147)","v":""},{"$f":"IF('Comm Device (Desc)'!D147=\"\",\"\",INDEX([1]OWNER!$A$2:$A$100,MATCH('Comm Device (Desc)'!$D147,[1]!MASTER_OWNER_DESC[#Data],0),0))","v":""},{"$f":"IF('Comm Device (Desc)'!F147=\"\",\"\",INDEX([1]ITS_COMM_DEV_TYPE!$A$2:$A$100,MATCH('Comm Device (Desc)'!$F147,[1]!MASTER_ITS_COMM_DEV_TYPE_DESC[#Data],0),0))","v":""},{"$f":"IF('Comm Device (Desc)'!G147=\"\",\"\",INDEX([1]COMM_TYPE!$A$2:$A$100,MATCH('Comm Device (Desc)'!$G147,[1]!MASTER_COMM_TYPE_DESC[#Data],0),0))","v":""},{"$f":"IF('Comm Device (Desc)'!H147=\"\",\"\",'Comm Device (Desc)'!H147)","v":""},{"$f":"IF('Comm Device (Desc)'!I147=\"\",\"\",'Comm Device (Desc)'!I147)","v":""},{"$f":"IF('Comm Device (Desc)'!J147=\"\",\"\",INDEX([1]ITS_COMM_DEV_MANUF!$A$2:$A$300,MATCH(1,([1]ITS_COMM_DEV_MANUF!$B$2:$B$300='Comm Device (Desc)'!$J147)*([1]ITS_COMM_DEV_MANUF!$C$2:$C$300='Comm Device (Code)'!$E147),0),0))","v":""},{"$f":"IF('Comm Device (Desc)'!K147=\"\",\"\",INDEX([1]ITS_COMM_DEV_MODEL!$A$2:$A$500,MATCH(1,([1]ITS_COMM_DEV_MODEL!$C$2:$C$500='Comm Device (Desc)'!$J147)*([1]ITS_COMM_DEV_MODEL!$D$2:$D$500='Comm Device (Code)'!$E147)*([1]ITS_COMM_DEV_MODEL!$E$2:$E$500='Comm Device (Desc)'!$K147),0),0))","v":""},{"$f":"IF('Comm Device (Desc)'!L147=\"\",\"\",'Comm Device (Desc)'!L147)","v":""},{"$f":"IF('Comm Device (Desc)'!M147=\"\",\"\",'Comm Device (Desc)'!M147)","v":""},{"$f":"IF('Comm Device (Desc)'!N147=\"\",\"\",'Comm Device (Desc)'!N147)","v":""},{"$f":"IF('Comm Device (Desc)'!O147=\"\",\"\",'Comm Device (Desc)'!O147)","v":""},{"$f":"IF('Comm Device (Desc)'!P147=\"\",\"\",INDEX([1]DEV_INPUT_VOLTAGE!$A$2:$A$100,MATCH('Comm Device (Desc)'!$P147,[1]!MASTER_DEV_INPUT_VOLTAGE_DESC[#Data],0),0))","v":""},{"$f":"IF('Comm Device (Desc)'!Q147=\"\",\"\",'Comm Device (Desc)'!Q147)","v":""},{"$f":"IF('Comm Device (Desc)'!R147=\"\",\"\",'Comm Device (Desc)'!R147)","v":""},{"$f":"IF('Comm Device (Desc)'!S147=\"\",\"\",'Comm Device (Desc)'!S147)","v":""},{"$f":"IF('Comm Device (Desc)'!T147=\"\",\"\",'Comm Device (Desc)'!T147)","v":""},{"$f":"IF('Comm Device (Desc)'!U147=\"\",\"\",'Comm Device (Desc)'!U147)","v":""},{"$f":"IF('Comm Device (Desc)'!V147=\"\",\"\",INDEX([1]FIBER_CONN_TYPE!$A$2:$A$100,MATCH('Comm Device (Desc)'!$V147,[1]!MASTER_FIBER_CONN_TYPE_DESC[#Data],0),0))","v":""}]
[{"$f":"IF('Comm Device (Desc)'!A148=\"\",\"\",'Comm Device (Desc)'!A148)","v":""},{"$f":"IF('Comm Device (Desc)'!C148=\"\",\"\",\"2029\")","v":""},{"$f":"IF('Comm Device (Desc)'!C148=\"\",\"\",'Comm Device (Desc)'!C148)","v":""},{"$f":"IF('Comm Device (Desc)'!D148=\"\",\"\",INDEX([1]OWNER!$A$2:$A$100,MATCH('Comm Device (Desc)'!$D148,[1]!MASTER_OWNER_DESC[#Data],0),0))","v":""},{"$f":"IF('Comm Device (Desc)'!F148=\"\",\"\",INDEX([1]ITS_COMM_DEV_TYPE!$A$2:$A$100,MATCH('Comm Device (Desc)'!$F148,[1]!MASTER_ITS_COMM_DEV_TYPE_DESC[#Data],0),0))","v":""},{"$f":"IF('Comm Device (Desc)'!G148=\"\",\"\",INDEX([1]COMM_TYPE!$A$2:$A$100,MATCH('Comm Device (Desc)'!$G148,[1]!MASTER_COMM_TYPE_DESC[#Data],0),0))","v":""},{"$f":"IF('Comm Device (Desc)'!H148=\"\",\"\",'Comm Device (Desc)'!H148)","v":""},{"$f":"IF('Comm Device (Desc)'!I148=\"\",\"\",'Comm Device (Desc)'!I148)","v":""},{"$f":"IF('Comm Device (Desc)'!J148=\"\",\"\",INDEX([1]ITS_COMM_DEV_MANUF!$A$2:$A$300,MATCH(1,([1]ITS_COMM_DEV_MANUF!$B$2:$B$300='Comm Device (Desc)'!$J148)*([1]ITS_COMM_DEV_MANUF!$C$2:$C$300='Comm Device (Code)'!$E148),0),0))","v":""},{"$f":"IF('Comm Device (Desc)'!K148=\"\",\"\",INDEX([1]ITS_COMM_DEV_MODEL!$A$2:$A$500,MATCH(1,([1]ITS_COMM_DEV_MODEL!$C$2:$C$500='Comm Device (Desc)'!$J148)*([1]ITS_COMM_DEV_MODEL!$D$2:$D$500='Comm Device (Code)'!$E148)*([1]ITS_COMM_DEV_MODEL!$E$2:$E$500='Comm Device (Desc)'!$K148),0),0))","v":""},{"$f":"IF('Comm Device (Desc)'!L148=\"\",\"\",'Comm Device (Desc)'!L148)","v":""},{"$f":"IF('Comm Device (Desc)'!M148=\"\",\"\",'Comm Device (Desc)'!M148)","v":""},{"$f":"IF('Comm Device (Desc)'!N148=\"\",\"\",'Comm Device (Desc)'!N148)","v":""},{"$f":"IF('Comm Device (Desc)'!O148=\"\",\"\",'Comm Device (Desc)'!O148)","v":""},{"$f":"IF('Comm Device (Desc)'!P148=\"\",\"\",INDEX([1]DEV_INPUT_VOLTAGE!$A$2:$A$100,MATCH('Comm Device (Desc)'!$P148,[1]!MASTER_DEV_INPUT_VOLTAGE_DESC[#Data],0),0))","v":""},{"$f":"IF('Comm Device (Desc)'!Q148=\"\",\"\",'Comm Device (Desc)'!Q148)","v":""},{"$f":"IF('Comm Device (Desc)'!R148=\"\",\"\",'Comm Device (Desc)'!R148)","v":""},{"$f":"IF('Comm Device (Desc)'!S148=\"\",\"\",'Comm Device (Desc)'!S148)","v":""},{"$f":"IF('Comm Device (Desc)'!T148=\"\",\"\",'Comm Device (Desc)'!T148)","v":""},{"$f":"IF('Comm Device (Desc)'!U148=\"\",\"\",'Comm Device (Desc)'!U148)","v":""},{"$f":"IF('Comm Device (Desc)'!V148=\"\",\"\",INDEX([1]FIBER_CONN_TYPE!$A$2:$A$100,MATCH('Comm Device (Desc)'!$V148,[1]!MASTER_FIBER_CONN_TYPE_DESC[#Data],0),0))","v":""}]
[{"$f":"IF('Comm Device (Desc)'!A149=\"\",\"\",'Comm Device (Desc)'!A149)","v":""},{"$f":"IF('Comm Device (Desc)'!C149=\"\",\"\",\"2029\")","v":""},{"$f":"IF('Comm Device (Desc)'!C149=\"\",\"\",'Comm Device (Desc)'!C149)","v":""},{"$f":"IF('Comm Device (Desc)'!D149=\"\",\"\",INDEX([1]OWNER!$A$2:$A$100,MATCH('Comm Device (Desc)'!$D149,[1]!MASTER_OWNER_DESC[#Data],0),0))","v":""},{"$f":"IF('Comm Device (Desc)'!F149=\"\",\"\",INDEX([1]ITS_COMM_DEV_TYPE!$A$2:$A$100,MATCH('Comm Device (Desc)'!$F149,[1]!MASTER_ITS_COMM_DEV_TYPE_DESC[#Data],0),0))","v":""},{"$f":"IF('Comm Device (Desc)'!G149=\"\",\"\",INDEX([1]COMM_TYPE!$A$2:$A$100,MATCH('Comm Device (Desc)'!$G149,[1]!MASTER_COMM_TYPE_DESC[#Data],0),0))","v":""},{"$f":"IF('Comm Device (Desc)'!H149=\"\",\"\",'Comm Device (Desc)'!H149)","v":""},{"$f":"IF('Comm Device (Desc)'!I149=\"\",\"\",'Comm Device (Desc)'!I149)","v":""},{"$f":"IF('Comm Device (Desc)'!J149=\"\",\"\",INDEX([1]ITS_COMM_DEV_MANUF!$A$2:$A$300,MATCH(1,([1]ITS_COMM_DEV_MANUF!$B$2:$B$300='Comm Device (Desc)'!$J149)*([1]ITS_COMM_DEV_MANUF!$C$2:$C$300='Comm Device (Code)'!$E149),0),0))","v":""},{"$f":"IF('Comm Device (Desc)'!K149=\"\",\"\",INDEX([1]ITS_COMM_DEV_MODEL!$A$2:$A$500,MATCH(1,([1]ITS_COMM_DEV_MODEL!$C$2:$C$500='Comm Device (Desc)'!$J149)*([1]ITS_COMM_DEV_MODEL!$D$2:$D$500='Comm Device (Code)'!$E149)*([1]ITS_COMM_DEV_MODEL!$E$2:$E$500='Comm Device (Desc)'!$K149),0),0))","v":""},{"$f":"IF('Comm Device (Desc)'!L149=\"\",\"\",'Comm Device (Desc)'!L149)","v":""},{"$f":"IF('Comm Device (Desc)'!M149=\"\",\"\",'Comm Device (Desc)'!M149)","v":""},{"$f":"IF('Comm Device (Desc)'!N149=\"\",\"\",'Comm Device (Desc)'!N149)","v":""},{"$f":"IF('Comm Device (Desc)'!O149=\"\",\"\",'Comm Device (Desc)'!O149)","v":""},{"$f":"IF('Comm Device (Desc)'!P149=\"\",\"\",INDEX([1]DEV_INPUT_VOLTAGE!$A$2:$A$100,MATCH('Comm Device (Desc)'!$P149,[1]!MASTER_DEV_INPUT_VOLTAGE_DESC[#Data],0),0))","v":""},{"$f":"IF('Comm Device (Desc)'!Q149=\"\",\"\",'Comm Device (Desc)'!Q149)","v":""},{"$f":"IF('Comm Device (Desc)'!R149=\"\",\"\",'Comm Device (Desc)'!R149)","v":""},{"$f":"IF('Comm Device (Desc)'!S149=\"\",\"\",'Comm Device (Desc)'!S149)","v":""},{"$f":"IF('Comm Device (Desc)'!T149=\"\",\"\",'Comm Device (Desc)'!T149)","v":""},{"$f":"IF('Comm Device (Desc)'!U149=\"\",\"\",'Comm Device (Desc)'!U149)","v":""},{"$f":"IF('Comm Device (Desc)'!V149=\"\",\"\",INDEX([1]FIBER_CONN_TYPE!$A$2:$A$100,MATCH('Comm Device (Desc)'!$V149,[1]!MASTER_FIBER_CONN_TYPE_DESC[#Data],0),0))","v":""}]
[{"$f":"IF('Comm Device (Desc)'!A150=\"\",\"\",'Comm Device (Desc)'!A150)","v":""},{"$f":"IF('Comm Device (Desc)'!C150=\"\",\"\",\"2029\")","v":""},{"$f":"IF('Comm Device (Desc)'!C150=\"\",\"\",'Comm Device (Desc)'!C150)","v":""},{"$f":"IF('Comm Device (Desc)'!D150=\"\",\"\",INDEX([1]OWNER!$A$2:$A$100,MATCH('Comm Device (Desc)'!$D150,[1]!MASTER_OWNER_DESC[#Data],0),0))","v":""},{"$f":"IF('Comm Device (Desc)'!F150=\"\",\"\",INDEX([1]ITS_COMM_DEV_TYPE!$A$2:$A$100,MATCH('Comm Device (Desc)'!$F150,[1]!MASTER_ITS_COMM_DEV_TYPE_DESC[#Data],0),0))","v":""},{"$f":"IF('Comm Device (Desc)'!G150=\"\",\"\",INDEX([1]COMM_TYPE!$A$2:$A$100,MATCH('Comm Device (Desc)'!$G150,[1]!MASTER_COMM_TYPE_DESC[#Data],0),0))","v":""},{"$f":"IF('Comm Device (Desc)'!H150=\"\",\"\",'Comm Device (Desc)'!H150)","v":""},{"$f":"IF('Comm Device (Desc)'!I150=\"\",\"\",'Comm Device (Desc)'!I150)","v":""},{"$f":"IF('Comm Device (Desc)'!J150=\"\",\"\",INDEX([1]ITS_COMM_DEV_MANUF!$A$2:$A$300,MATCH(1,([1]ITS_COMM_DEV_MANUF!$B$2:$B$300='Comm Device (Desc)'!$J150)*([1]ITS_COMM_DEV_MANUF!$C$2:$C$300='Comm Device (Code)'!$E150),0),0))","v":""},{"$f":"IF('Comm Device (Desc)'!K150=\"\",\"\",INDEX([1]ITS_COMM_DEV_MODEL!$A$2:$A$500,MATCH(1,([1]ITS_COMM_DEV_MODEL!$C$2:$C$500='Comm Device (Desc)'!$J150)*([1]ITS_COMM_DEV_MODEL!$D$2:$D$500='Comm Device (Code)'!$E150)*([1]ITS_COMM_DEV_MODEL!$E$2:$E$500='Comm Device (Desc)'!$K150),0),0))","v":""},{"$f":"IF('Comm Device (Desc)'!L150=\"\",\"\",'Comm Device (Desc)'!L150)","v":""},{"$f":"IF('Comm Device (Desc)'!M150=\"\",\"\",'Comm Device (Desc)'!M150)","v":""},{"$f":"IF('Comm Device (Desc)'!N150=\"\",\"\",'Comm Device (Desc)'!N150)","v":""},{"$f":"IF('Comm Device (Desc)'!O150=\"\",\"\",'Comm Device (Desc)'!O150)","v":""},{"$f":"IF('Comm Device (Desc)'!P150=\"\",\"\",INDEX([1]DEV_INPUT_VOLTAGE!$A$2:$A$100,MATCH('Comm Device (Desc)'!$P150,[1]!MASTER_DEV_INPUT_VOLTAGE_DESC[#Data],0),0))","v":""},{"$f":"IF('Comm Device (Desc)'!Q150=\"\",\"\",'Comm Device (Desc)'!Q150)","v":""},{"$f":"IF('Comm Device (Desc)'!R150=\"\",\"\",'Comm Device (Desc)'!R150)","v":""},{"$f":"IF('Comm Device (Desc)'!S150=\"\",\"\",'Comm Device (Desc)'!S150)","v":""},{"$f":"IF('Comm Device (Desc)'!T150=\"\",\"\",'Comm Device (Desc)'!T150)","v":""},{"$f":"IF('Comm Device (Desc)'!U150=\"\",\"\",'Comm Device (Desc)'!U150)","v":""},{"$f":"IF('Comm Device (Desc)'!V150=\"\",\"\",INDEX([1]FIBER_CONN_TYPE!$A$2:$A$100,MATCH('Comm Device (Desc)'!$V150,[1]!MASTER_FIBER_CONN_TYPE_DESC[#Data],0),0))","v":""}]
[{"$f":"IF('Comm Device (Desc)'!A151=\"\",\"\",'Comm Device (Desc)'!A151)","v":""},{"$f":"IF('Comm Device (Desc)'!C151=\"\",\"\",\"2029\")","v":""},{"$f":"IF('Comm Device (Desc)'!C151=\"\",\"\",'Comm Device (Desc)'!C151)","v":""},{"$f":"IF('Comm Device (Desc)'!D151=\"\",\"\",INDEX([1]OWNER!$A$2:$A$100,MATCH('Comm Device (Desc)'!$D151,[1]!MASTER_OWNER_DESC[#Data],0),0))","v":""},{"$f":"IF('Comm Device (Desc)'!F151=\"\",\"\",INDEX([1]ITS_COMM_DEV_TYPE!$A$2:$A$100,MATCH('Comm Device (Desc)'!$F151,[1]!MASTER_ITS_COMM_DEV_TYPE_DESC[#Data],0),0))","v":""},{"$f":"IF('Comm Device (Desc)'!G151=\"\",\"\",INDEX([1]COMM_TYPE!$A$2:$A$100,MATCH('Comm Device (Desc)'!$G151,[1]!MASTER_COMM_TYPE_DESC[#Data],0),0))","v":""},{"$f":"IF('Comm Device (Desc)'!H151=\"\",\"\",'Comm Device (Desc)'!H151)","v":""},{"$f":"IF('Comm Device (Desc)'!I151=\"\",\"\",'Comm Device (Desc)'!I151)","v":""},{"$f":"IF('Comm Device (Desc)'!J151=\"\",\"\",INDEX([1]ITS_COMM_DEV_MANUF!$A$2:$A$300,MATCH(1,([1]ITS_COMM_DEV_MANUF!$B$2:$B$300='Comm Device (Desc)'!$J151)*([1]ITS_COMM_DEV_MANUF!$C$2:$C$300='Comm Device (Code)'!$E151),0),0))","v":""},{"$f":"IF('Comm Device (Desc)'!K151=\"\",\"\",INDEX([1]ITS_COMM_DEV_MODEL!$A$2:$A$500,MATCH(1,([1]ITS_COMM_DEV_MODEL!$C$2:$C$500='Comm Device (Desc)'!$J151)*([1]ITS_COMM_DEV_MODEL!$D$2:$D$500='Comm Device (Code)'!$E151)*([1]ITS_COMM_DEV_MODEL!$E$2:$E$500='Comm Device (Desc)'!$K151),0),0))","v":""},{"$f":"IF('Comm Device (Desc)'!L151=\"\",\"\",'Comm Device (Desc)'!L151)","v":""},{"$f":"IF('Comm Device (Desc)'!M151=\"\",\"\",'Comm Device (Desc)'!M151)","v":""},{"$f":"IF('Comm Device (Desc)'!N151=\"\",\"\",'Comm Device (Desc)'!N151)","v":""},{"$f":"IF('Comm Device (Desc)'!O151=\"\",\"\",'Comm Device (Desc)'!O151)","v":""},{"$f":"IF('Comm Device (Desc)'!P151=\"\",\"\",INDEX([1]DEV_INPUT_VOLTAGE!$A$2:$A$100,MATCH('Comm Device (Desc)'!$P151,[1]!MASTER_DEV_INPUT_VOLTAGE_DESC[#Data],0),0))","v":""},{"$f":"IF('Comm Device (Desc)'!Q151=\"\",\"\",'Comm Device (Desc)'!Q151)","v":""},{"$f":"IF('Comm Device (Desc)'!R151=\"\",\"\",'Comm Device (Desc)'!R151)","v":""},{"$f":"IF('Comm Device (Desc)'!S151=\"\",\"\",'Comm Device (Desc)'!S151)","v":""},{"$f":"IF('Comm Device (Desc)'!T151=\"\",\"\",'Comm Device (Desc)'!T151)","v":""},{"$f":"IF('Comm Device (Desc)'!U151=\"\",\"\",'Comm Device (Desc)'!U151)","v":""},{"$f":"IF('Comm Device (Desc)'!V151=\"\",\"\",INDEX([1]FIBER_CONN_TYPE!$A$2:$A$100,MATCH('Comm Device (Desc)'!$V151,[1]!MASTER_FIBER_CONN_TYPE_DESC[#Data],0),0))","v":""}]
[{"$f":"IF('Comm Device (Desc)'!A152=\"\",\"\",'Comm Device (Desc)'!A152)","v":""},{"$f":"IF('Comm Device (Desc)'!C152=\"\",\"\",\"2029\")","v":""},{"$f":"IF('Comm Device (Desc)'!C152=\"\",\"\",'Comm Device (Desc)'!C152)","v":""},{"$f":"IF('Comm Device (Desc)'!D152=\"\",\"\",INDEX([1]OWNER!$A$2:$A$100,MATCH('Comm Device (Desc)'!$D152,[1]!MASTER_OWNER_DESC[#Data],0),0))","v":""},{"$f":"IF('Comm Device (Desc)'!F152=\"\",\"\",INDEX([1]ITS_COMM_DEV_TYPE!$A$2:$A$100,MATCH('Comm Device (Desc)'!$F152,[1]!MASTER_ITS_COMM_DEV_TYPE_DESC[#Data],0),0))","v":""},{"$f":"IF('Comm Device (Desc)'!G152=\"\",\"\",INDEX([1]COMM_TYPE!$A$2:$A$100,MATCH('Comm Device (Desc)'!$G152,[1]!MASTER_COMM_TYPE_DESC[#Data],0),0))","v":""},{"$f":"IF('Comm Device (Desc)'!H152=\"\",\"\",'Comm Device (Desc)'!H152)","v":""},{"$f":"IF('Comm Device (Desc)'!I152=\"\",\"\",'Comm Device (Desc)'!I152)","v":""},{"$f":"IF('Comm Device (Desc)'!J152=\"\",\"\",INDEX([1]ITS_COMM_DEV_MANUF!$A$2:$A$300,MATCH(1,([1]ITS_COMM_DEV_MANUF!$B$2:$B$300='Comm Device (Desc)'!$J152)*([1]ITS_COMM_DEV_MANUF!$C$2:$C$300='Comm Device (Code)'!$E152),0),0))","v":""},{"$f":"IF('Comm Device (Desc)'!K152=\"\",\"\",INDEX([1]ITS_COMM_DEV_MODEL!$A$2:$A$500,MATCH(1,([1]ITS_COMM_DEV_MODEL!$C$2:$C$500='Comm Device (Desc)'!$J152)*([1]ITS_COMM_DEV_MODEL!$D$2:$D$500='Comm Device (Code)'!$E152)*([1]ITS_COMM_DEV_MODEL!$E$2:$E$500='Comm Device (Desc)'!$K152),0),0))","v":""},{"$f":"IF('Comm Device (Desc)'!L152=\"\",\"\",'Comm Device (Desc)'!L152)","v":""},{"$f":"IF('Comm Device (Desc)'!M152=\"\",\"\",'Comm Device (Desc)'!M152)","v":""},{"$f":"IF('Comm Device (Desc)'!N152=\"\",\"\",'Comm Device (Desc)'!N152)","v":""},{"$f":"IF('Comm Device (Desc)'!O152=\"\",\"\",'Comm Device (Desc)'!O152)","v":""},{"$f":"IF('Comm Device (Desc)'!P152=\"\",\"\",INDEX([1]DEV_INPUT_VOLTAGE!$A$2:$A$100,MATCH('Comm Device (Desc)'!$P152,[1]!MASTER_DEV_INPUT_VOLTAGE_DESC[#Data],0),0))","v":""},{"$f":"IF('Comm Device (Desc)'!Q152=\"\",\"\",'Comm Device (Desc)'!Q152)","v":""},{"$f":"IF('Comm Device (Desc)'!R152=\"\",\"\",'Comm Device (Desc)'!R152)","v":""},{"$f":"IF('Comm Device (Desc)'!S152=\"\",\"\",'Comm Device (Desc)'!S152)","v":""},{"$f":"IF('Comm Device (Desc)'!T152=\"\",\"\",'Comm Device (Desc)'!T152)","v":""},{"$f":"IF('Comm Device (Desc)'!U152=\"\",\"\",'Comm Device (Desc)'!U152)","v":""},{"$f":"IF('Comm Device (Desc)'!V152=\"\",\"\",INDEX([1]FIBER_CONN_TYPE!$A$2:$A$100,MATCH('Comm Device (Desc)'!$V152,[1]!MASTER_FIBER_CONN_TYPE_DESC[#Data],0),0))","v":""}]
[{"$f":"IF('Comm Device (Desc)'!A153=\"\",\"\",'Comm Device (Desc)'!A153)","v":""},{"$f":"IF('Comm Device (Desc)'!C153=\"\",\"\",\"2029\")","v":""},{"$f":"IF('Comm Device (Desc)'!C153=\"\",\"\",'Comm Device (Desc)'!C153)","v":""},{"$f":"IF('Comm Device (Desc)'!D153=\"\",\"\",INDEX([1]OWNER!$A$2:$A$100,MATCH('Comm Device (Desc)'!$D153,[1]!MASTER_OWNER_DESC[#Data],0),0))","v":""},{"$f":"IF('Comm Device (Desc)'!F153=\"\",\"\",INDEX([1]ITS_COMM_DEV_TYPE!$A$2:$A$100,MATCH('Comm Device (Desc)'!$F153,[1]!MASTER_ITS_COMM_DEV_TYPE_DESC[#Data],0),0))","v":""},{"$f":"IF('Comm Device (Desc)'!G153=\"\",\"\",INDEX([1]COMM_TYPE!$A$2:$A$100,MATCH('Comm Device (Desc)'!$G153,[1]!MASTER_COMM_TYPE_DESC[#Data],0),0))","v":""},{"$f":"IF('Comm Device (Desc)'!H153=\"\",\"\",'Comm Device (Desc)'!H153)","v":""},{"$f":"IF('Comm Device (Desc)'!I153=\"\",\"\",'Comm Device (Desc)'!I153)","v":""},{"$f":"IF('Comm Device (Desc)'!J153=\"\",\"\",INDEX([1]ITS_COMM_DEV_MANUF!$A$2:$A$300,MATCH(1,([1]ITS_COMM_DEV_MANUF!$B$2:$B$300='Comm Device (Desc)'!$J153)*([1]ITS_COMM_DEV_MANUF!$C$2:$C$300='Comm Device (Code)'!$E153),0),0))","v":""},{"$f":"IF('Comm Device (Desc)'!K153=\"\",\"\",INDEX([1]ITS_COMM_DEV_MODEL!$A$2:$A$500,MATCH(1,([1]ITS_COMM_DEV_MODEL!$C$2:$C$500='Comm Device (Desc)'!$J153)*([1]ITS_COMM_DEV_MODEL!$D$2:$D$500='Comm Device (Code)'!$E153)*([1]ITS_COMM_DEV_MODEL!$E$2:$E$500='Comm Device (Desc)'!$K153),0),0))","v":""},{"$f":"IF('Comm Device (Desc)'!L153=\"\",\"\",'Comm Device (Desc)'!L153)","v":""},{"$f":"IF('Comm Device (Desc)'!M153=\"\",\"\",'Comm Device (Desc)'!M153)","v":""},{"$f":"IF('Comm Device (Desc)'!N153=\"\",\"\",'Comm Device (Desc)'!N153)","v":""},{"$f":"IF('Comm Device (Desc)'!O153=\"\",\"\",'Comm Device (Desc)'!O153)","v":""},{"$f":"IF('Comm Device (Desc)'!P153=\"\",\"\",INDEX([1]DEV_INPUT_VOLTAGE!$A$2:$A$100,MATCH('Comm Device (Desc)'!$P153,[1]!MASTER_DEV_INPUT_VOLTAGE_DESC[#Data],0),0))","v":""},{"$f":"IF('Comm Device (Desc)'!Q153=\"\",\"\",'Comm Device (Desc)'!Q153)","v":""},{"$f":"IF('Comm Device (Desc)'!R153=\"\",\"\",'Comm Device (Desc)'!R153)","v":""},{"$f":"IF('Comm Device (Desc)'!S153=\"\",\"\",'Comm Device (Desc)'!S153)","v":""},{"$f":"IF('Comm Device (Desc)'!T153=\"\",\"\",'Comm Device (Desc)'!T153)","v":""},{"$f":"IF('Comm Device (Desc)'!U153=\"\",\"\",'Comm Device (Desc)'!U153)","v":""},{"$f":"IF('Comm Device (Desc)'!V153=\"\",\"\",INDEX([1]FIBER_CONN_TYPE!$A$2:$A$100,MATCH('Comm Device (Desc)'!$V153,[1]!MASTER_FIBER_CONN_TYPE_DESC[#Data],0),0))","v":""}]
[{"$f":"IF('Comm Device (Desc)'!A154=\"\",\"\",'Comm Device (Desc)'!A154)","v":""},{"$f":"IF('Comm Device (Desc)'!C154=\"\",\"\",\"2029\")","v":""},{"$f":"IF('Comm Device (Desc)'!C154=\"\",\"\",'Comm Device (Desc)'!C154)","v":""},{"$f":"IF('Comm Device (Desc)'!D154=\"\",\"\",INDEX([1]OWNER!$A$2:$A$100,MATCH('Comm Device (Desc)'!$D154,[1]!MASTER_OWNER_DESC[#Data],0),0))","v":""},{"$f":"IF('Comm Device (Desc)'!F154=\"\",\"\",INDEX([1]ITS_COMM_DEV_TYPE!$A$2:$A$100,MATCH('Comm Device (Desc)'!$F154,[1]!MASTER_ITS_COMM_DEV_TYPE_DESC[#Data],0),0))","v":""},{"$f":"IF('Comm Device (Desc)'!G154=\"\",\"\",INDEX([1]COMM_TYPE!$A$2:$A$100,MATCH('Comm Device (Desc)'!$G154,[1]!MASTER_COMM_TYPE_DESC[#Data],0),0))","v":""},{"$f":"IF('Comm Device (Desc)'!H154=\"\",\"\",'Comm Device (Desc)'!H154)","v":""},{"$f":"IF('Comm Device (Desc)'!I154=\"\",\"\",'Comm Device (Desc)'!I154)","v":""},{"$f":"IF('Comm Device (Desc)'!J154=\"\",\"\",INDEX([1]ITS_COMM_DEV_MANUF!$A$2:$A$300,MATCH(1,([1]ITS_COMM_DEV_MANUF!$B$2:$B$300='Comm Device (Desc)'!$J154)*([1]ITS_COMM_DEV_MANUF!$C$2:$C$300='Comm Device (Code)'!$E154),0),0))","v":""},{"$f":"IF('Comm Device (Desc)'!K154=\"\",\"\",INDEX([1]ITS_COMM_DEV_MODEL!$A$2:$A$500,MATCH(1,([1]ITS_COMM_DEV_MODEL!$C$2:$C$500='Comm Device (Desc)'!$J154)*([1]ITS_COMM_DEV_MODEL!$D$2:$D$500='Comm Device (Code)'!$E154)*([1]ITS_COMM_DEV_MODEL!$E$2:$E$500='Comm Device (Desc)'!$K154),0),0))","v":""},{"$f":"IF('Comm Device (Desc)'!L154=\"\",\"\",'Comm Device (Desc)'!L154)","v":""},{"$f":"IF('Comm Device (Desc)'!M154=\"\",\"\",'Comm Device (Desc)'!M154)","v":""},{"$f":"IF('Comm Device (Desc)'!N154=\"\",\"\",'Comm Device (Desc)'!N154)","v":""},{"$f":"IF('Comm Device (Desc)'!O154=\"\",\"\",'Comm Device (Desc)'!O154)","v":""},{"$f":"IF('Comm Device (Desc)'!P154=\"\",\"\",INDEX([1]DEV_INPUT_VOLTAGE!$A$2:$A$100,MATCH('Comm Device (Desc)'!$P154,[1]!MASTER_DEV_INPUT_VOLTAGE_DESC[#Data],0),0))","v":""},{"$f":"IF('Comm Device (Desc)'!Q154=\"\",\"\",'Comm Device (Desc)'!Q154)","v":""},{"$f":"IF('Comm Device (Desc)'!R154=\"\",\"\",'Comm Device (Desc)'!R154)","v":""},{"$f":"IF('Comm Device (Desc)'!S154=\"\",\"\",'Comm Device (Desc)'!S154)","v":""},{"$f":"IF('Comm Device (Desc)'!T154=\"\",\"\",'Comm Device (Desc)'!T154)","v":""},{"$f":"IF('Comm Device (Desc)'!U154=\"\",\"\",'Comm Device (Desc)'!U154)","v":""},{"$f":"IF('Comm Device (Desc)'!V154=\"\",\"\",INDEX([1]FIBER_CONN_TYPE!$A$2:$A$100,MATCH('Comm Device (Desc)'!$V154,[1]!MASTER_FIBER_CONN_TYPE_DESC[#Data],0),0))","v":""}]
[{"$f":"IF('Comm Device (Desc)'!A155=\"\",\"\",'Comm Device (Desc)'!A155)","v":""},{"$f":"IF('Comm Device (Desc)'!C155=\"\",\"\",\"2029\")","v":""},{"$f":"IF('Comm Device (Desc)'!C155=\"\",\"\",'Comm Device (Desc)'!C155)","v":""},{"$f":"IF('Comm Device (Desc)'!D155=\"\",\"\",INDEX([1]OWNER!$A$2:$A$100,MATCH('Comm Device (Desc)'!$D155,[1]!MASTER_OWNER_DESC[#Data],0),0))","v":""},{"$f":"IF('Comm Device (Desc)'!F155=\"\",\"\",INDEX([1]ITS_COMM_DEV_TYPE!$A$2:$A$100,MATCH('Comm Device (Desc)'!$F155,[1]!MASTER_ITS_COMM_DEV_TYPE_DESC[#Data],0),0))","v":""},{"$f":"IF('Comm Device (Desc)'!G155=\"\",\"\",INDEX([1]COMM_TYPE!$A$2:$A$100,MATCH('Comm Device (Desc)'!$G155,[1]!MASTER_COMM_TYPE_DESC[#Data],0),0))","v":""},{"$f":"IF('Comm Device (Desc)'!H155=\"\",\"\",'Comm Device (Desc)'!H155)","v":""},{"$f":"IF('Comm Device (Desc)'!I155=\"\",\"\",'Comm Device (Desc)'!I155)","v":""},{"$f":"IF('Comm Device (Desc)'!J155=\"\",\"\",INDEX([1]ITS_COMM_DEV_MANUF!$A$2:$A$300,MATCH(1,([1]ITS_COMM_DEV_MANUF!$B$2:$B$300='Comm Device (Desc)'!$J155)*([1]ITS_COMM_DEV_MANUF!$C$2:$C$300='Comm Device (Code)'!$E155),0),0))","v":""},{"$f":"IF('Comm Device (Desc)'!K155=\"\",\"\",INDEX([1]ITS_COMM_DEV_MODEL!$A$2:$A$500,MATCH(1,([1]ITS_COMM_DEV_MODEL!$C$2:$C$500='Comm Device (Desc)'!$J155)*([1]ITS_COMM_DEV_MODEL!$D$2:$D$500='Comm Device (Code)'!$E155)*([1]ITS_COMM_DEV_MODEL!$E$2:$E$500='Comm Device (Desc)'!$K155),0),0))","v":""},{"$f":"IF('Comm Device (Desc)'!L155=\"\",\"\",'Comm Device (Desc)'!L155)","v":""},{"$f":"IF('Comm Device (Desc)'!M155=\"\",\"\",'Comm Device (Desc)'!M155)","v":""},{"$f":"IF('Comm Device (Desc)'!N155=\"\",\"\",'Comm Device (Desc)'!N155)","v":""},{"$f":"IF('Comm Device (Desc)'!O155=\"\",\"\",'Comm Device (Desc)'!O155)","v":""},{"$f":"IF('Comm Device (Desc)'!P155=\"\",\"\",INDEX([1]DEV_INPUT_VOLTAGE!$A$2:$A$100,MATCH('Comm Device (Desc)'!$P155,[1]!MASTER_DEV_INPUT_VOLTAGE_DESC[#Data],0),0))","v":""},{"$f":"IF('Comm Device (Desc)'!Q155=\"\",\"\",'Comm Device (Desc)'!Q155)","v":""},{"$f":"IF('Comm Device (Desc)'!R155=\"\",\"\",'Comm Device (Desc)'!R155)","v":""},{"$f":"IF('Comm Device (Desc)'!S155=\"\",\"\",'Comm Device (Desc)'!S155)","v":""},{"$f":"IF('Comm Device (Desc)'!T155=\"\",\"\",'Comm Device (Desc)'!T155)","v":""},{"$f":"IF('Comm Device (Desc)'!U155=\"\",\"\",'Comm Device (Desc)'!U155)","v":""},{"$f":"IF('Comm Device (Desc)'!V155=\"\",\"\",INDEX([1]FIBER_CONN_TYPE!$A$2:$A$100,MATCH('Comm Device (Desc)'!$V155,[1]!MASTER_FIBER_CONN_TYPE_DESC[#Data],0),0))","v":""}]
[{"$f":"IF('Comm Device (Desc)'!A156=\"\",\"\",'Comm Device (Desc)'!A156)","v":""},{"$f":"IF('Comm Device (Desc)'!C156=\"\",\"\",\"2029\")","v":""},{"$f":"IF('Comm Device (Desc)'!C156=\"\",\"\",'Comm Device (Desc)'!C156)","v":""},{"$f":"IF('Comm Device (Desc)'!D156=\"\",\"\",INDEX([1]OWNER!$A$2:$A$100,MATCH('Comm Device (Desc)'!$D156,[1]!MASTER_OWNER_DESC[#Data],0),0))","v":""},{"$f":"IF('Comm Device (Desc)'!F156=\"\",\"\",INDEX([1]ITS_COMM_DEV_TYPE!$A$2:$A$100,MATCH('Comm Device (Desc)'!$F156,[1]!MASTER_ITS_COMM_DEV_TYPE_DESC[#Data],0),0))","v":""},{"$f":"IF('Comm Device (Desc)'!G156=\"\",\"\",INDEX([1]COMM_TYPE!$A$2:$A$100,MATCH('Comm Device (Desc)'!$G156,[1]!MASTER_COMM_TYPE_DESC[#Data],0),0))","v":""},{"$f":"IF('Comm Device (Desc)'!H156=\"\",\"\",'Comm Device (Desc)'!H156)","v":""},{"$f":"IF('Comm Device (Desc)'!I156=\"\",\"\",'Comm Device (Desc)'!I156)","v":""},{"$f":"IF('Comm Device (Desc)'!J156=\"\",\"\",INDEX([1]ITS_COMM_DEV_MANUF!$A$2:$A$300,MATCH(1,([1]ITS_COMM_DEV_MANUF!$B$2:$B$300='Comm Device (Desc)'!$J156)*([1]ITS_COMM_DEV_MANUF!$C$2:$C$300='Comm Device (Code)'!$E156),0),0))","v":""},{"$f":"IF('Comm Device (Desc)'!K156=\"\",\"\",INDEX([1]ITS_COMM_DEV_MODEL!$A$2:$A$500,MATCH(1,([1]ITS_COMM_DEV_MODEL!$C$2:$C$500='Comm Device (Desc)'!$J156)*([1]ITS_COMM_DEV_MODEL!$D$2:$D$500='Comm Device (Code)'!$E156)*([1]ITS_COMM_DEV_MODEL!$E$2:$E$500='Comm Device (Desc)'!$K156),0),0))","v":""},{"$f":"IF('Comm Device (Desc)'!L156=\"\",\"\",'Comm Device (Desc)'!L156)","v":""},{"$f":"IF('Comm Device (Desc)'!M156=\"\",\"\",'Comm Device (Desc)'!M156)","v":""},{"$f":"IF('Comm Device (Desc)'!N156=\"\",\"\",'Comm Device (Desc)'!N156)","v":""},{"$f":"IF('Comm Device (Desc)'!O156=\"\",\"\",'Comm Device (Desc)'!O156)","v":""},{"$f":"IF('Comm Device (Desc)'!P156=\"\",\"\",INDEX([1]DEV_INPUT_VOLTAGE!$A$2:$A$100,MATCH('Comm Device (Desc)'!$P156,[1]!MASTER_DEV_INPUT_VOLTAGE_DESC[#Data],0),0))","v":""},{"$f":"IF('Comm Device (Desc)'!Q156=\"\",\"\",'Comm Device (Desc)'!Q156)","v":""},{"$f":"IF('Comm Device (Desc)'!R156=\"\",\"\",'Comm Device (Desc)'!R156)","v":""},{"$f":"IF('Comm Device (Desc)'!S156=\"\",\"\",'Comm Device (Desc)'!S156)","v":""},{"$f":"IF('Comm Device (Desc)'!T156=\"\",\"\",'Comm Device (Desc)'!T156)","v":""},{"$f":"IF('Comm Device (Desc)'!U156=\"\",\"\",'Comm Device (Desc)'!U156)","v":""},{"$f":"IF('Comm Device (Desc)'!V156=\"\",\"\",INDEX([1]FIBER_CONN_TYPE!$A$2:$A$100,MATCH('Comm Device (Desc)'!$V156,[1]!MASTER_FIBER_CONN_TYPE_DESC[#Data],0),0))","v":""}]
[{"$f":"IF('Comm Device (Desc)'!A157=\"\",\"\",'Comm Device (Desc)'!A157)","v":""},{"$f":"IF('Comm Device (Desc)'!C157=\"\",\"\",\"2029\")","v":""},{"$f":"IF('Comm Device (Desc)'!C157=\"\",\"\",'Comm Device (Desc)'!C157)","v":""},{"$f":"IF('Comm Device (Desc)'!D157=\"\",\"\",INDEX([1]OWNER!$A$2:$A$100,MATCH('Comm Device (Desc)'!$D157,[1]!MASTER_OWNER_DESC[#Data],0),0))","v":""},{"$f":"IF('Comm Device (Desc)'!F157=\"\",\"\",INDEX([1]ITS_COMM_DEV_TYPE!$A$2:$A$100,MATCH('Comm Device (Desc)'!$F157,[1]!MASTER_ITS_COMM_DEV_TYPE_DESC[#Data],0),0))","v":""},{"$f":"IF('Comm Device (Desc)'!G157=\"\",\"\",INDEX([1]COMM_TYPE!$A$2:$A$100,MATCH('Comm Device (Desc)'!$G157,[1]!MASTER_COMM_TYPE_DESC[#Data],0),0))","v":""},{"$f":"IF('Comm Device (Desc)'!H157=\"\",\"\",'Comm Device (Desc)'!H157)","v":""},{"$f":"IF('Comm Device (Desc)'!I157=\"\",\"\",'Comm Device (Desc)'!I157)","v":""},{"$f":"IF('Comm Device (Desc)'!J157=\"\",\"\",INDEX([1]ITS_COMM_DEV_MANUF!$A$2:$A$300,MATCH(1,([1]ITS_COMM_DEV_MANUF!$B$2:$B$300='Comm Device (Desc)'!$J157)*([1]ITS_COMM_DEV_MANUF!$C$2:$C$300='Comm Device (Code)'!$E157),0),0))","v":""},{"$f":"IF('Comm Device (Desc)'!K157=\"\",\"\",INDEX([1]ITS_COMM_DEV_MODEL!$A$2:$A$500,MATCH(1,([1]ITS_COMM_DEV_MODEL!$C$2:$C$500='Comm Device (Desc)'!$J157)*([1]ITS_COMM_DEV_MODEL!$D$2:$D$500='Comm Device (Code)'!$E157)*([1]ITS_COMM_DEV_MODEL!$E$2:$E$500='Comm Device (Desc)'!$K157),0),0))","v":""},{"$f":"IF('Comm Device (Desc)'!L157=\"\",\"\",'Comm Device (Desc)'!L157)","v":""},{"$f":"IF('Comm Device (Desc)'!M157=\"\",\"\",'Comm Device (Desc)'!M157)","v":""},{"$f":"IF('Comm Device (Desc)'!N157=\"\",\"\",'Comm Device (Desc)'!N157)","v":""},{"$f":"IF('Comm Device (Desc)'!O157=\"\",\"\",'Comm Device (Desc)'!O157)","v":""},{"$f":"IF('Comm Device (Desc)'!P157=\"\",\"\",INDEX([1]DEV_INPUT_VOLTAGE!$A$2:$A$100,MATCH('Comm Device (Desc)'!$P157,[1]!MASTER_DEV_INPUT_VOLTAGE_DESC[#Data],0),0))","v":""},{"$f":"IF('Comm Device (Desc)'!Q157=\"\",\"\",'Comm Device (Desc)'!Q157)","v":""},{"$f":"IF('Comm Device (Desc)'!R157=\"\",\"\",'Comm Device (Desc)'!R157)","v":""},{"$f":"IF('Comm Device (Desc)'!S157=\"\",\"\",'Comm Device (Desc)'!S157)","v":""},{"$f":"IF('Comm Device (Desc)'!T157=\"\",\"\",'Comm Device (Desc)'!T157)","v":""},{"$f":"IF('Comm Device (Desc)'!U157=\"\",\"\",'Comm Device (Desc)'!U157)","v":""},{"$f":"IF('Comm Device (Desc)'!V157=\"\",\"\",INDEX([1]FIBER_CONN_TYPE!$A$2:$A$100,MATCH('Comm Device (Desc)'!$V157,[1]!MASTER_FIBER_CONN_TYPE_DESC[#Data],0),0))","v":""}]
[{"$f":"IF('Comm Device (Desc)'!A158=\"\",\"\",'Comm Device (Desc)'!A158)","v":""},{"$f":"IF('Comm Device (Desc)'!C158=\"\",\"\",\"2029\")","v":""},{"$f":"IF('Comm Device (Desc)'!C158=\"\",\"\",'Comm Device (Desc)'!C158)","v":""},{"$f":"IF('Comm Device (Desc)'!D158=\"\",\"\",INDEX([1]OWNER!$A$2:$A$100,MATCH('Comm Device (Desc)'!$D158,[1]!MASTER_OWNER_DESC[#Data],0),0))","v":""},{"$f":"IF('Comm Device (Desc)'!F158=\"\",\"\",INDEX([1]ITS_COMM_DEV_TYPE!$A$2:$A$100,MATCH('Comm Device (Desc)'!$F158,[1]!MASTER_ITS_COMM_DEV_TYPE_DESC[#Data],0),0))","v":""},{"$f":"IF('Comm Device (Desc)'!G158=\"\",\"\",INDEX([1]COMM_TYPE!$A$2:$A$100,MATCH('Comm Device (Desc)'!$G158,[1]!MASTER_COMM_TYPE_DESC[#Data],0),0))","v":""},{"$f":"IF('Comm Device (Desc)'!H158=\"\",\"\",'Comm Device (Desc)'!H158)","v":""},{"$f":"IF('Comm Device (Desc)'!I158=\"\",\"\",'Comm Device (Desc)'!I158)","v":""},{"$f":"IF('Comm Device (Desc)'!J158=\"\",\"\",INDEX([1]ITS_COMM_DEV_MANUF!$A$2:$A$300,MATCH(1,([1]ITS_COMM_DEV_MANUF!$B$2:$B$300='Comm Device (Desc)'!$J158)*([1]ITS_COMM_DEV_MANUF!$C$2:$C$300='Comm Device (Code)'!$E158),0),0))","v":""},{"$f":"IF('Comm Device (Desc)'!K158=\"\",\"\",INDEX([1]ITS_COMM_DEV_MODEL!$A$2:$A$500,MATCH(1,([1]ITS_COMM_DEV_MODEL!$C$2:$C$500='Comm Device (Desc)'!$J158)*([1]ITS_COMM_DEV_MODEL!$D$2:$D$500='Comm Device (Code)'!$E158)*([1]ITS_COMM_DEV_MODEL!$E$2:$E$500='Comm Device (Desc)'!$K158),0),0))","v":""},{"$f":"IF('Comm Device (Desc)'!L158=\"\",\"\",'Comm Device (Desc)'!L158)","v":""},{"$f":"IF('Comm Device (Desc)'!M158=\"\",\"\",'Comm Device (Desc)'!M158)","v":""},{"$f":"IF('Comm Device (Desc)'!N158=\"\",\"\",'Comm Device (Desc)'!N158)","v":""},{"$f":"IF('Comm Device (Desc)'!O158=\"\",\"\",'Comm Device (Desc)'!O158)","v":""},{"$f":"IF('Comm Device (Desc)'!P158=\"\",\"\",INDEX([1]DEV_INPUT_VOLTAGE!$A$2:$A$100,MATCH('Comm Device (Desc)'!$P158,[1]!MASTER_DEV_INPUT_VOLTAGE_DESC[#Data],0),0))","v":""},{"$f":"IF('Comm Device (Desc)'!Q158=\"\",\"\",'Comm Device (Desc)'!Q158)","v":""},{"$f":"IF('Comm Device (Desc)'!R158=\"\",\"\",'Comm Device (Desc)'!R158)","v":""},{"$f":"IF('Comm Device (Desc)'!S158=\"\",\"\",'Comm Device (Desc)'!S158)","v":""},{"$f":"IF('Comm Device (Desc)'!T158=\"\",\"\",'Comm Device (Desc)'!T158)","v":""},{"$f":"IF('Comm Device (Desc)'!U158=\"\",\"\",'Comm Device (Desc)'!U158)","v":""},{"$f":"IF('Comm Device (Desc)'!V158=\"\",\"\",INDEX([1]FIBER_CONN_TYPE!$A$2:$A$100,MATCH('Comm Device (Desc)'!$V158,[1]!MASTER_FIBER_CONN_TYPE_DESC[#Data],0),0))","v":""}]
[{"$f":"IF('Comm Device (Desc)'!A159=\"\",\"\",'Comm Device (Desc)'!A159)","v":""},{"$f":"IF('Comm Device (Desc)'!C159=\"\",\"\",\"2029\")","v":""},{"$f":"IF('Comm Device (Desc)'!C159=\"\",\"\",'Comm Device (Desc)'!C159)","v":""},{"$f":"IF('Comm Device (Desc)'!D159=\"\",\"\",INDEX([1]OWNER!$A$2:$A$100,MATCH('Comm Device (Desc)'!$D159,[1]!MASTER_OWNER_DESC[#Data],0),0))","v":""},{"$f":"IF('Comm Device (Desc)'!F159=\"\",\"\",INDEX([1]ITS_COMM_DEV_TYPE!$A$2:$A$100,MATCH('Comm Device (Desc)'!$F159,[1]!MASTER_ITS_COMM_DEV_TYPE_DESC[#Data],0),0))","v":""},{"$f":"IF('Comm Device (Desc)'!G159=\"\",\"\",INDEX([1]COMM_TYPE!$A$2:$A$100,MATCH('Comm Device (Desc)'!$G159,[1]!MASTER_COMM_TYPE_DESC[#Data],0),0))","v":""},{"$f":"IF('Comm Device (Desc)'!H159=\"\",\"\",'Comm Device (Desc)'!H159)","v":""},{"$f":"IF('Comm Device (Desc)'!I159=\"\",\"\",'Comm Device (Desc)'!I159)","v":""},{"$f":"IF('Comm Device (Desc)'!J159=\"\",\"\",INDEX([1]ITS_COMM_DEV_MANUF!$A$2:$A$300,MATCH(1,([1]ITS_COMM_DEV_MANUF!$B$2:$B$300='Comm Device (Desc)'!$J159)*([1]ITS_COMM_DEV_MANUF!$C$2:$C$300='Comm Device (Code)'!$E159),0),0))","v":""},{"$f":"IF('Comm Device (Desc)'!K159=\"\",\"\",INDEX([1]ITS_COMM_DEV_MODEL!$A$2:$A$500,MATCH(1,([1]ITS_COMM_DEV_MODEL!$C$2:$C$500='Comm Device (Desc)'!$J159)*([1]ITS_COMM_DEV_MODEL!$D$2:$D$500='Comm Device (Code)'!$E159)*([1]ITS_COMM_DEV_MODEL!$E$2:$E$500='Comm Device (Desc)'!$K159),0),0))","v":""},{"$f":"IF('Comm Device (Desc)'!L159=\"\",\"\",'Comm Device (Desc)'!L159)","v":""},{"$f":"IF('Comm Device (Desc)'!M159=\"\",\"\",'Comm Device (Desc)'!M159)","v":""},{"$f":"IF('Comm Device (Desc)'!N159=\"\",\"\",'Comm Device (Desc)'!N159)","v":""},{"$f":"IF('Comm Device (Desc)'!O159=\"\",\"\",'Comm Device (Desc)'!O159)","v":""},{"$f":"IF('Comm Device (Desc)'!P159=\"\",\"\",INDEX([1]DEV_INPUT_VOLTAGE!$A$2:$A$100,MATCH('Comm Device (Desc)'!$P159,[1]!MASTER_DEV_INPUT_VOLTAGE_DESC[#Data],0),0))","v":""},{"$f":"IF('Comm Device (Desc)'!Q159=\"\",\"\",'Comm Device (Desc)'!Q159)","v":""},{"$f":"IF('Comm Device (Desc)'!R159=\"\",\"\",'Comm Device (Desc)'!R159)","v":""},{"$f":"IF('Comm Device (Desc)'!S159=\"\",\"\",'Comm Device (Desc)'!S159)","v":""},{"$f":"IF('Comm Device (Desc)'!T159=\"\",\"\",'Comm Device (Desc)'!T159)","v":""},{"$f":"IF('Comm Device (Desc)'!U159=\"\",\"\",'Comm Device (Desc)'!U159)","v":""},{"$f":"IF('Comm Device (Desc)'!V159=\"\",\"\",INDEX([1]FIBER_CONN_TYPE!$A$2:$A$100,MATCH('Comm Device (Desc)'!$V159,[1]!MASTER_FIBER_CONN_TYPE_DESC[#Data],0),0))","v":""}]
[{"$f":"IF('Comm Device (Desc)'!A160=\"\",\"\",'Comm Device (Desc)'!A160)","v":""},{"$f":"IF('Comm Device (Desc)'!C160=\"\",\"\",\"2029\")","v":""},{"$f":"IF('Comm Device (Desc)'!C160=\"\",\"\",'Comm Device (Desc)'!C160)","v":""},{"$f":"IF('Comm Device (Desc)'!D160=\"\",\"\",INDEX([1]OWNER!$A$2:$A$100,MATCH('Comm Device (Desc)'!$D160,[1]!MASTER_OWNER_DESC[#Data],0),0))","v":""},{"$f":"IF('Comm Device (Desc)'!F160=\"\",\"\",INDEX([1]ITS_COMM_DEV_TYPE!$A$2:$A$100,MATCH('Comm Device (Desc)'!$F160,[1]!MASTER_ITS_COMM_DEV_TYPE_DESC[#Data],0),0))","v":""},{"$f":"IF('Comm Device (Desc)'!G160=\"\",\"\",INDEX([1]COMM_TYPE!$A$2:$A$100,MATCH('Comm Device (Desc)'!$G160,[1]!MASTER_COMM_TYPE_DESC[#Data],0),0))","v":""},{"$f":"IF('Comm Device (Desc)'!H160=\"\",\"\",'Comm Device (Desc)'!H160)","v":""},{"$f":"IF('Comm Device (Desc)'!I160=\"\",\"\",'Comm Device (Desc)'!I160)","v":""},{"$f":"IF('Comm Device (Desc)'!J160=\"\",\"\",INDEX([1]ITS_COMM_DEV_MANUF!$A$2:$A$300,MATCH(1,([1]ITS_COMM_DEV_MANUF!$B$2:$B$300='Comm Device (Desc)'!$J160)*([1]ITS_COMM_DEV_MANUF!$C$2:$C$300='Comm Device (Code)'!$E160),0),0))","v":""},{"$f":"IF('Comm Device (Desc)'!K160=\"\",\"\",INDEX([1]ITS_COMM_DEV_MODEL!$A$2:$A$500,MATCH(1,([1]ITS_COMM_DEV_MODEL!$C$2:$C$500='Comm Device (Desc)'!$J160)*([1]ITS_COMM_DEV_MODEL!$D$2:$D$500='Comm Device (Code)'!$E160)*([1]ITS_COMM_DEV_MODEL!$E$2:$E$500='Comm Device (Desc)'!$K160),0),0))","v":""},{"$f":"IF('Comm Device (Desc)'!L160=\"\",\"\",'Comm Device (Desc)'!L160)","v":""},{"$f":"IF('Comm Device (Desc)'!M160=\"\",\"\",'Comm Device (Desc)'!M160)","v":""},{"$f":"IF('Comm Device (Desc)'!N160=\"\",\"\",'Comm Device (Desc)'!N160)","v":""},{"$f":"IF('Comm Device (Desc)'!O160=\"\",\"\",'Comm Device (Desc)'!O160)","v":""},{"$f":"IF('Comm Device (Desc)'!P160=\"\",\"\",INDEX([1]DEV_INPUT_VOLTAGE!$A$2:$A$100,MATCH('Comm Device (Desc)'!$P160,[1]!MASTER_DEV_INPUT_VOLTAGE_DESC[#Data],0),0))","v":""},{"$f":"IF('Comm Device (Desc)'!Q160=\"\",\"\",'Comm Device (Desc)'!Q160)","v":""},{"$f":"IF('Comm Device (Desc)'!R160=\"\",\"\",'Comm Device (Desc)'!R160)","v":""},{"$f":"IF('Comm Device (Desc)'!S160=\"\",\"\",'Comm Device (Desc)'!S160)","v":""},{"$f":"IF('Comm Device (Desc)'!T160=\"\",\"\",'Comm Device (Desc)'!T160)","v":""},{"$f":"IF('Comm Device (Desc)'!U160=\"\",\"\",'Comm Device (Desc)'!U160)","v":""},{"$f":"IF('Comm Device (Desc)'!V160=\"\",\"\",INDEX([1]FIBER_CONN_TYPE!$A$2:$A$100,MATCH('Comm Device (Desc)'!$V160,[1]!MASTER_FIBER_CONN_TYPE_DESC[#Data],0),0))","v":""}]
[{"$f":"IF('Comm Device (Desc)'!A161=\"\",\"\",'Comm Device (Desc)'!A161)","v":""},{"$f":"IF('Comm Device (Desc)'!C161=\"\",\"\",\"2029\")","v":""},{"$f":"IF('Comm Device (Desc)'!C161=\"\",\"\",'Comm Device (Desc)'!C161)","v":""},{"$f":"IF('Comm Device (Desc)'!D161=\"\",\"\",INDEX([1]OWNER!$A$2:$A$100,MATCH('Comm Device (Desc)'!$D161,[1]!MASTER_OWNER_DESC[#Data],0),0))","v":""},{"$f":"IF('Comm Device (Desc)'!F161=\"\",\"\",INDEX([1]ITS_COMM_DEV_TYPE!$A$2:$A$100,MATCH('Comm Device (Desc)'!$F161,[1]!MASTER_ITS_COMM_DEV_TYPE_DESC[#Data],0),0))","v":""},{"$f":"IF('Comm Device (Desc)'!G161=\"\",\"\",INDEX([1]COMM_TYPE!$A$2:$A$100,MATCH('Comm Device (Desc)'!$G161,[1]!MASTER_COMM_TYPE_DESC[#Data],0),0))","v":""},{"$f":"IF('Comm Device (Desc)'!H161=\"\",\"\",'Comm Device (Desc)'!H161)","v":""},{"$f":"IF('Comm Device (Desc)'!I161=\"\",\"\",'Comm Device (Desc)'!I161)","v":""},{"$f":"IF('Comm Device (Desc)'!J161=\"\",\"\",INDEX([1]ITS_COMM_DEV_MANUF!$A$2:$A$300,MATCH(1,([1]ITS_COMM_DEV_MANUF!$B$2:$B$300='Comm Device (Desc)'!$J161)*([1]ITS_COMM_DEV_MANUF!$C$2:$C$300='Comm Device (Code)'!$E161),0),0))","v":""},{"$f":"IF('Comm Device (Desc)'!K161=\"\",\"\",INDEX([1]ITS_COMM_DEV_MODEL!$A$2:$A$500,MATCH(1,([1]ITS_COMM_DEV_MODEL!$C$2:$C$500='Comm Device (Desc)'!$J161)*([1]ITS_COMM_DEV_MODEL!$D$2:$D$500='Comm Device (Code)'!$E161)*([1]ITS_COMM_DEV_MODEL!$E$2:$E$500='Comm Device (Desc)'!$K161),0),0))","v":""},{"$f":"IF('Comm Device (Desc)'!L161=\"\",\"\",'Comm Device (Desc)'!L161)","v":""},{"$f":"IF('Comm Device (Desc)'!M161=\"\",\"\",'Comm Device (Desc)'!M161)","v":""},{"$f":"IF('Comm Device (Desc)'!N161=\"\",\"\",'Comm Device (Desc)'!N161)","v":""},{"$f":"IF('Comm Device (Desc)'!O161=\"\",\"\",'Comm Device (Desc)'!O161)","v":""},{"$f":"IF('Comm Device (Desc)'!P161=\"\",\"\",INDEX([1]DEV_INPUT_VOLTAGE!$A$2:$A$100,MATCH('Comm Device (Desc)'!$P161,[1]!MASTER_DEV_INPUT_VOLTAGE_DESC[#Data],0),0))","v":""},{"$f":"IF('Comm Device (Desc)'!Q161=\"\",\"\",'Comm Device (Desc)'!Q161)","v":""},{"$f":"IF('Comm Device (Desc)'!R161=\"\",\"\",'Comm Device (Desc)'!R161)","v":""},{"$f":"IF('Comm Device (Desc)'!S161=\"\",\"\",'Comm Device (Desc)'!S161)","v":""},{"$f":"IF('Comm Device (Desc)'!T161=\"\",\"\",'Comm Device (Desc)'!T161)","v":""},{"$f":"IF('Comm Device (Desc)'!U161=\"\",\"\",'Comm Device (Desc)'!U161)","v":""},{"$f":"IF('Comm Device (Desc)'!V161=\"\",\"\",INDEX([1]FIBER_CONN_TYPE!$A$2:$A$100,MATCH('Comm Device (Desc)'!$V161,[1]!MASTER_FIBER_CONN_TYPE_DESC[#Data],0),0))","v":""}]
[{"$f":"IF('Comm Device (Desc)'!A162=\"\",\"\",'Comm Device (Desc)'!A162)","v":""},{"$f":"IF('Comm Device (Desc)'!C162=\"\",\"\",\"2029\")","v":""},{"$f":"IF('Comm Device (Desc)'!C162=\"\",\"\",'Comm Device (Desc)'!C162)","v":""},{"$f":"IF('Comm Device (Desc)'!D162=\"\",\"\",INDEX([1]OWNER!$A$2:$A$100,MATCH('Comm Device (Desc)'!$D162,[1]!MASTER_OWNER_DESC[#Data],0),0))","v":""},{"$f":"IF('Comm Device (Desc)'!F162=\"\",\"\",INDEX([1]ITS_COMM_DEV_TYPE!$A$2:$A$100,MATCH('Comm Device (Desc)'!$F162,[1]!MASTER_ITS_COMM_DEV_TYPE_DESC[#Data],0),0))","v":""},{"$f":"IF('Comm Device (Desc)'!G162=\"\",\"\",INDEX([1]COMM_TYPE!$A$2:$A$100,MATCH('Comm Device (Desc)'!$G162,[1]!MASTER_COMM_TYPE_DESC[#Data],0),0))","v":""},{"$f":"IF('Comm Device (Desc)'!H162=\"\",\"\",'Comm Device (Desc)'!H162)","v":""},{"$f":"IF('Comm Device (Desc)'!I162=\"\",\"\",'Comm Device (Desc)'!I162)","v":""},{"$f":"IF('Comm Device (Desc)'!J162=\"\",\"\",INDEX([1]ITS_COMM_DEV_MANUF!$A$2:$A$300,MATCH(1,([1]ITS_COMM_DEV_MANUF!$B$2:$B$300='Comm Device (Desc)'!$J162)*([1]ITS_COMM_DEV_MANUF!$C$2:$C$300='Comm Device (Code)'!$E162),0),0))","v":""},{"$f":"IF('Comm Device (Desc)'!K162=\"\",\"\",INDEX([1]ITS_COMM_DEV_MODEL!$A$2:$A$500,MATCH(1,([1]ITS_COMM_DEV_MODEL!$C$2:$C$500='Comm Device (Desc)'!$J162)*([1]ITS_COMM_DEV_MODEL!$D$2:$D$500='Comm Device (Code)'!$E162)*([1]ITS_COMM_DEV_MODEL!$E$2:$E$500='Comm Device (Desc)'!$K162),0),0))","v":""},{"$f":"IF('Comm Device (Desc)'!L162=\"\",\"\",'Comm Device (Desc)'!L162)","v":""},{"$f":"IF('Comm Device (Desc)'!M162=\"\",\"\",'Comm Device (Desc)'!M162)","v":""},{"$f":"IF('Comm Device (Desc)'!N162=\"\",\"\",'Comm Device (Desc)'!N162)","v":""},{"$f":"IF('Comm Device (Desc)'!O162=\"\",\"\",'Comm Device (Desc)'!O162)","v":""},{"$f":"IF('Comm Device (Desc)'!P162=\"\",\"\",INDEX([1]DEV_INPUT_VOLTAGE!$A$2:$A$100,MATCH('Comm Device (Desc)'!$P162,[1]!MASTER_DEV_INPUT_VOLTAGE_DESC[#Data],0),0))","v":""},{"$f":"IF('Comm Device (Desc)'!Q162=\"\",\"\",'Comm Device (Desc)'!Q162)","v":""},{"$f":"IF('Comm Device (Desc)'!R162=\"\",\"\",'Comm Device (Desc)'!R162)","v":""},{"$f":"IF('Comm Device (Desc)'!S162=\"\",\"\",'Comm Device (Desc)'!S162)","v":""},{"$f":"IF('Comm Device (Desc)'!T162=\"\",\"\",'Comm Device (Desc)'!T162)","v":""},{"$f":"IF('Comm Device (Desc)'!U162=\"\",\"\",'Comm Device (Desc)'!U162)","v":""},{"$f":"IF('Comm Device (Desc)'!V162=\"\",\"\",INDEX([1]FIBER_CONN_TYPE!$A$2:$A$100,MATCH('Comm Device (Desc)'!$V162,[1]!MASTER_FIBER_CONN_TYPE_DESC[#Data],0),0))","v":""}]
[{"$f":"IF('Comm Device (Desc)'!A163=\"\",\"\",'Comm Device (Desc)'!A163)","v":""},{"$f":"IF('Comm Device (Desc)'!C163=\"\",\"\",\"2029\")","v":""},{"$f":"IF('Comm Device (Desc)'!C163=\"\",\"\",'Comm Device (Desc)'!C163)","v":""},{"$f":"IF('Comm Device (Desc)'!D163=\"\",\"\",INDEX([1]OWNER!$A$2:$A$100,MATCH('Comm Device (Desc)'!$D163,[1]!MASTER_OWNER_DESC[#Data],0),0))","v":""},{"$f":"IF('Comm Device (Desc)'!F163=\"\",\"\",INDEX([1]ITS_COMM_DEV_TYPE!$A$2:$A$100,MATCH('Comm Device (Desc)'!$F163,[1]!MASTER_ITS_COMM_DEV_TYPE_DESC[#Data],0),0))","v":""},{"$f":"IF('Comm Device (Desc)'!G163=\"\",\"\",INDEX([1]COMM_TYPE!$A$2:$A$100,MATCH('Comm Device (Desc)'!$G163,[1]!MASTER_COMM_TYPE_DESC[#Data],0),0))","v":""},{"$f":"IF('Comm Device (Desc)'!H163=\"\",\"\",'Comm Device (Desc)'!H163)","v":""},{"$f":"IF('Comm Device (Desc)'!I163=\"\",\"\",'Comm Device (Desc)'!I163)","v":""},{"$f":"IF('Comm Device (Desc)'!J163=\"\",\"\",INDEX([1]ITS_COMM_DEV_MANUF!$A$2:$A$300,MATCH(1,([1]ITS_COMM_DEV_MANUF!$B$2:$B$300='Comm Device (Desc)'!$J163)*([1]ITS_COMM_DEV_MANUF!$C$2:$C$300='Comm Device (Code)'!$E163),0),0))","v":""},{"$f":"IF('Comm Device (Desc)'!K163=\"\",\"\",INDEX([1]ITS_COMM_DEV_MODEL!$A$2:$A$500,MATCH(1,([1]ITS_COMM_DEV_MODEL!$C$2:$C$500='Comm Device (Desc)'!$J163)*([1]ITS_COMM_DEV_MODEL!$D$2:$D$500='Comm Device (Code)'!$E163)*([1]ITS_COMM_DEV_MODEL!$E$2:$E$500='Comm Device (Desc)'!$K163),0),0))","v":""},{"$f":"IF('Comm Device (Desc)'!L163=\"\",\"\",'Comm Device (Desc)'!L163)","v":""},{"$f":"IF('Comm Device (Desc)'!M163=\"\",\"\",'Comm Device (Desc)'!M163)","v":""},{"$f":"IF('Comm Device (Desc)'!N163=\"\",\"\",'Comm Device (Desc)'!N163)","v":""},{"$f":"IF('Comm Device (Desc)'!O163=\"\",\"\",'Comm Device (Desc)'!O163)","v":""},{"$f":"IF('Comm Device (Desc)'!P163=\"\",\"\",INDEX([1]DEV_INPUT_VOLTAGE!$A$2:$A$100,MATCH('Comm Device (Desc)'!$P163,[1]!MASTER_DEV_INPUT_VOLTAGE_DESC[#Data],0),0))","v":""},{"$f":"IF('Comm Device (Desc)'!Q163=\"\",\"\",'Comm Device (Desc)'!Q163)","v":""},{"$f":"IF('Comm Device (Desc)'!R163=\"\",\"\",'Comm Device (Desc)'!R163)","v":""},{"$f":"IF('Comm Device (Desc)'!S163=\"\",\"\",'Comm Device (Desc)'!S163)","v":""},{"$f":"IF('Comm Device (Desc)'!T163=\"\",\"\",'Comm Device (Desc)'!T163)","v":""},{"$f":"IF('Comm Device (Desc)'!U163=\"\",\"\",'Comm Device (Desc)'!U163)","v":""},{"$f":"IF('Comm Device (Desc)'!V163=\"\",\"\",INDEX([1]FIBER_CONN_TYPE!$A$2:$A$100,MATCH('Comm Device (Desc)'!$V163,[1]!MASTER_FIBER_CONN_TYPE_DESC[#Data],0),0))","v":""}]
[{"$f":"IF('Comm Device (Desc)'!A164=\"\",\"\",'Comm Device (Desc)'!A164)","v":""},{"$f":"IF('Comm Device (Desc)'!C164=\"\",\"\",\"2029\")","v":""},{"$f":"IF('Comm Device (Desc)'!C164=\"\",\"\",'Comm Device (Desc)'!C164)","v":""},{"$f":"IF('Comm Device (Desc)'!D164=\"\",\"\",INDEX([1]OWNER!$A$2:$A$100,MATCH('Comm Device (Desc)'!$D164,[1]!MASTER_OWNER_DESC[#Data],0),0))","v":""},{"$f":"IF('Comm Device (Desc)'!F164=\"\",\"\",INDEX([1]ITS_COMM_DEV_TYPE!$A$2:$A$100,MATCH('Comm Device (Desc)'!$F164,[1]!MASTER_ITS_COMM_DEV_TYPE_DESC[#Data],0),0))","v":""},{"$f":"IF('Comm Device (Desc)'!G164=\"\",\"\",INDEX([1]COMM_TYPE!$A$2:$A$100,MATCH('Comm Device (Desc)'!$G164,[1]!MASTER_COMM_TYPE_DESC[#Data],0),0))","v":""},{"$f":"IF('Comm Device (Desc)'!H164=\"\",\"\",'Comm Device (Desc)'!H164)","v":""},{"$f":"IF('Comm Device (Desc)'!I164=\"\",\"\",'Comm Device (Desc)'!I164)","v":""},{"$f":"IF('Comm Device (Desc)'!J164=\"\",\"\",INDEX([1]ITS_COMM_DEV_MANUF!$A$2:$A$300,MATCH(1,([1]ITS_COMM_DEV_MANUF!$B$2:$B$300='Comm Device (Desc)'!$J164)*([1]ITS_COMM_DEV_MANUF!$C$2:$C$300='Comm Device (Code)'!$E164),0),0))","v":""},{"$f":"IF('Comm Device (Desc)'!K164=\"\",\"\",INDEX([1]ITS_COMM_DEV_MODEL!$A$2:$A$500,MATCH(1,([1]ITS_COMM_DEV_MODEL!$C$2:$C$500='Comm Device (Desc)'!$J164)*([1]ITS_COMM_DEV_MODEL!$D$2:$D$500='Comm Device (Code)'!$E164)*([1]ITS_COMM_DEV_MODEL!$E$2:$E$500='Comm Device (Desc)'!$K164),0),0))","v":""},{"$f":"IF('Comm Device (Desc)'!L164=\"\",\"\",'Comm Device (Desc)'!L164)","v":""},{"$f":"IF('Comm Device (Desc)'!M164=\"\",\"\",'Comm Device (Desc)'!M164)","v":""},{"$f":"IF('Comm Device (Desc)'!N164=\"\",\"\",'Comm Device (Desc)'!N164)","v":""},{"$f":"IF('Comm Device (Desc)'!O164=\"\",\"\",'Comm Device (Desc)'!O164)","v":""},{"$f":"IF('Comm Device (Desc)'!P164=\"\",\"\",INDEX([1]DEV_INPUT_VOLTAGE!$A$2:$A$100,MATCH('Comm Device (Desc)'!$P164,[1]!MASTER_DEV_INPUT_VOLTAGE_DESC[#Data],0),0))","v":""},{"$f":"IF('Comm Device (Desc)'!Q164=\"\",\"\",'Comm Device (Desc)'!Q164)","v":""},{"$f":"IF('Comm Device (Desc)'!R164=\"\",\"\",'Comm Device (Desc)'!R164)","v":""},{"$f":"IF('Comm Device (Desc)'!S164=\"\",\"\",'Comm Device (Desc)'!S164)","v":""},{"$f":"IF('Comm Device (Desc)'!T164=\"\",\"\",'Comm Device (Desc)'!T164)","v":""},{"$f":"IF('Comm Device (Desc)'!U164=\"\",\"\",'Comm Device (Desc)'!U164)","v":""},{"$f":"IF('Comm Device (Desc)'!V164=\"\",\"\",INDEX([1]FIBER_CONN_TYPE!$A$2:$A$100,MATCH('Comm Device (Desc)'!$V164,[1]!MASTER_FIBER_CONN_TYPE_DESC[#Data],0),0))","v":""}]
[{"$f":"IF('Comm Device (Desc)'!A165=\"\",\"\",'Comm Device (Desc)'!A165)","v":""},{"$f":"IF('Comm Device (Desc)'!C165=\"\",\"\",\"2029\")","v":""},{"$f":"IF('Comm Device (Desc)'!C165=\"\",\"\",'Comm Device (Desc)'!C165)","v":""},{"$f":"IF('Comm Device (Desc)'!D165=\"\",\"\",INDEX([1]OWNER!$A$2:$A$100,MATCH('Comm Device (Desc)'!$D165,[1]!MASTER_OWNER_DESC[#Data],0),0))","v":""},{"$f":"IF('Comm Device (Desc)'!F165=\"\",\"\",INDEX([1]ITS_COMM_DEV_TYPE!$A$2:$A$100,MATCH('Comm Device (Desc)'!$F165,[1]!MASTER_ITS_COMM_DEV_TYPE_DESC[#Data],0),0))","v":""},{"$f":"IF('Comm Device (Desc)'!G165=\"\",\"\",INDEX([1]COMM_TYPE!$A$2:$A$100,MATCH('Comm Device (Desc)'!$G165,[1]!MASTER_COMM_TYPE_DESC[#Data],0),0))","v":""},{"$f":"IF('Comm Device (Desc)'!H165=\"\",\"\",'Comm Device (Desc)'!H165)","v":""},{"$f":"IF('Comm Device (Desc)'!I165=\"\",\"\",'Comm Device (Desc)'!I165)","v":""},{"$f":"IF('Comm Device (Desc)'!J165=\"\",\"\",INDEX([1]ITS_COMM_DEV_MANUF!$A$2:$A$300,MATCH(1,([1]ITS_COMM_DEV_MANUF!$B$2:$B$300='Comm Device (Desc)'!$J165)*([1]ITS_COMM_DEV_MANUF!$C$2:$C$300='Comm Device (Code)'!$E165),0),0))","v":""},{"$f":"IF('Comm Device (Desc)'!K165=\"\",\"\",INDEX([1]ITS_COMM_DEV_MODEL!$A$2:$A$500,MATCH(1,([1]ITS_COMM_DEV_MODEL!$C$2:$C$500='Comm Device (Desc)'!$J165)*([1]ITS_COMM_DEV_MODEL!$D$2:$D$500='Comm Device (Code)'!$E165)*([1]ITS_COMM_DEV_MODEL!$E$2:$E$500='Comm Device (Desc)'!$K165),0),0))","v":""},{"$f":"IF('Comm Device (Desc)'!L165=\"\",\"\",'Comm Device (Desc)'!L165)","v":""},{"$f":"IF('Comm Device (Desc)'!M165=\"\",\"\",'Comm Device (Desc)'!M165)","v":""},{"$f":"IF('Comm Device (Desc)'!N165=\"\",\"\",'Comm Device (Desc)'!N165)","v":""},{"$f":"IF('Comm Device (Desc)'!O165=\"\",\"\",'Comm Device (Desc)'!O165)","v":""},{"$f":"IF('Comm Device (Desc)'!P165=\"\",\"\",INDEX([1]DEV_INPUT_VOLTAGE!$A$2:$A$100,MATCH('Comm Device (Desc)'!$P165,[1]!MASTER_DEV_INPUT_VOLTAGE_DESC[#Data],0),0))","v":""},{"$f":"IF('Comm Device (Desc)'!Q165=\"\",\"\",'Comm Device (Desc)'!Q165)","v":""},{"$f":"IF('Comm Device (Desc)'!R165=\"\",\"\",'Comm Device (Desc)'!R165)","v":""},{"$f":"IF('Comm Device (Desc)'!S165=\"\",\"\",'Comm Device (Desc)'!S165)","v":""},{"$f":"IF('Comm Device (Desc)'!T165=\"\",\"\",'Comm Device (Desc)'!T165)","v":""},{"$f":"IF('Comm Device (Desc)'!U165=\"\",\"\",'Comm Device (Desc)'!U165)","v":""},{"$f":"IF('Comm Device (Desc)'!V165=\"\",\"\",INDEX([1]FIBER_CONN_TYPE!$A$2:$A$100,MATCH('Comm Device (Desc)'!$V165,[1]!MASTER_FIBER_CONN_TYPE_DESC[#Data],0),0))","v":""}]
[{"$f":"IF('Comm Device (Desc)'!A166=\"\",\"\",'Comm Device (Desc)'!A166)","v":""},{"$f":"IF('Comm Device (Desc)'!C166=\"\",\"\",\"2029\")","v":""},{"$f":"IF('Comm Device (Desc)'!C166=\"\",\"\",'Comm Device (Desc)'!C166)","v":""},{"$f":"IF('Comm Device (Desc)'!D166=\"\",\"\",INDEX([1]OWNER!$A$2:$A$100,MATCH('Comm Device (Desc)'!$D166,[1]!MASTER_OWNER_DESC[#Data],0),0))","v":""},{"$f":"IF('Comm Device (Desc)'!F166=\"\",\"\",INDEX([1]ITS_COMM_DEV_TYPE!$A$2:$A$100,MATCH('Comm Device (Desc)'!$F166,[1]!MASTER_ITS_COMM_DEV_TYPE_DESC[#Data],0),0))","v":""},{"$f":"IF('Comm Device (Desc)'!G166=\"\",\"\",INDEX([1]COMM_TYPE!$A$2:$A$100,MATCH('Comm Device (Desc)'!$G166,[1]!MASTER_COMM_TYPE_DESC[#Data],0),0))","v":""},{"$f":"IF('Comm Device (Desc)'!H166=\"\",\"\",'Comm Device (Desc)'!H166)","v":""},{"$f":"IF('Comm Device (Desc)'!I166=\"\",\"\",'Comm Device (Desc)'!I166)","v":""},{"$f":"IF('Comm Device (Desc)'!J166=\"\",\"\",INDEX([1]ITS_COMM_DEV_MANUF!$A$2:$A$300,MATCH(1,([1]ITS_COMM_DEV_MANUF!$B$2:$B$300='Comm Device (Desc)'!$J166)*([1]ITS_COMM_DEV_MANUF!$C$2:$C$300='Comm Device (Code)'!$E166),0),0))","v":""},{"$f":"IF('Comm Device (Desc)'!K166=\"\",\"\",INDEX([1]ITS_COMM_DEV_MODEL!$A$2:$A$500,MATCH(1,([1]ITS_COMM_DEV_MODEL!$C$2:$C$500='Comm Device (Desc)'!$J166)*([1]ITS_COMM_DEV_MODEL!$D$2:$D$500='Comm Device (Code)'!$E166)*([1]ITS_COMM_DEV_MODEL!$E$2:$E$500='Comm Device (Desc)'!$K166),0),0))","v":""},{"$f":"IF('Comm Device (Desc)'!L166=\"\",\"\",'Comm Device (Desc)'!L166)","v":""},{"$f":"IF('Comm Device (Desc)'!M166=\"\",\"\",'Comm Device (Desc)'!M166)","v":""},{"$f":"IF('Comm Device (Desc)'!N166=\"\",\"\",'Comm Device (Desc)'!N166)","v":""},{"$f":"IF('Comm Device (Desc)'!O166=\"\",\"\",'Comm Device (Desc)'!O166)","v":""},{"$f":"IF('Comm Device (Desc)'!P166=\"\",\"\",INDEX([1]DEV_INPUT_VOLTAGE!$A$2:$A$100,MATCH('Comm Device (Desc)'!$P166,[1]!MASTER_DEV_INPUT_VOLTAGE_DESC[#Data],0),0))","v":""},{"$f":"IF('Comm Device (Desc)'!Q166=\"\",\"\",'Comm Device (Desc)'!Q166)","v":""},{"$f":"IF('Comm Device (Desc)'!R166=\"\",\"\",'Comm Device (Desc)'!R166)","v":""},{"$f":"IF('Comm Device (Desc)'!S166=\"\",\"\",'Comm Device (Desc)'!S166)","v":""},{"$f":"IF('Comm Device (Desc)'!T166=\"\",\"\",'Comm Device (Desc)'!T166)","v":""},{"$f":"IF('Comm Device (Desc)'!U166=\"\",\"\",'Comm Device (Desc)'!U166)","v":""},{"$f":"IF('Comm Device (Desc)'!V166=\"\",\"\",INDEX([1]FIBER_CONN_TYPE!$A$2:$A$100,MATCH('Comm Device (Desc)'!$V166,[1]!MASTER_FIBER_CONN_TYPE_DESC[#Data],0),0))","v":""}]
[{"$f":"IF('Comm Device (Desc)'!A167=\"\",\"\",'Comm Device (Desc)'!A167)","v":""},{"$f":"IF('Comm Device (Desc)'!C167=\"\",\"\",\"2029\")","v":""},{"$f":"IF('Comm Device (Desc)'!C167=\"\",\"\",'Comm Device (Desc)'!C167)","v":""},{"$f":"IF('Comm Device (Desc)'!D167=\"\",\"\",INDEX([1]OWNER!$A$2:$A$100,MATCH('Comm Device (Desc)'!$D167,[1]!MASTER_OWNER_DESC[#Data],0),0))","v":""},{"$f":"IF('Comm Device (Desc)'!F167=\"\",\"\",INDEX([1]ITS_COMM_DEV_TYPE!$A$2:$A$100,MATCH('Comm Device (Desc)'!$F167,[1]!MASTER_ITS_COMM_DEV_TYPE_DESC[#Data],0),0))","v":""},{"$f":"IF('Comm Device (Desc)'!G167=\"\",\"\",INDEX([1]COMM_TYPE!$A$2:$A$100,MATCH('Comm Device (Desc)'!$G167,[1]!MASTER_COMM_TYPE_DESC[#Data],0),0))","v":""},{"$f":"IF('Comm Device (Desc)'!H167=\"\",\"\",'Comm Device (Desc)'!H167)","v":""},{"$f":"IF('Comm Device (Desc)'!I167=\"\",\"\",'Comm Device (Desc)'!I167)","v":""},{"$f":"IF('Comm Device (Desc)'!J167=\"\",\"\",INDEX([1]ITS_COMM_DEV_MANUF!$A$2:$A$300,MATCH(1,([1]ITS_COMM_DEV_MANUF!$B$2:$B$300='Comm Device (Desc)'!$J167)*([1]ITS_COMM_DEV_MANUF!$C$2:$C$300='Comm Device (Code)'!$E167),0),0))","v":""},{"$f":"IF('Comm Device (Desc)'!K167=\"\",\"\",INDEX([1]ITS_COMM_DEV_MODEL!$A$2:$A$500,MATCH(1,([1]ITS_COMM_DEV_MODEL!$C$2:$C$500='Comm Device (Desc)'!$J167)*([1]ITS_COMM_DEV_MODEL!$D$2:$D$500='Comm Device (Code)'!$E167)*([1]ITS_COMM_DEV_MODEL!$E$2:$E$500='Comm Device (Desc)'!$K167),0),0))","v":""},{"$f":"IF('Comm Device (Desc)'!L167=\"\",\"\",'Comm Device (Desc)'!L167)","v":""},{"$f":"IF('Comm Device (Desc)'!M167=\"\",\"\",'Comm Device (Desc)'!M167)","v":""},{"$f":"IF('Comm Device (Desc)'!N167=\"\",\"\",'Comm Device (Desc)'!N167)","v":""},{"$f":"IF('Comm Device (Desc)'!O167=\"\",\"\",'Comm Device (Desc)'!O167)","v":""},{"$f":"IF('Comm Device (Desc)'!P167=\"\",\"\",INDEX([1]DEV_INPUT_VOLTAGE!$A$2:$A$100,MATCH('Comm Device (Desc)'!$P167,[1]!MASTER_DEV_INPUT_VOLTAGE_DESC[#Data],0),0))","v":""},{"$f":"IF('Comm Device (Desc)'!Q167=\"\",\"\",'Comm Device (Desc)'!Q167)","v":""},{"$f":"IF('Comm Device (Desc)'!R167=\"\",\"\",'Comm Device (Desc)'!R167)","v":""},{"$f":"IF('Comm Device (Desc)'!S167=\"\",\"\",'Comm Device (Desc)'!S167)","v":""},{"$f":"IF('Comm Device (Desc)'!T167=\"\",\"\",'Comm Device (Desc)'!T167)","v":""},{"$f":"IF('Comm Device (Desc)'!U167=\"\",\"\",'Comm Device (Desc)'!U167)","v":""},{"$f":"IF('Comm Device (Desc)'!V167=\"\",\"\",INDEX([1]FIBER_CONN_TYPE!$A$2:$A$100,MATCH('Comm Device (Desc)'!$V167,[1]!MASTER_FIBER_CONN_TYPE_DESC[#Data],0),0))","v":""}]
[{"$f":"IF('Comm Device (Desc)'!A168=\"\",\"\",'Comm Device (Desc)'!A168)","v":""},{"$f":"IF('Comm Device (Desc)'!C168=\"\",\"\",\"2029\")","v":""},{"$f":"IF('Comm Device (Desc)'!C168=\"\",\"\",'Comm Device (Desc)'!C168)","v":""},{"$f":"IF('Comm Device (Desc)'!D168=\"\",\"\",INDEX([1]OWNER!$A$2:$A$100,MATCH('Comm Device (Desc)'!$D168,[1]!MASTER_OWNER_DESC[#Data],0),0))","v":""},{"$f":"IF('Comm Device (Desc)'!F168=\"\",\"\",INDEX([1]ITS_COMM_DEV_TYPE!$A$2:$A$100,MATCH('Comm Device (Desc)'!$F168,[1]!MASTER_ITS_COMM_DEV_TYPE_DESC[#Data],0),0))","v":""},{"$f":"IF('Comm Device (Desc)'!G168=\"\",\"\",INDEX([1]COMM_TYPE!$A$2:$A$100,MATCH('Comm Device (Desc)'!$G168,[1]!MASTER_COMM_TYPE_DESC[#Data],0),0))","v":""},{"$f":"IF('Comm Device (Desc)'!H168=\"\",\"\",'Comm Device (Desc)'!H168)","v":""},{"$f":"IF('Comm Device (Desc)'!I168=\"\",\"\",'Comm Device (Desc)'!I168)","v":""},{"$f":"IF('Comm Device (Desc)'!J168=\"\",\"\",INDEX([1]ITS_COMM_DEV_MANUF!$A$2:$A$300,MATCH(1,([1]ITS_COMM_DEV_MANUF!$B$2:$B$300='Comm Device (Desc)'!$J168)*([1]ITS_COMM_DEV_MANUF!$C$2:$C$300='Comm Device (Code)'!$E168),0),0))","v":""},{"$f":"IF('Comm Device (Desc)'!K168=\"\",\"\",INDEX([1]ITS_COMM_DEV_MODEL!$A$2:$A$500,MATCH(1,([1]ITS_COMM_DEV_MODEL!$C$2:$C$500='Comm Device (Desc)'!$J168)*([1]ITS_COMM_DEV_MODEL!$D$2:$D$500='Comm Device (Code)'!$E168)*([1]ITS_COMM_DEV_MODEL!$E$2:$E$500='Comm Device (Desc)'!$K168),0),0))","v":""},{"$f":"IF('Comm Device (Desc)'!L168=\"\",\"\",'Comm Device (Desc)'!L168)","v":""},{"$f":"IF('Comm Device (Desc)'!M168=\"\",\"\",'Comm Device (Desc)'!M168)","v":""},{"$f":"IF('Comm Device (Desc)'!N168=\"\",\"\",'Comm Device (Desc)'!N168)","v":""},{"$f":"IF('Comm Device (Desc)'!O168=\"\",\"\",'Comm Device (Desc)'!O168)","v":""},{"$f":"IF('Comm Device (Desc)'!P168=\"\",\"\",INDEX([1]DEV_INPUT_VOLTAGE!$A$2:$A$100,MATCH('Comm Device (Desc)'!$P168,[1]!MASTER_DEV_INPUT_VOLTAGE_DESC[#Data],0),0))","v":""},{"$f":"IF('Comm Device (Desc)'!Q168=\"\",\"\",'Comm Device (Desc)'!Q168)","v":""},{"$f":"IF('Comm Device (Desc)'!R168=\"\",\"\",'Comm Device (Desc)'!R168)","v":""},{"$f":"IF('Comm Device (Desc)'!S168=\"\",\"\",'Comm Device (Desc)'!S168)","v":""},{"$f":"IF('Comm Device (Desc)'!T168=\"\",\"\",'Comm Device (Desc)'!T168)","v":""},{"$f":"IF('Comm Device (Desc)'!U168=\"\",\"\",'Comm Device (Desc)'!U168)","v":""},{"$f":"IF('Comm Device (Desc)'!V168=\"\",\"\",INDEX([1]FIBER_CONN_TYPE!$A$2:$A$100,MATCH('Comm Device (Desc)'!$V168,[1]!MASTER_FIBER_CONN_TYPE_DESC[#Data],0),0))","v":""}]
[{"$f":"IF('Comm Device (Desc)'!A169=\"\",\"\",'Comm Device (Desc)'!A169)","v":""},{"$f":"IF('Comm Device (Desc)'!C169=\"\",\"\",\"2029\")","v":""},{"$f":"IF('Comm Device (Desc)'!C169=\"\",\"\",'Comm Device (Desc)'!C169)","v":""},{"$f":"IF('Comm Device (Desc)'!D169=\"\",\"\",INDEX([1]OWNER!$A$2:$A$100,MATCH('Comm Device (Desc)'!$D169,[1]!MASTER_OWNER_DESC[#Data],0),0))","v":""},{"$f":"IF('Comm Device (Desc)'!F169=\"\",\"\",INDEX([1]ITS_COMM_DEV_TYPE!$A$2:$A$100,MATCH('Comm Device (Desc)'!$F169,[1]!MASTER_ITS_COMM_DEV_TYPE_DESC[#Data],0),0))","v":""},{"$f":"IF('Comm Device (Desc)'!G169=\"\",\"\",INDEX([1]COMM_TYPE!$A$2:$A$100,MATCH('Comm Device (Desc)'!$G169,[1]!MASTER_COMM_TYPE_DESC[#Data],0),0))","v":""},{"$f":"IF('Comm Device (Desc)'!H169=\"\",\"\",'Comm Device (Desc)'!H169)","v":""},{"$f":"IF('Comm Device (Desc)'!I169=\"\",\"\",'Comm Device (Desc)'!I169)","v":""},{"$f":"IF('Comm Device (Desc)'!J169=\"\",\"\",INDEX([1]ITS_COMM_DEV_MANUF!$A$2:$A$300,MATCH(1,([1]ITS_COMM_DEV_MANUF!$B$2:$B$300='Comm Device (Desc)'!$J169)*([1]ITS_COMM_DEV_MANUF!$C$2:$C$300='Comm Device (Code)'!$E169),0),0))","v":""},{"$f":"IF('Comm Device (Desc)'!K169=\"\",\"\",INDEX([1]ITS_COMM_DEV_MODEL!$A$2:$A$500,MATCH(1,([1]ITS_COMM_DEV_MODEL!$C$2:$C$500='Comm Device (Desc)'!$J169)*([1]ITS_COMM_DEV_MODEL!$D$2:$D$500='Comm Device (Code)'!$E169)*([1]ITS_COMM_DEV_MODEL!$E$2:$E$500='Comm Device (Desc)'!$K169),0),0))","v":""},{"$f":"IF('Comm Device (Desc)'!L169=\"\",\"\",'Comm Device (Desc)'!L169)","v":""},{"$f":"IF('Comm Device (Desc)'!M169=\"\",\"\",'Comm Device (Desc)'!M169)","v":""},{"$f":"IF('Comm Device (Desc)'!N169=\"\",\"\",'Comm Device (Desc)'!N169)","v":""},{"$f":"IF('Comm Device (Desc)'!O169=\"\",\"\",'Comm Device (Desc)'!O169)","v":""},{"$f":"IF('Comm Device (Desc)'!P169=\"\",\"\",INDEX([1]DEV_INPUT_VOLTAGE!$A$2:$A$100,MATCH('Comm Device (Desc)'!$P169,[1]!MASTER_DEV_INPUT_VOLTAGE_DESC[#Data],0),0))","v":""},{"$f":"IF('Comm Device (Desc)'!Q169=\"\",\"\",'Comm Device (Desc)'!Q169)","v":""},{"$f":"IF('Comm Device (Desc)'!R169=\"\",\"\",'Comm Device (Desc)'!R169)","v":""},{"$f":"IF('Comm Device (Desc)'!S169=\"\",\"\",'Comm Device (Desc)'!S169)","v":""},{"$f":"IF('Comm Device (Desc)'!T169=\"\",\"\",'Comm Device (Desc)'!T169)","v":""},{"$f":"IF('Comm Device (Desc)'!U169=\"\",\"\",'Comm Device (Desc)'!U169)","v":""},{"$f":"IF('Comm Device (Desc)'!V169=\"\",\"\",INDEX([1]FIBER_CONN_TYPE!$A$2:$A$100,MATCH('Comm Device (Desc)'!$V169,[1]!MASTER_FIBER_CONN_TYPE_DESC[#Data],0),0))","v":""}]
[{"$f":"IF('Comm Device (Desc)'!A170=\"\",\"\",'Comm Device (Desc)'!A170)","v":""},{"$f":"IF('Comm Device (Desc)'!C170=\"\",\"\",\"2029\")","v":""},{"$f":"IF('Comm Device (Desc)'!C170=\"\",\"\",'Comm Device (Desc)'!C170)","v":""},{"$f":"IF('Comm Device (Desc)'!D170=\"\",\"\",INDEX([1]OWNER!$A$2:$A$100,MATCH('Comm Device (Desc)'!$D170,[1]!MASTER_OWNER_DESC[#Data],0),0))","v":""},{"$f":"IF('Comm Device (Desc)'!F170=\"\",\"\",INDEX([1]ITS_COMM_DEV_TYPE!$A$2:$A$100,MATCH('Comm Device (Desc)'!$F170,[1]!MASTER_ITS_COMM_DEV_TYPE_DESC[#Data],0),0))","v":""},{"$f":"IF('Comm Device (Desc)'!G170=\"\",\"\",INDEX([1]COMM_TYPE!$A$2:$A$100,MATCH('Comm Device (Desc)'!$G170,[1]!MASTER_COMM_TYPE_DESC[#Data],0),0))","v":""},{"$f":"IF('Comm Device (Desc)'!H170=\"\",\"\",'Comm Device (Desc)'!H170)","v":""},{"$f":"IF('Comm Device (Desc)'!I170=\"\",\"\",'Comm Device (Desc)'!I170)","v":""},{"$f":"IF('Comm Device (Desc)'!J170=\"\",\"\",INDEX([1]ITS_COMM_DEV_MANUF!$A$2:$A$300,MATCH(1,([1]ITS_COMM_DEV_MANUF!$B$2:$B$300='Comm Device (Desc)'!$J170)*([1]ITS_COMM_DEV_MANUF!$C$2:$C$300='Comm Device (Code)'!$E170),0),0))","v":""},{"$f":"IF('Comm Device (Desc)'!K170=\"\",\"\",INDEX([1]ITS_COMM_DEV_MODEL!$A$2:$A$500,MATCH(1,([1]ITS_COMM_DEV_MODEL!$C$2:$C$500='Comm Device (Desc)'!$J170)*([1]ITS_COMM_DEV_MODEL!$D$2:$D$500='Comm Device (Code)'!$E170)*([1]ITS_COMM_DEV_MODEL!$E$2:$E$500='Comm Device (Desc)'!$K170),0),0))","v":""},{"$f":"IF('Comm Device (Desc)'!L170=\"\",\"\",'Comm Device (Desc)'!L170)","v":""},{"$f":"IF('Comm Device (Desc)'!M170=\"\",\"\",'Comm Device (Desc)'!M170)","v":""},{"$f":"IF('Comm Device (Desc)'!N170=\"\",\"\",'Comm Device (Desc)'!N170)","v":""},{"$f":"IF('Comm Device (Desc)'!O170=\"\",\"\",'Comm Device (Desc)'!O170)","v":""},{"$f":"IF('Comm Device (Desc)'!P170=\"\",\"\",INDEX([1]DEV_INPUT_VOLTAGE!$A$2:$A$100,MATCH('Comm Device (Desc)'!$P170,[1]!MASTER_DEV_INPUT_VOLTAGE_DESC[#Data],0),0))","v":""},{"$f":"IF('Comm Device (Desc)'!Q170=\"\",\"\",'Comm Device (Desc)'!Q170)","v":""},{"$f":"IF('Comm Device (Desc)'!R170=\"\",\"\",'Comm Device (Desc)'!R170)","v":""},{"$f":"IF('Comm Device (Desc)'!S170=\"\",\"\",'Comm Device (Desc)'!S170)","v":""},{"$f":"IF('Comm Device (Desc)'!T170=\"\",\"\",'Comm Device (Desc)'!T170)","v":""},{"$f":"IF('Comm Device (Desc)'!U170=\"\",\"\",'Comm Device (Desc)'!U170)","v":""},{"$f":"IF('Comm Device (Desc)'!V170=\"\",\"\",INDEX([1]FIBER_CONN_TYPE!$A$2:$A$100,MATCH('Comm Device (Desc)'!$V170,[1]!MASTER_FIBER_CONN_TYPE_DESC[#Data],0),0))","v":""}]
[{"$f":"IF('Comm Device (Desc)'!A171=\"\",\"\",'Comm Device (Desc)'!A171)","v":""},{"$f":"IF('Comm Device (Desc)'!C171=\"\",\"\",\"2029\")","v":""},{"$f":"IF('Comm Device (Desc)'!C171=\"\",\"\",'Comm Device (Desc)'!C171)","v":""},{"$f":"IF('Comm Device (Desc)'!D171=\"\",\"\",INDEX([1]OWNER!$A$2:$A$100,MATCH('Comm Device (Desc)'!$D171,[1]!MASTER_OWNER_DESC[#Data],0),0))","v":""},{"$f":"IF('Comm Device (Desc)'!F171=\"\",\"\",INDEX([1]ITS_COMM_DEV_TYPE!$A$2:$A$100,MATCH('Comm Device (Desc)'!$F171,[1]!MASTER_ITS_COMM_DEV_TYPE_DESC[#Data],0),0))","v":""},{"$f":"IF('Comm Device (Desc)'!G171=\"\",\"\",INDEX([1]COMM_TYPE!$A$2:$A$100,MATCH('Comm Device (Desc)'!$G171,[1]!MASTER_COMM_TYPE_DESC[#Data],0),0))","v":""},{"$f":"IF('Comm Device (Desc)'!H171=\"\",\"\",'Comm Device (Desc)'!H171)","v":""},{"$f":"IF('Comm Device (Desc)'!I171=\"\",\"\",'Comm Device (Desc)'!I171)","v":""},{"$f":"IF('Comm Device (Desc)'!J171=\"\",\"\",INDEX([1]ITS_COMM_DEV_MANUF!$A$2:$A$300,MATCH(1,([1]ITS_COMM_DEV_MANUF!$B$2:$B$300='Comm Device (Desc)'!$J171)*([1]ITS_COMM_DEV_MANUF!$C$2:$C$300='Comm Device (Code)'!$E171),0),0))","v":""},{"$f":"IF('Comm Device (Desc)'!K171=\"\",\"\",INDEX([1]ITS_COMM_DEV_MODEL!$A$2:$A$500,MATCH(1,([1]ITS_COMM_DEV_MODEL!$C$2:$C$500='Comm Device (Desc)'!$J171)*([1]ITS_COMM_DEV_MODEL!$D$2:$D$500='Comm Device (Code)'!$E171)*([1]ITS_COMM_DEV_MODEL!$E$2:$E$500='Comm Device (Desc)'!$K171),0),0))","v":""},{"$f":"IF('Comm Device (Desc)'!L171=\"\",\"\",'Comm Device (Desc)'!L171)","v":""},{"$f":"IF('Comm Device (Desc)'!M171=\"\",\"\",'Comm Device (Desc)'!M171)","v":""},{"$f":"IF('Comm Device (Desc)'!N171=\"\",\"\",'Comm Device (Desc)'!N171)","v":""},{"$f":"IF('Comm Device (Desc)'!O171=\"\",\"\",'Comm Device (Desc)'!O171)","v":""},{"$f":"IF('Comm Device (Desc)'!P171=\"\",\"\",INDEX([1]DEV_INPUT_VOLTAGE!$A$2:$A$100,MATCH('Comm Device (Desc)'!$P171,[1]!MASTER_DEV_INPUT_VOLTAGE_DESC[#Data],0),0))","v":""},{"$f":"IF('Comm Device (Desc)'!Q171=\"\",\"\",'Comm Device (Desc)'!Q171)","v":""},{"$f":"IF('Comm Device (Desc)'!R171=\"\",\"\",'Comm Device (Desc)'!R171)","v":""},{"$f":"IF('Comm Device (Desc)'!S171=\"\",\"\",'Comm Device (Desc)'!S171)","v":""},{"$f":"IF('Comm Device (Desc)'!T171=\"\",\"\",'Comm Device (Desc)'!T171)","v":""},{"$f":"IF('Comm Device (Desc)'!U171=\"\",\"\",'Comm Device (Desc)'!U171)","v":""},{"$f":"IF('Comm Device (Desc)'!V171=\"\",\"\",INDEX([1]FIBER_CONN_TYPE!$A$2:$A$100,MATCH('Comm Device (Desc)'!$V171,[1]!MASTER_FIBER_CONN_TYPE_DESC[#Data],0),0))","v":""}]
[{"$f":"IF('Comm Device (Desc)'!A172=\"\",\"\",'Comm Device (Desc)'!A172)","v":""},{"$f":"IF('Comm Device (Desc)'!C172=\"\",\"\",\"2029\")","v":""},{"$f":"IF('Comm Device (Desc)'!C172=\"\",\"\",'Comm Device (Desc)'!C172)","v":""},{"$f":"IF('Comm Device (Desc)'!D172=\"\",\"\",INDEX([1]OWNER!$A$2:$A$100,MATCH('Comm Device (Desc)'!$D172,[1]!MASTER_OWNER_DESC[#Data],0),0))","v":""},{"$f":"IF('Comm Device (Desc)'!F172=\"\",\"\",INDEX([1]ITS_COMM_DEV_TYPE!$A$2:$A$100,MATCH('Comm Device (Desc)'!$F172,[1]!MASTER_ITS_COMM_DEV_TYPE_DESC[#Data],0),0))","v":""},{"$f":"IF('Comm Device (Desc)'!G172=\"\",\"\",INDEX([1]COMM_TYPE!$A$2:$A$100,MATCH('Comm Device (Desc)'!$G172,[1]!MASTER_COMM_TYPE_DESC[#Data],0),0))","v":""},{"$f":"IF('Comm Device (Desc)'!H172=\"\",\"\",'Comm Device (Desc)'!H172)","v":""},{"$f":"IF('Comm Device (Desc)'!I172=\"\",\"\",'Comm Device (Desc)'!I172)","v":""},{"$f":"IF('Comm Device (Desc)'!J172=\"\",\"\",INDEX([1]ITS_COMM_DEV_MANUF!$A$2:$A$300,MATCH(1,([1]ITS_COMM_DEV_MANUF!$B$2:$B$300='Comm Device (Desc)'!$J172)*([1]ITS_COMM_DEV_MANUF!$C$2:$C$300='Comm Device (Code)'!$E172),0),0))","v":""},{"$f":"IF('Comm Device (Desc)'!K172=\"\",\"\",INDEX([1]ITS_COMM_DEV_MODEL!$A$2:$A$500,MATCH(1,([1]ITS_COMM_DEV_MODEL!$C$2:$C$500='Comm Device (Desc)'!$J172)*([1]ITS_COMM_DEV_MODEL!$D$2:$D$500='Comm Device (Code)'!$E172)*([1]ITS_COMM_DEV_MODEL!$E$2:$E$500='Comm Device (Desc)'!$K172),0),0))","v":""},{"$f":"IF('Comm Device (Desc)'!L172=\"\",\"\",'Comm Device (Desc)'!L172)","v":""},{"$f":"IF('Comm Device (Desc)'!M172=\"\",\"\",'Comm Device (Desc)'!M172)","v":""},{"$f":"IF('Comm Device (Desc)'!N172=\"\",\"\",'Comm Device (Desc)'!N172)","v":""},{"$f":"IF('Comm Device (Desc)'!O172=\"\",\"\",'Comm Device (Desc)'!O172)","v":""},{"$f":"IF('Comm Device (Desc)'!P172=\"\",\"\",INDEX([1]DEV_INPUT_VOLTAGE!$A$2:$A$100,MATCH('Comm Device (Desc)'!$P172,[1]!MASTER_DEV_INPUT_VOLTAGE_DESC[#Data],0),0))","v":""},{"$f":"IF('Comm Device (Desc)'!Q172=\"\",\"\",'Comm Device (Desc)'!Q172)","v":""},{"$f":"IF('Comm Device (Desc)'!R172=\"\",\"\",'Comm Device (Desc)'!R172)","v":""},{"$f":"IF('Comm Device (Desc)'!S172=\"\",\"\",'Comm Device (Desc)'!S172)","v":""},{"$f":"IF('Comm Device (Desc)'!T172=\"\",\"\",'Comm Device (Desc)'!T172)","v":""},{"$f":"IF('Comm Device (Desc)'!U172=\"\",\"\",'Comm Device (Desc)'!U172)","v":""},{"$f":"IF('Comm Device (Desc)'!V172=\"\",\"\",INDEX([1]FIBER_CONN_TYPE!$A$2:$A$100,MATCH('Comm Device (Desc)'!$V172,[1]!MASTER_FIBER_CONN_TYPE_DESC[#Data],0),0))","v":""}]
[{"$f":"IF('Comm Device (Desc)'!A173=\"\",\"\",'Comm Device (Desc)'!A173)","v":""},{"$f":"IF('Comm Device (Desc)'!C173=\"\",\"\",\"2029\")","v":""},{"$f":"IF('Comm Device (Desc)'!C173=\"\",\"\",'Comm Device (Desc)'!C173)","v":""},{"$f":"IF('Comm Device (Desc)'!D173=\"\",\"\",INDEX([1]OWNER!$A$2:$A$100,MATCH('Comm Device (Desc)'!$D173,[1]!MASTER_OWNER_DESC[#Data],0),0))","v":""},{"$f":"IF('Comm Device (Desc)'!F173=\"\",\"\",INDEX([1]ITS_COMM_DEV_TYPE!$A$2:$A$100,MATCH('Comm Device (Desc)'!$F173,[1]!MASTER_ITS_COMM_DEV_TYPE_DESC[#Data],0),0))","v":""},{"$f":"IF('Comm Device (Desc)'!G173=\"\",\"\",INDEX([1]COMM_TYPE!$A$2:$A$100,MATCH('Comm Device (Desc)'!$G173,[1]!MASTER_COMM_TYPE_DESC[#Data],0),0))","v":""},{"$f":"IF('Comm Device (Desc)'!H173=\"\",\"\",'Comm Device (Desc)'!H173)","v":""},{"$f":"IF('Comm Device (Desc)'!I173=\"\",\"\",'Comm Device (Desc)'!I173)","v":""},{"$f":"IF('Comm Device (Desc)'!J173=\"\",\"\",INDEX([1]ITS_COMM_DEV_MANUF!$A$2:$A$300,MATCH(1,([1]ITS_COMM_DEV_MANUF!$B$2:$B$300='Comm Device (Desc)'!$J173)*([1]ITS_COMM_DEV_MANUF!$C$2:$C$300='Comm Device (Code)'!$E173),0),0))","v":""},{"$f":"IF('Comm Device (Desc)'!K173=\"\",\"\",INDEX([1]ITS_COMM_DEV_MODEL!$A$2:$A$500,MATCH(1,([1]ITS_COMM_DEV_MODEL!$C$2:$C$500='Comm Device (Desc)'!$J173)*([1]ITS_COMM_DEV_MODEL!$D$2:$D$500='Comm Device (Code)'!$E173)*([1]ITS_COMM_DEV_MODEL!$E$2:$E$500='Comm Device (Desc)'!$K173),0),0))","v":""},{"$f":"IF('Comm Device (Desc)'!L173=\"\",\"\",'Comm Device (Desc)'!L173)","v":""},{"$f":"IF('Comm Device (Desc)'!M173=\"\",\"\",'Comm Device (Desc)'!M173)","v":""},{"$f":"IF('Comm Device (Desc)'!N173=\"\",\"\",'Comm Device (Desc)'!N173)","v":""},{"$f":"IF('Comm Device (Desc)'!O173=\"\",\"\",'Comm Device (Desc)'!O173)","v":""},{"$f":"IF('Comm Device (Desc)'!P173=\"\",\"\",INDEX([1]DEV_INPUT_VOLTAGE!$A$2:$A$100,MATCH('Comm Device (Desc)'!$P173,[1]!MASTER_DEV_INPUT_VOLTAGE_DESC[#Data],0),0))","v":""},{"$f":"IF('Comm Device (Desc)'!Q173=\"\",\"\",'Comm Device (Desc)'!Q173)","v":""},{"$f":"IF('Comm Device (Desc)'!R173=\"\",\"\",'Comm Device (Desc)'!R173)","v":""},{"$f":"IF('Comm Device (Desc)'!S173=\"\",\"\",'Comm Device (Desc)'!S173)","v":""},{"$f":"IF('Comm Device (Desc)'!T173=\"\",\"\",'Comm Device (Desc)'!T173)","v":""},{"$f":"IF('Comm Device (Desc)'!U173=\"\",\"\",'Comm Device (Desc)'!U173)","v":""},{"$f":"IF('Comm Device (Desc)'!V173=\"\",\"\",INDEX([1]FIBER_CONN_TYPE!$A$2:$A$100,MATCH('Comm Device (Desc)'!$V173,[1]!MASTER_FIBER_CONN_TYPE_DESC[#Data],0),0))","v":""}]
[{"$f":"IF('Comm Device (Desc)'!A174=\"\",\"\",'Comm Device (Desc)'!A174)","v":""},{"$f":"IF('Comm Device (Desc)'!C174=\"\",\"\",\"2029\")","v":""},{"$f":"IF('Comm Device (Desc)'!C174=\"\",\"\",'Comm Device (Desc)'!C174)","v":""},{"$f":"IF('Comm Device (Desc)'!D174=\"\",\"\",INDEX([1]OWNER!$A$2:$A$100,MATCH('Comm Device (Desc)'!$D174,[1]!MASTER_OWNER_DESC[#Data],0),0))","v":""},{"$f":"IF('Comm Device (Desc)'!F174=\"\",\"\",INDEX([1]ITS_COMM_DEV_TYPE!$A$2:$A$100,MATCH('Comm Device (Desc)'!$F174,[1]!MASTER_ITS_COMM_DEV_TYPE_DESC[#Data],0),0))","v":""},{"$f":"IF('Comm Device (Desc)'!G174=\"\",\"\",INDEX([1]COMM_TYPE!$A$2:$A$100,MATCH('Comm Device (Desc)'!$G174,[1]!MASTER_COMM_TYPE_DESC[#Data],0),0))","v":""},{"$f":"IF('Comm Device (Desc)'!H174=\"\",\"\",'Comm Device (Desc)'!H174)","v":""},{"$f":"IF('Comm Device (Desc)'!I174=\"\",\"\",'Comm Device (Desc)'!I174)","v":""},{"$f":"IF('Comm Device (Desc)'!J174=\"\",\"\",INDEX([1]ITS_COMM_DEV_MANUF!$A$2:$A$300,MATCH(1,([1]ITS_COMM_DEV_MANUF!$B$2:$B$300='Comm Device (Desc)'!$J174)*([1]ITS_COMM_DEV_MANUF!$C$2:$C$300='Comm Device (Code)'!$E174),0),0))","v":""},{"$f":"IF('Comm Device (Desc)'!K174=\"\",\"\",INDEX([1]ITS_COMM_DEV_MODEL!$A$2:$A$500,MATCH(1,([1]ITS_COMM_DEV_MODEL!$C$2:$C$500='Comm Device (Desc)'!$J174)*([1]ITS_COMM_DEV_MODEL!$D$2:$D$500='Comm Device (Code)'!$E174)*([1]ITS_COMM_DEV_MODEL!$E$2:$E$500='Comm Device (Desc)'!$K174),0),0))","v":""},{"$f":"IF('Comm Device (Desc)'!L174=\"\",\"\",'Comm Device (Desc)'!L174)","v":""},{"$f":"IF('Comm Device (Desc)'!M174=\"\",\"\",'Comm Device (Desc)'!M174)","v":""},{"$f":"IF('Comm Device (Desc)'!N174=\"\",\"\",'Comm Device (Desc)'!N174)","v":""},{"$f":"IF('Comm Device (Desc)'!O174=\"\",\"\",'Comm Device (Desc)'!O174)","v":""},{"$f":"IF('Comm Device (Desc)'!P174=\"\",\"\",INDEX([1]DEV_INPUT_VOLTAGE!$A$2:$A$100,MATCH('Comm Device (Desc)'!$P174,[1]!MASTER_DEV_INPUT_VOLTAGE_DESC[#Data],0),0))","v":""},{"$f":"IF('Comm Device (Desc)'!Q174=\"\",\"\",'Comm Device (Desc)'!Q174)","v":""},{"$f":"IF('Comm Device (Desc)'!R174=\"\",\"\",'Comm Device (Desc)'!R174)","v":""},{"$f":"IF('Comm Device (Desc)'!S174=\"\",\"\",'Comm Device (Desc)'!S174)","v":""},{"$f":"IF('Comm Device (Desc)'!T174=\"\",\"\",'Comm Device (Desc)'!T174)","v":""},{"$f":"IF('Comm Device (Desc)'!U174=\"\",\"\",'Comm Device (Desc)'!U174)","v":""},{"$f":"IF('Comm Device (Desc)'!V174=\"\",\"\",INDEX([1]FIBER_CONN_TYPE!$A$2:$A$100,MATCH('Comm Device (Desc)'!$V174,[1]!MASTER_FIBER_CONN_TYPE_DESC[#Data],0),0))","v":""}]
[{"$f":"IF('Comm Device (Desc)'!A175=\"\",\"\",'Comm Device (Desc)'!A175)","v":""},{"$f":"IF('Comm Device (Desc)'!C175=\"\",\"\",\"2029\")","v":""},{"$f":"IF('Comm Device (Desc)'!C175=\"\",\"\",'Comm Device (Desc)'!C175)","v":""},{"$f":"IF('Comm Device (Desc)'!D175=\"\",\"\",INDEX([1]OWNER!$A$2:$A$100,MATCH('Comm Device (Desc)'!$D175,[1]!MASTER_OWNER_DESC[#Data],0),0))","v":""},{"$f":"IF('Comm Device (Desc)'!F175=\"\",\"\",INDEX([1]ITS_COMM_DEV_TYPE!$A$2:$A$100,MATCH('Comm Device (Desc)'!$F175,[1]!MASTER_ITS_COMM_DEV_TYPE_DESC[#Data],0),0))","v":""},{"$f":"IF('Comm Device (Desc)'!G175=\"\",\"\",INDEX([1]COMM_TYPE!$A$2:$A$100,MATCH('Comm Device (Desc)'!$G175,[1]!MASTER_COMM_TYPE_DESC[#Data],0),0))","v":""},{"$f":"IF('Comm Device (Desc)'!H175=\"\",\"\",'Comm Device (Desc)'!H175)","v":""},{"$f":"IF('Comm Device (Desc)'!I175=\"\",\"\",'Comm Device (Desc)'!I175)","v":""},{"$f":"IF('Comm Device (Desc)'!J175=\"\",\"\",INDEX([1]ITS_COMM_DEV_MANUF!$A$2:$A$300,MATCH(1,([1]ITS_COMM_DEV_MANUF!$B$2:$B$300='Comm Device (Desc)'!$J175)*([1]ITS_COMM_DEV_MANUF!$C$2:$C$300='Comm Device (Code)'!$E175),0),0))","v":""},{"$f":"IF('Comm Device (Desc)'!K175=\"\",\"\",INDEX([1]ITS_COMM_DEV_MODEL!$A$2:$A$500,MATCH(1,([1]ITS_COMM_DEV_MODEL!$C$2:$C$500='Comm Device (Desc)'!$J175)*([1]ITS_COMM_DEV_MODEL!$D$2:$D$500='Comm Device (Code)'!$E175)*([1]ITS_COMM_DEV_MODEL!$E$2:$E$500='Comm Device (Desc)'!$K175),0),0))","v":""},{"$f":"IF('Comm Device (Desc)'!L175=\"\",\"\",'Comm Device (Desc)'!L175)","v":""},{"$f":"IF('Comm Device (Desc)'!M175=\"\",\"\",'Comm Device (Desc)'!M175)","v":""},{"$f":"IF('Comm Device (Desc)'!N175=\"\",\"\",'Comm Device (Desc)'!N175)","v":""},{"$f":"IF('Comm Device (Desc)'!O175=\"\",\"\",'Comm Device (Desc)'!O175)","v":""},{"$f":"IF('Comm Device (Desc)'!P175=\"\",\"\",INDEX([1]DEV_INPUT_VOLTAGE!$A$2:$A$100,MATCH('Comm Device (Desc)'!$P175,[1]!MASTER_DEV_INPUT_VOLTAGE_DESC[#Data],0),0))","v":""},{"$f":"IF('Comm Device (Desc)'!Q175=\"\",\"\",'Comm Device (Desc)'!Q175)","v":""},{"$f":"IF('Comm Device (Desc)'!R175=\"\",\"\",'Comm Device (Desc)'!R175)","v":""},{"$f":"IF('Comm Device (Desc)'!S175=\"\",\"\",'Comm Device (Desc)'!S175)","v":""},{"$f":"IF('Comm Device (Desc)'!T175=\"\",\"\",'Comm Device (Desc)'!T175)","v":""},{"$f":"IF('Comm Device (Desc)'!U175=\"\",\"\",'Comm Device (Desc)'!U175)","v":""},{"$f":"IF('Comm Device (Desc)'!V175=\"\",\"\",INDEX([1]FIBER_CONN_TYPE!$A$2:$A$100,MATCH('Comm Device (Desc)'!$V175,[1]!MASTER_FIBER_CONN_TYPE_DESC[#Data],0),0))","v":""}]
[{"$f":"IF('Comm Device (Desc)'!A176=\"\",\"\",'Comm Device (Desc)'!A176)","v":""},{"$f":"IF('Comm Device (Desc)'!C176=\"\",\"\",\"2029\")","v":""},{"$f":"IF('Comm Device (Desc)'!C176=\"\",\"\",'Comm Device (Desc)'!C176)","v":""},{"$f":"IF('Comm Device (Desc)'!D176=\"\",\"\",INDEX([1]OWNER!$A$2:$A$100,MATCH('Comm Device (Desc)'!$D176,[1]!MASTER_OWNER_DESC[#Data],0),0))","v":""},{"$f":"IF('Comm Device (Desc)'!F176=\"\",\"\",INDEX([1]ITS_COMM_DEV_TYPE!$A$2:$A$100,MATCH('Comm Device (Desc)'!$F176,[1]!MASTER_ITS_COMM_DEV_TYPE_DESC[#Data],0),0))","v":""},{"$f":"IF('Comm Device (Desc)'!G176=\"\",\"\",INDEX([1]COMM_TYPE!$A$2:$A$100,MATCH('Comm Device (Desc)'!$G176,[1]!MASTER_COMM_TYPE_DESC[#Data],0),0))","v":""},{"$f":"IF('Comm Device (Desc)'!H176=\"\",\"\",'Comm Device (Desc)'!H176)","v":""},{"$f":"IF('Comm Device (Desc)'!I176=\"\",\"\",'Comm Device (Desc)'!I176)","v":""},{"$f":"IF('Comm Device (Desc)'!J176=\"\",\"\",INDEX([1]ITS_COMM_DEV_MANUF!$A$2:$A$300,MATCH(1,([1]ITS_COMM_DEV_MANUF!$B$2:$B$300='Comm Device (Desc)'!$J176)*([1]ITS_COMM_DEV_MANUF!$C$2:$C$300='Comm Device (Code)'!$E176),0),0))","v":""},{"$f":"IF('Comm Device (Desc)'!K176=\"\",\"\",INDEX([1]ITS_COMM_DEV_MODEL!$A$2:$A$500,MATCH(1,([1]ITS_COMM_DEV_MODEL!$C$2:$C$500='Comm Device (Desc)'!$J176)*([1]ITS_COMM_DEV_MODEL!$D$2:$D$500='Comm Device (Code)'!$E176)*([1]ITS_COMM_DEV_MODEL!$E$2:$E$500='Comm Device (Desc)'!$K176),0),0))","v":""},{"$f":"IF('Comm Device (Desc)'!L176=\"\",\"\",'Comm Device (Desc)'!L176)","v":""},{"$f":"IF('Comm Device (Desc)'!M176=\"\",\"\",'Comm Device (Desc)'!M176)","v":""},{"$f":"IF('Comm Device (Desc)'!N176=\"\",\"\",'Comm Device (Desc)'!N176)","v":""},{"$f":"IF('Comm Device (Desc)'!O176=\"\",\"\",'Comm Device (Desc)'!O176)","v":""},{"$f":"IF('Comm Device (Desc)'!P176=\"\",\"\",INDEX([1]DEV_INPUT_VOLTAGE!$A$2:$A$100,MATCH('Comm Device (Desc)'!$P176,[1]!MASTER_DEV_INPUT_VOLTAGE_DESC[#Data],0),0))","v":""},{"$f":"IF('Comm Device (Desc)'!Q176=\"\",\"\",'Comm Device (Desc)'!Q176)","v":""},{"$f":"IF('Comm Device (Desc)'!R176=\"\",\"\",'Comm Device (Desc)'!R176)","v":""},{"$f":"IF('Comm Device (Desc)'!S176=\"\",\"\",'Comm Device (Desc)'!S176)","v":""},{"$f":"IF('Comm Device (Desc)'!T176=\"\",\"\",'Comm Device (Desc)'!T176)","v":""},{"$f":"IF('Comm Device (Desc)'!U176=\"\",\"\",'Comm Device (Desc)'!U176)","v":""},{"$f":"IF('Comm Device (Desc)'!V176=\"\",\"\",INDEX([1]FIBER_CONN_TYPE!$A$2:$A$100,MATCH('Comm Device (Desc)'!$V176,[1]!MASTER_FIBER_CONN_TYPE_DESC[#Data],0),0))","v":""}]
[{"$f":"IF('Comm Device (Desc)'!A177=\"\",\"\",'Comm Device (Desc)'!A177)","v":""},{"$f":"IF('Comm Device (Desc)'!C177=\"\",\"\",\"2029\")","v":""},{"$f":"IF('Comm Device (Desc)'!C177=\"\",\"\",'Comm Device (Desc)'!C177)","v":""},{"$f":"IF('Comm Device (Desc)'!D177=\"\",\"\",INDEX([1]OWNER!$A$2:$A$100,MATCH('Comm Device (Desc)'!$D177,[1]!MASTER_OWNER_DESC[#Data],0),0))","v":""},{"$f":"IF('Comm Device (Desc)'!F177=\"\",\"\",INDEX([1]ITS_COMM_DEV_TYPE!$A$2:$A$100,MATCH('Comm Device (Desc)'!$F177,[1]!MASTER_ITS_COMM_DEV_TYPE_DESC[#Data],0),0))","v":""},{"$f":"IF('Comm Device (Desc)'!G177=\"\",\"\",INDEX([1]COMM_TYPE!$A$2:$A$100,MATCH('Comm Device (Desc)'!$G177,[1]!MASTER_COMM_TYPE_DESC[#Data],0),0))","v":""},{"$f":"IF('Comm Device (Desc)'!H177=\"\",\"\",'Comm Device (Desc)'!H177)","v":""},{"$f":"IF('Comm Device (Desc)'!I177=\"\",\"\",'Comm Device (Desc)'!I177)","v":""},{"$f":"IF('Comm Device (Desc)'!J177=\"\",\"\",INDEX([1]ITS_COMM_DEV_MANUF!$A$2:$A$300,MATCH(1,([1]ITS_COMM_DEV_MANUF!$B$2:$B$300='Comm Device (Desc)'!$J177)*([1]ITS_COMM_DEV_MANUF!$C$2:$C$300='Comm Device (Code)'!$E177),0),0))","v":""},{"$f":"IF('Comm Device (Desc)'!K177=\"\",\"\",INDEX([1]ITS_COMM_DEV_MODEL!$A$2:$A$500,MATCH(1,([1]ITS_COMM_DEV_MODEL!$C$2:$C$500='Comm Device (Desc)'!$J177)*([1]ITS_COMM_DEV_MODEL!$D$2:$D$500='Comm Device (Code)'!$E177)*([1]ITS_COMM_DEV_MODEL!$E$2:$E$500='Comm Device (Desc)'!$K177),0),0))","v":""},{"$f":"IF('Comm Device (Desc)'!L177=\"\",\"\",'Comm Device (Desc)'!L177)","v":""},{"$f":"IF('Comm Device (Desc)'!M177=\"\",\"\",'Comm Device (Desc)'!M177)","v":""},{"$f":"IF('Comm Device (Desc)'!N177=\"\",\"\",'Comm Device (Desc)'!N177)","v":""},{"$f":"IF('Comm Device (Desc)'!O177=\"\",\"\",'Comm Device (Desc)'!O177)","v":""},{"$f":"IF('Comm Device (Desc)'!P177=\"\",\"\",INDEX([1]DEV_INPUT_VOLTAGE!$A$2:$A$100,MATCH('Comm Device (Desc)'!$P177,[1]!MASTER_DEV_INPUT_VOLTAGE_DESC[#Data],0),0))","v":""},{"$f":"IF('Comm Device (Desc)'!Q177=\"\",\"\",'Comm Device (Desc)'!Q177)","v":""},{"$f":"IF('Comm Device (Desc)'!R177=\"\",\"\",'Comm Device (Desc)'!R177)","v":""},{"$f":"IF('Comm Device (Desc)'!S177=\"\",\"\",'Comm Device (Desc)'!S177)","v":""},{"$f":"IF('Comm Device (Desc)'!T177=\"\",\"\",'Comm Device (Desc)'!T177)","v":""},{"$f":"IF('Comm Device (Desc)'!U177=\"\",\"\",'Comm Device (Desc)'!U177)","v":""},{"$f":"IF('Comm Device (Desc)'!V177=\"\",\"\",INDEX([1]FIBER_CONN_TYPE!$A$2:$A$100,MATCH('Comm Device (Desc)'!$V177,[1]!MASTER_FIBER_CONN_TYPE_DESC[#Data],0),0))","v":""}]
[{"$f":"IF('Comm Device (Desc)'!A178=\"\",\"\",'Comm Device (Desc)'!A178)","v":""},{"$f":"IF('Comm Device (Desc)'!C178=\"\",\"\",\"2029\")","v":""},{"$f":"IF('Comm Device (Desc)'!C178=\"\",\"\",'Comm Device (Desc)'!C178)","v":""},{"$f":"IF('Comm Device (Desc)'!D178=\"\",\"\",INDEX([1]OWNER!$A$2:$A$100,MATCH('Comm Device (Desc)'!$D178,[1]!MASTER_OWNER_DESC[#Data],0),0))","v":""},{"$f":"IF('Comm Device (Desc)'!F178=\"\",\"\",INDEX([1]ITS_COMM_DEV_TYPE!$A$2:$A$100,MATCH('Comm Device (Desc)'!$F178,[1]!MASTER_ITS_COMM_DEV_TYPE_DESC[#Data],0),0))","v":""},{"$f":"IF('Comm Device (Desc)'!G178=\"\",\"\",INDEX([1]COMM_TYPE!$A$2:$A$100,MATCH('Comm Device (Desc)'!$G178,[1]!MASTER_COMM_TYPE_DESC[#Data],0),0))","v":""},{"$f":"IF('Comm Device (Desc)'!H178=\"\",\"\",'Comm Device (Desc)'!H178)","v":""},{"$f":"IF('Comm Device (Desc)'!I178=\"\",\"\",'Comm Device (Desc)'!I178)","v":""},{"$f":"IF('Comm Device (Desc)'!J178=\"\",\"\",INDEX([1]ITS_COMM_DEV_MANUF!$A$2:$A$300,MATCH(1,([1]ITS_COMM_DEV_MANUF!$B$2:$B$300='Comm Device (Desc)'!$J178)*([1]ITS_COMM_DEV_MANUF!$C$2:$C$300='Comm Device (Code)'!$E178),0),0))","v":""},{"$f":"IF('Comm Device (Desc)'!K178=\"\",\"\",INDEX([1]ITS_COMM_DEV_MODEL!$A$2:$A$500,MATCH(1,([1]ITS_COMM_DEV_MODEL!$C$2:$C$500='Comm Device (Desc)'!$J178)*([1]ITS_COMM_DEV_MODEL!$D$2:$D$500='Comm Device (Code)'!$E178)*([1]ITS_COMM_DEV_MODEL!$E$2:$E$500='Comm Device (Desc)'!$K178),0),0))","v":""},{"$f":"IF('Comm Device (Desc)'!L178=\"\",\"\",'Comm Device (Desc)'!L178)","v":""},{"$f":"IF('Comm Device (Desc)'!M178=\"\",\"\",'Comm Device (Desc)'!M178)","v":""},{"$f":"IF('Comm Device (Desc)'!N178=\"\",\"\",'Comm Device (Desc)'!N178)","v":""},{"$f":"IF('Comm Device (Desc)'!O178=\"\",\"\",'Comm Device (Desc)'!O178)","v":""},{"$f":"IF('Comm Device (Desc)'!P178=\"\",\"\",INDEX([1]DEV_INPUT_VOLTAGE!$A$2:$A$100,MATCH('Comm Device (Desc)'!$P178,[1]!MASTER_DEV_INPUT_VOLTAGE_DESC[#Data],0),0))","v":""},{"$f":"IF('Comm Device (Desc)'!Q178=\"\",\"\",'Comm Device (Desc)'!Q178)","v":""},{"$f":"IF('Comm Device (Desc)'!R178=\"\",\"\",'Comm Device (Desc)'!R178)","v":""},{"$f":"IF('Comm Device (Desc)'!S178=\"\",\"\",'Comm Device (Desc)'!S178)","v":""},{"$f":"IF('Comm Device (Desc)'!T178=\"\",\"\",'Comm Device (Desc)'!T178)","v":""},{"$f":"IF('Comm Device (Desc)'!U178=\"\",\"\",'Comm Device (Desc)'!U178)","v":""},{"$f":"IF('Comm Device (Desc)'!V178=\"\",\"\",INDEX([1]FIBER_CONN_TYPE!$A$2:$A$100,MATCH('Comm Device (Desc)'!$V178,[1]!MASTER_FIBER_CONN_TYPE_DESC[#Data],0),0))","v":""}]
[{"$f":"IF('Comm Device (Desc)'!A179=\"\",\"\",'Comm Device (Desc)'!A179)","v":""},{"$f":"IF('Comm Device (Desc)'!C179=\"\",\"\",\"2029\")","v":""},{"$f":"IF('Comm Device (Desc)'!C179=\"\",\"\",'Comm Device (Desc)'!C179)","v":""},{"$f":"IF('Comm Device (Desc)'!D179=\"\",\"\",INDEX([1]OWNER!$A$2:$A$100,MATCH('Comm Device (Desc)'!$D179,[1]!MASTER_OWNER_DESC[#Data],0),0))","v":""},{"$f":"IF('Comm Device (Desc)'!F179=\"\",\"\",INDEX([1]ITS_COMM_DEV_TYPE!$A$2:$A$100,MATCH('Comm Device (Desc)'!$F179,[1]!MASTER_ITS_COMM_DEV_TYPE_DESC[#Data],0),0))","v":""},{"$f":"IF('Comm Device (Desc)'!G179=\"\",\"\",INDEX([1]COMM_TYPE!$A$2:$A$100,MATCH('Comm Device (Desc)'!$G179,[1]!MASTER_COMM_TYPE_DESC[#Data],0),0))","v":""},{"$f":"IF('Comm Device (Desc)'!H179=\"\",\"\",'Comm Device (Desc)'!H179)","v":""},{"$f":"IF('Comm Device (Desc)'!I179=\"\",\"\",'Comm Device (Desc)'!I179)","v":""},{"$f":"IF('Comm Device (Desc)'!J179=\"\",\"\",INDEX([1]ITS_COMM_DEV_MANUF!$A$2:$A$300,MATCH(1,([1]ITS_COMM_DEV_MANUF!$B$2:$B$300='Comm Device (Desc)'!$J179)*([1]ITS_COMM_DEV_MANUF!$C$2:$C$300='Comm Device (Code)'!$E179),0),0))","v":""},{"$f":"IF('Comm Device (Desc)'!K179=\"\",\"\",INDEX([1]ITS_COMM_DEV_MODEL!$A$2:$A$500,MATCH(1,([1]ITS_COMM_DEV_MODEL!$C$2:$C$500='Comm Device (Desc)'!$J179)*([1]ITS_COMM_DEV_MODEL!$D$2:$D$500='Comm Device (Code)'!$E179)*([1]ITS_COMM_DEV_MODEL!$E$2:$E$500='Comm Device (Desc)'!$K179),0),0))","v":""},{"$f":"IF('Comm Device (Desc)'!L179=\"\",\"\",'Comm Device (Desc)'!L179)","v":""},{"$f":"IF('Comm Device (Desc)'!M179=\"\",\"\",'Comm Device (Desc)'!M179)","v":""},{"$f":"IF('Comm Device (Desc)'!N179=\"\",\"\",'Comm Device (Desc)'!N179)","v":""},{"$f":"IF('Comm Device (Desc)'!O179=\"\",\"\",'Comm Device (Desc)'!O179)","v":""},{"$f":"IF('Comm Device (Desc)'!P179=\"\",\"\",INDEX([1]DEV_INPUT_VOLTAGE!$A$2:$A$100,MATCH('Comm Device (Desc)'!$P179,[1]!MASTER_DEV_INPUT_VOLTAGE_DESC[#Data],0),0))","v":""},{"$f":"IF('Comm Device (Desc)'!Q179=\"\",\"\",'Comm Device (Desc)'!Q179)","v":""},{"$f":"IF('Comm Device (Desc)'!R179=\"\",\"\",'Comm Device (Desc)'!R179)","v":""},{"$f":"IF('Comm Device (Desc)'!S179=\"\",\"\",'Comm Device (Desc)'!S179)","v":""},{"$f":"IF('Comm Device (Desc)'!T179=\"\",\"\",'Comm Device (Desc)'!T179)","v":""},{"$f":"IF('Comm Device (Desc)'!U179=\"\",\"\",'Comm Device (Desc)'!U179)","v":""},{"$f":"IF('Comm Device (Desc)'!V179=\"\",\"\",INDEX([1]FIBER_CONN_TYPE!$A$2:$A$100,MATCH('Comm Device (Desc)'!$V179,[1]!MASTER_FIBER_CONN_TYPE_DESC[#Data],0),0))","v":""}]
[{"$f":"IF('Comm Device (Desc)'!A180=\"\",\"\",'Comm Device (Desc)'!A180)","v":""},{"$f":"IF('Comm Device (Desc)'!C180=\"\",\"\",\"2029\")","v":""},{"$f":"IF('Comm Device (Desc)'!C180=\"\",\"\",'Comm Device (Desc)'!C180)","v":""},{"$f":"IF('Comm Device (Desc)'!D180=\"\",\"\",INDEX([1]OWNER!$A$2:$A$100,MATCH('Comm Device (Desc)'!$D180,[1]!MASTER_OWNER_DESC[#Data],0),0))","v":""},{"$f":"IF('Comm Device (Desc)'!F180=\"\",\"\",INDEX([1]ITS_COMM_DEV_TYPE!$A$2:$A$100,MATCH('Comm Device (Desc)'!$F180,[1]!MASTER_ITS_COMM_DEV_TYPE_DESC[#Data],0),0))","v":""},{"$f":"IF('Comm Device (Desc)'!G180=\"\",\"\",INDEX([1]COMM_TYPE!$A$2:$A$100,MATCH('Comm Device (Desc)'!$G180,[1]!MASTER_COMM_TYPE_DESC[#Data],0),0))","v":""},{"$f":"IF('Comm Device (Desc)'!H180=\"\",\"\",'Comm Device (Desc)'!H180)","v":""},{"$f":"IF('Comm Device (Desc)'!I180=\"\",\"\",'Comm Device (Desc)'!I180)","v":""},{"$f":"IF('Comm Device (Desc)'!J180=\"\",\"\",INDEX([1]ITS_COMM_DEV_MANUF!$A$2:$A$300,MATCH(1,([1]ITS_COMM_DEV_MANUF!$B$2:$B$300='Comm Device (Desc)'!$J180)*([1]ITS_COMM_DEV_MANUF!$C$2:$C$300='Comm Device (Code)'!$E180),0),0))","v":""},{"$f":"IF('Comm Device (Desc)'!K180=\"\",\"\",INDEX([1]ITS_COMM_DEV_MODEL!$A$2:$A$500,MATCH(1,([1]ITS_COMM_DEV_MODEL!$C$2:$C$500='Comm Device (Desc)'!$J180)*([1]ITS_COMM_DEV_MODEL!$D$2:$D$500='Comm Device (Code)'!$E180)*([1]ITS_COMM_DEV_MODEL!$E$2:$E$500='Comm Device (Desc)'!$K180),0),0))","v":""},{"$f":"IF('Comm Device (Desc)'!L180=\"\",\"\",'Comm Device (Desc)'!L180)","v":""},{"$f":"IF('Comm Device (Desc)'!M180=\"\",\"\",'Comm Device (Desc)'!M180)","v":""},{"$f":"IF('Comm Device (Desc)'!N180=\"\",\"\",'Comm Device (Desc)'!N180)","v":""},{"$f":"IF('Comm Device (Desc)'!O180=\"\",\"\",'Comm Device (Desc)'!O180)","v":""},{"$f":"IF('Comm Device (Desc)'!P180=\"\",\"\",INDEX([1]DEV_INPUT_VOLTAGE!$A$2:$A$100,MATCH('Comm Device (Desc)'!$P180,[1]!MASTER_DEV_INPUT_VOLTAGE_DESC[#Data],0),0))","v":""},{"$f":"IF('Comm Device (Desc)'!Q180=\"\",\"\",'Comm Device (Desc)'!Q180)","v":""},{"$f":"IF('Comm Device (Desc)'!R180=\"\",\"\",'Comm Device (Desc)'!R180)","v":""},{"$f":"IF('Comm Device (Desc)'!S180=\"\",\"\",'Comm Device (Desc)'!S180)","v":""},{"$f":"IF('Comm Device (Desc)'!T180=\"\",\"\",'Comm Device (Desc)'!T180)","v":""},{"$f":"IF('Comm Device (Desc)'!U180=\"\",\"\",'Comm Device (Desc)'!U180)","v":""},{"$f":"IF('Comm Device (Desc)'!V180=\"\",\"\",INDEX([1]FIBER_CONN_TYPE!$A$2:$A$100,MATCH('Comm Device (Desc)'!$V180,[1]!MASTER_FIBER_CONN_TYPE_DESC[#Data],0),0))","v":""}]
[{"$f":"IF('Comm Device (Desc)'!A181=\"\",\"\",'Comm Device (Desc)'!A181)","v":""},{"$f":"IF('Comm Device (Desc)'!C181=\"\",\"\",\"2029\")","v":""},{"$f":"IF('Comm Device (Desc)'!C181=\"\",\"\",'Comm Device (Desc)'!C181)","v":""},{"$f":"IF('Comm Device (Desc)'!D181=\"\",\"\",INDEX([1]OWNER!$A$2:$A$100,MATCH('Comm Device (Desc)'!$D181,[1]!MASTER_OWNER_DESC[#Data],0),0))","v":""},{"$f":"IF('Comm Device (Desc)'!F181=\"\",\"\",INDEX([1]ITS_COMM_DEV_TYPE!$A$2:$A$100,MATCH('Comm Device (Desc)'!$F181,[1]!MASTER_ITS_COMM_DEV_TYPE_DESC[#Data],0),0))","v":""},{"$f":"IF('Comm Device (Desc)'!G181=\"\",\"\",INDEX([1]COMM_TYPE!$A$2:$A$100,MATCH('Comm Device (Desc)'!$G181,[1]!MASTER_COMM_TYPE_DESC[#Data],0),0))","v":""},{"$f":"IF('Comm Device (Desc)'!H181=\"\",\"\",'Comm Device (Desc)'!H181)","v":""},{"$f":"IF('Comm Device (Desc)'!I181=\"\",\"\",'Comm Device (Desc)'!I181)","v":""},{"$f":"IF('Comm Device (Desc)'!J181=\"\",\"\",INDEX([1]ITS_COMM_DEV_MANUF!$A$2:$A$300,MATCH(1,([1]ITS_COMM_DEV_MANUF!$B$2:$B$300='Comm Device (Desc)'!$J181)*([1]ITS_COMM_DEV_MANUF!$C$2:$C$300='Comm Device (Code)'!$E181),0),0))","v":""},{"$f":"IF('Comm Device (Desc)'!K181=\"\",\"\",INDEX([1]ITS_COMM_DEV_MODEL!$A$2:$A$500,MATCH(1,([1]ITS_COMM_DEV_MODEL!$C$2:$C$500='Comm Device (Desc)'!$J181)*([1]ITS_COMM_DEV_MODEL!$D$2:$D$500='Comm Device (Code)'!$E181)*([1]ITS_COMM_DEV_MODEL!$E$2:$E$500='Comm Device (Desc)'!$K181),0),0))","v":""},{"$f":"IF('Comm Device (Desc)'!L181=\"\",\"\",'Comm Device (Desc)'!L181)","v":""},{"$f":"IF('Comm Device (Desc)'!M181=\"\",\"\",'Comm Device (Desc)'!M181)","v":""},{"$f":"IF('Comm Device (Desc)'!N181=\"\",\"\",'Comm Device (Desc)'!N181)","v":""},{"$f":"IF('Comm Device (Desc)'!O181=\"\",\"\",'Comm Device (Desc)'!O181)","v":""},{"$f":"IF('Comm Device (Desc)'!P181=\"\",\"\",INDEX([1]DEV_INPUT_VOLTAGE!$A$2:$A$100,MATCH('Comm Device (Desc)'!$P181,[1]!MASTER_DEV_INPUT_VOLTAGE_DESC[#Data],0),0))","v":""},{"$f":"IF('Comm Device (Desc)'!Q181=\"\",\"\",'Comm Device (Desc)'!Q181)","v":""},{"$f":"IF('Comm Device (Desc)'!R181=\"\",\"\",'Comm Device (Desc)'!R181)","v":""},{"$f":"IF('Comm Device (Desc)'!S181=\"\",\"\",'Comm Device (Desc)'!S181)","v":""},{"$f":"IF('Comm Device (Desc)'!T181=\"\",\"\",'Comm Device (Desc)'!T181)","v":""},{"$f":"IF('Comm Device (Desc)'!U181=\"\",\"\",'Comm Device (Desc)'!U181)","v":""},{"$f":"IF('Comm Device (Desc)'!V181=\"\",\"\",INDEX([1]FIBER_CONN_TYPE!$A$2:$A$100,MATCH('Comm Device (Desc)'!$V181,[1]!MASTER_FIBER_CONN_TYPE_DESC[#Data],0),0))","v":""}]
[{"$f":"IF('Comm Device (Desc)'!A182=\"\",\"\",'Comm Device (Desc)'!A182)","v":""},{"$f":"IF('Comm Device (Desc)'!C182=\"\",\"\",\"2029\")","v":""},{"$f":"IF('Comm Device (Desc)'!C182=\"\",\"\",'Comm Device (Desc)'!C182)","v":""},{"$f":"IF('Comm Device (Desc)'!D182=\"\",\"\",INDEX([1]OWNER!$A$2:$A$100,MATCH('Comm Device (Desc)'!$D182,[1]!MASTER_OWNER_DESC[#Data],0),0))","v":""},{"$f":"IF('Comm Device (Desc)'!F182=\"\",\"\",INDEX([1]ITS_COMM_DEV_TYPE!$A$2:$A$100,MATCH('Comm Device (Desc)'!$F182,[1]!MASTER_ITS_COMM_DEV_TYPE_DESC[#Data],0),0))","v":""},{"$f":"IF('Comm Device (Desc)'!G182=\"\",\"\",INDEX([1]COMM_TYPE!$A$2:$A$100,MATCH('Comm Device (Desc)'!$G182,[1]!MASTER_COMM_TYPE_DESC[#Data],0),0))","v":""},{"$f":"IF('Comm Device (Desc)'!H182=\"\",\"\",'Comm Device (Desc)'!H182)","v":""},{"$f":"IF('Comm Device (Desc)'!I182=\"\",\"\",'Comm Device (Desc)'!I182)","v":""},{"$f":"IF('Comm Device (Desc)'!J182=\"\",\"\",INDEX([1]ITS_COMM_DEV_MANUF!$A$2:$A$300,MATCH(1,([1]ITS_COMM_DEV_MANUF!$B$2:$B$300='Comm Device (Desc)'!$J182)*([1]ITS_COMM_DEV_MANUF!$C$2:$C$300='Comm Device (Code)'!$E182),0),0))","v":""},{"$f":"IF('Comm Device (Desc)'!K182=\"\",\"\",INDEX([1]ITS_COMM_DEV_MODEL!$A$2:$A$500,MATCH(1,([1]ITS_COMM_DEV_MODEL!$C$2:$C$500='Comm Device (Desc)'!$J182)*([1]ITS_COMM_DEV_MODEL!$D$2:$D$500='Comm Device (Code)'!$E182)*([1]ITS_COMM_DEV_MODEL!$E$2:$E$500='Comm Device (Desc)'!$K182),0),0))","v":""},{"$f":"IF('Comm Device (Desc)'!L182=\"\",\"\",'Comm Device (Desc)'!L182)","v":""},{"$f":"IF('Comm Device (Desc)'!M182=\"\",\"\",'Comm Device (Desc)'!M182)","v":""},{"$f":"IF('Comm Device (Desc)'!N182=\"\",\"\",'Comm Device (Desc)'!N182)","v":""},{"$f":"IF('Comm Device (Desc)'!O182=\"\",\"\",'Comm Device (Desc)'!O182)","v":""},{"$f":"IF('Comm Device (Desc)'!P182=\"\",\"\",INDEX([1]DEV_INPUT_VOLTAGE!$A$2:$A$100,MATCH('Comm Device (Desc)'!$P182,[1]!MASTER_DEV_INPUT_VOLTAGE_DESC[#Data],0),0))","v":""},{"$f":"IF('Comm Device (Desc)'!Q182=\"\",\"\",'Comm Device (Desc)'!Q182)","v":""},{"$f":"IF('Comm Device (Desc)'!R182=\"\",\"\",'Comm Device (Desc)'!R182)","v":""},{"$f":"IF('Comm Device (Desc)'!S182=\"\",\"\",'Comm Device (Desc)'!S182)","v":""},{"$f":"IF('Comm Device (Desc)'!T182=\"\",\"\",'Comm Device (Desc)'!T182)","v":""},{"$f":"IF('Comm Device (Desc)'!U182=\"\",\"\",'Comm Device (Desc)'!U182)","v":""},{"$f":"IF('Comm Device (Desc)'!V182=\"\",\"\",INDEX([1]FIBER_CONN_TYPE!$A$2:$A$100,MATCH('Comm Device (Desc)'!$V182,[1]!MASTER_FIBER_CONN_TYPE_DESC[#Data],0),0))","v":""}]
[{"$f":"IF('Comm Device (Desc)'!A183=\"\",\"\",'Comm Device (Desc)'!A183)","v":""},{"$f":"IF('Comm Device (Desc)'!C183=\"\",\"\",\"2029\")","v":""},{"$f":"IF('Comm Device (Desc)'!C183=\"\",\"\",'Comm Device (Desc)'!C183)","v":""},{"$f":"IF('Comm Device (Desc)'!D183=\"\",\"\",INDEX([1]OWNER!$A$2:$A$100,MATCH('Comm Device (Desc)'!$D183,[1]!MASTER_OWNER_DESC[#Data],0),0))","v":""},{"$f":"IF('Comm Device (Desc)'!F183=\"\",\"\",INDEX([1]ITS_COMM_DEV_TYPE!$A$2:$A$100,MATCH('Comm Device (Desc)'!$F183,[1]!MASTER_ITS_COMM_DEV_TYPE_DESC[#Data],0),0))","v":""},{"$f":"IF('Comm Device (Desc)'!G183=\"\",\"\",INDEX([1]COMM_TYPE!$A$2:$A$100,MATCH('Comm Device (Desc)'!$G183,[1]!MASTER_COMM_TYPE_DESC[#Data],0),0))","v":""},{"$f":"IF('Comm Device (Desc)'!H183=\"\",\"\",'Comm Device (Desc)'!H183)","v":""},{"$f":"IF('Comm Device (Desc)'!I183=\"\",\"\",'Comm Device (Desc)'!I183)","v":""},{"$f":"IF('Comm Device (Desc)'!J183=\"\",\"\",INDEX([1]ITS_COMM_DEV_MANUF!$A$2:$A$300,MATCH(1,([1]ITS_COMM_DEV_MANUF!$B$2:$B$300='Comm Device (Desc)'!$J183)*([1]ITS_COMM_DEV_MANUF!$C$2:$C$300='Comm Device (Code)'!$E183),0),0))","v":""},{"$f":"IF('Comm Device (Desc)'!K183=\"\",\"\",INDEX([1]ITS_COMM_DEV_MODEL!$A$2:$A$500,MATCH(1,([1]ITS_COMM_DEV_MODEL!$C$2:$C$500='Comm Device (Desc)'!$J183)*([1]ITS_COMM_DEV_MODEL!$D$2:$D$500='Comm Device (Code)'!$E183)*([1]ITS_COMM_DEV_MODEL!$E$2:$E$500='Comm Device (Desc)'!$K183),0),0))","v":""},{"$f":"IF('Comm Device (Desc)'!L183=\"\",\"\",'Comm Device (Desc)'!L183)","v":""},{"$f":"IF('Comm Device (Desc)'!M183=\"\",\"\",'Comm Device (Desc)'!M183)","v":""},{"$f":"IF('Comm Device (Desc)'!N183=\"\",\"\",'Comm Device (Desc)'!N183)","v":""},{"$f":"IF('Comm Device (Desc)'!O183=\"\",\"\",'Comm Device (Desc)'!O183)","v":""},{"$f":"IF('Comm Device (Desc)'!P183=\"\",\"\",INDEX([1]DEV_INPUT_VOLTAGE!$A$2:$A$100,MATCH('Comm Device (Desc)'!$P183,[1]!MASTER_DEV_INPUT_VOLTAGE_DESC[#Data],0),0))","v":""},{"$f":"IF('Comm Device (Desc)'!Q183=\"\",\"\",'Comm Device (Desc)'!Q183)","v":""},{"$f":"IF('Comm Device (Desc)'!R183=\"\",\"\",'Comm Device (Desc)'!R183)","v":""},{"$f":"IF('Comm Device (Desc)'!S183=\"\",\"\",'Comm Device (Desc)'!S183)","v":""},{"$f":"IF('Comm Device (Desc)'!T183=\"\",\"\",'Comm Device (Desc)'!T183)","v":""},{"$f":"IF('Comm Device (Desc)'!U183=\"\",\"\",'Comm Device (Desc)'!U183)","v":""},{"$f":"IF('Comm Device (Desc)'!V183=\"\",\"\",INDEX([1]FIBER_CONN_TYPE!$A$2:$A$100,MATCH('Comm Device (Desc)'!$V183,[1]!MASTER_FIBER_CONN_TYPE_DESC[#Data],0),0))","v":""}]
[{"$f":"IF('Comm Device (Desc)'!A184=\"\",\"\",'Comm Device (Desc)'!A184)","v":""},{"$f":"IF('Comm Device (Desc)'!C184=\"\",\"\",\"2029\")","v":""},{"$f":"IF('Comm Device (Desc)'!C184=\"\",\"\",'Comm Device (Desc)'!C184)","v":""},{"$f":"IF('Comm Device (Desc)'!D184=\"\",\"\",INDEX([1]OWNER!$A$2:$A$100,MATCH('Comm Device (Desc)'!$D184,[1]!MASTER_OWNER_DESC[#Data],0),0))","v":""},{"$f":"IF('Comm Device (Desc)'!F184=\"\",\"\",INDEX([1]ITS_COMM_DEV_TYPE!$A$2:$A$100,MATCH('Comm Device (Desc)'!$F184,[1]!MASTER_ITS_COMM_DEV_TYPE_DESC[#Data],0),0))","v":""},{"$f":"IF('Comm Device (Desc)'!G184=\"\",\"\",INDEX([1]COMM_TYPE!$A$2:$A$100,MATCH('Comm Device (Desc)'!$G184,[1]!MASTER_COMM_TYPE_DESC[#Data],0),0))","v":""},{"$f":"IF('Comm Device (Desc)'!H184=\"\",\"\",'Comm Device (Desc)'!H184)","v":""},{"$f":"IF('Comm Device (Desc)'!I184=\"\",\"\",'Comm Device (Desc)'!I184)","v":""},{"$f":"IF('Comm Device (Desc)'!J184=\"\",\"\",INDEX([1]ITS_COMM_DEV_MANUF!$A$2:$A$300,MATCH(1,([1]ITS_COMM_DEV_MANUF!$B$2:$B$300='Comm Device (Desc)'!$J184)*([1]ITS_COMM_DEV_MANUF!$C$2:$C$300='Comm Device (Code)'!$E184),0),0))","v":""},{"$f":"IF('Comm Device (Desc)'!K184=\"\",\"\",INDEX([1]ITS_COMM_DEV_MODEL!$A$2:$A$500,MATCH(1,([1]ITS_COMM_DEV_MODEL!$C$2:$C$500='Comm Device (Desc)'!$J184)*([1]ITS_COMM_DEV_MODEL!$D$2:$D$500='Comm Device (Code)'!$E184)*([1]ITS_COMM_DEV_MODEL!$E$2:$E$500='Comm Device (Desc)'!$K184),0),0))","v":""},{"$f":"IF('Comm Device (Desc)'!L184=\"\",\"\",'Comm Device (Desc)'!L184)","v":""},{"$f":"IF('Comm Device (Desc)'!M184=\"\",\"\",'Comm Device (Desc)'!M184)","v":""},{"$f":"IF('Comm Device (Desc)'!N184=\"\",\"\",'Comm Device (Desc)'!N184)","v":""},{"$f":"IF('Comm Device (Desc)'!O184=\"\",\"\",'Comm Device (Desc)'!O184)","v":""},{"$f":"IF('Comm Device (Desc)'!P184=\"\",\"\",INDEX([1]DEV_INPUT_VOLTAGE!$A$2:$A$100,MATCH('Comm Device (Desc)'!$P184,[1]!MASTER_DEV_INPUT_VOLTAGE_DESC[#Data],0),0))","v":""},{"$f":"IF('Comm Device (Desc)'!Q184=\"\",\"\",'Comm Device (Desc)'!Q184)","v":""},{"$f":"IF('Comm Device (Desc)'!R184=\"\",\"\",'Comm Device (Desc)'!R184)","v":""},{"$f":"IF('Comm Device (Desc)'!S184=\"\",\"\",'Comm Device (Desc)'!S184)","v":""},{"$f":"IF('Comm Device (Desc)'!T184=\"\",\"\",'Comm Device (Desc)'!T184)","v":""},{"$f":"IF('Comm Device (Desc)'!U184=\"\",\"\",'Comm Device (Desc)'!U184)","v":""},{"$f":"IF('Comm Device (Desc)'!V184=\"\",\"\",INDEX([1]FIBER_CONN_TYPE!$A$2:$A$100,MATCH('Comm Device (Desc)'!$V184,[1]!MASTER_FIBER_CONN_TYPE_DESC[#Data],0),0))","v":""}]
[{"$f":"IF('Comm Device (Desc)'!A185=\"\",\"\",'Comm Device (Desc)'!A185)","v":""},{"$f":"IF('Comm Device (Desc)'!C185=\"\",\"\",\"2029\")","v":""},{"$f":"IF('Comm Device (Desc)'!C185=\"\",\"\",'Comm Device (Desc)'!C185)","v":""},{"$f":"IF('Comm Device (Desc)'!D185=\"\",\"\",INDEX([1]OWNER!$A$2:$A$100,MATCH('Comm Device (Desc)'!$D185,[1]!MASTER_OWNER_DESC[#Data],0),0))","v":""},{"$f":"IF('Comm Device (Desc)'!F185=\"\",\"\",INDEX([1]ITS_COMM_DEV_TYPE!$A$2:$A$100,MATCH('Comm Device (Desc)'!$F185,[1]!MASTER_ITS_COMM_DEV_TYPE_DESC[#Data],0),0))","v":""},{"$f":"IF('Comm Device (Desc)'!G185=\"\",\"\",INDEX([1]COMM_TYPE!$A$2:$A$100,MATCH('Comm Device (Desc)'!$G185,[1]!MASTER_COMM_TYPE_DESC[#Data],0),0))","v":""},{"$f":"IF('Comm Device (Desc)'!H185=\"\",\"\",'Comm Device (Desc)'!H185)","v":""},{"$f":"IF('Comm Device (Desc)'!I185=\"\",\"\",'Comm Device (Desc)'!I185)","v":""},{"$f":"IF('Comm Device (Desc)'!J185=\"\",\"\",INDEX([1]ITS_COMM_DEV_MANUF!$A$2:$A$300,MATCH(1,([1]ITS_COMM_DEV_MANUF!$B$2:$B$300='Comm Device (Desc)'!$J185)*([1]ITS_COMM_DEV_MANUF!$C$2:$C$300='Comm Device (Code)'!$E185),0),0))","v":""},{"$f":"IF('Comm Device (Desc)'!K185=\"\",\"\",INDEX([1]ITS_COMM_DEV_MODEL!$A$2:$A$500,MATCH(1,([1]ITS_COMM_DEV_MODEL!$C$2:$C$500='Comm Device (Desc)'!$J185)*([1]ITS_COMM_DEV_MODEL!$D$2:$D$500='Comm Device (Code)'!$E185)*([1]ITS_COMM_DEV_MODEL!$E$2:$E$500='Comm Device (Desc)'!$K185),0),0))","v":""},{"$f":"IF('Comm Device (Desc)'!L185=\"\",\"\",'Comm Device (Desc)'!L185)","v":""},{"$f":"IF('Comm Device (Desc)'!M185=\"\",\"\",'Comm Device (Desc)'!M185)","v":""},{"$f":"IF('Comm Device (Desc)'!N185=\"\",\"\",'Comm Device (Desc)'!N185)","v":""},{"$f":"IF('Comm Device (Desc)'!O185=\"\",\"\",'Comm Device (Desc)'!O185)","v":""},{"$f":"IF('Comm Device (Desc)'!P185=\"\",\"\",INDEX([1]DEV_INPUT_VOLTAGE!$A$2:$A$100,MATCH('Comm Device (Desc)'!$P185,[1]!MASTER_DEV_INPUT_VOLTAGE_DESC[#Data],0),0))","v":""},{"$f":"IF('Comm Device (Desc)'!Q185=\"\",\"\",'Comm Device (Desc)'!Q185)","v":""},{"$f":"IF('Comm Device (Desc)'!R185=\"\",\"\",'Comm Device (Desc)'!R185)","v":""},{"$f":"IF('Comm Device (Desc)'!S185=\"\",\"\",'Comm Device (Desc)'!S185)","v":""},{"$f":"IF('Comm Device (Desc)'!T185=\"\",\"\",'Comm Device (Desc)'!T185)","v":""},{"$f":"IF('Comm Device (Desc)'!U185=\"\",\"\",'Comm Device (Desc)'!U185)","v":""},{"$f":"IF('Comm Device (Desc)'!V185=\"\",\"\",INDEX([1]FIBER_CONN_TYPE!$A$2:$A$100,MATCH('Comm Device (Desc)'!$V185,[1]!MASTER_FIBER_CONN_TYPE_DESC[#Data],0),0))","v":""}]
[{"$f":"IF('Comm Device (Desc)'!A186=\"\",\"\",'Comm Device (Desc)'!A186)","v":""},{"$f":"IF('Comm Device (Desc)'!C186=\"\",\"\",\"2029\")","v":""},{"$f":"IF('Comm Device (Desc)'!C186=\"\",\"\",'Comm Device (Desc)'!C186)","v":""},{"$f":"IF('Comm Device (Desc)'!D186=\"\",\"\",INDEX([1]OWNER!$A$2:$A$100,MATCH('Comm Device (Desc)'!$D186,[1]!MASTER_OWNER_DESC[#Data],0),0))","v":""},{"$f":"IF('Comm Device (Desc)'!F186=\"\",\"\",INDEX([1]ITS_COMM_DEV_TYPE!$A$2:$A$100,MATCH('Comm Device (Desc)'!$F186,[1]!MASTER_ITS_COMM_DEV_TYPE_DESC[#Data],0),0))","v":""},{"$f":"IF('Comm Device (Desc)'!G186=\"\",\"\",INDEX([1]COMM_TYPE!$A$2:$A$100,MATCH('Comm Device (Desc)'!$G186,[1]!MASTER_COMM_TYPE_DESC[#Data],0),0))","v":""},{"$f":"IF('Comm Device (Desc)'!H186=\"\",\"\",'Comm Device (Desc)'!H186)","v":""},{"$f":"IF('Comm Device (Desc)'!I186=\"\",\"\",'Comm Device (Desc)'!I186)","v":""},{"$f":"IF('Comm Device (Desc)'!J186=\"\",\"\",INDEX([1]ITS_COMM_DEV_MANUF!$A$2:$A$300,MATCH(1,([1]ITS_COMM_DEV_MANUF!$B$2:$B$300='Comm Device (Desc)'!$J186)*([1]ITS_COMM_DEV_MANUF!$C$2:$C$300='Comm Device (Code)'!$E186),0),0))","v":""},{"$f":"IF('Comm Device (Desc)'!K186=\"\",\"\",INDEX([1]ITS_COMM_DEV_MODEL!$A$2:$A$500,MATCH(1,([1]ITS_COMM_DEV_MODEL!$C$2:$C$500='Comm Device (Desc)'!$J186)*([1]ITS_COMM_DEV_MODEL!$D$2:$D$500='Comm Device (Code)'!$E186)*([1]ITS_COMM_DEV_MODEL!$E$2:$E$500='Comm Device (Desc)'!$K186),0),0))","v":""},{"$f":"IF('Comm Device (Desc)'!L186=\"\",\"\",'Comm Device (Desc)'!L186)","v":""},{"$f":"IF('Comm Device (Desc)'!M186=\"\",\"\",'Comm Device (Desc)'!M186)","v":""},{"$f":"IF('Comm Device (Desc)'!N186=\"\",\"\",'Comm Device (Desc)'!N186)","v":""},{"$f":"IF('Comm Device (Desc)'!O186=\"\",\"\",'Comm Device (Desc)'!O186)","v":""},{"$f":"IF('Comm Device (Desc)'!P186=\"\",\"\",INDEX([1]DEV_INPUT_VOLTAGE!$A$2:$A$100,MATCH('Comm Device (Desc)'!$P186,[1]!MASTER_DEV_INPUT_VOLTAGE_DESC[#Data],0),0))","v":""},{"$f":"IF('Comm Device (Desc)'!Q186=\"\",\"\",'Comm Device (Desc)'!Q186)","v":""},{"$f":"IF('Comm Device (Desc)'!R186=\"\",\"\",'Comm Device (Desc)'!R186)","v":""},{"$f":"IF('Comm Device (Desc)'!S186=\"\",\"\",'Comm Device (Desc)'!S186)","v":""},{"$f":"IF('Comm Device (Desc)'!T186=\"\",\"\",'Comm Device (Desc)'!T186)","v":""},{"$f":"IF('Comm Device (Desc)'!U186=\"\",\"\",'Comm Device (Desc)'!U186)","v":""},{"$f":"IF('Comm Device (Desc)'!V186=\"\",\"\",INDEX([1]FIBER_CONN_TYPE!$A$2:$A$100,MATCH('Comm Device (Desc)'!$V186,[1]!MASTER_FIBER_CONN_TYPE_DESC[#Data],0),0))","v":""}]
[{"$f":"IF('Comm Device (Desc)'!A187=\"\",\"\",'Comm Device (Desc)'!A187)","v":""},{"$f":"IF('Comm Device (Desc)'!C187=\"\",\"\",\"2029\")","v":""},{"$f":"IF('Comm Device (Desc)'!C187=\"\",\"\",'Comm Device (Desc)'!C187)","v":""},{"$f":"IF('Comm Device (Desc)'!D187=\"\",\"\",INDEX([1]OWNER!$A$2:$A$100,MATCH('Comm Device (Desc)'!$D187,[1]!MASTER_OWNER_DESC[#Data],0),0))","v":""},{"$f":"IF('Comm Device (Desc)'!F187=\"\",\"\",INDEX([1]ITS_COMM_DEV_TYPE!$A$2:$A$100,MATCH('Comm Device (Desc)'!$F187,[1]!MASTER_ITS_COMM_DEV_TYPE_DESC[#Data],0),0))","v":""},{"$f":"IF('Comm Device (Desc)'!G187=\"\",\"\",INDEX([1]COMM_TYPE!$A$2:$A$100,MATCH('Comm Device (Desc)'!$G187,[1]!MASTER_COMM_TYPE_DESC[#Data],0),0))","v":""},{"$f":"IF('Comm Device (Desc)'!H187=\"\",\"\",'Comm Device (Desc)'!H187)","v":""},{"$f":"IF('Comm Device (Desc)'!I187=\"\",\"\",'Comm Device (Desc)'!I187)","v":""},{"$f":"IF('Comm Device (Desc)'!J187=\"\",\"\",INDEX([1]ITS_COMM_DEV_MANUF!$A$2:$A$300,MATCH(1,([1]ITS_COMM_DEV_MANUF!$B$2:$B$300='Comm Device (Desc)'!$J187)*([1]ITS_COMM_DEV_MANUF!$C$2:$C$300='Comm Device (Code)'!$E187),0),0))","v":""},{"$f":"IF('Comm Device (Desc)'!K187=\"\",\"\",INDEX([1]ITS_COMM_DEV_MODEL!$A$2:$A$500,MATCH(1,([1]ITS_COMM_DEV_MODEL!$C$2:$C$500='Comm Device (Desc)'!$J187)*([1]ITS_COMM_DEV_MODEL!$D$2:$D$500='Comm Device (Code)'!$E187)*([1]ITS_COMM_DEV_MODEL!$E$2:$E$500='Comm Device (Desc)'!$K187),0),0))","v":""},{"$f":"IF('Comm Device (Desc)'!L187=\"\",\"\",'Comm Device (Desc)'!L187)","v":""},{"$f":"IF('Comm Device (Desc)'!M187=\"\",\"\",'Comm Device (Desc)'!M187)","v":""},{"$f":"IF('Comm Device (Desc)'!N187=\"\",\"\",'Comm Device (Desc)'!N187)","v":""},{"$f":"IF('Comm Device (Desc)'!O187=\"\",\"\",'Comm Device (Desc)'!O187)","v":""},{"$f":"IF('Comm Device (Desc)'!P187=\"\",\"\",INDEX([1]DEV_INPUT_VOLTAGE!$A$2:$A$100,MATCH('Comm Device (Desc)'!$P187,[1]!MASTER_DEV_INPUT_VOLTAGE_DESC[#Data],0),0))","v":""},{"$f":"IF('Comm Device (Desc)'!Q187=\"\",\"\",'Comm Device (Desc)'!Q187)","v":""},{"$f":"IF('Comm Device (Desc)'!R187=\"\",\"\",'Comm Device (Desc)'!R187)","v":""},{"$f":"IF('Comm Device (Desc)'!S187=\"\",\"\",'Comm Device (Desc)'!S187)","v":""},{"$f":"IF('Comm Device (Desc)'!T187=\"\",\"\",'Comm Device (Desc)'!T187)","v":""},{"$f":"IF('Comm Device (Desc)'!U187=\"\",\"\",'Comm Device (Desc)'!U187)","v":""},{"$f":"IF('Comm Device (Desc)'!V187=\"\",\"\",INDEX([1]FIBER_CONN_TYPE!$A$2:$A$100,MATCH('Comm Device (Desc)'!$V187,[1]!MASTER_FIBER_CONN_TYPE_DESC[#Data],0),0))","v":""}]
[{"$f":"IF('Comm Device (Desc)'!A188=\"\",\"\",'Comm Device (Desc)'!A188)","v":""},{"$f":"IF('Comm Device (Desc)'!C188=\"\",\"\",\"2029\")","v":""},{"$f":"IF('Comm Device (Desc)'!C188=\"\",\"\",'Comm Device (Desc)'!C188)","v":""},{"$f":"IF('Comm Device (Desc)'!D188=\"\",\"\",INDEX([1]OWNER!$A$2:$A$100,MATCH('Comm Device (Desc)'!$D188,[1]!MASTER_OWNER_DESC[#Data],0),0))","v":""},{"$f":"IF('Comm Device (Desc)'!F188=\"\",\"\",INDEX([1]ITS_COMM_DEV_TYPE!$A$2:$A$100,MATCH('Comm Device (Desc)'!$F188,[1]!MASTER_ITS_COMM_DEV_TYPE_DESC[#Data],0),0))","v":""},{"$f":"IF('Comm Device (Desc)'!G188=\"\",\"\",INDEX([1]COMM_TYPE!$A$2:$A$100,MATCH('Comm Device (Desc)'!$G188,[1]!MASTER_COMM_TYPE_DESC[#Data],0),0))","v":""},{"$f":"IF('Comm Device (Desc)'!H188=\"\",\"\",'Comm Device (Desc)'!H188)","v":""},{"$f":"IF('Comm Device (Desc)'!I188=\"\",\"\",'Comm Device (Desc)'!I188)","v":""},{"$f":"IF('Comm Device (Desc)'!J188=\"\",\"\",INDEX([1]ITS_COMM_DEV_MANUF!$A$2:$A$300,MATCH(1,([1]ITS_COMM_DEV_MANUF!$B$2:$B$300='Comm Device (Desc)'!$J188)*([1]ITS_COMM_DEV_MANUF!$C$2:$C$300='Comm Device (Code)'!$E188),0),0))","v":""},{"$f":"IF('Comm Device (Desc)'!K188=\"\",\"\",INDEX([1]ITS_COMM_DEV_MODEL!$A$2:$A$500,MATCH(1,([1]ITS_COMM_DEV_MODEL!$C$2:$C$500='Comm Device (Desc)'!$J188)*([1]ITS_COMM_DEV_MODEL!$D$2:$D$500='Comm Device (Code)'!$E188)*([1]ITS_COMM_DEV_MODEL!$E$2:$E$500='Comm Device (Desc)'!$K188),0),0))","v":""},{"$f":"IF('Comm Device (Desc)'!L188=\"\",\"\",'Comm Device (Desc)'!L188)","v":""},{"$f":"IF('Comm Device (Desc)'!M188=\"\",\"\",'Comm Device (Desc)'!M188)","v":""},{"$f":"IF('Comm Device (Desc)'!N188=\"\",\"\",'Comm Device (Desc)'!N188)","v":""},{"$f":"IF('Comm Device (Desc)'!O188=\"\",\"\",'Comm Device (Desc)'!O188)","v":""},{"$f":"IF('Comm Device (Desc)'!P188=\"\",\"\",INDEX([1]DEV_INPUT_VOLTAGE!$A$2:$A$100,MATCH('Comm Device (Desc)'!$P188,[1]!MASTER_DEV_INPUT_VOLTAGE_DESC[#Data],0),0))","v":""},{"$f":"IF('Comm Device (Desc)'!Q188=\"\",\"\",'Comm Device (Desc)'!Q188)","v":""},{"$f":"IF('Comm Device (Desc)'!R188=\"\",\"\",'Comm Device (Desc)'!R188)","v":""},{"$f":"IF('Comm Device (Desc)'!S188=\"\",\"\",'Comm Device (Desc)'!S188)","v":""},{"$f":"IF('Comm Device (Desc)'!T188=\"\",\"\",'Comm Device (Desc)'!T188)","v":""},{"$f":"IF('Comm Device (Desc)'!U188=\"\",\"\",'Comm Device (Desc)'!U188)","v":""},{"$f":"IF('Comm Device (Desc)'!V188=\"\",\"\",INDEX([1]FIBER_CONN_TYPE!$A$2:$A$100,MATCH('Comm Device (Desc)'!$V188,[1]!MASTER_FIBER_CONN_TYPE_DESC[#Data],0),0))","v":""}]
[{"$f":"IF('Comm Device (Desc)'!A189=\"\",\"\",'Comm Device (Desc)'!A189)","v":""},{"$f":"IF('Comm Device (Desc)'!C189=\"\",\"\",\"2029\")","v":""},{"$f":"IF('Comm Device (Desc)'!C189=\"\",\"\",'Comm Device (Desc)'!C189)","v":""},{"$f":"IF('Comm Device (Desc)'!D189=\"\",\"\",INDEX([1]OWNER!$A$2:$A$100,MATCH('Comm Device (Desc)'!$D189,[1]!MASTER_OWNER_DESC[#Data],0),0))","v":""},{"$f":"IF('Comm Device (Desc)'!F189=\"\",\"\",INDEX([1]ITS_COMM_DEV_TYPE!$A$2:$A$100,MATCH('Comm Device (Desc)'!$F189,[1]!MASTER_ITS_COMM_DEV_TYPE_DESC[#Data],0),0))","v":""},{"$f":"IF('Comm Device (Desc)'!G189=\"\",\"\",INDEX([1]COMM_TYPE!$A$2:$A$100,MATCH('Comm Device (Desc)'!$G189,[1]!MASTER_COMM_TYPE_DESC[#Data],0),0))","v":""},{"$f":"IF('Comm Device (Desc)'!H189=\"\",\"\",'Comm Device (Desc)'!H189)","v":""},{"$f":"IF('Comm Device (Desc)'!I189=\"\",\"\",'Comm Device (Desc)'!I189)","v":""},{"$f":"IF('Comm Device (Desc)'!J189=\"\",\"\",INDEX([1]ITS_COMM_DEV_MANUF!$A$2:$A$300,MATCH(1,([1]ITS_COMM_DEV_MANUF!$B$2:$B$300='Comm Device (Desc)'!$J189)*([1]ITS_COMM_DEV_MANUF!$C$2:$C$300='Comm Device (Code)'!$E189),0),0))","v":""},{"$f":"IF('Comm Device (Desc)'!K189=\"\",\"\",INDEX([1]ITS_COMM_DEV_MODEL!$A$2:$A$500,MATCH(1,([1]ITS_COMM_DEV_MODEL!$C$2:$C$500='Comm Device (Desc)'!$J189)*([1]ITS_COMM_DEV_MODEL!$D$2:$D$500='Comm Device (Code)'!$E189)*([1]ITS_COMM_DEV_MODEL!$E$2:$E$500='Comm Device (Desc)'!$K189),0),0))","v":""},{"$f":"IF('Comm Device (Desc)'!L189=\"\",\"\",'Comm Device (Desc)'!L189)","v":""},{"$f":"IF('Comm Device (Desc)'!M189=\"\",\"\",'Comm Device (Desc)'!M189)","v":""},{"$f":"IF('Comm Device (Desc)'!N189=\"\",\"\",'Comm Device (Desc)'!N189)","v":""},{"$f":"IF('Comm Device (Desc)'!O189=\"\",\"\",'Comm Device (Desc)'!O189)","v":""},{"$f":"IF('Comm Device (Desc)'!P189=\"\",\"\",INDEX([1]DEV_INPUT_VOLTAGE!$A$2:$A$100,MATCH('Comm Device (Desc)'!$P189,[1]!MASTER_DEV_INPUT_VOLTAGE_DESC[#Data],0),0))","v":""},{"$f":"IF('Comm Device (Desc)'!Q189=\"\",\"\",'Comm Device (Desc)'!Q189)","v":""},{"$f":"IF('Comm Device (Desc)'!R189=\"\",\"\",'Comm Device (Desc)'!R189)","v":""},{"$f":"IF('Comm Device (Desc)'!S189=\"\",\"\",'Comm Device (Desc)'!S189)","v":""},{"$f":"IF('Comm Device (Desc)'!T189=\"\",\"\",'Comm Device (Desc)'!T189)","v":""},{"$f":"IF('Comm Device (Desc)'!U189=\"\",\"\",'Comm Device (Desc)'!U189)","v":""},{"$f":"IF('Comm Device (Desc)'!V189=\"\",\"\",INDEX([1]FIBER_CONN_TYPE!$A$2:$A$100,MATCH('Comm Device (Desc)'!$V189,[1]!MASTER_FIBER_CONN_TYPE_DESC[#Data],0),0))","v":""}]
[{"$f":"IF('Comm Device (Desc)'!A190=\"\",\"\",'Comm Device (Desc)'!A190)","v":""},{"$f":"IF('Comm Device (Desc)'!C190=\"\",\"\",\"2029\")","v":""},{"$f":"IF('Comm Device (Desc)'!C190=\"\",\"\",'Comm Device (Desc)'!C190)","v":""},{"$f":"IF('Comm Device (Desc)'!D190=\"\",\"\",INDEX([1]OWNER!$A$2:$A$100,MATCH('Comm Device (Desc)'!$D190,[1]!MASTER_OWNER_DESC[#Data],0),0))","v":""},{"$f":"IF('Comm Device (Desc)'!F190=\"\",\"\",INDEX([1]ITS_COMM_DEV_TYPE!$A$2:$A$100,MATCH('Comm Device (Desc)'!$F190,[1]!MASTER_ITS_COMM_DEV_TYPE_DESC[#Data],0),0))","v":""},{"$f":"IF('Comm Device (Desc)'!G190=\"\",\"\",INDEX([1]COMM_TYPE!$A$2:$A$100,MATCH('Comm Device (Desc)'!$G190,[1]!MASTER_COMM_TYPE_DESC[#Data],0),0))","v":""},{"$f":"IF('Comm Device (Desc)'!H190=\"\",\"\",'Comm Device (Desc)'!H190)","v":""},{"$f":"IF('Comm Device (Desc)'!I190=\"\",\"\",'Comm Device (Desc)'!I190)","v":""},{"$f":"IF('Comm Device (Desc)'!J190=\"\",\"\",INDEX([1]ITS_COMM_DEV_MANUF!$A$2:$A$300,MATCH(1,([1]ITS_COMM_DEV_MANUF!$B$2:$B$300='Comm Device (Desc)'!$J190)*([1]ITS_COMM_DEV_MANUF!$C$2:$C$300='Comm Device (Code)'!$E190),0),0))","v":""},{"$f":"IF('Comm Device (Desc)'!K190=\"\",\"\",INDEX([1]ITS_COMM_DEV_MODEL!$A$2:$A$500,MATCH(1,([1]ITS_COMM_DEV_MODEL!$C$2:$C$500='Comm Device (Desc)'!$J190)*([1]ITS_COMM_DEV_MODEL!$D$2:$D$500='Comm Device (Code)'!$E190)*([1]ITS_COMM_DEV_MODEL!$E$2:$E$500='Comm Device (Desc)'!$K190),0),0))","v":""},{"$f":"IF('Comm Device (Desc)'!L190=\"\",\"\",'Comm Device (Desc)'!L190)","v":""},{"$f":"IF('Comm Device (Desc)'!M190=\"\",\"\",'Comm Device (Desc)'!M190)","v":""},{"$f":"IF('Comm Device (Desc)'!N190=\"\",\"\",'Comm Device (Desc)'!N190)","v":""},{"$f":"IF('Comm Device (Desc)'!O190=\"\",\"\",'Comm Device (Desc)'!O190)","v":""},{"$f":"IF('Comm Device (Desc)'!P190=\"\",\"\",INDEX([1]DEV_INPUT_VOLTAGE!$A$2:$A$100,MATCH('Comm Device (Desc)'!$P190,[1]!MASTER_DEV_INPUT_VOLTAGE_DESC[#Data],0),0))","v":""},{"$f":"IF('Comm Device (Desc)'!Q190=\"\",\"\",'Comm Device (Desc)'!Q190)","v":""},{"$f":"IF('Comm Device (Desc)'!R190=\"\",\"\",'Comm Device (Desc)'!R190)","v":""},{"$f":"IF('Comm Device (Desc)'!S190=\"\",\"\",'Comm Device (Desc)'!S190)","v":""},{"$f":"IF('Comm Device (Desc)'!T190=\"\",\"\",'Comm Device (Desc)'!T190)","v":""},{"$f":"IF('Comm Device (Desc)'!U190=\"\",\"\",'Comm Device (Desc)'!U190)","v":""},{"$f":"IF('Comm Device (Desc)'!V190=\"\",\"\",INDEX([1]FIBER_CONN_TYPE!$A$2:$A$100,MATCH('Comm Device (Desc)'!$V190,[1]!MASTER_FIBER_CONN_TYPE_DESC[#Data],0),0))","v":""}]
[{"$f":"IF('Comm Device (Desc)'!A191=\"\",\"\",'Comm Device (Desc)'!A191)","v":""},{"$f":"IF('Comm Device (Desc)'!C191=\"\",\"\",\"2029\")","v":""},{"$f":"IF('Comm Device (Desc)'!C191=\"\",\"\",'Comm Device (Desc)'!C191)","v":""},{"$f":"IF('Comm Device (Desc)'!D191=\"\",\"\",INDEX([1]OWNER!$A$2:$A$100,MATCH('Comm Device (Desc)'!$D191,[1]!MASTER_OWNER_DESC[#Data],0),0))","v":""},{"$f":"IF('Comm Device (Desc)'!F191=\"\",\"\",INDEX([1]ITS_COMM_DEV_TYPE!$A$2:$A$100,MATCH('Comm Device (Desc)'!$F191,[1]!MASTER_ITS_COMM_DEV_TYPE_DESC[#Data],0),0))","v":""},{"$f":"IF('Comm Device (Desc)'!G191=\"\",\"\",INDEX([1]COMM_TYPE!$A$2:$A$100,MATCH('Comm Device (Desc)'!$G191,[1]!MASTER_COMM_TYPE_DESC[#Data],0),0))","v":""},{"$f":"IF('Comm Device (Desc)'!H191=\"\",\"\",'Comm Device (Desc)'!H191)","v":""},{"$f":"IF('Comm Device (Desc)'!I191=\"\",\"\",'Comm Device (Desc)'!I191)","v":""},{"$f":"IF('Comm Device (Desc)'!J191=\"\",\"\",INDEX([1]ITS_COMM_DEV_MANUF!$A$2:$A$300,MATCH(1,([1]ITS_COMM_DEV_MANUF!$B$2:$B$300='Comm Device (Desc)'!$J191)*([1]ITS_COMM_DEV_MANUF!$C$2:$C$300='Comm Device (Code)'!$E191),0),0))","v":""},{"$f":"IF('Comm Device (Desc)'!K191=\"\",\"\",INDEX([1]ITS_COMM_DEV_MODEL!$A$2:$A$500,MATCH(1,([1]ITS_COMM_DEV_MODEL!$C$2:$C$500='Comm Device (Desc)'!$J191)*([1]ITS_COMM_DEV_MODEL!$D$2:$D$500='Comm Device (Code)'!$E191)*([1]ITS_COMM_DEV_MODEL!$E$2:$E$500='Comm Device (Desc)'!$K191),0),0))","v":""},{"$f":"IF('Comm Device (Desc)'!L191=\"\",\"\",'Comm Device (Desc)'!L191)","v":""},{"$f":"IF('Comm Device (Desc)'!M191=\"\",\"\",'Comm Device (Desc)'!M191)","v":""},{"$f":"IF('Comm Device (Desc)'!N191=\"\",\"\",'Comm Device (Desc)'!N191)","v":""},{"$f":"IF('Comm Device (Desc)'!O191=\"\",\"\",'Comm Device (Desc)'!O191)","v":""},{"$f":"IF('Comm Device (Desc)'!P191=\"\",\"\",INDEX([1]DEV_INPUT_VOLTAGE!$A$2:$A$100,MATCH('Comm Device (Desc)'!$P191,[1]!MASTER_DEV_INPUT_VOLTAGE_DESC[#Data],0),0))","v":""},{"$f":"IF('Comm Device (Desc)'!Q191=\"\",\"\",'Comm Device (Desc)'!Q191)","v":""},{"$f":"IF('Comm Device (Desc)'!R191=\"\",\"\",'Comm Device (Desc)'!R191)","v":""},{"$f":"IF('Comm Device (Desc)'!S191=\"\",\"\",'Comm Device (Desc)'!S191)","v":""},{"$f":"IF('Comm Device (Desc)'!T191=\"\",\"\",'Comm Device (Desc)'!T191)","v":""},{"$f":"IF('Comm Device (Desc)'!U191=\"\",\"\",'Comm Device (Desc)'!U191)","v":""},{"$f":"IF('Comm Device (Desc)'!V191=\"\",\"\",INDEX([1]FIBER_CONN_TYPE!$A$2:$A$100,MATCH('Comm Device (Desc)'!$V191,[1]!MASTER_FIBER_CONN_TYPE_DESC[#Data],0),0))","v":""}]
[{"$f":"IF('Comm Device (Desc)'!A192=\"\",\"\",'Comm Device (Desc)'!A192)","v":""},{"$f":"IF('Comm Device (Desc)'!C192=\"\",\"\",\"2029\")","v":""},{"$f":"IF('Comm Device (Desc)'!C192=\"\",\"\",'Comm Device (Desc)'!C192)","v":""},{"$f":"IF('Comm Device (Desc)'!D192=\"\",\"\",INDEX([1]OWNER!$A$2:$A$100,MATCH('Comm Device (Desc)'!$D192,[1]!MASTER_OWNER_DESC[#Data],0),0))","v":""},{"$f":"IF('Comm Device (Desc)'!F192=\"\",\"\",INDEX([1]ITS_COMM_DEV_TYPE!$A$2:$A$100,MATCH('Comm Device (Desc)'!$F192,[1]!MASTER_ITS_COMM_DEV_TYPE_DESC[#Data],0),0))","v":""},{"$f":"IF('Comm Device (Desc)'!G192=\"\",\"\",INDEX([1]COMM_TYPE!$A$2:$A$100,MATCH('Comm Device (Desc)'!$G192,[1]!MASTER_COMM_TYPE_DESC[#Data],0),0))","v":""},{"$f":"IF('Comm Device (Desc)'!H192=\"\",\"\",'Comm Device (Desc)'!H192)","v":""},{"$f":"IF('Comm Device (Desc)'!I192=\"\",\"\",'Comm Device (Desc)'!I192)","v":""},{"$f":"IF('Comm Device (Desc)'!J192=\"\",\"\",INDEX([1]ITS_COMM_DEV_MANUF!$A$2:$A$300,MATCH(1,([1]ITS_COMM_DEV_MANUF!$B$2:$B$300='Comm Device (Desc)'!$J192)*([1]ITS_COMM_DEV_MANUF!$C$2:$C$300='Comm Device (Code)'!$E192),0),0))","v":""},{"$f":"IF('Comm Device (Desc)'!K192=\"\",\"\",INDEX([1]ITS_COMM_DEV_MODEL!$A$2:$A$500,MATCH(1,([1]ITS_COMM_DEV_MODEL!$C$2:$C$500='Comm Device (Desc)'!$J192)*([1]ITS_COMM_DEV_MODEL!$D$2:$D$500='Comm Device (Code)'!$E192)*([1]ITS_COMM_DEV_MODEL!$E$2:$E$500='Comm Device (Desc)'!$K192),0),0))","v":""},{"$f":"IF('Comm Device (Desc)'!L192=\"\",\"\",'Comm Device (Desc)'!L192)","v":""},{"$f":"IF('Comm Device (Desc)'!M192=\"\",\"\",'Comm Device (Desc)'!M192)","v":""},{"$f":"IF('Comm Device (Desc)'!N192=\"\",\"\",'Comm Device (Desc)'!N192)","v":""},{"$f":"IF('Comm Device (Desc)'!O192=\"\",\"\",'Comm Device (Desc)'!O192)","v":""},{"$f":"IF('Comm Device (Desc)'!P192=\"\",\"\",INDEX([1]DEV_INPUT_VOLTAGE!$A$2:$A$100,MATCH('Comm Device (Desc)'!$P192,[1]!MASTER_DEV_INPUT_VOLTAGE_DESC[#Data],0),0))","v":""},{"$f":"IF('Comm Device (Desc)'!Q192=\"\",\"\",'Comm Device (Desc)'!Q192)","v":""},{"$f":"IF('Comm Device (Desc)'!R192=\"\",\"\",'Comm Device (Desc)'!R192)","v":""},{"$f":"IF('Comm Device (Desc)'!S192=\"\",\"\",'Comm Device (Desc)'!S192)","v":""},{"$f":"IF('Comm Device (Desc)'!T192=\"\",\"\",'Comm Device (Desc)'!T192)","v":""},{"$f":"IF('Comm Device (Desc)'!U192=\"\",\"\",'Comm Device (Desc)'!U192)","v":""},{"$f":"IF('Comm Device (Desc)'!V192=\"\",\"\",INDEX([1]FIBER_CONN_TYPE!$A$2:$A$100,MATCH('Comm Device (Desc)'!$V192,[1]!MASTER_FIBER_CONN_TYPE_DESC[#Data],0),0))","v":""}]
[{"$f":"IF('Comm Device (Desc)'!A193=\"\",\"\",'Comm Device (Desc)'!A193)","v":""},{"$f":"IF('Comm Device (Desc)'!C193=\"\",\"\",\"2029\")","v":""},{"$f":"IF('Comm Device (Desc)'!C193=\"\",\"\",'Comm Device (Desc)'!C193)","v":""},{"$f":"IF('Comm Device (Desc)'!D193=\"\",\"\",INDEX([1]OWNER!$A$2:$A$100,MATCH('Comm Device (Desc)'!$D193,[1]!MASTER_OWNER_DESC[#Data],0),0))","v":""},{"$f":"IF('Comm Device (Desc)'!F193=\"\",\"\",INDEX([1]ITS_COMM_DEV_TYPE!$A$2:$A$100,MATCH('Comm Device (Desc)'!$F193,[1]!MASTER_ITS_COMM_DEV_TYPE_DESC[#Data],0),0))","v":""},{"$f":"IF('Comm Device (Desc)'!G193=\"\",\"\",INDEX([1]COMM_TYPE!$A$2:$A$100,MATCH('Comm Device (Desc)'!$G193,[1]!MASTER_COMM_TYPE_DESC[#Data],0),0))","v":""},{"$f":"IF('Comm Device (Desc)'!H193=\"\",\"\",'Comm Device (Desc)'!H193)","v":""},{"$f":"IF('Comm Device (Desc)'!I193=\"\",\"\",'Comm Device (Desc)'!I193)","v":""},{"$f":"IF('Comm Device (Desc)'!J193=\"\",\"\",INDEX([1]ITS_COMM_DEV_MANUF!$A$2:$A$300,MATCH(1,([1]ITS_COMM_DEV_MANUF!$B$2:$B$300='Comm Device (Desc)'!$J193)*([1]ITS_COMM_DEV_MANUF!$C$2:$C$300='Comm Device (Code)'!$E193),0),0))","v":""},{"$f":"IF('Comm Device (Desc)'!K193=\"\",\"\",INDEX([1]ITS_COMM_DEV_MODEL!$A$2:$A$500,MATCH(1,([1]ITS_COMM_DEV_MODEL!$C$2:$C$500='Comm Device (Desc)'!$J193)*([1]ITS_COMM_DEV_MODEL!$D$2:$D$500='Comm Device (Code)'!$E193)*([1]ITS_COMM_DEV_MODEL!$E$2:$E$500='Comm Device (Desc)'!$K193),0),0))","v":""},{"$f":"IF('Comm Device (Desc)'!L193=\"\",\"\",'Comm Device (Desc)'!L193)","v":""},{"$f":"IF('Comm Device (Desc)'!M193=\"\",\"\",'Comm Device (Desc)'!M193)","v":""},{"$f":"IF('Comm Device (Desc)'!N193=\"\",\"\",'Comm Device (Desc)'!N193)","v":""},{"$f":"IF('Comm Device (Desc)'!O193=\"\",\"\",'Comm Device (Desc)'!O193)","v":""},{"$f":"IF('Comm Device (Desc)'!P193=\"\",\"\",INDEX([1]DEV_INPUT_VOLTAGE!$A$2:$A$100,MATCH('Comm Device (Desc)'!$P193,[1]!MASTER_DEV_INPUT_VOLTAGE_DESC[#Data],0),0))","v":""},{"$f":"IF('Comm Device (Desc)'!Q193=\"\",\"\",'Comm Device (Desc)'!Q193)","v":""},{"$f":"IF('Comm Device (Desc)'!R193=\"\",\"\",'Comm Device (Desc)'!R193)","v":""},{"$f":"IF('Comm Device (Desc)'!S193=\"\",\"\",'Comm Device (Desc)'!S193)","v":""},{"$f":"IF('Comm Device (Desc)'!T193=\"\",\"\",'Comm Device (Desc)'!T193)","v":""},{"$f":"IF('Comm Device (Desc)'!U193=\"\",\"\",'Comm Device (Desc)'!U193)","v":""},{"$f":"IF('Comm Device (Desc)'!V193=\"\",\"\",INDEX([1]FIBER_CONN_TYPE!$A$2:$A$100,MATCH('Comm Device (Desc)'!$V193,[1]!MASTER_FIBER_CONN_TYPE_DESC[#Data],0),0))","v":""}]
[{"$f":"IF('Comm Device (Desc)'!A194=\"\",\"\",'Comm Device (Desc)'!A194)","v":""},{"$f":"IF('Comm Device (Desc)'!C194=\"\",\"\",\"2029\")","v":""},{"$f":"IF('Comm Device (Desc)'!C194=\"\",\"\",'Comm Device (Desc)'!C194)","v":""},{"$f":"IF('Comm Device (Desc)'!D194=\"\",\"\",INDEX([1]OWNER!$A$2:$A$100,MATCH('Comm Device (Desc)'!$D194,[1]!MASTER_OWNER_DESC[#Data],0),0))","v":""},{"$f":"IF('Comm Device (Desc)'!F194=\"\",\"\",INDEX([1]ITS_COMM_DEV_TYPE!$A$2:$A$100,MATCH('Comm Device (Desc)'!$F194,[1]!MASTER_ITS_COMM_DEV_TYPE_DESC[#Data],0),0))","v":""},{"$f":"IF('Comm Device (Desc)'!G194=\"\",\"\",INDEX([1]COMM_TYPE!$A$2:$A$100,MATCH('Comm Device (Desc)'!$G194,[1]!MASTER_COMM_TYPE_DESC[#Data],0),0))","v":""},{"$f":"IF('Comm Device (Desc)'!H194=\"\",\"\",'Comm Device (Desc)'!H194)","v":""},{"$f":"IF('Comm Device (Desc)'!I194=\"\",\"\",'Comm Device (Desc)'!I194)","v":""},{"$f":"IF('Comm Device (Desc)'!J194=\"\",\"\",INDEX([1]ITS_COMM_DEV_MANUF!$A$2:$A$300,MATCH(1,([1]ITS_COMM_DEV_MANUF!$B$2:$B$300='Comm Device (Desc)'!$J194)*([1]ITS_COMM_DEV_MANUF!$C$2:$C$300='Comm Device (Code)'!$E194),0),0))","v":""},{"$f":"IF('Comm Device (Desc)'!K194=\"\",\"\",INDEX([1]ITS_COMM_DEV_MODEL!$A$2:$A$500,MATCH(1,([1]ITS_COMM_DEV_MODEL!$C$2:$C$500='Comm Device (Desc)'!$J194)*([1]ITS_COMM_DEV_MODEL!$D$2:$D$500='Comm Device (Code)'!$E194)*([1]ITS_COMM_DEV_MODEL!$E$2:$E$500='Comm Device (Desc)'!$K194),0),0))","v":""},{"$f":"IF('Comm Device (Desc)'!L194=\"\",\"\",'Comm Device (Desc)'!L194)","v":""},{"$f":"IF('Comm Device (Desc)'!M194=\"\",\"\",'Comm Device (Desc)'!M194)","v":""},{"$f":"IF('Comm Device (Desc)'!N194=\"\",\"\",'Comm Device (Desc)'!N194)","v":""},{"$f":"IF('Comm Device (Desc)'!O194=\"\",\"\",'Comm Device (Desc)'!O194)","v":""},{"$f":"IF('Comm Device (Desc)'!P194=\"\",\"\",INDEX([1]DEV_INPUT_VOLTAGE!$A$2:$A$100,MATCH('Comm Device (Desc)'!$P194,[1]!MASTER_DEV_INPUT_VOLTAGE_DESC[#Data],0),0))","v":""},{"$f":"IF('Comm Device (Desc)'!Q194=\"\",\"\",'Comm Device (Desc)'!Q194)","v":""},{"$f":"IF('Comm Device (Desc)'!R194=\"\",\"\",'Comm Device (Desc)'!R194)","v":""},{"$f":"IF('Comm Device (Desc)'!S194=\"\",\"\",'Comm Device (Desc)'!S194)","v":""},{"$f":"IF('Comm Device (Desc)'!T194=\"\",\"\",'Comm Device (Desc)'!T194)","v":""},{"$f":"IF('Comm Device (Desc)'!U194=\"\",\"\",'Comm Device (Desc)'!U194)","v":""},{"$f":"IF('Comm Device (Desc)'!V194=\"\",\"\",INDEX([1]FIBER_CONN_TYPE!$A$2:$A$100,MATCH('Comm Device (Desc)'!$V194,[1]!MASTER_FIBER_CONN_TYPE_DESC[#Data],0),0))","v":""}]
[{"$f":"IF('Comm Device (Desc)'!A195=\"\",\"\",'Comm Device (Desc)'!A195)","v":""},{"$f":"IF('Comm Device (Desc)'!C195=\"\",\"\",\"2029\")","v":""},{"$f":"IF('Comm Device (Desc)'!C195=\"\",\"\",'Comm Device (Desc)'!C195)","v":""},{"$f":"IF('Comm Device (Desc)'!D195=\"\",\"\",INDEX([1]OWNER!$A$2:$A$100,MATCH('Comm Device (Desc)'!$D195,[1]!MASTER_OWNER_DESC[#Data],0),0))","v":""},{"$f":"IF('Comm Device (Desc)'!F195=\"\",\"\",INDEX([1]ITS_COMM_DEV_TYPE!$A$2:$A$100,MATCH('Comm Device (Desc)'!$F195,[1]!MASTER_ITS_COMM_DEV_TYPE_DESC[#Data],0),0))","v":""},{"$f":"IF('Comm Device (Desc)'!G195=\"\",\"\",INDEX([1]COMM_TYPE!$A$2:$A$100,MATCH('Comm Device (Desc)'!$G195,[1]!MASTER_COMM_TYPE_DESC[#Data],0),0))","v":""},{"$f":"IF('Comm Device (Desc)'!H195=\"\",\"\",'Comm Device (Desc)'!H195)","v":""},{"$f":"IF('Comm Device (Desc)'!I195=\"\",\"\",'Comm Device (Desc)'!I195)","v":""},{"$f":"IF('Comm Device (Desc)'!J195=\"\",\"\",INDEX([1]ITS_COMM_DEV_MANUF!$A$2:$A$300,MATCH(1,([1]ITS_COMM_DEV_MANUF!$B$2:$B$300='Comm Device (Desc)'!$J195)*([1]ITS_COMM_DEV_MANUF!$C$2:$C$300='Comm Device (Code)'!$E195),0),0))","v":""},{"$f":"IF('Comm Device (Desc)'!K195=\"\",\"\",INDEX([1]ITS_COMM_DEV_MODEL!$A$2:$A$500,MATCH(1,([1]ITS_COMM_DEV_MODEL!$C$2:$C$500='Comm Device (Desc)'!$J195)*([1]ITS_COMM_DEV_MODEL!$D$2:$D$500='Comm Device (Code)'!$E195)*([1]ITS_COMM_DEV_MODEL!$E$2:$E$500='Comm Device (Desc)'!$K195),0),0))","v":""},{"$f":"IF('Comm Device (Desc)'!L195=\"\",\"\",'Comm Device (Desc)'!L195)","v":""},{"$f":"IF('Comm Device (Desc)'!M195=\"\",\"\",'Comm Device (Desc)'!M195)","v":""},{"$f":"IF('Comm Device (Desc)'!N195=\"\",\"\",'Comm Device (Desc)'!N195)","v":""},{"$f":"IF('Comm Device (Desc)'!O195=\"\",\"\",'Comm Device (Desc)'!O195)","v":""},{"$f":"IF('Comm Device (Desc)'!P195=\"\",\"\",INDEX([1]DEV_INPUT_VOLTAGE!$A$2:$A$100,MATCH('Comm Device (Desc)'!$P195,[1]!MASTER_DEV_INPUT_VOLTAGE_DESC[#Data],0),0))","v":""},{"$f":"IF('Comm Device (Desc)'!Q195=\"\",\"\",'Comm Device (Desc)'!Q195)","v":""},{"$f":"IF('Comm Device (Desc)'!R195=\"\",\"\",'Comm Device (Desc)'!R195)","v":""},{"$f":"IF('Comm Device (Desc)'!S195=\"\",\"\",'Comm Device (Desc)'!S195)","v":""},{"$f":"IF('Comm Device (Desc)'!T195=\"\",\"\",'Comm Device (Desc)'!T195)","v":""},{"$f":"IF('Comm Device (Desc)'!U195=\"\",\"\",'Comm Device (Desc)'!U195)","v":""},{"$f":"IF('Comm Device (Desc)'!V195=\"\",\"\",INDEX([1]FIBER_CONN_TYPE!$A$2:$A$100,MATCH('Comm Device (Desc)'!$V195,[1]!MASTER_FIBER_CONN_TYPE_DESC[#Data],0),0))","v":""}]
[{"$f":"IF('Comm Device (Desc)'!A196=\"\",\"\",'Comm Device (Desc)'!A196)","v":""},{"$f":"IF('Comm Device (Desc)'!C196=\"\",\"\",\"2029\")","v":""},{"$f":"IF('Comm Device (Desc)'!C196=\"\",\"\",'Comm Device (Desc)'!C196)","v":""},{"$f":"IF('Comm Device (Desc)'!D196=\"\",\"\",INDEX([1]OWNER!$A$2:$A$100,MATCH('Comm Device (Desc)'!$D196,[1]!MASTER_OWNER_DESC[#Data],0),0))","v":""},{"$f":"IF('Comm Device (Desc)'!F196=\"\",\"\",INDEX([1]ITS_COMM_DEV_TYPE!$A$2:$A$100,MATCH('Comm Device (Desc)'!$F196,[1]!MASTER_ITS_COMM_DEV_TYPE_DESC[#Data],0),0))","v":""},{"$f":"IF('Comm Device (Desc)'!G196=\"\",\"\",INDEX([1]COMM_TYPE!$A$2:$A$100,MATCH('Comm Device (Desc)'!$G196,[1]!MASTER_COMM_TYPE_DESC[#Data],0),0))","v":""},{"$f":"IF('Comm Device (Desc)'!H196=\"\",\"\",'Comm Device (Desc)'!H196)","v":""},{"$f":"IF('Comm Device (Desc)'!I196=\"\",\"\",'Comm Device (Desc)'!I196)","v":""},{"$f":"IF('Comm Device (Desc)'!J196=\"\",\"\",INDEX([1]ITS_COMM_DEV_MANUF!$A$2:$A$300,MATCH(1,([1]ITS_COMM_DEV_MANUF!$B$2:$B$300='Comm Device (Desc)'!$J196)*([1]ITS_COMM_DEV_MANUF!$C$2:$C$300='Comm Device (Code)'!$E196),0),0))","v":""},{"$f":"IF('Comm Device (Desc)'!K196=\"\",\"\",INDEX([1]ITS_COMM_DEV_MODEL!$A$2:$A$500,MATCH(1,([1]ITS_COMM_DEV_MODEL!$C$2:$C$500='Comm Device (Desc)'!$J196)*([1]ITS_COMM_DEV_MODEL!$D$2:$D$500='Comm Device (Code)'!$E196)*([1]ITS_COMM_DEV_MODEL!$E$2:$E$500='Comm Device (Desc)'!$K196),0),0))","v":""},{"$f":"IF('Comm Device (Desc)'!L196=\"\",\"\",'Comm Device (Desc)'!L196)","v":""},{"$f":"IF('Comm Device (Desc)'!M196=\"\",\"\",'Comm Device (Desc)'!M196)","v":""},{"$f":"IF('Comm Device (Desc)'!N196=\"\",\"\",'Comm Device (Desc)'!N196)","v":""},{"$f":"IF('Comm Device (Desc)'!O196=\"\",\"\",'Comm Device (Desc)'!O196)","v":""},{"$f":"IF('Comm Device (Desc)'!P196=\"\",\"\",INDEX([1]DEV_INPUT_VOLTAGE!$A$2:$A$100,MATCH('Comm Device (Desc)'!$P196,[1]!MASTER_DEV_INPUT_VOLTAGE_DESC[#Data],0),0))","v":""},{"$f":"IF('Comm Device (Desc)'!Q196=\"\",\"\",'Comm Device (Desc)'!Q196)","v":""},{"$f":"IF('Comm Device (Desc)'!R196=\"\",\"\",'Comm Device (Desc)'!R196)","v":""},{"$f":"IF('Comm Device (Desc)'!S196=\"\",\"\",'Comm Device (Desc)'!S196)","v":""},{"$f":"IF('Comm Device (Desc)'!T196=\"\",\"\",'Comm Device (Desc)'!T196)","v":""},{"$f":"IF('Comm Device (Desc)'!U196=\"\",\"\",'Comm Device (Desc)'!U196)","v":""},{"$f":"IF('Comm Device (Desc)'!V196=\"\",\"\",INDEX([1]FIBER_CONN_TYPE!$A$2:$A$100,MATCH('Comm Device (Desc)'!$V196,[1]!MASTER_FIBER_CONN_TYPE_DESC[#Data],0),0))","v":""}]
[{"$f":"IF('Comm Device (Desc)'!A197=\"\",\"\",'Comm Device (Desc)'!A197)","v":""},{"$f":"IF('Comm Device (Desc)'!C197=\"\",\"\",\"2029\")","v":""},{"$f":"IF('Comm Device (Desc)'!C197=\"\",\"\",'Comm Device (Desc)'!C197)","v":""},{"$f":"IF('Comm Device (Desc)'!D197=\"\",\"\",INDEX([1]OWNER!$A$2:$A$100,MATCH('Comm Device (Desc)'!$D197,[1]!MASTER_OWNER_DESC[#Data],0),0))","v":""},{"$f":"IF('Comm Device (Desc)'!F197=\"\",\"\",INDEX([1]ITS_COMM_DEV_TYPE!$A$2:$A$100,MATCH('Comm Device (Desc)'!$F197,[1]!MASTER_ITS_COMM_DEV_TYPE_DESC[#Data],0),0))","v":""},{"$f":"IF('Comm Device (Desc)'!G197=\"\",\"\",INDEX([1]COMM_TYPE!$A$2:$A$100,MATCH('Comm Device (Desc)'!$G197,[1]!MASTER_COMM_TYPE_DESC[#Data],0),0))","v":""},{"$f":"IF('Comm Device (Desc)'!H197=\"\",\"\",'Comm Device (Desc)'!H197)","v":""},{"$f":"IF('Comm Device (Desc)'!I197=\"\",\"\",'Comm Device (Desc)'!I197)","v":""},{"$f":"IF('Comm Device (Desc)'!J197=\"\",\"\",INDEX([1]ITS_COMM_DEV_MANUF!$A$2:$A$300,MATCH(1,([1]ITS_COMM_DEV_MANUF!$B$2:$B$300='Comm Device (Desc)'!$J197)*([1]ITS_COMM_DEV_MANUF!$C$2:$C$300='Comm Device (Code)'!$E197),0),0))","v":""},{"$f":"IF('Comm Device (Desc)'!K197=\"\",\"\",INDEX([1]ITS_COMM_DEV_MODEL!$A$2:$A$500,MATCH(1,([1]ITS_COMM_DEV_MODEL!$C$2:$C$500='Comm Device (Desc)'!$J197)*([1]ITS_COMM_DEV_MODEL!$D$2:$D$500='Comm Device (Code)'!$E197)*([1]ITS_COMM_DEV_MODEL!$E$2:$E$500='Comm Device (Desc)'!$K197),0),0))","v":""},{"$f":"IF('Comm Device (Desc)'!L197=\"\",\"\",'Comm Device (Desc)'!L197)","v":""},{"$f":"IF('Comm Device (Desc)'!M197=\"\",\"\",'Comm Device (Desc)'!M197)","v":""},{"$f":"IF('Comm Device (Desc)'!N197=\"\",\"\",'Comm Device (Desc)'!N197)","v":""},{"$f":"IF('Comm Device (Desc)'!O197=\"\",\"\",'Comm Device (Desc)'!O197)","v":""},{"$f":"IF('Comm Device (Desc)'!P197=\"\",\"\",INDEX([1]DEV_INPUT_VOLTAGE!$A$2:$A$100,MATCH('Comm Device (Desc)'!$P197,[1]!MASTER_DEV_INPUT_VOLTAGE_DESC[#Data],0),0))","v":""},{"$f":"IF('Comm Device (Desc)'!Q197=\"\",\"\",'Comm Device (Desc)'!Q197)","v":""},{"$f":"IF('Comm Device (Desc)'!R197=\"\",\"\",'Comm Device (Desc)'!R197)","v":""},{"$f":"IF('Comm Device (Desc)'!S197=\"\",\"\",'Comm Device (Desc)'!S197)","v":""},{"$f":"IF('Comm Device (Desc)'!T197=\"\",\"\",'Comm Device (Desc)'!T197)","v":""},{"$f":"IF('Comm Device (Desc)'!U197=\"\",\"\",'Comm Device (Desc)'!U197)","v":""},{"$f":"IF('Comm Device (Desc)'!V197=\"\",\"\",INDEX([1]FIBER_CONN_TYPE!$A$2:$A$100,MATCH('Comm Device (Desc)'!$V197,[1]!MASTER_FIBER_CONN_TYPE_DESC[#Data],0),0))","v":""}]
[{"$f":"IF('Comm Device (Desc)'!A198=\"\",\"\",'Comm Device (Desc)'!A198)","v":""},{"$f":"IF('Comm Device (Desc)'!C198=\"\",\"\",\"2029\")","v":""},{"$f":"IF('Comm Device (Desc)'!C198=\"\",\"\",'Comm Device (Desc)'!C198)","v":""},{"$f":"IF('Comm Device (Desc)'!D198=\"\",\"\",INDEX([1]OWNER!$A$2:$A$100,MATCH('Comm Device (Desc)'!$D198,[1]!MASTER_OWNER_DESC[#Data],0),0))","v":""},{"$f":"IF('Comm Device (Desc)'!F198=\"\",\"\",INDEX([1]ITS_COMM_DEV_TYPE!$A$2:$A$100,MATCH('Comm Device (Desc)'!$F198,[1]!MASTER_ITS_COMM_DEV_TYPE_DESC[#Data],0),0))","v":""},{"$f":"IF('Comm Device (Desc)'!G198=\"\",\"\",INDEX([1]COMM_TYPE!$A$2:$A$100,MATCH('Comm Device (Desc)'!$G198,[1]!MASTER_COMM_TYPE_DESC[#Data],0),0))","v":""},{"$f":"IF('Comm Device (Desc)'!H198=\"\",\"\",'Comm Device (Desc)'!H198)","v":""},{"$f":"IF('Comm Device (Desc)'!I198=\"\",\"\",'Comm Device (Desc)'!I198)","v":""},{"$f":"IF('Comm Device (Desc)'!J198=\"\",\"\",INDEX([1]ITS_COMM_DEV_MANUF!$A$2:$A$300,MATCH(1,([1]ITS_COMM_DEV_MANUF!$B$2:$B$300='Comm Device (Desc)'!$J198)*([1]ITS_COMM_DEV_MANUF!$C$2:$C$300='Comm Device (Code)'!$E198),0),0))","v":""},{"$f":"IF('Comm Device (Desc)'!K198=\"\",\"\",INDEX([1]ITS_COMM_DEV_MODEL!$A$2:$A$500,MATCH(1,([1]ITS_COMM_DEV_MODEL!$C$2:$C$500='Comm Device (Desc)'!$J198)*([1]ITS_COMM_DEV_MODEL!$D$2:$D$500='Comm Device (Code)'!$E198)*([1]ITS_COMM_DEV_MODEL!$E$2:$E$500='Comm Device (Desc)'!$K198),0),0))","v":""},{"$f":"IF('Comm Device (Desc)'!L198=\"\",\"\",'Comm Device (Desc)'!L198)","v":""},{"$f":"IF('Comm Device (Desc)'!M198=\"\",\"\",'Comm Device (Desc)'!M198)","v":""},{"$f":"IF('Comm Device (Desc)'!N198=\"\",\"\",'Comm Device (Desc)'!N198)","v":""},{"$f":"IF('Comm Device (Desc)'!O198=\"\",\"\",'Comm Device (Desc)'!O198)","v":""},{"$f":"IF('Comm Device (Desc)'!P198=\"\",\"\",INDEX([1]DEV_INPUT_VOLTAGE!$A$2:$A$100,MATCH('Comm Device (Desc)'!$P198,[1]!MASTER_DEV_INPUT_VOLTAGE_DESC[#Data],0),0))","v":""},{"$f":"IF('Comm Device (Desc)'!Q198=\"\",\"\",'Comm Device (Desc)'!Q198)","v":""},{"$f":"IF('Comm Device (Desc)'!R198=\"\",\"\",'Comm Device (Desc)'!R198)","v":""},{"$f":"IF('Comm Device (Desc)'!S198=\"\",\"\",'Comm Device (Desc)'!S198)","v":""},{"$f":"IF('Comm Device (Desc)'!T198=\"\",\"\",'Comm Device (Desc)'!T198)","v":""},{"$f":"IF('Comm Device (Desc)'!U198=\"\",\"\",'Comm Device (Desc)'!U198)","v":""},{"$f":"IF('Comm Device (Desc)'!V198=\"\",\"\",INDEX([1]FIBER_CONN_TYPE!$A$2:$A$100,MATCH('Comm Device (Desc)'!$V198,[1]!MASTER_FIBER_CONN_TYPE_DESC[#Data],0),0))","v":""}]
[{"$f":"IF('Comm Device (Desc)'!A199=\"\",\"\",'Comm Device (Desc)'!A199)","v":""},{"$f":"IF('Comm Device (Desc)'!C199=\"\",\"\",\"2029\")","v":""},{"$f":"IF('Comm Device (Desc)'!C199=\"\",\"\",'Comm Device (Desc)'!C199)","v":""},{"$f":"IF('Comm Device (Desc)'!D199=\"\",\"\",INDEX([1]OWNER!$A$2:$A$100,MATCH('Comm Device (Desc)'!$D199,[1]!MASTER_OWNER_DESC[#Data],0),0))","v":""},{"$f":"IF('Comm Device (Desc)'!F199=\"\",\"\",INDEX([1]ITS_COMM_DEV_TYPE!$A$2:$A$100,MATCH('Comm Device (Desc)'!$F199,[1]!MASTER_ITS_COMM_DEV_TYPE_DESC[#Data],0),0))","v":""},{"$f":"IF('Comm Device (Desc)'!G199=\"\",\"\",INDEX([1]COMM_TYPE!$A$2:$A$100,MATCH('Comm Device (Desc)'!$G199,[1]!MASTER_COMM_TYPE_DESC[#Data],0),0))","v":""},{"$f":"IF('Comm Device (Desc)'!H199=\"\",\"\",'Comm Device (Desc)'!H199)","v":""},{"$f":"IF('Comm Device (Desc)'!I199=\"\",\"\",'Comm Device (Desc)'!I199)","v":""},{"$f":"IF('Comm Device (Desc)'!J199=\"\",\"\",INDEX([1]ITS_COMM_DEV_MANUF!$A$2:$A$300,MATCH(1,([1]ITS_COMM_DEV_MANUF!$B$2:$B$300='Comm Device (Desc)'!$J199)*([1]ITS_COMM_DEV_MANUF!$C$2:$C$300='Comm Device (Code)'!$E199),0),0))","v":""},{"$f":"IF('Comm Device (Desc)'!K199=\"\",\"\",INDEX([1]ITS_COMM_DEV_MODEL!$A$2:$A$500,MATCH(1,([1]ITS_COMM_DEV_MODEL!$C$2:$C$500='Comm Device (Desc)'!$J199)*([1]ITS_COMM_DEV_MODEL!$D$2:$D$500='Comm Device (Code)'!$E199)*([1]ITS_COMM_DEV_MODEL!$E$2:$E$500='Comm Device (Desc)'!$K199),0),0))","v":""},{"$f":"IF('Comm Device (Desc)'!L199=\"\",\"\",'Comm Device (Desc)'!L199)","v":""},{"$f":"IF('Comm Device (Desc)'!M199=\"\",\"\",'Comm Device (Desc)'!M199)","v":""},{"$f":"IF('Comm Device (Desc)'!N199=\"\",\"\",'Comm Device (Desc)'!N199)","v":""},{"$f":"IF('Comm Device (Desc)'!O199=\"\",\"\",'Comm Device (Desc)'!O199)","v":""},{"$f":"IF('Comm Device (Desc)'!P199=\"\",\"\",INDEX([1]DEV_INPUT_VOLTAGE!$A$2:$A$100,MATCH('Comm Device (Desc)'!$P199,[1]!MASTER_DEV_INPUT_VOLTAGE_DESC[#Data],0),0))","v":""},{"$f":"IF('Comm Device (Desc)'!Q199=\"\",\"\",'Comm Device (Desc)'!Q199)","v":""},{"$f":"IF('Comm Device (Desc)'!R199=\"\",\"\",'Comm Device (Desc)'!R199)","v":""},{"$f":"IF('Comm Device (Desc)'!S199=\"\",\"\",'Comm Device (Desc)'!S199)","v":""},{"$f":"IF('Comm Device (Desc)'!T199=\"\",\"\",'Comm Device (Desc)'!T199)","v":""},{"$f":"IF('Comm Device (Desc)'!U199=\"\",\"\",'Comm Device (Desc)'!U199)","v":""},{"$f":"IF('Comm Device (Desc)'!V199=\"\",\"\",INDEX([1]FIBER_CONN_TYPE!$A$2:$A$100,MATCH('Comm Device (Desc)'!$V199,[1]!MASTER_FIBER_CONN_TYPE_DESC[#Data],0),0))","v":""}]
[{"$f":"IF('Comm Device (Desc)'!A200=\"\",\"\",'Comm Device (Desc)'!A200)","v":""},{"$f":"IF('Comm Device (Desc)'!C200=\"\",\"\",\"2029\")","v":""},{"$f":"IF('Comm Device (Desc)'!C200=\"\",\"\",'Comm Device (Desc)'!C200)","v":""},{"$f":"IF('Comm Device (Desc)'!D200=\"\",\"\",INDEX([1]OWNER!$A$2:$A$100,MATCH('Comm Device (Desc)'!$D200,[1]!MASTER_OWNER_DESC[#Data],0),0))","v":""},{"$f":"IF('Comm Device (Desc)'!F200=\"\",\"\",INDEX([1]ITS_COMM_DEV_TYPE!$A$2:$A$100,MATCH('Comm Device (Desc)'!$F200,[1]!MASTER_ITS_COMM_DEV_TYPE_DESC[#Data],0),0))","v":""},{"$f":"IF('Comm Device (Desc)'!G200=\"\",\"\",INDEX([1]COMM_TYPE!$A$2:$A$100,MATCH('Comm Device (Desc)'!$G200,[1]!MASTER_COMM_TYPE_DESC[#Data],0),0))","v":""},{"$f":"IF('Comm Device (Desc)'!H200=\"\",\"\",'Comm Device (Desc)'!H200)","v":""},{"$f":"IF('Comm Device (Desc)'!I200=\"\",\"\",'Comm Device (Desc)'!I200)","v":""},{"$f":"IF('Comm Device (Desc)'!J200=\"\",\"\",INDEX([1]ITS_COMM_DEV_MANUF!$A$2:$A$300,MATCH(1,([1]ITS_COMM_DEV_MANUF!$B$2:$B$300='Comm Device (Desc)'!$J200)*([1]ITS_COMM_DEV_MANUF!$C$2:$C$300='Comm Device (Code)'!$E200),0),0))","v":""},{"$f":"IF('Comm Device (Desc)'!K200=\"\",\"\",INDEX([1]ITS_COMM_DEV_MODEL!$A$2:$A$500,MATCH(1,([1]ITS_COMM_DEV_MODEL!$C$2:$C$500='Comm Device (Desc)'!$J200)*([1]ITS_COMM_DEV_MODEL!$D$2:$D$500='Comm Device (Code)'!$E200)*([1]ITS_COMM_DEV_MODEL!$E$2:$E$500='Comm Device (Desc)'!$K200),0),0))","v":""},{"$f":"IF('Comm Device (Desc)'!L200=\"\",\"\",'Comm Device (Desc)'!L200)","v":""},{"$f":"IF('Comm Device (Desc)'!M200=\"\",\"\",'Comm Device (Desc)'!M200)","v":""},{"$f":"IF('Comm Device (Desc)'!N200=\"\",\"\",'Comm Device (Desc)'!N200)","v":""},{"$f":"IF('Comm Device (Desc)'!O200=\"\",\"\",'Comm Device (Desc)'!O200)","v":""},{"$f":"IF('Comm Device (Desc)'!P200=\"\",\"\",INDEX([1]DEV_INPUT_VOLTAGE!$A$2:$A$100,MATCH('Comm Device (Desc)'!$P200,[1]!MASTER_DEV_INPUT_VOLTAGE_DESC[#Data],0),0))","v":""},{"$f":"IF('Comm Device (Desc)'!Q200=\"\",\"\",'Comm Device (Desc)'!Q200)","v":""},{"$f":"IF('Comm Device (Desc)'!R200=\"\",\"\",'Comm Device (Desc)'!R200)","v":""},{"$f":"IF('Comm Device (Desc)'!S200=\"\",\"\",'Comm Device (Desc)'!S200)","v":""},{"$f":"IF('Comm Device (Desc)'!T200=\"\",\"\",'Comm Device (Desc)'!T200)","v":""},{"$f":"IF('Comm Device (Desc)'!U200=\"\",\"\",'Comm Device (Desc)'!U200)","v":""},{"$f":"IF('Comm Device (Desc)'!V200=\"\",\"\",INDEX([1]FIBER_CONN_TYPE!$A$2:$A$100,MATCH('Comm Device (Desc)'!$V200,[1]!MASTER_FIBER_CONN_TYPE_DESC[#Data],0),0))","v":""}]
[{"$f":"IF('Comm Device (Desc)'!A201=\"\",\"\",'Comm Device (Desc)'!A201)","v":""},{"$f":"IF('Comm Device (Desc)'!C201=\"\",\"\",\"2029\")","v":""},{"$f":"IF('Comm Device (Desc)'!C201=\"\",\"\",'Comm Device (Desc)'!C201)","v":""},{"$f":"IF('Comm Device (Desc)'!D201=\"\",\"\",INDEX([1]OWNER!$A$2:$A$100,MATCH('Comm Device (Desc)'!$D201,[1]!MASTER_OWNER_DESC[#Data],0),0))","v":""},{"$f":"IF('Comm Device (Desc)'!F201=\"\",\"\",INDEX([1]ITS_COMM_DEV_TYPE!$A$2:$A$100,MATCH('Comm Device (Desc)'!$F201,[1]!MASTER_ITS_COMM_DEV_TYPE_DESC[#Data],0),0))","v":""},{"$f":"IF('Comm Device (Desc)'!G201=\"\",\"\",INDEX([1]COMM_TYPE!$A$2:$A$100,MATCH('Comm Device (Desc)'!$G201,[1]!MASTER_COMM_TYPE_DESC[#Data],0),0))","v":""},{"$f":"IF('Comm Device (Desc)'!H201=\"\",\"\",'Comm Device (Desc)'!H201)","v":""},{"$f":"IF('Comm Device (Desc)'!I201=\"\",\"\",'Comm Device (Desc)'!I201)","v":""},{"$f":"IF('Comm Device (Desc)'!J201=\"\",\"\",INDEX([1]ITS_COMM_DEV_MANUF!$A$2:$A$300,MATCH(1,([1]ITS_COMM_DEV_MANUF!$B$2:$B$300='Comm Device (Desc)'!$J201)*([1]ITS_COMM_DEV_MANUF!$C$2:$C$300='Comm Device (Code)'!$E201),0),0))","v":""},{"$f":"IF('Comm Device (Desc)'!K201=\"\",\"\",INDEX([1]ITS_COMM_DEV_MODEL!$A$2:$A$500,MATCH(1,([1]ITS_COMM_DEV_MODEL!$C$2:$C$500='Comm Device (Desc)'!$J201)*([1]ITS_COMM_DEV_MODEL!$D$2:$D$500='Comm Device (Code)'!$E201)*([1]ITS_COMM_DEV_MODEL!$E$2:$E$500='Comm Device (Desc)'!$K201),0),0))","v":""},{"$f":"IF('Comm Device (Desc)'!L201=\"\",\"\",'Comm Device (Desc)'!L201)","v":""},{"$f":"IF('Comm Device (Desc)'!M201=\"\",\"\",'Comm Device (Desc)'!M201)","v":""},{"$f":"IF('Comm Device (Desc)'!N201=\"\",\"\",'Comm Device (Desc)'!N201)","v":""},{"$f":"IF('Comm Device (Desc)'!O201=\"\",\"\",'Comm Device (Desc)'!O201)","v":""},{"$f":"IF('Comm Device (Desc)'!P201=\"\",\"\",INDEX([1]DEV_INPUT_VOLTAGE!$A$2:$A$100,MATCH('Comm Device (Desc)'!$P201,[1]!MASTER_DEV_INPUT_VOLTAGE_DESC[#Data],0),0))","v":""},{"$f":"IF('Comm Device (Desc)'!Q201=\"\",\"\",'Comm Device (Desc)'!Q201)","v":""},{"$f":"IF('Comm Device (Desc)'!R201=\"\",\"\",'Comm Device (Desc)'!R201)","v":""},{"$f":"IF('Comm Device (Desc)'!S201=\"\",\"\",'Comm Device (Desc)'!S201)","v":""},{"$f":"IF('Comm Device (Desc)'!T201=\"\",\"\",'Comm Device (Desc)'!T201)","v":""},{"$f":"IF('Comm Device (Desc)'!U201=\"\",\"\",'Comm Device (Desc)'!U201)","v":""},{"$f":"IF('Comm Device (Desc)'!V201=\"\",\"\",INDEX([1]FIBER_CONN_TYPE!$A$2:$A$100,MATCH('Comm Device (Desc)'!$V201,[1]!MASTER_FIBER_CONN_TYPE_DESC[#Data],0),0))","v":""}]
[{"$f":"IF('Comm Device (Desc)'!A202=\"\",\"\",'Comm Device (Desc)'!A202)","v":""},{"$f":"IF('Comm Device (Desc)'!C202=\"\",\"\",\"2029\")","v":""},{"$f":"IF('Comm Device (Desc)'!C202=\"\",\"\",'Comm Device (Desc)'!C202)","v":""},{"$f":"IF('Comm Device (Desc)'!D202=\"\",\"\",INDEX([1]OWNER!$A$2:$A$100,MATCH('Comm Device (Desc)'!$D202,[1]!MASTER_OWNER_DESC[#Data],0),0))","v":""},{"$f":"IF('Comm Device (Desc)'!F202=\"\",\"\",INDEX([1]ITS_COMM_DEV_TYPE!$A$2:$A$100,MATCH('Comm Device (Desc)'!$F202,[1]!MASTER_ITS_COMM_DEV_TYPE_DESC[#Data],0),0))","v":""},{"$f":"IF('Comm Device (Desc)'!G202=\"\",\"\",INDEX([1]COMM_TYPE!$A$2:$A$100,MATCH('Comm Device (Desc)'!$G202,[1]!MASTER_COMM_TYPE_DESC[#Data],0),0))","v":""},{"$f":"IF('Comm Device (Desc)'!H202=\"\",\"\",'Comm Device (Desc)'!H202)","v":""},{"$f":"IF('Comm Device (Desc)'!I202=\"\",\"\",'Comm Device (Desc)'!I202)","v":""},{"$f":"IF('Comm Device (Desc)'!J202=\"\",\"\",INDEX([1]ITS_COMM_DEV_MANUF!$A$2:$A$300,MATCH(1,([1]ITS_COMM_DEV_MANUF!$B$2:$B$300='Comm Device (Desc)'!$J202)*([1]ITS_COMM_DEV_MANUF!$C$2:$C$300='Comm Device (Code)'!$E202),0),0))","v":""},{"$f":"IF('Comm Device (Desc)'!K202=\"\",\"\",INDEX([1]ITS_COMM_DEV_MODEL!$A$2:$A$500,MATCH(1,([1]ITS_COMM_DEV_MODEL!$C$2:$C$500='Comm Device (Desc)'!$J202)*([1]ITS_COMM_DEV_MODEL!$D$2:$D$500='Comm Device (Code)'!$E202)*([1]ITS_COMM_DEV_MODEL!$E$2:$E$500='Comm Device (Desc)'!$K202),0),0))","v":""},{"$f":"IF('Comm Device (Desc)'!L202=\"\",\"\",'Comm Device (Desc)'!L202)","v":""},{"$f":"IF('Comm Device (Desc)'!M202=\"\",\"\",'Comm Device (Desc)'!M202)","v":""},{"$f":"IF('Comm Device (Desc)'!N202=\"\",\"\",'Comm Device (Desc)'!N202)","v":""},{"$f":"IF('Comm Device (Desc)'!O202=\"\",\"\",'Comm Device (Desc)'!O202)","v":""},{"$f":"IF('Comm Device (Desc)'!P202=\"\",\"\",INDEX([1]DEV_INPUT_VOLTAGE!$A$2:$A$100,MATCH('Comm Device (Desc)'!$P202,[1]!MASTER_DEV_INPUT_VOLTAGE_DESC[#Data],0),0))","v":""},{"$f":"IF('Comm Device (Desc)'!Q202=\"\",\"\",'Comm Device (Desc)'!Q202)","v":""},{"$f":"IF('Comm Device (Desc)'!R202=\"\",\"\",'Comm Device (Desc)'!R202)","v":""},{"$f":"IF('Comm Device (Desc)'!S202=\"\",\"\",'Comm Device (Desc)'!S202)","v":""},{"$f":"IF('Comm Device (Desc)'!T202=\"\",\"\",'Comm Device (Desc)'!T202)","v":""},{"$f":"IF('Comm Device (Desc)'!U202=\"\",\"\",'Comm Device (Desc)'!U202)","v":""},{"$f":"IF('Comm Device (Desc)'!V202=\"\",\"\",INDEX([1]FIBER_CONN_TYPE!$A$2:$A$100,MATCH('Comm Device (Desc)'!$V202,[1]!MASTER_FIBER_CONN_TYPE_DESC[#Data],0),0))","v":""}]

{"sheet":"Radio (Desc)","index":2,"n_rows":2,"n_cols":25,"rows_kept":2,"cut":false,"hidden":false,"merged":[]}
["Device Id\nfor update ","Site Identification Name\nEquipment Cabinet SIN","Equipment Location Id ","Previous Name","Radio Service","Installed Date (YYYY/MM/DD)","Transmit Frequency ","Transmit Channel ","Receive Frequency ","Receive Channel ","FCC License (Call Sign)","FCC Station Class","FCC License Expiration Date (YYYYMMDD) ","Comments","Manufacturer ","Model ","Serial Number ","IP Address ","MAC Address ","Firmware Version ","Input Voltage ","Load/Draw (Amp) ","Copper Ports (Out) ","Fiber Ports (Out) ","Fiber Connector Type"]
["EQUIP_ID","This Field is for Reference Only\nDO NOT IMPORT","EQUIP_LOC_ID\nREQUIRED FIELD","This Field is for Reference Only\nDO NOT IMPORT","RADIO_TYPE_CD\nREQUIRED FIELD","DATE_INSTALLED","RADIO_TX_FREQ_CD\nREQUIRED FIELD","RADIO_TX_CHANNEL","RADIO_RX_FREQ_CD\nREQUIRED FIELD","RADIO_RX_CHANNEL ","CALL_SIGN_CD\nREQUIRED FIELD","STATION_CLASS_CD\nREQUIRED FIELD","EXPIRATION_DATE\nREQUIRED FIELD","NAME","RADIO_MANUF_CD ","RADIO_MODEL_CD ","SERIAL_NUMBER ","IP_ADDRESS","MAC_ADDRESS","FIRMWARE_VERSION","COMM_INPUT_VOLTAGE_CD ","COMM_LOAD_DRAW","COPPER_PORTS_OUT","FIBER_PORTS_OUT","FIBER_CONN_TYPE_CD "]

{"sheet":"Radio (Code)","index":3,"n_rows":202,"n_cols":25,"rows_kept":202,"cut":false,"hidden":false,"merged":[]}
["Device Id\nfor update ","Parent ITS Device Entity Cd","Equipment Location Id ","Comm Device Type","Radio Service","Installed Date (YYYY/MM/DD)","Transmit Frequency ","Transmit Channel ","Receive Frequency ","Receive Channel ","FCC License (Call Sign)","FCC Station Class","FCC License Expiration Date (YYYY/MM/DD) ","Comments","Manufacturer ","Model ","Serial Number ","IP Address ","MAC Address ","Firmware Version ","Input Voltage ","Load/Draw (Amp) ","Copper Ports (Out) ","Fiber Ports (Out) ","Fiber Connector Type"]
["EQUIP_ID","ENTITY_CD             REQUIRED FIELD","EQUIP_LOC_ID       REQUIRED FIELD","ITS_COMM_DEV_TYPE_CD             REQUIRED FIELD","RADIO_TYPE_CD REQUIRED FIELD","DATE_INSTALLED","RADIO_TX_FREQ_CD REQUIRED FIELD","RADIO_TX_CHANNEL","RADIO_RX_FREQ_CD REQUIRED FIELD","RADIO_RX_CHANNEL ","CALL_SIGN_CD REQUIRED FIELD","STATION_CLASS_CD REQUIRED FIELD","EXPIRATION_DATE REQUIRED FIELD","NAME","RADIO_MANUF_CD ","RADIO_MODEL_CD ","SERIAL_NUMBER ","IP_ADDRESS","MAC_ADDRESS","FIRMWARE_VERSION","COMM_INPUT_VOLTAGE_CD ","COMM_LOAD_DRAW","COPPER_PORTS_OUT","FIBER_PORTS_OUT","FIBER_CONN_TYPE_CD "]
[{"$f":"IF('Radio (Desc)'!A3=\"\",\"\",'Radio (Desc)'!A3)","v":""},{"$f":"IF('Radio (Desc)'!C3=\"\",\"\",\"2029\")","v":""},{"$f":"IF('Radio (Desc)'!C3=\"\",\"\",'Radio (Desc)'!C3)","v":""},{"$f":"IF('Radio (Desc)'!E3=\"\",\"\",\"RADIO\")","v":""},{"$f":"IF('Radio (Desc)'!E3=\"\",\"\",INDEX([1]RADIO_TYPE!$A$2:$A$100,MATCH('Radio (Desc)'!$E3,[1]!MASTER_RADIO_TYPE_DESC[#Data],0),0))","v":""},{"$f":"IF('Radio (Desc)'!F3=\"\",\"\",'Radio (Desc)'!F3)","v":""},{"$f":"IF('Radio (Desc)'!G3=\"\",\"\",INDEX([1]RADIO_FREQ!$A$2:$A$500,MATCH('Radio (Desc)'!$G3,[1]!MASTER_RADIO_FREQ_DESC[#Data],0),0))","v":""},{"$f":"IF('Radio (Desc)'!H3=\"\",\"\",'Radio (Desc)'!H3)","v":""},{"$f":"IF('Radio (Desc)'!I3=\"\",\"\",INDEX([1]RADIO_FREQ!$A$2:$A$500,MATCH('Radio (Desc)'!$I3,[1]!MASTER_RADIO_FREQ_DESC[#Data],0),0))","v":""},{"$f":"IF('Radio (Desc)'!J3=\"\",\"\",'Radio (Desc)'!J3)","v":""},{"$f":"IF('Radio (Desc)'!K3=\"\",\"\",INDEX([1]CALL_SIGN!$A$2:$A$600,MATCH('Radio (Desc)'!$K3,[1]!MASTER_CALL_SIGN_DESC[#Data],0),0))","v":""},{"$f":"IF('Radio (Desc)'!L3=\"\",\"\",INDEX([1]STATION_CLASS!$A$2:$A$100,MATCH('Radio (Desc)'!$L3,[1]!MASTER_STATION_CLASS_DESC[#Data],0),0))","v":""},{"$f":"IF('Radio (Desc)'!M3=\"\",\"\",'Radio (Desc)'!M3)","v":""},{"$f":"IF('Radio (Desc)'!N3=\"\",\"\",'Radio (Desc)'!N3)","v":""},{"$f":"IF('Radio (Desc)'!O3=\"\",\"\",INDEX([1]ITS_COMM_DEV_MANUF!$A$2:$A$300,MATCH(1,([1]ITS_COMM_DEV_MANUF!$B$2:$B$300='Radio (Desc)'!$O3)*([1]ITS_COMM_DEV_MANUF!$C$2:$C$300=\"RADIO\"),0),0))","v":""},{"$f":"IF('Radio (Desc)'!P3=\"\",\"\",INDEX([1]ITS_COMM_DEV_MODEL!$A$2:$A$500,MATCH(1,([1]ITS_COMM_DEV_MODEL!$C$2:$C$500='Radio (Desc)'!$O3)*([1]ITS_COMM_DEV_MODEL!$D$2:$D$500=\"RADIO\")*([1]ITS_COMM_DEV_MODEL!$E$2:$E$500='Radio (Desc)'!$P3),0),0))","v":""},{"$f":"IF('Radio (Desc)'!Q3=\"\",\"\",'Radio (Desc)'!Q3)","v":""},{"$f":"IF('Radio (Desc)'!R3=\"\",\"\",'Radio (Desc)'!R3)","v":""},{"$f":"IF('Radio (Desc)'!S3=\"\",\"\",'Radio (Desc)'!S3)","v":""},{"$f":"IF('Radio (Desc)'!T3=\"\",\"\",'Radio (Desc)'!T3)","v":""},{"$f":"IF('Radio (Desc)'!U3=\"\",\"\",INDEX([1]DEV_INPUT_VOLTAGE!$A$2:$A$100,MATCH('Radio (Desc)'!$U3,[1]!MASTER_DEV_INPUT_VOLTAGE_DESC[#Data],0),0))","v":""},{"$f":"IF('Radio (Desc)'!V3=\"\",\"\",'Radio (Desc)'!V3)","v":""},{"$f":"IF('Radio (Desc)'!W3=\"\",\"\",'Radio (Desc)'!W3)","v":""},{"$f":"IF('Radio (Desc)'!X3=\"\",\"\",'Radio (Desc)'!X3)","v":""},{"$f":"IF('Radio (Desc)'!Y3=\"\",\"\",INDEX([1]FIBER_CONN_TYPE!$A$2:$A$100,MATCH('Radio (Desc)'!$Y3,[1]!MASTER_FIBER_CONN_TYPE_DESC[#Data],0),0))","v":""}]
[{"$f":"IF('Radio (Desc)'!A4=\"\",\"\",'Radio (Desc)'!A4)","v":""},{"$f":"IF('Radio (Desc)'!C4=\"\",\"\",\"2029\")","v":""},{"$f":"IF('Radio (Desc)'!C4=\"\",\"\",'Radio (Desc)'!C4)","v":""},{"$f":"IF('Radio (Desc)'!E4=\"\",\"\",\"RADIO\")","v":""},{"$f":"IF('Radio (Desc)'!E4=\"\",\"\",INDEX([1]RADIO_TYPE!$A$2:$A$100,MATCH('Radio (Desc)'!$E4,[1]!MASTER_RADIO_TYPE_DESC[#Data],0),0))","v":""},{"$f":"IF('Radio (Desc)'!F4=\"\",\"\",'Radio (Desc)'!F4)","v":""},{"$f":"IF('Radio (Desc)'!G4=\"\",\"\",INDEX([1]RADIO_FREQ!$A$2:$A$500,MATCH('Radio (Desc)'!$G4,[1]!MASTER_RADIO_FREQ_DESC[#Data],0),0))","v":""},{"$f":"IF('Radio (Desc)'!H4=\"\",\"\",'Radio (Desc)'!H4)","v":""},{"$f":"IF('Radio (Desc)'!I4=\"\",\"\",INDEX([1]RADIO_FREQ!$A$2:$A$500,MATCH('Radio (Desc)'!$I4,[1]!MASTER_RADIO_FREQ_DESC[#Data],0),0))","v":""},{"$f":"IF('Radio (Desc)'!J4=\"\",\"\",'Radio (Desc)'!J4)","v":""},{"$f":"IF('Radio (Desc)'!K4=\"\",\"\",INDEX([1]CALL_SIGN!$A$2:$A$600,MATCH('Radio (Desc)'!$K4,[1]!MASTER_CALL_SIGN_DESC[#Data],0),0))","v":""},{"$f":"IF('Radio (Desc)'!L4=\"\",\"\",INDEX([1]STATION_CLASS!$A$2:$A$100,MATCH('Radio (Desc)'!$L4,[1]!MASTER_STATION_CLASS_DESC[#Data],0),0))","v":""},{"$f":"IF('Radio (Desc)'!M4=\"\",\"\",'Radio (Desc)'!M4)","v":""},{"$f":"IF('Radio (Desc)'!N4=\"\",\"\",'Radio (Desc)'!N4)","v":""},{"$f":"IF('Radio (Desc)'!O4=\"\",\"\",INDEX([1]ITS_COMM_DEV_MANUF!$A$2:$A$300,MATCH(1,([1]ITS_COMM_DEV_MANUF!$B$2:$B$300='Radio (Desc)'!$O4)*([1]ITS_COMM_DEV_MANUF!$C$2:$C$300=\"RADIO\"),0),0))","v":""},{"$f":"IF('Radio (Desc)'!P4=\"\",\"\",INDEX([1]ITS_COMM_DEV_MODEL!$A$2:$A$500,MATCH(1,([1]ITS_COMM_DEV_MODEL!$C$2:$C$500='Radio (Desc)'!$O4)*([1]ITS_COMM_DEV_MODEL!$D$2:$D$500=\"RADIO\")*([1]ITS_COMM_DEV_MODEL!$E$2:$E$500='Radio (Desc)'!$P4),0),0))","v":""},{"$f":"IF('Radio (Desc)'!Q4=\"\",\"\",'Radio (Desc)'!Q4)","v":""},{"$f":"IF('Radio (Desc)'!R4=\"\",\"\",'Radio (Desc)'!R4)","v":""},{"$f":"IF('Radio (Desc)'!S4=\"\",\"\",'Radio (Desc)'!S4)","v":""},{"$f":"IF('Radio (Desc)'!T4=\"\",\"\",'Radio (Desc)'!T4)","v":""},{"$f":"IF('Radio (Desc)'!U4=\"\",\"\",INDEX([1]DEV_INPUT_VOLTAGE!$A$2:$A$100,MATCH('Radio (Desc)'!$U4,[1]!MASTER_DEV_INPUT_VOLTAGE_DESC[#Data],0),0))","v":""},{"$f":"IF('Radio (Desc)'!V4=\"\",\"\",'Radio (Desc)'!V4)","v":""},{"$f":"IF('Radio (Desc)'!W4=\"\",\"\",'Radio (Desc)'!W4)","v":""},{"$f":"IF('Radio (Desc)'!X4=\"\",\"\",'Radio (Desc)'!X4)","v":""},{"$f":"IF('Radio (Desc)'!Y4=\"\",\"\",INDEX([1]FIBER_CONN_TYPE!$A$2:$A$100,MATCH('Radio (Desc)'!$Y4,[1]!MASTER_FIBER_CONN_TYPE_DESC[#Data],0),0))","v":""}]
[{"$f":"IF('Radio (Desc)'!A5=\"\",\"\",'Radio (Desc)'!A5)","v":""},{"$f":"IF('Radio (Desc)'!C5=\"\",\"\",\"2029\")","v":""},{"$f":"IF('Radio (Desc)'!C5=\"\",\"\",'Radio (Desc)'!C5)","v":""},{"$f":"IF('Radio (Desc)'!E5=\"\",\"\",\"RADIO\")","v":""},{"$f":"IF('Radio (Desc)'!E5=\"\",\"\",INDEX([1]RADIO_TYPE!$A$2:$A$100,MATCH('Radio (Desc)'!$E5,[1]!MASTER_RADIO_TYPE_DESC[#Data],0),0))","v":""},{"$f":"IF('Radio (Desc)'!F5=\"\",\"\",'Radio (Desc)'!F5)","v":""},{"$f":"IF('Radio (Desc)'!G5=\"\",\"\",INDEX([1]RADIO_FREQ!$A$2:$A$500,MATCH('Radio (Desc)'!$G5,[1]!MASTER_RADIO_FREQ_DESC[#Data],0),0))","v":""},{"$f":"IF('Radio (Desc)'!H5=\"\",\"\",'Radio (Desc)'!H5)","v":""},{"$f":"IF('Radio (Desc)'!I5=\"\",\"\",INDEX([1]RADIO_FREQ!$A$2:$A$500,MATCH('Radio (Desc)'!$I5,[1]!MASTER_RADIO_FREQ_DESC[#Data],0),0))","v":""},{"$f":"IF('Radio (Desc)'!J5=\"\",\"\",'Radio (Desc)'!J5)","v":""},{"$f":"IF('Radio (Desc)'!K5=\"\",\"\",INDEX([1]CALL_SIGN!$A$2:$A$600,MATCH('Radio (Desc)'!$K5,[1]!MASTER_CALL_SIGN_DESC[#Data],0),0))","v":""},{"$f":"IF('Radio (Desc)'!L5=\"\",\"\",INDEX([1]STATION_CLASS!$A$2:$A$100,MATCH('Radio (Desc)'!$L5,[1]!MASTER_STATION_CLASS_DESC[#Data],0),0))","v":""},{"$f":"IF('Radio (Desc)'!M5=\"\",\"\",'Radio (Desc)'!M5)","v":""},{"$f":"IF('Radio (Desc)'!N5=\"\",\"\",'Radio (Desc)'!N5)","v":""},{"$f":"IF('Radio (Desc)'!O5=\"\",\"\",INDEX([1]ITS_COMM_DEV_MANUF!$A$2:$A$300,MATCH(1,([1]ITS_COMM_DEV_MANUF!$B$2:$B$300='Radio (Desc)'!$O5)*([1]ITS_COMM_DEV_MANUF!$C$2:$C$300=\"RADIO\"),0),0))","v":""},{"$f":"IF('Radio (Desc)'!P5=\"\",\"\",INDEX([1]ITS_COMM_DEV_MODEL!$A$2:$A$500,MATCH(1,([1]ITS_COMM_DEV_MODEL!$C$2:$C$500='Radio (Desc)'!$O5)*([1]ITS_COMM_DEV_MODEL!$D$2:$D$500=\"RADIO\")*([1]ITS_COMM_DEV_MODEL!$E$2:$E$500='Radio (Desc)'!$P5),0),0))","v":""},{"$f":"IF('Radio (Desc)'!Q5=\"\",\"\",'Radio (Desc)'!Q5)","v":""},{"$f":"IF('Radio (Desc)'!R5=\"\",\"\",'Radio (Desc)'!R5)","v":""},{"$f":"IF('Radio (Desc)'!S5=\"\",\"\",'Radio (Desc)'!S5)","v":""},{"$f":"IF('Radio (Desc)'!T5=\"\",\"\",'Radio (Desc)'!T5)","v":""},{"$f":"IF('Radio (Desc)'!U5=\"\",\"\",INDEX([1]DEV_INPUT_VOLTAGE!$A$2:$A$100,MATCH('Radio (Desc)'!$U5,[1]!MASTER_DEV_INPUT_VOLTAGE_DESC[#Data],0),0))","v":""},{"$f":"IF('Radio (Desc)'!V5=\"\",\"\",'Radio (Desc)'!V5)","v":""},{"$f":"IF('Radio (Desc)'!W5=\"\",\"\",'Radio (Desc)'!W5)","v":""},{"$f":"IF('Radio (Desc)'!X5=\"\",\"\",'Radio (Desc)'!X5)","v":""},{"$f":"IF('Radio (Desc)'!Y5=\"\",\"\",INDEX([1]FIBER_CONN_TYPE!$A$2:$A$100,MATCH('Radio (Desc)'!$Y5,[1]!MASTER_FIBER_CONN_TYPE_DESC[#Data],0),0))","v":""}]
[{"$f":"IF('Radio (Desc)'!A6=\"\",\"\",'Radio (Desc)'!A6)","v":""},{"$f":"IF('Radio (Desc)'!C6=\"\",\"\",\"2029\")","v":""},{"$f":"IF('Radio (Desc)'!C6=\"\",\"\",'Radio (Desc)'!C6)","v":""},{"$f":"IF('Radio (Desc)'!E6=\"\",\"\",\"RADIO\")","v":""},{"$f":"IF('Radio (Desc)'!E6=\"\",\"\",INDEX([1]RADIO_TYPE!$A$2:$A$100,MATCH('Radio (Desc)'!$E6,[1]!MASTER_RADIO_TYPE_DESC[#Data],0),0))","v":""},{"$f":"IF('Radio (Desc)'!F6=\"\",\"\",'Radio (Desc)'!F6)","v":""},{"$f":"IF('Radio (Desc)'!G6=\"\",\"\",INDEX([1]RADIO_FREQ!$A$2:$A$500,MATCH('Radio (Desc)'!$G6,[1]!MASTER_RADIO_FREQ_DESC[#Data],0),0))","v":""},{"$f":"IF('Radio (Desc)'!H6=\"\",\"\",'Radio (Desc)'!H6)","v":""},{"$f":"IF('Radio (Desc)'!I6=\"\",\"\",INDEX([1]RADIO_FREQ!$A$2:$A$500,MATCH('Radio (Desc)'!$I6,[1]!MASTER_RADIO_FREQ_DESC[#Data],0),0))","v":""},{"$f":"IF('Radio (Desc)'!J6=\"\",\"\",'Radio (Desc)'!J6)","v":""},{"$f":"IF('Radio (Desc)'!K6=\"\",\"\",INDEX([1]CALL_SIGN!$A$2:$A$600,MATCH('Radio (Desc)'!$K6,[1]!MASTER_CALL_SIGN_DESC[#Data],0),0))","v":""},{"$f":"IF('Radio (Desc)'!L6=\"\",\"\",INDEX([1]STATION_CLASS!$A$2:$A$100,MATCH('Radio (Desc)'!$L6,[1]!MASTER_STATION_CLASS_DESC[#Data],0),0))","v":""},{"$f":"IF('Radio (Desc)'!M6=\"\",\"\",'Radio (Desc)'!M6)","v":""},{"$f":"IF('Radio (Desc)'!N6=\"\",\"\",'Radio (Desc)'!N6)","v":""},{"$f":"IF('Radio (Desc)'!O6=\"\",\"\",INDEX([1]ITS_COMM_DEV_MANUF!$A$2:$A$300,MATCH(1,([1]ITS_COMM_DEV_MANUF!$B$2:$B$300='Radio (Desc)'!$O6)*([1]ITS_COMM_DEV_MANUF!$C$2:$C$300=\"RADIO\"),0),0))","v":""},{"$f":"IF('Radio (Desc)'!P6=\"\",\"\",INDEX([1]ITS_COMM_DEV_MODEL!$A$2:$A$500,MATCH(1,([1]ITS_COMM_DEV_MODEL!$C$2:$C$500='Radio (Desc)'!$O6)*([1]ITS_COMM_DEV_MODEL!$D$2:$D$500=\"RADIO\")*([1]ITS_COMM_DEV_MODEL!$E$2:$E$500='Radio (Desc)'!$P6),0),0))","v":""},{"$f":"IF('Radio (Desc)'!Q6=\"\",\"\",'Radio (Desc)'!Q6)","v":""},{"$f":"IF('Radio (Desc)'!R6=\"\",\"\",'Radio (Desc)'!R6)","v":""},{"$f":"IF('Radio (Desc)'!S6=\"\",\"\",'Radio (Desc)'!S6)","v":""},{"$f":"IF('Radio (Desc)'!T6=\"\",\"\",'Radio (Desc)'!T6)","v":""},{"$f":"IF('Radio (Desc)'!U6=\"\",\"\",INDEX([1]DEV_INPUT_VOLTAGE!$A$2:$A$100,MATCH('Radio (Desc)'!$U6,[1]!MASTER_DEV_INPUT_VOLTAGE_DESC[#Data],0),0))","v":""},{"$f":"IF('Radio (Desc)'!V6=\"\",\"\",'Radio (Desc)'!V6)","v":""},{"$f":"IF('Radio (Desc)'!W6=\"\",\"\",'Radio (Desc)'!W6)","v":""},{"$f":"IF('Radio (Desc)'!X6=\"\",\"\",'Radio (Desc)'!X6)","v":""},{"$f":"IF('Radio (Desc)'!Y6=\"\",\"\",INDEX([1]FIBER_CONN_TYPE!$A$2:$A$100,MATCH('Radio (Desc)'!$Y6,[1]!MASTER_FIBER_CONN_TYPE_DESC[#Data],0),0))","v":""}]
[{"$f":"IF('Radio (Desc)'!A7=\"\",\"\",'Radio (Desc)'!A7)","v":""},{"$f":"IF('Radio (Desc)'!C7=\"\",\"\",\"2029\")","v":""},{"$f":"IF('Radio (Desc)'!C7=\"\",\"\",'Radio (Desc)'!C7)","v":""},{"$f":"IF('Radio (Desc)'!E7=\"\",\"\",\"RADIO\")","v":""},{"$f":"IF('Radio (Desc)'!E7=\"\",\"\",INDEX([1]RADIO_TYPE!$A$2:$A$100,MATCH('Radio (Desc)'!$E7,[1]!MASTER_RADIO_TYPE_DESC[#Data],0),0))","v":""},{"$f":"IF('Radio (Desc)'!F7=\"\",\"\",'Radio (Desc)'!F7)","v":""},{"$f":"IF('Radio (Desc)'!G7=\"\",\"\",INDEX([1]RADIO_FREQ!$A$2:$A$500,MATCH('Radio (Desc)'!$G7,[1]!MASTER_RADIO_FREQ_DESC[#Data],0),0))","v":""},{"$f":"IF('Radio (Desc)'!H7=\"\",\"\",'Radio (Desc)'!H7)","v":""},{"$f":"IF('Radio (Desc)'!I7=\"\",\"\",INDEX([1]RADIO_FREQ!$A$2:$A$500,MATCH('Radio (Desc)'!$I7,[1]!MASTER_RADIO_FREQ_DESC[#Data],0),0))","v":""},{"$f":"IF('Radio (Desc)'!J7=\"\",\"\",'Radio (Desc)'!J7)","v":""},{"$f":"IF('Radio (Desc)'!K7=\"\",\"\",INDEX([1]CALL_SIGN!$A$2:$A$600,MATCH('Radio (Desc)'!$K7,[1]!MASTER_CALL_SIGN_DESC[#Data],0),0))","v":""},{"$f":"IF('Radio (Desc)'!L7=\"\",\"\",INDEX([1]STATION_CLASS!$A$2:$A$100,MATCH('Radio (Desc)'!$L7,[1]!MASTER_STATION_CLASS_DESC[#Data],0),0))","v":""},{"$f":"IF('Radio (Desc)'!M7=\"\",\"\",'Radio (Desc)'!M7)","v":""},{"$f":"IF('Radio (Desc)'!N7=\"\",\"\",'Radio (Desc)'!N7)","v":""},{"$f":"IF('Radio (Desc)'!O7=\"\",\"\",INDEX([1]ITS_COMM_DEV_MANUF!$A$2:$A$300,MATCH(1,([1]ITS_COMM_DEV_MANUF!$B$2:$B$300='Radio (Desc)'!$O7)*([1]ITS_COMM_DEV_MANUF!$C$2:$C$300=\"RADIO\"),0),0))","v":""},{"$f":"IF('Radio (Desc)'!P7=\"\",\"\",INDEX([1]ITS_COMM_DEV_MODEL!$A$2:$A$500,MATCH(1,([1]ITS_COMM_DEV_MODEL!$C$2:$C$500='Radio (Desc)'!$O7)*([1]ITS_COMM_DEV_MODEL!$D$2:$D$500=\"RADIO\")*([1]ITS_COMM_DEV_MODEL!$E$2:$E$500='Radio (Desc)'!$P7),0),0))","v":""},{"$f":"IF('Radio (Desc)'!Q7=\"\",\"\",'Radio (Desc)'!Q7)","v":""},{"$f":"IF('Radio (Desc)'!R7=\"\",\"\",'Radio (Desc)'!R7)","v":""},{"$f":"IF('Radio (Desc)'!S7=\"\",\"\",'Radio (Desc)'!S7)","v":""},{"$f":"IF('Radio (Desc)'!T7=\"\",\"\",'Radio (Desc)'!T7)","v":""},{"$f":"IF('Radio (Desc)'!U7=\"\",\"\",INDEX([1]DEV_INPUT_VOLTAGE!$A$2:$A$100,MATCH('Radio (Desc)'!$U7,[1]!MASTER_DEV_INPUT_VOLTAGE_DESC[#Data],0),0))","v":""},{"$f":"IF('Radio (Desc)'!V7=\"\",\"\",'Radio (Desc)'!V7)","v":""},{"$f":"IF('Radio (Desc)'!W7=\"\",\"\",'Radio (Desc)'!W7)","v":""},{"$f":"IF('Radio (Desc)'!X7=\"\",\"\",'Radio (Desc)'!X7)","v":""},{"$f":"IF('Radio (Desc)'!Y7=\"\",\"\",INDEX([1]FIBER_CONN_TYPE!$A$2:$A$100,MATCH('Radio (Desc)'!$Y7,[1]!MASTER_FIBER_CONN_TYPE_DESC[#Data],0),0))","v":""}]
[{"$f":"IF('Radio (Desc)'!A8=\"\",\"\",'Radio (Desc)'!A8)","v":""},{"$f":"IF('Radio (Desc)'!C8=\"\",\"\",\"2029\")","v":""},{"$f":"IF('Radio (Desc)'!C8=\"\",\"\",'Radio (Desc)'!C8)","v":""},{"$f":"IF('Radio (Desc)'!E8=\"\",\"\",\"RADIO\")","v":""},{"$f":"IF('Radio (Desc)'!E8=\"\",\"\",INDEX([1]RADIO_TYPE!$A$2:$A$100,MATCH('Radio (Desc)'!$E8,[1]!MASTER_RADIO_TYPE_DESC[#Data],0),0))","v":""},{"$f":"IF('Radio (Desc)'!F8=\"\",\"\",'Radio (Desc)'!F8)","v":""},{"$f":"IF('Radio (Desc)'!G8=\"\",\"\",INDEX([1]RADIO_FREQ!$A$2:$A$500,MATCH('Radio (Desc)'!$G8,[1]!MASTER_RADIO_FREQ_DESC[#Data],0),0))","v":""},{"$f":"IF('Radio (Desc)'!H8=\"\",\"\",'Radio (Desc)'!H8)","v":""},{"$f":"IF('Radio (Desc)'!I8=\"\",\"\",INDEX([1]RADIO_FREQ!$A$2:$A$500,MATCH('Radio (Desc)'!$I8,[1]!MASTER_RADIO_FREQ_DESC[#Data],0),0))","v":""},{"$f":"IF('Radio (Desc)'!J8=\"\",\"\",'Radio (Desc)'!J8)","v":""},{"$f":"IF('Radio (Desc)'!K8=\"\",\"\",INDEX([1]CALL_SIGN!$A$2:$A$600,MATCH('Radio (Desc)'!$K8,[1]!MASTER_CALL_SIGN_DESC[#Data],0),0))","v":""},{"$f":"IF('Radio (Desc)'!L8=\"\",\"\",INDEX([1]STATION_CLASS!$A$2:$A$100,MATCH('Radio (Desc)'!$L8,[1]!MASTER_STATION_CLASS_DESC[#Data],0),0))","v":""},{"$f":"IF('Radio (Desc)'!M8=\"\",\"\",'Radio (Desc)'!M8)","v":""},{"$f":"IF('Radio (Desc)'!N8=\"\",\"\",'Radio (Desc)'!N8)","v":""},{"$f":"IF('Radio (Desc)'!O8=\"\",\"\",INDEX([1]ITS_COMM_DEV_MANUF!$A$2:$A$300,MATCH(1,([1]ITS_COMM_DEV_MANUF!$B$2:$B$300='Radio (Desc)'!$O8)*([1]ITS_COMM_DEV_MANUF!$C$2:$C$300=\"RADIO\"),0),0))","v":""},{"$f":"IF('Radio (Desc)'!P8=\"\",\"\",INDEX([1]ITS_COMM_DEV_MODEL!$A$2:$A$500,MATCH(1,([1]ITS_COMM_DEV_MODEL!$C$2:$C$500='Radio (Desc)'!$O8)*([1]ITS_COMM_DEV_MODEL!$D$2:$D$500=\"RADIO\")*([1]ITS_COMM_DEV_MODEL!$E$2:$E$500='Radio (Desc)'!$P8),0),0))","v":""},{"$f":"IF('Radio (Desc)'!Q8=\"\",\"\",'Radio (Desc)'!Q8)","v":""},{"$f":"IF('Radio (Desc)'!R8=\"\",\"\",'Radio (Desc)'!R8)","v":""},{"$f":"IF('Radio (Desc)'!S8=\"\",\"\",'Radio (Desc)'!S8)","v":""},{"$f":"IF('Radio (Desc)'!T8=\"\",\"\",'Radio (Desc)'!T8)","v":""},{"$f":"IF('Radio (Desc)'!U8=\"\",\"\",INDEX([1]DEV_INPUT_VOLTAGE!$A$2:$A$100,MATCH('Radio (Desc)'!$U8,[1]!MASTER_DEV_INPUT_VOLTAGE_DESC[#Data],0),0))","v":""},{"$f":"IF('Radio (Desc)'!V8=\"\",\"\",'Radio (Desc)'!V8)","v":""},{"$f":"IF('Radio (Desc)'!W8=\"\",\"\",'Radio (Desc)'!W8)","v":""},{"$f":"IF('Radio (Desc)'!X8=\"\",\"\",'Radio (Desc)'!X8)","v":""},{"$f":"IF('Radio (Desc)'!Y8=\"\",\"\",INDEX([1]FIBER_CONN_TYPE!$A$2:$A$100,MATCH('Radio (Desc)'!$Y8,[1]!MASTER_FIBER_CONN_TYPE_DESC[#Data],0),0))","v":""}]
[{"$f":"IF('Radio (Desc)'!A9=\"\",\"\",'Radio (Desc)'!A9)","v":""},{"$f":"IF('Radio (Desc)'!C9=\"\",\"\",\"2029\")","v":""},{"$f":"IF('Radio (Desc)'!C9=\"\",\"\",'Radio (Desc)'!C9)","v":""},{"$f":"IF('Radio (Desc)'!E9=\"\",\"\",\"RADIO\")","v":""},{"$f":"IF('Radio (Desc)'!E9=\"\",\"\",INDEX([1]RADIO_TYPE!$A$2:$A$100,MATCH('Radio (Desc)'!$E9,[1]!MASTER_RADIO_TYPE_DESC[#Data],0),0))","v":""},{"$f":"IF('Radio (Desc)'!F9=\"\",\"\",'Radio (Desc)'!F9)","v":""},{"$f":"IF('Radio (Desc)'!G9=\"\",\"\",INDEX([1]RADIO_FREQ!$A$2:$A$500,MATCH('Radio (Desc)'!$G9,[1]!MASTER_RADIO_FREQ_DESC[#Data],0),0))","v":""},{"$f":"IF('Radio (Desc)'!H9=\"\",\"\",'Radio (Desc)'!H9)","v":""},{"$f":"IF('Radio (Desc)'!I9=\"\",\"\",INDEX([1]RADIO_FREQ!$A$2:$A$500,MATCH('Radio (Desc)'!$I9,[1]!MASTER_RADIO_FREQ_DESC[#Data],0),0))","v":""},{"$f":"IF('Radio (Desc)'!J9=\"\",\"\",'Radio (Desc)'!J9)","v":""},{"$f":"IF('Radio (Desc)'!K9=\"\",\"\",INDEX([1]CALL_SIGN!$A$2:$A$600,MATCH('Radio (Desc)'!$K9,[1]!MASTER_CALL_SIGN_DESC[#Data],0),0))","v":""},{"$f":"IF('Radio (Desc)'!L9=\"\",\"\",INDEX([1]STATION_CLASS!$A$2:$A$100,MATCH('Radio (Desc)'!$L9,[1]!MASTER_STATION_CLASS_DESC[#Data],0),0))","v":""},{"$f":"IF('Radio (Desc)'!M9=\"\",\"\",'Radio (Desc)'!M9)","v":""},{"$f":"IF('Radio (Desc)'!N9=\"\",\"\",'Radio (Desc)'!N9)","v":""},{"$f":"IF('Radio (Desc)'!O9=\"\",\"\",INDEX([1]ITS_COMM_DEV_MANUF!$A$2:$A$300,MATCH(1,([1]ITS_COMM_DEV_MANUF!$B$2:$B$300='Radio (Desc)'!$O9)*([1]ITS_COMM_DEV_MANUF!$C$2:$C$300=\"RADIO\"),0),0))","v":""},{"$f":"IF('Radio (Desc)'!P9=\"\",\"\",INDEX([1]ITS_COMM_DEV_MODEL!$A$2:$A$500,MATCH(1,([1]ITS_COMM_DEV_MODEL!$C$2:$C$500='Radio (Desc)'!$O9)*([1]ITS_COMM_DEV_MODEL!$D$2:$D$500=\"RADIO\")*([1]ITS_COMM_DEV_MODEL!$E$2:$E$500='Radio (Desc)'!$P9),0),0))","v":""},{"$f":"IF('Radio (Desc)'!Q9=\"\",\"\",'Radio (Desc)'!Q9)","v":""},{"$f":"IF('Radio (Desc)'!R9=\"\",\"\",'Radio (Desc)'!R9)","v":""},{"$f":"IF('Radio (Desc)'!S9=\"\",\"\",'Radio (Desc)'!S9)","v":""},{"$f":"IF('Radio (Desc)'!T9=\"\",\"\",'Radio (Desc)'!T9)","v":""},{"$f":"IF('Radio (Desc)'!U9=\"\",\"\",INDEX([1]DEV_INPUT_VOLTAGE!$A$2:$A$100,MATCH('Radio (Desc)'!$U9,[1]!MASTER_DEV_INPUT_VOLTAGE_DESC[#Data],0),0))","v":""},{"$f":"IF('Radio (Desc)'!V9=\"\",\"\",'Radio (Desc)'!V9)","v":""},{"$f":"IF('Radio (Desc)'!W9=\"\",\"\",'Radio (Desc)'!W9)","v":""},{"$f":"IF('Radio (Desc)'!X9=\"\",\"\",'Radio (Desc)'!X9)","v":""},{"$f":"IF('Radio (Desc)'!Y9=\"\",\"\",INDEX([1]FIBER_CONN_TYPE!$A$2:$A$100,MATCH('Radio (Desc)'!$Y9,[1]!MASTER_FIBER_CONN_TYPE_DESC[#Data],0),0))","v":""}]
[{"$f":"IF('Radio (Desc)'!A10=\"\",\"\",'Radio (Desc)'!A10)","v":""},{"$f":"IF('Radio (Desc)'!C10=\"\",\"\",\"2029\")","v":""},{"$f":"IF('Radio (Desc)'!C10=\"\",\"\",'Radio (Desc)'!C10)","v":""},{"$f":"IF('Radio (Desc)'!E10=\"\",\"\",\"RADIO\")","v":""},{"$f":"IF('Radio (Desc)'!E10=\"\",\"\",INDEX([1]RADIO_TYPE!$A$2:$A$100,MATCH('Radio (Desc)'!$E10,[1]!MASTER_RADIO_TYPE_DESC[#Data],0),0))","v":""},{"$f":"IF('Radio (Desc)'!F10=\"\",\"\",'Radio (Desc)'!F10)","v":""},{"$f":"IF('Radio (Desc)'!G10=\"\",\"\",INDEX([1]RADIO_FREQ!$A$2:$A$500,MATCH('Radio (Desc)'!$G10,[1]!MASTER_RADIO_FREQ_DESC[#Data],0),0))","v":""},{"$f":"IF('Radio (Desc)'!H10=\"\",\"\",'Radio (Desc)'!H10)","v":""},{"$f":"IF('Radio (Desc)'!I10=\"\",\"\",INDEX([1]RADIO_FREQ!$A$2:$A$500,MATCH('Radio (Desc)'!$I10,[1]!MASTER_RADIO_FREQ_DESC[#Data],0),0))","v":""},{"$f":"IF('Radio (Desc)'!J10=\"\",\"\",'Radio (Desc)'!J10)","v":""},{"$f":"IF('Radio (Desc)'!K10=\"\",\"\",INDEX([1]CALL_SIGN!$A$2:$A$600,MATCH('Radio (Desc)'!$K10,[1]!MASTER_CALL_SIGN_DESC[#Data],0),0))","v":""},{"$f":"IF('Radio (Desc)'!L10=\"\",\"\",INDEX([1]STATION_CLASS!$A$2:$A$100,MATCH('Radio (Desc)'!$L10,[1]!MASTER_STATION_CLASS_DESC[#Data],0),0))","v":""},{"$f":"IF('Radio (Desc)'!M10=\"\",\"\",'Radio (Desc)'!M10)","v":""},{"$f":"IF('Radio (Desc)'!N10=\"\",\"\",'Radio (Desc)'!N10)","v":""},{"$f":"IF('Radio (Desc)'!O10=\"\",\"\",INDEX([1]ITS_COMM_DEV_MANUF!$A$2:$A$300,MATCH(1,([1]ITS_COMM_DEV_MANUF!$B$2:$B$300='Radio (Desc)'!$O10)*([1]ITS_COMM_DEV_MANUF!$C$2:$C$300=\"RADIO\"),0),0))","v":""},{"$f":"IF('Radio (Desc)'!P10=\"\",\"\",INDEX([1]ITS_COMM_DEV_MODEL!$A$2:$A$500,MATCH(1,([1]ITS_COMM_DEV_MODEL!$C$2:$C$500='Radio (Desc)'!$O10)*([1]ITS_COMM_DEV_MODEL!$D$2:$D$500=\"RADIO\")*([1]ITS_COMM_DEV_MODEL!$E$2:$E$500='Radio (Desc)'!$P10),0),0))","v":""},{"$f":"IF('Radio (Desc)'!Q10=\"\",\"\",'Radio (Desc)'!Q10)","v":""},{"$f":"IF('Radio (Desc)'!R10=\"\",\"\",'Radio (Desc)'!R10)","v":""},{"$f":"IF('Radio (Desc)'!S10=\"\",\"\",'Radio (Desc)'!S10)","v":""},{"$f":"IF('Radio (Desc)'!T10=\"\",\"\",'Radio (Desc)'!T10)","v":""},{"$f":"IF('Radio (Desc)'!U10=\"\",\"\",INDEX([1]DEV_INPUT_VOLTAGE!$A$2:$A$100,MATCH('Radio (Desc)'!$U10,[1]!MASTER_DEV_INPUT_VOLTAGE_DESC[#Data],0),0))","v":""},{"$f":"IF('Radio (Desc)'!V10=\"\",\"\",'Radio (Desc)'!V10)","v":""},{"$f":"IF('Radio (Desc)'!W10=\"\",\"\",'Radio (Desc)'!W10)","v":""},{"$f":"IF('Radio (Desc)'!X10=\"\",\"\",'Radio (Desc)'!X10)","v":""},{"$f":"IF('Radio (Desc)'!Y10=\"\",\"\",INDEX([1]FIBER_CONN_TYPE!$A$2:$A$100,MATCH('Radio (Desc)'!$Y10,[1]!MASTER_FIBER_CONN_TYPE_DESC[#Data],0),0))","v":""}]
[{"$f":"IF('Radio (Desc)'!A11=\"\",\"\",'Radio (Desc)'!A11)","v":""},{"$f":"IF('Radio (Desc)'!C11=\"\",\"\",\"2029\")","v":""},{"$f":"IF('Radio (Desc)'!C11=\"\",\"\",'Radio (Desc)'!C11)","v":""},{"$f":"IF('Radio (Desc)'!E11=\"\",\"\",\"RADIO\")","v":""},{"$f":"IF('Radio (Desc)'!E11=\"\",\"\",INDEX([1]RADIO_TYPE!$A$2:$A$100,MATCH('Radio (Desc)'!$E11,[1]!MASTER_RADIO_TYPE_DESC[#Data],0),0))","v":""},{"$f":"IF('Radio (Desc)'!F11=\"\",\"\",'Radio (Desc)'!F11)","v":""},{"$f":"IF('Radio (Desc)'!G11=\"\",\"\",INDEX([1]RADIO_FREQ!$A$2:$A$500,MATCH('Radio (Desc)'!$G11,[1]!MASTER_RADIO_FREQ_DESC[#Data],0),0))","v":""},{"$f":"IF('Radio (Desc)'!H11=\"\",\"\",'Radio (Desc)'!H11)","v":""},{"$f":"IF('Radio (Desc)'!I11=\"\",\"\",INDEX([1]RADIO_FREQ!$A$2:$A$500,MATCH('Radio (Desc)'!$I11,[1]!MASTER_RADIO_FREQ_DESC[#Data],0),0))","v":""},{"$f":"IF('Radio (Desc)'!J11=\"\",\"\",'Radio (Desc)'!J11)","v":""},{"$f":"IF('Radio (Desc)'!K11=\"\",\"\",INDEX([1]CALL_SIGN!$A$2:$A$600,MATCH('Radio (Desc)'!$K11,[1]!MASTER_CALL_SIGN_DESC[#Data],0),0))","v":""},{"$f":"IF('Radio (Desc)'!L11=\"\",\"\",INDEX([1]STATION_CLASS!$A$2:$A$100,MATCH('Radio (Desc)'!$L11,[1]!MASTER_STATION_CLASS_DESC[#Data],0),0))","v":""},{"$f":"IF('Radio (Desc)'!M11=\"\",\"\",'Radio (Desc)'!M11)","v":""},{"$f":"IF('Radio (Desc)'!N11=\"\",\"\",'Radio (Desc)'!N11)","v":""},{"$f":"IF('Radio (Desc)'!O11=\"\",\"\",INDEX([1]ITS_COMM_DEV_MANUF!$A$2:$A$300,MATCH(1,([1]ITS_COMM_DEV_MANUF!$B$2:$B$300='Radio (Desc)'!$O11)*([1]ITS_COMM_DEV_MANUF!$C$2:$C$300=\"RADIO\"),0),0))","v":""},{"$f":"IF('Radio (Desc)'!P11=\"\",\"\",INDEX([1]ITS_COMM_DEV_MODEL!$A$2:$A$500,MATCH(1,([1]ITS_COMM_DEV_MODEL!$C$2:$C$500='Radio (Desc)'!$O11)*([1]ITS_COMM_DEV_MODEL!$D$2:$D$500=\"RADIO\")*([1]ITS_COMM_DEV_MODEL!$E$2:$E$500='Radio (Desc)'!$P11),0),0))","v":""},{"$f":"IF('Radio (Desc)'!Q11=\"\",\"\",'Radio (Desc)'!Q11)","v":""},{"$f":"IF('Radio (Desc)'!R11=\"\",\"\",'Radio (Desc)'!R11)","v":""},{"$f":"IF('Radio (Desc)'!S11=\"\",\"\",'Radio (Desc)'!S11)","v":""},{"$f":"IF('Radio (Desc)'!T11=\"\",\"\",'Radio (Desc)'!T11)","v":""},{"$f":"IF('Radio (Desc)'!U11=\"\",\"\",INDEX([1]DEV_INPUT_VOLTAGE!$A$2:$A$100,MATCH('Radio (Desc)'!$U11,[1]!MASTER_DEV_INPUT_VOLTAGE_DESC[#Data],0),0))","v":""},{"$f":"IF('Radio (Desc)'!V11=\"\",\"\",'Radio (Desc)'!V11)","v":""},{"$f":"IF('Radio (Desc)'!W11=\"\",\"\",'Radio (Desc)'!W11)","v":""},{"$f":"IF('Radio (Desc)'!X11=\"\",\"\",'Radio (Desc)'!X11)","v":""},{"$f":"IF('Radio (Desc)'!Y11=\"\",\"\",INDEX([1]FIBER_CONN_TYPE!$A$2:$A$100,MATCH('Radio (Desc)'!$Y11,[1]!MASTER_FIBER_CONN_TYPE_DESC[#Data],0),0))","v":""}]
[{"$f":"IF('Radio (Desc)'!A12=\"\",\"\",'Radio (Desc)'!A12)","v":""},{"$f":"IF('Radio (Desc)'!C12=\"\",\"\",\"2029\")","v":""},{"$f":"IF('Radio (Desc)'!C12=\"\",\"\",'Radio (Desc)'!C12)","v":""},{"$f":"IF('Radio (Desc)'!E12=\"\",\"\",\"RADIO\")","v":""},{"$f":"IF('Radio (Desc)'!E12=\"\",\"\",INDEX([1]RADIO_TYPE!$A$2:$A$100,MATCH('Radio (Desc)'!$E12,[1]!MASTER_RADIO_TYPE_DESC[#Data],0),0))","v":""},{"$f":"IF('Radio (Desc)'!F12=\"\",\"\",'Radio (Desc)'!F12)","v":""},{"$f":"IF('Radio (Desc)'!G12=\"\",\"\",INDEX([1]RADIO_FREQ!$A$2:$A$500,MATCH('Radio (Desc)'!$G12,[1]!MASTER_RADIO_FREQ_DESC[#Data],0),0))","v":""},{"$f":"IF('Radio (Desc)'!H12=\"\",\"\",'Radio (Desc)'!H12)","v":""},{"$f":"IF('Radio (Desc)'!I12=\"\",\"\",INDEX([1]RADIO_FREQ!$A$2:$A$500,MATCH('Radio (Desc)'!$I12,[1]!MASTER_RADIO_FREQ_DESC[#Data],0),0))","v":""},{"$f":"IF('Radio (Desc)'!J12=\"\",\"\",'Radio (Desc)'!J12)","v":""},{"$f":"IF('Radio (Desc)'!K12=\"\",\"\",INDEX([1]CALL_SIGN!$A$2:$A$600,MATCH('Radio (Desc)'!$K12,[1]!MASTER_CALL_SIGN_DESC[#Data],0),0))","v":""},{"$f":"IF('Radio (Desc)'!L12=\"\",\"\",INDEX([1]STATION_CLASS!$A$2:$A$100,MATCH('Radio (Desc)'!$L12,[1]!MASTER_STATION_CLASS_DESC[#Data],0),0))","v":""},{"$f":"IF('Radio (Desc)'!M12=\"\",\"\",'Radio (Desc)'!M12)","v":""},{"$f":"IF('Radio (Desc)'!N12=\"\",\"\",'Radio (Desc)'!N12)","v":""},{"$f":"IF('Radio (Desc)'!O12=\"\",\"\",INDEX([1]ITS_COMM_DEV_MANUF!$A$2:$A$300,MATCH(1,([1]ITS_COMM_DEV_MANUF!$B$2:$B$300='Radio (Desc)'!$O12)*([1]ITS_COMM_DEV_MANUF!$C$2:$C$300=\"RADIO\"),0),0))","v":""},{"$f":"IF('Radio (Desc)'!P12=\"\",\"\",INDEX([1]ITS_COMM_DEV_MODEL!$A$2:$A$500,MATCH(1,([1]ITS_COMM_DEV_MODEL!$C$2:$C$500='Radio (Desc)'!$O12)*([1]ITS_COMM_DEV_MODEL!$D$2:$D$500=\"RADIO\")*([1]ITS_COMM_DEV_MODEL!$E$2:$E$500='Radio (Desc)'!$P12),0),0))","v":""},{"$f":"IF('Radio (Desc)'!Q12=\"\",\"\",'Radio (Desc)'!Q12)","v":""},{"$f":"IF('Radio (Desc)'!R12=\"\",\"\",'Radio (Desc)'!R12)","v":""},{"$f":"IF('Radio (Desc)'!S12=\"\",\"\",'Radio (Desc)'!S12)","v":""},{"$f":"IF('Radio (Desc)'!T12=\"\",\"\",'Radio (Desc)'!T12)","v":""},{"$f":"IF('Radio (Desc)'!U12=\"\",\"\",INDEX([1]DEV_INPUT_VOLTAGE!$A$2:$A$100,MATCH('Radio (Desc)'!$U12,[1]!MASTER_DEV_INPUT_VOLTAGE_DESC[#Data],0),0))","v":""},{"$f":"IF('Radio (Desc)'!V12=\"\",\"\",'Radio (Desc)'!V12)","v":""},{"$f":"IF('Radio (Desc)'!W12=\"\",\"\",'Radio (Desc)'!W12)","v":""},{"$f":"IF('Radio (Desc)'!X12=\"\",\"\",'Radio (Desc)'!X12)","v":""},{"$f":"IF('Radio (Desc)'!Y12=\"\",\"\",INDEX([1]FIBER_CONN_TYPE!$A$2:$A$100,MATCH('Radio (Desc)'!$Y12,[1]!MASTER_FIBER_CONN_TYPE_DESC[#Data],0),0))","v":""}]
[{"$f":"IF('Radio (Desc)'!A13=\"\",\"\",'Radio (Desc)'!A13)","v":""},{"$f":"IF('Radio (Desc)'!C13=\"\",\"\",\"2029\")","v":""},{"$f":"IF('Radio (Desc)'!C13=\"\",\"\",'Radio (Desc)'!C13)","v":""},{"$f":"IF('Radio (Desc)'!E13=\"\",\"\",\"RADIO\")","v":""},{"$f":"IF('Radio (Desc)'!E13=\"\",\"\",INDEX([1]RADIO_TYPE!$A$2:$A$100,MATCH('Radio (Desc)'!$E13,[1]!MASTER_RADIO_TYPE_DESC[#Data],0),0))","v":""},{"$f":"IF('Radio (Desc)'!F13=\"\",\"\",'Radio (Desc)'!F13)","v":""},{"$f":"IF('Radio (Desc)'!G13=\"\",\"\",INDEX([1]RADIO_FREQ!$A$2:$A$500,MATCH('Radio (Desc)'!$G13,[1]!MASTER_RADIO_FREQ_DESC[#Data],0),0))","v":""},{"$f":"IF('Radio (Desc)'!H13=\"\",\"\",'Radio (Desc)'!H13)","v":""},{"$f":"IF('Radio (Desc)'!I13=\"\",\"\",INDEX([1]RADIO_FREQ!$A$2:$A$500,MATCH('Radio (Desc)'!$I13,[1]!MASTER_RADIO_FREQ_DESC[#Data],0),0))","v":""},{"$f":"IF('Radio (Desc)'!J13=\"\",\"\",'Radio (Desc)'!J13)","v":""},{"$f":"IF('Radio (Desc)'!K13=\"\",\"\",INDEX([1]CALL_SIGN!$A$2:$A$600,MATCH('Radio (Desc)'!$K13,[1]!MASTER_CALL_SIGN_DESC[#Data],0),0))","v":""},{"$f":"IF('Radio (Desc)'!L13=\"\",\"\",INDEX([1]STATION_CLASS!$A$2:$A$100,MATCH('Radio (Desc)'!$L13,[1]!MASTER_STATION_CLASS_DESC[#Data],0),0))","v":""},{"$f":"IF('Radio (Desc)'!M13=\"\",\"\",'Radio (Desc)'!M13)","v":""},{"$f":"IF('Radio (Desc)'!N13=\"\",\"\",'Radio (Desc)'!N13)","v":""},{"$f":"IF('Radio (Desc)'!O13=\"\",\"\",INDEX([1]ITS_COMM_DEV_MANUF!$A$2:$A$300,MATCH(1,([1]ITS_COMM_DEV_MANUF!$B$2:$B$300='Radio (Desc)'!$O13)*([1]ITS_COMM_DEV_MANUF!$C$2:$C$300=\"RADIO\"),0),0))","v":""},{"$f":"IF('Radio (Desc)'!P13=\"\",\"\",INDEX([1]ITS_COMM_DEV_MODEL!$A$2:$A$500,MATCH(1,([1]ITS_COMM_DEV_MODEL!$C$2:$C$500='Radio (Desc)'!$O13)*([1]ITS_COMM_DEV_MODEL!$D$2:$D$500=\"RADIO\")*([1]ITS_COMM_DEV_MODEL!$E$2:$E$500='Radio (Desc)'!$P13),0),0))","v":""},{"$f":"IF('Radio (Desc)'!Q13=\"\",\"\",'Radio (Desc)'!Q13)","v":""},{"$f":"IF('Radio (Desc)'!R13=\"\",\"\",'Radio (Desc)'!R13)","v":""},{"$f":"IF('Radio (Desc)'!S13=\"\",\"\",'Radio (Desc)'!S13)","v":""},{"$f":"IF('Radio (Desc)'!T13=\"\",\"\",'Radio (Desc)'!T13)","v":""},{"$f":"IF('Radio (Desc)'!U13=\"\",\"\",INDEX([1]DEV_INPUT_VOLTAGE!$A$2:$A$100,MATCH('Radio (Desc)'!$U13,[1]!MASTER_DEV_INPUT_VOLTAGE_DESC[#Data],0),0))","v":""},{"$f":"IF('Radio (Desc)'!V13=\"\",\"\",'Radio (Desc)'!V13)","v":""},{"$f":"IF('Radio (Desc)'!W13=\"\",\"\",'Radio (Desc)'!W13)","v":""},{"$f":"IF('Radio (Desc)'!X13=\"\",\"\",'Radio (Desc)'!X13)","v":""},{"$f":"IF('Radio (Desc)'!Y13=\"\",\"\",INDEX([1]FIBER_CONN_TYPE!$A$2:$A$100,MATCH('Radio (Desc)'!$Y13,[1]!MASTER_FIBER_CONN_TYPE_DESC[#Data],0),0))","v":""}]
[{"$f":"IF('Radio (Desc)'!A14=\"\",\"\",'Radio (Desc)'!A14)","v":""},{"$f":"IF('Radio (Desc)'!C14=\"\",\"\",\"2029\")","v":""},{"$f":"IF('Radio (Desc)'!C14=\"\",\"\",'Radio (Desc)'!C14)","v":""},{"$f":"IF('Radio (Desc)'!E14=\"\",\"\",\"RADIO\")","v":""},{"$f":"IF('Radio (Desc)'!E14=\"\",\"\",INDEX([1]RADIO_TYPE!$A$2:$A$100,MATCH('Radio (Desc)'!$E14,[1]!MASTER_RADIO_TYPE_DESC[#Data],0),0))","v":""},{"$f":"IF('Radio (Desc)'!F14=\"\",\"\",'Radio (Desc)'!F14)","v":""},{"$f":"IF('Radio (Desc)'!G14=\"\",\"\",INDEX([1]RADIO_FREQ!$A$2:$A$500,MATCH('Radio (Desc)'!$G14,[1]!MASTER_RADIO_FREQ_DESC[#Data],0),0))","v":""},{"$f":"IF('Radio (Desc)'!H14=\"\",\"\",'Radio (Desc)'!H14)","v":""},{"$f":"IF('Radio (Desc)'!I14=\"\",\"\",INDEX([1]RADIO_FREQ!$A$2:$A$500,MATCH('Radio (Desc)'!$I14,[1]!MASTER_RADIO_FREQ_DESC[#Data],0),0))","v":""},{"$f":"IF('Radio (Desc)'!J14=\"\",\"\",'Radio (Desc)'!J14)","v":""},{"$f":"IF('Radio (Desc)'!K14=\"\",\"\",INDEX([1]CALL_SIGN!$A$2:$A$600,MATCH('Radio (Desc)'!$K14,[1]!MASTER_CALL_SIGN_DESC[#Data],0),0))","v":""},{"$f":"IF('Radio (Desc)'!L14=\"\",\"\",INDEX([1]STATION_CLASS!$A$2:$A$100,MATCH('Radio (Desc)'!$L14,[1]!MASTER_STATION_CLASS_DESC[#Data],0),0))","v":""},{"$f":"IF('Radio (Desc)'!M14=\"\",\"\",'Radio (Desc)'!M14)","v":""},{"$f":"IF('Radio (Desc)'!N14=\"\",\"\",'Radio (Desc)'!N14)","v":""},{"$f":"IF('Radio (Desc)'!O14=\"\",\"\",INDEX([1]ITS_COMM_DEV_MANUF!$A$2:$A$300,MATCH(1,([1]ITS_COMM_DEV_MANUF!$B$2:$B$300='Radio (Desc)'!$O14)*([1]ITS_COMM_DEV_MANUF!$C$2:$C$300=\"RADIO\"),0),0))","v":""},{"$f":"IF('Radio (Desc)'!P14=\"\",\"\",INDEX([1]ITS_COMM_DEV_MODEL!$A$2:$A$500,MATCH(1,([1]ITS_COMM_DEV_MODEL!$C$2:$C$500='Radio (Desc)'!$O14)*([1]ITS_COMM_DEV_MODEL!$D$2:$D$500=\"RADIO\")*([1]ITS_COMM_DEV_MODEL!$E$2:$E$500='Radio (Desc)'!$P14),0),0))","v":""},{"$f":"IF('Radio (Desc)'!Q14=\"\",\"\",'Radio (Desc)'!Q14)","v":""},{"$f":"IF('Radio (Desc)'!R14=\"\",\"\",'Radio (Desc)'!R14)","v":""},{"$f":"IF('Radio (Desc)'!S14=\"\",\"\",'Radio (Desc)'!S14)","v":""},{"$f":"IF('Radio (Desc)'!T14=\"\",\"\",'Radio (Desc)'!T14)","v":""},{"$f":"IF('Radio (Desc)'!U14=\"\",\"\",INDEX([1]DEV_INPUT_VOLTAGE!$A$2:$A$100,MATCH('Radio (Desc)'!$U14,[1]!MASTER_DEV_INPUT_VOLTAGE_DESC[#Data],0),0))","v":""},{"$f":"IF('Radio (Desc)'!V14=\"\",\"\",'Radio (Desc)'!V14)","v":""},{"$f":"IF('Radio (Desc)'!W14=\"\",\"\",'Radio (Desc)'!W14)","v":""},{"$f":"IF('Radio (Desc)'!X14=\"\",\"\",'Radio (Desc)'!X14)","v":""},{"$f":"IF('Radio (Desc)'!Y14=\"\",\"\",INDEX([1]FIBER_CONN_TYPE!$A$2:$A$100,MATCH('Radio (Desc)'!$Y14,[1]!MASTER_FIBER_CONN_TYPE_DESC[#Data],0),0))","v":""}]
[{"$f":"IF('Radio (Desc)'!A15=\"\",\"\",'Radio (Desc)'!A15)","v":""},{"$f":"IF('Radio (Desc)'!C15=\"\",\"\",\"2029\")","v":""},{"$f":"IF('Radio (Desc)'!C15=\"\",\"\",'Radio (Desc)'!C15)","v":""},{"$f":"IF('Radio (Desc)'!E15=\"\",\"\",\"RADIO\")","v":""},{"$f":"IF('Radio (Desc)'!E15=\"\",\"\",INDEX([1]RADIO_TYPE!$A$2:$A$100,MATCH('Radio (Desc)'!$E15,[1]!MASTER_RADIO_TYPE_DESC[#Data],0),0))","v":""},{"$f":"IF('Radio (Desc)'!F15=\"\",\"\",'Radio (Desc)'!F15)","v":""},{"$f":"IF('Radio (Desc)'!G15=\"\",\"\",INDEX([1]RADIO_FREQ!$A$2:$A$500,MATCH('Radio (Desc)'!$G15,[1]!MASTER_RADIO_FREQ_DESC[#Data],0),0))","v":""},{"$f":"IF('Radio (Desc)'!H15=\"\",\"\",'Radio (Desc)'!H15)","v":""},{"$f":"IF('Radio (Desc)'!I15=\"\",\"\",INDEX([1]RADIO_FREQ!$A$2:$A$500,MATCH('Radio (Desc)'!$I15,[1]!MASTER_RADIO_FREQ_DESC[#Data],0),0))","v":""},{"$f":"IF('Radio (Desc)'!J15=\"\",\"\",'Radio (Desc)'!J15)","v":""},{"$f":"IF('Radio (Desc)'!K15=\"\",\"\",INDEX([1]CALL_SIGN!$A$2:$A$600,MATCH('Radio (Desc)'!$K15,[1]!MASTER_CALL_SIGN_DESC[#Data],0),0))","v":""},{"$f":"IF('Radio (Desc)'!L15=\"\",\"\",INDEX([1]STATION_CLASS!$A$2:$A$100,MATCH('Radio (Desc)'!$L15,[1]!MASTER_STATION_CLASS_DESC[#Data],0),0))","v":""},{"$f":"IF('Radio (Desc)'!M15=\"\",\"\",'Radio (Desc)'!M15)","v":""},{"$f":"IF('Radio (Desc)'!N15=\"\",\"\",'Radio (Desc)'!N15)","v":""},{"$f":"IF('Radio (Desc)'!O15=\"\",\"\",INDEX([1]ITS_COMM_DEV_MANUF!$A$2:$A$300,MATCH(1,([1]ITS_COMM_DEV_MANUF!$B$2:$B$300='Radio (Desc)'!$O15)*([1]ITS_COMM_DEV_MANUF!$C$2:$C$300=\"RADIO\"),0),0))","v":""},{"$f":"IF('Radio (Desc)'!P15=\"\",\"\",INDEX([1]ITS_COMM_DEV_MODEL!$A$2:$A$500,MATCH(1,([1]ITS_COMM_DEV_MODEL!$C$2:$C$500='Radio (Desc)'!$O15)*([1]ITS_COMM_DEV_MODEL!$D$2:$D$500=\"RADIO\")*([1]ITS_COMM_DEV_MODEL!$E$2:$E$500='Radio (Desc)'!$P15),0),0))","v":""},{"$f":"IF('Radio (Desc)'!Q15=\"\",\"\",'Radio (Desc)'!Q15)","v":""},{"$f":"IF('Radio (Desc)'!R15=\"\",\"\",'Radio (Desc)'!R15)","v":""},{"$f":"IF('Radio (Desc)'!S15=\"\",\"\",'Radio (Desc)'!S15)","v":""},{"$f":"IF('Radio (Desc)'!T15=\"\",\"\",'Radio (Desc)'!T15)","v":""},{"$f":"IF('Radio (Desc)'!U15=\"\",\"\",INDEX([1]DEV_INPUT_VOLTAGE!$A$2:$A$100,MATCH('Radio (Desc)'!$U15,[1]!MASTER_DEV_INPUT_VOLTAGE_DESC[#Data],0),0))","v":""},{"$f":"IF('Radio (Desc)'!V15=\"\",\"\",'Radio (Desc)'!V15)","v":""},{"$f":"IF('Radio (Desc)'!W15=\"\",\"\",'Radio (Desc)'!W15)","v":""},{"$f":"IF('Radio (Desc)'!X15=\"\",\"\",'Radio (Desc)'!X15)","v":""},{"$f":"IF('Radio (Desc)'!Y15=\"\",\"\",INDEX([1]FIBER_CONN_TYPE!$A$2:$A$100,MATCH('Radio (Desc)'!$Y15,[1]!MASTER_FIBER_CONN_TYPE_DESC[#Data],0),0))","v":""}]
[{"$f":"IF('Radio (Desc)'!A16=\"\",\"\",'Radio (Desc)'!A16)","v":""},{"$f":"IF('Radio (Desc)'!C16=\"\",\"\",\"2029\")","v":""},{"$f":"IF('Radio (Desc)'!C16=\"\",\"\",'Radio (Desc)'!C16)","v":""},{"$f":"IF('Radio (Desc)'!E16=\"\",\"\",\"RADIO\")","v":""},{"$f":"IF('Radio (Desc)'!E16=\"\",\"\",INDEX([1]RADIO_TYPE!$A$2:$A$100,MATCH('Radio (Desc)'!$E16,[1]!MASTER_RADIO_TYPE_DESC[#Data],0),0))","v":""},{"$f":"IF('Radio (Desc)'!F16=\"\",\"\",'Radio (Desc)'!F16)","v":""},{"$f":"IF('Radio (Desc)'!G16=\"\",\"\",INDEX([1]RADIO_FREQ!$A$2:$A$500,MATCH('Radio (Desc)'!$G16,[1]!MASTER_RADIO_FREQ_DESC[#Data],0),0))","v":""},{"$f":"IF('Radio (Desc)'!H16=\"\",\"\",'Radio (Desc)'!H16)","v":""},{"$f":"IF('Radio (Desc)'!I16=\"\",\"\",INDEX([1]RADIO_FREQ!$A$2:$A$500,MATCH('Radio (Desc)'!$I16,[1]!MASTER_RADIO_FREQ_DESC[#Data],0),0))","v":""},{"$f":"IF('Radio (Desc)'!J16=\"\",\"\",'Radio (Desc)'!J16)","v":""},{"$f":"IF('Radio (Desc)'!K16=\"\",\"\",INDEX([1]CALL_SIGN!$A$2:$A$600,MATCH('Radio (Desc)'!$K16,[1]!MASTER_CALL_SIGN_DESC[#Data],0),0))","v":""},{"$f":"IF('Radio (Desc)'!L16=\"\",\"\",INDEX([1]STATION_CLASS!$A$2:$A$100,MATCH('Radio (Desc)'!$L16,[1]!MASTER_STATION_CLASS_DESC[#Data],0),0))","v":""},{"$f":"IF('Radio (Desc)'!M16=\"\",\"\",'Radio (Desc)'!M16)","v":""},{"$f":"IF('Radio (Desc)'!N16=\"\",\"\",'Radio (Desc)'!N16)","v":""},{"$f":"IF('Radio (Desc)'!O16=\"\",\"\",INDEX([1]ITS_COMM_DEV_MANUF!$A$2:$A$300,MATCH(1,([1]ITS_COMM_DEV_MANUF!$B$2:$B$300='Radio (Desc)'!$O16)*([1]ITS_COMM_DEV_MANUF!$C$2:$C$300=\"RADIO\"),0),0))","v":""},{"$f":"IF('Radio (Desc)'!P16=\"\",\"\",INDEX([1]ITS_COMM_DEV_MODEL!$A$2:$A$500,MATCH(1,([1]ITS_COMM_DEV_MODEL!$C$2:$C$500='Radio (Desc)'!$O16)*([1]ITS_COMM_DEV_MODEL!$D$2:$D$500=\"RADIO\")*([1]ITS_COMM_DEV_MODEL!$E$2:$E$500='Radio (Desc)'!$P16),0),0))","v":""},{"$f":"IF('Radio (Desc)'!Q16=\"\",\"\",'Radio (Desc)'!Q16)","v":""},{"$f":"IF('Radio (Desc)'!R16=\"\",\"\",'Radio (Desc)'!R16)","v":""},{"$f":"IF('Radio (Desc)'!S16=\"\",\"\",'Radio (Desc)'!S16)","v":""},{"$f":"IF('Radio (Desc)'!T16=\"\",\"\",'Radio (Desc)'!T16)","v":""},{"$f":"IF('Radio (Desc)'!U16=\"\",\"\",INDEX([1]DEV_INPUT_VOLTAGE!$A$2:$A$100,MATCH('Radio (Desc)'!$U16,[1]!MASTER_DEV_INPUT_VOLTAGE_DESC[#Data],0),0))","v":""},{"$f":"IF('Radio (Desc)'!V16=\"\",\"\",'Radio (Desc)'!V16)","v":""},{"$f":"IF('Radio (Desc)'!W16=\"\",\"\",'Radio (Desc)'!W16)","v":""},{"$f":"IF('Radio (Desc)'!X16=\"\",\"\",'Radio (Desc)'!X16)","v":""},{"$f":"IF('Radio (Desc)'!Y16=\"\",\"\",INDEX([1]FIBER_CONN_TYPE!$A$2:$A$100,MATCH('Radio (Desc)'!$Y16,[1]!MASTER_FIBER_CONN_TYPE_DESC[#Data],0),0))","v":""}]
[{"$f":"IF('Radio (Desc)'!A17=\"\",\"\",'Radio (Desc)'!A17)","v":""},{"$f":"IF('Radio (Desc)'!C17=\"\",\"\",\"2029\")","v":""},{"$f":"IF('Radio (Desc)'!C17=\"\",\"\",'Radio (Desc)'!C17)","v":""},{"$f":"IF('Radio (Desc)'!E17=\"\",\"\",\"RADIO\")","v":""},{"$f":"IF('Radio (Desc)'!E17=\"\",\"\",INDEX([1]RADIO_TYPE!$A$2:$A$100,MATCH('Radio (Desc)'!$E17,[1]!MASTER_RADIO_TYPE_DESC[#Data],0),0))","v":""},{"$f":"IF('Radio (Desc)'!F17=\"\",\"\",'Radio (Desc)'!F17)","v":""},{"$f":"IF('Radio (Desc)'!G17=\"\",\"\",INDEX([1]RADIO_FREQ!$A$2:$A$500,MATCH('Radio (Desc)'!$G17,[1]!MASTER_RADIO_FREQ_DESC[#Data],0),0))","v":""},{"$f":"IF('Radio (Desc)'!H17=\"\",\"\",'Radio (Desc)'!H17)","v":""},{"$f":"IF('Radio (Desc)'!I17=\"\",\"\",INDEX([1]RADIO_FREQ!$A$2:$A$500,MATCH('Radio (Desc)'!$I17,[1]!MASTER_RADIO_FREQ_DESC[#Data],0),0))","v":""},{"$f":"IF('Radio (Desc)'!J17=\"\",\"\",'Radio (Desc)'!J17)","v":""},{"$f":"IF('Radio (Desc)'!K17=\"\",\"\",INDEX([1]CALL_SIGN!$A$2:$A$600,MATCH('Radio (Desc)'!$K17,[1]!MASTER_CALL_SIGN_DESC[#Data],0),0))","v":""},{"$f":"IF('Radio (Desc)'!L17=\"\",\"\",INDEX([1]STATION_CLASS!$A$2:$A$100,MATCH('Radio (Desc)'!$L17,[1]!MASTER_STATION_CLASS_DESC[#Data],0),0))","v":""},{"$f":"IF('Radio (Desc)'!M17=\"\",\"\",'Radio (Desc)'!M17)","v":""},{"$f":"IF('Radio (Desc)'!N17=\"\",\"\",'Radio (Desc)'!N17)","v":""},{"$f":"IF('Radio (Desc)'!O17=\"\",\"\",INDEX([1]ITS_COMM_DEV_MANUF!$A$2:$A$300,MATCH(1,([1]ITS_COMM_DEV_MANUF!$B$2:$B$300='Radio (Desc)'!$O17)*([1]ITS_COMM_DEV_MANUF!$C$2:$C$300=\"RADIO\"),0),0))","v":""},{"$f":"IF('Radio (Desc)'!P17=\"\",\"\",INDEX([1]ITS_COMM_DEV_MODEL!$A$2:$A$500,MATCH(1,([1]ITS_COMM_DEV_MODEL!$C$2:$C$500='Radio (Desc)'!$O17)*([1]ITS_COMM_DEV_MODEL!$D$2:$D$500=\"RADIO\")*([1]ITS_COMM_DEV_MODEL!$E$2:$E$500='Radio (Desc)'!$P17),0),0))","v":""},{"$f":"IF('Radio (Desc)'!Q17=\"\",\"\",'Radio (Desc)'!Q17)","v":""},{"$f":"IF('Radio (Desc)'!R17=\"\",\"\",'Radio (Desc)'!R17)","v":""},{"$f":"IF('Radio (Desc)'!S17=\"\",\"\",'Radio (Desc)'!S17)","v":""},{"$f":"IF('Radio (Desc)'!T17=\"\",\"\",'Radio (Desc)'!T17)","v":""},{"$f":"IF('Radio (Desc)'!U17=\"\",\"\",INDEX([1]DEV_INPUT_VOLTAGE!$A$2:$A$100,MATCH('Radio (Desc)'!$U17,[1]!MASTER_DEV_INPUT_VOLTAGE_DESC[#Data],0),0))","v":""},{"$f":"IF('Radio (Desc)'!V17=\"\",\"\",'Radio (Desc)'!V17)","v":""},{"$f":"IF('Radio (Desc)'!W17=\"\",\"\",'Radio (Desc)'!W17)","v":""},{"$f":"IF('Radio (Desc)'!X17=\"\",\"\",'Radio (Desc)'!X17)","v":""},{"$f":"IF('Radio (Desc)'!Y17=\"\",\"\",INDEX([1]FIBER_CONN_TYPE!$A$2:$A$100,MATCH('Radio (Desc)'!$Y17,[1]!MASTER_FIBER_CONN_TYPE_DESC[#Data],0),0))","v":""}]
[{"$f":"IF('Radio (Desc)'!A18=\"\",\"\",'Radio (Desc)'!A18)","v":""},{"$f":"IF('Radio (Desc)'!C18=\"\",\"\",\"2029\")","v":""},{"$f":"IF('Radio (Desc)'!C18=\"\",\"\",'Radio (Desc)'!C18)","v":""},{"$f":"IF('Radio (Desc)'!E18=\"\",\"\",\"RADIO\")","v":""},{"$f":"IF('Radio (Desc)'!E18=\"\",\"\",INDEX([1]RADIO_TYPE!$A$2:$A$100,MATCH('Radio (Desc)'!$E18,[1]!MASTER_RADIO_TYPE_DESC[#Data],0),0))","v":""},{"$f":"IF('Radio (Desc)'!F18=\"\",\"\",'Radio (Desc)'!F18)","v":""},{"$f":"IF('Radio (Desc)'!G18=\"\",\"\",INDEX([1]RADIO_FREQ!$A$2:$A$500,MATCH('Radio (Desc)'!$G18,[1]!MASTER_RADIO_FREQ_DESC[#Data],0),0))","v":""},{"$f":"IF('Radio (Desc)'!H18=\"\",\"\",'Radio (Desc)'!H18)","v":""},{"$f":"IF('Radio (Desc)'!I18=\"\",\"\",INDEX([1]RADIO_FREQ!$A$2:$A$500,MATCH('Radio (Desc)'!$I18,[1]!MASTER_RADIO_FREQ_DESC[#Data],0),0))","v":""},{"$f":"IF('Radio (Desc)'!J18=\"\",\"\",'Radio (Desc)'!J18)","v":""},{"$f":"IF('Radio (Desc)'!K18=\"\",\"\",INDEX([1]CALL_SIGN!$A$2:$A$600,MATCH('Radio (Desc)'!$K18,[1]!MASTER_CALL_SIGN_DESC[#Data],0),0))","v":""},{"$f":"IF('Radio (Desc)'!L18=\"\",\"\",INDEX([1]STATION_CLASS!$A$2:$A$100,MATCH('Radio (Desc)'!$L18,[1]!MASTER_STATION_CLASS_DESC[#Data],0),0))","v":""},{"$f":"IF('Radio (Desc)'!M18=\"\",\"\",'Radio (Desc)'!M18)","v":""},{"$f":"IF('Radio (Desc)'!N18=\"\",\"\",'Radio (Desc)'!N18)","v":""},{"$f":"IF('Radio (Desc)'!O18=\"\",\"\",INDEX([1]ITS_COMM_DEV_MANUF!$A$2:$A$300,MATCH(1,([1]ITS_COMM_DEV_MANUF!$B$2:$B$300='Radio (Desc)'!$O18)*([1]ITS_COMM_DEV_MANUF!$C$2:$C$300=\"RADIO\"),0),0))","v":""},{"$f":"IF('Radio (Desc)'!P18=\"\",\"\",INDEX([1]ITS_COMM_DEV_MODEL!$A$2:$A$500,MATCH(1,([1]ITS_COMM_DEV_MODEL!$C$2:$C$500='Radio (Desc)'!$O18)*([1]ITS_COMM_DEV_MODEL!$D$2:$D$500=\"RADIO\")*([1]ITS_COMM_DEV_MODEL!$E$2:$E$500='Radio (Desc)'!$P18),0),0))","v":""},{"$f":"IF('Radio (Desc)'!Q18=\"\",\"\",'Radio (Desc)'!Q18)","v":""},{"$f":"IF('Radio (Desc)'!R18=\"\",\"\",'Radio (Desc)'!R18)","v":""},{"$f":"IF('Radio (Desc)'!S18=\"\",\"\",'Radio (Desc)'!S18)","v":""},{"$f":"IF('Radio (Desc)'!T18=\"\",\"\",'Radio (Desc)'!T18)","v":""},{"$f":"IF('Radio (Desc)'!U18=\"\",\"\",INDEX([1]DEV_INPUT_VOLTAGE!$A$2:$A$100,MATCH('Radio (Desc)'!$U18,[1]!MASTER_DEV_INPUT_VOLTAGE_DESC[#Data],0),0))","v":""},{"$f":"IF('Radio (Desc)'!V18=\"\",\"\",'Radio (Desc)'!V18)","v":""},{"$f":"IF('Radio (Desc)'!W18=\"\",\"\",'Radio (Desc)'!W18)","v":""},{"$f":"IF('Radio (Desc)'!X18=\"\",\"\",'Radio (Desc)'!X18)","v":""},{"$f":"IF('Radio (Desc)'!Y18=\"\",\"\",INDEX([1]FIBER_CONN_TYPE!$A$2:$A$100,MATCH('Radio (Desc)'!$Y18,[1]!MASTER_FIBER_CONN_TYPE_DESC[#Data],0),0))","v":""}]
[{"$f":"IF('Radio (Desc)'!A19=\"\",\"\",'Radio (Desc)'!A19)","v":""},{"$f":"IF('Radio (Desc)'!C19=\"\",\"\",\"2029\")","v":""},{"$f":"IF('Radio (Desc)'!C19=\"\",\"\",'Radio (Desc)'!C19)","v":""},{"$f":"IF('Radio (Desc)'!E19=\"\",\"\",\"RADIO\")","v":""},{"$f":"IF('Radio (Desc)'!E19=\"\",\"\",INDEX([1]RADIO_TYPE!$A$2:$A$100,MATCH('Radio (Desc)'!$E19,[1]!MASTER_RADIO_TYPE_DESC[#Data],0),0))","v":""},{"$f":"IF('Radio (Desc)'!F19=\"\",\"\",'Radio (Desc)'!F19)","v":""},{"$f":"IF('Radio (Desc)'!G19=\"\",\"\",INDEX([1]RADIO_FREQ!$A$2:$A$500,MATCH('Radio (Desc)'!$G19,[1]!MASTER_RADIO_FREQ_DESC[#Data],0),0))","v":""},{"$f":"IF('Radio (Desc)'!H19=\"\",\"\",'Radio (Desc)'!H19)","v":""},{"$f":"IF('Radio (Desc)'!I19=\"\",\"\",INDEX([1]RADIO_FREQ!$A$2:$A$500,MATCH('Radio (Desc)'!$I19,[1]!MASTER_RADIO_FREQ_DESC[#Data],0),0))","v":""},{"$f":"IF('Radio (Desc)'!J19=\"\",\"\",'Radio (Desc)'!J19)","v":""},{"$f":"IF('Radio (Desc)'!K19=\"\",\"\",INDEX([1]CALL_SIGN!$A$2:$A$600,MATCH('Radio (Desc)'!$K19,[1]!MASTER_CALL_SIGN_DESC[#Data],0),0))","v":""},{"$f":"IF('Radio (Desc)'!L19=\"\",\"\",INDEX([1]STATION_CLASS!$A$2:$A$100,MATCH('Radio (Desc)'!$L19,[1]!MASTER_STATION_CLASS_DESC[#Data],0),0))","v":""},{"$f":"IF('Radio (Desc)'!M19=\"\",\"\",'Radio (Desc)'!M19)","v":""},{"$f":"IF('Radio (Desc)'!N19=\"\",\"\",'Radio (Desc)'!N19)","v":""},{"$f":"IF('Radio (Desc)'!O19=\"\",\"\",INDEX([1]ITS_COMM_DEV_MANUF!$A$2:$A$300,MATCH(1,([1]ITS_COMM_DEV_MANUF!$B$2:$B$300='Radio (Desc)'!$O19)*([1]ITS_COMM_DEV_MANUF!$C$2:$C$300=\"RADIO\"),0),0))","v":""},{"$f":"IF('Radio (Desc)'!P19=\"\",\"\",INDEX([1]ITS_COMM_DEV_MODEL!$A$2:$A$500,MATCH(1,([1]ITS_COMM_DEV_MODEL!$C$2:$C$500='Radio (Desc)'!$O19)*([1]ITS_COMM_DEV_MODEL!$D$2:$D$500=\"RADIO\")*([1]ITS_COMM_DEV_MODEL!$E$2:$E$500='Radio (Desc)'!$P19),0),0))","v":""},{"$f":"IF('Radio (Desc)'!Q19=\"\",\"\",'Radio (Desc)'!Q19)","v":""},{"$f":"IF('Radio (Desc)'!R19=\"\",\"\",'Radio (Desc)'!R19)","v":""},{"$f":"IF('Radio (Desc)'!S19=\"\",\"\",'Radio (Desc)'!S19)","v":""},{"$f":"IF('Radio (Desc)'!T19=\"\",\"\",'Radio (Desc)'!T19)","v":""},{"$f":"IF('Radio (Desc)'!U19=\"\",\"\",INDEX([1]DEV_INPUT_VOLTAGE!$A$2:$A$100,MATCH('Radio (Desc)'!$U19,[1]!MASTER_DEV_INPUT_VOLTAGE_DESC[#Data],0),0))","v":""},{"$f":"IF('Radio (Desc)'!V19=\"\",\"\",'Radio (Desc)'!V19)","v":""},{"$f":"IF('Radio (Desc)'!W19=\"\",\"\",'Radio (Desc)'!W19)","v":""},{"$f":"IF('Radio (Desc)'!X19=\"\",\"\",'Radio (Desc)'!X19)","v":""},{"$f":"IF('Radio (Desc)'!Y19=\"\",\"\",INDEX([1]FIBER_CONN_TYPE!$A$2:$A$100,MATCH('Radio (Desc)'!$Y19,[1]!MASTER_FIBER_CONN_TYPE_DESC[#Data],0),0))","v":""}]
[{"$f":"IF('Radio (Desc)'!A20=\"\",\"\",'Radio (Desc)'!A20)","v":""},{"$f":"IF('Radio (Desc)'!C20=\"\",\"\",\"2029\")","v":""},{"$f":"IF('Radio (Desc)'!C20=\"\",\"\",'Radio (Desc)'!C20)","v":""},{"$f":"IF('Radio (Desc)'!E20=\"\",\"\",\"RADIO\")","v":""},{"$f":"IF('Radio (Desc)'!E20=\"\",\"\",INDEX([1]RADIO_TYPE!$A$2:$A$100,MATCH('Radio (Desc)'!$E20,[1]!MASTER_RADIO_TYPE_DESC[#Data],0),0))","v":""},{"$f":"IF('Radio (Desc)'!F20=\"\",\"\",'Radio (Desc)'!F20)","v":""},{"$f":"IF('Radio (Desc)'!G20=\"\",\"\",INDEX([1]RADIO_FREQ!$A$2:$A$500,MATCH('Radio (Desc)'!$G20,[1]!MASTER_RADIO_FREQ_DESC[#Data],0),0))","v":""},{"$f":"IF('Radio (Desc)'!H20=\"\",\"\",'Radio (Desc)'!H20)","v":""},{"$f":"IF('Radio (Desc)'!I20=\"\",\"\",INDEX([1]RADIO_FREQ!$A$2:$A$500,MATCH('Radio (Desc)'!$I20,[1]!MASTER_RADIO_FREQ_DESC[#Data],0),0))","v":""},{"$f":"IF('Radio (Desc)'!J20=\"\",\"\",'Radio (Desc)'!J20)","v":""},{"$f":"IF('Radio (Desc)'!K20=\"\",\"\",INDEX([1]CALL_SIGN!$A$2:$A$600,MATCH('Radio (Desc)'!$K20,[1]!MASTER_CALL_SIGN_DESC[#Data],0),0))","v":""},{"$f":"IF('Radio (Desc)'!L20=\"\",\"\",INDEX([1]STATION_CLASS!$A$2:$A$100,MATCH('Radio (Desc)'!$L20,[1]!MASTER_STATION_CLASS_DESC[#Data],0),0))","v":""},{"$f":"IF('Radio (Desc)'!M20=\"\",\"\",'Radio (Desc)'!M20)","v":""},{"$f":"IF('Radio (Desc)'!N20=\"\",\"\",'Radio (Desc)'!N20)","v":""},{"$f":"IF('Radio (Desc)'!O20=\"\",\"\",INDEX([1]ITS_COMM_DEV_MANUF!$A$2:$A$300,MATCH(1,([1]ITS_COMM_DEV_MANUF!$B$2:$B$300='Radio (Desc)'!$O20)*([1]ITS_COMM_DEV_MANUF!$C$2:$C$300=\"RADIO\"),0),0))","v":""},{"$f":"IF('Radio (Desc)'!P20=\"\",\"\",INDEX([1]ITS_COMM_DEV_MODEL!$A$2:$A$500,MATCH(1,([1]ITS_COMM_DEV_MODEL!$C$2:$C$500='Radio (Desc)'!$O20)*([1]ITS_COMM_DEV_MODEL!$D$2:$D$500=\"RADIO\")*([1]ITS_COMM_DEV_MODEL!$E$2:$E$500='Radio (Desc)'!$P20),0),0))","v":""},{"$f":"IF('Radio (Desc)'!Q20=\"\",\"\",'Radio (Desc)'!Q20)","v":""},{"$f":"IF('Radio (Desc)'!R20=\"\",\"\",'Radio (Desc)'!R20)","v":""},{"$f":"IF('Radio (Desc)'!S20=\"\",\"\",'Radio (Desc)'!S20)","v":""},{"$f":"IF('Radio (Desc)'!T20=\"\",\"\",'Radio (Desc)'!T20)","v":""},{"$f":"IF('Radio (Desc)'!U20=\"\",\"\",INDEX([1]DEV_INPUT_VOLTAGE!$A$2:$A$100,MATCH('Radio (Desc)'!$U20,[1]!MASTER_DEV_INPUT_VOLTAGE_DESC[#Data],0),0))","v":""},{"$f":"IF('Radio (Desc)'!V20=\"\",\"\",'Radio (Desc)'!V20)","v":""},{"$f":"IF('Radio (Desc)'!W20=\"\",\"\",'Radio (Desc)'!W20)","v":""},{"$f":"IF('Radio (Desc)'!X20=\"\",\"\",'Radio (Desc)'!X20)","v":""},{"$f":"IF('Radio (Desc)'!Y20=\"\",\"\",INDEX([1]FIBER_CONN_TYPE!$A$2:$A$100,MATCH('Radio (Desc)'!$Y20,[1]!MASTER_FIBER_CONN_TYPE_DESC[#Data],0),0))","v":""}]
[{"$f":"IF('Radio (Desc)'!A21=\"\",\"\",'Radio (Desc)'!A21)","v":""},{"$f":"IF('Radio (Desc)'!C21=\"\",\"\",\"2029\")","v":""},{"$f":"IF('Radio (Desc)'!C21=\"\",\"\",'Radio (Desc)'!C21)","v":""},{"$f":"IF('Radio (Desc)'!E21=\"\",\"\",\"RADIO\")","v":""},{"$f":"IF('Radio (Desc)'!E21=\"\",\"\",INDEX([1]RADIO_TYPE!$A$2:$A$100,MATCH('Radio (Desc)'!$E21,[1]!MASTER_RADIO_TYPE_DESC[#Data],0),0))","v":""},{"$f":"IF('Radio (Desc)'!F21=\"\",\"\",'Radio (Desc)'!F21)","v":""},{"$f":"IF('Radio (Desc)'!G21=\"\",\"\",INDEX([1]RADIO_FREQ!$A$2:$A$500,MATCH('Radio (Desc)'!$G21,[1]!MASTER_RADIO_FREQ_DESC[#Data],0),0))","v":""},{"$f":"IF('Radio (Desc)'!H21=\"\",\"\",'Radio (Desc)'!H21)","v":""},{"$f":"IF('Radio (Desc)'!I21=\"\",\"\",INDEX([1]RADIO_FREQ!$A$2:$A$500,MATCH('Radio (Desc)'!$I21,[1]!MASTER_RADIO_FREQ_DESC[#Data],0),0))","v":""},{"$f":"IF('Radio (Desc)'!J21=\"\",\"\",'Radio (Desc)'!J21)","v":""},{"$f":"IF('Radio (Desc)'!K21=\"\",\"\",INDEX([1]CALL_SIGN!$A$2:$A$600,MATCH('Radio (Desc)'!$K21,[1]!MASTER_CALL_SIGN_DESC[#Data],0),0))","v":""},{"$f":"IF('Radio (Desc)'!L21=\"\",\"\",INDEX([1]STATION_CLASS!$A$2:$A$100,MATCH('Radio (Desc)'!$L21,[1]!MASTER_STATION_CLASS_DESC[#Data],0),0))","v":""},{"$f":"IF('Radio (Desc)'!M21=\"\",\"\",'Radio (Desc)'!M21)","v":""},{"$f":"IF('Radio (Desc)'!N21=\"\",\"\",'Radio (Desc)'!N21)","v":""},{"$f":"IF('Radio (Desc)'!O21=\"\",\"\",INDEX([1]ITS_COMM_DEV_MANUF!$A$2:$A$300,MATCH(1,([1]ITS_COMM_DEV_MANUF!$B$2:$B$300='Radio (Desc)'!$O21)*([1]ITS_COMM_DEV_MANUF!$C$2:$C$300=\"RADIO\"),0),0))","v":""},{"$f":"IF('Radio (Desc)'!P21=\"\",\"\",INDEX([1]ITS_COMM_DEV_MODEL!$A$2:$A$500,MATCH(1,([1]ITS_COMM_DEV_MODEL!$C$2:$C$500='Radio (Desc)'!$O21)*([1]ITS_COMM_DEV_MODEL!$D$2:$D$500=\"RADIO\")*([1]ITS_COMM_DEV_MODEL!$E$2:$E$500='Radio (Desc)'!$P21),0),0))","v":""},{"$f":"IF('Radio (Desc)'!Q21=\"\",\"\",'Radio (Desc)'!Q21)","v":""},{"$f":"IF('Radio (Desc)'!R21=\"\",\"\",'Radio (Desc)'!R21)","v":""},{"$f":"IF('Radio (Desc)'!S21=\"\",\"\",'Radio (Desc)'!S21)","v":""},{"$f":"IF('Radio (Desc)'!T21=\"\",\"\",'Radio (Desc)'!T21)","v":""},{"$f":"IF('Radio (Desc)'!U21=\"\",\"\",INDEX([1]DEV_INPUT_VOLTAGE!$A$2:$A$100,MATCH('Radio (Desc)'!$U21,[1]!MASTER_DEV_INPUT_VOLTAGE_DESC[#Data],0),0))","v":""},{"$f":"IF('Radio (Desc)'!V21=\"\",\"\",'Radio (Desc)'!V21)","v":""},{"$f":"IF('Radio (Desc)'!W21=\"\",\"\",'Radio (Desc)'!W21)","v":""},{"$f":"IF('Radio (Desc)'!X21=\"\",\"\",'Radio (Desc)'!X21)","v":""},{"$f":"IF('Radio (Desc)'!Y21=\"\",\"\",INDEX([1]FIBER_CONN_TYPE!$A$2:$A$100,MATCH('Radio (Desc)'!$Y21,[1]!MASTER_FIBER_CONN_TYPE_DESC[#Data],0),0))","v":""}]
[{"$f":"IF('Radio (Desc)'!A22=\"\",\"\",'Radio (Desc)'!A22)","v":""},{"$f":"IF('Radio (Desc)'!C22=\"\",\"\",\"2029\")","v":""},{"$f":"IF('Radio (Desc)'!C22=\"\",\"\",'Radio (Desc)'!C22)","v":""},{"$f":"IF('Radio (Desc)'!E22=\"\",\"\",\"RADIO\")","v":""},{"$f":"IF('Radio (Desc)'!E22=\"\",\"\",INDEX([1]RADIO_TYPE!$A$2:$A$100,MATCH('Radio (Desc)'!$E22,[1]!MASTER_RADIO_TYPE_DESC[#Data],0),0))","v":""},{"$f":"IF('Radio (Desc)'!F22=\"\",\"\",'Radio (Desc)'!F22)","v":""},{"$f":"IF('Radio (Desc)'!G22=\"\",\"\",INDEX([1]RADIO_FREQ!$A$2:$A$500,MATCH('Radio (Desc)'!$G22,[1]!MASTER_RADIO_FREQ_DESC[#Data],0),0))","v":""},{"$f":"IF('Radio (Desc)'!H22=\"\",\"\",'Radio (Desc)'!H22)","v":""},{"$f":"IF('Radio (Desc)'!I22=\"\",\"\",INDEX([1]RADIO_FREQ!$A$2:$A$500,MATCH('Radio (Desc)'!$I22,[1]!MASTER_RADIO_FREQ_DESC[#Data],0),0))","v":""},{"$f":"IF('Radio (Desc)'!J22=\"\",\"\",'Radio (Desc)'!J22)","v":""},{"$f":"IF('Radio (Desc)'!K22=\"\",\"\",INDEX([1]CALL_SIGN!$A$2:$A$600,MATCH('Radio (Desc)'!$K22,[1]!MASTER_CALL_SIGN_DESC[#Data],0),0))","v":""},{"$f":"IF('Radio (Desc)'!L22=\"\",\"\",INDEX([1]STATION_CLASS!$A$2:$A$100,MATCH('Radio (Desc)'!$L22,[1]!MASTER_STATION_CLASS_DESC[#Data],0),0))","v":""},{"$f":"IF('Radio (Desc)'!M22=\"\",\"\",'Radio (Desc)'!M22)","v":""},{"$f":"IF('Radio (Desc)'!N22=\"\",\"\",'Radio (Desc)'!N22)","v":""},{"$f":"IF('Radio (Desc)'!O22=\"\",\"\",INDEX([1]ITS_COMM_DEV_MANUF!$A$2:$A$300,MATCH(1,([1]ITS_COMM_DEV_MANUF!$B$2:$B$300='Radio (Desc)'!$O22)*([1]ITS_COMM_DEV_MANUF!$C$2:$C$300=\"RADIO\"),0),0))","v":""},{"$f":"IF('Radio (Desc)'!P22=\"\",\"\",INDEX([1]ITS_COMM_DEV_MODEL!$A$2:$A$500,MATCH(1,([1]ITS_COMM_DEV_MODEL!$C$2:$C$500='Radio (Desc)'!$O22)*([1]ITS_COMM_DEV_MODEL!$D$2:$D$500=\"RADIO\")*([1]ITS_COMM_DEV_MODEL!$E$2:$E$500='Radio (Desc)'!$P22),0),0))","v":""},{"$f":"IF('Radio (Desc)'!Q22=\"\",\"\",'Radio (Desc)'!Q22)","v":""},{"$f":"IF('Radio (Desc)'!R22=\"\",\"\",'Radio (Desc)'!R22)","v":""},{"$f":"IF('Radio (Desc)'!S22=\"\",\"\",'Radio (Desc)'!S22)","v":""},{"$f":"IF('Radio (Desc)'!T22=\"\",\"\",'Radio (Desc)'!T22)","v":""},{"$f":"IF('Radio (Desc)'!U22=\"\",\"\",INDEX([1]DEV_INPUT_VOLTAGE!$A$2:$A$100,MATCH('Radio (Desc)'!$U22,[1]!MASTER_DEV_INPUT_VOLTAGE_DESC[#Data],0),0))","v":""},{"$f":"IF('Radio (Desc)'!V22=\"\",\"\",'Radio (Desc)'!V22)","v":""},{"$f":"IF('Radio (Desc)'!W22=\"\",\"\",'Radio (Desc)'!W22)","v":""},{"$f":"IF('Radio (Desc)'!X22=\"\",\"\",'Radio (Desc)'!X22)","v":""},{"$f":"IF('Radio (Desc)'!Y22=\"\",\"\",INDEX([1]FIBER_CONN_TYPE!$A$2:$A$100,MATCH('Radio (Desc)'!$Y22,[1]!MASTER_FIBER_CONN_TYPE_DESC[#Data],0),0))","v":""}]
[{"$f":"IF('Radio (Desc)'!A23=\"\",\"\",'Radio (Desc)'!A23)","v":""},{"$f":"IF('Radio (Desc)'!C23=\"\",\"\",\"2029\")","v":""},{"$f":"IF('Radio (Desc)'!C23=\"\",\"\",'Radio (Desc)'!C23)","v":""},{"$f":"IF('Radio (Desc)'!E23=\"\",\"\",\"RADIO\")","v":""},{"$f":"IF('Radio (Desc)'!E23=\"\",\"\",INDEX([1]RADIO_TYPE!$A$2:$A$100,MATCH('Radio (Desc)'!$E23,[1]!MASTER_RADIO_TYPE_DESC[#Data],0),0))","v":""},{"$f":"IF('Radio (Desc)'!F23=\"\",\"\",'Radio (Desc)'!F23)","v":""},{"$f":"IF('Radio (Desc)'!G23=\"\",\"\",INDEX([1]RADIO_FREQ!$A$2:$A$500,MATCH('Radio (Desc)'!$G23,[1]!MASTER_RADIO_FREQ_DESC[#Data],0),0))","v":""},{"$f":"IF('Radio (Desc)'!H23=\"\",\"\",'Radio (Desc)'!H23)","v":""},{"$f":"IF('Radio (Desc)'!I23=\"\",\"\",INDEX([1]RADIO_FREQ!$A$2:$A$500,MATCH('Radio (Desc)'!$I23,[1]!MASTER_RADIO_FREQ_DESC[#Data],0),0))","v":""},{"$f":"IF('Radio (Desc)'!J23=\"\",\"\",'Radio (Desc)'!J23)","v":""},{"$f":"IF('Radio (Desc)'!K23=\"\",\"\",INDEX([1]CALL_SIGN!$A$2:$A$600,MATCH('Radio (Desc)'!$K23,[1]!MASTER_CALL_SIGN_DESC[#Data],0),0))","v":""},{"$f":"IF('Radio (Desc)'!L23=\"\",\"\",INDEX([1]STATION_CLASS!$A$2:$A$100,MATCH('Radio (Desc)'!$L23,[1]!MASTER_STATION_CLASS_DESC[#Data],0),0))","v":""},{"$f":"IF('Radio (Desc)'!M23=\"\",\"\",'Radio (Desc)'!M23)","v":""},{"$f":"IF('Radio (Desc)'!N23=\"\",\"\",'Radio (Desc)'!N23)","v":""},{"$f":"IF('Radio (Desc)'!O23=\"\",\"\",INDEX([1]ITS_COMM_DEV_MANUF!$A$2:$A$300,MATCH(1,([1]ITS_COMM_DEV_MANUF!$B$2:$B$300='Radio (Desc)'!$O23)*([1]ITS_COMM_DEV_MANUF!$C$2:$C$300=\"RADIO\"),0),0))","v":""},{"$f":"IF('Radio (Desc)'!P23=\"\",\"\",INDEX([1]ITS_COMM_DEV_MODEL!$A$2:$A$500,MATCH(1,([1]ITS_COMM_DEV_MODEL!$C$2:$C$500='Radio (Desc)'!$O23)*([1]ITS_COMM_DEV_MODEL!$D$2:$D$500=\"RADIO\")*([1]ITS_COMM_DEV_MODEL!$E$2:$E$500='Radio (Desc)'!$P23),0),0))","v":""},{"$f":"IF('Radio (Desc)'!Q23=\"\",\"\",'Radio (Desc)'!Q23)","v":""},{"$f":"IF('Radio (Desc)'!R23=\"\",\"\",'Radio (Desc)'!R23)","v":""},{"$f":"IF('Radio (Desc)'!S23=\"\",\"\",'Radio (Desc)'!S23)","v":""},{"$f":"IF('Radio (Desc)'!T23=\"\",\"\",'Radio (Desc)'!T23)","v":""},{"$f":"IF('Radio (Desc)'!U23=\"\",\"\",INDEX([1]DEV_INPUT_VOLTAGE!$A$2:$A$100,MATCH('Radio (Desc)'!$U23,[1]!MASTER_DEV_INPUT_VOLTAGE_DESC[#Data],0),0))","v":""},{"$f":"IF('Radio (Desc)'!V23=\"\",\"\",'Radio (Desc)'!V23)","v":""},{"$f":"IF('Radio (Desc)'!W23=\"\",\"\",'Radio (Desc)'!W23)","v":""},{"$f":"IF('Radio (Desc)'!X23=\"\",\"\",'Radio (Desc)'!X23)","v":""},{"$f":"IF('Radio (Desc)'!Y23=\"\",\"\",INDEX([1]FIBER_CONN_TYPE!$A$2:$A$100,MATCH('Radio (Desc)'!$Y23,[1]!MASTER_FIBER_CONN_TYPE_DESC[#Data],0),0))","v":""}]
[{"$f":"IF('Radio (Desc)'!A24=\"\",\"\",'Radio (Desc)'!A24)","v":""},{"$f":"IF('Radio (Desc)'!C24=\"\",\"\",\"2029\")","v":""},{"$f":"IF('Radio (Desc)'!C24=\"\",\"\",'Radio (Desc)'!C24)","v":""},{"$f":"IF('Radio (Desc)'!E24=\"\",\"\",\"RADIO\")","v":""},{"$f":"IF('Radio (Desc)'!E24=\"\",\"\",INDEX([1]RADIO_TYPE!$A$2:$A$100,MATCH('Radio (Desc)'!$E24,[1]!MASTER_RADIO_TYPE_DESC[#Data],0),0))","v":""},{"$f":"IF('Radio (Desc)'!F24=\"\",\"\",'Radio (Desc)'!F24)","v":""},{"$f":"IF('Radio (Desc)'!G24=\"\",\"\",INDEX([1]RADIO_FREQ!$A$2:$A$500,MATCH('Radio (Desc)'!$G24,[1]!MASTER_RADIO_FREQ_DESC[#Data],0),0))","v":""},{"$f":"IF('Radio (Desc)'!H24=\"\",\"\",'Radio (Desc)'!H24)","v":""},{"$f":"IF('Radio (Desc)'!I24=\"\",\"\",INDEX([1]RADIO_FREQ!$A$2:$A$500,MATCH('Radio (Desc)'!$I24,[1]!MASTER_RADIO_FREQ_DESC[#Data],0),0))","v":""},{"$f":"IF('Radio (Desc)'!J24=\"\",\"\",'Radio (Desc)'!J24)","v":""},{"$f":"IF('Radio (Desc)'!K24=\"\",\"\",INDEX([1]CALL_SIGN!$A$2:$A$600,MATCH('Radio (Desc)'!$K24,[1]!MASTER_CALL_SIGN_DESC[#Data],0),0))","v":""},{"$f":"IF('Radio (Desc)'!L24=\"\",\"\",INDEX([1]STATION_CLASS!$A$2:$A$100,MATCH('Radio (Desc)'!$L24,[1]!MASTER_STATION_CLASS_DESC[#Data],0),0))","v":""},{"$f":"IF('Radio (Desc)'!M24=\"\",\"\",'Radio (Desc)'!M24)","v":""},{"$f":"IF('Radio (Desc)'!N24=\"\",\"\",'Radio (Desc)'!N24)","v":""},{"$f":"IF('Radio (Desc)'!O24=\"\",\"\",INDEX([1]ITS_COMM_DEV_MANUF!$A$2:$A$300,MATCH(1,([1]ITS_COMM_DEV_MANUF!$B$2:$B$300='Radio (Desc)'!$O24)*([1]ITS_COMM_DEV_MANUF!$C$2:$C$300=\"RADIO\"),0),0))","v":""},{"$f":"IF('Radio (Desc)'!P24=\"\",\"\",INDEX([1]ITS_COMM_DEV_MODEL!$A$2:$A$500,MATCH(1,([1]ITS_COMM_DEV_MODEL!$C$2:$C$500='Radio (Desc)'!$O24)*([1]ITS_COMM_DEV_MODEL!$D$2:$D$500=\"RADIO\")*([1]ITS_COMM_DEV_MODEL!$E$2:$E$500='Radio (Desc)'!$P24),0),0))","v":""},{"$f":"IF('Radio (Desc)'!Q24=\"\",\"\",'Radio (Desc)'!Q24)","v":""},{"$f":"IF('Radio (Desc)'!R24=\"\",\"\",'Radio (Desc)'!R24)","v":""},{"$f":"IF('Radio (Desc)'!S24=\"\",\"\",'Radio (Desc)'!S24)","v":""},{"$f":"IF('Radio (Desc)'!T24=\"\",\"\",'Radio (Desc)'!T24)","v":""},{"$f":"IF('Radio (Desc)'!U24=\"\",\"\",INDEX([1]DEV_INPUT_VOLTAGE!$A$2:$A$100,MATCH('Radio (Desc)'!$U24,[1]!MASTER_DEV_INPUT_VOLTAGE_DESC[#Data],0),0))","v":""},{"$f":"IF('Radio (Desc)'!V24=\"\",\"\",'Radio (Desc)'!V24)","v":""},{"$f":"IF('Radio (Desc)'!W24=\"\",\"\",'Radio (Desc)'!W24)","v":""},{"$f":"IF('Radio (Desc)'!X24=\"\",\"\",'Radio (Desc)'!X24)","v":""},{"$f":"IF('Radio (Desc)'!Y24=\"\",\"\",INDEX([1]FIBER_CONN_TYPE!$A$2:$A$100,MATCH('Radio (Desc)'!$Y24,[1]!MASTER_FIBER_CONN_TYPE_DESC[#Data],0),0))","v":""}]
[{"$f":"IF('Radio (Desc)'!A25=\"\",\"\",'Radio (Desc)'!A25)","v":""},{"$f":"IF('Radio (Desc)'!C25=\"\",\"\",\"2029\")","v":""},{"$f":"IF('Radio (Desc)'!C25=\"\",\"\",'Radio (Desc)'!C25)","v":""},{"$f":"IF('Radio (Desc)'!E25=\"\",\"\",\"RADIO\")","v":""},{"$f":"IF('Radio (Desc)'!E25=\"\",\"\",INDEX([1]RADIO_TYPE!$A$2:$A$100,MATCH('Radio (Desc)'!$E25,[1]!MASTER_RADIO_TYPE_DESC[#Data],0),0))","v":""},{"$f":"IF('Radio (Desc)'!F25=\"\",\"\",'Radio (Desc)'!F25)","v":""},{"$f":"IF('Radio (Desc)'!G25=\"\",\"\",INDEX([1]RADIO_FREQ!$A$2:$A$500,MATCH('Radio (Desc)'!$G25,[1]!MASTER_RADIO_FREQ_DESC[#Data],0),0))","v":""},{"$f":"IF('Radio (Desc)'!H25=\"\",\"\",'Radio (Desc)'!H25)","v":""},{"$f":"IF('Radio (Desc)'!I25=\"\",\"\",INDEX([1]RADIO_FREQ!$A$2:$A$500,MATCH('Radio (Desc)'!$I25,[1]!MASTER_RADIO_FREQ_DESC[#Data],0),0))","v":""},{"$f":"IF('Radio (Desc)'!J25=\"\",\"\",'Radio (Desc)'!J25)","v":""},{"$f":"IF('Radio (Desc)'!K25=\"\",\"\",INDEX([1]CALL_SIGN!$A$2:$A$600,MATCH('Radio (Desc)'!$K25,[1]!MASTER_CALL_SIGN_DESC[#Data],0),0))","v":""},{"$f":"IF('Radio (Desc)'!L25=\"\",\"\",INDEX([1]STATION_CLASS!$A$2:$A$100,MATCH('Radio (Desc)'!$L25,[1]!MASTER_STATION_CLASS_DESC[#Data],0),0))","v":""},{"$f":"IF('Radio (Desc)'!M25=\"\",\"\",'Radio (Desc)'!M25)","v":""},{"$f":"IF('Radio (Desc)'!N25=\"\",\"\",'Radio (Desc)'!N25)","v":""},{"$f":"IF('Radio (Desc)'!O25=\"\",\"\",INDEX([1]ITS_COMM_DEV_MANUF!$A$2:$A$300,MATCH(1,([1]ITS_COMM_DEV_MANUF!$B$2:$B$300='Radio (Desc)'!$O25)*([1]ITS_COMM_DEV_MANUF!$C$2:$C$300=\"RADIO\"),0),0))","v":""},{"$f":"IF('Radio (Desc)'!P25=\"\",\"\",INDEX([1]ITS_COMM_DEV_MODEL!$A$2:$A$500,MATCH(1,([1]ITS_COMM_DEV_MODEL!$C$2:$C$500='Radio (Desc)'!$O25)*([1]ITS_COMM_DEV_MODEL!$D$2:$D$500=\"RADIO\")*([1]ITS_COMM_DEV_MODEL!$E$2:$E$500='Radio (Desc)'!$P25),0),0))","v":""},{"$f":"IF('Radio (Desc)'!Q25=\"\",\"\",'Radio (Desc)'!Q25)","v":""},{"$f":"IF('Radio (Desc)'!R25=\"\",\"\",'Radio (Desc)'!R25)","v":""},{"$f":"IF('Radio (Desc)'!S25=\"\",\"\",'Radio (Desc)'!S25)","v":""},{"$f":"IF('Radio (Desc)'!T25=\"\",\"\",'Radio (Desc)'!T25)","v":""},{"$f":"IF('Radio (Desc)'!U25=\"\",\"\",INDEX([1]DEV_INPUT_VOLTAGE!$A$2:$A$100,MATCH('Radio (Desc)'!$U25,[1]!MASTER_DEV_INPUT_VOLTAGE_DESC[#Data],0),0))","v":""},{"$f":"IF('Radio (Desc)'!V25=\"\",\"\",'Radio (Desc)'!V25)","v":""},{"$f":"IF('Radio (Desc)'!W25=\"\",\"\",'Radio (Desc)'!W25)","v":""},{"$f":"IF('Radio (Desc)'!X25=\"\",\"\",'Radio (Desc)'!X25)","v":""},{"$f":"IF('Radio (Desc)'!Y25=\"\",\"\",INDEX([1]FIBER_CONN_TYPE!$A$2:$A$100,MATCH('Radio (Desc)'!$Y25,[1]!MASTER_FIBER_CONN_TYPE_DESC[#Data],0),0))","v":""}]
[{"$f":"IF('Radio (Desc)'!A26=\"\",\"\",'Radio (Desc)'!A26)","v":""},{"$f":"IF('Radio (Desc)'!C26=\"\",\"\",\"2029\")","v":""},{"$f":"IF('Radio (Desc)'!C26=\"\",\"\",'Radio (Desc)'!C26)","v":""},{"$f":"IF('Radio (Desc)'!E26=\"\",\"\",\"RADIO\")","v":""},{"$f":"IF('Radio (Desc)'!E26=\"\",\"\",INDEX([1]RADIO_TYPE!$A$2:$A$100,MATCH('Radio (Desc)'!$E26,[1]!MASTER_RADIO_TYPE_DESC[#Data],0),0))","v":""},{"$f":"IF('Radio (Desc)'!F26=\"\",\"\",'Radio (Desc)'!F26)","v":""},{"$f":"IF('Radio (Desc)'!G26=\"\",\"\",INDEX([1]RADIO_FREQ!$A$2:$A$500,MATCH('Radio (Desc)'!$G26,[1]!MASTER_RADIO_FREQ_DESC[#Data],0),0))","v":""},{"$f":"IF('Radio (Desc)'!H26=\"\",\"\",'Radio (Desc)'!H26)","v":""},{"$f":"IF('Radio (Desc)'!I26=\"\",\"\",INDEX([1]RADIO_FREQ!$A$2:$A$500,MATCH('Radio (Desc)'!$I26,[1]!MASTER_RADIO_FREQ_DESC[#Data],0),0))","v":""},{"$f":"IF('Radio (Desc)'!J26=\"\",\"\",'Radio (Desc)'!J26)","v":""},{"$f":"IF('Radio (Desc)'!K26=\"\",\"\",INDEX([1]CALL_SIGN!$A$2:$A$600,MATCH('Radio (Desc)'!$K26,[1]!MASTER_CALL_SIGN_DESC[#Data],0),0))","v":""},{"$f":"IF('Radio (Desc)'!L26=\"\",\"\",INDEX([1]STATION_CLASS!$A$2:$A$100,MATCH('Radio (Desc)'!$L26,[1]!MASTER_STATION_CLASS_DESC[#Data],0),0))","v":""},{"$f":"IF('Radio (Desc)'!M26=\"\",\"\",'Radio (Desc)'!M26)","v":""},{"$f":"IF('Radio (Desc)'!N26=\"\",\"\",'Radio (Desc)'!N26)","v":""},{"$f":"IF('Radio (Desc)'!O26=\"\",\"\",INDEX([1]ITS_COMM_DEV_MANUF!$A$2:$A$300,MATCH(1,([1]ITS_COMM_DEV_MANUF!$B$2:$B$300='Radio (Desc)'!$O26)*([1]ITS_COMM_DEV_MANUF!$C$2:$C$300=\"RADIO\"),0),0))","v":""},{"$f":"IF('Radio (Desc)'!P26=\"\",\"\",INDEX([1]ITS_COMM_DEV_MODEL!$A$2:$A$500,MATCH(1,([1]ITS_COMM_DEV_MODEL!$C$2:$C$500='Radio (Desc)'!$O26)*([1]ITS_COMM_DEV_MODEL!$D$2:$D$500=\"RADIO\")*([1]ITS_COMM_DEV_MODEL!$E$2:$E$500='Radio (Desc)'!$P26),0),0))","v":""},{"$f":"IF('Radio (Desc)'!Q26=\"\",\"\",'Radio (Desc)'!Q26)","v":""},{"$f":"IF('Radio (Desc)'!R26=\"\",\"\",'Radio (Desc)'!R26)","v":""},{"$f":"IF('Radio (Desc)'!S26=\"\",\"\",'Radio (Desc)'!S26)","v":""},{"$f":"IF('Radio (Desc)'!T26=\"\",\"\",'Radio (Desc)'!T26)","v":""},{"$f":"IF('Radio (Desc)'!U26=\"\",\"\",INDEX([1]DEV_INPUT_VOLTAGE!$A$2:$A$100,MATCH('Radio (Desc)'!$U26,[1]!MASTER_DEV_INPUT_VOLTAGE_DESC[#Data],0),0))","v":""},{"$f":"IF('Radio (Desc)'!V26=\"\",\"\",'Radio (Desc)'!V26)","v":""},{"$f":"IF('Radio (Desc)'!W26=\"\",\"\",'Radio (Desc)'!W26)","v":""},{"$f":"IF('Radio (Desc)'!X26=\"\",\"\",'Radio (Desc)'!X26)","v":""},{"$f":"IF('Radio (Desc)'!Y26=\"\",\"\",INDEX([1]FIBER_CONN_TYPE!$A$2:$A$100,MATCH('Radio (Desc)'!$Y26,[1]!MASTER_FIBER_CONN_TYPE_DESC[#Data],0),0))","v":""}]
[{"$f":"IF('Radio (Desc)'!A27=\"\",\"\",'Radio (Desc)'!A27)","v":""},{"$f":"IF('Radio (Desc)'!C27=\"\",\"\",\"2029\")","v":""},{"$f":"IF('Radio (Desc)'!C27=\"\",\"\",'Radio (Desc)'!C27)","v":""},{"$f":"IF('Radio (Desc)'!E27=\"\",\"\",\"RADIO\")","v":""},{"$f":"IF('Radio (Desc)'!E27=\"\",\"\",INDEX([1]RADIO_TYPE!$A$2:$A$100,MATCH('Radio (Desc)'!$E27,[1]!MASTER_RADIO_TYPE_DESC[#Data],0),0))","v":""},{"$f":"IF('Radio (Desc)'!F27=\"\",\"\",'Radio (Desc)'!F27)","v":""},{"$f":"IF('Radio (Desc)'!G27=\"\",\"\",INDEX([1]RADIO_FREQ!$A$2:$A$500,MATCH('Radio (Desc)'!$G27,[1]!MASTER_RADIO_FREQ_DESC[#Data],0),0))","v":""},{"$f":"IF('Radio (Desc)'!H27=\"\",\"\",'Radio (Desc)'!H27)","v":""},{"$f":"IF('Radio (Desc)'!I27=\"\",\"\",INDEX([1]RADIO_FREQ!$A$2:$A$500,MATCH('Radio (Desc)'!$I27,[1]!MASTER_RADIO_FREQ_DESC[#Data],0),0))","v":""},{"$f":"IF('Radio (Desc)'!J27=\"\",\"\",'Radio (Desc)'!J27)","v":""},{"$f":"IF('Radio (Desc)'!K27=\"\",\"\",INDEX([1]CALL_SIGN!$A$2:$A$600,MATCH('Radio (Desc)'!$K27,[1]!MASTER_CALL_SIGN_DESC[#Data],0),0))","v":""},{"$f":"IF('Radio (Desc)'!L27=\"\",\"\",INDEX([1]STATION_CLASS!$A$2:$A$100,MATCH('Radio (Desc)'!$L27,[1]!MASTER_STATION_CLASS_DESC[#Data],0),0))","v":""},{"$f":"IF('Radio (Desc)'!M27=\"\",\"\",'Radio (Desc)'!M27)","v":""},{"$f":"IF('Radio (Desc)'!N27=\"\",\"\",'Radio (Desc)'!N27)","v":""},{"$f":"IF('Radio (Desc)'!O27=\"\",\"\",INDEX([1]ITS_COMM_DEV_MANUF!$A$2:$A$300,MATCH(1,([1]ITS_COMM_DEV_MANUF!$B$2:$B$300='Radio (Desc)'!$O27)*([1]ITS_COMM_DEV_MANUF!$C$2:$C$300=\"RADIO\"),0),0))","v":""},{"$f":"IF('Radio (Desc)'!P27=\"\",\"\",INDEX([1]ITS_COMM_DEV_MODEL!$A$2:$A$500,MATCH(1,([1]ITS_COMM_DEV_MODEL!$C$2:$C$500='Radio (Desc)'!$O27)*([1]ITS_COMM_DEV_MODEL!$D$2:$D$500=\"RADIO\")*([1]ITS_COMM_DEV_MODEL!$E$2:$E$500='Radio (Desc)'!$P27),0),0))","v":""},{"$f":"IF('Radio (Desc)'!Q27=\"\",\"\",'Radio (Desc)'!Q27)","v":""},{"$f":"IF('Radio (Desc)'!R27=\"\",\"\",'Radio (Desc)'!R27)","v":""},{"$f":"IF('Radio (Desc)'!S27=\"\",\"\",'Radio (Desc)'!S27)","v":""},{"$f":"IF('Radio (Desc)'!T27=\"\",\"\",'Radio (Desc)'!T27)","v":""},{"$f":"IF('Radio (Desc)'!U27=\"\",\"\",INDEX([1]DEV_INPUT_VOLTAGE!$A$2:$A$100,MATCH('Radio (Desc)'!$U27,[1]!MASTER_DEV_INPUT_VOLTAGE_DESC[#Data],0),0))","v":""},{"$f":"IF('Radio (Desc)'!V27=\"\",\"\",'Radio (Desc)'!V27)","v":""},{"$f":"IF('Radio (Desc)'!W27=\"\",\"\",'Radio (Desc)'!W27)","v":""},{"$f":"IF('Radio (Desc)'!X27=\"\",\"\",'Radio (Desc)'!X27)","v":""},{"$f":"IF('Radio (Desc)'!Y27=\"\",\"\",INDEX([1]FIBER_CONN_TYPE!$A$2:$A$100,MATCH('Radio (Desc)'!$Y27,[1]!MASTER_FIBER_CONN_TYPE_DESC[#Data],0),0))","v":""}]
[{"$f":"IF('Radio (Desc)'!A28=\"\",\"\",'Radio (Desc)'!A28)","v":""},{"$f":"IF('Radio (Desc)'!C28=\"\",\"\",\"2029\")","v":""},{"$f":"IF('Radio (Desc)'!C28=\"\",\"\",'Radio (Desc)'!C28)","v":""},{"$f":"IF('Radio (Desc)'!E28=\"\",\"\",\"RADIO\")","v":""},{"$f":"IF('Radio (Desc)'!E28=\"\",\"\",INDEX([1]RADIO_TYPE!$A$2:$A$100,MATCH('Radio (Desc)'!$E28,[1]!MASTER_RADIO_TYPE_DESC[#Data],0),0))","v":""},{"$f":"IF('Radio (Desc)'!F28=\"\",\"\",'Radio (Desc)'!F28)","v":""},{"$f":"IF('Radio (Desc)'!G28=\"\",\"\",INDEX([1]RADIO_FREQ!$A$2:$A$500,MATCH('Radio (Desc)'!$G28,[1]!MASTER_RADIO_FREQ_DESC[#Data],0),0))","v":""},{"$f":"IF('Radio (Desc)'!H28=\"\",\"\",'Radio (Desc)'!H28)","v":""},{"$f":"IF('Radio (Desc)'!I28=\"\",\"\",INDEX([1]RADIO_FREQ!$A$2:$A$500,MATCH('Radio (Desc)'!$I28,[1]!MASTER_RADIO_FREQ_DESC[#Data],0),0))","v":""},{"$f":"IF('Radio (Desc)'!J28=\"\",\"\",'Radio (Desc)'!J28)","v":""},{"$f":"IF('Radio (Desc)'!K28=\"\",\"\",INDEX([1]CALL_SIGN!$A$2:$A$600,MATCH('Radio (Desc)'!$K28,[1]!MASTER_CALL_SIGN_DESC[#Data],0),0))","v":""},{"$f":"IF('Radio (Desc)'!L28=\"\",\"\",INDEX([1]STATION_CLASS!$A$2:$A$100,MATCH('Radio (Desc)'!$L28,[1]!MASTER_STATION_CLASS_DESC[#Data],0),0))","v":""},{"$f":"IF('Radio (Desc)'!M28=\"\",\"\",'Radio (Desc)'!M28)","v":""},{"$f":"IF('Radio (Desc)'!N28=\"\",\"\",'Radio (Desc)'!N28)","v":""},{"$f":"IF('Radio (Desc)'!O28=\"\",\"\",INDEX([1]ITS_COMM_DEV_MANUF!$A$2:$A$300,MATCH(1,([1]ITS_COMM_DEV_MANUF!$B$2:$B$300='Radio (Desc)'!$O28)*([1]ITS_COMM_DEV_MANUF!$C$2:$C$300=\"RADIO\"),0),0))","v":""},{"$f":"IF('Radio (Desc)'!P28=\"\",\"\",INDEX([1]ITS_COMM_DEV_MODEL!$A$2:$A$500,MATCH(1,([1]ITS_COMM_DEV_MODEL!$C$2:$C$500='Radio (Desc)'!$O28)*([1]ITS_COMM_DEV_MODEL!$D$2:$D$500=\"RADIO\")*([1]ITS_COMM_DEV_MODEL!$E$2:$E$500='Radio (Desc)'!$P28),0),0))","v":""},{"$f":"IF('Radio (Desc)'!Q28=\"\",\"\",'Radio (Desc)'!Q28)","v":""},{"$f":"IF('Radio (Desc)'!R28=\"\",\"\",'Radio (Desc)'!R28)","v":""},{"$f":"IF('Radio (Desc)'!S28=\"\",\"\",'Radio (Desc)'!S28)","v":""},{"$f":"IF('Radio (Desc)'!T28=\"\",\"\",'Radio (Desc)'!T28)","v":""},{"$f":"IF('Radio (Desc)'!U28=\"\",\"\",INDEX([1]DEV_INPUT_VOLTAGE!$A$2:$A$100,MATCH('Radio (Desc)'!$U28,[1]!MASTER_DEV_INPUT_VOLTAGE_DESC[#Data],0),0))","v":""},{"$f":"IF('Radio (Desc)'!V28=\"\",\"\",'Radio (Desc)'!V28)","v":""},{"$f":"IF('Radio (Desc)'!W28=\"\",\"\",'Radio (Desc)'!W28)","v":""},{"$f":"IF('Radio (Desc)'!X28=\"\",\"\",'Radio (Desc)'!X28)","v":""},{"$f":"IF('Radio (Desc)'!Y28=\"\",\"\",INDEX([1]FIBER_CONN_TYPE!$A$2:$A$100,MATCH('Radio (Desc)'!$Y28,[1]!MASTER_FIBER_CONN_TYPE_DESC[#Data],0),0))","v":""}]
[{"$f":"IF('Radio (Desc)'!A29=\"\",\"\",'Radio (Desc)'!A29)","v":""},{"$f":"IF('Radio (Desc)'!C29=\"\",\"\",\"2029\")","v":""},{"$f":"IF('Radio (Desc)'!C29=\"\",\"\",'Radio (Desc)'!C29)","v":""},{"$f":"IF('Radio (Desc)'!E29=\"\",\"\",\"RADIO\")","v":""},{"$f":"IF('Radio (Desc)'!E29=\"\",\"\",INDEX([1]RADIO_TYPE!$A$2:$A$100,MATCH('Radio (Desc)'!$E29,[1]!MASTER_RADIO_TYPE_DESC[#Data],0),0))","v":""},{"$f":"IF('Radio (Desc)'!F29=\"\",\"\",'Radio (Desc)'!F29)","v":""},{"$f":"IF('Radio (Desc)'!G29=\"\",\"\",INDEX([1]RADIO_FREQ!$A$2:$A$500,MATCH('Radio (Desc)'!$G29,[1]!MASTER_RADIO_FREQ_DESC[#Data],0),0))","v":""},{"$f":"IF('Radio (Desc)'!H29=\"\",\"\",'Radio (Desc)'!H29)","v":""},{"$f":"IF('Radio (Desc)'!I29=\"\",\"\",INDEX([1]RADIO_FREQ!$A$2:$A$500,MATCH('Radio (Desc)'!$I29,[1]!MASTER_RADIO_FREQ_DESC[#Data],0),0))","v":""},{"$f":"IF('Radio (Desc)'!J29=\"\",\"\",'Radio (Desc)'!J29)","v":""},{"$f":"IF('Radio (Desc)'!K29=\"\",\"\",INDEX([1]CALL_SIGN!$A$2:$A$600,MATCH('Radio (Desc)'!$K29,[1]!MASTER_CALL_SIGN_DESC[#Data],0),0))","v":""},{"$f":"IF('Radio (Desc)'!L29=\"\",\"\",INDEX([1]STATION_CLASS!$A$2:$A$100,MATCH('Radio (Desc)'!$L29,[1]!MASTER_STATION_CLASS_DESC[#Data],0),0))","v":""},{"$f":"IF('Radio (Desc)'!M29=\"\",\"\",'Radio (Desc)'!M29)","v":""},{"$f":"IF('Radio (Desc)'!N29=\"\",\"\",'Radio (Desc)'!N29)","v":""},{"$f":"IF('Radio (Desc)'!O29=\"\",\"\",INDEX([1]ITS_COMM_DEV_MANUF!$A$2:$A$300,MATCH(1,([1]ITS_COMM_DEV_MANUF!$B$2:$B$300='Radio (Desc)'!$O29)*([1]ITS_COMM_DEV_MANUF!$C$2:$C$300=\"RADIO\"),0),0))","v":""},{"$f":"IF('Radio (Desc)'!P29=\"\",\"\",INDEX([1]ITS_COMM_DEV_MODEL!$A$2:$A$500,MATCH(1,([1]ITS_COMM_DEV_MODEL!$C$2:$C$500='Radio (Desc)'!$O29)*([1]ITS_COMM_DEV_MODEL!$D$2:$D$500=\"RADIO\")*([1]ITS_COMM_DEV_MODEL!$E$2:$E$500='Radio (Desc)'!$P29),0),0))","v":""},{"$f":"IF('Radio (Desc)'!Q29=\"\",\"\",'Radio (Desc)'!Q29)","v":""},{"$f":"IF('Radio (Desc)'!R29=\"\",\"\",'Radio (Desc)'!R29)","v":""},{"$f":"IF('Radio (Desc)'!S29=\"\",\"\",'Radio (Desc)'!S29)","v":""},{"$f":"IF('Radio (Desc)'!T29=\"\",\"\",'Radio (Desc)'!T29)","v":""},{"$f":"IF('Radio (Desc)'!U29=\"\",\"\",INDEX([1]DEV_INPUT_VOLTAGE!$A$2:$A$100,MATCH('Radio (Desc)'!$U29,[1]!MASTER_DEV_INPUT_VOLTAGE_DESC[#Data],0),0))","v":""},{"$f":"IF('Radio (Desc)'!V29=\"\",\"\",'Radio (Desc)'!V29)","v":""},{"$f":"IF('Radio (Desc)'!W29=\"\",\"\",'Radio (Desc)'!W29)","v":""},{"$f":"IF('Radio (Desc)'!X29=\"\",\"\",'Radio (Desc)'!X29)","v":""},{"$f":"IF('Radio (Desc)'!Y29=\"\",\"\",INDEX([1]FIBER_CONN_TYPE!$A$2:$A$100,MATCH('Radio (Desc)'!$Y29,[1]!MASTER_FIBER_CONN_TYPE_DESC[#Data],0),0))","v":""}]
[{"$f":"IF('Radio (Desc)'!A30=\"\",\"\",'Radio (Desc)'!A30)","v":""},{"$f":"IF('Radio (Desc)'!C30=\"\",\"\",\"2029\")","v":""},{"$f":"IF('Radio (Desc)'!C30=\"\",\"\",'Radio (Desc)'!C30)","v":""},{"$f":"IF('Radio (Desc)'!E30=\"\",\"\",\"RADIO\")","v":""},{"$f":"IF('Radio (Desc)'!E30=\"\",\"\",INDEX([1]RADIO_TYPE!$A$2:$A$100,MATCH('Radio (Desc)'!$E30,[1]!MASTER_RADIO_TYPE_DESC[#Data],0),0))","v":""},{"$f":"IF('Radio (Desc)'!F30=\"\",\"\",'Radio (Desc)'!F30)","v":""},{"$f":"IF('Radio (Desc)'!G30=\"\",\"\",INDEX([1]RADIO_FREQ!$A$2:$A$500,MATCH('Radio (Desc)'!$G30,[1]!MASTER_RADIO_FREQ_DESC[#Data],0),0))","v":""},{"$f":"IF('Radio (Desc)'!H30=\"\",\"\",'Radio (Desc)'!H30)","v":""},{"$f":"IF('Radio (Desc)'!I30=\"\",\"\",INDEX([1]RADIO_FREQ!$A$2:$A$500,MATCH('Radio (Desc)'!$I30,[1]!MASTER_RADIO_FREQ_DESC[#Data],0),0))","v":""},{"$f":"IF('Radio (Desc)'!J30=\"\",\"\",'Radio (Desc)'!J30)","v":""},{"$f":"IF('Radio (Desc)'!K30=\"\",\"\",INDEX([1]CALL_SIGN!$A$2:$A$600,MATCH('Radio (Desc)'!$K30,[1]!MASTER_CALL_SIGN_DESC[#Data],0),0))","v":""},{"$f":"IF('Radio (Desc)'!L30=\"\",\"\",INDEX([1]STATION_CLASS!$A$2:$A$100,MATCH('Radio (Desc)'!$L30,[1]!MASTER_STATION_CLASS_DESC[#Data],0),0))","v":""},{"$f":"IF('Radio (Desc)'!M30=\"\",\"\",'Radio (Desc)'!M30)","v":""},{"$f":"IF('Radio (Desc)'!N30=\"\",\"\",'Radio (Desc)'!N30)","v":""},{"$f":"IF('Radio (Desc)'!O30=\"\",\"\",INDEX([1]ITS_COMM_DEV_MANUF!$A$2:$A$300,MATCH(1,([1]ITS_COMM_DEV_MANUF!$B$2:$B$300='Radio (Desc)'!$O30)*([1]ITS_COMM_DEV_MANUF!$C$2:$C$300=\"RADIO\"),0),0))","v":""},{"$f":"IF('Radio (Desc)'!P30=\"\",\"\",INDEX([1]ITS_COMM_DEV_MODEL!$A$2:$A$500,MATCH(1,([1]ITS_COMM_DEV_MODEL!$C$2:$C$500='Radio (Desc)'!$O30)*([1]ITS_COMM_DEV_MODEL!$D$2:$D$500=\"RADIO\")*([1]ITS_COMM_DEV_MODEL!$E$2:$E$500='Radio (Desc)'!$P30),0),0))","v":""},{"$f":"IF('Radio (Desc)'!Q30=\"\",\"\",'Radio (Desc)'!Q30)","v":""},{"$f":"IF('Radio (Desc)'!R30=\"\",\"\",'Radio (Desc)'!R30)","v":""},{"$f":"IF('Radio (Desc)'!S30=\"\",\"\",'Radio (Desc)'!S30)","v":""},{"$f":"IF('Radio (Desc)'!T30=\"\",\"\",'Radio (Desc)'!T30)","v":""},{"$f":"IF('Radio (Desc)'!U30=\"\",\"\",INDEX([1]DEV_INPUT_VOLTAGE!$A$2:$A$100,MATCH('Radio (Desc)'!$U30,[1]!MASTER_DEV_INPUT_VOLTAGE_DESC[#Data],0),0))","v":""},{"$f":"IF('Radio (Desc)'!V30=\"\",\"\",'Radio (Desc)'!V30)","v":""},{"$f":"IF('Radio (Desc)'!W30=\"\",\"\",'Radio (Desc)'!W30)","v":""},{"$f":"IF('Radio (Desc)'!X30=\"\",\"\",'Radio (Desc)'!X30)","v":""},{"$f":"IF('Radio (Desc)'!Y30=\"\",\"\",INDEX([1]FIBER_CONN_TYPE!$A$2:$A$100,MATCH('Radio (Desc)'!$Y30,[1]!MASTER_FIBER_CONN_TYPE_DESC[#Data],0),0))","v":""}]
[{"$f":"IF('Radio (Desc)'!A31=\"\",\"\",'Radio (Desc)'!A31)","v":""},{"$f":"IF('Radio (Desc)'!C31=\"\",\"\",\"2029\")","v":""},{"$f":"IF('Radio (Desc)'!C31=\"\",\"\",'Radio (Desc)'!C31)","v":""},{"$f":"IF('Radio (Desc)'!E31=\"\",\"\",\"RADIO\")","v":""},{"$f":"IF('Radio (Desc)'!E31=\"\",\"\",INDEX([1]RADIO_TYPE!$A$2:$A$100,MATCH('Radio (Desc)'!$E31,[1]!MASTER_RADIO_TYPE_DESC[#Data],0),0))","v":""},{"$f":"IF('Radio (Desc)'!F31=\"\",\"\",'Radio (Desc)'!F31)","v":""},{"$f":"IF('Radio (Desc)'!G31=\"\",\"\",INDEX([1]RADIO_FREQ!$A$2:$A$500,MATCH('Radio (Desc)'!$G31,[1]!MASTER_RADIO_FREQ_DESC[#Data],0),0))","v":""},{"$f":"IF('Radio (Desc)'!H31=\"\",\"\",'Radio (Desc)'!H31)","v":""},{"$f":"IF('Radio (Desc)'!I31=\"\",\"\",INDEX([1]RADIO_FREQ!$A$2:$A$500,MATCH('Radio (Desc)'!$I31,[1]!MASTER_RADIO_FREQ_DESC[#Data],0),0))","v":""},{"$f":"IF('Radio (Desc)'!J31=\"\",\"\",'Radio (Desc)'!J31)","v":""},{"$f":"IF('Radio (Desc)'!K31=\"\",\"\",INDEX([1]CALL_SIGN!$A$2:$A$600,MATCH('Radio (Desc)'!$K31,[1]!MASTER_CALL_SIGN_DESC[#Data],0),0))","v":""},{"$f":"IF('Radio (Desc)'!L31=\"\",\"\",INDEX([1]STATION_CLASS!$A$2:$A$100,MATCH('Radio (Desc)'!$L31,[1]!MASTER_STATION_CLASS_DESC[#Data],0),0))","v":""},{"$f":"IF('Radio (Desc)'!M31=\"\",\"\",'Radio (Desc)'!M31)","v":""},{"$f":"IF('Radio (Desc)'!N31=\"\",\"\",'Radio (Desc)'!N31)","v":""},{"$f":"IF('Radio (Desc)'!O31=\"\",\"\",INDEX([1]ITS_COMM_DEV_MANUF!$A$2:$A$300,MATCH(1,([1]ITS_COMM_DEV_MANUF!$B$2:$B$300='Radio (Desc)'!$O31)*([1]ITS_COMM_DEV_MANUF!$C$2:$C$300=\"RADIO\"),0),0))","v":""},{"$f":"IF('Radio (Desc)'!P31=\"\",\"\",INDEX([1]ITS_COMM_DEV_MODEL!$A$2:$A$500,MATCH(1,([1]ITS_COMM_DEV_MODEL!$C$2:$C$500='Radio (Desc)'!$O31)*([1]ITS_COMM_DEV_MODEL!$D$2:$D$500=\"RADIO\")*([1]ITS_COMM_DEV_MODEL!$E$2:$E$500='Radio (Desc)'!$P31),0),0))","v":""},{"$f":"IF('Radio (Desc)'!Q31=\"\",\"\",'Radio (Desc)'!Q31)","v":""},{"$f":"IF('Radio (Desc)'!R31=\"\",\"\",'Radio (Desc)'!R31)","v":""},{"$f":"IF('Radio (Desc)'!S31=\"\",\"\",'Radio (Desc)'!S31)","v":""},{"$f":"IF('Radio (Desc)'!T31=\"\",\"\",'Radio (Desc)'!T31)","v":""},{"$f":"IF('Radio (Desc)'!U31=\"\",\"\",INDEX([1]DEV_INPUT_VOLTAGE!$A$2:$A$100,MATCH('Radio (Desc)'!$U31,[1]!MASTER_DEV_INPUT_VOLTAGE_DESC[#Data],0),0))","v":""},{"$f":"IF('Radio (Desc)'!V31=\"\",\"\",'Radio (Desc)'!V31)","v":""},{"$f":"IF('Radio (Desc)'!W31=\"\",\"\",'Radio (Desc)'!W31)","v":""},{"$f":"IF('Radio (Desc)'!X31=\"\",\"\",'Radio (Desc)'!X31)","v":""},{"$f":"IF('Radio (Desc)'!Y31=\"\",\"\",INDEX([1]FIBER_CONN_TYPE!$A$2:$A$100,MATCH('Radio (Desc)'!$Y31,[1]!MASTER_FIBER_CONN_TYPE_DESC[#Data],0),0))","v":""}]
[{"$f":"IF('Radio (Desc)'!A32=\"\",\"\",'Radio (Desc)'!A32)","v":""},{"$f":"IF('Radio (Desc)'!C32=\"\",\"\",\"2029\")","v":""},{"$f":"IF('Radio (Desc)'!C32=\"\",\"\",'Radio (Desc)'!C32)","v":""},{"$f":"IF('Radio (Desc)'!E32=\"\",\"\",\"RADIO\")","v":""},{"$f":"IF('Radio (Desc)'!E32=\"\",\"\",INDEX([1]RADIO_TYPE!$A$2:$A$100,MATCH('Radio (Desc)'!$E32,[1]!MASTER_RADIO_TYPE_DESC[#Data],0),0))","v":""},{"$f":"IF('Radio (Desc)'!F32=\"\",\"\",'Radio (Desc)'!F32)","v":""},{"$f":"IF('Radio (Desc)'!G32=\"\",\"\",INDEX([1]RADIO_FREQ!$A$2:$A$500,MATCH('Radio (Desc)'!$G32,[1]!MASTER_RADIO_FREQ_DESC[#Data],0),0))","v":""},{"$f":"IF('Radio (Desc)'!H32=\"\",\"\",'Radio (Desc)'!H32)","v":""},{"$f":"IF('Radio (Desc)'!I32=\"\",\"\",INDEX([1]RADIO_FREQ!$A$2:$A$500,MATCH('Radio (Desc)'!$I32,[1]!MASTER_RADIO_FREQ_DESC[#Data],0),0))","v":""},{"$f":"IF('Radio (Desc)'!J32=\"\",\"\",'Radio (Desc)'!J32)","v":""},{"$f":"IF('Radio (Desc)'!K32=\"\",\"\",INDEX([1]CALL_SIGN!$A$2:$A$600,MATCH('Radio (Desc)'!$K32,[1]!MASTER_CALL_SIGN_DESC[#Data],0),0))","v":""},{"$f":"IF('Radio (Desc)'!L32=\"\",\"\",INDEX([1]STATION_CLASS!$A$2:$A$100,MATCH('Radio (Desc)'!$L32,[1]!MASTER_STATION_CLASS_DESC[#Data],0),0))","v":""},{"$f":"IF('Radio (Desc)'!M32=\"\",\"\",'Radio (Desc)'!M32)","v":""},{"$f":"IF('Radio (Desc)'!N32=\"\",\"\",'Radio (Desc)'!N32)","v":""},{"$f":"IF('Radio (Desc)'!O32=\"\",\"\",INDEX([1]ITS_COMM_DEV_MANUF!$A$2:$A$300,MATCH(1,([1]ITS_COMM_DEV_MANUF!$B$2:$B$300='Radio (Desc)'!$O32)*([1]ITS_COMM_DEV_MANUF!$C$2:$C$300=\"RADIO\"),0),0))","v":""},{"$f":"IF('Radio (Desc)'!P32=\"\",\"\",INDEX([1]ITS_COMM_DEV_MODEL!$A$2:$A$500,MATCH(1,([1]ITS_COMM_DEV_MODEL!$C$2:$C$500='Radio (Desc)'!$O32)*([1]ITS_COMM_DEV_MODEL!$D$2:$D$500=\"RADIO\")*([1]ITS_COMM_DEV_MODEL!$E$2:$E$500='Radio (Desc)'!$P32),0),0))","v":""},{"$f":"IF('Radio (Desc)'!Q32=\"\",\"\",'Radio (Desc)'!Q32)","v":""},{"$f":"IF('Radio (Desc)'!R32=\"\",\"\",'Radio (Desc)'!R32)","v":""},{"$f":"IF('Radio (Desc)'!S32=\"\",\"\",'Radio (Desc)'!S32)","v":""},{"$f":"IF('Radio (Desc)'!T32=\"\",\"\",'Radio (Desc)'!T32)","v":""},{"$f":"IF('Radio (Desc)'!U32=\"\",\"\",INDEX([1]DEV_INPUT_VOLTAGE!$A$2:$A$100,MATCH('Radio (Desc)'!$U32,[1]!MASTER_DEV_INPUT_VOLTAGE_DESC[#Data],0),0))","v":""},{"$f":"IF('Radio (Desc)'!V32=\"\",\"\",'Radio (Desc)'!V32)","v":""},{"$f":"IF('Radio (Desc)'!W32=\"\",\"\",'Radio (Desc)'!W32)","v":""},{"$f":"IF('Radio (Desc)'!X32=\"\",\"\",'Radio (Desc)'!X32)","v":""},{"$f":"IF('Radio (Desc)'!Y32=\"\",\"\",INDEX([1]FIBER_CONN_TYPE!$A$2:$A$100,MATCH('Radio (Desc)'!$Y32,[1]!MASTER_FIBER_CONN_TYPE_DESC[#Data],0),0))","v":""}]
[{"$f":"IF('Radio (Desc)'!A33=\"\",\"\",'Radio (Desc)'!A33)","v":""},{"$f":"IF('Radio (Desc)'!C33=\"\",\"\",\"2029\")","v":""},{"$f":"IF('Radio (Desc)'!C33=\"\",\"\",'Radio (Desc)'!C33)","v":""},{"$f":"IF('Radio (Desc)'!E33=\"\",\"\",\"RADIO\")","v":""},{"$f":"IF('Radio (Desc)'!E33=\"\",\"\",INDEX([1]RADIO_TYPE!$A$2:$A$100,MATCH('Radio (Desc)'!$E33,[1]!MASTER_RADIO_TYPE_DESC[#Data],0),0))","v":""},{"$f":"IF('Radio (Desc)'!F33=\"\",\"\",'Radio (Desc)'!F33)","v":""},{"$f":"IF('Radio (Desc)'!G33=\"\",\"\",INDEX([1]RADIO_FREQ!$A$2:$A$500,MATCH('Radio (Desc)'!$G33,[1]!MASTER_RADIO_FREQ_DESC[#Data],0),0))","v":""},{"$f":"IF('Radio (Desc)'!H33=\"\",\"\",'Radio (Desc)'!H33)","v":""},{"$f":"IF('Radio (Desc)'!I33=\"\",\"\",INDEX([1]RADIO_FREQ!$A$2:$A$500,MATCH('Radio (Desc)'!$I33,[1]!MASTER_RADIO_FREQ_DESC[#Data],0),0))","v":""},{"$f":"IF('Radio (Desc)'!J33=\"\",\"\",'Radio (Desc)'!J33)","v":""},{"$f":"IF('Radio (Desc)'!K33=\"\",\"\",INDEX([1]CALL_SIGN!$A$2:$A$600,MATCH('Radio (Desc)'!$K33,[1]!MASTER_CALL_SIGN_DESC[#Data],0),0))","v":""},{"$f":"IF('Radio (Desc)'!L33=\"\",\"\",INDEX([1]STATION_CLASS!$A$2:$A$100,MATCH('Radio (Desc)'!$L33,[1]!MASTER_STATION_CLASS_DESC[#Data],0),0))","v":""},{"$f":"IF('Radio (Desc)'!M33=\"\",\"\",'Radio (Desc)'!M33)","v":""},{"$f":"IF('Radio (Desc)'!N33=\"\",\"\",'Radio (Desc)'!N33)","v":""},{"$f":"IF('Radio (Desc)'!O33=\"\",\"\",INDEX([1]ITS_COMM_DEV_MANUF!$A$2:$A$300,MATCH(1,([1]ITS_COMM_DEV_MANUF!$B$2:$B$300='Radio (Desc)'!$O33)*([1]ITS_COMM_DEV_MANUF!$C$2:$C$300=\"RADIO\"),0),0))","v":""},{"$f":"IF('Radio (Desc)'!P33=\"\",\"\",INDEX([1]ITS_COMM_DEV_MODEL!$A$2:$A$500,MATCH(1,([1]ITS_COMM_DEV_MODEL!$C$2:$C$500='Radio (Desc)'!$O33)*([1]ITS_COMM_DEV_MODEL!$D$2:$D$500=\"RADIO\")*([1]ITS_COMM_DEV_MODEL!$E$2:$E$500='Radio (Desc)'!$P33),0),0))","v":""},{"$f":"IF('Radio (Desc)'!Q33=\"\",\"\",'Radio (Desc)'!Q33)","v":""},{"$f":"IF('Radio (Desc)'!R33=\"\",\"\",'Radio (Desc)'!R33)","v":""},{"$f":"IF('Radio (Desc)'!S33=\"\",\"\",'Radio (Desc)'!S33)","v":""},{"$f":"IF('Radio (Desc)'!T33=\"\",\"\",'Radio (Desc)'!T33)","v":""},{"$f":"IF('Radio (Desc)'!U33=\"\",\"\",INDEX([1]DEV_INPUT_VOLTAGE!$A$2:$A$100,MATCH('Radio (Desc)'!$U33,[1]!MASTER_DEV_INPUT_VOLTAGE_DESC[#Data],0),0))","v":""},{"$f":"IF('Radio (Desc)'!V33=\"\",\"\",'Radio (Desc)'!V33)","v":""},{"$f":"IF('Radio (Desc)'!W33=\"\",\"\",'Radio (Desc)'!W33)","v":""},{"$f":"IF('Radio (Desc)'!X33=\"\",\"\",'Radio (Desc)'!X33)","v":""},{"$f":"IF('Radio (Desc)'!Y33=\"\",\"\",INDEX([1]FIBER_CONN_TYPE!$A$2:$A$100,MATCH('Radio (Desc)'!$Y33,[1]!MASTER_FIBER_CONN_TYPE_DESC[#Data],0),0))","v":""}]
[{"$f":"IF('Radio (Desc)'!A34=\"\",\"\",'Radio (Desc)'!A34)","v":""},{"$f":"IF('Radio (Desc)'!C34=\"\",\"\",\"2029\")","v":""},{"$f":"IF('Radio (Desc)'!C34=\"\",\"\",'Radio (Desc)'!C34)","v":""},{"$f":"IF('Radio (Desc)'!E34=\"\",\"\",\"RADIO\")","v":""},{"$f":"IF('Radio (Desc)'!E34=\"\",\"\",INDEX([1]RADIO_TYPE!$A$2:$A$100,MATCH('Radio (Desc)'!$E34,[1]!MASTER_RADIO_TYPE_DESC[#Data],0),0))","v":""},{"$f":"IF('Radio (Desc)'!F34=\"\",\"\",'Radio (Desc)'!F34)","v":""},{"$f":"IF('Radio (Desc)'!G34=\"\",\"\",INDEX([1]RADIO_FREQ!$A$2:$A$500,MATCH('Radio (Desc)'!$G34,[1]!MASTER_RADIO_FREQ_DESC[#Data],0),0))","v":""},{"$f":"IF('Radio (Desc)'!H34=\"\",\"\",'Radio (Desc)'!H34)","v":""},{"$f":"IF('Radio (Desc)'!I34=\"\",\"\",INDEX([1]RADIO_FREQ!$A$2:$A$500,MATCH('Radio (Desc)'!$I34,[1]!MASTER_RADIO_FREQ_DESC[#Data],0),0))","v":""},{"$f":"IF('Radio (Desc)'!J34=\"\",\"\",'Radio (Desc)'!J34)","v":""},{"$f":"IF('Radio (Desc)'!K34=\"\",\"\",INDEX([1]CALL_SIGN!$A$2:$A$600,MATCH('Radio (Desc)'!$K34,[1]!MASTER_CALL_SIGN_DESC[#Data],0),0))","v":""},{"$f":"IF('Radio (Desc)'!L34=\"\",\"\",INDEX([1]STATION_CLASS!$A$2:$A$100,MATCH('Radio (Desc)'!$L34,[1]!MASTER_STATION_CLASS_DESC[#Data],0),0))","v":""},{"$f":"IF('Radio (Desc)'!M34=\"\",\"\",'Radio (Desc)'!M34)","v":""},{"$f":"IF('Radio (Desc)'!N34=\"\",\"\",'Radio (Desc)'!N34)","v":""},{"$f":"IF('Radio (Desc)'!O34=\"\",\"\",INDEX([1]ITS_COMM_DEV_MANUF!$A$2:$A$300,MATCH(1,([1]ITS_COMM_DEV_MANUF!$B$2:$B$300='Radio (Desc)'!$O34)*([1]ITS_COMM_DEV_MANUF!$C$2:$C$300=\"RADIO\"),0),0))","v":""},{"$f":"IF('Radio (Desc)'!P34=\"\",\"\",INDEX([1]ITS_COMM_DEV_MODEL!$A$2:$A$500,MATCH(1,([1]ITS_COMM_DEV_MODEL!$C$2:$C$500='Radio (Desc)'!$O34)*([1]ITS_COMM_DEV_MODEL!$D$2:$D$500=\"RADIO\")*([1]ITS_COMM_DEV_MODEL!$E$2:$E$500='Radio (Desc)'!$P34),0),0))","v":""},{"$f":"IF('Radio (Desc)'!Q34=\"\",\"\",'Radio (Desc)'!Q34)","v":""},{"$f":"IF('Radio (Desc)'!R34=\"\",\"\",'Radio (Desc)'!R34)","v":""},{"$f":"IF('Radio (Desc)'!S34=\"\",\"\",'Radio (Desc)'!S34)","v":""},{"$f":"IF('Radio (Desc)'!T34=\"\",\"\",'Radio (Desc)'!T34)","v":""},{"$f":"IF('Radio (Desc)'!U34=\"\",\"\",INDEX([1]DEV_INPUT_VOLTAGE!$A$2:$A$100,MATCH('Radio (Desc)'!$U34,[1]!MASTER_DEV_INPUT_VOLTAGE_DESC[#Data],0),0))","v":""},{"$f":"IF('Radio (Desc)'!V34=\"\",\"\",'Radio (Desc)'!V34)","v":""},{"$f":"IF('Radio (Desc)'!W34=\"\",\"\",'Radio (Desc)'!W34)","v":""},{"$f":"IF('Radio (Desc)'!X34=\"\",\"\",'Radio (Desc)'!X34)","v":""},{"$f":"IF('Radio (Desc)'!Y34=\"\",\"\",INDEX([1]FIBER_CONN_TYPE!$A$2:$A$100,MATCH('Radio (Desc)'!$Y34,[1]!MASTER_FIBER_CONN_TYPE_DESC[#Data],0),0))","v":""}]
[{"$f":"IF('Radio (Desc)'!A35=\"\",\"\",'Radio (Desc)'!A35)","v":""},{"$f":"IF('Radio (Desc)'!C35=\"\",\"\",\"2029\")","v":""},{"$f":"IF('Radio (Desc)'!C35=\"\",\"\",'Radio (Desc)'!C35)","v":""},{"$f":"IF('Radio (Desc)'!E35=\"\",\"\",\"RADIO\")","v":""},{"$f":"IF('Radio (Desc)'!E35=\"\",\"\",INDEX([1]RADIO_TYPE!$A$2:$A$100,MATCH('Radio (Desc)'!$E35,[1]!MASTER_RADIO_TYPE_DESC[#Data],0),0))","v":""},{"$f":"IF('Radio (Desc)'!F35=\"\",\"\",'Radio (Desc)'!F35)","v":""},{"$f":"IF('Radio (Desc)'!G35=\"\",\"\",INDEX([1]RADIO_FREQ!$A$2:$A$500,MATCH('Radio (Desc)'!$G35,[1]!MASTER_RADIO_FREQ_DESC[#Data],0),0))","v":""},{"$f":"IF('Radio (Desc)'!H35=\"\",\"\",'Radio (Desc)'!H35)","v":""},{"$f":"IF('Radio (Desc)'!I35=\"\",\"\",INDEX([1]RADIO_FREQ!$A$2:$A$500,MATCH('Radio (Desc)'!$I35,[1]!MASTER_RADIO_FREQ_DESC[#Data],0),0))","v":""},{"$f":"IF('Radio (Desc)'!J35=\"\",\"\",'Radio (Desc)'!J35)","v":""},{"$f":"IF('Radio (Desc)'!K35=\"\",\"\",INDEX([1]CALL_SIGN!$A$2:$A$600,MATCH('Radio (Desc)'!$K35,[1]!MASTER_CALL_SIGN_DESC[#Data],0),0))","v":""},{"$f":"IF('Radio (Desc)'!L35=\"\",\"\",INDEX([1]STATION_CLASS!$A$2:$A$100,MATCH('Radio (Desc)'!$L35,[1]!MASTER_STATION_CLASS_DESC[#Data],0),0))","v":""},{"$f":"IF('Radio (Desc)'!M35=\"\",\"\",'Radio (Desc)'!M35)","v":""},{"$f":"IF('Radio (Desc)'!N35=\"\",\"\",'Radio (Desc)'!N35)","v":""},{"$f":"IF('Radio (Desc)'!O35=\"\",\"\",INDEX([1]ITS_COMM_DEV_MANUF!$A$2:$A$300,MATCH(1,([1]ITS_COMM_DEV_MANUF!$B$2:$B$300='Radio (Desc)'!$O35)*([1]ITS_COMM_DEV_MANUF!$C$2:$C$300=\"RADIO\"),0),0))","v":""},{"$f":"IF('Radio (Desc)'!P35=\"\",\"\",INDEX([1]ITS_COMM_DEV_MODEL!$A$2:$A$500,MATCH(1,([1]ITS_COMM_DEV_MODEL!$C$2:$C$500='Radio (Desc)'!$O35)*([1]ITS_COMM_DEV_MODEL!$D$2:$D$500=\"RADIO\")*([1]ITS_COMM_DEV_MODEL!$E$2:$E$500='Radio (Desc)'!$P35),0),0))","v":""},{"$f":"IF('Radio (Desc)'!Q35=\"\",\"\",'Radio (Desc)'!Q35)","v":""},{"$f":"IF('Radio (Desc)'!R35=\"\",\"\",'Radio (Desc)'!R35)","v":""},{"$f":"IF('Radio (Desc)'!S35=\"\",\"\",'Radio (Desc)'!S35)","v":""},{"$f":"IF('Radio (Desc)'!T35=\"\",\"\",'Radio (Desc)'!T35)","v":""},{"$f":"IF('Radio (Desc)'!U35=\"\",\"\",INDEX([1]DEV_INPUT_VOLTAGE!$A$2:$A$100,MATCH('Radio (Desc)'!$U35,[1]!MASTER_DEV_INPUT_VOLTAGE_DESC[#Data],0),0))","v":""},{"$f":"IF('Radio (Desc)'!V35=\"\",\"\",'Radio (Desc)'!V35)","v":""},{"$f":"IF('Radio (Desc)'!W35=\"\",\"\",'Radio (Desc)'!W35)","v":""},{"$f":"IF('Radio (Desc)'!X35=\"\",\"\",'Radio (Desc)'!X35)","v":""},{"$f":"IF('Radio (Desc)'!Y35=\"\",\"\",INDEX([1]FIBER_CONN_TYPE!$A$2:$A$100,MATCH('Radio (Desc)'!$Y35,[1]!MASTER_FIBER_CONN_TYPE_DESC[#Data],0),0))","v":""}]
[{"$f":"IF('Radio (Desc)'!A36=\"\",\"\",'Radio (Desc)'!A36)","v":""},{"$f":"IF('Radio (Desc)'!C36=\"\",\"\",\"2029\")","v":""},{"$f":"IF('Radio (Desc)'!C36=\"\",\"\",'Radio (Desc)'!C36)","v":""},{"$f":"IF('Radio (Desc)'!E36=\"\",\"\",\"RADIO\")","v":""},{"$f":"IF('Radio (Desc)'!E36=\"\",\"\",INDEX([1]RADIO_TYPE!$A$2:$A$100,MATCH('Radio (Desc)'!$E36,[1]!MASTER_RADIO_TYPE_DESC[#Data],0),0))","v":""},{"$f":"IF('Radio (Desc)'!F36=\"\",\"\",'Radio (Desc)'!F36)","v":""},{"$f":"IF('Radio (Desc)'!G36=\"\",\"\",INDEX([1]RADIO_FREQ!$A$2:$A$500,MATCH('Radio (Desc)'!$G36,[1]!MASTER_RADIO_FREQ_DESC[#Data],0),0))","v":""},{"$f":"IF('Radio (Desc)'!H36=\"\",\"\",'Radio (Desc)'!H36)","v":""},{"$f":"IF('Radio (Desc)'!I36=\"\",\"\",INDEX([1]RADIO_FREQ!$A$2:$A$500,MATCH('Radio (Desc)'!$I36,[1]!MASTER_RADIO_FREQ_DESC[#Data],0),0))","v":""},{"$f":"IF('Radio (Desc)'!J36=\"\",\"\",'Radio (Desc)'!J36)","v":""},{"$f":"IF('Radio (Desc)'!K36=\"\",\"\",INDEX([1]CALL_SIGN!$A$2:$A$600,MATCH('Radio (Desc)'!$K36,[1]!MASTER_CALL_SIGN_DESC[#Data],0),0))","v":""},{"$f":"IF('Radio (Desc)'!L36=\"\",\"\",INDEX([1]STATION_CLASS!$A$2:$A$100,MATCH('Radio (Desc)'!$L36,[1]!MASTER_STATION_CLASS_DESC[#Data],0),0))","v":""},{"$f":"IF('Radio (Desc)'!M36=\"\",\"\",'Radio (Desc)'!M36)","v":""},{"$f":"IF('Radio (Desc)'!N36=\"\",\"\",'Radio (Desc)'!N36)","v":""},{"$f":"IF('Radio (Desc)'!O36=\"\",\"\",INDEX([1]ITS_COMM_DEV_MANUF!$A$2:$A$300,MATCH(1,([1]ITS_COMM_DEV_MANUF!$B$2:$B$300='Radio (Desc)'!$O36)*([1]ITS_COMM_DEV_MANUF!$C$2:$C$300=\"RADIO\"),0),0))","v":""},{"$f":"IF('Radio (Desc)'!P36=\"\",\"\",INDEX([1]ITS_COMM_DEV_MODEL!$A$2:$A$500,MATCH(1,([1]ITS_COMM_DEV_MODEL!$C$2:$C$500='Radio (Desc)'!$O36)*([1]ITS_COMM_DEV_MODEL!$D$2:$D$500=\"RADIO\")*([1]ITS_COMM_DEV_MODEL!$E$2:$E$500='Radio (Desc)'!$P36),0),0))","v":""},{"$f":"IF('Radio (Desc)'!Q36=\"\",\"\",'Radio (Desc)'!Q36)","v":""},{"$f":"IF('Radio (Desc)'!R36=\"\",\"\",'Radio (Desc)'!R36)","v":""},{"$f":"IF('Radio (Desc)'!S36=\"\",\"\",'Radio (Desc)'!S36)","v":""},{"$f":"IF('Radio (Desc)'!T36=\"\",\"\",'Radio (Desc)'!T36)","v":""},{"$f":"IF('Radio (Desc)'!U36=\"\",\"\",INDEX([1]DEV_INPUT_VOLTAGE!$A$2:$A$100,MATCH('Radio (Desc)'!$U36,[1]!MASTER_DEV_INPUT_VOLTAGE_DESC[#Data],0),0))","v":""},{"$f":"IF('Radio (Desc)'!V36=\"\",\"\",'Radio (Desc)'!V36)","v":""},{"$f":"IF('Radio (Desc)'!W36=\"\",\"\",'Radio (Desc)'!W36)","v":""},{"$f":"IF('Radio (Desc)'!X36=\"\",\"\",'Radio (Desc)'!X36)","v":""},{"$f":"IF('Radio (Desc)'!Y36=\"\",\"\",INDEX([1]FIBER_CONN_TYPE!$A$2:$A$100,MATCH('Radio (Desc)'!$Y36,[1]!MASTER_FIBER_CONN_TYPE_DESC[#Data],0),0))","v":""}]
[{"$f":"IF('Radio (Desc)'!A37=\"\",\"\",'Radio (Desc)'!A37)","v":""},{"$f":"IF('Radio (Desc)'!C37=\"\",\"\",\"2029\")","v":""},{"$f":"IF('Radio (Desc)'!C37=\"\",\"\",'Radio (Desc)'!C37)","v":""},{"$f":"IF('Radio (Desc)'!E37=\"\",\"\",\"RADIO\")","v":""},{"$f":"IF('Radio (Desc)'!E37=\"\",\"\",INDEX([1]RADIO_TYPE!$A$2:$A$100,MATCH('Radio (Desc)'!$E37,[1]!MASTER_RADIO_TYPE_DESC[#Data],0),0))","v":""},{"$f":"IF('Radio (Desc)'!F37=\"\",\"\",'Radio (Desc)'!F37)","v":""},{"$f":"IF('Radio (Desc)'!G37=\"\",\"\",INDEX([1]RADIO_FREQ!$A$2:$A$500,MATCH('Radio (Desc)'!$G37,[1]!MASTER_RADIO_FREQ_DESC[#Data],0),0))","v":""},{"$f":"IF('Radio (Desc)'!H37=\"\",\"\",'Radio (Desc)'!H37)","v":""},{"$f":"IF('Radio (Desc)'!I37=\"\",\"\",INDEX([1]RADIO_FREQ!$A$2:$A$500,MATCH('Radio (Desc)'!$I37,[1]!MASTER_RADIO_FREQ_DESC[#Data],0),0))","v":""},{"$f":"IF('Radio (Desc)'!J37=\"\",\"\",'Radio (Desc)'!J37)","v":""},{"$f":"IF('Radio (Desc)'!K37=\"\",\"\",INDEX([1]CALL_SIGN!$A$2:$A$600,MATCH('Radio (Desc)'!$K37,[1]!MASTER_CALL_SIGN_DESC[#Data],0),0))","v":""},{"$f":"IF('Radio (Desc)'!L37=\"\",\"\",INDEX([1]STATION_CLASS!$A$2:$A$100,MATCH('Radio (Desc)'!$L37,[1]!MASTER_STATION_CLASS_DESC[#Data],0),0))","v":""},{"$f":"IF('Radio (Desc)'!M37=\"\",\"\",'Radio (Desc)'!M37)","v":""},{"$f":"IF('Radio (Desc)'!N37=\"\",\"\",'Radio (Desc)'!N37)","v":""},{"$f":"IF('Radio (Desc)'!O37=\"\",\"\",INDEX([1]ITS_COMM_DEV_MANUF!$A$2:$A$300,MATCH(1,([1]ITS_COMM_DEV_MANUF!$B$2:$B$300='Radio (Desc)'!$O37)*([1]ITS_COMM_DEV_MANUF!$C$2:$C$300=\"RADIO\"),0),0))","v":""},{"$f":"IF('Radio (Desc)'!P37=\"\",\"\",INDEX([1]ITS_COMM_DEV_MODEL!$A$2:$A$500,MATCH(1,([1]ITS_COMM_DEV_MODEL!$C$2:$C$500='Radio (Desc)'!$O37)*([1]ITS_COMM_DEV_MODEL!$D$2:$D$500=\"RADIO\")*([1]ITS_COMM_DEV_MODEL!$E$2:$E$500='Radio (Desc)'!$P37),0),0))","v":""},{"$f":"IF('Radio (Desc)'!Q37=\"\",\"\",'Radio (Desc)'!Q37)","v":""},{"$f":"IF('Radio (Desc)'!R37=\"\",\"\",'Radio (Desc)'!R37)","v":""},{"$f":"IF('Radio (Desc)'!S37=\"\",\"\",'Radio (Desc)'!S37)","v":""},{"$f":"IF('Radio (Desc)'!T37=\"\",\"\",'Radio (Desc)'!T37)","v":""},{"$f":"IF('Radio (Desc)'!U37=\"\",\"\",INDEX([1]DEV_INPUT_VOLTAGE!$A$2:$A$100,MATCH('Radio (Desc)'!$U37,[1]!MASTER_DEV_INPUT_VOLTAGE_DESC[#Data],0),0))","v":""},{"$f":"IF('Radio (Desc)'!V37=\"\",\"\",'Radio (Desc)'!V37)","v":""},{"$f":"IF('Radio (Desc)'!W37=\"\",\"\",'Radio (Desc)'!W37)","v":""},{"$f":"IF('Radio (Desc)'!X37=\"\",\"\",'Radio (Desc)'!X37)","v":""},{"$f":"IF('Radio (Desc)'!Y37=\"\",\"\",INDEX([1]FIBER_CONN_TYPE!$A$2:$A$100,MATCH('Radio (Desc)'!$Y37,[1]!MASTER_FIBER_CONN_TYPE_DESC[#Data],0),0))","v":""}]
[{"$f":"IF('Radio (Desc)'!A38=\"\",\"\",'Radio (Desc)'!A38)","v":""},{"$f":"IF('Radio (Desc)'!C38=\"\",\"\",\"2029\")","v":""},{"$f":"IF('Radio (Desc)'!C38=\"\",\"\",'Radio (Desc)'!C38)","v":""},{"$f":"IF('Radio (Desc)'!E38=\"\",\"\",\"RADIO\")","v":""},{"$f":"IF('Radio (Desc)'!E38=\"\",\"\",INDEX([1]RADIO_TYPE!$A$2:$A$100,MATCH('Radio (Desc)'!$E38,[1]!MASTER_RADIO_TYPE_DESC[#Data],0),0))","v":""},{"$f":"IF('Radio (Desc)'!F38=\"\",\"\",'Radio (Desc)'!F38)","v":""},{"$f":"IF('Radio (Desc)'!G38=\"\",\"\",INDEX([1]RADIO_FREQ!$A$2:$A$500,MATCH('Radio (Desc)'!$G38,[1]!MASTER_RADIO_FREQ_DESC[#Data],0),0))","v":""},{"$f":"IF('Radio (Desc)'!H38=\"\",\"\",'Radio (Desc)'!H38)","v":""},{"$f":"IF('Radio (Desc)'!I38=\"\",\"\",INDEX([1]RADIO_FREQ!$A$2:$A$500,MATCH('Radio (Desc)'!$I38,[1]!MASTER_RADIO_FREQ_DESC[#Data],0),0))","v":""},{"$f":"IF('Radio (Desc)'!J38=\"\",\"\",'Radio (Desc)'!J38)","v":""},{"$f":"IF('Radio (Desc)'!K38=\"\",\"\",INDEX([1]CALL_SIGN!$A$2:$A$600,MATCH('Radio (Desc)'!$K38,[1]!MASTER_CALL_SIGN_DESC[#Data],0),0))","v":""},{"$f":"IF('Radio (Desc)'!L38=\"\",\"\",INDEX([1]STATION_CLASS!$A$2:$A$100,MATCH('Radio (Desc)'!$L38,[1]!MASTER_STATION_CLASS_DESC[#Data],0),0))","v":""},{"$f":"IF('Radio (Desc)'!M38=\"\",\"\",'Radio (Desc)'!M38)","v":""},{"$f":"IF('Radio (Desc)'!N38=\"\",\"\",'Radio (Desc)'!N38)","v":""},{"$f":"IF('Radio (Desc)'!O38=\"\",\"\",INDEX([1]ITS_COMM_DEV_MANUF!$A$2:$A$300,MATCH(1,([1]ITS_COMM_DEV_MANUF!$B$2:$B$300='Radio (Desc)'!$O38)*([1]ITS_COMM_DEV_MANUF!$C$2:$C$300=\"RADIO\"),0),0))","v":""},{"$f":"IF('Radio (Desc)'!P38=\"\",\"\",INDEX([1]ITS_COMM_DEV_MODEL!$A$2:$A$500,MATCH(1,([1]ITS_COMM_DEV_MODEL!$C$2:$C$500='Radio (Desc)'!$O38)*([1]ITS_COMM_DEV_MODEL!$D$2:$D$500=\"RADIO\")*([1]ITS_COMM_DEV_MODEL!$E$2:$E$500='Radio (Desc)'!$P38),0),0))","v":""},{"$f":"IF('Radio (Desc)'!Q38=\"\",\"\",'Radio (Desc)'!Q38)","v":""},{"$f":"IF('Radio (Desc)'!R38=\"\",\"\",'Radio (Desc)'!R38)","v":""},{"$f":"IF('Radio (Desc)'!S38=\"\",\"\",'Radio (Desc)'!S38)","v":""},{"$f":"IF('Radio (Desc)'!T38=\"\",\"\",'Radio (Desc)'!T38)","v":""},{"$f":"IF('Radio (Desc)'!U38=\"\",\"\",INDEX([1]DEV_INPUT_VOLTAGE!$A$2:$A$100,MATCH('Radio (Desc)'!$U38,[1]!MASTER_DEV_INPUT_VOLTAGE_DESC[#Data],0),0))","v":""},{"$f":"IF('Radio (Desc)'!V38=\"\",\"\",'Radio (Desc)'!V38)","v":""},{"$f":"IF('Radio (Desc)'!W38=\"\",\"\",'Radio (Desc)'!W38)","v":""},{"$f":"IF('Radio (Desc)'!X38=\"\",\"\",'Radio (Desc)'!X38)","v":""},{"$f":"IF('Radio (Desc)'!Y38=\"\",\"\",INDEX([1]FIBER_CONN_TYPE!$A$2:$A$100,MATCH('Radio (Desc)'!$Y38,[1]!MASTER_FIBER_CONN_TYPE_DESC[#Data],0),0))","v":""}]
[{"$f":"IF('Radio (Desc)'!A39=\"\",\"\",'Radio (Desc)'!A39)","v":""},{"$f":"IF('Radio (Desc)'!C39=\"\",\"\",\"2029\")","v":""},{"$f":"IF('Radio (Desc)'!C39=\"\",\"\",'Radio (Desc)'!C39)","v":""},{"$f":"IF('Radio (Desc)'!E39=\"\",\"\",\"RADIO\")","v":""},{"$f":"IF('Radio (Desc)'!E39=\"\",\"\",INDEX([1]RADIO_TYPE!$A$2:$A$100,MATCH('Radio (Desc)'!$E39,[1]!MASTER_RADIO_TYPE_DESC[#Data],0),0))","v":""},{"$f":"IF('Radio (Desc)'!F39=\"\",\"\",'Radio (Desc)'!F39)","v":""},{"$f":"IF('Radio (Desc)'!G39=\"\",\"\",INDEX([1]RADIO_FREQ!$A$2:$A$500,MATCH('Radio (Desc)'!$G39,[1]!MASTER_RADIO_FREQ_DESC[#Data],0),0))","v":""},{"$f":"IF('Radio (Desc)'!H39=\"\",\"\",'Radio (Desc)'!H39)","v":""},{"$f":"IF('Radio (Desc)'!I39=\"\",\"\",INDEX([1]RADIO_FREQ!$A$2:$A$500,MATCH('Radio (Desc)'!$I39,[1]!MASTER_RADIO_FREQ_DESC[#Data],0),0))","v":""},{"$f":"IF('Radio (Desc)'!J39=\"\",\"\",'Radio (Desc)'!J39)","v":""},{"$f":"IF('Radio (Desc)'!K39=\"\",\"\",INDEX([1]CALL_SIGN!$A$2:$A$600,MATCH('Radio (Desc)'!$K39,[1]!MASTER_CALL_SIGN_DESC[#Data],0),0))","v":""},{"$f":"IF('Radio (Desc)'!L39=\"\",\"\",INDEX([1]STATION_CLASS!$A$2:$A$100,MATCH('Radio (Desc)'!$L39,[1]!MASTER_STATION_CLASS_DESC[#Data],0),0))","v":""},{"$f":"IF('Radio (Desc)'!M39=\"\",\"\",'Radio (Desc)'!M39)","v":""},{"$f":"IF('Radio (Desc)'!N39=\"\",\"\",'Radio (Desc)'!N39)","v":""},{"$f":"IF('Radio (Desc)'!O39=\"\",\"\",INDEX([1]ITS_COMM_DEV_MANUF!$A$2:$A$300,MATCH(1,([1]ITS_COMM_DEV_MANUF!$B$2:$B$300='Radio (Desc)'!$O39)*([1]ITS_COMM_DEV_MANUF!$C$2:$C$300=\"RADIO\"),0),0))","v":""},{"$f":"IF('Radio (Desc)'!P39=\"\",\"\",INDEX([1]ITS_COMM_DEV_MODEL!$A$2:$A$500,MATCH(1,([1]ITS_COMM_DEV_MODEL!$C$2:$C$500='Radio (Desc)'!$O39)*([1]ITS_COMM_DEV_MODEL!$D$2:$D$500=\"RADIO\")*([1]ITS_COMM_DEV_MODEL!$E$2:$E$500='Radio (Desc)'!$P39),0),0))","v":""},{"$f":"IF('Radio (Desc)'!Q39=\"\",\"\",'Radio (Desc)'!Q39)","v":""},{"$f":"IF('Radio (Desc)'!R39=\"\",\"\",'Radio (Desc)'!R39)","v":""},{"$f":"IF('Radio (Desc)'!S39=\"\",\"\",'Radio (Desc)'!S39)","v":""},{"$f":"IF('Radio (Desc)'!T39=\"\",\"\",'Radio (Desc)'!T39)","v":""},{"$f":"IF('Radio (Desc)'!U39=\"\",\"\",INDEX([1]DEV_INPUT_VOLTAGE!$A$2:$A$100,MATCH('Radio (Desc)'!$U39,[1]!MASTER_DEV_INPUT_VOLTAGE_DESC[#Data],0),0))","v":""},{"$f":"IF('Radio (Desc)'!V39=\"\",\"\",'Radio (Desc)'!V39)","v":""},{"$f":"IF('Radio (Desc)'!W39=\"\",\"\",'Radio (Desc)'!W39)","v":""},{"$f":"IF('Radio (Desc)'!X39=\"\",\"\",'Radio (Desc)'!X39)","v":""},{"$f":"IF('Radio (Desc)'!Y39=\"\",\"\",INDEX([1]FIBER_CONN_TYPE!$A$2:$A$100,MATCH('Radio (Desc)'!$Y39,[1]!MASTER_FIBER_CONN_TYPE_DESC[#Data],0),0))","v":""}]
[{"$f":"IF('Radio (Desc)'!A40=\"\",\"\",'Radio (Desc)'!A40)","v":""},{"$f":"IF('Radio (Desc)'!C40=\"\",\"\",\"2029\")","v":""},{"$f":"IF('Radio (Desc)'!C40=\"\",\"\",'Radio (Desc)'!C40)","v":""},{"$f":"IF('Radio (Desc)'!E40=\"\",\"\",\"RADIO\")","v":""},{"$f":"IF('Radio (Desc)'!E40=\"\",\"\",INDEX([1]RADIO_TYPE!$A$2:$A$100,MATCH('Radio (Desc)'!$E40,[1]!MASTER_RADIO_TYPE_DESC[#Data],0),0))","v":""},{"$f":"IF('Radio (Desc)'!F40=\"\",\"\",'Radio (Desc)'!F40)","v":""},{"$f":"IF('Radio (Desc)'!G40=\"\",\"\",INDEX([1]RADIO_FREQ!$A$2:$A$500,MATCH('Radio (Desc)'!$G40,[1]!MASTER_RADIO_FREQ_DESC[#Data],0),0))","v":""},{"$f":"IF('Radio (Desc)'!H40=\"\",\"\",'Radio (Desc)'!H40)","v":""},{"$f":"IF('Radio (Desc)'!I40=\"\",\"\",INDEX([1]RADIO_FREQ!$A$2:$A$500,MATCH('Radio (Desc)'!$I40,[1]!MASTER_RADIO_FREQ_DESC[#Data],0),0))","v":""},{"$f":"IF('Radio (Desc)'!J40=\"\",\"\",'Radio (Desc)'!J40)","v":""},{"$f":"IF('Radio (Desc)'!K40=\"\",\"\",INDEX([1]CALL_SIGN!$A$2:$A$600,MATCH('Radio (Desc)'!$K40,[1]!MASTER_CALL_SIGN_DESC[#Data],0),0))","v":""},{"$f":"IF('Radio (Desc)'!L40=\"\",\"\",INDEX([1]STATION_CLASS!$A$2:$A$100,MATCH('Radio (Desc)'!$L40,[1]!MASTER_STATION_CLASS_DESC[#Data],0),0))","v":""},{"$f":"IF('Radio (Desc)'!M40=\"\",\"\",'Radio (Desc)'!M40)","v":""},{"$f":"IF('Radio (Desc)'!N40=\"\",\"\",'Radio (Desc)'!N40)","v":""},{"$f":"IF('Radio (Desc)'!O40=\"\",\"\",INDEX([1]ITS_COMM_DEV_MANUF!$A$2:$A$300,MATCH(1,([1]ITS_COMM_DEV_MANUF!$B$2:$B$300='Radio (Desc)'!$O40)*([1]ITS_COMM_DEV_MANUF!$C$2:$C$300=\"RADIO\"),0),0))","v":""},{"$f":"IF('Radio (Desc)'!P40=\"\",\"\",INDEX([1]ITS_COMM_DEV_MODEL!$A$2:$A$500,MATCH(1,([1]ITS_COMM_DEV_MODEL!$C$2:$C$500='Radio (Desc)'!$O40)*([1]ITS_COMM_DEV_MODEL!$D$2:$D$500=\"RADIO\")*([1]ITS_COMM_DEV_MODEL!$E$2:$E$500='Radio (Desc)'!$P40),0),0))","v":""},{"$f":"IF('Radio (Desc)'!Q40=\"\",\"\",'Radio (Desc)'!Q40)","v":""},{"$f":"IF('Radio (Desc)'!R40=\"\",\"\",'Radio (Desc)'!R40)","v":""},{"$f":"IF('Radio (Desc)'!S40=\"\",\"\",'Radio (Desc)'!S40)","v":""},{"$f":"IF('Radio (Desc)'!T40=\"\",\"\",'Radio (Desc)'!T40)","v":""},{"$f":"IF('Radio (Desc)'!U40=\"\",\"\",INDEX([1]DEV_INPUT_VOLTAGE!$A$2:$A$100,MATCH('Radio (Desc)'!$U40,[1]!MASTER_DEV_INPUT_VOLTAGE_DESC[#Data],0),0))","v":""},{"$f":"IF('Radio (Desc)'!V40=\"\",\"\",'Radio (Desc)'!V40)","v":""},{"$f":"IF('Radio (Desc)'!W40=\"\",\"\",'Radio (Desc)'!W40)","v":""},{"$f":"IF('Radio (Desc)'!X40=\"\",\"\",'Radio (Desc)'!X40)","v":""},{"$f":"IF('Radio (Desc)'!Y40=\"\",\"\",INDEX([1]FIBER_CONN_TYPE!$A$2:$A$100,MATCH('Radio (Desc)'!$Y40,[1]!MASTER_FIBER_CONN_TYPE_DESC[#Data],0),0))","v":""}]
[{"$f":"IF('Radio (Desc)'!A41=\"\",\"\",'Radio (Desc)'!A41)","v":""},{"$f":"IF('Radio (Desc)'!C41=\"\",\"\",\"2029\")","v":""},{"$f":"IF('Radio (Desc)'!C41=\"\",\"\",'Radio (Desc)'!C41)","v":""},{"$f":"IF('Radio (Desc)'!E41=\"\",\"\",\"RADIO\")","v":""},{"$f":"IF('Radio (Desc)'!E41=\"\",\"\",INDEX([1]RADIO_TYPE!$A$2:$A$100,MATCH('Radio (Desc)'!$E41,[1]!MASTER_RADIO_TYPE_DESC[#Data],0),0))","v":""},{"$f":"IF('Radio (Desc)'!F41=\"\",\"\",'Radio (Desc)'!F41)","v":""},{"$f":"IF('Radio (Desc)'!G41=\"\",\"\",INDEX([1]RADIO_FREQ!$A$2:$A$500,MATCH('Radio (Desc)'!$G41,[1]!MASTER_RADIO_FREQ_DESC[#Data],0),0))","v":""},{"$f":"IF('Radio (Desc)'!H41=\"\",\"\",'Radio (Desc)'!H41)","v":""},{"$f":"IF('Radio (Desc)'!I41=\"\",\"\",INDEX([1]RADIO_FREQ!$A$2:$A$500,MATCH('Radio (Desc)'!$I41,[1]!MASTER_RADIO_FREQ_DESC[#Data],0),0))","v":""},{"$f":"IF('Radio (Desc)'!J41=\"\",\"\",'Radio (Desc)'!J41)","v":""},{"$f":"IF('Radio (Desc)'!K41=\"\",\"\",INDEX([1]CALL_SIGN!$A$2:$A$600,MATCH('Radio (Desc)'!$K41,[1]!MASTER_CALL_SIGN_DESC[#Data],0),0))","v":""},{"$f":"IF('Radio (Desc)'!L41=\"\",\"\",INDEX([1]STATION_CLASS!$A$2:$A$100,MATCH('Radio (Desc)'!$L41,[1]!MASTER_STATION_CLASS_DESC[#Data],0),0))","v":""},{"$f":"IF('Radio (Desc)'!M41=\"\",\"\",'Radio (Desc)'!M41)","v":""},{"$f":"IF('Radio (Desc)'!N41=\"\",\"\",'Radio (Desc)'!N41)","v":""},{"$f":"IF('Radio (Desc)'!O41=\"\",\"\",INDEX([1]ITS_COMM_DEV_MANUF!$A$2:$A$300,MATCH(1,([1]ITS_COMM_DEV_MANUF!$B$2:$B$300='Radio (Desc)'!$O41)*([1]ITS_COMM_DEV_MANUF!$C$2:$C$300=\"RADIO\"),0),0))","v":""},{"$f":"IF('Radio (Desc)'!P41=\"\",\"\",INDEX([1]ITS_COMM_DEV_MODEL!$A$2:$A$500,MATCH(1,([1]ITS_COMM_DEV_MODEL!$C$2:$C$500='Radio (Desc)'!$O41)*([1]ITS_COMM_DEV_MODEL!$D$2:$D$500=\"RADIO\")*([1]ITS_COMM_DEV_MODEL!$E$2:$E$500='Radio (Desc)'!$P41),0),0))","v":""},{"$f":"IF('Radio (Desc)'!Q41=\"\",\"\",'Radio (Desc)'!Q41)","v":""},{"$f":"IF('Radio (Desc)'!R41=\"\",\"\",'Radio (Desc)'!R41)","v":""},{"$f":"IF('Radio (Desc)'!S41=\"\",\"\",'Radio (Desc)'!S41)","v":""},{"$f":"IF('Radio (Desc)'!T41=\"\",\"\",'Radio (Desc)'!T41)","v":""},{"$f":"IF('Radio (Desc)'!U41=\"\",\"\",INDEX([1]DEV_INPUT_VOLTAGE!$A$2:$A$100,MATCH('Radio (Desc)'!$U41,[1]!MASTER_DEV_INPUT_VOLTAGE_DESC[#Data],0),0))","v":""},{"$f":"IF('Radio (Desc)'!V41=\"\",\"\",'Radio (Desc)'!V41)","v":""},{"$f":"IF('Radio (Desc)'!W41=\"\",\"\",'Radio (Desc)'!W41)","v":""},{"$f":"IF('Radio (Desc)'!X41=\"\",\"\",'Radio (Desc)'!X41)","v":""},{"$f":"IF('Radio (Desc)'!Y41=\"\",\"\",INDEX([1]FIBER_CONN_TYPE!$A$2:$A$100,MATCH('Radio (Desc)'!$Y41,[1]!MASTER_FIBER_CONN_TYPE_DESC[#Data],0),0))","v":""}]
[{"$f":"IF('Radio (Desc)'!A42=\"\",\"\",'Radio (Desc)'!A42)","v":""},{"$f":"IF('Radio (Desc)'!C42=\"\",\"\",\"2029\")","v":""},{"$f":"IF('Radio (Desc)'!C42=\"\",\"\",'Radio (Desc)'!C42)","v":""},{"$f":"IF('Radio (Desc)'!E42=\"\",\"\",\"RADIO\")","v":""},{"$f":"IF('Radio (Desc)'!E42=\"\",\"\",INDEX([1]RADIO_TYPE!$A$2:$A$100,MATCH('Radio (Desc)'!$E42,[1]!MASTER_RADIO_TYPE_DESC[#Data],0),0))","v":""},{"$f":"IF('Radio (Desc)'!F42=\"\",\"\",'Radio (Desc)'!F42)","v":""},{"$f":"IF('Radio (Desc)'!G42=\"\",\"\",INDEX([1]RADIO_FREQ!$A$2:$A$500,MATCH('Radio (Desc)'!$G42,[1]!MASTER_RADIO_FREQ_DESC[#Data],0),0))","v":""},{"$f":"IF('Radio (Desc)'!H42=\"\",\"\",'Radio (Desc)'!H42)","v":""},{"$f":"IF('Radio (Desc)'!I42=\"\",\"\",INDEX([1]RADIO_FREQ!$A$2:$A$500,MATCH('Radio (Desc)'!$I42,[1]!MASTER_RADIO_FREQ_DESC[#Data],0),0))","v":""},{"$f":"IF('Radio (Desc)'!J42=\"\",\"\",'Radio (Desc)'!J42)","v":""},{"$f":"IF('Radio (Desc)'!K42=\"\",\"\",INDEX([1]CALL_SIGN!$A$2:$A$600,MATCH('Radio (Desc)'!$K42,[1]!MASTER_CALL_SIGN_DESC[#Data],0),0))","v":""},{"$f":"IF('Radio (Desc)'!L42=\"\",\"\",INDEX([1]STATION_CLASS!$A$2:$A$100,MATCH('Radio (Desc)'!$L42,[1]!MASTER_STATION_CLASS_DESC[#Data],0),0))","v":""},{"$f":"IF('Radio (Desc)'!M42=\"\",\"\",'Radio (Desc)'!M42)","v":""},{"$f":"IF('Radio (Desc)'!N42=\"\",\"\",'Radio (Desc)'!N42)","v":""},{"$f":"IF('Radio (Desc)'!O42=\"\",\"\",INDEX([1]ITS_COMM_DEV_MANUF!$A$2:$A$300,MATCH(1,([1]ITS_COMM_DEV_MANUF!$B$2:$B$300='Radio (Desc)'!$O42)*([1]ITS_COMM_DEV_MANUF!$C$2:$C$300=\"RADIO\"),0),0))","v":""},{"$f":"IF('Radio (Desc)'!P42=\"\",\"\",INDEX([1]ITS_COMM_DEV_MODEL!$A$2:$A$500,MATCH(1,([1]ITS_COMM_DEV_MODEL!$C$2:$C$500='Radio (Desc)'!$O42)*([1]ITS_COMM_DEV_MODEL!$D$2:$D$500=\"RADIO\")*([1]ITS_COMM_DEV_MODEL!$E$2:$E$500='Radio (Desc)'!$P42),0),0))","v":""},{"$f":"IF('Radio (Desc)'!Q42=\"\",\"\",'Radio (Desc)'!Q42)","v":""},{"$f":"IF('Radio (Desc)'!R42=\"\",\"\",'Radio (Desc)'!R42)","v":""},{"$f":"IF('Radio (Desc)'!S42=\"\",\"\",'Radio (Desc)'!S42)","v":""},{"$f":"IF('Radio (Desc)'!T42=\"\",\"\",'Radio (Desc)'!T42)","v":""},{"$f":"IF('Radio (Desc)'!U42=\"\",\"\",INDEX([1]DEV_INPUT_VOLTAGE!$A$2:$A$100,MATCH('Radio (Desc)'!$U42,[1]!MASTER_DEV_INPUT_VOLTAGE_DESC[#Data],0),0))","v":""},{"$f":"IF('Radio (Desc)'!V42=\"\",\"\",'Radio (Desc)'!V42)","v":""},{"$f":"IF('Radio (Desc)'!W42=\"\",\"\",'Radio (Desc)'!W42)","v":""},{"$f":"IF('Radio (Desc)'!X42=\"\",\"\",'Radio (Desc)'!X42)","v":""},{"$f":"IF('Radio (Desc)'!Y42=\"\",\"\",INDEX([1]FIBER_CONN_TYPE!$A$2:$A$100,MATCH('Radio (Desc)'!$Y42,[1]!MASTER_FIBER_CONN_TYPE_DESC[#Data],0),0))","v":""}]
[{"$f":"IF('Radio (Desc)'!A43=\"\",\"\",'Radio (Desc)'!A43)","v":""},{"$f":"IF('Radio (Desc)'!C43=\"\",\"\",\"2029\")","v":""},{"$f":"IF('Radio (Desc)'!C43=\"\",\"\",'Radio (Desc)'!C43)","v":""},{"$f":"IF('Radio (Desc)'!E43=\"\",\"\",\"RADIO\")","v":""},{"$f":"IF('Radio (Desc)'!E43=\"\",\"\",INDEX([1]RADIO_TYPE!$A$2:$A$100,MATCH('Radio (Desc)'!$E43,[1]!MASTER_RADIO_TYPE_DESC[#Data],0),0))","v":""},{"$f":"IF('Radio (Desc)'!F43=\"\",\"\",'Radio (Desc)'!F43)","v":""},{"$f":"IF('Radio (Desc)'!G43=\"\",\"\",INDEX([1]RADIO_FREQ!$A$2:$A$500,MATCH('Radio (Desc)'!$G43,[1]!MASTER_RADIO_FREQ_DESC[#Data],0),0))","v":""},{"$f":"IF('Radio (Desc)'!H43=\"\",\"\",'Radio (Desc)'!H43)","v":""},{"$f":"IF('Radio (Desc)'!I43=\"\",\"\",INDEX([1]RADIO_FREQ!$A$2:$A$500,MATCH('Radio (Desc)'!$I43,[1]!MASTER_RADIO_FREQ_DESC[#Data],0),0))","v":""},{"$f":"IF('Radio (Desc)'!J43=\"\",\"\",'Radio (Desc)'!J43)","v":""},{"$f":"IF('Radio (Desc)'!K43=\"\",\"\",INDEX([1]CALL_SIGN!$A$2:$A$600,MATCH('Radio (Desc)'!$K43,[1]!MASTER_CALL_SIGN_DESC[#Data],0),0))","v":""},{"$f":"IF('Radio (Desc)'!L43=\"\",\"\",INDEX([1]STATION_CLASS!$A$2:$A$100,MATCH('Radio (Desc)'!$L43,[1]!MASTER_STATION_CLASS_DESC[#Data],0),0))","v":""},{"$f":"IF('Radio (Desc)'!M43=\"\",\"\",'Radio (Desc)'!M43)","v":""},{"$f":"IF('Radio (Desc)'!N43=\"\",\"\",'Radio (Desc)'!N43)","v":""},{"$f":"IF('Radio (Desc)'!O43=\"\",\"\",INDEX([1]ITS_COMM_DEV_MANUF!$A$2:$A$300,MATCH(1,([1]ITS_COMM_DEV_MANUF!$B$2:$B$300='Radio (Desc)'!$O43)*([1]ITS_COMM_DEV_MANUF!$C$2:$C$300=\"RADIO\"),0),0))","v":""},{"$f":"IF('Radio (Desc)'!P43=\"\",\"\",INDEX([1]ITS_COMM_DEV_MODEL!$A$2:$A$500,MATCH(1,([1]ITS_COMM_DEV_MODEL!$C$2:$C$500='Radio (Desc)'!$O43)*([1]ITS_COMM_DEV_MODEL!$D$2:$D$500=\"RADIO\")*([1]ITS_COMM_DEV_MODEL!$E$2:$E$500='Radio (Desc)'!$P43),0),0))","v":""},{"$f":"IF('Radio (Desc)'!Q43=\"\",\"\",'Radio (Desc)'!Q43)","v":""},{"$f":"IF('Radio (Desc)'!R43=\"\",\"\",'Radio (Desc)'!R43)","v":""},{"$f":"IF('Radio (Desc)'!S43=\"\",\"\",'Radio (Desc)'!S43)","v":""},{"$f":"IF('Radio (Desc)'!T43=\"\",\"\",'Radio (Desc)'!T43)","v":""},{"$f":"IF('Radio (Desc)'!U43=\"\",\"\",INDEX([1]DEV_INPUT_VOLTAGE!$A$2:$A$100,MATCH('Radio (Desc)'!$U43,[1]!MASTER_DEV_INPUT_VOLTAGE_DESC[#Data],0),0))","v":""},{"$f":"IF('Radio (Desc)'!V43=\"\",\"\",'Radio (Desc)'!V43)","v":""},{"$f":"IF('Radio (Desc)'!W43=\"\",\"\",'Radio (Desc)'!W43)","v":""},{"$f":"IF('Radio (Desc)'!X43=\"\",\"\",'Radio (Desc)'!X43)","v":""},{"$f":"IF('Radio (Desc)'!Y43=\"\",\"\",INDEX([1]FIBER_CONN_TYPE!$A$2:$A$100,MATCH('Radio (Desc)'!$Y43,[1]!MASTER_FIBER_CONN_TYPE_DESC[#Data],0),0))","v":""}]
[{"$f":"IF('Radio (Desc)'!A44=\"\",\"\",'Radio (Desc)'!A44)","v":""},{"$f":"IF('Radio (Desc)'!C44=\"\",\"\",\"2029\")","v":""},{"$f":"IF('Radio (Desc)'!C44=\"\",\"\",'Radio (Desc)'!C44)","v":""},{"$f":"IF('Radio (Desc)'!E44=\"\",\"\",\"RADIO\")","v":""},{"$f":"IF('Radio (Desc)'!E44=\"\",\"\",INDEX([1]RADIO_TYPE!$A$2:$A$100,MATCH('Radio (Desc)'!$E44,[1]!MASTER_RADIO_TYPE_DESC[#Data],0),0))","v":""},{"$f":"IF('Radio (Desc)'!F44=\"\",\"\",'Radio (Desc)'!F44)","v":""},{"$f":"IF('Radio (Desc)'!G44=\"\",\"\",INDEX([1]RADIO_FREQ!$A$2:$A$500,MATCH('Radio (Desc)'!$G44,[1]!MASTER_RADIO_FREQ_DESC[#Data],0),0))","v":""},{"$f":"IF('Radio (Desc)'!H44=\"\",\"\",'Radio (Desc)'!H44)","v":""},{"$f":"IF('Radio (Desc)'!I44=\"\",\"\",INDEX([1]RADIO_FREQ!$A$2:$A$500,MATCH('Radio (Desc)'!$I44,[1]!MASTER_RADIO_FREQ_DESC[#Data],0),0))","v":""},{"$f":"IF('Radio (Desc)'!J44=\"\",\"\",'Radio (Desc)'!J44)","v":""},{"$f":"IF('Radio (Desc)'!K44=\"\",\"\",INDEX([1]CALL_SIGN!$A$2:$A$600,MATCH('Radio (Desc)'!$K44,[1]!MASTER_CALL_SIGN_DESC[#Data],0),0))","v":""},{"$f":"IF('Radio (Desc)'!L44=\"\",\"\",INDEX([1]STATION_CLASS!$A$2:$A$100,MATCH('Radio (Desc)'!$L44,[1]!MASTER_STATION_CLASS_DESC[#Data],0),0))","v":""},{"$f":"IF('Radio (Desc)'!M44=\"\",\"\",'Radio (Desc)'!M44)","v":""},{"$f":"IF('Radio (Desc)'!N44=\"\",\"\",'Radio (Desc)'!N44)","v":""},{"$f":"IF('Radio (Desc)'!O44=\"\",\"\",INDEX([1]ITS_COMM_DEV_MANUF!$A$2:$A$300,MATCH(1,([1]ITS_COMM_DEV_MANUF!$B$2:$B$300='Radio (Desc)'!$O44)*([1]ITS_COMM_DEV_MANUF!$C$2:$C$300=\"RADIO\"),0),0))","v":""},{"$f":"IF('Radio (Desc)'!P44=\"\",\"\",INDEX([1]ITS_COMM_DEV_MODEL!$A$2:$A$500,MATCH(1,([1]ITS_COMM_DEV_MODEL!$C$2:$C$500='Radio (Desc)'!$O44)*([1]ITS_COMM_DEV_MODEL!$D$2:$D$500=\"RADIO\")*([1]ITS_COMM_DEV_MODEL!$E$2:$E$500='Radio (Desc)'!$P44),0),0))","v":""},{"$f":"IF('Radio (Desc)'!Q44=\"\",\"\",'Radio (Desc)'!Q44)","v":""},{"$f":"IF('Radio (Desc)'!R44=\"\",\"\",'Radio (Desc)'!R44)","v":""},{"$f":"IF('Radio (Desc)'!S44=\"\",\"\",'Radio (Desc)'!S44)","v":""},{"$f":"IF('Radio (Desc)'!T44=\"\",\"\",'Radio (Desc)'!T44)","v":""},{"$f":"IF('Radio (Desc)'!U44=\"\",\"\",INDEX([1]DEV_INPUT_VOLTAGE!$A$2:$A$100,MATCH('Radio (Desc)'!$U44,[1]!MASTER_DEV_INPUT_VOLTAGE_DESC[#Data],0),0))","v":""},{"$f":"IF('Radio (Desc)'!V44=\"\",\"\",'Radio (Desc)'!V44)","v":""},{"$f":"IF('Radio (Desc)'!W44=\"\",\"\",'Radio (Desc)'!W44)","v":""},{"$f":"IF('Radio (Desc)'!X44=\"\",\"\",'Radio (Desc)'!X44)","v":""},{"$f":"IF('Radio (Desc)'!Y44=\"\",\"\",INDEX([1]FIBER_CONN_TYPE!$A$2:$A$100,MATCH('Radio (Desc)'!$Y44,[1]!MASTER_FIBER_CONN_TYPE_DESC[#Data],0),0))","v":""}]
[{"$f":"IF('Radio (Desc)'!A45=\"\",\"\",'Radio (Desc)'!A45)","v":""},{"$f":"IF('Radio (Desc)'!C45=\"\",\"\",\"2029\")","v":""},{"$f":"IF('Radio (Desc)'!C45=\"\",\"\",'Radio (Desc)'!C45)","v":""},{"$f":"IF('Radio (Desc)'!E45=\"\",\"\",\"RADIO\")","v":""},{"$f":"IF('Radio (Desc)'!E45=\"\",\"\",INDEX([1]RADIO_TYPE!$A$2:$A$100,MATCH('Radio (Desc)'!$E45,[1]!MASTER_RADIO_TYPE_DESC[#Data],0),0))","v":""},{"$f":"IF('Radio (Desc)'!F45=\"\",\"\",'Radio (Desc)'!F45)","v":""},{"$f":"IF('Radio (Desc)'!G45=\"\",\"\",INDEX([1]RADIO_FREQ!$A$2:$A$500,MATCH('Radio (Desc)'!$G45,[1]!MASTER_RADIO_FREQ_DESC[#Data],0),0))","v":""},{"$f":"IF('Radio (Desc)'!H45=\"\",\"\",'Radio (Desc)'!H45)","v":""},{"$f":"IF('Radio (Desc)'!I45=\"\",\"\",INDEX([1]RADIO_FREQ!$A$2:$A$500,MATCH('Radio (Desc)'!$I45,[1]!MASTER_RADIO_FREQ_DESC[#Data],0),0))","v":""},{"$f":"IF('Radio (Desc)'!J45=\"\",\"\",'Radio (Desc)'!J45)","v":""},{"$f":"IF('Radio (Desc)'!K45=\"\",\"\",INDEX([1]CALL_SIGN!$A$2:$A$600,MATCH('Radio (Desc)'!$K45,[1]!MASTER_CALL_SIGN_DESC[#Data],0),0))","v":""},{"$f":"IF('Radio (Desc)'!L45=\"\",\"\",INDEX([1]STATION_CLASS!$A$2:$A$100,MATCH('Radio (Desc)'!$L45,[1]!MASTER_STATION_CLASS_DESC[#Data],0),0))","v":""},{"$f":"IF('Radio (Desc)'!M45=\"\",\"\",'Radio (Desc)'!M45)","v":""},{"$f":"IF('Radio (Desc)'!N45=\"\",\"\",'Radio (Desc)'!N45)","v":""},{"$f":"IF('Radio (Desc)'!O45=\"\",\"\",INDEX([1]ITS_COMM_DEV_MANUF!$A$2:$A$300,MATCH(1,([1]ITS_COMM_DEV_MANUF!$B$2:$B$300='Radio (Desc)'!$O45)*([1]ITS_COMM_DEV_MANUF!$C$2:$C$300=\"RADIO\"),0),0))","v":""},{"$f":"IF('Radio (Desc)'!P45=\"\",\"\",INDEX([1]ITS_COMM_DEV_MODEL!$A$2:$A$500,MATCH(1,([1]ITS_COMM_DEV_MODEL!$C$2:$C$500='Radio (Desc)'!$O45)*([1]ITS_COMM_DEV_MODEL!$D$2:$D$500=\"RADIO\")*([1]ITS_COMM_DEV_MODEL!$E$2:$E$500='Radio (Desc)'!$P45),0),0))","v":""},{"$f":"IF('Radio (Desc)'!Q45=\"\",\"\",'Radio (Desc)'!Q45)","v":""},{"$f":"IF('Radio (Desc)'!R45=\"\",\"\",'Radio (Desc)'!R45)","v":""},{"$f":"IF('Radio (Desc)'!S45=\"\",\"\",'Radio (Desc)'!S45)","v":""},{"$f":"IF('Radio (Desc)'!T45=\"\",\"\",'Radio (Desc)'!T45)","v":""},{"$f":"IF('Radio (Desc)'!U45=\"\",\"\",INDEX([1]DEV_INPUT_VOLTAGE!$A$2:$A$100,MATCH('Radio (Desc)'!$U45,[1]!MASTER_DEV_INPUT_VOLTAGE_DESC[#Data],0),0))","v":""},{"$f":"IF('Radio (Desc)'!V45=\"\",\"\",'Radio (Desc)'!V45)","v":""},{"$f":"IF('Radio (Desc)'!W45=\"\",\"\",'Radio (Desc)'!W45)","v":""},{"$f":"IF('Radio (Desc)'!X45=\"\",\"\",'Radio (Desc)'!X45)","v":""},{"$f":"IF('Radio (Desc)'!Y45=\"\",\"\",INDEX([1]FIBER_CONN_TYPE!$A$2:$A$100,MATCH('Radio (Desc)'!$Y45,[1]!MASTER_FIBER_CONN_TYPE_DESC[#Data],0),0))","v":""}]
[{"$f":"IF('Radio (Desc)'!A46=\"\",\"\",'Radio (Desc)'!A46)","v":""},{"$f":"IF('Radio (Desc)'!C46=\"\",\"\",\"2029\")","v":""},{"$f":"IF('Radio (Desc)'!C46=\"\",\"\",'Radio (Desc)'!C46)","v":""},{"$f":"IF('Radio (Desc)'!E46=\"\",\"\",\"RADIO\")","v":""},{"$f":"IF('Radio (Desc)'!E46=\"\",\"\",INDEX([1]RADIO_TYPE!$A$2:$A$100,MATCH('Radio (Desc)'!$E46,[1]!MASTER_RADIO_TYPE_DESC[#Data],0),0))","v":""},{"$f":"IF('Radio (Desc)'!F46=\"\",\"\",'Radio (Desc)'!F46)","v":""},{"$f":"IF('Radio (Desc)'!G46=\"\",\"\",INDEX([1]RADIO_FREQ!$A$2:$A$500,MATCH('Radio (Desc)'!$G46,[1]!MASTER_RADIO_FREQ_DESC[#Data],0),0))","v":""},{"$f":"IF('Radio (Desc)'!H46=\"\",\"\",'Radio (Desc)'!H46)","v":""},{"$f":"IF('Radio (Desc)'!I46=\"\",\"\",INDEX([1]RADIO_FREQ!$A$2:$A$500,MATCH('Radio (Desc)'!$I46,[1]!MASTER_RADIO_FREQ_DESC[#Data],0),0))","v":""},{"$f":"IF('Radio (Desc)'!J46=\"\",\"\",'Radio (Desc)'!J46)","v":""},{"$f":"IF('Radio (Desc)'!K46=\"\",\"\",INDEX([1]CALL_SIGN!$A$2:$A$600,MATCH('Radio (Desc)'!$K46,[1]!MASTER_CALL_SIGN_DESC[#Data],0),0))","v":""},{"$f":"IF('Radio (Desc)'!L46=\"\",\"\",INDEX([1]STATION_CLASS!$A$2:$A$100,MATCH('Radio (Desc)'!$L46,[1]!MASTER_STATION_CLASS_DESC[#Data],0),0))","v":""},{"$f":"IF('Radio (Desc)'!M46=\"\",\"\",'Radio (Desc)'!M46)","v":""},{"$f":"IF('Radio (Desc)'!N46=\"\",\"\",'Radio (Desc)'!N46)","v":""},{"$f":"IF('Radio (Desc)'!O46=\"\",\"\",INDEX([1]ITS_COMM_DEV_MANUF!$A$2:$A$300,MATCH(1,([1]ITS_COMM_DEV_MANUF!$B$2:$B$300='Radio (Desc)'!$O46)*([1]ITS_COMM_DEV_MANUF!$C$2:$C$300=\"RADIO\"),0),0))","v":""},{"$f":"IF('Radio (Desc)'!P46=\"\",\"\",INDEX([1]ITS_COMM_DEV_MODEL!$A$2:$A$500,MATCH(1,([1]ITS_COMM_DEV_MODEL!$C$2:$C$500='Radio (Desc)'!$O46)*([1]ITS_COMM_DEV_MODEL!$D$2:$D$500=\"RADIO\")*([1]ITS_COMM_DEV_MODEL!$E$2:$E$500='Radio (Desc)'!$P46),0),0))","v":""},{"$f":"IF('Radio (Desc)'!Q46=\"\",\"\",'Radio (Desc)'!Q46)","v":""},{"$f":"IF('Radio (Desc)'!R46=\"\",\"\",'Radio (Desc)'!R46)","v":""},{"$f":"IF('Radio (Desc)'!S46=\"\",\"\",'Radio (Desc)'!S46)","v":""},{"$f":"IF('Radio (Desc)'!T46=\"\",\"\",'Radio (Desc)'!T46)","v":""},{"$f":"IF('Radio (Desc)'!U46=\"\",\"\",INDEX([1]DEV_INPUT_VOLTAGE!$A$2:$A$100,MATCH('Radio (Desc)'!$U46,[1]!MASTER_DEV_INPUT_VOLTAGE_DESC[#Data],0),0))","v":""},{"$f":"IF('Radio (Desc)'!V46=\"\",\"\",'Radio (Desc)'!V46)","v":""},{"$f":"IF('Radio (Desc)'!W46=\"\",\"\",'Radio (Desc)'!W46)","v":""},{"$f":"IF('Radio (Desc)'!X46=\"\",\"\",'Radio (Desc)'!X46)","v":""},{"$f":"IF('Radio (Desc)'!Y46=\"\",\"\",INDEX([1]FIBER_CONN_TYPE!$A$2:$A$100,MATCH('Radio (Desc)'!$Y46,[1]!MASTER_FIBER_CONN_TYPE_DESC[#Data],0),0))","v":""}]
[{"$f":"IF('Radio (Desc)'!A47=\"\",\"\",'Radio (Desc)'!A47)","v":""},{"$f":"IF('Radio (Desc)'!C47=\"\",\"\",\"2029\")","v":""},{"$f":"IF('Radio (Desc)'!C47=\"\",\"\",'Radio (Desc)'!C47)","v":""},{"$f":"IF('Radio (Desc)'!E47=\"\",\"\",\"RADIO\")","v":""},{"$f":"IF('Radio (Desc)'!E47=\"\",\"\",INDEX([1]RADIO_TYPE!$A$2:$A$100,MATCH('Radio (Desc)'!$E47,[1]!MASTER_RADIO_TYPE_DESC[#Data],0),0))","v":""},{"$f":"IF('Radio (Desc)'!F47=\"\",\"\",'Radio (Desc)'!F47)","v":""},{"$f":"IF('Radio (Desc)'!G47=\"\",\"\",INDEX([1]RADIO_FREQ!$A$2:$A$500,MATCH('Radio (Desc)'!$G47,[1]!MASTER_RADIO_FREQ_DESC[#Data],0),0))","v":""},{"$f":"IF('Radio (Desc)'!H47=\"\",\"\",'Radio (Desc)'!H47)","v":""},{"$f":"IF('Radio (Desc)'!I47=\"\",\"\",INDEX([1]RADIO_FREQ!$A$2:$A$500,MATCH('Radio (Desc)'!$I47,[1]!MASTER_RADIO_FREQ_DESC[#Data],0),0))","v":""},{"$f":"IF('Radio (Desc)'!J47=\"\",\"\",'Radio (Desc)'!J47)","v":""},{"$f":"IF('Radio (Desc)'!K47=\"\",\"\",INDEX([1]CALL_SIGN!$A$2:$A$600,MATCH('Radio (Desc)'!$K47,[1]!MASTER_CALL_SIGN_DESC[#Data],0),0))","v":""},{"$f":"IF('Radio (Desc)'!L47=\"\",\"\",INDEX([1]STATION_CLASS!$A$2:$A$100,MATCH('Radio (Desc)'!$L47,[1]!MASTER_STATION_CLASS_DESC[#Data],0),0))","v":""},{"$f":"IF('Radio (Desc)'!M47=\"\",\"\",'Radio (Desc)'!M47)","v":""},{"$f":"IF('Radio (Desc)'!N47=\"\",\"\",'Radio (Desc)'!N47)","v":""},{"$f":"IF('Radio (Desc)'!O47=\"\",\"\",INDEX([1]ITS_COMM_DEV_MANUF!$A$2:$A$300,MATCH(1,([1]ITS_COMM_DEV_MANUF!$B$2:$B$300='Radio (Desc)'!$O47)*([1]ITS_COMM_DEV_MANUF!$C$2:$C$300=\"RADIO\"),0),0))","v":""},{"$f":"IF('Radio (Desc)'!P47=\"\",\"\",INDEX([1]ITS_COMM_DEV_MODEL!$A$2:$A$500,MATCH(1,([1]ITS_COMM_DEV_MODEL!$C$2:$C$500='Radio (Desc)'!$O47)*([1]ITS_COMM_DEV_MODEL!$D$2:$D$500=\"RADIO\")*([1]ITS_COMM_DEV_MODEL!$E$2:$E$500='Radio (Desc)'!$P47),0),0))","v":""},{"$f":"IF('Radio (Desc)'!Q47=\"\",\"\",'Radio (Desc)'!Q47)","v":""},{"$f":"IF('Radio (Desc)'!R47=\"\",\"\",'Radio (Desc)'!R47)","v":""},{"$f":"IF('Radio (Desc)'!S47=\"\",\"\",'Radio (Desc)'!S47)","v":""},{"$f":"IF('Radio (Desc)'!T47=\"\",\"\",'Radio (Desc)'!T47)","v":""},{"$f":"IF('Radio (Desc)'!U47=\"\",\"\",INDEX([1]DEV_INPUT_VOLTAGE!$A$2:$A$100,MATCH('Radio (Desc)'!$U47,[1]!MASTER_DEV_INPUT_VOLTAGE_DESC[#Data],0),0))","v":""},{"$f":"IF('Radio (Desc)'!V47=\"\",\"\",'Radio (Desc)'!V47)","v":""},{"$f":"IF('Radio (Desc)'!W47=\"\",\"\",'Radio (Desc)'!W47)","v":""},{"$f":"IF('Radio (Desc)'!X47=\"\",\"\",'Radio (Desc)'!X47)","v":""},{"$f":"IF('Radio (Desc)'!Y47=\"\",\"\",INDEX([1]FIBER_CONN_TYPE!$A$2:$A$100,MATCH('Radio (Desc)'!$Y47,[1]!MASTER_FIBER_CONN_TYPE_DESC[#Data],0),0))","v":""}]
[{"$f":"IF('Radio (Desc)'!A48=\"\",\"\",'Radio (Desc)'!A48)","v":""},{"$f":"IF('Radio (Desc)'!C48=\"\",\"\",\"2029\")","v":""},{"$f":"IF('Radio (Desc)'!C48=\"\",\"\",'Radio (Desc)'!C48)","v":""},{"$f":"IF('Radio (Desc)'!E48=\"\",\"\",\"RADIO\")","v":""},{"$f":"IF('Radio (Desc)'!E48=\"\",\"\",INDEX([1]RADIO_TYPE!$A$2:$A$100,MATCH('Radio (Desc)'!$E48,[1]!MASTER_RADIO_TYPE_DESC[#Data],0),0))","v":""},{"$f":"IF('Radio (Desc)'!F48=\"\",\"\",'Radio (Desc)'!F48)","v":""},{"$f":"IF('Radio (Desc)'!G48=\"\",\"\",INDEX([1]RADIO_FREQ!$A$2:$A$500,MATCH('Radio (Desc)'!$G48,[1]!MASTER_RADIO_FREQ_DESC[#Data],0),0))","v":""},{"$f":"IF('Radio (Desc)'!H48=\"\",\"\",'Radio (Desc)'!H48)","v":""},{"$f":"IF('Radio (Desc)'!I48=\"\",\"\",INDEX([1]RADIO_FREQ!$A$2:$A$500,MATCH('Radio (Desc)'!$I48,[1]!MASTER_RADIO_FREQ_DESC[#Data],0),0))","v":""},{"$f":"IF('Radio (Desc)'!J48=\"\",\"\",'Radio (Desc)'!J48)","v":""},{"$f":"IF('Radio (Desc)'!K48=\"\",\"\",INDEX([1]CALL_SIGN!$A$2:$A$600,MATCH('Radio (Desc)'!$K48,[1]!MASTER_CALL_SIGN_DESC[#Data],0),0))","v":""},{"$f":"IF('Radio (Desc)'!L48=\"\",\"\",INDEX([1]STATION_CLASS!$A$2:$A$100,MATCH('Radio (Desc)'!$L48,[1]!MASTER_STATION_CLASS_DESC[#Data],0),0))","v":""},{"$f":"IF('Radio (Desc)'!M48=\"\",\"\",'Radio (Desc)'!M48)","v":""},{"$f":"IF('Radio (Desc)'!N48=\"\",\"\",'Radio (Desc)'!N48)","v":""},{"$f":"IF('Radio (Desc)'!O48=\"\",\"\",INDEX([1]ITS_COMM_DEV_MANUF!$A$2:$A$300,MATCH(1,([1]ITS_COMM_DEV_MANUF!$B$2:$B$300='Radio (Desc)'!$O48)*([1]ITS_COMM_DEV_MANUF!$C$2:$C$300=\"RADIO\"),0),0))","v":""},{"$f":"IF('Radio (Desc)'!P48=\"\",\"\",INDEX([1]ITS_COMM_DEV_MODEL!$A$2:$A$500,MATCH(1,([1]ITS_COMM_DEV_MODEL!$C$2:$C$500='Radio (Desc)'!$O48)*([1]ITS_COMM_DEV_MODEL!$D$2:$D$500=\"RADIO\")*([1]ITS_COMM_DEV_MODEL!$E$2:$E$500='Radio (Desc)'!$P48),0),0))","v":""},{"$f":"IF('Radio (Desc)'!Q48=\"\",\"\",'Radio (Desc)'!Q48)","v":""},{"$f":"IF('Radio (Desc)'!R48=\"\",\"\",'Radio (Desc)'!R48)","v":""},{"$f":"IF('Radio (Desc)'!S48=\"\",\"\",'Radio (Desc)'!S48)","v":""},{"$f":"IF('Radio (Desc)'!T48=\"\",\"\",'Radio (Desc)'!T48)","v":""},{"$f":"IF('Radio (Desc)'!U48=\"\",\"\",INDEX([1]DEV_INPUT_VOLTAGE!$A$2:$A$100,MATCH('Radio (Desc)'!$U48,[1]!MASTER_DEV_INPUT_VOLTAGE_DESC[#Data],0),0))","v":""},{"$f":"IF('Radio (Desc)'!V48=\"\",\"\",'Radio (Desc)'!V48)","v":""},{"$f":"IF('Radio (Desc)'!W48=\"\",\"\",'Radio (Desc)'!W48)","v":""},{"$f":"IF('Radio (Desc)'!X48=\"\",\"\",'Radio (Desc)'!X48)","v":""},{"$f":"IF('Radio (Desc)'!Y48=\"\",\"\",INDEX([1]FIBER_CONN_TYPE!$A$2:$A$100,MATCH('Radio (Desc)'!$Y48,[1]!MASTER_FIBER_CONN_TYPE_DESC[#Data],0),0))","v":""}]
[{"$f":"IF('Radio (Desc)'!A49=\"\",\"\",'Radio (Desc)'!A49)","v":""},{"$f":"IF('Radio (Desc)'!C49=\"\",\"\",\"2029\")","v":""},{"$f":"IF('Radio (Desc)'!C49=\"\",\"\",'Radio (Desc)'!C49)","v":""},{"$f":"IF('Radio (Desc)'!E49=\"\",\"\",\"RADIO\")","v":""},{"$f":"IF('Radio (Desc)'!E49=\"\",\"\",INDEX([1]RADIO_TYPE!$A$2:$A$100,MATCH('Radio (Desc)'!$E49,[1]!MASTER_RADIO_TYPE_DESC[#Data],0),0))","v":""},{"$f":"IF('Radio (Desc)'!F49=\"\",\"\",'Radio (Desc)'!F49)","v":""},{"$f":"IF('Radio (Desc)'!G49=\"\",\"\",INDEX([1]RADIO_FREQ!$A$2:$A$500,MATCH('Radio (Desc)'!$G49,[1]!MASTER_RADIO_FREQ_DESC[#Data],0),0))","v":""},{"$f":"IF('Radio (Desc)'!H49=\"\",\"\",'Radio (Desc)'!H49)","v":""},{"$f":"IF('Radio (Desc)'!I49=\"\",\"\",INDEX([1]RADIO_FREQ!$A$2:$A$500,MATCH('Radio (Desc)'!$I49,[1]!MASTER_RADIO_FREQ_DESC[#Data],0),0))","v":""},{"$f":"IF('Radio (Desc)'!J49=\"\",\"\",'Radio (Desc)'!J49)","v":""},{"$f":"IF('Radio (Desc)'!K49=\"\",\"\",INDEX([1]CALL_SIGN!$A$2:$A$600,MATCH('Radio (Desc)'!$K49,[1]!MASTER_CALL_SIGN_DESC[#Data],0),0))","v":""},{"$f":"IF('Radio (Desc)'!L49=\"\",\"\",INDEX([1]STATION_CLASS!$A$2:$A$100,MATCH('Radio (Desc)'!$L49,[1]!MASTER_STATION_CLASS_DESC[#Data],0),0))","v":""},{"$f":"IF('Radio (Desc)'!M49=\"\",\"\",'Radio (Desc)'!M49)","v":""},{"$f":"IF('Radio (Desc)'!N49=\"\",\"\",'Radio (Desc)'!N49)","v":""},{"$f":"IF('Radio (Desc)'!O49=\"\",\"\",INDEX([1]ITS_COMM_DEV_MANUF!$A$2:$A$300,MATCH(1,([1]ITS_COMM_DEV_MANUF!$B$2:$B$300='Radio (Desc)'!$O49)*([1]ITS_COMM_DEV_MANUF!$C$2:$C$300=\"RADIO\"),0),0))","v":""},{"$f":"IF('Radio (Desc)'!P49=\"\",\"\",INDEX([1]ITS_COMM_DEV_MODEL!$A$2:$A$500,MATCH(1,([1]ITS_COMM_DEV_MODEL!$C$2:$C$500='Radio (Desc)'!$O49)*([1]ITS_COMM_DEV_MODEL!$D$2:$D$500=\"RADIO\")*([1]ITS_COMM_DEV_MODEL!$E$2:$E$500='Radio (Desc)'!$P49),0),0))","v":""},{"$f":"IF('Radio (Desc)'!Q49=\"\",\"\",'Radio (Desc)'!Q49)","v":""},{"$f":"IF('Radio (Desc)'!R49=\"\",\"\",'Radio (Desc)'!R49)","v":""},{"$f":"IF('Radio (Desc)'!S49=\"\",\"\",'Radio (Desc)'!S49)","v":""},{"$f":"IF('Radio (Desc)'!T49=\"\",\"\",'Radio (Desc)'!T49)","v":""},{"$f":"IF('Radio (Desc)'!U49=\"\",\"\",INDEX([1]DEV_INPUT_VOLTAGE!$A$2:$A$100,MATCH('Radio (Desc)'!$U49,[1]!MASTER_DEV_INPUT_VOLTAGE_DESC[#Data],0),0))","v":""},{"$f":"IF('Radio (Desc)'!V49=\"\",\"\",'Radio (Desc)'!V49)","v":""},{"$f":"IF('Radio (Desc)'!W49=\"\",\"\",'Radio (Desc)'!W49)","v":""},{"$f":"IF('Radio (Desc)'!X49=\"\",\"\",'Radio (Desc)'!X49)","v":""},{"$f":"IF('Radio (Desc)'!Y49=\"\",\"\",INDEX([1]FIBER_CONN_TYPE!$A$2:$A$100,MATCH('Radio (Desc)'!$Y49,[1]!MASTER_FIBER_CONN_TYPE_DESC[#Data],0),0))","v":""}]
[{"$f":"IF('Radio (Desc)'!A50=\"\",\"\",'Radio (Desc)'!A50)","v":""},{"$f":"IF('Radio (Desc)'!C50=\"\",\"\",\"2029\")","v":""},{"$f":"IF('Radio (Desc)'!C50=\"\",\"\",'Radio (Desc)'!C50)","v":""},{"$f":"IF('Radio (Desc)'!E50=\"\",\"\",\"RADIO\")","v":""},{"$f":"IF('Radio (Desc)'!E50=\"\",\"\",INDEX([1]RADIO_TYPE!$A$2:$A$100,MATCH('Radio (Desc)'!$E50,[1]!MASTER_RADIO_TYPE_DESC[#Data],0),0))","v":""},{"$f":"IF('Radio (Desc)'!F50=\"\",\"\",'Radio (Desc)'!F50)","v":""},{"$f":"IF('Radio (Desc)'!G50=\"\",\"\",INDEX([1]RADIO_FREQ!$A$2:$A$500,MATCH('Radio (Desc)'!$G50,[1]!MASTER_RADIO_FREQ_DESC[#Data],0),0))","v":""},{"$f":"IF('Radio (Desc)'!H50=\"\",\"\",'Radio (Desc)'!H50)","v":""},{"$f":"IF('Radio (Desc)'!I50=\"\",\"\",INDEX([1]RADIO_FREQ!$A$2:$A$500,MATCH('Radio (Desc)'!$I50,[1]!MASTER_RADIO_FREQ_DESC[#Data],0),0))","v":""},{"$f":"IF('Radio (Desc)'!J50=\"\",\"\",'Radio (Desc)'!J50)","v":""},{"$f":"IF('Radio (Desc)'!K50=\"\",\"\",INDEX([1]CALL_SIGN!$A$2:$A$600,MATCH('Radio (Desc)'!$K50,[1]!MASTER_CALL_SIGN_DESC[#Data],0),0))","v":""},{"$f":"IF('Radio (Desc)'!L50=\"\",\"\",INDEX([1]STATION_CLASS!$A$2:$A$100,MATCH('Radio (Desc)'!$L50,[1]!MASTER_STATION_CLASS_DESC[#Data],0),0))","v":""},{"$f":"IF('Radio (Desc)'!M50=\"\",\"\",'Radio (Desc)'!M50)","v":""},{"$f":"IF('Radio (Desc)'!N50=\"\",\"\",'Radio (Desc)'!N50)","v":""},{"$f":"IF('Radio (Desc)'!O50=\"\",\"\",INDEX([1]ITS_COMM_DEV_MANUF!$A$2:$A$300,MATCH(1,([1]ITS_COMM_DEV_MANUF!$B$2:$B$300='Radio (Desc)'!$O50)*([1]ITS_COMM_DEV_MANUF!$C$2:$C$300=\"RADIO\"),0),0))","v":""},{"$f":"IF('Radio (Desc)'!P50=\"\",\"\",INDEX([1]ITS_COMM_DEV_MODEL!$A$2:$A$500,MATCH(1,([1]ITS_COMM_DEV_MODEL!$C$2:$C$500='Radio (Desc)'!$O50)*([1]ITS_COMM_DEV_MODEL!$D$2:$D$500=\"RADIO\")*([1]ITS_COMM_DEV_MODEL!$E$2:$E$500='Radio (Desc)'!$P50),0),0))","v":""},{"$f":"IF('Radio (Desc)'!Q50=\"\",\"\",'Radio (Desc)'!Q50)","v":""},{"$f":"IF('Radio (Desc)'!R50=\"\",\"\",'Radio (Desc)'!R50)","v":""},{"$f":"IF('Radio (Desc)'!S50=\"\",\"\",'Radio (Desc)'!S50)","v":""},{"$f":"IF('Radio (Desc)'!T50=\"\",\"\",'Radio (Desc)'!T50)","v":""},{"$f":"IF('Radio (Desc)'!U50=\"\",\"\",INDEX([1]DEV_INPUT_VOLTAGE!$A$2:$A$100,MATCH('Radio (Desc)'!$U50,[1]!MASTER_DEV_INPUT_VOLTAGE_DESC[#Data],0),0))","v":""},{"$f":"IF('Radio (Desc)'!V50=\"\",\"\",'Radio (Desc)'!V50)","v":""},{"$f":"IF('Radio (Desc)'!W50=\"\",\"\",'Radio (Desc)'!W50)","v":""},{"$f":"IF('Radio (Desc)'!X50=\"\",\"\",'Radio (Desc)'!X50)","v":""},{"$f":"IF('Radio (Desc)'!Y50=\"\",\"\",INDEX([1]FIBER_CONN_TYPE!$A$2:$A$100,MATCH('Radio (Desc)'!$Y50,[1]!MASTER_FIBER_CONN_TYPE_DESC[#Data],0),0))","v":""}]
[{"$f":"IF('Radio (Desc)'!A51=\"\",\"\",'Radio (Desc)'!A51)","v":""},{"$f":"IF('Radio (Desc)'!C51=\"\",\"\",\"2029\")","v":""},{"$f":"IF('Radio (Desc)'!C51=\"\",\"\",'Radio (Desc)'!C51)","v":""},{"$f":"IF('Radio (Desc)'!E51=\"\",\"\",\"RADIO\")","v":""},{"$f":"IF('Radio (Desc)'!E51=\"\",\"\",INDEX([1]RADIO_TYPE!$A$2:$A$100,MATCH('Radio (Desc)'!$E51,[1]!MASTER_RADIO_TYPE_DESC[#Data],0),0))","v":""},{"$f":"IF('Radio (Desc)'!F51=\"\",\"\",'Radio (Desc)'!F51)","v":""},{"$f":"IF('Radio (Desc)'!G51=\"\",\"\",INDEX([1]RADIO_FREQ!$A$2:$A$500,MATCH('Radio (Desc)'!$G51,[1]!MASTER_RADIO_FREQ_DESC[#Data],0),0))","v":""},{"$f":"IF('Radio (Desc)'!H51=\"\",\"\",'Radio (Desc)'!H51)","v":""},{"$f":"IF('Radio (Desc)'!I51=\"\",\"\",INDEX([1]RADIO_FREQ!$A$2:$A$500,MATCH('Radio (Desc)'!$I51,[1]!MASTER_RADIO_FREQ_DESC[#Data],0),0))","v":""},{"$f":"IF('Radio (Desc)'!J51=\"\",\"\",'Radio (Desc)'!J51)","v":""},{"$f":"IF('Radio (Desc)'!K51=\"\",\"\",INDEX([1]CALL_SIGN!$A$2:$A$600,MATCH('Radio (Desc)'!$K51,[1]!MASTER_CALL_SIGN_DESC[#Data],0),0))","v":""},{"$f":"IF('Radio (Desc)'!L51=\"\",\"\",INDEX([1]STATION_CLASS!$A$2:$A$100,MATCH('Radio (Desc)'!$L51,[1]!MASTER_STATION_CLASS_DESC[#Data],0),0))","v":""},{"$f":"IF('Radio (Desc)'!M51=\"\",\"\",'Radio (Desc)'!M51)","v":""},{"$f":"IF('Radio (Desc)'!N51=\"\",\"\",'Radio (Desc)'!N51)","v":""},{"$f":"IF('Radio (Desc)'!O51=\"\",\"\",INDEX([1]ITS_COMM_DEV_MANUF!$A$2:$A$300,MATCH(1,([1]ITS_COMM_DEV_MANUF!$B$2:$B$300='Radio (Desc)'!$O51)*([1]ITS_COMM_DEV_MANUF!$C$2:$C$300=\"RADIO\"),0),0))","v":""},{"$f":"IF('Radio (Desc)'!P51=\"\",\"\",INDEX([1]ITS_COMM_DEV_MODEL!$A$2:$A$500,MATCH(1,([1]ITS_COMM_DEV_MODEL!$C$2:$C$500='Radio (Desc)'!$O51)*([1]ITS_COMM_DEV_MODEL!$D$2:$D$500=\"RADIO\")*([1]ITS_COMM_DEV_MODEL!$E$2:$E$500='Radio (Desc)'!$P51),0),0))","v":""},{"$f":"IF('Radio (Desc)'!Q51=\"\",\"\",'Radio (Desc)'!Q51)","v":""},{"$f":"IF('Radio (Desc)'!R51=\"\",\"\",'Radio (Desc)'!R51)","v":""},{"$f":"IF('Radio (Desc)'!S51=\"\",\"\",'Radio (Desc)'!S51)","v":""},{"$f":"IF('Radio (Desc)'!T51=\"\",\"\",'Radio (Desc)'!T51)","v":""},{"$f":"IF('Radio (Desc)'!U51=\"\",\"\",INDEX([1]DEV_INPUT_VOLTAGE!$A$2:$A$100,MATCH('Radio (Desc)'!$U51,[1]!MASTER_DEV_INPUT_VOLTAGE_DESC[#Data],0),0))","v":""},{"$f":"IF('Radio (Desc)'!V51=\"\",\"\",'Radio (Desc)'!V51)","v":""},{"$f":"IF('Radio (Desc)'!W51=\"\",\"\",'Radio (Desc)'!W51)","v":""},{"$f":"IF('Radio (Desc)'!X51=\"\",\"\",'Radio (Desc)'!X51)","v":""},{"$f":"IF('Radio (Desc)'!Y51=\"\",\"\",INDEX([1]FIBER_CONN_TYPE!$A$2:$A$100,MATCH('Radio (Desc)'!$Y51,[1]!MASTER_FIBER_CONN_TYPE_DESC[#Data],0),0))","v":""}]
[{"$f":"IF('Radio (Desc)'!A52=\"\",\"\",'Radio (Desc)'!A52)","v":""},{"$f":"IF('Radio (Desc)'!C52=\"\",\"\",\"2029\")","v":""},{"$f":"IF('Radio (Desc)'!C52=\"\",\"\",'Radio (Desc)'!C52)","v":""},{"$f":"IF('Radio (Desc)'!E52=\"\",\"\",\"RADIO\")","v":""},{"$f":"IF('Radio (Desc)'!E52=\"\",\"\",INDEX([1]RADIO_TYPE!$A$2:$A$100,MATCH('Radio (Desc)'!$E52,[1]!MASTER_RADIO_TYPE_DESC[#Data],0),0))","v":""},{"$f":"IF('Radio (Desc)'!F52=\"\",\"\",'Radio (Desc)'!F52)","v":""},{"$f":"IF('Radio (Desc)'!G52=\"\",\"\",INDEX([1]RADIO_FREQ!$A$2:$A$500,MATCH('Radio (Desc)'!$G52,[1]!MASTER_RADIO_FREQ_DESC[#Data],0),0))","v":""},{"$f":"IF('Radio (Desc)'!H52=\"\",\"\",'Radio (Desc)'!H52)","v":""},{"$f":"IF('Radio (Desc)'!I52=\"\",\"\",INDEX([1]RADIO_FREQ!$A$2:$A$500,MATCH('Radio (Desc)'!$I52,[1]!MASTER_RADIO_FREQ_DESC[#Data],0),0))","v":""},{"$f":"IF('Radio (Desc)'!J52=\"\",\"\",'Radio (Desc)'!J52)","v":""},{"$f":"IF('Radio (Desc)'!K52=\"\",\"\",INDEX([1]CALL_SIGN!$A$2:$A$600,MATCH('Radio (Desc)'!$K52,[1]!MASTER_CALL_SIGN_DESC[#Data],0),0))","v":""},{"$f":"IF('Radio (Desc)'!L52=\"\",\"\",INDEX([1]STATION_CLASS!$A$2:$A$100,MATCH('Radio (Desc)'!$L52,[1]!MASTER_STATION_CLASS_DESC[#Data],0),0))","v":""},{"$f":"IF('Radio (Desc)'!M52=\"\",\"\",'Radio (Desc)'!M52)","v":""},{"$f":"IF('Radio (Desc)'!N52=\"\",\"\",'Radio (Desc)'!N52)","v":""},{"$f":"IF('Radio (Desc)'!O52=\"\",\"\",INDEX([1]ITS_COMM_DEV_MANUF!$A$2:$A$300,MATCH(1,([1]ITS_COMM_DEV_MANUF!$B$2:$B$300='Radio (Desc)'!$O52)*([1]ITS_COMM_DEV_MANUF!$C$2:$C$300=\"RADIO\"),0),0))","v":""},{"$f":"IF('Radio (Desc)'!P52=\"\",\"\",INDEX([1]ITS_COMM_DEV_MODEL!$A$2:$A$500,MATCH(1,([1]ITS_COMM_DEV_MODEL!$C$2:$C$500='Radio (Desc)'!$O52)*([1]ITS_COMM_DEV_MODEL!$D$2:$D$500=\"RADIO\")*([1]ITS_COMM_DEV_MODEL!$E$2:$E$500='Radio (Desc)'!$P52),0),0))","v":""},{"$f":"IF('Radio (Desc)'!Q52=\"\",\"\",'Radio (Desc)'!Q52)","v":""},{"$f":"IF('Radio (Desc)'!R52=\"\",\"\",'Radio (Desc)'!R52)","v":""},{"$f":"IF('Radio (Desc)'!S52=\"\",\"\",'Radio (Desc)'!S52)","v":""},{"$f":"IF('Radio (Desc)'!T52=\"\",\"\",'Radio (Desc)'!T52)","v":""},{"$f":"IF('Radio (Desc)'!U52=\"\",\"\",INDEX([1]DEV_INPUT_VOLTAGE!$A$2:$A$100,MATCH('Radio (Desc)'!$U52,[1]!MASTER_DEV_INPUT_VOLTAGE_DESC[#Data],0),0))","v":""},{"$f":"IF('Radio (Desc)'!V52=\"\",\"\",'Radio (Desc)'!V52)","v":""},{"$f":"IF('Radio (Desc)'!W52=\"\",\"\",'Radio (Desc)'!W52)","v":""},{"$f":"IF('Radio (Desc)'!X52=\"\",\"\",'Radio (Desc)'!X52)","v":""},{"$f":"IF('Radio (Desc)'!Y52=\"\",\"\",INDEX([1]FIBER_CONN_TYPE!$A$2:$A$100,MATCH('Radio (Desc)'!$Y52,[1]!MASTER_FIBER_CONN_TYPE_DESC[#Data],0),0))","v":""}]
[{"$f":"IF('Radio (Desc)'!A53=\"\",\"\",'Radio (Desc)'!A53)","v":""},{"$f":"IF('Radio (Desc)'!C53=\"\",\"\",\"2029\")","v":""},{"$f":"IF('Radio (Desc)'!C53=\"\",\"\",'Radio (Desc)'!C53)","v":""},{"$f":"IF('Radio (Desc)'!E53=\"\",\"\",\"RADIO\")","v":""},{"$f":"IF('Radio (Desc)'!E53=\"\",\"\",INDEX([1]RADIO_TYPE!$A$2:$A$100,MATCH('Radio (Desc)'!$E53,[1]!MASTER_RADIO_TYPE_DESC[#Data],0),0))","v":""},{"$f":"IF('Radio (Desc)'!F53=\"\",\"\",'Radio (Desc)'!F53)","v":""},{"$f":"IF('Radio (Desc)'!G53=\"\",\"\",INDEX([1]RADIO_FREQ!$A$2:$A$500,MATCH('Radio (Desc)'!$G53,[1]!MASTER_RADIO_FREQ_DESC[#Data],0),0))","v":""},{"$f":"IF('Radio (Desc)'!H53=\"\",\"\",'Radio (Desc)'!H53)","v":""},{"$f":"IF('Radio (Desc)'!I53=\"\",\"\",INDEX([1]RADIO_FREQ!$A$2:$A$500,MATCH('Radio (Desc)'!$I53,[1]!MASTER_RADIO_FREQ_DESC[#Data],0),0))","v":""},{"$f":"IF('Radio (Desc)'!J53=\"\",\"\",'Radio (Desc)'!J53)","v":""},{"$f":"IF('Radio (Desc)'!K53=\"\",\"\",INDEX([1]CALL_SIGN!$A$2:$A$600,MATCH('Radio (Desc)'!$K53,[1]!MASTER_CALL_SIGN_DESC[#Data],0),0))","v":""},{"$f":"IF('Radio (Desc)'!L53=\"\",\"\",INDEX([1]STATION_CLASS!$A$2:$A$100,MATCH('Radio (Desc)'!$L53,[1]!MASTER_STATION_CLASS_DESC[#Data],0),0))","v":""},{"$f":"IF('Radio (Desc)'!M53=\"\",\"\",'Radio (Desc)'!M53)","v":""},{"$f":"IF('Radio (Desc)'!N53=\"\",\"\",'Radio (Desc)'!N53)","v":""},{"$f":"IF('Radio (Desc)'!O53=\"\",\"\",INDEX([1]ITS_COMM_DEV_MANUF!$A$2:$A$300,MATCH(1,([1]ITS_COMM_DEV_MANUF!$B$2:$B$300='Radio (Desc)'!$O53)*([1]ITS_COMM_DEV_MANUF!$C$2:$C$300=\"RADIO\"),0),0))","v":""},{"$f":"IF('Radio (Desc)'!P53=\"\",\"\",INDEX([1]ITS_COMM_DEV_MODEL!$A$2:$A$500,MATCH(1,([1]ITS_COMM_DEV_MODEL!$C$2:$C$500='Radio (Desc)'!$O53)*([1]ITS_COMM_DEV_MODEL!$D$2:$D$500=\"RADIO\")*([1]ITS_COMM_DEV_MODEL!$E$2:$E$500='Radio (Desc)'!$P53),0),0))","v":""},{"$f":"IF('Radio (Desc)'!Q53=\"\",\"\",'Radio (Desc)'!Q53)","v":""},{"$f":"IF('Radio (Desc)'!R53=\"\",\"\",'Radio (Desc)'!R53)","v":""},{"$f":"IF('Radio (Desc)'!S53=\"\",\"\",'Radio (Desc)'!S53)","v":""},{"$f":"IF('Radio (Desc)'!T53=\"\",\"\",'Radio (Desc)'!T53)","v":""},{"$f":"IF('Radio (Desc)'!U53=\"\",\"\",INDEX([1]DEV_INPUT_VOLTAGE!$A$2:$A$100,MATCH('Radio (Desc)'!$U53,[1]!MASTER_DEV_INPUT_VOLTAGE_DESC[#Data],0),0))","v":""},{"$f":"IF('Radio (Desc)'!V53=\"\",\"\",'Radio (Desc)'!V53)","v":""},{"$f":"IF('Radio (Desc)'!W53=\"\",\"\",'Radio (Desc)'!W53)","v":""},{"$f":"IF('Radio (Desc)'!X53=\"\",\"\",'Radio (Desc)'!X53)","v":""},{"$f":"IF('Radio (Desc)'!Y53=\"\",\"\",INDEX([1]FIBER_CONN_TYPE!$A$2:$A$100,MATCH('Radio (Desc)'!$Y53,[1]!MASTER_FIBER_CONN_TYPE_DESC[#Data],0),0))","v":""}]
[{"$f":"IF('Radio (Desc)'!A54=\"\",\"\",'Radio (Desc)'!A54)","v":""},{"$f":"IF('Radio (Desc)'!C54=\"\",\"\",\"2029\")","v":""},{"$f":"IF('Radio (Desc)'!C54=\"\",\"\",'Radio (Desc)'!C54)","v":""},{"$f":"IF('Radio (Desc)'!E54=\"\",\"\",\"RADIO\")","v":""},{"$f":"IF('Radio (Desc)'!E54=\"\",\"\",INDEX([1]RADIO_TYPE!$A$2:$A$100,MATCH('Radio (Desc)'!$E54,[1]!MASTER_RADIO_TYPE_DESC[#Data],0),0))","v":""},{"$f":"IF('Radio (Desc)'!F54=\"\",\"\",'Radio (Desc)'!F54)","v":""},{"$f":"IF('Radio (Desc)'!G54=\"\",\"\",INDEX([1]RADIO_FREQ!$A$2:$A$500,MATCH('Radio (Desc)'!$G54,[1]!MASTER_RADIO_FREQ_DESC[#Data],0),0))","v":""},{"$f":"IF('Radio (Desc)'!H54=\"\",\"\",'Radio (Desc)'!H54)","v":""},{"$f":"IF('Radio (Desc)'!I54=\"\",\"\",INDEX([1]RADIO_FREQ!$A$2:$A$500,MATCH('Radio (Desc)'!$I54,[1]!MASTER_RADIO_FREQ_DESC[#Data],0),0))","v":""},{"$f":"IF('Radio (Desc)'!J54=\"\",\"\",'Radio (Desc)'!J54)","v":""},{"$f":"IF('Radio (Desc)'!K54=\"\",\"\",INDEX([1]CALL_SIGN!$A$2:$A$600,MATCH('Radio (Desc)'!$K54,[1]!MASTER_CALL_SIGN_DESC[#Data],0),0))","v":""},{"$f":"IF('Radio (Desc)'!L54=\"\",\"\",INDEX([1]STATION_CLASS!$A$2:$A$100,MATCH('Radio (Desc)'!$L54,[1]!MASTER_STATION_CLASS_DESC[#Data],0),0))","v":""},{"$f":"IF('Radio (Desc)'!M54=\"\",\"\",'Radio (Desc)'!M54)","v":""},{"$f":"IF('Radio (Desc)'!N54=\"\",\"\",'Radio (Desc)'!N54)","v":""},{"$f":"IF('Radio (Desc)'!O54=\"\",\"\",INDEX([1]ITS_COMM_DEV_MANUF!$A$2:$A$300,MATCH(1,([1]ITS_COMM_DEV_MANUF!$B$2:$B$300='Radio (Desc)'!$O54)*([1]ITS_COMM_DEV_MANUF!$C$2:$C$300=\"RADIO\"),0),0))","v":""},{"$f":"IF('Radio (Desc)'!P54=\"\",\"\",INDEX([1]ITS_COMM_DEV_MODEL!$A$2:$A$500,MATCH(1,([1]ITS_COMM_DEV_MODEL!$C$2:$C$500='Radio (Desc)'!$O54)*([1]ITS_COMM_DEV_MODEL!$D$2:$D$500=\"RADIO\")*([1]ITS_COMM_DEV_MODEL!$E$2:$E$500='Radio (Desc)'!$P54),0),0))","v":""},{"$f":"IF('Radio (Desc)'!Q54=\"\",\"\",'Radio (Desc)'!Q54)","v":""},{"$f":"IF('Radio (Desc)'!R54=\"\",\"\",'Radio (Desc)'!R54)","v":""},{"$f":"IF('Radio (Desc)'!S54=\"\",\"\",'Radio (Desc)'!S54)","v":""},{"$f":"IF('Radio (Desc)'!T54=\"\",\"\",'Radio (Desc)'!T54)","v":""},{"$f":"IF('Radio (Desc)'!U54=\"\",\"\",INDEX([1]DEV_INPUT_VOLTAGE!$A$2:$A$100,MATCH('Radio (Desc)'!$U54,[1]!MASTER_DEV_INPUT_VOLTAGE_DESC[#Data],0),0))","v":""},{"$f":"IF('Radio (Desc)'!V54=\"\",\"\",'Radio (Desc)'!V54)","v":""},{"$f":"IF('Radio (Desc)'!W54=\"\",\"\",'Radio (Desc)'!W54)","v":""},{"$f":"IF('Radio (Desc)'!X54=\"\",\"\",'Radio (Desc)'!X54)","v":""},{"$f":"IF('Radio (Desc)'!Y54=\"\",\"\",INDEX([1]FIBER_CONN_TYPE!$A$2:$A$100,MATCH('Radio (Desc)'!$Y54,[1]!MASTER_FIBER_CONN_TYPE_DESC[#Data],0),0))","v":""}]
[{"$f":"IF('Radio (Desc)'!A55=\"\",\"\",'Radio (Desc)'!A55)","v":""},{"$f":"IF('Radio (Desc)'!C55=\"\",\"\",\"2029\")","v":""},{"$f":"IF('Radio (Desc)'!C55=\"\",\"\",'Radio (Desc)'!C55)","v":""},{"$f":"IF('Radio (Desc)'!E55=\"\",\"\",\"RADIO\")","v":""},{"$f":"IF('Radio (Desc)'!E55=\"\",\"\",INDEX([1]RADIO_TYPE!$A$2:$A$100,MATCH('Radio (Desc)'!$E55,[1]!MASTER_RADIO_TYPE_DESC[#Data],0),0))","v":""},{"$f":"IF('Radio (Desc)'!F55=\"\",\"\",'Radio (Desc)'!F55)","v":""},{"$f":"IF('Radio (Desc)'!G55=\"\",\"\",INDEX([1]RADIO_FREQ!$A$2:$A$500,MATCH('Radio (Desc)'!$G55,[1]!MASTER_RADIO_FREQ_DESC[#Data],0),0))","v":""},{"$f":"IF('Radio (Desc)'!H55=\"\",\"\",'Radio (Desc)'!H55)","v":""},{"$f":"IF('Radio (Desc)'!I55=\"\",\"\",INDEX([1]RADIO_FREQ!$A$2:$A$500,MATCH('Radio (Desc)'!$I55,[1]!MASTER_RADIO_FREQ_DESC[#Data],0),0))","v":""},{"$f":"IF('Radio (Desc)'!J55=\"\",\"\",'Radio (Desc)'!J55)","v":""},{"$f":"IF('Radio (Desc)'!K55=\"\",\"\",INDEX([1]CALL_SIGN!$A$2:$A$600,MATCH('Radio (Desc)'!$K55,[1]!MASTER_CALL_SIGN_DESC[#Data],0),0))","v":""},{"$f":"IF('Radio (Desc)'!L55=\"\",\"\",INDEX([1]STATION_CLASS!$A$2:$A$100,MATCH('Radio (Desc)'!$L55,[1]!MASTER_STATION_CLASS_DESC[#Data],0),0))","v":""},{"$f":"IF('Radio (Desc)'!M55=\"\",\"\",'Radio (Desc)'!M55)","v":""},{"$f":"IF('Radio (Desc)'!N55=\"\",\"\",'Radio (Desc)'!N55)","v":""},{"$f":"IF('Radio (Desc)'!O55=\"\",\"\",INDEX([1]ITS_COMM_DEV_MANUF!$A$2:$A$300,MATCH(1,([1]ITS_COMM_DEV_MANUF!$B$2:$B$300='Radio (Desc)'!$O55)*([1]ITS_COMM_DEV_MANUF!$C$2:$C$300=\"RADIO\"),0),0))","v":""},{"$f":"IF('Radio (Desc)'!P55=\"\",\"\",INDEX([1]ITS_COMM_DEV_MODEL!$A$2:$A$500,MATCH(1,([1]ITS_COMM_DEV_MODEL!$C$2:$C$500='Radio (Desc)'!$O55)*([1]ITS_COMM_DEV_MODEL!$D$2:$D$500=\"RADIO\")*([1]ITS_COMM_DEV_MODEL!$E$2:$E$500='Radio (Desc)'!$P55),0),0))","v":""},{"$f":"IF('Radio (Desc)'!Q55=\"\",\"\",'Radio (Desc)'!Q55)","v":""},{"$f":"IF('Radio (Desc)'!R55=\"\",\"\",'Radio (Desc)'!R55)","v":""},{"$f":"IF('Radio (Desc)'!S55=\"\",\"\",'Radio (Desc)'!S55)","v":""},{"$f":"IF('Radio (Desc)'!T55=\"\",\"\",'Radio (Desc)'!T55)","v":""},{"$f":"IF('Radio (Desc)'!U55=\"\",\"\",INDEX([1]DEV_INPUT_VOLTAGE!$A$2:$A$100,MATCH('Radio (Desc)'!$U55,[1]!MASTER_DEV_INPUT_VOLTAGE_DESC[#Data],0),0))","v":""},{"$f":"IF('Radio (Desc)'!V55=\"\",\"\",'Radio (Desc)'!V55)","v":""},{"$f":"IF('Radio (Desc)'!W55=\"\",\"\",'Radio (Desc)'!W55)","v":""},{"$f":"IF('Radio (Desc)'!X55=\"\",\"\",'Radio (Desc)'!X55)","v":""},{"$f":"IF('Radio (Desc)'!Y55=\"\",\"\",INDEX([1]FIBER_CONN_TYPE!$A$2:$A$100,MATCH('Radio (Desc)'!$Y55,[1]!MASTER_FIBER_CONN_TYPE_DESC[#Data],0),0))","v":""}]
[{"$f":"IF('Radio (Desc)'!A56=\"\",\"\",'Radio (Desc)'!A56)","v":""},{"$f":"IF('Radio (Desc)'!C56=\"\",\"\",\"2029\")","v":""},{"$f":"IF('Radio (Desc)'!C56=\"\",\"\",'Radio (Desc)'!C56)","v":""},{"$f":"IF('Radio (Desc)'!E56=\"\",\"\",\"RADIO\")","v":""},{"$f":"IF('Radio (Desc)'!E56=\"\",\"\",INDEX([1]RADIO_TYPE!$A$2:$A$100,MATCH('Radio (Desc)'!$E56,[1]!MASTER_RADIO_TYPE_DESC[#Data],0),0))","v":""},{"$f":"IF('Radio (Desc)'!F56=\"\",\"\",'Radio (Desc)'!F56)","v":""},{"$f":"IF('Radio (Desc)'!G56=\"\",\"\",INDEX([1]RADIO_FREQ!$A$2:$A$500,MATCH('Radio (Desc)'!$G56,[1]!MASTER_RADIO_FREQ_DESC[#Data],0),0))","v":""},{"$f":"IF('Radio (Desc)'!H56=\"\",\"\",'Radio (Desc)'!H56)","v":""},{"$f":"IF('Radio (Desc)'!I56=\"\",\"\",INDEX([1]RADIO_FREQ!$A$2:$A$500,MATCH('Radio (Desc)'!$I56,[1]!MASTER_RADIO_FREQ_DESC[#Data],0),0))","v":""},{"$f":"IF('Radio (Desc)'!J56=\"\",\"\",'Radio (Desc)'!J56)","v":""},{"$f":"IF('Radio (Desc)'!K56=\"\",\"\",INDEX([1]CALL_SIGN!$A$2:$A$600,MATCH('Radio (Desc)'!$K56,[1]!MASTER_CALL_SIGN_DESC[#Data],0),0))","v":""},{"$f":"IF('Radio (Desc)'!L56=\"\",\"\",INDEX([1]STATION_CLASS!$A$2:$A$100,MATCH('Radio (Desc)'!$L56,[1]!MASTER_STATION_CLASS_DESC[#Data],0),0))","v":""},{"$f":"IF('Radio (Desc)'!M56=\"\",\"\",'Radio (Desc)'!M56)","v":""},{"$f":"IF('Radio (Desc)'!N56=\"\",\"\",'Radio (Desc)'!N56)","v":""},{"$f":"IF('Radio (Desc)'!O56=\"\",\"\",INDEX([1]ITS_COMM_DEV_MANUF!$A$2:$A$300,MATCH(1,([1]ITS_COMM_DEV_MANUF!$B$2:$B$300='Radio (Desc)'!$O56)*([1]ITS_COMM_DEV_MANUF!$C$2:$C$300=\"RADIO\"),0),0))","v":""},{"$f":"IF('Radio (Desc)'!P56=\"\",\"\",INDEX([1]ITS_COMM_DEV_MODEL!$A$2:$A$500,MATCH(1,([1]ITS_COMM_DEV_MODEL!$C$2:$C$500='Radio (Desc)'!$O56)*([1]ITS_COMM_DEV_MODEL!$D$2:$D$500=\"RADIO\")*([1]ITS_COMM_DEV_MODEL!$E$2:$E$500='Radio (Desc)'!$P56),0),0))","v":""},{"$f":"IF('Radio (Desc)'!Q56=\"\",\"\",'Radio (Desc)'!Q56)","v":""},{"$f":"IF('Radio (Desc)'!R56=\"\",\"\",'Radio (Desc)'!R56)","v":""},{"$f":"IF('Radio (Desc)'!S56=\"\",\"\",'Radio (Desc)'!S56)","v":""},{"$f":"IF('Radio (Desc)'!T56=\"\",\"\",'Radio (Desc)'!T56)","v":""},{"$f":"IF('Radio (Desc)'!U56=\"\",\"\",INDEX([1]DEV_INPUT_VOLTAGE!$A$2:$A$100,MATCH('Radio (Desc)'!$U56,[1]!MASTER_DEV_INPUT_VOLTAGE_DESC[#Data],0),0))","v":""},{"$f":"IF('Radio (Desc)'!V56=\"\",\"\",'Radio (Desc)'!V56)","v":""},{"$f":"IF('Radio (Desc)'!W56=\"\",\"\",'Radio (Desc)'!W56)","v":""},{"$f":"IF('Radio (Desc)'!X56=\"\",\"\",'Radio (Desc)'!X56)","v":""},{"$f":"IF('Radio (Desc)'!Y56=\"\",\"\",INDEX([1]FIBER_CONN_TYPE!$A$2:$A$100,MATCH('Radio (Desc)'!$Y56,[1]!MASTER_FIBER_CONN_TYPE_DESC[#Data],0),0))","v":""}]
[{"$f":"IF('Radio (Desc)'!A57=\"\",\"\",'Radio (Desc)'!A57)","v":""},{"$f":"IF('Radio (Desc)'!C57=\"\",\"\",\"2029\")","v":""},{"$f":"IF('Radio (Desc)'!C57=\"\",\"\",'Radio (Desc)'!C57)","v":""},{"$f":"IF('Radio (Desc)'!E57=\"\",\"\",\"RADIO\")","v":""},{"$f":"IF('Radio (Desc)'!E57=\"\",\"\",INDEX([1]RADIO_TYPE!$A$2:$A$100,MATCH('Radio (Desc)'!$E57,[1]!MASTER_RADIO_TYPE_DESC[#Data],0),0))","v":""},{"$f":"IF('Radio (Desc)'!F57=\"\",\"\",'Radio (Desc)'!F57)","v":""},{"$f":"IF('Radio (Desc)'!G57=\"\",\"\",INDEX([1]RADIO_FREQ!$A$2:$A$500,MATCH('Radio (Desc)'!$G57,[1]!MASTER_RADIO_FREQ_DESC[#Data],0),0))","v":""},{"$f":"IF('Radio (Desc)'!H57=\"\",\"\",'Radio (Desc)'!H57)","v":""},{"$f":"IF('Radio (Desc)'!I57=\"\",\"\",INDEX([1]RADIO_FREQ!$A$2:$A$500,MATCH('Radio (Desc)'!$I57,[1]!MASTER_RADIO_FREQ_DESC[#Data],0),0))","v":""},{"$f":"IF('Radio (Desc)'!J57=\"\",\"\",'Radio (Desc)'!J57)","v":""},{"$f":"IF('Radio (Desc)'!K57=\"\",\"\",INDEX([1]CALL_SIGN!$A$2:$A$600,MATCH('Radio (Desc)'!$K57,[1]!MASTER_CALL_SIGN_DESC[#Data],0),0))","v":""},{"$f":"IF('Radio (Desc)'!L57=\"\",\"\",INDEX([1]STATION_CLASS!$A$2:$A$100,MATCH('Radio (Desc)'!$L57,[1]!MASTER_STATION_CLASS_DESC[#Data],0),0))","v":""},{"$f":"IF('Radio (Desc)'!M57=\"\",\"\",'Radio (Desc)'!M57)","v":""},{"$f":"IF('Radio (Desc)'!N57=\"\",\"\",'Radio (Desc)'!N57)","v":""},{"$f":"IF('Radio (Desc)'!O57=\"\",\"\",INDEX([1]ITS_COMM_DEV_MANUF!$A$2:$A$300,MATCH(1,([1]ITS_COMM_DEV_MANUF!$B$2:$B$300='Radio (Desc)'!$O57)*([1]ITS_COMM_DEV_MANUF!$C$2:$C$300=\"RADIO\"),0),0))","v":""},{"$f":"IF('Radio (Desc)'!P57=\"\",\"\",INDEX([1]ITS_COMM_DEV_MODEL!$A$2:$A$500,MATCH(1,([1]ITS_COMM_DEV_MODEL!$C$2:$C$500='Radio (Desc)'!$O57)*([1]ITS_COMM_DEV_MODEL!$D$2:$D$500=\"RADIO\")*([1]ITS_COMM_DEV_MODEL!$E$2:$E$500='Radio (Desc)'!$P57),0),0))","v":""},{"$f":"IF('Radio (Desc)'!Q57=\"\",\"\",'Radio (Desc)'!Q57)","v":""},{"$f":"IF('Radio (Desc)'!R57=\"\",\"\",'Radio (Desc)'!R57)","v":""},{"$f":"IF('Radio (Desc)'!S57=\"\",\"\",'Radio (Desc)'!S57)","v":""},{"$f":"IF('Radio (Desc)'!T57=\"\",\"\",'Radio (Desc)'!T57)","v":""},{"$f":"IF('Radio (Desc)'!U57=\"\",\"\",INDEX([1]DEV_INPUT_VOLTAGE!$A$2:$A$100,MATCH('Radio (Desc)'!$U57,[1]!MASTER_DEV_INPUT_VOLTAGE_DESC[#Data],0),0))","v":""},{"$f":"IF('Radio (Desc)'!V57=\"\",\"\",'Radio (Desc)'!V57)","v":""},{"$f":"IF('Radio (Desc)'!W57=\"\",\"\",'Radio (Desc)'!W57)","v":""},{"$f":"IF('Radio (Desc)'!X57=\"\",\"\",'Radio (Desc)'!X57)","v":""},{"$f":"IF('Radio (Desc)'!Y57=\"\",\"\",INDEX([1]FIBER_CONN_TYPE!$A$2:$A$100,MATCH('Radio (Desc)'!$Y57,[1]!MASTER_FIBER_CONN_TYPE_DESC[#Data],0),0))","v":""}]
[{"$f":"IF('Radio (Desc)'!A58=\"\",\"\",'Radio (Desc)'!A58)","v":""},{"$f":"IF('Radio (Desc)'!C58=\"\",\"\",\"2029\")","v":""},{"$f":"IF('Radio (Desc)'!C58=\"\",\"\",'Radio (Desc)'!C58)","v":""},{"$f":"IF('Radio (Desc)'!E58=\"\",\"\",\"RADIO\")","v":""},{"$f":"IF('Radio (Desc)'!E58=\"\",\"\",INDEX([1]RADIO_TYPE!$A$2:$A$100,MATCH('Radio (Desc)'!$E58,[1]!MASTER_RADIO_TYPE_DESC[#Data],0),0))","v":""},{"$f":"IF('Radio (Desc)'!F58=\"\",\"\",'Radio (Desc)'!F58)","v":""},{"$f":"IF('Radio (Desc)'!G58=\"\",\"\",INDEX([1]RADIO_FREQ!$A$2:$A$500,MATCH('Radio (Desc)'!$G58,[1]!MASTER_RADIO_FREQ_DESC[#Data],0),0))","v":""},{"$f":"IF('Radio (Desc)'!H58=\"\",\"\",'Radio (Desc)'!H58)","v":""},{"$f":"IF('Radio (Desc)'!I58=\"\",\"\",INDEX([1]RADIO_FREQ!$A$2:$A$500,MATCH('Radio (Desc)'!$I58,[1]!MASTER_RADIO_FREQ_DESC[#Data],0),0))","v":""},{"$f":"IF('Radio (Desc)'!J58=\"\",\"\",'Radio (Desc)'!J58)","v":""},{"$f":"IF('Radio (Desc)'!K58=\"\",\"\",INDEX([1]CALL_SIGN!$A$2:$A$600,MATCH('Radio (Desc)'!$K58,[1]!MASTER_CALL_SIGN_DESC[#Data],0),0))","v":""},{"$f":"IF('Radio (Desc)'!L58=\"\",\"\",INDEX([1]STATION_CLASS!$A$2:$A$100,MATCH('Radio (Desc)'!$L58,[1]!MASTER_STATION_CLASS_DESC[#Data],0),0))","v":""},{"$f":"IF('Radio (Desc)'!M58=\"\",\"\",'Radio (Desc)'!M58)","v":""},{"$f":"IF('Radio (Desc)'!N58=\"\",\"\",'Radio (Desc)'!N58)","v":""},{"$f":"IF('Radio (Desc)'!O58=\"\",\"\",INDEX([1]ITS_COMM_DEV_MANUF!$A$2:$A$300,MATCH(1,([1]ITS_COMM_DEV_MANUF!$B$2:$B$300='Radio (Desc)'!$O58)*([1]ITS_COMM_DEV_MANUF!$C$2:$C$300=\"RADIO\"),0),0))","v":""},{"$f":"IF('Radio (Desc)'!P58=\"\",\"\",INDEX([1]ITS_COMM_DEV_MODEL!$A$2:$A$500,MATCH(1,([1]ITS_COMM_DEV_MODEL!$C$2:$C$500='Radio (Desc)'!$O58)*([1]ITS_COMM_DEV_MODEL!$D$2:$D$500=\"RADIO\")*([1]ITS_COMM_DEV_MODEL!$E$2:$E$500='Radio (Desc)'!$P58),0),0))","v":""},{"$f":"IF('Radio (Desc)'!Q58=\"\",\"\",'Radio (Desc)'!Q58)","v":""},{"$f":"IF('Radio (Desc)'!R58=\"\",\"\",'Radio (Desc)'!R58)","v":""},{"$f":"IF('Radio (Desc)'!S58=\"\",\"\",'Radio (Desc)'!S58)","v":""},{"$f":"IF('Radio (Desc)'!T58=\"\",\"\",'Radio (Desc)'!T58)","v":""},{"$f":"IF('Radio (Desc)'!U58=\"\",\"\",INDEX([1]DEV_INPUT_VOLTAGE!$A$2:$A$100,MATCH('Radio (Desc)'!$U58,[1]!MASTER_DEV_INPUT_VOLTAGE_DESC[#Data],0),0))","v":""},{"$f":"IF('Radio (Desc)'!V58=\"\",\"\",'Radio (Desc)'!V58)","v":""},{"$f":"IF('Radio (Desc)'!W58=\"\",\"\",'Radio (Desc)'!W58)","v":""},{"$f":"IF('Radio (Desc)'!X58=\"\",\"\",'Radio (Desc)'!X58)","v":""},{"$f":"IF('Radio (Desc)'!Y58=\"\",\"\",INDEX([1]FIBER_CONN_TYPE!$A$2:$A$100,MATCH('Radio (Desc)'!$Y58,[1]!MASTER_FIBER_CONN_TYPE_DESC[#Data],0),0))","v":""}]
[{"$f":"IF('Radio (Desc)'!A59=\"\",\"\",'Radio (Desc)'!A59)","v":""},{"$f":"IF('Radio (Desc)'!C59=\"\",\"\",\"2029\")","v":""},{"$f":"IF('Radio (Desc)'!C59=\"\",\"\",'Radio (Desc)'!C59)","v":""},{"$f":"IF('Radio (Desc)'!E59=\"\",\"\",\"RADIO\")","v":""},{"$f":"IF('Radio (Desc)'!E59=\"\",\"\",INDEX([1]RADIO_TYPE!$A$2:$A$100,MATCH('Radio (Desc)'!$E59,[1]!MASTER_RADIO_TYPE_DESC[#Data],0),0))","v":""},{"$f":"IF('Radio (Desc)'!F59=\"\",\"\",'Radio (Desc)'!F59)","v":""},{"$f":"IF('Radio (Desc)'!G59=\"\",\"\",INDEX([1]RADIO_FREQ!$A$2:$A$500,MATCH('Radio (Desc)'!$G59,[1]!MASTER_RADIO_FREQ_DESC[#Data],0),0))","v":""},{"$f":"IF('Radio (Desc)'!H59=\"\",\"\",'Radio (Desc)'!H59)","v":""},{"$f":"IF('Radio (Desc)'!I59=\"\",\"\",INDEX([1]RADIO_FREQ!$A$2:$A$500,MATCH('Radio (Desc)'!$I59,[1]!MASTER_RADIO_FREQ_DESC[#Data],0),0))","v":""},{"$f":"IF('Radio (Desc)'!J59=\"\",\"\",'Radio (Desc)'!J59)","v":""},{"$f":"IF('Radio (Desc)'!K59=\"\",\"\",INDEX([1]CALL_SIGN!$A$2:$A$600,MATCH('Radio (Desc)'!$K59,[1]!MASTER_CALL_SIGN_DESC[#Data],0),0))","v":""},{"$f":"IF('Radio (Desc)'!L59=\"\",\"\",INDEX([1]STATION_CLASS!$A$2:$A$100,MATCH('Radio (Desc)'!$L59,[1]!MASTER_STATION_CLASS_DESC[#Data],0),0))","v":""},{"$f":"IF('Radio (Desc)'!M59=\"\",\"\",'Radio (Desc)'!M59)","v":""},{"$f":"IF('Radio (Desc)'!N59=\"\",\"\",'Radio (Desc)'!N59)","v":""},{"$f":"IF('Radio (Desc)'!O59=\"\",\"\",INDEX([1]ITS_COMM_DEV_MANUF!$A$2:$A$300,MATCH(1,([1]ITS_COMM_DEV_MANUF!$B$2:$B$300='Radio (Desc)'!$O59)*([1]ITS_COMM_DEV_MANUF!$C$2:$C$300=\"RADIO\"),0),0))","v":""},{"$f":"IF('Radio (Desc)'!P59=\"\",\"\",INDEX([1]ITS_COMM_DEV_MODEL!$A$2:$A$500,MATCH(1,([1]ITS_COMM_DEV_MODEL!$C$2:$C$500='Radio (Desc)'!$O59)*([1]ITS_COMM_DEV_MODEL!$D$2:$D$500=\"RADIO\")*([1]ITS_COMM_DEV_MODEL!$E$2:$E$500='Radio (Desc)'!$P59),0),0))","v":""},{"$f":"IF('Radio (Desc)'!Q59=\"\",\"\",'Radio (Desc)'!Q59)","v":""},{"$f":"IF('Radio (Desc)'!R59=\"\",\"\",'Radio (Desc)'!R59)","v":""},{"$f":"IF('Radio (Desc)'!S59=\"\",\"\",'Radio (Desc)'!S59)","v":""},{"$f":"IF('Radio (Desc)'!T59=\"\",\"\",'Radio (Desc)'!T59)","v":""},{"$f":"IF('Radio (Desc)'!U59=\"\",\"\",INDEX([1]DEV_INPUT_VOLTAGE!$A$2:$A$100,MATCH('Radio (Desc)'!$U59,[1]!MASTER_DEV_INPUT_VOLTAGE_DESC[#Data],0),0))","v":""},{"$f":"IF('Radio (Desc)'!V59=\"\",\"\",'Radio (Desc)'!V59)","v":""},{"$f":"IF('Radio (Desc)'!W59=\"\",\"\",'Radio (Desc)'!W59)","v":""},{"$f":"IF('Radio (Desc)'!X59=\"\",\"\",'Radio (Desc)'!X59)","v":""},{"$f":"IF('Radio (Desc)'!Y59=\"\",\"\",INDEX([1]FIBER_CONN_TYPE!$A$2:$A$100,MATCH('Radio (Desc)'!$Y59,[1]!MASTER_FIBER_CONN_TYPE_DESC[#Data],0),0))","v":""}]
[{"$f":"IF('Radio (Desc)'!A60=\"\",\"\",'Radio (Desc)'!A60)","v":""},{"$f":"IF('Radio (Desc)'!C60=\"\",\"\",\"2029\")","v":""},{"$f":"IF('Radio (Desc)'!C60=\"\",\"\",'Radio (Desc)'!C60)","v":""},{"$f":"IF('Radio (Desc)'!E60=\"\",\"\",\"RADIO\")","v":""},{"$f":"IF('Radio (Desc)'!E60=\"\",\"\",INDEX([1]RADIO_TYPE!$A$2:$A$100,MATCH('Radio (Desc)'!$E60,[1]!MASTER_RADIO_TYPE_DESC[#Data],0),0))","v":""},{"$f":"IF('Radio (Desc)'!F60=\"\",\"\",'Radio (Desc)'!F60)","v":""},{"$f":"IF('Radio (Desc)'!G60=\"\",\"\",INDEX([1]RADIO_FREQ!$A$2:$A$500,MATCH('Radio (Desc)'!$G60,[1]!MASTER_RADIO_FREQ_DESC[#Data],0),0))","v":""},{"$f":"IF('Radio (Desc)'!H60=\"\",\"\",'Radio (Desc)'!H60)","v":""},{"$f":"IF('Radio (Desc)'!I60=\"\",\"\",INDEX([1]RADIO_FREQ!$A$2:$A$500,MATCH('Radio (Desc)'!$I60,[1]!MASTER_RADIO_FREQ_DESC[#Data],0),0))","v":""},{"$f":"IF('Radio (Desc)'!J60=\"\",\"\",'Radio (Desc)'!J60)","v":""},{"$f":"IF('Radio (Desc)'!K60=\"\",\"\",INDEX([1]CALL_SIGN!$A$2:$A$600,MATCH('Radio (Desc)'!$K60,[1]!MASTER_CALL_SIGN_DESC[#Data],0),0))","v":""},{"$f":"IF('Radio (Desc)'!L60=\"\",\"\",INDEX([1]STATION_CLASS!$A$2:$A$100,MATCH('Radio (Desc)'!$L60,[1]!MASTER_STATION_CLASS_DESC[#Data],0),0))","v":""},{"$f":"IF('Radio (Desc)'!M60=\"\",\"\",'Radio (Desc)'!M60)","v":""},{"$f":"IF('Radio (Desc)'!N60=\"\",\"\",'Radio (Desc)'!N60)","v":""},{"$f":"IF('Radio (Desc)'!O60=\"\",\"\",INDEX([1]ITS_COMM_DEV_MANUF!$A$2:$A$300,MATCH(1,([1]ITS_COMM_DEV_MANUF!$B$2:$B$300='Radio (Desc)'!$O60)*([1]ITS_COMM_DEV_MANUF!$C$2:$C$300=\"RADIO\"),0),0))","v":""},{"$f":"IF('Radio (Desc)'!P60=\"\",\"\",INDEX([1]ITS_COMM_DEV_MODEL!$A$2:$A$500,MATCH(1,([1]ITS_COMM_DEV_MODEL!$C$2:$C$500='Radio (Desc)'!$O60)*([1]ITS_COMM_DEV_MODEL!$D$2:$D$500=\"RADIO\")*([1]ITS_COMM_DEV_MODEL!$E$2:$E$500='Radio (Desc)'!$P60),0),0))","v":""},{"$f":"IF('Radio (Desc)'!Q60=\"\",\"\",'Radio (Desc)'!Q60)","v":""},{"$f":"IF('Radio (Desc)'!R60=\"\",\"\",'Radio (Desc)'!R60)","v":""},{"$f":"IF('Radio (Desc)'!S60=\"\",\"\",'Radio (Desc)'!S60)","v":""},{"$f":"IF('Radio (Desc)'!T60=\"\",\"\",'Radio (Desc)'!T60)","v":""},{"$f":"IF('Radio (Desc)'!U60=\"\",\"\",INDEX([1]DEV_INPUT_VOLTAGE!$A$2:$A$100,MATCH('Radio (Desc)'!$U60,[1]!MASTER_DEV_INPUT_VOLTAGE_DESC[#Data],0),0))","v":""},{"$f":"IF('Radio (Desc)'!V60=\"\",\"\",'Radio (Desc)'!V60)","v":""},{"$f":"IF('Radio (Desc)'!W60=\"\",\"\",'Radio (Desc)'!W60)","v":""},{"$f":"IF('Radio (Desc)'!X60=\"\",\"\",'Radio (Desc)'!X60)","v":""},{"$f":"IF('Radio (Desc)'!Y60=\"\",\"\",INDEX([1]FIBER_CONN_TYPE!$A$2:$A$100,MATCH('Radio (Desc)'!$Y60,[1]!MASTER_FIBER_CONN_TYPE_DESC[#Data],0),0))","v":""}]
[{"$f":"IF('Radio (Desc)'!A61=\"\",\"\",'Radio (Desc)'!A61)","v":""},{"$f":"IF('Radio (Desc)'!C61=\"\",\"\",\"2029\")","v":""},{"$f":"IF('Radio (Desc)'!C61=\"\",\"\",'Radio (Desc)'!C61)","v":""},{"$f":"IF('Radio (Desc)'!E61=\"\",\"\",\"RADIO\")","v":""},{"$f":"IF('Radio (Desc)'!E61=\"\",\"\",INDEX([1]RADIO_TYPE!$A$2:$A$100,MATCH('Radio (Desc)'!$E61,[1]!MASTER_RADIO_TYPE_DESC[#Data],0),0))","v":""},{"$f":"IF('Radio (Desc)'!F61=\"\",\"\",'Radio (Desc)'!F61)","v":""},{"$f":"IF('Radio (Desc)'!G61=\"\",\"\",INDEX([1]RADIO_FREQ!$A$2:$A$500,MATCH('Radio (Desc)'!$G61,[1]!MASTER_RADIO_FREQ_DESC[#Data],0),0))","v":""},{"$f":"IF('Radio (Desc)'!H61=\"\",\"\",'Radio (Desc)'!H61)","v":""},{"$f":"IF('Radio (Desc)'!I61=\"\",\"\",INDEX([1]RADIO_FREQ!$A$2:$A$500,MATCH('Radio (Desc)'!$I61,[1]!MASTER_RADIO_FREQ_DESC[#Data],0),0))","v":""},{"$f":"IF('Radio (Desc)'!J61=\"\",\"\",'Radio (Desc)'!J61)","v":""},{"$f":"IF('Radio (Desc)'!K61=\"\",\"\",INDEX([1]CALL_SIGN!$A$2:$A$600,MATCH('Radio (Desc)'!$K61,[1]!MASTER_CALL_SIGN_DESC[#Data],0),0))","v":""},{"$f":"IF('Radio (Desc)'!L61=\"\",\"\",INDEX([1]STATION_CLASS!$A$2:$A$100,MATCH('Radio (Desc)'!$L61,[1]!MASTER_STATION_CLASS_DESC[#Data],0),0))","v":""},{"$f":"IF('Radio (Desc)'!M61=\"\",\"\",'Radio (Desc)'!M61)","v":""},{"$f":"IF('Radio (Desc)'!N61=\"\",\"\",'Radio (Desc)'!N61)","v":""},{"$f":"IF('Radio (Desc)'!O61=\"\",\"\",INDEX([1]ITS_COMM_DEV_MANUF!$A$2:$A$300,MATCH(1,([1]ITS_COMM_DEV_MANUF!$B$2:$B$300='Radio (Desc)'!$O61)*([1]ITS_COMM_DEV_MANUF!$C$2:$C$300=\"RADIO\"),0),0))","v":""},{"$f":"IF('Radio (Desc)'!P61=\"\",\"\",INDEX([1]ITS_COMM_DEV_MODEL!$A$2:$A$500,MATCH(1,([1]ITS_COMM_DEV_MODEL!$C$2:$C$500='Radio (Desc)'!$O61)*([1]ITS_COMM_DEV_MODEL!$D$2:$D$500=\"RADIO\")*([1]ITS_COMM_DEV_MODEL!$E$2:$E$500='Radio (Desc)'!$P61),0),0))","v":""},{"$f":"IF('Radio (Desc)'!Q61=\"\",\"\",'Radio (Desc)'!Q61)","v":""},{"$f":"IF('Radio (Desc)'!R61=\"\",\"\",'Radio (Desc)'!R61)","v":""},{"$f":"IF('Radio (Desc)'!S61=\"\",\"\",'Radio (Desc)'!S61)","v":""},{"$f":"IF('Radio (Desc)'!T61=\"\",\"\",'Radio (Desc)'!T61)","v":""},{"$f":"IF('Radio (Desc)'!U61=\"\",\"\",INDEX([1]DEV_INPUT_VOLTAGE!$A$2:$A$100,MATCH('Radio (Desc)'!$U61,[1]!MASTER_DEV_INPUT_VOLTAGE_DESC[#Data],0),0))","v":""},{"$f":"IF('Radio (Desc)'!V61=\"\",\"\",'Radio (Desc)'!V61)","v":""},{"$f":"IF('Radio (Desc)'!W61=\"\",\"\",'Radio (Desc)'!W61)","v":""},{"$f":"IF('Radio (Desc)'!X61=\"\",\"\",'Radio (Desc)'!X61)","v":""},{"$f":"IF('Radio (Desc)'!Y61=\"\",\"\",INDEX([1]FIBER_CONN_TYPE!$A$2:$A$100,MATCH('Radio (Desc)'!$Y61,[1]!MASTER_FIBER_CONN_TYPE_DESC[#Data],0),0))","v":""}]
[{"$f":"IF('Radio (Desc)'!A62=\"\",\"\",'Radio (Desc)'!A62)","v":""},{"$f":"IF('Radio (Desc)'!C62=\"\",\"\",\"2029\")","v":""},{"$f":"IF('Radio (Desc)'!C62=\"\",\"\",'Radio (Desc)'!C62)","v":""},{"$f":"IF('Radio (Desc)'!E62=\"\",\"\",\"RADIO\")","v":""},{"$f":"IF('Radio (Desc)'!E62=\"\",\"\",INDEX([1]RADIO_TYPE!$A$2:$A$100,MATCH('Radio (Desc)'!$E62,[1]!MASTER_RADIO_TYPE_DESC[#Data],0),0))","v":""},{"$f":"IF('Radio (Desc)'!F62=\"\",\"\",'Radio (Desc)'!F62)","v":""},{"$f":"IF('Radio (Desc)'!G62=\"\",\"\",INDEX([1]RADIO_FREQ!$A$2:$A$500,MATCH('Radio (Desc)'!$G62,[1]!MASTER_RADIO_FREQ_DESC[#Data],0),0))","v":""},{"$f":"IF('Radio (Desc)'!H62=\"\",\"\",'Radio (Desc)'!H62)","v":""},{"$f":"IF('Radio (Desc)'!I62=\"\",\"\",INDEX([1]RADIO_FREQ!$A$2:$A$500,MATCH('Radio (Desc)'!$I62,[1]!MASTER_RADIO_FREQ_DESC[#Data],0),0))","v":""},{"$f":"IF('Radio (Desc)'!J62=\"\",\"\",'Radio (Desc)'!J62)","v":""},{"$f":"IF('Radio (Desc)'!K62=\"\",\"\",INDEX([1]CALL_SIGN!$A$2:$A$600,MATCH('Radio (Desc)'!$K62,[1]!MASTER_CALL_SIGN_DESC[#Data],0),0))","v":""},{"$f":"IF('Radio (Desc)'!L62=\"\",\"\",INDEX([1]STATION_CLASS!$A$2:$A$100,MATCH('Radio (Desc)'!$L62,[1]!MASTER_STATION_CLASS_DESC[#Data],0),0))","v":""},{"$f":"IF('Radio (Desc)'!M62=\"\",\"\",'Radio (Desc)'!M62)","v":""},{"$f":"IF('Radio (Desc)'!N62=\"\",\"\",'Radio (Desc)'!N62)","v":""},{"$f":"IF('Radio (Desc)'!O62=\"\",\"\",INDEX([1]ITS_COMM_DEV_MANUF!$A$2:$A$300,MATCH(1,([1]ITS_COMM_DEV_MANUF!$B$2:$B$300='Radio (Desc)'!$O62)*([1]ITS_COMM_DEV_MANUF!$C$2:$C$300=\"RADIO\"),0),0))","v":""},{"$f":"IF('Radio (Desc)'!P62=\"\",\"\",INDEX([1]ITS_COMM_DEV_MODEL!$A$2:$A$500,MATCH(1,([1]ITS_COMM_DEV_MODEL!$C$2:$C$500='Radio (Desc)'!$O62)*([1]ITS_COMM_DEV_MODEL!$D$2:$D$500=\"RADIO\")*([1]ITS_COMM_DEV_MODEL!$E$2:$E$500='Radio (Desc)'!$P62),0),0))","v":""},{"$f":"IF('Radio (Desc)'!Q62=\"\",\"\",'Radio (Desc)'!Q62)","v":""},{"$f":"IF('Radio (Desc)'!R62=\"\",\"\",'Radio (Desc)'!R62)","v":""},{"$f":"IF('Radio (Desc)'!S62=\"\",\"\",'Radio (Desc)'!S62)","v":""},{"$f":"IF('Radio (Desc)'!T62=\"\",\"\",'Radio (Desc)'!T62)","v":""},{"$f":"IF('Radio (Desc)'!U62=\"\",\"\",INDEX([1]DEV_INPUT_VOLTAGE!$A$2:$A$100,MATCH('Radio (Desc)'!$U62,[1]!MASTER_DEV_INPUT_VOLTAGE_DESC[#Data],0),0))","v":""},{"$f":"IF('Radio (Desc)'!V62=\"\",\"\",'Radio (Desc)'!V62)","v":""},{"$f":"IF('Radio (Desc)'!W62=\"\",\"\",'Radio (Desc)'!W62)","v":""},{"$f":"IF('Radio (Desc)'!X62=\"\",\"\",'Radio (Desc)'!X62)","v":""},{"$f":"IF('Radio (Desc)'!Y62=\"\",\"\",INDEX([1]FIBER_CONN_TYPE!$A$2:$A$100,MATCH('Radio (Desc)'!$Y62,[1]!MASTER_FIBER_CONN_TYPE_DESC[#Data],0),0))","v":""}]
[{"$f":"IF('Radio (Desc)'!A63=\"\",\"\",'Radio (Desc)'!A63)","v":""},{"$f":"IF('Radio (Desc)'!C63=\"\",\"\",\"2029\")","v":""},{"$f":"IF('Radio (Desc)'!C63=\"\",\"\",'Radio (Desc)'!C63)","v":""},{"$f":"IF('Radio (Desc)'!E63=\"\",\"\",\"RADIO\")","v":""},{"$f":"IF('Radio (Desc)'!E63=\"\",\"\",INDEX([1]RADIO_TYPE!$A$2:$A$100,MATCH('Radio (Desc)'!$E63,[1]!MASTER_RADIO_TYPE_DESC[#Data],0),0))","v":""},{"$f":"IF('Radio (Desc)'!F63=\"\",\"\",'Radio (Desc)'!F63)","v":""},{"$f":"IF('Radio (Desc)'!G63=\"\",\"\",INDEX([1]RADIO_FREQ!$A$2:$A$500,MATCH('Radio (Desc)'!$G63,[1]!MASTER_RADIO_FREQ_DESC[#Data],0),0))","v":""},{"$f":"IF('Radio (Desc)'!H63=\"\",\"\",'Radio (Desc)'!H63)","v":""},{"$f":"IF('Radio (Desc)'!I63=\"\",\"\",INDEX([1]RADIO_FREQ!$A$2:$A$500,MATCH('Radio (Desc)'!$I63,[1]!MASTER_RADIO_FREQ_DESC[#Data],0),0))","v":""},{"$f":"IF('Radio (Desc)'!J63=\"\",\"\",'Radio (Desc)'!J63)","v":""},{"$f":"IF('Radio (Desc)'!K63=\"\",\"\",INDEX([1]CALL_SIGN!$A$2:$A$600,MATCH('Radio (Desc)'!$K63,[1]!MASTER_CALL_SIGN_DESC[#Data],0),0))","v":""},{"$f":"IF('Radio (Desc)'!L63=\"\",\"\",INDEX([1]STATION_CLASS!$A$2:$A$100,MATCH('Radio (Desc)'!$L63,[1]!MASTER_STATION_CLASS_DESC[#Data],0),0))","v":""},{"$f":"IF('Radio (Desc)'!M63=\"\",\"\",'Radio (Desc)'!M63)","v":""},{"$f":"IF('Radio (Desc)'!N63=\"\",\"\",'Radio (Desc)'!N63)","v":""},{"$f":"IF('Radio (Desc)'!O63=\"\",\"\",INDEX([1]ITS_COMM_DEV_MANUF!$A$2:$A$300,MATCH(1,([1]ITS_COMM_DEV_MANUF!$B$2:$B$300='Radio (Desc)'!$O63)*([1]ITS_COMM_DEV_MANUF!$C$2:$C$300=\"RADIO\"),0),0))","v":""},{"$f":"IF('Radio (Desc)'!P63=\"\",\"\",INDEX([1]ITS_COMM_DEV_MODEL!$A$2:$A$500,MATCH(1,([1]ITS_COMM_DEV_MODEL!$C$2:$C$500='Radio (Desc)'!$O63)*([1]ITS_COMM_DEV_MODEL!$D$2:$D$500=\"RADIO\")*([1]ITS_COMM_DEV_MODEL!$E$2:$E$500='Radio (Desc)'!$P63),0),0))","v":""},{"$f":"IF('Radio (Desc)'!Q63=\"\",\"\",'Radio (Desc)'!Q63)","v":""},{"$f":"IF('Radio (Desc)'!R63=\"\",\"\",'Radio (Desc)'!R63)","v":""},{"$f":"IF('Radio (Desc)'!S63=\"\",\"\",'Radio (Desc)'!S63)","v":""},{"$f":"IF('Radio (Desc)'!T63=\"\",\"\",'Radio (Desc)'!T63)","v":""},{"$f":"IF('Radio (Desc)'!U63=\"\",\"\",INDEX([1]DEV_INPUT_VOLTAGE!$A$2:$A$100,MATCH('Radio (Desc)'!$U63,[1]!MASTER_DEV_INPUT_VOLTAGE_DESC[#Data],0),0))","v":""},{"$f":"IF('Radio (Desc)'!V63=\"\",\"\",'Radio (Desc)'!V63)","v":""},{"$f":"IF('Radio (Desc)'!W63=\"\",\"\",'Radio (Desc)'!W63)","v":""},{"$f":"IF('Radio (Desc)'!X63=\"\",\"\",'Radio (Desc)'!X63)","v":""},{"$f":"IF('Radio (Desc)'!Y63=\"\",\"\",INDEX([1]FIBER_CONN_TYPE!$A$2:$A$100,MATCH('Radio (Desc)'!$Y63,[1]!MASTER_FIBER_CONN_TYPE_DESC[#Data],0),0))","v":""}]
[{"$f":"IF('Radio (Desc)'!A64=\"\",\"\",'Radio (Desc)'!A64)","v":""},{"$f":"IF('Radio (Desc)'!C64=\"\",\"\",\"2029\")","v":""},{"$f":"IF('Radio (Desc)'!C64=\"\",\"\",'Radio (Desc)'!C64)","v":""},{"$f":"IF('Radio (Desc)'!E64=\"\",\"\",\"RADIO\")","v":""},{"$f":"IF('Radio (Desc)'!E64=\"\",\"\",INDEX([1]RADIO_TYPE!$A$2:$A$100,MATCH('Radio (Desc)'!$E64,[1]!MASTER_RADIO_TYPE_DESC[#Data],0),0))","v":""},{"$f":"IF('Radio (Desc)'!F64=\"\",\"\",'Radio (Desc)'!F64)","v":""},{"$f":"IF('Radio (Desc)'!G64=\"\",\"\",INDEX([1]RADIO_FREQ!$A$2:$A$500,MATCH('Radio (Desc)'!$G64,[1]!MASTER_RADIO_FREQ_DESC[#Data],0),0))","v":""},{"$f":"IF('Radio (Desc)'!H64=\"\",\"\",'Radio (Desc)'!H64)","v":""},{"$f":"IF('Radio (Desc)'!I64=\"\",\"\",INDEX([1]RADIO_FREQ!$A$2:$A$500,MATCH('Radio (Desc)'!$I64,[1]!MASTER_RADIO_FREQ_DESC[#Data],0),0))","v":""},{"$f":"IF('Radio (Desc)'!J64=\"\",\"\",'Radio (Desc)'!J64)","v":""},{"$f":"IF('Radio (Desc)'!K64=\"\",\"\",INDEX([1]CALL_SIGN!$A$2:$A$600,MATCH('Radio (Desc)'!$K64,[1]!MASTER_CALL_SIGN_DESC[#Data],0),0))","v":""},{"$f":"IF('Radio (Desc)'!L64=\"\",\"\",INDEX([1]STATION_CLASS!$A$2:$A$100,MATCH('Radio (Desc)'!$L64,[1]!MASTER_STATION_CLASS_DESC[#Data],0),0))","v":""},{"$f":"IF('Radio (Desc)'!M64=\"\",\"\",'Radio (Desc)'!M64)","v":""},{"$f":"IF('Radio (Desc)'!N64=\"\",\"\",'Radio (Desc)'!N64)","v":""},{"$f":"IF('Radio (Desc)'!O64=\"\",\"\",INDEX([1]ITS_COMM_DEV_MANUF!$A$2:$A$300,MATCH(1,([1]ITS_COMM_DEV_MANUF!$B$2:$B$300='Radio (Desc)'!$O64)*([1]ITS_COMM_DEV_MANUF!$C$2:$C$300=\"RADIO\"),0),0))","v":""},{"$f":"IF('Radio (Desc)'!P64=\"\",\"\",INDEX([1]ITS_COMM_DEV_MODEL!$A$2:$A$500,MATCH(1,([1]ITS_COMM_DEV_MODEL!$C$2:$C$500='Radio (Desc)'!$O64)*([1]ITS_COMM_DEV_MODEL!$D$2:$D$500=\"RADIO\")*([1]ITS_COMM_DEV_MODEL!$E$2:$E$500='Radio (Desc)'!$P64),0),0))","v":""},{"$f":"IF('Radio (Desc)'!Q64=\"\",\"\",'Radio (Desc)'!Q64)","v":""},{"$f":"IF('Radio (Desc)'!R64=\"\",\"\",'Radio (Desc)'!R64)","v":""},{"$f":"IF('Radio (Desc)'!S64=\"\",\"\",'Radio (Desc)'!S64)","v":""},{"$f":"IF('Radio (Desc)'!T64=\"\",\"\",'Radio (Desc)'!T64)","v":""},{"$f":"IF('Radio (Desc)'!U64=\"\",\"\",INDEX([1]DEV_INPUT_VOLTAGE!$A$2:$A$100,MATCH('Radio (Desc)'!$U64,[1]!MASTER_DEV_INPUT_VOLTAGE_DESC[#Data],0),0))","v":""},{"$f":"IF('Radio (Desc)'!V64=\"\",\"\",'Radio (Desc)'!V64)","v":""},{"$f":"IF('Radio (Desc)'!W64=\"\",\"\",'Radio (Desc)'!W64)","v":""},{"$f":"IF('Radio (Desc)'!X64=\"\",\"\",'Radio (Desc)'!X64)","v":""},{"$f":"IF('Radio (Desc)'!Y64=\"\",\"\",INDEX([1]FIBER_CONN_TYPE!$A$2:$A$100,MATCH('Radio (Desc)'!$Y64,[1]!MASTER_FIBER_CONN_TYPE_DESC[#Data],0),0))","v":""}]
[{"$f":"IF('Radio (Desc)'!A65=\"\",\"\",'Radio (Desc)'!A65)","v":""},{"$f":"IF('Radio (Desc)'!C65=\"\",\"\",\"2029\")","v":""},{"$f":"IF('Radio (Desc)'!C65=\"\",\"\",'Radio (Desc)'!C65)","v":""},{"$f":"IF('Radio (Desc)'!E65=\"\",\"\",\"RADIO\")","v":""},{"$f":"IF('Radio (Desc)'!E65=\"\",\"\",INDEX([1]RADIO_TYPE!$A$2:$A$100,MATCH('Radio (Desc)'!$E65,[1]!MASTER_RADIO_TYPE_DESC[#Data],0),0))","v":""},{"$f":"IF('Radio (Desc)'!F65=\"\",\"\",'Radio (Desc)'!F65)","v":""},{"$f":"IF('Radio (Desc)'!G65=\"\",\"\",INDEX([1]RADIO_FREQ!$A$2:$A$500,MATCH('Radio (Desc)'!$G65,[1]!MASTER_RADIO_FREQ_DESC[#Data],0),0))","v":""},{"$f":"IF('Radio (Desc)'!H65=\"\",\"\",'Radio (Desc)'!H65)","v":""},{"$f":"IF('Radio (Desc)'!I65=\"\",\"\",INDEX([1]RADIO_FREQ!$A$2:$A$500,MATCH('Radio (Desc)'!$I65,[1]!MASTER_RADIO_FREQ_DESC[#Data],0),0))","v":""},{"$f":"IF('Radio (Desc)'!J65=\"\",\"\",'Radio (Desc)'!J65)","v":""},{"$f":"IF('Radio (Desc)'!K65=\"\",\"\",INDEX([1]CALL_SIGN!$A$2:$A$600,MATCH('Radio (Desc)'!$K65,[1]!MASTER_CALL_SIGN_DESC[#Data],0),0))","v":""},{"$f":"IF('Radio (Desc)'!L65=\"\",\"\",INDEX([1]STATION_CLASS!$A$2:$A$100,MATCH('Radio (Desc)'!$L65,[1]!MASTER_STATION_CLASS_DESC[#Data],0),0))","v":""},{"$f":"IF('Radio (Desc)'!M65=\"\",\"\",'Radio (Desc)'!M65)","v":""},{"$f":"IF('Radio (Desc)'!N65=\"\",\"\",'Radio (Desc)'!N65)","v":""},{"$f":"IF('Radio (Desc)'!O65=\"\",\"\",INDEX([1]ITS_COMM_DEV_MANUF!$A$2:$A$300,MATCH(1,([1]ITS_COMM_DEV_MANUF!$B$2:$B$300='Radio (Desc)'!$O65)*([1]ITS_COMM_DEV_MANUF!$C$2:$C$300=\"RADIO\"),0),0))","v":""},{"$f":"IF('Radio (Desc)'!P65=\"\",\"\",INDEX([1]ITS_COMM_DEV_MODEL!$A$2:$A$500,MATCH(1,([1]ITS_COMM_DEV_MODEL!$C$2:$C$500='Radio (Desc)'!$O65)*([1]ITS_COMM_DEV_MODEL!$D$2:$D$500=\"RADIO\")*([1]ITS_COMM_DEV_MODEL!$E$2:$E$500='Radio (Desc)'!$P65),0),0))","v":""},{"$f":"IF('Radio (Desc)'!Q65=\"\",\"\",'Radio (Desc)'!Q65)","v":""},{"$f":"IF('Radio (Desc)'!R65=\"\",\"\",'Radio (Desc)'!R65)","v":""},{"$f":"IF('Radio (Desc)'!S65=\"\",\"\",'Radio (Desc)'!S65)","v":""},{"$f":"IF('Radio (Desc)'!T65=\"\",\"\",'Radio (Desc)'!T65)","v":""},{"$f":"IF('Radio (Desc)'!U65=\"\",\"\",INDEX([1]DEV_INPUT_VOLTAGE!$A$2:$A$100,MATCH('Radio (Desc)'!$U65,[1]!MASTER_DEV_INPUT_VOLTAGE_DESC[#Data],0),0))","v":""},{"$f":"IF('Radio (Desc)'!V65=\"\",\"\",'Radio (Desc)'!V65)","v":""},{"$f":"IF('Radio (Desc)'!W65=\"\",\"\",'Radio (Desc)'!W65)","v":""},{"$f":"IF('Radio (Desc)'!X65=\"\",\"\",'Radio (Desc)'!X65)","v":""},{"$f":"IF('Radio (Desc)'!Y65=\"\",\"\",INDEX([1]FIBER_CONN_TYPE!$A$2:$A$100,MATCH('Radio (Desc)'!$Y65,[1]!MASTER_FIBER_CONN_TYPE_DESC[#Data],0),0))","v":""}]
[{"$f":"IF('Radio (Desc)'!A66=\"\",\"\",'Radio (Desc)'!A66)","v":""},{"$f":"IF('Radio (Desc)'!C66=\"\",\"\",\"2029\")","v":""},{"$f":"IF('Radio (Desc)'!C66=\"\",\"\",'Radio (Desc)'!C66)","v":""},{"$f":"IF('Radio (Desc)'!E66=\"\",\"\",\"RADIO\")","v":""},{"$f":"IF('Radio (Desc)'!E66=\"\",\"\",INDEX([1]RADIO_TYPE!$A$2:$A$100,MATCH('Radio (Desc)'!$E66,[1]!MASTER_RADIO_TYPE_DESC[#Data],0),0))","v":""},{"$f":"IF('Radio (Desc)'!F66=\"\",\"\",'Radio (Desc)'!F66)","v":""},{"$f":"IF('Radio (Desc)'!G66=\"\",\"\",INDEX([1]RADIO_FREQ!$A$2:$A$500,MATCH('Radio (Desc)'!$G66,[1]!MASTER_RADIO_FREQ_DESC[#Data],0),0))","v":""},{"$f":"IF('Radio (Desc)'!H66=\"\",\"\",'Radio (Desc)'!H66)","v":""},{"$f":"IF('Radio (Desc)'!I66=\"\",\"\",INDEX([1]RADIO_FREQ!$A$2:$A$500,MATCH('Radio (Desc)'!$I66,[1]!MASTER_RADIO_FREQ_DESC[#Data],0),0))","v":""},{"$f":"IF('Radio (Desc)'!J66=\"\",\"\",'Radio (Desc)'!J66)","v":""},{"$f":"IF('Radio (Desc)'!K66=\"\",\"\",INDEX([1]CALL_SIGN!$A$2:$A$600,MATCH('Radio (Desc)'!$K66,[1]!MASTER_CALL_SIGN_DESC[#Data],0),0))","v":""},{"$f":"IF('Radio (Desc)'!L66=\"\",\"\",INDEX([1]STATION_CLASS!$A$2:$A$100,MATCH('Radio (Desc)'!$L66,[1]!MASTER_STATION_CLASS_DESC[#Data],0),0))","v":""},{"$f":"IF('Radio (Desc)'!M66=\"\",\"\",'Radio (Desc)'!M66)","v":""},{"$f":"IF('Radio (Desc)'!N66=\"\",\"\",'Radio (Desc)'!N66)","v":""},{"$f":"IF('Radio (Desc)'!O66=\"\",\"\",INDEX([1]ITS_COMM_DEV_MANUF!$A$2:$A$300,MATCH(1,([1]ITS_COMM_DEV_MANUF!$B$2:$B$300='Radio (Desc)'!$O66)*([1]ITS_COMM_DEV_MANUF!$C$2:$C$300=\"RADIO\"),0),0))","v":""},{"$f":"IF('Radio (Desc)'!P66=\"\",\"\",INDEX([1]ITS_COMM_DEV_MODEL!$A$2:$A$500,MATCH(1,([1]ITS_COMM_DEV_MODEL!$C$2:$C$500='Radio (Desc)'!$O66)*([1]ITS_COMM_DEV_MODEL!$D$2:$D$500=\"RADIO\")*([1]ITS_COMM_DEV_MODEL!$E$2:$E$500='Radio (Desc)'!$P66),0),0))","v":""},{"$f":"IF('Radio (Desc)'!Q66=\"\",\"\",'Radio (Desc)'!Q66)","v":""},{"$f":"IF('Radio (Desc)'!R66=\"\",\"\",'Radio (Desc)'!R66)","v":""},{"$f":"IF('Radio (Desc)'!S66=\"\",\"\",'Radio (Desc)'!S66)","v":""},{"$f":"IF('Radio (Desc)'!T66=\"\",\"\",'Radio (Desc)'!T66)","v":""},{"$f":"IF('Radio (Desc)'!U66=\"\",\"\",INDEX([1]DEV_INPUT_VOLTAGE!$A$2:$A$100,MATCH('Radio (Desc)'!$U66,[1]!MASTER_DEV_INPUT_VOLTAGE_DESC[#Data],0),0))","v":""},{"$f":"IF('Radio (Desc)'!V66=\"\",\"\",'Radio (Desc)'!V66)","v":""},{"$f":"IF('Radio (Desc)'!W66=\"\",\"\",'Radio (Desc)'!W66)","v":""},{"$f":"IF('Radio (Desc)'!X66=\"\",\"\",'Radio (Desc)'!X66)","v":""},{"$f":"IF('Radio (Desc)'!Y66=\"\",\"\",INDEX([1]FIBER_CONN_TYPE!$A$2:$A$100,MATCH('Radio (Desc)'!$Y66,[1]!MASTER_FIBER_CONN_TYPE_DESC[#Data],0),0))","v":""}]
[{"$f":"IF('Radio (Desc)'!A67=\"\",\"\",'Radio (Desc)'!A67)","v":""},{"$f":"IF('Radio (Desc)'!C67=\"\",\"\",\"2029\")","v":""},{"$f":"IF('Radio (Desc)'!C67=\"\",\"\",'Radio (Desc)'!C67)","v":""},{"$f":"IF('Radio (Desc)'!E67=\"\",\"\",\"RADIO\")","v":""},{"$f":"IF('Radio (Desc)'!E67=\"\",\"\",INDEX([1]RADIO_TYPE!$A$2:$A$100,MATCH('Radio (Desc)'!$E67,[1]!MASTER_RADIO_TYPE_DESC[#Data],0),0))","v":""},{"$f":"IF('Radio (Desc)'!F67=\"\",\"\",'Radio (Desc)'!F67)","v":""},{"$f":"IF('Radio (Desc)'!G67=\"\",\"\",INDEX([1]RADIO_FREQ!$A$2:$A$500,MATCH('Radio (Desc)'!$G67,[1]!MASTER_RADIO_FREQ_DESC[#Data],0),0))","v":""},{"$f":"IF('Radio (Desc)'!H67=\"\",\"\",'Radio (Desc)'!H67)","v":""},{"$f":"IF('Radio (Desc)'!I67=\"\",\"\",INDEX([1]RADIO_FREQ!$A$2:$A$500,MATCH('Radio (Desc)'!$I67,[1]!MASTER_RADIO_FREQ_DESC[#Data],0),0))","v":""},{"$f":"IF('Radio (Desc)'!J67=\"\",\"\",'Radio (Desc)'!J67)","v":""},{"$f":"IF('Radio (Desc)'!K67=\"\",\"\",INDEX([1]CALL_SIGN!$A$2:$A$600,MATCH('Radio (Desc)'!$K67,[1]!MASTER_CALL_SIGN_DESC[#Data],0),0))","v":""},{"$f":"IF('Radio (Desc)'!L67=\"\",\"\",INDEX([1]STATION_CLASS!$A$2:$A$100,MATCH('Radio (Desc)'!$L67,[1]!MASTER_STATION_CLASS_DESC[#Data],0),0))","v":""},{"$f":"IF('Radio (Desc)'!M67=\"\",\"\",'Radio (Desc)'!M67)","v":""},{"$f":"IF('Radio (Desc)'!N67=\"\",\"\",'Radio (Desc)'!N67)","v":""},{"$f":"IF('Radio (Desc)'!O67=\"\",\"\",INDEX([1]ITS_COMM_DEV_MANUF!$A$2:$A$300,MATCH(1,([1]ITS_COMM_DEV_MANUF!$B$2:$B$300='Radio (Desc)'!$O67)*([1]ITS_COMM_DEV_MANUF!$C$2:$C$300=\"RADIO\"),0),0))","v":""},{"$f":"IF('Radio (Desc)'!P67=\"\",\"\",INDEX([1]ITS_COMM_DEV_MODEL!$A$2:$A$500,MATCH(1,([1]ITS_COMM_DEV_MODEL!$C$2:$C$500='Radio (Desc)'!$O67)*([1]ITS_COMM_DEV_MODEL!$D$2:$D$500=\"RADIO\")*([1]ITS_COMM_DEV_MODEL!$E$2:$E$500='Radio (Desc)'!$P67),0),0))","v":""},{"$f":"IF('Radio (Desc)'!Q67=\"\",\"\",'Radio (Desc)'!Q67)","v":""},{"$f":"IF('Radio (Desc)'!R67=\"\",\"\",'Radio (Desc)'!R67)","v":""},{"$f":"IF('Radio (Desc)'!S67=\"\",\"\",'Radio (Desc)'!S67)","v":""},{"$f":"IF('Radio (Desc)'!T67=\"\",\"\",'Radio (Desc)'!T67)","v":""},{"$f":"IF('Radio (Desc)'!U67=\"\",\"\",INDEX([1]DEV_INPUT_VOLTAGE!$A$2:$A$100,MATCH('Radio (Desc)'!$U67,[1]!MASTER_DEV_INPUT_VOLTAGE_DESC[#Data],0),0))","v":""},{"$f":"IF('Radio (Desc)'!V67=\"\",\"\",'Radio (Desc)'!V67)","v":""},{"$f":"IF('Radio (Desc)'!W67=\"\",\"\",'Radio (Desc)'!W67)","v":""},{"$f":"IF('Radio (Desc)'!X67=\"\",\"\",'Radio (Desc)'!X67)","v":""},{"$f":"IF('Radio (Desc)'!Y67=\"\",\"\",INDEX([1]FIBER_CONN_TYPE!$A$2:$A$100,MATCH('Radio (Desc)'!$Y67,[1]!MASTER_FIBER_CONN_TYPE_DESC[#Data],0),0))","v":""}]
[{"$f":"IF('Radio (Desc)'!A68=\"\",\"\",'Radio (Desc)'!A68)","v":""},{"$f":"IF('Radio (Desc)'!C68=\"\",\"\",\"2029\")","v":""},{"$f":"IF('Radio (Desc)'!C68=\"\",\"\",'Radio (Desc)'!C68)","v":""},{"$f":"IF('Radio (Desc)'!E68=\"\",\"\",\"RADIO\")","v":""},{"$f":"IF('Radio (Desc)'!E68=\"\",\"\",INDEX([1]RADIO_TYPE!$A$2:$A$100,MATCH('Radio (Desc)'!$E68,[1]!MASTER_RADIO_TYPE_DESC[#Data],0),0))","v":""},{"$f":"IF('Radio (Desc)'!F68=\"\",\"\",'Radio (Desc)'!F68)","v":""},{"$f":"IF('Radio (Desc)'!G68=\"\",\"\",INDEX([1]RADIO_FREQ!$A$2:$A$500,MATCH('Radio (Desc)'!$G68,[1]!MASTER_RADIO_FREQ_DESC[#Data],0),0))","v":""},{"$f":"IF('Radio (Desc)'!H68=\"\",\"\",'Radio (Desc)'!H68)","v":""},{"$f":"IF('Radio (Desc)'!I68=\"\",\"\",INDEX([1]RADIO_FREQ!$A$2:$A$500,MATCH('Radio (Desc)'!$I68,[1]!MASTER_RADIO_FREQ_DESC[#Data],0),0))","v":""},{"$f":"IF('Radio (Desc)'!J68=\"\",\"\",'Radio (Desc)'!J68)","v":""},{"$f":"IF('Radio (Desc)'!K68=\"\",\"\",INDEX([1]CALL_SIGN!$A$2:$A$600,MATCH('Radio (Desc)'!$K68,[1]!MASTER_CALL_SIGN_DESC[#Data],0),0))","v":""},{"$f":"IF('Radio (Desc)'!L68=\"\",\"\",INDEX([1]STATION_CLASS!$A$2:$A$100,MATCH('Radio (Desc)'!$L68,[1]!MASTER_STATION_CLASS_DESC[#Data],0),0))","v":""},{"$f":"IF('Radio (Desc)'!M68=\"\",\"\",'Radio (Desc)'!M68)","v":""},{"$f":"IF('Radio (Desc)'!N68=\"\",\"\",'Radio (Desc)'!N68)","v":""},{"$f":"IF('Radio (Desc)'!O68=\"\",\"\",INDEX([1]ITS_COMM_DEV_MANUF!$A$2:$A$300,MATCH(1,([1]ITS_COMM_DEV_MANUF!$B$2:$B$300='Radio (Desc)'!$O68)*([1]ITS_COMM_DEV_MANUF!$C$2:$C$300=\"RADIO\"),0),0))","v":""},{"$f":"IF('Radio (Desc)'!P68=\"\",\"\",INDEX([1]ITS_COMM_DEV_MODEL!$A$2:$A$500,MATCH(1,([1]ITS_COMM_DEV_MODEL!$C$2:$C$500='Radio (Desc)'!$O68)*([1]ITS_COMM_DEV_MODEL!$D$2:$D$500=\"RADIO\")*([1]ITS_COMM_DEV_MODEL!$E$2:$E$500='Radio (Desc)'!$P68),0),0))","v":""},{"$f":"IF('Radio (Desc)'!Q68=\"\",\"\",'Radio (Desc)'!Q68)","v":""},{"$f":"IF('Radio (Desc)'!R68=\"\",\"\",'Radio (Desc)'!R68)","v":""},{"$f":"IF('Radio (Desc)'!S68=\"\",\"\",'Radio (Desc)'!S68)","v":""},{"$f":"IF('Radio (Desc)'!T68=\"\",\"\",'Radio (Desc)'!T68)","v":""},{"$f":"IF('Radio (Desc)'!U68=\"\",\"\",INDEX([1]DEV_INPUT_VOLTAGE!$A$2:$A$100,MATCH('Radio (Desc)'!$U68,[1]!MASTER_DEV_INPUT_VOLTAGE_DESC[#Data],0),0))","v":""},{"$f":"IF('Radio (Desc)'!V68=\"\",\"\",'Radio (Desc)'!V68)","v":""},{"$f":"IF('Radio (Desc)'!W68=\"\",\"\",'Radio (Desc)'!W68)","v":""},{"$f":"IF('Radio (Desc)'!X68=\"\",\"\",'Radio (Desc)'!X68)","v":""},{"$f":"IF('Radio (Desc)'!Y68=\"\",\"\",INDEX([1]FIBER_CONN_TYPE!$A$2:$A$100,MATCH('Radio (Desc)'!$Y68,[1]!MASTER_FIBER_CONN_TYPE_DESC[#Data],0),0))","v":""}]
[{"$f":"IF('Radio (Desc)'!A69=\"\",\"\",'Radio (Desc)'!A69)","v":""},{"$f":"IF('Radio (Desc)'!C69=\"\",\"\",\"2029\")","v":""},{"$f":"IF('Radio (Desc)'!C69=\"\",\"\",'Radio (Desc)'!C69)","v":""},{"$f":"IF('Radio (Desc)'!E69=\"\",\"\",\"RADIO\")","v":""},{"$f":"IF('Radio (Desc)'!E69=\"\",\"\",INDEX([1]RADIO_TYPE!$A$2:$A$100,MATCH('Radio (Desc)'!$E69,[1]!MASTER_RADIO_TYPE_DESC[#Data],0),0))","v":""},{"$f":"IF('Radio (Desc)'!F69=\"\",\"\",'Radio (Desc)'!F69)","v":""},{"$f":"IF('Radio (Desc)'!G69=\"\",\"\",INDEX([1]RADIO_FREQ!$A$2:$A$500,MATCH('Radio (Desc)'!$G69,[1]!MASTER_RADIO_FREQ_DESC[#Data],0),0))","v":""},{"$f":"IF('Radio (Desc)'!H69=\"\",\"\",'Radio (Desc)'!H69)","v":""},{"$f":"IF('Radio (Desc)'!I69=\"\",\"\",INDEX([1]RADIO_FREQ!$A$2:$A$500,MATCH('Radio (Desc)'!$I69,[1]!MASTER_RADIO_FREQ_DESC[#Data],0),0))","v":""},{"$f":"IF('Radio (Desc)'!J69=\"\",\"\",'Radio (Desc)'!J69)","v":""},{"$f":"IF('Radio (Desc)'!K69=\"\",\"\",INDEX([1]CALL_SIGN!$A$2:$A$600,MATCH('Radio (Desc)'!$K69,[1]!MASTER_CALL_SIGN_DESC[#Data],0),0))","v":""},{"$f":"IF('Radio (Desc)'!L69=\"\",\"\",INDEX([1]STATION_CLASS!$A$2:$A$100,MATCH('Radio (Desc)'!$L69,[1]!MASTER_STATION_CLASS_DESC[#Data],0),0))","v":""},{"$f":"IF('Radio (Desc)'!M69=\"\",\"\",'Radio (Desc)'!M69)","v":""},{"$f":"IF('Radio (Desc)'!N69=\"\",\"\",'Radio (Desc)'!N69)","v":""},{"$f":"IF('Radio (Desc)'!O69=\"\",\"\",INDEX([1]ITS_COMM_DEV_MANUF!$A$2:$A$300,MATCH(1,([1]ITS_COMM_DEV_MANUF!$B$2:$B$300='Radio (Desc)'!$O69)*([1]ITS_COMM_DEV_MANUF!$C$2:$C$300=\"RADIO\"),0),0))","v":""},{"$f":"IF('Radio (Desc)'!P69=\"\",\"\",INDEX([1]ITS_COMM_DEV_MODEL!$A$2:$A$500,MATCH(1,([1]ITS_COMM_DEV_MODEL!$C$2:$C$500='Radio (Desc)'!$O69)*([1]ITS_COMM_DEV_MODEL!$D$2:$D$500=\"RADIO\")*([1]ITS_COMM_DEV_MODEL!$E$2:$E$500='Radio (Desc)'!$P69),0),0))","v":""},{"$f":"IF('Radio (Desc)'!Q69=\"\",\"\",'Radio (Desc)'!Q69)","v":""},{"$f":"IF('Radio (Desc)'!R69=\"\",\"\",'Radio (Desc)'!R69)","v":""},{"$f":"IF('Radio (Desc)'!S69=\"\",\"\",'Radio (Desc)'!S69)","v":""},{"$f":"IF('Radio (Desc)'!T69=\"\",\"\",'Radio (Desc)'!T69)","v":""},{"$f":"IF('Radio (Desc)'!U69=\"\",\"\",INDEX([1]DEV_INPUT_VOLTAGE!$A$2:$A$100,MATCH('Radio (Desc)'!$U69,[1]!MASTER_DEV_INPUT_VOLTAGE_DESC[#Data],0),0))","v":""},{"$f":"IF('Radio (Desc)'!V69=\"\",\"\",'Radio (Desc)'!V69)","v":""},{"$f":"IF('Radio (Desc)'!W69=\"\",\"\",'Radio (Desc)'!W69)","v":""},{"$f":"IF('Radio (Desc)'!X69=\"\",\"\",'Radio (Desc)'!X69)","v":""},{"$f":"IF('Radio (Desc)'!Y69=\"\",\"\",INDEX([1]FIBER_CONN_TYPE!$A$2:$A$100,MATCH('Radio (Desc)'!$Y69,[1]!MASTER_FIBER_CONN_TYPE_DESC[#Data],0),0))","v":""}]
[{"$f":"IF('Radio (Desc)'!A70=\"\",\"\",'Radio (Desc)'!A70)","v":""},{"$f":"IF('Radio (Desc)'!C70=\"\",\"\",\"2029\")","v":""},{"$f":"IF('Radio (Desc)'!C70=\"\",\"\",'Radio (Desc)'!C70)","v":""},{"$f":"IF('Radio (Desc)'!E70=\"\",\"\",\"RADIO\")","v":""},{"$f":"IF('Radio (Desc)'!E70=\"\",\"\",INDEX([1]RADIO_TYPE!$A$2:$A$100,MATCH('Radio (Desc)'!$E70,[1]!MASTER_RADIO_TYPE_DESC[#Data],0),0))","v":""},{"$f":"IF('Radio (Desc)'!F70=\"\",\"\",'Radio (Desc)'!F70)","v":""},{"$f":"IF('Radio (Desc)'!G70=\"\",\"\",INDEX([1]RADIO_FREQ!$A$2:$A$500,MATCH('Radio (Desc)'!$G70,[1]!MASTER_RADIO_FREQ_DESC[#Data],0),0))","v":""},{"$f":"IF('Radio (Desc)'!H70=\"\",\"\",'Radio (Desc)'!H70)","v":""},{"$f":"IF('Radio (Desc)'!I70=\"\",\"\",INDEX([1]RADIO_FREQ!$A$2:$A$500,MATCH('Radio (Desc)'!$I70,[1]!MASTER_RADIO_FREQ_DESC[#Data],0),0))","v":""},{"$f":"IF('Radio (Desc)'!J70=\"\",\"\",'Radio (Desc)'!J70)","v":""},{"$f":"IF('Radio (Desc)'!K70=\"\",\"\",INDEX([1]CALL_SIGN!$A$2:$A$600,MATCH('Radio (Desc)'!$K70,[1]!MASTER_CALL_SIGN_DESC[#Data],0),0))","v":""},{"$f":"IF('Radio (Desc)'!L70=\"\",\"\",INDEX([1]STATION_CLASS!$A$2:$A$100,MATCH('Radio (Desc)'!$L70,[1]!MASTER_STATION_CLASS_DESC[#Data],0),0))","v":""},{"$f":"IF('Radio (Desc)'!M70=\"\",\"\",'Radio (Desc)'!M70)","v":""},{"$f":"IF('Radio (Desc)'!N70=\"\",\"\",'Radio (Desc)'!N70)","v":""},{"$f":"IF('Radio (Desc)'!O70=\"\",\"\",INDEX([1]ITS_COMM_DEV_MANUF!$A$2:$A$300,MATCH(1,([1]ITS_COMM_DEV_MANUF!$B$2:$B$300='Radio (Desc)'!$O70)*([1]ITS_COMM_DEV_MANUF!$C$2:$C$300=\"RADIO\"),0),0))","v":""},{"$f":"IF('Radio (Desc)'!P70=\"\",\"\",INDEX([1]ITS_COMM_DEV_MODEL!$A$2:$A$500,MATCH(1,([1]ITS_COMM_DEV_MODEL!$C$2:$C$500='Radio (Desc)'!$O70)*([1]ITS_COMM_DEV_MODEL!$D$2:$D$500=\"RADIO\")*([1]ITS_COMM_DEV_MODEL!$E$2:$E$500='Radio (Desc)'!$P70),0),0))","v":""},{"$f":"IF('Radio (Desc)'!Q70=\"\",\"\",'Radio (Desc)'!Q70)","v":""},{"$f":"IF('Radio (Desc)'!R70=\"\",\"\",'Radio (Desc)'!R70)","v":""},{"$f":"IF('Radio (Desc)'!S70=\"\",\"\",'Radio (Desc)'!S70)","v":""},{"$f":"IF('Radio (Desc)'!T70=\"\",\"\",'Radio (Desc)'!T70)","v":""},{"$f":"IF('Radio (Desc)'!U70=\"\",\"\",INDEX([1]DEV_INPUT_VOLTAGE!$A$2:$A$100,MATCH('Radio (Desc)'!$U70,[1]!MASTER_DEV_INPUT_VOLTAGE_DESC[#Data],0),0))","v":""},{"$f":"IF('Radio (Desc)'!V70=\"\",\"\",'Radio (Desc)'!V70)","v":""},{"$f":"IF('Radio (Desc)'!W70=\"\",\"\",'Radio (Desc)'!W70)","v":""},{"$f":"IF('Radio (Desc)'!X70=\"\",\"\",'Radio (Desc)'!X70)","v":""},{"$f":"IF('Radio (Desc)'!Y70=\"\",\"\",INDEX([1]FIBER_CONN_TYPE!$A$2:$A$100,MATCH('Radio (Desc)'!$Y70,[1]!MASTER_FIBER_CONN_TYPE_DESC[#Data],0),0))","v":""}]
[{"$f":"IF('Radio (Desc)'!A71=\"\",\"\",'Radio (Desc)'!A71)","v":""},{"$f":"IF('Radio (Desc)'!C71=\"\",\"\",\"2029\")","v":""},{"$f":"IF('Radio (Desc)'!C71=\"\",\"\",'Radio (Desc)'!C71)","v":""},{"$f":"IF('Radio (Desc)'!E71=\"\",\"\",\"RADIO\")","v":""},{"$f":"IF('Radio (Desc)'!E71=\"\",\"\",INDEX([1]RADIO_TYPE!$A$2:$A$100,MATCH('Radio (Desc)'!$E71,[1]!MASTER_RADIO_TYPE_DESC[#Data],0),0))","v":""},{"$f":"IF('Radio (Desc)'!F71=\"\",\"\",'Radio (Desc)'!F71)","v":""},{"$f":"IF('Radio (Desc)'!G71=\"\",\"\",INDEX([1]RADIO_FREQ!$A$2:$A$500,MATCH('Radio (Desc)'!$G71,[1]!MASTER_RADIO_FREQ_DESC[#Data],0),0))","v":""},{"$f":"IF('Radio (Desc)'!H71=\"\",\"\",'Radio (Desc)'!H71)","v":""},{"$f":"IF('Radio (Desc)'!I71=\"\",\"\",INDEX([1]RADIO_FREQ!$A$2:$A$500,MATCH('Radio (Desc)'!$I71,[1]!MASTER_RADIO_FREQ_DESC[#Data],0),0))","v":""},{"$f":"IF('Radio (Desc)'!J71=\"\",\"\",'Radio (Desc)'!J71)","v":""},{"$f":"IF('Radio (Desc)'!K71=\"\",\"\",INDEX([1]CALL_SIGN!$A$2:$A$600,MATCH('Radio (Desc)'!$K71,[1]!MASTER_CALL_SIGN_DESC[#Data],0),0))","v":""},{"$f":"IF('Radio (Desc)'!L71=\"\",\"\",INDEX([1]STATION_CLASS!$A$2:$A$100,MATCH('Radio (Desc)'!$L71,[1]!MASTER_STATION_CLASS_DESC[#Data],0),0))","v":""},{"$f":"IF('Radio (Desc)'!M71=\"\",\"\",'Radio (Desc)'!M71)","v":""},{"$f":"IF('Radio (Desc)'!N71=\"\",\"\",'Radio (Desc)'!N71)","v":""},{"$f":"IF('Radio (Desc)'!O71=\"\",\"\",INDEX([1]ITS_COMM_DEV_MANUF!$A$2:$A$300,MATCH(1,([1]ITS_COMM_DEV_MANUF!$B$2:$B$300='Radio (Desc)'!$O71)*([1]ITS_COMM_DEV_MANUF!$C$2:$C$300=\"RADIO\"),0),0))","v":""},{"$f":"IF('Radio (Desc)'!P71=\"\",\"\",INDEX([1]ITS_COMM_DEV_MODEL!$A$2:$A$500,MATCH(1,([1]ITS_COMM_DEV_MODEL!$C$2:$C$500='Radio (Desc)'!$O71)*([1]ITS_COMM_DEV_MODEL!$D$2:$D$500=\"RADIO\")*([1]ITS_COMM_DEV_MODEL!$E$2:$E$500='Radio (Desc)'!$P71),0),0))","v":""},{"$f":"IF('Radio (Desc)'!Q71=\"\",\"\",'Radio (Desc)'!Q71)","v":""},{"$f":"IF('Radio (Desc)'!R71=\"\",\"\",'Radio (Desc)'!R71)","v":""},{"$f":"IF('Radio (Desc)'!S71=\"\",\"\",'Radio (Desc)'!S71)","v":""},{"$f":"IF('Radio (Desc)'!T71=\"\",\"\",'Radio (Desc)'!T71)","v":""},{"$f":"IF('Radio (Desc)'!U71=\"\",\"\",INDEX([1]DEV_INPUT_VOLTAGE!$A$2:$A$100,MATCH('Radio (Desc)'!$U71,[1]!MASTER_DEV_INPUT_VOLTAGE_DESC[#Data],0),0))","v":""},{"$f":"IF('Radio (Desc)'!V71=\"\",\"\",'Radio (Desc)'!V71)","v":""},{"$f":"IF('Radio (Desc)'!W71=\"\",\"\",'Radio (Desc)'!W71)","v":""},{"$f":"IF('Radio (Desc)'!X71=\"\",\"\",'Radio (Desc)'!X71)","v":""},{"$f":"IF('Radio (Desc)'!Y71=\"\",\"\",INDEX([1]FIBER_CONN_TYPE!$A$2:$A$100,MATCH('Radio (Desc)'!$Y71,[1]!MASTER_FIBER_CONN_TYPE_DESC[#Data],0),0))","v":""}]
[{"$f":"IF('Radio (Desc)'!A72=\"\",\"\",'Radio (Desc)'!A72)","v":""},{"$f":"IF('Radio (Desc)'!C72=\"\",\"\",\"2029\")","v":""},{"$f":"IF('Radio (Desc)'!C72=\"\",\"\",'Radio (Desc)'!C72)","v":""},{"$f":"IF('Radio (Desc)'!E72=\"\",\"\",\"RADIO\")","v":""},{"$f":"IF('Radio (Desc)'!E72=\"\",\"\",INDEX([1]RADIO_TYPE!$A$2:$A$100,MATCH('Radio (Desc)'!$E72,[1]!MASTER_RADIO_TYPE_DESC[#Data],0),0))","v":""},{"$f":"IF('Radio (Desc)'!F72=\"\",\"\",'Radio (Desc)'!F72)","v":""},{"$f":"IF('Radio (Desc)'!G72=\"\",\"\",INDEX([1]RADIO_FREQ!$A$2:$A$500,MATCH('Radio (Desc)'!$G72,[1]!MASTER_RADIO_FREQ_DESC[#Data],0),0))","v":""},{"$f":"IF('Radio (Desc)'!H72=\"\",\"\",'Radio (Desc)'!H72)","v":""},{"$f":"IF('Radio (Desc)'!I72=\"\",\"\",INDEX([1]RADIO_FREQ!$A$2:$A$500,MATCH('Radio (Desc)'!$I72,[1]!MASTER_RADIO_FREQ_DESC[#Data],0),0))","v":""},{"$f":"IF('Radio (Desc)'!J72=\"\",\"\",'Radio (Desc)'!J72)","v":""},{"$f":"IF('Radio (Desc)'!K72=\"\",\"\",INDEX([1]CALL_SIGN!$A$2:$A$600,MATCH('Radio (Desc)'!$K72,[1]!MASTER_CALL_SIGN_DESC[#Data],0),0))","v":""},{"$f":"IF('Radio (Desc)'!L72=\"\",\"\",INDEX([1]STATION_CLASS!$A$2:$A$100,MATCH('Radio (Desc)'!$L72,[1]!MASTER_STATION_CLASS_DESC[#Data],0),0))","v":""},{"$f":"IF('Radio (Desc)'!M72=\"\",\"\",'Radio (Desc)'!M72)","v":""},{"$f":"IF('Radio (Desc)'!N72=\"\",\"\",'Radio (Desc)'!N72)","v":""},{"$f":"IF('Radio (Desc)'!O72=\"\",\"\",INDEX([1]ITS_COMM_DEV_MANUF!$A$2:$A$300,MATCH(1,([1]ITS_COMM_DEV_MANUF!$B$2:$B$300='Radio (Desc)'!$O72)*([1]ITS_COMM_DEV_MANUF!$C$2:$C$300=\"RADIO\"),0),0))","v":""},{"$f":"IF('Radio (Desc)'!P72=\"\",\"\",INDEX([1]ITS_COMM_DEV_MODEL!$A$2:$A$500,MATCH(1,([1]ITS_COMM_DEV_MODEL!$C$2:$C$500='Radio (Desc)'!$O72)*([1]ITS_COMM_DEV_MODEL!$D$2:$D$500=\"RADIO\")*([1]ITS_COMM_DEV_MODEL!$E$2:$E$500='Radio (Desc)'!$P72),0),0))","v":""},{"$f":"IF('Radio (Desc)'!Q72=\"\",\"\",'Radio (Desc)'!Q72)","v":""},{"$f":"IF('Radio (Desc)'!R72=\"\",\"\",'Radio (Desc)'!R72)","v":""},{"$f":"IF('Radio (Desc)'!S72=\"\",\"\",'Radio (Desc)'!S72)","v":""},{"$f":"IF('Radio (Desc)'!T72=\"\",\"\",'Radio (Desc)'!T72)","v":""},{"$f":"IF('Radio (Desc)'!U72=\"\",\"\",INDEX([1]DEV_INPUT_VOLTAGE!$A$2:$A$100,MATCH('Radio (Desc)'!$U72,[1]!MASTER_DEV_INPUT_VOLTAGE_DESC[#Data],0),0))","v":""},{"$f":"IF('Radio (Desc)'!V72=\"\",\"\",'Radio (Desc)'!V72)","v":""},{"$f":"IF('Radio (Desc)'!W72=\"\",\"\",'Radio (Desc)'!W72)","v":""},{"$f":"IF('Radio (Desc)'!X72=\"\",\"\",'Radio (Desc)'!X72)","v":""},{"$f":"IF('Radio (Desc)'!Y72=\"\",\"\",INDEX([1]FIBER_CONN_TYPE!$A$2:$A$100,MATCH('Radio (Desc)'!$Y72,[1]!MASTER_FIBER_CONN_TYPE_DESC[#Data],0),0))","v":""}]
[{"$f":"IF('Radio (Desc)'!A73=\"\",\"\",'Radio (Desc)'!A73)","v":""},{"$f":"IF('Radio (Desc)'!C73=\"\",\"\",\"2029\")","v":""},{"$f":"IF('Radio (Desc)'!C73=\"\",\"\",'Radio (Desc)'!C73)","v":""},{"$f":"IF('Radio (Desc)'!E73=\"\",\"\",\"RADIO\")","v":""},{"$f":"IF('Radio (Desc)'!E73=\"\",\"\",INDEX([1]RADIO_TYPE!$A$2:$A$100,MATCH('Radio (Desc)'!$E73,[1]!MASTER_RADIO_TYPE_DESC[#Data],0),0))","v":""},{"$f":"IF('Radio (Desc)'!F73=\"\",\"\",'Radio (Desc)'!F73)","v":""},{"$f":"IF('Radio (Desc)'!G73=\"\",\"\",INDEX([1]RADIO_FREQ!$A$2:$A$500,MATCH('Radio (Desc)'!$G73,[1]!MASTER_RADIO_FREQ_DESC[#Data],0),0))","v":""},{"$f":"IF('Radio (Desc)'!H73=\"\",\"\",'Radio (Desc)'!H73)","v":""},{"$f":"IF('Radio (Desc)'!I73=\"\",\"\",INDEX([1]RADIO_FREQ!$A$2:$A$500,MATCH('Radio (Desc)'!$I73,[1]!MASTER_RADIO_FREQ_DESC[#Data],0),0))","v":""},{"$f":"IF('Radio (Desc)'!J73=\"\",\"\",'Radio (Desc)'!J73)","v":""},{"$f":"IF('Radio (Desc)'!K73=\"\",\"\",INDEX([1]CALL_SIGN!$A$2:$A$600,MATCH('Radio (Desc)'!$K73,[1]!MASTER_CALL_SIGN_DESC[#Data],0),0))","v":""},{"$f":"IF('Radio (Desc)'!L73=\"\",\"\",INDEX([1]STATION_CLASS!$A$2:$A$100,MATCH('Radio (Desc)'!$L73,[1]!MASTER_STATION_CLASS_DESC[#Data],0),0))","v":""},{"$f":"IF('Radio (Desc)'!M73=\"\",\"\",'Radio (Desc)'!M73)","v":""},{"$f":"IF('Radio (Desc)'!N73=\"\",\"\",'Radio (Desc)'!N73)","v":""},{"$f":"IF('Radio (Desc)'!O73=\"\",\"\",INDEX([1]ITS_COMM_DEV_MANUF!$A$2:$A$300,MATCH(1,([1]ITS_COMM_DEV_MANUF!$B$2:$B$300='Radio (Desc)'!$O73)*([1]ITS_COMM_DEV_MANUF!$C$2:$C$300=\"RADIO\"),0),0))","v":""},{"$f":"IF('Radio (Desc)'!P73=\"\",\"\",INDEX([1]ITS_COMM_DEV_MODEL!$A$2:$A$500,MATCH(1,([1]ITS_COMM_DEV_MODEL!$C$2:$C$500='Radio (Desc)'!$O73)*([1]ITS_COMM_DEV_MODEL!$D$2:$D$500=\"RADIO\")*([1]ITS_COMM_DEV_MODEL!$E$2:$E$500='Radio (Desc)'!$P73),0),0))","v":""},{"$f":"IF('Radio (Desc)'!Q73=\"\",\"\",'Radio (Desc)'!Q73)","v":""},{"$f":"IF('Radio (Desc)'!R73=\"\",\"\",'Radio (Desc)'!R73)","v":""},{"$f":"IF('Radio (Desc)'!S73=\"\",\"\",'Radio (Desc)'!S73)","v":""},{"$f":"IF('Radio (Desc)'!T73=\"\",\"\",'Radio (Desc)'!T73)","v":""},{"$f":"IF('Radio (Desc)'!U73=\"\",\"\",INDEX([1]DEV_INPUT_VOLTAGE!$A$2:$A$100,MATCH('Radio (Desc)'!$U73,[1]!MASTER_DEV_INPUT_VOLTAGE_DESC[#Data],0),0))","v":""},{"$f":"IF('Radio (Desc)'!V73=\"\",\"\",'Radio (Desc)'!V73)","v":""},{"$f":"IF('Radio (Desc)'!W73=\"\",\"\",'Radio (Desc)'!W73)","v":""},{"$f":"IF('Radio (Desc)'!X73=\"\",\"\",'Radio (Desc)'!X73)","v":""},{"$f":"IF('Radio (Desc)'!Y73=\"\",\"\",INDEX([1]FIBER_CONN_TYPE!$A$2:$A$100,MATCH('Radio (Desc)'!$Y73,[1]!MASTER_FIBER_CONN_TYPE_DESC[#Data],0),0))","v":""}]
[{"$f":"IF('Radio (Desc)'!A74=\"\",\"\",'Radio (Desc)'!A74)","v":""},{"$f":"IF('Radio (Desc)'!C74=\"\",\"\",\"2029\")","v":""},{"$f":"IF('Radio (Desc)'!C74=\"\",\"\",'Radio (Desc)'!C74)","v":""},{"$f":"IF('Radio (Desc)'!E74=\"\",\"\",\"RADIO\")","v":""},{"$f":"IF('Radio (Desc)'!E74=\"\",\"\",INDEX([1]RADIO_TYPE!$A$2:$A$100,MATCH('Radio (Desc)'!$E74,[1]!MASTER_RADIO_TYPE_DESC[#Data],0),0))","v":""},{"$f":"IF('Radio (Desc)'!F74=\"\",\"\",'Radio (Desc)'!F74)","v":""},{"$f":"IF('Radio (Desc)'!G74=\"\",\"\",INDEX([1]RADIO_FREQ!$A$2:$A$500,MATCH('Radio (Desc)'!$G74,[1]!MASTER_RADIO_FREQ_DESC[#Data],0),0))","v":""},{"$f":"IF('Radio (Desc)'!H74=\"\",\"\",'Radio (Desc)'!H74)","v":""},{"$f":"IF('Radio (Desc)'!I74=\"\",\"\",INDEX([1]RADIO_FREQ!$A$2:$A$500,MATCH('Radio (Desc)'!$I74,[1]!MASTER_RADIO_FREQ_DESC[#Data],0),0))","v":""},{"$f":"IF('Radio (Desc)'!J74=\"\",\"\",'Radio (Desc)'!J74)","v":""},{"$f":"IF('Radio (Desc)'!K74=\"\",\"\",INDEX([1]CALL_SIGN!$A$2:$A$600,MATCH('Radio (Desc)'!$K74,[1]!MASTER_CALL_SIGN_DESC[#Data],0),0))","v":""},{"$f":"IF('Radio (Desc)'!L74=\"\",\"\",INDEX([1]STATION_CLASS!$A$2:$A$100,MATCH('Radio (Desc)'!$L74,[1]!MASTER_STATION_CLASS_DESC[#Data],0),0))","v":""},{"$f":"IF('Radio (Desc)'!M74=\"\",\"\",'Radio (Desc)'!M74)","v":""},{"$f":"IF('Radio (Desc)'!N74=\"\",\"\",'Radio (Desc)'!N74)","v":""},{"$f":"IF('Radio (Desc)'!O74=\"\",\"\",INDEX([1]ITS_COMM_DEV_MANUF!$A$2:$A$300,MATCH(1,([1]ITS_COMM_DEV_MANUF!$B$2:$B$300='Radio (Desc)'!$O74)*([1]ITS_COMM_DEV_MANUF!$C$2:$C$300=\"RADIO\"),0),0))","v":""},{"$f":"IF('Radio (Desc)'!P74=\"\",\"\",INDEX([1]ITS_COMM_DEV_MODEL!$A$2:$A$500,MATCH(1,([1]ITS_COMM_DEV_MODEL!$C$2:$C$500='Radio (Desc)'!$O74)*([1]ITS_COMM_DEV_MODEL!$D$2:$D$500=\"RADIO\")*([1]ITS_COMM_DEV_MODEL!$E$2:$E$500='Radio (Desc)'!$P74),0),0))","v":""},{"$f":"IF('Radio (Desc)'!Q74=\"\",\"\",'Radio (Desc)'!Q74)","v":""},{"$f":"IF('Radio (Desc)'!R74=\"\",\"\",'Radio (Desc)'!R74)","v":""},{"$f":"IF('Radio (Desc)'!S74=\"\",\"\",'Radio (Desc)'!S74)","v":""},{"$f":"IF('Radio (Desc)'!T74=\"\",\"\",'Radio (Desc)'!T74)","v":""},{"$f":"IF('Radio (Desc)'!U74=\"\",\"\",INDEX([1]DEV_INPUT_VOLTAGE!$A$2:$A$100,MATCH('Radio (Desc)'!$U74,[1]!MASTER_DEV_INPUT_VOLTAGE_DESC[#Data],0),0))","v":""},{"$f":"IF('Radio (Desc)'!V74=\"\",\"\",'Radio (Desc)'!V74)","v":""},{"$f":"IF('Radio (Desc)'!W74=\"\",\"\",'Radio (Desc)'!W74)","v":""},{"$f":"IF('Radio (Desc)'!X74=\"\",\"\",'Radio (Desc)'!X74)","v":""},{"$f":"IF('Radio (Desc)'!Y74=\"\",\"\",INDEX([1]FIBER_CONN_TYPE!$A$2:$A$100,MATCH('Radio (Desc)'!$Y74,[1]!MASTER_FIBER_CONN_TYPE_DESC[#Data],0),0))","v":""}]
[{"$f":"IF('Radio (Desc)'!A75=\"\",\"\",'Radio (Desc)'!A75)","v":""},{"$f":"IF('Radio (Desc)'!C75=\"\",\"\",\"2029\")","v":""},{"$f":"IF('Radio (Desc)'!C75=\"\",\"\",'Radio (Desc)'!C75)","v":""},{"$f":"IF('Radio (Desc)'!E75=\"\",\"\",\"RADIO\")","v":""},{"$f":"IF('Radio (Desc)'!E75=\"\",\"\",INDEX([1]RADIO_TYPE!$A$2:$A$100,MATCH('Radio (Desc)'!$E75,[1]!MASTER_RADIO_TYPE_DESC[#Data],0),0))","v":""},{"$f":"IF('Radio (Desc)'!F75=\"\",\"\",'Radio (Desc)'!F75)","v":""},{"$f":"IF('Radio (Desc)'!G75=\"\",\"\",INDEX([1]RADIO_FREQ!$A$2:$A$500,MATCH('Radio (Desc)'!$G75,[1]!MASTER_RADIO_FREQ_DESC[#Data],0),0))","v":""},{"$f":"IF('Radio (Desc)'!H75=\"\",\"\",'Radio (Desc)'!H75)","v":""},{"$f":"IF('Radio (Desc)'!I75=\"\",\"\",INDEX([1]RADIO_FREQ!$A$2:$A$500,MATCH('Radio (Desc)'!$I75,[1]!MASTER_RADIO_FREQ_DESC[#Data],0),0))","v":""},{"$f":"IF('Radio (Desc)'!J75=\"\",\"\",'Radio (Desc)'!J75)","v":""},{"$f":"IF('Radio (Desc)'!K75=\"\",\"\",INDEX([1]CALL_SIGN!$A$2:$A$600,MATCH('Radio (Desc)'!$K75,[1]!MASTER_CALL_SIGN_DESC[#Data],0),0))","v":""},{"$f":"IF('Radio (Desc)'!L75=\"\",\"\",INDEX([1]STATION_CLASS!$A$2:$A$100,MATCH('Radio (Desc)'!$L75,[1]!MASTER_STATION_CLASS_DESC[#Data],0),0))","v":""},{"$f":"IF('Radio (Desc)'!M75=\"\",\"\",'Radio (Desc)'!M75)","v":""},{"$f":"IF('Radio (Desc)'!N75=\"\",\"\",'Radio (Desc)'!N75)","v":""},{"$f":"IF('Radio (Desc)'!O75=\"\",\"\",INDEX([1]ITS_COMM_DEV_MANUF!$A$2:$A$300,MATCH(1,([1]ITS_COMM_DEV_MANUF!$B$2:$B$300='Radio (Desc)'!$O75)*([1]ITS_COMM_DEV_MANUF!$C$2:$C$300=\"RADIO\"),0),0))","v":""},{"$f":"IF('Radio (Desc)'!P75=\"\",\"\",INDEX([1]ITS_COMM_DEV_MODEL!$A$2:$A$500,MATCH(1,([1]ITS_COMM_DEV_MODEL!$C$2:$C$500='Radio (Desc)'!$O75)*([1]ITS_COMM_DEV_MODEL!$D$2:$D$500=\"RADIO\")*([1]ITS_COMM_DEV_MODEL!$E$2:$E$500='Radio (Desc)'!$P75),0),0))","v":""},{"$f":"IF('Radio (Desc)'!Q75=\"\",\"\",'Radio (Desc)'!Q75)","v":""},{"$f":"IF('Radio (Desc)'!R75=\"\",\"\",'Radio (Desc)'!R75)","v":""},{"$f":"IF('Radio (Desc)'!S75=\"\",\"\",'Radio (Desc)'!S75)","v":""},{"$f":"IF('Radio (Desc)'!T75=\"\",\"\",'Radio (Desc)'!T75)","v":""},{"$f":"IF('Radio (Desc)'!U75=\"\",\"\",INDEX([1]DEV_INPUT_VOLTAGE!$A$2:$A$100,MATCH('Radio (Desc)'!$U75,[1]!MASTER_DEV_INPUT_VOLTAGE_DESC[#Data],0),0))","v":""},{"$f":"IF('Radio (Desc)'!V75=\"\",\"\",'Radio (Desc)'!V75)","v":""},{"$f":"IF('Radio (Desc)'!W75=\"\",\"\",'Radio (Desc)'!W75)","v":""},{"$f":"IF('Radio (Desc)'!X75=\"\",\"\",'Radio (Desc)'!X75)","v":""},{"$f":"IF('Radio (Desc)'!Y75=\"\",\"\",INDEX([1]FIBER_CONN_TYPE!$A$2:$A$100,MATCH('Radio (Desc)'!$Y75,[1]!MASTER_FIBER_CONN_TYPE_DESC[#Data],0),0))","v":""}]
[{"$f":"IF('Radio (Desc)'!A76=\"\",\"\",'Radio (Desc)'!A76)","v":""},{"$f":"IF('Radio (Desc)'!C76=\"\",\"\",\"2029\")","v":""},{"$f":"IF('Radio (Desc)'!C76=\"\",\"\",'Radio (Desc)'!C76)","v":""},{"$f":"IF('Radio (Desc)'!E76=\"\",\"\",\"RADIO\")","v":""},{"$f":"IF('Radio (Desc)'!E76=\"\",\"\",INDEX([1]RADIO_TYPE!$A$2:$A$100,MATCH('Radio (Desc)'!$E76,[1]!MASTER_RADIO_TYPE_DESC[#Data],0),0))","v":""},{"$f":"IF('Radio (Desc)'!F76=\"\",\"\",'Radio (Desc)'!F76)","v":""},{"$f":"IF('Radio (Desc)'!G76=\"\",\"\",INDEX([1]RADIO_FREQ!$A$2:$A$500,MATCH('Radio (Desc)'!$G76,[1]!MASTER_RADIO_FREQ_DESC[#Data],0),0))","v":""},{"$f":"IF('Radio (Desc)'!H76=\"\",\"\",'Radio (Desc)'!H76)","v":""},{"$f":"IF('Radio (Desc)'!I76=\"\",\"\",INDEX([1]RADIO_FREQ!$A$2:$A$500,MATCH('Radio (Desc)'!$I76,[1]!MASTER_RADIO_FREQ_DESC[#Data],0),0))","v":""},{"$f":"IF('Radio (Desc)'!J76=\"\",\"\",'Radio (Desc)'!J76)","v":""},{"$f":"IF('Radio (Desc)'!K76=\"\",\"\",INDEX([1]CALL_SIGN!$A$2:$A$600,MATCH('Radio (Desc)'!$K76,[1]!MASTER_CALL_SIGN_DESC[#Data],0),0))","v":""},{"$f":"IF('Radio (Desc)'!L76=\"\",\"\",INDEX([1]STATION_CLASS!$A$2:$A$100,MATCH('Radio (Desc)'!$L76,[1]!MASTER_STATION_CLASS_DESC[#Data],0),0))","v":""},{"$f":"IF('Radio (Desc)'!M76=\"\",\"\",'Radio (Desc)'!M76)","v":""},{"$f":"IF('Radio (Desc)'!N76=\"\",\"\",'Radio (Desc)'!N76)","v":""},{"$f":"IF('Radio (Desc)'!O76=\"\",\"\",INDEX([1]ITS_COMM_DEV_MANUF!$A$2:$A$300,MATCH(1,([1]ITS_COMM_DEV_MANUF!$B$2:$B$300='Radio (Desc)'!$O76)*([1]ITS_COMM_DEV_MANUF!$C$2:$C$300=\"RADIO\"),0),0))","v":""},{"$f":"IF('Radio (Desc)'!P76=\"\",\"\",INDEX([1]ITS_COMM_DEV_MODEL!$A$2:$A$500,MATCH(1,([1]ITS_COMM_DEV_MODEL!$C$2:$C$500='Radio (Desc)'!$O76)*([1]ITS_COMM_DEV_MODEL!$D$2:$D$500=\"RADIO\")*([1]ITS_COMM_DEV_MODEL!$E$2:$E$500='Radio (Desc)'!$P76),0),0))","v":""},{"$f":"IF('Radio (Desc)'!Q76=\"\",\"\",'Radio (Desc)'!Q76)","v":""},{"$f":"IF('Radio (Desc)'!R76=\"\",\"\",'Radio (Desc)'!R76)","v":""},{"$f":"IF('Radio (Desc)'!S76=\"\",\"\",'Radio (Desc)'!S76)","v":""},{"$f":"IF('Radio (Desc)'!T76=\"\",\"\",'Radio (Desc)'!T76)","v":""},{"$f":"IF('Radio (Desc)'!U76=\"\",\"\",INDEX([1]DEV_INPUT_VOLTAGE!$A$2:$A$100,MATCH('Radio (Desc)'!$U76,[1]!MASTER_DEV_INPUT_VOLTAGE_DESC[#Data],0),0))","v":""},{"$f":"IF('Radio (Desc)'!V76=\"\",\"\",'Radio (Desc)'!V76)","v":""},{"$f":"IF('Radio (Desc)'!W76=\"\",\"\",'Radio (Desc)'!W76)","v":""},{"$f":"IF('Radio (Desc)'!X76=\"\",\"\",'Radio (Desc)'!X76)","v":""},{"$f":"IF('Radio (Desc)'!Y76=\"\",\"\",INDEX([1]FIBER_CONN_TYPE!$A$2:$A$100,MATCH('Radio (Desc)'!$Y76,[1]!MASTER_FIBER_CONN_TYPE_DESC[#Data],0),0))","v":""}]
[{"$f":"IF('Radio (Desc)'!A77=\"\",\"\",'Radio (Desc)'!A77)","v":""},{"$f":"IF('Radio (Desc)'!C77=\"\",\"\",\"2029\")","v":""},{"$f":"IF('Radio (Desc)'!C77=\"\",\"\",'Radio (Desc)'!C77)","v":""},{"$f":"IF('Radio (Desc)'!E77=\"\",\"\",\"RADIO\")","v":""},{"$f":"IF('Radio (Desc)'!E77=\"\",\"\",INDEX([1]RADIO_TYPE!$A$2:$A$100,MATCH('Radio (Desc)'!$E77,[1]!MASTER_RADIO_TYPE_DESC[#Data],0),0))","v":""},{"$f":"IF('Radio (Desc)'!F77=\"\",\"\",'Radio (Desc)'!F77)","v":""},{"$f":"IF('Radio (Desc)'!G77=\"\",\"\",INDEX([1]RADIO_FREQ!$A$2:$A$500,MATCH('Radio (Desc)'!$G77,[1]!MASTER_RADIO_FREQ_DESC[#Data],0),0))","v":""},{"$f":"IF('Radio (Desc)'!H77=\"\",\"\",'Radio (Desc)'!H77)","v":""},{"$f":"IF('Radio (Desc)'!I77=\"\",\"\",INDEX([1]RADIO_FREQ!$A$2:$A$500,MATCH('Radio (Desc)'!$I77,[1]!MASTER_RADIO_FREQ_DESC[#Data],0),0))","v":""},{"$f":"IF('Radio (Desc)'!J77=\"\",\"\",'Radio (Desc)'!J77)","v":""},{"$f":"IF('Radio (Desc)'!K77=\"\",\"\",INDEX([1]CALL_SIGN!$A$2:$A$600,MATCH('Radio (Desc)'!$K77,[1]!MASTER_CALL_SIGN_DESC[#Data],0),0))","v":""},{"$f":"IF('Radio (Desc)'!L77=\"\",\"\",INDEX([1]STATION_CLASS!$A$2:$A$100,MATCH('Radio (Desc)'!$L77,[1]!MASTER_STATION_CLASS_DESC[#Data],0),0))","v":""},{"$f":"IF('Radio (Desc)'!M77=\"\",\"\",'Radio (Desc)'!M77)","v":""},{"$f":"IF('Radio (Desc)'!N77=\"\",\"\",'Radio (Desc)'!N77)","v":""},{"$f":"IF('Radio (Desc)'!O77=\"\",\"\",INDEX([1]ITS_COMM_DEV_MANUF!$A$2:$A$300,MATCH(1,([1]ITS_COMM_DEV_MANUF!$B$2:$B$300='Radio (Desc)'!$O77)*([1]ITS_COMM_DEV_MANUF!$C$2:$C$300=\"RADIO\"),0),0))","v":""},{"$f":"IF('Radio (Desc)'!P77=\"\",\"\",INDEX([1]ITS_COMM_DEV_MODEL!$A$2:$A$500,MATCH(1,([1]ITS_COMM_DEV_MODEL!$C$2:$C$500='Radio (Desc)'!$O77)*([1]ITS_COMM_DEV_MODEL!$D$2:$D$500=\"RADIO\")*([1]ITS_COMM_DEV_MODEL!$E$2:$E$500='Radio (Desc)'!$P77),0),0))","v":""},{"$f":"IF('Radio (Desc)'!Q77=\"\",\"\",'Radio (Desc)'!Q77)","v":""},{"$f":"IF('Radio (Desc)'!R77=\"\",\"\",'Radio (Desc)'!R77)","v":""},{"$f":"IF('Radio (Desc)'!S77=\"\",\"\",'Radio (Desc)'!S77)","v":""},{"$f":"IF('Radio (Desc)'!T77=\"\",\"\",'Radio (Desc)'!T77)","v":""},{"$f":"IF('Radio (Desc)'!U77=\"\",\"\",INDEX([1]DEV_INPUT_VOLTAGE!$A$2:$A$100,MATCH('Radio (Desc)'!$U77,[1]!MASTER_DEV_INPUT_VOLTAGE_DESC[#Data],0),0))","v":""},{"$f":"IF('Radio (Desc)'!V77=\"\",\"\",'Radio (Desc)'!V77)","v":""},{"$f":"IF('Radio (Desc)'!W77=\"\",\"\",'Radio (Desc)'!W77)","v":""},{"$f":"IF('Radio (Desc)'!X77=\"\",\"\",'Radio (Desc)'!X77)","v":""},{"$f":"IF('Radio (Desc)'!Y77=\"\",\"\",INDEX([1]FIBER_CONN_TYPE!$A$2:$A$100,MATCH('Radio (Desc)'!$Y77,[1]!MASTER_FIBER_CONN_TYPE_DESC[#Data],0),0))","v":""}]
[{"$f":"IF('Radio (Desc)'!A78=\"\",\"\",'Radio (Desc)'!A78)","v":""},{"$f":"IF('Radio (Desc)'!C78=\"\",\"\",\"2029\")","v":""},{"$f":"IF('Radio (Desc)'!C78=\"\",\"\",'Radio (Desc)'!C78)","v":""},{"$f":"IF('Radio (Desc)'!E78=\"\",\"\",\"RADIO\")","v":""},{"$f":"IF('Radio (Desc)'!E78=\"\",\"\",INDEX([1]RADIO_TYPE!$A$2:$A$100,MATCH('Radio (Desc)'!$E78,[1]!MASTER_RADIO_TYPE_DESC[#Data],0),0))","v":""},{"$f":"IF('Radio (Desc)'!F78=\"\",\"\",'Radio (Desc)'!F78)","v":""},{"$f":"IF('Radio (Desc)'!G78=\"\",\"\",INDEX([1]RADIO_FREQ!$A$2:$A$500,MATCH('Radio (Desc)'!$G78,[1]!MASTER_RADIO_FREQ_DESC[#Data],0),0))","v":""},{"$f":"IF('Radio (Desc)'!H78=\"\",\"\",'Radio (Desc)'!H78)","v":""},{"$f":"IF('Radio (Desc)'!I78=\"\",\"\",INDEX([1]RADIO_FREQ!$A$2:$A$500,MATCH('Radio (Desc)'!$I78,[1]!MASTER_RADIO_FREQ_DESC[#Data],0),0))","v":""},{"$f":"IF('Radio (Desc)'!J78=\"\",\"\",'Radio (Desc)'!J78)","v":""},{"$f":"IF('Radio (Desc)'!K78=\"\",\"\",INDEX([1]CALL_SIGN!$A$2:$A$600,MATCH('Radio (Desc)'!$K78,[1]!MASTER_CALL_SIGN_DESC[#Data],0),0))","v":""},{"$f":"IF('Radio (Desc)'!L78=\"\",\"\",INDEX([1]STATION_CLASS!$A$2:$A$100,MATCH('Radio (Desc)'!$L78,[1]!MASTER_STATION_CLASS_DESC[#Data],0),0))","v":""},{"$f":"IF('Radio (Desc)'!M78=\"\",\"\",'Radio (Desc)'!M78)","v":""},{"$f":"IF('Radio (Desc)'!N78=\"\",\"\",'Radio (Desc)'!N78)","v":""},{"$f":"IF('Radio (Desc)'!O78=\"\",\"\",INDEX([1]ITS_COMM_DEV_MANUF!$A$2:$A$300,MATCH(1,([1]ITS_COMM_DEV_MANUF!$B$2:$B$300='Radio (Desc)'!$O78)*([1]ITS_COMM_DEV_MANUF!$C$2:$C$300=\"RADIO\"),0),0))","v":""},{"$f":"IF('Radio (Desc)'!P78=\"\",\"\",INDEX([1]ITS_COMM_DEV_MODEL!$A$2:$A$500,MATCH(1,([1]ITS_COMM_DEV_MODEL!$C$2:$C$500='Radio (Desc)'!$O78)*([1]ITS_COMM_DEV_MODEL!$D$2:$D$500=\"RADIO\")*([1]ITS_COMM_DEV_MODEL!$E$2:$E$500='Radio (Desc)'!$P78),0),0))","v":""},{"$f":"IF('Radio (Desc)'!Q78=\"\",\"\",'Radio (Desc)'!Q78)","v":""},{"$f":"IF('Radio (Desc)'!R78=\"\",\"\",'Radio (Desc)'!R78)","v":""},{"$f":"IF('Radio (Desc)'!S78=\"\",\"\",'Radio (Desc)'!S78)","v":""},{"$f":"IF('Radio (Desc)'!T78=\"\",\"\",'Radio (Desc)'!T78)","v":""},{"$f":"IF('Radio (Desc)'!U78=\"\",\"\",INDEX([1]DEV_INPUT_VOLTAGE!$A$2:$A$100,MATCH('Radio (Desc)'!$U78,[1]!MASTER_DEV_INPUT_VOLTAGE_DESC[#Data],0),0))","v":""},{"$f":"IF('Radio (Desc)'!V78=\"\",\"\",'Radio (Desc)'!V78)","v":""},{"$f":"IF('Radio (Desc)'!W78=\"\",\"\",'Radio (Desc)'!W78)","v":""},{"$f":"IF('Radio (Desc)'!X78=\"\",\"\",'Radio (Desc)'!X78)","v":""},{"$f":"IF('Radio (Desc)'!Y78=\"\",\"\",INDEX([1]FIBER_CONN_TYPE!$A$2:$A$100,MATCH('Radio (Desc)'!$Y78,[1]!MASTER_FIBER_CONN_TYPE_DESC[#Data],0),0))","v":""}]
[{"$f":"IF('Radio (Desc)'!A79=\"\",\"\",'Radio (Desc)'!A79)","v":""},{"$f":"IF('Radio (Desc)'!C79=\"\",\"\",\"2029\")","v":""},{"$f":"IF('Radio (Desc)'!C79=\"\",\"\",'Radio (Desc)'!C79)","v":""},{"$f":"IF('Radio (Desc)'!E79=\"\",\"\",\"RADIO\")","v":""},{"$f":"IF('Radio (Desc)'!E79=\"\",\"\",INDEX([1]RADIO_TYPE!$A$2:$A$100,MATCH('Radio (Desc)'!$E79,[1]!MASTER_RADIO_TYPE_DESC[#Data],0),0))","v":""},{"$f":"IF('Radio (Desc)'!F79=\"\",\"\",'Radio (Desc)'!F79)","v":""},{"$f":"IF('Radio (Desc)'!G79=\"\",\"\",INDEX([1]RADIO_FREQ!$A$2:$A$500,MATCH('Radio (Desc)'!$G79,[1]!MASTER_RADIO_FREQ_DESC[#Data],0),0))","v":""},{"$f":"IF('Radio (Desc)'!H79=\"\",\"\",'Radio (Desc)'!H79)","v":""},{"$f":"IF('Radio (Desc)'!I79=\"\",\"\",INDEX([1]RADIO_FREQ!$A$2:$A$500,MATCH('Radio (Desc)'!$I79,[1]!MASTER_RADIO_FREQ_DESC[#Data],0),0))","v":""},{"$f":"IF('Radio (Desc)'!J79=\"\",\"\",'Radio (Desc)'!J79)","v":""},{"$f":"IF('Radio (Desc)'!K79=\"\",\"\",INDEX([1]CALL_SIGN!$A$2:$A$600,MATCH('Radio (Desc)'!$K79,[1]!MASTER_CALL_SIGN_DESC[#Data],0),0))","v":""},{"$f":"IF('Radio (Desc)'!L79=\"\",\"\",INDEX([1]STATION_CLASS!$A$2:$A$100,MATCH('Radio (Desc)'!$L79,[1]!MASTER_STATION_CLASS_DESC[#Data],0),0))","v":""},{"$f":"IF('Radio (Desc)'!M79=\"\",\"\",'Radio (Desc)'!M79)","v":""},{"$f":"IF('Radio (Desc)'!N79=\"\",\"\",'Radio (Desc)'!N79)","v":""},{"$f":"IF('Radio (Desc)'!O79=\"\",\"\",INDEX([1]ITS_COMM_DEV_MANUF!$A$2:$A$300,MATCH(1,([1]ITS_COMM_DEV_MANUF!$B$2:$B$300='Radio (Desc)'!$O79)*([1]ITS_COMM_DEV_MANUF!$C$2:$C$300=\"RADIO\"),0),0))","v":""},{"$f":"IF('Radio (Desc)'!P79=\"\",\"\",INDEX([1]ITS_COMM_DEV_MODEL!$A$2:$A$500,MATCH(1,([1]ITS_COMM_DEV_MODEL!$C$2:$C$500='Radio (Desc)'!$O79)*([1]ITS_COMM_DEV_MODEL!$D$2:$D$500=\"RADIO\")*([1]ITS_COMM_DEV_MODEL!$E$2:$E$500='Radio (Desc)'!$P79),0),0))","v":""},{"$f":"IF('Radio (Desc)'!Q79=\"\",\"\",'Radio (Desc)'!Q79)","v":""},{"$f":"IF('Radio (Desc)'!R79=\"\",\"\",'Radio (Desc)'!R79)","v":""},{"$f":"IF('Radio (Desc)'!S79=\"\",\"\",'Radio (Desc)'!S79)","v":""},{"$f":"IF('Radio (Desc)'!T79=\"\",\"\",'Radio (Desc)'!T79)","v":""},{"$f":"IF('Radio (Desc)'!U79=\"\",\"\",INDEX([1]DEV_INPUT_VOLTAGE!$A$2:$A$100,MATCH('Radio (Desc)'!$U79,[1]!MASTER_DEV_INPUT_VOLTAGE_DESC[#Data],0),0))","v":""},{"$f":"IF('Radio (Desc)'!V79=\"\",\"\",'Radio (Desc)'!V79)","v":""},{"$f":"IF('Radio (Desc)'!W79=\"\",\"\",'Radio (Desc)'!W79)","v":""},{"$f":"IF('Radio (Desc)'!X79=\"\",\"\",'Radio (Desc)'!X79)","v":""},{"$f":"IF('Radio (Desc)'!Y79=\"\",\"\",INDEX([1]FIBER_CONN_TYPE!$A$2:$A$100,MATCH('Radio (Desc)'!$Y79,[1]!MASTER_FIBER_CONN_TYPE_DESC[#Data],0),0))","v":""}]
[{"$f":"IF('Radio (Desc)'!A80=\"\",\"\",'Radio (Desc)'!A80)","v":""},{"$f":"IF('Radio (Desc)'!C80=\"\",\"\",\"2029\")","v":""},{"$f":"IF('Radio (Desc)'!C80=\"\",\"\",'Radio (Desc)'!C80)","v":""},{"$f":"IF('Radio (Desc)'!E80=\"\",\"\",\"RADIO\")","v":""},{"$f":"IF('Radio (Desc)'!E80=\"\",\"\",INDEX([1]RADIO_TYPE!$A$2:$A$100,MATCH('Radio (Desc)'!$E80,[1]!MASTER_RADIO_TYPE_DESC[#Data],0),0))","v":""},{"$f":"IF('Radio (Desc)'!F80=\"\",\"\",'Radio (Desc)'!F80)","v":""},{"$f":"IF('Radio (Desc)'!G80=\"\",\"\",INDEX([1]RADIO_FREQ!$A$2:$A$500,MATCH('Radio (Desc)'!$G80,[1]!MASTER_RADIO_FREQ_DESC[#Data],0),0))","v":""},{"$f":"IF('Radio (Desc)'!H80=\"\",\"\",'Radio (Desc)'!H80)","v":""},{"$f":"IF('Radio (Desc)'!I80=\"\",\"\",INDEX([1]RADIO_FREQ!$A$2:$A$500,MATCH('Radio (Desc)'!$I80,[1]!MASTER_RADIO_FREQ_DESC[#Data],0),0))","v":""},{"$f":"IF('Radio (Desc)'!J80=\"\",\"\",'Radio (Desc)'!J80)","v":""},{"$f":"IF('Radio (Desc)'!K80=\"\",\"\",INDEX([1]CALL_SIGN!$A$2:$A$600,MATCH('Radio (Desc)'!$K80,[1]!MASTER_CALL_SIGN_DESC[#Data],0),0))","v":""},{"$f":"IF('Radio (Desc)'!L80=\"\",\"\",INDEX([1]STATION_CLASS!$A$2:$A$100,MATCH('Radio (Desc)'!$L80,[1]!MASTER_STATION_CLASS_DESC[#Data],0),0))","v":""},{"$f":"IF('Radio (Desc)'!M80=\"\",\"\",'Radio (Desc)'!M80)","v":""},{"$f":"IF('Radio (Desc)'!N80=\"\",\"\",'Radio (Desc)'!N80)","v":""},{"$f":"IF('Radio (Desc)'!O80=\"\",\"\",INDEX([1]ITS_COMM_DEV_MANUF!$A$2:$A$300,MATCH(1,([1]ITS_COMM_DEV_MANUF!$B$2:$B$300='Radio (Desc)'!$O80)*([1]ITS_COMM_DEV_MANUF!$C$2:$C$300=\"RADIO\"),0),0))","v":""},{"$f":"IF('Radio (Desc)'!P80=\"\",\"\",INDEX([1]ITS_COMM_DEV_MODEL!$A$2:$A$500,MATCH(1,([1]ITS_COMM_DEV_MODEL!$C$2:$C$500='Radio (Desc)'!$O80)*([1]ITS_COMM_DEV_MODEL!$D$2:$D$500=\"RADIO\")*([1]ITS_COMM_DEV_MODEL!$E$2:$E$500='Radio (Desc)'!$P80),0),0))","v":""},{"$f":"IF('Radio (Desc)'!Q80=\"\",\"\",'Radio (Desc)'!Q80)","v":""},{"$f":"IF('Radio (Desc)'!R80=\"\",\"\",'Radio (Desc)'!R80)","v":""},{"$f":"IF('Radio (Desc)'!S80=\"\",\"\",'Radio (Desc)'!S80)","v":""},{"$f":"IF('Radio (Desc)'!T80=\"\",\"\",'Radio (Desc)'!T80)","v":""},{"$f":"IF('Radio (Desc)'!U80=\"\",\"\",INDEX([1]DEV_INPUT_VOLTAGE!$A$2:$A$100,MATCH('Radio (Desc)'!$U80,[1]!MASTER_DEV_INPUT_VOLTAGE_DESC[#Data],0),0))","v":""},{"$f":"IF('Radio (Desc)'!V80=\"\",\"\",'Radio (Desc)'!V80)","v":""},{"$f":"IF('Radio (Desc)'!W80=\"\",\"\",'Radio (Desc)'!W80)","v":""},{"$f":"IF('Radio (Desc)'!X80=\"\",\"\",'Radio (Desc)'!X80)","v":""},{"$f":"IF('Radio (Desc)'!Y80=\"\",\"\",INDEX([1]FIBER_CONN_TYPE!$A$2:$A$100,MATCH('Radio (Desc)'!$Y80,[1]!MASTER_FIBER_CONN_TYPE_DESC[#Data],0),0))","v":""}]
[{"$f":"IF('Radio (Desc)'!A81=\"\",\"\",'Radio (Desc)'!A81)","v":""},{"$f":"IF('Radio (Desc)'!C81=\"\",\"\",\"2029\")","v":""},{"$f":"IF('Radio (Desc)'!C81=\"\",\"\",'Radio (Desc)'!C81)","v":""},{"$f":"IF('Radio (Desc)'!E81=\"\",\"\",\"RADIO\")","v":""},{"$f":"IF('Radio (Desc)'!E81=\"\",\"\",INDEX([1]RADIO_TYPE!$A$2:$A$100,MATCH('Radio (Desc)'!$E81,[1]!MASTER_RADIO_TYPE_DESC[#Data],0),0))","v":""},{"$f":"IF('Radio (Desc)'!F81=\"\",\"\",'Radio (Desc)'!F81)","v":""},{"$f":"IF('Radio (Desc)'!G81=\"\",\"\",INDEX([1]RADIO_FREQ!$A$2:$A$500,MATCH('Radio (Desc)'!$G81,[1]!MASTER_RADIO_FREQ_DESC[#Data],0),0))","v":""},{"$f":"IF('Radio (Desc)'!H81=\"\",\"\",'Radio (Desc)'!H81)","v":""},{"$f":"IF('Radio (Desc)'!I81=\"\",\"\",INDEX([1]RADIO_FREQ!$A$2:$A$500,MATCH('Radio (Desc)'!$I81,[1]!MASTER_RADIO_FREQ_DESC[#Data],0),0))","v":""},{"$f":"IF('Radio (Desc)'!J81=\"\",\"\",'Radio (Desc)'!J81)","v":""},{"$f":"IF('Radio (Desc)'!K81=\"\",\"\",INDEX([1]CALL_SIGN!$A$2:$A$600,MATCH('Radio (Desc)'!$K81,[1]!MASTER_CALL_SIGN_DESC[#Data],0),0))","v":""},{"$f":"IF('Radio (Desc)'!L81=\"\",\"\",INDEX([1]STATION_CLASS!$A$2:$A$100,MATCH('Radio (Desc)'!$L81,[1]!MASTER_STATION_CLASS_DESC[#Data],0),0))","v":""},{"$f":"IF('Radio (Desc)'!M81=\"\",\"\",'Radio (Desc)'!M81)","v":""},{"$f":"IF('Radio (Desc)'!N81=\"\",\"\",'Radio (Desc)'!N81)","v":""},{"$f":"IF('Radio (Desc)'!O81=\"\",\"\",INDEX([1]ITS_COMM_DEV_MANUF!$A$2:$A$300,MATCH(1,([1]ITS_COMM_DEV_MANUF!$B$2:$B$300='Radio (Desc)'!$O81)*([1]ITS_COMM_DEV_MANUF!$C$2:$C$300=\"RADIO\"),0),0))","v":""},{"$f":"IF('Radio (Desc)'!P81=\"\",\"\",INDEX([1]ITS_COMM_DEV_MODEL!$A$2:$A$500,MATCH(1,([1]ITS_COMM_DEV_MODEL!$C$2:$C$500='Radio (Desc)'!$O81)*([1]ITS_COMM_DEV_MODEL!$D$2:$D$500=\"RADIO\")*([1]ITS_COMM_DEV_MODEL!$E$2:$E$500='Radio (Desc)'!$P81),0),0))","v":""},{"$f":"IF('Radio (Desc)'!Q81=\"\",\"\",'Radio (Desc)'!Q81)","v":""},{"$f":"IF('Radio (Desc)'!R81=\"\",\"\",'Radio (Desc)'!R81)","v":""},{"$f":"IF('Radio (Desc)'!S81=\"\",\"\",'Radio (Desc)'!S81)","v":""},{"$f":"IF('Radio (Desc)'!T81=\"\",\"\",'Radio (Desc)'!T81)","v":""},{"$f":"IF('Radio (Desc)'!U81=\"\",\"\",INDEX([1]DEV_INPUT_VOLTAGE!$A$2:$A$100,MATCH('Radio (Desc)'!$U81,[1]!MASTER_DEV_INPUT_VOLTAGE_DESC[#Data],0),0))","v":""},{"$f":"IF('Radio (Desc)'!V81=\"\",\"\",'Radio (Desc)'!V81)","v":""},{"$f":"IF('Radio (Desc)'!W81=\"\",\"\",'Radio (Desc)'!W81)","v":""},{"$f":"IF('Radio (Desc)'!X81=\"\",\"\",'Radio (Desc)'!X81)","v":""},{"$f":"IF('Radio (Desc)'!Y81=\"\",\"\",INDEX([1]FIBER_CONN_TYPE!$A$2:$A$100,MATCH('Radio (Desc)'!$Y81,[1]!MASTER_FIBER_CONN_TYPE_DESC[#Data],0),0))","v":""}]
[{"$f":"IF('Radio (Desc)'!A82=\"\",\"\",'Radio (Desc)'!A82)","v":""},{"$f":"IF('Radio (Desc)'!C82=\"\",\"\",\"2029\")","v":""},{"$f":"IF('Radio (Desc)'!C82=\"\",\"\",'Radio (Desc)'!C82)","v":""},{"$f":"IF('Radio (Desc)'!E82=\"\",\"\",\"RADIO\")","v":""},{"$f":"IF('Radio (Desc)'!E82=\"\",\"\",INDEX([1]RADIO_TYPE!$A$2:$A$100,MATCH('Radio (Desc)'!$E82,[1]!MASTER_RADIO_TYPE_DESC[#Data],0),0))","v":""},{"$f":"IF('Radio (Desc)'!F82=\"\",\"\",'Radio (Desc)'!F82)","v":""},{"$f":"IF('Radio (Desc)'!G82=\"\",\"\",INDEX([1]RADIO_FREQ!$A$2:$A$500,MATCH('Radio (Desc)'!$G82,[1]!MASTER_RADIO_FREQ_DESC[#Data],0),0))","v":""},{"$f":"IF('Radio (Desc)'!H82=\"\",\"\",'Radio (Desc)'!H82)","v":""},{"$f":"IF('Radio (Desc)'!I82=\"\",\"\",INDEX([1]RADIO_FREQ!$A$2:$A$500,MATCH('Radio (Desc)'!$I82,[1]!MASTER_RADIO_FREQ_DESC[#Data],0),0))","v":""},{"$f":"IF('Radio (Desc)'!J82=\"\",\"\",'Radio (Desc)'!J82)","v":""},{"$f":"IF('Radio (Desc)'!K82=\"\",\"\",INDEX([1]CALL_SIGN!$A$2:$A$600,MATCH('Radio (Desc)'!$K82,[1]!MASTER_CALL_SIGN_DESC[#Data],0),0))","v":""},{"$f":"IF('Radio (Desc)'!L82=\"\",\"\",INDEX([1]STATION_CLASS!$A$2:$A$100,MATCH('Radio (Desc)'!$L82,[1]!MASTER_STATION_CLASS_DESC[#Data],0),0))","v":""},{"$f":"IF('Radio (Desc)'!M82=\"\",\"\",'Radio (Desc)'!M82)","v":""},{"$f":"IF('Radio (Desc)'!N82=\"\",\"\",'Radio (Desc)'!N82)","v":""},{"$f":"IF('Radio (Desc)'!O82=\"\",\"\",INDEX([1]ITS_COMM_DEV_MANUF!$A$2:$A$300,MATCH(1,([1]ITS_COMM_DEV_MANUF!$B$2:$B$300='Radio (Desc)'!$O82)*([1]ITS_COMM_DEV_MANUF!$C$2:$C$300=\"RADIO\"),0),0))","v":""},{"$f":"IF('Radio (Desc)'!P82=\"\",\"\",INDEX([1]ITS_COMM_DEV_MODEL!$A$2:$A$500,MATCH(1,([1]ITS_COMM_DEV_MODEL!$C$2:$C$500='Radio (Desc)'!$O82)*([1]ITS_COMM_DEV_MODEL!$D$2:$D$500=\"RADIO\")*([1]ITS_COMM_DEV_MODEL!$E$2:$E$500='Radio (Desc)'!$P82),0),0))","v":""},{"$f":"IF('Radio (Desc)'!Q82=\"\",\"\",'Radio (Desc)'!Q82)","v":""},{"$f":"IF('Radio (Desc)'!R82=\"\",\"\",'Radio (Desc)'!R82)","v":""},{"$f":"IF('Radio (Desc)'!S82=\"\",\"\",'Radio (Desc)'!S82)","v":""},{"$f":"IF('Radio (Desc)'!T82=\"\",\"\",'Radio (Desc)'!T82)","v":""},{"$f":"IF('Radio (Desc)'!U82=\"\",\"\",INDEX([1]DEV_INPUT_VOLTAGE!$A$2:$A$100,MATCH('Radio (Desc)'!$U82,[1]!MASTER_DEV_INPUT_VOLTAGE_DESC[#Data],0),0))","v":""},{"$f":"IF('Radio (Desc)'!V82=\"\",\"\",'Radio (Desc)'!V82)","v":""},{"$f":"IF('Radio (Desc)'!W82=\"\",\"\",'Radio (Desc)'!W82)","v":""},{"$f":"IF('Radio (Desc)'!X82=\"\",\"\",'Radio (Desc)'!X82)","v":""},{"$f":"IF('Radio (Desc)'!Y82=\"\",\"\",INDEX([1]FIBER_CONN_TYPE!$A$2:$A$100,MATCH('Radio (Desc)'!$Y82,[1]!MASTER_FIBER_CONN_TYPE_DESC[#Data],0),0))","v":""}]
[{"$f":"IF('Radio (Desc)'!A83=\"\",\"\",'Radio (Desc)'!A83)","v":""},{"$f":"IF('Radio (Desc)'!C83=\"\",\"\",\"2029\")","v":""},{"$f":"IF('Radio (Desc)'!C83=\"\",\"\",'Radio (Desc)'!C83)","v":""},{"$f":"IF('Radio (Desc)'!E83=\"\",\"\",\"RADIO\")","v":""},{"$f":"IF('Radio (Desc)'!E83=\"\",\"\",INDEX([1]RADIO_TYPE!$A$2:$A$100,MATCH('Radio (Desc)'!$E83,[1]!MASTER_RADIO_TYPE_DESC[#Data],0),0))","v":""},{"$f":"IF('Radio (Desc)'!F83=\"\",\"\",'Radio (Desc)'!F83)","v":""},{"$f":"IF('Radio (Desc)'!G83=\"\",\"\",INDEX([1]RADIO_FREQ!$A$2:$A$500,MATCH('Radio (Desc)'!$G83,[1]!MASTER_RADIO_FREQ_DESC[#Data],0),0))","v":""},{"$f":"IF('Radio (Desc)'!H83=\"\",\"\",'Radio (Desc)'!H83)","v":""},{"$f":"IF('Radio (Desc)'!I83=\"\",\"\",INDEX([1]RADIO_FREQ!$A$2:$A$500,MATCH('Radio (Desc)'!$I83,[1]!MASTER_RADIO_FREQ_DESC[#Data],0),0))","v":""},{"$f":"IF('Radio (Desc)'!J83=\"\",\"\",'Radio (Desc)'!J83)","v":""},{"$f":"IF('Radio (Desc)'!K83=\"\",\"\",INDEX([1]CALL_SIGN!$A$2:$A$600,MATCH('Radio (Desc)'!$K83,[1]!MASTER_CALL_SIGN_DESC[#Data],0),0))","v":""},{"$f":"IF('Radio (Desc)'!L83=\"\",\"\",INDEX([1]STATION_CLASS!$A$2:$A$100,MATCH('Radio (Desc)'!$L83,[1]!MASTER_STATION_CLASS_DESC[#Data],0),0))","v":""},{"$f":"IF('Radio (Desc)'!M83=\"\",\"\",'Radio (Desc)'!M83)","v":""},{"$f":"IF('Radio (Desc)'!N83=\"\",\"\",'Radio (Desc)'!N83)","v":""},{"$f":"IF('Radio (Desc)'!O83=\"\",\"\",INDEX([1]ITS_COMM_DEV_MANUF!$A$2:$A$300,MATCH(1,([1]ITS_COMM_DEV_MANUF!$B$2:$B$300='Radio (Desc)'!$O83)*([1]ITS_COMM_DEV_MANUF!$C$2:$C$300=\"RADIO\"),0),0))","v":""},{"$f":"IF('Radio (Desc)'!P83=\"\",\"\",INDEX([1]ITS_COMM_DEV_MODEL!$A$2:$A$500,MATCH(1,([1]ITS_COMM_DEV_MODEL!$C$2:$C$500='Radio (Desc)'!$O83)*([1]ITS_COMM_DEV_MODEL!$D$2:$D$500=\"RADIO\")*([1]ITS_COMM_DEV_MODEL!$E$2:$E$500='Radio (Desc)'!$P83),0),0))","v":""},{"$f":"IF('Radio (Desc)'!Q83=\"\",\"\",'Radio (Desc)'!Q83)","v":""},{"$f":"IF('Radio (Desc)'!R83=\"\",\"\",'Radio (Desc)'!R83)","v":""},{"$f":"IF('Radio (Desc)'!S83=\"\",\"\",'Radio (Desc)'!S83)","v":""},{"$f":"IF('Radio (Desc)'!T83=\"\",\"\",'Radio (Desc)'!T83)","v":""},{"$f":"IF('Radio (Desc)'!U83=\"\",\"\",INDEX([1]DEV_INPUT_VOLTAGE!$A$2:$A$100,MATCH('Radio (Desc)'!$U83,[1]!MASTER_DEV_INPUT_VOLTAGE_DESC[#Data],0),0))","v":""},{"$f":"IF('Radio (Desc)'!V83=\"\",\"\",'Radio (Desc)'!V83)","v":""},{"$f":"IF('Radio (Desc)'!W83=\"\",\"\",'Radio (Desc)'!W83)","v":""},{"$f":"IF('Radio (Desc)'!X83=\"\",\"\",'Radio (Desc)'!X83)","v":""},{"$f":"IF('Radio (Desc)'!Y83=\"\",\"\",INDEX([1]FIBER_CONN_TYPE!$A$2:$A$100,MATCH('Radio (Desc)'!$Y83,[1]!MASTER_FIBER_CONN_TYPE_DESC[#Data],0),0))","v":""}]
[{"$f":"IF('Radio (Desc)'!A84=\"\",\"\",'Radio (Desc)'!A84)","v":""},{"$f":"IF('Radio (Desc)'!C84=\"\",\"\",\"2029\")","v":""},{"$f":"IF('Radio (Desc)'!C84=\"\",\"\",'Radio (Desc)'!C84)","v":""},{"$f":"IF('Radio (Desc)'!E84=\"\",\"\",\"RADIO\")","v":""},{"$f":"IF('Radio (Desc)'!E84=\"\",\"\",INDEX([1]RADIO_TYPE!$A$2:$A$100,MATCH('Radio (Desc)'!$E84,[1]!MASTER_RADIO_TYPE_DESC[#Data],0),0))","v":""},{"$f":"IF('Radio (Desc)'!F84=\"\",\"\",'Radio (Desc)'!F84)","v":""},{"$f":"IF('Radio (Desc)'!G84=\"\",\"\",INDEX([1]RADIO_FREQ!$A$2:$A$500,MATCH('Radio (Desc)'!$G84,[1]!MASTER_RADIO_FREQ_DESC[#Data],0),0))","v":""},{"$f":"IF('Radio (Desc)'!H84=\"\",\"\",'Radio (Desc)'!H84)","v":""},{"$f":"IF('Radio (Desc)'!I84=\"\",\"\",INDEX([1]RADIO_FREQ!$A$2:$A$500,MATCH('Radio (Desc)'!$I84,[1]!MASTER_RADIO_FREQ_DESC[#Data],0),0))","v":""},{"$f":"IF('Radio (Desc)'!J84=\"\",\"\",'Radio (Desc)'!J84)","v":""},{"$f":"IF('Radio (Desc)'!K84=\"\",\"\",INDEX([1]CALL_SIGN!$A$2:$A$600,MATCH('Radio (Desc)'!$K84,[1]!MASTER_CALL_SIGN_DESC[#Data],0),0))","v":""},{"$f":"IF('Radio (Desc)'!L84=\"\",\"\",INDEX([1]STATION_CLASS!$A$2:$A$100,MATCH('Radio (Desc)'!$L84,[1]!MASTER_STATION_CLASS_DESC[#Data],0),0))","v":""},{"$f":"IF('Radio (Desc)'!M84=\"\",\"\",'Radio (Desc)'!M84)","v":""},{"$f":"IF('Radio (Desc)'!N84=\"\",\"\",'Radio (Desc)'!N84)","v":""},{"$f":"IF('Radio (Desc)'!O84=\"\",\"\",INDEX([1]ITS_COMM_DEV_MANUF!$A$2:$A$300,MATCH(1,([1]ITS_COMM_DEV_MANUF!$B$2:$B$300='Radio (Desc)'!$O84)*([1]ITS_COMM_DEV_MANUF!$C$2:$C$300=\"RADIO\"),0),0))","v":""},{"$f":"IF('Radio (Desc)'!P84=\"\",\"\",INDEX([1]ITS_COMM_DEV_MODEL!$A$2:$A$500,MATCH(1,([1]ITS_COMM_DEV_MODEL!$C$2:$C$500='Radio (Desc)'!$O84)*([1]ITS_COMM_DEV_MODEL!$D$2:$D$500=\"RADIO\")*([1]ITS_COMM_DEV_MODEL!$E$2:$E$500='Radio (Desc)'!$P84),0),0))","v":""},{"$f":"IF('Radio (Desc)'!Q84=\"\",\"\",'Radio (Desc)'!Q84)","v":""},{"$f":"IF('Radio (Desc)'!R84=\"\",\"\",'Radio (Desc)'!R84)","v":""},{"$f":"IF('Radio (Desc)'!S84=\"\",\"\",'Radio (Desc)'!S84)","v":""},{"$f":"IF('Radio (Desc)'!T84=\"\",\"\",'Radio (Desc)'!T84)","v":""},{"$f":"IF('Radio (Desc)'!U84=\"\",\"\",INDEX([1]DEV_INPUT_VOLTAGE!$A$2:$A$100,MATCH('Radio (Desc)'!$U84,[1]!MASTER_DEV_INPUT_VOLTAGE_DESC[#Data],0),0))","v":""},{"$f":"IF('Radio (Desc)'!V84=\"\",\"\",'Radio (Desc)'!V84)","v":""},{"$f":"IF('Radio (Desc)'!W84=\"\",\"\",'Radio (Desc)'!W84)","v":""},{"$f":"IF('Radio (Desc)'!X84=\"\",\"\",'Radio (Desc)'!X84)","v":""},{"$f":"IF('Radio (Desc)'!Y84=\"\",\"\",INDEX([1]FIBER_CONN_TYPE!$A$2:$A$100,MATCH('Radio (Desc)'!$Y84,[1]!MASTER_FIBER_CONN_TYPE_DESC[#Data],0),0))","v":""}]
[{"$f":"IF('Radio (Desc)'!A85=\"\",\"\",'Radio (Desc)'!A85)","v":""},{"$f":"IF('Radio (Desc)'!C85=\"\",\"\",\"2029\")","v":""},{"$f":"IF('Radio (Desc)'!C85=\"\",\"\",'Radio (Desc)'!C85)","v":""},{"$f":"IF('Radio (Desc)'!E85=\"\",\"\",\"RADIO\")","v":""},{"$f":"IF('Radio (Desc)'!E85=\"\",\"\",INDEX([1]RADIO_TYPE!$A$2:$A$100,MATCH('Radio (Desc)'!$E85,[1]!MASTER_RADIO_TYPE_DESC[#Data],0),0))","v":""},{"$f":"IF('Radio (Desc)'!F85=\"\",\"\",'Radio (Desc)'!F85)","v":""},{"$f":"IF('Radio (Desc)'!G85=\"\",\"\",INDEX([1]RADIO_FREQ!$A$2:$A$500,MATCH('Radio (Desc)'!$G85,[1]!MASTER_RADIO_FREQ_DESC[#Data],0),0))","v":""},{"$f":"IF('Radio (Desc)'!H85=\"\",\"\",'Radio (Desc)'!H85)","v":""},{"$f":"IF('Radio (Desc)'!I85=\"\",\"\",INDEX([1]RADIO_FREQ!$A$2:$A$500,MATCH('Radio (Desc)'!$I85,[1]!MASTER_RADIO_FREQ_DESC[#Data],0),0))","v":""},{"$f":"IF('Radio (Desc)'!J85=\"\",\"\",'Radio (Desc)'!J85)","v":""},{"$f":"IF('Radio (Desc)'!K85=\"\",\"\",INDEX([1]CALL_SIGN!$A$2:$A$600,MATCH('Radio (Desc)'!$K85,[1]!MASTER_CALL_SIGN_DESC[#Data],0),0))","v":""},{"$f":"IF('Radio (Desc)'!L85=\"\",\"\",INDEX([1]STATION_CLASS!$A$2:$A$100,MATCH('Radio (Desc)'!$L85,[1]!MASTER_STATION_CLASS_DESC[#Data],0),0))","v":""},{"$f":"IF('Radio (Desc)'!M85=\"\",\"\",'Radio (Desc)'!M85)","v":""},{"$f":"IF('Radio (Desc)'!N85=\"\",\"\",'Radio (Desc)'!N85)","v":""},{"$f":"IF('Radio (Desc)'!O85=\"\",\"\",INDEX([1]ITS_COMM_DEV_MANUF!$A$2:$A$300,MATCH(1,([1]ITS_COMM_DEV_MANUF!$B$2:$B$300='Radio (Desc)'!$O85)*([1]ITS_COMM_DEV_MANUF!$C$2:$C$300=\"RADIO\"),0),0))","v":""},{"$f":"IF('Radio (Desc)'!P85=\"\",\"\",INDEX([1]ITS_COMM_DEV_MODEL!$A$2:$A$500,MATCH(1,([1]ITS_COMM_DEV_MODEL!$C$2:$C$500='Radio (Desc)'!$O85)*([1]ITS_COMM_DEV_MODEL!$D$2:$D$500=\"RADIO\")*([1]ITS_COMM_DEV_MODEL!$E$2:$E$500='Radio (Desc)'!$P85),0),0))","v":""},{"$f":"IF('Radio (Desc)'!Q85=\"\",\"\",'Radio (Desc)'!Q85)","v":""},{"$f":"IF('Radio (Desc)'!R85=\"\",\"\",'Radio (Desc)'!R85)","v":""},{"$f":"IF('Radio (Desc)'!S85=\"\",\"\",'Radio (Desc)'!S85)","v":""},{"$f":"IF('Radio (Desc)'!T85=\"\",\"\",'Radio (Desc)'!T85)","v":""},{"$f":"IF('Radio (Desc)'!U85=\"\",\"\",INDEX([1]DEV_INPUT_VOLTAGE!$A$2:$A$100,MATCH('Radio (Desc)'!$U85,[1]!MASTER_DEV_INPUT_VOLTAGE_DESC[#Data],0),0))","v":""},{"$f":"IF('Radio (Desc)'!V85=\"\",\"\",'Radio (Desc)'!V85)","v":""},{"$f":"IF('Radio (Desc)'!W85=\"\",\"\",'Radio (Desc)'!W85)","v":""},{"$f":"IF('Radio (Desc)'!X85=\"\",\"\",'Radio (Desc)'!X85)","v":""},{"$f":"IF('Radio (Desc)'!Y85=\"\",\"\",INDEX([1]FIBER_CONN_TYPE!$A$2:$A$100,MATCH('Radio (Desc)'!$Y85,[1]!MASTER_FIBER_CONN_TYPE_DESC[#Data],0),0))","v":""}]
[{"$f":"IF('Radio (Desc)'!A86=\"\",\"\",'Radio (Desc)'!A86)","v":""},{"$f":"IF('Radio (Desc)'!C86=\"\",\"\",\"2029\")","v":""},{"$f":"IF('Radio (Desc)'!C86=\"\",\"\",'Radio (Desc)'!C86)","v":""},{"$f":"IF('Radio (Desc)'!E86=\"\",\"\",\"RADIO\")","v":""},{"$f":"IF('Radio (Desc)'!E86=\"\",\"\",INDEX([1]RADIO_TYPE!$A$2:$A$100,MATCH('Radio (Desc)'!$E86,[1]!MASTER_RADIO_TYPE_DESC[#Data],0),0))","v":""},{"$f":"IF('Radio (Desc)'!F86=\"\",\"\",'Radio (Desc)'!F86)","v":""},{"$f":"IF('Radio (Desc)'!G86=\"\",\"\",INDEX([1]RADIO_FREQ!$A$2:$A$500,MATCH('Radio (Desc)'!$G86,[1]!MASTER_RADIO_FREQ_DESC[#Data],0),0))","v":""},{"$f":"IF('Radio (Desc)'!H86=\"\",\"\",'Radio (Desc)'!H86)","v":""},{"$f":"IF('Radio (Desc)'!I86=\"\",\"\",INDEX([1]RADIO_FREQ!$A$2:$A$500,MATCH('Radio (Desc)'!$I86,[1]!MASTER_RADIO_FREQ_DESC[#Data],0),0))","v":""},{"$f":"IF('Radio (Desc)'!J86=\"\",\"\",'Radio (Desc)'!J86)","v":""},{"$f":"IF('Radio (Desc)'!K86=\"\",\"\",INDEX([1]CALL_SIGN!$A$2:$A$600,MATCH('Radio (Desc)'!$K86,[1]!MASTER_CALL_SIGN_DESC[#Data],0),0))","v":""},{"$f":"IF('Radio (Desc)'!L86=\"\",\"\",INDEX([1]STATION_CLASS!$A$2:$A$100,MATCH('Radio (Desc)'!$L86,[1]!MASTER_STATION_CLASS_DESC[#Data],0),0))","v":""},{"$f":"IF('Radio (Desc)'!M86=\"\",\"\",'Radio (Desc)'!M86)","v":""},{"$f":"IF('Radio (Desc)'!N86=\"\",\"\",'Radio (Desc)'!N86)","v":""},{"$f":"IF('Radio (Desc)'!O86=\"\",\"\",INDEX([1]ITS_COMM_DEV_MANUF!$A$2:$A$300,MATCH(1,([1]ITS_COMM_DEV_MANUF!$B$2:$B$300='Radio (Desc)'!$O86)*([1]ITS_COMM_DEV_MANUF!$C$2:$C$300=\"RADIO\"),0),0))","v":""},{"$f":"IF('Radio (Desc)'!P86=\"\",\"\",INDEX([1]ITS_COMM_DEV_MODEL!$A$2:$A$500,MATCH(1,([1]ITS_COMM_DEV_MODEL!$C$2:$C$500='Radio (Desc)'!$O86)*([1]ITS_COMM_DEV_MODEL!$D$2:$D$500=\"RADIO\")*([1]ITS_COMM_DEV_MODEL!$E$2:$E$500='Radio (Desc)'!$P86),0),0))","v":""},{"$f":"IF('Radio (Desc)'!Q86=\"\",\"\",'Radio (Desc)'!Q86)","v":""},{"$f":"IF('Radio (Desc)'!R86=\"\",\"\",'Radio (Desc)'!R86)","v":""},{"$f":"IF('Radio (Desc)'!S86=\"\",\"\",'Radio (Desc)'!S86)","v":""},{"$f":"IF('Radio (Desc)'!T86=\"\",\"\",'Radio (Desc)'!T86)","v":""},{"$f":"IF('Radio (Desc)'!U86=\"\",\"\",INDEX([1]DEV_INPUT_VOLTAGE!$A$2:$A$100,MATCH('Radio (Desc)'!$U86,[1]!MASTER_DEV_INPUT_VOLTAGE_DESC[#Data],0),0))","v":""},{"$f":"IF('Radio (Desc)'!V86=\"\",\"\",'Radio (Desc)'!V86)","v":""},{"$f":"IF('Radio (Desc)'!W86=\"\",\"\",'Radio (Desc)'!W86)","v":""},{"$f":"IF('Radio (Desc)'!X86=\"\",\"\",'Radio (Desc)'!X86)","v":""},{"$f":"IF('Radio (Desc)'!Y86=\"\",\"\",INDEX([1]FIBER_CONN_TYPE!$A$2:$A$100,MATCH('Radio (Desc)'!$Y86,[1]!MASTER_FIBER_CONN_TYPE_DESC[#Data],0),0))","v":""}]
[{"$f":"IF('Radio (Desc)'!A87=\"\",\"\",'Radio (Desc)'!A87)","v":""},{"$f":"IF('Radio (Desc)'!C87=\"\",\"\",\"2029\")","v":""},{"$f":"IF('Radio (Desc)'!C87=\"\",\"\",'Radio (Desc)'!C87)","v":""},{"$f":"IF('Radio (Desc)'!E87=\"\",\"\",\"RADIO\")","v":""},{"$f":"IF('Radio (Desc)'!E87=\"\",\"\",INDEX([1]RADIO_TYPE!$A$2:$A$100,MATCH('Radio (Desc)'!$E87,[1]!MASTER_RADIO_TYPE_DESC[#Data],0),0))","v":""},{"$f":"IF('Radio (Desc)'!F87=\"\",\"\",'Radio (Desc)'!F87)","v":""},{"$f":"IF('Radio (Desc)'!G87=\"\",\"\",INDEX([1]RADIO_FREQ!$A$2:$A$500,MATCH('Radio (Desc)'!$G87,[1]!MASTER_RADIO_FREQ_DESC[#Data],0),0))","v":""},{"$f":"IF('Radio (Desc)'!H87=\"\",\"\",'Radio (Desc)'!H87)","v":""},{"$f":"IF('Radio (Desc)'!I87=\"\",\"\",INDEX([1]RADIO_FREQ!$A$2:$A$500,MATCH('Radio (Desc)'!$I87,[1]!MASTER_RADIO_FREQ_DESC[#Data],0),0))","v":""},{"$f":"IF('Radio (Desc)'!J87=\"\",\"\",'Radio (Desc)'!J87)","v":""},{"$f":"IF('Radio (Desc)'!K87=\"\",\"\",INDEX([1]CALL_SIGN!$A$2:$A$600,MATCH('Radio (Desc)'!$K87,[1]!MASTER_CALL_SIGN_DESC[#Data],0),0))","v":""},{"$f":"IF('Radio (Desc)'!L87=\"\",\"\",INDEX([1]STATION_CLASS!$A$2:$A$100,MATCH('Radio (Desc)'!$L87,[1]!MASTER_STATION_CLASS_DESC[#Data],0),0))","v":""},{"$f":"IF('Radio (Desc)'!M87=\"\",\"\",'Radio (Desc)'!M87)","v":""},{"$f":"IF('Radio (Desc)'!N87=\"\",\"\",'Radio (Desc)'!N87)","v":""},{"$f":"IF('Radio (Desc)'!O87=\"\",\"\",INDEX([1]ITS_COMM_DEV_MANUF!$A$2:$A$300,MATCH(1,([1]ITS_COMM_DEV_MANUF!$B$2:$B$300='Radio (Desc)'!$O87)*([1]ITS_COMM_DEV_MANUF!$C$2:$C$300=\"RADIO\"),0),0))","v":""},{"$f":"IF('Radio (Desc)'!P87=\"\",\"\",INDEX([1]ITS_COMM_DEV_MODEL!$A$2:$A$500,MATCH(1,([1]ITS_COMM_DEV_MODEL!$C$2:$C$500='Radio (Desc)'!$O87)*([1]ITS_COMM_DEV_MODEL!$D$2:$D$500=\"RADIO\")*([1]ITS_COMM_DEV_MODEL!$E$2:$E$500='Radio (Desc)'!$P87),0),0))","v":""},{"$f":"IF('Radio (Desc)'!Q87=\"\",\"\",'Radio (Desc)'!Q87)","v":""},{"$f":"IF('Radio (Desc)'!R87=\"\",\"\",'Radio (Desc)'!R87)","v":""},{"$f":"IF('Radio (Desc)'!S87=\"\",\"\",'Radio (Desc)'!S87)","v":""},{"$f":"IF('Radio (Desc)'!T87=\"\",\"\",'Radio (Desc)'!T87)","v":""},{"$f":"IF('Radio (Desc)'!U87=\"\",\"\",INDEX([1]DEV_INPUT_VOLTAGE!$A$2:$A$100,MATCH('Radio (Desc)'!$U87,[1]!MASTER_DEV_INPUT_VOLTAGE_DESC[#Data],0),0))","v":""},{"$f":"IF('Radio (Desc)'!V87=\"\",\"\",'Radio (Desc)'!V87)","v":""},{"$f":"IF('Radio (Desc)'!W87=\"\",\"\",'Radio (Desc)'!W87)","v":""},{"$f":"IF('Radio (Desc)'!X87=\"\",\"\",'Radio (Desc)'!X87)","v":""},{"$f":"IF('Radio (Desc)'!Y87=\"\",\"\",INDEX([1]FIBER_CONN_TYPE!$A$2:$A$100,MATCH('Radio (Desc)'!$Y87,[1]!MASTER_FIBER_CONN_TYPE_DESC[#Data],0),0))","v":""}]
[{"$f":"IF('Radio (Desc)'!A88=\"\",\"\",'Radio (Desc)'!A88)","v":""},{"$f":"IF('Radio (Desc)'!C88=\"\",\"\",\"2029\")","v":""},{"$f":"IF('Radio (Desc)'!C88=\"\",\"\",'Radio (Desc)'!C88)","v":""},{"$f":"IF('Radio (Desc)'!E88=\"\",\"\",\"RADIO\")","v":""},{"$f":"IF('Radio (Desc)'!E88=\"\",\"\",INDEX([1]RADIO_TYPE!$A$2:$A$100,MATCH('Radio (Desc)'!$E88,[1]!MASTER_RADIO_TYPE_DESC[#Data],0),0))","v":""},{"$f":"IF('Radio (Desc)'!F88=\"\",\"\",'Radio (Desc)'!F88)","v":""},{"$f":"IF('Radio (Desc)'!G88=\"\",\"\",INDEX([1]RADIO_FREQ!$A$2:$A$500,MATCH('Radio (Desc)'!$G88,[1]!MASTER_RADIO_FREQ_DESC[#Data],0),0))","v":""},{"$f":"IF('Radio (Desc)'!H88=\"\",\"\",'Radio (Desc)'!H88)","v":""},{"$f":"IF('Radio (Desc)'!I88=\"\",\"\",INDEX([1]RADIO_FREQ!$A$2:$A$500,MATCH('Radio (Desc)'!$I88,[1]!MASTER_RADIO_FREQ_DESC[#Data],0),0))","v":""},{"$f":"IF('Radio (Desc)'!J88=\"\",\"\",'Radio (Desc)'!J88)","v":""},{"$f":"IF('Radio (Desc)'!K88=\"\",\"\",INDEX([1]CALL_SIGN!$A$2:$A$600,MATCH('Radio (Desc)'!$K88,[1]!MASTER_CALL_SIGN_DESC[#Data],0),0))","v":""},{"$f":"IF('Radio (Desc)'!L88=\"\",\"\",INDEX([1]STATION_CLASS!$A$2:$A$100,MATCH('Radio (Desc)'!$L88,[1]!MASTER_STATION_CLASS_DESC[#Data],0),0))","v":""},{"$f":"IF('Radio (Desc)'!M88=\"\",\"\",'Radio (Desc)'!M88)","v":""},{"$f":"IF('Radio (Desc)'!N88=\"\",\"\",'Radio (Desc)'!N88)","v":""},{"$f":"IF('Radio (Desc)'!O88=\"\",\"\",INDEX([1]ITS_COMM_DEV_MANUF!$A$2:$A$300,MATCH(1,([1]ITS_COMM_DEV_MANUF!$B$2:$B$300='Radio (Desc)'!$O88)*([1]ITS_COMM_DEV_MANUF!$C$2:$C$300=\"RADIO\"),0),0))","v":""},{"$f":"IF('Radio (Desc)'!P88=\"\",\"\",INDEX([1]ITS_COMM_DEV_MODEL!$A$2:$A$500,MATCH(1,([1]ITS_COMM_DEV_MODEL!$C$2:$C$500='Radio (Desc)'!$O88)*([1]ITS_COMM_DEV_MODEL!$D$2:$D$500=\"RADIO\")*([1]ITS_COMM_DEV_MODEL!$E$2:$E$500='Radio (Desc)'!$P88),0),0))","v":""},{"$f":"IF('Radio (Desc)'!Q88=\"\",\"\",'Radio (Desc)'!Q88)","v":""},{"$f":"IF('Radio (Desc)'!R88=\"\",\"\",'Radio (Desc)'!R88)","v":""},{"$f":"IF('Radio (Desc)'!S88=\"\",\"\",'Radio (Desc)'!S88)","v":""},{"$f":"IF('Radio (Desc)'!T88=\"\",\"\",'Radio (Desc)'!T88)","v":""},{"$f":"IF('Radio (Desc)'!U88=\"\",\"\",INDEX([1]DEV_INPUT_VOLTAGE!$A$2:$A$100,MATCH('Radio (Desc)'!$U88,[1]!MASTER_DEV_INPUT_VOLTAGE_DESC[#Data],0),0))","v":""},{"$f":"IF('Radio (Desc)'!V88=\"\",\"\",'Radio (Desc)'!V88)","v":""},{"$f":"IF('Radio (Desc)'!W88=\"\",\"\",'Radio (Desc)'!W88)","v":""},{"$f":"IF('Radio (Desc)'!X88=\"\",\"\",'Radio (Desc)'!X88)","v":""},{"$f":"IF('Radio (Desc)'!Y88=\"\",\"\",INDEX([1]FIBER_CONN_TYPE!$A$2:$A$100,MATCH('Radio (Desc)'!$Y88,[1]!MASTER_FIBER_CONN_TYPE_DESC[#Data],0),0))","v":""}]
[{"$f":"IF('Radio (Desc)'!A89=\"\",\"\",'Radio (Desc)'!A89)","v":""},{"$f":"IF('Radio (Desc)'!C89=\"\",\"\",\"2029\")","v":""},{"$f":"IF('Radio (Desc)'!C89=\"\",\"\",'Radio (Desc)'!C89)","v":""},{"$f":"IF('Radio (Desc)'!E89=\"\",\"\",\"RADIO\")","v":""},{"$f":"IF('Radio (Desc)'!E89=\"\",\"\",INDEX([1]RADIO_TYPE!$A$2:$A$100,MATCH('Radio (Desc)'!$E89,[1]!MASTER_RADIO_TYPE_DESC[#Data],0),0))","v":""},{"$f":"IF('Radio (Desc)'!F89=\"\",\"\",'Radio (Desc)'!F89)","v":""},{"$f":"IF('Radio (Desc)'!G89=\"\",\"\",INDEX([1]RADIO_FREQ!$A$2:$A$500,MATCH('Radio (Desc)'!$G89,[1]!MASTER_RADIO_FREQ_DESC[#Data],0),0))","v":""},{"$f":"IF('Radio (Desc)'!H89=\"\",\"\",'Radio (Desc)'!H89)","v":""},{"$f":"IF('Radio (Desc)'!I89=\"\",\"\",INDEX([1]RADIO_FREQ!$A$2:$A$500,MATCH('Radio (Desc)'!$I89,[1]!MASTER_RADIO_FREQ_DESC[#Data],0),0))","v":""},{"$f":"IF('Radio (Desc)'!J89=\"\",\"\",'Radio (Desc)'!J89)","v":""},{"$f":"IF('Radio (Desc)'!K89=\"\",\"\",INDEX([1]CALL_SIGN!$A$2:$A$600,MATCH('Radio (Desc)'!$K89,[1]!MASTER_CALL_SIGN_DESC[#Data],0),0))","v":""},{"$f":"IF('Radio (Desc)'!L89=\"\",\"\",INDEX([1]STATION_CLASS!$A$2:$A$100,MATCH('Radio (Desc)'!$L89,[1]!MASTER_STATION_CLASS_DESC[#Data],0),0))","v":""},{"$f":"IF('Radio (Desc)'!M89=\"\",\"\",'Radio (Desc)'!M89)","v":""},{"$f":"IF('Radio (Desc)'!N89=\"\",\"\",'Radio (Desc)'!N89)","v":""},{"$f":"IF('Radio (Desc)'!O89=\"\",\"\",INDEX([1]ITS_COMM_DEV_MANUF!$A$2:$A$300,MATCH(1,([1]ITS_COMM_DEV_MANUF!$B$2:$B$300='Radio (Desc)'!$O89)*([1]ITS_COMM_DEV_MANUF!$C$2:$C$300=\"RADIO\"),0),0))","v":""},{"$f":"IF('Radio (Desc)'!P89=\"\",\"\",INDEX([1]ITS_COMM_DEV_MODEL!$A$2:$A$500,MATCH(1,([1]ITS_COMM_DEV_MODEL!$C$2:$C$500='Radio (Desc)'!$O89)*([1]ITS_COMM_DEV_MODEL!$D$2:$D$500=\"RADIO\")*([1]ITS_COMM_DEV_MODEL!$E$2:$E$500='Radio (Desc)'!$P89),0),0))","v":""},{"$f":"IF('Radio (Desc)'!Q89=\"\",\"\",'Radio (Desc)'!Q89)","v":""},{"$f":"IF('Radio (Desc)'!R89=\"\",\"\",'Radio (Desc)'!R89)","v":""},{"$f":"IF('Radio (Desc)'!S89=\"\",\"\",'Radio (Desc)'!S89)","v":""},{"$f":"IF('Radio (Desc)'!T89=\"\",\"\",'Radio (Desc)'!T89)","v":""},{"$f":"IF('Radio (Desc)'!U89=\"\",\"\",INDEX([1]DEV_INPUT_VOLTAGE!$A$2:$A$100,MATCH('Radio (Desc)'!$U89,[1]!MASTER_DEV_INPUT_VOLTAGE_DESC[#Data],0),0))","v":""},{"$f":"IF('Radio (Desc)'!V89=\"\",\"\",'Radio (Desc)'!V89)","v":""},{"$f":"IF('Radio (Desc)'!W89=\"\",\"\",'Radio (Desc)'!W89)","v":""},{"$f":"IF('Radio (Desc)'!X89=\"\",\"\",'Radio (Desc)'!X89)","v":""},{"$f":"IF('Radio (Desc)'!Y89=\"\",\"\",INDEX([1]FIBER_CONN_TYPE!$A$2:$A$100,MATCH('Radio (Desc)'!$Y89,[1]!MASTER_FIBER_CONN_TYPE_DESC[#Data],0),0))","v":""}]
[{"$f":"IF('Radio (Desc)'!A90=\"\",\"\",'Radio (Desc)'!A90)","v":""},{"$f":"IF('Radio (Desc)'!C90=\"\",\"\",\"2029\")","v":""},{"$f":"IF('Radio (Desc)'!C90=\"\",\"\",'Radio (Desc)'!C90)","v":""},{"$f":"IF('Radio (Desc)'!E90=\"\",\"\",\"RADIO\")","v":""},{"$f":"IF('Radio (Desc)'!E90=\"\",\"\",INDEX([1]RADIO_TYPE!$A$2:$A$100,MATCH('Radio (Desc)'!$E90,[1]!MASTER_RADIO_TYPE_DESC[#Data],0),0))","v":""},{"$f":"IF('Radio (Desc)'!F90=\"\",\"\",'Radio (Desc)'!F90)","v":""},{"$f":"IF('Radio (Desc)'!G90=\"\",\"\",INDEX([1]RADIO_FREQ!$A$2:$A$500,MATCH('Radio (Desc)'!$G90,[1]!MASTER_RADIO_FREQ_DESC[#Data],0),0))","v":""},{"$f":"IF('Radio (Desc)'!H90=\"\",\"\",'Radio (Desc)'!H90)","v":""},{"$f":"IF('Radio (Desc)'!I90=\"\",\"\",INDEX([1]RADIO_FREQ!$A$2:$A$500,MATCH('Radio (Desc)'!$I90,[1]!MASTER_RADIO_FREQ_DESC[#Data],0),0))","v":""},{"$f":"IF('Radio (Desc)'!J90=\"\",\"\",'Radio (Desc)'!J90)","v":""},{"$f":"IF('Radio (Desc)'!K90=\"\",\"\",INDEX([1]CALL_SIGN!$A$2:$A$600,MATCH('Radio (Desc)'!$K90,[1]!MASTER_CALL_SIGN_DESC[#Data],0),0))","v":""},{"$f":"IF('Radio (Desc)'!L90=\"\",\"\",INDEX([1]STATION_CLASS!$A$2:$A$100,MATCH('Radio (Desc)'!$L90,[1]!MASTER_STATION_CLASS_DESC[#Data],0),0))","v":""},{"$f":"IF('Radio (Desc)'!M90=\"\",\"\",'Radio (Desc)'!M90)","v":""},{"$f":"IF('Radio (Desc)'!N90=\"\",\"\",'Radio (Desc)'!N90)","v":""},{"$f":"IF('Radio (Desc)'!O90=\"\",\"\",INDEX([1]ITS_COMM_DEV_MANUF!$A$2:$A$300,MATCH(1,([1]ITS_COMM_DEV_MANUF!$B$2:$B$300='Radio (Desc)'!$O90)*([1]ITS_COMM_DEV_MANUF!$C$2:$C$300=\"RADIO\"),0),0))","v":""},{"$f":"IF('Radio (Desc)'!P90=\"\",\"\",INDEX([1]ITS_COMM_DEV_MODEL!$A$2:$A$500,MATCH(1,([1]ITS_COMM_DEV_MODEL!$C$2:$C$500='Radio (Desc)'!$O90)*([1]ITS_COMM_DEV_MODEL!$D$2:$D$500=\"RADIO\")*([1]ITS_COMM_DEV_MODEL!$E$2:$E$500='Radio (Desc)'!$P90),0),0))","v":""},{"$f":"IF('Radio (Desc)'!Q90=\"\",\"\",'Radio (Desc)'!Q90)","v":""},{"$f":"IF('Radio (Desc)'!R90=\"\",\"\",'Radio (Desc)'!R90)","v":""},{"$f":"IF('Radio (Desc)'!S90=\"\",\"\",'Radio (Desc)'!S90)","v":""},{"$f":"IF('Radio (Desc)'!T90=\"\",\"\",'Radio (Desc)'!T90)","v":""},{"$f":"IF('Radio (Desc)'!U90=\"\",\"\",INDEX([1]DEV_INPUT_VOLTAGE!$A$2:$A$100,MATCH('Radio (Desc)'!$U90,[1]!MASTER_DEV_INPUT_VOLTAGE_DESC[#Data],0),0))","v":""},{"$f":"IF('Radio (Desc)'!V90=\"\",\"\",'Radio (Desc)'!V90)","v":""},{"$f":"IF('Radio (Desc)'!W90=\"\",\"\",'Radio (Desc)'!W90)","v":""},{"$f":"IF('Radio (Desc)'!X90=\"\",\"\",'Radio (Desc)'!X90)","v":""},{"$f":"IF('Radio (Desc)'!Y90=\"\",\"\",INDEX([1]FIBER_CONN_TYPE!$A$2:$A$100,MATCH('Radio (Desc)'!$Y90,[1]!MASTER_FIBER_CONN_TYPE_DESC[#Data],0),0))","v":""}]
[{"$f":"IF('Radio (Desc)'!A91=\"\",\"\",'Radio (Desc)'!A91)","v":""},{"$f":"IF('Radio (Desc)'!C91=\"\",\"\",\"2029\")","v":""},{"$f":"IF('Radio (Desc)'!C91=\"\",\"\",'Radio (Desc)'!C91)","v":""},{"$f":"IF('Radio (Desc)'!E91=\"\",\"\",\"RADIO\")","v":""},{"$f":"IF('Radio (Desc)'!E91=\"\",\"\",INDEX([1]RADIO_TYPE!$A$2:$A$100,MATCH('Radio (Desc)'!$E91,[1]!MASTER_RADIO_TYPE_DESC[#Data],0),0))","v":""},{"$f":"IF('Radio (Desc)'!F91=\"\",\"\",'Radio (Desc)'!F91)","v":""},{"$f":"IF('Radio (Desc)'!G91=\"\",\"\",INDEX([1]RADIO_FREQ!$A$2:$A$500,MATCH('Radio (Desc)'!$G91,[1]!MASTER_RADIO_FREQ_DESC[#Data],0),0))","v":""},{"$f":"IF('Radio (Desc)'!H91=\"\",\"\",'Radio (Desc)'!H91)","v":""},{"$f":"IF('Radio (Desc)'!I91=\"\",\"\",INDEX([1]RADIO_FREQ!$A$2:$A$500,MATCH('Radio (Desc)'!$I91,[1]!MASTER_RADIO_FREQ_DESC[#Data],0),0))","v":""},{"$f":"IF('Radio (Desc)'!J91=\"\",\"\",'Radio (Desc)'!J91)","v":""},{"$f":"IF('Radio (Desc)'!K91=\"\",\"\",INDEX([1]CALL_SIGN!$A$2:$A$600,MATCH('Radio (Desc)'!$K91,[1]!MASTER_CALL_SIGN_DESC[#Data],0),0))","v":""},{"$f":"IF('Radio (Desc)'!L91=\"\",\"\",INDEX([1]STATION_CLASS!$A$2:$A$100,MATCH('Radio (Desc)'!$L91,[1]!MASTER_STATION_CLASS_DESC[#Data],0),0))","v":""},{"$f":"IF('Radio (Desc)'!M91=\"\",\"\",'Radio (Desc)'!M91)","v":""},{"$f":"IF('Radio (Desc)'!N91=\"\",\"\",'Radio (Desc)'!N91)","v":""},{"$f":"IF('Radio (Desc)'!O91=\"\",\"\",INDEX([1]ITS_COMM_DEV_MANUF!$A$2:$A$300,MATCH(1,([1]ITS_COMM_DEV_MANUF!$B$2:$B$300='Radio (Desc)'!$O91)*([1]ITS_COMM_DEV_MANUF!$C$2:$C$300=\"RADIO\"),0),0))","v":""},{"$f":"IF('Radio (Desc)'!P91=\"\",\"\",INDEX([1]ITS_COMM_DEV_MODEL!$A$2:$A$500,MATCH(1,([1]ITS_COMM_DEV_MODEL!$C$2:$C$500='Radio (Desc)'!$O91)*([1]ITS_COMM_DEV_MODEL!$D$2:$D$500=\"RADIO\")*([1]ITS_COMM_DEV_MODEL!$E$2:$E$500='Radio (Desc)'!$P91),0),0))","v":""},{"$f":"IF('Radio (Desc)'!Q91=\"\",\"\",'Radio (Desc)'!Q91)","v":""},{"$f":"IF('Radio (Desc)'!R91=\"\",\"\",'Radio (Desc)'!R91)","v":""},{"$f":"IF('Radio (Desc)'!S91=\"\",\"\",'Radio (Desc)'!S91)","v":""},{"$f":"IF('Radio (Desc)'!T91=\"\",\"\",'Radio (Desc)'!T91)","v":""},{"$f":"IF('Radio (Desc)'!U91=\"\",\"\",INDEX([1]DEV_INPUT_VOLTAGE!$A$2:$A$100,MATCH('Radio (Desc)'!$U91,[1]!MASTER_DEV_INPUT_VOLTAGE_DESC[#Data],0),0))","v":""},{"$f":"IF('Radio (Desc)'!V91=\"\",\"\",'Radio (Desc)'!V91)","v":""},{"$f":"IF('Radio (Desc)'!W91=\"\",\"\",'Radio (Desc)'!W91)","v":""},{"$f":"IF('Radio (Desc)'!X91=\"\",\"\",'Radio (Desc)'!X91)","v":""},{"$f":"IF('Radio (Desc)'!Y91=\"\",\"\",INDEX([1]FIBER_CONN_TYPE!$A$2:$A$100,MATCH('Radio (Desc)'!$Y91,[1]!MASTER_FIBER_CONN_TYPE_DESC[#Data],0),0))","v":""}]
[{"$f":"IF('Radio (Desc)'!A92=\"\",\"\",'Radio (Desc)'!A92)","v":""},{"$f":"IF('Radio (Desc)'!C92=\"\",\"\",\"2029\")","v":""},{"$f":"IF('Radio (Desc)'!C92=\"\",\"\",'Radio (Desc)'!C92)","v":""},{"$f":"IF('Radio (Desc)'!E92=\"\",\"\",\"RADIO\")","v":""},{"$f":"IF('Radio (Desc)'!E92=\"\",\"\",INDEX([1]RADIO_TYPE!$A$2:$A$100,MATCH('Radio (Desc)'!$E92,[1]!MASTER_RADIO_TYPE_DESC[#Data],0),0))","v":""},{"$f":"IF('Radio (Desc)'!F92=\"\",\"\",'Radio (Desc)'!F92)","v":""},{"$f":"IF('Radio (Desc)'!G92=\"\",\"\",INDEX([1]RADIO_FREQ!$A$2:$A$500,MATCH('Radio (Desc)'!$G92,[1]!MASTER_RADIO_FREQ_DESC[#Data],0),0))","v":""},{"$f":"IF('Radio (Desc)'!H92=\"\",\"\",'Radio (Desc)'!H92)","v":""},{"$f":"IF('Radio (Desc)'!I92=\"\",\"\",INDEX([1]RADIO_FREQ!$A$2:$A$500,MATCH('Radio (Desc)'!$I92,[1]!MASTER_RADIO_FREQ_DESC[#Data],0),0))","v":""},{"$f":"IF('Radio (Desc)'!J92=\"\",\"\",'Radio (Desc)'!J92)","v":""},{"$f":"IF('Radio (Desc)'!K92=\"\",\"\",INDEX([1]CALL_SIGN!$A$2:$A$600,MATCH('Radio (Desc)'!$K92,[1]!MASTER_CALL_SIGN_DESC[#Data],0),0))","v":""},{"$f":"IF('Radio (Desc)'!L92=\"\",\"\",INDEX([1]STATION_CLASS!$A$2:$A$100,MATCH('Radio (Desc)'!$L92,[1]!MASTER_STATION_CLASS_DESC[#Data],0),0))","v":""},{"$f":"IF('Radio (Desc)'!M92=\"\",\"\",'Radio (Desc)'!M92)","v":""},{"$f":"IF('Radio (Desc)'!N92=\"\",\"\",'Radio (Desc)'!N92)","v":""},{"$f":"IF('Radio (Desc)'!O92=\"\",\"\",INDEX([1]ITS_COMM_DEV_MANUF!$A$2:$A$300,MATCH(1,([1]ITS_COMM_DEV_MANUF!$B$2:$B$300='Radio (Desc)'!$O92)*([1]ITS_COMM_DEV_MANUF!$C$2:$C$300=\"RADIO\"),0),0))","v":""},{"$f":"IF('Radio (Desc)'!P92=\"\",\"\",INDEX([1]ITS_COMM_DEV_MODEL!$A$2:$A$500,MATCH(1,([1]ITS_COMM_DEV_MODEL!$C$2:$C$500='Radio (Desc)'!$O92)*([1]ITS_COMM_DEV_MODEL!$D$2:$D$500=\"RADIO\")*([1]ITS_COMM_DEV_MODEL!$E$2:$E$500='Radio (Desc)'!$P92),0),0))","v":""},{"$f":"IF('Radio (Desc)'!Q92=\"\",\"\",'Radio (Desc)'!Q92)","v":""},{"$f":"IF('Radio (Desc)'!R92=\"\",\"\",'Radio (Desc)'!R92)","v":""},{"$f":"IF('Radio (Desc)'!S92=\"\",\"\",'Radio (Desc)'!S92)","v":""},{"$f":"IF('Radio (Desc)'!T92=\"\",\"\",'Radio (Desc)'!T92)","v":""},{"$f":"IF('Radio (Desc)'!U92=\"\",\"\",INDEX([1]DEV_INPUT_VOLTAGE!$A$2:$A$100,MATCH('Radio (Desc)'!$U92,[1]!MASTER_DEV_INPUT_VOLTAGE_DESC[#Data],0),0))","v":""},{"$f":"IF('Radio (Desc)'!V92=\"\",\"\",'Radio (Desc)'!V92)","v":""},{"$f":"IF('Radio (Desc)'!W92=\"\",\"\",'Radio (Desc)'!W92)","v":""},{"$f":"IF('Radio (Desc)'!X92=\"\",\"\",'Radio (Desc)'!X92)","v":""},{"$f":"IF('Radio (Desc)'!Y92=\"\",\"\",INDEX([1]FIBER_CONN_TYPE!$A$2:$A$100,MATCH('Radio (Desc)'!$Y92,[1]!MASTER_FIBER_CONN_TYPE_DESC[#Data],0),0))","v":""}]
[{"$f":"IF('Radio (Desc)'!A93=\"\",\"\",'Radio (Desc)'!A93)","v":""},{"$f":"IF('Radio (Desc)'!C93=\"\",\"\",\"2029\")","v":""},{"$f":"IF('Radio (Desc)'!C93=\"\",\"\",'Radio (Desc)'!C93)","v":""},{"$f":"IF('Radio (Desc)'!E93=\"\",\"\",\"RADIO\")","v":""},{"$f":"IF('Radio (Desc)'!E93=\"\",\"\",INDEX([1]RADIO_TYPE!$A$2:$A$100,MATCH('Radio (Desc)'!$E93,[1]!MASTER_RADIO_TYPE_DESC[#Data],0),0))","v":""},{"$f":"IF('Radio (Desc)'!F93=\"\",\"\",'Radio (Desc)'!F93)","v":""},{"$f":"IF('Radio (Desc)'!G93=\"\",\"\",INDEX([1]RADIO_FREQ!$A$2:$A$500,MATCH('Radio (Desc)'!$G93,[1]!MASTER_RADIO_FREQ_DESC[#Data],0),0))","v":""},{"$f":"IF('Radio (Desc)'!H93=\"\",\"\",'Radio (Desc)'!H93)","v":""},{"$f":"IF('Radio (Desc)'!I93=\"\",\"\",INDEX([1]RADIO_FREQ!$A$2:$A$500,MATCH('Radio (Desc)'!$I93,[1]!MASTER_RADIO_FREQ_DESC[#Data],0),0))","v":""},{"$f":"IF('Radio (Desc)'!J93=\"\",\"\",'Radio (Desc)'!J93)","v":""},{"$f":"IF('Radio (Desc)'!K93=\"\",\"\",INDEX([1]CALL_SIGN!$A$2:$A$600,MATCH('Radio (Desc)'!$K93,[1]!MASTER_CALL_SIGN_DESC[#Data],0),0))","v":""},{"$f":"IF('Radio (Desc)'!L93=\"\",\"\",INDEX([1]STATION_CLASS!$A$2:$A$100,MATCH('Radio (Desc)'!$L93,[1]!MASTER_STATION_CLASS_DESC[#Data],0),0))","v":""},{"$f":"IF('Radio (Desc)'!M93=\"\",\"\",'Radio (Desc)'!M93)","v":""},{"$f":"IF('Radio (Desc)'!N93=\"\",\"\",'Radio (Desc)'!N93)","v":""},{"$f":"IF('Radio (Desc)'!O93=\"\",\"\",INDEX([1]ITS_COMM_DEV_MANUF!$A$2:$A$300,MATCH(1,([1]ITS_COMM_DEV_MANUF!$B$2:$B$300='Radio (Desc)'!$O93)*([1]ITS_COMM_DEV_MANUF!$C$2:$C$300=\"RADIO\"),0),0))","v":""},{"$f":"IF('Radio (Desc)'!P93=\"\",\"\",INDEX([1]ITS_COMM_DEV_MODEL!$A$2:$A$500,MATCH(1,([1]ITS_COMM_DEV_MODEL!$C$2:$C$500='Radio (Desc)'!$O93)*([1]ITS_COMM_DEV_MODEL!$D$2:$D$500=\"RADIO\")*([1]ITS_COMM_DEV_MODEL!$E$2:$E$500='Radio (Desc)'!$P93),0),0))","v":""},{"$f":"IF('Radio (Desc)'!Q93=\"\",\"\",'Radio (Desc)'!Q93)","v":""},{"$f":"IF('Radio (Desc)'!R93=\"\",\"\",'Radio (Desc)'!R93)","v":""},{"$f":"IF('Radio (Desc)'!S93=\"\",\"\",'Radio (Desc)'!S93)","v":""},{"$f":"IF('Radio (Desc)'!T93=\"\",\"\",'Radio (Desc)'!T93)","v":""},{"$f":"IF('Radio (Desc)'!U93=\"\",\"\",INDEX([1]DEV_INPUT_VOLTAGE!$A$2:$A$100,MATCH('Radio (Desc)'!$U93,[1]!MASTER_DEV_INPUT_VOLTAGE_DESC[#Data],0),0))","v":""},{"$f":"IF('Radio (Desc)'!V93=\"\",\"\",'Radio (Desc)'!V93)","v":""},{"$f":"IF('Radio (Desc)'!W93=\"\",\"\",'Radio (Desc)'!W93)","v":""},{"$f":"IF('Radio (Desc)'!X93=\"\",\"\",'Radio (Desc)'!X93)","v":""},{"$f":"IF('Radio (Desc)'!Y93=\"\",\"\",INDEX([1]FIBER_CONN_TYPE!$A$2:$A$100,MATCH('Radio (Desc)'!$Y93,[1]!MASTER_FIBER_CONN_TYPE_DESC[#Data],0),0))","v":""}]
[{"$f":"IF('Radio (Desc)'!A94=\"\",\"\",'Radio (Desc)'!A94)","v":""},{"$f":"IF('Radio (Desc)'!C94=\"\",\"\",\"2029\")","v":""},{"$f":"IF('Radio (Desc)'!C94=\"\",\"\",'Radio (Desc)'!C94)","v":""},{"$f":"IF('Radio (Desc)'!E94=\"\",\"\",\"RADIO\")","v":""},{"$f":"IF('Radio (Desc)'!E94=\"\",\"\",INDEX([1]RADIO_TYPE!$A$2:$A$100,MATCH('Radio (Desc)'!$E94,[1]!MASTER_RADIO_TYPE_DESC[#Data],0),0))","v":""},{"$f":"IF('Radio (Desc)'!F94=\"\",\"\",'Radio (Desc)'!F94)","v":""},{"$f":"IF('Radio (Desc)'!G94=\"\",\"\",INDEX([1]RADIO_FREQ!$A$2:$A$500,MATCH('Radio (Desc)'!$G94,[1]!MASTER_RADIO_FREQ_DESC[#Data],0),0))","v":""},{"$f":"IF('Radio (Desc)'!H94=\"\",\"\",'Radio (Desc)'!H94)","v":""},{"$f":"IF('Radio (Desc)'!I94=\"\",\"\",INDEX([1]RADIO_FREQ!$A$2:$A$500,MATCH('Radio (Desc)'!$I94,[1]!MASTER_RADIO_FREQ_DESC[#Data],0),0))","v":""},{"$f":"IF('Radio (Desc)'!J94=\"\",\"\",'Radio (Desc)'!J94)","v":""},{"$f":"IF('Radio (Desc)'!K94=\"\",\"\",INDEX([1]CALL_SIGN!$A$2:$A$600,MATCH('Radio (Desc)'!$K94,[1]!MASTER_CALL_SIGN_DESC[#Data],0),0))","v":""},{"$f":"IF('Radio (Desc)'!L94=\"\",\"\",INDEX([1]STATION_CLASS!$A$2:$A$100,MATCH('Radio (Desc)'!$L94,[1]!MASTER_STATION_CLASS_DESC[#Data],0),0))","v":""},{"$f":"IF('Radio (Desc)'!M94=\"\",\"\",'Radio (Desc)'!M94)","v":""},{"$f":"IF('Radio (Desc)'!N94=\"\",\"\",'Radio (Desc)'!N94)","v":""},{"$f":"IF('Radio (Desc)'!O94=\"\",\"\",INDEX([1]ITS_COMM_DEV_MANUF!$A$2:$A$300,MATCH(1,([1]ITS_COMM_DEV_MANUF!$B$2:$B$300='Radio (Desc)'!$O94)*([1]ITS_COMM_DEV_MANUF!$C$2:$C$300=\"RADIO\"),0),0))","v":""},{"$f":"IF('Radio (Desc)'!P94=\"\",\"\",INDEX([1]ITS_COMM_DEV_MODEL!$A$2:$A$500,MATCH(1,([1]ITS_COMM_DEV_MODEL!$C$2:$C$500='Radio (Desc)'!$O94)*([1]ITS_COMM_DEV_MODEL!$D$2:$D$500=\"RADIO\")*([1]ITS_COMM_DEV_MODEL!$E$2:$E$500='Radio (Desc)'!$P94),0),0))","v":""},{"$f":"IF('Radio (Desc)'!Q94=\"\",\"\",'Radio (Desc)'!Q94)","v":""},{"$f":"IF('Radio (Desc)'!R94=\"\",\"\",'Radio (Desc)'!R94)","v":""},{"$f":"IF('Radio (Desc)'!S94=\"\",\"\",'Radio (Desc)'!S94)","v":""},{"$f":"IF('Radio (Desc)'!T94=\"\",\"\",'Radio (Desc)'!T94)","v":""},{"$f":"IF('Radio (Desc)'!U94=\"\",\"\",INDEX([1]DEV_INPUT_VOLTAGE!$A$2:$A$100,MATCH('Radio (Desc)'!$U94,[1]!MASTER_DEV_INPUT_VOLTAGE_DESC[#Data],0),0))","v":""},{"$f":"IF('Radio (Desc)'!V94=\"\",\"\",'Radio (Desc)'!V94)","v":""},{"$f":"IF('Radio (Desc)'!W94=\"\",\"\",'Radio (Desc)'!W94)","v":""},{"$f":"IF('Radio (Desc)'!X94=\"\",\"\",'Radio (Desc)'!X94)","v":""},{"$f":"IF('Radio (Desc)'!Y94=\"\",\"\",INDEX([1]FIBER_CONN_TYPE!$A$2:$A$100,MATCH('Radio (Desc)'!$Y94,[1]!MASTER_FIBER_CONN_TYPE_DESC[#Data],0),0))","v":""}]
[{"$f":"IF('Radio (Desc)'!A95=\"\",\"\",'Radio (Desc)'!A95)","v":""},{"$f":"IF('Radio (Desc)'!C95=\"\",\"\",\"2029\")","v":""},{"$f":"IF('Radio (Desc)'!C95=\"\",\"\",'Radio (Desc)'!C95)","v":""},{"$f":"IF('Radio (Desc)'!E95=\"\",\"\",\"RADIO\")","v":""},{"$f":"IF('Radio (Desc)'!E95=\"\",\"\",INDEX([1]RADIO_TYPE!$A$2:$A$100,MATCH('Radio (Desc)'!$E95,[1]!MASTER_RADIO_TYPE_DESC[#Data],0),0))","v":""},{"$f":"IF('Radio (Desc)'!F95=\"\",\"\",'Radio (Desc)'!F95)","v":""},{"$f":"IF('Radio (Desc)'!G95=\"\",\"\",INDEX([1]RADIO_FREQ!$A$2:$A$500,MATCH('Radio (Desc)'!$G95,[1]!MASTER_RADIO_FREQ_DESC[#Data],0),0))","v":""},{"$f":"IF('Radio (Desc)'!H95=\"\",\"\",'Radio (Desc)'!H95)","v":""},{"$f":"IF('Radio (Desc)'!I95=\"\",\"\",INDEX([1]RADIO_FREQ!$A$2:$A$500,MATCH('Radio (Desc)'!$I95,[1]!MASTER_RADIO_FREQ_DESC[#Data],0),0))","v":""},{"$f":"IF('Radio (Desc)'!J95=\"\",\"\",'Radio (Desc)'!J95)","v":""},{"$f":"IF('Radio (Desc)'!K95=\"\",\"\",INDEX([1]CALL_SIGN!$A$2:$A$600,MATCH('Radio (Desc)'!$K95,[1]!MASTER_CALL_SIGN_DESC[#Data],0),0))","v":""},{"$f":"IF('Radio (Desc)'!L95=\"\",\"\",INDEX([1]STATION_CLASS!$A$2:$A$100,MATCH('Radio (Desc)'!$L95,[1]!MASTER_STATION_CLASS_DESC[#Data],0),0))","v":""},{"$f":"IF('Radio (Desc)'!M95=\"\",\"\",'Radio (Desc)'!M95)","v":""},{"$f":"IF('Radio (Desc)'!N95=\"\",\"\",'Radio (Desc)'!N95)","v":""},{"$f":"IF('Radio (Desc)'!O95=\"\",\"\",INDEX([1]ITS_COMM_DEV_MANUF!$A$2:$A$300,MATCH(1,([1]ITS_COMM_DEV_MANUF!$B$2:$B$300='Radio (Desc)'!$O95)*([1]ITS_COMM_DEV_MANUF!$C$2:$C$300=\"RADIO\"),0),0))","v":""},{"$f":"IF('Radio (Desc)'!P95=\"\",\"\",INDEX([1]ITS_COMM_DEV_MODEL!$A$2:$A$500,MATCH(1,([1]ITS_COMM_DEV_MODEL!$C$2:$C$500='Radio (Desc)'!$O95)*([1]ITS_COMM_DEV_MODEL!$D$2:$D$500=\"RADIO\")*([1]ITS_COMM_DEV_MODEL!$E$2:$E$500='Radio (Desc)'!$P95),0),0))","v":""},{"$f":"IF('Radio (Desc)'!Q95=\"\",\"\",'Radio (Desc)'!Q95)","v":""},{"$f":"IF('Radio (Desc)'!R95=\"\",\"\",'Radio (Desc)'!R95)","v":""},{"$f":"IF('Radio (Desc)'!S95=\"\",\"\",'Radio (Desc)'!S95)","v":""},{"$f":"IF('Radio (Desc)'!T95=\"\",\"\",'Radio (Desc)'!T95)","v":""},{"$f":"IF('Radio (Desc)'!U95=\"\",\"\",INDEX([1]DEV_INPUT_VOLTAGE!$A$2:$A$100,MATCH('Radio (Desc)'!$U95,[1]!MASTER_DEV_INPUT_VOLTAGE_DESC[#Data],0),0))","v":""},{"$f":"IF('Radio (Desc)'!V95=\"\",\"\",'Radio (Desc)'!V95)","v":""},{"$f":"IF('Radio (Desc)'!W95=\"\",\"\",'Radio (Desc)'!W95)","v":""},{"$f":"IF('Radio (Desc)'!X95=\"\",\"\",'Radio (Desc)'!X95)","v":""},{"$f":"IF('Radio (Desc)'!Y95=\"\",\"\",INDEX([1]FIBER_CONN_TYPE!$A$2:$A$100,MATCH('Radio (Desc)'!$Y95,[1]!MASTER_FIBER_CONN_TYPE_DESC[#Data],0),0))","v":""}]
[{"$f":"IF('Radio (Desc)'!A96=\"\",\"\",'Radio (Desc)'!A96)","v":""},{"$f":"IF('Radio (Desc)'!C96=\"\",\"\",\"2029\")","v":""},{"$f":"IF('Radio (Desc)'!C96=\"\",\"\",'Radio (Desc)'!C96)","v":""},{"$f":"IF('Radio (Desc)'!E96=\"\",\"\",\"RADIO\")","v":""},{"$f":"IF('Radio (Desc)'!E96=\"\",\"\",INDEX([1]RADIO_TYPE!$A$2:$A$100,MATCH('Radio (Desc)'!$E96,[1]!MASTER_RADIO_TYPE_DESC[#Data],0),0))","v":""},{"$f":"IF('Radio (Desc)'!F96=\"\",\"\",'Radio (Desc)'!F96)","v":""},{"$f":"IF('Radio (Desc)'!G96=\"\",\"\",INDEX([1]RADIO_FREQ!$A$2:$A$500,MATCH('Radio (Desc)'!$G96,[1]!MASTER_RADIO_FREQ_DESC[#Data],0),0))","v":""},{"$f":"IF('Radio (Desc)'!H96=\"\",\"\",'Radio (Desc)'!H96)","v":""},{"$f":"IF('Radio (Desc)'!I96=\"\",\"\",INDEX([1]RADIO_FREQ!$A$2:$A$500,MATCH('Radio (Desc)'!$I96,[1]!MASTER_RADIO_FREQ_DESC[#Data],0),0))","v":""},{"$f":"IF('Radio (Desc)'!J96=\"\",\"\",'Radio (Desc)'!J96)","v":""},{"$f":"IF('Radio (Desc)'!K96=\"\",\"\",INDEX([1]CALL_SIGN!$A$2:$A$600,MATCH('Radio (Desc)'!$K96,[1]!MASTER_CALL_SIGN_DESC[#Data],0),0))","v":""},{"$f":"IF('Radio (Desc)'!L96=\"\",\"\",INDEX([1]STATION_CLASS!$A$2:$A$100,MATCH('Radio (Desc)'!$L96,[1]!MASTER_STATION_CLASS_DESC[#Data],0),0))","v":""},{"$f":"IF('Radio (Desc)'!M96=\"\",\"\",'Radio (Desc)'!M96)","v":""},{"$f":"IF('Radio (Desc)'!N96=\"\",\"\",'Radio (Desc)'!N96)","v":""},{"$f":"IF('Radio (Desc)'!O96=\"\",\"\",INDEX([1]ITS_COMM_DEV_MANUF!$A$2:$A$300,MATCH(1,([1]ITS_COMM_DEV_MANUF!$B$2:$B$300='Radio (Desc)'!$O96)*([1]ITS_COMM_DEV_MANUF!$C$2:$C$300=\"RADIO\"),0),0))","v":""},{"$f":"IF('Radio (Desc)'!P96=\"\",\"\",INDEX([1]ITS_COMM_DEV_MODEL!$A$2:$A$500,MATCH(1,([1]ITS_COMM_DEV_MODEL!$C$2:$C$500='Radio (Desc)'!$O96)*([1]ITS_COMM_DEV_MODEL!$D$2:$D$500=\"RADIO\")*([1]ITS_COMM_DEV_MODEL!$E$2:$E$500='Radio (Desc)'!$P96),0),0))","v":""},{"$f":"IF('Radio (Desc)'!Q96=\"\",\"\",'Radio (Desc)'!Q96)","v":""},{"$f":"IF('Radio (Desc)'!R96=\"\",\"\",'Radio (Desc)'!R96)","v":""},{"$f":"IF('Radio (Desc)'!S96=\"\",\"\",'Radio (Desc)'!S96)","v":""},{"$f":"IF('Radio (Desc)'!T96=\"\",\"\",'Radio (Desc)'!T96)","v":""},{"$f":"IF('Radio (Desc)'!U96=\"\",\"\",INDEX([1]DEV_INPUT_VOLTAGE!$A$2:$A$100,MATCH('Radio (Desc)'!$U96,[1]!MASTER_DEV_INPUT_VOLTAGE_DESC[#Data],0),0))","v":""},{"$f":"IF('Radio (Desc)'!V96=\"\",\"\",'Radio (Desc)'!V96)","v":""},{"$f":"IF('Radio (Desc)'!W96=\"\",\"\",'Radio (Desc)'!W96)","v":""},{"$f":"IF('Radio (Desc)'!X96=\"\",\"\",'Radio (Desc)'!X96)","v":""},{"$f":"IF('Radio (Desc)'!Y96=\"\",\"\",INDEX([1]FIBER_CONN_TYPE!$A$2:$A$100,MATCH('Radio (Desc)'!$Y96,[1]!MASTER_FIBER_CONN_TYPE_DESC[#Data],0),0))","v":""}]
[{"$f":"IF('Radio (Desc)'!A97=\"\",\"\",'Radio (Desc)'!A97)","v":""},{"$f":"IF('Radio (Desc)'!C97=\"\",\"\",\"2029\")","v":""},{"$f":"IF('Radio (Desc)'!C97=\"\",\"\",'Radio (Desc)'!C97)","v":""},{"$f":"IF('Radio (Desc)'!E97=\"\",\"\",\"RADIO\")","v":""},{"$f":"IF('Radio (Desc)'!E97=\"\",\"\",INDEX([1]RADIO_TYPE!$A$2:$A$100,MATCH('Radio (Desc)'!$E97,[1]!MASTER_RADIO_TYPE_DESC[#Data],0),0))","v":""},{"$f":"IF('Radio (Desc)'!F97=\"\",\"\",'Radio (Desc)'!F97)","v":""},{"$f":"IF('Radio (Desc)'!G97=\"\",\"\",INDEX([1]RADIO_FREQ!$A$2:$A$500,MATCH('Radio (Desc)'!$G97,[1]!MASTER_RADIO_FREQ_DESC[#Data],0),0))","v":""},{"$f":"IF('Radio (Desc)'!H97=\"\",\"\",'Radio (Desc)'!H97)","v":""},{"$f":"IF('Radio (Desc)'!I97=\"\",\"\",INDEX([1]RADIO_FREQ!$A$2:$A$500,MATCH('Radio (Desc)'!$I97,[1]!MASTER_RADIO_FREQ_DESC[#Data],0),0))","v":""},{"$f":"IF('Radio (Desc)'!J97=\"\",\"\",'Radio (Desc)'!J97)","v":""},{"$f":"IF('Radio (Desc)'!K97=\"\",\"\",INDEX([1]CALL_SIGN!$A$2:$A$600,MATCH('Radio (Desc)'!$K97,[1]!MASTER_CALL_SIGN_DESC[#Data],0),0))","v":""},{"$f":"IF('Radio (Desc)'!L97=\"\",\"\",INDEX([1]STATION_CLASS!$A$2:$A$100,MATCH('Radio (Desc)'!$L97,[1]!MASTER_STATION_CLASS_DESC[#Data],0),0))","v":""},{"$f":"IF('Radio (Desc)'!M97=\"\",\"\",'Radio (Desc)'!M97)","v":""},{"$f":"IF('Radio (Desc)'!N97=\"\",\"\",'Radio (Desc)'!N97)","v":""},{"$f":"IF('Radio (Desc)'!O97=\"\",\"\",INDEX([1]ITS_COMM_DEV_MANUF!$A$2:$A$300,MATCH(1,([1]ITS_COMM_DEV_MANUF!$B$2:$B$300='Radio (Desc)'!$O97)*([1]ITS_COMM_DEV_MANUF!$C$2:$C$300=\"RADIO\"),0),0))","v":""},{"$f":"IF('Radio (Desc)'!P97=\"\",\"\",INDEX([1]ITS_COMM_DEV_MODEL!$A$2:$A$500,MATCH(1,([1]ITS_COMM_DEV_MODEL!$C$2:$C$500='Radio (Desc)'!$O97)*([1]ITS_COMM_DEV_MODEL!$D$2:$D$500=\"RADIO\")*([1]ITS_COMM_DEV_MODEL!$E$2:$E$500='Radio (Desc)'!$P97),0),0))","v":""},{"$f":"IF('Radio (Desc)'!Q97=\"\",\"\",'Radio (Desc)'!Q97)","v":""},{"$f":"IF('Radio (Desc)'!R97=\"\",\"\",'Radio (Desc)'!R97)","v":""},{"$f":"IF('Radio (Desc)'!S97=\"\",\"\",'Radio (Desc)'!S97)","v":""},{"$f":"IF('Radio (Desc)'!T97=\"\",\"\",'Radio (Desc)'!T97)","v":""},{"$f":"IF('Radio (Desc)'!U97=\"\",\"\",INDEX([1]DEV_INPUT_VOLTAGE!$A$2:$A$100,MATCH('Radio (Desc)'!$U97,[1]!MASTER_DEV_INPUT_VOLTAGE_DESC[#Data],0),0))","v":""},{"$f":"IF('Radio (Desc)'!V97=\"\",\"\",'Radio (Desc)'!V97)","v":""},{"$f":"IF('Radio (Desc)'!W97=\"\",\"\",'Radio (Desc)'!W97)","v":""},{"$f":"IF('Radio (Desc)'!X97=\"\",\"\",'Radio (Desc)'!X97)","v":""},{"$f":"IF('Radio (Desc)'!Y97=\"\",\"\",INDEX([1]FIBER_CONN_TYPE!$A$2:$A$100,MATCH('Radio (Desc)'!$Y97,[1]!MASTER_FIBER_CONN_TYPE_DESC[#Data],0),0))","v":""}]
[{"$f":"IF('Radio (Desc)'!A98=\"\",\"\",'Radio (Desc)'!A98)","v":""},{"$f":"IF('Radio (Desc)'!C98=\"\",\"\",\"2029\")","v":""},{"$f":"IF('Radio (Desc)'!C98=\"\",\"\",'Radio (Desc)'!C98)","v":""},{"$f":"IF('Radio (Desc)'!E98=\"\",\"\",\"RADIO\")","v":""},{"$f":"IF('Radio (Desc)'!E98=\"\",\"\",INDEX([1]RADIO_TYPE!$A$2:$A$100,MATCH('Radio (Desc)'!$E98,[1]!MASTER_RADIO_TYPE_DESC[#Data],0),0))","v":""},{"$f":"IF('Radio (Desc)'!F98=\"\",\"\",'Radio (Desc)'!F98)","v":""},{"$f":"IF('Radio (Desc)'!G98=\"\",\"\",INDEX([1]RADIO_FREQ!$A$2:$A$500,MATCH('Radio (Desc)'!$G98,[1]!MASTER_RADIO_FREQ_DESC[#Data],0),0))","v":""},{"$f":"IF('Radio (Desc)'!H98=\"\",\"\",'Radio (Desc)'!H98)","v":""},{"$f":"IF('Radio (Desc)'!I98=\"\",\"\",INDEX([1]RADIO_FREQ!$A$2:$A$500,MATCH('Radio (Desc)'!$I98,[1]!MASTER_RADIO_FREQ_DESC[#Data],0),0))","v":""},{"$f":"IF('Radio (Desc)'!J98=\"\",\"\",'Radio (Desc)'!J98)","v":""},{"$f":"IF('Radio (Desc)'!K98=\"\",\"\",INDEX([1]CALL_SIGN!$A$2:$A$600,MATCH('Radio (Desc)'!$K98,[1]!MASTER_CALL_SIGN_DESC[#Data],0),0))","v":""},{"$f":"IF('Radio (Desc)'!L98=\"\",\"\",INDEX([1]STATION_CLASS!$A$2:$A$100,MATCH('Radio (Desc)'!$L98,[1]!MASTER_STATION_CLASS_DESC[#Data],0),0))","v":""},{"$f":"IF('Radio (Desc)'!M98=\"\",\"\",'Radio (Desc)'!M98)","v":""},{"$f":"IF('Radio (Desc)'!N98=\"\",\"\",'Radio (Desc)'!N98)","v":""},{"$f":"IF('Radio (Desc)'!O98=\"\",\"\",INDEX([1]ITS_COMM_DEV_MANUF!$A$2:$A$300,MATCH(1,([1]ITS_COMM_DEV_MANUF!$B$2:$B$300='Radio (Desc)'!$O98)*([1]ITS_COMM_DEV_MANUF!$C$2:$C$300=\"RADIO\"),0),0))","v":""},{"$f":"IF('Radio (Desc)'!P98=\"\",\"\",INDEX([1]ITS_COMM_DEV_MODEL!$A$2:$A$500,MATCH(1,([1]ITS_COMM_DEV_MODEL!$C$2:$C$500='Radio (Desc)'!$O98)*([1]ITS_COMM_DEV_MODEL!$D$2:$D$500=\"RADIO\")*([1]ITS_COMM_DEV_MODEL!$E$2:$E$500='Radio (Desc)'!$P98),0),0))","v":""},{"$f":"IF('Radio (Desc)'!Q98=\"\",\"\",'Radio (Desc)'!Q98)","v":""},{"$f":"IF('Radio (Desc)'!R98=\"\",\"\",'Radio (Desc)'!R98)","v":""},{"$f":"IF('Radio (Desc)'!S98=\"\",\"\",'Radio (Desc)'!S98)","v":""},{"$f":"IF('Radio (Desc)'!T98=\"\",\"\",'Radio (Desc)'!T98)","v":""},{"$f":"IF('Radio (Desc)'!U98=\"\",\"\",INDEX([1]DEV_INPUT_VOLTAGE!$A$2:$A$100,MATCH('Radio (Desc)'!$U98,[1]!MASTER_DEV_INPUT_VOLTAGE_DESC[#Data],0),0))","v":""},{"$f":"IF('Radio (Desc)'!V98=\"\",\"\",'Radio (Desc)'!V98)","v":""},{"$f":"IF('Radio (Desc)'!W98=\"\",\"\",'Radio (Desc)'!W98)","v":""},{"$f":"IF('Radio (Desc)'!X98=\"\",\"\",'Radio (Desc)'!X98)","v":""},{"$f":"IF('Radio (Desc)'!Y98=\"\",\"\",INDEX([1]FIBER_CONN_TYPE!$A$2:$A$100,MATCH('Radio (Desc)'!$Y98,[1]!MASTER_FIBER_CONN_TYPE_DESC[#Data],0),0))","v":""}]
[{"$f":"IF('Radio (Desc)'!A99=\"\",\"\",'Radio (Desc)'!A99)","v":""},{"$f":"IF('Radio (Desc)'!C99=\"\",\"\",\"2029\")","v":""},{"$f":"IF('Radio (Desc)'!C99=\"\",\"\",'Radio (Desc)'!C99)","v":""},{"$f":"IF('Radio (Desc)'!E99=\"\",\"\",\"RADIO\")","v":""},{"$f":"IF('Radio (Desc)'!E99=\"\",\"\",INDEX([1]RADIO_TYPE!$A$2:$A$100,MATCH('Radio (Desc)'!$E99,[1]!MASTER_RADIO_TYPE_DESC[#Data],0),0))","v":""},{"$f":"IF('Radio (Desc)'!F99=\"\",\"\",'Radio (Desc)'!F99)","v":""},{"$f":"IF('Radio (Desc)'!G99=\"\",\"\",INDEX([1]RADIO_FREQ!$A$2:$A$500,MATCH('Radio (Desc)'!$G99,[1]!MASTER_RADIO_FREQ_DESC[#Data],0),0))","v":""},{"$f":"IF('Radio (Desc)'!H99=\"\",\"\",'Radio (Desc)'!H99)","v":""},{"$f":"IF('Radio (Desc)'!I99=\"\",\"\",INDEX([1]RADIO_FREQ!$A$2:$A$500,MATCH('Radio (Desc)'!$I99,[1]!MASTER_RADIO_FREQ_DESC[#Data],0),0))","v":""},{"$f":"IF('Radio (Desc)'!J99=\"\",\"\",'Radio (Desc)'!J99)","v":""},{"$f":"IF('Radio (Desc)'!K99=\"\",\"\",INDEX([1]CALL_SIGN!$A$2:$A$600,MATCH('Radio (Desc)'!$K99,[1]!MASTER_CALL_SIGN_DESC[#Data],0),0))","v":""},{"$f":"IF('Radio (Desc)'!L99=\"\",\"\",INDEX([1]STATION_CLASS!$A$2:$A$100,MATCH('Radio (Desc)'!$L99,[1]!MASTER_STATION_CLASS_DESC[#Data],0),0))","v":""},{"$f":"IF('Radio (Desc)'!M99=\"\",\"\",'Radio (Desc)'!M99)","v":""},{"$f":"IF('Radio (Desc)'!N99=\"\",\"\",'Radio (Desc)'!N99)","v":""},{"$f":"IF('Radio (Desc)'!O99=\"\",\"\",INDEX([1]ITS_COMM_DEV_MANUF!$A$2:$A$300,MATCH(1,([1]ITS_COMM_DEV_MANUF!$B$2:$B$300='Radio (Desc)'!$O99)*([1]ITS_COMM_DEV_MANUF!$C$2:$C$300=\"RADIO\"),0),0))","v":""},{"$f":"IF('Radio (Desc)'!P99=\"\",\"\",INDEX([1]ITS_COMM_DEV_MODEL!$A$2:$A$500,MATCH(1,([1]ITS_COMM_DEV_MODEL!$C$2:$C$500='Radio (Desc)'!$O99)*([1]ITS_COMM_DEV_MODEL!$D$2:$D$500=\"RADIO\")*([1]ITS_COMM_DEV_MODEL!$E$2:$E$500='Radio (Desc)'!$P99),0),0))","v":""},{"$f":"IF('Radio (Desc)'!Q99=\"\",\"\",'Radio (Desc)'!Q99)","v":""},{"$f":"IF('Radio (Desc)'!R99=\"\",\"\",'Radio (Desc)'!R99)","v":""},{"$f":"IF('Radio (Desc)'!S99=\"\",\"\",'Radio (Desc)'!S99)","v":""},{"$f":"IF('Radio (Desc)'!T99=\"\",\"\",'Radio (Desc)'!T99)","v":""},{"$f":"IF('Radio (Desc)'!U99=\"\",\"\",INDEX([1]DEV_INPUT_VOLTAGE!$A$2:$A$100,MATCH('Radio (Desc)'!$U99,[1]!MASTER_DEV_INPUT_VOLTAGE_DESC[#Data],0),0))","v":""},{"$f":"IF('Radio (Desc)'!V99=\"\",\"\",'Radio (Desc)'!V99)","v":""},{"$f":"IF('Radio (Desc)'!W99=\"\",\"\",'Radio (Desc)'!W99)","v":""},{"$f":"IF('Radio (Desc)'!X99=\"\",\"\",'Radio (Desc)'!X99)","v":""},{"$f":"IF('Radio (Desc)'!Y99=\"\",\"\",INDEX([1]FIBER_CONN_TYPE!$A$2:$A$100,MATCH('Radio (Desc)'!$Y99,[1]!MASTER_FIBER_CONN_TYPE_DESC[#Data],0),0))","v":""}]
[{"$f":"IF('Radio (Desc)'!A100=\"\",\"\",'Radio (Desc)'!A100)","v":""},{"$f":"IF('Radio (Desc)'!C100=\"\",\"\",\"2029\")","v":""},{"$f":"IF('Radio (Desc)'!C100=\"\",\"\",'Radio (Desc)'!C100)","v":""},{"$f":"IF('Radio (Desc)'!E100=\"\",\"\",\"RADIO\")","v":""},{"$f":"IF('Radio (Desc)'!E100=\"\",\"\",INDEX([1]RADIO_TYPE!$A$2:$A$100,MATCH('Radio (Desc)'!$E100,[1]!MASTER_RADIO_TYPE_DESC[#Data],0),0))","v":""},{"$f":"IF('Radio (Desc)'!F100=\"\",\"\",'Radio (Desc)'!F100)","v":""},{"$f":"IF('Radio (Desc)'!G100=\"\",\"\",INDEX([1]RADIO_FREQ!$A$2:$A$500,MATCH('Radio (Desc)'!$G100,[1]!MASTER_RADIO_FREQ_DESC[#Data],0),0))","v":""},{"$f":"IF('Radio (Desc)'!H100=\"\",\"\",'Radio (Desc)'!H100)","v":""},{"$f":"IF('Radio (Desc)'!I100=\"\",\"\",INDEX([1]RADIO_FREQ!$A$2:$A$500,MATCH('Radio (Desc)'!$I100,[1]!MASTER_RADIO_FREQ_DESC[#Data],0),0))","v":""},{"$f":"IF('Radio (Desc)'!J100=\"\",\"\",'Radio (Desc)'!J100)","v":""},{"$f":"IF('Radio (Desc)'!K100=\"\",\"\",INDEX([1]CALL_SIGN!$A$2:$A$600,MATCH('Radio (Desc)'!$K100,[1]!MASTER_CALL_SIGN_DESC[#Data],0),0))","v":""},{"$f":"IF('Radio (Desc)'!L100=\"\",\"\",INDEX([1]STATION_CLASS!$A$2:$A$100,MATCH('Radio (Desc)'!$L100,[1]!MASTER_STATION_CLASS_DESC[#Data],0),0))","v":""},{"$f":"IF('Radio (Desc)'!M100=\"\",\"\",'Radio (Desc)'!M100)","v":""},{"$f":"IF('Radio (Desc)'!N100=\"\",\"\",'Radio (Desc)'!N100)","v":""},{"$f":"IF('Radio (Desc)'!O100=\"\",\"\",INDEX([1]ITS_COMM_DEV_MANUF!$A$2:$A$300,MATCH(1,([1]ITS_COMM_DEV_MANUF!$B$2:$B$300='Radio (Desc)'!$O100)*([1]ITS_COMM_DEV_MANUF!$C$2:$C$300=\"RADIO\"),0),0))","v":""},{"$f":"IF('Radio (Desc)'!P100=\"\",\"\",INDEX([1]ITS_COMM_DEV_MODEL!$A$2:$A$500,MATCH(1,([1]ITS_COMM_DEV_MODEL!$C$2:$C$500='Radio (Desc)'!$O100)*([1]ITS_COMM_DEV_MODEL!$D$2:$D$500=\"RADIO\")*([1]ITS_COMM_DEV_MODEL!$E$2:$E$500='Radio (Desc)'!$P100),0),0))","v":""},{"$f":"IF('Radio (Desc)'!Q100=\"\",\"\",'Radio (Desc)'!Q100)","v":""},{"$f":"IF('Radio (Desc)'!R100=\"\",\"\",'Radio (Desc)'!R100)","v":""},{"$f":"IF('Radio (Desc)'!S100=\"\",\"\",'Radio (Desc)'!S100)","v":""},{"$f":"IF('Radio (Desc)'!T100=\"\",\"\",'Radio (Desc)'!T100)","v":""},{"$f":"IF('Radio (Desc)'!U100=\"\",\"\",INDEX([1]DEV_INPUT_VOLTAGE!$A$2:$A$100,MATCH('Radio (Desc)'!$U100,[1]!MASTER_DEV_INPUT_VOLTAGE_DESC[#Data],0),0))","v":""},{"$f":"IF('Radio (Desc)'!V100=\"\",\"\",'Radio (Desc)'!V100)","v":""},{"$f":"IF('Radio (Desc)'!W100=\"\",\"\",'Radio (Desc)'!W100)","v":""},{"$f":"IF('Radio (Desc)'!X100=\"\",\"\",'Radio (Desc)'!X100)","v":""},{"$f":"IF('Radio (Desc)'!Y100=\"\",\"\",INDEX([1]FIBER_CONN_TYPE!$A$2:$A$100,MATCH('Radio (Desc)'!$Y100,[1]!MASTER_FIBER_CONN_TYPE_DESC[#Data],0),0))","v":""}]
[{"$f":"IF('Radio (Desc)'!A101=\"\",\"\",'Radio (Desc)'!A101)","v":""},{"$f":"IF('Radio (Desc)'!C101=\"\",\"\",\"2029\")","v":""},{"$f":"IF('Radio (Desc)'!C101=\"\",\"\",'Radio (Desc)'!C101)","v":""},{"$f":"IF('Radio (Desc)'!E101=\"\",\"\",\"RADIO\")","v":""},{"$f":"IF('Radio (Desc)'!E101=\"\",\"\",INDEX([1]RADIO_TYPE!$A$2:$A$100,MATCH('Radio (Desc)'!$E101,[1]!MASTER_RADIO_TYPE_DESC[#Data],0),0))","v":""},{"$f":"IF('Radio (Desc)'!F101=\"\",\"\",'Radio (Desc)'!F101)","v":""},{"$f":"IF('Radio (Desc)'!G101=\"\",\"\",INDEX([1]RADIO_FREQ!$A$2:$A$500,MATCH('Radio (Desc)'!$G101,[1]!MASTER_RADIO_FREQ_DESC[#Data],0),0))","v":""},{"$f":"IF('Radio (Desc)'!H101=\"\",\"\",'Radio (Desc)'!H101)","v":""},{"$f":"IF('Radio (Desc)'!I101=\"\",\"\",INDEX([1]RADIO_FREQ!$A$2:$A$500,MATCH('Radio (Desc)'!$I101,[1]!MASTER_RADIO_FREQ_DESC[#Data],0),0))","v":""},{"$f":"IF('Radio (Desc)'!J101=\"\",\"\",'Radio (Desc)'!J101)","v":""},{"$f":"IF('Radio (Desc)'!K101=\"\",\"\",INDEX([1]CALL_SIGN!$A$2:$A$600,MATCH('Radio (Desc)'!$K101,[1]!MASTER_CALL_SIGN_DESC[#Data],0),0))","v":""},{"$f":"IF('Radio (Desc)'!L101=\"\",\"\",INDEX([1]STATION_CLASS!$A$2:$A$100,MATCH('Radio (Desc)'!$L101,[1]!MASTER_STATION_CLASS_DESC[#Data],0),0))","v":""},{"$f":"IF('Radio (Desc)'!M101=\"\",\"\",'Radio (Desc)'!M101)","v":""},{"$f":"IF('Radio (Desc)'!N101=\"\",\"\",'Radio (Desc)'!N101)","v":""},{"$f":"IF('Radio (Desc)'!O101=\"\",\"\",INDEX([1]ITS_COMM_DEV_MANUF!$A$2:$A$300,MATCH(1,([1]ITS_COMM_DEV_MANUF!$B$2:$B$300='Radio (Desc)'!$O101)*([1]ITS_COMM_DEV_MANUF!$C$2:$C$300=\"RADIO\"),0),0))","v":""},{"$f":"IF('Radio (Desc)'!P101=\"\",\"\",INDEX([1]ITS_COMM_DEV_MODEL!$A$2:$A$500,MATCH(1,([1]ITS_COMM_DEV_MODEL!$C$2:$C$500='Radio (Desc)'!$O101)*([1]ITS_COMM_DEV_MODEL!$D$2:$D$500=\"RADIO\")*([1]ITS_COMM_DEV_MODEL!$E$2:$E$500='Radio (Desc)'!$P101),0),0))","v":""},{"$f":"IF('Radio (Desc)'!Q101=\"\",\"\",'Radio (Desc)'!Q101)","v":""},{"$f":"IF('Radio (Desc)'!R101=\"\",\"\",'Radio (Desc)'!R101)","v":""},{"$f":"IF('Radio (Desc)'!S101=\"\",\"\",'Radio (Desc)'!S101)","v":""},{"$f":"IF('Radio (Desc)'!T101=\"\",\"\",'Radio (Desc)'!T101)","v":""},{"$f":"IF('Radio (Desc)'!U101=\"\",\"\",INDEX([1]DEV_INPUT_VOLTAGE!$A$2:$A$100,MATCH('Radio (Desc)'!$U101,[1]!MASTER_DEV_INPUT_VOLTAGE_DESC[#Data],0),0))","v":""},{"$f":"IF('Radio (Desc)'!V101=\"\",\"\",'Radio (Desc)'!V101)","v":""},{"$f":"IF('Radio (Desc)'!W101=\"\",\"\",'Radio (Desc)'!W101)","v":""},{"$f":"IF('Radio (Desc)'!X101=\"\",\"\",'Radio (Desc)'!X101)","v":""},{"$f":"IF('Radio (Desc)'!Y101=\"\",\"\",INDEX([1]FIBER_CONN_TYPE!$A$2:$A$100,MATCH('Radio (Desc)'!$Y101,[1]!MASTER_FIBER_CONN_TYPE_DESC[#Data],0),0))","v":""}]
[{"$f":"IF('Radio (Desc)'!A102=\"\",\"\",'Radio (Desc)'!A102)","v":""},{"$f":"IF('Radio (Desc)'!C102=\"\",\"\",\"2029\")","v":""},{"$f":"IF('Radio (Desc)'!C102=\"\",\"\",'Radio (Desc)'!C102)","v":""},{"$f":"IF('Radio (Desc)'!E102=\"\",\"\",\"RADIO\")","v":""},{"$f":"IF('Radio (Desc)'!E102=\"\",\"\",INDEX([1]RADIO_TYPE!$A$2:$A$100,MATCH('Radio (Desc)'!$E102,[1]!MASTER_RADIO_TYPE_DESC[#Data],0),0))","v":""},{"$f":"IF('Radio (Desc)'!F102=\"\",\"\",'Radio (Desc)'!F102)","v":""},{"$f":"IF('Radio (Desc)'!G102=\"\",\"\",INDEX([1]RADIO_FREQ!$A$2:$A$500,MATCH('Radio (Desc)'!$G102,[1]!MASTER_RADIO_FREQ_DESC[#Data],0),0))","v":""},{"$f":"IF('Radio (Desc)'!H102=\"\",\"\",'Radio (Desc)'!H102)","v":""},{"$f":"IF('Radio (Desc)'!I102=\"\",\"\",INDEX([1]RADIO_FREQ!$A$2:$A$500,MATCH('Radio (Desc)'!$I102,[1]!MASTER_RADIO_FREQ_DESC[#Data],0),0))","v":""},{"$f":"IF('Radio (Desc)'!J102=\"\",\"\",'Radio (Desc)'!J102)","v":""},{"$f":"IF('Radio (Desc)'!K102=\"\",\"\",INDEX([1]CALL_SIGN!$A$2:$A$600,MATCH('Radio (Desc)'!$K102,[1]!MASTER_CALL_SIGN_DESC[#Data],0),0))","v":""},{"$f":"IF('Radio (Desc)'!L102=\"\",\"\",INDEX([1]STATION_CLASS!$A$2:$A$100,MATCH('Radio (Desc)'!$L102,[1]!MASTER_STATION_CLASS_DESC[#Data],0),0))","v":""},{"$f":"IF('Radio (Desc)'!M102=\"\",\"\",'Radio (Desc)'!M102)","v":""},{"$f":"IF('Radio (Desc)'!N102=\"\",\"\",'Radio (Desc)'!N102)","v":""},{"$f":"IF('Radio (Desc)'!O102=\"\",\"\",INDEX([1]ITS_COMM_DEV_MANUF!$A$2:$A$300,MATCH(1,([1]ITS_COMM_DEV_MANUF!$B$2:$B$300='Radio (Desc)'!$O102)*([1]ITS_COMM_DEV_MANUF!$C$2:$C$300=\"RADIO\"),0),0))","v":""},{"$f":"IF('Radio (Desc)'!P102=\"\",\"\",INDEX([1]ITS_COMM_DEV_MODEL!$A$2:$A$500,MATCH(1,([1]ITS_COMM_DEV_MODEL!$C$2:$C$500='Radio (Desc)'!$O102)*([1]ITS_COMM_DEV_MODEL!$D$2:$D$500=\"RADIO\")*([1]ITS_COMM_DEV_MODEL!$E$2:$E$500='Radio (Desc)'!$P102),0),0))","v":""},{"$f":"IF('Radio (Desc)'!Q102=\"\",\"\",'Radio (Desc)'!Q102)","v":""},{"$f":"IF('Radio (Desc)'!R102=\"\",\"\",'Radio (Desc)'!R102)","v":""},{"$f":"IF('Radio (Desc)'!S102=\"\",\"\",'Radio (Desc)'!S102)","v":""},{"$f":"IF('Radio (Desc)'!T102=\"\",\"\",'Radio (Desc)'!T102)","v":""},{"$f":"IF('Radio (Desc)'!U102=\"\",\"\",INDEX([1]DEV_INPUT_VOLTAGE!$A$2:$A$100,MATCH('Radio (Desc)'!$U102,[1]!MASTER_DEV_INPUT_VOLTAGE_DESC[#Data],0),0))","v":""},{"$f":"IF('Radio (Desc)'!V102=\"\",\"\",'Radio (Desc)'!V102)","v":""},{"$f":"IF('Radio (Desc)'!W102=\"\",\"\",'Radio (Desc)'!W102)","v":""},{"$f":"IF('Radio (Desc)'!X102=\"\",\"\",'Radio (Desc)'!X102)","v":""},{"$f":"IF('Radio (Desc)'!Y102=\"\",\"\",INDEX([1]FIBER_CONN_TYPE!$A$2:$A$100,MATCH('Radio (Desc)'!$Y102,[1]!MASTER_FIBER_CONN_TYPE_DESC[#Data],0),0))","v":""}]
[{"$f":"IF('Radio (Desc)'!A103=\"\",\"\",'Radio (Desc)'!A103)","v":""},{"$f":"IF('Radio (Desc)'!C103=\"\",\"\",\"2029\")","v":""},{"$f":"IF('Radio (Desc)'!C103=\"\",\"\",'Radio (Desc)'!C103)","v":""},{"$f":"IF('Radio (Desc)'!E103=\"\",\"\",\"RADIO\")","v":""},{"$f":"IF('Radio (Desc)'!E103=\"\",\"\",INDEX([1]RADIO_TYPE!$A$2:$A$100,MATCH('Radio (Desc)'!$E103,[1]!MASTER_RADIO_TYPE_DESC[#Data],0),0))","v":""},{"$f":"IF('Radio (Desc)'!F103=\"\",\"\",'Radio (Desc)'!F103)","v":""},{"$f":"IF('Radio (Desc)'!G103=\"\",\"\",INDEX([1]RADIO_FREQ!$A$2:$A$500,MATCH('Radio (Desc)'!$G103,[1]!MASTER_RADIO_FREQ_DESC[#Data],0),0))","v":""},{"$f":"IF('Radio (Desc)'!H103=\"\",\"\",'Radio (Desc)'!H103)","v":""},{"$f":"IF('Radio (Desc)'!I103=\"\",\"\",INDEX([1]RADIO_FREQ!$A$2:$A$500,MATCH('Radio (Desc)'!$I103,[1]!MASTER_RADIO_FREQ_DESC[#Data],0),0))","v":""},{"$f":"IF('Radio (Desc)'!J103=\"\",\"\",'Radio (Desc)'!J103)","v":""},{"$f":"IF('Radio (Desc)'!K103=\"\",\"\",INDEX([1]CALL_SIGN!$A$2:$A$600,MATCH('Radio (Desc)'!$K103,[1]!MASTER_CALL_SIGN_DESC[#Data],0),0))","v":""},{"$f":"IF('Radio (Desc)'!L103=\"\",\"\",INDEX([1]STATION_CLASS!$A$2:$A$100,MATCH('Radio (Desc)'!$L103,[1]!MASTER_STATION_CLASS_DESC[#Data],0),0))","v":""},{"$f":"IF('Radio (Desc)'!M103=\"\",\"\",'Radio (Desc)'!M103)","v":""},{"$f":"IF('Radio (Desc)'!N103=\"\",\"\",'Radio (Desc)'!N103)","v":""},{"$f":"IF('Radio (Desc)'!O103=\"\",\"\",INDEX([1]ITS_COMM_DEV_MANUF!$A$2:$A$300,MATCH(1,([1]ITS_COMM_DEV_MANUF!$B$2:$B$300='Radio (Desc)'!$O103)*([1]ITS_COMM_DEV_MANUF!$C$2:$C$300=\"RADIO\"),0),0))","v":""},{"$f":"IF('Radio (Desc)'!P103=\"\",\"\",INDEX([1]ITS_COMM_DEV_MODEL!$A$2:$A$500,MATCH(1,([1]ITS_COMM_DEV_MODEL!$C$2:$C$500='Radio (Desc)'!$O103)*([1]ITS_COMM_DEV_MODEL!$D$2:$D$500=\"RADIO\")*([1]ITS_COMM_DEV_MODEL!$E$2:$E$500='Radio (Desc)'!$P103),0),0))","v":""},{"$f":"IF('Radio (Desc)'!Q103=\"\",\"\",'Radio (Desc)'!Q103)","v":""},{"$f":"IF('Radio (Desc)'!R103=\"\",\"\",'Radio (Desc)'!R103)","v":""},{"$f":"IF('Radio (Desc)'!S103=\"\",\"\",'Radio (Desc)'!S103)","v":""},{"$f":"IF('Radio (Desc)'!T103=\"\",\"\",'Radio (Desc)'!T103)","v":""},{"$f":"IF('Radio (Desc)'!U103=\"\",\"\",INDEX([1]DEV_INPUT_VOLTAGE!$A$2:$A$100,MATCH('Radio (Desc)'!$U103,[1]!MASTER_DEV_INPUT_VOLTAGE_DESC[#Data],0),0))","v":""},{"$f":"IF('Radio (Desc)'!V103=\"\",\"\",'Radio (Desc)'!V103)","v":""},{"$f":"IF('Radio (Desc)'!W103=\"\",\"\",'Radio (Desc)'!W103)","v":""},{"$f":"IF('Radio (Desc)'!X103=\"\",\"\",'Radio (Desc)'!X103)","v":""},{"$f":"IF('Radio (Desc)'!Y103=\"\",\"\",INDEX([1]FIBER_CONN_TYPE!$A$2:$A$100,MATCH('Radio (Desc)'!$Y103,[1]!MASTER_FIBER_CONN_TYPE_DESC[#Data],0),0))","v":""}]
[{"$f":"IF('Radio (Desc)'!A104=\"\",\"\",'Radio (Desc)'!A104)","v":""},{"$f":"IF('Radio (Desc)'!C104=\"\",\"\",\"2029\")","v":""},{"$f":"IF('Radio (Desc)'!C104=\"\",\"\",'Radio (Desc)'!C104)","v":""},{"$f":"IF('Radio (Desc)'!E104=\"\",\"\",\"RADIO\")","v":""},{"$f":"IF('Radio (Desc)'!E104=\"\",\"\",INDEX([1]RADIO_TYPE!$A$2:$A$100,MATCH('Radio (Desc)'!$E104,[1]!MASTER_RADIO_TYPE_DESC[#Data],0),0))","v":""},{"$f":"IF('Radio (Desc)'!F104=\"\",\"\",'Radio (Desc)'!F104)","v":""},{"$f":"IF('Radio (Desc)'!G104=\"\",\"\",INDEX([1]RADIO_FREQ!$A$2:$A$500,MATCH('Radio (Desc)'!$G104,[1]!MASTER_RADIO_FREQ_DESC[#Data],0),0))","v":""},{"$f":"IF('Radio (Desc)'!H104=\"\",\"\",'Radio (Desc)'!H104)","v":""},{"$f":"IF('Radio (Desc)'!I104=\"\",\"\",INDEX([1]RADIO_FREQ!$A$2:$A$500,MATCH('Radio (Desc)'!$I104,[1]!MASTER_RADIO_FREQ_DESC[#Data],0),0))","v":""},{"$f":"IF('Radio (Desc)'!J104=\"\",\"\",'Radio (Desc)'!J104)","v":""},{"$f":"IF('Radio (Desc)'!K104=\"\",\"\",INDEX([1]CALL_SIGN!$A$2:$A$600,MATCH('Radio (Desc)'!$K104,[1]!MASTER_CALL_SIGN_DESC[#Data],0),0))","v":""},{"$f":"IF('Radio (Desc)'!L104=\"\",\"\",INDEX([1]STATION_CLASS!$A$2:$A$100,MATCH('Radio (Desc)'!$L104,[1]!MASTER_STATION_CLASS_DESC[#Data],0),0))","v":""},{"$f":"IF('Radio (Desc)'!M104=\"\",\"\",'Radio (Desc)'!M104)","v":""},{"$f":"IF('Radio (Desc)'!N104=\"\",\"\",'Radio (Desc)'!N104)","v":""},{"$f":"IF('Radio (Desc)'!O104=\"\",\"\",INDEX([1]ITS_COMM_DEV_MANUF!$A$2:$A$300,MATCH(1,([1]ITS_COMM_DEV_MANUF!$B$2:$B$300='Radio (Desc)'!$O104)*([1]ITS_COMM_DEV_MANUF!$C$2:$C$300=\"RADIO\"),0),0))","v":""},{"$f":"IF('Radio (Desc)'!P104=\"\",\"\",INDEX([1]ITS_COMM_DEV_MODEL!$A$2:$A$500,MATCH(1,([1]ITS_COMM_DEV_MODEL!$C$2:$C$500='Radio (Desc)'!$O104)*([1]ITS_COMM_DEV_MODEL!$D$2:$D$500=\"RADIO\")*([1]ITS_COMM_DEV_MODEL!$E$2:$E$500='Radio (Desc)'!$P104),0),0))","v":""},{"$f":"IF('Radio (Desc)'!Q104=\"\",\"\",'Radio (Desc)'!Q104)","v":""},{"$f":"IF('Radio (Desc)'!R104=\"\",\"\",'Radio (Desc)'!R104)","v":""},{"$f":"IF('Radio (Desc)'!S104=\"\",\"\",'Radio (Desc)'!S104)","v":""},{"$f":"IF('Radio (Desc)'!T104=\"\",\"\",'Radio (Desc)'!T104)","v":""},{"$f":"IF('Radio (Desc)'!U104=\"\",\"\",INDEX([1]DEV_INPUT_VOLTAGE!$A$2:$A$100,MATCH('Radio (Desc)'!$U104,[1]!MASTER_DEV_INPUT_VOLTAGE_DESC[#Data],0),0))","v":""},{"$f":"IF('Radio (Desc)'!V104=\"\",\"\",'Radio (Desc)'!V104)","v":""},{"$f":"IF('Radio (Desc)'!W104=\"\",\"\",'Radio (Desc)'!W104)","v":""},{"$f":"IF('Radio (Desc)'!X104=\"\",\"\",'Radio (Desc)'!X104)","v":""},{"$f":"IF('Radio (Desc)'!Y104=\"\",\"\",INDEX([1]FIBER_CONN_TYPE!$A$2:$A$100,MATCH('Radio (Desc)'!$Y104,[1]!MASTER_FIBER_CONN_TYPE_DESC[#Data],0),0))","v":""}]
[{"$f":"IF('Radio (Desc)'!A105=\"\",\"\",'Radio (Desc)'!A105)","v":""},{"$f":"IF('Radio (Desc)'!C105=\"\",\"\",\"2029\")","v":""},{"$f":"IF('Radio (Desc)'!C105=\"\",\"\",'Radio (Desc)'!C105)","v":""},{"$f":"IF('Radio (Desc)'!E105=\"\",\"\",\"RADIO\")","v":""},{"$f":"IF('Radio (Desc)'!E105=\"\",\"\",INDEX([1]RADIO_TYPE!$A$2:$A$100,MATCH('Radio (Desc)'!$E105,[1]!MASTER_RADIO_TYPE_DESC[#Data],0),0))","v":""},{"$f":"IF('Radio (Desc)'!F105=\"\",\"\",'Radio (Desc)'!F105)","v":""},{"$f":"IF('Radio (Desc)'!G105=\"\",\"\",INDEX([1]RADIO_FREQ!$A$2:$A$500,MATCH('Radio (Desc)'!$G105,[1]!MASTER_RADIO_FREQ_DESC[#Data],0),0))","v":""},{"$f":"IF('Radio (Desc)'!H105=\"\",\"\",'Radio (Desc)'!H105)","v":""},{"$f":"IF('Radio (Desc)'!I105=\"\",\"\",INDEX([1]RADIO_FREQ!$A$2:$A$500,MATCH('Radio (Desc)'!$I105,[1]!MASTER_RADIO_FREQ_DESC[#Data],0),0))","v":""},{"$f":"IF('Radio (Desc)'!J105=\"\",\"\",'Radio (Desc)'!J105)","v":""},{"$f":"IF('Radio (Desc)'!K105=\"\",\"\",INDEX([1]CALL_SIGN!$A$2:$A$600,MATCH('Radio (Desc)'!$K105,[1]!MASTER_CALL_SIGN_DESC[#Data],0),0))","v":""},{"$f":"IF('Radio (Desc)'!L105=\"\",\"\",INDEX([1]STATION_CLASS!$A$2:$A$100,MATCH('Radio (Desc)'!$L105,[1]!MASTER_STATION_CLASS_DESC[#Data],0),0))","v":""},{"$f":"IF('Radio (Desc)'!M105=\"\",\"\",'Radio (Desc)'!M105)","v":""},{"$f":"IF('Radio (Desc)'!N105=\"\",\"\",'Radio (Desc)'!N105)","v":""},{"$f":"IF('Radio (Desc)'!O105=\"\",\"\",INDEX([1]ITS_COMM_DEV_MANUF!$A$2:$A$300,MATCH(1,([1]ITS_COMM_DEV_MANUF!$B$2:$B$300='Radio (Desc)'!$O105)*([1]ITS_COMM_DEV_MANUF!$C$2:$C$300=\"RADIO\"),0),0))","v":""},{"$f":"IF('Radio (Desc)'!P105=\"\",\"\",INDEX([1]ITS_COMM_DEV_MODEL!$A$2:$A$500,MATCH(1,([1]ITS_COMM_DEV_MODEL!$C$2:$C$500='Radio (Desc)'!$O105)*([1]ITS_COMM_DEV_MODEL!$D$2:$D$500=\"RADIO\")*([1]ITS_COMM_DEV_MODEL!$E$2:$E$500='Radio (Desc)'!$P105),0),0))","v":""},{"$f":"IF('Radio (Desc)'!Q105=\"\",\"\",'Radio (Desc)'!Q105)","v":""},{"$f":"IF('Radio (Desc)'!R105=\"\",\"\",'Radio (Desc)'!R105)","v":""},{"$f":"IF('Radio (Desc)'!S105=\"\",\"\",'Radio (Desc)'!S105)","v":""},{"$f":"IF('Radio (Desc)'!T105=\"\",\"\",'Radio (Desc)'!T105)","v":""},{"$f":"IF('Radio (Desc)'!U105=\"\",\"\",INDEX([1]DEV_INPUT_VOLTAGE!$A$2:$A$100,MATCH('Radio (Desc)'!$U105,[1]!MASTER_DEV_INPUT_VOLTAGE_DESC[#Data],0),0))","v":""},{"$f":"IF('Radio (Desc)'!V105=\"\",\"\",'Radio (Desc)'!V105)","v":""},{"$f":"IF('Radio (Desc)'!W105=\"\",\"\",'Radio (Desc)'!W105)","v":""},{"$f":"IF('Radio (Desc)'!X105=\"\",\"\",'Radio (Desc)'!X105)","v":""},{"$f":"IF('Radio (Desc)'!Y105=\"\",\"\",INDEX([1]FIBER_CONN_TYPE!$A$2:$A$100,MATCH('Radio (Desc)'!$Y105,[1]!MASTER_FIBER_CONN_TYPE_DESC[#Data],0),0))","v":""}]
[{"$f":"IF('Radio (Desc)'!A106=\"\",\"\",'Radio (Desc)'!A106)","v":""},{"$f":"IF('Radio (Desc)'!C106=\"\",\"\",\"2029\")","v":""},{"$f":"IF('Radio (Desc)'!C106=\"\",\"\",'Radio (Desc)'!C106)","v":""},{"$f":"IF('Radio (Desc)'!E106=\"\",\"\",\"RADIO\")","v":""},{"$f":"IF('Radio (Desc)'!E106=\"\",\"\",INDEX([1]RADIO_TYPE!$A$2:$A$100,MATCH('Radio (Desc)'!$E106,[1]!MASTER_RADIO_TYPE_DESC[#Data],0),0))","v":""},{"$f":"IF('Radio (Desc)'!F106=\"\",\"\",'Radio (Desc)'!F106)","v":""},{"$f":"IF('Radio (Desc)'!G106=\"\",\"\",INDEX([1]RADIO_FREQ!$A$2:$A$500,MATCH('Radio (Desc)'!$G106,[1]!MASTER_RADIO_FREQ_DESC[#Data],0),0))","v":""},{"$f":"IF('Radio (Desc)'!H106=\"\",\"\",'Radio (Desc)'!H106)","v":""},{"$f":"IF('Radio (Desc)'!I106=\"\",\"\",INDEX([1]RADIO_FREQ!$A$2:$A$500,MATCH('Radio (Desc)'!$I106,[1]!MASTER_RADIO_FREQ_DESC[#Data],0),0))","v":""},{"$f":"IF('Radio (Desc)'!J106=\"\",\"\",'Radio (Desc)'!J106)","v":""},{"$f":"IF('Radio (Desc)'!K106=\"\",\"\",INDEX([1]CALL_SIGN!$A$2:$A$600,MATCH('Radio (Desc)'!$K106,[1]!MASTER_CALL_SIGN_DESC[#Data],0),0))","v":""},{"$f":"IF('Radio (Desc)'!L106=\"\",\"\",INDEX([1]STATION_CLASS!$A$2:$A$100,MATCH('Radio (Desc)'!$L106,[1]!MASTER_STATION_CLASS_DESC[#Data],0),0))","v":""},{"$f":"IF('Radio (Desc)'!M106=\"\",\"\",'Radio (Desc)'!M106)","v":""},{"$f":"IF('Radio (Desc)'!N106=\"\",\"\",'Radio (Desc)'!N106)","v":""},{"$f":"IF('Radio (Desc)'!O106=\"\",\"\",INDEX([1]ITS_COMM_DEV_MANUF!$A$2:$A$300,MATCH(1,([1]ITS_COMM_DEV_MANUF!$B$2:$B$300='Radio (Desc)'!$O106)*([1]ITS_COMM_DEV_MANUF!$C$2:$C$300=\"RADIO\"),0),0))","v":""},{"$f":"IF('Radio (Desc)'!P106=\"\",\"\",INDEX([1]ITS_COMM_DEV_MODEL!$A$2:$A$500,MATCH(1,([1]ITS_COMM_DEV_MODEL!$C$2:$C$500='Radio (Desc)'!$O106)*([1]ITS_COMM_DEV_MODEL!$D$2:$D$500=\"RADIO\")*([1]ITS_COMM_DEV_MODEL!$E$2:$E$500='Radio (Desc)'!$P106),0),0))","v":""},{"$f":"IF('Radio (Desc)'!Q106=\"\",\"\",'Radio (Desc)'!Q106)","v":""},{"$f":"IF('Radio (Desc)'!R106=\"\",\"\",'Radio (Desc)'!R106)","v":""},{"$f":"IF('Radio (Desc)'!S106=\"\",\"\",'Radio (Desc)'!S106)","v":""},{"$f":"IF('Radio (Desc)'!T106=\"\",\"\",'Radio (Desc)'!T106)","v":""},{"$f":"IF('Radio (Desc)'!U106=\"\",\"\",INDEX([1]DEV_INPUT_VOLTAGE!$A$2:$A$100,MATCH('Radio (Desc)'!$U106,[1]!MASTER_DEV_INPUT_VOLTAGE_DESC[#Data],0),0))","v":""},{"$f":"IF('Radio (Desc)'!V106=\"\",\"\",'Radio (Desc)'!V106)","v":""},{"$f":"IF('Radio (Desc)'!W106=\"\",\"\",'Radio (Desc)'!W106)","v":""},{"$f":"IF('Radio (Desc)'!X106=\"\",\"\",'Radio (Desc)'!X106)","v":""},{"$f":"IF('Radio (Desc)'!Y106=\"\",\"\",INDEX([1]FIBER_CONN_TYPE!$A$2:$A$100,MATCH('Radio (Desc)'!$Y106,[1]!MASTER_FIBER_CONN_TYPE_DESC[#Data],0),0))","v":""}]
[{"$f":"IF('Radio (Desc)'!A107=\"\",\"\",'Radio (Desc)'!A107)","v":""},{"$f":"IF('Radio (Desc)'!C107=\"\",\"\",\"2029\")","v":""},{"$f":"IF('Radio (Desc)'!C107=\"\",\"\",'Radio (Desc)'!C107)","v":""},{"$f":"IF('Radio (Desc)'!E107=\"\",\"\",\"RADIO\")","v":""},{"$f":"IF('Radio (Desc)'!E107=\"\",\"\",INDEX([1]RADIO_TYPE!$A$2:$A$100,MATCH('Radio (Desc)'!$E107,[1]!MASTER_RADIO_TYPE_DESC[#Data],0),0))","v":""},{"$f":"IF('Radio (Desc)'!F107=\"\",\"\",'Radio (Desc)'!F107)","v":""},{"$f":"IF('Radio (Desc)'!G107=\"\",\"\",INDEX([1]RADIO_FREQ!$A$2:$A$500,MATCH('Radio (Desc)'!$G107,[1]!MASTER_RADIO_FREQ_DESC[#Data],0),0))","v":""},{"$f":"IF('Radio (Desc)'!H107=\"\",\"\",'Radio (Desc)'!H107)","v":""},{"$f":"IF('Radio (Desc)'!I107=\"\",\"\",INDEX([1]RADIO_FREQ!$A$2:$A$500,MATCH('Radio (Desc)'!$I107,[1]!MASTER_RADIO_FREQ_DESC[#Data],0),0))","v":""},{"$f":"IF('Radio (Desc)'!J107=\"\",\"\",'Radio (Desc)'!J107)","v":""},{"$f":"IF('Radio (Desc)'!K107=\"\",\"\",INDEX([1]CALL_SIGN!$A$2:$A$600,MATCH('Radio (Desc)'!$K107,[1]!MASTER_CALL_SIGN_DESC[#Data],0),0))","v":""},{"$f":"IF('Radio (Desc)'!L107=\"\",\"\",INDEX([1]STATION_CLASS!$A$2:$A$100,MATCH('Radio (Desc)'!$L107,[1]!MASTER_STATION_CLASS_DESC[#Data],0),0))","v":""},{"$f":"IF('Radio (Desc)'!M107=\"\",\"\",'Radio (Desc)'!M107)","v":""},{"$f":"IF('Radio (Desc)'!N107=\"\",\"\",'Radio (Desc)'!N107)","v":""},{"$f":"IF('Radio (Desc)'!O107=\"\",\"\",INDEX([1]ITS_COMM_DEV_MANUF!$A$2:$A$300,MATCH(1,([1]ITS_COMM_DEV_MANUF!$B$2:$B$300='Radio (Desc)'!$O107)*([1]ITS_COMM_DEV_MANUF!$C$2:$C$300=\"RADIO\"),0),0))","v":""},{"$f":"IF('Radio (Desc)'!P107=\"\",\"\",INDEX([1]ITS_COMM_DEV_MODEL!$A$2:$A$500,MATCH(1,([1]ITS_COMM_DEV_MODEL!$C$2:$C$500='Radio (Desc)'!$O107)*([1]ITS_COMM_DEV_MODEL!$D$2:$D$500=\"RADIO\")*([1]ITS_COMM_DEV_MODEL!$E$2:$E$500='Radio (Desc)'!$P107),0),0))","v":""},{"$f":"IF('Radio (Desc)'!Q107=\"\",\"\",'Radio (Desc)'!Q107)","v":""},{"$f":"IF('Radio (Desc)'!R107=\"\",\"\",'Radio (Desc)'!R107)","v":""},{"$f":"IF('Radio (Desc)'!S107=\"\",\"\",'Radio (Desc)'!S107)","v":""},{"$f":"IF('Radio (Desc)'!T107=\"\",\"\",'Radio (Desc)'!T107)","v":""},{"$f":"IF('Radio (Desc)'!U107=\"\",\"\",INDEX([1]DEV_INPUT_VOLTAGE!$A$2:$A$100,MATCH('Radio (Desc)'!$U107,[1]!MASTER_DEV_INPUT_VOLTAGE_DESC[#Data],0),0))","v":""},{"$f":"IF('Radio (Desc)'!V107=\"\",\"\",'Radio (Desc)'!V107)","v":""},{"$f":"IF('Radio (Desc)'!W107=\"\",\"\",'Radio (Desc)'!W107)","v":""},{"$f":"IF('Radio (Desc)'!X107=\"\",\"\",'Radio (Desc)'!X107)","v":""},{"$f":"IF('Radio (Desc)'!Y107=\"\",\"\",INDEX([1]FIBER_CONN_TYPE!$A$2:$A$100,MATCH('Radio (Desc)'!$Y107,[1]!MASTER_FIBER_CONN_TYPE_DESC[#Data],0),0))","v":""}]
[{"$f":"IF('Radio (Desc)'!A108=\"\",\"\",'Radio (Desc)'!A108)","v":""},{"$f":"IF('Radio (Desc)'!C108=\"\",\"\",\"2029\")","v":""},{"$f":"IF('Radio (Desc)'!C108=\"\",\"\",'Radio (Desc)'!C108)","v":""},{"$f":"IF('Radio (Desc)'!E108=\"\",\"\",\"RADIO\")","v":""},{"$f":"IF('Radio (Desc)'!E108=\"\",\"\",INDEX([1]RADIO_TYPE!$A$2:$A$100,MATCH('Radio (Desc)'!$E108,[1]!MASTER_RADIO_TYPE_DESC[#Data],0),0))","v":""},{"$f":"IF('Radio (Desc)'!F108=\"\",\"\",'Radio (Desc)'!F108)","v":""},{"$f":"IF('Radio (Desc)'!G108=\"\",\"\",INDEX([1]RADIO_FREQ!$A$2:$A$500,MATCH('Radio (Desc)'!$G108,[1]!MASTER_RADIO_FREQ_DESC[#Data],0),0))","v":""},{"$f":"IF('Radio (Desc)'!H108=\"\",\"\",'Radio (Desc)'!H108)","v":""},{"$f":"IF('Radio (Desc)'!I108=\"\",\"\",INDEX([1]RADIO_FREQ!$A$2:$A$500,MATCH('Radio (Desc)'!$I108,[1]!MASTER_RADIO_FREQ_DESC[#Data],0),0))","v":""},{"$f":"IF('Radio (Desc)'!J108=\"\",\"\",'Radio (Desc)'!J108)","v":""},{"$f":"IF('Radio (Desc)'!K108=\"\",\"\",INDEX([1]CALL_SIGN!$A$2:$A$600,MATCH('Radio (Desc)'!$K108,[1]!MASTER_CALL_SIGN_DESC[#Data],0),0))","v":""},{"$f":"IF('Radio (Desc)'!L108=\"\",\"\",INDEX([1]STATION_CLASS!$A$2:$A$100,MATCH('Radio (Desc)'!$L108,[1]!MASTER_STATION_CLASS_DESC[#Data],0),0))","v":""},{"$f":"IF('Radio (Desc)'!M108=\"\",\"\",'Radio (Desc)'!M108)","v":""},{"$f":"IF('Radio (Desc)'!N108=\"\",\"\",'Radio (Desc)'!N108)","v":""},{"$f":"IF('Radio (Desc)'!O108=\"\",\"\",INDEX([1]ITS_COMM_DEV_MANUF!$A$2:$A$300,MATCH(1,([1]ITS_COMM_DEV_MANUF!$B$2:$B$300='Radio (Desc)'!$O108)*([1]ITS_COMM_DEV_MANUF!$C$2:$C$300=\"RADIO\"),0),0))","v":""},{"$f":"IF('Radio (Desc)'!P108=\"\",\"\",INDEX([1]ITS_COMM_DEV_MODEL!$A$2:$A$500,MATCH(1,([1]ITS_COMM_DEV_MODEL!$C$2:$C$500='Radio (Desc)'!$O108)*([1]ITS_COMM_DEV_MODEL!$D$2:$D$500=\"RADIO\")*([1]ITS_COMM_DEV_MODEL!$E$2:$E$500='Radio (Desc)'!$P108),0),0))","v":""},{"$f":"IF('Radio (Desc)'!Q108=\"\",\"\",'Radio (Desc)'!Q108)","v":""},{"$f":"IF('Radio (Desc)'!R108=\"\",\"\",'Radio (Desc)'!R108)","v":""},{"$f":"IF('Radio (Desc)'!S108=\"\",\"\",'Radio (Desc)'!S108)","v":""},{"$f":"IF('Radio (Desc)'!T108=\"\",\"\",'Radio (Desc)'!T108)","v":""},{"$f":"IF('Radio (Desc)'!U108=\"\",\"\",INDEX([1]DEV_INPUT_VOLTAGE!$A$2:$A$100,MATCH('Radio (Desc)'!$U108,[1]!MASTER_DEV_INPUT_VOLTAGE_DESC[#Data],0),0))","v":""},{"$f":"IF('Radio (Desc)'!V108=\"\",\"\",'Radio (Desc)'!V108)","v":""},{"$f":"IF('Radio (Desc)'!W108=\"\",\"\",'Radio (Desc)'!W108)","v":""},{"$f":"IF('Radio (Desc)'!X108=\"\",\"\",'Radio (Desc)'!X108)","v":""},{"$f":"IF('Radio (Desc)'!Y108=\"\",\"\",INDEX([1]FIBER_CONN_TYPE!$A$2:$A$100,MATCH('Radio (Desc)'!$Y108,[1]!MASTER_FIBER_CONN_TYPE_DESC[#Data],0),0))","v":""}]
[{"$f":"IF('Radio (Desc)'!A109=\"\",\"\",'Radio (Desc)'!A109)","v":""},{"$f":"IF('Radio (Desc)'!C109=\"\",\"\",\"2029\")","v":""},{"$f":"IF('Radio (Desc)'!C109=\"\",\"\",'Radio (Desc)'!C109)","v":""},{"$f":"IF('Radio (Desc)'!E109=\"\",\"\",\"RADIO\")","v":""},{"$f":"IF('Radio (Desc)'!E109=\"\",\"\",INDEX([1]RADIO_TYPE!$A$2:$A$100,MATCH('Radio (Desc)'!$E109,[1]!MASTER_RADIO_TYPE_DESC[#Data],0),0))","v":""},{"$f":"IF('Radio (Desc)'!F109=\"\",\"\",'Radio (Desc)'!F109)","v":""},{"$f":"IF('Radio (Desc)'!G109=\"\",\"\",INDEX([1]RADIO_FREQ!$A$2:$A$500,MATCH('Radio (Desc)'!$G109,[1]!MASTER_RADIO_FREQ_DESC[#Data],0),0))","v":""},{"$f":"IF('Radio (Desc)'!H109=\"\",\"\",'Radio (Desc)'!H109)","v":""},{"$f":"IF('Radio (Desc)'!I109=\"\",\"\",INDEX([1]RADIO_FREQ!$A$2:$A$500,MATCH('Radio (Desc)'!$I109,[1]!MASTER_RADIO_FREQ_DESC[#Data],0),0))","v":""},{"$f":"IF('Radio (Desc)'!J109=\"\",\"\",'Radio (Desc)'!J109)","v":""},{"$f":"IF('Radio (Desc)'!K109=\"\",\"\",INDEX([1]CALL_SIGN!$A$2:$A$600,MATCH('Radio (Desc)'!$K109,[1]!MASTER_CALL_SIGN_DESC[#Data],0),0))","v":""},{"$f":"IF('Radio (Desc)'!L109=\"\",\"\",INDEX([1]STATION_CLASS!$A$2:$A$100,MATCH('Radio (Desc)'!$L109,[1]!MASTER_STATION_CLASS_DESC[#Data],0),0))","v":""},{"$f":"IF('Radio (Desc)'!M109=\"\",\"\",'Radio (Desc)'!M109)","v":""},{"$f":"IF('Radio (Desc)'!N109=\"\",\"\",'Radio (Desc)'!N109)","v":""},{"$f":"IF('Radio (Desc)'!O109=\"\",\"\",INDEX([1]ITS_COMM_DEV_MANUF!$A$2:$A$300,MATCH(1,([1]ITS_COMM_DEV_MANUF!$B$2:$B$300='Radio (Desc)'!$O109)*([1]ITS_COMM_DEV_MANUF!$C$2:$C$300=\"RADIO\"),0),0))","v":""},{"$f":"IF('Radio (Desc)'!P109=\"\",\"\",INDEX([1]ITS_COMM_DEV_MODEL!$A$2:$A$500,MATCH(1,([1]ITS_COMM_DEV_MODEL!$C$2:$C$500='Radio (Desc)'!$O109)*([1]ITS_COMM_DEV_MODEL!$D$2:$D$500=\"RADIO\")*([1]ITS_COMM_DEV_MODEL!$E$2:$E$500='Radio (Desc)'!$P109),0),0))","v":""},{"$f":"IF('Radio (Desc)'!Q109=\"\",\"\",'Radio (Desc)'!Q109)","v":""},{"$f":"IF('Radio (Desc)'!R109=\"\",\"\",'Radio (Desc)'!R109)","v":""},{"$f":"IF('Radio (Desc)'!S109=\"\",\"\",'Radio (Desc)'!S109)","v":""},{"$f":"IF('Radio (Desc)'!T109=\"\",\"\",'Radio (Desc)'!T109)","v":""},{"$f":"IF('Radio (Desc)'!U109=\"\",\"\",INDEX([1]DEV_INPUT_VOLTAGE!$A$2:$A$100,MATCH('Radio (Desc)'!$U109,[1]!MASTER_DEV_INPUT_VOLTAGE_DESC[#Data],0),0))","v":""},{"$f":"IF('Radio (Desc)'!V109=\"\",\"\",'Radio (Desc)'!V109)","v":""},{"$f":"IF('Radio (Desc)'!W109=\"\",\"\",'Radio (Desc)'!W109)","v":""},{"$f":"IF('Radio (Desc)'!X109=\"\",\"\",'Radio (Desc)'!X109)","v":""},{"$f":"IF('Radio (Desc)'!Y109=\"\",\"\",INDEX([1]FIBER_CONN_TYPE!$A$2:$A$100,MATCH('Radio (Desc)'!$Y109,[1]!MASTER_FIBER_CONN_TYPE_DESC[#Data],0),0))","v":""}]
[{"$f":"IF('Radio (Desc)'!A110=\"\",\"\",'Radio (Desc)'!A110)","v":""},{"$f":"IF('Radio (Desc)'!C110=\"\",\"\",\"2029\")","v":""},{"$f":"IF('Radio (Desc)'!C110=\"\",\"\",'Radio (Desc)'!C110)","v":""},{"$f":"IF('Radio (Desc)'!E110=\"\",\"\",\"RADIO\")","v":""},{"$f":"IF('Radio (Desc)'!E110=\"\",\"\",INDEX([1]RADIO_TYPE!$A$2:$A$100,MATCH('Radio (Desc)'!$E110,[1]!MASTER_RADIO_TYPE_DESC[#Data],0),0))","v":""},{"$f":"IF('Radio (Desc)'!F110=\"\",\"\",'Radio (Desc)'!F110)","v":""},{"$f":"IF('Radio (Desc)'!G110=\"\",\"\",INDEX([1]RADIO_FREQ!$A$2:$A$500,MATCH('Radio (Desc)'!$G110,[1]!MASTER_RADIO_FREQ_DESC[#Data],0),0))","v":""},{"$f":"IF('Radio (Desc)'!H110=\"\",\"\",'Radio (Desc)'!H110)","v":""},{"$f":"IF('Radio (Desc)'!I110=\"\",\"\",INDEX([1]RADIO_FREQ!$A$2:$A$500,MATCH('Radio (Desc)'!$I110,[1]!MASTER_RADIO_FREQ_DESC[#Data],0),0))","v":""},{"$f":"IF('Radio (Desc)'!J110=\"\",\"\",'Radio (Desc)'!J110)","v":""},{"$f":"IF('Radio (Desc)'!K110=\"\",\"\",INDEX([1]CALL_SIGN!$A$2:$A$600,MATCH('Radio (Desc)'!$K110,[1]!MASTER_CALL_SIGN_DESC[#Data],0),0))","v":""},{"$f":"IF('Radio (Desc)'!L110=\"\",\"\",INDEX([1]STATION_CLASS!$A$2:$A$100,MATCH('Radio (Desc)'!$L110,[1]!MASTER_STATION_CLASS_DESC[#Data],0),0))","v":""},{"$f":"IF('Radio (Desc)'!M110=\"\",\"\",'Radio (Desc)'!M110)","v":""},{"$f":"IF('Radio (Desc)'!N110=\"\",\"\",'Radio (Desc)'!N110)","v":""},{"$f":"IF('Radio (Desc)'!O110=\"\",\"\",INDEX([1]ITS_COMM_DEV_MANUF!$A$2:$A$300,MATCH(1,([1]ITS_COMM_DEV_MANUF!$B$2:$B$300='Radio (Desc)'!$O110)*([1]ITS_COMM_DEV_MANUF!$C$2:$C$300=\"RADIO\"),0),0))","v":""},{"$f":"IF('Radio (Desc)'!P110=\"\",\"\",INDEX([1]ITS_COMM_DEV_MODEL!$A$2:$A$500,MATCH(1,([1]ITS_COMM_DEV_MODEL!$C$2:$C$500='Radio (Desc)'!$O110)*([1]ITS_COMM_DEV_MODEL!$D$2:$D$500=\"RADIO\")*([1]ITS_COMM_DEV_MODEL!$E$2:$E$500='Radio (Desc)'!$P110),0),0))","v":""},{"$f":"IF('Radio (Desc)'!Q110=\"\",\"\",'Radio (Desc)'!Q110)","v":""},{"$f":"IF('Radio (Desc)'!R110=\"\",\"\",'Radio (Desc)'!R110)","v":""},{"$f":"IF('Radio (Desc)'!S110=\"\",\"\",'Radio (Desc)'!S110)","v":""},{"$f":"IF('Radio (Desc)'!T110=\"\",\"\",'Radio (Desc)'!T110)","v":""},{"$f":"IF('Radio (Desc)'!U110=\"\",\"\",INDEX([1]DEV_INPUT_VOLTAGE!$A$2:$A$100,MATCH('Radio (Desc)'!$U110,[1]!MASTER_DEV_INPUT_VOLTAGE_DESC[#Data],0),0))","v":""},{"$f":"IF('Radio (Desc)'!V110=\"\",\"\",'Radio (Desc)'!V110)","v":""},{"$f":"IF('Radio (Desc)'!W110=\"\",\"\",'Radio (Desc)'!W110)","v":""},{"$f":"IF('Radio (Desc)'!X110=\"\",\"\",'Radio (Desc)'!X110)","v":""},{"$f":"IF('Radio (Desc)'!Y110=\"\",\"\",INDEX([1]FIBER_CONN_TYPE!$A$2:$A$100,MATCH('Radio (Desc)'!$Y110,[1]!MASTER_FIBER_CONN_TYPE_DESC[#Data],0),0))","v":""}]
[{"$f":"IF('Radio (Desc)'!A111=\"\",\"\",'Radio (Desc)'!A111)","v":""},{"$f":"IF('Radio (Desc)'!C111=\"\",\"\",\"2029\")","v":""},{"$f":"IF('Radio (Desc)'!C111=\"\",\"\",'Radio (Desc)'!C111)","v":""},{"$f":"IF('Radio (Desc)'!E111=\"\",\"\",\"RADIO\")","v":""},{"$f":"IF('Radio (Desc)'!E111=\"\",\"\",INDEX([1]RADIO_TYPE!$A$2:$A$100,MATCH('Radio (Desc)'!$E111,[1]!MASTER_RADIO_TYPE_DESC[#Data],0),0))","v":""},{"$f":"IF('Radio (Desc)'!F111=\"\",\"\",'Radio (Desc)'!F111)","v":""},{"$f":"IF('Radio (Desc)'!G111=\"\",\"\",INDEX([1]RADIO_FREQ!$A$2:$A$500,MATCH('Radio (Desc)'!$G111,[1]!MASTER_RADIO_FREQ_DESC[#Data],0),0))","v":""},{"$f":"IF('Radio (Desc)'!H111=\"\",\"\",'Radio (Desc)'!H111)","v":""},{"$f":"IF('Radio (Desc)'!I111=\"\",\"\",INDEX([1]RADIO_FREQ!$A$2:$A$500,MATCH('Radio (Desc)'!$I111,[1]!MASTER_RADIO_FREQ_DESC[#Data],0),0))","v":""},{"$f":"IF('Radio (Desc)'!J111=\"\",\"\",'Radio (Desc)'!J111)","v":""},{"$f":"IF('Radio (Desc)'!K111=\"\",\"\",INDEX([1]CALL_SIGN!$A$2:$A$600,MATCH('Radio (Desc)'!$K111,[1]!MASTER_CALL_SIGN_DESC[#Data],0),0))","v":""},{"$f":"IF('Radio (Desc)'!L111=\"\",\"\",INDEX([1]STATION_CLASS!$A$2:$A$100,MATCH('Radio (Desc)'!$L111,[1]!MASTER_STATION_CLASS_DESC[#Data],0),0))","v":""},{"$f":"IF('Radio (Desc)'!M111=\"\",\"\",'Radio (Desc)'!M111)","v":""},{"$f":"IF('Radio (Desc)'!N111=\"\",\"\",'Radio (Desc)'!N111)","v":""},{"$f":"IF('Radio (Desc)'!O111=\"\",\"\",INDEX([1]ITS_COMM_DEV_MANUF!$A$2:$A$300,MATCH(1,([1]ITS_COMM_DEV_MANUF!$B$2:$B$300='Radio (Desc)'!$O111)*([1]ITS_COMM_DEV_MANUF!$C$2:$C$300=\"RADIO\"),0),0))","v":""},{"$f":"IF('Radio (Desc)'!P111=\"\",\"\",INDEX([1]ITS_COMM_DEV_MODEL!$A$2:$A$500,MATCH(1,([1]ITS_COMM_DEV_MODEL!$C$2:$C$500='Radio (Desc)'!$O111)*([1]ITS_COMM_DEV_MODEL!$D$2:$D$500=\"RADIO\")*([1]ITS_COMM_DEV_MODEL!$E$2:$E$500='Radio (Desc)'!$P111),0),0))","v":""},{"$f":"IF('Radio (Desc)'!Q111=\"\",\"\",'Radio (Desc)'!Q111)","v":""},{"$f":"IF('Radio (Desc)'!R111=\"\",\"\",'Radio (Desc)'!R111)","v":""},{"$f":"IF('Radio (Desc)'!S111=\"\",\"\",'Radio (Desc)'!S111)","v":""},{"$f":"IF('Radio (Desc)'!T111=\"\",\"\",'Radio (Desc)'!T111)","v":""},{"$f":"IF('Radio (Desc)'!U111=\"\",\"\",INDEX([1]DEV_INPUT_VOLTAGE!$A$2:$A$100,MATCH('Radio (Desc)'!$U111,[1]!MASTER_DEV_INPUT_VOLTAGE_DESC[#Data],0),0))","v":""},{"$f":"IF('Radio (Desc)'!V111=\"\",\"\",'Radio (Desc)'!V111)","v":""},{"$f":"IF('Radio (Desc)'!W111=\"\",\"\",'Radio (Desc)'!W111)","v":""},{"$f":"IF('Radio (Desc)'!X111=\"\",\"\",'Radio (Desc)'!X111)","v":""},{"$f":"IF('Radio (Desc)'!Y111=\"\",\"\",INDEX([1]FIBER_CONN_TYPE!$A$2:$A$100,MATCH('Radio (Desc)'!$Y111,[1]!MASTER_FIBER_CONN_TYPE_DESC[#Data],0),0))","v":""}]
[{"$f":"IF('Radio (Desc)'!A112=\"\",\"\",'Radio (Desc)'!A112)","v":""},{"$f":"IF('Radio (Desc)'!C112=\"\",\"\",\"2029\")","v":""},{"$f":"IF('Radio (Desc)'!C112=\"\",\"\",'Radio (Desc)'!C112)","v":""},{"$f":"IF('Radio (Desc)'!E112=\"\",\"\",\"RADIO\")","v":""},{"$f":"IF('Radio (Desc)'!E112=\"\",\"\",INDEX([1]RADIO_TYPE!$A$2:$A$100,MATCH('Radio (Desc)'!$E112,[1]!MASTER_RADIO_TYPE_DESC[#Data],0),0))","v":""},{"$f":"IF('Radio (Desc)'!F112=\"\",\"\",'Radio (Desc)'!F112)","v":""},{"$f":"IF('Radio (Desc)'!G112=\"\",\"\",INDEX([1]RADIO_FREQ!$A$2:$A$500,MATCH('Radio (Desc)'!$G112,[1]!MASTER_RADIO_FREQ_DESC[#Data],0),0))","v":""},{"$f":"IF('Radio (Desc)'!H112=\"\",\"\",'Radio (Desc)'!H112)","v":""},{"$f":"IF('Radio (Desc)'!I112=\"\",\"\",INDEX([1]RADIO_FREQ!$A$2:$A$500,MATCH('Radio (Desc)'!$I112,[1]!MASTER_RADIO_FREQ_DESC[#Data],0),0))","v":""},{"$f":"IF('Radio (Desc)'!J112=\"\",\"\",'Radio (Desc)'!J112)","v":""},{"$f":"IF('Radio (Desc)'!K112=\"\",\"\",INDEX([1]CALL_SIGN!$A$2:$A$600,MATCH('Radio (Desc)'!$K112,[1]!MASTER_CALL_SIGN_DESC[#Data],0),0))","v":""},{"$f":"IF('Radio (Desc)'!L112=\"\",\"\",INDEX([1]STATION_CLASS!$A$2:$A$100,MATCH('Radio (Desc)'!$L112,[1]!MASTER_STATION_CLASS_DESC[#Data],0),0))","v":""},{"$f":"IF('Radio (Desc)'!M112=\"\",\"\",'Radio (Desc)'!M112)","v":""},{"$f":"IF('Radio (Desc)'!N112=\"\",\"\",'Radio (Desc)'!N112)","v":""},{"$f":"IF('Radio (Desc)'!O112=\"\",\"\",INDEX([1]ITS_COMM_DEV_MANUF!$A$2:$A$300,MATCH(1,([1]ITS_COMM_DEV_MANUF!$B$2:$B$300='Radio (Desc)'!$O112)*([1]ITS_COMM_DEV_MANUF!$C$2:$C$300=\"RADIO\"),0),0))","v":""},{"$f":"IF('Radio (Desc)'!P112=\"\",\"\",INDEX([1]ITS_COMM_DEV_MODEL!$A$2:$A$500,MATCH(1,([1]ITS_COMM_DEV_MODEL!$C$2:$C$500='Radio (Desc)'!$O112)*([1]ITS_COMM_DEV_MODEL!$D$2:$D$500=\"RADIO\")*([1]ITS_COMM_DEV_MODEL!$E$2:$E$500='Radio (Desc)'!$P112),0),0))","v":""},{"$f":"IF('Radio (Desc)'!Q112=\"\",\"\",'Radio (Desc)'!Q112)","v":""},{"$f":"IF('Radio (Desc)'!R112=\"\",\"\",'Radio (Desc)'!R112)","v":""},{"$f":"IF('Radio (Desc)'!S112=\"\",\"\",'Radio (Desc)'!S112)","v":""},{"$f":"IF('Radio (Desc)'!T112=\"\",\"\",'Radio (Desc)'!T112)","v":""},{"$f":"IF('Radio (Desc)'!U112=\"\",\"\",INDEX([1]DEV_INPUT_VOLTAGE!$A$2:$A$100,MATCH('Radio (Desc)'!$U112,[1]!MASTER_DEV_INPUT_VOLTAGE_DESC[#Data],0),0))","v":""},{"$f":"IF('Radio (Desc)'!V112=\"\",\"\",'Radio (Desc)'!V112)","v":""},{"$f":"IF('Radio (Desc)'!W112=\"\",\"\",'Radio (Desc)'!W112)","v":""},{"$f":"IF('Radio (Desc)'!X112=\"\",\"\",'Radio (Desc)'!X112)","v":""},{"$f":"IF('Radio (Desc)'!Y112=\"\",\"\",INDEX([1]FIBER_CONN_TYPE!$A$2:$A$100,MATCH('Radio (Desc)'!$Y112,[1]!MASTER_FIBER_CONN_TYPE_DESC[#Data],0),0))","v":""}]
[{"$f":"IF('Radio (Desc)'!A113=\"\",\"\",'Radio (Desc)'!A113)","v":""},{"$f":"IF('Radio (Desc)'!C113=\"\",\"\",\"2029\")","v":""},{"$f":"IF('Radio (Desc)'!C113=\"\",\"\",'Radio (Desc)'!C113)","v":""},{"$f":"IF('Radio (Desc)'!E113=\"\",\"\",\"RADIO\")","v":""},{"$f":"IF('Radio (Desc)'!E113=\"\",\"\",INDEX([1]RADIO_TYPE!$A$2:$A$100,MATCH('Radio (Desc)'!$E113,[1]!MASTER_RADIO_TYPE_DESC[#Data],0),0))","v":""},{"$f":"IF('Radio (Desc)'!F113=\"\",\"\",'Radio (Desc)'!F113)","v":""},{"$f":"IF('Radio (Desc)'!G113=\"\",\"\",INDEX([1]RADIO_FREQ!$A$2:$A$500,MATCH('Radio (Desc)'!$G113,[1]!MASTER_RADIO_FREQ_DESC[#Data],0),0))","v":""},{"$f":"IF('Radio (Desc)'!H113=\"\",\"\",'Radio (Desc)'!H113)","v":""},{"$f":"IF('Radio (Desc)'!I113=\"\",\"\",INDEX([1]RADIO_FREQ!$A$2:$A$500,MATCH('Radio (Desc)'!$I113,[1]!MASTER_RADIO_FREQ_DESC[#Data],0),0))","v":""},{"$f":"IF('Radio (Desc)'!J113=\"\",\"\",'Radio (Desc)'!J113)","v":""},{"$f":"IF('Radio (Desc)'!K113=\"\",\"\",INDEX([1]CALL_SIGN!$A$2:$A$600,MATCH('Radio (Desc)'!$K113,[1]!MASTER_CALL_SIGN_DESC[#Data],0),0))","v":""},{"$f":"IF('Radio (Desc)'!L113=\"\",\"\",INDEX([1]STATION_CLASS!$A$2:$A$100,MATCH('Radio (Desc)'!$L113,[1]!MASTER_STATION_CLASS_DESC[#Data],0),0))","v":""},{"$f":"IF('Radio (Desc)'!M113=\"\",\"\",'Radio (Desc)'!M113)","v":""},{"$f":"IF('Radio (Desc)'!N113=\"\",\"\",'Radio (Desc)'!N113)","v":""},{"$f":"IF('Radio (Desc)'!O113=\"\",\"\",INDEX([1]ITS_COMM_DEV_MANUF!$A$2:$A$300,MATCH(1,([1]ITS_COMM_DEV_MANUF!$B$2:$B$300='Radio (Desc)'!$O113)*([1]ITS_COMM_DEV_MANUF!$C$2:$C$300=\"RADIO\"),0),0))","v":""},{"$f":"IF('Radio (Desc)'!P113=\"\",\"\",INDEX([1]ITS_COMM_DEV_MODEL!$A$2:$A$500,MATCH(1,([1]ITS_COMM_DEV_MODEL!$C$2:$C$500='Radio (Desc)'!$O113)*([1]ITS_COMM_DEV_MODEL!$D$2:$D$500=\"RADIO\")*([1]ITS_COMM_DEV_MODEL!$E$2:$E$500='Radio (Desc)'!$P113),0),0))","v":""},{"$f":"IF('Radio (Desc)'!Q113=\"\",\"\",'Radio (Desc)'!Q113)","v":""},{"$f":"IF('Radio (Desc)'!R113=\"\",\"\",'Radio (Desc)'!R113)","v":""},{"$f":"IF('Radio (Desc)'!S113=\"\",\"\",'Radio (Desc)'!S113)","v":""},{"$f":"IF('Radio (Desc)'!T113=\"\",\"\",'Radio (Desc)'!T113)","v":""},{"$f":"IF('Radio (Desc)'!U113=\"\",\"\",INDEX([1]DEV_INPUT_VOLTAGE!$A$2:$A$100,MATCH('Radio (Desc)'!$U113,[1]!MASTER_DEV_INPUT_VOLTAGE_DESC[#Data],0),0))","v":""},{"$f":"IF('Radio (Desc)'!V113=\"\",\"\",'Radio (Desc)'!V113)","v":""},{"$f":"IF('Radio (Desc)'!W113=\"\",\"\",'Radio (Desc)'!W113)","v":""},{"$f":"IF('Radio (Desc)'!X113=\"\",\"\",'Radio (Desc)'!X113)","v":""},{"$f":"IF('Radio (Desc)'!Y113=\"\",\"\",INDEX([1]FIBER_CONN_TYPE!$A$2:$A$100,MATCH('Radio (Desc)'!$Y113,[1]!MASTER_FIBER_CONN_TYPE_DESC[#Data],0),0))","v":""}]
[{"$f":"IF('Radio (Desc)'!A114=\"\",\"\",'Radio (Desc)'!A114)","v":""},{"$f":"IF('Radio (Desc)'!C114=\"\",\"\",\"2029\")","v":""},{"$f":"IF('Radio (Desc)'!C114=\"\",\"\",'Radio (Desc)'!C114)","v":""},{"$f":"IF('Radio (Desc)'!E114=\"\",\"\",\"RADIO\")","v":""},{"$f":"IF('Radio (Desc)'!E114=\"\",\"\",INDEX([1]RADIO_TYPE!$A$2:$A$100,MATCH('Radio (Desc)'!$E114,[1]!MASTER_RADIO_TYPE_DESC[#Data],0),0))","v":""},{"$f":"IF('Radio (Desc)'!F114=\"\",\"\",'Radio (Desc)'!F114)","v":""},{"$f":"IF('Radio (Desc)'!G114=\"\",\"\",INDEX([1]RADIO_FREQ!$A$2:$A$500,MATCH('Radio (Desc)'!$G114,[1]!MASTER_RADIO_FREQ_DESC[#Data],0),0))","v":""},{"$f":"IF('Radio (Desc)'!H114=\"\",\"\",'Radio (Desc)'!H114)","v":""},{"$f":"IF('Radio (Desc)'!I114=\"\",\"\",INDEX([1]RADIO_FREQ!$A$2:$A$500,MATCH('Radio (Desc)'!$I114,[1]!MASTER_RADIO_FREQ_DESC[#Data],0),0))","v":""},{"$f":"IF('Radio (Desc)'!J114=\"\",\"\",'Radio (Desc)'!J114)","v":""},{"$f":"IF('Radio (Desc)'!K114=\"\",\"\",INDEX([1]CALL_SIGN!$A$2:$A$600,MATCH('Radio (Desc)'!$K114,[1]!MASTER_CALL_SIGN_DESC[#Data],0),0))","v":""},{"$f":"IF('Radio (Desc)'!L114=\"\",\"\",INDEX([1]STATION_CLASS!$A$2:$A$100,MATCH('Radio (Desc)'!$L114,[1]!MASTER_STATION_CLASS_DESC[#Data],0),0))","v":""},{"$f":"IF('Radio (Desc)'!M114=\"\",\"\",'Radio (Desc)'!M114)","v":""},{"$f":"IF('Radio (Desc)'!N114=\"\",\"\",'Radio (Desc)'!N114)","v":""},{"$f":"IF('Radio (Desc)'!O114=\"\",\"\",INDEX([1]ITS_COMM_DEV_MANUF!$A$2:$A$300,MATCH(1,([1]ITS_COMM_DEV_MANUF!$B$2:$B$300='Radio (Desc)'!$O114)*([1]ITS_COMM_DEV_MANUF!$C$2:$C$300=\"RADIO\"),0),0))","v":""},{"$f":"IF('Radio (Desc)'!P114=\"\",\"\",INDEX([1]ITS_COMM_DEV_MODEL!$A$2:$A$500,MATCH(1,([1]ITS_COMM_DEV_MODEL!$C$2:$C$500='Radio (Desc)'!$O114)*([1]ITS_COMM_DEV_MODEL!$D$2:$D$500=\"RADIO\")*([1]ITS_COMM_DEV_MODEL!$E$2:$E$500='Radio (Desc)'!$P114),0),0))","v":""},{"$f":"IF('Radio (Desc)'!Q114=\"\",\"\",'Radio (Desc)'!Q114)","v":""},{"$f":"IF('Radio (Desc)'!R114=\"\",\"\",'Radio (Desc)'!R114)","v":""},{"$f":"IF('Radio (Desc)'!S114=\"\",\"\",'Radio (Desc)'!S114)","v":""},{"$f":"IF('Radio (Desc)'!T114=\"\",\"\",'Radio (Desc)'!T114)","v":""},{"$f":"IF('Radio (Desc)'!U114=\"\",\"\",INDEX([1]DEV_INPUT_VOLTAGE!$A$2:$A$100,MATCH('Radio (Desc)'!$U114,[1]!MASTER_DEV_INPUT_VOLTAGE_DESC[#Data],0),0))","v":""},{"$f":"IF('Radio (Desc)'!V114=\"\",\"\",'Radio (Desc)'!V114)","v":""},{"$f":"IF('Radio (Desc)'!W114=\"\",\"\",'Radio (Desc)'!W114)","v":""},{"$f":"IF('Radio (Desc)'!X114=\"\",\"\",'Radio (Desc)'!X114)","v":""},{"$f":"IF('Radio (Desc)'!Y114=\"\",\"\",INDEX([1]FIBER_CONN_TYPE!$A$2:$A$100,MATCH('Radio (Desc)'!$Y114,[1]!MASTER_FIBER_CONN_TYPE_DESC[#Data],0),0))","v":""}]
[{"$f":"IF('Radio (Desc)'!A115=\"\",\"\",'Radio (Desc)'!A115)","v":""},{"$f":"IF('Radio (Desc)'!C115=\"\",\"\",\"2029\")","v":""},{"$f":"IF('Radio (Desc)'!C115=\"\",\"\",'Radio (Desc)'!C115)","v":""},{"$f":"IF('Radio (Desc)'!E115=\"\",\"\",\"RADIO\")","v":""},{"$f":"IF('Radio (Desc)'!E115=\"\",\"\",INDEX([1]RADIO_TYPE!$A$2:$A$100,MATCH('Radio (Desc)'!$E115,[1]!MASTER_RADIO_TYPE_DESC[#Data],0),0))","v":""},{"$f":"IF('Radio (Desc)'!F115=\"\",\"\",'Radio (Desc)'!F115)","v":""},{"$f":"IF('Radio (Desc)'!G115=\"\",\"\",INDEX([1]RADIO_FREQ!$A$2:$A$500,MATCH('Radio (Desc)'!$G115,[1]!MASTER_RADIO_FREQ_DESC[#Data],0),0))","v":""},{"$f":"IF('Radio (Desc)'!H115=\"\",\"\",'Radio (Desc)'!H115)","v":""},{"$f":"IF('Radio (Desc)'!I115=\"\",\"\",INDEX([1]RADIO_FREQ!$A$2:$A$500,MATCH('Radio (Desc)'!$I115,[1]!MASTER_RADIO_FREQ_DESC[#Data],0),0))","v":""},{"$f":"IF('Radio (Desc)'!J115=\"\",\"\",'Radio (Desc)'!J115)","v":""},{"$f":"IF('Radio (Desc)'!K115=\"\",\"\",INDEX([1]CALL_SIGN!$A$2:$A$600,MATCH('Radio (Desc)'!$K115,[1]!MASTER_CALL_SIGN_DESC[#Data],0),0))","v":""},{"$f":"IF('Radio (Desc)'!L115=\"\",\"\",INDEX([1]STATION_CLASS!$A$2:$A$100,MATCH('Radio (Desc)'!$L115,[1]!MASTER_STATION_CLASS_DESC[#Data],0),0))","v":""},{"$f":"IF('Radio (Desc)'!M115=\"\",\"\",'Radio (Desc)'!M115)","v":""},{"$f":"IF('Radio (Desc)'!N115=\"\",\"\",'Radio (Desc)'!N115)","v":""},{"$f":"IF('Radio (Desc)'!O115=\"\",\"\",INDEX([1]ITS_COMM_DEV_MANUF!$A$2:$A$300,MATCH(1,([1]ITS_COMM_DEV_MANUF!$B$2:$B$300='Radio (Desc)'!$O115)*([1]ITS_COMM_DEV_MANUF!$C$2:$C$300=\"RADIO\"),0),0))","v":""},{"$f":"IF('Radio (Desc)'!P115=\"\",\"\",INDEX([1]ITS_COMM_DEV_MODEL!$A$2:$A$500,MATCH(1,([1]ITS_COMM_DEV_MODEL!$C$2:$C$500='Radio (Desc)'!$O115)*([1]ITS_COMM_DEV_MODEL!$D$2:$D$500=\"RADIO\")*([1]ITS_COMM_DEV_MODEL!$E$2:$E$500='Radio (Desc)'!$P115),0),0))","v":""},{"$f":"IF('Radio (Desc)'!Q115=\"\",\"\",'Radio (Desc)'!Q115)","v":""},{"$f":"IF('Radio (Desc)'!R115=\"\",\"\",'Radio (Desc)'!R115)","v":""},{"$f":"IF('Radio (Desc)'!S115=\"\",\"\",'Radio (Desc)'!S115)","v":""},{"$f":"IF('Radio (Desc)'!T115=\"\",\"\",'Radio (Desc)'!T115)","v":""},{"$f":"IF('Radio (Desc)'!U115=\"\",\"\",INDEX([1]DEV_INPUT_VOLTAGE!$A$2:$A$100,MATCH('Radio (Desc)'!$U115,[1]!MASTER_DEV_INPUT_VOLTAGE_DESC[#Data],0),0))","v":""},{"$f":"IF('Radio (Desc)'!V115=\"\",\"\",'Radio (Desc)'!V115)","v":""},{"$f":"IF('Radio (Desc)'!W115=\"\",\"\",'Radio (Desc)'!W115)","v":""},{"$f":"IF('Radio (Desc)'!X115=\"\",\"\",'Radio (Desc)'!X115)","v":""},{"$f":"IF('Radio (Desc)'!Y115=\"\",\"\",INDEX([1]FIBER_CONN_TYPE!$A$2:$A$100,MATCH('Radio (Desc)'!$Y115,[1]!MASTER_FIBER_CONN_TYPE_DESC[#Data],0),0))","v":""}]
[{"$f":"IF('Radio (Desc)'!A116=\"\",\"\",'Radio (Desc)'!A116)","v":""},{"$f":"IF('Radio (Desc)'!C116=\"\",\"\",\"2029\")","v":""},{"$f":"IF('Radio (Desc)'!C116=\"\",\"\",'Radio (Desc)'!C116)","v":""},{"$f":"IF('Radio (Desc)'!E116=\"\",\"\",\"RADIO\")","v":""},{"$f":"IF('Radio (Desc)'!E116=\"\",\"\",INDEX([1]RADIO_TYPE!$A$2:$A$100,MATCH('Radio (Desc)'!$E116,[1]!MASTER_RADIO_TYPE_DESC[#Data],0),0))","v":""},{"$f":"IF('Radio (Desc)'!F116=\"\",\"\",'Radio (Desc)'!F116)","v":""},{"$f":"IF('Radio (Desc)'!G116=\"\",\"\",INDEX([1]RADIO_FREQ!$A$2:$A$500,MATCH('Radio (Desc)'!$G116,[1]!MASTER_RADIO_FREQ_DESC[#Data],0),0))","v":""},{"$f":"IF('Radio (Desc)'!H116=\"\",\"\",'Radio (Desc)'!H116)","v":""},{"$f":"IF('Radio (Desc)'!I116=\"\",\"\",INDEX([1]RADIO_FREQ!$A$2:$A$500,MATCH('Radio (Desc)'!$I116,[1]!MASTER_RADIO_FREQ_DESC[#Data],0),0))","v":""},{"$f":"IF('Radio (Desc)'!J116=\"\",\"\",'Radio (Desc)'!J116)","v":""},{"$f":"IF('Radio (Desc)'!K116=\"\",\"\",INDEX([1]CALL_SIGN!$A$2:$A$600,MATCH('Radio (Desc)'!$K116,[1]!MASTER_CALL_SIGN_DESC[#Data],0),0))","v":""},{"$f":"IF('Radio (Desc)'!L116=\"\",\"\",INDEX([1]STATION_CLASS!$A$2:$A$100,MATCH('Radio (Desc)'!$L116,[1]!MASTER_STATION_CLASS_DESC[#Data],0),0))","v":""},{"$f":"IF('Radio (Desc)'!M116=\"\",\"\",'Radio (Desc)'!M116)","v":""},{"$f":"IF('Radio (Desc)'!N116=\"\",\"\",'Radio (Desc)'!N116)","v":""},{"$f":"IF('Radio (Desc)'!O116=\"\",\"\",INDEX([1]ITS_COMM_DEV_MANUF!$A$2:$A$300,MATCH(1,([1]ITS_COMM_DEV_MANUF!$B$2:$B$300='Radio (Desc)'!$O116)*([1]ITS_COMM_DEV_MANUF!$C$2:$C$300=\"RADIO\"),0),0))","v":""},{"$f":"IF('Radio (Desc)'!P116=\"\",\"\",INDEX([1]ITS_COMM_DEV_MODEL!$A$2:$A$500,MATCH(1,([1]ITS_COMM_DEV_MODEL!$C$2:$C$500='Radio (Desc)'!$O116)*([1]ITS_COMM_DEV_MODEL!$D$2:$D$500=\"RADIO\")*([1]ITS_COMM_DEV_MODEL!$E$2:$E$500='Radio (Desc)'!$P116),0),0))","v":""},{"$f":"IF('Radio (Desc)'!Q116=\"\",\"\",'Radio (Desc)'!Q116)","v":""},{"$f":"IF('Radio (Desc)'!R116=\"\",\"\",'Radio (Desc)'!R116)","v":""},{"$f":"IF('Radio (Desc)'!S116=\"\",\"\",'Radio (Desc)'!S116)","v":""},{"$f":"IF('Radio (Desc)'!T116=\"\",\"\",'Radio (Desc)'!T116)","v":""},{"$f":"IF('Radio (Desc)'!U116=\"\",\"\",INDEX([1]DEV_INPUT_VOLTAGE!$A$2:$A$100,MATCH('Radio (Desc)'!$U116,[1]!MASTER_DEV_INPUT_VOLTAGE_DESC[#Data],0),0))","v":""},{"$f":"IF('Radio (Desc)'!V116=\"\",\"\",'Radio (Desc)'!V116)","v":""},{"$f":"IF('Radio (Desc)'!W116=\"\",\"\",'Radio (Desc)'!W116)","v":""},{"$f":"IF('Radio (Desc)'!X116=\"\",\"\",'Radio (Desc)'!X116)","v":""},{"$f":"IF('Radio (Desc)'!Y116=\"\",\"\",INDEX([1]FIBER_CONN_TYPE!$A$2:$A$100,MATCH('Radio (Desc)'!$Y116,[1]!MASTER_FIBER_CONN_TYPE_DESC[#Data],0),0))","v":""}]
[{"$f":"IF('Radio (Desc)'!A117=\"\",\"\",'Radio (Desc)'!A117)","v":""},{"$f":"IF('Radio (Desc)'!C117=\"\",\"\",\"2029\")","v":""},{"$f":"IF('Radio (Desc)'!C117=\"\",\"\",'Radio (Desc)'!C117)","v":""},{"$f":"IF('Radio (Desc)'!E117=\"\",\"\",\"RADIO\")","v":""},{"$f":"IF('Radio (Desc)'!E117=\"\",\"\",INDEX([1]RADIO_TYPE!$A$2:$A$100,MATCH('Radio (Desc)'!$E117,[1]!MASTER_RADIO_TYPE_DESC[#Data],0),0))","v":""},{"$f":"IF('Radio (Desc)'!F117=\"\",\"\",'Radio (Desc)'!F117)","v":""},{"$f":"IF('Radio (Desc)'!G117=\"\",\"\",INDEX([1]RADIO_FREQ!$A$2:$A$500,MATCH('Radio (Desc)'!$G117,[1]!MASTER_RADIO_FREQ_DESC[#Data],0),0))","v":""},{"$f":"IF('Radio (Desc)'!H117=\"\",\"\",'Radio (Desc)'!H117)","v":""},{"$f":"IF('Radio (Desc)'!I117=\"\",\"\",INDEX([1]RADIO_FREQ!$A$2:$A$500,MATCH('Radio (Desc)'!$I117,[1]!MASTER_RADIO_FREQ_DESC[#Data],0),0))","v":""},{"$f":"IF('Radio (Desc)'!J117=\"\",\"\",'Radio (Desc)'!J117)","v":""},{"$f":"IF('Radio (Desc)'!K117=\"\",\"\",INDEX([1]CALL_SIGN!$A$2:$A$600,MATCH('Radio (Desc)'!$K117,[1]!MASTER_CALL_SIGN_DESC[#Data],0),0))","v":""},{"$f":"IF('Radio (Desc)'!L117=\"\",\"\",INDEX([1]STATION_CLASS!$A$2:$A$100,MATCH('Radio (Desc)'!$L117,[1]!MASTER_STATION_CLASS_DESC[#Data],0),0))","v":""},{"$f":"IF('Radio (Desc)'!M117=\"\",\"\",'Radio (Desc)'!M117)","v":""},{"$f":"IF('Radio (Desc)'!N117=\"\",\"\",'Radio (Desc)'!N117)","v":""},{"$f":"IF('Radio (Desc)'!O117=\"\",\"\",INDEX([1]ITS_COMM_DEV_MANUF!$A$2:$A$300,MATCH(1,([1]ITS_COMM_DEV_MANUF!$B$2:$B$300='Radio (Desc)'!$O117)*([1]ITS_COMM_DEV_MANUF!$C$2:$C$300=\"RADIO\"),0),0))","v":""},{"$f":"IF('Radio (Desc)'!P117=\"\",\"\",INDEX([1]ITS_COMM_DEV_MODEL!$A$2:$A$500,MATCH(1,([1]ITS_COMM_DEV_MODEL!$C$2:$C$500='Radio (Desc)'!$O117)*([1]ITS_COMM_DEV_MODEL!$D$2:$D$500=\"RADIO\")*([1]ITS_COMM_DEV_MODEL!$E$2:$E$500='Radio (Desc)'!$P117),0),0))","v":""},{"$f":"IF('Radio (Desc)'!Q117=\"\",\"\",'Radio (Desc)'!Q117)","v":""},{"$f":"IF('Radio (Desc)'!R117=\"\",\"\",'Radio (Desc)'!R117)","v":""},{"$f":"IF('Radio (Desc)'!S117=\"\",\"\",'Radio (Desc)'!S117)","v":""},{"$f":"IF('Radio (Desc)'!T117=\"\",\"\",'Radio (Desc)'!T117)","v":""},{"$f":"IF('Radio (Desc)'!U117=\"\",\"\",INDEX([1]DEV_INPUT_VOLTAGE!$A$2:$A$100,MATCH('Radio (Desc)'!$U117,[1]!MASTER_DEV_INPUT_VOLTAGE_DESC[#Data],0),0))","v":""},{"$f":"IF('Radio (Desc)'!V117=\"\",\"\",'Radio (Desc)'!V117)","v":""},{"$f":"IF('Radio (Desc)'!W117=\"\",\"\",'Radio (Desc)'!W117)","v":""},{"$f":"IF('Radio (Desc)'!X117=\"\",\"\",'Radio (Desc)'!X117)","v":""},{"$f":"IF('Radio (Desc)'!Y117=\"\",\"\",INDEX([1]FIBER_CONN_TYPE!$A$2:$A$100,MATCH('Radio (Desc)'!$Y117,[1]!MASTER_FIBER_CONN_TYPE_DESC[#Data],0),0))","v":""}]
[{"$f":"IF('Radio (Desc)'!A118=\"\",\"\",'Radio (Desc)'!A118)","v":""},{"$f":"IF('Radio (Desc)'!C118=\"\",\"\",\"2029\")","v":""},{"$f":"IF('Radio (Desc)'!C118=\"\",\"\",'Radio (Desc)'!C118)","v":""},{"$f":"IF('Radio (Desc)'!E118=\"\",\"\",\"RADIO\")","v":""},{"$f":"IF('Radio (Desc)'!E118=\"\",\"\",INDEX([1]RADIO_TYPE!$A$2:$A$100,MATCH('Radio (Desc)'!$E118,[1]!MASTER_RADIO_TYPE_DESC[#Data],0),0))","v":""},{"$f":"IF('Radio (Desc)'!F118=\"\",\"\",'Radio (Desc)'!F118)","v":""},{"$f":"IF('Radio (Desc)'!G118=\"\",\"\",INDEX([1]RADIO_FREQ!$A$2:$A$500,MATCH('Radio (Desc)'!$G118,[1]!MASTER_RADIO_FREQ_DESC[#Data],0),0))","v":""},{"$f":"IF('Radio (Desc)'!H118=\"\",\"\",'Radio (Desc)'!H118)","v":""},{"$f":"IF('Radio (Desc)'!I118=\"\",\"\",INDEX([1]RADIO_FREQ!$A$2:$A$500,MATCH('Radio (Desc)'!$I118,[1]!MASTER_RADIO_FREQ_DESC[#Data],0),0))","v":""},{"$f":"IF('Radio (Desc)'!J118=\"\",\"\",'Radio (Desc)'!J118)","v":""},{"$f":"IF('Radio (Desc)'!K118=\"\",\"\",INDEX([1]CALL_SIGN!$A$2:$A$600,MATCH('Radio (Desc)'!$K118,[1]!MASTER_CALL_SIGN_DESC[#Data],0),0))","v":""},{"$f":"IF('Radio (Desc)'!L118=\"\",\"\",INDEX([1]STATION_CLASS!$A$2:$A$100,MATCH('Radio (Desc)'!$L118,[1]!MASTER_STATION_CLASS_DESC[#Data],0),0))","v":""},{"$f":"IF('Radio (Desc)'!M118=\"\",\"\",'Radio (Desc)'!M118)","v":""},{"$f":"IF('Radio (Desc)'!N118=\"\",\"\",'Radio (Desc)'!N118)","v":""},{"$f":"IF('Radio (Desc)'!O118=\"\",\"\",INDEX([1]ITS_COMM_DEV_MANUF!$A$2:$A$300,MATCH(1,([1]ITS_COMM_DEV_MANUF!$B$2:$B$300='Radio (Desc)'!$O118)*([1]ITS_COMM_DEV_MANUF!$C$2:$C$300=\"RADIO\"),0),0))","v":""},{"$f":"IF('Radio (Desc)'!P118=\"\",\"\",INDEX([1]ITS_COMM_DEV_MODEL!$A$2:$A$500,MATCH(1,([1]ITS_COMM_DEV_MODEL!$C$2:$C$500='Radio (Desc)'!$O118)*([1]ITS_COMM_DEV_MODEL!$D$2:$D$500=\"RADIO\")*([1]ITS_COMM_DEV_MODEL!$E$2:$E$500='Radio (Desc)'!$P118),0),0))","v":""},{"$f":"IF('Radio (Desc)'!Q118=\"\",\"\",'Radio (Desc)'!Q118)","v":""},{"$f":"IF('Radio (Desc)'!R118=\"\",\"\",'Radio (Desc)'!R118)","v":""},{"$f":"IF('Radio (Desc)'!S118=\"\",\"\",'Radio (Desc)'!S118)","v":""},{"$f":"IF('Radio (Desc)'!T118=\"\",\"\",'Radio (Desc)'!T118)","v":""},{"$f":"IF('Radio (Desc)'!U118=\"\",\"\",INDEX([1]DEV_INPUT_VOLTAGE!$A$2:$A$100,MATCH('Radio (Desc)'!$U118,[1]!MASTER_DEV_INPUT_VOLTAGE_DESC[#Data],0),0))","v":""},{"$f":"IF('Radio (Desc)'!V118=\"\",\"\",'Radio (Desc)'!V118)","v":""},{"$f":"IF('Radio (Desc)'!W118=\"\",\"\",'Radio (Desc)'!W118)","v":""},{"$f":"IF('Radio (Desc)'!X118=\"\",\"\",'Radio (Desc)'!X118)","v":""},{"$f":"IF('Radio (Desc)'!Y118=\"\",\"\",INDEX([1]FIBER_CONN_TYPE!$A$2:$A$100,MATCH('Radio (Desc)'!$Y118,[1]!MASTER_FIBER_CONN_TYPE_DESC[#Data],0),0))","v":""}]
[{"$f":"IF('Radio (Desc)'!A119=\"\",\"\",'Radio (Desc)'!A119)","v":""},{"$f":"IF('Radio (Desc)'!C119=\"\",\"\",\"2029\")","v":""},{"$f":"IF('Radio (Desc)'!C119=\"\",\"\",'Radio (Desc)'!C119)","v":""},{"$f":"IF('Radio (Desc)'!E119=\"\",\"\",\"RADIO\")","v":""},{"$f":"IF('Radio (Desc)'!E119=\"\",\"\",INDEX([1]RADIO_TYPE!$A$2:$A$100,MATCH('Radio (Desc)'!$E119,[1]!MASTER_RADIO_TYPE_DESC[#Data],0),0))","v":""},{"$f":"IF('Radio (Desc)'!F119=\"\",\"\",'Radio (Desc)'!F119)","v":""},{"$f":"IF('Radio (Desc)'!G119=\"\",\"\",INDEX([1]RADIO_FREQ!$A$2:$A$500,MATCH('Radio (Desc)'!$G119,[1]!MASTER_RADIO_FREQ_DESC[#Data],0),0))","v":""},{"$f":"IF('Radio (Desc)'!H119=\"\",\"\",'Radio (Desc)'!H119)","v":""},{"$f":"IF('Radio (Desc)'!I119=\"\",\"\",INDEX([1]RADIO_FREQ!$A$2:$A$500,MATCH('Radio (Desc)'!$I119,[1]!MASTER_RADIO_FREQ_DESC[#Data],0),0))","v":""},{"$f":"IF('Radio (Desc)'!J119=\"\",\"\",'Radio (Desc)'!J119)","v":""},{"$f":"IF('Radio (Desc)'!K119=\"\",\"\",INDEX([1]CALL_SIGN!$A$2:$A$600,MATCH('Radio (Desc)'!$K119,[1]!MASTER_CALL_SIGN_DESC[#Data],0),0))","v":""},{"$f":"IF('Radio (Desc)'!L119=\"\",\"\",INDEX([1]STATION_CLASS!$A$2:$A$100,MATCH('Radio (Desc)'!$L119,[1]!MASTER_STATION_CLASS_DESC[#Data],0),0))","v":""},{"$f":"IF('Radio (Desc)'!M119=\"\",\"\",'Radio (Desc)'!M119)","v":""},{"$f":"IF('Radio (Desc)'!N119=\"\",\"\",'Radio (Desc)'!N119)","v":""},{"$f":"IF('Radio (Desc)'!O119=\"\",\"\",INDEX([1]ITS_COMM_DEV_MANUF!$A$2:$A$300,MATCH(1,([1]ITS_COMM_DEV_MANUF!$B$2:$B$300='Radio (Desc)'!$O119)*([1]ITS_COMM_DEV_MANUF!$C$2:$C$300=\"RADIO\"),0),0))","v":""},{"$f":"IF('Radio (Desc)'!P119=\"\",\"\",INDEX([1]ITS_COMM_DEV_MODEL!$A$2:$A$500,MATCH(1,([1]ITS_COMM_DEV_MODEL!$C$2:$C$500='Radio (Desc)'!$O119)*([1]ITS_COMM_DEV_MODEL!$D$2:$D$500=\"RADIO\")*([1]ITS_COMM_DEV_MODEL!$E$2:$E$500='Radio (Desc)'!$P119),0),0))","v":""},{"$f":"IF('Radio (Desc)'!Q119=\"\",\"\",'Radio (Desc)'!Q119)","v":""},{"$f":"IF('Radio (Desc)'!R119=\"\",\"\",'Radio (Desc)'!R119)","v":""},{"$f":"IF('Radio (Desc)'!S119=\"\",\"\",'Radio (Desc)'!S119)","v":""},{"$f":"IF('Radio (Desc)'!T119=\"\",\"\",'Radio (Desc)'!T119)","v":""},{"$f":"IF('Radio (Desc)'!U119=\"\",\"\",INDEX([1]DEV_INPUT_VOLTAGE!$A$2:$A$100,MATCH('Radio (Desc)'!$U119,[1]!MASTER_DEV_INPUT_VOLTAGE_DESC[#Data],0),0))","v":""},{"$f":"IF('Radio (Desc)'!V119=\"\",\"\",'Radio (Desc)'!V119)","v":""},{"$f":"IF('Radio (Desc)'!W119=\"\",\"\",'Radio (Desc)'!W119)","v":""},{"$f":"IF('Radio (Desc)'!X119=\"\",\"\",'Radio (Desc)'!X119)","v":""},{"$f":"IF('Radio (Desc)'!Y119=\"\",\"\",INDEX([1]FIBER_CONN_TYPE!$A$2:$A$100,MATCH('Radio (Desc)'!$Y119,[1]!MASTER_FIBER_CONN_TYPE_DESC[#Data],0),0))","v":""}]
[{"$f":"IF('Radio (Desc)'!A120=\"\",\"\",'Radio (Desc)'!A120)","v":""},{"$f":"IF('Radio (Desc)'!C120=\"\",\"\",\"2029\")","v":""},{"$f":"IF('Radio (Desc)'!C120=\"\",\"\",'Radio (Desc)'!C120)","v":""},{"$f":"IF('Radio (Desc)'!E120=\"\",\"\",\"RADIO\")","v":""},{"$f":"IF('Radio (Desc)'!E120=\"\",\"\",INDEX([1]RADIO_TYPE!$A$2:$A$100,MATCH('Radio (Desc)'!$E120,[1]!MASTER_RADIO_TYPE_DESC[#Data],0),0))","v":""},{"$f":"IF('Radio (Desc)'!F120=\"\",\"\",'Radio (Desc)'!F120)","v":""},{"$f":"IF('Radio (Desc)'!G120=\"\",\"\",INDEX([1]RADIO_FREQ!$A$2:$A$500,MATCH('Radio (Desc)'!$G120,[1]!MASTER_RADIO_FREQ_DESC[#Data],0),0))","v":""},{"$f":"IF('Radio (Desc)'!H120=\"\",\"\",'Radio (Desc)'!H120)","v":""},{"$f":"IF('Radio (Desc)'!I120=\"\",\"\",INDEX([1]RADIO_FREQ!$A$2:$A$500,MATCH('Radio (Desc)'!$I120,[1]!MASTER_RADIO_FREQ_DESC[#Data],0),0))","v":""},{"$f":"IF('Radio (Desc)'!J120=\"\",\"\",'Radio (Desc)'!J120)","v":""},{"$f":"IF('Radio (Desc)'!K120=\"\",\"\",INDEX([1]CALL_SIGN!$A$2:$A$600,MATCH('Radio (Desc)'!$K120,[1]!MASTER_CALL_SIGN_DESC[#Data],0),0))","v":""},{"$f":"IF('Radio (Desc)'!L120=\"\",\"\",INDEX([1]STATION_CLASS!$A$2:$A$100,MATCH('Radio (Desc)'!$L120,[1]!MASTER_STATION_CLASS_DESC[#Data],0),0))","v":""},{"$f":"IF('Radio (Desc)'!M120=\"\",\"\",'Radio (Desc)'!M120)","v":""},{"$f":"IF('Radio (Desc)'!N120=\"\",\"\",'Radio (Desc)'!N120)","v":""},{"$f":"IF('Radio (Desc)'!O120=\"\",\"\",INDEX([1]ITS_COMM_DEV_MANUF!$A$2:$A$300,MATCH(1,([1]ITS_COMM_DEV_MANUF!$B$2:$B$300='Radio (Desc)'!$O120)*([1]ITS_COMM_DEV_MANUF!$C$2:$C$300=\"RADIO\"),0),0))","v":""},{"$f":"IF('Radio (Desc)'!P120=\"\",\"\",INDEX([1]ITS_COMM_DEV_MODEL!$A$2:$A$500,MATCH(1,([1]ITS_COMM_DEV_MODEL!$C$2:$C$500='Radio (Desc)'!$O120)*([1]ITS_COMM_DEV_MODEL!$D$2:$D$500=\"RADIO\")*([1]ITS_COMM_DEV_MODEL!$E$2:$E$500='Radio (Desc)'!$P120),0),0))","v":""},{"$f":"IF('Radio (Desc)'!Q120=\"\",\"\",'Radio (Desc)'!Q120)","v":""},{"$f":"IF('Radio (Desc)'!R120=\"\",\"\",'Radio (Desc)'!R120)","v":""},{"$f":"IF('Radio (Desc)'!S120=\"\",\"\",'Radio (Desc)'!S120)","v":""},{"$f":"IF('Radio (Desc)'!T120=\"\",\"\",'Radio (Desc)'!T120)","v":""},{"$f":"IF('Radio (Desc)'!U120=\"\",\"\",INDEX([1]DEV_INPUT_VOLTAGE!$A$2:$A$100,MATCH('Radio (Desc)'!$U120,[1]!MASTER_DEV_INPUT_VOLTAGE_DESC[#Data],0),0))","v":""},{"$f":"IF('Radio (Desc)'!V120=\"\",\"\",'Radio (Desc)'!V120)","v":""},{"$f":"IF('Radio (Desc)'!W120=\"\",\"\",'Radio (Desc)'!W120)","v":""},{"$f":"IF('Radio (Desc)'!X120=\"\",\"\",'Radio (Desc)'!X120)","v":""},{"$f":"IF('Radio (Desc)'!Y120=\"\",\"\",INDEX([1]FIBER_CONN_TYPE!$A$2:$A$100,MATCH('Radio (Desc)'!$Y120,[1]!MASTER_FIBER_CONN_TYPE_DESC[#Data],0),0))","v":""}]
[{"$f":"IF('Radio (Desc)'!A121=\"\",\"\",'Radio (Desc)'!A121)","v":""},{"$f":"IF('Radio (Desc)'!C121=\"\",\"\",\"2029\")","v":""},{"$f":"IF('Radio (Desc)'!C121=\"\",\"\",'Radio (Desc)'!C121)","v":""},{"$f":"IF('Radio (Desc)'!E121=\"\",\"\",\"RADIO\")","v":""},{"$f":"IF('Radio (Desc)'!E121=\"\",\"\",INDEX([1]RADIO_TYPE!$A$2:$A$100,MATCH('Radio (Desc)'!$E121,[1]!MASTER_RADIO_TYPE_DESC[#Data],0),0))","v":""},{"$f":"IF('Radio (Desc)'!F121=\"\",\"\",'Radio (Desc)'!F121)","v":""},{"$f":"IF('Radio (Desc)'!G121=\"\",\"\",INDEX([1]RADIO_FREQ!$A$2:$A$500,MATCH('Radio (Desc)'!$G121,[1]!MASTER_RADIO_FREQ_DESC[#Data],0),0))","v":""},{"$f":"IF('Radio (Desc)'!H121=\"\",\"\",'Radio (Desc)'!H121)","v":""},{"$f":"IF('Radio (Desc)'!I121=\"\",\"\",INDEX([1]RADIO_FREQ!$A$2:$A$500,MATCH('Radio (Desc)'!$I121,[1]!MASTER_RADIO_FREQ_DESC[#Data],0),0))","v":""},{"$f":"IF('Radio (Desc)'!J121=\"\",\"\",'Radio (Desc)'!J121)","v":""},{"$f":"IF('Radio (Desc)'!K121=\"\",\"\",INDEX([1]CALL_SIGN!$A$2:$A$600,MATCH('Radio (Desc)'!$K121,[1]!MASTER_CALL_SIGN_DESC[#Data],0),0))","v":""},{"$f":"IF('Radio (Desc)'!L121=\"\",\"\",INDEX([1]STATION_CLASS!$A$2:$A$100,MATCH('Radio (Desc)'!$L121,[1]!MASTER_STATION_CLASS_DESC[#Data],0),0))","v":""},{"$f":"IF('Radio (Desc)'!M121=\"\",\"\",'Radio (Desc)'!M121)","v":""},{"$f":"IF('Radio (Desc)'!N121=\"\",\"\",'Radio (Desc)'!N121)","v":""},{"$f":"IF('Radio (Desc)'!O121=\"\",\"\",INDEX([1]ITS_COMM_DEV_MANUF!$A$2:$A$300,MATCH(1,([1]ITS_COMM_DEV_MANUF!$B$2:$B$300='Radio (Desc)'!$O121)*([1]ITS_COMM_DEV_MANUF!$C$2:$C$300=\"RADIO\"),0),0))","v":""},{"$f":"IF('Radio (Desc)'!P121=\"\",\"\",INDEX([1]ITS_COMM_DEV_MODEL!$A$2:$A$500,MATCH(1,([1]ITS_COMM_DEV_MODEL!$C$2:$C$500='Radio (Desc)'!$O121)*([1]ITS_COMM_DEV_MODEL!$D$2:$D$500=\"RADIO\")*([1]ITS_COMM_DEV_MODEL!$E$2:$E$500='Radio (Desc)'!$P121),0),0))","v":""},{"$f":"IF('Radio (Desc)'!Q121=\"\",\"\",'Radio (Desc)'!Q121)","v":""},{"$f":"IF('Radio (Desc)'!R121=\"\",\"\",'Radio (Desc)'!R121)","v":""},{"$f":"IF('Radio (Desc)'!S121=\"\",\"\",'Radio (Desc)'!S121)","v":""},{"$f":"IF('Radio (Desc)'!T121=\"\",\"\",'Radio (Desc)'!T121)","v":""},{"$f":"IF('Radio (Desc)'!U121=\"\",\"\",INDEX([1]DEV_INPUT_VOLTAGE!$A$2:$A$100,MATCH('Radio (Desc)'!$U121,[1]!MASTER_DEV_INPUT_VOLTAGE_DESC[#Data],0),0))","v":""},{"$f":"IF('Radio (Desc)'!V121=\"\",\"\",'Radio (Desc)'!V121)","v":""},{"$f":"IF('Radio (Desc)'!W121=\"\",\"\",'Radio (Desc)'!W121)","v":""},{"$f":"IF('Radio (Desc)'!X121=\"\",\"\",'Radio (Desc)'!X121)","v":""},{"$f":"IF('Radio (Desc)'!Y121=\"\",\"\",INDEX([1]FIBER_CONN_TYPE!$A$2:$A$100,MATCH('Radio (Desc)'!$Y121,[1]!MASTER_FIBER_CONN_TYPE_DESC[#Data],0),0))","v":""}]
[{"$f":"IF('Radio (Desc)'!A122=\"\",\"\",'Radio (Desc)'!A122)","v":""},{"$f":"IF('Radio (Desc)'!C122=\"\",\"\",\"2029\")","v":""},{"$f":"IF('Radio (Desc)'!C122=\"\",\"\",'Radio (Desc)'!C122)","v":""},{"$f":"IF('Radio (Desc)'!E122=\"\",\"\",\"RADIO\")","v":""},{"$f":"IF('Radio (Desc)'!E122=\"\",\"\",INDEX([1]RADIO_TYPE!$A$2:$A$100,MATCH('Radio (Desc)'!$E122,[1]!MASTER_RADIO_TYPE_DESC[#Data],0),0))","v":""},{"$f":"IF('Radio (Desc)'!F122=\"\",\"\",'Radio (Desc)'!F122)","v":""},{"$f":"IF('Radio (Desc)'!G122=\"\",\"\",INDEX([1]RADIO_FREQ!$A$2:$A$500,MATCH('Radio (Desc)'!$G122,[1]!MASTER_RADIO_FREQ_DESC[#Data],0),0))","v":""},{"$f":"IF('Radio (Desc)'!H122=\"\",\"\",'Radio (Desc)'!H122)","v":""},{"$f":"IF('Radio (Desc)'!I122=\"\",\"\",INDEX([1]RADIO_FREQ!$A$2:$A$500,MATCH('Radio (Desc)'!$I122,[1]!MASTER_RADIO_FREQ_DESC[#Data],0),0))","v":""},{"$f":"IF('Radio (Desc)'!J122=\"\",\"\",'Radio (Desc)'!J122)","v":""},{"$f":"IF('Radio (Desc)'!K122=\"\",\"\",INDEX([1]CALL_SIGN!$A$2:$A$600,MATCH('Radio (Desc)'!$K122,[1]!MASTER_CALL_SIGN_DESC[#Data],0),0))","v":""},{"$f":"IF('Radio (Desc)'!L122=\"\",\"\",INDEX([1]STATION_CLASS!$A$2:$A$100,MATCH('Radio (Desc)'!$L122,[1]!MASTER_STATION_CLASS_DESC[#Data],0),0))","v":""},{"$f":"IF('Radio (Desc)'!M122=\"\",\"\",'Radio (Desc)'!M122)","v":""},{"$f":"IF('Radio (Desc)'!N122=\"\",\"\",'Radio (Desc)'!N122)","v":""},{"$f":"IF('Radio (Desc)'!O122=\"\",\"\",INDEX([1]ITS_COMM_DEV_MANUF!$A$2:$A$300,MATCH(1,([1]ITS_COMM_DEV_MANUF!$B$2:$B$300='Radio (Desc)'!$O122)*([1]ITS_COMM_DEV_MANUF!$C$2:$C$300=\"RADIO\"),0),0))","v":""},{"$f":"IF('Radio (Desc)'!P122=\"\",\"\",INDEX([1]ITS_COMM_DEV_MODEL!$A$2:$A$500,MATCH(1,([1]ITS_COMM_DEV_MODEL!$C$2:$C$500='Radio (Desc)'!$O122)*([1]ITS_COMM_DEV_MODEL!$D$2:$D$500=\"RADIO\")*([1]ITS_COMM_DEV_MODEL!$E$2:$E$500='Radio (Desc)'!$P122),0),0))","v":""},{"$f":"IF('Radio (Desc)'!Q122=\"\",\"\",'Radio (Desc)'!Q122)","v":""},{"$f":"IF('Radio (Desc)'!R122=\"\",\"\",'Radio (Desc)'!R122)","v":""},{"$f":"IF('Radio (Desc)'!S122=\"\",\"\",'Radio (Desc)'!S122)","v":""},{"$f":"IF('Radio (Desc)'!T122=\"\",\"\",'Radio (Desc)'!T122)","v":""},{"$f":"IF('Radio (Desc)'!U122=\"\",\"\",INDEX([1]DEV_INPUT_VOLTAGE!$A$2:$A$100,MATCH('Radio (Desc)'!$U122,[1]!MASTER_DEV_INPUT_VOLTAGE_DESC[#Data],0),0))","v":""},{"$f":"IF('Radio (Desc)'!V122=\"\",\"\",'Radio (Desc)'!V122)","v":""},{"$f":"IF('Radio (Desc)'!W122=\"\",\"\",'Radio (Desc)'!W122)","v":""},{"$f":"IF('Radio (Desc)'!X122=\"\",\"\",'Radio (Desc)'!X122)","v":""},{"$f":"IF('Radio (Desc)'!Y122=\"\",\"\",INDEX([1]FIBER_CONN_TYPE!$A$2:$A$100,MATCH('Radio (Desc)'!$Y122,[1]!MASTER_FIBER_CONN_TYPE_DESC[#Data],0),0))","v":""}]
[{"$f":"IF('Radio (Desc)'!A123=\"\",\"\",'Radio (Desc)'!A123)","v":""},{"$f":"IF('Radio (Desc)'!C123=\"\",\"\",\"2029\")","v":""},{"$f":"IF('Radio (Desc)'!C123=\"\",\"\",'Radio (Desc)'!C123)","v":""},{"$f":"IF('Radio (Desc)'!E123=\"\",\"\",\"RADIO\")","v":""},{"$f":"IF('Radio (Desc)'!E123=\"\",\"\",INDEX([1]RADIO_TYPE!$A$2:$A$100,MATCH('Radio (Desc)'!$E123,[1]!MASTER_RADIO_TYPE_DESC[#Data],0),0))","v":""},{"$f":"IF('Radio (Desc)'!F123=\"\",\"\",'Radio (Desc)'!F123)","v":""},{"$f":"IF('Radio (Desc)'!G123=\"\",\"\",INDEX([1]RADIO_FREQ!$A$2:$A$500,MATCH('Radio (Desc)'!$G123,[1]!MASTER_RADIO_FREQ_DESC[#Data],0),0))","v":""},{"$f":"IF('Radio (Desc)'!H123=\"\",\"\",'Radio (Desc)'!H123)","v":""},{"$f":"IF('Radio (Desc)'!I123=\"\",\"\",INDEX([1]RADIO_FREQ!$A$2:$A$500,MATCH('Radio (Desc)'!$I123,[1]!MASTER_RADIO_FREQ_DESC[#Data],0),0))","v":""},{"$f":"IF('Radio (Desc)'!J123=\"\",\"\",'Radio (Desc)'!J123)","v":""},{"$f":"IF('Radio (Desc)'!K123=\"\",\"\",INDEX([1]CALL_SIGN!$A$2:$A$600,MATCH('Radio (Desc)'!$K123,[1]!MASTER_CALL_SIGN_DESC[#Data],0),0))","v":""},{"$f":"IF('Radio (Desc)'!L123=\"\",\"\",INDEX([1]STATION_CLASS!$A$2:$A$100,MATCH('Radio (Desc)'!$L123,[1]!MASTER_STATION_CLASS_DESC[#Data],0),0))","v":""},{"$f":"IF('Radio (Desc)'!M123=\"\",\"\",'Radio (Desc)'!M123)","v":""},{"$f":"IF('Radio (Desc)'!N123=\"\",\"\",'Radio (Desc)'!N123)","v":""},{"$f":"IF('Radio (Desc)'!O123=\"\",\"\",INDEX([1]ITS_COMM_DEV_MANUF!$A$2:$A$300,MATCH(1,([1]ITS_COMM_DEV_MANUF!$B$2:$B$300='Radio (Desc)'!$O123)*([1]ITS_COMM_DEV_MANUF!$C$2:$C$300=\"RADIO\"),0),0))","v":""},{"$f":"IF('Radio (Desc)'!P123=\"\",\"\",INDEX([1]ITS_COMM_DEV_MODEL!$A$2:$A$500,MATCH(1,([1]ITS_COMM_DEV_MODEL!$C$2:$C$500='Radio (Desc)'!$O123)*([1]ITS_COMM_DEV_MODEL!$D$2:$D$500=\"RADIO\")*([1]ITS_COMM_DEV_MODEL!$E$2:$E$500='Radio (Desc)'!$P123),0),0))","v":""},{"$f":"IF('Radio (Desc)'!Q123=\"\",\"\",'Radio (Desc)'!Q123)","v":""},{"$f":"IF('Radio (Desc)'!R123=\"\",\"\",'Radio (Desc)'!R123)","v":""},{"$f":"IF('Radio (Desc)'!S123=\"\",\"\",'Radio (Desc)'!S123)","v":""},{"$f":"IF('Radio (Desc)'!T123=\"\",\"\",'Radio (Desc)'!T123)","v":""},{"$f":"IF('Radio (Desc)'!U123=\"\",\"\",INDEX([1]DEV_INPUT_VOLTAGE!$A$2:$A$100,MATCH('Radio (Desc)'!$U123,[1]!MASTER_DEV_INPUT_VOLTAGE_DESC[#Data],0),0))","v":""},{"$f":"IF('Radio (Desc)'!V123=\"\",\"\",'Radio (Desc)'!V123)","v":""},{"$f":"IF('Radio (Desc)'!W123=\"\",\"\",'Radio (Desc)'!W123)","v":""},{"$f":"IF('Radio (Desc)'!X123=\"\",\"\",'Radio (Desc)'!X123)","v":""},{"$f":"IF('Radio (Desc)'!Y123=\"\",\"\",INDEX([1]FIBER_CONN_TYPE!$A$2:$A$100,MATCH('Radio (Desc)'!$Y123,[1]!MASTER_FIBER_CONN_TYPE_DESC[#Data],0),0))","v":""}]
[{"$f":"IF('Radio (Desc)'!A124=\"\",\"\",'Radio (Desc)'!A124)","v":""},{"$f":"IF('Radio (Desc)'!C124=\"\",\"\",\"2029\")","v":""},{"$f":"IF('Radio (Desc)'!C124=\"\",\"\",'Radio (Desc)'!C124)","v":""},{"$f":"IF('Radio (Desc)'!E124=\"\",\"\",\"RADIO\")","v":""},{"$f":"IF('Radio (Desc)'!E124=\"\",\"\",INDEX([1]RADIO_TYPE!$A$2:$A$100,MATCH('Radio (Desc)'!$E124,[1]!MASTER_RADIO_TYPE_DESC[#Data],0),0))","v":""},{"$f":"IF('Radio (Desc)'!F124=\"\",\"\",'Radio (Desc)'!F124)","v":""},{"$f":"IF('Radio (Desc)'!G124=\"\",\"\",INDEX([1]RADIO_FREQ!$A$2:$A$500,MATCH('Radio (Desc)'!$G124,[1]!MASTER_RADIO_FREQ_DESC[#Data],0),0))","v":""},{"$f":"IF('Radio (Desc)'!H124=\"\",\"\",'Radio (Desc)'!H124)","v":""},{"$f":"IF('Radio (Desc)'!I124=\"\",\"\",INDEX([1]RADIO_FREQ!$A$2:$A$500,MATCH('Radio (Desc)'!$I124,[1]!MASTER_RADIO_FREQ_DESC[#Data],0),0))","v":""},{"$f":"IF('Radio (Desc)'!J124=\"\",\"\",'Radio (Desc)'!J124)","v":""},{"$f":"IF('Radio (Desc)'!K124=\"\",\"\",INDEX([1]CALL_SIGN!$A$2:$A$600,MATCH('Radio (Desc)'!$K124,[1]!MASTER_CALL_SIGN_DESC[#Data],0),0))","v":""},{"$f":"IF('Radio (Desc)'!L124=\"\",\"\",INDEX([1]STATION_CLASS!$A$2:$A$100,MATCH('Radio (Desc)'!$L124,[1]!MASTER_STATION_CLASS_DESC[#Data],0),0))","v":""},{"$f":"IF('Radio (Desc)'!M124=\"\",\"\",'Radio (Desc)'!M124)","v":""},{"$f":"IF('Radio (Desc)'!N124=\"\",\"\",'Radio (Desc)'!N124)","v":""},{"$f":"IF('Radio (Desc)'!O124=\"\",\"\",INDEX([1]ITS_COMM_DEV_MANUF!$A$2:$A$300,MATCH(1,([1]ITS_COMM_DEV_MANUF!$B$2:$B$300='Radio (Desc)'!$O124)*([1]ITS_COMM_DEV_MANUF!$C$2:$C$300=\"RADIO\"),0),0))","v":""},{"$f":"IF('Radio (Desc)'!P124=\"\",\"\",INDEX([1]ITS_COMM_DEV_MODEL!$A$2:$A$500,MATCH(1,([1]ITS_COMM_DEV_MODEL!$C$2:$C$500='Radio (Desc)'!$O124)*([1]ITS_COMM_DEV_MODEL!$D$2:$D$500=\"RADIO\")*([1]ITS_COMM_DEV_MODEL!$E$2:$E$500='Radio (Desc)'!$P124),0),0))","v":""},{"$f":"IF('Radio (Desc)'!Q124=\"\",\"\",'Radio (Desc)'!Q124)","v":""},{"$f":"IF('Radio (Desc)'!R124=\"\",\"\",'Radio (Desc)'!R124)","v":""},{"$f":"IF('Radio (Desc)'!S124=\"\",\"\",'Radio (Desc)'!S124)","v":""},{"$f":"IF('Radio (Desc)'!T124=\"\",\"\",'Radio (Desc)'!T124)","v":""},{"$f":"IF('Radio (Desc)'!U124=\"\",\"\",INDEX([1]DEV_INPUT_VOLTAGE!$A$2:$A$100,MATCH('Radio (Desc)'!$U124,[1]!MASTER_DEV_INPUT_VOLTAGE_DESC[#Data],0),0))","v":""},{"$f":"IF('Radio (Desc)'!V124=\"\",\"\",'Radio (Desc)'!V124)","v":""},{"$f":"IF('Radio (Desc)'!W124=\"\",\"\",'Radio (Desc)'!W124)","v":""},{"$f":"IF('Radio (Desc)'!X124=\"\",\"\",'Radio (Desc)'!X124)","v":""},{"$f":"IF('Radio (Desc)'!Y124=\"\",\"\",INDEX([1]FIBER_CONN_TYPE!$A$2:$A$100,MATCH('Radio (Desc)'!$Y124,[1]!MASTER_FIBER_CONN_TYPE_DESC[#Data],0),0))","v":""}]
[{"$f":"IF('Radio (Desc)'!A125=\"\",\"\",'Radio (Desc)'!A125)","v":""},{"$f":"IF('Radio (Desc)'!C125=\"\",\"\",\"2029\")","v":""},{"$f":"IF('Radio (Desc)'!C125=\"\",\"\",'Radio (Desc)'!C125)","v":""},{"$f":"IF('Radio (Desc)'!E125=\"\",\"\",\"RADIO\")","v":""},{"$f":"IF('Radio (Desc)'!E125=\"\",\"\",INDEX([1]RADIO_TYPE!$A$2:$A$100,MATCH('Radio (Desc)'!$E125,[1]!MASTER_RADIO_TYPE_DESC[#Data],0),0))","v":""},{"$f":"IF('Radio (Desc)'!F125=\"\",\"\",'Radio (Desc)'!F125)","v":""},{"$f":"IF('Radio (Desc)'!G125=\"\",\"\",INDEX([1]RADIO_FREQ!$A$2:$A$500,MATCH('Radio (Desc)'!$G125,[1]!MASTER_RADIO_FREQ_DESC[#Data],0),0))","v":""},{"$f":"IF('Radio (Desc)'!H125=\"\",\"\",'Radio (Desc)'!H125)","v":""},{"$f":"IF('Radio (Desc)'!I125=\"\",\"\",INDEX([1]RADIO_FREQ!$A$2:$A$500,MATCH('Radio (Desc)'!$I125,[1]!MASTER_RADIO_FREQ_DESC[#Data],0),0))","v":""},{"$f":"IF('Radio (Desc)'!J125=\"\",\"\",'Radio (Desc)'!J125)","v":""},{"$f":"IF('Radio (Desc)'!K125=\"\",\"\",INDEX([1]CALL_SIGN!$A$2:$A$600,MATCH('Radio (Desc)'!$K125,[1]!MASTER_CALL_SIGN_DESC[#Data],0),0))","v":""},{"$f":"IF('Radio (Desc)'!L125=\"\",\"\",INDEX([1]STATION_CLASS!$A$2:$A$100,MATCH('Radio (Desc)'!$L125,[1]!MASTER_STATION_CLASS_DESC[#Data],0),0))","v":""},{"$f":"IF('Radio (Desc)'!M125=\"\",\"\",'Radio (Desc)'!M125)","v":""},{"$f":"IF('Radio (Desc)'!N125=\"\",\"\",'Radio (Desc)'!N125)","v":""},{"$f":"IF('Radio (Desc)'!O125=\"\",\"\",INDEX([1]ITS_COMM_DEV_MANUF!$A$2:$A$300,MATCH(1,([1]ITS_COMM_DEV_MANUF!$B$2:$B$300='Radio (Desc)'!$O125)*([1]ITS_COMM_DEV_MANUF!$C$2:$C$300=\"RADIO\"),0),0))","v":""},{"$f":"IF('Radio (Desc)'!P125=\"\",\"\",INDEX([1]ITS_COMM_DEV_MODEL!$A$2:$A$500,MATCH(1,([1]ITS_COMM_DEV_MODEL!$C$2:$C$500='Radio (Desc)'!$O125)*([1]ITS_COMM_DEV_MODEL!$D$2:$D$500=\"RADIO\")*([1]ITS_COMM_DEV_MODEL!$E$2:$E$500='Radio (Desc)'!$P125),0),0))","v":""},{"$f":"IF('Radio (Desc)'!Q125=\"\",\"\",'Radio (Desc)'!Q125)","v":""},{"$f":"IF('Radio (Desc)'!R125=\"\",\"\",'Radio (Desc)'!R125)","v":""},{"$f":"IF('Radio (Desc)'!S125=\"\",\"\",'Radio (Desc)'!S125)","v":""},{"$f":"IF('Radio (Desc)'!T125=\"\",\"\",'Radio (Desc)'!T125)","v":""},{"$f":"IF('Radio (Desc)'!U125=\"\",\"\",INDEX([1]DEV_INPUT_VOLTAGE!$A$2:$A$100,MATCH('Radio (Desc)'!$U125,[1]!MASTER_DEV_INPUT_VOLTAGE_DESC[#Data],0),0))","v":""},{"$f":"IF('Radio (Desc)'!V125=\"\",\"\",'Radio (Desc)'!V125)","v":""},{"$f":"IF('Radio (Desc)'!W125=\"\",\"\",'Radio (Desc)'!W125)","v":""},{"$f":"IF('Radio (Desc)'!X125=\"\",\"\",'Radio (Desc)'!X125)","v":""},{"$f":"IF('Radio (Desc)'!Y125=\"\",\"\",INDEX([1]FIBER_CONN_TYPE!$A$2:$A$100,MATCH('Radio (Desc)'!$Y125,[1]!MASTER_FIBER_CONN_TYPE_DESC[#Data],0),0))","v":""}]
[{"$f":"IF('Radio (Desc)'!A126=\"\",\"\",'Radio (Desc)'!A126)","v":""},{"$f":"IF('Radio (Desc)'!C126=\"\",\"\",\"2029\")","v":""},{"$f":"IF('Radio (Desc)'!C126=\"\",\"\",'Radio (Desc)'!C126)","v":""},{"$f":"IF('Radio (Desc)'!E126=\"\",\"\",\"RADIO\")","v":""},{"$f":"IF('Radio (Desc)'!E126=\"\",\"\",INDEX([1]RADIO_TYPE!$A$2:$A$100,MATCH('Radio (Desc)'!$E126,[1]!MASTER_RADIO_TYPE_DESC[#Data],0),0))","v":""},{"$f":"IF('Radio (Desc)'!F126=\"\",\"\",'Radio (Desc)'!F126)","v":""},{"$f":"IF('Radio (Desc)'!G126=\"\",\"\",INDEX([1]RADIO_FREQ!$A$2:$A$500,MATCH('Radio (Desc)'!$G126,[1]!MASTER_RADIO_FREQ_DESC[#Data],0),0))","v":""},{"$f":"IF('Radio (Desc)'!H126=\"\",\"\",'Radio (Desc)'!H126)","v":""},{"$f":"IF('Radio (Desc)'!I126=\"\",\"\",INDEX([1]RADIO_FREQ!$A$2:$A$500,MATCH('Radio (Desc)'!$I126,[1]!MASTER_RADIO_FREQ_DESC[#Data],0),0))","v":""},{"$f":"IF('Radio (Desc)'!J126=\"\",\"\",'Radio (Desc)'!J126)","v":""},{"$f":"IF('Radio (Desc)'!K126=\"\",\"\",INDEX([1]CALL_SIGN!$A$2:$A$600,MATCH('Radio (Desc)'!$K126,[1]!MASTER_CALL_SIGN_DESC[#Data],0),0))","v":""},{"$f":"IF('Radio (Desc)'!L126=\"\",\"\",INDEX([1]STATION_CLASS!$A$2:$A$100,MATCH('Radio (Desc)'!$L126,[1]!MASTER_STATION_CLASS_DESC[#Data],0),0))","v":""},{"$f":"IF('Radio (Desc)'!M126=\"\",\"\",'Radio (Desc)'!M126)","v":""},{"$f":"IF('Radio (Desc)'!N126=\"\",\"\",'Radio (Desc)'!N126)","v":""},{"$f":"IF('Radio (Desc)'!O126=\"\",\"\",INDEX([1]ITS_COMM_DEV_MANUF!$A$2:$A$300,MATCH(1,([1]ITS_COMM_DEV_MANUF!$B$2:$B$300='Radio (Desc)'!$O126)*([1]ITS_COMM_DEV_MANUF!$C$2:$C$300=\"RADIO\"),0),0))","v":""},{"$f":"IF('Radio (Desc)'!P126=\"\",\"\",INDEX([1]ITS_COMM_DEV_MODEL!$A$2:$A$500,MATCH(1,([1]ITS_COMM_DEV_MODEL!$C$2:$C$500='Radio (Desc)'!$O126)*([1]ITS_COMM_DEV_MODEL!$D$2:$D$500=\"RADIO\")*([1]ITS_COMM_DEV_MODEL!$E$2:$E$500='Radio (Desc)'!$P126),0),0))","v":""},{"$f":"IF('Radio (Desc)'!Q126=\"\",\"\",'Radio (Desc)'!Q126)","v":""},{"$f":"IF('Radio (Desc)'!R126=\"\",\"\",'Radio (Desc)'!R126)","v":""},{"$f":"IF('Radio (Desc)'!S126=\"\",\"\",'Radio (Desc)'!S126)","v":""},{"$f":"IF('Radio (Desc)'!T126=\"\",\"\",'Radio (Desc)'!T126)","v":""},{"$f":"IF('Radio (Desc)'!U126=\"\",\"\",INDEX([1]DEV_INPUT_VOLTAGE!$A$2:$A$100,MATCH('Radio (Desc)'!$U126,[1]!MASTER_DEV_INPUT_VOLTAGE_DESC[#Data],0),0))","v":""},{"$f":"IF('Radio (Desc)'!V126=\"\",\"\",'Radio (Desc)'!V126)","v":""},{"$f":"IF('Radio (Desc)'!W126=\"\",\"\",'Radio (Desc)'!W126)","v":""},{"$f":"IF('Radio (Desc)'!X126=\"\",\"\",'Radio (Desc)'!X126)","v":""},{"$f":"IF('Radio (Desc)'!Y126=\"\",\"\",INDEX([1]FIBER_CONN_TYPE!$A$2:$A$100,MATCH('Radio (Desc)'!$Y126,[1]!MASTER_FIBER_CONN_TYPE_DESC[#Data],0),0))","v":""}]
[{"$f":"IF('Radio (Desc)'!A127=\"\",\"\",'Radio (Desc)'!A127)","v":""},{"$f":"IF('Radio (Desc)'!C127=\"\",\"\",\"2029\")","v":""},{"$f":"IF('Radio (Desc)'!C127=\"\",\"\",'Radio (Desc)'!C127)","v":""},{"$f":"IF('Radio (Desc)'!E127=\"\",\"\",\"RADIO\")","v":""},{"$f":"IF('Radio (Desc)'!E127=\"\",\"\",INDEX([1]RADIO_TYPE!$A$2:$A$100,MATCH('Radio (Desc)'!$E127,[1]!MASTER_RADIO_TYPE_DESC[#Data],0),0))","v":""},{"$f":"IF('Radio (Desc)'!F127=\"\",\"\",'Radio (Desc)'!F127)","v":""},{"$f":"IF('Radio (Desc)'!G127=\"\",\"\",INDEX([1]RADIO_FREQ!$A$2:$A$500,MATCH('Radio (Desc)'!$G127,[1]!MASTER_RADIO_FREQ_DESC[#Data],0),0))","v":""},{"$f":"IF('Radio (Desc)'!H127=\"\",\"\",'Radio (Desc)'!H127)","v":""},{"$f":"IF('Radio (Desc)'!I127=\"\",\"\",INDEX([1]RADIO_FREQ!$A$2:$A$500,MATCH('Radio (Desc)'!$I127,[1]!MASTER_RADIO_FREQ_DESC[#Data],0),0))","v":""},{"$f":"IF('Radio (Desc)'!J127=\"\",\"\",'Radio (Desc)'!J127)","v":""},{"$f":"IF('Radio (Desc)'!K127=\"\",\"\",INDEX([1]CALL_SIGN!$A$2:$A$600,MATCH('Radio (Desc)'!$K127,[1]!MASTER_CALL_SIGN_DESC[#Data],0),0))","v":""},{"$f":"IF('Radio (Desc)'!L127=\"\",\"\",INDEX([1]STATION_CLASS!$A$2:$A$100,MATCH('Radio (Desc)'!$L127,[1]!MASTER_STATION_CLASS_DESC[#Data],0),0))","v":""},{"$f":"IF('Radio (Desc)'!M127=\"\",\"\",'Radio (Desc)'!M127)","v":""},{"$f":"IF('Radio (Desc)'!N127=\"\",\"\",'Radio (Desc)'!N127)","v":""},{"$f":"IF('Radio (Desc)'!O127=\"\",\"\",INDEX([1]ITS_COMM_DEV_MANUF!$A$2:$A$300,MATCH(1,([1]ITS_COMM_DEV_MANUF!$B$2:$B$300='Radio (Desc)'!$O127)*([1]ITS_COMM_DEV_MANUF!$C$2:$C$300=\"RADIO\"),0),0))","v":""},{"$f":"IF('Radio (Desc)'!P127=\"\",\"\",INDEX([1]ITS_COMM_DEV_MODEL!$A$2:$A$500,MATCH(1,([1]ITS_COMM_DEV_MODEL!$C$2:$C$500='Radio (Desc)'!$O127)*([1]ITS_COMM_DEV_MODEL!$D$2:$D$500=\"RADIO\")*([1]ITS_COMM_DEV_MODEL!$E$2:$E$500='Radio (Desc)'!$P127),0),0))","v":""},{"$f":"IF('Radio (Desc)'!Q127=\"\",\"\",'Radio (Desc)'!Q127)","v":""},{"$f":"IF('Radio (Desc)'!R127=\"\",\"\",'Radio (Desc)'!R127)","v":""},{"$f":"IF('Radio (Desc)'!S127=\"\",\"\",'Radio (Desc)'!S127)","v":""},{"$f":"IF('Radio (Desc)'!T127=\"\",\"\",'Radio (Desc)'!T127)","v":""},{"$f":"IF('Radio (Desc)'!U127=\"\",\"\",INDEX([1]DEV_INPUT_VOLTAGE!$A$2:$A$100,MATCH('Radio (Desc)'!$U127,[1]!MASTER_DEV_INPUT_VOLTAGE_DESC[#Data],0),0))","v":""},{"$f":"IF('Radio (Desc)'!V127=\"\",\"\",'Radio (Desc)'!V127)","v":""},{"$f":"IF('Radio (Desc)'!W127=\"\",\"\",'Radio (Desc)'!W127)","v":""},{"$f":"IF('Radio (Desc)'!X127=\"\",\"\",'Radio (Desc)'!X127)","v":""},{"$f":"IF('Radio (Desc)'!Y127=\"\",\"\",INDEX([1]FIBER_CONN_TYPE!$A$2:$A$100,MATCH('Radio (Desc)'!$Y127,[1]!MASTER_FIBER_CONN_TYPE_DESC[#Data],0),0))","v":""}]
[{"$f":"IF('Radio (Desc)'!A128=\"\",\"\",'Radio (Desc)'!A128)","v":""},{"$f":"IF('Radio (Desc)'!C128=\"\",\"\",\"2029\")","v":""},{"$f":"IF('Radio (Desc)'!C128=\"\",\"\",'Radio (Desc)'!C128)","v":""},{"$f":"IF('Radio (Desc)'!E128=\"\",\"\",\"RADIO\")","v":""},{"$f":"IF('Radio (Desc)'!E128=\"\",\"\",INDEX([1]RADIO_TYPE!$A$2:$A$100,MATCH('Radio (Desc)'!$E128,[1]!MASTER_RADIO_TYPE_DESC[#Data],0),0))","v":""},{"$f":"IF('Radio (Desc)'!F128=\"\",\"\",'Radio (Desc)'!F128)","v":""},{"$f":"IF('Radio (Desc)'!G128=\"\",\"\",INDEX([1]RADIO_FREQ!$A$2:$A$500,MATCH('Radio (Desc)'!$G128,[1]!MASTER_RADIO_FREQ_DESC[#Data],0),0))","v":""},{"$f":"IF('Radio (Desc)'!H128=\"\",\"\",'Radio (Desc)'!H128)","v":""},{"$f":"IF('Radio (Desc)'!I128=\"\",\"\",INDEX([1]RADIO_FREQ!$A$2:$A$500,MATCH('Radio (Desc)'!$I128,[1]!MASTER_RADIO_FREQ_DESC[#Data],0),0))","v":""},{"$f":"IF('Radio (Desc)'!J128=\"\",\"\",'Radio (Desc)'!J128)","v":""},{"$f":"IF('Radio (Desc)'!K128=\"\",\"\",INDEX([1]CALL_SIGN!$A$2:$A$600,MATCH('Radio (Desc)'!$K128,[1]!MASTER_CALL_SIGN_DESC[#Data],0),0))","v":""},{"$f":"IF('Radio (Desc)'!L128=\"\",\"\",INDEX([1]STATION_CLASS!$A$2:$A$100,MATCH('Radio (Desc)'!$L128,[1]!MASTER_STATION_CLASS_DESC[#Data],0),0))","v":""},{"$f":"IF('Radio (Desc)'!M128=\"\",\"\",'Radio (Desc)'!M128)","v":""},{"$f":"IF('Radio (Desc)'!N128=\"\",\"\",'Radio (Desc)'!N128)","v":""},{"$f":"IF('Radio (Desc)'!O128=\"\",\"\",INDEX([1]ITS_COMM_DEV_MANUF!$A$2:$A$300,MATCH(1,([1]ITS_COMM_DEV_MANUF!$B$2:$B$300='Radio (Desc)'!$O128)*([1]ITS_COMM_DEV_MANUF!$C$2:$C$300=\"RADIO\"),0),0))","v":""},{"$f":"IF('Radio (Desc)'!P128=\"\",\"\",INDEX([1]ITS_COMM_DEV_MODEL!$A$2:$A$500,MATCH(1,([1]ITS_COMM_DEV_MODEL!$C$2:$C$500='Radio (Desc)'!$O128)*([1]ITS_COMM_DEV_MODEL!$D$2:$D$500=\"RADIO\")*([1]ITS_COMM_DEV_MODEL!$E$2:$E$500='Radio (Desc)'!$P128),0),0))","v":""},{"$f":"IF('Radio (Desc)'!Q128=\"\",\"\",'Radio (Desc)'!Q128)","v":""},{"$f":"IF('Radio (Desc)'!R128=\"\",\"\",'Radio (Desc)'!R128)","v":""},{"$f":"IF('Radio (Desc)'!S128=\"\",\"\",'Radio (Desc)'!S128)","v":""},{"$f":"IF('Radio (Desc)'!T128=\"\",\"\",'Radio (Desc)'!T128)","v":""},{"$f":"IF('Radio (Desc)'!U128=\"\",\"\",INDEX([1]DEV_INPUT_VOLTAGE!$A$2:$A$100,MATCH('Radio (Desc)'!$U128,[1]!MASTER_DEV_INPUT_VOLTAGE_DESC[#Data],0),0))","v":""},{"$f":"IF('Radio (Desc)'!V128=\"\",\"\",'Radio (Desc)'!V128)","v":""},{"$f":"IF('Radio (Desc)'!W128=\"\",\"\",'Radio (Desc)'!W128)","v":""},{"$f":"IF('Radio (Desc)'!X128=\"\",\"\",'Radio (Desc)'!X128)","v":""},{"$f":"IF('Radio (Desc)'!Y128=\"\",\"\",INDEX([1]FIBER_CONN_TYPE!$A$2:$A$100,MATCH('Radio (Desc)'!$Y128,[1]!MASTER_FIBER_CONN_TYPE_DESC[#Data],0),0))","v":""}]
[{"$f":"IF('Radio (Desc)'!A129=\"\",\"\",'Radio (Desc)'!A129)","v":""},{"$f":"IF('Radio (Desc)'!C129=\"\",\"\",\"2029\")","v":""},{"$f":"IF('Radio (Desc)'!C129=\"\",\"\",'Radio (Desc)'!C129)","v":""},{"$f":"IF('Radio (Desc)'!E129=\"\",\"\",\"RADIO\")","v":""},{"$f":"IF('Radio (Desc)'!E129=\"\",\"\",INDEX([1]RADIO_TYPE!$A$2:$A$100,MATCH('Radio (Desc)'!$E129,[1]!MASTER_RADIO_TYPE_DESC[#Data],0),0))","v":""},{"$f":"IF('Radio (Desc)'!F129=\"\",\"\",'Radio (Desc)'!F129)","v":""},{"$f":"IF('Radio (Desc)'!G129=\"\",\"\",INDEX([1]RADIO_FREQ!$A$2:$A$500,MATCH('Radio (Desc)'!$G129,[1]!MASTER_RADIO_FREQ_DESC[#Data],0),0))","v":""},{"$f":"IF('Radio (Desc)'!H129=\"\",\"\",'Radio (Desc)'!H129)","v":""},{"$f":"IF('Radio (Desc)'!I129=\"\",\"\",INDEX([1]RADIO_FREQ!$A$2:$A$500,MATCH('Radio (Desc)'!$I129,[1]!MASTER_RADIO_FREQ_DESC[#Data],0),0))","v":""},{"$f":"IF('Radio (Desc)'!J129=\"\",\"\",'Radio (Desc)'!J129)","v":""},{"$f":"IF('Radio (Desc)'!K129=\"\",\"\",INDEX([1]CALL_SIGN!$A$2:$A$600,MATCH('Radio (Desc)'!$K129,[1]!MASTER_CALL_SIGN_DESC[#Data],0),0))","v":""},{"$f":"IF('Radio (Desc)'!L129=\"\",\"\",INDEX([1]STATION_CLASS!$A$2:$A$100,MATCH('Radio (Desc)'!$L129,[1]!MASTER_STATION_CLASS_DESC[#Data],0),0))","v":""},{"$f":"IF('Radio (Desc)'!M129=\"\",\"\",'Radio (Desc)'!M129)","v":""},{"$f":"IF('Radio (Desc)'!N129=\"\",\"\",'Radio (Desc)'!N129)","v":""},{"$f":"IF('Radio (Desc)'!O129=\"\",\"\",INDEX([1]ITS_COMM_DEV_MANUF!$A$2:$A$300,MATCH(1,([1]ITS_COMM_DEV_MANUF!$B$2:$B$300='Radio (Desc)'!$O129)*([1]ITS_COMM_DEV_MANUF!$C$2:$C$300=\"RADIO\"),0),0))","v":""},{"$f":"IF('Radio (Desc)'!P129=\"\",\"\",INDEX([1]ITS_COMM_DEV_MODEL!$A$2:$A$500,MATCH(1,([1]ITS_COMM_DEV_MODEL!$C$2:$C$500='Radio (Desc)'!$O129)*([1]ITS_COMM_DEV_MODEL!$D$2:$D$500=\"RADIO\")*([1]ITS_COMM_DEV_MODEL!$E$2:$E$500='Radio (Desc)'!$P129),0),0))","v":""},{"$f":"IF('Radio (Desc)'!Q129=\"\",\"\",'Radio (Desc)'!Q129)","v":""},{"$f":"IF('Radio (Desc)'!R129=\"\",\"\",'Radio (Desc)'!R129)","v":""},{"$f":"IF('Radio (Desc)'!S129=\"\",\"\",'Radio (Desc)'!S129)","v":""},{"$f":"IF('Radio (Desc)'!T129=\"\",\"\",'Radio (Desc)'!T129)","v":""},{"$f":"IF('Radio (Desc)'!U129=\"\",\"\",INDEX([1]DEV_INPUT_VOLTAGE!$A$2:$A$100,MATCH('Radio (Desc)'!$U129,[1]!MASTER_DEV_INPUT_VOLTAGE_DESC[#Data],0),0))","v":""},{"$f":"IF('Radio (Desc)'!V129=\"\",\"\",'Radio (Desc)'!V129)","v":""},{"$f":"IF('Radio (Desc)'!W129=\"\",\"\",'Radio (Desc)'!W129)","v":""},{"$f":"IF('Radio (Desc)'!X129=\"\",\"\",'Radio (Desc)'!X129)","v":""},{"$f":"IF('Radio (Desc)'!Y129=\"\",\"\",INDEX([1]FIBER_CONN_TYPE!$A$2:$A$100,MATCH('Radio (Desc)'!$Y129,[1]!MASTER_FIBER_CONN_TYPE_DESC[#Data],0),0))","v":""}]
[{"$f":"IF('Radio (Desc)'!A130=\"\",\"\",'Radio (Desc)'!A130)","v":""},{"$f":"IF('Radio (Desc)'!C130=\"\",\"\",\"2029\")","v":""},{"$f":"IF('Radio (Desc)'!C130=\"\",\"\",'Radio (Desc)'!C130)","v":""},{"$f":"IF('Radio (Desc)'!E130=\"\",\"\",\"RADIO\")","v":""},{"$f":"IF('Radio (Desc)'!E130=\"\",\"\",INDEX([1]RADIO_TYPE!$A$2:$A$100,MATCH('Radio (Desc)'!$E130,[1]!MASTER_RADIO_TYPE_DESC[#Data],0),0))","v":""},{"$f":"IF('Radio (Desc)'!F130=\"\",\"\",'Radio (Desc)'!F130)","v":""},{"$f":"IF('Radio (Desc)'!G130=\"\",\"\",INDEX([1]RADIO_FREQ!$A$2:$A$500,MATCH('Radio (Desc)'!$G130,[1]!MASTER_RADIO_FREQ_DESC[#Data],0),0))","v":""},{"$f":"IF('Radio (Desc)'!H130=\"\",\"\",'Radio (Desc)'!H130)","v":""},{"$f":"IF('Radio (Desc)'!I130=\"\",\"\",INDEX([1]RADIO_FREQ!$A$2:$A$500,MATCH('Radio (Desc)'!$I130,[1]!MASTER_RADIO_FREQ_DESC[#Data],0),0))","v":""},{"$f":"IF('Radio (Desc)'!J130=\"\",\"\",'Radio (Desc)'!J130)","v":""},{"$f":"IF('Radio (Desc)'!K130=\"\",\"\",INDEX([1]CALL_SIGN!$A$2:$A$600,MATCH('Radio (Desc)'!$K130,[1]!MASTER_CALL_SIGN_DESC[#Data],0),0))","v":""},{"$f":"IF('Radio (Desc)'!L130=\"\",\"\",INDEX([1]STATION_CLASS!$A$2:$A$100,MATCH('Radio (Desc)'!$L130,[1]!MASTER_STATION_CLASS_DESC[#Data],0),0))","v":""},{"$f":"IF('Radio (Desc)'!M130=\"\",\"\",'Radio (Desc)'!M130)","v":""},{"$f":"IF('Radio (Desc)'!N130=\"\",\"\",'Radio (Desc)'!N130)","v":""},{"$f":"IF('Radio (Desc)'!O130=\"\",\"\",INDEX([1]ITS_COMM_DEV_MANUF!$A$2:$A$300,MATCH(1,([1]ITS_COMM_DEV_MANUF!$B$2:$B$300='Radio (Desc)'!$O130)*([1]ITS_COMM_DEV_MANUF!$C$2:$C$300=\"RADIO\"),0),0))","v":""},{"$f":"IF('Radio (Desc)'!P130=\"\",\"\",INDEX([1]ITS_COMM_DEV_MODEL!$A$2:$A$500,MATCH(1,([1]ITS_COMM_DEV_MODEL!$C$2:$C$500='Radio (Desc)'!$O130)*([1]ITS_COMM_DEV_MODEL!$D$2:$D$500=\"RADIO\")*([1]ITS_COMM_DEV_MODEL!$E$2:$E$500='Radio (Desc)'!$P130),0),0))","v":""},{"$f":"IF('Radio (Desc)'!Q130=\"\",\"\",'Radio (Desc)'!Q130)","v":""},{"$f":"IF('Radio (Desc)'!R130=\"\",\"\",'Radio (Desc)'!R130)","v":""},{"$f":"IF('Radio (Desc)'!S130=\"\",\"\",'Radio (Desc)'!S130)","v":""},{"$f":"IF('Radio (Desc)'!T130=\"\",\"\",'Radio (Desc)'!T130)","v":""},{"$f":"IF('Radio (Desc)'!U130=\"\",\"\",INDEX([1]DEV_INPUT_VOLTAGE!$A$2:$A$100,MATCH('Radio (Desc)'!$U130,[1]!MASTER_DEV_INPUT_VOLTAGE_DESC[#Data],0),0))","v":""},{"$f":"IF('Radio (Desc)'!V130=\"\",\"\",'Radio (Desc)'!V130)","v":""},{"$f":"IF('Radio (Desc)'!W130=\"\",\"\",'Radio (Desc)'!W130)","v":""},{"$f":"IF('Radio (Desc)'!X130=\"\",\"\",'Radio (Desc)'!X130)","v":""},{"$f":"IF('Radio (Desc)'!Y130=\"\",\"\",INDEX([1]FIBER_CONN_TYPE!$A$2:$A$100,MATCH('Radio (Desc)'!$Y130,[1]!MASTER_FIBER_CONN_TYPE_DESC[#Data],0),0))","v":""}]
[{"$f":"IF('Radio (Desc)'!A131=\"\",\"\",'Radio (Desc)'!A131)","v":""},{"$f":"IF('Radio (Desc)'!C131=\"\",\"\",\"2029\")","v":""},{"$f":"IF('Radio (Desc)'!C131=\"\",\"\",'Radio (Desc)'!C131)","v":""},{"$f":"IF('Radio (Desc)'!E131=\"\",\"\",\"RADIO\")","v":""},{"$f":"IF('Radio (Desc)'!E131=\"\",\"\",INDEX([1]RADIO_TYPE!$A$2:$A$100,MATCH('Radio (Desc)'!$E131,[1]!MASTER_RADIO_TYPE_DESC[#Data],0),0))","v":""},{"$f":"IF('Radio (Desc)'!F131=\"\",\"\",'Radio (Desc)'!F131)","v":""},{"$f":"IF('Radio (Desc)'!G131=\"\",\"\",INDEX([1]RADIO_FREQ!$A$2:$A$500,MATCH('Radio (Desc)'!$G131,[1]!MASTER_RADIO_FREQ_DESC[#Data],0),0))","v":""},{"$f":"IF('Radio (Desc)'!H131=\"\",\"\",'Radio (Desc)'!H131)","v":""},{"$f":"IF('Radio (Desc)'!I131=\"\",\"\",INDEX([1]RADIO_FREQ!$A$2:$A$500,MATCH('Radio (Desc)'!$I131,[1]!MASTER_RADIO_FREQ_DESC[#Data],0),0))","v":""},{"$f":"IF('Radio (Desc)'!J131=\"\",\"\",'Radio (Desc)'!J131)","v":""},{"$f":"IF('Radio (Desc)'!K131=\"\",\"\",INDEX([1]CALL_SIGN!$A$2:$A$600,MATCH('Radio (Desc)'!$K131,[1]!MASTER_CALL_SIGN_DESC[#Data],0),0))","v":""},{"$f":"IF('Radio (Desc)'!L131=\"\",\"\",INDEX([1]STATION_CLASS!$A$2:$A$100,MATCH('Radio (Desc)'!$L131,[1]!MASTER_STATION_CLASS_DESC[#Data],0),0))","v":""},{"$f":"IF('Radio (Desc)'!M131=\"\",\"\",'Radio (Desc)'!M131)","v":""},{"$f":"IF('Radio (Desc)'!N131=\"\",\"\",'Radio (Desc)'!N131)","v":""},{"$f":"IF('Radio (Desc)'!O131=\"\",\"\",INDEX([1]ITS_COMM_DEV_MANUF!$A$2:$A$300,MATCH(1,([1]ITS_COMM_DEV_MANUF!$B$2:$B$300='Radio (Desc)'!$O131)*([1]ITS_COMM_DEV_MANUF!$C$2:$C$300=\"RADIO\"),0),0))","v":""},{"$f":"IF('Radio (Desc)'!P131=\"\",\"\",INDEX([1]ITS_COMM_DEV_MODEL!$A$2:$A$500,MATCH(1,([1]ITS_COMM_DEV_MODEL!$C$2:$C$500='Radio (Desc)'!$O131)*([1]ITS_COMM_DEV_MODEL!$D$2:$D$500=\"RADIO\")*([1]ITS_COMM_DEV_MODEL!$E$2:$E$500='Radio (Desc)'!$P131),0),0))","v":""},{"$f":"IF('Radio (Desc)'!Q131=\"\",\"\",'Radio (Desc)'!Q131)","v":""},{"$f":"IF('Radio (Desc)'!R131=\"\",\"\",'Radio (Desc)'!R131)","v":""},{"$f":"IF('Radio (Desc)'!S131=\"\",\"\",'Radio (Desc)'!S131)","v":""},{"$f":"IF('Radio (Desc)'!T131=\"\",\"\",'Radio (Desc)'!T131)","v":""},{"$f":"IF('Radio (Desc)'!U131=\"\",\"\",INDEX([1]DEV_INPUT_VOLTAGE!$A$2:$A$100,MATCH('Radio (Desc)'!$U131,[1]!MASTER_DEV_INPUT_VOLTAGE_DESC[#Data],0),0))","v":""},{"$f":"IF('Radio (Desc)'!V131=\"\",\"\",'Radio (Desc)'!V131)","v":""},{"$f":"IF('Radio (Desc)'!W131=\"\",\"\",'Radio (Desc)'!W131)","v":""},{"$f":"IF('Radio (Desc)'!X131=\"\",\"\",'Radio (Desc)'!X131)","v":""},{"$f":"IF('Radio (Desc)'!Y131=\"\",\"\",INDEX([1]FIBER_CONN_TYPE!$A$2:$A$100,MATCH('Radio (Desc)'!$Y131,[1]!MASTER_FIBER_CONN_TYPE_DESC[#Data],0),0))","v":""}]
[{"$f":"IF('Radio (Desc)'!A132=\"\",\"\",'Radio (Desc)'!A132)","v":""},{"$f":"IF('Radio (Desc)'!C132=\"\",\"\",\"2029\")","v":""},{"$f":"IF('Radio (Desc)'!C132=\"\",\"\",'Radio (Desc)'!C132)","v":""},{"$f":"IF('Radio (Desc)'!E132=\"\",\"\",\"RADIO\")","v":""},{"$f":"IF('Radio (Desc)'!E132=\"\",\"\",INDEX([1]RADIO_TYPE!$A$2:$A$100,MATCH('Radio (Desc)'!$E132,[1]!MASTER_RADIO_TYPE_DESC[#Data],0),0))","v":""},{"$f":"IF('Radio (Desc)'!F132=\"\",\"\",'Radio (Desc)'!F132)","v":""},{"$f":"IF('Radio (Desc)'!G132=\"\",\"\",INDEX([1]RADIO_FREQ!$A$2:$A$500,MATCH('Radio (Desc)'!$G132,[1]!MASTER_RADIO_FREQ_DESC[#Data],0),0))","v":""},{"$f":"IF('Radio (Desc)'!H132=\"\",\"\",'Radio (Desc)'!H132)","v":""},{"$f":"IF('Radio (Desc)'!I132=\"\",\"\",INDEX([1]RADIO_FREQ!$A$2:$A$500,MATCH('Radio (Desc)'!$I132,[1]!MASTER_RADIO_FREQ_DESC[#Data],0),0))","v":""},{"$f":"IF('Radio (Desc)'!J132=\"\",\"\",'Radio (Desc)'!J132)","v":""},{"$f":"IF('Radio (Desc)'!K132=\"\",\"\",INDEX([1]CALL_SIGN!$A$2:$A$600,MATCH('Radio (Desc)'!$K132,[1]!MASTER_CALL_SIGN_DESC[#Data],0),0))","v":""},{"$f":"IF('Radio (Desc)'!L132=\"\",\"\",INDEX([1]STATION_CLASS!$A$2:$A$100,MATCH('Radio (Desc)'!$L132,[1]!MASTER_STATION_CLASS_DESC[#Data],0),0))","v":""},{"$f":"IF('Radio (Desc)'!M132=\"\",\"\",'Radio (Desc)'!M132)","v":""},{"$f":"IF('Radio (Desc)'!N132=\"\",\"\",'Radio (Desc)'!N132)","v":""},{"$f":"IF('Radio (Desc)'!O132=\"\",\"\",INDEX([1]ITS_COMM_DEV_MANUF!$A$2:$A$300,MATCH(1,([1]ITS_COMM_DEV_MANUF!$B$2:$B$300='Radio (Desc)'!$O132)*([1]ITS_COMM_DEV_MANUF!$C$2:$C$300=\"RADIO\"),0),0))","v":""},{"$f":"IF('Radio (Desc)'!P132=\"\",\"\",INDEX([1]ITS_COMM_DEV_MODEL!$A$2:$A$500,MATCH(1,([1]ITS_COMM_DEV_MODEL!$C$2:$C$500='Radio (Desc)'!$O132)*([1]ITS_COMM_DEV_MODEL!$D$2:$D$500=\"RADIO\")*([1]ITS_COMM_DEV_MODEL!$E$2:$E$500='Radio (Desc)'!$P132),0),0))","v":""},{"$f":"IF('Radio (Desc)'!Q132=\"\",\"\",'Radio (Desc)'!Q132)","v":""},{"$f":"IF('Radio (Desc)'!R132=\"\",\"\",'Radio (Desc)'!R132)","v":""},{"$f":"IF('Radio (Desc)'!S132=\"\",\"\",'Radio (Desc)'!S132)","v":""},{"$f":"IF('Radio (Desc)'!T132=\"\",\"\",'Radio (Desc)'!T132)","v":""},{"$f":"IF('Radio (Desc)'!U132=\"\",\"\",INDEX([1]DEV_INPUT_VOLTAGE!$A$2:$A$100,MATCH('Radio (Desc)'!$U132,[1]!MASTER_DEV_INPUT_VOLTAGE_DESC[#Data],0),0))","v":""},{"$f":"IF('Radio (Desc)'!V132=\"\",\"\",'Radio (Desc)'!V132)","v":""},{"$f":"IF('Radio (Desc)'!W132=\"\",\"\",'Radio (Desc)'!W132)","v":""},{"$f":"IF('Radio (Desc)'!X132=\"\",\"\",'Radio (Desc)'!X132)","v":""},{"$f":"IF('Radio (Desc)'!Y132=\"\",\"\",INDEX([1]FIBER_CONN_TYPE!$A$2:$A$100,MATCH('Radio (Desc)'!$Y132,[1]!MASTER_FIBER_CONN_TYPE_DESC[#Data],0),0))","v":""}]
[{"$f":"IF('Radio (Desc)'!A133=\"\",\"\",'Radio (Desc)'!A133)","v":""},{"$f":"IF('Radio (Desc)'!C133=\"\",\"\",\"2029\")","v":""},{"$f":"IF('Radio (Desc)'!C133=\"\",\"\",'Radio (Desc)'!C133)","v":""},{"$f":"IF('Radio (Desc)'!E133=\"\",\"\",\"RADIO\")","v":""},{"$f":"IF('Radio (Desc)'!E133=\"\",\"\",INDEX([1]RADIO_TYPE!$A$2:$A$100,MATCH('Radio (Desc)'!$E133,[1]!MASTER_RADIO_TYPE_DESC[#Data],0),0))","v":""},{"$f":"IF('Radio (Desc)'!F133=\"\",\"\",'Radio (Desc)'!F133)","v":""},{"$f":"IF('Radio (Desc)'!G133=\"\",\"\",INDEX([1]RADIO_FREQ!$A$2:$A$500,MATCH('Radio (Desc)'!$G133,[1]!MASTER_RADIO_FREQ_DESC[#Data],0),0))","v":""},{"$f":"IF('Radio (Desc)'!H133=\"\",\"\",'Radio (Desc)'!H133)","v":""},{"$f":"IF('Radio (Desc)'!I133=\"\",\"\",INDEX([1]RADIO_FREQ!$A$2:$A$500,MATCH('Radio (Desc)'!$I133,[1]!MASTER_RADIO_FREQ_DESC[#Data],0),0))","v":""},{"$f":"IF('Radio (Desc)'!J133=\"\",\"\",'Radio (Desc)'!J133)","v":""},{"$f":"IF('Radio (Desc)'!K133=\"\",\"\",INDEX([1]CALL_SIGN!$A$2:$A$600,MATCH('Radio (Desc)'!$K133,[1]!MASTER_CALL_SIGN_DESC[#Data],0),0))","v":""},{"$f":"IF('Radio (Desc)'!L133=\"\",\"\",INDEX([1]STATION_CLASS!$A$2:$A$100,MATCH('Radio (Desc)'!$L133,[1]!MASTER_STATION_CLASS_DESC[#Data],0),0))","v":""},{"$f":"IF('Radio (Desc)'!M133=\"\",\"\",'Radio (Desc)'!M133)","v":""},{"$f":"IF('Radio (Desc)'!N133=\"\",\"\",'Radio (Desc)'!N133)","v":""},{"$f":"IF('Radio (Desc)'!O133=\"\",\"\",INDEX([1]ITS_COMM_DEV_MANUF!$A$2:$A$300,MATCH(1,([1]ITS_COMM_DEV_MANUF!$B$2:$B$300='Radio (Desc)'!$O133)*([1]ITS_COMM_DEV_MANUF!$C$2:$C$300=\"RADIO\"),0),0))","v":""},{"$f":"IF('Radio (Desc)'!P133=\"\",\"\",INDEX([1]ITS_COMM_DEV_MODEL!$A$2:$A$500,MATCH(1,([1]ITS_COMM_DEV_MODEL!$C$2:$C$500='Radio (Desc)'!$O133)*([1]ITS_COMM_DEV_MODEL!$D$2:$D$500=\"RADIO\")*([1]ITS_COMM_DEV_MODEL!$E$2:$E$500='Radio (Desc)'!$P133),0),0))","v":""},{"$f":"IF('Radio (Desc)'!Q133=\"\",\"\",'Radio (Desc)'!Q133)","v":""},{"$f":"IF('Radio (Desc)'!R133=\"\",\"\",'Radio (Desc)'!R133)","v":""},{"$f":"IF('Radio (Desc)'!S133=\"\",\"\",'Radio (Desc)'!S133)","v":""},{"$f":"IF('Radio (Desc)'!T133=\"\",\"\",'Radio (Desc)'!T133)","v":""},{"$f":"IF('Radio (Desc)'!U133=\"\",\"\",INDEX([1]DEV_INPUT_VOLTAGE!$A$2:$A$100,MATCH('Radio (Desc)'!$U133,[1]!MASTER_DEV_INPUT_VOLTAGE_DESC[#Data],0),0))","v":""},{"$f":"IF('Radio (Desc)'!V133=\"\",\"\",'Radio (Desc)'!V133)","v":""},{"$f":"IF('Radio (Desc)'!W133=\"\",\"\",'Radio (Desc)'!W133)","v":""},{"$f":"IF('Radio (Desc)'!X133=\"\",\"\",'Radio (Desc)'!X133)","v":""},{"$f":"IF('Radio (Desc)'!Y133=\"\",\"\",INDEX([1]FIBER_CONN_TYPE!$A$2:$A$100,MATCH('Radio (Desc)'!$Y133,[1]!MASTER_FIBER_CONN_TYPE_DESC[#Data],0),0))","v":""}]
[{"$f":"IF('Radio (Desc)'!A134=\"\",\"\",'Radio (Desc)'!A134)","v":""},{"$f":"IF('Radio (Desc)'!C134=\"\",\"\",\"2029\")","v":""},{"$f":"IF('Radio (Desc)'!C134=\"\",\"\",'Radio (Desc)'!C134)","v":""},{"$f":"IF('Radio (Desc)'!E134=\"\",\"\",\"RADIO\")","v":""},{"$f":"IF('Radio (Desc)'!E134=\"\",\"\",INDEX([1]RADIO_TYPE!$A$2:$A$100,MATCH('Radio (Desc)'!$E134,[1]!MASTER_RADIO_TYPE_DESC[#Data],0),0))","v":""},{"$f":"IF('Radio (Desc)'!F134=\"\",\"\",'Radio (Desc)'!F134)","v":""},{"$f":"IF('Radio (Desc)'!G134=\"\",\"\",INDEX([1]RADIO_FREQ!$A$2:$A$500,MATCH('Radio (Desc)'!$G134,[1]!MASTER_RADIO_FREQ_DESC[#Data],0),0))","v":""},{"$f":"IF('Radio (Desc)'!H134=\"\",\"\",'Radio (Desc)'!H134)","v":""},{"$f":"IF('Radio (Desc)'!I134=\"\",\"\",INDEX([1]RADIO_FREQ!$A$2:$A$500,MATCH('Radio (Desc)'!$I134,[1]!MASTER_RADIO_FREQ_DESC[#Data],0),0))","v":""},{"$f":"IF('Radio (Desc)'!J134=\"\",\"\",'Radio (Desc)'!J134)","v":""},{"$f":"IF('Radio (Desc)'!K134=\"\",\"\",INDEX([1]CALL_SIGN!$A$2:$A$600,MATCH('Radio (Desc)'!$K134,[1]!MASTER_CALL_SIGN_DESC[#Data],0),0))","v":""},{"$f":"IF('Radio (Desc)'!L134=\"\",\"\",INDEX([1]STATION_CLASS!$A$2:$A$100,MATCH('Radio (Desc)'!$L134,[1]!MASTER_STATION_CLASS_DESC[#Data],0),0))","v":""},{"$f":"IF('Radio (Desc)'!M134=\"\",\"\",'Radio (Desc)'!M134)","v":""},{"$f":"IF('Radio (Desc)'!N134=\"\",\"\",'Radio (Desc)'!N134)","v":""},{"$f":"IF('Radio (Desc)'!O134=\"\",\"\",INDEX([1]ITS_COMM_DEV_MANUF!$A$2:$A$300,MATCH(1,([1]ITS_COMM_DEV_MANUF!$B$2:$B$300='Radio (Desc)'!$O134)*([1]ITS_COMM_DEV_MANUF!$C$2:$C$300=\"RADIO\"),0),0))","v":""},{"$f":"IF('Radio (Desc)'!P134=\"\",\"\",INDEX([1]ITS_COMM_DEV_MODEL!$A$2:$A$500,MATCH(1,([1]ITS_COMM_DEV_MODEL!$C$2:$C$500='Radio (Desc)'!$O134)*([1]ITS_COMM_DEV_MODEL!$D$2:$D$500=\"RADIO\")*([1]ITS_COMM_DEV_MODEL!$E$2:$E$500='Radio (Desc)'!$P134),0),0))","v":""},{"$f":"IF('Radio (Desc)'!Q134=\"\",\"\",'Radio (Desc)'!Q134)","v":""},{"$f":"IF('Radio (Desc)'!R134=\"\",\"\",'Radio (Desc)'!R134)","v":""},{"$f":"IF('Radio (Desc)'!S134=\"\",\"\",'Radio (Desc)'!S134)","v":""},{"$f":"IF('Radio (Desc)'!T134=\"\",\"\",'Radio (Desc)'!T134)","v":""},{"$f":"IF('Radio (Desc)'!U134=\"\",\"\",INDEX([1]DEV_INPUT_VOLTAGE!$A$2:$A$100,MATCH('Radio (Desc)'!$U134,[1]!MASTER_DEV_INPUT_VOLTAGE_DESC[#Data],0),0))","v":""},{"$f":"IF('Radio (Desc)'!V134=\"\",\"\",'Radio (Desc)'!V134)","v":""},{"$f":"IF('Radio (Desc)'!W134=\"\",\"\",'Radio (Desc)'!W134)","v":""},{"$f":"IF('Radio (Desc)'!X134=\"\",\"\",'Radio (Desc)'!X134)","v":""},{"$f":"IF('Radio (Desc)'!Y134=\"\",\"\",INDEX([1]FIBER_CONN_TYPE!$A$2:$A$100,MATCH('Radio (Desc)'!$Y134,[1]!MASTER_FIBER_CONN_TYPE_DESC[#Data],0),0))","v":""}]
[{"$f":"IF('Radio (Desc)'!A135=\"\",\"\",'Radio (Desc)'!A135)","v":""},{"$f":"IF('Radio (Desc)'!C135=\"\",\"\",\"2029\")","v":""},{"$f":"IF('Radio (Desc)'!C135=\"\",\"\",'Radio (Desc)'!C135)","v":""},{"$f":"IF('Radio (Desc)'!E135=\"\",\"\",\"RADIO\")","v":""},{"$f":"IF('Radio (Desc)'!E135=\"\",\"\",INDEX([1]RADIO_TYPE!$A$2:$A$100,MATCH('Radio (Desc)'!$E135,[1]!MASTER_RADIO_TYPE_DESC[#Data],0),0))","v":""},{"$f":"IF('Radio (Desc)'!F135=\"\",\"\",'Radio (Desc)'!F135)","v":""},{"$f":"IF('Radio (Desc)'!G135=\"\",\"\",INDEX([1]RADIO_FREQ!$A$2:$A$500,MATCH('Radio (Desc)'!$G135,[1]!MASTER_RADIO_FREQ_DESC[#Data],0),0))","v":""},{"$f":"IF('Radio (Desc)'!H135=\"\",\"\",'Radio (Desc)'!H135)","v":""},{"$f":"IF('Radio (Desc)'!I135=\"\",\"\",INDEX([1]RADIO_FREQ!$A$2:$A$500,MATCH('Radio (Desc)'!$I135,[1]!MASTER_RADIO_FREQ_DESC[#Data],0),0))","v":""},{"$f":"IF('Radio (Desc)'!J135=\"\",\"\",'Radio (Desc)'!J135)","v":""},{"$f":"IF('Radio (Desc)'!K135=\"\",\"\",INDEX([1]CALL_SIGN!$A$2:$A$600,MATCH('Radio (Desc)'!$K135,[1]!MASTER_CALL_SIGN_DESC[#Data],0),0))","v":""},{"$f":"IF('Radio (Desc)'!L135=\"\",\"\",INDEX([1]STATION_CLASS!$A$2:$A$100,MATCH('Radio (Desc)'!$L135,[1]!MASTER_STATION_CLASS_DESC[#Data],0),0))","v":""},{"$f":"IF('Radio (Desc)'!M135=\"\",\"\",'Radio (Desc)'!M135)","v":""},{"$f":"IF('Radio (Desc)'!N135=\"\",\"\",'Radio (Desc)'!N135)","v":""},{"$f":"IF('Radio (Desc)'!O135=\"\",\"\",INDEX([1]ITS_COMM_DEV_MANUF!$A$2:$A$300,MATCH(1,([1]ITS_COMM_DEV_MANUF!$B$2:$B$300='Radio (Desc)'!$O135)*([1]ITS_COMM_DEV_MANUF!$C$2:$C$300=\"RADIO\"),0),0))","v":""},{"$f":"IF('Radio (Desc)'!P135=\"\",\"\",INDEX([1]ITS_COMM_DEV_MODEL!$A$2:$A$500,MATCH(1,([1]ITS_COMM_DEV_MODEL!$C$2:$C$500='Radio (Desc)'!$O135)*([1]ITS_COMM_DEV_MODEL!$D$2:$D$500=\"RADIO\")*([1]ITS_COMM_DEV_MODEL!$E$2:$E$500='Radio (Desc)'!$P135),0),0))","v":""},{"$f":"IF('Radio (Desc)'!Q135=\"\",\"\",'Radio (Desc)'!Q135)","v":""},{"$f":"IF('Radio (Desc)'!R135=\"\",\"\",'Radio (Desc)'!R135)","v":""},{"$f":"IF('Radio (Desc)'!S135=\"\",\"\",'Radio (Desc)'!S135)","v":""},{"$f":"IF('Radio (Desc)'!T135=\"\",\"\",'Radio (Desc)'!T135)","v":""},{"$f":"IF('Radio (Desc)'!U135=\"\",\"\",INDEX([1]DEV_INPUT_VOLTAGE!$A$2:$A$100,MATCH('Radio (Desc)'!$U135,[1]!MASTER_DEV_INPUT_VOLTAGE_DESC[#Data],0),0))","v":""},{"$f":"IF('Radio (Desc)'!V135=\"\",\"\",'Radio (Desc)'!V135)","v":""},{"$f":"IF('Radio (Desc)'!W135=\"\",\"\",'Radio (Desc)'!W135)","v":""},{"$f":"IF('Radio (Desc)'!X135=\"\",\"\",'Radio (Desc)'!X135)","v":""},{"$f":"IF('Radio (Desc)'!Y135=\"\",\"\",INDEX([1]FIBER_CONN_TYPE!$A$2:$A$100,MATCH('Radio (Desc)'!$Y135,[1]!MASTER_FIBER_CONN_TYPE_DESC[#Data],0),0))","v":""}]
[{"$f":"IF('Radio (Desc)'!A136=\"\",\"\",'Radio (Desc)'!A136)","v":""},{"$f":"IF('Radio (Desc)'!C136=\"\",\"\",\"2029\")","v":""},{"$f":"IF('Radio (Desc)'!C136=\"\",\"\",'Radio (Desc)'!C136)","v":""},{"$f":"IF('Radio (Desc)'!E136=\"\",\"\",\"RADIO\")","v":""},{"$f":"IF('Radio (Desc)'!E136=\"\",\"\",INDEX([1]RADIO_TYPE!$A$2:$A$100,MATCH('Radio (Desc)'!$E136,[1]!MASTER_RADIO_TYPE_DESC[#Data],0),0))","v":""},{"$f":"IF('Radio (Desc)'!F136=\"\",\"\",'Radio (Desc)'!F136)","v":""},{"$f":"IF('Radio (Desc)'!G136=\"\",\"\",INDEX([1]RADIO_FREQ!$A$2:$A$500,MATCH('Radio (Desc)'!$G136,[1]!MASTER_RADIO_FREQ_DESC[#Data],0),0))","v":""},{"$f":"IF('Radio (Desc)'!H136=\"\",\"\",'Radio (Desc)'!H136)","v":""},{"$f":"IF('Radio (Desc)'!I136=\"\",\"\",INDEX([1]RADIO_FREQ!$A$2:$A$500,MATCH('Radio (Desc)'!$I136,[1]!MASTER_RADIO_FREQ_DESC[#Data],0),0))","v":""},{"$f":"IF('Radio (Desc)'!J136=\"\",\"\",'Radio (Desc)'!J136)","v":""},{"$f":"IF('Radio (Desc)'!K136=\"\",\"\",INDEX([1]CALL_SIGN!$A$2:$A$600,MATCH('Radio (Desc)'!$K136,[1]!MASTER_CALL_SIGN_DESC[#Data],0),0))","v":""},{"$f":"IF('Radio (Desc)'!L136=\"\",\"\",INDEX([1]STATION_CLASS!$A$2:$A$100,MATCH('Radio (Desc)'!$L136,[1]!MASTER_STATION_CLASS_DESC[#Data],0),0))","v":""},{"$f":"IF('Radio (Desc)'!M136=\"\",\"\",'Radio (Desc)'!M136)","v":""},{"$f":"IF('Radio (Desc)'!N136=\"\",\"\",'Radio (Desc)'!N136)","v":""},{"$f":"IF('Radio (Desc)'!O136=\"\",\"\",INDEX([1]ITS_COMM_DEV_MANUF!$A$2:$A$300,MATCH(1,([1]ITS_COMM_DEV_MANUF!$B$2:$B$300='Radio (Desc)'!$O136)*([1]ITS_COMM_DEV_MANUF!$C$2:$C$300=\"RADIO\"),0),0))","v":""},{"$f":"IF('Radio (Desc)'!P136=\"\",\"\",INDEX([1]ITS_COMM_DEV_MODEL!$A$2:$A$500,MATCH(1,([1]ITS_COMM_DEV_MODEL!$C$2:$C$500='Radio (Desc)'!$O136)*([1]ITS_COMM_DEV_MODEL!$D$2:$D$500=\"RADIO\")*([1]ITS_COMM_DEV_MODEL!$E$2:$E$500='Radio (Desc)'!$P136),0),0))","v":""},{"$f":"IF('Radio (Desc)'!Q136=\"\",\"\",'Radio (Desc)'!Q136)","v":""},{"$f":"IF('Radio (Desc)'!R136=\"\",\"\",'Radio (Desc)'!R136)","v":""},{"$f":"IF('Radio (Desc)'!S136=\"\",\"\",'Radio (Desc)'!S136)","v":""},{"$f":"IF('Radio (Desc)'!T136=\"\",\"\",'Radio (Desc)'!T136)","v":""},{"$f":"IF('Radio (Desc)'!U136=\"\",\"\",INDEX([1]DEV_INPUT_VOLTAGE!$A$2:$A$100,MATCH('Radio (Desc)'!$U136,[1]!MASTER_DEV_INPUT_VOLTAGE_DESC[#Data],0),0))","v":""},{"$f":"IF('Radio (Desc)'!V136=\"\",\"\",'Radio (Desc)'!V136)","v":""},{"$f":"IF('Radio (Desc)'!W136=\"\",\"\",'Radio (Desc)'!W136)","v":""},{"$f":"IF('Radio (Desc)'!X136=\"\",\"\",'Radio (Desc)'!X136)","v":""},{"$f":"IF('Radio (Desc)'!Y136=\"\",\"\",INDEX([1]FIBER_CONN_TYPE!$A$2:$A$100,MATCH('Radio (Desc)'!$Y136,[1]!MASTER_FIBER_CONN_TYPE_DESC[#Data],0),0))","v":""}]
[{"$f":"IF('Radio (Desc)'!A137=\"\",\"\",'Radio (Desc)'!A137)","v":""},{"$f":"IF('Radio (Desc)'!C137=\"\",\"\",\"2029\")","v":""},{"$f":"IF('Radio (Desc)'!C137=\"\",\"\",'Radio (Desc)'!C137)","v":""},{"$f":"IF('Radio (Desc)'!E137=\"\",\"\",\"RADIO\")","v":""},{"$f":"IF('Radio (Desc)'!E137=\"\",\"\",INDEX([1]RADIO_TYPE!$A$2:$A$100,MATCH('Radio (Desc)'!$E137,[1]!MASTER_RADIO_TYPE_DESC[#Data],0),0))","v":""},{"$f":"IF('Radio (Desc)'!F137=\"\",\"\",'Radio (Desc)'!F137)","v":""},{"$f":"IF('Radio (Desc)'!G137=\"\",\"\",INDEX([1]RADIO_FREQ!$A$2:$A$500,MATCH('Radio (Desc)'!$G137,[1]!MASTER_RADIO_FREQ_DESC[#Data],0),0))","v":""},{"$f":"IF('Radio (Desc)'!H137=\"\",\"\",'Radio (Desc)'!H137)","v":""},{"$f":"IF('Radio (Desc)'!I137=\"\",\"\",INDEX([1]RADIO_FREQ!$A$2:$A$500,MATCH('Radio (Desc)'!$I137,[1]!MASTER_RADIO_FREQ_DESC[#Data],0),0))","v":""},{"$f":"IF('Radio (Desc)'!J137=\"\",\"\",'Radio (Desc)'!J137)","v":""},{"$f":"IF('Radio (Desc)'!K137=\"\",\"\",INDEX([1]CALL_SIGN!$A$2:$A$600,MATCH('Radio (Desc)'!$K137,[1]!MASTER_CALL_SIGN_DESC[#Data],0),0))","v":""},{"$f":"IF('Radio (Desc)'!L137=\"\",\"\",INDEX([1]STATION_CLASS!$A$2:$A$100,MATCH('Radio (Desc)'!$L137,[1]!MASTER_STATION_CLASS_DESC[#Data],0),0))","v":""},{"$f":"IF('Radio (Desc)'!M137=\"\",\"\",'Radio (Desc)'!M137)","v":""},{"$f":"IF('Radio (Desc)'!N137=\"\",\"\",'Radio (Desc)'!N137)","v":""},{"$f":"IF('Radio (Desc)'!O137=\"\",\"\",INDEX([1]ITS_COMM_DEV_MANUF!$A$2:$A$300,MATCH(1,([1]ITS_COMM_DEV_MANUF!$B$2:$B$300='Radio (Desc)'!$O137)*([1]ITS_COMM_DEV_MANUF!$C$2:$C$300=\"RADIO\"),0),0))","v":""},{"$f":"IF('Radio (Desc)'!P137=\"\",\"\",INDEX([1]ITS_COMM_DEV_MODEL!$A$2:$A$500,MATCH(1,([1]ITS_COMM_DEV_MODEL!$C$2:$C$500='Radio (Desc)'!$O137)*([1]ITS_COMM_DEV_MODEL!$D$2:$D$500=\"RADIO\")*([1]ITS_COMM_DEV_MODEL!$E$2:$E$500='Radio (Desc)'!$P137),0),0))","v":""},{"$f":"IF('Radio (Desc)'!Q137=\"\",\"\",'Radio (Desc)'!Q137)","v":""},{"$f":"IF('Radio (Desc)'!R137=\"\",\"\",'Radio (Desc)'!R137)","v":""},{"$f":"IF('Radio (Desc)'!S137=\"\",\"\",'Radio (Desc)'!S137)","v":""},{"$f":"IF('Radio (Desc)'!T137=\"\",\"\",'Radio (Desc)'!T137)","v":""},{"$f":"IF('Radio (Desc)'!U137=\"\",\"\",INDEX([1]DEV_INPUT_VOLTAGE!$A$2:$A$100,MATCH('Radio (Desc)'!$U137,[1]!MASTER_DEV_INPUT_VOLTAGE_DESC[#Data],0),0))","v":""},{"$f":"IF('Radio (Desc)'!V137=\"\",\"\",'Radio (Desc)'!V137)","v":""},{"$f":"IF('Radio (Desc)'!W137=\"\",\"\",'Radio (Desc)'!W137)","v":""},{"$f":"IF('Radio (Desc)'!X137=\"\",\"\",'Radio (Desc)'!X137)","v":""},{"$f":"IF('Radio (Desc)'!Y137=\"\",\"\",INDEX([1]FIBER_CONN_TYPE!$A$2:$A$100,MATCH('Radio (Desc)'!$Y137,[1]!MASTER_FIBER_CONN_TYPE_DESC[#Data],0),0))","v":""}]
[{"$f":"IF('Radio (Desc)'!A138=\"\",\"\",'Radio (Desc)'!A138)","v":""},{"$f":"IF('Radio (Desc)'!C138=\"\",\"\",\"2029\")","v":""},{"$f":"IF('Radio (Desc)'!C138=\"\",\"\",'Radio (Desc)'!C138)","v":""},{"$f":"IF('Radio (Desc)'!E138=\"\",\"\",\"RADIO\")","v":""},{"$f":"IF('Radio (Desc)'!E138=\"\",\"\",INDEX([1]RADIO_TYPE!$A$2:$A$100,MATCH('Radio (Desc)'!$E138,[1]!MASTER_RADIO_TYPE_DESC[#Data],0),0))","v":""},{"$f":"IF('Radio (Desc)'!F138=\"\",\"\",'Radio (Desc)'!F138)","v":""},{"$f":"IF('Radio (Desc)'!G138=\"\",\"\",INDEX([1]RADIO_FREQ!$A$2:$A$500,MATCH('Radio (Desc)'!$G138,[1]!MASTER_RADIO_FREQ_DESC[#Data],0),0))","v":""},{"$f":"IF('Radio (Desc)'!H138=\"\",\"\",'Radio (Desc)'!H138)","v":""},{"$f":"IF('Radio (Desc)'!I138=\"\",\"\",INDEX([1]RADIO_FREQ!$A$2:$A$500,MATCH('Radio (Desc)'!$I138,[1]!MASTER_RADIO_FREQ_DESC[#Data],0),0))","v":""},{"$f":"IF('Radio (Desc)'!J138=\"\",\"\",'Radio (Desc)'!J138)","v":""},{"$f":"IF('Radio (Desc)'!K138=\"\",\"\",INDEX([1]CALL_SIGN!$A$2:$A$600,MATCH('Radio (Desc)'!$K138,[1]!MASTER_CALL_SIGN_DESC[#Data],0),0))","v":""},{"$f":"IF('Radio (Desc)'!L138=\"\",\"\",INDEX([1]STATION_CLASS!$A$2:$A$100,MATCH('Radio (Desc)'!$L138,[1]!MASTER_STATION_CLASS_DESC[#Data],0),0))","v":""},{"$f":"IF('Radio (Desc)'!M138=\"\",\"\",'Radio (Desc)'!M138)","v":""},{"$f":"IF('Radio (Desc)'!N138=\"\",\"\",'Radio (Desc)'!N138)","v":""},{"$f":"IF('Radio (Desc)'!O138=\"\",\"\",INDEX([1]ITS_COMM_DEV_MANUF!$A$2:$A$300,MATCH(1,([1]ITS_COMM_DEV_MANUF!$B$2:$B$300='Radio (Desc)'!$O138)*([1]ITS_COMM_DEV_MANUF!$C$2:$C$300=\"RADIO\"),0),0))","v":""},{"$f":"IF('Radio (Desc)'!P138=\"\",\"\",INDEX([1]ITS_COMM_DEV_MODEL!$A$2:$A$500,MATCH(1,([1]ITS_COMM_DEV_MODEL!$C$2:$C$500='Radio (Desc)'!$O138)*([1]ITS_COMM_DEV_MODEL!$D$2:$D$500=\"RADIO\")*([1]ITS_COMM_DEV_MODEL!$E$2:$E$500='Radio (Desc)'!$P138),0),0))","v":""},{"$f":"IF('Radio (Desc)'!Q138=\"\",\"\",'Radio (Desc)'!Q138)","v":""},{"$f":"IF('Radio (Desc)'!R138=\"\",\"\",'Radio (Desc)'!R138)","v":""},{"$f":"IF('Radio (Desc)'!S138=\"\",\"\",'Radio (Desc)'!S138)","v":""},{"$f":"IF('Radio (Desc)'!T138=\"\",\"\",'Radio (Desc)'!T138)","v":""},{"$f":"IF('Radio (Desc)'!U138=\"\",\"\",INDEX([1]DEV_INPUT_VOLTAGE!$A$2:$A$100,MATCH('Radio (Desc)'!$U138,[1]!MASTER_DEV_INPUT_VOLTAGE_DESC[#Data],0),0))","v":""},{"$f":"IF('Radio (Desc)'!V138=\"\",\"\",'Radio (Desc)'!V138)","v":""},{"$f":"IF('Radio (Desc)'!W138=\"\",\"\",'Radio (Desc)'!W138)","v":""},{"$f":"IF('Radio (Desc)'!X138=\"\",\"\",'Radio (Desc)'!X138)","v":""},{"$f":"IF('Radio (Desc)'!Y138=\"\",\"\",INDEX([1]FIBER_CONN_TYPE!$A$2:$A$100,MATCH('Radio (Desc)'!$Y138,[1]!MASTER_FIBER_CONN_TYPE_DESC[#Data],0),0))","v":""}]
[{"$f":"IF('Radio (Desc)'!A139=\"\",\"\",'Radio (Desc)'!A139)","v":""},{"$f":"IF('Radio (Desc)'!C139=\"\",\"\",\"2029\")","v":""},{"$f":"IF('Radio (Desc)'!C139=\"\",\"\",'Radio (Desc)'!C139)","v":""},{"$f":"IF('Radio (Desc)'!E139=\"\",\"\",\"RADIO\")","v":""},{"$f":"IF('Radio (Desc)'!E139=\"\",\"\",INDEX([1]RADIO_TYPE!$A$2:$A$100,MATCH('Radio (Desc)'!$E139,[1]!MASTER_RADIO_TYPE_DESC[#Data],0),0))","v":""},{"$f":"IF('Radio (Desc)'!F139=\"\",\"\",'Radio (Desc)'!F139)","v":""},{"$f":"IF('Radio (Desc)'!G139=\"\",\"\",INDEX([1]RADIO_FREQ!$A$2:$A$500,MATCH('Radio (Desc)'!$G139,[1]!MASTER_RADIO_FREQ_DESC[#Data],0),0))","v":""},{"$f":"IF('Radio (Desc)'!H139=\"\",\"\",'Radio (Desc)'!H139)","v":""},{"$f":"IF('Radio (Desc)'!I139=\"\",\"\",INDEX([1]RADIO_FREQ!$A$2:$A$500,MATCH('Radio (Desc)'!$I139,[1]!MASTER_RADIO_FREQ_DESC[#Data],0),0))","v":""},{"$f":"IF('Radio (Desc)'!J139=\"\",\"\",'Radio (Desc)'!J139)","v":""},{"$f":"IF('Radio (Desc)'!K139=\"\",\"\",INDEX([1]CALL_SIGN!$A$2:$A$600,MATCH('Radio (Desc)'!$K139,[1]!MASTER_CALL_SIGN_DESC[#Data],0),0))","v":""},{"$f":"IF('Radio (Desc)'!L139=\"\",\"\",INDEX([1]STATION_CLASS!$A$2:$A$100,MATCH('Radio (Desc)'!$L139,[1]!MASTER_STATION_CLASS_DESC[#Data],0),0))","v":""},{"$f":"IF('Radio (Desc)'!M139=\"\",\"\",'Radio (Desc)'!M139)","v":""},{"$f":"IF('Radio (Desc)'!N139=\"\",\"\",'Radio (Desc)'!N139)","v":""},{"$f":"IF('Radio (Desc)'!O139=\"\",\"\",INDEX([1]ITS_COMM_DEV_MANUF!$A$2:$A$300,MATCH(1,([1]ITS_COMM_DEV_MANUF!$B$2:$B$300='Radio (Desc)'!$O139)*([1]ITS_COMM_DEV_MANUF!$C$2:$C$300=\"RADIO\"),0),0))","v":""},{"$f":"IF('Radio (Desc)'!P139=\"\",\"\",INDEX([1]ITS_COMM_DEV_MODEL!$A$2:$A$500,MATCH(1,([1]ITS_COMM_DEV_MODEL!$C$2:$C$500='Radio (Desc)'!$O139)*([1]ITS_COMM_DEV_MODEL!$D$2:$D$500=\"RADIO\")*([1]ITS_COMM_DEV_MODEL!$E$2:$E$500='Radio (Desc)'!$P139),0),0))","v":""},{"$f":"IF('Radio (Desc)'!Q139=\"\",\"\",'Radio (Desc)'!Q139)","v":""},{"$f":"IF('Radio (Desc)'!R139=\"\",\"\",'Radio (Desc)'!R139)","v":""},{"$f":"IF('Radio (Desc)'!S139=\"\",\"\",'Radio (Desc)'!S139)","v":""},{"$f":"IF('Radio (Desc)'!T139=\"\",\"\",'Radio (Desc)'!T139)","v":""},{"$f":"IF('Radio (Desc)'!U139=\"\",\"\",INDEX([1]DEV_INPUT_VOLTAGE!$A$2:$A$100,MATCH('Radio (Desc)'!$U139,[1]!MASTER_DEV_INPUT_VOLTAGE_DESC[#Data],0),0))","v":""},{"$f":"IF('Radio (Desc)'!V139=\"\",\"\",'Radio (Desc)'!V139)","v":""},{"$f":"IF('Radio (Desc)'!W139=\"\",\"\",'Radio (Desc)'!W139)","v":""},{"$f":"IF('Radio (Desc)'!X139=\"\",\"\",'Radio (Desc)'!X139)","v":""},{"$f":"IF('Radio (Desc)'!Y139=\"\",\"\",INDEX([1]FIBER_CONN_TYPE!$A$2:$A$100,MATCH('Radio (Desc)'!$Y139,[1]!MASTER_FIBER_CONN_TYPE_DESC[#Data],0),0))","v":""}]
[{"$f":"IF('Radio (Desc)'!A140=\"\",\"\",'Radio (Desc)'!A140)","v":""},{"$f":"IF('Radio (Desc)'!C140=\"\",\"\",\"2029\")","v":""},{"$f":"IF('Radio (Desc)'!C140=\"\",\"\",'Radio (Desc)'!C140)","v":""},{"$f":"IF('Radio (Desc)'!E140=\"\",\"\",\"RADIO\")","v":""},{"$f":"IF('Radio (Desc)'!E140=\"\",\"\",INDEX([1]RADIO_TYPE!$A$2:$A$100,MATCH('Radio (Desc)'!$E140,[1]!MASTER_RADIO_TYPE_DESC[#Data],0),0))","v":""},{"$f":"IF('Radio (Desc)'!F140=\"\",\"\",'Radio (Desc)'!F140)","v":""},{"$f":"IF('Radio (Desc)'!G140=\"\",\"\",INDEX([1]RADIO_FREQ!$A$2:$A$500,MATCH('Radio (Desc)'!$G140,[1]!MASTER_RADIO_FREQ_DESC[#Data],0),0))","v":""},{"$f":"IF('Radio (Desc)'!H140=\"\",\"\",'Radio (Desc)'!H140)","v":""},{"$f":"IF('Radio (Desc)'!I140=\"\",\"\",INDEX([1]RADIO_FREQ!$A$2:$A$500,MATCH('Radio (Desc)'!$I140,[1]!MASTER_RADIO_FREQ_DESC[#Data],0),0))","v":""},{"$f":"IF('Radio (Desc)'!J140=\"\",\"\",'Radio (Desc)'!J140)","v":""},{"$f":"IF('Radio (Desc)'!K140=\"\",\"\",INDEX([1]CALL_SIGN!$A$2:$A$600,MATCH('Radio (Desc)'!$K140,[1]!MASTER_CALL_SIGN_DESC[#Data],0),0))","v":""},{"$f":"IF('Radio (Desc)'!L140=\"\",\"\",INDEX([1]STATION_CLASS!$A$2:$A$100,MATCH('Radio (Desc)'!$L140,[1]!MASTER_STATION_CLASS_DESC[#Data],0),0))","v":""},{"$f":"IF('Radio (Desc)'!M140=\"\",\"\",'Radio (Desc)'!M140)","v":""},{"$f":"IF('Radio (Desc)'!N140=\"\",\"\",'Radio (Desc)'!N140)","v":""},{"$f":"IF('Radio (Desc)'!O140=\"\",\"\",INDEX([1]ITS_COMM_DEV_MANUF!$A$2:$A$300,MATCH(1,([1]ITS_COMM_DEV_MANUF!$B$2:$B$300='Radio (Desc)'!$O140)*([1]ITS_COMM_DEV_MANUF!$C$2:$C$300=\"RADIO\"),0),0))","v":""},{"$f":"IF('Radio (Desc)'!P140=\"\",\"\",INDEX([1]ITS_COMM_DEV_MODEL!$A$2:$A$500,MATCH(1,([1]ITS_COMM_DEV_MODEL!$C$2:$C$500='Radio (Desc)'!$O140)*([1]ITS_COMM_DEV_MODEL!$D$2:$D$500=\"RADIO\")*([1]ITS_COMM_DEV_MODEL!$E$2:$E$500='Radio (Desc)'!$P140),0),0))","v":""},{"$f":"IF('Radio (Desc)'!Q140=\"\",\"\",'Radio (Desc)'!Q140)","v":""},{"$f":"IF('Radio (Desc)'!R140=\"\",\"\",'Radio (Desc)'!R140)","v":""},{"$f":"IF('Radio (Desc)'!S140=\"\",\"\",'Radio (Desc)'!S140)","v":""},{"$f":"IF('Radio (Desc)'!T140=\"\",\"\",'Radio (Desc)'!T140)","v":""},{"$f":"IF('Radio (Desc)'!U140=\"\",\"\",INDEX([1]DEV_INPUT_VOLTAGE!$A$2:$A$100,MATCH('Radio (Desc)'!$U140,[1]!MASTER_DEV_INPUT_VOLTAGE_DESC[#Data],0),0))","v":""},{"$f":"IF('Radio (Desc)'!V140=\"\",\"\",'Radio (Desc)'!V140)","v":""},{"$f":"IF('Radio (Desc)'!W140=\"\",\"\",'Radio (Desc)'!W140)","v":""},{"$f":"IF('Radio (Desc)'!X140=\"\",\"\",'Radio (Desc)'!X140)","v":""},{"$f":"IF('Radio (Desc)'!Y140=\"\",\"\",INDEX([1]FIBER_CONN_TYPE!$A$2:$A$100,MATCH('Radio (Desc)'!$Y140,[1]!MASTER_FIBER_CONN_TYPE_DESC[#Data],0),0))","v":""}]
[{"$f":"IF('Radio (Desc)'!A141=\"\",\"\",'Radio (Desc)'!A141)","v":""},{"$f":"IF('Radio (Desc)'!C141=\"\",\"\",\"2029\")","v":""},{"$f":"IF('Radio (Desc)'!C141=\"\",\"\",'Radio (Desc)'!C141)","v":""},{"$f":"IF('Radio (Desc)'!E141=\"\",\"\",\"RADIO\")","v":""},{"$f":"IF('Radio (Desc)'!E141=\"\",\"\",INDEX([1]RADIO_TYPE!$A$2:$A$100,MATCH('Radio (Desc)'!$E141,[1]!MASTER_RADIO_TYPE_DESC[#Data],0),0))","v":""},{"$f":"IF('Radio (Desc)'!F141=\"\",\"\",'Radio (Desc)'!F141)","v":""},{"$f":"IF('Radio (Desc)'!G141=\"\",\"\",INDEX([1]RADIO_FREQ!$A$2:$A$500,MATCH('Radio (Desc)'!$G141,[1]!MASTER_RADIO_FREQ_DESC[#Data],0),0))","v":""},{"$f":"IF('Radio (Desc)'!H141=\"\",\"\",'Radio (Desc)'!H141)","v":""},{"$f":"IF('Radio (Desc)'!I141=\"\",\"\",INDEX([1]RADIO_FREQ!$A$2:$A$500,MATCH('Radio (Desc)'!$I141,[1]!MASTER_RADIO_FREQ_DESC[#Data],0),0))","v":""},{"$f":"IF('Radio (Desc)'!J141=\"\",\"\",'Radio (Desc)'!J141)","v":""},{"$f":"IF('Radio (Desc)'!K141=\"\",\"\",INDEX([1]CALL_SIGN!$A$2:$A$600,MATCH('Radio (Desc)'!$K141,[1]!MASTER_CALL_SIGN_DESC[#Data],0),0))","v":""},{"$f":"IF('Radio (Desc)'!L141=\"\",\"\",INDEX([1]STATION_CLASS!$A$2:$A$100,MATCH('Radio (Desc)'!$L141,[1]!MASTER_STATION_CLASS_DESC[#Data],0),0))","v":""},{"$f":"IF('Radio (Desc)'!M141=\"\",\"\",'Radio (Desc)'!M141)","v":""},{"$f":"IF('Radio (Desc)'!N141=\"\",\"\",'Radio (Desc)'!N141)","v":""},{"$f":"IF('Radio (Desc)'!O141=\"\",\"\",INDEX([1]ITS_COMM_DEV_MANUF!$A$2:$A$300,MATCH(1,([1]ITS_COMM_DEV_MANUF!$B$2:$B$300='Radio (Desc)'!$O141)*([1]ITS_COMM_DEV_MANUF!$C$2:$C$300=\"RADIO\"),0),0))","v":""},{"$f":"IF('Radio (Desc)'!P141=\"\",\"\",INDEX([1]ITS_COMM_DEV_MODEL!$A$2:$A$500,MATCH(1,([1]ITS_COMM_DEV_MODEL!$C$2:$C$500='Radio (Desc)'!$O141)*([1]ITS_COMM_DEV_MODEL!$D$2:$D$500=\"RADIO\")*([1]ITS_COMM_DEV_MODEL!$E$2:$E$500='Radio (Desc)'!$P141),0),0))","v":""},{"$f":"IF('Radio (Desc)'!Q141=\"\",\"\",'Radio (Desc)'!Q141)","v":""},{"$f":"IF('Radio (Desc)'!R141=\"\",\"\",'Radio (Desc)'!R141)","v":""},{"$f":"IF('Radio (Desc)'!S141=\"\",\"\",'Radio (Desc)'!S141)","v":""},{"$f":"IF('Radio (Desc)'!T141=\"\",\"\",'Radio (Desc)'!T141)","v":""},{"$f":"IF('Radio (Desc)'!U141=\"\",\"\",INDEX([1]DEV_INPUT_VOLTAGE!$A$2:$A$100,MATCH('Radio (Desc)'!$U141,[1]!MASTER_DEV_INPUT_VOLTAGE_DESC[#Data],0),0))","v":""},{"$f":"IF('Radio (Desc)'!V141=\"\",\"\",'Radio (Desc)'!V141)","v":""},{"$f":"IF('Radio (Desc)'!W141=\"\",\"\",'Radio (Desc)'!W141)","v":""},{"$f":"IF('Radio (Desc)'!X141=\"\",\"\",'Radio (Desc)'!X141)","v":""},{"$f":"IF('Radio (Desc)'!Y141=\"\",\"\",INDEX([1]FIBER_CONN_TYPE!$A$2:$A$100,MATCH('Radio (Desc)'!$Y141,[1]!MASTER_FIBER_CONN_TYPE_DESC[#Data],0),0))","v":""}]
[{"$f":"IF('Radio (Desc)'!A142=\"\",\"\",'Radio (Desc)'!A142)","v":""},{"$f":"IF('Radio (Desc)'!C142=\"\",\"\",\"2029\")","v":""},{"$f":"IF('Radio (Desc)'!C142=\"\",\"\",'Radio (Desc)'!C142)","v":""},{"$f":"IF('Radio (Desc)'!E142=\"\",\"\",\"RADIO\")","v":""},{"$f":"IF('Radio (Desc)'!E142=\"\",\"\",INDEX([1]RADIO_TYPE!$A$2:$A$100,MATCH('Radio (Desc)'!$E142,[1]!MASTER_RADIO_TYPE_DESC[#Data],0),0))","v":""},{"$f":"IF('Radio (Desc)'!F142=\"\",\"\",'Radio (Desc)'!F142)","v":""},{"$f":"IF('Radio (Desc)'!G142=\"\",\"\",INDEX([1]RADIO_FREQ!$A$2:$A$500,MATCH('Radio (Desc)'!$G142,[1]!MASTER_RADIO_FREQ_DESC[#Data],0),0))","v":""},{"$f":"IF('Radio (Desc)'!H142=\"\",\"\",'Radio (Desc)'!H142)","v":""},{"$f":"IF('Radio (Desc)'!I142=\"\",\"\",INDEX([1]RADIO_FREQ!$A$2:$A$500,MATCH('Radio (Desc)'!$I142,[1]!MASTER_RADIO_FREQ_DESC[#Data],0),0))","v":""},{"$f":"IF('Radio (Desc)'!J142=\"\",\"\",'Radio (Desc)'!J142)","v":""},{"$f":"IF('Radio (Desc)'!K142=\"\",\"\",INDEX([1]CALL_SIGN!$A$2:$A$600,MATCH('Radio (Desc)'!$K142,[1]!MASTER_CALL_SIGN_DESC[#Data],0),0))","v":""},{"$f":"IF('Radio (Desc)'!L142=\"\",\"\",INDEX([1]STATION_CLASS!$A$2:$A$100,MATCH('Radio (Desc)'!$L142,[1]!MASTER_STATION_CLASS_DESC[#Data],0),0))","v":""},{"$f":"IF('Radio (Desc)'!M142=\"\",\"\",'Radio (Desc)'!M142)","v":""},{"$f":"IF('Radio (Desc)'!N142=\"\",\"\",'Radio (Desc)'!N142)","v":""},{"$f":"IF('Radio (Desc)'!O142=\"\",\"\",INDEX([1]ITS_COMM_DEV_MANUF!$A$2:$A$300,MATCH(1,([1]ITS_COMM_DEV_MANUF!$B$2:$B$300='Radio (Desc)'!$O142)*([1]ITS_COMM_DEV_MANUF!$C$2:$C$300=\"RADIO\"),0),0))","v":""},{"$f":"IF('Radio (Desc)'!P142=\"\",\"\",INDEX([1]ITS_COMM_DEV_MODEL!$A$2:$A$500,MATCH(1,([1]ITS_COMM_DEV_MODEL!$C$2:$C$500='Radio (Desc)'!$O142)*([1]ITS_COMM_DEV_MODEL!$D$2:$D$500=\"RADIO\")*([1]ITS_COMM_DEV_MODEL!$E$2:$E$500='Radio (Desc)'!$P142),0),0))","v":""},{"$f":"IF('Radio (Desc)'!Q142=\"\",\"\",'Radio (Desc)'!Q142)","v":""},{"$f":"IF('Radio (Desc)'!R142=\"\",\"\",'Radio (Desc)'!R142)","v":""},{"$f":"IF('Radio (Desc)'!S142=\"\",\"\",'Radio (Desc)'!S142)","v":""},{"$f":"IF('Radio (Desc)'!T142=\"\",\"\",'Radio (Desc)'!T142)","v":""},{"$f":"IF('Radio (Desc)'!U142=\"\",\"\",INDEX([1]DEV_INPUT_VOLTAGE!$A$2:$A$100,MATCH('Radio (Desc)'!$U142,[1]!MASTER_DEV_INPUT_VOLTAGE_DESC[#Data],0),0))","v":""},{"$f":"IF('Radio (Desc)'!V142=\"\",\"\",'Radio (Desc)'!V142)","v":""},{"$f":"IF('Radio (Desc)'!W142=\"\",\"\",'Radio (Desc)'!W142)","v":""},{"$f":"IF('Radio (Desc)'!X142=\"\",\"\",'Radio (Desc)'!X142)","v":""},{"$f":"IF('Radio (Desc)'!Y142=\"\",\"\",INDEX([1]FIBER_CONN_TYPE!$A$2:$A$100,MATCH('Radio (Desc)'!$Y142,[1]!MASTER_FIBER_CONN_TYPE_DESC[#Data],0),0))","v":""}]
[{"$f":"IF('Radio (Desc)'!A143=\"\",\"\",'Radio (Desc)'!A143)","v":""},{"$f":"IF('Radio (Desc)'!C143=\"\",\"\",\"2029\")","v":""},{"$f":"IF('Radio (Desc)'!C143=\"\",\"\",'Radio (Desc)'!C143)","v":""},{"$f":"IF('Radio (Desc)'!E143=\"\",\"\",\"RADIO\")","v":""},{"$f":"IF('Radio (Desc)'!E143=\"\",\"\",INDEX([1]RADIO_TYPE!$A$2:$A$100,MATCH('Radio (Desc)'!$E143,[1]!MASTER_RADIO_TYPE_DESC[#Data],0),0))","v":""},{"$f":"IF('Radio (Desc)'!F143=\"\",\"\",'Radio (Desc)'!F143)","v":""},{"$f":"IF('Radio (Desc)'!G143=\"\",\"\",INDEX([1]RADIO_FREQ!$A$2:$A$500,MATCH('Radio (Desc)'!$G143,[1]!MASTER_RADIO_FREQ_DESC[#Data],0),0))","v":""},{"$f":"IF('Radio (Desc)'!H143=\"\",\"\",'Radio (Desc)'!H143)","v":""},{"$f":"IF('Radio (Desc)'!I143=\"\",\"\",INDEX([1]RADIO_FREQ!$A$2:$A$500,MATCH('Radio (Desc)'!$I143,[1]!MASTER_RADIO_FREQ_DESC[#Data],0),0))","v":""},{"$f":"IF('Radio (Desc)'!J143=\"\",\"\",'Radio (Desc)'!J143)","v":""},{"$f":"IF('Radio (Desc)'!K143=\"\",\"\",INDEX([1]CALL_SIGN!$A$2:$A$600,MATCH('Radio (Desc)'!$K143,[1]!MASTER_CALL_SIGN_DESC[#Data],0),0))","v":""},{"$f":"IF('Radio (Desc)'!L143=\"\",\"\",INDEX([1]STATION_CLASS!$A$2:$A$100,MATCH('Radio (Desc)'!$L143,[1]!MASTER_STATION_CLASS_DESC[#Data],0),0))","v":""},{"$f":"IF('Radio (Desc)'!M143=\"\",\"\",'Radio (Desc)'!M143)","v":""},{"$f":"IF('Radio (Desc)'!N143=\"\",\"\",'Radio (Desc)'!N143)","v":""},{"$f":"IF('Radio (Desc)'!O143=\"\",\"\",INDEX([1]ITS_COMM_DEV_MANUF!$A$2:$A$300,MATCH(1,([1]ITS_COMM_DEV_MANUF!$B$2:$B$300='Radio (Desc)'!$O143)*([1]ITS_COMM_DEV_MANUF!$C$2:$C$300=\"RADIO\"),0),0))","v":""},{"$f":"IF('Radio (Desc)'!P143=\"\",\"\",INDEX([1]ITS_COMM_DEV_MODEL!$A$2:$A$500,MATCH(1,([1]ITS_COMM_DEV_MODEL!$C$2:$C$500='Radio (Desc)'!$O143)*([1]ITS_COMM_DEV_MODEL!$D$2:$D$500=\"RADIO\")*([1]ITS_COMM_DEV_MODEL!$E$2:$E$500='Radio (Desc)'!$P143),0),0))","v":""},{"$f":"IF('Radio (Desc)'!Q143=\"\",\"\",'Radio (Desc)'!Q143)","v":""},{"$f":"IF('Radio (Desc)'!R143=\"\",\"\",'Radio (Desc)'!R143)","v":""},{"$f":"IF('Radio (Desc)'!S143=\"\",\"\",'Radio (Desc)'!S143)","v":""},{"$f":"IF('Radio (Desc)'!T143=\"\",\"\",'Radio (Desc)'!T143)","v":""},{"$f":"IF('Radio (Desc)'!U143=\"\",\"\",INDEX([1]DEV_INPUT_VOLTAGE!$A$2:$A$100,MATCH('Radio (Desc)'!$U143,[1]!MASTER_DEV_INPUT_VOLTAGE_DESC[#Data],0),0))","v":""},{"$f":"IF('Radio (Desc)'!V143=\"\",\"\",'Radio (Desc)'!V143)","v":""},{"$f":"IF('Radio (Desc)'!W143=\"\",\"\",'Radio (Desc)'!W143)","v":""},{"$f":"IF('Radio (Desc)'!X143=\"\",\"\",'Radio (Desc)'!X143)","v":""},{"$f":"IF('Radio (Desc)'!Y143=\"\",\"\",INDEX([1]FIBER_CONN_TYPE!$A$2:$A$100,MATCH('Radio (Desc)'!$Y143,[1]!MASTER_FIBER_CONN_TYPE_DESC[#Data],0),0))","v":""}]
[{"$f":"IF('Radio (Desc)'!A144=\"\",\"\",'Radio (Desc)'!A144)","v":""},{"$f":"IF('Radio (Desc)'!C144=\"\",\"\",\"2029\")","v":""},{"$f":"IF('Radio (Desc)'!C144=\"\",\"\",'Radio (Desc)'!C144)","v":""},{"$f":"IF('Radio (Desc)'!E144=\"\",\"\",\"RADIO\")","v":""},{"$f":"IF('Radio (Desc)'!E144=\"\",\"\",INDEX([1]RADIO_TYPE!$A$2:$A$100,MATCH('Radio (Desc)'!$E144,[1]!MASTER_RADIO_TYPE_DESC[#Data],0),0))","v":""},{"$f":"IF('Radio (Desc)'!F144=\"\",\"\",'Radio (Desc)'!F144)","v":""},{"$f":"IF('Radio (Desc)'!G144=\"\",\"\",INDEX([1]RADIO_FREQ!$A$2:$A$500,MATCH('Radio (Desc)'!$G144,[1]!MASTER_RADIO_FREQ_DESC[#Data],0),0))","v":""},{"$f":"IF('Radio (Desc)'!H144=\"\",\"\",'Radio (Desc)'!H144)","v":""},{"$f":"IF('Radio (Desc)'!I144=\"\",\"\",INDEX([1]RADIO_FREQ!$A$2:$A$500,MATCH('Radio (Desc)'!$I144,[1]!MASTER_RADIO_FREQ_DESC[#Data],0),0))","v":""},{"$f":"IF('Radio (Desc)'!J144=\"\",\"\",'Radio (Desc)'!J144)","v":""},{"$f":"IF('Radio (Desc)'!K144=\"\",\"\",INDEX([1]CALL_SIGN!$A$2:$A$600,MATCH('Radio (Desc)'!$K144,[1]!MASTER_CALL_SIGN_DESC[#Data],0),0))","v":""},{"$f":"IF('Radio (Desc)'!L144=\"\",\"\",INDEX([1]STATION_CLASS!$A$2:$A$100,MATCH('Radio (Desc)'!$L144,[1]!MASTER_STATION_CLASS_DESC[#Data],0),0))","v":""},{"$f":"IF('Radio (Desc)'!M144=\"\",\"\",'Radio (Desc)'!M144)","v":""},{"$f":"IF('Radio (Desc)'!N144=\"\",\"\",'Radio (Desc)'!N144)","v":""},{"$f":"IF('Radio (Desc)'!O144=\"\",\"\",INDEX([1]ITS_COMM_DEV_MANUF!$A$2:$A$300,MATCH(1,([1]ITS_COMM_DEV_MANUF!$B$2:$B$300='Radio (Desc)'!$O144)*([1]ITS_COMM_DEV_MANUF!$C$2:$C$300=\"RADIO\"),0),0))","v":""},{"$f":"IF('Radio (Desc)'!P144=\"\",\"\",INDEX([1]ITS_COMM_DEV_MODEL!$A$2:$A$500,MATCH(1,([1]ITS_COMM_DEV_MODEL!$C$2:$C$500='Radio (Desc)'!$O144)*([1]ITS_COMM_DEV_MODEL!$D$2:$D$500=\"RADIO\")*([1]ITS_COMM_DEV_MODEL!$E$2:$E$500='Radio (Desc)'!$P144),0),0))","v":""},{"$f":"IF('Radio (Desc)'!Q144=\"\",\"\",'Radio (Desc)'!Q144)","v":""},{"$f":"IF('Radio (Desc)'!R144=\"\",\"\",'Radio (Desc)'!R144)","v":""},{"$f":"IF('Radio (Desc)'!S144=\"\",\"\",'Radio (Desc)'!S144)","v":""},{"$f":"IF('Radio (Desc)'!T144=\"\",\"\",'Radio (Desc)'!T144)","v":""},{"$f":"IF('Radio (Desc)'!U144=\"\",\"\",INDEX([1]DEV_INPUT_VOLTAGE!$A$2:$A$100,MATCH('Radio (Desc)'!$U144,[1]!MASTER_DEV_INPUT_VOLTAGE_DESC[#Data],0),0))","v":""},{"$f":"IF('Radio (Desc)'!V144=\"\",\"\",'Radio (Desc)'!V144)","v":""},{"$f":"IF('Radio (Desc)'!W144=\"\",\"\",'Radio (Desc)'!W144)","v":""},{"$f":"IF('Radio (Desc)'!X144=\"\",\"\",'Radio (Desc)'!X144)","v":""},{"$f":"IF('Radio (Desc)'!Y144=\"\",\"\",INDEX([1]FIBER_CONN_TYPE!$A$2:$A$100,MATCH('Radio (Desc)'!$Y144,[1]!MASTER_FIBER_CONN_TYPE_DESC[#Data],0),0))","v":""}]
[{"$f":"IF('Radio (Desc)'!A145=\"\",\"\",'Radio (Desc)'!A145)","v":""},{"$f":"IF('Radio (Desc)'!C145=\"\",\"\",\"2029\")","v":""},{"$f":"IF('Radio (Desc)'!C145=\"\",\"\",'Radio (Desc)'!C145)","v":""},{"$f":"IF('Radio (Desc)'!E145=\"\",\"\",\"RADIO\")","v":""},{"$f":"IF('Radio (Desc)'!E145=\"\",\"\",INDEX([1]RADIO_TYPE!$A$2:$A$100,MATCH('Radio (Desc)'!$E145,[1]!MASTER_RADIO_TYPE_DESC[#Data],0),0))","v":""},{"$f":"IF('Radio (Desc)'!F145=\"\",\"\",'Radio (Desc)'!F145)","v":""},{"$f":"IF('Radio (Desc)'!G145=\"\",\"\",INDEX([1]RADIO_FREQ!$A$2:$A$500,MATCH('Radio (Desc)'!$G145,[1]!MASTER_RADIO_FREQ_DESC[#Data],0),0))","v":""},{"$f":"IF('Radio (Desc)'!H145=\"\",\"\",'Radio (Desc)'!H145)","v":""},{"$f":"IF('Radio (Desc)'!I145=\"\",\"\",INDEX([1]RADIO_FREQ!$A$2:$A$500,MATCH('Radio (Desc)'!$I145,[1]!MASTER_RADIO_FREQ_DESC[#Data],0),0))","v":""},{"$f":"IF('Radio (Desc)'!J145=\"\",\"\",'Radio (Desc)'!J145)","v":""},{"$f":"IF('Radio (Desc)'!K145=\"\",\"\",INDEX([1]CALL_SIGN!$A$2:$A$600,MATCH('Radio (Desc)'!$K145,[1]!MASTER_CALL_SIGN_DESC[#Data],0),0))","v":""},{"$f":"IF('Radio (Desc)'!L145=\"\",\"\",INDEX([1]STATION_CLASS!$A$2:$A$100,MATCH('Radio (Desc)'!$L145,[1]!MASTER_STATION_CLASS_DESC[#Data],0),0))","v":""},{"$f":"IF('Radio (Desc)'!M145=\"\",\"\",'Radio (Desc)'!M145)","v":""},{"$f":"IF('Radio (Desc)'!N145=\"\",\"\",'Radio (Desc)'!N145)","v":""},{"$f":"IF('Radio (Desc)'!O145=\"\",\"\",INDEX([1]ITS_COMM_DEV_MANUF!$A$2:$A$300,MATCH(1,([1]ITS_COMM_DEV_MANUF!$B$2:$B$300='Radio (Desc)'!$O145)*([1]ITS_COMM_DEV_MANUF!$C$2:$C$300=\"RADIO\"),0),0))","v":""},{"$f":"IF('Radio (Desc)'!P145=\"\",\"\",INDEX([1]ITS_COMM_DEV_MODEL!$A$2:$A$500,MATCH(1,([1]ITS_COMM_DEV_MODEL!$C$2:$C$500='Radio (Desc)'!$O145)*([1]ITS_COMM_DEV_MODEL!$D$2:$D$500=\"RADIO\")*([1]ITS_COMM_DEV_MODEL!$E$2:$E$500='Radio (Desc)'!$P145),0),0))","v":""},{"$f":"IF('Radio (Desc)'!Q145=\"\",\"\",'Radio (Desc)'!Q145)","v":""},{"$f":"IF('Radio (Desc)'!R145=\"\",\"\",'Radio (Desc)'!R145)","v":""},{"$f":"IF('Radio (Desc)'!S145=\"\",\"\",'Radio (Desc)'!S145)","v":""},{"$f":"IF('Radio (Desc)'!T145=\"\",\"\",'Radio (Desc)'!T145)","v":""},{"$f":"IF('Radio (Desc)'!U145=\"\",\"\",INDEX([1]DEV_INPUT_VOLTAGE!$A$2:$A$100,MATCH('Radio (Desc)'!$U145,[1]!MASTER_DEV_INPUT_VOLTAGE_DESC[#Data],0),0))","v":""},{"$f":"IF('Radio (Desc)'!V145=\"\",\"\",'Radio (Desc)'!V145)","v":""},{"$f":"IF('Radio (Desc)'!W145=\"\",\"\",'Radio (Desc)'!W145)","v":""},{"$f":"IF('Radio (Desc)'!X145=\"\",\"\",'Radio (Desc)'!X145)","v":""},{"$f":"IF('Radio (Desc)'!Y145=\"\",\"\",INDEX([1]FIBER_CONN_TYPE!$A$2:$A$100,MATCH('Radio (Desc)'!$Y145,[1]!MASTER_FIBER_CONN_TYPE_DESC[#Data],0),0))","v":""}]
[{"$f":"IF('Radio (Desc)'!A146=\"\",\"\",'Radio (Desc)'!A146)","v":""},{"$f":"IF('Radio (Desc)'!C146=\"\",\"\",\"2029\")","v":""},{"$f":"IF('Radio (Desc)'!C146=\"\",\"\",'Radio (Desc)'!C146)","v":""},{"$f":"IF('Radio (Desc)'!E146=\"\",\"\",\"RADIO\")","v":""},{"$f":"IF('Radio (Desc)'!E146=\"\",\"\",INDEX([1]RADIO_TYPE!$A$2:$A$100,MATCH('Radio (Desc)'!$E146,[1]!MASTER_RADIO_TYPE_DESC[#Data],0),0))","v":""},{"$f":"IF('Radio (Desc)'!F146=\"\",\"\",'Radio (Desc)'!F146)","v":""},{"$f":"IF('Radio (Desc)'!G146=\"\",\"\",INDEX([1]RADIO_FREQ!$A$2:$A$500,MATCH('Radio (Desc)'!$G146,[1]!MASTER_RADIO_FREQ_DESC[#Data],0),0))","v":""},{"$f":"IF('Radio (Desc)'!H146=\"\",\"\",'Radio (Desc)'!H146)","v":""},{"$f":"IF('Radio (Desc)'!I146=\"\",\"\",INDEX([1]RADIO_FREQ!$A$2:$A$500,MATCH('Radio (Desc)'!$I146,[1]!MASTER_RADIO_FREQ_DESC[#Data],0),0))","v":""},{"$f":"IF('Radio (Desc)'!J146=\"\",\"\",'Radio (Desc)'!J146)","v":""},{"$f":"IF('Radio (Desc)'!K146=\"\",\"\",INDEX([1]CALL_SIGN!$A$2:$A$600,MATCH('Radio (Desc)'!$K146,[1]!MASTER_CALL_SIGN_DESC[#Data],0),0))","v":""},{"$f":"IF('Radio (Desc)'!L146=\"\",\"\",INDEX([1]STATION_CLASS!$A$2:$A$100,MATCH('Radio (Desc)'!$L146,[1]!MASTER_STATION_CLASS_DESC[#Data],0),0))","v":""},{"$f":"IF('Radio (Desc)'!M146=\"\",\"\",'Radio (Desc)'!M146)","v":""},{"$f":"IF('Radio (Desc)'!N146=\"\",\"\",'Radio (Desc)'!N146)","v":""},{"$f":"IF('Radio (Desc)'!O146=\"\",\"\",INDEX([1]ITS_COMM_DEV_MANUF!$A$2:$A$300,MATCH(1,([1]ITS_COMM_DEV_MANUF!$B$2:$B$300='Radio (Desc)'!$O146)*([1]ITS_COMM_DEV_MANUF!$C$2:$C$300=\"RADIO\"),0),0))","v":""},{"$f":"IF('Radio (Desc)'!P146=\"\",\"\",INDEX([1]ITS_COMM_DEV_MODEL!$A$2:$A$500,MATCH(1,([1]ITS_COMM_DEV_MODEL!$C$2:$C$500='Radio (Desc)'!$O146)*([1]ITS_COMM_DEV_MODEL!$D$2:$D$500=\"RADIO\")*([1]ITS_COMM_DEV_MODEL!$E$2:$E$500='Radio (Desc)'!$P146),0),0))","v":""},{"$f":"IF('Radio (Desc)'!Q146=\"\",\"\",'Radio (Desc)'!Q146)","v":""},{"$f":"IF('Radio (Desc)'!R146=\"\",\"\",'Radio (Desc)'!R146)","v":""},{"$f":"IF('Radio (Desc)'!S146=\"\",\"\",'Radio (Desc)'!S146)","v":""},{"$f":"IF('Radio (Desc)'!T146=\"\",\"\",'Radio (Desc)'!T146)","v":""},{"$f":"IF('Radio (Desc)'!U146=\"\",\"\",INDEX([1]DEV_INPUT_VOLTAGE!$A$2:$A$100,MATCH('Radio (Desc)'!$U146,[1]!MASTER_DEV_INPUT_VOLTAGE_DESC[#Data],0),0))","v":""},{"$f":"IF('Radio (Desc)'!V146=\"\",\"\",'Radio (Desc)'!V146)","v":""},{"$f":"IF('Radio (Desc)'!W146=\"\",\"\",'Radio (Desc)'!W146)","v":""},{"$f":"IF('Radio (Desc)'!X146=\"\",\"\",'Radio (Desc)'!X146)","v":""},{"$f":"IF('Radio (Desc)'!Y146=\"\",\"\",INDEX([1]FIBER_CONN_TYPE!$A$2:$A$100,MATCH('Radio (Desc)'!$Y146,[1]!MASTER_FIBER_CONN_TYPE_DESC[#Data],0),0))","v":""}]
[{"$f":"IF('Radio (Desc)'!A147=\"\",\"\",'Radio (Desc)'!A147)","v":""},{"$f":"IF('Radio (Desc)'!C147=\"\",\"\",\"2029\")","v":""},{"$f":"IF('Radio (Desc)'!C147=\"\",\"\",'Radio (Desc)'!C147)","v":""},{"$f":"IF('Radio (Desc)'!E147=\"\",\"\",\"RADIO\")","v":""},{"$f":"IF('Radio (Desc)'!E147=\"\",\"\",INDEX([1]RADIO_TYPE!$A$2:$A$100,MATCH('Radio (Desc)'!$E147,[1]!MASTER_RADIO_TYPE_DESC[#Data],0),0))","v":""},{"$f":"IF('Radio (Desc)'!F147=\"\",\"\",'Radio (Desc)'!F147)","v":""},{"$f":"IF('Radio (Desc)'!G147=\"\",\"\",INDEX([1]RADIO_FREQ!$A$2:$A$500,MATCH('Radio (Desc)'!$G147,[1]!MASTER_RADIO_FREQ_DESC[#Data],0),0))","v":""},{"$f":"IF('Radio (Desc)'!H147=\"\",\"\",'Radio (Desc)'!H147)","v":""},{"$f":"IF('Radio (Desc)'!I147=\"\",\"\",INDEX([1]RADIO_FREQ!$A$2:$A$500,MATCH('Radio (Desc)'!$I147,[1]!MASTER_RADIO_FREQ_DESC[#Data],0),0))","v":""},{"$f":"IF('Radio (Desc)'!J147=\"\",\"\",'Radio (Desc)'!J147)","v":""},{"$f":"IF('Radio (Desc)'!K147=\"\",\"\",INDEX([1]CALL_SIGN!$A$2:$A$600,MATCH('Radio (Desc)'!$K147,[1]!MASTER_CALL_SIGN_DESC[#Data],0),0))","v":""},{"$f":"IF('Radio (Desc)'!L147=\"\",\"\",INDEX([1]STATION_CLASS!$A$2:$A$100,MATCH('Radio (Desc)'!$L147,[1]!MASTER_STATION_CLASS_DESC[#Data],0),0))","v":""},{"$f":"IF('Radio (Desc)'!M147=\"\",\"\",'Radio (Desc)'!M147)","v":""},{"$f":"IF('Radio (Desc)'!N147=\"\",\"\",'Radio (Desc)'!N147)","v":""},{"$f":"IF('Radio (Desc)'!O147=\"\",\"\",INDEX([1]ITS_COMM_DEV_MANUF!$A$2:$A$300,MATCH(1,([1]ITS_COMM_DEV_MANUF!$B$2:$B$300='Radio (Desc)'!$O147)*([1]ITS_COMM_DEV_MANUF!$C$2:$C$300=\"RADIO\"),0),0))","v":""},{"$f":"IF('Radio (Desc)'!P147=\"\",\"\",INDEX([1]ITS_COMM_DEV_MODEL!$A$2:$A$500,MATCH(1,([1]ITS_COMM_DEV_MODEL!$C$2:$C$500='Radio (Desc)'!$O147)*([1]ITS_COMM_DEV_MODEL!$D$2:$D$500=\"RADIO\")*([1]ITS_COMM_DEV_MODEL!$E$2:$E$500='Radio (Desc)'!$P147),0),0))","v":""},{"$f":"IF('Radio (Desc)'!Q147=\"\",\"\",'Radio (Desc)'!Q147)","v":""},{"$f":"IF('Radio (Desc)'!R147=\"\",\"\",'Radio (Desc)'!R147)","v":""},{"$f":"IF('Radio (Desc)'!S147=\"\",\"\",'Radio (Desc)'!S147)","v":""},{"$f":"IF('Radio (Desc)'!T147=\"\",\"\",'Radio (Desc)'!T147)","v":""},{"$f":"IF('Radio (Desc)'!U147=\"\",\"\",INDEX([1]DEV_INPUT_VOLTAGE!$A$2:$A$100,MATCH('Radio (Desc)'!$U147,[1]!MASTER_DEV_INPUT_VOLTAGE_DESC[#Data],0),0))","v":""},{"$f":"IF('Radio (Desc)'!V147=\"\",\"\",'Radio (Desc)'!V147)","v":""},{"$f":"IF('Radio (Desc)'!W147=\"\",\"\",'Radio (Desc)'!W147)","v":""},{"$f":"IF('Radio (Desc)'!X147=\"\",\"\",'Radio (Desc)'!X147)","v":""},{"$f":"IF('Radio (Desc)'!Y147=\"\",\"\",INDEX([1]FIBER_CONN_TYPE!$A$2:$A$100,MATCH('Radio (Desc)'!$Y147,[1]!MASTER_FIBER_CONN_TYPE_DESC[#Data],0),0))","v":""}]
[{"$f":"IF('Radio (Desc)'!A148=\"\",\"\",'Radio (Desc)'!A148)","v":""},{"$f":"IF('Radio (Desc)'!C148=\"\",\"\",\"2029\")","v":""},{"$f":"IF('Radio (Desc)'!C148=\"\",\"\",'Radio (Desc)'!C148)","v":""},{"$f":"IF('Radio (Desc)'!E148=\"\",\"\",\"RADIO\")","v":""},{"$f":"IF('Radio (Desc)'!E148=\"\",\"\",INDEX([1]RADIO_TYPE!$A$2:$A$100,MATCH('Radio (Desc)'!$E148,[1]!MASTER_RADIO_TYPE_DESC[#Data],0),0))","v":""},{"$f":"IF('Radio (Desc)'!F148=\"\",\"\",'Radio (Desc)'!F148)","v":""},{"$f":"IF('Radio (Desc)'!G148=\"\",\"\",INDEX([1]RADIO_FREQ!$A$2:$A$500,MATCH('Radio (Desc)'!$G148,[1]!MASTER_RADIO_FREQ_DESC[#Data],0),0))","v":""},{"$f":"IF('Radio (Desc)'!H148=\"\",\"\",'Radio (Desc)'!H148)","v":""},{"$f":"IF('Radio (Desc)'!I148=\"\",\"\",INDEX([1]RADIO_FREQ!$A$2:$A$500,MATCH('Radio (Desc)'!$I148,[1]!MASTER_RADIO_FREQ_DESC[#Data],0),0))","v":""},{"$f":"IF('Radio (Desc)'!J148=\"\",\"\",'Radio (Desc)'!J148)","v":""},{"$f":"IF('Radio (Desc)'!K148=\"\",\"\",INDEX([1]CALL_SIGN!$A$2:$A$600,MATCH('Radio (Desc)'!$K148,[1]!MASTER_CALL_SIGN_DESC[#Data],0),0))","v":""},{"$f":"IF('Radio (Desc)'!L148=\"\",\"\",INDEX([1]STATION_CLASS!$A$2:$A$100,MATCH('Radio (Desc)'!$L148,[1]!MASTER_STATION_CLASS_DESC[#Data],0),0))","v":""},{"$f":"IF('Radio (Desc)'!M148=\"\",\"\",'Radio (Desc)'!M148)","v":""},{"$f":"IF('Radio (Desc)'!N148=\"\",\"\",'Radio (Desc)'!N148)","v":""},{"$f":"IF('Radio (Desc)'!O148=\"\",\"\",INDEX([1]ITS_COMM_DEV_MANUF!$A$2:$A$300,MATCH(1,([1]ITS_COMM_DEV_MANUF!$B$2:$B$300='Radio (Desc)'!$O148)*([1]ITS_COMM_DEV_MANUF!$C$2:$C$300=\"RADIO\"),0),0))","v":""},{"$f":"IF('Radio (Desc)'!P148=\"\",\"\",INDEX([1]ITS_COMM_DEV_MODEL!$A$2:$A$500,MATCH(1,([1]ITS_COMM_DEV_MODEL!$C$2:$C$500='Radio (Desc)'!$O148)*([1]ITS_COMM_DEV_MODEL!$D$2:$D$500=\"RADIO\")*([1]ITS_COMM_DEV_MODEL!$E$2:$E$500='Radio (Desc)'!$P148),0),0))","v":""},{"$f":"IF('Radio (Desc)'!Q148=\"\",\"\",'Radio (Desc)'!Q148)","v":""},{"$f":"IF('Radio (Desc)'!R148=\"\",\"\",'Radio (Desc)'!R148)","v":""},{"$f":"IF('Radio (Desc)'!S148=\"\",\"\",'Radio (Desc)'!S148)","v":""},{"$f":"IF('Radio (Desc)'!T148=\"\",\"\",'Radio (Desc)'!T148)","v":""},{"$f":"IF('Radio (Desc)'!U148=\"\",\"\",INDEX([1]DEV_INPUT_VOLTAGE!$A$2:$A$100,MATCH('Radio (Desc)'!$U148,[1]!MASTER_DEV_INPUT_VOLTAGE_DESC[#Data],0),0))","v":""},{"$f":"IF('Radio (Desc)'!V148=\"\",\"\",'Radio (Desc)'!V148)","v":""},{"$f":"IF('Radio (Desc)'!W148=\"\",\"\",'Radio (Desc)'!W148)","v":""},{"$f":"IF('Radio (Desc)'!X148=\"\",\"\",'Radio (Desc)'!X148)","v":""},{"$f":"IF('Radio (Desc)'!Y148=\"\",\"\",INDEX([1]FIBER_CONN_TYPE!$A$2:$A$100,MATCH('Radio (Desc)'!$Y148,[1]!MASTER_FIBER_CONN_TYPE_DESC[#Data],0),0))","v":""}]
[{"$f":"IF('Radio (Desc)'!A149=\"\",\"\",'Radio (Desc)'!A149)","v":""},{"$f":"IF('Radio (Desc)'!C149=\"\",\"\",\"2029\")","v":""},{"$f":"IF('Radio (Desc)'!C149=\"\",\"\",'Radio (Desc)'!C149)","v":""},{"$f":"IF('Radio (Desc)'!E149=\"\",\"\",\"RADIO\")","v":""},{"$f":"IF('Radio (Desc)'!E149=\"\",\"\",INDEX([1]RADIO_TYPE!$A$2:$A$100,MATCH('Radio (Desc)'!$E149,[1]!MASTER_RADIO_TYPE_DESC[#Data],0),0))","v":""},{"$f":"IF('Radio (Desc)'!F149=\"\",\"\",'Radio (Desc)'!F149)","v":""},{"$f":"IF('Radio (Desc)'!G149=\"\",\"\",INDEX([1]RADIO_FREQ!$A$2:$A$500,MATCH('Radio (Desc)'!$G149,[1]!MASTER_RADIO_FREQ_DESC[#Data],0),0))","v":""},{"$f":"IF('Radio (Desc)'!H149=\"\",\"\",'Radio (Desc)'!H149)","v":""},{"$f":"IF('Radio (Desc)'!I149=\"\",\"\",INDEX([1]RADIO_FREQ!$A$2:$A$500,MATCH('Radio (Desc)'!$I149,[1]!MASTER_RADIO_FREQ_DESC[#Data],0),0))","v":""},{"$f":"IF('Radio (Desc)'!J149=\"\",\"\",'Radio (Desc)'!J149)","v":""},{"$f":"IF('Radio (Desc)'!K149=\"\",\"\",INDEX([1]CALL_SIGN!$A$2:$A$600,MATCH('Radio (Desc)'!$K149,[1]!MASTER_CALL_SIGN_DESC[#Data],0),0))","v":""},{"$f":"IF('Radio (Desc)'!L149=\"\",\"\",INDEX([1]STATION_CLASS!$A$2:$A$100,MATCH('Radio (Desc)'!$L149,[1]!MASTER_STATION_CLASS_DESC[#Data],0),0))","v":""},{"$f":"IF('Radio (Desc)'!M149=\"\",\"\",'Radio (Desc)'!M149)","v":""},{"$f":"IF('Radio (Desc)'!N149=\"\",\"\",'Radio (Desc)'!N149)","v":""},{"$f":"IF('Radio (Desc)'!O149=\"\",\"\",INDEX([1]ITS_COMM_DEV_MANUF!$A$2:$A$300,MATCH(1,([1]ITS_COMM_DEV_MANUF!$B$2:$B$300='Radio (Desc)'!$O149)*([1]ITS_COMM_DEV_MANUF!$C$2:$C$300=\"RADIO\"),0),0))","v":""},{"$f":"IF('Radio (Desc)'!P149=\"\",\"\",INDEX([1]ITS_COMM_DEV_MODEL!$A$2:$A$500,MATCH(1,([1]ITS_COMM_DEV_MODEL!$C$2:$C$500='Radio (Desc)'!$O149)*([1]ITS_COMM_DEV_MODEL!$D$2:$D$500=\"RADIO\")*([1]ITS_COMM_DEV_MODEL!$E$2:$E$500='Radio (Desc)'!$P149),0),0))","v":""},{"$f":"IF('Radio (Desc)'!Q149=\"\",\"\",'Radio (Desc)'!Q149)","v":""},{"$f":"IF('Radio (Desc)'!R149=\"\",\"\",'Radio (Desc)'!R149)","v":""},{"$f":"IF('Radio (Desc)'!S149=\"\",\"\",'Radio (Desc)'!S149)","v":""},{"$f":"IF('Radio (Desc)'!T149=\"\",\"\",'Radio (Desc)'!T149)","v":""},{"$f":"IF('Radio (Desc)'!U149=\"\",\"\",INDEX([1]DEV_INPUT_VOLTAGE!$A$2:$A$100,MATCH('Radio (Desc)'!$U149,[1]!MASTER_DEV_INPUT_VOLTAGE_DESC[#Data],0),0))","v":""},{"$f":"IF('Radio (Desc)'!V149=\"\",\"\",'Radio (Desc)'!V149)","v":""},{"$f":"IF('Radio (Desc)'!W149=\"\",\"\",'Radio (Desc)'!W149)","v":""},{"$f":"IF('Radio (Desc)'!X149=\"\",\"\",'Radio (Desc)'!X149)","v":""},{"$f":"IF('Radio (Desc)'!Y149=\"\",\"\",INDEX([1]FIBER_CONN_TYPE!$A$2:$A$100,MATCH('Radio (Desc)'!$Y149,[1]!MASTER_FIBER_CONN_TYPE_DESC[#Data],0),0))","v":""}]
[{"$f":"IF('Radio (Desc)'!A150=\"\",\"\",'Radio (Desc)'!A150)","v":""},{"$f":"IF('Radio (Desc)'!C150=\"\",\"\",\"2029\")","v":""},{"$f":"IF('Radio (Desc)'!C150=\"\",\"\",'Radio (Desc)'!C150)","v":""},{"$f":"IF('Radio (Desc)'!E150=\"\",\"\",\"RADIO\")","v":""},{"$f":"IF('Radio (Desc)'!E150=\"\",\"\",INDEX([1]RADIO_TYPE!$A$2:$A$100,MATCH('Radio (Desc)'!$E150,[1]!MASTER_RADIO_TYPE_DESC[#Data],0),0))","v":""},{"$f":"IF('Radio (Desc)'!F150=\"\",\"\",'Radio (Desc)'!F150)","v":""},{"$f":"IF('Radio (Desc)'!G150=\"\",\"\",INDEX([1]RADIO_FREQ!$A$2:$A$500,MATCH('Radio (Desc)'!$G150,[1]!MASTER_RADIO_FREQ_DESC[#Data],0),0))","v":""},{"$f":"IF('Radio (Desc)'!H150=\"\",\"\",'Radio (Desc)'!H150)","v":""},{"$f":"IF('Radio (Desc)'!I150=\"\",\"\",INDEX([1]RADIO_FREQ!$A$2:$A$500,MATCH('Radio (Desc)'!$I150,[1]!MASTER_RADIO_FREQ_DESC[#Data],0),0))","v":""},{"$f":"IF('Radio (Desc)'!J150=\"\",\"\",'Radio (Desc)'!J150)","v":""},{"$f":"IF('Radio (Desc)'!K150=\"\",\"\",INDEX([1]CALL_SIGN!$A$2:$A$600,MATCH('Radio (Desc)'!$K150,[1]!MASTER_CALL_SIGN_DESC[#Data],0),0))","v":""},{"$f":"IF('Radio (Desc)'!L150=\"\",\"\",INDEX([1]STATION_CLASS!$A$2:$A$100,MATCH('Radio (Desc)'!$L150,[1]!MASTER_STATION_CLASS_DESC[#Data],0),0))","v":""},{"$f":"IF('Radio (Desc)'!M150=\"\",\"\",'Radio (Desc)'!M150)","v":""},{"$f":"IF('Radio (Desc)'!N150=\"\",\"\",'Radio (Desc)'!N150)","v":""},{"$f":"IF('Radio (Desc)'!O150=\"\",\"\",INDEX([1]ITS_COMM_DEV_MANUF!$A$2:$A$300,MATCH(1,([1]ITS_COMM_DEV_MANUF!$B$2:$B$300='Radio (Desc)'!$O150)*([1]ITS_COMM_DEV_MANUF!$C$2:$C$300=\"RADIO\"),0),0))","v":""},{"$f":"IF('Radio (Desc)'!P150=\"\",\"\",INDEX([1]ITS_COMM_DEV_MODEL!$A$2:$A$500,MATCH(1,([1]ITS_COMM_DEV_MODEL!$C$2:$C$500='Radio (Desc)'!$O150)*([1]ITS_COMM_DEV_MODEL!$D$2:$D$500=\"RADIO\")*([1]ITS_COMM_DEV_MODEL!$E$2:$E$500='Radio (Desc)'!$P150),0),0))","v":""},{"$f":"IF('Radio (Desc)'!Q150=\"\",\"\",'Radio (Desc)'!Q150)","v":""},{"$f":"IF('Radio (Desc)'!R150=\"\",\"\",'Radio (Desc)'!R150)","v":""},{"$f":"IF('Radio (Desc)'!S150=\"\",\"\",'Radio (Desc)'!S150)","v":""},{"$f":"IF('Radio (Desc)'!T150=\"\",\"\",'Radio (Desc)'!T150)","v":""},{"$f":"IF('Radio (Desc)'!U150=\"\",\"\",INDEX([1]DEV_INPUT_VOLTAGE!$A$2:$A$100,MATCH('Radio (Desc)'!$U150,[1]!MASTER_DEV_INPUT_VOLTAGE_DESC[#Data],0),0))","v":""},{"$f":"IF('Radio (Desc)'!V150=\"\",\"\",'Radio (Desc)'!V150)","v":""},{"$f":"IF('Radio (Desc)'!W150=\"\",\"\",'Radio (Desc)'!W150)","v":""},{"$f":"IF('Radio (Desc)'!X150=\"\",\"\",'Radio (Desc)'!X150)","v":""},{"$f":"IF('Radio (Desc)'!Y150=\"\",\"\",INDEX([1]FIBER_CONN_TYPE!$A$2:$A$100,MATCH('Radio (Desc)'!$Y150,[1]!MASTER_FIBER_CONN_TYPE_DESC[#Data],0),0))","v":""}]
[{"$f":"IF('Radio (Desc)'!A151=\"\",\"\",'Radio (Desc)'!A151)","v":""},{"$f":"IF('Radio (Desc)'!C151=\"\",\"\",\"2029\")","v":""},{"$f":"IF('Radio (Desc)'!C151=\"\",\"\",'Radio (Desc)'!C151)","v":""},{"$f":"IF('Radio (Desc)'!E151=\"\",\"\",\"RADIO\")","v":""},{"$f":"IF('Radio (Desc)'!E151=\"\",\"\",INDEX([1]RADIO_TYPE!$A$2:$A$100,MATCH('Radio (Desc)'!$E151,[1]!MASTER_RADIO_TYPE_DESC[#Data],0),0))","v":""},{"$f":"IF('Radio (Desc)'!F151=\"\",\"\",'Radio (Desc)'!F151)","v":""},{"$f":"IF('Radio (Desc)'!G151=\"\",\"\",INDEX([1]RADIO_FREQ!$A$2:$A$500,MATCH('Radio (Desc)'!$G151,[1]!MASTER_RADIO_FREQ_DESC[#Data],0),0))","v":""},{"$f":"IF('Radio (Desc)'!H151=\"\",\"\",'Radio (Desc)'!H151)","v":""},{"$f":"IF('Radio (Desc)'!I151=\"\",\"\",INDEX([1]RADIO_FREQ!$A$2:$A$500,MATCH('Radio (Desc)'!$I151,[1]!MASTER_RADIO_FREQ_DESC[#Data],0),0))","v":""},{"$f":"IF('Radio (Desc)'!J151=\"\",\"\",'Radio (Desc)'!J151)","v":""},{"$f":"IF('Radio (Desc)'!K151=\"\",\"\",INDEX([1]CALL_SIGN!$A$2:$A$600,MATCH('Radio (Desc)'!$K151,[1]!MASTER_CALL_SIGN_DESC[#Data],0),0))","v":""},{"$f":"IF('Radio (Desc)'!L151=\"\",\"\",INDEX([1]STATION_CLASS!$A$2:$A$100,MATCH('Radio (Desc)'!$L151,[1]!MASTER_STATION_CLASS_DESC[#Data],0),0))","v":""},{"$f":"IF('Radio (Desc)'!M151=\"\",\"\",'Radio (Desc)'!M151)","v":""},{"$f":"IF('Radio (Desc)'!N151=\"\",\"\",'Radio (Desc)'!N151)","v":""},{"$f":"IF('Radio (Desc)'!O151=\"\",\"\",INDEX([1]ITS_COMM_DEV_MANUF!$A$2:$A$300,MATCH(1,([1]ITS_COMM_DEV_MANUF!$B$2:$B$300='Radio (Desc)'!$O151)*([1]ITS_COMM_DEV_MANUF!$C$2:$C$300=\"RADIO\"),0),0))","v":""},{"$f":"IF('Radio (Desc)'!P151=\"\",\"\",INDEX([1]ITS_COMM_DEV_MODEL!$A$2:$A$500,MATCH(1,([1]ITS_COMM_DEV_MODEL!$C$2:$C$500='Radio (Desc)'!$O151)*([1]ITS_COMM_DEV_MODEL!$D$2:$D$500=\"RADIO\")*([1]ITS_COMM_DEV_MODEL!$E$2:$E$500='Radio (Desc)'!$P151),0),0))","v":""},{"$f":"IF('Radio (Desc)'!Q151=\"\",\"\",'Radio (Desc)'!Q151)","v":""},{"$f":"IF('Radio (Desc)'!R151=\"\",\"\",'Radio (Desc)'!R151)","v":""},{"$f":"IF('Radio (Desc)'!S151=\"\",\"\",'Radio (Desc)'!S151)","v":""},{"$f":"IF('Radio (Desc)'!T151=\"\",\"\",'Radio (Desc)'!T151)","v":""},{"$f":"IF('Radio (Desc)'!U151=\"\",\"\",INDEX([1]DEV_INPUT_VOLTAGE!$A$2:$A$100,MATCH('Radio (Desc)'!$U151,[1]!MASTER_DEV_INPUT_VOLTAGE_DESC[#Data],0),0))","v":""},{"$f":"IF('Radio (Desc)'!V151=\"\",\"\",'Radio (Desc)'!V151)","v":""},{"$f":"IF('Radio (Desc)'!W151=\"\",\"\",'Radio (Desc)'!W151)","v":""},{"$f":"IF('Radio (Desc)'!X151=\"\",\"\",'Radio (Desc)'!X151)","v":""},{"$f":"IF('Radio (Desc)'!Y151=\"\",\"\",INDEX([1]FIBER_CONN_TYPE!$A$2:$A$100,MATCH('Radio (Desc)'!$Y151,[1]!MASTER_FIBER_CONN_TYPE_DESC[#Data],0),0))","v":""}]
[{"$f":"IF('Radio (Desc)'!A152=\"\",\"\",'Radio (Desc)'!A152)","v":""},{"$f":"IF('Radio (Desc)'!C152=\"\",\"\",\"2029\")","v":""},{"$f":"IF('Radio (Desc)'!C152=\"\",\"\",'Radio (Desc)'!C152)","v":""},{"$f":"IF('Radio (Desc)'!E152=\"\",\"\",\"RADIO\")","v":""},{"$f":"IF('Radio (Desc)'!E152=\"\",\"\",INDEX([1]RADIO_TYPE!$A$2:$A$100,MATCH('Radio (Desc)'!$E152,[1]!MASTER_RADIO_TYPE_DESC[#Data],0),0))","v":""},{"$f":"IF('Radio (Desc)'!F152=\"\",\"\",'Radio (Desc)'!F152)","v":""},{"$f":"IF('Radio (Desc)'!G152=\"\",\"\",INDEX([1]RADIO_FREQ!$A$2:$A$500,MATCH('Radio (Desc)'!$G152,[1]!MASTER_RADIO_FREQ_DESC[#Data],0),0))","v":""},{"$f":"IF('Radio (Desc)'!H152=\"\",\"\",'Radio (Desc)'!H152)","v":""},{"$f":"IF('Radio (Desc)'!I152=\"\",\"\",INDEX([1]RADIO_FREQ!$A$2:$A$500,MATCH('Radio (Desc)'!$I152,[1]!MASTER_RADIO_FREQ_DESC[#Data],0),0))","v":""},{"$f":"IF('Radio (Desc)'!J152=\"\",\"\",'Radio (Desc)'!J152)","v":""},{"$f":"IF('Radio (Desc)'!K152=\"\",\"\",INDEX([1]CALL_SIGN!$A$2:$A$600,MATCH('Radio (Desc)'!$K152,[1]!MASTER_CALL_SIGN_DESC[#Data],0),0))","v":""},{"$f":"IF('Radio (Desc)'!L152=\"\",\"\",INDEX([1]STATION_CLASS!$A$2:$A$100,MATCH('Radio (Desc)'!$L152,[1]!MASTER_STATION_CLASS_DESC[#Data],0),0))","v":""},{"$f":"IF('Radio (Desc)'!M152=\"\",\"\",'Radio (Desc)'!M152)","v":""},{"$f":"IF('Radio (Desc)'!N152=\"\",\"\",'Radio (Desc)'!N152)","v":""},{"$f":"IF('Radio (Desc)'!O152=\"\",\"\",INDEX([1]ITS_COMM_DEV_MANUF!$A$2:$A$300,MATCH(1,([1]ITS_COMM_DEV_MANUF!$B$2:$B$300='Radio (Desc)'!$O152)*([1]ITS_COMM_DEV_MANUF!$C$2:$C$300=\"RADIO\"),0),0))","v":""},{"$f":"IF('Radio (Desc)'!P152=\"\",\"\",INDEX([1]ITS_COMM_DEV_MODEL!$A$2:$A$500,MATCH(1,([1]ITS_COMM_DEV_MODEL!$C$2:$C$500='Radio (Desc)'!$O152)*([1]ITS_COMM_DEV_MODEL!$D$2:$D$500=\"RADIO\")*([1]ITS_COMM_DEV_MODEL!$E$2:$E$500='Radio (Desc)'!$P152),0),0))","v":""},{"$f":"IF('Radio (Desc)'!Q152=\"\",\"\",'Radio (Desc)'!Q152)","v":""},{"$f":"IF('Radio (Desc)'!R152=\"\",\"\",'Radio (Desc)'!R152)","v":""},{"$f":"IF('Radio (Desc)'!S152=\"\",\"\",'Radio (Desc)'!S152)","v":""},{"$f":"IF('Radio (Desc)'!T152=\"\",\"\",'Radio (Desc)'!T152)","v":""},{"$f":"IF('Radio (Desc)'!U152=\"\",\"\",INDEX([1]DEV_INPUT_VOLTAGE!$A$2:$A$100,MATCH('Radio (Desc)'!$U152,[1]!MASTER_DEV_INPUT_VOLTAGE_DESC[#Data],0),0))","v":""},{"$f":"IF('Radio (Desc)'!V152=\"\",\"\",'Radio (Desc)'!V152)","v":""},{"$f":"IF('Radio (Desc)'!W152=\"\",\"\",'Radio (Desc)'!W152)","v":""},{"$f":"IF('Radio (Desc)'!X152=\"\",\"\",'Radio (Desc)'!X152)","v":""},{"$f":"IF('Radio (Desc)'!Y152=\"\",\"\",INDEX([1]FIBER_CONN_TYPE!$A$2:$A$100,MATCH('Radio (Desc)'!$Y152,[1]!MASTER_FIBER_CONN_TYPE_DESC[#Data],0),0))","v":""}]
[{"$f":"IF('Radio (Desc)'!A153=\"\",\"\",'Radio (Desc)'!A153)","v":""},{"$f":"IF('Radio (Desc)'!C153=\"\",\"\",\"2029\")","v":""},{"$f":"IF('Radio (Desc)'!C153=\"\",\"\",'Radio (Desc)'!C153)","v":""},{"$f":"IF('Radio (Desc)'!E153=\"\",\"\",\"RADIO\")","v":""},{"$f":"IF('Radio (Desc)'!E153=\"\",\"\",INDEX([1]RADIO_TYPE!$A$2:$A$100,MATCH('Radio (Desc)'!$E153,[1]!MASTER_RADIO_TYPE_DESC[#Data],0),0))","v":""},{"$f":"IF('Radio (Desc)'!F153=\"\",\"\",'Radio (Desc)'!F153)","v":""},{"$f":"IF('Radio (Desc)'!G153=\"\",\"\",INDEX([1]RADIO_FREQ!$A$2:$A$500,MATCH('Radio (Desc)'!$G153,[1]!MASTER_RADIO_FREQ_DESC[#Data],0),0))","v":""},{"$f":"IF('Radio (Desc)'!H153=\"\",\"\",'Radio (Desc)'!H153)","v":""},{"$f":"IF('Radio (Desc)'!I153=\"\",\"\",INDEX([1]RADIO_FREQ!$A$2:$A$500,MATCH('Radio (Desc)'!$I153,[1]!MASTER_RADIO_FREQ_DESC[#Data],0),0))","v":""},{"$f":"IF('Radio (Desc)'!J153=\"\",\"\",'Radio (Desc)'!J153)","v":""},{"$f":"IF('Radio (Desc)'!K153=\"\",\"\",INDEX([1]CALL_SIGN!$A$2:$A$600,MATCH('Radio (Desc)'!$K153,[1]!MASTER_CALL_SIGN_DESC[#Data],0),0))","v":""},{"$f":"IF('Radio (Desc)'!L153=\"\",\"\",INDEX([1]STATION_CLASS!$A$2:$A$100,MATCH('Radio (Desc)'!$L153,[1]!MASTER_STATION_CLASS_DESC[#Data],0),0))","v":""},{"$f":"IF('Radio (Desc)'!M153=\"\",\"\",'Radio (Desc)'!M153)","v":""},{"$f":"IF('Radio (Desc)'!N153=\"\",\"\",'Radio (Desc)'!N153)","v":""},{"$f":"IF('Radio (Desc)'!O153=\"\",\"\",INDEX([1]ITS_COMM_DEV_MANUF!$A$2:$A$300,MATCH(1,([1]ITS_COMM_DEV_MANUF!$B$2:$B$300='Radio (Desc)'!$O153)*([1]ITS_COMM_DEV_MANUF!$C$2:$C$300=\"RADIO\"),0),0))","v":""},{"$f":"IF('Radio (Desc)'!P153=\"\",\"\",INDEX([1]ITS_COMM_DEV_MODEL!$A$2:$A$500,MATCH(1,([1]ITS_COMM_DEV_MODEL!$C$2:$C$500='Radio (Desc)'!$O153)*([1]ITS_COMM_DEV_MODEL!$D$2:$D$500=\"RADIO\")*([1]ITS_COMM_DEV_MODEL!$E$2:$E$500='Radio (Desc)'!$P153),0),0))","v":""},{"$f":"IF('Radio (Desc)'!Q153=\"\",\"\",'Radio (Desc)'!Q153)","v":""},{"$f":"IF('Radio (Desc)'!R153=\"\",\"\",'Radio (Desc)'!R153)","v":""},{"$f":"IF('Radio (Desc)'!S153=\"\",\"\",'Radio (Desc)'!S153)","v":""},{"$f":"IF('Radio (Desc)'!T153=\"\",\"\",'Radio (Desc)'!T153)","v":""},{"$f":"IF('Radio (Desc)'!U153=\"\",\"\",INDEX([1]DEV_INPUT_VOLTAGE!$A$2:$A$100,MATCH('Radio (Desc)'!$U153,[1]!MASTER_DEV_INPUT_VOLTAGE_DESC[#Data],0),0))","v":""},{"$f":"IF('Radio (Desc)'!V153=\"\",\"\",'Radio (Desc)'!V153)","v":""},{"$f":"IF('Radio (Desc)'!W153=\"\",\"\",'Radio (Desc)'!W153)","v":""},{"$f":"IF('Radio (Desc)'!X153=\"\",\"\",'Radio (Desc)'!X153)","v":""},{"$f":"IF('Radio (Desc)'!Y153=\"\",\"\",INDEX([1]FIBER_CONN_TYPE!$A$2:$A$100,MATCH('Radio (Desc)'!$Y153,[1]!MASTER_FIBER_CONN_TYPE_DESC[#Data],0),0))","v":""}]
[{"$f":"IF('Radio (Desc)'!A154=\"\",\"\",'Radio (Desc)'!A154)","v":""},{"$f":"IF('Radio (Desc)'!C154=\"\",\"\",\"2029\")","v":""},{"$f":"IF('Radio (Desc)'!C154=\"\",\"\",'Radio (Desc)'!C154)","v":""},{"$f":"IF('Radio (Desc)'!E154=\"\",\"\",\"RADIO\")","v":""},{"$f":"IF('Radio (Desc)'!E154=\"\",\"\",INDEX([1]RADIO_TYPE!$A$2:$A$100,MATCH('Radio (Desc)'!$E154,[1]!MASTER_RADIO_TYPE_DESC[#Data],0),0))","v":""},{"$f":"IF('Radio (Desc)'!F154=\"\",\"\",'Radio (Desc)'!F154)","v":""},{"$f":"IF('Radio (Desc)'!G154=\"\",\"\",INDEX([1]RADIO_FREQ!$A$2:$A$500,MATCH('Radio (Desc)'!$G154,[1]!MASTER_RADIO_FREQ_DESC[#Data],0),0))","v":""},{"$f":"IF('Radio (Desc)'!H154=\"\",\"\",'Radio (Desc)'!H154)","v":""},{"$f":"IF('Radio (Desc)'!I154=\"\",\"\",INDEX([1]RADIO_FREQ!$A$2:$A$500,MATCH('Radio (Desc)'!$I154,[1]!MASTER_RADIO_FREQ_DESC[#Data],0),0))","v":""},{"$f":"IF('Radio (Desc)'!J154=\"\",\"\",'Radio (Desc)'!J154)","v":""},{"$f":"IF('Radio (Desc)'!K154=\"\",\"\",INDEX([1]CALL_SIGN!$A$2:$A$600,MATCH('Radio (Desc)'!$K154,[1]!MASTER_CALL_SIGN_DESC[#Data],0),0))","v":""},{"$f":"IF('Radio (Desc)'!L154=\"\",\"\",INDEX([1]STATION_CLASS!$A$2:$A$100,MATCH('Radio (Desc)'!$L154,[1]!MASTER_STATION_CLASS_DESC[#Data],0),0))","v":""},{"$f":"IF('Radio (Desc)'!M154=\"\",\"\",'Radio (Desc)'!M154)","v":""},{"$f":"IF('Radio (Desc)'!N154=\"\",\"\",'Radio (Desc)'!N154)","v":""},{"$f":"IF('Radio (Desc)'!O154=\"\",\"\",INDEX([1]ITS_COMM_DEV_MANUF!$A$2:$A$300,MATCH(1,([1]ITS_COMM_DEV_MANUF!$B$2:$B$300='Radio (Desc)'!$O154)*([1]ITS_COMM_DEV_MANUF!$C$2:$C$300=\"RADIO\"),0),0))","v":""},{"$f":"IF('Radio (Desc)'!P154=\"\",\"\",INDEX([1]ITS_COMM_DEV_MODEL!$A$2:$A$500,MATCH(1,([1]ITS_COMM_DEV_MODEL!$C$2:$C$500='Radio (Desc)'!$O154)*([1]ITS_COMM_DEV_MODEL!$D$2:$D$500=\"RADIO\")*([1]ITS_COMM_DEV_MODEL!$E$2:$E$500='Radio (Desc)'!$P154),0),0))","v":""},{"$f":"IF('Radio (Desc)'!Q154=\"\",\"\",'Radio (Desc)'!Q154)","v":""},{"$f":"IF('Radio (Desc)'!R154=\"\",\"\",'Radio (Desc)'!R154)","v":""},{"$f":"IF('Radio (Desc)'!S154=\"\",\"\",'Radio (Desc)'!S154)","v":""},{"$f":"IF('Radio (Desc)'!T154=\"\",\"\",'Radio (Desc)'!T154)","v":""},{"$f":"IF('Radio (Desc)'!U154=\"\",\"\",INDEX([1]DEV_INPUT_VOLTAGE!$A$2:$A$100,MATCH('Radio (Desc)'!$U154,[1]!MASTER_DEV_INPUT_VOLTAGE_DESC[#Data],0),0))","v":""},{"$f":"IF('Radio (Desc)'!V154=\"\",\"\",'Radio (Desc)'!V154)","v":""},{"$f":"IF('Radio (Desc)'!W154=\"\",\"\",'Radio (Desc)'!W154)","v":""},{"$f":"IF('Radio (Desc)'!X154=\"\",\"\",'Radio (Desc)'!X154)","v":""},{"$f":"IF('Radio (Desc)'!Y154=\"\",\"\",INDEX([1]FIBER_CONN_TYPE!$A$2:$A$100,MATCH('Radio (Desc)'!$Y154,[1]!MASTER_FIBER_CONN_TYPE_DESC[#Data],0),0))","v":""}]
[{"$f":"IF('Radio (Desc)'!A155=\"\",\"\",'Radio (Desc)'!A155)","v":""},{"$f":"IF('Radio (Desc)'!C155=\"\",\"\",\"2029\")","v":""},{"$f":"IF('Radio (Desc)'!C155=\"\",\"\",'Radio (Desc)'!C155)","v":""},{"$f":"IF('Radio (Desc)'!E155=\"\",\"\",\"RADIO\")","v":""},{"$f":"IF('Radio (Desc)'!E155=\"\",\"\",INDEX([1]RADIO_TYPE!$A$2:$A$100,MATCH('Radio (Desc)'!$E155,[1]!MASTER_RADIO_TYPE_DESC[#Data],0),0))","v":""},{"$f":"IF('Radio (Desc)'!F155=\"\",\"\",'Radio (Desc)'!F155)","v":""},{"$f":"IF('Radio (Desc)'!G155=\"\",\"\",INDEX([1]RADIO_FREQ!$A$2:$A$500,MATCH('Radio (Desc)'!$G155,[1]!MASTER_RADIO_FREQ_DESC[#Data],0),0))","v":""},{"$f":"IF('Radio (Desc)'!H155=\"\",\"\",'Radio (Desc)'!H155)","v":""},{"$f":"IF('Radio (Desc)'!I155=\"\",\"\",INDEX([1]RADIO_FREQ!$A$2:$A$500,MATCH('Radio (Desc)'!$I155,[1]!MASTER_RADIO_FREQ_DESC[#Data],0),0))","v":""},{"$f":"IF('Radio (Desc)'!J155=\"\",\"\",'Radio (Desc)'!J155)","v":""},{"$f":"IF('Radio (Desc)'!K155=\"\",\"\",INDEX([1]CALL_SIGN!$A$2:$A$600,MATCH('Radio (Desc)'!$K155,[1]!MASTER_CALL_SIGN_DESC[#Data],0),0))","v":""},{"$f":"IF('Radio (Desc)'!L155=\"\",\"\",INDEX([1]STATION_CLASS!$A$2:$A$100,MATCH('Radio (Desc)'!$L155,[1]!MASTER_STATION_CLASS_DESC[#Data],0),0))","v":""},{"$f":"IF('Radio (Desc)'!M155=\"\",\"\",'Radio (Desc)'!M155)","v":""},{"$f":"IF('Radio (Desc)'!N155=\"\",\"\",'Radio (Desc)'!N155)","v":""},{"$f":"IF('Radio (Desc)'!O155=\"\",\"\",INDEX([1]ITS_COMM_DEV_MANUF!$A$2:$A$300,MATCH(1,([1]ITS_COMM_DEV_MANUF!$B$2:$B$300='Radio (Desc)'!$O155)*([1]ITS_COMM_DEV_MANUF!$C$2:$C$300=\"RADIO\"),0),0))","v":""},{"$f":"IF('Radio (Desc)'!P155=\"\",\"\",INDEX([1]ITS_COMM_DEV_MODEL!$A$2:$A$500,MATCH(1,([1]ITS_COMM_DEV_MODEL!$C$2:$C$500='Radio (Desc)'!$O155)*([1]ITS_COMM_DEV_MODEL!$D$2:$D$500=\"RADIO\")*([1]ITS_COMM_DEV_MODEL!$E$2:$E$500='Radio (Desc)'!$P155),0),0))","v":""},{"$f":"IF('Radio (Desc)'!Q155=\"\",\"\",'Radio (Desc)'!Q155)","v":""},{"$f":"IF('Radio (Desc)'!R155=\"\",\"\",'Radio (Desc)'!R155)","v":""},{"$f":"IF('Radio (Desc)'!S155=\"\",\"\",'Radio (Desc)'!S155)","v":""},{"$f":"IF('Radio (Desc)'!T155=\"\",\"\",'Radio (Desc)'!T155)","v":""},{"$f":"IF('Radio (Desc)'!U155=\"\",\"\",INDEX([1]DEV_INPUT_VOLTAGE!$A$2:$A$100,MATCH('Radio (Desc)'!$U155,[1]!MASTER_DEV_INPUT_VOLTAGE_DESC[#Data],0),0))","v":""},{"$f":"IF('Radio (Desc)'!V155=\"\",\"\",'Radio (Desc)'!V155)","v":""},{"$f":"IF('Radio (Desc)'!W155=\"\",\"\",'Radio (Desc)'!W155)","v":""},{"$f":"IF('Radio (Desc)'!X155=\"\",\"\",'Radio (Desc)'!X155)","v":""},{"$f":"IF('Radio (Desc)'!Y155=\"\",\"\",INDEX([1]FIBER_CONN_TYPE!$A$2:$A$100,MATCH('Radio (Desc)'!$Y155,[1]!MASTER_FIBER_CONN_TYPE_DESC[#Data],0),0))","v":""}]
[{"$f":"IF('Radio (Desc)'!A156=\"\",\"\",'Radio (Desc)'!A156)","v":""},{"$f":"IF('Radio (Desc)'!C156=\"\",\"\",\"2029\")","v":""},{"$f":"IF('Radio (Desc)'!C156=\"\",\"\",'Radio (Desc)'!C156)","v":""},{"$f":"IF('Radio (Desc)'!E156=\"\",\"\",\"RADIO\")","v":""},{"$f":"IF('Radio (Desc)'!E156=\"\",\"\",INDEX([1]RADIO_TYPE!$A$2:$A$100,MATCH('Radio (Desc)'!$E156,[1]!MASTER_RADIO_TYPE_DESC[#Data],0),0))","v":""},{"$f":"IF('Radio (Desc)'!F156=\"\",\"\",'Radio (Desc)'!F156)","v":""},{"$f":"IF('Radio (Desc)'!G156=\"\",\"\",INDEX([1]RADIO_FREQ!$A$2:$A$500,MATCH('Radio (Desc)'!$G156,[1]!MASTER_RADIO_FREQ_DESC[#Data],0),0))","v":""},{"$f":"IF('Radio (Desc)'!H156=\"\",\"\",'Radio (Desc)'!H156)","v":""},{"$f":"IF('Radio (Desc)'!I156=\"\",\"\",INDEX([1]RADIO_FREQ!$A$2:$A$500,MATCH('Radio (Desc)'!$I156,[1]!MASTER_RADIO_FREQ_DESC[#Data],0),0))","v":""},{"$f":"IF('Radio (Desc)'!J156=\"\",\"\",'Radio (Desc)'!J156)","v":""},{"$f":"IF('Radio (Desc)'!K156=\"\",\"\",INDEX([1]CALL_SIGN!$A$2:$A$600,MATCH('Radio (Desc)'!$K156,[1]!MASTER_CALL_SIGN_DESC[#Data],0),0))","v":""},{"$f":"IF('Radio (Desc)'!L156=\"\",\"\",INDEX([1]STATION_CLASS!$A$2:$A$100,MATCH('Radio (Desc)'!$L156,[1]!MASTER_STATION_CLASS_DESC[#Data],0),0))","v":""},{"$f":"IF('Radio (Desc)'!M156=\"\",\"\",'Radio (Desc)'!M156)","v":""},{"$f":"IF('Radio (Desc)'!N156=\"\",\"\",'Radio (Desc)'!N156)","v":""},{"$f":"IF('Radio (Desc)'!O156=\"\",\"\",INDEX([1]ITS_COMM_DEV_MANUF!$A$2:$A$300,MATCH(1,([1]ITS_COMM_DEV_MANUF!$B$2:$B$300='Radio (Desc)'!$O156)*([1]ITS_COMM_DEV_MANUF!$C$2:$C$300=\"RADIO\"),0),0))","v":""},{"$f":"IF('Radio (Desc)'!P156=\"\",\"\",INDEX([1]ITS_COMM_DEV_MODEL!$A$2:$A$500,MATCH(1,([1]ITS_COMM_DEV_MODEL!$C$2:$C$500='Radio (Desc)'!$O156)*([1]ITS_COMM_DEV_MODEL!$D$2:$D$500=\"RADIO\")*([1]ITS_COMM_DEV_MODEL!$E$2:$E$500='Radio (Desc)'!$P156),0),0))","v":""},{"$f":"IF('Radio (Desc)'!Q156=\"\",\"\",'Radio (Desc)'!Q156)","v":""},{"$f":"IF('Radio (Desc)'!R156=\"\",\"\",'Radio (Desc)'!R156)","v":""},{"$f":"IF('Radio (Desc)'!S156=\"\",\"\",'Radio (Desc)'!S156)","v":""},{"$f":"IF('Radio (Desc)'!T156=\"\",\"\",'Radio (Desc)'!T156)","v":""},{"$f":"IF('Radio (Desc)'!U156=\"\",\"\",INDEX([1]DEV_INPUT_VOLTAGE!$A$2:$A$100,MATCH('Radio (Desc)'!$U156,[1]!MASTER_DEV_INPUT_VOLTAGE_DESC[#Data],0),0))","v":""},{"$f":"IF('Radio (Desc)'!V156=\"\",\"\",'Radio (Desc)'!V156)","v":""},{"$f":"IF('Radio (Desc)'!W156=\"\",\"\",'Radio (Desc)'!W156)","v":""},{"$f":"IF('Radio (Desc)'!X156=\"\",\"\",'Radio (Desc)'!X156)","v":""},{"$f":"IF('Radio (Desc)'!Y156=\"\",\"\",INDEX([1]FIBER_CONN_TYPE!$A$2:$A$100,MATCH('Radio (Desc)'!$Y156,[1]!MASTER_FIBER_CONN_TYPE_DESC[#Data],0),0))","v":""}]
[{"$f":"IF('Radio (Desc)'!A157=\"\",\"\",'Radio (Desc)'!A157)","v":""},{"$f":"IF('Radio (Desc)'!C157=\"\",\"\",\"2029\")","v":""},{"$f":"IF('Radio (Desc)'!C157=\"\",\"\",'Radio (Desc)'!C157)","v":""},{"$f":"IF('Radio (Desc)'!E157=\"\",\"\",\"RADIO\")","v":""},{"$f":"IF('Radio (Desc)'!E157=\"\",\"\",INDEX([1]RADIO_TYPE!$A$2:$A$100,MATCH('Radio (Desc)'!$E157,[1]!MASTER_RADIO_TYPE_DESC[#Data],0),0))","v":""},{"$f":"IF('Radio (Desc)'!F157=\"\",\"\",'Radio (Desc)'!F157)","v":""},{"$f":"IF('Radio (Desc)'!G157=\"\",\"\",INDEX([1]RADIO_FREQ!$A$2:$A$500,MATCH('Radio (Desc)'!$G157,[1]!MASTER_RADIO_FREQ_DESC[#Data],0),0))","v":""},{"$f":"IF('Radio (Desc)'!H157=\"\",\"\",'Radio (Desc)'!H157)","v":""},{"$f":"IF('Radio (Desc)'!I157=\"\",\"\",INDEX([1]RADIO_FREQ!$A$2:$A$500,MATCH('Radio (Desc)'!$I157,[1]!MASTER_RADIO_FREQ_DESC[#Data],0),0))","v":""},{"$f":"IF('Radio (Desc)'!J157=\"\",\"\",'Radio (Desc)'!J157)","v":""},{"$f":"IF('Radio (Desc)'!K157=\"\",\"\",INDEX([1]CALL_SIGN!$A$2:$A$600,MATCH('Radio (Desc)'!$K157,[1]!MASTER_CALL_SIGN_DESC[#Data],0),0))","v":""},{"$f":"IF('Radio (Desc)'!L157=\"\",\"\",INDEX([1]STATION_CLASS!$A$2:$A$100,MATCH('Radio (Desc)'!$L157,[1]!MASTER_STATION_CLASS_DESC[#Data],0),0))","v":""},{"$f":"IF('Radio (Desc)'!M157=\"\",\"\",'Radio (Desc)'!M157)","v":""},{"$f":"IF('Radio (Desc)'!N157=\"\",\"\",'Radio (Desc)'!N157)","v":""},{"$f":"IF('Radio (Desc)'!O157=\"\",\"\",INDEX([1]ITS_COMM_DEV_MANUF!$A$2:$A$300,MATCH(1,([1]ITS_COMM_DEV_MANUF!$B$2:$B$300='Radio (Desc)'!$O157)*([1]ITS_COMM_DEV_MANUF!$C$2:$C$300=\"RADIO\"),0),0))","v":""},{"$f":"IF('Radio (Desc)'!P157=\"\",\"\",INDEX([1]ITS_COMM_DEV_MODEL!$A$2:$A$500,MATCH(1,([1]ITS_COMM_DEV_MODEL!$C$2:$C$500='Radio (Desc)'!$O157)*([1]ITS_COMM_DEV_MODEL!$D$2:$D$500=\"RADIO\")*([1]ITS_COMM_DEV_MODEL!$E$2:$E$500='Radio (Desc)'!$P157),0),0))","v":""},{"$f":"IF('Radio (Desc)'!Q157=\"\",\"\",'Radio (Desc)'!Q157)","v":""},{"$f":"IF('Radio (Desc)'!R157=\"\",\"\",'Radio (Desc)'!R157)","v":""},{"$f":"IF('Radio (Desc)'!S157=\"\",\"\",'Radio (Desc)'!S157)","v":""},{"$f":"IF('Radio (Desc)'!T157=\"\",\"\",'Radio (Desc)'!T157)","v":""},{"$f":"IF('Radio (Desc)'!U157=\"\",\"\",INDEX([1]DEV_INPUT_VOLTAGE!$A$2:$A$100,MATCH('Radio (Desc)'!$U157,[1]!MASTER_DEV_INPUT_VOLTAGE_DESC[#Data],0),0))","v":""},{"$f":"IF('Radio (Desc)'!V157=\"\",\"\",'Radio (Desc)'!V157)","v":""},{"$f":"IF('Radio (Desc)'!W157=\"\",\"\",'Radio (Desc)'!W157)","v":""},{"$f":"IF('Radio (Desc)'!X157=\"\",\"\",'Radio (Desc)'!X157)","v":""},{"$f":"IF('Radio (Desc)'!Y157=\"\",\"\",INDEX([1]FIBER_CONN_TYPE!$A$2:$A$100,MATCH('Radio (Desc)'!$Y157,[1]!MASTER_FIBER_CONN_TYPE_DESC[#Data],0),0))","v":""}]
[{"$f":"IF('Radio (Desc)'!A158=\"\",\"\",'Radio (Desc)'!A158)","v":""},{"$f":"IF('Radio (Desc)'!C158=\"\",\"\",\"2029\")","v":""},{"$f":"IF('Radio (Desc)'!C158=\"\",\"\",'Radio (Desc)'!C158)","v":""},{"$f":"IF('Radio (Desc)'!E158=\"\",\"\",\"RADIO\")","v":""},{"$f":"IF('Radio (Desc)'!E158=\"\",\"\",INDEX([1]RADIO_TYPE!$A$2:$A$100,MATCH('Radio (Desc)'!$E158,[1]!MASTER_RADIO_TYPE_DESC[#Data],0),0))","v":""},{"$f":"IF('Radio (Desc)'!F158=\"\",\"\",'Radio (Desc)'!F158)","v":""},{"$f":"IF('Radio (Desc)'!G158=\"\",\"\",INDEX([1]RADIO_FREQ!$A$2:$A$500,MATCH('Radio (Desc)'!$G158,[1]!MASTER_RADIO_FREQ_DESC[#Data],0),0))","v":""},{"$f":"IF('Radio (Desc)'!H158=\"\",\"\",'Radio (Desc)'!H158)","v":""},{"$f":"IF('Radio (Desc)'!I158=\"\",\"\",INDEX([1]RADIO_FREQ!$A$2:$A$500,MATCH('Radio (Desc)'!$I158,[1]!MASTER_RADIO_FREQ_DESC[#Data],0),0))","v":""},{"$f":"IF('Radio (Desc)'!J158=\"\",\"\",'Radio (Desc)'!J158)","v":""},{"$f":"IF('Radio (Desc)'!K158=\"\",\"\",INDEX([1]CALL_SIGN!$A$2:$A$600,MATCH('Radio (Desc)'!$K158,[1]!MASTER_CALL_SIGN_DESC[#Data],0),0))","v":""},{"$f":"IF('Radio (Desc)'!L158=\"\",\"\",INDEX([1]STATION_CLASS!$A$2:$A$100,MATCH('Radio (Desc)'!$L158,[1]!MASTER_STATION_CLASS_DESC[#Data],0),0))","v":""},{"$f":"IF('Radio (Desc)'!M158=\"\",\"\",'Radio (Desc)'!M158)","v":""},{"$f":"IF('Radio (Desc)'!N158=\"\",\"\",'Radio (Desc)'!N158)","v":""},{"$f":"IF('Radio (Desc)'!O158=\"\",\"\",INDEX([1]ITS_COMM_DEV_MANUF!$A$2:$A$300,MATCH(1,([1]ITS_COMM_DEV_MANUF!$B$2:$B$300='Radio (Desc)'!$O158)*([1]ITS_COMM_DEV_MANUF!$C$2:$C$300=\"RADIO\"),0),0))","v":""},{"$f":"IF('Radio (Desc)'!P158=\"\",\"\",INDEX([1]ITS_COMM_DEV_MODEL!$A$2:$A$500,MATCH(1,([1]ITS_COMM_DEV_MODEL!$C$2:$C$500='Radio (Desc)'!$O158)*([1]ITS_COMM_DEV_MODEL!$D$2:$D$500=\"RADIO\")*([1]ITS_COMM_DEV_MODEL!$E$2:$E$500='Radio (Desc)'!$P158),0),0))","v":""},{"$f":"IF('Radio (Desc)'!Q158=\"\",\"\",'Radio (Desc)'!Q158)","v":""},{"$f":"IF('Radio (Desc)'!R158=\"\",\"\",'Radio (Desc)'!R158)","v":""},{"$f":"IF('Radio (Desc)'!S158=\"\",\"\",'Radio (Desc)'!S158)","v":""},{"$f":"IF('Radio (Desc)'!T158=\"\",\"\",'Radio (Desc)'!T158)","v":""},{"$f":"IF('Radio (Desc)'!U158=\"\",\"\",INDEX([1]DEV_INPUT_VOLTAGE!$A$2:$A$100,MATCH('Radio (Desc)'!$U158,[1]!MASTER_DEV_INPUT_VOLTAGE_DESC[#Data],0),0))","v":""},{"$f":"IF('Radio (Desc)'!V158=\"\",\"\",'Radio (Desc)'!V158)","v":""},{"$f":"IF('Radio (Desc)'!W158=\"\",\"\",'Radio (Desc)'!W158)","v":""},{"$f":"IF('Radio (Desc)'!X158=\"\",\"\",'Radio (Desc)'!X158)","v":""},{"$f":"IF('Radio (Desc)'!Y158=\"\",\"\",INDEX([1]FIBER_CONN_TYPE!$A$2:$A$100,MATCH('Radio (Desc)'!$Y158,[1]!MASTER_FIBER_CONN_TYPE_DESC[#Data],0),0))","v":""}]
[{"$f":"IF('Radio (Desc)'!A159=\"\",\"\",'Radio (Desc)'!A159)","v":""},{"$f":"IF('Radio (Desc)'!C159=\"\",\"\",\"2029\")","v":""},{"$f":"IF('Radio (Desc)'!C159=\"\",\"\",'Radio (Desc)'!C159)","v":""},{"$f":"IF('Radio (Desc)'!E159=\"\",\"\",\"RADIO\")","v":""},{"$f":"IF('Radio (Desc)'!E159=\"\",\"\",INDEX([1]RADIO_TYPE!$A$2:$A$100,MATCH('Radio (Desc)'!$E159,[1]!MASTER_RADIO_TYPE_DESC[#Data],0),0))","v":""},{"$f":"IF('Radio (Desc)'!F159=\"\",\"\",'Radio (Desc)'!F159)","v":""},{"$f":"IF('Radio (Desc)'!G159=\"\",\"\",INDEX([1]RADIO_FREQ!$A$2:$A$500,MATCH('Radio (Desc)'!$G159,[1]!MASTER_RADIO_FREQ_DESC[#Data],0),0))","v":""},{"$f":"IF('Radio (Desc)'!H159=\"\",\"\",'Radio (Desc)'!H159)","v":""},{"$f":"IF('Radio (Desc)'!I159=\"\",\"\",INDEX([1]RADIO_FREQ!$A$2:$A$500,MATCH('Radio (Desc)'!$I159,[1]!MASTER_RADIO_FREQ_DESC[#Data],0),0))","v":""},{"$f":"IF('Radio (Desc)'!J159=\"\",\"\",'Radio (Desc)'!J159)","v":""},{"$f":"IF('Radio (Desc)'!K159=\"\",\"\",INDEX([1]CALL_SIGN!$A$2:$A$600,MATCH('Radio (Desc)'!$K159,[1]!MASTER_CALL_SIGN_DESC[#Data],0),0))","v":""},{"$f":"IF('Radio (Desc)'!L159=\"\",\"\",INDEX([1]STATION_CLASS!$A$2:$A$100,MATCH('Radio (Desc)'!$L159,[1]!MASTER_STATION_CLASS_DESC[#Data],0),0))","v":""},{"$f":"IF('Radio (Desc)'!M159=\"\",\"\",'Radio (Desc)'!M159)","v":""},{"$f":"IF('Radio (Desc)'!N159=\"\",\"\",'Radio (Desc)'!N159)","v":""},{"$f":"IF('Radio (Desc)'!O159=\"\",\"\",INDEX([1]ITS_COMM_DEV_MANUF!$A$2:$A$300,MATCH(1,([1]ITS_COMM_DEV_MANUF!$B$2:$B$300='Radio (Desc)'!$O159)*([1]ITS_COMM_DEV_MANUF!$C$2:$C$300=\"RADIO\"),0),0))","v":""},{"$f":"IF('Radio (Desc)'!P159=\"\",\"\",INDEX([1]ITS_COMM_DEV_MODEL!$A$2:$A$500,MATCH(1,([1]ITS_COMM_DEV_MODEL!$C$2:$C$500='Radio (Desc)'!$O159)*([1]ITS_COMM_DEV_MODEL!$D$2:$D$500=\"RADIO\")*([1]ITS_COMM_DEV_MODEL!$E$2:$E$500='Radio (Desc)'!$P159),0),0))","v":""},{"$f":"IF('Radio (Desc)'!Q159=\"\",\"\",'Radio (Desc)'!Q159)","v":""},{"$f":"IF('Radio (Desc)'!R159=\"\",\"\",'Radio (Desc)'!R159)","v":""},{"$f":"IF('Radio (Desc)'!S159=\"\",\"\",'Radio (Desc)'!S159)","v":""},{"$f":"IF('Radio (Desc)'!T159=\"\",\"\",'Radio (Desc)'!T159)","v":""},{"$f":"IF('Radio (Desc)'!U159=\"\",\"\",INDEX([1]DEV_INPUT_VOLTAGE!$A$2:$A$100,MATCH('Radio (Desc)'!$U159,[1]!MASTER_DEV_INPUT_VOLTAGE_DESC[#Data],0),0))","v":""},{"$f":"IF('Radio (Desc)'!V159=\"\",\"\",'Radio (Desc)'!V159)","v":""},{"$f":"IF('Radio (Desc)'!W159=\"\",\"\",'Radio (Desc)'!W159)","v":""},{"$f":"IF('Radio (Desc)'!X159=\"\",\"\",'Radio (Desc)'!X159)","v":""},{"$f":"IF('Radio (Desc)'!Y159=\"\",\"\",INDEX([1]FIBER_CONN_TYPE!$A$2:$A$100,MATCH('Radio (Desc)'!$Y159,[1]!MASTER_FIBER_CONN_TYPE_DESC[#Data],0),0))","v":""}]
[{"$f":"IF('Radio (Desc)'!A160=\"\",\"\",'Radio (Desc)'!A160)","v":""},{"$f":"IF('Radio (Desc)'!C160=\"\",\"\",\"2029\")","v":""},{"$f":"IF('Radio (Desc)'!C160=\"\",\"\",'Radio (Desc)'!C160)","v":""},{"$f":"IF('Radio (Desc)'!E160=\"\",\"\",\"RADIO\")","v":""},{"$f":"IF('Radio (Desc)'!E160=\"\",\"\",INDEX([1]RADIO_TYPE!$A$2:$A$100,MATCH('Radio (Desc)'!$E160,[1]!MASTER_RADIO_TYPE_DESC[#Data],0),0))","v":""},{"$f":"IF('Radio (Desc)'!F160=\"\",\"\",'Radio (Desc)'!F160)","v":""},{"$f":"IF('Radio (Desc)'!G160=\"\",\"\",INDEX([1]RADIO_FREQ!$A$2:$A$500,MATCH('Radio (Desc)'!$G160,[1]!MASTER_RADIO_FREQ_DESC[#Data],0),0))","v":""},{"$f":"IF('Radio (Desc)'!H160=\"\",\"\",'Radio (Desc)'!H160)","v":""},{"$f":"IF('Radio (Desc)'!I160=\"\",\"\",INDEX([1]RADIO_FREQ!$A$2:$A$500,MATCH('Radio (Desc)'!$I160,[1]!MASTER_RADIO_FREQ_DESC[#Data],0),0))","v":""},{"$f":"IF('Radio (Desc)'!J160=\"\",\"\",'Radio (Desc)'!J160)","v":""},{"$f":"IF('Radio (Desc)'!K160=\"\",\"\",INDEX([1]CALL_SIGN!$A$2:$A$600,MATCH('Radio (Desc)'!$K160,[1]!MASTER_CALL_SIGN_DESC[#Data],0),0))","v":""},{"$f":"IF('Radio (Desc)'!L160=\"\",\"\",INDEX([1]STATION_CLASS!$A$2:$A$100,MATCH('Radio (Desc)'!$L160,[1]!MASTER_STATION_CLASS_DESC[#Data],0),0))","v":""},{"$f":"IF('Radio (Desc)'!M160=\"\",\"\",'Radio (Desc)'!M160)","v":""},{"$f":"IF('Radio (Desc)'!N160=\"\",\"\",'Radio (Desc)'!N160)","v":""},{"$f":"IF('Radio (Desc)'!O160=\"\",\"\",INDEX([1]ITS_COMM_DEV_MANUF!$A$2:$A$300,MATCH(1,([1]ITS_COMM_DEV_MANUF!$B$2:$B$300='Radio (Desc)'!$O160)*([1]ITS_COMM_DEV_MANUF!$C$2:$C$300=\"RADIO\"),0),0))","v":""},{"$f":"IF('Radio (Desc)'!P160=\"\",\"\",INDEX([1]ITS_COMM_DEV_MODEL!$A$2:$A$500,MATCH(1,([1]ITS_COMM_DEV_MODEL!$C$2:$C$500='Radio (Desc)'!$O160)*([1]ITS_COMM_DEV_MODEL!$D$2:$D$500=\"RADIO\")*([1]ITS_COMM_DEV_MODEL!$E$2:$E$500='Radio (Desc)'!$P160),0),0))","v":""},{"$f":"IF('Radio (Desc)'!Q160=\"\",\"\",'Radio (Desc)'!Q160)","v":""},{"$f":"IF('Radio (Desc)'!R160=\"\",\"\",'Radio (Desc)'!R160)","v":""},{"$f":"IF('Radio (Desc)'!S160=\"\",\"\",'Radio (Desc)'!S160)","v":""},{"$f":"IF('Radio (Desc)'!T160=\"\",\"\",'Radio (Desc)'!T160)","v":""},{"$f":"IF('Radio (Desc)'!U160=\"\",\"\",INDEX([1]DEV_INPUT_VOLTAGE!$A$2:$A$100,MATCH('Radio (Desc)'!$U160,[1]!MASTER_DEV_INPUT_VOLTAGE_DESC[#Data],0),0))","v":""},{"$f":"IF('Radio (Desc)'!V160=\"\",\"\",'Radio (Desc)'!V160)","v":""},{"$f":"IF('Radio (Desc)'!W160=\"\",\"\",'Radio (Desc)'!W160)","v":""},{"$f":"IF('Radio (Desc)'!X160=\"\",\"\",'Radio (Desc)'!X160)","v":""},{"$f":"IF('Radio (Desc)'!Y160=\"\",\"\",INDEX([1]FIBER_CONN_TYPE!$A$2:$A$100,MATCH('Radio (Desc)'!$Y160,[1]!MASTER_FIBER_CONN_TYPE_DESC[#Data],0),0))","v":""}]
[{"$f":"IF('Radio (Desc)'!A161=\"\",\"\",'Radio (Desc)'!A161)","v":""},{"$f":"IF('Radio (Desc)'!C161=\"\",\"\",\"2029\")","v":""},{"$f":"IF('Radio (Desc)'!C161=\"\",\"\",'Radio (Desc)'!C161)","v":""},{"$f":"IF('Radio (Desc)'!E161=\"\",\"\",\"RADIO\")","v":""},{"$f":"IF('Radio (Desc)'!E161=\"\",\"\",INDEX([1]RADIO_TYPE!$A$2:$A$100,MATCH('Radio (Desc)'!$E161,[1]!MASTER_RADIO_TYPE_DESC[#Data],0),0))","v":""},{"$f":"IF('Radio (Desc)'!F161=\"\",\"\",'Radio (Desc)'!F161)","v":""},{"$f":"IF('Radio (Desc)'!G161=\"\",\"\",INDEX([1]RADIO_FREQ!$A$2:$A$500,MATCH('Radio (Desc)'!$G161,[1]!MASTER_RADIO_FREQ_DESC[#Data],0),0))","v":""},{"$f":"IF('Radio (Desc)'!H161=\"\",\"\",'Radio (Desc)'!H161)","v":""},{"$f":"IF('Radio (Desc)'!I161=\"\",\"\",INDEX([1]RADIO_FREQ!$A$2:$A$500,MATCH('Radio (Desc)'!$I161,[1]!MASTER_RADIO_FREQ_DESC[#Data],0),0))","v":""},{"$f":"IF('Radio (Desc)'!J161=\"\",\"\",'Radio (Desc)'!J161)","v":""},{"$f":"IF('Radio (Desc)'!K161=\"\",\"\",INDEX([1]CALL_SIGN!$A$2:$A$600,MATCH('Radio (Desc)'!$K161,[1]!MASTER_CALL_SIGN_DESC[#Data],0),0))","v":""},{"$f":"IF('Radio (Desc)'!L161=\"\",\"\",INDEX([1]STATION_CLASS!$A$2:$A$100,MATCH('Radio (Desc)'!$L161,[1]!MASTER_STATION_CLASS_DESC[#Data],0),0))","v":""},{"$f":"IF('Radio (Desc)'!M161=\"\",\"\",'Radio (Desc)'!M161)","v":""},{"$f":"IF('Radio (Desc)'!N161=\"\",\"\",'Radio (Desc)'!N161)","v":""},{"$f":"IF('Radio (Desc)'!O161=\"\",\"\",INDEX([1]ITS_COMM_DEV_MANUF!$A$2:$A$300,MATCH(1,([1]ITS_COMM_DEV_MANUF!$B$2:$B$300='Radio (Desc)'!$O161)*([1]ITS_COMM_DEV_MANUF!$C$2:$C$300=\"RADIO\"),0),0))","v":""},{"$f":"IF('Radio (Desc)'!P161=\"\",\"\",INDEX([1]ITS_COMM_DEV_MODEL!$A$2:$A$500,MATCH(1,([1]ITS_COMM_DEV_MODEL!$C$2:$C$500='Radio (Desc)'!$O161)*([1]ITS_COMM_DEV_MODEL!$D$2:$D$500=\"RADIO\")*([1]ITS_COMM_DEV_MODEL!$E$2:$E$500='Radio (Desc)'!$P161),0),0))","v":""},{"$f":"IF('Radio (Desc)'!Q161=\"\",\"\",'Radio (Desc)'!Q161)","v":""},{"$f":"IF('Radio (Desc)'!R161=\"\",\"\",'Radio (Desc)'!R161)","v":""},{"$f":"IF('Radio (Desc)'!S161=\"\",\"\",'Radio (Desc)'!S161)","v":""},{"$f":"IF('Radio (Desc)'!T161=\"\",\"\",'Radio (Desc)'!T161)","v":""},{"$f":"IF('Radio (Desc)'!U161=\"\",\"\",INDEX([1]DEV_INPUT_VOLTAGE!$A$2:$A$100,MATCH('Radio (Desc)'!$U161,[1]!MASTER_DEV_INPUT_VOLTAGE_DESC[#Data],0),0))","v":""},{"$f":"IF('Radio (Desc)'!V161=\"\",\"\",'Radio (Desc)'!V161)","v":""},{"$f":"IF('Radio (Desc)'!W161=\"\",\"\",'Radio (Desc)'!W161)","v":""},{"$f":"IF('Radio (Desc)'!X161=\"\",\"\",'Radio (Desc)'!X161)","v":""},{"$f":"IF('Radio (Desc)'!Y161=\"\",\"\",INDEX([1]FIBER_CONN_TYPE!$A$2:$A$100,MATCH('Radio (Desc)'!$Y161,[1]!MASTER_FIBER_CONN_TYPE_DESC[#Data],0),0))","v":""}]
[{"$f":"IF('Radio (Desc)'!A162=\"\",\"\",'Radio (Desc)'!A162)","v":""},{"$f":"IF('Radio (Desc)'!C162=\"\",\"\",\"2029\")","v":""},{"$f":"IF('Radio (Desc)'!C162=\"\",\"\",'Radio (Desc)'!C162)","v":""},{"$f":"IF('Radio (Desc)'!E162=\"\",\"\",\"RADIO\")","v":""},{"$f":"IF('Radio (Desc)'!E162=\"\",\"\",INDEX([1]RADIO_TYPE!$A$2:$A$100,MATCH('Radio (Desc)'!$E162,[1]!MASTER_RADIO_TYPE_DESC[#Data],0),0))","v":""},{"$f":"IF('Radio (Desc)'!F162=\"\",\"\",'Radio (Desc)'!F162)","v":""},{"$f":"IF('Radio (Desc)'!G162=\"\",\"\",INDEX([1]RADIO_FREQ!$A$2:$A$500,MATCH('Radio (Desc)'!$G162,[1]!MASTER_RADIO_FREQ_DESC[#Data],0),0))","v":""},{"$f":"IF('Radio (Desc)'!H162=\"\",\"\",'Radio (Desc)'!H162)","v":""},{"$f":"IF('Radio (Desc)'!I162=\"\",\"\",INDEX([1]RADIO_FREQ!$A$2:$A$500,MATCH('Radio (Desc)'!$I162,[1]!MASTER_RADIO_FREQ_DESC[#Data],0),0))","v":""},{"$f":"IF('Radio (Desc)'!J162=\"\",\"\",'Radio (Desc)'!J162)","v":""},{"$f":"IF('Radio (Desc)'!K162=\"\",\"\",INDEX([1]CALL_SIGN!$A$2:$A$600,MATCH('Radio (Desc)'!$K162,[1]!MASTER_CALL_SIGN_DESC[#Data],0),0))","v":""},{"$f":"IF('Radio (Desc)'!L162=\"\",\"\",INDEX([1]STATION_CLASS!$A$2:$A$100,MATCH('Radio (Desc)'!$L162,[1]!MASTER_STATION_CLASS_DESC[#Data],0),0))","v":""},{"$f":"IF('Radio (Desc)'!M162=\"\",\"\",'Radio (Desc)'!M162)","v":""},{"$f":"IF('Radio (Desc)'!N162=\"\",\"\",'Radio (Desc)'!N162)","v":""},{"$f":"IF('Radio (Desc)'!O162=\"\",\"\",INDEX([1]ITS_COMM_DEV_MANUF!$A$2:$A$300,MATCH(1,([1]ITS_COMM_DEV_MANUF!$B$2:$B$300='Radio (Desc)'!$O162)*([1]ITS_COMM_DEV_MANUF!$C$2:$C$300=\"RADIO\"),0),0))","v":""},{"$f":"IF('Radio (Desc)'!P162=\"\",\"\",INDEX([1]ITS_COMM_DEV_MODEL!$A$2:$A$500,MATCH(1,([1]ITS_COMM_DEV_MODEL!$C$2:$C$500='Radio (Desc)'!$O162)*([1]ITS_COMM_DEV_MODEL!$D$2:$D$500=\"RADIO\")*([1]ITS_COMM_DEV_MODEL!$E$2:$E$500='Radio (Desc)'!$P162),0),0))","v":""},{"$f":"IF('Radio (Desc)'!Q162=\"\",\"\",'Radio (Desc)'!Q162)","v":""},{"$f":"IF('Radio (Desc)'!R162=\"\",\"\",'Radio (Desc)'!R162)","v":""},{"$f":"IF('Radio (Desc)'!S162=\"\",\"\",'Radio (Desc)'!S162)","v":""},{"$f":"IF('Radio (Desc)'!T162=\"\",\"\",'Radio (Desc)'!T162)","v":""},{"$f":"IF('Radio (Desc)'!U162=\"\",\"\",INDEX([1]DEV_INPUT_VOLTAGE!$A$2:$A$100,MATCH('Radio (Desc)'!$U162,[1]!MASTER_DEV_INPUT_VOLTAGE_DESC[#Data],0),0))","v":""},{"$f":"IF('Radio (Desc)'!V162=\"\",\"\",'Radio (Desc)'!V162)","v":""},{"$f":"IF('Radio (Desc)'!W162=\"\",\"\",'Radio (Desc)'!W162)","v":""},{"$f":"IF('Radio (Desc)'!X162=\"\",\"\",'Radio (Desc)'!X162)","v":""},{"$f":"IF('Radio (Desc)'!Y162=\"\",\"\",INDEX([1]FIBER_CONN_TYPE!$A$2:$A$100,MATCH('Radio (Desc)'!$Y162,[1]!MASTER_FIBER_CONN_TYPE_DESC[#Data],0),0))","v":""}]
[{"$f":"IF('Radio (Desc)'!A163=\"\",\"\",'Radio (Desc)'!A163)","v":""},{"$f":"IF('Radio (Desc)'!C163=\"\",\"\",\"2029\")","v":""},{"$f":"IF('Radio (Desc)'!C163=\"\",\"\",'Radio (Desc)'!C163)","v":""},{"$f":"IF('Radio (Desc)'!E163=\"\",\"\",\"RADIO\")","v":""},{"$f":"IF('Radio (Desc)'!E163=\"\",\"\",INDEX([1]RADIO_TYPE!$A$2:$A$100,MATCH('Radio (Desc)'!$E163,[1]!MASTER_RADIO_TYPE_DESC[#Data],0),0))","v":""},{"$f":"IF('Radio (Desc)'!F163=\"\",\"\",'Radio (Desc)'!F163)","v":""},{"$f":"IF('Radio (Desc)'!G163=\"\",\"\",INDEX([1]RADIO_FREQ!$A$2:$A$500,MATCH('Radio (Desc)'!$G163,[1]!MASTER_RADIO_FREQ_DESC[#Data],0),0))","v":""},{"$f":"IF('Radio (Desc)'!H163=\"\",\"\",'Radio (Desc)'!H163)","v":""},{"$f":"IF('Radio (Desc)'!I163=\"\",\"\",INDEX([1]RADIO_FREQ!$A$2:$A$500,MATCH('Radio (Desc)'!$I163,[1]!MASTER_RADIO_FREQ_DESC[#Data],0),0))","v":""},{"$f":"IF('Radio (Desc)'!J163=\"\",\"\",'Radio (Desc)'!J163)","v":""},{"$f":"IF('Radio (Desc)'!K163=\"\",\"\",INDEX([1]CALL_SIGN!$A$2:$A$600,MATCH('Radio (Desc)'!$K163,[1]!MASTER_CALL_SIGN_DESC[#Data],0),0))","v":""},{"$f":"IF('Radio (Desc)'!L163=\"\",\"\",INDEX([1]STATION_CLASS!$A$2:$A$100,MATCH('Radio (Desc)'!$L163,[1]!MASTER_STATION_CLASS_DESC[#Data],0),0))","v":""},{"$f":"IF('Radio (Desc)'!M163=\"\",\"\",'Radio (Desc)'!M163)","v":""},{"$f":"IF('Radio (Desc)'!N163=\"\",\"\",'Radio (Desc)'!N163)","v":""},{"$f":"IF('Radio (Desc)'!O163=\"\",\"\",INDEX([1]ITS_COMM_DEV_MANUF!$A$2:$A$300,MATCH(1,([1]ITS_COMM_DEV_MANUF!$B$2:$B$300='Radio (Desc)'!$O163)*([1]ITS_COMM_DEV_MANUF!$C$2:$C$300=\"RADIO\"),0),0))","v":""},{"$f":"IF('Radio (Desc)'!P163=\"\",\"\",INDEX([1]ITS_COMM_DEV_MODEL!$A$2:$A$500,MATCH(1,([1]ITS_COMM_DEV_MODEL!$C$2:$C$500='Radio (Desc)'!$O163)*([1]ITS_COMM_DEV_MODEL!$D$2:$D$500=\"RADIO\")*([1]ITS_COMM_DEV_MODEL!$E$2:$E$500='Radio (Desc)'!$P163),0),0))","v":""},{"$f":"IF('Radio (Desc)'!Q163=\"\",\"\",'Radio (Desc)'!Q163)","v":""},{"$f":"IF('Radio (Desc)'!R163=\"\",\"\",'Radio (Desc)'!R163)","v":""},{"$f":"IF('Radio (Desc)'!S163=\"\",\"\",'Radio (Desc)'!S163)","v":""},{"$f":"IF('Radio (Desc)'!T163=\"\",\"\",'Radio (Desc)'!T163)","v":""},{"$f":"IF('Radio (Desc)'!U163=\"\",\"\",INDEX([1]DEV_INPUT_VOLTAGE!$A$2:$A$100,MATCH('Radio (Desc)'!$U163,[1]!MASTER_DEV_INPUT_VOLTAGE_DESC[#Data],0),0))","v":""},{"$f":"IF('Radio (Desc)'!V163=\"\",\"\",'Radio (Desc)'!V163)","v":""},{"$f":"IF('Radio (Desc)'!W163=\"\",\"\",'Radio (Desc)'!W163)","v":""},{"$f":"IF('Radio (Desc)'!X163=\"\",\"\",'Radio (Desc)'!X163)","v":""},{"$f":"IF('Radio (Desc)'!Y163=\"\",\"\",INDEX([1]FIBER_CONN_TYPE!$A$2:$A$100,MATCH('Radio (Desc)'!$Y163,[1]!MASTER_FIBER_CONN_TYPE_DESC[#Data],0),0))","v":""}]
[{"$f":"IF('Radio (Desc)'!A164=\"\",\"\",'Radio (Desc)'!A164)","v":""},{"$f":"IF('Radio (Desc)'!C164=\"\",\"\",\"2029\")","v":""},{"$f":"IF('Radio (Desc)'!C164=\"\",\"\",'Radio (Desc)'!C164)","v":""},{"$f":"IF('Radio (Desc)'!E164=\"\",\"\",\"RADIO\")","v":""},{"$f":"IF('Radio (Desc)'!E164=\"\",\"\",INDEX([1]RADIO_TYPE!$A$2:$A$100,MATCH('Radio (Desc)'!$E164,[1]!MASTER_RADIO_TYPE_DESC[#Data],0),0))","v":""},{"$f":"IF('Radio (Desc)'!F164=\"\",\"\",'Radio (Desc)'!F164)","v":""},{"$f":"IF('Radio (Desc)'!G164=\"\",\"\",INDEX([1]RADIO_FREQ!$A$2:$A$500,MATCH('Radio (Desc)'!$G164,[1]!MASTER_RADIO_FREQ_DESC[#Data],0),0))","v":""},{"$f":"IF('Radio (Desc)'!H164=\"\",\"\",'Radio (Desc)'!H164)","v":""},{"$f":"IF('Radio (Desc)'!I164=\"\",\"\",INDEX([1]RADIO_FREQ!$A$2:$A$500,MATCH('Radio (Desc)'!$I164,[1]!MASTER_RADIO_FREQ_DESC[#Data],0),0))","v":""},{"$f":"IF('Radio (Desc)'!J164=\"\",\"\",'Radio (Desc)'!J164)","v":""},{"$f":"IF('Radio (Desc)'!K164=\"\",\"\",INDEX([1]CALL_SIGN!$A$2:$A$600,MATCH('Radio (Desc)'!$K164,[1]!MASTER_CALL_SIGN_DESC[#Data],0),0))","v":""},{"$f":"IF('Radio (Desc)'!L164=\"\",\"\",INDEX([1]STATION_CLASS!$A$2:$A$100,MATCH('Radio (Desc)'!$L164,[1]!MASTER_STATION_CLASS_DESC[#Data],0),0))","v":""},{"$f":"IF('Radio (Desc)'!M164=\"\",\"\",'Radio (Desc)'!M164)","v":""},{"$f":"IF('Radio (Desc)'!N164=\"\",\"\",'Radio (Desc)'!N164)","v":""},{"$f":"IF('Radio (Desc)'!O164=\"\",\"\",INDEX([1]ITS_COMM_DEV_MANUF!$A$2:$A$300,MATCH(1,([1]ITS_COMM_DEV_MANUF!$B$2:$B$300='Radio (Desc)'!$O164)*([1]ITS_COMM_DEV_MANUF!$C$2:$C$300=\"RADIO\"),0),0))","v":""},{"$f":"IF('Radio (Desc)'!P164=\"\",\"\",INDEX([1]ITS_COMM_DEV_MODEL!$A$2:$A$500,MATCH(1,([1]ITS_COMM_DEV_MODEL!$C$2:$C$500='Radio (Desc)'!$O164)*([1]ITS_COMM_DEV_MODEL!$D$2:$D$500=\"RADIO\")*([1]ITS_COMM_DEV_MODEL!$E$2:$E$500='Radio (Desc)'!$P164),0),0))","v":""},{"$f":"IF('Radio (Desc)'!Q164=\"\",\"\",'Radio (Desc)'!Q164)","v":""},{"$f":"IF('Radio (Desc)'!R164=\"\",\"\",'Radio (Desc)'!R164)","v":""},{"$f":"IF('Radio (Desc)'!S164=\"\",\"\",'Radio (Desc)'!S164)","v":""},{"$f":"IF('Radio (Desc)'!T164=\"\",\"\",'Radio (Desc)'!T164)","v":""},{"$f":"IF('Radio (Desc)'!U164=\"\",\"\",INDEX([1]DEV_INPUT_VOLTAGE!$A$2:$A$100,MATCH('Radio (Desc)'!$U164,[1]!MASTER_DEV_INPUT_VOLTAGE_DESC[#Data],0),0))","v":""},{"$f":"IF('Radio (Desc)'!V164=\"\",\"\",'Radio (Desc)'!V164)","v":""},{"$f":"IF('Radio (Desc)'!W164=\"\",\"\",'Radio (Desc)'!W164)","v":""},{"$f":"IF('Radio (Desc)'!X164=\"\",\"\",'Radio (Desc)'!X164)","v":""},{"$f":"IF('Radio (Desc)'!Y164=\"\",\"\",INDEX([1]FIBER_CONN_TYPE!$A$2:$A$100,MATCH('Radio (Desc)'!$Y164,[1]!MASTER_FIBER_CONN_TYPE_DESC[#Data],0),0))","v":""}]
[{"$f":"IF('Radio (Desc)'!A165=\"\",\"\",'Radio (Desc)'!A165)","v":""},{"$f":"IF('Radio (Desc)'!C165=\"\",\"\",\"2029\")","v":""},{"$f":"IF('Radio (Desc)'!C165=\"\",\"\",'Radio (Desc)'!C165)","v":""},{"$f":"IF('Radio (Desc)'!E165=\"\",\"\",\"RADIO\")","v":""},{"$f":"IF('Radio (Desc)'!E165=\"\",\"\",INDEX([1]RADIO_TYPE!$A$2:$A$100,MATCH('Radio (Desc)'!$E165,[1]!MASTER_RADIO_TYPE_DESC[#Data],0),0))","v":""},{"$f":"IF('Radio (Desc)'!F165=\"\",\"\",'Radio (Desc)'!F165)","v":""},{"$f":"IF('Radio (Desc)'!G165=\"\",\"\",INDEX([1]RADIO_FREQ!$A$2:$A$500,MATCH('Radio (Desc)'!$G165,[1]!MASTER_RADIO_FREQ_DESC[#Data],0),0))","v":""},{"$f":"IF('Radio (Desc)'!H165=\"\",\"\",'Radio (Desc)'!H165)","v":""},{"$f":"IF('Radio (Desc)'!I165=\"\",\"\",INDEX([1]RADIO_FREQ!$A$2:$A$500,MATCH('Radio (Desc)'!$I165,[1]!MASTER_RADIO_FREQ_DESC[#Data],0),0))","v":""},{"$f":"IF('Radio (Desc)'!J165=\"\",\"\",'Radio (Desc)'!J165)","v":""},{"$f":"IF('Radio (Desc)'!K165=\"\",\"\",INDEX([1]CALL_SIGN!$A$2:$A$600,MATCH('Radio (Desc)'!$K165,[1]!MASTER_CALL_SIGN_DESC[#Data],0),0))","v":""},{"$f":"IF('Radio (Desc)'!L165=\"\",\"\",INDEX([1]STATION_CLASS!$A$2:$A$100,MATCH('Radio (Desc)'!$L165,[1]!MASTER_STATION_CLASS_DESC[#Data],0),0))","v":""},{"$f":"IF('Radio (Desc)'!M165=\"\",\"\",'Radio (Desc)'!M165)","v":""},{"$f":"IF('Radio (Desc)'!N165=\"\",\"\",'Radio (Desc)'!N165)","v":""},{"$f":"IF('Radio (Desc)'!O165=\"\",\"\",INDEX([1]ITS_COMM_DEV_MANUF!$A$2:$A$300,MATCH(1,([1]ITS_COMM_DEV_MANUF!$B$2:$B$300='Radio (Desc)'!$O165)*([1]ITS_COMM_DEV_MANUF!$C$2:$C$300=\"RADIO\"),0),0))","v":""},{"$f":"IF('Radio (Desc)'!P165=\"\",\"\",INDEX([1]ITS_COMM_DEV_MODEL!$A$2:$A$500,MATCH(1,([1]ITS_COMM_DEV_MODEL!$C$2:$C$500='Radio (Desc)'!$O165)*([1]ITS_COMM_DEV_MODEL!$D$2:$D$500=\"RADIO\")*([1]ITS_COMM_DEV_MODEL!$E$2:$E$500='Radio (Desc)'!$P165),0),0))","v":""},{"$f":"IF('Radio (Desc)'!Q165=\"\",\"\",'Radio (Desc)'!Q165)","v":""},{"$f":"IF('Radio (Desc)'!R165=\"\",\"\",'Radio (Desc)'!R165)","v":""},{"$f":"IF('Radio (Desc)'!S165=\"\",\"\",'Radio (Desc)'!S165)","v":""},{"$f":"IF('Radio (Desc)'!T165=\"\",\"\",'Radio (Desc)'!T165)","v":""},{"$f":"IF('Radio (Desc)'!U165=\"\",\"\",INDEX([1]DEV_INPUT_VOLTAGE!$A$2:$A$100,MATCH('Radio (Desc)'!$U165,[1]!MASTER_DEV_INPUT_VOLTAGE_DESC[#Data],0),0))","v":""},{"$f":"IF('Radio (Desc)'!V165=\"\",\"\",'Radio (Desc)'!V165)","v":""},{"$f":"IF('Radio (Desc)'!W165=\"\",\"\",'Radio (Desc)'!W165)","v":""},{"$f":"IF('Radio (Desc)'!X165=\"\",\"\",'Radio (Desc)'!X165)","v":""},{"$f":"IF('Radio (Desc)'!Y165=\"\",\"\",INDEX([1]FIBER_CONN_TYPE!$A$2:$A$100,MATCH('Radio (Desc)'!$Y165,[1]!MASTER_FIBER_CONN_TYPE_DESC[#Data],0),0))","v":""}]
[{"$f":"IF('Radio (Desc)'!A166=\"\",\"\",'Radio (Desc)'!A166)","v":""},{"$f":"IF('Radio (Desc)'!C166=\"\",\"\",\"2029\")","v":""},{"$f":"IF('Radio (Desc)'!C166=\"\",\"\",'Radio (Desc)'!C166)","v":""},{"$f":"IF('Radio (Desc)'!E166=\"\",\"\",\"RADIO\")","v":""},{"$f":"IF('Radio (Desc)'!E166=\"\",\"\",INDEX([1]RADIO_TYPE!$A$2:$A$100,MATCH('Radio (Desc)'!$E166,[1]!MASTER_RADIO_TYPE_DESC[#Data],0),0))","v":""},{"$f":"IF('Radio (Desc)'!F166=\"\",\"\",'Radio (Desc)'!F166)","v":""},{"$f":"IF('Radio (Desc)'!G166=\"\",\"\",INDEX([1]RADIO_FREQ!$A$2:$A$500,MATCH('Radio (Desc)'!$G166,[1]!MASTER_RADIO_FREQ_DESC[#Data],0),0))","v":""},{"$f":"IF('Radio (Desc)'!H166=\"\",\"\",'Radio (Desc)'!H166)","v":""},{"$f":"IF('Radio (Desc)'!I166=\"\",\"\",INDEX([1]RADIO_FREQ!$A$2:$A$500,MATCH('Radio (Desc)'!$I166,[1]!MASTER_RADIO_FREQ_DESC[#Data],0),0))","v":""},{"$f":"IF('Radio (Desc)'!J166=\"\",\"\",'Radio (Desc)'!J166)","v":""},{"$f":"IF('Radio (Desc)'!K166=\"\",\"\",INDEX([1]CALL_SIGN!$A$2:$A$600,MATCH('Radio (Desc)'!$K166,[1]!MASTER_CALL_SIGN_DESC[#Data],0),0))","v":""},{"$f":"IF('Radio (Desc)'!L166=\"\",\"\",INDEX([1]STATION_CLASS!$A$2:$A$100,MATCH('Radio (Desc)'!$L166,[1]!MASTER_STATION_CLASS_DESC[#Data],0),0))","v":""},{"$f":"IF('Radio (Desc)'!M166=\"\",\"\",'Radio (Desc)'!M166)","v":""},{"$f":"IF('Radio (Desc)'!N166=\"\",\"\",'Radio (Desc)'!N166)","v":""},{"$f":"IF('Radio (Desc)'!O166=\"\",\"\",INDEX([1]ITS_COMM_DEV_MANUF!$A$2:$A$300,MATCH(1,([1]ITS_COMM_DEV_MANUF!$B$2:$B$300='Radio (Desc)'!$O166)*([1]ITS_COMM_DEV_MANUF!$C$2:$C$300=\"RADIO\"),0),0))","v":""},{"$f":"IF('Radio (Desc)'!P166=\"\",\"\",INDEX([1]ITS_COMM_DEV_MODEL!$A$2:$A$500,MATCH(1,([1]ITS_COMM_DEV_MODEL!$C$2:$C$500='Radio (Desc)'!$O166)*([1]ITS_COMM_DEV_MODEL!$D$2:$D$500=\"RADIO\")*([1]ITS_COMM_DEV_MODEL!$E$2:$E$500='Radio (Desc)'!$P166),0),0))","v":""},{"$f":"IF('Radio (Desc)'!Q166=\"\",\"\",'Radio (Desc)'!Q166)","v":""},{"$f":"IF('Radio (Desc)'!R166=\"\",\"\",'Radio (Desc)'!R166)","v":""},{"$f":"IF('Radio (Desc)'!S166=\"\",\"\",'Radio (Desc)'!S166)","v":""},{"$f":"IF('Radio (Desc)'!T166=\"\",\"\",'Radio (Desc)'!T166)","v":""},{"$f":"IF('Radio (Desc)'!U166=\"\",\"\",INDEX([1]DEV_INPUT_VOLTAGE!$A$2:$A$100,MATCH('Radio (Desc)'!$U166,[1]!MASTER_DEV_INPUT_VOLTAGE_DESC[#Data],0),0))","v":""},{"$f":"IF('Radio (Desc)'!V166=\"\",\"\",'Radio (Desc)'!V166)","v":""},{"$f":"IF('Radio (Desc)'!W166=\"\",\"\",'Radio (Desc)'!W166)","v":""},{"$f":"IF('Radio (Desc)'!X166=\"\",\"\",'Radio (Desc)'!X166)","v":""},{"$f":"IF('Radio (Desc)'!Y166=\"\",\"\",INDEX([1]FIBER_CONN_TYPE!$A$2:$A$100,MATCH('Radio (Desc)'!$Y166,[1]!MASTER_FIBER_CONN_TYPE_DESC[#Data],0),0))","v":""}]
[{"$f":"IF('Radio (Desc)'!A167=\"\",\"\",'Radio (Desc)'!A167)","v":""},{"$f":"IF('Radio (Desc)'!C167=\"\",\"\",\"2029\")","v":""},{"$f":"IF('Radio (Desc)'!C167=\"\",\"\",'Radio (Desc)'!C167)","v":""},{"$f":"IF('Radio (Desc)'!E167=\"\",\"\",\"RADIO\")","v":""},{"$f":"IF('Radio (Desc)'!E167=\"\",\"\",INDEX([1]RADIO_TYPE!$A$2:$A$100,MATCH('Radio (Desc)'!$E167,[1]!MASTER_RADIO_TYPE_DESC[#Data],0),0))","v":""},{"$f":"IF('Radio (Desc)'!F167=\"\",\"\",'Radio (Desc)'!F167)","v":""},{"$f":"IF('Radio (Desc)'!G167=\"\",\"\",INDEX([1]RADIO_FREQ!$A$2:$A$500,MATCH('Radio (Desc)'!$G167,[1]!MASTER_RADIO_FREQ_DESC[#Data],0),0))","v":""},{"$f":"IF('Radio (Desc)'!H167=\"\",\"\",'Radio (Desc)'!H167)","v":""},{"$f":"IF('Radio (Desc)'!I167=\"\",\"\",INDEX([1]RADIO_FREQ!$A$2:$A$500,MATCH('Radio (Desc)'!$I167,[1]!MASTER_RADIO_FREQ_DESC[#Data],0),0))","v":""},{"$f":"IF('Radio (Desc)'!J167=\"\",\"\",'Radio (Desc)'!J167)","v":""},{"$f":"IF('Radio (Desc)'!K167=\"\",\"\",INDEX([1]CALL_SIGN!$A$2:$A$600,MATCH('Radio (Desc)'!$K167,[1]!MASTER_CALL_SIGN_DESC[#Data],0),0))","v":""},{"$f":"IF('Radio (Desc)'!L167=\"\",\"\",INDEX([1]STATION_CLASS!$A$2:$A$100,MATCH('Radio (Desc)'!$L167,[1]!MASTER_STATION_CLASS_DESC[#Data],0),0))","v":""},{"$f":"IF('Radio (Desc)'!M167=\"\",\"\",'Radio (Desc)'!M167)","v":""},{"$f":"IF('Radio (Desc)'!N167=\"\",\"\",'Radio (Desc)'!N167)","v":""},{"$f":"IF('Radio (Desc)'!O167=\"\",\"\",INDEX([1]ITS_COMM_DEV_MANUF!$A$2:$A$300,MATCH(1,([1]ITS_COMM_DEV_MANUF!$B$2:$B$300='Radio (Desc)'!$O167)*([1]ITS_COMM_DEV_MANUF!$C$2:$C$300=\"RADIO\"),0),0))","v":""},{"$f":"IF('Radio (Desc)'!P167=\"\",\"\",INDEX([1]ITS_COMM_DEV_MODEL!$A$2:$A$500,MATCH(1,([1]ITS_COMM_DEV_MODEL!$C$2:$C$500='Radio (Desc)'!$O167)*([1]ITS_COMM_DEV_MODEL!$D$2:$D$500=\"RADIO\")*([1]ITS_COMM_DEV_MODEL!$E$2:$E$500='Radio (Desc)'!$P167),0),0))","v":""},{"$f":"IF('Radio (Desc)'!Q167=\"\",\"\",'Radio (Desc)'!Q167)","v":""},{"$f":"IF('Radio (Desc)'!R167=\"\",\"\",'Radio (Desc)'!R167)","v":""},{"$f":"IF('Radio (Desc)'!S167=\"\",\"\",'Radio (Desc)'!S167)","v":""},{"$f":"IF('Radio (Desc)'!T167=\"\",\"\",'Radio (Desc)'!T167)","v":""},{"$f":"IF('Radio (Desc)'!U167=\"\",\"\",INDEX([1]DEV_INPUT_VOLTAGE!$A$2:$A$100,MATCH('Radio (Desc)'!$U167,[1]!MASTER_DEV_INPUT_VOLTAGE_DESC[#Data],0),0))","v":""},{"$f":"IF('Radio (Desc)'!V167=\"\",\"\",'Radio (Desc)'!V167)","v":""},{"$f":"IF('Radio (Desc)'!W167=\"\",\"\",'Radio (Desc)'!W167)","v":""},{"$f":"IF('Radio (Desc)'!X167=\"\",\"\",'Radio (Desc)'!X167)","v":""},{"$f":"IF('Radio (Desc)'!Y167=\"\",\"\",INDEX([1]FIBER_CONN_TYPE!$A$2:$A$100,MATCH('Radio (Desc)'!$Y167,[1]!MASTER_FIBER_CONN_TYPE_DESC[#Data],0),0))","v":""}]
[{"$f":"IF('Radio (Desc)'!A168=\"\",\"\",'Radio (Desc)'!A168)","v":""},{"$f":"IF('Radio (Desc)'!C168=\"\",\"\",\"2029\")","v":""},{"$f":"IF('Radio (Desc)'!C168=\"\",\"\",'Radio (Desc)'!C168)","v":""},{"$f":"IF('Radio (Desc)'!E168=\"\",\"\",\"RADIO\")","v":""},{"$f":"IF('Radio (Desc)'!E168=\"\",\"\",INDEX([1]RADIO_TYPE!$A$2:$A$100,MATCH('Radio (Desc)'!$E168,[1]!MASTER_RADIO_TYPE_DESC[#Data],0),0))","v":""},{"$f":"IF('Radio (Desc)'!F168=\"\",\"\",'Radio (Desc)'!F168)","v":""},{"$f":"IF('Radio (Desc)'!G168=\"\",\"\",INDEX([1]RADIO_FREQ!$A$2:$A$500,MATCH('Radio (Desc)'!$G168,[1]!MASTER_RADIO_FREQ_DESC[#Data],0),0))","v":""},{"$f":"IF('Radio (Desc)'!H168=\"\",\"\",'Radio (Desc)'!H168)","v":""},{"$f":"IF('Radio (Desc)'!I168=\"\",\"\",INDEX([1]RADIO_FREQ!$A$2:$A$500,MATCH('Radio (Desc)'!$I168,[1]!MASTER_RADIO_FREQ_DESC[#Data],0),0))","v":""},{"$f":"IF('Radio (Desc)'!J168=\"\",\"\",'Radio (Desc)'!J168)","v":""},{"$f":"IF('Radio (Desc)'!K168=\"\",\"\",INDEX([1]CALL_SIGN!$A$2:$A$600,MATCH('Radio (Desc)'!$K168,[1]!MASTER_CALL_SIGN_DESC[#Data],0),0))","v":""},{"$f":"IF('Radio (Desc)'!L168=\"\",\"\",INDEX([1]STATION_CLASS!$A$2:$A$100,MATCH('Radio (Desc)'!$L168,[1]!MASTER_STATION_CLASS_DESC[#Data],0),0))","v":""},{"$f":"IF('Radio (Desc)'!M168=\"\",\"\",'Radio (Desc)'!M168)","v":""},{"$f":"IF('Radio (Desc)'!N168=\"\",\"\",'Radio (Desc)'!N168)","v":""},{"$f":"IF('Radio (Desc)'!O168=\"\",\"\",INDEX([1]ITS_COMM_DEV_MANUF!$A$2:$A$300,MATCH(1,([1]ITS_COMM_DEV_MANUF!$B$2:$B$300='Radio (Desc)'!$O168)*([1]ITS_COMM_DEV_MANUF!$C$2:$C$300=\"RADIO\"),0),0))","v":""},{"$f":"IF('Radio (Desc)'!P168=\"\",\"\",INDEX([1]ITS_COMM_DEV_MODEL!$A$2:$A$500,MATCH(1,([1]ITS_COMM_DEV_MODEL!$C$2:$C$500='Radio (Desc)'!$O168)*([1]ITS_COMM_DEV_MODEL!$D$2:$D$500=\"RADIO\")*([1]ITS_COMM_DEV_MODEL!$E$2:$E$500='Radio (Desc)'!$P168),0),0))","v":""},{"$f":"IF('Radio (Desc)'!Q168=\"\",\"\",'Radio (Desc)'!Q168)","v":""},{"$f":"IF('Radio (Desc)'!R168=\"\",\"\",'Radio (Desc)'!R168)","v":""},{"$f":"IF('Radio (Desc)'!S168=\"\",\"\",'Radio (Desc)'!S168)","v":""},{"$f":"IF('Radio (Desc)'!T168=\"\",\"\",'Radio (Desc)'!T168)","v":""},{"$f":"IF('Radio (Desc)'!U168=\"\",\"\",INDEX([1]DEV_INPUT_VOLTAGE!$A$2:$A$100,MATCH('Radio (Desc)'!$U168,[1]!MASTER_DEV_INPUT_VOLTAGE_DESC[#Data],0),0))","v":""},{"$f":"IF('Radio (Desc)'!V168=\"\",\"\",'Radio (Desc)'!V168)","v":""},{"$f":"IF('Radio (Desc)'!W168=\"\",\"\",'Radio (Desc)'!W168)","v":""},{"$f":"IF('Radio (Desc)'!X168=\"\",\"\",'Radio (Desc)'!X168)","v":""},{"$f":"IF('Radio (Desc)'!Y168=\"\",\"\",INDEX([1]FIBER_CONN_TYPE!$A$2:$A$100,MATCH('Radio (Desc)'!$Y168,[1]!MASTER_FIBER_CONN_TYPE_DESC[#Data],0),0))","v":""}]
[{"$f":"IF('Radio (Desc)'!A169=\"\",\"\",'Radio (Desc)'!A169)","v":""},{"$f":"IF('Radio (Desc)'!C169=\"\",\"\",\"2029\")","v":""},{"$f":"IF('Radio (Desc)'!C169=\"\",\"\",'Radio (Desc)'!C169)","v":""},{"$f":"IF('Radio (Desc)'!E169=\"\",\"\",\"RADIO\")","v":""},{"$f":"IF('Radio (Desc)'!E169=\"\",\"\",INDEX([1]RADIO_TYPE!$A$2:$A$100,MATCH('Radio (Desc)'!$E169,[1]!MASTER_RADIO_TYPE_DESC[#Data],0),0))","v":""},{"$f":"IF('Radio (Desc)'!F169=\"\",\"\",'Radio (Desc)'!F169)","v":""},{"$f":"IF('Radio (Desc)'!G169=\"\",\"\",INDEX([1]RADIO_FREQ!$A$2:$A$500,MATCH('Radio (Desc)'!$G169,[1]!MASTER_RADIO_FREQ_DESC[#Data],0),0))","v":""},{"$f":"IF('Radio (Desc)'!H169=\"\",\"\",'Radio (Desc)'!H169)","v":""},{"$f":"IF('Radio (Desc)'!I169=\"\",\"\",INDEX([1]RADIO_FREQ!$A$2:$A$500,MATCH('Radio (Desc)'!$I169,[1]!MASTER_RADIO_FREQ_DESC[#Data],0),0))","v":""},{"$f":"IF('Radio (Desc)'!J169=\"\",\"\",'Radio (Desc)'!J169)","v":""},{"$f":"IF('Radio (Desc)'!K169=\"\",\"\",INDEX([1]CALL_SIGN!$A$2:$A$600,MATCH('Radio (Desc)'!$K169,[1]!MASTER_CALL_SIGN_DESC[#Data],0),0))","v":""},{"$f":"IF('Radio (Desc)'!L169=\"\",\"\",INDEX([1]STATION_CLASS!$A$2:$A$100,MATCH('Radio (Desc)'!$L169,[1]!MASTER_STATION_CLASS_DESC[#Data],0),0))","v":""},{"$f":"IF('Radio (Desc)'!M169=\"\",\"\",'Radio (Desc)'!M169)","v":""},{"$f":"IF('Radio (Desc)'!N169=\"\",\"\",'Radio (Desc)'!N169)","v":""},{"$f":"IF('Radio (Desc)'!O169=\"\",\"\",INDEX([1]ITS_COMM_DEV_MANUF!$A$2:$A$300,MATCH(1,([1]ITS_COMM_DEV_MANUF!$B$2:$B$300='Radio (Desc)'!$O169)*([1]ITS_COMM_DEV_MANUF!$C$2:$C$300=\"RADIO\"),0),0))","v":""},{"$f":"IF('Radio (Desc)'!P169=\"\",\"\",INDEX([1]ITS_COMM_DEV_MODEL!$A$2:$A$500,MATCH(1,([1]ITS_COMM_DEV_MODEL!$C$2:$C$500='Radio (Desc)'!$O169)*([1]ITS_COMM_DEV_MODEL!$D$2:$D$500=\"RADIO\")*([1]ITS_COMM_DEV_MODEL!$E$2:$E$500='Radio (Desc)'!$P169),0),0))","v":""},{"$f":"IF('Radio (Desc)'!Q169=\"\",\"\",'Radio (Desc)'!Q169)","v":""},{"$f":"IF('Radio (Desc)'!R169=\"\",\"\",'Radio (Desc)'!R169)","v":""},{"$f":"IF('Radio (Desc)'!S169=\"\",\"\",'Radio (Desc)'!S169)","v":""},{"$f":"IF('Radio (Desc)'!T169=\"\",\"\",'Radio (Desc)'!T169)","v":""},{"$f":"IF('Radio (Desc)'!U169=\"\",\"\",INDEX([1]DEV_INPUT_VOLTAGE!$A$2:$A$100,MATCH('Radio (Desc)'!$U169,[1]!MASTER_DEV_INPUT_VOLTAGE_DESC[#Data],0),0))","v":""},{"$f":"IF('Radio (Desc)'!V169=\"\",\"\",'Radio (Desc)'!V169)","v":""},{"$f":"IF('Radio (Desc)'!W169=\"\",\"\",'Radio (Desc)'!W169)","v":""},{"$f":"IF('Radio (Desc)'!X169=\"\",\"\",'Radio (Desc)'!X169)","v":""},{"$f":"IF('Radio (Desc)'!Y169=\"\",\"\",INDEX([1]FIBER_CONN_TYPE!$A$2:$A$100,MATCH('Radio (Desc)'!$Y169,[1]!MASTER_FIBER_CONN_TYPE_DESC[#Data],0),0))","v":""}]
[{"$f":"IF('Radio (Desc)'!A170=\"\",\"\",'Radio (Desc)'!A170)","v":""},{"$f":"IF('Radio (Desc)'!C170=\"\",\"\",\"2029\")","v":""},{"$f":"IF('Radio (Desc)'!C170=\"\",\"\",'Radio (Desc)'!C170)","v":""},{"$f":"IF('Radio (Desc)'!E170=\"\",\"\",\"RADIO\")","v":""},{"$f":"IF('Radio (Desc)'!E170=\"\",\"\",INDEX([1]RADIO_TYPE!$A$2:$A$100,MATCH('Radio (Desc)'!$E170,[1]!MASTER_RADIO_TYPE_DESC[#Data],0),0))","v":""},{"$f":"IF('Radio (Desc)'!F170=\"\",\"\",'Radio (Desc)'!F170)","v":""},{"$f":"IF('Radio (Desc)'!G170=\"\",\"\",INDEX([1]RADIO_FREQ!$A$2:$A$500,MATCH('Radio (Desc)'!$G170,[1]!MASTER_RADIO_FREQ_DESC[#Data],0),0))","v":""},{"$f":"IF('Radio (Desc)'!H170=\"\",\"\",'Radio (Desc)'!H170)","v":""},{"$f":"IF('Radio (Desc)'!I170=\"\",\"\",INDEX([1]RADIO_FREQ!$A$2:$A$500,MATCH('Radio (Desc)'!$I170,[1]!MASTER_RADIO_FREQ_DESC[#Data],0),0))","v":""},{"$f":"IF('Radio (Desc)'!J170=\"\",\"\",'Radio (Desc)'!J170)","v":""},{"$f":"IF('Radio (Desc)'!K170=\"\",\"\",INDEX([1]CALL_SIGN!$A$2:$A$600,MATCH('Radio (Desc)'!$K170,[1]!MASTER_CALL_SIGN_DESC[#Data],0),0))","v":""},{"$f":"IF('Radio (Desc)'!L170=\"\",\"\",INDEX([1]STATION_CLASS!$A$2:$A$100,MATCH('Radio (Desc)'!$L170,[1]!MASTER_STATION_CLASS_DESC[#Data],0),0))","v":""},{"$f":"IF('Radio (Desc)'!M170=\"\",\"\",'Radio (Desc)'!M170)","v":""},{"$f":"IF('Radio (Desc)'!N170=\"\",\"\",'Radio (Desc)'!N170)","v":""},{"$f":"IF('Radio (Desc)'!O170=\"\",\"\",INDEX([1]ITS_COMM_DEV_MANUF!$A$2:$A$300,MATCH(1,([1]ITS_COMM_DEV_MANUF!$B$2:$B$300='Radio (Desc)'!$O170)*([1]ITS_COMM_DEV_MANUF!$C$2:$C$300=\"RADIO\"),0),0))","v":""},{"$f":"IF('Radio (Desc)'!P170=\"\",\"\",INDEX([1]ITS_COMM_DEV_MODEL!$A$2:$A$500,MATCH(1,([1]ITS_COMM_DEV_MODEL!$C$2:$C$500='Radio (Desc)'!$O170)*([1]ITS_COMM_DEV_MODEL!$D$2:$D$500=\"RADIO\")*([1]ITS_COMM_DEV_MODEL!$E$2:$E$500='Radio (Desc)'!$P170),0),0))","v":""},{"$f":"IF('Radio (Desc)'!Q170=\"\",\"\",'Radio (Desc)'!Q170)","v":""},{"$f":"IF('Radio (Desc)'!R170=\"\",\"\",'Radio (Desc)'!R170)","v":""},{"$f":"IF('Radio (Desc)'!S170=\"\",\"\",'Radio (Desc)'!S170)","v":""},{"$f":"IF('Radio (Desc)'!T170=\"\",\"\",'Radio (Desc)'!T170)","v":""},{"$f":"IF('Radio (Desc)'!U170=\"\",\"\",INDEX([1]DEV_INPUT_VOLTAGE!$A$2:$A$100,MATCH('Radio (Desc)'!$U170,[1]!MASTER_DEV_INPUT_VOLTAGE_DESC[#Data],0),0))","v":""},{"$f":"IF('Radio (Desc)'!V170=\"\",\"\",'Radio (Desc)'!V170)","v":""},{"$f":"IF('Radio (Desc)'!W170=\"\",\"\",'Radio (Desc)'!W170)","v":""},{"$f":"IF('Radio (Desc)'!X170=\"\",\"\",'Radio (Desc)'!X170)","v":""},{"$f":"IF('Radio (Desc)'!Y170=\"\",\"\",INDEX([1]FIBER_CONN_TYPE!$A$2:$A$100,MATCH('Radio (Desc)'!$Y170,[1]!MASTER_FIBER_CONN_TYPE_DESC[#Data],0),0))","v":""}]
[{"$f":"IF('Radio (Desc)'!A171=\"\",\"\",'Radio (Desc)'!A171)","v":""},{"$f":"IF('Radio (Desc)'!C171=\"\",\"\",\"2029\")","v":""},{"$f":"IF('Radio (Desc)'!C171=\"\",\"\",'Radio (Desc)'!C171)","v":""},{"$f":"IF('Radio (Desc)'!E171=\"\",\"\",\"RADIO\")","v":""},{"$f":"IF('Radio (Desc)'!E171=\"\",\"\",INDEX([1]RADIO_TYPE!$A$2:$A$100,MATCH('Radio (Desc)'!$E171,[1]!MASTER_RADIO_TYPE_DESC[#Data],0),0))","v":""},{"$f":"IF('Radio (Desc)'!F171=\"\",\"\",'Radio (Desc)'!F171)","v":""},{"$f":"IF('Radio (Desc)'!G171=\"\",\"\",INDEX([1]RADIO_FREQ!$A$2:$A$500,MATCH('Radio (Desc)'!$G171,[1]!MASTER_RADIO_FREQ_DESC[#Data],0),0))","v":""},{"$f":"IF('Radio (Desc)'!H171=\"\",\"\",'Radio (Desc)'!H171)","v":""},{"$f":"IF('Radio (Desc)'!I171=\"\",\"\",INDEX([1]RADIO_FREQ!$A$2:$A$500,MATCH('Radio (Desc)'!$I171,[1]!MASTER_RADIO_FREQ_DESC[#Data],0),0))","v":""},{"$f":"IF('Radio (Desc)'!J171=\"\",\"\",'Radio (Desc)'!J171)","v":""},{"$f":"IF('Radio (Desc)'!K171=\"\",\"\",INDEX([1]CALL_SIGN!$A$2:$A$600,MATCH('Radio (Desc)'!$K171,[1]!MASTER_CALL_SIGN_DESC[#Data],0),0))","v":""},{"$f":"IF('Radio (Desc)'!L171=\"\",\"\",INDEX([1]STATION_CLASS!$A$2:$A$100,MATCH('Radio (Desc)'!$L171,[1]!MASTER_STATION_CLASS_DESC[#Data],0),0))","v":""},{"$f":"IF('Radio (Desc)'!M171=\"\",\"\",'Radio (Desc)'!M171)","v":""},{"$f":"IF('Radio (Desc)'!N171=\"\",\"\",'Radio (Desc)'!N171)","v":""},{"$f":"IF('Radio (Desc)'!O171=\"\",\"\",INDEX([1]ITS_COMM_DEV_MANUF!$A$2:$A$300,MATCH(1,([1]ITS_COMM_DEV_MANUF!$B$2:$B$300='Radio (Desc)'!$O171)*([1]ITS_COMM_DEV_MANUF!$C$2:$C$300=\"RADIO\"),0),0))","v":""},{"$f":"IF('Radio (Desc)'!P171=\"\",\"\",INDEX([1]ITS_COMM_DEV_MODEL!$A$2:$A$500,MATCH(1,([1]ITS_COMM_DEV_MODEL!$C$2:$C$500='Radio (Desc)'!$O171)*([1]ITS_COMM_DEV_MODEL!$D$2:$D$500=\"RADIO\")*([1]ITS_COMM_DEV_MODEL!$E$2:$E$500='Radio (Desc)'!$P171),0),0))","v":""},{"$f":"IF('Radio (Desc)'!Q171=\"\",\"\",'Radio (Desc)'!Q171)","v":""},{"$f":"IF('Radio (Desc)'!R171=\"\",\"\",'Radio (Desc)'!R171)","v":""},{"$f":"IF('Radio (Desc)'!S171=\"\",\"\",'Radio (Desc)'!S171)","v":""},{"$f":"IF('Radio (Desc)'!T171=\"\",\"\",'Radio (Desc)'!T171)","v":""},{"$f":"IF('Radio (Desc)'!U171=\"\",\"\",INDEX([1]DEV_INPUT_VOLTAGE!$A$2:$A$100,MATCH('Radio (Desc)'!$U171,[1]!MASTER_DEV_INPUT_VOLTAGE_DESC[#Data],0),0))","v":""},{"$f":"IF('Radio (Desc)'!V171=\"\",\"\",'Radio (Desc)'!V171)","v":""},{"$f":"IF('Radio (Desc)'!W171=\"\",\"\",'Radio (Desc)'!W171)","v":""},{"$f":"IF('Radio (Desc)'!X171=\"\",\"\",'Radio (Desc)'!X171)","v":""},{"$f":"IF('Radio (Desc)'!Y171=\"\",\"\",INDEX([1]FIBER_CONN_TYPE!$A$2:$A$100,MATCH('Radio (Desc)'!$Y171,[1]!MASTER_FIBER_CONN_TYPE_DESC[#Data],0),0))","v":""}]
[{"$f":"IF('Radio (Desc)'!A172=\"\",\"\",'Radio (Desc)'!A172)","v":""},{"$f":"IF('Radio (Desc)'!C172=\"\",\"\",\"2029\")","v":""},{"$f":"IF('Radio (Desc)'!C172=\"\",\"\",'Radio (Desc)'!C172)","v":""},{"$f":"IF('Radio (Desc)'!E172=\"\",\"\",\"RADIO\")","v":""},{"$f":"IF('Radio (Desc)'!E172=\"\",\"\",INDEX([1]RADIO_TYPE!$A$2:$A$100,MATCH('Radio (Desc)'!$E172,[1]!MASTER_RADIO_TYPE_DESC[#Data],0),0))","v":""},{"$f":"IF('Radio (Desc)'!F172=\"\",\"\",'Radio (Desc)'!F172)","v":""},{"$f":"IF('Radio (Desc)'!G172=\"\",\"\",INDEX([1]RADIO_FREQ!$A$2:$A$500,MATCH('Radio (Desc)'!$G172,[1]!MASTER_RADIO_FREQ_DESC[#Data],0),0))","v":""},{"$f":"IF('Radio (Desc)'!H172=\"\",\"\",'Radio (Desc)'!H172)","v":""},{"$f":"IF('Radio (Desc)'!I172=\"\",\"\",INDEX([1]RADIO_FREQ!$A$2:$A$500,MATCH('Radio (Desc)'!$I172,[1]!MASTER_RADIO_FREQ_DESC[#Data],0),0))","v":""},{"$f":"IF('Radio (Desc)'!J172=\"\",\"\",'Radio (Desc)'!J172)","v":""},{"$f":"IF('Radio (Desc)'!K172=\"\",\"\",INDEX([1]CALL_SIGN!$A$2:$A$600,MATCH('Radio (Desc)'!$K172,[1]!MASTER_CALL_SIGN_DESC[#Data],0),0))","v":""},{"$f":"IF('Radio (Desc)'!L172=\"\",\"\",INDEX([1]STATION_CLASS!$A$2:$A$100,MATCH('Radio (Desc)'!$L172,[1]!MASTER_STATION_CLASS_DESC[#Data],0),0))","v":""},{"$f":"IF('Radio (Desc)'!M172=\"\",\"\",'Radio (Desc)'!M172)","v":""},{"$f":"IF('Radio (Desc)'!N172=\"\",\"\",'Radio (Desc)'!N172)","v":""},{"$f":"IF('Radio (Desc)'!O172=\"\",\"\",INDEX([1]ITS_COMM_DEV_MANUF!$A$2:$A$300,MATCH(1,([1]ITS_COMM_DEV_MANUF!$B$2:$B$300='Radio (Desc)'!$O172)*([1]ITS_COMM_DEV_MANUF!$C$2:$C$300=\"RADIO\"),0),0))","v":""},{"$f":"IF('Radio (Desc)'!P172=\"\",\"\",INDEX([1]ITS_COMM_DEV_MODEL!$A$2:$A$500,MATCH(1,([1]ITS_COMM_DEV_MODEL!$C$2:$C$500='Radio (Desc)'!$O172)*([1]ITS_COMM_DEV_MODEL!$D$2:$D$500=\"RADIO\")*([1]ITS_COMM_DEV_MODEL!$E$2:$E$500='Radio (Desc)'!$P172),0),0))","v":""},{"$f":"IF('Radio (Desc)'!Q172=\"\",\"\",'Radio (Desc)'!Q172)","v":""},{"$f":"IF('Radio (Desc)'!R172=\"\",\"\",'Radio (Desc)'!R172)","v":""},{"$f":"IF('Radio (Desc)'!S172=\"\",\"\",'Radio (Desc)'!S172)","v":""},{"$f":"IF('Radio (Desc)'!T172=\"\",\"\",'Radio (Desc)'!T172)","v":""},{"$f":"IF('Radio (Desc)'!U172=\"\",\"\",INDEX([1]DEV_INPUT_VOLTAGE!$A$2:$A$100,MATCH('Radio (Desc)'!$U172,[1]!MASTER_DEV_INPUT_VOLTAGE_DESC[#Data],0),0))","v":""},{"$f":"IF('Radio (Desc)'!V172=\"\",\"\",'Radio (Desc)'!V172)","v":""},{"$f":"IF('Radio (Desc)'!W172=\"\",\"\",'Radio (Desc)'!W172)","v":""},{"$f":"IF('Radio (Desc)'!X172=\"\",\"\",'Radio (Desc)'!X172)","v":""},{"$f":"IF('Radio (Desc)'!Y172=\"\",\"\",INDEX([1]FIBER_CONN_TYPE!$A$2:$A$100,MATCH('Radio (Desc)'!$Y172,[1]!MASTER_FIBER_CONN_TYPE_DESC[#Data],0),0))","v":""}]
[{"$f":"IF('Radio (Desc)'!A173=\"\",\"\",'Radio (Desc)'!A173)","v":""},{"$f":"IF('Radio (Desc)'!C173=\"\",\"\",\"2029\")","v":""},{"$f":"IF('Radio (Desc)'!C173=\"\",\"\",'Radio (Desc)'!C173)","v":""},{"$f":"IF('Radio (Desc)'!E173=\"\",\"\",\"RADIO\")","v":""},{"$f":"IF('Radio (Desc)'!E173=\"\",\"\",INDEX([1]RADIO_TYPE!$A$2:$A$100,MATCH('Radio (Desc)'!$E173,[1]!MASTER_RADIO_TYPE_DESC[#Data],0),0))","v":""},{"$f":"IF('Radio (Desc)'!F173=\"\",\"\",'Radio (Desc)'!F173)","v":""},{"$f":"IF('Radio (Desc)'!G173=\"\",\"\",INDEX([1]RADIO_FREQ!$A$2:$A$500,MATCH('Radio (Desc)'!$G173,[1]!MASTER_RADIO_FREQ_DESC[#Data],0),0))","v":""},{"$f":"IF('Radio (Desc)'!H173=\"\",\"\",'Radio (Desc)'!H173)","v":""},{"$f":"IF('Radio (Desc)'!I173=\"\",\"\",INDEX([1]RADIO_FREQ!$A$2:$A$500,MATCH('Radio (Desc)'!$I173,[1]!MASTER_RADIO_FREQ_DESC[#Data],0),0))","v":""},{"$f":"IF('Radio (Desc)'!J173=\"\",\"\",'Radio (Desc)'!J173)","v":""},{"$f":"IF('Radio (Desc)'!K173=\"\",\"\",INDEX([1]CALL_SIGN!$A$2:$A$600,MATCH('Radio (Desc)'!$K173,[1]!MASTER_CALL_SIGN_DESC[#Data],0),0))","v":""},{"$f":"IF('Radio (Desc)'!L173=\"\",\"\",INDEX([1]STATION_CLASS!$A$2:$A$100,MATCH('Radio (Desc)'!$L173,[1]!MASTER_STATION_CLASS_DESC[#Data],0),0))","v":""},{"$f":"IF('Radio (Desc)'!M173=\"\",\"\",'Radio (Desc)'!M173)","v":""},{"$f":"IF('Radio (Desc)'!N173=\"\",\"\",'Radio (Desc)'!N173)","v":""},{"$f":"IF('Radio (Desc)'!O173=\"\",\"\",INDEX([1]ITS_COMM_DEV_MANUF!$A$2:$A$300,MATCH(1,([1]ITS_COMM_DEV_MANUF!$B$2:$B$300='Radio (Desc)'!$O173)*([1]ITS_COMM_DEV_MANUF!$C$2:$C$300=\"RADIO\"),0),0))","v":""},{"$f":"IF('Radio (Desc)'!P173=\"\",\"\",INDEX([1]ITS_COMM_DEV_MODEL!$A$2:$A$500,MATCH(1,([1]ITS_COMM_DEV_MODEL!$C$2:$C$500='Radio (Desc)'!$O173)*([1]ITS_COMM_DEV_MODEL!$D$2:$D$500=\"RADIO\")*([1]ITS_COMM_DEV_MODEL!$E$2:$E$500='Radio (Desc)'!$P173),0),0))","v":""},{"$f":"IF('Radio (Desc)'!Q173=\"\",\"\",'Radio (Desc)'!Q173)","v":""},{"$f":"IF('Radio (Desc)'!R173=\"\",\"\",'Radio (Desc)'!R173)","v":""},{"$f":"IF('Radio (Desc)'!S173=\"\",\"\",'Radio (Desc)'!S173)","v":""},{"$f":"IF('Radio (Desc)'!T173=\"\",\"\",'Radio (Desc)'!T173)","v":""},{"$f":"IF('Radio (Desc)'!U173=\"\",\"\",INDEX([1]DEV_INPUT_VOLTAGE!$A$2:$A$100,MATCH('Radio (Desc)'!$U173,[1]!MASTER_DEV_INPUT_VOLTAGE_DESC[#Data],0),0))","v":""},{"$f":"IF('Radio (Desc)'!V173=\"\",\"\",'Radio (Desc)'!V173)","v":""},{"$f":"IF('Radio (Desc)'!W173=\"\",\"\",'Radio (Desc)'!W173)","v":""},{"$f":"IF('Radio (Desc)'!X173=\"\",\"\",'Radio (Desc)'!X173)","v":""},{"$f":"IF('Radio (Desc)'!Y173=\"\",\"\",INDEX([1]FIBER_CONN_TYPE!$A$2:$A$100,MATCH('Radio (Desc)'!$Y173,[1]!MASTER_FIBER_CONN_TYPE_DESC[#Data],0),0))","v":""}]
[{"$f":"IF('Radio (Desc)'!A174=\"\",\"\",'Radio (Desc)'!A174)","v":""},{"$f":"IF('Radio (Desc)'!C174=\"\",\"\",\"2029\")","v":""},{"$f":"IF('Radio (Desc)'!C174=\"\",\"\",'Radio (Desc)'!C174)","v":""},{"$f":"IF('Radio (Desc)'!E174=\"\",\"\",\"RADIO\")","v":""},{"$f":"IF('Radio (Desc)'!E174=\"\",\"\",INDEX([1]RADIO_TYPE!$A$2:$A$100,MATCH('Radio (Desc)'!$E174,[1]!MASTER_RADIO_TYPE_DESC[#Data],0),0))","v":""},{"$f":"IF('Radio (Desc)'!F174=\"\",\"\",'Radio (Desc)'!F174)","v":""},{"$f":"IF('Radio (Desc)'!G174=\"\",\"\",INDEX([1]RADIO_FREQ!$A$2:$A$500,MATCH('Radio (Desc)'!$G174,[1]!MASTER_RADIO_FREQ_DESC[#Data],0),0))","v":""},{"$f":"IF('Radio (Desc)'!H174=\"\",\"\",'Radio (Desc)'!H174)","v":""},{"$f":"IF('Radio (Desc)'!I174=\"\",\"\",INDEX([1]RADIO_FREQ!$A$2:$A$500,MATCH('Radio (Desc)'!$I174,[1]!MASTER_RADIO_FREQ_DESC[#Data],0),0))","v":""},{"$f":"IF('Radio (Desc)'!J174=\"\",\"\",'Radio (Desc)'!J174)","v":""},{"$f":"IF('Radio (Desc)'!K174=\"\",\"\",INDEX([1]CALL_SIGN!$A$2:$A$600,MATCH('Radio (Desc)'!$K174,[1]!MASTER_CALL_SIGN_DESC[#Data],0),0))","v":""},{"$f":"IF('Radio (Desc)'!L174=\"\",\"\",INDEX([1]STATION_CLASS!$A$2:$A$100,MATCH('Radio (Desc)'!$L174,[1]!MASTER_STATION_CLASS_DESC[#Data],0),0))","v":""},{"$f":"IF('Radio (Desc)'!M174=\"\",\"\",'Radio (Desc)'!M174)","v":""},{"$f":"IF('Radio (Desc)'!N174=\"\",\"\",'Radio (Desc)'!N174)","v":""},{"$f":"IF('Radio (Desc)'!O174=\"\",\"\",INDEX([1]ITS_COMM_DEV_MANUF!$A$2:$A$300,MATCH(1,([1]ITS_COMM_DEV_MANUF!$B$2:$B$300='Radio (Desc)'!$O174)*([1]ITS_COMM_DEV_MANUF!$C$2:$C$300=\"RADIO\"),0),0))","v":""},{"$f":"IF('Radio (Desc)'!P174=\"\",\"\",INDEX([1]ITS_COMM_DEV_MODEL!$A$2:$A$500,MATCH(1,([1]ITS_COMM_DEV_MODEL!$C$2:$C$500='Radio (Desc)'!$O174)*([1]ITS_COMM_DEV_MODEL!$D$2:$D$500=\"RADIO\")*([1]ITS_COMM_DEV_MODEL!$E$2:$E$500='Radio (Desc)'!$P174),0),0))","v":""},{"$f":"IF('Radio (Desc)'!Q174=\"\",\"\",'Radio (Desc)'!Q174)","v":""},{"$f":"IF('Radio (Desc)'!R174=\"\",\"\",'Radio (Desc)'!R174)","v":""},{"$f":"IF('Radio (Desc)'!S174=\"\",\"\",'Radio (Desc)'!S174)","v":""},{"$f":"IF('Radio (Desc)'!T174=\"\",\"\",'Radio (Desc)'!T174)","v":""},{"$f":"IF('Radio (Desc)'!U174=\"\",\"\",INDEX([1]DEV_INPUT_VOLTAGE!$A$2:$A$100,MATCH('Radio (Desc)'!$U174,[1]!MASTER_DEV_INPUT_VOLTAGE_DESC[#Data],0),0))","v":""},{"$f":"IF('Radio (Desc)'!V174=\"\",\"\",'Radio (Desc)'!V174)","v":""},{"$f":"IF('Radio (Desc)'!W174=\"\",\"\",'Radio (Desc)'!W174)","v":""},{"$f":"IF('Radio (Desc)'!X174=\"\",\"\",'Radio (Desc)'!X174)","v":""},{"$f":"IF('Radio (Desc)'!Y174=\"\",\"\",INDEX([1]FIBER_CONN_TYPE!$A$2:$A$100,MATCH('Radio (Desc)'!$Y174,[1]!MASTER_FIBER_CONN_TYPE_DESC[#Data],0),0))","v":""}]
[{"$f":"IF('Radio (Desc)'!A175=\"\",\"\",'Radio (Desc)'!A175)","v":""},{"$f":"IF('Radio (Desc)'!C175=\"\",\"\",\"2029\")","v":""},{"$f":"IF('Radio (Desc)'!C175=\"\",\"\",'Radio (Desc)'!C175)","v":""},{"$f":"IF('Radio (Desc)'!E175=\"\",\"\",\"RADIO\")","v":""},{"$f":"IF('Radio (Desc)'!E175=\"\",\"\",INDEX([1]RADIO_TYPE!$A$2:$A$100,MATCH('Radio (Desc)'!$E175,[1]!MASTER_RADIO_TYPE_DESC[#Data],0),0))","v":""},{"$f":"IF('Radio (Desc)'!F175=\"\",\"\",'Radio (Desc)'!F175)","v":""},{"$f":"IF('Radio (Desc)'!G175=\"\",\"\",INDEX([1]RADIO_FREQ!$A$2:$A$500,MATCH('Radio (Desc)'!$G175,[1]!MASTER_RADIO_FREQ_DESC[#Data],0),0))","v":""},{"$f":"IF('Radio (Desc)'!H175=\"\",\"\",'Radio (Desc)'!H175)","v":""},{"$f":"IF('Radio (Desc)'!I175=\"\",\"\",INDEX([1]RADIO_FREQ!$A$2:$A$500,MATCH('Radio (Desc)'!$I175,[1]!MASTER_RADIO_FREQ_DESC[#Data],0),0))","v":""},{"$f":"IF('Radio (Desc)'!J175=\"\",\"\",'Radio (Desc)'!J175)","v":""},{"$f":"IF('Radio (Desc)'!K175=\"\",\"\",INDEX([1]CALL_SIGN!$A$2:$A$600,MATCH('Radio (Desc)'!$K175,[1]!MASTER_CALL_SIGN_DESC[#Data],0),0))","v":""},{"$f":"IF('Radio (Desc)'!L175=\"\",\"\",INDEX([1]STATION_CLASS!$A$2:$A$100,MATCH('Radio (Desc)'!$L175,[1]!MASTER_STATION_CLASS_DESC[#Data],0),0))","v":""},{"$f":"IF('Radio (Desc)'!M175=\"\",\"\",'Radio (Desc)'!M175)","v":""},{"$f":"IF('Radio (Desc)'!N175=\"\",\"\",'Radio (Desc)'!N175)","v":""},{"$f":"IF('Radio (Desc)'!O175=\"\",\"\",INDEX([1]ITS_COMM_DEV_MANUF!$A$2:$A$300,MATCH(1,([1]ITS_COMM_DEV_MANUF!$B$2:$B$300='Radio (Desc)'!$O175)*([1]ITS_COMM_DEV_MANUF!$C$2:$C$300=\"RADIO\"),0),0))","v":""},{"$f":"IF('Radio (Desc)'!P175=\"\",\"\",INDEX([1]ITS_COMM_DEV_MODEL!$A$2:$A$500,MATCH(1,([1]ITS_COMM_DEV_MODEL!$C$2:$C$500='Radio (Desc)'!$O175)*([1]ITS_COMM_DEV_MODEL!$D$2:$D$500=\"RADIO\")*([1]ITS_COMM_DEV_MODEL!$E$2:$E$500='Radio (Desc)'!$P175),0),0))","v":""},{"$f":"IF('Radio (Desc)'!Q175=\"\",\"\",'Radio (Desc)'!Q175)","v":""},{"$f":"IF('Radio (Desc)'!R175=\"\",\"\",'Radio (Desc)'!R175)","v":""},{"$f":"IF('Radio (Desc)'!S175=\"\",\"\",'Radio (Desc)'!S175)","v":""},{"$f":"IF('Radio (Desc)'!T175=\"\",\"\",'Radio (Desc)'!T175)","v":""},{"$f":"IF('Radio (Desc)'!U175=\"\",\"\",INDEX([1]DEV_INPUT_VOLTAGE!$A$2:$A$100,MATCH('Radio (Desc)'!$U175,[1]!MASTER_DEV_INPUT_VOLTAGE_DESC[#Data],0),0))","v":""},{"$f":"IF('Radio (Desc)'!V175=\"\",\"\",'Radio (Desc)'!V175)","v":""},{"$f":"IF('Radio (Desc)'!W175=\"\",\"\",'Radio (Desc)'!W175)","v":""},{"$f":"IF('Radio (Desc)'!X175=\"\",\"\",'Radio (Desc)'!X175)","v":""},{"$f":"IF('Radio (Desc)'!Y175=\"\",\"\",INDEX([1]FIBER_CONN_TYPE!$A$2:$A$100,MATCH('Radio (Desc)'!$Y175,[1]!MASTER_FIBER_CONN_TYPE_DESC[#Data],0),0))","v":""}]
[{"$f":"IF('Radio (Desc)'!A176=\"\",\"\",'Radio (Desc)'!A176)","v":""},{"$f":"IF('Radio (Desc)'!C176=\"\",\"\",\"2029\")","v":""},{"$f":"IF('Radio (Desc)'!C176=\"\",\"\",'Radio (Desc)'!C176)","v":""},{"$f":"IF('Radio (Desc)'!E176=\"\",\"\",\"RADIO\")","v":""},{"$f":"IF('Radio (Desc)'!E176=\"\",\"\",INDEX([1]RADIO_TYPE!$A$2:$A$100,MATCH('Radio (Desc)'!$E176,[1]!MASTER_RADIO_TYPE_DESC[#Data],0),0))","v":""},{"$f":"IF('Radio (Desc)'!F176=\"\",\"\",'Radio (Desc)'!F176)","v":""},{"$f":"IF('Radio (Desc)'!G176=\"\",\"\",INDEX([1]RADIO_FREQ!$A$2:$A$500,MATCH('Radio (Desc)'!$G176,[1]!MASTER_RADIO_FREQ_DESC[#Data],0),0))","v":""},{"$f":"IF('Radio (Desc)'!H176=\"\",\"\",'Radio (Desc)'!H176)","v":""},{"$f":"IF('Radio (Desc)'!I176=\"\",\"\",INDEX([1]RADIO_FREQ!$A$2:$A$500,MATCH('Radio (Desc)'!$I176,[1]!MASTER_RADIO_FREQ_DESC[#Data],0),0))","v":""},{"$f":"IF('Radio (Desc)'!J176=\"\",\"\",'Radio (Desc)'!J176)","v":""},{"$f":"IF('Radio (Desc)'!K176=\"\",\"\",INDEX([1]CALL_SIGN!$A$2:$A$600,MATCH('Radio (Desc)'!$K176,[1]!MASTER_CALL_SIGN_DESC[#Data],0),0))","v":""},{"$f":"IF('Radio (Desc)'!L176=\"\",\"\",INDEX([1]STATION_CLASS!$A$2:$A$100,MATCH('Radio (Desc)'!$L176,[1]!MASTER_STATION_CLASS_DESC[#Data],0),0))","v":""},{"$f":"IF('Radio (Desc)'!M176=\"\",\"\",'Radio (Desc)'!M176)","v":""},{"$f":"IF('Radio (Desc)'!N176=\"\",\"\",'Radio (Desc)'!N176)","v":""},{"$f":"IF('Radio (Desc)'!O176=\"\",\"\",INDEX([1]ITS_COMM_DEV_MANUF!$A$2:$A$300,MATCH(1,([1]ITS_COMM_DEV_MANUF!$B$2:$B$300='Radio (Desc)'!$O176)*([1]ITS_COMM_DEV_MANUF!$C$2:$C$300=\"RADIO\"),0),0))","v":""},{"$f":"IF('Radio (Desc)'!P176=\"\",\"\",INDEX([1]ITS_COMM_DEV_MODEL!$A$2:$A$500,MATCH(1,([1]ITS_COMM_DEV_MODEL!$C$2:$C$500='Radio (Desc)'!$O176)*([1]ITS_COMM_DEV_MODEL!$D$2:$D$500=\"RADIO\")*([1]ITS_COMM_DEV_MODEL!$E$2:$E$500='Radio (Desc)'!$P176),0),0))","v":""},{"$f":"IF('Radio (Desc)'!Q176=\"\",\"\",'Radio (Desc)'!Q176)","v":""},{"$f":"IF('Radio (Desc)'!R176=\"\",\"\",'Radio (Desc)'!R176)","v":""},{"$f":"IF('Radio (Desc)'!S176=\"\",\"\",'Radio (Desc)'!S176)","v":""},{"$f":"IF('Radio (Desc)'!T176=\"\",\"\",'Radio (Desc)'!T176)","v":""},{"$f":"IF('Radio (Desc)'!U176=\"\",\"\",INDEX([1]DEV_INPUT_VOLTAGE!$A$2:$A$100,MATCH('Radio (Desc)'!$U176,[1]!MASTER_DEV_INPUT_VOLTAGE_DESC[#Data],0),0))","v":""},{"$f":"IF('Radio (Desc)'!V176=\"\",\"\",'Radio (Desc)'!V176)","v":""},{"$f":"IF('Radio (Desc)'!W176=\"\",\"\",'Radio (Desc)'!W176)","v":""},{"$f":"IF('Radio (Desc)'!X176=\"\",\"\",'Radio (Desc)'!X176)","v":""},{"$f":"IF('Radio (Desc)'!Y176=\"\",\"\",INDEX([1]FIBER_CONN_TYPE!$A$2:$A$100,MATCH('Radio (Desc)'!$Y176,[1]!MASTER_FIBER_CONN_TYPE_DESC[#Data],0),0))","v":""}]
[{"$f":"IF('Radio (Desc)'!A177=\"\",\"\",'Radio (Desc)'!A177)","v":""},{"$f":"IF('Radio (Desc)'!C177=\"\",\"\",\"2029\")","v":""},{"$f":"IF('Radio (Desc)'!C177=\"\",\"\",'Radio (Desc)'!C177)","v":""},{"$f":"IF('Radio (Desc)'!E177=\"\",\"\",\"RADIO\")","v":""},{"$f":"IF('Radio (Desc)'!E177=\"\",\"\",INDEX([1]RADIO_TYPE!$A$2:$A$100,MATCH('Radio (Desc)'!$E177,[1]!MASTER_RADIO_TYPE_DESC[#Data],0),0))","v":""},{"$f":"IF('Radio (Desc)'!F177=\"\",\"\",'Radio (Desc)'!F177)","v":""},{"$f":"IF('Radio (Desc)'!G177=\"\",\"\",INDEX([1]RADIO_FREQ!$A$2:$A$500,MATCH('Radio (Desc)'!$G177,[1]!MASTER_RADIO_FREQ_DESC[#Data],0),0))","v":""},{"$f":"IF('Radio (Desc)'!H177=\"\",\"\",'Radio (Desc)'!H177)","v":""},{"$f":"IF('Radio (Desc)'!I177=\"\",\"\",INDEX([1]RADIO_FREQ!$A$2:$A$500,MATCH('Radio (Desc)'!$I177,[1]!MASTER_RADIO_FREQ_DESC[#Data],0),0))","v":""},{"$f":"IF('Radio (Desc)'!J177=\"\",\"\",'Radio (Desc)'!J177)","v":""},{"$f":"IF('Radio (Desc)'!K177=\"\",\"\",INDEX([1]CALL_SIGN!$A$2:$A$600,MATCH('Radio (Desc)'!$K177,[1]!MASTER_CALL_SIGN_DESC[#Data],0),0))","v":""},{"$f":"IF('Radio (Desc)'!L177=\"\",\"\",INDEX([1]STATION_CLASS!$A$2:$A$100,MATCH('Radio (Desc)'!$L177,[1]!MASTER_STATION_CLASS_DESC[#Data],0),0))","v":""},{"$f":"IF('Radio (Desc)'!M177=\"\",\"\",'Radio (Desc)'!M177)","v":""},{"$f":"IF('Radio (Desc)'!N177=\"\",\"\",'Radio (Desc)'!N177)","v":""},{"$f":"IF('Radio (Desc)'!O177=\"\",\"\",INDEX([1]ITS_COMM_DEV_MANUF!$A$2:$A$300,MATCH(1,([1]ITS_COMM_DEV_MANUF!$B$2:$B$300='Radio (Desc)'!$O177)*([1]ITS_COMM_DEV_MANUF!$C$2:$C$300=\"RADIO\"),0),0))","v":""},{"$f":"IF('Radio (Desc)'!P177=\"\",\"\",INDEX([1]ITS_COMM_DEV_MODEL!$A$2:$A$500,MATCH(1,([1]ITS_COMM_DEV_MODEL!$C$2:$C$500='Radio (Desc)'!$O177)*([1]ITS_COMM_DEV_MODEL!$D$2:$D$500=\"RADIO\")*([1]ITS_COMM_DEV_MODEL!$E$2:$E$500='Radio (Desc)'!$P177),0),0))","v":""},{"$f":"IF('Radio (Desc)'!Q177=\"\",\"\",'Radio (Desc)'!Q177)","v":""},{"$f":"IF('Radio (Desc)'!R177=\"\",\"\",'Radio (Desc)'!R177)","v":""},{"$f":"IF('Radio (Desc)'!S177=\"\",\"\",'Radio (Desc)'!S177)","v":""},{"$f":"IF('Radio (Desc)'!T177=\"\",\"\",'Radio (Desc)'!T177)","v":""},{"$f":"IF('Radio (Desc)'!U177=\"\",\"\",INDEX([1]DEV_INPUT_VOLTAGE!$A$2:$A$100,MATCH('Radio (Desc)'!$U177,[1]!MASTER_DEV_INPUT_VOLTAGE_DESC[#Data],0),0))","v":""},{"$f":"IF('Radio (Desc)'!V177=\"\",\"\",'Radio (Desc)'!V177)","v":""},{"$f":"IF('Radio (Desc)'!W177=\"\",\"\",'Radio (Desc)'!W177)","v":""},{"$f":"IF('Radio (Desc)'!X177=\"\",\"\",'Radio (Desc)'!X177)","v":""},{"$f":"IF('Radio (Desc)'!Y177=\"\",\"\",INDEX([1]FIBER_CONN_TYPE!$A$2:$A$100,MATCH('Radio (Desc)'!$Y177,[1]!MASTER_FIBER_CONN_TYPE_DESC[#Data],0),0))","v":""}]
[{"$f":"IF('Radio (Desc)'!A178=\"\",\"\",'Radio (Desc)'!A178)","v":""},{"$f":"IF('Radio (Desc)'!C178=\"\",\"\",\"2029\")","v":""},{"$f":"IF('Radio (Desc)'!C178=\"\",\"\",'Radio (Desc)'!C178)","v":""},{"$f":"IF('Radio (Desc)'!E178=\"\",\"\",\"RADIO\")","v":""},{"$f":"IF('Radio (Desc)'!E178=\"\",\"\",INDEX([1]RADIO_TYPE!$A$2:$A$100,MATCH('Radio (Desc)'!$E178,[1]!MASTER_RADIO_TYPE_DESC[#Data],0),0))","v":""},{"$f":"IF('Radio (Desc)'!F178=\"\",\"\",'Radio (Desc)'!F178)","v":""},{"$f":"IF('Radio (Desc)'!G178=\"\",\"\",INDEX([1]RADIO_FREQ!$A$2:$A$500,MATCH('Radio (Desc)'!$G178,[1]!MASTER_RADIO_FREQ_DESC[#Data],0),0))","v":""},{"$f":"IF('Radio (Desc)'!H178=\"\",\"\",'Radio (Desc)'!H178)","v":""},{"$f":"IF('Radio (Desc)'!I178=\"\",\"\",INDEX([1]RADIO_FREQ!$A$2:$A$500,MATCH('Radio (Desc)'!$I178,[1]!MASTER_RADIO_FREQ_DESC[#Data],0),0))","v":""},{"$f":"IF('Radio (Desc)'!J178=\"\",\"\",'Radio (Desc)'!J178)","v":""},{"$f":"IF('Radio (Desc)'!K178=\"\",\"\",INDEX([1]CALL_SIGN!$A$2:$A$600,MATCH('Radio (Desc)'!$K178,[1]!MASTER_CALL_SIGN_DESC[#Data],0),0))","v":""},{"$f":"IF('Radio (Desc)'!L178=\"\",\"\",INDEX([1]STATION_CLASS!$A$2:$A$100,MATCH('Radio (Desc)'!$L178,[1]!MASTER_STATION_CLASS_DESC[#Data],0),0))","v":""},{"$f":"IF('Radio (Desc)'!M178=\"\",\"\",'Radio (Desc)'!M178)","v":""},{"$f":"IF('Radio (Desc)'!N178=\"\",\"\",'Radio (Desc)'!N178)","v":""},{"$f":"IF('Radio (Desc)'!O178=\"\",\"\",INDEX([1]ITS_COMM_DEV_MANUF!$A$2:$A$300,MATCH(1,([1]ITS_COMM_DEV_MANUF!$B$2:$B$300='Radio (Desc)'!$O178)*([1]ITS_COMM_DEV_MANUF!$C$2:$C$300=\"RADIO\"),0),0))","v":""},{"$f":"IF('Radio (Desc)'!P178=\"\",\"\",INDEX([1]ITS_COMM_DEV_MODEL!$A$2:$A$500,MATCH(1,([1]ITS_COMM_DEV_MODEL!$C$2:$C$500='Radio (Desc)'!$O178)*([1]ITS_COMM_DEV_MODEL!$D$2:$D$500=\"RADIO\")*([1]ITS_COMM_DEV_MODEL!$E$2:$E$500='Radio (Desc)'!$P178),0),0))","v":""},{"$f":"IF('Radio (Desc)'!Q178=\"\",\"\",'Radio (Desc)'!Q178)","v":""},{"$f":"IF('Radio (Desc)'!R178=\"\",\"\",'Radio (Desc)'!R178)","v":""},{"$f":"IF('Radio (Desc)'!S178=\"\",\"\",'Radio (Desc)'!S178)","v":""},{"$f":"IF('Radio (Desc)'!T178=\"\",\"\",'Radio (Desc)'!T178)","v":""},{"$f":"IF('Radio (Desc)'!U178=\"\",\"\",INDEX([1]DEV_INPUT_VOLTAGE!$A$2:$A$100,MATCH('Radio (Desc)'!$U178,[1]!MASTER_DEV_INPUT_VOLTAGE_DESC[#Data],0),0))","v":""},{"$f":"IF('Radio (Desc)'!V178=\"\",\"\",'Radio (Desc)'!V178)","v":""},{"$f":"IF('Radio (Desc)'!W178=\"\",\"\",'Radio (Desc)'!W178)","v":""},{"$f":"IF('Radio (Desc)'!X178=\"\",\"\",'Radio (Desc)'!X178)","v":""},{"$f":"IF('Radio (Desc)'!Y178=\"\",\"\",INDEX([1]FIBER_CONN_TYPE!$A$2:$A$100,MATCH('Radio (Desc)'!$Y178,[1]!MASTER_FIBER_CONN_TYPE_DESC[#Data],0),0))","v":""}]
[{"$f":"IF('Radio (Desc)'!A179=\"\",\"\",'Radio (Desc)'!A179)","v":""},{"$f":"IF('Radio (Desc)'!C179=\"\",\"\",\"2029\")","v":""},{"$f":"IF('Radio (Desc)'!C179=\"\",\"\",'Radio (Desc)'!C179)","v":""},{"$f":"IF('Radio (Desc)'!E179=\"\",\"\",\"RADIO\")","v":""},{"$f":"IF('Radio (Desc)'!E179=\"\",\"\",INDEX([1]RADIO_TYPE!$A$2:$A$100,MATCH('Radio (Desc)'!$E179,[1]!MASTER_RADIO_TYPE_DESC[#Data],0),0))","v":""},{"$f":"IF('Radio (Desc)'!F179=\"\",\"\",'Radio (Desc)'!F179)","v":""},{"$f":"IF('Radio (Desc)'!G179=\"\",\"\",INDEX([1]RADIO_FREQ!$A$2:$A$500,MATCH('Radio (Desc)'!$G179,[1]!MASTER_RADIO_FREQ_DESC[#Data],0),0))","v":""},{"$f":"IF('Radio (Desc)'!H179=\"\",\"\",'Radio (Desc)'!H179)","v":""},{"$f":"IF('Radio (Desc)'!I179=\"\",\"\",INDEX([1]RADIO_FREQ!$A$2:$A$500,MATCH('Radio (Desc)'!$I179,[1]!MASTER_RADIO_FREQ_DESC[#Data],0),0))","v":""},{"$f":"IF('Radio (Desc)'!J179=\"\",\"\",'Radio (Desc)'!J179)","v":""},{"$f":"IF('Radio (Desc)'!K179=\"\",\"\",INDEX([1]CALL_SIGN!$A$2:$A$600,MATCH('Radio (Desc)'!$K179,[1]!MASTER_CALL_SIGN_DESC[#Data],0),0))","v":""},{"$f":"IF('Radio (Desc)'!L179=\"\",\"\",INDEX([1]STATION_CLASS!$A$2:$A$100,MATCH('Radio (Desc)'!$L179,[1]!MASTER_STATION_CLASS_DESC[#Data],0),0))","v":""},{"$f":"IF('Radio (Desc)'!M179=\"\",\"\",'Radio (Desc)'!M179)","v":""},{"$f":"IF('Radio (Desc)'!N179=\"\",\"\",'Radio (Desc)'!N179)","v":""},{"$f":"IF('Radio (Desc)'!O179=\"\",\"\",INDEX([1]ITS_COMM_DEV_MANUF!$A$2:$A$300,MATCH(1,([1]ITS_COMM_DEV_MANUF!$B$2:$B$300='Radio (Desc)'!$O179)*([1]ITS_COMM_DEV_MANUF!$C$2:$C$300=\"RADIO\"),0),0))","v":""},{"$f":"IF('Radio (Desc)'!P179=\"\",\"\",INDEX([1]ITS_COMM_DEV_MODEL!$A$2:$A$500,MATCH(1,([1]ITS_COMM_DEV_MODEL!$C$2:$C$500='Radio (Desc)'!$O179)*([1]ITS_COMM_DEV_MODEL!$D$2:$D$500=\"RADIO\")*([1]ITS_COMM_DEV_MODEL!$E$2:$E$500='Radio (Desc)'!$P179),0),0))","v":""},{"$f":"IF('Radio (Desc)'!Q179=\"\",\"\",'Radio (Desc)'!Q179)","v":""},{"$f":"IF('Radio (Desc)'!R179=\"\",\"\",'Radio (Desc)'!R179)","v":""},{"$f":"IF('Radio (Desc)'!S179=\"\",\"\",'Radio (Desc)'!S179)","v":""},{"$f":"IF('Radio (Desc)'!T179=\"\",\"\",'Radio (Desc)'!T179)","v":""},{"$f":"IF('Radio (Desc)'!U179=\"\",\"\",INDEX([1]DEV_INPUT_VOLTAGE!$A$2:$A$100,MATCH('Radio (Desc)'!$U179,[1]!MASTER_DEV_INPUT_VOLTAGE_DESC[#Data],0),0))","v":""},{"$f":"IF('Radio (Desc)'!V179=\"\",\"\",'Radio (Desc)'!V179)","v":""},{"$f":"IF('Radio (Desc)'!W179=\"\",\"\",'Radio (Desc)'!W179)","v":""},{"$f":"IF('Radio (Desc)'!X179=\"\",\"\",'Radio (Desc)'!X179)","v":""},{"$f":"IF('Radio (Desc)'!Y179=\"\",\"\",INDEX([1]FIBER_CONN_TYPE!$A$2:$A$100,MATCH('Radio (Desc)'!$Y179,[1]!MASTER_FIBER_CONN_TYPE_DESC[#Data],0),0))","v":""}]
[{"$f":"IF('Radio (Desc)'!A180=\"\",\"\",'Radio (Desc)'!A180)","v":""},{"$f":"IF('Radio (Desc)'!C180=\"\",\"\",\"2029\")","v":""},{"$f":"IF('Radio (Desc)'!C180=\"\",\"\",'Radio (Desc)'!C180)","v":""},{"$f":"IF('Radio (Desc)'!E180=\"\",\"\",\"RADIO\")","v":""},{"$f":"IF('Radio (Desc)'!E180=\"\",\"\",INDEX([1]RADIO_TYPE!$A$2:$A$100,MATCH('Radio (Desc)'!$E180,[1]!MASTER_RADIO_TYPE_DESC[#Data],0),0))","v":""},{"$f":"IF('Radio (Desc)'!F180=\"\",\"\",'Radio (Desc)'!F180)","v":""},{"$f":"IF('Radio (Desc)'!G180=\"\",\"\",INDEX([1]RADIO_FREQ!$A$2:$A$500,MATCH('Radio (Desc)'!$G180,[1]!MASTER_RADIO_FREQ_DESC[#Data],0),0))","v":""},{"$f":"IF('Radio (Desc)'!H180=\"\",\"\",'Radio (Desc)'!H180)","v":""},{"$f":"IF('Radio (Desc)'!I180=\"\",\"\",INDEX([1]RADIO_FREQ!$A$2:$A$500,MATCH('Radio (Desc)'!$I180,[1]!MASTER_RADIO_FREQ_DESC[#Data],0),0))","v":""},{"$f":"IF('Radio (Desc)'!J180=\"\",\"\",'Radio (Desc)'!J180)","v":""},{"$f":"IF('Radio (Desc)'!K180=\"\",\"\",INDEX([1]CALL_SIGN!$A$2:$A$600,MATCH('Radio (Desc)'!$K180,[1]!MASTER_CALL_SIGN_DESC[#Data],0),0))","v":""},{"$f":"IF('Radio (Desc)'!L180=\"\",\"\",INDEX([1]STATION_CLASS!$A$2:$A$100,MATCH('Radio (Desc)'!$L180,[1]!MASTER_STATION_CLASS_DESC[#Data],0),0))","v":""},{"$f":"IF('Radio (Desc)'!M180=\"\",\"\",'Radio (Desc)'!M180)","v":""},{"$f":"IF('Radio (Desc)'!N180=\"\",\"\",'Radio (Desc)'!N180)","v":""},{"$f":"IF('Radio (Desc)'!O180=\"\",\"\",INDEX([1]ITS_COMM_DEV_MANUF!$A$2:$A$300,MATCH(1,([1]ITS_COMM_DEV_MANUF!$B$2:$B$300='Radio (Desc)'!$O180)*([1]ITS_COMM_DEV_MANUF!$C$2:$C$300=\"RADIO\"),0),0))","v":""},{"$f":"IF('Radio (Desc)'!P180=\"\",\"\",INDEX([1]ITS_COMM_DEV_MODEL!$A$2:$A$500,MATCH(1,([1]ITS_COMM_DEV_MODEL!$C$2:$C$500='Radio (Desc)'!$O180)*([1]ITS_COMM_DEV_MODEL!$D$2:$D$500=\"RADIO\")*([1]ITS_COMM_DEV_MODEL!$E$2:$E$500='Radio (Desc)'!$P180),0),0))","v":""},{"$f":"IF('Radio (Desc)'!Q180=\"\",\"\",'Radio (Desc)'!Q180)","v":""},{"$f":"IF('Radio (Desc)'!R180=\"\",\"\",'Radio (Desc)'!R180)","v":""},{"$f":"IF('Radio (Desc)'!S180=\"\",\"\",'Radio (Desc)'!S180)","v":""},{"$f":"IF('Radio (Desc)'!T180=\"\",\"\",'Radio (Desc)'!T180)","v":""},{"$f":"IF('Radio (Desc)'!U180=\"\",\"\",INDEX([1]DEV_INPUT_VOLTAGE!$A$2:$A$100,MATCH('Radio (Desc)'!$U180,[1]!MASTER_DEV_INPUT_VOLTAGE_DESC[#Data],0),0))","v":""},{"$f":"IF('Radio (Desc)'!V180=\"\",\"\",'Radio (Desc)'!V180)","v":""},{"$f":"IF('Radio (Desc)'!W180=\"\",\"\",'Radio (Desc)'!W180)","v":""},{"$f":"IF('Radio (Desc)'!X180=\"\",\"\",'Radio (Desc)'!X180)","v":""},{"$f":"IF('Radio (Desc)'!Y180=\"\",\"\",INDEX([1]FIBER_CONN_TYPE!$A$2:$A$100,MATCH('Radio (Desc)'!$Y180,[1]!MASTER_FIBER_CONN_TYPE_DESC[#Data],0),0))","v":""}]
[{"$f":"IF('Radio (Desc)'!A181=\"\",\"\",'Radio (Desc)'!A181)","v":""},{"$f":"IF('Radio (Desc)'!C181=\"\",\"\",\"2029\")","v":""},{"$f":"IF('Radio (Desc)'!C181=\"\",\"\",'Radio (Desc)'!C181)","v":""},{"$f":"IF('Radio (Desc)'!E181=\"\",\"\",\"RADIO\")","v":""},{"$f":"IF('Radio (Desc)'!E181=\"\",\"\",INDEX([1]RADIO_TYPE!$A$2:$A$100,MATCH('Radio (Desc)'!$E181,[1]!MASTER_RADIO_TYPE_DESC[#Data],0),0))","v":""},{"$f":"IF('Radio (Desc)'!F181=\"\",\"\",'Radio (Desc)'!F181)","v":""},{"$f":"IF('Radio (Desc)'!G181=\"\",\"\",INDEX([1]RADIO_FREQ!$A$2:$A$500,MATCH('Radio (Desc)'!$G181,[1]!MASTER_RADIO_FREQ_DESC[#Data],0),0))","v":""},{"$f":"IF('Radio (Desc)'!H181=\"\",\"\",'Radio (Desc)'!H181)","v":""},{"$f":"IF('Radio (Desc)'!I181=\"\",\"\",INDEX([1]RADIO_FREQ!$A$2:$A$500,MATCH('Radio (Desc)'!$I181,[1]!MASTER_RADIO_FREQ_DESC[#Data],0),0))","v":""},{"$f":"IF('Radio (Desc)'!J181=\"\",\"\",'Radio (Desc)'!J181)","v":""},{"$f":"IF('Radio (Desc)'!K181=\"\",\"\",INDEX([1]CALL_SIGN!$A$2:$A$600,MATCH('Radio (Desc)'!$K181,[1]!MASTER_CALL_SIGN_DESC[#Data],0),0))","v":""},{"$f":"IF('Radio (Desc)'!L181=\"\",\"\",INDEX([1]STATION_CLASS!$A$2:$A$100,MATCH('Radio (Desc)'!$L181,[1]!MASTER_STATION_CLASS_DESC[#Data],0),0))","v":""},{"$f":"IF('Radio (Desc)'!M181=\"\",\"\",'Radio (Desc)'!M181)","v":""},{"$f":"IF('Radio (Desc)'!N181=\"\",\"\",'Radio (Desc)'!N181)","v":""},{"$f":"IF('Radio (Desc)'!O181=\"\",\"\",INDEX([1]ITS_COMM_DEV_MANUF!$A$2:$A$300,MATCH(1,([1]ITS_COMM_DEV_MANUF!$B$2:$B$300='Radio (Desc)'!$O181)*([1]ITS_COMM_DEV_MANUF!$C$2:$C$300=\"RADIO\"),0),0))","v":""},{"$f":"IF('Radio (Desc)'!P181=\"\",\"\",INDEX([1]ITS_COMM_DEV_MODEL!$A$2:$A$500,MATCH(1,([1]ITS_COMM_DEV_MODEL!$C$2:$C$500='Radio (Desc)'!$O181)*([1]ITS_COMM_DEV_MODEL!$D$2:$D$500=\"RADIO\")*([1]ITS_COMM_DEV_MODEL!$E$2:$E$500='Radio (Desc)'!$P181),0),0))","v":""},{"$f":"IF('Radio (Desc)'!Q181=\"\",\"\",'Radio (Desc)'!Q181)","v":""},{"$f":"IF('Radio (Desc)'!R181=\"\",\"\",'Radio (Desc)'!R181)","v":""},{"$f":"IF('Radio (Desc)'!S181=\"\",\"\",'Radio (Desc)'!S181)","v":""},{"$f":"IF('Radio (Desc)'!T181=\"\",\"\",'Radio (Desc)'!T181)","v":""},{"$f":"IF('Radio (Desc)'!U181=\"\",\"\",INDEX([1]DEV_INPUT_VOLTAGE!$A$2:$A$100,MATCH('Radio (Desc)'!$U181,[1]!MASTER_DEV_INPUT_VOLTAGE_DESC[#Data],0),0))","v":""},{"$f":"IF('Radio (Desc)'!V181=\"\",\"\",'Radio (Desc)'!V181)","v":""},{"$f":"IF('Radio (Desc)'!W181=\"\",\"\",'Radio (Desc)'!W181)","v":""},{"$f":"IF('Radio (Desc)'!X181=\"\",\"\",'Radio (Desc)'!X181)","v":""},{"$f":"IF('Radio (Desc)'!Y181=\"\",\"\",INDEX([1]FIBER_CONN_TYPE!$A$2:$A$100,MATCH('Radio (Desc)'!$Y181,[1]!MASTER_FIBER_CONN_TYPE_DESC[#Data],0),0))","v":""}]
[{"$f":"IF('Radio (Desc)'!A182=\"\",\"\",'Radio (Desc)'!A182)","v":""},{"$f":"IF('Radio (Desc)'!C182=\"\",\"\",\"2029\")","v":""},{"$f":"IF('Radio (Desc)'!C182=\"\",\"\",'Radio (Desc)'!C182)","v":""},{"$f":"IF('Radio (Desc)'!E182=\"\",\"\",\"RADIO\")","v":""},{"$f":"IF('Radio (Desc)'!E182=\"\",\"\",INDEX([1]RADIO_TYPE!$A$2:$A$100,MATCH('Radio (Desc)'!$E182,[1]!MASTER_RADIO_TYPE_DESC[#Data],0),0))","v":""},{"$f":"IF('Radio (Desc)'!F182=\"\",\"\",'Radio (Desc)'!F182)","v":""},{"$f":"IF('Radio (Desc)'!G182=\"\",\"\",INDEX([1]RADIO_FREQ!$A$2:$A$500,MATCH('Radio (Desc)'!$G182,[1]!MASTER_RADIO_FREQ_DESC[#Data],0),0))","v":""},{"$f":"IF('Radio (Desc)'!H182=\"\",\"\",'Radio (Desc)'!H182)","v":""},{"$f":"IF('Radio (Desc)'!I182=\"\",\"\",INDEX([1]RADIO_FREQ!$A$2:$A$500,MATCH('Radio (Desc)'!$I182,[1]!MASTER_RADIO_FREQ_DESC[#Data],0),0))","v":""},{"$f":"IF('Radio (Desc)'!J182=\"\",\"\",'Radio (Desc)'!J182)","v":""},{"$f":"IF('Radio (Desc)'!K182=\"\",\"\",INDEX([1]CALL_SIGN!$A$2:$A$600,MATCH('Radio (Desc)'!$K182,[1]!MASTER_CALL_SIGN_DESC[#Data],0),0))","v":""},{"$f":"IF('Radio (Desc)'!L182=\"\",\"\",INDEX([1]STATION_CLASS!$A$2:$A$100,MATCH('Radio (Desc)'!$L182,[1]!MASTER_STATION_CLASS_DESC[#Data],0),0))","v":""},{"$f":"IF('Radio (Desc)'!M182=\"\",\"\",'Radio (Desc)'!M182)","v":""},{"$f":"IF('Radio (Desc)'!N182=\"\",\"\",'Radio (Desc)'!N182)","v":""},{"$f":"IF('Radio (Desc)'!O182=\"\",\"\",INDEX([1]ITS_COMM_DEV_MANUF!$A$2:$A$300,MATCH(1,([1]ITS_COMM_DEV_MANUF!$B$2:$B$300='Radio (Desc)'!$O182)*([1]ITS_COMM_DEV_MANUF!$C$2:$C$300=\"RADIO\"),0),0))","v":""},{"$f":"IF('Radio (Desc)'!P182=\"\",\"\",INDEX([1]ITS_COMM_DEV_MODEL!$A$2:$A$500,MATCH(1,([1]ITS_COMM_DEV_MODEL!$C$2:$C$500='Radio (Desc)'!$O182)*([1]ITS_COMM_DEV_MODEL!$D$2:$D$500=\"RADIO\")*([1]ITS_COMM_DEV_MODEL!$E$2:$E$500='Radio (Desc)'!$P182),0),0))","v":""},{"$f":"IF('Radio (Desc)'!Q182=\"\",\"\",'Radio (Desc)'!Q182)","v":""},{"$f":"IF('Radio (Desc)'!R182=\"\",\"\",'Radio (Desc)'!R182)","v":""},{"$f":"IF('Radio (Desc)'!S182=\"\",\"\",'Radio (Desc)'!S182)","v":""},{"$f":"IF('Radio (Desc)'!T182=\"\",\"\",'Radio (Desc)'!T182)","v":""},{"$f":"IF('Radio (Desc)'!U182=\"\",\"\",INDEX([1]DEV_INPUT_VOLTAGE!$A$2:$A$100,MATCH('Radio (Desc)'!$U182,[1]!MASTER_DEV_INPUT_VOLTAGE_DESC[#Data],0),0))","v":""},{"$f":"IF('Radio (Desc)'!V182=\"\",\"\",'Radio (Desc)'!V182)","v":""},{"$f":"IF('Radio (Desc)'!W182=\"\",\"\",'Radio (Desc)'!W182)","v":""},{"$f":"IF('Radio (Desc)'!X182=\"\",\"\",'Radio (Desc)'!X182)","v":""},{"$f":"IF('Radio (Desc)'!Y182=\"\",\"\",INDEX([1]FIBER_CONN_TYPE!$A$2:$A$100,MATCH('Radio (Desc)'!$Y182,[1]!MASTER_FIBER_CONN_TYPE_DESC[#Data],0),0))","v":""}]
[{"$f":"IF('Radio (Desc)'!A183=\"\",\"\",'Radio (Desc)'!A183)","v":""},{"$f":"IF('Radio (Desc)'!C183=\"\",\"\",\"2029\")","v":""},{"$f":"IF('Radio (Desc)'!C183=\"\",\"\",'Radio (Desc)'!C183)","v":""},{"$f":"IF('Radio (Desc)'!E183=\"\",\"\",\"RADIO\")","v":""},{"$f":"IF('Radio (Desc)'!E183=\"\",\"\",INDEX([1]RADIO_TYPE!$A$2:$A$100,MATCH('Radio (Desc)'!$E183,[1]!MASTER_RADIO_TYPE_DESC[#Data],0),0))","v":""},{"$f":"IF('Radio (Desc)'!F183=\"\",\"\",'Radio (Desc)'!F183)","v":""},{"$f":"IF('Radio (Desc)'!G183=\"\",\"\",INDEX([1]RADIO_FREQ!$A$2:$A$500,MATCH('Radio (Desc)'!$G183,[1]!MASTER_RADIO_FREQ_DESC[#Data],0),0))","v":""},{"$f":"IF('Radio (Desc)'!H183=\"\",\"\",'Radio (Desc)'!H183)","v":""},{"$f":"IF('Radio (Desc)'!I183=\"\",\"\",INDEX([1]RADIO_FREQ!$A$2:$A$500,MATCH('Radio (Desc)'!$I183,[1]!MASTER_RADIO_FREQ_DESC[#Data],0),0))","v":""},{"$f":"IF('Radio (Desc)'!J183=\"\",\"\",'Radio (Desc)'!J183)","v":""},{"$f":"IF('Radio (Desc)'!K183=\"\",\"\",INDEX([1]CALL_SIGN!$A$2:$A$600,MATCH('Radio (Desc)'!$K183,[1]!MASTER_CALL_SIGN_DESC[#Data],0),0))","v":""},{"$f":"IF('Radio (Desc)'!L183=\"\",\"\",INDEX([1]STATION_CLASS!$A$2:$A$100,MATCH('Radio (Desc)'!$L183,[1]!MASTER_STATION_CLASS_DESC[#Data],0),0))","v":""},{"$f":"IF('Radio (Desc)'!M183=\"\",\"\",'Radio (Desc)'!M183)","v":""},{"$f":"IF('Radio (Desc)'!N183=\"\",\"\",'Radio (Desc)'!N183)","v":""},{"$f":"IF('Radio (Desc)'!O183=\"\",\"\",INDEX([1]ITS_COMM_DEV_MANUF!$A$2:$A$300,MATCH(1,([1]ITS_COMM_DEV_MANUF!$B$2:$B$300='Radio (Desc)'!$O183)*([1]ITS_COMM_DEV_MANUF!$C$2:$C$300=\"RADIO\"),0),0))","v":""},{"$f":"IF('Radio (Desc)'!P183=\"\",\"\",INDEX([1]ITS_COMM_DEV_MODEL!$A$2:$A$500,MATCH(1,([1]ITS_COMM_DEV_MODEL!$C$2:$C$500='Radio (Desc)'!$O183)*([1]ITS_COMM_DEV_MODEL!$D$2:$D$500=\"RADIO\")*([1]ITS_COMM_DEV_MODEL!$E$2:$E$500='Radio (Desc)'!$P183),0),0))","v":""},{"$f":"IF('Radio (Desc)'!Q183=\"\",\"\",'Radio (Desc)'!Q183)","v":""},{"$f":"IF('Radio (Desc)'!R183=\"\",\"\",'Radio (Desc)'!R183)","v":""},{"$f":"IF('Radio (Desc)'!S183=\"\",\"\",'Radio (Desc)'!S183)","v":""},{"$f":"IF('Radio (Desc)'!T183=\"\",\"\",'Radio (Desc)'!T183)","v":""},{"$f":"IF('Radio (Desc)'!U183=\"\",\"\",INDEX([1]DEV_INPUT_VOLTAGE!$A$2:$A$100,MATCH('Radio (Desc)'!$U183,[1]!MASTER_DEV_INPUT_VOLTAGE_DESC[#Data],0),0))","v":""},{"$f":"IF('Radio (Desc)'!V183=\"\",\"\",'Radio (Desc)'!V183)","v":""},{"$f":"IF('Radio (Desc)'!W183=\"\",\"\",'Radio (Desc)'!W183)","v":""},{"$f":"IF('Radio (Desc)'!X183=\"\",\"\",'Radio (Desc)'!X183)","v":""},{"$f":"IF('Radio (Desc)'!Y183=\"\",\"\",INDEX([1]FIBER_CONN_TYPE!$A$2:$A$100,MATCH('Radio (Desc)'!$Y183,[1]!MASTER_FIBER_CONN_TYPE_DESC[#Data],0),0))","v":""}]
[{"$f":"IF('Radio (Desc)'!A184=\"\",\"\",'Radio (Desc)'!A184)","v":""},{"$f":"IF('Radio (Desc)'!C184=\"\",\"\",\"2029\")","v":""},{"$f":"IF('Radio (Desc)'!C184=\"\",\"\",'Radio (Desc)'!C184)","v":""},{"$f":"IF('Radio (Desc)'!E184=\"\",\"\",\"RADIO\")","v":""},{"$f":"IF('Radio (Desc)'!E184=\"\",\"\",INDEX([1]RADIO_TYPE!$A$2:$A$100,MATCH('Radio (Desc)'!$E184,[1]!MASTER_RADIO_TYPE_DESC[#Data],0),0))","v":""},{"$f":"IF('Radio (Desc)'!F184=\"\",\"\",'Radio (Desc)'!F184)","v":""},{"$f":"IF('Radio (Desc)'!G184=\"\",\"\",INDEX([1]RADIO_FREQ!$A$2:$A$500,MATCH('Radio (Desc)'!$G184,[1]!MASTER_RADIO_FREQ_DESC[#Data],0),0))","v":""},{"$f":"IF('Radio (Desc)'!H184=\"\",\"\",'Radio (Desc)'!H184)","v":""},{"$f":"IF('Radio (Desc)'!I184=\"\",\"\",INDEX([1]RADIO_FREQ!$A$2:$A$500,MATCH('Radio (Desc)'!$I184,[1]!MASTER_RADIO_FREQ_DESC[#Data],0),0))","v":""},{"$f":"IF('Radio (Desc)'!J184=\"\",\"\",'Radio (Desc)'!J184)","v":""},{"$f":"IF('Radio (Desc)'!K184=\"\",\"\",INDEX([1]CALL_SIGN!$A$2:$A$600,MATCH('Radio (Desc)'!$K184,[1]!MASTER_CALL_SIGN_DESC[#Data],0),0))","v":""},{"$f":"IF('Radio (Desc)'!L184=\"\",\"\",INDEX([1]STATION_CLASS!$A$2:$A$100,MATCH('Radio (Desc)'!$L184,[1]!MASTER_STATION_CLASS_DESC[#Data],0),0))","v":""},{"$f":"IF('Radio (Desc)'!M184=\"\",\"\",'Radio (Desc)'!M184)","v":""},{"$f":"IF('Radio (Desc)'!N184=\"\",\"\",'Radio (Desc)'!N184)","v":""},{"$f":"IF('Radio (Desc)'!O184=\"\",\"\",INDEX([1]ITS_COMM_DEV_MANUF!$A$2:$A$300,MATCH(1,([1]ITS_COMM_DEV_MANUF!$B$2:$B$300='Radio (Desc)'!$O184)*([1]ITS_COMM_DEV_MANUF!$C$2:$C$300=\"RADIO\"),0),0))","v":""},{"$f":"IF('Radio (Desc)'!P184=\"\",\"\",INDEX([1]ITS_COMM_DEV_MODEL!$A$2:$A$500,MATCH(1,([1]ITS_COMM_DEV_MODEL!$C$2:$C$500='Radio (Desc)'!$O184)*([1]ITS_COMM_DEV_MODEL!$D$2:$D$500=\"RADIO\")*([1]ITS_COMM_DEV_MODEL!$E$2:$E$500='Radio (Desc)'!$P184),0),0))","v":""},{"$f":"IF('Radio (Desc)'!Q184=\"\",\"\",'Radio (Desc)'!Q184)","v":""},{"$f":"IF('Radio (Desc)'!R184=\"\",\"\",'Radio (Desc)'!R184)","v":""},{"$f":"IF('Radio (Desc)'!S184=\"\",\"\",'Radio (Desc)'!S184)","v":""},{"$f":"IF('Radio (Desc)'!T184=\"\",\"\",'Radio (Desc)'!T184)","v":""},{"$f":"IF('Radio (Desc)'!U184=\"\",\"\",INDEX([1]DEV_INPUT_VOLTAGE!$A$2:$A$100,MATCH('Radio (Desc)'!$U184,[1]!MASTER_DEV_INPUT_VOLTAGE_DESC[#Data],0),0))","v":""},{"$f":"IF('Radio (Desc)'!V184=\"\",\"\",'Radio (Desc)'!V184)","v":""},{"$f":"IF('Radio (Desc)'!W184=\"\",\"\",'Radio (Desc)'!W184)","v":""},{"$f":"IF('Radio (Desc)'!X184=\"\",\"\",'Radio (Desc)'!X184)","v":""},{"$f":"IF('Radio (Desc)'!Y184=\"\",\"\",INDEX([1]FIBER_CONN_TYPE!$A$2:$A$100,MATCH('Radio (Desc)'!$Y184,[1]!MASTER_FIBER_CONN_TYPE_DESC[#Data],0),0))","v":""}]
[{"$f":"IF('Radio (Desc)'!A185=\"\",\"\",'Radio (Desc)'!A185)","v":""},{"$f":"IF('Radio (Desc)'!C185=\"\",\"\",\"2029\")","v":""},{"$f":"IF('Radio (Desc)'!C185=\"\",\"\",'Radio (Desc)'!C185)","v":""},{"$f":"IF('Radio (Desc)'!E185=\"\",\"\",\"RADIO\")","v":""},{"$f":"IF('Radio (Desc)'!E185=\"\",\"\",INDEX([1]RADIO_TYPE!$A$2:$A$100,MATCH('Radio (Desc)'!$E185,[1]!MASTER_RADIO_TYPE_DESC[#Data],0),0))","v":""},{"$f":"IF('Radio (Desc)'!F185=\"\",\"\",'Radio (Desc)'!F185)","v":""},{"$f":"IF('Radio (Desc)'!G185=\"\",\"\",INDEX([1]RADIO_FREQ!$A$2:$A$500,MATCH('Radio (Desc)'!$G185,[1]!MASTER_RADIO_FREQ_DESC[#Data],0),0))","v":""},{"$f":"IF('Radio (Desc)'!H185=\"\",\"\",'Radio (Desc)'!H185)","v":""},{"$f":"IF('Radio (Desc)'!I185=\"\",\"\",INDEX([1]RADIO_FREQ!$A$2:$A$500,MATCH('Radio (Desc)'!$I185,[1]!MASTER_RADIO_FREQ_DESC[#Data],0),0))","v":""},{"$f":"IF('Radio (Desc)'!J185=\"\",\"\",'Radio (Desc)'!J185)","v":""},{"$f":"IF('Radio (Desc)'!K185=\"\",\"\",INDEX([1]CALL_SIGN!$A$2:$A$600,MATCH('Radio (Desc)'!$K185,[1]!MASTER_CALL_SIGN_DESC[#Data],0),0))","v":""},{"$f":"IF('Radio (Desc)'!L185=\"\",\"\",INDEX([1]STATION_CLASS!$A$2:$A$100,MATCH('Radio (Desc)'!$L185,[1]!MASTER_STATION_CLASS_DESC[#Data],0),0))","v":""},{"$f":"IF('Radio (Desc)'!M185=\"\",\"\",'Radio (Desc)'!M185)","v":""},{"$f":"IF('Radio (Desc)'!N185=\"\",\"\",'Radio (Desc)'!N185)","v":""},{"$f":"IF('Radio (Desc)'!O185=\"\",\"\",INDEX([1]ITS_COMM_DEV_MANUF!$A$2:$A$300,MATCH(1,([1]ITS_COMM_DEV_MANUF!$B$2:$B$300='Radio (Desc)'!$O185)*([1]ITS_COMM_DEV_MANUF!$C$2:$C$300=\"RADIO\"),0),0))","v":""},{"$f":"IF('Radio (Desc)'!P185=\"\",\"\",INDEX([1]ITS_COMM_DEV_MODEL!$A$2:$A$500,MATCH(1,([1]ITS_COMM_DEV_MODEL!$C$2:$C$500='Radio (Desc)'!$O185)*([1]ITS_COMM_DEV_MODEL!$D$2:$D$500=\"RADIO\")*([1]ITS_COMM_DEV_MODEL!$E$2:$E$500='Radio (Desc)'!$P185),0),0))","v":""},{"$f":"IF('Radio (Desc)'!Q185=\"\",\"\",'Radio (Desc)'!Q185)","v":""},{"$f":"IF('Radio (Desc)'!R185=\"\",\"\",'Radio (Desc)'!R185)","v":""},{"$f":"IF('Radio (Desc)'!S185=\"\",\"\",'Radio (Desc)'!S185)","v":""},{"$f":"IF('Radio (Desc)'!T185=\"\",\"\",'Radio (Desc)'!T185)","v":""},{"$f":"IF('Radio (Desc)'!U185=\"\",\"\",INDEX([1]DEV_INPUT_VOLTAGE!$A$2:$A$100,MATCH('Radio (Desc)'!$U185,[1]!MASTER_DEV_INPUT_VOLTAGE_DESC[#Data],0),0))","v":""},{"$f":"IF('Radio (Desc)'!V185=\"\",\"\",'Radio (Desc)'!V185)","v":""},{"$f":"IF('Radio (Desc)'!W185=\"\",\"\",'Radio (Desc)'!W185)","v":""},{"$f":"IF('Radio (Desc)'!X185=\"\",\"\",'Radio (Desc)'!X185)","v":""},{"$f":"IF('Radio (Desc)'!Y185=\"\",\"\",INDEX([1]FIBER_CONN_TYPE!$A$2:$A$100,MATCH('Radio (Desc)'!$Y185,[1]!MASTER_FIBER_CONN_TYPE_DESC[#Data],0),0))","v":""}]
[{"$f":"IF('Radio (Desc)'!A186=\"\",\"\",'Radio (Desc)'!A186)","v":""},{"$f":"IF('Radio (Desc)'!C186=\"\",\"\",\"2029\")","v":""},{"$f":"IF('Radio (Desc)'!C186=\"\",\"\",'Radio (Desc)'!C186)","v":""},{"$f":"IF('Radio (Desc)'!E186=\"\",\"\",\"RADIO\")","v":""},{"$f":"IF('Radio (Desc)'!E186=\"\",\"\",INDEX([1]RADIO_TYPE!$A$2:$A$100,MATCH('Radio (Desc)'!$E186,[1]!MASTER_RADIO_TYPE_DESC[#Data],0),0))","v":""},{"$f":"IF('Radio (Desc)'!F186=\"\",\"\",'Radio (Desc)'!F186)","v":""},{"$f":"IF('Radio (Desc)'!G186=\"\",\"\",INDEX([1]RADIO_FREQ!$A$2:$A$500,MATCH('Radio (Desc)'!$G186,[1]!MASTER_RADIO_FREQ_DESC[#Data],0),0))","v":""},{"$f":"IF('Radio (Desc)'!H186=\"\",\"\",'Radio (Desc)'!H186)","v":""},{"$f":"IF('Radio (Desc)'!I186=\"\",\"\",INDEX([1]RADIO_FREQ!$A$2:$A$500,MATCH('Radio (Desc)'!$I186,[1]!MASTER_RADIO_FREQ_DESC[#Data],0),0))","v":""},{"$f":"IF('Radio (Desc)'!J186=\"\",\"\",'Radio (Desc)'!J186)","v":""},{"$f":"IF('Radio (Desc)'!K186=\"\",\"\",INDEX([1]CALL_SIGN!$A$2:$A$600,MATCH('Radio (Desc)'!$K186,[1]!MASTER_CALL_SIGN_DESC[#Data],0),0))","v":""},{"$f":"IF('Radio (Desc)'!L186=\"\",\"\",INDEX([1]STATION_CLASS!$A$2:$A$100,MATCH('Radio (Desc)'!$L186,[1]!MASTER_STATION_CLASS_DESC[#Data],0),0))","v":""},{"$f":"IF('Radio (Desc)'!M186=\"\",\"\",'Radio (Desc)'!M186)","v":""},{"$f":"IF('Radio (Desc)'!N186=\"\",\"\",'Radio (Desc)'!N186)","v":""},{"$f":"IF('Radio (Desc)'!O186=\"\",\"\",INDEX([1]ITS_COMM_DEV_MANUF!$A$2:$A$300,MATCH(1,([1]ITS_COMM_DEV_MANUF!$B$2:$B$300='Radio (Desc)'!$O186)*([1]ITS_COMM_DEV_MANUF!$C$2:$C$300=\"RADIO\"),0),0))","v":""},{"$f":"IF('Radio (Desc)'!P186=\"\",\"\",INDEX([1]ITS_COMM_DEV_MODEL!$A$2:$A$500,MATCH(1,([1]ITS_COMM_DEV_MODEL!$C$2:$C$500='Radio (Desc)'!$O186)*([1]ITS_COMM_DEV_MODEL!$D$2:$D$500=\"RADIO\")*([1]ITS_COMM_DEV_MODEL!$E$2:$E$500='Radio (Desc)'!$P186),0),0))","v":""},{"$f":"IF('Radio (Desc)'!Q186=\"\",\"\",'Radio (Desc)'!Q186)","v":""},{"$f":"IF('Radio (Desc)'!R186=\"\",\"\",'Radio (Desc)'!R186)","v":""},{"$f":"IF('Radio (Desc)'!S186=\"\",\"\",'Radio (Desc)'!S186)","v":""},{"$f":"IF('Radio (Desc)'!T186=\"\",\"\",'Radio (Desc)'!T186)","v":""},{"$f":"IF('Radio (Desc)'!U186=\"\",\"\",INDEX([1]DEV_INPUT_VOLTAGE!$A$2:$A$100,MATCH('Radio (Desc)'!$U186,[1]!MASTER_DEV_INPUT_VOLTAGE_DESC[#Data],0),0))","v":""},{"$f":"IF('Radio (Desc)'!V186=\"\",\"\",'Radio (Desc)'!V186)","v":""},{"$f":"IF('Radio (Desc)'!W186=\"\",\"\",'Radio (Desc)'!W186)","v":""},{"$f":"IF('Radio (Desc)'!X186=\"\",\"\",'Radio (Desc)'!X186)","v":""},{"$f":"IF('Radio (Desc)'!Y186=\"\",\"\",INDEX([1]FIBER_CONN_TYPE!$A$2:$A$100,MATCH('Radio (Desc)'!$Y186,[1]!MASTER_FIBER_CONN_TYPE_DESC[#Data],0),0))","v":""}]
[{"$f":"IF('Radio (Desc)'!A187=\"\",\"\",'Radio (Desc)'!A187)","v":""},{"$f":"IF('Radio (Desc)'!C187=\"\",\"\",\"2029\")","v":""},{"$f":"IF('Radio (Desc)'!C187=\"\",\"\",'Radio (Desc)'!C187)","v":""},{"$f":"IF('Radio (Desc)'!E187=\"\",\"\",\"RADIO\")","v":""},{"$f":"IF('Radio (Desc)'!E187=\"\",\"\",INDEX([1]RADIO_TYPE!$A$2:$A$100,MATCH('Radio (Desc)'!$E187,[1]!MASTER_RADIO_TYPE_DESC[#Data],0),0))","v":""},{"$f":"IF('Radio (Desc)'!F187=\"\",\"\",'Radio (Desc)'!F187)","v":""},{"$f":"IF('Radio (Desc)'!G187=\"\",\"\",INDEX([1]RADIO_FREQ!$A$2:$A$500,MATCH('Radio (Desc)'!$G187,[1]!MASTER_RADIO_FREQ_DESC[#Data],0),0))","v":""},{"$f":"IF('Radio (Desc)'!H187=\"\",\"\",'Radio (Desc)'!H187)","v":""},{"$f":"IF('Radio (Desc)'!I187=\"\",\"\",INDEX([1]RADIO_FREQ!$A$2:$A$500,MATCH('Radio (Desc)'!$I187,[1]!MASTER_RADIO_FREQ_DESC[#Data],0),0))","v":""},{"$f":"IF('Radio (Desc)'!J187=\"\",\"\",'Radio (Desc)'!J187)","v":""},{"$f":"IF('Radio (Desc)'!K187=\"\",\"\",INDEX([1]CALL_SIGN!$A$2:$A$600,MATCH('Radio (Desc)'!$K187,[1]!MASTER_CALL_SIGN_DESC[#Data],0),0))","v":""},{"$f":"IF('Radio (Desc)'!L187=\"\",\"\",INDEX([1]STATION_CLASS!$A$2:$A$100,MATCH('Radio (Desc)'!$L187,[1]!MASTER_STATION_CLASS_DESC[#Data],0),0))","v":""},{"$f":"IF('Radio (Desc)'!M187=\"\",\"\",'Radio (Desc)'!M187)","v":""},{"$f":"IF('Radio (Desc)'!N187=\"\",\"\",'Radio (Desc)'!N187)","v":""},{"$f":"IF('Radio (Desc)'!O187=\"\",\"\",INDEX([1]ITS_COMM_DEV_MANUF!$A$2:$A$300,MATCH(1,([1]ITS_COMM_DEV_MANUF!$B$2:$B$300='Radio (Desc)'!$O187)*([1]ITS_COMM_DEV_MANUF!$C$2:$C$300=\"RADIO\"),0),0))","v":""},{"$f":"IF('Radio (Desc)'!P187=\"\",\"\",INDEX([1]ITS_COMM_DEV_MODEL!$A$2:$A$500,MATCH(1,([1]ITS_COMM_DEV_MODEL!$C$2:$C$500='Radio (Desc)'!$O187)*([1]ITS_COMM_DEV_MODEL!$D$2:$D$500=\"RADIO\")*([1]ITS_COMM_DEV_MODEL!$E$2:$E$500='Radio (Desc)'!$P187),0),0))","v":""},{"$f":"IF('Radio (Desc)'!Q187=\"\",\"\",'Radio (Desc)'!Q187)","v":""},{"$f":"IF('Radio (Desc)'!R187=\"\",\"\",'Radio (Desc)'!R187)","v":""},{"$f":"IF('Radio (Desc)'!S187=\"\",\"\",'Radio (Desc)'!S187)","v":""},{"$f":"IF('Radio (Desc)'!T187=\"\",\"\",'Radio (Desc)'!T187)","v":""},{"$f":"IF('Radio (Desc)'!U187=\"\",\"\",INDEX([1]DEV_INPUT_VOLTAGE!$A$2:$A$100,MATCH('Radio (Desc)'!$U187,[1]!MASTER_DEV_INPUT_VOLTAGE_DESC[#Data],0),0))","v":""},{"$f":"IF('Radio (Desc)'!V187=\"\",\"\",'Radio (Desc)'!V187)","v":""},{"$f":"IF('Radio (Desc)'!W187=\"\",\"\",'Radio (Desc)'!W187)","v":""},{"$f":"IF('Radio (Desc)'!X187=\"\",\"\",'Radio (Desc)'!X187)","v":""},{"$f":"IF('Radio (Desc)'!Y187=\"\",\"\",INDEX([1]FIBER_CONN_TYPE!$A$2:$A$100,MATCH('Radio (Desc)'!$Y187,[1]!MASTER_FIBER_CONN_TYPE_DESC[#Data],0),0))","v":""}]
[{"$f":"IF('Radio (Desc)'!A188=\"\",\"\",'Radio (Desc)'!A188)","v":""},{"$f":"IF('Radio (Desc)'!C188=\"\",\"\",\"2029\")","v":""},{"$f":"IF('Radio (Desc)'!C188=\"\",\"\",'Radio (Desc)'!C188)","v":""},{"$f":"IF('Radio (Desc)'!E188=\"\",\"\",\"RADIO\")","v":""},{"$f":"IF('Radio (Desc)'!E188=\"\",\"\",INDEX([1]RADIO_TYPE!$A$2:$A$100,MATCH('Radio (Desc)'!$E188,[1]!MASTER_RADIO_TYPE_DESC[#Data],0),0))","v":""},{"$f":"IF('Radio (Desc)'!F188=\"\",\"\",'Radio (Desc)'!F188)","v":""},{"$f":"IF('Radio (Desc)'!G188=\"\",\"\",INDEX([1]RADIO_FREQ!$A$2:$A$500,MATCH('Radio (Desc)'!$G188,[1]!MASTER_RADIO_FREQ_DESC[#Data],0),0))","v":""},{"$f":"IF('Radio (Desc)'!H188=\"\",\"\",'Radio (Desc)'!H188)","v":""},{"$f":"IF('Radio (Desc)'!I188=\"\",\"\",INDEX([1]RADIO_FREQ!$A$2:$A$500,MATCH('Radio (Desc)'!$I188,[1]!MASTER_RADIO_FREQ_DESC[#Data],0),0))","v":""},{"$f":"IF('Radio (Desc)'!J188=\"\",\"\",'Radio (Desc)'!J188)","v":""},{"$f":"IF('Radio (Desc)'!K188=\"\",\"\",INDEX([1]CALL_SIGN!$A$2:$A$600,MATCH('Radio (Desc)'!$K188,[1]!MASTER_CALL_SIGN_DESC[#Data],0),0))","v":""},{"$f":"IF('Radio (Desc)'!L188=\"\",\"\",INDEX([1]STATION_CLASS!$A$2:$A$100,MATCH('Radio (Desc)'!$L188,[1]!MASTER_STATION_CLASS_DESC[#Data],0),0))","v":""},{"$f":"IF('Radio (Desc)'!M188=\"\",\"\",'Radio (Desc)'!M188)","v":""},{"$f":"IF('Radio (Desc)'!N188=\"\",\"\",'Radio (Desc)'!N188)","v":""},{"$f":"IF('Radio (Desc)'!O188=\"\",\"\",INDEX([1]ITS_COMM_DEV_MANUF!$A$2:$A$300,MATCH(1,([1]ITS_COMM_DEV_MANUF!$B$2:$B$300='Radio (Desc)'!$O188)*([1]ITS_COMM_DEV_MANUF!$C$2:$C$300=\"RADIO\"),0),0))","v":""},{"$f":"IF('Radio (Desc)'!P188=\"\",\"\",INDEX([1]ITS_COMM_DEV_MODEL!$A$2:$A$500,MATCH(1,([1]ITS_COMM_DEV_MODEL!$C$2:$C$500='Radio (Desc)'!$O188)*([1]ITS_COMM_DEV_MODEL!$D$2:$D$500=\"RADIO\")*([1]ITS_COMM_DEV_MODEL!$E$2:$E$500='Radio (Desc)'!$P188),0),0))","v":""},{"$f":"IF('Radio (Desc)'!Q188=\"\",\"\",'Radio (Desc)'!Q188)","v":""},{"$f":"IF('Radio (Desc)'!R188=\"\",\"\",'Radio (Desc)'!R188)","v":""},{"$f":"IF('Radio (Desc)'!S188=\"\",\"\",'Radio (Desc)'!S188)","v":""},{"$f":"IF('Radio (Desc)'!T188=\"\",\"\",'Radio (Desc)'!T188)","v":""},{"$f":"IF('Radio (Desc)'!U188=\"\",\"\",INDEX([1]DEV_INPUT_VOLTAGE!$A$2:$A$100,MATCH('Radio (Desc)'!$U188,[1]!MASTER_DEV_INPUT_VOLTAGE_DESC[#Data],0),0))","v":""},{"$f":"IF('Radio (Desc)'!V188=\"\",\"\",'Radio (Desc)'!V188)","v":""},{"$f":"IF('Radio (Desc)'!W188=\"\",\"\",'Radio (Desc)'!W188)","v":""},{"$f":"IF('Radio (Desc)'!X188=\"\",\"\",'Radio (Desc)'!X188)","v":""},{"$f":"IF('Radio (Desc)'!Y188=\"\",\"\",INDEX([1]FIBER_CONN_TYPE!$A$2:$A$100,MATCH('Radio (Desc)'!$Y188,[1]!MASTER_FIBER_CONN_TYPE_DESC[#Data],0),0))","v":""}]
[{"$f":"IF('Radio (Desc)'!A189=\"\",\"\",'Radio (Desc)'!A189)","v":""},{"$f":"IF('Radio (Desc)'!C189=\"\",\"\",\"2029\")","v":""},{"$f":"IF('Radio (Desc)'!C189=\"\",\"\",'Radio (Desc)'!C189)","v":""},{"$f":"IF('Radio (Desc)'!E189=\"\",\"\",\"RADIO\")","v":""},{"$f":"IF('Radio (Desc)'!E189=\"\",\"\",INDEX([1]RADIO_TYPE!$A$2:$A$100,MATCH('Radio (Desc)'!$E189,[1]!MASTER_RADIO_TYPE_DESC[#Data],0),0))","v":""},{"$f":"IF('Radio (Desc)'!F189=\"\",\"\",'Radio (Desc)'!F189)","v":""},{"$f":"IF('Radio (Desc)'!G189=\"\",\"\",INDEX([1]RADIO_FREQ!$A$2:$A$500,MATCH('Radio (Desc)'!$G189,[1]!MASTER_RADIO_FREQ_DESC[#Data],0),0))","v":""},{"$f":"IF('Radio (Desc)'!H189=\"\",\"\",'Radio (Desc)'!H189)","v":""},{"$f":"IF('Radio (Desc)'!I189=\"\",\"\",INDEX([1]RADIO_FREQ!$A$2:$A$500,MATCH('Radio (Desc)'!$I189,[1]!MASTER_RADIO_FREQ_DESC[#Data],0),0))","v":""},{"$f":"IF('Radio (Desc)'!J189=\"\",\"\",'Radio (Desc)'!J189)","v":""},{"$f":"IF('Radio (Desc)'!K189=\"\",\"\",INDEX([1]CALL_SIGN!$A$2:$A$600,MATCH('Radio (Desc)'!$K189,[1]!MASTER_CALL_SIGN_DESC[#Data],0),0))","v":""},{"$f":"IF('Radio (Desc)'!L189=\"\",\"\",INDEX([1]STATION_CLASS!$A$2:$A$100,MATCH('Radio (Desc)'!$L189,[1]!MASTER_STATION_CLASS_DESC[#Data],0),0))","v":""},{"$f":"IF('Radio (Desc)'!M189=\"\",\"\",'Radio (Desc)'!M189)","v":""},{"$f":"IF('Radio (Desc)'!N189=\"\",\"\",'Radio (Desc)'!N189)","v":""},{"$f":"IF('Radio (Desc)'!O189=\"\",\"\",INDEX([1]ITS_COMM_DEV_MANUF!$A$2:$A$300,MATCH(1,([1]ITS_COMM_DEV_MANUF!$B$2:$B$300='Radio (Desc)'!$O189)*([1]ITS_COMM_DEV_MANUF!$C$2:$C$300=\"RADIO\"),0),0))","v":""},{"$f":"IF('Radio (Desc)'!P189=\"\",\"\",INDEX([1]ITS_COMM_DEV_MODEL!$A$2:$A$500,MATCH(1,([1]ITS_COMM_DEV_MODEL!$C$2:$C$500='Radio (Desc)'!$O189)*([1]ITS_COMM_DEV_MODEL!$D$2:$D$500=\"RADIO\")*([1]ITS_COMM_DEV_MODEL!$E$2:$E$500='Radio (Desc)'!$P189),0),0))","v":""},{"$f":"IF('Radio (Desc)'!Q189=\"\",\"\",'Radio (Desc)'!Q189)","v":""},{"$f":"IF('Radio (Desc)'!R189=\"\",\"\",'Radio (Desc)'!R189)","v":""},{"$f":"IF('Radio (Desc)'!S189=\"\",\"\",'Radio (Desc)'!S189)","v":""},{"$f":"IF('Radio (Desc)'!T189=\"\",\"\",'Radio (Desc)'!T189)","v":""},{"$f":"IF('Radio (Desc)'!U189=\"\",\"\",INDEX([1]DEV_INPUT_VOLTAGE!$A$2:$A$100,MATCH('Radio (Desc)'!$U189,[1]!MASTER_DEV_INPUT_VOLTAGE_DESC[#Data],0),0))","v":""},{"$f":"IF('Radio (Desc)'!V189=\"\",\"\",'Radio (Desc)'!V189)","v":""},{"$f":"IF('Radio (Desc)'!W189=\"\",\"\",'Radio (Desc)'!W189)","v":""},{"$f":"IF('Radio (Desc)'!X189=\"\",\"\",'Radio (Desc)'!X189)","v":""},{"$f":"IF('Radio (Desc)'!Y189=\"\",\"\",INDEX([1]FIBER_CONN_TYPE!$A$2:$A$100,MATCH('Radio (Desc)'!$Y189,[1]!MASTER_FIBER_CONN_TYPE_DESC[#Data],0),0))","v":""}]
[{"$f":"IF('Radio (Desc)'!A190=\"\",\"\",'Radio (Desc)'!A190)","v":""},{"$f":"IF('Radio (Desc)'!C190=\"\",\"\",\"2029\")","v":""},{"$f":"IF('Radio (Desc)'!C190=\"\",\"\",'Radio (Desc)'!C190)","v":""},{"$f":"IF('Radio (Desc)'!E190=\"\",\"\",\"RADIO\")","v":""},{"$f":"IF('Radio (Desc)'!E190=\"\",\"\",INDEX([1]RADIO_TYPE!$A$2:$A$100,MATCH('Radio (Desc)'!$E190,[1]!MASTER_RADIO_TYPE_DESC[#Data],0),0))","v":""},{"$f":"IF('Radio (Desc)'!F190=\"\",\"\",'Radio (Desc)'!F190)","v":""},{"$f":"IF('Radio (Desc)'!G190=\"\",\"\",INDEX([1]RADIO_FREQ!$A$2:$A$500,MATCH('Radio (Desc)'!$G190,[1]!MASTER_RADIO_FREQ_DESC[#Data],0),0))","v":""},{"$f":"IF('Radio (Desc)'!H190=\"\",\"\",'Radio (Desc)'!H190)","v":""},{"$f":"IF('Radio (Desc)'!I190=\"\",\"\",INDEX([1]RADIO_FREQ!$A$2:$A$500,MATCH('Radio (Desc)'!$I190,[1]!MASTER_RADIO_FREQ_DESC[#Data],0),0))","v":""},{"$f":"IF('Radio (Desc)'!J190=\"\",\"\",'Radio (Desc)'!J190)","v":""},{"$f":"IF('Radio (Desc)'!K190=\"\",\"\",INDEX([1]CALL_SIGN!$A$2:$A$600,MATCH('Radio (Desc)'!$K190,[1]!MASTER_CALL_SIGN_DESC[#Data],0),0))","v":""},{"$f":"IF('Radio (Desc)'!L190=\"\",\"\",INDEX([1]STATION_CLASS!$A$2:$A$100,MATCH('Radio (Desc)'!$L190,[1]!MASTER_STATION_CLASS_DESC[#Data],0),0))","v":""},{"$f":"IF('Radio (Desc)'!M190=\"\",\"\",'Radio (Desc)'!M190)","v":""},{"$f":"IF('Radio (Desc)'!N190=\"\",\"\",'Radio (Desc)'!N190)","v":""},{"$f":"IF('Radio (Desc)'!O190=\"\",\"\",INDEX([1]ITS_COMM_DEV_MANUF!$A$2:$A$300,MATCH(1,([1]ITS_COMM_DEV_MANUF!$B$2:$B$300='Radio (Desc)'!$O190)*([1]ITS_COMM_DEV_MANUF!$C$2:$C$300=\"RADIO\"),0),0))","v":""},{"$f":"IF('Radio (Desc)'!P190=\"\",\"\",INDEX([1]ITS_COMM_DEV_MODEL!$A$2:$A$500,MATCH(1,([1]ITS_COMM_DEV_MODEL!$C$2:$C$500='Radio (Desc)'!$O190)*([1]ITS_COMM_DEV_MODEL!$D$2:$D$500=\"RADIO\")*([1]ITS_COMM_DEV_MODEL!$E$2:$E$500='Radio (Desc)'!$P190),0),0))","v":""},{"$f":"IF('Radio (Desc)'!Q190=\"\",\"\",'Radio (Desc)'!Q190)","v":""},{"$f":"IF('Radio (Desc)'!R190=\"\",\"\",'Radio (Desc)'!R190)","v":""},{"$f":"IF('Radio (Desc)'!S190=\"\",\"\",'Radio (Desc)'!S190)","v":""},{"$f":"IF('Radio (Desc)'!T190=\"\",\"\",'Radio (Desc)'!T190)","v":""},{"$f":"IF('Radio (Desc)'!U190=\"\",\"\",INDEX([1]DEV_INPUT_VOLTAGE!$A$2:$A$100,MATCH('Radio (Desc)'!$U190,[1]!MASTER_DEV_INPUT_VOLTAGE_DESC[#Data],0),0))","v":""},{"$f":"IF('Radio (Desc)'!V190=\"\",\"\",'Radio (Desc)'!V190)","v":""},{"$f":"IF('Radio (Desc)'!W190=\"\",\"\",'Radio (Desc)'!W190)","v":""},{"$f":"IF('Radio (Desc)'!X190=\"\",\"\",'Radio (Desc)'!X190)","v":""},{"$f":"IF('Radio (Desc)'!Y190=\"\",\"\",INDEX([1]FIBER_CONN_TYPE!$A$2:$A$100,MATCH('Radio (Desc)'!$Y190,[1]!MASTER_FIBER_CONN_TYPE_DESC[#Data],0),0))","v":""}]
[{"$f":"IF('Radio (Desc)'!A191=\"\",\"\",'Radio (Desc)'!A191)","v":""},{"$f":"IF('Radio (Desc)'!C191=\"\",\"\",\"2029\")","v":""},{"$f":"IF('Radio (Desc)'!C191=\"\",\"\",'Radio (Desc)'!C191)","v":""},{"$f":"IF('Radio (Desc)'!E191=\"\",\"\",\"RADIO\")","v":""},{"$f":"IF('Radio (Desc)'!E191=\"\",\"\",INDEX([1]RADIO_TYPE!$A$2:$A$100,MATCH('Radio (Desc)'!$E191,[1]!MASTER_RADIO_TYPE_DESC[#Data],0),0))","v":""},{"$f":"IF('Radio (Desc)'!F191=\"\",\"\",'Radio (Desc)'!F191)","v":""},{"$f":"IF('Radio (Desc)'!G191=\"\",\"\",INDEX([1]RADIO_FREQ!$A$2:$A$500,MATCH('Radio (Desc)'!$G191,[1]!MASTER_RADIO_FREQ_DESC[#Data],0),0))","v":""},{"$f":"IF('Radio (Desc)'!H191=\"\",\"\",'Radio (Desc)'!H191)","v":""},{"$f":"IF('Radio (Desc)'!I191=\"\",\"\",INDEX([1]RADIO_FREQ!$A$2:$A$500,MATCH('Radio (Desc)'!$I191,[1]!MASTER_RADIO_FREQ_DESC[#Data],0),0))","v":""},{"$f":"IF('Radio (Desc)'!J191=\"\",\"\",'Radio (Desc)'!J191)","v":""},{"$f":"IF('Radio (Desc)'!K191=\"\",\"\",INDEX([1]CALL_SIGN!$A$2:$A$600,MATCH('Radio (Desc)'!$K191,[1]!MASTER_CALL_SIGN_DESC[#Data],0),0))","v":""},{"$f":"IF('Radio (Desc)'!L191=\"\",\"\",INDEX([1]STATION_CLASS!$A$2:$A$100,MATCH('Radio (Desc)'!$L191,[1]!MASTER_STATION_CLASS_DESC[#Data],0),0))","v":""},{"$f":"IF('Radio (Desc)'!M191=\"\",\"\",'Radio (Desc)'!M191)","v":""},{"$f":"IF('Radio (Desc)'!N191=\"\",\"\",'Radio (Desc)'!N191)","v":""},{"$f":"IF('Radio (Desc)'!O191=\"\",\"\",INDEX([1]ITS_COMM_DEV_MANUF!$A$2:$A$300,MATCH(1,([1]ITS_COMM_DEV_MANUF!$B$2:$B$300='Radio (Desc)'!$O191)*([1]ITS_COMM_DEV_MANUF!$C$2:$C$300=\"RADIO\"),0),0))","v":""},{"$f":"IF('Radio (Desc)'!P191=\"\",\"\",INDEX([1]ITS_COMM_DEV_MODEL!$A$2:$A$500,MATCH(1,([1]ITS_COMM_DEV_MODEL!$C$2:$C$500='Radio (Desc)'!$O191)*([1]ITS_COMM_DEV_MODEL!$D$2:$D$500=\"RADIO\")*([1]ITS_COMM_DEV_MODEL!$E$2:$E$500='Radio (Desc)'!$P191),0),0))","v":""},{"$f":"IF('Radio (Desc)'!Q191=\"\",\"\",'Radio (Desc)'!Q191)","v":""},{"$f":"IF('Radio (Desc)'!R191=\"\",\"\",'Radio (Desc)'!R191)","v":""},{"$f":"IF('Radio (Desc)'!S191=\"\",\"\",'Radio (Desc)'!S191)","v":""},{"$f":"IF('Radio (Desc)'!T191=\"\",\"\",'Radio (Desc)'!T191)","v":""},{"$f":"IF('Radio (Desc)'!U191=\"\",\"\",INDEX([1]DEV_INPUT_VOLTAGE!$A$2:$A$100,MATCH('Radio (Desc)'!$U191,[1]!MASTER_DEV_INPUT_VOLTAGE_DESC[#Data],0),0))","v":""},{"$f":"IF('Radio (Desc)'!V191=\"\",\"\",'Radio (Desc)'!V191)","v":""},{"$f":"IF('Radio (Desc)'!W191=\"\",\"\",'Radio (Desc)'!W191)","v":""},{"$f":"IF('Radio (Desc)'!X191=\"\",\"\",'Radio (Desc)'!X191)","v":""},{"$f":"IF('Radio (Desc)'!Y191=\"\",\"\",INDEX([1]FIBER_CONN_TYPE!$A$2:$A$100,MATCH('Radio (Desc)'!$Y191,[1]!MASTER_FIBER_CONN_TYPE_DESC[#Data],0),0))","v":""}]
[{"$f":"IF('Radio (Desc)'!A192=\"\",\"\",'Radio (Desc)'!A192)","v":""},{"$f":"IF('Radio (Desc)'!C192=\"\",\"\",\"2029\")","v":""},{"$f":"IF('Radio (Desc)'!C192=\"\",\"\",'Radio (Desc)'!C192)","v":""},{"$f":"IF('Radio (Desc)'!E192=\"\",\"\",\"RADIO\")","v":""},{"$f":"IF('Radio (Desc)'!E192=\"\",\"\",INDEX([1]RADIO_TYPE!$A$2:$A$100,MATCH('Radio (Desc)'!$E192,[1]!MASTER_RADIO_TYPE_DESC[#Data],0),0))","v":""},{"$f":"IF('Radio (Desc)'!F192=\"\",\"\",'Radio (Desc)'!F192)","v":""},{"$f":"IF('Radio (Desc)'!G192=\"\",\"\",INDEX([1]RADIO_FREQ!$A$2:$A$500,MATCH('Radio (Desc)'!$G192,[1]!MASTER_RADIO_FREQ_DESC[#Data],0),0))","v":""},{"$f":"IF('Radio (Desc)'!H192=\"\",\"\",'Radio (Desc)'!H192)","v":""},{"$f":"IF('Radio (Desc)'!I192=\"\",\"\",INDEX([1]RADIO_FREQ!$A$2:$A$500,MATCH('Radio (Desc)'!$I192,[1]!MASTER_RADIO_FREQ_DESC[#Data],0),0))","v":""},{"$f":"IF('Radio (Desc)'!J192=\"\",\"\",'Radio (Desc)'!J192)","v":""},{"$f":"IF('Radio (Desc)'!K192=\"\",\"\",INDEX([1]CALL_SIGN!$A$2:$A$600,MATCH('Radio (Desc)'!$K192,[1]!MASTER_CALL_SIGN_DESC[#Data],0),0))","v":""},{"$f":"IF('Radio (Desc)'!L192=\"\",\"\",INDEX([1]STATION_CLASS!$A$2:$A$100,MATCH('Radio (Desc)'!$L192,[1]!MASTER_STATION_CLASS_DESC[#Data],0),0))","v":""},{"$f":"IF('Radio (Desc)'!M192=\"\",\"\",'Radio (Desc)'!M192)","v":""},{"$f":"IF('Radio (Desc)'!N192=\"\",\"\",'Radio (Desc)'!N192)","v":""},{"$f":"IF('Radio (Desc)'!O192=\"\",\"\",INDEX([1]ITS_COMM_DEV_MANUF!$A$2:$A$300,MATCH(1,([1]ITS_COMM_DEV_MANUF!$B$2:$B$300='Radio (Desc)'!$O192)*([1]ITS_COMM_DEV_MANUF!$C$2:$C$300=\"RADIO\"),0),0))","v":""},{"$f":"IF('Radio (Desc)'!P192=\"\",\"\",INDEX([1]ITS_COMM_DEV_MODEL!$A$2:$A$500,MATCH(1,([1]ITS_COMM_DEV_MODEL!$C$2:$C$500='Radio (Desc)'!$O192)*([1]ITS_COMM_DEV_MODEL!$D$2:$D$500=\"RADIO\")*([1]ITS_COMM_DEV_MODEL!$E$2:$E$500='Radio (Desc)'!$P192),0),0))","v":""},{"$f":"IF('Radio (Desc)'!Q192=\"\",\"\",'Radio (Desc)'!Q192)","v":""},{"$f":"IF('Radio (Desc)'!R192=\"\",\"\",'Radio (Desc)'!R192)","v":""},{"$f":"IF('Radio (Desc)'!S192=\"\",\"\",'Radio (Desc)'!S192)","v":""},{"$f":"IF('Radio (Desc)'!T192=\"\",\"\",'Radio (Desc)'!T192)","v":""},{"$f":"IF('Radio (Desc)'!U192=\"\",\"\",INDEX([1]DEV_INPUT_VOLTAGE!$A$2:$A$100,MATCH('Radio (Desc)'!$U192,[1]!MASTER_DEV_INPUT_VOLTAGE_DESC[#Data],0),0))","v":""},{"$f":"IF('Radio (Desc)'!V192=\"\",\"\",'Radio (Desc)'!V192)","v":""},{"$f":"IF('Radio (Desc)'!W192=\"\",\"\",'Radio (Desc)'!W192)","v":""},{"$f":"IF('Radio (Desc)'!X192=\"\",\"\",'Radio (Desc)'!X192)","v":""},{"$f":"IF('Radio (Desc)'!Y192=\"\",\"\",INDEX([1]FIBER_CONN_TYPE!$A$2:$A$100,MATCH('Radio (Desc)'!$Y192,[1]!MASTER_FIBER_CONN_TYPE_DESC[#Data],0),0))","v":""}]
[{"$f":"IF('Radio (Desc)'!A193=\"\",\"\",'Radio (Desc)'!A193)","v":""},{"$f":"IF('Radio (Desc)'!C193=\"\",\"\",\"2029\")","v":""},{"$f":"IF('Radio (Desc)'!C193=\"\",\"\",'Radio (Desc)'!C193)","v":""},{"$f":"IF('Radio (Desc)'!E193=\"\",\"\",\"RADIO\")","v":""},{"$f":"IF('Radio (Desc)'!E193=\"\",\"\",INDEX([1]RADIO_TYPE!$A$2:$A$100,MATCH('Radio (Desc)'!$E193,[1]!MASTER_RADIO_TYPE_DESC[#Data],0),0))","v":""},{"$f":"IF('Radio (Desc)'!F193=\"\",\"\",'Radio (Desc)'!F193)","v":""},{"$f":"IF('Radio (Desc)'!G193=\"\",\"\",INDEX([1]RADIO_FREQ!$A$2:$A$500,MATCH('Radio (Desc)'!$G193,[1]!MASTER_RADIO_FREQ_DESC[#Data],0),0))","v":""},{"$f":"IF('Radio (Desc)'!H193=\"\",\"\",'Radio (Desc)'!H193)","v":""},{"$f":"IF('Radio (Desc)'!I193=\"\",\"\",INDEX([1]RADIO_FREQ!$A$2:$A$500,MATCH('Radio (Desc)'!$I193,[1]!MASTER_RADIO_FREQ_DESC[#Data],0),0))","v":""},{"$f":"IF('Radio (Desc)'!J193=\"\",\"\",'Radio (Desc)'!J193)","v":""},{"$f":"IF('Radio (Desc)'!K193=\"\",\"\",INDEX([1]CALL_SIGN!$A$2:$A$600,MATCH('Radio (Desc)'!$K193,[1]!MASTER_CALL_SIGN_DESC[#Data],0),0))","v":""},{"$f":"IF('Radio (Desc)'!L193=\"\",\"\",INDEX([1]STATION_CLASS!$A$2:$A$100,MATCH('Radio (Desc)'!$L193,[1]!MASTER_STATION_CLASS_DESC[#Data],0),0))","v":""},{"$f":"IF('Radio (Desc)'!M193=\"\",\"\",'Radio (Desc)'!M193)","v":""},{"$f":"IF('Radio (Desc)'!N193=\"\",\"\",'Radio (Desc)'!N193)","v":""},{"$f":"IF('Radio (Desc)'!O193=\"\",\"\",INDEX([1]ITS_COMM_DEV_MANUF!$A$2:$A$300,MATCH(1,([1]ITS_COMM_DEV_MANUF!$B$2:$B$300='Radio (Desc)'!$O193)*([1]ITS_COMM_DEV_MANUF!$C$2:$C$300=\"RADIO\"),0),0))","v":""},{"$f":"IF('Radio (Desc)'!P193=\"\",\"\",INDEX([1]ITS_COMM_DEV_MODEL!$A$2:$A$500,MATCH(1,([1]ITS_COMM_DEV_MODEL!$C$2:$C$500='Radio (Desc)'!$O193)*([1]ITS_COMM_DEV_MODEL!$D$2:$D$500=\"RADIO\")*([1]ITS_COMM_DEV_MODEL!$E$2:$E$500='Radio (Desc)'!$P193),0),0))","v":""},{"$f":"IF('Radio (Desc)'!Q193=\"\",\"\",'Radio (Desc)'!Q193)","v":""},{"$f":"IF('Radio (Desc)'!R193=\"\",\"\",'Radio (Desc)'!R193)","v":""},{"$f":"IF('Radio (Desc)'!S193=\"\",\"\",'Radio (Desc)'!S193)","v":""},{"$f":"IF('Radio (Desc)'!T193=\"\",\"\",'Radio (Desc)'!T193)","v":""},{"$f":"IF('Radio (Desc)'!U193=\"\",\"\",INDEX([1]DEV_INPUT_VOLTAGE!$A$2:$A$100,MATCH('Radio (Desc)'!$U193,[1]!MASTER_DEV_INPUT_VOLTAGE_DESC[#Data],0),0))","v":""},{"$f":"IF('Radio (Desc)'!V193=\"\",\"\",'Radio (Desc)'!V193)","v":""},{"$f":"IF('Radio (Desc)'!W193=\"\",\"\",'Radio (Desc)'!W193)","v":""},{"$f":"IF('Radio (Desc)'!X193=\"\",\"\",'Radio (Desc)'!X193)","v":""},{"$f":"IF('Radio (Desc)'!Y193=\"\",\"\",INDEX([1]FIBER_CONN_TYPE!$A$2:$A$100,MATCH('Radio (Desc)'!$Y193,[1]!MASTER_FIBER_CONN_TYPE_DESC[#Data],0),0))","v":""}]
[{"$f":"IF('Radio (Desc)'!A194=\"\",\"\",'Radio (Desc)'!A194)","v":""},{"$f":"IF('Radio (Desc)'!C194=\"\",\"\",\"2029\")","v":""},{"$f":"IF('Radio (Desc)'!C194=\"\",\"\",'Radio (Desc)'!C194)","v":""},{"$f":"IF('Radio (Desc)'!E194=\"\",\"\",\"RADIO\")","v":""},{"$f":"IF('Radio (Desc)'!E194=\"\",\"\",INDEX([1]RADIO_TYPE!$A$2:$A$100,MATCH('Radio (Desc)'!$E194,[1]!MASTER_RADIO_TYPE_DESC[#Data],0),0))","v":""},{"$f":"IF('Radio (Desc)'!F194=\"\",\"\",'Radio (Desc)'!F194)","v":""},{"$f":"IF('Radio (Desc)'!G194=\"\",\"\",INDEX([1]RADIO_FREQ!$A$2:$A$500,MATCH('Radio (Desc)'!$G194,[1]!MASTER_RADIO_FREQ_DESC[#Data],0),0))","v":""},{"$f":"IF('Radio (Desc)'!H194=\"\",\"\",'Radio (Desc)'!H194)","v":""},{"$f":"IF('Radio (Desc)'!I194=\"\",\"\",INDEX([1]RADIO_FREQ!$A$2:$A$500,MATCH('Radio (Desc)'!$I194,[1]!MASTER_RADIO_FREQ_DESC[#Data],0),0))","v":""},{"$f":"IF('Radio (Desc)'!J194=\"\",\"\",'Radio (Desc)'!J194)","v":""},{"$f":"IF('Radio (Desc)'!K194=\"\",\"\",INDEX([1]CALL_SIGN!$A$2:$A$600,MATCH('Radio (Desc)'!$K194,[1]!MASTER_CALL_SIGN_DESC[#Data],0),0))","v":""},{"$f":"IF('Radio (Desc)'!L194=\"\",\"\",INDEX([1]STATION_CLASS!$A$2:$A$100,MATCH('Radio (Desc)'!$L194,[1]!MASTER_STATION_CLASS_DESC[#Data],0),0))","v":""},{"$f":"IF('Radio (Desc)'!M194=\"\",\"\",'Radio (Desc)'!M194)","v":""},{"$f":"IF('Radio (Desc)'!N194=\"\",\"\",'Radio (Desc)'!N194)","v":""},{"$f":"IF('Radio (Desc)'!O194=\"\",\"\",INDEX([1]ITS_COMM_DEV_MANUF!$A$2:$A$300,MATCH(1,([1]ITS_COMM_DEV_MANUF!$B$2:$B$300='Radio (Desc)'!$O194)*([1]ITS_COMM_DEV_MANUF!$C$2:$C$300=\"RADIO\"),0),0))","v":""},{"$f":"IF('Radio (Desc)'!P194=\"\",\"\",INDEX([1]ITS_COMM_DEV_MODEL!$A$2:$A$500,MATCH(1,([1]ITS_COMM_DEV_MODEL!$C$2:$C$500='Radio (Desc)'!$O194)*([1]ITS_COMM_DEV_MODEL!$D$2:$D$500=\"RADIO\")*([1]ITS_COMM_DEV_MODEL!$E$2:$E$500='Radio (Desc)'!$P194),0),0))","v":""},{"$f":"IF('Radio (Desc)'!Q194=\"\",\"\",'Radio (Desc)'!Q194)","v":""},{"$f":"IF('Radio (Desc)'!R194=\"\",\"\",'Radio (Desc)'!R194)","v":""},{"$f":"IF('Radio (Desc)'!S194=\"\",\"\",'Radio (Desc)'!S194)","v":""},{"$f":"IF('Radio (Desc)'!T194=\"\",\"\",'Radio (Desc)'!T194)","v":""},{"$f":"IF('Radio (Desc)'!U194=\"\",\"\",INDEX([1]DEV_INPUT_VOLTAGE!$A$2:$A$100,MATCH('Radio (Desc)'!$U194,[1]!MASTER_DEV_INPUT_VOLTAGE_DESC[#Data],0),0))","v":""},{"$f":"IF('Radio (Desc)'!V194=\"\",\"\",'Radio (Desc)'!V194)","v":""},{"$f":"IF('Radio (Desc)'!W194=\"\",\"\",'Radio (Desc)'!W194)","v":""},{"$f":"IF('Radio (Desc)'!X194=\"\",\"\",'Radio (Desc)'!X194)","v":""},{"$f":"IF('Radio (Desc)'!Y194=\"\",\"\",INDEX([1]FIBER_CONN_TYPE!$A$2:$A$100,MATCH('Radio (Desc)'!$Y194,[1]!MASTER_FIBER_CONN_TYPE_DESC[#Data],0),0))","v":""}]
[{"$f":"IF('Radio (Desc)'!A195=\"\",\"\",'Radio (Desc)'!A195)","v":""},{"$f":"IF('Radio (Desc)'!C195=\"\",\"\",\"2029\")","v":""},{"$f":"IF('Radio (Desc)'!C195=\"\",\"\",'Radio (Desc)'!C195)","v":""},{"$f":"IF('Radio (Desc)'!E195=\"\",\"\",\"RADIO\")","v":""},{"$f":"IF('Radio (Desc)'!E195=\"\",\"\",INDEX([1]RADIO_TYPE!$A$2:$A$100,MATCH('Radio (Desc)'!$E195,[1]!MASTER_RADIO_TYPE_DESC[#Data],0),0))","v":""},{"$f":"IF('Radio (Desc)'!F195=\"\",\"\",'Radio (Desc)'!F195)","v":""},{"$f":"IF('Radio (Desc)'!G195=\"\",\"\",INDEX([1]RADIO_FREQ!$A$2:$A$500,MATCH('Radio (Desc)'!$G195,[1]!MASTER_RADIO_FREQ_DESC[#Data],0),0))","v":""},{"$f":"IF('Radio (Desc)'!H195=\"\",\"\",'Radio (Desc)'!H195)","v":""},{"$f":"IF('Radio (Desc)'!I195=\"\",\"\",INDEX([1]RADIO_FREQ!$A$2:$A$500,MATCH('Radio (Desc)'!$I195,[1]!MASTER_RADIO_FREQ_DESC[#Data],0),0))","v":""},{"$f":"IF('Radio (Desc)'!J195=\"\",\"\",'Radio (Desc)'!J195)","v":""},{"$f":"IF('Radio (Desc)'!K195=\"\",\"\",INDEX([1]CALL_SIGN!$A$2:$A$600,MATCH('Radio (Desc)'!$K195,[1]!MASTER_CALL_SIGN_DESC[#Data],0),0))","v":""},{"$f":"IF('Radio (Desc)'!L195=\"\",\"\",INDEX([1]STATION_CLASS!$A$2:$A$100,MATCH('Radio (Desc)'!$L195,[1]!MASTER_STATION_CLASS_DESC[#Data],0),0))","v":""},{"$f":"IF('Radio (Desc)'!M195=\"\",\"\",'Radio (Desc)'!M195)","v":""},{"$f":"IF('Radio (Desc)'!N195=\"\",\"\",'Radio (Desc)'!N195)","v":""},{"$f":"IF('Radio (Desc)'!O195=\"\",\"\",INDEX([1]ITS_COMM_DEV_MANUF!$A$2:$A$300,MATCH(1,([1]ITS_COMM_DEV_MANUF!$B$2:$B$300='Radio (Desc)'!$O195)*([1]ITS_COMM_DEV_MANUF!$C$2:$C$300=\"RADIO\"),0),0))","v":""},{"$f":"IF('Radio (Desc)'!P195=\"\",\"\",INDEX([1]ITS_COMM_DEV_MODEL!$A$2:$A$500,MATCH(1,([1]ITS_COMM_DEV_MODEL!$C$2:$C$500='Radio (Desc)'!$O195)*([1]ITS_COMM_DEV_MODEL!$D$2:$D$500=\"RADIO\")*([1]ITS_COMM_DEV_MODEL!$E$2:$E$500='Radio (Desc)'!$P195),0),0))","v":""},{"$f":"IF('Radio (Desc)'!Q195=\"\",\"\",'Radio (Desc)'!Q195)","v":""},{"$f":"IF('Radio (Desc)'!R195=\"\",\"\",'Radio (Desc)'!R195)","v":""},{"$f":"IF('Radio (Desc)'!S195=\"\",\"\",'Radio (Desc)'!S195)","v":""},{"$f":"IF('Radio (Desc)'!T195=\"\",\"\",'Radio (Desc)'!T195)","v":""},{"$f":"IF('Radio (Desc)'!U195=\"\",\"\",INDEX([1]DEV_INPUT_VOLTAGE!$A$2:$A$100,MATCH('Radio (Desc)'!$U195,[1]!MASTER_DEV_INPUT_VOLTAGE_DESC[#Data],0),0))","v":""},{"$f":"IF('Radio (Desc)'!V195=\"\",\"\",'Radio (Desc)'!V195)","v":""},{"$f":"IF('Radio (Desc)'!W195=\"\",\"\",'Radio (Desc)'!W195)","v":""},{"$f":"IF('Radio (Desc)'!X195=\"\",\"\",'Radio (Desc)'!X195)","v":""},{"$f":"IF('Radio (Desc)'!Y195=\"\",\"\",INDEX([1]FIBER_CONN_TYPE!$A$2:$A$100,MATCH('Radio (Desc)'!$Y195,[1]!MASTER_FIBER_CONN_TYPE_DESC[#Data],0),0))","v":""}]
[{"$f":"IF('Radio (Desc)'!A196=\"\",\"\",'Radio (Desc)'!A196)","v":""},{"$f":"IF('Radio (Desc)'!C196=\"\",\"\",\"2029\")","v":""},{"$f":"IF('Radio (Desc)'!C196=\"\",\"\",'Radio (Desc)'!C196)","v":""},{"$f":"IF('Radio (Desc)'!E196=\"\",\"\",\"RADIO\")","v":""},{"$f":"IF('Radio (Desc)'!E196=\"\",\"\",INDEX([1]RADIO_TYPE!$A$2:$A$100,MATCH('Radio (Desc)'!$E196,[1]!MASTER_RADIO_TYPE_DESC[#Data],0),0))","v":""},{"$f":"IF('Radio (Desc)'!F196=\"\",\"\",'Radio (Desc)'!F196)","v":""},{"$f":"IF('Radio (Desc)'!G196=\"\",\"\",INDEX([1]RADIO_FREQ!$A$2:$A$500,MATCH('Radio (Desc)'!$G196,[1]!MASTER_RADIO_FREQ_DESC[#Data],0),0))","v":""},{"$f":"IF('Radio (Desc)'!H196=\"\",\"\",'Radio (Desc)'!H196)","v":""},{"$f":"IF('Radio (Desc)'!I196=\"\",\"\",INDEX([1]RADIO_FREQ!$A$2:$A$500,MATCH('Radio (Desc)'!$I196,[1]!MASTER_RADIO_FREQ_DESC[#Data],0),0))","v":""},{"$f":"IF('Radio (Desc)'!J196=\"\",\"\",'Radio (Desc)'!J196)","v":""},{"$f":"IF('Radio (Desc)'!K196=\"\",\"\",INDEX([1]CALL_SIGN!$A$2:$A$600,MATCH('Radio (Desc)'!$K196,[1]!MASTER_CALL_SIGN_DESC[#Data],0),0))","v":""},{"$f":"IF('Radio (Desc)'!L196=\"\",\"\",INDEX([1]STATION_CLASS!$A$2:$A$100,MATCH('Radio (Desc)'!$L196,[1]!MASTER_STATION_CLASS_DESC[#Data],0),0))","v":""},{"$f":"IF('Radio (Desc)'!M196=\"\",\"\",'Radio (Desc)'!M196)","v":""},{"$f":"IF('Radio (Desc)'!N196=\"\",\"\",'Radio (Desc)'!N196)","v":""},{"$f":"IF('Radio (Desc)'!O196=\"\",\"\",INDEX([1]ITS_COMM_DEV_MANUF!$A$2:$A$300,MATCH(1,([1]ITS_COMM_DEV_MANUF!$B$2:$B$300='Radio (Desc)'!$O196)*([1]ITS_COMM_DEV_MANUF!$C$2:$C$300=\"RADIO\"),0),0))","v":""},{"$f":"IF('Radio (Desc)'!P196=\"\",\"\",INDEX([1]ITS_COMM_DEV_MODEL!$A$2:$A$500,MATCH(1,([1]ITS_COMM_DEV_MODEL!$C$2:$C$500='Radio (Desc)'!$O196)*([1]ITS_COMM_DEV_MODEL!$D$2:$D$500=\"RADIO\")*([1]ITS_COMM_DEV_MODEL!$E$2:$E$500='Radio (Desc)'!$P196),0),0))","v":""},{"$f":"IF('Radio (Desc)'!Q196=\"\",\"\",'Radio (Desc)'!Q196)","v":""},{"$f":"IF('Radio (Desc)'!R196=\"\",\"\",'Radio (Desc)'!R196)","v":""},{"$f":"IF('Radio (Desc)'!S196=\"\",\"\",'Radio (Desc)'!S196)","v":""},{"$f":"IF('Radio (Desc)'!T196=\"\",\"\",'Radio (Desc)'!T196)","v":""},{"$f":"IF('Radio (Desc)'!U196=\"\",\"\",INDEX([1]DEV_INPUT_VOLTAGE!$A$2:$A$100,MATCH('Radio (Desc)'!$U196,[1]!MASTER_DEV_INPUT_VOLTAGE_DESC[#Data],0),0))","v":""},{"$f":"IF('Radio (Desc)'!V196=\"\",\"\",'Radio (Desc)'!V196)","v":""},{"$f":"IF('Radio (Desc)'!W196=\"\",\"\",'Radio (Desc)'!W196)","v":""},{"$f":"IF('Radio (Desc)'!X196=\"\",\"\",'Radio (Desc)'!X196)","v":""},{"$f":"IF('Radio (Desc)'!Y196=\"\",\"\",INDEX([1]FIBER_CONN_TYPE!$A$2:$A$100,MATCH('Radio (Desc)'!$Y196,[1]!MASTER_FIBER_CONN_TYPE_DESC[#Data],0),0))","v":""}]
[{"$f":"IF('Radio (Desc)'!A197=\"\",\"\",'Radio (Desc)'!A197)","v":""},{"$f":"IF('Radio (Desc)'!C197=\"\",\"\",\"2029\")","v":""},{"$f":"IF('Radio (Desc)'!C197=\"\",\"\",'Radio (Desc)'!C197)","v":""},{"$f":"IF('Radio (Desc)'!E197=\"\",\"\",\"RADIO\")","v":""},{"$f":"IF('Radio (Desc)'!E197=\"\",\"\",INDEX([1]RADIO_TYPE!$A$2:$A$100,MATCH('Radio (Desc)'!$E197,[1]!MASTER_RADIO_TYPE_DESC[#Data],0),0))","v":""},{"$f":"IF('Radio (Desc)'!F197=\"\",\"\",'Radio (Desc)'!F197)","v":""},{"$f":"IF('Radio (Desc)'!G197=\"\",\"\",INDEX([1]RADIO_FREQ!$A$2:$A$500,MATCH('Radio (Desc)'!$G197,[1]!MASTER_RADIO_FREQ_DESC[#Data],0),0))","v":""},{"$f":"IF('Radio (Desc)'!H197=\"\",\"\",'Radio (Desc)'!H197)","v":""},{"$f":"IF('Radio (Desc)'!I197=\"\",\"\",INDEX([1]RADIO_FREQ!$A$2:$A$500,MATCH('Radio (Desc)'!$I197,[1]!MASTER_RADIO_FREQ_DESC[#Data],0),0))","v":""},{"$f":"IF('Radio (Desc)'!J197=\"\",\"\",'Radio (Desc)'!J197)","v":""},{"$f":"IF('Radio (Desc)'!K197=\"\",\"\",INDEX([1]CALL_SIGN!$A$2:$A$600,MATCH('Radio (Desc)'!$K197,[1]!MASTER_CALL_SIGN_DESC[#Data],0),0))","v":""},{"$f":"IF('Radio (Desc)'!L197=\"\",\"\",INDEX([1]STATION_CLASS!$A$2:$A$100,MATCH('Radio (Desc)'!$L197,[1]!MASTER_STATION_CLASS_DESC[#Data],0),0))","v":""},{"$f":"IF('Radio (Desc)'!M197=\"\",\"\",'Radio (Desc)'!M197)","v":""},{"$f":"IF('Radio (Desc)'!N197=\"\",\"\",'Radio (Desc)'!N197)","v":""},{"$f":"IF('Radio (Desc)'!O197=\"\",\"\",INDEX([1]ITS_COMM_DEV_MANUF!$A$2:$A$300,MATCH(1,([1]ITS_COMM_DEV_MANUF!$B$2:$B$300='Radio (Desc)'!$O197)*([1]ITS_COMM_DEV_MANUF!$C$2:$C$300=\"RADIO\"),0),0))","v":""},{"$f":"IF('Radio (Desc)'!P197=\"\",\"\",INDEX([1]ITS_COMM_DEV_MODEL!$A$2:$A$500,MATCH(1,([1]ITS_COMM_DEV_MODEL!$C$2:$C$500='Radio (Desc)'!$O197)*([1]ITS_COMM_DEV_MODEL!$D$2:$D$500=\"RADIO\")*([1]ITS_COMM_DEV_MODEL!$E$2:$E$500='Radio (Desc)'!$P197),0),0))","v":""},{"$f":"IF('Radio (Desc)'!Q197=\"\",\"\",'Radio (Desc)'!Q197)","v":""},{"$f":"IF('Radio (Desc)'!R197=\"\",\"\",'Radio (Desc)'!R197)","v":""},{"$f":"IF('Radio (Desc)'!S197=\"\",\"\",'Radio (Desc)'!S197)","v":""},{"$f":"IF('Radio (Desc)'!T197=\"\",\"\",'Radio (Desc)'!T197)","v":""},{"$f":"IF('Radio (Desc)'!U197=\"\",\"\",INDEX([1]DEV_INPUT_VOLTAGE!$A$2:$A$100,MATCH('Radio (Desc)'!$U197,[1]!MASTER_DEV_INPUT_VOLTAGE_DESC[#Data],0),0))","v":""},{"$f":"IF('Radio (Desc)'!V197=\"\",\"\",'Radio (Desc)'!V197)","v":""},{"$f":"IF('Radio (Desc)'!W197=\"\",\"\",'Radio (Desc)'!W197)","v":""},{"$f":"IF('Radio (Desc)'!X197=\"\",\"\",'Radio (Desc)'!X197)","v":""},{"$f":"IF('Radio (Desc)'!Y197=\"\",\"\",INDEX([1]FIBER_CONN_TYPE!$A$2:$A$100,MATCH('Radio (Desc)'!$Y197,[1]!MASTER_FIBER_CONN_TYPE_DESC[#Data],0),0))","v":""}]
[{"$f":"IF('Radio (Desc)'!A198=\"\",\"\",'Radio (Desc)'!A198)","v":""},{"$f":"IF('Radio (Desc)'!C198=\"\",\"\",\"2029\")","v":""},{"$f":"IF('Radio (Desc)'!C198=\"\",\"\",'Radio (Desc)'!C198)","v":""},{"$f":"IF('Radio (Desc)'!E198=\"\",\"\",\"RADIO\")","v":""},{"$f":"IF('Radio (Desc)'!E198=\"\",\"\",INDEX([1]RADIO_TYPE!$A$2:$A$100,MATCH('Radio (Desc)'!$E198,[1]!MASTER_RADIO_TYPE_DESC[#Data],0),0))","v":""},{"$f":"IF('Radio (Desc)'!F198=\"\",\"\",'Radio (Desc)'!F198)","v":""},{"$f":"IF('Radio (Desc)'!G198=\"\",\"\",INDEX([1]RADIO_FREQ!$A$2:$A$500,MATCH('Radio (Desc)'!$G198,[1]!MASTER_RADIO_FREQ_DESC[#Data],0),0))","v":""},{"$f":"IF('Radio (Desc)'!H198=\"\",\"\",'Radio (Desc)'!H198)","v":""},{"$f":"IF('Radio (Desc)'!I198=\"\",\"\",INDEX([1]RADIO_FREQ!$A$2:$A$500,MATCH('Radio (Desc)'!$I198,[1]!MASTER_RADIO_FREQ_DESC[#Data],0),0))","v":""},{"$f":"IF('Radio (Desc)'!J198=\"\",\"\",'Radio (Desc)'!J198)","v":""},{"$f":"IF('Radio (Desc)'!K198=\"\",\"\",INDEX([1]CALL_SIGN!$A$2:$A$600,MATCH('Radio (Desc)'!$K198,[1]!MASTER_CALL_SIGN_DESC[#Data],0),0))","v":""},{"$f":"IF('Radio (Desc)'!L198=\"\",\"\",INDEX([1]STATION_CLASS!$A$2:$A$100,MATCH('Radio (Desc)'!$L198,[1]!MASTER_STATION_CLASS_DESC[#Data],0),0))","v":""},{"$f":"IF('Radio (Desc)'!M198=\"\",\"\",'Radio (Desc)'!M198)","v":""},{"$f":"IF('Radio (Desc)'!N198=\"\",\"\",'Radio (Desc)'!N198)","v":""},{"$f":"IF('Radio (Desc)'!O198=\"\",\"\",INDEX([1]ITS_COMM_DEV_MANUF!$A$2:$A$300,MATCH(1,([1]ITS_COMM_DEV_MANUF!$B$2:$B$300='Radio (Desc)'!$O198)*([1]ITS_COMM_DEV_MANUF!$C$2:$C$300=\"RADIO\"),0),0))","v":""},{"$f":"IF('Radio (Desc)'!P198=\"\",\"\",INDEX([1]ITS_COMM_DEV_MODEL!$A$2:$A$500,MATCH(1,([1]ITS_COMM_DEV_MODEL!$C$2:$C$500='Radio (Desc)'!$O198)*([1]ITS_COMM_DEV_MODEL!$D$2:$D$500=\"RADIO\")*([1]ITS_COMM_DEV_MODEL!$E$2:$E$500='Radio (Desc)'!$P198),0),0))","v":""},{"$f":"IF('Radio (Desc)'!Q198=\"\",\"\",'Radio (Desc)'!Q198)","v":""},{"$f":"IF('Radio (Desc)'!R198=\"\",\"\",'Radio (Desc)'!R198)","v":""},{"$f":"IF('Radio (Desc)'!S198=\"\",\"\",'Radio (Desc)'!S198)","v":""},{"$f":"IF('Radio (Desc)'!T198=\"\",\"\",'Radio (Desc)'!T198)","v":""},{"$f":"IF('Radio (Desc)'!U198=\"\",\"\",INDEX([1]DEV_INPUT_VOLTAGE!$A$2:$A$100,MATCH('Radio (Desc)'!$U198,[1]!MASTER_DEV_INPUT_VOLTAGE_DESC[#Data],0),0))","v":""},{"$f":"IF('Radio (Desc)'!V198=\"\",\"\",'Radio (Desc)'!V198)","v":""},{"$f":"IF('Radio (Desc)'!W198=\"\",\"\",'Radio (Desc)'!W198)","v":""},{"$f":"IF('Radio (Desc)'!X198=\"\",\"\",'Radio (Desc)'!X198)","v":""},{"$f":"IF('Radio (Desc)'!Y198=\"\",\"\",INDEX([1]FIBER_CONN_TYPE!$A$2:$A$100,MATCH('Radio (Desc)'!$Y198,[1]!MASTER_FIBER_CONN_TYPE_DESC[#Data],0),0))","v":""}]
[{"$f":"IF('Radio (Desc)'!A199=\"\",\"\",'Radio (Desc)'!A199)","v":""},{"$f":"IF('Radio (Desc)'!C199=\"\",\"\",\"2029\")","v":""},{"$f":"IF('Radio (Desc)'!C199=\"\",\"\",'Radio (Desc)'!C199)","v":""},{"$f":"IF('Radio (Desc)'!E199=\"\",\"\",\"RADIO\")","v":""},{"$f":"IF('Radio (Desc)'!E199=\"\",\"\",INDEX([1]RADIO_TYPE!$A$2:$A$100,MATCH('Radio (Desc)'!$E199,[1]!MASTER_RADIO_TYPE_DESC[#Data],0),0))","v":""},{"$f":"IF('Radio (Desc)'!F199=\"\",\"\",'Radio (Desc)'!F199)","v":""},{"$f":"IF('Radio (Desc)'!G199=\"\",\"\",INDEX([1]RADIO_FREQ!$A$2:$A$500,MATCH('Radio (Desc)'!$G199,[1]!MASTER_RADIO_FREQ_DESC[#Data],0),0))","v":""},{"$f":"IF('Radio (Desc)'!H199=\"\",\"\",'Radio (Desc)'!H199)","v":""},{"$f":"IF('Radio (Desc)'!I199=\"\",\"\",INDEX([1]RADIO_FREQ!$A$2:$A$500,MATCH('Radio (Desc)'!$I199,[1]!MASTER_RADIO_FREQ_DESC[#Data],0),0))","v":""},{"$f":"IF('Radio (Desc)'!J199=\"\",\"\",'Radio (Desc)'!J199)","v":""},{"$f":"IF('Radio (Desc)'!K199=\"\",\"\",INDEX([1]CALL_SIGN!$A$2:$A$600,MATCH('Radio (Desc)'!$K199,[1]!MASTER_CALL_SIGN_DESC[#Data],0),0))","v":""},{"$f":"IF('Radio (Desc)'!L199=\"\",\"\",INDEX([1]STATION_CLASS!$A$2:$A$100,MATCH('Radio (Desc)'!$L199,[1]!MASTER_STATION_CLASS_DESC[#Data],0),0))","v":""},{"$f":"IF('Radio (Desc)'!M199=\"\",\"\",'Radio (Desc)'!M199)","v":""},{"$f":"IF('Radio (Desc)'!N199=\"\",\"\",'Radio (Desc)'!N199)","v":""},{"$f":"IF('Radio (Desc)'!O199=\"\",\"\",INDEX([1]ITS_COMM_DEV_MANUF!$A$2:$A$300,MATCH(1,([1]ITS_COMM_DEV_MANUF!$B$2:$B$300='Radio (Desc)'!$O199)*([1]ITS_COMM_DEV_MANUF!$C$2:$C$300=\"RADIO\"),0),0))","v":""},{"$f":"IF('Radio (Desc)'!P199=\"\",\"\",INDEX([1]ITS_COMM_DEV_MODEL!$A$2:$A$500,MATCH(1,([1]ITS_COMM_DEV_MODEL!$C$2:$C$500='Radio (Desc)'!$O199)*([1]ITS_COMM_DEV_MODEL!$D$2:$D$500=\"RADIO\")*([1]ITS_COMM_DEV_MODEL!$E$2:$E$500='Radio (Desc)'!$P199),0),0))","v":""},{"$f":"IF('Radio (Desc)'!Q199=\"\",\"\",'Radio (Desc)'!Q199)","v":""},{"$f":"IF('Radio (Desc)'!R199=\"\",\"\",'Radio (Desc)'!R199)","v":""},{"$f":"IF('Radio (Desc)'!S199=\"\",\"\",'Radio (Desc)'!S199)","v":""},{"$f":"IF('Radio (Desc)'!T199=\"\",\"\",'Radio (Desc)'!T199)","v":""},{"$f":"IF('Radio (Desc)'!U199=\"\",\"\",INDEX([1]DEV_INPUT_VOLTAGE!$A$2:$A$100,MATCH('Radio (Desc)'!$U199,[1]!MASTER_DEV_INPUT_VOLTAGE_DESC[#Data],0),0))","v":""},{"$f":"IF('Radio (Desc)'!V199=\"\",\"\",'Radio (Desc)'!V199)","v":""},{"$f":"IF('Radio (Desc)'!W199=\"\",\"\",'Radio (Desc)'!W199)","v":""},{"$f":"IF('Radio (Desc)'!X199=\"\",\"\",'Radio (Desc)'!X199)","v":""},{"$f":"IF('Radio (Desc)'!Y199=\"\",\"\",INDEX([1]FIBER_CONN_TYPE!$A$2:$A$100,MATCH('Radio (Desc)'!$Y199,[1]!MASTER_FIBER_CONN_TYPE_DESC[#Data],0),0))","v":""}]
[{"$f":"IF('Radio (Desc)'!A200=\"\",\"\",'Radio (Desc)'!A200)","v":""},{"$f":"IF('Radio (Desc)'!C200=\"\",\"\",\"2029\")","v":""},{"$f":"IF('Radio (Desc)'!C200=\"\",\"\",'Radio (Desc)'!C200)","v":""},{"$f":"IF('Radio (Desc)'!E200=\"\",\"\",\"RADIO\")","v":""},{"$f":"IF('Radio (Desc)'!E200=\"\",\"\",INDEX([1]RADIO_TYPE!$A$2:$A$100,MATCH('Radio (Desc)'!$E200,[1]!MASTER_RADIO_TYPE_DESC[#Data],0),0))","v":""},{"$f":"IF('Radio (Desc)'!F200=\"\",\"\",'Radio (Desc)'!F200)","v":""},{"$f":"IF('Radio (Desc)'!G200=\"\",\"\",INDEX([1]RADIO_FREQ!$A$2:$A$500,MATCH('Radio (Desc)'!$G200,[1]!MASTER_RADIO_FREQ_DESC[#Data],0),0))","v":""},{"$f":"IF('Radio (Desc)'!H200=\"\",\"\",'Radio (Desc)'!H200)","v":""},{"$f":"IF('Radio (Desc)'!I200=\"\",\"\",INDEX([1]RADIO_FREQ!$A$2:$A$500,MATCH('Radio (Desc)'!$I200,[1]!MASTER_RADIO_FREQ_DESC[#Data],0),0))","v":""},{"$f":"IF('Radio (Desc)'!J200=\"\",\"\",'Radio (Desc)'!J200)","v":""},{"$f":"IF('Radio (Desc)'!K200=\"\",\"\",INDEX([1]CALL_SIGN!$A$2:$A$600,MATCH('Radio (Desc)'!$K200,[1]!MASTER_CALL_SIGN_DESC[#Data],0),0))","v":""},{"$f":"IF('Radio (Desc)'!L200=\"\",\"\",INDEX([1]STATION_CLASS!$A$2:$A$100,MATCH('Radio (Desc)'!$L200,[1]!MASTER_STATION_CLASS_DESC[#Data],0),0))","v":""},{"$f":"IF('Radio (Desc)'!M200=\"\",\"\",'Radio (Desc)'!M200)","v":""},{"$f":"IF('Radio (Desc)'!N200=\"\",\"\",'Radio (Desc)'!N200)","v":""},{"$f":"IF('Radio (Desc)'!O200=\"\",\"\",INDEX([1]ITS_COMM_DEV_MANUF!$A$2:$A$300,MATCH(1,([1]ITS_COMM_DEV_MANUF!$B$2:$B$300='Radio (Desc)'!$O200)*([1]ITS_COMM_DEV_MANUF!$C$2:$C$300=\"RADIO\"),0),0))","v":""},{"$f":"IF('Radio (Desc)'!P200=\"\",\"\",INDEX([1]ITS_COMM_DEV_MODEL!$A$2:$A$500,MATCH(1,([1]ITS_COMM_DEV_MODEL!$C$2:$C$500='Radio (Desc)'!$O200)*([1]ITS_COMM_DEV_MODEL!$D$2:$D$500=\"RADIO\")*([1]ITS_COMM_DEV_MODEL!$E$2:$E$500='Radio (Desc)'!$P200),0),0))","v":""},{"$f":"IF('Radio (Desc)'!Q200=\"\",\"\",'Radio (Desc)'!Q200)","v":""},{"$f":"IF('Radio (Desc)'!R200=\"\",\"\",'Radio (Desc)'!R200)","v":""},{"$f":"IF('Radio (Desc)'!S200=\"\",\"\",'Radio (Desc)'!S200)","v":""},{"$f":"IF('Radio (Desc)'!T200=\"\",\"\",'Radio (Desc)'!T200)","v":""},{"$f":"IF('Radio (Desc)'!U200=\"\",\"\",INDEX([1]DEV_INPUT_VOLTAGE!$A$2:$A$100,MATCH('Radio (Desc)'!$U200,[1]!MASTER_DEV_INPUT_VOLTAGE_DESC[#Data],0),0))","v":""},{"$f":"IF('Radio (Desc)'!V200=\"\",\"\",'Radio (Desc)'!V200)","v":""},{"$f":"IF('Radio (Desc)'!W200=\"\",\"\",'Radio (Desc)'!W200)","v":""},{"$f":"IF('Radio (Desc)'!X200=\"\",\"\",'Radio (Desc)'!X200)","v":""},{"$f":"IF('Radio (Desc)'!Y200=\"\",\"\",INDEX([1]FIBER_CONN_TYPE!$A$2:$A$100,MATCH('Radio (Desc)'!$Y200,[1]!MASTER_FIBER_CONN_TYPE_DESC[#Data],0),0))","v":""}]
[{"$f":"IF('Radio (Desc)'!A201=\"\",\"\",'Radio (Desc)'!A201)","v":""},{"$f":"IF('Radio (Desc)'!C201=\"\",\"\",\"2029\")","v":""},{"$f":"IF('Radio (Desc)'!C201=\"\",\"\",'Radio (Desc)'!C201)","v":""},{"$f":"IF('Radio (Desc)'!E201=\"\",\"\",\"RADIO\")","v":""},{"$f":"IF('Radio (Desc)'!E201=\"\",\"\",INDEX([1]RADIO_TYPE!$A$2:$A$100,MATCH('Radio (Desc)'!$E201,[1]!MASTER_RADIO_TYPE_DESC[#Data],0),0))","v":""},{"$f":"IF('Radio (Desc)'!F201=\"\",\"\",'Radio (Desc)'!F201)","v":""},{"$f":"IF('Radio (Desc)'!G201=\"\",\"\",INDEX([1]RADIO_FREQ!$A$2:$A$500,MATCH('Radio (Desc)'!$G201,[1]!MASTER_RADIO_FREQ_DESC[#Data],0),0))","v":""},{"$f":"IF('Radio (Desc)'!H201=\"\",\"\",'Radio (Desc)'!H201)","v":""},{"$f":"IF('Radio (Desc)'!I201=\"\",\"\",INDEX([1]RADIO_FREQ!$A$2:$A$500,MATCH('Radio (Desc)'!$I201,[1]!MASTER_RADIO_FREQ_DESC[#Data],0),0))","v":""},{"$f":"IF('Radio (Desc)'!J201=\"\",\"\",'Radio (Desc)'!J201)","v":""},{"$f":"IF('Radio (Desc)'!K201=\"\",\"\",INDEX([1]CALL_SIGN!$A$2:$A$600,MATCH('Radio (Desc)'!$K201,[1]!MASTER_CALL_SIGN_DESC[#Data],0),0))","v":""},{"$f":"IF('Radio (Desc)'!L201=\"\",\"\",INDEX([1]STATION_CLASS!$A$2:$A$100,MATCH('Radio (Desc)'!$L201,[1]!MASTER_STATION_CLASS_DESC[#Data],0),0))","v":""},{"$f":"IF('Radio (Desc)'!M201=\"\",\"\",'Radio (Desc)'!M201)","v":""},{"$f":"IF('Radio (Desc)'!N201=\"\",\"\",'Radio (Desc)'!N201)","v":""},{"$f":"IF('Radio (Desc)'!O201=\"\",\"\",INDEX([1]ITS_COMM_DEV_MANUF!$A$2:$A$300,MATCH(1,([1]ITS_COMM_DEV_MANUF!$B$2:$B$300='Radio (Desc)'!$O201)*([1]ITS_COMM_DEV_MANUF!$C$2:$C$300=\"RADIO\"),0),0))","v":""},{"$f":"IF('Radio (Desc)'!P201=\"\",\"\",INDEX([1]ITS_COMM_DEV_MODEL!$A$2:$A$500,MATCH(1,([1]ITS_COMM_DEV_MODEL!$C$2:$C$500='Radio (Desc)'!$O201)*([1]ITS_COMM_DEV_MODEL!$D$2:$D$500=\"RADIO\")*([1]ITS_COMM_DEV_MODEL!$E$2:$E$500='Radio (Desc)'!$P201),0),0))","v":""},{"$f":"IF('Radio (Desc)'!Q201=\"\",\"\",'Radio (Desc)'!Q201)","v":""},{"$f":"IF('Radio (Desc)'!R201=\"\",\"\",'Radio (Desc)'!R201)","v":""},{"$f":"IF('Radio (Desc)'!S201=\"\",\"\",'Radio (Desc)'!S201)","v":""},{"$f":"IF('Radio (Desc)'!T201=\"\",\"\",'Radio (Desc)'!T201)","v":""},{"$f":"IF('Radio (Desc)'!U201=\"\",\"\",INDEX([1]DEV_INPUT_VOLTAGE!$A$2:$A$100,MATCH('Radio (Desc)'!$U201,[1]!MASTER_DEV_INPUT_VOLTAGE_DESC[#Data],0),0))","v":""},{"$f":"IF('Radio (Desc)'!V201=\"\",\"\",'Radio (Desc)'!V201)","v":""},{"$f":"IF('Radio (Desc)'!W201=\"\",\"\",'Radio (Desc)'!W201)","v":""},{"$f":"IF('Radio (Desc)'!X201=\"\",\"\",'Radio (Desc)'!X201)","v":""},{"$f":"IF('Radio (Desc)'!Y201=\"\",\"\",INDEX([1]FIBER_CONN_TYPE!$A$2:$A$100,MATCH('Radio (Desc)'!$Y201,[1]!MASTER_FIBER_CONN_TYPE_DESC[#Data],0),0))","v":""}]
[{"$f":"IF('Radio (Desc)'!A202=\"\",\"\",'Radio (Desc)'!A202)","v":""},{"$f":"IF('Radio (Desc)'!C202=\"\",\"\",\"2029\")","v":""},{"$f":"IF('Radio (Desc)'!C202=\"\",\"\",'Radio (Desc)'!C202)","v":""},{"$f":"IF('Radio (Desc)'!E202=\"\",\"\",\"RADIO\")","v":""},{"$f":"IF('Radio (Desc)'!E202=\"\",\"\",INDEX([1]RADIO_TYPE!$A$2:$A$100,MATCH('Radio (Desc)'!$E202,[1]!MASTER_RADIO_TYPE_DESC[#Data],0),0))","v":""},{"$f":"IF('Radio (Desc)'!F202=\"\",\"\",'Radio (Desc)'!F202)","v":""},{"$f":"IF('Radio (Desc)'!G202=\"\",\"\",INDEX([1]RADIO_FREQ!$A$2:$A$500,MATCH('Radio (Desc)'!$G202,[1]!MASTER_RADIO_FREQ_DESC[#Data],0),0))","v":""},{"$f":"IF('Radio (Desc)'!H202=\"\",\"\",'Radio (Desc)'!H202)","v":""},{"$f":"IF('Radio (Desc)'!I202=\"\",\"\",INDEX([1]RADIO_FREQ!$A$2:$A$500,MATCH('Radio (Desc)'!$I202,[1]!MASTER_RADIO_FREQ_DESC[#Data],0),0))","v":""},{"$f":"IF('Radio (Desc)'!J202=\"\",\"\",'Radio (Desc)'!J202)","v":""},{"$f":"IF('Radio (Desc)'!K202=\"\",\"\",INDEX([1]CALL_SIGN!$A$2:$A$600,MATCH('Radio (Desc)'!$K202,[1]!MASTER_CALL_SIGN_DESC[#Data],0),0))","v":""},{"$f":"IF('Radio (Desc)'!L202=\"\",\"\",INDEX([1]STATION_CLASS!$A$2:$A$100,MATCH('Radio (Desc)'!$L202,[1]!MASTER_STATION_CLASS_DESC[#Data],0),0))","v":""},{"$f":"IF('Radio (Desc)'!M202=\"\",\"\",'Radio (Desc)'!M202)","v":""},{"$f":"IF('Radio (Desc)'!N202=\"\",\"\",'Radio (Desc)'!N202)","v":""},{"$f":"IF('Radio (Desc)'!O202=\"\",\"\",INDEX([1]ITS_COMM_DEV_MANUF!$A$2:$A$300,MATCH(1,([1]ITS_COMM_DEV_MANUF!$B$2:$B$300='Radio (Desc)'!$O202)*([1]ITS_COMM_DEV_MANUF!$C$2:$C$300=\"RADIO\"),0),0))","v":""},{"$f":"IF('Radio (Desc)'!P202=\"\",\"\",INDEX([1]ITS_COMM_DEV_MODEL!$A$2:$A$500,MATCH(1,([1]ITS_COMM_DEV_MODEL!$C$2:$C$500='Radio (Desc)'!$O202)*([1]ITS_COMM_DEV_MODEL!$D$2:$D$500=\"RADIO\")*([1]ITS_COMM_DEV_MODEL!$E$2:$E$500='Radio (Desc)'!$P202),0),0))","v":""},{"$f":"IF('Radio (Desc)'!Q202=\"\",\"\",'Radio (Desc)'!Q202)","v":""},{"$f":"IF('Radio (Desc)'!R202=\"\",\"\",'Radio (Desc)'!R202)","v":""},{"$f":"IF('Radio (Desc)'!S202=\"\",\"\",'Radio (Desc)'!S202)","v":""},{"$f":"IF('Radio (Desc)'!T202=\"\",\"\",'Radio (Desc)'!T202)","v":""},{"$f":"IF('Radio (Desc)'!U202=\"\",\"\",INDEX([1]DEV_INPUT_VOLTAGE!$A$2:$A$100,MATCH('Radio (Desc)'!$U202,[1]!MASTER_DEV_INPUT_VOLTAGE_DESC[#Data],0),0))","v":""},{"$f":"IF('Radio (Desc)'!V202=\"\",\"\",'Radio (Desc)'!V202)","v":""},{"$f":"IF('Radio (Desc)'!W202=\"\",\"\",'Radio (Desc)'!W202)","v":""},{"$f":"IF('Radio (Desc)'!X202=\"\",\"\",'Radio (Desc)'!X202)","v":""},{"$f":"IF('Radio (Desc)'!Y202=\"\",\"\",INDEX([1]FIBER_CONN_TYPE!$A$2:$A$100,MATCH('Radio (Desc)'!$Y202,[1]!MASTER_FIBER_CONN_TYPE_DESC[#Data],0),0))","v":""}]