{"text_format":"1","workbook":"xlsx","n_sheets":9,"sheets":["Procedures","WWVDS (Desc)","WWVDS (Code)","External_Sensor (Desc)","External_Sensor (Code)","Beacon (Desc)","Beacon (Code)","Sign (Desc)","Sign (Code)"],"not_rendered":{"charts":0,"images":5,"macros":1,"external_links":1,"defined_names":61,"comments":0,"pivot_tables":0},"unopened":[],"bounds":{"document_bytes":16777216,"sheet_cells":100000,"rows_first":2000,"rows_last":500,"rows_between":2000,"halvings":0,"cell_chars":16384,"cell_head_chars":4096},"cells_cut":0,"cells_raw":0,"read":"whole","date_system":"1900"}

{"sheet":"Procedures","index":0,"n_rows":0,"n_cols":0,"rows_kept":0,"cut":false,"hidden":true,"merged":[]}

{"sheet":"WWVDS (Desc)","index":1,"n_rows":202,"n_cols":16,"rows_kept":202,"cut":false,"hidden":false,"merged":[]}
["Device Id\nfor update ","Primary Cabinet Site Identification Name","POLE Latitude ","POLE Longitude","Facility Owner","County","Installation Date\n(YYYY-MM-DD)","WWVDS Name","Device Type","Model                           Required","Manufacturer\nRequired","Serial Number","IP Address ","MAC Address ","Firmware Version ","Comments"]
["EQUIP_ID","SITE_NO\nREQUIRED FIELD","PRIM GEOM (Y)\nREQUIRED FIELD","PRIM GEOM (X)\nREQUIRED FIELD","OWNER_CD\nREQUIRED FIELD","COUNTY_CD\nREQUIRED FIELD","INSTALLED_DATE","NAME\nREQUIRED FIELD","WWVDS_TYPE_CD","ITS_DEV_MODEL_CD","ITS_DEV_MANUF_CD","SERIAL_NUMBER","IP_ADDRESS","MAC_ADDRESS","FIRMWARE_VERSION","COMMENTS"]
[null,null,null,null,null,null,null,null,null,null,{"$f":"IF($J3=\"\",\"\",INDEX([1]ITS_DEV_MANUF_MODEL!$A$2:$E$1500,MATCH(1,([1]ITS_DEV_MANUF_MODEL!$E$2:$E$1500=\"WWD\")*([1]ITS_DEV_MANUF_MODEL!$D$2:$D$1500=$J3),0),3))","v":""}]
[null,null,null,null,null,null,null,null,null,null,{"$f":"IF($J4=\"\",\"\",INDEX([1]ITS_DEV_MANUF_MODEL!$A$2:$E$1500,MATCH(1,([1]ITS_DEV_MANUF_MODEL!$E$2:$E$1500=\"WWD\")*([1]ITS_DEV_MANUF_MODEL!$D$2:$D$1500=$J4),0),3))","v":""}]
[null,null,null,null,null,null,null,null,null,null,{"$f":"IF($J5=\"\",\"\",INDEX([1]ITS_DEV_MANUF_MODEL!$A$2:$E$1500,MATCH(1,([1]ITS_DEV_MANUF_MODEL!$E$2:$E$1500=\"WWD\")*([1]ITS_DEV_MANUF_MODEL!$D$2:$D$1500=$J5),0),3))","v":""}]
[null,null,null,null,null,null,null,null,null,null,{"$f":"IF($J6=\"\",\"\",INDEX([1]ITS_DEV_MANUF_MODEL!$A$2:$E$1500,MATCH(1,([1]ITS_DEV_MANUF_MODEL!$E$2:$E$1500=\"WWD\")*([1]ITS_DEV_MANUF_MODEL!$D$2:$D$1500=$J6),0),3))","v":""}]
[null,null,null,null,null,null,null,null,null,null,{"$f":"IF($J7=\"\",\"\",INDEX([1]ITS_DEV_MANUF_MODEL!$A$2:$E$1500,MATCH(1,([1]ITS_DEV_MANUF_MODEL!$E$2:$E$1500=\"WWD\")*([1]ITS_DEV_MANUF_MODEL!$D$2:$D$1500=$J7),0),3))","v":""}]
[null,null,null,null,null,null,null,null,null,null,{"$f":"IF($J8=\"\",\"\",INDEX([1]ITS_DEV_MANUF_MODEL!$A$2:$E$1500,MATCH(1,([1]ITS_DEV_MANUF_MODEL!$E$2:$E$1500=\"WWD\")*([1]ITS_DEV_MANUF_MODEL!$D$2:$D$1500=$J8),0),3))","v":""}]
[null,null,null,null,null,null,null,null,null,null,{"$f":"IF($J9=\"\",\"\",INDEX([1]ITS_DEV_MANUF_MODEL!$A$2:$E$1500,MATCH(1,([1]ITS_DEV_MANUF_MODEL!$E$2:$E$1500=\"WWD\")*([1]ITS_DEV_MANUF_MODEL!$D$2:$D$1500=$J9),0),3))","v":""}]
[null,null,null,null,null,null,null,null,null,null,{"$f":"IF($J10=\"\",\"\",INDEX([1]ITS_DEV_MANUF_MODEL!$A$2:$E$1500,MATCH(1,([1]ITS_DEV_MANUF_MODEL!$E$2:$E$1500=\"WWD\")*([1]ITS_DEV_MANUF_MODEL!$D$2:$D$1500=$J10),0),3))","v":""}]
[null,null,null,null,null,null,null,null,null,null,{"$f":"IF($J11=\"\",\"\",INDEX([1]ITS_DEV_MANUF_MODEL!$A$2:$E$1500,MATCH(1,([1]ITS_DEV_MANUF_MODEL!$E$2:$E$1500=\"WWD\")*([1]ITS_DEV_MANUF_MODEL!$D$2:$D$1500=$J11),0),3))","v":""}]
[null,null,null,null,null,null,null,null,null,null,{"$f":"IF($J12=\"\",\"\",INDEX([1]ITS_DEV_MANUF_MODEL!$A$2:$E$1500,MATCH(1,([1]ITS_DEV_MANUF_MODEL!$E$2:$E$1500=\"WWD\")*([1]ITS_DEV_MANUF_MODEL!$D$2:$D$1500=$J12),0),3))","v":""}]
[null,null,null,null,null,null,null,null,null,null,{"$f":"IF($J13=\"\",\"\",INDEX([1]ITS_DEV_MANUF_MODEL!$A$2:$E$1500,MATCH(1,([1]ITS_DEV_MANUF_MODEL!$E$2:$E$1500=\"WWD\")*([1]ITS_DEV_MANUF_MODEL!$D$2:$D$1500=$J13),0),3))","v":""}]
[null,null,null,null,null,null,null,null,null,null,{"$f":"IF($J14=\"\",\"\",INDEX([1]ITS_DEV_MANUF_MODEL!$A$2:$E$1500,MATCH(1,([1]ITS_DEV_MANUF_MODEL!$E$2:$E$1500=\"WWD\")*([1]ITS_DEV_MANUF_MODEL!$D$2:$D$1500=$J14),0),3))","v":""}]
[null,null,null,null,null,null,null,null,null,null,{"$f":"IF($J15=\"\",\"\",INDEX([1]ITS_DEV_MANUF_MODEL!$A$2:$E$1500,MATCH(1,([1]ITS_DEV_MANUF_MODEL!$E$2:$E$1500=\"WWD\")*([1]ITS_DEV_MANUF_MODEL!$D$2:$D$1500=$J15),0),3))","v":""}]
[null,null,null,null,null,null,null,null,null,null,{"$f":"IF($J16=\"\",\"\",INDEX([1]ITS_DEV_MANUF_MODEL!$A$2:$E$1500,MATCH(1,([1]ITS_DEV_MANUF_MODEL!$E$2:$E$1500=\"WWD\")*([1]ITS_DEV_MANUF_MODEL!$D$2:$D$1500=$J16),0),3))","v":""}]
[null,null,null,null,null,null,null,null,null,null,{"$f":"IF($J17=\"\",\"\",INDEX([1]ITS_DEV_MANUF_MODEL!$A$2:$E$1500,MATCH(1,([1]ITS_DEV_MANUF_MODEL!$E$2:$E$1500=\"WWD\")*([1]ITS_DEV_MANUF_MODEL!$D$2:$D$1500=$J17),0),3))","v":""}]
[null,null,null,null,null,null,null,null,null,null,{"$f":"IF($J18=\"\",\"\",INDEX([1]ITS_DEV_MANUF_MODEL!$A$2:$E$1500,MATCH(1,([1]ITS_DEV_MANUF_MODEL!$E$2:$E$1500=\"WWD\")*([1]ITS_DEV_MANUF_MODEL!$D$2:$D$1500=$J18),0),3))","v":""}]
[null,null,null,null,null,null,null,null,null,null,{"$f":"IF($J19=\"\",\"\",INDEX([1]ITS_DEV_MANUF_MODEL!$A$2:$E$1500,MATCH(1,([1]ITS_DEV_MANUF_MODEL!$E$2:$E$1500=\"WWD\")*([1]ITS_DEV_MANUF_MODEL!$D$2:$D$1500=$J19),0),3))","v":""}]
[null,null,null,null,null,null,null,null,null,null,{"$f":"IF($J20=\"\",\"\",INDEX([1]ITS_DEV_MANUF_MODEL!$A$2:$E$1500,MATCH(1,([1]ITS_DEV_MANUF_MODEL!$E$2:$E$1500=\"WWD\")*([1]ITS_DEV_MANUF_MODEL!$D$2:$D$1500=$J20),0),3))","v":""}]
[null,null,null,null,null,null,null,null,null,null,{"$f":"IF($J21=\"\",\"\",INDEX([1]ITS_DEV_MANUF_MODEL!$A$2:$E$1500,MATCH(1,([1]ITS_DEV_MANUF_MODEL!$E$2:$E$1500=\"WWD\")*([1]ITS_DEV_MANUF_MODEL!$D$2:$D$1500=$J21),0),3))","v":""}]
[null,null,null,null,null,null,null,null,null,null,{"$f":"IF($J22=\"\",\"\",INDEX([1]ITS_DEV_MANUF_MODEL!$A$2:$E$1500,MATCH(1,([1]ITS_DEV_MANUF_MODEL!$E$2:$E$1500=\"WWD\")*([1]ITS_DEV_MANUF_MODEL!$D$2:$D$1500=$J22),0),3))","v":""}]
[null,null,null,null,null,null,null,null,null,null,{"$f":"IF($J23=\"\",\"\",INDEX([1]ITS_DEV_MANUF_MODEL!$A$2:$E$1500,MATCH(1,([1]ITS_DEV_MANUF_MODEL!$E$2:$E$1500=\"WWD\")*([1]ITS_DEV_MANUF_MODEL!$D$2:$D$1500=$J23),0),3))","v":""}]
[null,null,null,null,null,null,null,null,null,null,{"$f":"IF($J24=\"\",\"\",INDEX([1]ITS_DEV_MANUF_MODEL!$A$2:$E$1500,MATCH(1,([1]ITS_DEV_MANUF_MODEL!$E$2:$E$1500=\"WWD\")*([1]ITS_DEV_MANUF_MODEL!$D$2:$D$1500=$J24),0),3))","v":""}]
[null,null,null,null,null,null,null,null,null,null,{"$f":"IF($J25=\"\",\"\",INDEX([1]ITS_DEV_MANUF_MODEL!$A$2:$E$1500,MATCH(1,([1]ITS_DEV_MANUF_MODEL!$E$2:$E$1500=\"WWD\")*([1]ITS_DEV_MANUF_MODEL!$D$2:$D$1500=$J25),0),3))","v":""}]
[null,null,null,null,null,null,null,null,null,null,{"$f":"IF($J26=\"\",\"\",INDEX([1]ITS_DEV_MANUF_MODEL!$A$2:$E$1500,MATCH(1,([1]ITS_DEV_MANUF_MODEL!$E$2:$E$1500=\"WWD\")*([1]ITS_DEV_MANUF_MODEL!$D$2:$D$1500=$J26),0),3))","v":""}]
[null,null,null,null,null,null,null,null,null,null,{"$f":"IF($J27=\"\",\"\",INDEX([1]ITS_DEV_MANUF_MODEL!$A$2:$E$1500,MATCH(1,([1]ITS_DEV_MANUF_MODEL!$E$2:$E$1500=\"WWD\")*([1]ITS_DEV_MANUF_MODEL!$D$2:$D$1500=$J27),0),3))","v":""}]
[null,null,null,null,null,null,null,null,null,null,{"$f":"IF($J28=\"\",\"\",INDEX([1]ITS_DEV_MANUF_MODEL!$A$2:$E$1500,MATCH(1,([1]ITS_DEV_MANUF_MODEL!$E$2:$E$1500=\"WWD\")*([1]ITS_DEV_MANUF_MODEL!$D$2:$D$1500=$J28),0),3))","v":""}]
[null,null,null,null,null,null,null,null,null,null,{"$f":"IF($J29=\"\",\"\",INDEX([1]ITS_DEV_MANUF_MODEL!$A$2:$E$1500,MATCH(1,([1]ITS_DEV_MANUF_MODEL!$E$2:$E$1500=\"WWD\")*([1]ITS_DEV_MANUF_MODEL!$D$2:$D$1500=$J29),0),3))","v":""}]
[null,null,null,null,null,null,null,null,null,null,{"$f":"IF($J30=\"\",\"\",INDEX([1]ITS_DEV_MANUF_MODEL!$A$2:$E$1500,MATCH(1,([1]ITS_DEV_MANUF_MODEL!$E$2:$E$1500=\"WWD\")*([1]ITS_DEV_MANUF_MODEL!$D$2:$D$1500=$J30),0),3))","v":""}]
[null,null,null,null,null,null,null,null,null,null,{"$f":"IF($J31=\"\",\"\",INDEX([1]ITS_DEV_MANUF_MODEL!$A$2:$E$1500,MATCH(1,([1]ITS_DEV_MANUF_MODEL!$E$2:$E$1500=\"WWD\")*([1]ITS_DEV_MANUF_MODEL!$D$2:$D$1500=$J31),0),3))","v":""}]
[null,null,null,null,null,null,null,null,null,null,{"$f":"IF($J32=\"\",\"\",INDEX([1]ITS_DEV_MANUF_MODEL!$A$2:$E$1500,MATCH(1,([1]ITS_DEV_MANUF_MODEL!$E$2:$E$1500=\"WWD\")*([1]ITS_DEV_MANUF_MODEL!$D$2:$D$1500=$J32),0),3))","v":""}]
[null,null,null,null,null,null,null,null,null,null,{"$f":"IF($J33=\"\",\"\",INDEX([1]ITS_DEV_MANUF_MODEL!$A$2:$E$1500,MATCH(1,([1]ITS_DEV_MANUF_MODEL!$E$2:$E$1500=\"WWD\")*([1]ITS_DEV_MANUF_MODEL!$D$2:$D$1500=$J33),0),3))","v":""}]
[null,null,null,null,null,null,null,null,null,null,{"$f":"IF($J34=\"\",\"\",INDEX([1]ITS_DEV_MANUF_MODEL!$A$2:$E$1500,MATCH(1,([1]ITS_DEV_MANUF_MODEL!$E$2:$E$1500=\"WWD\")*([1]ITS_DEV_MANUF_MODEL!$D$2:$D$1500=$J34),0),3))","v":""}]
[null,null,null,null,null,null,null,null,null,null,{"$f":"IF($J35=\"\",\"\",INDEX([1]ITS_DEV_MANUF_MODEL!$A$2:$E$1500,MATCH(1,([1]ITS_DEV_MANUF_MODEL!$E$2:$E$1500=\"WWD\")*([1]ITS_DEV_MANUF_MODEL!$D$2:$D$1500=$J35),0),3))","v":""}]
[null,null,null,null,null,null,null,null,null,null,{"$f":"IF($J36=\"\",\"\",INDEX([1]ITS_DEV_MANUF_MODEL!$A$2:$E$1500,MATCH(1,([1]ITS_DEV_MANUF_MODEL!$E$2:$E$1500=\"WWD\")*([1]ITS_DEV_MANUF_MODEL!$D$2:$D$1500=$J36),0),3))","v":""}]
[null,null,null,null,null,null,null,null,null,null,{"$f":"IF($J37=\"\",\"\",INDEX([1]ITS_DEV_MANUF_MODEL!$A$2:$E$1500,MATCH(1,([1]ITS_DEV_MANUF_MODEL!$E$2:$E$1500=\"WWD\")*([1]ITS_DEV_MANUF_MODEL!$D$2:$D$1500=$J37),0),3))","v":""}]
[null,null,null,null,null,null,null,null,null,null,{"$f":"IF($J38=\"\",\"\",INDEX([1]ITS_DEV_MANUF_MODEL!$A$2:$E$1500,MATCH(1,([1]ITS_DEV_MANUF_MODEL!$E$2:$E$1500=\"WWD\")*([1]ITS_DEV_MANUF_MODEL!$D$2:$D$1500=$J38),0),3))","v":""}]
[null,null,null,null,null,null,null,null,null,null,{"$f":"IF($J39=\"\",\"\",INDEX([1]ITS_DEV_MANUF_MODEL!$A$2:$E$1500,MATCH(1,([1]ITS_DEV_MANUF_MODEL!$E$2:$E$1500=\"WWD\")*([1]ITS_DEV_MANUF_MODEL!$D$2:$D$1500=$J39),0),3))","v":""}]
[null,null,null,null,null,null,null,null,null,null,{"$f":"IF($J40=\"\",\"\",INDEX([1]ITS_DEV_MANUF_MODEL!$A$2:$E$1500,MATCH(1,([1]ITS_DEV_MANUF_MODEL!$E$2:$E$1500=\"WWD\")*([1]ITS_DEV_MANUF_MODEL!$D$2:$D$1500=$J40),0),3))","v":""}]
[null,null,null,null,null,null,null,null,null,null,{"$f":"IF($J41=\"\",\"\",INDEX([1]ITS_DEV_MANUF_MODEL!$A$2:$E$1500,MATCH(1,([1]ITS_DEV_MANUF_MODEL!$E$2:$E$1500=\"WWD\")*([1]ITS_DEV_MANUF_MODEL!$D$2:$D$1500=$J41),0),3))","v":""}]
[null,null,null,null,null,null,null,null,null,null,{"$f":"IF($J42=\"\",\"\",INDEX([1]ITS_DEV_MANUF_MODEL!$A$2:$E$1500,MATCH(1,([1]ITS_DEV_MANUF_MODEL!$E$2:$E$1500=\"WWD\")*([1]ITS_DEV_MANUF_MODEL!$D$2:$D$1500=$J42),0),3))","v":""}]
[null,null,null,null,null,null,null,null,null,null,{"$f":"IF($J43=\"\",\"\",INDEX([1]ITS_DEV_MANUF_MODEL!$A$2:$E$1500,MATCH(1,([1]ITS_DEV_MANUF_MODEL!$E$2:$E$1500=\"WWD\")*([1]ITS_DEV_MANUF_MODEL!$D$2:$D$1500=$J43),0),3))","v":""}]
[null,null,null,null,null,null,null,null,null,null,{"$f":"IF($J44=\"\",\"\",INDEX([1]ITS_DEV_MANUF_MODEL!$A$2:$E$1500,MATCH(1,([1]ITS_DEV_MANUF_MODEL!$E$2:$E$1500=\"WWD\")*([1]ITS_DEV_MANUF_MODEL!$D$2:$D$1500=$J44),0),3))","v":""}]
[null,null,null,null,null,null,null,null,null,null,{"$f":"IF($J45=\"\",\"\",INDEX([1]ITS_DEV_MANUF_MODEL!$A$2:$E$1500,MATCH(1,([1]ITS_DEV_MANUF_MODEL!$E$2:$E$1500=\"WWD\")*([1]ITS_DEV_MANUF_MODEL!$D$2:$D$1500=$J45),0),3))","v":""}]
[null,null,null,null,null,null,null,null,null,null,{"$f":"IF($J46=\"\",\"\",INDEX([1]ITS_DEV_MANUF_MODEL!$A$2:$E$1500,MATCH(1,([1]ITS_DEV_MANUF_MODEL!$E$2:$E$1500=\"WWD\")*([1]ITS_DEV_MANUF_MODEL!$D$2:$D$1500=$J46),0),3))","v":""}]
[null,null,null,null,null,null,null,null,null,null,{"$f":"IF($J47=\"\",\"\",INDEX([1]ITS_DEV_MANUF_MODEL!$A$2:$E$1500,MATCH(1,([1]ITS_DEV_MANUF_MODEL!$E$2:$E$1500=\"WWD\")*([1]ITS_DEV_MANUF_MODEL!$D$2:$D$1500=$J47),0),3))","v":""}]
[null,null,null,null,null,null,null,null,null,null,{"$f":"IF($J48=\"\",\"\",INDEX([1]ITS_DEV_MANUF_MODEL!$A$2:$E$1500,MATCH(1,([1]ITS_DEV_MANUF_MODEL!$E$2:$E$1500=\"WWD\")*([1]ITS_DEV_MANUF_MODEL!$D$2:$D$1500=$J48),0),3))","v":""}]
[null,null,null,null,null,null,null,null,null,null,{"$f":"IF($J49=\"\",\"\",INDEX([1]ITS_DEV_MANUF_MODEL!$A$2:$E$1500,MATCH(1,([1]ITS_DEV_MANUF_MODEL!$E$2:$E$1500=\"WWD\")*([1]ITS_DEV_MANUF_MODEL!$D$2:$D$1500=$J49),0),3))","v":""}]
[null,null,null,null,null,null,null,null,null,null,{"$f":"IF($J50=\"\",\"\",INDEX([1]ITS_DEV_MANUF_MODEL!$A$2:$E$1500,MATCH(1,([1]ITS_DEV_MANUF_MODEL!$E$2:$E$1500=\"WWD\")*([1]ITS_DEV_MANUF_MODEL!$D$2:$D$1500=$J50),0),3))","v":""}]
[null,null,null,null,null,null,null,null,null,null,{"$f":"IF($J51=\"\",\"\",INDEX([1]ITS_DEV_MANUF_MODEL!$A$2:$E$1500,MATCH(1,([1]ITS_DEV_MANUF_MODEL!$E$2:$E$1500=\"WWD\")*([1]ITS_DEV_MANUF_MODEL!$D$2:$D$1500=$J51),0),3))","v":""}]
[null,null,null,null,null,null,null,null,null,null,{"$f":"IF($J52=\"\",\"\",INDEX([1]ITS_DEV_MANUF_MODEL!$A$2:$E$1500,MATCH(1,([1]ITS_DEV_MANUF_MODEL!$E$2:$E$1500=\"WWD\")*([1]ITS_DEV_MANUF_MODEL!$D$2:$D$1500=$J52),0),3))","v":""}]
[null,null,null,null,null,null,null,null,null,null,{"$f":"IF($J53=\"\",\"\",INDEX([1]ITS_DEV_MANUF_MODEL!$A$2:$E$1500,MATCH(1,([1]ITS_DEV_MANUF_MODEL!$E$2:$E$1500=\"WWD\")*([1]ITS_DEV_MANUF_MODEL!$D$2:$D$1500=$J53),0),3))","v":""}]
[null,null,null,null,null,null,null,null,null,null,{"$f":"IF($J54=\"\",\"\",INDEX([1]ITS_DEV_MANUF_MODEL!$A$2:$E$1500,MATCH(1,([1]ITS_DEV_MANUF_MODEL!$E$2:$E$1500=\"WWD\")*([1]ITS_DEV_MANUF_MODEL!$D$2:$D$1500=$J54),0),3))","v":""}]
[null,null,null,null,null,null,null,null,null,null,{"$f":"IF($J55=\"\",\"\",INDEX([1]ITS_DEV_MANUF_MODEL!$A$2:$E$1500,MATCH(1,([1]ITS_DEV_MANUF_MODEL!$E$2:$E$1500=\"WWD\")*([1]ITS_DEV_MANUF_MODEL!$D$2:$D$1500=$J55),0),3))","v":""}]
[null,null,null,null,null,null,null,null,null,null,{"$f":"IF($J56=\"\",\"\",INDEX([1]ITS_DEV_MANUF_MODEL!$A$2:$E$1500,MATCH(1,([1]ITS_DEV_MANUF_MODEL!$E$2:$E$1500=\"WWD\")*([1]ITS_DEV_MANUF_MODEL!$D$2:$D$1500=$J56),0),3))","v":""}]
[null,null,null,null,null,null,null,null,null,null,{"$f":"IF($J57=\"\",\"\",INDEX([1]ITS_DEV_MANUF_MODEL!$A$2:$E$1500,MATCH(1,([1]ITS_DEV_MANUF_MODEL!$E$2:$E$1500=\"WWD\")*([1]ITS_DEV_MANUF_MODEL!$D$2:$D$1500=$J57),0),3))","v":""}]
[null,null,null,null,null,null,null,null,null,null,{"$f":"IF($J58=\"\",\"\",INDEX([1]ITS_DEV_MANUF_MODEL!$A$2:$E$1500,MATCH(1,([1]ITS_DEV_MANUF_MODEL!$E$2:$E$1500=\"WWD\")*([1]ITS_DEV_MANUF_MODEL!$D$2:$D$1500=$J58),0),3))","v":""}]
[null,null,null,null,null,null,null,null,null,null,{"$f":"IF($J59=\"\",\"\",INDEX([1]ITS_DEV_MANUF_MODEL!$A$2:$E$1500,MATCH(1,([1]ITS_DEV_MANUF_MODEL!$E$2:$E$1500=\"WWD\")*([1]ITS_DEV_MANUF_MODEL!$D$2:$D$1500=$J59),0),3))","v":""}]
[null,null,null,null,null,null,null,null,null,null,{"$f":"IF($J60=\"\",\"\",INDEX([1]ITS_DEV_MANUF_MODEL!$A$2:$E$1500,MATCH(1,([1]ITS_DEV_MANUF_MODEL!$E$2:$E$1500=\"WWD\")*([1]ITS_DEV_MANUF_MODEL!$D$2:$D$1500=$J60),0),3))","v":""}]
[null,null,null,null,null,null,null,null,null,null,{"$f":"IF($J61=\"\",\"\",INDEX([1]ITS_DEV_MANUF_MODEL!$A$2:$E$1500,MATCH(1,([1]ITS_DEV_MANUF_MODEL!$E$2:$E$1500=\"WWD\")*([1]ITS_DEV_MANUF_MODEL!$D$2:$D$1500=$J61),0),3))","v":""}]
[null,null,null,null,null,null,null,null,null,null,{"$f":"IF($J62=\"\",\"\",INDEX([1]ITS_DEV_MANUF_MODEL!$A$2:$E$1500,MATCH(1,([1]ITS_DEV_MANUF_MODEL!$E$2:$E$1500=\"WWD\")*([1]ITS_DEV_MANUF_MODEL!$D$2:$D$1500=$J62),0),3))","v":""}]
[null,null,null,null,null,null,null,null,null,null,{"$f":"IF($J63=\"\",\"\",INDEX([1]ITS_DEV_MANUF_MODEL!$A$2:$E$1500,MATCH(1,([1]ITS_DEV_MANUF_MODEL!$E$2:$E$1500=\"WWD\")*([1]ITS_DEV_MANUF_MODEL!$D$2:$D$1500=$J63),0),3))","v":""}]
[null,null,null,null,null,null,null,null,null,null,{"$f":"IF($J64=\"\",\"\",INDEX([1]ITS_DEV_MANUF_MODEL!$A$2:$E$1500,MATCH(1,([1]ITS_DEV_MANUF_MODEL!$E$2:$E$1500=\"WWD\")*([1]ITS_DEV_MANUF_MODEL!$D$2:$D$1500=$J64),0),3))","v":""}]
[null,null,null,null,null,null,null,null,null,null,{"$f":"IF($J65=\"\",\"\",INDEX([1]ITS_DEV_MANUF_MODEL!$A$2:$E$1500,MATCH(1,([1]ITS_DEV_MANUF_MODEL!$E$2:$E$1500=\"WWD\")*([1]ITS_DEV_MANUF_MODEL!$D$2:$D$1500=$J65),0),3))","v":""}]
[null,null,null,null,null,null,null,null,null,null,{"$f":"IF($J66=\"\",\"\",INDEX([1]ITS_DEV_MANUF_MODEL!$A$2:$E$1500,MATCH(1,([1]ITS_DEV_MANUF_MODEL!$E$2:$E$1500=\"WWD\")*([1]ITS_DEV_MANUF_MODEL!$D$2:$D$1500=$J66),0),3))","v":""}]
[null,null,null,null,null,null,null,null,null,null,{"$f":"IF($J67=\"\",\"\",INDEX([1]ITS_DEV_MANUF_MODEL!$A$2:$E$1500,MATCH(1,([1]ITS_DEV_MANUF_MODEL!$E$2:$E$1500=\"WWD\")*([1]ITS_DEV_MANUF_MODEL!$D$2:$D$1500=$J67),0),3))","v":""}]
[null,null,null,null,null,null,null,null,null,null,{"$f":"IF($J68=\"\",\"\",INDEX([1]ITS_DEV_MANUF_MODEL!$A$2:$E$1500,MATCH(1,([1]ITS_DEV_MANUF_MODEL!$E$2:$E$1500=\"WWD\")*([1]ITS_DEV_MANUF_MODEL!$D$2:$D$1500=$J68),0),3))","v":""}]
[null,null,null,null,null,null,null,null,null,null,{"$f":"IF($J69=\"\",\"\",INDEX([1]ITS_DEV_MANUF_MODEL!$A$2:$E$1500,MATCH(1,([1]ITS_DEV_MANUF_MODEL!$E$2:$E$1500=\"WWD\")*([1]ITS_DEV_MANUF_MODEL!$D$2:$D$1500=$J69),0),3))","v":""}]
[null,null,null,null,null,null,null,null,null,null,{"$f":"IF($J70=\"\",\"\",INDEX([1]ITS_DEV_MANUF_MODEL!$A$2:$E$1500,MATCH(1,([1]ITS_DEV_MANUF_MODEL!$E$2:$E$1500=\"WWD\")*([1]ITS_DEV_MANUF_MODEL!$D$2:$D$1500=$J70),0),3))","v":""}]
[null,null,null,null,null,null,null,null,null,null,{"$f":"IF($J71=\"\",\"\",INDEX([1]ITS_DEV_MANUF_MODEL!$A$2:$E$1500,MATCH(1,([1]ITS_DEV_MANUF_MODEL!$E$2:$E$1500=\"WWD\")*([1]ITS_DEV_MANUF_MODEL!$D$2:$D$1500=$J71),0),3))","v":""}]
[null,null,null,null,null,null,null,null,null,null,{"$f":"IF($J72=\"\",\"\",INDEX([1]ITS_DEV_MANUF_MODEL!$A$2:$E$1500,MATCH(1,([1]ITS_DEV_MANUF_MODEL!$E$2:$E$1500=\"WWD\")*([1]ITS_DEV_MANUF_MODEL!$D$2:$D$1500=$J72),0),3))","v":""}]
[null,null,null,null,null,null,null,null,null,null,{"$f":"IF($J73=\"\",\"\",INDEX([1]ITS_DEV_MANUF_MODEL!$A$2:$E$1500,MATCH(1,([1]ITS_DEV_MANUF_MODEL!$E$2:$E$1500=\"WWD\")*([1]ITS_DEV_MANUF_MODEL!$D$2:$D$1500=$J73),0),3))","v":""}]
[null,null,null,null,null,null,null,null,null,null,{"$f":"IF($J74=\"\",\"\",INDEX([1]ITS_DEV_MANUF_MODEL!$A$2:$E$1500,MATCH(1,([1]ITS_DEV_MANUF_MODEL!$E$2:$E$1500=\"WWD\")*([1]ITS_DEV_MANUF_MODEL!$D$2:$D$1500=$J74),0),3))","v":""}]
[null,null,null,null,null,null,null,null,null,null,{"$f":"IF($J75=\"\",\"\",INDEX([1]ITS_DEV_MANUF_MODEL!$A$2:$E$1500,MATCH(1,([1]ITS_DEV_MANUF_MODEL!$E$2:$E$1500=\"WWD\")*([1]ITS_DEV_MANUF_MODEL!$D$2:$D$1500=$J75),0),3))","v":""}]
[null,null,null,null,null,null,null,null,null,null,{"$f":"IF($J76=\"\",\"\",INDEX([1]ITS_DEV_MANUF_MODEL!$A$2:$E$1500,MATCH(1,([1]ITS_DEV_MANUF_MODEL!$E$2:$E$1500=\"WWD\")*([1]ITS_DEV_MANUF_MODEL!$D$2:$D$1500=$J76),0),3))","v":""}]
[null,null,null,null,null,null,null,null,null,null,{"$f":"IF($J77=\"\",\"\",INDEX([1]ITS_DEV_MANUF_MODEL!$A$2:$E$1500,MATCH(1,([1]ITS_DEV_MANUF_MODEL!$E$2:$E$1500=\"WWD\")*([1]ITS_DEV_MANUF_MODEL!$D$2:$D$1500=$J77),0),3))","v":""}]
[null,null,null,null,null,null,null,null,null,null,{"$f":"IF($J78=\"\",\"\",INDEX([1]ITS_DEV_MANUF_MODEL!$A$2:$E$1500,MATCH(1,([1]ITS_DEV_MANUF_MODEL!$E$2:$E$1500=\"WWD\")*([1]ITS_DEV_MANUF_MODEL!$D$2:$D$1500=$J78),0),3))","v":""}]
[null,null,null,null,null,null,null,null,null,null,{"$f":"IF($J79=\"\",\"\",INDEX([1]ITS_DEV_MANUF_MODEL!$A$2:$E$1500,MATCH(1,([1]ITS_DEV_MANUF_MODEL!$E$2:$E$1500=\"WWD\")*([1]ITS_DEV_MANUF_MODEL!$D$2:$D$1500=$J79),0),3))","v":""}]
[null,null,null,null,null,null,null,null,null,null,{"$f":"IF($J80=\"\",\"\",INDEX([1]ITS_DEV_MANUF_MODEL!$A$2:$E$1500,MATCH(1,([1]ITS_DEV_MANUF_MODEL!$E$2:$E$1500=\"WWD\")*([1]ITS_DEV_MANUF_MODEL!$D$2:$D$1500=$J80),0),3))","v":""}]
[null,null,null,null,null,null,null,null,null,null,{"$f":"IF($J81=\"\",\"\",INDEX([1]ITS_DEV_MANUF_MODEL!$A$2:$E$1500,MATCH(1,([1]ITS_DEV_MANUF_MODEL!$E$2:$E$1500=\"WWD\")*([1]ITS_DEV_MANUF_MODEL!$D$2:$D$1500=$J81),0),3))","v":""}]
[null,null,null,null,null,null,null,null,null,null,{"$f":"IF($J82=\"\",\"\",INDEX([1]ITS_DEV_MANUF_MODEL!$A$2:$E$1500,MATCH(1,([1]ITS_DEV_MANUF_MODEL!$E$2:$E$1500=\"WWD\")*([1]ITS_DEV_MANUF_MODEL!$D$2:$D$1500=$J82),0),3))","v":""}]
[null,null,null,null,null,null,null,null,null,null,{"$f":"IF($J83=\"\",\"\",INDEX([1]ITS_DEV_MANUF_MODEL!$A$2:$E$1500,MATCH(1,([1]ITS_DEV_MANUF_MODEL!$E$2:$E$1500=\"WWD\")*([1]ITS_DEV_MANUF_MODEL!$D$2:$D$1500=$J83),0),3))","v":""}]
[null,null,null,null,null,null,null,null,null,null,{"$f":"IF($J84=\"\",\"\",INDEX([1]ITS_DEV_MANUF_MODEL!$A$2:$E$1500,MATCH(1,([1]ITS_DEV_MANUF_MODEL!$E$2:$E$1500=\"WWD\")*([1]ITS_DEV_MANUF_MODEL!$D$2:$D$1500=$J84),0),3))","v":""}]
[null,null,null,null,null,null,null,null,null,null,{"$f":"IF($J85=\"\",\"\",INDEX([1]ITS_DEV_MANUF_MODEL!$A$2:$E$1500,MATCH(1,([1]ITS_DEV_MANUF_MODEL!$E$2:$E$1500=\"WWD\")*([1]ITS_DEV_MANUF_MODEL!$D$2:$D$1500=$J85),0),3))","v":""}]
[null,null,null,null,null,null,null,null,null,null,{"$f":"IF($J86=\"\",\"\",INDEX([1]ITS_DEV_MANUF_MODEL!$A$2:$E$1500,MATCH(1,([1]ITS_DEV_MANUF_MODEL!$E$2:$E$1500=\"WWD\")*([1]ITS_DEV_MANUF_MODEL!$D$2:$D$1500=$J86),0),3))","v":""}]
[null,null,null,null,null,null,null,null,null,null,{"$f":"IF($J87=\"\",\"\",INDEX([1]ITS_DEV_MANUF_MODEL!$A$2:$E$1500,MATCH(1,([1]ITS_DEV_MANUF_MODEL!$E$2:$E$1500=\"WWD\")*([1]ITS_DEV_MANUF_MODEL!$D$2:$D$1500=$J87),0),3))","v":""}]
[null,null,null,null,null,null,null,null,null,null,{"$f":"IF($J88=\"\",\"\",INDEX([1]ITS_DEV_MANUF_MODEL!$A$2:$E$1500,MATCH(1,([1]ITS_DEV_MANUF_MODEL!$E$2:$E$1500=\"WWD\")*([1]ITS_DEV_MANUF_MODEL!$D$2:$D$1500=$J88),0),3))","v":""}]
[null,null,null,null,null,null,null,null,null,null,{"$f":"IF($J89=\"\",\"\",INDEX([1]ITS_DEV_MANUF_MODEL!$A$2:$E$1500,MATCH(1,([1]ITS_DEV_MANUF_MODEL!$E$2:$E$1500=\"WWD\")*([1]ITS_DEV_MANUF_MODEL!$D$2:$D$1500=$J89),0),3))","v":""}]
[null,null,null,null,null,null,null,null,null,null,{"$f":"IF($J90=\"\",\"\",INDEX([1]ITS_DEV_MANUF_MODEL!$A$2:$E$1500,MATCH(1,([1]ITS_DEV_MANUF_MODEL!$E$2:$E$1500=\"WWD\")*([1]ITS_DEV_MANUF_MODEL!$D$2:$D$1500=$J90),0),3))","v":""}]
[null,null,null,null,null,null,null,null,null,null,{"$f":"IF($J91=\"\",\"\",INDEX([1]ITS_DEV_MANUF_MODEL!$A$2:$E$1500,MATCH(1,([1]ITS_DEV_MANUF_MODEL!$E$2:$E$1500=\"WWD\")*([1]ITS_DEV_MANUF_MODEL!$D$2:$D$1500=$J91),0),3))","v":""}]
[null,null,null,null,null,null,null,null,null,null,{"$f":"IF($J92=\"\",\"\",INDEX([1]ITS_DEV_MANUF_MODEL!$A$2:$E$1500,MATCH(1,([1]ITS_DEV_MANUF_MODEL!$E$2:$E$1500=\"WWD\")*([1]ITS_DEV_MANUF_MODEL!$D$2:$D$1500=$J92),0),3))","v":""}]
[null,null,null,null,null,null,null,null,null,null,{"$f":"IF($J93=\"\",\"\",INDEX([1]ITS_DEV_MANUF_MODEL!$A$2:$E$1500,MATCH(1,([1]ITS_DEV_MANUF_MODEL!$E$2:$E$1500=\"WWD\")*([1]ITS_DEV_MANUF_MODEL!$D$2:$D$1500=$J93),0),3))","v":""}]
[null,null,null,null,null,null,null,null,null,null,{"$f":"IF($J94=\"\",\"\",INDEX([1]ITS_DEV_MANUF_MODEL!$A$2:$E$1500,MATCH(1,([1]ITS_DEV_MANUF_MODEL!$E$2:$E$1500=\"WWD\")*([1]ITS_DEV_MANUF_MODEL!$D$2:$D$1500=$J94),0),3))","v":""}]
[null,null,null,null,null,null,null,null,null,null,{"$f":"IF($J95=\"\",\"\",INDEX([1]ITS_DEV_MANUF_MODEL!$A$2:$E$1500,MATCH(1,([1]ITS_DEV_MANUF_MODEL!$E$2:$E$1500=\"WWD\")*([1]ITS_DEV_MANUF_MODEL!$D$2:$D$1500=$J95),0),3))","v":""}]
[null,null,null,null,null,null,null,null,null,null,{"$f":"IF($J96=\"\",\"\",INDEX([1]ITS_DEV_MANUF_MODEL!$A$2:$E$1500,MATCH(1,([1]ITS_DEV_MANUF_MODEL!$E$2:$E$1500=\"WWD\")*([1]ITS_DEV_MANUF_MODEL!$D$2:$D$1500=$J96),0),3))","v":""}]
[null,null,null,null,null,null,null,null,null,null,{"$f":"IF($J97=\"\",\"\",INDEX([1]ITS_DEV_MANUF_MODEL!$A$2:$E$1500,MATCH(1,([1]ITS_DEV_MANUF_MODEL!$E$2:$E$1500=\"WWD\")*([1]ITS_DEV_MANUF_MODEL!$D$2:$D$1500=$J97),0),3))","v":""}]
[null,null,null,null,null,null,null,null,null,null,{"$f":"IF($J98=\"\",\"\",INDEX([1]ITS_DEV_MANUF_MODEL!$A$2:$E$1500,MATCH(1,([1]ITS_DEV_MANUF_MODEL!$E$2:$E$1500=\"WWD\")*([1]ITS_DEV_MANUF_MODEL!$D$2:$D$1500=$J98),0),3))","v":""}]
[null,null,null,null,null,null,null,null,null,null,{"$f":"IF($J99=\"\",\"\",INDEX([1]ITS_DEV_MANUF_MODEL!$A$2:$E$1500,MATCH(1,([1]ITS_DEV_MANUF_MODEL!$E$2:$E$1500=\"WWD\")*([1]ITS_DEV_MANUF_MODEL!$D$2:$D$1500=$J99),0),3))","v":""}]
[null,null,null,null,null,null,null,null,null,null,{"$f":"IF($J100=\"\",\"\",INDEX([1]ITS_DEV_MANUF_MODEL!$A$2:$E$1500,MATCH(1,([1]ITS_DEV_MANUF_MODEL!$E$2:$E$1500=\"WWD\")*([1]ITS_DEV_MANUF_MODEL!$D$2:$D$1500=$J100),0),3))","v":""}]
[null,null,null,null,null,null,null,null,null,null,{"$f":"IF($J101=\"\",\"\",INDEX([1]ITS_DEV_MANUF_MODEL!$A$2:$E$1500,MATCH(1,([1]ITS_DEV_MANUF_MODEL!$E$2:$E$1500=\"WWD\")*([1]ITS_DEV_MANUF_MODEL!$D$2:$D$1500=$J101),0),3))","v":""}]
[null,null,null,null,null,null,null,null,null,null,{"$f":"IF($J102=\"\",\"\",INDEX([1]ITS_DEV_MANUF_MODEL!$A$2:$E$1500,MATCH(1,([1]ITS_DEV_MANUF_MODEL!$E$2:$E$1500=\"WWD\")*([1]ITS_DEV_MANUF_MODEL!$D$2:$D$1500=$J102),0),3))","v":""}]
[null,null,null,null,null,null,null,null,null,null,{"$f":"IF($J103=\"\",\"\",INDEX([1]ITS_DEV_MANUF_MODEL!$A$2:$E$1500,MATCH(1,([1]ITS_DEV_MANUF_MODEL!$E$2:$E$1500=\"WWD\")*([1]ITS_DEV_MANUF_MODEL!$D$2:$D$1500=$J103),0),3))","v":""}]
[null,null,null,null,null,null,null,null,null,null,{"$f":"IF($J104=\"\",\"\",INDEX([1]ITS_DEV_MANUF_MODEL!$A$2:$E$1500,MATCH(1,([1]ITS_DEV_MANUF_MODEL!$E$2:$E$1500=\"WWD\")*([1]ITS_DEV_MANUF_MODEL!$D$2:$D$1500=$J104),0),3))","v":""}]
[null,null,null,null,null,null,null,null,null,null,{"$f":"IF($J105=\"\",\"\",INDEX([1]ITS_DEV_MANUF_MODEL!$A$2:$E$1500,MATCH(1,([1]ITS_DEV_MANUF_MODEL!$E$2:$E$1500=\"WWD\")*([1]ITS_DEV_MANUF_MODEL!$D$2:$D$1500=$J105),0),3))","v":""}]
[null,null,null,null,null,null,null,null,null,null,{"$f":"IF($J106=\"\",\"\",INDEX([1]ITS_DEV_MANUF_MODEL!$A$2:$E$1500,MATCH(1,([1]ITS_DEV_MANUF_MODEL!$E$2:$E$1500=\"WWD\")*([1]ITS_DEV_MANUF_MODEL!$D$2:$D$1500=$J106),0),3))","v":""}]
[null,null,null,null,null,null,null,null,null,null,{"$f":"IF($J107=\"\",\"\",INDEX([1]ITS_DEV_MANUF_MODEL!$A$2:$E$1500,MATCH(1,([1]ITS_DEV_MANUF_MODEL!$E$2:$E$1500=\"WWD\")*([1]ITS_DEV_MANUF_MODEL!$D$2:$D$1500=$J107),0),3))","v":""}]
[null,null,null,null,null,null,null,null,null,null,{"$f":"IF($J108=\"\",\"\",INDEX([1]ITS_DEV_MANUF_MODEL!$A$2:$E$1500,MATCH(1,([1]ITS_DEV_MANUF_MODEL!$E$2:$E$1500=\"WWD\")*([1]ITS_DEV_MANUF_MODEL!$D$2:$D$1500=$J108),0),3))","v":""}]
[null,null,null,null,null,null,null,null,null,null,{"$f":"IF($J109=\"\",\"\",INDEX([1]ITS_DEV_MANUF_MODEL!$A$2:$E$1500,MATCH(1,([1]ITS_DEV_MANUF_MODEL!$E$2:$E$1500=\"WWD\")*([1]ITS_DEV_MANUF_MODEL!$D$2:$D$1500=$J109),0),3))","v":""}]
[null,null,null,null,null,null,null,null,null,null,{"$f":"IF($J110=\"\",\"\",INDEX([1]ITS_DEV_MANUF_MODEL!$A$2:$E$1500,MATCH(1,([1]ITS_DEV_MANUF_MODEL!$E$2:$E$1500=\"WWD\")*([1]ITS_DEV_MANUF_MODEL!$D$2:$D$1500=$J110),0),3))","v":""}]
[null,null,null,null,null,null,null,null,null,null,{"$f":"IF($J111=\"\",\"\",INDEX([1]ITS_DEV_MANUF_MODEL!$A$2:$E$1500,MATCH(1,([1]ITS_DEV_MANUF_MODEL!$E$2:$E$1500=\"WWD\")*([1]ITS_DEV_MANUF_MODEL!$D$2:$D$1500=$J111),0),3))","v":""}]
[null,null,null,null,null,null,null,null,null,null,{"$f":"IF($J112=\"\",\"\",INDEX([1]ITS_DEV_MANUF_MODEL!$A$2:$E$1500,MATCH(1,([1]ITS_DEV_MANUF_MODEL!$E$2:$E$1500=\"WWD\")*([1]ITS_DEV_MANUF_MODEL!$D$2:$D$1500=$J112),0),3))","v":""}]
[null,null,null,null,null,null,null,null,null,null,{"$f":"IF($J113=\"\",\"\",INDEX([1]ITS_DEV_MANUF_MODEL!$A$2:$E$1500,MATCH(1,([1]ITS_DEV_MANUF_MODEL!$E$2:$E$1500=\"WWD\")*([1]ITS_DEV_MANUF_MODEL!$D$2:$D$1500=$J113),0),3))","v":""}]
[null,null,null,null,null,null,null,null,null,null,{"$f":"IF($J114=\"\",\"\",INDEX([1]ITS_DEV_MANUF_MODEL!$A$2:$E$1500,MATCH(1,([1]ITS_DEV_MANUF_MODEL!$E$2:$E$1500=\"WWD\")*([1]ITS_DEV_MANUF_MODEL!$D$2:$D$1500=$J114),0),3))","v":""}]
[null,null,null,null,null,null,null,null,null,null,{"$f":"IF($J115=\"\",\"\",INDEX([1]ITS_DEV_MANUF_MODEL!$A$2:$E$1500,MATCH(1,([1]ITS_DEV_MANUF_MODEL!$E$2:$E$1500=\"WWD\")*([1]ITS_DEV_MANUF_MODEL!$D$2:$D$1500=$J115),0),3))","v":""}]
[null,null,null,null,null,null,null,null,null,null,{"$f":"IF($J116=\"\",\"\",INDEX([1]ITS_DEV_MANUF_MODEL!$A$2:$E$1500,MATCH(1,([1]ITS_DEV_MANUF_MODEL!$E$2:$E$1500=\"WWD\")*([1]ITS_DEV_MANUF_MODEL!$D$2:$D$1500=$J116),0),3))","v":""}]
[null,null,null,null,null,null,null,null,null,null,{"$f":"IF($J117=\"\",\"\",INDEX([1]ITS_DEV_MANUF_MODEL!$A$2:$E$1500,MATCH(1,([1]ITS_DEV_MANUF_MODEL!$E$2:$E$1500=\"WWD\")*([1]ITS_DEV_MANUF_MODEL!$D$2:$D$1500=$J117),0),3))","v":""}]
[null,null,null,null,null,null,null,null,null,null,{"$f":"IF($J118=\"\",\"\",INDEX([1]ITS_DEV_MANUF_MODEL!$A$2:$E$1500,MATCH(1,([1]ITS_DEV_MANUF_MODEL!$E$2:$E$1500=\"WWD\")*([1]ITS_DEV_MANUF_MODEL!$D$2:$D$1500=$J118),0),3))","v":""}]
[null,null,null,null,null,null,null,null,null,null,{"$f":"IF($J119=\"\",\"\",INDEX([1]ITS_DEV_MANUF_MODEL!$A$2:$E$1500,MATCH(1,([1]ITS_DEV_MANUF_MODEL!$E$2:$E$1500=\"WWD\")*([1]ITS_DEV_MANUF_MODEL!$D$2:$D$1500=$J119),0),3))","v":""}]
[null,null,null,null,null,null,null,null,null,null,{"$f":"IF($J120=\"\",\"\",INDEX([1]ITS_DEV_MANUF_MODEL!$A$2:$E$1500,MATCH(1,([1]ITS_DEV_MANUF_MODEL!$E$2:$E$1500=\"WWD\")*([1]ITS_DEV_MANUF_MODEL!$D$2:$D$1500=$J120),0),3))","v":""}]
[null,null,null,null,null,null,null,null,null,null,{"$f":"IF($J121=\"\",\"\",INDEX([1]ITS_DEV_MANUF_MODEL!$A$2:$E$1500,MATCH(1,([1]ITS_DEV_MANUF_MODEL!$E$2:$E$1500=\"WWD\")*([1]ITS_DEV_MANUF_MODEL!$D$2:$D$1500=$J121),0),3))","v":""}]
[null,null,null,null,null,null,null,null,null,null,{"$f":"IF($J122=\"\",\"\",INDEX([1]ITS_DEV_MANUF_MODEL!$A$2:$E$1500,MATCH(1,([1]ITS_DEV_MANUF_MODEL!$E$2:$E$1500=\"WWD\")*([1]ITS_DEV_MANUF_MODEL!$D$2:$D$1500=$J122),0),3))","v":""}]
[null,null,null,null,null,null,null,null,null,null,{"$f":"IF($J123=\"\",\"\",INDEX([1]ITS_DEV_MANUF_MODEL!$A$2:$E$1500,MATCH(1,([1]ITS_DEV_MANUF_MODEL!$E$2:$E$1500=\"WWD\")*([1]ITS_DEV_MANUF_MODEL!$D$2:$D$1500=$J123),0),3))","v":""}]
[null,null,null,null,null,null,null,null,null,null,{"$f":"IF($J124=\"\",\"\",INDEX([1]ITS_DEV_MANUF_MODEL!$A$2:$E$1500,MATCH(1,([1]ITS_DEV_MANUF_MODEL!$E$2:$E$1500=\"WWD\")*([1]ITS_DEV_MANUF_MODEL!$D$2:$D$1500=$J124),0),3))","v":""}]
[null,null,null,null,null,null,null,null,null,null,{"$f":"IF($J125=\"\",\"\",INDEX([1]ITS_DEV_MANUF_MODEL!$A$2:$E$1500,MATCH(1,([1]ITS_DEV_MANUF_MODEL!$E$2:$E$1500=\"WWD\")*([1]ITS_DEV_MANUF_MODEL!$D$2:$D$1500=$J125),0),3))","v":""}]
[null,null,null,null,null,null,null,null,null,null,{"$f":"IF($J126=\"\",\"\",INDEX([1]ITS_DEV_MANUF_MODEL!$A$2:$E$1500,MATCH(1,([1]ITS_DEV_MANUF_MODEL!$E$2:$E$1500=\"WWD\")*([1]ITS_DEV_MANUF_MODEL!$D$2:$D$1500=$J126),0),3))","v":""}]
[null,null,null,null,null,null,null,null,null,null,{"$f":"IF($J127=\"\",\"\",INDEX([1]ITS_DEV_MANUF_MODEL!$A$2:$E$1500,MATCH(1,([1]ITS_DEV_MANUF_MODEL!$E$2:$E$1500=\"WWD\")*([1]ITS_DEV_MANUF_MODEL!$D$2:$D$1500=$J127),0),3))","v":""}]
[null,null,null,null,null,null,null,null,null,null,{"$f":"IF($J128=\"\",\"\",INDEX([1]ITS_DEV_MANUF_MODEL!$A$2:$E$1500,MATCH(1,([1]ITS_DEV_MANUF_MODEL!$E$2:$E$1500=\"WWD\")*([1]ITS_DEV_MANUF_MODEL!$D$2:$D$1500=$J128),0),3))","v":""}]
[null,null,null,null,null,null,null,null,null,null,{"$f":"IF($J129=\"\",\"\",INDEX([1]ITS_DEV_MANUF_MODEL!$A$2:$E$1500,MATCH(1,([1]ITS_DEV_MANUF_MODEL!$E$2:$E$1500=\"WWD\")*([1]ITS_DEV_MANUF_MODEL!$D$2:$D$1500=$J129),0),3))","v":""}]
[null,null,null,null,null,null,null,null,null,null,{"$f":"IF($J130=\"\",\"\",INDEX([1]ITS_DEV_MANUF_MODEL!$A$2:$E$1500,MATCH(1,([1]ITS_DEV_MANUF_MODEL!$E$2:$E$1500=\"WWD\")*([1]ITS_DEV_MANUF_MODEL!$D$2:$D$1500=$J130),0),3))","v":""}]
[null,null,null,null,null,null,null,null,null,null,{"$f":"IF($J131=\"\",\"\",INDEX([1]ITS_DEV_MANUF_MODEL!$A$2:$E$1500,MATCH(1,([1]ITS_DEV_MANUF_MODEL!$E$2:$E$1500=\"WWD\")*([1]ITS_DEV_MANUF_MODEL!$D$2:$D$1500=$J131),0),3))","v":""}]
[null,null,null,null,null,null,null,null,null,null,{"$f":"IF($J132=\"\",\"\",INDEX([1]ITS_DEV_MANUF_MODEL!$A$2:$E$1500,MATCH(1,([1]ITS_DEV_MANUF_MODEL!$E$2:$E$1500=\"WWD\")*([1]ITS_DEV_MANUF_MODEL!$D$2:$D$1500=$J132),0),3))","v":""}]
[null,null,null,null,null,null,null,null,null,null,{"$f":"IF($J133=\"\",\"\",INDEX([1]ITS_DEV_MANUF_MODEL!$A$2:$E$1500,MATCH(1,([1]ITS_DEV_MANUF_MODEL!$E$2:$E$1500=\"WWD\")*([1]ITS_DEV_MANUF_MODEL!$D$2:$D$1500=$J133),0),3))","v":""}]
[null,null,null,null,null,null,null,null,null,null,{"$f":"IF($J134=\"\",\"\",INDEX([1]ITS_DEV_MANUF_MODEL!$A$2:$E$1500,MATCH(1,([1]ITS_DEV_MANUF_MODEL!$E$2:$E$1500=\"WWD\")*([1]ITS_DEV_MANUF_MODEL!$D$2:$D$1500=$J134),0),3))","v":""}]
[null,null,null,null,null,null,null,null,null,null,{"$f":"IF($J135=\"\",\"\",INDEX([1]ITS_DEV_MANUF_MODEL!$A$2:$E$1500,MATCH(1,([1]ITS_DEV_MANUF_MODEL!$E$2:$E$1500=\"WWD\")*([1]ITS_DEV_MANUF_MODEL!$D$2:$D$1500=$J135),0),3))","v":""}]
[null,null,null,null,null,null,null,null,null,null,{"$f":"IF($J136=\"\",\"\",INDEX([1]ITS_DEV_MANUF_MODEL!$A$2:$E$1500,MATCH(1,([1]ITS_DEV_MANUF_MODEL!$E$2:$E$1500=\"WWD\")*([1]ITS_DEV_MANUF_MODEL!$D$2:$D$1500=$J136),0),3))","v":""}]
[null,null,null,null,null,null,null,null,null,null,{"$f":"IF($J137=\"\",\"\",INDEX([1]ITS_DEV_MANUF_MODEL!$A$2:$E$1500,MATCH(1,([1]ITS_DEV_MANUF_MODEL!$E$2:$E$1500=\"WWD\")*([1]ITS_DEV_MANUF_MODEL!$D$2:$D$1500=$J137),0),3))","v":""}]
[null,null,null,null,null,null,null,null,null,null,{"$f":"IF($J138=\"\",\"\",INDEX([1]ITS_DEV_MANUF_MODEL!$A$2:$E$1500,MATCH(1,([1]ITS_DEV_MANUF_MODEL!$E$2:$E$1500=\"WWD\")*([1]ITS_DEV_MANUF_MODEL!$D$2:$D$1500=$J138),0),3))","v":""}]
[null,null,null,null,null,null,null,null,null,null,{"$f":"IF($J139=\"\",\"\",INDEX([1]ITS_DEV_MANUF_MODEL!$A$2:$E$1500,MATCH(1,([1]ITS_DEV_MANUF_MODEL!$E$2:$E$1500=\"WWD\")*([1]ITS_DEV_MANUF_MODEL!$D$2:$D$1500=$J139),0),3))","v":""}]
[null,null,null,null,null,null,null,null,null,null,{"$f":"IF($J140=\"\",\"\",INDEX([1]ITS_DEV_MANUF_MODEL!$A$2:$E$1500,MATCH(1,([1]ITS_DEV_MANUF_MODEL!$E$2:$E$1500=\"WWD\")*([1]ITS_DEV_MANUF_MODEL!$D$2:$D$1500=$J140),0),3))","v":""}]
[null,null,null,null,null,null,null,null,null,null,{"$f":"IF($J141=\"\",\"\",INDEX([1]ITS_DEV_MANUF_MODEL!$A$2:$E$1500,MATCH(1,([1]ITS_DEV_MANUF_MODEL!$E$2:$E$1500=\"WWD\")*([1]ITS_DEV_MANUF_MODEL!$D$2:$D$1500=$J141),0),3))","v":""}]
[null,null,null,null,null,null,null,null,null,null,{"$f":"IF($J142=\"\",\"\",INDEX([1]ITS_DEV_MANUF_MODEL!$A$2:$E$1500,MATCH(1,([1]ITS_DEV_MANUF_MODEL!$E$2:$E$1500=\"WWD\")*([1]ITS_DEV_MANUF_MODEL!$D$2:$D$1500=$J142),0),3))","v":""}]
[null,null,null,null,null,null,null,null,null,null,{"$f":"IF($J143=\"\",\"\",INDEX([1]ITS_DEV_MANUF_MODEL!$A$2:$E$1500,MATCH(1,([1]ITS_DEV_MANUF_MODEL!$E$2:$E$1500=\"WWD\")*([1]ITS_DEV_MANUF_MODEL!$D$2:$D$1500=$J143),0),3))","v":""}]
[null,null,null,null,null,null,null,null,null,null,{"$f":"IF($J144=\"\",\"\",INDEX([1]ITS_DEV_MANUF_MODEL!$A$2:$E$1500,MATCH(1,([1]ITS_DEV_MANUF_MODEL!$E$2:$E$1500=\"WWD\")*([1]ITS_DEV_MANUF_MODEL!$D$2:$D$1500=$J144),0),3))","v":""}]
[null,null,null,null,null,null,null,null,null,null,{"$f":"IF($J145=\"\",\"\",INDEX([1]ITS_DEV_MANUF_MODEL!$A$2:$E$1500,MATCH(1,([1]ITS_DEV_MANUF_MODEL!$E$2:$E$1500=\"WWD\")*([1]ITS_DEV_MANUF_MODEL!$D$2:$D$1500=$J145),0),3))","v":""}]
[null,null,null,null,null,null,null,null,null,null,{"$f":"IF($J146=\"\",\"\",INDEX([1]ITS_DEV_MANUF_MODEL!$A$2:$E$1500,MATCH(1,([1]ITS_DEV_MANUF_MODEL!$E$2:$E$1500=\"WWD\")*([1]ITS_DEV_MANUF_MODEL!$D$2:$D$1500=$J146),0),3))","v":""}]
[null,null,null,null,null,null,null,null,null,null,{"$f":"IF($J147=\"\",\"\",INDEX([1]ITS_DEV_MANUF_MODEL!$A$2:$E$1500,MATCH(1,([1]ITS_DEV_MANUF_MODEL!$E$2:$E$1500=\"WWD\")*([1]ITS_DEV_MANUF_MODEL!$D$2:$D$1500=$J147),0),3))","v":""}]
[null,null,null,null,null,null,null,null,null,null,{"$f":"IF($J148=\"\",\"\",INDEX([1]ITS_DEV_MANUF_MODEL!$A$2:$E$1500,MATCH(1,([1]ITS_DEV_MANUF_MODEL!$E$2:$E$1500=\"WWD\")*([1]ITS_DEV_MANUF_MODEL!$D$2:$D$1500=$J148),0),3))","v":""}]
[null,null,null,null,null,null,null,null,null,null,{"$f":"IF($J149=\"\",\"\",INDEX([1]ITS_DEV_MANUF_MODEL!$A$2:$E$1500,MATCH(1,([1]ITS_DEV_MANUF_MODEL!$E$2:$E$1500=\"WWD\")*([1]ITS_DEV_MANUF_MODEL!$D$2:$D$1500=$J149),0),3))","v":""}]
[null,null,null,null,null,null,null,null,null,null,{"$f":"IF($J150=\"\",\"\",INDEX([1]ITS_DEV_MANUF_MODEL!$A$2:$E$1500,MATCH(1,([1]ITS_DEV_MANUF_MODEL!$E$2:$E$1500=\"WWD\")*([1]ITS_DEV_MANUF_MODEL!$D$2:$D$1500=$J150),0),3))","v":""}]
[null,null,null,null,null,null,null,null,null,null,{"$f":"IF($J151=\"\",\"\",INDEX([1]ITS_DEV_MANUF_MODEL!$A$2:$E$1500,MATCH(1,([1]ITS_DEV_MANUF_MODEL!$E$2:$E$1500=\"WWD\")*([1]ITS_DEV_MANUF_MODEL!$D$2:$D$1500=$J151),0),3))","v":""}]
[null,null,null,null,null,null,null,null,null,null,{"$f":"IF($J152=\"\",\"\",INDEX([1]ITS_DEV_MANUF_MODEL!$A$2:$E$1500,MATCH(1,([1]ITS_DEV_MANUF_MODEL!$E$2:$E$1500=\"WWD\")*([1]ITS_DEV_MANUF_MODEL!$D$2:$D$1500=$J152),0),3))","v":""}]
[null,null,null,null,null,null,null,null,null,null,{"$f":"IF($J153=\"\",\"\",INDEX([1]ITS_DEV_MANUF_MODEL!$A$2:$E$1500,MATCH(1,([1]ITS_DEV_MANUF_MODEL!$E$2:$E$1500=\"WWD\")*([1]ITS_DEV_MANUF_MODEL!$D$2:$D$1500=$J153),0),3))","v":""}]
[null,null,null,null,null,null,null,null,null,null,{"$f":"IF($J154=\"\",\"\",INDEX([1]ITS_DEV_MANUF_MODEL!$A$2:$E$1500,MATCH(1,([1]ITS_DEV_MANUF_MODEL!$E$2:$E$1500=\"WWD\")*([1]ITS_DEV_MANUF_MODEL!$D$2:$D$1500=$J154),0),3))","v":""}]
[null,null,null,null,null,null,null,null,null,null,{"$f":"IF($J155=\"\",\"\",INDEX([1]ITS_DEV_MANUF_MODEL!$A$2:$E$1500,MATCH(1,([1]ITS_DEV_MANUF_MODEL!$E$2:$E$1500=\"WWD\")*([1]ITS_DEV_MANUF_MODEL!$D$2:$D$1500=$J155),0),3))","v":""}]
[null,null,null,null,null,null,null,null,null,null,{"$f":"IF($J156=\"\",\"\",INDEX([1]ITS_DEV_MANUF_MODEL!$A$2:$E$1500,MATCH(1,([1]ITS_DEV_MANUF_MODEL!$E$2:$E$1500=\"WWD\")*([1]ITS_DEV_MANUF_MODEL!$D$2:$D$1500=$J156),0),3))","v":""}]
[null,null,null,null,null,null,null,null,null,null,{"$f":"IF($J157=\"\",\"\",INDEX([1]ITS_DEV_MANUF_MODEL!$A$2:$E$1500,MATCH(1,([1]ITS_DEV_MANUF_MODEL!$E$2:$E$1500=\"WWD\")*([1]ITS_DEV_MANUF_MODEL!$D$2:$D$1500=$J157),0),3))","v":""}]
[null,null,null,null,null,null,null,null,null,null,{"$f":"IF($J158=\"\",\"\",INDEX([1]ITS_DEV_MANUF_MODEL!$A$2:$E$1500,MATCH(1,([1]ITS_DEV_MANUF_MODEL!$E$2:$E$1500=\"WWD\")*([1]ITS_DEV_MANUF_MODEL!$D$2:$D$1500=$J158),0),3))","v":""}]
[null,null,null,null,null,null,null,null,null,null,{"$f":"IF($J159=\"\",\"\",INDEX([1]ITS_DEV_MANUF_MODEL!$A$2:$E$1500,MATCH(1,([1]ITS_DEV_MANUF_MODEL!$E$2:$E$1500=\"WWD\")*([1]ITS_DEV_MANUF_MODEL!$D$2:$D$1500=$J159),0),3))","v":""}]
[null,null,null,null,null,null,null,null,null,null,{"$f":"IF($J160=\"\",\"\",INDEX([1]ITS_DEV_MANUF_MODEL!$A$2:$E$1500,MATCH(1,([1]ITS_DEV_MANUF_MODEL!$E$2:$E$1500=\"WWD\")*([1]ITS_DEV_MANUF_MODEL!$D$2:$D$1500=$J160),0),3))","v":""}]
[null,null,null,null,null,null,null,null,null,null,{"$f":"IF($J161=\"\",\"\",INDEX([1]ITS_DEV_MANUF_MODEL!$A$2:$E$1500,MATCH(1,([1]ITS_DEV_MANUF_MODEL!$E$2:$E$1500=\"WWD\")*([1]ITS_DEV_MANUF_MODEL!$D$2:$D$1500=$J161),0),3))","v":""}]
[null,null,null,null,null,null,null,null,null,null,{"$f":"IF($J162=\"\",\"\",INDEX([1]ITS_DEV_MANUF_MODEL!$A$2:$E$1500,MATCH(1,([1]ITS_DEV_MANUF_MODEL!$E$2:$E$1500=\"WWD\")*([1]ITS_DEV_MANUF_MODEL!$D$2:$D$1500=$J162),0),3))","v":""}]
[null,null,null,null,null,null,null,null,null,null,{"$f":"IF($J163=\"\",\"\",INDEX([1]ITS_DEV_MANUF_MODEL!$A$2:$E$1500,MATCH(1,([1]ITS_DEV_MANUF_MODEL!$E$2:$E$1500=\"WWD\")*([1]ITS_DEV_MANUF_MODEL!$D$2:$D$1500=$J163),0),3))","v":""}]
[null,null,null,null,null,null,null,null,null,null,{"$f":"IF($J164=\"\",\"\",INDEX([1]ITS_DEV_MANUF_MODEL!$A$2:$E$1500,MATCH(1,([1]ITS_DEV_MANUF_MODEL!$E$2:$E$1500=\"WWD\")*([1]ITS_DEV_MANUF_MODEL!$D$2:$D$1500=$J164),0),3))","v":""}]
[null,null,null,null,null,null,null,null,null,null,{"$f":"IF($J165=\"\",\"\",INDEX([1]ITS_DEV_MANUF_MODEL!$A$2:$E$1500,MATCH(1,([1]ITS_DEV_MANUF_MODEL!$E$2:$E$1500=\"WWD\")*([1]ITS_DEV_MANUF_MODEL!$D$2:$D$1500=$J165),0),3))","v":""}]
[null,null,null,null,null,null,null,null,null,null,{"$f":"IF($J166=\"\",\"\",INDEX([1]ITS_DEV_MANUF_MODEL!$A$2:$E$1500,MATCH(1,([1]ITS_DEV_MANUF_MODEL!$E$2:$E$1500=\"WWD\")*([1]ITS_DEV_MANUF_MODEL!$D$2:$D$1500=$J166),0),3))","v":""}]
[null,null,null,null,null,null,null,null,null,null,{"$f":"IF($J167=\"\",\"\",INDEX([1]ITS_DEV_MANUF_MODEL!$A$2:$E$1500,MATCH(1,([1]ITS_DEV_MANUF_MODEL!$E$2:$E$1500=\"WWD\")*([1]ITS_DEV_MANUF_MODEL!$D$2:$D$1500=$J167),0),3))","v":""}]
[null,null,null,null,null,null,null,null,null,null,{"$f":"IF($J168=\"\",\"\",INDEX([1]ITS_DEV_MANUF_MODEL!$A$2:$E$1500,MATCH(1,([1]ITS_DEV_MANUF_MODEL!$E$2:$E$1500=\"WWD\")*([1]ITS_DEV_MANUF_MODEL!$D$2:$D$1500=$J168),0),3))","v":""}]
[null,null,null,null,null,null,null,null,null,null,{"$f":"IF($J169=\"\",\"\",INDEX([1]ITS_DEV_MANUF_MODEL!$A$2:$E$1500,MATCH(1,([1]ITS_DEV_MANUF_MODEL!$E$2:$E$1500=\"WWD\")*([1]ITS_DEV_MANUF_MODEL!$D$2:$D$1500=$J169),0),3))","v":""}]
[null,null,null,null,null,null,null,null,null,null,{"$f":"IF($J170=\"\",\"\",INDEX([1]ITS_DEV_MANUF_MODEL!$A$2:$E$1500,MATCH(1,([1]ITS_DEV_MANUF_MODEL!$E$2:$E$1500=\"WWD\")*([1]ITS_DEV_MANUF_MODEL!$D$2:$D$1500=$J170),0),3))","v":""}]
[null,null,null,null,null,null,null,null,null,null,{"$f":"IF($J171=\"\",\"\",INDEX([1]ITS_DEV_MANUF_MODEL!$A$2:$E$1500,MATCH(1,([1]ITS_DEV_MANUF_MODEL!$E$2:$E$1500=\"WWD\")*([1]ITS_DEV_MANUF_MODEL!$D$2:$D$1500=$J171),0),3))","v":""}]
[null,null,null,null,null,null,null,null,null,null,{"$f":"IF($J172=\"\",\"\",INDEX([1]ITS_DEV_MANUF_MODEL!$A$2:$E$1500,MATCH(1,([1]ITS_DEV_MANUF_MODEL!$E$2:$E$1500=\"WWD\")*([1]ITS_DEV_MANUF_MODEL!$D$2:$D$1500=$J172),0),3))","v":""}]
[null,null,null,null,null,null,null,null,null,null,{"$f":"IF($J173=\"\",\"\",INDEX([1]ITS_DEV_MANUF_MODEL!$A$2:$E$1500,MATCH(1,([1]ITS_DEV_MANUF_MODEL!$E$2:$E$1500=\"WWD\")*([1]ITS_DEV_MANUF_MODEL!$D$2:$D$1500=$J173),0),3))","v":""}]
[null,null,null,null,null,null,null,null,null,null,{"$f":"IF($J174=\"\",\"\",INDEX([1]ITS_DEV_MANUF_MODEL!$A$2:$E$1500,MATCH(1,([1]ITS_DEV_MANUF_MODEL!$E$2:$E$1500=\"WWD\")*([1]ITS_DEV_MANUF_MODEL!$D$2:$D$1500=$J174),0),3))","v":""}]
[null,null,null,null,null,null,null,null,null,null,{"$f":"IF($J175=\"\",\"\",INDEX([1]ITS_DEV_MANUF_MODEL!$A$2:$E$1500,MATCH(1,([1]ITS_DEV_MANUF_MODEL!$E$2:$E$1500=\"WWD\")*([1]ITS_DEV_MANUF_MODEL!$D$2:$D$1500=$J175),0),3))","v":""}]
[null,null,null,null,null,null,null,null,null,null,{"$f":"IF($J176=\"\",\"\",INDEX([1]ITS_DEV_MANUF_MODEL!$A$2:$E$1500,MATCH(1,([1]ITS_DEV_MANUF_MODEL!$E$2:$E$1500=\"WWD\")*([1]ITS_DEV_MANUF_MODEL!$D$2:$D$1500=$J176),0),3))","v":""}]
[null,null,null,null,null,null,null,null,null,null,{"$f":"IF($J177=\"\",\"\",INDEX([1]ITS_DEV_MANUF_MODEL!$A$2:$E$1500,MATCH(1,([1]ITS_DEV_MANUF_MODEL!$E$2:$E$1500=\"WWD\")*([1]ITS_DEV_MANUF_MODEL!$D$2:$D$1500=$J177),0),3))","v":""}]
[null,null,null,null,null,null,null,null,null,null,{"$f":"IF($J178=\"\",\"\",INDEX([1]ITS_DEV_MANUF_MODEL!$A$2:$E$1500,MATCH(1,([1]ITS_DEV_MANUF_MODEL!$E$2:$E$1500=\"WWD\")*([1]ITS_DEV_MANUF_MODEL!$D$2:$D$1500=$J178),0),3))","v":""}]
[null,null,null,null,null,null,null,null,null,null,{"$f":"IF($J179=\"\",\"\",INDEX([1]ITS_DEV_MANUF_MODEL!$A$2:$E$1500,MATCH(1,([1]ITS_DEV_MANUF_MODEL!$E$2:$E$1500=\"WWD\")*([1]ITS_DEV_MANUF_MODEL!$D$2:$D$1500=$J179),0),3))","v":""}]
[null,null,null,null,null,null,null,null,null,null,{"$f":"IF($J180=\"\",\"\",INDEX([1]ITS_DEV_MANUF_MODEL!$A$2:$E$1500,MATCH(1,([1]ITS_DEV_MANUF_MODEL!$E$2:$E$1500=\"WWD\")*([1]ITS_DEV_MANUF_MODEL!$D$2:$D$1500=$J180),0),3))","v":""}]
[null,null,null,null,null,null,null,null,null,null,{"$f":"IF($J181=\"\",\"\",INDEX([1]ITS_DEV_MANUF_MODEL!$A$2:$E$1500,MATCH(1,([1]ITS_DEV_MANUF_MODEL!$E$2:$E$1500=\"WWD\")*([1]ITS_DEV_MANUF_MODEL!$D$2:$D$1500=$J181),0),3))","v":""}]
[null,null,null,null,null,null,null,null,null,null,{"$f":"IF($J182=\"\",\"\",INDEX([1]ITS_DEV_MANUF_MODEL!$A$2:$E$1500,MATCH(1,([1]ITS_DEV_MANUF_MODEL!$E$2:$E$1500=\"WWD\")*([1]ITS_DEV_MANUF_MODEL!$D$2:$D$1500=$J182),0),3))","v":""}]
[null,null,null,null,null,null,null,null,null,null,{"$f":"IF($J183=\"\",\"\",INDEX([1]ITS_DEV_MANUF_MODEL!$A$2:$E$1500,MATCH(1,([1]ITS_DEV_MANUF_MODEL!$E$2:$E$1500=\"WWD\")*([1]ITS_DEV_MANUF_MODEL!$D$2:$D$1500=$J183),0),3))","v":""}]
[null,null,null,null,null,null,null,null,null,null,{"$f":"IF($J184=\"\",\"\",INDEX([1]ITS_DEV_MANUF_MODEL!$A$2:$E$1500,MATCH(1,([1]ITS_DEV_MANUF_MODEL!$E$2:$E$1500=\"WWD\")*([1]ITS_DEV_MANUF_MODEL!$D$2:$D$1500=$J184),0),3))","v":""}]
[null,null,null,null,null,null,null,null,null,null,{"$f":"IF($J185=\"\",\"\",INDEX([1]ITS_DEV_MANUF_MODEL!$A$2:$E$1500,MATCH(1,([1]ITS_DEV_MANUF_MODEL!$E$2:$E$1500=\"WWD\")*([1]ITS_DEV_MANUF_MODEL!$D$2:$D$1500=$J185),0),3))","v":""}]
[null,null,null,null,null,null,null,null,null,null,{"$f":"IF($J186=\"\",\"\",INDEX([1]ITS_DEV_MANUF_MODEL!$A$2:$E$1500,MATCH(1,([1]ITS_DEV_MANUF_MODEL!$E$2:$E$1500=\"WWD\")*([1]ITS_DEV_MANUF_MODEL!$D$2:$D$1500=$J186),0),3))","v":""}]
[null,null,null,null,null,null,null,null,null,null,{"$f":"IF($J187=\"\",\"\",INDEX([1]ITS_DEV_MANUF_MODEL!$A$2:$E$1500,MATCH(1,([1]ITS_DEV_MANUF_MODEL!$E$2:$E$1500=\"WWD\")*([1]ITS_DEV_MANUF_MODEL!$D$2:$D$1500=$J187),0),3))","v":""}]
[null,null,null,null,null,null,null,null,null,null,{"$f":"IF($J188=\"\",\"\",INDEX([1]ITS_DEV_MANUF_MODEL!$A$2:$E$1500,MATCH(1,([1]ITS_DEV_MANUF_MODEL!$E$2:$E$1500=\"WWD\")*([1]ITS_DEV_MANUF_MODEL!$D$2:$D$1500=$J188),0),3))","v":""}]
[null,null,null,null,null,null,null,null,null,null,{"$f":"IF($J189=\"\",\"\",INDEX([1]ITS_DEV_MANUF_MODEL!$A$2:$E$1500,MATCH(1,([1]ITS_DEV_MANUF_MODEL!$E$2:$E$1500=\"WWD\")*([1]ITS_DEV_MANUF_MODEL!$D$2:$D$1500=$J189),0),3))","v":""}]
[null,null,null,null,null,null,null,null,null,null,{"$f":"IF($J190=\"\",\"\",INDEX([1]ITS_DEV_MANUF_MODEL!$A$2:$E$1500,MATCH(1,([1]ITS_DEV_MANUF_MODEL!$E$2:$E$1500=\"WWD\")*([1]ITS_DEV_MANUF_MODEL!$D$2:$D$1500=$J190),0),3))","v":""}]
[null,null,null,null,null,null,null,null,null,null,{"$f":"IF($J191=\"\",\"\",INDEX([1]ITS_DEV_MANUF_MODEL!$A$2:$E$1500,MATCH(1,([1]ITS_DEV_MANUF_MODEL!$E$2:$E$1500=\"WWD\")*([1]ITS_DEV_MANUF_MODEL!$D$2:$D$1500=$J191),0),3))","v":""}]
[null,null,null,null,null,null,null,null,null,null,{"$f":"IF($J192=\"\",\"\",INDEX([1]ITS_DEV_MANUF_MODEL!$A$2:$E$1500,MATCH(1,([1]ITS_DEV_MANUF_MODEL!$E$2:$E$1500=\"WWD\")*([1]ITS_DEV_MANUF_MODEL!$D$2:$D$1500=$J192),0),3))","v":""}]
[null,null,null,null,null,null,null,null,null,null,{"$f":"IF($J193=\"\",\"\",INDEX([1]ITS_DEV_MANUF_MODEL!$A$2:$E$1500,MATCH(1,([1]ITS_DEV_MANUF_MODEL!$E$2:$E$1500=\"WWD\")*([1]ITS_DEV_MANUF_MODEL!$D$2:$D$1500=$J193),0),3))","v":""}]
[null,null,null,null,null,null,null,null,null,null,{"$f":"IF($J194=\"\",\"\",INDEX([1]ITS_DEV_MANUF_MODEL!$A$2:$E$1500,MATCH(1,([1]ITS_DEV_MANUF_MODEL!$E$2:$E$1500=\"WWD\")*([1]ITS_DEV_MANUF_MODEL!$D$2:$D$1500=$J194),0),3))","v":""}]
[null,null,null,null,null,null,null,null,null,null,{"$f":"IF($J195=\"\",\"\",INDEX([1]ITS_DEV_MANUF_MODEL!$A$2:$E$1500,MATCH(1,([1]ITS_DEV_MANUF_MODEL!$E$2:$E$1500=\"WWD\")*([1]ITS_DEV_MANUF_MODEL!$D$2:$D$1500=$J195),0),3))","v":""}]
[null,null,null,null,null,null,null,null,null,null,{"$f":"IF($J196=\"\",\"\",INDEX([1]ITS_DEV_MANUF_MODEL!$A$2:$E$1500,MATCH(1,([1]ITS_DEV_MANUF_MODEL!$E$2:$E$1500=\"WWD\")*([1]ITS_DEV_MANUF_MODEL!$D$2:$D$1500=$J196),0),3))","v":""}]
[null,null,null,null,null,null,null,null,null,null,{"$f":"IF($J197=\"\",\"\",INDEX([1]ITS_DEV_MANUF_MODEL!$A$2:$E$1500,MATCH(1,([1]ITS_DEV_MANUF_MODEL!$E$2:$E$1500=\"WWD\")*([1]ITS_DEV_MANUF_MODEL!$D$2:$D$1500=$J197),0),3))","v":""}]
[null,null,null,null,null,null,null,null,null,null,{"$f":"IF($J198=\"\",\"\",INDEX([1]ITS_DEV_MANUF_MODEL!$A$2:$E$1500,MATCH(1,([1]ITS_DEV_MANUF_MODEL!$E$2:$E$1500=\"WWD\")*([1]ITS_DEV_MANUF_MODEL!$D$2:$D$1500=$J198),0),3))","v":""}]
[null,null,null,null,null,null,null,null,null,null,{"$f":"IF($J199=\"\",\"\",INDEX([1]ITS_DEV_MANUF_MODEL!$A$2:$E$1500,MATCH(1,([1]ITS_DEV_MANUF_MODEL!$E$2:$E$1500=\"WWD\")*([1]ITS_DEV_MANUF_MODEL!$D$2:$D$1500=$J199),0),3))","v":""}]
[null,null,null,null,null,null,null,null,null,null,{"$f":"IF($J200=\"\",\"\",INDEX([1]ITS_DEV_MANUF_MODEL!$A$2:$E$1500,MATCH(1,([1]ITS_DEV_MANUF_MODEL!$E$2:$E$1500=\"WWD\")*([1]ITS_DEV_MANUF_MODEL!$D$2:$D$1500=$J200),0),3))","v":""}]
[null,null,null,null,null,null,null,null,null,null,{"$f":"IF($J201=\"\",\"\",INDEX([1]ITS_DEV_MANUF_MODEL!$A$2:$E$1500,MATCH(1,([1]ITS_DEV_MANUF_MODEL!$E$2:$E$1500=\"WWD\")*([1]ITS_DEV_MANUF_MODEL!$D$2:$D$1500=$J201),0),3))","v":""}]
[null,null,null,null,null,null,null,null,null,null,{"$f":"IF($J202=\"\",\"\",INDEX([1]ITS_DEV_MANUF_MODEL!$A$2:$E$1500,MATCH(1,([1]ITS_DEV_MANUF_MODEL!$E$2:$E$1500=\"WWD\")*([1]ITS_DEV_MANUF_MODEL!$D$2:$D$1500=$J202),0),3))","v":""}]

{"sheet":"WWVDS (Code)","index":2,"n_rows":201,"n_cols":16,"rows_kept":201,"cut":false,"hidden":false,"merged":[]}
["DEVICE ID FOR UPDATE","SITE_NO         REQUIRED FIELD","PRIM GEOM Y REQUIRED FIELD","PRIM GEOM X REQUIRED FIELD","OWNER_CD REQUIRED FIELD","COUNTY_CD REQUIRED FIELD","INSTALLED_DATE","NAME    REQUIRED FIELD","WWVDS_TYPE_CD","ITS_DEV_MANUF_CD  REQUIRED FIELD","ITS_DEV_MODEL_CD REQUIRED FIELD","SERIAL_NUMBER","IP_ADDRESS","MAC_ADDRESS","FIRMWARE_VERSION","COMMENTS"]
[{"$f":"IF('WWVDS (Desc)'!A3=\"\",\"\",'WWVDS (Desc)'!A3)","v":""},{"$f":"IF('WWVDS (Desc)'!B3=\"\",\"\",'WWVDS (Desc)'!B3)","v":""},{"$f":"IF('WWVDS (Desc)'!C3=\"\",\"\",'WWVDS (Desc)'!C3)","v":""},{"$f":"IF('WWVDS (Desc)'!D3=\"\",\"\",'WWVDS (Desc)'!D3)","v":""},{"$f":"IF('WWVDS (Desc)'!E3=\"\",\"\",INDEX([1]OWNER!$A$2:$A$100,MATCH('WWVDS (Desc)'!$E3,[1]!MASTER_OWNER_DESC[#Data],0),0))","v":""},{"$f":"IF('WWVDS (Desc)'!F3=\"\",\"\",INDEX([1]COUNTY!$A$2:$A$80,MATCH('WWVDS (Desc)'!F3,[1]!MASTER_COUNTY_NAME[#Data],0),0))","v":""},{"$f":"IF('WWVDS (Desc)'!G3=\"\",\"\",'WWVDS (Desc)'!G3)","v":""},{"$f":"IF('WWVDS (Desc)'!H3=\"\",\"\",'WWVDS (Desc)'!H3)","v":""},{"$f":"IF('WWVDS (Desc)'!I3=\"\",\"\",INDEX([1]WWVDS_TYPE!$A$2:$A$4,MATCH('WWVDS (Desc)'!$I3,[1]!MASTER_WWVDS_TYPE_DESC[#Data],0),0))","v":""},{"$f":"IF('WWVDS (Desc)'!$J3=\"\",\"\",INDEX([1]ITS_DEV_MANUF_MODEL!$A$2:$E$1500,MATCH(1,([1]ITS_DEV_MANUF_MODEL!$E$2:$E$1500=\"WWD\")*([1]ITS_DEV_MANUF_MODEL!$D$2:$D$1500='WWVDS (Desc)'!$J3),0),1))","v":""},{"$f":"IF('WWVDS (Desc)'!$J3=\"\",\"\",INDEX([1]ITS_DEV_MANUF_MODEL!$A$2:$E$1500,MATCH(1,([1]ITS_DEV_MANUF_MODEL!$E$2:$E$1500=\"WWD\")*([1]ITS_DEV_MANUF_MODEL!$D$2:$D$1500='WWVDS (Desc)'!$J3),0),2))","v":""},{"$f":"IF('WWVDS (Desc)'!L3=\"\",\"\",'WWVDS (Desc)'!L3)","v":""},{"$f":"IF('WWVDS (Desc)'!M3=\"\",\"\",'WWVDS (Desc)'!M3)","v":""},{"$f":"IF('WWVDS (Desc)'!N3=\"\",\"\",'WWVDS (Desc)'!N3)","v":""},{"$f":"IF('WWVDS (Desc)'!O3=\"\",\"\",'WWVDS (Desc)'!O3)","v":""},{"$f":"IF('WWVDS (Desc)'!P3=\"\",\"\",'WWVDS (Desc)'!P3)","v":""}]
[{"$f":"IF('WWVDS (Desc)'!A4=\"\",\"\",'WWVDS (Desc)'!A4)","v":""},{"$f":"IF('WWVDS (Desc)'!B4=\"\",\"\",'WWVDS (Desc)'!B4)","v":""},{"$f":"IF('WWVDS (Desc)'!C4=\"\",\"\",'WWVDS (Desc)'!C4)","v":""},{"$f":"IF('WWVDS (Desc)'!D4=\"\",\"\",'WWVDS (Desc)'!D4)","v":""},{"$f":"IF('WWVDS (Desc)'!E4=\"\",\"\",INDEX([1]OWNER!$A$2:$A$100,MATCH('WWVDS (Desc)'!$E4,[1]!MASTER_OWNER_DESC[#Data],0),0))","v":""},{"$f":"IF('WWVDS (Desc)'!F4=\"\",\"\",INDEX([1]COUNTY!$A$2:$A$80,MATCH('WWVDS (Desc)'!F4,[1]!MASTER_COUNTY_NAME[#Data],0),0))","v":""},{"$f":"IF('WWVDS (Desc)'!G4=\"\",\"\",'WWVDS (Desc)'!G4)","v":""},{"$f":"IF('WWVDS (Desc)'!H4=\"\",\"\",'WWVDS (Desc)'!H4)","v":""},{"$f":"IF('WWVDS (Desc)'!I4=\"\",\"\",INDEX([1]WWVDS_TYPE!$A$2:$A$4,MATCH('WWVDS (Desc)'!$I4,[1]!MASTER_WWVDS_TYPE_DESC[#Data],0),0))","v":""},{"$f":"IF('WWVDS (Desc)'!$J4=\"\",\"\",INDEX([1]ITS_DEV_MANUF_MODEL!$A$2:$E$1500,MATCH(1,([1]ITS_DEV_MANUF_MODEL!$E$2:$E$1500=\"WWD\")*([1]ITS_DEV_MANUF_MODEL!$D$2:$D$1500='WWVDS (Desc)'!$J4),0),1))","v":""},{"$f":"IF('WWVDS (Desc)'!$J4=\"\",\"\",INDEX([1]ITS_DEV_MANUF_MODEL!$A$2:$E$1500,MATCH(1,([1]ITS_DEV_MANUF_MODEL!$E$2:$E$1500=\"WWD\")*([1]ITS_DEV_MANUF_MODEL!$D$2:$D$1500='WWVDS (Desc)'!$J4),0),2))","v":""},{"$f":"IF('WWVDS (Desc)'!L4=\"\",\"\",'WWVDS (Desc)'!L4)","v":""},{"$f":"IF('WWVDS (Desc)'!M4=\"\",\"\",'WWVDS (Desc)'!M4)","v":""},{"$f":"IF('WWVDS (Desc)'!N4=\"\",\"\",'WWVDS (Desc)'!N4)","v":""},{"$f":"IF('WWVDS (Desc)'!O4=\"\",\"\",'WWVDS (Desc)'!O4)","v":""},{"$f":"IF('WWVDS (Desc)'!P4=\"\",\"\",'WWVDS (Desc)'!P4)","v":""}]
[{"$f":"IF('WWVDS (Desc)'!A5=\"\",\"\",'WWVDS (Desc)'!A5)","v":""},{"$f":"IF('WWVDS (Desc)'!B5=\"\",\"\",'WWVDS (Desc)'!B5)","v":""},{"$f":"IF('WWVDS (Desc)'!C5=\"\",\"\",'WWVDS (Desc)'!C5)","v":""},{"$f":"IF('WWVDS (Desc)'!D5=\"\",\"\",'WWVDS (Desc)'!D5)","v":""},{"$f":"IF('WWVDS (Desc)'!E5=\"\",\"\",INDEX([1]OWNER!$A$2:$A$100,MATCH('WWVDS (Desc)'!$E5,[1]!MASTER_OWNER_DESC[#Data],0),0))","v":""},{"$f":"IF('WWVDS (Desc)'!F5=\"\",\"\",INDEX([1]COUNTY!$A$2:$A$80,MATCH('WWVDS (Desc)'!F5,[1]!MASTER_COUNTY_NAME[#Data],0),0))","v":""},{"$f":"IF('WWVDS (Desc)'!G5=\"\",\"\",'WWVDS (Desc)'!G5)","v":""},{"$f":"IF('WWVDS (Desc)'!H5=\"\",\"\",'WWVDS (Desc)'!H5)","v":""},{"$f":"IF('WWVDS (Desc)'!I5=\"\",\"\",INDEX([1]WWVDS_TYPE!$A$2:$A$4,MATCH('WWVDS (Desc)'!$I5,[1]!MASTER_WWVDS_TYPE_DESC[#Data],0),0))","v":""},{"$f":"IF('WWVDS (Desc)'!$J5=\"\",\"\",INDEX([1]ITS_DEV_MANUF_MODEL!$A$2:$E$1500,MATCH(1,([1]ITS_DEV_MANUF_MODEL!$E$2:$E$1500=\"WWD\")*([1]ITS_DEV_MANUF_MODEL!$D$2:$D$1500='WWVDS (Desc)'!$J5),0),1))","v":""},{"$f":"IF('WWVDS (Desc)'!$J5=\"\",\"\",INDEX([1]ITS_DEV_MANUF_MODEL!$A$2:$E$1500,MATCH(1,([1]ITS_DEV_MANUF_MODEL!$E$2:$E$1500=\"WWD\")*([1]ITS_DEV_MANUF_MODEL!$D$2:$D$1500='WWVDS (Desc)'!$J5),0),2))","v":""},{"$f":"IF('WWVDS (Desc)'!L5=\"\",\"\",'WWVDS (Desc)'!L5)","v":""},{"$f":"IF('WWVDS (Desc)'!M5=\"\",\"\",'WWVDS (Desc)'!M5)","v":""},{"$f":"IF('WWVDS (Desc)'!N5=\"\",\"\",'WWVDS (Desc)'!N5)","v":""},{"$f":"IF('WWVDS (Desc)'!O5=\"\",\"\",'WWVDS (Desc)'!O5)","v":""},{"$f":"IF('WWVDS (Desc)'!P5=\"\",\"\",'WWVDS (Desc)'!P5)","v":""}]
[{"$f":"IF('WWVDS (Desc)'!A6=\"\",\"\",'WWVDS (Desc)'!A6)","v":""},{"$f":"IF('WWVDS (Desc)'!B6=\"\",\"\",'WWVDS (Desc)'!B6)","v":""},{"$f":"IF('WWVDS (Desc)'!C6=\"\",\"\",'WWVDS (Desc)'!C6)","v":""},{"$f":"IF('WWVDS (Desc)'!D6=\"\",\"\",'WWVDS (Desc)'!D6)","v":""},{"$f":"IF('WWVDS (Desc)'!E6=\"\",\"\",INDEX([1]OWNER!$A$2:$A$100,MATCH('WWVDS (Desc)'!$E6,[1]!MASTER_OWNER_DESC[#Data],0),0))","v":""},{"$f":"IF('WWVDS (Desc)'!F6=\"\",\"\",INDEX([1]COUNTY!$A$2:$A$80,MATCH('WWVDS (Desc)'!F6,[1]!MASTER_COUNTY_NAME[#Data],0),0))","v":""},{"$f":"IF('WWVDS (Desc)'!G6=\"\",\"\",'WWVDS (Desc)'!G6)","v":""},{"$f":"IF('WWVDS (Desc)'!H6=\"\",\"\",'WWVDS (Desc)'!H6)","v":""},{"$f":"IF('WWVDS (Desc)'!I6=\"\",\"\",INDEX([1]WWVDS_TYPE!$A$2:$A$4,MATCH('WWVDS (Desc)'!$I6,[1]!MASTER_WWVDS_TYPE_DESC[#Data],0),0))","v":""},{"$f":"IF('WWVDS (Desc)'!$J6=\"\",\"\",INDEX([1]ITS_DEV_MANUF_MODEL!$A$2:$E$1500,MATCH(1,([1]ITS_DEV_MANUF_MODEL!$E$2:$E$1500=\"WWD\")*([1]ITS_DEV_MANUF_MODEL!$D$2:$D$1500='WWVDS (Desc)'!$J6),0),1))","v":""},{"$f":"IF('WWVDS (Desc)'!$J6=\"\",\"\",INDEX([1]ITS_DEV_MANUF_MODEL!$A$2:$E$1500,MATCH(1,([1]ITS_DEV_MANUF_MODEL!$E$2:$E$1500=\"WWD\")*([1]ITS_DEV_MANUF_MODEL!$D$2:$D$1500='WWVDS (Desc)'!$J6),0),2))","v":""},{"$f":"IF('WWVDS (Desc)'!L6=\"\",\"\",'WWVDS (Desc)'!L6)","v":""},{"$f":"IF('WWVDS (Desc)'!M6=\"\",\"\",'WWVDS (Desc)'!M6)","v":""},{"$f":"IF('WWVDS (Desc)'!N6=\"\",\"\",'WWVDS (Desc)'!N6)","v":""},{"$f":"IF('WWVDS (Desc)'!O6=\"\",\"\",'WWVDS (Desc)'!O6)","v":""},{"$f":"IF('WWVDS (Desc)'!P6=\"\",\"\",'WWVDS (Desc)'!P6)","v":""}]
[{"$f":"IF('WWVDS (Desc)'!A7=\"\",\"\",'WWVDS (Desc)'!A7)","v":""},{"$f":"IF('WWVDS (Desc)'!B7=\"\",\"\",'WWVDS (Desc)'!B7)","v":""},{"$f":"IF('WWVDS (Desc)'!C7=\"\",\"\",'WWVDS (Desc)'!C7)","v":""},{"$f":"IF('WWVDS (Desc)'!D7=\"\",\"\",'WWVDS (Desc)'!D7)","v":""},{"$f":"IF('WWVDS (Desc)'!E7=\"\",\"\",INDEX([1]OWNER!$A$2:$A$100,MATCH('WWVDS (Desc)'!$E7,[1]!MASTER_OWNER_DESC[#Data],0),0))","v":""},{"$f":"IF('WWVDS (Desc)'!F7=\"\",\"\",INDEX([1]COUNTY!$A$2:$A$80,MATCH('WWVDS (Desc)'!F7,[1]!MASTER_COUNTY_NAME[#Data],0),0))","v":""},{"$f":"IF('WWVDS (Desc)'!G7=\"\",\"\",'WWVDS (Desc)'!G7)","v":""},{"$f":"IF('WWVDS (Desc)'!H7=\"\",\"\",'WWVDS (Desc)'!H7)","v":""},{"$f":"IF('WWVDS (Desc)'!I7=\"\",\"\",INDEX([1]WWVDS_TYPE!$A$2:$A$4,MATCH('WWVDS (Desc)'!$I7,[1]!MASTER_WWVDS_TYPE_DESC[#Data],0),0))","v":""},{"$f":"IF('WWVDS (Desc)'!$J7=\"\",\"\",INDEX([1]ITS_DEV_MANUF_MODEL!$A$2:$E$1500,MATCH(1,([1]ITS_DEV_MANUF_MODEL!$E$2:$E$1500=\"WWD\")*([1]ITS_DEV_MANUF_MODEL!$D$2:$D$1500='WWVDS (Desc)'!$J7),0),1))","v":""},{"$f":"IF('WWVDS (Desc)'!$J7=\"\",\"\",INDEX([1]ITS_DEV_MANUF_MODEL!$A$2:$E$1500,MATCH(1,([1]ITS_DEV_MANUF_MODEL!$E$2:$E$1500=\"WWD\")*([1]ITS_DEV_MANUF_MODEL!$D$2:$D$1500='WWVDS (Desc)'!$J7),0),2))","v":""},{"$f":"IF('WWVDS (Desc)'!L7=\"\",\"\",'WWVDS (Desc)'!L7)","v":""},{"$f":"IF('WWVDS (Desc)'!M7=\"\",\"\",'WWVDS (Desc)'!M7)","v":""},{"$f":"IF('WWVDS (Desc)'!N7=\"\",\"\",'WWVDS (Desc)'!N7)","v":""},{"$f":"IF('WWVDS (Desc)'!O7=\"\",\"\",'WWVDS (Desc)'!O7)","v":""},{"$f":"IF('WWVDS (Desc)'!P7=\"\",\"\",'WWVDS (Desc)'!P7)","v":""}]
[{"$f":"IF('WWVDS (Desc)'!A8=\"\",\"\",'WWVDS (Desc)'!A8)","v":""},{"$f":"IF('WWVDS (Desc)'!B8=\"\",\"\",'WWVDS (Desc)'!B8)","v":""},{"$f":"IF('WWVDS (Desc)'!C8=\"\",\"\",'WWVDS (Desc)'!C8)","v":""},{"$f":"IF('WWVDS (Desc)'!D8=\"\",\"\",'WWVDS (Desc)'!D8)","v":""},{"$f":"IF('WWVDS (Desc)'!E8=\"\",\"\",INDEX([1]OWNER!$A$2:$A$100,MATCH('WWVDS (Desc)'!$E8,[1]!MASTER_OWNER_DESC[#Data],0),0))","v":""},{"$f":"IF('WWVDS (Desc)'!F8=\"\",\"\",INDEX([1]COUNTY!$A$2:$A$80,MATCH('WWVDS (Desc)'!F8,[1]!MASTER_COUNTY_NAME[#Data],0),0))","v":""},{"$f":"IF('WWVDS (Desc)'!G8=\"\",\"\",'WWVDS (Desc)'!G8)","v":""},{"$f":"IF('WWVDS (Desc)'!H8=\"\",\"\",'WWVDS (Desc)'!H8)","v":""},{"$f":"IF('WWVDS (Desc)'!I8=\"\",\"\",INDEX([1]WWVDS_TYPE!$A$2:$A$4,MATCH('WWVDS (Desc)'!$I8,[1]!MASTER_WWVDS_TYPE_DESC[#Data],0),0))","v":""},{"$f":"IF('WWVDS (Desc)'!$J8=\"\",\"\",INDEX([1]ITS_DEV_MANUF_MODEL!$A$2:$E$1500,MATCH(1,([1]ITS_DEV_MANUF_MODEL!$E$2:$E$1500=\"WWD\")*([1]ITS_DEV_MANUF_MODEL!$D$2:$D$1500='WWVDS (Desc)'!$J8),0),1))","v":""},{"$f":"IF('WWVDS (Desc)'!$J8=\"\",\"\",INDEX([1]ITS_DEV_MANUF_MODEL!$A$2:$E$1500,MATCH(1,([1]ITS_DEV_MANUF_MODEL!$E$2:$E$1500=\"WWD\")*([1]ITS_DEV_MANUF_MODEL!$D$2:$D$1500='WWVDS (Desc)'!$J8),0),2))","v":""},{"$f":"IF('WWVDS (Desc)'!L8=\"\",\"\",'WWVDS (Desc)'!L8)","v":""},{"$f":"IF('WWVDS (Desc)'!M8=\"\",\"\",'WWVDS (Desc)'!M8)","v":""},{"$f":"IF('WWVDS (Desc)'!N8=\"\",\"\",'WWVDS (Desc)'!N8)","v":""},{"$f":"IF('WWVDS (Desc)'!O8=\"\",\"\",'WWVDS (Desc)'!O8)","v":""},{"$f":"IF('WWVDS (Desc)'!P8=\"\",\"\",'WWVDS (Desc)'!P8)","v":""}]
[{"$f":"IF('WWVDS (Desc)'!A9=\"\",\"\",'WWVDS (Desc)'!A9)","v":""},{"$f":"IF('WWVDS (Desc)'!B9=\"\",\"\",'WWVDS (Desc)'!B9)","v":""},{"$f":"IF('WWVDS (Desc)'!C9=\"\",\"\",'WWVDS (Desc)'!C9)","v":""},{"$f":"IF('WWVDS (Desc)'!D9=\"\",\"\",'WWVDS (Desc)'!D9)","v":""},{"$f":"IF('WWVDS (Desc)'!E9=\"\",\"\",INDEX([1]OWNER!$A$2:$A$100,MATCH('WWVDS (Desc)'!$E9,[1]!MASTER_OWNER_DESC[#Data],0),0))","v":""},{"$f":"IF('WWVDS (Desc)'!F9=\"\",\"\",INDEX([1]COUNTY!$A$2:$A$80,MATCH('WWVDS (Desc)'!F9,[1]!MASTER_COUNTY_NAME[#Data],0),0))","v":""},{"$f":"IF('WWVDS (Desc)'!G9=\"\",\"\",'WWVDS (Desc)'!G9)","v":""},{"$f":"IF('WWVDS (Desc)'!H9=\"\",\"\",'WWVDS (Desc)'!H9)","v":""},{"$f":"IF('WWVDS (Desc)'!I9=\"\",\"\",INDEX([1]WWVDS_TYPE!$A$2:$A$4,MATCH('WWVDS (Desc)'!$I9,[1]!MASTER_WWVDS_TYPE_DESC[#Data],0),0))","v":""},{"$f":"IF('WWVDS (Desc)'!$J9=\"\",\"\",INDEX([1]ITS_DEV_MANUF_MODEL!$A$2:$E$1500,MATCH(1,([1]ITS_DEV_MANUF_MODEL!$E$2:$E$1500=\"WWD\")*([1]ITS_DEV_MANUF_MODEL!$D$2:$D$1500='WWVDS (Desc)'!$J9),0),1))","v":""},{"$f":"IF('WWVDS (Desc)'!$J9=\"\",\"\",INDEX([1]ITS_DEV_MANUF_MODEL!$A$2:$E$1500,MATCH(1,([1]ITS_DEV_MANUF_MODEL!$E$2:$E$1500=\"WWD\")*([1]ITS_DEV_MANUF_MODEL!$D$2:$D$1500='WWVDS (Desc)'!$J9),0),2))","v":""},{"$f":"IF('WWVDS (Desc)'!L9=\"\",\"\",'WWVDS (Desc)'!L9)","v":""},{"$f":"IF('WWVDS (Desc)'!M9=\"\",\"\",'WWVDS (Desc)'!M9)","v":""},{"$f":"IF('WWVDS (Desc)'!N9=\"\",\"\",'WWVDS (Desc)'!N9)","v":""},{"$f":"IF('WWVDS (Desc)'!O9=\"\",\"\",'WWVDS (Desc)'!O9)","v":""},{"$f":"IF('WWVDS (Desc)'!P9=\"\",\"\",'WWVDS (Desc)'!P9)","v":""}]
[{"$f":"IF('WWVDS (Desc)'!A10=\"\",\"\",'WWVDS (Desc)'!A10)","v":""},{"$f":"IF('WWVDS (Desc)'!B10=\"\",\"\",'WWVDS (Desc)'!B10)","v":""},{"$f":"IF('WWVDS (Desc)'!C10=\"\",\"\",'WWVDS (Desc)'!C10)","v":""},{"$f":"IF('WWVDS (Desc)'!D10=\"\",\"\",'WWVDS (Desc)'!D10)","v":""},{"$f":"IF('WWVDS (Desc)'!E10=\"\",\"\",INDEX([1]OWNER!$A$2:$A$100,MATCH('WWVDS (Desc)'!$E10,[1]!MASTER_OWNER_DESC[#Data],0),0))","v":""},{"$f":"IF('WWVDS (Desc)'!F10=\"\",\"\",INDEX([1]COUNTY!$A$2:$A$80,MATCH('WWVDS (Desc)'!F10,[1]!MASTER_COUNTY_NAME[#Data],0),0))","v":""},{"$f":"IF('WWVDS (Desc)'!G10=\"\",\"\",'WWVDS (Desc)'!G10)","v":""},{"$f":"IF('WWVDS (Desc)'!H10=\"\",\"\",'WWVDS (Desc)'!H10)","v":""},{"$f":"IF('WWVDS (Desc)'!I10=\"\",\"\",INDEX([1]WWVDS_TYPE!$A$2:$A$4,MATCH('WWVDS (Desc)'!$I10,[1]!MASTER_WWVDS_TYPE_DESC[#Data],0),0))","v":""},{"$f":"IF('WWVDS (Desc)'!$J10=\"\",\"\",INDEX([1]ITS_DEV_MANUF_MODEL!$A$2:$E$1500,MATCH(1,([1]ITS_DEV_MANUF_MODEL!$E$2:$E$1500=\"WWD\")*([1]ITS_DEV_MANUF_MODEL!$D$2:$D$1500='WWVDS (Desc)'!$J10),0),1))","v":""},{"$f":"IF('WWVDS (Desc)'!$J10=\"\",\"\",INDEX([1]ITS_DEV_MANUF_MODEL!$A$2:$E$1500,MATCH(1,([1]ITS_DEV_MANUF_MODEL!$E$2:$E$1500=\"WWD\")*([1]ITS_DEV_MANUF_MODEL!$D$2:$D$1500='WWVDS (Desc)'!$J10),0),2))","v":""},{"$f":"IF('WWVDS (Desc)'!L10=\"\",\"\",'WWVDS (Desc)'!L10)","v":""},{"$f":"IF('WWVDS (Desc)'!M10=\"\",\"\",'WWVDS (Desc)'!M10)","v":""},{"$f":"IF('WWVDS (Desc)'!N10=\"\",\"\",'WWVDS (Desc)'!N10)","v":""},{"$f":"IF('WWVDS (Desc)'!O10=\"\",\"\",'WWVDS (Desc)'!O10)","v":""},{"$f":"IF('WWVDS (Desc)'!P10=\"\",\"\",'WWVDS (Desc)'!P10)","v":""}]
[{"$f":"IF('WWVDS (Desc)'!A11=\"\",\"\",'WWVDS (Desc)'!A11)","v":""},{"$f":"IF('WWVDS (Desc)'!B11=\"\",\"\",'WWVDS (Desc)'!B11)","v":""},{"$f":"IF('WWVDS (Desc)'!C11=\"\",\"\",'WWVDS (Desc)'!C11)","v":""},{"$f":"IF('WWVDS (Desc)'!D11=\"\",\"\",'WWVDS (Desc)'!D11)","v":""},{"$f":"IF('WWVDS (Desc)'!E11=\"\",\"\",INDEX([1]OWNER!$A$2:$A$100,MATCH('WWVDS (Desc)'!$E11,[1]!MASTER_OWNER_DESC[#Data],0),0))","v":""},{"$f":"IF('WWVDS (Desc)'!F11=\"\",\"\",INDEX([1]COUNTY!$A$2:$A$80,MATCH('WWVDS (Desc)'!F11,[1]!MASTER_COUNTY_NAME[#Data],0),0))","v":""},{"$f":"IF('WWVDS (Desc)'!G11=\"\",\"\",'WWVDS (Desc)'!G11)","v":""},{"$f":"IF('WWVDS (Desc)'!H11=\"\",\"\",'WWVDS (Desc)'!H11)","v":""},{"$f":"IF('WWVDS (Desc)'!I11=\"\",\"\",INDEX([1]WWVDS_TYPE!$A$2:$A$4,MATCH('WWVDS (Desc)'!$I11,[1]!MASTER_WWVDS_TYPE_DESC[#Data],0),0))","v":""},{"$f":"IF('WWVDS (Desc)'!$J11=\"\",\"\",INDEX([1]ITS_DEV_MANUF_MODEL!$A$2:$E$1500,MATCH(1,([1]ITS_DEV_MANUF_MODEL!$E$2:$E$1500=\"WWD\")*([1]ITS_DEV_MANUF_MODEL!$D$2:$D$1500='WWVDS (Desc)'!$J11),0),1))","v":""},{"$f":"IF('WWVDS (Desc)'!$J11=\"\",\"\",INDEX([1]ITS_DEV_MANUF_MODEL!$A$2:$E$1500,MATCH(1,([1]ITS_DEV_MANUF_MODEL!$E$2:$E$1500=\"WWD\")*([1]ITS_DEV_MANUF_MODEL!$D$2:$D$1500='WWVDS (Desc)'!$J11),0),2))","v":""},{"$f":"IF('WWVDS (Desc)'!L11=\"\",\"\",'WWVDS (Desc)'!L11)","v":""},{"$f":"IF('WWVDS (Desc)'!M11=\"\",\"\",'WWVDS (Desc)'!M11)","v":""},{"$f":"IF('WWVDS (Desc)'!N11=\"\",\"\",'WWVDS (Desc)'!N11)","v":""},{"$f":"IF('WWVDS (Desc)'!O11=\"\",\"\",'WWVDS (Desc)'!O11)","v":""},{"$f":"IF('WWVDS (Desc)'!P11=\"\",\"\",'WWVDS (Desc)'!P11)","v":""}]
[{"$f":"IF('WWVDS (Desc)'!A12=\"\",\"\",'WWVDS (Desc)'!A12)","v":""},{"$f":"IF('WWVDS (Desc)'!B12=\"\",\"\",'WWVDS (Desc)'!B12)","v":""},{"$f":"IF('WWVDS (Desc)'!C12=\"\",\"\",'WWVDS (Desc)'!C12)","v":""},{"$f":"IF('WWVDS (Desc)'!D12=\"\",\"\",'WWVDS (Desc)'!D12)","v":""},{"$f":"IF('WWVDS (Desc)'!E12=\"\",\"\",INDEX([1]OWNER!$A$2:$A$100,MATCH('WWVDS (Desc)'!$E12,[1]!MASTER_OWNER_DESC[#Data],0),0))","v":""},{"$f":"IF('WWVDS (Desc)'!F12=\"\",\"\",INDEX([1]COUNTY!$A$2:$A$80,MATCH('WWVDS (Desc)'!F12,[1]!MASTER_COUNTY_NAME[#Data],0),0))","v":""},{"$f":"IF('WWVDS (Desc)'!G12=\"\",\"\",'WWVDS (Desc)'!G12)","v":""},{"$f":"IF('WWVDS (Desc)'!H12=\"\",\"\",'WWVDS (Desc)'!H12)","v":""},{"$f":"IF('WWVDS (Desc)'!I12=\"\",\"\",INDEX([1]WWVDS_TYPE!$A$2:$A$4,MATCH('WWVDS (Desc)'!$I12,[1]!MASTER_WWVDS_TYPE_DESC[#Data],0),0))","v":""},{"$f":"IF('WWVDS (Desc)'!$J12=\"\",\"\",INDEX([1]ITS_DEV_MANUF_MODEL!$A$2:$E$1500,MATCH(1,([1]ITS_DEV_MANUF_MODEL!$E$2:$E$1500=\"WWD\")*([1]ITS_DEV_MANUF_MODEL!$D$2:$D$1500='WWVDS (Desc)'!$J12),0),1))","v":""},{"$f":"IF('WWVDS (Desc)'!$J12=\"\",\"\",INDEX([1]ITS_DEV_MANUF_MODEL!$A$2:$E$1500,MATCH(1,([1]ITS_DEV_MANUF_MODEL!$E$2:$E$1500=\"WWD\")*([1]ITS_DEV_MANUF_MODEL!$D$2:$D$1500='WWVDS (Desc)'!$J12),0),2))","v":""},{"$f":"IF('WWVDS (Desc)'!L12=\"\",\"\",'WWVDS (Desc)'!L12)","v":""},{"$f":"IF('WWVDS (Desc)'!M12=\"\",\"\",'WWVDS (Desc)'!M12)","v":""},{"$f":"IF('WWVDS (Desc)'!N12=\"\",\"\",'WWVDS (Desc)'!N12)","v":""},{"$f":"IF('WWVDS (Desc)'!O12=\"\",\"\",'WWVDS (Desc)'!O12)","v":""},{"$f":"IF('WWVDS (Desc)'!P12=\"\",\"\",'WWVDS (Desc)'!P12)","v":""}]
[{"$f":"IF('WWVDS (Desc)'!A13=\"\",\"\",'WWVDS (Desc)'!A13)","v":""},{"$f":"IF('WWVDS (Desc)'!B13=\"\",\"\",'WWVDS (Desc)'!B13)","v":""},{"$f":"IF('WWVDS (Desc)'!C13=\"\",\"\",'WWVDS (Desc)'!C13)","v":""},{"$f":"IF('WWVDS (Desc)'!D13=\"\",\"\",'WWVDS (Desc)'!D13)","v":""},{"$f":"IF('WWVDS (Desc)'!E13=\"\",\"\",INDEX([1]OWNER!$A$2:$A$100,MATCH('WWVDS (Desc)'!$E13,[1]!MASTER_OWNER_DESC[#Data],0),0))","v":""},{"$f":"IF('WWVDS (Desc)'!F13=\"\",\"\",INDEX([1]COUNTY!$A$2:$A$80,MATCH('WWVDS (Desc)'!F13,[1]!MASTER_COUNTY_NAME[#Data],0),0))","v":""},{"$f":"IF('WWVDS (Desc)'!G13=\"\",\"\",'WWVDS (Desc)'!G13)","v":""},{"$f":"IF('WWVDS (Desc)'!H13=\"\",\"\",'WWVDS (Desc)'!H13)","v":""},{"$f":"IF('WWVDS (Desc)'!I13=\"\",\"\",INDEX([1]WWVDS_TYPE!$A$2:$A$4,MATCH('WWVDS (Desc)'!$I13,[1]!MASTER_WWVDS_TYPE_DESC[#Data],0),0))","v":""},{"$f":"IF('WWVDS (Desc)'!$J13=\"\",\"\",INDEX([1]ITS_DEV_MANUF_MODEL!$A$2:$E$1500,MATCH(1,([1]ITS_DEV_MANUF_MODEL!$E$2:$E$1500=\"WWD\")*([1]ITS_DEV_MANUF_MODEL!$D$2:$D$1500='WWVDS (Desc)'!$J13),0),1))","v":""},{"$f":"IF('WWVDS (Desc)'!$J13=\"\",\"\",INDEX([1]ITS_DEV_MANUF_MODEL!$A$2:$E$1500,MATCH(1,([1]ITS_DEV_MANUF_MODEL!$E$2:$E$1500=\"WWD\")*([1]ITS_DEV_MANUF_MODEL!$D$2:$D$1500='WWVDS (Desc)'!$J13),0),2))","v":""},{"$f":"IF('WWVDS (Desc)'!L13=\"\",\"\",'WWVDS (Desc)'!L13)","v":""},{"$f":"IF('WWVDS (Desc)'!M13=\"\",\"\",'WWVDS (Desc)'!M13)","v":""},{"$f":"IF('WWVDS (Desc)'!N13=\"\",\"\",'WWVDS (Desc)'!N13)","v":""},{"$f":"IF('WWVDS (Desc)'!O13=\"\",\"\",'WWVDS (Desc)'!O13)","v":""},{"$f":"IF('WWVDS (Desc)'!P13=\"\",\"\",'WWVDS (Desc)'!P13)","v":""}]
[{"$f":"IF('WWVDS (Desc)'!A14=\"\",\"\",'WWVDS (Desc)'!A14)","v":""},{"$f":"IF('WWVDS (Desc)'!B14=\"\",\"\",'WWVDS (Desc)'!B14)","v":""},{"$f":"IF('WWVDS (Desc)'!C14=\"\",\"\",'WWVDS (Desc)'!C14)","v":""},{"$f":"IF('WWVDS (Desc)'!D14=\"\",\"\",'WWVDS (Desc)'!D14)","v":""},{"$f":"IF('WWVDS (Desc)'!E14=\"\",\"\",INDEX([1]OWNER!$A$2:$A$100,MATCH('WWVDS (Desc)'!$E14,[1]!MASTER_OWNER_DESC[#Data],0),0))","v":""},{"$f":"IF('WWVDS (Desc)'!F14=\"\",\"\",INDEX([1]COUNTY!$A$2:$A$80,MATCH('WWVDS (Desc)'!F14,[1]!MASTER_COUNTY_NAME[#Data],0),0))","v":""},{"$f":"IF('WWVDS (Desc)'!G14=\"\",\"\",'WWVDS (Desc)'!G14)","v":""},{"$f":"IF('WWVDS (Desc)'!H14=\"\",\"\",'WWVDS (Desc)'!H14)","v":""},{"$f":"IF('WWVDS (Desc)'!I14=\"\",\"\",INDEX([1]WWVDS_TYPE!$A$2:$A$4,MATCH('WWVDS (Desc)'!$I14,[1]!MASTER_WWVDS_TYPE_DESC[#Data],0),0))","v":""},{"$f":"IF('WWVDS (Desc)'!$J14=\"\",\"\",INDEX([1]ITS_DEV_MANUF_MODEL!$A$2:$E$1500,MATCH(1,([1]ITS_DEV_MANUF_MODEL!$E$2:$E$1500=\"WWD\")*([1]ITS_DEV_MANUF_MODEL!$D$2:$D$1500='WWVDS (Desc)'!$J14),0),1))","v":""},{"$f":"IF('WWVDS (Desc)'!$J14=\"\",\"\",INDEX([1]ITS_DEV_MANUF_MODEL!$A$2:$E$1500,MATCH(1,([1]ITS_DEV_MANUF_MODEL!$E$2:$E$1500=\"WWD\")*([1]ITS_DEV_MANUF_MODEL!$D$2:$D$1500='WWVDS (Desc)'!$J14),0),2))","v":""},{"$f":"IF('WWVDS (Desc)'!L14=\"\",\"\",'WWVDS (Desc)'!L14)","v":""},{"$f":"IF('WWVDS (Desc)'!M14=\"\",\"\",'WWVDS (Desc)'!M14)","v":""},{"$f":"IF('WWVDS (Desc)'!N14=\"\",\"\",'WWVDS (Desc)'!N14)","v":""},{"$f":"IF('WWVDS (Desc)'!O14=\"\",\"\",'WWVDS (Desc)'!O14)","v":""},{"$f":"IF('WWVDS (Desc)'!P14=\"\",\"\",'WWVDS (Desc)'!P14)","v":""}]
[{"$f":"IF('WWVDS (Desc)'!A15=\"\",\"\",'WWVDS (Desc)'!A15)","v":""},{"$f":"IF('WWVDS (Desc)'!B15=\"\",\"\",'WWVDS (Desc)'!B15)","v":""},{"$f":"IF('WWVDS (Desc)'!C15=\"\",\"\",'WWVDS (Desc)'!C15)","v":""},{"$f":"IF('WWVDS (Desc)'!D15=\"\",\"\",'WWVDS (Desc)'!D15)","v":""},{"$f":"IF('WWVDS (Desc)'!E15=\"\",\"\",INDEX([1]OWNER!$A$2:$A$100,MATCH('WWVDS (Desc)'!$E15,[1]!MASTER_OWNER_DESC[#Data],0),0))","v":""},{"$f":"IF('WWVDS (Desc)'!F15=\"\",\"\",INDEX([1]COUNTY!$A$2:$A$80,MATCH('WWVDS (Desc)'!F15,[1]!MASTER_COUNTY_NAME[#Data],0),0))","v":""},{"$f":"IF('WWVDS (Desc)'!G15=\"\",\"\",'WWVDS (Desc)'!G15)","v":""},{"$f":"IF('WWVDS (Desc)'!H15=\"\",\"\",'WWVDS (Desc)'!H15)","v":""},{"$f":"IF('WWVDS (Desc)'!I15=\"\",\"\",INDEX([1]WWVDS_TYPE!$A$2:$A$4,MATCH('WWVDS (Desc)'!$I15,[1]!MASTER_WWVDS_TYPE_DESC[#Data],0),0))","v":""},{"$f":"IF('WWVDS (Desc)'!$J15=\"\",\"\",INDEX([1]ITS_DEV_MANUF_MODEL!$A$2:$E$1500,MATCH(1,([1]ITS_DEV_MANUF_MODEL!$E$2:$E$1500=\"WWD\")*([1]ITS_DEV_MANUF_MODEL!$D$2:$D$1500='WWVDS (Desc)'!$J15),0),1))","v":""},{"$f":"IF('WWVDS (Desc)'!$J15=\"\",\"\",INDEX([1]ITS_DEV_MANUF_MODEL!$A$2:$E$1500,MATCH(1,([1]ITS_DEV_MANUF_MODEL!$E$2:$E$1500=\"WWD\")*([1]ITS_DEV_MANUF_MODEL!$D$2:$D$1500='WWVDS (Desc)'!$J15),0),2))","v":""},{"$f":"IF('WWVDS (Desc)'!L15=\"\",\"\",'WWVDS (Desc)'!L15)","v":""},{"$f":"IF('WWVDS (Desc)'!M15=\"\",\"\",'WWVDS (Desc)'!M15)","v":""},{"$f":"IF('WWVDS (Desc)'!N15=\"\",\"\",'WWVDS (Desc)'!N15)","v":""},{"$f":"IF('WWVDS (Desc)'!O15=\"\",\"\",'WWVDS (Desc)'!O15)","v":""},{"$f":"IF('WWVDS (Desc)'!P15=\"\",\"\",'WWVDS (Desc)'!P15)","v":""}]
[{"$f":"IF('WWVDS (Desc)'!A16=\"\",\"\",'WWVDS (Desc)'!A16)","v":""},{"$f":"IF('WWVDS (Desc)'!B16=\"\",\"\",'WWVDS (Desc)'!B16)","v":""},{"$f":"IF('WWVDS (Desc)'!C16=\"\",\"\",'WWVDS (Desc)'!C16)","v":""},{"$f":"IF('WWVDS (Desc)'!D16=\"\",\"\",'WWVDS (Desc)'!D16)","v":""},{"$f":"IF('WWVDS (Desc)'!E16=\"\",\"\",INDEX([1]OWNER!$A$2:$A$100,MATCH('WWVDS (Desc)'!$E16,[1]!MASTER_OWNER_DESC[#Data],0),0))","v":""},{"$f":"IF('WWVDS (Desc)'!F16=\"\",\"\",INDEX([1]COUNTY!$A$2:$A$80,MATCH('WWVDS (Desc)'!F16,[1]!MASTER_COUNTY_NAME[#Data],0),0))","v":""},{"$f":"IF('WWVDS (Desc)'!G16=\"\",\"\",'WWVDS (Desc)'!G16)","v":""},{"$f":"IF('WWVDS (Desc)'!H16=\"\",\"\",'WWVDS (Desc)'!H16)","v":""},{"$f":"IF('WWVDS (Desc)'!I16=\"\",\"\",INDEX([1]WWVDS_TYPE!$A$2:$A$4,MATCH('WWVDS (Desc)'!$I16,[1]!MASTER_WWVDS_TYPE_DESC[#Data],0),0))","v":""},{"$f":"IF('WWVDS (Desc)'!$J16=\"\",\"\",INDEX([1]ITS_DEV_MANUF_MODEL!$A$2:$E$1500,MATCH(1,([1]ITS_DEV_MANUF_MODEL!$E$2:$E$1500=\"WWD\")*([1]ITS_DEV_MANUF_MODEL!$D$2:$D$1500='WWVDS (Desc)'!$J16),0),1))","v":""},{"$f":"IF('WWVDS (Desc)'!$J16=\"\",\"\",INDEX([1]ITS_DEV_MANUF_MODEL!$A$2:$E$1500,MATCH(1,([1]ITS_DEV_MANUF_MODEL!$E$2:$E$1500=\"WWD\")*([1]ITS_DEV_MANUF_MODEL!$D$2:$D$1500='WWVDS (Desc)'!$J16),0),2))","v":""},{"$f":"IF('WWVDS (Desc)'!L16=\"\",\"\",'WWVDS (Desc)'!L16)","v":""},{"$f":"IF('WWVDS (Desc)'!M16=\"\",\"\",'WWVDS (Desc)'!M16)","v":""},{"$f":"IF('WWVDS (Desc)'!N16=\"\",\"\",'WWVDS (Desc)'!N16)","v":""},{"$f":"IF('WWVDS (Desc)'!O16=\"\",\"\",'WWVDS (Desc)'!O16)","v":""},{"$f":"IF('WWVDS (Desc)'!P16=\"\",\"\",'WWVDS (Desc)'!P16)","v":""}]
[{"$f":"IF('WWVDS (Desc)'!A17=\"\",\"\",'WWVDS (Desc)'!A17)","v":""},{"$f":"IF('WWVDS (Desc)'!B17=\"\",\"\",'WWVDS (Desc)'!B17)","v":""},{"$f":"IF('WWVDS (Desc)'!C17=\"\",\"\",'WWVDS (Desc)'!C17)","v":""},{"$f":"IF('WWVDS (Desc)'!D17=\"\",\"\",'WWVDS (Desc)'!D17)","v":""},{"$f":"IF('WWVDS (Desc)'!E17=\"\",\"\",INDEX([1]OWNER!$A$2:$A$100,MATCH('WWVDS (Desc)'!$E17,[1]!MASTER_OWNER_DESC[#Data],0),0))","v":""},{"$f":"IF('WWVDS (Desc)'!F17=\"\",\"\",INDEX([1]COUNTY!$A$2:$A$80,MATCH('WWVDS (Desc)'!F17,[1]!MASTER_COUNTY_NAME[#Data],0),0))","v":""},{"$f":"IF('WWVDS (Desc)'!G17=\"\",\"\",'WWVDS (Desc)'!G17)","v":""},{"$f":"IF('WWVDS (Desc)'!H17=\"\",\"\",'WWVDS (Desc)'!H17)","v":""},{"$f":"IF('WWVDS (Desc)'!I17=\"\",\"\",INDEX([1]WWVDS_TYPE!$A$2:$A$4,MATCH('WWVDS (Desc)'!$I17,[1]!MASTER_WWVDS_TYPE_DESC[#Data],0),0))","v":""},{"$f":"IF('WWVDS (Desc)'!$J17=\"\",\"\",INDEX([1]ITS_DEV_MANUF_MODEL!$A$2:$E$1500,MATCH(1,([1]ITS_DEV_MANUF_MODEL!$E$2:$E$1500=\"WWD\")*([1]ITS_DEV_MANUF_MODEL!$D$2:$D$1500='WWVDS (Desc)'!$J17),0),1))","v":""},{"$f":"IF('WWVDS (Desc)'!$J17=\"\",\"\",INDEX([1]ITS_DEV_MANUF_MODEL!$A$2:$E$1500,MATCH(1,([1]ITS_DEV_MANUF_MODEL!$E$2:$E$1500=\"WWD\")*([1]ITS_DEV_MANUF_MODEL!$D$2:$D$1500='WWVDS (Desc)'!$J17),0),2))","v":""},{"$f":"IF('WWVDS (Desc)'!L17=\"\",\"\",'WWVDS (Desc)'!L17)","v":""},{"$f":"IF('WWVDS (Desc)'!M17=\"\",\"\",'WWVDS (Desc)'!M17)","v":""},{"$f":"IF('WWVDS (Desc)'!N17=\"\",\"\",'WWVDS (Desc)'!N17)","v":""},{"$f":"IF('WWVDS (Desc)'!O17=\"\",\"\",'WWVDS (Desc)'!O17)","v":""},{"$f":"IF('WWVDS (Desc)'!P17=\"\",\"\",'WWVDS (Desc)'!P17)","v":""}]
[{"$f":"IF('WWVDS (Desc)'!A18=\"\",\"\",'WWVDS (Desc)'!A18)","v":""},{"$f":"IF('WWVDS (Desc)'!B18=\"\",\"\",'WWVDS (Desc)'!B18)","v":""},{"$f":"IF('WWVDS (Desc)'!C18=\"\",\"\",'WWVDS (Desc)'!C18)","v":""},{"$f":"IF('WWVDS (Desc)'!D18=\"\",\"\",'WWVDS (Desc)'!D18)","v":""},{"$f":"IF('WWVDS (Desc)'!E18=\"\",\"\",INDEX([1]OWNER!$A$2:$A$100,MATCH('WWVDS (Desc)'!$E18,[1]!MASTER_OWNER_DESC[#Data],0),0))","v":""},{"$f":"IF('WWVDS (Desc)'!F18=\"\",\"\",INDEX([1]COUNTY!$A$2:$A$80,MATCH('WWVDS (Desc)'!F18,[1]!MASTER_COUNTY_NAME[#Data],0),0))","v":""},{"$f":"IF('WWVDS (Desc)'!G18=\"\",\"\",'WWVDS (Desc)'!G18)","v":""},{"$f":"IF('WWVDS (Desc)'!H18=\"\",\"\",'WWVDS (Desc)'!H18)","v":""},{"$f":"IF('WWVDS (Desc)'!I18=\"\",\"\",INDEX([1]WWVDS_TYPE!$A$2:$A$4,MATCH('WWVDS (Desc)'!$I18,[1]!MASTER_WWVDS_TYPE_DESC[#Data],0),0))","v":""},{"$f":"IF('WWVDS (Desc)'!$J18=\"\",\"\",INDEX([1]ITS_DEV_MANUF_MODEL!$A$2:$E$1500,MATCH(1,([1]ITS_DEV_MANUF_MODEL!$E$2:$E$1500=\"WWD\")*([1]ITS_DEV_MANUF_MODEL!$D$2:$D$1500='WWVDS (Desc)'!$J18),0),1))","v":""},{"$f":"IF('WWVDS (Desc)'!$J18=\"\",\"\",INDEX([1]ITS_DEV_MANUF_MODEL!$A$2:$E$1500,MATCH(1,([1]ITS_DEV_MANUF_MODEL!$E$2:$E$1500=\"WWD\")*([1]ITS_DEV_MANUF_MODEL!$D$2:$D$1500='WWVDS (Desc)'!$J18),0),2))","v":""},{"$f":"IF('WWVDS (Desc)'!L18=\"\",\"\",'WWVDS (Desc)'!L18)","v":""},{"$f":"IF('WWVDS (Desc)'!M18=\"\",\"\",'WWVDS (Desc)'!M18)","v":""},{"$f":"IF('WWVDS (Desc)'!N18=\"\",\"\",'WWVDS (Desc)'!N18)","v":""},{"$f":"IF('WWVDS (Desc)'!O18=\"\",\"\",'WWVDS (Desc)'!O18)","v":""},{"$f":"IF('WWVDS (Desc)'!P18=\"\",\"\",'WWVDS (Desc)'!P18)","v":""}]
[{"$f":"IF('WWVDS (Desc)'!A19=\"\",\"\",'WWVDS (Desc)'!A19)","v":""},{"$f":"IF('WWVDS (Desc)'!B19=\"\",\"\",'WWVDS (Desc)'!B19)","v":""},{"$f":"IF('WWVDS (Desc)'!C19=\"\",\"\",'WWVDS (Desc)'!C19)","v":""},{"$f":"IF('WWVDS (Desc)'!D19=\"\",\"\",'WWVDS (Desc)'!D19)","v":""},{"$f":"IF('WWVDS (Desc)'!E19=\"\",\"\",INDEX([1]OWNER!$A$2:$A$100,MATCH('WWVDS (Desc)'!$E19,[1]!MASTER_OWNER_DESC[#Data],0),0))","v":""},{"$f":"IF('WWVDS (Desc)'!F19=\"\",\"\",INDEX([1]COUNTY!$A$2:$A$80,MATCH('WWVDS (Desc)'!F19,[1]!MASTER_COUNTY_NAME[#Data],0),0))","v":""},{"$f":"IF('WWVDS (Desc)'!G19=\"\",\"\",'WWVDS (Desc)'!G19)","v":""},{"$f":"IF('WWVDS (Desc)'!H19=\"\",\"\",'WWVDS (Desc)'!H19)","v":""},{"$f":"IF('WWVDS (Desc)'!I19=\"\",\"\",INDEX([1]WWVDS_TYPE!$A$2:$A$4,MATCH('WWVDS (Desc)'!$I19,[1]!MASTER_WWVDS_TYPE_DESC[#Data],0),0))","v":""},{"$f":"IF('WWVDS (Desc)'!$J19=\"\",\"\",INDEX([1]ITS_DEV_MANUF_MODEL!$A$2:$E$1500,MATCH(1,([1]ITS_DEV_MANUF_MODEL!$E$2:$E$1500=\"WWD\")*([1]ITS_DEV_MANUF_MODEL!$D$2:$D$1500='WWVDS (Desc)'!$J19),0),1))","v":""},{"$f":"IF('WWVDS (Desc)'!$J19=\"\",\"\",INDEX([1]ITS_DEV_MANUF_MODEL!$A$2:$E$1500,MATCH(1,([1]ITS_DEV_MANUF_MODEL!$E$2:$E$1500=\"WWD\")*([1]ITS_DEV_MANUF_MODEL!$D$2:$D$1500='WWVDS (Desc)'!$J19),0),2))","v":""},{"$f":"IF('WWVDS (Desc)'!L19=\"\",\"\",'WWVDS (Desc)'!L19)","v":""},{"$f":"IF('WWVDS (Desc)'!M19=\"\",\"\",'WWVDS (Desc)'!M19)","v":""},{"$f":"IF('WWVDS (Desc)'!N19=\"\",\"\",'WWVDS (Desc)'!N19)","v":""},{"$f":"IF('WWVDS (Desc)'!O19=\"\",\"\",'WWVDS (Desc)'!O19)","v":""},{"$f":"IF('WWVDS (Desc)'!P19=\"\",\"\",'WWVDS (Desc)'!P19)","v":""}]
[{"$f":"IF('WWVDS (Desc)'!A20=\"\",\"\",'WWVDS (Desc)'!A20)","v":""},{"$f":"IF('WWVDS (Desc)'!B20=\"\",\"\",'WWVDS (Desc)'!B20)","v":""},{"$f":"IF('WWVDS (Desc)'!C20=\"\",\"\",'WWVDS (Desc)'!C20)","v":""},{"$f":"IF('WWVDS (Desc)'!D20=\"\",\"\",'WWVDS (Desc)'!D20)","v":""},{"$f":"IF('WWVDS (Desc)'!E20=\"\",\"\",INDEX([1]OWNER!$A$2:$A$100,MATCH('WWVDS (Desc)'!$E20,[1]!MASTER_OWNER_DESC[#Data],0),0))","v":""},{"$f":"IF('WWVDS (Desc)'!F20=\"\",\"\",INDEX([1]COUNTY!$A$2:$A$80,MATCH('WWVDS (Desc)'!F20,[1]!MASTER_COUNTY_NAME[#Data],0),0))","v":""},{"$f":"IF('WWVDS (Desc)'!G20=\"\",\"\",'WWVDS (Desc)'!G20)","v":""},{"$f":"IF('WWVDS (Desc)'!H20=\"\",\"\",'WWVDS (Desc)'!H20)","v":""},{"$f":"IF('WWVDS (Desc)'!I20=\"\",\"\",INDEX([1]WWVDS_TYPE!$A$2:$A$4,MATCH('WWVDS (Desc)'!$I20,[1]!MASTER_WWVDS_TYPE_DESC[#Data],0),0))","v":""},{"$f":"IF('WWVDS (Desc)'!$J20=\"\",\"\",INDEX([1]ITS_DEV_MANUF_MODEL!$A$2:$E$1500,MATCH(1,([1]ITS_DEV_MANUF_MODEL!$E$2:$E$1500=\"WWD\")*([1]ITS_DEV_MANUF_MODEL!$D$2:$D$1500='WWVDS (Desc)'!$J20),0),1))","v":""},{"$f":"IF('WWVDS (Desc)'!$J20=\"\",\"\",INDEX([1]ITS_DEV_MANUF_MODEL!$A$2:$E$1500,MATCH(1,([1]ITS_DEV_MANUF_MODEL!$E$2:$E$1500=\"WWD\")*([1]ITS_DEV_MANUF_MODEL!$D$2:$D$1500='WWVDS (Desc)'!$J20),0),2))","v":""},{"$f":"IF('WWVDS (Desc)'!L20=\"\",\"\",'WWVDS (Desc)'!L20)","v":""},{"$f":"IF('WWVDS (Desc)'!M20=\"\",\"\",'WWVDS (Desc)'!M20)","v":""},{"$f":"IF('WWVDS (Desc)'!N20=\"\",\"\",'WWVDS (Desc)'!N20)","v":""},{"$f":"IF('WWVDS (Desc)'!O20=\"\",\"\",'WWVDS (Desc)'!O20)","v":""},{"$f":"IF('WWVDS (Desc)'!P20=\"\",\"\",'WWVDS (Desc)'!P20)","v":""}]
[{"$f":"IF('WWVDS (Desc)'!A21=\"\",\"\",'WWVDS (Desc)'!A21)","v":""},{"$f":"IF('WWVDS (Desc)'!B21=\"\",\"\",'WWVDS (Desc)'!B21)","v":""},{"$f":"IF('WWVDS (Desc)'!C21=\"\",\"\",'WWVDS (Desc)'!C21)","v":""},{"$f":"IF('WWVDS (Desc)'!D21=\"\",\"\",'WWVDS (Desc)'!D21)","v":""},{"$f":"IF('WWVDS (Desc)'!E21=\"\",\"\",INDEX([1]OWNER!$A$2:$A$100,MATCH('WWVDS (Desc)'!$E21,[1]!MASTER_OWNER_DESC[#Data],0),0))","v":""},{"$f":"IF('WWVDS (Desc)'!F21=\"\",\"\",INDEX([1]COUNTY!$A$2:$A$80,MATCH('WWVDS (Desc)'!F21,[1]!MASTER_COUNTY_NAME[#Data],0),0))","v":""},{"$f":"IF('WWVDS (Desc)'!G21=\"\",\"\",'WWVDS (Desc)'!G21)","v":""},{"$f":"IF('WWVDS (Desc)'!H21=\"\",\"\",'WWVDS (Desc)'!H21)","v":""},{"$f":"IF('WWVDS (Desc)'!I21=\"\",\"\",INDEX([1]WWVDS_TYPE!$A$2:$A$4,MATCH('WWVDS (Desc)'!$I21,[1]!MASTER_WWVDS_TYPE_DESC[#Data],0),0))","v":""},{"$f":"IF('WWVDS (Desc)'!$J21=\"\",\"\",INDEX([1]ITS_DEV_MANUF_MODEL!$A$2:$E$1500,MATCH(1,([1]ITS_DEV_MANUF_MODEL!$E$2:$E$1500=\"WWD\")*([1]ITS_DEV_MANUF_MODEL!$D$2:$D$1500='WWVDS (Desc)'!$J21),0),1))","v":""},{"$f":"IF('WWVDS (Desc)'!$J21=\"\",\"\",INDEX([1]ITS_DEV_MANUF_MODEL!$A$2:$E$1500,MATCH(1,([1]ITS_DEV_MANUF_MODEL!$E$2:$E$1500=\"WWD\")*([1]ITS_DEV_MANUF_MODEL!$D$2:$D$1500='WWVDS (Desc)'!$J21),0),2))","v":""},{"$f":"IF('WWVDS (Desc)'!L21=\"\",\"\",'WWVDS (Desc)'!L21)","v":""},{"$f":"IF('WWVDS (Desc)'!M21=\"\",\"\",'WWVDS (Desc)'!M21)","v":""},{"$f":"IF('WWVDS (Desc)'!N21=\"\",\"\",'WWVDS (Desc)'!N21)","v":""},{"$f":"IF('WWVDS (Desc)'!O21=\"\",\"\",'WWVDS (Desc)'!O21)","v":""},{"$f":"IF('WWVDS (Desc)'!P21=\"\",\"\",'WWVDS (Desc)'!P21)","v":""}]
[{"$f":"IF('WWVDS (Desc)'!A22=\"\",\"\",'WWVDS (Desc)'!A22)","v":""},{"$f":"IF('WWVDS (Desc)'!B22=\"\",\"\",'WWVDS (Desc)'!B22)","v":""},{"$f":"IF('WWVDS (Desc)'!C22=\"\",\"\",'WWVDS (Desc)'!C22)","v":""},{"$f":"IF('WWVDS (Desc)'!D22=\"\",\"\",'WWVDS (Desc)'!D22)","v":""},{"$f":"IF('WWVDS (Desc)'!E22=\"\",\"\",INDEX([1]OWNER!$A$2:$A$100,MATCH('WWVDS (Desc)'!$E22,[1]!MASTER_OWNER_DESC[#Data],0),0))","v":""},{"$f":"IF('WWVDS (Desc)'!F22=\"\",\"\",INDEX([1]COUNTY!$A$2:$A$80,MATCH('WWVDS (Desc)'!F22,[1]!MASTER_COUNTY_NAME[#Data],0),0))","v":""},{"$f":"IF('WWVDS (Desc)'!G22=\"\",\"\",'WWVDS (Desc)'!G22)","v":""},{"$f":"IF('WWVDS (Desc)'!H22=\"\",\"\",'WWVDS (Desc)'!H22)","v":""},{"$f":"IF('WWVDS (Desc)'!I22=\"\",\"\",INDEX([1]WWVDS_TYPE!$A$2:$A$4,MATCH('WWVDS (Desc)'!$I22,[1]!MASTER_WWVDS_TYPE_DESC[#Data],0),0))","v":""},{"$f":"IF('WWVDS (Desc)'!$J22=\"\",\"\",INDEX([1]ITS_DEV_MANUF_MODEL!$A$2:$E$1500,MATCH(1,([1]ITS_DEV_MANUF_MODEL!$E$2:$E$1500=\"WWD\")*([1]ITS_DEV_MANUF_MODEL!$D$2:$D$1500='WWVDS (Desc)'!$J22),0),1))","v":""},{"$f":"IF('WWVDS (Desc)'!$J22=\"\",\"\",INDEX([1]ITS_DEV_MANUF_MODEL!$A$2:$E$1500,MATCH(1,([1]ITS_DEV_MANUF_MODEL!$E$2:$E$1500=\"WWD\")*([1]ITS_DEV_MANUF_MODEL!$D$2:$D$1500='WWVDS (Desc)'!$J22),0),2))","v":""},{"$f":"IF('WWVDS (Desc)'!L22=\"\",\"\",'WWVDS (Desc)'!L22)","v":""},{"$f":"IF('WWVDS (Desc)'!M22=\"\",\"\",'WWVDS (Desc)'!M22)","v":""},{"$f":"IF('WWVDS (Desc)'!N22=\"\",\"\",'WWVDS (Desc)'!N22)","v":""},{"$f":"IF('WWVDS (Desc)'!O22=\"\",\"\",'WWVDS (Desc)'!O22)","v":""},{"$f":"IF('WWVDS (Desc)'!P22=\"\",\"\",'WWVDS (Desc)'!P22)","v":""}]
[{"$f":"IF('WWVDS (Desc)'!A23=\"\",\"\",'WWVDS (Desc)'!A23)","v":""},{"$f":"IF('WWVDS (Desc)'!B23=\"\",\"\",'WWVDS (Desc)'!B23)","v":""},{"$f":"IF('WWVDS (Desc)'!C23=\"\",\"\",'WWVDS (Desc)'!C23)","v":""},{"$f":"IF('WWVDS (Desc)'!D23=\"\",\"\",'WWVDS (Desc)'!D23)","v":""},{"$f":"IF('WWVDS (Desc)'!E23=\"\",\"\",INDEX([1]OWNER!$A$2:$A$100,MATCH('WWVDS (Desc)'!$E23,[1]!MASTER_OWNER_DESC[#Data],0),0))","v":""},{"$f":"IF('WWVDS (Desc)'!F23=\"\",\"\",INDEX([1]COUNTY!$A$2:$A$80,MATCH('WWVDS (Desc)'!F23,[1]!MASTER_COUNTY_NAME[#Data],0),0))","v":""},{"$f":"IF('WWVDS (Desc)'!G23=\"\",\"\",'WWVDS (Desc)'!G23)","v":""},{"$f":"IF('WWVDS (Desc)'!H23=\"\",\"\",'WWVDS (Desc)'!H23)","v":""},{"$f":"IF('WWVDS (Desc)'!I23=\"\",\"\",INDEX([1]WWVDS_TYPE!$A$2:$A$4,MATCH('WWVDS (Desc)'!$I23,[1]!MASTER_WWVDS_TYPE_DESC[#Data],0),0))","v":""},{"$f":"IF('WWVDS (Desc)'!$J23=\"\",\"\",INDEX([1]ITS_DEV_MANUF_MODEL!$A$2:$E$1500,MATCH(1,([1]ITS_DEV_MANUF_MODEL!$E$2:$E$1500=\"WWD\")*([1]ITS_DEV_MANUF_MODEL!$D$2:$D$1500='WWVDS (Desc)'!$J23),0),1))","v":""},{"$f":"IF('WWVDS (Desc)'!$J23=\"\",\"\",INDEX([1]ITS_DEV_MANUF_MODEL!$A$2:$E$1500,MATCH(1,([1]ITS_DEV_MANUF_MODEL!$E$2:$E$1500=\"WWD\")*([1]ITS_DEV_MANUF_MODEL!$D$2:$D$1500='WWVDS (Desc)'!$J23),0),2))","v":""},{"$f":"IF('WWVDS (Desc)'!L23=\"\",\"\",'WWVDS (Desc)'!L23)","v":""},{"$f":"IF('WWVDS (Desc)'!M23=\"\",\"\",'WWVDS (Desc)'!M23)","v":""},{"$f":"IF('WWVDS (Desc)'!N23=\"\",\"\",'WWVDS (Desc)'!N23)","v":""},{"$f":"IF('WWVDS (Desc)'!O23=\"\",\"\",'WWVDS (Desc)'!O23)","v":""},{"$f":"IF('WWVDS (Desc)'!P23=\"\",\"\",'WWVDS (Desc)'!P23)","v":""}]
[{"$f":"IF('WWVDS (Desc)'!A24=\"\",\"\",'WWVDS (Desc)'!A24)","v":""},{"$f":"IF('WWVDS (Desc)'!B24=\"\",\"\",'WWVDS (Desc)'!B24)","v":""},{"$f":"IF('WWVDS (Desc)'!C24=\"\",\"\",'WWVDS (Desc)'!C24)","v":""},{"$f":"IF('WWVDS (Desc)'!D24=\"\",\"\",'WWVDS (Desc)'!D24)","v":""},{"$f":"IF('WWVDS (Desc)'!E24=\"\",\"\",INDEX([1]OWNER!$A$2:$A$100,MATCH('WWVDS (Desc)'!$E24,[1]!MASTER_OWNER_DESC[#Data],0),0))","v":""},{"$f":"IF('WWVDS (Desc)'!F24=\"\",\"\",INDEX([1]COUNTY!$A$2:$A$80,MATCH('WWVDS (Desc)'!F24,[1]!MASTER_COUNTY_NAME[#Data],0),0))","v":""},{"$f":"IF('WWVDS (Desc)'!G24=\"\",\"\",'WWVDS (Desc)'!G24)","v":""},{"$f":"IF('WWVDS (Desc)'!H24=\"\",\"\",'WWVDS (Desc)'!H24)","v":""},{"$f":"IF('WWVDS (Desc)'!I24=\"\",\"\",INDEX([1]WWVDS_TYPE!$A$2:$A$4,MATCH('WWVDS (Desc)'!$I24,[1]!MASTER_WWVDS_TYPE_DESC[#Data],0),0))","v":""},{"$f":"IF('WWVDS (Desc)'!$J24=\"\",\"\",INDEX([1]ITS_DEV_MANUF_MODEL!$A$2:$E$1500,MATCH(1,([1]ITS_DEV_MANUF_MODEL!$E$2:$E$1500=\"WWD\")*([1]ITS_DEV_MANUF_MODEL!$D$2:$D$1500='WWVDS (Desc)'!$J24),0),1))","v":""},{"$f":"IF('WWVDS (Desc)'!$J24=\"\",\"\",INDEX([1]ITS_DEV_MANUF_MODEL!$A$2:$E$1500,MATCH(1,([1]ITS_DEV_MANUF_MODEL!$E$2:$E$1500=\"WWD\")*([1]ITS_DEV_MANUF_MODEL!$D$2:$D$1500='WWVDS (Desc)'!$J24),0),2))","v":""},{"$f":"IF('WWVDS (Desc)'!L24=\"\",\"\",'WWVDS (Desc)'!L24)","v":""},{"$f":"IF('WWVDS (Desc)'!M24=\"\",\"\",'WWVDS (Desc)'!M24)","v":""},{"$f":"IF('WWVDS (Desc)'!N24=\"\",\"\",'WWVDS (Desc)'!N24)","v":""},{"$f":"IF('WWVDS (Desc)'!O24=\"\",\"\",'WWVDS (Desc)'!O24)","v":""},{"$f":"IF('WWVDS (Desc)'!P24=\"\",\"\",'WWVDS (Desc)'!P24)","v":""}]
[{"$f":"IF('WWVDS (Desc)'!A25=\"\",\"\",'WWVDS (Desc)'!A25)","v":""},{"$f":"IF('WWVDS (Desc)'!B25=\"\",\"\",'WWVDS (Desc)'!B25)","v":""},{"$f":"IF('WWVDS (Desc)'!C25=\"\",\"\",'WWVDS (Desc)'!C25)","v":""},{"$f":"IF('WWVDS (Desc)'!D25=\"\",\"\",'WWVDS (Desc)'!D25)","v":""},{"$f":"IF('WWVDS (Desc)'!E25=\"\",\"\",INDEX([1]OWNER!$A$2:$A$100,MATCH('WWVDS (Desc)'!$E25,[1]!MASTER_OWNER_DESC[#Data],0),0))","v":""},{"$f":"IF('WWVDS (Desc)'!F25=\"\",\"\",INDEX([1]COUNTY!$A$2:$A$80,MATCH('WWVDS (Desc)'!F25,[1]!MASTER_COUNTY_NAME[#Data],0),0))","v":""},{"$f":"IF('WWVDS (Desc)'!G25=\"\",\"\",'WWVDS (Desc)'!G25)","v":""},{"$f":"IF('WWVDS (Desc)'!H25=\"\",\"\",'WWVDS (Desc)'!H25)","v":""},{"$f":"IF('WWVDS (Desc)'!I25=\"\",\"\",INDEX([1]WWVDS_TYPE!$A$2:$A$4,MATCH('WWVDS (Desc)'!$I25,[1]!MASTER_WWVDS_TYPE_DESC[#Data],0),0))","v":""},{"$f":"IF('WWVDS (Desc)'!$J25=\"\",\"\",INDEX([1]ITS_DEV_MANUF_MODEL!$A$2:$E$1500,MATCH(1,([1]ITS_DEV_MANUF_MODEL!$E$2:$E$1500=\"WWD\")*([1]ITS_DEV_MANUF_MODEL!$D$2:$D$1500='WWVDS (Desc)'!$J25),0),1))","v":""},{"$f":"IF('WWVDS (Desc)'!$J25=\"\",\"\",INDEX([1]ITS_DEV_MANUF_MODEL!$A$2:$E$1500,MATCH(1,([1]ITS_DEV_MANUF_MODEL!$E$2:$E$1500=\"WWD\")*([1]ITS_DEV_MANUF_MODEL!$D$2:$D$1500='WWVDS (Desc)'!$J25),0),2))","v":""},{"$f":"IF('WWVDS (Desc)'!L25=\"\",\"\",'WWVDS (Desc)'!L25)","v":""},{"$f":"IF('WWVDS (Desc)'!M25=\"\",\"\",'WWVDS (Desc)'!M25)","v":""},{"$f":"IF('WWVDS (Desc)'!N25=\"\",\"\",'WWVDS (Desc)'!N25)","v":""},{"$f":"IF('WWVDS (Desc)'!O25=\"\",\"\",'WWVDS (Desc)'!O25)","v":""},{"$f":"IF('WWVDS (Desc)'!P25=\"\",\"\",'WWVDS (Desc)'!P25)","v":""}]
[{"$f":"IF('WWVDS (Desc)'!A26=\"\",\"\",'WWVDS (Desc)'!A26)","v":""},{"$f":"IF('WWVDS (Desc)'!B26=\"\",\"\",'WWVDS (Desc)'!B26)","v":""},{"$f":"IF('WWVDS (Desc)'!C26=\"\",\"\",'WWVDS (Desc)'!C26)","v":""},{"$f":"IF('WWVDS (Desc)'!D26=\"\",\"\",'WWVDS (Desc)'!D26)","v":""},{"$f":"IF('WWVDS (Desc)'!E26=\"\",\"\",INDEX([1]OWNER!$A$2:$A$100,MATCH('WWVDS (Desc)'!$E26,[1]!MASTER_OWNER_DESC[#Data],0),0))","v":""},{"$f":"IF('WWVDS (Desc)'!F26=\"\",\"\",INDEX([1]COUNTY!$A$2:$A$80,MATCH('WWVDS (Desc)'!F26,[1]!MASTER_COUNTY_NAME[#Data],0),0))","v":""},{"$f":"IF('WWVDS (Desc)'!G26=\"\",\"\",'WWVDS (Desc)'!G26)","v":""},{"$f":"IF('WWVDS (Desc)'!H26=\"\",\"\",'WWVDS (Desc)'!H26)","v":""},{"$f":"IF('WWVDS (Desc)'!I26=\"\",\"\",INDEX([1]WWVDS_TYPE!$A$2:$A$4,MATCH('WWVDS (Desc)'!$I26,[1]!MASTER_WWVDS_TYPE_DESC[#Data],0),0))","v":""},{"$f":"IF('WWVDS (Desc)'!$J26=\"\",\"\",INDEX([1]ITS_DEV_MANUF_MODEL!$A$2:$E$1500,MATCH(1,([1]ITS_DEV_MANUF_MODEL!$E$2:$E$1500=\"WWD\")*([1]ITS_DEV_MANUF_MODEL!$D$2:$D$1500='WWVDS (Desc)'!$J26),0),1))","v":""},{"$f":"IF('WWVDS (Desc)'!$J26=\"\",\"\",INDEX([1]ITS_DEV_MANUF_MODEL!$A$2:$E$1500,MATCH(1,([1]ITS_DEV_MANUF_MODEL!$E$2:$E$1500=\"WWD\")*([1]ITS_DEV_MANUF_MODEL!$D$2:$D$1500='WWVDS (Desc)'!$J26),0),2))","v":""},{"$f":"IF('WWVDS (Desc)'!L26=\"\",\"\",'WWVDS (Desc)'!L26)","v":""},{"$f":"IF('WWVDS (Desc)'!M26=\"\",\"\",'WWVDS (Desc)'!M26)","v":""},{"$f":"IF('WWVDS (Desc)'!N26=\"\",\"\",'WWVDS (Desc)'!N26)","v":""},{"$f":"IF('WWVDS (Desc)'!O26=\"\",\"\",'WWVDS (Desc)'!O26)","v":""},{"$f":"IF('WWVDS (Desc)'!P26=\"\",\"\",'WWVDS (Desc)'!P26)","v":""}]
[{"$f":"IF('WWVDS (Desc)'!A27=\"\",\"\",'WWVDS (Desc)'!A27)","v":""},{"$f":"IF('WWVDS (Desc)'!B27=\"\",\"\",'WWVDS (Desc)'!B27)","v":""},{"$f":"IF('WWVDS (Desc)'!C27=\"\",\"\",'WWVDS (Desc)'!C27)","v":""},{"$f":"IF('WWVDS (Desc)'!D27=\"\",\"\",'WWVDS (Desc)'!D27)","v":""},{"$f":"IF('WWVDS (Desc)'!E27=\"\",\"\",INDEX([1]OWNER!$A$2:$A$100,MATCH('WWVDS (Desc)'!$E27,[1]!MASTER_OWNER_DESC[#Data],0),0))","v":""},{"$f":"IF('WWVDS (Desc)'!F27=\"\",\"\",INDEX([1]COUNTY!$A$2:$A$80,MATCH('WWVDS (Desc)'!F27,[1]!MASTER_COUNTY_NAME[#Data],0),0))","v":""},{"$f":"IF('WWVDS (Desc)'!G27=\"\",\"\",'WWVDS (Desc)'!G27)","v":""},{"$f":"IF('WWVDS (Desc)'!H27=\"\",\"\",'WWVDS (Desc)'!H27)","v":""},{"$f":"IF('WWVDS (Desc)'!I27=\"\",\"\",INDEX([1]WWVDS_TYPE!$A$2:$A$4,MATCH('WWVDS (Desc)'!$I27,[1]!MASTER_WWVDS_TYPE_DESC[#Data],0),0))","v":""},{"$f":"IF('WWVDS (Desc)'!$J27=\"\",\"\",INDEX([1]ITS_DEV_MANUF_MODEL!$A$2:$E$1500,MATCH(1,([1]ITS_DEV_MANUF_MODEL!$E$2:$E$1500=\"WWD\")*([1]ITS_DEV_MANUF_MODEL!$D$2:$D$1500='WWVDS (Desc)'!$J27),0),1))","v":""},{"$f":"IF('WWVDS (Desc)'!$J27=\"\",\"\",INDEX([1]ITS_DEV_MANUF_MODEL!$A$2:$E$1500,MATCH(1,([1]ITS_DEV_MANUF_MODEL!$E$2:$E$1500=\"WWD\")*([1]ITS_DEV_MANUF_MODEL!$D$2:$D$1500='WWVDS (Desc)'!$J27),0),2))","v":""},{"$f":"IF('WWVDS (Desc)'!L27=\"\",\"\",'WWVDS (Desc)'!L27)","v":""},{"$f":"IF('WWVDS (Desc)'!M27=\"\",\"\",'WWVDS (Desc)'!M27)","v":""},{"$f":"IF('WWVDS (Desc)'!N27=\"\",\"\",'WWVDS (Desc)'!N27)","v":""},{"$f":"IF('WWVDS (Desc)'!O27=\"\",\"\",'WWVDS (Desc)'!O27)","v":""},{"$f":"IF('WWVDS (Desc)'!P27=\"\",\"\",'WWVDS (Desc)'!P27)","v":""}]
[{"$f":"IF('WWVDS (Desc)'!A28=\"\",\"\",'WWVDS (Desc)'!A28)","v":""},{"$f":"IF('WWVDS (Desc)'!B28=\"\",\"\",'WWVDS (Desc)'!B28)","v":""},{"$f":"IF('WWVDS (Desc)'!C28=\"\",\"\",'WWVDS (Desc)'!C28)","v":""},{"$f":"IF('WWVDS (Desc)'!D28=\"\",\"\",'WWVDS (Desc)'!D28)","v":""},{"$f":"IF('WWVDS (Desc)'!E28=\"\",\"\",INDEX([1]OWNER!$A$2:$A$100,MATCH('WWVDS (Desc)'!$E28,[1]!MASTER_OWNER_DESC[#Data],0),0))","v":""},{"$f":"IF('WWVDS (Desc)'!F28=\"\",\"\",INDEX([1]COUNTY!$A$2:$A$80,MATCH('WWVDS (Desc)'!F28,[1]!MASTER_COUNTY_NAME[#Data],0),0))","v":""},{"$f":"IF('WWVDS (Desc)'!G28=\"\",\"\",'WWVDS (Desc)'!G28)","v":""},{"$f":"IF('WWVDS (Desc)'!H28=\"\",\"\",'WWVDS (Desc)'!H28)","v":""},{"$f":"IF('WWVDS (Desc)'!I28=\"\",\"\",INDEX([1]WWVDS_TYPE!$A$2:$A$4,MATCH('WWVDS (Desc)'!$I28,[1]!MASTER_WWVDS_TYPE_DESC[#Data],0),0))","v":""},{"$f":"IF('WWVDS (Desc)'!$J28=\"\",\"\",INDEX([1]ITS_DEV_MANUF_MODEL!$A$2:$E$1500,MATCH(1,([1]ITS_DEV_MANUF_MODEL!$E$2:$E$1500=\"WWD\")*([1]ITS_DEV_MANUF_MODEL!$D$2:$D$1500='WWVDS (Desc)'!$J28),0),1))","v":""},{"$f":"IF('WWVDS (Desc)'!$J28=\"\",\"\",INDEX([1]ITS_DEV_MANUF_MODEL!$A$2:$E$1500,MATCH(1,([1]ITS_DEV_MANUF_MODEL!$E$2:$E$1500=\"WWD\")*([1]ITS_DEV_MANUF_MODEL!$D$2:$D$1500='WWVDS (Desc)'!$J28),0),2))","v":""},{"$f":"IF('WWVDS (Desc)'!L28=\"\",\"\",'WWVDS (Desc)'!L28)","v":""},{"$f":"IF('WWVDS (Desc)'!M28=\"\",\"\",'WWVDS (Desc)'!M28)","v":""},{"$f":"IF('WWVDS (Desc)'!N28=\"\",\"\",'WWVDS (Desc)'!N28)","v":""},{"$f":"IF('WWVDS (Desc)'!O28=\"\",\"\",'WWVDS (Desc)'!O28)","v":""},{"$f":"IF('WWVDS (Desc)'!P28=\"\",\"\",'WWVDS (Desc)'!P28)","v":""}]
[{"$f":"IF('WWVDS (Desc)'!A29=\"\",\"\",'WWVDS (Desc)'!A29)","v":""},{"$f":"IF('WWVDS (Desc)'!B29=\"\",\"\",'WWVDS (Desc)'!B29)","v":""},{"$f":"IF('WWVDS (Desc)'!C29=\"\",\"\",'WWVDS (Desc)'!C29)","v":""},{"$f":"IF('WWVDS (Desc)'!D29=\"\",\"\",'WWVDS (Desc)'!D29)","v":""},{"$f":"IF('WWVDS (Desc)'!E29=\"\",\"\",INDEX([1]OWNER!$A$2:$A$100,MATCH('WWVDS (Desc)'!$E29,[1]!MASTER_OWNER_DESC[#Data],0),0))","v":""},{"$f":"IF('WWVDS (Desc)'!F29=\"\",\"\",INDEX([1]COUNTY!$A$2:$A$80,MATCH('WWVDS (Desc)'!F29,[1]!MASTER_COUNTY_NAME[#Data],0),0))","v":""},{"$f":"IF('WWVDS (Desc)'!G29=\"\",\"\",'WWVDS (Desc)'!G29)","v":""},{"$f":"IF('WWVDS (Desc)'!H29=\"\",\"\",'WWVDS (Desc)'!H29)","v":""},{"$f":"IF('WWVDS (Desc)'!I29=\"\",\"\",INDEX([1]WWVDS_TYPE!$A$2:$A$4,MATCH('WWVDS (Desc)'!$I29,[1]!MASTER_WWVDS_TYPE_DESC[#Data],0),0))","v":""},{"$f":"IF('WWVDS (Desc)'!$J29=\"\",\"\",INDEX([1]ITS_DEV_MANUF_MODEL!$A$2:$E$1500,MATCH(1,([1]ITS_DEV_MANUF_MODEL!$E$2:$E$1500=\"WWD\")*([1]ITS_DEV_MANUF_MODEL!$D$2:$D$1500='WWVDS (Desc)'!$J29),0),1))","v":""},{"$f":"IF('WWVDS (Desc)'!$J29=\"\",\"\",INDEX([1]ITS_DEV_MANUF_MODEL!$A$2:$E$1500,MATCH(1,([1]ITS_DEV_MANUF_MODEL!$E$2:$E$1500=\"WWD\")*([1]ITS_DEV_MANUF_MODEL!$D$2:$D$1500='WWVDS (Desc)'!$J29),0),2))","v":""},{"$f":"IF('WWVDS (Desc)'!L29=\"\",\"\",'WWVDS (Desc)'!L29)","v":""},{"$f":"IF('WWVDS (Desc)'!M29=\"\",\"\",'WWVDS (Desc)'!M29)","v":""},{"$f":"IF('WWVDS (Desc)'!N29=\"\",\"\",'WWVDS (Desc)'!N29)","v":""},{"$f":"IF('WWVDS (Desc)'!O29=\"\",\"\",'WWVDS (Desc)'!O29)","v":""},{"$f":"IF('WWVDS (Desc)'!P29=\"\",\"\",'WWVDS (Desc)'!P29)","v":""}]
[{"$f":"IF('WWVDS (Desc)'!A30=\"\",\"\",'WWVDS (Desc)'!A30)","v":""},{"$f":"IF('WWVDS (Desc)'!B30=\"\",\"\",'WWVDS (Desc)'!B30)","v":""},{"$f":"IF('WWVDS (Desc)'!C30=\"\",\"\",'WWVDS (Desc)'!C30)","v":""},{"$f":"IF('WWVDS (Desc)'!D30=\"\",\"\",'WWVDS (Desc)'!D30)","v":""},{"$f":"IF('WWVDS (Desc)'!E30=\"\",\"\",INDEX([1]OWNER!$A$2:$A$100,MATCH('WWVDS (Desc)'!$E30,[1]!MASTER_OWNER_DESC[#Data],0),0))","v":""},{"$f":"IF('WWVDS (Desc)'!F30=\"\",\"\",INDEX([1]COUNTY!$A$2:$A$80,MATCH('WWVDS (Desc)'!F30,[1]!MASTER_COUNTY_NAME[#Data],0),0))","v":""},{"$f":"IF('WWVDS (Desc)'!G30=\"\",\"\",'WWVDS (Desc)'!G30)","v":""},{"$f":"IF('WWVDS (Desc)'!H30=\"\",\"\",'WWVDS (Desc)'!H30)","v":""},{"$f":"IF('WWVDS (Desc)'!I30=\"\",\"\",INDEX([1]WWVDS_TYPE!$A$2:$A$4,MATCH('WWVDS (Desc)'!$I30,[1]!MASTER_WWVDS_TYPE_DESC[#Data],0),0))","v":""},{"$f":"IF('WWVDS (Desc)'!$J30=\"\",\"\",INDEX([1]ITS_DEV_MANUF_MODEL!$A$2:$E$1500,MATCH(1,([1]ITS_DEV_MANUF_MODEL!$E$2:$E$1500=\"WWD\")*([1]ITS_DEV_MANUF_MODEL!$D$2:$D$1500='WWVDS (Desc)'!$J30),0),1))","v":""},{"$f":"IF('WWVDS (Desc)'!$J30=\"\",\"\",INDEX([1]ITS_DEV_MANUF_MODEL!$A$2:$E$1500,MATCH(1,([1]ITS_DEV_MANUF_MODEL!$E$2:$E$1500=\"WWD\")*([1]ITS_DEV_MANUF_MODEL!$D$2:$D$1500='WWVDS (Desc)'!$J30),0),2))","v":""},{"$f":"IF('WWVDS (Desc)'!L30=\"\",\"\",'WWVDS (Desc)'!L30)","v":""},{"$f":"IF('WWVDS (Desc)'!M30=\"\",\"\",'WWVDS (Desc)'!M30)","v":""},{"$f":"IF('WWVDS (Desc)'!N30=\"\",\"\",'WWVDS (Desc)'!N30)","v":""},{"$f":"IF('WWVDS (Desc)'!O30=\"\",\"\",'WWVDS (Desc)'!O30)","v":""},{"$f":"IF('WWVDS (Desc)'!P30=\"\",\"\",'WWVDS (Desc)'!P30)","v":""}]
[{"$f":"IF('WWVDS (Desc)'!A31=\"\",\"\",'WWVDS (Desc)'!A31)","v":""},{"$f":"IF('WWVDS (Desc)'!B31=\"\",\"\",'WWVDS (Desc)'!B31)","v":""},{"$f":"IF('WWVDS (Desc)'!C31=\"\",\"\",'WWVDS (Desc)'!C31)","v":""},{"$f":"IF('WWVDS (Desc)'!D31=\"\",\"\",'WWVDS (Desc)'!D31)","v":""},{"$f":"IF('WWVDS (Desc)'!E31=\"\",\"\",INDEX([1]OWNER!$A$2:$A$100,MATCH('WWVDS (Desc)'!$E31,[1]!MASTER_OWNER_DESC[#Data],0),0))","v":""},{"$f":"IF('WWVDS (Desc)'!F31=\"\",\"\",INDEX([1]COUNTY!$A$2:$A$80,MATCH('WWVDS (Desc)'!F31,[1]!MASTER_COUNTY_NAME[#Data],0),0))","v":""},{"$f":"IF('WWVDS (Desc)'!G31=\"\",\"\",'WWVDS (Desc)'!G31)","v":""},{"$f":"IF('WWVDS (Desc)'!H31=\"\",\"\",'WWVDS (Desc)'!H31)","v":""},{"$f":"IF('WWVDS (Desc)'!I31=\"\",\"\",INDEX([1]WWVDS_TYPE!$A$2:$A$4,MATCH('WWVDS (Desc)'!$I31,[1]!MASTER_WWVDS_TYPE_DESC[#Data],0),0))","v":""},{"$f":"IF('WWVDS (Desc)'!$J31=\"\",\"\",INDEX([1]ITS_DEV_MANUF_MODEL!$A$2:$E$1500,MATCH(1,([1]ITS_DEV_MANUF_MODEL!$E$2:$E$1500=\"WWD\")*([1]ITS_DEV_MANUF_MODEL!$D$2:$D$1500='WWVDS (Desc)'!$J31),0),1))","v":""},{"$f":"IF('WWVDS (Desc)'!$J31=\"\",\"\",INDEX([1]ITS_DEV_MANUF_MODEL!$A$2:$E$1500,MATCH(1,([1]ITS_DEV_MANUF_MODEL!$E$2:$E$1500=\"WWD\")*([1]ITS_DEV_MANUF_MODEL!$D$2:$D$1500='WWVDS (Desc)'!$J31),0),2))","v":""},{"$f":"IF('WWVDS (Desc)'!L31=\"\",\"\",'WWVDS (Desc)'!L31)","v":""},{"$f":"IF('WWVDS (Desc)'!M31=\"\",\"\",'WWVDS (Desc)'!M31)","v":""},{"$f":"IF('WWVDS (Desc)'!N31=\"\",\"\",'WWVDS (Desc)'!N31)","v":""},{"$f":"IF('WWVDS (Desc)'!O31=\"\",\"\",'WWVDS (Desc)'!O31)","v":""},{"$f":"IF('WWVDS (Desc)'!P31=\"\",\"\",'WWVDS (Desc)'!P31)","v":""}]
[{"$f":"IF('WWVDS (Desc)'!A32=\"\",\"\",'WWVDS (Desc)'!A32)","v":""},{"$f":"IF('WWVDS (Desc)'!B32=\"\",\"\",'WWVDS (Desc)'!B32)","v":""},{"$f":"IF('WWVDS (Desc)'!C32=\"\",\"\",'WWVDS (Desc)'!C32)","v":""},{"$f":"IF('WWVDS (Desc)'!D32=\"\",\"\",'WWVDS (Desc)'!D32)","v":""},{"$f":"IF('WWVDS (Desc)'!E32=\"\",\"\",INDEX([1]OWNER!$A$2:$A$100,MATCH('WWVDS (Desc)'!$E32,[1]!MASTER_OWNER_DESC[#Data],0),0))","v":""},{"$f":"IF('WWVDS (Desc)'!F32=\"\",\"\",INDEX([1]COUNTY!$A$2:$A$80,MATCH('WWVDS (Desc)'!F32,[1]!MASTER_COUNTY_NAME[#Data],0),0))","v":""},{"$f":"IF('WWVDS (Desc)'!G32=\"\",\"\",'WWVDS (Desc)'!G32)","v":""},{"$f":"IF('WWVDS (Desc)'!H32=\"\",\"\",'WWVDS (Desc)'!H32)","v":""},{"$f":"IF('WWVDS (Desc)'!I32=\"\",\"\",INDEX([1]WWVDS_TYPE!$A$2:$A$4,MATCH('WWVDS (Desc)'!$I32,[1]!MASTER_WWVDS_TYPE_DESC[#Data],0),0))","v":""},{"$f":"IF('WWVDS (Desc)'!$J32=\"\",\"\",INDEX([1]ITS_DEV_MANUF_MODEL!$A$2:$E$1500,MATCH(1,([1]ITS_DEV_MANUF_MODEL!$E$2:$E$1500=\"WWD\")*([1]ITS_DEV_MANUF_MODEL!$D$2:$D$1500='WWVDS (Desc)'!$J32),0),1))","v":""},{"$f":"IF('WWVDS (Desc)'!$J32=\"\",\"\",INDEX([1]ITS_DEV_MANUF_MODEL!$A$2:$E$1500,MATCH(1,([1]ITS_DEV_MANUF_MODEL!$E$2:$E$1500=\"WWD\")*([1]ITS_DEV_MANUF_MODEL!$D$2:$D$1500='WWVDS (Desc)'!$J32),0),2))","v":""},{"$f":"IF('WWVDS (Desc)'!L32=\"\",\"\",'WWVDS (Desc)'!L32)","v":""},{"$f":"IF('WWVDS (Desc)'!M32=\"\",\"\",'WWVDS (Desc)'!M32)","v":""},{"$f":"IF('WWVDS (Desc)'!N32=\"\",\"\",'WWVDS (Desc)'!N32)","v":""},{"$f":"IF('WWVDS (Desc)'!O32=\"\",\"\",'WWVDS (Desc)'!O32)","v":""},{"$f":"IF('WWVDS (Desc)'!P32=\"\",\"\",'WWVDS (Desc)'!P32)","v":""}]
[{"$f":"IF('WWVDS (Desc)'!A33=\"\",\"\",'WWVDS (Desc)'!A33)","v":""},{"$f":"IF('WWVDS (Desc)'!B33=\"\",\"\",'WWVDS (Desc)'!B33)","v":""},{"$f":"IF('WWVDS (Desc)'!C33=\"\",\"\",'WWVDS (Desc)'!C33)","v":""},{"$f":"IF('WWVDS (Desc)'!D33=\"\",\"\",'WWVDS (Desc)'!D33)","v":""},{"$f":"IF('WWVDS (Desc)'!E33=\"\",\"\",INDEX([1]OWNER!$A$2:$A$100,MATCH('WWVDS (Desc)'!$E33,[1]!MASTER_OWNER_DESC[#Data],0),0))","v":""},{"$f":"IF('WWVDS (Desc)'!F33=\"\",\"\",INDEX([1]COUNTY!$A$2:$A$80,MATCH('WWVDS (Desc)'!F33,[1]!MASTER_COUNTY_NAME[#Data],0),0))","v":""},{"$f":"IF('WWVDS (Desc)'!G33=\"\",\"\",'WWVDS (Desc)'!G33)","v":""},{"$f":"IF('WWVDS (Desc)'!H33=\"\",\"\",'WWVDS (Desc)'!H33)","v":""},{"$f":"IF('WWVDS (Desc)'!I33=\"\",\"\",INDEX([1]WWVDS_TYPE!$A$2:$A$4,MATCH('WWVDS (Desc)'!$I33,[1]!MASTER_WWVDS_TYPE_DESC[#Data],0),0))","v":""},{"$f":"IF('WWVDS (Desc)'!$J33=\"\",\"\",INDEX([1]ITS_DEV_MANUF_MODEL!$A$2:$E$1500,MATCH(1,([1]ITS_DEV_MANUF_MODEL!$E$2:$E$1500=\"WWD\")*([1]ITS_DEV_MANUF_MODEL!$D$2:$D$1500='WWVDS (Desc)'!$J33),0),1))","v":""},{"$f":"IF('WWVDS (Desc)'!$J33=\"\",\"\",INDEX([1]ITS_DEV_MANUF_MODEL!$A$2:$E$1500,MATCH(1,([1]ITS_DEV_MANUF_MODEL!$E$2:$E$1500=\"WWD\")*([1]ITS_DEV_MANUF_MODEL!$D$2:$D$1500='WWVDS (Desc)'!$J33),0),2))","v":""},{"$f":"IF('WWVDS (Desc)'!L33=\"\",\"\",'WWVDS (Desc)'!L33)","v":""},{"$f":"IF('WWVDS (Desc)'!M33=\"\",\"\",'WWVDS (Desc)'!M33)","v":""},{"$f":"IF('WWVDS (Desc)'!N33=\"\",\"\",'WWVDS (Desc)'!N33)","v":""},{"$f":"IF('WWVDS (Desc)'!O33=\"\",\"\",'WWVDS (Desc)'!O33)","v":""},{"$f":"IF('WWVDS (Desc)'!P33=\"\",\"\",'WWVDS (Desc)'!P33)","v":""}]
[{"$f":"IF('WWVDS (Desc)'!A34=\"\",\"\",'WWVDS (Desc)'!A34)","v":""},{"$f":"IF('WWVDS (Desc)'!B34=\"\",\"\",'WWVDS (Desc)'!B34)","v":""},{"$f":"IF('WWVDS (Desc)'!C34=\"\",\"\",'WWVDS (Desc)'!C34)","v":""},{"$f":"IF('WWVDS (Desc)'!D34=\"\",\"\",'WWVDS (Desc)'!D34)","v":""},{"$f":"IF('WWVDS (Desc)'!E34=\"\",\"\",INDEX([1]OWNER!$A$2:$A$100,MATCH('WWVDS (Desc)'!$E34,[1]!MASTER_OWNER_DESC[#Data],0),0))","v":""},{"$f":"IF('WWVDS (Desc)'!F34=\"\",\"\",INDEX([1]COUNTY!$A$2:$A$80,MATCH('WWVDS (Desc)'!F34,[1]!MASTER_COUNTY_NAME[#Data],0),0))","v":""},{"$f":"IF('WWVDS (Desc)'!G34=\"\",\"\",'WWVDS (Desc)'!G34)","v":""},{"$f":"IF('WWVDS (Desc)'!H34=\"\",\"\",'WWVDS (Desc)'!H34)","v":""},{"$f":"IF('WWVDS (Desc)'!I34=\"\",\"\",INDEX([1]WWVDS_TYPE!$A$2:$A$4,MATCH('WWVDS (Desc)'!$I34,[1]!MASTER_WWVDS_TYPE_DESC[#Data],0),0))","v":""},{"$f":"IF('WWVDS (Desc)'!$J34=\"\",\"\",INDEX([1]ITS_DEV_MANUF_MODEL!$A$2:$E$1500,MATCH(1,([1]ITS_DEV_MANUF_MODEL!$E$2:$E$1500=\"WWD\")*([1]ITS_DEV_MANUF_MODEL!$D$2:$D$1500='WWVDS (Desc)'!$J34),0),1))","v":""},{"$f":"IF('WWVDS (Desc)'!$J34=\"\",\"\",INDEX([1]ITS_DEV_MANUF_MODEL!$A$2:$E$1500,MATCH(1,([1]ITS_DEV_MANUF_MODEL!$E$2:$E$1500=\"WWD\")*([1]ITS_DEV_MANUF_MODEL!$D$2:$D$1500='WWVDS (Desc)'!$J34),0),2))","v":""},{"$f":"IF('WWVDS (Desc)'!L34=\"\",\"\",'WWVDS (Desc)'!L34)","v":""},{"$f":"IF('WWVDS (Desc)'!M34=\"\",\"\",'WWVDS (Desc)'!M34)","v":""},{"$f":"IF('WWVDS (Desc)'!N34=\"\",\"\",'WWVDS (Desc)'!N34)","v":""},{"$f":"IF('WWVDS (Desc)'!O34=\"\",\"\",'WWVDS (Desc)'!O34)","v":""},{"$f":"IF('WWVDS (Desc)'!P34=\"\",\"\",'WWVDS (Desc)'!P34)","v":""}]
[{"$f":"IF('WWVDS (Desc)'!A35=\"\",\"\",'WWVDS (Desc)'!A35)","v":""},{"$f":"IF('WWVDS (Desc)'!B35=\"\",\"\",'WWVDS (Desc)'!B35)","v":""},{"$f":"IF('WWVDS (Desc)'!C35=\"\",\"\",'WWVDS (Desc)'!C35)","v":""},{"$f":"IF('WWVDS (Desc)'!D35=\"\",\"\",'WWVDS (Desc)'!D35)","v":""},{"$f":"IF('WWVDS (Desc)'!E35=\"\",\"\",INDEX([1]OWNER!$A$2:$A$100,MATCH('WWVDS (Desc)'!$E35,[1]!MASTER_OWNER_DESC[#Data],0),0))","v":""},{"$f":"IF('WWVDS (Desc)'!F35=\"\",\"\",INDEX([1]COUNTY!$A$2:$A$80,MATCH('WWVDS (Desc)'!F35,[1]!MASTER_COUNTY_NAME[#Data],0),0))","v":""},{"$f":"IF('WWVDS (Desc)'!G35=\"\",\"\",'WWVDS (Desc)'!G35)","v":""},{"$f":"IF('WWVDS (Desc)'!H35=\"\",\"\",'WWVDS (Desc)'!H35)","v":""},{"$f":"IF('WWVDS (Desc)'!I35=\"\",\"\",INDEX([1]WWVDS_TYPE!$A$2:$A$4,MATCH('WWVDS (Desc)'!$I35,[1]!MASTER_WWVDS_TYPE_DESC[#Data],0),0))","v":""},{"$f":"IF('WWVDS (Desc)'!$J35=\"\",\"\",INDEX([1]ITS_DEV_MANUF_MODEL!$A$2:$E$1500,MATCH(1,([1]ITS_DEV_MANUF_MODEL!$E$2:$E$1500=\"WWD\")*([1]ITS_DEV_MANUF_MODEL!$D$2:$D$1500='WWVDS (Desc)'!$J35),0),1))","v":""},{"$f":"IF('WWVDS (Desc)'!$J35=\"\",\"\",INDEX([1]ITS_DEV_MANUF_MODEL!$A$2:$E$1500,MATCH(1,([1]ITS_DEV_MANUF_MODEL!$E$2:$E$1500=\"WWD\")*([1]ITS_DEV_MANUF_MODEL!$D$2:$D$1500='WWVDS (Desc)'!$J35),0),2))","v":""},{"$f":"IF('WWVDS (Desc)'!L35=\"\",\"\",'WWVDS (Desc)'!L35)","v":""},{"$f":"IF('WWVDS (Desc)'!M35=\"\",\"\",'WWVDS (Desc)'!M35)","v":""},{"$f":"IF('WWVDS (Desc)'!N35=\"\",\"\",'WWVDS (Desc)'!N35)","v":""},{"$f":"IF('WWVDS (Desc)'!O35=\"\",\"\",'WWVDS (Desc)'!O35)","v":""},{"$f":"IF('WWVDS (Desc)'!P35=\"\",\"\",'WWVDS (Desc)'!P35)","v":""}]
[{"$f":"IF('WWVDS (Desc)'!A36=\"\",\"\",'WWVDS (Desc)'!A36)","v":""},{"$f":"IF('WWVDS (Desc)'!B36=\"\",\"\",'WWVDS (Desc)'!B36)","v":""},{"$f":"IF('WWVDS (Desc)'!C36=\"\",\"\",'WWVDS (Desc)'!C36)","v":""},{"$f":"IF('WWVDS (Desc)'!D36=\"\",\"\",'WWVDS (Desc)'!D36)","v":""},{"$f":"IF('WWVDS (Desc)'!E36=\"\",\"\",INDEX([1]OWNER!$A$2:$A$100,MATCH('WWVDS (Desc)'!$E36,[1]!MASTER_OWNER_DESC[#Data],0),0))","v":""},{"$f":"IF('WWVDS (Desc)'!F36=\"\",\"\",INDEX([1]COUNTY!$A$2:$A$80,MATCH('WWVDS (Desc)'!F36,[1]!MASTER_COUNTY_NAME[#Data],0),0))","v":""},{"$f":"IF('WWVDS (Desc)'!G36=\"\",\"\",'WWVDS (Desc)'!G36)","v":""},{"$f":"IF('WWVDS (Desc)'!H36=\"\",\"\",'WWVDS (Desc)'!H36)","v":""},{"$f":"IF('WWVDS (Desc)'!I36=\"\",\"\",INDEX([1]WWVDS_TYPE!$A$2:$A$4,MATCH('WWVDS (Desc)'!$I36,[1]!MASTER_WWVDS_TYPE_DESC[#Data],0),0))","v":""},{"$f":"IF('WWVDS (Desc)'!$J36=\"\",\"\",INDEX([1]ITS_DEV_MANUF_MODEL!$A$2:$E$1500,MATCH(1,([1]ITS_DEV_MANUF_MODEL!$E$2:$E$1500=\"WWD\")*([1]ITS_DEV_MANUF_MODEL!$D$2:$D$1500='WWVDS (Desc)'!$J36),0),1))","v":""},{"$f":"IF('WWVDS (Desc)'!$J36=\"\",\"\",INDEX([1]ITS_DEV_MANUF_MODEL!$A$2:$E$1500,MATCH(1,([1]ITS_DEV_MANUF_MODEL!$E$2:$E$1500=\"WWD\")*([1]ITS_DEV_MANUF_MODEL!$D$2:$D$1500='WWVDS (Desc)'!$J36),0),2))","v":""},{"$f":"IF('WWVDS (Desc)'!L36=\"\",\"\",'WWVDS (Desc)'!L36)","v":""},{"$f":"IF('WWVDS (Desc)'!M36=\"\",\"\",'WWVDS (Desc)'!M36)","v":""},{"$f":"IF('WWVDS (Desc)'!N36=\"\",\"\",'WWVDS (Desc)'!N36)","v":""},{"$f":"IF('WWVDS (Desc)'!O36=\"\",\"\",'WWVDS (Desc)'!O36)","v":""},{"$f":"IF('WWVDS (Desc)'!P36=\"\",\"\",'WWVDS (Desc)'!P36)","v":""}]
[{"$f":"IF('WWVDS (Desc)'!A37=\"\",\"\",'WWVDS (Desc)'!A37)","v":""},{"$f":"IF('WWVDS (Desc)'!B37=\"\",\"\",'WWVDS (Desc)'!B37)","v":""},{"$f":"IF('WWVDS (Desc)'!C37=\"\",\"\",'WWVDS (Desc)'!C37)","v":""},{"$f":"IF('WWVDS (Desc)'!D37=\"\",\"\",'WWVDS (Desc)'!D37)","v":""},{"$f":"IF('WWVDS (Desc)'!E37=\"\",\"\",INDEX([1]OWNER!$A$2:$A$100,MATCH('WWVDS (Desc)'!$E37,[1]!MASTER_OWNER_DESC[#Data],0),0))","v":""},{"$f":"IF('WWVDS (Desc)'!F37=\"\",\"\",INDEX([1]COUNTY!$A$2:$A$80,MATCH('WWVDS (Desc)'!F37,[1]!MASTER_COUNTY_NAME[#Data],0),0))","v":""},{"$f":"IF('WWVDS (Desc)'!G37=\"\",\"\",'WWVDS (Desc)'!G37)","v":""},{"$f":"IF('WWVDS (Desc)'!H37=\"\",\"\",'WWVDS (Desc)'!H37)","v":""},{"$f":"IF('WWVDS (Desc)'!I37=\"\",\"\",INDEX([1]WWVDS_TYPE!$A$2:$A$4,MATCH('WWVDS (Desc)'!$I37,[1]!MASTER_WWVDS_TYPE_DESC[#Data],0),0))","v":""},{"$f":"IF('WWVDS (Desc)'!$J37=\"\",\"\",INDEX([1]ITS_DEV_MANUF_MODEL!$A$2:$E$1500,MATCH(1,([1]ITS_DEV_MANUF_MODEL!$E$2:$E$1500=\"WWD\")*([1]ITS_DEV_MANUF_MODEL!$D$2:$D$1500='WWVDS (Desc)'!$J37),0),1))","v":""},{"$f":"IF('WWVDS (Desc)'!$J37=\"\",\"\",INDEX([1]ITS_DEV_MANUF_MODEL!$A$2:$E$1500,MATCH(1,([1]ITS_DEV_MANUF_MODEL!$E$2:$E$1500=\"WWD\")*([1]ITS_DEV_MANUF_MODEL!$D$2:$D$1500='WWVDS (Desc)'!$J37),0),2))","v":""},{"$f":"IF('WWVDS (Desc)'!L37=\"\",\"\",'WWVDS (Desc)'!L37)","v":""},{"$f":"IF('WWVDS (Desc)'!M37=\"\",\"\",'WWVDS (Desc)'!M37)","v":""},{"$f":"IF('WWVDS (Desc)'!N37=\"\",\"\",'WWVDS (Desc)'!N37)","v":""},{"$f":"IF('WWVDS (Desc)'!O37=\"\",\"\",'WWVDS (Desc)'!O37)","v":""},{"$f":"IF('WWVDS (Desc)'!P37=\"\",\"\",'WWVDS (Desc)'!P37)","v":""}]
[{"$f":"IF('WWVDS (Desc)'!A38=\"\",\"\",'WWVDS (Desc)'!A38)","v":""},{"$f":"IF('WWVDS (Desc)'!B38=\"\",\"\",'WWVDS (Desc)'!B38)","v":""},{"$f":"IF('WWVDS (Desc)'!C38=\"\",\"\",'WWVDS (Desc)'!C38)","v":""},{"$f":"IF('WWVDS (Desc)'!D38=\"\",\"\",'WWVDS (Desc)'!D38)","v":""},{"$f":"IF('WWVDS (Desc)'!E38=\"\",\"\",INDEX([1]OWNER!$A$2:$A$100,MATCH('WWVDS (Desc)'!$E38,[1]!MASTER_OWNER_DESC[#Data],0),0))","v":""},{"$f":"IF('WWVDS (Desc)'!F38=\"\",\"\",INDEX([1]COUNTY!$A$2:$A$80,MATCH('WWVDS (Desc)'!F38,[1]!MASTER_COUNTY_NAME[#Data],0),0))","v":""},{"$f":"IF('WWVDS (Desc)'!G38=\"\",\"\",'WWVDS (Desc)'!G38)","v":""},{"$f":"IF('WWVDS (Desc)'!H38=\"\",\"\",'WWVDS (Desc)'!H38)","v":""},{"$f":"IF('WWVDS (Desc)'!I38=\"\",\"\",INDEX([1]WWVDS_TYPE!$A$2:$A$4,MATCH('WWVDS (Desc)'!$I38,[1]!MASTER_WWVDS_TYPE_DESC[#Data],0),0))","v":""},{"$f":"IF('WWVDS (Desc)'!$J38=\"\",\"\",INDEX([1]ITS_DEV_MANUF_MODEL!$A$2:$E$1500,MATCH(1,([1]ITS_DEV_MANUF_MODEL!$E$2:$E$1500=\"WWD\")*([1]ITS_DEV_MANUF_MODEL!$D$2:$D$1500='WWVDS (Desc)'!$J38),0),1))","v":""},{"$f":"IF('WWVDS (Desc)'!$J38=\"\",\"\",INDEX([1]ITS_DEV_MANUF_MODEL!$A$2:$E$1500,MATCH(1,([1]ITS_DEV_MANUF_MODEL!$E$2:$E$1500=\"WWD\")*([1]ITS_DEV_MANUF_MODEL!$D$2:$D$1500='WWVDS (Desc)'!$J38),0),2))","v":""},{"$f":"IF('WWVDS (Desc)'!L38=\"\",\"\",'WWVDS (Desc)'!L38)","v":""},{"$f":"IF('WWVDS (Desc)'!M38=\"\",\"\",'WWVDS (Desc)'!M38)","v":""},{"$f":"IF('WWVDS (Desc)'!N38=\"\",\"\",'WWVDS (Desc)'!N38)","v":""},{"$f":"IF('WWVDS (Desc)'!O38=\"\",\"\",'WWVDS (Desc)'!O38)","v":""},{"$f":"IF('WWVDS (Desc)'!P38=\"\",\"\",'WWVDS (Desc)'!P38)","v":""}]
[{"$f":"IF('WWVDS (Desc)'!A39=\"\",\"\",'WWVDS (Desc)'!A39)","v":""},{"$f":"IF('WWVDS (Desc)'!B39=\"\",\"\",'WWVDS (Desc)'!B39)","v":""},{"$f":"IF('WWVDS (Desc)'!C39=\"\",\"\",'WWVDS (Desc)'!C39)","v":""},{"$f":"IF('WWVDS (Desc)'!D39=\"\",\"\",'WWVDS (Desc)'!D39)","v":""},{"$f":"IF('WWVDS (Desc)'!E39=\"\",\"\",INDEX([1]OWNER!$A$2:$A$100,MATCH('WWVDS (Desc)'!$E39,[1]!MASTER_OWNER_DESC[#Data],0),0))","v":""},{"$f":"IF('WWVDS (Desc)'!F39=\"\",\"\",INDEX([1]COUNTY!$A$2:$A$80,MATCH('WWVDS (Desc)'!F39,[1]!MASTER_COUNTY_NAME[#Data],0),0))","v":""},{"$f":"IF('WWVDS (Desc)'!G39=\"\",\"\",'WWVDS (Desc)'!G39)","v":""},{"$f":"IF('WWVDS (Desc)'!H39=\"\",\"\",'WWVDS (Desc)'!H39)","v":""},{"$f":"IF('WWVDS (Desc)'!I39=\"\",\"\",INDEX([1]WWVDS_TYPE!$A$2:$A$4,MATCH('WWVDS (Desc)'!$I39,[1]!MASTER_WWVDS_TYPE_DESC[#Data],0),0))","v":""},{"$f":"IF('WWVDS (Desc)'!$J39=\"\",\"\",INDEX([1]ITS_DEV_MANUF_MODEL!$A$2:$E$1500,MATCH(1,([1]ITS_DEV_MANUF_MODEL!$E$2:$E$1500=\"WWD\")*([1]ITS_DEV_MANUF_MODEL!$D$2:$D$1500='WWVDS (Desc)'!$J39),0),1))","v":""},{"$f":"IF('WWVDS (Desc)'!$J39=\"\",\"\",INDEX([1]ITS_DEV_MANUF_MODEL!$A$2:$E$1500,MATCH(1,([1]ITS_DEV_MANUF_MODEL!$E$2:$E$1500=\"WWD\")*([1]ITS_DEV_MANUF_MODEL!$D$2:$D$1500='WWVDS (Desc)'!$J39),0),2))","v":""},{"$f":"IF('WWVDS (Desc)'!L39=\"\",\"\",'WWVDS (Desc)'!L39)","v":""},{"$f":"IF('WWVDS (Desc)'!M39=\"\",\"\",'WWVDS (Desc)'!M39)","v":""},{"$f":"IF('WWVDS (Desc)'!N39=\"\",\"\",'WWVDS (Desc)'!N39)","v":""},{"$f":"IF('WWVDS (Desc)'!O39=\"\",\"\",'WWVDS (Desc)'!O39)","v":""},{"$f":"IF('WWVDS (Desc)'!P39=\"\",\"\",'WWVDS (Desc)'!P39)","v":""}]
[{"$f":"IF('WWVDS (Desc)'!A40=\"\",\"\",'WWVDS (Desc)'!A40)","v":""},{"$f":"IF('WWVDS (Desc)'!B40=\"\",\"\",'WWVDS (Desc)'!B40)","v":""},{"$f":"IF('WWVDS (Desc)'!C40=\"\",\"\",'WWVDS (Desc)'!C40)","v":""},{"$f":"IF('WWVDS (Desc)'!D40=\"\",\"\",'WWVDS (Desc)'!D40)","v":""},{"$f":"IF('WWVDS (Desc)'!E40=\"\",\"\",INDEX([1]OWNER!$A$2:$A$100,MATCH('WWVDS (Desc)'!$E40,[1]!MASTER_OWNER_DESC[#Data],0),0))","v":""},{"$f":"IF('WWVDS (Desc)'!F40=\"\",\"\",INDEX([1]COUNTY!$A$2:$A$80,MATCH('WWVDS (Desc)'!F40,[1]!MASTER_COUNTY_NAME[#Data],0),0))","v":""},{"$f":"IF('WWVDS (Desc)'!G40=\"\",\"\",'WWVDS (Desc)'!G40)","v":""},{"$f":"IF('WWVDS (Desc)'!H40=\"\",\"\",'WWVDS (Desc)'!H40)","v":""},{"$f":"IF('WWVDS (Desc)'!I40=\"\",\"\",INDEX([1]WWVDS_TYPE!$A$2:$A$4,MATCH('WWVDS (Desc)'!$I40,[1]!MASTER_WWVDS_TYPE_DESC[#Data],0),0))","v":""},{"$f":"IF('WWVDS (Desc)'!$J40=\"\",\"\",INDEX([1]ITS_DEV_MANUF_MODEL!$A$2:$E$1500,MATCH(1,([1]ITS_DEV_MANUF_MODEL!$E$2:$E$1500=\"WWD\")*([1]ITS_DEV_MANUF_MODEL!$D$2:$D$1500='WWVDS (Desc)'!$J40),0),1))","v":""},{"$f":"IF('WWVDS (Desc)'!$J40=\"\",\"\",INDEX([1]ITS_DEV_MANUF_MODEL!$A$2:$E$1500,MATCH(1,([1]ITS_DEV_MANUF_MODEL!$E$2:$E$1500=\"WWD\")*([1]ITS_DEV_MANUF_MODEL!$D$2:$D$1500='WWVDS (Desc)'!$J40),0),2))","v":""},{"$f":"IF('WWVDS (Desc)'!L40=\"\",\"\",'WWVDS (Desc)'!L40)","v":""},{"$f":"IF('WWVDS (Desc)'!M40=\"\",\"\",'WWVDS (Desc)'!M40)","v":""},{"$f":"IF('WWVDS (Desc)'!N40=\"\",\"\",'WWVDS (Desc)'!N40)","v":""},{"$f":"IF('WWVDS (Desc)'!O40=\"\",\"\",'WWVDS (Desc)'!O40)","v":""},{"$f":"IF('WWVDS (Desc)'!P40=\"\",\"\",'WWVDS (Desc)'!P40)","v":""}]
[{"$f":"IF('WWVDS (Desc)'!A41=\"\",\"\",'WWVDS (Desc)'!A41)","v":""},{"$f":"IF('WWVDS (Desc)'!B41=\"\",\"\",'WWVDS (Desc)'!B41)","v":""},{"$f":"IF('WWVDS (Desc)'!C41=\"\",\"\",'WWVDS (Desc)'!C41)","v":""},{"$f":"IF('WWVDS (Desc)'!D41=\"\",\"\",'WWVDS (Desc)'!D41)","v":""},{"$f":"IF('WWVDS (Desc)'!E41=\"\",\"\",INDEX([1]OWNER!$A$2:$A$100,MATCH('WWVDS (Desc)'!$E41,[1]!MASTER_OWNER_DESC[#Data],0),0))","v":""},{"$f":"IF('WWVDS (Desc)'!F41=\"\",\"\",INDEX([1]COUNTY!$A$2:$A$80,MATCH('WWVDS (Desc)'!F41,[1]!MASTER_COUNTY_NAME[#Data],0),0))","v":""},{"$f":"IF('WWVDS (Desc)'!G41=\"\",\"\",'WWVDS (Desc)'!G41)","v":""},{"$f":"IF('WWVDS (Desc)'!H41=\"\",\"\",'WWVDS (Desc)'!H41)","v":""},{"$f":"IF('WWVDS (Desc)'!I41=\"\",\"\",INDEX([1]WWVDS_TYPE!$A$2:$A$4,MATCH('WWVDS (Desc)'!$I41,[1]!MASTER_WWVDS_TYPE_DESC[#Data],0),0))","v":""},{"$f":"IF('WWVDS (Desc)'!$J41=\"\",\"\",INDEX([1]ITS_DEV_MANUF_MODEL!$A$2:$E$1500,MATCH(1,([1]ITS_DEV_MANUF_MODEL!$E$2:$E$1500=\"WWD\")*([1]ITS_DEV_MANUF_MODEL!$D$2:$D$1500='WWVDS (Desc)'!$J41),0),1))","v":""},{"$f":"IF('WWVDS (Desc)'!$J41=\"\",\"\",INDEX([1]ITS_DEV_MANUF_MODEL!$A$2:$E$1500,MATCH(1,([1]ITS_DEV_MANUF_MODEL!$E$2:$E$1500=\"WWD\")*([1]ITS_DEV_MANUF_MODEL!$D$2:$D$1500='WWVDS (Desc)'!$J41),0),2))","v":""},{"$f":"IF('WWVDS (Desc)'!L41=\"\",\"\",'WWVDS (Desc)'!L41)","v":""},{"$f":"IF('WWVDS (Desc)'!M41=\"\",\"\",'WWVDS (Desc)'!M41)","v":""},{"$f":"IF('WWVDS (Desc)'!N41=\"\",\"\",'WWVDS (Desc)'!N41)","v":""},{"$f":"IF('WWVDS (Desc)'!O41=\"\",\"\",'WWVDS (Desc)'!O41)","v":""},{"$f":"IF('WWVDS (Desc)'!P41=\"\",\"\",'WWVDS (Desc)'!P41)","v":""}]
[{"$f":"IF('WWVDS (Desc)'!A42=\"\",\"\",'WWVDS (Desc)'!A42)","v":""},{"$f":"IF('WWVDS (Desc)'!B42=\"\",\"\",'WWVDS (Desc)'!B42)","v":""},{"$f":"IF('WWVDS (Desc)'!C42=\"\",\"\",'WWVDS (Desc)'!C42)","v":""},{"$f":"IF('WWVDS (Desc)'!D42=\"\",\"\",'WWVDS (Desc)'!D42)","v":""},{"$f":"IF('WWVDS (Desc)'!E42=\"\",\"\",INDEX([1]OWNER!$A$2:$A$100,MATCH('WWVDS (Desc)'!$E42,[1]!MASTER_OWNER_DESC[#Data],0),0))","v":""},{"$f":"IF('WWVDS (Desc)'!F42=\"\",\"\",INDEX([1]COUNTY!$A$2:$A$80,MATCH('WWVDS (Desc)'!F42,[1]!MASTER_COUNTY_NAME[#Data],0),0))","v":""},{"$f":"IF('WWVDS (Desc)'!G42=\"\",\"\",'WWVDS (Desc)'!G42)","v":""},{"$f":"IF('WWVDS (Desc)'!H42=\"\",\"\",'WWVDS (Desc)'!H42)","v":""},{"$f":"IF('WWVDS (Desc)'!I42=\"\",\"\",INDEX([1]WWVDS_TYPE!$A$2:$A$4,MATCH('WWVDS (Desc)'!$I42,[1]!MASTER_WWVDS_TYPE_DESC[#Data],0),0))","v":""},{"$f":"IF('WWVDS (Desc)'!$J42=\"\",\"\",INDEX([1]ITS_DEV_MANUF_MODEL!$A$2:$E$1500,MATCH(1,([1]ITS_DEV_MANUF_MODEL!$E$2:$E$1500=\"WWD\")*([1]ITS_DEV_MANUF_MODEL!$D$2:$D$1500='WWVDS (Desc)'!$J42),0),1))","v":""},{"$f":"IF('WWVDS (Desc)'!$J42=\"\",\"\",INDEX([1]ITS_DEV_MANUF_MODEL!$A$2:$E$1500,MATCH(1,([1]ITS_DEV_MANUF_MODEL!$E$2:$E$1500=\"WWD\")*([1]ITS_DEV_MANUF_MODEL!$D$2:$D$1500='WWVDS (Desc)'!$J42),0),2))","v":""},{"$f":"IF('WWVDS (Desc)'!L42=\"\",\"\",'WWVDS (Desc)'!L42)","v":""},{"$f":"IF('WWVDS (Desc)'!M42=\"\",\"\",'WWVDS (Desc)'!M42)","v":""},{"$f":"IF('WWVDS (Desc)'!N42=\"\",\"\",'WWVDS (Desc)'!N42)","v":""},{"$f":"IF('WWVDS (Desc)'!O42=\"\",\"\",'WWVDS (Desc)'!O42)","v":""},{"$f":"IF('WWVDS (Desc)'!P42=\"\",\"\",'WWVDS (Desc)'!P42)","v":""}]
[{"$f":"IF('WWVDS (Desc)'!A43=\"\",\"\",'WWVDS (Desc)'!A43)","v":""},{"$f":"IF('WWVDS (Desc)'!B43=\"\",\"\",'WWVDS (Desc)'!B43)","v":""},{"$f":"IF('WWVDS (Desc)'!C43=\"\",\"\",'WWVDS (Desc)'!C43)","v":""},{"$f":"IF('WWVDS (Desc)'!D43=\"\",\"\",'WWVDS (Desc)'!D43)","v":""},{"$f":"IF('WWVDS (Desc)'!E43=\"\",\"\",INDEX([1]OWNER!$A$2:$A$100,MATCH('WWVDS (Desc)'!$E43,[1]!MASTER_OWNER_DESC[#Data],0),0))","v":""},{"$f":"IF('WWVDS (Desc)'!F43=\"\",\"\",INDEX([1]COUNTY!$A$2:$A$80,MATCH('WWVDS (Desc)'!F43,[1]!MASTER_COUNTY_NAME[#Data],0),0))","v":""},{"$f":"IF('WWVDS (Desc)'!G43=\"\",\"\",'WWVDS (Desc)'!G43)","v":""},{"$f":"IF('WWVDS (Desc)'!H43=\"\",\"\",'WWVDS (Desc)'!H43)","v":""},{"$f":"IF('WWVDS (Desc)'!I43=\"\",\"\",INDEX([1]WWVDS_TYPE!$A$2:$A$4,MATCH('WWVDS (Desc)'!$I43,[1]!MASTER_WWVDS_TYPE_DESC[#Data],0),0))","v":""},{"$f":"IF('WWVDS (Desc)'!$J43=\"\",\"\",INDEX([1]ITS_DEV_MANUF_MODEL!$A$2:$E$1500,MATCH(1,([1]ITS_DEV_MANUF_MODEL!$E$2:$E$1500=\"WWD\")*([1]ITS_DEV_MANUF_MODEL!$D$2:$D$1500='WWVDS (Desc)'!$J43),0),1))","v":""},{"$f":"IF('WWVDS (Desc)'!$J43=\"\",\"\",INDEX([1]ITS_DEV_MANUF_MODEL!$A$2:$E$1500,MATCH(1,([1]ITS_DEV_MANUF_MODEL!$E$2:$E$1500=\"WWD\")*([1]ITS_DEV_MANUF_MODEL!$D$2:$D$1500='WWVDS (Desc)'!$J43),0),2))","v":""},{"$f":"IF('WWVDS (Desc)'!L43=\"\",\"\",'WWVDS (Desc)'!L43)","v":""},{"$f":"IF('WWVDS (Desc)'!M43=\"\",\"\",'WWVDS (Desc)'!M43)","v":""},{"$f":"IF('WWVDS (Desc)'!N43=\"\",\"\",'WWVDS (Desc)'!N43)","v":""},{"$f":"IF('WWVDS (Desc)'!O43=\"\",\"\",'WWVDS (Desc)'!O43)","v":""},{"$f":"IF('WWVDS (Desc)'!P43=\"\",\"\",'WWVDS (Desc)'!P43)","v":""}]
[{"$f":"IF('WWVDS (Desc)'!A44=\"\",\"\",'WWVDS (Desc)'!A44)","v":""},{"$f":"IF('WWVDS (Desc)'!B44=\"\",\"\",'WWVDS (Desc)'!B44)","v":""},{"$f":"IF('WWVDS (Desc)'!C44=\"\",\"\",'WWVDS (Desc)'!C44)","v":""},{"$f":"IF('WWVDS (Desc)'!D44=\"\",\"\",'WWVDS (Desc)'!D44)","v":""},{"$f":"IF('WWVDS (Desc)'!E44=\"\",\"\",INDEX([1]OWNER!$A$2:$A$100,MATCH('WWVDS (Desc)'!$E44,[1]!MASTER_OWNER_DESC[#Data],0),0))","v":""},{"$f":"IF('WWVDS (Desc)'!F44=\"\",\"\",INDEX([1]COUNTY!$A$2:$A$80,MATCH('WWVDS (Desc)'!F44,[1]!MASTER_COUNTY_NAME[#Data],0),0))","v":""},{"$f":"IF('WWVDS (Desc)'!G44=\"\",\"\",'WWVDS (Desc)'!G44)","v":""},{"$f":"IF('WWVDS (Desc)'!H44=\"\",\"\",'WWVDS (Desc)'!H44)","v":""},{"$f":"IF('WWVDS (Desc)'!I44=\"\",\"\",INDEX([1]WWVDS_TYPE!$A$2:$A$4,MATCH('WWVDS (Desc)'!$I44,[1]!MASTER_WWVDS_TYPE_DESC[#Data],0),0))","v":""},{"$f":"IF('WWVDS (Desc)'!$J44=\"\",\"\",INDEX([1]ITS_DEV_MANUF_MODEL!$A$2:$E$1500,MATCH(1,([1]ITS_DEV_MANUF_MODEL!$E$2:$E$1500=\"WWD\")*([1]ITS_DEV_MANUF_MODEL!$D$2:$D$1500='WWVDS (Desc)'!$J44),0),1))","v":""},{"$f":"IF('WWVDS (Desc)'!$J44=\"\",\"\",INDEX([1]ITS_DEV_MANUF_MODEL!$A$2:$E$1500,MATCH(1,([1]ITS_DEV_MANUF_MODEL!$E$2:$E$1500=\"WWD\")*([1]ITS_DEV_MANUF_MODEL!$D$2:$D$1500='WWVDS (Desc)'!$J44),0),2))","v":""},{"$f":"IF('WWVDS (Desc)'!L44=\"\",\"\",'WWVDS (Desc)'!L44)","v":""},{"$f":"IF('WWVDS (Desc)'!M44=\"\",\"\",'WWVDS (Desc)'!M44)","v":""},{"$f":"IF('WWVDS (Desc)'!N44=\"\",\"\",'WWVDS (Desc)'!N44)","v":""},{"$f":"IF('WWVDS (Desc)'!O44=\"\",\"\",'WWVDS (Desc)'!O44)","v":""},{"$f":"IF('WWVDS (Desc)'!P44=\"\",\"\",'WWVDS (Desc)'!P44)","v":""}]
[{"$f":"IF('WWVDS (Desc)'!A45=\"\",\"\",'WWVDS (Desc)'!A45)","v":""},{"$f":"IF('WWVDS (Desc)'!B45=\"\",\"\",'WWVDS (Desc)'!B45)","v":""},{"$f":"IF('WWVDS (Desc)'!C45=\"\",\"\",'WWVDS (Desc)'!C45)","v":""},{"$f":"IF('WWVDS (Desc)'!D45=\"\",\"\",'WWVDS (Desc)'!D45)","v":""},{"$f":"IF('WWVDS (Desc)'!E45=\"\",\"\",INDEX([1]OWNER!$A$2:$A$100,MATCH('WWVDS (Desc)'!$E45,[1]!MASTER_OWNER_DESC[#Data],0),0))","v":""},{"$f":"IF('WWVDS (Desc)'!F45=\"\",\"\",INDEX([1]COUNTY!$A$2:$A$80,MATCH('WWVDS (Desc)'!F45,[1]!MASTER_COUNTY_NAME[#Data],0),0))","v":""},{"$f":"IF('WWVDS (Desc)'!G45=\"\",\"\",'WWVDS (Desc)'!G45)","v":""},{"$f":"IF('WWVDS (Desc)'!H45=\"\",\"\",'WWVDS (Desc)'!H45)","v":""},{"$f":"IF('WWVDS (Desc)'!I45=\"\",\"\",INDEX([1]WWVDS_TYPE!$A$2:$A$4,MATCH('WWVDS (Desc)'!$I45,[1]!MASTER_WWVDS_TYPE_DESC[#Data],0),0))","v":""},{"$f":"IF('WWVDS (Desc)'!$J45=\"\",\"\",INDEX([1]ITS_DEV_MANUF_MODEL!$A$2:$E$1500,MATCH(1,([1]ITS_DEV_MANUF_MODEL!$E$2:$E$1500=\"WWD\")*([1]ITS_DEV_MANUF_MODEL!$D$2:$D$1500='WWVDS (Desc)'!$J45),0),1))","v":""},{"$f":"IF('WWVDS (Desc)'!$J45=\"\",\"\",INDEX([1]ITS_DEV_MANUF_MODEL!$A$2:$E$1500,MATCH(1,([1]ITS_DEV_MANUF_MODEL!$E$2:$E$1500=\"WWD\")*([1]ITS_DEV_MANUF_MODEL!$D$2:$D$1500='WWVDS (Desc)'!$J45),0),2))","v":""},{"$f":"IF('WWVDS (Desc)'!L45=\"\",\"\",'WWVDS (Desc)'!L45)","v":""},{"$f":"IF('WWVDS (Desc)'!M45=\"\",\"\",'WWVDS (Desc)'!M45)","v":""},{"$f":"IF('WWVDS (Desc)'!N45=\"\",\"\",'WWVDS (Desc)'!N45)","v":""},{"$f":"IF('WWVDS (Desc)'!O45=\"\",\"\",'WWVDS (Desc)'!O45)","v":""},{"$f":"IF('WWVDS (Desc)'!P45=\"\",\"\",'WWVDS (Desc)'!P45)","v":""}]
[{"$f":"IF('WWVDS (Desc)'!A46=\"\",\"\",'WWVDS (Desc)'!A46)","v":""},{"$f":"IF('WWVDS (Desc)'!B46=\"\",\"\",'WWVDS (Desc)'!B46)","v":""},{"$f":"IF('WWVDS (Desc)'!C46=\"\",\"\",'WWVDS (Desc)'!C46)","v":""},{"$f":"IF('WWVDS (Desc)'!D46=\"\",\"\",'WWVDS (Desc)'!D46)","v":""},{"$f":"IF('WWVDS (Desc)'!E46=\"\",\"\",INDEX([1]OWNER!$A$2:$A$100,MATCH('WWVDS (Desc)'!$E46,[1]!MASTER_OWNER_DESC[#Data],0),0))","v":""},{"$f":"IF('WWVDS (Desc)'!F46=\"\",\"\",INDEX([1]COUNTY!$A$2:$A$80,MATCH('WWVDS (Desc)'!F46,[1]!MASTER_COUNTY_NAME[#Data],0),0))","v":""},{"$f":"IF('WWVDS (Desc)'!G46=\"\",\"\",'WWVDS (Desc)'!G46)","v":""},{"$f":"IF('WWVDS (Desc)'!H46=\"\",\"\",'WWVDS (Desc)'!H46)","v":""},{"$f":"IF('WWVDS (Desc)'!I46=\"\",\"\",INDEX([1]WWVDS_TYPE!$A$2:$A$4,MATCH('WWVDS (Desc)'!$I46,[1]!MASTER_WWVDS_TYPE_DESC[#Data],0),0))","v":""},{"$f":"IF('WWVDS (Desc)'!$J46=\"\",\"\",INDEX([1]ITS_DEV_MANUF_MODEL!$A$2:$E$1500,MATCH(1,([1]ITS_DEV_MANUF_MODEL!$E$2:$E$1500=\"WWD\")*([1]ITS_DEV_MANUF_MODEL!$D$2:$D$1500='WWVDS (Desc)'!$J46),0),1))","v":""},{"$f":"IF('WWVDS (Desc)'!$J46=\"\",\"\",INDEX([1]ITS_DEV_MANUF_MODEL!$A$2:$E$1500,MATCH(1,([1]ITS_DEV_MANUF_MODEL!$E$2:$E$1500=\"WWD\")*([1]ITS_DEV_MANUF_MODEL!$D$2:$D$1500='WWVDS (Desc)'!$J46),0),2))","v":""},{"$f":"IF('WWVDS (Desc)'!L46=\"\",\"\",'WWVDS (Desc)'!L46)","v":""},{"$f":"IF('WWVDS (Desc)'!M46=\"\",\"\",'WWVDS (Desc)'!M46)","v":""},{"$f":"IF('WWVDS (Desc)'!N46=\"\",\"\",'WWVDS (Desc)'!N46)","v":""},{"$f":"IF('WWVDS (Desc)'!O46=\"\",\"\",'WWVDS (Desc)'!O46)","v":""},{"$f":"IF('WWVDS (Desc)'!P46=\"\",\"\",'WWVDS (Desc)'!P46)","v":""}]
[{"$f":"IF('WWVDS (Desc)'!A47=\"\",\"\",'WWVDS (Desc)'!A47)","v":""},{"$f":"IF('WWVDS (Desc)'!B47=\"\",\"\",'WWVDS (Desc)'!B47)","v":""},{"$f":"IF('WWVDS (Desc)'!C47=\"\",\"\",'WWVDS (Desc)'!C47)","v":""},{"$f":"IF('WWVDS (Desc)'!D47=\"\",\"\",'WWVDS (Desc)'!D47)","v":""},{"$f":"IF('WWVDS (Desc)'!E47=\"\",\"\",INDEX([1]OWNER!$A$2:$A$100,MATCH('WWVDS (Desc)'!$E47,[1]!MASTER_OWNER_DESC[#Data],0),0))","v":""},{"$f":"IF('WWVDS (Desc)'!F47=\"\",\"\",INDEX([1]COUNTY!$A$2:$A$80,MATCH('WWVDS (Desc)'!F47,[1]!MASTER_COUNTY_NAME[#Data],0),0))","v":""},{"$f":"IF('WWVDS (Desc)'!G47=\"\",\"\",'WWVDS (Desc)'!G47)","v":""},{"$f":"IF('WWVDS (Desc)'!H47=\"\",\"\",'WWVDS (Desc)'!H47)","v":""},{"$f":"IF('WWVDS (Desc)'!I47=\"\",\"\",INDEX([1]WWVDS_TYPE!$A$2:$A$4,MATCH('WWVDS (Desc)'!$I47,[1]!MASTER_WWVDS_TYPE_DESC[#Data],0),0))","v":""},{"$f":"IF('WWVDS (Desc)'!$J47=\"\",\"\",INDEX([1]ITS_DEV_MANUF_MODEL!$A$2:$E$1500,MATCH(1,([1]ITS_DEV_MANUF_MODEL!$E$2:$E$1500=\"WWD\")*([1]ITS_DEV_MANUF_MODEL!$D$2:$D$1500='WWVDS (Desc)'!$J47),0),1))","v":""},{"$f":"IF('WWVDS (Desc)'!$J47=\"\",\"\",INDEX([1]ITS_DEV_MANUF_MODEL!$A$2:$E$1500,MATCH(1,([1]ITS_DEV_MANUF_MODEL!$E$2:$E$1500=\"WWD\")*([1]ITS_DEV_MANUF_MODEL!$D$2:$D$1500='WWVDS (Desc)'!$J47),0),2))","v":""},{"$f":"IF('WWVDS (Desc)'!L47=\"\",\"\",'WWVDS (Desc)'!L47)","v":""},{"$f":"IF('WWVDS (Desc)'!M47=\"\",\"\",'WWVDS (Desc)'!M47)","v":""},{"$f":"IF('WWVDS (Desc)'!N47=\"\",\"\",'WWVDS (Desc)'!N47)","v":""},{"$f":"IF('WWVDS (Desc)'!O47=\"\",\"\",'WWVDS (Desc)'!O47)","v":""},{"$f":"IF('WWVDS (Desc)'!P47=\"\",\"\",'WWVDS (Desc)'!P47)","v":""}]
[{"$f":"IF('WWVDS (Desc)'!A48=\"\",\"\",'WWVDS (Desc)'!A48)","v":""},{"$f":"IF('WWVDS (Desc)'!B48=\"\",\"\",'WWVDS (Desc)'!B48)","v":""},{"$f":"IF('WWVDS (Desc)'!C48=\"\",\"\",'WWVDS (Desc)'!C48)","v":""},{"$f":"IF('WWVDS (Desc)'!D48=\"\",\"\",'WWVDS (Desc)'!D48)","v":""},{"$f":"IF('WWVDS (Desc)'!E48=\"\",\"\",INDEX([1]OWNER!$A$2:$A$100,MATCH('WWVDS (Desc)'!$E48,[1]!MASTER_OWNER_DESC[#Data],0),0))","v":""},{"$f":"IF('WWVDS (Desc)'!F48=\"\",\"\",INDEX([1]COUNTY!$A$2:$A$80,MATCH('WWVDS (Desc)'!F48,[1]!MASTER_COUNTY_NAME[#Data],0),0))","v":""},{"$f":"IF('WWVDS (Desc)'!G48=\"\",\"\",'WWVDS (Desc)'!G48)","v":""},{"$f":"IF('WWVDS (Desc)'!H48=\"\",\"\",'WWVDS (Desc)'!H48)","v":""},{"$f":"IF('WWVDS (Desc)'!I48=\"\",\"\",INDEX([1]WWVDS_TYPE!$A$2:$A$4,MATCH('WWVDS (Desc)'!$I48,[1]!MASTER_WWVDS_TYPE_DESC[#Data],0),0))","v":""},{"$f":"IF('WWVDS (Desc)'!$J48=\"\",\"\",INDEX([1]ITS_DEV_MANUF_MODEL!$A$2:$E$1500,MATCH(1,([1]ITS_DEV_MANUF_MODEL!$E$2:$E$1500=\"WWD\")*([1]ITS_DEV_MANUF_MODEL!$D$2:$D$1500='WWVDS (Desc)'!$J48),0),1))","v":""},{"$f":"IF('WWVDS (Desc)'!$J48=\"\",\"\",INDEX([1]ITS_DEV_MANUF_MODEL!$A$2:$E$1500,MATCH(1,([1]ITS_DEV_MANUF_MODEL!$E$2:$E$1500=\"WWD\")*([1]ITS_DEV_MANUF_MODEL!$D$2:$D$1500='WWVDS (Desc)'!$J48),0),2))","v":""},{"$f":"IF('WWVDS (Desc)'!L48=\"\",\"\",'WWVDS (Desc)'!L48)","v":""},{"$f":"IF('WWVDS (Desc)'!M48=\"\",\"\",'WWVDS (Desc)'!M48)","v":""},{"$f":"IF('WWVDS (Desc)'!N48=\"\",\"\",'WWVDS (Desc)'!N48)","v":""},{"$f":"IF('WWVDS (Desc)'!O48=\"\",\"\",'WWVDS (Desc)'!O48)","v":""},{"$f":"IF('WWVDS (Desc)'!P48=\"\",\"\",'WWVDS (Desc)'!P48)","v":""}]
[{"$f":"IF('WWVDS (Desc)'!A49=\"\",\"\",'WWVDS (Desc)'!A49)","v":""},{"$f":"IF('WWVDS (Desc)'!B49=\"\",\"\",'WWVDS (Desc)'!B49)","v":""},{"$f":"IF('WWVDS (Desc)'!C49=\"\",\"\",'WWVDS (Desc)'!C49)","v":""},{"$f":"IF('WWVDS (Desc)'!D49=\"\",\"\",'WWVDS (Desc)'!D49)","v":""},{"$f":"IF('WWVDS (Desc)'!E49=\"\",\"\",INDEX([1]OWNER!$A$2:$A$100,MATCH('WWVDS (Desc)'!$E49,[1]!MASTER_OWNER_DESC[#Data],0),0))","v":""},{"$f":"IF('WWVDS (Desc)'!F49=\"\",\"\",INDEX([1]COUNTY!$A$2:$A$80,MATCH('WWVDS (Desc)'!F49,[1]!MASTER_COUNTY_NAME[#Data],0),0))","v":""},{"$f":"IF('WWVDS (Desc)'!G49=\"\",\"\",'WWVDS (Desc)'!G49)","v":""},{"$f":"IF('WWVDS (Desc)'!H49=\"\",\"\",'WWVDS (Desc)'!H49)","v":""},{"$f":"IF('WWVDS (Desc)'!I49=\"\",\"\",INDEX([1]WWVDS_TYPE!$A$2:$A$4,MATCH('WWVDS (Desc)'!$I49,[1]!MASTER_WWVDS_TYPE_DESC[#Data],0),0))","v":""},{"$f":"IF('WWVDS (Desc)'!$J49=\"\",\"\",INDEX([1]ITS_DEV_MANUF_MODEL!$A$2:$E$1500,MATCH(1,([1]ITS_DEV_MANUF_MODEL!$E$2:$E$1500=\"WWD\")*([1]ITS_DEV_MANUF_MODEL!$D$2:$D$1500='WWVDS (Desc)'!$J49),0),1))","v":""},{"$f":"IF('WWVDS (Desc)'!$J49=\"\",\"\",INDEX([1]ITS_DEV_MANUF_MODEL!$A$2:$E$1500,MATCH(1,([1]ITS_DEV_MANUF_MODEL!$E$2:$E$1500=\"WWD\")*([1]ITS_DEV_MANUF_MODEL!$D$2:$D$1500='WWVDS (Desc)'!$J49),0),2))","v":""},{"$f":"IF('WWVDS (Desc)'!L49=\"\",\"\",'WWVDS (Desc)'!L49)","v":""},{"$f":"IF('WWVDS (Desc)'!M49=\"\",\"\",'WWVDS (Desc)'!M49)","v":""},{"$f":"IF('WWVDS (Desc)'!N49=\"\",\"\",'WWVDS (Desc)'!N49)","v":""},{"$f":"IF('WWVDS (Desc)'!O49=\"\",\"\",'WWVDS (Desc)'!O49)","v":""},{"$f":"IF('WWVDS (Desc)'!P49=\"\",\"\",'WWVDS (Desc)'!P49)","v":""}]
[{"$f":"IF('WWVDS (Desc)'!A50=\"\",\"\",'WWVDS (Desc)'!A50)","v":""},{"$f":"IF('WWVDS (Desc)'!B50=\"\",\"\",'WWVDS (Desc)'!B50)","v":""},{"$f":"IF('WWVDS (Desc)'!C50=\"\",\"\",'WWVDS (Desc)'!C50)","v":""},{"$f":"IF('WWVDS (Desc)'!D50=\"\",\"\",'WWVDS (Desc)'!D50)","v":""},{"$f":"IF('WWVDS (Desc)'!E50=\"\",\"\",INDEX([1]OWNER!$A$2:$A$100,MATCH('WWVDS (Desc)'!$E50,[1]!MASTER_OWNER_DESC[#Data],0),0))","v":""},{"$f":"IF('WWVDS (Desc)'!F50=\"\",\"\",INDEX([1]COUNTY!$A$2:$A$80,MATCH('WWVDS (Desc)'!F50,[1]!MASTER_COUNTY_NAME[#Data],0),0))","v":""},{"$f":"IF('WWVDS (Desc)'!G50=\"\",\"\",'WWVDS (Desc)'!G50)","v":""},{"$f":"IF('WWVDS (Desc)'!H50=\"\",\"\",'WWVDS (Desc)'!H50)","v":""},{"$f":"IF('WWVDS (Desc)'!I50=\"\",\"\",INDEX([1]WWVDS_TYPE!$A$2:$A$4,MATCH('WWVDS (Desc)'!$I50,[1]!MASTER_WWVDS_TYPE_DESC[#Data],0),0))","v":""},{"$f":"IF('WWVDS (Desc)'!$J50=\"\",\"\",INDEX([1]ITS_DEV_MANUF_MODEL!$A$2:$E$1500,MATCH(1,([1]ITS_DEV_MANUF_MODEL!$E$2:$E$1500=\"WWD\")*([1]ITS_DEV_MANUF_MODEL!$D$2:$D$1500='WWVDS (Desc)'!$J50),0),1))","v":""},{"$f":"IF('WWVDS (Desc)'!$J50=\"\",\"\",INDEX([1]ITS_DEV_MANUF_MODEL!$A$2:$E$1500,MATCH(1,([1]ITS_DEV_MANUF_MODEL!$E$2:$E$1500=\"WWD\")*([1]ITS_DEV_MANUF_MODEL!$D$2:$D$1500='WWVDS (Desc)'!$J50),0),2))","v":""},{"$f":"IF('WWVDS (Desc)'!L50=\"\",\"\",'WWVDS (Desc)'!L50)","v":""},{"$f":"IF('WWVDS (Desc)'!M50=\"\",\"\",'WWVDS (Desc)'!M50)","v":""},{"$f":"IF('WWVDS (Desc)'!N50=\"\",\"\",'WWVDS (Desc)'!N50)","v":""},{"$f":"IF('WWVDS (Desc)'!O50=\"\",\"\",'WWVDS (Desc)'!O50)","v":""},{"$f":"IF('WWVDS (Desc)'!P50=\"\",\"\",'WWVDS (Desc)'!P50)","v":""}]
[{"$f":"IF('WWVDS (Desc)'!A51=\"\",\"\",'WWVDS (Desc)'!A51)","v":""},{"$f":"IF('WWVDS (Desc)'!B51=\"\",\"\",'WWVDS (Desc)'!B51)","v":""},{"$f":"IF('WWVDS (Desc)'!C51=\"\",\"\",'WWVDS (Desc)'!C51)","v":""},{"$f":"IF('WWVDS (Desc)'!D51=\"\",\"\",'WWVDS (Desc)'!D51)","v":""},{"$f":"IF('WWVDS (Desc)'!E51=\"\",\"\",INDEX([1]OWNER!$A$2:$A$100,MATCH('WWVDS (Desc)'!$E51,[1]!MASTER_OWNER_DESC[#Data],0),0))","v":""},{"$f":"IF('WWVDS (Desc)'!F51=\"\",\"\",INDEX([1]COUNTY!$A$2:$A$80,MATCH('WWVDS (Desc)'!F51,[1]!MASTER_COUNTY_NAME[#Data],0),0))","v":""},{"$f":"IF('WWVDS (Desc)'!G51=\"\",\"\",'WWVDS (Desc)'!G51)","v":""},{"$f":"IF('WWVDS (Desc)'!H51=\"\",\"\",'WWVDS (Desc)'!H51)","v":""},{"$f":"IF('WWVDS (Desc)'!I51=\"\",\"\",INDEX([1]WWVDS_TYPE!$A$2:$A$4,MATCH('WWVDS (Desc)'!$I51,[1]!MASTER_WWVDS_TYPE_DESC[#Data],0),0))","v":""},{"$f":"IF('WWVDS (Desc)'!$J51=\"\",\"\",INDEX([1]ITS_DEV_MANUF_MODEL!$A$2:$E$1500,MATCH(1,([1]ITS_DEV_MANUF_MODEL!$E$2:$E$1500=\"WWD\")*([1]ITS_DEV_MANUF_MODEL!$D$2:$D$1500='WWVDS (Desc)'!$J51),0),1))","v":""},{"$f":"IF('WWVDS (Desc)'!$J51=\"\",\"\",INDEX([1]ITS_DEV_MANUF_MODEL!$A$2:$E$1500,MATCH(1,([1]ITS_DEV_MANUF_MODEL!$E$2:$E$1500=\"WWD\")*([1]ITS_DEV_MANUF_MODEL!$D$2:$D$1500='WWVDS (Desc)'!$J51),0),2))","v":""},{"$f":"IF('WWVDS (Desc)'!L51=\"\",\"\",'WWVDS (Desc)'!L51)","v":""},{"$f":"IF('WWVDS (Desc)'!M51=\"\",\"\",'WWVDS (Desc)'!M51)","v":""},{"$f":"IF('WWVDS (Desc)'!N51=\"\",\"\",'WWVDS (Desc)'!N51)","v":""},{"$f":"IF('WWVDS (Desc)'!O51=\"\",\"\",'WWVDS (Desc)'!O51)","v":""},{"$f":"IF('WWVDS (Desc)'!P51=\"\",\"\",'WWVDS (Desc)'!P51)","v":""}]
[{"$f":"IF('WWVDS (Desc)'!A52=\"\",\"\",'WWVDS (Desc)'!A52)","v":""},{"$f":"IF('WWVDS (Desc)'!B52=\"\",\"\",'WWVDS (Desc)'!B52)","v":""},{"$f":"IF('WWVDS (Desc)'!C52=\"\",\"\",'WWVDS (Desc)'!C52)","v":""},{"$f":"IF('WWVDS (Desc)'!D52=\"\",\"\",'WWVDS (Desc)'!D52)","v":""},{"$f":"IF('WWVDS (Desc)'!E52=\"\",\"\",INDEX([1]OWNER!$A$2:$A$100,MATCH('WWVDS (Desc)'!$E52,[1]!MASTER_OWNER_DESC[#Data],0),0))","v":""},{"$f":"IF('WWVDS (Desc)'!F52=\"\",\"\",INDEX([1]COUNTY!$A$2:$A$80,MATCH('WWVDS (Desc)'!F52,[1]!MASTER_COUNTY_NAME[#Data],0),0))","v":""},{"$f":"IF('WWVDS (Desc)'!G52=\"\",\"\",'WWVDS (Desc)'!G52)","v":""},{"$f":"IF('WWVDS (Desc)'!H52=\"\",\"\",'WWVDS (Desc)'!H52)","v":""},{"$f":"IF('WWVDS (Desc)'!I52=\"\",\"\",INDEX([1]WWVDS_TYPE!$A$2:$A$4,MATCH('WWVDS (Desc)'!$I52,[1]!MASTER_WWVDS_TYPE_DESC[#Data],0),0))","v":""},{"$f":"IF('WWVDS (Desc)'!$J52=\"\",\"\",INDEX([1]ITS_DEV_MANUF_MODEL!$A$2:$E$1500,MATCH(1,([1]ITS_DEV_MANUF_MODEL!$E$2:$E$1500=\"WWD\")*([1]ITS_DEV_MANUF_MODEL!$D$2:$D$1500='WWVDS (Desc)'!$J52),0),1))","v":""},{"$f":"IF('WWVDS (Desc)'!$J52=\"\",\"\",INDEX([1]ITS_DEV_MANUF_MODEL!$A$2:$E$1500,MATCH(1,([1]ITS_DEV_MANUF_MODEL!$E$2:$E$1500=\"WWD\")*([1]ITS_DEV_MANUF_MODEL!$D$2:$D$1500='WWVDS (Desc)'!$J52),0),2))","v":""},{"$f":"IF('WWVDS (Desc)'!L52=\"\",\"\",'WWVDS (Desc)'!L52)","v":""},{"$f":"IF('WWVDS (Desc)'!M52=\"\",\"\",'WWVDS (Desc)'!M52)","v":""},{"$f":"IF('WWVDS (Desc)'!N52=\"\",\"\",'WWVDS (Desc)'!N52)","v":""},{"$f":"IF('WWVDS (Desc)'!O52=\"\",\"\",'WWVDS (Desc)'!O52)","v":""},{"$f":"IF('WWVDS (Desc)'!P52=\"\",\"\",'WWVDS (Desc)'!P52)","v":""}]
[{"$f":"IF('WWVDS (Desc)'!A53=\"\",\"\",'WWVDS (Desc)'!A53)","v":""},{"$f":"IF('WWVDS (Desc)'!B53=\"\",\"\",'WWVDS (Desc)'!B53)","v":""},{"$f":"IF('WWVDS (Desc)'!C53=\"\",\"\",'WWVDS (Desc)'!C53)","v":""},{"$f":"IF('WWVDS (Desc)'!D53=\"\",\"\",'WWVDS (Desc)'!D53)","v":""},{"$f":"IF('WWVDS (Desc)'!E53=\"\",\"\",INDEX([1]OWNER!$A$2:$A$100,MATCH('WWVDS (Desc)'!$E53,[1]!MASTER_OWNER_DESC[#Data],0),0))","v":""},{"$f":"IF('WWVDS (Desc)'!F53=\"\",\"\",INDEX([1]COUNTY!$A$2:$A$80,MATCH('WWVDS (Desc)'!F53,[1]!MASTER_COUNTY_NAME[#Data],0),0))","v":""},{"$f":"IF('WWVDS (Desc)'!G53=\"\",\"\",'WWVDS (Desc)'!G53)","v":""},{"$f":"IF('WWVDS (Desc)'!H53=\"\",\"\",'WWVDS (Desc)'!H53)","v":""},{"$f":"IF('WWVDS (Desc)'!I53=\"\",\"\",INDEX([1]WWVDS_TYPE!$A$2:$A$4,MATCH('WWVDS (Desc)'!$I53,[1]!MASTER_WWVDS_TYPE_DESC[#Data],0),0))","v":""},{"$f":"IF('WWVDS (Desc)'!$J53=\"\",\"\",INDEX([1]ITS_DEV_MANUF_MODEL!$A$2:$E$1500,MATCH(1,([1]ITS_DEV_MANUF_MODEL!$E$2:$E$1500=\"WWD\")*([1]ITS_DEV_MANUF_MODEL!$D$2:$D$1500='WWVDS (Desc)'!$J53),0),1))","v":""},{"$f":"IF('WWVDS (Desc)'!$J53=\"\",\"\",INDEX([1]ITS_DEV_MANUF_MODEL!$A$2:$E$1500,MATCH(1,([1]ITS_DEV_MANUF_MODEL!$E$2:$E$1500=\"WWD\")*([1]ITS_DEV_MANUF_MODEL!$D$2:$D$1500='WWVDS (Desc)'!$J53),0),2))","v":""},{"$f":"IF('WWVDS (Desc)'!L53=\"\",\"\",'WWVDS (Desc)'!L53)","v":""},{"$f":"IF('WWVDS (Desc)'!M53=\"\",\"\",'WWVDS (Desc)'!M53)","v":""},{"$f":"IF('WWVDS (Desc)'!N53=\"\",\"\",'WWVDS (Desc)'!N53)","v":""},{"$f":"IF('WWVDS (Desc)'!O53=\"\",\"\",'WWVDS (Desc)'!O53)","v":""},{"$f":"IF('WWVDS (Desc)'!P53=\"\",\"\",'WWVDS (Desc)'!P53)","v":""}]
[{"$f":"IF('WWVDS (Desc)'!A54=\"\",\"\",'WWVDS (Desc)'!A54)","v":""},{"$f":"IF('WWVDS (Desc)'!B54=\"\",\"\",'WWVDS (Desc)'!B54)","v":""},{"$f":"IF('WWVDS (Desc)'!C54=\"\",\"\",'WWVDS (Desc)'!C54)","v":""},{"$f":"IF('WWVDS (Desc)'!D54=\"\",\"\",'WWVDS (Desc)'!D54)","v":""},{"$f":"IF('WWVDS (Desc)'!E54=\"\",\"\",INDEX([1]OWNER!$A$2:$A$100,MATCH('WWVDS (Desc)'!$E54,[1]!MASTER_OWNER_DESC[#Data],0),0))","v":""},{"$f":"IF('WWVDS (Desc)'!F54=\"\",\"\",INDEX([1]COUNTY!$A$2:$A$80,MATCH('WWVDS (Desc)'!F54,[1]!MASTER_COUNTY_NAME[#Data],0),0))","v":""},{"$f":"IF('WWVDS (Desc)'!G54=\"\",\"\",'WWVDS (Desc)'!G54)","v":""},{"$f":"IF('WWVDS (Desc)'!H54=\"\",\"\",'WWVDS (Desc)'!H54)","v":""},{"$f":"IF('WWVDS (Desc)'!I54=\"\",\"\",INDEX([1]WWVDS_TYPE!$A$2:$A$4,MATCH('WWVDS (Desc)'!$I54,[1]!MASTER_WWVDS_TYPE_DESC[#Data],0),0))","v":""},{"$f":"IF('WWVDS (Desc)'!$J54=\"\",\"\",INDEX([1]ITS_DEV_MANUF_MODEL!$A$2:$E$1500,MATCH(1,([1]ITS_DEV_MANUF_MODEL!$E$2:$E$1500=\"WWD\")*([1]ITS_DEV_MANUF_MODEL!$D$2:$D$1500='WWVDS (Desc)'!$J54),0),1))","v":""},{"$f":"IF('WWVDS (Desc)'!$J54=\"\",\"\",INDEX([1]ITS_DEV_MANUF_MODEL!$A$2:$E$1500,MATCH(1,([1]ITS_DEV_MANUF_MODEL!$E$2:$E$1500=\"WWD\")*([1]ITS_DEV_MANUF_MODEL!$D$2:$D$1500='WWVDS (Desc)'!$J54),0),2))","v":""},{"$f":"IF('WWVDS (Desc)'!L54=\"\",\"\",'WWVDS (Desc)'!L54)","v":""},{"$f":"IF('WWVDS (Desc)'!M54=\"\",\"\",'WWVDS (Desc)'!M54)","v":""},{"$f":"IF('WWVDS (Desc)'!N54=\"\",\"\",'WWVDS (Desc)'!N54)","v":""},{"$f":"IF('WWVDS (Desc)'!O54=\"\",\"\",'WWVDS (Desc)'!O54)","v":""},{"$f":"IF('WWVDS (Desc)'!P54=\"\",\"\",'WWVDS (Desc)'!P54)","v":""}]
[{"$f":"IF('WWVDS (Desc)'!A55=\"\",\"\",'WWVDS (Desc)'!A55)","v":""},{"$f":"IF('WWVDS (Desc)'!B55=\"\",\"\",'WWVDS (Desc)'!B55)","v":""},{"$f":"IF('WWVDS (Desc)'!C55=\"\",\"\",'WWVDS (Desc)'!C55)","v":""},{"$f":"IF('WWVDS (Desc)'!D55=\"\",\"\",'WWVDS (Desc)'!D55)","v":""},{"$f":"IF('WWVDS (Desc)'!E55=\"\",\"\",INDEX([1]OWNER!$A$2:$A$100,MATCH('WWVDS (Desc)'!$E55,[1]!MASTER_OWNER_DESC[#Data],0),0))","v":""},{"$f":"IF('WWVDS (Desc)'!F55=\"\",\"\",INDEX([1]COUNTY!$A$2:$A$80,MATCH('WWVDS (Desc)'!F55,[1]!MASTER_COUNTY_NAME[#Data],0),0))","v":""},{"$f":"IF('WWVDS (Desc)'!G55=\"\",\"\",'WWVDS (Desc)'!G55)","v":""},{"$f":"IF('WWVDS (Desc)'!H55=\"\",\"\",'WWVDS (Desc)'!H55)","v":""},{"$f":"IF('WWVDS (Desc)'!I55=\"\",\"\",INDEX([1]WWVDS_TYPE!$A$2:$A$4,MATCH('WWVDS (Desc)'!$I55,[1]!MASTER_WWVDS_TYPE_DESC[#Data],0),0))","v":""},{"$f":"IF('WWVDS (Desc)'!$J55=\"\",\"\",INDEX([1]ITS_DEV_MANUF_MODEL!$A$2:$E$1500,MATCH(1,([1]ITS_DEV_MANUF_MODEL!$E$2:$E$1500=\"WWD\")*([1]ITS_DEV_MANUF_MODEL!$D$2:$D$1500='WWVDS (Desc)'!$J55),0),1))","v":""},{"$f":"IF('WWVDS (Desc)'!$J55=\"\",\"\",INDEX([1]ITS_DEV_MANUF_MODEL!$A$2:$E$1500,MATCH(1,([1]ITS_DEV_MANUF_MODEL!$E$2:$E$1500=\"WWD\")*([1]ITS_DEV_MANUF_MODEL!$D$2:$D$1500='WWVDS (Desc)'!$J55),0),2))","v":""},{"$f":"IF('WWVDS (Desc)'!L55=\"\",\"\",'WWVDS (Desc)'!L55)","v":""},{"$f":"IF('WWVDS (Desc)'!M55=\"\",\"\",'WWVDS (Desc)'!M55)","v":""},{"$f":"IF('WWVDS (Desc)'!N55=\"\",\"\",'WWVDS (Desc)'!N55)","v":""},{"$f":"IF('WWVDS (Desc)'!O55=\"\",\"\",'WWVDS (Desc)'!O55)","v":""},{"$f":"IF('WWVDS (Desc)'!P55=\"\",\"\",'WWVDS (Desc)'!P55)","v":""}]
[{"$f":"IF('WWVDS (Desc)'!A56=\"\",\"\",'WWVDS (Desc)'!A56)","v":""},{"$f":"IF('WWVDS (Desc)'!B56=\"\",\"\",'WWVDS (Desc)'!B56)","v":""},{"$f":"IF('WWVDS (Desc)'!C56=\"\",\"\",'WWVDS (Desc)'!C56)","v":""},{"$f":"IF('WWVDS (Desc)'!D56=\"\",\"\",'WWVDS (Desc)'!D56)","v":""},{"$f":"IF('WWVDS (Desc)'!E56=\"\",\"\",INDEX([1]OWNER!$A$2:$A$100,MATCH('WWVDS (Desc)'!$E56,[1]!MASTER_OWNER_DESC[#Data],0),0))","v":""},{"$f":"IF('WWVDS (Desc)'!F56=\"\",\"\",INDEX([1]COUNTY!$A$2:$A$80,MATCH('WWVDS (Desc)'!F56,[1]!MASTER_COUNTY_NAME[#Data],0),0))","v":""},{"$f":"IF('WWVDS (Desc)'!G56=\"\",\"\",'WWVDS (Desc)'!G56)","v":""},{"$f":"IF('WWVDS (Desc)'!H56=\"\",\"\",'WWVDS (Desc)'!H56)","v":""},{"$f":"IF('WWVDS (Desc)'!I56=\"\",\"\",INDEX([1]WWVDS_TYPE!$A$2:$A$4,MATCH('WWVDS (Desc)'!$I56,[1]!MASTER_WWVDS_TYPE_DESC[#Data],0),0))","v":""},{"$f":"IF('WWVDS (Desc)'!$J56=\"\",\"\",INDEX([1]ITS_DEV_MANUF_MODEL!$A$2:$E$1500,MATCH(1,([1]ITS_DEV_MANUF_MODEL!$E$2:$E$1500=\"WWD\")*([1]ITS_DEV_MANUF_MODEL!$D$2:$D$1500='WWVDS (Desc)'!$J56),0),1))","v":""},{"$f":"IF('WWVDS (Desc)'!$J56=\"\",\"\",INDEX([1]ITS_DEV_MANUF_MODEL!$A$2:$E$1500,MATCH(1,([1]ITS_DEV_MANUF_MODEL!$E$2:$E$1500=\"WWD\")*([1]ITS_DEV_MANUF_MODEL!$D$2:$D$1500='WWVDS (Desc)'!$J56),0),2))","v":""},{"$f":"IF('WWVDS (Desc)'!L56=\"\",\"\",'WWVDS (Desc)'!L56)","v":""},{"$f":"IF('WWVDS (Desc)'!M56=\"\",\"\",'WWVDS (Desc)'!M56)","v":""},{"$f":"IF('WWVDS (Desc)'!N56=\"\",\"\",'WWVDS (Desc)'!N56)","v":""},{"$f":"IF('WWVDS (Desc)'!O56=\"\",\"\",'WWVDS (Desc)'!O56)","v":""},{"$f":"IF('WWVDS (Desc)'!P56=\"\",\"\",'WWVDS (Desc)'!P56)","v":""}]
[{"$f":"IF('WWVDS (Desc)'!A57=\"\",\"\",'WWVDS (Desc)'!A57)","v":""},{"$f":"IF('WWVDS (Desc)'!B57=\"\",\"\",'WWVDS (Desc)'!B57)","v":""},{"$f":"IF('WWVDS (Desc)'!C57=\"\",\"\",'WWVDS (Desc)'!C57)","v":""},{"$f":"IF('WWVDS (Desc)'!D57=\"\",\"\",'WWVDS (Desc)'!D57)","v":""},{"$f":"IF('WWVDS (Desc)'!E57=\"\",\"\",INDEX([1]OWNER!$A$2:$A$100,MATCH('WWVDS (Desc)'!$E57,[1]!MASTER_OWNER_DESC[#Data],0),0))","v":""},{"$f":"IF('WWVDS (Desc)'!F57=\"\",\"\",INDEX([1]COUNTY!$A$2:$A$80,MATCH('WWVDS (Desc)'!F57,[1]!MASTER_COUNTY_NAME[#Data],0),0))","v":""},{"$f":"IF('WWVDS (Desc)'!G57=\"\",\"\",'WWVDS (Desc)'!G57)","v":""},{"$f":"IF('WWVDS (Desc)'!H57=\"\",\"\",'WWVDS (Desc)'!H57)","v":""},{"$f":"IF('WWVDS (Desc)'!I57=\"\",\"\",INDEX([1]WWVDS_TYPE!$A$2:$A$4,MATCH('WWVDS (Desc)'!$I57,[1]!MASTER_WWVDS_TYPE_DESC[#Data],0),0))","v":""},{"$f":"IF('WWVDS (Desc)'!$J57=\"\",\"\",INDEX([1]ITS_DEV_MANUF_MODEL!$A$2:$E$1500,MATCH(1,([1]ITS_DEV_MANUF_MODEL!$E$2:$E$1500=\"WWD\")*([1]ITS_DEV_MANUF_MODEL!$D$2:$D$1500='WWVDS (Desc)'!$J57),0),1))","v":""},{"$f":"IF('WWVDS (Desc)'!$J57=\"\",\"\",INDEX([1]ITS_DEV_MANUF_MODEL!$A$2:$E$1500,MATCH(1,([1]ITS_DEV_MANUF_MODEL!$E$2:$E$1500=\"WWD\")*([1]ITS_DEV_MANUF_MODEL!$D$2:$D$1500='WWVDS (Desc)'!$J57),0),2))","v":""},{"$f":"IF('WWVDS (Desc)'!L57=\"\",\"\",'WWVDS (Desc)'!L57)","v":""},{"$f":"IF('WWVDS (Desc)'!M57=\"\",\"\",'WWVDS (Desc)'!M57)","v":""},{"$f":"IF('WWVDS (Desc)'!N57=\"\",\"\",'WWVDS (Desc)'!N57)","v":""},{"$f":"IF('WWVDS (Desc)'!O57=\"\",\"\",'WWVDS (Desc)'!O57)","v":""},{"$f":"IF('WWVDS (Desc)'!P57=\"\",\"\",'WWVDS (Desc)'!P57)","v":""}]
[{"$f":"IF('WWVDS (Desc)'!A58=\"\",\"\",'WWVDS (Desc)'!A58)","v":""},{"$f":"IF('WWVDS (Desc)'!B58=\"\",\"\",'WWVDS (Desc)'!B58)","v":""},{"$f":"IF('WWVDS (Desc)'!C58=\"\",\"\",'WWVDS (Desc)'!C58)","v":""},{"$f":"IF('WWVDS (Desc)'!D58=\"\",\"\",'WWVDS (Desc)'!D58)","v":""},{"$f":"IF('WWVDS (Desc)'!E58=\"\",\"\",INDEX([1]OWNER!$A$2:$A$100,MATCH('WWVDS (Desc)'!$E58,[1]!MASTER_OWNER_DESC[#Data],0),0))","v":""},{"$f":"IF('WWVDS (Desc)'!F58=\"\",\"\",INDEX([1]COUNTY!$A$2:$A$80,MATCH('WWVDS (Desc)'!F58,[1]!MASTER_COUNTY_NAME[#Data],0),0))","v":""},{"$f":"IF('WWVDS (Desc)'!G58=\"\",\"\",'WWVDS (Desc)'!G58)","v":""},{"$f":"IF('WWVDS (Desc)'!H58=\"\",\"\",'WWVDS (Desc)'!H58)","v":""},{"$f":"IF('WWVDS (Desc)'!I58=\"\",\"\",INDEX([1]WWVDS_TYPE!$A$2:$A$4,MATCH('WWVDS (Desc)'!$I58,[1]!MASTER_WWVDS_TYPE_DESC[#Data],0),0))","v":""},{"$f":"IF('WWVDS (Desc)'!$J58=\"\",\"\",INDEX([1]ITS_DEV_MANUF_MODEL!$A$2:$E$1500,MATCH(1,([1]ITS_DEV_MANUF_MODEL!$E$2:$E$1500=\"WWD\")*([1]ITS_DEV_MANUF_MODEL!$D$2:$D$1500='WWVDS (Desc)'!$J58),0),1))","v":""},{"$f":"IF('WWVDS (Desc)'!$J58=\"\",\"\",INDEX([1]ITS_DEV_MANUF_MODEL!$A$2:$E$1500,MATCH(1,([1]ITS_DEV_MANUF_MODEL!$E$2:$E$1500=\"WWD\")*([1]ITS_DEV_MANUF_MODEL!$D$2:$D$1500='WWVDS (Desc)'!$J58),0),2))","v":""},{"$f":"IF('WWVDS (Desc)'!L58=\"\",\"\",'WWVDS (Desc)'!L58)","v":""},{"$f":"IF('WWVDS (Desc)'!M58=\"\",\"\",'WWVDS (Desc)'!M58)","v":""},{"$f":"IF('WWVDS (Desc)'!N58=\"\",\"\",'WWVDS (Desc)'!N58)","v":""},{"$f":"IF('WWVDS (Desc)'!O58=\"\",\"\",'WWVDS (Desc)'!O58)","v":""},{"$f":"IF('WWVDS (Desc)'!P58=\"\",\"\",'WWVDS (Desc)'!P58)","v":""}]
[{"$f":"IF('WWVDS (Desc)'!A59=\"\",\"\",'WWVDS (Desc)'!A59)","v":""},{"$f":"IF('WWVDS (Desc)'!B59=\"\",\"\",'WWVDS (Desc)'!B59)","v":""},{"$f":"IF('WWVDS (Desc)'!C59=\"\",\"\",'WWVDS (Desc)'!C59)","v":""},{"$f":"IF('WWVDS (Desc)'!D59=\"\",\"\",'WWVDS (Desc)'!D59)","v":""},{"$f":"IF('WWVDS (Desc)'!E59=\"\",\"\",INDEX([1]OWNER!$A$2:$A$100,MATCH('WWVDS (Desc)'!$E59,[1]!MASTER_OWNER_DESC[#Data],0),0))","v":""},{"$f":"IF('WWVDS (Desc)'!F59=\"\",\"\",INDEX([1]COUNTY!$A$2:$A$80,MATCH('WWVDS (Desc)'!F59,[1]!MASTER_COUNTY_NAME[#Data],0),0))","v":""},{"$f":"IF('WWVDS (Desc)'!G59=\"\",\"\",'WWVDS (Desc)'!G59)","v":""},{"$f":"IF('WWVDS (Desc)'!H59=\"\",\"\",'WWVDS (Desc)'!H59)","v":""},{"$f":"IF('WWVDS (Desc)'!I59=\"\",\"\",INDEX([1]WWVDS_TYPE!$A$2:$A$4,MATCH('WWVDS (Desc)'!$I59,[1]!MASTER_WWVDS_TYPE_DESC[#Data],0),0))","v":""},{"$f":"IF('WWVDS (Desc)'!$J59=\"\",\"\",INDEX([1]ITS_DEV_MANUF_MODEL!$A$2:$E$1500,MATCH(1,([1]ITS_DEV_MANUF_MODEL!$E$2:$E$1500=\"WWD\")*([1]ITS_DEV_MANUF_MODEL!$D$2:$D$1500='WWVDS (Desc)'!$J59),0),1))","v":""},{"$f":"IF('WWVDS (Desc)'!$J59=\"\",\"\",INDEX([1]ITS_DEV_MANUF_MODEL!$A$2:$E$1500,MATCH(1,([1]ITS_DEV_MANUF_MODEL!$E$2:$E$1500=\"WWD\")*([1]ITS_DEV_MANUF_MODEL!$D$2:$D$1500='WWVDS (Desc)'!$J59),0),2))","v":""},{"$f":"IF('WWVDS (Desc)'!L59=\"\",\"\",'WWVDS (Desc)'!L59)","v":""},{"$f":"IF('WWVDS (Desc)'!M59=\"\",\"\",'WWVDS (Desc)'!M59)","v":""},{"$f":"IF('WWVDS (Desc)'!N59=\"\",\"\",'WWVDS (Desc)'!N59)","v":""},{"$f":"IF('WWVDS (Desc)'!O59=\"\",\"\",'WWVDS (Desc)'!O59)","v":""},{"$f":"IF('WWVDS (Desc)'!P59=\"\",\"\",'WWVDS (Desc)'!P59)","v":""}]
[{"$f":"IF('WWVDS (Desc)'!A60=\"\",\"\",'WWVDS (Desc)'!A60)","v":""},{"$f":"IF('WWVDS (Desc)'!B60=\"\",\"\",'WWVDS (Desc)'!B60)","v":""},{"$f":"IF('WWVDS (Desc)'!C60=\"\",\"\",'WWVDS (Desc)'!C60)","v":""},{"$f":"IF('WWVDS (Desc)'!D60=\"\",\"\",'WWVDS (Desc)'!D60)","v":""},{"$f":"IF('WWVDS (Desc)'!E60=\"\",\"\",INDEX([1]OWNER!$A$2:$A$100,MATCH('WWVDS (Desc)'!$E60,[1]!MASTER_OWNER_DESC[#Data],0),0))","v":""},{"$f":"IF('WWVDS (Desc)'!F60=\"\",\"\",INDEX([1]COUNTY!$A$2:$A$80,MATCH('WWVDS (Desc)'!F60,[1]!MASTER_COUNTY_NAME[#Data],0),0))","v":""},{"$f":"IF('WWVDS (Desc)'!G60=\"\",\"\",'WWVDS (Desc)'!G60)","v":""},{"$f":"IF('WWVDS (Desc)'!H60=\"\",\"\",'WWVDS (Desc)'!H60)","v":""},{"$f":"IF('WWVDS (Desc)'!I60=\"\",\"\",INDEX([1]WWVDS_TYPE!$A$2:$A$4,MATCH('WWVDS (Desc)'!$I60,[1]!MASTER_WWVDS_TYPE_DESC[#Data],0),0))","v":""},{"$f":"IF('WWVDS (Desc)'!$J60=\"\",\"\",INDEX([1]ITS_DEV_MANUF_MODEL!$A$2:$E$1500,MATCH(1,([1]ITS_DEV_MANUF_MODEL!$E$2:$E$1500=\"WWD\")*([1]ITS_DEV_MANUF_MODEL!$D$2:$D$1500='WWVDS (Desc)'!$J60),0),1))","v":""},{"$f":"IF('WWVDS (Desc)'!$J60=\"\",\"\",INDEX([1]ITS_DEV_MANUF_MODEL!$A$2:$E$1500,MATCH(1,([1]ITS_DEV_MANUF_MODEL!$E$2:$E$1500=\"WWD\")*([1]ITS_DEV_MANUF_MODEL!$D$2:$D$1500='WWVDS (Desc)'!$J60),0),2))","v":""},{"$f":"IF('WWVDS (Desc)'!L60=\"\",\"\",'WWVDS (Desc)'!L60)","v":""},{"$f":"IF('WWVDS (Desc)'!M60=\"\",\"\",'WWVDS (Desc)'!M60)","v":""},{"$f":"IF('WWVDS (Desc)'!N60=\"\",\"\",'WWVDS (Desc)'!N60)","v":""},{"$f":"IF('WWVDS (Desc)'!O60=\"\",\"\",'WWVDS (Desc)'!O60)","v":""},{"$f":"IF('WWVDS (Desc)'!P60=\"\",\"\",'WWVDS (Desc)'!P60)","v":""}]
[{"$f":"IF('WWVDS (Desc)'!A61=\"\",\"\",'WWVDS (Desc)'!A61)","v":""},{"$f":"IF('WWVDS (Desc)'!B61=\"\",\"\",'WWVDS (Desc)'!B61)","v":""},{"$f":"IF('WWVDS (Desc)'!C61=\"\",\"\",'WWVDS (Desc)'!C61)","v":""},{"$f":"IF('WWVDS (Desc)'!D61=\"\",\"\",'WWVDS (Desc)'!D61)","v":""},{"$f":"IF('WWVDS (Desc)'!E61=\"\",\"\",INDEX([1]OWNER!$A$2:$A$100,MATCH('WWVDS (Desc)'!$E61,[1]!MASTER_OWNER_DESC[#Data],0),0))","v":""},{"$f":"IF('WWVDS (Desc)'!F61=\"\",\"\",INDEX([1]COUNTY!$A$2:$A$80,MATCH('WWVDS (Desc)'!F61,[1]!MASTER_COUNTY_NAME[#Data],0),0))","v":""},{"$f":"IF('WWVDS (Desc)'!G61=\"\",\"\",'WWVDS (Desc)'!G61)","v":""},{"$f":"IF('WWVDS (Desc)'!H61=\"\",\"\",'WWVDS (Desc)'!H61)","v":""},{"$f":"IF('WWVDS (Desc)'!I61=\"\",\"\",INDEX([1]WWVDS_TYPE!$A$2:$A$4,MATCH('WWVDS (Desc)'!$I61,[1]!MASTER_WWVDS_TYPE_DESC[#Data],0),0))","v":""},{"$f":"IF('WWVDS (Desc)'!$J61=\"\",\"\",INDEX([1]ITS_DEV_MANUF_MODEL!$A$2:$E$1500,MATCH(1,([1]ITS_DEV_MANUF_MODEL!$E$2:$E$1500=\"WWD\")*([1]ITS_DEV_MANUF_MODEL!$D$2:$D$1500='WWVDS (Desc)'!$J61),0),1))","v":""},{"$f":"IF('WWVDS (Desc)'!$J61=\"\",\"\",INDEX([1]ITS_DEV_MANUF_MODEL!$A$2:$E$1500,MATCH(1,([1]ITS_DEV_MANUF_MODEL!$E$2:$E$1500=\"WWD\")*([1]ITS_DEV_MANUF_MODEL!$D$2:$D$1500='WWVDS (Desc)'!$J61),0),2))","v":""},{"$f":"IF('WWVDS (Desc)'!L61=\"\",\"\",'WWVDS (Desc)'!L61)","v":""},{"$f":"IF('WWVDS (Desc)'!M61=\"\",\"\",'WWVDS (Desc)'!M61)","v":""},{"$f":"IF('WWVDS (Desc)'!N61=\"\",\"\",'WWVDS (Desc)'!N61)","v":""},{"$f":"IF('WWVDS (Desc)'!O61=\"\",\"\",'WWVDS (Desc)'!O61)","v":""},{"$f":"IF('WWVDS (Desc)'!P61=\"\",\"\",'WWVDS (Desc)'!P61)","v":""}]
[{"$f":"IF('WWVDS (Desc)'!A62=\"\",\"\",'WWVDS (Desc)'!A62)","v":""},{"$f":"IF('WWVDS (Desc)'!B62=\"\",\"\",'WWVDS (Desc)'!B62)","v":""},{"$f":"IF('WWVDS (Desc)'!C62=\"\",\"\",'WWVDS (Desc)'!C62)","v":""},{"$f":"IF('WWVDS (Desc)'!D62=\"\",\"\",'WWVDS (Desc)'!D62)","v":""},{"$f":"IF('WWVDS (Desc)'!E62=\"\",\"\",INDEX([1]OWNER!$A$2:$A$100,MATCH('WWVDS (Desc)'!$E62,[1]!MASTER_OWNER_DESC[#Data],0),0))","v":""},{"$f":"IF('WWVDS (Desc)'!F62=\"\",\"\",INDEX([1]COUNTY!$A$2:$A$80,MATCH('WWVDS (Desc)'!F62,[1]!MASTER_COUNTY_NAME[#Data],0),0))","v":""},{"$f":"IF('WWVDS (Desc)'!G62=\"\",\"\",'WWVDS (Desc)'!G62)","v":""},{"$f":"IF('WWVDS (Desc)'!H62=\"\",\"\",'WWVDS (Desc)'!H62)","v":""},{"$f":"IF('WWVDS (Desc)'!I62=\"\",\"\",INDEX([1]WWVDS_TYPE!$A$2:$A$4,MATCH('WWVDS (Desc)'!$I62,[1]!MASTER_WWVDS_TYPE_DESC[#Data],0),0))","v":""},{"$f":"IF('WWVDS (Desc)'!$J62=\"\",\"\",INDEX([1]ITS_DEV_MANUF_MODEL!$A$2:$E$1500,MATCH(1,([1]ITS_DEV_MANUF_MODEL!$E$2:$E$1500=\"WWD\")*([1]ITS_DEV_MANUF_MODEL!$D$2:$D$1500='WWVDS (Desc)'!$J62),0),1))","v":""},{"$f":"IF('WWVDS (Desc)'!$J62=\"\",\"\",INDEX([1]ITS_DEV_MANUF_MODEL!$A$2:$E$1500,MATCH(1,([1]ITS_DEV_MANUF_MODEL!$E$2:$E$1500=\"WWD\")*([1]ITS_DEV_MANUF_MODEL!$D$2:$D$1500='WWVDS (Desc)'!$J62),0),2))","v":""},{"$f":"IF('WWVDS (Desc)'!L62=\"\",\"\",'WWVDS (Desc)'!L62)","v":""},{"$f":"IF('WWVDS (Desc)'!M62=\"\",\"\",'WWVDS (Desc)'!M62)","v":""},{"$f":"IF('WWVDS (Desc)'!N62=\"\",\"\",'WWVDS (Desc)'!N62)","v":""},{"$f":"IF('WWVDS (Desc)'!O62=\"\",\"\",'WWVDS (Desc)'!O62)","v":""},{"$f":"IF('WWVDS (Desc)'!P62=\"\",\"\",'WWVDS (Desc)'!P62)","v":""}]
[{"$f":"IF('WWVDS (Desc)'!A63=\"\",\"\",'WWVDS (Desc)'!A63)","v":""},{"$f":"IF('WWVDS (Desc)'!B63=\"\",\"\",'WWVDS (Desc)'!B63)","v":""},{"$f":"IF('WWVDS (Desc)'!C63=\"\",\"\",'WWVDS (Desc)'!C63)","v":""},{"$f":"IF('WWVDS (Desc)'!D63=\"\",\"\",'WWVDS (Desc)'!D63)","v":""},{"$f":"IF('WWVDS (Desc)'!E63=\"\",\"\",INDEX([1]OWNER!$A$2:$A$100,MATCH('WWVDS (Desc)'!$E63,[1]!MASTER_OWNER_DESC[#Data],0),0))","v":""},{"$f":"IF('WWVDS (Desc)'!F63=\"\",\"\",INDEX([1]COUNTY!$A$2:$A$80,MATCH('WWVDS (Desc)'!F63,[1]!MASTER_COUNTY_NAME[#Data],0),0))","v":""},{"$f":"IF('WWVDS (Desc)'!G63=\"\",\"\",'WWVDS (Desc)'!G63)","v":""},{"$f":"IF('WWVDS (Desc)'!H63=\"\",\"\",'WWVDS (Desc)'!H63)","v":""},{"$f":"IF('WWVDS (Desc)'!I63=\"\",\"\",INDEX([1]WWVDS_TYPE!$A$2:$A$4,MATCH('WWVDS (Desc)'!$I63,[1]!MASTER_WWVDS_TYPE_DESC[#Data],0),0))","v":""},{"$f":"IF('WWVDS (Desc)'!$J63=\"\",\"\",INDEX([1]ITS_DEV_MANUF_MODEL!$A$2:$E$1500,MATCH(1,([1]ITS_DEV_MANUF_MODEL!$E$2:$E$1500=\"WWD\")*([1]ITS_DEV_MANUF_MODEL!$D$2:$D$1500='WWVDS (Desc)'!$J63),0),1))","v":""},{"$f":"IF('WWVDS (Desc)'!$J63=\"\",\"\",INDEX([1]ITS_DEV_MANUF_MODEL!$A$2:$E$1500,MATCH(1,([1]ITS_DEV_MANUF_MODEL!$E$2:$E$1500=\"WWD\")*([1]ITS_DEV_MANUF_MODEL!$D$2:$D$1500='WWVDS (Desc)'!$J63),0),2))","v":""},{"$f":"IF('WWVDS (Desc)'!L63=\"\",\"\",'WWVDS (Desc)'!L63)","v":""},{"$f":"IF('WWVDS (Desc)'!M63=\"\",\"\",'WWVDS (Desc)'!M63)","v":""},{"$f":"IF('WWVDS (Desc)'!N63=\"\",\"\",'WWVDS (Desc)'!N63)","v":""},{"$f":"IF('WWVDS (Desc)'!O63=\"\",\"\",'WWVDS (Desc)'!O63)","v":""},{"$f":"IF('WWVDS (Desc)'!P63=\"\",\"\",'WWVDS (Desc)'!P63)","v":""}]
[{"$f":"IF('WWVDS (Desc)'!A64=\"\",\"\",'WWVDS (Desc)'!A64)","v":""},{"$f":"IF('WWVDS (Desc)'!B64=\"\",\"\",'WWVDS (Desc)'!B64)","v":""},{"$f":"IF('WWVDS (Desc)'!C64=\"\",\"\",'WWVDS (Desc)'!C64)","v":""},{"$f":"IF('WWVDS (Desc)'!D64=\"\",\"\",'WWVDS (Desc)'!D64)","v":""},{"$f":"IF('WWVDS (Desc)'!E64=\"\",\"\",INDEX([1]OWNER!$A$2:$A$100,MATCH('WWVDS (Desc)'!$E64,[1]!MASTER_OWNER_DESC[#Data],0),0))","v":""},{"$f":"IF('WWVDS (Desc)'!F64=\"\",\"\",INDEX([1]COUNTY!$A$2:$A$80,MATCH('WWVDS (Desc)'!F64,[1]!MASTER_COUNTY_NAME[#Data],0),0))","v":""},{"$f":"IF('WWVDS (Desc)'!G64=\"\",\"\",'WWVDS (Desc)'!G64)","v":""},{"$f":"IF('WWVDS (Desc)'!H64=\"\",\"\",'WWVDS (Desc)'!H64)","v":""},{"$f":"IF('WWVDS (Desc)'!I64=\"\",\"\",INDEX([1]WWVDS_TYPE!$A$2:$A$4,MATCH('WWVDS (Desc)'!$I64,[1]!MASTER_WWVDS_TYPE_DESC[#Data],0),0))","v":""},{"$f":"IF('WWVDS (Desc)'!$J64=\"\",\"\",INDEX([1]ITS_DEV_MANUF_MODEL!$A$2:$E$1500,MATCH(1,([1]ITS_DEV_MANUF_MODEL!$E$2:$E$1500=\"WWD\")*([1]ITS_DEV_MANUF_MODEL!$D$2:$D$1500='WWVDS (Desc)'!$J64),0),1))","v":""},{"$f":"IF('WWVDS (Desc)'!$J64=\"\",\"\",INDEX([1]ITS_DEV_MANUF_MODEL!$A$2:$E$1500,MATCH(1,([1]ITS_DEV_MANUF_MODEL!$E$2:$E$1500=\"WWD\")*([1]ITS_DEV_MANUF_MODEL!$D$2:$D$1500='WWVDS (Desc)'!$J64),0),2))","v":""},{"$f":"IF('WWVDS (Desc)'!L64=\"\",\"\",'WWVDS (Desc)'!L64)","v":""},{"$f":"IF('WWVDS (Desc)'!M64=\"\",\"\",'WWVDS (Desc)'!M64)","v":""},{"$f":"IF('WWVDS (Desc)'!N64=\"\",\"\",'WWVDS (Desc)'!N64)","v":""},{"$f":"IF('WWVDS (Desc)'!O64=\"\",\"\",'WWVDS (Desc)'!O64)","v":""},{"$f":"IF('WWVDS (Desc)'!P64=\"\",\"\",'WWVDS (Desc)'!P64)","v":""}]
[{"$f":"IF('WWVDS (Desc)'!A65=\"\",\"\",'WWVDS (Desc)'!A65)","v":""},{"$f":"IF('WWVDS (Desc)'!B65=\"\",\"\",'WWVDS (Desc)'!B65)","v":""},{"$f":"IF('WWVDS (Desc)'!C65=\"\",\"\",'WWVDS (Desc)'!C65)","v":""},{"$f":"IF('WWVDS (Desc)'!D65=\"\",\"\",'WWVDS (Desc)'!D65)","v":""},{"$f":"IF('WWVDS (Desc)'!E65=\"\",\"\",INDEX([1]OWNER!$A$2:$A$100,MATCH('WWVDS (Desc)'!$E65,[1]!MASTER_OWNER_DESC[#Data],0),0))","v":""},{"$f":"IF('WWVDS (Desc)'!F65=\"\",\"\",INDEX([1]COUNTY!$A$2:$A$80,MATCH('WWVDS (Desc)'!F65,[1]!MASTER_COUNTY_NAME[#Data],0),0))","v":""},{"$f":"IF('WWVDS (Desc)'!G65=\"\",\"\",'WWVDS (Desc)'!G65)","v":""},{"$f":"IF('WWVDS (Desc)'!H65=\"\",\"\",'WWVDS (Desc)'!H65)","v":""},{"$f":"IF('WWVDS (Desc)'!I65=\"\",\"\",INDEX([1]WWVDS_TYPE!$A$2:$A$4,MATCH('WWVDS (Desc)'!$I65,[1]!MASTER_WWVDS_TYPE_DESC[#Data],0),0))","v":""},{"$f":"IF('WWVDS (Desc)'!$J65=\"\",\"\",INDEX([1]ITS_DEV_MANUF_MODEL!$A$2:$E$1500,MATCH(1,([1]ITS_DEV_MANUF_MODEL!$E$2:$E$1500=\"WWD\")*([1]ITS_DEV_MANUF_MODEL!$D$2:$D$1500='WWVDS (Desc)'!$J65),0),1))","v":""},{"$f":"IF('WWVDS (Desc)'!$J65=\"\",\"\",INDEX([1]ITS_DEV_MANUF_MODEL!$A$2:$E$1500,MATCH(1,([1]ITS_DEV_MANUF_MODEL!$E$2:$E$1500=\"WWD\")*([1]ITS_DEV_MANUF_MODEL!$D$2:$D$1500='WWVDS (Desc)'!$J65),0),2))","v":""},{"$f":"IF('WWVDS (Desc)'!L65=\"\",\"\",'WWVDS (Desc)'!L65)","v":""},{"$f":"IF('WWVDS (Desc)'!M65=\"\",\"\",'WWVDS (Desc)'!M65)","v":""},{"$f":"IF('WWVDS (Desc)'!N65=\"\",\"\",'WWVDS (Desc)'!N65)","v":""},{"$f":"IF('WWVDS (Desc)'!O65=\"\",\"\",'WWVDS (Desc)'!O65)","v":""},{"$f":"IF('WWVDS (Desc)'!P65=\"\",\"\",'WWVDS (Desc)'!P65)","v":""}]
[{"$f":"IF('WWVDS (Desc)'!A66=\"\",\"\",'WWVDS (Desc)'!A66)","v":""},{"$f":"IF('WWVDS (Desc)'!B66=\"\",\"\",'WWVDS (Desc)'!B66)","v":""},{"$f":"IF('WWVDS (Desc)'!C66=\"\",\"\",'WWVDS (Desc)'!C66)","v":""},{"$f":"IF('WWVDS (Desc)'!D66=\"\",\"\",'WWVDS (Desc)'!D66)","v":""},{"$f":"IF('WWVDS (Desc)'!E66=\"\",\"\",INDEX([1]OWNER!$A$2:$A$100,MATCH('WWVDS (Desc)'!$E66,[1]!MASTER_OWNER_DESC[#Data],0),0))","v":""},{"$f":"IF('WWVDS (Desc)'!F66=\"\",\"\",INDEX([1]COUNTY!$A$2:$A$80,MATCH('WWVDS (Desc)'!F66,[1]!MASTER_COUNTY_NAME[#Data],0),0))","v":""},{"$f":"IF('WWVDS (Desc)'!G66=\"\",\"\",'WWVDS (Desc)'!G66)","v":""},{"$f":"IF('WWVDS (Desc)'!H66=\"\",\"\",'WWVDS (Desc)'!H66)","v":""},{"$f":"IF('WWVDS (Desc)'!I66=\"\",\"\",INDEX([1]WWVDS_TYPE!$A$2:$A$4,MATCH('WWVDS (Desc)'!$I66,[1]!MASTER_WWVDS_TYPE_DESC[#Data],0),0))","v":""},{"$f":"IF('WWVDS (Desc)'!$J66=\"\",\"\",INDEX([1]ITS_DEV_MANUF_MODEL!$A$2:$E$1500,MATCH(1,([1]ITS_DEV_MANUF_MODEL!$E$2:$E$1500=\"WWD\")*([1]ITS_DEV_MANUF_MODEL!$D$2:$D$1500='WWVDS (Desc)'!$J66),0),1))","v":""},{"$f":"IF('WWVDS (Desc)'!$J66=\"\",\"\",INDEX([1]ITS_DEV_MANUF_MODEL!$A$2:$E$1500,MATCH(1,([1]ITS_DEV_MANUF_MODEL!$E$2:$E$1500=\"WWD\")*([1]ITS_DEV_MANUF_MODEL!$D$2:$D$1500='WWVDS (Desc)'!$J66),0),2))","v":""},{"$f":"IF('WWVDS (Desc)'!L66=\"\",\"\",'WWVDS (Desc)'!L66)","v":""},{"$f":"IF('WWVDS (Desc)'!M66=\"\",\"\",'WWVDS (Desc)'!M66)","v":""},{"$f":"IF('WWVDS (Desc)'!N66=\"\",\"\",'WWVDS (Desc)'!N66)","v":""},{"$f":"IF('WWVDS (Desc)'!O66=\"\",\"\",'WWVDS (Desc)'!O66)","v":""},{"$f":"IF('WWVDS (Desc)'!P66=\"\",\"\",'WWVDS (Desc)'!P66)","v":""}]
[{"$f":"IF('WWVDS (Desc)'!A67=\"\",\"\",'WWVDS (Desc)'!A67)","v":""},{"$f":"IF('WWVDS (Desc)'!B67=\"\",\"\",'WWVDS (Desc)'!B67)","v":""},{"$f":"IF('WWVDS (Desc)'!C67=\"\",\"\",'WWVDS (Desc)'!C67)","v":""},{"$f":"IF('WWVDS (Desc)'!D67=\"\",\"\",'WWVDS (Desc)'!D67)","v":""},{"$f":"IF('WWVDS (Desc)'!E67=\"\",\"\",INDEX([1]OWNER!$A$2:$A$100,MATCH('WWVDS (Desc)'!$E67,[1]!MASTER_OWNER_DESC[#Data],0),0))","v":""},{"$f":"IF('WWVDS (Desc)'!F67=\"\",\"\",INDEX([1]COUNTY!$A$2:$A$80,MATCH('WWVDS (Desc)'!F67,[1]!MASTER_COUNTY_NAME[#Data],0),0))","v":""},{"$f":"IF('WWVDS (Desc)'!G67=\"\",\"\",'WWVDS (Desc)'!G67)","v":""},{"$f":"IF('WWVDS (Desc)'!H67=\"\",\"\",'WWVDS (Desc)'!H67)","v":""},{"$f":"IF('WWVDS (Desc)'!I67=\"\",\"\",INDEX([1]WWVDS_TYPE!$A$2:$A$4,MATCH('WWVDS (Desc)'!$I67,[1]!MASTER_WWVDS_TYPE_DESC[#Data],0),0))","v":""},{"$f":"IF('WWVDS (Desc)'!$J67=\"\",\"\",INDEX([1]ITS_DEV_MANUF_MODEL!$A$2:$E$1500,MATCH(1,([1]ITS_DEV_MANUF_MODEL!$E$2:$E$1500=\"WWD\")*([1]ITS_DEV_MANUF_MODEL!$D$2:$D$1500='WWVDS (Desc)'!$J67),0),1))","v":""},{"$f":"IF('WWVDS (Desc)'!$J67=\"\",\"\",INDEX([1]ITS_DEV_MANUF_MODEL!$A$2:$E$1500,MATCH(1,([1]ITS_DEV_MANUF_MODEL!$E$2:$E$1500=\"WWD\")*([1]ITS_DEV_MANUF_MODEL!$D$2:$D$1500='WWVDS (Desc)'!$J67),0),2))","v":""},{"$f":"IF('WWVDS (Desc)'!L67=\"\",\"\",'WWVDS (Desc)'!L67)","v":""},{"$f":"IF('WWVDS (Desc)'!M67=\"\",\"\",'WWVDS (Desc)'!M67)","v":""},{"$f":"IF('WWVDS (Desc)'!N67=\"\",\"\",'WWVDS (Desc)'!N67)","v":""},{"$f":"IF('WWVDS (Desc)'!O67=\"\",\"\",'WWVDS (Desc)'!O67)","v":""},{"$f":"IF('WWVDS (Desc)'!P67=\"\",\"\",'WWVDS (Desc)'!P67)","v":""}]
[{"$f":"IF('WWVDS (Desc)'!A68=\"\",\"\",'WWVDS (Desc)'!A68)","v":""},{"$f":"IF('WWVDS (Desc)'!B68=\"\",\"\",'WWVDS (Desc)'!B68)","v":""},{"$f":"IF('WWVDS (Desc)'!C68=\"\",\"\",'WWVDS (Desc)'!C68)","v":""},{"$f":"IF('WWVDS (Desc)'!D68=\"\",\"\",'WWVDS (Desc)'!D68)","v":""},{"$f":"IF('WWVDS (Desc)'!E68=\"\",\"\",INDEX([1]OWNER!$A$2:$A$100,MATCH('WWVDS (Desc)'!$E68,[1]!MASTER_OWNER_DESC[#Data],0),0))","v":""},{"$f":"IF('WWVDS (Desc)'!F68=\"\",\"\",INDEX([1]COUNTY!$A$2:$A$80,MATCH('WWVDS (Desc)'!F68,[1]!MASTER_COUNTY_NAME[#Data],0),0))","v":""},{"$f":"IF('WWVDS (Desc)'!G68=\"\",\"\",'WWVDS (Desc)'!G68)","v":""},{"$f":"IF('WWVDS (Desc)'!H68=\"\",\"\",'WWVDS (Desc)'!H68)","v":""},{"$f":"IF('WWVDS (Desc)'!I68=\"\",\"\",INDEX([1]WWVDS_TYPE!$A$2:$A$4,MATCH('WWVDS (Desc)'!$I68,[1]!MASTER_WWVDS_TYPE_DESC[#Data],0),0))","v":""},{"$f":"IF('WWVDS (Desc)'!$J68=\"\",\"\",INDEX([1]ITS_DEV_MANUF_MODEL!$A$2:$E$1500,MATCH(1,([1]ITS_DEV_MANUF_MODEL!$E$2:$E$1500=\"WWD\")*([1]ITS_DEV_MANUF_MODEL!$D$2:$D$1500='WWVDS (Desc)'!$J68),0),1))","v":""},{"$f":"IF('WWVDS (Desc)'!$J68=\"\",\"\",INDEX([1]ITS_DEV_MANUF_MODEL!$A$2:$E$1500,MATCH(1,([1]ITS_DEV_MANUF_MODEL!$E$2:$E$1500=\"WWD\")*([1]ITS_DEV_MANUF_MODEL!$D$2:$D$1500='WWVDS (Desc)'!$J68),0),2))","v":""},{"$f":"IF('WWVDS (Desc)'!L68=\"\",\"\",'WWVDS (Desc)'!L68)","v":""},{"$f":"IF('WWVDS (Desc)'!M68=\"\",\"\",'WWVDS (Desc)'!M68)","v":""},{"$f":"IF('WWVDS (Desc)'!N68=\"\",\"\",'WWVDS (Desc)'!N68)","v":""},{"$f":"IF('WWVDS (Desc)'!O68=\"\",\"\",'WWVDS (Desc)'!O68)","v":""},{"$f":"IF('WWVDS (Desc)'!P68=\"\",\"\",'WWVDS (Desc)'!P68)","v":""}]
[{"$f":"IF('WWVDS (Desc)'!A69=\"\",\"\",'WWVDS (Desc)'!A69)","v":""},{"$f":"IF('WWVDS (Desc)'!B69=\"\",\"\",'WWVDS (Desc)'!B69)","v":""},{"$f":"IF('WWVDS (Desc)'!C69=\"\",\"\",'WWVDS (Desc)'!C69)","v":""},{"$f":"IF('WWVDS (Desc)'!D69=\"\",\"\",'WWVDS (Desc)'!D69)","v":""},{"$f":"IF('WWVDS (Desc)'!E69=\"\",\"\",INDEX([1]OWNER!$A$2:$A$100,MATCH('WWVDS (Desc)'!$E69,[1]!MASTER_OWNER_DESC[#Data],0),0))","v":""},{"$f":"IF('WWVDS (Desc)'!F69=\"\",\"\",INDEX([1]COUNTY!$A$2:$A$80,MATCH('WWVDS (Desc)'!F69,[1]!MASTER_COUNTY_NAME[#Data],0),0))","v":""},{"$f":"IF('WWVDS (Desc)'!G69=\"\",\"\",'WWVDS (Desc)'!G69)","v":""},{"$f":"IF('WWVDS (Desc)'!H69=\"\",\"\",'WWVDS (Desc)'!H69)","v":""},{"$f":"IF('WWVDS (Desc)'!I69=\"\",\"\",INDEX([1]WWVDS_TYPE!$A$2:$A$4,MATCH('WWVDS (Desc)'!$I69,[1]!MASTER_WWVDS_TYPE_DESC[#Data],0),0))","v":""},{"$f":"IF('WWVDS (Desc)'!$J69=\"\",\"\",INDEX([1]ITS_DEV_MANUF_MODEL!$A$2:$E$1500,MATCH(1,([1]ITS_DEV_MANUF_MODEL!$E$2:$E$1500=\"WWD\")*([1]ITS_DEV_MANUF_MODEL!$D$2:$D$1500='WWVDS (Desc)'!$J69),0),1))","v":""},{"$f":"IF('WWVDS (Desc)'!$J69=\"\",\"\",INDEX([1]ITS_DEV_MANUF_MODEL!$A$2:$E$1500,MATCH(1,([1]ITS_DEV_MANUF_MODEL!$E$2:$E$1500=\"WWD\")*([1]ITS_DEV_MANUF_MODEL!$D$2:$D$1500='WWVDS (Desc)'!$J69),0),2))","v":""},{"$f":"IF('WWVDS (Desc)'!L69=\"\",\"\",'WWVDS (Desc)'!L69)","v":""},{"$f":"IF('WWVDS (Desc)'!M69=\"\",\"\",'WWVDS (Desc)'!M69)","v":""},{"$f":"IF('WWVDS (Desc)'!N69=\"\",\"\",'WWVDS (Desc)'!N69)","v":""},{"$f":"IF('WWVDS (Desc)'!O69=\"\",\"\",'WWVDS (Desc)'!O69)","v":""},{"$f":"IF('WWVDS (Desc)'!P69=\"\",\"\",'WWVDS (Desc)'!P69)","v":""}]
[{"$f":"IF('WWVDS (Desc)'!A70=\"\",\"\",'WWVDS (Desc)'!A70)","v":""},{"$f":"IF('WWVDS (Desc)'!B70=\"\",\"\",'WWVDS (Desc)'!B70)","v":""},{"$f":"IF('WWVDS (Desc)'!C70=\"\",\"\",'WWVDS (Desc)'!C70)","v":""},{"$f":"IF('WWVDS (Desc)'!D70=\"\",\"\",'WWVDS (Desc)'!D70)","v":""},{"$f":"IF('WWVDS (Desc)'!E70=\"\",\"\",INDEX([1]OWNER!$A$2:$A$100,MATCH('WWVDS (Desc)'!$E70,[1]!MASTER_OWNER_DESC[#Data],0),0))","v":""},{"$f":"IF('WWVDS (Desc)'!F70=\"\",\"\",INDEX([1]COUNTY!$A$2:$A$80,MATCH('WWVDS (Desc)'!F70,[1]!MASTER_COUNTY_NAME[#Data],0),0))","v":""},{"$f":"IF('WWVDS (Desc)'!G70=\"\",\"\",'WWVDS (Desc)'!G70)","v":""},{"$f":"IF('WWVDS (Desc)'!H70=\"\",\"\",'WWVDS (Desc)'!H70)","v":""},{"$f":"IF('WWVDS (Desc)'!I70=\"\",\"\",INDEX([1]WWVDS_TYPE!$A$2:$A$4,MATCH('WWVDS (Desc)'!$I70,[1]!MASTER_WWVDS_TYPE_DESC[#Data],0),0))","v":""},{"$f":"IF('WWVDS (Desc)'!$J70=\"\",\"\",INDEX([1]ITS_DEV_MANUF_MODEL!$A$2:$E$1500,MATCH(1,([1]ITS_DEV_MANUF_MODEL!$E$2:$E$1500=\"WWD\")*([1]ITS_DEV_MANUF_MODEL!$D$2:$D$1500='WWVDS (Desc)'!$J70),0),1))","v":""},{"$f":"IF('WWVDS (Desc)'!$J70=\"\",\"\",INDEX([1]ITS_DEV_MANUF_MODEL!$A$2:$E$1500,MATCH(1,([1]ITS_DEV_MANUF_MODEL!$E$2:$E$1500=\"WWD\")*([1]ITS_DEV_MANUF_MODEL!$D$2:$D$1500='WWVDS (Desc)'!$J70),0),2))","v":""},{"$f":"IF('WWVDS (Desc)'!L70=\"\",\"\",'WWVDS (Desc)'!L70)","v":""},{"$f":"IF('WWVDS (Desc)'!M70=\"\",\"\",'WWVDS (Desc)'!M70)","v":""},{"$f":"IF('WWVDS (Desc)'!N70=\"\",\"\",'WWVDS (Desc)'!N70)","v":""},{"$f":"IF('WWVDS (Desc)'!O70=\"\",\"\",'WWVDS (Desc)'!O70)","v":""},{"$f":"IF('WWVDS (Desc)'!P70=\"\",\"\",'WWVDS (Desc)'!P70)","v":""}]
[{"$f":"IF('WWVDS (Desc)'!A71=\"\",\"\",'WWVDS (Desc)'!A71)","v":""},{"$f":"IF('WWVDS (Desc)'!B71=\"\",\"\",'WWVDS (Desc)'!B71)","v":""},{"$f":"IF('WWVDS (Desc)'!C71=\"\",\"\",'WWVDS (Desc)'!C71)","v":""},{"$f":"IF('WWVDS (Desc)'!D71=\"\",\"\",'WWVDS (Desc)'!D71)","v":""},{"$f":"IF('WWVDS (Desc)'!E71=\"\",\"\",INDEX([1]OWNER!$A$2:$A$100,MATCH('WWVDS (Desc)'!$E71,[1]!MASTER_OWNER_DESC[#Data],0),0))","v":""},{"$f":"IF('WWVDS (Desc)'!F71=\"\",\"\",INDEX([1]COUNTY!$A$2:$A$80,MATCH('WWVDS (Desc)'!F71,[1]!MASTER_COUNTY_NAME[#Data],0),0))","v":""},{"$f":"IF('WWVDS (Desc)'!G71=\"\",\"\",'WWVDS (Desc)'!G71)","v":""},{"$f":"IF('WWVDS (Desc)'!H71=\"\",\"\",'WWVDS (Desc)'!H71)","v":""},{"$f":"IF('WWVDS (Desc)'!I71=\"\",\"\",INDEX([1]WWVDS_TYPE!$A$2:$A$4,MATCH('WWVDS (Desc)'!$I71,[1]!MASTER_WWVDS_TYPE_DESC[#Data],0),0))","v":""},{"$f":"IF('WWVDS (Desc)'!$J71=\"\",\"\",INDEX([1]ITS_DEV_MANUF_MODEL!$A$2:$E$1500,MATCH(1,([1]ITS_DEV_MANUF_MODEL!$E$2:$E$1500=\"WWD\")*([1]ITS_DEV_MANUF_MODEL!$D$2:$D$1500='WWVDS (Desc)'!$J71),0),1))","v":""},{"$f":"IF('WWVDS (Desc)'!$J71=\"\",\"\",INDEX([1]ITS_DEV_MANUF_MODEL!$A$2:$E$1500,MATCH(1,([1]ITS_DEV_MANUF_MODEL!$E$2:$E$1500=\"WWD\")*([1]ITS_DEV_MANUF_MODEL!$D$2:$D$1500='WWVDS (Desc)'!$J71),0),2))","v":""},{"$f":"IF('WWVDS (Desc)'!L71=\"\",\"\",'WWVDS (Desc)'!L71)","v":""},{"$f":"IF('WWVDS (Desc)'!M71=\"\",\"\",'WWVDS (Desc)'!M71)","v":""},{"$f":"IF('WWVDS (Desc)'!N71=\"\",\"\",'WWVDS (Desc)'!N71)","v":""},{"$f":"IF('WWVDS (Desc)'!O71=\"\",\"\",'WWVDS (Desc)'!O71)","v":""},{"$f":"IF('WWVDS (Desc)'!P71=\"\",\"\",'WWVDS (Desc)'!P71)","v":""}]
[{"$f":"IF('WWVDS (Desc)'!A72=\"\",\"\",'WWVDS (Desc)'!A72)","v":""},{"$f":"IF('WWVDS (Desc)'!B72=\"\",\"\",'WWVDS (Desc)'!B72)","v":""},{"$f":"IF('WWVDS (Desc)'!C72=\"\",\"\",'WWVDS (Desc)'!C72)","v":""},{"$f":"IF('WWVDS (Desc)'!D72=\"\",\"\",'WWVDS (Desc)'!D72)","v":""},{"$f":"IF('WWVDS (Desc)'!E72=\"\",\"\",INDEX([1]OWNER!$A$2:$A$100,MATCH('WWVDS (Desc)'!$E72,[1]!MASTER_OWNER_DESC[#Data],0),0))","v":""},{"$f":"IF('WWVDS (Desc)'!F72=\"\",\"\",INDEX([1]COUNTY!$A$2:$A$80,MATCH('WWVDS (Desc)'!F72,[1]!MASTER_COUNTY_NAME[#Data],0),0))","v":""},{"$f":"IF('WWVDS (Desc)'!G72=\"\",\"\",'WWVDS (Desc)'!G72)","v":""},{"$f":"IF('WWVDS (Desc)'!H72=\"\",\"\",'WWVDS (Desc)'!H72)","v":""},{"$f":"IF('WWVDS (Desc)'!I72=\"\",\"\",INDEX([1]WWVDS_TYPE!$A$2:$A$4,MATCH('WWVDS (Desc)'!$I72,[1]!MASTER_WWVDS_TYPE_DESC[#Data],0),0))","v":""},{"$f":"IF('WWVDS (Desc)'!$J72=\"\",\"\",INDEX([1]ITS_DEV_MANUF_MODEL!$A$2:$E$1500,MATCH(1,([1]ITS_DEV_MANUF_MODEL!$E$2:$E$1500=\"WWD\")*([1]ITS_DEV_MANUF_MODEL!$D$2:$D$1500='WWVDS (Desc)'!$J72),0),1))","v":""},{"$f":"IF('WWVDS (Desc)'!$J72=\"\",\"\",INDEX([1]ITS_DEV_MANUF_MODEL!$A$2:$E$1500,MATCH(1,([1]ITS_DEV_MANUF_MODEL!$E$2:$E$1500=\"WWD\")*([1]ITS_DEV_MANUF_MODEL!$D$2:$D$1500='WWVDS (Desc)'!$J72),0),2))","v":""},{"$f":"IF('WWVDS (Desc)'!L72=\"\",\"\",'WWVDS (Desc)'!L72)","v":""},{"$f":"IF('WWVDS (Desc)'!M72=\"\",\"\",'WWVDS (Desc)'!M72)","v":""},{"$f":"IF('WWVDS (Desc)'!N72=\"\",\"\",'WWVDS (Desc)'!N72)","v":""},{"$f":"IF('WWVDS (Desc)'!O72=\"\",\"\",'WWVDS (Desc)'!O72)","v":""},{"$f":"IF('WWVDS (Desc)'!P72=\"\",\"\",'WWVDS (Desc)'!P72)","v":""}]
[{"$f":"IF('WWVDS (Desc)'!A73=\"\",\"\",'WWVDS (Desc)'!A73)","v":""},{"$f":"IF('WWVDS (Desc)'!B73=\"\",\"\",'WWVDS (Desc)'!B73)","v":""},{"$f":"IF('WWVDS (Desc)'!C73=\"\",\"\",'WWVDS (Desc)'!C73)","v":""},{"$f":"IF('WWVDS (Desc)'!D73=\"\",\"\",'WWVDS (Desc)'!D73)","v":""},{"$f":"IF('WWVDS (Desc)'!E73=\"\",\"\",INDEX([1]OWNER!$A$2:$A$100,MATCH('WWVDS (Desc)'!$E73,[1]!MASTER_OWNER_DESC[#Data],0),0))","v":""},{"$f":"IF('WWVDS (Desc)'!F73=\"\",\"\",INDEX([1]COUNTY!$A$2:$A$80,MATCH('WWVDS (Desc)'!F73,[1]!MASTER_COUNTY_NAME[#Data],0),0))","v":""},{"$f":"IF('WWVDS (Desc)'!G73=\"\",\"\",'WWVDS (Desc)'!G73)","v":""},{"$f":"IF('WWVDS (Desc)'!H73=\"\",\"\",'WWVDS (Desc)'!H73)","v":""},{"$f":"IF('WWVDS (Desc)'!I73=\"\",\"\",INDEX([1]WWVDS_TYPE!$A$2:$A$4,MATCH('WWVDS (Desc)'!$I73,[1]!MASTER_WWVDS_TYPE_DESC[#Data],0),0))","v":""},{"$f":"IF('WWVDS (Desc)'!$J73=\"\",\"\",INDEX([1]ITS_DEV_MANUF_MODEL!$A$2:$E$1500,MATCH(1,([1]ITS_DEV_MANUF_MODEL!$E$2:$E$1500=\"WWD\")*([1]ITS_DEV_MANUF_MODEL!$D$2:$D$1500='WWVDS (Desc)'!$J73),0),1))","v":""},{"$f":"IF('WWVDS (Desc)'!$J73=\"\",\"\",INDEX([1]ITS_DEV_MANUF_MODEL!$A$2:$E$1500,MATCH(1,([1]ITS_DEV_MANUF_MODEL!$E$2:$E$1500=\"WWD\")*([1]ITS_DEV_MANUF_MODEL!$D$2:$D$1500='WWVDS (Desc)'!$J73),0),2))","v":""},{"$f":"IF('WWVDS (Desc)'!L73=\"\",\"\",'WWVDS (Desc)'!L73)","v":""},{"$f":"IF('WWVDS (Desc)'!M73=\"\",\"\",'WWVDS (Desc)'!M73)","v":""},{"$f":"IF('WWVDS (Desc)'!N73=\"\",\"\",'WWVDS (Desc)'!N73)","v":""},{"$f":"IF('WWVDS (Desc)'!O73=\"\",\"\",'WWVDS (Desc)'!O73)","v":""},{"$f":"IF('WWVDS (Desc)'!P73=\"\",\"\",'WWVDS (Desc)'!P73)","v":""}]
[{"$f":"IF('WWVDS (Desc)'!A74=\"\",\"\",'WWVDS (Desc)'!A74)","v":""},{"$f":"IF('WWVDS (Desc)'!B74=\"\",\"\",'WWVDS (Desc)'!B74)","v":""},{"$f":"IF('WWVDS (Desc)'!C74=\"\",\"\",'WWVDS (Desc)'!C74)","v":""},{"$f":"IF('WWVDS (Desc)'!D74=\"\",\"\",'WWVDS (Desc)'!D74)","v":""},{"$f":"IF('WWVDS (Desc)'!E74=\"\",\"\",INDEX([1]OWNER!$A$2:$A$100,MATCH('WWVDS (Desc)'!$E74,[1]!MASTER_OWNER_DESC[#Data],0),0))","v":""},{"$f":"IF('WWVDS (Desc)'!F74=\"\",\"\",INDEX([1]COUNTY!$A$2:$A$80,MATCH('WWVDS (Desc)'!F74,[1]!MASTER_COUNTY_NAME[#Data],0),0))","v":""},{"$f":"IF('WWVDS (Desc)'!G74=\"\",\"\",'WWVDS (Desc)'!G74)","v":""},{"$f":"IF('WWVDS (Desc)'!H74=\"\",\"\",'WWVDS (Desc)'!H74)","v":""},{"$f":"IF('WWVDS (Desc)'!I74=\"\",\"\",INDEX([1]WWVDS_TYPE!$A$2:$A$4,MATCH('WWVDS (Desc)'!$I74,[1]!MASTER_WWVDS_TYPE_DESC[#Data],0),0))","v":""},{"$f":"IF('WWVDS (Desc)'!$J74=\"\",\"\",INDEX([1]ITS_DEV_MANUF_MODEL!$A$2:$E$1500,MATCH(1,([1]ITS_DEV_MANUF_MODEL!$E$2:$E$1500=\"WWD\")*([1]ITS_DEV_MANUF_MODEL!$D$2:$D$1500='WWVDS (Desc)'!$J74),0),1))","v":""},{"$f":"IF('WWVDS (Desc)'!$J74=\"\",\"\",INDEX([1]ITS_DEV_MANUF_MODEL!$A$2:$E$1500,MATCH(1,([1]ITS_DEV_MANUF_MODEL!$E$2:$E$1500=\"WWD\")*([1]ITS_DEV_MANUF_MODEL!$D$2:$D$1500='WWVDS (Desc)'!$J74),0),2))","v":""},{"$f":"IF('WWVDS (Desc)'!L74=\"\",\"\",'WWVDS (Desc)'!L74)","v":""},{"$f":"IF('WWVDS (Desc)'!M74=\"\",\"\",'WWVDS (Desc)'!M74)","v":""},{"$f":"IF('WWVDS (Desc)'!N74=\"\",\"\",'WWVDS (Desc)'!N74)","v":""},{"$f":"IF('WWVDS (Desc)'!O74=\"\",\"\",'WWVDS (Desc)'!O74)","v":""},{"$f":"IF('WWVDS (Desc)'!P74=\"\",\"\",'WWVDS (Desc)'!P74)","v":""}]
[{"$f":"IF('WWVDS (Desc)'!A75=\"\",\"\",'WWVDS (Desc)'!A75)","v":""},{"$f":"IF('WWVDS (Desc)'!B75=\"\",\"\",'WWVDS (Desc)'!B75)","v":""},{"$f":"IF('WWVDS (Desc)'!C75=\"\",\"\",'WWVDS (Desc)'!C75)","v":""},{"$f":"IF('WWVDS (Desc)'!D75=\"\",\"\",'WWVDS (Desc)'!D75)","v":""},{"$f":"IF('WWVDS (Desc)'!E75=\"\",\"\",INDEX([1]OWNER!$A$2:$A$100,MATCH('WWVDS (Desc)'!$E75,[1]!MASTER_OWNER_DESC[#Data],0),0))","v":""},{"$f":"IF('WWVDS (Desc)'!F75=\"\",\"\",INDEX([1]COUNTY!$A$2:$A$80,MATCH('WWVDS (Desc)'!F75,[1]!MASTER_COUNTY_NAME[#Data],0),0))","v":""},{"$f":"IF('WWVDS (Desc)'!G75=\"\",\"\",'WWVDS (Desc)'!G75)","v":""},{"$f":"IF('WWVDS (Desc)'!H75=\"\",\"\",'WWVDS (Desc)'!H75)","v":""},{"$f":"IF('WWVDS (Desc)'!I75=\"\",\"\",INDEX([1]WWVDS_TYPE!$A$2:$A$4,MATCH('WWVDS (Desc)'!$I75,[1]!MASTER_WWVDS_TYPE_DESC[#Data],0),0))","v":""},{"$f":"IF('WWVDS (Desc)'!$J75=\"\",\"\",INDEX([1]ITS_DEV_MANUF_MODEL!$A$2:$E$1500,MATCH(1,([1]ITS_DEV_MANUF_MODEL!$E$2:$E$1500=\"WWD\")*([1]ITS_DEV_MANUF_MODEL!$D$2:$D$1500='WWVDS (Desc)'!$J75),0),1))","v":""},{"$f":"IF('WWVDS (Desc)'!$J75=\"\",\"\",INDEX([1]ITS_DEV_MANUF_MODEL!$A$2:$E$1500,MATCH(1,([1]ITS_DEV_MANUF_MODEL!$E$2:$E$1500=\"WWD\")*([1]ITS_DEV_MANUF_MODEL!$D$2:$D$1500='WWVDS (Desc)'!$J75),0),2))","v":""},{"$f":"IF('WWVDS (Desc)'!L75=\"\",\"\",'WWVDS (Desc)'!L75)","v":""},{"$f":"IF('WWVDS (Desc)'!M75=\"\",\"\",'WWVDS (Desc)'!M75)","v":""},{"$f":"IF('WWVDS (Desc)'!N75=\"\",\"\",'WWVDS (Desc)'!N75)","v":""},{"$f":"IF('WWVDS (Desc)'!O75=\"\",\"\",'WWVDS (Desc)'!O75)","v":""},{"$f":"IF('WWVDS (Desc)'!P75=\"\",\"\",'WWVDS (Desc)'!P75)","v":""}]
[{"$f":"IF('WWVDS (Desc)'!A76=\"\",\"\",'WWVDS (Desc)'!A76)","v":""},{"$f":"IF('WWVDS (Desc)'!B76=\"\",\"\",'WWVDS (Desc)'!B76)","v":""},{"$f":"IF('WWVDS (Desc)'!C76=\"\",\"\",'WWVDS (Desc)'!C76)","v":""},{"$f":"IF('WWVDS (Desc)'!D76=\"\",\"\",'WWVDS (Desc)'!D76)","v":""},{"$f":"IF('WWVDS (Desc)'!E76=\"\",\"\",INDEX([1]OWNER!$A$2:$A$100,MATCH('WWVDS (Desc)'!$E76,[1]!MASTER_OWNER_DESC[#Data],0),0))","v":""},{"$f":"IF('WWVDS (Desc)'!F76=\"\",\"\",INDEX([1]COUNTY!$A$2:$A$80,MATCH('WWVDS (Desc)'!F76,[1]!MASTER_COUNTY_NAME[#Data],0),0))","v":""},{"$f":"IF('WWVDS (Desc)'!G76=\"\",\"\",'WWVDS (Desc)'!G76)","v":""},{"$f":"IF('WWVDS (Desc)'!H76=\"\",\"\",'WWVDS (Desc)'!H76)","v":""},{"$f":"IF('WWVDS (Desc)'!I76=\"\",\"\",INDEX([1]WWVDS_TYPE!$A$2:$A$4,MATCH('WWVDS (Desc)'!$I76,[1]!MASTER_WWVDS_TYPE_DESC[#Data],0),0))","v":""},{"$f":"IF('WWVDS (Desc)'!$J76=\"\",\"\",INDEX([1]ITS_DEV_MANUF_MODEL!$A$2:$E$1500,MATCH(1,([1]ITS_DEV_MANUF_MODEL!$E$2:$E$1500=\"WWD\")*([1]ITS_DEV_MANUF_MODEL!$D$2:$D$1500='WWVDS (Desc)'!$J76),0),1))","v":""},{"$f":"IF('WWVDS (Desc)'!$J76=\"\",\"\",INDEX([1]ITS_DEV_MANUF_MODEL!$A$2:$E$1500,MATCH(1,([1]ITS_DEV_MANUF_MODEL!$E$2:$E$1500=\"WWD\")*([1]ITS_DEV_MANUF_MODEL!$D$2:$D$1500='WWVDS (Desc)'!$J76),0),2))","v":""},{"$f":"IF('WWVDS (Desc)'!L76=\"\",\"\",'WWVDS (Desc)'!L76)","v":""},{"$f":"IF('WWVDS (Desc)'!M76=\"\",\"\",'WWVDS (Desc)'!M76)","v":""},{"$f":"IF('WWVDS (Desc)'!N76=\"\",\"\",'WWVDS (Desc)'!N76)","v":""},{"$f":"IF('WWVDS (Desc)'!O76=\"\",\"\",'WWVDS (Desc)'!O76)","v":""},{"$f":"IF('WWVDS (Desc)'!P76=\"\",\"\",'WWVDS (Desc)'!P76)","v":""}]
[{"$f":"IF('WWVDS (Desc)'!A77=\"\",\"\",'WWVDS (Desc)'!A77)","v":""},{"$f":"IF('WWVDS (Desc)'!B77=\"\",\"\",'WWVDS (Desc)'!B77)","v":""},{"$f":"IF('WWVDS (Desc)'!C77=\"\",\"\",'WWVDS (Desc)'!C77)","v":""},{"$f":"IF('WWVDS (Desc)'!D77=\"\",\"\",'WWVDS (Desc)'!D77)","v":""},{"$f":"IF('WWVDS (Desc)'!E77=\"\",\"\",INDEX([1]OWNER!$A$2:$A$100,MATCH('WWVDS (Desc)'!$E77,[1]!MASTER_OWNER_DESC[#Data],0),0))","v":""},{"$f":"IF('WWVDS (Desc)'!F77=\"\",\"\",INDEX([1]COUNTY!$A$2:$A$80,MATCH('WWVDS (Desc)'!F77,[1]!MASTER_COUNTY_NAME[#Data],0),0))","v":""},{"$f":"IF('WWVDS (Desc)'!G77=\"\",\"\",'WWVDS (Desc)'!G77)","v":""},{"$f":"IF('WWVDS (Desc)'!H77=\"\",\"\",'WWVDS (Desc)'!H77)","v":""},{"$f":"IF('WWVDS (Desc)'!I77=\"\",\"\",INDEX([1]WWVDS_TYPE!$A$2:$A$4,MATCH('WWVDS (Desc)'!$I77,[1]!MASTER_WWVDS_TYPE_DESC[#Data],0),0))","v":""},{"$f":"IF('WWVDS (Desc)'!$J77=\"\",\"\",INDEX([1]ITS_DEV_MANUF_MODEL!$A$2:$E$1500,MATCH(1,([1]ITS_DEV_MANUF_MODEL!$E$2:$E$1500=\"WWD\")*([1]ITS_DEV_MANUF_MODEL!$D$2:$D$1500='WWVDS (Desc)'!$J77),0),1))","v":""},{"$f":"IF('WWVDS (Desc)'!$J77=\"\",\"\",INDEX([1]ITS_DEV_MANUF_MODEL!$A$2:$E$1500,MATCH(1,([1]ITS_DEV_MANUF_MODEL!$E$2:$E$1500=\"WWD\")*([1]ITS_DEV_MANUF_MODEL!$D$2:$D$1500='WWVDS (Desc)'!$J77),0),2))","v":""},{"$f":"IF('WWVDS (Desc)'!L77=\"\",\"\",'WWVDS (Desc)'!L77)","v":""},{"$f":"IF('WWVDS (Desc)'!M77=\"\",\"\",'WWVDS (Desc)'!M77)","v":""},{"$f":"IF('WWVDS (Desc)'!N77=\"\",\"\",'WWVDS (Desc)'!N77)","v":""},{"$f":"IF('WWVDS (Desc)'!O77=\"\",\"\",'WWVDS (Desc)'!O77)","v":""},{"$f":"IF('WWVDS (Desc)'!P77=\"\",\"\",'WWVDS (Desc)'!P77)","v":""}]
[{"$f":"IF('WWVDS (Desc)'!A78=\"\",\"\",'WWVDS (Desc)'!A78)","v":""},{"$f":"IF('WWVDS (Desc)'!B78=\"\",\"\",'WWVDS (Desc)'!B78)","v":""},{"$f":"IF('WWVDS (Desc)'!C78=\"\",\"\",'WWVDS (Desc)'!C78)","v":""},{"$f":"IF('WWVDS (Desc)'!D78=\"\",\"\",'WWVDS (Desc)'!D78)","v":""},{"$f":"IF('WWVDS (Desc)'!E78=\"\",\"\",INDEX([1]OWNER!$A$2:$A$100,MATCH('WWVDS (Desc)'!$E78,[1]!MASTER_OWNER_DESC[#Data],0),0))","v":""},{"$f":"IF('WWVDS (Desc)'!F78=\"\",\"\",INDEX([1]COUNTY!$A$2:$A$80,MATCH('WWVDS (Desc)'!F78,[1]!MASTER_COUNTY_NAME[#Data],0),0))","v":""},{"$f":"IF('WWVDS (Desc)'!G78=\"\",\"\",'WWVDS (Desc)'!G78)","v":""},{"$f":"IF('WWVDS (Desc)'!H78=\"\",\"\",'WWVDS (Desc)'!H78)","v":""},{"$f":"IF('WWVDS (Desc)'!I78=\"\",\"\",INDEX([1]WWVDS_TYPE!$A$2:$A$4,MATCH('WWVDS (Desc)'!$I78,[1]!MASTER_WWVDS_TYPE_DESC[#Data],0),0))","v":""},{"$f":"IF('WWVDS (Desc)'!$J78=\"\",\"\",INDEX([1]ITS_DEV_MANUF_MODEL!$A$2:$E$1500,MATCH(1,([1]ITS_DEV_MANUF_MODEL!$E$2:$E$1500=\"WWD\")*([1]ITS_DEV_MANUF_MODEL!$D$2:$D$1500='WWVDS (Desc)'!$J78),0),1))","v":""},{"$f":"IF('WWVDS (Desc)'!$J78=\"\",\"\",INDEX([1]ITS_DEV_MANUF_MODEL!$A$2:$E$1500,MATCH(1,([1]ITS_DEV_MANUF_MODEL!$E$2:$E$1500=\"WWD\")*([1]ITS_DEV_MANUF_MODEL!$D$2:$D$1500='WWVDS (Desc)'!$J78),0),2))","v":""},{"$f":"IF('WWVDS (Desc)'!L78=\"\",\"\",'WWVDS (Desc)'!L78)","v":""},{"$f":"IF('WWVDS (Desc)'!M78=\"\",\"\",'WWVDS (Desc)'!M78)","v":""},{"$f":"IF('WWVDS (Desc)'!N78=\"\",\"\",'WWVDS (Desc)'!N78)","v":""},{"$f":"IF('WWVDS (Desc)'!O78=\"\",\"\",'WWVDS (Desc)'!O78)","v":""},{"$f":"IF('WWVDS (Desc)'!P78=\"\",\"\",'WWVDS (Desc)'!P78)","v":""}]
[{"$f":"IF('WWVDS (Desc)'!A79=\"\",\"\",'WWVDS (Desc)'!A79)","v":""},{"$f":"IF('WWVDS (Desc)'!B79=\"\",\"\",'WWVDS (Desc)'!B79)","v":""},{"$f":"IF('WWVDS (Desc)'!C79=\"\",\"\",'WWVDS (Desc)'!C79)","v":""},{"$f":"IF('WWVDS (Desc)'!D79=\"\",\"\",'WWVDS (Desc)'!D79)","v":""},{"$f":"IF('WWVDS (Desc)'!E79=\"\",\"\",INDEX([1]OWNER!$A$2:$A$100,MATCH('WWVDS (Desc)'!$E79,[1]!MASTER_OWNER_DESC[#Data],0),0))","v":""},{"$f":"IF('WWVDS (Desc)'!F79=\"\",\"\",INDEX([1]COUNTY!$A$2:$A$80,MATCH('WWVDS (Desc)'!F79,[1]!MASTER_COUNTY_NAME[#Data],0),0))","v":""},{"$f":"IF('WWVDS (Desc)'!G79=\"\",\"\",'WWVDS (Desc)'!G79)","v":""},{"$f":"IF('WWVDS (Desc)'!H79=\"\",\"\",'WWVDS (Desc)'!H79)","v":""},{"$f":"IF('WWVDS (Desc)'!I79=\"\",\"\",INDEX([1]WWVDS_TYPE!$A$2:$A$4,MATCH('WWVDS (Desc)'!$I79,[1]!MASTER_WWVDS_TYPE_DESC[#Data],0),0))","v":""},{"$f":"IF('WWVDS (Desc)'!$J79=\"\",\"\",INDEX([1]ITS_DEV_MANUF_MODEL!$A$2:$E$1500,MATCH(1,([1]ITS_DEV_MANUF_MODEL!$E$2:$E$1500=\"WWD\")*([1]ITS_DEV_MANUF_MODEL!$D$2:$D$1500='WWVDS (Desc)'!$J79),0),1))","v":""},{"$f":"IF('WWVDS (Desc)'!$J79=\"\",\"\",INDEX([1]ITS_DEV_MANUF_MODEL!$A$2:$E$1500,MATCH(1,([1]ITS_DEV_MANUF_MODEL!$E$2:$E$1500=\"WWD\")*([1]ITS_DEV_MANUF_MODEL!$D$2:$D$1500='WWVDS (Desc)'!$J79),0),2))","v":""},{"$f":"IF('WWVDS (Desc)'!L79=\"\",\"\",'WWVDS (Desc)'!L79)","v":""},{"$f":"IF('WWVDS (Desc)'!M79=\"\",\"\",'WWVDS (Desc)'!M79)","v":""},{"$f":"IF('WWVDS (Desc)'!N79=\"\",\"\",'WWVDS (Desc)'!N79)","v":""},{"$f":"IF('WWVDS (Desc)'!O79=\"\",\"\",'WWVDS (Desc)'!O79)","v":""},{"$f":"IF('WWVDS (Desc)'!P79=\"\",\"\",'WWVDS (Desc)'!P79)","v":""}]
[{"$f":"IF('WWVDS (Desc)'!A80=\"\",\"\",'WWVDS (Desc)'!A80)","v":""},{"$f":"IF('WWVDS (Desc)'!B80=\"\",\"\",'WWVDS (Desc)'!B80)","v":""},{"$f":"IF('WWVDS (Desc)'!C80=\"\",\"\",'WWVDS (Desc)'!C80)","v":""},{"$f":"IF('WWVDS (Desc)'!D80=\"\",\"\",'WWVDS (Desc)'!D80)","v":""},{"$f":"IF('WWVDS (Desc)'!E80=\"\",\"\",INDEX([1]OWNER!$A$2:$A$100,MATCH('WWVDS (Desc)'!$E80,[1]!MASTER_OWNER_DESC[#Data],0),0))","v":""},{"$f":"IF('WWVDS (Desc)'!F80=\"\",\"\",INDEX([1]COUNTY!$A$2:$A$80,MATCH('WWVDS (Desc)'!F80,[1]!MASTER_COUNTY_NAME[#Data],0),0))","v":""},{"$f":"IF('WWVDS (Desc)'!G80=\"\",\"\",'WWVDS (Desc)'!G80)","v":""},{"$f":"IF('WWVDS (Desc)'!H80=\"\",\"\",'WWVDS (Desc)'!H80)","v":""},{"$f":"IF('WWVDS (Desc)'!I80=\"\",\"\",INDEX([1]WWVDS_TYPE!$A$2:$A$4,MATCH('WWVDS (Desc)'!$I80,[1]!MASTER_WWVDS_TYPE_DESC[#Data],0),0))","v":""},{"$f":"IF('WWVDS (Desc)'!$J80=\"\",\"\",INDEX([1]ITS_DEV_MANUF_MODEL!$A$2:$E$1500,MATCH(1,([1]ITS_DEV_MANUF_MODEL!$E$2:$E$1500=\"WWD\")*([1]ITS_DEV_MANUF_MODEL!$D$2:$D$1500='WWVDS (Desc)'!$J80),0),1))","v":""},{"$f":"IF('WWVDS (Desc)'!$J80=\"\",\"\",INDEX([1]ITS_DEV_MANUF_MODEL!$A$2:$E$1500,MATCH(1,([1]ITS_DEV_MANUF_MODEL!$E$2:$E$1500=\"WWD\")*([1]ITS_DEV_MANUF_MODEL!$D$2:$D$1500='WWVDS (Desc)'!$J80),0),2))","v":""},{"$f":"IF('WWVDS (Desc)'!L80=\"\",\"\",'WWVDS (Desc)'!L80)","v":""},{"$f":"IF('WWVDS (Desc)'!M80=\"\",\"\",'WWVDS (Desc)'!M80)","v":""},{"$f":"IF('WWVDS (Desc)'!N80=\"\",\"\",'WWVDS (Desc)'!N80)","v":""},{"$f":"IF('WWVDS (Desc)'!O80=\"\",\"\",'WWVDS (Desc)'!O80)","v":""},{"$f":"IF('WWVDS (Desc)'!P80=\"\",\"\",'WWVDS (Desc)'!P80)","v":""}]
[{"$f":"IF('WWVDS (Desc)'!A81=\"\",\"\",'WWVDS (Desc)'!A81)","v":""},{"$f":"IF('WWVDS (Desc)'!B81=\"\",\"\",'WWVDS (Desc)'!B81)","v":""},{"$f":"IF('WWVDS (Desc)'!C81=\"\",\"\",'WWVDS (Desc)'!C81)","v":""},{"$f":"IF('WWVDS (Desc)'!D81=\"\",\"\",'WWVDS (Desc)'!D81)","v":""},{"$f":"IF('WWVDS (Desc)'!E81=\"\",\"\",INDEX([1]OWNER!$A$2:$A$100,MATCH('WWVDS (Desc)'!$E81,[1]!MASTER_OWNER_DESC[#Data],0),0))","v":""},{"$f":"IF('WWVDS (Desc)'!F81=\"\",\"\",INDEX([1]COUNTY!$A$2:$A$80,MATCH('WWVDS (Desc)'!F81,[1]!MASTER_COUNTY_NAME[#Data],0),0))","v":""},{"$f":"IF('WWVDS (Desc)'!G81=\"\",\"\",'WWVDS (Desc)'!G81)","v":""},{"$f":"IF('WWVDS (Desc)'!H81=\"\",\"\",'WWVDS (Desc)'!H81)","v":""},{"$f":"IF('WWVDS (Desc)'!I81=\"\",\"\",INDEX([1]WWVDS_TYPE!$A$2:$A$4,MATCH('WWVDS (Desc)'!$I81,[1]!MASTER_WWVDS_TYPE_DESC[#Data],0),0))","v":""},{"$f":"IF('WWVDS (Desc)'!$J81=\"\",\"\",INDEX([1]ITS_DEV_MANUF_MODEL!$A$2:$E$1500,MATCH(1,([1]ITS_DEV_MANUF_MODEL!$E$2:$E$1500=\"WWD\")*([1]ITS_DEV_MANUF_MODEL!$D$2:$D$1500='WWVDS (Desc)'!$J81),0),1))","v":""},{"$f":"IF('WWVDS (Desc)'!$J81=\"\",\"\",INDEX([1]ITS_DEV_MANUF_MODEL!$A$2:$E$1500,MATCH(1,([1]ITS_DEV_MANUF_MODEL!$E$2:$E$1500=\"WWD\")*([1]ITS_DEV_MANUF_MODEL!$D$2:$D$1500='WWVDS (Desc)'!$J81),0),2))","v":""},{"$f":"IF('WWVDS (Desc)'!L81=\"\",\"\",'WWVDS (Desc)'!L81)","v":""},{"$f":"IF('WWVDS (Desc)'!M81=\"\",\"\",'WWVDS (Desc)'!M81)","v":""},{"$f":"IF('WWVDS (Desc)'!N81=\"\",\"\",'WWVDS (Desc)'!N81)","v":""},{"$f":"IF('WWVDS (Desc)'!O81=\"\",\"\",'WWVDS (Desc)'!O81)","v":""},{"$f":"IF('WWVDS (Desc)'!P81=\"\",\"\",'WWVDS (Desc)'!P81)","v":""}]
[{"$f":"IF('WWVDS (Desc)'!A82=\"\",\"\",'WWVDS (Desc)'!A82)","v":""},{"$f":"IF('WWVDS (Desc)'!B82=\"\",\"\",'WWVDS (Desc)'!B82)","v":""},{"$f":"IF('WWVDS (Desc)'!C82=\"\",\"\",'WWVDS (Desc)'!C82)","v":""},{"$f":"IF('WWVDS (Desc)'!D82=\"\",\"\",'WWVDS (Desc)'!D82)","v":""},{"$f":"IF('WWVDS (Desc)'!E82=\"\",\"\",INDEX([1]OWNER!$A$2:$A$100,MATCH('WWVDS (Desc)'!$E82,[1]!MASTER_OWNER_DESC[#Data],0),0))","v":""},{"$f":"IF('WWVDS (Desc)'!F82=\"\",\"\",INDEX([1]COUNTY!$A$2:$A$80,MATCH('WWVDS (Desc)'!F82,[1]!MASTER_COUNTY_NAME[#Data],0),0))","v":""},{"$f":"IF('WWVDS (Desc)'!G82=\"\",\"\",'WWVDS (Desc)'!G82)","v":""},{"$f":"IF('WWVDS (Desc)'!H82=\"\",\"\",'WWVDS (Desc)'!H82)","v":""},{"$f":"IF('WWVDS (Desc)'!I82=\"\",\"\",INDEX([1]WWVDS_TYPE!$A$2:$A$4,MATCH('WWVDS (Desc)'!$I82,[1]!MASTER_WWVDS_TYPE_DESC[#Data],0),0))","v":""},{"$f":"IF('WWVDS (Desc)'!$J82=\"\",\"\",INDEX([1]ITS_DEV_MANUF_MODEL!$A$2:$E$1500,MATCH(1,([1]ITS_DEV_MANUF_MODEL!$E$2:$E$1500=\"WWD\")*([1]ITS_DEV_MANUF_MODEL!$D$2:$D$1500='WWVDS (Desc)'!$J82),0),1))","v":""},{"$f":"IF('WWVDS (Desc)'!$J82=\"\",\"\",INDEX([1]ITS_DEV_MANUF_MODEL!$A$2:$E$1500,MATCH(1,([1]ITS_DEV_MANUF_MODEL!$E$2:$E$1500=\"WWD\")*([1]ITS_DEV_MANUF_MODEL!$D$2:$D$1500='WWVDS (Desc)'!$J82),0),2))","v":""},{"$f":"IF('WWVDS (Desc)'!L82=\"\",\"\",'WWVDS (Desc)'!L82)","v":""},{"$f":"IF('WWVDS (Desc)'!M82=\"\",\"\",'WWVDS (Desc)'!M82)","v":""},{"$f":"IF('WWVDS (Desc)'!N82=\"\",\"\",'WWVDS (Desc)'!N82)","v":""},{"$f":"IF('WWVDS (Desc)'!O82=\"\",\"\",'WWVDS (Desc)'!O82)","v":""},{"$f":"IF('WWVDS (Desc)'!P82=\"\",\"\",'WWVDS (Desc)'!P82)","v":""}]
[{"$f":"IF('WWVDS (Desc)'!A83=\"\",\"\",'WWVDS (Desc)'!A83)","v":""},{"$f":"IF('WWVDS (Desc)'!B83=\"\",\"\",'WWVDS (Desc)'!B83)","v":""},{"$f":"IF('WWVDS (Desc)'!C83=\"\",\"\",'WWVDS (Desc)'!C83)","v":""},{"$f":"IF('WWVDS (Desc)'!D83=\"\",\"\",'WWVDS (Desc)'!D83)","v":""},{"$f":"IF('WWVDS (Desc)'!E83=\"\",\"\",INDEX([1]OWNER!$A$2:$A$100,MATCH('WWVDS (Desc)'!$E83,[1]!MASTER_OWNER_DESC[#Data],0),0))","v":""},{"$f":"IF('WWVDS (Desc)'!F83=\"\",\"\",INDEX([1]COUNTY!$A$2:$A$80,MATCH('WWVDS (Desc)'!F83,[1]!MASTER_COUNTY_NAME[#Data],0),0))","v":""},{"$f":"IF('WWVDS (Desc)'!G83=\"\",\"\",'WWVDS (Desc)'!G83)","v":""},{"$f":"IF('WWVDS (Desc)'!H83=\"\",\"\",'WWVDS (Desc)'!H83)","v":""},{"$f":"IF('WWVDS (Desc)'!I83=\"\",\"\",INDEX([1]WWVDS_TYPE!$A$2:$A$4,MATCH('WWVDS (Desc)'!$I83,[1]!MASTER_WWVDS_TYPE_DESC[#Data],0),0))","v":""},{"$f":"IF('WWVDS (Desc)'!$J83=\"\",\"\",INDEX([1]ITS_DEV_MANUF_MODEL!$A$2:$E$1500,MATCH(1,([1]ITS_DEV_MANUF_MODEL!$E$2:$E$1500=\"WWD\")*([1]ITS_DEV_MANUF_MODEL!$D$2:$D$1500='WWVDS (Desc)'!$J83),0),1))","v":""},{"$f":"IF('WWVDS (Desc)'!$J83=\"\",\"\",INDEX([1]ITS_DEV_MANUF_MODEL!$A$2:$E$1500,MATCH(1,([1]ITS_DEV_MANUF_MODEL!$E$2:$E$1500=\"WWD\")*([1]ITS_DEV_MANUF_MODEL!$D$2:$D$1500='WWVDS (Desc)'!$J83),0),2))","v":""},{"$f":"IF('WWVDS (Desc)'!L83=\"\",\"\",'WWVDS (Desc)'!L83)","v":""},{"$f":"IF('WWVDS (Desc)'!M83=\"\",\"\",'WWVDS (Desc)'!M83)","v":""},{"$f":"IF('WWVDS (Desc)'!N83=\"\",\"\",'WWVDS (Desc)'!N83)","v":""},{"$f":"IF('WWVDS (Desc)'!O83=\"\",\"\",'WWVDS (Desc)'!O83)","v":""},{"$f":"IF('WWVDS (Desc)'!P83=\"\",\"\",'WWVDS (Desc)'!P83)","v":""}]
[{"$f":"IF('WWVDS (Desc)'!A84=\"\",\"\",'WWVDS (Desc)'!A84)","v":""},{"$f":"IF('WWVDS (Desc)'!B84=\"\",\"\",'WWVDS (Desc)'!B84)","v":""},{"$f":"IF('WWVDS (Desc)'!C84=\"\",\"\",'WWVDS (Desc)'!C84)","v":""},{"$f":"IF('WWVDS (Desc)'!D84=\"\",\"\",'WWVDS (Desc)'!D84)","v":""},{"$f":"IF('WWVDS (Desc)'!E84=\"\",\"\",INDEX([1]OWNER!$A$2:$A$100,MATCH('WWVDS (Desc)'!$E84,[1]!MASTER_OWNER_DESC[#Data],0),0))","v":""},{"$f":"IF('WWVDS (Desc)'!F84=\"\",\"\",INDEX([1]COUNTY!$A$2:$A$80,MATCH('WWVDS (Desc)'!F84,[1]!MASTER_COUNTY_NAME[#Data],0),0))","v":""},{"$f":"IF('WWVDS (Desc)'!G84=\"\",\"\",'WWVDS (Desc)'!G84)","v":""},{"$f":"IF('WWVDS (Desc)'!H84=\"\",\"\",'WWVDS (Desc)'!H84)","v":""},{"$f":"IF('WWVDS (Desc)'!I84=\"\",\"\",INDEX([1]WWVDS_TYPE!$A$2:$A$4,MATCH('WWVDS (Desc)'!$I84,[1]!MASTER_WWVDS_TYPE_DESC[#Data],0),0))","v":""},{"$f":"IF('WWVDS (Desc)'!$J84=\"\",\"\",INDEX([1]ITS_DEV_MANUF_MODEL!$A$2:$E$1500,MATCH(1,([1]ITS_DEV_MANUF_MODEL!$E$2:$E$1500=\"WWD\")*([1]ITS_DEV_MANUF_MODEL!$D$2:$D$1500='WWVDS (Desc)'!$J84),0),1))","v":""},{"$f":"IF('WWVDS (Desc)'!$J84=\"\",\"\",INDEX([1]ITS_DEV_MANUF_MODEL!$A$2:$E$1500,MATCH(1,([1]ITS_DEV_MANUF_MODEL!$E$2:$E$1500=\"WWD\")*([1]ITS_DEV_MANUF_MODEL!$D$2:$D$1500='WWVDS (Desc)'!$J84),0),2))","v":""},{"$f":"IF('WWVDS (Desc)'!L84=\"\",\"\",'WWVDS (Desc)'!L84)","v":""},{"$f":"IF('WWVDS (Desc)'!M84=\"\",\"\",'WWVDS (Desc)'!M84)","v":""},{"$f":"IF('WWVDS (Desc)'!N84=\"\",\"\",'WWVDS (Desc)'!N84)","v":""},{"$f":"IF('WWVDS (Desc)'!O84=\"\",\"\",'WWVDS (Desc)'!O84)","v":""},{"$f":"IF('WWVDS (Desc)'!P84=\"\",\"\",'WWVDS (Desc)'!P84)","v":""}]
[{"$f":"IF('WWVDS (Desc)'!A85=\"\",\"\",'WWVDS (Desc)'!A85)","v":""},{"$f":"IF('WWVDS (Desc)'!B85=\"\",\"\",'WWVDS (Desc)'!B85)","v":""},{"$f":"IF('WWVDS (Desc)'!C85=\"\",\"\",'WWVDS (Desc)'!C85)","v":""},{"$f":"IF('WWVDS (Desc)'!D85=\"\",\"\",'WWVDS (Desc)'!D85)","v":""},{"$f":"IF('WWVDS (Desc)'!E85=\"\",\"\",INDEX([1]OWNER!$A$2:$A$100,MATCH('WWVDS (Desc)'!$E85,[1]!MASTER_OWNER_DESC[#Data],0),0))","v":""},{"$f":"IF('WWVDS (Desc)'!F85=\"\",\"\",INDEX([1]COUNTY!$A$2:$A$80,MATCH('WWVDS (Desc)'!F85,[1]!MASTER_COUNTY_NAME[#Data],0),0))","v":""},{"$f":"IF('WWVDS (Desc)'!G85=\"\",\"\",'WWVDS (Desc)'!G85)","v":""},{"$f":"IF('WWVDS (Desc)'!H85=\"\",\"\",'WWVDS (Desc)'!H85)","v":""},{"$f":"IF('WWVDS (Desc)'!I85=\"\",\"\",INDEX([1]WWVDS_TYPE!$A$2:$A$4,MATCH('WWVDS (Desc)'!$I85,[1]!MASTER_WWVDS_TYPE_DESC[#Data],0),0))","v":""},{"$f":"IF('WWVDS (Desc)'!$J85=\"\",\"\",INDEX([1]ITS_DEV_MANUF_MODEL!$A$2:$E$1500,MATCH(1,([1]ITS_DEV_MANUF_MODEL!$E$2:$E$1500=\"WWD\")*([1]ITS_DEV_MANUF_MODEL!$D$2:$D$1500='WWVDS (Desc)'!$J85),0),1))","v":""},{"$f":"IF('WWVDS (Desc)'!$J85=\"\",\"\",INDEX([1]ITS_DEV_MANUF_MODEL!$A$2:$E$1500,MATCH(1,([1]ITS_DEV_MANUF_MODEL!$E$2:$E$1500=\"WWD\")*([1]ITS_DEV_MANUF_MODEL!$D$2:$D$1500='WWVDS (Desc)'!$J85),0),2))","v":""},{"$f":"IF('WWVDS (Desc)'!L85=\"\",\"\",'WWVDS (Desc)'!L85)","v":""},{"$f":"IF('WWVDS (Desc)'!M85=\"\",\"\",'WWVDS (Desc)'!M85)","v":""},{"$f":"IF('WWVDS (Desc)'!N85=\"\",\"\",'WWVDS (Desc)'!N85)","v":""},{"$f":"IF('WWVDS (Desc)'!O85=\"\",\"\",'WWVDS (Desc)'!O85)","v":""},{"$f":"IF('WWVDS (Desc)'!P85=\"\",\"\",'WWVDS (Desc)'!P85)","v":""}]
[{"$f":"IF('WWVDS (Desc)'!A86=\"\",\"\",'WWVDS (Desc)'!A86)","v":""},{"$f":"IF('WWVDS (Desc)'!B86=\"\",\"\",'WWVDS (Desc)'!B86)","v":""},{"$f":"IF('WWVDS (Desc)'!C86=\"\",\"\",'WWVDS (Desc)'!C86)","v":""},{"$f":"IF('WWVDS (Desc)'!D86=\"\",\"\",'WWVDS (Desc)'!D86)","v":""},{"$f":"IF('WWVDS (Desc)'!E86=\"\",\"\",INDEX([1]OWNER!$A$2:$A$100,MATCH('WWVDS (Desc)'!$E86,[1]!MASTER_OWNER_DESC[#Data],0),0))","v":""},{"$f":"IF('WWVDS (Desc)'!F86=\"\",\"\",INDEX([1]COUNTY!$A$2:$A$80,MATCH('WWVDS (Desc)'!F86,[1]!MASTER_COUNTY_NAME[#Data],0),0))","v":""},{"$f":"IF('WWVDS (Desc)'!G86=\"\",\"\",'WWVDS (Desc)'!G86)","v":""},{"$f":"IF('WWVDS (Desc)'!H86=\"\",\"\",'WWVDS (Desc)'!H86)","v":""},{"$f":"IF('WWVDS (Desc)'!I86=\"\",\"\",INDEX([1]WWVDS_TYPE!$A$2:$A$4,MATCH('WWVDS (Desc)'!$I86,[1]!MASTER_WWVDS_TYPE_DESC[#Data],0),0))","v":""},{"$f":"IF('WWVDS (Desc)'!$J86=\"\",\"\",INDEX([1]ITS_DEV_MANUF_MODEL!$A$2:$E$1500,MATCH(1,([1]ITS_DEV_MANUF_MODEL!$E$2:$E$1500=\"WWD\")*([1]ITS_DEV_MANUF_MODEL!$D$2:$D$1500='WWVDS (Desc)'!$J86),0),1))","v":""},{"$f":"IF('WWVDS (Desc)'!$J86=\"\",\"\",INDEX([1]ITS_DEV_MANUF_MODEL!$A$2:$E$1500,MATCH(1,([1]ITS_DEV_MANUF_MODEL!$E$2:$E$1500=\"WWD\")*([1]ITS_DEV_MANUF_MODEL!$D$2:$D$1500='WWVDS (Desc)'!$J86),0),2))","v":""},{"$f":"IF('WWVDS (Desc)'!L86=\"\",\"\",'WWVDS (Desc)'!L86)","v":""},{"$f":"IF('WWVDS (Desc)'!M86=\"\",\"\",'WWVDS (Desc)'!M86)","v":""},{"$f":"IF('WWVDS (Desc)'!N86=\"\",\"\",'WWVDS (Desc)'!N86)","v":""},{"$f":"IF('WWVDS (Desc)'!O86=\"\",\"\",'WWVDS (Desc)'!O86)","v":""},{"$f":"IF('WWVDS (Desc)'!P86=\"\",\"\",'WWVDS (Desc)'!P86)","v":""}]
[{"$f":"IF('WWVDS (Desc)'!A87=\"\",\"\",'WWVDS (Desc)'!A87)","v":""},{"$f":"IF('WWVDS (Desc)'!B87=\"\",\"\",'WWVDS (Desc)'!B87)","v":""},{"$f":"IF('WWVDS (Desc)'!C87=\"\",\"\",'WWVDS (Desc)'!C87)","v":""},{"$f":"IF('WWVDS (Desc)'!D87=\"\",\"\",'WWVDS (Desc)'!D87)","v":""},{"$f":"IF('WWVDS (Desc)'!E87=\"\",\"\",INDEX([1]OWNER!$A$2:$A$100,MATCH('WWVDS (Desc)'!$E87,[1]!MASTER_OWNER_DESC[#Data],0),0))","v":""},{"$f":"IF('WWVDS (Desc)'!F87=\"\",\"\",INDEX([1]COUNTY!$A$2:$A$80,MATCH('WWVDS (Desc)'!F87,[1]!MASTER_COUNTY_NAME[#Data],0),0))","v":""},{"$f":"IF('WWVDS (Desc)'!G87=\"\",\"\",'WWVDS (Desc)'!G87)","v":""},{"$f":"IF('WWVDS (Desc)'!H87=\"\",\"\",'WWVDS (Desc)'!H87)","v":""},{"$f":"IF('WWVDS (Desc)'!I87=\"\",\"\",INDEX([1]WWVDS_TYPE!$A$2:$A$4,MATCH('WWVDS (Desc)'!$I87,[1]!MASTER_WWVDS_TYPE_DESC[#Data],0),0))","v":""},{"$f":"IF('WWVDS (Desc)'!$J87=\"\",\"\",INDEX([1]ITS_DEV_MANUF_MODEL!$A$2:$E$1500,MATCH(1,([1]ITS_DEV_MANUF_MODEL!$E$2:$E$1500=\"WWD\")*([1]ITS_DEV_MANUF_MODEL!$D$2:$D$1500='WWVDS (Desc)'!$J87),0),1))","v":""},{"$f":"IF('WWVDS (Desc)'!$J87=\"\",\"\",INDEX([1]ITS_DEV_MANUF_MODEL!$A$2:$E$1500,MATCH(1,([1]ITS_DEV_MANUF_MODEL!$E$2:$E$1500=\"WWD\")*([1]ITS_DEV_MANUF_MODEL!$D$2:$D$1500='WWVDS (Desc)'!$J87),0),2))","v":""},{"$f":"IF('WWVDS (Desc)'!L87=\"\",\"\",'WWVDS (Desc)'!L87)","v":""},{"$f":"IF('WWVDS (Desc)'!M87=\"\",\"\",'WWVDS (Desc)'!M87)","v":""},{"$f":"IF('WWVDS (Desc)'!N87=\"\",\"\",'WWVDS (Desc)'!N87)","v":""},{"$f":"IF('WWVDS (Desc)'!O87=\"\",\"\",'WWVDS (Desc)'!O87)","v":""},{"$f":"IF('WWVDS (Desc)'!P87=\"\",\"\",'WWVDS (Desc)'!P87)","v":""}]
[{"$f":"IF('WWVDS (Desc)'!A88=\"\",\"\",'WWVDS (Desc)'!A88)","v":""},{"$f":"IF('WWVDS (Desc)'!B88=\"\",\"\",'WWVDS (Desc)'!B88)","v":""},{"$f":"IF('WWVDS (Desc)'!C88=\"\",\"\",'WWVDS (Desc)'!C88)","v":""},{"$f":"IF('WWVDS (Desc)'!D88=\"\",\"\",'WWVDS (Desc)'!D88)","v":""},{"$f":"IF('WWVDS (Desc)'!E88=\"\",\"\",INDEX([1]OWNER!$A$2:$A$100,MATCH('WWVDS (Desc)'!$E88,[1]!MASTER_OWNER_DESC[#Data],0),0))","v":""},{"$f":"IF('WWVDS (Desc)'!F88=\"\",\"\",INDEX([1]COUNTY!$A$2:$A$80,MATCH('WWVDS (Desc)'!F88,[1]!MASTER_COUNTY_NAME[#Data],0),0))","v":""},{"$f":"IF('WWVDS (Desc)'!G88=\"\",\"\",'WWVDS (Desc)'!G88)","v":""},{"$f":"IF('WWVDS (Desc)'!H88=\"\",\"\",'WWVDS (Desc)'!H88)","v":""},{"$f":"IF('WWVDS (Desc)'!I88=\"\",\"\",INDEX([1]WWVDS_TYPE!$A$2:$A$4,MATCH('WWVDS (Desc)'!$I88,[1]!MASTER_WWVDS_TYPE_DESC[#Data],0),0))","v":""},{"$f":"IF('WWVDS (Desc)'!$J88=\"\",\"\",INDEX([1]ITS_DEV_MANUF_MODEL!$A$2:$E$1500,MATCH(1,([1]ITS_DEV_MANUF_MODEL!$E$2:$E$1500=\"WWD\")*([1]ITS_DEV_MANUF_MODEL!$D$2:$D$1500='WWVDS (Desc)'!$J88),0),1))","v":""},{"$f":"IF('WWVDS (Desc)'!$J88=\"\",\"\",INDEX([1]ITS_DEV_MANUF_MODEL!$A$2:$E$1500,MATCH(1,([1]ITS_DEV_MANUF_MODEL!$E$2:$E$1500=\"WWD\")*([1]ITS_DEV_MANUF_MODEL!$D$2:$D$1500='WWVDS (Desc)'!$J88),0),2))","v":""},{"$f":"IF('WWVDS (Desc)'!L88=\"\",\"\",'WWVDS (Desc)'!L88)","v":""},{"$f":"IF('WWVDS (Desc)'!M88=\"\",\"\",'WWVDS (Desc)'!M88)","v":""},{"$f":"IF('WWVDS (Desc)'!N88=\"\",\"\",'WWVDS (Desc)'!N88)","v":""},{"$f":"IF('WWVDS (Desc)'!O88=\"\",\"\",'WWVDS (Desc)'!O88)","v":""},{"$f":"IF('WWVDS (Desc)'!P88=\"\",\"\",'WWVDS (Desc)'!P88)","v":""}]
[{"$f":"IF('WWVDS (Desc)'!A89=\"\",\"\",'WWVDS (Desc)'!A89)","v":""},{"$f":"IF('WWVDS (Desc)'!B89=\"\",\"\",'WWVDS (Desc)'!B89)","v":""},{"$f":"IF('WWVDS (Desc)'!C89=\"\",\"\",'WWVDS (Desc)'!C89)","v":""},{"$f":"IF('WWVDS (Desc)'!D89=\"\",\"\",'WWVDS (Desc)'!D89)","v":""},{"$f":"IF('WWVDS (Desc)'!E89=\"\",\"\",INDEX([1]OWNER!$A$2:$A$100,MATCH('WWVDS (Desc)'!$E89,[1]!MASTER_OWNER_DESC[#Data],0),0))","v":""},{"$f":"IF('WWVDS (Desc)'!F89=\"\",\"\",INDEX([1]COUNTY!$A$2:$A$80,MATCH('WWVDS (Desc)'!F89,[1]!MASTER_COUNTY_NAME[#Data],0),0))","v":""},{"$f":"IF('WWVDS (Desc)'!G89=\"\",\"\",'WWVDS (Desc)'!G89)","v":""},{"$f":"IF('WWVDS (Desc)'!H89=\"\",\"\",'WWVDS (Desc)'!H89)","v":""},{"$f":"IF('WWVDS (Desc)'!I89=\"\",\"\",INDEX([1]WWVDS_TYPE!$A$2:$A$4,MATCH('WWVDS (Desc)'!$I89,[1]!MASTER_WWVDS_TYPE_DESC[#Data],0),0))","v":""},{"$f":"IF('WWVDS (Desc)'!$J89=\"\",\"\",INDEX([1]ITS_DEV_MANUF_MODEL!$A$2:$E$1500,MATCH(1,([1]ITS_DEV_MANUF_MODEL!$E$2:$E$1500=\"WWD\")*([1]ITS_DEV_MANUF_MODEL!$D$2:$D$1500='WWVDS (Desc)'!$J89),0),1))","v":""},{"$f":"IF('WWVDS (Desc)'!$J89=\"\",\"\",INDEX([1]ITS_DEV_MANUF_MODEL!$A$2:$E$1500,MATCH(1,([1]ITS_DEV_MANUF_MODEL!$E$2:$E$1500=\"WWD\")*([1]ITS_DEV_MANUF_MODEL!$D$2:$D$1500='WWVDS (Desc)'!$J89),0),2))","v":""},{"$f":"IF('WWVDS (Desc)'!L89=\"\",\"\",'WWVDS (Desc)'!L89)","v":""},{"$f":"IF('WWVDS (Desc)'!M89=\"\",\"\",'WWVDS (Desc)'!M89)","v":""},{"$f":"IF('WWVDS (Desc)'!N89=\"\",\"\",'WWVDS (Desc)'!N89)","v":""},{"$f":"IF('WWVDS (Desc)'!O89=\"\",\"\",'WWVDS (Desc)'!O89)","v":""},{"$f":"IF('WWVDS (Desc)'!P89=\"\",\"\",'WWVDS (Desc)'!P89)","v":""}]
[{"$f":"IF('WWVDS (Desc)'!A90=\"\",\"\",'WWVDS (Desc)'!A90)","v":""},{"$f":"IF('WWVDS (Desc)'!B90=\"\",\"\",'WWVDS (Desc)'!B90)","v":""},{"$f":"IF('WWVDS (Desc)'!C90=\"\",\"\",'WWVDS (Desc)'!C90)","v":""},{"$f":"IF('WWVDS (Desc)'!D90=\"\",\"\",'WWVDS (Desc)'!D90)","v":""},{"$f":"IF('WWVDS (Desc)'!E90=\"\",\"\",INDEX([1]OWNER!$A$2:$A$100,MATCH('WWVDS (Desc)'!$E90,[1]!MASTER_OWNER_DESC[#Data],0),0))","v":""},{"$f":"IF('WWVDS (Desc)'!F90=\"\",\"\",INDEX([1]COUNTY!$A$2:$A$80,MATCH('WWVDS (Desc)'!F90,[1]!MASTER_COUNTY_NAME[#Data],0),0))","v":""},{"$f":"IF('WWVDS (Desc)'!G90=\"\",\"\",'WWVDS (Desc)'!G90)","v":""},{"$f":"IF('WWVDS (Desc)'!H90=\"\",\"\",'WWVDS (Desc)'!H90)","v":""},{"$f":"IF('WWVDS (Desc)'!I90=\"\",\"\",INDEX([1]WWVDS_TYPE!$A$2:$A$4,MATCH('WWVDS (Desc)'!$I90,[1]!MASTER_WWVDS_TYPE_DESC[#Data],0),0))","v":""},{"$f":"IF('WWVDS (Desc)'!$J90=\"\",\"\",INDEX([1]ITS_DEV_MANUF_MODEL!$A$2:$E$1500,MATCH(1,([1]ITS_DEV_MANUF_MODEL!$E$2:$E$1500=\"WWD\")*([1]ITS_DEV_MANUF_MODEL!$D$2:$D$1500='WWVDS (Desc)'!$J90),0),1))","v":""},{"$f":"IF('WWVDS (Desc)'!$J90=\"\",\"\",INDEX([1]ITS_DEV_MANUF_MODEL!$A$2:$E$1500,MATCH(1,([1]ITS_DEV_MANUF_MODEL!$E$2:$E$1500=\"WWD\")*([1]ITS_DEV_MANUF_MODEL!$D$2:$D$1500='WWVDS (Desc)'!$J90),0),2))","v":""},{"$f":"IF('WWVDS (Desc)'!L90=\"\",\"\",'WWVDS (Desc)'!L90)","v":""},{"$f":"IF('WWVDS (Desc)'!M90=\"\",\"\",'WWVDS (Desc)'!M90)","v":""},{"$f":"IF('WWVDS (Desc)'!N90=\"\",\"\",'WWVDS (Desc)'!N90)","v":""},{"$f":"IF('WWVDS (Desc)'!O90=\"\",\"\",'WWVDS (Desc)'!O90)","v":""},{"$f":"IF('WWVDS (Desc)'!P90=\"\",\"\",'WWVDS (Desc)'!P90)","v":""}]
[{"$f":"IF('WWVDS (Desc)'!A91=\"\",\"\",'WWVDS (Desc)'!A91)","v":""},{"$f":"IF('WWVDS (Desc)'!B91=\"\",\"\",'WWVDS (Desc)'!B91)","v":""},{"$f":"IF('WWVDS (Desc)'!C91=\"\",\"\",'WWVDS (Desc)'!C91)","v":""},{"$f":"IF('WWVDS (Desc)'!D91=\"\",\"\",'WWVDS (Desc)'!D91)","v":""},{"$f":"IF('WWVDS (Desc)'!E91=\"\",\"\",INDEX([1]OWNER!$A$2:$A$100,MATCH('WWVDS (Desc)'!$E91,[1]!MASTER_OWNER_DESC[#Data],0),0))","v":""},{"$f":"IF('WWVDS (Desc)'!F91=\"\",\"\",INDEX([1]COUNTY!$A$2:$A$80,MATCH('WWVDS (Desc)'!F91,[1]!MASTER_COUNTY_NAME[#Data],0),0))","v":""},{"$f":"IF('WWVDS (Desc)'!G91=\"\",\"\",'WWVDS (Desc)'!G91)","v":""},{"$f":"IF('WWVDS (Desc)'!H91=\"\",\"\",'WWVDS (Desc)'!H91)","v":""},{"$f":"IF('WWVDS (Desc)'!I91=\"\",\"\",INDEX([1]WWVDS_TYPE!$A$2:$A$4,MATCH('WWVDS (Desc)'!$I91,[1]!MASTER_WWVDS_TYPE_DESC[#Data],0),0))","v":""},{"$f":"IF('WWVDS (Desc)'!$J91=\"\",\"\",INDEX([1]ITS_DEV_MANUF_MODEL!$A$2:$E$1500,MATCH(1,([1]ITS_DEV_MANUF_MODEL!$E$2:$E$1500=\"WWD\")*([1]ITS_DEV_MANUF_MODEL!$D$2:$D$1500='WWVDS (Desc)'!$J91),0),1))","v":""},{"$f":"IF('WWVDS (Desc)'!$J91=\"\",\"\",INDEX([1]ITS_DEV_MANUF_MODEL!$A$2:$E$1500,MATCH(1,([1]ITS_DEV_MANUF_MODEL!$E$2:$E$1500=\"WWD\")*([1]ITS_DEV_MANUF_MODEL!$D$2:$D$1500='WWVDS (Desc)'!$J91),0),2))","v":""},{"$f":"IF('WWVDS (Desc)'!L91=\"\",\"\",'WWVDS (Desc)'!L91)","v":""},{"$f":"IF('WWVDS (Desc)'!M91=\"\",\"\",'WWVDS (Desc)'!M91)","v":""},{"$f":"IF('WWVDS (Desc)'!N91=\"\",\"\",'WWVDS (Desc)'!N91)","v":""},{"$f":"IF('WWVDS (Desc)'!O91=\"\",\"\",'WWVDS (Desc)'!O91)","v":""},{"$f":"IF('WWVDS (Desc)'!P91=\"\",\"\",'WWVDS (Desc)'!P91)","v":""}]
[{"$f":"IF('WWVDS (Desc)'!A92=\"\",\"\",'WWVDS (Desc)'!A92)","v":""},{"$f":"IF('WWVDS (Desc)'!B92=\"\",\"\",'WWVDS (Desc)'!B92)","v":""},{"$f":"IF('WWVDS (Desc)'!C92=\"\",\"\",'WWVDS (Desc)'!C92)","v":""},{"$f":"IF('WWVDS (Desc)'!D92=\"\",\"\",'WWVDS (Desc)'!D92)","v":""},{"$f":"IF('WWVDS (Desc)'!E92=\"\",\"\",INDEX([1]OWNER!$A$2:$A$100,MATCH('WWVDS (Desc)'!$E92,[1]!MASTER_OWNER_DESC[#Data],0),0))","v":""},{"$f":"IF('WWVDS (Desc)'!F92=\"\",\"\",INDEX([1]COUNTY!$A$2:$A$80,MATCH('WWVDS (Desc)'!F92,[1]!MASTER_COUNTY_NAME[#Data],0),0))","v":""},{"$f":"IF('WWVDS (Desc)'!G92=\"\",\"\",'WWVDS (Desc)'!G92)","v":""},{"$f":"IF('WWVDS (Desc)'!H92=\"\",\"\",'WWVDS (Desc)'!H92)","v":""},{"$f":"IF('WWVDS (Desc)'!I92=\"\",\"\",INDEX([1]WWVDS_TYPE!$A$2:$A$4,MATCH('WWVDS (Desc)'!$I92,[1]!MASTER_WWVDS_TYPE_DESC[#Data],0),0))","v":""},{"$f":"IF('WWVDS (Desc)'!$J92=\"\",\"\",INDEX([1]ITS_DEV_MANUF_MODEL!$A$2:$E$1500,MATCH(1,([1]ITS_DEV_MANUF_MODEL!$E$2:$E$1500=\"WWD\")*([1]ITS_DEV_MANUF_MODEL!$D$2:$D$1500='WWVDS (Desc)'!$J92),0),1))","v":""},{"$f":"IF('WWVDS (Desc)'!$J92=\"\",\"\",INDEX([1]ITS_DEV_MANUF_MODEL!$A$2:$E$1500,MATCH(1,([1]ITS_DEV_MANUF_MODEL!$E$2:$E$1500=\"WWD\")*([1]ITS_DEV_MANUF_MODEL!$D$2:$D$1500='WWVDS (Desc)'!$J92),0),2))","v":""},{"$f":"IF('WWVDS (Desc)'!L92=\"\",\"\",'WWVDS (Desc)'!L92)","v":""},{"$f":"IF('WWVDS (Desc)'!M92=\"\",\"\",'WWVDS (Desc)'!M92)","v":""},{"$f":"IF('WWVDS (Desc)'!N92=\"\",\"\",'WWVDS (Desc)'!N92)","v":""},{"$f":"IF('WWVDS (Desc)'!O92=\"\",\"\",'WWVDS (Desc)'!O92)","v":""},{"$f":"IF('WWVDS (Desc)'!P92=\"\",\"\",'WWVDS (Desc)'!P92)","v":""}]
[{"$f":"IF('WWVDS (Desc)'!A93=\"\",\"\",'WWVDS (Desc)'!A93)","v":""},{"$f":"IF('WWVDS (Desc)'!B93=\"\",\"\",'WWVDS (Desc)'!B93)","v":""},{"$f":"IF('WWVDS (Desc)'!C93=\"\",\"\",'WWVDS (Desc)'!C93)","v":""},{"$f":"IF('WWVDS (Desc)'!D93=\"\",\"\",'WWVDS (Desc)'!D93)","v":""},{"$f":"IF('WWVDS (Desc)'!E93=\"\",\"\",INDEX([1]OWNER!$A$2:$A$100,MATCH('WWVDS (Desc)'!$E93,[1]!MASTER_OWNER_DESC[#Data],0),0))","v":""},{"$f":"IF('WWVDS (Desc)'!F93=\"\",\"\",INDEX([1]COUNTY!$A$2:$A$80,MATCH('WWVDS (Desc)'!F93,[1]!MASTER_COUNTY_NAME[#Data],0),0))","v":""},{"$f":"IF('WWVDS (Desc)'!G93=\"\",\"\",'WWVDS (Desc)'!G93)","v":""},{"$f":"IF('WWVDS (Desc)'!H93=\"\",\"\",'WWVDS (Desc)'!H93)","v":""},{"$f":"IF('WWVDS (Desc)'!I93=\"\",\"\",INDEX([1]WWVDS_TYPE!$A$2:$A$4,MATCH('WWVDS (Desc)'!$I93,[1]!MASTER_WWVDS_TYPE_DESC[#Data],0),0))","v":""},{"$f":"IF('WWVDS (Desc)'!$J93=\"\",\"\",INDEX([1]ITS_DEV_MANUF_MODEL!$A$2:$E$1500,MATCH(1,([1]ITS_DEV_MANUF_MODEL!$E$2:$E$1500=\"WWD\")*([1]ITS_DEV_MANUF_MODEL!$D$2:$D$1500='WWVDS (Desc)'!$J93),0),1))","v":""},{"$f":"IF('WWVDS (Desc)'!$J93=\"\",\"\",INDEX([1]ITS_DEV_MANUF_MODEL!$A$2:$E$1500,MATCH(1,([1]ITS_DEV_MANUF_MODEL!$E$2:$E$1500=\"WWD\")*([1]ITS_DEV_MANUF_MODEL!$D$2:$D$1500='WWVDS (Desc)'!$J93),0),2))","v":""},{"$f":"IF('WWVDS (Desc)'!L93=\"\",\"\",'WWVDS (Desc)'!L93)","v":""},{"$f":"IF('WWVDS (Desc)'!M93=\"\",\"\",'WWVDS (Desc)'!M93)","v":""},{"$f":"IF('WWVDS (Desc)'!N93=\"\",\"\",'WWVDS (Desc)'!N93)","v":""},{"$f":"IF('WWVDS (Desc)'!O93=\"\",\"\",'WWVDS (Desc)'!O93)","v":""},{"$f":"IF('WWVDS (Desc)'!P93=\"\",\"\",'WWVDS (Desc)'!P93)","v":""}]
[{"$f":"IF('WWVDS (Desc)'!A94=\"\",\"\",'WWVDS (Desc)'!A94)","v":""},{"$f":"IF('WWVDS (Desc)'!B94=\"\",\"\",'WWVDS (Desc)'!B94)","v":""},{"$f":"IF('WWVDS (Desc)'!C94=\"\",\"\",'WWVDS (Desc)'!C94)","v":""},{"$f":"IF('WWVDS (Desc)'!D94=\"\",\"\",'WWVDS (Desc)'!D94)","v":""},{"$f":"IF('WWVDS (Desc)'!E94=\"\",\"\",INDEX([1]OWNER!$A$2:$A$100,MATCH('WWVDS (Desc)'!$E94,[1]!MASTER_OWNER_DESC[#Data],0),0))","v":""},{"$f":"IF('WWVDS (Desc)'!F94=\"\",\"\",INDEX([1]COUNTY!$A$2:$A$80,MATCH('WWVDS (Desc)'!F94,[1]!MASTER_COUNTY_NAME[#Data],0),0))","v":""},{"$f":"IF('WWVDS (Desc)'!G94=\"\",\"\",'WWVDS (Desc)'!G94)","v":""},{"$f":"IF('WWVDS (Desc)'!H94=\"\",\"\",'WWVDS (Desc)'!H94)","v":""},{"$f":"IF('WWVDS (Desc)'!I94=\"\",\"\",INDEX([1]WWVDS_TYPE!$A$2:$A$4,MATCH('WWVDS (Desc)'!$I94,[1]!MASTER_WWVDS_TYPE_DESC[#Data],0),0))","v":""},{"$f":"IF('WWVDS (Desc)'!$J94=\"\",\"\",INDEX([1]ITS_DEV_MANUF_MODEL!$A$2:$E$1500,MATCH(1,([1]ITS_DEV_MANUF_MODEL!$E$2:$E$1500=\"WWD\")*([1]ITS_DEV_MANUF_MODEL!$D$2:$D$1500='WWVDS (Desc)'!$J94),0),1))","v":""},{"$f":"IF('WWVDS (Desc)'!$J94=\"\",\"\",INDEX([1]ITS_DEV_MANUF_MODEL!$A$2:$E$1500,MATCH(1,([1]ITS_DEV_MANUF_MODEL!$E$2:$E$1500=\"WWD\")*([1]ITS_DEV_MANUF_MODEL!$D$2:$D$1500='WWVDS (Desc)'!$J94),0),2))","v":""},{"$f":"IF('WWVDS (Desc)'!L94=\"\",\"\",'WWVDS (Desc)'!L94)","v":""},{"$f":"IF('WWVDS (Desc)'!M94=\"\",\"\",'WWVDS (Desc)'!M94)","v":""},{"$f":"IF('WWVDS (Desc)'!N94=\"\",\"\",'WWVDS (Desc)'!N94)","v":""},{"$f":"IF('WWVDS (Desc)'!O94=\"\",\"\",'WWVDS (Desc)'!O94)","v":""},{"$f":"IF('WWVDS (Desc)'!P94=\"\",\"\",'WWVDS (Desc)'!P94)","v":""}]
[{"$f":"IF('WWVDS (Desc)'!A95=\"\",\"\",'WWVDS (Desc)'!A95)","v":""},{"$f":"IF('WWVDS (Desc)'!B95=\"\",\"\",'WWVDS (Desc)'!B95)","v":""},{"$f":"IF('WWVDS (Desc)'!C95=\"\",\"\",'WWVDS (Desc)'!C95)","v":""},{"$f":"IF('WWVDS (Desc)'!D95=\"\",\"\",'WWVDS (Desc)'!D95)","v":""},{"$f":"IF('WWVDS (Desc)'!E95=\"\",\"\",INDEX([1]OWNER!$A$2:$A$100,MATCH('WWVDS (Desc)'!$E95,[1]!MASTER_OWNER_DESC[#Data],0),0))","v":""},{"$f":"IF('WWVDS (Desc)'!F95=\"\",\"\",INDEX([1]COUNTY!$A$2:$A$80,MATCH('WWVDS (Desc)'!F95,[1]!MASTER_COUNTY_NAME[#Data],0),0))","v":""},{"$f":"IF('WWVDS (Desc)'!G95=\"\",\"\",'WWVDS (Desc)'!G95)","v":""},{"$f":"IF('WWVDS (Desc)'!H95=\"\",\"\",'WWVDS (Desc)'!H95)","v":""},{"$f":"IF('WWVDS (Desc)'!I95=\"\",\"\",INDEX([1]WWVDS_TYPE!$A$2:$A$4,MATCH('WWVDS (Desc)'!$I95,[1]!MASTER_WWVDS_TYPE_DESC[#Data],0),0))","v":""},{"$f":"IF('WWVDS (Desc)'!$J95=\"\",\"\",INDEX([1]ITS_DEV_MANUF_MODEL!$A$2:$E$1500,MATCH(1,([1]ITS_DEV_MANUF_MODEL!$E$2:$E$1500=\"WWD\")*([1]ITS_DEV_MANUF_MODEL!$D$2:$D$1500='WWVDS (Desc)'!$J95),0),1))","v":""},{"$f":"IF('WWVDS (Desc)'!$J95=\"\",\"\",INDEX([1]ITS_DEV_MANUF_MODEL!$A$2:$E$1500,MATCH(1,([1]ITS_DEV_MANUF_MODEL!$E$2:$E$1500=\"WWD\")*([1]ITS_DEV_MANUF_MODEL!$D$2:$D$1500='WWVDS (Desc)'!$J95),0),2))","v":""},{"$f":"IF('WWVDS (Desc)'!L95=\"\",\"\",'WWVDS (Desc)'!L95)","v":""},{"$f":"IF('WWVDS (Desc)'!M95=\"\",\"\",'WWVDS (Desc)'!M95)","v":""},{"$f":"IF('WWVDS (Desc)'!N95=\"\",\"\",'WWVDS (Desc)'!N95)","v":""},{"$f":"IF('WWVDS (Desc)'!O95=\"\",\"\",'WWVDS (Desc)'!O95)","v":""},{"$f":"IF('WWVDS (Desc)'!P95=\"\",\"\",'WWVDS (Desc)'!P95)","v":""}]
[{"$f":"IF('WWVDS (Desc)'!A96=\"\",\"\",'WWVDS (Desc)'!A96)","v":""},{"$f":"IF('WWVDS (Desc)'!B96=\"\",\"\",'WWVDS (Desc)'!B96)","v":""},{"$f":"IF('WWVDS (Desc)'!C96=\"\",\"\",'WWVDS (Desc)'!C96)","v":""},{"$f":"IF('WWVDS (Desc)'!D96=\"\",\"\",'WWVDS (Desc)'!D96)","v":""},{"$f":"IF('WWVDS (Desc)'!E96=\"\",\"\",INDEX([1]OWNER!$A$2:$A$100,MATCH('WWVDS (Desc)'!$E96,[1]!MASTER_OWNER_DESC[#Data],0),0))","v":""},{"$f":"IF('WWVDS (Desc)'!F96=\"\",\"\",INDEX([1]COUNTY!$A$2:$A$80,MATCH('WWVDS (Desc)'!F96,[1]!MASTER_COUNTY_NAME[#Data],0),0))","v":""},{"$f":"IF('WWVDS (Desc)'!G96=\"\",\"\",'WWVDS (Desc)'!G96)","v":""},{"$f":"IF('WWVDS (Desc)'!H96=\"\",\"\",'WWVDS (Desc)'!H96)","v":""},{"$f":"IF('WWVDS (Desc)'!I96=\"\",\"\",INDEX([1]WWVDS_TYPE!$A$2:$A$4,MATCH('WWVDS (Desc)'!$I96,[1]!MASTER_WWVDS_TYPE_DESC[#Data],0),0))","v":""},{"$f":"IF('WWVDS (Desc)'!$J96=\"\",\"\",INDEX([1]ITS_DEV_MANUF_MODEL!$A$2:$E$1500,MATCH(1,([1]ITS_DEV_MANUF_MODEL!$E$2:$E$1500=\"WWD\")*([1]ITS_DEV_MANUF_MODEL!$D$2:$D$1500='WWVDS (Desc)'!$J96),0),1))","v":""},{"$f":"IF('WWVDS (Desc)'!$J96=\"\",\"\",INDEX([1]ITS_DEV_MANUF_MODEL!$A$2:$E$1500,MATCH(1,([1]ITS_DEV_MANUF_MODEL!$E$2:$E$1500=\"WWD\")*([1]ITS_DEV_MANUF_MODEL!$D$2:$D$1500='WWVDS (Desc)'!$J96),0),2))","v":""},{"$f":"IF('WWVDS (Desc)'!L96=\"\",\"\",'WWVDS (Desc)'!L96)","v":""},{"$f":"IF('WWVDS (Desc)'!M96=\"\",\"\",'WWVDS (Desc)'!M96)","v":""},{"$f":"IF('WWVDS (Desc)'!N96=\"\",\"\",'WWVDS (Desc)'!N96)","v":""},{"$f":"IF('WWVDS (Desc)'!O96=\"\",\"\",'WWVDS (Desc)'!O96)","v":""},{"$f":"IF('WWVDS (Desc)'!P96=\"\",\"\",'WWVDS (Desc)'!P96)","v":""}]
[{"$f":"IF('WWVDS (Desc)'!A97=\"\",\"\",'WWVDS (Desc)'!A97)","v":""},{"$f":"IF('WWVDS (Desc)'!B97=\"\",\"\",'WWVDS (Desc)'!B97)","v":""},{"$f":"IF('WWVDS (Desc)'!C97=\"\",\"\",'WWVDS (Desc)'!C97)","v":""},{"$f":"IF('WWVDS (Desc)'!D97=\"\",\"\",'WWVDS (Desc)'!D97)","v":""},{"$f":"IF('WWVDS (Desc)'!E97=\"\",\"\",INDEX([1]OWNER!$A$2:$A$100,MATCH('WWVDS (Desc)'!$E97,[1]!MASTER_OWNER_DESC[#Data],0),0))","v":""},{"$f":"IF('WWVDS (Desc)'!F97=\"\",\"\",INDEX([1]COUNTY!$A$2:$A$80,MATCH('WWVDS (Desc)'!F97,[1]!MASTER_COUNTY_NAME[#Data],0),0))","v":""},{"$f":"IF('WWVDS (Desc)'!G97=\"\",\"\",'WWVDS (Desc)'!G97)","v":""},{"$f":"IF('WWVDS (Desc)'!H97=\"\",\"\",'WWVDS (Desc)'!H97)","v":""},{"$f":"IF('WWVDS (Desc)'!I97=\"\",\"\",INDEX([1]WWVDS_TYPE!$A$2:$A$4,MATCH('WWVDS (Desc)'!$I97,[1]!MASTER_WWVDS_TYPE_DESC[#Data],0),0))","v":""},{"$f":"IF('WWVDS (Desc)'!$J97=\"\",\"\",INDEX([1]ITS_DEV_MANUF_MODEL!$A$2:$E$1500,MATCH(1,([1]ITS_DEV_MANUF_MODEL!$E$2:$E$1500=\"WWD\")*([1]ITS_DEV_MANUF_MODEL!$D$2:$D$1500='WWVDS (Desc)'!$J97),0),1))","v":""},{"$f":"IF('WWVDS (Desc)'!$J97=\"\",\"\",INDEX([1]ITS_DEV_MANUF_MODEL!$A$2:$E$1500,MATCH(1,([1]ITS_DEV_MANUF_MODEL!$E$2:$E$1500=\"WWD\")*([1]ITS_DEV_MANUF_MODEL!$D$2:$D$1500='WWVDS (Desc)'!$J97),0),2))","v":""},{"$f":"IF('WWVDS (Desc)'!L97=\"\",\"\",'WWVDS (Desc)'!L97)","v":""},{"$f":"IF('WWVDS (Desc)'!M97=\"\",\"\",'WWVDS (Desc)'!M97)","v":""},{"$f":"IF('WWVDS (Desc)'!N97=\"\",\"\",'WWVDS (Desc)'!N97)","v":""},{"$f":"IF('WWVDS (Desc)'!O97=\"\",\"\",'WWVDS (Desc)'!O97)","v":""},{"$f":"IF('WWVDS (Desc)'!P97=\"\",\"\",'WWVDS (Desc)'!P97)","v":""}]
[{"$f":"IF('WWVDS (Desc)'!A98=\"\",\"\",'WWVDS (Desc)'!A98)","v":""},{"$f":"IF('WWVDS (Desc)'!B98=\"\",\"\",'WWVDS (Desc)'!B98)","v":""},{"$f":"IF('WWVDS (Desc)'!C98=\"\",\"\",'WWVDS (Desc)'!C98)","v":""},{"$f":"IF('WWVDS (Desc)'!D98=\"\",\"\",'WWVDS (Desc)'!D98)","v":""},{"$f":"IF('WWVDS (Desc)'!E98=\"\",\"\",INDEX([1]OWNER!$A$2:$A$100,MATCH('WWVDS (Desc)'!$E98,[1]!MASTER_OWNER_DESC[#Data],0),0))","v":""},{"$f":"IF('WWVDS (Desc)'!F98=\"\",\"\",INDEX([1]COUNTY!$A$2:$A$80,MATCH('WWVDS (Desc)'!F98,[1]!MASTER_COUNTY_NAME[#Data],0),0))","v":""},{"$f":"IF('WWVDS (Desc)'!G98=\"\",\"\",'WWVDS (Desc)'!G98)","v":""},{"$f":"IF('WWVDS (Desc)'!H98=\"\",\"\",'WWVDS (Desc)'!H98)","v":""},{"$f":"IF('WWVDS (Desc)'!I98=\"\",\"\",INDEX([1]WWVDS_TYPE!$A$2:$A$4,MATCH('WWVDS (Desc)'!$I98,[1]!MASTER_WWVDS_TYPE_DESC[#Data],0),0))","v":""},{"$f":"IF('WWVDS (Desc)'!$J98=\"\",\"\",INDEX([1]ITS_DEV_MANUF_MODEL!$A$2:$E$1500,MATCH(1,([1]ITS_DEV_MANUF_MODEL!$E$2:$E$1500=\"WWD\")*([1]ITS_DEV_MANUF_MODEL!$D$2:$D$1500='WWVDS (Desc)'!$J98),0),1))","v":""},{"$f":"IF('WWVDS (Desc)'!$J98=\"\",\"\",INDEX([1]ITS_DEV_MANUF_MODEL!$A$2:$E$1500,MATCH(1,([1]ITS_DEV_MANUF_MODEL!$E$2:$E$1500=\"WWD\")*([1]ITS_DEV_MANUF_MODEL!$D$2:$D$1500='WWVDS (Desc)'!$J98),0),2))","v":""},{"$f":"IF('WWVDS (Desc)'!L98=\"\",\"\",'WWVDS (Desc)'!L98)","v":""},{"$f":"IF('WWVDS (Desc)'!M98=\"\",\"\",'WWVDS (Desc)'!M98)","v":""},{"$f":"IF('WWVDS (Desc)'!N98=\"\",\"\",'WWVDS (Desc)'!N98)","v":""},{"$f":"IF('WWVDS (Desc)'!O98=\"\",\"\",'WWVDS (Desc)'!O98)","v":""},{"$f":"IF('WWVDS (Desc)'!P98=\"\",\"\",'WWVDS (Desc)'!P98)","v":""}]
[{"$f":"IF('WWVDS (Desc)'!A99=\"\",\"\",'WWVDS (Desc)'!A99)","v":""},{"$f":"IF('WWVDS (Desc)'!B99=\"\",\"\",'WWVDS (Desc)'!B99)","v":""},{"$f":"IF('WWVDS (Desc)'!C99=\"\",\"\",'WWVDS (Desc)'!C99)","v":""},{"$f":"IF('WWVDS (Desc)'!D99=\"\",\"\",'WWVDS (Desc)'!D99)","v":""},{"$f":"IF('WWVDS (Desc)'!E99=\"\",\"\",INDEX([1]OWNER!$A$2:$A$100,MATCH('WWVDS (Desc)'!$E99,[1]!MASTER_OWNER_DESC[#Data],0),0))","v":""},{"$f":"IF('WWVDS (Desc)'!F99=\"\",\"\",INDEX([1]COUNTY!$A$2:$A$80,MATCH('WWVDS (Desc)'!F99,[1]!MASTER_COUNTY_NAME[#Data],0),0))","v":""},{"$f":"IF('WWVDS (Desc)'!G99=\"\",\"\",'WWVDS (Desc)'!G99)","v":""},{"$f":"IF('WWVDS (Desc)'!H99=\"\",\"\",'WWVDS (Desc)'!H99)","v":""},{"$f":"IF('WWVDS (Desc)'!I99=\"\",\"\",INDEX([1]WWVDS_TYPE!$A$2:$A$4,MATCH('WWVDS (Desc)'!$I99,[1]!MASTER_WWVDS_TYPE_DESC[#Data],0),0))","v":""},{"$f":"IF('WWVDS (Desc)'!$J99=\"\",\"\",INDEX([1]ITS_DEV_MANUF_MODEL!$A$2:$E$1500,MATCH(1,([1]ITS_DEV_MANUF_MODEL!$E$2:$E$1500=\"WWD\")*([1]ITS_DEV_MANUF_MODEL!$D$2:$D$1500='WWVDS (Desc)'!$J99),0),1))","v":""},{"$f":"IF('WWVDS (Desc)'!$J99=\"\",\"\",INDEX([1]ITS_DEV_MANUF_MODEL!$A$2:$E$1500,MATCH(1,([1]ITS_DEV_MANUF_MODEL!$E$2:$E$1500=\"WWD\")*([1]ITS_DEV_MANUF_MODEL!$D$2:$D$1500='WWVDS (Desc)'!$J99),0),2))","v":""},{"$f":"IF('WWVDS (Desc)'!L99=\"\",\"\",'WWVDS (Desc)'!L99)","v":""},{"$f":"IF('WWVDS (Desc)'!M99=\"\",\"\",'WWVDS (Desc)'!M99)","v":""},{"$f":"IF('WWVDS (Desc)'!N99=\"\",\"\",'WWVDS (Desc)'!N99)","v":""},{"$f":"IF('WWVDS (Desc)'!O99=\"\",\"\",'WWVDS (Desc)'!O99)","v":""},{"$f":"IF('WWVDS (Desc)'!P99=\"\",\"\",'WWVDS (Desc)'!P99)","v":""}]
[{"$f":"IF('WWVDS (Desc)'!A100=\"\",\"\",'WWVDS (Desc)'!A100)","v":""},{"$f":"IF('WWVDS (Desc)'!B100=\"\",\"\",'WWVDS (Desc)'!B100)","v":""},{"$f":"IF('WWVDS (Desc)'!C100=\"\",\"\",'WWVDS (Desc)'!C100)","v":""},{"$f":"IF('WWVDS (Desc)'!D100=\"\",\"\",'WWVDS (Desc)'!D100)","v":""},{"$f":"IF('WWVDS (Desc)'!E100=\"\",\"\",INDEX([1]OWNER!$A$2:$A$100,MATCH('WWVDS (Desc)'!$E100,[1]!MASTER_OWNER_DESC[#Data],0),0))","v":""},{"$f":"IF('WWVDS (Desc)'!F100=\"\",\"\",INDEX([1]COUNTY!$A$2:$A$80,MATCH('WWVDS (Desc)'!F100,[1]!MASTER_COUNTY_NAME[#Data],0),0))","v":""},{"$f":"IF('WWVDS (Desc)'!G100=\"\",\"\",'WWVDS (Desc)'!G100)","v":""},{"$f":"IF('WWVDS (Desc)'!H100=\"\",\"\",'WWVDS (Desc)'!H100)","v":""},{"$f":"IF('WWVDS (Desc)'!I100=\"\",\"\",INDEX([1]WWVDS_TYPE!$A$2:$A$4,MATCH('WWVDS (Desc)'!$I100,[1]!MASTER_WWVDS_TYPE_DESC[#Data],0),0))","v":""},{"$f":"IF('WWVDS (Desc)'!$J100=\"\",\"\",INDEX([1]ITS_DEV_MANUF_MODEL!$A$2:$E$1500,MATCH(1,([1]ITS_DEV_MANUF_MODEL!$E$2:$E$1500=\"WWD\")*([1]ITS_DEV_MANUF_MODEL!$D$2:$D$1500='WWVDS (Desc)'!$J100),0),1))","v":""},{"$f":"IF('WWVDS (Desc)'!$J100=\"\",\"\",INDEX([1]ITS_DEV_MANUF_MODEL!$A$2:$E$1500,MATCH(1,([1]ITS_DEV_MANUF_MODEL!$E$2:$E$1500=\"WWD\")*([1]ITS_DEV_MANUF_MODEL!$D$2:$D$1500='WWVDS (Desc)'!$J100),0),2))","v":""},{"$f":"IF('WWVDS (Desc)'!L100=\"\",\"\",'WWVDS (Desc)'!L100)","v":""},{"$f":"IF('WWVDS (Desc)'!M100=\"\",\"\",'WWVDS (Desc)'!M100)","v":""},{"$f":"IF('WWVDS (Desc)'!N100=\"\",\"\",'WWVDS (Desc)'!N100)","v":""},{"$f":"IF('WWVDS (Desc)'!O100=\"\",\"\",'WWVDS (Desc)'!O100)","v":""},{"$f":"IF('WWVDS (Desc)'!P100=\"\",\"\",'WWVDS (Desc)'!P100)","v":""}]
[{"$f":"IF('WWVDS (Desc)'!A101=\"\",\"\",'WWVDS (Desc)'!A101)","v":""},{"$f":"IF('WWVDS (Desc)'!B101=\"\",\"\",'WWVDS (Desc)'!B101)","v":""},{"$f":"IF('WWVDS (Desc)'!C101=\"\",\"\",'WWVDS (Desc)'!C101)","v":""},{"$f":"IF('WWVDS (Desc)'!D101=\"\",\"\",'WWVDS (Desc)'!D101)","v":""},{"$f":"IF('WWVDS (Desc)'!E101=\"\",\"\",INDEX([1]OWNER!$A$2:$A$100,MATCH('WWVDS (Desc)'!$E101,[1]!MASTER_OWNER_DESC[#Data],0),0))","v":""},{"$f":"IF('WWVDS (Desc)'!F101=\"\",\"\",INDEX([1]COUNTY!$A$2:$A$80,MATCH('WWVDS (Desc)'!F101,[1]!MASTER_COUNTY_NAME[#Data],0),0))","v":""},{"$f":"IF('WWVDS (Desc)'!G101=\"\",\"\",'WWVDS (Desc)'!G101)","v":""},{"$f":"IF('WWVDS (Desc)'!H101=\"\",\"\",'WWVDS (Desc)'!H101)","v":""},{"$f":"IF('WWVDS (Desc)'!I101=\"\",\"\",INDEX([1]WWVDS_TYPE!$A$2:$A$4,MATCH('WWVDS (Desc)'!$I101,[1]!MASTER_WWVDS_TYPE_DESC[#Data],0),0))","v":""},{"$f":"IF('WWVDS (Desc)'!$J101=\"\",\"\",INDEX([1]ITS_DEV_MANUF_MODEL!$A$2:$E$1500,MATCH(1,([1]ITS_DEV_MANUF_MODEL!$E$2:$E$1500=\"WWD\")*([1]ITS_DEV_MANUF_MODEL!$D$2:$D$1500='WWVDS (Desc)'!$J101),0),1))","v":""},{"$f":"IF('WWVDS (Desc)'!$J101=\"\",\"\",INDEX([1]ITS_DEV_MANUF_MODEL!$A$2:$E$1500,MATCH(1,([1]ITS_DEV_MANUF_MODEL!$E$2:$E$1500=\"WWD\")*([1]ITS_DEV_MANUF_MODEL!$D$2:$D$1500='WWVDS (Desc)'!$J101),0),2))","v":""},{"$f":"IF('WWVDS (Desc)'!L101=\"\",\"\",'WWVDS (Desc)'!L101)","v":""},{"$f":"IF('WWVDS (Desc)'!M101=\"\",\"\",'WWVDS (Desc)'!M101)","v":""},{"$f":"IF('WWVDS (Desc)'!N101=\"\",\"\",'WWVDS (Desc)'!N101)","v":""},{"$f":"IF('WWVDS (Desc)'!O101=\"\",\"\",'WWVDS (Desc)'!O101)","v":""},{"$f":"IF('WWVDS (Desc)'!P101=\"\",\"\",'WWVDS (Desc)'!P101)","v":""}]
[{"$f":"IF('WWVDS (Desc)'!A102=\"\",\"\",'WWVDS (Desc)'!A102)","v":""},{"$f":"IF('WWVDS (Desc)'!B102=\"\",\"\",'WWVDS (Desc)'!B102)","v":""},{"$f":"IF('WWVDS (Desc)'!C102=\"\",\"\",'WWVDS (Desc)'!C102)","v":""},{"$f":"IF('WWVDS (Desc)'!D102=\"\",\"\",'WWVDS (Desc)'!D102)","v":""},{"$f":"IF('WWVDS (Desc)'!E102=\"\",\"\",INDEX([1]OWNER!$A$2:$A$100,MATCH('WWVDS (Desc)'!$E102,[1]!MASTER_OWNER_DESC[#Data],0),0))","v":""},{"$f":"IF('WWVDS (Desc)'!F102=\"\",\"\",INDEX([1]COUNTY!$A$2:$A$80,MATCH('WWVDS (Desc)'!F102,[1]!MASTER_COUNTY_NAME[#Data],0),0))","v":""},{"$f":"IF('WWVDS (Desc)'!G102=\"\",\"\",'WWVDS (Desc)'!G102)","v":""},{"$f":"IF('WWVDS (Desc)'!H102=\"\",\"\",'WWVDS (Desc)'!H102)","v":""},{"$f":"IF('WWVDS (Desc)'!I102=\"\",\"\",INDEX([1]WWVDS_TYPE!$A$2:$A$4,MATCH('WWVDS (Desc)'!$I102,[1]!MASTER_WWVDS_TYPE_DESC[#Data],0),0))","v":""},{"$f":"IF('WWVDS (Desc)'!$J102=\"\",\"\",INDEX([1]ITS_DEV_MANUF_MODEL!$A$2:$E$1500,MATCH(1,([1]ITS_DEV_MANUF_MODEL!$E$2:$E$1500=\"WWD\")*([1]ITS_DEV_MANUF_MODEL!$D$2:$D$1500='WWVDS (Desc)'!$J102),0),1))","v":""},{"$f":"IF('WWVDS (Desc)'!$J102=\"\",\"\",INDEX([1]ITS_DEV_MANUF_MODEL!$A$2:$E$1500,MATCH(1,([1]ITS_DEV_MANUF_MODEL!$E$2:$E$1500=\"WWD\")*([1]ITS_DEV_MANUF_MODEL!$D$2:$D$1500='WWVDS (Desc)'!$J102),0),2))","v":""},{"$f":"IF('WWVDS (Desc)'!L102=\"\",\"\",'WWVDS (Desc)'!L102)","v":""},{"$f":"IF('WWVDS (Desc)'!M102=\"\",\"\",'WWVDS (Desc)'!M102)","v":""},{"$f":"IF('WWVDS (Desc)'!N102=\"\",\"\",'WWVDS (Desc)'!N102)","v":""},{"$f":"IF('WWVDS (Desc)'!O102=\"\",\"\",'WWVDS (Desc)'!O102)","v":""},{"$f":"IF('WWVDS (Desc)'!P102=\"\",\"\",'WWVDS (Desc)'!P102)","v":""}]
[{"$f":"IF('WWVDS (Desc)'!A103=\"\",\"\",'WWVDS (Desc)'!A103)","v":""},{"$f":"IF('WWVDS (Desc)'!B103=\"\",\"\",'WWVDS (Desc)'!B103)","v":""},{"$f":"IF('WWVDS (Desc)'!C103=\"\",\"\",'WWVDS (Desc)'!C103)","v":""},{"$f":"IF('WWVDS (Desc)'!D103=\"\",\"\",'WWVDS (Desc)'!D103)","v":""},{"$f":"IF('WWVDS (Desc)'!E103=\"\",\"\",INDEX([1]OWNER!$A$2:$A$100,MATCH('WWVDS (Desc)'!$E103,[1]!MASTER_OWNER_DESC[#Data],0),0))","v":""},{"$f":"IF('WWVDS (Desc)'!F103=\"\",\"\",INDEX([1]COUNTY!$A$2:$A$80,MATCH('WWVDS (Desc)'!F103,[1]!MASTER_COUNTY_NAME[#Data],0),0))","v":""},{"$f":"IF('WWVDS (Desc)'!G103=\"\",\"\",'WWVDS (Desc)'!G103)","v":""},{"$f":"IF('WWVDS (Desc)'!H103=\"\",\"\",'WWVDS (Desc)'!H103)","v":""},{"$f":"IF('WWVDS (Desc)'!I103=\"\",\"\",INDEX([1]WWVDS_TYPE!$A$2:$A$4,MATCH('WWVDS (Desc)'!$I103,[1]!MASTER_WWVDS_TYPE_DESC[#Data],0),0))","v":""},{"$f":"IF('WWVDS (Desc)'!$J103=\"\",\"\",INDEX([1]ITS_DEV_MANUF_MODEL!$A$2:$E$1500,MATCH(1,([1]ITS_DEV_MANUF_MODEL!$E$2:$E$1500=\"WWD\")*([1]ITS_DEV_MANUF_MODEL!$D$2:$D$1500='WWVDS (Desc)'!$J103),0),1))","v":""},{"$f":"IF('WWVDS (Desc)'!$J103=\"\",\"\",INDEX([1]ITS_DEV_MANUF_MODEL!$A$2:$E$1500,MATCH(1,([1]ITS_DEV_MANUF_MODEL!$E$2:$E$1500=\"WWD\")*([1]ITS_DEV_MANUF_MODEL!$D$2:$D$1500='WWVDS (Desc)'!$J103),0),2))","v":""},{"$f":"IF('WWVDS (Desc)'!L103=\"\",\"\",'WWVDS (Desc)'!L103)","v":""},{"$f":"IF('WWVDS (Desc)'!M103=\"\",\"\",'WWVDS (Desc)'!M103)","v":""},{"$f":"IF('WWVDS (Desc)'!N103=\"\",\"\",'WWVDS (Desc)'!N103)","v":""},{"$f":"IF('WWVDS (Desc)'!O103=\"\",\"\",'WWVDS (Desc)'!O103)","v":""},{"$f":"IF('WWVDS (Desc)'!P103=\"\",\"\",'WWVDS (Desc)'!P103)","v":""}]
[{"$f":"IF('WWVDS (Desc)'!A104=\"\",\"\",'WWVDS (Desc)'!A104)","v":""},{"$f":"IF('WWVDS (Desc)'!B104=\"\",\"\",'WWVDS (Desc)'!B104)","v":""},{"$f":"IF('WWVDS (Desc)'!C104=\"\",\"\",'WWVDS (Desc)'!C104)","v":""},{"$f":"IF('WWVDS (Desc)'!D104=\"\",\"\",'WWVDS (Desc)'!D104)","v":""},{"$f":"IF('WWVDS (Desc)'!E104=\"\",\"\",INDEX([1]OWNER!$A$2:$A$100,MATCH('WWVDS (Desc)'!$E104,[1]!MASTER_OWNER_DESC[#Data],0),0))","v":""},{"$f":"IF('WWVDS (Desc)'!F104=\"\",\"\",INDEX([1]COUNTY!$A$2:$A$80,MATCH('WWVDS (Desc)'!F104,[1]!MASTER_COUNTY_NAME[#Data],0),0))","v":""},{"$f":"IF('WWVDS (Desc)'!G104=\"\",\"\",'WWVDS (Desc)'!G104)","v":""},{"$f":"IF('WWVDS (Desc)'!H104=\"\",\"\",'WWVDS (Desc)'!H104)","v":""},{"$f":"IF('WWVDS (Desc)'!I104=\"\",\"\",INDEX([1]WWVDS_TYPE!$A$2:$A$4,MATCH('WWVDS (Desc)'!$I104,[1]!MASTER_WWVDS_TYPE_DESC[#Data],0),0))","v":""},{"$f":"IF('WWVDS (Desc)'!$J104=\"\",\"\",INDEX([1]ITS_DEV_MANUF_MODEL!$A$2:$E$1500,MATCH(1,([1]ITS_DEV_MANUF_MODEL!$E$2:$E$1500=\"WWD\")*([1]ITS_DEV_MANUF_MODEL!$D$2:$D$1500='WWVDS (Desc)'!$J104),0),1))","v":""},{"$f":"IF('WWVDS (Desc)'!$J104=\"\",\"\",INDEX([1]ITS_DEV_MANUF_MODEL!$A$2:$E$1500,MATCH(1,([1]ITS_DEV_MANUF_MODEL!$E$2:$E$1500=\"WWD\")*([1]ITS_DEV_MANUF_MODEL!$D$2:$D$1500='WWVDS (Desc)'!$J104),0),2))","v":""},{"$f":"IF('WWVDS (Desc)'!L104=\"\",\"\",'WWVDS (Desc)'!L104)","v":""},{"$f":"IF('WWVDS (Desc)'!M104=\"\",\"\",'WWVDS (Desc)'!M104)","v":""},{"$f":"IF('WWVDS (Desc)'!N104=\"\",\"\",'WWVDS (Desc)'!N104)","v":""},{"$f":"IF('WWVDS (Desc)'!O104=\"\",\"\",'WWVDS (Desc)'!O104)","v":""},{"$f":"IF('WWVDS (Desc)'!P104=\"\",\"\",'WWVDS (Desc)'!P104)","v":""}]
[{"$f":"IF('WWVDS (Desc)'!A105=\"\",\"\",'WWVDS (Desc)'!A105)","v":""},{"$f":"IF('WWVDS (Desc)'!B105=\"\",\"\",'WWVDS (Desc)'!B105)","v":""},{"$f":"IF('WWVDS (Desc)'!C105=\"\",\"\",'WWVDS (Desc)'!C105)","v":""},{"$f":"IF('WWVDS (Desc)'!D105=\"\",\"\",'WWVDS (Desc)'!D105)","v":""},{"$f":"IF('WWVDS (Desc)'!E105=\"\",\"\",INDEX([1]OWNER!$A$2:$A$100,MATCH('WWVDS (Desc)'!$E105,[1]!MASTER_OWNER_DESC[#Data],0),0))","v":""},{"$f":"IF('WWVDS (Desc)'!F105=\"\",\"\",INDEX([1]COUNTY!$A$2:$A$80,MATCH('WWVDS (Desc)'!F105,[1]!MASTER_COUNTY_NAME[#Data],0),0))","v":""},{"$f":"IF('WWVDS (Desc)'!G105=\"\",\"\",'WWVDS (Desc)'!G105)","v":""},{"$f":"IF('WWVDS (Desc)'!H105=\"\",\"\",'WWVDS (Desc)'!H105)","v":""},{"$f":"IF('WWVDS (Desc)'!I105=\"\",\"\",INDEX([1]WWVDS_TYPE!$A$2:$A$4,MATCH('WWVDS (Desc)'!$I105,[1]!MASTER_WWVDS_TYPE_DESC[#Data],0),0))","v":""},{"$f":"IF('WWVDS (Desc)'!$J105=\"\",\"\",INDEX([1]ITS_DEV_MANUF_MODEL!$A$2:$E$1500,MATCH(1,([1]ITS_DEV_MANUF_MODEL!$E$2:$E$1500=\"WWD\")*([1]ITS_DEV_MANUF_MODEL!$D$2:$D$1500='WWVDS (Desc)'!$J105),0),1))","v":""},{"$f":"IF('WWVDS (Desc)'!$J105=\"\",\"\",INDEX([1]ITS_DEV_MANUF_MODEL!$A$2:$E$1500,MATCH(1,([1]ITS_DEV_MANUF_MODEL!$E$2:$E$1500=\"WWD\")*([1]ITS_DEV_MANUF_MODEL!$D$2:$D$1500='WWVDS (Desc)'!$J105),0),2))","v":""},{"$f":"IF('WWVDS (Desc)'!L105=\"\",\"\",'WWVDS (Desc)'!L105)","v":""},{"$f":"IF('WWVDS (Desc)'!M105=\"\",\"\",'WWVDS (Desc)'!M105)","v":""},{"$f":"IF('WWVDS (Desc)'!N105=\"\",\"\",'WWVDS (Desc)'!N105)","v":""},{"$f":"IF('WWVDS (Desc)'!O105=\"\",\"\",'WWVDS (Desc)'!O105)","v":""},{"$f":"IF('WWVDS (Desc)'!P105=\"\",\"\",'WWVDS (Desc)'!P105)","v":""}]
[{"$f":"IF('WWVDS (Desc)'!A106=\"\",\"\",'WWVDS (Desc)'!A106)","v":""},{"$f":"IF('WWVDS (Desc)'!B106=\"\",\"\",'WWVDS (Desc)'!B106)","v":""},{"$f":"IF('WWVDS (Desc)'!C106=\"\",\"\",'WWVDS (Desc)'!C106)","v":""},{"$f":"IF('WWVDS (Desc)'!D106=\"\",\"\",'WWVDS (Desc)'!D106)","v":""},{"$f":"IF('WWVDS (Desc)'!E106=\"\",\"\",INDEX([1]OWNER!$A$2:$A$100,MATCH('WWVDS (Desc)'!$E106,[1]!MASTER_OWNER_DESC[#Data],0),0))","v":""},{"$f":"IF('WWVDS (Desc)'!F106=\"\",\"\",INDEX([1]COUNTY!$A$2:$A$80,MATCH('WWVDS (Desc)'!F106,[1]!MASTER_COUNTY_NAME[#Data],0),0))","v":""},{"$f":"IF('WWVDS (Desc)'!G106=\"\",\"\",'WWVDS (Desc)'!G106)","v":""},{"$f":"IF('WWVDS (Desc)'!H106=\"\",\"\",'WWVDS (Desc)'!H106)","v":""},{"$f":"IF('WWVDS (Desc)'!I106=\"\",\"\",INDEX([1]WWVDS_TYPE!$A$2:$A$4,MATCH('WWVDS (Desc)'!$I106,[1]!MASTER_WWVDS_TYPE_DESC[#Data],0),0))","v":""},{"$f":"IF('WWVDS (Desc)'!$J106=\"\",\"\",INDEX([1]ITS_DEV_MANUF_MODEL!$A$2:$E$1500,MATCH(1,([1]ITS_DEV_MANUF_MODEL!$E$2:$E$1500=\"WWD\")*([1]ITS_DEV_MANUF_MODEL!$D$2:$D$1500='WWVDS (Desc)'!$J106),0),1))","v":""},{"$f":"IF('WWVDS (Desc)'!$J106=\"\",\"\",INDEX([1]ITS_DEV_MANUF_MODEL!$A$2:$E$1500,MATCH(1,([1]ITS_DEV_MANUF_MODEL!$E$2:$E$1500=\"WWD\")*([1]ITS_DEV_MANUF_MODEL!$D$2:$D$1500='WWVDS (Desc)'!$J106),0),2))","v":""},{"$f":"IF('WWVDS (Desc)'!L106=\"\",\"\",'WWVDS (Desc)'!L106)","v":""},{"$f":"IF('WWVDS (Desc)'!M106=\"\",\"\",'WWVDS (Desc)'!M106)","v":""},{"$f":"IF('WWVDS (Desc)'!N106=\"\",\"\",'WWVDS (Desc)'!N106)","v":""},{"$f":"IF('WWVDS (Desc)'!O106=\"\",\"\",'WWVDS (Desc)'!O106)","v":""},{"$f":"IF('WWVDS (Desc)'!P106=\"\",\"\",'WWVDS (Desc)'!P106)","v":""}]
[{"$f":"IF('WWVDS (Desc)'!A107=\"\",\"\",'WWVDS (Desc)'!A107)","v":""},{"$f":"IF('WWVDS (Desc)'!B107=\"\",\"\",'WWVDS (Desc)'!B107)","v":""},{"$f":"IF('WWVDS (Desc)'!C107=\"\",\"\",'WWVDS (Desc)'!C107)","v":""},{"$f":"IF('WWVDS (Desc)'!D107=\"\",\"\",'WWVDS (Desc)'!D107)","v":""},{"$f":"IF('WWVDS (Desc)'!E107=\"\",\"\",INDEX([1]OWNER!$A$2:$A$100,MATCH('WWVDS (Desc)'!$E107,[1]!MASTER_OWNER_DESC[#Data],0),0))","v":""},{"$f":"IF('WWVDS (Desc)'!F107=\"\",\"\",INDEX([1]COUNTY!$A$2:$A$80,MATCH('WWVDS (Desc)'!F107,[1]!MASTER_COUNTY_NAME[#Data],0),0))","v":""},{"$f":"IF('WWVDS (Desc)'!G107=\"\",\"\",'WWVDS (Desc)'!G107)","v":""},{"$f":"IF('WWVDS (Desc)'!H107=\"\",\"\",'WWVDS (Desc)'!H107)","v":""},{"$f":"IF('WWVDS (Desc)'!I107=\"\",\"\",INDEX([1]WWVDS_TYPE!$A$2:$A$4,MATCH('WWVDS (Desc)'!$I107,[1]!MASTER_WWVDS_TYPE_DESC[#Data],0),0))","v":""},{"$f":"IF('WWVDS (Desc)'!$J107=\"\",\"\",INDEX([1]ITS_DEV_MANUF_MODEL!$A$2:$E$1500,MATCH(1,([1]ITS_DEV_MANUF_MODEL!$E$2:$E$1500=\"WWD\")*([1]ITS_DEV_MANUF_MODEL!$D$2:$D$1500='WWVDS (Desc)'!$J107),0),1))","v":""},{"$f":"IF('WWVDS (Desc)'!$J107=\"\",\"\",INDEX([1]ITS_DEV_MANUF_MODEL!$A$2:$E$1500,MATCH(1,([1]ITS_DEV_MANUF_MODEL!$E$2:$E$1500=\"WWD\")*([1]ITS_DEV_MANUF_MODEL!$D$2:$D$1500='WWVDS (Desc)'!$J107),0),2))","v":""},{"$f":"IF('WWVDS (Desc)'!L107=\"\",\"\",'WWVDS (Desc)'!L107)","v":""},{"$f":"IF('WWVDS (Desc)'!M107=\"\",\"\",'WWVDS (Desc)'!M107)","v":""},{"$f":"IF('WWVDS (Desc)'!N107=\"\",\"\",'WWVDS (Desc)'!N107)","v":""},{"$f":"IF('WWVDS (Desc)'!O107=\"\",\"\",'WWVDS (Desc)'!O107)","v":""},{"$f":"IF('WWVDS (Desc)'!P107=\"\",\"\",'WWVDS (Desc)'!P107)","v":""}]
[{"$f":"IF('WWVDS (Desc)'!A108=\"\",\"\",'WWVDS (Desc)'!A108)","v":""},{"$f":"IF('WWVDS (Desc)'!B108=\"\",\"\",'WWVDS (Desc)'!B108)","v":""},{"$f":"IF('WWVDS (Desc)'!C108=\"\",\"\",'WWVDS (Desc)'!C108)","v":""},{"$f":"IF('WWVDS (Desc)'!D108=\"\",\"\",'WWVDS (Desc)'!D108)","v":""},{"$f":"IF('WWVDS (Desc)'!E108=\"\",\"\",INDEX([1]OWNER!$A$2:$A$100,MATCH('WWVDS (Desc)'!$E108,[1]!MASTER_OWNER_DESC[#Data],0),0))","v":""},{"$f":"IF('WWVDS (Desc)'!F108=\"\",\"\",INDEX([1]COUNTY!$A$2:$A$80,MATCH('WWVDS (Desc)'!F108,[1]!MASTER_COUNTY_NAME[#Data],0),0))","v":""},{"$f":"IF('WWVDS (Desc)'!G108=\"\",\"\",'WWVDS (Desc)'!G108)","v":""},{"$f":"IF('WWVDS (Desc)'!H108=\"\",\"\",'WWVDS (Desc)'!H108)","v":""},{"$f":"IF('WWVDS (Desc)'!I108=\"\",\"\",INDEX([1]WWVDS_TYPE!$A$2:$A$4,MATCH('WWVDS (Desc)'!$I108,[1]!MASTER_WWVDS_TYPE_DESC[#Data],0),0))","v":""},{"$f":"IF('WWVDS (Desc)'!$J108=\"\",\"\",INDEX([1]ITS_DEV_MANUF_MODEL!$A$2:$E$1500,MATCH(1,([1]ITS_DEV_MANUF_MODEL!$E$2:$E$1500=\"WWD\")*([1]ITS_DEV_MANUF_MODEL!$D$2:$D$1500='WWVDS (Desc)'!$J108),0),1))","v":""},{"$f":"IF('WWVDS (Desc)'!$J108=\"\",\"\",INDEX([1]ITS_DEV_MANUF_MODEL!$A$2:$E$1500,MATCH(1,([1]ITS_DEV_MANUF_MODEL!$E$2:$E$1500=\"WWD\")*([1]ITS_DEV_MANUF_MODEL!$D$2:$D$1500='WWVDS (Desc)'!$J108),0),2))","v":""},{"$f":"IF('WWVDS (Desc)'!L108=\"\",\"\",'WWVDS (Desc)'!L108)","v":""},{"$f":"IF('WWVDS (Desc)'!M108=\"\",\"\",'WWVDS (Desc)'!M108)","v":""},{"$f":"IF('WWVDS (Desc)'!N108=\"\",\"\",'WWVDS (Desc)'!N108)","v":""},{"$f":"IF('WWVDS (Desc)'!O108=\"\",\"\",'WWVDS (Desc)'!O108)","v":""},{"$f":"IF('WWVDS (Desc)'!P108=\"\",\"\",'WWVDS (Desc)'!P108)","v":""}]
[{"$f":"IF('WWVDS (Desc)'!A109=\"\",\"\",'WWVDS (Desc)'!A109)","v":""},{"$f":"IF('WWVDS (Desc)'!B109=\"\",\"\",'WWVDS (Desc)'!B109)","v":""},{"$f":"IF('WWVDS (Desc)'!C109=\"\",\"\",'WWVDS (Desc)'!C109)","v":""},{"$f":"IF('WWVDS (Desc)'!D109=\"\",\"\",'WWVDS (Desc)'!D109)","v":""},{"$f":"IF('WWVDS (Desc)'!E109=\"\",\"\",INDEX([1]OWNER!$A$2:$A$100,MATCH('WWVDS (Desc)'!$E109,[1]!MASTER_OWNER_DESC[#Data],0),0))","v":""},{"$f":"IF('WWVDS (Desc)'!F109=\"\",\"\",INDEX([1]COUNTY!$A$2:$A$80,MATCH('WWVDS (Desc)'!F109,[1]!MASTER_COUNTY_NAME[#Data],0),0))","v":""},{"$f":"IF('WWVDS (Desc)'!G109=\"\",\"\",'WWVDS (Desc)'!G109)","v":""},{"$f":"IF('WWVDS (Desc)'!H109=\"\",\"\",'WWVDS (Desc)'!H109)","v":""},{"$f":"IF('WWVDS (Desc)'!I109=\"\",\"\",INDEX([1]WWVDS_TYPE!$A$2:$A$4,MATCH('WWVDS (Desc)'!$I109,[1]!MASTER_WWVDS_TYPE_DESC[#Data],0),0))","v":""},{"$f":"IF('WWVDS (Desc)'!$J109=\"\",\"\",INDEX([1]ITS_DEV_MANUF_MODEL!$A$2:$E$1500,MATCH(1,([1]ITS_DEV_MANUF_MODEL!$E$2:$E$1500=\"WWD\")*([1]ITS_DEV_MANUF_MODEL!$D$2:$D$1500='WWVDS (Desc)'!$J109),0),1))","v":""},{"$f":"IF('WWVDS (Desc)'!$J109=\"\",\"\",INDEX([1]ITS_DEV_MANUF_MODEL!$A$2:$E$1500,MATCH(1,([1]ITS_DEV_MANUF_MODEL!$E$2:$E$1500=\"WWD\")*([1]ITS_DEV_MANUF_MODEL!$D$2:$D$1500='WWVDS (Desc)'!$J109),0),2))","v":""},{"$f":"IF('WWVDS (Desc)'!L109=\"\",\"\",'WWVDS (Desc)'!L109)","v":""},{"$f":"IF('WWVDS (Desc)'!M109=\"\",\"\",'WWVDS (Desc)'!M109)","v":""},{"$f":"IF('WWVDS (Desc)'!N109=\"\",\"\",'WWVDS (Desc)'!N109)","v":""},{"$f":"IF('WWVDS (Desc)'!O109=\"\",\"\",'WWVDS (Desc)'!O109)","v":""},{"$f":"IF('WWVDS (Desc)'!P109=\"\",\"\",'WWVDS (Desc)'!P109)","v":""}]
[{"$f":"IF('WWVDS (Desc)'!A110=\"\",\"\",'WWVDS (Desc)'!A110)","v":""},{"$f":"IF('WWVDS (Desc)'!B110=\"\",\"\",'WWVDS (Desc)'!B110)","v":""},{"$f":"IF('WWVDS (Desc)'!C110=\"\",\"\",'WWVDS (Desc)'!C110)","v":""},{"$f":"IF('WWVDS (Desc)'!D110=\"\",\"\",'WWVDS (Desc)'!D110)","v":""},{"$f":"IF('WWVDS (Desc)'!E110=\"\",\"\",INDEX([1]OWNER!$A$2:$A$100,MATCH('WWVDS (Desc)'!$E110,[1]!MASTER_OWNER_DESC[#Data],0),0))","v":""},{"$f":"IF('WWVDS (Desc)'!F110=\"\",\"\",INDEX([1]COUNTY!$A$2:$A$80,MATCH('WWVDS (Desc)'!F110,[1]!MASTER_COUNTY_NAME[#Data],0),0))","v":""},{"$f":"IF('WWVDS (Desc)'!G110=\"\",\"\",'WWVDS (Desc)'!G110)","v":""},{"$f":"IF('WWVDS (Desc)'!H110=\"\",\"\",'WWVDS (Desc)'!H110)","v":""},{"$f":"IF('WWVDS (Desc)'!I110=\"\",\"\",INDEX([1]WWVDS_TYPE!$A$2:$A$4,MATCH('WWVDS (Desc)'!$I110,[1]!MASTER_WWVDS_TYPE_DESC[#Data],0),0))","v":""},{"$f":"IF('WWVDS (Desc)'!$J110=\"\",\"\",INDEX([1]ITS_DEV_MANUF_MODEL!$A$2:$E$1500,MATCH(1,([1]ITS_DEV_MANUF_MODEL!$E$2:$E$1500=\"WWD\")*([1]ITS_DEV_MANUF_MODEL!$D$2:$D$1500='WWVDS (Desc)'!$J110),0),1))","v":""},{"$f":"IF('WWVDS (Desc)'!$J110=\"\",\"\",INDEX([1]ITS_DEV_MANUF_MODEL!$A$2:$E$1500,MATCH(1,([1]ITS_DEV_MANUF_MODEL!$E$2:$E$1500=\"WWD\")*([1]ITS_DEV_MANUF_MODEL!$D$2:$D$1500='WWVDS (Desc)'!$J110),0),2))","v":""},{"$f":"IF('WWVDS (Desc)'!L110=\"\",\"\",'WWVDS (Desc)'!L110)","v":""},{"$f":"IF('WWVDS (Desc)'!M110=\"\",\"\",'WWVDS (Desc)'!M110)","v":""},{"$f":"IF('WWVDS (Desc)'!N110=\"\",\"\",'WWVDS (Desc)'!N110)","v":""},{"$f":"IF('WWVDS (Desc)'!O110=\"\",\"\",'WWVDS (Desc)'!O110)","v":""},{"$f":"IF('WWVDS (Desc)'!P110=\"\",\"\",'WWVDS (Desc)'!P110)","v":""}]
[{"$f":"IF('WWVDS (Desc)'!A111=\"\",\"\",'WWVDS (Desc)'!A111)","v":""},{"$f":"IF('WWVDS (Desc)'!B111=\"\",\"\",'WWVDS (Desc)'!B111)","v":""},{"$f":"IF('WWVDS (Desc)'!C111=\"\",\"\",'WWVDS (Desc)'!C111)","v":""},{"$f":"IF('WWVDS (Desc)'!D111=\"\",\"\",'WWVDS (Desc)'!D111)","v":""},{"$f":"IF('WWVDS (Desc)'!E111=\"\",\"\",INDEX([1]OWNER!$A$2:$A$100,MATCH('WWVDS (Desc)'!$E111,[1]!MASTER_OWNER_DESC[#Data],0),0))","v":""},{"$f":"IF('WWVDS (Desc)'!F111=\"\",\"\",INDEX([1]COUNTY!$A$2:$A$80,MATCH('WWVDS (Desc)'!F111,[1]!MASTER_COUNTY_NAME[#Data],0),0))","v":""},{"$f":"IF('WWVDS (Desc)'!G111=\"\",\"\",'WWVDS (Desc)'!G111)","v":""},{"$f":"IF('WWVDS (Desc)'!H111=\"\",\"\",'WWVDS (Desc)'!H111)","v":""},{"$f":"IF('WWVDS (Desc)'!I111=\"\",\"\",INDEX([1]WWVDS_TYPE!$A$2:$A$4,MATCH('WWVDS (Desc)'!$I111,[1]!MASTER_WWVDS_TYPE_DESC[#Data],0),0))","v":""},{"$f":"IF('WWVDS (Desc)'!$J111=\"\",\"\",INDEX([1]ITS_DEV_MANUF_MODEL!$A$2:$E$1500,MATCH(1,([1]ITS_DEV_MANUF_MODEL!$E$2:$E$1500=\"WWD\")*([1]ITS_DEV_MANUF_MODEL!$D$2:$D$1500='WWVDS (Desc)'!$J111),0),1))","v":""},{"$f":"IF('WWVDS (Desc)'!$J111=\"\",\"\",INDEX([1]ITS_DEV_MANUF_MODEL!$A$2:$E$1500,MATCH(1,([1]ITS_DEV_MANUF_MODEL!$E$2:$E$1500=\"WWD\")*([1]ITS_DEV_MANUF_MODEL!$D$2:$D$1500='WWVDS (Desc)'!$J111),0),2))","v":""},{"$f":"IF('WWVDS (Desc)'!L111=\"\",\"\",'WWVDS (Desc)'!L111)","v":""},{"$f":"IF('WWVDS (Desc)'!M111=\"\",\"\",'WWVDS (Desc)'!M111)","v":""},{"$f":"IF('WWVDS (Desc)'!N111=\"\",\"\",'WWVDS (Desc)'!N111)","v":""},{"$f":"IF('WWVDS (Desc)'!O111=\"\",\"\",'WWVDS (Desc)'!O111)","v":""},{"$f":"IF('WWVDS (Desc)'!P111=\"\",\"\",'WWVDS (Desc)'!P111)","v":""}]
[{"$f":"IF('WWVDS (Desc)'!A112=\"\",\"\",'WWVDS (Desc)'!A112)","v":""},{"$f":"IF('WWVDS (Desc)'!B112=\"\",\"\",'WWVDS (Desc)'!B112)","v":""},{"$f":"IF('WWVDS (Desc)'!C112=\"\",\"\",'WWVDS (Desc)'!C112)","v":""},{"$f":"IF('WWVDS (Desc)'!D112=\"\",\"\",'WWVDS (Desc)'!D112)","v":""},{"$f":"IF('WWVDS (Desc)'!E112=\"\",\"\",INDEX([1]OWNER!$A$2:$A$100,MATCH('WWVDS (Desc)'!$E112,[1]!MASTER_OWNER_DESC[#Data],0),0))","v":""},{"$f":"IF('WWVDS (Desc)'!F112=\"\",\"\",INDEX([1]COUNTY!$A$2:$A$80,MATCH('WWVDS (Desc)'!F112,[1]!MASTER_COUNTY_NAME[#Data],0),0))","v":""},{"$f":"IF('WWVDS (Desc)'!G112=\"\",\"\",'WWVDS (Desc)'!G112)","v":""},{"$f":"IF('WWVDS (Desc)'!H112=\"\",\"\",'WWVDS (Desc)'!H112)","v":""},{"$f":"IF('WWVDS (Desc)'!I112=\"\",\"\",INDEX([1]WWVDS_TYPE!$A$2:$A$4,MATCH('WWVDS (Desc)'!$I112,[1]!MASTER_WWVDS_TYPE_DESC[#Data],0),0))","v":""},{"$f":"IF('WWVDS (Desc)'!$J112=\"\",\"\",INDEX([1]ITS_DEV_MANUF_MODEL!$A$2:$E$1500,MATCH(1,([1]ITS_DEV_MANUF_MODEL!$E$2:$E$1500=\"WWD\")*([1]ITS_DEV_MANUF_MODEL!$D$2:$D$1500='WWVDS (Desc)'!$J112),0),1))","v":""},{"$f":"IF('WWVDS (Desc)'!$J112=\"\",\"\",INDEX([1]ITS_DEV_MANUF_MODEL!$A$2:$E$1500,MATCH(1,([1]ITS_DEV_MANUF_MODEL!$E$2:$E$1500=\"WWD\")*([1]ITS_DEV_MANUF_MODEL!$D$2:$D$1500='WWVDS (Desc)'!$J112),0),2))","v":""},{"$f":"IF('WWVDS (Desc)'!L112=\"\",\"\",'WWVDS (Desc)'!L112)","v":""},{"$f":"IF('WWVDS (Desc)'!M112=\"\",\"\",'WWVDS (Desc)'!M112)","v":""},{"$f":"IF('WWVDS (Desc)'!N112=\"\",\"\",'WWVDS (Desc)'!N112)","v":""},{"$f":"IF('WWVDS (Desc)'!O112=\"\",\"\",'WWVDS (Desc)'!O112)","v":""},{"$f":"IF('WWVDS (Desc)'!P112=\"\",\"\",'WWVDS (Desc)'!P112)","v":""}]
[{"$f":"IF('WWVDS (Desc)'!A113=\"\",\"\",'WWVDS (Desc)'!A113)","v":""},{"$f":"IF('WWVDS (Desc)'!B113=\"\",\"\",'WWVDS (Desc)'!B113)","v":""},{"$f":"IF('WWVDS (Desc)'!C113=\"\",\"\",'WWVDS (Desc)'!C113)","v":""},{"$f":"IF('WWVDS (Desc)'!D113=\"\",\"\",'WWVDS (Desc)'!D113)","v":""},{"$f":"IF('WWVDS (Desc)'!E113=\"\",\"\",INDEX([1]OWNER!$A$2:$A$100,MATCH('WWVDS (Desc)'!$E113,[1]!MASTER_OWNER_DESC[#Data],0),0))","v":""},{"$f":"IF('WWVDS (Desc)'!F113=\"\",\"\",INDEX([1]COUNTY!$A$2:$A$80,MATCH('WWVDS (Desc)'!F113,[1]!MASTER_COUNTY_NAME[#Data],0),0))","v":""},{"$f":"IF('WWVDS (Desc)'!G113=\"\",\"\",'WWVDS (Desc)'!G113)","v":""},{"$f":"IF('WWVDS (Desc)'!H113=\"\",\"\",'WWVDS (Desc)'!H113)","v":""},{"$f":"IF('WWVDS (Desc)'!I113=\"\",\"\",INDEX([1]WWVDS_TYPE!$A$2:$A$4,MATCH('WWVDS (Desc)'!$I113,[1]!MASTER_WWVDS_TYPE_DESC[#Data],0),0))","v":""},{"$f":"IF('WWVDS (Desc)'!$J113=\"\",\"\",INDEX([1]ITS_DEV_MANUF_MODEL!$A$2:$E$1500,MATCH(1,([1]ITS_DEV_MANUF_MODEL!$E$2:$E$1500=\"WWD\")*([1]ITS_DEV_MANUF_MODEL!$D$2:$D$1500='WWVDS (Desc)'!$J113),0),1))","v":""},{"$f":"IF('WWVDS (Desc)'!$J113=\"\",\"\",INDEX([1]ITS_DEV_MANUF_MODEL!$A$2:$E$1500,MATCH(1,([1]ITS_DEV_MANUF_MODEL!$E$2:$E$1500=\"WWD\")*([1]ITS_DEV_MANUF_MODEL!$D$2:$D$1500='WWVDS (Desc)'!$J113),0),2))","v":""},{"$f":"IF('WWVDS (Desc)'!L113=\"\",\"\",'WWVDS (Desc)'!L113)","v":""},{"$f":"IF('WWVDS (Desc)'!M113=\"\",\"\",'WWVDS (Desc)'!M113)","v":""},{"$f":"IF('WWVDS (Desc)'!N113=\"\",\"\",'WWVDS (Desc)'!N113)","v":""},{"$f":"IF('WWVDS (Desc)'!O113=\"\",\"\",'WWVDS (Desc)'!O113)","v":""},{"$f":"IF('WWVDS (Desc)'!P113=\"\",\"\",'WWVDS (Desc)'!P113)","v":""}]
[{"$f":"IF('WWVDS (Desc)'!A114=\"\",\"\",'WWVDS (Desc)'!A114)","v":""},{"$f":"IF('WWVDS (Desc)'!B114=\"\",\"\",'WWVDS (Desc)'!B114)","v":""},{"$f":"IF('WWVDS (Desc)'!C114=\"\",\"\",'WWVDS (Desc)'!C114)","v":""},{"$f":"IF('WWVDS (Desc)'!D114=\"\",\"\",'WWVDS (Desc)'!D114)","v":""},{"$f":"IF('WWVDS (Desc)'!E114=\"\",\"\",INDEX([1]OWNER!$A$2:$A$100,MATCH('WWVDS (Desc)'!$E114,[1]!MASTER_OWNER_DESC[#Data],0),0))","v":""},{"$f":"IF('WWVDS (Desc)'!F114=\"\",\"\",INDEX([1]COUNTY!$A$2:$A$80,MATCH('WWVDS (Desc)'!F114,[1]!MASTER_COUNTY_NAME[#Data],0),0))","v":""},{"$f":"IF('WWVDS (Desc)'!G114=\"\",\"\",'WWVDS (Desc)'!G114)","v":""},{"$f":"IF('WWVDS (Desc)'!H114=\"\",\"\",'WWVDS (Desc)'!H114)","v":""},{"$f":"IF('WWVDS (Desc)'!I114=\"\",\"\",INDEX([1]WWVDS_TYPE!$A$2:$A$4,MATCH('WWVDS (Desc)'!$I114,[1]!MASTER_WWVDS_TYPE_DESC[#Data],0),0))","v":""},{"$f":"IF('WWVDS (Desc)'!$J114=\"\",\"\",INDEX([1]ITS_DEV_MANUF_MODEL!$A$2:$E$1500,MATCH(1,([1]ITS_DEV_MANUF_MODEL!$E$2:$E$1500=\"WWD\")*([1]ITS_DEV_MANUF_MODEL!$D$2:$D$1500='WWVDS (Desc)'!$J114),0),1))","v":""},{"$f":"IF('WWVDS (Desc)'!$J114=\"\",\"\",INDEX([1]ITS_DEV_MANUF_MODEL!$A$2:$E$1500,MATCH(1,([1]ITS_DEV_MANUF_MODEL!$E$2:$E$1500=\"WWD\")*([1]ITS_DEV_MANUF_MODEL!$D$2:$D$1500='WWVDS (Desc)'!$J114),0),2))","v":""},{"$f":"IF('WWVDS (Desc)'!L114=\"\",\"\",'WWVDS (Desc)'!L114)","v":""},{"$f":"IF('WWVDS (Desc)'!M114=\"\",\"\",'WWVDS (Desc)'!M114)","v":""},{"$f":"IF('WWVDS (Desc)'!N114=\"\",\"\",'WWVDS (Desc)'!N114)","v":""},{"$f":"IF('WWVDS (Desc)'!O114=\"\",\"\",'WWVDS (Desc)'!O114)","v":""},{"$f":"IF('WWVDS (Desc)'!P114=\"\",\"\",'WWVDS (Desc)'!P114)","v":""}]
[{"$f":"IF('WWVDS (Desc)'!A115=\"\",\"\",'WWVDS (Desc)'!A115)","v":""},{"$f":"IF('WWVDS (Desc)'!B115=\"\",\"\",'WWVDS (Desc)'!B115)","v":""},{"$f":"IF('WWVDS (Desc)'!C115=\"\",\"\",'WWVDS (Desc)'!C115)","v":""},{"$f":"IF('WWVDS (Desc)'!D115=\"\",\"\",'WWVDS (Desc)'!D115)","v":""},{"$f":"IF('WWVDS (Desc)'!E115=\"\",\"\",INDEX([1]OWNER!$A$2:$A$100,MATCH('WWVDS (Desc)'!$E115,[1]!MASTER_OWNER_DESC[#Data],0),0))","v":""},{"$f":"IF('WWVDS (Desc)'!F115=\"\",\"\",INDEX([1]COUNTY!$A$2:$A$80,MATCH('WWVDS (Desc)'!F115,[1]!MASTER_COUNTY_NAME[#Data],0),0))","v":""},{"$f":"IF('WWVDS (Desc)'!G115=\"\",\"\",'WWVDS (Desc)'!G115)","v":""},{"$f":"IF('WWVDS (Desc)'!H115=\"\",\"\",'WWVDS (Desc)'!H115)","v":""},{"$f":"IF('WWVDS (Desc)'!I115=\"\",\"\",INDEX([1]WWVDS_TYPE!$A$2:$A$4,MATCH('WWVDS (Desc)'!$I115,[1]!MASTER_WWVDS_TYPE_DESC[#Data],0),0))","v":""},{"$f":"IF('WWVDS (Desc)'!$J115=\"\",\"\",INDEX([1]ITS_DEV_MANUF_MODEL!$A$2:$E$1500,MATCH(1,([1]ITS_DEV_MANUF_MODEL!$E$2:$E$1500=\"WWD\")*([1]ITS_DEV_MANUF_MODEL!$D$2:$D$1500='WWVDS (Desc)'!$J115),0),1))","v":""},{"$f":"IF('WWVDS (Desc)'!$J115=\"\",\"\",INDEX([1]ITS_DEV_MANUF_MODEL!$A$2:$E$1500,MATCH(1,([1]ITS_DEV_MANUF_MODEL!$E$2:$E$1500=\"WWD\")*([1]ITS_DEV_MANUF_MODEL!$D$2:$D$1500='WWVDS (Desc)'!$J115),0),2))","v":""},{"$f":"IF('WWVDS (Desc)'!L115=\"\",\"\",'WWVDS (Desc)'!L115)","v":""},{"$f":"IF('WWVDS (Desc)'!M115=\"\",\"\",'WWVDS (Desc)'!M115)","v":""},{"$f":"IF('WWVDS (Desc)'!N115=\"\",\"\",'WWVDS (Desc)'!N115)","v":""},{"$f":"IF('WWVDS (Desc)'!O115=\"\",\"\",'WWVDS (Desc)'!O115)","v":""},{"$f":"IF('WWVDS (Desc)'!P115=\"\",\"\",'WWVDS (Desc)'!P115)","v":""}]
[{"$f":"IF('WWVDS (Desc)'!A116=\"\",\"\",'WWVDS (Desc)'!A116)","v":""},{"$f":"IF('WWVDS (Desc)'!B116=\"\",\"\",'WWVDS (Desc)'!B116)","v":""},{"$f":"IF('WWVDS (Desc)'!C116=\"\",\"\",'WWVDS (Desc)'!C116)","v":""},{"$f":"IF('WWVDS (Desc)'!D116=\"\",\"\",'WWVDS (Desc)'!D116)","v":""},{"$f":"IF('WWVDS (Desc)'!E116=\"\",\"\",INDEX([1]OWNER!$A$2:$A$100,MATCH('WWVDS (Desc)'!$E116,[1]!MASTER_OWNER_DESC[#Data],0),0))","v":""},{"$f":"IF('WWVDS (Desc)'!F116=\"\",\"\",INDEX([1]COUNTY!$A$2:$A$80,MATCH('WWVDS (Desc)'!F116,[1]!MASTER_COUNTY_NAME[#Data],0),0))","v":""},{"$f":"IF('WWVDS (Desc)'!G116=\"\",\"\",'WWVDS (Desc)'!G116)","v":""},{"$f":"IF('WWVDS (Desc)'!H116=\"\",\"\",'WWVDS (Desc)'!H116)","v":""},{"$f":"IF('WWVDS (Desc)'!I116=\"\",\"\",INDEX([1]WWVDS_TYPE!$A$2:$A$4,MATCH('WWVDS (Desc)'!$I116,[1]!MASTER_WWVDS_TYPE_DESC[#Data],0),0))","v":""},{"$f":"IF('WWVDS (Desc)'!$J116=\"\",\"\",INDEX([1]ITS_DEV_MANUF_MODEL!$A$2:$E$1500,MATCH(1,([1]ITS_DEV_MANUF_MODEL!$E$2:$E$1500=\"WWD\")*([1]ITS_DEV_MANUF_MODEL!$D$2:$D$1500='WWVDS (Desc)'!$J116),0),1))","v":""},{"$f":"IF('WWVDS (Desc)'!$J116=\"\",\"\",INDEX([1]ITS_DEV_MANUF_MODEL!$A$2:$E$1500,MATCH(1,([1]ITS_DEV_MANUF_MODEL!$E$2:$E$1500=\"WWD\")*([1]ITS_DEV_MANUF_MODEL!$D$2:$D$1500='WWVDS (Desc)'!$J116),0),2))","v":""},{"$f":"IF('WWVDS (Desc)'!L116=\"\",\"\",'WWVDS (Desc)'!L116)","v":""},{"$f":"IF('WWVDS (Desc)'!M116=\"\",\"\",'WWVDS (Desc)'!M116)","v":""},{"$f":"IF('WWVDS (Desc)'!N116=\"\",\"\",'WWVDS (Desc)'!N116)","v":""},{"$f":"IF('WWVDS (Desc)'!O116=\"\",\"\",'WWVDS (Desc)'!O116)","v":""},{"$f":"IF('WWVDS (Desc)'!P116=\"\",\"\",'WWVDS (Desc)'!P116)","v":""}]
[{"$f":"IF('WWVDS (Desc)'!A117=\"\",\"\",'WWVDS (Desc)'!A117)","v":""},{"$f":"IF('WWVDS (Desc)'!B117=\"\",\"\",'WWVDS (Desc)'!B117)","v":""},{"$f":"IF('WWVDS (Desc)'!C117=\"\",\"\",'WWVDS (Desc)'!C117)","v":""},{"$f":"IF('WWVDS (Desc)'!D117=\"\",\"\",'WWVDS (Desc)'!D117)","v":""},{"$f":"IF('WWVDS (Desc)'!E117=\"\",\"\",INDEX([1]OWNER!$A$2:$A$100,MATCH('WWVDS (Desc)'!$E117,[1]!MASTER_OWNER_DESC[#Data],0),0))","v":""},{"$f":"IF('WWVDS (Desc)'!F117=\"\",\"\",INDEX([1]COUNTY!$A$2:$A$80,MATCH('WWVDS (Desc)'!F117,[1]!MASTER_COUNTY_NAME[#Data],0),0))","v":""},{"$f":"IF('WWVDS (Desc)'!G117=\"\",\"\",'WWVDS (Desc)'!G117)","v":""},{"$f":"IF('WWVDS (Desc)'!H117=\"\",\"\",'WWVDS (Desc)'!H117)","v":""},{"$f":"IF('WWVDS (Desc)'!I117=\"\",\"\",INDEX([1]WWVDS_TYPE!$A$2:$A$4,MATCH('WWVDS (Desc)'!$I117,[1]!MASTER_WWVDS_TYPE_DESC[#Data],0),0))","v":""},{"$f":"IF('WWVDS (Desc)'!$J117=\"\",\"\",INDEX([1]ITS_DEV_MANUF_MODEL!$A$2:$E$1500,MATCH(1,([1]ITS_DEV_MANUF_MODEL!$E$2:$E$1500=\"WWD\")*([1]ITS_DEV_MANUF_MODEL!$D$2:$D$1500='WWVDS (Desc)'!$J117),0),1))","v":""},{"$f":"IF('WWVDS (Desc)'!$J117=\"\",\"\",INDEX([1]ITS_DEV_MANUF_MODEL!$A$2:$E$1500,MATCH(1,([1]ITS_DEV_MANUF_MODEL!$E$2:$E$1500=\"WWD\")*([1]ITS_DEV_MANUF_MODEL!$D$2:$D$1500='WWVDS (Desc)'!$J117),0),2))","v":""},{"$f":"IF('WWVDS (Desc)'!L117=\"\",\"\",'WWVDS (Desc)'!L117)","v":""},{"$f":"IF('WWVDS (Desc)'!M117=\"\",\"\",'WWVDS (Desc)'!M117)","v":""},{"$f":"IF('WWVDS (Desc)'!N117=\"\",\"\",'WWVDS (Desc)'!N117)","v":""},{"$f":"IF('WWVDS (Desc)'!O117=\"\",\"\",'WWVDS (Desc)'!O117)","v":""},{"$f":"IF('WWVDS (Desc)'!P117=\"\",\"\",'WWVDS (Desc)'!P117)","v":""}]
[{"$f":"IF('WWVDS (Desc)'!A118=\"\",\"\",'WWVDS (Desc)'!A118)","v":""},{"$f":"IF('WWVDS (Desc)'!B118=\"\",\"\",'WWVDS (Desc)'!B118)","v":""},{"$f":"IF('WWVDS (Desc)'!C118=\"\",\"\",'WWVDS (Desc)'!C118)","v":""},{"$f":"IF('WWVDS (Desc)'!D118=\"\",\"\",'WWVDS (Desc)'!D118)","v":""},{"$f":"IF('WWVDS (Desc)'!E118=\"\",\"\",INDEX([1]OWNER!$A$2:$A$100,MATCH('WWVDS (Desc)'!$E118,[1]!MASTER_OWNER_DESC[#Data],0),0))","v":""},{"$f":"IF('WWVDS (Desc)'!F118=\"\",\"\",INDEX([1]COUNTY!$A$2:$A$80,MATCH('WWVDS (Desc)'!F118,[1]!MASTER_COUNTY_NAME[#Data],0),0))","v":""},{"$f":"IF('WWVDS (Desc)'!G118=\"\",\"\",'WWVDS (Desc)'!G118)","v":""},{"$f":"IF('WWVDS (Desc)'!H118=\"\",\"\",'WWVDS (Desc)'!H118)","v":""},{"$f":"IF('WWVDS (Desc)'!I118=\"\",\"\",INDEX([1]WWVDS_TYPE!$A$2:$A$4,MATCH('WWVDS (Desc)'!$I118,[1]!MASTER_WWVDS_TYPE_DESC[#Data],0),0))","v":""},{"$f":"IF('WWVDS (Desc)'!$J118=\"\",\"\",INDEX([1]ITS_DEV_MANUF_MODEL!$A$2:$E$1500,MATCH(1,([1]ITS_DEV_MANUF_MODEL!$E$2:$E$1500=\"WWD\")*([1]ITS_DEV_MANUF_MODEL!$D$2:$D$1500='WWVDS (Desc)'!$J118),0),1))","v":""},{"$f":"IF('WWVDS (Desc)'!$J118=\"\",\"\",INDEX([1]ITS_DEV_MANUF_MODEL!$A$2:$E$1500,MATCH(1,([1]ITS_DEV_MANUF_MODEL!$E$2:$E$1500=\"WWD\")*([1]ITS_DEV_MANUF_MODEL!$D$2:$D$1500='WWVDS (Desc)'!$J118),0),2))","v":""},{"$f":"IF('WWVDS (Desc)'!L118=\"\",\"\",'WWVDS (Desc)'!L118)","v":""},{"$f":"IF('WWVDS (Desc)'!M118=\"\",\"\",'WWVDS (Desc)'!M118)","v":""},{"$f":"IF('WWVDS (Desc)'!N118=\"\",\"\",'WWVDS (Desc)'!N118)","v":""},{"$f":"IF('WWVDS (Desc)'!O118=\"\",\"\",'WWVDS (Desc)'!O118)","v":""},{"$f":"IF('WWVDS (Desc)'!P118=\"\",\"\",'WWVDS (Desc)'!P118)","v":""}]
[{"$f":"IF('WWVDS (Desc)'!A119=\"\",\"\",'WWVDS (Desc)'!A119)","v":""},{"$f":"IF('WWVDS (Desc)'!B119=\"\",\"\",'WWVDS (Desc)'!B119)","v":""},{"$f":"IF('WWVDS (Desc)'!C119=\"\",\"\",'WWVDS (Desc)'!C119)","v":""},{"$f":"IF('WWVDS (Desc)'!D119=\"\",\"\",'WWVDS (Desc)'!D119)","v":""},{"$f":"IF('WWVDS (Desc)'!E119=\"\",\"\",INDEX([1]OWNER!$A$2:$A$100,MATCH('WWVDS (Desc)'!$E119,[1]!MASTER_OWNER_DESC[#Data],0),0))","v":""},{"$f":"IF('WWVDS (Desc)'!F119=\"\",\"\",INDEX([1]COUNTY!$A$2:$A$80,MATCH('WWVDS (Desc)'!F119,[1]!MASTER_COUNTY_NAME[#Data],0),0))","v":""},{"$f":"IF('WWVDS (Desc)'!G119=\"\",\"\",'WWVDS (Desc)'!G119)","v":""},{"$f":"IF('WWVDS (Desc)'!H119=\"\",\"\",'WWVDS (Desc)'!H119)","v":""},{"$f":"IF('WWVDS (Desc)'!I119=\"\",\"\",INDEX([1]WWVDS_TYPE!$A$2:$A$4,MATCH('WWVDS (Desc)'!$I119,[1]!MASTER_WWVDS_TYPE_DESC[#Data],0),0))","v":""},{"$f":"IF('WWVDS (Desc)'!$J119=\"\",\"\",INDEX([1]ITS_DEV_MANUF_MODEL!$A$2:$E$1500,MATCH(1,([1]ITS_DEV_MANUF_MODEL!$E$2:$E$1500=\"WWD\")*([1]ITS_DEV_MANUF_MODEL!$D$2:$D$1500='WWVDS (Desc)'!$J119),0),1))","v":""},{"$f":"IF('WWVDS (Desc)'!$J119=\"\",\"\",INDEX([1]ITS_DEV_MANUF_MODEL!$A$2:$E$1500,MATCH(1,([1]ITS_DEV_MANUF_MODEL!$E$2:$E$1500=\"WWD\")*([1]ITS_DEV_MANUF_MODEL!$D$2:$D$1500='WWVDS (Desc)'!$J119),0),2))","v":""},{"$f":"IF('WWVDS (Desc)'!L119=\"\",\"\",'WWVDS (Desc)'!L119)","v":""},{"$f":"IF('WWVDS (Desc)'!M119=\"\",\"\",'WWVDS (Desc)'!M119)","v":""},{"$f":"IF('WWVDS (Desc)'!N119=\"\",\"\",'WWVDS (Desc)'!N119)","v":""},{"$f":"IF('WWVDS (Desc)'!O119=\"\",\"\",'WWVDS (Desc)'!O119)","v":""},{"$f":"IF('WWVDS (Desc)'!P119=\"\",\"\",'WWVDS (Desc)'!P119)","v":""}]
[{"$f":"IF('WWVDS (Desc)'!A120=\"\",\"\",'WWVDS (Desc)'!A120)","v":""},{"$f":"IF('WWVDS (Desc)'!B120=\"\",\"\",'WWVDS (Desc)'!B120)","v":""},{"$f":"IF('WWVDS (Desc)'!C120=\"\",\"\",'WWVDS (Desc)'!C120)","v":""},{"$f":"IF('WWVDS (Desc)'!D120=\"\",\"\",'WWVDS (Desc)'!D120)","v":""},{"$f":"IF('WWVDS (Desc)'!E120=\"\",\"\",INDEX([1]OWNER!$A$2:$A$100,MATCH('WWVDS (Desc)'!$E120,[1]!MASTER_OWNER_DESC[#Data],0),0))","v":""},{"$f":"IF('WWVDS (Desc)'!F120=\"\",\"\",INDEX([1]COUNTY!$A$2:$A$80,MATCH('WWVDS (Desc)'!F120,[1]!MASTER_COUNTY_NAME[#Data],0),0))","v":""},{"$f":"IF('WWVDS (Desc)'!G120=\"\",\"\",'WWVDS (Desc)'!G120)","v":""},{"$f":"IF('WWVDS (Desc)'!H120=\"\",\"\",'WWVDS (Desc)'!H120)","v":""},{"$f":"IF('WWVDS (Desc)'!I120=\"\",\"\",INDEX([1]WWVDS_TYPE!$A$2:$A$4,MATCH('WWVDS (Desc)'!$I120,[1]!MASTER_WWVDS_TYPE_DESC[#Data],0),0))","v":""},{"$f":"IF('WWVDS (Desc)'!$J120=\"\",\"\",INDEX([1]ITS_DEV_MANUF_MODEL!$A$2:$E$1500,MATCH(1,([1]ITS_DEV_MANUF_MODEL!$E$2:$E$1500=\"WWD\")*([1]ITS_DEV_MANUF_MODEL!$D$2:$D$1500='WWVDS (Desc)'!$J120),0),1))","v":""},{"$f":"IF('WWVDS (Desc)'!$J120=\"\",\"\",INDEX([1]ITS_DEV_MANUF_MODEL!$A$2:$E$1500,MATCH(1,([1]ITS_DEV_MANUF_MODEL!$E$2:$E$1500=\"WWD\")*([1]ITS_DEV_MANUF_MODEL!$D$2:$D$1500='WWVDS (Desc)'!$J120),0),2))","v":""},{"$f":"IF('WWVDS (Desc)'!L120=\"\",\"\",'WWVDS (Desc)'!L120)","v":""},{"$f":"IF('WWVDS (Desc)'!M120=\"\",\"\",'WWVDS (Desc)'!M120)","v":""},{"$f":"IF('WWVDS (Desc)'!N120=\"\",\"\",'WWVDS (Desc)'!N120)","v":""},{"$f":"IF('WWVDS (Desc)'!O120=\"\",\"\",'WWVDS (Desc)'!O120)","v":""},{"$f":"IF('WWVDS (Desc)'!P120=\"\",\"\",'WWVDS (Desc)'!P120)","v":""}]
[{"$f":"IF('WWVDS (Desc)'!A121=\"\",\"\",'WWVDS (Desc)'!A121)","v":""},{"$f":"IF('WWVDS (Desc)'!B121=\"\",\"\",'WWVDS (Desc)'!B121)","v":""},{"$f":"IF('WWVDS (Desc)'!C121=\"\",\"\",'WWVDS (Desc)'!C121)","v":""},{"$f":"IF('WWVDS (Desc)'!D121=\"\",\"\",'WWVDS (Desc)'!D121)","v":""},{"$f":"IF('WWVDS (Desc)'!E121=\"\",\"\",INDEX([1]OWNER!$A$2:$A$100,MATCH('WWVDS (Desc)'!$E121,[1]!MASTER_OWNER_DESC[#Data],0),0))","v":""},{"$f":"IF('WWVDS (Desc)'!F121=\"\",\"\",INDEX([1]COUNTY!$A$2:$A$80,MATCH('WWVDS (Desc)'!F121,[1]!MASTER_COUNTY_NAME[#Data],0),0))","v":""},{"$f":"IF('WWVDS (Desc)'!G121=\"\",\"\",'WWVDS (Desc)'!G121)","v":""},{"$f":"IF('WWVDS (Desc)'!H121=\"\",\"\",'WWVDS (Desc)'!H121)","v":""},{"$f":"IF('WWVDS (Desc)'!I121=\"\",\"\",INDEX([1]WWVDS_TYPE!$A$2:$A$4,MATCH('WWVDS (Desc)'!$I121,[1]!MASTER_WWVDS_TYPE_DESC[#Data],0),0))","v":""},{"$f":"IF('WWVDS (Desc)'!$J121=\"\",\"\",INDEX([1]ITS_DEV_MANUF_MODEL!$A$2:$E$1500,MATCH(1,([1]ITS_DEV_MANUF_MODEL!$E$2:$E$1500=\"WWD\")*([1]ITS_DEV_MANUF_MODEL!$D$2:$D$1500='WWVDS (Desc)'!$J121),0),1))","v":""},{"$f":"IF('WWVDS (Desc)'!$J121=\"\",\"\",INDEX([1]ITS_DEV_MANUF_MODEL!$A$2:$E$1500,MATCH(1,([1]ITS_DEV_MANUF_MODEL!$E$2:$E$1500=\"WWD\")*([1]ITS_DEV_MANUF_MODEL!$D$2:$D$1500='WWVDS (Desc)'!$J121),0),2))","v":""},{"$f":"IF('WWVDS (Desc)'!L121=\"\",\"\",'WWVDS (Desc)'!L121)","v":""},{"$f":"IF('WWVDS (Desc)'!M121=\"\",\"\",'WWVDS (Desc)'!M121)","v":""},{"$f":"IF('WWVDS (Desc)'!N121=\"\",\"\",'WWVDS (Desc)'!N121)","v":""},{"$f":"IF('WWVDS (Desc)'!O121=\"\",\"\",'WWVDS (Desc)'!O121)","v":""},{"$f":"IF('WWVDS (Desc)'!P121=\"\",\"\",'WWVDS (Desc)'!P121)","v":""}]
[{"$f":"IF('WWVDS (Desc)'!A122=\"\",\"\",'WWVDS (Desc)'!A122)","v":""},{"$f":"IF('WWVDS (Desc)'!B122=\"\",\"\",'WWVDS (Desc)'!B122)","v":""},{"$f":"IF('WWVDS (Desc)'!C122=\"\",\"\",'WWVDS (Desc)'!C122)","v":""},{"$f":"IF('WWVDS (Desc)'!D122=\"\",\"\",'WWVDS (Desc)'!D122)","v":""},{"$f":"IF('WWVDS (Desc)'!E122=\"\",\"\",INDEX([1]OWNER!$A$2:$A$100,MATCH('WWVDS (Desc)'!$E122,[1]!MASTER_OWNER_DESC[#Data],0),0))","v":""},{"$f":"IF('WWVDS (Desc)'!F122=\"\",\"\",INDEX([1]COUNTY!$A$2:$A$80,MATCH('WWVDS (Desc)'!F122,[1]!MASTER_COUNTY_NAME[#Data],0),0))","v":""},{"$f":"IF('WWVDS (Desc)'!G122=\"\",\"\",'WWVDS (Desc)'!G122)","v":""},{"$f":"IF('WWVDS (Desc)'!H122=\"\",\"\",'WWVDS (Desc)'!H122)","v":""},{"$f":"IF('WWVDS (Desc)'!I122=\"\",\"\",INDEX([1]WWVDS_TYPE!$A$2:$A$4,MATCH('WWVDS (Desc)'!$I122,[1]!MASTER_WWVDS_TYPE_DESC[#Data],0),0))","v":""},{"$f":"IF('WWVDS (Desc)'!$J122=\"\",\"\",INDEX([1]ITS_DEV_MANUF_MODEL!$A$2:$E$1500,MATCH(1,([1]ITS_DEV_MANUF_MODEL!$E$2:$E$1500=\"WWD\")*([1]ITS_DEV_MANUF_MODEL!$D$2:$D$1500='WWVDS (Desc)'!$J122),0),1))","v":""},{"$f":"IF('WWVDS (Desc)'!$J122=\"\",\"\",INDEX([1]ITS_DEV_MANUF_MODEL!$A$2:$E$1500,MATCH(1,([1]ITS_DEV_MANUF_MODEL!$E$2:$E$1500=\"WWD\")*([1]ITS_DEV_MANUF_MODEL!$D$2:$D$1500='WWVDS (Desc)'!$J122),0),2))","v":""},{"$f":"IF('WWVDS (Desc)'!L122=\"\",\"\",'WWVDS (Desc)'!L122)","v":""},{"$f":"IF('WWVDS (Desc)'!M122=\"\",\"\",'WWVDS (Desc)'!M122)","v":""},{"$f":"IF('WWVDS (Desc)'!N122=\"\",\"\",'WWVDS (Desc)'!N122)","v":""},{"$f":"IF('WWVDS (Desc)'!O122=\"\",\"\",'WWVDS (Desc)'!O122)","v":""},{"$f":"IF('WWVDS (Desc)'!P122=\"\",\"\",'WWVDS (Desc)'!P122)","v":""}]
[{"$f":"IF('WWVDS (Desc)'!A123=\"\",\"\",'WWVDS (Desc)'!A123)","v":""},{"$f":"IF('WWVDS (Desc)'!B123=\"\",\"\",'WWVDS (Desc)'!B123)","v":""},{"$f":"IF('WWVDS (Desc)'!C123=\"\",\"\",'WWVDS (Desc)'!C123)","v":""},{"$f":"IF('WWVDS (Desc)'!D123=\"\",\"\",'WWVDS (Desc)'!D123)","v":""},{"$f":"IF('WWVDS (Desc)'!E123=\"\",\"\",INDEX([1]OWNER!$A$2:$A$100,MATCH('WWVDS (Desc)'!$E123,[1]!MASTER_OWNER_DESC[#Data],0),0))","v":""},{"$f":"IF('WWVDS (Desc)'!F123=\"\",\"\",INDEX([1]COUNTY!$A$2:$A$80,MATCH('WWVDS (Desc)'!F123,[1]!MASTER_COUNTY_NAME[#Data],0),0))","v":""},{"$f":"IF('WWVDS (Desc)'!G123=\"\",\"\",'WWVDS (Desc)'!G123)","v":""},{"$f":"IF('WWVDS (Desc)'!H123=\"\",\"\",'WWVDS (Desc)'!H123)","v":""},{"$f":"IF('WWVDS (Desc)'!I123=\"\",\"\",INDEX([1]WWVDS_TYPE!$A$2:$A$4,MATCH('WWVDS (Desc)'!$I123,[1]!MASTER_WWVDS_TYPE_DESC[#Data],0),0))","v":""},{"$f":"IF('WWVDS (Desc)'!$J123=\"\",\"\",INDEX([1]ITS_DEV_MANUF_MODEL!$A$2:$E$1500,MATCH(1,([1]ITS_DEV_MANUF_MODEL!$E$2:$E$1500=\"WWD\")*([1]ITS_DEV_MANUF_MODEL!$D$2:$D$1500='WWVDS (Desc)'!$J123),0),1))","v":""},{"$f":"IF('WWVDS (Desc)'!$J123=\"\",\"\",INDEX([1]ITS_DEV_MANUF_MODEL!$A$2:$E$1500,MATCH(1,([1]ITS_DEV_MANUF_MODEL!$E$2:$E$1500=\"WWD\")*([1]ITS_DEV_MANUF_MODEL!$D$2:$D$1500='WWVDS (Desc)'!$J123),0),2))","v":""},{"$f":"IF('WWVDS (Desc)'!L123=\"\",\"\",'WWVDS (Desc)'!L123)","v":""},{"$f":"IF('WWVDS (Desc)'!M123=\"\",\"\",'WWVDS (Desc)'!M123)","v":""},{"$f":"IF('WWVDS (Desc)'!N123=\"\",\"\",'WWVDS (Desc)'!N123)","v":""},{"$f":"IF('WWVDS (Desc)'!O123=\"\",\"\",'WWVDS (Desc)'!O123)","v":""},{"$f":"IF('WWVDS (Desc)'!P123=\"\",\"\",'WWVDS (Desc)'!P123)","v":""}]
[{"$f":"IF('WWVDS (Desc)'!A124=\"\",\"\",'WWVDS (Desc)'!A124)","v":""},{"$f":"IF('WWVDS (Desc)'!B124=\"\",\"\",'WWVDS (Desc)'!B124)","v":""},{"$f":"IF('WWVDS (Desc)'!C124=\"\",\"\",'WWVDS (Desc)'!C124)","v":""},{"$f":"IF('WWVDS (Desc)'!D124=\"\",\"\",'WWVDS (Desc)'!D124)","v":""},{"$f":"IF('WWVDS (Desc)'!E124=\"\",\"\",INDEX([1]OWNER!$A$2:$A$100,MATCH('WWVDS (Desc)'!$E124,[1]!MASTER_OWNER_DESC[#Data],0),0))","v":""},{"$f":"IF('WWVDS (Desc)'!F124=\"\",\"\",INDEX([1]COUNTY!$A$2:$A$80,MATCH('WWVDS (Desc)'!F124,[1]!MASTER_COUNTY_NAME[#Data],0),0))","v":""},{"$f":"IF('WWVDS (Desc)'!G124=\"\",\"\",'WWVDS (Desc)'!G124)","v":""},{"$f":"IF('WWVDS (Desc)'!H124=\"\",\"\",'WWVDS (Desc)'!H124)","v":""},{"$f":"IF('WWVDS (Desc)'!I124=\"\",\"\",INDEX([1]WWVDS_TYPE!$A$2:$A$4,MATCH('WWVDS (Desc)'!$I124,[1]!MASTER_WWVDS_TYPE_DESC[#Data],0),0))","v":""},{"$f":"IF('WWVDS (Desc)'!$J124=\"\",\"\",INDEX([1]ITS_DEV_MANUF_MODEL!$A$2:$E$1500,MATCH(1,([1]ITS_DEV_MANUF_MODEL!$E$2:$E$1500=\"WWD\")*([1]ITS_DEV_MANUF_MODEL!$D$2:$D$1500='WWVDS (Desc)'!$J124),0),1))","v":""},{"$f":"IF('WWVDS (Desc)'!$J124=\"\",\"\",INDEX([1]ITS_DEV_MANUF_MODEL!$A$2:$E$1500,MATCH(1,([1]ITS_DEV_MANUF_MODEL!$E$2:$E$1500=\"WWD\")*([1]ITS_DEV_MANUF_MODEL!$D$2:$D$1500='WWVDS (Desc)'!$J124),0),2))","v":""},{"$f":"IF('WWVDS (Desc)'!L124=\"\",\"\",'WWVDS (Desc)'!L124)","v":""},{"$f":"IF('WWVDS (Desc)'!M124=\"\",\"\",'WWVDS (Desc)'!M124)","v":""},{"$f":"IF('WWVDS (Desc)'!N124=\"\",\"\",'WWVDS (Desc)'!N124)","v":""},{"$f":"IF('WWVDS (Desc)'!O124=\"\",\"\",'WWVDS (Desc)'!O124)","v":""},{"$f":"IF('WWVDS (Desc)'!P124=\"\",\"\",'WWVDS (Desc)'!P124)","v":""}]
[{"$f":"IF('WWVDS (Desc)'!A125=\"\",\"\",'WWVDS (Desc)'!A125)","v":""},{"$f":"IF('WWVDS (Desc)'!B125=\"\",\"\",'WWVDS (Desc)'!B125)","v":""},{"$f":"IF('WWVDS (Desc)'!C125=\"\",\"\",'WWVDS (Desc)'!C125)","v":""},{"$f":"IF('WWVDS (Desc)'!D125=\"\",\"\",'WWVDS (Desc)'!D125)","v":""},{"$f":"IF('WWVDS (Desc)'!E125=\"\",\"\",INDEX([1]OWNER!$A$2:$A$100,MATCH('WWVDS (Desc)'!$E125,[1]!MASTER_OWNER_DESC[#Data],0),0))","v":""},{"$f":"IF('WWVDS (Desc)'!F125=\"\",\"\",INDEX([1]COUNTY!$A$2:$A$80,MATCH('WWVDS (Desc)'!F125,[1]!MASTER_COUNTY_NAME[#Data],0),0))","v":""},{"$f":"IF('WWVDS (Desc)'!G125=\"\",\"\",'WWVDS (Desc)'!G125)","v":""},{"$f":"IF('WWVDS (Desc)'!H125=\"\",\"\",'WWVDS (Desc)'!H125)","v":""},{"$f":"IF('WWVDS (Desc)'!I125=\"\",\"\",INDEX([1]WWVDS_TYPE!$A$2:$A$4,MATCH('WWVDS (Desc)'!$I125,[1]!MASTER_WWVDS_TYPE_DESC[#Data],0),0))","v":""},{"$f":"IF('WWVDS (Desc)'!$J125=\"\",\"\",INDEX([1]ITS_DEV_MANUF_MODEL!$A$2:$E$1500,MATCH(1,([1]ITS_DEV_MANUF_MODEL!$E$2:$E$1500=\"WWD\")*([1]ITS_DEV_MANUF_MODEL!$D$2:$D$1500='WWVDS (Desc)'!$J125),0),1))","v":""},{"$f":"IF('WWVDS (Desc)'!$J125=\"\",\"\",INDEX([1]ITS_DEV_MANUF_MODEL!$A$2:$E$1500,MATCH(1,([1]ITS_DEV_MANUF_MODEL!$E$2:$E$1500=\"WWD\")*([1]ITS_DEV_MANUF_MODEL!$D$2:$D$1500='WWVDS (Desc)'!$J125),0),2))","v":""},{"$f":"IF('WWVDS (Desc)'!L125=\"\",\"\",'WWVDS (Desc)'!L125)","v":""},{"$f":"IF('WWVDS (Desc)'!M125=\"\",\"\",'WWVDS (Desc)'!M125)","v":""},{"$f":"IF('WWVDS (Desc)'!N125=\"\",\"\",'WWVDS (Desc)'!N125)","v":""},{"$f":"IF('WWVDS (Desc)'!O125=\"\",\"\",'WWVDS (Desc)'!O125)","v":""},{"$f":"IF('WWVDS (Desc)'!P125=\"\",\"\",'WWVDS (Desc)'!P125)","v":""}]
[{"$f":"IF('WWVDS (Desc)'!A126=\"\",\"\",'WWVDS (Desc)'!A126)","v":""},{"$f":"IF('WWVDS (Desc)'!B126=\"\",\"\",'WWVDS (Desc)'!B126)","v":""},{"$f":"IF('WWVDS (Desc)'!C126=\"\",\"\",'WWVDS (Desc)'!C126)","v":""},{"$f":"IF('WWVDS (Desc)'!D126=\"\",\"\",'WWVDS (Desc)'!D126)","v":""},{"$f":"IF('WWVDS (Desc)'!E126=\"\",\"\",INDEX([1]OWNER!$A$2:$A$100,MATCH('WWVDS (Desc)'!$E126,[1]!MASTER_OWNER_DESC[#Data],0),0))","v":""},{"$f":"IF('WWVDS (Desc)'!F126=\"\",\"\",INDEX([1]COUNTY!$A$2:$A$80,MATCH('WWVDS (Desc)'!F126,[1]!MASTER_COUNTY_NAME[#Data],0),0))","v":""},{"$f":"IF('WWVDS (Desc)'!G126=\"\",\"\",'WWVDS (Desc)'!G126)","v":""},{"$f":"IF('WWVDS (Desc)'!H126=\"\",\"\",'WWVDS (Desc)'!H126)","v":""},{"$f":"IF('WWVDS (Desc)'!I126=\"\",\"\",INDEX([1]WWVDS_TYPE!$A$2:$A$4,MATCH('WWVDS (Desc)'!$I126,[1]!MASTER_WWVDS_TYPE_DESC[#Data],0),0))","v":""},{"$f":"IF('WWVDS (Desc)'!$J126=\"\",\"\",INDEX([1]ITS_DEV_MANUF_MODEL!$A$2:$E$1500,MATCH(1,([1]ITS_DEV_MANUF_MODEL!$E$2:$E$1500=\"WWD\")*([1]ITS_DEV_MANUF_MODEL!$D$2:$D$1500='WWVDS (Desc)'!$J126),0),1))","v":""},{"$f":"IF('WWVDS (Desc)'!$J126=\"\",\"\",INDEX([1]ITS_DEV_MANUF_MODEL!$A$2:$E$1500,MATCH(1,([1]ITS_DEV_MANUF_MODEL!$E$2:$E$1500=\"WWD\")*([1]ITS_DEV_MANUF_MODEL!$D$2:$D$1500='WWVDS (Desc)'!$J126),0),2))","v":""},{"$f":"IF('WWVDS (Desc)'!L126=\"\",\"\",'WWVDS (Desc)'!L126)","v":""},{"$f":"IF('WWVDS (Desc)'!M126=\"\",\"\",'WWVDS (Desc)'!M126)","v":""},{"$f":"IF('WWVDS (Desc)'!N126=\"\",\"\",'WWVDS (Desc)'!N126)","v":""},{"$f":"IF('WWVDS (Desc)'!O126=\"\",\"\",'WWVDS (Desc)'!O126)","v":""},{"$f":"IF('WWVDS (Desc)'!P126=\"\",\"\",'WWVDS (Desc)'!P126)","v":""}]
[{"$f":"IF('WWVDS (Desc)'!A127=\"\",\"\",'WWVDS (Desc)'!A127)","v":""},{"$f":"IF('WWVDS (Desc)'!B127=\"\",\"\",'WWVDS (Desc)'!B127)","v":""},{"$f":"IF('WWVDS (Desc)'!C127=\"\",\"\",'WWVDS (Desc)'!C127)","v":""},{"$f":"IF('WWVDS (Desc)'!D127=\"\",\"\",'WWVDS (Desc)'!D127)","v":""},{"$f":"IF('WWVDS (Desc)'!E127=\"\",\"\",INDEX([1]OWNER!$A$2:$A$100,MATCH('WWVDS (Desc)'!$E127,[1]!MASTER_OWNER_DESC[#Data],0),0))","v":""},{"$f":"IF('WWVDS (Desc)'!F127=\"\",\"\",INDEX([1]COUNTY!$A$2:$A$80,MATCH('WWVDS (Desc)'!F127,[1]!MASTER_COUNTY_NAME[#Data],0),0))","v":""},{"$f":"IF('WWVDS (Desc)'!G127=\"\",\"\",'WWVDS (Desc)'!G127)","v":""},{"$f":"IF('WWVDS (Desc)'!H127=\"\",\"\",'WWVDS (Desc)'!H127)","v":""},{"$f":"IF('WWVDS (Desc)'!I127=\"\",\"\",INDEX([1]WWVDS_TYPE!$A$2:$A$4,MATCH('WWVDS (Desc)'!$I127,[1]!MASTER_WWVDS_TYPE_DESC[#Data],0),0))","v":""},{"$f":"IF('WWVDS (Desc)'!$J127=\"\",\"\",INDEX([1]ITS_DEV_MANUF_MODEL!$A$2:$E$1500,MATCH(1,([1]ITS_DEV_MANUF_MODEL!$E$2:$E$1500=\"WWD\")*([1]ITS_DEV_MANUF_MODEL!$D$2:$D$1500='WWVDS (Desc)'!$J127),0),1))","v":""},{"$f":"IF('WWVDS (Desc)'!$J127=\"\",\"\",INDEX([1]ITS_DEV_MANUF_MODEL!$A$2:$E$1500,MATCH(1,([1]ITS_DEV_MANUF_MODEL!$E$2:$E$1500=\"WWD\")*([1]ITS_DEV_MANUF_MODEL!$D$2:$D$1500='WWVDS (Desc)'!$J127),0),2))","v":""},{"$f":"IF('WWVDS (Desc)'!L127=\"\",\"\",'WWVDS (Desc)'!L127)","v":""},{"$f":"IF('WWVDS (Desc)'!M127=\"\",\"\",'WWVDS (Desc)'!M127)","v":""},{"$f":"IF('WWVDS (Desc)'!N127=\"\",\"\",'WWVDS (Desc)'!N127)","v":""},{"$f":"IF('WWVDS (Desc)'!O127=\"\",\"\",'WWVDS (Desc)'!O127)","v":""},{"$f":"IF('WWVDS (Desc)'!P127=\"\",\"\",'WWVDS (Desc)'!P127)","v":""}]
[{"$f":"IF('WWVDS (Desc)'!A128=\"\",\"\",'WWVDS (Desc)'!A128)","v":""},{"$f":"IF('WWVDS (Desc)'!B128=\"\",\"\",'WWVDS (Desc)'!B128)","v":""},{"$f":"IF('WWVDS (Desc)'!C128=\"\",\"\",'WWVDS (Desc)'!C128)","v":""},{"$f":"IF('WWVDS (Desc)'!D128=\"\",\"\",'WWVDS (Desc)'!D128)","v":""},{"$f":"IF('WWVDS (Desc)'!E128=\"\",\"\",INDEX([1]OWNER!$A$2:$A$100,MATCH('WWVDS (Desc)'!$E128,[1]!MASTER_OWNER_DESC[#Data],0),0))","v":""},{"$f":"IF('WWVDS (Desc)'!F128=\"\",\"\",INDEX([1]COUNTY!$A$2:$A$80,MATCH('WWVDS (Desc)'!F128,[1]!MASTER_COUNTY_NAME[#Data],0),0))","v":""},{"$f":"IF('WWVDS (Desc)'!G128=\"\",\"\",'WWVDS (Desc)'!G128)","v":""},{"$f":"IF('WWVDS (Desc)'!H128=\"\",\"\",'WWVDS (Desc)'!H128)","v":""},{"$f":"IF('WWVDS (Desc)'!I128=\"\",\"\",INDEX([1]WWVDS_TYPE!$A$2:$A$4,MATCH('WWVDS (Desc)'!$I128,[1]!MASTER_WWVDS_TYPE_DESC[#Data],0),0))","v":""},{"$f":"IF('WWVDS (Desc)'!$J128=\"\",\"\",INDEX([1]ITS_DEV_MANUF_MODEL!$A$2:$E$1500,MATCH(1,([1]ITS_DEV_MANUF_MODEL!$E$2:$E$1500=\"WWD\")*([1]ITS_DEV_MANUF_MODEL!$D$2:$D$1500='WWVDS (Desc)'!$J128),0),1))","v":""},{"$f":"IF('WWVDS (Desc)'!$J128=\"\",\"\",INDEX([1]ITS_DEV_MANUF_MODEL!$A$2:$E$1500,MATCH(1,([1]ITS_DEV_MANUF_MODEL!$E$2:$E$1500=\"WWD\")*([1]ITS_DEV_MANUF_MODEL!$D$2:$D$1500='WWVDS (Desc)'!$J128),0),2))","v":""},{"$f":"IF('WWVDS (Desc)'!L128=\"\",\"\",'WWVDS (Desc)'!L128)","v":""},{"$f":"IF('WWVDS (Desc)'!M128=\"\",\"\",'WWVDS (Desc)'!M128)","v":""},{"$f":"IF('WWVDS (Desc)'!N128=\"\",\"\",'WWVDS (Desc)'!N128)","v":""},{"$f":"IF('WWVDS (Desc)'!O128=\"\",\"\",'WWVDS (Desc)'!O128)","v":""},{"$f":"IF('WWVDS (Desc)'!P128=\"\",\"\",'WWVDS (Desc)'!P128)","v":""}]
[{"$f":"IF('WWVDS (Desc)'!A129=\"\",\"\",'WWVDS (Desc)'!A129)","v":""},{"$f":"IF('WWVDS (Desc)'!B129=\"\",\"\",'WWVDS (Desc)'!B129)","v":""},{"$f":"IF('WWVDS (Desc)'!C129=\"\",\"\",'WWVDS (Desc)'!C129)","v":""},{"$f":"IF('WWVDS (Desc)'!D129=\"\",\"\",'WWVDS (Desc)'!D129)","v":""},{"$f":"IF('WWVDS (Desc)'!E129=\"\",\"\",INDEX([1]OWNER!$A$2:$A$100,MATCH('WWVDS (Desc)'!$E129,[1]!MASTER_OWNER_DESC[#Data],0),0))","v":""},{"$f":"IF('WWVDS (Desc)'!F129=\"\",\"\",INDEX([1]COUNTY!$A$2:$A$80,MATCH('WWVDS (Desc)'!F129,[1]!MASTER_COUNTY_NAME[#Data],0),0))","v":""},{"$f":"IF('WWVDS (Desc)'!G129=\"\",\"\",'WWVDS (Desc)'!G129)","v":""},{"$f":"IF('WWVDS (Desc)'!H129=\"\",\"\",'WWVDS (Desc)'!H129)","v":""},{"$f":"IF('WWVDS (Desc)'!I129=\"\",\"\",INDEX([1]WWVDS_TYPE!$A$2:$A$4,MATCH('WWVDS (Desc)'!$I129,[1]!MASTER_WWVDS_TYPE_DESC[#Data],0),0))","v":""},{"$f":"IF('WWVDS (Desc)'!$J129=\"\",\"\",INDEX([1]ITS_DEV_MANUF_MODEL!$A$2:$E$1500,MATCH(1,([1]ITS_DEV_MANUF_MODEL!$E$2:$E$1500=\"WWD\")*([1]ITS_DEV_MANUF_MODEL!$D$2:$D$1500='WWVDS (Desc)'!$J129),0),1))","v":""},{"$f":"IF('WWVDS (Desc)'!$J129=\"\",\"\",INDEX([1]ITS_DEV_MANUF_MODEL!$A$2:$E$1500,MATCH(1,([1]ITS_DEV_MANUF_MODEL!$E$2:$E$1500=\"WWD\")*([1]ITS_DEV_MANUF_MODEL!$D$2:$D$1500='WWVDS (Desc)'!$J129),0),2))","v":""},{"$f":"IF('WWVDS (Desc)'!L129=\"\",\"\",'WWVDS (Desc)'!L129)","v":""},{"$f":"IF('WWVDS (Desc)'!M129=\"\",\"\",'WWVDS (Desc)'!M129)","v":""},{"$f":"IF('WWVDS (Desc)'!N129=\"\",\"\",'WWVDS (Desc)'!N129)","v":""},{"$f":"IF('WWVDS (Desc)'!O129=\"\",\"\",'WWVDS (Desc)'!O129)","v":""},{"$f":"IF('WWVDS (Desc)'!P129=\"\",\"\",'WWVDS (Desc)'!P129)","v":""}]
[{"$f":"IF('WWVDS (Desc)'!A130=\"\",\"\",'WWVDS (Desc)'!A130)","v":""},{"$f":"IF('WWVDS (Desc)'!B130=\"\",\"\",'WWVDS (Desc)'!B130)","v":""},{"$f":"IF('WWVDS (Desc)'!C130=\"\",\"\",'WWVDS (Desc)'!C130)","v":""},{"$f":"IF('WWVDS (Desc)'!D130=\"\",\"\",'WWVDS (Desc)'!D130)","v":""},{"$f":"IF('WWVDS (Desc)'!E130=\"\",\"\",INDEX([1]OWNER!$A$2:$A$100,MATCH('WWVDS (Desc)'!$E130,[1]!MASTER_OWNER_DESC[#Data],0),0))","v":""},{"$f":"IF('WWVDS (Desc)'!F130=\"\",\"\",INDEX([1]COUNTY!$A$2:$A$80,MATCH('WWVDS (Desc)'!F130,[1]!MASTER_COUNTY_NAME[#Data],0),0))","v":""},{"$f":"IF('WWVDS (Desc)'!G130=\"\",\"\",'WWVDS (Desc)'!G130)","v":""},{"$f":"IF('WWVDS (Desc)'!H130=\"\",\"\",'WWVDS (Desc)'!H130)","v":""},{"$f":"IF('WWVDS (Desc)'!I130=\"\",\"\",INDEX([1]WWVDS_TYPE!$A$2:$A$4,MATCH('WWVDS (Desc)'!$I130,[1]!MASTER_WWVDS_TYPE_DESC[#Data],0),0))","v":""},{"$f":"IF('WWVDS (Desc)'!$J130=\"\",\"\",INDEX([1]ITS_DEV_MANUF_MODEL!$A$2:$E$1500,MATCH(1,([1]ITS_DEV_MANUF_MODEL!$E$2:$E$1500=\"WWD\")*([1]ITS_DEV_MANUF_MODEL!$D$2:$D$1500='WWVDS (Desc)'!$J130),0),1))","v":""},{"$f":"IF('WWVDS (Desc)'!$J130=\"\",\"\",INDEX([1]ITS_DEV_MANUF_MODEL!$A$2:$E$1500,MATCH(1,([1]ITS_DEV_MANUF_MODEL!$E$2:$E$1500=\"WWD\")*([1]ITS_DEV_MANUF_MODEL!$D$2:$D$1500='WWVDS (Desc)'!$J130),0),2))","v":""},{"$f":"IF('WWVDS (Desc)'!L130=\"\",\"\",'WWVDS (Desc)'!L130)","v":""},{"$f":"IF('WWVDS (Desc)'!M130=\"\",\"\",'WWVDS (Desc)'!M130)","v":""},{"$f":"IF('WWVDS (Desc)'!N130=\"\",\"\",'WWVDS (Desc)'!N130)","v":""},{"$f":"IF('WWVDS (Desc)'!O130=\"\",\"\",'WWVDS (Desc)'!O130)","v":""},{"$f":"IF('WWVDS (Desc)'!P130=\"\",\"\",'WWVDS (Desc)'!P130)","v":""}]
[{"$f":"IF('WWVDS (Desc)'!A131=\"\",\"\",'WWVDS (Desc)'!A131)","v":""},{"$f":"IF('WWVDS (Desc)'!B131=\"\",\"\",'WWVDS (Desc)'!B131)","v":""},{"$f":"IF('WWVDS (Desc)'!C131=\"\",\"\",'WWVDS (Desc)'!C131)","v":""},{"$f":"IF('WWVDS (Desc)'!D131=\"\",\"\",'WWVDS (Desc)'!D131)","v":""},{"$f":"IF('WWVDS (Desc)'!E131=\"\",\"\",INDEX([1]OWNER!$A$2:$A$100,MATCH('WWVDS (Desc)'!$E131,[1]!MASTER_OWNER_DESC[#Data],0),0))","v":""},{"$f":"IF('WWVDS (Desc)'!F131=\"\",\"\",INDEX([1]COUNTY!$A$2:$A$80,MATCH('WWVDS (Desc)'!F131,[1]!MASTER_COUNTY_NAME[#Data],0),0))","v":""},{"$f":"IF('WWVDS (Desc)'!G131=\"\",\"\",'WWVDS (Desc)'!G131)","v":""},{"$f":"IF('WWVDS (Desc)'!H131=\"\",\"\",'WWVDS (Desc)'!H131)","v":""},{"$f":"IF('WWVDS (Desc)'!I131=\"\",\"\",INDEX([1]WWVDS_TYPE!$A$2:$A$4,MATCH('WWVDS (Desc)'!$I131,[1]!MASTER_WWVDS_TYPE_DESC[#Data],0),0))","v":""},{"$f":"IF('WWVDS (Desc)'!$J131=\"\",\"\",INDEX([1]ITS_DEV_MANUF_MODEL!$A$2:$E$1500,MATCH(1,([1]ITS_DEV_MANUF_MODEL!$E$2:$E$1500=\"WWD\")*([1]ITS_DEV_MANUF_MODEL!$D$2:$D$1500='WWVDS (Desc)'!$J131),0),1))","v":""},{"$f":"IF('WWVDS (Desc)'!$J131=\"\",\"\",INDEX([1]ITS_DEV_MANUF_MODEL!$A$2:$E$1500,MATCH(1,([1]ITS_DEV_MANUF_MODEL!$E$2:$E$1500=\"WWD\")*([1]ITS_DEV_MANUF_MODEL!$D$2:$D$1500='WWVDS (Desc)'!$J131),0),2))","v":""},{"$f":"IF('WWVDS (Desc)'!L131=\"\",\"\",'WWVDS (Desc)'!L131)","v":""},{"$f":"IF('WWVDS (Desc)'!M131=\"\",\"\",'WWVDS (Desc)'!M131)","v":""},{"$f":"IF('WWVDS (Desc)'!N131=\"\",\"\",'WWVDS (Desc)'!N131)","v":""},{"$f":"IF('WWVDS (Desc)'!O131=\"\",\"\",'WWVDS (Desc)'!O131)","v":""},{"$f":"IF('WWVDS (Desc)'!P131=\"\",\"\",'WWVDS (Desc)'!P131)","v":""}]
[{"$f":"IF('WWVDS (Desc)'!A132=\"\",\"\",'WWVDS (Desc)'!A132)","v":""},{"$f":"IF('WWVDS (Desc)'!B132=\"\",\"\",'WWVDS (Desc)'!B132)","v":""},{"$f":"IF('WWVDS (Desc)'!C132=\"\",\"\",'WWVDS (Desc)'!C132)","v":""},{"$f":"IF('WWVDS (Desc)'!D132=\"\",\"\",'WWVDS (Desc)'!D132)","v":""},{"$f":"IF('WWVDS (Desc)'!E132=\"\",\"\",INDEX([1]OWNER!$A$2:$A$100,MATCH('WWVDS (Desc)'!$E132,[1]!MASTER_OWNER_DESC[#Data],0),0))","v":""},{"$f":"IF('WWVDS (Desc)'!F132=\"\",\"\",INDEX([1]COUNTY!$A$2:$A$80,MATCH('WWVDS (Desc)'!F132,[1]!MASTER_COUNTY_NAME[#Data],0),0))","v":""},{"$f":"IF('WWVDS (Desc)'!G132=\"\",\"\",'WWVDS (Desc)'!G132)","v":""},{"$f":"IF('WWVDS (Desc)'!H132=\"\",\"\",'WWVDS (Desc)'!H132)","v":""},{"$f":"IF('WWVDS (Desc)'!I132=\"\",\"\",INDEX([1]WWVDS_TYPE!$A$2:$A$4,MATCH('WWVDS (Desc)'!$I132,[1]!MASTER_WWVDS_TYPE_DESC[#Data],0),0))","v":""},{"$f":"IF('WWVDS (Desc)'!$J132=\"\",\"\",INDEX([1]ITS_DEV_MANUF_MODEL!$A$2:$E$1500,MATCH(1,([1]ITS_DEV_MANUF_MODEL!$E$2:$E$1500=\"WWD\")*([1]ITS_DEV_MANUF_MODEL!$D$2:$D$1500='WWVDS (Desc)'!$J132),0),1))","v":""},{"$f":"IF('WWVDS (Desc)'!$J132=\"\",\"\",INDEX([1]ITS_DEV_MANUF_MODEL!$A$2:$E$1500,MATCH(1,([1]ITS_DEV_MANUF_MODEL!$E$2:$E$1500=\"WWD\")*([1]ITS_DEV_MANUF_MODEL!$D$2:$D$1500='WWVDS (Desc)'!$J132),0),2))","v":""},{"$f":"IF('WWVDS (Desc)'!L132=\"\",\"\",'WWVDS (Desc)'!L132)","v":""},{"$f":"IF('WWVDS (Desc)'!M132=\"\",\"\",'WWVDS (Desc)'!M132)","v":""},{"$f":"IF('WWVDS (Desc)'!N132=\"\",\"\",'WWVDS (Desc)'!N132)","v":""},{"$f":"IF('WWVDS (Desc)'!O132=\"\",\"\",'WWVDS (Desc)'!O132)","v":""},{"$f":"IF('WWVDS (Desc)'!P132=\"\",\"\",'WWVDS (Desc)'!P132)","v":""}]
[{"$f":"IF('WWVDS (Desc)'!A133=\"\",\"\",'WWVDS (Desc)'!A133)","v":""},{"$f":"IF('WWVDS (Desc)'!B133=\"\",\"\",'WWVDS (Desc)'!B133)","v":""},{"$f":"IF('WWVDS (Desc)'!C133=\"\",\"\",'WWVDS (Desc)'!C133)","v":""},{"$f":"IF('WWVDS (Desc)'!D133=\"\",\"\",'WWVDS (Desc)'!D133)","v":""},{"$f":"IF('WWVDS (Desc)'!E133=\"\",\"\",INDEX([1]OWNER!$A$2:$A$100,MATCH('WWVDS (Desc)'!$E133,[1]!MASTER_OWNER_DESC[#Data],0),0))","v":""},{"$f":"IF('WWVDS (Desc)'!F133=\"\",\"\",INDEX([1]COUNTY!$A$2:$A$80,MATCH('WWVDS (Desc)'!F133,[1]!MASTER_COUNTY_NAME[#Data],0),0))","v":""},{"$f":"IF('WWVDS (Desc)'!G133=\"\",\"\",'WWVDS (Desc)'!G133)","v":""},{"$f":"IF('WWVDS (Desc)'!H133=\"\",\"\",'WWVDS (Desc)'!H133)","v":""},{"$f":"IF('WWVDS (Desc)'!I133=\"\",\"\",INDEX([1]WWVDS_TYPE!$A$2:$A$4,MATCH('WWVDS (Desc)'!$I133,[1]!MASTER_WWVDS_TYPE_DESC[#Data],0),0))","v":""},{"$f":"IF('WWVDS (Desc)'!$J133=\"\",\"\",INDEX([1]ITS_DEV_MANUF_MODEL!$A$2:$E$1500,MATCH(1,([1]ITS_DEV_MANUF_MODEL!$E$2:$E$1500=\"WWD\")*([1]ITS_DEV_MANUF_MODEL!$D$2:$D$1500='WWVDS (Desc)'!$J133),0),1))","v":""},{"$f":"IF('WWVDS (Desc)'!$J133=\"\",\"\",INDEX([1]ITS_DEV_MANUF_MODEL!$A$2:$E$1500,MATCH(1,([1]ITS_DEV_MANUF_MODEL!$E$2:$E$1500=\"WWD\")*([1]ITS_DEV_MANUF_MODEL!$D$2:$D$1500='WWVDS (Desc)'!$J133),0),2))","v":""},{"$f":"IF('WWVDS (Desc)'!L133=\"\",\"\",'WWVDS (Desc)'!L133)","v":""},{"$f":"IF('WWVDS (Desc)'!M133=\"\",\"\",'WWVDS (Desc)'!M133)","v":""},{"$f":"IF('WWVDS (Desc)'!N133=\"\",\"\",'WWVDS (Desc)'!N133)","v":""},{"$f":"IF('WWVDS (Desc)'!O133=\"\",\"\",'WWVDS (Desc)'!O133)","v":""},{"$f":"IF('WWVDS (Desc)'!P133=\"\",\"\",'WWVDS (Desc)'!P133)","v":""}]
[{"$f":"IF('WWVDS (Desc)'!A134=\"\",\"\",'WWVDS (Desc)'!A134)","v":""},{"$f":"IF('WWVDS (Desc)'!B134=\"\",\"\",'WWVDS (Desc)'!B134)","v":""},{"$f":"IF('WWVDS (Desc)'!C134=\"\",\"\",'WWVDS (Desc)'!C134)","v":""},{"$f":"IF('WWVDS (Desc)'!D134=\"\",\"\",'WWVDS (Desc)'!D134)","v":""},{"$f":"IF('WWVDS (Desc)'!E134=\"\",\"\",INDEX([1]OWNER!$A$2:$A$100,MATCH('WWVDS (Desc)'!$E134,[1]!MASTER_OWNER_DESC[#Data],0),0))","v":""},{"$f":"IF('WWVDS (Desc)'!F134=\"\",\"\",INDEX([1]COUNTY!$A$2:$A$80,MATCH('WWVDS (Desc)'!F134,[1]!MASTER_COUNTY_NAME[#Data],0),0))","v":""},{"$f":"IF('WWVDS (Desc)'!G134=\"\",\"\",'WWVDS (Desc)'!G134)","v":""},{"$f":"IF('WWVDS (Desc)'!H134=\"\",\"\",'WWVDS (Desc)'!H134)","v":""},{"$f":"IF('WWVDS (Desc)'!I134=\"\",\"\",INDEX([1]WWVDS_TYPE!$A$2:$A$4,MATCH('WWVDS (Desc)'!$I134,[1]!MASTER_WWVDS_TYPE_DESC[#Data],0),0))","v":""},{"$f":"IF('WWVDS (Desc)'!$J134=\"\",\"\",INDEX([1]ITS_DEV_MANUF_MODEL!$A$2:$E$1500,MATCH(1,([1]ITS_DEV_MANUF_MODEL!$E$2:$E$1500=\"WWD\")*([1]ITS_DEV_MANUF_MODEL!$D$2:$D$1500='WWVDS (Desc)'!$J134),0),1))","v":""},{"$f":"IF('WWVDS (Desc)'!$J134=\"\",\"\",INDEX([1]ITS_DEV_MANUF_MODEL!$A$2:$E$1500,MATCH(1,([1]ITS_DEV_MANUF_MODEL!$E$2:$E$1500=\"WWD\")*([1]ITS_DEV_MANUF_MODEL!$D$2:$D$1500='WWVDS (Desc)'!$J134),0),2))","v":""},{"$f":"IF('WWVDS (Desc)'!L134=\"\",\"\",'WWVDS (Desc)'!L134)","v":""},{"$f":"IF('WWVDS (Desc)'!M134=\"\",\"\",'WWVDS (Desc)'!M134)","v":""},{"$f":"IF('WWVDS (Desc)'!N134=\"\",\"\",'WWVDS (Desc)'!N134)","v":""},{"$f":"IF('WWVDS (Desc)'!O134=\"\",\"\",'WWVDS (Desc)'!O134)","v":""},{"$f":"IF('WWVDS (Desc)'!P134=\"\",\"\",'WWVDS (Desc)'!P134)","v":""}]
[{"$f":"IF('WWVDS (Desc)'!A135=\"\",\"\",'WWVDS (Desc)'!A135)","v":""},{"$f":"IF('WWVDS (Desc)'!B135=\"\",\"\",'WWVDS (Desc)'!B135)","v":""},{"$f":"IF('WWVDS (Desc)'!C135=\"\",\"\",'WWVDS (Desc)'!C135)","v":""},{"$f":"IF('WWVDS (Desc)'!D135=\"\",\"\",'WWVDS (Desc)'!D135)","v":""},{"$f":"IF('WWVDS (Desc)'!E135=\"\",\"\",INDEX([1]OWNER!$A$2:$A$100,MATCH('WWVDS (Desc)'!$E135,[1]!MASTER_OWNER_DESC[#Data],0),0))","v":""},{"$f":"IF('WWVDS (Desc)'!F135=\"\",\"\",INDEX([1]COUNTY!$A$2:$A$80,MATCH('WWVDS (Desc)'!F135,[1]!MASTER_COUNTY_NAME[#Data],0),0))","v":""},{"$f":"IF('WWVDS (Desc)'!G135=\"\",\"\",'WWVDS (Desc)'!G135)","v":""},{"$f":"IF('WWVDS (Desc)'!H135=\"\",\"\",'WWVDS (Desc)'!H135)","v":""},{"$f":"IF('WWVDS (Desc)'!I135=\"\",\"\",INDEX([1]WWVDS_TYPE!$A$2:$A$4,MATCH('WWVDS (Desc)'!$I135,[1]!MASTER_WWVDS_TYPE_DESC[#Data],0),0))","v":""},{"$f":"IF('WWVDS (Desc)'!$J135=\"\",\"\",INDEX([1]ITS_DEV_MANUF_MODEL!$A$2:$E$1500,MATCH(1,([1]ITS_DEV_MANUF_MODEL!$E$2:$E$1500=\"WWD\")*([1]ITS_DEV_MANUF_MODEL!$D$2:$D$1500='WWVDS (Desc)'!$J135),0),1))","v":""},{"$f":"IF('WWVDS (Desc)'!$J135=\"\",\"\",INDEX([1]ITS_DEV_MANUF_MODEL!$A$2:$E$1500,MATCH(1,([1]ITS_DEV_MANUF_MODEL!$E$2:$E$1500=\"WWD\")*([1]ITS_DEV_MANUF_MODEL!$D$2:$D$1500='WWVDS (Desc)'!$J135),0),2))","v":""},{"$f":"IF('WWVDS (Desc)'!L135=\"\",\"\",'WWVDS (Desc)'!L135)","v":""},{"$f":"IF('WWVDS (Desc)'!M135=\"\",\"\",'WWVDS (Desc)'!M135)","v":""},{"$f":"IF('WWVDS (Desc)'!N135=\"\",\"\",'WWVDS (Desc)'!N135)","v":""},{"$f":"IF('WWVDS (Desc)'!O135=\"\",\"\",'WWVDS (Desc)'!O135)","v":""},{"$f":"IF('WWVDS (Desc)'!P135=\"\",\"\",'WWVDS (Desc)'!P135)","v":""}]
[{"$f":"IF('WWVDS (Desc)'!A136=\"\",\"\",'WWVDS (Desc)'!A136)","v":""},{"$f":"IF('WWVDS (Desc)'!B136=\"\",\"\",'WWVDS (Desc)'!B136)","v":""},{"$f":"IF('WWVDS (Desc)'!C136=\"\",\"\",'WWVDS (Desc)'!C136)","v":""},{"$f":"IF('WWVDS (Desc)'!D136=\"\",\"\",'WWVDS (Desc)'!D136)","v":""},{"$f":"IF('WWVDS (Desc)'!E136=\"\",\"\",INDEX([1]OWNER!$A$2:$A$100,MATCH('WWVDS (Desc)'!$E136,[1]!MASTER_OWNER_DESC[#Data],0),0))","v":""},{"$f":"IF('WWVDS (Desc)'!F136=\"\",\"\",INDEX([1]COUNTY!$A$2:$A$80,MATCH('WWVDS (Desc)'!F136,[1]!MASTER_COUNTY_NAME[#Data],0),0))","v":""},{"$f":"IF('WWVDS (Desc)'!G136=\"\",\"\",'WWVDS (Desc)'!G136)","v":""},{"$f":"IF('WWVDS (Desc)'!H136=\"\",\"\",'WWVDS (Desc)'!H136)","v":""},{"$f":"IF('WWVDS (Desc)'!I136=\"\",\"\",INDEX([1]WWVDS_TYPE!$A$2:$A$4,MATCH('WWVDS (Desc)'!$I136,[1]!MASTER_WWVDS_TYPE_DESC[#Data],0),0))","v":""},{"$f":"IF('WWVDS (Desc)'!$J136=\"\",\"\",INDEX([1]ITS_DEV_MANUF_MODEL!$A$2:$E$1500,MATCH(1,([1]ITS_DEV_MANUF_MODEL!$E$2:$E$1500=\"WWD\")*([1]ITS_DEV_MANUF_MODEL!$D$2:$D$1500='WWVDS (Desc)'!$J136),0),1))","v":""},{"$f":"IF('WWVDS (Desc)'!$J136=\"\",\"\",INDEX([1]ITS_DEV_MANUF_MODEL!$A$2:$E$1500,MATCH(1,([1]ITS_DEV_MANUF_MODEL!$E$2:$E$1500=\"WWD\")*([1]ITS_DEV_MANUF_MODEL!$D$2:$D$1500='WWVDS (Desc)'!$J136),0),2))","v":""},{"$f":"IF('WWVDS (Desc)'!L136=\"\",\"\",'WWVDS (Desc)'!L136)","v":""},{"$f":"IF('WWVDS (Desc)'!M136=\"\",\"\",'WWVDS (Desc)'!M136)","v":""},{"$f":"IF('WWVDS (Desc)'!N136=\"\",\"\",'WWVDS (Desc)'!N136)","v":""},{"$f":"IF('WWVDS (Desc)'!O136=\"\",\"\",'WWVDS (Desc)'!O136)","v":""},{"$f":"IF('WWVDS (Desc)'!P136=\"\",\"\",'WWVDS (Desc)'!P136)","v":""}]
[{"$f":"IF('WWVDS (Desc)'!A137=\"\",\"\",'WWVDS (Desc)'!A137)","v":""},{"$f":"IF('WWVDS (Desc)'!B137=\"\",\"\",'WWVDS (Desc)'!B137)","v":""},{"$f":"IF('WWVDS (Desc)'!C137=\"\",\"\",'WWVDS (Desc)'!C137)","v":""},{"$f":"IF('WWVDS (Desc)'!D137=\"\",\"\",'WWVDS (Desc)'!D137)","v":""},{"$f":"IF('WWVDS (Desc)'!E137=\"\",\"\",INDEX([1]OWNER!$A$2:$A$100,MATCH('WWVDS (Desc)'!$E137,[1]!MASTER_OWNER_DESC[#Data],0),0))","v":""},{"$f":"IF('WWVDS (Desc)'!F137=\"\",\"\",INDEX([1]COUNTY!$A$2:$A$80,MATCH('WWVDS (Desc)'!F137,[1]!MASTER_COUNTY_NAME[#Data],0),0))","v":""},{"$f":"IF('WWVDS (Desc)'!G137=\"\",\"\",'WWVDS (Desc)'!G137)","v":""},{"$f":"IF('WWVDS (Desc)'!H137=\"\",\"\",'WWVDS (Desc)'!H137)","v":""},{"$f":"IF('WWVDS (Desc)'!I137=\"\",\"\",INDEX([1]WWVDS_TYPE!$A$2:$A$4,MATCH('WWVDS (Desc)'!$I137,[1]!MASTER_WWVDS_TYPE_DESC[#Data],0),0))","v":""},{"$f":"IF('WWVDS (Desc)'!$J137=\"\",\"\",INDEX([1]ITS_DEV_MANUF_MODEL!$A$2:$E$1500,MATCH(1,([1]ITS_DEV_MANUF_MODEL!$E$2:$E$1500=\"WWD\")*([1]ITS_DEV_MANUF_MODEL!$D$2:$D$1500='WWVDS (Desc)'!$J137),0),1))","v":""},{"$f":"IF('WWVDS (Desc)'!$J137=\"\",\"\",INDEX([1]ITS_DEV_MANUF_MODEL!$A$2:$E$1500,MATCH(1,([1]ITS_DEV_MANUF_MODEL!$E$2:$E$1500=\"WWD\")*([1]ITS_DEV_MANUF_MODEL!$D$2:$D$1500='WWVDS (Desc)'!$J137),0),2))","v":""},{"$f":"IF('WWVDS (Desc)'!L137=\"\",\"\",'WWVDS (Desc)'!L137)","v":""},{"$f":"IF('WWVDS (Desc)'!M137=\"\",\"\",'WWVDS (Desc)'!M137)","v":""},{"$f":"IF('WWVDS (Desc)'!N137=\"\",\"\",'WWVDS (Desc)'!N137)","v":""},{"$f":"IF('WWVDS (Desc)'!O137=\"\",\"\",'WWVDS (Desc)'!O137)","v":""},{"$f":"IF('WWVDS (Desc)'!P137=\"\",\"\",'WWVDS (Desc)'!P137)","v":""}]
[{"$f":"IF('WWVDS (Desc)'!A138=\"\",\"\",'WWVDS (Desc)'!A138)","v":""},{"$f":"IF('WWVDS (Desc)'!B138=\"\",\"\",'WWVDS (Desc)'!B138)","v":""},{"$f":"IF('WWVDS (Desc)'!C138=\"\",\"\",'WWVDS (Desc)'!C138)","v":""},{"$f":"IF('WWVDS (Desc)'!D138=\"\",\"\",'WWVDS (Desc)'!D138)","v":""},{"$f":"IF('WWVDS (Desc)'!E138=\"\",\"\",INDEX([1]OWNER!$A$2:$A$100,MATCH('WWVDS (Desc)'!$E138,[1]!MASTER_OWNER_DESC[#Data],0),0))","v":""},{"$f":"IF('WWVDS (Desc)'!F138=\"\",\"\",INDEX([1]COUNTY!$A$2:$A$80,MATCH('WWVDS (Desc)'!F138,[1]!MASTER_COUNTY_NAME[#Data],0),0))","v":""},{"$f":"IF('WWVDS (Desc)'!G138=\"\",\"\",'WWVDS (Desc)'!G138)","v":""},{"$f":"IF('WWVDS (Desc)'!H138=\"\",\"\",'WWVDS (Desc)'!H138)","v":""},{"$f":"IF('WWVDS (Desc)'!I138=\"\",\"\",INDEX([1]WWVDS_TYPE!$A$2:$A$4,MATCH('WWVDS (Desc)'!$I138,[1]!MASTER_WWVDS_TYPE_DESC[#Data],0),0))","v":""},{"$f":"IF('WWVDS (Desc)'!$J138=\"\",\"\",INDEX([1]ITS_DEV_MANUF_MODEL!$A$2:$E$1500,MATCH(1,([1]ITS_DEV_MANUF_MODEL!$E$2:$E$1500=\"WWD\")*([1]ITS_DEV_MANUF_MODEL!$D$2:$D$1500='WWVDS (Desc)'!$J138),0),1))","v":""},{"$f":"IF('WWVDS (Desc)'!$J138=\"\",\"\",INDEX([1]ITS_DEV_MANUF_MODEL!$A$2:$E$1500,MATCH(1,([1]ITS_DEV_MANUF_MODEL!$E$2:$E$1500=\"WWD\")*([1]ITS_DEV_MANUF_MODEL!$D$2:$D$1500='WWVDS (Desc)'!$J138),0),2))","v":""},{"$f":"IF('WWVDS (Desc)'!L138=\"\",\"\",'WWVDS (Desc)'!L138)","v":""},{"$f":"IF('WWVDS (Desc)'!M138=\"\",\"\",'WWVDS (Desc)'!M138)","v":""},{"$f":"IF('WWVDS (Desc)'!N138=\"\",\"\",'WWVDS (Desc)'!N138)","v":""},{"$f":"IF('WWVDS (Desc)'!O138=\"\",\"\",'WWVDS (Desc)'!O138)","v":""},{"$f":"IF('WWVDS (Desc)'!P138=\"\",\"\",'WWVDS (Desc)'!P138)","v":""}]
[{"$f":"IF('WWVDS (Desc)'!A139=\"\",\"\",'WWVDS (Desc)'!A139)","v":""},{"$f":"IF('WWVDS (Desc)'!B139=\"\",\"\",'WWVDS (Desc)'!B139)","v":""},{"$f":"IF('WWVDS (Desc)'!C139=\"\",\"\",'WWVDS (Desc)'!C139)","v":""},{"$f":"IF('WWVDS (Desc)'!D139=\"\",\"\",'WWVDS (Desc)'!D139)","v":""},{"$f":"IF('WWVDS (Desc)'!E139=\"\",\"\",INDEX([1]OWNER!$A$2:$A$100,MATCH('WWVDS (Desc)'!$E139,[1]!MASTER_OWNER_DESC[#Data],0),0))","v":""},{"$f":"IF('WWVDS (Desc)'!F139=\"\",\"\",INDEX([1]COUNTY!$A$2:$A$80,MATCH('WWVDS (Desc)'!F139,[1]!MASTER_COUNTY_NAME[#Data],0),0))","v":""},{"$f":"IF('WWVDS (Desc)'!G139=\"\",\"\",'WWVDS (Desc)'!G139)","v":""},{"$f":"IF('WWVDS (Desc)'!H139=\"\",\"\",'WWVDS (Desc)'!H139)","v":""},{"$f":"IF('WWVDS (Desc)'!I139=\"\",\"\",INDEX([1]WWVDS_TYPE!$A$2:$A$4,MATCH('WWVDS (Desc)'!$I139,[1]!MASTER_WWVDS_TYPE_DESC[#Data],0),0))","v":""},{"$f":"IF('WWVDS (Desc)'!$J139=\"\",\"\",INDEX([1]ITS_DEV_MANUF_MODEL!$A$2:$E$1500,MATCH(1,([1]ITS_DEV_MANUF_MODEL!$E$2:$E$1500=\"WWD\")*([1]ITS_DEV_MANUF_MODEL!$D$2:$D$1500='WWVDS (Desc)'!$J139),0),1))","v":""},{"$f":"IF('WWVDS (Desc)'!$J139=\"\",\"\",INDEX([1]ITS_DEV_MANUF_MODEL!$A$2:$E$1500,MATCH(1,([1]ITS_DEV_MANUF_MODEL!$E$2:$E$1500=\"WWD\")*([1]ITS_DEV_MANUF_MODEL!$D$2:$D$1500='WWVDS (Desc)'!$J139),0),2))","v":""},{"$f":"IF('WWVDS (Desc)'!L139=\"\",\"\",'WWVDS (Desc)'!L139)","v":""},{"$f":"IF('WWVDS (Desc)'!M139=\"\",\"\",'WWVDS (Desc)'!M139)","v":""},{"$f":"IF('WWVDS (Desc)'!N139=\"\",\"\",'WWVDS (Desc)'!N139)","v":""},{"$f":"IF('WWVDS (Desc)'!O139=\"\",\"\",'WWVDS (Desc)'!O139)","v":""},{"$f":"IF('WWVDS (Desc)'!P139=\"\",\"\",'WWVDS (Desc)'!P139)","v":""}]
[{"$f":"IF('WWVDS (Desc)'!A140=\"\",\"\",'WWVDS (Desc)'!A140)","v":""},{"$f":"IF('WWVDS (Desc)'!B140=\"\",\"\",'WWVDS (Desc)'!B140)","v":""},{"$f":"IF('WWVDS (Desc)'!C140=\"\",\"\",'WWVDS (Desc)'!C140)","v":""},{"$f":"IF('WWVDS (Desc)'!D140=\"\",\"\",'WWVDS (Desc)'!D140)","v":""},{"$f":"IF('WWVDS (Desc)'!E140=\"\",\"\",INDEX([1]OWNER!$A$2:$A$100,MATCH('WWVDS (Desc)'!$E140,[1]!MASTER_OWNER_DESC[#Data],0),0))","v":""},{"$f":"IF('WWVDS (Desc)'!F140=\"\",\"\",INDEX([1]COUNTY!$A$2:$A$80,MATCH('WWVDS (Desc)'!F140,[1]!MASTER_COUNTY_NAME[#Data],0),0))","v":""},{"$f":"IF('WWVDS (Desc)'!G140=\"\",\"\",'WWVDS (Desc)'!G140)","v":""},{"$f":"IF('WWVDS (Desc)'!H140=\"\",\"\",'WWVDS (Desc)'!H140)","v":""},{"$f":"IF('WWVDS (Desc)'!I140=\"\",\"\",INDEX([1]WWVDS_TYPE!$A$2:$A$4,MATCH('WWVDS (Desc)'!$I140,[1]!MASTER_WWVDS_TYPE_DESC[#Data],0),0))","v":""},{"$f":"IF('WWVDS (Desc)'!$J140=\"\",\"\",INDEX([1]ITS_DEV_MANUF_MODEL!$A$2:$E$1500,MATCH(1,([1]ITS_DEV_MANUF_MODEL!$E$2:$E$1500=\"WWD\")*([1]ITS_DEV_MANUF_MODEL!$D$2:$D$1500='WWVDS (Desc)'!$J140),0),1))","v":""},{"$f":"IF('WWVDS (Desc)'!$J140=\"\",\"\",INDEX([1]ITS_DEV_MANUF_MODEL!$A$2:$E$1500,MATCH(1,([1]ITS_DEV_MANUF_MODEL!$E$2:$E$1500=\"WWD\")*([1]ITS_DEV_MANUF_MODEL!$D$2:$D$1500='WWVDS (Desc)'!$J140),0),2))","v":""},{"$f":"IF('WWVDS (Desc)'!L140=\"\",\"\",'WWVDS (Desc)'!L140)","v":""},{"$f":"IF('WWVDS (Desc)'!M140=\"\",\"\",'WWVDS (Desc)'!M140)","v":""},{"$f":"IF('WWVDS (Desc)'!N140=\"\",\"\",'WWVDS (Desc)'!N140)","v":""},{"$f":"IF('WWVDS (Desc)'!O140=\"\",\"\",'WWVDS (Desc)'!O140)","v":""},{"$f":"IF('WWVDS (Desc)'!P140=\"\",\"\",'WWVDS (Desc)'!P140)","v":""}]
[{"$f":"IF('WWVDS (Desc)'!A141=\"\",\"\",'WWVDS (Desc)'!A141)","v":""},{"$f":"IF('WWVDS (Desc)'!B141=\"\",\"\",'WWVDS (Desc)'!B141)","v":""},{"$f":"IF('WWVDS (Desc)'!C141=\"\",\"\",'WWVDS (Desc)'!C141)","v":""},{"$f":"IF('WWVDS (Desc)'!D141=\"\",\"\",'WWVDS (Desc)'!D141)","v":""},{"$f":"IF('WWVDS (Desc)'!E141=\"\",\"\",INDEX([1]OWNER!$A$2:$A$100,MATCH('WWVDS (Desc)'!$E141,[1]!MASTER_OWNER_DESC[#Data],0),0))","v":""},{"$f":"IF('WWVDS (Desc)'!F141=\"\",\"\",INDEX([1]COUNTY!$A$2:$A$80,MATCH('WWVDS (Desc)'!F141,[1]!MASTER_COUNTY_NAME[#Data],0),0))","v":""},{"$f":"IF('WWVDS (Desc)'!G141=\"\",\"\",'WWVDS (Desc)'!G141)","v":""},{"$f":"IF('WWVDS (Desc)'!H141=\"\",\"\",'WWVDS (Desc)'!H141)","v":""},{"$f":"IF('WWVDS (Desc)'!I141=\"\",\"\",INDEX([1]WWVDS_TYPE!$A$2:$A$4,MATCH('WWVDS (Desc)'!$I141,[1]!MASTER_WWVDS_TYPE_DESC[#Data],0),0))","v":""},{"$f":"IF('WWVDS (Desc)'!$J141=\"\",\"\",INDEX([1]ITS_DEV_MANUF_MODEL!$A$2:$E$1500,MATCH(1,([1]ITS_DEV_MANUF_MODEL!$E$2:$E$1500=\"WWD\")*([1]ITS_DEV_MANUF_MODEL!$D$2:$D$1500='WWVDS (Desc)'!$J141),0),1))","v":""},{"$f":"IF('WWVDS (Desc)'!$J141=\"\",\"\",INDEX([1]ITS_DEV_MANUF_MODEL!$A$2:$E$1500,MATCH(1,([1]ITS_DEV_MANUF_MODEL!$E$2:$E$1500=\"WWD\")*([1]ITS_DEV_MANUF_MODEL!$D$2:$D$1500='WWVDS (Desc)'!$J141),0),2))","v":""},{"$f":"IF('WWVDS (Desc)'!L141=\"\",\"\",'WWVDS (Desc)'!L141)","v":""},{"$f":"IF('WWVDS (Desc)'!M141=\"\",\"\",'WWVDS (Desc)'!M141)","v":""},{"$f":"IF('WWVDS (Desc)'!N141=\"\",\"\",'WWVDS (Desc)'!N141)","v":""},{"$f":"IF('WWVDS (Desc)'!O141=\"\",\"\",'WWVDS (Desc)'!O141)","v":""},{"$f":"IF('WWVDS (Desc)'!P141=\"\",\"\",'WWVDS (Desc)'!P141)","v":""}]
[{"$f":"IF('WWVDS (Desc)'!A142=\"\",\"\",'WWVDS (Desc)'!A142)","v":""},{"$f":"IF('WWVDS (Desc)'!B142=\"\",\"\",'WWVDS (Desc)'!B142)","v":""},{"$f":"IF('WWVDS (Desc)'!C142=\"\",\"\",'WWVDS (Desc)'!C142)","v":""},{"$f":"IF('WWVDS (Desc)'!D142=\"\",\"\",'WWVDS (Desc)'!D142)","v":""},{"$f":"IF('WWVDS (Desc)'!E142=\"\",\"\",INDEX([1]OWNER!$A$2:$A$100,MATCH('WWVDS (Desc)'!$E142,[1]!MASTER_OWNER_DESC[#Data],0),0))","v":""},{"$f":"IF('WWVDS (Desc)'!F142=\"\",\"\",INDEX([1]COUNTY!$A$2:$A$80,MATCH('WWVDS (Desc)'!F142,[1]!MASTER_COUNTY_NAME[#Data],0),0))","v":""},{"$f":"IF('WWVDS (Desc)'!G142=\"\",\"\",'WWVDS (Desc)'!G142)","v":""},{"$f":"IF('WWVDS (Desc)'!H142=\"\",\"\",'WWVDS (Desc)'!H142)","v":""},{"$f":"IF('WWVDS (Desc)'!I142=\"\",\"\",INDEX([1]WWVDS_TYPE!$A$2:$A$4,MATCH('WWVDS (Desc)'!$I142,[1]!MASTER_WWVDS_TYPE_DESC[#Data],0),0))","v":""},{"$f":"IF('WWVDS (Desc)'!$J142=\"\",\"\",INDEX([1]ITS_DEV_MANUF_MODEL!$A$2:$E$1500,MATCH(1,([1]ITS_DEV_MANUF_MODEL!$E$2:$E$1500=\"WWD\")*([1]ITS_DEV_MANUF_MODEL!$D$2:$D$1500='WWVDS (Desc)'!$J142),0),1))","v":""},{"$f":"IF('WWVDS (Desc)'!$J142=\"\",\"\",INDEX([1]ITS_DEV_MANUF_MODEL!$A$2:$E$1500,MATCH(1,([1]ITS_DEV_MANUF_MODEL!$E$2:$E$1500=\"WWD\")*([1]ITS_DEV_MANUF_MODEL!$D$2:$D$1500='WWVDS (Desc)'!$J142),0),2))","v":""},{"$f":"IF('WWVDS (Desc)'!L142=\"\",\"\",'WWVDS (Desc)'!L142)","v":""},{"$f":"IF('WWVDS (Desc)'!M142=\"\",\"\",'WWVDS (Desc)'!M142)","v":""},{"$f":"IF('WWVDS (Desc)'!N142=\"\",\"\",'WWVDS (Desc)'!N142)","v":""},{"$f":"IF('WWVDS (Desc)'!O142=\"\",\"\",'WWVDS (Desc)'!O142)","v":""},{"$f":"IF('WWVDS (Desc)'!P142=\"\",\"\",'WWVDS (Desc)'!P142)","v":""}]
[{"$f":"IF('WWVDS (Desc)'!A143=\"\",\"\",'WWVDS (Desc)'!A143)","v":""},{"$f":"IF('WWVDS (Desc)'!B143=\"\",\"\",'WWVDS (Desc)'!B143)","v":""},{"$f":"IF('WWVDS (Desc)'!C143=\"\",\"\",'WWVDS (Desc)'!C143)","v":""},{"$f":"IF('WWVDS (Desc)'!D143=\"\",\"\",'WWVDS (Desc)'!D143)","v":""},{"$f":"IF('WWVDS (Desc)'!E143=\"\",\"\",INDEX([1]OWNER!$A$2:$A$100,MATCH('WWVDS (Desc)'!$E143,[1]!MASTER_OWNER_DESC[#Data],0),0))","v":""},{"$f":"IF('WWVDS (Desc)'!F143=\"\",\"\",INDEX([1]COUNTY!$A$2:$A$80,MATCH('WWVDS (Desc)'!F143,[1]!MASTER_COUNTY_NAME[#Data],0),0))","v":""},{"$f":"IF('WWVDS (Desc)'!G143=\"\",\"\",'WWVDS (Desc)'!G143)","v":""},{"$f":"IF('WWVDS (Desc)'!H143=\"\",\"\",'WWVDS (Desc)'!H143)","v":""},{"$f":"IF('WWVDS (Desc)'!I143=\"\",\"\",INDEX([1]WWVDS_TYPE!$A$2:$A$4,MATCH('WWVDS (Desc)'!$I143,[1]!MASTER_WWVDS_TYPE_DESC[#Data],0),0))","v":""},{"$f":"IF('WWVDS (Desc)'!$J143=\"\",\"\",INDEX([1]ITS_DEV_MANUF_MODEL!$A$2:$E$1500,MATCH(1,([1]ITS_DEV_MANUF_MODEL!$E$2:$E$1500=\"WWD\")*([1]ITS_DEV_MANUF_MODEL!$D$2:$D$1500='WWVDS (Desc)'!$J143),0),1))","v":""},{"$f":"IF('WWVDS (Desc)'!$J143=\"\",\"\",INDEX([1]ITS_DEV_MANUF_MODEL!$A$2:$E$1500,MATCH(1,([1]ITS_DEV_MANUF_MODEL!$E$2:$E$1500=\"WWD\")*([1]ITS_DEV_MANUF_MODEL!$D$2:$D$1500='WWVDS (Desc)'!$J143),0),2))","v":""},{"$f":"IF('WWVDS (Desc)'!L143=\"\",\"\",'WWVDS (Desc)'!L143)","v":""},{"$f":"IF('WWVDS (Desc)'!M143=\"\",\"\",'WWVDS (Desc)'!M143)","v":""},{"$f":"IF('WWVDS (Desc)'!N143=\"\",\"\",'WWVDS (Desc)'!N143)","v":""},{"$f":"IF('WWVDS (Desc)'!O143=\"\",\"\",'WWVDS (Desc)'!O143)","v":""},{"$f":"IF('WWVDS (Desc)'!P143=\"\",\"\",'WWVDS (Desc)'!P143)","v":""}]
[{"$f":"IF('WWVDS (Desc)'!A144=\"\",\"\",'WWVDS (Desc)'!A144)","v":""},{"$f":"IF('WWVDS (Desc)'!B144=\"\",\"\",'WWVDS (Desc)'!B144)","v":""},{"$f":"IF('WWVDS (Desc)'!C144=\"\",\"\",'WWVDS (Desc)'!C144)","v":""},{"$f":"IF('WWVDS (Desc)'!D144=\"\",\"\",'WWVDS (Desc)'!D144)","v":""},{"$f":"IF('WWVDS (Desc)'!E144=\"\",\"\",INDEX([1]OWNER!$A$2:$A$100,MATCH('WWVDS (Desc)'!$E144,[1]!MASTER_OWNER_DESC[#Data],0),0))","v":""},{"$f":"IF('WWVDS (Desc)'!F144=\"\",\"\",INDEX([1]COUNTY!$A$2:$A$80,MATCH('WWVDS (Desc)'!F144,[1]!MASTER_COUNTY_NAME[#Data],0),0))","v":""},{"$f":"IF('WWVDS (Desc)'!G144=\"\",\"\",'WWVDS (Desc)'!G144)","v":""},{"$f":"IF('WWVDS (Desc)'!H144=\"\",\"\",'WWVDS (Desc)'!H144)","v":""},{"$f":"IF('WWVDS (Desc)'!I144=\"\",\"\",INDEX([1]WWVDS_TYPE!$A$2:$A$4,MATCH('WWVDS (Desc)'!$I144,[1]!MASTER_WWVDS_TYPE_DESC[#Data],0),0))","v":""},{"$f":"IF('WWVDS (Desc)'!$J144=\"\",\"\",INDEX([1]ITS_DEV_MANUF_MODEL!$A$2:$E$1500,MATCH(1,([1]ITS_DEV_MANUF_MODEL!$E$2:$E$1500=\"WWD\")*([1]ITS_DEV_MANUF_MODEL!$D$2:$D$1500='WWVDS (Desc)'!$J144),0),1))","v":""},{"$f":"IF('WWVDS (Desc)'!$J144=\"\",\"\",INDEX([1]ITS_DEV_MANUF_MODEL!$A$2:$E$1500,MATCH(1,([1]ITS_DEV_MANUF_MODEL!$E$2:$E$1500=\"WWD\")*([1]ITS_DEV_MANUF_MODEL!$D$2:$D$1500='WWVDS (Desc)'!$J144),0),2))","v":""},{"$f":"IF('WWVDS (Desc)'!L144=\"\",\"\",'WWVDS (Desc)'!L144)","v":""},{"$f":"IF('WWVDS (Desc)'!M144=\"\",\"\",'WWVDS (Desc)'!M144)","v":""},{"$f":"IF('WWVDS (Desc)'!N144=\"\",\"\",'WWVDS (Desc)'!N144)","v":""},{"$f":"IF('WWVDS (Desc)'!O144=\"\",\"\",'WWVDS (Desc)'!O144)","v":""},{"$f":"IF('WWVDS (Desc)'!P144=\"\",\"\",'WWVDS (Desc)'!P144)","v":""}]
[{"$f":"IF('WWVDS (Desc)'!A145=\"\",\"\",'WWVDS (Desc)'!A145)","v":""},{"$f":"IF('WWVDS (Desc)'!B145=\"\",\"\",'WWVDS (Desc)'!B145)","v":""},{"$f":"IF('WWVDS (Desc)'!C145=\"\",\"\",'WWVDS (Desc)'!C145)","v":""},{"$f":"IF('WWVDS (Desc)'!D145=\"\",\"\",'WWVDS (Desc)'!D145)","v":""},{"$f":"IF('WWVDS (Desc)'!E145=\"\",\"\",INDEX([1]OWNER!$A$2:$A$100,MATCH('WWVDS (Desc)'!$E145,[1]!MASTER_OWNER_DESC[#Data],0),0))","v":""},{"$f":"IF('WWVDS (Desc)'!F145=\"\",\"\",INDEX([1]COUNTY!$A$2:$A$80,MATCH('WWVDS (Desc)'!F145,[1]!MASTER_COUNTY_NAME[#Data],0),0))","v":""},{"$f":"IF('WWVDS (Desc)'!G145=\"\",\"\",'WWVDS (Desc)'!G145)","v":""},{"$f":"IF('WWVDS (Desc)'!H145=\"\",\"\",'WWVDS (Desc)'!H145)","v":""},{"$f":"IF('WWVDS (Desc)'!I145=\"\",\"\",INDEX([1]WWVDS_TYPE!$A$2:$A$4,MATCH('WWVDS (Desc)'!$I145,[1]!MASTER_WWVDS_TYPE_DESC[#Data],0),0))","v":""},{"$f":"IF('WWVDS (Desc)'!$J145=\"\",\"\",INDEX([1]ITS_DEV_MANUF_MODEL!$A$2:$E$1500,MATCH(1,([1]ITS_DEV_MANUF_MODEL!$E$2:$E$1500=\"WWD\")*([1]ITS_DEV_MANUF_MODEL!$D$2:$D$1500='WWVDS (Desc)'!$J145),0),1))","v":""},{"$f":"IF('WWVDS (Desc)'!$J145=\"\",\"\",INDEX([1]ITS_DEV_MANUF_MODEL!$A$2:$E$1500,MATCH(1,([1]ITS_DEV_MANUF_MODEL!$E$2:$E$1500=\"WWD\")*([1]ITS_DEV_MANUF_MODEL!$D$2:$D$1500='WWVDS (Desc)'!$J145),0),2))","v":""},{"$f":"IF('WWVDS (Desc)'!L145=\"\",\"\",'WWVDS (Desc)'!L145)","v":""},{"$f":"IF('WWVDS (Desc)'!M145=\"\",\"\",'WWVDS (Desc)'!M145)","v":""},{"$f":"IF('WWVDS (Desc)'!N145=\"\",\"\",'WWVDS (Desc)'!N145)","v":""},{"$f":"IF('WWVDS (Desc)'!O145=\"\",\"\",'WWVDS (Desc)'!O145)","v":""},{"$f":"IF('WWVDS (Desc)'!P145=\"\",\"\",'WWVDS (Desc)'!P145)","v":""}]
[{"$f":"IF('WWVDS (Desc)'!A146=\"\",\"\",'WWVDS (Desc)'!A146)","v":""},{"$f":"IF('WWVDS (Desc)'!B146=\"\",\"\",'WWVDS (Desc)'!B146)","v":""},{"$f":"IF('WWVDS (Desc)'!C146=\"\",\"\",'WWVDS (Desc)'!C146)","v":""},{"$f":"IF('WWVDS (Desc)'!D146=\"\",\"\",'WWVDS (Desc)'!D146)","v":""},{"$f":"IF('WWVDS (Desc)'!E146=\"\",\"\",INDEX([1]OWNER!$A$2:$A$100,MATCH('WWVDS (Desc)'!$E146,[1]!MASTER_OWNER_DESC[#Data],0),0))","v":""},{"$f":"IF('WWVDS (Desc)'!F146=\"\",\"\",INDEX([1]COUNTY!$A$2:$A$80,MATCH('WWVDS (Desc)'!F146,[1]!MASTER_COUNTY_NAME[#Data],0),0))","v":""},{"$f":"IF('WWVDS (Desc)'!G146=\"\",\"\",'WWVDS (Desc)'!G146)","v":""},{"$f":"IF('WWVDS (Desc)'!H146=\"\",\"\",'WWVDS (Desc)'!H146)","v":""},{"$f":"IF('WWVDS (Desc)'!I146=\"\",\"\",INDEX([1]WWVDS_TYPE!$A$2:$A$4,MATCH('WWVDS (Desc)'!$I146,[1]!MASTER_WWVDS_TYPE_DESC[#Data],0),0))","v":""},{"$f":"IF('WWVDS (Desc)'!$J146=\"\",\"\",INDEX([1]ITS_DEV_MANUF_MODEL!$A$2:$E$1500,MATCH(1,([1]ITS_DEV_MANUF_MODEL!$E$2:$E$1500=\"WWD\")*([1]ITS_DEV_MANUF_MODEL!$D$2:$D$1500='WWVDS (Desc)'!$J146),0),1))","v":""},{"$f":"IF('WWVDS (Desc)'!$J146=\"\",\"\",INDEX([1]ITS_DEV_MANUF_MODEL!$A$2:$E$1500,MATCH(1,([1]ITS_DEV_MANUF_MODEL!$E$2:$E$1500=\"WWD\")*([1]ITS_DEV_MANUF_MODEL!$D$2:$D$1500='WWVDS (Desc)'!$J146),0),2))","v":""},{"$f":"IF('WWVDS (Desc)'!L146=\"\",\"\",'WWVDS (Desc)'!L146)","v":""},{"$f":"IF('WWVDS (Desc)'!M146=\"\",\"\",'WWVDS (Desc)'!M146)","v":""},{"$f":"IF('WWVDS (Desc)'!N146=\"\",\"\",'WWVDS (Desc)'!N146)","v":""},{"$f":"IF('WWVDS (Desc)'!O146=\"\",\"\",'WWVDS (Desc)'!O146)","v":""},{"$f":"IF('WWVDS (Desc)'!P146=\"\",\"\",'WWVDS (Desc)'!P146)","v":""}]
[{"$f":"IF('WWVDS (Desc)'!A147=\"\",\"\",'WWVDS (Desc)'!A147)","v":""},{"$f":"IF('WWVDS (Desc)'!B147=\"\",\"\",'WWVDS (Desc)'!B147)","v":""},{"$f":"IF('WWVDS (Desc)'!C147=\"\",\"\",'WWVDS (Desc)'!C147)","v":""},{"$f":"IF('WWVDS (Desc)'!D147=\"\",\"\",'WWVDS (Desc)'!D147)","v":""},{"$f":"IF('WWVDS (Desc)'!E147=\"\",\"\",INDEX([1]OWNER!$A$2:$A$100,MATCH('WWVDS (Desc)'!$E147,[1]!MASTER_OWNER_DESC[#Data],0),0))","v":""},{"$f":"IF('WWVDS (Desc)'!F147=\"\",\"\",INDEX([1]COUNTY!$A$2:$A$80,MATCH('WWVDS (Desc)'!F147,[1]!MASTER_COUNTY_NAME[#Data],0),0))","v":""},{"$f":"IF('WWVDS (Desc)'!G147=\"\",\"\",'WWVDS (Desc)'!G147)","v":""},{"$f":"IF('WWVDS (Desc)'!H147=\"\",\"\",'WWVDS (Desc)'!H147)","v":""},{"$f":"IF('WWVDS (Desc)'!I147=\"\",\"\",INDEX([1]WWVDS_TYPE!$A$2:$A$4,MATCH('WWVDS (Desc)'!$I147,[1]!MASTER_WWVDS_TYPE_DESC[#Data],0),0))","v":""},{"$f":"IF('WWVDS (Desc)'!$J147=\"\",\"\",INDEX([1]ITS_DEV_MANUF_MODEL!$A$2:$E$1500,MATCH(1,([1]ITS_DEV_MANUF_MODEL!$E$2:$E$1500=\"WWD\")*([1]ITS_DEV_MANUF_MODEL!$D$2:$D$1500='WWVDS (Desc)'!$J147),0),1))","v":""},{"$f":"IF('WWVDS (Desc)'!$J147=\"\",\"\",INDEX([1]ITS_DEV_MANUF_MODEL!$A$2:$E$1500,MATCH(1,([1]ITS_DEV_MANUF_MODEL!$E$2:$E$1500=\"WWD\")*([1]ITS_DEV_MANUF_MODEL!$D$2:$D$1500='WWVDS (Desc)'!$J147),0),2))","v":""},{"$f":"IF('WWVDS (Desc)'!L147=\"\",\"\",'WWVDS (Desc)'!L147)","v":""},{"$f":"IF('WWVDS (Desc)'!M147=\"\",\"\",'WWVDS (Desc)'!M147)","v":""},{"$f":"IF('WWVDS (Desc)'!N147=\"\",\"\",'WWVDS (Desc)'!N147)","v":""},{"$f":"IF('WWVDS (Desc)'!O147=\"\",\"\",'WWVDS (Desc)'!O147)","v":""},{"$f":"IF('WWVDS (Desc)'!P147=\"\",\"\",'WWVDS (Desc)'!P147)","v":""}]
[{"$f":"IF('WWVDS (Desc)'!A148=\"\",\"\",'WWVDS (Desc)'!A148)","v":""},{"$f":"IF('WWVDS (Desc)'!B148=\"\",\"\",'WWVDS (Desc)'!B148)","v":""},{"$f":"IF('WWVDS (Desc)'!C148=\"\",\"\",'WWVDS (Desc)'!C148)","v":""},{"$f":"IF('WWVDS (Desc)'!D148=\"\",\"\",'WWVDS (Desc)'!D148)","v":""},{"$f":"IF('WWVDS (Desc)'!E148=\"\",\"\",INDEX([1]OWNER!$A$2:$A$100,MATCH('WWVDS (Desc)'!$E148,[1]!MASTER_OWNER_DESC[#Data],0),0))","v":""},{"$f":"IF('WWVDS (Desc)'!F148=\"\",\"\",INDEX([1]COUNTY!$A$2:$A$80,MATCH('WWVDS (Desc)'!F148,[1]!MASTER_COUNTY_NAME[#Data],0),0))","v":""},{"$f":"IF('WWVDS (Desc)'!G148=\"\",\"\",'WWVDS (Desc)'!G148)","v":""},{"$f":"IF('WWVDS (Desc)'!H148=\"\",\"\",'WWVDS (Desc)'!H148)","v":""},{"$f":"IF('WWVDS (Desc)'!I148=\"\",\"\",INDEX([1]WWVDS_TYPE!$A$2:$A$4,MATCH('WWVDS (Desc)'!$I148,[1]!MASTER_WWVDS_TYPE_DESC[#Data],0),0))","v":""},{"$f":"IF('WWVDS (Desc)'!$J148=\"\",\"\",INDEX([1]ITS_DEV_MANUF_MODEL!$A$2:$E$1500,MATCH(1,([1]ITS_DEV_MANUF_MODEL!$E$2:$E$1500=\"WWD\")*([1]ITS_DEV_MANUF_MODEL!$D$2:$D$1500='WWVDS (Desc)'!$J148),0),1))","v":""},{"$f":"IF('WWVDS (Desc)'!$J148=\"\",\"\",INDEX([1]ITS_DEV_MANUF_MODEL!$A$2:$E$1500,MATCH(1,([1]ITS_DEV_MANUF_MODEL!$E$2:$E$1500=\"WWD\")*([1]ITS_DEV_MANUF_MODEL!$D$2:$D$1500='WWVDS (Desc)'!$J148),0),2))","v":""},{"$f":"IF('WWVDS (Desc)'!L148=\"\",\"\",'WWVDS (Desc)'!L148)","v":""},{"$f":"IF('WWVDS (Desc)'!M148=\"\",\"\",'WWVDS (Desc)'!M148)","v":""},{"$f":"IF('WWVDS (Desc)'!N148=\"\",\"\",'WWVDS (Desc)'!N148)","v":""},{"$f":"IF('WWVDS (Desc)'!O148=\"\",\"\",'WWVDS (Desc)'!O148)","v":""},{"$f":"IF('WWVDS (Desc)'!P148=\"\",\"\",'WWVDS (Desc)'!P148)","v":""}]
[{"$f":"IF('WWVDS (Desc)'!A149=\"\",\"\",'WWVDS (Desc)'!A149)","v":""},{"$f":"IF('WWVDS (Desc)'!B149=\"\",\"\",'WWVDS (Desc)'!B149)","v":""},{"$f":"IF('WWVDS (Desc)'!C149=\"\",\"\",'WWVDS (Desc)'!C149)","v":""},{"$f":"IF('WWVDS (Desc)'!D149=\"\",\"\",'WWVDS (Desc)'!D149)","v":""},{"$f":"IF('WWVDS (Desc)'!E149=\"\",\"\",INDEX([1]OWNER!$A$2:$A$100,MATCH('WWVDS (Desc)'!$E149,[1]!MASTER_OWNER_DESC[#Data],0),0))","v":""},{"$f":"IF('WWVDS (Desc)'!F149=\"\",\"\",INDEX([1]COUNTY!$A$2:$A$80,MATCH('WWVDS (Desc)'!F149,[1]!MASTER_COUNTY_NAME[#Data],0),0))","v":""},{"$f":"IF('WWVDS (Desc)'!G149=\"\",\"\",'WWVDS (Desc)'!G149)","v":""},{"$f":"IF('WWVDS (Desc)'!H149=\"\",\"\",'WWVDS (Desc)'!H149)","v":""},{"$f":"IF('WWVDS (Desc)'!I149=\"\",\"\",INDEX([1]WWVDS_TYPE!$A$2:$A$4,MATCH('WWVDS (Desc)'!$I149,[1]!MASTER_WWVDS_TYPE_DESC[#Data],0),0))","v":""},{"$f":"IF('WWVDS (Desc)'!$J149=\"\",\"\",INDEX([1]ITS_DEV_MANUF_MODEL!$A$2:$E$1500,MATCH(1,([1]ITS_DEV_MANUF_MODEL!$E$2:$E$1500=\"WWD\")*([1]ITS_DEV_MANUF_MODEL!$D$2:$D$1500='WWVDS (Desc)'!$J149),0),1))","v":""},{"$f":"IF('WWVDS (Desc)'!$J149=\"\",\"\",INDEX([1]ITS_DEV_MANUF_MODEL!$A$2:$E$1500,MATCH(1,([1]ITS_DEV_MANUF_MODEL!$E$2:$E$1500=\"WWD\")*([1]ITS_DEV_MANUF_MODEL!$D$2:$D$1500='WWVDS (Desc)'!$J149),0),2))","v":""},{"$f":"IF('WWVDS (Desc)'!L149=\"\",\"\",'WWVDS (Desc)'!L149)","v":""},{"$f":"IF('WWVDS (Desc)'!M149=\"\",\"\",'WWVDS (Desc)'!M149)","v":""},{"$f":"IF('WWVDS (Desc)'!N149=\"\",\"\",'WWVDS (Desc)'!N149)","v":""},{"$f":"IF('WWVDS (Desc)'!O149=\"\",\"\",'WWVDS (Desc)'!O149)","v":""},{"$f":"IF('WWVDS (Desc)'!P149=\"\",\"\",'WWVDS (Desc)'!P149)","v":""}]
[{"$f":"IF('WWVDS (Desc)'!A150=\"\",\"\",'WWVDS (Desc)'!A150)","v":""},{"$f":"IF('WWVDS (Desc)'!B150=\"\",\"\",'WWVDS (Desc)'!B150)","v":""},{"$f":"IF('WWVDS (Desc)'!C150=\"\",\"\",'WWVDS (Desc)'!C150)","v":""},{"$f":"IF('WWVDS (Desc)'!D150=\"\",\"\",'WWVDS (Desc)'!D150)","v":""},{"$f":"IF('WWVDS (Desc)'!E150=\"\",\"\",INDEX([1]OWNER!$A$2:$A$100,MATCH('WWVDS (Desc)'!$E150,[1]!MASTER_OWNER_DESC[#Data],0),0))","v":""},{"$f":"IF('WWVDS (Desc)'!F150=\"\",\"\",INDEX([1]COUNTY!$A$2:$A$80,MATCH('WWVDS (Desc)'!F150,[1]!MASTER_COUNTY_NAME[#Data],0),0))","v":""},{"$f":"IF('WWVDS (Desc)'!G150=\"\",\"\",'WWVDS (Desc)'!G150)","v":""},{"$f":"IF('WWVDS (Desc)'!H150=\"\",\"\",'WWVDS (Desc)'!H150)","v":""},{"$f":"IF('WWVDS (Desc)'!I150=\"\",\"\",INDEX([1]WWVDS_TYPE!$A$2:$A$4,MATCH('WWVDS (Desc)'!$I150,[1]!MASTER_WWVDS_TYPE_DESC[#Data],0),0))","v":""},{"$f":"IF('WWVDS (Desc)'!$J150=\"\",\"\",INDEX([1]ITS_DEV_MANUF_MODEL!$A$2:$E$1500,MATCH(1,([1]ITS_DEV_MANUF_MODEL!$E$2:$E$1500=\"WWD\")*([1]ITS_DEV_MANUF_MODEL!$D$2:$D$1500='WWVDS (Desc)'!$J150),0),1))","v":""},{"$f":"IF('WWVDS (Desc)'!$J150=\"\",\"\",INDEX([1]ITS_DEV_MANUF_MODEL!$A$2:$E$1500,MATCH(1,([1]ITS_DEV_MANUF_MODEL!$E$2:$E$1500=\"WWD\")*([1]ITS_DEV_MANUF_MODEL!$D$2:$D$1500='WWVDS (Desc)'!$J150),0),2))","v":""},{"$f":"IF('WWVDS (Desc)'!L150=\"\",\"\",'WWVDS (Desc)'!L150)","v":""},{"$f":"IF('WWVDS (Desc)'!M150=\"\",\"\",'WWVDS (Desc)'!M150)","v":""},{"$f":"IF('WWVDS (Desc)'!N150=\"\",\"\",'WWVDS (Desc)'!N150)","v":""},{"$f":"IF('WWVDS (Desc)'!O150=\"\",\"\",'WWVDS (Desc)'!O150)","v":""},{"$f":"IF('WWVDS (Desc)'!P150=\"\",\"\",'WWVDS (Desc)'!P150)","v":""}]
[{"$f":"IF('WWVDS (Desc)'!A151=\"\",\"\",'WWVDS (Desc)'!A151)","v":""},{"$f":"IF('WWVDS (Desc)'!B151=\"\",\"\",'WWVDS (Desc)'!B151)","v":""},{"$f":"IF('WWVDS (Desc)'!C151=\"\",\"\",'WWVDS (Desc)'!C151)","v":""},{"$f":"IF('WWVDS (Desc)'!D151=\"\",\"\",'WWVDS (Desc)'!D151)","v":""},{"$f":"IF('WWVDS (Desc)'!E151=\"\",\"\",INDEX([1]OWNER!$A$2:$A$100,MATCH('WWVDS (Desc)'!$E151,[1]!MASTER_OWNER_DESC[#Data],0),0))","v":""},{"$f":"IF('WWVDS (Desc)'!F151=\"\",\"\",INDEX([1]COUNTY!$A$2:$A$80,MATCH('WWVDS (Desc)'!F151,[1]!MASTER_COUNTY_NAME[#Data],0),0))","v":""},{"$f":"IF('WWVDS (Desc)'!G151=\"\",\"\",'WWVDS (Desc)'!G151)","v":""},{"$f":"IF('WWVDS (Desc)'!H151=\"\",\"\",'WWVDS (Desc)'!H151)","v":""},{"$f":"IF('WWVDS (Desc)'!I151=\"\",\"\",INDEX([1]WWVDS_TYPE!$A$2:$A$4,MATCH('WWVDS (Desc)'!$I151,[1]!MASTER_WWVDS_TYPE_DESC[#Data],0),0))","v":""},{"$f":"IF('WWVDS (Desc)'!$J151=\"\",\"\",INDEX([1]ITS_DEV_MANUF_MODEL!$A$2:$E$1500,MATCH(1,([1]ITS_DEV_MANUF_MODEL!$E$2:$E$1500=\"WWD\")*([1]ITS_DEV_MANUF_MODEL!$D$2:$D$1500='WWVDS (Desc)'!$J151),0),1))","v":""},{"$f":"IF('WWVDS (Desc)'!$J151=\"\",\"\",INDEX([1]ITS_DEV_MANUF_MODEL!$A$2:$E$1500,MATCH(1,([1]ITS_DEV_MANUF_MODEL!$E$2:$E$1500=\"WWD\")*([1]ITS_DEV_MANUF_MODEL!$D$2:$D$1500='WWVDS (Desc)'!$J151),0),2))","v":""},{"$f":"IF('WWVDS (Desc)'!L151=\"\",\"\",'WWVDS (Desc)'!L151)","v":""},{"$f":"IF('WWVDS (Desc)'!M151=\"\",\"\",'WWVDS (Desc)'!M151)","v":""},{"$f":"IF('WWVDS (Desc)'!N151=\"\",\"\",'WWVDS (Desc)'!N151)","v":""},{"$f":"IF('WWVDS (Desc)'!O151=\"\",\"\",'WWVDS (Desc)'!O151)","v":""},{"$f":"IF('WWVDS (Desc)'!P151=\"\",\"\",'WWVDS (Desc)'!P151)","v":""}]
[{"$f":"IF('WWVDS (Desc)'!A152=\"\",\"\",'WWVDS (Desc)'!A152)","v":""},{"$f":"IF('WWVDS (Desc)'!B152=\"\",\"\",'WWVDS (Desc)'!B152)","v":""},{"$f":"IF('WWVDS (Desc)'!C152=\"\",\"\",'WWVDS (Desc)'!C152)","v":""},{"$f":"IF('WWVDS (Desc)'!D152=\"\",\"\",'WWVDS (Desc)'!D152)","v":""},{"$f":"IF('WWVDS (Desc)'!E152=\"\",\"\",INDEX([1]OWNER!$A$2:$A$100,MATCH('WWVDS (Desc)'!$E152,[1]!MASTER_OWNER_DESC[#Data],0),0))","v":""},{"$f":"IF('WWVDS (Desc)'!F152=\"\",\"\",INDEX([1]COUNTY!$A$2:$A$80,MATCH('WWVDS (Desc)'!F152,[1]!MASTER_COUNTY_NAME[#Data],0),0))","v":""},{"$f":"IF('WWVDS (Desc)'!G152=\"\",\"\",'WWVDS (Desc)'!G152)","v":""},{"$f":"IF('WWVDS (Desc)'!H152=\"\",\"\",'WWVDS (Desc)'!H152)","v":""},{"$f":"IF('WWVDS (Desc)'!I152=\"\",\"\",INDEX([1]WWVDS_TYPE!$A$2:$A$4,MATCH('WWVDS (Desc)'!$I152,[1]!MASTER_WWVDS_TYPE_DESC[#Data],0),0))","v":""},{"$f":"IF('WWVDS (Desc)'!$J152=\"\",\"\",INDEX([1]ITS_DEV_MANUF_MODEL!$A$2:$E$1500,MATCH(1,([1]ITS_DEV_MANUF_MODEL!$E$2:$E$1500=\"WWD\")*([1]ITS_DEV_MANUF_MODEL!$D$2:$D$1500='WWVDS (Desc)'!$J152),0),1))","v":""},{"$f":"IF('WWVDS (Desc)'!$J152=\"\",\"\",INDEX([1]ITS_DEV_MANUF_MODEL!$A$2:$E$1500,MATCH(1,([1]ITS_DEV_MANUF_MODEL!$E$2:$E$1500=\"WWD\")*([1]ITS_DEV_MANUF_MODEL!$D$2:$D$1500='WWVDS (Desc)'!$J152),0),2))","v":""},{"$f":"IF('WWVDS (Desc)'!L152=\"\",\"\",'WWVDS (Desc)'!L152)","v":""},{"$f":"IF('WWVDS (Desc)'!M152=\"\",\"\",'WWVDS (Desc)'!M152)","v":""},{"$f":"IF('WWVDS (Desc)'!N152=\"\",\"\",'WWVDS (Desc)'!N152)","v":""},{"$f":"IF('WWVDS (Desc)'!O152=\"\",\"\",'WWVDS (Desc)'!O152)","v":""},{"$f":"IF('WWVDS (Desc)'!P152=\"\",\"\",'WWVDS (Desc)'!P152)","v":""}]
[{"$f":"IF('WWVDS (Desc)'!A153=\"\",\"\",'WWVDS (Desc)'!A153)","v":""},{"$f":"IF('WWVDS (Desc)'!B153=\"\",\"\",'WWVDS (Desc)'!B153)","v":""},{"$f":"IF('WWVDS (Desc)'!C153=\"\",\"\",'WWVDS (Desc)'!C153)","v":""},{"$f":"IF('WWVDS (Desc)'!D153=\"\",\"\",'WWVDS (Desc)'!D153)","v":""},{"$f":"IF('WWVDS (Desc)'!E153=\"\",\"\",INDEX([1]OWNER!$A$2:$A$100,MATCH('WWVDS (Desc)'!$E153,[1]!MASTER_OWNER_DESC[#Data],0),0))","v":""},{"$f":"IF('WWVDS (Desc)'!F153=\"\",\"\",INDEX([1]COUNTY!$A$2:$A$80,MATCH('WWVDS (Desc)'!F153,[1]!MASTER_COUNTY_NAME[#Data],0),0))","v":""},{"$f":"IF('WWVDS (Desc)'!G153=\"\",\"\",'WWVDS (Desc)'!G153)","v":""},{"$f":"IF('WWVDS (Desc)'!H153=\"\",\"\",'WWVDS (Desc)'!H153)","v":""},{"$f":"IF('WWVDS (Desc)'!I153=\"\",\"\",INDEX([1]WWVDS_TYPE!$A$2:$A$4,MATCH('WWVDS (Desc)'!$I153,[1]!MASTER_WWVDS_TYPE_DESC[#Data],0),0))","v":""},{"$f":"IF('WWVDS (Desc)'!$J153=\"\",\"\",INDEX([1]ITS_DEV_MANUF_MODEL!$A$2:$E$1500,MATCH(1,([1]ITS_DEV_MANUF_MODEL!$E$2:$E$1500=\"WWD\")*([1]ITS_DEV_MANUF_MODEL!$D$2:$D$1500='WWVDS (Desc)'!$J153),0),1))","v":""},{"$f":"IF('WWVDS (Desc)'!$J153=\"\",\"\",INDEX([1]ITS_DEV_MANUF_MODEL!$A$2:$E$1500,MATCH(1,([1]ITS_DEV_MANUF_MODEL!$E$2:$E$1500=\"WWD\")*([1]ITS_DEV_MANUF_MODEL!$D$2:$D$1500='WWVDS (Desc)'!$J153),0),2))","v":""},{"$f":"IF('WWVDS (Desc)'!L153=\"\",\"\",'WWVDS (Desc)'!L153)","v":""},{"$f":"IF('WWVDS (Desc)'!M153=\"\",\"\",'WWVDS (Desc)'!M153)","v":""},{"$f":"IF('WWVDS (Desc)'!N153=\"\",\"\",'WWVDS (Desc)'!N153)","v":""},{"$f":"IF('WWVDS (Desc)'!O153=\"\",\"\",'WWVDS (Desc)'!O153)","v":""},{"$f":"IF('WWVDS (Desc)'!P153=\"\",\"\",'WWVDS (Desc)'!P153)","v":""}]
[{"$f":"IF('WWVDS (Desc)'!A154=\"\",\"\",'WWVDS (Desc)'!A154)","v":""},{"$f":"IF('WWVDS (Desc)'!B154=\"\",\"\",'WWVDS (Desc)'!B154)","v":""},{"$f":"IF('WWVDS (Desc)'!C154=\"\",\"\",'WWVDS (Desc)'!C154)","v":""},{"$f":"IF('WWVDS (Desc)'!D154=\"\",\"\",'WWVDS (Desc)'!D154)","v":""},{"$f":"IF('WWVDS (Desc)'!E154=\"\",\"\",INDEX([1]OWNER!$A$2:$A$100,MATCH('WWVDS (Desc)'!$E154,[1]!MASTER_OWNER_DESC[#Data],0),0))","v":""},{"$f":"IF('WWVDS (Desc)'!F154=\"\",\"\",INDEX([1]COUNTY!$A$2:$A$80,MATCH('WWVDS (Desc)'!F154,[1]!MASTER_COUNTY_NAME[#Data],0),0))","v":""},{"$f":"IF('WWVDS (Desc)'!G154=\"\",\"\",'WWVDS (Desc)'!G154)","v":""},{"$f":"IF('WWVDS (Desc)'!H154=\"\",\"\",'WWVDS (Desc)'!H154)","v":""},{"$f":"IF('WWVDS (Desc)'!I154=\"\",\"\",INDEX([1]WWVDS_TYPE!$A$2:$A$4,MATCH('WWVDS (Desc)'!$I154,[1]!MASTER_WWVDS_TYPE_DESC[#Data],0),0))","v":""},{"$f":"IF('WWVDS (Desc)'!$J154=\"\",\"\",INDEX([1]ITS_DEV_MANUF_MODEL!$A$2:$E$1500,MATCH(1,([1]ITS_DEV_MANUF_MODEL!$E$2:$E$1500=\"WWD\")*([1]ITS_DEV_MANUF_MODEL!$D$2:$D$1500='WWVDS (Desc)'!$J154),0),1))","v":""},{"$f":"IF('WWVDS (Desc)'!$J154=\"\",\"\",INDEX([1]ITS_DEV_MANUF_MODEL!$A$2:$E$1500,MATCH(1,([1]ITS_DEV_MANUF_MODEL!$E$2:$E$1500=\"WWD\")*([1]ITS_DEV_MANUF_MODEL!$D$2:$D$1500='WWVDS (Desc)'!$J154),0),2))","v":""},{"$f":"IF('WWVDS (Desc)'!L154=\"\",\"\",'WWVDS (Desc)'!L154)","v":""},{"$f":"IF('WWVDS (Desc)'!M154=\"\",\"\",'WWVDS (Desc)'!M154)","v":""},{"$f":"IF('WWVDS (Desc)'!N154=\"\",\"\",'WWVDS (Desc)'!N154)","v":""},{"$f":"IF('WWVDS (Desc)'!O154=\"\",\"\",'WWVDS (Desc)'!O154)","v":""},{"$f":"IF('WWVDS (Desc)'!P154=\"\",\"\",'WWVDS (Desc)'!P154)","v":""}]
[{"$f":"IF('WWVDS (Desc)'!A155=\"\",\"\",'WWVDS (Desc)'!A155)","v":""},{"$f":"IF('WWVDS (Desc)'!B155=\"\",\"\",'WWVDS (Desc)'!B155)","v":""},{"$f":"IF('WWVDS (Desc)'!C155=\"\",\"\",'WWVDS (Desc)'!C155)","v":""},{"$f":"IF('WWVDS (Desc)'!D155=\"\",\"\",'WWVDS (Desc)'!D155)","v":""},{"$f":"IF('WWVDS (Desc)'!E155=\"\",\"\",INDEX([1]OWNER!$A$2:$A$100,MATCH('WWVDS (Desc)'!$E155,[1]!MASTER_OWNER_DESC[#Data],0),0))","v":""},{"$f":"IF('WWVDS (Desc)'!F155=\"\",\"\",INDEX([1]COUNTY!$A$2:$A$80,MATCH('WWVDS (Desc)'!F155,[1]!MASTER_COUNTY_NAME[#Data],0),0))","v":""},{"$f":"IF('WWVDS (Desc)'!G155=\"\",\"\",'WWVDS (Desc)'!G155)","v":""},{"$f":"IF('WWVDS (Desc)'!H155=\"\",\"\",'WWVDS (Desc)'!H155)","v":""},{"$f":"IF('WWVDS (Desc)'!I155=\"\",\"\",INDEX([1]WWVDS_TYPE!$A$2:$A$4,MATCH('WWVDS (Desc)'!$I155,[1]!MASTER_WWVDS_TYPE_DESC[#Data],0),0))","v":""},{"$f":"IF('WWVDS (Desc)'!$J155=\"\",\"\",INDEX([1]ITS_DEV_MANUF_MODEL!$A$2:$E$1500,MATCH(1,([1]ITS_DEV_MANUF_MODEL!$E$2:$E$1500=\"WWD\")*([1]ITS_DEV_MANUF_MODEL!$D$2:$D$1500='WWVDS (Desc)'!$J155),0),1))","v":""},{"$f":"IF('WWVDS (Desc)'!$J155=\"\",\"\",INDEX([1]ITS_DEV_MANUF_MODEL!$A$2:$E$1500,MATCH(1,([1]ITS_DEV_MANUF_MODEL!$E$2:$E$1500=\"WWD\")*([1]ITS_DEV_MANUF_MODEL!$D$2:$D$1500='WWVDS (Desc)'!$J155),0),2))","v":""},{"$f":"IF('WWVDS (Desc)'!L155=\"\",\"\",'WWVDS (Desc)'!L155)","v":""},{"$f":"IF('WWVDS (Desc)'!M155=\"\",\"\",'WWVDS (Desc)'!M155)","v":""},{"$f":"IF('WWVDS (Desc)'!N155=\"\",\"\",'WWVDS (Desc)'!N155)","v":""},{"$f":"IF('WWVDS (Desc)'!O155=\"\",\"\",'WWVDS (Desc)'!O155)","v":""},{"$f":"IF('WWVDS (Desc)'!P155=\"\",\"\",'WWVDS (Desc)'!P155)","v":""}]
[{"$f":"IF('WWVDS (Desc)'!A156=\"\",\"\",'WWVDS (Desc)'!A156)","v":""},{"$f":"IF('WWVDS (Desc)'!B156=\"\",\"\",'WWVDS (Desc)'!B156)","v":""},{"$f":"IF('WWVDS (Desc)'!C156=\"\",\"\",'WWVDS (Desc)'!C156)","v":""},{"$f":"IF('WWVDS (Desc)'!D156=\"\",\"\",'WWVDS (Desc)'!D156)","v":""},{"$f":"IF('WWVDS (Desc)'!E156=\"\",\"\",INDEX([1]OWNER!$A$2:$A$100,MATCH('WWVDS (Desc)'!$E156,[1]!MASTER_OWNER_DESC[#Data],0),0))","v":""},{"$f":"IF('WWVDS (Desc)'!F156=\"\",\"\",INDEX([1]COUNTY!$A$2:$A$80,MATCH('WWVDS (Desc)'!F156,[1]!MASTER_COUNTY_NAME[#Data],0),0))","v":""},{"$f":"IF('WWVDS (Desc)'!G156=\"\",\"\",'WWVDS (Desc)'!G156)","v":""},{"$f":"IF('WWVDS (Desc)'!H156=\"\",\"\",'WWVDS (Desc)'!H156)","v":""},{"$f":"IF('WWVDS (Desc)'!I156=\"\",\"\",INDEX([1]WWVDS_TYPE!$A$2:$A$4,MATCH('WWVDS (Desc)'!$I156,[1]!MASTER_WWVDS_TYPE_DESC[#Data],0),0))","v":""},{"$f":"IF('WWVDS (Desc)'!$J156=\"\",\"\",INDEX([1]ITS_DEV_MANUF_MODEL!$A$2:$E$1500,MATCH(1,([1]ITS_DEV_MANUF_MODEL!$E$2:$E$1500=\"WWD\")*([1]ITS_DEV_MANUF_MODEL!$D$2:$D$1500='WWVDS (Desc)'!$J156),0),1))","v":""},{"$f":"IF('WWVDS (Desc)'!$J156=\"\",\"\",INDEX([1]ITS_DEV_MANUF_MODEL!$A$2:$E$1500,MATCH(1,([1]ITS_DEV_MANUF_MODEL!$E$2:$E$1500=\"WWD\")*([1]ITS_DEV_MANUF_MODEL!$D$2:$D$1500='WWVDS (Desc)'!$J156),0),2))","v":""},{"$f":"IF('WWVDS (Desc)'!L156=\"\",\"\",'WWVDS (Desc)'!L156)","v":""},{"$f":"IF('WWVDS (Desc)'!M156=\"\",\"\",'WWVDS (Desc)'!M156)","v":""},{"$f":"IF('WWVDS (Desc)'!N156=\"\",\"\",'WWVDS (Desc)'!N156)","v":""},{"$f":"IF('WWVDS (Desc)'!O156=\"\",\"\",'WWVDS (Desc)'!O156)","v":""},{"$f":"IF('WWVDS (Desc)'!P156=\"\",\"\",'WWVDS (Desc)'!P156)","v":""}]
[{"$f":"IF('WWVDS (Desc)'!A157=\"\",\"\",'WWVDS (Desc)'!A157)","v":""},{"$f":"IF('WWVDS (Desc)'!B157=\"\",\"\",'WWVDS (Desc)'!B157)","v":""},{"$f":"IF('WWVDS (Desc)'!C157=\"\",\"\",'WWVDS (Desc)'!C157)","v":""},{"$f":"IF('WWVDS (Desc)'!D157=\"\",\"\",'WWVDS (Desc)'!D157)","v":""},{"$f":"IF('WWVDS (Desc)'!E157=\"\",\"\",INDEX([1]OWNER!$A$2:$A$100,MATCH('WWVDS (Desc)'!$E157,[1]!MASTER_OWNER_DESC[#Data],0),0))","v":""},{"$f":"IF('WWVDS (Desc)'!F157=\"\",\"\",INDEX([1]COUNTY!$A$2:$A$80,MATCH('WWVDS (Desc)'!F157,[1]!MASTER_COUNTY_NAME[#Data],0),0))","v":""},{"$f":"IF('WWVDS (Desc)'!G157=\"\",\"\",'WWVDS (Desc)'!G157)","v":""},{"$f":"IF('WWVDS (Desc)'!H157=\"\",\"\",'WWVDS (Desc)'!H157)","v":""},{"$f":"IF('WWVDS (Desc)'!I157=\"\",\"\",INDEX([1]WWVDS_TYPE!$A$2:$A$4,MATCH('WWVDS (Desc)'!$I157,[1]!MASTER_WWVDS_TYPE_DESC[#Data],0),0))","v":""},{"$f":"IF('WWVDS (Desc)'!$J157=\"\",\"\",INDEX([1]ITS_DEV_MANUF_MODEL!$A$2:$E$1500,MATCH(1,([1]ITS_DEV_MANUF_MODEL!$E$2:$E$1500=\"WWD\")*([1]ITS_DEV_MANUF_MODEL!$D$2:$D$1500='WWVDS (Desc)'!$J157),0),1))","v":""},{"$f":"IF('WWVDS (Desc)'!$J157=\"\",\"\",INDEX([1]ITS_DEV_MANUF_MODEL!$A$2:$E$1500,MATCH(1,([1]ITS_DEV_MANUF_MODEL!$E$2:$E$1500=\"WWD\")*([1]ITS_DEV_MANUF_MODEL!$D$2:$D$1500='WWVDS (Desc)'!$J157),0),2))","v":""},{"$f":"IF('WWVDS (Desc)'!L157=\"\",\"\",'WWVDS (Desc)'!L157)","v":""},{"$f":"IF('WWVDS (Desc)'!M157=\"\",\"\",'WWVDS (Desc)'!M157)","v":""},{"$f":"IF('WWVDS (Desc)'!N157=\"\",\"\",'WWVDS (Desc)'!N157)","v":""},{"$f":"IF('WWVDS (Desc)'!O157=\"\",\"\",'WWVDS (Desc)'!O157)","v":""},{"$f":"IF('WWVDS (Desc)'!P157=\"\",\"\",'WWVDS (Desc)'!P157)","v":""}]
[{"$f":"IF('WWVDS (Desc)'!A158=\"\",\"\",'WWVDS (Desc)'!A158)","v":""},{"$f":"IF('WWVDS (Desc)'!B158=\"\",\"\",'WWVDS (Desc)'!B158)","v":""},{"$f":"IF('WWVDS (Desc)'!C158=\"\",\"\",'WWVDS (Desc)'!C158)","v":""},{"$f":"IF('WWVDS (Desc)'!D158=\"\",\"\",'WWVDS (Desc)'!D158)","v":""},{"$f":"IF('WWVDS (Desc)'!E158=\"\",\"\",INDEX([1]OWNER!$A$2:$A$100,MATCH('WWVDS (Desc)'!$E158,[1]!MASTER_OWNER_DESC[#Data],0),0))","v":""},{"$f":"IF('WWVDS (Desc)'!F158=\"\",\"\",INDEX([1]COUNTY!$A$2:$A$80,MATCH('WWVDS (Desc)'!F158,[1]!MASTER_COUNTY_NAME[#Data],0),0))","v":""},{"$f":"IF('WWVDS (Desc)'!G158=\"\",\"\",'WWVDS (Desc)'!G158)","v":""},{"$f":"IF('WWVDS (Desc)'!H158=\"\",\"\",'WWVDS (Desc)'!H158)","v":""},{"$f":"IF('WWVDS (Desc)'!I158=\"\",\"\",INDEX([1]WWVDS_TYPE!$A$2:$A$4,MATCH('WWVDS (Desc)'!$I158,[1]!MASTER_WWVDS_TYPE_DESC[#Data],0),0))","v":""},{"$f":"IF('WWVDS (Desc)'!$J158=\"\",\"\",INDEX([1]ITS_DEV_MANUF_MODEL!$A$2:$E$1500,MATCH(1,([1]ITS_DEV_MANUF_MODEL!$E$2:$E$1500=\"WWD\")*([1]ITS_DEV_MANUF_MODEL!$D$2:$D$1500='WWVDS (Desc)'!$J158),0),1))","v":""},{"$f":"IF('WWVDS (Desc)'!$J158=\"\",\"\",INDEX([1]ITS_DEV_MANUF_MODEL!$A$2:$E$1500,MATCH(1,([1]ITS_DEV_MANUF_MODEL!$E$2:$E$1500=\"WWD\")*([1]ITS_DEV_MANUF_MODEL!$D$2:$D$1500='WWVDS (Desc)'!$J158),0),2))","v":""},{"$f":"IF('WWVDS (Desc)'!L158=\"\",\"\",'WWVDS (Desc)'!L158)","v":""},{"$f":"IF('WWVDS (Desc)'!M158=\"\",\"\",'WWVDS (Desc)'!M158)","v":""},{"$f":"IF('WWVDS (Desc)'!N158=\"\",\"\",'WWVDS (Desc)'!N158)","v":""},{"$f":"IF('WWVDS (Desc)'!O158=\"\",\"\",'WWVDS (Desc)'!O158)","v":""},{"$f":"IF('WWVDS (Desc)'!P158=\"\",\"\",'WWVDS (Desc)'!P158)","v":""}]
[{"$f":"IF('WWVDS (Desc)'!A159=\"\",\"\",'WWVDS (Desc)'!A159)","v":""},{"$f":"IF('WWVDS (Desc)'!B159=\"\",\"\",'WWVDS (Desc)'!B159)","v":""},{"$f":"IF('WWVDS (Desc)'!C159=\"\",\"\",'WWVDS (Desc)'!C159)","v":""},{"$f":"IF('WWVDS (Desc)'!D159=\"\",\"\",'WWVDS (Desc)'!D159)","v":""},{"$f":"IF('WWVDS (Desc)'!E159=\"\",\"\",INDEX([1]OWNER!$A$2:$A$100,MATCH('WWVDS (Desc)'!$E159,[1]!MASTER_OWNER_DESC[#Data],0),0))","v":""},{"$f":"IF('WWVDS (Desc)'!F159=\"\",\"\",INDEX([1]COUNTY!$A$2:$A$80,MATCH('WWVDS (Desc)'!F159,[1]!MASTER_COUNTY_NAME[#Data],0),0))","v":""},{"$f":"IF('WWVDS (Desc)'!G159=\"\",\"\",'WWVDS (Desc)'!G159)","v":""},{"$f":"IF('WWVDS (Desc)'!H159=\"\",\"\",'WWVDS (Desc)'!H159)","v":""},{"$f":"IF('WWVDS (Desc)'!I159=\"\",\"\",INDEX([1]WWVDS_TYPE!$A$2:$A$4,MATCH('WWVDS (Desc)'!$I159,[1]!MASTER_WWVDS_TYPE_DESC[#Data],0),0))","v":""},{"$f":"IF('WWVDS (Desc)'!$J159=\"\",\"\",INDEX([1]ITS_DEV_MANUF_MODEL!$A$2:$E$1500,MATCH(1,([1]ITS_DEV_MANUF_MODEL!$E$2:$E$1500=\"WWD\")*([1]ITS_DEV_MANUF_MODEL!$D$2:$D$1500='WWVDS (Desc)'!$J159),0),1))","v":""},{"$f":"IF('WWVDS (Desc)'!$J159=\"\",\"\",INDEX([1]ITS_DEV_MANUF_MODEL!$A$2:$E$1500,MATCH(1,([1]ITS_DEV_MANUF_MODEL!$E$2:$E$1500=\"WWD\")*([1]ITS_DEV_MANUF_MODEL!$D$2:$D$1500='WWVDS (Desc)'!$J159),0),2))","v":""},{"$f":"IF('WWVDS (Desc)'!L159=\"\",\"\",'WWVDS (Desc)'!L159)","v":""},{"$f":"IF('WWVDS (Desc)'!M159=\"\",\"\",'WWVDS (Desc)'!M159)","v":""},{"$f":"IF('WWVDS (Desc)'!N159=\"\",\"\",'WWVDS (Desc)'!N159)","v":""},{"$f":"IF('WWVDS (Desc)'!O159=\"\",\"\",'WWVDS (Desc)'!O159)","v":""},{"$f":"IF('WWVDS (Desc)'!P159=\"\",\"\",'WWVDS (Desc)'!P159)","v":""}]
[{"$f":"IF('WWVDS (Desc)'!A160=\"\",\"\",'WWVDS (Desc)'!A160)","v":""},{"$f":"IF('WWVDS (Desc)'!B160=\"\",\"\",'WWVDS (Desc)'!B160)","v":""},{"$f":"IF('WWVDS (Desc)'!C160=\"\",\"\",'WWVDS (Desc)'!C160)","v":""},{"$f":"IF('WWVDS (Desc)'!D160=\"\",\"\",'WWVDS (Desc)'!D160)","v":""},{"$f":"IF('WWVDS (Desc)'!E160=\"\",\"\",INDEX([1]OWNER!$A$2:$A$100,MATCH('WWVDS (Desc)'!$E160,[1]!MASTER_OWNER_DESC[#Data],0),0))","v":""},{"$f":"IF('WWVDS (Desc)'!F160=\"\",\"\",INDEX([1]COUNTY!$A$2:$A$80,MATCH('WWVDS (Desc)'!F160,[1]!MASTER_COUNTY_NAME[#Data],0),0))","v":""},{"$f":"IF('WWVDS (Desc)'!G160=\"\",\"\",'WWVDS (Desc)'!G160)","v":""},{"$f":"IF('WWVDS (Desc)'!H160=\"\",\"\",'WWVDS (Desc)'!H160)","v":""},{"$f":"IF('WWVDS (Desc)'!I160=\"\",\"\",INDEX([1]WWVDS_TYPE!$A$2:$A$4,MATCH('WWVDS (Desc)'!$I160,[1]!MASTER_WWVDS_TYPE_DESC[#Data],0),0))","v":""},{"$f":"IF('WWVDS (Desc)'!$J160=\"\",\"\",INDEX([1]ITS_DEV_MANUF_MODEL!$A$2:$E$1500,MATCH(1,([1]ITS_DEV_MANUF_MODEL!$E$2:$E$1500=\"WWD\")*([1]ITS_DEV_MANUF_MODEL!$D$2:$D$1500='WWVDS (Desc)'!$J160),0),1))","v":""},{"$f":"IF('WWVDS (Desc)'!$J160=\"\",\"\",INDEX([1]ITS_DEV_MANUF_MODEL!$A$2:$E$1500,MATCH(1,([1]ITS_DEV_MANUF_MODEL!$E$2:$E$1500=\"WWD\")*([1]ITS_DEV_MANUF_MODEL!$D$2:$D$1500='WWVDS (Desc)'!$J160),0),2))","v":""},{"$f":"IF('WWVDS (Desc)'!L160=\"\",\"\",'WWVDS (Desc)'!L160)","v":""},{"$f":"IF('WWVDS (Desc)'!M160=\"\",\"\",'WWVDS (Desc)'!M160)","v":""},{"$f":"IF('WWVDS (Desc)'!N160=\"\",\"\",'WWVDS (Desc)'!N160)","v":""},{"$f":"IF('WWVDS (Desc)'!O160=\"\",\"\",'WWVDS (Desc)'!O160)","v":""},{"$f":"IF('WWVDS (Desc)'!P160=\"\",\"\",'WWVDS (Desc)'!P160)","v":""}]
[{"$f":"IF('WWVDS (Desc)'!A161=\"\",\"\",'WWVDS (Desc)'!A161)","v":""},{"$f":"IF('WWVDS (Desc)'!B161=\"\",\"\",'WWVDS (Desc)'!B161)","v":""},{"$f":"IF('WWVDS (Desc)'!C161=\"\",\"\",'WWVDS (Desc)'!C161)","v":""},{"$f":"IF('WWVDS (Desc)'!D161=\"\",\"\",'WWVDS (Desc)'!D161)","v":""},{"$f":"IF('WWVDS (Desc)'!E161=\"\",\"\",INDEX([1]OWNER!$A$2:$A$100,MATCH('WWVDS (Desc)'!$E161,[1]!MASTER_OWNER_DESC[#Data],0),0))","v":""},{"$f":"IF('WWVDS (Desc)'!F161=\"\",\"\",INDEX([1]COUNTY!$A$2:$A$80,MATCH('WWVDS (Desc)'!F161,[1]!MASTER_COUNTY_NAME[#Data],0),0))","v":""},{"$f":"IF('WWVDS (Desc)'!G161=\"\",\"\",'WWVDS (Desc)'!G161)","v":""},{"$f":"IF('WWVDS (Desc)'!H161=\"\",\"\",'WWVDS (Desc)'!H161)","v":""},{"$f":"IF('WWVDS (Desc)'!I161=\"\",\"\",INDEX([1]WWVDS_TYPE!$A$2:$A$4,MATCH('WWVDS (Desc)'!$I161,[1]!MASTER_WWVDS_TYPE_DESC[#Data],0),0))","v":""},{"$f":"IF('WWVDS (Desc)'!$J161=\"\",\"\",INDEX([1]ITS_DEV_MANUF_MODEL!$A$2:$E$1500,MATCH(1,([1]ITS_DEV_MANUF_MODEL!$E$2:$E$1500=\"WWD\")*([1]ITS_DEV_MANUF_MODEL!$D$2:$D$1500='WWVDS (Desc)'!$J161),0),1))","v":""},{"$f":"IF('WWVDS (Desc)'!$J161=\"\",\"\",INDEX([1]ITS_DEV_MANUF_MODEL!$A$2:$E$1500,MATCH(1,([1]ITS_DEV_MANUF_MODEL!$E$2:$E$1500=\"WWD\")*([1]ITS_DEV_MANUF_MODEL!$D$2:$D$1500='WWVDS (Desc)'!$J161),0),2))","v":""},{"$f":"IF('WWVDS (Desc)'!L161=\"\",\"\",'WWVDS (Desc)'!L161)","v":""},{"$f":"IF('WWVDS (Desc)'!M161=\"\",\"\",'WWVDS (Desc)'!M161)","v":""},{"$f":"IF('WWVDS (Desc)'!N161=\"\",\"\",'WWVDS (Desc)'!N161)","v":""},{"$f":"IF('WWVDS (Desc)'!O161=\"\",\"\",'WWVDS (Desc)'!O161)","v":""},{"$f":"IF('WWVDS (Desc)'!P161=\"\",\"\",'WWVDS (Desc)'!P161)","v":""}]
[{"$f":"IF('WWVDS (Desc)'!A162=\"\",\"\",'WWVDS (Desc)'!A162)","v":""},{"$f":"IF('WWVDS (Desc)'!B162=\"\",\"\",'WWVDS (Desc)'!B162)","v":""},{"$f":"IF('WWVDS (Desc)'!C162=\"\",\"\",'WWVDS (Desc)'!C162)","v":""},{"$f":"IF('WWVDS (Desc)'!D162=\"\",\"\",'WWVDS (Desc)'!D162)","v":""},{"$f":"IF('WWVDS (Desc)'!E162=\"\",\"\",INDEX([1]OWNER!$A$2:$A$100,MATCH('WWVDS (Desc)'!$E162,[1]!MASTER_OWNER_DESC[#Data],0),0))","v":""},{"$f":"IF('WWVDS (Desc)'!F162=\"\",\"\",INDEX([1]COUNTY!$A$2:$A$80,MATCH('WWVDS (Desc)'!F162,[1]!MASTER_COUNTY_NAME[#Data],0),0))","v":""},{"$f":"IF('WWVDS (Desc)'!G162=\"\",\"\",'WWVDS (Desc)'!G162)","v":""},{"$f":"IF('WWVDS (Desc)'!H162=\"\",\"\",'WWVDS (Desc)'!H162)","v":""},{"$f":"IF('WWVDS (Desc)'!I162=\"\",\"\",INDEX([1]WWVDS_TYPE!$A$2:$A$4,MATCH('WWVDS (Desc)'!$I162,[1]!MASTER_WWVDS_TYPE_DESC[#Data],0),0))","v":""},{"$f":"IF('WWVDS (Desc)'!$J162=\"\",\"\",INDEX([1]ITS_DEV_MANUF_MODEL!$A$2:$E$1500,MATCH(1,([1]ITS_DEV_MANUF_MODEL!$E$2:$E$1500=\"WWD\")*([1]ITS_DEV_MANUF_MODEL!$D$2:$D$1500='WWVDS (Desc)'!$J162),0),1))","v":""},{"$f":"IF('WWVDS (Desc)'!$J162=\"\",\"\",INDEX([1]ITS_DEV_MANUF_MODEL!$A$2:$E$1500,MATCH(1,([1]ITS_DEV_MANUF_MODEL!$E$2:$E$1500=\"WWD\")*([1]ITS_DEV_MANUF_MODEL!$D$2:$D$1500='WWVDS (Desc)'!$J162),0),2))","v":""},{"$f":"IF('WWVDS (Desc)'!L162=\"\",\"\",'WWVDS (Desc)'!L162)","v":""},{"$f":"IF('WWVDS (Desc)'!M162=\"\",\"\",'WWVDS (Desc)'!M162)","v":""},{"$f":"IF('WWVDS (Desc)'!N162=\"\",\"\",'WWVDS (Desc)'!N162)","v":""},{"$f":"IF('WWVDS (Desc)'!O162=\"\",\"\",'WWVDS (Desc)'!O162)","v":""},{"$f":"IF('WWVDS (Desc)'!P162=\"\",\"\",'WWVDS (Desc)'!P162)","v":""}]
[{"$f":"IF('WWVDS (Desc)'!A163=\"\",\"\",'WWVDS (Desc)'!A163)","v":""},{"$f":"IF('WWVDS (Desc)'!B163=\"\",\"\",'WWVDS (Desc)'!B163)","v":""},{"$f":"IF('WWVDS (Desc)'!C163=\"\",\"\",'WWVDS (Desc)'!C163)","v":""},{"$f":"IF('WWVDS (Desc)'!D163=\"\",\"\",'WWVDS (Desc)'!D163)","v":""},{"$f":"IF('WWVDS (Desc)'!E163=\"\",\"\",INDEX([1]OWNER!$A$2:$A$100,MATCH('WWVDS (Desc)'!$E163,[1]!MASTER_OWNER_DESC[#Data],0),0))","v":""},{"$f":"IF('WWVDS (Desc)'!F163=\"\",\"\",INDEX([1]COUNTY!$A$2:$A$80,MATCH('WWVDS (Desc)'!F163,[1]!MASTER_COUNTY_NAME[#Data],0),0))","v":""},{"$f":"IF('WWVDS (Desc)'!G163=\"\",\"\",'WWVDS (Desc)'!G163)","v":""},{"$f":"IF('WWVDS (Desc)'!H163=\"\",\"\",'WWVDS (Desc)'!H163)","v":""},{"$f":"IF('WWVDS (Desc)'!I163=\"\",\"\",INDEX([1]WWVDS_TYPE!$A$2:$A$4,MATCH('WWVDS (Desc)'!$I163,[1]!MASTER_WWVDS_TYPE_DESC[#Data],0),0))","v":""},{"$f":"IF('WWVDS (Desc)'!$J163=\"\",\"\",INDEX([1]ITS_DEV_MANUF_MODEL!$A$2:$E$1500,MATCH(1,([1]ITS_DEV_MANUF_MODEL!$E$2:$E$1500=\"WWD\")*([1]ITS_DEV_MANUF_MODEL!$D$2:$D$1500='WWVDS (Desc)'!$J163),0),1))","v":""},{"$f":"IF('WWVDS (Desc)'!$J163=\"\",\"\",INDEX([1]ITS_DEV_MANUF_MODEL!$A$2:$E$1500,MATCH(1,([1]ITS_DEV_MANUF_MODEL!$E$2:$E$1500=\"WWD\")*([1]ITS_DEV_MANUF_MODEL!$D$2:$D$1500='WWVDS (Desc)'!$J163),0),2))","v":""},{"$f":"IF('WWVDS (Desc)'!L163=\"\",\"\",'WWVDS (Desc)'!L163)","v":""},{"$f":"IF('WWVDS (Desc)'!M163=\"\",\"\",'WWVDS (Desc)'!M163)","v":""},{"$f":"IF('WWVDS (Desc)'!N163=\"\",\"\",'WWVDS (Desc)'!N163)","v":""},{"$f":"IF('WWVDS (Desc)'!O163=\"\",\"\",'WWVDS (Desc)'!O163)","v":""},{"$f":"IF('WWVDS (Desc)'!P163=\"\",\"\",'WWVDS (Desc)'!P163)","v":""}]
[{"$f":"IF('WWVDS (Desc)'!A164=\"\",\"\",'WWVDS (Desc)'!A164)","v":""},{"$f":"IF('WWVDS (Desc)'!B164=\"\",\"\",'WWVDS (Desc)'!B164)","v":""},{"$f":"IF('WWVDS (Desc)'!C164=\"\",\"\",'WWVDS (Desc)'!C164)","v":""},{"$f":"IF('WWVDS (Desc)'!D164=\"\",\"\",'WWVDS (Desc)'!D164)","v":""},{"$f":"IF('WWVDS (Desc)'!E164=\"\",\"\",INDEX([1]OWNER!$A$2:$A$100,MATCH('WWVDS (Desc)'!$E164,[1]!MASTER_OWNER_DESC[#Data],0),0))","v":""},{"$f":"IF('WWVDS (Desc)'!F164=\"\",\"\",INDEX([1]COUNTY!$A$2:$A$80,MATCH('WWVDS (Desc)'!F164,[1]!MASTER_COUNTY_NAME[#Data],0),0))","v":""},{"$f":"IF('WWVDS (Desc)'!G164=\"\",\"\",'WWVDS (Desc)'!G164)","v":""},{"$f":"IF('WWVDS (Desc)'!H164=\"\",\"\",'WWVDS (Desc)'!H164)","v":""},{"$f":"IF('WWVDS (Desc)'!I164=\"\",\"\",INDEX([1]WWVDS_TYPE!$A$2:$A$4,MATCH('WWVDS (Desc)'!$I164,[1]!MASTER_WWVDS_TYPE_DESC[#Data],0),0))","v":""},{"$f":"IF('WWVDS (Desc)'!$J164=\"\",\"\",INDEX([1]ITS_DEV_MANUF_MODEL!$A$2:$E$1500,MATCH(1,([1]ITS_DEV_MANUF_MODEL!$E$2:$E$1500=\"WWD\")*([1]ITS_DEV_MANUF_MODEL!$D$2:$D$1500='WWVDS (Desc)'!$J164),0),1))","v":""},{"$f":"IF('WWVDS (Desc)'!$J164=\"\",\"\",INDEX([1]ITS_DEV_MANUF_MODEL!$A$2:$E$1500,MATCH(1,([1]ITS_DEV_MANUF_MODEL!$E$2:$E$1500=\"WWD\")*([1]ITS_DEV_MANUF_MODEL!$D$2:$D$1500='WWVDS (Desc)'!$J164),0),2))","v":""},{"$f":"IF('WWVDS (Desc)'!L164=\"\",\"\",'WWVDS (Desc)'!L164)","v":""},{"$f":"IF('WWVDS (Desc)'!M164=\"\",\"\",'WWVDS (Desc)'!M164)","v":""},{"$f":"IF('WWVDS (Desc)'!N164=\"\",\"\",'WWVDS (Desc)'!N164)","v":""},{"$f":"IF('WWVDS (Desc)'!O164=\"\",\"\",'WWVDS (Desc)'!O164)","v":""},{"$f":"IF('WWVDS (Desc)'!P164=\"\",\"\",'WWVDS (Desc)'!P164)","v":""}]
[{"$f":"IF('WWVDS (Desc)'!A165=\"\",\"\",'WWVDS (Desc)'!A165)","v":""},{"$f":"IF('WWVDS (Desc)'!B165=\"\",\"\",'WWVDS (Desc)'!B165)","v":""},{"$f":"IF('WWVDS (Desc)'!C165=\"\",\"\",'WWVDS (Desc)'!C165)","v":""},{"$f":"IF('WWVDS (Desc)'!D165=\"\",\"\",'WWVDS (Desc)'!D165)","v":""},{"$f":"IF('WWVDS (Desc)'!E165=\"\",\"\",INDEX([1]OWNER!$A$2:$A$100,MATCH('WWVDS (Desc)'!$E165,[1]!MASTER_OWNER_DESC[#Data],0),0))","v":""},{"$f":"IF('WWVDS (Desc)'!F165=\"\",\"\",INDEX([1]COUNTY!$A$2:$A$80,MATCH('WWVDS (Desc)'!F165,[1]!MASTER_COUNTY_NAME[#Data],0),0))","v":""},{"$f":"IF('WWVDS (Desc)'!G165=\"\",\"\",'WWVDS (Desc)'!G165)","v":""},{"$f":"IF('WWVDS (Desc)'!H165=\"\",\"\",'WWVDS (Desc)'!H165)","v":""},{"$f":"IF('WWVDS (Desc)'!I165=\"\",\"\",INDEX([1]WWVDS_TYPE!$A$2:$A$4,MATCH('WWVDS (Desc)'!$I165,[1]!MASTER_WWVDS_TYPE_DESC[#Data],0),0))","v":""},{"$f":"IF('WWVDS (Desc)'!$J165=\"\",\"\",INDEX([1]ITS_DEV_MANUF_MODEL!$A$2:$E$1500,MATCH(1,([1]ITS_DEV_MANUF_MODEL!$E$2:$E$1500=\"WWD\")*([1]ITS_DEV_MANUF_MODEL!$D$2:$D$1500='WWVDS (Desc)'!$J165),0),1))","v":""},{"$f":"IF('WWVDS (Desc)'!$J165=\"\",\"\",INDEX([1]ITS_DEV_MANUF_MODEL!$A$2:$E$1500,MATCH(1,([1]ITS_DEV_MANUF_MODEL!$E$2:$E$1500=\"WWD\")*([1]ITS_DEV_MANUF_MODEL!$D$2:$D$1500='WWVDS (Desc)'!$J165),0),2))","v":""},{"$f":"IF('WWVDS (Desc)'!L165=\"\",\"\",'WWVDS (Desc)'!L165)","v":""},{"$f":"IF('WWVDS (Desc)'!M165=\"\",\"\",'WWVDS (Desc)'!M165)","v":""},{"$f":"IF('WWVDS (Desc)'!N165=\"\",\"\",'WWVDS (Desc)'!N165)","v":""},{"$f":"IF('WWVDS (Desc)'!O165=\"\",\"\",'WWVDS (Desc)'!O165)","v":""},{"$f":"IF('WWVDS (Desc)'!P165=\"\",\"\",'WWVDS (Desc)'!P165)","v":""}]
[{"$f":"IF('WWVDS (Desc)'!A166=\"\",\"\",'WWVDS (Desc)'!A166)","v":""},{"$f":"IF('WWVDS (Desc)'!B166=\"\",\"\",'WWVDS (Desc)'!B166)","v":""},{"$f":"IF('WWVDS (Desc)'!C166=\"\",\"\",'WWVDS (Desc)'!C166)","v":""},{"$f":"IF('WWVDS (Desc)'!D166=\"\",\"\",'WWVDS (Desc)'!D166)","v":""},{"$f":"IF('WWVDS (Desc)'!E166=\"\",\"\",INDEX([1]OWNER!$A$2:$A$100,MATCH('WWVDS (Desc)'!$E166,[1]!MASTER_OWNER_DESC[#Data],0),0))","v":""},{"$f":"IF('WWVDS (Desc)'!F166=\"\",\"\",INDEX([1]COUNTY!$A$2:$A$80,MATCH('WWVDS (Desc)'!F166,[1]!MASTER_COUNTY_NAME[#Data],0),0))","v":""},{"$f":"IF('WWVDS (Desc)'!G166=\"\",\"\",'WWVDS (Desc)'!G166)","v":""},{"$f":"IF('WWVDS (Desc)'!H166=\"\",\"\",'WWVDS (Desc)'!H166)","v":""},{"$f":"IF('WWVDS (Desc)'!I166=\"\",\"\",INDEX([1]WWVDS_TYPE!$A$2:$A$4,MATCH('WWVDS (Desc)'!$I166,[1]!MASTER_WWVDS_TYPE_DESC[#Data],0),0))","v":""},{"$f":"IF('WWVDS (Desc)'!$J166=\"\",\"\",INDEX([1]ITS_DEV_MANUF_MODEL!$A$2:$E$1500,MATCH(1,([1]ITS_DEV_MANUF_MODEL!$E$2:$E$1500=\"WWD\")*([1]ITS_DEV_MANUF_MODEL!$D$2:$D$1500='WWVDS (Desc)'!$J166),0),1))","v":""},{"$f":"IF('WWVDS (Desc)'!$J166=\"\",\"\",INDEX([1]ITS_DEV_MANUF_MODEL!$A$2:$E$1500,MATCH(1,([1]ITS_DEV_MANUF_MODEL!$E$2:$E$1500=\"WWD\")*([1]ITS_DEV_MANUF_MODEL!$D$2:$D$1500='WWVDS (Desc)'!$J166),0),2))","v":""},{"$f":"IF('WWVDS (Desc)'!L166=\"\",\"\",'WWVDS (Desc)'!L166)","v":""},{"$f":"IF('WWVDS (Desc)'!M166=\"\",\"\",'WWVDS (Desc)'!M166)","v":""},{"$f":"IF('WWVDS (Desc)'!N166=\"\",\"\",'WWVDS (Desc)'!N166)","v":""},{"$f":"IF('WWVDS (Desc)'!O166=\"\",\"\",'WWVDS (Desc)'!O166)","v":""},{"$f":"IF('WWVDS (Desc)'!P166=\"\",\"\",'WWVDS (Desc)'!P166)","v":""}]
[{"$f":"IF('WWVDS (Desc)'!A167=\"\",\"\",'WWVDS (Desc)'!A167)","v":""},{"$f":"IF('WWVDS (Desc)'!B167=\"\",\"\",'WWVDS (Desc)'!B167)","v":""},{"$f":"IF('WWVDS (Desc)'!C167=\"\",\"\",'WWVDS (Desc)'!C167)","v":""},{"$f":"IF('WWVDS (Desc)'!D167=\"\",\"\",'WWVDS (Desc)'!D167)","v":""},{"$f":"IF('WWVDS (Desc)'!E167=\"\",\"\",INDEX([1]OWNER!$A$2:$A$100,MATCH('WWVDS (Desc)'!$E167,[1]!MASTER_OWNER_DESC[#Data],0),0))","v":""},{"$f":"IF('WWVDS (Desc)'!F167=\"\",\"\",INDEX([1]COUNTY!$A$2:$A$80,MATCH('WWVDS (Desc)'!F167,[1]!MASTER_COUNTY_NAME[#Data],0),0))","v":""},{"$f":"IF('WWVDS (Desc)'!G167=\"\",\"\",'WWVDS (Desc)'!G167)","v":""},{"$f":"IF('WWVDS (Desc)'!H167=\"\",\"\",'WWVDS (Desc)'!H167)","v":""},{"$f":"IF('WWVDS (Desc)'!I167=\"\",\"\",INDEX([1]WWVDS_TYPE!$A$2:$A$4,MATCH('WWVDS (Desc)'!$I167,[1]!MASTER_WWVDS_TYPE_DESC[#Data],0),0))","v":""},{"$f":"IF('WWVDS (Desc)'!$J167=\"\",\"\",INDEX([1]ITS_DEV_MANUF_MODEL!$A$2:$E$1500,MATCH(1,([1]ITS_DEV_MANUF_MODEL!$E$2:$E$1500=\"WWD\")*([1]ITS_DEV_MANUF_MODEL!$D$2:$D$1500='WWVDS (Desc)'!$J167),0),1))","v":""},{"$f":"IF('WWVDS (Desc)'!$J167=\"\",\"\",INDEX([1]ITS_DEV_MANUF_MODEL!$A$2:$E$1500,MATCH(1,([1]ITS_DEV_MANUF_MODEL!$E$2:$E$1500=\"WWD\")*([1]ITS_DEV_MANUF_MODEL!$D$2:$D$1500='WWVDS (Desc)'!$J167),0),2))","v":""},{"$f":"IF('WWVDS (Desc)'!L167=\"\",\"\",'WWVDS (Desc)'!L167)","v":""},{"$f":"IF('WWVDS (Desc)'!M167=\"\",\"\",'WWVDS (Desc)'!M167)","v":""},{"$f":"IF('WWVDS (Desc)'!N167=\"\",\"\",'WWVDS (Desc)'!N167)","v":""},{"$f":"IF('WWVDS (Desc)'!O167=\"\",\"\",'WWVDS (Desc)'!O167)","v":""},{"$f":"IF('WWVDS (Desc)'!P167=\"\",\"\",'WWVDS (Desc)'!P167)","v":""}]
[{"$f":"IF('WWVDS (Desc)'!A168=\"\",\"\",'WWVDS (Desc)'!A168)","v":""},{"$f":"IF('WWVDS (Desc)'!B168=\"\",\"\",'WWVDS (Desc)'!B168)","v":""},{"$f":"IF('WWVDS (Desc)'!C168=\"\",\"\",'WWVDS (Desc)'!C168)","v":""},{"$f":"IF('WWVDS (Desc)'!D168=\"\",\"\",'WWVDS (Desc)'!D168)","v":""},{"$f":"IF('WWVDS (Desc)'!E168=\"\",\"\",INDEX([1]OWNER!$A$2:$A$100,MATCH('WWVDS (Desc)'!$E168,[1]!MASTER_OWNER_DESC[#Data],0),0))","v":""},{"$f":"IF('WWVDS (Desc)'!F168=\"\",\"\",INDEX([1]COUNTY!$A$2:$A$80,MATCH('WWVDS (Desc)'!F168,[1]!MASTER_COUNTY_NAME[#Data],0),0))","v":""},{"$f":"IF('WWVDS (Desc)'!G168=\"\",\"\",'WWVDS (Desc)'!G168)","v":""},{"$f":"IF('WWVDS (Desc)'!H168=\"\",\"\",'WWVDS (Desc)'!H168)","v":""},{"$f":"IF('WWVDS (Desc)'!I168=\"\",\"\",INDEX([1]WWVDS_TYPE!$A$2:$A$4,MATCH('WWVDS (Desc)'!$I168,[1]!MASTER_WWVDS_TYPE_DESC[#Data],0),0))","v":""},{"$f":"IF('WWVDS (Desc)'!$J168=\"\",\"\",INDEX([1]ITS_DEV_MANUF_MODEL!$A$2:$E$1500,MATCH(1,([1]ITS_DEV_MANUF_MODEL!$E$2:$E$1500=\"WWD\")*([1]ITS_DEV_MANUF_MODEL!$D$2:$D$1500='WWVDS (Desc)'!$J168),0),1))","v":""},{"$f":"IF('WWVDS (Desc)'!$J168=\"\",\"\",INDEX([1]ITS_DEV_MANUF_MODEL!$A$2:$E$1500,MATCH(1,([1]ITS_DEV_MANUF_MODEL!$E$2:$E$1500=\"WWD\")*([1]ITS_DEV_MANUF_MODEL!$D$2:$D$1500='WWVDS (Desc)'!$J168),0),2))","v":""},{"$f":"IF('WWVDS (Desc)'!L168=\"\",\"\",'WWVDS (Desc)'!L168)","v":""},{"$f":"IF('WWVDS (Desc)'!M168=\"\",\"\",'WWVDS (Desc)'!M168)","v":""},{"$f":"IF('WWVDS (Desc)'!N168=\"\",\"\",'WWVDS (Desc)'!N168)","v":""},{"$f":"IF('WWVDS (Desc)'!O168=\"\",\"\",'WWVDS (Desc)'!O168)","v":""},{"$f":"IF('WWVDS (Desc)'!P168=\"\",\"\",'WWVDS (Desc)'!P168)","v":""}]
[{"$f":"IF('WWVDS (Desc)'!A169=\"\",\"\",'WWVDS (Desc)'!A169)","v":""},{"$f":"IF('WWVDS (Desc)'!B169=\"\",\"\",'WWVDS (Desc)'!B169)","v":""},{"$f":"IF('WWVDS (Desc)'!C169=\"\",\"\",'WWVDS (Desc)'!C169)","v":""},{"$f":"IF('WWVDS (Desc)'!D169=\"\",\"\",'WWVDS (Desc)'!D169)","v":""},{"$f":"IF('WWVDS (Desc)'!E169=\"\",\"\",INDEX([1]OWNER!$A$2:$A$100,MATCH('WWVDS (Desc)'!$E169,[1]!MASTER_OWNER_DESC[#Data],0),0))","v":""},{"$f":"IF('WWVDS (Desc)'!F169=\"\",\"\",INDEX([1]COUNTY!$A$2:$A$80,MATCH('WWVDS (Desc)'!F169,[1]!MASTER_COUNTY_NAME[#Data],0),0))","v":""},{"$f":"IF('WWVDS (Desc)'!G169=\"\",\"\",'WWVDS (Desc)'!G169)","v":""},{"$f":"IF('WWVDS (Desc)'!H169=\"\",\"\",'WWVDS (Desc)'!H169)","v":""},{"$f":"IF('WWVDS (Desc)'!I169=\"\",\"\",INDEX([1]WWVDS_TYPE!$A$2:$A$4,MATCH('WWVDS (Desc)'!$I169,[1]!MASTER_WWVDS_TYPE_DESC[#Data],0),0))","v":""},{"$f":"IF('WWVDS (Desc)'!$J169=\"\",\"\",INDEX([1]ITS_DEV_MANUF_MODEL!$A$2:$E$1500,MATCH(1,([1]ITS_DEV_MANUF_MODEL!$E$2:$E$1500=\"WWD\")*([1]ITS_DEV_MANUF_MODEL!$D$2:$D$1500='WWVDS (Desc)'!$J169),0),1))","v":""},{"$f":"IF('WWVDS (Desc)'!$J169=\"\",\"\",INDEX([1]ITS_DEV_MANUF_MODEL!$A$2:$E$1500,MATCH(1,([1]ITS_DEV_MANUF_MODEL!$E$2:$E$1500=\"WWD\")*([1]ITS_DEV_MANUF_MODEL!$D$2:$D$1500='WWVDS (Desc)'!$J169),0),2))","v":""},{"$f":"IF('WWVDS (Desc)'!L169=\"\",\"\",'WWVDS (Desc)'!L169)","v":""},{"$f":"IF('WWVDS (Desc)'!M169=\"\",\"\",'WWVDS (Desc)'!M169)","v":""},{"$f":"IF('WWVDS (Desc)'!N169=\"\",\"\",'WWVDS (Desc)'!N169)","v":""},{"$f":"IF('WWVDS (Desc)'!O169=\"\",\"\",'WWVDS (Desc)'!O169)","v":""},{"$f":"IF('WWVDS (Desc)'!P169=\"\",\"\",'WWVDS (Desc)'!P169)","v":""}]
[{"$f":"IF('WWVDS (Desc)'!A170=\"\",\"\",'WWVDS (Desc)'!A170)","v":""},{"$f":"IF('WWVDS (Desc)'!B170=\"\",\"\",'WWVDS (Desc)'!B170)","v":""},{"$f":"IF('WWVDS (Desc)'!C170=\"\",\"\",'WWVDS (Desc)'!C170)","v":""},{"$f":"IF('WWVDS (Desc)'!D170=\"\",\"\",'WWVDS (Desc)'!D170)","v":""},{"$f":"IF('WWVDS (Desc)'!E170=\"\",\"\",INDEX([1]OWNER!$A$2:$A$100,MATCH('WWVDS (Desc)'!$E170,[1]!MASTER_OWNER_DESC[#Data],0),0))","v":""},{"$f":"IF('WWVDS (Desc)'!F170=\"\",\"\",INDEX([1]COUNTY!$A$2:$A$80,MATCH('WWVDS (Desc)'!F170,[1]!MASTER_COUNTY_NAME[#Data],0),0))","v":""},{"$f":"IF('WWVDS (Desc)'!G170=\"\",\"\",'WWVDS (Desc)'!G170)","v":""},{"$f":"IF('WWVDS (Desc)'!H170=\"\",\"\",'WWVDS (Desc)'!H170)","v":""},{"$f":"IF('WWVDS (Desc)'!I170=\"\",\"\",INDEX([1]WWVDS_TYPE!$A$2:$A$4,MATCH('WWVDS (Desc)'!$I170,[1]!MASTER_WWVDS_TYPE_DESC[#Data],0),0))","v":""},{"$f":"IF('WWVDS (Desc)'!$J170=\"\",\"\",INDEX([1]ITS_DEV_MANUF_MODEL!$A$2:$E$1500,MATCH(1,([1]ITS_DEV_MANUF_MODEL!$E$2:$E$1500=\"WWD\")*([1]ITS_DEV_MANUF_MODEL!$D$2:$D$1500='WWVDS (Desc)'!$J170),0),1))","v":""},{"$f":"IF('WWVDS (Desc)'!$J170=\"\",\"\",INDEX([1]ITS_DEV_MANUF_MODEL!$A$2:$E$1500,MATCH(1,([1]ITS_DEV_MANUF_MODEL!$E$2:$E$1500=\"WWD\")*([1]ITS_DEV_MANUF_MODEL!$D$2:$D$1500='WWVDS (Desc)'!$J170),0),2))","v":""},{"$f":"IF('WWVDS (Desc)'!L170=\"\",\"\",'WWVDS (Desc)'!L170)","v":""},{"$f":"IF('WWVDS (Desc)'!M170=\"\",\"\",'WWVDS (Desc)'!M170)","v":""},{"$f":"IF('WWVDS (Desc)'!N170=\"\",\"\",'WWVDS (Desc)'!N170)","v":""},{"$f":"IF('WWVDS (Desc)'!O170=\"\",\"\",'WWVDS (Desc)'!O170)","v":""},{"$f":"IF('WWVDS (Desc)'!P170=\"\",\"\",'WWVDS (Desc)'!P170)","v":""}]
[{"$f":"IF('WWVDS (Desc)'!A171=\"\",\"\",'WWVDS (Desc)'!A171)","v":""},{"$f":"IF('WWVDS (Desc)'!B171=\"\",\"\",'WWVDS (Desc)'!B171)","v":""},{"$f":"IF('WWVDS (Desc)'!C171=\"\",\"\",'WWVDS (Desc)'!C171)","v":""},{"$f":"IF('WWVDS (Desc)'!D171=\"\",\"\",'WWVDS (Desc)'!D171)","v":""},{"$f":"IF('WWVDS (Desc)'!E171=\"\",\"\",INDEX([1]OWNER!$A$2:$A$100,MATCH('WWVDS (Desc)'!$E171,[1]!MASTER_OWNER_DESC[#Data],0),0))","v":""},{"$f":"IF('WWVDS (Desc)'!F171=\"\",\"\",INDEX([1]COUNTY!$A$2:$A$80,MATCH('WWVDS (Desc)'!F171,[1]!MASTER_COUNTY_NAME[#Data],0),0))","v":""},{"$f":"IF('WWVDS (Desc)'!G171=\"\",\"\",'WWVDS (Desc)'!G171)","v":""},{"$f":"IF('WWVDS (Desc)'!H171=\"\",\"\",'WWVDS (Desc)'!H171)","v":""},{"$f":"IF('WWVDS (Desc)'!I171=\"\",\"\",INDEX([1]WWVDS_TYPE!$A$2:$A$4,MATCH('WWVDS (Desc)'!$I171,[1]!MASTER_WWVDS_TYPE_DESC[#Data],0),0))","v":""},{"$f":"IF('WWVDS (Desc)'!$J171=\"\",\"\",INDEX([1]ITS_DEV_MANUF_MODEL!$A$2:$E$1500,MATCH(1,([1]ITS_DEV_MANUF_MODEL!$E$2:$E$1500=\"WWD\")*([1]ITS_DEV_MANUF_MODEL!$D$2:$D$1500='WWVDS (Desc)'!$J171),0),1))","v":""},{"$f":"IF('WWVDS (Desc)'!$J171=\"\",\"\",INDEX([1]ITS_DEV_MANUF_MODEL!$A$2:$E$1500,MATCH(1,([1]ITS_DEV_MANUF_MODEL!$E$2:$E$1500=\"WWD\")*([1]ITS_DEV_MANUF_MODEL!$D$2:$D$1500='WWVDS (Desc)'!$J171),0),2))","v":""},{"$f":"IF('WWVDS (Desc)'!L171=\"\",\"\",'WWVDS (Desc)'!L171)","v":""},{"$f":"IF('WWVDS (Desc)'!M171=\"\",\"\",'WWVDS (Desc)'!M171)","v":""},{"$f":"IF('WWVDS (Desc)'!N171=\"\",\"\",'WWVDS (Desc)'!N171)","v":""},{"$f":"IF('WWVDS (Desc)'!O171=\"\",\"\",'WWVDS (Desc)'!O171)","v":""},{"$f":"IF('WWVDS (Desc)'!P171=\"\",\"\",'WWVDS (Desc)'!P171)","v":""}]
[{"$f":"IF('WWVDS (Desc)'!A172=\"\",\"\",'WWVDS (Desc)'!A172)","v":""},{"$f":"IF('WWVDS (Desc)'!B172=\"\",\"\",'WWVDS (Desc)'!B172)","v":""},{"$f":"IF('WWVDS (Desc)'!C172=\"\",\"\",'WWVDS (Desc)'!C172)","v":""},{"$f":"IF('WWVDS (Desc)'!D172=\"\",\"\",'WWVDS (Desc)'!D172)","v":""},{"$f":"IF('WWVDS (Desc)'!E172=\"\",\"\",INDEX([1]OWNER!$A$2:$A$100,MATCH('WWVDS (Desc)'!$E172,[1]!MASTER_OWNER_DESC[#Data],0),0))","v":""},{"$f":"IF('WWVDS (Desc)'!F172=\"\",\"\",INDEX([1]COUNTY!$A$2:$A$80,MATCH('WWVDS (Desc)'!F172,[1]!MASTER_COUNTY_NAME[#Data],0),0))","v":""},{"$f":"IF('WWVDS (Desc)'!G172=\"\",\"\",'WWVDS (Desc)'!G172)","v":""},{"$f":"IF('WWVDS (Desc)'!H172=\"\",\"\",'WWVDS (Desc)'!H172)","v":""},{"$f":"IF('WWVDS (Desc)'!I172=\"\",\"\",INDEX([1]WWVDS_TYPE!$A$2:$A$4,MATCH('WWVDS (Desc)'!$I172,[1]!MASTER_WWVDS_TYPE_DESC[#Data],0),0))","v":""},{"$f":"IF('WWVDS (Desc)'!$J172=\"\",\"\",INDEX([1]ITS_DEV_MANUF_MODEL!$A$2:$E$1500,MATCH(1,([1]ITS_DEV_MANUF_MODEL!$E$2:$E$1500=\"WWD\")*([1]ITS_DEV_MANUF_MODEL!$D$2:$D$1500='WWVDS (Desc)'!$J172),0),1))","v":""},{"$f":"IF('WWVDS (Desc)'!$J172=\"\",\"\",INDEX([1]ITS_DEV_MANUF_MODEL!$A$2:$E$1500,MATCH(1,([1]ITS_DEV_MANUF_MODEL!$E$2:$E$1500=\"WWD\")*([1]ITS_DEV_MANUF_MODEL!$D$2:$D$1500='WWVDS (Desc)'!$J172),0),2))","v":""},{"$f":"IF('WWVDS (Desc)'!L172=\"\",\"\",'WWVDS (Desc)'!L172)","v":""},{"$f":"IF('WWVDS (Desc)'!M172=\"\",\"\",'WWVDS (Desc)'!M172)","v":""},{"$f":"IF('WWVDS (Desc)'!N172=\"\",\"\",'WWVDS (Desc)'!N172)","v":""},{"$f":"IF('WWVDS (Desc)'!O172=\"\",\"\",'WWVDS (Desc)'!O172)","v":""},{"$f":"IF('WWVDS (Desc)'!P172=\"\",\"\",'WWVDS (Desc)'!P172)","v":""}]
[{"$f":"IF('WWVDS (Desc)'!A173=\"\",\"\",'WWVDS (Desc)'!A173)","v":""},{"$f":"IF('WWVDS (Desc)'!B173=\"\",\"\",'WWVDS (Desc)'!B173)","v":""},{"$f":"IF('WWVDS (Desc)'!C173=\"\",\"\",'WWVDS (Desc)'!C173)","v":""},{"$f":"IF('WWVDS (Desc)'!D173=\"\",\"\",'WWVDS (Desc)'!D173)","v":""},{"$f":"IF('WWVDS (Desc)'!E173=\"\",\"\",INDEX([1]OWNER!$A$2:$A$100,MATCH('WWVDS (Desc)'!$E173,[1]!MASTER_OWNER_DESC[#Data],0),0))","v":""},{"$f":"IF('WWVDS (Desc)'!F173=\"\",\"\",INDEX([1]COUNTY!$A$2:$A$80,MATCH('WWVDS (Desc)'!F173,[1]!MASTER_COUNTY_NAME[#Data],0),0))","v":""},{"$f":"IF('WWVDS (Desc)'!G173=\"\",\"\",'WWVDS (Desc)'!G173)","v":""},{"$f":"IF('WWVDS (Desc)'!H173=\"\",\"\",'WWVDS (Desc)'!H173)","v":""},{"$f":"IF('WWVDS (Desc)'!I173=\"\",\"\",INDEX([1]WWVDS_TYPE!$A$2:$A$4,MATCH('WWVDS (Desc)'!$I173,[1]!MASTER_WWVDS_TYPE_DESC[#Data],0),0))","v":""},{"$f":"IF('WWVDS (Desc)'!$J173=\"\",\"\",INDEX([1]ITS_DEV_MANUF_MODEL!$A$2:$E$1500,MATCH(1,([1]ITS_DEV_MANUF_MODEL!$E$2:$E$1500=\"WWD\")*([1]ITS_DEV_MANUF_MODEL!$D$2:$D$1500='WWVDS (Desc)'!$J173),0),1))","v":""},{"$f":"IF('WWVDS (Desc)'!$J173=\"\",\"\",INDEX([1]ITS_DEV_MANUF_MODEL!$A$2:$E$1500,MATCH(1,([1]ITS_DEV_MANUF_MODEL!$E$2:$E$1500=\"WWD\")*([1]ITS_DEV_MANUF_MODEL!$D$2:$D$1500='WWVDS (Desc)'!$J173),0),2))","v":""},{"$f":"IF('WWVDS (Desc)'!L173=\"\",\"\",'WWVDS (Desc)'!L173)","v":""},{"$f":"IF('WWVDS (Desc)'!M173=\"\",\"\",'WWVDS (Desc)'!M173)","v":""},{"$f":"IF('WWVDS (Desc)'!N173=\"\",\"\",'WWVDS (Desc)'!N173)","v":""},{"$f":"IF('WWVDS (Desc)'!O173=\"\",\"\",'WWVDS (Desc)'!O173)","v":""},{"$f":"IF('WWVDS (Desc)'!P173=\"\",\"\",'WWVDS (Desc)'!P173)","v":""}]
[{"$f":"IF('WWVDS (Desc)'!A174=\"\",\"\",'WWVDS (Desc)'!A174)","v":""},{"$f":"IF('WWVDS (Desc)'!B174=\"\",\"\",'WWVDS (Desc)'!B174)","v":""},{"$f":"IF('WWVDS (Desc)'!C174=\"\",\"\",'WWVDS (Desc)'!C174)","v":""},{"$f":"IF('WWVDS (Desc)'!D174=\"\",\"\",'WWVDS (Desc)'!D174)","v":""},{"$f":"IF('WWVDS (Desc)'!E174=\"\",\"\",INDEX([1]OWNER!$A$2:$A$100,MATCH('WWVDS (Desc)'!$E174,[1]!MASTER_OWNER_DESC[#Data],0),0))","v":""},{"$f":"IF('WWVDS (Desc)'!F174=\"\",\"\",INDEX([1]COUNTY!$A$2:$A$80,MATCH('WWVDS (Desc)'!F174,[1]!MASTER_COUNTY_NAME[#Data],0),0))","v":""},{"$f":"IF('WWVDS (Desc)'!G174=\"\",\"\",'WWVDS (Desc)'!G174)","v":""},{"$f":"IF('WWVDS (Desc)'!H174=\"\",\"\",'WWVDS (Desc)'!H174)","v":""},{"$f":"IF('WWVDS (Desc)'!I174=\"\",\"\",INDEX([1]WWVDS_TYPE!$A$2:$A$4,MATCH('WWVDS (Desc)'!$I174,[1]!MASTER_WWVDS_TYPE_DESC[#Data],0),0))","v":""},{"$f":"IF('WWVDS (Desc)'!$J174=\"\",\"\",INDEX([1]ITS_DEV_MANUF_MODEL!$A$2:$E$1500,MATCH(1,([1]ITS_DEV_MANUF_MODEL!$E$2:$E$1500=\"WWD\")*([1]ITS_DEV_MANUF_MODEL!$D$2:$D$1500='WWVDS (Desc)'!$J174),0),1))","v":""},{"$f":"IF('WWVDS (Desc)'!$J174=\"\",\"\",INDEX([1]ITS_DEV_MANUF_MODEL!$A$2:$E$1500,MATCH(1,([1]ITS_DEV_MANUF_MODEL!$E$2:$E$1500=\"WWD\")*([1]ITS_DEV_MANUF_MODEL!$D$2:$D$1500='WWVDS (Desc)'!$J174),0),2))","v":""},{"$f":"IF('WWVDS (Desc)'!L174=\"\",\"\",'WWVDS (Desc)'!L174)","v":""},{"$f":"IF('WWVDS (Desc)'!M174=\"\",\"\",'WWVDS (Desc)'!M174)","v":""},{"$f":"IF('WWVDS (Desc)'!N174=\"\",\"\",'WWVDS (Desc)'!N174)","v":""},{"$f":"IF('WWVDS (Desc)'!O174=\"\",\"\",'WWVDS (Desc)'!O174)","v":""},{"$f":"IF('WWVDS (Desc)'!P174=\"\",\"\",'WWVDS (Desc)'!P174)","v":""}]
[{"$f":"IF('WWVDS (Desc)'!A175=\"\",\"\",'WWVDS (Desc)'!A175)","v":""},{"$f":"IF('WWVDS (Desc)'!B175=\"\",\"\",'WWVDS (Desc)'!B175)","v":""},{"$f":"IF('WWVDS (Desc)'!C175=\"\",\"\",'WWVDS (Desc)'!C175)","v":""},{"$f":"IF('WWVDS (Desc)'!D175=\"\",\"\",'WWVDS (Desc)'!D175)","v":""},{"$f":"IF('WWVDS (Desc)'!E175=\"\",\"\",INDEX([1]OWNER!$A$2:$A$100,MATCH('WWVDS (Desc)'!$E175,[1]!MASTER_OWNER_DESC[#Data],0),0))","v":""},{"$f":"IF('WWVDS (Desc)'!F175=\"\",\"\",INDEX([1]COUNTY!$A$2:$A$80,MATCH('WWVDS (Desc)'!F175,[1]!MASTER_COUNTY_NAME[#Data],0),0))","v":""},{"$f":"IF('WWVDS (Desc)'!G175=\"\",\"\",'WWVDS (Desc)'!G175)","v":""},{"$f":"IF('WWVDS (Desc)'!H175=\"\",\"\",'WWVDS (Desc)'!H175)","v":""},{"$f":"IF('WWVDS (Desc)'!I175=\"\",\"\",INDEX([1]WWVDS_TYPE!$A$2:$A$4,MATCH('WWVDS (Desc)'!$I175,[1]!MASTER_WWVDS_TYPE_DESC[#Data],0),0))","v":""},{"$f":"IF('WWVDS (Desc)'!$J175=\"\",\"\",INDEX([1]ITS_DEV_MANUF_MODEL!$A$2:$E$1500,MATCH(1,([1]ITS_DEV_MANUF_MODEL!$E$2:$E$1500=\"WWD\")*([1]ITS_DEV_MANUF_MODEL!$D$2:$D$1500='WWVDS (Desc)'!$J175),0),1))","v":""},{"$f":"IF('WWVDS (Desc)'!$J175=\"\",\"\",INDEX([1]ITS_DEV_MANUF_MODEL!$A$2:$E$1500,MATCH(1,([1]ITS_DEV_MANUF_MODEL!$E$2:$E$1500=\"WWD\")*([1]ITS_DEV_MANUF_MODEL!$D$2:$D$1500='WWVDS (Desc)'!$J175),0),2))","v":""},{"$f":"IF('WWVDS (Desc)'!L175=\"\",\"\",'WWVDS (Desc)'!L175)","v":""},{"$f":"IF('WWVDS (Desc)'!M175=\"\",\"\",'WWVDS (Desc)'!M175)","v":""},{"$f":"IF('WWVDS (Desc)'!N175=\"\",\"\",'WWVDS (Desc)'!N175)","v":""},{"$f":"IF('WWVDS (Desc)'!O175=\"\",\"\",'WWVDS (Desc)'!O175)","v":""},{"$f":"IF('WWVDS (Desc)'!P175=\"\",\"\",'WWVDS (Desc)'!P175)","v":""}]
[{"$f":"IF('WWVDS (Desc)'!A176=\"\",\"\",'WWVDS (Desc)'!A176)","v":""},{"$f":"IF('WWVDS (Desc)'!B176=\"\",\"\",'WWVDS (Desc)'!B176)","v":""},{"$f":"IF('WWVDS (Desc)'!C176=\"\",\"\",'WWVDS (Desc)'!C176)","v":""},{"$f":"IF('WWVDS (Desc)'!D176=\"\",\"\",'WWVDS (Desc)'!D176)","v":""},{"$f":"IF('WWVDS (Desc)'!E176=\"\",\"\",INDEX([1]OWNER!$A$2:$A$100,MATCH('WWVDS (Desc)'!$E176,[1]!MASTER_OWNER_DESC[#Data],0),0))","v":""},{"$f":"IF('WWVDS (Desc)'!F176=\"\",\"\",INDEX([1]COUNTY!$A$2:$A$80,MATCH('WWVDS (Desc)'!F176,[1]!MASTER_COUNTY_NAME[#Data],0),0))","v":""},{"$f":"IF('WWVDS (Desc)'!G176=\"\",\"\",'WWVDS (Desc)'!G176)","v":""},{"$f":"IF('WWVDS (Desc)'!H176=\"\",\"\",'WWVDS (Desc)'!H176)","v":""},{"$f":"IF('WWVDS (Desc)'!I176=\"\",\"\",INDEX([1]WWVDS_TYPE!$A$2:$A$4,MATCH('WWVDS (Desc)'!$I176,[1]!MASTER_WWVDS_TYPE_DESC[#Data],0),0))","v":""},{"$f":"IF('WWVDS (Desc)'!$J176=\"\",\"\",INDEX([1]ITS_DEV_MANUF_MODEL!$A$2:$E$1500,MATCH(1,([1]ITS_DEV_MANUF_MODEL!$E$2:$E$1500=\"WWD\")*([1]ITS_DEV_MANUF_MODEL!$D$2:$D$1500='WWVDS (Desc)'!$J176),0),1))","v":""},{"$f":"IF('WWVDS (Desc)'!$J176=\"\",\"\",INDEX([1]ITS_DEV_MANUF_MODEL!$A$2:$E$1500,MATCH(1,([1]ITS_DEV_MANUF_MODEL!$E$2:$E$1500=\"WWD\")*([1]ITS_DEV_MANUF_MODEL!$D$2:$D$1500='WWVDS (Desc)'!$J176),0),2))","v":""},{"$f":"IF('WWVDS (Desc)'!L176=\"\",\"\",'WWVDS (Desc)'!L176)","v":""},{"$f":"IF('WWVDS (Desc)'!M176=\"\",\"\",'WWVDS (Desc)'!M176)","v":""},{"$f":"IF('WWVDS (Desc)'!N176=\"\",\"\",'WWVDS (Desc)'!N176)","v":""},{"$f":"IF('WWVDS (Desc)'!O176=\"\",\"\",'WWVDS (Desc)'!O176)","v":""},{"$f":"IF('WWVDS (Desc)'!P176=\"\",\"\",'WWVDS (Desc)'!P176)","v":""}]
[{"$f":"IF('WWVDS (Desc)'!A177=\"\",\"\",'WWVDS (Desc)'!A177)","v":""},{"$f":"IF('WWVDS (Desc)'!B177=\"\",\"\",'WWVDS (Desc)'!B177)","v":""},{"$f":"IF('WWVDS (Desc)'!C177=\"\",\"\",'WWVDS (Desc)'!C177)","v":""},{"$f":"IF('WWVDS (Desc)'!D177=\"\",\"\",'WWVDS (Desc)'!D177)","v":""},{"$f":"IF('WWVDS (Desc)'!E177=\"\",\"\",INDEX([1]OWNER!$A$2:$A$100,MATCH('WWVDS (Desc)'!$E177,[1]!MASTER_OWNER_DESC[#Data],0),0))","v":""},{"$f":"IF('WWVDS (Desc)'!F177=\"\",\"\",INDEX([1]COUNTY!$A$2:$A$80,MATCH('WWVDS (Desc)'!F177,[1]!MASTER_COUNTY_NAME[#Data],0),0))","v":""},{"$f":"IF('WWVDS (Desc)'!G177=\"\",\"\",'WWVDS (Desc)'!G177)","v":""},{"$f":"IF('WWVDS (Desc)'!H177=\"\",\"\",'WWVDS (Desc)'!H177)","v":""},{"$f":"IF('WWVDS (Desc)'!I177=\"\",\"\",INDEX([1]WWVDS_TYPE!$A$2:$A$4,MATCH('WWVDS (Desc)'!$I177,[1]!MASTER_WWVDS_TYPE_DESC[#Data],0),0))","v":""},{"$f":"IF('WWVDS (Desc)'!$J177=\"\",\"\",INDEX([1]ITS_DEV_MANUF_MODEL!$A$2:$E$1500,MATCH(1,([1]ITS_DEV_MANUF_MODEL!$E$2:$E$1500=\"WWD\")*([1]ITS_DEV_MANUF_MODEL!$D$2:$D$1500='WWVDS (Desc)'!$J177),0),1))","v":""},{"$f":"IF('WWVDS (Desc)'!$J177=\"\",\"\",INDEX([1]ITS_DEV_MANUF_MODEL!$A$2:$E$1500,MATCH(1,([1]ITS_DEV_MANUF_MODEL!$E$2:$E$1500=\"WWD\")*([1]ITS_DEV_MANUF_MODEL!$D$2:$D$1500='WWVDS (Desc)'!$J177),0),2))","v":""},{"$f":"IF('WWVDS (Desc)'!L177=\"\",\"\",'WWVDS (Desc)'!L177)","v":""},{"$f":"IF('WWVDS (Desc)'!M177=\"\",\"\",'WWVDS (Desc)'!M177)","v":""},{"$f":"IF('WWVDS (Desc)'!N177=\"\",\"\",'WWVDS (Desc)'!N177)","v":""},{"$f":"IF('WWVDS (Desc)'!O177=\"\",\"\",'WWVDS (Desc)'!O177)","v":""},{"$f":"IF('WWVDS (Desc)'!P177=\"\",\"\",'WWVDS (Desc)'!P177)","v":""}]
[{"$f":"IF('WWVDS (Desc)'!A178=\"\",\"\",'WWVDS (Desc)'!A178)","v":""},{"$f":"IF('WWVDS (Desc)'!B178=\"\",\"\",'WWVDS (Desc)'!B178)","v":""},{"$f":"IF('WWVDS (Desc)'!C178=\"\",\"\",'WWVDS (Desc)'!C178)","v":""},{"$f":"IF('WWVDS (Desc)'!D178=\"\",\"\",'WWVDS (Desc)'!D178)","v":""},{"$f":"IF('WWVDS (Desc)'!E178=\"\",\"\",INDEX([1]OWNER!$A$2:$A$100,MATCH('WWVDS (Desc)'!$E178,[1]!MASTER_OWNER_DESC[#Data],0),0))","v":""},{"$f":"IF('WWVDS (Desc)'!F178=\"\",\"\",INDEX([1]COUNTY!$A$2:$A$80,MATCH('WWVDS (Desc)'!F178,[1]!MASTER_COUNTY_NAME[#Data],0),0))","v":""},{"$f":"IF('WWVDS (Desc)'!G178=\"\",\"\",'WWVDS (Desc)'!G178)","v":""},{"$f":"IF('WWVDS (Desc)'!H178=\"\",\"\",'WWVDS (Desc)'!H178)","v":""},{"$f":"IF('WWVDS (Desc)'!I178=\"\",\"\",INDEX([1]WWVDS_TYPE!$A$2:$A$4,MATCH('WWVDS (Desc)'!$I178,[1]!MASTER_WWVDS_TYPE_DESC[#Data],0),0))","v":""},{"$f":"IF('WWVDS (Desc)'!$J178=\"\",\"\",INDEX([1]ITS_DEV_MANUF_MODEL!$A$2:$E$1500,MATCH(1,([1]ITS_DEV_MANUF_MODEL!$E$2:$E$1500=\"WWD\")*([1]ITS_DEV_MANUF_MODEL!$D$2:$D$1500='WWVDS (Desc)'!$J178),0),1))","v":""},{"$f":"IF('WWVDS (Desc)'!$J178=\"\",\"\",INDEX([1]ITS_DEV_MANUF_MODEL!$A$2:$E$1500,MATCH(1,([1]ITS_DEV_MANUF_MODEL!$E$2:$E$1500=\"WWD\")*([1]ITS_DEV_MANUF_MODEL!$D$2:$D$1500='WWVDS (Desc)'!$J178),0),2))","v":""},{"$f":"IF('WWVDS (Desc)'!L178=\"\",\"\",'WWVDS (Desc)'!L178)","v":""},{"$f":"IF('WWVDS (Desc)'!M178=\"\",\"\",'WWVDS (Desc)'!M178)","v":""},{"$f":"IF('WWVDS (Desc)'!N178=\"\",\"\",'WWVDS (Desc)'!N178)","v":""},{"$f":"IF('WWVDS (Desc)'!O178=\"\",\"\",'WWVDS (Desc)'!O178)","v":""},{"$f":"IF('WWVDS (Desc)'!P178=\"\",\"\",'WWVDS (Desc)'!P178)","v":""}]
[{"$f":"IF('WWVDS (Desc)'!A179=\"\",\"\",'WWVDS (Desc)'!A179)","v":""},{"$f":"IF('WWVDS (Desc)'!B179=\"\",\"\",'WWVDS (Desc)'!B179)","v":""},{"$f":"IF('WWVDS (Desc)'!C179=\"\",\"\",'WWVDS (Desc)'!C179)","v":""},{"$f":"IF('WWVDS (Desc)'!D179=\"\",\"\",'WWVDS (Desc)'!D179)","v":""},{"$f":"IF('WWVDS (Desc)'!E179=\"\",\"\",INDEX([1]OWNER!$A$2:$A$100,MATCH('WWVDS (Desc)'!$E179,[1]!MASTER_OWNER_DESC[#Data],0),0))","v":""},{"$f":"IF('WWVDS (Desc)'!F179=\"\",\"\",INDEX([1]COUNTY!$A$2:$A$80,MATCH('WWVDS (Desc)'!F179,[1]!MASTER_COUNTY_NAME[#Data],0),0))","v":""},{"$f":"IF('WWVDS (Desc)'!G179=\"\",\"\",'WWVDS (Desc)'!G179)","v":""},{"$f":"IF('WWVDS (Desc)'!H179=\"\",\"\",'WWVDS (Desc)'!H179)","v":""},{"$f":"IF('WWVDS (Desc)'!I179=\"\",\"\",INDEX([1]WWVDS_TYPE!$A$2:$A$4,MATCH('WWVDS (Desc)'!$I179,[1]!MASTER_WWVDS_TYPE_DESC[#Data],0),0))","v":""},{"$f":"IF('WWVDS (Desc)'!$J179=\"\",\"\",INDEX([1]ITS_DEV_MANUF_MODEL!$A$2:$E$1500,MATCH(1,([1]ITS_DEV_MANUF_MODEL!$E$2:$E$1500=\"WWD\")*([1]ITS_DEV_MANUF_MODEL!$D$2:$D$1500='WWVDS (Desc)'!$J179),0),1))","v":""},{"$f":"IF('WWVDS (Desc)'!$J179=\"\",\"\",INDEX([1]ITS_DEV_MANUF_MODEL!$A$2:$E$1500,MATCH(1,([1]ITS_DEV_MANUF_MODEL!$E$2:$E$1500=\"WWD\")*([1]ITS_DEV_MANUF_MODEL!$D$2:$D$1500='WWVDS (Desc)'!$J179),0),2))","v":""},{"$f":"IF('WWVDS (Desc)'!L179=\"\",\"\",'WWVDS (Desc)'!L179)","v":""},{"$f":"IF('WWVDS (Desc)'!M179=\"\",\"\",'WWVDS (Desc)'!M179)","v":""},{"$f":"IF('WWVDS (Desc)'!N179=\"\",\"\",'WWVDS (Desc)'!N179)","v":""},{"$f":"IF('WWVDS (Desc)'!O179=\"\",\"\",'WWVDS (Desc)'!O179)","v":""},{"$f":"IF('WWVDS (Desc)'!P179=\"\",\"\",'WWVDS (Desc)'!P179)","v":""}]
[{"$f":"IF('WWVDS (Desc)'!A180=\"\",\"\",'WWVDS (Desc)'!A180)","v":""},{"$f":"IF('WWVDS (Desc)'!B180=\"\",\"\",'WWVDS (Desc)'!B180)","v":""},{"$f":"IF('WWVDS (Desc)'!C180=\"\",\"\",'WWVDS (Desc)'!C180)","v":""},{"$f":"IF('WWVDS (Desc)'!D180=\"\",\"\",'WWVDS (Desc)'!D180)","v":""},{"$f":"IF('WWVDS (Desc)'!E180=\"\",\"\",INDEX([1]OWNER!$A$2:$A$100,MATCH('WWVDS (Desc)'!$E180,[1]!MASTER_OWNER_DESC[#Data],0),0))","v":""},{"$f":"IF('WWVDS (Desc)'!F180=\"\",\"\",INDEX([1]COUNTY!$A$2:$A$80,MATCH('WWVDS (Desc)'!F180,[1]!MASTER_COUNTY_NAME[#Data],0),0))","v":""},{"$f":"IF('WWVDS (Desc)'!G180=\"\",\"\",'WWVDS (Desc)'!G180)","v":""},{"$f":"IF('WWVDS (Desc)'!H180=\"\",\"\",'WWVDS (Desc)'!H180)","v":""},{"$f":"IF('WWVDS (Desc)'!I180=\"\",\"\",INDEX([1]WWVDS_TYPE!$A$2:$A$4,MATCH('WWVDS (Desc)'!$I180,[1]!MASTER_WWVDS_TYPE_DESC[#Data],0),0))","v":""},{"$f":"IF('WWVDS (Desc)'!$J180=\"\",\"\",INDEX([1]ITS_DEV_MANUF_MODEL!$A$2:$E$1500,MATCH(1,([1]ITS_DEV_MANUF_MODEL!$E$2:$E$1500=\"WWD\")*([1]ITS_DEV_MANUF_MODEL!$D$2:$D$1500='WWVDS (Desc)'!$J180),0),1))","v":""},{"$f":"IF('WWVDS (Desc)'!$J180=\"\",\"\",INDEX([1]ITS_DEV_MANUF_MODEL!$A$2:$E$1500,MATCH(1,([1]ITS_DEV_MANUF_MODEL!$E$2:$E$1500=\"WWD\")*([1]ITS_DEV_MANUF_MODEL!$D$2:$D$1500='WWVDS (Desc)'!$J180),0),2))","v":""},{"$f":"IF('WWVDS (Desc)'!L180=\"\",\"\",'WWVDS (Desc)'!L180)","v":""},{"$f":"IF('WWVDS (Desc)'!M180=\"\",\"\",'WWVDS (Desc)'!M180)","v":""},{"$f":"IF('WWVDS (Desc)'!N180=\"\",\"\",'WWVDS (Desc)'!N180)","v":""},{"$f":"IF('WWVDS (Desc)'!O180=\"\",\"\",'WWVDS (Desc)'!O180)","v":""},{"$f":"IF('WWVDS (Desc)'!P180=\"\",\"\",'WWVDS (Desc)'!P180)","v":""}]
[{"$f":"IF('WWVDS (Desc)'!A181=\"\",\"\",'WWVDS (Desc)'!A181)","v":""},{"$f":"IF('WWVDS (Desc)'!B181=\"\",\"\",'WWVDS (Desc)'!B181)","v":""},{"$f":"IF('WWVDS (Desc)'!C181=\"\",\"\",'WWVDS (Desc)'!C181)","v":""},{"$f":"IF('WWVDS (Desc)'!D181=\"\",\"\",'WWVDS (Desc)'!D181)","v":""},{"$f":"IF('WWVDS (Desc)'!E181=\"\",\"\",INDEX([1]OWNER!$A$2:$A$100,MATCH('WWVDS (Desc)'!$E181,[1]!MASTER_OWNER_DESC[#Data],0),0))","v":""},{"$f":"IF('WWVDS (Desc)'!F181=\"\",\"\",INDEX([1]COUNTY!$A$2:$A$80,MATCH('WWVDS (Desc)'!F181,[1]!MASTER_COUNTY_NAME[#Data],0),0))","v":""},{"$f":"IF('WWVDS (Desc)'!G181=\"\",\"\",'WWVDS (Desc)'!G181)","v":""},{"$f":"IF('WWVDS (Desc)'!H181=\"\",\"\",'WWVDS (Desc)'!H181)","v":""},{"$f":"IF('WWVDS (Desc)'!I181=\"\",\"\",INDEX([1]WWVDS_TYPE!$A$2:$A$4,MATCH('WWVDS (Desc)'!$I181,[1]!MASTER_WWVDS_TYPE_DESC[#Data],0),0))","v":""},{"$f":"IF('WWVDS (Desc)'!$J181=\"\",\"\",INDEX([1]ITS_DEV_MANUF_MODEL!$A$2:$E$1500,MATCH(1,([1]ITS_DEV_MANUF_MODEL!$E$2:$E$1500=\"WWD\")*([1]ITS_DEV_MANUF_MODEL!$D$2:$D$1500='WWVDS (Desc)'!$J181),0),1))","v":""},{"$f":"IF('WWVDS (Desc)'!$J181=\"\",\"\",INDEX([1]ITS_DEV_MANUF_MODEL!$A$2:$E$1500,MATCH(1,([1]ITS_DEV_MANUF_MODEL!$E$2:$E$1500=\"WWD\")*([1]ITS_DEV_MANUF_MODEL!$D$2:$D$1500='WWVDS (Desc)'!$J181),0),2))","v":""},{"$f":"IF('WWVDS (Desc)'!L181=\"\",\"\",'WWVDS (Desc)'!L181)","v":""},{"$f":"IF('WWVDS (Desc)'!M181=\"\",\"\",'WWVDS (Desc)'!M181)","v":""},{"$f":"IF('WWVDS (Desc)'!N181=\"\",\"\",'WWVDS (Desc)'!N181)","v":""},{"$f":"IF('WWVDS (Desc)'!O181=\"\",\"\",'WWVDS (Desc)'!O181)","v":""},{"$f":"IF('WWVDS (Desc)'!P181=\"\",\"\",'WWVDS (Desc)'!P181)","v":""}]
[{"$f":"IF('WWVDS (Desc)'!A182=\"\",\"\",'WWVDS (Desc)'!A182)","v":""},{"$f":"IF('WWVDS (Desc)'!B182=\"\",\"\",'WWVDS (Desc)'!B182)","v":""},{"$f":"IF('WWVDS (Desc)'!C182=\"\",\"\",'WWVDS (Desc)'!C182)","v":""},{"$f":"IF('WWVDS (Desc)'!D182=\"\",\"\",'WWVDS (Desc)'!D182)","v":""},{"$f":"IF('WWVDS (Desc)'!E182=\"\",\"\",INDEX([1]OWNER!$A$2:$A$100,MATCH('WWVDS (Desc)'!$E182,[1]!MASTER_OWNER_DESC[#Data],0),0))","v":""},{"$f":"IF('WWVDS (Desc)'!F182=\"\",\"\",INDEX([1]COUNTY!$A$2:$A$80,MATCH('WWVDS (Desc)'!F182,[1]!MASTER_COUNTY_NAME[#Data],0),0))","v":""},{"$f":"IF('WWVDS (Desc)'!G182=\"\",\"\",'WWVDS (Desc)'!G182)","v":""},{"$f":"IF('WWVDS (Desc)'!H182=\"\",\"\",'WWVDS (Desc)'!H182)","v":""},{"$f":"IF('WWVDS (Desc)'!I182=\"\",\"\",INDEX([1]WWVDS_TYPE!$A$2:$A$4,MATCH('WWVDS (Desc)'!$I182,[1]!MASTER_WWVDS_TYPE_DESC[#Data],0),0))","v":""},{"$f":"IF('WWVDS (Desc)'!$J182=\"\",\"\",INDEX([1]ITS_DEV_MANUF_MODEL!$A$2:$E$1500,MATCH(1,([1]ITS_DEV_MANUF_MODEL!$E$2:$E$1500=\"WWD\")*([1]ITS_DEV_MANUF_MODEL!$D$2:$D$1500='WWVDS (Desc)'!$J182),0),1))","v":""},{"$f":"IF('WWVDS (Desc)'!$J182=\"\",\"\",INDEX([1]ITS_DEV_MANUF_MODEL!$A$2:$E$1500,MATCH(1,([1]ITS_DEV_MANUF_MODEL!$E$2:$E$1500=\"WWD\")*([1]ITS_DEV_MANUF_MODEL!$D$2:$D$1500='WWVDS (Desc)'!$J182),0),2))","v":""},{"$f":"IF('WWVDS (Desc)'!L182=\"\",\"\",'WWVDS (Desc)'!L182)","v":""},{"$f":"IF('WWVDS (Desc)'!M182=\"\",\"\",'WWVDS (Desc)'!M182)","v":""},{"$f":"IF('WWVDS (Desc)'!N182=\"\",\"\",'WWVDS (Desc)'!N182)","v":""},{"$f":"IF('WWVDS (Desc)'!O182=\"\",\"\",'WWVDS (Desc)'!O182)","v":""},{"$f":"IF('WWVDS (Desc)'!P182=\"\",\"\",'WWVDS (Desc)'!P182)","v":""}]
[{"$f":"IF('WWVDS (Desc)'!A183=\"\",\"\",'WWVDS (Desc)'!A183)","v":""},{"$f":"IF('WWVDS (Desc)'!B183=\"\",\"\",'WWVDS (Desc)'!B183)","v":""},{"$f":"IF('WWVDS (Desc)'!C183=\"\",\"\",'WWVDS (Desc)'!C183)","v":""},{"$f":"IF('WWVDS (Desc)'!D183=\"\",\"\",'WWVDS (Desc)'!D183)","v":""},{"$f":"IF('WWVDS (Desc)'!E183=\"\",\"\",INDEX([1]OWNER!$A$2:$A$100,MATCH('WWVDS (Desc)'!$E183,[1]!MASTER_OWNER_DESC[#Data],0),0))","v":""},{"$f":"IF('WWVDS (Desc)'!F183=\"\",\"\",INDEX([1]COUNTY!$A$2:$A$80,MATCH('WWVDS (Desc)'!F183,[1]!MASTER_COUNTY_NAME[#Data],0),0))","v":""},{"$f":"IF('WWVDS (Desc)'!G183=\"\",\"\",'WWVDS (Desc)'!G183)","v":""},{"$f":"IF('WWVDS (Desc)'!H183=\"\",\"\",'WWVDS (Desc)'!H183)","v":""},{"$f":"IF('WWVDS (Desc)'!I183=\"\",\"\",INDEX([1]WWVDS_TYPE!$A$2:$A$4,MATCH('WWVDS (Desc)'!$I183,[1]!MASTER_WWVDS_TYPE_DESC[#Data],0),0))","v":""},{"$f":"IF('WWVDS (Desc)'!$J183=\"\",\"\",INDEX([1]ITS_DEV_MANUF_MODEL!$A$2:$E$1500,MATCH(1,([1]ITS_DEV_MANUF_MODEL!$E$2:$E$1500=\"WWD\")*([1]ITS_DEV_MANUF_MODEL!$D$2:$D$1500='WWVDS (Desc)'!$J183),0),1))","v":""},{"$f":"IF('WWVDS (Desc)'!$J183=\"\",\"\",INDEX([1]ITS_DEV_MANUF_MODEL!$A$2:$E$1500,MATCH(1,([1]ITS_DEV_MANUF_MODEL!$E$2:$E$1500=\"WWD\")*([1]ITS_DEV_MANUF_MODEL!$D$2:$D$1500='WWVDS (Desc)'!$J183),0),2))","v":""},{"$f":"IF('WWVDS (Desc)'!L183=\"\",\"\",'WWVDS (Desc)'!L183)","v":""},{"$f":"IF('WWVDS (Desc)'!M183=\"\",\"\",'WWVDS (Desc)'!M183)","v":""},{"$f":"IF('WWVDS (Desc)'!N183=\"\",\"\",'WWVDS (Desc)'!N183)","v":""},{"$f":"IF('WWVDS (Desc)'!O183=\"\",\"\",'WWVDS (Desc)'!O183)","v":""},{"$f":"IF('WWVDS (Desc)'!P183=\"\",\"\",'WWVDS (Desc)'!P183)","v":""}]
[{"$f":"IF('WWVDS (Desc)'!A184=\"\",\"\",'WWVDS (Desc)'!A184)","v":""},{"$f":"IF('WWVDS (Desc)'!B184=\"\",\"\",'WWVDS (Desc)'!B184)","v":""},{"$f":"IF('WWVDS (Desc)'!C184=\"\",\"\",'WWVDS (Desc)'!C184)","v":""},{"$f":"IF('WWVDS (Desc)'!D184=\"\",\"\",'WWVDS (Desc)'!D184)","v":""},{"$f":"IF('WWVDS (Desc)'!E184=\"\",\"\",INDEX([1]OWNER!$A$2:$A$100,MATCH('WWVDS (Desc)'!$E184,[1]!MASTER_OWNER_DESC[#Data],0),0))","v":""},{"$f":"IF('WWVDS (Desc)'!F184=\"\",\"\",INDEX([1]COUNTY!$A$2:$A$80,MATCH('WWVDS (Desc)'!F184,[1]!MASTER_COUNTY_NAME[#Data],0),0))","v":""},{"$f":"IF('WWVDS (Desc)'!G184=\"\",\"\",'WWVDS (Desc)'!G184)","v":""},{"$f":"IF('WWVDS (Desc)'!H184=\"\",\"\",'WWVDS (Desc)'!H184)","v":""},{"$f":"IF('WWVDS (Desc)'!I184=\"\",\"\",INDEX([1]WWVDS_TYPE!$A$2:$A$4,MATCH('WWVDS (Desc)'!$I184,[1]!MASTER_WWVDS_TYPE_DESC[#Data],0),0))","v":""},{"$f":"IF('WWVDS (Desc)'!$J184=\"\",\"\",INDEX([1]ITS_DEV_MANUF_MODEL!$A$2:$E$1500,MATCH(1,([1]ITS_DEV_MANUF_MODEL!$E$2:$E$1500=\"WWD\")*([1]ITS_DEV_MANUF_MODEL!$D$2:$D$1500='WWVDS (Desc)'!$J184),0),1))","v":""},{"$f":"IF('WWVDS (Desc)'!$J184=\"\",\"\",INDEX([1]ITS_DEV_MANUF_MODEL!$A$2:$E$1500,MATCH(1,([1]ITS_DEV_MANUF_MODEL!$E$2:$E$1500=\"WWD\")*([1]ITS_DEV_MANUF_MODEL!$D$2:$D$1500='WWVDS (Desc)'!$J184),0),2))","v":""},{"$f":"IF('WWVDS (Desc)'!L184=\"\",\"\",'WWVDS (Desc)'!L184)","v":""},{"$f":"IF('WWVDS (Desc)'!M184=\"\",\"\",'WWVDS (Desc)'!M184)","v":""},{"$f":"IF('WWVDS (Desc)'!N184=\"\",\"\",'WWVDS (Desc)'!N184)","v":""},{"$f":"IF('WWVDS (Desc)'!O184=\"\",\"\",'WWVDS (Desc)'!O184)","v":""},{"$f":"IF('WWVDS (Desc)'!P184=\"\",\"\",'WWVDS (Desc)'!P184)","v":""}]
[{"$f":"IF('WWVDS (Desc)'!A185=\"\",\"\",'WWVDS (Desc)'!A185)","v":""},{"$f":"IF('WWVDS (Desc)'!B185=\"\",\"\",'WWVDS (Desc)'!B185)","v":""},{"$f":"IF('WWVDS (Desc)'!C185=\"\",\"\",'WWVDS (Desc)'!C185)","v":""},{"$f":"IF('WWVDS (Desc)'!D185=\"\",\"\",'WWVDS (Desc)'!D185)","v":""},{"$f":"IF('WWVDS (Desc)'!E185=\"\",\"\",INDEX([1]OWNER!$A$2:$A$100,MATCH('WWVDS (Desc)'!$E185,[1]!MASTER_OWNER_DESC[#Data],0),0))","v":""},{"$f":"IF('WWVDS (Desc)'!F185=\"\",\"\",INDEX([1]COUNTY!$A$2:$A$80,MATCH('WWVDS (Desc)'!F185,[1]!MASTER_COUNTY_NAME[#Data],0),0))","v":""},{"$f":"IF('WWVDS (Desc)'!G185=\"\",\"\",'WWVDS (Desc)'!G185)","v":""},{"$f":"IF('WWVDS (Desc)'!H185=\"\",\"\",'WWVDS (Desc)'!H185)","v":""},{"$f":"IF('WWVDS (Desc)'!I185=\"\",\"\",INDEX([1]WWVDS_TYPE!$A$2:$A$4,MATCH('WWVDS (Desc)'!$I185,[1]!MASTER_WWVDS_TYPE_DESC[#Data],0),0))","v":""},{"$f":"IF('WWVDS (Desc)'!$J185=\"\",\"\",INDEX([1]ITS_DEV_MANUF_MODEL!$A$2:$E$1500,MATCH(1,([1]ITS_DEV_MANUF_MODEL!$E$2:$E$1500=\"WWD\")*([1]ITS_DEV_MANUF_MODEL!$D$2:$D$1500='WWVDS (Desc)'!$J185),0),1))","v":""},{"$f":"IF('WWVDS (Desc)'!$J185=\"\",\"\",INDEX([1]ITS_DEV_MANUF_MODEL!$A$2:$E$1500,MATCH(1,([1]ITS_DEV_MANUF_MODEL!$E$2:$E$1500=\"WWD\")*([1]ITS_DEV_MANUF_MODEL!$D$2:$D$1500='WWVDS (Desc)'!$J185),0),2))","v":""},{"$f":"IF('WWVDS (Desc)'!L185=\"\",\"\",'WWVDS (Desc)'!L185)","v":""},{"$f":"IF('WWVDS (Desc)'!M185=\"\",\"\",'WWVDS (Desc)'!M185)","v":""},{"$f":"IF('WWVDS (Desc)'!N185=\"\",\"\",'WWVDS (Desc)'!N185)","v":""},{"$f":"IF('WWVDS (Desc)'!O185=\"\",\"\",'WWVDS (Desc)'!O185)","v":""},{"$f":"IF('WWVDS (Desc)'!P185=\"\",\"\",'WWVDS (Desc)'!P185)","v":""}]
[{"$f":"IF('WWVDS (Desc)'!A186=\"\",\"\",'WWVDS (Desc)'!A186)","v":""},{"$f":"IF('WWVDS (Desc)'!B186=\"\",\"\",'WWVDS (Desc)'!B186)","v":""},{"$f":"IF('WWVDS (Desc)'!C186=\"\",\"\",'WWVDS (Desc)'!C186)","v":""},{"$f":"IF('WWVDS (Desc)'!D186=\"\",\"\",'WWVDS (Desc)'!D186)","v":""},{"$f":"IF('WWVDS (Desc)'!E186=\"\",\"\",INDEX([1]OWNER!$A$2:$A$100,MATCH('WWVDS (Desc)'!$E186,[1]!MASTER_OWNER_DESC[#Data],0),0))","v":""},{"$f":"IF('WWVDS (Desc)'!F186=\"\",\"\",INDEX([1]COUNTY!$A$2:$A$80,MATCH('WWVDS (Desc)'!F186,[1]!MASTER_COUNTY_NAME[#Data],0),0))","v":""},{"$f":"IF('WWVDS (Desc)'!G186=\"\",\"\",'WWVDS (Desc)'!G186)","v":""},{"$f":"IF('WWVDS (Desc)'!H186=\"\",\"\",'WWVDS (Desc)'!H186)","v":""},{"$f":"IF('WWVDS (Desc)'!I186=\"\",\"\",INDEX([1]WWVDS_TYPE!$A$2:$A$4,MATCH('WWVDS (Desc)'!$I186,[1]!MASTER_WWVDS_TYPE_DESC[#Data],0),0))","v":""},{"$f":"IF('WWVDS (Desc)'!$J186=\"\",\"\",INDEX([1]ITS_DEV_MANUF_MODEL!$A$2:$E$1500,MATCH(1,([1]ITS_DEV_MANUF_MODEL!$E$2:$E$1500=\"WWD\")*([1]ITS_DEV_MANUF_MODEL!$D$2:$D$1500='WWVDS (Desc)'!$J186),0),1))","v":""},{"$f":"IF('WWVDS (Desc)'!$J186=\"\",\"\",INDEX([1]ITS_DEV_MANUF_MODEL!$A$2:$E$1500,MATCH(1,([1]ITS_DEV_MANUF_MODEL!$E$2:$E$1500=\"WWD\")*([1]ITS_DEV_MANUF_MODEL!$D$2:$D$1500='WWVDS (Desc)'!$J186),0),2))","v":""},{"$f":"IF('WWVDS (Desc)'!L186=\"\",\"\",'WWVDS (Desc)'!L186)","v":""},{"$f":"IF('WWVDS (Desc)'!M186=\"\",\"\",'WWVDS (Desc)'!M186)","v":""},{"$f":"IF('WWVDS (Desc)'!N186=\"\",\"\",'WWVDS (Desc)'!N186)","v":""},{"$f":"IF('WWVDS (Desc)'!O186=\"\",\"\",'WWVDS (Desc)'!O186)","v":""},{"$f":"IF('WWVDS (Desc)'!P186=\"\",\"\",'WWVDS (Desc)'!P186)","v":""}]
[{"$f":"IF('WWVDS (Desc)'!A187=\"\",\"\",'WWVDS (Desc)'!A187)","v":""},{"$f":"IF('WWVDS (Desc)'!B187=\"\",\"\",'WWVDS (Desc)'!B187)","v":""},{"$f":"IF('WWVDS (Desc)'!C187=\"\",\"\",'WWVDS (Desc)'!C187)","v":""},{"$f":"IF('WWVDS (Desc)'!D187=\"\",\"\",'WWVDS (Desc)'!D187)","v":""},{"$f":"IF('WWVDS (Desc)'!E187=\"\",\"\",INDEX([1]OWNER!$A$2:$A$100,MATCH('WWVDS (Desc)'!$E187,[1]!MASTER_OWNER_DESC[#Data],0),0))","v":""},{"$f":"IF('WWVDS (Desc)'!F187=\"\",\"\",INDEX([1]COUNTY!$A$2:$A$80,MATCH('WWVDS (Desc)'!F187,[1]!MASTER_COUNTY_NAME[#Data],0),0))","v":""},{"$f":"IF('WWVDS (Desc)'!G187=\"\",\"\",'WWVDS (Desc)'!G187)","v":""},{"$f":"IF('WWVDS (Desc)'!H187=\"\",\"\",'WWVDS (Desc)'!H187)","v":""},{"$f":"IF('WWVDS (Desc)'!I187=\"\",\"\",INDEX([1]WWVDS_TYPE!$A$2:$A$4,MATCH('WWVDS (Desc)'!$I187,[1]!MASTER_WWVDS_TYPE_DESC[#Data],0),0))","v":""},{"$f":"IF('WWVDS (Desc)'!$J187=\"\",\"\",INDEX([1]ITS_DEV_MANUF_MODEL!$A$2:$E$1500,MATCH(1,([1]ITS_DEV_MANUF_MODEL!$E$2:$E$1500=\"WWD\")*([1]ITS_DEV_MANUF_MODEL!$D$2:$D$1500='WWVDS (Desc)'!$J187),0),1))","v":""},{"$f":"IF('WWVDS (Desc)'!$J187=\"\",\"\",INDEX([1]ITS_DEV_MANUF_MODEL!$A$2:$E$1500,MATCH(1,([1]ITS_DEV_MANUF_MODEL!$E$2:$E$1500=\"WWD\")*([1]ITS_DEV_MANUF_MODEL!$D$2:$D$1500='WWVDS (Desc)'!$J187),0),2))","v":""},{"$f":"IF('WWVDS (Desc)'!L187=\"\",\"\",'WWVDS (Desc)'!L187)","v":""},{"$f":"IF('WWVDS (Desc)'!M187=\"\",\"\",'WWVDS (Desc)'!M187)","v":""},{"$f":"IF('WWVDS (Desc)'!N187=\"\",\"\",'WWVDS (Desc)'!N187)","v":""},{"$f":"IF('WWVDS (Desc)'!O187=\"\",\"\",'WWVDS (Desc)'!O187)","v":""},{"$f":"IF('WWVDS (Desc)'!P187=\"\",\"\",'WWVDS (Desc)'!P187)","v":""}]
[{"$f":"IF('WWVDS (Desc)'!A188=\"\",\"\",'WWVDS (Desc)'!A188)","v":""},{"$f":"IF('WWVDS (Desc)'!B188=\"\",\"\",'WWVDS (Desc)'!B188)","v":""},{"$f":"IF('WWVDS (Desc)'!C188=\"\",\"\",'WWVDS (Desc)'!C188)","v":""},{"$f":"IF('WWVDS (Desc)'!D188=\"\",\"\",'WWVDS (Desc)'!D188)","v":""},{"$f":"IF('WWVDS (Desc)'!E188=\"\",\"\",INDEX([1]OWNER!$A$2:$A$100,MATCH('WWVDS (Desc)'!$E188,[1]!MASTER_OWNER_DESC[#Data],0),0))","v":""},{"$f":"IF('WWVDS (Desc)'!F188=\"\",\"\",INDEX([1]COUNTY!$A$2:$A$80,MATCH('WWVDS (Desc)'!F188,[1]!MASTER_COUNTY_NAME[#Data],0),0))","v":""},{"$f":"IF('WWVDS (Desc)'!G188=\"\",\"\",'WWVDS (Desc)'!G188)","v":""},{"$f":"IF('WWVDS (Desc)'!H188=\"\",\"\",'WWVDS (Desc)'!H188)","v":""},{"$f":"IF('WWVDS (Desc)'!I188=\"\",\"\",INDEX([1]WWVDS_TYPE!$A$2:$A$4,MATCH('WWVDS (Desc)'!$I188,[1]!MASTER_WWVDS_TYPE_DESC[#Data],0),0))","v":""},{"$f":"IF('WWVDS (Desc)'!$J188=\"\",\"\",INDEX([1]ITS_DEV_MANUF_MODEL!$A$2:$E$1500,MATCH(1,([1]ITS_DEV_MANUF_MODEL!$E$2:$E$1500=\"WWD\")*([1]ITS_DEV_MANUF_MODEL!$D$2:$D$1500='WWVDS (Desc)'!$J188),0),1))","v":""},{"$f":"IF('WWVDS (Desc)'!$J188=\"\",\"\",INDEX([1]ITS_DEV_MANUF_MODEL!$A$2:$E$1500,MATCH(1,([1]ITS_DEV_MANUF_MODEL!$E$2:$E$1500=\"WWD\")*([1]ITS_DEV_MANUF_MODEL!$D$2:$D$1500='WWVDS (Desc)'!$J188),0),2))","v":""},{"$f":"IF('WWVDS (Desc)'!L188=\"\",\"\",'WWVDS (Desc)'!L188)","v":""},{"$f":"IF('WWVDS (Desc)'!M188=\"\",\"\",'WWVDS (Desc)'!M188)","v":""},{"$f":"IF('WWVDS (Desc)'!N188=\"\",\"\",'WWVDS (Desc)'!N188)","v":""},{"$f":"IF('WWVDS (Desc)'!O188=\"\",\"\",'WWVDS (Desc)'!O188)","v":""},{"$f":"IF('WWVDS (Desc)'!P188=\"\",\"\",'WWVDS (Desc)'!P188)","v":""}]
[{"$f":"IF('WWVDS (Desc)'!A189=\"\",\"\",'WWVDS (Desc)'!A189)","v":""},{"$f":"IF('WWVDS (Desc)'!B189=\"\",\"\",'WWVDS (Desc)'!B189)","v":""},{"$f":"IF('WWVDS (Desc)'!C189=\"\",\"\",'WWVDS (Desc)'!C189)","v":""},{"$f":"IF('WWVDS (Desc)'!D189=\"\",\"\",'WWVDS (Desc)'!D189)","v":""},{"$f":"IF('WWVDS (Desc)'!E189=\"\",\"\",INDEX([1]OWNER!$A$2:$A$100,MATCH('WWVDS (Desc)'!$E189,[1]!MASTER_OWNER_DESC[#Data],0),0))","v":""},{"$f":"IF('WWVDS (Desc)'!F189=\"\",\"\",INDEX([1]COUNTY!$A$2:$A$80,MATCH('WWVDS (Desc)'!F189,[1]!MASTER_COUNTY_NAME[#Data],0),0))","v":""},{"$f":"IF('WWVDS (Desc)'!G189=\"\",\"\",'WWVDS (Desc)'!G189)","v":""},{"$f":"IF('WWVDS (Desc)'!H189=\"\",\"\",'WWVDS (Desc)'!H189)","v":""},{"$f":"IF('WWVDS (Desc)'!I189=\"\",\"\",INDEX([1]WWVDS_TYPE!$A$2:$A$4,MATCH('WWVDS (Desc)'!$I189,[1]!MASTER_WWVDS_TYPE_DESC[#Data],0),0))","v":""},{"$f":"IF('WWVDS (Desc)'!$J189=\"\",\"\",INDEX([1]ITS_DEV_MANUF_MODEL!$A$2:$E$1500,MATCH(1,([1]ITS_DEV_MANUF_MODEL!$E$2:$E$1500=\"WWD\")*([1]ITS_DEV_MANUF_MODEL!$D$2:$D$1500='WWVDS (Desc)'!$J189),0),1))","v":""},{"$f":"IF('WWVDS (Desc)'!$J189=\"\",\"\",INDEX([1]ITS_DEV_MANUF_MODEL!$A$2:$E$1500,MATCH(1,([1]ITS_DEV_MANUF_MODEL!$E$2:$E$1500=\"WWD\")*([1]ITS_DEV_MANUF_MODEL!$D$2:$D$1500='WWVDS (Desc)'!$J189),0),2))","v":""},{"$f":"IF('WWVDS (Desc)'!L189=\"\",\"\",'WWVDS (Desc)'!L189)","v":""},{"$f":"IF('WWVDS (Desc)'!M189=\"\",\"\",'WWVDS (Desc)'!M189)","v":""},{"$f":"IF('WWVDS (Desc)'!N189=\"\",\"\",'WWVDS (Desc)'!N189)","v":""},{"$f":"IF('WWVDS (Desc)'!O189=\"\",\"\",'WWVDS (Desc)'!O189)","v":""},{"$f":"IF('WWVDS (Desc)'!P189=\"\",\"\",'WWVDS (Desc)'!P189)","v":""}]
[{"$f":"IF('WWVDS (Desc)'!A190=\"\",\"\",'WWVDS (Desc)'!A190)","v":""},{"$f":"IF('WWVDS (Desc)'!B190=\"\",\"\",'WWVDS (Desc)'!B190)","v":""},{"$f":"IF('WWVDS (Desc)'!C190=\"\",\"\",'WWVDS (Desc)'!C190)","v":""},{"$f":"IF('WWVDS (Desc)'!D190=\"\",\"\",'WWVDS (Desc)'!D190)","v":""},{"$f":"IF('WWVDS (Desc)'!E190=\"\",\"\",INDEX([1]OWNER!$A$2:$A$100,MATCH('WWVDS (Desc)'!$E190,[1]!MASTER_OWNER_DESC[#Data],0),0))","v":""},{"$f":"IF('WWVDS (Desc)'!F190=\"\",\"\",INDEX([1]COUNTY!$A$2:$A$80,MATCH('WWVDS (Desc)'!F190,[1]!MASTER_COUNTY_NAME[#Data],0),0))","v":""},{"$f":"IF('WWVDS (Desc)'!G190=\"\",\"\",'WWVDS (Desc)'!G190)","v":""},{"$f":"IF('WWVDS (Desc)'!H190=\"\",\"\",'WWVDS (Desc)'!H190)","v":""},{"$f":"IF('WWVDS (Desc)'!I190=\"\",\"\",INDEX([1]WWVDS_TYPE!$A$2:$A$4,MATCH('WWVDS (Desc)'!$I190,[1]!MASTER_WWVDS_TYPE_DESC[#Data],0),0))","v":""},{"$f":"IF('WWVDS (Desc)'!$J190=\"\",\"\",INDEX([1]ITS_DEV_MANUF_MODEL!$A$2:$E$1500,MATCH(1,([1]ITS_DEV_MANUF_MODEL!$E$2:$E$1500=\"WWD\")*([1]ITS_DEV_MANUF_MODEL!$D$2:$D$1500='WWVDS (Desc)'!$J190),0),1))","v":""},{"$f":"IF('WWVDS (Desc)'!$J190=\"\",\"\",INDEX([1]ITS_DEV_MANUF_MODEL!$A$2:$E$1500,MATCH(1,([1]ITS_DEV_MANUF_MODEL!$E$2:$E$1500=\"WWD\")*([1]ITS_DEV_MANUF_MODEL!$D$2:$D$1500='WWVDS (Desc)'!$J190),0),2))","v":""},{"$f":"IF('WWVDS (Desc)'!L190=\"\",\"\",'WWVDS (Desc)'!L190)","v":""},{"$f":"IF('WWVDS (Desc)'!M190=\"\",\"\",'WWVDS (Desc)'!M190)","v":""},{"$f":"IF('WWVDS (Desc)'!N190=\"\",\"\",'WWVDS (Desc)'!N190)","v":""},{"$f":"IF('WWVDS (Desc)'!O190=\"\",\"\",'WWVDS (Desc)'!O190)","v":""},{"$f":"IF('WWVDS (Desc)'!P190=\"\",\"\",'WWVDS (Desc)'!P190)","v":""}]
[{"$f":"IF('WWVDS (Desc)'!A191=\"\",\"\",'WWVDS (Desc)'!A191)","v":""},{"$f":"IF('WWVDS (Desc)'!B191=\"\",\"\",'WWVDS (Desc)'!B191)","v":""},{"$f":"IF('WWVDS (Desc)'!C191=\"\",\"\",'WWVDS (Desc)'!C191)","v":""},{"$f":"IF('WWVDS (Desc)'!D191=\"\",\"\",'WWVDS (Desc)'!D191)","v":""},{"$f":"IF('WWVDS (Desc)'!E191=\"\",\"\",INDEX([1]OWNER!$A$2:$A$100,MATCH('WWVDS (Desc)'!$E191,[1]!MASTER_OWNER_DESC[#Data],0),0))","v":""},{"$f":"IF('WWVDS (Desc)'!F191=\"\",\"\",INDEX([1]COUNTY!$A$2:$A$80,MATCH('WWVDS (Desc)'!F191,[1]!MASTER_COUNTY_NAME[#Data],0),0))","v":""},{"$f":"IF('WWVDS (Desc)'!G191=\"\",\"\",'WWVDS (Desc)'!G191)","v":""},{"$f":"IF('WWVDS (Desc)'!H191=\"\",\"\",'WWVDS (Desc)'!H191)","v":""},{"$f":"IF('WWVDS (Desc)'!I191=\"\",\"\",INDEX([1]WWVDS_TYPE!$A$2:$A$4,MATCH('WWVDS (Desc)'!$I191,[1]!MASTER_WWVDS_TYPE_DESC[#Data],0),0))","v":""},{"$f":"IF('WWVDS (Desc)'!$J191=\"\",\"\",INDEX([1]ITS_DEV_MANUF_MODEL!$A$2:$E$1500,MATCH(1,([1]ITS_DEV_MANUF_MODEL!$E$2:$E$1500=\"WWD\")*([1]ITS_DEV_MANUF_MODEL!$D$2:$D$1500='WWVDS (Desc)'!$J191),0),1))","v":""},{"$f":"IF('WWVDS (Desc)'!$J191=\"\",\"\",INDEX([1]ITS_DEV_MANUF_MODEL!$A$2:$E$1500,MATCH(1,([1]ITS_DEV_MANUF_MODEL!$E$2:$E$1500=\"WWD\")*([1]ITS_DEV_MANUF_MODEL!$D$2:$D$1500='WWVDS (Desc)'!$J191),0),2))","v":""},{"$f":"IF('WWVDS (Desc)'!L191=\"\",\"\",'WWVDS (Desc)'!L191)","v":""},{"$f":"IF('WWVDS (Desc)'!M191=\"\",\"\",'WWVDS (Desc)'!M191)","v":""},{"$f":"IF('WWVDS (Desc)'!N191=\"\",\"\",'WWVDS (Desc)'!N191)","v":""},{"$f":"IF('WWVDS (Desc)'!O191=\"\",\"\",'WWVDS (Desc)'!O191)","v":""},{"$f":"IF('WWVDS (Desc)'!P191=\"\",\"\",'WWVDS (Desc)'!P191)","v":""}]
[{"$f":"IF('WWVDS (Desc)'!A192=\"\",\"\",'WWVDS (Desc)'!A192)","v":""},{"$f":"IF('WWVDS (Desc)'!B192=\"\",\"\",'WWVDS (Desc)'!B192)","v":""},{"$f":"IF('WWVDS (Desc)'!C192=\"\",\"\",'WWVDS (Desc)'!C192)","v":""},{"$f":"IF('WWVDS (Desc)'!D192=\"\",\"\",'WWVDS (Desc)'!D192)","v":""},{"$f":"IF('WWVDS (Desc)'!E192=\"\",\"\",INDEX([1]OWNER!$A$2:$A$100,MATCH('WWVDS (Desc)'!$E192,[1]!MASTER_OWNER_DESC[#Data],0),0))","v":""},{"$f":"IF('WWVDS (Desc)'!F192=\"\",\"\",INDEX([1]COUNTY!$A$2:$A$80,MATCH('WWVDS (Desc)'!F192,[1]!MASTER_COUNTY_NAME[#Data],0),0))","v":""},{"$f":"IF('WWVDS (Desc)'!G192=\"\",\"\",'WWVDS (Desc)'!G192)","v":""},{"$f":"IF('WWVDS (Desc)'!H192=\"\",\"\",'WWVDS (Desc)'!H192)","v":""},{"$f":"IF('WWVDS (Desc)'!I192=\"\",\"\",INDEX([1]WWVDS_TYPE!$A$2:$A$4,MATCH('WWVDS (Desc)'!$I192,[1]!MASTER_WWVDS_TYPE_DESC[#Data],0),0))","v":""},{"$f":"IF('WWVDS (Desc)'!$J192=\"\",\"\",INDEX([1]ITS_DEV_MANUF_MODEL!$A$2:$E$1500,MATCH(1,([1]ITS_DEV_MANUF_MODEL!$E$2:$E$1500=\"WWD\")*([1]ITS_DEV_MANUF_MODEL!$D$2:$D$1500='WWVDS (Desc)'!$J192),0),1))","v":""},{"$f":"IF('WWVDS (Desc)'!$J192=\"\",\"\",INDEX([1]ITS_DEV_MANUF_MODEL!$A$2:$E$1500,MATCH(1,([1]ITS_DEV_MANUF_MODEL!$E$2:$E$1500=\"WWD\")*([1]ITS_DEV_MANUF_MODEL!$D$2:$D$1500='WWVDS (Desc)'!$J192),0),2))","v":""},{"$f":"IF('WWVDS (Desc)'!L192=\"\",\"\",'WWVDS (Desc)'!L192)","v":""},{"$f":"IF('WWVDS (Desc)'!M192=\"\",\"\",'WWVDS (Desc)'!M192)","v":""},{"$f":"IF('WWVDS (Desc)'!N192=\"\",\"\",'WWVDS (Desc)'!N192)","v":""},{"$f":"IF('WWVDS (Desc)'!O192=\"\",\"\",'WWVDS (Desc)'!O192)","v":""},{"$f":"IF('WWVDS (Desc)'!P192=\"\",\"\",'WWVDS (Desc)'!P192)","v":""}]
[{"$f":"IF('WWVDS (Desc)'!A193=\"\",\"\",'WWVDS (Desc)'!A193)","v":""},{"$f":"IF('WWVDS (Desc)'!B193=\"\",\"\",'WWVDS (Desc)'!B193)","v":""},{"$f":"IF('WWVDS (Desc)'!C193=\"\",\"\",'WWVDS (Desc)'!C193)","v":""},{"$f":"IF('WWVDS (Desc)'!D193=\"\",\"\",'WWVDS (Desc)'!D193)","v":""},{"$f":"IF('WWVDS (Desc)'!E193=\"\",\"\",INDEX([1]OWNER!$A$2:$A$100,MATCH('WWVDS (Desc)'!$E193,[1]!MASTER_OWNER_DESC[#Data],0),0))","v":""},{"$f":"IF('WWVDS (Desc)'!F193=\"\",\"\",INDEX([1]COUNTY!$A$2:$A$80,MATCH('WWVDS (Desc)'!F193,[1]!MASTER_COUNTY_NAME[#Data],0),0))","v":""},{"$f":"IF('WWVDS (Desc)'!G193=\"\",\"\",'WWVDS (Desc)'!G193)","v":""},{"$f":"IF('WWVDS (Desc)'!H193=\"\",\"\",'WWVDS (Desc)'!H193)","v":""},{"$f":"IF('WWVDS (Desc)'!I193=\"\",\"\",INDEX([1]WWVDS_TYPE!$A$2:$A$4,MATCH('WWVDS (Desc)'!$I193,[1]!MASTER_WWVDS_TYPE_DESC[#Data],0),0))","v":""},{"$f":"IF('WWVDS (Desc)'!$J193=\"\",\"\",INDEX([1]ITS_DEV_MANUF_MODEL!$A$2:$E$1500,MATCH(1,([1]ITS_DEV_MANUF_MODEL!$E$2:$E$1500=\"WWD\")*([1]ITS_DEV_MANUF_MODEL!$D$2:$D$1500='WWVDS (Desc)'!$J193),0),1))","v":""},{"$f":"IF('WWVDS (Desc)'!$J193=\"\",\"\",INDEX([1]ITS_DEV_MANUF_MODEL!$A$2:$E$1500,MATCH(1,([1]ITS_DEV_MANUF_MODEL!$E$2:$E$1500=\"WWD\")*([1]ITS_DEV_MANUF_MODEL!$D$2:$D$1500='WWVDS (Desc)'!$J193),0),2))","v":""},{"$f":"IF('WWVDS (Desc)'!L193=\"\",\"\",'WWVDS (Desc)'!L193)","v":""},{"$f":"IF('WWVDS (Desc)'!M193=\"\",\"\",'WWVDS (Desc)'!M193)","v":""},{"$f":"IF('WWVDS (Desc)'!N193=\"\",\"\",'WWVDS (Desc)'!N193)","v":""},{"$f":"IF('WWVDS (Desc)'!O193=\"\",\"\",'WWVDS (Desc)'!O193)","v":""},{"$f":"IF('WWVDS (Desc)'!P193=\"\",\"\",'WWVDS (Desc)'!P193)","v":""}]
[{"$f":"IF('WWVDS (Desc)'!A194=\"\",\"\",'WWVDS (Desc)'!A194)","v":""},{"$f":"IF('WWVDS (Desc)'!B194=\"\",\"\",'WWVDS (Desc)'!B194)","v":""},{"$f":"IF('WWVDS (Desc)'!C194=\"\",\"\",'WWVDS (Desc)'!C194)","v":""},{"$f":"IF('WWVDS (Desc)'!D194=\"\",\"\",'WWVDS (Desc)'!D194)","v":""},{"$f":"IF('WWVDS (Desc)'!E194=\"\",\"\",INDEX([1]OWNER!$A$2:$A$100,MATCH('WWVDS (Desc)'!$E194,[1]!MASTER_OWNER_DESC[#Data],0),0))","v":""},{"$f":"IF('WWVDS (Desc)'!F194=\"\",\"\",INDEX([1]COUNTY!$A$2:$A$80,MATCH('WWVDS (Desc)'!F194,[1]!MASTER_COUNTY_NAME[#Data],0),0))","v":""},{"$f":"IF('WWVDS (Desc)'!G194=\"\",\"\",'WWVDS (Desc)'!G194)","v":""},{"$f":"IF('WWVDS (Desc)'!H194=\"\",\"\",'WWVDS (Desc)'!H194)","v":""},{"$f":"IF('WWVDS (Desc)'!I194=\"\",\"\",INDEX([1]WWVDS_TYPE!$A$2:$A$4,MATCH('WWVDS (Desc)'!$I194,[1]!MASTER_WWVDS_TYPE_DESC[#Data],0),0))","v":""},{"$f":"IF('WWVDS (Desc)'!$J194=\"\",\"\",INDEX([1]ITS_DEV_MANUF_MODEL!$A$2:$E$1500,MATCH(1,([1]ITS_DEV_MANUF_MODEL!$E$2:$E$1500=\"WWD\")*([1]ITS_DEV_MANUF_MODEL!$D$2:$D$1500='WWVDS (Desc)'!$J194),0),1))","v":""},{"$f":"IF('WWVDS (Desc)'!$J194=\"\",\"\",INDEX([1]ITS_DEV_MANUF_MODEL!$A$2:$E$1500,MATCH(1,([1]ITS_DEV_MANUF_MODEL!$E$2:$E$1500=\"WWD\")*([1]ITS_DEV_MANUF_MODEL!$D$2:$D$1500='WWVDS (Desc)'!$J194),0),2))","v":""},{"$f":"IF('WWVDS (Desc)'!L194=\"\",\"\",'WWVDS (Desc)'!L194)","v":""},{"$f":"IF('WWVDS (Desc)'!M194=\"\",\"\",'WWVDS (Desc)'!M194)","v":""},{"$f":"IF('WWVDS (Desc)'!N194=\"\",\"\",'WWVDS (Desc)'!N194)","v":""},{"$f":"IF('WWVDS (Desc)'!O194=\"\",\"\",'WWVDS (Desc)'!O194)","v":""},{"$f":"IF('WWVDS (Desc)'!P194=\"\",\"\",'WWVDS (Desc)'!P194)","v":""}]
[{"$f":"IF('WWVDS (Desc)'!A195=\"\",\"\",'WWVDS (Desc)'!A195)","v":""},{"$f":"IF('WWVDS (Desc)'!B195=\"\",\"\",'WWVDS (Desc)'!B195)","v":""},{"$f":"IF('WWVDS (Desc)'!C195=\"\",\"\",'WWVDS (Desc)'!C195)","v":""},{"$f":"IF('WWVDS (Desc)'!D195=\"\",\"\",'WWVDS (Desc)'!D195)","v":""},{"$f":"IF('WWVDS (Desc)'!E195=\"\",\"\",INDEX([1]OWNER!$A$2:$A$100,MATCH('WWVDS (Desc)'!$E195,[1]!MASTER_OWNER_DESC[#Data],0),0))","v":""},{"$f":"IF('WWVDS (Desc)'!F195=\"\",\"\",INDEX([1]COUNTY!$A$2:$A$80,MATCH('WWVDS (Desc)'!F195,[1]!MASTER_COUNTY_NAME[#Data],0),0))","v":""},{"$f":"IF('WWVDS (Desc)'!G195=\"\",\"\",'WWVDS (Desc)'!G195)","v":""},{"$f":"IF('WWVDS (Desc)'!H195=\"\",\"\",'WWVDS (Desc)'!H195)","v":""},{"$f":"IF('WWVDS (Desc)'!I195=\"\",\"\",INDEX([1]WWVDS_TYPE!$A$2:$A$4,MATCH('WWVDS (Desc)'!$I195,[1]!MASTER_WWVDS_TYPE_DESC[#Data],0),0))","v":""},{"$f":"IF('WWVDS (Desc)'!$J195=\"\",\"\",INDEX([1]ITS_DEV_MANUF_MODEL!$A$2:$E$1500,MATCH(1,([1]ITS_DEV_MANUF_MODEL!$E$2:$E$1500=\"WWD\")*([1]ITS_DEV_MANUF_MODEL!$D$2:$D$1500='WWVDS (Desc)'!$J195),0),1))","v":""},{"$f":"IF('WWVDS (Desc)'!$J195=\"\",\"\",INDEX([1]ITS_DEV_MANUF_MODEL!$A$2:$E$1500,MATCH(1,([1]ITS_DEV_MANUF_MODEL!$E$2:$E$1500=\"WWD\")*([1]ITS_DEV_MANUF_MODEL!$D$2:$D$1500='WWVDS (Desc)'!$J195),0),2))","v":""},{"$f":"IF('WWVDS (Desc)'!L195=\"\",\"\",'WWVDS (Desc)'!L195)","v":""},{"$f":"IF('WWVDS (Desc)'!M195=\"\",\"\",'WWVDS (Desc)'!M195)","v":""},{"$f":"IF('WWVDS (Desc)'!N195=\"\",\"\",'WWVDS (Desc)'!N195)","v":""},{"$f":"IF('WWVDS (Desc)'!O195=\"\",\"\",'WWVDS (Desc)'!O195)","v":""},{"$f":"IF('WWVDS (Desc)'!P195=\"\",\"\",'WWVDS (Desc)'!P195)","v":""}]
[{"$f":"IF('WWVDS (Desc)'!A196=\"\",\"\",'WWVDS (Desc)'!A196)","v":""},{"$f":"IF('WWVDS (Desc)'!B196=\"\",\"\",'WWVDS (Desc)'!B196)","v":""},{"$f":"IF('WWVDS (Desc)'!C196=\"\",\"\",'WWVDS (Desc)'!C196)","v":""},{"$f":"IF('WWVDS (Desc)'!D196=\"\",\"\",'WWVDS (Desc)'!D196)","v":""},{"$f":"IF('WWVDS (Desc)'!E196=\"\",\"\",INDEX([1]OWNER!$A$2:$A$100,MATCH('WWVDS (Desc)'!$E196,[1]!MASTER_OWNER_DESC[#Data],0),0))","v":""},{"$f":"IF('WWVDS (Desc)'!F196=\"\",\"\",INDEX([1]COUNTY!$A$2:$A$80,MATCH('WWVDS (Desc)'!F196,[1]!MASTER_COUNTY_NAME[#Data],0),0))","v":""},{"$f":"IF('WWVDS (Desc)'!G196=\"\",\"\",'WWVDS (Desc)'!G196)","v":""},{"$f":"IF('WWVDS (Desc)'!H196=\"\",\"\",'WWVDS (Desc)'!H196)","v":""},{"$f":"IF('WWVDS (Desc)'!I196=\"\",\"\",INDEX([1]WWVDS_TYPE!$A$2:$A$4,MATCH('WWVDS (Desc)'!$I196,[1]!MASTER_WWVDS_TYPE_DESC[#Data],0),0))","v":""},{"$f":"IF('WWVDS (Desc)'!$J196=\"\",\"\",INDEX([1]ITS_DEV_MANUF_MODEL!$A$2:$E$1500,MATCH(1,([1]ITS_DEV_MANUF_MODEL!$E$2:$E$1500=\"WWD\")*([1]ITS_DEV_MANUF_MODEL!$D$2:$D$1500='WWVDS (Desc)'!$J196),0),1))","v":""},{"$f":"IF('WWVDS (Desc)'!$J196=\"\",\"\",INDEX([1]ITS_DEV_MANUF_MODEL!$A$2:$E$1500,MATCH(1,([1]ITS_DEV_MANUF_MODEL!$E$2:$E$1500=\"WWD\")*([1]ITS_DEV_MANUF_MODEL!$D$2:$D$1500='WWVDS (Desc)'!$J196),0),2))","v":""},{"$f":"IF('WWVDS (Desc)'!L196=\"\",\"\",'WWVDS (Desc)'!L196)","v":""},{"$f":"IF('WWVDS (Desc)'!M196=\"\",\"\",'WWVDS (Desc)'!M196)","v":""},{"$f":"IF('WWVDS (Desc)'!N196=\"\",\"\",'WWVDS (Desc)'!N196)","v":""},{"$f":"IF('WWVDS (Desc)'!O196=\"\",\"\",'WWVDS (Desc)'!O196)","v":""},{"$f":"IF('WWVDS (Desc)'!P196=\"\",\"\",'WWVDS (Desc)'!P196)","v":""}]
[{"$f":"IF('WWVDS (Desc)'!A197=\"\",\"\",'WWVDS (Desc)'!A197)","v":""},{"$f":"IF('WWVDS (Desc)'!B197=\"\",\"\",'WWVDS (Desc)'!B197)","v":""},{"$f":"IF('WWVDS (Desc)'!C197=\"\",\"\",'WWVDS (Desc)'!C197)","v":""},{"$f":"IF('WWVDS (Desc)'!D197=\"\",\"\",'WWVDS (Desc)'!D197)","v":""},{"$f":"IF('WWVDS (Desc)'!E197=\"\",\"\",INDEX([1]OWNER!$A$2:$A$100,MATCH('WWVDS (Desc)'!$E197,[1]!MASTER_OWNER_DESC[#Data],0),0))","v":""},{"$f":"IF('WWVDS (Desc)'!F197=\"\",\"\",INDEX([1]COUNTY!$A$2:$A$80,MATCH('WWVDS (Desc)'!F197,[1]!MASTER_COUNTY_NAME[#Data],0),0))","v":""},{"$f":"IF('WWVDS (Desc)'!G197=\"\",\"\",'WWVDS (Desc)'!G197)","v":""},{"$f":"IF('WWVDS (Desc)'!H197=\"\",\"\",'WWVDS (Desc)'!H197)","v":""},{"$f":"IF('WWVDS (Desc)'!I197=\"\",\"\",INDEX([1]WWVDS_TYPE!$A$2:$A$4,MATCH('WWVDS (Desc)'!$I197,[1]!MASTER_WWVDS_TYPE_DESC[#Data],0),0))","v":""},{"$f":"IF('WWVDS (Desc)'!$J197=\"\",\"\",INDEX([1]ITS_DEV_MANUF_MODEL!$A$2:$E$1500,MATCH(1,([1]ITS_DEV_MANUF_MODEL!$E$2:$E$1500=\"WWD\")*([1]ITS_DEV_MANUF_MODEL!$D$2:$D$1500='WWVDS (Desc)'!$J197),0),1))","v":""},{"$f":"IF('WWVDS (Desc)'!$J197=\"\",\"\",INDEX([1]ITS_DEV_MANUF_MODEL!$A$2:$E$1500,MATCH(1,([1]ITS_DEV_MANUF_MODEL!$E$2:$E$1500=\"WWD\")*([1]ITS_DEV_MANUF_MODEL!$D$2:$D$1500='WWVDS (Desc)'!$J197),0),2))","v":""},{"$f":"IF('WWVDS (Desc)'!L197=\"\",\"\",'WWVDS (Desc)'!L197)","v":""},{"$f":"IF('WWVDS (Desc)'!M197=\"\",\"\",'WWVDS (Desc)'!M197)","v":""},{"$f":"IF('WWVDS (Desc)'!N197=\"\",\"\",'WWVDS (Desc)'!N197)","v":""},{"$f":"IF('WWVDS (Desc)'!O197=\"\",\"\",'WWVDS (Desc)'!O197)","v":""},{"$f":"IF('WWVDS (Desc)'!P197=\"\",\"\",'WWVDS (Desc)'!P197)","v":""}]
[{"$f":"IF('WWVDS (Desc)'!A198=\"\",\"\",'WWVDS (Desc)'!A198)","v":""},{"$f":"IF('WWVDS (Desc)'!B198=\"\",\"\",'WWVDS (Desc)'!B198)","v":""},{"$f":"IF('WWVDS (Desc)'!C198=\"\",\"\",'WWVDS (Desc)'!C198)","v":""},{"$f":"IF('WWVDS (Desc)'!D198=\"\",\"\",'WWVDS (Desc)'!D198)","v":""},{"$f":"IF('WWVDS (Desc)'!E198=\"\",\"\",INDEX([1]OWNER!$A$2:$A$100,MATCH('WWVDS (Desc)'!$E198,[1]!MASTER_OWNER_DESC[#Data],0),0))","v":""},{"$f":"IF('WWVDS (Desc)'!F198=\"\",\"\",INDEX([1]COUNTY!$A$2:$A$80,MATCH('WWVDS (Desc)'!F198,[1]!MASTER_COUNTY_NAME[#Data],0),0))","v":""},{"$f":"IF('WWVDS (Desc)'!G198=\"\",\"\",'WWVDS (Desc)'!G198)","v":""},{"$f":"IF('WWVDS (Desc)'!H198=\"\",\"\",'WWVDS (Desc)'!H198)","v":""},{"$f":"IF('WWVDS (Desc)'!I198=\"\",\"\",INDEX([1]WWVDS_TYPE!$A$2:$A$4,MATCH('WWVDS (Desc)'!$I198,[1]!MASTER_WWVDS_TYPE_DESC[#Data],0),0))","v":""},{"$f":"IF('WWVDS (Desc)'!$J198=\"\",\"\",INDEX([1]ITS_DEV_MANUF_MODEL!$A$2:$E$1500,MATCH(1,([1]ITS_DEV_MANUF_MODEL!$E$2:$E$1500=\"WWD\")*([1]ITS_DEV_MANUF_MODEL!$D$2:$D$1500='WWVDS (Desc)'!$J198),0),1))","v":""},{"$f":"IF('WWVDS (Desc)'!$J198=\"\",\"\",INDEX([1]ITS_DEV_MANUF_MODEL!$A$2:$E$1500,MATCH(1,([1]ITS_DEV_MANUF_MODEL!$E$2:$E$1500=\"WWD\")*([1]ITS_DEV_MANUF_MODEL!$D$2:$D$1500='WWVDS (Desc)'!$J198),0),2))","v":""},{"$f":"IF('WWVDS (Desc)'!L198=\"\",\"\",'WWVDS (Desc)'!L198)","v":""},{"$f":"IF('WWVDS (Desc)'!M198=\"\",\"\",'WWVDS (Desc)'!M198)","v":""},{"$f":"IF('WWVDS (Desc)'!N198=\"\",\"\",'WWVDS (Desc)'!N198)","v":""},{"$f":"IF('WWVDS (Desc)'!O198=\"\",\"\",'WWVDS (Desc)'!O198)","v":""},{"$f":"IF('WWVDS (Desc)'!P198=\"\",\"\",'WWVDS (Desc)'!P198)","v":""}]
[{"$f":"IF('WWVDS (Desc)'!A199=\"\",\"\",'WWVDS (Desc)'!A199)","v":""},{"$f":"IF('WWVDS (Desc)'!B199=\"\",\"\",'WWVDS (Desc)'!B199)","v":""},{"$f":"IF('WWVDS (Desc)'!C199=\"\",\"\",'WWVDS (Desc)'!C199)","v":""},{"$f":"IF('WWVDS (Desc)'!D199=\"\",\"\",'WWVDS (Desc)'!D199)","v":""},{"$f":"IF('WWVDS (Desc)'!E199=\"\",\"\",INDEX([1]OWNER!$A$2:$A$100,MATCH('WWVDS (Desc)'!$E199,[1]!MASTER_OWNER_DESC[#Data],0),0))","v":""},{"$f":"IF('WWVDS (Desc)'!F199=\"\",\"\",INDEX([1]COUNTY!$A$2:$A$80,MATCH('WWVDS (Desc)'!F199,[1]!MASTER_COUNTY_NAME[#Data],0),0))","v":""},{"$f":"IF('WWVDS (Desc)'!G199=\"\",\"\",'WWVDS (Desc)'!G199)","v":""},{"$f":"IF('WWVDS (Desc)'!H199=\"\",\"\",'WWVDS (Desc)'!H199)","v":""},{"$f":"IF('WWVDS (Desc)'!I199=\"\",\"\",INDEX([1]WWVDS_TYPE!$A$2:$A$4,MATCH('WWVDS (Desc)'!$I199,[1]!MASTER_WWVDS_TYPE_DESC[#Data],0),0))","v":""},{"$f":"IF('WWVDS (Desc)'!$J199=\"\",\"\",INDEX([1]ITS_DEV_MANUF_MODEL!$A$2:$E$1500,MATCH(1,([1]ITS_DEV_MANUF_MODEL!$E$2:$E$1500=\"WWD\")*([1]ITS_DEV_MANUF_MODEL!$D$2:$D$1500='WWVDS (Desc)'!$J199),0),1))","v":""},{"$f":"IF('WWVDS (Desc)'!$J199=\"\",\"\",INDEX([1]ITS_DEV_MANUF_MODEL!$A$2:$E$1500,MATCH(1,([1]ITS_DEV_MANUF_MODEL!$E$2:$E$1500=\"WWD\")*([1]ITS_DEV_MANUF_MODEL!$D$2:$D$1500='WWVDS (Desc)'!$J199),0),2))","v":""},{"$f":"IF('WWVDS (Desc)'!L199=\"\",\"\",'WWVDS (Desc)'!L199)","v":""},{"$f":"IF('WWVDS (Desc)'!M199=\"\",\"\",'WWVDS (Desc)'!M199)","v":""},{"$f":"IF('WWVDS (Desc)'!N199=\"\",\"\",'WWVDS (Desc)'!N199)","v":""},{"$f":"IF('WWVDS (Desc)'!O199=\"\",\"\",'WWVDS (Desc)'!O199)","v":""},{"$f":"IF('WWVDS (Desc)'!P199=\"\",\"\",'WWVDS (Desc)'!P199)","v":""}]
[{"$f":"IF('WWVDS (Desc)'!A200=\"\",\"\",'WWVDS (Desc)'!A200)","v":""},{"$f":"IF('WWVDS (Desc)'!B200=\"\",\"\",'WWVDS (Desc)'!B200)","v":""},{"$f":"IF('WWVDS (Desc)'!C200=\"\",\"\",'WWVDS (Desc)'!C200)","v":""},{"$f":"IF('WWVDS (Desc)'!D200=\"\",\"\",'WWVDS (Desc)'!D200)","v":""},{"$f":"IF('WWVDS (Desc)'!E200=\"\",\"\",INDEX([1]OWNER!$A$2:$A$100,MATCH('WWVDS (Desc)'!$E200,[1]!MASTER_OWNER_DESC[#Data],0),0))","v":""},{"$f":"IF('WWVDS (Desc)'!F200=\"\",\"\",INDEX([1]COUNTY!$A$2:$A$80,MATCH('WWVDS (Desc)'!F200,[1]!MASTER_COUNTY_NAME[#Data],0),0))","v":""},{"$f":"IF('WWVDS (Desc)'!G200=\"\",\"\",'WWVDS (Desc)'!G200)","v":""},{"$f":"IF('WWVDS (Desc)'!H200=\"\",\"\",'WWVDS (Desc)'!H200)","v":""},{"$f":"IF('WWVDS (Desc)'!I200=\"\",\"\",INDEX([1]WWVDS_TYPE!$A$2:$A$4,MATCH('WWVDS (Desc)'!$I200,[1]!MASTER_WWVDS_TYPE_DESC[#Data],0),0))","v":""},{"$f":"IF('WWVDS (Desc)'!$J200=\"\",\"\",INDEX([1]ITS_DEV_MANUF_MODEL!$A$2:$E$1500,MATCH(1,([1]ITS_DEV_MANUF_MODEL!$E$2:$E$1500=\"WWD\")*([1]ITS_DEV_MANUF_MODEL!$D$2:$D$1500='WWVDS (Desc)'!$J200),0),1))","v":""},{"$f":"IF('WWVDS (Desc)'!$J200=\"\",\"\",INDEX([1]ITS_DEV_MANUF_MODEL!$A$2:$E$1500,MATCH(1,([1]ITS_DEV_MANUF_MODEL!$E$2:$E$1500=\"WWD\")*([1]ITS_DEV_MANUF_MODEL!$D$2:$D$1500='WWVDS (Desc)'!$J200),0),2))","v":""},{"$f":"IF('WWVDS (Desc)'!L200=\"\",\"\",'WWVDS (Desc)'!L200)","v":""},{"$f":"IF('WWVDS (Desc)'!M200=\"\",\"\",'WWVDS (Desc)'!M200)","v":""},{"$f":"IF('WWVDS (Desc)'!N200=\"\",\"\",'WWVDS (Desc)'!N200)","v":""},{"$f":"IF('WWVDS (Desc)'!O200=\"\",\"\",'WWVDS (Desc)'!O200)","v":""},{"$f":"IF('WWVDS (Desc)'!P200=\"\",\"\",'WWVDS (Desc)'!P200)","v":""}]
[{"$f":"IF('WWVDS (Desc)'!A201=\"\",\"\",'WWVDS (Desc)'!A201)","v":""},{"$f":"IF('WWVDS (Desc)'!B201=\"\",\"\",'WWVDS (Desc)'!B201)","v":""},{"$f":"IF('WWVDS (Desc)'!C201=\"\",\"\",'WWVDS (Desc)'!C201)","v":""},{"$f":"IF('WWVDS (Desc)'!D201=\"\",\"\",'WWVDS (Desc)'!D201)","v":""},{"$f":"IF('WWVDS (Desc)'!E201=\"\",\"\",INDEX([1]OWNER!$A$2:$A$100,MATCH('WWVDS (Desc)'!$E201,[1]!MASTER_OWNER_DESC[#Data],0),0))","v":""},{"$f":"IF('WWVDS (Desc)'!F201=\"\",\"\",INDEX([1]COUNTY!$A$2:$A$80,MATCH('WWVDS (Desc)'!F201,[1]!MASTER_COUNTY_NAME[#Data],0),0))","v":""},{"$f":"IF('WWVDS (Desc)'!G201=\"\",\"\",'WWVDS (Desc)'!G201)","v":""},{"$f":"IF('WWVDS (Desc)'!H201=\"\",\"\",'WWVDS (Desc)'!H201)","v":""},{"$f":"IF('WWVDS (Desc)'!I201=\"\",\"\",INDEX([1]WWVDS_TYPE!$A$2:$A$4,MATCH('WWVDS (Desc)'!$I201,[1]!MASTER_WWVDS_TYPE_DESC[#Data],0),0))","v":""},{"$f":"IF('WWVDS (Desc)'!$J201=\"\",\"\",INDEX([1]ITS_DEV_MANUF_MODEL!$A$2:$E$1500,MATCH(1,([1]ITS_DEV_MANUF_MODEL!$E$2:$E$1500=\"WWD\")*([1]ITS_DEV_MANUF_MODEL!$D$2:$D$1500='WWVDS (Desc)'!$J201),0),1))","v":""},{"$f":"IF('WWVDS (Desc)'!$J201=\"\",\"\",INDEX([1]ITS_DEV_MANUF_MODEL!$A$2:$E$1500,MATCH(1,([1]ITS_DEV_MANUF_MODEL!$E$2:$E$1500=\"WWD\")*([1]ITS_DEV_MANUF_MODEL!$D$2:$D$1500='WWVDS (Desc)'!$J201),0),2))","v":""},{"$f":"IF('WWVDS (Desc)'!L201=\"\",\"\",'WWVDS (Desc)'!L201)","v":""},{"$f":"IF('WWVDS (Desc)'!M201=\"\",\"\",'WWVDS (Desc)'!M201)","v":""},{"$f":"IF('WWVDS (Desc)'!N201=\"\",\"\",'WWVDS (Desc)'!N201)","v":""},{"$f":"IF('WWVDS (Desc)'!O201=\"\",\"\",'WWVDS (Desc)'!O201)","v":""},{"$f":"IF('WWVDS (Desc)'!P201=\"\",\"\",'WWVDS (Desc)'!P201)","v":""}]
[{"$f":"IF('WWVDS (Desc)'!A202=\"\",\"\",'WWVDS (Desc)'!A202)","v":""},{"$f":"IF('WWVDS (Desc)'!B202=\"\",\"\",'WWVDS (Desc)'!B202)","v":""},{"$f":"IF('WWVDS (Desc)'!C202=\"\",\"\",'WWVDS (Desc)'!C202)","v":""},{"$f":"IF('WWVDS (Desc)'!D202=\"\",\"\",'WWVDS (Desc)'!D202)","v":""},{"$f":"IF('WWVDS (Desc)'!E202=\"\",\"\",INDEX([1]OWNER!$A$2:$A$100,MATCH('WWVDS (Desc)'!$E202,[1]!MASTER_OWNER_DESC[#Data],0),0))","v":""},{"$f":"IF('WWVDS (Desc)'!F202=\"\",\"\",INDEX([1]COUNTY!$A$2:$A$80,MATCH('WWVDS (Desc)'!F202,[1]!MASTER_COUNTY_NAME[#Data],0),0))","v":""},{"$f":"IF('WWVDS (Desc)'!G202=\"\",\"\",'WWVDS (Desc)'!G202)","v":""},{"$f":"IF('WWVDS (Desc)'!H202=\"\",\"\",'WWVDS (Desc)'!H202)","v":""},{"$f":"IF('WWVDS (Desc)'!I202=\"\",\"\",INDEX([1]WWVDS_TYPE!$A$2:$A$4,MATCH('WWVDS (Desc)'!$I202,[1]!MASTER_WWVDS_TYPE_DESC[#Data],0),0))","v":""},{"$f":"IF('WWVDS (Desc)'!$J202=\"\",\"\",INDEX([1]ITS_DEV_MANUF_MODEL!$A$2:$E$1500,MATCH(1,([1]ITS_DEV_MANUF_MODEL!$E$2:$E$1500=\"WWD\")*([1]ITS_DEV_MANUF_MODEL!$D$2:$D$1500='WWVDS (Desc)'!$J202),0),1))","v":""},{"$f":"IF('WWVDS (Desc)'!$J202=\"\",\"\",INDEX([1]ITS_DEV_MANUF_MODEL!$A$2:$E$1500,MATCH(1,([1]ITS_DEV_MANUF_MODEL!$E$2:$E$1500=\"WWD\")*([1]ITS_DEV_MANUF_MODEL!$D$2:$D$1500='WWVDS (Desc)'!$J202),0),2))","v":""},{"$f":"IF('WWVDS (Desc)'!L202=\"\",\"\",'WWVDS (Desc)'!L202)","v":""},{"$f":"IF('WWVDS (Desc)'!M202=\"\",\"\",'WWVDS (Desc)'!M202)","v":""},{"$f":"IF('WWVDS (Desc)'!N202=\"\",\"\",'WWVDS (Desc)'!N202)","v":""},{"$f":"IF('WWVDS (Desc)'!O202=\"\",\"\",'WWVDS (Desc)'!O202)","v":""},{"$f":"IF('WWVDS (Desc)'!P202=\"\",\"\",'WWVDS (Desc)'!P202)","v":""}]

{"sheet":"External_Sensor (Desc)","index":3,"n_rows":202,"n_cols":13,"rows_kept":202,"cut":false,"hidden":false,"merged":[]}
["Device Id\nfor update ","WWVDS Name","Equipment Location Id ","Installation Date\n(YYYY-MM-DD)","Sensor Usage","Sensor Type","Model                  Required","Manufacturer\nRequired","Serial Number","IP Address ","MAC Address ","Firmware Version ","Comments"]
["EQUIP_ID","This Field is for Reference Only\nDO NOT IMPORT","EQUIP_LOC_ID\n","INSTALLED_DATE","SENSOR_USAGE_CD\nREQUIRED FIELD","SENSOR_TYPE_CD\nREQUIRED FIELD","ITS_DEV_MODEL_CD","ITS_DEV_MANUF_CD","SERIAL_NUMBER","IP_ADDRESS","MAC_ADDRESS","FIRMWARE_VERSION","COMMENTS"]
[null,null,null,null,null,null,null,{"$f":"IF($G3=\"\",\"\",INDEX([1]ITS_DEV_MANUF_MODEL!$A$2:$E$1000,MATCH(1,([1]ITS_DEV_MANUF_MODEL!$E$2:$E$1000=\"VDS\")*([1]ITS_DEV_MANUF_MODEL!$D$2:$D$1000=$G3),0),3))","v":""}]
[null,null,null,null,null,null,null,{"$f":"IF($G4=\"\",\"\",INDEX([1]ITS_DEV_MANUF_MODEL!$A$2:$E$1000,MATCH(1,([1]ITS_DEV_MANUF_MODEL!$E$2:$E$1000=\"VDS\")*([1]ITS_DEV_MANUF_MODEL!$D$2:$D$1000=$G4),0),3))","v":""}]
[null,null,null,null,null,null,null,{"$f":"IF($G5=\"\",\"\",INDEX([1]ITS_DEV_MANUF_MODEL!$A$2:$E$1000,MATCH(1,([1]ITS_DEV_MANUF_MODEL!$E$2:$E$1000=\"VDS\")*([1]ITS_DEV_MANUF_MODEL!$D$2:$D$1000=$G5),0),3))","v":""}]
[null,null,null,null,null,null,null,{"$f":"IF($G6=\"\",\"\",INDEX([1]ITS_DEV_MANUF_MODEL!$A$2:$E$1000,MATCH(1,([1]ITS_DEV_MANUF_MODEL!$E$2:$E$1000=\"VDS\")*([1]ITS_DEV_MANUF_MODEL!$D$2:$D$1000=$G6),0),3))","v":""}]
[null,null,null,null,null,null,null,{"$f":"IF($G7=\"\",\"\",INDEX([1]ITS_DEV_MANUF_MODEL!$A$2:$E$1000,MATCH(1,([1]ITS_DEV_MANUF_MODEL!$E$2:$E$1000=\"VDS\")*([1]ITS_DEV_MANUF_MODEL!$D$2:$D$1000=$G7),0),3))","v":""}]
[null,null,null,null,null,null,null,{"$f":"IF($G8=\"\",\"\",INDEX([1]ITS_DEV_MANUF_MODEL!$A$2:$E$1000,MATCH(1,([1]ITS_DEV_MANUF_MODEL!$E$2:$E$1000=\"VDS\")*([1]ITS_DEV_MANUF_MODEL!$D$2:$D$1000=$G8),0),3))","v":""}]
[null,null,null,null,null,null,null,{"$f":"IF($G9=\"\",\"\",INDEX([1]ITS_DEV_MANUF_MODEL!$A$2:$E$1000,MATCH(1,([1]ITS_DEV_MANUF_MODEL!$E$2:$E$1000=\"VDS\")*([1]ITS_DEV_MANUF_MODEL!$D$2:$D$1000=$G9),0),3))","v":""}]
[null,null,null,null,null,null,null,{"$f":"IF($G10=\"\",\"\",INDEX([1]ITS_DEV_MANUF_MODEL!$A$2:$E$1000,MATCH(1,([1]ITS_DEV_MANUF_MODEL!$E$2:$E$1000=\"VDS\")*([1]ITS_DEV_MANUF_MODEL!$D$2:$D$1000=$G10),0),3))","v":""}]
[null,null,null,null,null,null,null,{"$f":"IF($G11=\"\",\"\",INDEX([1]ITS_DEV_MANUF_MODEL!$A$2:$E$1000,MATCH(1,([1]ITS_DEV_MANUF_MODEL!$E$2:$E$1000=\"VDS\")*([1]ITS_DEV_MANUF_MODEL!$D$2:$D$1000=$G11),0),3))","v":""}]
[null,null,null,null,null,null,null,{"$f":"IF($G12=\"\",\"\",INDEX([1]ITS_DEV_MANUF_MODEL!$A$2:$E$1000,MATCH(1,([1]ITS_DEV_MANUF_MODEL!$E$2:$E$1000=\"VDS\")*([1]ITS_DEV_MANUF_MODEL!$D$2:$D$1000=$G12),0),3))","v":""}]
[null,null,null,null,null,null,null,{"$f":"IF($G13=\"\",\"\",INDEX([1]ITS_DEV_MANUF_MODEL!$A$2:$E$1000,MATCH(1,([1]ITS_DEV_MANUF_MODEL!$E$2:$E$1000=\"VDS\")*([1]ITS_DEV_MANUF_MODEL!$D$2:$D$1000=$G13),0),3))","v":""}]
[null,null,null,null,null,null,null,{"$f":"IF($G14=\"\",\"\",INDEX([1]ITS_DEV_MANUF_MODEL!$A$2:$E$1000,MATCH(1,([1]ITS_DEV_MANUF_MODEL!$E$2:$E$1000=\"VDS\")*([1]ITS_DEV_MANUF_MODEL!$D$2:$D$1000=$G14),0),3))","v":""}]
[null,null,null,null,null,null,null,{"$f":"IF($G15=\"\",\"\",INDEX([1]ITS_DEV_MANUF_MODEL!$A$2:$E$1000,MATCH(1,([1]ITS_DEV_MANUF_MODEL!$E$2:$E$1000=\"VDS\")*([1]ITS_DEV_MANUF_MODEL!$D$2:$D$1000=$G15),0),3))","v":""}]
[null,null,null,null,null,null,null,{"$f":"IF($G16=\"\",\"\",INDEX([1]ITS_DEV_MANUF_MODEL!$A$2:$E$1000,MATCH(1,([1]ITS_DEV_MANUF_MODEL!$E$2:$E$1000=\"VDS\")*([1]ITS_DEV_MANUF_MODEL!$D$2:$D$1000=$G16),0),3))","v":""}]
[null,null,null,null,null,null,null,{"$f":"IF($G17=\"\",\"\",INDEX([1]ITS_DEV_MANUF_MODEL!$A$2:$E$1000,MATCH(1,([1]ITS_DEV_MANUF_MODEL!$E$2:$E$1000=\"VDS\")*([1]ITS_DEV_MANUF_MODEL!$D$2:$D$1000=$G17),0),3))","v":""}]
[null,null,null,null,null,null,null,{"$f":"IF($G18=\"\",\"\",INDEX([1]ITS_DEV_MANUF_MODEL!$A$2:$E$1000,MATCH(1,([1]ITS_DEV_MANUF_MODEL!$E$2:$E$1000=\"VDS\")*([1]ITS_DEV_MANUF_MODEL!$D$2:$D$1000=$G18),0),3))","v":""}]
[null,null,null,null,null,null,null,{"$f":"IF($G19=\"\",\"\",INDEX([1]ITS_DEV_MANUF_MODEL!$A$2:$E$1000,MATCH(1,([1]ITS_DEV_MANUF_MODEL!$E$2:$E$1000=\"VDS\")*([1]ITS_DEV_MANUF_MODEL!$D$2:$D$1000=$G19),0),3))","v":""}]
[null,null,null,null,null,null,null,{"$f":"IF($G20=\"\",\"\",INDEX([1]ITS_DEV_MANUF_MODEL!$A$2:$E$1000,MATCH(1,([1]ITS_DEV_MANUF_MODEL!$E$2:$E$1000=\"VDS\")*([1]ITS_DEV_MANUF_MODEL!$D$2:$D$1000=$G20),0),3))","v":""}]
[null,null,null,null,null,null,null,{"$f":"IF($G21=\"\",\"\",INDEX([1]ITS_DEV_MANUF_MODEL!$A$2:$E$1000,MATCH(1,([1]ITS_DEV_MANUF_MODEL!$E$2:$E$1000=\"VDS\")*([1]ITS_DEV_MANUF_MODEL!$D$2:$D$1000=$G21),0),3))","v":""}]
[null,null,null,null,null,null,null,{"$f":"IF($G22=\"\",\"\",INDEX([1]ITS_DEV_MANUF_MODEL!$A$2:$E$1000,MATCH(1,([1]ITS_DEV_MANUF_MODEL!$E$2:$E$1000=\"VDS\")*([1]ITS_DEV_MANUF_MODEL!$D$2:$D$1000=$G22),0),3))","v":""}]
[null,null,null,null,null,null,null,{"$f":"IF($G23=\"\",\"\",INDEX([1]ITS_DEV_MANUF_MODEL!$A$2:$E$1000,MATCH(1,([1]ITS_DEV_MANUF_MODEL!$E$2:$E$1000=\"VDS\")*([1]ITS_DEV_MANUF_MODEL!$D$2:$D$1000=$G23),0),3))","v":""}]
[null,null,null,null,null,null,null,{"$f":"IF($G24=\"\",\"\",INDEX([1]ITS_DEV_MANUF_MODEL!$A$2:$E$1000,MATCH(1,([1]ITS_DEV_MANUF_MODEL!$E$2:$E$1000=\"VDS\")*([1]ITS_DEV_MANUF_MODEL!$D$2:$D$1000=$G24),0),3))","v":""}]
[null,null,null,null,null,null,null,{"$f":"IF($G25=\"\",\"\",INDEX([1]ITS_DEV_MANUF_MODEL!$A$2:$E$1000,MATCH(1,([1]ITS_DEV_MANUF_MODEL!$E$2:$E$1000=\"VDS\")*([1]ITS_DEV_MANUF_MODEL!$D$2:$D$1000=$G25),0),3))","v":""}]
[null,null,null,null,null,null,null,{"$f":"IF($G26=\"\",\"\",INDEX([1]ITS_DEV_MANUF_MODEL!$A$2:$E$1000,MATCH(1,([1]ITS_DEV_MANUF_MODEL!$E$2:$E$1000=\"VDS\")*([1]ITS_DEV_MANUF_MODEL!$D$2:$D$1000=$G26),0),3))","v":""}]
[null,null,null,null,null,null,null,{"$f":"IF($G27=\"\",\"\",INDEX([1]ITS_DEV_MANUF_MODEL!$A$2:$E$1000,MATCH(1,([1]ITS_DEV_MANUF_MODEL!$E$2:$E$1000=\"VDS\")*([1]ITS_DEV_MANUF_MODEL!$D$2:$D$1000=$G27),0),3))","v":""}]
[null,null,null,null,null,null,null,{"$f":"IF($G28=\"\",\"\",INDEX([1]ITS_DEV_MANUF_MODEL!$A$2:$E$1000,MATCH(1,([1]ITS_DEV_MANUF_MODEL!$E$2:$E$1000=\"VDS\")*([1]ITS_DEV_MANUF_MODEL!$D$2:$D$1000=$G28),0),3))","v":""}]
[null,null,null,null,null,null,null,{"$f":"IF($G29=\"\",\"\",INDEX([1]ITS_DEV_MANUF_MODEL!$A$2:$E$1000,MATCH(1,([1]ITS_DEV_MANUF_MODEL!$E$2:$E$1000=\"VDS\")*([1]ITS_DEV_MANUF_MODEL!$D$2:$D$1000=$G29),0),3))","v":""}]
[null,null,null,null,null,null,null,{"$f":"IF($G30=\"\",\"\",INDEX([1]ITS_DEV_MANUF_MODEL!$A$2:$E$1000,MATCH(1,([1]ITS_DEV_MANUF_MODEL!$E$2:$E$1000=\"VDS\")*([1]ITS_DEV_MANUF_MODEL!$D$2:$D$1000=$G30),0),3))","v":""}]
[null,null,null,null,null,null,null,{"$f":"IF($G31=\"\",\"\",INDEX([1]ITS_DEV_MANUF_MODEL!$A$2:$E$1000,MATCH(1,([1]ITS_DEV_MANUF_MODEL!$E$2:$E$1000=\"VDS\")*([1]ITS_DEV_MANUF_MODEL!$D$2:$D$1000=$G31),0),3))","v":""}]
[null,null,null,null,null,null,null,{"$f":"IF($G32=\"\",\"\",INDEX([1]ITS_DEV_MANUF_MODEL!$A$2:$E$1000,MATCH(1,([1]ITS_DEV_MANUF_MODEL!$E$2:$E$1000=\"VDS\")*([1]ITS_DEV_MANUF_MODEL!$D$2:$D$1000=$G32),0),3))","v":""}]
[null,null,null,null,null,null,null,{"$f":"IF($G33=\"\",\"\",INDEX([1]ITS_DEV_MANUF_MODEL!$A$2:$E$1000,MATCH(1,([1]ITS_DEV_MANUF_MODEL!$E$2:$E$1000=\"VDS\")*([1]ITS_DEV_MANUF_MODEL!$D$2:$D$1000=$G33),0),3))","v":""}]
[null,null,null,null,null,null,null,{"$f":"IF($G34=\"\",\"\",INDEX([1]ITS_DEV_MANUF_MODEL!$A$2:$E$1000,MATCH(1,([1]ITS_DEV_MANUF_MODEL!$E$2:$E$1000=\"VDS\")*([1]ITS_DEV_MANUF_MODEL!$D$2:$D$1000=$G34),0),3))","v":""}]
[null,null,null,null,null,null,null,{"$f":"IF($G35=\"\",\"\",INDEX([1]ITS_DEV_MANUF_MODEL!$A$2:$E$1000,MATCH(1,([1]ITS_DEV_MANUF_MODEL!$E$2:$E$1000=\"VDS\")*([1]ITS_DEV_MANUF_MODEL!$D$2:$D$1000=$G35),0),3))","v":""}]
[null,null,null,null,null,null,null,{"$f":"IF($G36=\"\",\"\",INDEX([1]ITS_DEV_MANUF_MODEL!$A$2:$E$1000,MATCH(1,([1]ITS_DEV_MANUF_MODEL!$E$2:$E$1000=\"VDS\")*([1]ITS_DEV_MANUF_MODEL!$D$2:$D$1000=$G36),0),3))","v":""}]
[null,null,null,null,null,null,null,{"$f":"IF($G37=\"\",\"\",INDEX([1]ITS_DEV_MANUF_MODEL!$A$2:$E$1000,MATCH(1,([1]ITS_DEV_MANUF_MODEL!$E$2:$E$1000=\"VDS\")*([1]ITS_DEV_MANUF_MODEL!$D$2:$D$1000=$G37),0),3))","v":""}]
[null,null,null,null,null,null,null,{"$f":"IF($G38=\"\",\"\",INDEX([1]ITS_DEV_MANUF_MODEL!$A$2:$E$1000,MATCH(1,([1]ITS_DEV_MANUF_MODEL!$E$2:$E$1000=\"VDS\")*([1]ITS_DEV_MANUF_MODEL!$D$2:$D$1000=$G38),0),3))","v":""}]
[null,null,null,null,null,null,null,{"$f":"IF($G39=\"\",\"\",INDEX([1]ITS_DEV_MANUF_MODEL!$A$2:$E$1000,MATCH(1,([1]ITS_DEV_MANUF_MODEL!$E$2:$E$1000=\"VDS\")*([1]ITS_DEV_MANUF_MODEL!$D$2:$D$1000=$G39),0),3))","v":""}]
[null,null,null,null,null,null,null,{"$f":"IF($G40=\"\",\"\",INDEX([1]ITS_DEV_MANUF_MODEL!$A$2:$E$1000,MATCH(1,([1]ITS_DEV_MANUF_MODEL!$E$2:$E$1000=\"VDS\")*([1]ITS_DEV_MANUF_MODEL!$D$2:$D$1000=$G40),0),3))","v":""}]
[null,null,null,null,null,null,null,{"$f":"IF($G41=\"\",\"\",INDEX([1]ITS_DEV_MANUF_MODEL!$A$2:$E$1000,MATCH(1,([1]ITS_DEV_MANUF_MODEL!$E$2:$E$1000=\"VDS\")*([1]ITS_DEV_MANUF_MODEL!$D$2:$D$1000=$G41),0),3))","v":""}]
[null,null,null,null,null,null,null,{"$f":"IF($G42=\"\",\"\",INDEX([1]ITS_DEV_MANUF_MODEL!$A$2:$E$1000,MATCH(1,([1]ITS_DEV_MANUF_MODEL!$E$2:$E$1000=\"VDS\")*([1]ITS_DEV_MANUF_MODEL!$D$2:$D$1000=$G42),0),3))","v":""}]
[null,null,null,null,null,null,null,{"$f":"IF($G43=\"\",\"\",INDEX([1]ITS_DEV_MANUF_MODEL!$A$2:$E$1000,MATCH(1,([1]ITS_DEV_MANUF_MODEL!$E$2:$E$1000=\"VDS\")*([1]ITS_DEV_MANUF_MODEL!$D$2:$D$1000=$G43),0),3))","v":""}]
[null,null,null,null,null,null,null,{"$f":"IF($G44=\"\",\"\",INDEX([1]ITS_DEV_MANUF_MODEL!$A$2:$E$1000,MATCH(1,([1]ITS_DEV_MANUF_MODEL!$E$2:$E$1000=\"VDS\")*([1]ITS_DEV_MANUF_MODEL!$D$2:$D$1000=$G44),0),3))","v":""}]
[null,null,null,null,null,null,null,{"$f":"IF($G45=\"\",\"\",INDEX([1]ITS_DEV_MANUF_MODEL!$A$2:$E$1000,MATCH(1,([1]ITS_DEV_MANUF_MODEL!$E$2:$E$1000=\"VDS\")*([1]ITS_DEV_MANUF_MODEL!$D$2:$D$1000=$G45),0),3))","v":""}]
[null,null,null,null,null,null,null,{"$f":"IF($G46=\"\",\"\",INDEX([1]ITS_DEV_MANUF_MODEL!$A$2:$E$1000,MATCH(1,([1]ITS_DEV_MANUF_MODEL!$E$2:$E$1000=\"VDS\")*([1]ITS_DEV_MANUF_MODEL!$D$2:$D$1000=$G46),0),3))","v":""}]
[null,null,null,null,null,null,null,{"$f":"IF($G47=\"\",\"\",INDEX([1]ITS_DEV_MANUF_MODEL!$A$2:$E$1000,MATCH(1,([1]ITS_DEV_MANUF_MODEL!$E$2:$E$1000=\"VDS\")*([1]ITS_DEV_MANUF_MODEL!$D$2:$D$1000=$G47),0),3))","v":""}]
[null,null,null,null,null,null,null,{"$f":"IF($G48=\"\",\"\",INDEX([1]ITS_DEV_MANUF_MODEL!$A$2:$E$1000,MATCH(1,([1]ITS_DEV_MANUF_MODEL!$E$2:$E$1000=\"VDS\")*([1]ITS_DEV_MANUF_MODEL!$D$2:$D$1000=$G48),0),3))","v":""}]
[null,null,null,null,null,null,null,{"$f":"IF($G49=\"\",\"\",INDEX([1]ITS_DEV_MANUF_MODEL!$A$2:$E$1000,MATCH(1,([1]ITS_DEV_MANUF_MODEL!$E$2:$E$1000=\"VDS\")*([1]ITS_DEV_MANUF_MODEL!$D$2:$D$1000=$G49),0),3))","v":""}]
[null,null,null,null,null,null,null,{"$f":"IF($G50=\"\",\"\",INDEX([1]ITS_DEV_MANUF_MODEL!$A$2:$E$1000,MATCH(1,([1]ITS_DEV_MANUF_MODEL!$E$2:$E$1000=\"VDS\")*([1]ITS_DEV_MANUF_MODEL!$D$2:$D$1000=$G50),0),3))","v":""}]
[null,null,null,null,null,null,null,{"$f":"IF($G51=\"\",\"\",INDEX([1]ITS_DEV_MANUF_MODEL!$A$2:$E$1000,MATCH(1,([1]ITS_DEV_MANUF_MODEL!$E$2:$E$1000=\"VDS\")*([1]ITS_DEV_MANUF_MODEL!$D$2:$D$1000=$G51),0),3))","v":""}]
[null,null,null,null,null,null,null,{"$f":"IF($G52=\"\",\"\",INDEX([1]ITS_DEV_MANUF_MODEL!$A$2:$E$1000,MATCH(1,([1]ITS_DEV_MANUF_MODEL!$E$2:$E$1000=\"VDS\")*([1]ITS_DEV_MANUF_MODEL!$D$2:$D$1000=$G52),0),3))","v":""}]
[null,null,null,null,null,null,null,{"$f":"IF($G53=\"\",\"\",INDEX([1]ITS_DEV_MANUF_MODEL!$A$2:$E$1000,MATCH(1,([1]ITS_DEV_MANUF_MODEL!$E$2:$E$1000=\"VDS\")*([1]ITS_DEV_MANUF_MODEL!$D$2:$D$1000=$G53),0),3))","v":""}]
[null,null,null,null,null,null,null,{"$f":"IF($G54=\"\",\"\",INDEX([1]ITS_DEV_MANUF_MODEL!$A$2:$E$1000,MATCH(1,([1]ITS_DEV_MANUF_MODEL!$E$2:$E$1000=\"VDS\")*([1]ITS_DEV_MANUF_MODEL!$D$2:$D$1000=$G54),0),3))","v":""}]
[null,null,null,null,null,null,null,{"$f":"IF($G55=\"\",\"\",INDEX([1]ITS_DEV_MANUF_MODEL!$A$2:$E$1000,MATCH(1,([1]ITS_DEV_MANUF_MODEL!$E$2:$E$1000=\"VDS\")*([1]ITS_DEV_MANUF_MODEL!$D$2:$D$1000=$G55),0),3))","v":""}]
[null,null,null,null,null,null,null,{"$f":"IF($G56=\"\",\"\",INDEX([1]ITS_DEV_MANUF_MODEL!$A$2:$E$1000,MATCH(1,([1]ITS_DEV_MANUF_MODEL!$E$2:$E$1000=\"VDS\")*([1]ITS_DEV_MANUF_MODEL!$D$2:$D$1000=$G56),0),3))","v":""}]
[null,null,null,null,null,null,null,{"$f":"IF($G57=\"\",\"\",INDEX([1]ITS_DEV_MANUF_MODEL!$A$2:$E$1000,MATCH(1,([1]ITS_DEV_MANUF_MODEL!$E$2:$E$1000=\"VDS\")*([1]ITS_DEV_MANUF_MODEL!$D$2:$D$1000=$G57),0),3))","v":""}]
[null,null,null,null,null,null,null,{"$f":"IF($G58=\"\",\"\",INDEX([1]ITS_DEV_MANUF_MODEL!$A$2:$E$1000,MATCH(1,([1]ITS_DEV_MANUF_MODEL!$E$2:$E$1000=\"VDS\")*([1]ITS_DEV_MANUF_MODEL!$D$2:$D$1000=$G58),0),3))","v":""}]
[null,null,null,null,null,null,null,{"$f":"IF($G59=\"\",\"\",INDEX([1]ITS_DEV_MANUF_MODEL!$A$2:$E$1000,MATCH(1,([1]ITS_DEV_MANUF_MODEL!$E$2:$E$1000=\"VDS\")*([1]ITS_DEV_MANUF_MODEL!$D$2:$D$1000=$G59),0),3))","v":""}]
[null,null,null,null,null,null,null,{"$f":"IF($G60=\"\",\"\",INDEX([1]ITS_DEV_MANUF_MODEL!$A$2:$E$1000,MATCH(1,([1]ITS_DEV_MANUF_MODEL!$E$2:$E$1000=\"VDS\")*([1]ITS_DEV_MANUF_MODEL!$D$2:$D$1000=$G60),0),3))","v":""}]
[null,null,null,null,null,null,null,{"$f":"IF($G61=\"\",\"\",INDEX([1]ITS_DEV_MANUF_MODEL!$A$2:$E$1000,MATCH(1,([1]ITS_DEV_MANUF_MODEL!$E$2:$E$1000=\"VDS\")*([1]ITS_DEV_MANUF_MODEL!$D$2:$D$1000=$G61),0),3))","v":""}]
[null,null,null,null,null,null,null,{"$f":"IF($G62=\"\",\"\",INDEX([1]ITS_DEV_MANUF_MODEL!$A$2:$E$1000,MATCH(1,([1]ITS_DEV_MANUF_MODEL!$E$2:$E$1000=\"VDS\")*([1]ITS_DEV_MANUF_MODEL!$D$2:$D$1000=$G62),0),3))","v":""}]
[null,null,null,null,null,null,null,{"$f":"IF($G63=\"\",\"\",INDEX([1]ITS_DEV_MANUF_MODEL!$A$2:$E$1000,MATCH(1,([1]ITS_DEV_MANUF_MODEL!$E$2:$E$1000=\"VDS\")*([1]ITS_DEV_MANUF_MODEL!$D$2:$D$1000=$G63),0),3))","v":""}]
[null,null,null,null,null,null,null,{"$f":"IF($G64=\"\",\"\",INDEX([1]ITS_DEV_MANUF_MODEL!$A$2:$E$1000,MATCH(1,([1]ITS_DEV_MANUF_MODEL!$E$2:$E$1000=\"VDS\")*([1]ITS_DEV_MANUF_MODEL!$D$2:$D$1000=$G64),0),3))","v":""}]
[null,null,null,null,null,null,null,{"$f":"IF($G65=\"\",\"\",INDEX([1]ITS_DEV_MANUF_MODEL!$A$2:$E$1000,MATCH(1,([1]ITS_DEV_MANUF_MODEL!$E$2:$E$1000=\"VDS\")*([1]ITS_DEV_MANUF_MODEL!$D$2:$D$1000=$G65),0),3))","v":""}]
[null,null,null,null,null,null,null,{"$f":"IF($G66=\"\",\"\",INDEX([1]ITS_DEV_MANUF_MODEL!$A$2:$E$1000,MATCH(1,([1]ITS_DEV_MANUF_MODEL!$E$2:$E$1000=\"VDS\")*([1]ITS_DEV_MANUF_MODEL!$D$2:$D$1000=$G66),0),3))","v":""}]
[null,null,null,null,null,null,null,{"$f":"IF($G67=\"\",\"\",INDEX([1]ITS_DEV_MANUF_MODEL!$A$2:$E$1000,MATCH(1,([1]ITS_DEV_MANUF_MODEL!$E$2:$E$1000=\"VDS\")*([1]ITS_DEV_MANUF_MODEL!$D$2:$D$1000=$G67),0),3))","v":""}]
[null,null,null,null,null,null,null,{"$f":"IF($G68=\"\",\"\",INDEX([1]ITS_DEV_MANUF_MODEL!$A$2:$E$1000,MATCH(1,([1]ITS_DEV_MANUF_MODEL!$E$2:$E$1000=\"VDS\")*([1]ITS_DEV_MANUF_MODEL!$D$2:$D$1000=$G68),0),3))","v":""}]
[null,null,null,null,null,null,null,{"$f":"IF($G69=\"\",\"\",INDEX([1]ITS_DEV_MANUF_MODEL!$A$2:$E$1000,MATCH(1,([1]ITS_DEV_MANUF_MODEL!$E$2:$E$1000=\"VDS\")*([1]ITS_DEV_MANUF_MODEL!$D$2:$D$1000=$G69),0),3))","v":""}]
[null,null,null,null,null,null,null,{"$f":"IF($G70=\"\",\"\",INDEX([1]ITS_DEV_MANUF_MODEL!$A$2:$E$1000,MATCH(1,([1]ITS_DEV_MANUF_MODEL!$E$2:$E$1000=\"VDS\")*([1]ITS_DEV_MANUF_MODEL!$D$2:$D$1000=$G70),0),3))","v":""}]
[null,null,null,null,null,null,null,{"$f":"IF($G71=\"\",\"\",INDEX([1]ITS_DEV_MANUF_MODEL!$A$2:$E$1000,MATCH(1,([1]ITS_DEV_MANUF_MODEL!$E$2:$E$1000=\"VDS\")*([1]ITS_DEV_MANUF_MODEL!$D$2:$D$1000=$G71),0),3))","v":""}]
[null,null,null,null,null,null,null,{"$f":"IF($G72=\"\",\"\",INDEX([1]ITS_DEV_MANUF_MODEL!$A$2:$E$1000,MATCH(1,([1]ITS_DEV_MANUF_MODEL!$E$2:$E$1000=\"VDS\")*([1]ITS_DEV_MANUF_MODEL!$D$2:$D$1000=$G72),0),3))","v":""}]
[null,null,null,null,null,null,null,{"$f":"IF($G73=\"\",\"\",INDEX([1]ITS_DEV_MANUF_MODEL!$A$2:$E$1000,MATCH(1,([1]ITS_DEV_MANUF_MODEL!$E$2:$E$1000=\"VDS\")*([1]ITS_DEV_MANUF_MODEL!$D$2:$D$1000=$G73),0),3))","v":""}]
[null,null,null,null,null,null,null,{"$f":"IF($G74=\"\",\"\",INDEX([1]ITS_DEV_MANUF_MODEL!$A$2:$E$1000,MATCH(1,([1]ITS_DEV_MANUF_MODEL!$E$2:$E$1000=\"VDS\")*([1]ITS_DEV_MANUF_MODEL!$D$2:$D$1000=$G74),0),3))","v":""}]
[null,null,null,null,null,null,null,{"$f":"IF($G75=\"\",\"\",INDEX([1]ITS_DEV_MANUF_MODEL!$A$2:$E$1000,MATCH(1,([1]ITS_DEV_MANUF_MODEL!$E$2:$E$1000=\"VDS\")*([1]ITS_DEV_MANUF_MODEL!$D$2:$D$1000=$G75),0),3))","v":""}]
[null,null,null,null,null,null,null,{"$f":"IF($G76=\"\",\"\",INDEX([1]ITS_DEV_MANUF_MODEL!$A$2:$E$1000,MATCH(1,([1]ITS_DEV_MANUF_MODEL!$E$2:$E$1000=\"VDS\")*([1]ITS_DEV_MANUF_MODEL!$D$2:$D$1000=$G76),0),3))","v":""}]
[null,null,null,null,null,null,null,{"$f":"IF($G77=\"\",\"\",INDEX([1]ITS_DEV_MANUF_MODEL!$A$2:$E$1000,MATCH(1,([1]ITS_DEV_MANUF_MODEL!$E$2:$E$1000=\"VDS\")*([1]ITS_DEV_MANUF_MODEL!$D$2:$D$1000=$G77),0),3))","v":""}]
[null,null,null,null,null,null,null,{"$f":"IF($G78=\"\",\"\",INDEX([1]ITS_DEV_MANUF_MODEL!$A$2:$E$1000,MATCH(1,([1]ITS_DEV_MANUF_MODEL!$E$2:$E$1000=\"VDS\")*([1]ITS_DEV_MANUF_MODEL!$D$2:$D$1000=$G78),0),3))","v":""}]
[null,null,null,null,null,null,null,{"$f":"IF($G79=\"\",\"\",INDEX([1]ITS_DEV_MANUF_MODEL!$A$2:$E$1000,MATCH(1,([1]ITS_DEV_MANUF_MODEL!$E$2:$E$1000=\"VDS\")*([1]ITS_DEV_MANUF_MODEL!$D$2:$D$1000=$G79),0),3))","v":""}]
[null,null,null,null,null,null,null,{"$f":"IF($G80=\"\",\"\",INDEX([1]ITS_DEV_MANUF_MODEL!$A$2:$E$1000,MATCH(1,([1]ITS_DEV_MANUF_MODEL!$E$2:$E$1000=\"VDS\")*([1]ITS_DEV_MANUF_MODEL!$D$2:$D$1000=$G80),0),3))","v":""}]
[null,null,null,null,null,null,null,{"$f":"IF($G81=\"\",\"\",INDEX([1]ITS_DEV_MANUF_MODEL!$A$2:$E$1000,MATCH(1,([1]ITS_DEV_MANUF_MODEL!$E$2:$E$1000=\"VDS\")*([1]ITS_DEV_MANUF_MODEL!$D$2:$D$1000=$G81),0),3))","v":""}]
[null,null,null,null,null,null,null,{"$f":"IF($G82=\"\",\"\",INDEX([1]ITS_DEV_MANUF_MODEL!$A$2:$E$1000,MATCH(1,([1]ITS_DEV_MANUF_MODEL!$E$2:$E$1000=\"VDS\")*([1]ITS_DEV_MANUF_MODEL!$D$2:$D$1000=$G82),0),3))","v":""}]
[null,null,null,null,null,null,null,{"$f":"IF($G83=\"\",\"\",INDEX([1]ITS_DEV_MANUF_MODEL!$A$2:$E$1000,MATCH(1,([1]ITS_DEV_MANUF_MODEL!$E$2:$E$1000=\"VDS\")*([1]ITS_DEV_MANUF_MODEL!$D$2:$D$1000=$G83),0),3))","v":""}]
[null,null,null,null,null,null,null,{"$f":"IF($G84=\"\",\"\",INDEX([1]ITS_DEV_MANUF_MODEL!$A$2:$E$1000,MATCH(1,([1]ITS_DEV_MANUF_MODEL!$E$2:$E$1000=\"VDS\")*([1]ITS_DEV_MANUF_MODEL!$D$2:$D$1000=$G84),0),3))","v":""}]
[null,null,null,null,null,null,null,{"$f":"IF($G85=\"\",\"\",INDEX([1]ITS_DEV_MANUF_MODEL!$A$2:$E$1000,MATCH(1,([1]ITS_DEV_MANUF_MODEL!$E$2:$E$1000=\"VDS\")*([1]ITS_DEV_MANUF_MODEL!$D$2:$D$1000=$G85),0),3))","v":""}]
[null,null,null,null,null,null,null,{"$f":"IF($G86=\"\",\"\",INDEX([1]ITS_DEV_MANUF_MODEL!$A$2:$E$1000,MATCH(1,([1]ITS_DEV_MANUF_MODEL!$E$2:$E$1000=\"VDS\")*([1]ITS_DEV_MANUF_MODEL!$D$2:$D$1000=$G86),0),3))","v":""}]
[null,null,null,null,null,null,null,{"$f":"IF($G87=\"\",\"\",INDEX([1]ITS_DEV_MANUF_MODEL!$A$2:$E$1000,MATCH(1,([1]ITS_DEV_MANUF_MODEL!$E$2:$E$1000=\"VDS\")*([1]ITS_DEV_MANUF_MODEL!$D$2:$D$1000=$G87),0),3))","v":""}]
[null,null,null,null,null,null,null,{"$f":"IF($G88=\"\",\"\",INDEX([1]ITS_DEV_MANUF_MODEL!$A$2:$E$1000,MATCH(1,([1]ITS_DEV_MANUF_MODEL!$E$2:$E$1000=\"VDS\")*([1]ITS_DEV_MANUF_MODEL!$D$2:$D$1000=$G88),0),3))","v":""}]
[null,null,null,null,null,null,null,{"$f":"IF($G89=\"\",\"\",INDEX([1]ITS_DEV_MANUF_MODEL!$A$2:$E$1000,MATCH(1,([1]ITS_DEV_MANUF_MODEL!$E$2:$E$1000=\"VDS\")*([1]ITS_DEV_MANUF_MODEL!$D$2:$D$1000=$G89),0),3))","v":""}]
[null,null,null,null,null,null,null,{"$f":"IF($G90=\"\",\"\",INDEX([1]ITS_DEV_MANUF_MODEL!$A$2:$E$1000,MATCH(1,([1]ITS_DEV_MANUF_MODEL!$E$2:$E$1000=\"VDS\")*([1]ITS_DEV_MANUF_MODEL!$D$2:$D$1000=$G90),0),3))","v":""}]
[null,null,null,null,null,null,null,{"$f":"IF($G91=\"\",\"\",INDEX([1]ITS_DEV_MANUF_MODEL!$A$2:$E$1000,MATCH(1,([1]ITS_DEV_MANUF_MODEL!$E$2:$E$1000=\"VDS\")*([1]ITS_DEV_MANUF_MODEL!$D$2:$D$1000=$G91),0),3))","v":""}]
[null,null,null,null,null,null,null,{"$f":"IF($G92=\"\",\"\",INDEX([1]ITS_DEV_MANUF_MODEL!$A$2:$E$1000,MATCH(1,([1]ITS_DEV_MANUF_MODEL!$E$2:$E$1000=\"VDS\")*([1]ITS_DEV_MANUF_MODEL!$D$2:$D$1000=$G92),0),3))","v":""}]
[null,null,null,null,null,null,null,{"$f":"IF($G93=\"\",\"\",INDEX([1]ITS_DEV_MANUF_MODEL!$A$2:$E$1000,MATCH(1,([1]ITS_DEV_MANUF_MODEL!$E$2:$E$1000=\"VDS\")*([1]ITS_DEV_MANUF_MODEL!$D$2:$D$1000=$G93),0),3))","v":""}]
[null,null,null,null,null,null,null,{"$f":"IF($G94=\"\",\"\",INDEX([1]ITS_DEV_MANUF_MODEL!$A$2:$E$1000,MATCH(1,([1]ITS_DEV_MANUF_MODEL!$E$2:$E$1000=\"VDS\")*([1]ITS_DEV_MANUF_MODEL!$D$2:$D$1000=$G94),0),3))","v":""}]
[null,null,null,null,null,null,null,{"$f":"IF($G95=\"\",\"\",INDEX([1]ITS_DEV_MANUF_MODEL!$A$2:$E$1000,MATCH(1,([1]ITS_DEV_MANUF_MODEL!$E$2:$E$1000=\"VDS\")*([1]ITS_DEV_MANUF_MODEL!$D$2:$D$1000=$G95),0),3))","v":""}]
[null,null,null,null,null,null,null,{"$f":"IF($G96=\"\",\"\",INDEX([1]ITS_DEV_MANUF_MODEL!$A$2:$E$1000,MATCH(1,([1]ITS_DEV_MANUF_MODEL!$E$2:$E$1000=\"VDS\")*([1]ITS_DEV_MANUF_MODEL!$D$2:$D$1000=$G96),0),3))","v":""}]
[null,null,null,null,null,null,null,{"$f":"IF($G97=\"\",\"\",INDEX([1]ITS_DEV_MANUF_MODEL!$A$2:$E$1000,MATCH(1,([1]ITS_DEV_MANUF_MODEL!$E$2:$E$1000=\"VDS\")*([1]ITS_DEV_MANUF_MODEL!$D$2:$D$1000=$G97),0),3))","v":""}]
[null,null,null,null,null,null,null,{"$f":"IF($G98=\"\",\"\",INDEX([1]ITS_DEV_MANUF_MODEL!$A$2:$E$1000,MATCH(1,([1]ITS_DEV_MANUF_MODEL!$E$2:$E$1000=\"VDS\")*([1]ITS_DEV_MANUF_MODEL!$D$2:$D$1000=$G98),0),3))","v":""}]
[null,null,null,null,null,null,null,{"$f":"IF($G99=\"\",\"\",INDEX([1]ITS_DEV_MANUF_MODEL!$A$2:$E$1000,MATCH(1,([1]ITS_DEV_MANUF_MODEL!$E$2:$E$1000=\"VDS\")*([1]ITS_DEV_MANUF_MODEL!$D$2:$D$1000=$G99),0),3))","v":""}]
[null,null,null,null,null,null,null,{"$f":"IF($G100=\"\",\"\",INDEX([1]ITS_DEV_MANUF_MODEL!$A$2:$E$1000,MATCH(1,([1]ITS_DEV_MANUF_MODEL!$E$2:$E$1000=\"VDS\")*([1]ITS_DEV_MANUF_MODEL!$D$2:$D$1000=$G100),0),3))","v":""}]
[null,null,null,null,null,null,null,{"$f":"IF($G101=\"\",\"\",INDEX([1]ITS_DEV_MANUF_MODEL!$A$2:$E$1000,MATCH(1,([1]ITS_DEV_MANUF_MODEL!$E$2:$E$1000=\"VDS\")*([1]ITS_DEV_MANUF_MODEL!$D$2:$D$1000=$G101),0),3))","v":""}]
[null,null,null,null,null,null,null,{"$f":"IF($G102=\"\",\"\",INDEX([1]ITS_DEV_MANUF_MODEL!$A$2:$E$1000,MATCH(1,([1]ITS_DEV_MANUF_MODEL!$E$2:$E$1000=\"VDS\")*([1]ITS_DEV_MANUF_MODEL!$D$2:$D$1000=$G102),0),3))","v":""}]
[null,null,null,null,null,null,null,{"$f":"IF($G103=\"\",\"\",INDEX([1]ITS_DEV_MANUF_MODEL!$A$2:$E$1000,MATCH(1,([1]ITS_DEV_MANUF_MODEL!$E$2:$E$1000=\"VDS\")*([1]ITS_DEV_MANUF_MODEL!$D$2:$D$1000=$G103),0),3))","v":""}]
[null,null,null,null,null,null,null,{"$f":"IF($G104=\"\",\"\",INDEX([1]ITS_DEV_MANUF_MODEL!$A$2:$E$1000,MATCH(1,([1]ITS_DEV_MANUF_MODEL!$E$2:$E$1000=\"VDS\")*([1]ITS_DEV_MANUF_MODEL!$D$2:$D$1000=$G104),0),3))","v":""}]
[null,null,null,null,null,null,null,{"$f":"IF($G105=\"\",\"\",INDEX([1]ITS_DEV_MANUF_MODEL!$A$2:$E$1000,MATCH(1,([1]ITS_DEV_MANUF_MODEL!$E$2:$E$1000=\"VDS\")*([1]ITS_DEV_MANUF_MODEL!$D$2:$D$1000=$G105),0),3))","v":""}]
[null,null,null,null,null,null,null,{"$f":"IF($G106=\"\",\"\",INDEX([1]ITS_DEV_MANUF_MODEL!$A$2:$E$1000,MATCH(1,([1]ITS_DEV_MANUF_MODEL!$E$2:$E$1000=\"VDS\")*([1]ITS_DEV_MANUF_MODEL!$D$2:$D$1000=$G106),0),3))","v":""}]
[null,null,null,null,null,null,null,{"$f":"IF($G107=\"\",\"\",INDEX([1]ITS_DEV_MANUF_MODEL!$A$2:$E$1000,MATCH(1,([1]ITS_DEV_MANUF_MODEL!$E$2:$E$1000=\"VDS\")*([1]ITS_DEV_MANUF_MODEL!$D$2:$D$1000=$G107),0),3))","v":""}]
[null,null,null,null,null,null,null,{"$f":"IF($G108=\"\",\"\",INDEX([1]ITS_DEV_MANUF_MODEL!$A$2:$E$1000,MATCH(1,([1]ITS_DEV_MANUF_MODEL!$E$2:$E$1000=\"VDS\")*([1]ITS_DEV_MANUF_MODEL!$D$2:$D$1000=$G108),0),3))","v":""}]
[null,null,null,null,null,null,null,{"$f":"IF($G109=\"\",\"\",INDEX([1]ITS_DEV_MANUF_MODEL!$A$2:$E$1000,MATCH(1,([1]ITS_DEV_MANUF_MODEL!$E$2:$E$1000=\"VDS\")*([1]ITS_DEV_MANUF_MODEL!$D$2:$D$1000=$G109),0),3))","v":""}]
[null,null,null,null,null,null,null,{"$f":"IF($G110=\"\",\"\",INDEX([1]ITS_DEV_MANUF_MODEL!$A$2:$E$1000,MATCH(1,([1]ITS_DEV_MANUF_MODEL!$E$2:$E$1000=\"VDS\")*([1]ITS_DEV_MANUF_MODEL!$D$2:$D$1000=$G110),0),3))","v":""}]
[null,null,null,null,null,null,null,{"$f":"IF($G111=\"\",\"\",INDEX([1]ITS_DEV_MANUF_MODEL!$A$2:$E$1000,MATCH(1,([1]ITS_DEV_MANUF_MODEL!$E$2:$E$1000=\"VDS\")*([1]ITS_DEV_MANUF_MODEL!$D$2:$D$1000=$G111),0),3))","v":""}]
[null,null,null,null,null,null,null,{"$f":"IF($G112=\"\",\"\",INDEX([1]ITS_DEV_MANUF_MODEL!$A$2:$E$1000,MATCH(1,([1]ITS_DEV_MANUF_MODEL!$E$2:$E$1000=\"VDS\")*([1]ITS_DEV_MANUF_MODEL!$D$2:$D$1000=$G112),0),3))","v":""}]
[null,null,null,null,null,null,null,{"$f":"IF($G113=\"\",\"\",INDEX([1]ITS_DEV_MANUF_MODEL!$A$2:$E$1000,MATCH(1,([1]ITS_DEV_MANUF_MODEL!$E$2:$E$1000=\"VDS\")*([1]ITS_DEV_MANUF_MODEL!$D$2:$D$1000=$G113),0),3))","v":""}]
[null,null,null,null,null,null,null,{"$f":"IF($G114=\"\",\"\",INDEX([1]ITS_DEV_MANUF_MODEL!$A$2:$E$1000,MATCH(1,([1]ITS_DEV_MANUF_MODEL!$E$2:$E$1000=\"VDS\")*([1]ITS_DEV_MANUF_MODEL!$D$2:$D$1000=$G114),0),3))","v":""}]
[null,null,null,null,null,null,null,{"$f":"IF($G115=\"\",\"\",INDEX([1]ITS_DEV_MANUF_MODEL!$A$2:$E$1000,MATCH(1,([1]ITS_DEV_MANUF_MODEL!$E$2:$E$1000=\"VDS\")*([1]ITS_DEV_MANUF_MODEL!$D$2:$D$1000=$G115),0),3))","v":""}]
[null,null,null,null,null,null,null,{"$f":"IF($G116=\"\",\"\",INDEX([1]ITS_DEV_MANUF_MODEL!$A$2:$E$1000,MATCH(1,([1]ITS_DEV_MANUF_MODEL!$E$2:$E$1000=\"VDS\")*([1]ITS_DEV_MANUF_MODEL!$D$2:$D$1000=$G116),0),3))","v":""}]
[null,null,null,null,null,null,null,{"$f":"IF($G117=\"\",\"\",INDEX([1]ITS_DEV_MANUF_MODEL!$A$2:$E$1000,MATCH(1,([1]ITS_DEV_MANUF_MODEL!$E$2:$E$1000=\"VDS\")*([1]ITS_DEV_MANUF_MODEL!$D$2:$D$1000=$G117),0),3))","v":""}]
[null,null,null,null,null,null,null,{"$f":"IF($G118=\"\",\"\",INDEX([1]ITS_DEV_MANUF_MODEL!$A$2:$E$1000,MATCH(1,([1]ITS_DEV_MANUF_MODEL!$E$2:$E$1000=\"VDS\")*([1]ITS_DEV_MANUF_MODEL!$D$2:$D$1000=$G118),0),3))","v":""}]
[null,null,null,null,null,null,null,{"$f":"IF($G119=\"\",\"\",INDEX([1]ITS_DEV_MANUF_MODEL!$A$2:$E$1000,MATCH(1,([1]ITS_DEV_MANUF_MODEL!$E$2:$E$1000=\"VDS\")*([1]ITS_DEV_MANUF_MODEL!$D$2:$D$1000=$G119),0),3))","v":""}]
[null,null,null,null,null,null,null,{"$f":"IF($G120=\"\",\"\",INDEX([1]ITS_DEV_MANUF_MODEL!$A$2:$E$1000,MATCH(1,([1]ITS_DEV_MANUF_MODEL!$E$2:$E$1000=\"VDS\")*([1]ITS_DEV_MANUF_MODEL!$D$2:$D$1000=$G120),0),3))","v":""}]
[null,null,null,null,null,null,null,{"$f":"IF($G121=\"\",\"\",INDEX([1]ITS_DEV_MANUF_MODEL!$A$2:$E$1000,MATCH(1,([1]ITS_DEV_MANUF_MODEL!$E$2:$E$1000=\"VDS\")*([1]ITS_DEV_MANUF_MODEL!$D$2:$D$1000=$G121),0),3))","v":""}]
[null,null,null,null,null,null,null,{"$f":"IF($G122=\"\",\"\",INDEX([1]ITS_DEV_MANUF_MODEL!$A$2:$E$1000,MATCH(1,([1]ITS_DEV_MANUF_MODEL!$E$2:$E$1000=\"VDS\")*([1]ITS_DEV_MANUF_MODEL!$D$2:$D$1000=$G122),0),3))","v":""}]
[null,null,null,null,null,null,null,{"$f":"IF($G123=\"\",\"\",INDEX([1]ITS_DEV_MANUF_MODEL!$A$2:$E$1000,MATCH(1,([1]ITS_DEV_MANUF_MODEL!$E$2:$E$1000=\"VDS\")*([1]ITS_DEV_MANUF_MODEL!$D$2:$D$1000=$G123),0),3))","v":""}]
[null,null,null,null,null,null,null,{"$f":"IF($G124=\"\",\"\",INDEX([1]ITS_DEV_MANUF_MODEL!$A$2:$E$1000,MATCH(1,([1]ITS_DEV_MANUF_MODEL!$E$2:$E$1000=\"VDS\")*([1]ITS_DEV_MANUF_MODEL!$D$2:$D$1000=$G124),0),3))","v":""}]
[null,null,null,null,null,null,null,{"$f":"IF($G125=\"\",\"\",INDEX([1]ITS_DEV_MANUF_MODEL!$A$2:$E$1000,MATCH(1,([1]ITS_DEV_MANUF_MODEL!$E$2:$E$1000=\"VDS\")*([1]ITS_DEV_MANUF_MODEL!$D$2:$D$1000=$G125),0),3))","v":""}]
[null,null,null,null,null,null,null,{"$f":"IF($G126=\"\",\"\",INDEX([1]ITS_DEV_MANUF_MODEL!$A$2:$E$1000,MATCH(1,([1]ITS_DEV_MANUF_MODEL!$E$2:$E$1000=\"VDS\")*([1]ITS_DEV_MANUF_MODEL!$D$2:$D$1000=$G126),0),3))","v":""}]
[null,null,null,null,null,null,null,{"$f":"IF($G127=\"\",\"\",INDEX([1]ITS_DEV_MANUF_MODEL!$A$2:$E$1000,MATCH(1,([1]ITS_DEV_MANUF_MODEL!$E$2:$E$1000=\"VDS\")*([1]ITS_DEV_MANUF_MODEL!$D$2:$D$1000=$G127),0),3))","v":""}]
[null,null,null,null,null,null,null,{"$f":"IF($G128=\"\",\"\",INDEX([1]ITS_DEV_MANUF_MODEL!$A$2:$E$1000,MATCH(1,([1]ITS_DEV_MANUF_MODEL!$E$2:$E$1000=\"VDS\")*([1]ITS_DEV_MANUF_MODEL!$D$2:$D$1000=$G128),0),3))","v":""}]
[null,null,null,null,null,null,null,{"$f":"IF($G129=\"\",\"\",INDEX([1]ITS_DEV_MANUF_MODEL!$A$2:$E$1000,MATCH(1,([1]ITS_DEV_MANUF_MODEL!$E$2:$E$1000=\"VDS\")*([1]ITS_DEV_MANUF_MODEL!$D$2:$D$1000=$G129),0),3))","v":""}]
[null,null,null,null,null,null,null,{"$f":"IF($G130=\"\",\"\",INDEX([1]ITS_DEV_MANUF_MODEL!$A$2:$E$1000,MATCH(1,([1]ITS_DEV_MANUF_MODEL!$E$2:$E$1000=\"VDS\")*([1]ITS_DEV_MANUF_MODEL!$D$2:$D$1000=$G130),0),3))","v":""}]
[null,null,null,null,null,null,null,{"$f":"IF($G131=\"\",\"\",INDEX([1]ITS_DEV_MANUF_MODEL!$A$2:$E$1000,MATCH(1,([1]ITS_DEV_MANUF_MODEL!$E$2:$E$1000=\"VDS\")*([1]ITS_DEV_MANUF_MODEL!$D$2:$D$1000=$G131),0),3))","v":""}]
[null,null,null,null,null,null,null,{"$f":"IF($G132=\"\",\"\",INDEX([1]ITS_DEV_MANUF_MODEL!$A$2:$E$1000,MATCH(1,([1]ITS_DEV_MANUF_MODEL!$E$2:$E$1000=\"VDS\")*([1]ITS_DEV_MANUF_MODEL!$D$2:$D$1000=$G132),0),3))","v":""}]
[null,null,null,null,null,null,null,{"$f":"IF($G133=\"\",\"\",INDEX([1]ITS_DEV_MANUF_MODEL!$A$2:$E$1000,MATCH(1,([1]ITS_DEV_MANUF_MODEL!$E$2:$E$1000=\"VDS\")*([1]ITS_DEV_MANUF_MODEL!$D$2:$D$1000=$G133),0),3))","v":""}]
[null,null,null,null,null,null,null,{"$f":"IF($G134=\"\",\"\",INDEX([1]ITS_DEV_MANUF_MODEL!$A$2:$E$1000,MATCH(1,([1]ITS_DEV_MANUF_MODEL!$E$2:$E$1000=\"VDS\")*([1]ITS_DEV_MANUF_MODEL!$D$2:$D$1000=$G134),0),3))","v":""}]
[null,null,null,null,null,null,null,{"$f":"IF($G135=\"\",\"\",INDEX([1]ITS_DEV_MANUF_MODEL!$A$2:$E$1000,MATCH(1,([1]ITS_DEV_MANUF_MODEL!$E$2:$E$1000=\"VDS\")*([1]ITS_DEV_MANUF_MODEL!$D$2:$D$1000=$G135),0),3))","v":""}]
[null,null,null,null,null,null,null,{"$f":"IF($G136=\"\",\"\",INDEX([1]ITS_DEV_MANUF_MODEL!$A$2:$E$1000,MATCH(1,([1]ITS_DEV_MANUF_MODEL!$E$2:$E$1000=\"VDS\")*([1]ITS_DEV_MANUF_MODEL!$D$2:$D$1000=$G136),0),3))","v":""}]
[null,null,null,null,null,null,null,{"$f":"IF($G137=\"\",\"\",INDEX([1]ITS_DEV_MANUF_MODEL!$A$2:$E$1000,MATCH(1,([1]ITS_DEV_MANUF_MODEL!$E$2:$E$1000=\"VDS\")*([1]ITS_DEV_MANUF_MODEL!$D$2:$D$1000=$G137),0),3))","v":""}]
[null,null,null,null,null,null,null,{"$f":"IF($G138=\"\",\"\",INDEX([1]ITS_DEV_MANUF_MODEL!$A$2:$E$1000,MATCH(1,([1]ITS_DEV_MANUF_MODEL!$E$2:$E$1000=\"VDS\")*([1]ITS_DEV_MANUF_MODEL!$D$2:$D$1000=$G138),0),3))","v":""}]
[null,null,null,null,null,null,null,{"$f":"IF($G139=\"\",\"\",INDEX([1]ITS_DEV_MANUF_MODEL!$A$2:$E$1000,MATCH(1,([1]ITS_DEV_MANUF_MODEL!$E$2:$E$1000=\"VDS\")*([1]ITS_DEV_MANUF_MODEL!$D$2:$D$1000=$G139),0),3))","v":""}]
[null,null,null,null,null,null,null,{"$f":"IF($G140=\"\",\"\",INDEX([1]ITS_DEV_MANUF_MODEL!$A$2:$E$1000,MATCH(1,([1]ITS_DEV_MANUF_MODEL!$E$2:$E$1000=\"VDS\")*([1]ITS_DEV_MANUF_MODEL!$D$2:$D$1000=$G140),0),3))","v":""}]
[null,null,null,null,null,null,null,{"$f":"IF($G141=\"\",\"\",INDEX([1]ITS_DEV_MANUF_MODEL!$A$2:$E$1000,MATCH(1,([1]ITS_DEV_MANUF_MODEL!$E$2:$E$1000=\"VDS\")*([1]ITS_DEV_MANUF_MODEL!$D$2:$D$1000=$G141),0),3))","v":""}]
[null,null,null,null,null,null,null,{"$f":"IF($G142=\"\",\"\",INDEX([1]ITS_DEV_MANUF_MODEL!$A$2:$E$1000,MATCH(1,([1]ITS_DEV_MANUF_MODEL!$E$2:$E$1000=\"VDS\")*([1]ITS_DEV_MANUF_MODEL!$D$2:$D$1000=$G142),0),3))","v":""}]
[null,null,null,null,null,null,null,{"$f":"IF($G143=\"\",\"\",INDEX([1]ITS_DEV_MANUF_MODEL!$A$2:$E$1000,MATCH(1,([1]ITS_DEV_MANUF_MODEL!$E$2:$E$1000=\"VDS\")*([1]ITS_DEV_MANUF_MODEL!$D$2:$D$1000=$G143),0),3))","v":""}]
[null,null,null,null,null,null,null,{"$f":"IF($G144=\"\",\"\",INDEX([1]ITS_DEV_MANUF_MODEL!$A$2:$E$1000,MATCH(1,([1]ITS_DEV_MANUF_MODEL!$E$2:$E$1000=\"VDS\")*([1]ITS_DEV_MANUF_MODEL!$D$2:$D$1000=$G144),0),3))","v":""}]
[null,null,null,null,null,null,null,{"$f":"IF($G145=\"\",\"\",INDEX([1]ITS_DEV_MANUF_MODEL!$A$2:$E$1000,MATCH(1,([1]ITS_DEV_MANUF_MODEL!$E$2:$E$1000=\"VDS\")*([1]ITS_DEV_MANUF_MODEL!$D$2:$D$1000=$G145),0),3))","v":""}]
[null,null,null,null,null,null,null,{"$f":"IF($G146=\"\",\"\",INDEX([1]ITS_DEV_MANUF_MODEL!$A$2:$E$1000,MATCH(1,([1]ITS_DEV_MANUF_MODEL!$E$2:$E$1000=\"VDS\")*([1]ITS_DEV_MANUF_MODEL!$D$2:$D$1000=$G146),0),3))","v":""}]
[null,null,null,null,null,null,null,{"$f":"IF($G147=\"\",\"\",INDEX([1]ITS_DEV_MANUF_MODEL!$A$2:$E$1000,MATCH(1,([1]ITS_DEV_MANUF_MODEL!$E$2:$E$1000=\"VDS\")*([1]ITS_DEV_MANUF_MODEL!$D$2:$D$1000=$G147),0),3))","v":""}]
[null,null,null,null,null,null,null,{"$f":"IF($G148=\"\",\"\",INDEX([1]ITS_DEV_MANUF_MODEL!$A$2:$E$1000,MATCH(1,([1]ITS_DEV_MANUF_MODEL!$E$2:$E$1000=\"VDS\")*([1]ITS_DEV_MANUF_MODEL!$D$2:$D$1000=$G148),0),3))","v":""}]
[null,null,null,null,null,null,null,{"$f":"IF($G149=\"\",\"\",INDEX([1]ITS_DEV_MANUF_MODEL!$A$2:$E$1000,MATCH(1,([1]ITS_DEV_MANUF_MODEL!$E$2:$E$1000=\"VDS\")*([1]ITS_DEV_MANUF_MODEL!$D$2:$D$1000=$G149),0),3))","v":""}]
[null,null,null,null,null,null,null,{"$f":"IF($G150=\"\",\"\",INDEX([1]ITS_DEV_MANUF_MODEL!$A$2:$E$1000,MATCH(1,([1]ITS_DEV_MANUF_MODEL!$E$2:$E$1000=\"VDS\")*([1]ITS_DEV_MANUF_MODEL!$D$2:$D$1000=$G150),0),3))","v":""}]
[null,null,null,null,null,null,null,{"$f":"IF($G151=\"\",\"\",INDEX([1]ITS_DEV_MANUF_MODEL!$A$2:$E$1000,MATCH(1,([1]ITS_DEV_MANUF_MODEL!$E$2:$E$1000=\"VDS\")*([1]ITS_DEV_MANUF_MODEL!$D$2:$D$1000=$G151),0),3))","v":""}]
[null,null,null,null,null,null,null,{"$f":"IF($G152=\"\",\"\",INDEX([1]ITS_DEV_MANUF_MODEL!$A$2:$E$1000,MATCH(1,([1]ITS_DEV_MANUF_MODEL!$E$2:$E$1000=\"VDS\")*([1]ITS_DEV_MANUF_MODEL!$D$2:$D$1000=$G152),0),3))","v":""}]
[null,null,null,null,null,null,null,{"$f":"IF($G153=\"\",\"\",INDEX([1]ITS_DEV_MANUF_MODEL!$A$2:$E$1000,MATCH(1,([1]ITS_DEV_MANUF_MODEL!$E$2:$E$1000=\"VDS\")*([1]ITS_DEV_MANUF_MODEL!$D$2:$D$1000=$G153),0),3))","v":""}]
[null,null,null,null,null,null,null,{"$f":"IF($G154=\"\",\"\",INDEX([1]ITS_DEV_MANUF_MODEL!$A$2:$E$1000,MATCH(1,([1]ITS_DEV_MANUF_MODEL!$E$2:$E$1000=\"VDS\")*([1]ITS_DEV_MANUF_MODEL!$D$2:$D$1000=$G154),0),3))","v":""}]
[null,null,null,null,null,null,null,{"$f":"IF($G155=\"\",\"\",INDEX([1]ITS_DEV_MANUF_MODEL!$A$2:$E$1000,MATCH(1,([1]ITS_DEV_MANUF_MODEL!$E$2:$E$1000=\"VDS\")*([1]ITS_DEV_MANUF_MODEL!$D$2:$D$1000=$G155),0),3))","v":""}]
[null,null,null,null,null,null,null,{"$f":"IF($G156=\"\",\"\",INDEX([1]ITS_DEV_MANUF_MODEL!$A$2:$E$1000,MATCH(1,([1]ITS_DEV_MANUF_MODEL!$E$2:$E$1000=\"VDS\")*([1]ITS_DEV_MANUF_MODEL!$D$2:$D$1000=$G156),0),3))","v":""}]
[null,null,null,null,null,null,null,{"$f":"IF($G157=\"\",\"\",INDEX([1]ITS_DEV_MANUF_MODEL!$A$2:$E$1000,MATCH(1,([1]ITS_DEV_MANUF_MODEL!$E$2:$E$1000=\"VDS\")*([1]ITS_DEV_MANUF_MODEL!$D$2:$D$1000=$G157),0),3))","v":""}]
[null,null,null,null,null,null,null,{"$f":"IF($G158=\"\",\"\",INDEX([1]ITS_DEV_MANUF_MODEL!$A$2:$E$1000,MATCH(1,([1]ITS_DEV_MANUF_MODEL!$E$2:$E$1000=\"VDS\")*([1]ITS_DEV_MANUF_MODEL!$D$2:$D$1000=$G158),0),3))","v":""}]
[null,null,null,null,null,null,null,{"$f":"IF($G159=\"\",\"\",INDEX([1]ITS_DEV_MANUF_MODEL!$A$2:$E$1000,MATCH(1,([1]ITS_DEV_MANUF_MODEL!$E$2:$E$1000=\"VDS\")*([1]ITS_DEV_MANUF_MODEL!$D$2:$D$1000=$G159),0),3))","v":""}]
[null,null,null,null,null,null,null,{"$f":"IF($G160=\"\",\"\",INDEX([1]ITS_DEV_MANUF_MODEL!$A$2:$E$1000,MATCH(1,([1]ITS_DEV_MANUF_MODEL!$E$2:$E$1000=\"VDS\")*([1]ITS_DEV_MANUF_MODEL!$D$2:$D$1000=$G160),0),3))","v":""}]
[null,null,null,null,null,null,null,{"$f":"IF($G161=\"\",\"\",INDEX([1]ITS_DEV_MANUF_MODEL!$A$2:$E$1000,MATCH(1,([1]ITS_DEV_MANUF_MODEL!$E$2:$E$1000=\"VDS\")*([1]ITS_DEV_MANUF_MODEL!$D$2:$D$1000=$G161),0),3))","v":""}]
[null,null,null,null,null,null,null,{"$f":"IF($G162=\"\",\"\",INDEX([1]ITS_DEV_MANUF_MODEL!$A$2:$E$1000,MATCH(1,([1]ITS_DEV_MANUF_MODEL!$E$2:$E$1000=\"VDS\")*([1]ITS_DEV_MANUF_MODEL!$D$2:$D$1000=$G162),0),3))","v":""}]
[null,null,null,null,null,null,null,{"$f":"IF($G163=\"\",\"\",INDEX([1]ITS_DEV_MANUF_MODEL!$A$2:$E$1000,MATCH(1,([1]ITS_DEV_MANUF_MODEL!$E$2:$E$1000=\"VDS\")*([1]ITS_DEV_MANUF_MODEL!$D$2:$D$1000=$G163),0),3))","v":""}]
[null,null,null,null,null,null,null,{"$f":"IF($G164=\"\",\"\",INDEX([1]ITS_DEV_MANUF_MODEL!$A$2:$E$1000,MATCH(1,([1]ITS_DEV_MANUF_MODEL!$E$2:$E$1000=\"VDS\")*([1]ITS_DEV_MANUF_MODEL!$D$2:$D$1000=$G164),0),3))","v":""}]
[null,null,null,null,null,null,null,{"$f":"IF($G165=\"\",\"\",INDEX([1]ITS_DEV_MANUF_MODEL!$A$2:$E$1000,MATCH(1,([1]ITS_DEV_MANUF_MODEL!$E$2:$E$1000=\"VDS\")*([1]ITS_DEV_MANUF_MODEL!$D$2:$D$1000=$G165),0),3))","v":""}]
[null,null,null,null,null,null,null,{"$f":"IF($G166=\"\",\"\",INDEX([1]ITS_DEV_MANUF_MODEL!$A$2:$E$1000,MATCH(1,([1]ITS_DEV_MANUF_MODEL!$E$2:$E$1000=\"VDS\")*([1]ITS_DEV_MANUF_MODEL!$D$2:$D$1000=$G166),0),3))","v":""}]
[null,null,null,null,null,null,null,{"$f":"IF($G167=\"\",\"\",INDEX([1]ITS_DEV_MANUF_MODEL!$A$2:$E$1000,MATCH(1,([1]ITS_DEV_MANUF_MODEL!$E$2:$E$1000=\"VDS\")*([1]ITS_DEV_MANUF_MODEL!$D$2:$D$1000=$G167),0),3))","v":""}]
[null,null,null,null,null,null,null,{"$f":"IF($G168=\"\",\"\",INDEX([1]ITS_DEV_MANUF_MODEL!$A$2:$E$1000,MATCH(1,([1]ITS_DEV_MANUF_MODEL!$E$2:$E$1000=\"VDS\")*([1]ITS_DEV_MANUF_MODEL!$D$2:$D$1000=$G168),0),3))","v":""}]
[null,null,null,null,null,null,null,{"$f":"IF($G169=\"\",\"\",INDEX([1]ITS_DEV_MANUF_MODEL!$A$2:$E$1000,MATCH(1,([1]ITS_DEV_MANUF_MODEL!$E$2:$E$1000=\"VDS\")*([1]ITS_DEV_MANUF_MODEL!$D$2:$D$1000=$G169),0),3))","v":""}]
[null,null,null,null,null,null,null,{"$f":"IF($G170=\"\",\"\",INDEX([1]ITS_DEV_MANUF_MODEL!$A$2:$E$1000,MATCH(1,([1]ITS_DEV_MANUF_MODEL!$E$2:$E$1000=\"VDS\")*([1]ITS_DEV_MANUF_MODEL!$D$2:$D$1000=$G170),0),3))","v":""}]
[null,null,null,null,null,null,null,{"$f":"IF($G171=\"\",\"\",INDEX([1]ITS_DEV_MANUF_MODEL!$A$2:$E$1000,MATCH(1,([1]ITS_DEV_MANUF_MODEL!$E$2:$E$1000=\"VDS\")*([1]ITS_DEV_MANUF_MODEL!$D$2:$D$1000=$G171),0),3))","v":""}]
[null,null,null,null,null,null,null,{"$f":"IF($G172=\"\",\"\",INDEX([1]ITS_DEV_MANUF_MODEL!$A$2:$E$1000,MATCH(1,([1]ITS_DEV_MANUF_MODEL!$E$2:$E$1000=\"VDS\")*([1]ITS_DEV_MANUF_MODEL!$D$2:$D$1000=$G172),0),3))","v":""}]
[null,null,null,null,null,null,null,{"$f":"IF($G173=\"\",\"\",INDEX([1]ITS_DEV_MANUF_MODEL!$A$2:$E$1000,MATCH(1,([1]ITS_DEV_MANUF_MODEL!$E$2:$E$1000=\"VDS\")*([1]ITS_DEV_MANUF_MODEL!$D$2:$D$1000=$G173),0),3))","v":""}]
[null,null,null,null,null,null,null,{"$f":"IF($G174=\"\",\"\",INDEX([1]ITS_DEV_MANUF_MODEL!$A$2:$E$1000,MATCH(1,([1]ITS_DEV_MANUF_MODEL!$E$2:$E$1000=\"VDS\")*([1]ITS_DEV_MANUF_MODEL!$D$2:$D$1000=$G174),0),3))","v":""}]
[null,null,null,null,null,null,null,{"$f":"IF($G175=\"\",\"\",INDEX([1]ITS_DEV_MANUF_MODEL!$A$2:$E$1000,MATCH(1,([1]ITS_DEV_MANUF_MODEL!$E$2:$E$1000=\"VDS\")*([1]ITS_DEV_MANUF_MODEL!$D$2:$D$1000=$G175),0),3))","v":""}]
[null,null,null,null,null,null,null,{"$f":"IF($G176=\"\",\"\",INDEX([1]ITS_DEV_MANUF_MODEL!$A$2:$E$1000,MATCH(1,([1]ITS_DEV_MANUF_MODEL!$E$2:$E$1000=\"VDS\")*([1]ITS_DEV_MANUF_MODEL!$D$2:$D$1000=$G176),0),3))","v":""}]
[null,null,null,null,null,null,null,{"$f":"IF($G177=\"\",\"\",INDEX([1]ITS_DEV_MANUF_MODEL!$A$2:$E$1000,MATCH(1,([1]ITS_DEV_MANUF_MODEL!$E$2:$E$1000=\"VDS\")*([1]ITS_DEV_MANUF_MODEL!$D$2:$D$1000=$G177),0),3))","v":""}]
[null,null,null,null,null,null,null,{"$f":"IF($G178=\"\",\"\",INDEX([1]ITS_DEV_MANUF_MODEL!$A$2:$E$1000,MATCH(1,([1]ITS_DEV_MANUF_MODEL!$E$2:$E$1000=\"VDS\")*([1]ITS_DEV_MANUF_MODEL!$D$2:$D$1000=$G178),0),3))","v":""}]
[null,null,null,null,null,null,null,{"$f":"IF($G179=\"\",\"\",INDEX([1]ITS_DEV_MANUF_MODEL!$A$2:$E$1000,MATCH(1,([1]ITS_DEV_MANUF_MODEL!$E$2:$E$1000=\"VDS\")*([1]ITS_DEV_MANUF_MODEL!$D$2:$D$1000=$G179),0),3))","v":""}]
[null,null,null,null,null,null,null,{"$f":"IF($G180=\"\",\"\",INDEX([1]ITS_DEV_MANUF_MODEL!$A$2:$E$1000,MATCH(1,([1]ITS_DEV_MANUF_MODEL!$E$2:$E$1000=\"VDS\")*([1]ITS_DEV_MANUF_MODEL!$D$2:$D$1000=$G180),0),3))","v":""}]
[null,null,null,null,null,null,null,{"$f":"IF($G181=\"\",\"\",INDEX([1]ITS_DEV_MANUF_MODEL!$A$2:$E$1000,MATCH(1,([1]ITS_DEV_MANUF_MODEL!$E$2:$E$1000=\"VDS\")*([1]ITS_DEV_MANUF_MODEL!$D$2:$D$1000=$G181),0),3))","v":""}]
[null,null,null,null,null,null,null,{"$f":"IF($G182=\"\",\"\",INDEX([1]ITS_DEV_MANUF_MODEL!$A$2:$E$1000,MATCH(1,([1]ITS_DEV_MANUF_MODEL!$E$2:$E$1000=\"VDS\")*([1]ITS_DEV_MANUF_MODEL!$D$2:$D$1000=$G182),0),3))","v":""}]
[null,null,null,null,null,null,null,{"$f":"IF($G183=\"\",\"\",INDEX([1]ITS_DEV_MANUF_MODEL!$A$2:$E$1000,MATCH(1,([1]ITS_DEV_MANUF_MODEL!$E$2:$E$1000=\"VDS\")*([1]ITS_DEV_MANUF_MODEL!$D$2:$D$1000=$G183),0),3))","v":""}]
[null,null,null,null,null,null,null,{"$f":"IF($G184=\"\",\"\",INDEX([1]ITS_DEV_MANUF_MODEL!$A$2:$E$1000,MATCH(1,([1]ITS_DEV_MANUF_MODEL!$E$2:$E$1000=\"VDS\")*([1]ITS_DEV_MANUF_MODEL!$D$2:$D$1000=$G184),0),3))","v":""}]
[null,null,null,null,null,null,null,{"$f":"IF($G185=\"\",\"\",INDEX([1]ITS_DEV_MANUF_MODEL!$A$2:$E$1000,MATCH(1,([1]ITS_DEV_MANUF_MODEL!$E$2:$E$1000=\"VDS\")*([1]ITS_DEV_MANUF_MODEL!$D$2:$D$1000=$G185),0),3))","v":""}]
[null,null,null,null,null,null,null,{"$f":"IF($G186=\"\",\"\",INDEX([1]ITS_DEV_MANUF_MODEL!$A$2:$E$1000,MATCH(1,([1]ITS_DEV_MANUF_MODEL!$E$2:$E$1000=\"VDS\")*([1]ITS_DEV_MANUF_MODEL!$D$2:$D$1000=$G186),0),3))","v":""}]
[null,null,null,null,null,null,null,{"$f":"IF($G187=\"\",\"\",INDEX([1]ITS_DEV_MANUF_MODEL!$A$2:$E$1000,MATCH(1,([1]ITS_DEV_MANUF_MODEL!$E$2:$E$1000=\"VDS\")*([1]ITS_DEV_MANUF_MODEL!$D$2:$D$1000=$G187),0),3))","v":""}]
[null,null,null,null,null,null,null,{"$f":"IF($G188=\"\",\"\",INDEX([1]ITS_DEV_MANUF_MODEL!$A$2:$E$1000,MATCH(1,([1]ITS_DEV_MANUF_MODEL!$E$2:$E$1000=\"VDS\")*([1]ITS_DEV_MANUF_MODEL!$D$2:$D$1000=$G188),0),3))","v":""}]
[null,null,null,null,null,null,null,{"$f":"IF($G189=\"\",\"\",INDEX([1]ITS_DEV_MANUF_MODEL!$A$2:$E$1000,MATCH(1,([1]ITS_DEV_MANUF_MODEL!$E$2:$E$1000=\"VDS\")*([1]ITS_DEV_MANUF_MODEL!$D$2:$D$1000=$G189),0),3))","v":""}]
[null,null,null,null,null,null,null,{"$f":"IF($G190=\"\",\"\",INDEX([1]ITS_DEV_MANUF_MODEL!$A$2:$E$1000,MATCH(1,([1]ITS_DEV_MANUF_MODEL!$E$2:$E$1000=\"VDS\")*([1]ITS_DEV_MANUF_MODEL!$D$2:$D$1000=$G190),0),3))","v":""}]
[null,null,null,null,null,null,null,{"$f":"IF($G191=\"\",\"\",INDEX([1]ITS_DEV_MANUF_MODEL!$A$2:$E$1000,MATCH(1,([1]ITS_DEV_MANUF_MODEL!$E$2:$E$1000=\"VDS\")*([1]ITS_DEV_MANUF_MODEL!$D$2:$D$1000=$G191),0),3))","v":""}]
[null,null,null,null,null,null,null,{"$f":"IF($G192=\"\",\"\",INDEX([1]ITS_DEV_MANUF_MODEL!$A$2:$E$1000,MATCH(1,([1]ITS_DEV_MANUF_MODEL!$E$2:$E$1000=\"VDS\")*([1]ITS_DEV_MANUF_MODEL!$D$2:$D$1000=$G192),0),3))","v":""}]
[null,null,null,null,null,null,null,{"$f":"IF($G193=\"\",\"\",INDEX([1]ITS_DEV_MANUF_MODEL!$A$2:$E$1000,MATCH(1,([1]ITS_DEV_MANUF_MODEL!$E$2:$E$1000=\"VDS\")*([1]ITS_DEV_MANUF_MODEL!$D$2:$D$1000=$G193),0),3))","v":""}]
[null,null,null,null,null,null,null,{"$f":"IF($G194=\"\",\"\",INDEX([1]ITS_DEV_MANUF_MODEL!$A$2:$E$1000,MATCH(1,([1]ITS_DEV_MANUF_MODEL!$E$2:$E$1000=\"VDS\")*([1]ITS_DEV_MANUF_MODEL!$D$2:$D$1000=$G194),0),3))","v":""}]
[null,null,null,null,null,null,null,{"$f":"IF($G195=\"\",\"\",INDEX([1]ITS_DEV_MANUF_MODEL!$A$2:$E$1000,MATCH(1,([1]ITS_DEV_MANUF_MODEL!$E$2:$E$1000=\"VDS\")*([1]ITS_DEV_MANUF_MODEL!$D$2:$D$1000=$G195),0),3))","v":""}]
[null,null,null,null,null,null,null,{"$f":"IF($G196=\"\",\"\",INDEX([1]ITS_DEV_MANUF_MODEL!$A$2:$E$1000,MATCH(1,([1]ITS_DEV_MANUF_MODEL!$E$2:$E$1000=\"VDS\")*([1]ITS_DEV_MANUF_MODEL!$D$2:$D$1000=$G196),0),3))","v":""}]
[null,null,null,null,null,null,null,{"$f":"IF($G197=\"\",\"\",INDEX([1]ITS_DEV_MANUF_MODEL!$A$2:$E$1000,MATCH(1,([1]ITS_DEV_MANUF_MODEL!$E$2:$E$1000=\"VDS\")*([1]ITS_DEV_MANUF_MODEL!$D$2:$D$1000=$G197),0),3))","v":""}]
[null,null,null,null,null,null,null,{"$f":"IF($G198=\"\",\"\",INDEX([1]ITS_DEV_MANUF_MODEL!$A$2:$E$1000,MATCH(1,([1]ITS_DEV_MANUF_MODEL!$E$2:$E$1000=\"VDS\")*([1]ITS_DEV_MANUF_MODEL!$D$2:$D$1000=$G198),0),3))","v":""}]
[null,null,null,null,null,null,null,{"$f":"IF($G199=\"\",\"\",INDEX([1]ITS_DEV_MANUF_MODEL!$A$2:$E$1000,MATCH(1,([1]ITS_DEV_MANUF_MODEL!$E$2:$E$1000=\"VDS\")*([1]ITS_DEV_MANUF_MODEL!$D$2:$D$1000=$G199),0),3))","v":""}]
[null,null,null,null,null,null,null,{"$f":"IF($G200=\"\",\"\",INDEX([1]ITS_DEV_MANUF_MODEL!$A$2:$E$1000,MATCH(1,([1]ITS_DEV_MANUF_MODEL!$E$2:$E$1000=\"VDS\")*([1]ITS_DEV_MANUF_MODEL!$D$2:$D$1000=$G200),0),3))","v":""}]
[null,null,null,null,null,null,null,{"$f":"IF($G201=\"\",\"\",INDEX([1]ITS_DEV_MANUF_MODEL!$A$2:$E$1000,MATCH(1,([1]ITS_DEV_MANUF_MODEL!$E$2:$E$1000=\"VDS\")*([1]ITS_DEV_MANUF_MODEL!$D$2:$D$1000=$G201),0),3))","v":""}]
[null,null,null,null,null,null,null,{"$f":"IF($G202=\"\",\"\",INDEX([1]ITS_DEV_MANUF_MODEL!$A$2:$E$1000,MATCH(1,([1]ITS_DEV_MANUF_MODEL!$G$2:$G$1000=\"\")*([1]ITS_DEV_MANUF_MODEL!$D$2:$D$1000=$G202),0),3))","v":""}]

{"sheet":"External_Sensor (Code)","index":4,"n_rows":201,"n_cols":14,"rows_kept":201,"cut":false,"hidden":false,"merged":[]}
["DEVICE ID FOR UPDATE","ENTITY CODE","This Field is for Reference Only   DO NOT IMPORT","EQUIP_LOC_ID REQUIRED FIELD","INSTALLED_DATE","SENSOR_USAGE_CD REQUIRED FIELD","SENSOR_TYPE_CD REQUIRED FIELD","ITS_DEV_MANUF_CD REQUIRED FIELD","ITS_DEV_MODEL_CD REQUIRED FIELD","SERIAL_NUMBER","IP_ADDRESS","MAC_ADDRESS","FIRMWARE_VERSION","COMMENTS"]
[{"$f":"IF('External_Sensor (Desc)'!A3=\"\",\"\",'External_Sensor (Desc)'!A3)","v":""},{"$f":"IF('External_Sensor (Desc)'!B3=\"\",\"\",\"1987\")","v":""},{"$f":"IF('External_Sensor (Desc)'!B3=\"\",\"\",'External_Sensor (Desc)'!B3)","v":""},{"$f":"IF('External_Sensor (Desc)'!C3=\"\",\"\",'External_Sensor (Desc)'!C3)","v":""},{"$f":"IF('External_Sensor (Desc)'!D3=\"\",\"\",'External_Sensor (Desc)'!D3)","v":""},{"$f":"IF('External_Sensor (Desc)'!E3=\"\",\"\",INDEX([1]WWVDS_USAGE!$A$2:$A$4,MATCH('External_Sensor (Desc)'!$E3,[1]!MASTER_SENSOR_USAGE_DESC[#Data],0),0))","v":""},{"$f":"IF('External_Sensor (Desc)'!F3=\"\",\"\",INDEX([1]SENSOR_TYPE!$A$2:$A$15,MATCH('External_Sensor (Desc)'!$F3,[1]!MASTER_SENSOR_TYPE_DESC[#Data],0),0))","v":""},{"$f":"IF('External_Sensor (Desc)'!$G3=\"\",\"\",INDEX([1]ITS_DEV_MANUF_MODEL!$A$2:$E$1000,MATCH(1,([1]ITS_DEV_MANUF_MODEL!$E$2:$E$1000=\"VDS\")*([1]ITS_DEV_MANUF_MODEL!$D$2:$D$1000='External_Sensor (Desc)'!$G3),0),1))","v":""},{"$f":"IF('External_Sensor (Desc)'!$G3=\"\",\"\",INDEX([1]ITS_DEV_MANUF_MODEL!$A$2:$E$1000,MATCH(1,([1]ITS_DEV_MANUF_MODEL!$E$2:$E$1000=\"VDS\")*([1]ITS_DEV_MANUF_MODEL!$D$2:$D$1000='External_Sensor (Desc)'!$G3),0),2))","v":""},{"$f":"IF('External_Sensor (Desc)'!I3=\"\",\"\",'External_Sensor (Desc)'!I3)","v":""},{"$f":"IF('External_Sensor (Desc)'!J3=\"\",\"\",'External_Sensor (Desc)'!J3)","v":""},{"$f":"IF('External_Sensor (Desc)'!K3=\"\",\"\",'External_Sensor (Desc)'!K3)","v":""},{"$f":"IF('External_Sensor (Desc)'!L3=\"\",\"\",'External_Sensor (Desc)'!L3)","v":""},{"$f":"IF('External_Sensor (Desc)'!M3=\"\",\"\",'External_Sensor (Desc)'!M3)","v":""}]
[{"$f":"IF('External_Sensor (Desc)'!A4=\"\",\"\",'External_Sensor (Desc)'!A4)","v":""},{"$f":"IF('External_Sensor (Desc)'!B4=\"\",\"\",\"1987\")","v":""},{"$f":"IF('External_Sensor (Desc)'!B4=\"\",\"\",'External_Sensor (Desc)'!B4)","v":""},{"$f":"IF('External_Sensor (Desc)'!C4=\"\",\"\",'External_Sensor (Desc)'!C4)","v":""},{"$f":"IF('External_Sensor (Desc)'!D4=\"\",\"\",'External_Sensor (Desc)'!D4)","v":""},{"$f":"IF('External_Sensor (Desc)'!E4=\"\",\"\",INDEX([1]WWVDS_USAGE!$A$2:$A$4,MATCH('External_Sensor (Desc)'!$E4,[1]!MASTER_SENSOR_USAGE_DESC[#Data],0),0))","v":""},{"$f":"IF('External_Sensor (Desc)'!F4=\"\",\"\",INDEX([1]SENSOR_TYPE!$A$2:$A$15,MATCH('External_Sensor (Desc)'!$F4,[1]!MASTER_SENSOR_TYPE_DESC[#Data],0),0))","v":""},{"$f":"IF('External_Sensor (Desc)'!$G4=\"\",\"\",INDEX([1]ITS_DEV_MANUF_MODEL!$A$2:$E$1000,MATCH(1,([1]ITS_DEV_MANUF_MODEL!$E$2:$E$1000=\"VDS\")*([1]ITS_DEV_MANUF_MODEL!$D$2:$D$1000='External_Sensor (Desc)'!$G4),0),1))","v":""},{"$f":"IF('External_Sensor (Desc)'!$G4=\"\",\"\",INDEX([1]ITS_DEV_MANUF_MODEL!$A$2:$E$1000,MATCH(1,([1]ITS_DEV_MANUF_MODEL!$E$2:$E$1000=\"VDS\")*([1]ITS_DEV_MANUF_MODEL!$D$2:$D$1000='External_Sensor (Desc)'!$G4),0),2))","v":""},{"$f":"IF('External_Sensor (Desc)'!I4=\"\",\"\",'External_Sensor (Desc)'!I4)","v":""},{"$f":"IF('External_Sensor (Desc)'!J4=\"\",\"\",'External_Sensor (Desc)'!J4)","v":""},{"$f":"IF('External_Sensor (Desc)'!K4=\"\",\"\",'External_Sensor (Desc)'!K4)","v":""},{"$f":"IF('External_Sensor (Desc)'!L4=\"\",\"\",'External_Sensor (Desc)'!L4)","v":""},{"$f":"IF('External_Sensor (Desc)'!M4=\"\",\"\",'External_Sensor (Desc)'!M4)","v":""}]
[{"$f":"IF('External_Sensor (Desc)'!A5=\"\",\"\",'External_Sensor (Desc)'!A5)","v":""},{"$f":"IF('External_Sensor (Desc)'!B5=\"\",\"\",\"1987\")","v":""},{"$f":"IF('External_Sensor (Desc)'!B5=\"\",\"\",'External_Sensor (Desc)'!B5)","v":""},{"$f":"IF('External_Sensor (Desc)'!C5=\"\",\"\",'External_Sensor (Desc)'!C5)","v":""},{"$f":"IF('External_Sensor (Desc)'!D5=\"\",\"\",'External_Sensor (Desc)'!D5)","v":""},{"$f":"IF('External_Sensor (Desc)'!E5=\"\",\"\",INDEX([1]WWVDS_USAGE!$A$2:$A$4,MATCH('External_Sensor (Desc)'!$E5,[1]!MASTER_SENSOR_USAGE_DESC[#Data],0),0))","v":""},{"$f":"IF('External_Sensor (Desc)'!F5=\"\",\"\",INDEX([1]SENSOR_TYPE!$A$2:$A$15,MATCH('External_Sensor (Desc)'!$F5,[1]!MASTER_SENSOR_TYPE_DESC[#Data],0),0))","v":""},{"$f":"IF('External_Sensor (Desc)'!$G5=\"\",\"\",INDEX([1]ITS_DEV_MANUF_MODEL!$A$2:$E$1000,MATCH(1,([1]ITS_DEV_MANUF_MODEL!$E$2:$E$1000=\"VDS\")*([1]ITS_DEV_MANUF_MODEL!$D$2:$D$1000='External_Sensor (Desc)'!$G5),0),1))","v":""},{"$f":"IF('External_Sensor (Desc)'!$G5=\"\",\"\",INDEX([1]ITS_DEV_MANUF_MODEL!$A$2:$E$1000,MATCH(1,([1]ITS_DEV_MANUF_MODEL!$E$2:$E$1000=\"VDS\")*([1]ITS_DEV_MANUF_MODEL!$D$2:$D$1000='External_Sensor (Desc)'!$G5),0),2))","v":""},{"$f":"IF('External_Sensor (Desc)'!I5=\"\",\"\",'External_Sensor (Desc)'!I5)","v":""},{"$f":"IF('External_Sensor (Desc)'!J5=\"\",\"\",'External_Sensor (Desc)'!J5)","v":""},{"$f":"IF('External_Sensor (Desc)'!K5=\"\",\"\",'External_Sensor (Desc)'!K5)","v":""},{"$f":"IF('External_Sensor (Desc)'!L5=\"\",\"\",'External_Sensor (Desc)'!L5)","v":""},{"$f":"IF('External_Sensor (Desc)'!M5=\"\",\"\",'External_Sensor (Desc)'!M5)","v":""}]
[{"$f":"IF('External_Sensor (Desc)'!A6=\"\",\"\",'External_Sensor (Desc)'!A6)","v":""},{"$f":"IF('External_Sensor (Desc)'!B6=\"\",\"\",\"1987\")","v":""},{"$f":"IF('External_Sensor (Desc)'!B6=\"\",\"\",'External_Sensor (Desc)'!B6)","v":""},{"$f":"IF('External_Sensor (Desc)'!C6=\"\",\"\",'External_Sensor (Desc)'!C6)","v":""},{"$f":"IF('External_Sensor (Desc)'!D6=\"\",\"\",'External_Sensor (Desc)'!D6)","v":""},{"$f":"IF('External_Sensor (Desc)'!E6=\"\",\"\",INDEX([1]WWVDS_USAGE!$A$2:$A$4,MATCH('External_Sensor (Desc)'!$E6,[1]!MASTER_SENSOR_USAGE_DESC[#Data],0),0))","v":""},{"$f":"IF('External_Sensor (Desc)'!F6=\"\",\"\",INDEX([1]SENSOR_TYPE!$A$2:$A$15,MATCH('External_Sensor (Desc)'!$F6,[1]!MASTER_SENSOR_TYPE_DESC[#Data],0),0))","v":""},{"$f":"IF('External_Sensor (Desc)'!$G6=\"\",\"\",INDEX([1]ITS_DEV_MANUF_MODEL!$A$2:$E$1000,MATCH(1,([1]ITS_DEV_MANUF_MODEL!$E$2:$E$1000=\"VDS\")*([1]ITS_DEV_MANUF_MODEL!$D$2:$D$1000='External_Sensor (Desc)'!$G6),0),1))","v":""},{"$f":"IF('External_Sensor (Desc)'!$G6=\"\",\"\",INDEX([1]ITS_DEV_MANUF_MODEL!$A$2:$E$1000,MATCH(1,([1]ITS_DEV_MANUF_MODEL!$E$2:$E$1000=\"VDS\")*([1]ITS_DEV_MANUF_MODEL!$D$2:$D$1000='External_Sensor (Desc)'!$G6),0),2))","v":""},{"$f":"IF('External_Sensor (Desc)'!I6=\"\",\"\",'External_Sensor (Desc)'!I6)","v":""},{"$f":"IF('External_Sensor (Desc)'!J6=\"\",\"\",'External_Sensor (Desc)'!J6)","v":""},{"$f":"IF('External_Sensor (Desc)'!K6=\"\",\"\",'External_Sensor (Desc)'!K6)","v":""},{"$f":"IF('External_Sensor (Desc)'!L6=\"\",\"\",'External_Sensor (Desc)'!L6)","v":""},{"$f":"IF('External_Sensor (Desc)'!M6=\"\",\"\",'External_Sensor (Desc)'!M6)","v":""}]
[{"$f":"IF('External_Sensor (Desc)'!A7=\"\",\"\",'External_Sensor (Desc)'!A7)","v":""},{"$f":"IF('External_Sensor (Desc)'!B7=\"\",\"\",\"1987\")","v":""},{"$f":"IF('External_Sensor (Desc)'!B7=\"\",\"\",'External_Sensor (Desc)'!B7)","v":""},{"$f":"IF('External_Sensor (Desc)'!C7=\"\",\"\",'External_Sensor (Desc)'!C7)","v":""},{"$f":"IF('External_Sensor (Desc)'!D7=\"\",\"\",'External_Sensor (Desc)'!D7)","v":""},{"$f":"IF('External_Sensor (Desc)'!E7=\"\",\"\",INDEX([1]WWVDS_USAGE!$A$2:$A$4,MATCH('External_Sensor (Desc)'!$E7,[1]!MASTER_SENSOR_USAGE_DESC[#Data],0),0))","v":""},{"$f":"IF('External_Sensor (Desc)'!F7=\"\",\"\",INDEX([1]SENSOR_TYPE!$A$2:$A$15,MATCH('External_Sensor (Desc)'!$F7,[1]!MASTER_SENSOR_TYPE_DESC[#Data],0),0))","v":""},{"$f":"IF('External_Sensor (Desc)'!$G7=\"\",\"\",INDEX([1]ITS_DEV_MANUF_MODEL!$A$2:$E$1000,MATCH(1,([1]ITS_DEV_MANUF_MODEL!$E$2:$E$1000=\"VDS\")*([1]ITS_DEV_MANUF_MODEL!$D$2:$D$1000='External_Sensor (Desc)'!$G7),0),1))","v":""},{"$f":"IF('External_Sensor (Desc)'!$G7=\"\",\"\",INDEX([1]ITS_DEV_MANUF_MODEL!$A$2:$E$1000,MATCH(1,([1]ITS_DEV_MANUF_MODEL!$E$2:$E$1000=\"VDS\")*([1]ITS_DEV_MANUF_MODEL!$D$2:$D$1000='External_Sensor (Desc)'!$G7),0),2))","v":""},{"$f":"IF('External_Sensor (Desc)'!I7=\"\",\"\",'External_Sensor (Desc)'!I7)","v":""},{"$f":"IF('External_Sensor (Desc)'!J7=\"\",\"\",'External_Sensor (Desc)'!J7)","v":""},{"$f":"IF('External_Sensor (Desc)'!K7=\"\",\"\",'External_Sensor (Desc)'!K7)","v":""},{"$f":"IF('External_Sensor (Desc)'!L7=\"\",\"\",'External_Sensor (Desc)'!L7)","v":""},{"$f":"IF('External_Sensor (Desc)'!M7=\"\",\"\",'External_Sensor (Desc)'!M7)","v":""}]
[{"$f":"IF('External_Sensor (Desc)'!A8=\"\",\"\",'External_Sensor (Desc)'!A8)","v":""},{"$f":"IF('External_Sensor (Desc)'!B8=\"\",\"\",\"1987\")","v":""},{"$f":"IF('External_Sensor (Desc)'!B8=\"\",\"\",'External_Sensor (Desc)'!B8)","v":""},{"$f":"IF('External_Sensor (Desc)'!C8=\"\",\"\",'External_Sensor (Desc)'!C8)","v":""},{"$f":"IF('External_Sensor (Desc)'!D8=\"\",\"\",'External_Sensor (Desc)'!D8)","v":""},{"$f":"IF('External_Sensor (Desc)'!E8=\"\",\"\",INDEX([1]WWVDS_USAGE!$A$2:$A$4,MATCH('External_Sensor (Desc)'!$E8,[1]!MASTER_SENSOR_USAGE_DESC[#Data],0),0))","v":""},{"$f":"IF('External_Sensor (Desc)'!F8=\"\",\"\",INDEX([1]SENSOR_TYPE!$A$2:$A$15,MATCH('External_Sensor (Desc)'!$F8,[1]!MASTER_SENSOR_TYPE_DESC[#Data],0),0))","v":""},{"$f":"IF('External_Sensor (Desc)'!$G8=\"\",\"\",INDEX([1]ITS_DEV_MANUF_MODEL!$A$2:$E$1000,MATCH(1,([1]ITS_DEV_MANUF_MODEL!$E$2:$E$1000=\"VDS\")*([1]ITS_DEV_MANUF_MODEL!$D$2:$D$1000='External_Sensor (Desc)'!$G8),0),1))","v":""},{"$f":"IF('External_Sensor (Desc)'!$G8=\"\",\"\",INDEX([1]ITS_DEV_MANUF_MODEL!$A$2:$E$1000,MATCH(1,([1]ITS_DEV_MANUF_MODEL!$E$2:$E$1000=\"VDS\")*([1]ITS_DEV_MANUF_MODEL!$D$2:$D$1000='External_Sensor (Desc)'!$G8),0),2))","v":""},{"$f":"IF('External_Sensor (Desc)'!I8=\"\",\"\",'External_Sensor (Desc)'!I8)","v":""},{"$f":"IF('External_Sensor (Desc)'!J8=\"\",\"\",'External_Sensor (Desc)'!J8)","v":""},{"$f":"IF('External_Sensor (Desc)'!K8=\"\",\"\",'External_Sensor (Desc)'!K8)","v":""},{"$f":"IF('External_Sensor (Desc)'!L8=\"\",\"\",'External_Sensor (Desc)'!L8)","v":""},{"$f":"IF('External_Sensor (Desc)'!M8=\"\",\"\",'External_Sensor (Desc)'!M8)","v":""}]
[{"$f":"IF('External_Sensor (Desc)'!A9=\"\",\"\",'External_Sensor (Desc)'!A9)","v":""},{"$f":"IF('External_Sensor (Desc)'!B9=\"\",\"\",\"1987\")","v":""},{"$f":"IF('External_Sensor (Desc)'!B9=\"\",\"\",'External_Sensor (Desc)'!B9)","v":""},{"$f":"IF('External_Sensor (Desc)'!C9=\"\",\"\",'External_Sensor (Desc)'!C9)","v":""},{"$f":"IF('External_Sensor (Desc)'!D9=\"\",\"\",'External_Sensor (Desc)'!D9)","v":""},{"$f":"IF('External_Sensor (Desc)'!E9=\"\",\"\",INDEX([1]WWVDS_USAGE!$A$2:$A$4,MATCH('External_Sensor (Desc)'!$E9,[1]!MASTER_SENSOR_USAGE_DESC[#Data],0),0))","v":""},{"$f":"IF('External_Sensor (Desc)'!F9=\"\",\"\",INDEX([1]SENSOR_TYPE!$A$2:$A$15,MATCH('External_Sensor (Desc)'!$F9,[1]!MASTER_SENSOR_TYPE_DESC[#Data],0),0))","v":""},{"$f":"IF('External_Sensor (Desc)'!$G9=\"\",\"\",INDEX([1]ITS_DEV_MANUF_MODEL!$A$2:$E$1000,MATCH(1,([1]ITS_DEV_MANUF_MODEL!$E$2:$E$1000=\"VDS\")*([1]ITS_DEV_MANUF_MODEL!$D$2:$D$1000='External_Sensor (Desc)'!$G9),0),1))","v":""},{"$f":"IF('External_Sensor (Desc)'!$G9=\"\",\"\",INDEX([1]ITS_DEV_MANUF_MODEL!$A$2:$E$1000,MATCH(1,([1]ITS_DEV_MANUF_MODEL!$E$2:$E$1000=\"VDS\")*([1]ITS_DEV_MANUF_MODEL!$D$2:$D$1000='External_Sensor (Desc)'!$G9),0),2))","v":""},{"$f":"IF('External_Sensor (Desc)'!I9=\"\",\"\",'External_Sensor (Desc)'!I9)","v":""},{"$f":"IF('External_Sensor (Desc)'!J9=\"\",\"\",'External_Sensor (Desc)'!J9)","v":""},{"$f":"IF('External_Sensor (Desc)'!K9=\"\",\"\",'External_Sensor (Desc)'!K9)","v":""},{"$f":"IF('External_Sensor (Desc)'!L9=\"\",\"\",'External_Sensor (Desc)'!L9)","v":""},{"$f":"IF('External_Sensor (Desc)'!M9=\"\",\"\",'External_Sensor (Desc)'!M9)","v":""}]
[{"$f":"IF('External_Sensor (Desc)'!A10=\"\",\"\",'External_Sensor (Desc)'!A10)","v":""},{"$f":"IF('External_Sensor (Desc)'!B10=\"\",\"\",\"1987\")","v":""},{"$f":"IF('External_Sensor (Desc)'!B10=\"\",\"\",'External_Sensor (Desc)'!B10)","v":""},{"$f":"IF('External_Sensor (Desc)'!C10=\"\",\"\",'External_Sensor (Desc)'!C10)","v":""},{"$f":"IF('External_Sensor (Desc)'!D10=\"\",\"\",'External_Sensor (Desc)'!D10)","v":""},{"$f":"IF('External_Sensor (Desc)'!E10=\"\",\"\",INDEX([1]WWVDS_USAGE!$A$2:$A$4,MATCH('External_Sensor (Desc)'!$E10,[1]!MASTER_SENSOR_USAGE_DESC[#Data],0),0))","v":""},{"$f":"IF('External_Sensor (Desc)'!F10=\"\",\"\",INDEX([1]SENSOR_TYPE!$A$2:$A$15,MATCH('External_Sensor (Desc)'!$F10,[1]!MASTER_SENSOR_TYPE_DESC[#Data],0),0))","v":""},{"$f":"IF('External_Sensor (Desc)'!$G10=\"\",\"\",INDEX([1]ITS_DEV_MANUF_MODEL!$A$2:$E$1000,MATCH(1,([1]ITS_DEV_MANUF_MODEL!$E$2:$E$1000=\"VDS\")*([1]ITS_DEV_MANUF_MODEL!$D$2:$D$1000='External_Sensor (Desc)'!$G10),0),1))","v":""},{"$f":"IF('External_Sensor (Desc)'!$G10=\"\",\"\",INDEX([1]ITS_DEV_MANUF_MODEL!$A$2:$E$1000,MATCH(1,([1]ITS_DEV_MANUF_MODEL!$E$2:$E$1000=\"VDS\")*([1]ITS_DEV_MANUF_MODEL!$D$2:$D$1000='External_Sensor (Desc)'!$G10),0),2))","v":""},{"$f":"IF('External_Sensor (Desc)'!I10=\"\",\"\",'External_Sensor (Desc)'!I10)","v":""},{"$f":"IF('External_Sensor (Desc)'!J10=\"\",\"\",'External_Sensor (Desc)'!J10)","v":""},{"$f":"IF('External_Sensor (Desc)'!K10=\"\",\"\",'External_Sensor (Desc)'!K10)","v":""},{"$f":"IF('External_Sensor (Desc)'!L10=\"\",\"\",'External_Sensor (Desc)'!L10)","v":""},{"$f":"IF('External_Sensor (Desc)'!M10=\"\",\"\",'External_Sensor (Desc)'!M10)","v":""}]
[{"$f":"IF('External_Sensor (Desc)'!A11=\"\",\"\",'External_Sensor (Desc)'!A11)","v":""},{"$f":"IF('External_Sensor (Desc)'!B11=\"\",\"\",\"1987\")","v":""},{"$f":"IF('External_Sensor (Desc)'!B11=\"\",\"\",'External_Sensor (Desc)'!B11)","v":""},{"$f":"IF('External_Sensor (Desc)'!C11=\"\",\"\",'External_Sensor (Desc)'!C11)","v":""},{"$f":"IF('External_Sensor (Desc)'!D11=\"\",\"\",'External_Sensor (Desc)'!D11)","v":""},{"$f":"IF('External_Sensor (Desc)'!E11=\"\",\"\",INDEX([1]WWVDS_USAGE!$A$2:$A$4,MATCH('External_Sensor (Desc)'!$E11,[1]!MASTER_SENSOR_USAGE_DESC[#Data],0),0))","v":""},{"$f":"IF('External_Sensor (Desc)'!F11=\"\",\"\",INDEX([1]SENSOR_TYPE!$A$2:$A$15,MATCH('External_Sensor (Desc)'!$F11,[1]!MASTER_SENSOR_TYPE_DESC[#Data],0),0))","v":""},{"$f":"IF('External_Sensor (Desc)'!$G11=\"\",\"\",INDEX([1]ITS_DEV_MANUF_MODEL!$A$2:$E$1000,MATCH(1,([1]ITS_DEV_MANUF_MODEL!$E$2:$E$1000=\"VDS\")*([1]ITS_DEV_MANUF_MODEL!$D$2:$D$1000='External_Sensor (Desc)'!$G11),0),1))","v":""},{"$f":"IF('External_Sensor (Desc)'!$G11=\"\",\"\",INDEX([1]ITS_DEV_MANUF_MODEL!$A$2:$E$1000,MATCH(1,([1]ITS_DEV_MANUF_MODEL!$E$2:$E$1000=\"VDS\")*([1]ITS_DEV_MANUF_MODEL!$D$2:$D$1000='External_Sensor (Desc)'!$G11),0),2))","v":""},{"$f":"IF('External_Sensor (Desc)'!I11=\"\",\"\",'External_Sensor (Desc)'!I11)","v":""},{"$f":"IF('External_Sensor (Desc)'!J11=\"\",\"\",'External_Sensor (Desc)'!J11)","v":""},{"$f":"IF('External_Sensor (Desc)'!K11=\"\",\"\",'External_Sensor (Desc)'!K11)","v":""},{"$f":"IF('External_Sensor (Desc)'!L11=\"\",\"\",'External_Sensor (Desc)'!L11)","v":""},{"$f":"IF('External_Sensor (Desc)'!M11=\"\",\"\",'External_Sensor (Desc)'!M11)","v":""}]
[{"$f":"IF('External_Sensor (Desc)'!A12=\"\",\"\",'External_Sensor (Desc)'!A12)","v":""},{"$f":"IF('External_Sensor (Desc)'!B12=\"\",\"\",\"1987\")","v":""},{"$f":"IF('External_Sensor (Desc)'!B12=\"\",\"\",'External_Sensor (Desc)'!B12)","v":""},{"$f":"IF('External_Sensor (Desc)'!C12=\"\",\"\",'External_Sensor (Desc)'!C12)","v":""},{"$f":"IF('External_Sensor (Desc)'!D12=\"\",\"\",'External_Sensor (Desc)'!D12)","v":""},{"$f":"IF('External_Sensor (Desc)'!E12=\"\",\"\",INDEX([1]WWVDS_USAGE!$A$2:$A$4,MATCH('External_Sensor (Desc)'!$E12,[1]!MASTER_SENSOR_USAGE_DESC[#Data],0),0))","v":""},{"$f":"IF('External_Sensor (Desc)'!F12=\"\",\"\",INDEX([1]SENSOR_TYPE!$A$2:$A$15,MATCH('External_Sensor (Desc)'!$F12,[1]!MASTER_SENSOR_TYPE_DESC[#Data],0),0))","v":""},{"$f":"IF('External_Sensor (Desc)'!$G12=\"\",\"\",INDEX([1]ITS_DEV_MANUF_MODEL!$A$2:$E$1000,MATCH(1,([1]ITS_DEV_MANUF_MODEL!$E$2:$E$1000=\"VDS\")*([1]ITS_DEV_MANUF_MODEL!$D$2:$D$1000='External_Sensor (Desc)'!$G12),0),1))","v":""},{"$f":"IF('External_Sensor (Desc)'!$G12=\"\",\"\",INDEX([1]ITS_DEV_MANUF_MODEL!$A$2:$E$1000,MATCH(1,([1]ITS_DEV_MANUF_MODEL!$E$2:$E$1000=\"VDS\")*([1]ITS_DEV_MANUF_MODEL!$D$2:$D$1000='External_Sensor (Desc)'!$G12),0),2))","v":""},{"$f":"IF('External_Sensor (Desc)'!I12=\"\",\"\",'External_Sensor (Desc)'!I12)","v":""},{"$f":"IF('External_Sensor (Desc)'!J12=\"\",\"\",'External_Sensor (Desc)'!J12)","v":""},{"$f":"IF('External_Sensor (Desc)'!K12=\"\",\"\",'External_Sensor (Desc)'!K12)","v":""},{"$f":"IF('External_Sensor (Desc)'!L12=\"\",\"\",'External_Sensor (Desc)'!L12)","v":""},{"$f":"IF('External_Sensor (Desc)'!M12=\"\",\"\",'External_Sensor (Desc)'!M12)","v":""}]
[{"$f":"IF('External_Sensor (Desc)'!A13=\"\",\"\",'External_Sensor (Desc)'!A13)","v":""},{"$f":"IF('External_Sensor (Desc)'!B13=\"\",\"\",\"1987\")","v":""},{"$f":"IF('External_Sensor (Desc)'!B13=\"\",\"\",'External_Sensor (Desc)'!B13)","v":""},{"$f":"IF('External_Sensor (Desc)'!C13=\"\",\"\",'External_Sensor (Desc)'!C13)","v":""},{"$f":"IF('External_Sensor (Desc)'!D13=\"\",\"\",'External_Sensor (Desc)'!D13)","v":""},{"$f":"IF('External_Sensor (Desc)'!E13=\"\",\"\",INDEX([1]WWVDS_USAGE!$A$2:$A$4,MATCH('External_Sensor (Desc)'!$E13,[1]!MASTER_SENSOR_USAGE_DESC[#Data],0),0))","v":""},{"$f":"IF('External_Sensor (Desc)'!F13=\"\",\"\",INDEX([1]SENSOR_TYPE!$A$2:$A$15,MATCH('External_Sensor (Desc)'!$F13,[1]!MASTER_SENSOR_TYPE_DESC[#Data],0),0))","v":""},{"$f":"IF('External_Sensor (Desc)'!$G13=\"\",\"\",INDEX([1]ITS_DEV_MANUF_MODEL!$A$2:$E$1000,MATCH(1,([1]ITS_DEV_MANUF_MODEL!$E$2:$E$1000=\"VDS\")*([1]ITS_DEV_MANUF_MODEL!$D$2:$D$1000='External_Sensor (Desc)'!$G13),0),1))","v":""},{"$f":"IF('External_Sensor (Desc)'!$G13=\"\",\"\",INDEX([1]ITS_DEV_MANUF_MODEL!$A$2:$E$1000,MATCH(1,([1]ITS_DEV_MANUF_MODEL!$E$2:$E$1000=\"VDS\")*([1]ITS_DEV_MANUF_MODEL!$D$2:$D$1000='External_Sensor (Desc)'!$G13),0),2))","v":""},{"$f":"IF('External_Sensor (Desc)'!I13=\"\",\"\",'External_Sensor (Desc)'!I13)","v":""},{"$f":"IF('External_Sensor (Desc)'!J13=\"\",\"\",'External_Sensor (Desc)'!J13)","v":""},{"$f":"IF('External_Sensor (Desc)'!K13=\"\",\"\",'External_Sensor (Desc)'!K13)","v":""},{"$f":"IF('External_Sensor (Desc)'!L13=\"\",\"\",'External_Sensor (Desc)'!L13)","v":""},{"$f":"IF('External_Sensor (Desc)'!M13=\"\",\"\",'External_Sensor (Desc)'!M13)","v":""}]
[{"$f":"IF('External_Sensor (Desc)'!A14=\"\",\"\",'External_Sensor (Desc)'!A14)","v":""},{"$f":"IF('External_Sensor (Desc)'!B14=\"\",\"\",\"1987\")","v":""},{"$f":"IF('External_Sensor (Desc)'!B14=\"\",\"\",'External_Sensor (Desc)'!B14)","v":""},{"$f":"IF('External_Sensor (Desc)'!C14=\"\",\"\",'External_Sensor (Desc)'!C14)","v":""},{"$f":"IF('External_Sensor (Desc)'!D14=\"\",\"\",'External_Sensor (Desc)'!D14)","v":""},{"$f":"IF('External_Sensor (Desc)'!E14=\"\",\"\",INDEX([1]WWVDS_USAGE!$A$2:$A$4,MATCH('External_Sensor (Desc)'!$E14,[1]!MASTER_SENSOR_USAGE_DESC[#Data],0),0))","v":""},{"$f":"IF('External_Sensor (Desc)'!F14=\"\",\"\",INDEX([1]SENSOR_TYPE!$A$2:$A$15,MATCH('External_Sensor (Desc)'!$F14,[1]!MASTER_SENSOR_TYPE_DESC[#Data],0),0))","v":""},{"$f":"IF('External_Sensor (Desc)'!$G14=\"\",\"\",INDEX([1]ITS_DEV_MANUF_MODEL!$A$2:$E$1000,MATCH(1,([1]ITS_DEV_MANUF_MODEL!$E$2:$E$1000=\"VDS\")*([1]ITS_DEV_MANUF_MODEL!$D$2:$D$1000='External_Sensor (Desc)'!$G14),0),1))","v":""},{"$f":"IF('External_Sensor (Desc)'!$G14=\"\",\"\",INDEX([1]ITS_DEV_MANUF_MODEL!$A$2:$E$1000,MATCH(1,([1]ITS_DEV_MANUF_MODEL!$E$2:$E$1000=\"VDS\")*([1]ITS_DEV_MANUF_MODEL!$D$2:$D$1000='External_Sensor (Desc)'!$G14),0),2))","v":""},{"$f":"IF('External_Sensor (Desc)'!I14=\"\",\"\",'External_Sensor (Desc)'!I14)","v":""},{"$f":"IF('External_Sensor (Desc)'!J14=\"\",\"\",'External_Sensor (Desc)'!J14)","v":""},{"$f":"IF('External_Sensor (Desc)'!K14=\"\",\"\",'External_Sensor (Desc)'!K14)","v":""},{"$f":"IF('External_Sensor (Desc)'!L14=\"\",\"\",'External_Sensor (Desc)'!L14)","v":""},{"$f":"IF('External_Sensor (Desc)'!M14=\"\",\"\",'External_Sensor (Desc)'!M14)","v":""}]
[{"$f":"IF('External_Sensor (Desc)'!A15=\"\",\"\",'External_Sensor (Desc)'!A15)","v":""},{"$f":"IF('External_Sensor (Desc)'!B15=\"\",\"\",\"1987\")","v":""},{"$f":"IF('External_Sensor (Desc)'!B15=\"\",\"\",'External_Sensor (Desc)'!B15)","v":""},{"$f":"IF('External_Sensor (Desc)'!C15=\"\",\"\",'External_Sensor (Desc)'!C15)","v":""},{"$f":"IF('External_Sensor (Desc)'!D15=\"\",\"\",'External_Sensor (Desc)'!D15)","v":""},{"$f":"IF('External_Sensor (Desc)'!E15=\"\",\"\",INDEX([1]WWVDS_USAGE!$A$2:$A$4,MATCH('External_Sensor (Desc)'!$E15,[1]!MASTER_SENSOR_USAGE_DESC[#Data],0),0))","v":""},{"$f":"IF('External_Sensor (Desc)'!F15=\"\",\"\",INDEX([1]SENSOR_TYPE!$A$2:$A$15,MATCH('External_Sensor (Desc)'!$F15,[1]!MASTER_SENSOR_TYPE_DESC[#Data],0),0))","v":""},{"$f":"IF('External_Sensor (Desc)'!$G15=\"\",\"\",INDEX([1]ITS_DEV_MANUF_MODEL!$A$2:$E$1000,MATCH(1,([1]ITS_DEV_MANUF_MODEL!$E$2:$E$1000=\"VDS\")*([1]ITS_DEV_MANUF_MODEL!$D$2:$D$1000='External_Sensor (Desc)'!$G15),0),1))","v":""},{"$f":"IF('External_Sensor (Desc)'!$G15=\"\",\"\",INDEX([1]ITS_DEV_MANUF_MODEL!$A$2:$E$1000,MATCH(1,([1]ITS_DEV_MANUF_MODEL!$E$2:$E$1000=\"VDS\")*([1]ITS_DEV_MANUF_MODEL!$D$2:$D$1000='External_Sensor (Desc)'!$G15),0),2))","v":""},{"$f":"IF('External_Sensor (Desc)'!I15=\"\",\"\",'External_Sensor (Desc)'!I15)","v":""},{"$f":"IF('External_Sensor (Desc)'!J15=\"\",\"\",'External_Sensor (Desc)'!J15)","v":""},{"$f":"IF('External_Sensor (Desc)'!K15=\"\",\"\",'External_Sensor (Desc)'!K15)","v":""},{"$f":"IF('External_Sensor (Desc)'!L15=\"\",\"\",'External_Sensor (Desc)'!L15)","v":""},{"$f":"IF('External_Sensor (Desc)'!M15=\"\",\"\",'External_Sensor (Desc)'!M15)","v":""}]
[{"$f":"IF('External_Sensor (Desc)'!A16=\"\",\"\",'External_Sensor (Desc)'!A16)","v":""},{"$f":"IF('External_Sensor (Desc)'!B16=\"\",\"\",\"1987\")","v":""},{"$f":"IF('External_Sensor (Desc)'!B16=\"\",\"\",'External_Sensor (Desc)'!B16)","v":""},{"$f":"IF('External_Sensor (Desc)'!C16=\"\",\"\",'External_Sensor (Desc)'!C16)","v":""},{"$f":"IF('External_Sensor (Desc)'!D16=\"\",\"\",'External_Sensor (Desc)'!D16)","v":""},{"$f":"IF('External_Sensor (Desc)'!E16=\"\",\"\",INDEX([1]WWVDS_USAGE!$A$2:$A$4,MATCH('External_Sensor (Desc)'!$E16,[1]!MASTER_SENSOR_USAGE_DESC[#Data],0),0))","v":""},{"$f":"IF('External_Sensor (Desc)'!F16=\"\",\"\",INDEX([1]SENSOR_TYPE!$A$2:$A$15,MATCH('External_Sensor (Desc)'!$F16,[1]!MASTER_SENSOR_TYPE_DESC[#Data],0),0))","v":""},{"$f":"IF('External_Sensor (Desc)'!$G16=\"\",\"\",INDEX([1]ITS_DEV_MANUF_MODEL!$A$2:$E$1000,MATCH(1,([1]ITS_DEV_MANUF_MODEL!$E$2:$E$1000=\"VDS\")*([1]ITS_DEV_MANUF_MODEL!$D$2:$D$1000='External_Sensor (Desc)'!$G16),0),1))","v":""},{"$f":"IF('External_Sensor (Desc)'!$G16=\"\",\"\",INDEX([1]ITS_DEV_MANUF_MODEL!$A$2:$E$1000,MATCH(1,([1]ITS_DEV_MANUF_MODEL!$E$2:$E$1000=\"VDS\")*([1]ITS_DEV_MANUF_MODEL!$D$2:$D$1000='External_Sensor (Desc)'!$G16),0),2))","v":""},{"$f":"IF('External_Sensor (Desc)'!I16=\"\",\"\",'External_Sensor (Desc)'!I16)","v":""},{"$f":"IF('External_Sensor (Desc)'!J16=\"\",\"\",'External_Sensor (Desc)'!J16)","v":""},{"$f":"IF('External_Sensor (Desc)'!K16=\"\",\"\",'External_Sensor (Desc)'!K16)","v":""},{"$f":"IF('External_Sensor (Desc)'!L16=\"\",\"\",'External_Sensor (Desc)'!L16)","v":""},{"$f":"IF('External_Sensor (Desc)'!M16=\"\",\"\",'External_Sensor (Desc)'!M16)","v":""}]
[{"$f":"IF('External_Sensor (Desc)'!A17=\"\",\"\",'External_Sensor (Desc)'!A17)","v":""},{"$f":"IF('External_Sensor (Desc)'!B17=\"\",\"\",\"1987\")","v":""},{"$f":"IF('External_Sensor (Desc)'!B17=\"\",\"\",'External_Sensor (Desc)'!B17)","v":""},{"$f":"IF('External_Sensor (Desc)'!C17=\"\",\"\",'External_Sensor (Desc)'!C17)","v":""},{"$f":"IF('External_Sensor (Desc)'!D17=\"\",\"\",'External_Sensor (Desc)'!D17)","v":""},{"$f":"IF('External_Sensor (Desc)'!E17=\"\",\"\",INDEX([1]WWVDS_USAGE!$A$2:$A$4,MATCH('External_Sensor (Desc)'!$E17,[1]!MASTER_SENSOR_USAGE_DESC[#Data],0),0))","v":""},{"$f":"IF('External_Sensor (Desc)'!F17=\"\",\"\",INDEX([1]SENSOR_TYPE!$A$2:$A$15,MATCH('External_Sensor (Desc)'!$F17,[1]!MASTER_SENSOR_TYPE_DESC[#Data],0),0))","v":""},{"$f":"IF('External_Sensor (Desc)'!$G17=\"\",\"\",INDEX([1]ITS_DEV_MANUF_MODEL!$A$2:$E$1000,MATCH(1,([1]ITS_DEV_MANUF_MODEL!$E$2:$E$1000=\"VDS\")*([1]ITS_DEV_MANUF_MODEL!$D$2:$D$1000='External_Sensor (Desc)'!$G17),0),1))","v":""},{"$f":"IF('External_Sensor (Desc)'!$G17=\"\",\"\",INDEX([1]ITS_DEV_MANUF_MODEL!$A$2:$E$1000,MATCH(1,([1]ITS_DEV_MANUF_MODEL!$E$2:$E$1000=\"VDS\")*([1]ITS_DEV_MANUF_MODEL!$D$2:$D$1000='External_Sensor (Desc)'!$G17),0),2))","v":""},{"$f":"IF('External_Sensor (Desc)'!I17=\"\",\"\",'External_Sensor (Desc)'!I17)","v":""},{"$f":"IF('External_Sensor (Desc)'!J17=\"\",\"\",'External_Sensor (Desc)'!J17)","v":""},{"$f":"IF('External_Sensor (Desc)'!K17=\"\",\"\",'External_Sensor (Desc)'!K17)","v":""},{"$f":"IF('External_Sensor (Desc)'!L17=\"\",\"\",'External_Sensor (Desc)'!L17)","v":""},{"$f":"IF('External_Sensor (Desc)'!M17=\"\",\"\",'External_Sensor (Desc)'!M17)","v":""}]
[{"$f":"IF('External_Sensor (Desc)'!A18=\"\",\"\",'External_Sensor (Desc)'!A18)","v":""},{"$f":"IF('External_Sensor (Desc)'!B18=\"\",\"\",\"1987\")","v":""},{"$f":"IF('External_Sensor (Desc)'!B18=\"\",\"\",'External_Sensor (Desc)'!B18)","v":""},{"$f":"IF('External_Sensor (Desc)'!C18=\"\",\"\",'External_Sensor (Desc)'!C18)","v":""},{"$f":"IF('External_Sensor (Desc)'!D18=\"\",\"\",'External_Sensor (Desc)'!D18)","v":""},{"$f":"IF('External_Sensor (Desc)'!E18=\"\",\"\",INDEX([1]WWVDS_USAGE!$A$2:$A$4,MATCH('External_Sensor (Desc)'!$E18,[1]!MASTER_SENSOR_USAGE_DESC[#Data],0),0))","v":""},{"$f":"IF('External_Sensor (Desc)'!F18=\"\",\"\",INDEX([1]SENSOR_TYPE!$A$2:$A$15,MATCH('External_Sensor (Desc)'!$F18,[1]!MASTER_SENSOR_TYPE_DESC[#Data],0),0))","v":""},{"$f":"IF('External_Sensor (Desc)'!$G18=\"\",\"\",INDEX([1]ITS_DEV_MANUF_MODEL!$A$2:$E$1000,MATCH(1,([1]ITS_DEV_MANUF_MODEL!$E$2:$E$1000=\"VDS\")*([1]ITS_DEV_MANUF_MODEL!$D$2:$D$1000='External_Sensor (Desc)'!$G18),0),1))","v":""},{"$f":"IF('External_Sensor (Desc)'!$G18=\"\",\"\",INDEX([1]ITS_DEV_MANUF_MODEL!$A$2:$E$1000,MATCH(1,([1]ITS_DEV_MANUF_MODEL!$E$2:$E$1000=\"VDS\")*([1]ITS_DEV_MANUF_MODEL!$D$2:$D$1000='External_Sensor (Desc)'!$G18),0),2))","v":""},{"$f":"IF('External_Sensor (Desc)'!I18=\"\",\"\",'External_Sensor (Desc)'!I18)","v":""},{"$f":"IF('External_Sensor (Desc)'!J18=\"\",\"\",'External_Sensor (Desc)'!J18)","v":""},{"$f":"IF('External_Sensor (Desc)'!K18=\"\",\"\",'External_Sensor (Desc)'!K18)","v":""},{"$f":"IF('External_Sensor (Desc)'!L18=\"\",\"\",'External_Sensor (Desc)'!L18)","v":""},{"$f":"IF('External_Sensor (Desc)'!M18=\"\",\"\",'External_Sensor (Desc)'!M18)","v":""}]
[{"$f":"IF('External_Sensor (Desc)'!A19=\"\",\"\",'External_Sensor (Desc)'!A19)","v":""},{"$f":"IF('External_Sensor (Desc)'!B19=\"\",\"\",\"1987\")","v":""},{"$f":"IF('External_Sensor (Desc)'!B19=\"\",\"\",'External_Sensor (Desc)'!B19)","v":""},{"$f":"IF('External_Sensor (Desc)'!C19=\"\",\"\",'External_Sensor (Desc)'!C19)","v":""},{"$f":"IF('External_Sensor (Desc)'!D19=\"\",\"\",'External_Sensor (Desc)'!D19)","v":""},{"$f":"IF('External_Sensor (Desc)'!E19=\"\",\"\",INDEX([1]WWVDS_USAGE!$A$2:$A$4,MATCH('External_Sensor (Desc)'!$E19,[1]!MASTER_SENSOR_USAGE_DESC[#Data],0),0))","v":""},{"$f":"IF('External_Sensor (Desc)'!F19=\"\",\"\",INDEX([1]SENSOR_TYPE!$A$2:$A$15,MATCH('External_Sensor (Desc)'!$F19,[1]!MASTER_SENSOR_TYPE_DESC[#Data],0),0))","v":""},{"$f":"IF('External_Sensor (Desc)'!$G19=\"\",\"\",INDEX([1]ITS_DEV_MANUF_MODEL!$A$2:$E$1000,MATCH(1,([1]ITS_DEV_MANUF_MODEL!$E$2:$E$1000=\"VDS\")*([1]ITS_DEV_MANUF_MODEL!$D$2:$D$1000='External_Sensor (Desc)'!$G19),0),1))","v":""},{"$f":"IF('External_Sensor (Desc)'!$G19=\"\",\"\",INDEX([1]ITS_DEV_MANUF_MODEL!$A$2:$E$1000,MATCH(1,([1]ITS_DEV_MANUF_MODEL!$E$2:$E$1000=\"VDS\")*([1]ITS_DEV_MANUF_MODEL!$D$2:$D$1000='External_Sensor (Desc)'!$G19),0),2))","v":""},{"$f":"IF('External_Sensor (Desc)'!I19=\"\",\"\",'External_Sensor (Desc)'!I19)","v":""},{"$f":"IF('External_Sensor (Desc)'!J19=\"\",\"\",'External_Sensor (Desc)'!J19)","v":""},{"$f":"IF('External_Sensor (Desc)'!K19=\"\",\"\",'External_Sensor (Desc)'!K19)","v":""},{"$f":"IF('External_Sensor (Desc)'!L19=\"\",\"\",'External_Sensor (Desc)'!L19)","v":""},{"$f":"IF('External_Sensor (Desc)'!M19=\"\",\"\",'External_Sensor (Desc)'!M19)","v":""}]
[{"$f":"IF('External_Sensor (Desc)'!A20=\"\",\"\",'External_Sensor (Desc)'!A20)","v":""},{"$f":"IF('External_Sensor (Desc)'!B20=\"\",\"\",\"1987\")","v":""},{"$f":"IF('External_Sensor (Desc)'!B20=\"\",\"\",'External_Sensor (Desc)'!B20)","v":""},{"$f":"IF('External_Sensor (Desc)'!C20=\"\",\"\",'External_Sensor (Desc)'!C20)","v":""},{"$f":"IF('External_Sensor (Desc)'!D20=\"\",\"\",'External_Sensor (Desc)'!D20)","v":""},{"$f":"IF('External_Sensor (Desc)'!E20=\"\",\"\",INDEX([1]WWVDS_USAGE!$A$2:$A$4,MATCH('External_Sensor (Desc)'!$E20,[1]!MASTER_SENSOR_USAGE_DESC[#Data],0),0))","v":""},{"$f":"IF('External_Sensor (Desc)'!F20=\"\",\"\",INDEX([1]SENSOR_TYPE!$A$2:$A$15,MATCH('External_Sensor (Desc)'!$F20,[1]!MASTER_SENSOR_TYPE_DESC[#Data],0),0))","v":""},{"$f":"IF('External_Sensor (Desc)'!$G20=\"\",\"\",INDEX([1]ITS_DEV_MANUF_MODEL!$A$2:$E$1000,MATCH(1,([1]ITS_DEV_MANUF_MODEL!$E$2:$E$1000=\"VDS\")*([1]ITS_DEV_MANUF_MODEL!$D$2:$D$1000='External_Sensor (Desc)'!$G20),0),1))","v":""},{"$f":"IF('External_Sensor (Desc)'!$G20=\"\",\"\",INDEX([1]ITS_DEV_MANUF_MODEL!$A$2:$E$1000,MATCH(1,([1]ITS_DEV_MANUF_MODEL!$E$2:$E$1000=\"VDS\")*([1]ITS_DEV_MANUF_MODEL!$D$2:$D$1000='External_Sensor (Desc)'!$G20),0),2))","v":""},{"$f":"IF('External_Sensor (Desc)'!I20=\"\",\"\",'External_Sensor (Desc)'!I20)","v":""},{"$f":"IF('External_Sensor (Desc)'!J20=\"\",\"\",'External_Sensor (Desc)'!J20)","v":""},{"$f":"IF('External_Sensor (Desc)'!K20=\"\",\"\",'External_Sensor (Desc)'!K20)","v":""},{"$f":"IF('External_Sensor (Desc)'!L20=\"\",\"\",'External_Sensor (Desc)'!L20)","v":""},{"$f":"IF('External_Sensor (Desc)'!M20=\"\",\"\",'External_Sensor (Desc)'!M20)","v":""}]
[{"$f":"IF('External_Sensor (Desc)'!A21=\"\",\"\",'External_Sensor (Desc)'!A21)","v":""},{"$f":"IF('External_Sensor (Desc)'!B21=\"\",\"\",\"1987\")","v":""},{"$f":"IF('External_Sensor (Desc)'!B21=\"\",\"\",'External_Sensor (Desc)'!B21)","v":""},{"$f":"IF('External_Sensor (Desc)'!C21=\"\",\"\",'External_Sensor (Desc)'!C21)","v":""},{"$f":"IF('External_Sensor (Desc)'!D21=\"\",\"\",'External_Sensor (Desc)'!D21)","v":""},{"$f":"IF('External_Sensor (Desc)'!E21=\"\",\"\",INDEX([1]WWVDS_USAGE!$A$2:$A$4,MATCH('External_Sensor (Desc)'!$E21,[1]!MASTER_SENSOR_USAGE_DESC[#Data],0),0))","v":""},{"$f":"IF('External_Sensor (Desc)'!F21=\"\",\"\",INDEX([1]SENSOR_TYPE!$A$2:$A$15,MATCH('External_Sensor (Desc)'!$F21,[1]!MASTER_SENSOR_TYPE_DESC[#Data],0),0))","v":""},{"$f":"IF('External_Sensor (Desc)'!$G21=\"\",\"\",INDEX([1]ITS_DEV_MANUF_MODEL!$A$2:$E$1000,MATCH(1,([1]ITS_DEV_MANUF_MODEL!$E$2:$E$1000=\"VDS\")*([1]ITS_DEV_MANUF_MODEL!$D$2:$D$1000='External_Sensor (Desc)'!$G21),0),1))","v":""},{"$f":"IF('External_Sensor (Desc)'!$G21=\"\",\"\",INDEX([1]ITS_DEV_MANUF_MODEL!$A$2:$E$1000,MATCH(1,([1]ITS_DEV_MANUF_MODEL!$E$2:$E$1000=\"VDS\")*([1]ITS_DEV_MANUF_MODEL!$D$2:$D$1000='External_Sensor (Desc)'!$G21),0),2))","v":""},{"$f":"IF('External_Sensor (Desc)'!I21=\"\",\"\",'External_Sensor (Desc)'!I21)","v":""},{"$f":"IF('External_Sensor (Desc)'!J21=\"\",\"\",'External_Sensor (Desc)'!J21)","v":""},{"$f":"IF('External_Sensor (Desc)'!K21=\"\",\"\",'External_Sensor (Desc)'!K21)","v":""},{"$f":"IF('External_Sensor (Desc)'!L21=\"\",\"\",'External_Sensor (Desc)'!L21)","v":""},{"$f":"IF('External_Sensor (Desc)'!M21=\"\",\"\",'External_Sensor (Desc)'!M21)","v":""}]
[{"$f":"IF('External_Sensor (Desc)'!A22=\"\",\"\",'External_Sensor (Desc)'!A22)","v":""},{"$f":"IF('External_Sensor (Desc)'!B22=\"\",\"\",\"1987\")","v":""},{"$f":"IF('External_Sensor (Desc)'!B22=\"\",\"\",'External_Sensor (Desc)'!B22)","v":""},{"$f":"IF('External_Sensor (Desc)'!C22=\"\",\"\",'External_Sensor (Desc)'!C22)","v":""},{"$f":"IF('External_Sensor (Desc)'!D22=\"\",\"\",'External_Sensor (Desc)'!D22)","v":""},{"$f":"IF('External_Sensor (Desc)'!E22=\"\",\"\",INDEX([1]WWVDS_USAGE!$A$2:$A$4,MATCH('External_Sensor (Desc)'!$E22,[1]!MASTER_SENSOR_USAGE_DESC[#Data],0),0))","v":""},{"$f":"IF('External_Sensor (Desc)'!F22=\"\",\"\",INDEX([1]SENSOR_TYPE!$A$2:$A$15,MATCH('External_Sensor (Desc)'!$F22,[1]!MASTER_SENSOR_TYPE_DESC[#Data],0),0))","v":""},{"$f":"IF('External_Sensor (Desc)'!$G22=\"\",\"\",INDEX([1]ITS_DEV_MANUF_MODEL!$A$2:$E$1000,MATCH(1,([1]ITS_DEV_MANUF_MODEL!$E$2:$E$1000=\"VDS\")*([1]ITS_DEV_MANUF_MODEL!$D$2:$D$1000='External_Sensor (Desc)'!$G22),0),1))","v":""},{"$f":"IF('External_Sensor (Desc)'!$G22=\"\",\"\",INDEX([1]ITS_DEV_MANUF_MODEL!$A$2:$E$1000,MATCH(1,([1]ITS_DEV_MANUF_MODEL!$E$2:$E$1000=\"VDS\")*([1]ITS_DEV_MANUF_MODEL!$D$2:$D$1000='External_Sensor (Desc)'!$G22),0),2))","v":""},{"$f":"IF('External_Sensor (Desc)'!I22=\"\",\"\",'External_Sensor (Desc)'!I22)","v":""},{"$f":"IF('External_Sensor (Desc)'!J22=\"\",\"\",'External_Sensor (Desc)'!J22)","v":""},{"$f":"IF('External_Sensor (Desc)'!K22=\"\",\"\",'External_Sensor (Desc)'!K22)","v":""},{"$f":"IF('External_Sensor (Desc)'!L22=\"\",\"\",'External_Sensor (Desc)'!L22)","v":""},{"$f":"IF('External_Sensor (Desc)'!M22=\"\",\"\",'External_Sensor (Desc)'!M22)","v":""}]
[{"$f":"IF('External_Sensor (Desc)'!A23=\"\",\"\",'External_Sensor (Desc)'!A23)","v":""},{"$f":"IF('External_Sensor (Desc)'!B23=\"\",\"\",\"1987\")","v":""},{"$f":"IF('External_Sensor (Desc)'!B23=\"\",\"\",'External_Sensor (Desc)'!B23)","v":""},{"$f":"IF('External_Sensor (Desc)'!C23=\"\",\"\",'External_Sensor (Desc)'!C23)","v":""},{"$f":"IF('External_Sensor (Desc)'!D23=\"\",\"\",'External_Sensor (Desc)'!D23)","v":""},{"$f":"IF('External_Sensor (Desc)'!E23=\"\",\"\",INDEX([1]WWVDS_USAGE!$A$2:$A$4,MATCH('External_Sensor (Desc)'!$E23,[1]!MASTER_SENSOR_USAGE_DESC[#Data],0),0))","v":""},{"$f":"IF('External_Sensor (Desc)'!F23=\"\",\"\",INDEX([1]SENSOR_TYPE!$A$2:$A$15,MATCH('External_Sensor (Desc)'!$F23,[1]!MASTER_SENSOR_TYPE_DESC[#Data],0),0))","v":""},{"$f":"IF('External_Sensor (Desc)'!$G23=\"\",\"\",INDEX([1]ITS_DEV_MANUF_MODEL!$A$2:$E$1000,MATCH(1,([1]ITS_DEV_MANUF_MODEL!$E$2:$E$1000=\"VDS\")*([1]ITS_DEV_MANUF_MODEL!$D$2:$D$1000='External_Sensor (Desc)'!$G23),0),1))","v":""},{"$f":"IF('External_Sensor (Desc)'!$G23=\"\",\"\",INDEX([1]ITS_DEV_MANUF_MODEL!$A$2:$E$1000,MATCH(1,([1]ITS_DEV_MANUF_MODEL!$E$2:$E$1000=\"VDS\")*([1]ITS_DEV_MANUF_MODEL!$D$2:$D$1000='External_Sensor (Desc)'!$G23),0),2))","v":""},{"$f":"IF('External_Sensor (Desc)'!I23=\"\",\"\",'External_Sensor (Desc)'!I23)","v":""},{"$f":"IF('External_Sensor (Desc)'!J23=\"\",\"\",'External_Sensor (Desc)'!J23)","v":""},{"$f":"IF('External_Sensor (Desc)'!K23=\"\",\"\",'External_Sensor (Desc)'!K23)","v":""},{"$f":"IF('External_Sensor (Desc)'!L23=\"\",\"\",'External_Sensor (Desc)'!L23)","v":""},{"$f":"IF('External_Sensor (Desc)'!M23=\"\",\"\",'External_Sensor (Desc)'!M23)","v":""}]
[{"$f":"IF('External_Sensor (Desc)'!A24=\"\",\"\",'External_Sensor (Desc)'!A24)","v":""},{"$f":"IF('External_Sensor (Desc)'!B24=\"\",\"\",\"1987\")","v":""},{"$f":"IF('External_Sensor (Desc)'!B24=\"\",\"\",'External_Sensor (Desc)'!B24)","v":""},{"$f":"IF('External_Sensor (Desc)'!C24=\"\",\"\",'External_Sensor (Desc)'!C24)","v":""},{"$f":"IF('External_Sensor (Desc)'!D24=\"\",\"\",'External_Sensor (Desc)'!D24)","v":""},{"$f":"IF('External_Sensor (Desc)'!E24=\"\",\"\",INDEX([1]WWVDS_USAGE!$A$2:$A$4,MATCH('External_Sensor (Desc)'!$E24,[1]!MASTER_SENSOR_USAGE_DESC[#Data],0),0))","v":""},{"$f":"IF('External_Sensor (Desc)'!F24=\"\",\"\",INDEX([1]SENSOR_TYPE!$A$2:$A$15,MATCH('External_Sensor (Desc)'!$F24,[1]!MASTER_SENSOR_TYPE_DESC[#Data],0),0))","v":""},{"$f":"IF('External_Sensor (Desc)'!$G24=\"\",\"\",INDEX([1]ITS_DEV_MANUF_MODEL!$A$2:$E$1000,MATCH(1,([1]ITS_DEV_MANUF_MODEL!$E$2:$E$1000=\"VDS\")*([1]ITS_DEV_MANUF_MODEL!$D$2:$D$1000='External_Sensor (Desc)'!$G24),0),1))","v":""},{"$f":"IF('External_Sensor (Desc)'!$G24=\"\",\"\",INDEX([1]ITS_DEV_MANUF_MODEL!$A$2:$E$1000,MATCH(1,([1]ITS_DEV_MANUF_MODEL!$E$2:$E$1000=\"VDS\")*([1]ITS_DEV_MANUF_MODEL!$D$2:$D$1000='External_Sensor (Desc)'!$G24),0),2))","v":""},{"$f":"IF('External_Sensor (Desc)'!I24=\"\",\"\",'External_Sensor (Desc)'!I24)","v":""},{"$f":"IF('External_Sensor (Desc)'!J24=\"\",\"\",'External_Sensor (Desc)'!J24)","v":""},{"$f":"IF('External_Sensor (Desc)'!K24=\"\",\"\",'External_Sensor (Desc)'!K24)","v":""},{"$f":"IF('External_Sensor (Desc)'!L24=\"\",\"\",'External_Sensor (Desc)'!L24)","v":""},{"$f":"IF('External_Sensor (Desc)'!M24=\"\",\"\",'External_Sensor (Desc)'!M24)","v":""}]
[{"$f":"IF('External_Sensor (Desc)'!A25=\"\",\"\",'External_Sensor (Desc)'!A25)","v":""},{"$f":"IF('External_Sensor (Desc)'!B25=\"\",\"\",\"1987\")","v":""},{"$f":"IF('External_Sensor (Desc)'!B25=\"\",\"\",'External_Sensor (Desc)'!B25)","v":""},{"$f":"IF('External_Sensor (Desc)'!C25=\"\",\"\",'External_Sensor (Desc)'!C25)","v":""},{"$f":"IF('External_Sensor (Desc)'!D25=\"\",\"\",'External_Sensor (Desc)'!D25)","v":""},{"$f":"IF('External_Sensor (Desc)'!E25=\"\",\"\",INDEX([1]WWVDS_USAGE!$A$2:$A$4,MATCH('External_Sensor (Desc)'!$E25,[1]!MASTER_SENSOR_USAGE_DESC[#Data],0),0))","v":""},{"$f":"IF('External_Sensor (Desc)'!F25=\"\",\"\",INDEX([1]SENSOR_TYPE!$A$2:$A$15,MATCH('External_Sensor (Desc)'!$F25,[1]!MASTER_SENSOR_TYPE_DESC[#Data],0),0))","v":""},{"$f":"IF('External_Sensor (Desc)'!$G25=\"\",\"\",INDEX([1]ITS_DEV_MANUF_MODEL!$A$2:$E$1000,MATCH(1,([1]ITS_DEV_MANUF_MODEL!$E$2:$E$1000=\"VDS\")*([1]ITS_DEV_MANUF_MODEL!$D$2:$D$1000='External_Sensor (Desc)'!$G25),0),1))","v":""},{"$f":"IF('External_Sensor (Desc)'!$G25=\"\",\"\",INDEX([1]ITS_DEV_MANUF_MODEL!$A$2:$E$1000,MATCH(1,([1]ITS_DEV_MANUF_MODEL!$E$2:$E$1000=\"VDS\")*([1]ITS_DEV_MANUF_MODEL!$D$2:$D$1000='External_Sensor (Desc)'!$G25),0),2))","v":""},{"$f":"IF('External_Sensor (Desc)'!I25=\"\",\"\",'External_Sensor (Desc)'!I25)","v":""},{"$f":"IF('External_Sensor (Desc)'!J25=\"\",\"\",'External_Sensor (Desc)'!J25)","v":""},{"$f":"IF('External_Sensor (Desc)'!K25=\"\",\"\",'External_Sensor (Desc)'!K25)","v":""},{"$f":"IF('External_Sensor (Desc)'!L25=\"\",\"\",'External_Sensor (Desc)'!L25)","v":""},{"$f":"IF('External_Sensor (Desc)'!M25=\"\",\"\",'External_Sensor (Desc)'!M25)","v":""}]
[{"$f":"IF('External_Sensor (Desc)'!A26=\"\",\"\",'External_Sensor (Desc)'!A26)","v":""},{"$f":"IF('External_Sensor (Desc)'!B26=\"\",\"\",\"1987\")","v":""},{"$f":"IF('External_Sensor (Desc)'!B26=\"\",\"\",'External_Sensor (Desc)'!B26)","v":""},{"$f":"IF('External_Sensor (Desc)'!C26=\"\",\"\",'External_Sensor (Desc)'!C26)","v":""},{"$f":"IF('External_Sensor (Desc)'!D26=\"\",\"\",'External_Sensor (Desc)'!D26)","v":""},{"$f":"IF('External_Sensor (Desc)'!E26=\"\",\"\",INDEX([1]WWVDS_USAGE!$A$2:$A$4,MATCH('External_Sensor (Desc)'!$E26,[1]!MASTER_SENSOR_USAGE_DESC[#Data],0),0))","v":""},{"$f":"IF('External_Sensor (Desc)'!F26=\"\",\"\",INDEX([1]SENSOR_TYPE!$A$2:$A$15,MATCH('External_Sensor (Desc)'!$F26,[1]!MASTER_SENSOR_TYPE_DESC[#Data],0),0))","v":""},{"$f":"IF('External_Sensor (Desc)'!$G26=\"\",\"\",INDEX([1]ITS_DEV_MANUF_MODEL!$A$2:$E$1000,MATCH(1,([1]ITS_DEV_MANUF_MODEL!$E$2:$E$1000=\"VDS\")*([1]ITS_DEV_MANUF_MODEL!$D$2:$D$1000='External_Sensor (Desc)'!$G26),0),1))","v":""},{"$f":"IF('External_Sensor (Desc)'!$G26=\"\",\"\",INDEX([1]ITS_DEV_MANUF_MODEL!$A$2:$E$1000,MATCH(1,([1]ITS_DEV_MANUF_MODEL!$E$2:$E$1000=\"VDS\")*([1]ITS_DEV_MANUF_MODEL!$D$2:$D$1000='External_Sensor (Desc)'!$G26),0),2))","v":""},{"$f":"IF('External_Sensor (Desc)'!I26=\"\",\"\",'External_Sensor (Desc)'!I26)","v":""},{"$f":"IF('External_Sensor (Desc)'!J26=\"\",\"\",'External_Sensor (Desc)'!J26)","v":""},{"$f":"IF('External_Sensor (Desc)'!K26=\"\",\"\",'External_Sensor (Desc)'!K26)","v":""},{"$f":"IF('External_Sensor (Desc)'!L26=\"\",\"\",'External_Sensor (Desc)'!L26)","v":""},{"$f":"IF('External_Sensor (Desc)'!M26=\"\",\"\",'External_Sensor (Desc)'!M26)","v":""}]
[{"$f":"IF('External_Sensor (Desc)'!A27=\"\",\"\",'External_Sensor (Desc)'!A27)","v":""},{"$f":"IF('External_Sensor (Desc)'!B27=\"\",\"\",\"1987\")","v":""},{"$f":"IF('External_Sensor (Desc)'!B27=\"\",\"\",'External_Sensor (Desc)'!B27)","v":""},{"$f":"IF('External_Sensor (Desc)'!C27=\"\",\"\",'External_Sensor (Desc)'!C27)","v":""},{"$f":"IF('External_Sensor (Desc)'!D27=\"\",\"\",'External_Sensor (Desc)'!D27)","v":""},{"$f":"IF('External_Sensor (Desc)'!E27=\"\",\"\",INDEX([1]WWVDS_USAGE!$A$2:$A$4,MATCH('External_Sensor (Desc)'!$E27,[1]!MASTER_SENSOR_USAGE_DESC[#Data],0),0))","v":""},{"$f":"IF('External_Sensor (Desc)'!F27=\"\",\"\",INDEX([1]SENSOR_TYPE!$A$2:$A$15,MATCH('External_Sensor (Desc)'!$F27,[1]!MASTER_SENSOR_TYPE_DESC[#Data],0),0))","v":""},{"$f":"IF('External_Sensor (Desc)'!$G27=\"\",\"\",INDEX([1]ITS_DEV_MANUF_MODEL!$A$2:$E$1000,MATCH(1,([1]ITS_DEV_MANUF_MODEL!$E$2:$E$1000=\"VDS\")*([1]ITS_DEV_MANUF_MODEL!$D$2:$D$1000='External_Sensor (Desc)'!$G27),0),1))","v":""},{"$f":"IF('External_Sensor (Desc)'!$G27=\"\",\"\",INDEX([1]ITS_DEV_MANUF_MODEL!$A$2:$E$1000,MATCH(1,([1]ITS_DEV_MANUF_MODEL!$E$2:$E$1000=\"VDS\")*([1]ITS_DEV_MANUF_MODEL!$D$2:$D$1000='External_Sensor (Desc)'!$G27),0),2))","v":""},{"$f":"IF('External_Sensor (Desc)'!I27=\"\",\"\",'External_Sensor (Desc)'!I27)","v":""},{"$f":"IF('External_Sensor (Desc)'!J27=\"\",\"\",'External_Sensor (Desc)'!J27)","v":""},{"$f":"IF('External_Sensor (Desc)'!K27=\"\",\"\",'External_Sensor (Desc)'!K27)","v":""},{"$f":"IF('External_Sensor (Desc)'!L27=\"\",\"\",'External_Sensor (Desc)'!L27)","v":""},{"$f":"IF('External_Sensor (Desc)'!M27=\"\",\"\",'External_Sensor (Desc)'!M27)","v":""}]
[{"$f":"IF('External_Sensor (Desc)'!A28=\"\",\"\",'External_Sensor (Desc)'!A28)","v":""},{"$f":"IF('External_Sensor (Desc)'!B28=\"\",\"\",\"1987\")","v":""},{"$f":"IF('External_Sensor (Desc)'!B28=\"\",\"\",'External_Sensor (Desc)'!B28)","v":""},{"$f":"IF('External_Sensor (Desc)'!C28=\"\",\"\",'External_Sensor (Desc)'!C28)","v":""},{"$f":"IF('External_Sensor (Desc)'!D28=\"\",\"\",'External_Sensor (Desc)'!D28)","v":""},{"$f":"IF('External_Sensor (Desc)'!E28=\"\",\"\",INDEX([1]WWVDS_USAGE!$A$2:$A$4,MATCH('External_Sensor (Desc)'!$E28,[1]!MASTER_SENSOR_USAGE_DESC[#Data],0),0))","v":""},{"$f":"IF('External_Sensor (Desc)'!F28=\"\",\"\",INDEX([1]SENSOR_TYPE!$A$2:$A$15,MATCH('External_Sensor (Desc)'!$F28,[1]!MASTER_SENSOR_TYPE_DESC[#Data],0),0))","v":""},{"$f":"IF('External_Sensor (Desc)'!$G28=\"\",\"\",INDEX([1]ITS_DEV_MANUF_MODEL!$A$2:$E$1000,MATCH(1,([1]ITS_DEV_MANUF_MODEL!$E$2:$E$1000=\"VDS\")*([1]ITS_DEV_MANUF_MODEL!$D$2:$D$1000='External_Sensor (Desc)'!$G28),0),1))","v":""},{"$f":"IF('External_Sensor (Desc)'!$G28=\"\",\"\",INDEX([1]ITS_DEV_MANUF_MODEL!$A$2:$E$1000,MATCH(1,([1]ITS_DEV_MANUF_MODEL!$E$2:$E$1000=\"VDS\")*([1]ITS_DEV_MANUF_MODEL!$D$2:$D$1000='External_Sensor (Desc)'!$G28),0),2))","v":""},{"$f":"IF('External_Sensor (Desc)'!I28=\"\",\"\",'External_Sensor (Desc)'!I28)","v":""},{"$f":"IF('External_Sensor (Desc)'!J28=\"\",\"\",'External_Sensor (Desc)'!J28)","v":""},{"$f":"IF('External_Sensor (Desc)'!K28=\"\",\"\",'External_Sensor (Desc)'!K28)","v":""},{"$f":"IF('External_Sensor (Desc)'!L28=\"\",\"\",'External_Sensor (Desc)'!L28)","v":""},{"$f":"IF('External_Sensor (Desc)'!M28=\"\",\"\",'External_Sensor (Desc)'!M28)","v":""}]
[{"$f":"IF('External_Sensor (Desc)'!A29=\"\",\"\",'External_Sensor (Desc)'!A29)","v":""},{"$f":"IF('External_Sensor (Desc)'!B29=\"\",\"\",\"1987\")","v":""},{"$f":"IF('External_Sensor (Desc)'!B29=\"\",\"\",'External_Sensor (Desc)'!B29)","v":""},{"$f":"IF('External_Sensor (Desc)'!C29=\"\",\"\",'External_Sensor (Desc)'!C29)","v":""},{"$f":"IF('External_Sensor (Desc)'!D29=\"\",\"\",'External_Sensor (Desc)'!D29)","v":""},{"$f":"IF('External_Sensor (Desc)'!E29=\"\",\"\",INDEX([1]WWVDS_USAGE!$A$2:$A$4,MATCH('External_Sensor (Desc)'!$E29,[1]!MASTER_SENSOR_USAGE_DESC[#Data],0),0))","v":""},{"$f":"IF('External_Sensor (Desc)'!F29=\"\",\"\",INDEX([1]SENSOR_TYPE!$A$2:$A$15,MATCH('External_Sensor (Desc)'!$F29,[1]!MASTER_SENSOR_TYPE_DESC[#Data],0),0))","v":""},{"$f":"IF('External_Sensor (Desc)'!$G29=\"\",\"\",INDEX([1]ITS_DEV_MANUF_MODEL!$A$2:$E$1000,MATCH(1,([1]ITS_DEV_MANUF_MODEL!$E$2:$E$1000=\"VDS\")*([1]ITS_DEV_MANUF_MODEL!$D$2:$D$1000='External_Sensor (Desc)'!$G29),0),1))","v":""},{"$f":"IF('External_Sensor (Desc)'!$G29=\"\",\"\",INDEX([1]ITS_DEV_MANUF_MODEL!$A$2:$E$1000,MATCH(1,([1]ITS_DEV_MANUF_MODEL!$E$2:$E$1000=\"VDS\")*([1]ITS_DEV_MANUF_MODEL!$D$2:$D$1000='External_Sensor (Desc)'!$G29),0),2))","v":""},{"$f":"IF('External_Sensor (Desc)'!I29=\"\",\"\",'External_Sensor (Desc)'!I29)","v":""},{"$f":"IF('External_Sensor (Desc)'!J29=\"\",\"\",'External_Sensor (Desc)'!J29)","v":""},{"$f":"IF('External_Sensor (Desc)'!K29=\"\",\"\",'External_Sensor (Desc)'!K29)","v":""},{"$f":"IF('External_Sensor (Desc)'!L29=\"\",\"\",'External_Sensor (Desc)'!L29)","v":""},{"$f":"IF('External_Sensor (Desc)'!M29=\"\",\"\",'External_Sensor (Desc)'!M29)","v":""}]
[{"$f":"IF('External_Sensor (Desc)'!A30=\"\",\"\",'External_Sensor (Desc)'!A30)","v":""},{"$f":"IF('External_Sensor (Desc)'!B30=\"\",\"\",\"1987\")","v":""},{"$f":"IF('External_Sensor (Desc)'!B30=\"\",\"\",'External_Sensor (Desc)'!B30)","v":""},{"$f":"IF('External_Sensor (Desc)'!C30=\"\",\"\",'External_Sensor (Desc)'!C30)","v":""},{"$f":"IF('External_Sensor (Desc)'!D30=\"\",\"\",'External_Sensor (Desc)'!D30)","v":""},{"$f":"IF('External_Sensor (Desc)'!E30=\"\",\"\",INDEX([1]WWVDS_USAGE!$A$2:$A$4,MATCH('External_Sensor (Desc)'!$E30,[1]!MASTER_SENSOR_USAGE_DESC[#Data],0),0))","v":""},{"$f":"IF('External_Sensor (Desc)'!F30=\"\",\"\",INDEX([1]SENSOR_TYPE!$A$2:$A$15,MATCH('External_Sensor (Desc)'!$F30,[1]!MASTER_SENSOR_TYPE_DESC[#Data],0),0))","v":""},{"$f":"IF('External_Sensor (Desc)'!$G30=\"\",\"\",INDEX([1]ITS_DEV_MANUF_MODEL!$A$2:$E$1000,MATCH(1,([1]ITS_DEV_MANUF_MODEL!$E$2:$E$1000=\"VDS\")*([1]ITS_DEV_MANUF_MODEL!$D$2:$D$1000='External_Sensor (Desc)'!$G30),0),1))","v":""},{"$f":"IF('External_Sensor (Desc)'!$G30=\"\",\"\",INDEX([1]ITS_DEV_MANUF_MODEL!$A$2:$E$1000,MATCH(1,([1]ITS_DEV_MANUF_MODEL!$E$2:$E$1000=\"VDS\")*([1]ITS_DEV_MANUF_MODEL!$D$2:$D$1000='External_Sensor (Desc)'!$G30),0),2))","v":""},{"$f":"IF('External_Sensor (Desc)'!I30=\"\",\"\",'External_Sensor (Desc)'!I30)","v":""},{"$f":"IF('External_Sensor (Desc)'!J30=\"\",\"\",'External_Sensor (Desc)'!J30)","v":""},{"$f":"IF('External_Sensor (Desc)'!K30=\"\",\"\",'External_Sensor (Desc)'!K30)","v":""},{"$f":"IF('External_Sensor (Desc)'!L30=\"\",\"\",'External_Sensor (Desc)'!L30)","v":""},{"$f":"IF('External_Sensor (Desc)'!M30=\"\",\"\",'External_Sensor (Desc)'!M30)","v":""}]
[{"$f":"IF('External_Sensor (Desc)'!A31=\"\",\"\",'External_Sensor (Desc)'!A31)","v":""},{"$f":"IF('External_Sensor (Desc)'!B31=\"\",\"\",\"1987\")","v":""},{"$f":"IF('External_Sensor (Desc)'!B31=\"\",\"\",'External_Sensor (Desc)'!B31)","v":""},{"$f":"IF('External_Sensor (Desc)'!C31=\"\",\"\",'External_Sensor (Desc)'!C31)","v":""},{"$f":"IF('External_Sensor (Desc)'!D31=\"\",\"\",'External_Sensor (Desc)'!D31)","v":""},{"$f":"IF('External_Sensor (Desc)'!E31=\"\",\"\",INDEX([1]WWVDS_USAGE!$A$2:$A$4,MATCH('External_Sensor (Desc)'!$E31,[1]!MASTER_SENSOR_USAGE_DESC[#Data],0),0))","v":""},{"$f":"IF('External_Sensor (Desc)'!F31=\"\",\"\",INDEX([1]SENSOR_TYPE!$A$2:$A$15,MATCH('External_Sensor (Desc)'!$F31,[1]!MASTER_SENSOR_TYPE_DESC[#Data],0),0))","v":""},{"$f":"IF('External_Sensor (Desc)'!$G31=\"\",\"\",INDEX([1]ITS_DEV_MANUF_MODEL!$A$2:$E$1000,MATCH(1,([1]ITS_DEV_MANUF_MODEL!$E$2:$E$1000=\"VDS\")*([1]ITS_DEV_MANUF_MODEL!$D$2:$D$1000='External_Sensor (Desc)'!$G31),0),1))","v":""},{"$f":"IF('External_Sensor (Desc)'!$G31=\"\",\"\",INDEX([1]ITS_DEV_MANUF_MODEL!$A$2:$E$1000,MATCH(1,([1]ITS_DEV_MANUF_MODEL!$E$2:$E$1000=\"VDS\")*([1]ITS_DEV_MANUF_MODEL!$D$2:$D$1000='External_Sensor (Desc)'!$G31),0),2))","v":""},{"$f":"IF('External_Sensor (Desc)'!I31=\"\",\"\",'External_Sensor (Desc)'!I31)","v":""},{"$f":"IF('External_Sensor (Desc)'!J31=\"\",\"\",'External_Sensor (Desc)'!J31)","v":""},{"$f":"IF('External_Sensor (Desc)'!K31=\"\",\"\",'External_Sensor (Desc)'!K31)","v":""},{"$f":"IF('External_Sensor (Desc)'!L31=\"\",\"\",'External_Sensor (Desc)'!L31)","v":""},{"$f":"IF('External_Sensor (Desc)'!M31=\"\",\"\",'External_Sensor (Desc)'!M31)","v":""}]
[{"$f":"IF('External_Sensor (Desc)'!A32=\"\",\"\",'External_Sensor (Desc)'!A32)","v":""},{"$f":"IF('External_Sensor (Desc)'!B32=\"\",\"\",\"1987\")","v":""},{"$f":"IF('External_Sensor (Desc)'!B32=\"\",\"\",'External_Sensor (Desc)'!B32)","v":""},{"$f":"IF('External_Sensor (Desc)'!C32=\"\",\"\",'External_Sensor (Desc)'!C32)","v":""},{"$f":"IF('External_Sensor (Desc)'!D32=\"\",\"\",'External_Sensor (Desc)'!D32)","v":""},{"$f":"IF('External_Sensor (Desc)'!E32=\"\",\"\",INDEX([1]WWVDS_USAGE!$A$2:$A$4,MATCH('External_Sensor (Desc)'!$E32,[1]!MASTER_SENSOR_USAGE_DESC[#Data],0),0))","v":""},{"$f":"IF('External_Sensor (Desc)'!F32=\"\",\"\",INDEX([1]SENSOR_TYPE!$A$2:$A$15,MATCH('External_Sensor (Desc)'!$F32,[1]!MASTER_SENSOR_TYPE_DESC[#Data],0),0))","v":""},{"$f":"IF('External_Sensor (Desc)'!$G32=\"\",\"\",INDEX([1]ITS_DEV_MANUF_MODEL!$A$2:$E$1000,MATCH(1,([1]ITS_DEV_MANUF_MODEL!$E$2:$E$1000=\"VDS\")*([1]ITS_DEV_MANUF_MODEL!$D$2:$D$1000='External_Sensor (Desc)'!$G32),0),1))","v":""},{"$f":"IF('External_Sensor (Desc)'!$G32=\"\",\"\",INDEX([1]ITS_DEV_MANUF_MODEL!$A$2:$E$1000,MATCH(1,([1]ITS_DEV_MANUF_MODEL!$E$2:$E$1000=\"VDS\")*([1]ITS_DEV_MANUF_MODEL!$D$2:$D$1000='External_Sensor (Desc)'!$G32),0),2))","v":""},{"$f":"IF('External_Sensor (Desc)'!I32=\"\",\"\",'External_Sensor (Desc)'!I32)","v":""},{"$f":"IF('External_Sensor (Desc)'!J32=\"\",\"\",'External_Sensor (Desc)'!J32)","v":""},{"$f":"IF('External_Sensor (Desc)'!K32=\"\",\"\",'External_Sensor (Desc)'!K32)","v":""},{"$f":"IF('External_Sensor (Desc)'!L32=\"\",\"\",'External_Sensor (Desc)'!L32)","v":""},{"$f":"IF('External_Sensor (Desc)'!M32=\"\",\"\",'External_Sensor (Desc)'!M32)","v":""}]
[{"$f":"IF('External_Sensor (Desc)'!A33=\"\",\"\",'External_Sensor (Desc)'!A33)","v":""},{"$f":"IF('External_Sensor (Desc)'!B33=\"\",\"\",\"1987\")","v":""},{"$f":"IF('External_Sensor (Desc)'!B33=\"\",\"\",'External_Sensor (Desc)'!B33)","v":""},{"$f":"IF('External_Sensor (Desc)'!C33=\"\",\"\",'External_Sensor (Desc)'!C33)","v":""},{"$f":"IF('External_Sensor (Desc)'!D33=\"\",\"\",'External_Sensor (Desc)'!D33)","v":""},{"$f":"IF('External_Sensor (Desc)'!E33=\"\",\"\",INDEX([1]WWVDS_USAGE!$A$2:$A$4,MATCH('External_Sensor (Desc)'!$E33,[1]!MASTER_SENSOR_USAGE_DESC[#Data],0),0))","v":""},{"$f":"IF('External_Sensor (Desc)'!F33=\"\",\"\",INDEX([1]SENSOR_TYPE!$A$2:$A$15,MATCH('External_Sensor (Desc)'!$F33,[1]!MASTER_SENSOR_TYPE_DESC[#Data],0),0))","v":""},{"$f":"IF('External_Sensor (Desc)'!$G33=\"\",\"\",INDEX([1]ITS_DEV_MANUF_MODEL!$A$2:$E$1000,MATCH(1,([1]ITS_DEV_MANUF_MODEL!$E$2:$E$1000=\"VDS\")*([1]ITS_DEV_MANUF_MODEL!$D$2:$D$1000='External_Sensor (Desc)'!$G33),0),1))","v":""},{"$f":"IF('External_Sensor (Desc)'!$G33=\"\",\"\",INDEX([1]ITS_DEV_MANUF_MODEL!$A$2:$E$1000,MATCH(1,([1]ITS_DEV_MANUF_MODEL!$E$2:$E$1000=\"VDS\")*([1]ITS_DEV_MANUF_MODEL!$D$2:$D$1000='External_Sensor (Desc)'!$G33),0),2))","v":""},{"$f":"IF('External_Sensor (Desc)'!I33=\"\",\"\",'External_Sensor (Desc)'!I33)","v":""},{"$f":"IF('External_Sensor (Desc)'!J33=\"\",\"\",'External_Sensor (Desc)'!J33)","v":""},{"$f":"IF('External_Sensor (Desc)'!K33=\"\",\"\",'External_Sensor (Desc)'!K33)","v":""},{"$f":"IF('External_Sensor (Desc)'!L33=\"\",\"\",'External_Sensor (Desc)'!L33)","v":""},{"$f":"IF('External_Sensor (Desc)'!M33=\"\",\"\",'External_Sensor (Desc)'!M33)","v":""}]
[{"$f":"IF('External_Sensor (Desc)'!A34=\"\",\"\",'External_Sensor (Desc)'!A34)","v":""},{"$f":"IF('External_Sensor (Desc)'!B34=\"\",\"\",\"1987\")","v":""},{"$f":"IF('External_Sensor (Desc)'!B34=\"\",\"\",'External_Sensor (Desc)'!B34)","v":""},{"$f":"IF('External_Sensor (Desc)'!C34=\"\",\"\",'External_Sensor (Desc)'!C34)","v":""},{"$f":"IF('External_Sensor (Desc)'!D34=\"\",\"\",'External_Sensor (Desc)'!D34)","v":""},{"$f":"IF('External_Sensor (Desc)'!E34=\"\",\"\",INDEX([1]WWVDS_USAGE!$A$2:$A$4,MATCH('External_Sensor (Desc)'!$E34,[1]!MASTER_SENSOR_USAGE_DESC[#Data],0),0))","v":""},{"$f":"IF('External_Sensor (Desc)'!F34=\"\",\"\",INDEX([1]SENSOR_TYPE!$A$2:$A$15,MATCH('External_Sensor (Desc)'!$F34,[1]!MASTER_SENSOR_TYPE_DESC[#Data],0),0))","v":""},{"$f":"IF('External_Sensor (Desc)'!$G34=\"\",\"\",INDEX([1]ITS_DEV_MANUF_MODEL!$A$2:$E$1000,MATCH(1,([1]ITS_DEV_MANUF_MODEL!$E$2:$E$1000=\"VDS\")*([1]ITS_DEV_MANUF_MODEL!$D$2:$D$1000='External_Sensor (Desc)'!$G34),0),1))","v":""},{"$f":"IF('External_Sensor (Desc)'!$G34=\"\",\"\",INDEX([1]ITS_DEV_MANUF_MODEL!$A$2:$E$1000,MATCH(1,([1]ITS_DEV_MANUF_MODEL!$E$2:$E$1000=\"VDS\")*([1]ITS_DEV_MANUF_MODEL!$D$2:$D$1000='External_Sensor (Desc)'!$G34),0),2))","v":""},{"$f":"IF('External_Sensor (Desc)'!I34=\"\",\"\",'External_Sensor (Desc)'!I34)","v":""},{"$f":"IF('External_Sensor (Desc)'!J34=\"\",\"\",'External_Sensor (Desc)'!J34)","v":""},{"$f":"IF('External_Sensor (Desc)'!K34=\"\",\"\",'External_Sensor (Desc)'!K34)","v":""},{"$f":"IF('External_Sensor (Desc)'!L34=\"\",\"\",'External_Sensor (Desc)'!L34)","v":""},{"$f":"IF('External_Sensor (Desc)'!M34=\"\",\"\",'External_Sensor (Desc)'!M34)","v":""}]
[{"$f":"IF('External_Sensor (Desc)'!A35=\"\",\"\",'External_Sensor (Desc)'!A35)","v":""},{"$f":"IF('External_Sensor (Desc)'!B35=\"\",\"\",\"1987\")","v":""},{"$f":"IF('External_Sensor (Desc)'!B35=\"\",\"\",'External_Sensor (Desc)'!B35)","v":""},{"$f":"IF('External_Sensor (Desc)'!C35=\"\",\"\",'External_Sensor (Desc)'!C35)","v":""},{"$f":"IF('External_Sensor (Desc)'!D35=\"\",\"\",'External_Sensor (Desc)'!D35)","v":""},{"$f":"IF('External_Sensor (Desc)'!E35=\"\",\"\",INDEX([1]WWVDS_USAGE!$A$2:$A$4,MATCH('External_Sensor (Desc)'!$E35,[1]!MASTER_SENSOR_USAGE_DESC[#Data],0),0))","v":""},{"$f":"IF('External_Sensor (Desc)'!F35=\"\",\"\",INDEX([1]SENSOR_TYPE!$A$2:$A$15,MATCH('External_Sensor (Desc)'!$F35,[1]!MASTER_SENSOR_TYPE_DESC[#Data],0),0))","v":""},{"$f":"IF('External_Sensor (Desc)'!$G35=\"\",\"\",INDEX([1]ITS_DEV_MANUF_MODEL!$A$2:$E$1000,MATCH(1,([1]ITS_DEV_MANUF_MODEL!$E$2:$E$1000=\"VDS\")*([1]ITS_DEV_MANUF_MODEL!$D$2:$D$1000='External_Sensor (Desc)'!$G35),0),1))","v":""},{"$f":"IF('External_Sensor (Desc)'!$G35=\"\",\"\",INDEX([1]ITS_DEV_MANUF_MODEL!$A$2:$E$1000,MATCH(1,([1]ITS_DEV_MANUF_MODEL!$E$2:$E$1000=\"VDS\")*([1]ITS_DEV_MANUF_MODEL!$D$2:$D$1000='External_Sensor (Desc)'!$G35),0),2))","v":""},{"$f":"IF('External_Sensor (Desc)'!I35=\"\",\"\",'External_Sensor (Desc)'!I35)","v":""},{"$f":"IF('External_Sensor (Desc)'!J35=\"\",\"\",'External_Sensor (Desc)'!J35)","v":""},{"$f":"IF('External_Sensor (Desc)'!K35=\"\",\"\",'External_Sensor (Desc)'!K35)","v":""},{"$f":"IF('External_Sensor (Desc)'!L35=\"\",\"\",'External_Sensor (Desc)'!L35)","v":""},{"$f":"IF('External_Sensor (Desc)'!M35=\"\",\"\",'External_Sensor (Desc)'!M35)","v":""}]
[{"$f":"IF('External_Sensor (Desc)'!A36=\"\",\"\",'External_Sensor (Desc)'!A36)","v":""},{"$f":"IF('External_Sensor (Desc)'!B36=\"\",\"\",\"1987\")","v":""},{"$f":"IF('External_Sensor (Desc)'!B36=\"\",\"\",'External_Sensor (Desc)'!B36)","v":""},{"$f":"IF('External_Sensor (Desc)'!C36=\"\",\"\",'External_Sensor (Desc)'!C36)","v":""},{"$f":"IF('External_Sensor (Desc)'!D36=\"\",\"\",'External_Sensor (Desc)'!D36)","v":""},{"$f":"IF('External_Sensor (Desc)'!E36=\"\",\"\",INDEX([1]WWVDS_USAGE!$A$2:$A$4,MATCH('External_Sensor (Desc)'!$E36,[1]!MASTER_SENSOR_USAGE_DESC[#Data],0),0))","v":""},{"$f":"IF('External_Sensor (Desc)'!F36=\"\",\"\",INDEX([1]SENSOR_TYPE!$A$2:$A$15,MATCH('External_Sensor (Desc)'!$F36,[1]!MASTER_SENSOR_TYPE_DESC[#Data],0),0))","v":""},{"$f":"IF('External_Sensor (Desc)'!$G36=\"\",\"\",INDEX([1]ITS_DEV_MANUF_MODEL!$A$2:$E$1000,MATCH(1,([1]ITS_DEV_MANUF_MODEL!$E$2:$E$1000=\"VDS\")*([1]ITS_DEV_MANUF_MODEL!$D$2:$D$1000='External_Sensor (Desc)'!$G36),0),1))","v":""},{"$f":"IF('External_Sensor (Desc)'!$G36=\"\",\"\",INDEX([1]ITS_DEV_MANUF_MODEL!$A$2:$E$1000,MATCH(1,([1]ITS_DEV_MANUF_MODEL!$E$2:$E$1000=\"VDS\")*([1]ITS_DEV_MANUF_MODEL!$D$2:$D$1000='External_Sensor (Desc)'!$G36),0),2))","v":""},{"$f":"IF('External_Sensor (Desc)'!I36=\"\",\"\",'External_Sensor (Desc)'!I36)","v":""},{"$f":"IF('External_Sensor (Desc)'!J36=\"\",\"\",'External_Sensor (Desc)'!J36)","v":""},{"$f":"IF('External_Sensor (Desc)'!K36=\"\",\"\",'External_Sensor (Desc)'!K36)","v":""},{"$f":"IF('External_Sensor (Desc)'!L36=\"\",\"\",'External_Sensor (Desc)'!L36)","v":""},{"$f":"IF('External_Sensor (Desc)'!M36=\"\",\"\",'External_Sensor (Desc)'!M36)","v":""}]
[{"$f":"IF('External_Sensor (Desc)'!A37=\"\",\"\",'External_Sensor (Desc)'!A37)","v":""},{"$f":"IF('External_Sensor (Desc)'!B37=\"\",\"\",\"1987\")","v":""},{"$f":"IF('External_Sensor (Desc)'!B37=\"\",\"\",'External_Sensor (Desc)'!B37)","v":""},{"$f":"IF('External_Sensor (Desc)'!C37=\"\",\"\",'External_Sensor (Desc)'!C37)","v":""},{"$f":"IF('External_Sensor (Desc)'!D37=\"\",\"\",'External_Sensor (Desc)'!D37)","v":""},{"$f":"IF('External_Sensor (Desc)'!E37=\"\",\"\",INDEX([1]WWVDS_USAGE!$A$2:$A$4,MATCH('External_Sensor (Desc)'!$E37,[1]!MASTER_SENSOR_USAGE_DESC[#Data],0),0))","v":""},{"$f":"IF('External_Sensor (Desc)'!F37=\"\",\"\",INDEX([1]SENSOR_TYPE!$A$2:$A$15,MATCH('External_Sensor (Desc)'!$F37,[1]!MASTER_SENSOR_TYPE_DESC[#Data],0),0))","v":""},{"$f":"IF('External_Sensor (Desc)'!$G37=\"\",\"\",INDEX([1]ITS_DEV_MANUF_MODEL!$A$2:$E$1000,MATCH(1,([1]ITS_DEV_MANUF_MODEL!$E$2:$E$1000=\"VDS\")*([1]ITS_DEV_MANUF_MODEL!$D$2:$D$1000='External_Sensor (Desc)'!$G37),0),1))","v":""},{"$f":"IF('External_Sensor (Desc)'!$G37=\"\",\"\",INDEX([1]ITS_DEV_MANUF_MODEL!$A$2:$E$1000,MATCH(1,([1]ITS_DEV_MANUF_MODEL!$E$2:$E$1000=\"VDS\")*([1]ITS_DEV_MANUF_MODEL!$D$2:$D$1000='External_Sensor (Desc)'!$G37),0),2))","v":""},{"$f":"IF('External_Sensor (Desc)'!I37=\"\",\"\",'External_Sensor (Desc)'!I37)","v":""},{"$f":"IF('External_Sensor (Desc)'!J37=\"\",\"\",'External_Sensor (Desc)'!J37)","v":""},{"$f":"IF('External_Sensor (Desc)'!K37=\"\",\"\",'External_Sensor (Desc)'!K37)","v":""},{"$f":"IF('External_Sensor (Desc)'!L37=\"\",\"\",'External_Sensor (Desc)'!L37)","v":""},{"$f":"IF('External_Sensor (Desc)'!M37=\"\",\"\",'External_Sensor (Desc)'!M37)","v":""}]
[{"$f":"IF('External_Sensor (Desc)'!A38=\"\",\"\",'External_Sensor (Desc)'!A38)","v":""},{"$f":"IF('External_Sensor (Desc)'!B38=\"\",\"\",\"1987\")","v":""},{"$f":"IF('External_Sensor (Desc)'!B38=\"\",\"\",'External_Sensor (Desc)'!B38)","v":""},{"$f":"IF('External_Sensor (Desc)'!C38=\"\",\"\",'External_Sensor (Desc)'!C38)","v":""},{"$f":"IF('External_Sensor (Desc)'!D38=\"\",\"\",'External_Sensor (Desc)'!D38)","v":""},{"$f":"IF('External_Sensor (Desc)'!E38=\"\",\"\",INDEX([1]WWVDS_USAGE!$A$2:$A$4,MATCH('External_Sensor (Desc)'!$E38,[1]!MASTER_SENSOR_USAGE_DESC[#Data],0),0))","v":""},{"$f":"IF('External_Sensor (Desc)'!F38=\"\",\"\",INDEX([1]SENSOR_TYPE!$A$2:$A$15,MATCH('External_Sensor (Desc)'!$F38,[1]!MASTER_SENSOR_TYPE_DESC[#Data],0),0))","v":""},{"$f":"IF('External_Sensor (Desc)'!$G38=\"\",\"\",INDEX([1]ITS_DEV_MANUF_MODEL!$A$2:$E$1000,MATCH(1,([1]ITS_DEV_MANUF_MODEL!$E$2:$E$1000=\"VDS\")*([1]ITS_DEV_MANUF_MODEL!$D$2:$D$1000='External_Sensor (Desc)'!$G38),0),1))","v":""},{"$f":"IF('External_Sensor (Desc)'!$G38=\"\",\"\",INDEX([1]ITS_DEV_MANUF_MODEL!$A$2:$E$1000,MATCH(1,([1]ITS_DEV_MANUF_MODEL!$E$2:$E$1000=\"VDS\")*([1]ITS_DEV_MANUF_MODEL!$D$2:$D$1000='External_Sensor (Desc)'!$G38),0),2))","v":""},{"$f":"IF('External_Sensor (Desc)'!I38=\"\",\"\",'External_Sensor (Desc)'!I38)","v":""},{"$f":"IF('External_Sensor (Desc)'!J38=\"\",\"\",'External_Sensor (Desc)'!J38)","v":""},{"$f":"IF('External_Sensor (Desc)'!K38=\"\",\"\",'External_Sensor (Desc)'!K38)","v":""},{"$f":"IF('External_Sensor (Desc)'!L38=\"\",\"\",'External_Sensor (Desc)'!L38)","v":""},{"$f":"IF('External_Sensor (Desc)'!M38=\"\",\"\",'External_Sensor (Desc)'!M38)","v":""}]
[{"$f":"IF('External_Sensor (Desc)'!A39=\"\",\"\",'External_Sensor (Desc)'!A39)","v":""},{"$f":"IF('External_Sensor (Desc)'!B39=\"\",\"\",\"1987\")","v":""},{"$f":"IF('External_Sensor (Desc)'!B39=\"\",\"\",'External_Sensor (Desc)'!B39)","v":""},{"$f":"IF('External_Sensor (Desc)'!C39=\"\",\"\",'External_Sensor (Desc)'!C39)","v":""},{"$f":"IF('External_Sensor (Desc)'!D39=\"\",\"\",'External_Sensor (Desc)'!D39)","v":""},{"$f":"IF('External_Sensor (Desc)'!E39=\"\",\"\",INDEX([1]WWVDS_USAGE!$A$2:$A$4,MATCH('External_Sensor (Desc)'!$E39,[1]!MASTER_SENSOR_USAGE_DESC[#Data],0),0))","v":""},{"$f":"IF('External_Sensor (Desc)'!F39=\"\",\"\",INDEX([1]SENSOR_TYPE!$A$2:$A$15,MATCH('External_Sensor (Desc)'!$F39,[1]!MASTER_SENSOR_TYPE_DESC[#Data],0),0))","v":""},{"$f":"IF('External_Sensor (Desc)'!$G39=\"\",\"\",INDEX([1]ITS_DEV_MANUF_MODEL!$A$2:$E$1000,MATCH(1,([1]ITS_DEV_MANUF_MODEL!$E$2:$E$1000=\"VDS\")*([1]ITS_DEV_MANUF_MODEL!$D$2:$D$1000='External_Sensor (Desc)'!$G39),0),1))","v":""},{"$f":"IF('External_Sensor (Desc)'!$G39=\"\",\"\",INDEX([1]ITS_DEV_MANUF_MODEL!$A$2:$E$1000,MATCH(1,([1]ITS_DEV_MANUF_MODEL!$E$2:$E$1000=\"VDS\")*([1]ITS_DEV_MANUF_MODEL!$D$2:$D$1000='External_Sensor (Desc)'!$G39),0),2))","v":""},{"$f":"IF('External_Sensor (Desc)'!I39=\"\",\"\",'External_Sensor (Desc)'!I39)","v":""},{"$f":"IF('External_Sensor (Desc)'!J39=\"\",\"\",'External_Sensor (Desc)'!J39)","v":""},{"$f":"IF('External_Sensor (Desc)'!K39=\"\",\"\",'External_Sensor (Desc)'!K39)","v":""},{"$f":"IF('External_Sensor (Desc)'!L39=\"\",\"\",'External_Sensor (Desc)'!L39)","v":""},{"$f":"IF('External_Sensor (Desc)'!M39=\"\",\"\",'External_Sensor (Desc)'!M39)","v":""}]
[{"$f":"IF('External_Sensor (Desc)'!A40=\"\",\"\",'External_Sensor (Desc)'!A40)","v":""},{"$f":"IF('External_Sensor (Desc)'!B40=\"\",\"\",\"1987\")","v":""},{"$f":"IF('External_Sensor (Desc)'!B40=\"\",\"\",'External_Sensor (Desc)'!B40)","v":""},{"$f":"IF('External_Sensor (Desc)'!C40=\"\",\"\",'External_Sensor (Desc)'!C40)","v":""},{"$f":"IF('External_Sensor (Desc)'!D40=\"\",\"\",'External_Sensor (Desc)'!D40)","v":""},{"$f":"IF('External_Sensor (Desc)'!E40=\"\",\"\",INDEX([1]WWVDS_USAGE!$A$2:$A$4,MATCH('External_Sensor (Desc)'!$E40,[1]!MASTER_SENSOR_USAGE_DESC[#Data],0),0))","v":""},{"$f":"IF('External_Sensor (Desc)'!F40=\"\",\"\",INDEX([1]SENSOR_TYPE!$A$2:$A$15,MATCH('External_Sensor (Desc)'!$F40,[1]!MASTER_SENSOR_TYPE_DESC[#Data],0),0))","v":""},{"$f":"IF('External_Sensor (Desc)'!$G40=\"\",\"\",INDEX([1]ITS_DEV_MANUF_MODEL!$A$2:$E$1000,MATCH(1,([1]ITS_DEV_MANUF_MODEL!$E$2:$E$1000=\"VDS\")*([1]ITS_DEV_MANUF_MODEL!$D$2:$D$1000='External_Sensor (Desc)'!$G40),0),1))","v":""},{"$f":"IF('External_Sensor (Desc)'!$G40=\"\",\"\",INDEX([1]ITS_DEV_MANUF_MODEL!$A$2:$E$1000,MATCH(1,([1]ITS_DEV_MANUF_MODEL!$E$2:$E$1000=\"VDS\")*([1]ITS_DEV_MANUF_MODEL!$D$2:$D$1000='External_Sensor (Desc)'!$G40),0),2))","v":""},{"$f":"IF('External_Sensor (Desc)'!I40=\"\",\"\",'External_Sensor (Desc)'!I40)","v":""},{"$f":"IF('External_Sensor (Desc)'!J40=\"\",\"\",'External_Sensor (Desc)'!J40)","v":""},{"$f":"IF('External_Sensor (Desc)'!K40=\"\",\"\",'External_Sensor (Desc)'!K40)","v":""},{"$f":"IF('External_Sensor (Desc)'!L40=\"\",\"\",'External_Sensor (Desc)'!L40)","v":""},{"$f":"IF('External_Sensor (Desc)'!M40=\"\",\"\",'External_Sensor (Desc)'!M40)","v":""}]
[{"$f":"IF('External_Sensor (Desc)'!A41=\"\",\"\",'External_Sensor (Desc)'!A41)","v":""},{"$f":"IF('External_Sensor (Desc)'!B41=\"\",\"\",\"1987\")","v":""},{"$f":"IF('External_Sensor (Desc)'!B41=\"\",\"\",'External_Sensor (Desc)'!B41)","v":""},{"$f":"IF('External_Sensor (Desc)'!C41=\"\",\"\",'External_Sensor (Desc)'!C41)","v":""},{"$f":"IF('External_Sensor (Desc)'!D41=\"\",\"\",'External_Sensor (Desc)'!D41)","v":""},{"$f":"IF('External_Sensor (Desc)'!E41=\"\",\"\",INDEX([1]WWVDS_USAGE!$A$2:$A$4,MATCH('External_Sensor (Desc)'!$E41,[1]!MASTER_SENSOR_USAGE_DESC[#Data],0),0))","v":""},{"$f":"IF('External_Sensor (Desc)'!F41=\"\",\"\",INDEX([1]SENSOR_TYPE!$A$2:$A$15,MATCH('External_Sensor (Desc)'!$F41,[1]!MASTER_SENSOR_TYPE_DESC[#Data],0),0))","v":""},{"$f":"IF('External_Sensor (Desc)'!$G41=\"\",\"\",INDEX([1]ITS_DEV_MANUF_MODEL!$A$2:$E$1000,MATCH(1,([1]ITS_DEV_MANUF_MODEL!$E$2:$E$1000=\"VDS\")*([1]ITS_DEV_MANUF_MODEL!$D$2:$D$1000='External_Sensor (Desc)'!$G41),0),1))","v":""},{"$f":"IF('External_Sensor (Desc)'!$G41=\"\",\"\",INDEX([1]ITS_DEV_MANUF_MODEL!$A$2:$E$1000,MATCH(1,([1]ITS_DEV_MANUF_MODEL!$E$2:$E$1000=\"VDS\")*([1]ITS_DEV_MANUF_MODEL!$D$2:$D$1000='External_Sensor (Desc)'!$G41),0),2))","v":""},{"$f":"IF('External_Sensor (Desc)'!I41=\"\",\"\",'External_Sensor (Desc)'!I41)","v":""},{"$f":"IF('External_Sensor (Desc)'!J41=\"\",\"\",'External_Sensor (Desc)'!J41)","v":""},{"$f":"IF('External_Sensor (Desc)'!K41=\"\",\"\",'External_Sensor (Desc)'!K41)","v":""},{"$f":"IF('External_Sensor (Desc)'!L41=\"\",\"\",'External_Sensor (Desc)'!L41)","v":""},{"$f":"IF('External_Sensor (Desc)'!M41=\"\",\"\",'External_Sensor (Desc)'!M41)","v":""}]
[{"$f":"IF('External_Sensor (Desc)'!A42=\"\",\"\",'External_Sensor (Desc)'!A42)","v":""},{"$f":"IF('External_Sensor (Desc)'!B42=\"\",\"\",\"1987\")","v":""},{"$f":"IF('External_Sensor (Desc)'!B42=\"\",\"\",'External_Sensor (Desc)'!B42)","v":""},{"$f":"IF('External_Sensor (Desc)'!C42=\"\",\"\",'External_Sensor (Desc)'!C42)","v":""},{"$f":"IF('External_Sensor (Desc)'!D42=\"\",\"\",'External_Sensor (Desc)'!D42)","v":""},{"$f":"IF('External_Sensor (Desc)'!E42=\"\",\"\",INDEX([1]WWVDS_USAGE!$A$2:$A$4,MATCH('External_Sensor (Desc)'!$E42,[1]!MASTER_SENSOR_USAGE_DESC[#Data],0),0))","v":""},{"$f":"IF('External_Sensor (Desc)'!F42=\"\",\"\",INDEX([1]SENSOR_TYPE!$A$2:$A$15,MATCH('External_Sensor (Desc)'!$F42,[1]!MASTER_SENSOR_TYPE_DESC[#Data],0),0))","v":""},{"$f":"IF('External_Sensor (Desc)'!$G42=\"\",\"\",INDEX([1]ITS_DEV_MANUF_MODEL!$A$2:$E$1000,MATCH(1,([1]ITS_DEV_MANUF_MODEL!$E$2:$E$1000=\"VDS\")*([1]ITS_DEV_MANUF_MODEL!$D$2:$D$1000='External_Sensor (Desc)'!$G42),0),1))","v":""},{"$f":"IF('External_Sensor (Desc)'!$G42=\"\",\"\",INDEX([1]ITS_DEV_MANUF_MODEL!$A$2:$E$1000,MATCH(1,([1]ITS_DEV_MANUF_MODEL!$E$2:$E$1000=\"VDS\")*([1]ITS_DEV_MANUF_MODEL!$D$2:$D$1000='External_Sensor (Desc)'!$G42),0),2))","v":""},{"$f":"IF('External_Sensor (Desc)'!I42=\"\",\"\",'External_Sensor (Desc)'!I42)","v":""},{"$f":"IF('External_Sensor (Desc)'!J42=\"\",\"\",'External_Sensor (Desc)'!J42)","v":""},{"$f":"IF('External_Sensor (Desc)'!K42=\"\",\"\",'External_Sensor (Desc)'!K42)","v":""},{"$f":"IF('External_Sensor (Desc)'!L42=\"\",\"\",'External_Sensor (Desc)'!L42)","v":""},{"$f":"IF('External_Sensor (Desc)'!M42=\"\",\"\",'External_Sensor (Desc)'!M42)","v":""}]
[{"$f":"IF('External_Sensor (Desc)'!A43=\"\",\"\",'External_Sensor (Desc)'!A43)","v":""},{"$f":"IF('External_Sensor (Desc)'!B43=\"\",\"\",\"1987\")","v":""},{"$f":"IF('External_Sensor (Desc)'!B43=\"\",\"\",'External_Sensor (Desc)'!B43)","v":""},{"$f":"IF('External_Sensor (Desc)'!C43=\"\",\"\",'External_Sensor (Desc)'!C43)","v":""},{"$f":"IF('External_Sensor (Desc)'!D43=\"\",\"\",'External_Sensor (Desc)'!D43)","v":""},{"$f":"IF('External_Sensor (Desc)'!E43=\"\",\"\",INDEX([1]WWVDS_USAGE!$A$2:$A$4,MATCH('External_Sensor (Desc)'!$E43,[1]!MASTER_SENSOR_USAGE_DESC[#Data],0),0))","v":""},{"$f":"IF('External_Sensor (Desc)'!F43=\"\",\"\",INDEX([1]SENSOR_TYPE!$A$2:$A$15,MATCH('External_Sensor (Desc)'!$F43,[1]!MASTER_SENSOR_TYPE_DESC[#Data],0),0))","v":""},{"$f":"IF('External_Sensor (Desc)'!$G43=\"\",\"\",INDEX([1]ITS_DEV_MANUF_MODEL!$A$2:$E$1000,MATCH(1,([1]ITS_DEV_MANUF_MODEL!$E$2:$E$1000=\"VDS\")*([1]ITS_DEV_MANUF_MODEL!$D$2:$D$1000='External_Sensor (Desc)'!$G43),0),1))","v":""},{"$f":"IF('External_Sensor (Desc)'!$G43=\"\",\"\",INDEX([1]ITS_DEV_MANUF_MODEL!$A$2:$E$1000,MATCH(1,([1]ITS_DEV_MANUF_MODEL!$E$2:$E$1000=\"VDS\")*([1]ITS_DEV_MANUF_MODEL!$D$2:$D$1000='External_Sensor (Desc)'!$G43),0),2))","v":""},{"$f":"IF('External_Sensor (Desc)'!I43=\"\",\"\",'External_Sensor (Desc)'!I43)","v":""},{"$f":"IF('External_Sensor (Desc)'!J43=\"\",\"\",'External_Sensor (Desc)'!J43)","v":""},{"$f":"IF('External_Sensor (Desc)'!K43=\"\",\"\",'External_Sensor (Desc)'!K43)","v":""},{"$f":"IF('External_Sensor (Desc)'!L43=\"\",\"\",'External_Sensor (Desc)'!L43)","v":""},{"$f":"IF('External_Sensor (Desc)'!M43=\"\",\"\",'External_Sensor (Desc)'!M43)","v":""}]
[{"$f":"IF('External_Sensor (Desc)'!A44=\"\",\"\",'External_Sensor (Desc)'!A44)","v":""},{"$f":"IF('External_Sensor (Desc)'!B44=\"\",\"\",\"1987\")","v":""},{"$f":"IF('External_Sensor (Desc)'!B44=\"\",\"\",'External_Sensor (Desc)'!B44)","v":""},{"$f":"IF('External_Sensor (Desc)'!C44=\"\",\"\",'External_Sensor (Desc)'!C44)","v":""},{"$f":"IF('External_Sensor (Desc)'!D44=\"\",\"\",'External_Sensor (Desc)'!D44)","v":""},{"$f":"IF('External_Sensor (Desc)'!E44=\"\",\"\",INDEX([1]WWVDS_USAGE!$A$2:$A$4,MATCH('External_Sensor (Desc)'!$E44,[1]!MASTER_SENSOR_USAGE_DESC[#Data],0),0))","v":""},{"$f":"IF('External_Sensor (Desc)'!F44=\"\",\"\",INDEX([1]SENSOR_TYPE!$A$2:$A$15,MATCH('External_Sensor (Desc)'!$F44,[1]!MASTER_SENSOR_TYPE_DESC[#Data],0),0))","v":""},{"$f":"IF('External_Sensor (Desc)'!$G44=\"\",\"\",INDEX([1]ITS_DEV_MANUF_MODEL!$A$2:$E$1000,MATCH(1,([1]ITS_DEV_MANUF_MODEL!$E$2:$E$1000=\"VDS\")*([1]ITS_DEV_MANUF_MODEL!$D$2:$D$1000='External_Sensor (Desc)'!$G44),0),1))","v":""},{"$f":"IF('External_Sensor (Desc)'!$G44=\"\",\"\",INDEX([1]ITS_DEV_MANUF_MODEL!$A$2:$E$1000,MATCH(1,([1]ITS_DEV_MANUF_MODEL!$E$2:$E$1000=\"VDS\")*([1]ITS_DEV_MANUF_MODEL!$D$2:$D$1000='External_Sensor (Desc)'!$G44),0),2))","v":""},{"$f":"IF('External_Sensor (Desc)'!I44=\"\",\"\",'External_Sensor (Desc)'!I44)","v":""},{"$f":"IF('External_Sensor (Desc)'!J44=\"\",\"\",'External_Sensor (Desc)'!J44)","v":""},{"$f":"IF('External_Sensor (Desc)'!K44=\"\",\"\",'External_Sensor (Desc)'!K44)","v":""},{"$f":"IF('External_Sensor (Desc)'!L44=\"\",\"\",'External_Sensor (Desc)'!L44)","v":""},{"$f":"IF('External_Sensor (Desc)'!M44=\"\",\"\",'External_Sensor (Desc)'!M44)","v":""}]
[{"$f":"IF('External_Sensor (Desc)'!A45=\"\",\"\",'External_Sensor (Desc)'!A45)","v":""},{"$f":"IF('External_Sensor (Desc)'!B45=\"\",\"\",\"1987\")","v":""},{"$f":"IF('External_Sensor (Desc)'!B45=\"\",\"\",'External_Sensor (Desc)'!B45)","v":""},{"$f":"IF('External_Sensor (Desc)'!C45=\"\",\"\",'External_Sensor (Desc)'!C45)","v":""},{"$f":"IF('External_Sensor (Desc)'!D45=\"\",\"\",'External_Sensor (Desc)'!D45)","v":""},{"$f":"IF('External_Sensor (Desc)'!E45=\"\",\"\",INDEX([1]WWVDS_USAGE!$A$2:$A$4,MATCH('External_Sensor (Desc)'!$E45,[1]!MASTER_SENSOR_USAGE_DESC[#Data],0),0))","v":""},{"$f":"IF('External_Sensor (Desc)'!F45=\"\",\"\",INDEX([1]SENSOR_TYPE!$A$2:$A$15,MATCH('External_Sensor (Desc)'!$F45,[1]!MASTER_SENSOR_TYPE_DESC[#Data],0),0))","v":""},{"$f":"IF('External_Sensor (Desc)'!$G45=\"\",\"\",INDEX([1]ITS_DEV_MANUF_MODEL!$A$2:$E$1000,MATCH(1,([1]ITS_DEV_MANUF_MODEL!$E$2:$E$1000=\"VDS\")*([1]ITS_DEV_MANUF_MODEL!$D$2:$D$1000='External_Sensor (Desc)'!$G45),0),1))","v":""},{"$f":"IF('External_Sensor (Desc)'!$G45=\"\",\"\",INDEX([1]ITS_DEV_MANUF_MODEL!$A$2:$E$1000,MATCH(1,([1]ITS_DEV_MANUF_MODEL!$E$2:$E$1000=\"VDS\")*([1]ITS_DEV_MANUF_MODEL!$D$2:$D$1000='External_Sensor (Desc)'!$G45),0),2))","v":""},{"$f":"IF('External_Sensor (Desc)'!I45=\"\",\"\",'External_Sensor (Desc)'!I45)","v":""},{"$f":"IF('External_Sensor (Desc)'!J45=\"\",\"\",'External_Sensor (Desc)'!J45)","v":""},{"$f":"IF('External_Sensor (Desc)'!K45=\"\",\"\",'External_Sensor (Desc)'!K45)","v":""},{"$f":"IF('External_Sensor (Desc)'!L45=\"\",\"\",'External_Sensor (Desc)'!L45)","v":""},{"$f":"IF('External_Sensor (Desc)'!M45=\"\",\"\",'External_Sensor (Desc)'!M45)","v":""}]
[{"$f":"IF('External_Sensor (Desc)'!A46=\"\",\"\",'External_Sensor (Desc)'!A46)","v":""},{"$f":"IF('External_Sensor (Desc)'!B46=\"\",\"\",\"1987\")","v":""},{"$f":"IF('External_Sensor (Desc)'!B46=\"\",\"\",'External_Sensor (Desc)'!B46)","v":""},{"$f":"IF('External_Sensor (Desc)'!C46=\"\",\"\",'External_Sensor (Desc)'!C46)","v":""},{"$f":"IF('External_Sensor (Desc)'!D46=\"\",\"\",'External_Sensor (Desc)'!D46)","v":""},{"$f":"IF('External_Sensor (Desc)'!E46=\"\",\"\",INDEX([1]WWVDS_USAGE!$A$2:$A$4,MATCH('External_Sensor (Desc)'!$E46,[1]!MASTER_SENSOR_USAGE_DESC[#Data],0),0))","v":""},{"$f":"IF('External_Sensor (Desc)'!F46=\"\",\"\",INDEX([1]SENSOR_TYPE!$A$2:$A$15,MATCH('External_Sensor (Desc)'!$F46,[1]!MASTER_SENSOR_TYPE_DESC[#Data],0),0))","v":""},{"$f":"IF('External_Sensor (Desc)'!$G46=\"\",\"\",INDEX([1]ITS_DEV_MANUF_MODEL!$A$2:$E$1000,MATCH(1,([1]ITS_DEV_MANUF_MODEL!$E$2:$E$1000=\"VDS\")*([1]ITS_DEV_MANUF_MODEL!$D$2:$D$1000='External_Sensor (Desc)'!$G46),0),1))","v":""},{"$f":"IF('External_Sensor (Desc)'!$G46=\"\",\"\",INDEX([1]ITS_DEV_MANUF_MODEL!$A$2:$E$1000,MATCH(1,([1]ITS_DEV_MANUF_MODEL!$E$2:$E$1000=\"VDS\")*([1]ITS_DEV_MANUF_MODEL!$D$2:$D$1000='External_Sensor (Desc)'!$G46),0),2))","v":""},{"$f":"IF('External_Sensor (Desc)'!I46=\"\",\"\",'External_Sensor (Desc)'!I46)","v":""},{"$f":"IF('External_Sensor (Desc)'!J46=\"\",\"\",'External_Sensor (Desc)'!J46)","v":""},{"$f":"IF('External_Sensor (Desc)'!K46=\"\",\"\",'External_Sensor (Desc)'!K46)","v":""},{"$f":"IF('External_Sensor (Desc)'!L46=\"\",\"\",'External_Sensor (Desc)'!L46)","v":""},{"$f":"IF('External_Sensor (Desc)'!M46=\"\",\"\",'External_Sensor (Desc)'!M46)","v":""}]
[{"$f":"IF('External_Sensor (Desc)'!A47=\"\",\"\",'External_Sensor (Desc)'!A47)","v":""},{"$f":"IF('External_Sensor (Desc)'!B47=\"\",\"\",\"1987\")","v":""},{"$f":"IF('External_Sensor (Desc)'!B47=\"\",\"\",'External_Sensor (Desc)'!B47)","v":""},{"$f":"IF('External_Sensor (Desc)'!C47=\"\",\"\",'External_Sensor (Desc)'!C47)","v":""},{"$f":"IF('External_Sensor (Desc)'!D47=\"\",\"\",'External_Sensor (Desc)'!D47)","v":""},{"$f":"IF('External_Sensor (Desc)'!E47=\"\",\"\",INDEX([1]WWVDS_USAGE!$A$2:$A$4,MATCH('External_Sensor (Desc)'!$E47,[1]!MASTER_SENSOR_USAGE_DESC[#Data],0),0))","v":""},{"$f":"IF('External_Sensor (Desc)'!F47=\"\",\"\",INDEX([1]SENSOR_TYPE!$A$2:$A$15,MATCH('External_Sensor (Desc)'!$F47,[1]!MASTER_SENSOR_TYPE_DESC[#Data],0),0))","v":""},{"$f":"IF('External_Sensor (Desc)'!$G47=\"\",\"\",INDEX([1]ITS_DEV_MANUF_MODEL!$A$2:$E$1000,MATCH(1,([1]ITS_DEV_MANUF_MODEL!$E$2:$E$1000=\"VDS\")*([1]ITS_DEV_MANUF_MODEL!$D$2:$D$1000='External_Sensor (Desc)'!$G47),0),1))","v":""},{"$f":"IF('External_Sensor (Desc)'!$G47=\"\",\"\",INDEX([1]ITS_DEV_MANUF_MODEL!$A$2:$E$1000,MATCH(1,([1]ITS_DEV_MANUF_MODEL!$E$2:$E$1000=\"VDS\")*([1]ITS_DEV_MANUF_MODEL!$D$2:$D$1000='External_Sensor (Desc)'!$G47),0),2))","v":""},{"$f":"IF('External_Sensor (Desc)'!I47=\"\",\"\",'External_Sensor (Desc)'!I47)","v":""},{"$f":"IF('External_Sensor (Desc)'!J47=\"\",\"\",'External_Sensor (Desc)'!J47)","v":""},{"$f":"IF('External_Sensor (Desc)'!K47=\"\",\"\",'External_Sensor (Desc)'!K47)","v":""},{"$f":"IF('External_Sensor (Desc)'!L47=\"\",\"\",'External_Sensor (Desc)'!L47)","v":""},{"$f":"IF('External_Sensor (Desc)'!M47=\"\",\"\",'External_Sensor (Desc)'!M47)","v":""}]
[{"$f":"IF('External_Sensor (Desc)'!A48=\"\",\"\",'External_Sensor (Desc)'!A48)","v":""},{"$f":"IF('External_Sensor (Desc)'!B48=\"\",\"\",\"1987\")","v":""},{"$f":"IF('External_Sensor (Desc)'!B48=\"\",\"\",'External_Sensor (Desc)'!B48)","v":""},{"$f":"IF('External_Sensor (Desc)'!C48=\"\",\"\",'External_Sensor (Desc)'!C48)","v":""},{"$f":"IF('External_Sensor (Desc)'!D48=\"\",\"\",'External_Sensor (Desc)'!D48)","v":""},{"$f":"IF('External_Sensor (Desc)'!E48=\"\",\"\",INDEX([1]WWVDS_USAGE!$A$2:$A$4,MATCH('External_Sensor (Desc)'!$E48,[1]!MASTER_SENSOR_USAGE_DESC[#Data],0),0))","v":""},{"$f":"IF('External_Sensor (Desc)'!F48=\"\",\"\",INDEX([1]SENSOR_TYPE!$A$2:$A$15,MATCH('External_Sensor (Desc)'!$F48,[1]!MASTER_SENSOR_TYPE_DESC[#Data],0),0))","v":""},{"$f":"IF('External_Sensor (Desc)'!$G48=\"\",\"\",INDEX([1]ITS_DEV_MANUF_MODEL!$A$2:$E$1000,MATCH(1,([1]ITS_DEV_MANUF_MODEL!$E$2:$E$1000=\"VDS\")*([1]ITS_DEV_MANUF_MODEL!$D$2:$D$1000='External_Sensor (Desc)'!$G48),0),1))","v":""},{"$f":"IF('External_Sensor (Desc)'!$G48=\"\",\"\",INDEX([1]ITS_DEV_MANUF_MODEL!$A$2:$E$1000,MATCH(1,([1]ITS_DEV_MANUF_MODEL!$E$2:$E$1000=\"VDS\")*([1]ITS_DEV_MANUF_MODEL!$D$2:$D$1000='External_Sensor (Desc)'!$G48),0),2))","v":""},{"$f":"IF('External_Sensor (Desc)'!I48=\"\",\"\",'External_Sensor (Desc)'!I48)","v":""},{"$f":"IF('External_Sensor (Desc)'!J48=\"\",\"\",'External_Sensor (Desc)'!J48)","v":""},{"$f":"IF('External_Sensor (Desc)'!K48=\"\",\"\",'External_Sensor (Desc)'!K48)","v":""},{"$f":"IF('External_Sensor (Desc)'!L48=\"\",\"\",'External_Sensor (Desc)'!L48)","v":""},{"$f":"IF('External_Sensor (Desc)'!M48=\"\",\"\",'External_Sensor (Desc)'!M48)","v":""}]
[{"$f":"IF('External_Sensor (Desc)'!A49=\"\",\"\",'External_Sensor (Desc)'!A49)","v":""},{"$f":"IF('External_Sensor (Desc)'!B49=\"\",\"\",\"1987\")","v":""},{"$f":"IF('External_Sensor (Desc)'!B49=\"\",\"\",'External_Sensor (Desc)'!B49)","v":""},{"$f":"IF('External_Sensor (Desc)'!C49=\"\",\"\",'External_Sensor (Desc)'!C49)","v":""},{"$f":"IF('External_Sensor (Desc)'!D49=\"\",\"\",'External_Sensor (Desc)'!D49)","v":""},{"$f":"IF('External_Sensor (Desc)'!E49=\"\",\"\",INDEX([1]WWVDS_USAGE!$A$2:$A$4,MATCH('External_Sensor (Desc)'!$E49,[1]!MASTER_SENSOR_USAGE_DESC[#Data],0),0))","v":""},{"$f":"IF('External_Sensor (Desc)'!F49=\"\",\"\",INDEX([1]SENSOR_TYPE!$A$2:$A$15,MATCH('External_Sensor (Desc)'!$F49,[1]!MASTER_SENSOR_TYPE_DESC[#Data],0),0))","v":""},{"$f":"IF('External_Sensor (Desc)'!$G49=\"\",\"\",INDEX([1]ITS_DEV_MANUF_MODEL!$A$2:$E$1000,MATCH(1,([1]ITS_DEV_MANUF_MODEL!$E$2:$E$1000=\"VDS\")*([1]ITS_DEV_MANUF_MODEL!$D$2:$D$1000='External_Sensor (Desc)'!$G49),0),1))","v":""},{"$f":"IF('External_Sensor (Desc)'!$G49=\"\",\"\",INDEX([1]ITS_DEV_MANUF_MODEL!$A$2:$E$1000,MATCH(1,([1]ITS_DEV_MANUF_MODEL!$E$2:$E$1000=\"VDS\")*([1]ITS_DEV_MANUF_MODEL!$D$2:$D$1000='External_Sensor (Desc)'!$G49),0),2))","v":""},{"$f":"IF('External_Sensor (Desc)'!I49=\"\",\"\",'External_Sensor (Desc)'!I49)","v":""},{"$f":"IF('External_Sensor (Desc)'!J49=\"\",\"\",'External_Sensor (Desc)'!J49)","v":""},{"$f":"IF('External_Sensor (Desc)'!K49=\"\",\"\",'External_Sensor (Desc)'!K49)","v":""},{"$f":"IF('External_Sensor (Desc)'!L49=\"\",\"\",'External_Sensor (Desc)'!L49)","v":""},{"$f":"IF('External_Sensor (Desc)'!M49=\"\",\"\",'External_Sensor (Desc)'!M49)","v":""}]
[{"$f":"IF('External_Sensor (Desc)'!A50=\"\",\"\",'External_Sensor (Desc)'!A50)","v":""},{"$f":"IF('External_Sensor (Desc)'!B50=\"\",\"\",\"1987\")","v":""},{"$f":"IF('External_Sensor (Desc)'!B50=\"\",\"\",'External_Sensor (Desc)'!B50)","v":""},{"$f":"IF('External_Sensor (Desc)'!C50=\"\",\"\",'External_Sensor (Desc)'!C50)","v":""},{"$f":"IF('External_Sensor (Desc)'!D50=\"\",\"\",'External_Sensor (Desc)'!D50)","v":""},{"$f":"IF('External_Sensor (Desc)'!E50=\"\",\"\",INDEX([1]WWVDS_USAGE!$A$2:$A$4,MATCH('External_Sensor (Desc)'!$E50,[1]!MASTER_SENSOR_USAGE_DESC[#Data],0),0))","v":""},{"$f":"IF('External_Sensor (Desc)'!F50=\"\",\"\",INDEX([1]SENSOR_TYPE!$A$2:$A$15,MATCH('External_Sensor (Desc)'!$F50,[1]!MASTER_SENSOR_TYPE_DESC[#Data],0),0))","v":""},{"$f":"IF('External_Sensor (Desc)'!$G50=\"\",\"\",INDEX([1]ITS_DEV_MANUF_MODEL!$A$2:$E$1000,MATCH(1,([1]ITS_DEV_MANUF_MODEL!$E$2:$E$1000=\"VDS\")*([1]ITS_DEV_MANUF_MODEL!$D$2:$D$1000='External_Sensor (Desc)'!$G50),0),1))","v":""},{"$f":"IF('External_Sensor (Desc)'!$G50=\"\",\"\",INDEX([1]ITS_DEV_MANUF_MODEL!$A$2:$E$1000,MATCH(1,([1]ITS_DEV_MANUF_MODEL!$E$2:$E$1000=\"VDS\")*([1]ITS_DEV_MANUF_MODEL!$D$2:$D$1000='External_Sensor (Desc)'!$G50),0),2))","v":""},{"$f":"IF('External_Sensor (Desc)'!I50=\"\",\"\",'External_Sensor (Desc)'!I50)","v":""},{"$f":"IF('External_Sensor (Desc)'!J50=\"\",\"\",'External_Sensor (Desc)'!J50)","v":""},{"$f":"IF('External_Sensor (Desc)'!K50=\"\",\"\",'External_Sensor (Desc)'!K50)","v":""},{"$f":"IF('External_Sensor (Desc)'!L50=\"\",\"\",'External_Sensor (Desc)'!L50)","v":""},{"$f":"IF('External_Sensor (Desc)'!M50=\"\",\"\",'External_Sensor (Desc)'!M50)","v":""}]
[{"$f":"IF('External_Sensor (Desc)'!A51=\"\",\"\",'External_Sensor (Desc)'!A51)","v":""},{"$f":"IF('External_Sensor (Desc)'!B51=\"\",\"\",\"1987\")","v":""},{"$f":"IF('External_Sensor (Desc)'!B51=\"\",\"\",'External_Sensor (Desc)'!B51)","v":""},{"$f":"IF('External_Sensor (Desc)'!C51=\"\",\"\",'External_Sensor (Desc)'!C51)","v":""},{"$f":"IF('External_Sensor (Desc)'!D51=\"\",\"\",'External_Sensor (Desc)'!D51)","v":""},{"$f":"IF('External_Sensor (Desc)'!E51=\"\",\"\",INDEX([1]WWVDS_USAGE!$A$2:$A$4,MATCH('External_Sensor (Desc)'!$E51,[1]!MASTER_SENSOR_USAGE_DESC[#Data],0),0))","v":""},{"$f":"IF('External_Sensor (Desc)'!F51=\"\",\"\",INDEX([1]SENSOR_TYPE!$A$2:$A$15,MATCH('External_Sensor (Desc)'!$F51,[1]!MASTER_SENSOR_TYPE_DESC[#Data],0),0))","v":""},{"$f":"IF('External_Sensor (Desc)'!$G51=\"\",\"\",INDEX([1]ITS_DEV_MANUF_MODEL!$A$2:$E$1000,MATCH(1,([1]ITS_DEV_MANUF_MODEL!$E$2:$E$1000=\"VDS\")*([1]ITS_DEV_MANUF_MODEL!$D$2:$D$1000='External_Sensor (Desc)'!$G51),0),1))","v":""},{"$f":"IF('External_Sensor (Desc)'!$G51=\"\",\"\",INDEX([1]ITS_DEV_MANUF_MODEL!$A$2:$E$1000,MATCH(1,([1]ITS_DEV_MANUF_MODEL!$E$2:$E$1000=\"VDS\")*([1]ITS_DEV_MANUF_MODEL!$D$2:$D$1000='External_Sensor (Desc)'!$G51),0),2))","v":""},{"$f":"IF('External_Sensor (Desc)'!I51=\"\",\"\",'External_Sensor (Desc)'!I51)","v":""},{"$f":"IF('External_Sensor (Desc)'!J51=\"\",\"\",'External_Sensor (Desc)'!J51)","v":""},{"$f":"IF('External_Sensor (Desc)'!K51=\"\",\"\",'External_Sensor (Desc)'!K51)","v":""},{"$f":"IF('External_Sensor (Desc)'!L51=\"\",\"\",'External_Sensor (Desc)'!L51)","v":""},{"$f":"IF('External_Sensor (Desc)'!M51=\"\",\"\",'External_Sensor (Desc)'!M51)","v":""}]
[{"$f":"IF('External_Sensor (Desc)'!A52=\"\",\"\",'External_Sensor (Desc)'!A52)","v":""},{"$f":"IF('External_Sensor (Desc)'!B52=\"\",\"\",\"1987\")","v":""},{"$f":"IF('External_Sensor (Desc)'!B52=\"\",\"\",'External_Sensor (Desc)'!B52)","v":""},{"$f":"IF('External_Sensor (Desc)'!C52=\"\",\"\",'External_Sensor (Desc)'!C52)","v":""},{"$f":"IF('External_Sensor (Desc)'!D52=\"\",\"\",'External_Sensor (Desc)'!D52)","v":""},{"$f":"IF('External_Sensor (Desc)'!E52=\"\",\"\",INDEX([1]WWVDS_USAGE!$A$2:$A$4,MATCH('External_Sensor (Desc)'!$E52,[1]!MASTER_SENSOR_USAGE_DESC[#Data],0),0))","v":""},{"$f":"IF('External_Sensor (Desc)'!F52=\"\",\"\",INDEX([1]SENSOR_TYPE!$A$2:$A$15,MATCH('External_Sensor (Desc)'!$F52,[1]!MASTER_SENSOR_TYPE_DESC[#Data],0),0))","v":""},{"$f":"IF('External_Sensor (Desc)'!$G52=\"\",\"\",INDEX([1]ITS_DEV_MANUF_MODEL!$A$2:$E$1000,MATCH(1,([1]ITS_DEV_MANUF_MODEL!$E$2:$E$1000=\"VDS\")*([1]ITS_DEV_MANUF_MODEL!$D$2:$D$1000='External_Sensor (Desc)'!$G52),0),1))","v":""},{"$f":"IF('External_Sensor (Desc)'!$G52=\"\",\"\",INDEX([1]ITS_DEV_MANUF_MODEL!$A$2:$E$1000,MATCH(1,([1]ITS_DEV_MANUF_MODEL!$E$2:$E$1000=\"VDS\")*([1]ITS_DEV_MANUF_MODEL!$D$2:$D$1000='External_Sensor (Desc)'!$G52),0),2))","v":""},{"$f":"IF('External_Sensor (Desc)'!I52=\"\",\"\",'External_Sensor (Desc)'!I52)","v":""},{"$f":"IF('External_Sensor (Desc)'!J52=\"\",\"\",'External_Sensor (Desc)'!J52)","v":""},{"$f":"IF('External_Sensor (Desc)'!K52=\"\",\"\",'External_Sensor (Desc)'!K52)","v":""},{"$f":"IF('External_Sensor (Desc)'!L52=\"\",\"\",'External_Sensor (Desc)'!L52)","v":""},{"$f":"IF('External_Sensor (Desc)'!M52=\"\",\"\",'External_Sensor (Desc)'!M52)","v":""}]
[{"$f":"IF('External_Sensor (Desc)'!A53=\"\",\"\",'External_Sensor (Desc)'!A53)","v":""},{"$f":"IF('External_Sensor (Desc)'!B53=\"\",\"\",\"1987\")","v":""},{"$f":"IF('External_Sensor (Desc)'!B53=\"\",\"\",'External_Sensor (Desc)'!B53)","v":""},{"$f":"IF('External_Sensor (Desc)'!C53=\"\",\"\",'External_Sensor (Desc)'!C53)","v":""},{"$f":"IF('External_Sensor (Desc)'!D53=\"\",\"\",'External_Sensor (Desc)'!D53)","v":""},{"$f":"IF('External_Sensor (Desc)'!E53=\"\",\"\",INDEX([1]WWVDS_USAGE!$A$2:$A$4,MATCH('External_Sensor (Desc)'!$E53,[1]!MASTER_SENSOR_USAGE_DESC[#Data],0),0))","v":""},{"$f":"IF('External_Sensor (Desc)'!F53=\"\",\"\",INDEX([1]SENSOR_TYPE!$A$2:$A$15,MATCH('External_Sensor (Desc)'!$F53,[1]!MASTER_SENSOR_TYPE_DESC[#Data],0),0))","v":""},{"$f":"IF('External_Sensor (Desc)'!$G53=\"\",\"\",INDEX([1]ITS_DEV_MANUF_MODEL!$A$2:$E$1000,MATCH(1,([1]ITS_DEV_MANUF_MODEL!$E$2:$E$1000=\"VDS\")*([1]ITS_DEV_MANUF_MODEL!$D$2:$D$1000='External_Sensor (Desc)'!$G53),0),1))","v":""},{"$f":"IF('External_Sensor (Desc)'!$G53=\"\",\"\",INDEX([1]ITS_DEV_MANUF_MODEL!$A$2:$E$1000,MATCH(1,([1]ITS_DEV_MANUF_MODEL!$E$2:$E$1000=\"VDS\")*([1]ITS_DEV_MANUF_MODEL!$D$2:$D$1000='External_Sensor (Desc)'!$G53),0),2))","v":""},{"$f":"IF('External_Sensor (Desc)'!I53=\"\",\"\",'External_Sensor (Desc)'!I53)","v":""},{"$f":"IF('External_Sensor (Desc)'!J53=\"\",\"\",'External_Sensor (Desc)'!J53)","v":""},{"$f":"IF('External_Sensor (Desc)'!K53=\"\",\"\",'External_Sensor (Desc)'!K53)","v":""},{"$f":"IF('External_Sensor (Desc)'!L53=\"\",\"\",'External_Sensor (Desc)'!L53)","v":""},{"$f":"IF('External_Sensor (Desc)'!M53=\"\",\"\",'External_Sensor (Desc)'!M53)","v":""}]
[{"$f":"IF('External_Sensor (Desc)'!A54=\"\",\"\",'External_Sensor (Desc)'!A54)","v":""},{"$f":"IF('External_Sensor (Desc)'!B54=\"\",\"\",\"1987\")","v":""},{"$f":"IF('External_Sensor (Desc)'!B54=\"\",\"\",'External_Sensor (Desc)'!B54)","v":""},{"$f":"IF('External_Sensor (Desc)'!C54=\"\",\"\",'External_Sensor (Desc)'!C54)","v":""},{"$f":"IF('External_Sensor (Desc)'!D54=\"\",\"\",'External_Sensor (Desc)'!D54)","v":""},{"$f":"IF('External_Sensor (Desc)'!E54=\"\",\"\",INDEX([1]WWVDS_USAGE!$A$2:$A$4,MATCH('External_Sensor (Desc)'!$E54,[1]!MASTER_SENSOR_USAGE_DESC[#Data],0),0))","v":""},{"$f":"IF('External_Sensor (Desc)'!F54=\"\",\"\",INDEX([1]SENSOR_TYPE!$A$2:$A$15,MATCH('External_Sensor (Desc)'!$F54,[1]!MASTER_SENSOR_TYPE_DESC[#Data],0),0))","v":""},{"$f":"IF('External_Sensor (Desc)'!$G54=\"\",\"\",INDEX([1]ITS_DEV_MANUF_MODEL!$A$2:$E$1000,MATCH(1,([1]ITS_DEV_MANUF_MODEL!$E$2:$E$1000=\"VDS\")*([1]ITS_DEV_MANUF_MODEL!$D$2:$D$1000='External_Sensor (Desc)'!$G54),0),1))","v":""},{"$f":"IF('External_Sensor (Desc)'!$G54=\"\",\"\",INDEX([1]ITS_DEV_MANUF_MODEL!$A$2:$E$1000,MATCH(1,([1]ITS_DEV_MANUF_MODEL!$E$2:$E$1000=\"VDS\")*([1]ITS_DEV_MANUF_MODEL!$D$2:$D$1000='External_Sensor (Desc)'!$G54),0),2))","v":""},{"$f":"IF('External_Sensor (Desc)'!I54=\"\",\"\",'External_Sensor (Desc)'!I54)","v":""},{"$f":"IF('External_Sensor (Desc)'!J54=\"\",\"\",'External_Sensor (Desc)'!J54)","v":""},{"$f":"IF('External_Sensor (Desc)'!K54=\"\",\"\",'External_Sensor (Desc)'!K54)","v":""},{"$f":"IF('External_Sensor (Desc)'!L54=\"\",\"\",'External_Sensor (Desc)'!L54)","v":""},{"$f":"IF('External_Sensor (Desc)'!M54=\"\",\"\",'External_Sensor (Desc)'!M54)","v":""}]
[{"$f":"IF('External_Sensor (Desc)'!A55=\"\",\"\",'External_Sensor (Desc)'!A55)","v":""},{"$f":"IF('External_Sensor (Desc)'!B55=\"\",\"\",\"1987\")","v":""},{"$f":"IF('External_Sensor (Desc)'!B55=\"\",\"\",'External_Sensor (Desc)'!B55)","v":""},{"$f":"IF('External_Sensor (Desc)'!C55=\"\",\"\",'External_Sensor (Desc)'!C55)","v":""},{"$f":"IF('External_Sensor (Desc)'!D55=\"\",\"\",'External_Sensor (Desc)'!D55)","v":""},{"$f":"IF('External_Sensor (Desc)'!E55=\"\",\"\",INDEX([1]WWVDS_USAGE!$A$2:$A$4,MATCH('External_Sensor (Desc)'!$E55,[1]!MASTER_SENSOR_USAGE_DESC[#Data],0),0))","v":""},{"$f":"IF('External_Sensor (Desc)'!F55=\"\",\"\",INDEX([1]SENSOR_TYPE!$A$2:$A$15,MATCH('External_Sensor (Desc)'!$F55,[1]!MASTER_SENSOR_TYPE_DESC[#Data],0),0))","v":""},{"$f":"IF('External_Sensor (Desc)'!$G55=\"\",\"\",INDEX([1]ITS_DEV_MANUF_MODEL!$A$2:$E$1000,MATCH(1,([1]ITS_DEV_MANUF_MODEL!$E$2:$E$1000=\"VDS\")*([1]ITS_DEV_MANUF_MODEL!$D$2:$D$1000='External_Sensor (Desc)'!$G55),0),1))","v":""},{"$f":"IF('External_Sensor (Desc)'!$G55=\"\",\"\",INDEX([1]ITS_DEV_MANUF_MODEL!$A$2:$E$1000,MATCH(1,([1]ITS_DEV_MANUF_MODEL!$E$2:$E$1000=\"VDS\")*([1]ITS_DEV_MANUF_MODEL!$D$2:$D$1000='External_Sensor (Desc)'!$G55),0),2))","v":""},{"$f":"IF('External_Sensor (Desc)'!I55=\"\",\"\",'External_Sensor (Desc)'!I55)","v":""},{"$f":"IF('External_Sensor (Desc)'!J55=\"\",\"\",'External_Sensor (Desc)'!J55)","v":""},{"$f":"IF('External_Sensor (Desc)'!K55=\"\",\"\",'External_Sensor (Desc)'!K55)","v":""},{"$f":"IF('External_Sensor (Desc)'!L55=\"\",\"\",'External_Sensor (Desc)'!L55)","v":""},{"$f":"IF('External_Sensor (Desc)'!M55=\"\",\"\",'External_Sensor (Desc)'!M55)","v":""}]
[{"$f":"IF('External_Sensor (Desc)'!A56=\"\",\"\",'External_Sensor (Desc)'!A56)","v":""},{"$f":"IF('External_Sensor (Desc)'!B56=\"\",\"\",\"1987\")","v":""},{"$f":"IF('External_Sensor (Desc)'!B56=\"\",\"\",'External_Sensor (Desc)'!B56)","v":""},{"$f":"IF('External_Sensor (Desc)'!C56=\"\",\"\",'External_Sensor (Desc)'!C56)","v":""},{"$f":"IF('External_Sensor (Desc)'!D56=\"\",\"\",'External_Sensor (Desc)'!D56)","v":""},{"$f":"IF('External_Sensor (Desc)'!E56=\"\",\"\",INDEX([1]WWVDS_USAGE!$A$2:$A$4,MATCH('External_Sensor (Desc)'!$E56,[1]!MASTER_SENSOR_USAGE_DESC[#Data],0),0))","v":""},{"$f":"IF('External_Sensor (Desc)'!F56=\"\",\"\",INDEX([1]SENSOR_TYPE!$A$2:$A$15,MATCH('External_Sensor (Desc)'!$F56,[1]!MASTER_SENSOR_TYPE_DESC[#Data],0),0))","v":""},{"$f":"IF('External_Sensor (Desc)'!$G56=\"\",\"\",INDEX([1]ITS_DEV_MANUF_MODEL!$A$2:$E$1000,MATCH(1,([1]ITS_DEV_MANUF_MODEL!$E$2:$E$1000=\"VDS\")*([1]ITS_DEV_MANUF_MODEL!$D$2:$D$1000='External_Sensor (Desc)'!$G56),0),1))","v":""},{"$f":"IF('External_Sensor (Desc)'!$G56=\"\",\"\",INDEX([1]ITS_DEV_MANUF_MODEL!$A$2:$E$1000,MATCH(1,([1]ITS_DEV_MANUF_MODEL!$E$2:$E$1000=\"VDS\")*([1]ITS_DEV_MANUF_MODEL!$D$2:$D$1000='External_Sensor (Desc)'!$G56),0),2))","v":""},{"$f":"IF('External_Sensor (Desc)'!I56=\"\",\"\",'External_Sensor (Desc)'!I56)","v":""},{"$f":"IF('External_Sensor (Desc)'!J56=\"\",\"\",'External_Sensor (Desc)'!J56)","v":""},{"$f":"IF('External_Sensor (Desc)'!K56=\"\",\"\",'External_Sensor (Desc)'!K56)","v":""},{"$f":"IF('External_Sensor (Desc)'!L56=\"\",\"\",'External_Sensor (Desc)'!L56)","v":""},{"$f":"IF('External_Sensor (Desc)'!M56=\"\",\"\",'External_Sensor (Desc)'!M56)","v":""}]
[{"$f":"IF('External_Sensor (Desc)'!A57=\"\",\"\",'External_Sensor (Desc)'!A57)","v":""},{"$f":"IF('External_Sensor (Desc)'!B57=\"\",\"\",\"1987\")","v":""},{"$f":"IF('External_Sensor (Desc)'!B57=\"\",\"\",'External_Sensor (Desc)'!B57)","v":""},{"$f":"IF('External_Sensor (Desc)'!C57=\"\",\"\",'External_Sensor (Desc)'!C57)","v":""},{"$f":"IF('External_Sensor (Desc)'!D57=\"\",\"\",'External_Sensor (Desc)'!D57)","v":""},{"$f":"IF('External_Sensor (Desc)'!E57=\"\",\"\",INDEX([1]WWVDS_USAGE!$A$2:$A$4,MATCH('External_Sensor (Desc)'!$E57,[1]!MASTER_SENSOR_USAGE_DESC[#Data],0),0))","v":""},{"$f":"IF('External_Sensor (Desc)'!F57=\"\",\"\",INDEX([1]SENSOR_TYPE!$A$2:$A$15,MATCH('External_Sensor (Desc)'!$F57,[1]!MASTER_SENSOR_TYPE_DESC[#Data],0),0))","v":""},{"$f":"IF('External_Sensor (Desc)'!$G57=\"\",\"\",INDEX([1]ITS_DEV_MANUF_MODEL!$A$2:$E$1000,MATCH(1,([1]ITS_DEV_MANUF_MODEL!$E$2:$E$1000=\"VDS\")*([1]ITS_DEV_MANUF_MODEL!$D$2:$D$1000='External_Sensor (Desc)'!$G57),0),1))","v":""},{"$f":"IF('External_Sensor (Desc)'!$G57=\"\",\"\",INDEX([1]ITS_DEV_MANUF_MODEL!$A$2:$E$1000,MATCH(1,([1]ITS_DEV_MANUF_MODEL!$E$2:$E$1000=\"VDS\")*([1]ITS_DEV_MANUF_MODEL!$D$2:$D$1000='External_Sensor (Desc)'!$G57),0),2))","v":""},{"$f":"IF('External_Sensor (Desc)'!I57=\"\",\"\",'External_Sensor (Desc)'!I57)","v":""},{"$f":"IF('External_Sensor (Desc)'!J57=\"\",\"\",'External_Sensor (Desc)'!J57)","v":""},{"$f":"IF('External_Sensor (Desc)'!K57=\"\",\"\",'External_Sensor (Desc)'!K57)","v":""},{"$f":"IF('External_Sensor (Desc)'!L57=\"\",\"\",'External_Sensor (Desc)'!L57)","v":""},{"$f":"IF('External_Sensor (Desc)'!M57=\"\",\"\",'External_Sensor (Desc)'!M57)","v":""}]
[{"$f":"IF('External_Sensor (Desc)'!A58=\"\",\"\",'External_Sensor (Desc)'!A58)","v":""},{"$f":"IF('External_Sensor (Desc)'!B58=\"\",\"\",\"1987\")","v":""},{"$f":"IF('External_Sensor (Desc)'!B58=\"\",\"\",'External_Sensor (Desc)'!B58)","v":""},{"$f":"IF('External_Sensor (Desc)'!C58=\"\",\"\",'External_Sensor (Desc)'!C58)","v":""},{"$f":"IF('External_Sensor (Desc)'!D58=\"\",\"\",'External_Sensor (Desc)'!D58)","v":""},{"$f":"IF('External_Sensor (Desc)'!E58=\"\",\"\",INDEX([1]WWVDS_USAGE!$A$2:$A$4,MATCH('External_Sensor (Desc)'!$E58,[1]!MASTER_SENSOR_USAGE_DESC[#Data],0),0))","v":""},{"$f":"IF('External_Sensor (Desc)'!F58=\"\",\"\",INDEX([1]SENSOR_TYPE!$A$2:$A$15,MATCH('External_Sensor (Desc)'!$F58,[1]!MASTER_SENSOR_TYPE_DESC[#Data],0),0))","v":""},{"$f":"IF('External_Sensor (Desc)'!$G58=\"\",\"\",INDEX([1]ITS_DEV_MANUF_MODEL!$A$2:$E$1000,MATCH(1,([1]ITS_DEV_MANUF_MODEL!$E$2:$E$1000=\"VDS\")*([1]ITS_DEV_MANUF_MODEL!$D$2:$D$1000='External_Sensor (Desc)'!$G58),0),1))","v":""},{"$f":"IF('External_Sensor (Desc)'!$G58=\"\",\"\",INDEX([1]ITS_DEV_MANUF_MODEL!$A$2:$E$1000,MATCH(1,([1]ITS_DEV_MANUF_MODEL!$E$2:$E$1000=\"VDS\")*([1]ITS_DEV_MANUF_MODEL!$D$2:$D$1000='External_Sensor (Desc)'!$G58),0),2))","v":""},{"$f":"IF('External_Sensor (Desc)'!I58=\"\",\"\",'External_Sensor (Desc)'!I58)","v":""},{"$f":"IF('External_Sensor (Desc)'!J58=\"\",\"\",'External_Sensor (Desc)'!J58)","v":""},{"$f":"IF('External_Sensor (Desc)'!K58=\"\",\"\",'External_Sensor (Desc)'!K58)","v":""},{"$f":"IF('External_Sensor (Desc)'!L58=\"\",\"\",'External_Sensor (Desc)'!L58)","v":""},{"$f":"IF('External_Sensor (Desc)'!M58=\"\",\"\",'External_Sensor (Desc)'!M58)","v":""}]
[{"$f":"IF('External_Sensor (Desc)'!A59=\"\",\"\",'External_Sensor (Desc)'!A59)","v":""},{"$f":"IF('External_Sensor (Desc)'!B59=\"\",\"\",\"1987\")","v":""},{"$f":"IF('External_Sensor (Desc)'!B59=\"\",\"\",'External_Sensor (Desc)'!B59)","v":""},{"$f":"IF('External_Sensor (Desc)'!C59=\"\",\"\",'External_Sensor (Desc)'!C59)","v":""},{"$f":"IF('External_Sensor (Desc)'!D59=\"\",\"\",'External_Sensor (Desc)'!D59)","v":""},{"$f":"IF('External_Sensor (Desc)'!E59=\"\",\"\",INDEX([1]WWVDS_USAGE!$A$2:$A$4,MATCH('External_Sensor (Desc)'!$E59,[1]!MASTER_SENSOR_USAGE_DESC[#Data],0),0))","v":""},{"$f":"IF('External_Sensor (Desc)'!F59=\"\",\"\",INDEX([1]SENSOR_TYPE!$A$2:$A$15,MATCH('External_Sensor (Desc)'!$F59,[1]!MASTER_SENSOR_TYPE_DESC[#Data],0),0))","v":""},{"$f":"IF('External_Sensor (Desc)'!$G59=\"\",\"\",INDEX([1]ITS_DEV_MANUF_MODEL!$A$2:$E$1000,MATCH(1,([1]ITS_DEV_MANUF_MODEL!$E$2:$E$1000=\"VDS\")*([1]ITS_DEV_MANUF_MODEL!$D$2:$D$1000='External_Sensor (Desc)'!$G59),0),1))","v":""},{"$f":"IF('External_Sensor (Desc)'!$G59=\"\",\"\",INDEX([1]ITS_DEV_MANUF_MODEL!$A$2:$E$1000,MATCH(1,([1]ITS_DEV_MANUF_MODEL!$E$2:$E$1000=\"VDS\")*([1]ITS_DEV_MANUF_MODEL!$D$2:$D$1000='External_Sensor (Desc)'!$G59),0),2))","v":""},{"$f":"IF('External_Sensor (Desc)'!I59=\"\",\"\",'External_Sensor (Desc)'!I59)","v":""},{"$f":"IF('External_Sensor (Desc)'!J59=\"\",\"\",'External_Sensor (Desc)'!J59)","v":""},{"$f":"IF('External_Sensor (Desc)'!K59=\"\",\"\",'External_Sensor (Desc)'!K59)","v":""},{"$f":"IF('External_Sensor (Desc)'!L59=\"\",\"\",'External_Sensor (Desc)'!L59)","v":""},{"$f":"IF('External_Sensor (Desc)'!M59=\"\",\"\",'External_Sensor (Desc)'!M59)","v":""}]
[{"$f":"IF('External_Sensor (Desc)'!A60=\"\",\"\",'External_Sensor (Desc)'!A60)","v":""},{"$f":"IF('External_Sensor (Desc)'!B60=\"\",\"\",\"1987\")","v":""},{"$f":"IF('External_Sensor (Desc)'!B60=\"\",\"\",'External_Sensor (Desc)'!B60)","v":""},{"$f":"IF('External_Sensor (Desc)'!C60=\"\",\"\",'External_Sensor (Desc)'!C60)","v":""},{"$f":"IF('External_Sensor (Desc)'!D60=\"\",\"\",'External_Sensor (Desc)'!D60)","v":""},{"$f":"IF('External_Sensor (Desc)'!E60=\"\",\"\",INDEX([1]WWVDS_USAGE!$A$2:$A$4,MATCH('External_Sensor (Desc)'!$E60,[1]!MASTER_SENSOR_USAGE_DESC[#Data],0),0))","v":""},{"$f":"IF('External_Sensor (Desc)'!F60=\"\",\"\",INDEX([1]SENSOR_TYPE!$A$2:$A$15,MATCH('External_Sensor (Desc)'!$F60,[1]!MASTER_SENSOR_TYPE_DESC[#Data],0),0))","v":""},{"$f":"IF('External_Sensor (Desc)'!$G60=\"\",\"\",INDEX([1]ITS_DEV_MANUF_MODEL!$A$2:$E$1000,MATCH(1,([1]ITS_DEV_MANUF_MODEL!$E$2:$E$1000=\"VDS\")*([1]ITS_DEV_MANUF_MODEL!$D$2:$D$1000='External_Sensor (Desc)'!$G60),0),1))","v":""},{"$f":"IF('External_Sensor (Desc)'!$G60=\"\",\"\",INDEX([1]ITS_DEV_MANUF_MODEL!$A$2:$E$1000,MATCH(1,([1]ITS_DEV_MANUF_MODEL!$E$2:$E$1000=\"VDS\")*([1]ITS_DEV_MANUF_MODEL!$D$2:$D$1000='External_Sensor (Desc)'!$G60),0),2))","v":""},{"$f":"IF('External_Sensor (Desc)'!I60=\"\",\"\",'External_Sensor (Desc)'!I60)","v":""},{"$f":"IF('External_Sensor (Desc)'!J60=\"\",\"\",'External_Sensor (Desc)'!J60)","v":""},{"$f":"IF('External_Sensor (Desc)'!K60=\"\",\"\",'External_Sensor (Desc)'!K60)","v":""},{"$f":"IF('External_Sensor (Desc)'!L60=\"\",\"\",'External_Sensor (Desc)'!L60)","v":""},{"$f":"IF('External_Sensor (Desc)'!M60=\"\",\"\",'External_Sensor (Desc)'!M60)","v":""}]
[{"$f":"IF('External_Sensor (Desc)'!A61=\"\",\"\",'External_Sensor (Desc)'!A61)","v":""},{"$f":"IF('External_Sensor (Desc)'!B61=\"\",\"\",\"1987\")","v":""},{"$f":"IF('External_Sensor (Desc)'!B61=\"\",\"\",'External_Sensor (Desc)'!B61)","v":""},{"$f":"IF('External_Sensor (Desc)'!C61=\"\",\"\",'External_Sensor (Desc)'!C61)","v":""},{"$f":"IF('External_Sensor (Desc)'!D61=\"\",\"\",'External_Sensor (Desc)'!D61)","v":""},{"$f":"IF('External_Sensor (Desc)'!E61=\"\",\"\",INDEX([1]WWVDS_USAGE!$A$2:$A$4,MATCH('External_Sensor (Desc)'!$E61,[1]!MASTER_SENSOR_USAGE_DESC[#Data],0),0))","v":""},{"$f":"IF('External_Sensor (Desc)'!F61=\"\",\"\",INDEX([1]SENSOR_TYPE!$A$2:$A$15,MATCH('External_Sensor (Desc)'!$F61,[1]!MASTER_SENSOR_TYPE_DESC[#Data],0),0))","v":""},{"$f":"IF('External_Sensor (Desc)'!$G61=\"\",\"\",INDEX([1]ITS_DEV_MANUF_MODEL!$A$2:$E$1000,MATCH(1,([1]ITS_DEV_MANUF_MODEL!$E$2:$E$1000=\"VDS\")*([1]ITS_DEV_MANUF_MODEL!$D$2:$D$1000='External_Sensor (Desc)'!$G61),0),1))","v":""},{"$f":"IF('External_Sensor (Desc)'!$G61=\"\",\"\",INDEX([1]ITS_DEV_MANUF_MODEL!$A$2:$E$1000,MATCH(1,([1]ITS_DEV_MANUF_MODEL!$E$2:$E$1000=\"VDS\")*([1]ITS_DEV_MANUF_MODEL!$D$2:$D$1000='External_Sensor (Desc)'!$G61),0),2))","v":""},{"$f":"IF('External_Sensor (Desc)'!I61=\"\",\"\",'External_Sensor (Desc)'!I61)","v":""},{"$f":"IF('External_Sensor (Desc)'!J61=\"\",\"\",'External_Sensor (Desc)'!J61)","v":""},{"$f":"IF('External_Sensor (Desc)'!K61=\"\",\"\",'External_Sensor (Desc)'!K61)","v":""},{"$f":"IF('External_Sensor (Desc)'!L61=\"\",\"\",'External_Sensor (Desc)'!L61)","v":""},{"$f":"IF('External_Sensor (Desc)'!M61=\"\",\"\",'External_Sensor (Desc)'!M61)","v":""}]
[{"$f":"IF('External_Sensor (Desc)'!A62=\"\",\"\",'External_Sensor (Desc)'!A62)","v":""},{"$f":"IF('External_Sensor (Desc)'!B62=\"\",\"\",\"1987\")","v":""},{"$f":"IF('External_Sensor (Desc)'!B62=\"\",\"\",'External_Sensor (Desc)'!B62)","v":""},{"$f":"IF('External_Sensor (Desc)'!C62=\"\",\"\",'External_Sensor (Desc)'!C62)","v":""},{"$f":"IF('External_Sensor (Desc)'!D62=\"\",\"\",'External_Sensor (Desc)'!D62)","v":""},{"$f":"IF('External_Sensor (Desc)'!E62=\"\",\"\",INDEX([1]WWVDS_USAGE!$A$2:$A$4,MATCH('External_Sensor (Desc)'!$E62,[1]!MASTER_SENSOR_USAGE_DESC[#Data],0),0))","v":""},{"$f":"IF('External_Sensor (Desc)'!F62=\"\",\"\",INDEX([1]SENSOR_TYPE!$A$2:$A$15,MATCH('External_Sensor (Desc)'!$F62,[1]!MASTER_SENSOR_TYPE_DESC[#Data],0),0))","v":""},{"$f":"IF('External_Sensor (Desc)'!$G62=\"\",\"\",INDEX([1]ITS_DEV_MANUF_MODEL!$A$2:$E$1000,MATCH(1,([1]ITS_DEV_MANUF_MODEL!$E$2:$E$1000=\"VDS\")*([1]ITS_DEV_MANUF_MODEL!$D$2:$D$1000='External_Sensor (Desc)'!$G62),0),1))","v":""},{"$f":"IF('External_Sensor (Desc)'!$G62=\"\",\"\",INDEX([1]ITS_DEV_MANUF_MODEL!$A$2:$E$1000,MATCH(1,([1]ITS_DEV_MANUF_MODEL!$E$2:$E$1000=\"VDS\")*([1]ITS_DEV_MANUF_MODEL!$D$2:$D$1000='External_Sensor (Desc)'!$G62),0),2))","v":""},{"$f":"IF('External_Sensor (Desc)'!I62=\"\",\"\",'External_Sensor (Desc)'!I62)","v":""},{"$f":"IF('External_Sensor (Desc)'!J62=\"\",\"\",'External_Sensor (Desc)'!J62)","v":""},{"$f":"IF('External_Sensor (Desc)'!K62=\"\",\"\",'External_Sensor (Desc)'!K62)","v":""},{"$f":"IF('External_Sensor (Desc)'!L62=\"\",\"\",'External_Sensor (Desc)'!L62)","v":""},{"$f":"IF('External_Sensor (Desc)'!M62=\"\",\"\",'External_Sensor (Desc)'!M62)","v":""}]
[{"$f":"IF('External_Sensor (Desc)'!A63=\"\",\"\",'External_Sensor (Desc)'!A63)","v":""},{"$f":"IF('External_Sensor (Desc)'!B63=\"\",\"\",\"1987\")","v":""},{"$f":"IF('External_Sensor (Desc)'!B63=\"\",\"\",'External_Sensor (Desc)'!B63)","v":""},{"$f":"IF('External_Sensor (Desc)'!C63=\"\",\"\",'External_Sensor (Desc)'!C63)","v":""},{"$f":"IF('External_Sensor (Desc)'!D63=\"\",\"\",'External_Sensor (Desc)'!D63)","v":""},{"$f":"IF('External_Sensor (Desc)'!E63=\"\",\"\",INDEX([1]WWVDS_USAGE!$A$2:$A$4,MATCH('External_Sensor (Desc)'!$E63,[1]!MASTER_SENSOR_USAGE_DESC[#Data],0),0))","v":""},{"$f":"IF('External_Sensor (Desc)'!F63=\"\",\"\",INDEX([1]SENSOR_TYPE!$A$2:$A$15,MATCH('External_Sensor (Desc)'!$F63,[1]!MASTER_SENSOR_TYPE_DESC[#Data],0),0))","v":""},{"$f":"IF('External_Sensor (Desc)'!$G63=\"\",\"\",INDEX([1]ITS_DEV_MANUF_MODEL!$A$2:$E$1000,MATCH(1,([1]ITS_DEV_MANUF_MODEL!$E$2:$E$1000=\"VDS\")*([1]ITS_DEV_MANUF_MODEL!$D$2:$D$1000='External_Sensor (Desc)'!$G63),0),1))","v":""},{"$f":"IF('External_Sensor (Desc)'!$G63=\"\",\"\",INDEX([1]ITS_DEV_MANUF_MODEL!$A$2:$E$1000,MATCH(1,([1]ITS_DEV_MANUF_MODEL!$E$2:$E$1000=\"VDS\")*([1]ITS_DEV_MANUF_MODEL!$D$2:$D$1000='External_Sensor (Desc)'!$G63),0),2))","v":""},{"$f":"IF('External_Sensor (Desc)'!I63=\"\",\"\",'External_Sensor (Desc)'!I63)","v":""},{"$f":"IF('External_Sensor (Desc)'!J63=\"\",\"\",'External_Sensor (Desc)'!J63)","v":""},{"$f":"IF('External_Sensor (Desc)'!K63=\"\",\"\",'External_Sensor (Desc)'!K63)","v":""},{"$f":"IF('External_Sensor (Desc)'!L63=\"\",\"\",'External_Sensor (Desc)'!L63)","v":""},{"$f":"IF('External_Sensor (Desc)'!M63=\"\",\"\",'External_Sensor (Desc)'!M63)","v":""}]
[{"$f":"IF('External_Sensor (Desc)'!A64=\"\",\"\",'External_Sensor (Desc)'!A64)","v":""},{"$f":"IF('External_Sensor (Desc)'!B64=\"\",\"\",\"1987\")","v":""},{"$f":"IF('External_Sensor (Desc)'!B64=\"\",\"\",'External_Sensor (Desc)'!B64)","v":""},{"$f":"IF('External_Sensor (Desc)'!C64=\"\",\"\",'External_Sensor (Desc)'!C64)","v":""},{"$f":"IF('External_Sensor (Desc)'!D64=\"\",\"\",'External_Sensor (Desc)'!D64)","v":""},{"$f":"IF('External_Sensor (Desc)'!E64=\"\",\"\",INDEX([1]WWVDS_USAGE!$A$2:$A$4,MATCH('External_Sensor (Desc)'!$E64,[1]!MASTER_SENSOR_USAGE_DESC[#Data],0),0))","v":""},{"$f":"IF('External_Sensor (Desc)'!F64=\"\",\"\",INDEX([1]SENSOR_TYPE!$A$2:$A$15,MATCH('External_Sensor (Desc)'!$F64,[1]!MASTER_SENSOR_TYPE_DESC[#Data],0),0))","v":""},{"$f":"IF('External_Sensor (Desc)'!$G64=\"\",\"\",INDEX([1]ITS_DEV_MANUF_MODEL!$A$2:$E$1000,MATCH(1,([1]ITS_DEV_MANUF_MODEL!$E$2:$E$1000=\"VDS\")*([1]ITS_DEV_MANUF_MODEL!$D$2:$D$1000='External_Sensor (Desc)'!$G64),0),1))","v":""},{"$f":"IF('External_Sensor (Desc)'!$G64=\"\",\"\",INDEX([1]ITS_DEV_MANUF_MODEL!$A$2:$E$1000,MATCH(1,([1]ITS_DEV_MANUF_MODEL!$E$2:$E$1000=\"VDS\")*([1]ITS_DEV_MANUF_MODEL!$D$2:$D$1000='External_Sensor (Desc)'!$G64),0),2))","v":""},{"$f":"IF('External_Sensor (Desc)'!I64=\"\",\"\",'External_Sensor (Desc)'!I64)","v":""},{"$f":"IF('External_Sensor (Desc)'!J64=\"\",\"\",'External_Sensor (Desc)'!J64)","v":""},{"$f":"IF('External_Sensor (Desc)'!K64=\"\",\"\",'External_Sensor (Desc)'!K64)","v":""},{"$f":"IF('External_Sensor (Desc)'!L64=\"\",\"\",'External_Sensor (Desc)'!L64)","v":""},{"$f":"IF('External_Sensor (Desc)'!M64=\"\",\"\",'External_Sensor (Desc)'!M64)","v":""}]
[{"$f":"IF('External_Sensor (Desc)'!A65=\"\",\"\",'External_Sensor (Desc)'!A65)","v":""},{"$f":"IF('External_Sensor (Desc)'!B65=\"\",\"\",\"1987\")","v":""},{"$f":"IF('External_Sensor (Desc)'!B65=\"\",\"\",'External_Sensor (Desc)'!B65)","v":""},{"$f":"IF('External_Sensor (Desc)'!C65=\"\",\"\",'External_Sensor (Desc)'!C65)","v":""},{"$f":"IF('External_Sensor (Desc)'!D65=\"\",\"\",'External_Sensor (Desc)'!D65)","v":""},{"$f":"IF('External_Sensor (Desc)'!E65=\"\",\"\",INDEX([1]WWVDS_USAGE!$A$2:$A$4,MATCH('External_Sensor (Desc)'!$E65,[1]!MASTER_SENSOR_USAGE_DESC[#Data],0),0))","v":""},{"$f":"IF('External_Sensor (Desc)'!F65=\"\",\"\",INDEX([1]SENSOR_TYPE!$A$2:$A$15,MATCH('External_Sensor (Desc)'!$F65,[1]!MASTER_SENSOR_TYPE_DESC[#Data],0),0))","v":""},{"$f":"IF('External_Sensor (Desc)'!$G65=\"\",\"\",INDEX([1]ITS_DEV_MANUF_MODEL!$A$2:$E$1000,MATCH(1,([1]ITS_DEV_MANUF_MODEL!$E$2:$E$1000=\"VDS\")*([1]ITS_DEV_MANUF_MODEL!$D$2:$D$1000='External_Sensor (Desc)'!$G65),0),1))","v":""},{"$f":"IF('External_Sensor (Desc)'!$G65=\"\",\"\",INDEX([1]ITS_DEV_MANUF_MODEL!$A$2:$E$1000,MATCH(1,([1]ITS_DEV_MANUF_MODEL!$E$2:$E$1000=\"VDS\")*([1]ITS_DEV_MANUF_MODEL!$D$2:$D$1000='External_Sensor (Desc)'!$G65),0),2))","v":""},{"$f":"IF('External_Sensor (Desc)'!I65=\"\",\"\",'External_Sensor (Desc)'!I65)","v":""},{"$f":"IF('External_Sensor (Desc)'!J65=\"\",\"\",'External_Sensor (Desc)'!J65)","v":""},{"$f":"IF('External_Sensor (Desc)'!K65=\"\",\"\",'External_Sensor (Desc)'!K65)","v":""},{"$f":"IF('External_Sensor (Desc)'!L65=\"\",\"\",'External_Sensor (Desc)'!L65)","v":""},{"$f":"IF('External_Sensor (Desc)'!M65=\"\",\"\",'External_Sensor (Desc)'!M65)","v":""}]
[{"$f":"IF('External_Sensor (Desc)'!A66=\"\",\"\",'External_Sensor (Desc)'!A66)","v":""},{"$f":"IF('External_Sensor (Desc)'!B66=\"\",\"\",\"1987\")","v":""},{"$f":"IF('External_Sensor (Desc)'!B66=\"\",\"\",'External_Sensor (Desc)'!B66)","v":""},{"$f":"IF('External_Sensor (Desc)'!C66=\"\",\"\",'External_Sensor (Desc)'!C66)","v":""},{"$f":"IF('External_Sensor (Desc)'!D66=\"\",\"\",'External_Sensor (Desc)'!D66)","v":""},{"$f":"IF('External_Sensor (Desc)'!E66=\"\",\"\",INDEX([1]WWVDS_USAGE!$A$2:$A$4,MATCH('External_Sensor (Desc)'!$E66,[1]!MASTER_SENSOR_USAGE_DESC[#Data],0),0))","v":""},{"$f":"IF('External_Sensor (Desc)'!F66=\"\",\"\",INDEX([1]SENSOR_TYPE!$A$2:$A$15,MATCH('External_Sensor (Desc)'!$F66,[1]!MASTER_SENSOR_TYPE_DESC[#Data],0),0))","v":""},{"$f":"IF('External_Sensor (Desc)'!$G66=\"\",\"\",INDEX([1]ITS_DEV_MANUF_MODEL!$A$2:$E$1000,MATCH(1,([1]ITS_DEV_MANUF_MODEL!$E$2:$E$1000=\"VDS\")*([1]ITS_DEV_MANUF_MODEL!$D$2:$D$1000='External_Sensor (Desc)'!$G66),0),1))","v":""},{"$f":"IF('External_Sensor (Desc)'!$G66=\"\",\"\",INDEX([1]ITS_DEV_MANUF_MODEL!$A$2:$E$1000,MATCH(1,([1]ITS_DEV_MANUF_MODEL!$E$2:$E$1000=\"VDS\")*([1]ITS_DEV_MANUF_MODEL!$D$2:$D$1000='External_Sensor (Desc)'!$G66),0),2))","v":""},{"$f":"IF('External_Sensor (Desc)'!I66=\"\",\"\",'External_Sensor (Desc)'!I66)","v":""},{"$f":"IF('External_Sensor (Desc)'!J66=\"\",\"\",'External_Sensor (Desc)'!J66)","v":""},{"$f":"IF('External_Sensor (Desc)'!K66=\"\",\"\",'External_Sensor (Desc)'!K66)","v":""},{"$f":"IF('External_Sensor (Desc)'!L66=\"\",\"\",'External_Sensor (Desc)'!L66)","v":""},{"$f":"IF('External_Sensor (Desc)'!M66=\"\",\"\",'External_Sensor (Desc)'!M66)","v":""}]
[{"$f":"IF('External_Sensor (Desc)'!A67=\"\",\"\",'External_Sensor (Desc)'!A67)","v":""},{"$f":"IF('External_Sensor (Desc)'!B67=\"\",\"\",\"1987\")","v":""},{"$f":"IF('External_Sensor (Desc)'!B67=\"\",\"\",'External_Sensor (Desc)'!B67)","v":""},{"$f":"IF('External_Sensor (Desc)'!C67=\"\",\"\",'External_Sensor (Desc)'!C67)","v":""},{"$f":"IF('External_Sensor (Desc)'!D67=\"\",\"\",'External_Sensor (Desc)'!D67)","v":""},{"$f":"IF('External_Sensor (Desc)'!E67=\"\",\"\",INDEX([1]WWVDS_USAGE!$A$2:$A$4,MATCH('External_Sensor (Desc)'!$E67,[1]!MASTER_SENSOR_USAGE_DESC[#Data],0),0))","v":""},{"$f":"IF('External_Sensor (Desc)'!F67=\"\",\"\",INDEX([1]SENSOR_TYPE!$A$2:$A$15,MATCH('External_Sensor (Desc)'!$F67,[1]!MASTER_SENSOR_TYPE_DESC[#Data],0),0))","v":""},{"$f":"IF('External_Sensor (Desc)'!$G67=\"\",\"\",INDEX([1]ITS_DEV_MANUF_MODEL!$A$2:$E$1000,MATCH(1,([1]ITS_DEV_MANUF_MODEL!$E$2:$E$1000=\"VDS\")*([1]ITS_DEV_MANUF_MODEL!$D$2:$D$1000='External_Sensor (Desc)'!$G67),0),1))","v":""},{"$f":"IF('External_Sensor (Desc)'!$G67=\"\",\"\",INDEX([1]ITS_DEV_MANUF_MODEL!$A$2:$E$1000,MATCH(1,([1]ITS_DEV_MANUF_MODEL!$E$2:$E$1000=\"VDS\")*([1]ITS_DEV_MANUF_MODEL!$D$2:$D$1000='External_Sensor (Desc)'!$G67),0),2))","v":""},{"$f":"IF('External_Sensor (Desc)'!I67=\"\",\"\",'External_Sensor (Desc)'!I67)","v":""},{"$f":"IF('External_Sensor (Desc)'!J67=\"\",\"\",'External_Sensor (Desc)'!J67)","v":""},{"$f":"IF('External_Sensor (Desc)'!K67=\"\",\"\",'External_Sensor (Desc)'!K67)","v":""},{"$f":"IF('External_Sensor (Desc)'!L67=\"\",\"\",'External_Sensor (Desc)'!L67)","v":""},{"$f":"IF('External_Sensor (Desc)'!M67=\"\",\"\",'External_Sensor (Desc)'!M67)","v":""}]
[{"$f":"IF('External_Sensor (Desc)'!A68=\"\",\"\",'External_Sensor (Desc)'!A68)","v":""},{"$f":"IF('External_Sensor (Desc)'!B68=\"\",\"\",\"1987\")","v":""},{"$f":"IF('External_Sensor (Desc)'!B68=\"\",\"\",'External_Sensor (Desc)'!B68)","v":""},{"$f":"IF('External_Sensor (Desc)'!C68=\"\",\"\",'External_Sensor (Desc)'!C68)","v":""},{"$f":"IF('External_Sensor (Desc)'!D68=\"\",\"\",'External_Sensor (Desc)'!D68)","v":""},{"$f":"IF('External_Sensor (Desc)'!E68=\"\",\"\",INDEX([1]WWVDS_USAGE!$A$2:$A$4,MATCH('External_Sensor (Desc)'!$E68,[1]!MASTER_SENSOR_USAGE_DESC[#Data],0),0))","v":""},{"$f":"IF('External_Sensor (Desc)'!F68=\"\",\"\",INDEX([1]SENSOR_TYPE!$A$2:$A$15,MATCH('External_Sensor (Desc)'!$F68,[1]!MASTER_SENSOR_TYPE_DESC[#Data],0),0))","v":""},{"$f":"IF('External_Sensor (Desc)'!$G68=\"\",\"\",INDEX([1]ITS_DEV_MANUF_MODEL!$A$2:$E$1000,MATCH(1,([1]ITS_DEV_MANUF_MODEL!$E$2:$E$1000=\"VDS\")*([1]ITS_DEV_MANUF_MODEL!$D$2:$D$1000='External_Sensor (Desc)'!$G68),0),1))","v":""},{"$f":"IF('External_Sensor (Desc)'!$G68=\"\",\"\",INDEX([1]ITS_DEV_MANUF_MODEL!$A$2:$E$1000,MATCH(1,([1]ITS_DEV_MANUF_MODEL!$E$2:$E$1000=\"VDS\")*([1]ITS_DEV_MANUF_MODEL!$D$2:$D$1000='External_Sensor (Desc)'!$G68),0),2))","v":""},{"$f":"IF('External_Sensor (Desc)'!I68=\"\",\"\",'External_Sensor (Desc)'!I68)","v":""},{"$f":"IF('External_Sensor (Desc)'!J68=\"\",\"\",'External_Sensor (Desc)'!J68)","v":""},{"$f":"IF('External_Sensor (Desc)'!K68=\"\",\"\",'External_Sensor (Desc)'!K68)","v":""},{"$f":"IF('External_Sensor (Desc)'!L68=\"\",\"\",'External_Sensor (Desc)'!L68)","v":""},{"$f":"IF('External_Sensor (Desc)'!M68=\"\",\"\",'External_Sensor (Desc)'!M68)","v":""}]
[{"$f":"IF('External_Sensor (Desc)'!A69=\"\",\"\",'External_Sensor (Desc)'!A69)","v":""},{"$f":"IF('External_Sensor (Desc)'!B69=\"\",\"\",\"1987\")","v":""},{"$f":"IF('External_Sensor (Desc)'!B69=\"\",\"\",'External_Sensor (Desc)'!B69)","v":""},{"$f":"IF('External_Sensor (Desc)'!C69=\"\",\"\",'External_Sensor (Desc)'!C69)","v":""},{"$f":"IF('External_Sensor (Desc)'!D69=\"\",\"\",'External_Sensor (Desc)'!D69)","v":""},{"$f":"IF('External_Sensor (Desc)'!E69=\"\",\"\",INDEX([1]WWVDS_USAGE!$A$2:$A$4,MATCH('External_Sensor (Desc)'!$E69,[1]!MASTER_SENSOR_USAGE_DESC[#Data],0),0))","v":""},{"$f":"IF('External_Sensor (Desc)'!F69=\"\",\"\",INDEX([1]SENSOR_TYPE!$A$2:$A$15,MATCH('External_Sensor (Desc)'!$F69,[1]!MASTER_SENSOR_TYPE_DESC[#Data],0),0))","v":""},{"$f":"IF('External_Sensor (Desc)'!$G69=\"\",\"\",INDEX([1]ITS_DEV_MANUF_MODEL!$A$2:$E$1000,MATCH(1,([1]ITS_DEV_MANUF_MODEL!$E$2:$E$1000=\"VDS\")*([1]ITS_DEV_MANUF_MODEL!$D$2:$D$1000='External_Sensor (Desc)'!$G69),0),1))","v":""},{"$f":"IF('External_Sensor (Desc)'!$G69=\"\",\"\",INDEX([1]ITS_DEV_MANUF_MODEL!$A$2:$E$1000,MATCH(1,([1]ITS_DEV_MANUF_MODEL!$E$2:$E$1000=\"VDS\")*([1]ITS_DEV_MANUF_MODEL!$D$2:$D$1000='External_Sensor (Desc)'!$G69),0),2))","v":""},{"$f":"IF('External_Sensor (Desc)'!I69=\"\",\"\",'External_Sensor (Desc)'!I69)","v":""},{"$f":"IF('External_Sensor (Desc)'!J69=\"\",\"\",'External_Sensor (Desc)'!J69)","v":""},{"$f":"IF('External_Sensor (Desc)'!K69=\"\",\"\",'External_Sensor (Desc)'!K69)","v":""},{"$f":"IF('External_Sensor (Desc)'!L69=\"\",\"\",'External_Sensor (Desc)'!L69)","v":""},{"$f":"IF('External_Sensor (Desc)'!M69=\"\",\"\",'External_Sensor (Desc)'!M69)","v":""}]
[{"$f":"IF('External_Sensor (Desc)'!A70=\"\",\"\",'External_Sensor (Desc)'!A70)","v":""},{"$f":"IF('External_Sensor (Desc)'!B70=\"\",\"\",\"1987\")","v":""},{"$f":"IF('External_Sensor (Desc)'!B70=\"\",\"\",'External_Sensor (Desc)'!B70)","v":""},{"$f":"IF('External_Sensor (Desc)'!C70=\"\",\"\",'External_Sensor (Desc)'!C70)","v":""},{"$f":"IF('External_Sensor (Desc)'!D70=\"\",\"\",'External_Sensor (Desc)'!D70)","v":""},{"$f":"IF('External_Sensor (Desc)'!E70=\"\",\"\",INDEX([1]WWVDS_USAGE!$A$2:$A$4,MATCH('External_Sensor (Desc)'!$E70,[1]!MASTER_SENSOR_USAGE_DESC[#Data],0),0))","v":""},{"$f":"IF('External_Sensor (Desc)'!F70=\"\",\"\",INDEX([1]SENSOR_TYPE!$A$2:$A$15,MATCH('External_Sensor (Desc)'!$F70,[1]!MASTER_SENSOR_TYPE_DESC[#Data],0),0))","v":""},{"$f":"IF('External_Sensor (Desc)'!$G70=\"\",\"\",INDEX([1]ITS_DEV_MANUF_MODEL!$A$2:$E$1000,MATCH(1,([1]ITS_DEV_MANUF_MODEL!$E$2:$E$1000=\"VDS\")*([1]ITS_DEV_MANUF_MODEL!$D$2:$D$1000='External_Sensor (Desc)'!$G70),0),1))","v":""},{"$f":"IF('External_Sensor (Desc)'!$G70=\"\",\"\",INDEX([1]ITS_DEV_MANUF_MODEL!$A$2:$E$1000,MATCH(1,([1]ITS_DEV_MANUF_MODEL!$E$2:$E$1000=\"VDS\")*([1]ITS_DEV_MANUF_MODEL!$D$2:$D$1000='External_Sensor (Desc)'!$G70),0),2))","v":""},{"$f":"IF('External_Sensor (Desc)'!I70=\"\",\"\",'External_Sensor (Desc)'!I70)","v":""},{"$f":"IF('External_Sensor (Desc)'!J70=\"\",\"\",'External_Sensor (Desc)'!J70)","v":""},{"$f":"IF('External_Sensor (Desc)'!K70=\"\",\"\",'External_Sensor (Desc)'!K70)","v":""},{"$f":"IF('External_Sensor (Desc)'!L70=\"\",\"\",'External_Sensor (Desc)'!L70)","v":""},{"$f":"IF('External_Sensor (Desc)'!M70=\"\",\"\",'External_Sensor (Desc)'!M70)","v":""}]
[{"$f":"IF('External_Sensor (Desc)'!A71=\"\",\"\",'External_Sensor (Desc)'!A71)","v":""},{"$f":"IF('External_Sensor (Desc)'!B71=\"\",\"\",\"1987\")","v":""},{"$f":"IF('External_Sensor (Desc)'!B71=\"\",\"\",'External_Sensor (Desc)'!B71)","v":""},{"$f":"IF('External_Sensor (Desc)'!C71=\"\",\"\",'External_Sensor (Desc)'!C71)","v":""},{"$f":"IF('External_Sensor (Desc)'!D71=\"\",\"\",'External_Sensor (Desc)'!D71)","v":""},{"$f":"IF('External_Sensor (Desc)'!E71=\"\",\"\",INDEX([1]WWVDS_USAGE!$A$2:$A$4,MATCH('External_Sensor (Desc)'!$E71,[1]!MASTER_SENSOR_USAGE_DESC[#Data],0),0))","v":""},{"$f":"IF('External_Sensor (Desc)'!F71=\"\",\"\",INDEX([1]SENSOR_TYPE!$A$2:$A$15,MATCH('External_Sensor (Desc)'!$F71,[1]!MASTER_SENSOR_TYPE_DESC[#Data],0),0))","v":""},{"$f":"IF('External_Sensor (Desc)'!$G71=\"\",\"\",INDEX([1]ITS_DEV_MANUF_MODEL!$A$2:$E$1000,MATCH(1,([1]ITS_DEV_MANUF_MODEL!$E$2:$E$1000=\"VDS\")*([1]ITS_DEV_MANUF_MODEL!$D$2:$D$1000='External_Sensor (Desc)'!$G71),0),1))","v":""},{"$f":"IF('External_Sensor (Desc)'!$G71=\"\",\"\",INDEX([1]ITS_DEV_MANUF_MODEL!$A$2:$E$1000,MATCH(1,([1]ITS_DEV_MANUF_MODEL!$E$2:$E$1000=\"VDS\")*([1]ITS_DEV_MANUF_MODEL!$D$2:$D$1000='External_Sensor (Desc)'!$G71),0),2))","v":""},{"$f":"IF('External_Sensor (Desc)'!I71=\"\",\"\",'External_Sensor (Desc)'!I71)","v":""},{"$f":"IF('External_Sensor (Desc)'!J71=\"\",\"\",'External_Sensor (Desc)'!J71)","v":""},{"$f":"IF('External_Sensor (Desc)'!K71=\"\",\"\",'External_Sensor (Desc)'!K71)","v":""},{"$f":"IF('External_Sensor (Desc)'!L71=\"\",\"\",'External_Sensor (Desc)'!L71)","v":""},{"$f":"IF('External_Sensor (Desc)'!M71=\"\",\"\",'External_Sensor (Desc)'!M71)","v":""}]
[{"$f":"IF('External_Sensor (Desc)'!A72=\"\",\"\",'External_Sensor (Desc)'!A72)","v":""},{"$f":"IF('External_Sensor (Desc)'!B72=\"\",\"\",\"1987\")","v":""},{"$f":"IF('External_Sensor (Desc)'!B72=\"\",\"\",'External_Sensor (Desc)'!B72)","v":""},{"$f":"IF('External_Sensor (Desc)'!C72=\"\",\"\",'External_Sensor (Desc)'!C72)","v":""},{"$f":"IF('External_Sensor (Desc)'!D72=\"\",\"\",'External_Sensor (Desc)'!D72)","v":""},{"$f":"IF('External_Sensor (Desc)'!E72=\"\",\"\",INDEX([1]WWVDS_USAGE!$A$2:$A$4,MATCH('External_Sensor (Desc)'!$E72,[1]!MASTER_SENSOR_USAGE_DESC[#Data],0),0))","v":""},{"$f":"IF('External_Sensor (Desc)'!F72=\"\",\"\",INDEX([1]SENSOR_TYPE!$A$2:$A$15,MATCH('External_Sensor (Desc)'!$F72,[1]!MASTER_SENSOR_TYPE_DESC[#Data],0),0))","v":""},{"$f":"IF('External_Sensor (Desc)'!$G72=\"\",\"\",INDEX([1]ITS_DEV_MANUF_MODEL!$A$2:$E$1000,MATCH(1,([1]ITS_DEV_MANUF_MODEL!$E$2:$E$1000=\"VDS\")*([1]ITS_DEV_MANUF_MODEL!$D$2:$D$1000='External_Sensor (Desc)'!$G72),0),1))","v":""},{"$f":"IF('External_Sensor (Desc)'!$G72=\"\",\"\",INDEX([1]ITS_DEV_MANUF_MODEL!$A$2:$E$1000,MATCH(1,([1]ITS_DEV_MANUF_MODEL!$E$2:$E$1000=\"VDS\")*([1]ITS_DEV_MANUF_MODEL!$D$2:$D$1000='External_Sensor (Desc)'!$G72),0),2))","v":""},{"$f":"IF('External_Sensor (Desc)'!I72=\"\",\"\",'External_Sensor (Desc)'!I72)","v":""},{"$f":"IF('External_Sensor (Desc)'!J72=\"\",\"\",'External_Sensor (Desc)'!J72)","v":""},{"$f":"IF('External_Sensor (Desc)'!K72=\"\",\"\",'External_Sensor (Desc)'!K72)","v":""},{"$f":"IF('External_Sensor (Desc)'!L72=\"\",\"\",'External_Sensor (Desc)'!L72)","v":""},{"$f":"IF('External_Sensor (Desc)'!M72=\"\",\"\",'External_Sensor (Desc)'!M72)","v":""}]
[{"$f":"IF('External_Sensor (Desc)'!A73=\"\",\"\",'External_Sensor (Desc)'!A73)","v":""},{"$f":"IF('External_Sensor (Desc)'!B73=\"\",\"\",\"1987\")","v":""},{"$f":"IF('External_Sensor (Desc)'!B73=\"\",\"\",'External_Sensor (Desc)'!B73)","v":""},{"$f":"IF('External_Sensor (Desc)'!C73=\"\",\"\",'External_Sensor (Desc)'!C73)","v":""},{"$f":"IF('External_Sensor (Desc)'!D73=\"\",\"\",'External_Sensor (Desc)'!D73)","v":""},{"$f":"IF('External_Sensor (Desc)'!E73=\"\",\"\",INDEX([1]WWVDS_USAGE!$A$2:$A$4,MATCH('External_Sensor (Desc)'!$E73,[1]!MASTER_SENSOR_USAGE_DESC[#Data],0),0))","v":""},{"$f":"IF('External_Sensor (Desc)'!F73=\"\",\"\",INDEX([1]SENSOR_TYPE!$A$2:$A$15,MATCH('External_Sensor (Desc)'!$F73,[1]!MASTER_SENSOR_TYPE_DESC[#Data],0),0))","v":""},{"$f":"IF('External_Sensor (Desc)'!$G73=\"\",\"\",INDEX([1]ITS_DEV_MANUF_MODEL!$A$2:$E$1000,MATCH(1,([1]ITS_DEV_MANUF_MODEL!$E$2:$E$1000=\"VDS\")*([1]ITS_DEV_MANUF_MODEL!$D$2:$D$1000='External_Sensor (Desc)'!$G73),0),1))","v":""},{"$f":"IF('External_Sensor (Desc)'!$G73=\"\",\"\",INDEX([1]ITS_DEV_MANUF_MODEL!$A$2:$E$1000,MATCH(1,([1]ITS_DEV_MANUF_MODEL!$E$2:$E$1000=\"VDS\")*([1]ITS_DEV_MANUF_MODEL!$D$2:$D$1000='External_Sensor (Desc)'!$G73),0),2))","v":""},{"$f":"IF('External_Sensor (Desc)'!I73=\"\",\"\",'External_Sensor (Desc)'!I73)","v":""},{"$f":"IF('External_Sensor (Desc)'!J73=\"\",\"\",'External_Sensor (Desc)'!J73)","v":""},{"$f":"IF('External_Sensor (Desc)'!K73=\"\",\"\",'External_Sensor (Desc)'!K73)","v":""},{"$f":"IF('External_Sensor (Desc)'!L73=\"\",\"\",'External_Sensor (Desc)'!L73)","v":""},{"$f":"IF('External_Sensor (Desc)'!M73=\"\",\"\",'External_Sensor (Desc)'!M73)","v":""}]
[{"$f":"IF('External_Sensor (Desc)'!A74=\"\",\"\",'External_Sensor (Desc)'!A74)","v":""},{"$f":"IF('External_Sensor (Desc)'!B74=\"\",\"\",\"1987\")","v":""},{"$f":"IF('External_Sensor (Desc)'!B74=\"\",\"\",'External_Sensor (Desc)'!B74)","v":""},{"$f":"IF('External_Sensor (Desc)'!C74=\"\",\"\",'External_Sensor (Desc)'!C74)","v":""},{"$f":"IF('External_Sensor (Desc)'!D74=\"\",\"\",'External_Sensor (Desc)'!D74)","v":""},{"$f":"IF('External_Sensor (Desc)'!E74=\"\",\"\",INDEX([1]WWVDS_USAGE!$A$2:$A$4,MATCH('External_Sensor (Desc)'!$E74,[1]!MASTER_SENSOR_USAGE_DESC[#Data],0),0))","v":""},{"$f":"IF('External_Sensor (Desc)'!F74=\"\",\"\",INDEX([1]SENSOR_TYPE!$A$2:$A$15,MATCH('External_Sensor (Desc)'!$F74,[1]!MASTER_SENSOR_TYPE_DESC[#Data],0),0))","v":""},{"$f":"IF('External_Sensor (Desc)'!$G74=\"\",\"\",INDEX([1]ITS_DEV_MANUF_MODEL!$A$2:$E$1000,MATCH(1,([1]ITS_DEV_MANUF_MODEL!$E$2:$E$1000=\"VDS\")*([1]ITS_DEV_MANUF_MODEL!$D$2:$D$1000='External_Sensor (Desc)'!$G74),0),1))","v":""},{"$f":"IF('External_Sensor (Desc)'!$G74=\"\",\"\",INDEX([1]ITS_DEV_MANUF_MODEL!$A$2:$E$1000,MATCH(1,([1]ITS_DEV_MANUF_MODEL!$E$2:$E$1000=\"VDS\")*([1]ITS_DEV_MANUF_MODEL!$D$2:$D$1000='External_Sensor (Desc)'!$G74),0),2))","v":""},{"$f":"IF('External_Sensor (Desc)'!I74=\"\",\"\",'External_Sensor (Desc)'!I74)","v":""},{"$f":"IF('External_Sensor (Desc)'!J74=\"\",\"\",'External_Sensor (Desc)'!J74)","v":""},{"$f":"IF('External_Sensor (Desc)'!K74=\"\",\"\",'External_Sensor (Desc)'!K74)","v":""},{"$f":"IF('External_Sensor (Desc)'!L74=\"\",\"\",'External_Sensor (Desc)'!L74)","v":""},{"$f":"IF('External_Sensor (Desc)'!M74=\"\",\"\",'External_Sensor (Desc)'!M74)","v":""}]
[{"$f":"IF('External_Sensor (Desc)'!A75=\"\",\"\",'External_Sensor (Desc)'!A75)","v":""},{"$f":"IF('External_Sensor (Desc)'!B75=\"\",\"\",\"1987\")","v":""},{"$f":"IF('External_Sensor (Desc)'!B75=\"\",\"\",'External_Sensor (Desc)'!B75)","v":""},{"$f":"IF('External_Sensor (Desc)'!C75=\"\",\"\",'External_Sensor (Desc)'!C75)","v":""},{"$f":"IF('External_Sensor (Desc)'!D75=\"\",\"\",'External_Sensor (Desc)'!D75)","v":""},{"$f":"IF('External_Sensor (Desc)'!E75=\"\",\"\",INDEX([1]WWVDS_USAGE!$A$2:$A$4,MATCH('External_Sensor (Desc)'!$E75,[1]!MASTER_SENSOR_USAGE_DESC[#Data],0),0))","v":""},{"$f":"IF('External_Sensor (Desc)'!F75=\"\",\"\",INDEX([1]SENSOR_TYPE!$A$2:$A$15,MATCH('External_Sensor (Desc)'!$F75,[1]!MASTER_SENSOR_TYPE_DESC[#Data],0),0))","v":""},{"$f":"IF('External_Sensor (Desc)'!$G75=\"\",\"\",INDEX([1]ITS_DEV_MANUF_MODEL!$A$2:$E$1000,MATCH(1,([1]ITS_DEV_MANUF_MODEL!$E$2:$E$1000=\"VDS\")*([1]ITS_DEV_MANUF_MODEL!$D$2:$D$1000='External_Sensor (Desc)'!$G75),0),1))","v":""},{"$f":"IF('External_Sensor (Desc)'!$G75=\"\",\"\",INDEX([1]ITS_DEV_MANUF_MODEL!$A$2:$E$1000,MATCH(1,([1]ITS_DEV_MANUF_MODEL!$E$2:$E$1000=\"VDS\")*([1]ITS_DEV_MANUF_MODEL!$D$2:$D$1000='External_Sensor (Desc)'!$G75),0),2))","v":""},{"$f":"IF('External_Sensor (Desc)'!I75=\"\",\"\",'External_Sensor (Desc)'!I75)","v":""},{"$f":"IF('External_Sensor (Desc)'!J75=\"\",\"\",'External_Sensor (Desc)'!J75)","v":""},{"$f":"IF('External_Sensor (Desc)'!K75=\"\",\"\",'External_Sensor (Desc)'!K75)","v":""},{"$f":"IF('External_Sensor (Desc)'!L75=\"\",\"\",'External_Sensor (Desc)'!L75)","v":""},{"$f":"IF('External_Sensor (Desc)'!M75=\"\",\"\",'External_Sensor (Desc)'!M75)","v":""}]
[{"$f":"IF('External_Sensor (Desc)'!A76=\"\",\"\",'External_Sensor (Desc)'!A76)","v":""},{"$f":"IF('External_Sensor (Desc)'!B76=\"\",\"\",\"1987\")","v":""},{"$f":"IF('External_Sensor (Desc)'!B76=\"\",\"\",'External_Sensor (Desc)'!B76)","v":""},{"$f":"IF('External_Sensor (Desc)'!C76=\"\",\"\",'External_Sensor (Desc)'!C76)","v":""},{"$f":"IF('External_Sensor (Desc)'!D76=\"\",\"\",'External_Sensor (Desc)'!D76)","v":""},{"$f":"IF('External_Sensor (Desc)'!E76=\"\",\"\",INDEX([1]WWVDS_USAGE!$A$2:$A$4,MATCH('External_Sensor (Desc)'!$E76,[1]!MASTER_SENSOR_USAGE_DESC[#Data],0),0))","v":""},{"$f":"IF('External_Sensor (Desc)'!F76=\"\",\"\",INDEX([1]SENSOR_TYPE!$A$2:$A$15,MATCH('External_Sensor (Desc)'!$F76,[1]!MASTER_SENSOR_TYPE_DESC[#Data],0),0))","v":""},{"$f":"IF('External_Sensor (Desc)'!$G76=\"\",\"\",INDEX([1]ITS_DEV_MANUF_MODEL!$A$2:$E$1000,MATCH(1,([1]ITS_DEV_MANUF_MODEL!$E$2:$E$1000=\"VDS\")*([1]ITS_DEV_MANUF_MODEL!$D$2:$D$1000='External_Sensor (Desc)'!$G76),0),1))","v":""},{"$f":"IF('External_Sensor (Desc)'!$G76=\"\",\"\",INDEX([1]ITS_DEV_MANUF_MODEL!$A$2:$E$1000,MATCH(1,([1]ITS_DEV_MANUF_MODEL!$E$2:$E$1000=\"VDS\")*([1]ITS_DEV_MANUF_MODEL!$D$2:$D$1000='External_Sensor (Desc)'!$G76),0),2))","v":""},{"$f":"IF('External_Sensor (Desc)'!I76=\"\",\"\",'External_Sensor (Desc)'!I76)","v":""},{"$f":"IF('External_Sensor (Desc)'!J76=\"\",\"\",'External_Sensor (Desc)'!J76)","v":""},{"$f":"IF('External_Sensor (Desc)'!K76=\"\",\"\",'External_Sensor (Desc)'!K76)","v":""},{"$f":"IF('External_Sensor (Desc)'!L76=\"\",\"\",'External_Sensor (Desc)'!L76)","v":""},{"$f":"IF('External_Sensor (Desc)'!M76=\"\",\"\",'External_Sensor (Desc)'!M76)","v":""}]
[{"$f":"IF('External_Sensor (Desc)'!A77=\"\",\"\",'External_Sensor (Desc)'!A77)","v":""},{"$f":"IF('External_Sensor (Desc)'!B77=\"\",\"\",\"1987\")","v":""},{"$f":"IF('External_Sensor (Desc)'!B77=\"\",\"\",'External_Sensor (Desc)'!B77)","v":""},{"$f":"IF('External_Sensor (Desc)'!C77=\"\",\"\",'External_Sensor (Desc)'!C77)","v":""},{"$f":"IF('External_Sensor (Desc)'!D77=\"\",\"\",'External_Sensor (Desc)'!D77)","v":""},{"$f":"IF('External_Sensor (Desc)'!E77=\"\",\"\",INDEX([1]WWVDS_USAGE!$A$2:$A$4,MATCH('External_Sensor (Desc)'!$E77,[1]!MASTER_SENSOR_USAGE_DESC[#Data],0),0))","v":""},{"$f":"IF('External_Sensor (Desc)'!F77=\"\",\"\",INDEX([1]SENSOR_TYPE!$A$2:$A$15,MATCH('External_Sensor (Desc)'!$F77,[1]!MASTER_SENSOR_TYPE_DESC[#Data],0),0))","v":""},{"$f":"IF('External_Sensor (Desc)'!$G77=\"\",\"\",INDEX([1]ITS_DEV_MANUF_MODEL!$A$2:$E$1000,MATCH(1,([1]ITS_DEV_MANUF_MODEL!$E$2:$E$1000=\"VDS\")*([1]ITS_DEV_MANUF_MODEL!$D$2:$D$1000='External_Sensor (Desc)'!$G77),0),1))","v":""},{"$f":"IF('External_Sensor (Desc)'!$G77=\"\",\"\",INDEX([1]ITS_DEV_MANUF_MODEL!$A$2:$E$1000,MATCH(1,([1]ITS_DEV_MANUF_MODEL!$E$2:$E$1000=\"VDS\")*([1]ITS_DEV_MANUF_MODEL!$D$2:$D$1000='External_Sensor (Desc)'!$G77),0),2))","v":""},{"$f":"IF('External_Sensor (Desc)'!I77=\"\",\"\",'External_Sensor (Desc)'!I77)","v":""},{"$f":"IF('External_Sensor (Desc)'!J77=\"\",\"\",'External_Sensor (Desc)'!J77)","v":""},{"$f":"IF('External_Sensor (Desc)'!K77=\"\",\"\",'External_Sensor (Desc)'!K77)","v":""},{"$f":"IF('External_Sensor (Desc)'!L77=\"\",\"\",'External_Sensor (Desc)'!L77)","v":""},{"$f":"IF('External_Sensor (Desc)'!M77=\"\",\"\",'External_Sensor (Desc)'!M77)","v":""}]
[{"$f":"IF('External_Sensor (Desc)'!A78=\"\",\"\",'External_Sensor (Desc)'!A78)","v":""},{"$f":"IF('External_Sensor (Desc)'!B78=\"\",\"\",\"1987\")","v":""},{"$f":"IF('External_Sensor (Desc)'!B78=\"\",\"\",'External_Sensor (Desc)'!B78)","v":""},{"$f":"IF('External_Sensor (Desc)'!C78=\"\",\"\",'External_Sensor (Desc)'!C78)","v":""},{"$f":"IF('External_Sensor (Desc)'!D78=\"\",\"\",'External_Sensor (Desc)'!D78)","v":""},{"$f":"IF('External_Sensor (Desc)'!E78=\"\",\"\",INDEX([1]WWVDS_USAGE!$A$2:$A$4,MATCH('External_Sensor (Desc)'!$E78,[1]!MASTER_SENSOR_USAGE_DESC[#Data],0),0))","v":""},{"$f":"IF('External_Sensor (Desc)'!F78=\"\",\"\",INDEX([1]SENSOR_TYPE!$A$2:$A$15,MATCH('External_Sensor (Desc)'!$F78,[1]!MASTER_SENSOR_TYPE_DESC[#Data],0),0))","v":""},{"$f":"IF('External_Sensor (Desc)'!$G78=\"\",\"\",INDEX([1]ITS_DEV_MANUF_MODEL!$A$2:$E$1000,MATCH(1,([1]ITS_DEV_MANUF_MODEL!$E$2:$E$1000=\"VDS\")*([1]ITS_DEV_MANUF_MODEL!$D$2:$D$1000='External_Sensor (Desc)'!$G78),0),1))","v":""},{"$f":"IF('External_Sensor (Desc)'!$G78=\"\",\"\",INDEX([1]ITS_DEV_MANUF_MODEL!$A$2:$E$1000,MATCH(1,([1]ITS_DEV_MANUF_MODEL!$E$2:$E$1000=\"VDS\")*([1]ITS_DEV_MANUF_MODEL!$D$2:$D$1000='External_Sensor (Desc)'!$G78),0),2))","v":""},{"$f":"IF('External_Sensor (Desc)'!I78=\"\",\"\",'External_Sensor (Desc)'!I78)","v":""},{"$f":"IF('External_Sensor (Desc)'!J78=\"\",\"\",'External_Sensor (Desc)'!J78)","v":""},{"$f":"IF('External_Sensor (Desc)'!K78=\"\",\"\",'External_Sensor (Desc)'!K78)","v":""},{"$f":"IF('External_Sensor (Desc)'!L78=\"\",\"\",'External_Sensor (Desc)'!L78)","v":""},{"$f":"IF('External_Sensor (Desc)'!M78=\"\",\"\",'External_Sensor (Desc)'!M78)","v":""}]
[{"$f":"IF('External_Sensor (Desc)'!A79=\"\",\"\",'External_Sensor (Desc)'!A79)","v":""},{"$f":"IF('External_Sensor (Desc)'!B79=\"\",\"\",\"1987\")","v":""},{"$f":"IF('External_Sensor (Desc)'!B79=\"\",\"\",'External_Sensor (Desc)'!B79)","v":""},{"$f":"IF('External_Sensor (Desc)'!C79=\"\",\"\",'External_Sensor (Desc)'!C79)","v":""},{"$f":"IF('External_Sensor (Desc)'!D79=\"\",\"\",'External_Sensor (Desc)'!D79)","v":""},{"$f":"IF('External_Sensor (Desc)'!E79=\"\",\"\",INDEX([1]WWVDS_USAGE!$A$2:$A$4,MATCH('External_Sensor (Desc)'!$E79,[1]!MASTER_SENSOR_USAGE_DESC[#Data],0),0))","v":""},{"$f":"IF('External_Sensor (Desc)'!F79=\"\",\"\",INDEX([1]SENSOR_TYPE!$A$2:$A$15,MATCH('External_Sensor (Desc)'!$F79,[1]!MASTER_SENSOR_TYPE_DESC[#Data],0),0))","v":""},{"$f":"IF('External_Sensor (Desc)'!$G79=\"\",\"\",INDEX([1]ITS_DEV_MANUF_MODEL!$A$2:$E$1000,MATCH(1,([1]ITS_DEV_MANUF_MODEL!$E$2:$E$1000=\"VDS\")*([1]ITS_DEV_MANUF_MODEL!$D$2:$D$1000='External_Sensor (Desc)'!$G79),0),1))","v":""},{"$f":"IF('External_Sensor (Desc)'!$G79=\"\",\"\",INDEX([1]ITS_DEV_MANUF_MODEL!$A$2:$E$1000,MATCH(1,([1]ITS_DEV_MANUF_MODEL!$E$2:$E$1000=\"VDS\")*([1]ITS_DEV_MANUF_MODEL!$D$2:$D$1000='External_Sensor (Desc)'!$G79),0),2))","v":""},{"$f":"IF('External_Sensor (Desc)'!I79=\"\",\"\",'External_Sensor (Desc)'!I79)","v":""},{"$f":"IF('External_Sensor (Desc)'!J79=\"\",\"\",'External_Sensor (Desc)'!J79)","v":""},{"$f":"IF('External_Sensor (Desc)'!K79=\"\",\"\",'External_Sensor (Desc)'!K79)","v":""},{"$f":"IF('External_Sensor (Desc)'!L79=\"\",\"\",'External_Sensor (Desc)'!L79)","v":""},{"$f":"IF('External_Sensor (Desc)'!M79=\"\",\"\",'External_Sensor (Desc)'!M79)","v":""}]
[{"$f":"IF('External_Sensor (Desc)'!A80=\"\",\"\",'External_Sensor (Desc)'!A80)","v":""},{"$f":"IF('External_Sensor (Desc)'!B80=\"\",\"\",\"1987\")","v":""},{"$f":"IF('External_Sensor (Desc)'!B80=\"\",\"\",'External_Sensor (Desc)'!B80)","v":""},{"$f":"IF('External_Sensor (Desc)'!C80=\"\",\"\",'External_Sensor (Desc)'!C80)","v":""},{"$f":"IF('External_Sensor (Desc)'!D80=\"\",\"\",'External_Sensor (Desc)'!D80)","v":""},{"$f":"IF('External_Sensor (Desc)'!E80=\"\",\"\",INDEX([1]WWVDS_USAGE!$A$2:$A$4,MATCH('External_Sensor (Desc)'!$E80,[1]!MASTER_SENSOR_USAGE_DESC[#Data],0),0))","v":""},{"$f":"IF('External_Sensor (Desc)'!F80=\"\",\"\",INDEX([1]SENSOR_TYPE!$A$2:$A$15,MATCH('External_Sensor (Desc)'!$F80,[1]!MASTER_SENSOR_TYPE_DESC[#Data],0),0))","v":""},{"$f":"IF('External_Sensor (Desc)'!$G80=\"\",\"\",INDEX([1]ITS_DEV_MANUF_MODEL!$A$2:$E$1000,MATCH(1,([1]ITS_DEV_MANUF_MODEL!$E$2:$E$1000=\"VDS\")*([1]ITS_DEV_MANUF_MODEL!$D$2:$D$1000='External_Sensor (Desc)'!$G80),0),1))","v":""},{"$f":"IF('External_Sensor (Desc)'!$G80=\"\",\"\",INDEX([1]ITS_DEV_MANUF_MODEL!$A$2:$E$1000,MATCH(1,([1]ITS_DEV_MANUF_MODEL!$E$2:$E$1000=\"VDS\")*([1]ITS_DEV_MANUF_MODEL!$D$2:$D$1000='External_Sensor (Desc)'!$G80),0),2))","v":""},{"$f":"IF('External_Sensor (Desc)'!I80=\"\",\"\",'External_Sensor (Desc)'!I80)","v":""},{"$f":"IF('External_Sensor (Desc)'!J80=\"\",\"\",'External_Sensor (Desc)'!J80)","v":""},{"$f":"IF('External_Sensor (Desc)'!K80=\"\",\"\",'External_Sensor (Desc)'!K80)","v":""},{"$f":"IF('External_Sensor (Desc)'!L80=\"\",\"\",'External_Sensor (Desc)'!L80)","v":""},{"$f":"IF('External_Sensor (Desc)'!M80=\"\",\"\",'External_Sensor (Desc)'!M80)","v":""}]
[{"$f":"IF('External_Sensor (Desc)'!A81=\"\",\"\",'External_Sensor (Desc)'!A81)","v":""},{"$f":"IF('External_Sensor (Desc)'!B81=\"\",\"\",\"1987\")","v":""},{"$f":"IF('External_Sensor (Desc)'!B81=\"\",\"\",'External_Sensor (Desc)'!B81)","v":""},{"$f":"IF('External_Sensor (Desc)'!C81=\"\",\"\",'External_Sensor (Desc)'!C81)","v":""},{"$f":"IF('External_Sensor (Desc)'!D81=\"\",\"\",'External_Sensor (Desc)'!D81)","v":""},{"$f":"IF('External_Sensor (Desc)'!E81=\"\",\"\",INDEX([1]WWVDS_USAGE!$A$2:$A$4,MATCH('External_Sensor (Desc)'!$E81,[1]!MASTER_SENSOR_USAGE_DESC[#Data],0),0))","v":""},{"$f":"IF('External_Sensor (Desc)'!F81=\"\",\"\",INDEX([1]SENSOR_TYPE!$A$2:$A$15,MATCH('External_Sensor (Desc)'!$F81,[1]!MASTER_SENSOR_TYPE_DESC[#Data],0),0))","v":""},{"$f":"IF('External_Sensor (Desc)'!$G81=\"\",\"\",INDEX([1]ITS_DEV_MANUF_MODEL!$A$2:$E$1000,MATCH(1,([1]ITS_DEV_MANUF_MODEL!$E$2:$E$1000=\"VDS\")*([1]ITS_DEV_MANUF_MODEL!$D$2:$D$1000='External_Sensor (Desc)'!$G81),0),1))","v":""},{"$f":"IF('External_Sensor (Desc)'!$G81=\"\",\"\",INDEX([1]ITS_DEV_MANUF_MODEL!$A$2:$E$1000,MATCH(1,([1]ITS_DEV_MANUF_MODEL!$E$2:$E$1000=\"VDS\")*([1]ITS_DEV_MANUF_MODEL!$D$2:$D$1000='External_Sensor (Desc)'!$G81),0),2))","v":""},{"$f":"IF('External_Sensor (Desc)'!I81=\"\",\"\",'External_Sensor (Desc)'!I81)","v":""},{"$f":"IF('External_Sensor (Desc)'!J81=\"\",\"\",'External_Sensor (Desc)'!J81)","v":""},{"$f":"IF('External_Sensor (Desc)'!K81=\"\",\"\",'External_Sensor (Desc)'!K81)","v":""},{"$f":"IF('External_Sensor (Desc)'!L81=\"\",\"\",'External_Sensor (Desc)'!L81)","v":""},{"$f":"IF('External_Sensor (Desc)'!M81=\"\",\"\",'External_Sensor (Desc)'!M81)","v":""}]
[{"$f":"IF('External_Sensor (Desc)'!A82=\"\",\"\",'External_Sensor (Desc)'!A82)","v":""},{"$f":"IF('External_Sensor (Desc)'!B82=\"\",\"\",\"1987\")","v":""},{"$f":"IF('External_Sensor (Desc)'!B82=\"\",\"\",'External_Sensor (Desc)'!B82)","v":""},{"$f":"IF('External_Sensor (Desc)'!C82=\"\",\"\",'External_Sensor (Desc)'!C82)","v":""},{"$f":"IF('External_Sensor (Desc)'!D82=\"\",\"\",'External_Sensor (Desc)'!D82)","v":""},{"$f":"IF('External_Sensor (Desc)'!E82=\"\",\"\",INDEX([1]WWVDS_USAGE!$A$2:$A$4,MATCH('External_Sensor (Desc)'!$E82,[1]!MASTER_SENSOR_USAGE_DESC[#Data],0),0))","v":""},{"$f":"IF('External_Sensor (Desc)'!F82=\"\",\"\",INDEX([1]SENSOR_TYPE!$A$2:$A$15,MATCH('External_Sensor (Desc)'!$F82,[1]!MASTER_SENSOR_TYPE_DESC[#Data],0),0))","v":""},{"$f":"IF('External_Sensor (Desc)'!$G82=\"\",\"\",INDEX([1]ITS_DEV_MANUF_MODEL!$A$2:$E$1000,MATCH(1,([1]ITS_DEV_MANUF_MODEL!$E$2:$E$1000=\"VDS\")*([1]ITS_DEV_MANUF_MODEL!$D$2:$D$1000='External_Sensor (Desc)'!$G82),0),1))","v":""},{"$f":"IF('External_Sensor (Desc)'!$G82=\"\",\"\",INDEX([1]ITS_DEV_MANUF_MODEL!$A$2:$E$1000,MATCH(1,([1]ITS_DEV_MANUF_MODEL!$E$2:$E$1000=\"VDS\")*([1]ITS_DEV_MANUF_MODEL!$D$2:$D$1000='External_Sensor (Desc)'!$G82),0),2))","v":""},{"$f":"IF('External_Sensor (Desc)'!I82=\"\",\"\",'External_Sensor (Desc)'!I82)","v":""},{"$f":"IF('External_Sensor (Desc)'!J82=\"\",\"\",'External_Sensor (Desc)'!J82)","v":""},{"$f":"IF('External_Sensor (Desc)'!K82=\"\",\"\",'External_Sensor (Desc)'!K82)","v":""},{"$f":"IF('External_Sensor (Desc)'!L82=\"\",\"\",'External_Sensor (Desc)'!L82)","v":""},{"$f":"IF('External_Sensor (Desc)'!M82=\"\",\"\",'External_Sensor (Desc)'!M82)","v":""}]
[{"$f":"IF('External_Sensor (Desc)'!A83=\"\",\"\",'External_Sensor (Desc)'!A83)","v":""},{"$f":"IF('External_Sensor (Desc)'!B83=\"\",\"\",\"1987\")","v":""},{"$f":"IF('External_Sensor (Desc)'!B83=\"\",\"\",'External_Sensor (Desc)'!B83)","v":""},{"$f":"IF('External_Sensor (Desc)'!C83=\"\",\"\",'External_Sensor (Desc)'!C83)","v":""},{"$f":"IF('External_Sensor (Desc)'!D83=\"\",\"\",'External_Sensor (Desc)'!D83)","v":""},{"$f":"IF('External_Sensor (Desc)'!E83=\"\",\"\",INDEX([1]WWVDS_USAGE!$A$2:$A$4,MATCH('External_Sensor (Desc)'!$E83,[1]!MASTER_SENSOR_USAGE_DESC[#Data],0),0))","v":""},{"$f":"IF('External_Sensor (Desc)'!F83=\"\",\"\",INDEX([1]SENSOR_TYPE!$A$2:$A$15,MATCH('External_Sensor (Desc)'!$F83,[1]!MASTER_SENSOR_TYPE_DESC[#Data],0),0))","v":""},{"$f":"IF('External_Sensor (Desc)'!$G83=\"\",\"\",INDEX([1]ITS_DEV_MANUF_MODEL!$A$2:$E$1000,MATCH(1,([1]ITS_DEV_MANUF_MODEL!$E$2:$E$1000=\"VDS\")*([1]ITS_DEV_MANUF_MODEL!$D$2:$D$1000='External_Sensor (Desc)'!$G83),0),1))","v":""},{"$f":"IF('External_Sensor (Desc)'!$G83=\"\",\"\",INDEX([1]ITS_DEV_MANUF_MODEL!$A$2:$E$1000,MATCH(1,([1]ITS_DEV_MANUF_MODEL!$E$2:$E$1000=\"VDS\")*([1]ITS_DEV_MANUF_MODEL!$D$2:$D$1000='External_Sensor (Desc)'!$G83),0),2))","v":""},{"$f":"IF('External_Sensor (Desc)'!I83=\"\",\"\",'External_Sensor (Desc)'!I83)","v":""},{"$f":"IF('External_Sensor (Desc)'!J83=\"\",\"\",'External_Sensor (Desc)'!J83)","v":""},{"$f":"IF('External_Sensor (Desc)'!K83=\"\",\"\",'External_Sensor (Desc)'!K83)","v":""},{"$f":"IF('External_Sensor (Desc)'!L83=\"\",\"\",'External_Sensor (Desc)'!L83)","v":""},{"$f":"IF('External_Sensor (Desc)'!M83=\"\",\"\",'External_Sensor (Desc)'!M83)","v":""}]
[{"$f":"IF('External_Sensor (Desc)'!A84=\"\",\"\",'External_Sensor (Desc)'!A84)","v":""},{"$f":"IF('External_Sensor (Desc)'!B84=\"\",\"\",\"1987\")","v":""},{"$f":"IF('External_Sensor (Desc)'!B84=\"\",\"\",'External_Sensor (Desc)'!B84)","v":""},{"$f":"IF('External_Sensor (Desc)'!C84=\"\",\"\",'External_Sensor (Desc)'!C84)","v":""},{"$f":"IF('External_Sensor (Desc)'!D84=\"\",\"\",'External_Sensor (Desc)'!D84)","v":""},{"$f":"IF('External_Sensor (Desc)'!E84=\"\",\"\",INDEX([1]WWVDS_USAGE!$A$2:$A$4,MATCH('External_Sensor (Desc)'!$E84,[1]!MASTER_SENSOR_USAGE_DESC[#Data],0),0))","v":""},{"$f":"IF('External_Sensor (Desc)'!F84=\"\",\"\",INDEX([1]SENSOR_TYPE!$A$2:$A$15,MATCH('External_Sensor (Desc)'!$F84,[1]!MASTER_SENSOR_TYPE_DESC[#Data],0),0))","v":""},{"$f":"IF('External_Sensor (Desc)'!$G84=\"\",\"\",INDEX([1]ITS_DEV_MANUF_MODEL!$A$2:$E$1000,MATCH(1,([1]ITS_DEV_MANUF_MODEL!$E$2:$E$1000=\"VDS\")*([1]ITS_DEV_MANUF_MODEL!$D$2:$D$1000='External_Sensor (Desc)'!$G84),0),1))","v":""},{"$f":"IF('External_Sensor (Desc)'!$G84=\"\",\"\",INDEX([1]ITS_DEV_MANUF_MODEL!$A$2:$E$1000,MATCH(1,([1]ITS_DEV_MANUF_MODEL!$E$2:$E$1000=\"VDS\")*([1]ITS_DEV_MANUF_MODEL!$D$2:$D$1000='External_Sensor (Desc)'!$G84),0),2))","v":""},{"$f":"IF('External_Sensor (Desc)'!I84=\"\",\"\",'External_Sensor (Desc)'!I84)","v":""},{"$f":"IF('External_Sensor (Desc)'!J84=\"\",\"\",'External_Sensor (Desc)'!J84)","v":""},{"$f":"IF('External_Sensor (Desc)'!K84=\"\",\"\",'External_Sensor (Desc)'!K84)","v":""},{"$f":"IF('External_Sensor (Desc)'!L84=\"\",\"\",'External_Sensor (Desc)'!L84)","v":""},{"$f":"IF('External_Sensor (Desc)'!M84=\"\",\"\",'External_Sensor (Desc)'!M84)","v":""}]
[{"$f":"IF('External_Sensor (Desc)'!A85=\"\",\"\",'External_Sensor (Desc)'!A85)","v":""},{"$f":"IF('External_Sensor (Desc)'!B85=\"\",\"\",\"1987\")","v":""},{"$f":"IF('External_Sensor (Desc)'!B85=\"\",\"\",'External_Sensor (Desc)'!B85)","v":""},{"$f":"IF('External_Sensor (Desc)'!C85=\"\",\"\",'External_Sensor (Desc)'!C85)","v":""},{"$f":"IF('External_Sensor (Desc)'!D85=\"\",\"\",'External_Sensor (Desc)'!D85)","v":""},{"$f":"IF('External_Sensor (Desc)'!E85=\"\",\"\",INDEX([1]WWVDS_USAGE!$A$2:$A$4,MATCH('External_Sensor (Desc)'!$E85,[1]!MASTER_SENSOR_USAGE_DESC[#Data],0),0))","v":""},{"$f":"IF('External_Sensor (Desc)'!F85=\"\",\"\",INDEX([1]SENSOR_TYPE!$A$2:$A$15,MATCH('External_Sensor (Desc)'!$F85,[1]!MASTER_SENSOR_TYPE_DESC[#Data],0),0))","v":""},{"$f":"IF('External_Sensor (Desc)'!$G85=\"\",\"\",INDEX([1]ITS_DEV_MANUF_MODEL!$A$2:$E$1000,MATCH(1,([1]ITS_DEV_MANUF_MODEL!$E$2:$E$1000=\"VDS\")*([1]ITS_DEV_MANUF_MODEL!$D$2:$D$1000='External_Sensor (Desc)'!$G85),0),1))","v":""},{"$f":"IF('External_Sensor (Desc)'!$G85=\"\",\"\",INDEX([1]ITS_DEV_MANUF_MODEL!$A$2:$E$1000,MATCH(1,([1]ITS_DEV_MANUF_MODEL!$E$2:$E$1000=\"VDS\")*([1]ITS_DEV_MANUF_MODEL!$D$2:$D$1000='External_Sensor (Desc)'!$G85),0),2))","v":""},{"$f":"IF('External_Sensor (Desc)'!I85=\"\",\"\",'External_Sensor (Desc)'!I85)","v":""},{"$f":"IF('External_Sensor (Desc)'!J85=\"\",\"\",'External_Sensor (Desc)'!J85)","v":""},{"$f":"IF('External_Sensor (Desc)'!K85=\"\",\"\",'External_Sensor (Desc)'!K85)","v":""},{"$f":"IF('External_Sensor (Desc)'!L85=\"\",\"\",'External_Sensor (Desc)'!L85)","v":""},{"$f":"IF('External_Sensor (Desc)'!M85=\"\",\"\",'External_Sensor (Desc)'!M85)","v":""}]
[{"$f":"IF('External_Sensor (Desc)'!A86=\"\",\"\",'External_Sensor (Desc)'!A86)","v":""},{"$f":"IF('External_Sensor (Desc)'!B86=\"\",\"\",\"1987\")","v":""},{"$f":"IF('External_Sensor (Desc)'!B86=\"\",\"\",'External_Sensor (Desc)'!B86)","v":""},{"$f":"IF('External_Sensor (Desc)'!C86=\"\",\"\",'External_Sensor (Desc)'!C86)","v":""},{"$f":"IF('External_Sensor (Desc)'!D86=\"\",\"\",'External_Sensor (Desc)'!D86)","v":""},{"$f":"IF('External_Sensor (Desc)'!E86=\"\",\"\",INDEX([1]WWVDS_USAGE!$A$2:$A$4,MATCH('External_Sensor (Desc)'!$E86,[1]!MASTER_SENSOR_USAGE_DESC[#Data],0),0))","v":""},{"$f":"IF('External_Sensor (Desc)'!F86=\"\",\"\",INDEX([1]SENSOR_TYPE!$A$2:$A$15,MATCH('External_Sensor (Desc)'!$F86,[1]!MASTER_SENSOR_TYPE_DESC[#Data],0),0))","v":""},{"$f":"IF('External_Sensor (Desc)'!$G86=\"\",\"\",INDEX([1]ITS_DEV_MANUF_MODEL!$A$2:$E$1000,MATCH(1,([1]ITS_DEV_MANUF_MODEL!$E$2:$E$1000=\"VDS\")*([1]ITS_DEV_MANUF_MODEL!$D$2:$D$1000='External_Sensor (Desc)'!$G86),0),1))","v":""},{"$f":"IF('External_Sensor (Desc)'!$G86=\"\",\"\",INDEX([1]ITS_DEV_MANUF_MODEL!$A$2:$E$1000,MATCH(1,([1]ITS_DEV_MANUF_MODEL!$E$2:$E$1000=\"VDS\")*([1]ITS_DEV_MANUF_MODEL!$D$2:$D$1000='External_Sensor (Desc)'!$G86),0),2))","v":""},{"$f":"IF('External_Sensor (Desc)'!I86=\"\",\"\",'External_Sensor (Desc)'!I86)","v":""},{"$f":"IF('External_Sensor (Desc)'!J86=\"\",\"\",'External_Sensor (Desc)'!J86)","v":""},{"$f":"IF('External_Sensor (Desc)'!K86=\"\",\"\",'External_Sensor (Desc)'!K86)","v":""},{"$f":"IF('External_Sensor (Desc)'!L86=\"\",\"\",'External_Sensor (Desc)'!L86)","v":""},{"$f":"IF('External_Sensor (Desc)'!M86=\"\",\"\",'External_Sensor (Desc)'!M86)","v":""}]
[{"$f":"IF('External_Sensor (Desc)'!A87=\"\",\"\",'External_Sensor (Desc)'!A87)","v":""},{"$f":"IF('External_Sensor (Desc)'!B87=\"\",\"\",\"1987\")","v":""},{"$f":"IF('External_Sensor (Desc)'!B87=\"\",\"\",'External_Sensor (Desc)'!B87)","v":""},{"$f":"IF('External_Sensor (Desc)'!C87=\"\",\"\",'External_Sensor (Desc)'!C87)","v":""},{"$f":"IF('External_Sensor (Desc)'!D87=\"\",\"\",'External_Sensor (Desc)'!D87)","v":""},{"$f":"IF('External_Sensor (Desc)'!E87=\"\",\"\",INDEX([1]WWVDS_USAGE!$A$2:$A$4,MATCH('External_Sensor (Desc)'!$E87,[1]!MASTER_SENSOR_USAGE_DESC[#Data],0),0))","v":""},{"$f":"IF('External_Sensor (Desc)'!F87=\"\",\"\",INDEX([1]SENSOR_TYPE!$A$2:$A$15,MATCH('External_Sensor (Desc)'!$F87,[1]!MASTER_SENSOR_TYPE_DESC[#Data],0),0))","v":""},{"$f":"IF('External_Sensor (Desc)'!$G87=\"\",\"\",INDEX([1]ITS_DEV_MANUF_MODEL!$A$2:$E$1000,MATCH(1,([1]ITS_DEV_MANUF_MODEL!$E$2:$E$1000=\"VDS\")*([1]ITS_DEV_MANUF_MODEL!$D$2:$D$1000='External_Sensor (Desc)'!$G87),0),1))","v":""},{"$f":"IF('External_Sensor (Desc)'!$G87=\"\",\"\",INDEX([1]ITS_DEV_MANUF_MODEL!$A$2:$E$1000,MATCH(1,([1]ITS_DEV_MANUF_MODEL!$E$2:$E$1000=\"VDS\")*([1]ITS_DEV_MANUF_MODEL!$D$2:$D$1000='External_Sensor (Desc)'!$G87),0),2))","v":""},{"$f":"IF('External_Sensor (Desc)'!I87=\"\",\"\",'External_Sensor (Desc)'!I87)","v":""},{"$f":"IF('External_Sensor (Desc)'!J87=\"\",\"\",'External_Sensor (Desc)'!J87)","v":""},{"$f":"IF('External_Sensor (Desc)'!K87=\"\",\"\",'External_Sensor (Desc)'!K87)","v":""},{"$f":"IF('External_Sensor (Desc)'!L87=\"\",\"\",'External_Sensor (Desc)'!L87)","v":""},{"$f":"IF('External_Sensor (Desc)'!M87=\"\",\"\",'External_Sensor (Desc)'!M87)","v":""}]
[{"$f":"IF('External_Sensor (Desc)'!A88=\"\",\"\",'External_Sensor (Desc)'!A88)","v":""},{"$f":"IF('External_Sensor (Desc)'!B88=\"\",\"\",\"1987\")","v":""},{"$f":"IF('External_Sensor (Desc)'!B88=\"\",\"\",'External_Sensor (Desc)'!B88)","v":""},{"$f":"IF('External_Sensor (Desc)'!C88=\"\",\"\",'External_Sensor (Desc)'!C88)","v":""},{"$f":"IF('External_Sensor (Desc)'!D88=\"\",\"\",'External_Sensor (Desc)'!D88)","v":""},{"$f":"IF('External_Sensor (Desc)'!E88=\"\",\"\",INDEX([1]WWVDS_USAGE!$A$2:$A$4,MATCH('External_Sensor (Desc)'!$E88,[1]!MASTER_SENSOR_USAGE_DESC[#Data],0),0))","v":""},{"$f":"IF('External_Sensor (Desc)'!F88=\"\",\"\",INDEX([1]SENSOR_TYPE!$A$2:$A$15,MATCH('External_Sensor (Desc)'!$F88,[1]!MASTER_SENSOR_TYPE_DESC[#Data],0),0))","v":""},{"$f":"IF('External_Sensor (Desc)'!$G88=\"\",\"\",INDEX([1]ITS_DEV_MANUF_MODEL!$A$2:$E$1000,MATCH(1,([1]ITS_DEV_MANUF_MODEL!$E$2:$E$1000=\"VDS\")*([1]ITS_DEV_MANUF_MODEL!$D$2:$D$1000='External_Sensor (Desc)'!$G88),0),1))","v":""},{"$f":"IF('External_Sensor (Desc)'!$G88=\"\",\"\",INDEX([1]ITS_DEV_MANUF_MODEL!$A$2:$E$1000,MATCH(1,([1]ITS_DEV_MANUF_MODEL!$E$2:$E$1000=\"VDS\")*([1]ITS_DEV_MANUF_MODEL!$D$2:$D$1000='External_Sensor (Desc)'!$G88),0),2))","v":""},{"$f":"IF('External_Sensor (Desc)'!I88=\"\",\"\",'External_Sensor (Desc)'!I88)","v":""},{"$f":"IF('External_Sensor (Desc)'!J88=\"\",\"\",'External_Sensor (Desc)'!J88)","v":""},{"$f":"IF('External_Sensor (Desc)'!K88=\"\",\"\",'External_Sensor (Desc)'!K88)","v":""},{"$f":"IF('External_Sensor (Desc)'!L88=\"\",\"\",'External_Sensor (Desc)'!L88)","v":""},{"$f":"IF('External_Sensor (Desc)'!M88=\"\",\"\",'External_Sensor (Desc)'!M88)","v":""}]
[{"$f":"IF('External_Sensor (Desc)'!A89=\"\",\"\",'External_Sensor (Desc)'!A89)","v":""},{"$f":"IF('External_Sensor (Desc)'!B89=\"\",\"\",\"1987\")","v":""},{"$f":"IF('External_Sensor (Desc)'!B89=\"\",\"\",'External_Sensor (Desc)'!B89)","v":""},{"$f":"IF('External_Sensor (Desc)'!C89=\"\",\"\",'External_Sensor (Desc)'!C89)","v":""},{"$f":"IF('External_Sensor (Desc)'!D89=\"\",\"\",'External_Sensor (Desc)'!D89)","v":""},{"$f":"IF('External_Sensor (Desc)'!E89=\"\",\"\",INDEX([1]WWVDS_USAGE!$A$2:$A$4,MATCH('External_Sensor (Desc)'!$E89,[1]!MASTER_SENSOR_USAGE_DESC[#Data],0),0))","v":""},{"$f":"IF('External_Sensor (Desc)'!F89=\"\",\"\",INDEX([1]SENSOR_TYPE!$A$2:$A$15,MATCH('External_Sensor (Desc)'!$F89,[1]!MASTER_SENSOR_TYPE_DESC[#Data],0),0))","v":""},{"$f":"IF('External_Sensor (Desc)'!$G89=\"\",\"\",INDEX([1]ITS_DEV_MANUF_MODEL!$A$2:$E$1000,MATCH(1,([1]ITS_DEV_MANUF_MODEL!$E$2:$E$1000=\"VDS\")*([1]ITS_DEV_MANUF_MODEL!$D$2:$D$1000='External_Sensor (Desc)'!$G89),0),1))","v":""},{"$f":"IF('External_Sensor (Desc)'!$G89=\"\",\"\",INDEX([1]ITS_DEV_MANUF_MODEL!$A$2:$E$1000,MATCH(1,([1]ITS_DEV_MANUF_MODEL!$E$2:$E$1000=\"VDS\")*([1]ITS_DEV_MANUF_MODEL!$D$2:$D$1000='External_Sensor (Desc)'!$G89),0),2))","v":""},{"$f":"IF('External_Sensor (Desc)'!I89=\"\",\"\",'External_Sensor (Desc)'!I89)","v":""},{"$f":"IF('External_Sensor (Desc)'!J89=\"\",\"\",'External_Sensor (Desc)'!J89)","v":""},{"$f":"IF('External_Sensor (Desc)'!K89=\"\",\"\",'External_Sensor (Desc)'!K89)","v":""},{"$f":"IF('External_Sensor (Desc)'!L89=\"\",\"\",'External_Sensor (Desc)'!L89)","v":""},{"$f":"IF('External_Sensor (Desc)'!M89=\"\",\"\",'External_Sensor (Desc)'!M89)","v":""}]
[{"$f":"IF('External_Sensor (Desc)'!A90=\"\",\"\",'External_Sensor (Desc)'!A90)","v":""},{"$f":"IF('External_Sensor (Desc)'!B90=\"\",\"\",\"1987\")","v":""},{"$f":"IF('External_Sensor (Desc)'!B90=\"\",\"\",'External_Sensor (Desc)'!B90)","v":""},{"$f":"IF('External_Sensor (Desc)'!C90=\"\",\"\",'External_Sensor (Desc)'!C90)","v":""},{"$f":"IF('External_Sensor (Desc)'!D90=\"\",\"\",'External_Sensor (Desc)'!D90)","v":""},{"$f":"IF('External_Sensor (Desc)'!E90=\"\",\"\",INDEX([1]WWVDS_USAGE!$A$2:$A$4,MATCH('External_Sensor (Desc)'!$E90,[1]!MASTER_SENSOR_USAGE_DESC[#Data],0),0))","v":""},{"$f":"IF('External_Sensor (Desc)'!F90=\"\",\"\",INDEX([1]SENSOR_TYPE!$A$2:$A$15,MATCH('External_Sensor (Desc)'!$F90,[1]!MASTER_SENSOR_TYPE_DESC[#Data],0),0))","v":""},{"$f":"IF('External_Sensor (Desc)'!$G90=\"\",\"\",INDEX([1]ITS_DEV_MANUF_MODEL!$A$2:$E$1000,MATCH(1,([1]ITS_DEV_MANUF_MODEL!$E$2:$E$1000=\"VDS\")*([1]ITS_DEV_MANUF_MODEL!$D$2:$D$1000='External_Sensor (Desc)'!$G90),0),1))","v":""},{"$f":"IF('External_Sensor (Desc)'!$G90=\"\",\"\",INDEX([1]ITS_DEV_MANUF_MODEL!$A$2:$E$1000,MATCH(1,([1]ITS_DEV_MANUF_MODEL!$E$2:$E$1000=\"VDS\")*([1]ITS_DEV_MANUF_MODEL!$D$2:$D$1000='External_Sensor (Desc)'!$G90),0),2))","v":""},{"$f":"IF('External_Sensor (Desc)'!I90=\"\",\"\",'External_Sensor (Desc)'!I90)","v":""},{"$f":"IF('External_Sensor (Desc)'!J90=\"\",\"\",'External_Sensor (Desc)'!J90)","v":""},{"$f":"IF('External_Sensor (Desc)'!K90=\"\",\"\",'External_Sensor (Desc)'!K90)","v":""},{"$f":"IF('External_Sensor (Desc)'!L90=\"\",\"\",'External_Sensor (Desc)'!L90)","v":""},{"$f":"IF('External_Sensor (Desc)'!M90=\"\",\"\",'External_Sensor (Desc)'!M90)","v":""}]
[{"$f":"IF('External_Sensor (Desc)'!A91=\"\",\"\",'External_Sensor (Desc)'!A91)","v":""},{"$f":"IF('External_Sensor (Desc)'!B91=\"\",\"\",\"1987\")","v":""},{"$f":"IF('External_Sensor (Desc)'!B91=\"\",\"\",'External_Sensor (Desc)'!B91)","v":""},{"$f":"IF('External_Sensor (Desc)'!C91=\"\",\"\",'External_Sensor (Desc)'!C91)","v":""},{"$f":"IF('External_Sensor (Desc)'!D91=\"\",\"\",'External_Sensor (Desc)'!D91)","v":""},{"$f":"IF('External_Sensor (Desc)'!E91=\"\",\"\",INDEX([1]WWVDS_USAGE!$A$2:$A$4,MATCH('External_Sensor (Desc)'!$E91,[1]!MASTER_SENSOR_USAGE_DESC[#Data],0),0))","v":""},{"$f":"IF('External_Sensor (Desc)'!F91=\"\",\"\",INDEX([1]SENSOR_TYPE!$A$2:$A$15,MATCH('External_Sensor (Desc)'!$F91,[1]!MASTER_SENSOR_TYPE_DESC[#Data],0),0))","v":""},{"$f":"IF('External_Sensor (Desc)'!$G91=\"\",\"\",INDEX([1]ITS_DEV_MANUF_MODEL!$A$2:$E$1000,MATCH(1,([1]ITS_DEV_MANUF_MODEL!$E$2:$E$1000=\"VDS\")*([1]ITS_DEV_MANUF_MODEL!$D$2:$D$1000='External_Sensor (Desc)'!$G91),0),1))","v":""},{"$f":"IF('External_Sensor (Desc)'!$G91=\"\",\"\",INDEX([1]ITS_DEV_MANUF_MODEL!$A$2:$E$1000,MATCH(1,([1]ITS_DEV_MANUF_MODEL!$E$2:$E$1000=\"VDS\")*([1]ITS_DEV_MANUF_MODEL!$D$2:$D$1000='External_Sensor (Desc)'!$G91),0),2))","v":""},{"$f":"IF('External_Sensor (Desc)'!I91=\"\",\"\",'External_Sensor (Desc)'!I91)","v":""},{"$f":"IF('External_Sensor (Desc)'!J91=\"\",\"\",'External_Sensor (Desc)'!J91)","v":""},{"$f":"IF('External_Sensor (Desc)'!K91=\"\",\"\",'External_Sensor (Desc)'!K91)","v":""},{"$f":"IF('External_Sensor (Desc)'!L91=\"\",\"\",'External_Sensor (Desc)'!L91)","v":""},{"$f":"IF('External_Sensor (Desc)'!M91=\"\",\"\",'External_Sensor (Desc)'!M91)","v":""}]
[{"$f":"IF('External_Sensor (Desc)'!A92=\"\",\"\",'External_Sensor (Desc)'!A92)","v":""},{"$f":"IF('External_Sensor (Desc)'!B92=\"\",\"\",\"1987\")","v":""},{"$f":"IF('External_Sensor (Desc)'!B92=\"\",\"\",'External_Sensor (Desc)'!B92)","v":""},{"$f":"IF('External_Sensor (Desc)'!C92=\"\",\"\",'External_Sensor (Desc)'!C92)","v":""},{"$f":"IF('External_Sensor (Desc)'!D92=\"\",\"\",'External_Sensor (Desc)'!D92)","v":""},{"$f":"IF('External_Sensor (Desc)'!E92=\"\",\"\",INDEX([1]WWVDS_USAGE!$A$2:$A$4,MATCH('External_Sensor (Desc)'!$E92,[1]!MASTER_SENSOR_USAGE_DESC[#Data],0),0))","v":""},{"$f":"IF('External_Sensor (Desc)'!F92=\"\",\"\",INDEX([1]SENSOR_TYPE!$A$2:$A$15,MATCH('External_Sensor (Desc)'!$F92,[1]!MASTER_SENSOR_TYPE_DESC[#Data],0),0))","v":""},{"$f":"IF('External_Sensor (Desc)'!$G92=\"\",\"\",INDEX([1]ITS_DEV_MANUF_MODEL!$A$2:$E$1000,MATCH(1,([1]ITS_DEV_MANUF_MODEL!$E$2:$E$1000=\"VDS\")*([1]ITS_DEV_MANUF_MODEL!$D$2:$D$1000='External_Sensor (Desc)'!$G92),0),1))","v":""},{"$f":"IF('External_Sensor (Desc)'!$G92=\"\",\"\",INDEX([1]ITS_DEV_MANUF_MODEL!$A$2:$E$1000,MATCH(1,([1]ITS_DEV_MANUF_MODEL!$E$2:$E$1000=\"VDS\")*([1]ITS_DEV_MANUF_MODEL!$D$2:$D$1000='External_Sensor (Desc)'!$G92),0),2))","v":""},{"$f":"IF('External_Sensor (Desc)'!I92=\"\",\"\",'External_Sensor (Desc)'!I92)","v":""},{"$f":"IF('External_Sensor (Desc)'!J92=\"\",\"\",'External_Sensor (Desc)'!J92)","v":""},{"$f":"IF('External_Sensor (Desc)'!K92=\"\",\"\",'External_Sensor (Desc)'!K92)","v":""},{"$f":"IF('External_Sensor (Desc)'!L92=\"\",\"\",'External_Sensor (Desc)'!L92)","v":""},{"$f":"IF('External_Sensor (Desc)'!M92=\"\",\"\",'External_Sensor (Desc)'!M92)","v":""}]
[{"$f":"IF('External_Sensor (Desc)'!A93=\"\",\"\",'External_Sensor (Desc)'!A93)","v":""},{"$f":"IF('External_Sensor (Desc)'!B93=\"\",\"\",\"1987\")","v":""},{"$f":"IF('External_Sensor (Desc)'!B93=\"\",\"\",'External_Sensor (Desc)'!B93)","v":""},{"$f":"IF('External_Sensor (Desc)'!C93=\"\",\"\",'External_Sensor (Desc)'!C93)","v":""},{"$f":"IF('External_Sensor (Desc)'!D93=\"\",\"\",'External_Sensor (Desc)'!D93)","v":""},{"$f":"IF('External_Sensor (Desc)'!E93=\"\",\"\",INDEX([1]WWVDS_USAGE!$A$2:$A$4,MATCH('External_Sensor (Desc)'!$E93,[1]!MASTER_SENSOR_USAGE_DESC[#Data],0),0))","v":""},{"$f":"IF('External_Sensor (Desc)'!F93=\"\",\"\",INDEX([1]SENSOR_TYPE!$A$2:$A$15,MATCH('External_Sensor (Desc)'!$F93,[1]!MASTER_SENSOR_TYPE_DESC[#Data],0),0))","v":""},{"$f":"IF('External_Sensor (Desc)'!$G93=\"\",\"\",INDEX([1]ITS_DEV_MANUF_MODEL!$A$2:$E$1000,MATCH(1,([1]ITS_DEV_MANUF_MODEL!$E$2:$E$1000=\"VDS\")*([1]ITS_DEV_MANUF_MODEL!$D$2:$D$1000='External_Sensor (Desc)'!$G93),0),1))","v":""},{"$f":"IF('External_Sensor (Desc)'!$G93=\"\",\"\",INDEX([1]ITS_DEV_MANUF_MODEL!$A$2:$E$1000,MATCH(1,([1]ITS_DEV_MANUF_MODEL!$E$2:$E$1000=\"VDS\")*([1]ITS_DEV_MANUF_MODEL!$D$2:$D$1000='External_Sensor (Desc)'!$G93),0),2))","v":""},{"$f":"IF('External_Sensor (Desc)'!I93=\"\",\"\",'External_Sensor (Desc)'!I93)","v":""},{"$f":"IF('External_Sensor (Desc)'!J93=\"\",\"\",'External_Sensor (Desc)'!J93)","v":""},{"$f":"IF('External_Sensor (Desc)'!K93=\"\",\"\",'External_Sensor (Desc)'!K93)","v":""},{"$f":"IF('External_Sensor (Desc)'!L93=\"\",\"\",'External_Sensor (Desc)'!L93)","v":""},{"$f":"IF('External_Sensor (Desc)'!M93=\"\",\"\",'External_Sensor (Desc)'!M93)","v":""}]
[{"$f":"IF('External_Sensor (Desc)'!A94=\"\",\"\",'External_Sensor (Desc)'!A94)","v":""},{"$f":"IF('External_Sensor (Desc)'!B94=\"\",\"\",\"1987\")","v":""},{"$f":"IF('External_Sensor (Desc)'!B94=\"\",\"\",'External_Sensor (Desc)'!B94)","v":""},{"$f":"IF('External_Sensor (Desc)'!C94=\"\",\"\",'External_Sensor (Desc)'!C94)","v":""},{"$f":"IF('External_Sensor (Desc)'!D94=\"\",\"\",'External_Sensor (Desc)'!D94)","v":""},{"$f":"IF('External_Sensor (Desc)'!E94=\"\",\"\",INDEX([1]WWVDS_USAGE!$A$2:$A$4,MATCH('External_Sensor (Desc)'!$E94,[1]!MASTER_SENSOR_USAGE_DESC[#Data],0),0))","v":""},{"$f":"IF('External_Sensor (Desc)'!F94=\"\",\"\",INDEX([1]SENSOR_TYPE!$A$2:$A$15,MATCH('External_Sensor (Desc)'!$F94,[1]!MASTER_SENSOR_TYPE_DESC[#Data],0),0))","v":""},{"$f":"IF('External_Sensor (Desc)'!$G94=\"\",\"\",INDEX([1]ITS_DEV_MANUF_MODEL!$A$2:$E$1000,MATCH(1,([1]ITS_DEV_MANUF_MODEL!$E$2:$E$1000=\"VDS\")*([1]ITS_DEV_MANUF_MODEL!$D$2:$D$1000='External_Sensor (Desc)'!$G94),0),1))","v":""},{"$f":"IF('External_Sensor (Desc)'!$G94=\"\",\"\",INDEX([1]ITS_DEV_MANUF_MODEL!$A$2:$E$1000,MATCH(1,([1]ITS_DEV_MANUF_MODEL!$E$2:$E$1000=\"VDS\")*([1]ITS_DEV_MANUF_MODEL!$D$2:$D$1000='External_Sensor (Desc)'!$G94),0),2))","v":""},{"$f":"IF('External_Sensor (Desc)'!I94=\"\",\"\",'External_Sensor (Desc)'!I94)","v":""},{"$f":"IF('External_Sensor (Desc)'!J94=\"\",\"\",'External_Sensor (Desc)'!J94)","v":""},{"$f":"IF('External_Sensor (Desc)'!K94=\"\",\"\",'External_Sensor (Desc)'!K94)","v":""},{"$f":"IF('External_Sensor (Desc)'!L94=\"\",\"\",'External_Sensor (Desc)'!L94)","v":""},{"$f":"IF('External_Sensor (Desc)'!M94=\"\",\"\",'External_Sensor (Desc)'!M94)","v":""}]
[{"$f":"IF('External_Sensor (Desc)'!A95=\"\",\"\",'External_Sensor (Desc)'!A95)","v":""},{"$f":"IF('External_Sensor (Desc)'!B95=\"\",\"\",\"1987\")","v":""},{"$f":"IF('External_Sensor (Desc)'!B95=\"\",\"\",'External_Sensor (Desc)'!B95)","v":""},{"$f":"IF('External_Sensor (Desc)'!C95=\"\",\"\",'External_Sensor (Desc)'!C95)","v":""},{"$f":"IF('External_Sensor (Desc)'!D95=\"\",\"\",'External_Sensor (Desc)'!D95)","v":""},{"$f":"IF('External_Sensor (Desc)'!E95=\"\",\"\",INDEX([1]WWVDS_USAGE!$A$2:$A$4,MATCH('External_Sensor (Desc)'!$E95,[1]!MASTER_SENSOR_USAGE_DESC[#Data],0),0))","v":""},{"$f":"IF('External_Sensor (Desc)'!F95=\"\",\"\",INDEX([1]SENSOR_TYPE!$A$2:$A$15,MATCH('External_Sensor (Desc)'!$F95,[1]!MASTER_SENSOR_TYPE_DESC[#Data],0),0))","v":""},{"$f":"IF('External_Sensor (Desc)'!$G95=\"\",\"\",INDEX([1]ITS_DEV_MANUF_MODEL!$A$2:$E$1000,MATCH(1,([1]ITS_DEV_MANUF_MODEL!$E$2:$E$1000=\"VDS\")*([1]ITS_DEV_MANUF_MODEL!$D$2:$D$1000='External_Sensor (Desc)'!$G95),0),1))","v":""},{"$f":"IF('External_Sensor (Desc)'!$G95=\"\",\"\",INDEX([1]ITS_DEV_MANUF_MODEL!$A$2:$E$1000,MATCH(1,([1]ITS_DEV_MANUF_MODEL!$E$2:$E$1000=\"VDS\")*([1]ITS_DEV_MANUF_MODEL!$D$2:$D$1000='External_Sensor (Desc)'!$G95),0),2))","v":""},{"$f":"IF('External_Sensor (Desc)'!I95=\"\",\"\",'External_Sensor (Desc)'!I95)","v":""},{"$f":"IF('External_Sensor (Desc)'!J95=\"\",\"\",'External_Sensor (Desc)'!J95)","v":""},{"$f":"IF('External_Sensor (Desc)'!K95=\"\",\"\",'External_Sensor (Desc)'!K95)","v":""},{"$f":"IF('External_Sensor (Desc)'!L95=\"\",\"\",'External_Sensor (Desc)'!L95)","v":""},{"$f":"IF('External_Sensor (Desc)'!M95=\"\",\"\",'External_Sensor (Desc)'!M95)","v":""}]
[{"$f":"IF('External_Sensor (Desc)'!A96=\"\",\"\",'External_Sensor (Desc)'!A96)","v":""},{"$f":"IF('External_Sensor (Desc)'!B96=\"\",\"\",\"1987\")","v":""},{"$f":"IF('External_Sensor (Desc)'!B96=\"\",\"\",'External_Sensor (Desc)'!B96)","v":""},{"$f":"IF('External_Sensor (Desc)'!C96=\"\",\"\",'External_Sensor (Desc)'!C96)","v":""},{"$f":"IF('External_Sensor (Desc)'!D96=\"\",\"\",'External_Sensor (Desc)'!D96)","v":""},{"$f":"IF('External_Sensor (Desc)'!E96=\"\",\"\",INDEX([1]WWVDS_USAGE!$A$2:$A$4,MATCH('External_Sensor (Desc)'!$E96,[1]!MASTER_SENSOR_USAGE_DESC[#Data],0),0))","v":""},{"$f":"IF('External_Sensor (Desc)'!F96=\"\",\"\",INDEX([1]SENSOR_TYPE!$A$2:$A$15,MATCH('External_Sensor (Desc)'!$F96,[1]!MASTER_SENSOR_TYPE_DESC[#Data],0),0))","v":""},{"$f":"IF('External_Sensor (Desc)'!$G96=\"\",\"\",INDEX([1]ITS_DEV_MANUF_MODEL!$A$2:$E$1000,MATCH(1,([1]ITS_DEV_MANUF_MODEL!$E$2:$E$1000=\"VDS\")*([1]ITS_DEV_MANUF_MODEL!$D$2:$D$1000='External_Sensor (Desc)'!$G96),0),1))","v":""},{"$f":"IF('External_Sensor (Desc)'!$G96=\"\",\"\",INDEX([1]ITS_DEV_MANUF_MODEL!$A$2:$E$1000,MATCH(1,([1]ITS_DEV_MANUF_MODEL!$E$2:$E$1000=\"VDS\")*([1]ITS_DEV_MANUF_MODEL!$D$2:$D$1000='External_Sensor (Desc)'!$G96),0),2))","v":""},{"$f":"IF('External_Sensor (Desc)'!I96=\"\",\"\",'External_Sensor (Desc)'!I96)","v":""},{"$f":"IF('External_Sensor (Desc)'!J96=\"\",\"\",'External_Sensor (Desc)'!J96)","v":""},{"$f":"IF('External_Sensor (Desc)'!K96=\"\",\"\",'External_Sensor (Desc)'!K96)","v":""},{"$f":"IF('External_Sensor (Desc)'!L96=\"\",\"\",'External_Sensor (Desc)'!L96)","v":""},{"$f":"IF('External_Sensor (Desc)'!M96=\"\",\"\",'External_Sensor (Desc)'!M96)","v":""}]
[{"$f":"IF('External_Sensor (Desc)'!A97=\"\",\"\",'External_Sensor (Desc)'!A97)","v":""},{"$f":"IF('External_Sensor (Desc)'!B97=\"\",\"\",\"1987\")","v":""},{"$f":"IF('External_Sensor (Desc)'!B97=\"\",\"\",'External_Sensor (Desc)'!B97)","v":""},{"$f":"IF('External_Sensor (Desc)'!C97=\"\",\"\",'External_Sensor (Desc)'!C97)","v":""},{"$f":"IF('External_Sensor (Desc)'!D97=\"\",\"\",'External_Sensor (Desc)'!D97)","v":""},{"$f":"IF('External_Sensor (Desc)'!E97=\"\",\"\",INDEX([1]WWVDS_USAGE!$A$2:$A$4,MATCH('External_Sensor (Desc)'!$E97,[1]!MASTER_SENSOR_USAGE_DESC[#Data],0),0))","v":""},{"$f":"IF('External_Sensor (Desc)'!F97=\"\",\"\",INDEX([1]SENSOR_TYPE!$A$2:$A$15,MATCH('External_Sensor (Desc)'!$F97,[1]!MASTER_SENSOR_TYPE_DESC[#Data],0),0))","v":""},{"$f":"IF('External_Sensor (Desc)'!$G97=\"\",\"\",INDEX([1]ITS_DEV_MANUF_MODEL!$A$2:$E$1000,MATCH(1,([1]ITS_DEV_MANUF_MODEL!$E$2:$E$1000=\"VDS\")*([1]ITS_DEV_MANUF_MODEL!$D$2:$D$1000='External_Sensor (Desc)'!$G97),0),1))","v":""},{"$f":"IF('External_Sensor (Desc)'!$G97=\"\",\"\",INDEX([1]ITS_DEV_MANUF_MODEL!$A$2:$E$1000,MATCH(1,([1]ITS_DEV_MANUF_MODEL!$E$2:$E$1000=\"VDS\")*([1]ITS_DEV_MANUF_MODEL!$D$2:$D$1000='External_Sensor (Desc)'!$G97),0),2))","v":""},{"$f":"IF('External_Sensor (Desc)'!I97=\"\",\"\",'External_Sensor (Desc)'!I97)","v":""},{"$f":"IF('External_Sensor (Desc)'!J97=\"\",\"\",'External_Sensor (Desc)'!J97)","v":""},{"$f":"IF('External_Sensor (Desc)'!K97=\"\",\"\",'External_Sensor (Desc)'!K97)","v":""},{"$f":"IF('External_Sensor (Desc)'!L97=\"\",\"\",'External_Sensor (Desc)'!L97)","v":""},{"$f":"IF('External_Sensor (Desc)'!M97=\"\",\"\",'External_Sensor (Desc)'!M97)","v":""}]
[{"$f":"IF('External_Sensor (Desc)'!A98=\"\",\"\",'External_Sensor (Desc)'!A98)","v":""},{"$f":"IF('External_Sensor (Desc)'!B98=\"\",\"\",\"1987\")","v":""},{"$f":"IF('External_Sensor (Desc)'!B98=\"\",\"\",'External_Sensor (Desc)'!B98)","v":""},{"$f":"IF('External_Sensor (Desc)'!C98=\"\",\"\",'External_Sensor (Desc)'!C98)","v":""},{"$f":"IF('External_Sensor (Desc)'!D98=\"\",\"\",'External_Sensor (Desc)'!D98)","v":""},{"$f":"IF('External_Sensor (Desc)'!E98=\"\",\"\",INDEX([1]WWVDS_USAGE!$A$2:$A$4,MATCH('External_Sensor (Desc)'!$E98,[1]!MASTER_SENSOR_USAGE_DESC[#Data],0),0))","v":""},{"$f":"IF('External_Sensor (Desc)'!F98=\"\",\"\",INDEX([1]SENSOR_TYPE!$A$2:$A$15,MATCH('External_Sensor (Desc)'!$F98,[1]!MASTER_SENSOR_TYPE_DESC[#Data],0),0))","v":""},{"$f":"IF('External_Sensor (Desc)'!$G98=\"\",\"\",INDEX([1]ITS_DEV_MANUF_MODEL!$A$2:$E$1000,MATCH(1,([1]ITS_DEV_MANUF_MODEL!$E$2:$E$1000=\"VDS\")*([1]ITS_DEV_MANUF_MODEL!$D$2:$D$1000='External_Sensor (Desc)'!$G98),0),1))","v":""},{"$f":"IF('External_Sensor (Desc)'!$G98=\"\",\"\",INDEX([1]ITS_DEV_MANUF_MODEL!$A$2:$E$1000,MATCH(1,([1]ITS_DEV_MANUF_MODEL!$E$2:$E$1000=\"VDS\")*([1]ITS_DEV_MANUF_MODEL!$D$2:$D$1000='External_Sensor (Desc)'!$G98),0),2))","v":""},{"$f":"IF('External_Sensor (Desc)'!I98=\"\",\"\",'External_Sensor (Desc)'!I98)","v":""},{"$f":"IF('External_Sensor (Desc)'!J98=\"\",\"\",'External_Sensor (Desc)'!J98)","v":""},{"$f":"IF('External_Sensor (Desc)'!K98=\"\",\"\",'External_Sensor (Desc)'!K98)","v":""},{"$f":"IF('External_Sensor (Desc)'!L98=\"\",\"\",'External_Sensor (Desc)'!L98)","v":""},{"$f":"IF('External_Sensor (Desc)'!M98=\"\",\"\",'External_Sensor (Desc)'!M98)","v":""}]
[{"$f":"IF('External_Sensor (Desc)'!A99=\"\",\"\",'External_Sensor (Desc)'!A99)","v":""},{"$f":"IF('External_Sensor (Desc)'!B99=\"\",\"\",\"1987\")","v":""},{"$f":"IF('External_Sensor (Desc)'!B99=\"\",\"\",'External_Sensor (Desc)'!B99)","v":""},{"$f":"IF('External_Sensor (Desc)'!C99=\"\",\"\",'External_Sensor (Desc)'!C99)","v":""},{"$f":"IF('External_Sensor (Desc)'!D99=\"\",\"\",'External_Sensor (Desc)'!D99)","v":""},{"$f":"IF('External_Sensor (Desc)'!E99=\"\",\"\",INDEX([1]WWVDS_USAGE!$A$2:$A$4,MATCH('External_Sensor (Desc)'!$E99,[1]!MASTER_SENSOR_USAGE_DESC[#Data],0),0))","v":""},{"$f":"IF('External_Sensor (Desc)'!F99=\"\",\"\",INDEX([1]SENSOR_TYPE!$A$2:$A$15,MATCH('External_Sensor (Desc)'!$F99,[1]!MASTER_SENSOR_TYPE_DESC[#Data],0),0))","v":""},{"$f":"IF('External_Sensor (Desc)'!$G99=\"\",\"\",INDEX([1]ITS_DEV_MANUF_MODEL!$A$2:$E$1000,MATCH(1,([1]ITS_DEV_MANUF_MODEL!$E$2:$E$1000=\"VDS\")*([1]ITS_DEV_MANUF_MODEL!$D$2:$D$1000='External_Sensor (Desc)'!$G99),0),1))","v":""},{"$f":"IF('External_Sensor (Desc)'!$G99=\"\",\"\",INDEX([1]ITS_DEV_MANUF_MODEL!$A$2:$E$1000,MATCH(1,([1]ITS_DEV_MANUF_MODEL!$E$2:$E$1000=\"VDS\")*([1]ITS_DEV_MANUF_MODEL!$D$2:$D$1000='External_Sensor (Desc)'!$G99),0),2))","v":""},{"$f":"IF('External_Sensor (Desc)'!I99=\"\",\"\",'External_Sensor (Desc)'!I99)","v":""},{"$f":"IF('External_Sensor (Desc)'!J99=\"\",\"\",'External_Sensor (Desc)'!J99)","v":""},{"$f":"IF('External_Sensor (Desc)'!K99=\"\",\"\",'External_Sensor (Desc)'!K99)","v":""},{"$f":"IF('External_Sensor (Desc)'!L99=\"\",\"\",'External_Sensor (Desc)'!L99)","v":""},{"$f":"IF('External_Sensor (Desc)'!M99=\"\",\"\",'External_Sensor (Desc)'!M99)","v":""}]
[{"$f":"IF('External_Sensor (Desc)'!A100=\"\",\"\",'External_Sensor (Desc)'!A100)","v":""},{"$f":"IF('External_Sensor (Desc)'!B100=\"\",\"\",\"1987\")","v":""},{"$f":"IF('External_Sensor (Desc)'!B100=\"\",\"\",'External_Sensor (Desc)'!B100)","v":""},{"$f":"IF('External_Sensor (Desc)'!C100=\"\",\"\",'External_Sensor (Desc)'!C100)","v":""},{"$f":"IF('External_Sensor (Desc)'!D100=\"\",\"\",'External_Sensor (Desc)'!D100)","v":""},{"$f":"IF('External_Sensor (Desc)'!E100=\"\",\"\",INDEX([1]WWVDS_USAGE!$A$2:$A$4,MATCH('External_Sensor (Desc)'!$E100,[1]!MASTER_SENSOR_USAGE_DESC[#Data],0),0))","v":""},{"$f":"IF('External_Sensor (Desc)'!F100=\"\",\"\",INDEX([1]SENSOR_TYPE!$A$2:$A$15,MATCH('External_Sensor (Desc)'!$F100,[1]!MASTER_SENSOR_TYPE_DESC[#Data],0),0))","v":""},{"$f":"IF('External_Sensor (Desc)'!$G100=\"\",\"\",INDEX([1]ITS_DEV_MANUF_MODEL!$A$2:$E$1000,MATCH(1,([1]ITS_DEV_MANUF_MODEL!$E$2:$E$1000=\"VDS\")*([1]ITS_DEV_MANUF_MODEL!$D$2:$D$1000='External_Sensor (Desc)'!$G100),0),1))","v":""},{"$f":"IF('External_Sensor (Desc)'!$G100=\"\",\"\",INDEX([1]ITS_DEV_MANUF_MODEL!$A$2:$E$1000,MATCH(1,([1]ITS_DEV_MANUF_MODEL!$E$2:$E$1000=\"VDS\")*([1]ITS_DEV_MANUF_MODEL!$D$2:$D$1000='External_Sensor (Desc)'!$G100),0),2))","v":""},{"$f":"IF('External_Sensor (Desc)'!I100=\"\",\"\",'External_Sensor (Desc)'!I100)","v":""},{"$f":"IF('External_Sensor (Desc)'!J100=\"\",\"\",'External_Sensor (Desc)'!J100)","v":""},{"$f":"IF('External_Sensor (Desc)'!K100=\"\",\"\",'External_Sensor (Desc)'!K100)","v":""},{"$f":"IF('External_Sensor (Desc)'!L100=\"\",\"\",'External_Sensor (Desc)'!L100)","v":""},{"$f":"IF('External_Sensor (Desc)'!M100=\"\",\"\",'External_Sensor (Desc)'!M100)","v":""}]
[{"$f":"IF('External_Sensor (Desc)'!A101=\"\",\"\",'External_Sensor (Desc)'!A101)","v":""},{"$f":"IF('External_Sensor (Desc)'!B101=\"\",\"\",\"1987\")","v":""},{"$f":"IF('External_Sensor (Desc)'!B101=\"\",\"\",'External_Sensor (Desc)'!B101)","v":""},{"$f":"IF('External_Sensor (Desc)'!C101=\"\",\"\",'External_Sensor (Desc)'!C101)","v":""},{"$f":"IF('External_Sensor (Desc)'!D101=\"\",\"\",'External_Sensor (Desc)'!D101)","v":""},{"$f":"IF('External_Sensor (Desc)'!E101=\"\",\"\",INDEX([1]WWVDS_USAGE!$A$2:$A$4,MATCH('External_Sensor (Desc)'!$E101,[1]!MASTER_SENSOR_USAGE_DESC[#Data],0),0))","v":""},{"$f":"IF('External_Sensor (Desc)'!F101=\"\",\"\",INDEX([1]SENSOR_TYPE!$A$2:$A$15,MATCH('External_Sensor (Desc)'!$F101,[1]!MASTER_SENSOR_TYPE_DESC[#Data],0),0))","v":""},{"$f":"IF('External_Sensor (Desc)'!$G101=\"\",\"\",INDEX([1]ITS_DEV_MANUF_MODEL!$A$2:$E$1000,MATCH(1,([1]ITS_DEV_MANUF_MODEL!$E$2:$E$1000=\"VDS\")*([1]ITS_DEV_MANUF_MODEL!$D$2:$D$1000='External_Sensor (Desc)'!$G101),0),1))","v":""},{"$f":"IF('External_Sensor (Desc)'!$G101=\"\",\"\",INDEX([1]ITS_DEV_MANUF_MODEL!$A$2:$E$1000,MATCH(1,([1]ITS_DEV_MANUF_MODEL!$E$2:$E$1000=\"VDS\")*([1]ITS_DEV_MANUF_MODEL!$D$2:$D$1000='External_Sensor (Desc)'!$G101),0),2))","v":""},{"$f":"IF('External_Sensor (Desc)'!I101=\"\",\"\",'External_Sensor (Desc)'!I101)","v":""},{"$f":"IF('External_Sensor (Desc)'!J101=\"\",\"\",'External_Sensor (Desc)'!J101)","v":""},{"$f":"IF('External_Sensor (Desc)'!K101=\"\",\"\",'External_Sensor (Desc)'!K101)","v":""},{"$f":"IF('External_Sensor (Desc)'!L101=\"\",\"\",'External_Sensor (Desc)'!L101)","v":""},{"$f":"IF('External_Sensor (Desc)'!M101=\"\",\"\",'External_Sensor (Desc)'!M101)","v":""}]
[{"$f":"IF('External_Sensor (Desc)'!A102=\"\",\"\",'External_Sensor (Desc)'!A102)","v":""},{"$f":"IF('External_Sensor (Desc)'!B102=\"\",\"\",\"1987\")","v":""},{"$f":"IF('External_Sensor (Desc)'!B102=\"\",\"\",'External_Sensor (Desc)'!B102)","v":""},{"$f":"IF('External_Sensor (Desc)'!C102=\"\",\"\",'External_Sensor (Desc)'!C102)","v":""},{"$f":"IF('External_Sensor (Desc)'!D102=\"\",\"\",'External_Sensor (Desc)'!D102)","v":""},{"$f":"IF('External_Sensor (Desc)'!E102=\"\",\"\",INDEX([1]WWVDS_USAGE!$A$2:$A$4,MATCH('External_Sensor (Desc)'!$E102,[1]!MASTER_SENSOR_USAGE_DESC[#Data],0),0))","v":""},{"$f":"IF('External_Sensor (Desc)'!F102=\"\",\"\",INDEX([1]SENSOR_TYPE!$A$2:$A$15,MATCH('External_Sensor (Desc)'!$F102,[1]!MASTER_SENSOR_TYPE_DESC[#Data],0),0))","v":""},{"$f":"IF('External_Sensor (Desc)'!$G102=\"\",\"\",INDEX([1]ITS_DEV_MANUF_MODEL!$A$2:$E$1000,MATCH(1,([1]ITS_DEV_MANUF_MODEL!$E$2:$E$1000=\"VDS\")*([1]ITS_DEV_MANUF_MODEL!$D$2:$D$1000='External_Sensor (Desc)'!$G102),0),1))","v":""},{"$f":"IF('External_Sensor (Desc)'!$G102=\"\",\"\",INDEX([1]ITS_DEV_MANUF_MODEL!$A$2:$E$1000,MATCH(1,([1]ITS_DEV_MANUF_MODEL!$E$2:$E$1000=\"VDS\")*([1]ITS_DEV_MANUF_MODEL!$D$2:$D$1000='External_Sensor (Desc)'!$G102),0),2))","v":""},{"$f":"IF('External_Sensor (Desc)'!I102=\"\",\"\",'External_Sensor (Desc)'!I102)","v":""},{"$f":"IF('External_Sensor (Desc)'!J102=\"\",\"\",'External_Sensor (Desc)'!J102)","v":""},{"$f":"IF('External_Sensor (Desc)'!K102=\"\",\"\",'External_Sensor (Desc)'!K102)","v":""},{"$f":"IF('External_Sensor (Desc)'!L102=\"\",\"\",'External_Sensor (Desc)'!L102)","v":""},{"$f":"IF('External_Sensor (Desc)'!M102=\"\",\"\",'External_Sensor (Desc)'!M102)","v":""}]
[{"$f":"IF('External_Sensor (Desc)'!A103=\"\",\"\",'External_Sensor (Desc)'!A103)","v":""},{"$f":"IF('External_Sensor (Desc)'!B103=\"\",\"\",\"1987\")","v":""},{"$f":"IF('External_Sensor (Desc)'!B103=\"\",\"\",'External_Sensor (Desc)'!B103)","v":""},{"$f":"IF('External_Sensor (Desc)'!C103=\"\",\"\",'External_Sensor (Desc)'!C103)","v":""},{"$f":"IF('External_Sensor (Desc)'!D103=\"\",\"\",'External_Sensor (Desc)'!D103)","v":""},{"$f":"IF('External_Sensor (Desc)'!E103=\"\",\"\",INDEX([1]WWVDS_USAGE!$A$2:$A$4,MATCH('External_Sensor (Desc)'!$E103,[1]!MASTER_SENSOR_USAGE_DESC[#Data],0),0))","v":""},{"$f":"IF('External_Sensor (Desc)'!F103=\"\",\"\",INDEX([1]SENSOR_TYPE!$A$2:$A$15,MATCH('External_Sensor (Desc)'!$F103,[1]!MASTER_SENSOR_TYPE_DESC[#Data],0),0))","v":""},{"$f":"IF('External_Sensor (Desc)'!$G103=\"\",\"\",INDEX([1]ITS_DEV_MANUF_MODEL!$A$2:$E$1000,MATCH(1,([1]ITS_DEV_MANUF_MODEL!$E$2:$E$1000=\"VDS\")*([1]ITS_DEV_MANUF_MODEL!$D$2:$D$1000='External_Sensor (Desc)'!$G103),0),1))","v":""},{"$f":"IF('External_Sensor (Desc)'!$G103=\"\",\"\",INDEX([1]ITS_DEV_MANUF_MODEL!$A$2:$E$1000,MATCH(1,([1]ITS_DEV_MANUF_MODEL!$E$2:$E$1000=\"VDS\")*([1]ITS_DEV_MANUF_MODEL!$D$2:$D$1000='External_Sensor (Desc)'!$G103),0),2))","v":""},{"$f":"IF('External_Sensor (Desc)'!I103=\"\",\"\",'External_Sensor (Desc)'!I103)","v":""},{"$f":"IF('External_Sensor (Desc)'!J103=\"\",\"\",'External_Sensor (Desc)'!J103)","v":""},{"$f":"IF('External_Sensor (Desc)'!K103=\"\",\"\",'External_Sensor (Desc)'!K103)","v":""},{"$f":"IF('External_Sensor (Desc)'!L103=\"\",\"\",'External_Sensor (Desc)'!L103)","v":""},{"$f":"IF('External_Sensor (Desc)'!M103=\"\",\"\",'External_Sensor (Desc)'!M103)","v":""}]
[{"$f":"IF('External_Sensor (Desc)'!A104=\"\",\"\",'External_Sensor (Desc)'!A104)","v":""},{"$f":"IF('External_Sensor (Desc)'!B104=\"\",\"\",\"1987\")","v":""},{"$f":"IF('External_Sensor (Desc)'!B104=\"\",\"\",'External_Sensor (Desc)'!B104)","v":""},{"$f":"IF('External_Sensor (Desc)'!C104=\"\",\"\",'External_Sensor (Desc)'!C104)","v":""},{"$f":"IF('External_Sensor (Desc)'!D104=\"\",\"\",'External_Sensor (Desc)'!D104)","v":""},{"$f":"IF('External_Sensor (Desc)'!E104=\"\",\"\",INDEX([1]WWVDS_USAGE!$A$2:$A$4,MATCH('External_Sensor (Desc)'!$E104,[1]!MASTER_SENSOR_USAGE_DESC[#Data],0),0))","v":""},{"$f":"IF('External_Sensor (Desc)'!F104=\"\",\"\",INDEX([1]SENSOR_TYPE!$A$2:$A$15,MATCH('External_Sensor (Desc)'!$F104,[1]!MASTER_SENSOR_TYPE_DESC[#Data],0),0))","v":""},{"$f":"IF('External_Sensor (Desc)'!$G104=\"\",\"\",INDEX([1]ITS_DEV_MANUF_MODEL!$A$2:$E$1000,MATCH(1,([1]ITS_DEV_MANUF_MODEL!$E$2:$E$1000=\"VDS\")*([1]ITS_DEV_MANUF_MODEL!$D$2:$D$1000='External_Sensor (Desc)'!$G104),0),1))","v":""},{"$f":"IF('External_Sensor (Desc)'!$G104=\"\",\"\",INDEX([1]ITS_DEV_MANUF_MODEL!$A$2:$E$1000,MATCH(1,([1]ITS_DEV_MANUF_MODEL!$E$2:$E$1000=\"VDS\")*([1]ITS_DEV_MANUF_MODEL!$D$2:$D$1000='External_Sensor (Desc)'!$G104),0),2))","v":""},{"$f":"IF('External_Sensor (Desc)'!I104=\"\",\"\",'External_Sensor (Desc)'!I104)","v":""},{"$f":"IF('External_Sensor (Desc)'!J104=\"\",\"\",'External_Sensor (Desc)'!J104)","v":""},{"$f":"IF('External_Sensor (Desc)'!K104=\"\",\"\",'External_Sensor (Desc)'!K104)","v":""},{"$f":"IF('External_Sensor (Desc)'!L104=\"\",\"\",'External_Sensor (Desc)'!L104)","v":""},{"$f":"IF('External_Sensor (Desc)'!M104=\"\",\"\",'External_Sensor (Desc)'!M104)","v":""}]
[{"$f":"IF('External_Sensor (Desc)'!A105=\"\",\"\",'External_Sensor (Desc)'!A105)","v":""},{"$f":"IF('External_Sensor (Desc)'!B105=\"\",\"\",\"1987\")","v":""},{"$f":"IF('External_Sensor (Desc)'!B105=\"\",\"\",'External_Sensor (Desc)'!B105)","v":""},{"$f":"IF('External_Sensor (Desc)'!C105=\"\",\"\",'External_Sensor (Desc)'!C105)","v":""},{"$f":"IF('External_Sensor (Desc)'!D105=\"\",\"\",'External_Sensor (Desc)'!D105)","v":""},{"$f":"IF('External_Sensor (Desc)'!E105=\"\",\"\",INDEX([1]WWVDS_USAGE!$A$2:$A$4,MATCH('External_Sensor (Desc)'!$E105,[1]!MASTER_SENSOR_USAGE_DESC[#Data],0),0))","v":""},{"$f":"IF('External_Sensor (Desc)'!F105=\"\",\"\",INDEX([1]SENSOR_TYPE!$A$2:$A$15,MATCH('External_Sensor (Desc)'!$F105,[1]!MASTER_SENSOR_TYPE_DESC[#Data],0),0))","v":""},{"$f":"IF('External_Sensor (Desc)'!$G105=\"\",\"\",INDEX([1]ITS_DEV_MANUF_MODEL!$A$2:$E$1000,MATCH(1,([1]ITS_DEV_MANUF_MODEL!$E$2:$E$1000=\"VDS\")*([1]ITS_DEV_MANUF_MODEL!$D$2:$D$1000='External_Sensor (Desc)'!$G105),0),1))","v":""},{"$f":"IF('External_Sensor (Desc)'!$G105=\"\",\"\",INDEX([1]ITS_DEV_MANUF_MODEL!$A$2:$E$1000,MATCH(1,([1]ITS_DEV_MANUF_MODEL!$E$2:$E$1000=\"VDS\")*([1]ITS_DEV_MANUF_MODEL!$D$2:$D$1000='External_Sensor (Desc)'!$G105),0),2))","v":""},{"$f":"IF('External_Sensor (Desc)'!I105=\"\",\"\",'External_Sensor (Desc)'!I105)","v":""},{"$f":"IF('External_Sensor (Desc)'!J105=\"\",\"\",'External_Sensor (Desc)'!J105)","v":""},{"$f":"IF('External_Sensor (Desc)'!K105=\"\",\"\",'External_Sensor (Desc)'!K105)","v":""},{"$f":"IF('External_Sensor (Desc)'!L105=\"\",\"\",'External_Sensor (Desc)'!L105)","v":""},{"$f":"IF('External_Sensor (Desc)'!M105=\"\",\"\",'External_Sensor (Desc)'!M105)","v":""}]
[{"$f":"IF('External_Sensor (Desc)'!A106=\"\",\"\",'External_Sensor (Desc)'!A106)","v":""},{"$f":"IF('External_Sensor (Desc)'!B106=\"\",\"\",\"1987\")","v":""},{"$f":"IF('External_Sensor (Desc)'!B106=\"\",\"\",'External_Sensor (Desc)'!B106)","v":""},{"$f":"IF('External_Sensor (Desc)'!C106=\"\",\"\",'External_Sensor (Desc)'!C106)","v":""},{"$f":"IF('External_Sensor (Desc)'!D106=\"\",\"\",'External_Sensor (Desc)'!D106)","v":""},{"$f":"IF('External_Sensor (Desc)'!E106=\"\",\"\",INDEX([1]WWVDS_USAGE!$A$2:$A$4,MATCH('External_Sensor (Desc)'!$E106,[1]!MASTER_SENSOR_USAGE_DESC[#Data],0),0))","v":""},{"$f":"IF('External_Sensor (Desc)'!F106=\"\",\"\",INDEX([1]SENSOR_TYPE!$A$2:$A$15,MATCH('External_Sensor (Desc)'!$F106,[1]!MASTER_SENSOR_TYPE_DESC[#Data],0),0))","v":""},{"$f":"IF('External_Sensor (Desc)'!$G106=\"\",\"\",INDEX([1]ITS_DEV_MANUF_MODEL!$A$2:$E$1000,MATCH(1,([1]ITS_DEV_MANUF_MODEL!$E$2:$E$1000=\"VDS\")*([1]ITS_DEV_MANUF_MODEL!$D$2:$D$1000='External_Sensor (Desc)'!$G106),0),1))","v":""},{"$f":"IF('External_Sensor (Desc)'!$G106=\"\",\"\",INDEX([1]ITS_DEV_MANUF_MODEL!$A$2:$E$1000,MATCH(1,([1]ITS_DEV_MANUF_MODEL!$E$2:$E$1000=\"VDS\")*([1]ITS_DEV_MANUF_MODEL!$D$2:$D$1000='External_Sensor (Desc)'!$G106),0),2))","v":""},{"$f":"IF('External_Sensor (Desc)'!I106=\"\",\"\",'External_Sensor (Desc)'!I106)","v":""},{"$f":"IF('External_Sensor (Desc)'!J106=\"\",\"\",'External_Sensor (Desc)'!J106)","v":""},{"$f":"IF('External_Sensor (Desc)'!K106=\"\",\"\",'External_Sensor (Desc)'!K106)","v":""},{"$f":"IF('External_Sensor (Desc)'!L106=\"\",\"\",'External_Sensor (Desc)'!L106)","v":""},{"$f":"IF('External_Sensor (Desc)'!M106=\"\",\"\",'External_Sensor (Desc)'!M106)","v":""}]
[{"$f":"IF('External_Sensor (Desc)'!A107=\"\",\"\",'External_Sensor (Desc)'!A107)","v":""},{"$f":"IF('External_Sensor (Desc)'!B107=\"\",\"\",\"1987\")","v":""},{"$f":"IF('External_Sensor (Desc)'!B107=\"\",\"\",'External_Sensor (Desc)'!B107)","v":""},{"$f":"IF('External_Sensor (Desc)'!C107=\"\",\"\",'External_Sensor (Desc)'!C107)","v":""},{"$f":"IF('External_Sensor (Desc)'!D107=\"\",\"\",'External_Sensor (Desc)'!D107)","v":""},{"$f":"IF('External_Sensor (Desc)'!E107=\"\",\"\",INDEX([1]WWVDS_USAGE!$A$2:$A$4,MATCH('External_Sensor (Desc)'!$E107,[1]!MASTER_SENSOR_USAGE_DESC[#Data],0),0))","v":""},{"$f":"IF('External_Sensor (Desc)'!F107=\"\",\"\",INDEX([1]SENSOR_TYPE!$A$2:$A$15,MATCH('External_Sensor (Desc)'!$F107,[1]!MASTER_SENSOR_TYPE_DESC[#Data],0),0))","v":""},{"$f":"IF('External_Sensor (Desc)'!$G107=\"\",\"\",INDEX([1]ITS_DEV_MANUF_MODEL!$A$2:$E$1000,MATCH(1,([1]ITS_DEV_MANUF_MODEL!$E$2:$E$1000=\"VDS\")*([1]ITS_DEV_MANUF_MODEL!$D$2:$D$1000='External_Sensor (Desc)'!$G107),0),1))","v":""},{"$f":"IF('External_Sensor (Desc)'!$G107=\"\",\"\",INDEX([1]ITS_DEV_MANUF_MODEL!$A$2:$E$1000,MATCH(1,([1]ITS_DEV_MANUF_MODEL!$E$2:$E$1000=\"VDS\")*([1]ITS_DEV_MANUF_MODEL!$D$2:$D$1000='External_Sensor (Desc)'!$G107),0),2))","v":""},{"$f":"IF('External_Sensor (Desc)'!I107=\"\",\"\",'External_Sensor (Desc)'!I107)","v":""},{"$f":"IF('External_Sensor (Desc)'!J107=\"\",\"\",'External_Sensor (Desc)'!J107)","v":""},{"$f":"IF('External_Sensor (Desc)'!K107=\"\",\"\",'External_Sensor (Desc)'!K107)","v":""},{"$f":"IF('External_Sensor (Desc)'!L107=\"\",\"\",'External_Sensor (Desc)'!L107)","v":""},{"$f":"IF('External_Sensor (Desc)'!M107=\"\",\"\",'External_Sensor (Desc)'!M107)","v":""}]
[{"$f":"IF('External_Sensor (Desc)'!A108=\"\",\"\",'External_Sensor (Desc)'!A108)","v":""},{"$f":"IF('External_Sensor (Desc)'!B108=\"\",\"\",\"1987\")","v":""},{"$f":"IF('External_Sensor (Desc)'!B108=\"\",\"\",'External_Sensor (Desc)'!B108)","v":""},{"$f":"IF('External_Sensor (Desc)'!C108=\"\",\"\",'External_Sensor (Desc)'!C108)","v":""},{"$f":"IF('External_Sensor (Desc)'!D108=\"\",\"\",'External_Sensor (Desc)'!D108)","v":""},{"$f":"IF('External_Sensor (Desc)'!E108=\"\",\"\",INDEX([1]WWVDS_USAGE!$A$2:$A$4,MATCH('External_Sensor (Desc)'!$E108,[1]!MASTER_SENSOR_USAGE_DESC[#Data],0),0))","v":""},{"$f":"IF('External_Sensor (Desc)'!F108=\"\",\"\",INDEX([1]SENSOR_TYPE!$A$2:$A$15,MATCH('External_Sensor (Desc)'!$F108,[1]!MASTER_SENSOR_TYPE_DESC[#Data],0),0))","v":""},{"$f":"IF('External_Sensor (Desc)'!$G108=\"\",\"\",INDEX([1]ITS_DEV_MANUF_MODEL!$A$2:$E$1000,MATCH(1,([1]ITS_DEV_MANUF_MODEL!$E$2:$E$1000=\"VDS\")*([1]ITS_DEV_MANUF_MODEL!$D$2:$D$1000='External_Sensor (Desc)'!$G108),0),1))","v":""},{"$f":"IF('External_Sensor (Desc)'!$G108=\"\",\"\",INDEX([1]ITS_DEV_MANUF_MODEL!$A$2:$E$1000,MATCH(1,([1]ITS_DEV_MANUF_MODEL!$E$2:$E$1000=\"VDS\")*([1]ITS_DEV_MANUF_MODEL!$D$2:$D$1000='External_Sensor (Desc)'!$G108),0),2))","v":""},{"$f":"IF('External_Sensor (Desc)'!I108=\"\",\"\",'External_Sensor (Desc)'!I108)","v":""},{"$f":"IF('External_Sensor (Desc)'!J108=\"\",\"\",'External_Sensor (Desc)'!J108)","v":""},{"$f":"IF('External_Sensor (Desc)'!K108=\"\",\"\",'External_Sensor (Desc)'!K108)","v":""},{"$f":"IF('External_Sensor (Desc)'!L108=\"\",\"\",'External_Sensor (Desc)'!L108)","v":""},{"$f":"IF('External_Sensor (Desc)'!M108=\"\",\"\",'External_Sensor (Desc)'!M108)","v":""}]
[{"$f":"IF('External_Sensor (Desc)'!A109=\"\",\"\",'External_Sensor (Desc)'!A109)","v":""},{"$f":"IF('External_Sensor (Desc)'!B109=\"\",\"\",\"1987\")","v":""},{"$f":"IF('External_Sensor (Desc)'!B109=\"\",\"\",'External_Sensor (Desc)'!B109)","v":""},{"$f":"IF('External_Sensor (Desc)'!C109=\"\",\"\",'External_Sensor (Desc)'!C109)","v":""},{"$f":"IF('External_Sensor (Desc)'!D109=\"\",\"\",'External_Sensor (Desc)'!D109)","v":""},{"$f":"IF('External_Sensor (Desc)'!E109=\"\",\"\",INDEX([1]WWVDS_USAGE!$A$2:$A$4,MATCH('External_Sensor (Desc)'!$E109,[1]!MASTER_SENSOR_USAGE_DESC[#Data],0),0))","v":""},{"$f":"IF('External_Sensor (Desc)'!F109=\"\",\"\",INDEX([1]SENSOR_TYPE!$A$2:$A$15,MATCH('External_Sensor (Desc)'!$F109,[1]!MASTER_SENSOR_TYPE_DESC[#Data],0),0))","v":""},{"$f":"IF('External_Sensor (Desc)'!$G109=\"\",\"\",INDEX([1]ITS_DEV_MANUF_MODEL!$A$2:$E$1000,MATCH(1,([1]ITS_DEV_MANUF_MODEL!$E$2:$E$1000=\"VDS\")*([1]ITS_DEV_MANUF_MODEL!$D$2:$D$1000='External_Sensor (Desc)'!$G109),0),1))","v":""},{"$f":"IF('External_Sensor (Desc)'!$G109=\"\",\"\",INDEX([1]ITS_DEV_MANUF_MODEL!$A$2:$E$1000,MATCH(1,([1]ITS_DEV_MANUF_MODEL!$E$2:$E$1000=\"VDS\")*([1]ITS_DEV_MANUF_MODEL!$D$2:$D$1000='External_Sensor (Desc)'!$G109),0),2))","v":""},{"$f":"IF('External_Sensor (Desc)'!I109=\"\",\"\",'External_Sensor (Desc)'!I109)","v":""},{"$f":"IF('External_Sensor (Desc)'!J109=\"\",\"\",'External_Sensor (Desc)'!J109)","v":""},{"$f":"IF('External_Sensor (Desc)'!K109=\"\",\"\",'External_Sensor (Desc)'!K109)","v":""},{"$f":"IF('External_Sensor (Desc)'!L109=\"\",\"\",'External_Sensor (Desc)'!L109)","v":""},{"$f":"IF('External_Sensor (Desc)'!M109=\"\",\"\",'External_Sensor (Desc)'!M109)","v":""}]
[{"$f":"IF('External_Sensor (Desc)'!A110=\"\",\"\",'External_Sensor (Desc)'!A110)","v":""},{"$f":"IF('External_Sensor (Desc)'!B110=\"\",\"\",\"1987\")","v":""},{"$f":"IF('External_Sensor (Desc)'!B110=\"\",\"\",'External_Sensor (Desc)'!B110)","v":""},{"$f":"IF('External_Sensor (Desc)'!C110=\"\",\"\",'External_Sensor (Desc)'!C110)","v":""},{"$f":"IF('External_Sensor (Desc)'!D110=\"\",\"\",'External_Sensor (Desc)'!D110)","v":""},{"$f":"IF('External_Sensor (Desc)'!E110=\"\",\"\",INDEX([1]WWVDS_USAGE!$A$2:$A$4,MATCH('External_Sensor (Desc)'!$E110,[1]!MASTER_SENSOR_USAGE_DESC[#Data],0),0))","v":""},{"$f":"IF('External_Sensor (Desc)'!F110=\"\",\"\",INDEX([1]SENSOR_TYPE!$A$2:$A$15,MATCH('External_Sensor (Desc)'!$F110,[1]!MASTER_SENSOR_TYPE_DESC[#Data],0),0))","v":""},{"$f":"IF('External_Sensor (Desc)'!$G110=\"\",\"\",INDEX([1]ITS_DEV_MANUF_MODEL!$A$2:$E$1000,MATCH(1,([1]ITS_DEV_MANUF_MODEL!$E$2:$E$1000=\"VDS\")*([1]ITS_DEV_MANUF_MODEL!$D$2:$D$1000='External_Sensor (Desc)'!$G110),0),1))","v":""},{"$f":"IF('External_Sensor (Desc)'!$G110=\"\",\"\",INDEX([1]ITS_DEV_MANUF_MODEL!$A$2:$E$1000,MATCH(1,([1]ITS_DEV_MANUF_MODEL!$E$2:$E$1000=\"VDS\")*([1]ITS_DEV_MANUF_MODEL!$D$2:$D$1000='External_Sensor (Desc)'!$G110),0),2))","v":""},{"$f":"IF('External_Sensor (Desc)'!I110=\"\",\"\",'External_Sensor (Desc)'!I110)","v":""},{"$f":"IF('External_Sensor (Desc)'!J110=\"\",\"\",'External_Sensor (Desc)'!J110)","v":""},{"$f":"IF('External_Sensor (Desc)'!K110=\"\",\"\",'External_Sensor (Desc)'!K110)","v":""},{"$f":"IF('External_Sensor (Desc)'!L110=\"\",\"\",'External_Sensor (Desc)'!L110)","v":""},{"$f":"IF('External_Sensor (Desc)'!M110=\"\",\"\",'External_Sensor (Desc)'!M110)","v":""}]
[{"$f":"IF('External_Sensor (Desc)'!A111=\"\",\"\",'External_Sensor (Desc)'!A111)","v":""},{"$f":"IF('External_Sensor (Desc)'!B111=\"\",\"\",\"1987\")","v":""},{"$f":"IF('External_Sensor (Desc)'!B111=\"\",\"\",'External_Sensor (Desc)'!B111)","v":""},{"$f":"IF('External_Sensor (Desc)'!C111=\"\",\"\",'External_Sensor (Desc)'!C111)","v":""},{"$f":"IF('External_Sensor (Desc)'!D111=\"\",\"\",'External_Sensor (Desc)'!D111)","v":""},{"$f":"IF('External_Sensor (Desc)'!E111=\"\",\"\",INDEX([1]WWVDS_USAGE!$A$2:$A$4,MATCH('External_Sensor (Desc)'!$E111,[1]!MASTER_SENSOR_USAGE_DESC[#Data],0),0))","v":""},{"$f":"IF('External_Sensor (Desc)'!F111=\"\",\"\",INDEX([1]SENSOR_TYPE!$A$2:$A$15,MATCH('External_Sensor (Desc)'!$F111,[1]!MASTER_SENSOR_TYPE_DESC[#Data],0),0))","v":""},{"$f":"IF('External_Sensor (Desc)'!$G111=\"\",\"\",INDEX([1]ITS_DEV_MANUF_MODEL!$A$2:$E$1000,MATCH(1,([1]ITS_DEV_MANUF_MODEL!$E$2:$E$1000=\"VDS\")*([1]ITS_DEV_MANUF_MODEL!$D$2:$D$1000='External_Sensor (Desc)'!$G111),0),1))","v":""},{"$f":"IF('External_Sensor (Desc)'!$G111=\"\",\"\",INDEX([1]ITS_DEV_MANUF_MODEL!$A$2:$E$1000,MATCH(1,([1]ITS_DEV_MANUF_MODEL!$E$2:$E$1000=\"VDS\")*([1]ITS_DEV_MANUF_MODEL!$D$2:$D$1000='External_Sensor (Desc)'!$G111),0),2))","v":""},{"$f":"IF('External_Sensor (Desc)'!I111=\"\",\"\",'External_Sensor (Desc)'!I111)","v":""},{"$f":"IF('External_Sensor (Desc)'!J111=\"\",\"\",'External_Sensor (Desc)'!J111)","v":""},{"$f":"IF('External_Sensor (Desc)'!K111=\"\",\"\",'External_Sensor (Desc)'!K111)","v":""},{"$f":"IF('External_Sensor (Desc)'!L111=\"\",\"\",'External_Sensor (Desc)'!L111)","v":""},{"$f":"IF('External_Sensor (Desc)'!M111=\"\",\"\",'External_Sensor (Desc)'!M111)","v":""}]
[{"$f":"IF('External_Sensor (Desc)'!A112=\"\",\"\",'External_Sensor (Desc)'!A112)","v":""},{"$f":"IF('External_Sensor (Desc)'!B112=\"\",\"\",\"1987\")","v":""},{"$f":"IF('External_Sensor (Desc)'!B112=\"\",\"\",'External_Sensor (Desc)'!B112)","v":""},{"$f":"IF('External_Sensor (Desc)'!C112=\"\",\"\",'External_Sensor (Desc)'!C112)","v":""},{"$f":"IF('External_Sensor (Desc)'!D112=\"\",\"\",'External_Sensor (Desc)'!D112)","v":""},{"$f":"IF('External_Sensor (Desc)'!E112=\"\",\"\",INDEX([1]WWVDS_USAGE!$A$2:$A$4,MATCH('External_Sensor (Desc)'!$E112,[1]!MASTER_SENSOR_USAGE_DESC[#Data],0),0))","v":""},{"$f":"IF('External_Sensor (Desc)'!F112=\"\",\"\",INDEX([1]SENSOR_TYPE!$A$2:$A$15,MATCH('External_Sensor (Desc)'!$F112,[1]!MASTER_SENSOR_TYPE_DESC[#Data],0),0))","v":""},{"$f":"IF('External_Sensor (Desc)'!$G112=\"\",\"\",INDEX([1]ITS_DEV_MANUF_MODEL!$A$2:$E$1000,MATCH(1,([1]ITS_DEV_MANUF_MODEL!$E$2:$E$1000=\"VDS\")*([1]ITS_DEV_MANUF_MODEL!$D$2:$D$1000='External_Sensor (Desc)'!$G112),0),1))","v":""},{"$f":"IF('External_Sensor (Desc)'!$G112=\"\",\"\",INDEX([1]ITS_DEV_MANUF_MODEL!$A$2:$E$1000,MATCH(1,([1]ITS_DEV_MANUF_MODEL!$E$2:$E$1000=\"VDS\")*([1]ITS_DEV_MANUF_MODEL!$D$2:$D$1000='External_Sensor (Desc)'!$G112),0),2))","v":""},{"$f":"IF('External_Sensor (Desc)'!I112=\"\",\"\",'External_Sensor (Desc)'!I112)","v":""},{"$f":"IF('External_Sensor (Desc)'!J112=\"\",\"\",'External_Sensor (Desc)'!J112)","v":""},{"$f":"IF('External_Sensor (Desc)'!K112=\"\",\"\",'External_Sensor (Desc)'!K112)","v":""},{"$f":"IF('External_Sensor (Desc)'!L112=\"\",\"\",'External_Sensor (Desc)'!L112)","v":""},{"$f":"IF('External_Sensor (Desc)'!M112=\"\",\"\",'External_Sensor (Desc)'!M112)","v":""}]
[{"$f":"IF('External_Sensor (Desc)'!A113=\"\",\"\",'External_Sensor (Desc)'!A113)","v":""},{"$f":"IF('External_Sensor (Desc)'!B113=\"\",\"\",\"1987\")","v":""},{"$f":"IF('External_Sensor (Desc)'!B113=\"\",\"\",'External_Sensor (Desc)'!B113)","v":""},{"$f":"IF('External_Sensor (Desc)'!C113=\"\",\"\",'External_Sensor (Desc)'!C113)","v":""},{"$f":"IF('External_Sensor (Desc)'!D113=\"\",\"\",'External_Sensor (Desc)'!D113)","v":""},{"$f":"IF('External_Sensor (Desc)'!E113=\"\",\"\",INDEX([1]WWVDS_USAGE!$A$2:$A$4,MATCH('External_Sensor (Desc)'!$E113,[1]!MASTER_SENSOR_USAGE_DESC[#Data],0),0))","v":""},{"$f":"IF('External_Sensor (Desc)'!F113=\"\",\"\",INDEX([1]SENSOR_TYPE!$A$2:$A$15,MATCH('External_Sensor (Desc)'!$F113,[1]!MASTER_SENSOR_TYPE_DESC[#Data],0),0))","v":""},{"$f":"IF('External_Sensor (Desc)'!$G113=\"\",\"\",INDEX([1]ITS_DEV_MANUF_MODEL!$A$2:$E$1000,MATCH(1,([1]ITS_DEV_MANUF_MODEL!$E$2:$E$1000=\"VDS\")*([1]ITS_DEV_MANUF_MODEL!$D$2:$D$1000='External_Sensor (Desc)'!$G113),0),1))","v":""},{"$f":"IF('External_Sensor (Desc)'!$G113=\"\",\"\",INDEX([1]ITS_DEV_MANUF_MODEL!$A$2:$E$1000,MATCH(1,([1]ITS_DEV_MANUF_MODEL!$E$2:$E$1000=\"VDS\")*([1]ITS_DEV_MANUF_MODEL!$D$2:$D$1000='External_Sensor (Desc)'!$G113),0),2))","v":""},{"$f":"IF('External_Sensor (Desc)'!I113=\"\",\"\",'External_Sensor (Desc)'!I113)","v":""},{"$f":"IF('External_Sensor (Desc)'!J113=\"\",\"\",'External_Sensor (Desc)'!J113)","v":""},{"$f":"IF('External_Sensor (Desc)'!K113=\"\",\"\",'External_Sensor (Desc)'!K113)","v":""},{"$f":"IF('External_Sensor (Desc)'!L113=\"\",\"\",'External_Sensor (Desc)'!L113)","v":""},{"$f":"IF('External_Sensor (Desc)'!M113=\"\",\"\",'External_Sensor (Desc)'!M113)","v":""}]
[{"$f":"IF('External_Sensor (Desc)'!A114=\"\",\"\",'External_Sensor (Desc)'!A114)","v":""},{"$f":"IF('External_Sensor (Desc)'!B114=\"\",\"\",\"1987\")","v":""},{"$f":"IF('External_Sensor (Desc)'!B114=\"\",\"\",'External_Sensor (Desc)'!B114)","v":""},{"$f":"IF('External_Sensor (Desc)'!C114=\"\",\"\",'External_Sensor (Desc)'!C114)","v":""},{"$f":"IF('External_Sensor (Desc)'!D114=\"\",\"\",'External_Sensor (Desc)'!D114)","v":""},{"$f":"IF('External_Sensor (Desc)'!E114=\"\",\"\",INDEX([1]WWVDS_USAGE!$A$2:$A$4,MATCH('External_Sensor (Desc)'!$E114,[1]!MASTER_SENSOR_USAGE_DESC[#Data],0),0))","v":""},{"$f":"IF('External_Sensor (Desc)'!F114=\"\",\"\",INDEX([1]SENSOR_TYPE!$A$2:$A$15,MATCH('External_Sensor (Desc)'!$F114,[1]!MASTER_SENSOR_TYPE_DESC[#Data],0),0))","v":""},{"$f":"IF('External_Sensor (Desc)'!$G114=\"\",\"\",INDEX([1]ITS_DEV_MANUF_MODEL!$A$2:$E$1000,MATCH(1,([1]ITS_DEV_MANUF_MODEL!$E$2:$E$1000=\"VDS\")*([1]ITS_DEV_MANUF_MODEL!$D$2:$D$1000='External_Sensor (Desc)'!$G114),0),1))","v":""},{"$f":"IF('External_Sensor (Desc)'!$G114=\"\",\"\",INDEX([1]ITS_DEV_MANUF_MODEL!$A$2:$E$1000,MATCH(1,([1]ITS_DEV_MANUF_MODEL!$E$2:$E$1000=\"VDS\")*([1]ITS_DEV_MANUF_MODEL!$D$2:$D$1000='External_Sensor (Desc)'!$G114),0),2))","v":""},{"$f":"IF('External_Sensor (Desc)'!I114=\"\",\"\",'External_Sensor (Desc)'!I114)","v":""},{"$f":"IF('External_Sensor (Desc)'!J114=\"\",\"\",'External_Sensor (Desc)'!J114)","v":""},{"$f":"IF('External_Sensor (Desc)'!K114=\"\",\"\",'External_Sensor (Desc)'!K114)","v":""},{"$f":"IF('External_Sensor (Desc)'!L114=\"\",\"\",'External_Sensor (Desc)'!L114)","v":""},{"$f":"IF('External_Sensor (Desc)'!M114=\"\",\"\",'External_Sensor (Desc)'!M114)","v":""}]
[{"$f":"IF('External_Sensor (Desc)'!A115=\"\",\"\",'External_Sensor (Desc)'!A115)","v":""},{"$f":"IF('External_Sensor (Desc)'!B115=\"\",\"\",\"1987\")","v":""},{"$f":"IF('External_Sensor (Desc)'!B115=\"\",\"\",'External_Sensor (Desc)'!B115)","v":""},{"$f":"IF('External_Sensor (Desc)'!C115=\"\",\"\",'External_Sensor (Desc)'!C115)","v":""},{"$f":"IF('External_Sensor (Desc)'!D115=\"\",\"\",'External_Sensor (Desc)'!D115)","v":""},{"$f":"IF('External_Sensor (Desc)'!E115=\"\",\"\",INDEX([1]WWVDS_USAGE!$A$2:$A$4,MATCH('External_Sensor (Desc)'!$E115,[1]!MASTER_SENSOR_USAGE_DESC[#Data],0),0))","v":""},{"$f":"IF('External_Sensor (Desc)'!F115=\"\",\"\",INDEX([1]SENSOR_TYPE!$A$2:$A$15,MATCH('External_Sensor (Desc)'!$F115,[1]!MASTER_SENSOR_TYPE_DESC[#Data],0),0))","v":""},{"$f":"IF('External_Sensor (Desc)'!$G115=\"\",\"\",INDEX([1]ITS_DEV_MANUF_MODEL!$A$2:$E$1000,MATCH(1,([1]ITS_DEV_MANUF_MODEL!$E$2:$E$1000=\"VDS\")*([1]ITS_DEV_MANUF_MODEL!$D$2:$D$1000='External_Sensor (Desc)'!$G115),0),1))","v":""},{"$f":"IF('External_Sensor (Desc)'!$G115=\"\",\"\",INDEX([1]ITS_DEV_MANUF_MODEL!$A$2:$E$1000,MATCH(1,([1]ITS_DEV_MANUF_MODEL!$E$2:$E$1000=\"VDS\")*([1]ITS_DEV_MANUF_MODEL!$D$2:$D$1000='External_Sensor (Desc)'!$G115),0),2))","v":""},{"$f":"IF('External_Sensor (Desc)'!I115=\"\",\"\",'External_Sensor (Desc)'!I115)","v":""},{"$f":"IF('External_Sensor (Desc)'!J115=\"\",\"\",'External_Sensor (Desc)'!J115)","v":""},{"$f":"IF('External_Sensor (Desc)'!K115=\"\",\"\",'External_Sensor (Desc)'!K115)","v":""},{"$f":"IF('External_Sensor (Desc)'!L115=\"\",\"\",'External_Sensor (Desc)'!L115)","v":""},{"$f":"IF('External_Sensor (Desc)'!M115=\"\",\"\",'External_Sensor (Desc)'!M115)","v":""}]
[{"$f":"IF('External_Sensor (Desc)'!A116=\"\",\"\",'External_Sensor (Desc)'!A116)","v":""},{"$f":"IF('External_Sensor (Desc)'!B116=\"\",\"\",\"1987\")","v":""},{"$f":"IF('External_Sensor (Desc)'!B116=\"\",\"\",'External_Sensor (Desc)'!B116)","v":""},{"$f":"IF('External_Sensor (Desc)'!C116=\"\",\"\",'External_Sensor (Desc)'!C116)","v":""},{"$f":"IF('External_Sensor (Desc)'!D116=\"\",\"\",'External_Sensor (Desc)'!D116)","v":""},{"$f":"IF('External_Sensor (Desc)'!E116=\"\",\"\",INDEX([1]WWVDS_USAGE!$A$2:$A$4,MATCH('External_Sensor (Desc)'!$E116,[1]!MASTER_SENSOR_USAGE_DESC[#Data],0),0))","v":""},{"$f":"IF('External_Sensor (Desc)'!F116=\"\",\"\",INDEX([1]SENSOR_TYPE!$A$2:$A$15,MATCH('External_Sensor (Desc)'!$F116,[1]!MASTER_SENSOR_TYPE_DESC[#Data],0),0))","v":""},{"$f":"IF('External_Sensor (Desc)'!$G116=\"\",\"\",INDEX([1]ITS_DEV_MANUF_MODEL!$A$2:$E$1000,MATCH(1,([1]ITS_DEV_MANUF_MODEL!$E$2:$E$1000=\"VDS\")*([1]ITS_DEV_MANUF_MODEL!$D$2:$D$1000='External_Sensor (Desc)'!$G116),0),1))","v":""},{"$f":"IF('External_Sensor (Desc)'!$G116=\"\",\"\",INDEX([1]ITS_DEV_MANUF_MODEL!$A$2:$E$1000,MATCH(1,([1]ITS_DEV_MANUF_MODEL!$E$2:$E$1000=\"VDS\")*([1]ITS_DEV_MANUF_MODEL!$D$2:$D$1000='External_Sensor (Desc)'!$G116),0),2))","v":""},{"$f":"IF('External_Sensor (Desc)'!I116=\"\",\"\",'External_Sensor (Desc)'!I116)","v":""},{"$f":"IF('External_Sensor (Desc)'!J116=\"\",\"\",'External_Sensor (Desc)'!J116)","v":""},{"$f":"IF('External_Sensor (Desc)'!K116=\"\",\"\",'External_Sensor (Desc)'!K116)","v":""},{"$f":"IF('External_Sensor (Desc)'!L116=\"\",\"\",'External_Sensor (Desc)'!L116)","v":""},{"$f":"IF('External_Sensor (Desc)'!M116=\"\",\"\",'External_Sensor (Desc)'!M116)","v":""}]
[{"$f":"IF('External_Sensor (Desc)'!A117=\"\",\"\",'External_Sensor (Desc)'!A117)","v":""},{"$f":"IF('External_Sensor (Desc)'!B117=\"\",\"\",\"1987\")","v":""},{"$f":"IF('External_Sensor (Desc)'!B117=\"\",\"\",'External_Sensor (Desc)'!B117)","v":""},{"$f":"IF('External_Sensor (Desc)'!C117=\"\",\"\",'External_Sensor (Desc)'!C117)","v":""},{"$f":"IF('External_Sensor (Desc)'!D117=\"\",\"\",'External_Sensor (Desc)'!D117)","v":""},{"$f":"IF('External_Sensor (Desc)'!E117=\"\",\"\",INDEX([1]WWVDS_USAGE!$A$2:$A$4,MATCH('External_Sensor (Desc)'!$E117,[1]!MASTER_SENSOR_USAGE_DESC[#Data],0),0))","v":""},{"$f":"IF('External_Sensor (Desc)'!F117=\"\",\"\",INDEX([1]SENSOR_TYPE!$A$2:$A$15,MATCH('External_Sensor (Desc)'!$F117,[1]!MASTER_SENSOR_TYPE_DESC[#Data],0),0))","v":""},{"$f":"IF('External_Sensor (Desc)'!$G117=\"\",\"\",INDEX([1]ITS_DEV_MANUF_MODEL!$A$2:$E$1000,MATCH(1,([1]ITS_DEV_MANUF_MODEL!$E$2:$E$1000=\"VDS\")*([1]ITS_DEV_MANUF_MODEL!$D$2:$D$1000='External_Sensor (Desc)'!$G117),0),1))","v":""},{"$f":"IF('External_Sensor (Desc)'!$G117=\"\",\"\",INDEX([1]ITS_DEV_MANUF_MODEL!$A$2:$E$1000,MATCH(1,([1]ITS_DEV_MANUF_MODEL!$E$2:$E$1000=\"VDS\")*([1]ITS_DEV_MANUF_MODEL!$D$2:$D$1000='External_Sensor (Desc)'!$G117),0),2))","v":""},{"$f":"IF('External_Sensor (Desc)'!I117=\"\",\"\",'External_Sensor (Desc)'!I117)","v":""},{"$f":"IF('External_Sensor (Desc)'!J117=\"\",\"\",'External_Sensor (Desc)'!J117)","v":""},{"$f":"IF('External_Sensor (Desc)'!K117=\"\",\"\",'External_Sensor (Desc)'!K117)","v":""},{"$f":"IF('External_Sensor (Desc)'!L117=\"\",\"\",'External_Sensor (Desc)'!L117)","v":""},{"$f":"IF('External_Sensor (Desc)'!M117=\"\",\"\",'External_Sensor (Desc)'!M117)","v":""}]
[{"$f":"IF('External_Sensor (Desc)'!A118=\"\",\"\",'External_Sensor (Desc)'!A118)","v":""},{"$f":"IF('External_Sensor (Desc)'!B118=\"\",\"\",\"1987\")","v":""},{"$f":"IF('External_Sensor (Desc)'!B118=\"\",\"\",'External_Sensor (Desc)'!B118)","v":""},{"$f":"IF('External_Sensor (Desc)'!C118=\"\",\"\",'External_Sensor (Desc)'!C118)","v":""},{"$f":"IF('External_Sensor (Desc)'!D118=\"\",\"\",'External_Sensor (Desc)'!D118)","v":""},{"$f":"IF('External_Sensor (Desc)'!E118=\"\",\"\",INDEX([1]WWVDS_USAGE!$A$2:$A$4,MATCH('External_Sensor (Desc)'!$E118,[1]!MASTER_SENSOR_USAGE_DESC[#Data],0),0))","v":""},{"$f":"IF('External_Sensor (Desc)'!F118=\"\",\"\",INDEX([1]SENSOR_TYPE!$A$2:$A$15,MATCH('External_Sensor (Desc)'!$F118,[1]!MASTER_SENSOR_TYPE_DESC[#Data],0),0))","v":""},{"$f":"IF('External_Sensor (Desc)'!$G118=\"\",\"\",INDEX([1]ITS_DEV_MANUF_MODEL!$A$2:$E$1000,MATCH(1,([1]ITS_DEV_MANUF_MODEL!$E$2:$E$1000=\"VDS\")*([1]ITS_DEV_MANUF_MODEL!$D$2:$D$1000='External_Sensor (Desc)'!$G118),0),1))","v":""},{"$f":"IF('External_Sensor (Desc)'!$G118=\"\",\"\",INDEX([1]ITS_DEV_MANUF_MODEL!$A$2:$E$1000,MATCH(1,([1]ITS_DEV_MANUF_MODEL!$E$2:$E$1000=\"VDS\")*([1]ITS_DEV_MANUF_MODEL!$D$2:$D$1000='External_Sensor (Desc)'!$G118),0),2))","v":""},{"$f":"IF('External_Sensor (Desc)'!I118=\"\",\"\",'External_Sensor (Desc)'!I118)","v":""},{"$f":"IF('External_Sensor (Desc)'!J118=\"\",\"\",'External_Sensor (Desc)'!J118)","v":""},{"$f":"IF('External_Sensor (Desc)'!K118=\"\",\"\",'External_Sensor (Desc)'!K118)","v":""},{"$f":"IF('External_Sensor (Desc)'!L118=\"\",\"\",'External_Sensor (Desc)'!L118)","v":""},{"$f":"IF('External_Sensor (Desc)'!M118=\"\",\"\",'External_Sensor (Desc)'!M118)","v":""}]
[{"$f":"IF('External_Sensor (Desc)'!A119=\"\",\"\",'External_Sensor (Desc)'!A119)","v":""},{"$f":"IF('External_Sensor (Desc)'!B119=\"\",\"\",\"1987\")","v":""},{"$f":"IF('External_Sensor (Desc)'!B119=\"\",\"\",'External_Sensor (Desc)'!B119)","v":""},{"$f":"IF('External_Sensor (Desc)'!C119=\"\",\"\",'External_Sensor (Desc)'!C119)","v":""},{"$f":"IF('External_Sensor (Desc)'!D119=\"\",\"\",'External_Sensor (Desc)'!D119)","v":""},{"$f":"IF('External_Sensor (Desc)'!E119=\"\",\"\",INDEX([1]WWVDS_USAGE!$A$2:$A$4,MATCH('External_Sensor (Desc)'!$E119,[1]!MASTER_SENSOR_USAGE_DESC[#Data],0),0))","v":""},{"$f":"IF('External_Sensor (Desc)'!F119=\"\",\"\",INDEX([1]SENSOR_TYPE!$A$2:$A$15,MATCH('External_Sensor (Desc)'!$F119,[1]!MASTER_SENSOR_TYPE_DESC[#Data],0),0))","v":""},{"$f":"IF('External_Sensor (Desc)'!$G119=\"\",\"\",INDEX([1]ITS_DEV_MANUF_MODEL!$A$2:$E$1000,MATCH(1,([1]ITS_DEV_MANUF_MODEL!$E$2:$E$1000=\"VDS\")*([1]ITS_DEV_MANUF_MODEL!$D$2:$D$1000='External_Sensor (Desc)'!$G119),0),1))","v":""},{"$f":"IF('External_Sensor (Desc)'!$G119=\"\",\"\",INDEX([1]ITS_DEV_MANUF_MODEL!$A$2:$E$1000,MATCH(1,([1]ITS_DEV_MANUF_MODEL!$E$2:$E$1000=\"VDS\")*([1]ITS_DEV_MANUF_MODEL!$D$2:$D$1000='External_Sensor (Desc)'!$G119),0),2))","v":""},{"$f":"IF('External_Sensor (Desc)'!I119=\"\",\"\",'External_Sensor (Desc)'!I119)","v":""},{"$f":"IF('External_Sensor (Desc)'!J119=\"\",\"\",'External_Sensor (Desc)'!J119)","v":""},{"$f":"IF('External_Sensor (Desc)'!K119=\"\",\"\",'External_Sensor (Desc)'!K119)","v":""},{"$f":"IF('External_Sensor (Desc)'!L119=\"\",\"\",'External_Sensor (Desc)'!L119)","v":""},{"$f":"IF('External_Sensor (Desc)'!M119=\"\",\"\",'External_Sensor (Desc)'!M119)","v":""}]
[{"$f":"IF('External_Sensor (Desc)'!A120=\"\",\"\",'External_Sensor (Desc)'!A120)","v":""},{"$f":"IF('External_Sensor (Desc)'!B120=\"\",\"\",\"1987\")","v":""},{"$f":"IF('External_Sensor (Desc)'!B120=\"\",\"\",'External_Sensor (Desc)'!B120)","v":""},{"$f":"IF('External_Sensor (Desc)'!C120=\"\",\"\",'External_Sensor (Desc)'!C120)","v":""},{"$f":"IF('External_Sensor (Desc)'!D120=\"\",\"\",'External_Sensor (Desc)'!D120)","v":""},{"$f":"IF('External_Sensor (Desc)'!E120=\"\",\"\",INDEX([1]WWVDS_USAGE!$A$2:$A$4,MATCH('External_Sensor (Desc)'!$E120,[1]!MASTER_SENSOR_USAGE_DESC[#Data],0),0))","v":""},{"$f":"IF('External_Sensor (Desc)'!F120=\"\",\"\",INDEX([1]SENSOR_TYPE!$A$2:$A$15,MATCH('External_Sensor (Desc)'!$F120,[1]!MASTER_SENSOR_TYPE_DESC[#Data],0),0))","v":""},{"$f":"IF('External_Sensor (Desc)'!$G120=\"\",\"\",INDEX([1]ITS_DEV_MANUF_MODEL!$A$2:$E$1000,MATCH(1,([1]ITS_DEV_MANUF_MODEL!$E$2:$E$1000=\"VDS\")*([1]ITS_DEV_MANUF_MODEL!$D$2:$D$1000='External_Sensor (Desc)'!$G120),0),1))","v":""},{"$f":"IF('External_Sensor (Desc)'!$G120=\"\",\"\",INDEX([1]ITS_DEV_MANUF_MODEL!$A$2:$E$1000,MATCH(1,([1]ITS_DEV_MANUF_MODEL!$E$2:$E$1000=\"VDS\")*([1]ITS_DEV_MANUF_MODEL!$D$2:$D$1000='External_Sensor (Desc)'!$G120),0),2))","v":""},{"$f":"IF('External_Sensor (Desc)'!I120=\"\",\"\",'External_Sensor (Desc)'!I120)","v":""},{"$f":"IF('External_Sensor (Desc)'!J120=\"\",\"\",'External_Sensor (Desc)'!J120)","v":""},{"$f":"IF('External_Sensor (Desc)'!K120=\"\",\"\",'External_Sensor (Desc)'!K120)","v":""},{"$f":"IF('External_Sensor (Desc)'!L120=\"\",\"\",'External_Sensor (Desc)'!L120)","v":""},{"$f":"IF('External_Sensor (Desc)'!M120=\"\",\"\",'External_Sensor (Desc)'!M120)","v":""}]
[{"$f":"IF('External_Sensor (Desc)'!A121=\"\",\"\",'External_Sensor (Desc)'!A121)","v":""},{"$f":"IF('External_Sensor (Desc)'!B121=\"\",\"\",\"1987\")","v":""},{"$f":"IF('External_Sensor (Desc)'!B121=\"\",\"\",'External_Sensor (Desc)'!B121)","v":""},{"$f":"IF('External_Sensor (Desc)'!C121=\"\",\"\",'External_Sensor (Desc)'!C121)","v":""},{"$f":"IF('External_Sensor (Desc)'!D121=\"\",\"\",'External_Sensor (Desc)'!D121)","v":""},{"$f":"IF('External_Sensor (Desc)'!E121=\"\",\"\",INDEX([1]WWVDS_USAGE!$A$2:$A$4,MATCH('External_Sensor (Desc)'!$E121,[1]!MASTER_SENSOR_USAGE_DESC[#Data],0),0))","v":""},{"$f":"IF('External_Sensor (Desc)'!F121=\"\",\"\",INDEX([1]SENSOR_TYPE!$A$2:$A$15,MATCH('External_Sensor (Desc)'!$F121,[1]!MASTER_SENSOR_TYPE_DESC[#Data],0),0))","v":""},{"$f":"IF('External_Sensor (Desc)'!$G121=\"\",\"\",INDEX([1]ITS_DEV_MANUF_MODEL!$A$2:$E$1000,MATCH(1,([1]ITS_DEV_MANUF_MODEL!$E$2:$E$1000=\"VDS\")*([1]ITS_DEV_MANUF_MODEL!$D$2:$D$1000='External_Sensor (Desc)'!$G121),0),1))","v":""},{"$f":"IF('External_Sensor (Desc)'!$G121=\"\",\"\",INDEX([1]ITS_DEV_MANUF_MODEL!$A$2:$E$1000,MATCH(1,([1]ITS_DEV_MANUF_MODEL!$E$2:$E$1000=\"VDS\")*([1]ITS_DEV_MANUF_MODEL!$D$2:$D$1000='External_Sensor (Desc)'!$G121),0),2))","v":""},{"$f":"IF('External_Sensor (Desc)'!I121=\"\",\"\",'External_Sensor (Desc)'!I121)","v":""},{"$f":"IF('External_Sensor (Desc)'!J121=\"\",\"\",'External_Sensor (Desc)'!J121)","v":""},{"$f":"IF('External_Sensor (Desc)'!K121=\"\",\"\",'External_Sensor (Desc)'!K121)","v":""},{"$f":"IF('External_Sensor (Desc)'!L121=\"\",\"\",'External_Sensor (Desc)'!L121)","v":""},{"$f":"IF('External_Sensor (Desc)'!M121=\"\",\"\",'External_Sensor (Desc)'!M121)","v":""}]
[{"$f":"IF('External_Sensor (Desc)'!A122=\"\",\"\",'External_Sensor (Desc)'!A122)","v":""},{"$f":"IF('External_Sensor (Desc)'!B122=\"\",\"\",\"1987\")","v":""},{"$f":"IF('External_Sensor (Desc)'!B122=\"\",\"\",'External_Sensor (Desc)'!B122)","v":""},{"$f":"IF('External_Sensor (Desc)'!C122=\"\",\"\",'External_Sensor (Desc)'!C122)","v":""},{"$f":"IF('External_Sensor (Desc)'!D122=\"\",\"\",'External_Sensor (Desc)'!D122)","v":""},{"$f":"IF('External_Sensor (Desc)'!E122=\"\",\"\",INDEX([1]WWVDS_USAGE!$A$2:$A$4,MATCH('External_Sensor (Desc)'!$E122,[1]!MASTER_SENSOR_USAGE_DESC[#Data],0),0))","v":""},{"$f":"IF('External_Sensor (Desc)'!F122=\"\",\"\",INDEX([1]SENSOR_TYPE!$A$2:$A$15,MATCH('External_Sensor (Desc)'!$F122,[1]!MASTER_SENSOR_TYPE_DESC[#Data],0),0))","v":""},{"$f":"IF('External_Sensor (Desc)'!$G122=\"\",\"\",INDEX([1]ITS_DEV_MANUF_MODEL!$A$2:$E$1000,MATCH(1,([1]ITS_DEV_MANUF_MODEL!$E$2:$E$1000=\"VDS\")*([1]ITS_DEV_MANUF_MODEL!$D$2:$D$1000='External_Sensor (Desc)'!$G122),0),1))","v":""},{"$f":"IF('External_Sensor (Desc)'!$G122=\"\",\"\",INDEX([1]ITS_DEV_MANUF_MODEL!$A$2:$E$1000,MATCH(1,([1]ITS_DEV_MANUF_MODEL!$E$2:$E$1000=\"VDS\")*([1]ITS_DEV_MANUF_MODEL!$D$2:$D$1000='External_Sensor (Desc)'!$G122),0),2))","v":""},{"$f":"IF('External_Sensor (Desc)'!I122=\"\",\"\",'External_Sensor (Desc)'!I122)","v":""},{"$f":"IF('External_Sensor (Desc)'!J122=\"\",\"\",'External_Sensor (Desc)'!J122)","v":""},{"$f":"IF('External_Sensor (Desc)'!K122=\"\",\"\",'External_Sensor (Desc)'!K122)","v":""},{"$f":"IF('External_Sensor (Desc)'!L122=\"\",\"\",'External_Sensor (Desc)'!L122)","v":""},{"$f":"IF('External_Sensor (Desc)'!M122=\"\",\"\",'External_Sensor (Desc)'!M122)","v":""}]
[{"$f":"IF('External_Sensor (Desc)'!A123=\"\",\"\",'External_Sensor (Desc)'!A123)","v":""},{"$f":"IF('External_Sensor (Desc)'!B123=\"\",\"\",\"1987\")","v":""},{"$f":"IF('External_Sensor (Desc)'!B123=\"\",\"\",'External_Sensor (Desc)'!B123)","v":""},{"$f":"IF('External_Sensor (Desc)'!C123=\"\",\"\",'External_Sensor (Desc)'!C123)","v":""},{"$f":"IF('External_Sensor (Desc)'!D123=\"\",\"\",'External_Sensor (Desc)'!D123)","v":""},{"$f":"IF('External_Sensor (Desc)'!E123=\"\",\"\",INDEX([1]WWVDS_USAGE!$A$2:$A$4,MATCH('External_Sensor (Desc)'!$E123,[1]!MASTER_SENSOR_USAGE_DESC[#Data],0),0))","v":""},{"$f":"IF('External_Sensor (Desc)'!F123=\"\",\"\",INDEX([1]SENSOR_TYPE!$A$2:$A$15,MATCH('External_Sensor (Desc)'!$F123,[1]!MASTER_SENSOR_TYPE_DESC[#Data],0),0))","v":""},{"$f":"IF('External_Sensor (Desc)'!$G123=\"\",\"\",INDEX([1]ITS_DEV_MANUF_MODEL!$A$2:$E$1000,MATCH(1,([1]ITS_DEV_MANUF_MODEL!$E$2:$E$1000=\"VDS\")*([1]ITS_DEV_MANUF_MODEL!$D$2:$D$1000='External_Sensor (Desc)'!$G123),0),1))","v":""},{"$f":"IF('External_Sensor (Desc)'!$G123=\"\",\"\",INDEX([1]ITS_DEV_MANUF_MODEL!$A$2:$E$1000,MATCH(1,([1]ITS_DEV_MANUF_MODEL!$E$2:$E$1000=\"VDS\")*([1]ITS_DEV_MANUF_MODEL!$D$2:$D$1000='External_Sensor (Desc)'!$G123),0),2))","v":""},{"$f":"IF('External_Sensor (Desc)'!I123=\"\",\"\",'External_Sensor (Desc)'!I123)","v":""},{"$f":"IF('External_Sensor (Desc)'!J123=\"\",\"\",'External_Sensor (Desc)'!J123)","v":""},{"$f":"IF('External_Sensor (Desc)'!K123=\"\",\"\",'External_Sensor (Desc)'!K123)","v":""},{"$f":"IF('External_Sensor (Desc)'!L123=\"\",\"\",'External_Sensor (Desc)'!L123)","v":""},{"$f":"IF('External_Sensor (Desc)'!M123=\"\",\"\",'External_Sensor (Desc)'!M123)","v":""}]
[{"$f":"IF('External_Sensor (Desc)'!A124=\"\",\"\",'External_Sensor (Desc)'!A124)","v":""},{"$f":"IF('External_Sensor (Desc)'!B124=\"\",\"\",\"1987\")","v":""},{"$f":"IF('External_Sensor (Desc)'!B124=\"\",\"\",'External_Sensor (Desc)'!B124)","v":""},{"$f":"IF('External_Sensor (Desc)'!C124=\"\",\"\",'External_Sensor (Desc)'!C124)","v":""},{"$f":"IF('External_Sensor (Desc)'!D124=\"\",\"\",'External_Sensor (Desc)'!D124)","v":""},{"$f":"IF('External_Sensor (Desc)'!E124=\"\",\"\",INDEX([1]WWVDS_USAGE!$A$2:$A$4,MATCH('External_Sensor (Desc)'!$E124,[1]!MASTER_SENSOR_USAGE_DESC[#Data],0),0))","v":""},{"$f":"IF('External_Sensor (Desc)'!F124=\"\",\"\",INDEX([1]SENSOR_TYPE!$A$2:$A$15,MATCH('External_Sensor (Desc)'!$F124,[1]!MASTER_SENSOR_TYPE_DESC[#Data],0),0))","v":""},{"$f":"IF('External_Sensor (Desc)'!$G124=\"\",\"\",INDEX([1]ITS_DEV_MANUF_MODEL!$A$2:$E$1000,MATCH(1,([1]ITS_DEV_MANUF_MODEL!$E$2:$E$1000=\"VDS\")*([1]ITS_DEV_MANUF_MODEL!$D$2:$D$1000='External_Sensor (Desc)'!$G124),0),1))","v":""},{"$f":"IF('External_Sensor (Desc)'!$G124=\"\",\"\",INDEX([1]ITS_DEV_MANUF_MODEL!$A$2:$E$1000,MATCH(1,([1]ITS_DEV_MANUF_MODEL!$E$2:$E$1000=\"VDS\")*([1]ITS_DEV_MANUF_MODEL!$D$2:$D$1000='External_Sensor (Desc)'!$G124),0),2))","v":""},{"$f":"IF('External_Sensor (Desc)'!I124=\"\",\"\",'External_Sensor (Desc)'!I124)","v":""},{"$f":"IF('External_Sensor (Desc)'!J124=\"\",\"\",'External_Sensor (Desc)'!J124)","v":""},{"$f":"IF('External_Sensor (Desc)'!K124=\"\",\"\",'External_Sensor (Desc)'!K124)","v":""},{"$f":"IF('External_Sensor (Desc)'!L124=\"\",\"\",'External_Sensor (Desc)'!L124)","v":""},{"$f":"IF('External_Sensor (Desc)'!M124=\"\",\"\",'External_Sensor (Desc)'!M124)","v":""}]
[{"$f":"IF('External_Sensor (Desc)'!A125=\"\",\"\",'External_Sensor (Desc)'!A125)","v":""},{"$f":"IF('External_Sensor (Desc)'!B125=\"\",\"\",\"1987\")","v":""},{"$f":"IF('External_Sensor (Desc)'!B125=\"\",\"\",'External_Sensor (Desc)'!B125)","v":""},{"$f":"IF('External_Sensor (Desc)'!C125=\"\",\"\",'External_Sensor (Desc)'!C125)","v":""},{"$f":"IF('External_Sensor (Desc)'!D125=\"\",\"\",'External_Sensor (Desc)'!D125)","v":""},{"$f":"IF('External_Sensor (Desc)'!E125=\"\",\"\",INDEX([1]WWVDS_USAGE!$A$2:$A$4,MATCH('External_Sensor (Desc)'!$E125,[1]!MASTER_SENSOR_USAGE_DESC[#Data],0),0))","v":""},{"$f":"IF('External_Sensor (Desc)'!F125=\"\",\"\",INDEX([1]SENSOR_TYPE!$A$2:$A$15,MATCH('External_Sensor (Desc)'!$F125,[1]!MASTER_SENSOR_TYPE_DESC[#Data],0),0))","v":""},{"$f":"IF('External_Sensor (Desc)'!$G125=\"\",\"\",INDEX([1]ITS_DEV_MANUF_MODEL!$A$2:$E$1000,MATCH(1,([1]ITS_DEV_MANUF_MODEL!$E$2:$E$1000=\"VDS\")*([1]ITS_DEV_MANUF_MODEL!$D$2:$D$1000='External_Sensor (Desc)'!$G125),0),1))","v":""},{"$f":"IF('External_Sensor (Desc)'!$G125=\"\",\"\",INDEX([1]ITS_DEV_MANUF_MODEL!$A$2:$E$1000,MATCH(1,([1]ITS_DEV_MANUF_MODEL!$E$2:$E$1000=\"VDS\")*([1]ITS_DEV_MANUF_MODEL!$D$2:$D$1000='External_Sensor (Desc)'!$G125),0),2))","v":""},{"$f":"IF('External_Sensor (Desc)'!I125=\"\",\"\",'External_Sensor (Desc)'!I125)","v":""},{"$f":"IF('External_Sensor (Desc)'!J125=\"\",\"\",'External_Sensor (Desc)'!J125)","v":""},{"$f":"IF('External_Sensor (Desc)'!K125=\"\",\"\",'External_Sensor (Desc)'!K125)","v":""},{"$f":"IF('External_Sensor (Desc)'!L125=\"\",\"\",'External_Sensor (Desc)'!L125)","v":""},{"$f":"IF('External_Sensor (Desc)'!M125=\"\",\"\",'External_Sensor (Desc)'!M125)","v":""}]
[{"$f":"IF('External_Sensor (Desc)'!A126=\"\",\"\",'External_Sensor (Desc)'!A126)","v":""},{"$f":"IF('External_Sensor (Desc)'!B126=\"\",\"\",\"1987\")","v":""},{"$f":"IF('External_Sensor (Desc)'!B126=\"\",\"\",'External_Sensor (Desc)'!B126)","v":""},{"$f":"IF('External_Sensor (Desc)'!C126=\"\",\"\",'External_Sensor (Desc)'!C126)","v":""},{"$f":"IF('External_Sensor (Desc)'!D126=\"\",\"\",'External_Sensor (Desc)'!D126)","v":""},{"$f":"IF('External_Sensor (Desc)'!E126=\"\",\"\",INDEX([1]WWVDS_USAGE!$A$2:$A$4,MATCH('External_Sensor (Desc)'!$E126,[1]!MASTER_SENSOR_USAGE_DESC[#Data],0),0))","v":""},{"$f":"IF('External_Sensor (Desc)'!F126=\"\",\"\",INDEX([1]SENSOR_TYPE!$A$2:$A$15,MATCH('External_Sensor (Desc)'!$F126,[1]!MASTER_SENSOR_TYPE_DESC[#Data],0),0))","v":""},{"$f":"IF('External_Sensor (Desc)'!$G126=\"\",\"\",INDEX([1]ITS_DEV_MANUF_MODEL!$A$2:$E$1000,MATCH(1,([1]ITS_DEV_MANUF_MODEL!$E$2:$E$1000=\"VDS\")*([1]ITS_DEV_MANUF_MODEL!$D$2:$D$1000='External_Sensor (Desc)'!$G126),0),1))","v":""},{"$f":"IF('External_Sensor (Desc)'!$G126=\"\",\"\",INDEX([1]ITS_DEV_MANUF_MODEL!$A$2:$E$1000,MATCH(1,([1]ITS_DEV_MANUF_MODEL!$E$2:$E$1000=\"VDS\")*([1]ITS_DEV_MANUF_MODEL!$D$2:$D$1000='External_Sensor (Desc)'!$G126),0),2))","v":""},{"$f":"IF('External_Sensor (Desc)'!I126=\"\",\"\",'External_Sensor (Desc)'!I126)","v":""},{"$f":"IF('External_Sensor (Desc)'!J126=\"\",\"\",'External_Sensor (Desc)'!J126)","v":""},{"$f":"IF('External_Sensor (Desc)'!K126=\"\",\"\",'External_Sensor (Desc)'!K126)","v":""},{"$f":"IF('External_Sensor (Desc)'!L126=\"\",\"\",'External_Sensor (Desc)'!L126)","v":""},{"$f":"IF('External_Sensor (Desc)'!M126=\"\",\"\",'External_Sensor (Desc)'!M126)","v":""}]
[{"$f":"IF('External_Sensor (Desc)'!A127=\"\",\"\",'External_Sensor (Desc)'!A127)","v":""},{"$f":"IF('External_Sensor (Desc)'!B127=\"\",\"\",\"1987\")","v":""},{"$f":"IF('External_Sensor (Desc)'!B127=\"\",\"\",'External_Sensor (Desc)'!B127)","v":""},{"$f":"IF('External_Sensor (Desc)'!C127=\"\",\"\",'External_Sensor (Desc)'!C127)","v":""},{"$f":"IF('External_Sensor (Desc)'!D127=\"\",\"\",'External_Sensor (Desc)'!D127)","v":""},{"$f":"IF('External_Sensor (Desc)'!E127=\"\",\"\",INDEX([1]WWVDS_USAGE!$A$2:$A$4,MATCH('External_Sensor (Desc)'!$E127,[1]!MASTER_SENSOR_USAGE_DESC[#Data],0),0))","v":""},{"$f":"IF('External_Sensor (Desc)'!F127=\"\",\"\",INDEX([1]SENSOR_TYPE!$A$2:$A$15,MATCH('External_Sensor (Desc)'!$F127,[1]!MASTER_SENSOR_TYPE_DESC[#Data],0),0))","v":""},{"$f":"IF('External_Sensor (Desc)'!$G127=\"\",\"\",INDEX([1]ITS_DEV_MANUF_MODEL!$A$2:$E$1000,MATCH(1,([1]ITS_DEV_MANUF_MODEL!$E$2:$E$1000=\"VDS\")*([1]ITS_DEV_MANUF_MODEL!$D$2:$D$1000='External_Sensor (Desc)'!$G127),0),1))","v":""},{"$f":"IF('External_Sensor (Desc)'!$G127=\"\",\"\",INDEX([1]ITS_DEV_MANUF_MODEL!$A$2:$E$1000,MATCH(1,([1]ITS_DEV_MANUF_MODEL!$E$2:$E$1000=\"VDS\")*([1]ITS_DEV_MANUF_MODEL!$D$2:$D$1000='External_Sensor (Desc)'!$G127),0),2))","v":""},{"$f":"IF('External_Sensor (Desc)'!I127=\"\",\"\",'External_Sensor (Desc)'!I127)","v":""},{"$f":"IF('External_Sensor (Desc)'!J127=\"\",\"\",'External_Sensor (Desc)'!J127)","v":""},{"$f":"IF('External_Sensor (Desc)'!K127=\"\",\"\",'External_Sensor (Desc)'!K127)","v":""},{"$f":"IF('External_Sensor (Desc)'!L127=\"\",\"\",'External_Sensor (Desc)'!L127)","v":""},{"$f":"IF('External_Sensor (Desc)'!M127=\"\",\"\",'External_Sensor (Desc)'!M127)","v":""}]
[{"$f":"IF('External_Sensor (Desc)'!A128=\"\",\"\",'External_Sensor (Desc)'!A128)","v":""},{"$f":"IF('External_Sensor (Desc)'!B128=\"\",\"\",\"1987\")","v":""},{"$f":"IF('External_Sensor (Desc)'!B128=\"\",\"\",'External_Sensor (Desc)'!B128)","v":""},{"$f":"IF('External_Sensor (Desc)'!C128=\"\",\"\",'External_Sensor (Desc)'!C128)","v":""},{"$f":"IF('External_Sensor (Desc)'!D128=\"\",\"\",'External_Sensor (Desc)'!D128)","v":""},{"$f":"IF('External_Sensor (Desc)'!E128=\"\",\"\",INDEX([1]WWVDS_USAGE!$A$2:$A$4,MATCH('External_Sensor (Desc)'!$E128,[1]!MASTER_SENSOR_USAGE_DESC[#Data],0),0))","v":""},{"$f":"IF('External_Sensor (Desc)'!F128=\"\",\"\",INDEX([1]SENSOR_TYPE!$A$2:$A$15,MATCH('External_Sensor (Desc)'!$F128,[1]!MASTER_SENSOR_TYPE_DESC[#Data],0),0))","v":""},{"$f":"IF('External_Sensor (Desc)'!$G128=\"\",\"\",INDEX([1]ITS_DEV_MANUF_MODEL!$A$2:$E$1000,MATCH(1,([1]ITS_DEV_MANUF_MODEL!$E$2:$E$1000=\"VDS\")*([1]ITS_DEV_MANUF_MODEL!$D$2:$D$1000='External_Sensor (Desc)'!$G128),0),1))","v":""},{"$f":"IF('External_Sensor (Desc)'!$G128=\"\",\"\",INDEX([1]ITS_DEV_MANUF_MODEL!$A$2:$E$1000,MATCH(1,([1]ITS_DEV_MANUF_MODEL!$E$2:$E$1000=\"VDS\")*([1]ITS_DEV_MANUF_MODEL!$D$2:$D$1000='External_Sensor (Desc)'!$G128),0),2))","v":""},{"$f":"IF('External_Sensor (Desc)'!I128=\"\",\"\",'External_Sensor (Desc)'!I128)","v":""},{"$f":"IF('External_Sensor (Desc)'!J128=\"\",\"\",'External_Sensor (Desc)'!J128)","v":""},{"$f":"IF('External_Sensor (Desc)'!K128=\"\",\"\",'External_Sensor (Desc)'!K128)","v":""},{"$f":"IF('External_Sensor (Desc)'!L128=\"\",\"\",'External_Sensor (Desc)'!L128)","v":""},{"$f":"IF('External_Sensor (Desc)'!M128=\"\",\"\",'External_Sensor (Desc)'!M128)","v":""}]
[{"$f":"IF('External_Sensor (Desc)'!A129=\"\",\"\",'External_Sensor (Desc)'!A129)","v":""},{"$f":"IF('External_Sensor (Desc)'!B129=\"\",\"\",\"1987\")","v":""},{"$f":"IF('External_Sensor (Desc)'!B129=\"\",\"\",'External_Sensor (Desc)'!B129)","v":""},{"$f":"IF('External_Sensor (Desc)'!C129=\"\",\"\",'External_Sensor (Desc)'!C129)","v":""},{"$f":"IF('External_Sensor (Desc)'!D129=\"\",\"\",'External_Sensor (Desc)'!D129)","v":""},{"$f":"IF('External_Sensor (Desc)'!E129=\"\",\"\",INDEX([1]WWVDS_USAGE!$A$2:$A$4,MATCH('External_Sensor (Desc)'!$E129,[1]!MASTER_SENSOR_USAGE_DESC[#Data],0),0))","v":""},{"$f":"IF('External_Sensor (Desc)'!F129=\"\",\"\",INDEX([1]SENSOR_TYPE!$A$2:$A$15,MATCH('External_Sensor (Desc)'!$F129,[1]!MASTER_SENSOR_TYPE_DESC[#Data],0),0))","v":""},{"$f":"IF('External_Sensor (Desc)'!$G129=\"\",\"\",INDEX([1]ITS_DEV_MANUF_MODEL!$A$2:$E$1000,MATCH(1,([1]ITS_DEV_MANUF_MODEL!$E$2:$E$1000=\"VDS\")*([1]ITS_DEV_MANUF_MODEL!$D$2:$D$1000='External_Sensor (Desc)'!$G129),0),1))","v":""},{"$f":"IF('External_Sensor (Desc)'!$G129=\"\",\"\",INDEX([1]ITS_DEV_MANUF_MODEL!$A$2:$E$1000,MATCH(1,([1]ITS_DEV_MANUF_MODEL!$E$2:$E$1000=\"VDS\")*([1]ITS_DEV_MANUF_MODEL!$D$2:$D$1000='External_Sensor (Desc)'!$G129),0),2))","v":""},{"$f":"IF('External_Sensor (Desc)'!I129=\"\",\"\",'External_Sensor (Desc)'!I129)","v":""},{"$f":"IF('External_Sensor (Desc)'!J129=\"\",\"\",'External_Sensor (Desc)'!J129)","v":""},{"$f":"IF('External_Sensor (Desc)'!K129=\"\",\"\",'External_Sensor (Desc)'!K129)","v":""},{"$f":"IF('External_Sensor (Desc)'!L129=\"\",\"\",'External_Sensor (Desc)'!L129)","v":""},{"$f":"IF('External_Sensor (Desc)'!M129=\"\",\"\",'External_Sensor (Desc)'!M129)","v":""}]
[{"$f":"IF('External_Sensor (Desc)'!A130=\"\",\"\",'External_Sensor (Desc)'!A130)","v":""},{"$f":"IF('External_Sensor (Desc)'!B130=\"\",\"\",\"1987\")","v":""},{"$f":"IF('External_Sensor (Desc)'!B130=\"\",\"\",'External_Sensor (Desc)'!B130)","v":""},{"$f":"IF('External_Sensor (Desc)'!C130=\"\",\"\",'External_Sensor (Desc)'!C130)","v":""},{"$f":"IF('External_Sensor (Desc)'!D130=\"\",\"\",'External_Sensor (Desc)'!D130)","v":""},{"$f":"IF('External_Sensor (Desc)'!E130=\"\",\"\",INDEX([1]WWVDS_USAGE!$A$2:$A$4,MATCH('External_Sensor (Desc)'!$E130,[1]!MASTER_SENSOR_USAGE_DESC[#Data],0),0))","v":""},{"$f":"IF('External_Sensor (Desc)'!F130=\"\",\"\",INDEX([1]SENSOR_TYPE!$A$2:$A$15,MATCH('External_Sensor (Desc)'!$F130,[1]!MASTER_SENSOR_TYPE_DESC[#Data],0),0))","v":""},{"$f":"IF('External_Sensor (Desc)'!$G130=\"\",\"\",INDEX([1]ITS_DEV_MANUF_MODEL!$A$2:$E$1000,MATCH(1,([1]ITS_DEV_MANUF_MODEL!$E$2:$E$1000=\"VDS\")*([1]ITS_DEV_MANUF_MODEL!$D$2:$D$1000='External_Sensor (Desc)'!$G130),0),1))","v":""},{"$f":"IF('External_Sensor (Desc)'!$G130=\"\",\"\",INDEX([1]ITS_DEV_MANUF_MODEL!$A$2:$E$1000,MATCH(1,([1]ITS_DEV_MANUF_MODEL!$E$2:$E$1000=\"VDS\")*([1]ITS_DEV_MANUF_MODEL!$D$2:$D$1000='External_Sensor (Desc)'!$G130),0),2))","v":""},{"$f":"IF('External_Sensor (Desc)'!I130=\"\",\"\",'External_Sensor (Desc)'!I130)","v":""},{"$f":"IF('External_Sensor (Desc)'!J130=\"\",\"\",'External_Sensor (Desc)'!J130)","v":""},{"$f":"IF('External_Sensor (Desc)'!K130=\"\",\"\",'External_Sensor (Desc)'!K130)","v":""},{"$f":"IF('External_Sensor (Desc)'!L130=\"\",\"\",'External_Sensor (Desc)'!L130)","v":""},{"$f":"IF('External_Sensor (Desc)'!M130=\"\",\"\",'External_Sensor (Desc)'!M130)","v":""}]
[{"$f":"IF('External_Sensor (Desc)'!A131=\"\",\"\",'External_Sensor (Desc)'!A131)","v":""},{"$f":"IF('External_Sensor (Desc)'!B131=\"\",\"\",\"1987\")","v":""},{"$f":"IF('External_Sensor (Desc)'!B131=\"\",\"\",'External_Sensor (Desc)'!B131)","v":""},{"$f":"IF('External_Sensor (Desc)'!C131=\"\",\"\",'External_Sensor (Desc)'!C131)","v":""},{"$f":"IF('External_Sensor (Desc)'!D131=\"\",\"\",'External_Sensor (Desc)'!D131)","v":""},{"$f":"IF('External_Sensor (Desc)'!E131=\"\",\"\",INDEX([1]WWVDS_USAGE!$A$2:$A$4,MATCH('External_Sensor (Desc)'!$E131,[1]!MASTER_SENSOR_USAGE_DESC[#Data],0),0))","v":""},{"$f":"IF('External_Sensor (Desc)'!F131=\"\",\"\",INDEX([1]SENSOR_TYPE!$A$2:$A$15,MATCH('External_Sensor (Desc)'!$F131,[1]!MASTER_SENSOR_TYPE_DESC[#Data],0),0))","v":""},{"$f":"IF('External_Sensor (Desc)'!$G131=\"\",\"\",INDEX([1]ITS_DEV_MANUF_MODEL!$A$2:$E$1000,MATCH(1,([1]ITS_DEV_MANUF_MODEL!$E$2:$E$1000=\"VDS\")*([1]ITS_DEV_MANUF_MODEL!$D$2:$D$1000='External_Sensor (Desc)'!$G131),0),1))","v":""},{"$f":"IF('External_Sensor (Desc)'!$G131=\"\",\"\",INDEX([1]ITS_DEV_MANUF_MODEL!$A$2:$E$1000,MATCH(1,([1]ITS_DEV_MANUF_MODEL!$E$2:$E$1000=\"VDS\")*([1]ITS_DEV_MANUF_MODEL!$D$2:$D$1000='External_Sensor (Desc)'!$G131),0),2))","v":""},{"$f":"IF('External_Sensor (Desc)'!I131=\"\",\"\",'External_Sensor (Desc)'!I131)","v":""},{"$f":"IF('External_Sensor (Desc)'!J131=\"\",\"\",'External_Sensor (Desc)'!J131)","v":""},{"$f":"IF('External_Sensor (Desc)'!K131=\"\",\"\",'External_Sensor (Desc)'!K131)","v":""},{"$f":"IF('External_Sensor (Desc)'!L131=\"\",\"\",'External_Sensor (Desc)'!L131)","v":""},{"$f":"IF('External_Sensor (Desc)'!M131=\"\",\"\",'External_Sensor (Desc)'!M131)","v":""}]
[{"$f":"IF('External_Sensor (Desc)'!A132=\"\",\"\",'External_Sensor (Desc)'!A132)","v":""},{"$f":"IF('External_Sensor (Desc)'!B132=\"\",\"\",\"1987\")","v":""},{"$f":"IF('External_Sensor (Desc)'!B132=\"\",\"\",'External_Sensor (Desc)'!B132)","v":""},{"$f":"IF('External_Sensor (Desc)'!C132=\"\",\"\",'External_Sensor (Desc)'!C132)","v":""},{"$f":"IF('External_Sensor (Desc)'!D132=\"\",\"\",'External_Sensor (Desc)'!D132)","v":""},{"$f":"IF('External_Sensor (Desc)'!E132=\"\",\"\",INDEX([1]WWVDS_USAGE!$A$2:$A$4,MATCH('External_Sensor (Desc)'!$E132,[1]!MASTER_SENSOR_USAGE_DESC[#Data],0),0))","v":""},{"$f":"IF('External_Sensor (Desc)'!F132=\"\",\"\",INDEX([1]SENSOR_TYPE!$A$2:$A$15,MATCH('External_Sensor (Desc)'!$F132,[1]!MASTER_SENSOR_TYPE_DESC[#Data],0),0))","v":""},{"$f":"IF('External_Sensor (Desc)'!$G132=\"\",\"\",INDEX([1]ITS_DEV_MANUF_MODEL!$A$2:$E$1000,MATCH(1,([1]ITS_DEV_MANUF_MODEL!$E$2:$E$1000=\"VDS\")*([1]ITS_DEV_MANUF_MODEL!$D$2:$D$1000='External_Sensor (Desc)'!$G132),0),1))","v":""},{"$f":"IF('External_Sensor (Desc)'!$G132=\"\",\"\",INDEX([1]ITS_DEV_MANUF_MODEL!$A$2:$E$1000,MATCH(1,([1]ITS_DEV_MANUF_MODEL!$E$2:$E$1000=\"VDS\")*([1]ITS_DEV_MANUF_MODEL!$D$2:$D$1000='External_Sensor (Desc)'!$G132),0),2))","v":""},{"$f":"IF('External_Sensor (Desc)'!I132=\"\",\"\",'External_Sensor (Desc)'!I132)","v":""},{"$f":"IF('External_Sensor (Desc)'!J132=\"\",\"\",'External_Sensor (Desc)'!J132)","v":""},{"$f":"IF('External_Sensor (Desc)'!K132=\"\",\"\",'External_Sensor (Desc)'!K132)","v":""},{"$f":"IF('External_Sensor (Desc)'!L132=\"\",\"\",'External_Sensor (Desc)'!L132)","v":""},{"$f":"IF('External_Sensor (Desc)'!M132=\"\",\"\",'External_Sensor (Desc)'!M132)","v":""}]
[{"$f":"IF('External_Sensor (Desc)'!A133=\"\",\"\",'External_Sensor (Desc)'!A133)","v":""},{"$f":"IF('External_Sensor (Desc)'!B133=\"\",\"\",\"1987\")","v":""},{"$f":"IF('External_Sensor (Desc)'!B133=\"\",\"\",'External_Sensor (Desc)'!B133)","v":""},{"$f":"IF('External_Sensor (Desc)'!C133=\"\",\"\",'External_Sensor (Desc)'!C133)","v":""},{"$f":"IF('External_Sensor (Desc)'!D133=\"\",\"\",'External_Sensor (Desc)'!D133)","v":""},{"$f":"IF('External_Sensor (Desc)'!E133=\"\",\"\",INDEX([1]WWVDS_USAGE!$A$2:$A$4,MATCH('External_Sensor (Desc)'!$E133,[1]!MASTER_SENSOR_USAGE_DESC[#Data],0),0))","v":""},{"$f":"IF('External_Sensor (Desc)'!F133=\"\",\"\",INDEX([1]SENSOR_TYPE!$A$2:$A$15,MATCH('External_Sensor (Desc)'!$F133,[1]!MASTER_SENSOR_TYPE_DESC[#Data],0),0))","v":""},{"$f":"IF('External_Sensor (Desc)'!$G133=\"\",\"\",INDEX([1]ITS_DEV_MANUF_MODEL!$A$2:$E$1000,MATCH(1,([1]ITS_DEV_MANUF_MODEL!$E$2:$E$1000=\"VDS\")*([1]ITS_DEV_MANUF_MODEL!$D$2:$D$1000='External_Sensor (Desc)'!$G133),0),1))","v":""},{"$f":"IF('External_Sensor (Desc)'!$G133=\"\",\"\",INDEX([1]ITS_DEV_MANUF_MODEL!$A$2:$E$1000,MATCH(1,([1]ITS_DEV_MANUF_MODEL!$E$2:$E$1000=\"VDS\")*([1]ITS_DEV_MANUF_MODEL!$D$2:$D$1000='External_Sensor (Desc)'!$G133),0),2))","v":""},{"$f":"IF('External_Sensor (Desc)'!I133=\"\",\"\",'External_Sensor (Desc)'!I133)","v":""},{"$f":"IF('External_Sensor (Desc)'!J133=\"\",\"\",'External_Sensor (Desc)'!J133)","v":""},{"$f":"IF('External_Sensor (Desc)'!K133=\"\",\"\",'External_Sensor (Desc)'!K133)","v":""},{"$f":"IF('External_Sensor (Desc)'!L133=\"\",\"\",'External_Sensor (Desc)'!L133)","v":""},{"$f":"IF('External_Sensor (Desc)'!M133=\"\",\"\",'External_Sensor (Desc)'!M133)","v":""}]
[{"$f":"IF('External_Sensor (Desc)'!A134=\"\",\"\",'External_Sensor (Desc)'!A134)","v":""},{"$f":"IF('External_Sensor (Desc)'!B134=\"\",\"\",\"1987\")","v":""},{"$f":"IF('External_Sensor (Desc)'!B134=\"\",\"\",'External_Sensor (Desc)'!B134)","v":""},{"$f":"IF('External_Sensor (Desc)'!C134=\"\",\"\",'External_Sensor (Desc)'!C134)","v":""},{"$f":"IF('External_Sensor (Desc)'!D134=\"\",\"\",'External_Sensor (Desc)'!D134)","v":""},{"$f":"IF('External_Sensor (Desc)'!E134=\"\",\"\",INDEX([1]WWVDS_USAGE!$A$2:$A$4,MATCH('External_Sensor (Desc)'!$E134,[1]!MASTER_SENSOR_USAGE_DESC[#Data],0),0))","v":""},{"$f":"IF('External_Sensor (Desc)'!F134=\"\",\"\",INDEX([1]SENSOR_TYPE!$A$2:$A$15,MATCH('External_Sensor (Desc)'!$F134,[1]!MASTER_SENSOR_TYPE_DESC[#Data],0),0))","v":""},{"$f":"IF('External_Sensor (Desc)'!$G134=\"\",\"\",INDEX([1]ITS_DEV_MANUF_MODEL!$A$2:$E$1000,MATCH(1,([1]ITS_DEV_MANUF_MODEL!$E$2:$E$1000=\"VDS\")*([1]ITS_DEV_MANUF_MODEL!$D$2:$D$1000='External_Sensor (Desc)'!$G134),0),1))","v":""},{"$f":"IF('External_Sensor (Desc)'!$G134=\"\",\"\",INDEX([1]ITS_DEV_MANUF_MODEL!$A$2:$E$1000,MATCH(1,([1]ITS_DEV_MANUF_MODEL!$E$2:$E$1000=\"VDS\")*([1]ITS_DEV_MANUF_MODEL!$D$2:$D$1000='External_Sensor (Desc)'!$G134),0),2))","v":""},{"$f":"IF('External_Sensor (Desc)'!I134=\"\",\"\",'External_Sensor (Desc)'!I134)","v":""},{"$f":"IF('External_Sensor (Desc)'!J134=\"\",\"\",'External_Sensor (Desc)'!J134)","v":""},{"$f":"IF('External_Sensor (Desc)'!K134=\"\",\"\",'External_Sensor (Desc)'!K134)","v":""},{"$f":"IF('External_Sensor (Desc)'!L134=\"\",\"\",'External_Sensor (Desc)'!L134)","v":""},{"$f":"IF('External_Sensor (Desc)'!M134=\"\",\"\",'External_Sensor (Desc)'!M134)","v":""}]
[{"$f":"IF('External_Sensor (Desc)'!A135=\"\",\"\",'External_Sensor (Desc)'!A135)","v":""},{"$f":"IF('External_Sensor (Desc)'!B135=\"\",\"\",\"1987\")","v":""},{"$f":"IF('External_Sensor (Desc)'!B135=\"\",\"\",'External_Sensor (Desc)'!B135)","v":""},{"$f":"IF('External_Sensor (Desc)'!C135=\"\",\"\",'External_Sensor (Desc)'!C135)","v":""},{"$f":"IF('External_Sensor (Desc)'!D135=\"\",\"\",'External_Sensor (Desc)'!D135)","v":""},{"$f":"IF('External_Sensor (Desc)'!E135=\"\",\"\",INDEX([1]WWVDS_USAGE!$A$2:$A$4,MATCH('External_Sensor (Desc)'!$E135,[1]!MASTER_SENSOR_USAGE_DESC[#Data],0),0))","v":""},{"$f":"IF('External_Sensor (Desc)'!F135=\"\",\"\",INDEX([1]SENSOR_TYPE!$A$2:$A$15,MATCH('External_Sensor (Desc)'!$F135,[1]!MASTER_SENSOR_TYPE_DESC[#Data],0),0))","v":""},{"$f":"IF('External_Sensor (Desc)'!$G135=\"\",\"\",INDEX([1]ITS_DEV_MANUF_MODEL!$A$2:$E$1000,MATCH(1,([1]ITS_DEV_MANUF_MODEL!$E$2:$E$1000=\"VDS\")*([1]ITS_DEV_MANUF_MODEL!$D$2:$D$1000='External_Sensor (Desc)'!$G135),0),1))","v":""},{"$f":"IF('External_Sensor (Desc)'!$G135=\"\",\"\",INDEX([1]ITS_DEV_MANUF_MODEL!$A$2:$E$1000,MATCH(1,([1]ITS_DEV_MANUF_MODEL!$E$2:$E$1000=\"VDS\")*([1]ITS_DEV_MANUF_MODEL!$D$2:$D$1000='External_Sensor (Desc)'!$G135),0),2))","v":""},{"$f":"IF('External_Sensor (Desc)'!I135=\"\",\"\",'External_Sensor (Desc)'!I135)","v":""},{"$f":"IF('External_Sensor (Desc)'!J135=\"\",\"\",'External_Sensor (Desc)'!J135)","v":""},{"$f":"IF('External_Sensor (Desc)'!K135=\"\",\"\",'External_Sensor (Desc)'!K135)","v":""},{"$f":"IF('External_Sensor (Desc)'!L135=\"\",\"\",'External_Sensor (Desc)'!L135)","v":""},{"$f":"IF('External_Sensor (Desc)'!M135=\"\",\"\",'External_Sensor (Desc)'!M135)","v":""}]
[{"$f":"IF('External_Sensor (Desc)'!A136=\"\",\"\",'External_Sensor (Desc)'!A136)","v":""},{"$f":"IF('External_Sensor (Desc)'!B136=\"\",\"\",\"1987\")","v":""},{"$f":"IF('External_Sensor (Desc)'!B136=\"\",\"\",'External_Sensor (Desc)'!B136)","v":""},{"$f":"IF('External_Sensor (Desc)'!C136=\"\",\"\",'External_Sensor (Desc)'!C136)","v":""},{"$f":"IF('External_Sensor (Desc)'!D136=\"\",\"\",'External_Sensor (Desc)'!D136)","v":""},{"$f":"IF('External_Sensor (Desc)'!E136=\"\",\"\",INDEX([1]WWVDS_USAGE!$A$2:$A$4,MATCH('External_Sensor (Desc)'!$E136,[1]!MASTER_SENSOR_USAGE_DESC[#Data],0),0))","v":""},{"$f":"IF('External_Sensor (Desc)'!F136=\"\",\"\",INDEX([1]SENSOR_TYPE!$A$2:$A$15,MATCH('External_Sensor (Desc)'!$F136,[1]!MASTER_SENSOR_TYPE_DESC[#Data],0),0))","v":""},{"$f":"IF('External_Sensor (Desc)'!$G136=\"\",\"\",INDEX([1]ITS_DEV_MANUF_MODEL!$A$2:$E$1000,MATCH(1,([1]ITS_DEV_MANUF_MODEL!$E$2:$E$1000=\"VDS\")*([1]ITS_DEV_MANUF_MODEL!$D$2:$D$1000='External_Sensor (Desc)'!$G136),0),1))","v":""},{"$f":"IF('External_Sensor (Desc)'!$G136=\"\",\"\",INDEX([1]ITS_DEV_MANUF_MODEL!$A$2:$E$1000,MATCH(1,([1]ITS_DEV_MANUF_MODEL!$E$2:$E$1000=\"VDS\")*([1]ITS_DEV_MANUF_MODEL!$D$2:$D$1000='External_Sensor (Desc)'!$G136),0),2))","v":""},{"$f":"IF('External_Sensor (Desc)'!I136=\"\",\"\",'External_Sensor (Desc)'!I136)","v":""},{"$f":"IF('External_Sensor (Desc)'!J136=\"\",\"\",'External_Sensor (Desc)'!J136)","v":""},{"$f":"IF('External_Sensor (Desc)'!K136=\"\",\"\",'External_Sensor (Desc)'!K136)","v":""},{"$f":"IF('External_Sensor (Desc)'!L136=\"\",\"\",'External_Sensor (Desc)'!L136)","v":""},{"$f":"IF('External_Sensor (Desc)'!M136=\"\",\"\",'External_Sensor (Desc)'!M136)","v":""}]
[{"$f":"IF('External_Sensor (Desc)'!A137=\"\",\"\",'External_Sensor (Desc)'!A137)","v":""},{"$f":"IF('External_Sensor (Desc)'!B137=\"\",\"\",\"1987\")","v":""},{"$f":"IF('External_Sensor (Desc)'!B137=\"\",\"\",'External_Sensor (Desc)'!B137)","v":""},{"$f":"IF('External_Sensor (Desc)'!C137=\"\",\"\",'External_Sensor (Desc)'!C137)","v":""},{"$f":"IF('External_Sensor (Desc)'!D137=\"\",\"\",'External_Sensor (Desc)'!D137)","v":""},{"$f":"IF('External_Sensor (Desc)'!E137=\"\",\"\",INDEX([1]WWVDS_USAGE!$A$2:$A$4,MATCH('External_Sensor (Desc)'!$E137,[1]!MASTER_SENSOR_USAGE_DESC[#Data],0),0))","v":""},{"$f":"IF('External_Sensor (Desc)'!F137=\"\",\"\",INDEX([1]SENSOR_TYPE!$A$2:$A$15,MATCH('External_Sensor (Desc)'!$F137,[1]!MASTER_SENSOR_TYPE_DESC[#Data],0),0))","v":""},{"$f":"IF('External_Sensor (Desc)'!$G137=\"\",\"\",INDEX([1]ITS_DEV_MANUF_MODEL!$A$2:$E$1000,MATCH(1,([1]ITS_DEV_MANUF_MODEL!$E$2:$E$1000=\"VDS\")*([1]ITS_DEV_MANUF_MODEL!$D$2:$D$1000='External_Sensor (Desc)'!$G137),0),1))","v":""},{"$f":"IF('External_Sensor (Desc)'!$G137=\"\",\"\",INDEX([1]ITS_DEV_MANUF_MODEL!$A$2:$E$1000,MATCH(1,([1]ITS_DEV_MANUF_MODEL!$E$2:$E$1000=\"VDS\")*([1]ITS_DEV_MANUF_MODEL!$D$2:$D$1000='External_Sensor (Desc)'!$G137),0),2))","v":""},{"$f":"IF('External_Sensor (Desc)'!I137=\"\",\"\",'External_Sensor (Desc)'!I137)","v":""},{"$f":"IF('External_Sensor (Desc)'!J137=\"\",\"\",'External_Sensor (Desc)'!J137)","v":""},{"$f":"IF('External_Sensor (Desc)'!K137=\"\",\"\",'External_Sensor (Desc)'!K137)","v":""},{"$f":"IF('External_Sensor (Desc)'!L137=\"\",\"\",'External_Sensor (Desc)'!L137)","v":""},{"$f":"IF('External_Sensor (Desc)'!M137=\"\",\"\",'External_Sensor (Desc)'!M137)","v":""}]
[{"$f":"IF('External_Sensor (Desc)'!A138=\"\",\"\",'External_Sensor (Desc)'!A138)","v":""},{"$f":"IF('External_Sensor (Desc)'!B138=\"\",\"\",\"1987\")","v":""},{"$f":"IF('External_Sensor (Desc)'!B138=\"\",\"\",'External_Sensor (Desc)'!B138)","v":""},{"$f":"IF('External_Sensor (Desc)'!C138=\"\",\"\",'External_Sensor (Desc)'!C138)","v":""},{"$f":"IF('External_Sensor (Desc)'!D138=\"\",\"\",'External_Sensor (Desc)'!D138)","v":""},{"$f":"IF('External_Sensor (Desc)'!E138=\"\",\"\",INDEX([1]WWVDS_USAGE!$A$2:$A$4,MATCH('External_Sensor (Desc)'!$E138,[1]!MASTER_SENSOR_USAGE_DESC[#Data],0),0))","v":""},{"$f":"IF('External_Sensor (Desc)'!F138=\"\",\"\",INDEX([1]SENSOR_TYPE!$A$2:$A$15,MATCH('External_Sensor (Desc)'!$F138,[1]!MASTER_SENSOR_TYPE_DESC[#Data],0),0))","v":""},{"$f":"IF('External_Sensor (Desc)'!$G138=\"\",\"\",INDEX([1]ITS_DEV_MANUF_MODEL!$A$2:$E$1000,MATCH(1,([1]ITS_DEV_MANUF_MODEL!$E$2:$E$1000=\"VDS\")*([1]ITS_DEV_MANUF_MODEL!$D$2:$D$1000='External_Sensor (Desc)'!$G138),0),1))","v":""},{"$f":"IF('External_Sensor (Desc)'!$G138=\"\",\"\",INDEX([1]ITS_DEV_MANUF_MODEL!$A$2:$E$1000,MATCH(1,([1]ITS_DEV_MANUF_MODEL!$E$2:$E$1000=\"VDS\")*([1]ITS_DEV_MANUF_MODEL!$D$2:$D$1000='External_Sensor (Desc)'!$G138),0),2))","v":""},{"$f":"IF('External_Sensor (Desc)'!I138=\"\",\"\",'External_Sensor (Desc)'!I138)","v":""},{"$f":"IF('External_Sensor (Desc)'!J138=\"\",\"\",'External_Sensor (Desc)'!J138)","v":""},{"$f":"IF('External_Sensor (Desc)'!K138=\"\",\"\",'External_Sensor (Desc)'!K138)","v":""},{"$f":"IF('External_Sensor (Desc)'!L138=\"\",\"\",'External_Sensor (Desc)'!L138)","v":""},{"$f":"IF('External_Sensor (Desc)'!M138=\"\",\"\",'External_Sensor (Desc)'!M138)","v":""}]
[{"$f":"IF('External_Sensor (Desc)'!A139=\"\",\"\",'External_Sensor (Desc)'!A139)","v":""},{"$f":"IF('External_Sensor (Desc)'!B139=\"\",\"\",\"1987\")","v":""},{"$f":"IF('External_Sensor (Desc)'!B139=\"\",\"\",'External_Sensor (Desc)'!B139)","v":""},{"$f":"IF('External_Sensor (Desc)'!C139=\"\",\"\",'External_Sensor (Desc)'!C139)","v":""},{"$f":"IF('External_Sensor (Desc)'!D139=\"\",\"\",'External_Sensor (Desc)'!D139)","v":""},{"$f":"IF('External_Sensor (Desc)'!E139=\"\",\"\",INDEX([1]WWVDS_USAGE!$A$2:$A$4,MATCH('External_Sensor (Desc)'!$E139,[1]!MASTER_SENSOR_USAGE_DESC[#Data],0),0))","v":""},{"$f":"IF('External_Sensor (Desc)'!F139=\"\",\"\",INDEX([1]SENSOR_TYPE!$A$2:$A$15,MATCH('External_Sensor (Desc)'!$F139,[1]!MASTER_SENSOR_TYPE_DESC[#Data],0),0))","v":""},{"$f":"IF('External_Sensor (Desc)'!$G139=\"\",\"\",INDEX([1]ITS_DEV_MANUF_MODEL!$A$2:$E$1000,MATCH(1,([1]ITS_DEV_MANUF_MODEL!$E$2:$E$1000=\"VDS\")*([1]ITS_DEV_MANUF_MODEL!$D$2:$D$1000='External_Sensor (Desc)'!$G139),0),1))","v":""},{"$f":"IF('External_Sensor (Desc)'!$G139=\"\",\"\",INDEX([1]ITS_DEV_MANUF_MODEL!$A$2:$E$1000,MATCH(1,([1]ITS_DEV_MANUF_MODEL!$E$2:$E$1000=\"VDS\")*([1]ITS_DEV_MANUF_MODEL!$D$2:$D$1000='External_Sensor (Desc)'!$G139),0),2))","v":""},{"$f":"IF('External_Sensor (Desc)'!I139=\"\",\"\",'External_Sensor (Desc)'!I139)","v":""},{"$f":"IF('External_Sensor (Desc)'!J139=\"\",\"\",'External_Sensor (Desc)'!J139)","v":""},{"$f":"IF('External_Sensor (Desc)'!K139=\"\",\"\",'External_Sensor (Desc)'!K139)","v":""},{"$f":"IF('External_Sensor (Desc)'!L139=\"\",\"\",'External_Sensor (Desc)'!L139)","v":""},{"$f":"IF('External_Sensor (Desc)'!M139=\"\",\"\",'External_Sensor (Desc)'!M139)","v":""}]
[{"$f":"IF('External_Sensor (Desc)'!A140=\"\",\"\",'External_Sensor (Desc)'!A140)","v":""},{"$f":"IF('External_Sensor (Desc)'!B140=\"\",\"\",\"1987\")","v":""},{"$f":"IF('External_Sensor (Desc)'!B140=\"\",\"\",'External_Sensor (Desc)'!B140)","v":""},{"$f":"IF('External_Sensor (Desc)'!C140=\"\",\"\",'External_Sensor (Desc)'!C140)","v":""},{"$f":"IF('External_Sensor (Desc)'!D140=\"\",\"\",'External_Sensor (Desc)'!D140)","v":""},{"$f":"IF('External_Sensor (Desc)'!E140=\"\",\"\",INDEX([1]WWVDS_USAGE!$A$2:$A$4,MATCH('External_Sensor (Desc)'!$E140,[1]!MASTER_SENSOR_USAGE_DESC[#Data],0),0))","v":""},{"$f":"IF('External_Sensor (Desc)'!F140=\"\",\"\",INDEX([1]SENSOR_TYPE!$A$2:$A$15,MATCH('External_Sensor (Desc)'!$F140,[1]!MASTER_SENSOR_TYPE_DESC[#Data],0),0))","v":""},{"$f":"IF('External_Sensor (Desc)'!$G140=\"\",\"\",INDEX([1]ITS_DEV_MANUF_MODEL!$A$2:$E$1000,MATCH(1,([1]ITS_DEV_MANUF_MODEL!$E$2:$E$1000=\"VDS\")*([1]ITS_DEV_MANUF_MODEL!$D$2:$D$1000='External_Sensor (Desc)'!$G140),0),1))","v":""},{"$f":"IF('External_Sensor (Desc)'!$G140=\"\",\"\",INDEX([1]ITS_DEV_MANUF_MODEL!$A$2:$E$1000,MATCH(1,([1]ITS_DEV_MANUF_MODEL!$E$2:$E$1000=\"VDS\")*([1]ITS_DEV_MANUF_MODEL!$D$2:$D$1000='External_Sensor (Desc)'!$G140),0),2))","v":""},{"$f":"IF('External_Sensor (Desc)'!I140=\"\",\"\",'External_Sensor (Desc)'!I140)","v":""},{"$f":"IF('External_Sensor (Desc)'!J140=\"\",\"\",'External_Sensor (Desc)'!J140)","v":""},{"$f":"IF('External_Sensor (Desc)'!K140=\"\",\"\",'External_Sensor (Desc)'!K140)","v":""},{"$f":"IF('External_Sensor (Desc)'!L140=\"\",\"\",'External_Sensor (Desc)'!L140)","v":""},{"$f":"IF('External_Sensor (Desc)'!M140=\"\",\"\",'External_Sensor (Desc)'!M140)","v":""}]
[{"$f":"IF('External_Sensor (Desc)'!A141=\"\",\"\",'External_Sensor (Desc)'!A141)","v":""},{"$f":"IF('External_Sensor (Desc)'!B141=\"\",\"\",\"1987\")","v":""},{"$f":"IF('External_Sensor (Desc)'!B141=\"\",\"\",'External_Sensor (Desc)'!B141)","v":""},{"$f":"IF('External_Sensor (Desc)'!C141=\"\",\"\",'External_Sensor (Desc)'!C141)","v":""},{"$f":"IF('External_Sensor (Desc)'!D141=\"\",\"\",'External_Sensor (Desc)'!D141)","v":""},{"$f":"IF('External_Sensor (Desc)'!E141=\"\",\"\",INDEX([1]WWVDS_USAGE!$A$2:$A$4,MATCH('External_Sensor (Desc)'!$E141,[1]!MASTER_SENSOR_USAGE_DESC[#Data],0),0))","v":""},{"$f":"IF('External_Sensor (Desc)'!F141=\"\",\"\",INDEX([1]SENSOR_TYPE!$A$2:$A$15,MATCH('External_Sensor (Desc)'!$F141,[1]!MASTER_SENSOR_TYPE_DESC[#Data],0),0))","v":""},{"$f":"IF('External_Sensor (Desc)'!$G141=\"\",\"\",INDEX([1]ITS_DEV_MANUF_MODEL!$A$2:$E$1000,MATCH(1,([1]ITS_DEV_MANUF_MODEL!$E$2:$E$1000=\"VDS\")*([1]ITS_DEV_MANUF_MODEL!$D$2:$D$1000='External_Sensor (Desc)'!$G141),0),1))","v":""},{"$f":"IF('External_Sensor (Desc)'!$G141=\"\",\"\",INDEX([1]ITS_DEV_MANUF_MODEL!$A$2:$E$1000,MATCH(1,([1]ITS_DEV_MANUF_MODEL!$E$2:$E$1000=\"VDS\")*([1]ITS_DEV_MANUF_MODEL!$D$2:$D$1000='External_Sensor (Desc)'!$G141),0),2))","v":""},{"$f":"IF('External_Sensor (Desc)'!I141=\"\",\"\",'External_Sensor (Desc)'!I141)","v":""},{"$f":"IF('External_Sensor (Desc)'!J141=\"\",\"\",'External_Sensor (Desc)'!J141)","v":""},{"$f":"IF('External_Sensor (Desc)'!K141=\"\",\"\",'External_Sensor (Desc)'!K141)","v":""},{"$f":"IF('External_Sensor (Desc)'!L141=\"\",\"\",'External_Sensor (Desc)'!L141)","v":""},{"$f":"IF('External_Sensor (Desc)'!M141=\"\",\"\",'External_Sensor (Desc)'!M141)","v":""}]
[{"$f":"IF('External_Sensor (Desc)'!A142=\"\",\"\",'External_Sensor (Desc)'!A142)","v":""},{"$f":"IF('External_Sensor (Desc)'!B142=\"\",\"\",\"1987\")","v":""},{"$f":"IF('External_Sensor (Desc)'!B142=\"\",\"\",'External_Sensor (Desc)'!B142)","v":""},{"$f":"IF('External_Sensor (Desc)'!C142=\"\",\"\",'External_Sensor (Desc)'!C142)","v":""},{"$f":"IF('External_Sensor (Desc)'!D142=\"\",\"\",'External_Sensor (Desc)'!D142)","v":""},{"$f":"IF('External_Sensor (Desc)'!E142=\"\",\"\",INDEX([1]WWVDS_USAGE!$A$2:$A$4,MATCH('External_Sensor (Desc)'!$E142,[1]!MASTER_SENSOR_USAGE_DESC[#Data],0),0))","v":""},{"$f":"IF('External_Sensor (Desc)'!F142=\"\",\"\",INDEX([1]SENSOR_TYPE!$A$2:$A$15,MATCH('External_Sensor (Desc)'!$F142,[1]!MASTER_SENSOR_TYPE_DESC[#Data],0),0))","v":""},{"$f":"IF('External_Sensor (Desc)'!$G142=\"\",\"\",INDEX([1]ITS_DEV_MANUF_MODEL!$A$2:$E$1000,MATCH(1,([1]ITS_DEV_MANUF_MODEL!$E$2:$E$1000=\"VDS\")*([1]ITS_DEV_MANUF_MODEL!$D$2:$D$1000='External_Sensor (Desc)'!$G142),0),1))","v":""},{"$f":"IF('External_Sensor (Desc)'!$G142=\"\",\"\",INDEX([1]ITS_DEV_MANUF_MODEL!$A$2:$E$1000,MATCH(1,([1]ITS_DEV_MANUF_MODEL!$E$2:$E$1000=\"VDS\")*([1]ITS_DEV_MANUF_MODEL!$D$2:$D$1000='External_Sensor (Desc)'!$G142),0),2))","v":""},{"$f":"IF('External_Sensor (Desc)'!I142=\"\",\"\",'External_Sensor (Desc)'!I142)","v":""},{"$f":"IF('External_Sensor (Desc)'!J142=\"\",\"\",'External_Sensor (Desc)'!J142)","v":""},{"$f":"IF('External_Sensor (Desc)'!K142=\"\",\"\",'External_Sensor (Desc)'!K142)","v":""},{"$f":"IF('External_Sensor (Desc)'!L142=\"\",\"\",'External_Sensor (Desc)'!L142)","v":""},{"$f":"IF('External_Sensor (Desc)'!M142=\"\",\"\",'External_Sensor (Desc)'!M142)","v":""}]
[{"$f":"IF('External_Sensor (Desc)'!A143=\"\",\"\",'External_Sensor (Desc)'!A143)","v":""},{"$f":"IF('External_Sensor (Desc)'!B143=\"\",\"\",\"1987\")","v":""},{"$f":"IF('External_Sensor (Desc)'!B143=\"\",\"\",'External_Sensor (Desc)'!B143)","v":""},{"$f":"IF('External_Sensor (Desc)'!C143=\"\",\"\",'External_Sensor (Desc)'!C143)","v":""},{"$f":"IF('External_Sensor (Desc)'!D143=\"\",\"\",'External_Sensor (Desc)'!D143)","v":""},{"$f":"IF('External_Sensor (Desc)'!E143=\"\",\"\",INDEX([1]WWVDS_USAGE!$A$2:$A$4,MATCH('External_Sensor (Desc)'!$E143,[1]!MASTER_SENSOR_USAGE_DESC[#Data],0),0))","v":""},{"$f":"IF('External_Sensor (Desc)'!F143=\"\",\"\",INDEX([1]SENSOR_TYPE!$A$2:$A$15,MATCH('External_Sensor (Desc)'!$F143,[1]!MASTER_SENSOR_TYPE_DESC[#Data],0),0))","v":""},{"$f":"IF('External_Sensor (Desc)'!$G143=\"\",\"\",INDEX([1]ITS_DEV_MANUF_MODEL!$A$2:$E$1000,MATCH(1,([1]ITS_DEV_MANUF_MODEL!$E$2:$E$1000=\"VDS\")*([1]ITS_DEV_MANUF_MODEL!$D$2:$D$1000='External_Sensor (Desc)'!$G143),0),1))","v":""},{"$f":"IF('External_Sensor (Desc)'!$G143=\"\",\"\",INDEX([1]ITS_DEV_MANUF_MODEL!$A$2:$E$1000,MATCH(1,([1]ITS_DEV_MANUF_MODEL!$E$2:$E$1000=\"VDS\")*([1]ITS_DEV_MANUF_MODEL!$D$2:$D$1000='External_Sensor (Desc)'!$G143),0),2))","v":""},{"$f":"IF('External_Sensor (Desc)'!I143=\"\",\"\",'External_Sensor (Desc)'!I143)","v":""},{"$f":"IF('External_Sensor (Desc)'!J143=\"\",\"\",'External_Sensor (Desc)'!J143)","v":""},{"$f":"IF('External_Sensor (Desc)'!K143=\"\",\"\",'External_Sensor (Desc)'!K143)","v":""},{"$f":"IF('External_Sensor (Desc)'!L143=\"\",\"\",'External_Sensor (Desc)'!L143)","v":""},{"$f":"IF('External_Sensor (Desc)'!M143=\"\",\"\",'External_Sensor (Desc)'!M143)","v":""}]
[{"$f":"IF('External_Sensor (Desc)'!A144=\"\",\"\",'External_Sensor (Desc)'!A144)","v":""},{"$f":"IF('External_Sensor (Desc)'!B144=\"\",\"\",\"1987\")","v":""},{"$f":"IF('External_Sensor (Desc)'!B144=\"\",\"\",'External_Sensor (Desc)'!B144)","v":""},{"$f":"IF('External_Sensor (Desc)'!C144=\"\",\"\",'External_Sensor (Desc)'!C144)","v":""},{"$f":"IF('External_Sensor (Desc)'!D144=\"\",\"\",'External_Sensor (Desc)'!D144)","v":""},{"$f":"IF('External_Sensor (Desc)'!E144=\"\",\"\",INDEX([1]WWVDS_USAGE!$A$2:$A$4,MATCH('External_Sensor (Desc)'!$E144,[1]!MASTER_SENSOR_USAGE_DESC[#Data],0),0))","v":""},{"$f":"IF('External_Sensor (Desc)'!F144=\"\",\"\",INDEX([1]SENSOR_TYPE!$A$2:$A$15,MATCH('External_Sensor (Desc)'!$F144,[1]!MASTER_SENSOR_TYPE_DESC[#Data],0),0))","v":""},{"$f":"IF('External_Sensor (Desc)'!$G144=\"\",\"\",INDEX([1]ITS_DEV_MANUF_MODEL!$A$2:$E$1000,MATCH(1,([1]ITS_DEV_MANUF_MODEL!$E$2:$E$1000=\"VDS\")*([1]ITS_DEV_MANUF_MODEL!$D$2:$D$1000='External_Sensor (Desc)'!$G144),0),1))","v":""},{"$f":"IF('External_Sensor (Desc)'!$G144=\"\",\"\",INDEX([1]ITS_DEV_MANUF_MODEL!$A$2:$E$1000,MATCH(1,([1]ITS_DEV_MANUF_MODEL!$E$2:$E$1000=\"VDS\")*([1]ITS_DEV_MANUF_MODEL!$D$2:$D$1000='External_Sensor (Desc)'!$G144),0),2))","v":""},{"$f":"IF('External_Sensor (Desc)'!I144=\"\",\"\",'External_Sensor (Desc)'!I144)","v":""},{"$f":"IF('External_Sensor (Desc)'!J144=\"\",\"\",'External_Sensor (Desc)'!J144)","v":""},{"$f":"IF('External_Sensor (Desc)'!K144=\"\",\"\",'External_Sensor (Desc)'!K144)","v":""},{"$f":"IF('External_Sensor (Desc)'!L144=\"\",\"\",'External_Sensor (Desc)'!L144)","v":""},{"$f":"IF('External_Sensor (Desc)'!M144=\"\",\"\",'External_Sensor (Desc)'!M144)","v":""}]
[{"$f":"IF('External_Sensor (Desc)'!A145=\"\",\"\",'External_Sensor (Desc)'!A145)","v":""},{"$f":"IF('External_Sensor (Desc)'!B145=\"\",\"\",\"1987\")","v":""},{"$f":"IF('External_Sensor (Desc)'!B145=\"\",\"\",'External_Sensor (Desc)'!B145)","v":""},{"$f":"IF('External_Sensor (Desc)'!C145=\"\",\"\",'External_Sensor (Desc)'!C145)","v":""},{"$f":"IF('External_Sensor (Desc)'!D145=\"\",\"\",'External_Sensor (Desc)'!D145)","v":""},{"$f":"IF('External_Sensor (Desc)'!E145=\"\",\"\",INDEX([1]WWVDS_USAGE!$A$2:$A$4,MATCH('External_Sensor (Desc)'!$E145,[1]!MASTER_SENSOR_USAGE_DESC[#Data],0),0))","v":""},{"$f":"IF('External_Sensor (Desc)'!F145=\"\",\"\",INDEX([1]SENSOR_TYPE!$A$2:$A$15,MATCH('External_Sensor (Desc)'!$F145,[1]!MASTER_SENSOR_TYPE_DESC[#Data],0),0))","v":""},{"$f":"IF('External_Sensor (Desc)'!$G145=\"\",\"\",INDEX([1]ITS_DEV_MANUF_MODEL!$A$2:$E$1000,MATCH(1,([1]ITS_DEV_MANUF_MODEL!$E$2:$E$1000=\"VDS\")*([1]ITS_DEV_MANUF_MODEL!$D$2:$D$1000='External_Sensor (Desc)'!$G145),0),1))","v":""},{"$f":"IF('External_Sensor (Desc)'!$G145=\"\",\"\",INDEX([1]ITS_DEV_MANUF_MODEL!$A$2:$E$1000,MATCH(1,([1]ITS_DEV_MANUF_MODEL!$E$2:$E$1000=\"VDS\")*([1]ITS_DEV_MANUF_MODEL!$D$2:$D$1000='External_Sensor (Desc)'!$G145),0),2))","v":""},{"$f":"IF('External_Sensor (Desc)'!I145=\"\",\"\",'External_Sensor (Desc)'!I145)","v":""},{"$f":"IF('External_Sensor (Desc)'!J145=\"\",\"\",'External_Sensor (Desc)'!J145)","v":""},{"$f":"IF('External_Sensor (Desc)'!K145=\"\",\"\",'External_Sensor (Desc)'!K145)","v":""},{"$f":"IF('External_Sensor (Desc)'!L145=\"\",\"\",'External_Sensor (Desc)'!L145)","v":""},{"$f":"IF('External_Sensor (Desc)'!M145=\"\",\"\",'External_Sensor (Desc)'!M145)","v":""}]
[{"$f":"IF('External_Sensor (Desc)'!A146=\"\",\"\",'External_Sensor (Desc)'!A146)","v":""},{"$f":"IF('External_Sensor (Desc)'!B146=\"\",\"\",\"1987\")","v":""},{"$f":"IF('External_Sensor (Desc)'!B146=\"\",\"\",'External_Sensor (Desc)'!B146)","v":""},{"$f":"IF('External_Sensor (Desc)'!C146=\"\",\"\",'External_Sensor (Desc)'!C146)","v":""},{"$f":"IF('External_Sensor (Desc)'!D146=\"\",\"\",'External_Sensor (Desc)'!D146)","v":""},{"$f":"IF('External_Sensor (Desc)'!E146=\"\",\"\",INDEX([1]WWVDS_USAGE!$A$2:$A$4,MATCH('External_Sensor (Desc)'!$E146,[1]!MASTER_SENSOR_USAGE_DESC[#Data],0),0))","v":""},{"$f":"IF('External_Sensor (Desc)'!F146=\"\",\"\",INDEX([1]SENSOR_TYPE!$A$2:$A$15,MATCH('External_Sensor (Desc)'!$F146,[1]!MASTER_SENSOR_TYPE_DESC[#Data],0),0))","v":""},{"$f":"IF('External_Sensor (Desc)'!$G146=\"\",\"\",INDEX([1]ITS_DEV_MANUF_MODEL!$A$2:$E$1000,MATCH(1,([1]ITS_DEV_MANUF_MODEL!$E$2:$E$1000=\"VDS\")*([1]ITS_DEV_MANUF_MODEL!$D$2:$D$1000='External_Sensor (Desc)'!$G146),0),1))","v":""},{"$f":"IF('External_Sensor (Desc)'!$G146=\"\",\"\",INDEX([1]ITS_DEV_MANUF_MODEL!$A$2:$E$1000,MATCH(1,([1]ITS_DEV_MANUF_MODEL!$E$2:$E$1000=\"VDS\")*([1]ITS_DEV_MANUF_MODEL!$D$2:$D$1000='External_Sensor (Desc)'!$G146),0),2))","v":""},{"$f":"IF('External_Sensor (Desc)'!I146=\"\",\"\",'External_Sensor (Desc)'!I146)","v":""},{"$f":"IF('External_Sensor (Desc)'!J146=\"\",\"\",'External_Sensor (Desc)'!J146)","v":""},{"$f":"IF('External_Sensor (Desc)'!K146=\"\",\"\",'External_Sensor (Desc)'!K146)","v":""},{"$f":"IF('External_Sensor (Desc)'!L146=\"\",\"\",'External_Sensor (Desc)'!L146)","v":""},{"$f":"IF('External_Sensor (Desc)'!M146=\"\",\"\",'External_Sensor (Desc)'!M146)","v":""}]
[{"$f":"IF('External_Sensor (Desc)'!A147=\"\",\"\",'External_Sensor (Desc)'!A147)","v":""},{"$f":"IF('External_Sensor (Desc)'!B147=\"\",\"\",\"1987\")","v":""},{"$f":"IF('External_Sensor (Desc)'!B147=\"\",\"\",'External_Sensor (Desc)'!B147)","v":""},{"$f":"IF('External_Sensor (Desc)'!C147=\"\",\"\",'External_Sensor (Desc)'!C147)","v":""},{"$f":"IF('External_Sensor (Desc)'!D147=\"\",\"\",'External_Sensor (Desc)'!D147)","v":""},{"$f":"IF('External_Sensor (Desc)'!E147=\"\",\"\",INDEX([1]WWVDS_USAGE!$A$2:$A$4,MATCH('External_Sensor (Desc)'!$E147,[1]!MASTER_SENSOR_USAGE_DESC[#Data],0),0))","v":""},{"$f":"IF('External_Sensor (Desc)'!F147=\"\",\"\",INDEX([1]SENSOR_TYPE!$A$2:$A$15,MATCH('External_Sensor (Desc)'!$F147,[1]!MASTER_SENSOR_TYPE_DESC[#Data],0),0))","v":""},{"$f":"IF('External_Sensor (Desc)'!$G147=\"\",\"\",INDEX([1]ITS_DEV_MANUF_MODEL!$A$2:$E$1000,MATCH(1,([1]ITS_DEV_MANUF_MODEL!$E$2:$E$1000=\"VDS\")*([1]ITS_DEV_MANUF_MODEL!$D$2:$D$1000='External_Sensor (Desc)'!$G147),0),1))","v":""},{"$f":"IF('External_Sensor (Desc)'!$G147=\"\",\"\",INDEX([1]ITS_DEV_MANUF_MODEL!$A$2:$E$1000,MATCH(1,([1]ITS_DEV_MANUF_MODEL!$E$2:$E$1000=\"VDS\")*([1]ITS_DEV_MANUF_MODEL!$D$2:$D$1000='External_Sensor (Desc)'!$G147),0),2))","v":""},{"$f":"IF('External_Sensor (Desc)'!I147=\"\",\"\",'External_Sensor (Desc)'!I147)","v":""},{"$f":"IF('External_Sensor (Desc)'!J147=\"\",\"\",'External_Sensor (Desc)'!J147)","v":""},{"$f":"IF('External_Sensor (Desc)'!K147=\"\",\"\",'External_Sensor (Desc)'!K147)","v":""},{"$f":"IF('External_Sensor (Desc)'!L147=\"\",\"\",'External_Sensor (Desc)'!L147)","v":""},{"$f":"IF('External_Sensor (Desc)'!M147=\"\",\"\",'External_Sensor (Desc)'!M147)","v":""}]
[{"$f":"IF('External_Sensor (Desc)'!A148=\"\",\"\",'External_Sensor (Desc)'!A148)","v":""},{"$f":"IF('External_Sensor (Desc)'!B148=\"\",\"\",\"1987\")","v":""},{"$f":"IF('External_Sensor (Desc)'!B148=\"\",\"\",'External_Sensor (Desc)'!B148)","v":""},{"$f":"IF('External_Sensor (Desc)'!C148=\"\",\"\",'External_Sensor (Desc)'!C148)","v":""},{"$f":"IF('External_Sensor (Desc)'!D148=\"\",\"\",'External_Sensor (Desc)'!D148)","v":""},{"$f":"IF('External_Sensor (Desc)'!E148=\"\",\"\",INDEX([1]WWVDS_USAGE!$A$2:$A$4,MATCH('External_Sensor (Desc)'!$E148,[1]!MASTER_SENSOR_USAGE_DESC[#Data],0),0))","v":""},{"$f":"IF('External_Sensor (Desc)'!F148=\"\",\"\",INDEX([1]SENSOR_TYPE!$A$2:$A$15,MATCH('External_Sensor (Desc)'!$F148,[1]!MASTER_SENSOR_TYPE_DESC[#Data],0),0))","v":""},{"$f":"IF('External_Sensor (Desc)'!$G148=\"\",\"\",INDEX([1]ITS_DEV_MANUF_MODEL!$A$2:$E$1000,MATCH(1,([1]ITS_DEV_MANUF_MODEL!$E$2:$E$1000=\"VDS\")*([1]ITS_DEV_MANUF_MODEL!$D$2:$D$1000='External_Sensor (Desc)'!$G148),0),1))","v":""},{"$f":"IF('External_Sensor (Desc)'!$G148=\"\",\"\",INDEX([1]ITS_DEV_MANUF_MODEL!$A$2:$E$1000,MATCH(1,([1]ITS_DEV_MANUF_MODEL!$E$2:$E$1000=\"VDS\")*([1]ITS_DEV_MANUF_MODEL!$D$2:$D$1000='External_Sensor (Desc)'!$G148),0),2))","v":""},{"$f":"IF('External_Sensor (Desc)'!I148=\"\",\"\",'External_Sensor (Desc)'!I148)","v":""},{"$f":"IF('External_Sensor (Desc)'!J148=\"\",\"\",'External_Sensor (Desc)'!J148)","v":""},{"$f":"IF('External_Sensor (Desc)'!K148=\"\",\"\",'External_Sensor (Desc)'!K148)","v":""},{"$f":"IF('External_Sensor (Desc)'!L148=\"\",\"\",'External_Sensor (Desc)'!L148)","v":""},{"$f":"IF('External_Sensor (Desc)'!M148=\"\",\"\",'External_Sensor (Desc)'!M148)","v":""}]
[{"$f":"IF('External_Sensor (Desc)'!A149=\"\",\"\",'External_Sensor (Desc)'!A149)","v":""},{"$f":"IF('External_Sensor (Desc)'!B149=\"\",\"\",\"1987\")","v":""},{"$f":"IF('External_Sensor (Desc)'!B149=\"\",\"\",'External_Sensor (Desc)'!B149)","v":""},{"$f":"IF('External_Sensor (Desc)'!C149=\"\",\"\",'External_Sensor (Desc)'!C149)","v":""},{"$f":"IF('External_Sensor (Desc)'!D149=\"\",\"\",'External_Sensor (Desc)'!D149)","v":""},{"$f":"IF('External_Sensor (Desc)'!E149=\"\",\"\",INDEX([1]WWVDS_USAGE!$A$2:$A$4,MATCH('External_Sensor (Desc)'!$E149,[1]!MASTER_SENSOR_USAGE_DESC[#Data],0),0))","v":""},{"$f":"IF('External_Sensor (Desc)'!F149=\"\",\"\",INDEX([1]SENSOR_TYPE!$A$2:$A$15,MATCH('External_Sensor (Desc)'!$F149,[1]!MASTER_SENSOR_TYPE_DESC[#Data],0),0))","v":""},{"$f":"IF('External_Sensor (Desc)'!$G149=\"\",\"\",INDEX([1]ITS_DEV_MANUF_MODEL!$A$2:$E$1000,MATCH(1,([1]ITS_DEV_MANUF_MODEL!$E$2:$E$1000=\"VDS\")*([1]ITS_DEV_MANUF_MODEL!$D$2:$D$1000='External_Sensor (Desc)'!$G149),0),1))","v":""},{"$f":"IF('External_Sensor (Desc)'!$G149=\"\",\"\",INDEX([1]ITS_DEV_MANUF_MODEL!$A$2:$E$1000,MATCH(1,([1]ITS_DEV_MANUF_MODEL!$E$2:$E$1000=\"VDS\")*([1]ITS_DEV_MANUF_MODEL!$D$2:$D$1000='External_Sensor (Desc)'!$G149),0),2))","v":""},{"$f":"IF('External_Sensor (Desc)'!I149=\"\",\"\",'External_Sensor (Desc)'!I149)","v":""},{"$f":"IF('External_Sensor (Desc)'!J149=\"\",\"\",'External_Sensor (Desc)'!J149)","v":""},{"$f":"IF('External_Sensor (Desc)'!K149=\"\",\"\",'External_Sensor (Desc)'!K149)","v":""},{"$f":"IF('External_Sensor (Desc)'!L149=\"\",\"\",'External_Sensor (Desc)'!L149)","v":""},{"$f":"IF('External_Sensor (Desc)'!M149=\"\",\"\",'External_Sensor (Desc)'!M149)","v":""}]
[{"$f":"IF('External_Sensor (Desc)'!A150=\"\",\"\",'External_Sensor (Desc)'!A150)","v":""},{"$f":"IF('External_Sensor (Desc)'!B150=\"\",\"\",\"1987\")","v":""},{"$f":"IF('External_Sensor (Desc)'!B150=\"\",\"\",'External_Sensor (Desc)'!B150)","v":""},{"$f":"IF('External_Sensor (Desc)'!C150=\"\",\"\",'External_Sensor (Desc)'!C150)","v":""},{"$f":"IF('External_Sensor (Desc)'!D150=\"\",\"\",'External_Sensor (Desc)'!D150)","v":""},{"$f":"IF('External_Sensor (Desc)'!E150=\"\",\"\",INDEX([1]WWVDS_USAGE!$A$2:$A$4,MATCH('External_Sensor (Desc)'!$E150,[1]!MASTER_SENSOR_USAGE_DESC[#Data],0),0))","v":""},{"$f":"IF('External_Sensor (Desc)'!F150=\"\",\"\",INDEX([1]SENSOR_TYPE!$A$2:$A$15,MATCH('External_Sensor (Desc)'!$F150,[1]!MASTER_SENSOR_TYPE_DESC[#Data],0),0))","v":""},{"$f":"IF('External_Sensor (Desc)'!$G150=\"\",\"\",INDEX([1]ITS_DEV_MANUF_MODEL!$A$2:$E$1000,MATCH(1,([1]ITS_DEV_MANUF_MODEL!$E$2:$E$1000=\"VDS\")*([1]ITS_DEV_MANUF_MODEL!$D$2:$D$1000='External_Sensor (Desc)'!$G150),0),1))","v":""},{"$f":"IF('External_Sensor (Desc)'!$G150=\"\",\"\",INDEX([1]ITS_DEV_MANUF_MODEL!$A$2:$E$1000,MATCH(1,([1]ITS_DEV_MANUF_MODEL!$E$2:$E$1000=\"VDS\")*([1]ITS_DEV_MANUF_MODEL!$D$2:$D$1000='External_Sensor (Desc)'!$G150),0),2))","v":""},{"$f":"IF('External_Sensor (Desc)'!I150=\"\",\"\",'External_Sensor (Desc)'!I150)","v":""},{"$f":"IF('External_Sensor (Desc)'!J150=\"\",\"\",'External_Sensor (Desc)'!J150)","v":""},{"$f":"IF('External_Sensor (Desc)'!K150=\"\",\"\",'External_Sensor (Desc)'!K150)","v":""},{"$f":"IF('External_Sensor (Desc)'!L150=\"\",\"\",'External_Sensor (Desc)'!L150)","v":""},{"$f":"IF('External_Sensor (Desc)'!M150=\"\",\"\",'External_Sensor (Desc)'!M150)","v":""}]
[{"$f":"IF('External_Sensor (Desc)'!A151=\"\",\"\",'External_Sensor (Desc)'!A151)","v":""},{"$f":"IF('External_Sensor (Desc)'!B151=\"\",\"\",\"1987\")","v":""},{"$f":"IF('External_Sensor (Desc)'!B151=\"\",\"\",'External_Sensor (Desc)'!B151)","v":""},{"$f":"IF('External_Sensor (Desc)'!C151=\"\",\"\",'External_Sensor (Desc)'!C151)","v":""},{"$f":"IF('External_Sensor (Desc)'!D151=\"\",\"\",'External_Sensor (Desc)'!D151)","v":""},{"$f":"IF('External_Sensor (Desc)'!E151=\"\",\"\",INDEX([1]WWVDS_USAGE!$A$2:$A$4,MATCH('External_Sensor (Desc)'!$E151,[1]!MASTER_SENSOR_USAGE_DESC[#Data],0),0))","v":""},{"$f":"IF('External_Sensor (Desc)'!F151=\"\",\"\",INDEX([1]SENSOR_TYPE!$A$2:$A$15,MATCH('External_Sensor (Desc)'!$F151,[1]!MASTER_SENSOR_TYPE_DESC[#Data],0),0))","v":""},{"$f":"IF('External_Sensor (Desc)'!$G151=\"\",\"\",INDEX([1]ITS_DEV_MANUF_MODEL!$A$2:$E$1000,MATCH(1,([1]ITS_DEV_MANUF_MODEL!$E$2:$E$1000=\"VDS\")*([1]ITS_DEV_MANUF_MODEL!$D$2:$D$1000='External_Sensor (Desc)'!$G151),0),1))","v":""},{"$f":"IF('External_Sensor (Desc)'!$G151=\"\",\"\",INDEX([1]ITS_DEV_MANUF_MODEL!$A$2:$E$1000,MATCH(1,([1]ITS_DEV_MANUF_MODEL!$E$2:$E$1000=\"VDS\")*([1]ITS_DEV_MANUF_MODEL!$D$2:$D$1000='External_Sensor (Desc)'!$G151),0),2))","v":""},{"$f":"IF('External_Sensor (Desc)'!I151=\"\",\"\",'External_Sensor (Desc)'!I151)","v":""},{"$f":"IF('External_Sensor (Desc)'!J151=\"\",\"\",'External_Sensor (Desc)'!J151)","v":""},{"$f":"IF('External_Sensor (Desc)'!K151=\"\",\"\",'External_Sensor (Desc)'!K151)","v":""},{"$f":"IF('External_Sensor (Desc)'!L151=\"\",\"\",'External_Sensor (Desc)'!L151)","v":""},{"$f":"IF('External_Sensor (Desc)'!M151=\"\",\"\",'External_Sensor (Desc)'!M151)","v":""}]
[{"$f":"IF('External_Sensor (Desc)'!A152=\"\",\"\",'External_Sensor (Desc)'!A152)","v":""},{"$f":"IF('External_Sensor (Desc)'!B152=\"\",\"\",\"1987\")","v":""},{"$f":"IF('External_Sensor (Desc)'!B152=\"\",\"\",'External_Sensor (Desc)'!B152)","v":""},{"$f":"IF('External_Sensor (Desc)'!C152=\"\",\"\",'External_Sensor (Desc)'!C152)","v":""},{"$f":"IF('External_Sensor (Desc)'!D152=\"\",\"\",'External_Sensor (Desc)'!D152)","v":""},{"$f":"IF('External_Sensor (Desc)'!E152=\"\",\"\",INDEX([1]WWVDS_USAGE!$A$2:$A$4,MATCH('External_Sensor (Desc)'!$E152,[1]!MASTER_SENSOR_USAGE_DESC[#Data],0),0))","v":""},{"$f":"IF('External_Sensor (Desc)'!F152=\"\",\"\",INDEX([1]SENSOR_TYPE!$A$2:$A$15,MATCH('External_Sensor (Desc)'!$F152,[1]!MASTER_SENSOR_TYPE_DESC[#Data],0),0))","v":""},{"$f":"IF('External_Sensor (Desc)'!$G152=\"\",\"\",INDEX([1]ITS_DEV_MANUF_MODEL!$A$2:$E$1000,MATCH(1,([1]ITS_DEV_MANUF_MODEL!$E$2:$E$1000=\"VDS\")*([1]ITS_DEV_MANUF_MODEL!$D$2:$D$1000='External_Sensor (Desc)'!$G152),0),1))","v":""},{"$f":"IF('External_Sensor (Desc)'!$G152=\"\",\"\",INDEX([1]ITS_DEV_MANUF_MODEL!$A$2:$E$1000,MATCH(1,([1]ITS_DEV_MANUF_MODEL!$E$2:$E$1000=\"VDS\")*([1]ITS_DEV_MANUF_MODEL!$D$2:$D$1000='External_Sensor (Desc)'!$G152),0),2))","v":""},{"$f":"IF('External_Sensor (Desc)'!I152=\"\",\"\",'External_Sensor (Desc)'!I152)","v":""},{"$f":"IF('External_Sensor (Desc)'!J152=\"\",\"\",'External_Sensor (Desc)'!J152)","v":""},{"$f":"IF('External_Sensor (Desc)'!K152=\"\",\"\",'External_Sensor (Desc)'!K152)","v":""},{"$f":"IF('External_Sensor (Desc)'!L152=\"\",\"\",'External_Sensor (Desc)'!L152)","v":""},{"$f":"IF('External_Sensor (Desc)'!M152=\"\",\"\",'External_Sensor (Desc)'!M152)","v":""}]
[{"$f":"IF('External_Sensor (Desc)'!A153=\"\",\"\",'External_Sensor (Desc)'!A153)","v":""},{"$f":"IF('External_Sensor (Desc)'!B153=\"\",\"\",\"1987\")","v":""},{"$f":"IF('External_Sensor (Desc)'!B153=\"\",\"\",'External_Sensor (Desc)'!B153)","v":""},{"$f":"IF('External_Sensor (Desc)'!C153=\"\",\"\",'External_Sensor (Desc)'!C153)","v":""},{"$f":"IF('External_Sensor (Desc)'!D153=\"\",\"\",'External_Sensor (Desc)'!D153)","v":""},{"$f":"IF('External_Sensor (Desc)'!E153=\"\",\"\",INDEX([1]WWVDS_USAGE!$A$2:$A$4,MATCH('External_Sensor (Desc)'!$E153,[1]!MASTER_SENSOR_USAGE_DESC[#Data],0),0))","v":""},{"$f":"IF('External_Sensor (Desc)'!F153=\"\",\"\",INDEX([1]SENSOR_TYPE!$A$2:$A$15,MATCH('External_Sensor (Desc)'!$F153,[1]!MASTER_SENSOR_TYPE_DESC[#Data],0),0))","v":""},{"$f":"IF('External_Sensor (Desc)'!$G153=\"\",\"\",INDEX([1]ITS_DEV_MANUF_MODEL!$A$2:$E$1000,MATCH(1,([1]ITS_DEV_MANUF_MODEL!$E$2:$E$1000=\"VDS\")*([1]ITS_DEV_MANUF_MODEL!$D$2:$D$1000='External_Sensor (Desc)'!$G153),0),1))","v":""},{"$f":"IF('External_Sensor (Desc)'!$G153=\"\",\"\",INDEX([1]ITS_DEV_MANUF_MODEL!$A$2:$E$1000,MATCH(1,([1]ITS_DEV_MANUF_MODEL!$E$2:$E$1000=\"VDS\")*([1]ITS_DEV_MANUF_MODEL!$D$2:$D$1000='External_Sensor (Desc)'!$G153),0),2))","v":""},{"$f":"IF('External_Sensor (Desc)'!I153=\"\",\"\",'External_Sensor (Desc)'!I153)","v":""},{"$f":"IF('External_Sensor (Desc)'!J153=\"\",\"\",'External_Sensor (Desc)'!J153)","v":""},{"$f":"IF('External_Sensor (Desc)'!K153=\"\",\"\",'External_Sensor (Desc)'!K153)","v":""},{"$f":"IF('External_Sensor (Desc)'!L153=\"\",\"\",'External_Sensor (Desc)'!L153)","v":""},{"$f":"IF('External_Sensor (Desc)'!M153=\"\",\"\",'External_Sensor (Desc)'!M153)","v":""}]
[{"$f":"IF('External_Sensor (Desc)'!A154=\"\",\"\",'External_Sensor (Desc)'!A154)","v":""},{"$f":"IF('External_Sensor (Desc)'!B154=\"\",\"\",\"1987\")","v":""},{"$f":"IF('External_Sensor (Desc)'!B154=\"\",\"\",'External_Sensor (Desc)'!B154)","v":""},{"$f":"IF('External_Sensor (Desc)'!C154=\"\",\"\",'External_Sensor (Desc)'!C154)","v":""},{"$f":"IF('External_Sensor (Desc)'!D154=\"\",\"\",'External_Sensor (Desc)'!D154)","v":""},{"$f":"IF('External_Sensor (Desc)'!E154=\"\",\"\",INDEX([1]WWVDS_USAGE!$A$2:$A$4,MATCH('External_Sensor (Desc)'!$E154,[1]!MASTER_SENSOR_USAGE_DESC[#Data],0),0))","v":""},{"$f":"IF('External_Sensor (Desc)'!F154=\"\",\"\",INDEX([1]SENSOR_TYPE!$A$2:$A$15,MATCH('External_Sensor (Desc)'!$F154,[1]!MASTER_SENSOR_TYPE_DESC[#Data],0),0))","v":""},{"$f":"IF('External_Sensor (Desc)'!$G154=\"\",\"\",INDEX([1]ITS_DEV_MANUF_MODEL!$A$2:$E$1000,MATCH(1,([1]ITS_DEV_MANUF_MODEL!$E$2:$E$1000=\"VDS\")*([1]ITS_DEV_MANUF_MODEL!$D$2:$D$1000='External_Sensor (Desc)'!$G154),0),1))","v":""},{"$f":"IF('External_Sensor (Desc)'!$G154=\"\",\"\",INDEX([1]ITS_DEV_MANUF_MODEL!$A$2:$E$1000,MATCH(1,([1]ITS_DEV_MANUF_MODEL!$E$2:$E$1000=\"VDS\")*([1]ITS_DEV_MANUF_MODEL!$D$2:$D$1000='External_Sensor (Desc)'!$G154),0),2))","v":""},{"$f":"IF('External_Sensor (Desc)'!I154=\"\",\"\",'External_Sensor (Desc)'!I154)","v":""},{"$f":"IF('External_Sensor (Desc)'!J154=\"\",\"\",'External_Sensor (Desc)'!J154)","v":""},{"$f":"IF('External_Sensor (Desc)'!K154=\"\",\"\",'External_Sensor (Desc)'!K154)","v":""},{"$f":"IF('External_Sensor (Desc)'!L154=\"\",\"\",'External_Sensor (Desc)'!L154)","v":""},{"$f":"IF('External_Sensor (Desc)'!M154=\"\",\"\",'External_Sensor (Desc)'!M154)","v":""}]
[{"$f":"IF('External_Sensor (Desc)'!A155=\"\",\"\",'External_Sensor (Desc)'!A155)","v":""},{"$f":"IF('External_Sensor (Desc)'!B155=\"\",\"\",\"1987\")","v":""},{"$f":"IF('External_Sensor (Desc)'!B155=\"\",\"\",'External_Sensor (Desc)'!B155)","v":""},{"$f":"IF('External_Sensor (Desc)'!C155=\"\",\"\",'External_Sensor (Desc)'!C155)","v":""},{"$f":"IF('External_Sensor (Desc)'!D155=\"\",\"\",'External_Sensor (Desc)'!D155)","v":""},{"$f":"IF('External_Sensor (Desc)'!E155=\"\",\"\",INDEX([1]WWVDS_USAGE!$A$2:$A$4,MATCH('External_Sensor (Desc)'!$E155,[1]!MASTER_SENSOR_USAGE_DESC[#Data],0),0))","v":""},{"$f":"IF('External_Sensor (Desc)'!F155=\"\",\"\",INDEX([1]SENSOR_TYPE!$A$2:$A$15,MATCH('External_Sensor (Desc)'!$F155,[1]!MASTER_SENSOR_TYPE_DESC[#Data],0),0))","v":""},{"$f":"IF('External_Sensor (Desc)'!$G155=\"\",\"\",INDEX([1]ITS_DEV_MANUF_MODEL!$A$2:$E$1000,MATCH(1,([1]ITS_DEV_MANUF_MODEL!$E$2:$E$1000=\"VDS\")*([1]ITS_DEV_MANUF_MODEL!$D$2:$D$1000='External_Sensor (Desc)'!$G155),0),1))","v":""},{"$f":"IF('External_Sensor (Desc)'!$G155=\"\",\"\",INDEX([1]ITS_DEV_MANUF_MODEL!$A$2:$E$1000,MATCH(1,([1]ITS_DEV_MANUF_MODEL!$E$2:$E$1000=\"VDS\")*([1]ITS_DEV_MANUF_MODEL!$D$2:$D$1000='External_Sensor (Desc)'!$G155),0),2))","v":""},{"$f":"IF('External_Sensor (Desc)'!I155=\"\",\"\",'External_Sensor (Desc)'!I155)","v":""},{"$f":"IF('External_Sensor (Desc)'!J155=\"\",\"\",'External_Sensor (Desc)'!J155)","v":""},{"$f":"IF('External_Sensor (Desc)'!K155=\"\",\"\",'External_Sensor (Desc)'!K155)","v":""},{"$f":"IF('External_Sensor (Desc)'!L155=\"\",\"\",'External_Sensor (Desc)'!L155)","v":""},{"$f":"IF('External_Sensor (Desc)'!M155=\"\",\"\",'External_Sensor (Desc)'!M155)","v":""}]
[{"$f":"IF('External_Sensor (Desc)'!A156=\"\",\"\",'External_Sensor (Desc)'!A156)","v":""},{"$f":"IF('External_Sensor (Desc)'!B156=\"\",\"\",\"1987\")","v":""},{"$f":"IF('External_Sensor (Desc)'!B156=\"\",\"\",'External_Sensor (Desc)'!B156)","v":""},{"$f":"IF('External_Sensor (Desc)'!C156=\"\",\"\",'External_Sensor (Desc)'!C156)","v":""},{"$f":"IF('External_Sensor (Desc)'!D156=\"\",\"\",'External_Sensor (Desc)'!D156)","v":""},{"$f":"IF('External_Sensor (Desc)'!E156=\"\",\"\",INDEX([1]WWVDS_USAGE!$A$2:$A$4,MATCH('External_Sensor (Desc)'!$E156,[1]!MASTER_SENSOR_USAGE_DESC[#Data],0),0))","v":""},{"$f":"IF('External_Sensor (Desc)'!F156=\"\",\"\",INDEX([1]SENSOR_TYPE!$A$2:$A$15,MATCH('External_Sensor (Desc)'!$F156,[1]!MASTER_SENSOR_TYPE_DESC[#Data],0),0))","v":""},{"$f":"IF('External_Sensor (Desc)'!$G156=\"\",\"\",INDEX([1]ITS_DEV_MANUF_MODEL!$A$2:$E$1000,MATCH(1,([1]ITS_DEV_MANUF_MODEL!$E$2:$E$1000=\"VDS\")*([1]ITS_DEV_MANUF_MODEL!$D$2:$D$1000='External_Sensor (Desc)'!$G156),0),1))","v":""},{"$f":"IF('External_Sensor (Desc)'!$G156=\"\",\"\",INDEX([1]ITS_DEV_MANUF_MODEL!$A$2:$E$1000,MATCH(1,([1]ITS_DEV_MANUF_MODEL!$E$2:$E$1000=\"VDS\")*([1]ITS_DEV_MANUF_MODEL!$D$2:$D$1000='External_Sensor (Desc)'!$G156),0),2))","v":""},{"$f":"IF('External_Sensor (Desc)'!I156=\"\",\"\",'External_Sensor (Desc)'!I156)","v":""},{"$f":"IF('External_Sensor (Desc)'!J156=\"\",\"\",'External_Sensor (Desc)'!J156)","v":""},{"$f":"IF('External_Sensor (Desc)'!K156=\"\",\"\",'External_Sensor (Desc)'!K156)","v":""},{"$f":"IF('External_Sensor (Desc)'!L156=\"\",\"\",'External_Sensor (Desc)'!L156)","v":""},{"$f":"IF('External_Sensor (Desc)'!M156=\"\",\"\",'External_Sensor (Desc)'!M156)","v":""}]
[{"$f":"IF('External_Sensor (Desc)'!A157=\"\",\"\",'External_Sensor (Desc)'!A157)","v":""},{"$f":"IF('External_Sensor (Desc)'!B157=\"\",\"\",\"1987\")","v":""},{"$f":"IF('External_Sensor (Desc)'!B157=\"\",\"\",'External_Sensor (Desc)'!B157)","v":""},{"$f":"IF('External_Sensor (Desc)'!C157=\"\",\"\",'External_Sensor (Desc)'!C157)","v":""},{"$f":"IF('External_Sensor (Desc)'!D157=\"\",\"\",'External_Sensor (Desc)'!D157)","v":""},{"$f":"IF('External_Sensor (Desc)'!E157=\"\",\"\",INDEX([1]WWVDS_USAGE!$A$2:$A$4,MATCH('External_Sensor (Desc)'!$E157,[1]!MASTER_SENSOR_USAGE_DESC[#Data],0),0))","v":""},{"$f":"IF('External_Sensor (Desc)'!F157=\"\",\"\",INDEX([1]SENSOR_TYPE!$A$2:$A$15,MATCH('External_Sensor (Desc)'!$F157,[1]!MASTER_SENSOR_TYPE_DESC[#Data],0),0))","v":""},{"$f":"IF('External_Sensor (Desc)'!$G157=\"\",\"\",INDEX([1]ITS_DEV_MANUF_MODEL!$A$2:$E$1000,MATCH(1,([1]ITS_DEV_MANUF_MODEL!$E$2:$E$1000=\"VDS\")*([1]ITS_DEV_MANUF_MODEL!$D$2:$D$1000='External_Sensor (Desc)'!$G157),0),1))","v":""},{"$f":"IF('External_Sensor (Desc)'!$G157=\"\",\"\",INDEX([1]ITS_DEV_MANUF_MODEL!$A$2:$E$1000,MATCH(1,([1]ITS_DEV_MANUF_MODEL!$E$2:$E$1000=\"VDS\")*([1]ITS_DEV_MANUF_MODEL!$D$2:$D$1000='External_Sensor (Desc)'!$G157),0),2))","v":""},{"$f":"IF('External_Sensor (Desc)'!I157=\"\",\"\",'External_Sensor (Desc)'!I157)","v":""},{"$f":"IF('External_Sensor (Desc)'!J157=\"\",\"\",'External_Sensor (Desc)'!J157)","v":""},{"$f":"IF('External_Sensor (Desc)'!K157=\"\",\"\",'External_Sensor (Desc)'!K157)","v":""},{"$f":"IF('External_Sensor (Desc)'!L157=\"\",\"\",'External_Sensor (Desc)'!L157)","v":""},{"$f":"IF('External_Sensor (Desc)'!M157=\"\",\"\",'External_Sensor (Desc)'!M157)","v":""}]
[{"$f":"IF('External_Sensor (Desc)'!A158=\"\",\"\",'External_Sensor (Desc)'!A158)","v":""},{"$f":"IF('External_Sensor (Desc)'!B158=\"\",\"\",\"1987\")","v":""},{"$f":"IF('External_Sensor (Desc)'!B158=\"\",\"\",'External_Sensor (Desc)'!B158)","v":""},{"$f":"IF('External_Sensor (Desc)'!C158=\"\",\"\",'External_Sensor (Desc)'!C158)","v":""},{"$f":"IF('External_Sensor (Desc)'!D158=\"\",\"\",'External_Sensor (Desc)'!D158)","v":""},{"$f":"IF('External_Sensor (Desc)'!E158=\"\",\"\",INDEX([1]WWVDS_USAGE!$A$2:$A$4,MATCH('External_Sensor (Desc)'!$E158,[1]!MASTER_SENSOR_USAGE_DESC[#Data],0),0))","v":""},{"$f":"IF('External_Sensor (Desc)'!F158=\"\",\"\",INDEX([1]SENSOR_TYPE!$A$2:$A$15,MATCH('External_Sensor (Desc)'!$F158,[1]!MASTER_SENSOR_TYPE_DESC[#Data],0),0))","v":""},{"$f":"IF('External_Sensor (Desc)'!$G158=\"\",\"\",INDEX([1]ITS_DEV_MANUF_MODEL!$A$2:$E$1000,MATCH(1,([1]ITS_DEV_MANUF_MODEL!$E$2:$E$1000=\"VDS\")*([1]ITS_DEV_MANUF_MODEL!$D$2:$D$1000='External_Sensor (Desc)'!$G158),0),1))","v":""},{"$f":"IF('External_Sensor (Desc)'!$G158=\"\",\"\",INDEX([1]ITS_DEV_MANUF_MODEL!$A$2:$E$1000,MATCH(1,([1]ITS_DEV_MANUF_MODEL!$E$2:$E$1000=\"VDS\")*([1]ITS_DEV_MANUF_MODEL!$D$2:$D$1000='External_Sensor (Desc)'!$G158),0),2))","v":""},{"$f":"IF('External_Sensor (Desc)'!I158=\"\",\"\",'External_Sensor (Desc)'!I158)","v":""},{"$f":"IF('External_Sensor (Desc)'!J158=\"\",\"\",'External_Sensor (Desc)'!J158)","v":""},{"$f":"IF('External_Sensor (Desc)'!K158=\"\",\"\",'External_Sensor (Desc)'!K158)","v":""},{"$f":"IF('External_Sensor (Desc)'!L158=\"\",\"\",'External_Sensor (Desc)'!L158)","v":""},{"$f":"IF('External_Sensor (Desc)'!M158=\"\",\"\",'External_Sensor (Desc)'!M158)","v":""}]
[{"$f":"IF('External_Sensor (Desc)'!A159=\"\",\"\",'External_Sensor (Desc)'!A159)","v":""},{"$f":"IF('External_Sensor (Desc)'!B159=\"\",\"\",\"1987\")","v":""},{"$f":"IF('External_Sensor (Desc)'!B159=\"\",\"\",'External_Sensor (Desc)'!B159)","v":""},{"$f":"IF('External_Sensor (Desc)'!C159=\"\",\"\",'External_Sensor (Desc)'!C159)","v":""},{"$f":"IF('External_Sensor (Desc)'!D159=\"\",\"\",'External_Sensor (Desc)'!D159)","v":""},{"$f":"IF('External_Sensor (Desc)'!E159=\"\",\"\",INDEX([1]WWVDS_USAGE!$A$2:$A$4,MATCH('External_Sensor (Desc)'!$E159,[1]!MASTER_SENSOR_USAGE_DESC[#Data],0),0))","v":""},{"$f":"IF('External_Sensor (Desc)'!F159=\"\",\"\",INDEX([1]SENSOR_TYPE!$A$2:$A$15,MATCH('External_Sensor (Desc)'!$F159,[1]!MASTER_SENSOR_TYPE_DESC[#Data],0),0))","v":""},{"$f":"IF('External_Sensor (Desc)'!$G159=\"\",\"\",INDEX([1]ITS_DEV_MANUF_MODEL!$A$2:$E$1000,MATCH(1,([1]ITS_DEV_MANUF_MODEL!$E$2:$E$1000=\"VDS\")*([1]ITS_DEV_MANUF_MODEL!$D$2:$D$1000='External_Sensor (Desc)'!$G159),0),1))","v":""},{"$f":"IF('External_Sensor (Desc)'!$G159=\"\",\"\",INDEX([1]ITS_DEV_MANUF_MODEL!$A$2:$E$1000,MATCH(1,([1]ITS_DEV_MANUF_MODEL!$E$2:$E$1000=\"VDS\")*([1]ITS_DEV_MANUF_MODEL!$D$2:$D$1000='External_Sensor (Desc)'!$G159),0),2))","v":""},{"$f":"IF('External_Sensor (Desc)'!I159=\"\",\"\",'External_Sensor (Desc)'!I159)","v":""},{"$f":"IF('External_Sensor (Desc)'!J159=\"\",\"\",'External_Sensor (Desc)'!J159)","v":""},{"$f":"IF('External_Sensor (Desc)'!K159=\"\",\"\",'External_Sensor (Desc)'!K159)","v":""},{"$f":"IF('External_Sensor (Desc)'!L159=\"\",\"\",'External_Sensor (Desc)'!L159)","v":""},{"$f":"IF('External_Sensor (Desc)'!M159=\"\",\"\",'External_Sensor (Desc)'!M159)","v":""}]
[{"$f":"IF('External_Sensor (Desc)'!A160=\"\",\"\",'External_Sensor (Desc)'!A160)","v":""},{"$f":"IF('External_Sensor (Desc)'!B160=\"\",\"\",\"1987\")","v":""},{"$f":"IF('External_Sensor (Desc)'!B160=\"\",\"\",'External_Sensor (Desc)'!B160)","v":""},{"$f":"IF('External_Sensor (Desc)'!C160=\"\",\"\",'External_Sensor (Desc)'!C160)","v":""},{"$f":"IF('External_Sensor (Desc)'!D160=\"\",\"\",'External_Sensor (Desc)'!D160)","v":""},{"$f":"IF('External_Sensor (Desc)'!E160=\"\",\"\",INDEX([1]WWVDS_USAGE!$A$2:$A$4,MATCH('External_Sensor (Desc)'!$E160,[1]!MASTER_SENSOR_USAGE_DESC[#Data],0),0))","v":""},{"$f":"IF('External_Sensor (Desc)'!F160=\"\",\"\",INDEX([1]SENSOR_TYPE!$A$2:$A$15,MATCH('External_Sensor (Desc)'!$F160,[1]!MASTER_SENSOR_TYPE_DESC[#Data],0),0))","v":""},{"$f":"IF('External_Sensor (Desc)'!$G160=\"\",\"\",INDEX([1]ITS_DEV_MANUF_MODEL!$A$2:$E$1000,MATCH(1,([1]ITS_DEV_MANUF_MODEL!$E$2:$E$1000=\"VDS\")*([1]ITS_DEV_MANUF_MODEL!$D$2:$D$1000='External_Sensor (Desc)'!$G160),0),1))","v":""},{"$f":"IF('External_Sensor (Desc)'!$G160=\"\",\"\",INDEX([1]ITS_DEV_MANUF_MODEL!$A$2:$E$1000,MATCH(1,([1]ITS_DEV_MANUF_MODEL!$E$2:$E$1000=\"VDS\")*([1]ITS_DEV_MANUF_MODEL!$D$2:$D$1000='External_Sensor (Desc)'!$G160),0),2))","v":""},{"$f":"IF('External_Sensor (Desc)'!I160=\"\",\"\",'External_Sensor (Desc)'!I160)","v":""},{"$f":"IF('External_Sensor (Desc)'!J160=\"\",\"\",'External_Sensor (Desc)'!J160)","v":""},{"$f":"IF('External_Sensor (Desc)'!K160=\"\",\"\",'External_Sensor (Desc)'!K160)","v":""},{"$f":"IF('External_Sensor (Desc)'!L160=\"\",\"\",'External_Sensor (Desc)'!L160)","v":""},{"$f":"IF('External_Sensor (Desc)'!M160=\"\",\"\",'External_Sensor (Desc)'!M160)","v":""}]
[{"$f":"IF('External_Sensor (Desc)'!A161=\"\",\"\",'External_Sensor (Desc)'!A161)","v":""},{"$f":"IF('External_Sensor (Desc)'!B161=\"\",\"\",\"1987\")","v":""},{"$f":"IF('External_Sensor (Desc)'!B161=\"\",\"\",'External_Sensor (Desc)'!B161)","v":""},{"$f":"IF('External_Sensor (Desc)'!C161=\"\",\"\",'External_Sensor (Desc)'!C161)","v":""},{"$f":"IF('External_Sensor (Desc)'!D161=\"\",\"\",'External_Sensor (Desc)'!D161)","v":""},{"$f":"IF('External_Sensor (Desc)'!E161=\"\",\"\",INDEX([1]WWVDS_USAGE!$A$2:$A$4,MATCH('External_Sensor (Desc)'!$E161,[1]!MASTER_SENSOR_USAGE_DESC[#Data],0),0))","v":""},{"$f":"IF('External_Sensor (Desc)'!F161=\"\",\"\",INDEX([1]SENSOR_TYPE!$A$2:$A$15,MATCH('External_Sensor (Desc)'!$F161,[1]!MASTER_SENSOR_TYPE_DESC[#Data],0),0))","v":""},{"$f":"IF('External_Sensor (Desc)'!$G161=\"\",\"\",INDEX([1]ITS_DEV_MANUF_MODEL!$A$2:$E$1000,MATCH(1,([1]ITS_DEV_MANUF_MODEL!$E$2:$E$1000=\"VDS\")*([1]ITS_DEV_MANUF_MODEL!$D$2:$D$1000='External_Sensor (Desc)'!$G161),0),1))","v":""},{"$f":"IF('External_Sensor (Desc)'!$G161=\"\",\"\",INDEX([1]ITS_DEV_MANUF_MODEL!$A$2:$E$1000,MATCH(1,([1]ITS_DEV_MANUF_MODEL!$E$2:$E$1000=\"VDS\")*([1]ITS_DEV_MANUF_MODEL!$D$2:$D$1000='External_Sensor (Desc)'!$G161),0),2))","v":""},{"$f":"IF('External_Sensor (Desc)'!I161=\"\",\"\",'External_Sensor (Desc)'!I161)","v":""},{"$f":"IF('External_Sensor (Desc)'!J161=\"\",\"\",'External_Sensor (Desc)'!J161)","v":""},{"$f":"IF('External_Sensor (Desc)'!K161=\"\",\"\",'External_Sensor (Desc)'!K161)","v":""},{"$f":"IF('External_Sensor (Desc)'!L161=\"\",\"\",'External_Sensor (Desc)'!L161)","v":""},{"$f":"IF('External_Sensor (Desc)'!M161=\"\",\"\",'External_Sensor (Desc)'!M161)","v":""}]
[{"$f":"IF('External_Sensor (Desc)'!A162=\"\",\"\",'External_Sensor (Desc)'!A162)","v":""},{"$f":"IF('External_Sensor (Desc)'!B162=\"\",\"\",\"1987\")","v":""},{"$f":"IF('External_Sensor (Desc)'!B162=\"\",\"\",'External_Sensor (Desc)'!B162)","v":""},{"$f":"IF('External_Sensor (Desc)'!C162=\"\",\"\",'External_Sensor (Desc)'!C162)","v":""},{"$f":"IF('External_Sensor (Desc)'!D162=\"\",\"\",'External_Sensor (Desc)'!D162)","v":""},{"$f":"IF('External_Sensor (Desc)'!E162=\"\",\"\",INDEX([1]WWVDS_USAGE!$A$2:$A$4,MATCH('External_Sensor (Desc)'!$E162,[1]!MASTER_SENSOR_USAGE_DESC[#Data],0),0))","v":""},{"$f":"IF('External_Sensor (Desc)'!F162=\"\",\"\",INDEX([1]SENSOR_TYPE!$A$2:$A$15,MATCH('External_Sensor (Desc)'!$F162,[1]!MASTER_SENSOR_TYPE_DESC[#Data],0),0))","v":""},{"$f":"IF('External_Sensor (Desc)'!$G162=\"\",\"\",INDEX([1]ITS_DEV_MANUF_MODEL!$A$2:$E$1000,MATCH(1,([1]ITS_DEV_MANUF_MODEL!$E$2:$E$1000=\"VDS\")*([1]ITS_DEV_MANUF_MODEL!$D$2:$D$1000='External_Sensor (Desc)'!$G162),0),1))","v":""},{"$f":"IF('External_Sensor (Desc)'!$G162=\"\",\"\",INDEX([1]ITS_DEV_MANUF_MODEL!$A$2:$E$1000,MATCH(1,([1]ITS_DEV_MANUF_MODEL!$E$2:$E$1000=\"VDS\")*([1]ITS_DEV_MANUF_MODEL!$D$2:$D$1000='External_Sensor (Desc)'!$G162),0),2))","v":""},{"$f":"IF('External_Sensor (Desc)'!I162=\"\",\"\",'External_Sensor (Desc)'!I162)","v":""},{"$f":"IF('External_Sensor (Desc)'!J162=\"\",\"\",'External_Sensor (Desc)'!J162)","v":""},{"$f":"IF('External_Sensor (Desc)'!K162=\"\",\"\",'External_Sensor (Desc)'!K162)","v":""},{"$f":"IF('External_Sensor (Desc)'!L162=\"\",\"\",'External_Sensor (Desc)'!L162)","v":""},{"$f":"IF('External_Sensor (Desc)'!M162=\"\",\"\",'External_Sensor (Desc)'!M162)","v":""}]
[{"$f":"IF('External_Sensor (Desc)'!A163=\"\",\"\",'External_Sensor (Desc)'!A163)","v":""},{"$f":"IF('External_Sensor (Desc)'!B163=\"\",\"\",\"1987\")","v":""},{"$f":"IF('External_Sensor (Desc)'!B163=\"\",\"\",'External_Sensor (Desc)'!B163)","v":""},{"$f":"IF('External_Sensor (Desc)'!C163=\"\",\"\",'External_Sensor (Desc)'!C163)","v":""},{"$f":"IF('External_Sensor (Desc)'!D163=\"\",\"\",'External_Sensor (Desc)'!D163)","v":""},{"$f":"IF('External_Sensor (Desc)'!E163=\"\",\"\",INDEX([1]WWVDS_USAGE!$A$2:$A$4,MATCH('External_Sensor (Desc)'!$E163,[1]!MASTER_SENSOR_USAGE_DESC[#Data],0),0))","v":""},{"$f":"IF('External_Sensor (Desc)'!F163=\"\",\"\",INDEX([1]SENSOR_TYPE!$A$2:$A$15,MATCH('External_Sensor (Desc)'!$F163,[1]!MASTER_SENSOR_TYPE_DESC[#Data],0),0))","v":""},{"$f":"IF('External_Sensor (Desc)'!$G163=\"\",\"\",INDEX([1]ITS_DEV_MANUF_MODEL!$A$2:$E$1000,MATCH(1,([1]ITS_DEV_MANUF_MODEL!$E$2:$E$1000=\"VDS\")*([1]ITS_DEV_MANUF_MODEL!$D$2:$D$1000='External_Sensor (Desc)'!$G163),0),1))","v":""},{"$f":"IF('External_Sensor (Desc)'!$G163=\"\",\"\",INDEX([1]ITS_DEV_MANUF_MODEL!$A$2:$E$1000,MATCH(1,([1]ITS_DEV_MANUF_MODEL!$E$2:$E$1000=\"VDS\")*([1]ITS_DEV_MANUF_MODEL!$D$2:$D$1000='External_Sensor (Desc)'!$G163),0),2))","v":""},{"$f":"IF('External_Sensor (Desc)'!I163=\"\",\"\",'External_Sensor (Desc)'!I163)","v":""},{"$f":"IF('External_Sensor (Desc)'!J163=\"\",\"\",'External_Sensor (Desc)'!J163)","v":""},{"$f":"IF('External_Sensor (Desc)'!K163=\"\",\"\",'External_Sensor (Desc)'!K163)","v":""},{"$f":"IF('External_Sensor (Desc)'!L163=\"\",\"\",'External_Sensor (Desc)'!L163)","v":""},{"$f":"IF('External_Sensor (Desc)'!M163=\"\",\"\",'External_Sensor (Desc)'!M163)","v":""}]
[{"$f":"IF('External_Sensor (Desc)'!A164=\"\",\"\",'External_Sensor (Desc)'!A164)","v":""},{"$f":"IF('External_Sensor (Desc)'!B164=\"\",\"\",\"1987\")","v":""},{"$f":"IF('External_Sensor (Desc)'!B164=\"\",\"\",'External_Sensor (Desc)'!B164)","v":""},{"$f":"IF('External_Sensor (Desc)'!C164=\"\",\"\",'External_Sensor (Desc)'!C164)","v":""},{"$f":"IF('External_Sensor (Desc)'!D164=\"\",\"\",'External_Sensor (Desc)'!D164)","v":""},{"$f":"IF('External_Sensor (Desc)'!E164=\"\",\"\",INDEX([1]WWVDS_USAGE!$A$2:$A$4,MATCH('External_Sensor (Desc)'!$E164,[1]!MASTER_SENSOR_USAGE_DESC[#Data],0),0))","v":""},{"$f":"IF('External_Sensor (Desc)'!F164=\"\",\"\",INDEX([1]SENSOR_TYPE!$A$2:$A$15,MATCH('External_Sensor (Desc)'!$F164,[1]!MASTER_SENSOR_TYPE_DESC[#Data],0),0))","v":""},{"$f":"IF('External_Sensor (Desc)'!$G164=\"\",\"\",INDEX([1]ITS_DEV_MANUF_MODEL!$A$2:$E$1000,MATCH(1,([1]ITS_DEV_MANUF_MODEL!$E$2:$E$1000=\"VDS\")*([1]ITS_DEV_MANUF_MODEL!$D$2:$D$1000='External_Sensor (Desc)'!$G164),0),1))","v":""},{"$f":"IF('External_Sensor (Desc)'!$G164=\"\",\"\",INDEX([1]ITS_DEV_MANUF_MODEL!$A$2:$E$1000,MATCH(1,([1]ITS_DEV_MANUF_MODEL!$E$2:$E$1000=\"VDS\")*([1]ITS_DEV_MANUF_MODEL!$D$2:$D$1000='External_Sensor (Desc)'!$G164),0),2))","v":""},{"$f":"IF('External_Sensor (Desc)'!I164=\"\",\"\",'External_Sensor (Desc)'!I164)","v":""},{"$f":"IF('External_Sensor (Desc)'!J164=\"\",\"\",'External_Sensor (Desc)'!J164)","v":""},{"$f":"IF('External_Sensor (Desc)'!K164=\"\",\"\",'External_Sensor (Desc)'!K164)","v":""},{"$f":"IF('External_Sensor (Desc)'!L164=\"\",\"\",'External_Sensor (Desc)'!L164)","v":""},{"$f":"IF('External_Sensor (Desc)'!M164=\"\",\"\",'External_Sensor (Desc)'!M164)","v":""}]
[{"$f":"IF('External_Sensor (Desc)'!A165=\"\",\"\",'External_Sensor (Desc)'!A165)","v":""},{"$f":"IF('External_Sensor (Desc)'!B165=\"\",\"\",\"1987\")","v":""},{"$f":"IF('External_Sensor (Desc)'!B165=\"\",\"\",'External_Sensor (Desc)'!B165)","v":""},{"$f":"IF('External_Sensor (Desc)'!C165=\"\",\"\",'External_Sensor (Desc)'!C165)","v":""},{"$f":"IF('External_Sensor (Desc)'!D165=\"\",\"\",'External_Sensor (Desc)'!D165)","v":""},{"$f":"IF('External_Sensor (Desc)'!E165=\"\",\"\",INDEX([1]WWVDS_USAGE!$A$2:$A$4,MATCH('External_Sensor (Desc)'!$E165,[1]!MASTER_SENSOR_USAGE_DESC[#Data],0),0))","v":""},{"$f":"IF('External_Sensor (Desc)'!F165=\"\",\"\",INDEX([1]SENSOR_TYPE!$A$2:$A$15,MATCH('External_Sensor (Desc)'!$F165,[1]!MASTER_SENSOR_TYPE_DESC[#Data],0),0))","v":""},{"$f":"IF('External_Sensor (Desc)'!$G165=\"\",\"\",INDEX([1]ITS_DEV_MANUF_MODEL!$A$2:$E$1000,MATCH(1,([1]ITS_DEV_MANUF_MODEL!$E$2:$E$1000=\"VDS\")*([1]ITS_DEV_MANUF_MODEL!$D$2:$D$1000='External_Sensor (Desc)'!$G165),0),1))","v":""},{"$f":"IF('External_Sensor (Desc)'!$G165=\"\",\"\",INDEX([1]ITS_DEV_MANUF_MODEL!$A$2:$E$1000,MATCH(1,([1]ITS_DEV_MANUF_MODEL!$E$2:$E$1000=\"VDS\")*([1]ITS_DEV_MANUF_MODEL!$D$2:$D$1000='External_Sensor (Desc)'!$G165),0),2))","v":""},{"$f":"IF('External_Sensor (Desc)'!I165=\"\",\"\",'External_Sensor (Desc)'!I165)","v":""},{"$f":"IF('External_Sensor (Desc)'!J165=\"\",\"\",'External_Sensor (Desc)'!J165)","v":""},{"$f":"IF('External_Sensor (Desc)'!K165=\"\",\"\",'External_Sensor (Desc)'!K165)","v":""},{"$f":"IF('External_Sensor (Desc)'!L165=\"\",\"\",'External_Sensor (Desc)'!L165)","v":""},{"$f":"IF('External_Sensor (Desc)'!M165=\"\",\"\",'External_Sensor (Desc)'!M165)","v":""}]
[{"$f":"IF('External_Sensor (Desc)'!A166=\"\",\"\",'External_Sensor (Desc)'!A166)","v":""},{"$f":"IF('External_Sensor (Desc)'!B166=\"\",\"\",\"1987\")","v":""},{"$f":"IF('External_Sensor (Desc)'!B166=\"\",\"\",'External_Sensor (Desc)'!B166)","v":""},{"$f":"IF('External_Sensor (Desc)'!C166=\"\",\"\",'External_Sensor (Desc)'!C166)","v":""},{"$f":"IF('External_Sensor (Desc)'!D166=\"\",\"\",'External_Sensor (Desc)'!D166)","v":""},{"$f":"IF('External_Sensor (Desc)'!E166=\"\",\"\",INDEX([1]WWVDS_USAGE!$A$2:$A$4,MATCH('External_Sensor (Desc)'!$E166,[1]!MASTER_SENSOR_USAGE_DESC[#Data],0),0))","v":""},{"$f":"IF('External_Sensor (Desc)'!F166=\"\",\"\",INDEX([1]SENSOR_TYPE!$A$2:$A$15,MATCH('External_Sensor (Desc)'!$F166,[1]!MASTER_SENSOR_TYPE_DESC[#Data],0),0))","v":""},{"$f":"IF('External_Sensor (Desc)'!$G166=\"\",\"\",INDEX([1]ITS_DEV_MANUF_MODEL!$A$2:$E$1000,MATCH(1,([1]ITS_DEV_MANUF_MODEL!$E$2:$E$1000=\"VDS\")*([1]ITS_DEV_MANUF_MODEL!$D$2:$D$1000='External_Sensor (Desc)'!$G166),0),1))","v":""},{"$f":"IF('External_Sensor (Desc)'!$G166=\"\",\"\",INDEX([1]ITS_DEV_MANUF_MODEL!$A$2:$E$1000,MATCH(1,([1]ITS_DEV_MANUF_MODEL!$E$2:$E$1000=\"VDS\")*([1]ITS_DEV_MANUF_MODEL!$D$2:$D$1000='External_Sensor (Desc)'!$G166),0),2))","v":""},{"$f":"IF('External_Sensor (Desc)'!I166=\"\",\"\",'External_Sensor (Desc)'!I166)","v":""},{"$f":"IF('External_Sensor (Desc)'!J166=\"\",\"\",'External_Sensor (Desc)'!J166)","v":""},{"$f":"IF('External_Sensor (Desc)'!K166=\"\",\"\",'External_Sensor (Desc)'!K166)","v":""},{"$f":"IF('External_Sensor (Desc)'!L166=\"\",\"\",'External_Sensor (Desc)'!L166)","v":""},{"$f":"IF('External_Sensor (Desc)'!M166=\"\",\"\",'External_Sensor (Desc)'!M166)","v":""}]
[{"$f":"IF('External_Sensor (Desc)'!A167=\"\",\"\",'External_Sensor (Desc)'!A167)","v":""},{"$f":"IF('External_Sensor (Desc)'!B167=\"\",\"\",\"1987\")","v":""},{"$f":"IF('External_Sensor (Desc)'!B167=\"\",\"\",'External_Sensor (Desc)'!B167)","v":""},{"$f":"IF('External_Sensor (Desc)'!C167=\"\",\"\",'External_Sensor (Desc)'!C167)","v":""},{"$f":"IF('External_Sensor (Desc)'!D167=\"\",\"\",'External_Sensor (Desc)'!D167)","v":""},{"$f":"IF('External_Sensor (Desc)'!E167=\"\",\"\",INDEX([1]WWVDS_USAGE!$A$2:$A$4,MATCH('External_Sensor (Desc)'!$E167,[1]!MASTER_SENSOR_USAGE_DESC[#Data],0),0))","v":""},{"$f":"IF('External_Sensor (Desc)'!F167=\"\",\"\",INDEX([1]SENSOR_TYPE!$A$2:$A$15,MATCH('External_Sensor (Desc)'!$F167,[1]!MASTER_SENSOR_TYPE_DESC[#Data],0),0))","v":""},{"$f":"IF('External_Sensor (Desc)'!$G167=\"\",\"\",INDEX([1]ITS_DEV_MANUF_MODEL!$A$2:$E$1000,MATCH(1,([1]ITS_DEV_MANUF_MODEL!$E$2:$E$1000=\"VDS\")*([1]ITS_DEV_MANUF_MODEL!$D$2:$D$1000='External_Sensor (Desc)'!$G167),0),1))","v":""},{"$f":"IF('External_Sensor (Desc)'!$G167=\"\",\"\",INDEX([1]ITS_DEV_MANUF_MODEL!$A$2:$E$1000,MATCH(1,([1]ITS_DEV_MANUF_MODEL!$E$2:$E$1000=\"VDS\")*([1]ITS_DEV_MANUF_MODEL!$D$2:$D$1000='External_Sensor (Desc)'!$G167),0),2))","v":""},{"$f":"IF('External_Sensor (Desc)'!I167=\"\",\"\",'External_Sensor (Desc)'!I167)","v":""},{"$f":"IF('External_Sensor (Desc)'!J167=\"\",\"\",'External_Sensor (Desc)'!J167)","v":""},{"$f":"IF('External_Sensor (Desc)'!K167=\"\",\"\",'External_Sensor (Desc)'!K167)","v":""},{"$f":"IF('External_Sensor (Desc)'!L167=\"\",\"\",'External_Sensor (Desc)'!L167)","v":""},{"$f":"IF('External_Sensor (Desc)'!M167=\"\",\"\",'External_Sensor (Desc)'!M167)","v":""}]
[{"$f":"IF('External_Sensor (Desc)'!A168=\"\",\"\",'External_Sensor (Desc)'!A168)","v":""},{"$f":"IF('External_Sensor (Desc)'!B168=\"\",\"\",\"1987\")","v":""},{"$f":"IF('External_Sensor (Desc)'!B168=\"\",\"\",'External_Sensor (Desc)'!B168)","v":""},{"$f":"IF('External_Sensor (Desc)'!C168=\"\",\"\",'External_Sensor (Desc)'!C168)","v":""},{"$f":"IF('External_Sensor (Desc)'!D168=\"\",\"\",'External_Sensor (Desc)'!D168)","v":""},{"$f":"IF('External_Sensor (Desc)'!E168=\"\",\"\",INDEX([1]WWVDS_USAGE!$A$2:$A$4,MATCH('External_Sensor (Desc)'!$E168,[1]!MASTER_SENSOR_USAGE_DESC[#Data],0),0))","v":""},{"$f":"IF('External_Sensor (Desc)'!F168=\"\",\"\",INDEX([1]SENSOR_TYPE!$A$2:$A$15,MATCH('External_Sensor (Desc)'!$F168,[1]!MASTER_SENSOR_TYPE_DESC[#Data],0),0))","v":""},{"$f":"IF('External_Sensor (Desc)'!$G168=\"\",\"\",INDEX([1]ITS_DEV_MANUF_MODEL!$A$2:$E$1000,MATCH(1,([1]ITS_DEV_MANUF_MODEL!$E$2:$E$1000=\"VDS\")*([1]ITS_DEV_MANUF_MODEL!$D$2:$D$1000='External_Sensor (Desc)'!$G168),0),1))","v":""},{"$f":"IF('External_Sensor (Desc)'!$G168=\"\",\"\",INDEX([1]ITS_DEV_MANUF_MODEL!$A$2:$E$1000,MATCH(1,([1]ITS_DEV_MANUF_MODEL!$E$2:$E$1000=\"VDS\")*([1]ITS_DEV_MANUF_MODEL!$D$2:$D$1000='External_Sensor (Desc)'!$G168),0),2))","v":""},{"$f":"IF('External_Sensor (Desc)'!I168=\"\",\"\",'External_Sensor (Desc)'!I168)","v":""},{"$f":"IF('External_Sensor (Desc)'!J168=\"\",\"\",'External_Sensor (Desc)'!J168)","v":""},{"$f":"IF('External_Sensor (Desc)'!K168=\"\",\"\",'External_Sensor (Desc)'!K168)","v":""},{"$f":"IF('External_Sensor (Desc)'!L168=\"\",\"\",'External_Sensor (Desc)'!L168)","v":""},{"$f":"IF('External_Sensor (Desc)'!M168=\"\",\"\",'External_Sensor (Desc)'!M168)","v":""}]
[{"$f":"IF('External_Sensor (Desc)'!A169=\"\",\"\",'External_Sensor (Desc)'!A169)","v":""},{"$f":"IF('External_Sensor (Desc)'!B169=\"\",\"\",\"1987\")","v":""},{"$f":"IF('External_Sensor (Desc)'!B169=\"\",\"\",'External_Sensor (Desc)'!B169)","v":""},{"$f":"IF('External_Sensor (Desc)'!C169=\"\",\"\",'External_Sensor (Desc)'!C169)","v":""},{"$f":"IF('External_Sensor (Desc)'!D169=\"\",\"\",'External_Sensor (Desc)'!D169)","v":""},{"$f":"IF('External_Sensor (Desc)'!E169=\"\",\"\",INDEX([1]WWVDS_USAGE!$A$2:$A$4,MATCH('External_Sensor (Desc)'!$E169,[1]!MASTER_SENSOR_USAGE_DESC[#Data],0),0))","v":""},{"$f":"IF('External_Sensor (Desc)'!F169=\"\",\"\",INDEX([1]SENSOR_TYPE!$A$2:$A$15,MATCH('External_Sensor (Desc)'!$F169,[1]!MASTER_SENSOR_TYPE_DESC[#Data],0),0))","v":""},{"$f":"IF('External_Sensor (Desc)'!$G169=\"\",\"\",INDEX([1]ITS_DEV_MANUF_MODEL!$A$2:$E$1000,MATCH(1,([1]ITS_DEV_MANUF_MODEL!$E$2:$E$1000=\"VDS\")*([1]ITS_DEV_MANUF_MODEL!$D$2:$D$1000='External_Sensor (Desc)'!$G169),0),1))","v":""},{"$f":"IF('External_Sensor (Desc)'!$G169=\"\",\"\",INDEX([1]ITS_DEV_MANUF_MODEL!$A$2:$E$1000,MATCH(1,([1]ITS_DEV_MANUF_MODEL!$E$2:$E$1000=\"VDS\")*([1]ITS_DEV_MANUF_MODEL!$D$2:$D$1000='External_Sensor (Desc)'!$G169),0),2))","v":""},{"$f":"IF('External_Sensor (Desc)'!I169=\"\",\"\",'External_Sensor (Desc)'!I169)","v":""},{"$f":"IF('External_Sensor (Desc)'!J169=\"\",\"\",'External_Sensor (Desc)'!J169)","v":""},{"$f":"IF('External_Sensor (Desc)'!K169=\"\",\"\",'External_Sensor (Desc)'!K169)","v":""},{"$f":"IF('External_Sensor (Desc)'!L169=\"\",\"\",'External_Sensor (Desc)'!L169)","v":""},{"$f":"IF('External_Sensor (Desc)'!M169=\"\",\"\",'External_Sensor (Desc)'!M169)","v":""}]
[{"$f":"IF('External_Sensor (Desc)'!A170=\"\",\"\",'External_Sensor (Desc)'!A170)","v":""},{"$f":"IF('External_Sensor (Desc)'!B170=\"\",\"\",\"1987\")","v":""},{"$f":"IF('External_Sensor (Desc)'!B170=\"\",\"\",'External_Sensor (Desc)'!B170)","v":""},{"$f":"IF('External_Sensor (Desc)'!C170=\"\",\"\",'External_Sensor (Desc)'!C170)","v":""},{"$f":"IF('External_Sensor (Desc)'!D170=\"\",\"\",'External_Sensor (Desc)'!D170)","v":""},{"$f":"IF('External_Sensor (Desc)'!E170=\"\",\"\",INDEX([1]WWVDS_USAGE!$A$2:$A$4,MATCH('External_Sensor (Desc)'!$E170,[1]!MASTER_SENSOR_USAGE_DESC[#Data],0),0))","v":""},{"$f":"IF('External_Sensor (Desc)'!F170=\"\",\"\",INDEX([1]SENSOR_TYPE!$A$2:$A$15,MATCH('External_Sensor (Desc)'!$F170,[1]!MASTER_SENSOR_TYPE_DESC[#Data],0),0))","v":""},{"$f":"IF('External_Sensor (Desc)'!$G170=\"\",\"\",INDEX([1]ITS_DEV_MANUF_MODEL!$A$2:$E$1000,MATCH(1,([1]ITS_DEV_MANUF_MODEL!$E$2:$E$1000=\"VDS\")*([1]ITS_DEV_MANUF_MODEL!$D$2:$D$1000='External_Sensor (Desc)'!$G170),0),1))","v":""},{"$f":"IF('External_Sensor (Desc)'!$G170=\"\",\"\",INDEX([1]ITS_DEV_MANUF_MODEL!$A$2:$E$1000,MATCH(1,([1]ITS_DEV_MANUF_MODEL!$E$2:$E$1000=\"VDS\")*([1]ITS_DEV_MANUF_MODEL!$D$2:$D$1000='External_Sensor (Desc)'!$G170),0),2))","v":""},{"$f":"IF('External_Sensor (Desc)'!I170=\"\",\"\",'External_Sensor (Desc)'!I170)","v":""},{"$f":"IF('External_Sensor (Desc)'!J170=\"\",\"\",'External_Sensor (Desc)'!J170)","v":""},{"$f":"IF('External_Sensor (Desc)'!K170=\"\",\"\",'External_Sensor (Desc)'!K170)","v":""},{"$f":"IF('External_Sensor (Desc)'!L170=\"\",\"\",'External_Sensor (Desc)'!L170)","v":""},{"$f":"IF('External_Sensor (Desc)'!M170=\"\",\"\",'External_Sensor (Desc)'!M170)","v":""}]
[{"$f":"IF('External_Sensor (Desc)'!A171=\"\",\"\",'External_Sensor (Desc)'!A171)","v":""},{"$f":"IF('External_Sensor (Desc)'!B171=\"\",\"\",\"1987\")","v":""},{"$f":"IF('External_Sensor (Desc)'!B171=\"\",\"\",'External_Sensor (Desc)'!B171)","v":""},{"$f":"IF('External_Sensor (Desc)'!C171=\"\",\"\",'External_Sensor (Desc)'!C171)","v":""},{"$f":"IF('External_Sensor (Desc)'!D171=\"\",\"\",'External_Sensor (Desc)'!D171)","v":""},{"$f":"IF('External_Sensor (Desc)'!E171=\"\",\"\",INDEX([1]WWVDS_USAGE!$A$2:$A$4,MATCH('External_Sensor (Desc)'!$E171,[1]!MASTER_SENSOR_USAGE_DESC[#Data],0),0))","v":""},{"$f":"IF('External_Sensor (Desc)'!F171=\"\",\"\",INDEX([1]SENSOR_TYPE!$A$2:$A$15,MATCH('External_Sensor (Desc)'!$F171,[1]!MASTER_SENSOR_TYPE_DESC[#Data],0),0))","v":""},{"$f":"IF('External_Sensor (Desc)'!$G171=\"\",\"\",INDEX([1]ITS_DEV_MANUF_MODEL!$A$2:$E$1000,MATCH(1,([1]ITS_DEV_MANUF_MODEL!$E$2:$E$1000=\"VDS\")*([1]ITS_DEV_MANUF_MODEL!$D$2:$D$1000='External_Sensor (Desc)'!$G171),0),1))","v":""},{"$f":"IF('External_Sensor (Desc)'!$G171=\"\",\"\",INDEX([1]ITS_DEV_MANUF_MODEL!$A$2:$E$1000,MATCH(1,([1]ITS_DEV_MANUF_MODEL!$E$2:$E$1000=\"VDS\")*([1]ITS_DEV_MANUF_MODEL!$D$2:$D$1000='External_Sensor (Desc)'!$G171),0),2))","v":""},{"$f":"IF('External_Sensor (Desc)'!I171=\"\",\"\",'External_Sensor (Desc)'!I171)","v":""},{"$f":"IF('External_Sensor (Desc)'!J171=\"\",\"\",'External_Sensor (Desc)'!J171)","v":""},{"$f":"IF('External_Sensor (Desc)'!K171=\"\",\"\",'External_Sensor (Desc)'!K171)","v":""},{"$f":"IF('External_Sensor (Desc)'!L171=\"\",\"\",'External_Sensor (Desc)'!L171)","v":""},{"$f":"IF('External_Sensor (Desc)'!M171=\"\",\"\",'External_Sensor (Desc)'!M171)","v":""}]
[{"$f":"IF('External_Sensor (Desc)'!A172=\"\",\"\",'External_Sensor (Desc)'!A172)","v":""},{"$f":"IF('External_Sensor (Desc)'!B172=\"\",\"\",\"1987\")","v":""},{"$f":"IF('External_Sensor (Desc)'!B172=\"\",\"\",'External_Sensor (Desc)'!B172)","v":""},{"$f":"IF('External_Sensor (Desc)'!C172=\"\",\"\",'External_Sensor (Desc)'!C172)","v":""},{"$f":"IF('External_Sensor (Desc)'!D172=\"\",\"\",'External_Sensor (Desc)'!D172)","v":""},{"$f":"IF('External_Sensor (Desc)'!E172=\"\",\"\",INDEX([1]WWVDS_USAGE!$A$2:$A$4,MATCH('External_Sensor (Desc)'!$E172,[1]!MASTER_SENSOR_USAGE_DESC[#Data],0),0))","v":""},{"$f":"IF('External_Sensor (Desc)'!F172=\"\",\"\",INDEX([1]SENSOR_TYPE!$A$2:$A$15,MATCH('External_Sensor (Desc)'!$F172,[1]!MASTER_SENSOR_TYPE_DESC[#Data],0),0))","v":""},{"$f":"IF('External_Sensor (Desc)'!$G172=\"\",\"\",INDEX([1]ITS_DEV_MANUF_MODEL!$A$2:$E$1000,MATCH(1,([1]ITS_DEV_MANUF_MODEL!$E$2:$E$1000=\"VDS\")*([1]ITS_DEV_MANUF_MODEL!$D$2:$D$1000='External_Sensor (Desc)'!$G172),0),1))","v":""},{"$f":"IF('External_Sensor (Desc)'!$G172=\"\",\"\",INDEX([1]ITS_DEV_MANUF_MODEL!$A$2:$E$1000,MATCH(1,([1]ITS_DEV_MANUF_MODEL!$E$2:$E$1000=\"VDS\")*([1]ITS_DEV_MANUF_MODEL!$D$2:$D$1000='External_Sensor (Desc)'!$G172),0),2))","v":""},{"$f":"IF('External_Sensor (Desc)'!I172=\"\",\"\",'External_Sensor (Desc)'!I172)","v":""},{"$f":"IF('External_Sensor (Desc)'!J172=\"\",\"\",'External_Sensor (Desc)'!J172)","v":""},{"$f":"IF('External_Sensor (Desc)'!K172=\"\",\"\",'External_Sensor (Desc)'!K172)","v":""},{"$f":"IF('External_Sensor (Desc)'!L172=\"\",\"\",'External_Sensor (Desc)'!L172)","v":""},{"$f":"IF('External_Sensor (Desc)'!M172=\"\",\"\",'External_Sensor (Desc)'!M172)","v":""}]
[{"$f":"IF('External_Sensor (Desc)'!A173=\"\",\"\",'External_Sensor (Desc)'!A173)","v":""},{"$f":"IF('External_Sensor (Desc)'!B173=\"\",\"\",\"1987\")","v":""},{"$f":"IF('External_Sensor (Desc)'!B173=\"\",\"\",'External_Sensor (Desc)'!B173)","v":""},{"$f":"IF('External_Sensor (Desc)'!C173=\"\",\"\",'External_Sensor (Desc)'!C173)","v":""},{"$f":"IF('External_Sensor (Desc)'!D173=\"\",\"\",'External_Sensor (Desc)'!D173)","v":""},{"$f":"IF('External_Sensor (Desc)'!E173=\"\",\"\",INDEX([1]WWVDS_USAGE!$A$2:$A$4,MATCH('External_Sensor (Desc)'!$E173,[1]!MASTER_SENSOR_USAGE_DESC[#Data],0),0))","v":""},{"$f":"IF('External_Sensor (Desc)'!F173=\"\",\"\",INDEX([1]SENSOR_TYPE!$A$2:$A$15,MATCH('External_Sensor (Desc)'!$F173,[1]!MASTER_SENSOR_TYPE_DESC[#Data],0),0))","v":""},{"$f":"IF('External_Sensor (Desc)'!$G173=\"\",\"\",INDEX([1]ITS_DEV_MANUF_MODEL!$A$2:$E$1000,MATCH(1,([1]ITS_DEV_MANUF_MODEL!$E$2:$E$1000=\"VDS\")*([1]ITS_DEV_MANUF_MODEL!$D$2:$D$1000='External_Sensor (Desc)'!$G173),0),1))","v":""},{"$f":"IF('External_Sensor (Desc)'!$G173=\"\",\"\",INDEX([1]ITS_DEV_MANUF_MODEL!$A$2:$E$1000,MATCH(1,([1]ITS_DEV_MANUF_MODEL!$E$2:$E$1000=\"VDS\")*([1]ITS_DEV_MANUF_MODEL!$D$2:$D$1000='External_Sensor (Desc)'!$G173),0),2))","v":""},{"$f":"IF('External_Sensor (Desc)'!I173=\"\",\"\",'External_Sensor (Desc)'!I173)","v":""},{"$f":"IF('External_Sensor (Desc)'!J173=\"\",\"\",'External_Sensor (Desc)'!J173)","v":""},{"$f":"IF('External_Sensor (Desc)'!K173=\"\",\"\",'External_Sensor (Desc)'!K173)","v":""},{"$f":"IF('External_Sensor (Desc)'!L173=\"\",\"\",'External_Sensor (Desc)'!L173)","v":""},{"$f":"IF('External_Sensor (Desc)'!M173=\"\",\"\",'External_Sensor (Desc)'!M173)","v":""}]
[{"$f":"IF('External_Sensor (Desc)'!A174=\"\",\"\",'External_Sensor (Desc)'!A174)","v":""},{"$f":"IF('External_Sensor (Desc)'!B174=\"\",\"\",\"1987\")","v":""},{"$f":"IF('External_Sensor (Desc)'!B174=\"\",\"\",'External_Sensor (Desc)'!B174)","v":""},{"$f":"IF('External_Sensor (Desc)'!C174=\"\",\"\",'External_Sensor (Desc)'!C174)","v":""},{"$f":"IF('External_Sensor (Desc)'!D174=\"\",\"\",'External_Sensor (Desc)'!D174)","v":""},{"$f":"IF('External_Sensor (Desc)'!E174=\"\",\"\",INDEX([1]WWVDS_USAGE!$A$2:$A$4,MATCH('External_Sensor (Desc)'!$E174,[1]!MASTER_SENSOR_USAGE_DESC[#Data],0),0))","v":""},{"$f":"IF('External_Sensor (Desc)'!F174=\"\",\"\",INDEX([1]SENSOR_TYPE!$A$2:$A$15,MATCH('External_Sensor (Desc)'!$F174,[1]!MASTER_SENSOR_TYPE_DESC[#Data],0),0))","v":""},{"$f":"IF('External_Sensor (Desc)'!$G174=\"\",\"\",INDEX([1]ITS_DEV_MANUF_MODEL!$A$2:$E$1000,MATCH(1,([1]ITS_DEV_MANUF_MODEL!$E$2:$E$1000=\"VDS\")*([1]ITS_DEV_MANUF_MODEL!$D$2:$D$1000='External_Sensor (Desc)'!$G174),0),1))","v":""},{"$f":"IF('External_Sensor (Desc)'!$G174=\"\",\"\",INDEX([1]ITS_DEV_MANUF_MODEL!$A$2:$E$1000,MATCH(1,([1]ITS_DEV_MANUF_MODEL!$E$2:$E$1000=\"VDS\")*([1]ITS_DEV_MANUF_MODEL!$D$2:$D$1000='External_Sensor (Desc)'!$G174),0),2))","v":""},{"$f":"IF('External_Sensor (Desc)'!I174=\"\",\"\",'External_Sensor (Desc)'!I174)","v":""},{"$f":"IF('External_Sensor (Desc)'!J174=\"\",\"\",'External_Sensor (Desc)'!J174)","v":""},{"$f":"IF('External_Sensor (Desc)'!K174=\"\",\"\",'External_Sensor (Desc)'!K174)","v":""},{"$f":"IF('External_Sensor (Desc)'!L174=\"\",\"\",'External_Sensor (Desc)'!L174)","v":""},{"$f":"IF('External_Sensor (Desc)'!M174=\"\",\"\",'External_Sensor (Desc)'!M174)","v":""}]
[{"$f":"IF('External_Sensor (Desc)'!A175=\"\",\"\",'External_Sensor (Desc)'!A175)","v":""},{"$f":"IF('External_Sensor (Desc)'!B175=\"\",\"\",\"1987\")","v":""},{"$f":"IF('External_Sensor (Desc)'!B175=\"\",\"\",'External_Sensor (Desc)'!B175)","v":""},{"$f":"IF('External_Sensor (Desc)'!C175=\"\",\"\",'External_Sensor (Desc)'!C175)","v":""},{"$f":"IF('External_Sensor (Desc)'!D175=\"\",\"\",'External_Sensor (Desc)'!D175)","v":""},{"$f":"IF('External_Sensor (Desc)'!E175=\"\",\"\",INDEX([1]WWVDS_USAGE!$A$2:$A$4,MATCH('External_Sensor (Desc)'!$E175,[1]!MASTER_SENSOR_USAGE_DESC[#Data],0),0))","v":""},{"$f":"IF('External_Sensor (Desc)'!F175=\"\",\"\",INDEX([1]SENSOR_TYPE!$A$2:$A$15,MATCH('External_Sensor (Desc)'!$F175,[1]!MASTER_SENSOR_TYPE_DESC[#Data],0),0))","v":""},{"$f":"IF('External_Sensor (Desc)'!$G175=\"\",\"\",INDEX([1]ITS_DEV_MANUF_MODEL!$A$2:$E$1000,MATCH(1,([1]ITS_DEV_MANUF_MODEL!$E$2:$E$1000=\"VDS\")*([1]ITS_DEV_MANUF_MODEL!$D$2:$D$1000='External_Sensor (Desc)'!$G175),0),1))","v":""},{"$f":"IF('External_Sensor (Desc)'!$G175=\"\",\"\",INDEX([1]ITS_DEV_MANUF_MODEL!$A$2:$E$1000,MATCH(1,([1]ITS_DEV_MANUF_MODEL!$E$2:$E$1000=\"VDS\")*([1]ITS_DEV_MANUF_MODEL!$D$2:$D$1000='External_Sensor (Desc)'!$G175),0),2))","v":""},{"$f":"IF('External_Sensor (Desc)'!I175=\"\",\"\",'External_Sensor (Desc)'!I175)","v":""},{"$f":"IF('External_Sensor (Desc)'!J175=\"\",\"\",'External_Sensor (Desc)'!J175)","v":""},{"$f":"IF('External_Sensor (Desc)'!K175=\"\",\"\",'External_Sensor (Desc)'!K175)","v":""},{"$f":"IF('External_Sensor (Desc)'!L175=\"\",\"\",'External_Sensor (Desc)'!L175)","v":""},{"$f":"IF('External_Sensor (Desc)'!M175=\"\",\"\",'External_Sensor (Desc)'!M175)","v":""}]
[{"$f":"IF('External_Sensor (Desc)'!A176=\"\",\"\",'External_Sensor (Desc)'!A176)","v":""},{"$f":"IF('External_Sensor (Desc)'!B176=\"\",\"\",\"1987\")","v":""},{"$f":"IF('External_Sensor (Desc)'!B176=\"\",\"\",'External_Sensor (Desc)'!B176)","v":""},{"$f":"IF('External_Sensor (Desc)'!C176=\"\",\"\",'External_Sensor (Desc)'!C176)","v":""},{"$f":"IF('External_Sensor (Desc)'!D176=\"\",\"\",'External_Sensor (Desc)'!D176)","v":""},{"$f":"IF('External_Sensor (Desc)'!E176=\"\",\"\",INDEX([1]WWVDS_USAGE!$A$2:$A$4,MATCH('External_Sensor (Desc)'!$E176,[1]!MASTER_SENSOR_USAGE_DESC[#Data],0),0))","v":""},{"$f":"IF('External_Sensor (Desc)'!F176=\"\",\"\",INDEX([1]SENSOR_TYPE!$A$2:$A$15,MATCH('External_Sensor (Desc)'!$F176,[1]!MASTER_SENSOR_TYPE_DESC[#Data],0),0))","v":""},{"$f":"IF('External_Sensor (Desc)'!$G176=\"\",\"\",INDEX([1]ITS_DEV_MANUF_MODEL!$A$2:$E$1000,MATCH(1,([1]ITS_DEV_MANUF_MODEL!$E$2:$E$1000=\"VDS\")*([1]ITS_DEV_MANUF_MODEL!$D$2:$D$1000='External_Sensor (Desc)'!$G176),0),1))","v":""},{"$f":"IF('External_Sensor (Desc)'!$G176=\"\",\"\",INDEX([1]ITS_DEV_MANUF_MODEL!$A$2:$E$1000,MATCH(1,([1]ITS_DEV_MANUF_MODEL!$E$2:$E$1000=\"VDS\")*([1]ITS_DEV_MANUF_MODEL!$D$2:$D$1000='External_Sensor (Desc)'!$G176),0),2))","v":""},{"$f":"IF('External_Sensor (Desc)'!I176=\"\",\"\",'External_Sensor (Desc)'!I176)","v":""},{"$f":"IF('External_Sensor (Desc)'!J176=\"\",\"\",'External_Sensor (Desc)'!J176)","v":""},{"$f":"IF('External_Sensor (Desc)'!K176=\"\",\"\",'External_Sensor (Desc)'!K176)","v":""},{"$f":"IF('External_Sensor (Desc)'!L176=\"\",\"\",'External_Sensor (Desc)'!L176)","v":""},{"$f":"IF('External_Sensor (Desc)'!M176=\"\",\"\",'External_Sensor (Desc)'!M176)","v":""}]
[{"$f":"IF('External_Sensor (Desc)'!A177=\"\",\"\",'External_Sensor (Desc)'!A177)","v":""},{"$f":"IF('External_Sensor (Desc)'!B177=\"\",\"\",\"1987\")","v":""},{"$f":"IF('External_Sensor (Desc)'!B177=\"\",\"\",'External_Sensor (Desc)'!B177)","v":""},{"$f":"IF('External_Sensor (Desc)'!C177=\"\",\"\",'External_Sensor (Desc)'!C177)","v":""},{"$f":"IF('External_Sensor (Desc)'!D177=\"\",\"\",'External_Sensor (Desc)'!D177)","v":""},{"$f":"IF('External_Sensor (Desc)'!E177=\"\",\"\",INDEX([1]WWVDS_USAGE!$A$2:$A$4,MATCH('External_Sensor (Desc)'!$E177,[1]!MASTER_SENSOR_USAGE_DESC[#Data],0),0))","v":""},{"$f":"IF('External_Sensor (Desc)'!F177=\"\",\"\",INDEX([1]SENSOR_TYPE!$A$2:$A$15,MATCH('External_Sensor (Desc)'!$F177,[1]!MASTER_SENSOR_TYPE_DESC[#Data],0),0))","v":""},{"$f":"IF('External_Sensor (Desc)'!$G177=\"\",\"\",INDEX([1]ITS_DEV_MANUF_MODEL!$A$2:$E$1000,MATCH(1,([1]ITS_DEV_MANUF_MODEL!$E$2:$E$1000=\"VDS\")*([1]ITS_DEV_MANUF_MODEL!$D$2:$D$1000='External_Sensor (Desc)'!$G177),0),1))","v":""},{"$f":"IF('External_Sensor (Desc)'!$G177=\"\",\"\",INDEX([1]ITS_DEV_MANUF_MODEL!$A$2:$E$1000,MATCH(1,([1]ITS_DEV_MANUF_MODEL!$E$2:$E$1000=\"VDS\")*([1]ITS_DEV_MANUF_MODEL!$D$2:$D$1000='External_Sensor (Desc)'!$G177),0),2))","v":""},{"$f":"IF('External_Sensor (Desc)'!I177=\"\",\"\",'External_Sensor (Desc)'!I177)","v":""},{"$f":"IF('External_Sensor (Desc)'!J177=\"\",\"\",'External_Sensor (Desc)'!J177)","v":""},{"$f":"IF('External_Sensor (Desc)'!K177=\"\",\"\",'External_Sensor (Desc)'!K177)","v":""},{"$f":"IF('External_Sensor (Desc)'!L177=\"\",\"\",'External_Sensor (Desc)'!L177)","v":""},{"$f":"IF('External_Sensor (Desc)'!M177=\"\",\"\",'External_Sensor (Desc)'!M177)","v":""}]
[{"$f":"IF('External_Sensor (Desc)'!A178=\"\",\"\",'External_Sensor (Desc)'!A178)","v":""},{"$f":"IF('External_Sensor (Desc)'!B178=\"\",\"\",\"1987\")","v":""},{"$f":"IF('External_Sensor (Desc)'!B178=\"\",\"\",'External_Sensor (Desc)'!B178)","v":""},{"$f":"IF('External_Sensor (Desc)'!C178=\"\",\"\",'External_Sensor (Desc)'!C178)","v":""},{"$f":"IF('External_Sensor (Desc)'!D178=\"\",\"\",'External_Sensor (Desc)'!D178)","v":""},{"$f":"IF('External_Sensor (Desc)'!E178=\"\",\"\",INDEX([1]WWVDS_USAGE!$A$2:$A$4,MATCH('External_Sensor (Desc)'!$E178,[1]!MASTER_SENSOR_USAGE_DESC[#Data],0),0))","v":""},{"$f":"IF('External_Sensor (Desc)'!F178=\"\",\"\",INDEX([1]SENSOR_TYPE!$A$2:$A$15,MATCH('External_Sensor (Desc)'!$F178,[1]!MASTER_SENSOR_TYPE_DESC[#Data],0),0))","v":""},{"$f":"IF('External_Sensor (Desc)'!$G178=\"\",\"\",INDEX([1]ITS_DEV_MANUF_MODEL!$A$2:$E$1000,MATCH(1,([1]ITS_DEV_MANUF_MODEL!$E$2:$E$1000=\"VDS\")*([1]ITS_DEV_MANUF_MODEL!$D$2:$D$1000='External_Sensor (Desc)'!$G178),0),1))","v":""},{"$f":"IF('External_Sensor (Desc)'!$G178=\"\",\"\",INDEX([1]ITS_DEV_MANUF_MODEL!$A$2:$E$1000,MATCH(1,([1]ITS_DEV_MANUF_MODEL!$E$2:$E$1000=\"VDS\")*([1]ITS_DEV_MANUF_MODEL!$D$2:$D$1000='External_Sensor (Desc)'!$G178),0),2))","v":""},{"$f":"IF('External_Sensor (Desc)'!I178=\"\",\"\",'External_Sensor (Desc)'!I178)","v":""},{"$f":"IF('External_Sensor (Desc)'!J178=\"\",\"\",'External_Sensor (Desc)'!J178)","v":""},{"$f":"IF('External_Sensor (Desc)'!K178=\"\",\"\",'External_Sensor (Desc)'!K178)","v":""},{"$f":"IF('External_Sensor (Desc)'!L178=\"\",\"\",'External_Sensor (Desc)'!L178)","v":""},{"$f":"IF('External_Sensor (Desc)'!M178=\"\",\"\",'External_Sensor (Desc)'!M178)","v":""}]
[{"$f":"IF('External_Sensor (Desc)'!A179=\"\",\"\",'External_Sensor (Desc)'!A179)","v":""},{"$f":"IF('External_Sensor (Desc)'!B179=\"\",\"\",\"1987\")","v":""},{"$f":"IF('External_Sensor (Desc)'!B179=\"\",\"\",'External_Sensor (Desc)'!B179)","v":""},{"$f":"IF('External_Sensor (Desc)'!C179=\"\",\"\",'External_Sensor (Desc)'!C179)","v":""},{"$f":"IF('External_Sensor (Desc)'!D179=\"\",\"\",'External_Sensor (Desc)'!D179)","v":""},{"$f":"IF('External_Sensor (Desc)'!E179=\"\",\"\",INDEX([1]WWVDS_USAGE!$A$2:$A$4,MATCH('External_Sensor (Desc)'!$E179,[1]!MASTER_SENSOR_USAGE_DESC[#Data],0),0))","v":""},{"$f":"IF('External_Sensor (Desc)'!F179=\"\",\"\",INDEX([1]SENSOR_TYPE!$A$2:$A$15,MATCH('External_Sensor (Desc)'!$F179,[1]!MASTER_SENSOR_TYPE_DESC[#Data],0),0))","v":""},{"$f":"IF('External_Sensor (Desc)'!$G179=\"\",\"\",INDEX([1]ITS_DEV_MANUF_MODEL!$A$2:$E$1000,MATCH(1,([1]ITS_DEV_MANUF_MODEL!$E$2:$E$1000=\"VDS\")*([1]ITS_DEV_MANUF_MODEL!$D$2:$D$1000='External_Sensor (Desc)'!$G179),0),1))","v":""},{"$f":"IF('External_Sensor (Desc)'!$G179=\"\",\"\",INDEX([1]ITS_DEV_MANUF_MODEL!$A$2:$E$1000,MATCH(1,([1]ITS_DEV_MANUF_MODEL!$E$2:$E$1000=\"VDS\")*([1]ITS_DEV_MANUF_MODEL!$D$2:$D$1000='External_Sensor (Desc)'!$G179),0),2))","v":""},{"$f":"IF('External_Sensor (Desc)'!I179=\"\",\"\",'External_Sensor (Desc)'!I179)","v":""},{"$f":"IF('External_Sensor (Desc)'!J179=\"\",\"\",'External_Sensor (Desc)'!J179)","v":""},{"$f":"IF('External_Sensor (Desc)'!K179=\"\",\"\",'External_Sensor (Desc)'!K179)","v":""},{"$f":"IF('External_Sensor (Desc)'!L179=\"\",\"\",'External_Sensor (Desc)'!L179)","v":""},{"$f":"IF('External_Sensor (Desc)'!M179=\"\",\"\",'External_Sensor (Desc)'!M179)","v":""}]
[{"$f":"IF('External_Sensor (Desc)'!A180=\"\",\"\",'External_Sensor (Desc)'!A180)","v":""},{"$f":"IF('External_Sensor (Desc)'!B180=\"\",\"\",\"1987\")","v":""},{"$f":"IF('External_Sensor (Desc)'!B180=\"\",\"\",'External_Sensor (Desc)'!B180)","v":""},{"$f":"IF('External_Sensor (Desc)'!C180=\"\",\"\",'External_Sensor (Desc)'!C180)","v":""},{"$f":"IF('External_Sensor (Desc)'!D180=\"\",\"\",'External_Sensor (Desc)'!D180)","v":""},{"$f":"IF('External_Sensor (Desc)'!E180=\"\",\"\",INDEX([1]WWVDS_USAGE!$A$2:$A$4,MATCH('External_Sensor (Desc)'!$E180,[1]!MASTER_SENSOR_USAGE_DESC[#Data],0),0))","v":""},{"$f":"IF('External_Sensor (Desc)'!F180=\"\",\"\",INDEX([1]SENSOR_TYPE!$A$2:$A$15,MATCH('External_Sensor (Desc)'!$F180,[1]!MASTER_SENSOR_TYPE_DESC[#Data],0),0))","v":""},{"$f":"IF('External_Sensor (Desc)'!$G180=\"\",\"\",INDEX([1]ITS_DEV_MANUF_MODEL!$A$2:$E$1000,MATCH(1,([1]ITS_DEV_MANUF_MODEL!$E$2:$E$1000=\"VDS\")*([1]ITS_DEV_MANUF_MODEL!$D$2:$D$1000='External_Sensor (Desc)'!$G180),0),1))","v":""},{"$f":"IF('External_Sensor (Desc)'!$G180=\"\",\"\",INDEX([1]ITS_DEV_MANUF_MODEL!$A$2:$E$1000,MATCH(1,([1]ITS_DEV_MANUF_MODEL!$E$2:$E$1000=\"VDS\")*([1]ITS_DEV_MANUF_MODEL!$D$2:$D$1000='External_Sensor (Desc)'!$G180),0),2))","v":""},{"$f":"IF('External_Sensor (Desc)'!I180=\"\",\"\",'External_Sensor (Desc)'!I180)","v":""},{"$f":"IF('External_Sensor (Desc)'!J180=\"\",\"\",'External_Sensor (Desc)'!J180)","v":""},{"$f":"IF('External_Sensor (Desc)'!K180=\"\",\"\",'External_Sensor (Desc)'!K180)","v":""},{"$f":"IF('External_Sensor (Desc)'!L180=\"\",\"\",'External_Sensor (Desc)'!L180)","v":""},{"$f":"IF('External_Sensor (Desc)'!M180=\"\",\"\",'External_Sensor (Desc)'!M180)","v":""}]
[{"$f":"IF('External_Sensor (Desc)'!A181=\"\",\"\",'External_Sensor (Desc)'!A181)","v":""},{"$f":"IF('External_Sensor (Desc)'!B181=\"\",\"\",\"1987\")","v":""},{"$f":"IF('External_Sensor (Desc)'!B181=\"\",\"\",'External_Sensor (Desc)'!B181)","v":""},{"$f":"IF('External_Sensor (Desc)'!C181=\"\",\"\",'External_Sensor (Desc)'!C181)","v":""},{"$f":"IF('External_Sensor (Desc)'!D181=\"\",\"\",'External_Sensor (Desc)'!D181)","v":""},{"$f":"IF('External_Sensor (Desc)'!E181=\"\",\"\",INDEX([1]WWVDS_USAGE!$A$2:$A$4,MATCH('External_Sensor (Desc)'!$E181,[1]!MASTER_SENSOR_USAGE_DESC[#Data],0),0))","v":""},{"$f":"IF('External_Sensor (Desc)'!F181=\"\",\"\",INDEX([1]SENSOR_TYPE!$A$2:$A$15,MATCH('External_Sensor (Desc)'!$F181,[1]!MASTER_SENSOR_TYPE_DESC[#Data],0),0))","v":""},{"$f":"IF('External_Sensor (Desc)'!$G181=\"\",\"\",INDEX([1]ITS_DEV_MANUF_MODEL!$A$2:$E$1000,MATCH(1,([1]ITS_DEV_MANUF_MODEL!$E$2:$E$1000=\"VDS\")*([1]ITS_DEV_MANUF_MODEL!$D$2:$D$1000='External_Sensor (Desc)'!$G181),0),1))","v":""},{"$f":"IF('External_Sensor (Desc)'!$G181=\"\",\"\",INDEX([1]ITS_DEV_MANUF_MODEL!$A$2:$E$1000,MATCH(1,([1]ITS_DEV_MANUF_MODEL!$E$2:$E$1000=\"VDS\")*([1]ITS_DEV_MANUF_MODEL!$D$2:$D$1000='External_Sensor (Desc)'!$G181),0),2))","v":""},{"$f":"IF('External_Sensor (Desc)'!I181=\"\",\"\",'External_Sensor (Desc)'!I181)","v":""},{"$f":"IF('External_Sensor (Desc)'!J181=\"\",\"\",'External_Sensor (Desc)'!J181)","v":""},{"$f":"IF('External_Sensor (Desc)'!K181=\"\",\"\",'External_Sensor (Desc)'!K181)","v":""},{"$f":"IF('External_Sensor (Desc)'!L181=\"\",\"\",'External_Sensor (Desc)'!L181)","v":""},{"$f":"IF('External_Sensor (Desc)'!M181=\"\",\"\",'External_Sensor (Desc)'!M181)","v":""}]
[{"$f":"IF('External_Sensor (Desc)'!A182=\"\",\"\",'External_Sensor (Desc)'!A182)","v":""},{"$f":"IF('External_Sensor (Desc)'!B182=\"\",\"\",\"1987\")","v":""},{"$f":"IF('External_Sensor (Desc)'!B182=\"\",\"\",'External_Sensor (Desc)'!B182)","v":""},{"$f":"IF('External_Sensor (Desc)'!C182=\"\",\"\",'External_Sensor (Desc)'!C182)","v":""},{"$f":"IF('External_Sensor (Desc)'!D182=\"\",\"\",'External_Sensor (Desc)'!D182)","v":""},{"$f":"IF('External_Sensor (Desc)'!E182=\"\",\"\",INDEX([1]WWVDS_USAGE!$A$2:$A$4,MATCH('External_Sensor (Desc)'!$E182,[1]!MASTER_SENSOR_USAGE_DESC[#Data],0),0))","v":""},{"$f":"IF('External_Sensor (Desc)'!F182=\"\",\"\",INDEX([1]SENSOR_TYPE!$A$2:$A$15,MATCH('External_Sensor (Desc)'!$F182,[1]!MASTER_SENSOR_TYPE_DESC[#Data],0),0))","v":""},{"$f":"IF('External_Sensor (Desc)'!$G182=\"\",\"\",INDEX([1]ITS_DEV_MANUF_MODEL!$A$2:$E$1000,MATCH(1,([1]ITS_DEV_MANUF_MODEL!$E$2:$E$1000=\"VDS\")*([1]ITS_DEV_MANUF_MODEL!$D$2:$D$1000='External_Sensor (Desc)'!$G182),0),1))","v":""},{"$f":"IF('External_Sensor (Desc)'!$G182=\"\",\"\",INDEX([1]ITS_DEV_MANUF_MODEL!$A$2:$E$1000,MATCH(1,([1]ITS_DEV_MANUF_MODEL!$E$2:$E$1000=\"VDS\")*([1]ITS_DEV_MANUF_MODEL!$D$2:$D$1000='External_Sensor (Desc)'!$G182),0),2))","v":""},{"$f":"IF('External_Sensor (Desc)'!I182=\"\",\"\",'External_Sensor (Desc)'!I182)","v":""},{"$f":"IF('External_Sensor (Desc)'!J182=\"\",\"\",'External_Sensor (Desc)'!J182)","v":""},{"$f":"IF('External_Sensor (Desc)'!K182=\"\",\"\",'External_Sensor (Desc)'!K182)","v":""},{"$f":"IF('External_Sensor (Desc)'!L182=\"\",\"\",'External_Sensor (Desc)'!L182)","v":""},{"$f":"IF('External_Sensor (Desc)'!M182=\"\",\"\",'External_Sensor (Desc)'!M182)","v":""}]
[{"$f":"IF('External_Sensor (Desc)'!A183=\"\",\"\",'External_Sensor (Desc)'!A183)","v":""},{"$f":"IF('External_Sensor (Desc)'!B183=\"\",\"\",\"1987\")","v":""},{"$f":"IF('External_Sensor (Desc)'!B183=\"\",\"\",'External_Sensor (Desc)'!B183)","v":""},{"$f":"IF('External_Sensor (Desc)'!C183=\"\",\"\",'External_Sensor (Desc)'!C183)","v":""},{"$f":"IF('External_Sensor (Desc)'!D183=\"\",\"\",'External_Sensor (Desc)'!D183)","v":""},{"$f":"IF('External_Sensor (Desc)'!E183=\"\",\"\",INDEX([1]WWVDS_USAGE!$A$2:$A$4,MATCH('External_Sensor (Desc)'!$E183,[1]!MASTER_SENSOR_USAGE_DESC[#Data],0),0))","v":""},{"$f":"IF('External_Sensor (Desc)'!F183=\"\",\"\",INDEX([1]SENSOR_TYPE!$A$2:$A$15,MATCH('External_Sensor (Desc)'!$F183,[1]!MASTER_SENSOR_TYPE_DESC[#Data],0),0))","v":""},{"$f":"IF('External_Sensor (Desc)'!$G183=\"\",\"\",INDEX([1]ITS_DEV_MANUF_MODEL!$A$2:$E$1000,MATCH(1,([1]ITS_DEV_MANUF_MODEL!$E$2:$E$1000=\"VDS\")*([1]ITS_DEV_MANUF_MODEL!$D$2:$D$1000='External_Sensor (Desc)'!$G183),0),1))","v":""},{"$f":"IF('External_Sensor (Desc)'!$G183=\"\",\"\",INDEX([1]ITS_DEV_MANUF_MODEL!$A$2:$E$1000,MATCH(1,([1]ITS_DEV_MANUF_MODEL!$E$2:$E$1000=\"VDS\")*([1]ITS_DEV_MANUF_MODEL!$D$2:$D$1000='External_Sensor (Desc)'!$G183),0),2))","v":""},{"$f":"IF('External_Sensor (Desc)'!I183=\"\",\"\",'External_Sensor (Desc)'!I183)","v":""},{"$f":"IF('External_Sensor (Desc)'!J183=\"\",\"\",'External_Sensor (Desc)'!J183)","v":""},{"$f":"IF('External_Sensor (Desc)'!K183=\"\",\"\",'External_Sensor (Desc)'!K183)","v":""},{"$f":"IF('External_Sensor (Desc)'!L183=\"\",\"\",'External_Sensor (Desc)'!L183)","v":""},{"$f":"IF('External_Sensor (Desc)'!M183=\"\",\"\",'External_Sensor (Desc)'!M183)","v":""}]
[{"$f":"IF('External_Sensor (Desc)'!A184=\"\",\"\",'External_Sensor (Desc)'!A184)","v":""},{"$f":"IF('External_Sensor (Desc)'!B184=\"\",\"\",\"1987\")","v":""},{"$f":"IF('External_Sensor (Desc)'!B184=\"\",\"\",'External_Sensor (Desc)'!B184)","v":""},{"$f":"IF('External_Sensor (Desc)'!C184=\"\",\"\",'External_Sensor (Desc)'!C184)","v":""},{"$f":"IF('External_Sensor (Desc)'!D184=\"\",\"\",'External_Sensor (Desc)'!D184)","v":""},{"$f":"IF('External_Sensor (Desc)'!E184=\"\",\"\",INDEX([1]WWVDS_USAGE!$A$2:$A$4,MATCH('External_Sensor (Desc)'!$E184,[1]!MASTER_SENSOR_USAGE_DESC[#Data],0),0))","v":""},{"$f":"IF('External_Sensor (Desc)'!F184=\"\",\"\",INDEX([1]SENSOR_TYPE!$A$2:$A$15,MATCH('External_Sensor (Desc)'!$F184,[1]!MASTER_SENSOR_TYPE_DESC[#Data],0),0))","v":""},{"$f":"IF('External_Sensor (Desc)'!$G184=\"\",\"\",INDEX([1]ITS_DEV_MANUF_MODEL!$A$2:$E$1000,MATCH(1,([1]ITS_DEV_MANUF_MODEL!$E$2:$E$1000=\"VDS\")*([1]ITS_DEV_MANUF_MODEL!$D$2:$D$1000='External_Sensor (Desc)'!$G184),0),1))","v":""},{"$f":"IF('External_Sensor (Desc)'!$G184=\"\",\"\",INDEX([1]ITS_DEV_MANUF_MODEL!$A$2:$E$1000,MATCH(1,([1]ITS_DEV_MANUF_MODEL!$E$2:$E$1000=\"VDS\")*([1]ITS_DEV_MANUF_MODEL!$D$2:$D$1000='External_Sensor (Desc)'!$G184),0),2))","v":""},{"$f":"IF('External_Sensor (Desc)'!I184=\"\",\"\",'External_Sensor (Desc)'!I184)","v":""},{"$f":"IF('External_Sensor (Desc)'!J184=\"\",\"\",'External_Sensor (Desc)'!J184)","v":""},{"$f":"IF('External_Sensor (Desc)'!K184=\"\",\"\",'External_Sensor (Desc)'!K184)","v":""},{"$f":"IF('External_Sensor (Desc)'!L184=\"\",\"\",'External_Sensor (Desc)'!L184)","v":""},{"$f":"IF('External_Sensor (Desc)'!M184=\"\",\"\",'External_Sensor (Desc)'!M184)","v":""}]
[{"$f":"IF('External_Sensor (Desc)'!A185=\"\",\"\",'External_Sensor (Desc)'!A185)","v":""},{"$f":"IF('External_Sensor (Desc)'!B185=\"\",\"\",\"1987\")","v":""},{"$f":"IF('External_Sensor (Desc)'!B185=\"\",\"\",'External_Sensor (Desc)'!B185)","v":""},{"$f":"IF('External_Sensor (Desc)'!C185=\"\",\"\",'External_Sensor (Desc)'!C185)","v":""},{"$f":"IF('External_Sensor (Desc)'!D185=\"\",\"\",'External_Sensor (Desc)'!D185)","v":""},{"$f":"IF('External_Sensor (Desc)'!E185=\"\",\"\",INDEX([1]WWVDS_USAGE!$A$2:$A$4,MATCH('External_Sensor (Desc)'!$E185,[1]!MASTER_SENSOR_USAGE_DESC[#Data],0),0))","v":""},{"$f":"IF('External_Sensor (Desc)'!F185=\"\",\"\",INDEX([1]SENSOR_TYPE!$A$2:$A$15,MATCH('External_Sensor (Desc)'!$F185,[1]!MASTER_SENSOR_TYPE_DESC[#Data],0),0))","v":""},{"$f":"IF('External_Sensor (Desc)'!$G185=\"\",\"\",INDEX([1]ITS_DEV_MANUF_MODEL!$A$2:$E$1000,MATCH(1,([1]ITS_DEV_MANUF_MODEL!$E$2:$E$1000=\"VDS\")*([1]ITS_DEV_MANUF_MODEL!$D$2:$D$1000='External_Sensor (Desc)'!$G185),0),1))","v":""},{"$f":"IF('External_Sensor (Desc)'!$G185=\"\",\"\",INDEX([1]ITS_DEV_MANUF_MODEL!$A$2:$E$1000,MATCH(1,([1]ITS_DEV_MANUF_MODEL!$E$2:$E$1000=\"VDS\")*([1]ITS_DEV_MANUF_MODEL!$D$2:$D$1000='External_Sensor (Desc)'!$G185),0),2))","v":""},{"$f":"IF('External_Sensor (Desc)'!I185=\"\",\"\",'External_Sensor (Desc)'!I185)","v":""},{"$f":"IF('External_Sensor (Desc)'!J185=\"\",\"\",'External_Sensor (Desc)'!J185)","v":""},{"$f":"IF('External_Sensor (Desc)'!K185=\"\",\"\",'External_Sensor (Desc)'!K185)","v":""},{"$f":"IF('External_Sensor (Desc)'!L185=\"\",\"\",'External_Sensor (Desc)'!L185)","v":""},{"$f":"IF('External_Sensor (Desc)'!M185=\"\",\"\",'External_Sensor (Desc)'!M185)","v":""}]
[{"$f":"IF('External_Sensor (Desc)'!A186=\"\",\"\",'External_Sensor (Desc)'!A186)","v":""},{"$f":"IF('External_Sensor (Desc)'!B186=\"\",\"\",\"1987\")","v":""},{"$f":"IF('External_Sensor (Desc)'!B186=\"\",\"\",'External_Sensor (Desc)'!B186)","v":""},{"$f":"IF('External_Sensor (Desc)'!C186=\"\",\"\",'External_Sensor (Desc)'!C186)","v":""},{"$f":"IF('External_Sensor (Desc)'!D186=\"\",\"\",'External_Sensor (Desc)'!D186)","v":""},{"$f":"IF('External_Sensor (Desc)'!E186=\"\",\"\",INDEX([1]WWVDS_USAGE!$A$2:$A$4,MATCH('External_Sensor (Desc)'!$E186,[1]!MASTER_SENSOR_USAGE_DESC[#Data],0),0))","v":""},{"$f":"IF('External_Sensor (Desc)'!F186=\"\",\"\",INDEX([1]SENSOR_TYPE!$A$2:$A$15,MATCH('External_Sensor (Desc)'!$F186,[1]!MASTER_SENSOR_TYPE_DESC[#Data],0),0))","v":""},{"$f":"IF('External_Sensor (Desc)'!$G186=\"\",\"\",INDEX([1]ITS_DEV_MANUF_MODEL!$A$2:$E$1000,MATCH(1,([1]ITS_DEV_MANUF_MODEL!$E$2:$E$1000=\"VDS\")*([1]ITS_DEV_MANUF_MODEL!$D$2:$D$1000='External_Sensor (Desc)'!$G186),0),1))","v":""},{"$f":"IF('External_Sensor (Desc)'!$G186=\"\",\"\",INDEX([1]ITS_DEV_MANUF_MODEL!$A$2:$E$1000,MATCH(1,([1]ITS_DEV_MANUF_MODEL!$E$2:$E$1000=\"VDS\")*([1]ITS_DEV_MANUF_MODEL!$D$2:$D$1000='External_Sensor (Desc)'!$G186),0),2))","v":""},{"$f":"IF('External_Sensor (Desc)'!I186=\"\",\"\",'External_Sensor (Desc)'!I186)","v":""},{"$f":"IF('External_Sensor (Desc)'!J186=\"\",\"\",'External_Sensor (Desc)'!J186)","v":""},{"$f":"IF('External_Sensor (Desc)'!K186=\"\",\"\",'External_Sensor (Desc)'!K186)","v":""},{"$f":"IF('External_Sensor (Desc)'!L186=\"\",\"\",'External_Sensor (Desc)'!L186)","v":""},{"$f":"IF('External_Sensor (Desc)'!M186=\"\",\"\",'External_Sensor (Desc)'!M186)","v":""}]
[{"$f":"IF('External_Sensor (Desc)'!A187=\"\",\"\",'External_Sensor (Desc)'!A187)","v":""},{"$f":"IF('External_Sensor (Desc)'!B187=\"\",\"\",\"1987\")","v":""},{"$f":"IF('External_Sensor (Desc)'!B187=\"\",\"\",'External_Sensor (Desc)'!B187)","v":""},{"$f":"IF('External_Sensor (Desc)'!C187=\"\",\"\",'External_Sensor (Desc)'!C187)","v":""},{"$f":"IF('External_Sensor (Desc)'!D187=\"\",\"\",'External_Sensor (Desc)'!D187)","v":""},{"$f":"IF('External_Sensor (Desc)'!E187=\"\",\"\",INDEX([1]WWVDS_USAGE!$A$2:$A$4,MATCH('External_Sensor (Desc)'!$E187,[1]!MASTER_SENSOR_USAGE_DESC[#Data],0),0))","v":""},{"$f":"IF('External_Sensor (Desc)'!F187=\"\",\"\",INDEX([1]SENSOR_TYPE!$A$2:$A$15,MATCH('External_Sensor (Desc)'!$F187,[1]!MASTER_SENSOR_TYPE_DESC[#Data],0),0))","v":""},{"$f":"IF('External_Sensor (Desc)'!$G187=\"\",\"\",INDEX([1]ITS_DEV_MANUF_MODEL!$A$2:$E$1000,MATCH(1,([1]ITS_DEV_MANUF_MODEL!$E$2:$E$1000=\"VDS\")*([1]ITS_DEV_MANUF_MODEL!$D$2:$D$1000='External_Sensor (Desc)'!$G187),0),1))","v":""},{"$f":"IF('External_Sensor (Desc)'!$G187=\"\",\"\",INDEX([1]ITS_DEV_MANUF_MODEL!$A$2:$E$1000,MATCH(1,([1]ITS_DEV_MANUF_MODEL!$E$2:$E$1000=\"VDS\")*([1]ITS_DEV_MANUF_MODEL!$D$2:$D$1000='External_Sensor (Desc)'!$G187),0),2))","v":""},{"$f":"IF('External_Sensor (Desc)'!I187=\"\",\"\",'External_Sensor (Desc)'!I187)","v":""},{"$f":"IF('External_Sensor (Desc)'!J187=\"\",\"\",'External_Sensor (Desc)'!J187)","v":""},{"$f":"IF('External_Sensor (Desc)'!K187=\"\",\"\",'External_Sensor (Desc)'!K187)","v":""},{"$f":"IF('External_Sensor (Desc)'!L187=\"\",\"\",'External_Sensor (Desc)'!L187)","v":""},{"$f":"IF('External_Sensor (Desc)'!M187=\"\",\"\",'External_Sensor (Desc)'!M187)","v":""}]
[{"$f":"IF('External_Sensor (Desc)'!A188=\"\",\"\",'External_Sensor (Desc)'!A188)","v":""},{"$f":"IF('External_Sensor (Desc)'!B188=\"\",\"\",\"1987\")","v":""},{"$f":"IF('External_Sensor (Desc)'!B188=\"\",\"\",'External_Sensor (Desc)'!B188)","v":""},{"$f":"IF('External_Sensor (Desc)'!C188=\"\",\"\",'External_Sensor (Desc)'!C188)","v":""},{"$f":"IF('External_Sensor (Desc)'!D188=\"\",\"\",'External_Sensor (Desc)'!D188)","v":""},{"$f":"IF('External_Sensor (Desc)'!E188=\"\",\"\",INDEX([1]WWVDS_USAGE!$A$2:$A$4,MATCH('External_Sensor (Desc)'!$E188,[1]!MASTER_SENSOR_USAGE_DESC[#Data],0),0))","v":""},{"$f":"IF('External_Sensor (Desc)'!F188=\"\",\"\",INDEX([1]SENSOR_TYPE!$A$2:$A$15,MATCH('External_Sensor (Desc)'!$F188,[1]!MASTER_SENSOR_TYPE_DESC[#Data],0),0))","v":""},{"$f":"IF('External_Sensor (Desc)'!$G188=\"\",\"\",INDEX([1]ITS_DEV_MANUF_MODEL!$A$2:$E$1000,MATCH(1,([1]ITS_DEV_MANUF_MODEL!$E$2:$E$1000=\"VDS\")*([1]ITS_DEV_MANUF_MODEL!$D$2:$D$1000='External_Sensor (Desc)'!$G188),0),1))","v":""},{"$f":"IF('External_Sensor (Desc)'!$G188=\"\",\"\",INDEX([1]ITS_DEV_MANUF_MODEL!$A$2:$E$1000,MATCH(1,([1]ITS_DEV_MANUF_MODEL!$E$2:$E$1000=\"VDS\")*([1]ITS_DEV_MANUF_MODEL!$D$2:$D$1000='External_Sensor (Desc)'!$G188),0),2))","v":""},{"$f":"IF('External_Sensor (Desc)'!I188=\"\",\"\",'External_Sensor (Desc)'!I188)","v":""},{"$f":"IF('External_Sensor (Desc)'!J188=\"\",\"\",'External_Sensor (Desc)'!J188)","v":""},{"$f":"IF('External_Sensor (Desc)'!K188=\"\",\"\",'External_Sensor (Desc)'!K188)","v":""},{"$f":"IF('External_Sensor (Desc)'!L188=\"\",\"\",'External_Sensor (Desc)'!L188)","v":""},{"$f":"IF('External_Sensor (Desc)'!M188=\"\",\"\",'External_Sensor (Desc)'!M188)","v":""}]
[{"$f":"IF('External_Sensor (Desc)'!A189=\"\",\"\",'External_Sensor (Desc)'!A189)","v":""},{"$f":"IF('External_Sensor (Desc)'!B189=\"\",\"\",\"1987\")","v":""},{"$f":"IF('External_Sensor (Desc)'!B189=\"\",\"\",'External_Sensor (Desc)'!B189)","v":""},{"$f":"IF('External_Sensor (Desc)'!C189=\"\",\"\",'External_Sensor (Desc)'!C189)","v":""},{"$f":"IF('External_Sensor (Desc)'!D189=\"\",\"\",'External_Sensor (Desc)'!D189)","v":""},{"$f":"IF('External_Sensor (Desc)'!E189=\"\",\"\",INDEX([1]WWVDS_USAGE!$A$2:$A$4,MATCH('External_Sensor (Desc)'!$E189,[1]!MASTER_SENSOR_USAGE_DESC[#Data],0),0))","v":""},{"$f":"IF('External_Sensor (Desc)'!F189=\"\",\"\",INDEX([1]SENSOR_TYPE!$A$2:$A$15,MATCH('External_Sensor (Desc)'!$F189,[1]!MASTER_SENSOR_TYPE_DESC[#Data],0),0))","v":""},{"$f":"IF('External_Sensor (Desc)'!$G189=\"\",\"\",INDEX([1]ITS_DEV_MANUF_MODEL!$A$2:$E$1000,MATCH(1,([1]ITS_DEV_MANUF_MODEL!$E$2:$E$1000=\"VDS\")*([1]ITS_DEV_MANUF_MODEL!$D$2:$D$1000='External_Sensor (Desc)'!$G189),0),1))","v":""},{"$f":"IF('External_Sensor (Desc)'!$G189=\"\",\"\",INDEX([1]ITS_DEV_MANUF_MODEL!$A$2:$E$1000,MATCH(1,([1]ITS_DEV_MANUF_MODEL!$E$2:$E$1000=\"VDS\")*([1]ITS_DEV_MANUF_MODEL!$D$2:$D$1000='External_Sensor (Desc)'!$G189),0),2))","v":""},{"$f":"IF('External_Sensor (Desc)'!I189=\"\",\"\",'External_Sensor (Desc)'!I189)","v":""},{"$f":"IF('External_Sensor (Desc)'!J189=\"\",\"\",'External_Sensor (Desc)'!J189)","v":""},{"$f":"IF('External_Sensor (Desc)'!K189=\"\",\"\",'External_Sensor (Desc)'!K189)","v":""},{"$f":"IF('External_Sensor (Desc)'!L189=\"\",\"\",'External_Sensor (Desc)'!L189)","v":""},{"$f":"IF('External_Sensor (Desc)'!M189=\"\",\"\",'External_Sensor (Desc)'!M189)","v":""}]
[{"$f":"IF('External_Sensor (Desc)'!A190=\"\",\"\",'External_Sensor (Desc)'!A190)","v":""},{"$f":"IF('External_Sensor (Desc)'!B190=\"\",\"\",\"1987\")","v":""},{"$f":"IF('External_Sensor (Desc)'!B190=\"\",\"\",'External_Sensor (Desc)'!B190)","v":""},{"$f":"IF('External_Sensor (Desc)'!C190=\"\",\"\",'External_Sensor (Desc)'!C190)","v":""},{"$f":"IF('External_Sensor (Desc)'!D190=\"\",\"\",'External_Sensor (Desc)'!D190)","v":""},{"$f":"IF('External_Sensor (Desc)'!E190=\"\",\"\",INDEX([1]WWVDS_USAGE!$A$2:$A$4,MATCH('External_Sensor (Desc)'!$E190,[1]!MASTER_SENSOR_USAGE_DESC[#Data],0),0))","v":""},{"$f":"IF('External_Sensor (Desc)'!F190=\"\",\"\",INDEX([1]SENSOR_TYPE!$A$2:$A$15,MATCH('External_Sensor (Desc)'!$F190,[1]!MASTER_SENSOR_TYPE_DESC[#Data],0),0))","v":""},{"$f":"IF('External_Sensor (Desc)'!$G190=\"\",\"\",INDEX([1]ITS_DEV_MANUF_MODEL!$A$2:$E$1000,MATCH(1,([1]ITS_DEV_MANUF_MODEL!$E$2:$E$1000=\"VDS\")*([1]ITS_DEV_MANUF_MODEL!$D$2:$D$1000='External_Sensor (Desc)'!$G190),0),1))","v":""},{"$f":"IF('External_Sensor (Desc)'!$G190=\"\",\"\",INDEX([1]ITS_DEV_MANUF_MODEL!$A$2:$E$1000,MATCH(1,([1]ITS_DEV_MANUF_MODEL!$E$2:$E$1000=\"VDS\")*([1]ITS_DEV_MANUF_MODEL!$D$2:$D$1000='External_Sensor (Desc)'!$G190),0),2))","v":""},{"$f":"IF('External_Sensor (Desc)'!I190=\"\",\"\",'External_Sensor (Desc)'!I190)","v":""},{"$f":"IF('External_Sensor (Desc)'!J190=\"\",\"\",'External_Sensor (Desc)'!J190)","v":""},{"$f":"IF('External_Sensor (Desc)'!K190=\"\",\"\",'External_Sensor (Desc)'!K190)","v":""},{"$f":"IF('External_Sensor (Desc)'!L190=\"\",\"\",'External_Sensor (Desc)'!L190)","v":""},{"$f":"IF('External_Sensor (Desc)'!M190=\"\",\"\",'External_Sensor (Desc)'!M190)","v":""}]
[{"$f":"IF('External_Sensor (Desc)'!A191=\"\",\"\",'External_Sensor (Desc)'!A191)","v":""},{"$f":"IF('External_Sensor (Desc)'!B191=\"\",\"\",\"1987\")","v":""},{"$f":"IF('External_Sensor (Desc)'!B191=\"\",\"\",'External_Sensor (Desc)'!B191)","v":""},{"$f":"IF('External_Sensor (Desc)'!C191=\"\",\"\",'External_Sensor (Desc)'!C191)","v":""},{"$f":"IF('External_Sensor (Desc)'!D191=\"\",\"\",'External_Sensor (Desc)'!D191)","v":""},{"$f":"IF('External_Sensor (Desc)'!E191=\"\",\"\",INDEX([1]WWVDS_USAGE!$A$2:$A$4,MATCH('External_Sensor (Desc)'!$E191,[1]!MASTER_SENSOR_USAGE_DESC[#Data],0),0))","v":""},{"$f":"IF('External_Sensor (Desc)'!F191=\"\",\"\",INDEX([1]SENSOR_TYPE!$A$2:$A$15,MATCH('External_Sensor (Desc)'!$F191,[1]!MASTER_SENSOR_TYPE_DESC[#Data],0),0))","v":""},{"$f":"IF('External_Sensor (Desc)'!$G191=\"\",\"\",INDEX([1]ITS_DEV_MANUF_MODEL!$A$2:$E$1000,MATCH(1,([1]ITS_DEV_MANUF_MODEL!$E$2:$E$1000=\"VDS\")*([1]ITS_DEV_MANUF_MODEL!$D$2:$D$1000='External_Sensor (Desc)'!$G191),0),1))","v":""},{"$f":"IF('External_Sensor (Desc)'!$G191=\"\",\"\",INDEX([1]ITS_DEV_MANUF_MODEL!$A$2:$E$1000,MATCH(1,([1]ITS_DEV_MANUF_MODEL!$E$2:$E$1000=\"VDS\")*([1]ITS_DEV_MANUF_MODEL!$D$2:$D$1000='External_Sensor (Desc)'!$G191),0),2))","v":""},{"$f":"IF('External_Sensor (Desc)'!I191=\"\",\"\",'External_Sensor (Desc)'!I191)","v":""},{"$f":"IF('External_Sensor (Desc)'!J191=\"\",\"\",'External_Sensor (Desc)'!J191)","v":""},{"$f":"IF('External_Sensor (Desc)'!K191=\"\",\"\",'External_Sensor (Desc)'!K191)","v":""},{"$f":"IF('External_Sensor (Desc)'!L191=\"\",\"\",'External_Sensor (Desc)'!L191)","v":""},{"$f":"IF('External_Sensor (Desc)'!M191=\"\",\"\",'External_Sensor (Desc)'!M191)","v":""}]
[{"$f":"IF('External_Sensor (Desc)'!A192=\"\",\"\",'External_Sensor (Desc)'!A192)","v":""},{"$f":"IF('External_Sensor (Desc)'!B192=\"\",\"\",\"1987\")","v":""},{"$f":"IF('External_Sensor (Desc)'!B192=\"\",\"\",'External_Sensor (Desc)'!B192)","v":""},{"$f":"IF('External_Sensor (Desc)'!C192=\"\",\"\",'External_Sensor (Desc)'!C192)","v":""},{"$f":"IF('External_Sensor (Desc)'!D192=\"\",\"\",'External_Sensor (Desc)'!D192)","v":""},{"$f":"IF('External_Sensor (Desc)'!E192=\"\",\"\",INDEX([1]WWVDS_USAGE!$A$2:$A$4,MATCH('External_Sensor (Desc)'!$E192,[1]!MASTER_SENSOR_USAGE_DESC[#Data],0),0))","v":""},{"$f":"IF('External_Sensor (Desc)'!F192=\"\",\"\",INDEX([1]SENSOR_TYPE!$A$2:$A$15,MATCH('External_Sensor (Desc)'!$F192,[1]!MASTER_SENSOR_TYPE_DESC[#Data],0),0))","v":""},{"$f":"IF('External_Sensor (Desc)'!$G192=\"\",\"\",INDEX([1]ITS_DEV_MANUF_MODEL!$A$2:$E$1000,MATCH(1,([1]ITS_DEV_MANUF_MODEL!$E$2:$E$1000=\"VDS\")*([1]ITS_DEV_MANUF_MODEL!$D$2:$D$1000='External_Sensor (Desc)'!$G192),0),1))","v":""},{"$f":"IF('External_Sensor (Desc)'!$G192=\"\",\"\",INDEX([1]ITS_DEV_MANUF_MODEL!$A$2:$E$1000,MATCH(1,([1]ITS_DEV_MANUF_MODEL!$E$2:$E$1000=\"VDS\")*([1]ITS_DEV_MANUF_MODEL!$D$2:$D$1000='External_Sensor (Desc)'!$G192),0),2))","v":""},{"$f":"IF('External_Sensor (Desc)'!I192=\"\",\"\",'External_Sensor (Desc)'!I192)","v":""},{"$f":"IF('External_Sensor (Desc)'!J192=\"\",\"\",'External_Sensor (Desc)'!J192)","v":""},{"$f":"IF('External_Sensor (Desc)'!K192=\"\",\"\",'External_Sensor (Desc)'!K192)","v":""},{"$f":"IF('External_Sensor (Desc)'!L192=\"\",\"\",'External_Sensor (Desc)'!L192)","v":""},{"$f":"IF('External_Sensor (Desc)'!M192=\"\",\"\",'External_Sensor (Desc)'!M192)","v":""}]
[{"$f":"IF('External_Sensor (Desc)'!A193=\"\",\"\",'External_Sensor (Desc)'!A193)","v":""},{"$f":"IF('External_Sensor (Desc)'!B193=\"\",\"\",\"1987\")","v":""},{"$f":"IF('External_Sensor (Desc)'!B193=\"\",\"\",'External_Sensor (Desc)'!B193)","v":""},{"$f":"IF('External_Sensor (Desc)'!C193=\"\",\"\",'External_Sensor (Desc)'!C193)","v":""},{"$f":"IF('External_Sensor (Desc)'!D193=\"\",\"\",'External_Sensor (Desc)'!D193)","v":""},{"$f":"IF('External_Sensor (Desc)'!E193=\"\",\"\",INDEX([1]WWVDS_USAGE!$A$2:$A$4,MATCH('External_Sensor (Desc)'!$E193,[1]!MASTER_SENSOR_USAGE_DESC[#Data],0),0))","v":""},{"$f":"IF('External_Sensor (Desc)'!F193=\"\",\"\",INDEX([1]SENSOR_TYPE!$A$2:$A$15,MATCH('External_Sensor (Desc)'!$F193,[1]!MASTER_SENSOR_TYPE_DESC[#Data],0),0))","v":""},{"$f":"IF('External_Sensor (Desc)'!$G193=\"\",\"\",INDEX([1]ITS_DEV_MANUF_MODEL!$A$2:$E$1000,MATCH(1,([1]ITS_DEV_MANUF_MODEL!$E$2:$E$1000=\"VDS\")*([1]ITS_DEV_MANUF_MODEL!$D$2:$D$1000='External_Sensor (Desc)'!$G193),0),1))","v":""},{"$f":"IF('External_Sensor (Desc)'!$G193=\"\",\"\",INDEX([1]ITS_DEV_MANUF_MODEL!$A$2:$E$1000,MATCH(1,([1]ITS_DEV_MANUF_MODEL!$E$2:$E$1000=\"VDS\")*([1]ITS_DEV_MANUF_MODEL!$D$2:$D$1000='External_Sensor (Desc)'!$G193),0),2))","v":""},{"$f":"IF('External_Sensor (Desc)'!I193=\"\",\"\",'External_Sensor (Desc)'!I193)","v":""},{"$f":"IF('External_Sensor (Desc)'!J193=\"\",\"\",'External_Sensor (Desc)'!J193)","v":""},{"$f":"IF('External_Sensor (Desc)'!K193=\"\",\"\",'External_Sensor (Desc)'!K193)","v":""},{"$f":"IF('External_Sensor (Desc)'!L193=\"\",\"\",'External_Sensor (Desc)'!L193)","v":""},{"$f":"IF('External_Sensor (Desc)'!M193=\"\",\"\",'External_Sensor (Desc)'!M193)","v":""}]
[{"$f":"IF('External_Sensor (Desc)'!A194=\"\",\"\",'External_Sensor (Desc)'!A194)","v":""},{"$f":"IF('External_Sensor (Desc)'!B194=\"\",\"\",\"1987\")","v":""},{"$f":"IF('External_Sensor (Desc)'!B194=\"\",\"\",'External_Sensor (Desc)'!B194)","v":""},{"$f":"IF('External_Sensor (Desc)'!C194=\"\",\"\",'External_Sensor (Desc)'!C194)","v":""},{"$f":"IF('External_Sensor (Desc)'!D194=\"\",\"\",'External_Sensor (Desc)'!D194)","v":""},{"$f":"IF('External_Sensor (Desc)'!E194=\"\",\"\",INDEX([1]WWVDS_USAGE!$A$2:$A$4,MATCH('External_Sensor (Desc)'!$E194,[1]!MASTER_SENSOR_USAGE_DESC[#Data],0),0))","v":""},{"$f":"IF('External_Sensor (Desc)'!F194=\"\",\"\",INDEX([1]SENSOR_TYPE!$A$2:$A$15,MATCH('External_Sensor (Desc)'!$F194,[1]!MASTER_SENSOR_TYPE_DESC[#Data],0),0))","v":""},{"$f":"IF('External_Sensor (Desc)'!$G194=\"\",\"\",INDEX([1]ITS_DEV_MANUF_MODEL!$A$2:$E$1000,MATCH(1,([1]ITS_DEV_MANUF_MODEL!$E$2:$E$1000=\"VDS\")*([1]ITS_DEV_MANUF_MODEL!$D$2:$D$1000='External_Sensor (Desc)'!$G194),0),1))","v":""},{"$f":"IF('External_Sensor (Desc)'!$G194=\"\",\"\",INDEX([1]ITS_DEV_MANUF_MODEL!$A$2:$E$1000,MATCH(1,([1]ITS_DEV_MANUF_MODEL!$E$2:$E$1000=\"VDS\")*([1]ITS_DEV_MANUF_MODEL!$D$2:$D$1000='External_Sensor (Desc)'!$G194),0),2))","v":""},{"$f":"IF('External_Sensor (Desc)'!I194=\"\",\"\",'External_Sensor (Desc)'!I194)","v":""},{"$f":"IF('External_Sensor (Desc)'!J194=\"\",\"\",'External_Sensor (Desc)'!J194)","v":""},{"$f":"IF('External_Sensor (Desc)'!K194=\"\",\"\",'External_Sensor (Desc)'!K194)","v":""},{"$f":"IF('External_Sensor (Desc)'!L194=\"\",\"\",'External_Sensor (Desc)'!L194)","v":""},{"$f":"IF('External_Sensor (Desc)'!M194=\"\",\"\",'External_Sensor (Desc)'!M194)","v":""}]
[{"$f":"IF('External_Sensor (Desc)'!A195=\"\",\"\",'External_Sensor (Desc)'!A195)","v":""},{"$f":"IF('External_Sensor (Desc)'!B195=\"\",\"\",\"1987\")","v":""},{"$f":"IF('External_Sensor (Desc)'!B195=\"\",\"\",'External_Sensor (Desc)'!B195)","v":""},{"$f":"IF('External_Sensor (Desc)'!C195=\"\",\"\",'External_Sensor (Desc)'!C195)","v":""},{"$f":"IF('External_Sensor (Desc)'!D195=\"\",\"\",'External_Sensor (Desc)'!D195)","v":""},{"$f":"IF('External_Sensor (Desc)'!E195=\"\",\"\",INDEX([1]WWVDS_USAGE!$A$2:$A$4,MATCH('External_Sensor (Desc)'!$E195,[1]!MASTER_SENSOR_USAGE_DESC[#Data],0),0))","v":""},{"$f":"IF('External_Sensor (Desc)'!F195=\"\",\"\",INDEX([1]SENSOR_TYPE!$A$2:$A$15,MATCH('External_Sensor (Desc)'!$F195,[1]!MASTER_SENSOR_TYPE_DESC[#Data],0),0))","v":""},{"$f":"IF('External_Sensor (Desc)'!$G195=\"\",\"\",INDEX([1]ITS_DEV_MANUF_MODEL!$A$2:$E$1000,MATCH(1,([1]ITS_DEV_MANUF_MODEL!$E$2:$E$1000=\"VDS\")*([1]ITS_DEV_MANUF_MODEL!$D$2:$D$1000='External_Sensor (Desc)'!$G195),0),1))","v":""},{"$f":"IF('External_Sensor (Desc)'!$G195=\"\",\"\",INDEX([1]ITS_DEV_MANUF_MODEL!$A$2:$E$1000,MATCH(1,([1]ITS_DEV_MANUF_MODEL!$E$2:$E$1000=\"VDS\")*([1]ITS_DEV_MANUF_MODEL!$D$2:$D$1000='External_Sensor (Desc)'!$G195),0),2))","v":""},{"$f":"IF('External_Sensor (Desc)'!I195=\"\",\"\",'External_Sensor (Desc)'!I195)","v":""},{"$f":"IF('External_Sensor (Desc)'!J195=\"\",\"\",'External_Sensor (Desc)'!J195)","v":""},{"$f":"IF('External_Sensor (Desc)'!K195=\"\",\"\",'External_Sensor (Desc)'!K195)","v":""},{"$f":"IF('External_Sensor (Desc)'!L195=\"\",\"\",'External_Sensor (Desc)'!L195)","v":""},{"$f":"IF('External_Sensor (Desc)'!M195=\"\",\"\",'External_Sensor (Desc)'!M195)","v":""}]
[{"$f":"IF('External_Sensor (Desc)'!A196=\"\",\"\",'External_Sensor (Desc)'!A196)","v":""},{"$f":"IF('External_Sensor (Desc)'!B196=\"\",\"\",\"1987\")","v":""},{"$f":"IF('External_Sensor (Desc)'!B196=\"\",\"\",'External_Sensor (Desc)'!B196)","v":""},{"$f":"IF('External_Sensor (Desc)'!C196=\"\",\"\",'External_Sensor (Desc)'!C196)","v":""},{"$f":"IF('External_Sensor (Desc)'!D196=\"\",\"\",'External_Sensor (Desc)'!D196)","v":""},{"$f":"IF('External_Sensor (Desc)'!E196=\"\",\"\",INDEX([1]WWVDS_USAGE!$A$2:$A$4,MATCH('External_Sensor (Desc)'!$E196,[1]!MASTER_SENSOR_USAGE_DESC[#Data],0),0))","v":""},{"$f":"IF('External_Sensor (Desc)'!F196=\"\",\"\",INDEX([1]SENSOR_TYPE!$A$2:$A$15,MATCH('External_Sensor (Desc)'!$F196,[1]!MASTER_SENSOR_TYPE_DESC[#Data],0),0))","v":""},{"$f":"IF('External_Sensor (Desc)'!$G196=\"\",\"\",INDEX([1]ITS_DEV_MANUF_MODEL!$A$2:$E$1000,MATCH(1,([1]ITS_DEV_MANUF_MODEL!$E$2:$E$1000=\"VDS\")*([1]ITS_DEV_MANUF_MODEL!$D$2:$D$1000='External_Sensor (Desc)'!$G196),0),1))","v":""},{"$f":"IF('External_Sensor (Desc)'!$G196=\"\",\"\",INDEX([1]ITS_DEV_MANUF_MODEL!$A$2:$E$1000,MATCH(1,([1]ITS_DEV_MANUF_MODEL!$E$2:$E$1000=\"VDS\")*([1]ITS_DEV_MANUF_MODEL!$D$2:$D$1000='External_Sensor (Desc)'!$G196),0),2))","v":""},{"$f":"IF('External_Sensor (Desc)'!I196=\"\",\"\",'External_Sensor (Desc)'!I196)","v":""},{"$f":"IF('External_Sensor (Desc)'!J196=\"\",\"\",'External_Sensor (Desc)'!J196)","v":""},{"$f":"IF('External_Sensor (Desc)'!K196=\"\",\"\",'External_Sensor (Desc)'!K196)","v":""},{"$f":"IF('External_Sensor (Desc)'!L196=\"\",\"\",'External_Sensor (Desc)'!L196)","v":""},{"$f":"IF('External_Sensor (Desc)'!M196=\"\",\"\",'External_Sensor (Desc)'!M196)","v":""}]
[{"$f":"IF('External_Sensor (Desc)'!A197=\"\",\"\",'External_Sensor (Desc)'!A197)","v":""},{"$f":"IF('External_Sensor (Desc)'!B197=\"\",\"\",\"1987\")","v":""},{"$f":"IF('External_Sensor (Desc)'!B197=\"\",\"\",'External_Sensor (Desc)'!B197)","v":""},{"$f":"IF('External_Sensor (Desc)'!C197=\"\",\"\",'External_Sensor (Desc)'!C197)","v":""},{"$f":"IF('External_Sensor (Desc)'!D197=\"\",\"\",'External_Sensor (Desc)'!D197)","v":""},{"$f":"IF('External_Sensor (Desc)'!E197=\"\",\"\",INDEX([1]WWVDS_USAGE!$A$2:$A$4,MATCH('External_Sensor (Desc)'!$E197,[1]!MASTER_SENSOR_USAGE_DESC[#Data],0),0))","v":""},{"$f":"IF('External_Sensor (Desc)'!F197=\"\",\"\",INDEX([1]SENSOR_TYPE!$A$2:$A$15,MATCH('External_Sensor (Desc)'!$F197,[1]!MASTER_SENSOR_TYPE_DESC[#Data],0),0))","v":""},{"$f":"IF('External_Sensor (Desc)'!$G197=\"\",\"\",INDEX([1]ITS_DEV_MANUF_MODEL!$A$2:$E$1000,MATCH(1,([1]ITS_DEV_MANUF_MODEL!$E$2:$E$1000=\"VDS\")*([1]ITS_DEV_MANUF_MODEL!$D$2:$D$1000='External_Sensor (Desc)'!$G197),0),1))","v":""},{"$f":"IF('External_Sensor (Desc)'!$G197=\"\",\"\",INDEX([1]ITS_DEV_MANUF_MODEL!$A$2:$E$1000,MATCH(1,([1]ITS_DEV_MANUF_MODEL!$E$2:$E$1000=\"VDS\")*([1]ITS_DEV_MANUF_MODEL!$D$2:$D$1000='External_Sensor (Desc)'!$G197),0),2))","v":""},{"$f":"IF('External_Sensor (Desc)'!I197=\"\",\"\",'External_Sensor (Desc)'!I197)","v":""},{"$f":"IF('External_Sensor (Desc)'!J197=\"\",\"\",'External_Sensor (Desc)'!J197)","v":""},{"$f":"IF('External_Sensor (Desc)'!K197=\"\",\"\",'External_Sensor (Desc)'!K197)","v":""},{"$f":"IF('External_Sensor (Desc)'!L197=\"\",\"\",'External_Sensor (Desc)'!L197)","v":""},{"$f":"IF('External_Sensor (Desc)'!M197=\"\",\"\",'External_Sensor (Desc)'!M197)","v":""}]
[{"$f":"IF('External_Sensor (Desc)'!A198=\"\",\"\",'External_Sensor (Desc)'!A198)","v":""},{"$f":"IF('External_Sensor (Desc)'!B198=\"\",\"\",\"1987\")","v":""},{"$f":"IF('External_Sensor (Desc)'!B198=\"\",\"\",'External_Sensor (Desc)'!B198)","v":""},{"$f":"IF('External_Sensor (Desc)'!C198=\"\",\"\",'External_Sensor (Desc)'!C198)","v":""},{"$f":"IF('External_Sensor (Desc)'!D198=\"\",\"\",'External_Sensor (Desc)'!D198)","v":""},{"$f":"IF('External_Sensor (Desc)'!E198=\"\",\"\",INDEX([1]WWVDS_USAGE!$A$2:$A$4,MATCH('External_Sensor (Desc)'!$E198,[1]!MASTER_SENSOR_USAGE_DESC[#Data],0),0))","v":""},{"$f":"IF('External_Sensor (Desc)'!F198=\"\",\"\",INDEX([1]SENSOR_TYPE!$A$2:$A$15,MATCH('External_Sensor (Desc)'!$F198,[1]!MASTER_SENSOR_TYPE_DESC[#Data],0),0))","v":""},{"$f":"IF('External_Sensor (Desc)'!$G198=\"\",\"\",INDEX([1]ITS_DEV_MANUF_MODEL!$A$2:$E$1000,MATCH(1,([1]ITS_DEV_MANUF_MODEL!$E$2:$E$1000=\"VDS\")*([1]ITS_DEV_MANUF_MODEL!$D$2:$D$1000='External_Sensor (Desc)'!$G198),0),1))","v":""},{"$f":"IF('External_Sensor (Desc)'!$G198=\"\",\"\",INDEX([1]ITS_DEV_MANUF_MODEL!$A$2:$E$1000,MATCH(1,([1]ITS_DEV_MANUF_MODEL!$E$2:$E$1000=\"VDS\")*([1]ITS_DEV_MANUF_MODEL!$D$2:$D$1000='External_Sensor (Desc)'!$G198),0),2))","v":""},{"$f":"IF('External_Sensor (Desc)'!I198=\"\",\"\",'External_Sensor (Desc)'!I198)","v":""},{"$f":"IF('External_Sensor (Desc)'!J198=\"\",\"\",'External_Sensor (Desc)'!J198)","v":""},{"$f":"IF('External_Sensor (Desc)'!K198=\"\",\"\",'External_Sensor (Desc)'!K198)","v":""},{"$f":"IF('External_Sensor (Desc)'!L198=\"\",\"\",'External_Sensor (Desc)'!L198)","v":""},{"$f":"IF('External_Sensor (Desc)'!M198=\"\",\"\",'External_Sensor (Desc)'!M198)","v":""}]
[{"$f":"IF('External_Sensor (Desc)'!A199=\"\",\"\",'External_Sensor (Desc)'!A199)","v":""},{"$f":"IF('External_Sensor (Desc)'!B199=\"\",\"\",\"1987\")","v":""},{"$f":"IF('External_Sensor (Desc)'!B199=\"\",\"\",'External_Sensor (Desc)'!B199)","v":""},{"$f":"IF('External_Sensor (Desc)'!C199=\"\",\"\",'External_Sensor (Desc)'!C199)","v":""},{"$f":"IF('External_Sensor (Desc)'!D199=\"\",\"\",'External_Sensor (Desc)'!D199)","v":""},{"$f":"IF('External_Sensor (Desc)'!E199=\"\",\"\",INDEX([1]WWVDS_USAGE!$A$2:$A$4,MATCH('External_Sensor (Desc)'!$E199,[1]!MASTER_SENSOR_USAGE_DESC[#Data],0),0))","v":""},{"$f":"IF('External_Sensor (Desc)'!F199=\"\",\"\",INDEX([1]SENSOR_TYPE!$A$2:$A$15,MATCH('External_Sensor (Desc)'!$F199,[1]!MASTER_SENSOR_TYPE_DESC[#Data],0),0))","v":""},{"$f":"IF('External_Sensor (Desc)'!$G199=\"\",\"\",INDEX([1]ITS_DEV_MANUF_MODEL!$A$2:$E$1000,MATCH(1,([1]ITS_DEV_MANUF_MODEL!$E$2:$E$1000=\"VDS\")*([1]ITS_DEV_MANUF_MODEL!$D$2:$D$1000='External_Sensor (Desc)'!$G199),0),1))","v":""},{"$f":"IF('External_Sensor (Desc)'!$G199=\"\",\"\",INDEX([1]ITS_DEV_MANUF_MODEL!$A$2:$E$1000,MATCH(1,([1]ITS_DEV_MANUF_MODEL!$E$2:$E$1000=\"VDS\")*([1]ITS_DEV_MANUF_MODEL!$D$2:$D$1000='External_Sensor (Desc)'!$G199),0),2))","v":""},{"$f":"IF('External_Sensor (Desc)'!I199=\"\",\"\",'External_Sensor (Desc)'!I199)","v":""},{"$f":"IF('External_Sensor (Desc)'!J199=\"\",\"\",'External_Sensor (Desc)'!J199)","v":""},{"$f":"IF('External_Sensor (Desc)'!K199=\"\",\"\",'External_Sensor (Desc)'!K199)","v":""},{"$f":"IF('External_Sensor (Desc)'!L199=\"\",\"\",'External_Sensor (Desc)'!L199)","v":""},{"$f":"IF('External_Sensor (Desc)'!M199=\"\",\"\",'External_Sensor (Desc)'!M199)","v":""}]
[{"$f":"IF('External_Sensor (Desc)'!A200=\"\",\"\",'External_Sensor (Desc)'!A200)","v":""},{"$f":"IF('External_Sensor (Desc)'!B200=\"\",\"\",\"1987\")","v":""},{"$f":"IF('External_Sensor (Desc)'!B200=\"\",\"\",'External_Sensor (Desc)'!B200)","v":""},{"$f":"IF('External_Sensor (Desc)'!C200=\"\",\"\",'External_Sensor (Desc)'!C200)","v":""},{"$f":"IF('External_Sensor (Desc)'!D200=\"\",\"\",'External_Sensor (Desc)'!D200)","v":""},{"$f":"IF('External_Sensor (Desc)'!E200=\"\",\"\",INDEX([1]WWVDS_USAGE!$A$2:$A$4,MATCH('External_Sensor (Desc)'!$E200,[1]!MASTER_SENSOR_USAGE_DESC[#Data],0),0))","v":""},{"$f":"IF('External_Sensor (Desc)'!F200=\"\",\"\",INDEX([1]SENSOR_TYPE!$A$2:$A$15,MATCH('External_Sensor (Desc)'!$F200,[1]!MASTER_SENSOR_TYPE_DESC[#Data],0),0))","v":""},{"$f":"IF('External_Sensor (Desc)'!$G200=\"\",\"\",INDEX([1]ITS_DEV_MANUF_MODEL!$A$2:$E$1000,MATCH(1,([1]ITS_DEV_MANUF_MODEL!$E$2:$E$1000=\"VDS\")*([1]ITS_DEV_MANUF_MODEL!$D$2:$D$1000='External_Sensor (Desc)'!$G200),0),1))","v":""},{"$f":"IF('External_Sensor (Desc)'!$G200=\"\",\"\",INDEX([1]ITS_DEV_MANUF_MODEL!$A$2:$E$1000,MATCH(1,([1]ITS_DEV_MANUF_MODEL!$E$2:$E$1000=\"VDS\")*([1]ITS_DEV_MANUF_MODEL!$D$2:$D$1000='External_Sensor (Desc)'!$G200),0),2))","v":""},{"$f":"IF('External_Sensor (Desc)'!I200=\"\",\"\",'External_Sensor (Desc)'!I200)","v":""},{"$f":"IF('External_Sensor (Desc)'!J200=\"\",\"\",'External_Sensor (Desc)'!J200)","v":""},{"$f":"IF('External_Sensor (Desc)'!K200=\"\",\"\",'External_Sensor (Desc)'!K200)","v":""},{"$f":"IF('External_Sensor (Desc)'!L200=\"\",\"\",'External_Sensor (Desc)'!L200)","v":""},{"$f":"IF('External_Sensor (Desc)'!M200=\"\",\"\",'External_Sensor (Desc)'!M200)","v":""}]
[{"$f":"IF('External_Sensor (Desc)'!A201=\"\",\"\",'External_Sensor (Desc)'!A201)","v":""},{"$f":"IF('External_Sensor (Desc)'!B201=\"\",\"\",\"1987\")","v":""},{"$f":"IF('External_Sensor (Desc)'!B201=\"\",\"\",'External_Sensor (Desc)'!B201)","v":""},{"$f":"IF('External_Sensor (Desc)'!C201=\"\",\"\",'External_Sensor (Desc)'!C201)","v":""},{"$f":"IF('External_Sensor (Desc)'!D201=\"\",\"\",'External_Sensor (Desc)'!D201)","v":""},{"$f":"IF('External_Sensor (Desc)'!E201=\"\",\"\",INDEX([1]WWVDS_USAGE!$A$2:$A$4,MATCH('External_Sensor (Desc)'!$E201,[1]!MASTER_SENSOR_USAGE_DESC[#Data],0),0))","v":""},{"$f":"IF('External_Sensor (Desc)'!F201=\"\",\"\",INDEX([1]SENSOR_TYPE!$A$2:$A$15,MATCH('External_Sensor (Desc)'!$F201,[1]!MASTER_SENSOR_TYPE_DESC[#Data],0),0))","v":""},{"$f":"IF('External_Sensor (Desc)'!$G201=\"\",\"\",INDEX([1]ITS_DEV_MANUF_MODEL!$A$2:$E$1000,MATCH(1,([1]ITS_DEV_MANUF_MODEL!$E$2:$E$1000=\"VDS\")*([1]ITS_DEV_MANUF_MODEL!$D$2:$D$1000='External_Sensor (Desc)'!$G201),0),1))","v":""},{"$f":"IF('External_Sensor (Desc)'!$G201=\"\",\"\",INDEX([1]ITS_DEV_MANUF_MODEL!$A$2:$E$1000,MATCH(1,([1]ITS_DEV_MANUF_MODEL!$E$2:$E$1000=\"VDS\")*([1]ITS_DEV_MANUF_MODEL!$D$2:$D$1000='External_Sensor (Desc)'!$G201),0),2))","v":""},{"$f":"IF('External_Sensor (Desc)'!I201=\"\",\"\",'External_Sensor (Desc)'!I201)","v":""},{"$f":"IF('External_Sensor (Desc)'!J201=\"\",\"\",'External_Sensor (Desc)'!J201)","v":""},{"$f":"IF('External_Sensor (Desc)'!K201=\"\",\"\",'External_Sensor (Desc)'!K201)","v":""},{"$f":"IF('External_Sensor (Desc)'!L201=\"\",\"\",'External_Sensor (Desc)'!L201)","v":""},{"$f":"IF('External_Sensor (Desc)'!M201=\"\",\"\",'External_Sensor (Desc)'!M201)","v":""}]
[{"$f":"IF('External_Sensor (Desc)'!A202=\"\",\"\",'External_Sensor (Desc)'!A202)","v":""},{"$f":"IF('External_Sensor (Desc)'!B202=\"\",\"\",\"1987\")","v":""},{"$f":"IF('External_Sensor (Desc)'!B202=\"\",\"\",'External_Sensor (Desc)'!B202)","v":""},{"$f":"IF('External_Sensor (Desc)'!C202=\"\",\"\",'External_Sensor (Desc)'!C202)","v":""},{"$f":"IF('External_Sensor (Desc)'!D202=\"\",\"\",'External_Sensor (Desc)'!D202)","v":""},{"$f":"IF('External_Sensor (Desc)'!E202=\"\",\"\",INDEX([1]WWVDS_USAGE!$A$2:$A$4,MATCH('External_Sensor (Desc)'!$E202,[1]!MASTER_SENSOR_USAGE_DESC[#Data],0),0))","v":""},{"$f":"IF('External_Sensor (Desc)'!F202=\"\",\"\",INDEX([1]SENSOR_TYPE!$A$2:$A$15,MATCH('External_Sensor (Desc)'!$F202,[1]!MASTER_SENSOR_TYPE_DESC[#Data],0),0))","v":""},{"$f":"IF('External_Sensor (Desc)'!$G202=\"\",\"\",INDEX([1]ITS_DEV_MANUF_MODEL!$A$2:$E$1000,MATCH(1,([1]ITS_DEV_MANUF_MODEL!$G$2:$G$1000=\"\")*([1]ITS_DEV_MANUF_MODEL!$D$2:$D$1000='External_Sensor (Desc)'!$G202),0),1))","v":""},{"$f":"IF('External_Sensor (Desc)'!$G202=\"\",\"\",INDEX([1]ITS_DEV_MANUF_MODEL!$A$2:$E$1000,MATCH(1,([1]ITS_DEV_MANUF_MODEL!$G$2:$G$1000=\"\")*([1]ITS_DEV_MANUF_MODEL!$D$2:$D$1000='External_Sensor (Desc)'!$G202),0),2))","v":""},{"$f":"IF('External_Sensor (Desc)'!I202=\"\",\"\",'External_Sensor (Desc)'!I202)","v":""},{"$f":"IF('External_Sensor (Desc)'!J202=\"\",\"\",'External_Sensor (Desc)'!J202)","v":""},{"$f":"IF('External_Sensor (Desc)'!K202=\"\",\"\",'External_Sensor (Desc)'!K202)","v":""},{"$f":"IF('External_Sensor (Desc)'!L202=\"\",\"\",'External_Sensor (Desc)'!L202)","v":""},{"$f":"IF('External_Sensor (Desc)'!M202=\"\",\"\",'External_Sensor (Desc)'!M202)","v":""}]

{"sheet":"Beacon (Desc)","index":5,"n_rows":202,"n_cols":10,"rows_kept":202,"cut":false,"hidden":false,"merged":[]}
["Device Id\nfor update ","WWVDS Name","WWVDS Id ","Installation Date\n(YYYY-MM-DD)","Beacon Type","Beacon Model              Required","Beacon Manufacturer \nRequired","Beacon Color","Beacon Size","Comments"]
["EQUIP_ID","This Field is for Reference Only\nDO NOT IMPORT","EQUIP_LOC_ID\n","INSTALLED_DATE","BEACON_TYPE_CD","BEACON_MODEL_CD","BEACON_MANUF_CD","BEACON_COLOR_CD ","BEACON_SIZE_CD ","COMMENTS"]
[null,null,null,null,null,null,{"$f":"IF(F3=\"\",\"\",IF(F3=\"Unknown\",\"Unknown\",(INDEX([1]BEACON_MANUF_MODEL!$A$2:$D$1500,MATCH(1,([1]BEACON_MANUF_MODEL!$G$2:$G$1500=\"\")*([1]BEACON_MANUF_MODEL!$D$2:$D$1500=$F3),0),3))))","v":""}]
[null,null,null,null,null,null,{"$f":"IF(F4=\"\",\"\",IF(F4=\"Unknown\",\"Unknown\",(INDEX([1]BEACON_MANUF_MODEL!$A$2:$D$1500,MATCH(1,([1]BEACON_MANUF_MODEL!$G$2:$G$1500=\"\")*([1]BEACON_MANUF_MODEL!$D$2:$D$1500=$F4),0),3))))","v":""}]
[null,null,null,null,null,null,{"$f":"IF(F5=\"\",\"\",IF(F5=\"Unknown\",\"Unknown\",(INDEX([1]BEACON_MANUF_MODEL!$A$2:$D$1500,MATCH(1,([1]BEACON_MANUF_MODEL!$G$2:$G$1500=\"\")*([1]BEACON_MANUF_MODEL!$D$2:$D$1500=$F5),0),3))))","v":""}]
[null,null,null,null,null,null,{"$f":"IF(F6=\"\",\"\",IF(F6=\"Unknown\",\"Unknown\",(INDEX([1]BEACON_MANUF_MODEL!$A$2:$D$1500,MATCH(1,([1]BEACON_MANUF_MODEL!$G$2:$G$1500=\"\")*([1]BEACON_MANUF_MODEL!$D$2:$D$1500=$F6),0),3))))","v":""}]
[null,null,null,null,null,null,{"$f":"IF(F7=\"\",\"\",IF(F7=\"Unknown\",\"Unknown\",(INDEX([1]BEACON_MANUF_MODEL!$A$2:$D$1500,MATCH(1,([1]BEACON_MANUF_MODEL!$G$2:$G$1500=\"\")*([1]BEACON_MANUF_MODEL!$D$2:$D$1500=$F7),0),3))))","v":""}]
[null,null,null,null,null,null,{"$f":"IF(F8=\"\",\"\",IF(F8=\"Unknown\",\"Unknown\",(INDEX([1]BEACON_MANUF_MODEL!$A$2:$D$1500,MATCH(1,([1]BEACON_MANUF_MODEL!$G$2:$G$1500=\"\")*([1]BEACON_MANUF_MODEL!$D$2:$D$1500=$F8),0),3))))","v":""}]
[null,null,null,null,null,null,{"$f":"IF(F9=\"\",\"\",IF(F9=\"Unknown\",\"Unknown\",(INDEX([1]BEACON_MANUF_MODEL!$A$2:$D$1500,MATCH(1,([1]BEACON_MANUF_MODEL!$G$2:$G$1500=\"\")*([1]BEACON_MANUF_MODEL!$D$2:$D$1500=$F9),0),3))))","v":""}]
[null,null,null,null,null,null,{"$f":"IF(F10=\"\",\"\",IF(F10=\"Unknown\",\"Unknown\",(INDEX([1]BEACON_MANUF_MODEL!$A$2:$D$1500,MATCH(1,([1]BEACON_MANUF_MODEL!$G$2:$G$1500=\"\")*([1]BEACON_MANUF_MODEL!$D$2:$D$1500=$F10),0),3))))","v":""}]
[null,null,null,null,null,null,{"$f":"IF(F11=\"\",\"\",IF(F11=\"Unknown\",\"Unknown\",(INDEX([1]BEACON_MANUF_MODEL!$A$2:$D$1500,MATCH(1,([1]BEACON_MANUF_MODEL!$G$2:$G$1500=\"\")*([1]BEACON_MANUF_MODEL!$D$2:$D$1500=$F11),0),3))))","v":""}]
[null,null,null,null,null,null,{"$f":"IF(F12=\"\",\"\",IF(F12=\"Unknown\",\"Unknown\",(INDEX([1]BEACON_MANUF_MODEL!$A$2:$D$1500,MATCH(1,([1]BEACON_MANUF_MODEL!$G$2:$G$1500=\"\")*([1]BEACON_MANUF_MODEL!$D$2:$D$1500=$F12),0),3))))","v":""}]
[null,null,null,null,null,null,{"$f":"IF(F13=\"\",\"\",IF(F13=\"Unknown\",\"Unknown\",(INDEX([1]BEACON_MANUF_MODEL!$A$2:$D$1500,MATCH(1,([1]BEACON_MANUF_MODEL!$G$2:$G$1500=\"\")*([1]BEACON_MANUF_MODEL!$D$2:$D$1500=$F13),0),3))))","v":""}]
[null,null,null,null,null,null,{"$f":"IF(F14=\"\",\"\",IF(F14=\"Unknown\",\"Unknown\",(INDEX([1]BEACON_MANUF_MODEL!$A$2:$D$1500,MATCH(1,([1]BEACON_MANUF_MODEL!$G$2:$G$1500=\"\")*([1]BEACON_MANUF_MODEL!$D$2:$D$1500=$F14),0),3))))","v":""}]
[null,null,null,null,null,null,{"$f":"IF(F15=\"\",\"\",IF(F15=\"Unknown\",\"Unknown\",(INDEX([1]BEACON_MANUF_MODEL!$A$2:$D$1500,MATCH(1,([1]BEACON_MANUF_MODEL!$G$2:$G$1500=\"\")*([1]BEACON_MANUF_MODEL!$D$2:$D$1500=$F15),0),3))))","v":""}]
[null,null,null,null,null,null,{"$f":"IF(F16=\"\",\"\",IF(F16=\"Unknown\",\"Unknown\",(INDEX([1]BEACON_MANUF_MODEL!$A$2:$D$1500,MATCH(1,([1]BEACON_MANUF_MODEL!$G$2:$G$1500=\"\")*([1]BEACON_MANUF_MODEL!$D$2:$D$1500=$F16),0),3))))","v":""}]
[null,null,null,null,null,null,{"$f":"IF(F17=\"\",\"\",IF(F17=\"Unknown\",\"Unknown\",(INDEX([1]BEACON_MANUF_MODEL!$A$2:$D$1500,MATCH(1,([1]BEACON_MANUF_MODEL!$G$2:$G$1500=\"\")*([1]BEACON_MANUF_MODEL!$D$2:$D$1500=$F17),0),3))))","v":""}]
[null,null,null,null,null,null,{"$f":"IF(F18=\"\",\"\",IF(F18=\"Unknown\",\"Unknown\",(INDEX([1]BEACON_MANUF_MODEL!$A$2:$D$1500,MATCH(1,([1]BEACON_MANUF_MODEL!$G$2:$G$1500=\"\")*([1]BEACON_MANUF_MODEL!$D$2:$D$1500=$F18),0),3))))","v":""}]
[null,null,null,null,null,null,{"$f":"IF(F19=\"\",\"\",IF(F19=\"Unknown\",\"Unknown\",(INDEX([1]BEACON_MANUF_MODEL!$A$2:$D$1500,MATCH(1,([1]BEACON_MANUF_MODEL!$G$2:$G$1500=\"\")*([1]BEACON_MANUF_MODEL!$D$2:$D$1500=$F19),0),3))))","v":""}]
[null,null,null,null,null,null,{"$f":"IF(F20=\"\",\"\",IF(F20=\"Unknown\",\"Unknown\",(INDEX([1]BEACON_MANUF_MODEL!$A$2:$D$1500,MATCH(1,([1]BEACON_MANUF_MODEL!$G$2:$G$1500=\"\")*([1]BEACON_MANUF_MODEL!$D$2:$D$1500=$F20),0),3))))","v":""}]
[null,null,null,null,null,null,{"$f":"IF(F21=\"\",\"\",IF(F21=\"Unknown\",\"Unknown\",(INDEX([1]BEACON_MANUF_MODEL!$A$2:$D$1500,MATCH(1,([1]BEACON_MANUF_MODEL!$G$2:$G$1500=\"\")*([1]BEACON_MANUF_MODEL!$D$2:$D$1500=$F21),0),3))))","v":""}]
[null,null,null,null,null,null,{"$f":"IF(F22=\"\",\"\",IF(F22=\"Unknown\",\"Unknown\",(INDEX([1]BEACON_MANUF_MODEL!$A$2:$D$1500,MATCH(1,([1]BEACON_MANUF_MODEL!$G$2:$G$1500=\"\")*([1]BEACON_MANUF_MODEL!$D$2:$D$1500=$F22),0),3))))","v":""}]
[null,null,null,null,null,null,{"$f":"IF(F23=\"\",\"\",IF(F23=\"Unknown\",\"Unknown\",(INDEX([1]BEACON_MANUF_MODEL!$A$2:$D$1500,MATCH(1,([1]BEACON_MANUF_MODEL!$G$2:$G$1500=\"\")*([1]BEACON_MANUF_MODEL!$D$2:$D$1500=$F23),0),3))))","v":""}]
[null,null,null,null,null,null,{"$f":"IF(F24=\"\",\"\",IF(F24=\"Unknown\",\"Unknown\",(INDEX([1]BEACON_MANUF_MODEL!$A$2:$D$1500,MATCH(1,([1]BEACON_MANUF_MODEL!$G$2:$G$1500=\"\")*([1]BEACON_MANUF_MODEL!$D$2:$D$1500=$F24),0),3))))","v":""}]
[null,null,null,null,null,null,{"$f":"IF(F25=\"\",\"\",IF(F25=\"Unknown\",\"Unknown\",(INDEX([1]BEACON_MANUF_MODEL!$A$2:$D$1500,MATCH(1,([1]BEACON_MANUF_MODEL!$G$2:$G$1500=\"\")*([1]BEACON_MANUF_MODEL!$D$2:$D$1500=$F25),0),3))))","v":""}]
[null,null,null,null,null,null,{"$f":"IF(F26=\"\",\"\",IF(F26=\"Unknown\",\"Unknown\",(INDEX([1]BEACON_MANUF_MODEL!$A$2:$D$1500,MATCH(1,([1]BEACON_MANUF_MODEL!$G$2:$G$1500=\"\")*([1]BEACON_MANUF_MODEL!$D$2:$D$1500=$F26),0),3))))","v":""}]
[null,null,null,null,null,null,{"$f":"IF(F27=\"\",\"\",IF(F27=\"Unknown\",\"Unknown\",(INDEX([1]BEACON_MANUF_MODEL!$A$2:$D$1500,MATCH(1,([1]BEACON_MANUF_MODEL!$G$2:$G$1500=\"\")*([1]BEACON_MANUF_MODEL!$D$2:$D$1500=$F27),0),3))))","v":""}]
[null,null,null,null,null,null,{"$f":"IF(F28=\"\",\"\",IF(F28=\"Unknown\",\"Unknown\",(INDEX([1]BEACON_MANUF_MODEL!$A$2:$D$1500,MATCH(1,([1]BEACON_MANUF_MODEL!$G$2:$G$1500=\"\")*([1]BEACON_MANUF_MODEL!$D$2:$D$1500=$F28),0),3))))","v":""}]
[null,null,null,null,null,null,{"$f":"IF(F29=\"\",\"\",IF(F29=\"Unknown\",\"Unknown\",(INDEX([1]BEACON_MANUF_MODEL!$A$2:$D$1500,MATCH(1,([1]BEACON_MANUF_MODEL!$G$2:$G$1500=\"\")*([1]BEACON_MANUF_MODEL!$D$2:$D$1500=$F29),0),3))))","v":""}]
[null,null,null,null,null,null,{"$f":"IF(F30=\"\",\"\",IF(F30=\"Unknown\",\"Unknown\",(INDEX([1]BEACON_MANUF_MODEL!$A$2:$D$1500,MATCH(1,([1]BEACON_MANUF_MODEL!$G$2:$G$1500=\"\")*([1]BEACON_MANUF_MODEL!$D$2:$D$1500=$F30),0),3))))","v":""}]
[null,null,null,null,null,null,{"$f":"IF(F31=\"\",\"\",IF(F31=\"Unknown\",\"Unknown\",(INDEX([1]BEACON_MANUF_MODEL!$A$2:$D$1500,MATCH(1,([1]BEACON_MANUF_MODEL!$G$2:$G$1500=\"\")*([1]BEACON_MANUF_MODEL!$D$2:$D$1500=$F31),0),3))))","v":""}]
[null,null,null,null,null,null,{"$f":"IF(F32=\"\",\"\",IF(F32=\"Unknown\",\"Unknown\",(INDEX([1]BEACON_MANUF_MODEL!$A$2:$D$1500,MATCH(1,([1]BEACON_MANUF_MODEL!$G$2:$G$1500=\"\")*([1]BEACON_MANUF_MODEL!$D$2:$D$1500=$F32),0),3))))","v":""}]
[null,null,null,null,null,null,{"$f":"IF(F33=\"\",\"\",IF(F33=\"Unknown\",\"Unknown\",(INDEX([1]BEACON_MANUF_MODEL!$A$2:$D$1500,MATCH(1,([1]BEACON_MANUF_MODEL!$G$2:$G$1500=\"\")*([1]BEACON_MANUF_MODEL!$D$2:$D$1500=$F33),0),3))))","v":""}]
[null,null,null,null,null,null,{"$f":"IF(F34=\"\",\"\",IF(F34=\"Unknown\",\"Unknown\",(INDEX([1]BEACON_MANUF_MODEL!$A$2:$D$1500,MATCH(1,([1]BEACON_MANUF_MODEL!$G$2:$G$1500=\"\")*([1]BEACON_MANUF_MODEL!$D$2:$D$1500=$F34),0),3))))","v":""}]
[null,null,null,null,null,null,{"$f":"IF(F35=\"\",\"\",IF(F35=\"Unknown\",\"Unknown\",(INDEX([1]BEACON_MANUF_MODEL!$A$2:$D$1500,MATCH(1,([1]BEACON_MANUF_MODEL!$G$2:$G$1500=\"\")*([1]BEACON_MANUF_MODEL!$D$2:$D$1500=$F35),0),3))))","v":""}]
[null,null,null,null,null,null,{"$f":"IF(F36=\"\",\"\",IF(F36=\"Unknown\",\"Unknown\",(INDEX([1]BEACON_MANUF_MODEL!$A$2:$D$1500,MATCH(1,([1]BEACON_MANUF_MODEL!$G$2:$G$1500=\"\")*([1]BEACON_MANUF_MODEL!$D$2:$D$1500=$F36),0),3))))","v":""}]
[null,null,null,null,null,null,{"$f":"IF(F37=\"\",\"\",IF(F37=\"Unknown\",\"Unknown\",(INDEX([1]BEACON_MANUF_MODEL!$A$2:$D$1500,MATCH(1,([1]BEACON_MANUF_MODEL!$G$2:$G$1500=\"\")*([1]BEACON_MANUF_MODEL!$D$2:$D$1500=$F37),0),3))))","v":""}]
[null,null,null,null,null,null,{"$f":"IF(F38=\"\",\"\",IF(F38=\"Unknown\",\"Unknown\",(INDEX([1]BEACON_MANUF_MODEL!$A$2:$D$1500,MATCH(1,([1]BEACON_MANUF_MODEL!$G$2:$G$1500=\"\")*([1]BEACON_MANUF_MODEL!$D$2:$D$1500=$F38),0),3))))","v":""}]
[null,null,null,null,null,null,{"$f":"IF(F39=\"\",\"\",IF(F39=\"Unknown\",\"Unknown\",(INDEX([1]BEACON_MANUF_MODEL!$A$2:$D$1500,MATCH(1,([1]BEACON_MANUF_MODEL!$G$2:$G$1500=\"\")*([1]BEACON_MANUF_MODEL!$D$2:$D$1500=$F39),0),3))))","v":""}]
[null,null,null,null,null,null,{"$f":"IF(F40=\"\",\"\",IF(F40=\"Unknown\",\"Unknown\",(INDEX([1]BEACON_MANUF_MODEL!$A$2:$D$1500,MATCH(1,([1]BEACON_MANUF_MODEL!$G$2:$G$1500=\"\")*([1]BEACON_MANUF_MODEL!$D$2:$D$1500=$F40),0),3))))","v":""}]
[null,null,null,null,null,null,{"$f":"IF(F41=\"\",\"\",IF(F41=\"Unknown\",\"Unknown\",(INDEX([1]BEACON_MANUF_MODEL!$A$2:$D$1500,MATCH(1,([1]BEACON_MANUF_MODEL!$G$2:$G$1500=\"\")*([1]BEACON_MANUF_MODEL!$D$2:$D$1500=$F41),0),3))))","v":""}]
[null,null,null,null,null,null,{"$f":"IF(F42=\"\",\"\",IF(F42=\"Unknown\",\"Unknown\",(INDEX([1]BEACON_MANUF_MODEL!$A$2:$D$1500,MATCH(1,([1]BEACON_MANUF_MODEL!$G$2:$G$1500=\"\")*([1]BEACON_MANUF_MODEL!$D$2:$D$1500=$F42),0),3))))","v":""}]
[null,null,null,null,null,null,{"$f":"IF(F43=\"\",\"\",IF(F43=\"Unknown\",\"Unknown\",(INDEX([1]BEACON_MANUF_MODEL!$A$2:$D$1500,MATCH(1,([1]BEACON_MANUF_MODEL!$G$2:$G$1500=\"\")*([1]BEACON_MANUF_MODEL!$D$2:$D$1500=$F43),0),3))))","v":""}]
[null,null,null,null,null,null,{"$f":"IF(F44=\"\",\"\",IF(F44=\"Unknown\",\"Unknown\",(INDEX([1]BEACON_MANUF_MODEL!$A$2:$D$1500,MATCH(1,([1]BEACON_MANUF_MODEL!$G$2:$G$1500=\"\")*([1]BEACON_MANUF_MODEL!$D$2:$D$1500=$F44),0),3))))","v":""}]
[null,null,null,null,null,null,{"$f":"IF(F45=\"\",\"\",IF(F45=\"Unknown\",\"Unknown\",(INDEX([1]BEACON_MANUF_MODEL!$A$2:$D$1500,MATCH(1,([1]BEACON_MANUF_MODEL!$G$2:$G$1500=\"\")*([1]BEACON_MANUF_MODEL!$D$2:$D$1500=$F45),0),3))))","v":""}]
[null,null,null,null,null,null,{"$f":"IF(F46=\"\",\"\",IF(F46=\"Unknown\",\"Unknown\",(INDEX([1]BEACON_MANUF_MODEL!$A$2:$D$1500,MATCH(1,([1]BEACON_MANUF_MODEL!$G$2:$G$1500=\"\")*([1]BEACON_MANUF_MODEL!$D$2:$D$1500=$F46),0),3))))","v":""}]
[null,null,null,null,null,null,{"$f":"IF(F47=\"\",\"\",IF(F47=\"Unknown\",\"Unknown\",(INDEX([1]BEACON_MANUF_MODEL!$A$2:$D$1500,MATCH(1,([1]BEACON_MANUF_MODEL!$G$2:$G$1500=\"\")*([1]BEACON_MANUF_MODEL!$D$2:$D$1500=$F47),0),3))))","v":""}]
[null,null,null,null,null,null,{"$f":"IF(F48=\"\",\"\",IF(F48=\"Unknown\",\"Unknown\",(INDEX([1]BEACON_MANUF_MODEL!$A$2:$D$1500,MATCH(1,([1]BEACON_MANUF_MODEL!$G$2:$G$1500=\"\")*([1]BEACON_MANUF_MODEL!$D$2:$D$1500=$F48),0),3))))","v":""}]
[null,null,null,null,null,null,{"$f":"IF(F49=\"\",\"\",IF(F49=\"Unknown\",\"Unknown\",(INDEX([1]BEACON_MANUF_MODEL!$A$2:$D$1500,MATCH(1,([1]BEACON_MANUF_MODEL!$G$2:$G$1500=\"\")*([1]BEACON_MANUF_MODEL!$D$2:$D$1500=$F49),0),3))))","v":""}]
[null,null,null,null,null,null,{"$f":"IF(F50=\"\",\"\",IF(F50=\"Unknown\",\"Unknown\",(INDEX([1]BEACON_MANUF_MODEL!$A$2:$D$1500,MATCH(1,([1]BEACON_MANUF_MODEL!$G$2:$G$1500=\"\")*([1]BEACON_MANUF_MODEL!$D$2:$D$1500=$F50),0),3))))","v":""}]
[null,null,null,null,null,null,{"$f":"IF(F51=\"\",\"\",IF(F51=\"Unknown\",\"Unknown\",(INDEX([1]BEACON_MANUF_MODEL!$A$2:$D$1500,MATCH(1,([1]BEACON_MANUF_MODEL!$G$2:$G$1500=\"\")*([1]BEACON_MANUF_MODEL!$D$2:$D$1500=$F51),0),3))))","v":""}]
[null,null,null,null,null,null,{"$f":"IF(F52=\"\",\"\",IF(F52=\"Unknown\",\"Unknown\",(INDEX([1]BEACON_MANUF_MODEL!$A$2:$D$1500,MATCH(1,([1]BEACON_MANUF_MODEL!$G$2:$G$1500=\"\")*([1]BEACON_MANUF_MODEL!$D$2:$D$1500=$F52),0),3))))","v":""}]
[null,null,null,null,null,null,{"$f":"IF(F53=\"\",\"\",IF(F53=\"Unknown\",\"Unknown\",(INDEX([1]BEACON_MANUF_MODEL!$A$2:$D$1500,MATCH(1,([1]BEACON_MANUF_MODEL!$G$2:$G$1500=\"\")*([1]BEACON_MANUF_MODEL!$D$2:$D$1500=$F53),0),3))))","v":""}]
[null,null,null,null,null,null,{"$f":"IF(F54=\"\",\"\",IF(F54=\"Unknown\",\"Unknown\",(INDEX([1]BEACON_MANUF_MODEL!$A$2:$D$1500,MATCH(1,([1]BEACON_MANUF_MODEL!$G$2:$G$1500=\"\")*([1]BEACON_MANUF_MODEL!$D$2:$D$1500=$F54),0),3))))","v":""}]
[null,null,null,null,null,null,{"$f":"IF(F55=\"\",\"\",IF(F55=\"Unknown\",\"Unknown\",(INDEX([1]BEACON_MANUF_MODEL!$A$2:$D$1500,MATCH(1,([1]BEACON_MANUF_MODEL!$G$2:$G$1500=\"\")*([1]BEACON_MANUF_MODEL!$D$2:$D$1500=$F55),0),3))))","v":""}]
[null,null,null,null,null,null,{"$f":"IF(F56=\"\",\"\",IF(F56=\"Unknown\",\"Unknown\",(INDEX([1]BEACON_MANUF_MODEL!$A$2:$D$1500,MATCH(1,([1]BEACON_MANUF_MODEL!$G$2:$G$1500=\"\")*([1]BEACON_MANUF_MODEL!$D$2:$D$1500=$F56),0),3))))","v":""}]
[null,null,null,null,null,null,{"$f":"IF(F57=\"\",\"\",IF(F57=\"Unknown\",\"Unknown\",(INDEX([1]BEACON_MANUF_MODEL!$A$2:$D$1500,MATCH(1,([1]BEACON_MANUF_MODEL!$G$2:$G$1500=\"\")*([1]BEACON_MANUF_MODEL!$D$2:$D$1500=$F57),0),3))))","v":""}]
[null,null,null,null,null,null,{"$f":"IF(F58=\"\",\"\",IF(F58=\"Unknown\",\"Unknown\",(INDEX([1]BEACON_MANUF_MODEL!$A$2:$D$1500,MATCH(1,([1]BEACON_MANUF_MODEL!$G$2:$G$1500=\"\")*([1]BEACON_MANUF_MODEL!$D$2:$D$1500=$F58),0),3))))","v":""}]
[null,null,null,null,null,null,{"$f":"IF(F59=\"\",\"\",IF(F59=\"Unknown\",\"Unknown\",(INDEX([1]BEACON_MANUF_MODEL!$A$2:$D$1500,MATCH(1,([1]BEACON_MANUF_MODEL!$G$2:$G$1500=\"\")*([1]BEACON_MANUF_MODEL!$D$2:$D$1500=$F59),0),3))))","v":""}]
[null,null,null,null,null,null,{"$f":"IF(F60=\"\",\"\",IF(F60=\"Unknown\",\"Unknown\",(INDEX([1]BEACON_MANUF_MODEL!$A$2:$D$1500,MATCH(1,([1]BEACON_MANUF_MODEL!$G$2:$G$1500=\"\")*([1]BEACON_MANUF_MODEL!$D$2:$D$1500=$F60),0),3))))","v":""}]
[null,null,null,null,null,null,{"$f":"IF(F61=\"\",\"\",IF(F61=\"Unknown\",\"Unknown\",(INDEX([1]BEACON_MANUF_MODEL!$A$2:$D$1500,MATCH(1,([1]BEACON_MANUF_MODEL!$G$2:$G$1500=\"\")*([1]BEACON_MANUF_MODEL!$D$2:$D$1500=$F61),0),3))))","v":""}]
[null,null,null,null,null,null,{"$f":"IF(F62=\"\",\"\",IF(F62=\"Unknown\",\"Unknown\",(INDEX([1]BEACON_MANUF_MODEL!$A$2:$D$1500,MATCH(1,([1]BEACON_MANUF_MODEL!$G$2:$G$1500=\"\")*([1]BEACON_MANUF_MODEL!$D$2:$D$1500=$F62),0),3))))","v":""}]
[null,null,null,null,null,null,{"$f":"IF(F63=\"\",\"\",IF(F63=\"Unknown\",\"Unknown\",(INDEX([1]BEACON_MANUF_MODEL!$A$2:$D$1500,MATCH(1,([1]BEACON_MANUF_MODEL!$G$2:$G$1500=\"\")*([1]BEACON_MANUF_MODEL!$D$2:$D$1500=$F63),0),3))))","v":""}]
[null,null,null,null,null,null,{"$f":"IF(F64=\"\",\"\",IF(F64=\"Unknown\",\"Unknown\",(INDEX([1]BEACON_MANUF_MODEL!$A$2:$D$1500,MATCH(1,([1]BEACON_MANUF_MODEL!$G$2:$G$1500=\"\")*([1]BEACON_MANUF_MODEL!$D$2:$D$1500=$F64),0),3))))","v":""}]
[null,null,null,null,null,null,{"$f":"IF(F65=\"\",\"\",IF(F65=\"Unknown\",\"Unknown\",(INDEX([1]BEACON_MANUF_MODEL!$A$2:$D$1500,MATCH(1,([1]BEACON_MANUF_MODEL!$G$2:$G$1500=\"\")*([1]BEACON_MANUF_MODEL!$D$2:$D$1500=$F65),0),3))))","v":""}]
[null,null,null,null,null,null,{"$f":"IF(F66=\"\",\"\",IF(F66=\"Unknown\",\"Unknown\",(INDEX([1]BEACON_MANUF_MODEL!$A$2:$D$1500,MATCH(1,([1]BEACON_MANUF_MODEL!$G$2:$G$1500=\"\")*([1]BEACON_MANUF_MODEL!$D$2:$D$1500=$F66),0),3))))","v":""}]
[null,null,null,null,null,null,{"$f":"IF(F67=\"\",\"\",IF(F67=\"Unknown\",\"Unknown\",(INDEX([1]BEACON_MANUF_MODEL!$A$2:$D$1500,MATCH(1,([1]BEACON_MANUF_MODEL!$G$2:$G$1500=\"\")*([1]BEACON_MANUF_MODEL!$D$2:$D$1500=$F67),0),3))))","v":""}]
[null,null,null,null,null,null,{"$f":"IF(F68=\"\",\"\",IF(F68=\"Unknown\",\"Unknown\",(INDEX([1]BEACON_MANUF_MODEL!$A$2:$D$1500,MATCH(1,([1]BEACON_MANUF_MODEL!$G$2:$G$1500=\"\")*([1]BEACON_MANUF_MODEL!$D$2:$D$1500=$F68),0),3))))","v":""}]
[null,null,null,null,null,null,{"$f":"IF(F69=\"\",\"\",IF(F69=\"Unknown\",\"Unknown\",(INDEX([1]BEACON_MANUF_MODEL!$A$2:$D$1500,MATCH(1,([1]BEACON_MANUF_MODEL!$G$2:$G$1500=\"\")*([1]BEACON_MANUF_MODEL!$D$2:$D$1500=$F69),0),3))))","v":""}]
[null,null,null,null,null,null,{"$f":"IF(F70=\"\",\"\",IF(F70=\"Unknown\",\"Unknown\",(INDEX([1]BEACON_MANUF_MODEL!$A$2:$D$1500,MATCH(1,([1]BEACON_MANUF_MODEL!$G$2:$G$1500=\"\")*([1]BEACON_MANUF_MODEL!$D$2:$D$1500=$F70),0),3))))","v":""}]
[null,null,null,null,null,null,{"$f":"IF(F71=\"\",\"\",IF(F71=\"Unknown\",\"Unknown\",(INDEX([1]BEACON_MANUF_MODEL!$A$2:$D$1500,MATCH(1,([1]BEACON_MANUF_MODEL!$G$2:$G$1500=\"\")*([1]BEACON_MANUF_MODEL!$D$2:$D$1500=$F71),0),3))))","v":""}]
[null,null,null,null,null,null,{"$f":"IF(F72=\"\",\"\",IF(F72=\"Unknown\",\"Unknown\",(INDEX([1]BEACON_MANUF_MODEL!$A$2:$D$1500,MATCH(1,([1]BEACON_MANUF_MODEL!$G$2:$G$1500=\"\")*([1]BEACON_MANUF_MODEL!$D$2:$D$1500=$F72),0),3))))","v":""}]
[null,null,null,null,null,null,{"$f":"IF(F73=\"\",\"\",IF(F73=\"Unknown\",\"Unknown\",(INDEX([1]BEACON_MANUF_MODEL!$A$2:$D$1500,MATCH(1,([1]BEACON_MANUF_MODEL!$G$2:$G$1500=\"\")*([1]BEACON_MANUF_MODEL!$D$2:$D$1500=$F73),0),3))))","v":""}]
[null,null,null,null,null,null,{"$f":"IF(F74=\"\",\"\",IF(F74=\"Unknown\",\"Unknown\",(INDEX([1]BEACON_MANUF_MODEL!$A$2:$D$1500,MATCH(1,([1]BEACON_MANUF_MODEL!$G$2:$G$1500=\"\")*([1]BEACON_MANUF_MODEL!$D$2:$D$1500=$F74),0),3))))","v":""}]
[null,null,null,null,null,null,{"$f":"IF(F75=\"\",\"\",IF(F75=\"Unknown\",\"Unknown\",(INDEX([1]BEACON_MANUF_MODEL!$A$2:$D$1500,MATCH(1,([1]BEACON_MANUF_MODEL!$G$2:$G$1500=\"\")*([1]BEACON_MANUF_MODEL!$D$2:$D$1500=$F75),0),3))))","v":""}]
[null,null,null,null,null,null,{"$f":"IF(F76=\"\",\"\",IF(F76=\"Unknown\",\"Unknown\",(INDEX([1]BEACON_MANUF_MODEL!$A$2:$D$1500,MATCH(1,([1]BEACON_MANUF_MODEL!$G$2:$G$1500=\"\")*([1]BEACON_MANUF_MODEL!$D$2:$D$1500=$F76),0),3))))","v":""}]
[null,null,null,null,null,null,{"$f":"IF(F77=\"\",\"\",IF(F77=\"Unknown\",\"Unknown\",(INDEX([1]BEACON_MANUF_MODEL!$A$2:$D$1500,MATCH(1,([1]BEACON_MANUF_MODEL!$G$2:$G$1500=\"\")*([1]BEACON_MANUF_MODEL!$D$2:$D$1500=$F77),0),3))))","v":""}]
[null,null,null,null,null,null,{"$f":"IF(F78=\"\",\"\",IF(F78=\"Unknown\",\"Unknown\",(INDEX([1]BEACON_MANUF_MODEL!$A$2:$D$1500,MATCH(1,([1]BEACON_MANUF_MODEL!$G$2:$G$1500=\"\")*([1]BEACON_MANUF_MODEL!$D$2:$D$1500=$F78),0),3))))","v":""}]
[null,null,null,null,null,null,{"$f":"IF(F79=\"\",\"\",IF(F79=\"Unknown\",\"Unknown\",(INDEX([1]BEACON_MANUF_MODEL!$A$2:$D$1500,MATCH(1,([1]BEACON_MANUF_MODEL!$G$2:$G$1500=\"\")*([1]BEACON_MANUF_MODEL!$D$2:$D$1500=$F79),0),3))))","v":""}]
[null,null,null,null,null,null,{"$f":"IF(F80=\"\",\"\",IF(F80=\"Unknown\",\"Unknown\",(INDEX([1]BEACON_MANUF_MODEL!$A$2:$D$1500,MATCH(1,([1]BEACON_MANUF_MODEL!$G$2:$G$1500=\"\")*([1]BEACON_MANUF_MODEL!$D$2:$D$1500=$F80),0),3))))","v":""}]
[null,null,null,null,null,null,{"$f":"IF(F81=\"\",\"\",IF(F81=\"Unknown\",\"Unknown\",(INDEX([1]BEACON_MANUF_MODEL!$A$2:$D$1500,MATCH(1,([1]BEACON_MANUF_MODEL!$G$2:$G$1500=\"\")*([1]BEACON_MANUF_MODEL!$D$2:$D$1500=$F81),0),3))))","v":""}]
[null,null,null,null,null,null,{"$f":"IF(F82=\"\",\"\",IF(F82=\"Unknown\",\"Unknown\",(INDEX([1]BEACON_MANUF_MODEL!$A$2:$D$1500,MATCH(1,([1]BEACON_MANUF_MODEL!$G$2:$G$1500=\"\")*([1]BEACON_MANUF_MODEL!$D$2:$D$1500=$F82),0),3))))","v":""}]
[null,null,null,null,null,null,{"$f":"IF(F83=\"\",\"\",IF(F83=\"Unknown\",\"Unknown\",(INDEX([1]BEACON_MANUF_MODEL!$A$2:$D$1500,MATCH(1,([1]BEACON_MANUF_MODEL!$G$2:$G$1500=\"\")*([1]BEACON_MANUF_MODEL!$D$2:$D$1500=$F83),0),3))))","v":""}]
[null,null,null,null,null,null,{"$f":"IF(F84=\"\",\"\",IF(F84=\"Unknown\",\"Unknown\",(INDEX([1]BEACON_MANUF_MODEL!$A$2:$D$1500,MATCH(1,([1]BEACON_MANUF_MODEL!$G$2:$G$1500=\"\")*([1]BEACON_MANUF_MODEL!$D$2:$D$1500=$F84),0),3))))","v":""}]
[null,null,null,null,null,null,{"$f":"IF(F85=\"\",\"\",IF(F85=\"Unknown\",\"Unknown\",(INDEX([1]BEACON_MANUF_MODEL!$A$2:$D$1500,MATCH(1,([1]BEACON_MANUF_MODEL!$G$2:$G$1500=\"\")*([1]BEACON_MANUF_MODEL!$D$2:$D$1500=$F85),0),3))))","v":""}]
[null,null,null,null,null,null,{"$f":"IF(F86=\"\",\"\",IF(F86=\"Unknown\",\"Unknown\",(INDEX([1]BEACON_MANUF_MODEL!$A$2:$D$1500,MATCH(1,([1]BEACON_MANUF_MODEL!$G$2:$G$1500=\"\")*([1]BEACON_MANUF_MODEL!$D$2:$D$1500=$F86),0),3))))","v":""}]
[null,null,null,null,null,null,{"$f":"IF(F87=\"\",\"\",IF(F87=\"Unknown\",\"Unknown\",(INDEX([1]BEACON_MANUF_MODEL!$A$2:$D$1500,MATCH(1,([1]BEACON_MANUF_MODEL!$G$2:$G$1500=\"\")*([1]BEACON_MANUF_MODEL!$D$2:$D$1500=$F87),0),3))))","v":""}]
[null,null,null,null,null,null,{"$f":"IF(F88=\"\",\"\",IF(F88=\"Unknown\",\"Unknown\",(INDEX([1]BEACON_MANUF_MODEL!$A$2:$D$1500,MATCH(1,([1]BEACON_MANUF_MODEL!$G$2:$G$1500=\"\")*([1]BEACON_MANUF_MODEL!$D$2:$D$1500=$F88),0),3))))","v":""}]
[null,null,null,null,null,null,{"$f":"IF(F89=\"\",\"\",IF(F89=\"Unknown\",\"Unknown\",(INDEX([1]BEACON_MANUF_MODEL!$A$2:$D$1500,MATCH(1,([1]BEACON_MANUF_MODEL!$G$2:$G$1500=\"\")*([1]BEACON_MANUF_MODEL!$D$2:$D$1500=$F89),0),3))))","v":""}]
[null,null,null,null,null,null,{"$f":"IF(F90=\"\",\"\",IF(F90=\"Unknown\",\"Unknown\",(INDEX([1]BEACON_MANUF_MODEL!$A$2:$D$1500,MATCH(1,([1]BEACON_MANUF_MODEL!$G$2:$G$1500=\"\")*([1]BEACON_MANUF_MODEL!$D$2:$D$1500=$F90),0),3))))","v":""}]
[null,null,null,null,null,null,{"$f":"IF(F91=\"\",\"\",IF(F91=\"Unknown\",\"Unknown\",(INDEX([1]BEACON_MANUF_MODEL!$A$2:$D$1500,MATCH(1,([1]BEACON_MANUF_MODEL!$G$2:$G$1500=\"\")*([1]BEACON_MANUF_MODEL!$D$2:$D$1500=$F91),0),3))))","v":""}]
[null,null,null,null,null,null,{"$f":"IF(F92=\"\",\"\",IF(F92=\"Unknown\",\"Unknown\",(INDEX([1]BEACON_MANUF_MODEL!$A$2:$D$1500,MATCH(1,([1]BEACON_MANUF_MODEL!$G$2:$G$1500=\"\")*([1]BEACON_MANUF_MODEL!$D$2:$D$1500=$F92),0),3))))","v":""}]
[null,null,null,null,null,null,{"$f":"IF(F93=\"\",\"\",IF(F93=\"Unknown\",\"Unknown\",(INDEX([1]BEACON_MANUF_MODEL!$A$2:$D$1500,MATCH(1,([1]BEACON_MANUF_MODEL!$G$2:$G$1500=\"\")*([1]BEACON_MANUF_MODEL!$D$2:$D$1500=$F93),0),3))))","v":""}]
[null,null,null,null,null,null,{"$f":"IF(F94=\"\",\"\",IF(F94=\"Unknown\",\"Unknown\",(INDEX([1]BEACON_MANUF_MODEL!$A$2:$D$1500,MATCH(1,([1]BEACON_MANUF_MODEL!$G$2:$G$1500=\"\")*([1]BEACON_MANUF_MODEL!$D$2:$D$1500=$F94),0),3))))","v":""}]
[null,null,null,null,null,null,{"$f":"IF(F95=\"\",\"\",IF(F95=\"Unknown\",\"Unknown\",(INDEX([1]BEACON_MANUF_MODEL!$A$2:$D$1500,MATCH(1,([1]BEACON_MANUF_MODEL!$G$2:$G$1500=\"\")*([1]BEACON_MANUF_MODEL!$D$2:$D$1500=$F95),0),3))))","v":""}]
[null,null,null,null,null,null,{"$f":"IF(F96=\"\",\"\",IF(F96=\"Unknown\",\"Unknown\",(INDEX([1]BEACON_MANUF_MODEL!$A$2:$D$1500,MATCH(1,([1]BEACON_MANUF_MODEL!$G$2:$G$1500=\"\")*([1]BEACON_MANUF_MODEL!$D$2:$D$1500=$F96),0),3))))","v":""}]
[null,null,null,null,null,null,{"$f":"IF(F97=\"\",\"\",IF(F97=\"Unknown\",\"Unknown\",(INDEX([1]BEACON_MANUF_MODEL!$A$2:$D$1500,MATCH(1,([1]BEACON_MANUF_MODEL!$G$2:$G$1500=\"\")*([1]BEACON_MANUF_MODEL!$D$2:$D$1500=$F97),0),3))))","v":""}]
[null,null,null,null,null,null,{"$f":"IF(F98=\"\",\"\",IF(F98=\"Unknown\",\"Unknown\",(INDEX([1]BEACON_MANUF_MODEL!$A$2:$D$1500,MATCH(1,([1]BEACON_MANUF_MODEL!$G$2:$G$1500=\"\")*([1]BEACON_MANUF_MODEL!$D$2:$D$1500=$F98),0),3))))","v":""}]
[null,null,null,null,null,null,{"$f":"IF(F99=\"\",\"\",IF(F99=\"Unknown\",\"Unknown\",(INDEX([1]BEACON_MANUF_MODEL!$A$2:$D$1500,MATCH(1,([1]BEACON_MANUF_MODEL!$G$2:$G$1500=\"\")*([1]BEACON_MANUF_MODEL!$D$2:$D$1500=$F99),0),3))))","v":""}]
[null,null,null,null,null,null,{"$f":"IF(F100=\"\",\"\",IF(F100=\"Unknown\",\"Unknown\",(INDEX([1]BEACON_MANUF_MODEL!$A$2:$D$1500,MATCH(1,([1]BEACON_MANUF_MODEL!$G$2:$G$1500=\"\")*([1]BEACON_MANUF_MODEL!$D$2:$D$1500=$F100),0),3))))","v":""}]
[null,null,null,null,null,null,{"$f":"IF(F101=\"\",\"\",IF(F101=\"Unknown\",\"Unknown\",(INDEX([1]BEACON_MANUF_MODEL!$A$2:$D$1500,MATCH(1,([1]BEACON_MANUF_MODEL!$G$2:$G$1500=\"\")*([1]BEACON_MANUF_MODEL!$D$2:$D$1500=$F101),0),3))))","v":""}]
[null,null,null,null,null,null,{"$f":"IF(F102=\"\",\"\",IF(F102=\"Unknown\",\"Unknown\",(INDEX([1]BEACON_MANUF_MODEL!$A$2:$D$1500,MATCH(1,([1]BEACON_MANUF_MODEL!$G$2:$G$1500=\"\")*([1]BEACON_MANUF_MODEL!$D$2:$D$1500=$F102),0),3))))","v":""}]
[null,null,null,null,null,null,{"$f":"IF(F103=\"\",\"\",IF(F103=\"Unknown\",\"Unknown\",(INDEX([1]BEACON_MANUF_MODEL!$A$2:$D$1500,MATCH(1,([1]BEACON_MANUF_MODEL!$G$2:$G$1500=\"\")*([1]BEACON_MANUF_MODEL!$D$2:$D$1500=$F103),0),3))))","v":""}]
[null,null,null,null,null,null,{"$f":"IF(F104=\"\",\"\",IF(F104=\"Unknown\",\"Unknown\",(INDEX([1]BEACON_MANUF_MODEL!$A$2:$D$1500,MATCH(1,([1]BEACON_MANUF_MODEL!$G$2:$G$1500=\"\")*([1]BEACON_MANUF_MODEL!$D$2:$D$1500=$F104),0),3))))","v":""}]
[null,null,null,null,null,null,{"$f":"IF(F105=\"\",\"\",IF(F105=\"Unknown\",\"Unknown\",(INDEX([1]BEACON_MANUF_MODEL!$A$2:$D$1500,MATCH(1,([1]BEACON_MANUF_MODEL!$G$2:$G$1500=\"\")*([1]BEACON_MANUF_MODEL!$D$2:$D$1500=$F105),0),3))))","v":""}]
[null,null,null,null,null,null,{"$f":"IF(F106=\"\",\"\",IF(F106=\"Unknown\",\"Unknown\",(INDEX([1]BEACON_MANUF_MODEL!$A$2:$D$1500,MATCH(1,([1]BEACON_MANUF_MODEL!$G$2:$G$1500=\"\")*([1]BEACON_MANUF_MODEL!$D$2:$D$1500=$F106),0),3))))","v":""}]
[null,null,null,null,null,null,{"$f":"IF(F107=\"\",\"\",IF(F107=\"Unknown\",\"Unknown\",(INDEX([1]BEACON_MANUF_MODEL!$A$2:$D$1500,MATCH(1,([1]BEACON_MANUF_MODEL!$G$2:$G$1500=\"\")*([1]BEACON_MANUF_MODEL!$D$2:$D$1500=$F107),0),3))))","v":""}]
[null,null,null,null,null,null,{"$f":"IF(F108=\"\",\"\",IF(F108=\"Unknown\",\"Unknown\",(INDEX([1]BEACON_MANUF_MODEL!$A$2:$D$1500,MATCH(1,([1]BEACON_MANUF_MODEL!$G$2:$G$1500=\"\")*([1]BEACON_MANUF_MODEL!$D$2:$D$1500=$F108),0),3))))","v":""}]
[null,null,null,null,null,null,{"$f":"IF(F109=\"\",\"\",IF(F109=\"Unknown\",\"Unknown\",(INDEX([1]BEACON_MANUF_MODEL!$A$2:$D$1500,MATCH(1,([1]BEACON_MANUF_MODEL!$G$2:$G$1500=\"\")*([1]BEACON_MANUF_MODEL!$D$2:$D$1500=$F109),0),3))))","v":""}]
[null,null,null,null,null,null,{"$f":"IF(F110=\"\",\"\",IF(F110=\"Unknown\",\"Unknown\",(INDEX([1]BEACON_MANUF_MODEL!$A$2:$D$1500,MATCH(1,([1]BEACON_MANUF_MODEL!$G$2:$G$1500=\"\")*([1]BEACON_MANUF_MODEL!$D$2:$D$1500=$F110),0),3))))","v":""}]
[null,null,null,null,null,null,{"$f":"IF(F111=\"\",\"\",IF(F111=\"Unknown\",\"Unknown\",(INDEX([1]BEACON_MANUF_MODEL!$A$2:$D$1500,MATCH(1,([1]BEACON_MANUF_MODEL!$G$2:$G$1500=\"\")*([1]BEACON_MANUF_MODEL!$D$2:$D$1500=$F111),0),3))))","v":""}]
[null,null,null,null,null,null,{"$f":"IF(F112=\"\",\"\",IF(F112=\"Unknown\",\"Unknown\",(INDEX([1]BEACON_MANUF_MODEL!$A$2:$D$1500,MATCH(1,([1]BEACON_MANUF_MODEL!$G$2:$G$1500=\"\")*([1]BEACON_MANUF_MODEL!$D$2:$D$1500=$F112),0),3))))","v":""}]
[null,null,null,null,null,null,{"$f":"IF(F113=\"\",\"\",IF(F113=\"Unknown\",\"Unknown\",(INDEX([1]BEACON_MANUF_MODEL!$A$2:$D$1500,MATCH(1,([1]BEACON_MANUF_MODEL!$G$2:$G$1500=\"\")*([1]BEACON_MANUF_MODEL!$D$2:$D$1500=$F113),0),3))))","v":""}]
[null,null,null,null,null,null,{"$f":"IF(F114=\"\",\"\",IF(F114=\"Unknown\",\"Unknown\",(INDEX([1]BEACON_MANUF_MODEL!$A$2:$D$1500,MATCH(1,([1]BEACON_MANUF_MODEL!$G$2:$G$1500=\"\")*([1]BEACON_MANUF_MODEL!$D$2:$D$1500=$F114),0),3))))","v":""}]
[null,null,null,null,null,null,{"$f":"IF(F115=\"\",\"\",IF(F115=\"Unknown\",\"Unknown\",(INDEX([1]BEACON_MANUF_MODEL!$A$2:$D$1500,MATCH(1,([1]BEACON_MANUF_MODEL!$G$2:$G$1500=\"\")*([1]BEACON_MANUF_MODEL!$D$2:$D$1500=$F115),0),3))))","v":""}]
[null,null,null,null,null,null,{"$f":"IF(F116=\"\",\"\",IF(F116=\"Unknown\",\"Unknown\",(INDEX([1]BEACON_MANUF_MODEL!$A$2:$D$1500,MATCH(1,([1]BEACON_MANUF_MODEL!$G$2:$G$1500=\"\")*([1]BEACON_MANUF_MODEL!$D$2:$D$1500=$F116),0),3))))","v":""}]
[null,null,null,null,null,null,{"$f":"IF(F117=\"\",\"\",IF(F117=\"Unknown\",\"Unknown\",(INDEX([1]BEACON_MANUF_MODEL!$A$2:$D$1500,MATCH(1,([1]BEACON_MANUF_MODEL!$G$2:$G$1500=\"\")*([1]BEACON_MANUF_MODEL!$D$2:$D$1500=$F117),0),3))))","v":""}]
[null,null,null,null,null,null,{"$f":"IF(F118=\"\",\"\",IF(F118=\"Unknown\",\"Unknown\",(INDEX([1]BEACON_MANUF_MODEL!$A$2:$D$1500,MATCH(1,([1]BEACON_MANUF_MODEL!$G$2:$G$1500=\"\")*([1]BEACON_MANUF_MODEL!$D$2:$D$1500=$F118),0),3))))","v":""}]
[null,null,null,null,null,null,{"$f":"IF(F119=\"\",\"\",IF(F119=\"Unknown\",\"Unknown\",(INDEX([1]BEACON_MANUF_MODEL!$A$2:$D$1500,MATCH(1,([1]BEACON_MANUF_MODEL!$G$2:$G$1500=\"\")*([1]BEACON_MANUF_MODEL!$D$2:$D$1500=$F119),0),3))))","v":""}]
[null,null,null,null,null,null,{"$f":"IF(F120=\"\",\"\",IF(F120=\"Unknown\",\"Unknown\",(INDEX([1]BEACON_MANUF_MODEL!$A$2:$D$1500,MATCH(1,([1]BEACON_MANUF_MODEL!$G$2:$G$1500=\"\")*([1]BEACON_MANUF_MODEL!$D$2:$D$1500=$F120),0),3))))","v":""}]
[null,null,null,null,null,null,{"$f":"IF(F121=\"\",\"\",IF(F121=\"Unknown\",\"Unknown\",(INDEX([1]BEACON_MANUF_MODEL!$A$2:$D$1500,MATCH(1,([1]BEACON_MANUF_MODEL!$G$2:$G$1500=\"\")*([1]BEACON_MANUF_MODEL!$D$2:$D$1500=$F121),0),3))))","v":""}]
[null,null,null,null,null,null,{"$f":"IF(F122=\"\",\"\",IF(F122=\"Unknown\",\"Unknown\",(INDEX([1]BEACON_MANUF_MODEL!$A$2:$D$1500,MATCH(1,([1]BEACON_MANUF_MODEL!$G$2:$G$1500=\"\")*([1]BEACON_MANUF_MODEL!$D$2:$D$1500=$F122),0),3))))","v":""}]
[null,null,null,null,null,null,{"$f":"IF(F123=\"\",\"\",IF(F123=\"Unknown\",\"Unknown\",(INDEX([1]BEACON_MANUF_MODEL!$A$2:$D$1500,MATCH(1,([1]BEACON_MANUF_MODEL!$G$2:$G$1500=\"\")*([1]BEACON_MANUF_MODEL!$D$2:$D$1500=$F123),0),3))))","v":""}]
[null,null,null,null,null,null,{"$f":"IF(F124=\"\",\"\",IF(F124=\"Unknown\",\"Unknown\",(INDEX([1]BEACON_MANUF_MODEL!$A$2:$D$1500,MATCH(1,([1]BEACON_MANUF_MODEL!$G$2:$G$1500=\"\")*([1]BEACON_MANUF_MODEL!$D$2:$D$1500=$F124),0),3))))","v":""}]
[null,null,null,null,null,null,{"$f":"IF(F125=\"\",\"\",IF(F125=\"Unknown\",\"Unknown\",(INDEX([1]BEACON_MANUF_MODEL!$A$2:$D$1500,MATCH(1,([1]BEACON_MANUF_MODEL!$G$2:$G$1500=\"\")*([1]BEACON_MANUF_MODEL!$D$2:$D$1500=$F125),0),3))))","v":""}]
[null,null,null,null,null,null,{"$f":"IF(F126=\"\",\"\",IF(F126=\"Unknown\",\"Unknown\",(INDEX([1]BEACON_MANUF_MODEL!$A$2:$D$1500,MATCH(1,([1]BEACON_MANUF_MODEL!$G$2:$G$1500=\"\")*([1]BEACON_MANUF_MODEL!$D$2:$D$1500=$F126),0),3))))","v":""}]
[null,null,null,null,null,null,{"$f":"IF(F127=\"\",\"\",IF(F127=\"Unknown\",\"Unknown\",(INDEX([1]BEACON_MANUF_MODEL!$A$2:$D$1500,MATCH(1,([1]BEACON_MANUF_MODEL!$G$2:$G$1500=\"\")*([1]BEACON_MANUF_MODEL!$D$2:$D$1500=$F127),0),3))))","v":""}]
[null,null,null,null,null,null,{"$f":"IF(F128=\"\",\"\",IF(F128=\"Unknown\",\"Unknown\",(INDEX([1]BEACON_MANUF_MODEL!$A$2:$D$1500,MATCH(1,([1]BEACON_MANUF_MODEL!$G$2:$G$1500=\"\")*([1]BEACON_MANUF_MODEL!$D$2:$D$1500=$F128),0),3))))","v":""}]
[null,null,null,null,null,null,{"$f":"IF(F129=\"\",\"\",IF(F129=\"Unknown\",\"Unknown\",(INDEX([1]BEACON_MANUF_MODEL!$A$2:$D$1500,MATCH(1,([1]BEACON_MANUF_MODEL!$G$2:$G$1500=\"\")*([1]BEACON_MANUF_MODEL!$D$2:$D$1500=$F129),0),3))))","v":""}]
[null,null,null,null,null,null,{"$f":"IF(F130=\"\",\"\",IF(F130=\"Unknown\",\"Unknown\",(INDEX([1]BEACON_MANUF_MODEL!$A$2:$D$1500,MATCH(1,([1]BEACON_MANUF_MODEL!$G$2:$G$1500=\"\")*([1]BEACON_MANUF_MODEL!$D$2:$D$1500=$F130),0),3))))","v":""}]
[null,null,null,null,null,null,{"$f":"IF(F131=\"\",\"\",IF(F131=\"Unknown\",\"Unknown\",(INDEX([1]BEACON_MANUF_MODEL!$A$2:$D$1500,MATCH(1,([1]BEACON_MANUF_MODEL!$G$2:$G$1500=\"\")*([1]BEACON_MANUF_MODEL!$D$2:$D$1500=$F131),0),3))))","v":""}]
[null,null,null,null,null,null,{"$f":"IF(F132=\"\",\"\",IF(F132=\"Unknown\",\"Unknown\",(INDEX([1]BEACON_MANUF_MODEL!$A$2:$D$1500,MATCH(1,([1]BEACON_MANUF_MODEL!$G$2:$G$1500=\"\")*([1]BEACON_MANUF_MODEL!$D$2:$D$1500=$F132),0),3))))","v":""}]
[null,null,null,null,null,null,{"$f":"IF(F133=\"\",\"\",IF(F133=\"Unknown\",\"Unknown\",(INDEX([1]BEACON_MANUF_MODEL!$A$2:$D$1500,MATCH(1,([1]BEACON_MANUF_MODEL!$G$2:$G$1500=\"\")*([1]BEACON_MANUF_MODEL!$D$2:$D$1500=$F133),0),3))))","v":""}]
[null,null,null,null,null,null,{"$f":"IF(F134=\"\",\"\",IF(F134=\"Unknown\",\"Unknown\",(INDEX([1]BEACON_MANUF_MODEL!$A$2:$D$1500,MATCH(1,([1]BEACON_MANUF_MODEL!$G$2:$G$1500=\"\")*([1]BEACON_MANUF_MODEL!$D$2:$D$1500=$F134),0),3))))","v":""}]
[null,null,null,null,null,null,{"$f":"IF(F135=\"\",\"\",IF(F135=\"Unknown\",\"Unknown\",(INDEX([1]BEACON_MANUF_MODEL!$A$2:$D$1500,MATCH(1,([1]BEACON_MANUF_MODEL!$G$2:$G$1500=\"\")*([1]BEACON_MANUF_MODEL!$D$2:$D$1500=$F135),0),3))))","v":""}]
[null,null,null,null,null,null,{"$f":"IF(F136=\"\",\"\",IF(F136=\"Unknown\",\"Unknown\",(INDEX([1]BEACON_MANUF_MODEL!$A$2:$D$1500,MATCH(1,([1]BEACON_MANUF_MODEL!$G$2:$G$1500=\"\")*([1]BEACON_MANUF_MODEL!$D$2:$D$1500=$F136),0),3))))","v":""}]
[null,null,null,null,null,null,{"$f":"IF(F137=\"\",\"\",IF(F137=\"Unknown\",\"Unknown\",(INDEX([1]BEACON_MANUF_MODEL!$A$2:$D$1500,MATCH(1,([1]BEACON_MANUF_MODEL!$G$2:$G$1500=\"\")*([1]BEACON_MANUF_MODEL!$D$2:$D$1500=$F137),0),3))))","v":""}]
[null,null,null,null,null,null,{"$f":"IF(F138=\"\",\"\",IF(F138=\"Unknown\",\"Unknown\",(INDEX([1]BEACON_MANUF_MODEL!$A$2:$D$1500,MATCH(1,([1]BEACON_MANUF_MODEL!$G$2:$G$1500=\"\")*([1]BEACON_MANUF_MODEL!$D$2:$D$1500=$F138),0),3))))","v":""}]
[null,null,null,null,null,null,{"$f":"IF(F139=\"\",\"\",IF(F139=\"Unknown\",\"Unknown\",(INDEX([1]BEACON_MANUF_MODEL!$A$2:$D$1500,MATCH(1,([1]BEACON_MANUF_MODEL!$G$2:$G$1500=\"\")*([1]BEACON_MANUF_MODEL!$D$2:$D$1500=$F139),0),3))))","v":""}]
[null,null,null,null,null,null,{"$f":"IF(F140=\"\",\"\",IF(F140=\"Unknown\",\"Unknown\",(INDEX([1]BEACON_MANUF_MODEL!$A$2:$D$1500,MATCH(1,([1]BEACON_MANUF_MODEL!$G$2:$G$1500=\"\")*([1]BEACON_MANUF_MODEL!$D$2:$D$1500=$F140),0),3))))","v":""}]
[null,null,null,null,null,null,{"$f":"IF(F141=\"\",\"\",IF(F141=\"Unknown\",\"Unknown\",(INDEX([1]BEACON_MANUF_MODEL!$A$2:$D$1500,MATCH(1,([1]BEACON_MANUF_MODEL!$G$2:$G$1500=\"\")*([1]BEACON_MANUF_MODEL!$D$2:$D$1500=$F141),0),3))))","v":""}]
[null,null,null,null,null,null,{"$f":"IF(F142=\"\",\"\",IF(F142=\"Unknown\",\"Unknown\",(INDEX([1]BEACON_MANUF_MODEL!$A$2:$D$1500,MATCH(1,([1]BEACON_MANUF_MODEL!$G$2:$G$1500=\"\")*([1]BEACON_MANUF_MODEL!$D$2:$D$1500=$F142),0),3))))","v":""}]
[null,null,null,null,null,null,{"$f":"IF(F143=\"\",\"\",IF(F143=\"Unknown\",\"Unknown\",(INDEX([1]BEACON_MANUF_MODEL!$A$2:$D$1500,MATCH(1,([1]BEACON_MANUF_MODEL!$G$2:$G$1500=\"\")*([1]BEACON_MANUF_MODEL!$D$2:$D$1500=$F143),0),3))))","v":""}]
[null,null,null,null,null,null,{"$f":"IF(F144=\"\",\"\",IF(F144=\"Unknown\",\"Unknown\",(INDEX([1]BEACON_MANUF_MODEL!$A$2:$D$1500,MATCH(1,([1]BEACON_MANUF_MODEL!$G$2:$G$1500=\"\")*([1]BEACON_MANUF_MODEL!$D$2:$D$1500=$F144),0),3))))","v":""}]
[null,null,null,null,null,null,{"$f":"IF(F145=\"\",\"\",IF(F145=\"Unknown\",\"Unknown\",(INDEX([1]BEACON_MANUF_MODEL!$A$2:$D$1500,MATCH(1,([1]BEACON_MANUF_MODEL!$G$2:$G$1500=\"\")*([1]BEACON_MANUF_MODEL!$D$2:$D$1500=$F145),0),3))))","v":""}]
[null,null,null,null,null,null,{"$f":"IF(F146=\"\",\"\",IF(F146=\"Unknown\",\"Unknown\",(INDEX([1]BEACON_MANUF_MODEL!$A$2:$D$1500,MATCH(1,([1]BEACON_MANUF_MODEL!$G$2:$G$1500=\"\")*([1]BEACON_MANUF_MODEL!$D$2:$D$1500=$F146),0),3))))","v":""}]
[null,null,null,null,null,null,{"$f":"IF(F147=\"\",\"\",IF(F147=\"Unknown\",\"Unknown\",(INDEX([1]BEACON_MANUF_MODEL!$A$2:$D$1500,MATCH(1,([1]BEACON_MANUF_MODEL!$G$2:$G$1500=\"\")*([1]BEACON_MANUF_MODEL!$D$2:$D$1500=$F147),0),3))))","v":""}]
[null,null,null,null,null,null,{"$f":"IF(F148=\"\",\"\",IF(F148=\"Unknown\",\"Unknown\",(INDEX([1]BEACON_MANUF_MODEL!$A$2:$D$1500,MATCH(1,([1]BEACON_MANUF_MODEL!$G$2:$G$1500=\"\")*([1]BEACON_MANUF_MODEL!$D$2:$D$1500=$F148),0),3))))","v":""}]
[null,null,null,null,null,null,{"$f":"IF(F149=\"\",\"\",IF(F149=\"Unknown\",\"Unknown\",(INDEX([1]BEACON_MANUF_MODEL!$A$2:$D$1500,MATCH(1,([1]BEACON_MANUF_MODEL!$G$2:$G$1500=\"\")*([1]BEACON_MANUF_MODEL!$D$2:$D$1500=$F149),0),3))))","v":""}]
[null,null,null,null,null,null,{"$f":"IF(F150=\"\",\"\",IF(F150=\"Unknown\",\"Unknown\",(INDEX([1]BEACON_MANUF_MODEL!$A$2:$D$1500,MATCH(1,([1]BEACON_MANUF_MODEL!$G$2:$G$1500=\"\")*([1]BEACON_MANUF_MODEL!$D$2:$D$1500=$F150),0),3))))","v":""}]
[null,null,null,null,null,null,{"$f":"IF(F151=\"\",\"\",IF(F151=\"Unknown\",\"Unknown\",(INDEX([1]BEACON_MANUF_MODEL!$A$2:$D$1500,MATCH(1,([1]BEACON_MANUF_MODEL!$G$2:$G$1500=\"\")*([1]BEACON_MANUF_MODEL!$D$2:$D$1500=$F151),0),3))))","v":""}]
[null,null,null,null,null,null,{"$f":"IF(F152=\"\",\"\",IF(F152=\"Unknown\",\"Unknown\",(INDEX([1]BEACON_MANUF_MODEL!$A$2:$D$1500,MATCH(1,([1]BEACON_MANUF_MODEL!$G$2:$G$1500=\"\")*([1]BEACON_MANUF_MODEL!$D$2:$D$1500=$F152),0),3))))","v":""}]
[null,null,null,null,null,null,{"$f":"IF(F153=\"\",\"\",IF(F153=\"Unknown\",\"Unknown\",(INDEX([1]BEACON_MANUF_MODEL!$A$2:$D$1500,MATCH(1,([1]BEACON_MANUF_MODEL!$G$2:$G$1500=\"\")*([1]BEACON_MANUF_MODEL!$D$2:$D$1500=$F153),0),3))))","v":""}]
[null,null,null,null,null,null,{"$f":"IF(F154=\"\",\"\",IF(F154=\"Unknown\",\"Unknown\",(INDEX([1]BEACON_MANUF_MODEL!$A$2:$D$1500,MATCH(1,([1]BEACON_MANUF_MODEL!$G$2:$G$1500=\"\")*([1]BEACON_MANUF_MODEL!$D$2:$D$1500=$F154),0),3))))","v":""}]
[null,null,null,null,null,null,{"$f":"IF(F155=\"\",\"\",IF(F155=\"Unknown\",\"Unknown\",(INDEX([1]BEACON_MANUF_MODEL!$A$2:$D$1500,MATCH(1,([1]BEACON_MANUF_MODEL!$G$2:$G$1500=\"\")*([1]BEACON_MANUF_MODEL!$D$2:$D$1500=$F155),0),3))))","v":""}]
[null,null,null,null,null,null,{"$f":"IF(F156=\"\",\"\",IF(F156=\"Unknown\",\"Unknown\",(INDEX([1]BEACON_MANUF_MODEL!$A$2:$D$1500,MATCH(1,([1]BEACON_MANUF_MODEL!$G$2:$G$1500=\"\")*([1]BEACON_MANUF_MODEL!$D$2:$D$1500=$F156),0),3))))","v":""}]
[null,null,null,null,null,null,{"$f":"IF(F157=\"\",\"\",IF(F157=\"Unknown\",\"Unknown\",(INDEX([1]BEACON_MANUF_MODEL!$A$2:$D$1500,MATCH(1,([1]BEACON_MANUF_MODEL!$G$2:$G$1500=\"\")*([1]BEACON_MANUF_MODEL!$D$2:$D$1500=$F157),0),3))))","v":""}]
[null,null,null,null,null,null,{"$f":"IF(F158=\"\",\"\",IF(F158=\"Unknown\",\"Unknown\",(INDEX([1]BEACON_MANUF_MODEL!$A$2:$D$1500,MATCH(1,([1]BEACON_MANUF_MODEL!$G$2:$G$1500=\"\")*([1]BEACON_MANUF_MODEL!$D$2:$D$1500=$F158),0),3))))","v":""}]
[null,null,null,null,null,null,{"$f":"IF(F159=\"\",\"\",IF(F159=\"Unknown\",\"Unknown\",(INDEX([1]BEACON_MANUF_MODEL!$A$2:$D$1500,MATCH(1,([1]BEACON_MANUF_MODEL!$G$2:$G$1500=\"\")*([1]BEACON_MANUF_MODEL!$D$2:$D$1500=$F159),0),3))))","v":""}]
[null,null,null,null,null,null,{"$f":"IF(F160=\"\",\"\",IF(F160=\"Unknown\",\"Unknown\",(INDEX([1]BEACON_MANUF_MODEL!$A$2:$D$1500,MATCH(1,([1]BEACON_MANUF_MODEL!$G$2:$G$1500=\"\")*([1]BEACON_MANUF_MODEL!$D$2:$D$1500=$F160),0),3))))","v":""}]
[null,null,null,null,null,null,{"$f":"IF(F161=\"\",\"\",IF(F161=\"Unknown\",\"Unknown\",(INDEX([1]BEACON_MANUF_MODEL!$A$2:$D$1500,MATCH(1,([1]BEACON_MANUF_MODEL!$G$2:$G$1500=\"\")*([1]BEACON_MANUF_MODEL!$D$2:$D$1500=$F161),0),3))))","v":""}]
[null,null,null,null,null,null,{"$f":"IF(F162=\"\",\"\",IF(F162=\"Unknown\",\"Unknown\",(INDEX([1]BEACON_MANUF_MODEL!$A$2:$D$1500,MATCH(1,([1]BEACON_MANUF_MODEL!$G$2:$G$1500=\"\")*([1]BEACON_MANUF_MODEL!$D$2:$D$1500=$F162),0),3))))","v":""}]
[null,null,null,null,null,null,{"$f":"IF(F163=\"\",\"\",IF(F163=\"Unknown\",\"Unknown\",(INDEX([1]BEACON_MANUF_MODEL!$A$2:$D$1500,MATCH(1,([1]BEACON_MANUF_MODEL!$G$2:$G$1500=\"\")*([1]BEACON_MANUF_MODEL!$D$2:$D$1500=$F163),0),3))))","v":""}]
[null,null,null,null,null,null,{"$f":"IF(F164=\"\",\"\",IF(F164=\"Unknown\",\"Unknown\",(INDEX([1]BEACON_MANUF_MODEL!$A$2:$D$1500,MATCH(1,([1]BEACON_MANUF_MODEL!$G$2:$G$1500=\"\")*([1]BEACON_MANUF_MODEL!$D$2:$D$1500=$F164),0),3))))","v":""}]
[null,null,null,null,null,null,{"$f":"IF(F165=\"\",\"\",IF(F165=\"Unknown\",\"Unknown\",(INDEX([1]BEACON_MANUF_MODEL!$A$2:$D$1500,MATCH(1,([1]BEACON_MANUF_MODEL!$G$2:$G$1500=\"\")*([1]BEACON_MANUF_MODEL!$D$2:$D$1500=$F165),0),3))))","v":""}]
[null,null,null,null,null,null,{"$f":"IF(F166=\"\",\"\",IF(F166=\"Unknown\",\"Unknown\",(INDEX([1]BEACON_MANUF_MODEL!$A$2:$D$1500,MATCH(1,([1]BEACON_MANUF_MODEL!$G$2:$G$1500=\"\")*([1]BEACON_MANUF_MODEL!$D$2:$D$1500=$F166),0),3))))","v":""}]
[null,null,null,null,null,null,{"$f":"IF(F167=\"\",\"\",IF(F167=\"Unknown\",\"Unknown\",(INDEX([1]BEACON_MANUF_MODEL!$A$2:$D$1500,MATCH(1,([1]BEACON_MANUF_MODEL!$G$2:$G$1500=\"\")*([1]BEACON_MANUF_MODEL!$D$2:$D$1500=$F167),0),3))))","v":""}]
[null,null,null,null,null,null,{"$f":"IF(F168=\"\",\"\",IF(F168=\"Unknown\",\"Unknown\",(INDEX([1]BEACON_MANUF_MODEL!$A$2:$D$1500,MATCH(1,([1]BEACON_MANUF_MODEL!$G$2:$G$1500=\"\")*([1]BEACON_MANUF_MODEL!$D$2:$D$1500=$F168),0),3))))","v":""}]
[null,null,null,null,null,null,{"$f":"IF(F169=\"\",\"\",IF(F169=\"Unknown\",\"Unknown\",(INDEX([1]BEACON_MANUF_MODEL!$A$2:$D$1500,MATCH(1,([1]BEACON_MANUF_MODEL!$G$2:$G$1500=\"\")*([1]BEACON_MANUF_MODEL!$D$2:$D$1500=$F169),0),3))))","v":""}]
[null,null,null,null,null,null,{"$f":"IF(F170=\"\",\"\",IF(F170=\"Unknown\",\"Unknown\",(INDEX([1]BEACON_MANUF_MODEL!$A$2:$D$1500,MATCH(1,([1]BEACON_MANUF_MODEL!$G$2:$G$1500=\"\")*([1]BEACON_MANUF_MODEL!$D$2:$D$1500=$F170),0),3))))","v":""}]
[null,null,null,null,null,null,{"$f":"IF(F171=\"\",\"\",IF(F171=\"Unknown\",\"Unknown\",(INDEX([1]BEACON_MANUF_MODEL!$A$2:$D$1500,MATCH(1,([1]BEACON_MANUF_MODEL!$G$2:$G$1500=\"\")*([1]BEACON_MANUF_MODEL!$D$2:$D$1500=$F171),0),3))))","v":""}]
[null,null,null,null,null,null,{"$f":"IF(F172=\"\",\"\",IF(F172=\"Unknown\",\"Unknown\",(INDEX([1]BEACON_MANUF_MODEL!$A$2:$D$1500,MATCH(1,([1]BEACON_MANUF_MODEL!$G$2:$G$1500=\"\")*([1]BEACON_MANUF_MODEL!$D$2:$D$1500=$F172),0),3))))","v":""}]
[null,null,null,null,null,null,{"$f":"IF(F173=\"\",\"\",IF(F173=\"Unknown\",\"Unknown\",(INDEX([1]BEACON_MANUF_MODEL!$A$2:$D$1500,MATCH(1,([1]BEACON_MANUF_MODEL!$G$2:$G$1500=\"\")*([1]BEACON_MANUF_MODEL!$D$2:$D$1500=$F173),0),3))))","v":""}]
[null,null,null,null,null,null,{"$f":"IF(F174=\"\",\"\",IF(F174=\"Unknown\",\"Unknown\",(INDEX([1]BEACON_MANUF_MODEL!$A$2:$D$1500,MATCH(1,([1]BEACON_MANUF_MODEL!$G$2:$G$1500=\"\")*([1]BEACON_MANUF_MODEL!$D$2:$D$1500=$F174),0),3))))","v":""}]
[null,null,null,null,null,null,{"$f":"IF(F175=\"\",\"\",IF(F175=\"Unknown\",\"Unknown\",(INDEX([1]BEACON_MANUF_MODEL!$A$2:$D$1500,MATCH(1,([1]BEACON_MANUF_MODEL!$G$2:$G$1500=\"\")*([1]BEACON_MANUF_MODEL!$D$2:$D$1500=$F175),0),3))))","v":""}]
[null,null,null,null,null,null,{"$f":"IF(F176=\"\",\"\",IF(F176=\"Unknown\",\"Unknown\",(INDEX([1]BEACON_MANUF_MODEL!$A$2:$D$1500,MATCH(1,([1]BEACON_MANUF_MODEL!$G$2:$G$1500=\"\")*([1]BEACON_MANUF_MODEL!$D$2:$D$1500=$F176),0),3))))","v":""}]
[null,null,null,null,null,null,{"$f":"IF(F177=\"\",\"\",IF(F177=\"Unknown\",\"Unknown\",(INDEX([1]BEACON_MANUF_MODEL!$A$2:$D$1500,MATCH(1,([1]BEACON_MANUF_MODEL!$G$2:$G$1500=\"\")*([1]BEACON_MANUF_MODEL!$D$2:$D$1500=$F177),0),3))))","v":""}]
[null,null,null,null,null,null,{"$f":"IF(F178=\"\",\"\",IF(F178=\"Unknown\",\"Unknown\",(INDEX([1]BEACON_MANUF_MODEL!$A$2:$D$1500,MATCH(1,([1]BEACON_MANUF_MODEL!$G$2:$G$1500=\"\")*([1]BEACON_MANUF_MODEL!$D$2:$D$1500=$F178),0),3))))","v":""}]
[null,null,null,null,null,null,{"$f":"IF(F179=\"\",\"\",IF(F179=\"Unknown\",\"Unknown\",(INDEX([1]BEACON_MANUF_MODEL!$A$2:$D$1500,MATCH(1,([1]BEACON_MANUF_MODEL!$G$2:$G$1500=\"\")*([1]BEACON_MANUF_MODEL!$D$2:$D$1500=$F179),0),3))))","v":""}]
[null,null,null,null,null,null,{"$f":"IF(F180=\"\",\"\",IF(F180=\"Unknown\",\"Unknown\",(INDEX([1]BEACON_MANUF_MODEL!$A$2:$D$1500,MATCH(1,([1]BEACON_MANUF_MODEL!$G$2:$G$1500=\"\")*([1]BEACON_MANUF_MODEL!$D$2:$D$1500=$F180),0),3))))","v":""}]
[null,null,null,null,null,null,{"$f":"IF(F181=\"\",\"\",IF(F181=\"Unknown\",\"Unknown\",(INDEX([1]BEACON_MANUF_MODEL!$A$2:$D$1500,MATCH(1,([1]BEACON_MANUF_MODEL!$G$2:$G$1500=\"\")*([1]BEACON_MANUF_MODEL!$D$2:$D$1500=$F181),0),3))))","v":""}]
[null,null,null,null,null,null,{"$f":"IF(F182=\"\",\"\",IF(F182=\"Unknown\",\"Unknown\",(INDEX([1]BEACON_MANUF_MODEL!$A$2:$D$1500,MATCH(1,([1]BEACON_MANUF_MODEL!$G$2:$G$1500=\"\")*([1]BEACON_MANUF_MODEL!$D$2:$D$1500=$F182),0),3))))","v":""}]
[null,null,null,null,null,null,{"$f":"IF(F183=\"\",\"\",IF(F183=\"Unknown\",\"Unknown\",(INDEX([1]BEACON_MANUF_MODEL!$A$2:$D$1500,MATCH(1,([1]BEACON_MANUF_MODEL!$G$2:$G$1500=\"\")*([1]BEACON_MANUF_MODEL!$D$2:$D$1500=$F183),0),3))))","v":""}]
[null,null,null,null,null,null,{"$f":"IF(F184=\"\",\"\",IF(F184=\"Unknown\",\"Unknown\",(INDEX([1]BEACON_MANUF_MODEL!$A$2:$D$1500,MATCH(1,([1]BEACON_MANUF_MODEL!$G$2:$G$1500=\"\")*([1]BEACON_MANUF_MODEL!$D$2:$D$1500=$F184),0),3))))","v":""}]
[null,null,null,null,null,null,{"$f":"IF(F185=\"\",\"\",IF(F185=\"Unknown\",\"Unknown\",(INDEX([1]BEACON_MANUF_MODEL!$A$2:$D$1500,MATCH(1,([1]BEACON_MANUF_MODEL!$G$2:$G$1500=\"\")*([1]BEACON_MANUF_MODEL!$D$2:$D$1500=$F185),0),3))))","v":""}]
[null,null,null,null,null,null,{"$f":"IF(F186=\"\",\"\",IF(F186=\"Unknown\",\"Unknown\",(INDEX([1]BEACON_MANUF_MODEL!$A$2:$D$1500,MATCH(1,([1]BEACON_MANUF_MODEL!$G$2:$G$1500=\"\")*([1]BEACON_MANUF_MODEL!$D$2:$D$1500=$F186),0),3))))","v":""}]
[null,null,null,null,null,null,{"$f":"IF(F187=\"\",\"\",IF(F187=\"Unknown\",\"Unknown\",(INDEX([1]BEACON_MANUF_MODEL!$A$2:$D$1500,MATCH(1,([1]BEACON_MANUF_MODEL!$G$2:$G$1500=\"\")*([1]BEACON_MANUF_MODEL!$D$2:$D$1500=$F187),0),3))))","v":""}]
[null,null,null,null,null,null,{"$f":"IF(F188=\"\",\"\",IF(F188=\"Unknown\",\"Unknown\",(INDEX([1]BEACON_MANUF_MODEL!$A$2:$D$1500,MATCH(1,([1]BEACON_MANUF_MODEL!$G$2:$G$1500=\"\")*([1]BEACON_MANUF_MODEL!$D$2:$D$1500=$F188),0),3))))","v":""}]
[null,null,null,null,null,null,{"$f":"IF(F189=\"\",\"\",IF(F189=\"Unknown\",\"Unknown\",(INDEX([1]BEACON_MANUF_MODEL!$A$2:$D$1500,MATCH(1,([1]BEACON_MANUF_MODEL!$G$2:$G$1500=\"\")*([1]BEACON_MANUF_MODEL!$D$2:$D$1500=$F189),0),3))))","v":""}]
[null,null,null,null,null,null,{"$f":"IF(F190=\"\",\"\",IF(F190=\"Unknown\",\"Unknown\",(INDEX([1]BEACON_MANUF_MODEL!$A$2:$D$1500,MATCH(1,([1]BEACON_MANUF_MODEL!$G$2:$G$1500=\"\")*([1]BEACON_MANUF_MODEL!$D$2:$D$1500=$F190),0),3))))","v":""}]
[null,null,null,null,null,null,{"$f":"IF(F191=\"\",\"\",IF(F191=\"Unknown\",\"Unknown\",(INDEX([1]BEACON_MANUF_MODEL!$A$2:$D$1500,MATCH(1,([1]BEACON_MANUF_MODEL!$G$2:$G$1500=\"\")*([1]BEACON_MANUF_MODEL!$D$2:$D$1500=$F191),0),3))))","v":""}]
[null,null,null,null,null,null,{"$f":"IF(F192=\"\",\"\",IF(F192=\"Unknown\",\"Unknown\",(INDEX([1]BEACON_MANUF_MODEL!$A$2:$D$1500,MATCH(1,([1]BEACON_MANUF_MODEL!$G$2:$G$1500=\"\")*([1]BEACON_MANUF_MODEL!$D$2:$D$1500=$F192),0),3))))","v":""}]
[null,null,null,null,null,null,{"$f":"IF(F193=\"\",\"\",IF(F193=\"Unknown\",\"Unknown\",(INDEX([1]BEACON_MANUF_MODEL!$A$2:$D$1500,MATCH(1,([1]BEACON_MANUF_MODEL!$G$2:$G$1500=\"\")*([1]BEACON_MANUF_MODEL!$D$2:$D$1500=$F193),0),3))))","v":""}]
[null,null,null,null,null,null,{"$f":"IF(F194=\"\",\"\",IF(F194=\"Unknown\",\"Unknown\",(INDEX([1]BEACON_MANUF_MODEL!$A$2:$D$1500,MATCH(1,([1]BEACON_MANUF_MODEL!$G$2:$G$1500=\"\")*([1]BEACON_MANUF_MODEL!$D$2:$D$1500=$F194),0),3))))","v":""}]
[null,null,null,null,null,null,{"$f":"IF(F195=\"\",\"\",IF(F195=\"Unknown\",\"Unknown\",(INDEX([1]BEACON_MANUF_MODEL!$A$2:$D$1500,MATCH(1,([1]BEACON_MANUF_MODEL!$G$2:$G$1500=\"\")*([1]BEACON_MANUF_MODEL!$D$2:$D$1500=$F195),0),3))))","v":""}]
[null,null,null,null,null,null,{"$f":"IF(F196=\"\",\"\",IF(F196=\"Unknown\",\"Unknown\",(INDEX([1]BEACON_MANUF_MODEL!$A$2:$D$1500,MATCH(1,([1]BEACON_MANUF_MODEL!$G$2:$G$1500=\"\")*([1]BEACON_MANUF_MODEL!$D$2:$D$1500=$F196),0),3))))","v":""}]
[null,null,null,null,null,null,{"$f":"IF(F197=\"\",\"\",IF(F197=\"Unknown\",\"Unknown\",(INDEX([1]BEACON_MANUF_MODEL!$A$2:$D$1500,MATCH(1,([1]BEACON_MANUF_MODEL!$G$2:$G$1500=\"\")*([1]BEACON_MANUF_MODEL!$D$2:$D$1500=$F197),0),3))))","v":""}]
[null,null,null,null,null,null,{"$f":"IF(F198=\"\",\"\",IF(F198=\"Unknown\",\"Unknown\",(INDEX([1]BEACON_MANUF_MODEL!$A$2:$D$1500,MATCH(1,([1]BEACON_MANUF_MODEL!$G$2:$G$1500=\"\")*([1]BEACON_MANUF_MODEL!$D$2:$D$1500=$F198),0),3))))","v":""}]
[null,null,null,null,null,null,{"$f":"IF(F199=\"\",\"\",IF(F199=\"Unknown\",\"Unknown\",(INDEX([1]BEACON_MANUF_MODEL!$A$2:$D$1500,MATCH(1,([1]BEACON_MANUF_MODEL!$G$2:$G$1500=\"\")*([1]BEACON_MANUF_MODEL!$D$2:$D$1500=$F199),0),3))))","v":""}]
[null,null,null,null,null,null,{"$f":"IF(F200=\"\",\"\",IF(F200=\"Unknown\",\"Unknown\",(INDEX([1]BEACON_MANUF_MODEL!$A$2:$D$1500,MATCH(1,([1]BEACON_MANUF_MODEL!$G$2:$G$1500=\"\")*([1]BEACON_MANUF_MODEL!$D$2:$D$1500=$F200),0),3))))","v":""}]
[null,null,null,null,null,null,{"$f":"IF(F201=\"\",\"\",IF(F201=\"Unknown\",\"Unknown\",(INDEX([1]BEACON_MANUF_MODEL!$A$2:$D$1500,MATCH(1,([1]BEACON_MANUF_MODEL!$G$2:$G$1500=\"\")*([1]BEACON_MANUF_MODEL!$D$2:$D$1500=$F201),0),3))))","v":""}]
[null,null,null,null,null,null,{"$f":"IF(F202=\"\",\"\",IF(F202=\"Unknown\",\"Unknown\",(INDEX([1]BEACON_MANUF_MODEL!$A$2:$D$1500,MATCH(1,([1]BEACON_MANUF_MODEL!$G$2:$G$1500=\"\")*([1]BEACON_MANUF_MODEL!$D$2:$D$1500=$F202),0),3))))","v":""}]

{"sheet":"Beacon (Code)","index":6,"n_rows":201,"n_cols":11,"rows_kept":201,"cut":false,"hidden":false,"merged":[]}
["DEVICE ID FOR UPDATE","ENTITY CODE","This Field is for Reference Only DO NOT IMPORT ","EQUIP_LOC_ID REQUIRED FIELD","INSTALLED_DATE","BEACON_TYPE_CD","BEACON_MANUF_CD","BEACON_MODEL_CD","BEACON_COLOR_CD ","BEACON_SIZE_CD ","COMMENTS"]
[{"$f":"IF('Beacon (Desc)'!A3=\"\",\"\",'Beacon (Desc)'!A3)","v":""},{"$f":"IF('Beacon (Desc)'!B3=\"\",\"\",\"1987\")","v":""},{"$f":"IF('Beacon (Desc)'!B3=\"\",\"\",'Beacon (Desc)'!B3)","v":""},{"$f":"IF('Beacon (Desc)'!C3=\"\",\"\",'Beacon (Desc)'!C3)","v":""},{"$f":"IF('Beacon (Desc)'!D3=\"\",\"\",'Beacon (Desc)'!D3)","v":""},{"$f":"IF('Beacon (Desc)'!E3=\"\",\"\",INDEX([1]BEACON_TYPE!$A$2:$A$20,MATCH('Beacon (Desc)'!$E3,[1]!MASTER_BEACON_TYPE_DESC[#Data],0),0))","v":""},{"$f":"IF('Beacon (Desc)'!F3=\"\",\"\",IF('Beacon (Desc)'!F3=\"Unknown\",\"BCN001\",(INDEX([1]BEACON_MANUF_MODEL!$A$2:$D$1500,MATCH(1,([1]BEACON_MANUF_MODEL!$G$2:$G$1500=\"\")*([1]BEACON_MANUF_MODEL!$D$2:$D$1500='Beacon (Desc)'!$F3),0),2))))","v":""},{"$f":"IF('Beacon (Desc)'!F3=\"\",\"\",IF('Beacon (Desc)'!F3=\"Unknown\",\"BCNM001\",INDEX([1]BEACON_MANUF_MODEL!$A$2:$D$1500,MATCH(1,([1]BEACON_MANUF_MODEL!$G$2:$G$1500=\"\")*([1]BEACON_MANUF_MODEL!$D$2:$D$1500='Beacon (Desc)'!$F3),0),1)))","v":""},{"$f":"IF('Beacon (Desc)'!H3=\"\",\"\",INDEX([1]BEACON_COLOR!$A$2:$A$20,MATCH('Beacon (Desc)'!$H3,[1]!MASTER_BEACON_COLOR_DESC[#Data],0),0))","v":""},{"$f":"IF('Beacon (Desc)'!I3=\"\",\"\",INDEX([1]BEACON_SIZE!$A$2:$A$20,MATCH('Beacon (Desc)'!$I3,[1]!MASTER_BEACON_SIZE_DESC[#Data],0),0))","v":""},{"$f":"IF('Beacon (Desc)'!J3=\"\",\"\",'Beacon (Desc)'!J3)","v":""}]
[{"$f":"IF('Beacon (Desc)'!A4=\"\",\"\",'Beacon (Desc)'!A4)","v":""},{"$f":"IF('Beacon (Desc)'!B4=\"\",\"\",\"1987\")","v":""},{"$f":"IF('Beacon (Desc)'!B4=\"\",\"\",'Beacon (Desc)'!B4)","v":""},{"$f":"IF('Beacon (Desc)'!C4=\"\",\"\",'Beacon (Desc)'!C4)","v":""},{"$f":"IF('Beacon (Desc)'!D4=\"\",\"\",'Beacon (Desc)'!D4)","v":""},{"$f":"IF('Beacon (Desc)'!E4=\"\",\"\",INDEX([1]BEACON_TYPE!$A$2:$A$20,MATCH('Beacon (Desc)'!$E4,[1]!MASTER_BEACON_TYPE_DESC[#Data],0),0))","v":""},{"$f":"IF('Beacon (Desc)'!F4=\"\",\"\",IF('Beacon (Desc)'!F4=\"Unknown\",\"BCN001\",(INDEX([1]BEACON_MANUF_MODEL!$A$2:$D$1500,MATCH(1,([1]BEACON_MANUF_MODEL!$G$2:$G$1500=\"\")*([1]BEACON_MANUF_MODEL!$D$2:$D$1500='Beacon (Desc)'!$F4),0),2))))","v":""},{"$f":"IF('Beacon (Desc)'!F4=\"\",\"\",IF('Beacon (Desc)'!F4=\"Unknown\",\"BCNM001\",INDEX([1]BEACON_MANUF_MODEL!$A$2:$D$1500,MATCH(1,([1]BEACON_MANUF_MODEL!$G$2:$G$1500=\"\")*([1]BEACON_MANUF_MODEL!$D$2:$D$1500='Beacon (Desc)'!$F4),0),1)))","v":""},{"$f":"IF('Beacon (Desc)'!H4=\"\",\"\",INDEX([1]BEACON_COLOR!$A$2:$A$20,MATCH('Beacon (Desc)'!$H4,[1]!MASTER_BEACON_COLOR_DESC[#Data],0),0))","v":""},{"$f":"IF('Beacon (Desc)'!I4=\"\",\"\",INDEX([1]BEACON_SIZE!$A$2:$A$20,MATCH('Beacon (Desc)'!$I4,[1]!MASTER_BEACON_SIZE_DESC[#Data],0),0))","v":""},{"$f":"IF('Beacon (Desc)'!J4=\"\",\"\",'Beacon (Desc)'!J4)","v":""}]
[{"$f":"IF('Beacon (Desc)'!A5=\"\",\"\",'Beacon (Desc)'!A5)","v":""},{"$f":"IF('Beacon (Desc)'!B5=\"\",\"\",\"1987\")","v":""},{"$f":"IF('Beacon (Desc)'!B5=\"\",\"\",'Beacon (Desc)'!B5)","v":""},{"$f":"IF('Beacon (Desc)'!C5=\"\",\"\",'Beacon (Desc)'!C5)","v":""},{"$f":"IF('Beacon (Desc)'!D5=\"\",\"\",'Beacon (Desc)'!D5)","v":""},{"$f":"IF('Beacon (Desc)'!E5=\"\",\"\",INDEX([1]BEACON_TYPE!$A$2:$A$20,MATCH('Beacon (Desc)'!$E5,[1]!MASTER_BEACON_TYPE_DESC[#Data],0),0))","v":""},{"$f":"IF('Beacon (Desc)'!F5=\"\",\"\",IF('Beacon (Desc)'!F5=\"Unknown\",\"BCN001\",(INDEX([1]BEACON_MANUF_MODEL!$A$2:$D$1500,MATCH(1,([1]BEACON_MANUF_MODEL!$G$2:$G$1500=\"\")*([1]BEACON_MANUF_MODEL!$D$2:$D$1500='Beacon (Desc)'!$F5),0),2))))","v":""},{"$f":"IF('Beacon (Desc)'!F5=\"\",\"\",IF('Beacon (Desc)'!F5=\"Unknown\",\"BCNM001\",INDEX([1]BEACON_MANUF_MODEL!$A$2:$D$1500,MATCH(1,([1]BEACON_MANUF_MODEL!$G$2:$G$1500=\"\")*([1]BEACON_MANUF_MODEL!$D$2:$D$1500='Beacon (Desc)'!$F5),0),1)))","v":""},{"$f":"IF('Beacon (Desc)'!H5=\"\",\"\",INDEX([1]BEACON_COLOR!$A$2:$A$20,MATCH('Beacon (Desc)'!$H5,[1]!MASTER_BEACON_COLOR_DESC[#Data],0),0))","v":""},{"$f":"IF('Beacon (Desc)'!I5=\"\",\"\",INDEX([1]BEACON_SIZE!$A$2:$A$20,MATCH('Beacon (Desc)'!$I5,[1]!MASTER_BEACON_SIZE_DESC[#Data],0),0))","v":""},{"$f":"IF('Beacon (Desc)'!J5=\"\",\"\",'Beacon (Desc)'!J5)","v":""}]
[{"$f":"IF('Beacon (Desc)'!A6=\"\",\"\",'Beacon (Desc)'!A6)","v":""},{"$f":"IF('Beacon (Desc)'!B6=\"\",\"\",\"1987\")","v":""},{"$f":"IF('Beacon (Desc)'!B6=\"\",\"\",'Beacon (Desc)'!B6)","v":""},{"$f":"IF('Beacon (Desc)'!C6=\"\",\"\",'Beacon (Desc)'!C6)","v":""},{"$f":"IF('Beacon (Desc)'!D6=\"\",\"\",'Beacon (Desc)'!D6)","v":""},{"$f":"IF('Beacon (Desc)'!E6=\"\",\"\",INDEX([1]BEACON_TYPE!$A$2:$A$20,MATCH('Beacon (Desc)'!$E6,[1]!MASTER_BEACON_TYPE_DESC[#Data],0),0))","v":""},{"$f":"IF('Beacon (Desc)'!F6=\"\",\"\",IF('Beacon (Desc)'!F6=\"Unknown\",\"BCN001\",(INDEX([1]BEACON_MANUF_MODEL!$A$2:$D$1500,MATCH(1,([1]BEACON_MANUF_MODEL!$G$2:$G$1500=\"\")*([1]BEACON_MANUF_MODEL!$D$2:$D$1500='Beacon (Desc)'!$F6),0),2))))","v":""},{"$f":"IF('Beacon (Desc)'!F6=\"\",\"\",IF('Beacon (Desc)'!F6=\"Unknown\",\"BCNM001\",INDEX([1]BEACON_MANUF_MODEL!$A$2:$D$1500,MATCH(1,([1]BEACON_MANUF_MODEL!$G$2:$G$1500=\"\")*([1]BEACON_MANUF_MODEL!$D$2:$D$1500='Beacon (Desc)'!$F6),0),1)))","v":""},{"$f":"IF('Beacon (Desc)'!H6=\"\",\"\",INDEX([1]BEACON_COLOR!$A$2:$A$20,MATCH('Beacon (Desc)'!$H6,[1]!MASTER_BEACON_COLOR_DESC[#Data],0),0))","v":""},{"$f":"IF('Beacon (Desc)'!I6=\"\",\"\",INDEX([1]BEACON_SIZE!$A$2:$A$20,MATCH('Beacon (Desc)'!$I6,[1]!MASTER_BEACON_SIZE_DESC[#Data],0),0))","v":""},{"$f":"IF('Beacon (Desc)'!J6=\"\",\"\",'Beacon (Desc)'!J6)","v":""}]
[{"$f":"IF('Beacon (Desc)'!A7=\"\",\"\",'Beacon (Desc)'!A7)","v":""},{"$f":"IF('Beacon (Desc)'!B7=\"\",\"\",\"1987\")","v":""},{"$f":"IF('Beacon (Desc)'!B7=\"\",\"\",'Beacon (Desc)'!B7)","v":""},{"$f":"IF('Beacon (Desc)'!C7=\"\",\"\",'Beacon (Desc)'!C7)","v":""},{"$f":"IF('Beacon (Desc)'!D7=\"\",\"\",'Beacon (Desc)'!D7)","v":""},{"$f":"IF('Beacon (Desc)'!E7=\"\",\"\",INDEX([1]BEACON_TYPE!$A$2:$A$20,MATCH('Beacon (Desc)'!$E7,[1]!MASTER_BEACON_TYPE_DESC[#Data],0),0))","v":""},{"$f":"IF('Beacon (Desc)'!F7=\"\",\"\",IF('Beacon (Desc)'!F7=\"Unknown\",\"BCN001\",(INDEX([1]BEACON_MANUF_MODEL!$A$2:$D$1500,MATCH(1,([1]BEACON_MANUF_MODEL!$G$2:$G$1500=\"\")*([1]BEACON_MANUF_MODEL!$D$2:$D$1500='Beacon (Desc)'!$F7),0),2))))","v":""},{"$f":"IF('Beacon (Desc)'!F7=\"\",\"\",IF('Beacon (Desc)'!F7=\"Unknown\",\"BCNM001\",INDEX([1]BEACON_MANUF_MODEL!$A$2:$D$1500,MATCH(1,([1]BEACON_MANUF_MODEL!$G$2:$G$1500=\"\")*([1]BEACON_MANUF_MODEL!$D$2:$D$1500='Beacon (Desc)'!$F7),0),1)))","v":""},{"$f":"IF('Beacon (Desc)'!H7=\"\",\"\",INDEX([1]BEACON_COLOR!$A$2:$A$20,MATCH('Beacon (Desc)'!$H7,[1]!MASTER_BEACON_COLOR_DESC[#Data],0),0))","v":""},{"$f":"IF('Beacon (Desc)'!I7=\"\",\"\",INDEX([1]BEACON_SIZE!$A$2:$A$20,MATCH('Beacon (Desc)'!$I7,[1]!MASTER_BEACON_SIZE_DESC[#Data],0),0))","v":""},{"$f":"IF('Beacon (Desc)'!J7=\"\",\"\",'Beacon (Desc)'!J7)","v":""}]
[{"$f":"IF('Beacon (Desc)'!A8=\"\",\"\",'Beacon (Desc)'!A8)","v":""},{"$f":"IF('Beacon (Desc)'!B8=\"\",\"\",\"1987\")","v":""},{"$f":"IF('Beacon (Desc)'!B8=\"\",\"\",'Beacon (Desc)'!B8)","v":""},{"$f":"IF('Beacon (Desc)'!C8=\"\",\"\",'Beacon (Desc)'!C8)","v":""},{"$f":"IF('Beacon (Desc)'!D8=\"\",\"\",'Beacon (Desc)'!D8)","v":""},{"$f":"IF('Beacon (Desc)'!E8=\"\",\"\",INDEX([1]BEACON_TYPE!$A$2:$A$20,MATCH('Beacon (Desc)'!$E8,[1]!MASTER_BEACON_TYPE_DESC[#Data],0),0))","v":""},{"$f":"IF('Beacon (Desc)'!F8=\"\",\"\",IF('Beacon (Desc)'!F8=\"Unknown\",\"BCN001\",(INDEX([1]BEACON_MANUF_MODEL!$A$2:$D$1500,MATCH(1,([1]BEACON_MANUF_MODEL!$G$2:$G$1500=\"\")*([1]BEACON_MANUF_MODEL!$D$2:$D$1500='Beacon (Desc)'!$F8),0),2))))","v":""},{"$f":"IF('Beacon (Desc)'!F8=\"\",\"\",IF('Beacon (Desc)'!F8=\"Unknown\",\"BCNM001\",INDEX([1]BEACON_MANUF_MODEL!$A$2:$D$1500,MATCH(1,([1]BEACON_MANUF_MODEL!$G$2:$G$1500=\"\")*([1]BEACON_MANUF_MODEL!$D$2:$D$1500='Beacon (Desc)'!$F8),0),1)))","v":""},{"$f":"IF('Beacon (Desc)'!H8=\"\",\"\",INDEX([1]BEACON_COLOR!$A$2:$A$20,MATCH('Beacon (Desc)'!$H8,[1]!MASTER_BEACON_COLOR_DESC[#Data],0),0))","v":""},{"$f":"IF('Beacon (Desc)'!I8=\"\",\"\",INDEX([1]BEACON_SIZE!$A$2:$A$20,MATCH('Beacon (Desc)'!$I8,[1]!MASTER_BEACON_SIZE_DESC[#Data],0),0))","v":""},{"$f":"IF('Beacon (Desc)'!J8=\"\",\"\",'Beacon (Desc)'!J8)","v":""}]
[{"$f":"IF('Beacon (Desc)'!A9=\"\",\"\",'Beacon (Desc)'!A9)","v":""},{"$f":"IF('Beacon (Desc)'!B9=\"\",\"\",\"1987\")","v":""},{"$f":"IF('Beacon (Desc)'!B9=\"\",\"\",'Beacon (Desc)'!B9)","v":""},{"$f":"IF('Beacon (Desc)'!C9=\"\",\"\",'Beacon (Desc)'!C9)","v":""},{"$f":"IF('Beacon (Desc)'!D9=\"\",\"\",'Beacon (Desc)'!D9)","v":""},{"$f":"IF('Beacon (Desc)'!E9=\"\",\"\",INDEX([1]BEACON_TYPE!$A$2:$A$20,MATCH('Beacon (Desc)'!$E9,[1]!MASTER_BEACON_TYPE_DESC[#Data],0),0))","v":""},{"$f":"IF('Beacon (Desc)'!F9=\"\",\"\",IF('Beacon (Desc)'!F9=\"Unknown\",\"BCN001\",(INDEX([1]BEACON_MANUF_MODEL!$A$2:$D$1500,MATCH(1,([1]BEACON_MANUF_MODEL!$G$2:$G$1500=\"\")*([1]BEACON_MANUF_MODEL!$D$2:$D$1500='Beacon (Desc)'!$F9),0),2))))","v":""},{"$f":"IF('Beacon (Desc)'!F9=\"\",\"\",IF('Beacon (Desc)'!F9=\"Unknown\",\"BCNM001\",INDEX([1]BEACON_MANUF_MODEL!$A$2:$D$1500,MATCH(1,([1]BEACON_MANUF_MODEL!$G$2:$G$1500=\"\")*([1]BEACON_MANUF_MODEL!$D$2:$D$1500='Beacon (Desc)'!$F9),0),1)))","v":""},{"$f":"IF('Beacon (Desc)'!H9=\"\",\"\",INDEX([1]BEACON_COLOR!$A$2:$A$20,MATCH('Beacon (Desc)'!$H9,[1]!MASTER_BEACON_COLOR_DESC[#Data],0),0))","v":""},{"$f":"IF('Beacon (Desc)'!I9=\"\",\"\",INDEX([1]BEACON_SIZE!$A$2:$A$20,MATCH('Beacon (Desc)'!$I9,[1]!MASTER_BEACON_SIZE_DESC[#Data],0),0))","v":""},{"$f":"IF('Beacon (Desc)'!J9=\"\",\"\",'Beacon (Desc)'!J9)","v":""}]
[{"$f":"IF('Beacon (Desc)'!A10=\"\",\"\",'Beacon (Desc)'!A10)","v":""},{"$f":"IF('Beacon (Desc)'!B10=\"\",\"\",\"1987\")","v":""},{"$f":"IF('Beacon (Desc)'!B10=\"\",\"\",'Beacon (Desc)'!B10)","v":""},{"$f":"IF('Beacon (Desc)'!C10=\"\",\"\",'Beacon (Desc)'!C10)","v":""},{"$f":"IF('Beacon (Desc)'!D10=\"\",\"\",'Beacon (Desc)'!D10)","v":""},{"$f":"IF('Beacon (Desc)'!E10=\"\",\"\",INDEX([1]BEACON_TYPE!$A$2:$A$20,MATCH('Beacon (Desc)'!$E10,[1]!MASTER_BEACON_TYPE_DESC[#Data],0),0))","v":""},{"$f":"IF('Beacon (Desc)'!F10=\"\",\"\",IF('Beacon (Desc)'!F10=\"Unknown\",\"BCN001\",(INDEX([1]BEACON_MANUF_MODEL!$A$2:$D$1500,MATCH(1,([1]BEACON_MANUF_MODEL!$G$2:$G$1500=\"\")*([1]BEACON_MANUF_MODEL!$D$2:$D$1500='Beacon (Desc)'!$F10),0),2))))","v":""},{"$f":"IF('Beacon (Desc)'!F10=\"\",\"\",IF('Beacon (Desc)'!F10=\"Unknown\",\"BCNM001\",INDEX([1]BEACON_MANUF_MODEL!$A$2:$D$1500,MATCH(1,([1]BEACON_MANUF_MODEL!$G$2:$G$1500=\"\")*([1]BEACON_MANUF_MODEL!$D$2:$D$1500='Beacon (Desc)'!$F10),0),1)))","v":""},{"$f":"IF('Beacon (Desc)'!H10=\"\",\"\",INDEX([1]BEACON_COLOR!$A$2:$A$20,MATCH('Beacon (Desc)'!$H10,[1]!MASTER_BEACON_COLOR_DESC[#Data],0),0))","v":""},{"$f":"IF('Beacon (Desc)'!I10=\"\",\"\",INDEX([1]BEACON_SIZE!$A$2:$A$20,MATCH('Beacon (Desc)'!$I10,[1]!MASTER_BEACON_SIZE_DESC[#Data],0),0))","v":""},{"$f":"IF('Beacon (Desc)'!J10=\"\",\"\",'Beacon (Desc)'!J10)","v":""}]
[{"$f":"IF('Beacon (Desc)'!A11=\"\",\"\",'Beacon (Desc)'!A11)","v":""},{"$f":"IF('Beacon (Desc)'!B11=\"\",\"\",\"1987\")","v":""},{"$f":"IF('Beacon (Desc)'!B11=\"\",\"\",'Beacon (Desc)'!B11)","v":""},{"$f":"IF('Beacon (Desc)'!C11=\"\",\"\",'Beacon (Desc)'!C11)","v":""},{"$f":"IF('Beacon (Desc)'!D11=\"\",\"\",'Beacon (Desc)'!D11)","v":""},{"$f":"IF('Beacon (Desc)'!E11=\"\",\"\",INDEX([1]BEACON_TYPE!$A$2:$A$20,MATCH('Beacon (Desc)'!$E11,[1]!MASTER_BEACON_TYPE_DESC[#Data],0),0))","v":""},{"$f":"IF('Beacon (Desc)'!F11=\"\",\"\",IF('Beacon (Desc)'!F11=\"Unknown\",\"BCN001\",(INDEX([1]BEACON_MANUF_MODEL!$A$2:$D$1500,MATCH(1,([1]BEACON_MANUF_MODEL!$G$2:$G$1500=\"\")*([1]BEACON_MANUF_MODEL!$D$2:$D$1500='Beacon (Desc)'!$F11),0),2))))","v":""},{"$f":"IF('Beacon (Desc)'!F11=\"\",\"\",IF('Beacon (Desc)'!F11=\"Unknown\",\"BCNM001\",INDEX([1]BEACON_MANUF_MODEL!$A$2:$D$1500,MATCH(1,([1]BEACON_MANUF_MODEL!$G$2:$G$1500=\"\")*([1]BEACON_MANUF_MODEL!$D$2:$D$1500='Beacon (Desc)'!$F11),0),1)))","v":""},{"$f":"IF('Beacon (Desc)'!H11=\"\",\"\",INDEX([1]BEACON_COLOR!$A$2:$A$20,MATCH('Beacon (Desc)'!$H11,[1]!MASTER_BEACON_COLOR_DESC[#Data],0),0))","v":""},{"$f":"IF('Beacon (Desc)'!I11=\"\",\"\",INDEX([1]BEACON_SIZE!$A$2:$A$20,MATCH('Beacon (Desc)'!$I11,[1]!MASTER_BEACON_SIZE_DESC[#Data],0),0))","v":""},{"$f":"IF('Beacon (Desc)'!J11=\"\",\"\",'Beacon (Desc)'!J11)","v":""}]
[{"$f":"IF('Beacon (Desc)'!A12=\"\",\"\",'Beacon (Desc)'!A12)","v":""},{"$f":"IF('Beacon (Desc)'!B12=\"\",\"\",\"1987\")","v":""},{"$f":"IF('Beacon (Desc)'!B12=\"\",\"\",'Beacon (Desc)'!B12)","v":""},{"$f":"IF('Beacon (Desc)'!C12=\"\",\"\",'Beacon (Desc)'!C12)","v":""},{"$f":"IF('Beacon (Desc)'!D12=\"\",\"\",'Beacon (Desc)'!D12)","v":""},{"$f":"IF('Beacon (Desc)'!E12=\"\",\"\",INDEX([1]BEACON_TYPE!$A$2:$A$20,MATCH('Beacon (Desc)'!$E12,[1]!MASTER_BEACON_TYPE_DESC[#Data],0),0))","v":""},{"$f":"IF('Beacon (Desc)'!F12=\"\",\"\",IF('Beacon (Desc)'!F12=\"Unknown\",\"BCN001\",(INDEX([1]BEACON_MANUF_MODEL!$A$2:$D$1500,MATCH(1,([1]BEACON_MANUF_MODEL!$G$2:$G$1500=\"\")*([1]BEACON_MANUF_MODEL!$D$2:$D$1500='Beacon (Desc)'!$F12),0),2))))","v":""},{"$f":"IF('Beacon (Desc)'!F12=\"\",\"\",IF('Beacon (Desc)'!F12=\"Unknown\",\"BCNM001\",INDEX([1]BEACON_MANUF_MODEL!$A$2:$D$1500,MATCH(1,([1]BEACON_MANUF_MODEL!$G$2:$G$1500=\"\")*([1]BEACON_MANUF_MODEL!$D$2:$D$1500='Beacon (Desc)'!$F12),0),1)))","v":""},{"$f":"IF('Beacon (Desc)'!H12=\"\",\"\",INDEX([1]BEACON_COLOR!$A$2:$A$20,MATCH('Beacon (Desc)'!$H12,[1]!MASTER_BEACON_COLOR_DESC[#Data],0),0))","v":""},{"$f":"IF('Beacon (Desc)'!I12=\"\",\"\",INDEX([1]BEACON_SIZE!$A$2:$A$20,MATCH('Beacon (Desc)'!$I12,[1]!MASTER_BEACON_SIZE_DESC[#Data],0),0))","v":""},{"$f":"IF('Beacon (Desc)'!J12=\"\",\"\",'Beacon (Desc)'!J12)","v":""}]
[{"$f":"IF('Beacon (Desc)'!A13=\"\",\"\",'Beacon (Desc)'!A13)","v":""},{"$f":"IF('Beacon (Desc)'!B13=\"\",\"\",\"1987\")","v":""},{"$f":"IF('Beacon (Desc)'!B13=\"\",\"\",'Beacon (Desc)'!B13)","v":""},{"$f":"IF('Beacon (Desc)'!C13=\"\",\"\",'Beacon (Desc)'!C13)","v":""},{"$f":"IF('Beacon (Desc)'!D13=\"\",\"\",'Beacon (Desc)'!D13)","v":""},{"$f":"IF('Beacon (Desc)'!E13=\"\",\"\",INDEX([1]BEACON_TYPE!$A$2:$A$20,MATCH('Beacon (Desc)'!$E13,[1]!MASTER_BEACON_TYPE_DESC[#Data],0),0))","v":""},{"$f":"IF('Beacon (Desc)'!F13=\"\",\"\",IF('Beacon (Desc)'!F13=\"Unknown\",\"BCN001\",(INDEX([1]BEACON_MANUF_MODEL!$A$2:$D$1500,MATCH(1,([1]BEACON_MANUF_MODEL!$G$2:$G$1500=\"\")*([1]BEACON_MANUF_MODEL!$D$2:$D$1500='Beacon (Desc)'!$F13),0),2))))","v":""},{"$f":"IF('Beacon (Desc)'!F13=\"\",\"\",IF('Beacon (Desc)'!F13=\"Unknown\",\"BCNM001\",INDEX([1]BEACON_MANUF_MODEL!$A$2:$D$1500,MATCH(1,([1]BEACON_MANUF_MODEL!$G$2:$G$1500=\"\")*([1]BEACON_MANUF_MODEL!$D$2:$D$1500='Beacon (Desc)'!$F13),0),1)))","v":""},{"$f":"IF('Beacon (Desc)'!H13=\"\",\"\",INDEX([1]BEACON_COLOR!$A$2:$A$20,MATCH('Beacon (Desc)'!$H13,[1]!MASTER_BEACON_COLOR_DESC[#Data],0),0))","v":""},{"$f":"IF('Beacon (Desc)'!I13=\"\",\"\",INDEX([1]BEACON_SIZE!$A$2:$A$20,MATCH('Beacon (Desc)'!$I13,[1]!MASTER_BEACON_SIZE_DESC[#Data],0),0))","v":""},{"$f":"IF('Beacon (Desc)'!J13=\"\",\"\",'Beacon (Desc)'!J13)","v":""}]
[{"$f":"IF('Beacon (Desc)'!A14=\"\",\"\",'Beacon (Desc)'!A14)","v":""},{"$f":"IF('Beacon (Desc)'!B14=\"\",\"\",\"1987\")","v":""},{"$f":"IF('Beacon (Desc)'!B14=\"\",\"\",'Beacon (Desc)'!B14)","v":""},{"$f":"IF('Beacon (Desc)'!C14=\"\",\"\",'Beacon (Desc)'!C14)","v":""},{"$f":"IF('Beacon (Desc)'!D14=\"\",\"\",'Beacon (Desc)'!D14)","v":""},{"$f":"IF('Beacon (Desc)'!E14=\"\",\"\",INDEX([1]BEACON_TYPE!$A$2:$A$20,MATCH('Beacon (Desc)'!$E14,[1]!MASTER_BEACON_TYPE_DESC[#Data],0),0))","v":""},{"$f":"IF('Beacon (Desc)'!F14=\"\",\"\",IF('Beacon (Desc)'!F14=\"Unknown\",\"BCN001\",(INDEX([1]BEACON_MANUF_MODEL!$A$2:$D$1500,MATCH(1,([1]BEACON_MANUF_MODEL!$G$2:$G$1500=\"\")*([1]BEACON_MANUF_MODEL!$D$2:$D$1500='Beacon (Desc)'!$F14),0),2))))","v":""},{"$f":"IF('Beacon (Desc)'!F14=\"\",\"\",IF('Beacon (Desc)'!F14=\"Unknown\",\"BCNM001\",INDEX([1]BEACON_MANUF_MODEL!$A$2:$D$1500,MATCH(1,([1]BEACON_MANUF_MODEL!$G$2:$G$1500=\"\")*([1]BEACON_MANUF_MODEL!$D$2:$D$1500='Beacon (Desc)'!$F14),0),1)))","v":""},{"$f":"IF('Beacon (Desc)'!H14=\"\",\"\",INDEX([1]BEACON_COLOR!$A$2:$A$20,MATCH('Beacon (Desc)'!$H14,[1]!MASTER_BEACON_COLOR_DESC[#Data],0),0))","v":""},{"$f":"IF('Beacon (Desc)'!I14=\"\",\"\",INDEX([1]BEACON_SIZE!$A$2:$A$20,MATCH('Beacon (Desc)'!$I14,[1]!MASTER_BEACON_SIZE_DESC[#Data],0),0))","v":""},{"$f":"IF('Beacon (Desc)'!J14=\"\",\"\",'Beacon (Desc)'!J14)","v":""}]
[{"$f":"IF('Beacon (Desc)'!A15=\"\",\"\",'Beacon (Desc)'!A15)","v":""},{"$f":"IF('Beacon (Desc)'!B15=\"\",\"\",\"1987\")","v":""},{"$f":"IF('Beacon (Desc)'!B15=\"\",\"\",'Beacon (Desc)'!B15)","v":""},{"$f":"IF('Beacon (Desc)'!C15=\"\",\"\",'Beacon (Desc)'!C15)","v":""},{"$f":"IF('Beacon (Desc)'!D15=\"\",\"\",'Beacon (Desc)'!D15)","v":""},{"$f":"IF('Beacon (Desc)'!E15=\"\",\"\",INDEX([1]BEACON_TYPE!$A$2:$A$20,MATCH('Beacon (Desc)'!$E15,[1]!MASTER_BEACON_TYPE_DESC[#Data],0),0))","v":""},{"$f":"IF('Beacon (Desc)'!F15=\"\",\"\",IF('Beacon (Desc)'!F15=\"Unknown\",\"BCN001\",(INDEX([1]BEACON_MANUF_MODEL!$A$2:$D$1500,MATCH(1,([1]BEACON_MANUF_MODEL!$G$2:$G$1500=\"\")*([1]BEACON_MANUF_MODEL!$D$2:$D$1500='Beacon (Desc)'!$F15),0),2))))","v":""},{"$f":"IF('Beacon (Desc)'!F15=\"\",\"\",IF('Beacon (Desc)'!F15=\"Unknown\",\"BCNM001\",INDEX([1]BEACON_MANUF_MODEL!$A$2:$D$1500,MATCH(1,([1]BEACON_MANUF_MODEL!$G$2:$G$1500=\"\")*([1]BEACON_MANUF_MODEL!$D$2:$D$1500='Beacon (Desc)'!$F15),0),1)))","v":""},{"$f":"IF('Beacon (Desc)'!H15=\"\",\"\",INDEX([1]BEACON_COLOR!$A$2:$A$20,MATCH('Beacon (Desc)'!$H15,[1]!MASTER_BEACON_COLOR_DESC[#Data],0),0))","v":""},{"$f":"IF('Beacon (Desc)'!I15=\"\",\"\",INDEX([1]BEACON_SIZE!$A$2:$A$20,MATCH('Beacon (Desc)'!$I15,[1]!MASTER_BEACON_SIZE_DESC[#Data],0),0))","v":""},{"$f":"IF('Beacon (Desc)'!J15=\"\",\"\",'Beacon (Desc)'!J15)","v":""}]
[{"$f":"IF('Beacon (Desc)'!A16=\"\",\"\",'Beacon (Desc)'!A16)","v":""},{"$f":"IF('Beacon (Desc)'!B16=\"\",\"\",\"1987\")","v":""},{"$f":"IF('Beacon (Desc)'!B16=\"\",\"\",'Beacon (Desc)'!B16)","v":""},{"$f":"IF('Beacon (Desc)'!C16=\"\",\"\",'Beacon (Desc)'!C16)","v":""},{"$f":"IF('Beacon (Desc)'!D16=\"\",\"\",'Beacon (Desc)'!D16)","v":""},{"$f":"IF('Beacon (Desc)'!E16=\"\",\"\",INDEX([1]BEACON_TYPE!$A$2:$A$20,MATCH('Beacon (Desc)'!$E16,[1]!MASTER_BEACON_TYPE_DESC[#Data],0),0))","v":""},{"$f":"IF('Beacon (Desc)'!F16=\"\",\"\",IF('Beacon (Desc)'!F16=\"Unknown\",\"BCN001\",(INDEX([1]BEACON_MANUF_MODEL!$A$2:$D$1500,MATCH(1,([1]BEACON_MANUF_MODEL!$G$2:$G$1500=\"\")*([1]BEACON_MANUF_MODEL!$D$2:$D$1500='Beacon (Desc)'!$F16),0),2))))","v":""},{"$f":"IF('Beacon (Desc)'!F16=\"\",\"\",IF('Beacon (Desc)'!F16=\"Unknown\",\"BCNM001\",INDEX([1]BEACON_MANUF_MODEL!$A$2:$D$1500,MATCH(1,([1]BEACON_MANUF_MODEL!$G$2:$G$1500=\"\")*([1]BEACON_MANUF_MODEL!$D$2:$D$1500='Beacon (Desc)'!$F16),0),1)))","v":""},{"$f":"IF('Beacon (Desc)'!H16=\"\",\"\",INDEX([1]BEACON_COLOR!$A$2:$A$20,MATCH('Beacon (Desc)'!$H16,[1]!MASTER_BEACON_COLOR_DESC[#Data],0),0))","v":""},{"$f":"IF('Beacon (Desc)'!I16=\"\",\"\",INDEX([1]BEACON_SIZE!$A$2:$A$20,MATCH('Beacon (Desc)'!$I16,[1]!MASTER_BEACON_SIZE_DESC[#Data],0),0))","v":""},{"$f":"IF('Beacon (Desc)'!J16=\"\",\"\",'Beacon (Desc)'!J16)","v":""}]
[{"$f":"IF('Beacon (Desc)'!A17=\"\",\"\",'Beacon (Desc)'!A17)","v":""},{"$f":"IF('Beacon (Desc)'!B17=\"\",\"\",\"1987\")","v":""},{"$f":"IF('Beacon (Desc)'!B17=\"\",\"\",'Beacon (Desc)'!B17)","v":""},{"$f":"IF('Beacon (Desc)'!C17=\"\",\"\",'Beacon (Desc)'!C17)","v":""},{"$f":"IF('Beacon (Desc)'!D17=\"\",\"\",'Beacon (Desc)'!D17)","v":""},{"$f":"IF('Beacon (Desc)'!E17=\"\",\"\",INDEX([1]BEACON_TYPE!$A$2:$A$20,MATCH('Beacon (Desc)'!$E17,[1]!MASTER_BEACON_TYPE_DESC[#Data],0),0))","v":""},{"$f":"IF('Beacon (Desc)'!F17=\"\",\"\",IF('Beacon (Desc)'!F17=\"Unknown\",\"BCN001\",(INDEX([1]BEACON_MANUF_MODEL!$A$2:$D$1500,MATCH(1,([1]BEACON_MANUF_MODEL!$G$2:$G$1500=\"\")*([1]BEACON_MANUF_MODEL!$D$2:$D$1500='Beacon (Desc)'!$F17),0),2))))","v":""},{"$f":"IF('Beacon (Desc)'!F17=\"\",\"\",IF('Beacon (Desc)'!F17=\"Unknown\",\"BCNM001\",INDEX([1]BEACON_MANUF_MODEL!$A$2:$D$1500,MATCH(1,([1]BEACON_MANUF_MODEL!$G$2:$G$1500=\"\")*([1]BEACON_MANUF_MODEL!$D$2:$D$1500='Beacon (Desc)'!$F17),0),1)))","v":""},{"$f":"IF('Beacon (Desc)'!H17=\"\",\"\",INDEX([1]BEACON_COLOR!$A$2:$A$20,MATCH('Beacon (Desc)'!$H17,[1]!MASTER_BEACON_COLOR_DESC[#Data],0),0))","v":""},{"$f":"IF('Beacon (Desc)'!I17=\"\",\"\",INDEX([1]BEACON_SIZE!$A$2:$A$20,MATCH('Beacon (Desc)'!$I17,[1]!MASTER_BEACON_SIZE_DESC[#Data],0),0))","v":""},{"$f":"IF('Beacon (Desc)'!J17=\"\",\"\",'Beacon (Desc)'!J17)","v":""}]
[{"$f":"IF('Beacon (Desc)'!A18=\"\",\"\",'Beacon (Desc)'!A18)","v":""},{"$f":"IF('Beacon (Desc)'!B18=\"\",\"\",\"1987\")","v":""},{"$f":"IF('Beacon (Desc)'!B18=\"\",\"\",'Beacon (Desc)'!B18)","v":""},{"$f":"IF('Beacon (Desc)'!C18=\"\",\"\",'Beacon (Desc)'!C18)","v":""},{"$f":"IF('Beacon (Desc)'!D18=\"\",\"\",'Beacon (Desc)'!D18)","v":""},{"$f":"IF('Beacon (Desc)'!E18=\"\",\"\",INDEX([1]BEACON_TYPE!$A$2:$A$20,MATCH('Beacon (Desc)'!$E18,[1]!MASTER_BEACON_TYPE_DESC[#Data],0),0))","v":""},{"$f":"IF('Beacon (Desc)'!F18=\"\",\"\",IF('Beacon (Desc)'!F18=\"Unknown\",\"BCN001\",(INDEX([1]BEACON_MANUF_MODEL!$A$2:$D$1500,MATCH(1,([1]BEACON_MANUF_MODEL!$G$2:$G$1500=\"\")*([1]BEACON_MANUF_MODEL!$D$2:$D$1500='Beacon (Desc)'!$F18),0),2))))","v":""},{"$f":"IF('Beacon (Desc)'!F18=\"\",\"\",IF('Beacon (Desc)'!F18=\"Unknown\",\"BCNM001\",INDEX([1]BEACON_MANUF_MODEL!$A$2:$D$1500,MATCH(1,([1]BEACON_MANUF_MODEL!$G$2:$G$1500=\"\")*([1]BEACON_MANUF_MODEL!$D$2:$D$1500='Beacon (Desc)'!$F18),0),1)))","v":""},{"$f":"IF('Beacon (Desc)'!H18=\"\",\"\",INDEX([1]BEACON_COLOR!$A$2:$A$20,MATCH('Beacon (Desc)'!$H18,[1]!MASTER_BEACON_COLOR_DESC[#Data],0),0))","v":""},{"$f":"IF('Beacon (Desc)'!I18=\"\",\"\",INDEX([1]BEACON_SIZE!$A$2:$A$20,MATCH('Beacon (Desc)'!$I18,[1]!MASTER_BEACON_SIZE_DESC[#Data],0),0))","v":""},{"$f":"IF('Beacon (Desc)'!J18=\"\",\"\",'Beacon (Desc)'!J18)","v":""}]
[{"$f":"IF('Beacon (Desc)'!A19=\"\",\"\",'Beacon (Desc)'!A19)","v":""},{"$f":"IF('Beacon (Desc)'!B19=\"\",\"\",\"1987\")","v":""},{"$f":"IF('Beacon (Desc)'!B19=\"\",\"\",'Beacon (Desc)'!B19)","v":""},{"$f":"IF('Beacon (Desc)'!C19=\"\",\"\",'Beacon (Desc)'!C19)","v":""},{"$f":"IF('Beacon (Desc)'!D19=\"\",\"\",'Beacon (Desc)'!D19)","v":""},{"$f":"IF('Beacon (Desc)'!E19=\"\",\"\",INDEX([1]BEACON_TYPE!$A$2:$A$20,MATCH('Beacon (Desc)'!$E19,[1]!MASTER_BEACON_TYPE_DESC[#Data],0),0))","v":""},{"$f":"IF('Beacon (Desc)'!F19=\"\",\"\",IF('Beacon (Desc)'!F19=\"Unknown\",\"BCN001\",(INDEX([1]BEACON_MANUF_MODEL!$A$2:$D$1500,MATCH(1,([1]BEACON_MANUF_MODEL!$G$2:$G$1500=\"\")*([1]BEACON_MANUF_MODEL!$D$2:$D$1500='Beacon (Desc)'!$F19),0),2))))","v":""},{"$f":"IF('Beacon (Desc)'!F19=\"\",\"\",IF('Beacon (Desc)'!F19=\"Unknown\",\"BCNM001\",INDEX([1]BEACON_MANUF_MODEL!$A$2:$D$1500,MATCH(1,([1]BEACON_MANUF_MODEL!$G$2:$G$1500=\"\")*([1]BEACON_MANUF_MODEL!$D$2:$D$1500='Beacon (Desc)'!$F19),0),1)))","v":""},{"$f":"IF('Beacon (Desc)'!H19=\"\",\"\",INDEX([1]BEACON_COLOR!$A$2:$A$20,MATCH('Beacon (Desc)'!$H19,[1]!MASTER_BEACON_COLOR_DESC[#Data],0),0))","v":""},{"$f":"IF('Beacon (Desc)'!I19=\"\",\"\",INDEX([1]BEACON_SIZE!$A$2:$A$20,MATCH('Beacon (Desc)'!$I19,[1]!MASTER_BEACON_SIZE_DESC[#Data],0),0))","v":""},{"$f":"IF('Beacon (Desc)'!J19=\"\",\"\",'Beacon (Desc)'!J19)","v":""}]
[{"$f":"IF('Beacon (Desc)'!A20=\"\",\"\",'Beacon (Desc)'!A20)","v":""},{"$f":"IF('Beacon (Desc)'!B20=\"\",\"\",\"1987\")","v":""},{"$f":"IF('Beacon (Desc)'!B20=\"\",\"\",'Beacon (Desc)'!B20)","v":""},{"$f":"IF('Beacon (Desc)'!C20=\"\",\"\",'Beacon (Desc)'!C20)","v":""},{"$f":"IF('Beacon (Desc)'!D20=\"\",\"\",'Beacon (Desc)'!D20)","v":""},{"$f":"IF('Beacon (Desc)'!E20=\"\",\"\",INDEX([1]BEACON_TYPE!$A$2:$A$20,MATCH('Beacon (Desc)'!$E20,[1]!MASTER_BEACON_TYPE_DESC[#Data],0),0))","v":""},{"$f":"IF('Beacon (Desc)'!F20=\"\",\"\",IF('Beacon (Desc)'!F20=\"Unknown\",\"BCN001\",(INDEX([1]BEACON_MANUF_MODEL!$A$2:$D$1500,MATCH(1,([1]BEACON_MANUF_MODEL!$G$2:$G$1500=\"\")*([1]BEACON_MANUF_MODEL!$D$2:$D$1500='Beacon (Desc)'!$F20),0),2))))","v":""},{"$f":"IF('Beacon (Desc)'!F20=\"\",\"\",IF('Beacon (Desc)'!F20=\"Unknown\",\"BCNM001\",INDEX([1]BEACON_MANUF_MODEL!$A$2:$D$1500,MATCH(1,([1]BEACON_MANUF_MODEL!$G$2:$G$1500=\"\")*([1]BEACON_MANUF_MODEL!$D$2:$D$1500='Beacon (Desc)'!$F20),0),1)))","v":""},{"$f":"IF('Beacon (Desc)'!H20=\"\",\"\",INDEX([1]BEACON_COLOR!$A$2:$A$20,MATCH('Beacon (Desc)'!$H20,[1]!MASTER_BEACON_COLOR_DESC[#Data],0),0))","v":""},{"$f":"IF('Beacon (Desc)'!I20=\"\",\"\",INDEX([1]BEACON_SIZE!$A$2:$A$20,MATCH('Beacon (Desc)'!$I20,[1]!MASTER_BEACON_SIZE_DESC[#Data],0),0))","v":""},{"$f":"IF('Beacon (Desc)'!J20=\"\",\"\",'Beacon (Desc)'!J20)","v":""}]
[{"$f":"IF('Beacon (Desc)'!A21=\"\",\"\",'Beacon (Desc)'!A21)","v":""},{"$f":"IF('Beacon (Desc)'!B21=\"\",\"\",\"1987\")","v":""},{"$f":"IF('Beacon (Desc)'!B21=\"\",\"\",'Beacon (Desc)'!B21)","v":""},{"$f":"IF('Beacon (Desc)'!C21=\"\",\"\",'Beacon (Desc)'!C21)","v":""},{"$f":"IF('Beacon (Desc)'!D21=\"\",\"\",'Beacon (Desc)'!D21)","v":""},{"$f":"IF('Beacon (Desc)'!E21=\"\",\"\",INDEX([1]BEACON_TYPE!$A$2:$A$20,MATCH('Beacon (Desc)'!$E21,[1]!MASTER_BEACON_TYPE_DESC[#Data],0),0))","v":""},{"$f":"IF('Beacon (Desc)'!F21=\"\",\"\",IF('Beacon (Desc)'!F21=\"Unknown\",\"BCN001\",(INDEX([1]BEACON_MANUF_MODEL!$A$2:$D$1500,MATCH(1,([1]BEACON_MANUF_MODEL!$G$2:$G$1500=\"\")*([1]BEACON_MANUF_MODEL!$D$2:$D$1500='Beacon (Desc)'!$F21),0),2))))","v":""},{"$f":"IF('Beacon (Desc)'!F21=\"\",\"\",IF('Beacon (Desc)'!F21=\"Unknown\",\"BCNM001\",INDEX([1]BEACON_MANUF_MODEL!$A$2:$D$1500,MATCH(1,([1]BEACON_MANUF_MODEL!$G$2:$G$1500=\"\")*([1]BEACON_MANUF_MODEL!$D$2:$D$1500='Beacon (Desc)'!$F21),0),1)))","v":""},{"$f":"IF('Beacon (Desc)'!H21=\"\",\"\",INDEX([1]BEACON_COLOR!$A$2:$A$20,MATCH('Beacon (Desc)'!$H21,[1]!MASTER_BEACON_COLOR_DESC[#Data],0),0))","v":""},{"$f":"IF('Beacon (Desc)'!I21=\"\",\"\",INDEX([1]BEACON_SIZE!$A$2:$A$20,MATCH('Beacon (Desc)'!$I21,[1]!MASTER_BEACON_SIZE_DESC[#Data],0),0))","v":""},{"$f":"IF('Beacon (Desc)'!J21=\"\",\"\",'Beacon (Desc)'!J21)","v":""}]
[{"$f":"IF('Beacon (Desc)'!A22=\"\",\"\",'Beacon (Desc)'!A22)","v":""},{"$f":"IF('Beacon (Desc)'!B22=\"\",\"\",\"1987\")","v":""},{"$f":"IF('Beacon (Desc)'!B22=\"\",\"\",'Beacon (Desc)'!B22)","v":""},{"$f":"IF('Beacon (Desc)'!C22=\"\",\"\",'Beacon (Desc)'!C22)","v":""},{"$f":"IF('Beacon (Desc)'!D22=\"\",\"\",'Beacon (Desc)'!D22)","v":""},{"$f":"IF('Beacon (Desc)'!E22=\"\",\"\",INDEX([1]BEACON_TYPE!$A$2:$A$20,MATCH('Beacon (Desc)'!$E22,[1]!MASTER_BEACON_TYPE_DESC[#Data],0),0))","v":""},{"$f":"IF('Beacon (Desc)'!F22=\"\",\"\",IF('Beacon (Desc)'!F22=\"Unknown\",\"BCN001\",(INDEX([1]BEACON_MANUF_MODEL!$A$2:$D$1500,MATCH(1,([1]BEACON_MANUF_MODEL!$G$2:$G$1500=\"\")*([1]BEACON_MANUF_MODEL!$D$2:$D$1500='Beacon (Desc)'!$F22),0),2))))","v":""},{"$f":"IF('Beacon (Desc)'!F22=\"\",\"\",IF('Beacon (Desc)'!F22=\"Unknown\",\"BCNM001\",INDEX([1]BEACON_MANUF_MODEL!$A$2:$D$1500,MATCH(1,([1]BEACON_MANUF_MODEL!$G$2:$G$1500=\"\")*([1]BEACON_MANUF_MODEL!$D$2:$D$1500='Beacon (Desc)'!$F22),0),1)))","v":""},{"$f":"IF('Beacon (Desc)'!H22=\"\",\"\",INDEX([1]BEACON_COLOR!$A$2:$A$20,MATCH('Beacon (Desc)'!$H22,[1]!MASTER_BEACON_COLOR_DESC[#Data],0),0))","v":""},{"$f":"IF('Beacon (Desc)'!I22=\"\",\"\",INDEX([1]BEACON_SIZE!$A$2:$A$20,MATCH('Beacon (Desc)'!$I22,[1]!MASTER_BEACON_SIZE_DESC[#Data],0),0))","v":""},{"$f":"IF('Beacon (Desc)'!J22=\"\",\"\",'Beacon (Desc)'!J22)","v":""}]
[{"$f":"IF('Beacon (Desc)'!A23=\"\",\"\",'Beacon (Desc)'!A23)","v":""},{"$f":"IF('Beacon (Desc)'!B23=\"\",\"\",\"1987\")","v":""},{"$f":"IF('Beacon (Desc)'!B23=\"\",\"\",'Beacon (Desc)'!B23)","v":""},{"$f":"IF('Beacon (Desc)'!C23=\"\",\"\",'Beacon (Desc)'!C23)","v":""},{"$f":"IF('Beacon (Desc)'!D23=\"\",\"\",'Beacon (Desc)'!D23)","v":""},{"$f":"IF('Beacon (Desc)'!E23=\"\",\"\",INDEX([1]BEACON_TYPE!$A$2:$A$20,MATCH('Beacon (Desc)'!$E23,[1]!MASTER_BEACON_TYPE_DESC[#Data],0),0))","v":""},{"$f":"IF('Beacon (Desc)'!F23=\"\",\"\",IF('Beacon (Desc)'!F23=\"Unknown\",\"BCN001\",(INDEX([1]BEACON_MANUF_MODEL!$A$2:$D$1500,MATCH(1,([1]BEACON_MANUF_MODEL!$G$2:$G$1500=\"\")*([1]BEACON_MANUF_MODEL!$D$2:$D$1500='Beacon (Desc)'!$F23),0),2))))","v":""},{"$f":"IF('Beacon (Desc)'!F23=\"\",\"\",IF('Beacon (Desc)'!F23=\"Unknown\",\"BCNM001\",INDEX([1]BEACON_MANUF_MODEL!$A$2:$D$1500,MATCH(1,([1]BEACON_MANUF_MODEL!$G$2:$G$1500=\"\")*([1]BEACON_MANUF_MODEL!$D$2:$D$1500='Beacon (Desc)'!$F23),0),1)))","v":""},{"$f":"IF('Beacon (Desc)'!H23=\"\",\"\",INDEX([1]BEACON_COLOR!$A$2:$A$20,MATCH('Beacon (Desc)'!$H23,[1]!MASTER_BEACON_COLOR_DESC[#Data],0),0))","v":""},{"$f":"IF('Beacon (Desc)'!I23=\"\",\"\",INDEX([1]BEACON_SIZE!$A$2:$A$20,MATCH('Beacon (Desc)'!$I23,[1]!MASTER_BEACON_SIZE_DESC[#Data],0),0))","v":""},{"$f":"IF('Beacon (Desc)'!J23=\"\",\"\",'Beacon (Desc)'!J23)","v":""}]
[{"$f":"IF('Beacon (Desc)'!A24=\"\",\"\",'Beacon (Desc)'!A24)","v":""},{"$f":"IF('Beacon (Desc)'!B24=\"\",\"\",\"1987\")","v":""},{"$f":"IF('Beacon (Desc)'!B24=\"\",\"\",'Beacon (Desc)'!B24)","v":""},{"$f":"IF('Beacon (Desc)'!C24=\"\",\"\",'Beacon (Desc)'!C24)","v":""},{"$f":"IF('Beacon (Desc)'!D24=\"\",\"\",'Beacon (Desc)'!D24)","v":""},{"$f":"IF('Beacon (Desc)'!E24=\"\",\"\",INDEX([1]BEACON_TYPE!$A$2:$A$20,MATCH('Beacon (Desc)'!$E24,[1]!MASTER_BEACON_TYPE_DESC[#Data],0),0))","v":""},{"$f":"IF('Beacon (Desc)'!F24=\"\",\"\",IF('Beacon (Desc)'!F24=\"Unknown\",\"BCN001\",(INDEX([1]BEACON_MANUF_MODEL!$A$2:$D$1500,MATCH(1,([1]BEACON_MANUF_MODEL!$G$2:$G$1500=\"\")*([1]BEACON_MANUF_MODEL!$D$2:$D$1500='Beacon (Desc)'!$F24),0),2))))","v":""},{"$f":"IF('Beacon (Desc)'!F24=\"\",\"\",IF('Beacon (Desc)'!F24=\"Unknown\",\"BCNM001\",INDEX([1]BEACON_MANUF_MODEL!$A$2:$D$1500,MATCH(1,([1]BEACON_MANUF_MODEL!$G$2:$G$1500=\"\")*([1]BEACON_MANUF_MODEL!$D$2:$D$1500='Beacon (Desc)'!$F24),0),1)))","v":""},{"$f":"IF('Beacon (Desc)'!H24=\"\",\"\",INDEX([1]BEACON_COLOR!$A$2:$A$20,MATCH('Beacon (Desc)'!$H24,[1]!MASTER_BEACON_COLOR_DESC[#Data],0),0))","v":""},{"$f":"IF('Beacon (Desc)'!I24=\"\",\"\",INDEX([1]BEACON_SIZE!$A$2:$A$20,MATCH('Beacon (Desc)'!$I24,[1]!MASTER_BEACON_SIZE_DESC[#Data],0),0))","v":""},{"$f":"IF('Beacon (Desc)'!J24=\"\",\"\",'Beacon (Desc)'!J24)","v":""}]
[{"$f":"IF('Beacon (Desc)'!A25=\"\",\"\",'Beacon (Desc)'!A25)","v":""},{"$f":"IF('Beacon (Desc)'!B25=\"\",\"\",\"1987\")","v":""},{"$f":"IF('Beacon (Desc)'!B25=\"\",\"\",'Beacon (Desc)'!B25)","v":""},{"$f":"IF('Beacon (Desc)'!C25=\"\",\"\",'Beacon (Desc)'!C25)","v":""},{"$f":"IF('Beacon (Desc)'!D25=\"\",\"\",'Beacon (Desc)'!D25)","v":""},{"$f":"IF('Beacon (Desc)'!E25=\"\",\"\",INDEX([1]BEACON_TYPE!$A$2:$A$20,MATCH('Beacon (Desc)'!$E25,[1]!MASTER_BEACON_TYPE_DESC[#Data],0),0))","v":""},{"$f":"IF('Beacon (Desc)'!F25=\"\",\"\",IF('Beacon (Desc)'!F25=\"Unknown\",\"BCN001\",(INDEX([1]BEACON_MANUF_MODEL!$A$2:$D$1500,MATCH(1,([1]BEACON_MANUF_MODEL!$G$2:$G$1500=\"\")*([1]BEACON_MANUF_MODEL!$D$2:$D$1500='Beacon (Desc)'!$F25),0),2))))","v":""},{"$f":"IF('Beacon (Desc)'!F25=\"\",\"\",IF('Beacon (Desc)'!F25=\"Unknown\",\"BCNM001\",INDEX([1]BEACON_MANUF_MODEL!$A$2:$D$1500,MATCH(1,([1]BEACON_MANUF_MODEL!$G$2:$G$1500=\"\")*([1]BEACON_MANUF_MODEL!$D$2:$D$1500='Beacon (Desc)'!$F25),0),1)))","v":""},{"$f":"IF('Beacon (Desc)'!H25=\"\",\"\",INDEX([1]BEACON_COLOR!$A$2:$A$20,MATCH('Beacon (Desc)'!$H25,[1]!MASTER_BEACON_COLOR_DESC[#Data],0),0))","v":""},{"$f":"IF('Beacon (Desc)'!I25=\"\",\"\",INDEX([1]BEACON_SIZE!$A$2:$A$20,MATCH('Beacon (Desc)'!$I25,[1]!MASTER_BEACON_SIZE_DESC[#Data],0),0))","v":""},{"$f":"IF('Beacon (Desc)'!J25=\"\",\"\",'Beacon (Desc)'!J25)","v":""}]
[{"$f":"IF('Beacon (Desc)'!A26=\"\",\"\",'Beacon (Desc)'!A26)","v":""},{"$f":"IF('Beacon (Desc)'!B26=\"\",\"\",\"1987\")","v":""},{"$f":"IF('Beacon (Desc)'!B26=\"\",\"\",'Beacon (Desc)'!B26)","v":""},{"$f":"IF('Beacon (Desc)'!C26=\"\",\"\",'Beacon (Desc)'!C26)","v":""},{"$f":"IF('Beacon (Desc)'!D26=\"\",\"\",'Beacon (Desc)'!D26)","v":""},{"$f":"IF('Beacon (Desc)'!E26=\"\",\"\",INDEX([1]BEACON_TYPE!$A$2:$A$20,MATCH('Beacon (Desc)'!$E26,[1]!MASTER_BEACON_TYPE_DESC[#Data],0),0))","v":""},{"$f":"IF('Beacon (Desc)'!F26=\"\",\"\",IF('Beacon (Desc)'!F26=\"Unknown\",\"BCN001\",(INDEX([1]BEACON_MANUF_MODEL!$A$2:$D$1500,MATCH(1,([1]BEACON_MANUF_MODEL!$G$2:$G$1500=\"\")*([1]BEACON_MANUF_MODEL!$D$2:$D$1500='Beacon (Desc)'!$F26),0),2))))","v":""},{"$f":"IF('Beacon (Desc)'!F26=\"\",\"\",IF('Beacon (Desc)'!F26=\"Unknown\",\"BCNM001\",INDEX([1]BEACON_MANUF_MODEL!$A$2:$D$1500,MATCH(1,([1]BEACON_MANUF_MODEL!$G$2:$G$1500=\"\")*([1]BEACON_MANUF_MODEL!$D$2:$D$1500='Beacon (Desc)'!$F26),0),1)))","v":""},{"$f":"IF('Beacon (Desc)'!H26=\"\",\"\",INDEX([1]BEACON_COLOR!$A$2:$A$20,MATCH('Beacon (Desc)'!$H26,[1]!MASTER_BEACON_COLOR_DESC[#Data],0),0))","v":""},{"$f":"IF('Beacon (Desc)'!I26=\"\",\"\",INDEX([1]BEACON_SIZE!$A$2:$A$20,MATCH('Beacon (Desc)'!$I26,[1]!MASTER_BEACON_SIZE_DESC[#Data],0),0))","v":""},{"$f":"IF('Beacon (Desc)'!J26=\"\",\"\",'Beacon (Desc)'!J26)","v":""}]
[{"$f":"IF('Beacon (Desc)'!A27=\"\",\"\",'Beacon (Desc)'!A27)","v":""},{"$f":"IF('Beacon (Desc)'!B27=\"\",\"\",\"1987\")","v":""},{"$f":"IF('Beacon (Desc)'!B27=\"\",\"\",'Beacon (Desc)'!B27)","v":""},{"$f":"IF('Beacon (Desc)'!C27=\"\",\"\",'Beacon (Desc)'!C27)","v":""},{"$f":"IF('Beacon (Desc)'!D27=\"\",\"\",'Beacon (Desc)'!D27)","v":""},{"$f":"IF('Beacon (Desc)'!E27=\"\",\"\",INDEX([1]BEACON_TYPE!$A$2:$A$20,MATCH('Beacon (Desc)'!$E27,[1]!MASTER_BEACON_TYPE_DESC[#Data],0),0))","v":""},{"$f":"IF('Beacon (Desc)'!F27=\"\",\"\",IF('Beacon (Desc)'!F27=\"Unknown\",\"BCN001\",(INDEX([1]BEACON_MANUF_MODEL!$A$2:$D$1500,MATCH(1,([1]BEACON_MANUF_MODEL!$G$2:$G$1500=\"\")*([1]BEACON_MANUF_MODEL!$D$2:$D$1500='Beacon (Desc)'!$F27),0),2))))","v":""},{"$f":"IF('Beacon (Desc)'!F27=\"\",\"\",IF('Beacon (Desc)'!F27=\"Unknown\",\"BCNM001\",INDEX([1]BEACON_MANUF_MODEL!$A$2:$D$1500,MATCH(1,([1]BEACON_MANUF_MODEL!$G$2:$G$1500=\"\")*([1]BEACON_MANUF_MODEL!$D$2:$D$1500='Beacon (Desc)'!$F27),0),1)))","v":""},{"$f":"IF('Beacon (Desc)'!H27=\"\",\"\",INDEX([1]BEACON_COLOR!$A$2:$A$20,MATCH('Beacon (Desc)'!$H27,[1]!MASTER_BEACON_COLOR_DESC[#Data],0),0))","v":""},{"$f":"IF('Beacon (Desc)'!I27=\"\",\"\",INDEX([1]BEACON_SIZE!$A$2:$A$20,MATCH('Beacon (Desc)'!$I27,[1]!MASTER_BEACON_SIZE_DESC[#Data],0),0))","v":""},{"$f":"IF('Beacon (Desc)'!J27=\"\",\"\",'Beacon (Desc)'!J27)","v":""}]
[{"$f":"IF('Beacon (Desc)'!A28=\"\",\"\",'Beacon (Desc)'!A28)","v":""},{"$f":"IF('Beacon (Desc)'!B28=\"\",\"\",\"1987\")","v":""},{"$f":"IF('Beacon (Desc)'!B28=\"\",\"\",'Beacon (Desc)'!B28)","v":""},{"$f":"IF('Beacon (Desc)'!C28=\"\",\"\",'Beacon (Desc)'!C28)","v":""},{"$f":"IF('Beacon (Desc)'!D28=\"\",\"\",'Beacon (Desc)'!D28)","v":""},{"$f":"IF('Beacon (Desc)'!E28=\"\",\"\",INDEX([1]BEACON_TYPE!$A$2:$A$20,MATCH('Beacon (Desc)'!$E28,[1]!MASTER_BEACON_TYPE_DESC[#Data],0),0))","v":""},{"$f":"IF('Beacon (Desc)'!F28=\"\",\"\",IF('Beacon (Desc)'!F28=\"Unknown\",\"BCN001\",(INDEX([1]BEACON_MANUF_MODEL!$A$2:$D$1500,MATCH(1,([1]BEACON_MANUF_MODEL!$G$2:$G$1500=\"\")*([1]BEACON_MANUF_MODEL!$D$2:$D$1500='Beacon (Desc)'!$F28),0),2))))","v":""},{"$f":"IF('Beacon (Desc)'!F28=\"\",\"\",IF('Beacon (Desc)'!F28=\"Unknown\",\"BCNM001\",INDEX([1]BEACON_MANUF_MODEL!$A$2:$D$1500,MATCH(1,([1]BEACON_MANUF_MODEL!$G$2:$G$1500=\"\")*([1]BEACON_MANUF_MODEL!$D$2:$D$1500='Beacon (Desc)'!$F28),0),1)))","v":""},{"$f":"IF('Beacon (Desc)'!H28=\"\",\"\",INDEX([1]BEACON_COLOR!$A$2:$A$20,MATCH('Beacon (Desc)'!$H28,[1]!MASTER_BEACON_COLOR_DESC[#Data],0),0))","v":""},{"$f":"IF('Beacon (Desc)'!I28=\"\",\"\",INDEX([1]BEACON_SIZE!$A$2:$A$20,MATCH('Beacon (Desc)'!$I28,[1]!MASTER_BEACON_SIZE_DESC[#Data],0),0))","v":""},{"$f":"IF('Beacon (Desc)'!J28=\"\",\"\",'Beacon (Desc)'!J28)","v":""}]
[{"$f":"IF('Beacon (Desc)'!A29=\"\",\"\",'Beacon (Desc)'!A29)","v":""},{"$f":"IF('Beacon (Desc)'!B29=\"\",\"\",\"1987\")","v":""},{"$f":"IF('Beacon (Desc)'!B29=\"\",\"\",'Beacon (Desc)'!B29)","v":""},{"$f":"IF('Beacon (Desc)'!C29=\"\",\"\",'Beacon (Desc)'!C29)","v":""},{"$f":"IF('Beacon (Desc)'!D29=\"\",\"\",'Beacon (Desc)'!D29)","v":""},{"$f":"IF('Beacon (Desc)'!E29=\"\",\"\",INDEX([1]BEACON_TYPE!$A$2:$A$20,MATCH('Beacon (Desc)'!$E29,[1]!MASTER_BEACON_TYPE_DESC[#Data],0),0))","v":""},{"$f":"IF('Beacon (Desc)'!F29=\"\",\"\",IF('Beacon (Desc)'!F29=\"Unknown\",\"BCN001\",(INDEX([1]BEACON_MANUF_MODEL!$A$2:$D$1500,MATCH(1,([1]BEACON_MANUF_MODEL!$G$2:$G$1500=\"\")*([1]BEACON_MANUF_MODEL!$D$2:$D$1500='Beacon (Desc)'!$F29),0),2))))","v":""},{"$f":"IF('Beacon (Desc)'!F29=\"\",\"\",IF('Beacon (Desc)'!F29=\"Unknown\",\"BCNM001\",INDEX([1]BEACON_MANUF_MODEL!$A$2:$D$1500,MATCH(1,([1]BEACON_MANUF_MODEL!$G$2:$G$1500=\"\")*([1]BEACON_MANUF_MODEL!$D$2:$D$1500='Beacon (Desc)'!$F29),0),1)))","v":""},{"$f":"IF('Beacon (Desc)'!H29=\"\",\"\",INDEX([1]BEACON_COLOR!$A$2:$A$20,MATCH('Beacon (Desc)'!$H29,[1]!MASTER_BEACON_COLOR_DESC[#Data],0),0))","v":""},{"$f":"IF('Beacon (Desc)'!I29=\"\",\"\",INDEX([1]BEACON_SIZE!$A$2:$A$20,MATCH('Beacon (Desc)'!$I29,[1]!MASTER_BEACON_SIZE_DESC[#Data],0),0))","v":""},{"$f":"IF('Beacon (Desc)'!J29=\"\",\"\",'Beacon (Desc)'!J29)","v":""}]
[{"$f":"IF('Beacon (Desc)'!A30=\"\",\"\",'Beacon (Desc)'!A30)","v":""},{"$f":"IF('Beacon (Desc)'!B30=\"\",\"\",\"1987\")","v":""},{"$f":"IF('Beacon (Desc)'!B30=\"\",\"\",'Beacon (Desc)'!B30)","v":""},{"$f":"IF('Beacon (Desc)'!C30=\"\",\"\",'Beacon (Desc)'!C30)","v":""},{"$f":"IF('Beacon (Desc)'!D30=\"\",\"\",'Beacon (Desc)'!D30)","v":""},{"$f":"IF('Beacon (Desc)'!E30=\"\",\"\",INDEX([1]BEACON_TYPE!$A$2:$A$20,MATCH('Beacon (Desc)'!$E30,[1]!MASTER_BEACON_TYPE_DESC[#Data],0),0))","v":""},{"$f":"IF('Beacon (Desc)'!F30=\"\",\"\",IF('Beacon (Desc)'!F30=\"Unknown\",\"BCN001\",(INDEX([1]BEACON_MANUF_MODEL!$A$2:$D$1500,MATCH(1,([1]BEACON_MANUF_MODEL!$G$2:$G$1500=\"\")*([1]BEACON_MANUF_MODEL!$D$2:$D$1500='Beacon (Desc)'!$F30),0),2))))","v":""},{"$f":"IF('Beacon (Desc)'!F30=\"\",\"\",IF('Beacon (Desc)'!F30=\"Unknown\",\"BCNM001\",INDEX([1]BEACON_MANUF_MODEL!$A$2:$D$1500,MATCH(1,([1]BEACON_MANUF_MODEL!$G$2:$G$1500=\"\")*([1]BEACON_MANUF_MODEL!$D$2:$D$1500='Beacon (Desc)'!$F30),0),1)))","v":""},{"$f":"IF('Beacon (Desc)'!H30=\"\",\"\",INDEX([1]BEACON_COLOR!$A$2:$A$20,MATCH('Beacon (Desc)'!$H30,[1]!MASTER_BEACON_COLOR_DESC[#Data],0),0))","v":""},{"$f":"IF('Beacon (Desc)'!I30=\"\",\"\",INDEX([1]BEACON_SIZE!$A$2:$A$20,MATCH('Beacon (Desc)'!$I30,[1]!MASTER_BEACON_SIZE_DESC[#Data],0),0))","v":""},{"$f":"IF('Beacon (Desc)'!J30=\"\",\"\",'Beacon (Desc)'!J30)","v":""}]
[{"$f":"IF('Beacon (Desc)'!A31=\"\",\"\",'Beacon (Desc)'!A31)","v":""},{"$f":"IF('Beacon (Desc)'!B31=\"\",\"\",\"1987\")","v":""},{"$f":"IF('Beacon (Desc)'!B31=\"\",\"\",'Beacon (Desc)'!B31)","v":""},{"$f":"IF('Beacon (Desc)'!C31=\"\",\"\",'Beacon (Desc)'!C31)","v":""},{"$f":"IF('Beacon (Desc)'!D31=\"\",\"\",'Beacon (Desc)'!D31)","v":""},{"$f":"IF('Beacon (Desc)'!E31=\"\",\"\",INDEX([1]BEACON_TYPE!$A$2:$A$20,MATCH('Beacon (Desc)'!$E31,[1]!MASTER_BEACON_TYPE_DESC[#Data],0),0))","v":""},{"$f":"IF('Beacon (Desc)'!F31=\"\",\"\",IF('Beacon (Desc)'!F31=\"Unknown\",\"BCN001\",(INDEX([1]BEACON_MANUF_MODEL!$A$2:$D$1500,MATCH(1,([1]BEACON_MANUF_MODEL!$G$2:$G$1500=\"\")*([1]BEACON_MANUF_MODEL!$D$2:$D$1500='Beacon (Desc)'!$F31),0),2))))","v":""},{"$f":"IF('Beacon (Desc)'!F31=\"\",\"\",IF('Beacon (Desc)'!F31=\"Unknown\",\"BCNM001\",INDEX([1]BEACON_MANUF_MODEL!$A$2:$D$1500,MATCH(1,([1]BEACON_MANUF_MODEL!$G$2:$G$1500=\"\")*([1]BEACON_MANUF_MODEL!$D$2:$D$1500='Beacon (Desc)'!$F31),0),1)))","v":""},{"$f":"IF('Beacon (Desc)'!H31=\"\",\"\",INDEX([1]BEACON_COLOR!$A$2:$A$20,MATCH('Beacon (Desc)'!$H31,[1]!MASTER_BEACON_COLOR_DESC[#Data],0),0))","v":""},{"$f":"IF('Beacon (Desc)'!I31=\"\",\"\",INDEX([1]BEACON_SIZE!$A$2:$A$20,MATCH('Beacon (Desc)'!$I31,[1]!MASTER_BEACON_SIZE_DESC[#Data],0),0))","v":""},{"$f":"IF('Beacon (Desc)'!J31=\"\",\"\",'Beacon (Desc)'!J31)","v":""}]
[{"$f":"IF('Beacon (Desc)'!A32=\"\",\"\",'Beacon (Desc)'!A32)","v":""},{"$f":"IF('Beacon (Desc)'!B32=\"\",\"\",\"1987\")","v":""},{"$f":"IF('Beacon (Desc)'!B32=\"\",\"\",'Beacon (Desc)'!B32)","v":""},{"$f":"IF('Beacon (Desc)'!C32=\"\",\"\",'Beacon (Desc)'!C32)","v":""},{"$f":"IF('Beacon (Desc)'!D32=\"\",\"\",'Beacon (Desc)'!D32)","v":""},{"$f":"IF('Beacon (Desc)'!E32=\"\",\"\",INDEX([1]BEACON_TYPE!$A$2:$A$20,MATCH('Beacon (Desc)'!$E32,[1]!MASTER_BEACON_TYPE_DESC[#Data],0),0))","v":""},{"$f":"IF('Beacon (Desc)'!F32=\"\",\"\",IF('Beacon (Desc)'!F32=\"Unknown\",\"BCN001\",(INDEX([1]BEACON_MANUF_MODEL!$A$2:$D$1500,MATCH(1,([1]BEACON_MANUF_MODEL!$G$2:$G$1500=\"\")*([1]BEACON_MANUF_MODEL!$D$2:$D$1500='Beacon (Desc)'!$F32),0),2))))","v":""},{"$f":"IF('Beacon (Desc)'!F32=\"\",\"\",IF('Beacon (Desc)'!F32=\"Unknown\",\"BCNM001\",INDEX([1]BEACON_MANUF_MODEL!$A$2:$D$1500,MATCH(1,([1]BEACON_MANUF_MODEL!$G$2:$G$1500=\"\")*([1]BEACON_MANUF_MODEL!$D$2:$D$1500='Beacon (Desc)'!$F32),0),1)))","v":""},{"$f":"IF('Beacon (Desc)'!H32=\"\",\"\",INDEX([1]BEACON_COLOR!$A$2:$A$20,MATCH('Beacon (Desc)'!$H32,[1]!MASTER_BEACON_COLOR_DESC[#Data],0),0))","v":""},{"$f":"IF('Beacon (Desc)'!I32=\"\",\"\",INDEX([1]BEACON_SIZE!$A$2:$A$20,MATCH('Beacon (Desc)'!$I32,[1]!MASTER_BEACON_SIZE_DESC[#Data],0),0))","v":""},{"$f":"IF('Beacon (Desc)'!J32=\"\",\"\",'Beacon (Desc)'!J32)","v":""}]
[{"$f":"IF('Beacon (Desc)'!A33=\"\",\"\",'Beacon (Desc)'!A33)","v":""},{"$f":"IF('Beacon (Desc)'!B33=\"\",\"\",\"1987\")","v":""},{"$f":"IF('Beacon (Desc)'!B33=\"\",\"\",'Beacon (Desc)'!B33)","v":""},{"$f":"IF('Beacon (Desc)'!C33=\"\",\"\",'Beacon (Desc)'!C33)","v":""},{"$f":"IF('Beacon (Desc)'!D33=\"\",\"\",'Beacon (Desc)'!D33)","v":""},{"$f":"IF('Beacon (Desc)'!E33=\"\",\"\",INDEX([1]BEACON_TYPE!$A$2:$A$20,MATCH('Beacon (Desc)'!$E33,[1]!MASTER_BEACON_TYPE_DESC[#Data],0),0))","v":""},{"$f":"IF('Beacon (Desc)'!F33=\"\",\"\",IF('Beacon (Desc)'!F33=\"Unknown\",\"BCN001\",(INDEX([1]BEACON_MANUF_MODEL!$A$2:$D$1500,MATCH(1,([1]BEACON_MANUF_MODEL!$G$2:$G$1500=\"\")*([1]BEACON_MANUF_MODEL!$D$2:$D$1500='Beacon (Desc)'!$F33),0),2))))","v":""},{"$f":"IF('Beacon (Desc)'!F33=\"\",\"\",IF('Beacon (Desc)'!F33=\"Unknown\",\"BCNM001\",INDEX([1]BEACON_MANUF_MODEL!$A$2:$D$1500,MATCH(1,([1]BEACON_MANUF_MODEL!$G$2:$G$1500=\"\")*([1]BEACON_MANUF_MODEL!$D$2:$D$1500='Beacon (Desc)'!$F33),0),1)))","v":""},{"$f":"IF('Beacon (Desc)'!H33=\"\",\"\",INDEX([1]BEACON_COLOR!$A$2:$A$20,MATCH('Beacon (Desc)'!$H33,[1]!MASTER_BEACON_COLOR_DESC[#Data],0),0))","v":""},{"$f":"IF('Beacon (Desc)'!I33=\"\",\"\",INDEX([1]BEACON_SIZE!$A$2:$A$20,MATCH('Beacon (Desc)'!$I33,[1]!MASTER_BEACON_SIZE_DESC[#Data],0),0))","v":""},{"$f":"IF('Beacon (Desc)'!J33=\"\",\"\",'Beacon (Desc)'!J33)","v":""}]
[{"$f":"IF('Beacon (Desc)'!A34=\"\",\"\",'Beacon (Desc)'!A34)","v":""},{"$f":"IF('Beacon (Desc)'!B34=\"\",\"\",\"1987\")","v":""},{"$f":"IF('Beacon (Desc)'!B34=\"\",\"\",'Beacon (Desc)'!B34)","v":""},{"$f":"IF('Beacon (Desc)'!C34=\"\",\"\",'Beacon (Desc)'!C34)","v":""},{"$f":"IF('Beacon (Desc)'!D34=\"\",\"\",'Beacon (Desc)'!D34)","v":""},{"$f":"IF('Beacon (Desc)'!E34=\"\",\"\",INDEX([1]BEACON_TYPE!$A$2:$A$20,MATCH('Beacon (Desc)'!$E34,[1]!MASTER_BEACON_TYPE_DESC[#Data],0),0))","v":""},{"$f":"IF('Beacon (Desc)'!F34=\"\",\"\",IF('Beacon (Desc)'!F34=\"Unknown\",\"BCN001\",(INDEX([1]BEACON_MANUF_MODEL!$A$2:$D$1500,MATCH(1,([1]BEACON_MANUF_MODEL!$G$2:$G$1500=\"\")*([1]BEACON_MANUF_MODEL!$D$2:$D$1500='Beacon (Desc)'!$F34),0),2))))","v":""},{"$f":"IF('Beacon (Desc)'!F34=\"\",\"\",IF('Beacon (Desc)'!F34=\"Unknown\",\"BCNM001\",INDEX([1]BEACON_MANUF_MODEL!$A$2:$D$1500,MATCH(1,([1]BEACON_MANUF_MODEL!$G$2:$G$1500=\"\")*([1]BEACON_MANUF_MODEL!$D$2:$D$1500='Beacon (Desc)'!$F34),0),1)))","v":""},{"$f":"IF('Beacon (Desc)'!H34=\"\",\"\",INDEX([1]BEACON_COLOR!$A$2:$A$20,MATCH('Beacon (Desc)'!$H34,[1]!MASTER_BEACON_COLOR_DESC[#Data],0),0))","v":""},{"$f":"IF('Beacon (Desc)'!I34=\"\",\"\",INDEX([1]BEACON_SIZE!$A$2:$A$20,MATCH('Beacon (Desc)'!$I34,[1]!MASTER_BEACON_SIZE_DESC[#Data],0),0))","v":""},{"$f":"IF('Beacon (Desc)'!J34=\"\",\"\",'Beacon (Desc)'!J34)","v":""}]
[{"$f":"IF('Beacon (Desc)'!A35=\"\",\"\",'Beacon (Desc)'!A35)","v":""},{"$f":"IF('Beacon (Desc)'!B35=\"\",\"\",\"1987\")","v":""},{"$f":"IF('Beacon (Desc)'!B35=\"\",\"\",'Beacon (Desc)'!B35)","v":""},{"$f":"IF('Beacon (Desc)'!C35=\"\",\"\",'Beacon (Desc)'!C35)","v":""},{"$f":"IF('Beacon (Desc)'!D35=\"\",\"\",'Beacon (Desc)'!D35)","v":""},{"$f":"IF('Beacon (Desc)'!E35=\"\",\"\",INDEX([1]BEACON_TYPE!$A$2:$A$20,MATCH('Beacon (Desc)'!$E35,[1]!MASTER_BEACON_TYPE_DESC[#Data],0),0))","v":""},{"$f":"IF('Beacon (Desc)'!F35=\"\",\"\",IF('Beacon (Desc)'!F35=\"Unknown\",\"BCN001\",(INDEX([1]BEACON_MANUF_MODEL!$A$2:$D$1500,MATCH(1,([1]BEACON_MANUF_MODEL!$G$2:$G$1500=\"\")*([1]BEACON_MANUF_MODEL!$D$2:$D$1500='Beacon (Desc)'!$F35),0),2))))","v":""},{"$f":"IF('Beacon (Desc)'!F35=\"\",\"\",IF('Beacon (Desc)'!F35=\"Unknown\",\"BCNM001\",INDEX([1]BEACON_MANUF_MODEL!$A$2:$D$1500,MATCH(1,([1]BEACON_MANUF_MODEL!$G$2:$G$1500=\"\")*([1]BEACON_MANUF_MODEL!$D$2:$D$1500='Beacon (Desc)'!$F35),0),1)))","v":""},{"$f":"IF('Beacon (Desc)'!H35=\"\",\"\",INDEX([1]BEACON_COLOR!$A$2:$A$20,MATCH('Beacon (Desc)'!$H35,[1]!MASTER_BEACON_COLOR_DESC[#Data],0),0))","v":""},{"$f":"IF('Beacon (Desc)'!I35=\"\",\"\",INDEX([1]BEACON_SIZE!$A$2:$A$20,MATCH('Beacon (Desc)'!$I35,[1]!MASTER_BEACON_SIZE_DESC[#Data],0),0))","v":""},{"$f":"IF('Beacon (Desc)'!J35=\"\",\"\",'Beacon (Desc)'!J35)","v":""}]
[{"$f":"IF('Beacon (Desc)'!A36=\"\",\"\",'Beacon (Desc)'!A36)","v":""},{"$f":"IF('Beacon (Desc)'!B36=\"\",\"\",\"1987\")","v":""},{"$f":"IF('Beacon (Desc)'!B36=\"\",\"\",'Beacon (Desc)'!B36)","v":""},{"$f":"IF('Beacon (Desc)'!C36=\"\",\"\",'Beacon (Desc)'!C36)","v":""},{"$f":"IF('Beacon (Desc)'!D36=\"\",\"\",'Beacon (Desc)'!D36)","v":""},{"$f":"IF('Beacon (Desc)'!E36=\"\",\"\",INDEX([1]BEACON_TYPE!$A$2:$A$20,MATCH('Beacon (Desc)'!$E36,[1]!MASTER_BEACON_TYPE_DESC[#Data],0),0))","v":""},{"$f":"IF('Beacon (Desc)'!F36=\"\",\"\",IF('Beacon (Desc)'!F36=\"Unknown\",\"BCN001\",(INDEX([1]BEACON_MANUF_MODEL!$A$2:$D$1500,MATCH(1,([1]BEACON_MANUF_MODEL!$G$2:$G$1500=\"\")*([1]BEACON_MANUF_MODEL!$D$2:$D$1500='Beacon (Desc)'!$F36),0),2))))","v":""},{"$f":"IF('Beacon (Desc)'!F36=\"\",\"\",IF('Beacon (Desc)'!F36=\"Unknown\",\"BCNM001\",INDEX([1]BEACON_MANUF_MODEL!$A$2:$D$1500,MATCH(1,([1]BEACON_MANUF_MODEL!$G$2:$G$1500=\"\")*([1]BEACON_MANUF_MODEL!$D$2:$D$1500='Beacon (Desc)'!$F36),0),1)))","v":""},{"$f":"IF('Beacon (Desc)'!H36=\"\",\"\",INDEX([1]BEACON_COLOR!$A$2:$A$20,MATCH('Beacon (Desc)'!$H36,[1]!MASTER_BEACON_COLOR_DESC[#Data],0),0))","v":""},{"$f":"IF('Beacon (Desc)'!I36=\"\",\"\",INDEX([1]BEACON_SIZE!$A$2:$A$20,MATCH('Beacon (Desc)'!$I36,[1]!MASTER_BEACON_SIZE_DESC[#Data],0),0))","v":""},{"$f":"IF('Beacon (Desc)'!J36=\"\",\"\",'Beacon (Desc)'!J36)","v":""}]
[{"$f":"IF('Beacon (Desc)'!A37=\"\",\"\",'Beacon (Desc)'!A37)","v":""},{"$f":"IF('Beacon (Desc)'!B37=\"\",\"\",\"1987\")","v":""},{"$f":"IF('Beacon (Desc)'!B37=\"\",\"\",'Beacon (Desc)'!B37)","v":""},{"$f":"IF('Beacon (Desc)'!C37=\"\",\"\",'Beacon (Desc)'!C37)","v":""},{"$f":"IF('Beacon (Desc)'!D37=\"\",\"\",'Beacon (Desc)'!D37)","v":""},{"$f":"IF('Beacon (Desc)'!E37=\"\",\"\",INDEX([1]BEACON_TYPE!$A$2:$A$20,MATCH('Beacon (Desc)'!$E37,[1]!MASTER_BEACON_TYPE_DESC[#Data],0),0))","v":""},{"$f":"IF('Beacon (Desc)'!F37=\"\",\"\",IF('Beacon (Desc)'!F37=\"Unknown\",\"BCN001\",(INDEX([1]BEACON_MANUF_MODEL!$A$2:$D$1500,MATCH(1,([1]BEACON_MANUF_MODEL!$G$2:$G$1500=\"\")*([1]BEACON_MANUF_MODEL!$D$2:$D$1500='Beacon (Desc)'!$F37),0),2))))","v":""},{"$f":"IF('Beacon (Desc)'!F37=\"\",\"\",IF('Beacon (Desc)'!F37=\"Unknown\",\"BCNM001\",INDEX([1]BEACON_MANUF_MODEL!$A$2:$D$1500,MATCH(1,([1]BEACON_MANUF_MODEL!$G$2:$G$1500=\"\")*([1]BEACON_MANUF_MODEL!$D$2:$D$1500='Beacon (Desc)'!$F37),0),1)))","v":""},{"$f":"IF('Beacon (Desc)'!H37=\"\",\"\",INDEX([1]BEACON_COLOR!$A$2:$A$20,MATCH('Beacon (Desc)'!$H37,[1]!MASTER_BEACON_COLOR_DESC[#Data],0),0))","v":""},{"$f":"IF('Beacon (Desc)'!I37=\"\",\"\",INDEX([1]BEACON_SIZE!$A$2:$A$20,MATCH('Beacon (Desc)'!$I37,[1]!MASTER_BEACON_SIZE_DESC[#Data],0),0))","v":""},{"$f":"IF('Beacon (Desc)'!J37=\"\",\"\",'Beacon (Desc)'!J37)","v":""}]
[{"$f":"IF('Beacon (Desc)'!A38=\"\",\"\",'Beacon (Desc)'!A38)","v":""},{"$f":"IF('Beacon (Desc)'!B38=\"\",\"\",\"1987\")","v":""},{"$f":"IF('Beacon (Desc)'!B38=\"\",\"\",'Beacon (Desc)'!B38)","v":""},{"$f":"IF('Beacon (Desc)'!C38=\"\",\"\",'Beacon (Desc)'!C38)","v":""},{"$f":"IF('Beacon (Desc)'!D38=\"\",\"\",'Beacon (Desc)'!D38)","v":""},{"$f":"IF('Beacon (Desc)'!E38=\"\",\"\",INDEX([1]BEACON_TYPE!$A$2:$A$20,MATCH('Beacon (Desc)'!$E38,[1]!MASTER_BEACON_TYPE_DESC[#Data],0),0))","v":""},{"$f":"IF('Beacon (Desc)'!F38=\"\",\"\",IF('Beacon (Desc)'!F38=\"Unknown\",\"BCN001\",(INDEX([1]BEACON_MANUF_MODEL!$A$2:$D$1500,MATCH(1,([1]BEACON_MANUF_MODEL!$G$2:$G$1500=\"\")*([1]BEACON_MANUF_MODEL!$D$2:$D$1500='Beacon (Desc)'!$F38),0),2))))","v":""},{"$f":"IF('Beacon (Desc)'!F38=\"\",\"\",IF('Beacon (Desc)'!F38=\"Unknown\",\"BCNM001\",INDEX([1]BEACON_MANUF_MODEL!$A$2:$D$1500,MATCH(1,([1]BEACON_MANUF_MODEL!$G$2:$G$1500=\"\")*([1]BEACON_MANUF_MODEL!$D$2:$D$1500='Beacon (Desc)'!$F38),0),1)))","v":""},{"$f":"IF('Beacon (Desc)'!H38=\"\",\"\",INDEX([1]BEACON_COLOR!$A$2:$A$20,MATCH('Beacon (Desc)'!$H38,[1]!MASTER_BEACON_COLOR_DESC[#Data],0),0))","v":""},{"$f":"IF('Beacon (Desc)'!I38=\"\",\"\",INDEX([1]BEACON_SIZE!$A$2:$A$20,MATCH('Beacon (Desc)'!$I38,[1]!MASTER_BEACON_SIZE_DESC[#Data],0),0))","v":""},{"$f":"IF('Beacon (Desc)'!J38=\"\",\"\",'Beacon (Desc)'!J38)","v":""}]
[{"$f":"IF('Beacon (Desc)'!A39=\"\",\"\",'Beacon (Desc)'!A39)","v":""},{"$f":"IF('Beacon (Desc)'!B39=\"\",\"\",\"1987\")","v":""},{"$f":"IF('Beacon (Desc)'!B39=\"\",\"\",'Beacon (Desc)'!B39)","v":""},{"$f":"IF('Beacon (Desc)'!C39=\"\",\"\",'Beacon (Desc)'!C39)","v":""},{"$f":"IF('Beacon (Desc)'!D39=\"\",\"\",'Beacon (Desc)'!D39)","v":""},{"$f":"IF('Beacon (Desc)'!E39=\"\",\"\",INDEX([1]BEACON_TYPE!$A$2:$A$20,MATCH('Beacon (Desc)'!$E39,[1]!MASTER_BEACON_TYPE_DESC[#Data],0),0))","v":""},{"$f":"IF('Beacon (Desc)'!F39=\"\",\"\",IF('Beacon (Desc)'!F39=\"Unknown\",\"BCN001\",(INDEX([1]BEACON_MANUF_MODEL!$A$2:$D$1500,MATCH(1,([1]BEACON_MANUF_MODEL!$G$2:$G$1500=\"\")*([1]BEACON_MANUF_MODEL!$D$2:$D$1500='Beacon (Desc)'!$F39),0),2))))","v":""},{"$f":"IF('Beacon (Desc)'!F39=\"\",\"\",IF('Beacon (Desc)'!F39=\"Unknown\",\"BCNM001\",INDEX([1]BEACON_MANUF_MODEL!$A$2:$D$1500,MATCH(1,([1]BEACON_MANUF_MODEL!$G$2:$G$1500=\"\")*([1]BEACON_MANUF_MODEL!$D$2:$D$1500='Beacon (Desc)'!$F39),0),1)))","v":""},{"$f":"IF('Beacon (Desc)'!H39=\"\",\"\",INDEX([1]BEACON_COLOR!$A$2:$A$20,MATCH('Beacon (Desc)'!$H39,[1]!MASTER_BEACON_COLOR_DESC[#Data],0),0))","v":""},{"$f":"IF('Beacon (Desc)'!I39=\"\",\"\",INDEX([1]BEACON_SIZE!$A$2:$A$20,MATCH('Beacon (Desc)'!$I39,[1]!MASTER_BEACON_SIZE_DESC[#Data],0),0))","v":""},{"$f":"IF('Beacon (Desc)'!J39=\"\",\"\",'Beacon (Desc)'!J39)","v":""}]
[{"$f":"IF('Beacon (Desc)'!A40=\"\",\"\",'Beacon (Desc)'!A40)","v":""},{"$f":"IF('Beacon (Desc)'!B40=\"\",\"\",\"1987\")","v":""},{"$f":"IF('Beacon (Desc)'!B40=\"\",\"\",'Beacon (Desc)'!B40)","v":""},{"$f":"IF('Beacon (Desc)'!C40=\"\",\"\",'Beacon (Desc)'!C40)","v":""},{"$f":"IF('Beacon (Desc)'!D40=\"\",\"\",'Beacon (Desc)'!D40)","v":""},{"$f":"IF('Beacon (Desc)'!E40=\"\",\"\",INDEX([1]BEACON_TYPE!$A$2:$A$20,MATCH('Beacon (Desc)'!$E40,[1]!MASTER_BEACON_TYPE_DESC[#Data],0),0))","v":""},{"$f":"IF('Beacon (Desc)'!F40=\"\",\"\",IF('Beacon (Desc)'!F40=\"Unknown\",\"BCN001\",(INDEX([1]BEACON_MANUF_MODEL!$A$2:$D$1500,MATCH(1,([1]BEACON_MANUF_MODEL!$G$2:$G$1500=\"\")*([1]BEACON_MANUF_MODEL!$D$2:$D$1500='Beacon (Desc)'!$F40),0),2))))","v":""},{"$f":"IF('Beacon (Desc)'!F40=\"\",\"\",IF('Beacon (Desc)'!F40=\"Unknown\",\"BCNM001\",INDEX([1]BEACON_MANUF_MODEL!$A$2:$D$1500,MATCH(1,([1]BEACON_MANUF_MODEL!$G$2:$G$1500=\"\")*([1]BEACON_MANUF_MODEL!$D$2:$D$1500='Beacon (Desc)'!$F40),0),1)))","v":""},{"$f":"IF('Beacon (Desc)'!H40=\"\",\"\",INDEX([1]BEACON_COLOR!$A$2:$A$20,MATCH('Beacon (Desc)'!$H40,[1]!MASTER_BEACON_COLOR_DESC[#Data],0),0))","v":""},{"$f":"IF('Beacon (Desc)'!I40=\"\",\"\",INDEX([1]BEACON_SIZE!$A$2:$A$20,MATCH('Beacon (Desc)'!$I40,[1]!MASTER_BEACON_SIZE_DESC[#Data],0),0))","v":""},{"$f":"IF('Beacon (Desc)'!J40=\"\",\"\",'Beacon (Desc)'!J40)","v":""}]
[{"$f":"IF('Beacon (Desc)'!A41=\"\",\"\",'Beacon (Desc)'!A41)","v":""},{"$f":"IF('Beacon (Desc)'!B41=\"\",\"\",\"1987\")","v":""},{"$f":"IF('Beacon (Desc)'!B41=\"\",\"\",'Beacon (Desc)'!B41)","v":""},{"$f":"IF('Beacon (Desc)'!C41=\"\",\"\",'Beacon (Desc)'!C41)","v":""},{"$f":"IF('Beacon (Desc)'!D41=\"\",\"\",'Beacon (Desc)'!D41)","v":""},{"$f":"IF('Beacon (Desc)'!E41=\"\",\"\",INDEX([1]BEACON_TYPE!$A$2:$A$20,MATCH('Beacon (Desc)'!$E41,[1]!MASTER_BEACON_TYPE_DESC[#Data],0),0))","v":""},{"$f":"IF('Beacon (Desc)'!F41=\"\",\"\",IF('Beacon (Desc)'!F41=\"Unknown\",\"BCN001\",(INDEX([1]BEACON_MANUF_MODEL!$A$2:$D$1500,MATCH(1,([1]BEACON_MANUF_MODEL!$G$2:$G$1500=\"\")*([1]BEACON_MANUF_MODEL!$D$2:$D$1500='Beacon (Desc)'!$F41),0),2))))","v":""},{"$f":"IF('Beacon (Desc)'!F41=\"\",\"\",IF('Beacon (Desc)'!F41=\"Unknown\",\"BCNM001\",INDEX([1]BEACON_MANUF_MODEL!$A$2:$D$1500,MATCH(1,([1]BEACON_MANUF_MODEL!$G$2:$G$1500=\"\")*([1]BEACON_MANUF_MODEL!$D$2:$D$1500='Beacon (Desc)'!$F41),0),1)))","v":""},{"$f":"IF('Beacon (Desc)'!H41=\"\",\"\",INDEX([1]BEACON_COLOR!$A$2:$A$20,MATCH('Beacon (Desc)'!$H41,[1]!MASTER_BEACON_COLOR_DESC[#Data],0),0))","v":""},{"$f":"IF('Beacon (Desc)'!I41=\"\",\"\",INDEX([1]BEACON_SIZE!$A$2:$A$20,MATCH('Beacon (Desc)'!$I41,[1]!MASTER_BEACON_SIZE_DESC[#Data],0),0))","v":""},{"$f":"IF('Beacon (Desc)'!J41=\"\",\"\",'Beacon (Desc)'!J41)","v":""}]
[{"$f":"IF('Beacon (Desc)'!A42=\"\",\"\",'Beacon (Desc)'!A42)","v":""},{"$f":"IF('Beacon (Desc)'!B42=\"\",\"\",\"1987\")","v":""},{"$f":"IF('Beacon (Desc)'!B42=\"\",\"\",'Beacon (Desc)'!B42)","v":""},{"$f":"IF('Beacon (Desc)'!C42=\"\",\"\",'Beacon (Desc)'!C42)","v":""},{"$f":"IF('Beacon (Desc)'!D42=\"\",\"\",'Beacon (Desc)'!D42)","v":""},{"$f":"IF('Beacon (Desc)'!E42=\"\",\"\",INDEX([1]BEACON_TYPE!$A$2:$A$20,MATCH('Beacon (Desc)'!$E42,[1]!MASTER_BEACON_TYPE_DESC[#Data],0),0))","v":""},{"$f":"IF('Beacon (Desc)'!F42=\"\",\"\",IF('Beacon (Desc)'!F42=\"Unknown\",\"BCN001\",(INDEX([1]BEACON_MANUF_MODEL!$A$2:$D$1500,MATCH(1,([1]BEACON_MANUF_MODEL!$G$2:$G$1500=\"\")*([1]BEACON_MANUF_MODEL!$D$2:$D$1500='Beacon (Desc)'!$F42),0),2))))","v":""},{"$f":"IF('Beacon (Desc)'!F42=\"\",\"\",IF('Beacon (Desc)'!F42=\"Unknown\",\"BCNM001\",INDEX([1]BEACON_MANUF_MODEL!$A$2:$D$1500,MATCH(1,([1]BEACON_MANUF_MODEL!$G$2:$G$1500=\"\")*([1]BEACON_MANUF_MODEL!$D$2:$D$1500='Beacon (Desc)'!$F42),0),1)))","v":""},{"$f":"IF('Beacon (Desc)'!H42=\"\",\"\",INDEX([1]BEACON_COLOR!$A$2:$A$20,MATCH('Beacon (Desc)'!$H42,[1]!MASTER_BEACON_COLOR_DESC[#Data],0),0))","v":""},{"$f":"IF('Beacon (Desc)'!I42=\"\",\"\",INDEX([1]BEACON_SIZE!$A$2:$A$20,MATCH('Beacon (Desc)'!$I42,[1]!MASTER_BEACON_SIZE_DESC[#Data],0),0))","v":""},{"$f":"IF('Beacon (Desc)'!J42=\"\",\"\",'Beacon (Desc)'!J42)","v":""}]
[{"$f":"IF('Beacon (Desc)'!A43=\"\",\"\",'Beacon (Desc)'!A43)","v":""},{"$f":"IF('Beacon (Desc)'!B43=\"\",\"\",\"1987\")","v":""},{"$f":"IF('Beacon (Desc)'!B43=\"\",\"\",'Beacon (Desc)'!B43)","v":""},{"$f":"IF('Beacon (Desc)'!C43=\"\",\"\",'Beacon (Desc)'!C43)","v":""},{"$f":"IF('Beacon (Desc)'!D43=\"\",\"\",'Beacon (Desc)'!D43)","v":""},{"$f":"IF('Beacon (Desc)'!E43=\"\",\"\",INDEX([1]BEACON_TYPE!$A$2:$A$20,MATCH('Beacon (Desc)'!$E43,[1]!MASTER_BEACON_TYPE_DESC[#Data],0),0))","v":""},{"$f":"IF('Beacon (Desc)'!F43=\"\",\"\",IF('Beacon (Desc)'!F43=\"Unknown\",\"BCN001\",(INDEX([1]BEACON_MANUF_MODEL!$A$2:$D$1500,MATCH(1,([1]BEACON_MANUF_MODEL!$G$2:$G$1500=\"\")*([1]BEACON_MANUF_MODEL!$D$2:$D$1500='Beacon (Desc)'!$F43),0),2))))","v":""},{"$f":"IF('Beacon (Desc)'!F43=\"\",\"\",IF('Beacon (Desc)'!F43=\"Unknown\",\"BCNM001\",INDEX([1]BEACON_MANUF_MODEL!$A$2:$D$1500,MATCH(1,([1]BEACON_MANUF_MODEL!$G$2:$G$1500=\"\")*([1]BEACON_MANUF_MODEL!$D$2:$D$1500='Beacon (Desc)'!$F43),0),1)))","v":""},{"$f":"IF('Beacon (Desc)'!H43=\"\",\"\",INDEX([1]BEACON_COLOR!$A$2:$A$20,MATCH('Beacon (Desc)'!$H43,[1]!MASTER_BEACON_COLOR_DESC[#Data],0),0))","v":""},{"$f":"IF('Beacon (Desc)'!I43=\"\",\"\",INDEX([1]BEACON_SIZE!$A$2:$A$20,MATCH('Beacon (Desc)'!$I43,[1]!MASTER_BEACON_SIZE_DESC[#Data],0),0))","v":""},{"$f":"IF('Beacon (Desc)'!J43=\"\",\"\",'Beacon (Desc)'!J43)","v":""}]
[{"$f":"IF('Beacon (Desc)'!A44=\"\",\"\",'Beacon (Desc)'!A44)","v":""},{"$f":"IF('Beacon (Desc)'!B44=\"\",\"\",\"1987\")","v":""},{"$f":"IF('Beacon (Desc)'!B44=\"\",\"\",'Beacon (Desc)'!B44)","v":""},{"$f":"IF('Beacon (Desc)'!C44=\"\",\"\",'Beacon (Desc)'!C44)","v":""},{"$f":"IF('Beacon (Desc)'!D44=\"\",\"\",'Beacon (Desc)'!D44)","v":""},{"$f":"IF('Beacon (Desc)'!E44=\"\",\"\",INDEX([1]BEACON_TYPE!$A$2:$A$20,MATCH('Beacon (Desc)'!$E44,[1]!MASTER_BEACON_TYPE_DESC[#Data],0),0))","v":""},{"$f":"IF('Beacon (Desc)'!F44=\"\",\"\",IF('Beacon (Desc)'!F44=\"Unknown\",\"BCN001\",(INDEX([1]BEACON_MANUF_MODEL!$A$2:$D$1500,MATCH(1,([1]BEACON_MANUF_MODEL!$G$2:$G$1500=\"\")*([1]BEACON_MANUF_MODEL!$D$2:$D$1500='Beacon (Desc)'!$F44),0),2))))","v":""},{"$f":"IF('Beacon (Desc)'!F44=\"\",\"\",IF('Beacon (Desc)'!F44=\"Unknown\",\"BCNM001\",INDEX([1]BEACON_MANUF_MODEL!$A$2:$D$1500,MATCH(1,([1]BEACON_MANUF_MODEL!$G$2:$G$1500=\"\")*([1]BEACON_MANUF_MODEL!$D$2:$D$1500='Beacon (Desc)'!$F44),0),1)))","v":""},{"$f":"IF('Beacon (Desc)'!H44=\"\",\"\",INDEX([1]BEACON_COLOR!$A$2:$A$20,MATCH('Beacon (Desc)'!$H44,[1]!MASTER_BEACON_COLOR_DESC[#Data],0),0))","v":""},{"$f":"IF('Beacon (Desc)'!I44=\"\",\"\",INDEX([1]BEACON_SIZE!$A$2:$A$20,MATCH('Beacon (Desc)'!$I44,[1]!MASTER_BEACON_SIZE_DESC[#Data],0),0))","v":""},{"$f":"IF('Beacon (Desc)'!J44=\"\",\"\",'Beacon (Desc)'!J44)","v":""}]
[{"$f":"IF('Beacon (Desc)'!A45=\"\",\"\",'Beacon (Desc)'!A45)","v":""},{"$f":"IF('Beacon (Desc)'!B45=\"\",\"\",\"1987\")","v":""},{"$f":"IF('Beacon (Desc)'!B45=\"\",\"\",'Beacon (Desc)'!B45)","v":""},{"$f":"IF('Beacon (Desc)'!C45=\"\",\"\",'Beacon (Desc)'!C45)","v":""},{"$f":"IF('Beacon (Desc)'!D45=\"\",\"\",'Beacon (Desc)'!D45)","v":""},{"$f":"IF('Beacon (Desc)'!E45=\"\",\"\",INDEX([1]BEACON_TYPE!$A$2:$A$20,MATCH('Beacon (Desc)'!$E45,[1]!MASTER_BEACON_TYPE_DESC[#Data],0),0))","v":""},{"$f":"IF('Beacon (Desc)'!F45=\"\",\"\",IF('Beacon (Desc)'!F45=\"Unknown\",\"BCN001\",(INDEX([1]BEACON_MANUF_MODEL!$A$2:$D$1500,MATCH(1,([1]BEACON_MANUF_MODEL!$G$2:$G$1500=\"\")*([1]BEACON_MANUF_MODEL!$D$2:$D$1500='Beacon (Desc)'!$F45),0),2))))","v":""},{"$f":"IF('Beacon (Desc)'!F45=\"\",\"\",IF('Beacon (Desc)'!F45=\"Unknown\",\"BCNM001\",INDEX([1]BEACON_MANUF_MODEL!$A$2:$D$1500,MATCH(1,([1]BEACON_MANUF_MODEL!$G$2:$G$1500=\"\")*([1]BEACON_MANUF_MODEL!$D$2:$D$1500='Beacon (Desc)'!$F45),0),1)))","v":""},{"$f":"IF('Beacon (Desc)'!H45=\"\",\"\",INDEX([1]BEACON_COLOR!$A$2:$A$20,MATCH('Beacon (Desc)'!$H45,[1]!MASTER_BEACON_COLOR_DESC[#Data],0),0))","v":""},{"$f":"IF('Beacon (Desc)'!I45=\"\",\"\",INDEX([1]BEACON_SIZE!$A$2:$A$20,MATCH('Beacon (Desc)'!$I45,[1]!MASTER_BEACON_SIZE_DESC[#Data],0),0))","v":""},{"$f":"IF('Beacon (Desc)'!J45=\"\",\"\",'Beacon (Desc)'!J45)","v":""}]
[{"$f":"IF('Beacon (Desc)'!A46=\"\",\"\",'Beacon (Desc)'!A46)","v":""},{"$f":"IF('Beacon (Desc)'!B46=\"\",\"\",\"1987\")","v":""},{"$f":"IF('Beacon (Desc)'!B46=\"\",\"\",'Beacon (Desc)'!B46)","v":""},{"$f":"IF('Beacon (Desc)'!C46=\"\",\"\",'Beacon (Desc)'!C46)","v":""},{"$f":"IF('Beacon (Desc)'!D46=\"\",\"\",'Beacon (Desc)'!D46)","v":""},{"$f":"IF('Beacon (Desc)'!E46=\"\",\"\",INDEX([1]BEACON_TYPE!$A$2:$A$20,MATCH('Beacon (Desc)'!$E46,[1]!MASTER_BEACON_TYPE_DESC[#Data],0),0))","v":""},{"$f":"IF('Beacon (Desc)'!F46=\"\",\"\",IF('Beacon (Desc)'!F46=\"Unknown\",\"BCN001\",(INDEX([1]BEACON_MANUF_MODEL!$A$2:$D$1500,MATCH(1,([1]BEACON_MANUF_MODEL!$G$2:$G$1500=\"\")*([1]BEACON_MANUF_MODEL!$D$2:$D$1500='Beacon (Desc)'!$F46),0),2))))","v":""},{"$f":"IF('Beacon (Desc)'!F46=\"\",\"\",IF('Beacon (Desc)'!F46=\"Unknown\",\"BCNM001\",INDEX([1]BEACON_MANUF_MODEL!$A$2:$D$1500,MATCH(1,([1]BEACON_MANUF_MODEL!$G$2:$G$1500=\"\")*([1]BEACON_MANUF_MODEL!$D$2:$D$1500='Beacon (Desc)'!$F46),0),1)))","v":""},{"$f":"IF('Beacon (Desc)'!H46=\"\",\"\",INDEX([1]BEACON_COLOR!$A$2:$A$20,MATCH('Beacon (Desc)'!$H46,[1]!MASTER_BEACON_COLOR_DESC[#Data],0),0))","v":""},{"$f":"IF('Beacon (Desc)'!I46=\"\",\"\",INDEX([1]BEACON_SIZE!$A$2:$A$20,MATCH('Beacon (Desc)'!$I46,[1]!MASTER_BEACON_SIZE_DESC[#Data],0),0))","v":""},{"$f":"IF('Beacon (Desc)'!J46=\"\",\"\",'Beacon (Desc)'!J46)","v":""}]
[{"$f":"IF('Beacon (Desc)'!A47=\"\",\"\",'Beacon (Desc)'!A47)","v":""},{"$f":"IF('Beacon (Desc)'!B47=\"\",\"\",\"1987\")","v":""},{"$f":"IF('Beacon (Desc)'!B47=\"\",\"\",'Beacon (Desc)'!B47)","v":""},{"$f":"IF('Beacon (Desc)'!C47=\"\",\"\",'Beacon (Desc)'!C47)","v":""},{"$f":"IF('Beacon (Desc)'!D47=\"\",\"\",'Beacon (Desc)'!D47)","v":""},{"$f":"IF('Beacon (Desc)'!E47=\"\",\"\",INDEX([1]BEACON_TYPE!$A$2:$A$20,MATCH('Beacon (Desc)'!$E47,[1]!MASTER_BEACON_TYPE_DESC[#Data],0),0))","v":""},{"$f":"IF('Beacon (Desc)'!F47=\"\",\"\",IF('Beacon (Desc)'!F47=\"Unknown\",\"BCN001\",(INDEX([1]BEACON_MANUF_MODEL!$A$2:$D$1500,MATCH(1,([1]BEACON_MANUF_MODEL!$G$2:$G$1500=\"\")*([1]BEACON_MANUF_MODEL!$D$2:$D$1500='Beacon (Desc)'!$F47),0),2))))","v":""},{"$f":"IF('Beacon (Desc)'!F47=\"\",\"\",IF('Beacon (Desc)'!F47=\"Unknown\",\"BCNM001\",INDEX([1]BEACON_MANUF_MODEL!$A$2:$D$1500,MATCH(1,([1]BEACON_MANUF_MODEL!$G$2:$G$1500=\"\")*([1]BEACON_MANUF_MODEL!$D$2:$D$1500='Beacon (Desc)'!$F47),0),1)))","v":""},{"$f":"IF('Beacon (Desc)'!H47=\"\",\"\",INDEX([1]BEACON_COLOR!$A$2:$A$20,MATCH('Beacon (Desc)'!$H47,[1]!MASTER_BEACON_COLOR_DESC[#Data],0),0))","v":""},{"$f":"IF('Beacon (Desc)'!I47=\"\",\"\",INDEX([1]BEACON_SIZE!$A$2:$A$20,MATCH('Beacon (Desc)'!$I47,[1]!MASTER_BEACON_SIZE_DESC[#Data],0),0))","v":""},{"$f":"IF('Beacon (Desc)'!J47=\"\",\"\",'Beacon (Desc)'!J47)","v":""}]
[{"$f":"IF('Beacon (Desc)'!A48=\"\",\"\",'Beacon (Desc)'!A48)","v":""},{"$f":"IF('Beacon (Desc)'!B48=\"\",\"\",\"1987\")","v":""},{"$f":"IF('Beacon (Desc)'!B48=\"\",\"\",'Beacon (Desc)'!B48)","v":""},{"$f":"IF('Beacon (Desc)'!C48=\"\",\"\",'Beacon (Desc)'!C48)","v":""},{"$f":"IF('Beacon (Desc)'!D48=\"\",\"\",'Beacon (Desc)'!D48)","v":""},{"$f":"IF('Beacon (Desc)'!E48=\"\",\"\",INDEX([1]BEACON_TYPE!$A$2:$A$20,MATCH('Beacon (Desc)'!$E48,[1]!MASTER_BEACON_TYPE_DESC[#Data],0),0))","v":""},{"$f":"IF('Beacon (Desc)'!F48=\"\",\"\",IF('Beacon (Desc)'!F48=\"Unknown\",\"BCN001\",(INDEX([1]BEACON_MANUF_MODEL!$A$2:$D$1500,MATCH(1,([1]BEACON_MANUF_MODEL!$G$2:$G$1500=\"\")*([1]BEACON_MANUF_MODEL!$D$2:$D$1500='Beacon (Desc)'!$F48),0),2))))","v":""},{"$f":"IF('Beacon (Desc)'!F48=\"\",\"\",IF('Beacon (Desc)'!F48=\"Unknown\",\"BCNM001\",INDEX([1]BEACON_MANUF_MODEL!$A$2:$D$1500,MATCH(1,([1]BEACON_MANUF_MODEL!$G$2:$G$1500=\"\")*([1]BEACON_MANUF_MODEL!$D$2:$D$1500='Beacon (Desc)'!$F48),0),1)))","v":""},{"$f":"IF('Beacon (Desc)'!H48=\"\",\"\",INDEX([1]BEACON_COLOR!$A$2:$A$20,MATCH('Beacon (Desc)'!$H48,[1]!MASTER_BEACON_COLOR_DESC[#Data],0),0))","v":""},{"$f":"IF('Beacon (Desc)'!I48=\"\",\"\",INDEX([1]BEACON_SIZE!$A$2:$A$20,MATCH('Beacon (Desc)'!$I48,[1]!MASTER_BEACON_SIZE_DESC[#Data],0),0))","v":""},{"$f":"IF('Beacon (Desc)'!J48=\"\",\"\",'Beacon (Desc)'!J48)","v":""}]
[{"$f":"IF('Beacon (Desc)'!A49=\"\",\"\",'Beacon (Desc)'!A49)","v":""},{"$f":"IF('Beacon (Desc)'!B49=\"\",\"\",\"1987\")","v":""},{"$f":"IF('Beacon (Desc)'!B49=\"\",\"\",'Beacon (Desc)'!B49)","v":""},{"$f":"IF('Beacon (Desc)'!C49=\"\",\"\",'Beacon (Desc)'!C49)","v":""},{"$f":"IF('Beacon (Desc)'!D49=\"\",\"\",'Beacon (Desc)'!D49)","v":""},{"$f":"IF('Beacon (Desc)'!E49=\"\",\"\",INDEX([1]BEACON_TYPE!$A$2:$A$20,MATCH('Beacon (Desc)'!$E49,[1]!MASTER_BEACON_TYPE_DESC[#Data],0),0))","v":""},{"$f":"IF('Beacon (Desc)'!F49=\"\",\"\",IF('Beacon (Desc)'!F49=\"Unknown\",\"BCN001\",(INDEX([1]BEACON_MANUF_MODEL!$A$2:$D$1500,MATCH(1,([1]BEACON_MANUF_MODEL!$G$2:$G$1500=\"\")*([1]BEACON_MANUF_MODEL!$D$2:$D$1500='Beacon (Desc)'!$F49),0),2))))","v":""},{"$f":"IF('Beacon (Desc)'!F49=\"\",\"\",IF('Beacon (Desc)'!F49=\"Unknown\",\"BCNM001\",INDEX([1]BEACON_MANUF_MODEL!$A$2:$D$1500,MATCH(1,([1]BEACON_MANUF_MODEL!$G$2:$G$1500=\"\")*([1]BEACON_MANUF_MODEL!$D$2:$D$1500='Beacon (Desc)'!$F49),0),1)))","v":""},{"$f":"IF('Beacon (Desc)'!H49=\"\",\"\",INDEX([1]BEACON_COLOR!$A$2:$A$20,MATCH('Beacon (Desc)'!$H49,[1]!MASTER_BEACON_COLOR_DESC[#Data],0),0))","v":""},{"$f":"IF('Beacon (Desc)'!I49=\"\",\"\",INDEX([1]BEACON_SIZE!$A$2:$A$20,MATCH('Beacon (Desc)'!$I49,[1]!MASTER_BEACON_SIZE_DESC[#Data],0),0))","v":""},{"$f":"IF('Beacon (Desc)'!J49=\"\",\"\",'Beacon (Desc)'!J49)","v":""}]
[{"$f":"IF('Beacon (Desc)'!A50=\"\",\"\",'Beacon (Desc)'!A50)","v":""},{"$f":"IF('Beacon (Desc)'!B50=\"\",\"\",\"1987\")","v":""},{"$f":"IF('Beacon (Desc)'!B50=\"\",\"\",'Beacon (Desc)'!B50)","v":""},{"$f":"IF('Beacon (Desc)'!C50=\"\",\"\",'Beacon (Desc)'!C50)","v":""},{"$f":"IF('Beacon (Desc)'!D50=\"\",\"\",'Beacon (Desc)'!D50)","v":""},{"$f":"IF('Beacon (Desc)'!E50=\"\",\"\",INDEX([1]BEACON_TYPE!$A$2:$A$20,MATCH('Beacon (Desc)'!$E50,[1]!MASTER_BEACON_TYPE_DESC[#Data],0),0))","v":""},{"$f":"IF('Beacon (Desc)'!F50=\"\",\"\",IF('Beacon (Desc)'!F50=\"Unknown\",\"BCN001\",(INDEX([1]BEACON_MANUF_MODEL!$A$2:$D$1500,MATCH(1,([1]BEACON_MANUF_MODEL!$G$2:$G$1500=\"\")*([1]BEACON_MANUF_MODEL!$D$2:$D$1500='Beacon (Desc)'!$F50),0),2))))","v":""},{"$f":"IF('Beacon (Desc)'!F50=\"\",\"\",IF('Beacon (Desc)'!F50=\"Unknown\",\"BCNM001\",INDEX([1]BEACON_MANUF_MODEL!$A$2:$D$1500,MATCH(1,([1]BEACON_MANUF_MODEL!$G$2:$G$1500=\"\")*([1]BEACON_MANUF_MODEL!$D$2:$D$1500='Beacon (Desc)'!$F50),0),1)))","v":""},{"$f":"IF('Beacon (Desc)'!H50=\"\",\"\",INDEX([1]BEACON_COLOR!$A$2:$A$20,MATCH('Beacon (Desc)'!$H50,[1]!MASTER_BEACON_COLOR_DESC[#Data],0),0))","v":""},{"$f":"IF('Beacon (Desc)'!I50=\"\",\"\",INDEX([1]BEACON_SIZE!$A$2:$A$20,MATCH('Beacon (Desc)'!$I50,[1]!MASTER_BEACON_SIZE_DESC[#Data],0),0))","v":""},{"$f":"IF('Beacon (Desc)'!J50=\"\",\"\",'Beacon (Desc)'!J50)","v":""}]
[{"$f":"IF('Beacon (Desc)'!A51=\"\",\"\",'Beacon (Desc)'!A51)","v":""},{"$f":"IF('Beacon (Desc)'!B51=\"\",\"\",\"1987\")","v":""},{"$f":"IF('Beacon (Desc)'!B51=\"\",\"\",'Beacon (Desc)'!B51)","v":""},{"$f":"IF('Beacon (Desc)'!C51=\"\",\"\",'Beacon (Desc)'!C51)","v":""},{"$f":"IF('Beacon (Desc)'!D51=\"\",\"\",'Beacon (Desc)'!D51)","v":""},{"$f":"IF('Beacon (Desc)'!E51=\"\",\"\",INDEX([1]BEACON_TYPE!$A$2:$A$20,MATCH('Beacon (Desc)'!$E51,[1]!MASTER_BEACON_TYPE_DESC[#Data],0),0))","v":""},{"$f":"IF('Beacon (Desc)'!F51=\"\",\"\",IF('Beacon (Desc)'!F51=\"Unknown\",\"BCN001\",(INDEX([1]BEACON_MANUF_MODEL!$A$2:$D$1500,MATCH(1,([1]BEACON_MANUF_MODEL!$G$2:$G$1500=\"\")*([1]BEACON_MANUF_MODEL!$D$2:$D$1500='Beacon (Desc)'!$F51),0),2))))","v":""},{"$f":"IF('Beacon (Desc)'!F51=\"\",\"\",IF('Beacon (Desc)'!F51=\"Unknown\",\"BCNM001\",INDEX([1]BEACON_MANUF_MODEL!$A$2:$D$1500,MATCH(1,([1]BEACON_MANUF_MODEL!$G$2:$G$1500=\"\")*([1]BEACON_MANUF_MODEL!$D$2:$D$1500='Beacon (Desc)'!$F51),0),1)))","v":""},{"$f":"IF('Beacon (Desc)'!H51=\"\",\"\",INDEX([1]BEACON_COLOR!$A$2:$A$20,MATCH('Beacon (Desc)'!$H51,[1]!MASTER_BEACON_COLOR_DESC[#Data],0),0))","v":""},{"$f":"IF('Beacon (Desc)'!I51=\"\",\"\",INDEX([1]BEACON_SIZE!$A$2:$A$20,MATCH('Beacon (Desc)'!$I51,[1]!MASTER_BEACON_SIZE_DESC[#Data],0),0))","v":""},{"$f":"IF('Beacon (Desc)'!J51=\"\",\"\",'Beacon (Desc)'!J51)","v":""}]
[{"$f":"IF('Beacon (Desc)'!A52=\"\",\"\",'Beacon (Desc)'!A52)","v":""},{"$f":"IF('Beacon (Desc)'!B52=\"\",\"\",\"1987\")","v":""},{"$f":"IF('Beacon (Desc)'!B52=\"\",\"\",'Beacon (Desc)'!B52)","v":""},{"$f":"IF('Beacon (Desc)'!C52=\"\",\"\",'Beacon (Desc)'!C52)","v":""},{"$f":"IF('Beacon (Desc)'!D52=\"\",\"\",'Beacon (Desc)'!D52)","v":""},{"$f":"IF('Beacon (Desc)'!E52=\"\",\"\",INDEX([1]BEACON_TYPE!$A$2:$A$20,MATCH('Beacon (Desc)'!$E52,[1]!MASTER_BEACON_TYPE_DESC[#Data],0),0))","v":""},{"$f":"IF('Beacon (Desc)'!F52=\"\",\"\",IF('Beacon (Desc)'!F52=\"Unknown\",\"BCN001\",(INDEX([1]BEACON_MANUF_MODEL!$A$2:$D$1500,MATCH(1,([1]BEACON_MANUF_MODEL!$G$2:$G$1500=\"\")*([1]BEACON_MANUF_MODEL!$D$2:$D$1500='Beacon (Desc)'!$F52),0),2))))","v":""},{"$f":"IF('Beacon (Desc)'!F52=\"\",\"\",IF('Beacon (Desc)'!F52=\"Unknown\",\"BCNM001\",INDEX([1]BEACON_MANUF_MODEL!$A$2:$D$1500,MATCH(1,([1]BEACON_MANUF_MODEL!$G$2:$G$1500=\"\")*([1]BEACON_MANUF_MODEL!$D$2:$D$1500='Beacon (Desc)'!$F52),0),1)))","v":""},{"$f":"IF('Beacon (Desc)'!H52=\"\",\"\",INDEX([1]BEACON_COLOR!$A$2:$A$20,MATCH('Beacon (Desc)'!$H52,[1]!MASTER_BEACON_COLOR_DESC[#Data],0),0))","v":""},{"$f":"IF('Beacon (Desc)'!I52=\"\",\"\",INDEX([1]BEACON_SIZE!$A$2:$A$20,MATCH('Beacon (Desc)'!$I52,[1]!MASTER_BEACON_SIZE_DESC[#Data],0),0))","v":""},{"$f":"IF('Beacon (Desc)'!J52=\"\",\"\",'Beacon (Desc)'!J52)","v":""}]
[{"$f":"IF('Beacon (Desc)'!A53=\"\",\"\",'Beacon (Desc)'!A53)","v":""},{"$f":"IF('Beacon (Desc)'!B53=\"\",\"\",\"1987\")","v":""},{"$f":"IF('Beacon (Desc)'!B53=\"\",\"\",'Beacon (Desc)'!B53)","v":""},{"$f":"IF('Beacon (Desc)'!C53=\"\",\"\",'Beacon (Desc)'!C53)","v":""},{"$f":"IF('Beacon (Desc)'!D53=\"\",\"\",'Beacon (Desc)'!D53)","v":""},{"$f":"IF('Beacon (Desc)'!E53=\"\",\"\",INDEX([1]BEACON_TYPE!$A$2:$A$20,MATCH('Beacon (Desc)'!$E53,[1]!MASTER_BEACON_TYPE_DESC[#Data],0),0))","v":""},{"$f":"IF('Beacon (Desc)'!F53=\"\",\"\",IF('Beacon (Desc)'!F53=\"Unknown\",\"BCN001\",(INDEX([1]BEACON_MANUF_MODEL!$A$2:$D$1500,MATCH(1,([1]BEACON_MANUF_MODEL!$G$2:$G$1500=\"\")*([1]BEACON_MANUF_MODEL!$D$2:$D$1500='Beacon (Desc)'!$F53),0),2))))","v":""},{"$f":"IF('Beacon (Desc)'!F53=\"\",\"\",IF('Beacon (Desc)'!F53=\"Unknown\",\"BCNM001\",INDEX([1]BEACON_MANUF_MODEL!$A$2:$D$1500,MATCH(1,([1]BEACON_MANUF_MODEL!$G$2:$G$1500=\"\")*([1]BEACON_MANUF_MODEL!$D$2:$D$1500='Beacon (Desc)'!$F53),0),1)))","v":""},{"$f":"IF('Beacon (Desc)'!H53=\"\",\"\",INDEX([1]BEACON_COLOR!$A$2:$A$20,MATCH('Beacon (Desc)'!$H53,[1]!MASTER_BEACON_COLOR_DESC[#Data],0),0))","v":""},{"$f":"IF('Beacon (Desc)'!I53=\"\",\"\",INDEX([1]BEACON_SIZE!$A$2:$A$20,MATCH('Beacon (Desc)'!$I53,[1]!MASTER_BEACON_SIZE_DESC[#Data],0),0))","v":""},{"$f":"IF('Beacon (Desc)'!J53=\"\",\"\",'Beacon (Desc)'!J53)","v":""}]
[{"$f":"IF('Beacon (Desc)'!A54=\"\",\"\",'Beacon (Desc)'!A54)","v":""},{"$f":"IF('Beacon (Desc)'!B54=\"\",\"\",\"1987\")","v":""},{"$f":"IF('Beacon (Desc)'!B54=\"\",\"\",'Beacon (Desc)'!B54)","v":""},{"$f":"IF('Beacon (Desc)'!C54=\"\",\"\",'Beacon (Desc)'!C54)","v":""},{"$f":"IF('Beacon (Desc)'!D54=\"\",\"\",'Beacon (Desc)'!D54)","v":""},{"$f":"IF('Beacon (Desc)'!E54=\"\",\"\",INDEX([1]BEACON_TYPE!$A$2:$A$20,MATCH('Beacon (Desc)'!$E54,[1]!MASTER_BEACON_TYPE_DESC[#Data],0),0))","v":""},{"$f":"IF('Beacon (Desc)'!F54=\"\",\"\",IF('Beacon (Desc)'!F54=\"Unknown\",\"BCN001\",(INDEX([1]BEACON_MANUF_MODEL!$A$2:$D$1500,MATCH(1,([1]BEACON_MANUF_MODEL!$G$2:$G$1500=\"\")*([1]BEACON_MANUF_MODEL!$D$2:$D$1500='Beacon (Desc)'!$F54),0),2))))","v":""},{"$f":"IF('Beacon (Desc)'!F54=\"\",\"\",IF('Beacon (Desc)'!F54=\"Unknown\",\"BCNM001\",INDEX([1]BEACON_MANUF_MODEL!$A$2:$D$1500,MATCH(1,([1]BEACON_MANUF_MODEL!$G$2:$G$1500=\"\")*([1]BEACON_MANUF_MODEL!$D$2:$D$1500='Beacon (Desc)'!$F54),0),1)))","v":""},{"$f":"IF('Beacon (Desc)'!H54=\"\",\"\",INDEX([1]BEACON_COLOR!$A$2:$A$20,MATCH('Beacon (Desc)'!$H54,[1]!MASTER_BEACON_COLOR_DESC[#Data],0),0))","v":""},{"$f":"IF('Beacon (Desc)'!I54=\"\",\"\",INDEX([1]BEACON_SIZE!$A$2:$A$20,MATCH('Beacon (Desc)'!$I54,[1]!MASTER_BEACON_SIZE_DESC[#Data],0),0))","v":""},{"$f":"IF('Beacon (Desc)'!J54=\"\",\"\",'Beacon (Desc)'!J54)","v":""}]
[{"$f":"IF('Beacon (Desc)'!A55=\"\",\"\",'Beacon (Desc)'!A55)","v":""},{"$f":"IF('Beacon (Desc)'!B55=\"\",\"\",\"1987\")","v":""},{"$f":"IF('Beacon (Desc)'!B55=\"\",\"\",'Beacon (Desc)'!B55)","v":""},{"$f":"IF('Beacon (Desc)'!C55=\"\",\"\",'Beacon (Desc)'!C55)","v":""},{"$f":"IF('Beacon (Desc)'!D55=\"\",\"\",'Beacon (Desc)'!D55)","v":""},{"$f":"IF('Beacon (Desc)'!E55=\"\",\"\",INDEX([1]BEACON_TYPE!$A$2:$A$20,MATCH('Beacon (Desc)'!$E55,[1]!MASTER_BEACON_TYPE_DESC[#Data],0),0))","v":""},{"$f":"IF('Beacon (Desc)'!F55=\"\",\"\",IF('Beacon (Desc)'!F55=\"Unknown\",\"BCN001\",(INDEX([1]BEACON_MANUF_MODEL!$A$2:$D$1500,MATCH(1,([1]BEACON_MANUF_MODEL!$G$2:$G$1500=\"\")*([1]BEACON_MANUF_MODEL!$D$2:$D$1500='Beacon (Desc)'!$F55),0),2))))","v":""},{"$f":"IF('Beacon (Desc)'!F55=\"\",\"\",IF('Beacon (Desc)'!F55=\"Unknown\",\"BCNM001\",INDEX([1]BEACON_MANUF_MODEL!$A$2:$D$1500,MATCH(1,([1]BEACON_MANUF_MODEL!$G$2:$G$1500=\"\")*([1]BEACON_MANUF_MODEL!$D$2:$D$1500='Beacon (Desc)'!$F55),0),1)))","v":""},{"$f":"IF('Beacon (Desc)'!H55=\"\",\"\",INDEX([1]BEACON_COLOR!$A$2:$A$20,MATCH('Beacon (Desc)'!$H55,[1]!MASTER_BEACON_COLOR_DESC[#Data],0),0))","v":""},{"$f":"IF('Beacon (Desc)'!I55=\"\",\"\",INDEX([1]BEACON_SIZE!$A$2:$A$20,MATCH('Beacon (Desc)'!$I55,[1]!MASTER_BEACON_SIZE_DESC[#Data],0),0))","v":""},{"$f":"IF('Beacon (Desc)'!J55=\"\",\"\",'Beacon (Desc)'!J55)","v":""}]
[{"$f":"IF('Beacon (Desc)'!A56=\"\",\"\",'Beacon (Desc)'!A56)","v":""},{"$f":"IF('Beacon (Desc)'!B56=\"\",\"\",\"1987\")","v":""},{"$f":"IF('Beacon (Desc)'!B56=\"\",\"\",'Beacon (Desc)'!B56)","v":""},{"$f":"IF('Beacon (Desc)'!C56=\"\",\"\",'Beacon (Desc)'!C56)","v":""},{"$f":"IF('Beacon (Desc)'!D56=\"\",\"\",'Beacon (Desc)'!D56)","v":""},{"$f":"IF('Beacon (Desc)'!E56=\"\",\"\",INDEX([1]BEACON_TYPE!$A$2:$A$20,MATCH('Beacon (Desc)'!$E56,[1]!MASTER_BEACON_TYPE_DESC[#Data],0),0))","v":""},{"$f":"IF('Beacon (Desc)'!F56=\"\",\"\",IF('Beacon (Desc)'!F56=\"Unknown\",\"BCN001\",(INDEX([1]BEACON_MANUF_MODEL!$A$2:$D$1500,MATCH(1,([1]BEACON_MANUF_MODEL!$G$2:$G$1500=\"\")*([1]BEACON_MANUF_MODEL!$D$2:$D$1500='Beacon (Desc)'!$F56),0),2))))","v":""},{"$f":"IF('Beacon (Desc)'!F56=\"\",\"\",IF('Beacon (Desc)'!F56=\"Unknown\",\"BCNM001\",INDEX([1]BEACON_MANUF_MODEL!$A$2:$D$1500,MATCH(1,([1]BEACON_MANUF_MODEL!$G$2:$G$1500=\"\")*([1]BEACON_MANUF_MODEL!$D$2:$D$1500='Beacon (Desc)'!$F56),0),1)))","v":""},{"$f":"IF('Beacon (Desc)'!H56=\"\",\"\",INDEX([1]BEACON_COLOR!$A$2:$A$20,MATCH('Beacon (Desc)'!$H56,[1]!MASTER_BEACON_COLOR_DESC[#Data],0),0))","v":""},{"$f":"IF('Beacon (Desc)'!I56=\"\",\"\",INDEX([1]BEACON_SIZE!$A$2:$A$20,MATCH('Beacon (Desc)'!$I56,[1]!MASTER_BEACON_SIZE_DESC[#Data],0),0))","v":""},{"$f":"IF('Beacon (Desc)'!J56=\"\",\"\",'Beacon (Desc)'!J56)","v":""}]
[{"$f":"IF('Beacon (Desc)'!A57=\"\",\"\",'Beacon (Desc)'!A57)","v":""},{"$f":"IF('Beacon (Desc)'!B57=\"\",\"\",\"1987\")","v":""},{"$f":"IF('Beacon (Desc)'!B57=\"\",\"\",'Beacon (Desc)'!B57)","v":""},{"$f":"IF('Beacon (Desc)'!C57=\"\",\"\",'Beacon (Desc)'!C57)","v":""},{"$f":"IF('Beacon (Desc)'!D57=\"\",\"\",'Beacon (Desc)'!D57)","v":""},{"$f":"IF('Beacon (Desc)'!E57=\"\",\"\",INDEX([1]BEACON_TYPE!$A$2:$A$20,MATCH('Beacon (Desc)'!$E57,[1]!MASTER_BEACON_TYPE_DESC[#Data],0),0))","v":""},{"$f":"IF('Beacon (Desc)'!F57=\"\",\"\",IF('Beacon (Desc)'!F57=\"Unknown\",\"BCN001\",(INDEX([1]BEACON_MANUF_MODEL!$A$2:$D$1500,MATCH(1,([1]BEACON_MANUF_MODEL!$G$2:$G$1500=\"\")*([1]BEACON_MANUF_MODEL!$D$2:$D$1500='Beacon (Desc)'!$F57),0),2))))","v":""},{"$f":"IF('Beacon (Desc)'!F57=\"\",\"\",IF('Beacon (Desc)'!F57=\"Unknown\",\"BCNM001\",INDEX([1]BEACON_MANUF_MODEL!$A$2:$D$1500,MATCH(1,([1]BEACON_MANUF_MODEL!$G$2:$G$1500=\"\")*([1]BEACON_MANUF_MODEL!$D$2:$D$1500='Beacon (Desc)'!$F57),0),1)))","v":""},{"$f":"IF('Beacon (Desc)'!H57=\"\",\"\",INDEX([1]BEACON_COLOR!$A$2:$A$20,MATCH('Beacon (Desc)'!$H57,[1]!MASTER_BEACON_COLOR_DESC[#Data],0),0))","v":""},{"$f":"IF('Beacon (Desc)'!I57=\"\",\"\",INDEX([1]BEACON_SIZE!$A$2:$A$20,MATCH('Beacon (Desc)'!$I57,[1]!MASTER_BEACON_SIZE_DESC[#Data],0),0))","v":""},{"$f":"IF('Beacon (Desc)'!J57=\"\",\"\",'Beacon (Desc)'!J57)","v":""}]
[{"$f":"IF('Beacon (Desc)'!A58=\"\",\"\",'Beacon (Desc)'!A58)","v":""},{"$f":"IF('Beacon (Desc)'!B58=\"\",\"\",\"1987\")","v":""},{"$f":"IF('Beacon (Desc)'!B58=\"\",\"\",'Beacon (Desc)'!B58)","v":""},{"$f":"IF('Beacon (Desc)'!C58=\"\",\"\",'Beacon (Desc)'!C58)","v":""},{"$f":"IF('Beacon (Desc)'!D58=\"\",\"\",'Beacon (Desc)'!D58)","v":""},{"$f":"IF('Beacon (Desc)'!E58=\"\",\"\",INDEX([1]BEACON_TYPE!$A$2:$A$20,MATCH('Beacon (Desc)'!$E58,[1]!MASTER_BEACON_TYPE_DESC[#Data],0),0))","v":""},{"$f":"IF('Beacon (Desc)'!F58=\"\",\"\",IF('Beacon (Desc)'!F58=\"Unknown\",\"BCN001\",(INDEX([1]BEACON_MANUF_MODEL!$A$2:$D$1500,MATCH(1,([1]BEACON_MANUF_MODEL!$G$2:$G$1500=\"\")*([1]BEACON_MANUF_MODEL!$D$2:$D$1500='Beacon (Desc)'!$F58),0),2))))","v":""},{"$f":"IF('Beacon (Desc)'!F58=\"\",\"\",IF('Beacon (Desc)'!F58=\"Unknown\",\"BCNM001\",INDEX([1]BEACON_MANUF_MODEL!$A$2:$D$1500,MATCH(1,([1]BEACON_MANUF_MODEL!$G$2:$G$1500=\"\")*([1]BEACON_MANUF_MODEL!$D$2:$D$1500='Beacon (Desc)'!$F58),0),1)))","v":""},{"$f":"IF('Beacon (Desc)'!H58=\"\",\"\",INDEX([1]BEACON_COLOR!$A$2:$A$20,MATCH('Beacon (Desc)'!$H58,[1]!MASTER_BEACON_COLOR_DESC[#Data],0),0))","v":""},{"$f":"IF('Beacon (Desc)'!I58=\"\",\"\",INDEX([1]BEACON_SIZE!$A$2:$A$20,MATCH('Beacon (Desc)'!$I58,[1]!MASTER_BEACON_SIZE_DESC[#Data],0),0))","v":""},{"$f":"IF('Beacon (Desc)'!J58=\"\",\"\",'Beacon (Desc)'!J58)","v":""}]
[{"$f":"IF('Beacon (Desc)'!A59=\"\",\"\",'Beacon (Desc)'!A59)","v":""},{"$f":"IF('Beacon (Desc)'!B59=\"\",\"\",\"1987\")","v":""},{"$f":"IF('Beacon (Desc)'!B59=\"\",\"\",'Beacon (Desc)'!B59)","v":""},{"$f":"IF('Beacon (Desc)'!C59=\"\",\"\",'Beacon (Desc)'!C59)","v":""},{"$f":"IF('Beacon (Desc)'!D59=\"\",\"\",'Beacon (Desc)'!D59)","v":""},{"$f":"IF('Beacon (Desc)'!E59=\"\",\"\",INDEX([1]BEACON_TYPE!$A$2:$A$20,MATCH('Beacon (Desc)'!$E59,[1]!MASTER_BEACON_TYPE_DESC[#Data],0),0))","v":""},{"$f":"IF('Beacon (Desc)'!F59=\"\",\"\",IF('Beacon (Desc)'!F59=\"Unknown\",\"BCN001\",(INDEX([1]BEACON_MANUF_MODEL!$A$2:$D$1500,MATCH(1,([1]BEACON_MANUF_MODEL!$G$2:$G$1500=\"\")*([1]BEACON_MANUF_MODEL!$D$2:$D$1500='Beacon (Desc)'!$F59),0),2))))","v":""},{"$f":"IF('Beacon (Desc)'!F59=\"\",\"\",IF('Beacon (Desc)'!F59=\"Unknown\",\"BCNM001\",INDEX([1]BEACON_MANUF_MODEL!$A$2:$D$1500,MATCH(1,([1]BEACON_MANUF_MODEL!$G$2:$G$1500=\"\")*([1]BEACON_MANUF_MODEL!$D$2:$D$1500='Beacon (Desc)'!$F59),0),1)))","v":""},{"$f":"IF('Beacon (Desc)'!H59=\"\",\"\",INDEX([1]BEACON_COLOR!$A$2:$A$20,MATCH('Beacon (Desc)'!$H59,[1]!MASTER_BEACON_COLOR_DESC[#Data],0),0))","v":""},{"$f":"IF('Beacon (Desc)'!I59=\"\",\"\",INDEX([1]BEACON_SIZE!$A$2:$A$20,MATCH('Beacon (Desc)'!$I59,[1]!MASTER_BEACON_SIZE_DESC[#Data],0),0))","v":""},{"$f":"IF('Beacon (Desc)'!J59=\"\",\"\",'Beacon (Desc)'!J59)","v":""}]
[{"$f":"IF('Beacon (Desc)'!A60=\"\",\"\",'Beacon (Desc)'!A60)","v":""},{"$f":"IF('Beacon (Desc)'!B60=\"\",\"\",\"1987\")","v":""},{"$f":"IF('Beacon (Desc)'!B60=\"\",\"\",'Beacon (Desc)'!B60)","v":""},{"$f":"IF('Beacon (Desc)'!C60=\"\",\"\",'Beacon (Desc)'!C60)","v":""},{"$f":"IF('Beacon (Desc)'!D60=\"\",\"\",'Beacon (Desc)'!D60)","v":""},{"$f":"IF('Beacon (Desc)'!E60=\"\",\"\",INDEX([1]BEACON_TYPE!$A$2:$A$20,MATCH('Beacon (Desc)'!$E60,[1]!MASTER_BEACON_TYPE_DESC[#Data],0),0))","v":""},{"$f":"IF('Beacon (Desc)'!F60=\"\",\"\",IF('Beacon (Desc)'!F60=\"Unknown\",\"BCN001\",(INDEX([1]BEACON_MANUF_MODEL!$A$2:$D$1500,MATCH(1,([1]BEACON_MANUF_MODEL!$G$2:$G$1500=\"\")*([1]BEACON_MANUF_MODEL!$D$2:$D$1500='Beacon (Desc)'!$F60),0),2))))","v":""},{"$f":"IF('Beacon (Desc)'!F60=\"\",\"\",IF('Beacon (Desc)'!F60=\"Unknown\",\"BCNM001\",INDEX([1]BEACON_MANUF_MODEL!$A$2:$D$1500,MATCH(1,([1]BEACON_MANUF_MODEL!$G$2:$G$1500=\"\")*([1]BEACON_MANUF_MODEL!$D$2:$D$1500='Beacon (Desc)'!$F60),0),1)))","v":""},{"$f":"IF('Beacon (Desc)'!H60=\"\",\"\",INDEX([1]BEACON_COLOR!$A$2:$A$20,MATCH('Beacon (Desc)'!$H60,[1]!MASTER_BEACON_COLOR_DESC[#Data],0),0))","v":""},{"$f":"IF('Beacon (Desc)'!I60=\"\",\"\",INDEX([1]BEACON_SIZE!$A$2:$A$20,MATCH('Beacon (Desc)'!$I60,[1]!MASTER_BEACON_SIZE_DESC[#Data],0),0))","v":""},{"$f":"IF('Beacon (Desc)'!J60=\"\",\"\",'Beacon (Desc)'!J60)","v":""}]
[{"$f":"IF('Beacon (Desc)'!A61=\"\",\"\",'Beacon (Desc)'!A61)","v":""},{"$f":"IF('Beacon (Desc)'!B61=\"\",\"\",\"1987\")","v":""},{"$f":"IF('Beacon (Desc)'!B61=\"\",\"\",'Beacon (Desc)'!B61)","v":""},{"$f":"IF('Beacon (Desc)'!C61=\"\",\"\",'Beacon (Desc)'!C61)","v":""},{"$f":"IF('Beacon (Desc)'!D61=\"\",\"\",'Beacon (Desc)'!D61)","v":""},{"$f":"IF('Beacon (Desc)'!E61=\"\",\"\",INDEX([1]BEACON_TYPE!$A$2:$A$20,MATCH('Beacon (Desc)'!$E61,[1]!MASTER_BEACON_TYPE_DESC[#Data],0),0))","v":""},{"$f":"IF('Beacon (Desc)'!F61=\"\",\"\",IF('Beacon (Desc)'!F61=\"Unknown\",\"BCN001\",(INDEX([1]BEACON_MANUF_MODEL!$A$2:$D$1500,MATCH(1,([1]BEACON_MANUF_MODEL!$G$2:$G$1500=\"\")*([1]BEACON_MANUF_MODEL!$D$2:$D$1500='Beacon (Desc)'!$F61),0),2))))","v":""},{"$f":"IF('Beacon (Desc)'!F61=\"\",\"\",IF('Beacon (Desc)'!F61=\"Unknown\",\"BCNM001\",INDEX([1]BEACON_MANUF_MODEL!$A$2:$D$1500,MATCH(1,([1]BEACON_MANUF_MODEL!$G$2:$G$1500=\"\")*([1]BEACON_MANUF_MODEL!$D$2:$D$1500='Beacon (Desc)'!$F61),0),1)))","v":""},{"$f":"IF('Beacon (Desc)'!H61=\"\",\"\",INDEX([1]BEACON_COLOR!$A$2:$A$20,MATCH('Beacon (Desc)'!$H61,[1]!MASTER_BEACON_COLOR_DESC[#Data],0),0))","v":""},{"$f":"IF('Beacon (Desc)'!I61=\"\",\"\",INDEX([1]BEACON_SIZE!$A$2:$A$20,MATCH('Beacon (Desc)'!$I61,[1]!MASTER_BEACON_SIZE_DESC[#Data],0),0))","v":""},{"$f":"IF('Beacon (Desc)'!J61=\"\",\"\",'Beacon (Desc)'!J61)","v":""}]
[{"$f":"IF('Beacon (Desc)'!A62=\"\",\"\",'Beacon (Desc)'!A62)","v":""},{"$f":"IF('Beacon (Desc)'!B62=\"\",\"\",\"1987\")","v":""},{"$f":"IF('Beacon (Desc)'!B62=\"\",\"\",'Beacon (Desc)'!B62)","v":""},{"$f":"IF('Beacon (Desc)'!C62=\"\",\"\",'Beacon (Desc)'!C62)","v":""},{"$f":"IF('Beacon (Desc)'!D62=\"\",\"\",'Beacon (Desc)'!D62)","v":""},{"$f":"IF('Beacon (Desc)'!E62=\"\",\"\",INDEX([1]BEACON_TYPE!$A$2:$A$20,MATCH('Beacon (Desc)'!$E62,[1]!MASTER_BEACON_TYPE_DESC[#Data],0),0))","v":""},{"$f":"IF('Beacon (Desc)'!F62=\"\",\"\",IF('Beacon (Desc)'!F62=\"Unknown\",\"BCN001\",(INDEX([1]BEACON_MANUF_MODEL!$A$2:$D$1500,MATCH(1,([1]BEACON_MANUF_MODEL!$G$2:$G$1500=\"\")*([1]BEACON_MANUF_MODEL!$D$2:$D$1500='Beacon (Desc)'!$F62),0),2))))","v":""},{"$f":"IF('Beacon (Desc)'!F62=\"\",\"\",IF('Beacon (Desc)'!F62=\"Unknown\",\"BCNM001\",INDEX([1]BEACON_MANUF_MODEL!$A$2:$D$1500,MATCH(1,([1]BEACON_MANUF_MODEL!$G$2:$G$1500=\"\")*([1]BEACON_MANUF_MODEL!$D$2:$D$1500='Beacon (Desc)'!$F62),0),1)))","v":""},{"$f":"IF('Beacon (Desc)'!H62=\"\",\"\",INDEX([1]BEACON_COLOR!$A$2:$A$20,MATCH('Beacon (Desc)'!$H62,[1]!MASTER_BEACON_COLOR_DESC[#Data],0),0))","v":""},{"$f":"IF('Beacon (Desc)'!I62=\"\",\"\",INDEX([1]BEACON_SIZE!$A$2:$A$20,MATCH('Beacon (Desc)'!$I62,[1]!MASTER_BEACON_SIZE_DESC[#Data],0),0))","v":""},{"$f":"IF('Beacon (Desc)'!J62=\"\",\"\",'Beacon (Desc)'!J62)","v":""}]
[{"$f":"IF('Beacon (Desc)'!A63=\"\",\"\",'Beacon (Desc)'!A63)","v":""},{"$f":"IF('Beacon (Desc)'!B63=\"\",\"\",\"1987\")","v":""},{"$f":"IF('Beacon (Desc)'!B63=\"\",\"\",'Beacon (Desc)'!B63)","v":""},{"$f":"IF('Beacon (Desc)'!C63=\"\",\"\",'Beacon (Desc)'!C63)","v":""},{"$f":"IF('Beacon (Desc)'!D63=\"\",\"\",'Beacon (Desc)'!D63)","v":""},{"$f":"IF('Beacon (Desc)'!E63=\"\",\"\",INDEX([1]BEACON_TYPE!$A$2:$A$20,MATCH('Beacon (Desc)'!$E63,[1]!MASTER_BEACON_TYPE_DESC[#Data],0),0))","v":""},{"$f":"IF('Beacon (Desc)'!F63=\"\",\"\",IF('Beacon (Desc)'!F63=\"Unknown\",\"BCN001\",(INDEX([1]BEACON_MANUF_MODEL!$A$2:$D$1500,MATCH(1,([1]BEACON_MANUF_MODEL!$G$2:$G$1500=\"\")*([1]BEACON_MANUF_MODEL!$D$2:$D$1500='Beacon (Desc)'!$F63),0),2))))","v":""},{"$f":"IF('Beacon (Desc)'!F63=\"\",\"\",IF('Beacon (Desc)'!F63=\"Unknown\",\"BCNM001\",INDEX([1]BEACON_MANUF_MODEL!$A$2:$D$1500,MATCH(1,([1]BEACON_MANUF_MODEL!$G$2:$G$1500=\"\")*([1]BEACON_MANUF_MODEL!$D$2:$D$1500='Beacon (Desc)'!$F63),0),1)))","v":""},{"$f":"IF('Beacon (Desc)'!H63=\"\",\"\",INDEX([1]BEACON_COLOR!$A$2:$A$20,MATCH('Beacon (Desc)'!$H63,[1]!MASTER_BEACON_COLOR_DESC[#Data],0),0))","v":""},{"$f":"IF('Beacon (Desc)'!I63=\"\",\"\",INDEX([1]BEACON_SIZE!$A$2:$A$20,MATCH('Beacon (Desc)'!$I63,[1]!MASTER_BEACON_SIZE_DESC[#Data],0),0))","v":""},{"$f":"IF('Beacon (Desc)'!J63=\"\",\"\",'Beacon (Desc)'!J63)","v":""}]
[{"$f":"IF('Beacon (Desc)'!A64=\"\",\"\",'Beacon (Desc)'!A64)","v":""},{"$f":"IF('Beacon (Desc)'!B64=\"\",\"\",\"1987\")","v":""},{"$f":"IF('Beacon (Desc)'!B64=\"\",\"\",'Beacon (Desc)'!B64)","v":""},{"$f":"IF('Beacon (Desc)'!C64=\"\",\"\",'Beacon (Desc)'!C64)","v":""},{"$f":"IF('Beacon (Desc)'!D64=\"\",\"\",'Beacon (Desc)'!D64)","v":""},{"$f":"IF('Beacon (Desc)'!E64=\"\",\"\",INDEX([1]BEACON_TYPE!$A$2:$A$20,MATCH('Beacon (Desc)'!$E64,[1]!MASTER_BEACON_TYPE_DESC[#Data],0),0))","v":""},{"$f":"IF('Beacon (Desc)'!F64=\"\",\"\",IF('Beacon (Desc)'!F64=\"Unknown\",\"BCN001\",(INDEX([1]BEACON_MANUF_MODEL!$A$2:$D$1500,MATCH(1,([1]BEACON_MANUF_MODEL!$G$2:$G$1500=\"\")*([1]BEACON_MANUF_MODEL!$D$2:$D$1500='Beacon (Desc)'!$F64),0),2))))","v":""},{"$f":"IF('Beacon (Desc)'!F64=\"\",\"\",IF('Beacon (Desc)'!F64=\"Unknown\",\"BCNM001\",INDEX([1]BEACON_MANUF_MODEL!$A$2:$D$1500,MATCH(1,([1]BEACON_MANUF_MODEL!$G$2:$G$1500=\"\")*([1]BEACON_MANUF_MODEL!$D$2:$D$1500='Beacon (Desc)'!$F64),0),1)))","v":""},{"$f":"IF('Beacon (Desc)'!H64=\"\",\"\",INDEX([1]BEACON_COLOR!$A$2:$A$20,MATCH('Beacon (Desc)'!$H64,[1]!MASTER_BEACON_COLOR_DESC[#Data],0),0))","v":""},{"$f":"IF('Beacon (Desc)'!I64=\"\",\"\",INDEX([1]BEACON_SIZE!$A$2:$A$20,MATCH('Beacon (Desc)'!$I64,[1]!MASTER_BEACON_SIZE_DESC[#Data],0),0))","v":""},{"$f":"IF('Beacon (Desc)'!J64=\"\",\"\",'Beacon (Desc)'!J64)","v":""}]
[{"$f":"IF('Beacon (Desc)'!A65=\"\",\"\",'Beacon (Desc)'!A65)","v":""},{"$f":"IF('Beacon (Desc)'!B65=\"\",\"\",\"1987\")","v":""},{"$f":"IF('Beacon (Desc)'!B65=\"\",\"\",'Beacon (Desc)'!B65)","v":""},{"$f":"IF('Beacon (Desc)'!C65=\"\",\"\",'Beacon (Desc)'!C65)","v":""},{"$f":"IF('Beacon (Desc)'!D65=\"\",\"\",'Beacon (Desc)'!D65)","v":""},{"$f":"IF('Beacon (Desc)'!E65=\"\",\"\",INDEX([1]BEACON_TYPE!$A$2:$A$20,MATCH('Beacon (Desc)'!$E65,[1]!MASTER_BEACON_TYPE_DESC[#Data],0),0))","v":""},{"$f":"IF('Beacon (Desc)'!F65=\"\",\"\",IF('Beacon (Desc)'!F65=\"Unknown\",\"BCN001\",(INDEX([1]BEACON_MANUF_MODEL!$A$2:$D$1500,MATCH(1,([1]BEACON_MANUF_MODEL!$G$2:$G$1500=\"\")*([1]BEACON_MANUF_MODEL!$D$2:$D$1500='Beacon (Desc)'!$F65),0),2))))","v":""},{"$f":"IF('Beacon (Desc)'!F65=\"\",\"\",IF('Beacon (Desc)'!F65=\"Unknown\",\"BCNM001\",INDEX([1]BEACON_MANUF_MODEL!$A$2:$D$1500,MATCH(1,([1]BEACON_MANUF_MODEL!$G$2:$G$1500=\"\")*([1]BEACON_MANUF_MODEL!$D$2:$D$1500='Beacon (Desc)'!$F65),0),1)))","v":""},{"$f":"IF('Beacon (Desc)'!H65=\"\",\"\",INDEX([1]BEACON_COLOR!$A$2:$A$20,MATCH('Beacon (Desc)'!$H65,[1]!MASTER_BEACON_COLOR_DESC[#Data],0),0))","v":""},{"$f":"IF('Beacon (Desc)'!I65=\"\",\"\",INDEX([1]BEACON_SIZE!$A$2:$A$20,MATCH('Beacon (Desc)'!$I65,[1]!MASTER_BEACON_SIZE_DESC[#Data],0),0))","v":""},{"$f":"IF('Beacon (Desc)'!J65=\"\",\"\",'Beacon (Desc)'!J65)","v":""}]
[{"$f":"IF('Beacon (Desc)'!A66=\"\",\"\",'Beacon (Desc)'!A66)","v":""},{"$f":"IF('Beacon (Desc)'!B66=\"\",\"\",\"1987\")","v":""},{"$f":"IF('Beacon (Desc)'!B66=\"\",\"\",'Beacon (Desc)'!B66)","v":""},{"$f":"IF('Beacon (Desc)'!C66=\"\",\"\",'Beacon (Desc)'!C66)","v":""},{"$f":"IF('Beacon (Desc)'!D66=\"\",\"\",'Beacon (Desc)'!D66)","v":""},{"$f":"IF('Beacon (Desc)'!E66=\"\",\"\",INDEX([1]BEACON_TYPE!$A$2:$A$20,MATCH('Beacon (Desc)'!$E66,[1]!MASTER_BEACON_TYPE_DESC[#Data],0),0))","v":""},{"$f":"IF('Beacon (Desc)'!F66=\"\",\"\",IF('Beacon (Desc)'!F66=\"Unknown\",\"BCN001\",(INDEX([1]BEACON_MANUF_MODEL!$A$2:$D$1500,MATCH(1,([1]BEACON_MANUF_MODEL!$G$2:$G$1500=\"\")*([1]BEACON_MANUF_MODEL!$D$2:$D$1500='Beacon (Desc)'!$F66),0),2))))","v":""},{"$f":"IF('Beacon (Desc)'!F66=\"\",\"\",IF('Beacon (Desc)'!F66=\"Unknown\",\"BCNM001\",INDEX([1]BEACON_MANUF_MODEL!$A$2:$D$1500,MATCH(1,([1]BEACON_MANUF_MODEL!$G$2:$G$1500=\"\")*([1]BEACON_MANUF_MODEL!$D$2:$D$1500='Beacon (Desc)'!$F66),0),1)))","v":""},{"$f":"IF('Beacon (Desc)'!H66=\"\",\"\",INDEX([1]BEACON_COLOR!$A$2:$A$20,MATCH('Beacon (Desc)'!$H66,[1]!MASTER_BEACON_COLOR_DESC[#Data],0),0))","v":""},{"$f":"IF('Beacon (Desc)'!I66=\"\",\"\",INDEX([1]BEACON_SIZE!$A$2:$A$20,MATCH('Beacon (Desc)'!$I66,[1]!MASTER_BEACON_SIZE_DESC[#Data],0),0))","v":""},{"$f":"IF('Beacon (Desc)'!J66=\"\",\"\",'Beacon (Desc)'!J66)","v":""}]
[{"$f":"IF('Beacon (Desc)'!A67=\"\",\"\",'Beacon (Desc)'!A67)","v":""},{"$f":"IF('Beacon (Desc)'!B67=\"\",\"\",\"1987\")","v":""},{"$f":"IF('Beacon (Desc)'!B67=\"\",\"\",'Beacon (Desc)'!B67)","v":""},{"$f":"IF('Beacon (Desc)'!C67=\"\",\"\",'Beacon (Desc)'!C67)","v":""},{"$f":"IF('Beacon (Desc)'!D67=\"\",\"\",'Beacon (Desc)'!D67)","v":""},{"$f":"IF('Beacon (Desc)'!E67=\"\",\"\",INDEX([1]BEACON_TYPE!$A$2:$A$20,MATCH('Beacon (Desc)'!$E67,[1]!MASTER_BEACON_TYPE_DESC[#Data],0),0))","v":""},{"$f":"IF('Beacon (Desc)'!F67=\"\",\"\",IF('Beacon (Desc)'!F67=\"Unknown\",\"BCN001\",(INDEX([1]BEACON_MANUF_MODEL!$A$2:$D$1500,MATCH(1,([1]BEACON_MANUF_MODEL!$G$2:$G$1500=\"\")*([1]BEACON_MANUF_MODEL!$D$2:$D$1500='Beacon (Desc)'!$F67),0),2))))","v":""},{"$f":"IF('Beacon (Desc)'!F67=\"\",\"\",IF('Beacon (Desc)'!F67=\"Unknown\",\"BCNM001\",INDEX([1]BEACON_MANUF_MODEL!$A$2:$D$1500,MATCH(1,([1]BEACON_MANUF_MODEL!$G$2:$G$1500=\"\")*([1]BEACON_MANUF_MODEL!$D$2:$D$1500='Beacon (Desc)'!$F67),0),1)))","v":""},{"$f":"IF('Beacon (Desc)'!H67=\"\",\"\",INDEX([1]BEACON_COLOR!$A$2:$A$20,MATCH('Beacon (Desc)'!$H67,[1]!MASTER_BEACON_COLOR_DESC[#Data],0),0))","v":""},{"$f":"IF('Beacon (Desc)'!I67=\"\",\"\",INDEX([1]BEACON_SIZE!$A$2:$A$20,MATCH('Beacon (Desc)'!$I67,[1]!MASTER_BEACON_SIZE_DESC[#Data],0),0))","v":""},{"$f":"IF('Beacon (Desc)'!J67=\"\",\"\",'Beacon (Desc)'!J67)","v":""}]
[{"$f":"IF('Beacon (Desc)'!A68=\"\",\"\",'Beacon (Desc)'!A68)","v":""},{"$f":"IF('Beacon (Desc)'!B68=\"\",\"\",\"1987\")","v":""},{"$f":"IF('Beacon (Desc)'!B68=\"\",\"\",'Beacon (Desc)'!B68)","v":""},{"$f":"IF('Beacon (Desc)'!C68=\"\",\"\",'Beacon (Desc)'!C68)","v":""},{"$f":"IF('Beacon (Desc)'!D68=\"\",\"\",'Beacon (Desc)'!D68)","v":""},{"$f":"IF('Beacon (Desc)'!E68=\"\",\"\",INDEX([1]BEACON_TYPE!$A$2:$A$20,MATCH('Beacon (Desc)'!$E68,[1]!MASTER_BEACON_TYPE_DESC[#Data],0),0))","v":""},{"$f":"IF('Beacon (Desc)'!F68=\"\",\"\",IF('Beacon (Desc)'!F68=\"Unknown\",\"BCN001\",(INDEX([1]BEACON_MANUF_MODEL!$A$2:$D$1500,MATCH(1,([1]BEACON_MANUF_MODEL!$G$2:$G$1500=\"\")*([1]BEACON_MANUF_MODEL!$D$2:$D$1500='Beacon (Desc)'!$F68),0),2))))","v":""},{"$f":"IF('Beacon (Desc)'!F68=\"\",\"\",IF('Beacon (Desc)'!F68=\"Unknown\",\"BCNM001\",INDEX([1]BEACON_MANUF_MODEL!$A$2:$D$1500,MATCH(1,([1]BEACON_MANUF_MODEL!$G$2:$G$1500=\"\")*([1]BEACON_MANUF_MODEL!$D$2:$D$1500='Beacon (Desc)'!$F68),0),1)))","v":""},{"$f":"IF('Beacon (Desc)'!H68=\"\",\"\",INDEX([1]BEACON_COLOR!$A$2:$A$20,MATCH('Beacon (Desc)'!$H68,[1]!MASTER_BEACON_COLOR_DESC[#Data],0),0))","v":""},{"$f":"IF('Beacon (Desc)'!I68=\"\",\"\",INDEX([1]BEACON_SIZE!$A$2:$A$20,MATCH('Beacon (Desc)'!$I68,[1]!MASTER_BEACON_SIZE_DESC[#Data],0),0))","v":""},{"$f":"IF('Beacon (Desc)'!J68=\"\",\"\",'Beacon (Desc)'!J68)","v":""}]
[{"$f":"IF('Beacon (Desc)'!A69=\"\",\"\",'Beacon (Desc)'!A69)","v":""},{"$f":"IF('Beacon (Desc)'!B69=\"\",\"\",\"1987\")","v":""},{"$f":"IF('Beacon (Desc)'!B69=\"\",\"\",'Beacon (Desc)'!B69)","v":""},{"$f":"IF('Beacon (Desc)'!C69=\"\",\"\",'Beacon (Desc)'!C69)","v":""},{"$f":"IF('Beacon (Desc)'!D69=\"\",\"\",'Beacon (Desc)'!D69)","v":""},{"$f":"IF('Beacon (Desc)'!E69=\"\",\"\",INDEX([1]BEACON_TYPE!$A$2:$A$20,MATCH('Beacon (Desc)'!$E69,[1]!MASTER_BEACON_TYPE_DESC[#Data],0),0))","v":""},{"$f":"IF('Beacon (Desc)'!F69=\"\",\"\",IF('Beacon (Desc)'!F69=\"Unknown\",\"BCN001\",(INDEX([1]BEACON_MANUF_MODEL!$A$2:$D$1500,MATCH(1,([1]BEACON_MANUF_MODEL!$G$2:$G$1500=\"\")*([1]BEACON_MANUF_MODEL!$D$2:$D$1500='Beacon (Desc)'!$F69),0),2))))","v":""},{"$f":"IF('Beacon (Desc)'!F69=\"\",\"\",IF('Beacon (Desc)'!F69=\"Unknown\",\"BCNM001\",INDEX([1]BEACON_MANUF_MODEL!$A$2:$D$1500,MATCH(1,([1]BEACON_MANUF_MODEL!$G$2:$G$1500=\"\")*([1]BEACON_MANUF_MODEL!$D$2:$D$1500='Beacon (Desc)'!$F69),0),1)))","v":""},{"$f":"IF('Beacon (Desc)'!H69=\"\",\"\",INDEX([1]BEACON_COLOR!$A$2:$A$20,MATCH('Beacon (Desc)'!$H69,[1]!MASTER_BEACON_COLOR_DESC[#Data],0),0))","v":""},{"$f":"IF('Beacon (Desc)'!I69=\"\",\"\",INDEX([1]BEACON_SIZE!$A$2:$A$20,MATCH('Beacon (Desc)'!$I69,[1]!MASTER_BEACON_SIZE_DESC[#Data],0),0))","v":""},{"$f":"IF('Beacon (Desc)'!J69=\"\",\"\",'Beacon (Desc)'!J69)","v":""}]
[{"$f":"IF('Beacon (Desc)'!A70=\"\",\"\",'Beacon (Desc)'!A70)","v":""},{"$f":"IF('Beacon (Desc)'!B70=\"\",\"\",\"1987\")","v":""},{"$f":"IF('Beacon (Desc)'!B70=\"\",\"\",'Beacon (Desc)'!B70)","v":""},{"$f":"IF('Beacon (Desc)'!C70=\"\",\"\",'Beacon (Desc)'!C70)","v":""},{"$f":"IF('Beacon (Desc)'!D70=\"\",\"\",'Beacon (Desc)'!D70)","v":""},{"$f":"IF('Beacon (Desc)'!E70=\"\",\"\",INDEX([1]BEACON_TYPE!$A$2:$A$20,MATCH('Beacon (Desc)'!$E70,[1]!MASTER_BEACON_TYPE_DESC[#Data],0),0))","v":""},{"$f":"IF('Beacon (Desc)'!F70=\"\",\"\",IF('Beacon (Desc)'!F70=\"Unknown\",\"BCN001\",(INDEX([1]BEACON_MANUF_MODEL!$A$2:$D$1500,MATCH(1,([1]BEACON_MANUF_MODEL!$G$2:$G$1500=\"\")*([1]BEACON_MANUF_MODEL!$D$2:$D$1500='Beacon (Desc)'!$F70),0),2))))","v":""},{"$f":"IF('Beacon (Desc)'!F70=\"\",\"\",IF('Beacon (Desc)'!F70=\"Unknown\",\"BCNM001\",INDEX([1]BEACON_MANUF_MODEL!$A$2:$D$1500,MATCH(1,([1]BEACON_MANUF_MODEL!$G$2:$G$1500=\"\")*([1]BEACON_MANUF_MODEL!$D$2:$D$1500='Beacon (Desc)'!$F70),0),1)))","v":""},{"$f":"IF('Beacon (Desc)'!H70=\"\",\"\",INDEX([1]BEACON_COLOR!$A$2:$A$20,MATCH('Beacon (Desc)'!$H70,[1]!MASTER_BEACON_COLOR_DESC[#Data],0),0))","v":""},{"$f":"IF('Beacon (Desc)'!I70=\"\",\"\",INDEX([1]BEACON_SIZE!$A$2:$A$20,MATCH('Beacon (Desc)'!$I70,[1]!MASTER_BEACON_SIZE_DESC[#Data],0),0))","v":""},{"$f":"IF('Beacon (Desc)'!J70=\"\",\"\",'Beacon (Desc)'!J70)","v":""}]
[{"$f":"IF('Beacon (Desc)'!A71=\"\",\"\",'Beacon (Desc)'!A71)","v":""},{"$f":"IF('Beacon (Desc)'!B71=\"\",\"\",\"1987\")","v":""},{"$f":"IF('Beacon (Desc)'!B71=\"\",\"\",'Beacon (Desc)'!B71)","v":""},{"$f":"IF('Beacon (Desc)'!C71=\"\",\"\",'Beacon (Desc)'!C71)","v":""},{"$f":"IF('Beacon (Desc)'!D71=\"\",\"\",'Beacon (Desc)'!D71)","v":""},{"$f":"IF('Beacon (Desc)'!E71=\"\",\"\",INDEX([1]BEACON_TYPE!$A$2:$A$20,MATCH('Beacon (Desc)'!$E71,[1]!MASTER_BEACON_TYPE_DESC[#Data],0),0))","v":""},{"$f":"IF('Beacon (Desc)'!F71=\"\",\"\",IF('Beacon (Desc)'!F71=\"Unknown\",\"BCN001\",(INDEX([1]BEACON_MANUF_MODEL!$A$2:$D$1500,MATCH(1,([1]BEACON_MANUF_MODEL!$G$2:$G$1500=\"\")*([1]BEACON_MANUF_MODEL!$D$2:$D$1500='Beacon (Desc)'!$F71),0),2))))","v":""},{"$f":"IF('Beacon (Desc)'!F71=\"\",\"\",IF('Beacon (Desc)'!F71=\"Unknown\",\"BCNM001\",INDEX([1]BEACON_MANUF_MODEL!$A$2:$D$1500,MATCH(1,([1]BEACON_MANUF_MODEL!$G$2:$G$1500=\"\")*([1]BEACON_MANUF_MODEL!$D$2:$D$1500='Beacon (Desc)'!$F71),0),1)))","v":""},{"$f":"IF('Beacon (Desc)'!H71=\"\",\"\",INDEX([1]BEACON_COLOR!$A$2:$A$20,MATCH('Beacon (Desc)'!$H71,[1]!MASTER_BEACON_COLOR_DESC[#Data],0),0))","v":""},{"$f":"IF('Beacon (Desc)'!I71=\"\",\"\",INDEX([1]BEACON_SIZE!$A$2:$A$20,MATCH('Beacon (Desc)'!$I71,[1]!MASTER_BEACON_SIZE_DESC[#Data],0),0))","v":""},{"$f":"IF('Beacon (Desc)'!J71=\"\",\"\",'Beacon (Desc)'!J71)","v":""}]
[{"$f":"IF('Beacon (Desc)'!A72=\"\",\"\",'Beacon (Desc)'!A72)","v":""},{"$f":"IF('Beacon (Desc)'!B72=\"\",\"\",\"1987\")","v":""},{"$f":"IF('Beacon (Desc)'!B72=\"\",\"\",'Beacon (Desc)'!B72)","v":""},{"$f":"IF('Beacon (Desc)'!C72=\"\",\"\",'Beacon (Desc)'!C72)","v":""},{"$f":"IF('Beacon (Desc)'!D72=\"\",\"\",'Beacon (Desc)'!D72)","v":""},{"$f":"IF('Beacon (Desc)'!E72=\"\",\"\",INDEX([1]BEACON_TYPE!$A$2:$A$20,MATCH('Beacon (Desc)'!$E72,[1]!MASTER_BEACON_TYPE_DESC[#Data],0),0))","v":""},{"$f":"IF('Beacon (Desc)'!F72=\"\",\"\",IF('Beacon (Desc)'!F72=\"Unknown\",\"BCN001\",(INDEX([1]BEACON_MANUF_MODEL!$A$2:$D$1500,MATCH(1,([1]BEACON_MANUF_MODEL!$G$2:$G$1500=\"\")*([1]BEACON_MANUF_MODEL!$D$2:$D$1500='Beacon (Desc)'!$F72),0),2))))","v":""},{"$f":"IF('Beacon (Desc)'!F72=\"\",\"\",IF('Beacon (Desc)'!F72=\"Unknown\",\"BCNM001\",INDEX([1]BEACON_MANUF_MODEL!$A$2:$D$1500,MATCH(1,([1]BEACON_MANUF_MODEL!$G$2:$G$1500=\"\")*([1]BEACON_MANUF_MODEL!$D$2:$D$1500='Beacon (Desc)'!$F72),0),1)))","v":""},{"$f":"IF('Beacon (Desc)'!H72=\"\",\"\",INDEX([1]BEACON_COLOR!$A$2:$A$20,MATCH('Beacon (Desc)'!$H72,[1]!MASTER_BEACON_COLOR_DESC[#Data],0),0))","v":""},{"$f":"IF('Beacon (Desc)'!I72=\"\",\"\",INDEX([1]BEACON_SIZE!$A$2:$A$20,MATCH('Beacon (Desc)'!$I72,[1]!MASTER_BEACON_SIZE_DESC[#Data],0),0))","v":""},{"$f":"IF('Beacon (Desc)'!J72=\"\",\"\",'Beacon (Desc)'!J72)","v":""}]
[{"$f":"IF('Beacon (Desc)'!A73=\"\",\"\",'Beacon (Desc)'!A73)","v":""},{"$f":"IF('Beacon (Desc)'!B73=\"\",\"\",\"1987\")","v":""},{"$f":"IF('Beacon (Desc)'!B73=\"\",\"\",'Beacon (Desc)'!B73)","v":""},{"$f":"IF('Beacon (Desc)'!C73=\"\",\"\",'Beacon (Desc)'!C73)","v":""},{"$f":"IF('Beacon (Desc)'!D73=\"\",\"\",'Beacon (Desc)'!D73)","v":""},{"$f":"IF('Beacon (Desc)'!E73=\"\",\"\",INDEX([1]BEACON_TYPE!$A$2:$A$20,MATCH('Beacon (Desc)'!$E73,[1]!MASTER_BEACON_TYPE_DESC[#Data],0),0))","v":""},{"$f":"IF('Beacon (Desc)'!F73=\"\",\"\",IF('Beacon (Desc)'!F73=\"Unknown\",\"BCN001\",(INDEX([1]BEACON_MANUF_MODEL!$A$2:$D$1500,MATCH(1,([1]BEACON_MANUF_MODEL!$G$2:$G$1500=\"\")*([1]BEACON_MANUF_MODEL!$D$2:$D$1500='Beacon (Desc)'!$F73),0),2))))","v":""},{"$f":"IF('Beacon (Desc)'!F73=\"\",\"\",IF('Beacon (Desc)'!F73=\"Unknown\",\"BCNM001\",INDEX([1]BEACON_MANUF_MODEL!$A$2:$D$1500,MATCH(1,([1]BEACON_MANUF_MODEL!$G$2:$G$1500=\"\")*([1]BEACON_MANUF_MODEL!$D$2:$D$1500='Beacon (Desc)'!$F73),0),1)))","v":""},{"$f":"IF('Beacon (Desc)'!H73=\"\",\"\",INDEX([1]BEACON_COLOR!$A$2:$A$20,MATCH('Beacon (Desc)'!$H73,[1]!MASTER_BEACON_COLOR_DESC[#Data],0),0))","v":""},{"$f":"IF('Beacon (Desc)'!I73=\"\",\"\",INDEX([1]BEACON_SIZE!$A$2:$A$20,MATCH('Beacon (Desc)'!$I73,[1]!MASTER_BEACON_SIZE_DESC[#Data],0),0))","v":""},{"$f":"IF('Beacon (Desc)'!J73=\"\",\"\",'Beacon (Desc)'!J73)","v":""}]
[{"$f":"IF('Beacon (Desc)'!A74=\"\",\"\",'Beacon (Desc)'!A74)","v":""},{"$f":"IF('Beacon (Desc)'!B74=\"\",\"\",\"1987\")","v":""},{"$f":"IF('Beacon (Desc)'!B74=\"\",\"\",'Beacon (Desc)'!B74)","v":""},{"$f":"IF('Beacon (Desc)'!C74=\"\",\"\",'Beacon (Desc)'!C74)","v":""},{"$f":"IF('Beacon (Desc)'!D74=\"\",\"\",'Beacon (Desc)'!D74)","v":""},{"$f":"IF('Beacon (Desc)'!E74=\"\",\"\",INDEX([1]BEACON_TYPE!$A$2:$A$20,MATCH('Beacon (Desc)'!$E74,[1]!MASTER_BEACON_TYPE_DESC[#Data],0),0))","v":""},{"$f":"IF('Beacon (Desc)'!F74=\"\",\"\",IF('Beacon (Desc)'!F74=\"Unknown\",\"BCN001\",(INDEX([1]BEACON_MANUF_MODEL!$A$2:$D$1500,MATCH(1,([1]BEACON_MANUF_MODEL!$G$2:$G$1500=\"\")*([1]BEACON_MANUF_MODEL!$D$2:$D$1500='Beacon (Desc)'!$F74),0),2))))","v":""},{"$f":"IF('Beacon (Desc)'!F74=\"\",\"\",IF('Beacon (Desc)'!F74=\"Unknown\",\"BCNM001\",INDEX([1]BEACON_MANUF_MODEL!$A$2:$D$1500,MATCH(1,([1]BEACON_MANUF_MODEL!$G$2:$G$1500=\"\")*([1]BEACON_MANUF_MODEL!$D$2:$D$1500='Beacon (Desc)'!$F74),0),1)))","v":""},{"$f":"IF('Beacon (Desc)'!H74=\"\",\"\",INDEX([1]BEACON_COLOR!$A$2:$A$20,MATCH('Beacon (Desc)'!$H74,[1]!MASTER_BEACON_COLOR_DESC[#Data],0),0))","v":""},{"$f":"IF('Beacon (Desc)'!I74=\"\",\"\",INDEX([1]BEACON_SIZE!$A$2:$A$20,MATCH('Beacon (Desc)'!$I74,[1]!MASTER_BEACON_SIZE_DESC[#Data],0),0))","v":""},{"$f":"IF('Beacon (Desc)'!J74=\"\",\"\",'Beacon (Desc)'!J74)","v":""}]
[{"$f":"IF('Beacon (Desc)'!A75=\"\",\"\",'Beacon (Desc)'!A75)","v":""},{"$f":"IF('Beacon (Desc)'!B75=\"\",\"\",\"1987\")","v":""},{"$f":"IF('Beacon (Desc)'!B75=\"\",\"\",'Beacon (Desc)'!B75)","v":""},{"$f":"IF('Beacon (Desc)'!C75=\"\",\"\",'Beacon (Desc)'!C75)","v":""},{"$f":"IF('Beacon (Desc)'!D75=\"\",\"\",'Beacon (Desc)'!D75)","v":""},{"$f":"IF('Beacon (Desc)'!E75=\"\",\"\",INDEX([1]BEACON_TYPE!$A$2:$A$20,MATCH('Beacon (Desc)'!$E75,[1]!MASTER_BEACON_TYPE_DESC[#Data],0),0))","v":""},{"$f":"IF('Beacon (Desc)'!F75=\"\",\"\",IF('Beacon (Desc)'!F75=\"Unknown\",\"BCN001\",(INDEX([1]BEACON_MANUF_MODEL!$A$2:$D$1500,MATCH(1,([1]BEACON_MANUF_MODEL!$G$2:$G$1500=\"\")*([1]BEACON_MANUF_MODEL!$D$2:$D$1500='Beacon (Desc)'!$F75),0),2))))","v":""},{"$f":"IF('Beacon (Desc)'!F75=\"\",\"\",IF('Beacon (Desc)'!F75=\"Unknown\",\"BCNM001\",INDEX([1]BEACON_MANUF_MODEL!$A$2:$D$1500,MATCH(1,([1]BEACON_MANUF_MODEL!$G$2:$G$1500=\"\")*([1]BEACON_MANUF_MODEL!$D$2:$D$1500='Beacon (Desc)'!$F75),0),1)))","v":""},{"$f":"IF('Beacon (Desc)'!H75=\"\",\"\",INDEX([1]BEACON_COLOR!$A$2:$A$20,MATCH('Beacon (Desc)'!$H75,[1]!MASTER_BEACON_COLOR_DESC[#Data],0),0))","v":""},{"$f":"IF('Beacon (Desc)'!I75=\"\",\"\",INDEX([1]BEACON_SIZE!$A$2:$A$20,MATCH('Beacon (Desc)'!$I75,[1]!MASTER_BEACON_SIZE_DESC[#Data],0),0))","v":""},{"$f":"IF('Beacon (Desc)'!J75=\"\",\"\",'Beacon (Desc)'!J75)","v":""}]
[{"$f":"IF('Beacon (Desc)'!A76=\"\",\"\",'Beacon (Desc)'!A76)","v":""},{"$f":"IF('Beacon (Desc)'!B76=\"\",\"\",\"1987\")","v":""},{"$f":"IF('Beacon (Desc)'!B76=\"\",\"\",'Beacon (Desc)'!B76)","v":""},{"$f":"IF('Beacon (Desc)'!C76=\"\",\"\",'Beacon (Desc)'!C76)","v":""},{"$f":"IF('Beacon (Desc)'!D76=\"\",\"\",'Beacon (Desc)'!D76)","v":""},{"$f":"IF('Beacon (Desc)'!E76=\"\",\"\",INDEX([1]BEACON_TYPE!$A$2:$A$20,MATCH('Beacon (Desc)'!$E76,[1]!MASTER_BEACON_TYPE_DESC[#Data],0),0))","v":""},{"$f":"IF('Beacon (Desc)'!F76=\"\",\"\",IF('Beacon (Desc)'!F76=\"Unknown\",\"BCN001\",(INDEX([1]BEACON_MANUF_MODEL!$A$2:$D$1500,MATCH(1,([1]BEACON_MANUF_MODEL!$G$2:$G$1500=\"\")*([1]BEACON_MANUF_MODEL!$D$2:$D$1500='Beacon (Desc)'!$F76),0),2))))","v":""},{"$f":"IF('Beacon (Desc)'!F76=\"\",\"\",IF('Beacon (Desc)'!F76=\"Unknown\",\"BCNM001\",INDEX([1]BEACON_MANUF_MODEL!$A$2:$D$1500,MATCH(1,([1]BEACON_MANUF_MODEL!$G$2:$G$1500=\"\")*([1]BEACON_MANUF_MODEL!$D$2:$D$1500='Beacon (Desc)'!$F76),0),1)))","v":""},{"$f":"IF('Beacon (Desc)'!H76=\"\",\"\",INDEX([1]BEACON_COLOR!$A$2:$A$20,MATCH('Beacon (Desc)'!$H76,[1]!MASTER_BEACON_COLOR_DESC[#Data],0),0))","v":""},{"$f":"IF('Beacon (Desc)'!I76=\"\",\"\",INDEX([1]BEACON_SIZE!$A$2:$A$20,MATCH('Beacon (Desc)'!$I76,[1]!MASTER_BEACON_SIZE_DESC[#Data],0),0))","v":""},{"$f":"IF('Beacon (Desc)'!J76=\"\",\"\",'Beacon (Desc)'!J76)","v":""}]
[{"$f":"IF('Beacon (Desc)'!A77=\"\",\"\",'Beacon (Desc)'!A77)","v":""},{"$f":"IF('Beacon (Desc)'!B77=\"\",\"\",\"1987\")","v":""},{"$f":"IF('Beacon (Desc)'!B77=\"\",\"\",'Beacon (Desc)'!B77)","v":""},{"$f":"IF('Beacon (Desc)'!C77=\"\",\"\",'Beacon (Desc)'!C77)","v":""},{"$f":"IF('Beacon (Desc)'!D77=\"\",\"\",'Beacon (Desc)'!D77)","v":""},{"$f":"IF('Beacon (Desc)'!E77=\"\",\"\",INDEX([1]BEACON_TYPE!$A$2:$A$20,MATCH('Beacon (Desc)'!$E77,[1]!MASTER_BEACON_TYPE_DESC[#Data],0),0))","v":""},{"$f":"IF('Beacon (Desc)'!F77=\"\",\"\",IF('Beacon (Desc)'!F77=\"Unknown\",\"BCN001\",(INDEX([1]BEACON_MANUF_MODEL!$A$2:$D$1500,MATCH(1,([1]BEACON_MANUF_MODEL!$G$2:$G$1500=\"\")*([1]BEACON_MANUF_MODEL!$D$2:$D$1500='Beacon (Desc)'!$F77),0),2))))","v":""},{"$f":"IF('Beacon (Desc)'!F77=\"\",\"\",IF('Beacon (Desc)'!F77=\"Unknown\",\"BCNM001\",INDEX([1]BEACON_MANUF_MODEL!$A$2:$D$1500,MATCH(1,([1]BEACON_MANUF_MODEL!$G$2:$G$1500=\"\")*([1]BEACON_MANUF_MODEL!$D$2:$D$1500='Beacon (Desc)'!$F77),0),1)))","v":""},{"$f":"IF('Beacon (Desc)'!H77=\"\",\"\",INDEX([1]BEACON_COLOR!$A$2:$A$20,MATCH('Beacon (Desc)'!$H77,[1]!MASTER_BEACON_COLOR_DESC[#Data],0),0))","v":""},{"$f":"IF('Beacon (Desc)'!I77=\"\",\"\",INDEX([1]BEACON_SIZE!$A$2:$A$20,MATCH('Beacon (Desc)'!$I77,[1]!MASTER_BEACON_SIZE_DESC[#Data],0),0))","v":""},{"$f":"IF('Beacon (Desc)'!J77=\"\",\"\",'Beacon (Desc)'!J77)","v":""}]
[{"$f":"IF('Beacon (Desc)'!A78=\"\",\"\",'Beacon (Desc)'!A78)","v":""},{"$f":"IF('Beacon (Desc)'!B78=\"\",\"\",\"1987\")","v":""},{"$f":"IF('Beacon (Desc)'!B78=\"\",\"\",'Beacon (Desc)'!B78)","v":""},{"$f":"IF('Beacon (Desc)'!C78=\"\",\"\",'Beacon (Desc)'!C78)","v":""},{"$f":"IF('Beacon (Desc)'!D78=\"\",\"\",'Beacon (Desc)'!D78)","v":""},{"$f":"IF('Beacon (Desc)'!E78=\"\",\"\",INDEX([1]BEACON_TYPE!$A$2:$A$20,MATCH('Beacon (Desc)'!$E78,[1]!MASTER_BEACON_TYPE_DESC[#Data],0),0))","v":""},{"$f":"IF('Beacon (Desc)'!F78=\"\",\"\",IF('Beacon (Desc)'!F78=\"Unknown\",\"BCN001\",(INDEX([1]BEACON_MANUF_MODEL!$A$2:$D$1500,MATCH(1,([1]BEACON_MANUF_MODEL!$G$2:$G$1500=\"\")*([1]BEACON_MANUF_MODEL!$D$2:$D$1500='Beacon (Desc)'!$F78),0),2))))","v":""},{"$f":"IF('Beacon (Desc)'!F78=\"\",\"\",IF('Beacon (Desc)'!F78=\"Unknown\",\"BCNM001\",INDEX([1]BEACON_MANUF_MODEL!$A$2:$D$1500,MATCH(1,([1]BEACON_MANUF_MODEL!$G$2:$G$1500=\"\")*([1]BEACON_MANUF_MODEL!$D$2:$D$1500='Beacon (Desc)'!$F78),0),1)))","v":""},{"$f":"IF('Beacon (Desc)'!H78=\"\",\"\",INDEX([1]BEACON_COLOR!$A$2:$A$20,MATCH('Beacon (Desc)'!$H78,[1]!MASTER_BEACON_COLOR_DESC[#Data],0),0))","v":""},{"$f":"IF('Beacon (Desc)'!I78=\"\",\"\",INDEX([1]BEACON_SIZE!$A$2:$A$20,MATCH('Beacon (Desc)'!$I78,[1]!MASTER_BEACON_SIZE_DESC[#Data],0),0))","v":""},{"$f":"IF('Beacon (Desc)'!J78=\"\",\"\",'Beacon (Desc)'!J78)","v":""}]
[{"$f":"IF('Beacon (Desc)'!A79=\"\",\"\",'Beacon (Desc)'!A79)","v":""},{"$f":"IF('Beacon (Desc)'!B79=\"\",\"\",\"1987\")","v":""},{"$f":"IF('Beacon (Desc)'!B79=\"\",\"\",'Beacon (Desc)'!B79)","v":""},{"$f":"IF('Beacon (Desc)'!C79=\"\",\"\",'Beacon (Desc)'!C79)","v":""},{"$f":"IF('Beacon (Desc)'!D79=\"\",\"\",'Beacon (Desc)'!D79)","v":""},{"$f":"IF('Beacon (Desc)'!E79=\"\",\"\",INDEX([1]BEACON_TYPE!$A$2:$A$20,MATCH('Beacon (Desc)'!$E79,[1]!MASTER_BEACON_TYPE_DESC[#Data],0),0))","v":""},{"$f":"IF('Beacon (Desc)'!F79=\"\",\"\",IF('Beacon (Desc)'!F79=\"Unknown\",\"BCN001\",(INDEX([1]BEACON_MANUF_MODEL!$A$2:$D$1500,MATCH(1,([1]BEACON_MANUF_MODEL!$G$2:$G$1500=\"\")*([1]BEACON_MANUF_MODEL!$D$2:$D$1500='Beacon (Desc)'!$F79),0),2))))","v":""},{"$f":"IF('Beacon (Desc)'!F79=\"\",\"\",IF('Beacon (Desc)'!F79=\"Unknown\",\"BCNM001\",INDEX([1]BEACON_MANUF_MODEL!$A$2:$D$1500,MATCH(1,([1]BEACON_MANUF_MODEL!$G$2:$G$1500=\"\")*([1]BEACON_MANUF_MODEL!$D$2:$D$1500='Beacon (Desc)'!$F79),0),1)))","v":""},{"$f":"IF('Beacon (Desc)'!H79=\"\",\"\",INDEX([1]BEACON_COLOR!$A$2:$A$20,MATCH('Beacon (Desc)'!$H79,[1]!MASTER_BEACON_COLOR_DESC[#Data],0),0))","v":""},{"$f":"IF('Beacon (Desc)'!I79=\"\",\"\",INDEX([1]BEACON_SIZE!$A$2:$A$20,MATCH('Beacon (Desc)'!$I79,[1]!MASTER_BEACON_SIZE_DESC[#Data],0),0))","v":""},{"$f":"IF('Beacon (Desc)'!J79=\"\",\"\",'Beacon (Desc)'!J79)","v":""}]
[{"$f":"IF('Beacon (Desc)'!A80=\"\",\"\",'Beacon (Desc)'!A80)","v":""},{"$f":"IF('Beacon (Desc)'!B80=\"\",\"\",\"1987\")","v":""},{"$f":"IF('Beacon (Desc)'!B80=\"\",\"\",'Beacon (Desc)'!B80)","v":""},{"$f":"IF('Beacon (Desc)'!C80=\"\",\"\",'Beacon (Desc)'!C80)","v":""},{"$f":"IF('Beacon (Desc)'!D80=\"\",\"\",'Beacon (Desc)'!D80)","v":""},{"$f":"IF('Beacon (Desc)'!E80=\"\",\"\",INDEX([1]BEACON_TYPE!$A$2:$A$20,MATCH('Beacon (Desc)'!$E80,[1]!MASTER_BEACON_TYPE_DESC[#Data],0),0))","v":""},{"$f":"IF('Beacon (Desc)'!F80=\"\",\"\",IF('Beacon (Desc)'!F80=\"Unknown\",\"BCN001\",(INDEX([1]BEACON_MANUF_MODEL!$A$2:$D$1500,MATCH(1,([1]BEACON_MANUF_MODEL!$G$2:$G$1500=\"\")*([1]BEACON_MANUF_MODEL!$D$2:$D$1500='Beacon (Desc)'!$F80),0),2))))","v":""},{"$f":"IF('Beacon (Desc)'!F80=\"\",\"\",IF('Beacon (Desc)'!F80=\"Unknown\",\"BCNM001\",INDEX([1]BEACON_MANUF_MODEL!$A$2:$D$1500,MATCH(1,([1]BEACON_MANUF_MODEL!$G$2:$G$1500=\"\")*([1]BEACON_MANUF_MODEL!$D$2:$D$1500='Beacon (Desc)'!$F80),0),1)))","v":""},{"$f":"IF('Beacon (Desc)'!H80=\"\",\"\",INDEX([1]BEACON_COLOR!$A$2:$A$20,MATCH('Beacon (Desc)'!$H80,[1]!MASTER_BEACON_COLOR_DESC[#Data],0),0))","v":""},{"$f":"IF('Beacon (Desc)'!I80=\"\",\"\",INDEX([1]BEACON_SIZE!$A$2:$A$20,MATCH('Beacon (Desc)'!$I80,[1]!MASTER_BEACON_SIZE_DESC[#Data],0),0))","v":""},{"$f":"IF('Beacon (Desc)'!J80=\"\",\"\",'Beacon (Desc)'!J80)","v":""}]
[{"$f":"IF('Beacon (Desc)'!A81=\"\",\"\",'Beacon (Desc)'!A81)","v":""},{"$f":"IF('Beacon (Desc)'!B81=\"\",\"\",\"1987\")","v":""},{"$f":"IF('Beacon (Desc)'!B81=\"\",\"\",'Beacon (Desc)'!B81)","v":""},{"$f":"IF('Beacon (Desc)'!C81=\"\",\"\",'Beacon (Desc)'!C81)","v":""},{"$f":"IF('Beacon (Desc)'!D81=\"\",\"\",'Beacon (Desc)'!D81)","v":""},{"$f":"IF('Beacon (Desc)'!E81=\"\",\"\",INDEX([1]BEACON_TYPE!$A$2:$A$20,MATCH('Beacon (Desc)'!$E81,[1]!MASTER_BEACON_TYPE_DESC[#Data],0),0))","v":""},{"$f":"IF('Beacon (Desc)'!F81=\"\",\"\",IF('Beacon (Desc)'!F81=\"Unknown\",\"BCN001\",(INDEX([1]BEACON_MANUF_MODEL!$A$2:$D$1500,MATCH(1,([1]BEACON_MANUF_MODEL!$G$2:$G$1500=\"\")*([1]BEACON_MANUF_MODEL!$D$2:$D$1500='Beacon (Desc)'!$F81),0),2))))","v":""},{"$f":"IF('Beacon (Desc)'!F81=\"\",\"\",IF('Beacon (Desc)'!F81=\"Unknown\",\"BCNM001\",INDEX([1]BEACON_MANUF_MODEL!$A$2:$D$1500,MATCH(1,([1]BEACON_MANUF_MODEL!$G$2:$G$1500=\"\")*([1]BEACON_MANUF_MODEL!$D$2:$D$1500='Beacon (Desc)'!$F81),0),1)))","v":""},{"$f":"IF('Beacon (Desc)'!H81=\"\",\"\",INDEX([1]BEACON_COLOR!$A$2:$A$20,MATCH('Beacon (Desc)'!$H81,[1]!MASTER_BEACON_COLOR_DESC[#Data],0),0))","v":""},{"$f":"IF('Beacon (Desc)'!I81=\"\",\"\",INDEX([1]BEACON_SIZE!$A$2:$A$20,MATCH('Beacon (Desc)'!$I81,[1]!MASTER_BEACON_SIZE_DESC[#Data],0),0))","v":""},{"$f":"IF('Beacon (Desc)'!J81=\"\",\"\",'Beacon (Desc)'!J81)","v":""}]
[{"$f":"IF('Beacon (Desc)'!A82=\"\",\"\",'Beacon (Desc)'!A82)","v":""},{"$f":"IF('Beacon (Desc)'!B82=\"\",\"\",\"1987\")","v":""},{"$f":"IF('Beacon (Desc)'!B82=\"\",\"\",'Beacon (Desc)'!B82)","v":""},{"$f":"IF('Beacon (Desc)'!C82=\"\",\"\",'Beacon (Desc)'!C82)","v":""},{"$f":"IF('Beacon (Desc)'!D82=\"\",\"\",'Beacon (Desc)'!D82)","v":""},{"$f":"IF('Beacon (Desc)'!E82=\"\",\"\",INDEX([1]BEACON_TYPE!$A$2:$A$20,MATCH('Beacon (Desc)'!$E82,[1]!MASTER_BEACON_TYPE_DESC[#Data],0),0))","v":""},{"$f":"IF('Beacon (Desc)'!F82=\"\",\"\",IF('Beacon (Desc)'!F82=\"Unknown\",\"BCN001\",(INDEX([1]BEACON_MANUF_MODEL!$A$2:$D$1500,MATCH(1,([1]BEACON_MANUF_MODEL!$G$2:$G$1500=\"\")*([1]BEACON_MANUF_MODEL!$D$2:$D$1500='Beacon (Desc)'!$F82),0),2))))","v":""},{"$f":"IF('Beacon (Desc)'!F82=\"\",\"\",IF('Beacon (Desc)'!F82=\"Unknown\",\"BCNM001\",INDEX([1]BEACON_MANUF_MODEL!$A$2:$D$1500,MATCH(1,([1]BEACON_MANUF_MODEL!$G$2:$G$1500=\"\")*([1]BEACON_MANUF_MODEL!$D$2:$D$1500='Beacon (Desc)'!$F82),0),1)))","v":""},{"$f":"IF('Beacon (Desc)'!H82=\"\",\"\",INDEX([1]BEACON_COLOR!$A$2:$A$20,MATCH('Beacon (Desc)'!$H82,[1]!MASTER_BEACON_COLOR_DESC[#Data],0),0))","v":""},{"$f":"IF('Beacon (Desc)'!I82=\"\",\"\",INDEX([1]BEACON_SIZE!$A$2:$A$20,MATCH('Beacon (Desc)'!$I82,[1]!MASTER_BEACON_SIZE_DESC[#Data],0),0))","v":""},{"$f":"IF('Beacon (Desc)'!J82=\"\",\"\",'Beacon (Desc)'!J82)","v":""}]
[{"$f":"IF('Beacon (Desc)'!A83=\"\",\"\",'Beacon (Desc)'!A83)","v":""},{"$f":"IF('Beacon (Desc)'!B83=\"\",\"\",\"1987\")","v":""},{"$f":"IF('Beacon (Desc)'!B83=\"\",\"\",'Beacon (Desc)'!B83)","v":""},{"$f":"IF('Beacon (Desc)'!C83=\"\",\"\",'Beacon (Desc)'!C83)","v":""},{"$f":"IF('Beacon (Desc)'!D83=\"\",\"\",'Beacon (Desc)'!D83)","v":""},{"$f":"IF('Beacon (Desc)'!E83=\"\",\"\",INDEX([1]BEACON_TYPE!$A$2:$A$20,MATCH('Beacon (Desc)'!$E83,[1]!MASTER_BEACON_TYPE_DESC[#Data],0),0))","v":""},{"$f":"IF('Beacon (Desc)'!F83=\"\",\"\",IF('Beacon (Desc)'!F83=\"Unknown\",\"BCN001\",(INDEX([1]BEACON_MANUF_MODEL!$A$2:$D$1500,MATCH(1,([1]BEACON_MANUF_MODEL!$G$2:$G$1500=\"\")*([1]BEACON_MANUF_MODEL!$D$2:$D$1500='Beacon (Desc)'!$F83),0),2))))","v":""},{"$f":"IF('Beacon (Desc)'!F83=\"\",\"\",IF('Beacon (Desc)'!F83=\"Unknown\",\"BCNM001\",INDEX([1]BEACON_MANUF_MODEL!$A$2:$D$1500,MATCH(1,([1]BEACON_MANUF_MODEL!$G$2:$G$1500=\"\")*([1]BEACON_MANUF_MODEL!$D$2:$D$1500='Beacon (Desc)'!$F83),0),1)))","v":""},{"$f":"IF('Beacon (Desc)'!H83=\"\",\"\",INDEX([1]BEACON_COLOR!$A$2:$A$20,MATCH('Beacon (Desc)'!$H83,[1]!MASTER_BEACON_COLOR_DESC[#Data],0),0))","v":""},{"$f":"IF('Beacon (Desc)'!I83=\"\",\"\",INDEX([1]BEACON_SIZE!$A$2:$A$20,MATCH('Beacon (Desc)'!$I83,[1]!MASTER_BEACON_SIZE_DESC[#Data],0),0))","v":""},{"$f":"IF('Beacon (Desc)'!J83=\"\",\"\",'Beacon (Desc)'!J83)","v":""}]
[{"$f":"IF('Beacon (Desc)'!A84=\"\",\"\",'Beacon (Desc)'!A84)","v":""},{"$f":"IF('Beacon (Desc)'!B84=\"\",\"\",\"1987\")","v":""},{"$f":"IF('Beacon (Desc)'!B84=\"\",\"\",'Beacon (Desc)'!B84)","v":""},{"$f":"IF('Beacon (Desc)'!C84=\"\",\"\",'Beacon (Desc)'!C84)","v":""},{"$f":"IF('Beacon (Desc)'!D84=\"\",\"\",'Beacon (Desc)'!D84)","v":""},{"$f":"IF('Beacon (Desc)'!E84=\"\",\"\",INDEX([1]BEACON_TYPE!$A$2:$A$20,MATCH('Beacon (Desc)'!$E84,[1]!MASTER_BEACON_TYPE_DESC[#Data],0),0))","v":""},{"$f":"IF('Beacon (Desc)'!F84=\"\",\"\",IF('Beacon (Desc)'!F84=\"Unknown\",\"BCN001\",(INDEX([1]BEACON_MANUF_MODEL!$A$2:$D$1500,MATCH(1,([1]BEACON_MANUF_MODEL!$G$2:$G$1500=\"\")*([1]BEACON_MANUF_MODEL!$D$2:$D$1500='Beacon (Desc)'!$F84),0),2))))","v":""},{"$f":"IF('Beacon (Desc)'!F84=\"\",\"\",IF('Beacon (Desc)'!F84=\"Unknown\",\"BCNM001\",INDEX([1]BEACON_MANUF_MODEL!$A$2:$D$1500,MATCH(1,([1]BEACON_MANUF_MODEL!$G$2:$G$1500=\"\")*([1]BEACON_MANUF_MODEL!$D$2:$D$1500='Beacon (Desc)'!$F84),0),1)))","v":""},{"$f":"IF('Beacon (Desc)'!H84=\"\",\"\",INDEX([1]BEACON_COLOR!$A$2:$A$20,MATCH('Beacon (Desc)'!$H84,[1]!MASTER_BEACON_COLOR_DESC[#Data],0),0))","v":""},{"$f":"IF('Beacon (Desc)'!I84=\"\",\"\",INDEX([1]BEACON_SIZE!$A$2:$A$20,MATCH('Beacon (Desc)'!$I84,[1]!MASTER_BEACON_SIZE_DESC[#Data],0),0))","v":""},{"$f":"IF('Beacon (Desc)'!J84=\"\",\"\",'Beacon (Desc)'!J84)","v":""}]
[{"$f":"IF('Beacon (Desc)'!A85=\"\",\"\",'Beacon (Desc)'!A85)","v":""},{"$f":"IF('Beacon (Desc)'!B85=\"\",\"\",\"1987\")","v":""},{"$f":"IF('Beacon (Desc)'!B85=\"\",\"\",'Beacon (Desc)'!B85)","v":""},{"$f":"IF('Beacon (Desc)'!C85=\"\",\"\",'Beacon (Desc)'!C85)","v":""},{"$f":"IF('Beacon (Desc)'!D85=\"\",\"\",'Beacon (Desc)'!D85)","v":""},{"$f":"IF('Beacon (Desc)'!E85=\"\",\"\",INDEX([1]BEACON_TYPE!$A$2:$A$20,MATCH('Beacon (Desc)'!$E85,[1]!MASTER_BEACON_TYPE_DESC[#Data],0),0))","v":""},{"$f":"IF('Beacon (Desc)'!F85=\"\",\"\",IF('Beacon (Desc)'!F85=\"Unknown\",\"BCN001\",(INDEX([1]BEACON_MANUF_MODEL!$A$2:$D$1500,MATCH(1,([1]BEACON_MANUF_MODEL!$G$2:$G$1500=\"\")*([1]BEACON_MANUF_MODEL!$D$2:$D$1500='Beacon (Desc)'!$F85),0),2))))","v":""},{"$f":"IF('Beacon (Desc)'!F85=\"\",\"\",IF('Beacon (Desc)'!F85=\"Unknown\",\"BCNM001\",INDEX([1]BEACON_MANUF_MODEL!$A$2:$D$1500,MATCH(1,([1]BEACON_MANUF_MODEL!$G$2:$G$1500=\"\")*([1]BEACON_MANUF_MODEL!$D$2:$D$1500='Beacon (Desc)'!$F85),0),1)))","v":""},{"$f":"IF('Beacon (Desc)'!H85=\"\",\"\",INDEX([1]BEACON_COLOR!$A$2:$A$20,MATCH('Beacon (Desc)'!$H85,[1]!MASTER_BEACON_COLOR_DESC[#Data],0),0))","v":""},{"$f":"IF('Beacon (Desc)'!I85=\"\",\"\",INDEX([1]BEACON_SIZE!$A$2:$A$20,MATCH('Beacon (Desc)'!$I85,[1]!MASTER_BEACON_SIZE_DESC[#Data],0),0))","v":""},{"$f":"IF('Beacon (Desc)'!J85=\"\",\"\",'Beacon (Desc)'!J85)","v":""}]
[{"$f":"IF('Beacon (Desc)'!A86=\"\",\"\",'Beacon (Desc)'!A86)","v":""},{"$f":"IF('Beacon (Desc)'!B86=\"\",\"\",\"1987\")","v":""},{"$f":"IF('Beacon (Desc)'!B86=\"\",\"\",'Beacon (Desc)'!B86)","v":""},{"$f":"IF('Beacon (Desc)'!C86=\"\",\"\",'Beacon (Desc)'!C86)","v":""},{"$f":"IF('Beacon (Desc)'!D86=\"\",\"\",'Beacon (Desc)'!D86)","v":""},{"$f":"IF('Beacon (Desc)'!E86=\"\",\"\",INDEX([1]BEACON_TYPE!$A$2:$A$20,MATCH('Beacon (Desc)'!$E86,[1]!MASTER_BEACON_TYPE_DESC[#Data],0),0))","v":""},{"$f":"IF('Beacon (Desc)'!F86=\"\",\"\",IF('Beacon (Desc)'!F86=\"Unknown\",\"BCN001\",(INDEX([1]BEACON_MANUF_MODEL!$A$2:$D$1500,MATCH(1,([1]BEACON_MANUF_MODEL!$G$2:$G$1500=\"\")*([1]BEACON_MANUF_MODEL!$D$2:$D$1500='Beacon (Desc)'!$F86),0),2))))","v":""},{"$f":"IF('Beacon (Desc)'!F86=\"\",\"\",IF('Beacon (Desc)'!F86=\"Unknown\",\"BCNM001\",INDEX([1]BEACON_MANUF_MODEL!$A$2:$D$1500,MATCH(1,([1]BEACON_MANUF_MODEL!$G$2:$G$1500=\"\")*([1]BEACON_MANUF_MODEL!$D$2:$D$1500='Beacon (Desc)'!$F86),0),1)))","v":""},{"$f":"IF('Beacon (Desc)'!H86=\"\",\"\",INDEX([1]BEACON_COLOR!$A$2:$A$20,MATCH('Beacon (Desc)'!$H86,[1]!MASTER_BEACON_COLOR_DESC[#Data],0),0))","v":""},{"$f":"IF('Beacon (Desc)'!I86=\"\",\"\",INDEX([1]BEACON_SIZE!$A$2:$A$20,MATCH('Beacon (Desc)'!$I86,[1]!MASTER_BEACON_SIZE_DESC[#Data],0),0))","v":""},{"$f":"IF('Beacon (Desc)'!J86=\"\",\"\",'Beacon (Desc)'!J86)","v":""}]
[{"$f":"IF('Beacon (Desc)'!A87=\"\",\"\",'Beacon (Desc)'!A87)","v":""},{"$f":"IF('Beacon (Desc)'!B87=\"\",\"\",\"1987\")","v":""},{"$f":"IF('Beacon (Desc)'!B87=\"\",\"\",'Beacon (Desc)'!B87)","v":""},{"$f":"IF('Beacon (Desc)'!C87=\"\",\"\",'Beacon (Desc)'!C87)","v":""},{"$f":"IF('Beacon (Desc)'!D87=\"\",\"\",'Beacon (Desc)'!D87)","v":""},{"$f":"IF('Beacon (Desc)'!E87=\"\",\"\",INDEX([1]BEACON_TYPE!$A$2:$A$20,MATCH('Beacon (Desc)'!$E87,[1]!MASTER_BEACON_TYPE_DESC[#Data],0),0))","v":""},{"$f":"IF('Beacon (Desc)'!F87=\"\",\"\",IF('Beacon (Desc)'!F87=\"Unknown\",\"BCN001\",(INDEX([1]BEACON_MANUF_MODEL!$A$2:$D$1500,MATCH(1,([1]BEACON_MANUF_MODEL!$G$2:$G$1500=\"\")*([1]BEACON_MANUF_MODEL!$D$2:$D$1500='Beacon (Desc)'!$F87),0),2))))","v":""},{"$f":"IF('Beacon (Desc)'!F87=\"\",\"\",IF('Beacon (Desc)'!F87=\"Unknown\",\"BCNM001\",INDEX([1]BEACON_MANUF_MODEL!$A$2:$D$1500,MATCH(1,([1]BEACON_MANUF_MODEL!$G$2:$G$1500=\"\")*([1]BEACON_MANUF_MODEL!$D$2:$D$1500='Beacon (Desc)'!$F87),0),1)))","v":""},{"$f":"IF('Beacon (Desc)'!H87=\"\",\"\",INDEX([1]BEACON_COLOR!$A$2:$A$20,MATCH('Beacon (Desc)'!$H87,[1]!MASTER_BEACON_COLOR_DESC[#Data],0),0))","v":""},{"$f":"IF('Beacon (Desc)'!I87=\"\",\"\",INDEX([1]BEACON_SIZE!$A$2:$A$20,MATCH('Beacon (Desc)'!$I87,[1]!MASTER_BEACON_SIZE_DESC[#Data],0),0))","v":""},{"$f":"IF('Beacon (Desc)'!J87=\"\",\"\",'Beacon (Desc)'!J87)","v":""}]
[{"$f":"IF('Beacon (Desc)'!A88=\"\",\"\",'Beacon (Desc)'!A88)","v":""},{"$f":"IF('Beacon (Desc)'!B88=\"\",\"\",\"1987\")","v":""},{"$f":"IF('Beacon (Desc)'!B88=\"\",\"\",'Beacon (Desc)'!B88)","v":""},{"$f":"IF('Beacon (Desc)'!C88=\"\",\"\",'Beacon (Desc)'!C88)","v":""},{"$f":"IF('Beacon (Desc)'!D88=\"\",\"\",'Beacon (Desc)'!D88)","v":""},{"$f":"IF('Beacon (Desc)'!E88=\"\",\"\",INDEX([1]BEACON_TYPE!$A$2:$A$20,MATCH('Beacon (Desc)'!$E88,[1]!MASTER_BEACON_TYPE_DESC[#Data],0),0))","v":""},{"$f":"IF('Beacon (Desc)'!F88=\"\",\"\",IF('Beacon (Desc)'!F88=\"Unknown\",\"BCN001\",(INDEX([1]BEACON_MANUF_MODEL!$A$2:$D$1500,MATCH(1,([1]BEACON_MANUF_MODEL!$G$2:$G$1500=\"\")*([1]BEACON_MANUF_MODEL!$D$2:$D$1500='Beacon (Desc)'!$F88),0),2))))","v":""},{"$f":"IF('Beacon (Desc)'!F88=\"\",\"\",IF('Beacon (Desc)'!F88=\"Unknown\",\"BCNM001\",INDEX([1]BEACON_MANUF_MODEL!$A$2:$D$1500,MATCH(1,([1]BEACON_MANUF_MODEL!$G$2:$G$1500=\"\")*([1]BEACON_MANUF_MODEL!$D$2:$D$1500='Beacon (Desc)'!$F88),0),1)))","v":""},{"$f":"IF('Beacon (Desc)'!H88=\"\",\"\",INDEX([1]BEACON_COLOR!$A$2:$A$20,MATCH('Beacon (Desc)'!$H88,[1]!MASTER_BEACON_COLOR_DESC[#Data],0),0))","v":""},{"$f":"IF('Beacon (Desc)'!I88=\"\",\"\",INDEX([1]BEACON_SIZE!$A$2:$A$20,MATCH('Beacon (Desc)'!$I88,[1]!MASTER_BEACON_SIZE_DESC[#Data],0),0))","v":""},{"$f":"IF('Beacon (Desc)'!J88=\"\",\"\",'Beacon (Desc)'!J88)","v":""}]
[{"$f":"IF('Beacon (Desc)'!A89=\"\",\"\",'Beacon (Desc)'!A89)","v":""},{"$f":"IF('Beacon (Desc)'!B89=\"\",\"\",\"1987\")","v":""},{"$f":"IF('Beacon (Desc)'!B89=\"\",\"\",'Beacon (Desc)'!B89)","v":""},{"$f":"IF('Beacon (Desc)'!C89=\"\",\"\",'Beacon (Desc)'!C89)","v":""},{"$f":"IF('Beacon (Desc)'!D89=\"\",\"\",'Beacon (Desc)'!D89)","v":""},{"$f":"IF('Beacon (Desc)'!E89=\"\",\"\",INDEX([1]BEACON_TYPE!$A$2:$A$20,MATCH('Beacon (Desc)'!$E89,[1]!MASTER_BEACON_TYPE_DESC[#Data],0),0))","v":""},{"$f":"IF('Beacon (Desc)'!F89=\"\",\"\",IF('Beacon (Desc)'!F89=\"Unknown\",\"BCN001\",(INDEX([1]BEACON_MANUF_MODEL!$A$2:$D$1500,MATCH(1,([1]BEACON_MANUF_MODEL!$G$2:$G$1500=\"\")*([1]BEACON_MANUF_MODEL!$D$2:$D$1500='Beacon (Desc)'!$F89),0),2))))","v":""},{"$f":"IF('Beacon (Desc)'!F89=\"\",\"\",IF('Beacon (Desc)'!F89=\"Unknown\",\"BCNM001\",INDEX([1]BEACON_MANUF_MODEL!$A$2:$D$1500,MATCH(1,([1]BEACON_MANUF_MODEL!$G$2:$G$1500=\"\")*([1]BEACON_MANUF_MODEL!$D$2:$D$1500='Beacon (Desc)'!$F89),0),1)))","v":""},{"$f":"IF('Beacon (Desc)'!H89=\"\",\"\",INDEX([1]BEACON_COLOR!$A$2:$A$20,MATCH('Beacon (Desc)'!$H89,[1]!MASTER_BEACON_COLOR_DESC[#Data],0),0))","v":""},{"$f":"IF('Beacon (Desc)'!I89=\"\",\"\",INDEX([1]BEACON_SIZE!$A$2:$A$20,MATCH('Beacon (Desc)'!$I89,[1]!MASTER_BEACON_SIZE_DESC[#Data],0),0))","v":""},{"$f":"IF('Beacon (Desc)'!J89=\"\",\"\",'Beacon (Desc)'!J89)","v":""}]
[{"$f":"IF('Beacon (Desc)'!A90=\"\",\"\",'Beacon (Desc)'!A90)","v":""},{"$f":"IF('Beacon (Desc)'!B90=\"\",\"\",\"1987\")","v":""},{"$f":"IF('Beacon (Desc)'!B90=\"\",\"\",'Beacon (Desc)'!B90)","v":""},{"$f":"IF('Beacon (Desc)'!C90=\"\",\"\",'Beacon (Desc)'!C90)","v":""},{"$f":"IF('Beacon (Desc)'!D90=\"\",\"\",'Beacon (Desc)'!D90)","v":""},{"$f":"IF('Beacon (Desc)'!E90=\"\",\"\",INDEX([1]BEACON_TYPE!$A$2:$A$20,MATCH('Beacon (Desc)'!$E90,[1]!MASTER_BEACON_TYPE_DESC[#Data],0),0))","v":""},{"$f":"IF('Beacon (Desc)'!F90=\"\",\"\",IF('Beacon (Desc)'!F90=\"Unknown\",\"BCN001\",(INDEX([1]BEACON_MANUF_MODEL!$A$2:$D$1500,MATCH(1,([1]BEACON_MANUF_MODEL!$G$2:$G$1500=\"\")*([1]BEACON_MANUF_MODEL!$D$2:$D$1500='Beacon (Desc)'!$F90),0),2))))","v":""},{"$f":"IF('Beacon (Desc)'!F90=\"\",\"\",IF('Beacon (Desc)'!F90=\"Unknown\",\"BCNM001\",INDEX([1]BEACON_MANUF_MODEL!$A$2:$D$1500,MATCH(1,([1]BEACON_MANUF_MODEL!$G$2:$G$1500=\"\")*([1]BEACON_MANUF_MODEL!$D$2:$D$1500='Beacon (Desc)'!$F90),0),1)))","v":""},{"$f":"IF('Beacon (Desc)'!H90=\"\",\"\",INDEX([1]BEACON_COLOR!$A$2:$A$20,MATCH('Beacon (Desc)'!$H90,[1]!MASTER_BEACON_COLOR_DESC[#Data],0),0))","v":""},{"$f":"IF('Beacon (Desc)'!I90=\"\",\"\",INDEX([1]BEACON_SIZE!$A$2:$A$20,MATCH('Beacon (Desc)'!$I90,[1]!MASTER_BEACON_SIZE_DESC[#Data],0),0))","v":""},{"$f":"IF('Beacon (Desc)'!J90=\"\",\"\",'Beacon (Desc)'!J90)","v":""}]
[{"$f":"IF('Beacon (Desc)'!A91=\"\",\"\",'Beacon (Desc)'!A91)","v":""},{"$f":"IF('Beacon (Desc)'!B91=\"\",\"\",\"1987\")","v":""},{"$f":"IF('Beacon (Desc)'!B91=\"\",\"\",'Beacon (Desc)'!B91)","v":""},{"$f":"IF('Beacon (Desc)'!C91=\"\",\"\",'Beacon (Desc)'!C91)","v":""},{"$f":"IF('Beacon (Desc)'!D91=\"\",\"\",'Beacon (Desc)'!D91)","v":""},{"$f":"IF('Beacon (Desc)'!E91=\"\",\"\",INDEX([1]BEACON_TYPE!$A$2:$A$20,MATCH('Beacon (Desc)'!$E91,[1]!MASTER_BEACON_TYPE_DESC[#Data],0),0))","v":""},{"$f":"IF('Beacon (Desc)'!F91=\"\",\"\",IF('Beacon (Desc)'!F91=\"Unknown\",\"BCN001\",(INDEX([1]BEACON_MANUF_MODEL!$A$2:$D$1500,MATCH(1,([1]BEACON_MANUF_MODEL!$G$2:$G$1500=\"\")*([1]BEACON_MANUF_MODEL!$D$2:$D$1500='Beacon (Desc)'!$F91),0),2))))","v":""},{"$f":"IF('Beacon (Desc)'!F91=\"\",\"\",IF('Beacon (Desc)'!F91=\"Unknown\",\"BCNM001\",INDEX([1]BEACON_MANUF_MODEL!$A$2:$D$1500,MATCH(1,([1]BEACON_MANUF_MODEL!$G$2:$G$1500=\"\")*([1]BEACON_MANUF_MODEL!$D$2:$D$1500='Beacon (Desc)'!$F91),0),1)))","v":""},{"$f":"IF('Beacon (Desc)'!H91=\"\",\"\",INDEX([1]BEACON_COLOR!$A$2:$A$20,MATCH('Beacon (Desc)'!$H91,[1]!MASTER_BEACON_COLOR_DESC[#Data],0),0))","v":""},{"$f":"IF('Beacon (Desc)'!I91=\"\",\"\",INDEX([1]BEACON_SIZE!$A$2:$A$20,MATCH('Beacon (Desc)'!$I91,[1]!MASTER_BEACON_SIZE_DESC[#Data],0),0))","v":""},{"$f":"IF('Beacon (Desc)'!J91=\"\",\"\",'Beacon (Desc)'!J91)","v":""}]
[{"$f":"IF('Beacon (Desc)'!A92=\"\",\"\",'Beacon (Desc)'!A92)","v":""},{"$f":"IF('Beacon (Desc)'!B92=\"\",\"\",\"1987\")","v":""},{"$f":"IF('Beacon (Desc)'!B92=\"\",\"\",'Beacon (Desc)'!B92)","v":""},{"$f":"IF('Beacon (Desc)'!C92=\"\",\"\",'Beacon (Desc)'!C92)","v":""},{"$f":"IF('Beacon (Desc)'!D92=\"\",\"\",'Beacon (Desc)'!D92)","v":""},{"$f":"IF('Beacon (Desc)'!E92=\"\",\"\",INDEX([1]BEACON_TYPE!$A$2:$A$20,MATCH('Beacon (Desc)'!$E92,[1]!MASTER_BEACON_TYPE_DESC[#Data],0),0))","v":""},{"$f":"IF('Beacon (Desc)'!F92=\"\",\"\",IF('Beacon (Desc)'!F92=\"Unknown\",\"BCN001\",(INDEX([1]BEACON_MANUF_MODEL!$A$2:$D$1500,MATCH(1,([1]BEACON_MANUF_MODEL!$G$2:$G$1500=\"\")*([1]BEACON_MANUF_MODEL!$D$2:$D$1500='Beacon (Desc)'!$F92),0),2))))","v":""},{"$f":"IF('Beacon (Desc)'!F92=\"\",\"\",IF('Beacon (Desc)'!F92=\"Unknown\",\"BCNM001\",INDEX([1]BEACON_MANUF_MODEL!$A$2:$D$1500,MATCH(1,([1]BEACON_MANUF_MODEL!$G$2:$G$1500=\"\")*([1]BEACON_MANUF_MODEL!$D$2:$D$1500='Beacon (Desc)'!$F92),0),1)))","v":""},{"$f":"IF('Beacon (Desc)'!H92=\"\",\"\",INDEX([1]BEACON_COLOR!$A$2:$A$20,MATCH('Beacon (Desc)'!$H92,[1]!MASTER_BEACON_COLOR_DESC[#Data],0),0))","v":""},{"$f":"IF('Beacon (Desc)'!I92=\"\",\"\",INDEX([1]BEACON_SIZE!$A$2:$A$20,MATCH('Beacon (Desc)'!$I92,[1]!MASTER_BEACON_SIZE_DESC[#Data],0),0))","v":""},{"$f":"IF('Beacon (Desc)'!J92=\"\",\"\",'Beacon (Desc)'!J92)","v":""}]
[{"$f":"IF('Beacon (Desc)'!A93=\"\",\"\",'Beacon (Desc)'!A93)","v":""},{"$f":"IF('Beacon (Desc)'!B93=\"\",\"\",\"1987\")","v":""},{"$f":"IF('Beacon (Desc)'!B93=\"\",\"\",'Beacon (Desc)'!B93)","v":""},{"$f":"IF('Beacon (Desc)'!C93=\"\",\"\",'Beacon (Desc)'!C93)","v":""},{"$f":"IF('Beacon (Desc)'!D93=\"\",\"\",'Beacon (Desc)'!D93)","v":""},{"$f":"IF('Beacon (Desc)'!E93=\"\",\"\",INDEX([1]BEACON_TYPE!$A$2:$A$20,MATCH('Beacon (Desc)'!$E93,[1]!MASTER_BEACON_TYPE_DESC[#Data],0),0))","v":""},{"$f":"IF('Beacon (Desc)'!F93=\"\",\"\",IF('Beacon (Desc)'!F93=\"Unknown\",\"BCN001\",(INDEX([1]BEACON_MANUF_MODEL!$A$2:$D$1500,MATCH(1,([1]BEACON_MANUF_MODEL!$G$2:$G$1500=\"\")*([1]BEACON_MANUF_MODEL!$D$2:$D$1500='Beacon (Desc)'!$F93),0),2))))","v":""},{"$f":"IF('Beacon (Desc)'!F93=\"\",\"\",IF('Beacon (Desc)'!F93=\"Unknown\",\"BCNM001\",INDEX([1]BEACON_MANUF_MODEL!$A$2:$D$1500,MATCH(1,([1]BEACON_MANUF_MODEL!$G$2:$G$1500=\"\")*([1]BEACON_MANUF_MODEL!$D$2:$D$1500='Beacon (Desc)'!$F93),0),1)))","v":""},{"$f":"IF('Beacon (Desc)'!H93=\"\",\"\",INDEX([1]BEACON_COLOR!$A$2:$A$20,MATCH('Beacon (Desc)'!$H93,[1]!MASTER_BEACON_COLOR_DESC[#Data],0),0))","v":""},{"$f":"IF('Beacon (Desc)'!I93=\"\",\"\",INDEX([1]BEACON_SIZE!$A$2:$A$20,MATCH('Beacon (Desc)'!$I93,[1]!MASTER_BEACON_SIZE_DESC[#Data],0),0))","v":""},{"$f":"IF('Beacon (Desc)'!J93=\"\",\"\",'Beacon (Desc)'!J93)","v":""}]
[{"$f":"IF('Beacon (Desc)'!A94=\"\",\"\",'Beacon (Desc)'!A94)","v":""},{"$f":"IF('Beacon (Desc)'!B94=\"\",\"\",\"1987\")","v":""},{"$f":"IF('Beacon (Desc)'!B94=\"\",\"\",'Beacon (Desc)'!B94)","v":""},{"$f":"IF('Beacon (Desc)'!C94=\"\",\"\",'Beacon (Desc)'!C94)","v":""},{"$f":"IF('Beacon (Desc)'!D94=\"\",\"\",'Beacon (Desc)'!D94)","v":""},{"$f":"IF('Beacon (Desc)'!E94=\"\",\"\",INDEX([1]BEACON_TYPE!$A$2:$A$20,MATCH('Beacon (Desc)'!$E94,[1]!MASTER_BEACON_TYPE_DESC[#Data],0),0))","v":""},{"$f":"IF('Beacon (Desc)'!F94=\"\",\"\",IF('Beacon (Desc)'!F94=\"Unknown\",\"BCN001\",(INDEX([1]BEACON_MANUF_MODEL!$A$2:$D$1500,MATCH(1,([1]BEACON_MANUF_MODEL!$G$2:$G$1500=\"\")*([1]BEACON_MANUF_MODEL!$D$2:$D$1500='Beacon (Desc)'!$F94),0),2))))","v":""},{"$f":"IF('Beacon (Desc)'!F94=\"\",\"\",IF('Beacon (Desc)'!F94=\"Unknown\",\"BCNM001\",INDEX([1]BEACON_MANUF_MODEL!$A$2:$D$1500,MATCH(1,([1]BEACON_MANUF_MODEL!$G$2:$G$1500=\"\")*([1]BEACON_MANUF_MODEL!$D$2:$D$1500='Beacon (Desc)'!$F94),0),1)))","v":""},{"$f":"IF('Beacon (Desc)'!H94=\"\",\"\",INDEX([1]BEACON_COLOR!$A$2:$A$20,MATCH('Beacon (Desc)'!$H94,[1]!MASTER_BEACON_COLOR_DESC[#Data],0),0))","v":""},{"$f":"IF('Beacon (Desc)'!I94=\"\",\"\",INDEX([1]BEACON_SIZE!$A$2:$A$20,MATCH('Beacon (Desc)'!$I94,[1]!MASTER_BEACON_SIZE_DESC[#Data],0),0))","v":""},{"$f":"IF('Beacon (Desc)'!J94=\"\",\"\",'Beacon (Desc)'!J94)","v":""}]
[{"$f":"IF('Beacon (Desc)'!A95=\"\",\"\",'Beacon (Desc)'!A95)","v":""},{"$f":"IF('Beacon (Desc)'!B95=\"\",\"\",\"1987\")","v":""},{"$f":"IF('Beacon (Desc)'!B95=\"\",\"\",'Beacon (Desc)'!B95)","v":""},{"$f":"IF('Beacon (Desc)'!C95=\"\",\"\",'Beacon (Desc)'!C95)","v":""},{"$f":"IF('Beacon (Desc)'!D95=\"\",\"\",'Beacon (Desc)'!D95)","v":""},{"$f":"IF('Beacon (Desc)'!E95=\"\",\"\",INDEX([1]BEACON_TYPE!$A$2:$A$20,MATCH('Beacon (Desc)'!$E95,[1]!MASTER_BEACON_TYPE_DESC[#Data],0),0))","v":""},{"$f":"IF('Beacon (Desc)'!F95=\"\",\"\",IF('Beacon (Desc)'!F95=\"Unknown\",\"BCN001\",(INDEX([1]BEACON_MANUF_MODEL!$A$2:$D$1500,MATCH(1,([1]BEACON_MANUF_MODEL!$G$2:$G$1500=\"\")*([1]BEACON_MANUF_MODEL!$D$2:$D$1500='Beacon (Desc)'!$F95),0),2))))","v":""},{"$f":"IF('Beacon (Desc)'!F95=\"\",\"\",IF('Beacon (Desc)'!F95=\"Unknown\",\"BCNM001\",INDEX([1]BEACON_MANUF_MODEL!$A$2:$D$1500,MATCH(1,([1]BEACON_MANUF_MODEL!$G$2:$G$1500=\"\")*([1]BEACON_MANUF_MODEL!$D$2:$D$1500='Beacon (Desc)'!$F95),0),1)))","v":""},{"$f":"IF('Beacon (Desc)'!H95=\"\",\"\",INDEX([1]BEACON_COLOR!$A$2:$A$20,MATCH('Beacon (Desc)'!$H95,[1]!MASTER_BEACON_COLOR_DESC[#Data],0),0))","v":""},{"$f":"IF('Beacon (Desc)'!I95=\"\",\"\",INDEX([1]BEACON_SIZE!$A$2:$A$20,MATCH('Beacon (Desc)'!$I95,[1]!MASTER_BEACON_SIZE_DESC[#Data],0),0))","v":""},{"$f":"IF('Beacon (Desc)'!J95=\"\",\"\",'Beacon (Desc)'!J95)","v":""}]
[{"$f":"IF('Beacon (Desc)'!A96=\"\",\"\",'Beacon (Desc)'!A96)","v":""},{"$f":"IF('Beacon (Desc)'!B96=\"\",\"\",\"1987\")","v":""},{"$f":"IF('Beacon (Desc)'!B96=\"\",\"\",'Beacon (Desc)'!B96)","v":""},{"$f":"IF('Beacon (Desc)'!C96=\"\",\"\",'Beacon (Desc)'!C96)","v":""},{"$f":"IF('Beacon (Desc)'!D96=\"\",\"\",'Beacon (Desc)'!D96)","v":""},{"$f":"IF('Beacon (Desc)'!E96=\"\",\"\",INDEX([1]BEACON_TYPE!$A$2:$A$20,MATCH('Beacon (Desc)'!$E96,[1]!MASTER_BEACON_TYPE_DESC[#Data],0),0))","v":""},{"$f":"IF('Beacon (Desc)'!F96=\"\",\"\",IF('Beacon (Desc)'!F96=\"Unknown\",\"BCN001\",(INDEX([1]BEACON_MANUF_MODEL!$A$2:$D$1500,MATCH(1,([1]BEACON_MANUF_MODEL!$G$2:$G$1500=\"\")*([1]BEACON_MANUF_MODEL!$D$2:$D$1500='Beacon (Desc)'!$F96),0),2))))","v":""},{"$f":"IF('Beacon (Desc)'!F96=\"\",\"\",IF('Beacon (Desc)'!F96=\"Unknown\",\"BCNM001\",INDEX([1]BEACON_MANUF_MODEL!$A$2:$D$1500,MATCH(1,([1]BEACON_MANUF_MODEL!$G$2:$G$1500=\"\")*([1]BEACON_MANUF_MODEL!$D$2:$D$1500='Beacon (Desc)'!$F96),0),1)))","v":""},{"$f":"IF('Beacon (Desc)'!H96=\"\",\"\",INDEX([1]BEACON_COLOR!$A$2:$A$20,MATCH('Beacon (Desc)'!$H96,[1]!MASTER_BEACON_COLOR_DESC[#Data],0),0))","v":""},{"$f":"IF('Beacon (Desc)'!I96=\"\",\"\",INDEX([1]BEACON_SIZE!$A$2:$A$20,MATCH('Beacon (Desc)'!$I96,[1]!MASTER_BEACON_SIZE_DESC[#Data],0),0))","v":""},{"$f":"IF('Beacon (Desc)'!J96=\"\",\"\",'Beacon (Desc)'!J96)","v":""}]
[{"$f":"IF('Beacon (Desc)'!A97=\"\",\"\",'Beacon (Desc)'!A97)","v":""},{"$f":"IF('Beacon (Desc)'!B97=\"\",\"\",\"1987\")","v":""},{"$f":"IF('Beacon (Desc)'!B97=\"\",\"\",'Beacon (Desc)'!B97)","v":""},{"$f":"IF('Beacon (Desc)'!C97=\"\",\"\",'Beacon (Desc)'!C97)","v":""},{"$f":"IF('Beacon (Desc)'!D97=\"\",\"\",'Beacon (Desc)'!D97)","v":""},{"$f":"IF('Beacon (Desc)'!E97=\"\",\"\",INDEX([1]BEACON_TYPE!$A$2:$A$20,MATCH('Beacon (Desc)'!$E97,[1]!MASTER_BEACON_TYPE_DESC[#Data],0),0))","v":""},{"$f":"IF('Beacon (Desc)'!F97=\"\",\"\",IF('Beacon (Desc)'!F97=\"Unknown\",\"BCN001\",(INDEX([1]BEACON_MANUF_MODEL!$A$2:$D$1500,MATCH(1,([1]BEACON_MANUF_MODEL!$G$2:$G$1500=\"\")*([1]BEACON_MANUF_MODEL!$D$2:$D$1500='Beacon (Desc)'!$F97),0),2))))","v":""},{"$f":"IF('Beacon (Desc)'!F97=\"\",\"\",IF('Beacon (Desc)'!F97=\"Unknown\",\"BCNM001\",INDEX([1]BEACON_MANUF_MODEL!$A$2:$D$1500,MATCH(1,([1]BEACON_MANUF_MODEL!$G$2:$G$1500=\"\")*([1]BEACON_MANUF_MODEL!$D$2:$D$1500='Beacon (Desc)'!$F97),0),1)))","v":""},{"$f":"IF('Beacon (Desc)'!H97=\"\",\"\",INDEX([1]BEACON_COLOR!$A$2:$A$20,MATCH('Beacon (Desc)'!$H97,[1]!MASTER_BEACON_COLOR_DESC[#Data],0),0))","v":""},{"$f":"IF('Beacon (Desc)'!I97=\"\",\"\",INDEX([1]BEACON_SIZE!$A$2:$A$20,MATCH('Beacon (Desc)'!$I97,[1]!MASTER_BEACON_SIZE_DESC[#Data],0),0))","v":""},{"$f":"IF('Beacon (Desc)'!J97=\"\",\"\",'Beacon (Desc)'!J97)","v":""}]
[{"$f":"IF('Beacon (Desc)'!A98=\"\",\"\",'Beacon (Desc)'!A98)","v":""},{"$f":"IF('Beacon (Desc)'!B98=\"\",\"\",\"1987\")","v":""},{"$f":"IF('Beacon (Desc)'!B98=\"\",\"\",'Beacon (Desc)'!B98)","v":""},{"$f":"IF('Beacon (Desc)'!C98=\"\",\"\",'Beacon (Desc)'!C98)","v":""},{"$f":"IF('Beacon (Desc)'!D98=\"\",\"\",'Beacon (Desc)'!D98)","v":""},{"$f":"IF('Beacon (Desc)'!E98=\"\",\"\",INDEX([1]BEACON_TYPE!$A$2:$A$20,MATCH('Beacon (Desc)'!$E98,[1]!MASTER_BEACON_TYPE_DESC[#Data],0),0))","v":""},{"$f":"IF('Beacon (Desc)'!F98=\"\",\"\",IF('Beacon (Desc)'!F98=\"Unknown\",\"BCN001\",(INDEX([1]BEACON_MANUF_MODEL!$A$2:$D$1500,MATCH(1,([1]BEACON_MANUF_MODEL!$G$2:$G$1500=\"\")*([1]BEACON_MANUF_MODEL!$D$2:$D$1500='Beacon (Desc)'!$F98),0),2))))","v":""},{"$f":"IF('Beacon (Desc)'!F98=\"\",\"\",IF('Beacon (Desc)'!F98=\"Unknown\",\"BCNM001\",INDEX([1]BEACON_MANUF_MODEL!$A$2:$D$1500,MATCH(1,([1]BEACON_MANUF_MODEL!$G$2:$G$1500=\"\")*([1]BEACON_MANUF_MODEL!$D$2:$D$1500='Beacon (Desc)'!$F98),0),1)))","v":""},{"$f":"IF('Beacon (Desc)'!H98=\"\",\"\",INDEX([1]BEACON_COLOR!$A$2:$A$20,MATCH('Beacon (Desc)'!$H98,[1]!MASTER_BEACON_COLOR_DESC[#Data],0),0))","v":""},{"$f":"IF('Beacon (Desc)'!I98=\"\",\"\",INDEX([1]BEACON_SIZE!$A$2:$A$20,MATCH('Beacon (Desc)'!$I98,[1]!MASTER_BEACON_SIZE_DESC[#Data],0),0))","v":""},{"$f":"IF('Beacon (Desc)'!J98=\"\",\"\",'Beacon (Desc)'!J98)","v":""}]
[{"$f":"IF('Beacon (Desc)'!A99=\"\",\"\",'Beacon (Desc)'!A99)","v":""},{"$f":"IF('Beacon (Desc)'!B99=\"\",\"\",\"1987\")","v":""},{"$f":"IF('Beacon (Desc)'!B99=\"\",\"\",'Beacon (Desc)'!B99)","v":""},{"$f":"IF('Beacon (Desc)'!C99=\"\",\"\",'Beacon (Desc)'!C99)","v":""},{"$f":"IF('Beacon (Desc)'!D99=\"\",\"\",'Beacon (Desc)'!D99)","v":""},{"$f":"IF('Beacon (Desc)'!E99=\"\",\"\",INDEX([1]BEACON_TYPE!$A$2:$A$20,MATCH('Beacon (Desc)'!$E99,[1]!MASTER_BEACON_TYPE_DESC[#Data],0),0))","v":""},{"$f":"IF('Beacon (Desc)'!F99=\"\",\"\",IF('Beacon (Desc)'!F99=\"Unknown\",\"BCN001\",(INDEX([1]BEACON_MANUF_MODEL!$A$2:$D$1500,MATCH(1,([1]BEACON_MANUF_MODEL!$G$2:$G$1500=\"\")*([1]BEACON_MANUF_MODEL!$D$2:$D$1500='Beacon (Desc)'!$F99),0),2))))","v":""},{"$f":"IF('Beacon (Desc)'!F99=\"\",\"\",IF('Beacon (Desc)'!F99=\"Unknown\",\"BCNM001\",INDEX([1]BEACON_MANUF_MODEL!$A$2:$D$1500,MATCH(1,([1]BEACON_MANUF_MODEL!$G$2:$G$1500=\"\")*([1]BEACON_MANUF_MODEL!$D$2:$D$1500='Beacon (Desc)'!$F99),0),1)))","v":""},{"$f":"IF('Beacon (Desc)'!H99=\"\",\"\",INDEX([1]BEACON_COLOR!$A$2:$A$20,MATCH('Beacon (Desc)'!$H99,[1]!MASTER_BEACON_COLOR_DESC[#Data],0),0))","v":""},{"$f":"IF('Beacon (Desc)'!I99=\"\",\"\",INDEX([1]BEACON_SIZE!$A$2:$A$20,MATCH('Beacon (Desc)'!$I99,[1]!MASTER_BEACON_SIZE_DESC[#Data],0),0))","v":""},{"$f":"IF('Beacon (Desc)'!J99=\"\",\"\",'Beacon (Desc)'!J99)","v":""}]
[{"$f":"IF('Beacon (Desc)'!A100=\"\",\"\",'Beacon (Desc)'!A100)","v":""},{"$f":"IF('Beacon (Desc)'!B100=\"\",\"\",\"1987\")","v":""},{"$f":"IF('Beacon (Desc)'!B100=\"\",\"\",'Beacon (Desc)'!B100)","v":""},{"$f":"IF('Beacon (Desc)'!C100=\"\",\"\",'Beacon (Desc)'!C100)","v":""},{"$f":"IF('Beacon (Desc)'!D100=\"\",\"\",'Beacon (Desc)'!D100)","v":""},{"$f":"IF('Beacon (Desc)'!E100=\"\",\"\",INDEX([1]BEACON_TYPE!$A$2:$A$20,MATCH('Beacon (Desc)'!$E100,[1]!MASTER_BEACON_TYPE_DESC[#Data],0),0))","v":""},{"$f":"IF('Beacon (Desc)'!F100=\"\",\"\",IF('Beacon (Desc)'!F100=\"Unknown\",\"BCN001\",(INDEX([1]BEACON_MANUF_MODEL!$A$2:$D$1500,MATCH(1,([1]BEACON_MANUF_MODEL!$G$2:$G$1500=\"\")*([1]BEACON_MANUF_MODEL!$D$2:$D$1500='Beacon (Desc)'!$F100),0),2))))","v":""},{"$f":"IF('Beacon (Desc)'!F100=\"\",\"\",IF('Beacon (Desc)'!F100=\"Unknown\",\"BCNM001\",INDEX([1]BEACON_MANUF_MODEL!$A$2:$D$1500,MATCH(1,([1]BEACON_MANUF_MODEL!$G$2:$G$1500=\"\")*([1]BEACON_MANUF_MODEL!$D$2:$D$1500='Beacon (Desc)'!$F100),0),1)))","v":""},{"$f":"IF('Beacon (Desc)'!H100=\"\",\"\",INDEX([1]BEACON_COLOR!$A$2:$A$20,MATCH('Beacon (Desc)'!$H100,[1]!MASTER_BEACON_COLOR_DESC[#Data],0),0))","v":""},{"$f":"IF('Beacon (Desc)'!I100=\"\",\"\",INDEX([1]BEACON_SIZE!$A$2:$A$20,MATCH('Beacon (Desc)'!$I100,[1]!MASTER_BEACON_SIZE_DESC[#Data],0),0))","v":""},{"$f":"IF('Beacon (Desc)'!J100=\"\",\"\",'Beacon (Desc)'!J100)","v":""}]
[{"$f":"IF('Beacon (Desc)'!A101=\"\",\"\",'Beacon (Desc)'!A101)","v":""},{"$f":"IF('Beacon (Desc)'!B101=\"\",\"\",\"1987\")","v":""},{"$f":"IF('Beacon (Desc)'!B101=\"\",\"\",'Beacon (Desc)'!B101)","v":""},{"$f":"IF('Beacon (Desc)'!C101=\"\",\"\",'Beacon (Desc)'!C101)","v":""},{"$f":"IF('Beacon (Desc)'!D101=\"\",\"\",'Beacon (Desc)'!D101)","v":""},{"$f":"IF('Beacon (Desc)'!E101=\"\",\"\",INDEX([1]BEACON_TYPE!$A$2:$A$20,MATCH('Beacon (Desc)'!$E101,[1]!MASTER_BEACON_TYPE_DESC[#Data],0),0))","v":""},{"$f":"IF('Beacon (Desc)'!F101=\"\",\"\",IF('Beacon (Desc)'!F101=\"Unknown\",\"BCN001\",(INDEX([1]BEACON_MANUF_MODEL!$A$2:$D$1500,MATCH(1,([1]BEACON_MANUF_MODEL!$G$2:$G$1500=\"\")*([1]BEACON_MANUF_MODEL!$D$2:$D$1500='Beacon (Desc)'!$F101),0),2))))","v":""},{"$f":"IF('Beacon (Desc)'!F101=\"\",\"\",IF('Beacon (Desc)'!F101=\"Unknown\",\"BCNM001\",INDEX([1]BEACON_MANUF_MODEL!$A$2:$D$1500,MATCH(1,([1]BEACON_MANUF_MODEL!$G$2:$G$1500=\"\")*([1]BEACON_MANUF_MODEL!$D$2:$D$1500='Beacon (Desc)'!$F101),0),1)))","v":""},{"$f":"IF('Beacon (Desc)'!H101=\"\",\"\",INDEX([1]BEACON_COLOR!$A$2:$A$20,MATCH('Beacon (Desc)'!$H101,[1]!MASTER_BEACON_COLOR_DESC[#Data],0),0))","v":""},{"$f":"IF('Beacon (Desc)'!I101=\"\",\"\",INDEX([1]BEACON_SIZE!$A$2:$A$20,MATCH('Beacon (Desc)'!$I101,[1]!MASTER_BEACON_SIZE_DESC[#Data],0),0))","v":""},{"$f":"IF('Beacon (Desc)'!J101=\"\",\"\",'Beacon (Desc)'!J101)","v":""}]
[{"$f":"IF('Beacon (Desc)'!A102=\"\",\"\",'Beacon (Desc)'!A102)","v":""},{"$f":"IF('Beacon (Desc)'!B102=\"\",\"\",\"1987\")","v":""},{"$f":"IF('Beacon (Desc)'!B102=\"\",\"\",'Beacon (Desc)'!B102)","v":""},{"$f":"IF('Beacon (Desc)'!C102=\"\",\"\",'Beacon (Desc)'!C102)","v":""},{"$f":"IF('Beacon (Desc)'!D102=\"\",\"\",'Beacon (Desc)'!D102)","v":""},{"$f":"IF('Beacon (Desc)'!E102=\"\",\"\",INDEX([1]BEACON_TYPE!$A$2:$A$20,MATCH('Beacon (Desc)'!$E102,[1]!MASTER_BEACON_TYPE_DESC[#Data],0),0))","v":""},{"$f":"IF('Beacon (Desc)'!F102=\"\",\"\",IF('Beacon (Desc)'!F102=\"Unknown\",\"BCN001\",(INDEX([1]BEACON_MANUF_MODEL!$A$2:$D$1500,MATCH(1,([1]BEACON_MANUF_MODEL!$G$2:$G$1500=\"\")*([1]BEACON_MANUF_MODEL!$D$2:$D$1500='Beacon (Desc)'!$F102),0),2))))","v":""},{"$f":"IF('Beacon (Desc)'!F102=\"\",\"\",IF('Beacon (Desc)'!F102=\"Unknown\",\"BCNM001\",INDEX([1]BEACON_MANUF_MODEL!$A$2:$D$1500,MATCH(1,([1]BEACON_MANUF_MODEL!$G$2:$G$1500=\"\")*([1]BEACON_MANUF_MODEL!$D$2:$D$1500='Beacon (Desc)'!$F102),0),1)))","v":""},{"$f":"IF('Beacon (Desc)'!H102=\"\",\"\",INDEX([1]BEACON_COLOR!$A$2:$A$20,MATCH('Beacon (Desc)'!$H102,[1]!MASTER_BEACON_COLOR_DESC[#Data],0),0))","v":""},{"$f":"IF('Beacon (Desc)'!I102=\"\",\"\",INDEX([1]BEACON_SIZE!$A$2:$A$20,MATCH('Beacon (Desc)'!$I102,[1]!MASTER_BEACON_SIZE_DESC[#Data],0),0))","v":""},{"$f":"IF('Beacon (Desc)'!J102=\"\",\"\",'Beacon (Desc)'!J102)","v":""}]
[{"$f":"IF('Beacon (Desc)'!A103=\"\",\"\",'Beacon (Desc)'!A103)","v":""},{"$f":"IF('Beacon (Desc)'!B103=\"\",\"\",\"1987\")","v":""},{"$f":"IF('Beacon (Desc)'!B103=\"\",\"\",'Beacon (Desc)'!B103)","v":""},{"$f":"IF('Beacon (Desc)'!C103=\"\",\"\",'Beacon (Desc)'!C103)","v":""},{"$f":"IF('Beacon (Desc)'!D103=\"\",\"\",'Beacon (Desc)'!D103)","v":""},{"$f":"IF('Beacon (Desc)'!E103=\"\",\"\",INDEX([1]BEACON_TYPE!$A$2:$A$20,MATCH('Beacon (Desc)'!$E103,[1]!MASTER_BEACON_TYPE_DESC[#Data],0),0))","v":""},{"$f":"IF('Beacon (Desc)'!F103=\"\",\"\",IF('Beacon (Desc)'!F103=\"Unknown\",\"BCN001\",(INDEX([1]BEACON_MANUF_MODEL!$A$2:$D$1500,MATCH(1,([1]BEACON_MANUF_MODEL!$G$2:$G$1500=\"\")*([1]BEACON_MANUF_MODEL!$D$2:$D$1500='Beacon (Desc)'!$F103),0),2))))","v":""},{"$f":"IF('Beacon (Desc)'!F103=\"\",\"\",IF('Beacon (Desc)'!F103=\"Unknown\",\"BCNM001\",INDEX([1]BEACON_MANUF_MODEL!$A$2:$D$1500,MATCH(1,([1]BEACON_MANUF_MODEL!$G$2:$G$1500=\"\")*([1]BEACON_MANUF_MODEL!$D$2:$D$1500='Beacon (Desc)'!$F103),0),1)))","v":""},{"$f":"IF('Beacon (Desc)'!H103=\"\",\"\",INDEX([1]BEACON_COLOR!$A$2:$A$20,MATCH('Beacon (Desc)'!$H103,[1]!MASTER_BEACON_COLOR_DESC[#Data],0),0))","v":""},{"$f":"IF('Beacon (Desc)'!I103=\"\",\"\",INDEX([1]BEACON_SIZE!$A$2:$A$20,MATCH('Beacon (Desc)'!$I103,[1]!MASTER_BEACON_SIZE_DESC[#Data],0),0))","v":""},{"$f":"IF('Beacon (Desc)'!J103=\"\",\"\",'Beacon (Desc)'!J103)","v":""}]
[{"$f":"IF('Beacon (Desc)'!A104=\"\",\"\",'Beacon (Desc)'!A104)","v":""},{"$f":"IF('Beacon (Desc)'!B104=\"\",\"\",\"1987\")","v":""},{"$f":"IF('Beacon (Desc)'!B104=\"\",\"\",'Beacon (Desc)'!B104)","v":""},{"$f":"IF('Beacon (Desc)'!C104=\"\",\"\",'Beacon (Desc)'!C104)","v":""},{"$f":"IF('Beacon (Desc)'!D104=\"\",\"\",'Beacon (Desc)'!D104)","v":""},{"$f":"IF('Beacon (Desc)'!E104=\"\",\"\",INDEX([1]BEACON_TYPE!$A$2:$A$20,MATCH('Beacon (Desc)'!$E104,[1]!MASTER_BEACON_TYPE_DESC[#Data],0),0))","v":""},{"$f":"IF('Beacon (Desc)'!F104=\"\",\"\",IF('Beacon (Desc)'!F104=\"Unknown\",\"BCN001\",(INDEX([1]BEACON_MANUF_MODEL!$A$2:$D$1500,MATCH(1,([1]BEACON_MANUF_MODEL!$G$2:$G$1500=\"\")*([1]BEACON_MANUF_MODEL!$D$2:$D$1500='Beacon (Desc)'!$F104),0),2))))","v":""},{"$f":"IF('Beacon (Desc)'!F104=\"\",\"\",IF('Beacon (Desc)'!F104=\"Unknown\",\"BCNM001\",INDEX([1]BEACON_MANUF_MODEL!$A$2:$D$1500,MATCH(1,([1]BEACON_MANUF_MODEL!$G$2:$G$1500=\"\")*([1]BEACON_MANUF_MODEL!$D$2:$D$1500='Beacon (Desc)'!$F104),0),1)))","v":""},{"$f":"IF('Beacon (Desc)'!H104=\"\",\"\",INDEX([1]BEACON_COLOR!$A$2:$A$20,MATCH('Beacon (Desc)'!$H104,[1]!MASTER_BEACON_COLOR_DESC[#Data],0),0))","v":""},{"$f":"IF('Beacon (Desc)'!I104=\"\",\"\",INDEX([1]BEACON_SIZE!$A$2:$A$20,MATCH('Beacon (Desc)'!$I104,[1]!MASTER_BEACON_SIZE_DESC[#Data],0),0))","v":""},{"$f":"IF('Beacon (Desc)'!J104=\"\",\"\",'Beacon (Desc)'!J104)","v":""}]
[{"$f":"IF('Beacon (Desc)'!A105=\"\",\"\",'Beacon (Desc)'!A105)","v":""},{"$f":"IF('Beacon (Desc)'!B105=\"\",\"\",\"1987\")","v":""},{"$f":"IF('Beacon (Desc)'!B105=\"\",\"\",'Beacon (Desc)'!B105)","v":""},{"$f":"IF('Beacon (Desc)'!C105=\"\",\"\",'Beacon (Desc)'!C105)","v":""},{"$f":"IF('Beacon (Desc)'!D105=\"\",\"\",'Beacon (Desc)'!D105)","v":""},{"$f":"IF('Beacon (Desc)'!E105=\"\",\"\",INDEX([1]BEACON_TYPE!$A$2:$A$20,MATCH('Beacon (Desc)'!$E105,[1]!MASTER_BEACON_TYPE_DESC[#Data],0),0))","v":""},{"$f":"IF('Beacon (Desc)'!F105=\"\",\"\",IF('Beacon (Desc)'!F105=\"Unknown\",\"BCN001\",(INDEX([1]BEACON_MANUF_MODEL!$A$2:$D$1500,MATCH(1,([1]BEACON_MANUF_MODEL!$G$2:$G$1500=\"\")*([1]BEACON_MANUF_MODEL!$D$2:$D$1500='Beacon (Desc)'!$F105),0),2))))","v":""},{"$f":"IF('Beacon (Desc)'!F105=\"\",\"\",IF('Beacon (Desc)'!F105=\"Unknown\",\"BCNM001\",INDEX([1]BEACON_MANUF_MODEL!$A$2:$D$1500,MATCH(1,([1]BEACON_MANUF_MODEL!$G$2:$G$1500=\"\")*([1]BEACON_MANUF_MODEL!$D$2:$D$1500='Beacon (Desc)'!$F105),0),1)))","v":""},{"$f":"IF('Beacon (Desc)'!H105=\"\",\"\",INDEX([1]BEACON_COLOR!$A$2:$A$20,MATCH('Beacon (Desc)'!$H105,[1]!MASTER_BEACON_COLOR_DESC[#Data],0),0))","v":""},{"$f":"IF('Beacon (Desc)'!I105=\"\",\"\",INDEX([1]BEACON_SIZE!$A$2:$A$20,MATCH('Beacon (Desc)'!$I105,[1]!MASTER_BEACON_SIZE_DESC[#Data],0),0))","v":""},{"$f":"IF('Beacon (Desc)'!J105=\"\",\"\",'Beacon (Desc)'!J105)","v":""}]
[{"$f":"IF('Beacon (Desc)'!A106=\"\",\"\",'Beacon (Desc)'!A106)","v":""},{"$f":"IF('Beacon (Desc)'!B106=\"\",\"\",\"1987\")","v":""},{"$f":"IF('Beacon (Desc)'!B106=\"\",\"\",'Beacon (Desc)'!B106)","v":""},{"$f":"IF('Beacon (Desc)'!C106=\"\",\"\",'Beacon (Desc)'!C106)","v":""},{"$f":"IF('Beacon (Desc)'!D106=\"\",\"\",'Beacon (Desc)'!D106)","v":""},{"$f":"IF('Beacon (Desc)'!E106=\"\",\"\",INDEX([1]BEACON_TYPE!$A$2:$A$20,MATCH('Beacon (Desc)'!$E106,[1]!MASTER_BEACON_TYPE_DESC[#Data],0),0))","v":""},{"$f":"IF('Beacon (Desc)'!F106=\"\",\"\",IF('Beacon (Desc)'!F106=\"Unknown\",\"BCN001\",(INDEX([1]BEACON_MANUF_MODEL!$A$2:$D$1500,MATCH(1,([1]BEACON_MANUF_MODEL!$G$2:$G$1500=\"\")*([1]BEACON_MANUF_MODEL!$D$2:$D$1500='Beacon (Desc)'!$F106),0),2))))","v":""},{"$f":"IF('Beacon (Desc)'!F106=\"\",\"\",IF('Beacon (Desc)'!F106=\"Unknown\",\"BCNM001\",INDEX([1]BEACON_MANUF_MODEL!$A$2:$D$1500,MATCH(1,([1]BEACON_MANUF_MODEL!$G$2:$G$1500=\"\")*([1]BEACON_MANUF_MODEL!$D$2:$D$1500='Beacon (Desc)'!$F106),0),1)))","v":""},{"$f":"IF('Beacon (Desc)'!H106=\"\",\"\",INDEX([1]BEACON_COLOR!$A$2:$A$20,MATCH('Beacon (Desc)'!$H106,[1]!MASTER_BEACON_COLOR_DESC[#Data],0),0))","v":""},{"$f":"IF('Beacon (Desc)'!I106=\"\",\"\",INDEX([1]BEACON_SIZE!$A$2:$A$20,MATCH('Beacon (Desc)'!$I106,[1]!MASTER_BEACON_SIZE_DESC[#Data],0),0))","v":""},{"$f":"IF('Beacon (Desc)'!J106=\"\",\"\",'Beacon (Desc)'!J106)","v":""}]
[{"$f":"IF('Beacon (Desc)'!A107=\"\",\"\",'Beacon (Desc)'!A107)","v":""},{"$f":"IF('Beacon (Desc)'!B107=\"\",\"\",\"1987\")","v":""},{"$f":"IF('Beacon (Desc)'!B107=\"\",\"\",'Beacon (Desc)'!B107)","v":""},{"$f":"IF('Beacon (Desc)'!C107=\"\",\"\",'Beacon (Desc)'!C107)","v":""},{"$f":"IF('Beacon (Desc)'!D107=\"\",\"\",'Beacon (Desc)'!D107)","v":""},{"$f":"IF('Beacon (Desc)'!E107=\"\",\"\",INDEX([1]BEACON_TYPE!$A$2:$A$20,MATCH('Beacon (Desc)'!$E107,[1]!MASTER_BEACON_TYPE_DESC[#Data],0),0))","v":""},{"$f":"IF('Beacon (Desc)'!F107=\"\",\"\",IF('Beacon (Desc)'!F107=\"Unknown\",\"BCN001\",(INDEX([1]BEACON_MANUF_MODEL!$A$2:$D$1500,MATCH(1,([1]BEACON_MANUF_MODEL!$G$2:$G$1500=\"\")*([1]BEACON_MANUF_MODEL!$D$2:$D$1500='Beacon (Desc)'!$F107),0),2))))","v":""},{"$f":"IF('Beacon (Desc)'!F107=\"\",\"\",IF('Beacon (Desc)'!F107=\"Unknown\",\"BCNM001\",INDEX([1]BEACON_MANUF_MODEL!$A$2:$D$1500,MATCH(1,([1]BEACON_MANUF_MODEL!$G$2:$G$1500=\"\")*([1]BEACON_MANUF_MODEL!$D$2:$D$1500='Beacon (Desc)'!$F107),0),1)))","v":""},{"$f":"IF('Beacon (Desc)'!H107=\"\",\"\",INDEX([1]BEACON_COLOR!$A$2:$A$20,MATCH('Beacon (Desc)'!$H107,[1]!MASTER_BEACON_COLOR_DESC[#Data],0),0))","v":""},{"$f":"IF('Beacon (Desc)'!I107=\"\",\"\",INDEX([1]BEACON_SIZE!$A$2:$A$20,MATCH('Beacon (Desc)'!$I107,[1]!MASTER_BEACON_SIZE_DESC[#Data],0),0))","v":""},{"$f":"IF('Beacon (Desc)'!J107=\"\",\"\",'Beacon (Desc)'!J107)","v":""}]
[{"$f":"IF('Beacon (Desc)'!A108=\"\",\"\",'Beacon (Desc)'!A108)","v":""},{"$f":"IF('Beacon (Desc)'!B108=\"\",\"\",\"1987\")","v":""},{"$f":"IF('Beacon (Desc)'!B108=\"\",\"\",'Beacon (Desc)'!B108)","v":""},{"$f":"IF('Beacon (Desc)'!C108=\"\",\"\",'Beacon (Desc)'!C108)","v":""},{"$f":"IF('Beacon (Desc)'!D108=\"\",\"\",'Beacon (Desc)'!D108)","v":""},{"$f":"IF('Beacon (Desc)'!E108=\"\",\"\",INDEX([1]BEACON_TYPE!$A$2:$A$20,MATCH('Beacon (Desc)'!$E108,[1]!MASTER_BEACON_TYPE_DESC[#Data],0),0))","v":""},{"$f":"IF('Beacon (Desc)'!F108=\"\",\"\",IF('Beacon (Desc)'!F108=\"Unknown\",\"BCN001\",(INDEX([1]BEACON_MANUF_MODEL!$A$2:$D$1500,MATCH(1,([1]BEACON_MANUF_MODEL!$G$2:$G$1500=\"\")*([1]BEACON_MANUF_MODEL!$D$2:$D$1500='Beacon (Desc)'!$F108),0),2))))","v":""},{"$f":"IF('Beacon (Desc)'!F108=\"\",\"\",IF('Beacon (Desc)'!F108=\"Unknown\",\"BCNM001\",INDEX([1]BEACON_MANUF_MODEL!$A$2:$D$1500,MATCH(1,([1]BEACON_MANUF_MODEL!$G$2:$G$1500=\"\")*([1]BEACON_MANUF_MODEL!$D$2:$D$1500='Beacon (Desc)'!$F108),0),1)))","v":""},{"$f":"IF('Beacon (Desc)'!H108=\"\",\"\",INDEX([1]BEACON_COLOR!$A$2:$A$20,MATCH('Beacon (Desc)'!$H108,[1]!MASTER_BEACON_COLOR_DESC[#Data],0),0))","v":""},{"$f":"IF('Beacon (Desc)'!I108=\"\",\"\",INDEX([1]BEACON_SIZE!$A$2:$A$20,MATCH('Beacon (Desc)'!$I108,[1]!MASTER_BEACON_SIZE_DESC[#Data],0),0))","v":""},{"$f":"IF('Beacon (Desc)'!J108=\"\",\"\",'Beacon (Desc)'!J108)","v":""}]
[{"$f":"IF('Beacon (Desc)'!A109=\"\",\"\",'Beacon (Desc)'!A109)","v":""},{"$f":"IF('Beacon (Desc)'!B109=\"\",\"\",\"1987\")","v":""},{"$f":"IF('Beacon (Desc)'!B109=\"\",\"\",'Beacon (Desc)'!B109)","v":""},{"$f":"IF('Beacon (Desc)'!C109=\"\",\"\",'Beacon (Desc)'!C109)","v":""},{"$f":"IF('Beacon (Desc)'!D109=\"\",\"\",'Beacon (Desc)'!D109)","v":""},{"$f":"IF('Beacon (Desc)'!E109=\"\",\"\",INDEX([1]BEACON_TYPE!$A$2:$A$20,MATCH('Beacon (Desc)'!$E109,[1]!MASTER_BEACON_TYPE_DESC[#Data],0),0))","v":""},{"$f":"IF('Beacon (Desc)'!F109=\"\",\"\",IF('Beacon (Desc)'!F109=\"Unknown\",\"BCN001\",(INDEX([1]BEACON_MANUF_MODEL!$A$2:$D$1500,MATCH(1,([1]BEACON_MANUF_MODEL!$G$2:$G$1500=\"\")*([1]BEACON_MANUF_MODEL!$D$2:$D$1500='Beacon (Desc)'!$F109),0),2))))","v":""},{"$f":"IF('Beacon (Desc)'!F109=\"\",\"\",IF('Beacon (Desc)'!F109=\"Unknown\",\"BCNM001\",INDEX([1]BEACON_MANUF_MODEL!$A$2:$D$1500,MATCH(1,([1]BEACON_MANUF_MODEL!$G$2:$G$1500=\"\")*([1]BEACON_MANUF_MODEL!$D$2:$D$1500='Beacon (Desc)'!$F109),0),1)))","v":""},{"$f":"IF('Beacon (Desc)'!H109=\"\",\"\",INDEX([1]BEACON_COLOR!$A$2:$A$20,MATCH('Beacon (Desc)'!$H109,[1]!MASTER_BEACON_COLOR_DESC[#Data],0),0))","v":""},{"$f":"IF('Beacon (Desc)'!I109=\"\",\"\",INDEX([1]BEACON_SIZE!$A$2:$A$20,MATCH('Beacon (Desc)'!$I109,[1]!MASTER_BEACON_SIZE_DESC[#Data],0),0))","v":""},{"$f":"IF('Beacon (Desc)'!J109=\"\",\"\",'Beacon (Desc)'!J109)","v":""}]
[{"$f":"IF('Beacon (Desc)'!A110=\"\",\"\",'Beacon (Desc)'!A110)","v":""},{"$f":"IF('Beacon (Desc)'!B110=\"\",\"\",\"1987\")","v":""},{"$f":"IF('Beacon (Desc)'!B110=\"\",\"\",'Beacon (Desc)'!B110)","v":""},{"$f":"IF('Beacon (Desc)'!C110=\"\",\"\",'Beacon (Desc)'!C110)","v":""},{"$f":"IF('Beacon (Desc)'!D110=\"\",\"\",'Beacon (Desc)'!D110)","v":""},{"$f":"IF('Beacon (Desc)'!E110=\"\",\"\",INDEX([1]BEACON_TYPE!$A$2:$A$20,MATCH('Beacon (Desc)'!$E110,[1]!MASTER_BEACON_TYPE_DESC[#Data],0),0))","v":""},{"$f":"IF('Beacon (Desc)'!F110=\"\",\"\",IF('Beacon (Desc)'!F110=\"Unknown\",\"BCN001\",(INDEX([1]BEACON_MANUF_MODEL!$A$2:$D$1500,MATCH(1,([1]BEACON_MANUF_MODEL!$G$2:$G$1500=\"\")*([1]BEACON_MANUF_MODEL!$D$2:$D$1500='Beacon (Desc)'!$F110),0),2))))","v":""},{"$f":"IF('Beacon (Desc)'!F110=\"\",\"\",IF('Beacon (Desc)'!F110=\"Unknown\",\"BCNM001\",INDEX([1]BEACON_MANUF_MODEL!$A$2:$D$1500,MATCH(1,([1]BEACON_MANUF_MODEL!$G$2:$G$1500=\"\")*([1]BEACON_MANUF_MODEL!$D$2:$D$1500='Beacon (Desc)'!$F110),0),1)))","v":""},{"$f":"IF('Beacon (Desc)'!H110=\"\",\"\",INDEX([1]BEACON_COLOR!$A$2:$A$20,MATCH('Beacon (Desc)'!$H110,[1]!MASTER_BEACON_COLOR_DESC[#Data],0),0))","v":""},{"$f":"IF('Beacon (Desc)'!I110=\"\",\"\",INDEX([1]BEACON_SIZE!$A$2:$A$20,MATCH('Beacon (Desc)'!$I110,[1]!MASTER_BEACON_SIZE_DESC[#Data],0),0))","v":""},{"$f":"IF('Beacon (Desc)'!J110=\"\",\"\",'Beacon (Desc)'!J110)","v":""}]
[{"$f":"IF('Beacon (Desc)'!A111=\"\",\"\",'Beacon (Desc)'!A111)","v":""},{"$f":"IF('Beacon (Desc)'!B111=\"\",\"\",\"1987\")","v":""},{"$f":"IF('Beacon (Desc)'!B111=\"\",\"\",'Beacon (Desc)'!B111)","v":""},{"$f":"IF('Beacon (Desc)'!C111=\"\",\"\",'Beacon (Desc)'!C111)","v":""},{"$f":"IF('Beacon (Desc)'!D111=\"\",\"\",'Beacon (Desc)'!D111)","v":""},{"$f":"IF('Beacon (Desc)'!E111=\"\",\"\",INDEX([1]BEACON_TYPE!$A$2:$A$20,MATCH('Beacon (Desc)'!$E111,[1]!MASTER_BEACON_TYPE_DESC[#Data],0),0))","v":""},{"$f":"IF('Beacon (Desc)'!F111=\"\",\"\",IF('Beacon (Desc)'!F111=\"Unknown\",\"BCN001\",(INDEX([1]BEACON_MANUF_MODEL!$A$2:$D$1500,MATCH(1,([1]BEACON_MANUF_MODEL!$G$2:$G$1500=\"\")*([1]BEACON_MANUF_MODEL!$D$2:$D$1500='Beacon (Desc)'!$F111),0),2))))","v":""},{"$f":"IF('Beacon (Desc)'!F111=\"\",\"\",IF('Beacon (Desc)'!F111=\"Unknown\",\"BCNM001\",INDEX([1]BEACON_MANUF_MODEL!$A$2:$D$1500,MATCH(1,([1]BEACON_MANUF_MODEL!$G$2:$G$1500=\"\")*([1]BEACON_MANUF_MODEL!$D$2:$D$1500='Beacon (Desc)'!$F111),0),1)))","v":""},{"$f":"IF('Beacon (Desc)'!H111=\"\",\"\",INDEX([1]BEACON_COLOR!$A$2:$A$20,MATCH('Beacon (Desc)'!$H111,[1]!MASTER_BEACON_COLOR_DESC[#Data],0),0))","v":""},{"$f":"IF('Beacon (Desc)'!I111=\"\",\"\",INDEX([1]BEACON_SIZE!$A$2:$A$20,MATCH('Beacon (Desc)'!$I111,[1]!MASTER_BEACON_SIZE_DESC[#Data],0),0))","v":""},{"$f":"IF('Beacon (Desc)'!J111=\"\",\"\",'Beacon (Desc)'!J111)","v":""}]
[{"$f":"IF('Beacon (Desc)'!A112=\"\",\"\",'Beacon (Desc)'!A112)","v":""},{"$f":"IF('Beacon (Desc)'!B112=\"\",\"\",\"1987\")","v":""},{"$f":"IF('Beacon (Desc)'!B112=\"\",\"\",'Beacon (Desc)'!B112)","v":""},{"$f":"IF('Beacon (Desc)'!C112=\"\",\"\",'Beacon (Desc)'!C112)","v":""},{"$f":"IF('Beacon (Desc)'!D112=\"\",\"\",'Beacon (Desc)'!D112)","v":""},{"$f":"IF('Beacon (Desc)'!E112=\"\",\"\",INDEX([1]BEACON_TYPE!$A$2:$A$20,MATCH('Beacon (Desc)'!$E112,[1]!MASTER_BEACON_TYPE_DESC[#Data],0),0))","v":""},{"$f":"IF('Beacon (Desc)'!F112=\"\",\"\",IF('Beacon (Desc)'!F112=\"Unknown\",\"BCN001\",(INDEX([1]BEACON_MANUF_MODEL!$A$2:$D$1500,MATCH(1,([1]BEACON_MANUF_MODEL!$G$2:$G$1500=\"\")*([1]BEACON_MANUF_MODEL!$D$2:$D$1500='Beacon (Desc)'!$F112),0),2))))","v":""},{"$f":"IF('Beacon (Desc)'!F112=\"\",\"\",IF('Beacon (Desc)'!F112=\"Unknown\",\"BCNM001\",INDEX([1]BEACON_MANUF_MODEL!$A$2:$D$1500,MATCH(1,([1]BEACON_MANUF_MODEL!$G$2:$G$1500=\"\")*([1]BEACON_MANUF_MODEL!$D$2:$D$1500='Beacon (Desc)'!$F112),0),1)))","v":""},{"$f":"IF('Beacon (Desc)'!H112=\"\",\"\",INDEX([1]BEACON_COLOR!$A$2:$A$20,MATCH('Beacon (Desc)'!$H112,[1]!MASTER_BEACON_COLOR_DESC[#Data],0),0))","v":""},{"$f":"IF('Beacon (Desc)'!I112=\"\",\"\",INDEX([1]BEACON_SIZE!$A$2:$A$20,MATCH('Beacon (Desc)'!$I112,[1]!MASTER_BEACON_SIZE_DESC[#Data],0),0))","v":""},{"$f":"IF('Beacon (Desc)'!J112=\"\",\"\",'Beacon (Desc)'!J112)","v":""}]
[{"$f":"IF('Beacon (Desc)'!A113=\"\",\"\",'Beacon (Desc)'!A113)","v":""},{"$f":"IF('Beacon (Desc)'!B113=\"\",\"\",\"1987\")","v":""},{"$f":"IF('Beacon (Desc)'!B113=\"\",\"\",'Beacon (Desc)'!B113)","v":""},{"$f":"IF('Beacon (Desc)'!C113=\"\",\"\",'Beacon (Desc)'!C113)","v":""},{"$f":"IF('Beacon (Desc)'!D113=\"\",\"\",'Beacon (Desc)'!D113)","v":""},{"$f":"IF('Beacon (Desc)'!E113=\"\",\"\",INDEX([1]BEACON_TYPE!$A$2:$A$20,MATCH('Beacon (Desc)'!$E113,[1]!MASTER_BEACON_TYPE_DESC[#Data],0),0))","v":""},{"$f":"IF('Beacon (Desc)'!F113=\"\",\"\",IF('Beacon (Desc)'!F113=\"Unknown\",\"BCN001\",(INDEX([1]BEACON_MANUF_MODEL!$A$2:$D$1500,MATCH(1,([1]BEACON_MANUF_MODEL!$G$2:$G$1500=\"\")*([1]BEACON_MANUF_MODEL!$D$2:$D$1500='Beacon (Desc)'!$F113),0),2))))","v":""},{"$f":"IF('Beacon (Desc)'!F113=\"\",\"\",IF('Beacon (Desc)'!F113=\"Unknown\",\"BCNM001\",INDEX([1]BEACON_MANUF_MODEL!$A$2:$D$1500,MATCH(1,([1]BEACON_MANUF_MODEL!$G$2:$G$1500=\"\")*([1]BEACON_MANUF_MODEL!$D$2:$D$1500='Beacon (Desc)'!$F113),0),1)))","v":""},{"$f":"IF('Beacon (Desc)'!H113=\"\",\"\",INDEX([1]BEACON_COLOR!$A$2:$A$20,MATCH('Beacon (Desc)'!$H113,[1]!MASTER_BEACON_COLOR_DESC[#Data],0),0))","v":""},{"$f":"IF('Beacon (Desc)'!I113=\"\",\"\",INDEX([1]BEACON_SIZE!$A$2:$A$20,MATCH('Beacon (Desc)'!$I113,[1]!MASTER_BEACON_SIZE_DESC[#Data],0),0))","v":""},{"$f":"IF('Beacon (Desc)'!J113=\"\",\"\",'Beacon (Desc)'!J113)","v":""}]
[{"$f":"IF('Beacon (Desc)'!A114=\"\",\"\",'Beacon (Desc)'!A114)","v":""},{"$f":"IF('Beacon (Desc)'!B114=\"\",\"\",\"1987\")","v":""},{"$f":"IF('Beacon (Desc)'!B114=\"\",\"\",'Beacon (Desc)'!B114)","v":""},{"$f":"IF('Beacon (Desc)'!C114=\"\",\"\",'Beacon (Desc)'!C114)","v":""},{"$f":"IF('Beacon (Desc)'!D114=\"\",\"\",'Beacon (Desc)'!D114)","v":""},{"$f":"IF('Beacon (Desc)'!E114=\"\",\"\",INDEX([1]BEACON_TYPE!$A$2:$A$20,MATCH('Beacon (Desc)'!$E114,[1]!MASTER_BEACON_TYPE_DESC[#Data],0),0))","v":""},{"$f":"IF('Beacon (Desc)'!F114=\"\",\"\",IF('Beacon (Desc)'!F114=\"Unknown\",\"BCN001\",(INDEX([1]BEACON_MANUF_MODEL!$A$2:$D$1500,MATCH(1,([1]BEACON_MANUF_MODEL!$G$2:$G$1500=\"\")*([1]BEACON_MANUF_MODEL!$D$2:$D$1500='Beacon (Desc)'!$F114),0),2))))","v":""},{"$f":"IF('Beacon (Desc)'!F114=\"\",\"\",IF('Beacon (Desc)'!F114=\"Unknown\",\"BCNM001\",INDEX([1]BEACON_MANUF_MODEL!$A$2:$D$1500,MATCH(1,([1]BEACON_MANUF_MODEL!$G$2:$G$1500=\"\")*([1]BEACON_MANUF_MODEL!$D$2:$D$1500='Beacon (Desc)'!$F114),0),1)))","v":""},{"$f":"IF('Beacon (Desc)'!H114=\"\",\"\",INDEX([1]BEACON_COLOR!$A$2:$A$20,MATCH('Beacon (Desc)'!$H114,[1]!MASTER_BEACON_COLOR_DESC[#Data],0),0))","v":""},{"$f":"IF('Beacon (Desc)'!I114=\"\",\"\",INDEX([1]BEACON_SIZE!$A$2:$A$20,MATCH('Beacon (Desc)'!$I114,[1]!MASTER_BEACON_SIZE_DESC[#Data],0),0))","v":""},{"$f":"IF('Beacon (Desc)'!J114=\"\",\"\",'Beacon (Desc)'!J114)","v":""}]
[{"$f":"IF('Beacon (Desc)'!A115=\"\",\"\",'Beacon (Desc)'!A115)","v":""},{"$f":"IF('Beacon (Desc)'!B115=\"\",\"\",\"1987\")","v":""},{"$f":"IF('Beacon (Desc)'!B115=\"\",\"\",'Beacon (Desc)'!B115)","v":""},{"$f":"IF('Beacon (Desc)'!C115=\"\",\"\",'Beacon (Desc)'!C115)","v":""},{"$f":"IF('Beacon (Desc)'!D115=\"\",\"\",'Beacon (Desc)'!D115)","v":""},{"$f":"IF('Beacon (Desc)'!E115=\"\",\"\",INDEX([1]BEACON_TYPE!$A$2:$A$20,MATCH('Beacon (Desc)'!$E115,[1]!MASTER_BEACON_TYPE_DESC[#Data],0),0))","v":""},{"$f":"IF('Beacon (Desc)'!F115=\"\",\"\",IF('Beacon (Desc)'!F115=\"Unknown\",\"BCN001\",(INDEX([1]BEACON_MANUF_MODEL!$A$2:$D$1500,MATCH(1,([1]BEACON_MANUF_MODEL!$G$2:$G$1500=\"\")*([1]BEACON_MANUF_MODEL!$D$2:$D$1500='Beacon (Desc)'!$F115),0),2))))","v":""},{"$f":"IF('Beacon (Desc)'!F115=\"\",\"\",IF('Beacon (Desc)'!F115=\"Unknown\",\"BCNM001\",INDEX([1]BEACON_MANUF_MODEL!$A$2:$D$1500,MATCH(1,([1]BEACON_MANUF_MODEL!$G$2:$G$1500=\"\")*([1]BEACON_MANUF_MODEL!$D$2:$D$1500='Beacon (Desc)'!$F115),0),1)))","v":""},{"$f":"IF('Beacon (Desc)'!H115=\"\",\"\",INDEX([1]BEACON_COLOR!$A$2:$A$20,MATCH('Beacon (Desc)'!$H115,[1]!MASTER_BEACON_COLOR_DESC[#Data],0),0))","v":""},{"$f":"IF('Beacon (Desc)'!I115=\"\",\"\",INDEX([1]BEACON_SIZE!$A$2:$A$20,MATCH('Beacon (Desc)'!$I115,[1]!MASTER_BEACON_SIZE_DESC[#Data],0),0))","v":""},{"$f":"IF('Beacon (Desc)'!J115=\"\",\"\",'Beacon (Desc)'!J115)","v":""}]
[{"$f":"IF('Beacon (Desc)'!A116=\"\",\"\",'Beacon (Desc)'!A116)","v":""},{"$f":"IF('Beacon (Desc)'!B116=\"\",\"\",\"1987\")","v":""},{"$f":"IF('Beacon (Desc)'!B116=\"\",\"\",'Beacon (Desc)'!B116)","v":""},{"$f":"IF('Beacon (Desc)'!C116=\"\",\"\",'Beacon (Desc)'!C116)","v":""},{"$f":"IF('Beacon (Desc)'!D116=\"\",\"\",'Beacon (Desc)'!D116)","v":""},{"$f":"IF('Beacon (Desc)'!E116=\"\",\"\",INDEX([1]BEACON_TYPE!$A$2:$A$20,MATCH('Beacon (Desc)'!$E116,[1]!MASTER_BEACON_TYPE_DESC[#Data],0),0))","v":""},{"$f":"IF('Beacon (Desc)'!F116=\"\",\"\",IF('Beacon (Desc)'!F116=\"Unknown\",\"BCN001\",(INDEX([1]BEACON_MANUF_MODEL!$A$2:$D$1500,MATCH(1,([1]BEACON_MANUF_MODEL!$G$2:$G$1500=\"\")*([1]BEACON_MANUF_MODEL!$D$2:$D$1500='Beacon (Desc)'!$F116),0),2))))","v":""},{"$f":"IF('Beacon (Desc)'!F116=\"\",\"\",IF('Beacon (Desc)'!F116=\"Unknown\",\"BCNM001\",INDEX([1]BEACON_MANUF_MODEL!$A$2:$D$1500,MATCH(1,([1]BEACON_MANUF_MODEL!$G$2:$G$1500=\"\")*([1]BEACON_MANUF_MODEL!$D$2:$D$1500='Beacon (Desc)'!$F116),0),1)))","v":""},{"$f":"IF('Beacon (Desc)'!H116=\"\",\"\",INDEX([1]BEACON_COLOR!$A$2:$A$20,MATCH('Beacon (Desc)'!$H116,[1]!MASTER_BEACON_COLOR_DESC[#Data],0),0))","v":""},{"$f":"IF('Beacon (Desc)'!I116=\"\",\"\",INDEX([1]BEACON_SIZE!$A$2:$A$20,MATCH('Beacon (Desc)'!$I116,[1]!MASTER_BEACON_SIZE_DESC[#Data],0),0))","v":""},{"$f":"IF('Beacon (Desc)'!J116=\"\",\"\",'Beacon (Desc)'!J116)","v":""}]
[{"$f":"IF('Beacon (Desc)'!A117=\"\",\"\",'Beacon (Desc)'!A117)","v":""},{"$f":"IF('Beacon (Desc)'!B117=\"\",\"\",\"1987\")","v":""},{"$f":"IF('Beacon (Desc)'!B117=\"\",\"\",'Beacon (Desc)'!B117)","v":""},{"$f":"IF('Beacon (Desc)'!C117=\"\",\"\",'Beacon (Desc)'!C117)","v":""},{"$f":"IF('Beacon (Desc)'!D117=\"\",\"\",'Beacon (Desc)'!D117)","v":""},{"$f":"IF('Beacon (Desc)'!E117=\"\",\"\",INDEX([1]BEACON_TYPE!$A$2:$A$20,MATCH('Beacon (Desc)'!$E117,[1]!MASTER_BEACON_TYPE_DESC[#Data],0),0))","v":""},{"$f":"IF('Beacon (Desc)'!F117=\"\",\"\",IF('Beacon (Desc)'!F117=\"Unknown\",\"BCN001\",(INDEX([1]BEACON_MANUF_MODEL!$A$2:$D$1500,MATCH(1,([1]BEACON_MANUF_MODEL!$G$2:$G$1500=\"\")*([1]BEACON_MANUF_MODEL!$D$2:$D$1500='Beacon (Desc)'!$F117),0),2))))","v":""},{"$f":"IF('Beacon (Desc)'!F117=\"\",\"\",IF('Beacon (Desc)'!F117=\"Unknown\",\"BCNM001\",INDEX([1]BEACON_MANUF_MODEL!$A$2:$D$1500,MATCH(1,([1]BEACON_MANUF_MODEL!$G$2:$G$1500=\"\")*([1]BEACON_MANUF_MODEL!$D$2:$D$1500='Beacon (Desc)'!$F117),0),1)))","v":""},{"$f":"IF('Beacon (Desc)'!H117=\"\",\"\",INDEX([1]BEACON_COLOR!$A$2:$A$20,MATCH('Beacon (Desc)'!$H117,[1]!MASTER_BEACON_COLOR_DESC[#Data],0),0))","v":""},{"$f":"IF('Beacon (Desc)'!I117=\"\",\"\",INDEX([1]BEACON_SIZE!$A$2:$A$20,MATCH('Beacon (Desc)'!$I117,[1]!MASTER_BEACON_SIZE_DESC[#Data],0),0))","v":""},{"$f":"IF('Beacon (Desc)'!J117=\"\",\"\",'Beacon (Desc)'!J117)","v":""}]
[{"$f":"IF('Beacon (Desc)'!A118=\"\",\"\",'Beacon (Desc)'!A118)","v":""},{"$f":"IF('Beacon (Desc)'!B118=\"\",\"\",\"1987\")","v":""},{"$f":"IF('Beacon (Desc)'!B118=\"\",\"\",'Beacon (Desc)'!B118)","v":""},{"$f":"IF('Beacon (Desc)'!C118=\"\",\"\",'Beacon (Desc)'!C118)","v":""},{"$f":"IF('Beacon (Desc)'!D118=\"\",\"\",'Beacon (Desc)'!D118)","v":""},{"$f":"IF('Beacon (Desc)'!E118=\"\",\"\",INDEX([1]BEACON_TYPE!$A$2:$A$20,MATCH('Beacon (Desc)'!$E118,[1]!MASTER_BEACON_TYPE_DESC[#Data],0),0))","v":""},{"$f":"IF('Beacon (Desc)'!F118=\"\",\"\",IF('Beacon (Desc)'!F118=\"Unknown\",\"BCN001\",(INDEX([1]BEACON_MANUF_MODEL!$A$2:$D$1500,MATCH(1,([1]BEACON_MANUF_MODEL!$G$2:$G$1500=\"\")*([1]BEACON_MANUF_MODEL!$D$2:$D$1500='Beacon (Desc)'!$F118),0),2))))","v":""},{"$f":"IF('Beacon (Desc)'!F118=\"\",\"\",IF('Beacon (Desc)'!F118=\"Unknown\",\"BCNM001\",INDEX([1]BEACON_MANUF_MODEL!$A$2:$D$1500,MATCH(1,([1]BEACON_MANUF_MODEL!$G$2:$G$1500=\"\")*([1]BEACON_MANUF_MODEL!$D$2:$D$1500='Beacon (Desc)'!$F118),0),1)))","v":""},{"$f":"IF('Beacon (Desc)'!H118=\"\",\"\",INDEX([1]BEACON_COLOR!$A$2:$A$20,MATCH('Beacon (Desc)'!$H118,[1]!MASTER_BEACON_COLOR_DESC[#Data],0),0))","v":""},{"$f":"IF('Beacon (Desc)'!I118=\"\",\"\",INDEX([1]BEACON_SIZE!$A$2:$A$20,MATCH('Beacon (Desc)'!$I118,[1]!MASTER_BEACON_SIZE_DESC[#Data],0),0))","v":""},{"$f":"IF('Beacon (Desc)'!J118=\"\",\"\",'Beacon (Desc)'!J118)","v":""}]
[{"$f":"IF('Beacon (Desc)'!A119=\"\",\"\",'Beacon (Desc)'!A119)","v":""},{"$f":"IF('Beacon (Desc)'!B119=\"\",\"\",\"1987\")","v":""},{"$f":"IF('Beacon (Desc)'!B119=\"\",\"\",'Beacon (Desc)'!B119)","v":""},{"$f":"IF('Beacon (Desc)'!C119=\"\",\"\",'Beacon (Desc)'!C119)","v":""},{"$f":"IF('Beacon (Desc)'!D119=\"\",\"\",'Beacon (Desc)'!D119)","v":""},{"$f":"IF('Beacon (Desc)'!E119=\"\",\"\",INDEX([1]BEACON_TYPE!$A$2:$A$20,MATCH('Beacon (Desc)'!$E119,[1]!MASTER_BEACON_TYPE_DESC[#Data],0),0))","v":""},{"$f":"IF('Beacon (Desc)'!F119=\"\",\"\",IF('Beacon (Desc)'!F119=\"Unknown\",\"BCN001\",(INDEX([1]BEACON_MANUF_MODEL!$A$2:$D$1500,MATCH(1,([1]BEACON_MANUF_MODEL!$G$2:$G$1500=\"\")*([1]BEACON_MANUF_MODEL!$D$2:$D$1500='Beacon (Desc)'!$F119),0),2))))","v":""},{"$f":"IF('Beacon (Desc)'!F119=\"\",\"\",IF('Beacon (Desc)'!F119=\"Unknown\",\"BCNM001\",INDEX([1]BEACON_MANUF_MODEL!$A$2:$D$1500,MATCH(1,([1]BEACON_MANUF_MODEL!$G$2:$G$1500=\"\")*([1]BEACON_MANUF_MODEL!$D$2:$D$1500='Beacon (Desc)'!$F119),0),1)))","v":""},{"$f":"IF('Beacon (Desc)'!H119=\"\",\"\",INDEX([1]BEACON_COLOR!$A$2:$A$20,MATCH('Beacon (Desc)'!$H119,[1]!MASTER_BEACON_COLOR_DESC[#Data],0),0))","v":""},{"$f":"IF('Beacon (Desc)'!I119=\"\",\"\",INDEX([1]BEACON_SIZE!$A$2:$A$20,MATCH('Beacon (Desc)'!$I119,[1]!MASTER_BEACON_SIZE_DESC[#Data],0),0))","v":""},{"$f":"IF('Beacon (Desc)'!J119=\"\",\"\",'Beacon (Desc)'!J119)","v":""}]
[{"$f":"IF('Beacon (Desc)'!A120=\"\",\"\",'Beacon (Desc)'!A120)","v":""},{"$f":"IF('Beacon (Desc)'!B120=\"\",\"\",\"1987\")","v":""},{"$f":"IF('Beacon (Desc)'!B120=\"\",\"\",'Beacon (Desc)'!B120)","v":""},{"$f":"IF('Beacon (Desc)'!C120=\"\",\"\",'Beacon (Desc)'!C120)","v":""},{"$f":"IF('Beacon (Desc)'!D120=\"\",\"\",'Beacon (Desc)'!D120)","v":""},{"$f":"IF('Beacon (Desc)'!E120=\"\",\"\",INDEX([1]BEACON_TYPE!$A$2:$A$20,MATCH('Beacon (Desc)'!$E120,[1]!MASTER_BEACON_TYPE_DESC[#Data],0),0))","v":""},{"$f":"IF('Beacon (Desc)'!F120=\"\",\"\",IF('Beacon (Desc)'!F120=\"Unknown\",\"BCN001\",(INDEX([1]BEACON_MANUF_MODEL!$A$2:$D$1500,MATCH(1,([1]BEACON_MANUF_MODEL!$G$2:$G$1500=\"\")*([1]BEACON_MANUF_MODEL!$D$2:$D$1500='Beacon (Desc)'!$F120),0),2))))","v":""},{"$f":"IF('Beacon (Desc)'!F120=\"\",\"\",IF('Beacon (Desc)'!F120=\"Unknown\",\"BCNM001\",INDEX([1]BEACON_MANUF_MODEL!$A$2:$D$1500,MATCH(1,([1]BEACON_MANUF_MODEL!$G$2:$G$1500=\"\")*([1]BEACON_MANUF_MODEL!$D$2:$D$1500='Beacon (Desc)'!$F120),0),1)))","v":""},{"$f":"IF('Beacon (Desc)'!H120=\"\",\"\",INDEX([1]BEACON_COLOR!$A$2:$A$20,MATCH('Beacon (Desc)'!$H120,[1]!MASTER_BEACON_COLOR_DESC[#Data],0),0))","v":""},{"$f":"IF('Beacon (Desc)'!I120=\"\",\"\",INDEX([1]BEACON_SIZE!$A$2:$A$20,MATCH('Beacon (Desc)'!$I120,[1]!MASTER_BEACON_SIZE_DESC[#Data],0),0))","v":""},{"$f":"IF('Beacon (Desc)'!J120=\"\",\"\",'Beacon (Desc)'!J120)","v":""}]
[{"$f":"IF('Beacon (Desc)'!A121=\"\",\"\",'Beacon (Desc)'!A121)","v":""},{"$f":"IF('Beacon (Desc)'!B121=\"\",\"\",\"1987\")","v":""},{"$f":"IF('Beacon (Desc)'!B121=\"\",\"\",'Beacon (Desc)'!B121)","v":""},{"$f":"IF('Beacon (Desc)'!C121=\"\",\"\",'Beacon (Desc)'!C121)","v":""},{"$f":"IF('Beacon (Desc)'!D121=\"\",\"\",'Beacon (Desc)'!D121)","v":""},{"$f":"IF('Beacon (Desc)'!E121=\"\",\"\",INDEX([1]BEACON_TYPE!$A$2:$A$20,MATCH('Beacon (Desc)'!$E121,[1]!MASTER_BEACON_TYPE_DESC[#Data],0),0))","v":""},{"$f":"IF('Beacon (Desc)'!F121=\"\",\"\",IF('Beacon (Desc)'!F121=\"Unknown\",\"BCN001\",(INDEX([1]BEACON_MANUF_MODEL!$A$2:$D$1500,MATCH(1,([1]BEACON_MANUF_MODEL!$G$2:$G$1500=\"\")*([1]BEACON_MANUF_MODEL!$D$2:$D$1500='Beacon (Desc)'!$F121),0),2))))","v":""},{"$f":"IF('Beacon (Desc)'!F121=\"\",\"\",IF('Beacon (Desc)'!F121=\"Unknown\",\"BCNM001\",INDEX([1]BEACON_MANUF_MODEL!$A$2:$D$1500,MATCH(1,([1]BEACON_MANUF_MODEL!$G$2:$G$1500=\"\")*([1]BEACON_MANUF_MODEL!$D$2:$D$1500='Beacon (Desc)'!$F121),0),1)))","v":""},{"$f":"IF('Beacon (Desc)'!H121=\"\",\"\",INDEX([1]BEACON_COLOR!$A$2:$A$20,MATCH('Beacon (Desc)'!$H121,[1]!MASTER_BEACON_COLOR_DESC[#Data],0),0))","v":""},{"$f":"IF('Beacon (Desc)'!I121=\"\",\"\",INDEX([1]BEACON_SIZE!$A$2:$A$20,MATCH('Beacon (Desc)'!$I121,[1]!MASTER_BEACON_SIZE_DESC[#Data],0),0))","v":""},{"$f":"IF('Beacon (Desc)'!J121=\"\",\"\",'Beacon (Desc)'!J121)","v":""}]
[{"$f":"IF('Beacon (Desc)'!A122=\"\",\"\",'Beacon (Desc)'!A122)","v":""},{"$f":"IF('Beacon (Desc)'!B122=\"\",\"\",\"1987\")","v":""},{"$f":"IF('Beacon (Desc)'!B122=\"\",\"\",'Beacon (Desc)'!B122)","v":""},{"$f":"IF('Beacon (Desc)'!C122=\"\",\"\",'Beacon (Desc)'!C122)","v":""},{"$f":"IF('Beacon (Desc)'!D122=\"\",\"\",'Beacon (Desc)'!D122)","v":""},{"$f":"IF('Beacon (Desc)'!E122=\"\",\"\",INDEX([1]BEACON_TYPE!$A$2:$A$20,MATCH('Beacon (Desc)'!$E122,[1]!MASTER_BEACON_TYPE_DESC[#Data],0),0))","v":""},{"$f":"IF('Beacon (Desc)'!F122=\"\",\"\",IF('Beacon (Desc)'!F122=\"Unknown\",\"BCN001\",(INDEX([1]BEACON_MANUF_MODEL!$A$2:$D$1500,MATCH(1,([1]BEACON_MANUF_MODEL!$G$2:$G$1500=\"\")*([1]BEACON_MANUF_MODEL!$D$2:$D$1500='Beacon (Desc)'!$F122),0),2))))","v":""},{"$f":"IF('Beacon (Desc)'!F122=\"\",\"\",IF('Beacon (Desc)'!F122=\"Unknown\",\"BCNM001\",INDEX([1]BEACON_MANUF_MODEL!$A$2:$D$1500,MATCH(1,([1]BEACON_MANUF_MODEL!$G$2:$G$1500=\"\")*([1]BEACON_MANUF_MODEL!$D$2:$D$1500='Beacon (Desc)'!$F122),0),1)))","v":""},{"$f":"IF('Beacon (Desc)'!H122=\"\",\"\",INDEX([1]BEACON_COLOR!$A$2:$A$20,MATCH('Beacon (Desc)'!$H122,[1]!MASTER_BEACON_COLOR_DESC[#Data],0),0))","v":""},{"$f":"IF('Beacon (Desc)'!I122=\"\",\"\",INDEX([1]BEACON_SIZE!$A$2:$A$20,MATCH('Beacon (Desc)'!$I122,[1]!MASTER_BEACON_SIZE_DESC[#Data],0),0))","v":""},{"$f":"IF('Beacon (Desc)'!J122=\"\",\"\",'Beacon (Desc)'!J122)","v":""}]
[{"$f":"IF('Beacon (Desc)'!A123=\"\",\"\",'Beacon (Desc)'!A123)","v":""},{"$f":"IF('Beacon (Desc)'!B123=\"\",\"\",\"1987\")","v":""},{"$f":"IF('Beacon (Desc)'!B123=\"\",\"\",'Beacon (Desc)'!B123)","v":""},{"$f":"IF('Beacon (Desc)'!C123=\"\",\"\",'Beacon (Desc)'!C123)","v":""},{"$f":"IF('Beacon (Desc)'!D123=\"\",\"\",'Beacon (Desc)'!D123)","v":""},{"$f":"IF('Beacon (Desc)'!E123=\"\",\"\",INDEX([1]BEACON_TYPE!$A$2:$A$20,MATCH('Beacon (Desc)'!$E123,[1]!MASTER_BEACON_TYPE_DESC[#Data],0),0))","v":""},{"$f":"IF('Beacon (Desc)'!F123=\"\",\"\",IF('Beacon (Desc)'!F123=\"Unknown\",\"BCN001\",(INDEX([1]BEACON_MANUF_MODEL!$A$2:$D$1500,MATCH(1,([1]BEACON_MANUF_MODEL!$G$2:$G$1500=\"\")*([1]BEACON_MANUF_MODEL!$D$2:$D$1500='Beacon (Desc)'!$F123),0),2))))","v":""},{"$f":"IF('Beacon (Desc)'!F123=\"\",\"\",IF('Beacon (Desc)'!F123=\"Unknown\",\"BCNM001\",INDEX([1]BEACON_MANUF_MODEL!$A$2:$D$1500,MATCH(1,([1]BEACON_MANUF_MODEL!$G$2:$G$1500=\"\")*([1]BEACON_MANUF_MODEL!$D$2:$D$1500='Beacon (Desc)'!$F123),0),1)))","v":""},{"$f":"IF('Beacon (Desc)'!H123=\"\",\"\",INDEX([1]BEACON_COLOR!$A$2:$A$20,MATCH('Beacon (Desc)'!$H123,[1]!MASTER_BEACON_COLOR_DESC[#Data],0),0))","v":""},{"$f":"IF('Beacon (Desc)'!I123=\"\",\"\",INDEX([1]BEACON_SIZE!$A$2:$A$20,MATCH('Beacon (Desc)'!$I123,[1]!MASTER_BEACON_SIZE_DESC[#Data],0),0))","v":""},{"$f":"IF('Beacon (Desc)'!J123=\"\",\"\",'Beacon (Desc)'!J123)","v":""}]
[{"$f":"IF('Beacon (Desc)'!A124=\"\",\"\",'Beacon (Desc)'!A124)","v":""},{"$f":"IF('Beacon (Desc)'!B124=\"\",\"\",\"1987\")","v":""},{"$f":"IF('Beacon (Desc)'!B124=\"\",\"\",'Beacon (Desc)'!B124)","v":""},{"$f":"IF('Beacon (Desc)'!C124=\"\",\"\",'Beacon (Desc)'!C124)","v":""},{"$f":"IF('Beacon (Desc)'!D124=\"\",\"\",'Beacon (Desc)'!D124)","v":""},{"$f":"IF('Beacon (Desc)'!E124=\"\",\"\",INDEX([1]BEACON_TYPE!$A$2:$A$20,MATCH('Beacon (Desc)'!$E124,[1]!MASTER_BEACON_TYPE_DESC[#Data],0),0))","v":""},{"$f":"IF('Beacon (Desc)'!F124=\"\",\"\",IF('Beacon (Desc)'!F124=\"Unknown\",\"BCN001\",(INDEX([1]BEACON_MANUF_MODEL!$A$2:$D$1500,MATCH(1,([1]BEACON_MANUF_MODEL!$G$2:$G$1500=\"\")*([1]BEACON_MANUF_MODEL!$D$2:$D$1500='Beacon (Desc)'!$F124),0),2))))","v":""},{"$f":"IF('Beacon (Desc)'!F124=\"\",\"\",IF('Beacon (Desc)'!F124=\"Unknown\",\"BCNM001\",INDEX([1]BEACON_MANUF_MODEL!$A$2:$D$1500,MATCH(1,([1]BEACON_MANUF_MODEL!$G$2:$G$1500=\"\")*([1]BEACON_MANUF_MODEL!$D$2:$D$1500='Beacon (Desc)'!$F124),0),1)))","v":""},{"$f":"IF('Beacon (Desc)'!H124=\"\",\"\",INDEX([1]BEACON_COLOR!$A$2:$A$20,MATCH('Beacon (Desc)'!$H124,[1]!MASTER_BEACON_COLOR_DESC[#Data],0),0))","v":""},{"$f":"IF('Beacon (Desc)'!I124=\"\",\"\",INDEX([1]BEACON_SIZE!$A$2:$A$20,MATCH('Beacon (Desc)'!$I124,[1]!MASTER_BEACON_SIZE_DESC[#Data],0),0))","v":""},{"$f":"IF('Beacon (Desc)'!J124=\"\",\"\",'Beacon (Desc)'!J124)","v":""}]
[{"$f":"IF('Beacon (Desc)'!A125=\"\",\"\",'Beacon (Desc)'!A125)","v":""},{"$f":"IF('Beacon (Desc)'!B125=\"\",\"\",\"1987\")","v":""},{"$f":"IF('Beacon (Desc)'!B125=\"\",\"\",'Beacon (Desc)'!B125)","v":""},{"$f":"IF('Beacon (Desc)'!C125=\"\",\"\",'Beacon (Desc)'!C125)","v":""},{"$f":"IF('Beacon (Desc)'!D125=\"\",\"\",'Beacon (Desc)'!D125)","v":""},{"$f":"IF('Beacon (Desc)'!E125=\"\",\"\",INDEX([1]BEACON_TYPE!$A$2:$A$20,MATCH('Beacon (Desc)'!$E125,[1]!MASTER_BEACON_TYPE_DESC[#Data],0),0))","v":""},{"$f":"IF('Beacon (Desc)'!F125=\"\",\"\",IF('Beacon (Desc)'!F125=\"Unknown\",\"BCN001\",(INDEX([1]BEACON_MANUF_MODEL!$A$2:$D$1500,MATCH(1,([1]BEACON_MANUF_MODEL!$G$2:$G$1500=\"\")*([1]BEACON_MANUF_MODEL!$D$2:$D$1500='Beacon (Desc)'!$F125),0),2))))","v":""},{"$f":"IF('Beacon (Desc)'!F125=\"\",\"\",IF('Beacon (Desc)'!F125=\"Unknown\",\"BCNM001\",INDEX([1]BEACON_MANUF_MODEL!$A$2:$D$1500,MATCH(1,([1]BEACON_MANUF_MODEL!$G$2:$G$1500=\"\")*([1]BEACON_MANUF_MODEL!$D$2:$D$1500='Beacon (Desc)'!$F125),0),1)))","v":""},{"$f":"IF('Beacon (Desc)'!H125=\"\",\"\",INDEX([1]BEACON_COLOR!$A$2:$A$20,MATCH('Beacon (Desc)'!$H125,[1]!MASTER_BEACON_COLOR_DESC[#Data],0),0))","v":""},{"$f":"IF('Beacon (Desc)'!I125=\"\",\"\",INDEX([1]BEACON_SIZE!$A$2:$A$20,MATCH('Beacon (Desc)'!$I125,[1]!MASTER_BEACON_SIZE_DESC[#Data],0),0))","v":""},{"$f":"IF('Beacon (Desc)'!J125=\"\",\"\",'Beacon (Desc)'!J125)","v":""}]
[{"$f":"IF('Beacon (Desc)'!A126=\"\",\"\",'Beacon (Desc)'!A126)","v":""},{"$f":"IF('Beacon (Desc)'!B126=\"\",\"\",\"1987\")","v":""},{"$f":"IF('Beacon (Desc)'!B126=\"\",\"\",'Beacon (Desc)'!B126)","v":""},{"$f":"IF('Beacon (Desc)'!C126=\"\",\"\",'Beacon (Desc)'!C126)","v":""},{"$f":"IF('Beacon (Desc)'!D126=\"\",\"\",'Beacon (Desc)'!D126)","v":""},{"$f":"IF('Beacon (Desc)'!E126=\"\",\"\",INDEX([1]BEACON_TYPE!$A$2:$A$20,MATCH('Beacon (Desc)'!$E126,[1]!MASTER_BEACON_TYPE_DESC[#Data],0),0))","v":""},{"$f":"IF('Beacon (Desc)'!F126=\"\",\"\",IF('Beacon (Desc)'!F126=\"Unknown\",\"BCN001\",(INDEX([1]BEACON_MANUF_MODEL!$A$2:$D$1500,MATCH(1,([1]BEACON_MANUF_MODEL!$G$2:$G$1500=\"\")*([1]BEACON_MANUF_MODEL!$D$2:$D$1500='Beacon (Desc)'!$F126),0),2))))","v":""},{"$f":"IF('Beacon (Desc)'!F126=\"\",\"\",IF('Beacon (Desc)'!F126=\"Unknown\",\"BCNM001\",INDEX([1]BEACON_MANUF_MODEL!$A$2:$D$1500,MATCH(1,([1]BEACON_MANUF_MODEL!$G$2:$G$1500=\"\")*([1]BEACON_MANUF_MODEL!$D$2:$D$1500='Beacon (Desc)'!$F126),0),1)))","v":""},{"$f":"IF('Beacon (Desc)'!H126=\"\",\"\",INDEX([1]BEACON_COLOR!$A$2:$A$20,MATCH('Beacon (Desc)'!$H126,[1]!MASTER_BEACON_COLOR_DESC[#Data],0),0))","v":""},{"$f":"IF('Beacon (Desc)'!I126=\"\",\"\",INDEX([1]BEACON_SIZE!$A$2:$A$20,MATCH('Beacon (Desc)'!$I126,[1]!MASTER_BEACON_SIZE_DESC[#Data],0),0))","v":""},{"$f":"IF('Beacon (Desc)'!J126=\"\",\"\",'Beacon (Desc)'!J126)","v":""}]
[{"$f":"IF('Beacon (Desc)'!A127=\"\",\"\",'Beacon (Desc)'!A127)","v":""},{"$f":"IF('Beacon (Desc)'!B127=\"\",\"\",\"1987\")","v":""},{"$f":"IF('Beacon (Desc)'!B127=\"\",\"\",'Beacon (Desc)'!B127)","v":""},{"$f":"IF('Beacon (Desc)'!C127=\"\",\"\",'Beacon (Desc)'!C127)","v":""},{"$f":"IF('Beacon (Desc)'!D127=\"\",\"\",'Beacon (Desc)'!D127)","v":""},{"$f":"IF('Beacon (Desc)'!E127=\"\",\"\",INDEX([1]BEACON_TYPE!$A$2:$A$20,MATCH('Beacon (Desc)'!$E127,[1]!MASTER_BEACON_TYPE_DESC[#Data],0),0))","v":""},{"$f":"IF('Beacon (Desc)'!F127=\"\",\"\",IF('Beacon (Desc)'!F127=\"Unknown\",\"BCN001\",(INDEX([1]BEACON_MANUF_MODEL!$A$2:$D$1500,MATCH(1,([1]BEACON_MANUF_MODEL!$G$2:$G$1500=\"\")*([1]BEACON_MANUF_MODEL!$D$2:$D$1500='Beacon (Desc)'!$F127),0),2))))","v":""},{"$f":"IF('Beacon (Desc)'!F127=\"\",\"\",IF('Beacon (Desc)'!F127=\"Unknown\",\"BCNM001\",INDEX([1]BEACON_MANUF_MODEL!$A$2:$D$1500,MATCH(1,([1]BEACON_MANUF_MODEL!$G$2:$G$1500=\"\")*([1]BEACON_MANUF_MODEL!$D$2:$D$1500='Beacon (Desc)'!$F127),0),1)))","v":""},{"$f":"IF('Beacon (Desc)'!H127=\"\",\"\",INDEX([1]BEACON_COLOR!$A$2:$A$20,MATCH('Beacon (Desc)'!$H127,[1]!MASTER_BEACON_COLOR_DESC[#Data],0),0))","v":""},{"$f":"IF('Beacon (Desc)'!I127=\"\",\"\",INDEX([1]BEACON_SIZE!$A$2:$A$20,MATCH('Beacon (Desc)'!$I127,[1]!MASTER_BEACON_SIZE_DESC[#Data],0),0))","v":""},{"$f":"IF('Beacon (Desc)'!J127=\"\",\"\",'Beacon (Desc)'!J127)","v":""}]
[{"$f":"IF('Beacon (Desc)'!A128=\"\",\"\",'Beacon (Desc)'!A128)","v":""},{"$f":"IF('Beacon (Desc)'!B128=\"\",\"\",\"1987\")","v":""},{"$f":"IF('Beacon (Desc)'!B128=\"\",\"\",'Beacon (Desc)'!B128)","v":""},{"$f":"IF('Beacon (Desc)'!C128=\"\",\"\",'Beacon (Desc)'!C128)","v":""},{"$f":"IF('Beacon (Desc)'!D128=\"\",\"\",'Beacon (Desc)'!D128)","v":""},{"$f":"IF('Beacon (Desc)'!E128=\"\",\"\",INDEX([1]BEACON_TYPE!$A$2:$A$20,MATCH('Beacon (Desc)'!$E128,[1]!MASTER_BEACON_TYPE_DESC[#Data],0),0))","v":""},{"$f":"IF('Beacon (Desc)'!F128=\"\",\"\",IF('Beacon (Desc)'!F128=\"Unknown\",\"BCN001\",(INDEX([1]BEACON_MANUF_MODEL!$A$2:$D$1500,MATCH(1,([1]BEACON_MANUF_MODEL!$G$2:$G$1500=\"\")*([1]BEACON_MANUF_MODEL!$D$2:$D$1500='Beacon (Desc)'!$F128),0),2))))","v":""},{"$f":"IF('Beacon (Desc)'!F128=\"\",\"\",IF('Beacon (Desc)'!F128=\"Unknown\",\"BCNM001\",INDEX([1]BEACON_MANUF_MODEL!$A$2:$D$1500,MATCH(1,([1]BEACON_MANUF_MODEL!$G$2:$G$1500=\"\")*([1]BEACON_MANUF_MODEL!$D$2:$D$1500='Beacon (Desc)'!$F128),0),1)))","v":""},{"$f":"IF('Beacon (Desc)'!H128=\"\",\"\",INDEX([1]BEACON_COLOR!$A$2:$A$20,MATCH('Beacon (Desc)'!$H128,[1]!MASTER_BEACON_COLOR_DESC[#Data],0),0))","v":""},{"$f":"IF('Beacon (Desc)'!I128=\"\",\"\",INDEX([1]BEACON_SIZE!$A$2:$A$20,MATCH('Beacon (Desc)'!$I128,[1]!MASTER_BEACON_SIZE_DESC[#Data],0),0))","v":""},{"$f":"IF('Beacon (Desc)'!J128=\"\",\"\",'Beacon (Desc)'!J128)","v":""}]
[{"$f":"IF('Beacon (Desc)'!A129=\"\",\"\",'Beacon (Desc)'!A129)","v":""},{"$f":"IF('Beacon (Desc)'!B129=\"\",\"\",\"1987\")","v":""},{"$f":"IF('Beacon (Desc)'!B129=\"\",\"\",'Beacon (Desc)'!B129)","v":""},{"$f":"IF('Beacon (Desc)'!C129=\"\",\"\",'Beacon (Desc)'!C129)","v":""},{"$f":"IF('Beacon (Desc)'!D129=\"\",\"\",'Beacon (Desc)'!D129)","v":""},{"$f":"IF('Beacon (Desc)'!E129=\"\",\"\",INDEX([1]BEACON_TYPE!$A$2:$A$20,MATCH('Beacon (Desc)'!$E129,[1]!MASTER_BEACON_TYPE_DESC[#Data],0),0))","v":""},{"$f":"IF('Beacon (Desc)'!F129=\"\",\"\",IF('Beacon (Desc)'!F129=\"Unknown\",\"BCN001\",(INDEX([1]BEACON_MANUF_MODEL!$A$2:$D$1500,MATCH(1,([1]BEACON_MANUF_MODEL!$G$2:$G$1500=\"\")*([1]BEACON_MANUF_MODEL!$D$2:$D$1500='Beacon (Desc)'!$F129),0),2))))","v":""},{"$f":"IF('Beacon (Desc)'!F129=\"\",\"\",IF('Beacon (Desc)'!F129=\"Unknown\",\"BCNM001\",INDEX([1]BEACON_MANUF_MODEL!$A$2:$D$1500,MATCH(1,([1]BEACON_MANUF_MODEL!$G$2:$G$1500=\"\")*([1]BEACON_MANUF_MODEL!$D$2:$D$1500='Beacon (Desc)'!$F129),0),1)))","v":""},{"$f":"IF('Beacon (Desc)'!H129=\"\",\"\",INDEX([1]BEACON_COLOR!$A$2:$A$20,MATCH('Beacon (Desc)'!$H129,[1]!MASTER_BEACON_COLOR_DESC[#Data],0),0))","v":""},{"$f":"IF('Beacon (Desc)'!I129=\"\",\"\",INDEX([1]BEACON_SIZE!$A$2:$A$20,MATCH('Beacon (Desc)'!$I129,[1]!MASTER_BEACON_SIZE_DESC[#Data],0),0))","v":""},{"$f":"IF('Beacon (Desc)'!J129=\"\",\"\",'Beacon (Desc)'!J129)","v":""}]
[{"$f":"IF('Beacon (Desc)'!A130=\"\",\"\",'Beacon (Desc)'!A130)","v":""},{"$f":"IF('Beacon (Desc)'!B130=\"\",\"\",\"1987\")","v":""},{"$f":"IF('Beacon (Desc)'!B130=\"\",\"\",'Beacon (Desc)'!B130)","v":""},{"$f":"IF('Beacon (Desc)'!C130=\"\",\"\",'Beacon (Desc)'!C130)","v":""},{"$f":"IF('Beacon (Desc)'!D130=\"\",\"\",'Beacon (Desc)'!D130)","v":""},{"$f":"IF('Beacon (Desc)'!E130=\"\",\"\",INDEX([1]BEACON_TYPE!$A$2:$A$20,MATCH('Beacon (Desc)'!$E130,[1]!MASTER_BEACON_TYPE_DESC[#Data],0),0))","v":""},{"$f":"IF('Beacon (Desc)'!F130=\"\",\"\",IF('Beacon (Desc)'!F130=\"Unknown\",\"BCN001\",(INDEX([1]BEACON_MANUF_MODEL!$A$2:$D$1500,MATCH(1,([1]BEACON_MANUF_MODEL!$G$2:$G$1500=\"\")*([1]BEACON_MANUF_MODEL!$D$2:$D$1500='Beacon (Desc)'!$F130),0),2))))","v":""},{"$f":"IF('Beacon (Desc)'!F130=\"\",\"\",IF('Beacon (Desc)'!F130=\"Unknown\",\"BCNM001\",INDEX([1]BEACON_MANUF_MODEL!$A$2:$D$1500,MATCH(1,([1]BEACON_MANUF_MODEL!$G$2:$G$1500=\"\")*([1]BEACON_MANUF_MODEL!$D$2:$D$1500='Beacon (Desc)'!$F130),0),1)))","v":""},{"$f":"IF('Beacon (Desc)'!H130=\"\",\"\",INDEX([1]BEACON_COLOR!$A$2:$A$20,MATCH('Beacon (Desc)'!$H130,[1]!MASTER_BEACON_COLOR_DESC[#Data],0),0))","v":""},{"$f":"IF('Beacon (Desc)'!I130=\"\",\"\",INDEX([1]BEACON_SIZE!$A$2:$A$20,MATCH('Beacon (Desc)'!$I130,[1]!MASTER_BEACON_SIZE_DESC[#Data],0),0))","v":""},{"$f":"IF('Beacon (Desc)'!J130=\"\",\"\",'Beacon (Desc)'!J130)","v":""}]
[{"$f":"IF('Beacon (Desc)'!A131=\"\",\"\",'Beacon (Desc)'!A131)","v":""},{"$f":"IF('Beacon (Desc)'!B131=\"\",\"\",\"1987\")","v":""},{"$f":"IF('Beacon (Desc)'!B131=\"\",\"\",'Beacon (Desc)'!B131)","v":""},{"$f":"IF('Beacon (Desc)'!C131=\"\",\"\",'Beacon (Desc)'!C131)","v":""},{"$f":"IF('Beacon (Desc)'!D131=\"\",\"\",'Beacon (Desc)'!D131)","v":""},{"$f":"IF('Beacon (Desc)'!E131=\"\",\"\",INDEX([1]BEACON_TYPE!$A$2:$A$20,MATCH('Beacon (Desc)'!$E131,[1]!MASTER_BEACON_TYPE_DESC[#Data],0),0))","v":""},{"$f":"IF('Beacon (Desc)'!F131=\"\",\"\",IF('Beacon (Desc)'!F131=\"Unknown\",\"BCN001\",(INDEX([1]BEACON_MANUF_MODEL!$A$2:$D$1500,MATCH(1,([1]BEACON_MANUF_MODEL!$G$2:$G$1500=\"\")*([1]BEACON_MANUF_MODEL!$D$2:$D$1500='Beacon (Desc)'!$F131),0),2))))","v":""},{"$f":"IF('Beacon (Desc)'!F131=\"\",\"\",IF('Beacon (Desc)'!F131=\"Unknown\",\"BCNM001\",INDEX([1]BEACON_MANUF_MODEL!$A$2:$D$1500,MATCH(1,([1]BEACON_MANUF_MODEL!$G$2:$G$1500=\"\")*([1]BEACON_MANUF_MODEL!$D$2:$D$1500='Beacon (Desc)'!$F131),0),1)))","v":""},{"$f":"IF('Beacon (Desc)'!H131=\"\",\"\",INDEX([1]BEACON_COLOR!$A$2:$A$20,MATCH('Beacon (Desc)'!$H131,[1]!MASTER_BEACON_COLOR_DESC[#Data],0),0))","v":""},{"$f":"IF('Beacon (Desc)'!I131=\"\",\"\",INDEX([1]BEACON_SIZE!$A$2:$A$20,MATCH('Beacon (Desc)'!$I131,[1]!MASTER_BEACON_SIZE_DESC[#Data],0),0))","v":""},{"$f":"IF('Beacon (Desc)'!J131=\"\",\"\",'Beacon (Desc)'!J131)","v":""}]
[{"$f":"IF('Beacon (Desc)'!A132=\"\",\"\",'Beacon (Desc)'!A132)","v":""},{"$f":"IF('Beacon (Desc)'!B132=\"\",\"\",\"1987\")","v":""},{"$f":"IF('Beacon (Desc)'!B132=\"\",\"\",'Beacon (Desc)'!B132)","v":""},{"$f":"IF('Beacon (Desc)'!C132=\"\",\"\",'Beacon (Desc)'!C132)","v":""},{"$f":"IF('Beacon (Desc)'!D132=\"\",\"\",'Beacon (Desc)'!D132)","v":""},{"$f":"IF('Beacon (Desc)'!E132=\"\",\"\",INDEX([1]BEACON_TYPE!$A$2:$A$20,MATCH('Beacon (Desc)'!$E132,[1]!MASTER_BEACON_TYPE_DESC[#Data],0),0))","v":""},{"$f":"IF('Beacon (Desc)'!F132=\"\",\"\",IF('Beacon (Desc)'!F132=\"Unknown\",\"BCN001\",(INDEX([1]BEACON_MANUF_MODEL!$A$2:$D$1500,MATCH(1,([1]BEACON_MANUF_MODEL!$G$2:$G$1500=\"\")*([1]BEACON_MANUF_MODEL!$D$2:$D$1500='Beacon (Desc)'!$F132),0),2))))","v":""},{"$f":"IF('Beacon (Desc)'!F132=\"\",\"\",IF('Beacon (Desc)'!F132=\"Unknown\",\"BCNM001\",INDEX([1]BEACON_MANUF_MODEL!$A$2:$D$1500,MATCH(1,([1]BEACON_MANUF_MODEL!$G$2:$G$1500=\"\")*([1]BEACON_MANUF_MODEL!$D$2:$D$1500='Beacon (Desc)'!$F132),0),1)))","v":""},{"$f":"IF('Beacon (Desc)'!H132=\"\",\"\",INDEX([1]BEACON_COLOR!$A$2:$A$20,MATCH('Beacon (Desc)'!$H132,[1]!MASTER_BEACON_COLOR_DESC[#Data],0),0))","v":""},{"$f":"IF('Beacon (Desc)'!I132=\"\",\"\",INDEX([1]BEACON_SIZE!$A$2:$A$20,MATCH('Beacon (Desc)'!$I132,[1]!MASTER_BEACON_SIZE_DESC[#Data],0),0))","v":""},{"$f":"IF('Beacon (Desc)'!J132=\"\",\"\",'Beacon (Desc)'!J132)","v":""}]
[{"$f":"IF('Beacon (Desc)'!A133=\"\",\"\",'Beacon (Desc)'!A133)","v":""},{"$f":"IF('Beacon (Desc)'!B133=\"\",\"\",\"1987\")","v":""},{"$f":"IF('Beacon (Desc)'!B133=\"\",\"\",'Beacon (Desc)'!B133)","v":""},{"$f":"IF('Beacon (Desc)'!C133=\"\",\"\",'Beacon (Desc)'!C133)","v":""},{"$f":"IF('Beacon (Desc)'!D133=\"\",\"\",'Beacon (Desc)'!D133)","v":""},{"$f":"IF('Beacon (Desc)'!E133=\"\",\"\",INDEX([1]BEACON_TYPE!$A$2:$A$20,MATCH('Beacon (Desc)'!$E133,[1]!MASTER_BEACON_TYPE_DESC[#Data],0),0))","v":""},{"$f":"IF('Beacon (Desc)'!F133=\"\",\"\",IF('Beacon (Desc)'!F133=\"Unknown\",\"BCN001\",(INDEX([1]BEACON_MANUF_MODEL!$A$2:$D$1500,MATCH(1,([1]BEACON_MANUF_MODEL!$G$2:$G$1500=\"\")*([1]BEACON_MANUF_MODEL!$D$2:$D$1500='Beacon (Desc)'!$F133),0),2))))","v":""},{"$f":"IF('Beacon (Desc)'!F133=\"\",\"\",IF('Beacon (Desc)'!F133=\"Unknown\",\"BCNM001\",INDEX([1]BEACON_MANUF_MODEL!$A$2:$D$1500,MATCH(1,([1]BEACON_MANUF_MODEL!$G$2:$G$1500=\"\")*([1]BEACON_MANUF_MODEL!$D$2:$D$1500='Beacon (Desc)'!$F133),0),1)))","v":""},{"$f":"IF('Beacon (Desc)'!H133=\"\",\"\",INDEX([1]BEACON_COLOR!$A$2:$A$20,MATCH('Beacon (Desc)'!$H133,[1]!MASTER_BEACON_COLOR_DESC[#Data],0),0))","v":""},{"$f":"IF('Beacon (Desc)'!I133=\"\",\"\",INDEX([1]BEACON_SIZE!$A$2:$A$20,MATCH('Beacon (Desc)'!$I133,[1]!MASTER_BEACON_SIZE_DESC[#Data],0),0))","v":""},{"$f":"IF('Beacon (Desc)'!J133=\"\",\"\",'Beacon (Desc)'!J133)","v":""}]
[{"$f":"IF('Beacon (Desc)'!A134=\"\",\"\",'Beacon (Desc)'!A134)","v":""},{"$f":"IF('Beacon (Desc)'!B134=\"\",\"\",\"1987\")","v":""},{"$f":"IF('Beacon (Desc)'!B134=\"\",\"\",'Beacon (Desc)'!B134)","v":""},{"$f":"IF('Beacon (Desc)'!C134=\"\",\"\",'Beacon (Desc)'!C134)","v":""},{"$f":"IF('Beacon (Desc)'!D134=\"\",\"\",'Beacon (Desc)'!D134)","v":""},{"$f":"IF('Beacon (Desc)'!E134=\"\",\"\",INDEX([1]BEACON_TYPE!$A$2:$A$20,MATCH('Beacon (Desc)'!$E134,[1]!MASTER_BEACON_TYPE_DESC[#Data],0),0))","v":""},{"$f":"IF('Beacon (Desc)'!F134=\"\",\"\",IF('Beacon (Desc)'!F134=\"Unknown\",\"BCN001\",(INDEX([1]BEACON_MANUF_MODEL!$A$2:$D$1500,MATCH(1,([1]BEACON_MANUF_MODEL!$G$2:$G$1500=\"\")*([1]BEACON_MANUF_MODEL!$D$2:$D$1500='Beacon (Desc)'!$F134),0),2))))","v":""},{"$f":"IF('Beacon (Desc)'!F134=\"\",\"\",IF('Beacon (Desc)'!F134=\"Unknown\",\"BCNM001\",INDEX([1]BEACON_MANUF_MODEL!$A$2:$D$1500,MATCH(1,([1]BEACON_MANUF_MODEL!$G$2:$G$1500=\"\")*([1]BEACON_MANUF_MODEL!$D$2:$D$1500='Beacon (Desc)'!$F134),0),1)))","v":""},{"$f":"IF('Beacon (Desc)'!H134=\"\",\"\",INDEX([1]BEACON_COLOR!$A$2:$A$20,MATCH('Beacon (Desc)'!$H134,[1]!MASTER_BEACON_COLOR_DESC[#Data],0),0))","v":""},{"$f":"IF('Beacon (Desc)'!I134=\"\",\"\",INDEX([1]BEACON_SIZE!$A$2:$A$20,MATCH('Beacon (Desc)'!$I134,[1]!MASTER_BEACON_SIZE_DESC[#Data],0),0))","v":""},{"$f":"IF('Beacon (Desc)'!J134=\"\",\"\",'Beacon (Desc)'!J134)","v":""}]
[{"$f":"IF('Beacon (Desc)'!A135=\"\",\"\",'Beacon (Desc)'!A135)","v":""},{"$f":"IF('Beacon (Desc)'!B135=\"\",\"\",\"1987\")","v":""},{"$f":"IF('Beacon (Desc)'!B135=\"\",\"\",'Beacon (Desc)'!B135)","v":""},{"$f":"IF('Beacon (Desc)'!C135=\"\",\"\",'Beacon (Desc)'!C135)","v":""},{"$f":"IF('Beacon (Desc)'!D135=\"\",\"\",'Beacon (Desc)'!D135)","v":""},{"$f":"IF('Beacon (Desc)'!E135=\"\",\"\",INDEX([1]BEACON_TYPE!$A$2:$A$20,MATCH('Beacon (Desc)'!$E135,[1]!MASTER_BEACON_TYPE_DESC[#Data],0),0))","v":""},{"$f":"IF('Beacon (Desc)'!F135=\"\",\"\",IF('Beacon (Desc)'!F135=\"Unknown\",\"BCN001\",(INDEX([1]BEACON_MANUF_MODEL!$A$2:$D$1500,MATCH(1,([1]BEACON_MANUF_MODEL!$G$2:$G$1500=\"\")*([1]BEACON_MANUF_MODEL!$D$2:$D$1500='Beacon (Desc)'!$F135),0),2))))","v":""},{"$f":"IF('Beacon (Desc)'!F135=\"\",\"\",IF('Beacon (Desc)'!F135=\"Unknown\",\"BCNM001\",INDEX([1]BEACON_MANUF_MODEL!$A$2:$D$1500,MATCH(1,([1]BEACON_MANUF_MODEL!$G$2:$G$1500=\"\")*([1]BEACON_MANUF_MODEL!$D$2:$D$1500='Beacon (Desc)'!$F135),0),1)))","v":""},{"$f":"IF('Beacon (Desc)'!H135=\"\",\"\",INDEX([1]BEACON_COLOR!$A$2:$A$20,MATCH('Beacon (Desc)'!$H135,[1]!MASTER_BEACON_COLOR_DESC[#Data],0),0))","v":""},{"$f":"IF('Beacon (Desc)'!I135=\"\",\"\",INDEX([1]BEACON_SIZE!$A$2:$A$20,MATCH('Beacon (Desc)'!$I135,[1]!MASTER_BEACON_SIZE_DESC[#Data],0),0))","v":""},{"$f":"IF('Beacon (Desc)'!J135=\"\",\"\",'Beacon (Desc)'!J135)","v":""}]
[{"$f":"IF('Beacon (Desc)'!A136=\"\",\"\",'Beacon (Desc)'!A136)","v":""},{"$f":"IF('Beacon (Desc)'!B136=\"\",\"\",\"1987\")","v":""},{"$f":"IF('Beacon (Desc)'!B136=\"\",\"\",'Beacon (Desc)'!B136)","v":""},{"$f":"IF('Beacon (Desc)'!C136=\"\",\"\",'Beacon (Desc)'!C136)","v":""},{"$f":"IF('Beacon (Desc)'!D136=\"\",\"\",'Beacon (Desc)'!D136)","v":""},{"$f":"IF('Beacon (Desc)'!E136=\"\",\"\",INDEX([1]BEACON_TYPE!$A$2:$A$20,MATCH('Beacon (Desc)'!$E136,[1]!MASTER_BEACON_TYPE_DESC[#Data],0),0))","v":""},{"$f":"IF('Beacon (Desc)'!F136=\"\",\"\",IF('Beacon (Desc)'!F136=\"Unknown\",\"BCN001\",(INDEX([1]BEACON_MANUF_MODEL!$A$2:$D$1500,MATCH(1,([1]BEACON_MANUF_MODEL!$G$2:$G$1500=\"\")*([1]BEACON_MANUF_MODEL!$D$2:$D$1500='Beacon (Desc)'!$F136),0),2))))","v":""},{"$f":"IF('Beacon (Desc)'!F136=\"\",\"\",IF('Beacon (Desc)'!F136=\"Unknown\",\"BCNM001\",INDEX([1]BEACON_MANUF_MODEL!$A$2:$D$1500,MATCH(1,([1]BEACON_MANUF_MODEL!$G$2:$G$1500=\"\")*([1]BEACON_MANUF_MODEL!$D$2:$D$1500='Beacon (Desc)'!$F136),0),1)))","v":""},{"$f":"IF('Beacon (Desc)'!H136=\"\",\"\",INDEX([1]BEACON_COLOR!$A$2:$A$20,MATCH('Beacon (Desc)'!$H136,[1]!MASTER_BEACON_COLOR_DESC[#Data],0),0))","v":""},{"$f":"IF('Beacon (Desc)'!I136=\"\",\"\",INDEX([1]BEACON_SIZE!$A$2:$A$20,MATCH('Beacon (Desc)'!$I136,[1]!MASTER_BEACON_SIZE_DESC[#Data],0),0))","v":""},{"$f":"IF('Beacon (Desc)'!J136=\"\",\"\",'Beacon (Desc)'!J136)","v":""}]
[{"$f":"IF('Beacon (Desc)'!A137=\"\",\"\",'Beacon (Desc)'!A137)","v":""},{"$f":"IF('Beacon (Desc)'!B137=\"\",\"\",\"1987\")","v":""},{"$f":"IF('Beacon (Desc)'!B137=\"\",\"\",'Beacon (Desc)'!B137)","v":""},{"$f":"IF('Beacon (Desc)'!C137=\"\",\"\",'Beacon (Desc)'!C137)","v":""},{"$f":"IF('Beacon (Desc)'!D137=\"\",\"\",'Beacon (Desc)'!D137)","v":""},{"$f":"IF('Beacon (Desc)'!E137=\"\",\"\",INDEX([1]BEACON_TYPE!$A$2:$A$20,MATCH('Beacon (Desc)'!$E137,[1]!MASTER_BEACON_TYPE_DESC[#Data],0),0))","v":""},{"$f":"IF('Beacon (Desc)'!F137=\"\",\"\",IF('Beacon (Desc)'!F137=\"Unknown\",\"BCN001\",(INDEX([1]BEACON_MANUF_MODEL!$A$2:$D$1500,MATCH(1,([1]BEACON_MANUF_MODEL!$G$2:$G$1500=\"\")*([1]BEACON_MANUF_MODEL!$D$2:$D$1500='Beacon (Desc)'!$F137),0),2))))","v":""},{"$f":"IF('Beacon (Desc)'!F137=\"\",\"\",IF('Beacon (Desc)'!F137=\"Unknown\",\"BCNM001\",INDEX([1]BEACON_MANUF_MODEL!$A$2:$D$1500,MATCH(1,([1]BEACON_MANUF_MODEL!$G$2:$G$1500=\"\")*([1]BEACON_MANUF_MODEL!$D$2:$D$1500='Beacon (Desc)'!$F137),0),1)))","v":""},{"$f":"IF('Beacon (Desc)'!H137=\"\",\"\",INDEX([1]BEACON_COLOR!$A$2:$A$20,MATCH('Beacon (Desc)'!$H137,[1]!MASTER_BEACON_COLOR_DESC[#Data],0),0))","v":""},{"$f":"IF('Beacon (Desc)'!I137=\"\",\"\",INDEX([1]BEACON_SIZE!$A$2:$A$20,MATCH('Beacon (Desc)'!$I137,[1]!MASTER_BEACON_SIZE_DESC[#Data],0),0))","v":""},{"$f":"IF('Beacon (Desc)'!J137=\"\",\"\",'Beacon (Desc)'!J137)","v":""}]
[{"$f":"IF('Beacon (Desc)'!A138=\"\",\"\",'Beacon (Desc)'!A138)","v":""},{"$f":"IF('Beacon (Desc)'!B138=\"\",\"\",\"1987\")","v":""},{"$f":"IF('Beacon (Desc)'!B138=\"\",\"\",'Beacon (Desc)'!B138)","v":""},{"$f":"IF('Beacon (Desc)'!C138=\"\",\"\",'Beacon (Desc)'!C138)","v":""},{"$f":"IF('Beacon (Desc)'!D138=\"\",\"\",'Beacon (Desc)'!D138)","v":""},{"$f":"IF('Beacon (Desc)'!E138=\"\",\"\",INDEX([1]BEACON_TYPE!$A$2:$A$20,MATCH('Beacon (Desc)'!$E138,[1]!MASTER_BEACON_TYPE_DESC[#Data],0),0))","v":""},{"$f":"IF('Beacon (Desc)'!F138=\"\",\"\",IF('Beacon (Desc)'!F138=\"Unknown\",\"BCN001\",(INDEX([1]BEACON_MANUF_MODEL!$A$2:$D$1500,MATCH(1,([1]BEACON_MANUF_MODEL!$G$2:$G$1500=\"\")*([1]BEACON_MANUF_MODEL!$D$2:$D$1500='Beacon (Desc)'!$F138),0),2))))","v":""},{"$f":"IF('Beacon (Desc)'!F138=\"\",\"\",IF('Beacon (Desc)'!F138=\"Unknown\",\"BCNM001\",INDEX([1]BEACON_MANUF_MODEL!$A$2:$D$1500,MATCH(1,([1]BEACON_MANUF_MODEL!$G$2:$G$1500=\"\")*([1]BEACON_MANUF_MODEL!$D$2:$D$1500='Beacon (Desc)'!$F138),0),1)))","v":""},{"$f":"IF('Beacon (Desc)'!H138=\"\",\"\",INDEX([1]BEACON_COLOR!$A$2:$A$20,MATCH('Beacon (Desc)'!$H138,[1]!MASTER_BEACON_COLOR_DESC[#Data],0),0))","v":""},{"$f":"IF('Beacon (Desc)'!I138=\"\",\"\",INDEX([1]BEACON_SIZE!$A$2:$A$20,MATCH('Beacon (Desc)'!$I138,[1]!MASTER_BEACON_SIZE_DESC[#Data],0),0))","v":""},{"$f":"IF('Beacon (Desc)'!J138=\"\",\"\",'Beacon (Desc)'!J138)","v":""}]
[{"$f":"IF('Beacon (Desc)'!A139=\"\",\"\",'Beacon (Desc)'!A139)","v":""},{"$f":"IF('Beacon (Desc)'!B139=\"\",\"\",\"1987\")","v":""},{"$f":"IF('Beacon (Desc)'!B139=\"\",\"\",'Beacon (Desc)'!B139)","v":""},{"$f":"IF('Beacon (Desc)'!C139=\"\",\"\",'Beacon (Desc)'!C139)","v":""},{"$f":"IF('Beacon (Desc)'!D139=\"\",\"\",'Beacon (Desc)'!D139)","v":""},{"$f":"IF('Beacon (Desc)'!E139=\"\",\"\",INDEX([1]BEACON_TYPE!$A$2:$A$20,MATCH('Beacon (Desc)'!$E139,[1]!MASTER_BEACON_TYPE_DESC[#Data],0),0))","v":""},{"$f":"IF('Beacon (Desc)'!F139=\"\",\"\",IF('Beacon (Desc)'!F139=\"Unknown\",\"BCN001\",(INDEX([1]BEACON_MANUF_MODEL!$A$2:$D$1500,MATCH(1,([1]BEACON_MANUF_MODEL!$G$2:$G$1500=\"\")*([1]BEACON_MANUF_MODEL!$D$2:$D$1500='Beacon (Desc)'!$F139),0),2))))","v":""},{"$f":"IF('Beacon (Desc)'!F139=\"\",\"\",IF('Beacon (Desc)'!F139=\"Unknown\",\"BCNM001\",INDEX([1]BEACON_MANUF_MODEL!$A$2:$D$1500,MATCH(1,([1]BEACON_MANUF_MODEL!$G$2:$G$1500=\"\")*([1]BEACON_MANUF_MODEL!$D$2:$D$1500='Beacon (Desc)'!$F139),0),1)))","v":""},{"$f":"IF('Beacon (Desc)'!H139=\"\",\"\",INDEX([1]BEACON_COLOR!$A$2:$A$20,MATCH('Beacon (Desc)'!$H139,[1]!MASTER_BEACON_COLOR_DESC[#Data],0),0))","v":""},{"$f":"IF('Beacon (Desc)'!I139=\"\",\"\",INDEX([1]BEACON_SIZE!$A$2:$A$20,MATCH('Beacon (Desc)'!$I139,[1]!MASTER_BEACON_SIZE_DESC[#Data],0),0))","v":""},{"$f":"IF('Beacon (Desc)'!J139=\"\",\"\",'Beacon (Desc)'!J139)","v":""}]
[{"$f":"IF('Beacon (Desc)'!A140=\"\",\"\",'Beacon (Desc)'!A140)","v":""},{"$f":"IF('Beacon (Desc)'!B140=\"\",\"\",\"1987\")","v":""},{"$f":"IF('Beacon (Desc)'!B140=\"\",\"\",'Beacon (Desc)'!B140)","v":""},{"$f":"IF('Beacon (Desc)'!C140=\"\",\"\",'Beacon (Desc)'!C140)","v":""},{"$f":"IF('Beacon (Desc)'!D140=\"\",\"\",'Beacon (Desc)'!D140)","v":""},{"$f":"IF('Beacon (Desc)'!E140=\"\",\"\",INDEX([1]BEACON_TYPE!$A$2:$A$20,MATCH('Beacon (Desc)'!$E140,[1]!MASTER_BEACON_TYPE_DESC[#Data],0),0))","v":""},{"$f":"IF('Beacon (Desc)'!F140=\"\",\"\",IF('Beacon (Desc)'!F140=\"Unknown\",\"BCN001\",(INDEX([1]BEACON_MANUF_MODEL!$A$2:$D$1500,MATCH(1,([1]BEACON_MANUF_MODEL!$G$2:$G$1500=\"\")*([1]BEACON_MANUF_MODEL!$D$2:$D$1500='Beacon (Desc)'!$F140),0),2))))","v":""},{"$f":"IF('Beacon (Desc)'!F140=\"\",\"\",IF('Beacon (Desc)'!F140=\"Unknown\",\"BCNM001\",INDEX([1]BEACON_MANUF_MODEL!$A$2:$D$1500,MATCH(1,([1]BEACON_MANUF_MODEL!$G$2:$G$1500=\"\")*([1]BEACON_MANUF_MODEL!$D$2:$D$1500='Beacon (Desc)'!$F140),0),1)))","v":""},{"$f":"IF('Beacon (Desc)'!H140=\"\",\"\",INDEX([1]BEACON_COLOR!$A$2:$A$20,MATCH('Beacon (Desc)'!$H140,[1]!MASTER_BEACON_COLOR_DESC[#Data],0),0))","v":""},{"$f":"IF('Beacon (Desc)'!I140=\"\",\"\",INDEX([1]BEACON_SIZE!$A$2:$A$20,MATCH('Beacon (Desc)'!$I140,[1]!MASTER_BEACON_SIZE_DESC[#Data],0),0))","v":""},{"$f":"IF('Beacon (Desc)'!J140=\"\",\"\",'Beacon (Desc)'!J140)","v":""}]
[{"$f":"IF('Beacon (Desc)'!A141=\"\",\"\",'Beacon (Desc)'!A141)","v":""},{"$f":"IF('Beacon (Desc)'!B141=\"\",\"\",\"1987\")","v":""},{"$f":"IF('Beacon (Desc)'!B141=\"\",\"\",'Beacon (Desc)'!B141)","v":""},{"$f":"IF('Beacon (Desc)'!C141=\"\",\"\",'Beacon (Desc)'!C141)","v":""},{"$f":"IF('Beacon (Desc)'!D141=\"\",\"\",'Beacon (Desc)'!D141)","v":""},{"$f":"IF('Beacon (Desc)'!E141=\"\",\"\",INDEX([1]BEACON_TYPE!$A$2:$A$20,MATCH('Beacon (Desc)'!$E141,[1]!MASTER_BEACON_TYPE_DESC[#Data],0),0))","v":""},{"$f":"IF('Beacon (Desc)'!F141=\"\",\"\",IF('Beacon (Desc)'!F141=\"Unknown\",\"BCN001\",(INDEX([1]BEACON_MANUF_MODEL!$A$2:$D$1500,MATCH(1,([1]BEACON_MANUF_MODEL!$G$2:$G$1500=\"\")*([1]BEACON_MANUF_MODEL!$D$2:$D$1500='Beacon (Desc)'!$F141),0),2))))","v":""},{"$f":"IF('Beacon (Desc)'!F141=\"\",\"\",IF('Beacon (Desc)'!F141=\"Unknown\",\"BCNM001\",INDEX([1]BEACON_MANUF_MODEL!$A$2:$D$1500,MATCH(1,([1]BEACON_MANUF_MODEL!$G$2:$G$1500=\"\")*([1]BEACON_MANUF_MODEL!$D$2:$D$1500='Beacon (Desc)'!$F141),0),1)))","v":""},{"$f":"IF('Beacon (Desc)'!H141=\"\",\"\",INDEX([1]BEACON_COLOR!$A$2:$A$20,MATCH('Beacon (Desc)'!$H141,[1]!MASTER_BEACON_COLOR_DESC[#Data],0),0))","v":""},{"$f":"IF('Beacon (Desc)'!I141=\"\",\"\",INDEX([1]BEACON_SIZE!$A$2:$A$20,MATCH('Beacon (Desc)'!$I141,[1]!MASTER_BEACON_SIZE_DESC[#Data],0),0))","v":""},{"$f":"IF('Beacon (Desc)'!J141=\"\",\"\",'Beacon (Desc)'!J141)","v":""}]
[{"$f":"IF('Beacon (Desc)'!A142=\"\",\"\",'Beacon (Desc)'!A142)","v":""},{"$f":"IF('Beacon (Desc)'!B142=\"\",\"\",\"1987\")","v":""},{"$f":"IF('Beacon (Desc)'!B142=\"\",\"\",'Beacon (Desc)'!B142)","v":""},{"$f":"IF('Beacon (Desc)'!C142=\"\",\"\",'Beacon (Desc)'!C142)","v":""},{"$f":"IF('Beacon (Desc)'!D142=\"\",\"\",'Beacon (Desc)'!D142)","v":""},{"$f":"IF('Beacon (Desc)'!E142=\"\",\"\",INDEX([1]BEACON_TYPE!$A$2:$A$20,MATCH('Beacon (Desc)'!$E142,[1]!MASTER_BEACON_TYPE_DESC[#Data],0),0))","v":""},{"$f":"IF('Beacon (Desc)'!F142=\"\",\"\",IF('Beacon (Desc)'!F142=\"Unknown\",\"BCN001\",(INDEX([1]BEACON_MANUF_MODEL!$A$2:$D$1500,MATCH(1,([1]BEACON_MANUF_MODEL!$G$2:$G$1500=\"\")*([1]BEACON_MANUF_MODEL!$D$2:$D$1500='Beacon (Desc)'!$F142),0),2))))","v":""},{"$f":"IF('Beacon (Desc)'!F142=\"\",\"\",IF('Beacon (Desc)'!F142=\"Unknown\",\"BCNM001\",INDEX([1]BEACON_MANUF_MODEL!$A$2:$D$1500,MATCH(1,([1]BEACON_MANUF_MODEL!$G$2:$G$1500=\"\")*([1]BEACON_MANUF_MODEL!$D$2:$D$1500='Beacon (Desc)'!$F142),0),1)))","v":""},{"$f":"IF('Beacon (Desc)'!H142=\"\",\"\",INDEX([1]BEACON_COLOR!$A$2:$A$20,MATCH('Beacon (Desc)'!$H142,[1]!MASTER_BEACON_COLOR_DESC[#Data],0),0))","v":""},{"$f":"IF('Beacon (Desc)'!I142=\"\",\"\",INDEX([1]BEACON_SIZE!$A$2:$A$20,MATCH('Beacon (Desc)'!$I142,[1]!MASTER_BEACON_SIZE_DESC[#Data],0),0))","v":""},{"$f":"IF('Beacon (Desc)'!J142=\"\",\"\",'Beacon (Desc)'!J142)","v":""}]
[{"$f":"IF('Beacon (Desc)'!A143=\"\",\"\",'Beacon (Desc)'!A143)","v":""},{"$f":"IF('Beacon (Desc)'!B143=\"\",\"\",\"1987\")","v":""},{"$f":"IF('Beacon (Desc)'!B143=\"\",\"\",'Beacon (Desc)'!B143)","v":""},{"$f":"IF('Beacon (Desc)'!C143=\"\",\"\",'Beacon (Desc)'!C143)","v":""},{"$f":"IF('Beacon (Desc)'!D143=\"\",\"\",'Beacon (Desc)'!D143)","v":""},{"$f":"IF('Beacon (Desc)'!E143=\"\",\"\",INDEX([1]BEACON_TYPE!$A$2:$A$20,MATCH('Beacon (Desc)'!$E143,[1]!MASTER_BEACON_TYPE_DESC[#Data],0),0))","v":""},{"$f":"IF('Beacon (Desc)'!F143=\"\",\"\",IF('Beacon (Desc)'!F143=\"Unknown\",\"BCN001\",(INDEX([1]BEACON_MANUF_MODEL!$A$2:$D$1500,MATCH(1,([1]BEACON_MANUF_MODEL!$G$2:$G$1500=\"\")*([1]BEACON_MANUF_MODEL!$D$2:$D$1500='Beacon (Desc)'!$F143),0),2))))","v":""},{"$f":"IF('Beacon (Desc)'!F143=\"\",\"\",IF('Beacon (Desc)'!F143=\"Unknown\",\"BCNM001\",INDEX([1]BEACON_MANUF_MODEL!$A$2:$D$1500,MATCH(1,([1]BEACON_MANUF_MODEL!$G$2:$G$1500=\"\")*([1]BEACON_MANUF_MODEL!$D$2:$D$1500='Beacon (Desc)'!$F143),0),1)))","v":""},{"$f":"IF('Beacon (Desc)'!H143=\"\",\"\",INDEX([1]BEACON_COLOR!$A$2:$A$20,MATCH('Beacon (Desc)'!$H143,[1]!MASTER_BEACON_COLOR_DESC[#Data],0),0))","v":""},{"$f":"IF('Beacon (Desc)'!I143=\"\",\"\",INDEX([1]BEACON_SIZE!$A$2:$A$20,MATCH('Beacon (Desc)'!$I143,[1]!MASTER_BEACON_SIZE_DESC[#Data],0),0))","v":""},{"$f":"IF('Beacon (Desc)'!J143=\"\",\"\",'Beacon (Desc)'!J143)","v":""}]
[{"$f":"IF('Beacon (Desc)'!A144=\"\",\"\",'Beacon (Desc)'!A144)","v":""},{"$f":"IF('Beacon (Desc)'!B144=\"\",\"\",\"1987\")","v":""},{"$f":"IF('Beacon (Desc)'!B144=\"\",\"\",'Beacon (Desc)'!B144)","v":""},{"$f":"IF('Beacon (Desc)'!C144=\"\",\"\",'Beacon (Desc)'!C144)","v":""},{"$f":"IF('Beacon (Desc)'!D144=\"\",\"\",'Beacon (Desc)'!D144)","v":""},{"$f":"IF('Beacon (Desc)'!E144=\"\",\"\",INDEX([1]BEACON_TYPE!$A$2:$A$20,MATCH('Beacon (Desc)'!$E144,[1]!MASTER_BEACON_TYPE_DESC[#Data],0),0))","v":""},{"$f":"IF('Beacon (Desc)'!F144=\"\",\"\",IF('Beacon (Desc)'!F144=\"Unknown\",\"BCN001\",(INDEX([1]BEACON_MANUF_MODEL!$A$2:$D$1500,MATCH(1,([1]BEACON_MANUF_MODEL!$G$2:$G$1500=\"\")*([1]BEACON_MANUF_MODEL!$D$2:$D$1500='Beacon (Desc)'!$F144),0),2))))","v":""},{"$f":"IF('Beacon (Desc)'!F144=\"\",\"\",IF('Beacon (Desc)'!F144=\"Unknown\",\"BCNM001\",INDEX([1]BEACON_MANUF_MODEL!$A$2:$D$1500,MATCH(1,([1]BEACON_MANUF_MODEL!$G$2:$G$1500=\"\")*([1]BEACON_MANUF_MODEL!$D$2:$D$1500='Beacon (Desc)'!$F144),0),1)))","v":""},{"$f":"IF('Beacon (Desc)'!H144=\"\",\"\",INDEX([1]BEACON_COLOR!$A$2:$A$20,MATCH('Beacon (Desc)'!$H144,[1]!MASTER_BEACON_COLOR_DESC[#Data],0),0))","v":""},{"$f":"IF('Beacon (Desc)'!I144=\"\",\"\",INDEX([1]BEACON_SIZE!$A$2:$A$20,MATCH('Beacon (Desc)'!$I144,[1]!MASTER_BEACON_SIZE_DESC[#Data],0),0))","v":""},{"$f":"IF('Beacon (Desc)'!J144=\"\",\"\",'Beacon (Desc)'!J144)","v":""}]
[{"$f":"IF('Beacon (Desc)'!A145=\"\",\"\",'Beacon (Desc)'!A145)","v":""},{"$f":"IF('Beacon (Desc)'!B145=\"\",\"\",\"1987\")","v":""},{"$f":"IF('Beacon (Desc)'!B145=\"\",\"\",'Beacon (Desc)'!B145)","v":""},{"$f":"IF('Beacon (Desc)'!C145=\"\",\"\",'Beacon (Desc)'!C145)","v":""},{"$f":"IF('Beacon (Desc)'!D145=\"\",\"\",'Beacon (Desc)'!D145)","v":""},{"$f":"IF('Beacon (Desc)'!E145=\"\",\"\",INDEX([1]BEACON_TYPE!$A$2:$A$20,MATCH('Beacon (Desc)'!$E145,[1]!MASTER_BEACON_TYPE_DESC[#Data],0),0))","v":""},{"$f":"IF('Beacon (Desc)'!F145=\"\",\"\",IF('Beacon (Desc)'!F145=\"Unknown\",\"BCN001\",(INDEX([1]BEACON_MANUF_MODEL!$A$2:$D$1500,MATCH(1,([1]BEACON_MANUF_MODEL!$G$2:$G$1500=\"\")*([1]BEACON_MANUF_MODEL!$D$2:$D$1500='Beacon (Desc)'!$F145),0),2))))","v":""},{"$f":"IF('Beacon (Desc)'!F145=\"\",\"\",IF('Beacon (Desc)'!F145=\"Unknown\",\"BCNM001\",INDEX([1]BEACON_MANUF_MODEL!$A$2:$D$1500,MATCH(1,([1]BEACON_MANUF_MODEL!$G$2:$G$1500=\"\")*([1]BEACON_MANUF_MODEL!$D$2:$D$1500='Beacon (Desc)'!$F145),0),1)))","v":""},{"$f":"IF('Beacon (Desc)'!H145=\"\",\"\",INDEX([1]BEACON_COLOR!$A$2:$A$20,MATCH('Beacon (Desc)'!$H145,[1]!MASTER_BEACON_COLOR_DESC[#Data],0),0))","v":""},{"$f":"IF('Beacon (Desc)'!I145=\"\",\"\",INDEX([1]BEACON_SIZE!$A$2:$A$20,MATCH('Beacon (Desc)'!$I145,[1]!MASTER_BEACON_SIZE_DESC[#Data],0),0))","v":""},{"$f":"IF('Beacon (Desc)'!J145=\"\",\"\",'Beacon (Desc)'!J145)","v":""}]
[{"$f":"IF('Beacon (Desc)'!A146=\"\",\"\",'Beacon (Desc)'!A146)","v":""},{"$f":"IF('Beacon (Desc)'!B146=\"\",\"\",\"1987\")","v":""},{"$f":"IF('Beacon (Desc)'!B146=\"\",\"\",'Beacon (Desc)'!B146)","v":""},{"$f":"IF('Beacon (Desc)'!C146=\"\",\"\",'Beacon (Desc)'!C146)","v":""},{"$f":"IF('Beacon (Desc)'!D146=\"\",\"\",'Beacon (Desc)'!D146)","v":""},{"$f":"IF('Beacon (Desc)'!E146=\"\",\"\",INDEX([1]BEACON_TYPE!$A$2:$A$20,MATCH('Beacon (Desc)'!$E146,[1]!MASTER_BEACON_TYPE_DESC[#Data],0),0))","v":""},{"$f":"IF('Beacon (Desc)'!F146=\"\",\"\",IF('Beacon (Desc)'!F146=\"Unknown\",\"BCN001\",(INDEX([1]BEACON_MANUF_MODEL!$A$2:$D$1500,MATCH(1,([1]BEACON_MANUF_MODEL!$G$2:$G$1500=\"\")*([1]BEACON_MANUF_MODEL!$D$2:$D$1500='Beacon (Desc)'!$F146),0),2))))","v":""},{"$f":"IF('Beacon (Desc)'!F146=\"\",\"\",IF('Beacon (Desc)'!F146=\"Unknown\",\"BCNM001\",INDEX([1]BEACON_MANUF_MODEL!$A$2:$D$1500,MATCH(1,([1]BEACON_MANUF_MODEL!$G$2:$G$1500=\"\")*([1]BEACON_MANUF_MODEL!$D$2:$D$1500='Beacon (Desc)'!$F146),0),1)))","v":""},{"$f":"IF('Beacon (Desc)'!H146=\"\",\"\",INDEX([1]BEACON_COLOR!$A$2:$A$20,MATCH('Beacon (Desc)'!$H146,[1]!MASTER_BEACON_COLOR_DESC[#Data],0),0))","v":""},{"$f":"IF('Beacon (Desc)'!I146=\"\",\"\",INDEX([1]BEACON_SIZE!$A$2:$A$20,MATCH('Beacon (Desc)'!$I146,[1]!MASTER_BEACON_SIZE_DESC[#Data],0),0))","v":""},{"$f":"IF('Beacon (Desc)'!J146=\"\",\"\",'Beacon (Desc)'!J146)","v":""}]
[{"$f":"IF('Beacon (Desc)'!A147=\"\",\"\",'Beacon (Desc)'!A147)","v":""},{"$f":"IF('Beacon (Desc)'!B147=\"\",\"\",\"1987\")","v":""},{"$f":"IF('Beacon (Desc)'!B147=\"\",\"\",'Beacon (Desc)'!B147)","v":""},{"$f":"IF('Beacon (Desc)'!C147=\"\",\"\",'Beacon (Desc)'!C147)","v":""},{"$f":"IF('Beacon (Desc)'!D147=\"\",\"\",'Beacon (Desc)'!D147)","v":""},{"$f":"IF('Beacon (Desc)'!E147=\"\",\"\",INDEX([1]BEACON_TYPE!$A$2:$A$20,MATCH('Beacon (Desc)'!$E147,[1]!MASTER_BEACON_TYPE_DESC[#Data],0),0))","v":""},{"$f":"IF('Beacon (Desc)'!F147=\"\",\"\",IF('Beacon (Desc)'!F147=\"Unknown\",\"BCN001\",(INDEX([1]BEACON_MANUF_MODEL!$A$2:$D$1500,MATCH(1,([1]BEACON_MANUF_MODEL!$G$2:$G$1500=\"\")*([1]BEACON_MANUF_MODEL!$D$2:$D$1500='Beacon (Desc)'!$F147),0),2))))","v":""},{"$f":"IF('Beacon (Desc)'!F147=\"\",\"\",IF('Beacon (Desc)'!F147=\"Unknown\",\"BCNM001\",INDEX([1]BEACON_MANUF_MODEL!$A$2:$D$1500,MATCH(1,([1]BEACON_MANUF_MODEL!$G$2:$G$1500=\"\")*([1]BEACON_MANUF_MODEL!$D$2:$D$1500='Beacon (Desc)'!$F147),0),1)))","v":""},{"$f":"IF('Beacon (Desc)'!H147=\"\",\"\",INDEX([1]BEACON_COLOR!$A$2:$A$20,MATCH('Beacon (Desc)'!$H147,[1]!MASTER_BEACON_COLOR_DESC[#Data],0),0))","v":""},{"$f":"IF('Beacon (Desc)'!I147=\"\",\"\",INDEX([1]BEACON_SIZE!$A$2:$A$20,MATCH('Beacon (Desc)'!$I147,[1]!MASTER_BEACON_SIZE_DESC[#Data],0),0))","v":""},{"$f":"IF('Beacon (Desc)'!J147=\"\",\"\",'Beacon (Desc)'!J147)","v":""}]
[{"$f":"IF('Beacon (Desc)'!A148=\"\",\"\",'Beacon (Desc)'!A148)","v":""},{"$f":"IF('Beacon (Desc)'!B148=\"\",\"\",\"1987\")","v":""},{"$f":"IF('Beacon (Desc)'!B148=\"\",\"\",'Beacon (Desc)'!B148)","v":""},{"$f":"IF('Beacon (Desc)'!C148=\"\",\"\",'Beacon (Desc)'!C148)","v":""},{"$f":"IF('Beacon (Desc)'!D148=\"\",\"\",'Beacon (Desc)'!D148)","v":""},{"$f":"IF('Beacon (Desc)'!E148=\"\",\"\",INDEX([1]BEACON_TYPE!$A$2:$A$20,MATCH('Beacon (Desc)'!$E148,[1]!MASTER_BEACON_TYPE_DESC[#Data],0),0))","v":""},{"$f":"IF('Beacon (Desc)'!F148=\"\",\"\",IF('Beacon (Desc)'!F148=\"Unknown\",\"BCN001\",(INDEX([1]BEACON_MANUF_MODEL!$A$2:$D$1500,MATCH(1,([1]BEACON_MANUF_MODEL!$G$2:$G$1500=\"\")*([1]BEACON_MANUF_MODEL!$D$2:$D$1500='Beacon (Desc)'!$F148),0),2))))","v":""},{"$f":"IF('Beacon (Desc)'!F148=\"\",\"\",IF('Beacon (Desc)'!F148=\"Unknown\",\"BCNM001\",INDEX([1]BEACON_MANUF_MODEL!$A$2:$D$1500,MATCH(1,([1]BEACON_MANUF_MODEL!$G$2:$G$1500=\"\")*([1]BEACON_MANUF_MODEL!$D$2:$D$1500='Beacon (Desc)'!$F148),0),1)))","v":""},{"$f":"IF('Beacon (Desc)'!H148=\"\",\"\",INDEX([1]BEACON_COLOR!$A$2:$A$20,MATCH('Beacon (Desc)'!$H148,[1]!MASTER_BEACON_COLOR_DESC[#Data],0),0))","v":""},{"$f":"IF('Beacon (Desc)'!I148=\"\",\"\",INDEX([1]BEACON_SIZE!$A$2:$A$20,MATCH('Beacon (Desc)'!$I148,[1]!MASTER_BEACON_SIZE_DESC[#Data],0),0))","v":""},{"$f":"IF('Beacon (Desc)'!J148=\"\",\"\",'Beacon (Desc)'!J148)","v":""}]
[{"$f":"IF('Beacon (Desc)'!A149=\"\",\"\",'Beacon (Desc)'!A149)","v":""},{"$f":"IF('Beacon (Desc)'!B149=\"\",\"\",\"1987\")","v":""},{"$f":"IF('Beacon (Desc)'!B149=\"\",\"\",'Beacon (Desc)'!B149)","v":""},{"$f":"IF('Beacon (Desc)'!C149=\"\",\"\",'Beacon (Desc)'!C149)","v":""},{"$f":"IF('Beacon (Desc)'!D149=\"\",\"\",'Beacon (Desc)'!D149)","v":""},{"$f":"IF('Beacon (Desc)'!E149=\"\",\"\",INDEX([1]BEACON_TYPE!$A$2:$A$20,MATCH('Beacon (Desc)'!$E149,[1]!MASTER_BEACON_TYPE_DESC[#Data],0),0))","v":""},{"$f":"IF('Beacon (Desc)'!F149=\"\",\"\",IF('Beacon (Desc)'!F149=\"Unknown\",\"BCN001\",(INDEX([1]BEACON_MANUF_MODEL!$A$2:$D$1500,MATCH(1,([1]BEACON_MANUF_MODEL!$G$2:$G$1500=\"\")*([1]BEACON_MANUF_MODEL!$D$2:$D$1500='Beacon (Desc)'!$F149),0),2))))","v":""},{"$f":"IF('Beacon (Desc)'!F149=\"\",\"\",IF('Beacon (Desc)'!F149=\"Unknown\",\"BCNM001\",INDEX([1]BEACON_MANUF_MODEL!$A$2:$D$1500,MATCH(1,([1]BEACON_MANUF_MODEL!$G$2:$G$1500=\"\")*([1]BEACON_MANUF_MODEL!$D$2:$D$1500='Beacon (Desc)'!$F149),0),1)))","v":""},{"$f":"IF('Beacon (Desc)'!H149=\"\",\"\",INDEX([1]BEACON_COLOR!$A$2:$A$20,MATCH('Beacon (Desc)'!$H149,[1]!MASTER_BEACON_COLOR_DESC[#Data],0),0))","v":""},{"$f":"IF('Beacon (Desc)'!I149=\"\",\"\",INDEX([1]BEACON_SIZE!$A$2:$A$20,MATCH('Beacon (Desc)'!$I149,[1]!MASTER_BEACON_SIZE_DESC[#Data],0),0))","v":""},{"$f":"IF('Beacon (Desc)'!J149=\"\",\"\",'Beacon (Desc)'!J149)","v":""}]
[{"$f":"IF('Beacon (Desc)'!A150=\"\",\"\",'Beacon (Desc)'!A150)","v":""},{"$f":"IF('Beacon (Desc)'!B150=\"\",\"\",\"1987\")","v":""},{"$f":"IF('Beacon (Desc)'!B150=\"\",\"\",'Beacon (Desc)'!B150)","v":""},{"$f":"IF('Beacon (Desc)'!C150=\"\",\"\",'Beacon (Desc)'!C150)","v":""},{"$f":"IF('Beacon (Desc)'!D150=\"\",\"\",'Beacon (Desc)'!D150)","v":""},{"$f":"IF('Beacon (Desc)'!E150=\"\",\"\",INDEX([1]BEACON_TYPE!$A$2:$A$20,MATCH('Beacon (Desc)'!$E150,[1]!MASTER_BEACON_TYPE_DESC[#Data],0),0))","v":""},{"$f":"IF('Beacon (Desc)'!F150=\"\",\"\",IF('Beacon (Desc)'!F150=\"Unknown\",\"BCN001\",(INDEX([1]BEACON_MANUF_MODEL!$A$2:$D$1500,MATCH(1,([1]BEACON_MANUF_MODEL!$G$2:$G$1500=\"\")*([1]BEACON_MANUF_MODEL!$D$2:$D$1500='Beacon (Desc)'!$F150),0),2))))","v":""},{"$f":"IF('Beacon (Desc)'!F150=\"\",\"\",IF('Beacon (Desc)'!F150=\"Unknown\",\"BCNM001\",INDEX([1]BEACON_MANUF_MODEL!$A$2:$D$1500,MATCH(1,([1]BEACON_MANUF_MODEL!$G$2:$G$1500=\"\")*([1]BEACON_MANUF_MODEL!$D$2:$D$1500='Beacon (Desc)'!$F150),0),1)))","v":""},{"$f":"IF('Beacon (Desc)'!H150=\"\",\"\",INDEX([1]BEACON_COLOR!$A$2:$A$20,MATCH('Beacon (Desc)'!$H150,[1]!MASTER_BEACON_COLOR_DESC[#Data],0),0))","v":""},{"$f":"IF('Beacon (Desc)'!I150=\"\",\"\",INDEX([1]BEACON_SIZE!$A$2:$A$20,MATCH('Beacon (Desc)'!$I150,[1]!MASTER_BEACON_SIZE_DESC[#Data],0),0))","v":""},{"$f":"IF('Beacon (Desc)'!J150=\"\",\"\",'Beacon (Desc)'!J150)","v":""}]
[{"$f":"IF('Beacon (Desc)'!A151=\"\",\"\",'Beacon (Desc)'!A151)","v":""},{"$f":"IF('Beacon (Desc)'!B151=\"\",\"\",\"1987\")","v":""},{"$f":"IF('Beacon (Desc)'!B151=\"\",\"\",'Beacon (Desc)'!B151)","v":""},{"$f":"IF('Beacon (Desc)'!C151=\"\",\"\",'Beacon (Desc)'!C151)","v":""},{"$f":"IF('Beacon (Desc)'!D151=\"\",\"\",'Beacon (Desc)'!D151)","v":""},{"$f":"IF('Beacon (Desc)'!E151=\"\",\"\",INDEX([1]BEACON_TYPE!$A$2:$A$20,MATCH('Beacon (Desc)'!$E151,[1]!MASTER_BEACON_TYPE_DESC[#Data],0),0))","v":""},{"$f":"IF('Beacon (Desc)'!F151=\"\",\"\",IF('Beacon (Desc)'!F151=\"Unknown\",\"BCN001\",(INDEX([1]BEACON_MANUF_MODEL!$A$2:$D$1500,MATCH(1,([1]BEACON_MANUF_MODEL!$G$2:$G$1500=\"\")*([1]BEACON_MANUF_MODEL!$D$2:$D$1500='Beacon (Desc)'!$F151),0),2))))","v":""},{"$f":"IF('Beacon (Desc)'!F151=\"\",\"\",IF('Beacon (Desc)'!F151=\"Unknown\",\"BCNM001\",INDEX([1]BEACON_MANUF_MODEL!$A$2:$D$1500,MATCH(1,([1]BEACON_MANUF_MODEL!$G$2:$G$1500=\"\")*([1]BEACON_MANUF_MODEL!$D$2:$D$1500='Beacon (Desc)'!$F151),0),1)))","v":""},{"$f":"IF('Beacon (Desc)'!H151=\"\",\"\",INDEX([1]BEACON_COLOR!$A$2:$A$20,MATCH('Beacon (Desc)'!$H151,[1]!MASTER_BEACON_COLOR_DESC[#Data],0),0))","v":""},{"$f":"IF('Beacon (Desc)'!I151=\"\",\"\",INDEX([1]BEACON_SIZE!$A$2:$A$20,MATCH('Beacon (Desc)'!$I151,[1]!MASTER_BEACON_SIZE_DESC[#Data],0),0))","v":""},{"$f":"IF('Beacon (Desc)'!J151=\"\",\"\",'Beacon (Desc)'!J151)","v":""}]
[{"$f":"IF('Beacon (Desc)'!A152=\"\",\"\",'Beacon (Desc)'!A152)","v":""},{"$f":"IF('Beacon (Desc)'!B152=\"\",\"\",\"1987\")","v":""},{"$f":"IF('Beacon (Desc)'!B152=\"\",\"\",'Beacon (Desc)'!B152)","v":""},{"$f":"IF('Beacon (Desc)'!C152=\"\",\"\",'Beacon (Desc)'!C152)","v":""},{"$f":"IF('Beacon (Desc)'!D152=\"\",\"\",'Beacon (Desc)'!D152)","v":""},{"$f":"IF('Beacon (Desc)'!E152=\"\",\"\",INDEX([1]BEACON_TYPE!$A$2:$A$20,MATCH('Beacon (Desc)'!$E152,[1]!MASTER_BEACON_TYPE_DESC[#Data],0),0))","v":""},{"$f":"IF('Beacon (Desc)'!F152=\"\",\"\",IF('Beacon (Desc)'!F152=\"Unknown\",\"BCN001\",(INDEX([1]BEACON_MANUF_MODEL!$A$2:$D$1500,MATCH(1,([1]BEACON_MANUF_MODEL!$G$2:$G$1500=\"\")*([1]BEACON_MANUF_MODEL!$D$2:$D$1500='Beacon (Desc)'!$F152),0),2))))","v":""},{"$f":"IF('Beacon (Desc)'!F152=\"\",\"\",IF('Beacon (Desc)'!F152=\"Unknown\",\"BCNM001\",INDEX([1]BEACON_MANUF_MODEL!$A$2:$D$1500,MATCH(1,([1]BEACON_MANUF_MODEL!$G$2:$G$1500=\"\")*([1]BEACON_MANUF_MODEL!$D$2:$D$1500='Beacon (Desc)'!$F152),0),1)))","v":""},{"$f":"IF('Beacon (Desc)'!H152=\"\",\"\",INDEX([1]BEACON_COLOR!$A$2:$A$20,MATCH('Beacon (Desc)'!$H152,[1]!MASTER_BEACON_COLOR_DESC[#Data],0),0))","v":""},{"$f":"IF('Beacon (Desc)'!I152=\"\",\"\",INDEX([1]BEACON_SIZE!$A$2:$A$20,MATCH('Beacon (Desc)'!$I152,[1]!MASTER_BEACON_SIZE_DESC[#Data],0),0))","v":""},{"$f":"IF('Beacon (Desc)'!J152=\"\",\"\",'Beacon (Desc)'!J152)","v":""}]
[{"$f":"IF('Beacon (Desc)'!A153=\"\",\"\",'Beacon (Desc)'!A153)","v":""},{"$f":"IF('Beacon (Desc)'!B153=\"\",\"\",\"1987\")","v":""},{"$f":"IF('Beacon (Desc)'!B153=\"\",\"\",'Beacon (Desc)'!B153)","v":""},{"$f":"IF('Beacon (Desc)'!C153=\"\",\"\",'Beacon (Desc)'!C153)","v":""},{"$f":"IF('Beacon (Desc)'!D153=\"\",\"\",'Beacon (Desc)'!D153)","v":""},{"$f":"IF('Beacon (Desc)'!E153=\"\",\"\",INDEX([1]BEACON_TYPE!$A$2:$A$20,MATCH('Beacon (Desc)'!$E153,[1]!MASTER_BEACON_TYPE_DESC[#Data],0),0))","v":""},{"$f":"IF('Beacon (Desc)'!F153=\"\",\"\",IF('Beacon (Desc)'!F153=\"Unknown\",\"BCN001\",(INDEX([1]BEACON_MANUF_MODEL!$A$2:$D$1500,MATCH(1,([1]BEACON_MANUF_MODEL!$G$2:$G$1500=\"\")*([1]BEACON_MANUF_MODEL!$D$2:$D$1500='Beacon (Desc)'!$F153),0),2))))","v":""},{"$f":"IF('Beacon (Desc)'!F153=\"\",\"\",IF('Beacon (Desc)'!F153=\"Unknown\",\"BCNM001\",INDEX([1]BEACON_MANUF_MODEL!$A$2:$D$1500,MATCH(1,([1]BEACON_MANUF_MODEL!$G$2:$G$1500=\"\")*([1]BEACON_MANUF_MODEL!$D$2:$D$1500='Beacon (Desc)'!$F153),0),1)))","v":""},{"$f":"IF('Beacon (Desc)'!H153=\"\",\"\",INDEX([1]BEACON_COLOR!$A$2:$A$20,MATCH('Beacon (Desc)'!$H153,[1]!MASTER_BEACON_COLOR_DESC[#Data],0),0))","v":""},{"$f":"IF('Beacon (Desc)'!I153=\"\",\"\",INDEX([1]BEACON_SIZE!$A$2:$A$20,MATCH('Beacon (Desc)'!$I153,[1]!MASTER_BEACON_SIZE_DESC[#Data],0),0))","v":""},{"$f":"IF('Beacon (Desc)'!J153=\"\",\"\",'Beacon (Desc)'!J153)","v":""}]
[{"$f":"IF('Beacon (Desc)'!A154=\"\",\"\",'Beacon (Desc)'!A154)","v":""},{"$f":"IF('Beacon (Desc)'!B154=\"\",\"\",\"1987\")","v":""},{"$f":"IF('Beacon (Desc)'!B154=\"\",\"\",'Beacon (Desc)'!B154)","v":""},{"$f":"IF('Beacon (Desc)'!C154=\"\",\"\",'Beacon (Desc)'!C154)","v":""},{"$f":"IF('Beacon (Desc)'!D154=\"\",\"\",'Beacon (Desc)'!D154)","v":""},{"$f":"IF('Beacon (Desc)'!E154=\"\",\"\",INDEX([1]BEACON_TYPE!$A$2:$A$20,MATCH('Beacon (Desc)'!$E154,[1]!MASTER_BEACON_TYPE_DESC[#Data],0),0))","v":""},{"$f":"IF('Beacon (Desc)'!F154=\"\",\"\",IF('Beacon (Desc)'!F154=\"Unknown\",\"BCN001\",(INDEX([1]BEACON_MANUF_MODEL!$A$2:$D$1500,MATCH(1,([1]BEACON_MANUF_MODEL!$G$2:$G$1500=\"\")*([1]BEACON_MANUF_MODEL!$D$2:$D$1500='Beacon (Desc)'!$F154),0),2))))","v":""},{"$f":"IF('Beacon (Desc)'!F154=\"\",\"\",IF('Beacon (Desc)'!F154=\"Unknown\",\"BCNM001\",INDEX([1]BEACON_MANUF_MODEL!$A$2:$D$1500,MATCH(1,([1]BEACON_MANUF_MODEL!$G$2:$G$1500=\"\")*([1]BEACON_MANUF_MODEL!$D$2:$D$1500='Beacon (Desc)'!$F154),0),1)))","v":""},{"$f":"IF('Beacon (Desc)'!H154=\"\",\"\",INDEX([1]BEACON_COLOR!$A$2:$A$20,MATCH('Beacon (Desc)'!$H154,[1]!MASTER_BEACON_COLOR_DESC[#Data],0),0))","v":""},{"$f":"IF('Beacon (Desc)'!I154=\"\",\"\",INDEX([1]BEACON_SIZE!$A$2:$A$20,MATCH('Beacon (Desc)'!$I154,[1]!MASTER_BEACON_SIZE_DESC[#Data],0),0))","v":""},{"$f":"IF('Beacon (Desc)'!J154=\"\",\"\",'Beacon (Desc)'!J154)","v":""}]
[{"$f":"IF('Beacon (Desc)'!A155=\"\",\"\",'Beacon (Desc)'!A155)","v":""},{"$f":"IF('Beacon (Desc)'!B155=\"\",\"\",\"1987\")","v":""},{"$f":"IF('Beacon (Desc)'!B155=\"\",\"\",'Beacon (Desc)'!B155)","v":""},{"$f":"IF('Beacon (Desc)'!C155=\"\",\"\",'Beacon (Desc)'!C155)","v":""},{"$f":"IF('Beacon (Desc)'!D155=\"\",\"\",'Beacon (Desc)'!D155)","v":""},{"$f":"IF('Beacon (Desc)'!E155=\"\",\"\",INDEX([1]BEACON_TYPE!$A$2:$A$20,MATCH('Beacon (Desc)'!$E155,[1]!MASTER_BEACON_TYPE_DESC[#Data],0),0))","v":""},{"$f":"IF('Beacon (Desc)'!F155=\"\",\"\",IF('Beacon (Desc)'!F155=\"Unknown\",\"BCN001\",(INDEX([1]BEACON_MANUF_MODEL!$A$2:$D$1500,MATCH(1,([1]BEACON_MANUF_MODEL!$G$2:$G$1500=\"\")*([1]BEACON_MANUF_MODEL!$D$2:$D$1500='Beacon (Desc)'!$F155),0),2))))","v":""},{"$f":"IF('Beacon (Desc)'!F155=\"\",\"\",IF('Beacon (Desc)'!F155=\"Unknown\",\"BCNM001\",INDEX([1]BEACON_MANUF_MODEL!$A$2:$D$1500,MATCH(1,([1]BEACON_MANUF_MODEL!$G$2:$G$1500=\"\")*([1]BEACON_MANUF_MODEL!$D$2:$D$1500='Beacon (Desc)'!$F155),0),1)))","v":""},{"$f":"IF('Beacon (Desc)'!H155=\"\",\"\",INDEX([1]BEACON_COLOR!$A$2:$A$20,MATCH('Beacon (Desc)'!$H155,[1]!MASTER_BEACON_COLOR_DESC[#Data],0),0))","v":""},{"$f":"IF('Beacon (Desc)'!I155=\"\",\"\",INDEX([1]BEACON_SIZE!$A$2:$A$20,MATCH('Beacon (Desc)'!$I155,[1]!MASTER_BEACON_SIZE_DESC[#Data],0),0))","v":""},{"$f":"IF('Beacon (Desc)'!J155=\"\",\"\",'Beacon (Desc)'!J155)","v":""}]
[{"$f":"IF('Beacon (Desc)'!A156=\"\",\"\",'Beacon (Desc)'!A156)","v":""},{"$f":"IF('Beacon (Desc)'!B156=\"\",\"\",\"1987\")","v":""},{"$f":"IF('Beacon (Desc)'!B156=\"\",\"\",'Beacon (Desc)'!B156)","v":""},{"$f":"IF('Beacon (Desc)'!C156=\"\",\"\",'Beacon (Desc)'!C156)","v":""},{"$f":"IF('Beacon (Desc)'!D156=\"\",\"\",'Beacon (Desc)'!D156)","v":""},{"$f":"IF('Beacon (Desc)'!E156=\"\",\"\",INDEX([1]BEACON_TYPE!$A$2:$A$20,MATCH('Beacon (Desc)'!$E156,[1]!MASTER_BEACON_TYPE_DESC[#Data],0),0))","v":""},{"$f":"IF('Beacon (Desc)'!F156=\"\",\"\",IF('Beacon (Desc)'!F156=\"Unknown\",\"BCN001\",(INDEX([1]BEACON_MANUF_MODEL!$A$2:$D$1500,MATCH(1,([1]BEACON_MANUF_MODEL!$G$2:$G$1500=\"\")*([1]BEACON_MANUF_MODEL!$D$2:$D$1500='Beacon (Desc)'!$F156),0),2))))","v":""},{"$f":"IF('Beacon (Desc)'!F156=\"\",\"\",IF('Beacon (Desc)'!F156=\"Unknown\",\"BCNM001\",INDEX([1]BEACON_MANUF_MODEL!$A$2:$D$1500,MATCH(1,([1]BEACON_MANUF_MODEL!$G$2:$G$1500=\"\")*([1]BEACON_MANUF_MODEL!$D$2:$D$1500='Beacon (Desc)'!$F156),0),1)))","v":""},{"$f":"IF('Beacon (Desc)'!H156=\"\",\"\",INDEX([1]BEACON_COLOR!$A$2:$A$20,MATCH('Beacon (Desc)'!$H156,[1]!MASTER_BEACON_COLOR_DESC[#Data],0),0))","v":""},{"$f":"IF('Beacon (Desc)'!I156=\"\",\"\",INDEX([1]BEACON_SIZE!$A$2:$A$20,MATCH('Beacon (Desc)'!$I156,[1]!MASTER_BEACON_SIZE_DESC[#Data],0),0))","v":""},{"$f":"IF('Beacon (Desc)'!J156=\"\",\"\",'Beacon (Desc)'!J156)","v":""}]
[{"$f":"IF('Beacon (Desc)'!A157=\"\",\"\",'Beacon (Desc)'!A157)","v":""},{"$f":"IF('Beacon (Desc)'!B157=\"\",\"\",\"1987\")","v":""},{"$f":"IF('Beacon (Desc)'!B157=\"\",\"\",'Beacon (Desc)'!B157)","v":""},{"$f":"IF('Beacon (Desc)'!C157=\"\",\"\",'Beacon (Desc)'!C157)","v":""},{"$f":"IF('Beacon (Desc)'!D157=\"\",\"\",'Beacon (Desc)'!D157)","v":""},{"$f":"IF('Beacon (Desc)'!E157=\"\",\"\",INDEX([1]BEACON_TYPE!$A$2:$A$20,MATCH('Beacon (Desc)'!$E157,[1]!MASTER_BEACON_TYPE_DESC[#Data],0),0))","v":""},{"$f":"IF('Beacon (Desc)'!F157=\"\",\"\",IF('Beacon (Desc)'!F157=\"Unknown\",\"BCN001\",(INDEX([1]BEACON_MANUF_MODEL!$A$2:$D$1500,MATCH(1,([1]BEACON_MANUF_MODEL!$G$2:$G$1500=\"\")*([1]BEACON_MANUF_MODEL!$D$2:$D$1500='Beacon (Desc)'!$F157),0),2))))","v":""},{"$f":"IF('Beacon (Desc)'!F157=\"\",\"\",IF('Beacon (Desc)'!F157=\"Unknown\",\"BCNM001\",INDEX([1]BEACON_MANUF_MODEL!$A$2:$D$1500,MATCH(1,([1]BEACON_MANUF_MODEL!$G$2:$G$1500=\"\")*([1]BEACON_MANUF_MODEL!$D$2:$D$1500='Beacon (Desc)'!$F157),0),1)))","v":""},{"$f":"IF('Beacon (Desc)'!H157=\"\",\"\",INDEX([1]BEACON_COLOR!$A$2:$A$20,MATCH('Beacon (Desc)'!$H157,[1]!MASTER_BEACON_COLOR_DESC[#Data],0),0))","v":""},{"$f":"IF('Beacon (Desc)'!I157=\"\",\"\",INDEX([1]BEACON_SIZE!$A$2:$A$20,MATCH('Beacon (Desc)'!$I157,[1]!MASTER_BEACON_SIZE_DESC[#Data],0),0))","v":""},{"$f":"IF('Beacon (Desc)'!J157=\"\",\"\",'Beacon (Desc)'!J157)","v":""}]
[{"$f":"IF('Beacon (Desc)'!A158=\"\",\"\",'Beacon (Desc)'!A158)","v":""},{"$f":"IF('Beacon (Desc)'!B158=\"\",\"\",\"1987\")","v":""},{"$f":"IF('Beacon (Desc)'!B158=\"\",\"\",'Beacon (Desc)'!B158)","v":""},{"$f":"IF('Beacon (Desc)'!C158=\"\",\"\",'Beacon (Desc)'!C158)","v":""},{"$f":"IF('Beacon (Desc)'!D158=\"\",\"\",'Beacon (Desc)'!D158)","v":""},{"$f":"IF('Beacon (Desc)'!E158=\"\",\"\",INDEX([1]BEACON_TYPE!$A$2:$A$20,MATCH('Beacon (Desc)'!$E158,[1]!MASTER_BEACON_TYPE_DESC[#Data],0),0))","v":""},{"$f":"IF('Beacon (Desc)'!F158=\"\",\"\",IF('Beacon (Desc)'!F158=\"Unknown\",\"BCN001\",(INDEX([1]BEACON_MANUF_MODEL!$A$2:$D$1500,MATCH(1,([1]BEACON_MANUF_MODEL!$G$2:$G$1500=\"\")*([1]BEACON_MANUF_MODEL!$D$2:$D$1500='Beacon (Desc)'!$F158),0),2))))","v":""},{"$f":"IF('Beacon (Desc)'!F158=\"\",\"\",IF('Beacon (Desc)'!F158=\"Unknown\",\"BCNM001\",INDEX([1]BEACON_MANUF_MODEL!$A$2:$D$1500,MATCH(1,([1]BEACON_MANUF_MODEL!$G$2:$G$1500=\"\")*([1]BEACON_MANUF_MODEL!$D$2:$D$1500='Beacon (Desc)'!$F158),0),1)))","v":""},{"$f":"IF('Beacon (Desc)'!H158=\"\",\"\",INDEX([1]BEACON_COLOR!$A$2:$A$20,MATCH('Beacon (Desc)'!$H158,[1]!MASTER_BEACON_COLOR_DESC[#Data],0),0))","v":""},{"$f":"IF('Beacon (Desc)'!I158=\"\",\"\",INDEX([1]BEACON_SIZE!$A$2:$A$20,MATCH('Beacon (Desc)'!$I158,[1]!MASTER_BEACON_SIZE_DESC[#Data],0),0))","v":""},{"$f":"IF('Beacon (Desc)'!J158=\"\",\"\",'Beacon (Desc)'!J158)","v":""}]
[{"$f":"IF('Beacon (Desc)'!A159=\"\",\"\",'Beacon (Desc)'!A159)","v":""},{"$f":"IF('Beacon (Desc)'!B159=\"\",\"\",\"1987\")","v":""},{"$f":"IF('Beacon (Desc)'!B159=\"\",\"\",'Beacon (Desc)'!B159)","v":""},{"$f":"IF('Beacon (Desc)'!C159=\"\",\"\",'Beacon (Desc)'!C159)","v":""},{"$f":"IF('Beacon (Desc)'!D159=\"\",\"\",'Beacon (Desc)'!D159)","v":""},{"$f":"IF('Beacon (Desc)'!E159=\"\",\"\",INDEX([1]BEACON_TYPE!$A$2:$A$20,MATCH('Beacon (Desc)'!$E159,[1]!MASTER_BEACON_TYPE_DESC[#Data],0),0))","v":""},{"$f":"IF('Beacon (Desc)'!F159=\"\",\"\",IF('Beacon (Desc)'!F159=\"Unknown\",\"BCN001\",(INDEX([1]BEACON_MANUF_MODEL!$A$2:$D$1500,MATCH(1,([1]BEACON_MANUF_MODEL!$G$2:$G$1500=\"\")*([1]BEACON_MANUF_MODEL!$D$2:$D$1500='Beacon (Desc)'!$F159),0),2))))","v":""},{"$f":"IF('Beacon (Desc)'!F159=\"\",\"\",IF('Beacon (Desc)'!F159=\"Unknown\",\"BCNM001\",INDEX([1]BEACON_MANUF_MODEL!$A$2:$D$1500,MATCH(1,([1]BEACON_MANUF_MODEL!$G$2:$G$1500=\"\")*([1]BEACON_MANUF_MODEL!$D$2:$D$1500='Beacon (Desc)'!$F159),0),1)))","v":""},{"$f":"IF('Beacon (Desc)'!H159=\"\",\"\",INDEX([1]BEACON_COLOR!$A$2:$A$20,MATCH('Beacon (Desc)'!$H159,[1]!MASTER_BEACON_COLOR_DESC[#Data],0),0))","v":""},{"$f":"IF('Beacon (Desc)'!I159=\"\",\"\",INDEX([1]BEACON_SIZE!$A$2:$A$20,MATCH('Beacon (Desc)'!$I159,[1]!MASTER_BEACON_SIZE_DESC[#Data],0),0))","v":""},{"$f":"IF('Beacon (Desc)'!J159=\"\",\"\",'Beacon (Desc)'!J159)","v":""}]
[{"$f":"IF('Beacon (Desc)'!A160=\"\",\"\",'Beacon (Desc)'!A160)","v":""},{"$f":"IF('Beacon (Desc)'!B160=\"\",\"\",\"1987\")","v":""},{"$f":"IF('Beacon (Desc)'!B160=\"\",\"\",'Beacon (Desc)'!B160)","v":""},{"$f":"IF('Beacon (Desc)'!C160=\"\",\"\",'Beacon (Desc)'!C160)","v":""},{"$f":"IF('Beacon (Desc)'!D160=\"\",\"\",'Beacon (Desc)'!D160)","v":""},{"$f":"IF('Beacon (Desc)'!E160=\"\",\"\",INDEX([1]BEACON_TYPE!$A$2:$A$20,MATCH('Beacon (Desc)'!$E160,[1]!MASTER_BEACON_TYPE_DESC[#Data],0),0))","v":""},{"$f":"IF('Beacon (Desc)'!F160=\"\",\"\",IF('Beacon (Desc)'!F160=\"Unknown\",\"BCN001\",(INDEX([1]BEACON_MANUF_MODEL!$A$2:$D$1500,MATCH(1,([1]BEACON_MANUF_MODEL!$G$2:$G$1500=\"\")*([1]BEACON_MANUF_MODEL!$D$2:$D$1500='Beacon (Desc)'!$F160),0),2))))","v":""},{"$f":"IF('Beacon (Desc)'!F160=\"\",\"\",IF('Beacon (Desc)'!F160=\"Unknown\",\"BCNM001\",INDEX([1]BEACON_MANUF_MODEL!$A$2:$D$1500,MATCH(1,([1]BEACON_MANUF_MODEL!$G$2:$G$1500=\"\")*([1]BEACON_MANUF_MODEL!$D$2:$D$1500='Beacon (Desc)'!$F160),0),1)))","v":""},{"$f":"IF('Beacon (Desc)'!H160=\"\",\"\",INDEX([1]BEACON_COLOR!$A$2:$A$20,MATCH('Beacon (Desc)'!$H160,[1]!MASTER_BEACON_COLOR_DESC[#Data],0),0))","v":""},{"$f":"IF('Beacon (Desc)'!I160=\"\",\"\",INDEX([1]BEACON_SIZE!$A$2:$A$20,MATCH('Beacon (Desc)'!$I160,[1]!MASTER_BEACON_SIZE_DESC[#Data],0),0))","v":""},{"$f":"IF('Beacon (Desc)'!J160=\"\",\"\",'Beacon (Desc)'!J160)","v":""}]
[{"$f":"IF('Beacon (Desc)'!A161=\"\",\"\",'Beacon (Desc)'!A161)","v":""},{"$f":"IF('Beacon (Desc)'!B161=\"\",\"\",\"1987\")","v":""},{"$f":"IF('Beacon (Desc)'!B161=\"\",\"\",'Beacon (Desc)'!B161)","v":""},{"$f":"IF('Beacon (Desc)'!C161=\"\",\"\",'Beacon (Desc)'!C161)","v":""},{"$f":"IF('Beacon (Desc)'!D161=\"\",\"\",'Beacon (Desc)'!D161)","v":""},{"$f":"IF('Beacon (Desc)'!E161=\"\",\"\",INDEX([1]BEACON_TYPE!$A$2:$A$20,MATCH('Beacon (Desc)'!$E161,[1]!MASTER_BEACON_TYPE_DESC[#Data],0),0))","v":""},{"$f":"IF('Beacon (Desc)'!F161=\"\",\"\",IF('Beacon (Desc)'!F161=\"Unknown\",\"BCN001\",(INDEX([1]BEACON_MANUF_MODEL!$A$2:$D$1500,MATCH(1,([1]BEACON_MANUF_MODEL!$G$2:$G$1500=\"\")*([1]BEACON_MANUF_MODEL!$D$2:$D$1500='Beacon (Desc)'!$F161),0),2))))","v":""},{"$f":"IF('Beacon (Desc)'!F161=\"\",\"\",IF('Beacon (Desc)'!F161=\"Unknown\",\"BCNM001\",INDEX([1]BEACON_MANUF_MODEL!$A$2:$D$1500,MATCH(1,([1]BEACON_MANUF_MODEL!$G$2:$G$1500=\"\")*([1]BEACON_MANUF_MODEL!$D$2:$D$1500='Beacon (Desc)'!$F161),0),1)))","v":""},{"$f":"IF('Beacon (Desc)'!H161=\"\",\"\",INDEX([1]BEACON_COLOR!$A$2:$A$20,MATCH('Beacon (Desc)'!$H161,[1]!MASTER_BEACON_COLOR_DESC[#Data],0),0))","v":""},{"$f":"IF('Beacon (Desc)'!I161=\"\",\"\",INDEX([1]BEACON_SIZE!$A$2:$A$20,MATCH('Beacon (Desc)'!$I161,[1]!MASTER_BEACON_SIZE_DESC[#Data],0),0))","v":""},{"$f":"IF('Beacon (Desc)'!J161=\"\",\"\",'Beacon (Desc)'!J161)","v":""}]
[{"$f":"IF('Beacon (Desc)'!A162=\"\",\"\",'Beacon (Desc)'!A162)","v":""},{"$f":"IF('Beacon (Desc)'!B162=\"\",\"\",\"1987\")","v":""},{"$f":"IF('Beacon (Desc)'!B162=\"\",\"\",'Beacon (Desc)'!B162)","v":""},{"$f":"IF('Beacon (Desc)'!C162=\"\",\"\",'Beacon (Desc)'!C162)","v":""},{"$f":"IF('Beacon (Desc)'!D162=\"\",\"\",'Beacon (Desc)'!D162)","v":""},{"$f":"IF('Beacon (Desc)'!E162=\"\",\"\",INDEX([1]BEACON_TYPE!$A$2:$A$20,MATCH('Beacon (Desc)'!$E162,[1]!MASTER_BEACON_TYPE_DESC[#Data],0),0))","v":""},{"$f":"IF('Beacon (Desc)'!F162=\"\",\"\",IF('Beacon (Desc)'!F162=\"Unknown\",\"BCN001\",(INDEX([1]BEACON_MANUF_MODEL!$A$2:$D$1500,MATCH(1,([1]BEACON_MANUF_MODEL!$G$2:$G$1500=\"\")*([1]BEACON_MANUF_MODEL!$D$2:$D$1500='Beacon (Desc)'!$F162),0),2))))","v":""},{"$f":"IF('Beacon (Desc)'!F162=\"\",\"\",IF('Beacon (Desc)'!F162=\"Unknown\",\"BCNM001\",INDEX([1]BEACON_MANUF_MODEL!$A$2:$D$1500,MATCH(1,([1]BEACON_MANUF_MODEL!$G$2:$G$1500=\"\")*([1]BEACON_MANUF_MODEL!$D$2:$D$1500='Beacon (Desc)'!$F162),0),1)))","v":""},{"$f":"IF('Beacon (Desc)'!H162=\"\",\"\",INDEX([1]BEACON_COLOR!$A$2:$A$20,MATCH('Beacon (Desc)'!$H162,[1]!MASTER_BEACON_COLOR_DESC[#Data],0),0))","v":""},{"$f":"IF('Beacon (Desc)'!I162=\"\",\"\",INDEX([1]BEACON_SIZE!$A$2:$A$20,MATCH('Beacon (Desc)'!$I162,[1]!MASTER_BEACON_SIZE_DESC[#Data],0),0))","v":""},{"$f":"IF('Beacon (Desc)'!J162=\"\",\"\",'Beacon (Desc)'!J162)","v":""}]
[{"$f":"IF('Beacon (Desc)'!A163=\"\",\"\",'Beacon (Desc)'!A163)","v":""},{"$f":"IF('Beacon (Desc)'!B163=\"\",\"\",\"1987\")","v":""},{"$f":"IF('Beacon (Desc)'!B163=\"\",\"\",'Beacon (Desc)'!B163)","v":""},{"$f":"IF('Beacon (Desc)'!C163=\"\",\"\",'Beacon (Desc)'!C163)","v":""},{"$f":"IF('Beacon (Desc)'!D163=\"\",\"\",'Beacon (Desc)'!D163)","v":""},{"$f":"IF('Beacon (Desc)'!E163=\"\",\"\",INDEX([1]BEACON_TYPE!$A$2:$A$20,MATCH('Beacon (Desc)'!$E163,[1]!MASTER_BEACON_TYPE_DESC[#Data],0),0))","v":""},{"$f":"IF('Beacon (Desc)'!F163=\"\",\"\",IF('Beacon (Desc)'!F163=\"Unknown\",\"BCN001\",(INDEX([1]BEACON_MANUF_MODEL!$A$2:$D$1500,MATCH(1,([1]BEACON_MANUF_MODEL!$G$2:$G$1500=\"\")*([1]BEACON_MANUF_MODEL!$D$2:$D$1500='Beacon (Desc)'!$F163),0),2))))","v":""},{"$f":"IF('Beacon (Desc)'!F163=\"\",\"\",IF('Beacon (Desc)'!F163=\"Unknown\",\"BCNM001\",INDEX([1]BEACON_MANUF_MODEL!$A$2:$D$1500,MATCH(1,([1]BEACON_MANUF_MODEL!$G$2:$G$1500=\"\")*([1]BEACON_MANUF_MODEL!$D$2:$D$1500='Beacon (Desc)'!$F163),0),1)))","v":""},{"$f":"IF('Beacon (Desc)'!H163=\"\",\"\",INDEX([1]BEACON_COLOR!$A$2:$A$20,MATCH('Beacon (Desc)'!$H163,[1]!MASTER_BEACON_COLOR_DESC[#Data],0),0))","v":""},{"$f":"IF('Beacon (Desc)'!I163=\"\",\"\",INDEX([1]BEACON_SIZE!$A$2:$A$20,MATCH('Beacon (Desc)'!$I163,[1]!MASTER_BEACON_SIZE_DESC[#Data],0),0))","v":""},{"$f":"IF('Beacon (Desc)'!J163=\"\",\"\",'Beacon (Desc)'!J163)","v":""}]
[{"$f":"IF('Beacon (Desc)'!A164=\"\",\"\",'Beacon (Desc)'!A164)","v":""},{"$f":"IF('Beacon (Desc)'!B164=\"\",\"\",\"1987\")","v":""},{"$f":"IF('Beacon (Desc)'!B164=\"\",\"\",'Beacon (Desc)'!B164)","v":""},{"$f":"IF('Beacon (Desc)'!C164=\"\",\"\",'Beacon (Desc)'!C164)","v":""},{"$f":"IF('Beacon (Desc)'!D164=\"\",\"\",'Beacon (Desc)'!D164)","v":""},{"$f":"IF('Beacon (Desc)'!E164=\"\",\"\",INDEX([1]BEACON_TYPE!$A$2:$A$20,MATCH('Beacon (Desc)'!$E164,[1]!MASTER_BEACON_TYPE_DESC[#Data],0),0))","v":""},{"$f":"IF('Beacon (Desc)'!F164=\"\",\"\",IF('Beacon (Desc)'!F164=\"Unknown\",\"BCN001\",(INDEX([1]BEACON_MANUF_MODEL!$A$2:$D$1500,MATCH(1,([1]BEACON_MANUF_MODEL!$G$2:$G$1500=\"\")*([1]BEACON_MANUF_MODEL!$D$2:$D$1500='Beacon (Desc)'!$F164),0),2))))","v":""},{"$f":"IF('Beacon (Desc)'!F164=\"\",\"\",IF('Beacon (Desc)'!F164=\"Unknown\",\"BCNM001\",INDEX([1]BEACON_MANUF_MODEL!$A$2:$D$1500,MATCH(1,([1]BEACON_MANUF_MODEL!$G$2:$G$1500=\"\")*([1]BEACON_MANUF_MODEL!$D$2:$D$1500='Beacon (Desc)'!$F164),0),1)))","v":""},{"$f":"IF('Beacon (Desc)'!H164=\"\",\"\",INDEX([1]BEACON_COLOR!$A$2:$A$20,MATCH('Beacon (Desc)'!$H164,[1]!MASTER_BEACON_COLOR_DESC[#Data],0),0))","v":""},{"$f":"IF('Beacon (Desc)'!I164=\"\",\"\",INDEX([1]BEACON_SIZE!$A$2:$A$20,MATCH('Beacon (Desc)'!$I164,[1]!MASTER_BEACON_SIZE_DESC[#Data],0),0))","v":""},{"$f":"IF('Beacon (Desc)'!J164=\"\",\"\",'Beacon (Desc)'!J164)","v":""}]
[{"$f":"IF('Beacon (Desc)'!A165=\"\",\"\",'Beacon (Desc)'!A165)","v":""},{"$f":"IF('Beacon (Desc)'!B165=\"\",\"\",\"1987\")","v":""},{"$f":"IF('Beacon (Desc)'!B165=\"\",\"\",'Beacon (Desc)'!B165)","v":""},{"$f":"IF('Beacon (Desc)'!C165=\"\",\"\",'Beacon (Desc)'!C165)","v":""},{"$f":"IF('Beacon (Desc)'!D165=\"\",\"\",'Beacon (Desc)'!D165)","v":""},{"$f":"IF('Beacon (Desc)'!E165=\"\",\"\",INDEX([1]BEACON_TYPE!$A$2:$A$20,MATCH('Beacon (Desc)'!$E165,[1]!MASTER_BEACON_TYPE_DESC[#Data],0),0))","v":""},{"$f":"IF('Beacon (Desc)'!F165=\"\",\"\",IF('Beacon (Desc)'!F165=\"Unknown\",\"BCN001\",(INDEX([1]BEACON_MANUF_MODEL!$A$2:$D$1500,MATCH(1,([1]BEACON_MANUF_MODEL!$G$2:$G$1500=\"\")*([1]BEACON_MANUF_MODEL!$D$2:$D$1500='Beacon (Desc)'!$F165),0),2))))","v":""},{"$f":"IF('Beacon (Desc)'!F165=\"\",\"\",IF('Beacon (Desc)'!F165=\"Unknown\",\"BCNM001\",INDEX([1]BEACON_MANUF_MODEL!$A$2:$D$1500,MATCH(1,([1]BEACON_MANUF_MODEL!$G$2:$G$1500=\"\")*([1]BEACON_MANUF_MODEL!$D$2:$D$1500='Beacon (Desc)'!$F165),0),1)))","v":""},{"$f":"IF('Beacon (Desc)'!H165=\"\",\"\",INDEX([1]BEACON_COLOR!$A$2:$A$20,MATCH('Beacon (Desc)'!$H165,[1]!MASTER_BEACON_COLOR_DESC[#Data],0),0))","v":""},{"$f":"IF('Beacon (Desc)'!I165=\"\",\"\",INDEX([1]BEACON_SIZE!$A$2:$A$20,MATCH('Beacon (Desc)'!$I165,[1]!MASTER_BEACON_SIZE_DESC[#Data],0),0))","v":""},{"$f":"IF('Beacon (Desc)'!J165=\"\",\"\",'Beacon (Desc)'!J165)","v":""}]
[{"$f":"IF('Beacon (Desc)'!A166=\"\",\"\",'Beacon (Desc)'!A166)","v":""},{"$f":"IF('Beacon (Desc)'!B166=\"\",\"\",\"1987\")","v":""},{"$f":"IF('Beacon (Desc)'!B166=\"\",\"\",'Beacon (Desc)'!B166)","v":""},{"$f":"IF('Beacon (Desc)'!C166=\"\",\"\",'Beacon (Desc)'!C166)","v":""},{"$f":"IF('Beacon (Desc)'!D166=\"\",\"\",'Beacon (Desc)'!D166)","v":""},{"$f":"IF('Beacon (Desc)'!E166=\"\",\"\",INDEX([1]BEACON_TYPE!$A$2:$A$20,MATCH('Beacon (Desc)'!$E166,[1]!MASTER_BEACON_TYPE_DESC[#Data],0),0))","v":""},{"$f":"IF('Beacon (Desc)'!F166=\"\",\"\",IF('Beacon (Desc)'!F166=\"Unknown\",\"BCN001\",(INDEX([1]BEACON_MANUF_MODEL!$A$2:$D$1500,MATCH(1,([1]BEACON_MANUF_MODEL!$G$2:$G$1500=\"\")*([1]BEACON_MANUF_MODEL!$D$2:$D$1500='Beacon (Desc)'!$F166),0),2))))","v":""},{"$f":"IF('Beacon (Desc)'!F166=\"\",\"\",IF('Beacon (Desc)'!F166=\"Unknown\",\"BCNM001\",INDEX([1]BEACON_MANUF_MODEL!$A$2:$D$1500,MATCH(1,([1]BEACON_MANUF_MODEL!$G$2:$G$1500=\"\")*([1]BEACON_MANUF_MODEL!$D$2:$D$1500='Beacon (Desc)'!$F166),0),1)))","v":""},{"$f":"IF('Beacon (Desc)'!H166=\"\",\"\",INDEX([1]BEACON_COLOR!$A$2:$A$20,MATCH('Beacon (Desc)'!$H166,[1]!MASTER_BEACON_COLOR_DESC[#Data],0),0))","v":""},{"$f":"IF('Beacon (Desc)'!I166=\"\",\"\",INDEX([1]BEACON_SIZE!$A$2:$A$20,MATCH('Beacon (Desc)'!$I166,[1]!MASTER_BEACON_SIZE_DESC[#Data],0),0))","v":""},{"$f":"IF('Beacon (Desc)'!J166=\"\",\"\",'Beacon (Desc)'!J166)","v":""}]
[{"$f":"IF('Beacon (Desc)'!A167=\"\",\"\",'Beacon (Desc)'!A167)","v":""},{"$f":"IF('Beacon (Desc)'!B167=\"\",\"\",\"1987\")","v":""},{"$f":"IF('Beacon (Desc)'!B167=\"\",\"\",'Beacon (Desc)'!B167)","v":""},{"$f":"IF('Beacon (Desc)'!C167=\"\",\"\",'Beacon (Desc)'!C167)","v":""},{"$f":"IF('Beacon (Desc)'!D167=\"\",\"\",'Beacon (Desc)'!D167)","v":""},{"$f":"IF('Beacon (Desc)'!E167=\"\",\"\",INDEX([1]BEACON_TYPE!$A$2:$A$20,MATCH('Beacon (Desc)'!$E167,[1]!MASTER_BEACON_TYPE_DESC[#Data],0),0))","v":""},{"$f":"IF('Beacon (Desc)'!F167=\"\",\"\",IF('Beacon (Desc)'!F167=\"Unknown\",\"BCN001\",(INDEX([1]BEACON_MANUF_MODEL!$A$2:$D$1500,MATCH(1,([1]BEACON_MANUF_MODEL!$G$2:$G$1500=\"\")*([1]BEACON_MANUF_MODEL!$D$2:$D$1500='Beacon (Desc)'!$F167),0),2))))","v":""},{"$f":"IF('Beacon (Desc)'!F167=\"\",\"\",IF('Beacon (Desc)'!F167=\"Unknown\",\"BCNM001\",INDEX([1]BEACON_MANUF_MODEL!$A$2:$D$1500,MATCH(1,([1]BEACON_MANUF_MODEL!$G$2:$G$1500=\"\")*([1]BEACON_MANUF_MODEL!$D$2:$D$1500='Beacon (Desc)'!$F167),0),1)))","v":""},{"$f":"IF('Beacon (Desc)'!H167=\"\",\"\",INDEX([1]BEACON_COLOR!$A$2:$A$20,MATCH('Beacon (Desc)'!$H167,[1]!MASTER_BEACON_COLOR_DESC[#Data],0),0))","v":""},{"$f":"IF('Beacon (Desc)'!I167=\"\",\"\",INDEX([1]BEACON_SIZE!$A$2:$A$20,MATCH('Beacon (Desc)'!$I167,[1]!MASTER_BEACON_SIZE_DESC[#Data],0),0))","v":""},{"$f":"IF('Beacon (Desc)'!J167=\"\",\"\",'Beacon (Desc)'!J167)","v":""}]
[{"$f":"IF('Beacon (Desc)'!A168=\"\",\"\",'Beacon (Desc)'!A168)","v":""},{"$f":"IF('Beacon (Desc)'!B168=\"\",\"\",\"1987\")","v":""},{"$f":"IF('Beacon (Desc)'!B168=\"\",\"\",'Beacon (Desc)'!B168)","v":""},{"$f":"IF('Beacon (Desc)'!C168=\"\",\"\",'Beacon (Desc)'!C168)","v":""},{"$f":"IF('Beacon (Desc)'!D168=\"\",\"\",'Beacon (Desc)'!D168)","v":""},{"$f":"IF('Beacon (Desc)'!E168=\"\",\"\",INDEX([1]BEACON_TYPE!$A$2:$A$20,MATCH('Beacon (Desc)'!$E168,[1]!MASTER_BEACON_TYPE_DESC[#Data],0),0))","v":""},{"$f":"IF('Beacon (Desc)'!F168=\"\",\"\",IF('Beacon (Desc)'!F168=\"Unknown\",\"BCN001\",(INDEX([1]BEACON_MANUF_MODEL!$A$2:$D$1500,MATCH(1,([1]BEACON_MANUF_MODEL!$G$2:$G$1500=\"\")*([1]BEACON_MANUF_MODEL!$D$2:$D$1500='Beacon (Desc)'!$F168),0),2))))","v":""},{"$f":"IF('Beacon (Desc)'!F168=\"\",\"\",IF('Beacon (Desc)'!F168=\"Unknown\",\"BCNM001\",INDEX([1]BEACON_MANUF_MODEL!$A$2:$D$1500,MATCH(1,([1]BEACON_MANUF_MODEL!$G$2:$G$1500=\"\")*([1]BEACON_MANUF_MODEL!$D$2:$D$1500='Beacon (Desc)'!$F168),0),1)))","v":""},{"$f":"IF('Beacon (Desc)'!H168=\"\",\"\",INDEX([1]BEACON_COLOR!$A$2:$A$20,MATCH('Beacon (Desc)'!$H168,[1]!MASTER_BEACON_COLOR_DESC[#Data],0),0))","v":""},{"$f":"IF('Beacon (Desc)'!I168=\"\",\"\",INDEX([1]BEACON_SIZE!$A$2:$A$20,MATCH('Beacon (Desc)'!$I168,[1]!MASTER_BEACON_SIZE_DESC[#Data],0),0))","v":""},{"$f":"IF('Beacon (Desc)'!J168=\"\",\"\",'Beacon (Desc)'!J168)","v":""}]
[{"$f":"IF('Beacon (Desc)'!A169=\"\",\"\",'Beacon (Desc)'!A169)","v":""},{"$f":"IF('Beacon (Desc)'!B169=\"\",\"\",\"1987\")","v":""},{"$f":"IF('Beacon (Desc)'!B169=\"\",\"\",'Beacon (Desc)'!B169)","v":""},{"$f":"IF('Beacon (Desc)'!C169=\"\",\"\",'Beacon (Desc)'!C169)","v":""},{"$f":"IF('Beacon (Desc)'!D169=\"\",\"\",'Beacon (Desc)'!D169)","v":""},{"$f":"IF('Beacon (Desc)'!E169=\"\",\"\",INDEX([1]BEACON_TYPE!$A$2:$A$20,MATCH('Beacon (Desc)'!$E169,[1]!MASTER_BEACON_TYPE_DESC[#Data],0),0))","v":""},{"$f":"IF('Beacon (Desc)'!F169=\"\",\"\",IF('Beacon (Desc)'!F169=\"Unknown\",\"BCN001\",(INDEX([1]BEACON_MANUF_MODEL!$A$2:$D$1500,MATCH(1,([1]BEACON_MANUF_MODEL!$G$2:$G$1500=\"\")*([1]BEACON_MANUF_MODEL!$D$2:$D$1500='Beacon (Desc)'!$F169),0),2))))","v":""},{"$f":"IF('Beacon (Desc)'!F169=\"\",\"\",IF('Beacon (Desc)'!F169=\"Unknown\",\"BCNM001\",INDEX([1]BEACON_MANUF_MODEL!$A$2:$D$1500,MATCH(1,([1]BEACON_MANUF_MODEL!$G$2:$G$1500=\"\")*([1]BEACON_MANUF_MODEL!$D$2:$D$1500='Beacon (Desc)'!$F169),0),1)))","v":""},{"$f":"IF('Beacon (Desc)'!H169=\"\",\"\",INDEX([1]BEACON_COLOR!$A$2:$A$20,MATCH('Beacon (Desc)'!$H169,[1]!MASTER_BEACON_COLOR_DESC[#Data],0),0))","v":""},{"$f":"IF('Beacon (Desc)'!I169=\"\",\"\",INDEX([1]BEACON_SIZE!$A$2:$A$20,MATCH('Beacon (Desc)'!$I169,[1]!MASTER_BEACON_SIZE_DESC[#Data],0),0))","v":""},{"$f":"IF('Beacon (Desc)'!J169=\"\",\"\",'Beacon (Desc)'!J169)","v":""}]
[{"$f":"IF('Beacon (Desc)'!A170=\"\",\"\",'Beacon (Desc)'!A170)","v":""},{"$f":"IF('Beacon (Desc)'!B170=\"\",\"\",\"1987\")","v":""},{"$f":"IF('Beacon (Desc)'!B170=\"\",\"\",'Beacon (Desc)'!B170)","v":""},{"$f":"IF('Beacon (Desc)'!C170=\"\",\"\",'Beacon (Desc)'!C170)","v":""},{"$f":"IF('Beacon (Desc)'!D170=\"\",\"\",'Beacon (Desc)'!D170)","v":""},{"$f":"IF('Beacon (Desc)'!E170=\"\",\"\",INDEX([1]BEACON_TYPE!$A$2:$A$20,MATCH('Beacon (Desc)'!$E170,[1]!MASTER_BEACON_TYPE_DESC[#Data],0),0))","v":""},{"$f":"IF('Beacon (Desc)'!F170=\"\",\"\",IF('Beacon (Desc)'!F170=\"Unknown\",\"BCN001\",(INDEX([1]BEACON_MANUF_MODEL!$A$2:$D$1500,MATCH(1,([1]BEACON_MANUF_MODEL!$G$2:$G$1500=\"\")*([1]BEACON_MANUF_MODEL!$D$2:$D$1500='Beacon (Desc)'!$F170),0),2))))","v":""},{"$f":"IF('Beacon (Desc)'!F170=\"\",\"\",IF('Beacon (Desc)'!F170=\"Unknown\",\"BCNM001\",INDEX([1]BEACON_MANUF_MODEL!$A$2:$D$1500,MATCH(1,([1]BEACON_MANUF_MODEL!$G$2:$G$1500=\"\")*([1]BEACON_MANUF_MODEL!$D$2:$D$1500='Beacon (Desc)'!$F170),0),1)))","v":""},{"$f":"IF('Beacon (Desc)'!H170=\"\",\"\",INDEX([1]BEACON_COLOR!$A$2:$A$20,MATCH('Beacon (Desc)'!$H170,[1]!MASTER_BEACON_COLOR_DESC[#Data],0),0))","v":""},{"$f":"IF('Beacon (Desc)'!I170=\"\",\"\",INDEX([1]BEACON_SIZE!$A$2:$A$20,MATCH('Beacon (Desc)'!$I170,[1]!MASTER_BEACON_SIZE_DESC[#Data],0),0))","v":""},{"$f":"IF('Beacon (Desc)'!J170=\"\",\"\",'Beacon (Desc)'!J170)","v":""}]
[{"$f":"IF('Beacon (Desc)'!A171=\"\",\"\",'Beacon (Desc)'!A171)","v":""},{"$f":"IF('Beacon (Desc)'!B171=\"\",\"\",\"1987\")","v":""},{"$f":"IF('Beacon (Desc)'!B171=\"\",\"\",'Beacon (Desc)'!B171)","v":""},{"$f":"IF('Beacon (Desc)'!C171=\"\",\"\",'Beacon (Desc)'!C171)","v":""},{"$f":"IF('Beacon (Desc)'!D171=\"\",\"\",'Beacon (Desc)'!D171)","v":""},{"$f":"IF('Beacon (Desc)'!E171=\"\",\"\",INDEX([1]BEACON_TYPE!$A$2:$A$20,MATCH('Beacon (Desc)'!$E171,[1]!MASTER_BEACON_TYPE_DESC[#Data],0),0))","v":""},{"$f":"IF('Beacon (Desc)'!F171=\"\",\"\",IF('Beacon (Desc)'!F171=\"Unknown\",\"BCN001\",(INDEX([1]BEACON_MANUF_MODEL!$A$2:$D$1500,MATCH(1,([1]BEACON_MANUF_MODEL!$G$2:$G$1500=\"\")*([1]BEACON_MANUF_MODEL!$D$2:$D$1500='Beacon (Desc)'!$F171),0),2))))","v":""},{"$f":"IF('Beacon (Desc)'!F171=\"\",\"\",IF('Beacon (Desc)'!F171=\"Unknown\",\"BCNM001\",INDEX([1]BEACON_MANUF_MODEL!$A$2:$D$1500,MATCH(1,([1]BEACON_MANUF_MODEL!$G$2:$G$1500=\"\")*([1]BEACON_MANUF_MODEL!$D$2:$D$1500='Beacon (Desc)'!$F171),0),1)))","v":""},{"$f":"IF('Beacon (Desc)'!H171=\"\",\"\",INDEX([1]BEACON_COLOR!$A$2:$A$20,MATCH('Beacon (Desc)'!$H171,[1]!MASTER_BEACON_COLOR_DESC[#Data],0),0))","v":""},{"$f":"IF('Beacon (Desc)'!I171=\"\",\"\",INDEX([1]BEACON_SIZE!$A$2:$A$20,MATCH('Beacon (Desc)'!$I171,[1]!MASTER_BEACON_SIZE_DESC[#Data],0),0))","v":""},{"$f":"IF('Beacon (Desc)'!J171=\"\",\"\",'Beacon (Desc)'!J171)","v":""}]
[{"$f":"IF('Beacon (Desc)'!A172=\"\",\"\",'Beacon (Desc)'!A172)","v":""},{"$f":"IF('Beacon (Desc)'!B172=\"\",\"\",\"1987\")","v":""},{"$f":"IF('Beacon (Desc)'!B172=\"\",\"\",'Beacon (Desc)'!B172)","v":""},{"$f":"IF('Beacon (Desc)'!C172=\"\",\"\",'Beacon (Desc)'!C172)","v":""},{"$f":"IF('Beacon (Desc)'!D172=\"\",\"\",'Beacon (Desc)'!D172)","v":""},{"$f":"IF('Beacon (Desc)'!E172=\"\",\"\",INDEX([1]BEACON_TYPE!$A$2:$A$20,MATCH('Beacon (Desc)'!$E172,[1]!MASTER_BEACON_TYPE_DESC[#Data],0),0))","v":""},{"$f":"IF('Beacon (Desc)'!F172=\"\",\"\",IF('Beacon (Desc)'!F172=\"Unknown\",\"BCN001\",(INDEX([1]BEACON_MANUF_MODEL!$A$2:$D$1500,MATCH(1,([1]BEACON_MANUF_MODEL!$G$2:$G$1500=\"\")*([1]BEACON_MANUF_MODEL!$D$2:$D$1500='Beacon (Desc)'!$F172),0),2))))","v":""},{"$f":"IF('Beacon (Desc)'!F172=\"\",\"\",IF('Beacon (Desc)'!F172=\"Unknown\",\"BCNM001\",INDEX([1]BEACON_MANUF_MODEL!$A$2:$D$1500,MATCH(1,([1]BEACON_MANUF_MODEL!$G$2:$G$1500=\"\")*([1]BEACON_MANUF_MODEL!$D$2:$D$1500='Beacon (Desc)'!$F172),0),1)))","v":""},{"$f":"IF('Beacon (Desc)'!H172=\"\",\"\",INDEX([1]BEACON_COLOR!$A$2:$A$20,MATCH('Beacon (Desc)'!$H172,[1]!MASTER_BEACON_COLOR_DESC[#Data],0),0))","v":""},{"$f":"IF('Beacon (Desc)'!I172=\"\",\"\",INDEX([1]BEACON_SIZE!$A$2:$A$20,MATCH('Beacon (Desc)'!$I172,[1]!MASTER_BEACON_SIZE_DESC[#Data],0),0))","v":""},{"$f":"IF('Beacon (Desc)'!J172=\"\",\"\",'Beacon (Desc)'!J172)","v":""}]
[{"$f":"IF('Beacon (Desc)'!A173=\"\",\"\",'Beacon (Desc)'!A173)","v":""},{"$f":"IF('Beacon (Desc)'!B173=\"\",\"\",\"1987\")","v":""},{"$f":"IF('Beacon (Desc)'!B173=\"\",\"\",'Beacon (Desc)'!B173)","v":""},{"$f":"IF('Beacon (Desc)'!C173=\"\",\"\",'Beacon (Desc)'!C173)","v":""},{"$f":"IF('Beacon (Desc)'!D173=\"\",\"\",'Beacon (Desc)'!D173)","v":""},{"$f":"IF('Beacon (Desc)'!E173=\"\",\"\",INDEX([1]BEACON_TYPE!$A$2:$A$20,MATCH('Beacon (Desc)'!$E173,[1]!MASTER_BEACON_TYPE_DESC[#Data],0),0))","v":""},{"$f":"IF('Beacon (Desc)'!F173=\"\",\"\",IF('Beacon (Desc)'!F173=\"Unknown\",\"BCN001\",(INDEX([1]BEACON_MANUF_MODEL!$A$2:$D$1500,MATCH(1,([1]BEACON_MANUF_MODEL!$G$2:$G$1500=\"\")*([1]BEACON_MANUF_MODEL!$D$2:$D$1500='Beacon (Desc)'!$F173),0),2))))","v":""},{"$f":"IF('Beacon (Desc)'!F173=\"\",\"\",IF('Beacon (Desc)'!F173=\"Unknown\",\"BCNM001\",INDEX([1]BEACON_MANUF_MODEL!$A$2:$D$1500,MATCH(1,([1]BEACON_MANUF_MODEL!$G$2:$G$1500=\"\")*([1]BEACON_MANUF_MODEL!$D$2:$D$1500='Beacon (Desc)'!$F173),0),1)))","v":""},{"$f":"IF('Beacon (Desc)'!H173=\"\",\"\",INDEX([1]BEACON_COLOR!$A$2:$A$20,MATCH('Beacon (Desc)'!$H173,[1]!MASTER_BEACON_COLOR_DESC[#Data],0),0))","v":""},{"$f":"IF('Beacon (Desc)'!I173=\"\",\"\",INDEX([1]BEACON_SIZE!$A$2:$A$20,MATCH('Beacon (Desc)'!$I173,[1]!MASTER_BEACON_SIZE_DESC[#Data],0),0))","v":""},{"$f":"IF('Beacon (Desc)'!J173=\"\",\"\",'Beacon (Desc)'!J173)","v":""}]
[{"$f":"IF('Beacon (Desc)'!A174=\"\",\"\",'Beacon (Desc)'!A174)","v":""},{"$f":"IF('Beacon (Desc)'!B174=\"\",\"\",\"1987\")","v":""},{"$f":"IF('Beacon (Desc)'!B174=\"\",\"\",'Beacon (Desc)'!B174)","v":""},{"$f":"IF('Beacon (Desc)'!C174=\"\",\"\",'Beacon (Desc)'!C174)","v":""},{"$f":"IF('Beacon (Desc)'!D174=\"\",\"\",'Beacon (Desc)'!D174)","v":""},{"$f":"IF('Beacon (Desc)'!E174=\"\",\"\",INDEX([1]BEACON_TYPE!$A$2:$A$20,MATCH('Beacon (Desc)'!$E174,[1]!MASTER_BEACON_TYPE_DESC[#Data],0),0))","v":""},{"$f":"IF('Beacon (Desc)'!F174=\"\",\"\",IF('Beacon (Desc)'!F174=\"Unknown\",\"BCN001\",(INDEX([1]BEACON_MANUF_MODEL!$A$2:$D$1500,MATCH(1,([1]BEACON_MANUF_MODEL!$G$2:$G$1500=\"\")*([1]BEACON_MANUF_MODEL!$D$2:$D$1500='Beacon (Desc)'!$F174),0),2))))","v":""},{"$f":"IF('Beacon (Desc)'!F174=\"\",\"\",IF('Beacon (Desc)'!F174=\"Unknown\",\"BCNM001\",INDEX([1]BEACON_MANUF_MODEL!$A$2:$D$1500,MATCH(1,([1]BEACON_MANUF_MODEL!$G$2:$G$1500=\"\")*([1]BEACON_MANUF_MODEL!$D$2:$D$1500='Beacon (Desc)'!$F174),0),1)))","v":""},{"$f":"IF('Beacon (Desc)'!H174=\"\",\"\",INDEX([1]BEACON_COLOR!$A$2:$A$20,MATCH('Beacon (Desc)'!$H174,[1]!MASTER_BEACON_COLOR_DESC[#Data],0),0))","v":""},{"$f":"IF('Beacon (Desc)'!I174=\"\",\"\",INDEX([1]BEACON_SIZE!$A$2:$A$20,MATCH('Beacon (Desc)'!$I174,[1]!MASTER_BEACON_SIZE_DESC[#Data],0),0))","v":""},{"$f":"IF('Beacon (Desc)'!J174=\"\",\"\",'Beacon (Desc)'!J174)","v":""}]
[{"$f":"IF('Beacon (Desc)'!A175=\"\",\"\",'Beacon (Desc)'!A175)","v":""},{"$f":"IF('Beacon (Desc)'!B175=\"\",\"\",\"1987\")","v":""},{"$f":"IF('Beacon (Desc)'!B175=\"\",\"\",'Beacon (Desc)'!B175)","v":""},{"$f":"IF('Beacon (Desc)'!C175=\"\",\"\",'Beacon (Desc)'!C175)","v":""},{"$f":"IF('Beacon (Desc)'!D175=\"\",\"\",'Beacon (Desc)'!D175)","v":""},{"$f":"IF('Beacon (Desc)'!E175=\"\",\"\",INDEX([1]BEACON_TYPE!$A$2:$A$20,MATCH('Beacon (Desc)'!$E175,[1]!MASTER_BEACON_TYPE_DESC[#Data],0),0))","v":""},{"$f":"IF('Beacon (Desc)'!F175=\"\",\"\",IF('Beacon (Desc)'!F175=\"Unknown\",\"BCN001\",(INDEX([1]BEACON_MANUF_MODEL!$A$2:$D$1500,MATCH(1,([1]BEACON_MANUF_MODEL!$G$2:$G$1500=\"\")*([1]BEACON_MANUF_MODEL!$D$2:$D$1500='Beacon (Desc)'!$F175),0),2))))","v":""},{"$f":"IF('Beacon (Desc)'!F175=\"\",\"\",IF('Beacon (Desc)'!F175=\"Unknown\",\"BCNM001\",INDEX([1]BEACON_MANUF_MODEL!$A$2:$D$1500,MATCH(1,([1]BEACON_MANUF_MODEL!$G$2:$G$1500=\"\")*([1]BEACON_MANUF_MODEL!$D$2:$D$1500='Beacon (Desc)'!$F175),0),1)))","v":""},{"$f":"IF('Beacon (Desc)'!H175=\"\",\"\",INDEX([1]BEACON_COLOR!$A$2:$A$20,MATCH('Beacon (Desc)'!$H175,[1]!MASTER_BEACON_COLOR_DESC[#Data],0),0))","v":""},{"$f":"IF('Beacon (Desc)'!I175=\"\",\"\",INDEX([1]BEACON_SIZE!$A$2:$A$20,MATCH('Beacon (Desc)'!$I175,[1]!MASTER_BEACON_SIZE_DESC[#Data],0),0))","v":""},{"$f":"IF('Beacon (Desc)'!J175=\"\",\"\",'Beacon (Desc)'!J175)","v":""}]
[{"$f":"IF('Beacon (Desc)'!A176=\"\",\"\",'Beacon (Desc)'!A176)","v":""},{"$f":"IF('Beacon (Desc)'!B176=\"\",\"\",\"1987\")","v":""},{"$f":"IF('Beacon (Desc)'!B176=\"\",\"\",'Beacon (Desc)'!B176)","v":""},{"$f":"IF('Beacon (Desc)'!C176=\"\",\"\",'Beacon (Desc)'!C176)","v":""},{"$f":"IF('Beacon (Desc)'!D176=\"\",\"\",'Beacon (Desc)'!D176)","v":""},{"$f":"IF('Beacon (Desc)'!E176=\"\",\"\",INDEX([1]BEACON_TYPE!$A$2:$A$20,MATCH('Beacon (Desc)'!$E176,[1]!MASTER_BEACON_TYPE_DESC[#Data],0),0))","v":""},{"$f":"IF('Beacon (Desc)'!F176=\"\",\"\",IF('Beacon (Desc)'!F176=\"Unknown\",\"BCN001\",(INDEX([1]BEACON_MANUF_MODEL!$A$2:$D$1500,MATCH(1,([1]BEACON_MANUF_MODEL!$G$2:$G$1500=\"\")*([1]BEACON_MANUF_MODEL!$D$2:$D$1500='Beacon (Desc)'!$F176),0),2))))","v":""},{"$f":"IF('Beacon (Desc)'!F176=\"\",\"\",IF('Beacon (Desc)'!F176=\"Unknown\",\"BCNM001\",INDEX([1]BEACON_MANUF_MODEL!$A$2:$D$1500,MATCH(1,([1]BEACON_MANUF_MODEL!$G$2:$G$1500=\"\")*([1]BEACON_MANUF_MODEL!$D$2:$D$1500='Beacon (Desc)'!$F176),0),1)))","v":""},{"$f":"IF('Beacon (Desc)'!H176=\"\",\"\",INDEX([1]BEACON_COLOR!$A$2:$A$20,MATCH('Beacon (Desc)'!$H176,[1]!MASTER_BEACON_COLOR_DESC[#Data],0),0))","v":""},{"$f":"IF('Beacon (Desc)'!I176=\"\",\"\",INDEX([1]BEACON_SIZE!$A$2:$A$20,MATCH('Beacon (Desc)'!$I176,[1]!MASTER_BEACON_SIZE_DESC[#Data],0),0))","v":""},{"$f":"IF('Beacon (Desc)'!J176=\"\",\"\",'Beacon (Desc)'!J176)","v":""}]
[{"$f":"IF('Beacon (Desc)'!A177=\"\",\"\",'Beacon (Desc)'!A177)","v":""},{"$f":"IF('Beacon (Desc)'!B177=\"\",\"\",\"1987\")","v":""},{"$f":"IF('Beacon (Desc)'!B177=\"\",\"\",'Beacon (Desc)'!B177)","v":""},{"$f":"IF('Beacon (Desc)'!C177=\"\",\"\",'Beacon (Desc)'!C177)","v":""},{"$f":"IF('Beacon (Desc)'!D177=\"\",\"\",'Beacon (Desc)'!D177)","v":""},{"$f":"IF('Beacon (Desc)'!E177=\"\",\"\",INDEX([1]BEACON_TYPE!$A$2:$A$20,MATCH('Beacon (Desc)'!$E177,[1]!MASTER_BEACON_TYPE_DESC[#Data],0),0))","v":""},{"$f":"IF('Beacon (Desc)'!F177=\"\",\"\",IF('Beacon (Desc)'!F177=\"Unknown\",\"BCN001\",(INDEX([1]BEACON_MANUF_MODEL!$A$2:$D$1500,MATCH(1,([1]BEACON_MANUF_MODEL!$G$2:$G$1500=\"\")*([1]BEACON_MANUF_MODEL!$D$2:$D$1500='Beacon (Desc)'!$F177),0),2))))","v":""},{"$f":"IF('Beacon (Desc)'!F177=\"\",\"\",IF('Beacon (Desc)'!F177=\"Unknown\",\"BCNM001\",INDEX([1]BEACON_MANUF_MODEL!$A$2:$D$1500,MATCH(1,([1]BEACON_MANUF_MODEL!$G$2:$G$1500=\"\")*([1]BEACON_MANUF_MODEL!$D$2:$D$1500='Beacon (Desc)'!$F177),0),1)))","v":""},{"$f":"IF('Beacon (Desc)'!H177=\"\",\"\",INDEX([1]BEACON_COLOR!$A$2:$A$20,MATCH('Beacon (Desc)'!$H177,[1]!MASTER_BEACON_COLOR_DESC[#Data],0),0))","v":""},{"$f":"IF('Beacon (Desc)'!I177=\"\",\"\",INDEX([1]BEACON_SIZE!$A$2:$A$20,MATCH('Beacon (Desc)'!$I177,[1]!MASTER_BEACON_SIZE_DESC[#Data],0),0))","v":""},{"$f":"IF('Beacon (Desc)'!J177=\"\",\"\",'Beacon (Desc)'!J177)","v":""}]
[{"$f":"IF('Beacon (Desc)'!A178=\"\",\"\",'Beacon (Desc)'!A178)","v":""},{"$f":"IF('Beacon (Desc)'!B178=\"\",\"\",\"1987\")","v":""},{"$f":"IF('Beacon (Desc)'!B178=\"\",\"\",'Beacon (Desc)'!B178)","v":""},{"$f":"IF('Beacon (Desc)'!C178=\"\",\"\",'Beacon (Desc)'!C178)","v":""},{"$f":"IF('Beacon (Desc)'!D178=\"\",\"\",'Beacon (Desc)'!D178)","v":""},{"$f":"IF('Beacon (Desc)'!E178=\"\",\"\",INDEX([1]BEACON_TYPE!$A$2:$A$20,MATCH('Beacon (Desc)'!$E178,[1]!MASTER_BEACON_TYPE_DESC[#Data],0),0))","v":""},{"$f":"IF('Beacon (Desc)'!F178=\"\",\"\",IF('Beacon (Desc)'!F178=\"Unknown\",\"BCN001\",(INDEX([1]BEACON_MANUF_MODEL!$A$2:$D$1500,MATCH(1,([1]BEACON_MANUF_MODEL!$G$2:$G$1500=\"\")*([1]BEACON_MANUF_MODEL!$D$2:$D$1500='Beacon (Desc)'!$F178),0),2))))","v":""},{"$f":"IF('Beacon (Desc)'!F178=\"\",\"\",IF('Beacon (Desc)'!F178=\"Unknown\",\"BCNM001\",INDEX([1]BEACON_MANUF_MODEL!$A$2:$D$1500,MATCH(1,([1]BEACON_MANUF_MODEL!$G$2:$G$1500=\"\")*([1]BEACON_MANUF_MODEL!$D$2:$D$1500='Beacon (Desc)'!$F178),0),1)))","v":""},{"$f":"IF('Beacon (Desc)'!H178=\"\",\"\",INDEX([1]BEACON_COLOR!$A$2:$A$20,MATCH('Beacon (Desc)'!$H178,[1]!MASTER_BEACON_COLOR_DESC[#Data],0),0))","v":""},{"$f":"IF('Beacon (Desc)'!I178=\"\",\"\",INDEX([1]BEACON_SIZE!$A$2:$A$20,MATCH('Beacon (Desc)'!$I178,[1]!MASTER_BEACON_SIZE_DESC[#Data],0),0))","v":""},{"$f":"IF('Beacon (Desc)'!J178=\"\",\"\",'Beacon (Desc)'!J178)","v":""}]
[{"$f":"IF('Beacon (Desc)'!A179=\"\",\"\",'Beacon (Desc)'!A179)","v":""},{"$f":"IF('Beacon (Desc)'!B179=\"\",\"\",\"1987\")","v":""},{"$f":"IF('Beacon (Desc)'!B179=\"\",\"\",'Beacon (Desc)'!B179)","v":""},{"$f":"IF('Beacon (Desc)'!C179=\"\",\"\",'Beacon (Desc)'!C179)","v":""},{"$f":"IF('Beacon (Desc)'!D179=\"\",\"\",'Beacon (Desc)'!D179)","v":""},{"$f":"IF('Beacon (Desc)'!E179=\"\",\"\",INDEX([1]BEACON_TYPE!$A$2:$A$20,MATCH('Beacon (Desc)'!$E179,[1]!MASTER_BEACON_TYPE_DESC[#Data],0),0))","v":""},{"$f":"IF('Beacon (Desc)'!F179=\"\",\"\",IF('Beacon (Desc)'!F179=\"Unknown\",\"BCN001\",(INDEX([1]BEACON_MANUF_MODEL!$A$2:$D$1500,MATCH(1,([1]BEACON_MANUF_MODEL!$G$2:$G$1500=\"\")*([1]BEACON_MANUF_MODEL!$D$2:$D$1500='Beacon (Desc)'!$F179),0),2))))","v":""},{"$f":"IF('Beacon (Desc)'!F179=\"\",\"\",IF('Beacon (Desc)'!F179=\"Unknown\",\"BCNM001\",INDEX([1]BEACON_MANUF_MODEL!$A$2:$D$1500,MATCH(1,([1]BEACON_MANUF_MODEL!$G$2:$G$1500=\"\")*([1]BEACON_MANUF_MODEL!$D$2:$D$1500='Beacon (Desc)'!$F179),0),1)))","v":""},{"$f":"IF('Beacon (Desc)'!H179=\"\",\"\",INDEX([1]BEACON_COLOR!$A$2:$A$20,MATCH('Beacon (Desc)'!$H179,[1]!MASTER_BEACON_COLOR_DESC[#Data],0),0))","v":""},{"$f":"IF('Beacon (Desc)'!I179=\"\",\"\",INDEX([1]BEACON_SIZE!$A$2:$A$20,MATCH('Beacon (Desc)'!$I179,[1]!MASTER_BEACON_SIZE_DESC[#Data],0),0))","v":""},{"$f":"IF('Beacon (Desc)'!J179=\"\",\"\",'Beacon (Desc)'!J179)","v":""}]
[{"$f":"IF('Beacon (Desc)'!A180=\"\",\"\",'Beacon (Desc)'!A180)","v":""},{"$f":"IF('Beacon (Desc)'!B180=\"\",\"\",\"1987\")","v":""},{"$f":"IF('Beacon (Desc)'!B180=\"\",\"\",'Beacon (Desc)'!B180)","v":""},{"$f":"IF('Beacon (Desc)'!C180=\"\",\"\",'Beacon (Desc)'!C180)","v":""},{"$f":"IF('Beacon (Desc)'!D180=\"\",\"\",'Beacon (Desc)'!D180)","v":""},{"$f":"IF('Beacon (Desc)'!E180=\"\",\"\",INDEX([1]BEACON_TYPE!$A$2:$A$20,MATCH('Beacon (Desc)'!$E180,[1]!MASTER_BEACON_TYPE_DESC[#Data],0),0))","v":""},{"$f":"IF('Beacon (Desc)'!F180=\"\",\"\",IF('Beacon (Desc)'!F180=\"Unknown\",\"BCN001\",(INDEX([1]BEACON_MANUF_MODEL!$A$2:$D$1500,MATCH(1,([1]BEACON_MANUF_MODEL!$G$2:$G$1500=\"\")*([1]BEACON_MANUF_MODEL!$D$2:$D$1500='Beacon (Desc)'!$F180),0),2))))","v":""},{"$f":"IF('Beacon (Desc)'!F180=\"\",\"\",IF('Beacon (Desc)'!F180=\"Unknown\",\"BCNM001\",INDEX([1]BEACON_MANUF_MODEL!$A$2:$D$1500,MATCH(1,([1]BEACON_MANUF_MODEL!$G$2:$G$1500=\"\")*([1]BEACON_MANUF_MODEL!$D$2:$D$1500='Beacon (Desc)'!$F180),0),1)))","v":""},{"$f":"IF('Beacon (Desc)'!H180=\"\",\"\",INDEX([1]BEACON_COLOR!$A$2:$A$20,MATCH('Beacon (Desc)'!$H180,[1]!MASTER_BEACON_COLOR_DESC[#Data],0),0))","v":""},{"$f":"IF('Beacon (Desc)'!I180=\"\",\"\",INDEX([1]BEACON_SIZE!$A$2:$A$20,MATCH('Beacon (Desc)'!$I180,[1]!MASTER_BEACON_SIZE_DESC[#Data],0),0))","v":""},{"$f":"IF('Beacon (Desc)'!J180=\"\",\"\",'Beacon (Desc)'!J180)","v":""}]
[{"$f":"IF('Beacon (Desc)'!A181=\"\",\"\",'Beacon (Desc)'!A181)","v":""},{"$f":"IF('Beacon (Desc)'!B181=\"\",\"\",\"1987\")","v":""},{"$f":"IF('Beacon (Desc)'!B181=\"\",\"\",'Beacon (Desc)'!B181)","v":""},{"$f":"IF('Beacon (Desc)'!C181=\"\",\"\",'Beacon (Desc)'!C181)","v":""},{"$f":"IF('Beacon (Desc)'!D181=\"\",\"\",'Beacon (Desc)'!D181)","v":""},{"$f":"IF('Beacon (Desc)'!E181=\"\",\"\",INDEX([1]BEACON_TYPE!$A$2:$A$20,MATCH('Beacon (Desc)'!$E181,[1]!MASTER_BEACON_TYPE_DESC[#Data],0),0))","v":""},{"$f":"IF('Beacon (Desc)'!F181=\"\",\"\",IF('Beacon (Desc)'!F181=\"Unknown\",\"BCN001\",(INDEX([1]BEACON_MANUF_MODEL!$A$2:$D$1500,MATCH(1,([1]BEACON_MANUF_MODEL!$G$2:$G$1500=\"\")*([1]BEACON_MANUF_MODEL!$D$2:$D$1500='Beacon (Desc)'!$F181),0),2))))","v":""},{"$f":"IF('Beacon (Desc)'!F181=\"\",\"\",IF('Beacon (Desc)'!F181=\"Unknown\",\"BCNM001\",INDEX([1]BEACON_MANUF_MODEL!$A$2:$D$1500,MATCH(1,([1]BEACON_MANUF_MODEL!$G$2:$G$1500=\"\")*([1]BEACON_MANUF_MODEL!$D$2:$D$1500='Beacon (Desc)'!$F181),0),1)))","v":""},{"$f":"IF('Beacon (Desc)'!H181=\"\",\"\",INDEX([1]BEACON_COLOR!$A$2:$A$20,MATCH('Beacon (Desc)'!$H181,[1]!MASTER_BEACON_COLOR_DESC[#Data],0),0))","v":""},{"$f":"IF('Beacon (Desc)'!I181=\"\",\"\",INDEX([1]BEACON_SIZE!$A$2:$A$20,MATCH('Beacon (Desc)'!$I181,[1]!MASTER_BEACON_SIZE_DESC[#Data],0),0))","v":""},{"$f":"IF('Beacon (Desc)'!J181=\"\",\"\",'Beacon (Desc)'!J181)","v":""}]
[{"$f":"IF('Beacon (Desc)'!A182=\"\",\"\",'Beacon (Desc)'!A182)","v":""},{"$f":"IF('Beacon (Desc)'!B182=\"\",\"\",\"1987\")","v":""},{"$f":"IF('Beacon (Desc)'!B182=\"\",\"\",'Beacon (Desc)'!B182)","v":""},{"$f":"IF('Beacon (Desc)'!C182=\"\",\"\",'Beacon (Desc)'!C182)","v":""},{"$f":"IF('Beacon (Desc)'!D182=\"\",\"\",'Beacon (Desc)'!D182)","v":""},{"$f":"IF('Beacon (Desc)'!E182=\"\",\"\",INDEX([1]BEACON_TYPE!$A$2:$A$20,MATCH('Beacon (Desc)'!$E182,[1]!MASTER_BEACON_TYPE_DESC[#Data],0),0))","v":""},{"$f":"IF('Beacon (Desc)'!F182=\"\",\"\",IF('Beacon (Desc)'!F182=\"Unknown\",\"BCN001\",(INDEX([1]BEACON_MANUF_MODEL!$A$2:$D$1500,MATCH(1,([1]BEACON_MANUF_MODEL!$G$2:$G$1500=\"\")*([1]BEACON_MANUF_MODEL!$D$2:$D$1500='Beacon (Desc)'!$F182),0),2))))","v":""},{"$f":"IF('Beacon (Desc)'!F182=\"\",\"\",IF('Beacon (Desc)'!F182=\"Unknown\",\"BCNM001\",INDEX([1]BEACON_MANUF_MODEL!$A$2:$D$1500,MATCH(1,([1]BEACON_MANUF_MODEL!$G$2:$G$1500=\"\")*([1]BEACON_MANUF_MODEL!$D$2:$D$1500='Beacon (Desc)'!$F182),0),1)))","v":""},{"$f":"IF('Beacon (Desc)'!H182=\"\",\"\",INDEX([1]BEACON_COLOR!$A$2:$A$20,MATCH('Beacon (Desc)'!$H182,[1]!MASTER_BEACON_COLOR_DESC[#Data],0),0))","v":""},{"$f":"IF('Beacon (Desc)'!I182=\"\",\"\",INDEX([1]BEACON_SIZE!$A$2:$A$20,MATCH('Beacon (Desc)'!$I182,[1]!MASTER_BEACON_SIZE_DESC[#Data],0),0))","v":""},{"$f":"IF('Beacon (Desc)'!J182=\"\",\"\",'Beacon (Desc)'!J182)","v":""}]
[{"$f":"IF('Beacon (Desc)'!A183=\"\",\"\",'Beacon (Desc)'!A183)","v":""},{"$f":"IF('Beacon (Desc)'!B183=\"\",\"\",\"1987\")","v":""},{"$f":"IF('Beacon (Desc)'!B183=\"\",\"\",'Beacon (Desc)'!B183)","v":""},{"$f":"IF('Beacon (Desc)'!C183=\"\",\"\",'Beacon (Desc)'!C183)","v":""},{"$f":"IF('Beacon (Desc)'!D183=\"\",\"\",'Beacon (Desc)'!D183)","v":""},{"$f":"IF('Beacon (Desc)'!E183=\"\",\"\",INDEX([1]BEACON_TYPE!$A$2:$A$20,MATCH('Beacon (Desc)'!$E183,[1]!MASTER_BEACON_TYPE_DESC[#Data],0),0))","v":""},{"$f":"IF('Beacon (Desc)'!F183=\"\",\"\",IF('Beacon (Desc)'!F183=\"Unknown\",\"BCN001\",(INDEX([1]BEACON_MANUF_MODEL!$A$2:$D$1500,MATCH(1,([1]BEACON_MANUF_MODEL!$G$2:$G$1500=\"\")*([1]BEACON_MANUF_MODEL!$D$2:$D$1500='Beacon (Desc)'!$F183),0),2))))","v":""},{"$f":"IF('Beacon (Desc)'!F183=\"\",\"\",IF('Beacon (Desc)'!F183=\"Unknown\",\"BCNM001\",INDEX([1]BEACON_MANUF_MODEL!$A$2:$D$1500,MATCH(1,([1]BEACON_MANUF_MODEL!$G$2:$G$1500=\"\")*([1]BEACON_MANUF_MODEL!$D$2:$D$1500='Beacon (Desc)'!$F183),0),1)))","v":""},{"$f":"IF('Beacon (Desc)'!H183=\"\",\"\",INDEX([1]BEACON_COLOR!$A$2:$A$20,MATCH('Beacon (Desc)'!$H183,[1]!MASTER_BEACON_COLOR_DESC[#Data],0),0))","v":""},{"$f":"IF('Beacon (Desc)'!I183=\"\",\"\",INDEX([1]BEACON_SIZE!$A$2:$A$20,MATCH('Beacon (Desc)'!$I183,[1]!MASTER_BEACON_SIZE_DESC[#Data],0),0))","v":""},{"$f":"IF('Beacon (Desc)'!J183=\"\",\"\",'Beacon (Desc)'!J183)","v":""}]
[{"$f":"IF('Beacon (Desc)'!A184=\"\",\"\",'Beacon (Desc)'!A184)","v":""},{"$f":"IF('Beacon (Desc)'!B184=\"\",\"\",\"1987\")","v":""},{"$f":"IF('Beacon (Desc)'!B184=\"\",\"\",'Beacon (Desc)'!B184)","v":""},{"$f":"IF('Beacon (Desc)'!C184=\"\",\"\",'Beacon (Desc)'!C184)","v":""},{"$f":"IF('Beacon (Desc)'!D184=\"\",\"\",'Beacon (Desc)'!D184)","v":""},{"$f":"IF('Beacon (Desc)'!E184=\"\",\"\",INDEX([1]BEACON_TYPE!$A$2:$A$20,MATCH('Beacon (Desc)'!$E184,[1]!MASTER_BEACON_TYPE_DESC[#Data],0),0))","v":""},{"$f":"IF('Beacon (Desc)'!F184=\"\",\"\",IF('Beacon (Desc)'!F184=\"Unknown\",\"BCN001\",(INDEX([1]BEACON_MANUF_MODEL!$A$2:$D$1500,MATCH(1,([1]BEACON_MANUF_MODEL!$G$2:$G$1500=\"\")*([1]BEACON_MANUF_MODEL!$D$2:$D$1500='Beacon (Desc)'!$F184),0),2))))","v":""},{"$f":"IF('Beacon (Desc)'!F184=\"\",\"\",IF('Beacon (Desc)'!F184=\"Unknown\",\"BCNM001\",INDEX([1]BEACON_MANUF_MODEL!$A$2:$D$1500,MATCH(1,([1]BEACON_MANUF_MODEL!$G$2:$G$1500=\"\")*([1]BEACON_MANUF_MODEL!$D$2:$D$1500='Beacon (Desc)'!$F184),0),1)))","v":""},{"$f":"IF('Beacon (Desc)'!H184=\"\",\"\",INDEX([1]BEACON_COLOR!$A$2:$A$20,MATCH('Beacon (Desc)'!$H184,[1]!MASTER_BEACON_COLOR_DESC[#Data],0),0))","v":""},{"$f":"IF('Beacon (Desc)'!I184=\"\",\"\",INDEX([1]BEACON_SIZE!$A$2:$A$20,MATCH('Beacon (Desc)'!$I184,[1]!MASTER_BEACON_SIZE_DESC[#Data],0),0))","v":""},{"$f":"IF('Beacon (Desc)'!J184=\"\",\"\",'Beacon (Desc)'!J184)","v":""}]
[{"$f":"IF('Beacon (Desc)'!A185=\"\",\"\",'Beacon (Desc)'!A185)","v":""},{"$f":"IF('Beacon (Desc)'!B185=\"\",\"\",\"1987\")","v":""},{"$f":"IF('Beacon (Desc)'!B185=\"\",\"\",'Beacon (Desc)'!B185)","v":""},{"$f":"IF('Beacon (Desc)'!C185=\"\",\"\",'Beacon (Desc)'!C185)","v":""},{"$f":"IF('Beacon (Desc)'!D185=\"\",\"\",'Beacon (Desc)'!D185)","v":""},{"$f":"IF('Beacon (Desc)'!E185=\"\",\"\",INDEX([1]BEACON_TYPE!$A$2:$A$20,MATCH('Beacon (Desc)'!$E185,[1]!MASTER_BEACON_TYPE_DESC[#Data],0),0))","v":""},{"$f":"IF('Beacon (Desc)'!F185=\"\",\"\",IF('Beacon (Desc)'!F185=\"Unknown\",\"BCN001\",(INDEX([1]BEACON_MANUF_MODEL!$A$2:$D$1500,MATCH(1,([1]BEACON_MANUF_MODEL!$G$2:$G$1500=\"\")*([1]BEACON_MANUF_MODEL!$D$2:$D$1500='Beacon (Desc)'!$F185),0),2))))","v":""},{"$f":"IF('Beacon (Desc)'!F185=\"\",\"\",IF('Beacon (Desc)'!F185=\"Unknown\",\"BCNM001\",INDEX([1]BEACON_MANUF_MODEL!$A$2:$D$1500,MATCH(1,([1]BEACON_MANUF_MODEL!$G$2:$G$1500=\"\")*([1]BEACON_MANUF_MODEL!$D$2:$D$1500='Beacon (Desc)'!$F185),0),1)))","v":""},{"$f":"IF('Beacon (Desc)'!H185=\"\",\"\",INDEX([1]BEACON_COLOR!$A$2:$A$20,MATCH('Beacon (Desc)'!$H185,[1]!MASTER_BEACON_COLOR_DESC[#Data],0),0))","v":""},{"$f":"IF('Beacon (Desc)'!I185=\"\",\"\",INDEX([1]BEACON_SIZE!$A$2:$A$20,MATCH('Beacon (Desc)'!$I185,[1]!MASTER_BEACON_SIZE_DESC[#Data],0),0))","v":""},{"$f":"IF('Beacon (Desc)'!J185=\"\",\"\",'Beacon (Desc)'!J185)","v":""}]
[{"$f":"IF('Beacon (Desc)'!A186=\"\",\"\",'Beacon (Desc)'!A186)","v":""},{"$f":"IF('Beacon (Desc)'!B186=\"\",\"\",\"1987\")","v":""},{"$f":"IF('Beacon (Desc)'!B186=\"\",\"\",'Beacon (Desc)'!B186)","v":""},{"$f":"IF('Beacon (Desc)'!C186=\"\",\"\",'Beacon (Desc)'!C186)","v":""},{"$f":"IF('Beacon (Desc)'!D186=\"\",\"\",'Beacon (Desc)'!D186)","v":""},{"$f":"IF('Beacon (Desc)'!E186=\"\",\"\",INDEX([1]BEACON_TYPE!$A$2:$A$20,MATCH('Beacon (Desc)'!$E186,[1]!MASTER_BEACON_TYPE_DESC[#Data],0),0))","v":""},{"$f":"IF('Beacon (Desc)'!F186=\"\",\"\",IF('Beacon (Desc)'!F186=\"Unknown\",\"BCN001\",(INDEX([1]BEACON_MANUF_MODEL!$A$2:$D$1500,MATCH(1,([1]BEACON_MANUF_MODEL!$G$2:$G$1500=\"\")*([1]BEACON_MANUF_MODEL!$D$2:$D$1500='Beacon (Desc)'!$F186),0),2))))","v":""},{"$f":"IF('Beacon (Desc)'!F186=\"\",\"\",IF('Beacon (Desc)'!F186=\"Unknown\",\"BCNM001\",INDEX([1]BEACON_MANUF_MODEL!$A$2:$D$1500,MATCH(1,([1]BEACON_MANUF_MODEL!$G$2:$G$1500=\"\")*([1]BEACON_MANUF_MODEL!$D$2:$D$1500='Beacon (Desc)'!$F186),0),1)))","v":""},{"$f":"IF('Beacon (Desc)'!H186=\"\",\"\",INDEX([1]BEACON_COLOR!$A$2:$A$20,MATCH('Beacon (Desc)'!$H186,[1]!MASTER_BEACON_COLOR_DESC[#Data],0),0))","v":""},{"$f":"IF('Beacon (Desc)'!I186=\"\",\"\",INDEX([1]BEACON_SIZE!$A$2:$A$20,MATCH('Beacon (Desc)'!$I186,[1]!MASTER_BEACON_SIZE_DESC[#Data],0),0))","v":""},{"$f":"IF('Beacon (Desc)'!J186=\"\",\"\",'Beacon (Desc)'!J186)","v":""}]
[{"$f":"IF('Beacon (Desc)'!A187=\"\",\"\",'Beacon (Desc)'!A187)","v":""},{"$f":"IF('Beacon (Desc)'!B187=\"\",\"\",\"1987\")","v":""},{"$f":"IF('Beacon (Desc)'!B187=\"\",\"\",'Beacon (Desc)'!B187)","v":""},{"$f":"IF('Beacon (Desc)'!C187=\"\",\"\",'Beacon (Desc)'!C187)","v":""},{"$f":"IF('Beacon (Desc)'!D187=\"\",\"\",'Beacon (Desc)'!D187)","v":""},{"$f":"IF('Beacon (Desc)'!E187=\"\",\"\",INDEX([1]BEACON_TYPE!$A$2:$A$20,MATCH('Beacon (Desc)'!$E187,[1]!MASTER_BEACON_TYPE_DESC[#Data],0),0))","v":""},{"$f":"IF('Beacon (Desc)'!F187=\"\",\"\",IF('Beacon (Desc)'!F187=\"Unknown\",\"BCN001\",(INDEX([1]BEACON_MANUF_MODEL!$A$2:$D$1500,MATCH(1,([1]BEACON_MANUF_MODEL!$G$2:$G$1500=\"\")*([1]BEACON_MANUF_MODEL!$D$2:$D$1500='Beacon (Desc)'!$F187),0),2))))","v":""},{"$f":"IF('Beacon (Desc)'!F187=\"\",\"\",IF('Beacon (Desc)'!F187=\"Unknown\",\"BCNM001\",INDEX([1]BEACON_MANUF_MODEL!$A$2:$D$1500,MATCH(1,([1]BEACON_MANUF_MODEL!$G$2:$G$1500=\"\")*([1]BEACON_MANUF_MODEL!$D$2:$D$1500='Beacon (Desc)'!$F187),0),1)))","v":""},{"$f":"IF('Beacon (Desc)'!H187=\"\",\"\",INDEX([1]BEACON_COLOR!$A$2:$A$20,MATCH('Beacon (Desc)'!$H187,[1]!MASTER_BEACON_COLOR_DESC[#Data],0),0))","v":""},{"$f":"IF('Beacon (Desc)'!I187=\"\",\"\",INDEX([1]BEACON_SIZE!$A$2:$A$20,MATCH('Beacon (Desc)'!$I187,[1]!MASTER_BEACON_SIZE_DESC[#Data],0),0))","v":""},{"$f":"IF('Beacon (Desc)'!J187=\"\",\"\",'Beacon (Desc)'!J187)","v":""}]
[{"$f":"IF('Beacon (Desc)'!A188=\"\",\"\",'Beacon (Desc)'!A188)","v":""},{"$f":"IF('Beacon (Desc)'!B188=\"\",\"\",\"1987\")","v":""},{"$f":"IF('Beacon (Desc)'!B188=\"\",\"\",'Beacon (Desc)'!B188)","v":""},{"$f":"IF('Beacon (Desc)'!C188=\"\",\"\",'Beacon (Desc)'!C188)","v":""},{"$f":"IF('Beacon (Desc)'!D188=\"\",\"\",'Beacon (Desc)'!D188)","v":""},{"$f":"IF('Beacon (Desc)'!E188=\"\",\"\",INDEX([1]BEACON_TYPE!$A$2:$A$20,MATCH('Beacon (Desc)'!$E188,[1]!MASTER_BEACON_TYPE_DESC[#Data],0),0))","v":""},{"$f":"IF('Beacon (Desc)'!F188=\"\",\"\",IF('Beacon (Desc)'!F188=\"Unknown\",\"BCN001\",(INDEX([1]BEACON_MANUF_MODEL!$A$2:$D$1500,MATCH(1,([1]BEACON_MANUF_MODEL!$G$2:$G$1500=\"\")*([1]BEACON_MANUF_MODEL!$D$2:$D$1500='Beacon (Desc)'!$F188),0),2))))","v":""},{"$f":"IF('Beacon (Desc)'!F188=\"\",\"\",IF('Beacon (Desc)'!F188=\"Unknown\",\"BCNM001\",INDEX([1]BEACON_MANUF_MODEL!$A$2:$D$1500,MATCH(1,([1]BEACON_MANUF_MODEL!$G$2:$G$1500=\"\")*([1]BEACON_MANUF_MODEL!$D$2:$D$1500='Beacon (Desc)'!$F188),0),1)))","v":""},{"$f":"IF('Beacon (Desc)'!H188=\"\",\"\",INDEX([1]BEACON_COLOR!$A$2:$A$20,MATCH('Beacon (Desc)'!$H188,[1]!MASTER_BEACON_COLOR_DESC[#Data],0),0))","v":""},{"$f":"IF('Beacon (Desc)'!I188=\"\",\"\",INDEX([1]BEACON_SIZE!$A$2:$A$20,MATCH('Beacon (Desc)'!$I188,[1]!MASTER_BEACON_SIZE_DESC[#Data],0),0))","v":""},{"$f":"IF('Beacon (Desc)'!J188=\"\",\"\",'Beacon (Desc)'!J188)","v":""}]
[{"$f":"IF('Beacon (Desc)'!A189=\"\",\"\",'Beacon (Desc)'!A189)","v":""},{"$f":"IF('Beacon (Desc)'!B189=\"\",\"\",\"1987\")","v":""},{"$f":"IF('Beacon (Desc)'!B189=\"\",\"\",'Beacon (Desc)'!B189)","v":""},{"$f":"IF('Beacon (Desc)'!C189=\"\",\"\",'Beacon (Desc)'!C189)","v":""},{"$f":"IF('Beacon (Desc)'!D189=\"\",\"\",'Beacon (Desc)'!D189)","v":""},{"$f":"IF('Beacon (Desc)'!E189=\"\",\"\",INDEX([1]BEACON_TYPE!$A$2:$A$20,MATCH('Beacon (Desc)'!$E189,[1]!MASTER_BEACON_TYPE_DESC[#Data],0),0))","v":""},{"$f":"IF('Beacon (Desc)'!F189=\"\",\"\",IF('Beacon (Desc)'!F189=\"Unknown\",\"BCN001\",(INDEX([1]BEACON_MANUF_MODEL!$A$2:$D$1500,MATCH(1,([1]BEACON_MANUF_MODEL!$G$2:$G$1500=\"\")*([1]BEACON_MANUF_MODEL!$D$2:$D$1500='Beacon (Desc)'!$F189),0),2))))","v":""},{"$f":"IF('Beacon (Desc)'!F189=\"\",\"\",IF('Beacon (Desc)'!F189=\"Unknown\",\"BCNM001\",INDEX([1]BEACON_MANUF_MODEL!$A$2:$D$1500,MATCH(1,([1]BEACON_MANUF_MODEL!$G$2:$G$1500=\"\")*([1]BEACON_MANUF_MODEL!$D$2:$D$1500='Beacon (Desc)'!$F189),0),1)))","v":""},{"$f":"IF('Beacon (Desc)'!H189=\"\",\"\",INDEX([1]BEACON_COLOR!$A$2:$A$20,MATCH('Beacon (Desc)'!$H189,[1]!MASTER_BEACON_COLOR_DESC[#Data],0),0))","v":""},{"$f":"IF('Beacon (Desc)'!I189=\"\",\"\",INDEX([1]BEACON_SIZE!$A$2:$A$20,MATCH('Beacon (Desc)'!$I189,[1]!MASTER_BEACON_SIZE_DESC[#Data],0),0))","v":""},{"$f":"IF('Beacon (Desc)'!J189=\"\",\"\",'Beacon (Desc)'!J189)","v":""}]
[{"$f":"IF('Beacon (Desc)'!A190=\"\",\"\",'Beacon (Desc)'!A190)","v":""},{"$f":"IF('Beacon (Desc)'!B190=\"\",\"\",\"1987\")","v":""},{"$f":"IF('Beacon (Desc)'!B190=\"\",\"\",'Beacon (Desc)'!B190)","v":""},{"$f":"IF('Beacon (Desc)'!C190=\"\",\"\",'Beacon (Desc)'!C190)","v":""},{"$f":"IF('Beacon (Desc)'!D190=\"\",\"\",'Beacon (Desc)'!D190)","v":""},{"$f":"IF('Beacon (Desc)'!E190=\"\",\"\",INDEX([1]BEACON_TYPE!$A$2:$A$20,MATCH('Beacon (Desc)'!$E190,[1]!MASTER_BEACON_TYPE_DESC[#Data],0),0))","v":""},{"$f":"IF('Beacon (Desc)'!F190=\"\",\"\",IF('Beacon (Desc)'!F190=\"Unknown\",\"BCN001\",(INDEX([1]BEACON_MANUF_MODEL!$A$2:$D$1500,MATCH(1,([1]BEACON_MANUF_MODEL!$G$2:$G$1500=\"\")*([1]BEACON_MANUF_MODEL!$D$2:$D$1500='Beacon (Desc)'!$F190),0),2))))","v":""},{"$f":"IF('Beacon (Desc)'!F190=\"\",\"\",IF('Beacon (Desc)'!F190=\"Unknown\",\"BCNM001\",INDEX([1]BEACON_MANUF_MODEL!$A$2:$D$1500,MATCH(1,([1]BEACON_MANUF_MODEL!$G$2:$G$1500=\"\")*([1]BEACON_MANUF_MODEL!$D$2:$D$1500='Beacon (Desc)'!$F190),0),1)))","v":""},{"$f":"IF('Beacon (Desc)'!H190=\"\",\"\",INDEX([1]BEACON_COLOR!$A$2:$A$20,MATCH('Beacon (Desc)'!$H190,[1]!MASTER_BEACON_COLOR_DESC[#Data],0),0))","v":""},{"$f":"IF('Beacon (Desc)'!I190=\"\",\"\",INDEX([1]BEACON_SIZE!$A$2:$A$20,MATCH('Beacon (Desc)'!$I190,[1]!MASTER_BEACON_SIZE_DESC[#Data],0),0))","v":""},{"$f":"IF('Beacon (Desc)'!J190=\"\",\"\",'Beacon (Desc)'!J190)","v":""}]
[{"$f":"IF('Beacon (Desc)'!A191=\"\",\"\",'Beacon (Desc)'!A191)","v":""},{"$f":"IF('Beacon (Desc)'!B191=\"\",\"\",\"1987\")","v":""},{"$f":"IF('Beacon (Desc)'!B191=\"\",\"\",'Beacon (Desc)'!B191)","v":""},{"$f":"IF('Beacon (Desc)'!C191=\"\",\"\",'Beacon (Desc)'!C191)","v":""},{"$f":"IF('Beacon (Desc)'!D191=\"\",\"\",'Beacon (Desc)'!D191)","v":""},{"$f":"IF('Beacon (Desc)'!E191=\"\",\"\",INDEX([1]BEACON_TYPE!$A$2:$A$20,MATCH('Beacon (Desc)'!$E191,[1]!MASTER_BEACON_TYPE_DESC[#Data],0),0))","v":""},{"$f":"IF('Beacon (Desc)'!F191=\"\",\"\",IF('Beacon (Desc)'!F191=\"Unknown\",\"BCN001\",(INDEX([1]BEACON_MANUF_MODEL!$A$2:$D$1500,MATCH(1,([1]BEACON_MANUF_MODEL!$G$2:$G$1500=\"\")*([1]BEACON_MANUF_MODEL!$D$2:$D$1500='Beacon (Desc)'!$F191),0),2))))","v":""},{"$f":"IF('Beacon (Desc)'!F191=\"\",\"\",IF('Beacon (Desc)'!F191=\"Unknown\",\"BCNM001\",INDEX([1]BEACON_MANUF_MODEL!$A$2:$D$1500,MATCH(1,([1]BEACON_MANUF_MODEL!$G$2:$G$1500=\"\")*([1]BEACON_MANUF_MODEL!$D$2:$D$1500='Beacon (Desc)'!$F191),0),1)))","v":""},{"$f":"IF('Beacon (Desc)'!H191=\"\",\"\",INDEX([1]BEACON_COLOR!$A$2:$A$20,MATCH('Beacon (Desc)'!$H191,[1]!MASTER_BEACON_COLOR_DESC[#Data],0),0))","v":""},{"$f":"IF('Beacon (Desc)'!I191=\"\",\"\",INDEX([1]BEACON_SIZE!$A$2:$A$20,MATCH('Beacon (Desc)'!$I191,[1]!MASTER_BEACON_SIZE_DESC[#Data],0),0))","v":""},{"$f":"IF('Beacon (Desc)'!J191=\"\",\"\",'Beacon (Desc)'!J191)","v":""}]
[{"$f":"IF('Beacon (Desc)'!A192=\"\",\"\",'Beacon (Desc)'!A192)","v":""},{"$f":"IF('Beacon (Desc)'!B192=\"\",\"\",\"1987\")","v":""},{"$f":"IF('Beacon (Desc)'!B192=\"\",\"\",'Beacon (Desc)'!B192)","v":""},{"$f":"IF('Beacon (Desc)'!C192=\"\",\"\",'Beacon (Desc)'!C192)","v":""},{"$f":"IF('Beacon (Desc)'!D192=\"\",\"\",'Beacon (Desc)'!D192)","v":""},{"$f":"IF('Beacon (Desc)'!E192=\"\",\"\",INDEX([1]BEACON_TYPE!$A$2:$A$20,MATCH('Beacon (Desc)'!$E192,[1]!MASTER_BEACON_TYPE_DESC[#Data],0),0))","v":""},{"$f":"IF('Beacon (Desc)'!F192=\"\",\"\",IF('Beacon (Desc)'!F192=\"Unknown\",\"BCN001\",(INDEX([1]BEACON_MANUF_MODEL!$A$2:$D$1500,MATCH(1,([1]BEACON_MANUF_MODEL!$G$2:$G$1500=\"\")*([1]BEACON_MANUF_MODEL!$D$2:$D$1500='Beacon (Desc)'!$F192),0),2))))","v":""},{"$f":"IF('Beacon (Desc)'!F192=\"\",\"\",IF('Beacon (Desc)'!F192=\"Unknown\",\"BCNM001\",INDEX([1]BEACON_MANUF_MODEL!$A$2:$D$1500,MATCH(1,([1]BEACON_MANUF_MODEL!$G$2:$G$1500=\"\")*([1]BEACON_MANUF_MODEL!$D$2:$D$1500='Beacon (Desc)'!$F192),0),1)))","v":""},{"$f":"IF('Beacon (Desc)'!H192=\"\",\"\",INDEX([1]BEACON_COLOR!$A$2:$A$20,MATCH('Beacon (Desc)'!$H192,[1]!MASTER_BEACON_COLOR_DESC[#Data],0),0))","v":""},{"$f":"IF('Beacon (Desc)'!I192=\"\",\"\",INDEX([1]BEACON_SIZE!$A$2:$A$20,MATCH('Beacon (Desc)'!$I192,[1]!MASTER_BEACON_SIZE_DESC[#Data],0),0))","v":""},{"$f":"IF('Beacon (Desc)'!J192=\"\",\"\",'Beacon (Desc)'!J192)","v":""}]
[{"$f":"IF('Beacon (Desc)'!A193=\"\",\"\",'Beacon (Desc)'!A193)","v":""},{"$f":"IF('Beacon (Desc)'!B193=\"\",\"\",\"1987\")","v":""},{"$f":"IF('Beacon (Desc)'!B193=\"\",\"\",'Beacon (Desc)'!B193)","v":""},{"$f":"IF('Beacon (Desc)'!C193=\"\",\"\",'Beacon (Desc)'!C193)","v":""},{"$f":"IF('Beacon (Desc)'!D193=\"\",\"\",'Beacon (Desc)'!D193)","v":""},{"$f":"IF('Beacon (Desc)'!E193=\"\",\"\",INDEX([1]BEACON_TYPE!$A$2:$A$20,MATCH('Beacon (Desc)'!$E193,[1]!MASTER_BEACON_TYPE_DESC[#Data],0),0))","v":""},{"$f":"IF('Beacon (Desc)'!F193=\"\",\"\",IF('Beacon (Desc)'!F193=\"Unknown\",\"BCN001\",(INDEX([1]BEACON_MANUF_MODEL!$A$2:$D$1500,MATCH(1,([1]BEACON_MANUF_MODEL!$G$2:$G$1500=\"\")*([1]BEACON_MANUF_MODEL!$D$2:$D$1500='Beacon (Desc)'!$F193),0),2))))","v":""},{"$f":"IF('Beacon (Desc)'!F193=\"\",\"\",IF('Beacon (Desc)'!F193=\"Unknown\",\"BCNM001\",INDEX([1]BEACON_MANUF_MODEL!$A$2:$D$1500,MATCH(1,([1]BEACON_MANUF_MODEL!$G$2:$G$1500=\"\")*([1]BEACON_MANUF_MODEL!$D$2:$D$1500='Beacon (Desc)'!$F193),0),1)))","v":""},{"$f":"IF('Beacon (Desc)'!H193=\"\",\"\",INDEX([1]BEACON_COLOR!$A$2:$A$20,MATCH('Beacon (Desc)'!$H193,[1]!MASTER_BEACON_COLOR_DESC[#Data],0),0))","v":""},{"$f":"IF('Beacon (Desc)'!I193=\"\",\"\",INDEX([1]BEACON_SIZE!$A$2:$A$20,MATCH('Beacon (Desc)'!$I193,[1]!MASTER_BEACON_SIZE_DESC[#Data],0),0))","v":""},{"$f":"IF('Beacon (Desc)'!J193=\"\",\"\",'Beacon (Desc)'!J193)","v":""}]
[{"$f":"IF('Beacon (Desc)'!A194=\"\",\"\",'Beacon (Desc)'!A194)","v":""},{"$f":"IF('Beacon (Desc)'!B194=\"\",\"\",\"1987\")","v":""},{"$f":"IF('Beacon (Desc)'!B194=\"\",\"\",'Beacon (Desc)'!B194)","v":""},{"$f":"IF('Beacon (Desc)'!C194=\"\",\"\",'Beacon (Desc)'!C194)","v":""},{"$f":"IF('Beacon (Desc)'!D194=\"\",\"\",'Beacon (Desc)'!D194)","v":""},{"$f":"IF('Beacon (Desc)'!E194=\"\",\"\",INDEX([1]BEACON_TYPE!$A$2:$A$20,MATCH('Beacon (Desc)'!$E194,[1]!MASTER_BEACON_TYPE_DESC[#Data],0),0))","v":""},{"$f":"IF('Beacon (Desc)'!F194=\"\",\"\",IF('Beacon (Desc)'!F194=\"Unknown\",\"BCN001\",(INDEX([1]BEACON_MANUF_MODEL!$A$2:$D$1500,MATCH(1,([1]BEACON_MANUF_MODEL!$G$2:$G$1500=\"\")*([1]BEACON_MANUF_MODEL!$D$2:$D$1500='Beacon (Desc)'!$F194),0),2))))","v":""},{"$f":"IF('Beacon (Desc)'!F194=\"\",\"\",IF('Beacon (Desc)'!F194=\"Unknown\",\"BCNM001\",INDEX([1]BEACON_MANUF_MODEL!$A$2:$D$1500,MATCH(1,([1]BEACON_MANUF_MODEL!$G$2:$G$1500=\"\")*([1]BEACON_MANUF_MODEL!$D$2:$D$1500='Beacon (Desc)'!$F194),0),1)))","v":""},{"$f":"IF('Beacon (Desc)'!H194=\"\",\"\",INDEX([1]BEACON_COLOR!$A$2:$A$20,MATCH('Beacon (Desc)'!$H194,[1]!MASTER_BEACON_COLOR_DESC[#Data],0),0))","v":""},{"$f":"IF('Beacon (Desc)'!I194=\"\",\"\",INDEX([1]BEACON_SIZE!$A$2:$A$20,MATCH('Beacon (Desc)'!$I194,[1]!MASTER_BEACON_SIZE_DESC[#Data],0),0))","v":""},{"$f":"IF('Beacon (Desc)'!J194=\"\",\"\",'Beacon (Desc)'!J194)","v":""}]
[{"$f":"IF('Beacon (Desc)'!A195=\"\",\"\",'Beacon (Desc)'!A195)","v":""},{"$f":"IF('Beacon (Desc)'!B195=\"\",\"\",\"1987\")","v":""},{"$f":"IF('Beacon (Desc)'!B195=\"\",\"\",'Beacon (Desc)'!B195)","v":""},{"$f":"IF('Beacon (Desc)'!C195=\"\",\"\",'Beacon (Desc)'!C195)","v":""},{"$f":"IF('Beacon (Desc)'!D195=\"\",\"\",'Beacon (Desc)'!D195)","v":""},{"$f":"IF('Beacon (Desc)'!E195=\"\",\"\",INDEX([1]BEACON_TYPE!$A$2:$A$20,MATCH('Beacon (Desc)'!$E195,[1]!MASTER_BEACON_TYPE_DESC[#Data],0),0))","v":""},{"$f":"IF('Beacon (Desc)'!F195=\"\",\"\",IF('Beacon (Desc)'!F195=\"Unknown\",\"BCN001\",(INDEX([1]BEACON_MANUF_MODEL!$A$2:$D$1500,MATCH(1,([1]BEACON_MANUF_MODEL!$G$2:$G$1500=\"\")*([1]BEACON_MANUF_MODEL!$D$2:$D$1500='Beacon (Desc)'!$F195),0),2))))","v":""},{"$f":"IF('Beacon (Desc)'!F195=\"\",\"\",IF('Beacon (Desc)'!F195=\"Unknown\",\"BCNM001\",INDEX([1]BEACON_MANUF_MODEL!$A$2:$D$1500,MATCH(1,([1]BEACON_MANUF_MODEL!$G$2:$G$1500=\"\")*([1]BEACON_MANUF_MODEL!$D$2:$D$1500='Beacon (Desc)'!$F195),0),1)))","v":""},{"$f":"IF('Beacon (Desc)'!H195=\"\",\"\",INDEX([1]BEACON_COLOR!$A$2:$A$20,MATCH('Beacon (Desc)'!$H195,[1]!MASTER_BEACON_COLOR_DESC[#Data],0),0))","v":""},{"$f":"IF('Beacon (Desc)'!I195=\"\",\"\",INDEX([1]BEACON_SIZE!$A$2:$A$20,MATCH('Beacon (Desc)'!$I195,[1]!MASTER_BEACON_SIZE_DESC[#Data],0),0))","v":""},{"$f":"IF('Beacon (Desc)'!J195=\"\",\"\",'Beacon (Desc)'!J195)","v":""}]
[{"$f":"IF('Beacon (Desc)'!A196=\"\",\"\",'Beacon (Desc)'!A196)","v":""},{"$f":"IF('Beacon (Desc)'!B196=\"\",\"\",\"1987\")","v":""},{"$f":"IF('Beacon (Desc)'!B196=\"\",\"\",'Beacon (Desc)'!B196)","v":""},{"$f":"IF('Beacon (Desc)'!C196=\"\",\"\",'Beacon (Desc)'!C196)","v":""},{"$f":"IF('Beacon (Desc)'!D196=\"\",\"\",'Beacon (Desc)'!D196)","v":""},{"$f":"IF('Beacon (Desc)'!E196=\"\",\"\",INDEX([1]BEACON_TYPE!$A$2:$A$20,MATCH('Beacon (Desc)'!$E196,[1]!MASTER_BEACON_TYPE_DESC[#Data],0),0))","v":""},{"$f":"IF('Beacon (Desc)'!F196=\"\",\"\",IF('Beacon (Desc)'!F196=\"Unknown\",\"BCN001\",(INDEX([1]BEACON_MANUF_MODEL!$A$2:$D$1500,MATCH(1,([1]BEACON_MANUF_MODEL!$G$2:$G$1500=\"\")*([1]BEACON_MANUF_MODEL!$D$2:$D$1500='Beacon (Desc)'!$F196),0),2))))","v":""},{"$f":"IF('Beacon (Desc)'!F196=\"\",\"\",IF('Beacon (Desc)'!F196=\"Unknown\",\"BCNM001\",INDEX([1]BEACON_MANUF_MODEL!$A$2:$D$1500,MATCH(1,([1]BEACON_MANUF_MODEL!$G$2:$G$1500=\"\")*([1]BEACON_MANUF_MODEL!$D$2:$D$1500='Beacon (Desc)'!$F196),0),1)))","v":""},{"$f":"IF('Beacon (Desc)'!H196=\"\",\"\",INDEX([1]BEACON_COLOR!$A$2:$A$20,MATCH('Beacon (Desc)'!$H196,[1]!MASTER_BEACON_COLOR_DESC[#Data],0),0))","v":""},{"$f":"IF('Beacon (Desc)'!I196=\"\",\"\",INDEX([1]BEACON_SIZE!$A$2:$A$20,MATCH('Beacon (Desc)'!$I196,[1]!MASTER_BEACON_SIZE_DESC[#Data],0),0))","v":""},{"$f":"IF('Beacon (Desc)'!J196=\"\",\"\",'Beacon (Desc)'!J196)","v":""}]
[{"$f":"IF('Beacon (Desc)'!A197=\"\",\"\",'Beacon (Desc)'!A197)","v":""},{"$f":"IF('Beacon (Desc)'!B197=\"\",\"\",\"1987\")","v":""},{"$f":"IF('Beacon (Desc)'!B197=\"\",\"\",'Beacon (Desc)'!B197)","v":""},{"$f":"IF('Beacon (Desc)'!C197=\"\",\"\",'Beacon (Desc)'!C197)","v":""},{"$f":"IF('Beacon (Desc)'!D197=\"\",\"\",'Beacon (Desc)'!D197)","v":""},{"$f":"IF('Beacon (Desc)'!E197=\"\",\"\",INDEX([1]BEACON_TYPE!$A$2:$A$20,MATCH('Beacon (Desc)'!$E197,[1]!MASTER_BEACON_TYPE_DESC[#Data],0),0))","v":""},{"$f":"IF('Beacon (Desc)'!F197=\"\",\"\",IF('Beacon (Desc)'!F197=\"Unknown\",\"BCN001\",(INDEX([1]BEACON_MANUF_MODEL!$A$2:$D$1500,MATCH(1,([1]BEACON_MANUF_MODEL!$G$2:$G$1500=\"\")*([1]BEACON_MANUF_MODEL!$D$2:$D$1500='Beacon (Desc)'!$F197),0),2))))","v":""},{"$f":"IF('Beacon (Desc)'!F197=\"\",\"\",IF('Beacon (Desc)'!F197=\"Unknown\",\"BCNM001\",INDEX([1]BEACON_MANUF_MODEL!$A$2:$D$1500,MATCH(1,([1]BEACON_MANUF_MODEL!$G$2:$G$1500=\"\")*([1]BEACON_MANUF_MODEL!$D$2:$D$1500='Beacon (Desc)'!$F197),0),1)))","v":""},{"$f":"IF('Beacon (Desc)'!H197=\"\",\"\",INDEX([1]BEACON_COLOR!$A$2:$A$20,MATCH('Beacon (Desc)'!$H197,[1]!MASTER_BEACON_COLOR_DESC[#Data],0),0))","v":""},{"$f":"IF('Beacon (Desc)'!I197=\"\",\"\",INDEX([1]BEACON_SIZE!$A$2:$A$20,MATCH('Beacon (Desc)'!$I197,[1]!MASTER_BEACON_SIZE_DESC[#Data],0),0))","v":""},{"$f":"IF('Beacon (Desc)'!J197=\"\",\"\",'Beacon (Desc)'!J197)","v":""}]
[{"$f":"IF('Beacon (Desc)'!A198=\"\",\"\",'Beacon (Desc)'!A198)","v":""},{"$f":"IF('Beacon (Desc)'!B198=\"\",\"\",\"1987\")","v":""},{"$f":"IF('Beacon (Desc)'!B198=\"\",\"\",'Beacon (Desc)'!B198)","v":""},{"$f":"IF('Beacon (Desc)'!C198=\"\",\"\",'Beacon (Desc)'!C198)","v":""},{"$f":"IF('Beacon (Desc)'!D198=\"\",\"\",'Beacon (Desc)'!D198)","v":""},{"$f":"IF('Beacon (Desc)'!E198=\"\",\"\",INDEX([1]BEACON_TYPE!$A$2:$A$20,MATCH('Beacon (Desc)'!$E198,[1]!MASTER_BEACON_TYPE_DESC[#Data],0),0))","v":""},{"$f":"IF('Beacon (Desc)'!F198=\"\",\"\",IF('Beacon (Desc)'!F198=\"Unknown\",\"BCN001\",(INDEX([1]BEACON_MANUF_MODEL!$A$2:$D$1500,MATCH(1,([1]BEACON_MANUF_MODEL!$G$2:$G$1500=\"\")*([1]BEACON_MANUF_MODEL!$D$2:$D$1500='Beacon (Desc)'!$F198),0),2))))","v":""},{"$f":"IF('Beacon (Desc)'!F198=\"\",\"\",IF('Beacon (Desc)'!F198=\"Unknown\",\"BCNM001\",INDEX([1]BEACON_MANUF_MODEL!$A$2:$D$1500,MATCH(1,([1]BEACON_MANUF_MODEL!$G$2:$G$1500=\"\")*([1]BEACON_MANUF_MODEL!$D$2:$D$1500='Beacon (Desc)'!$F198),0),1)))","v":""},{"$f":"IF('Beacon (Desc)'!H198=\"\",\"\",INDEX([1]BEACON_COLOR!$A$2:$A$20,MATCH('Beacon (Desc)'!$H198,[1]!MASTER_BEACON_COLOR_DESC[#Data],0),0))","v":""},{"$f":"IF('Beacon (Desc)'!I198=\"\",\"\",INDEX([1]BEACON_SIZE!$A$2:$A$20,MATCH('Beacon (Desc)'!$I198,[1]!MASTER_BEACON_SIZE_DESC[#Data],0),0))","v":""},{"$f":"IF('Beacon (Desc)'!J198=\"\",\"\",'Beacon (Desc)'!J198)","v":""}]
[{"$f":"IF('Beacon (Desc)'!A199=\"\",\"\",'Beacon (Desc)'!A199)","v":""},{"$f":"IF('Beacon (Desc)'!B199=\"\",\"\",\"1987\")","v":""},{"$f":"IF('Beacon (Desc)'!B199=\"\",\"\",'Beacon (Desc)'!B199)","v":""},{"$f":"IF('Beacon (Desc)'!C199=\"\",\"\",'Beacon (Desc)'!C199)","v":""},{"$f":"IF('Beacon (Desc)'!D199=\"\",\"\",'Beacon (Desc)'!D199)","v":""},{"$f":"IF('Beacon (Desc)'!E199=\"\",\"\",INDEX([1]BEACON_TYPE!$A$2:$A$20,MATCH('Beacon (Desc)'!$E199,[1]!MASTER_BEACON_TYPE_DESC[#Data],0),0))","v":""},{"$f":"IF('Beacon (Desc)'!F199=\"\",\"\",IF('Beacon (Desc)'!F199=\"Unknown\",\"BCN001\",(INDEX([1]BEACON_MANUF_MODEL!$A$2:$D$1500,MATCH(1,([1]BEACON_MANUF_MODEL!$G$2:$G$1500=\"\")*([1]BEACON_MANUF_MODEL!$D$2:$D$1500='Beacon (Desc)'!$F199),0),2))))","v":""},{"$f":"IF('Beacon (Desc)'!F199=\"\",\"\",IF('Beacon (Desc)'!F199=\"Unknown\",\"BCNM001\",INDEX([1]BEACON_MANUF_MODEL!$A$2:$D$1500,MATCH(1,([1]BEACON_MANUF_MODEL!$G$2:$G$1500=\"\")*([1]BEACON_MANUF_MODEL!$D$2:$D$1500='Beacon (Desc)'!$F199),0),1)))","v":""},{"$f":"IF('Beacon (Desc)'!H199=\"\",\"\",INDEX([1]BEACON_COLOR!$A$2:$A$20,MATCH('Beacon (Desc)'!$H199,[1]!MASTER_BEACON_COLOR_DESC[#Data],0),0))","v":""},{"$f":"IF('Beacon (Desc)'!I199=\"\",\"\",INDEX([1]BEACON_SIZE!$A$2:$A$20,MATCH('Beacon (Desc)'!$I199,[1]!MASTER_BEACON_SIZE_DESC[#Data],0),0))","v":""},{"$f":"IF('Beacon (Desc)'!J199=\"\",\"\",'Beacon (Desc)'!J199)","v":""}]
[{"$f":"IF('Beacon (Desc)'!A200=\"\",\"\",'Beacon (Desc)'!A200)","v":""},{"$f":"IF('Beacon (Desc)'!B200=\"\",\"\",\"1987\")","v":""},{"$f":"IF('Beacon (Desc)'!B200=\"\",\"\",'Beacon (Desc)'!B200)","v":""},{"$f":"IF('Beacon (Desc)'!C200=\"\",\"\",'Beacon (Desc)'!C200)","v":""},{"$f":"IF('Beacon (Desc)'!D200=\"\",\"\",'Beacon (Desc)'!D200)","v":""},{"$f":"IF('Beacon (Desc)'!E200=\"\",\"\",INDEX([1]BEACON_TYPE!$A$2:$A$20,MATCH('Beacon (Desc)'!$E200,[1]!MASTER_BEACON_TYPE_DESC[#Data],0),0))","v":""},{"$f":"IF('Beacon (Desc)'!F200=\"\",\"\",IF('Beacon (Desc)'!F200=\"Unknown\",\"BCN001\",(INDEX([1]BEACON_MANUF_MODEL!$A$2:$D$1500,MATCH(1,([1]BEACON_MANUF_MODEL!$G$2:$G$1500=\"\")*([1]BEACON_MANUF_MODEL!$D$2:$D$1500='Beacon (Desc)'!$F200),0),2))))","v":""},{"$f":"IF('Beacon (Desc)'!F200=\"\",\"\",IF('Beacon (Desc)'!F200=\"Unknown\",\"BCNM001\",INDEX([1]BEACON_MANUF_MODEL!$A$2:$D$1500,MATCH(1,([1]BEACON_MANUF_MODEL!$G$2:$G$1500=\"\")*([1]BEACON_MANUF_MODEL!$D$2:$D$1500='Beacon (Desc)'!$F200),0),1)))","v":""},{"$f":"IF('Beacon (Desc)'!H200=\"\",\"\",INDEX([1]BEACON_COLOR!$A$2:$A$20,MATCH('Beacon (Desc)'!$H200,[1]!MASTER_BEACON_COLOR_DESC[#Data],0),0))","v":""},{"$f":"IF('Beacon (Desc)'!I200=\"\",\"\",INDEX([1]BEACON_SIZE!$A$2:$A$20,MATCH('Beacon (Desc)'!$I200,[1]!MASTER_BEACON_SIZE_DESC[#Data],0),0))","v":""},{"$f":"IF('Beacon (Desc)'!J200=\"\",\"\",'Beacon (Desc)'!J200)","v":""}]
[{"$f":"IF('Beacon (Desc)'!A201=\"\",\"\",'Beacon (Desc)'!A201)","v":""},{"$f":"IF('Beacon (Desc)'!B201=\"\",\"\",\"1987\")","v":""},{"$f":"IF('Beacon (Desc)'!B201=\"\",\"\",'Beacon (Desc)'!B201)","v":""},{"$f":"IF('Beacon (Desc)'!C201=\"\",\"\",'Beacon (Desc)'!C201)","v":""},{"$f":"IF('Beacon (Desc)'!D201=\"\",\"\",'Beacon (Desc)'!D201)","v":""},{"$f":"IF('Beacon (Desc)'!E201=\"\",\"\",INDEX([1]BEACON_TYPE!$A$2:$A$20,MATCH('Beacon (Desc)'!$E201,[1]!MASTER_BEACON_TYPE_DESC[#Data],0),0))","v":""},{"$f":"IF('Beacon (Desc)'!F201=\"\",\"\",IF('Beacon (Desc)'!F201=\"Unknown\",\"BCN001\",(INDEX([1]BEACON_MANUF_MODEL!$A$2:$D$1500,MATCH(1,([1]BEACON_MANUF_MODEL!$G$2:$G$1500=\"\")*([1]BEACON_MANUF_MODEL!$D$2:$D$1500='Beacon (Desc)'!$F201),0),2))))","v":""},{"$f":"IF('Beacon (Desc)'!F201=\"\",\"\",IF('Beacon (Desc)'!F201=\"Unknown\",\"BCNM001\",INDEX([1]BEACON_MANUF_MODEL!$A$2:$D$1500,MATCH(1,([1]BEACON_MANUF_MODEL!$G$2:$G$1500=\"\")*([1]BEACON_MANUF_MODEL!$D$2:$D$1500='Beacon (Desc)'!$F201),0),1)))","v":""},{"$f":"IF('Beacon (Desc)'!H201=\"\",\"\",INDEX([1]BEACON_COLOR!$A$2:$A$20,MATCH('Beacon (Desc)'!$H201,[1]!MASTER_BEACON_COLOR_DESC[#Data],0),0))","v":""},{"$f":"IF('Beacon (Desc)'!I201=\"\",\"\",INDEX([1]BEACON_SIZE!$A$2:$A$20,MATCH('Beacon (Desc)'!$I201,[1]!MASTER_BEACON_SIZE_DESC[#Data],0),0))","v":""},{"$f":"IF('Beacon (Desc)'!J201=\"\",\"\",'Beacon (Desc)'!J201)","v":""}]
[{"$f":"IF('Beacon (Desc)'!A202=\"\",\"\",'Beacon (Desc)'!A202)","v":""},{"$f":"IF('Beacon (Desc)'!B202=\"\",\"\",\"1987\")","v":""},{"$f":"IF('Beacon (Desc)'!B202=\"\",\"\",'Beacon (Desc)'!B202)","v":""},{"$f":"IF('Beacon (Desc)'!C202=\"\",\"\",'Beacon (Desc)'!C202)","v":""},{"$f":"IF('Beacon (Desc)'!D202=\"\",\"\",'Beacon (Desc)'!D202)","v":""},{"$f":"IF('Beacon (Desc)'!E202=\"\",\"\",INDEX([1]BEACON_TYPE!$A$2:$A$20,MATCH('Beacon (Desc)'!$E202,[1]!MASTER_BEACON_TYPE_DESC[#Data],0),0))","v":""},{"$f":"IF('Beacon (Desc)'!F202=\"\",\"\",IF('Beacon (Desc)'!F202=\"Unknown\",\"BCN001\",(INDEX([1]BEACON_MANUF_MODEL!$A$2:$D$1500,MATCH(1,([1]BEACON_MANUF_MODEL!$G$2:$G$1500=\"\")*([1]BEACON_MANUF_MODEL!$D$2:$D$1500='Beacon (Desc)'!$F202),0),2))))","v":""},{"$f":"IF('Beacon (Desc)'!F202=\"\",\"\",IF('Beacon (Desc)'!F202=\"Unknown\",\"BCNM001\",INDEX([1]BEACON_MANUF_MODEL!$A$2:$D$1500,MATCH(1,([1]BEACON_MANUF_MODEL!$G$2:$G$1500=\"\")*([1]BEACON_MANUF_MODEL!$D$2:$D$1500='Beacon (Desc)'!$F202),0),1)))","v":""},{"$f":"IF('Beacon (Desc)'!H202=\"\",\"\",INDEX([1]BEACON_COLOR!$A$2:$A$20,MATCH('Beacon (Desc)'!$H202,[1]!MASTER_BEACON_COLOR_DESC[#Data],0),0))","v":""},{"$f":"IF('Beacon (Desc)'!I202=\"\",\"\",INDEX([1]BEACON_SIZE!$A$2:$A$20,MATCH('Beacon (Desc)'!$I202,[1]!MASTER_BEACON_SIZE_DESC[#Data],0),0))","v":""},{"$f":"IF('Beacon (Desc)'!J202=\"\",\"\",'Beacon (Desc)'!J202)","v":""}]

{"sheet":"Sign (Desc)","index":7,"n_rows":2,"n_cols":8,"rows_kept":2,"cut":false,"hidden":false,"merged":[]}
["Device Id\nfor update ","WWVDS Name","WWVDS Id ","Installation Date\n(YYYY-MM-DD)","Sign Type","Sign Text","Sign Display Dimensions (HxW)","Comments"]
["EQUIP_ID","This Field is for Reference Only\nDO NOT IMPORT","EQUIP_LOC_ID\n","INSTALLED_DATE","SIGN_TYPE_CD\nREQUIRED FIELD","SIGN_TEXT_CD","PANEL_SIZE_CD ","COMMENTS"]

{"sheet":"Sign (Code)","index":8,"n_rows":201,"n_cols":9,"rows_kept":201,"cut":false,"hidden":false,"merged":[]}
["DEVICE ID FOR UPDATE","ENTITY ID","This Field is for Reference Only        DO NOT IMPORT","EQUIP_LOC_ID REQUIRED FIELD","INSTALLED_DATE","SIGN_TYPE_CD REQUIRED FIELD","SIGN_TEXT_CD","PANEL_SIZE_CD ","COMMENTS"]
[{"$f":"IF('Sign (Desc)'!A3=\"\",\"\",'Sign (Desc)'!A3)","v":""},{"$f":"IF('Sign (Desc)'!B3=\"\",\"\",\"1987\")","v":""},{"$f":"IF('Sign (Desc)'!B3=\"\",\"\",'Sign (Desc)'!B3)","v":""},{"$f":"IF('Sign (Desc)'!C3=\"\",\"\",'Sign (Desc)'!C3)","v":""},{"$f":"IF('Sign (Desc)'!D3=\"\",\"\",'Sign (Desc)'!D3)","v":""},{"$f":"IF('Sign (Desc)'!E3=\"\",\"\",INDEX([1]SIGN_TYPE!$A$2:$A$40,MATCH('Sign (Desc)'!$E3,[1]!MASTER_SIGN_TYPE_DESC[#Data],0),0))","v":""},{"$f":"IF('Sign (Desc)'!F3=\"\",\"\",INDEX([1]SIGN_TEXT!$A$2:$A$40,MATCH('Sign (Desc)'!$F3,[1]!MASTER_SIGN_TEXT_DESC[#Data],0),0))","v":""},{"$f":"IF('Sign (Desc)'!G3=\"\",\"\",INDEX([1]PANEL_SIZE!$A$2:$A$40,MATCH('Sign (Desc)'!$G3,[1]!MASTER_PANEL_SIZE_DESC[#Data],0),0))","v":""},{"$f":"IF('Sign (Desc)'!H3=\"\",\"\",'Sign (Desc)'!H3)","v":""}]
[{"$f":"IF('Sign (Desc)'!A4=\"\",\"\",'Sign (Desc)'!A4)","v":""},{"$f":"IF('Sign (Desc)'!B4=\"\",\"\",\"1987\")","v":""},{"$f":"IF('Sign (Desc)'!B4=\"\",\"\",'Sign (Desc)'!B4)","v":""},{"$f":"IF('Sign (Desc)'!C4=\"\",\"\",'Sign (Desc)'!C4)","v":""},{"$f":"IF('Sign (Desc)'!D4=\"\",\"\",'Sign (Desc)'!D4)","v":""},{"$f":"IF('Sign (Desc)'!E4=\"\",\"\",INDEX([1]SIGN_TYPE!$A$2:$A$40,MATCH('Sign (Desc)'!$E4,[1]!MASTER_SIGN_TYPE_DESC[#Data],0),0))","v":""},{"$f":"IF('Sign (Desc)'!F4=\"\",\"\",INDEX([1]SIGN_TEXT!$A$2:$A$40,MATCH('Sign (Desc)'!$F4,[1]!MASTER_SIGN_TEXT_DESC[#Data],0),0))","v":""},{"$f":"IF('Sign (Desc)'!G4=\"\",\"\",INDEX([1]PANEL_SIZE!$A$2:$A$40,MATCH('Sign (Desc)'!$G4,[1]!MASTER_PANEL_SIZE_DESC[#Data],0),0))","v":""},{"$f":"IF('Sign (Desc)'!H4=\"\",\"\",'Sign (Desc)'!H4)","v":""}]
[{"$f":"IF('Sign (Desc)'!A5=\"\",\"\",'Sign (Desc)'!A5)","v":""},{"$f":"IF('Sign (Desc)'!B5=\"\",\"\",\"1987\")","v":""},{"$f":"IF('Sign (Desc)'!B5=\"\",\"\",'Sign (Desc)'!B5)","v":""},{"$f":"IF('Sign (Desc)'!C5=\"\",\"\",'Sign (Desc)'!C5)","v":""},{"$f":"IF('Sign (Desc)'!D5=\"\",\"\",'Sign (Desc)'!D5)","v":""},{"$f":"IF('Sign (Desc)'!E5=\"\",\"\",INDEX([1]SIGN_TYPE!$A$2:$A$40,MATCH('Sign (Desc)'!$E5,[1]!MASTER_SIGN_TYPE_DESC[#Data],0),0))","v":""},{"$f":"IF('Sign (Desc)'!F5=\"\",\"\",INDEX([1]SIGN_TEXT!$A$2:$A$40,MATCH('Sign (Desc)'!$F5,[1]!MASTER_SIGN_TEXT_DESC[#Data],0),0))","v":""},{"$f":"IF('Sign (Desc)'!G5=\"\",\"\",INDEX([1]PANEL_SIZE!$A$2:$A$40,MATCH('Sign (Desc)'!$G5,[1]!MASTER_PANEL_SIZE_DESC[#Data],0),0))","v":""},{"$f":"IF('Sign (Desc)'!H5=\"\",\"\",'Sign (Desc)'!H5)","v":""}]
[{"$f":"IF('Sign (Desc)'!A6=\"\",\"\",'Sign (Desc)'!A6)","v":""},{"$f":"IF('Sign (Desc)'!B6=\"\",\"\",\"1987\")","v":""},{"$f":"IF('Sign (Desc)'!B6=\"\",\"\",'Sign (Desc)'!B6)","v":""},{"$f":"IF('Sign (Desc)'!C6=\"\",\"\",'Sign (Desc)'!C6)","v":""},{"$f":"IF('Sign (Desc)'!D6=\"\",\"\",'Sign (Desc)'!D6)","v":""},{"$f":"IF('Sign (Desc)'!E6=\"\",\"\",INDEX([1]SIGN_TYPE!$A$2:$A$40,MATCH('Sign (Desc)'!$E6,[1]!MASTER_SIGN_TYPE_DESC[#Data],0),0))","v":""},{"$f":"IF('Sign (Desc)'!F6=\"\",\"\",INDEX([1]SIGN_TEXT!$A$2:$A$40,MATCH('Sign (Desc)'!$F6,[1]!MASTER_SIGN_TEXT_DESC[#Data],0),0))","v":""},{"$f":"IF('Sign (Desc)'!G6=\"\",\"\",INDEX([1]PANEL_SIZE!$A$2:$A$40,MATCH('Sign (Desc)'!$G6,[1]!MASTER_PANEL_SIZE_DESC[#Data],0),0))","v":""},{"$f":"IF('Sign (Desc)'!H6=\"\",\"\",'Sign (Desc)'!H6)","v":""}]
[{"$f":"IF('Sign (Desc)'!A7=\"\",\"\",'Sign (Desc)'!A7)","v":""},{"$f":"IF('Sign (Desc)'!B7=\"\",\"\",\"1987\")","v":""},{"$f":"IF('Sign (Desc)'!B7=\"\",\"\",'Sign (Desc)'!B7)","v":""},{"$f":"IF('Sign (Desc)'!C7=\"\",\"\",'Sign (Desc)'!C7)","v":""},{"$f":"IF('Sign (Desc)'!D7=\"\",\"\",'Sign (Desc)'!D7)","v":""},{"$f":"IF('Sign (Desc)'!E7=\"\",\"\",INDEX([1]SIGN_TYPE!$A$2:$A$40,MATCH('Sign (Desc)'!$E7,[1]!MASTER_SIGN_TYPE_DESC[#Data],0),0))","v":""},{"$f":"IF('Sign (Desc)'!F7=\"\",\"\",INDEX([1]SIGN_TEXT!$A$2:$A$40,MATCH('Sign (Desc)'!$F7,[1]!MASTER_SIGN_TEXT_DESC[#Data],0),0))","v":""},{"$f":"IF('Sign (Desc)'!G7=\"\",\"\",INDEX([1]PANEL_SIZE!$A$2:$A$40,MATCH('Sign (Desc)'!$G7,[1]!MASTER_PANEL_SIZE_DESC[#Data],0),0))","v":""},{"$f":"IF('Sign (Desc)'!H7=\"\",\"\",'Sign (Desc)'!H7)","v":""}]
[{"$f":"IF('Sign (Desc)'!A8=\"\",\"\",'Sign (Desc)'!A8)","v":""},{"$f":"IF('Sign (Desc)'!B8=\"\",\"\",\"1987\")","v":""},{"$f":"IF('Sign (Desc)'!B8=\"\",\"\",'Sign (Desc)'!B8)","v":""},{"$f":"IF('Sign (Desc)'!C8=\"\",\"\",'Sign (Desc)'!C8)","v":""},{"$f":"IF('Sign (Desc)'!D8=\"\",\"\",'Sign (Desc)'!D8)","v":""},{"$f":"IF('Sign (Desc)'!E8=\"\",\"\",INDEX([1]SIGN_TYPE!$A$2:$A$40,MATCH('Sign (Desc)'!$E8,[1]!MASTER_SIGN_TYPE_DESC[#Data],0),0))","v":""},{"$f":"IF('Sign (Desc)'!F8=\"\",\"\",INDEX([1]SIGN_TEXT!$A$2:$A$40,MATCH('Sign (Desc)'!$F8,[1]!MASTER_SIGN_TEXT_DESC[#Data],0),0))","v":""},{"$f":"IF('Sign (Desc)'!G8=\"\",\"\",INDEX([1]PANEL_SIZE!$A$2:$A$40,MATCH('Sign (Desc)'!$G8,[1]!MASTER_PANEL_SIZE_DESC[#Data],0),0))","v":""},{"$f":"IF('Sign (Desc)'!H8=\"\",\"\",'Sign (Desc)'!H8)","v":""}]
[{"$f":"IF('Sign (Desc)'!A9=\"\",\"\",'Sign (Desc)'!A9)","v":""},{"$f":"IF('Sign (Desc)'!B9=\"\",\"\",\"1987\")","v":""},{"$f":"IF('Sign (Desc)'!B9=\"\",\"\",'Sign (Desc)'!B9)","v":""},{"$f":"IF('Sign (Desc)'!C9=\"\",\"\",'Sign (Desc)'!C9)","v":""},{"$f":"IF('Sign (Desc)'!D9=\"\",\"\",'Sign (Desc)'!D9)","v":""},{"$f":"IF('Sign (Desc)'!E9=\"\",\"\",INDEX([1]SIGN_TYPE!$A$2:$A$40,MATCH('Sign (Desc)'!$E9,[1]!MASTER_SIGN_TYPE_DESC[#Data],0),0))","v":""},{"$f":"IF('Sign (Desc)'!F9=\"\",\"\",INDEX([1]SIGN_TEXT!$A$2:$A$40,MATCH('Sign (Desc)'!$F9,[1]!MASTER_SIGN_TEXT_DESC[#Data],0),0))","v":""},{"$f":"IF('Sign (Desc)'!G9=\"\",\"\",INDEX([1]PANEL_SIZE!$A$2:$A$40,MATCH('Sign (Desc)'!$G9,[1]!MASTER_PANEL_SIZE_DESC[#Data],0),0))","v":""},{"$f":"IF('Sign (Desc)'!H9=\"\",\"\",'Sign (Desc)'!H9)","v":""}]
[{"$f":"IF('Sign (Desc)'!A10=\"\",\"\",'Sign (Desc)'!A10)","v":""},{"$f":"IF('Sign (Desc)'!B10=\"\",\"\",\"1987\")","v":""},{"$f":"IF('Sign (Desc)'!B10=\"\",\"\",'Sign (Desc)'!B10)","v":""},{"$f":"IF('Sign (Desc)'!C10=\"\",\"\",'Sign (Desc)'!C10)","v":""},{"$f":"IF('Sign (Desc)'!D10=\"\",\"\",'Sign (Desc)'!D10)","v":""},{"$f":"IF('Sign (Desc)'!E10=\"\",\"\",INDEX([1]SIGN_TYPE!$A$2:$A$40,MATCH('Sign (Desc)'!$E10,[1]!MASTER_SIGN_TYPE_DESC[#Data],0),0))","v":""},{"$f":"IF('Sign (Desc)'!F10=\"\",\"\",INDEX([1]SIGN_TEXT!$A$2:$A$40,MATCH('Sign (Desc)'!$F10,[1]!MASTER_SIGN_TEXT_DESC[#Data],0),0))","v":""},{"$f":"IF('Sign (Desc)'!G10=\"\",\"\",INDEX([1]PANEL_SIZE!$A$2:$A$40,MATCH('Sign (Desc)'!$G10,[1]!MASTER_PANEL_SIZE_DESC[#Data],0),0))","v":""},{"$f":"IF('Sign (Desc)'!H10=\"\",\"\",'Sign (Desc)'!H10)","v":""}]
[{"$f":"IF('Sign (Desc)'!A11=\"\",\"\",'Sign (Desc)'!A11)","v":""},{"$f":"IF('Sign (Desc)'!B11=\"\",\"\",\"1987\")","v":""},{"$f":"IF('Sign (Desc)'!B11=\"\",\"\",'Sign (Desc)'!B11)","v":""},{"$f":"IF('Sign (Desc)'!C11=\"\",\"\",'Sign (Desc)'!C11)","v":""},{"$f":"IF('Sign (Desc)'!D11=\"\",\"\",'Sign (Desc)'!D11)","v":""},{"$f":"IF('Sign (Desc)'!E11=\"\",\"\",INDEX([1]SIGN_TYPE!$A$2:$A$40,MATCH('Sign (Desc)'!$E11,[1]!MASTER_SIGN_TYPE_DESC[#Data],0),0))","v":""},{"$f":"IF('Sign (Desc)'!F11=\"\",\"\",INDEX([1]SIGN_TEXT!$A$2:$A$40,MATCH('Sign (Desc)'!$F11,[1]!MASTER_SIGN_TEXT_DESC[#Data],0),0))","v":""},{"$f":"IF('Sign (Desc)'!G11=\"\",\"\",INDEX([1]PANEL_SIZE!$A$2:$A$40,MATCH('Sign (Desc)'!$G11,[1]!MASTER_PANEL_SIZE_DESC[#Data],0),0))","v":""},{"$f":"IF('Sign (Desc)'!H11=\"\",\"\",'Sign (Desc)'!H11)","v":""}]
[{"$f":"IF('Sign (Desc)'!A12=\"\",\"\",'Sign (Desc)'!A12)","v":""},{"$f":"IF('Sign (Desc)'!B12=\"\",\"\",\"1987\")","v":""},{"$f":"IF('Sign (Desc)'!B12=\"\",\"\",'Sign (Desc)'!B12)","v":""},{"$f":"IF('Sign (Desc)'!C12=\"\",\"\",'Sign (Desc)'!C12)","v":""},{"$f":"IF('Sign (Desc)'!D12=\"\",\"\",'Sign (Desc)'!D12)","v":""},{"$f":"IF('Sign (Desc)'!E12=\"\",\"\",INDEX([1]SIGN_TYPE!$A$2:$A$40,MATCH('Sign (Desc)'!$E12,[1]!MASTER_SIGN_TYPE_DESC[#Data],0),0))","v":""},{"$f":"IF('Sign (Desc)'!F12=\"\",\"\",INDEX([1]SIGN_TEXT!$A$2:$A$40,MATCH('Sign (Desc)'!$F12,[1]!MASTER_SIGN_TEXT_DESC[#Data],0),0))","v":""},{"$f":"IF('Sign (Desc)'!G12=\"\",\"\",INDEX([1]PANEL_SIZE!$A$2:$A$40,MATCH('Sign (Desc)'!$G12,[1]!MASTER_PANEL_SIZE_DESC[#Data],0),0))","v":""},{"$f":"IF('Sign (Desc)'!H12=\"\",\"\",'Sign (Desc)'!H12)","v":""}]
[{"$f":"IF('Sign (Desc)'!A13=\"\",\"\",'Sign (Desc)'!A13)","v":""},{"$f":"IF('Sign (Desc)'!B13=\"\",\"\",\"1987\")","v":""},{"$f":"IF('Sign (Desc)'!B13=\"\",\"\",'Sign (Desc)'!B13)","v":""},{"$f":"IF('Sign (Desc)'!C13=\"\",\"\",'Sign (Desc)'!C13)","v":""},{"$f":"IF('Sign (Desc)'!D13=\"\",\"\",'Sign (Desc)'!D13)","v":""},{"$f":"IF('Sign (Desc)'!E13=\"\",\"\",INDEX([1]SIGN_TYPE!$A$2:$A$40,MATCH('Sign (Desc)'!$E13,[1]!MASTER_SIGN_TYPE_DESC[#Data],0),0))","v":""},{"$f":"IF('Sign (Desc)'!F13=\"\",\"\",INDEX([1]SIGN_TEXT!$A$2:$A$40,MATCH('Sign (Desc)'!$F13,[1]!MASTER_SIGN_TEXT_DESC[#Data],0),0))","v":""},{"$f":"IF('Sign (Desc)'!G13=\"\",\"\",INDEX([1]PANEL_SIZE!$A$2:$A$40,MATCH('Sign (Desc)'!$G13,[1]!MASTER_PANEL_SIZE_DESC[#Data],0),0))","v":""},{"$f":"IF('Sign (Desc)'!H13=\"\",\"\",'Sign (Desc)'!H13)","v":""}]
[{"$f":"IF('Sign (Desc)'!A14=\"\",\"\",'Sign (Desc)'!A14)","v":""},{"$f":"IF('Sign (Desc)'!B14=\"\",\"\",\"1987\")","v":""},{"$f":"IF('Sign (Desc)'!B14=\"\",\"\",'Sign (Desc)'!B14)","v":""},{"$f":"IF('Sign (Desc)'!C14=\"\",\"\",'Sign (Desc)'!C14)","v":""},{"$f":"IF('Sign (Desc)'!D14=\"\",\"\",'Sign (Desc)'!D14)","v":""},{"$f":"IF('Sign (Desc)'!E14=\"\",\"\",INDEX([1]SIGN_TYPE!$A$2:$A$40,MATCH('Sign (Desc)'!$E14,[1]!MASTER_SIGN_TYPE_DESC[#Data],0),0))","v":""},{"$f":"IF('Sign (Desc)'!F14=\"\",\"\",INDEX([1]SIGN_TEXT!$A$2:$A$40,MATCH('Sign (Desc)'!$F14,[1]!MASTER_SIGN_TEXT_DESC[#Data],0),0))","v":""},{"$f":"IF('Sign (Desc)'!G14=\"\",\"\",INDEX([1]PANEL_SIZE!$A$2:$A$40,MATCH('Sign (Desc)'!$G14,[1]!MASTER_PANEL_SIZE_DESC[#Data],0),0))","v":""},{"$f":"IF('Sign (Desc)'!H14=\"\",\"\",'Sign (Desc)'!H14)","v":""}]
[{"$f":"IF('Sign (Desc)'!A15=\"\",\"\",'Sign (Desc)'!A15)","v":""},{"$f":"IF('Sign (Desc)'!B15=\"\",\"\",\"1987\")","v":""},{"$f":"IF('Sign (Desc)'!B15=\"\",\"\",'Sign (Desc)'!B15)","v":""},{"$f":"IF('Sign (Desc)'!C15=\"\",\"\",'Sign (Desc)'!C15)","v":""},{"$f":"IF('Sign (Desc)'!D15=\"\",\"\",'Sign (Desc)'!D15)","v":""},{"$f":"IF('Sign (Desc)'!E15=\"\",\"\",INDEX([1]SIGN_TYPE!$A$2:$A$40,MATCH('Sign (Desc)'!$E15,[1]!MASTER_SIGN_TYPE_DESC[#Data],0),0))","v":""},{"$f":"IF('Sign (Desc)'!F15=\"\",\"\",INDEX([1]SIGN_TEXT!$A$2:$A$40,MATCH('Sign (Desc)'!$F15,[1]!MASTER_SIGN_TEXT_DESC[#Data],0),0))","v":""},{"$f":"IF('Sign (Desc)'!G15=\"\",\"\",INDEX([1]PANEL_SIZE!$A$2:$A$40,MATCH('Sign (Desc)'!$G15,[1]!MASTER_PANEL_SIZE_DESC[#Data],0),0))","v":""},{"$f":"IF('Sign (Desc)'!H15=\"\",\"\",'Sign (Desc)'!H15)","v":""}]
[{"$f":"IF('Sign (Desc)'!A16=\"\",\"\",'Sign (Desc)'!A16)","v":""},{"$f":"IF('Sign (Desc)'!B16=\"\",\"\",\"1987\")","v":""},{"$f":"IF('Sign (Desc)'!B16=\"\",\"\",'Sign (Desc)'!B16)","v":""},{"$f":"IF('Sign (Desc)'!C16=\"\",\"\",'Sign (Desc)'!C16)","v":""},{"$f":"IF('Sign (Desc)'!D16=\"\",\"\",'Sign (Desc)'!D16)","v":""},{"$f":"IF('Sign (Desc)'!E16=\"\",\"\",INDEX([1]SIGN_TYPE!$A$2:$A$40,MATCH('Sign (Desc)'!$E16,[1]!MASTER_SIGN_TYPE_DESC[#Data],0),0))","v":""},{"$f":"IF('Sign (Desc)'!F16=\"\",\"\",INDEX([1]SIGN_TEXT!$A$2:$A$40,MATCH('Sign (Desc)'!$F16,[1]!MASTER_SIGN_TEXT_DESC[#Data],0),0))","v":""},{"$f":"IF('Sign (Desc)'!G16=\"\",\"\",INDEX([1]PANEL_SIZE!$A$2:$A$40,MATCH('Sign (Desc)'!$G16,[1]!MASTER_PANEL_SIZE_DESC[#Data],0),0))","v":""},{"$f":"IF('Sign (Desc)'!H16=\"\",\"\",'Sign (Desc)'!H16)","v":""}]
[{"$f":"IF('Sign (Desc)'!A17=\"\",\"\",'Sign (Desc)'!A17)","v":""},{"$f":"IF('Sign (Desc)'!B17=\"\",\"\",\"1987\")","v":""},{"$f":"IF('Sign (Desc)'!B17=\"\",\"\",'Sign (Desc)'!B17)","v":""},{"$f":"IF('Sign (Desc)'!C17=\"\",\"\",'Sign (Desc)'!C17)","v":""},{"$f":"IF('Sign (Desc)'!D17=\"\",\"\",'Sign (Desc)'!D17)","v":""},{"$f":"IF('Sign (Desc)'!E17=\"\",\"\",INDEX([1]SIGN_TYPE!$A$2:$A$40,MATCH('Sign (Desc)'!$E17,[1]!MASTER_SIGN_TYPE_DESC[#Data],0),0))","v":""},{"$f":"IF('Sign (Desc)'!F17=\"\",\"\",INDEX([1]SIGN_TEXT!$A$2:$A$40,MATCH('Sign (Desc)'!$F17,[1]!MASTER_SIGN_TEXT_DESC[#Data],0),0))","v":""},{"$f":"IF('Sign (Desc)'!G17=\"\",\"\",INDEX([1]PANEL_SIZE!$A$2:$A$40,MATCH('Sign (Desc)'!$G17,[1]!MASTER_PANEL_SIZE_DESC[#Data],0),0))","v":""},{"$f":"IF('Sign (Desc)'!H17=\"\",\"\",'Sign (Desc)'!H17)","v":""}]
[{"$f":"IF('Sign (Desc)'!A18=\"\",\"\",'Sign (Desc)'!A18)","v":""},{"$f":"IF('Sign (Desc)'!B18=\"\",\"\",\"1987\")","v":""},{"$f":"IF('Sign (Desc)'!B18=\"\",\"\",'Sign (Desc)'!B18)","v":""},{"$f":"IF('Sign (Desc)'!C18=\"\",\"\",'Sign (Desc)'!C18)","v":""},{"$f":"IF('Sign (Desc)'!D18=\"\",\"\",'Sign (Desc)'!D18)","v":""},{"$f":"IF('Sign (Desc)'!E18=\"\",\"\",INDEX([1]SIGN_TYPE!$A$2:$A$40,MATCH('Sign (Desc)'!$E18,[1]!MASTER_SIGN_TYPE_DESC[#Data],0),0))","v":""},{"$f":"IF('Sign (Desc)'!F18=\"\",\"\",INDEX([1]SIGN_TEXT!$A$2:$A$40,MATCH('Sign (Desc)'!$F18,[1]!MASTER_SIGN_TEXT_DESC[#Data],0),0))","v":""},{"$f":"IF('Sign (Desc)'!G18=\"\",\"\",INDEX([1]PANEL_SIZE!$A$2:$A$40,MATCH('Sign (Desc)'!$G18,[1]!MASTER_PANEL_SIZE_DESC[#Data],0),0))","v":""},{"$f":"IF('Sign (Desc)'!H18=\"\",\"\",'Sign (Desc)'!H18)","v":""}]
[{"$f":"IF('Sign (Desc)'!A19=\"\",\"\",'Sign (Desc)'!A19)","v":""},{"$f":"IF('Sign (Desc)'!B19=\"\",\"\",\"1987\")","v":""},{"$f":"IF('Sign (Desc)'!B19=\"\",\"\",'Sign (Desc)'!B19)","v":""},{"$f":"IF('Sign (Desc)'!C19=\"\",\"\",'Sign (Desc)'!C19)","v":""},{"$f":"IF('Sign (Desc)'!D19=\"\",\"\",'Sign (Desc)'!D19)","v":""},{"$f":"IF('Sign (Desc)'!E19=\"\",\"\",INDEX([1]SIGN_TYPE!$A$2:$A$40,MATCH('Sign (Desc)'!$E19,[1]!MASTER_SIGN_TYPE_DESC[#Data],0),0))","v":""},{"$f":"IF('Sign (Desc)'!F19=\"\",\"\",INDEX([1]SIGN_TEXT!$A$2:$A$40,MATCH('Sign (Desc)'!$F19,[1]!MASTER_SIGN_TEXT_DESC[#Data],0),0))","v":""},{"$f":"IF('Sign (Desc)'!G19=\"\",\"\",INDEX([1]PANEL_SIZE!$A$2:$A$40,MATCH('Sign (Desc)'!$G19,[1]!MASTER_PANEL_SIZE_DESC[#Data],0),0))","v":""},{"$f":"IF('Sign (Desc)'!H19=\"\",\"\",'Sign (Desc)'!H19)","v":""}]
[{"$f":"IF('Sign (Desc)'!A20=\"\",\"\",'Sign (Desc)'!A20)","v":""},{"$f":"IF('Sign (Desc)'!B20=\"\",\"\",\"1987\")","v":""},{"$f":"IF('Sign (Desc)'!B20=\"\",\"\",'Sign (Desc)'!B20)","v":""},{"$f":"IF('Sign (Desc)'!C20=\"\",\"\",'Sign (Desc)'!C20)","v":""},{"$f":"IF('Sign (Desc)'!D20=\"\",\"\",'Sign (Desc)'!D20)","v":""},{"$f":"IF('Sign (Desc)'!E20=\"\",\"\",INDEX([1]SIGN_TYPE!$A$2:$A$40,MATCH('Sign (Desc)'!$E20,[1]!MASTER_SIGN_TYPE_DESC[#Data],0),0))","v":""},{"$f":"IF('Sign (Desc)'!F20=\"\",\"\",INDEX([1]SIGN_TEXT!$A$2:$A$40,MATCH('Sign (Desc)'!$F20,[1]!MASTER_SIGN_TEXT_DESC[#Data],0),0))","v":""},{"$f":"IF('Sign (Desc)'!G20=\"\",\"\",INDEX([1]PANEL_SIZE!$A$2:$A$40,MATCH('Sign (Desc)'!$G20,[1]!MASTER_PANEL_SIZE_DESC[#Data],0),0))","v":""},{"$f":"IF('Sign (Desc)'!H20=\"\",\"\",'Sign (Desc)'!H20)","v":""}]
[{"$f":"IF('Sign (Desc)'!A21=\"\",\"\",'Sign (Desc)'!A21)","v":""},{"$f":"IF('Sign (Desc)'!B21=\"\",\"\",\"1987\")","v":""},{"$f":"IF('Sign (Desc)'!B21=\"\",\"\",'Sign (Desc)'!B21)","v":""},{"$f":"IF('Sign (Desc)'!C21=\"\",\"\",'Sign (Desc)'!C21)","v":""},{"$f":"IF('Sign (Desc)'!D21=\"\",\"\",'Sign (Desc)'!D21)","v":""},{"$f":"IF('Sign (Desc)'!E21=\"\",\"\",INDEX([1]SIGN_TYPE!$A$2:$A$40,MATCH('Sign (Desc)'!$E21,[1]!MASTER_SIGN_TYPE_DESC[#Data],0),0))","v":""},{"$f":"IF('Sign (Desc)'!F21=\"\",\"\",INDEX([1]SIGN_TEXT!$A$2:$A$40,MATCH('Sign (Desc)'!$F21,[1]!MASTER_SIGN_TEXT_DESC[#Data],0),0))","v":""},{"$f":"IF('Sign (Desc)'!G21=\"\",\"\",INDEX([1]PANEL_SIZE!$A$2:$A$40,MATCH('Sign (Desc)'!$G21,[1]!MASTER_PANEL_SIZE_DESC[#Data],0),0))","v":""},{"$f":"IF('Sign (Desc)'!H21=\"\",\"\",'Sign (Desc)'!H21)","v":""}]
[{"$f":"IF('Sign (Desc)'!A22=\"\",\"\",'Sign (Desc)'!A22)","v":""},{"$f":"IF('Sign (Desc)'!B22=\"\",\"\",\"1987\")","v":""},{"$f":"IF('Sign (Desc)'!B22=\"\",\"\",'Sign (Desc)'!B22)","v":""},{"$f":"IF('Sign (Desc)'!C22=\"\",\"\",'Sign (Desc)'!C22)","v":""},{"$f":"IF('Sign (Desc)'!D22=\"\",\"\",'Sign (Desc)'!D22)","v":""},{"$f":"IF('Sign (Desc)'!E22=\"\",\"\",INDEX([1]SIGN_TYPE!$A$2:$A$40,MATCH('Sign (Desc)'!$E22,[1]!MASTER_SIGN_TYPE_DESC[#Data],0),0))","v":""},{"$f":"IF('Sign (Desc)'!F22=\"\",\"\",INDEX([1]SIGN_TEXT!$A$2:$A$40,MATCH('Sign (Desc)'!$F22,[1]!MASTER_SIGN_TEXT_DESC[#Data],0),0))","v":""},{"$f":"IF('Sign (Desc)'!G22=\"\",\"\",INDEX([1]PANEL_SIZE!$A$2:$A$40,MATCH('Sign (Desc)'!$G22,[1]!MASTER_PANEL_SIZE_DESC[#Data],0),0))","v":""},{"$f":"IF('Sign (Desc)'!H22=\"\",\"\",'Sign (Desc)'!H22)","v":""}]
[{"$f":"IF('Sign (Desc)'!A23=\"\",\"\",'Sign (Desc)'!A23)","v":""},{"$f":"IF('Sign (Desc)'!B23=\"\",\"\",\"1987\")","v":""},{"$f":"IF('Sign (Desc)'!B23=\"\",\"\",'Sign (Desc)'!B23)","v":""},{"$f":"IF('Sign (Desc)'!C23=\"\",\"\",'Sign (Desc)'!C23)","v":""},{"$f":"IF('Sign (Desc)'!D23=\"\",\"\",'Sign (Desc)'!D23)","v":""},{"$f":"IF('Sign (Desc)'!E23=\"\",\"\",INDEX([1]SIGN_TYPE!$A$2:$A$40,MATCH('Sign (Desc)'!$E23,[1]!MASTER_SIGN_TYPE_DESC[#Data],0),0))","v":""},{"$f":"IF('Sign (Desc)'!F23=\"\",\"\",INDEX([1]SIGN_TEXT!$A$2:$A$40,MATCH('Sign (Desc)'!$F23,[1]!MASTER_SIGN_TEXT_DESC[#Data],0),0))","v":""},{"$f":"IF('Sign (Desc)'!G23=\"\",\"\",INDEX([1]PANEL_SIZE!$A$2:$A$40,MATCH('Sign (Desc)'!$G23,[1]!MASTER_PANEL_SIZE_DESC[#Data],0),0))","v":""},{"$f":"IF('Sign (Desc)'!H23=\"\",\"\",'Sign (Desc)'!H23)","v":""}]
[{"$f":"IF('Sign (Desc)'!A24=\"\",\"\",'Sign (Desc)'!A24)","v":""},{"$f":"IF('Sign (Desc)'!B24=\"\",\"\",\"1987\")","v":""},{"$f":"IF('Sign (Desc)'!B24=\"\",\"\",'Sign (Desc)'!B24)","v":""},{"$f":"IF('Sign (Desc)'!C24=\"\",\"\",'Sign (Desc)'!C24)","v":""},{"$f":"IF('Sign (Desc)'!D24=\"\",\"\",'Sign (Desc)'!D24)","v":""},{"$f":"IF('Sign (Desc)'!E24=\"\",\"\",INDEX([1]SIGN_TYPE!$A$2:$A$40,MATCH('Sign (Desc)'!$E24,[1]!MASTER_SIGN_TYPE_DESC[#Data],0),0))","v":""},{"$f":"IF('Sign (Desc)'!F24=\"\",\"\",INDEX([1]SIGN_TEXT!$A$2:$A$40,MATCH('Sign (Desc)'!$F24,[1]!MASTER_SIGN_TEXT_DESC[#Data],0),0))","v":""},{"$f":"IF('Sign (Desc)'!G24=\"\",\"\",INDEX([1]PANEL_SIZE!$A$2:$A$40,MATCH('Sign (Desc)'!$G24,[1]!MASTER_PANEL_SIZE_DESC[#Data],0),0))","v":""},{"$f":"IF('Sign (Desc)'!H24=\"\",\"\",'Sign (Desc)'!H24)","v":""}]
[{"$f":"IF('Sign (Desc)'!A25=\"\",\"\",'Sign (Desc)'!A25)","v":""},{"$f":"IF('Sign (Desc)'!B25=\"\",\"\",\"1987\")","v":""},{"$f":"IF('Sign (Desc)'!B25=\"\",\"\",'Sign (Desc)'!B25)","v":""},{"$f":"IF('Sign (Desc)'!C25=\"\",\"\",'Sign (Desc)'!C25)","v":""},{"$f":"IF('Sign (Desc)'!D25=\"\",\"\",'Sign (Desc)'!D25)","v":""},{"$f":"IF('Sign (Desc)'!E25=\"\",\"\",INDEX([1]SIGN_TYPE!$A$2:$A$40,MATCH('Sign (Desc)'!$E25,[1]!MASTER_SIGN_TYPE_DESC[#Data],0),0))","v":""},{"$f":"IF('Sign (Desc)'!F25=\"\",\"\",INDEX([1]SIGN_TEXT!$A$2:$A$40,MATCH('Sign (Desc)'!$F25,[1]!MASTER_SIGN_TEXT_DESC[#Data],0),0))","v":""},{"$f":"IF('Sign (Desc)'!G25=\"\",\"\",INDEX([1]PANEL_SIZE!$A$2:$A$40,MATCH('Sign (Desc)'!$G25,[1]!MASTER_PANEL_SIZE_DESC[#Data],0),0))","v":""},{"$f":"IF('Sign (Desc)'!H25=\"\",\"\",'Sign (Desc)'!H25)","v":""}]
[{"$f":"IF('Sign (Desc)'!A26=\"\",\"\",'Sign (Desc)'!A26)","v":""},{"$f":"IF('Sign (Desc)'!B26=\"\",\"\",\"1987\")","v":""},{"$f":"IF('Sign (Desc)'!B26=\"\",\"\",'Sign (Desc)'!B26)","v":""},{"$f":"IF('Sign (Desc)'!C26=\"\",\"\",'Sign (Desc)'!C26)","v":""},{"$f":"IF('Sign (Desc)'!D26=\"\",\"\",'Sign (Desc)'!D26)","v":""},{"$f":"IF('Sign (Desc)'!E26=\"\",\"\",INDEX([1]SIGN_TYPE!$A$2:$A$40,MATCH('Sign (Desc)'!$E26,[1]!MASTER_SIGN_TYPE_DESC[#Data],0),0))","v":""},{"$f":"IF('Sign (Desc)'!F26=\"\",\"\",INDEX([1]SIGN_TEXT!$A$2:$A$40,MATCH('Sign (Desc)'!$F26,[1]!MASTER_SIGN_TEXT_DESC[#Data],0),0))","v":""},{"$f":"IF('Sign (Desc)'!G26=\"\",\"\",INDEX([1]PANEL_SIZE!$A$2:$A$40,MATCH('Sign (Desc)'!$G26,[1]!MASTER_PANEL_SIZE_DESC[#Data],0),0))","v":""},{"$f":"IF('Sign (Desc)'!H26=\"\",\"\",'Sign (Desc)'!H26)","v":""}]
[{"$f":"IF('Sign (Desc)'!A27=\"\",\"\",'Sign (Desc)'!A27)","v":""},{"$f":"IF('Sign (Desc)'!B27=\"\",\"\",\"1987\")","v":""},{"$f":"IF('Sign (Desc)'!B27=\"\",\"\",'Sign (Desc)'!B27)","v":""},{"$f":"IF('Sign (Desc)'!C27=\"\",\"\",'Sign (Desc)'!C27)","v":""},{"$f":"IF('Sign (Desc)'!D27=\"\",\"\",'Sign (Desc)'!D27)","v":""},{"$f":"IF('Sign (Desc)'!E27=\"\",\"\",INDEX([1]SIGN_TYPE!$A$2:$A$40,MATCH('Sign (Desc)'!$E27,[1]!MASTER_SIGN_TYPE_DESC[#Data],0),0))","v":""},{"$f":"IF('Sign (Desc)'!F27=\"\",\"\",INDEX([1]SIGN_TEXT!$A$2:$A$40,MATCH('Sign (Desc)'!$F27,[1]!MASTER_SIGN_TEXT_DESC[#Data],0),0))","v":""},{"$f":"IF('Sign (Desc)'!G27=\"\",\"\",INDEX([1]PANEL_SIZE!$A$2:$A$40,MATCH('Sign (Desc)'!$G27,[1]!MASTER_PANEL_SIZE_DESC[#Data],0),0))","v":""},{"$f":"IF('Sign (Desc)'!H27=\"\",\"\",'Sign (Desc)'!H27)","v":""}]
[{"$f":"IF('Sign (Desc)'!A28=\"\",\"\",'Sign (Desc)'!A28)","v":""},{"$f":"IF('Sign (Desc)'!B28=\"\",\"\",\"1987\")","v":""},{"$f":"IF('Sign (Desc)'!B28=\"\",\"\",'Sign (Desc)'!B28)","v":""},{"$f":"IF('Sign (Desc)'!C28=\"\",\"\",'Sign (Desc)'!C28)","v":""},{"$f":"IF('Sign (Desc)'!D28=\"\",\"\",'Sign (Desc)'!D28)","v":""},{"$f":"IF('Sign (Desc)'!E28=\"\",\"\",INDEX([1]SIGN_TYPE!$A$2:$A$40,MATCH('Sign (Desc)'!$E28,[1]!MASTER_SIGN_TYPE_DESC[#Data],0),0))","v":""},{"$f":"IF('Sign (Desc)'!F28=\"\",\"\",INDEX([1]SIGN_TEXT!$A$2:$A$40,MATCH('Sign (Desc)'!$F28,[1]!MASTER_SIGN_TEXT_DESC[#Data],0),0))","v":""},{"$f":"IF('Sign (Desc)'!G28=\"\",\"\",INDEX([1]PANEL_SIZE!$A$2:$A$40,MATCH('Sign (Desc)'!$G28,[1]!MASTER_PANEL_SIZE_DESC[#Data],0),0))","v":""},{"$f":"IF('Sign (Desc)'!H28=\"\",\"\",'Sign (Desc)'!H28)","v":""}]
[{"$f":"IF('Sign (Desc)'!A29=\"\",\"\",'Sign (Desc)'!A29)","v":""},{"$f":"IF('Sign (Desc)'!B29=\"\",\"\",\"1987\")","v":""},{"$f":"IF('Sign (Desc)'!B29=\"\",\"\",'Sign (Desc)'!B29)","v":""},{"$f":"IF('Sign (Desc)'!C29=\"\",\"\",'Sign (Desc)'!C29)","v":""},{"$f":"IF('Sign (Desc)'!D29=\"\",\"\",'Sign (Desc)'!D29)","v":""},{"$f":"IF('Sign (Desc)'!E29=\"\",\"\",INDEX([1]SIGN_TYPE!$A$2:$A$40,MATCH('Sign (Desc)'!$E29,[1]!MASTER_SIGN_TYPE_DESC[#Data],0),0))","v":""},{"$f":"IF('Sign (Desc)'!F29=\"\",\"\",INDEX([1]SIGN_TEXT!$A$2:$A$40,MATCH('Sign (Desc)'!$F29,[1]!MASTER_SIGN_TEXT_DESC[#Data],0),0))","v":""},{"$f":"IF('Sign (Desc)'!G29=\"\",\"\",INDEX([1]PANEL_SIZE!$A$2:$A$40,MATCH('Sign (Desc)'!$G29,[1]!MASTER_PANEL_SIZE_DESC[#Data],0),0))","v":""},{"$f":"IF('Sign (Desc)'!H29=\"\",\"\",'Sign (Desc)'!H29)","v":""}]
[{"$f":"IF('Sign (Desc)'!A30=\"\",\"\",'Sign (Desc)'!A30)","v":""},{"$f":"IF('Sign (Desc)'!B30=\"\",\"\",\"1987\")","v":""},{"$f":"IF('Sign (Desc)'!B30=\"\",\"\",'Sign (Desc)'!B30)","v":""},{"$f":"IF('Sign (Desc)'!C30=\"\",\"\",'Sign (Desc)'!C30)","v":""},{"$f":"IF('Sign (Desc)'!D30=\"\",\"\",'Sign (Desc)'!D30)","v":""},{"$f":"IF('Sign (Desc)'!E30=\"\",\"\",INDEX([1]SIGN_TYPE!$A$2:$A$40,MATCH('Sign (Desc)'!$E30,[1]!MASTER_SIGN_TYPE_DESC[#Data],0),0))","v":""},{"$f":"IF('Sign (Desc)'!F30=\"\",\"\",INDEX([1]SIGN_TEXT!$A$2:$A$40,MATCH('Sign (Desc)'!$F30,[1]!MASTER_SIGN_TEXT_DESC[#Data],0),0))","v":""},{"$f":"IF('Sign (Desc)'!G30=\"\",\"\",INDEX([1]PANEL_SIZE!$A$2:$A$40,MATCH('Sign (Desc)'!$G30,[1]!MASTER_PANEL_SIZE_DESC[#Data],0),0))","v":""},{"$f":"IF('Sign (Desc)'!H30=\"\",\"\",'Sign (Desc)'!H30)","v":""}]
[{"$f":"IF('Sign (Desc)'!A31=\"\",\"\",'Sign (Desc)'!A31)","v":""},{"$f":"IF('Sign (Desc)'!B31=\"\",\"\",\"1987\")","v":""},{"$f":"IF('Sign (Desc)'!B31=\"\",\"\",'Sign (Desc)'!B31)","v":""},{"$f":"IF('Sign (Desc)'!C31=\"\",\"\",'Sign (Desc)'!C31)","v":""},{"$f":"IF('Sign (Desc)'!D31=\"\",\"\",'Sign (Desc)'!D31)","v":""},{"$f":"IF('Sign (Desc)'!E31=\"\",\"\",INDEX([1]SIGN_TYPE!$A$2:$A$40,MATCH('Sign (Desc)'!$E31,[1]!MASTER_SIGN_TYPE_DESC[#Data],0),0))","v":""},{"$f":"IF('Sign (Desc)'!F31=\"\",\"\",INDEX([1]SIGN_TEXT!$A$2:$A$40,MATCH('Sign (Desc)'!$F31,[1]!MASTER_SIGN_TEXT_DESC[#Data],0),0))","v":""},{"$f":"IF('Sign (Desc)'!G31=\"\",\"\",INDEX([1]PANEL_SIZE!$A$2:$A$40,MATCH('Sign (Desc)'!$G31,[1]!MASTER_PANEL_SIZE_DESC[#Data],0),0))","v":""},{"$f":"IF('Sign (Desc)'!H31=\"\",\"\",'Sign (Desc)'!H31)","v":""}]
[{"$f":"IF('Sign (Desc)'!A32=\"\",\"\",'Sign (Desc)'!A32)","v":""},{"$f":"IF('Sign (Desc)'!B32=\"\",\"\",\"1987\")","v":""},{"$f":"IF('Sign (Desc)'!B32=\"\",\"\",'Sign (Desc)'!B32)","v":""},{"$f":"IF('Sign (Desc)'!C32=\"\",\"\",'Sign (Desc)'!C32)","v":""},{"$f":"IF('Sign (Desc)'!D32=\"\",\"\",'Sign (Desc)'!D32)","v":""},{"$f":"IF('Sign (Desc)'!E32=\"\",\"\",INDEX([1]SIGN_TYPE!$A$2:$A$40,MATCH('Sign (Desc)'!$E32,[1]!MASTER_SIGN_TYPE_DESC[#Data],0),0))","v":""},{"$f":"IF('Sign (Desc)'!F32=\"\",\"\",INDEX([1]SIGN_TEXT!$A$2:$A$40,MATCH('Sign (Desc)'!$F32,[1]!MASTER_SIGN_TEXT_DESC[#Data],0),0))","v":""},{"$f":"IF('Sign (Desc)'!G32=\"\",\"\",INDEX([1]PANEL_SIZE!$A$2:$A$40,MATCH('Sign (Desc)'!$G32,[1]!MASTER_PANEL_SIZE_DESC[#Data],0),0))","v":""},{"$f":"IF('Sign (Desc)'!H32=\"\",\"\",'Sign (Desc)'!H32)","v":""}]
[{"$f":"IF('Sign (Desc)'!A33=\"\",\"\",'Sign (Desc)'!A33)","v":""},{"$f":"IF('Sign (Desc)'!B33=\"\",\"\",\"1987\")","v":""},{"$f":"IF('Sign (Desc)'!B33=\"\",\"\",'Sign (Desc)'!B33)","v":""},{"$f":"IF('Sign (Desc)'!C33=\"\",\"\",'Sign (Desc)'!C33)","v":""},{"$f":"IF('Sign (Desc)'!D33=\"\",\"\",'Sign (Desc)'!D33)","v":""},{"$f":"IF('Sign (Desc)'!E33=\"\",\"\",INDEX([1]SIGN_TYPE!$A$2:$A$40,MATCH('Sign (Desc)'!$E33,[1]!MASTER_SIGN_TYPE_DESC[#Data],0),0))","v":""},{"$f":"IF('Sign (Desc)'!F33=\"\",\"\",INDEX([1]SIGN_TEXT!$A$2:$A$40,MATCH('Sign (Desc)'!$F33,[1]!MASTER_SIGN_TEXT_DESC[#Data],0),0))","v":""},{"$f":"IF('Sign (Desc)'!G33=\"\",\"\",INDEX([1]PANEL_SIZE!$A$2:$A$40,MATCH('Sign (Desc)'!$G33,[1]!MASTER_PANEL_SIZE_DESC[#Data],0),0))","v":""},{"$f":"IF('Sign (Desc)'!H33=\"\",\"\",'Sign (Desc)'!H33)","v":""}]
[{"$f":"IF('Sign (Desc)'!A34=\"\",\"\",'Sign (Desc)'!A34)","v":""},{"$f":"IF('Sign (Desc)'!B34=\"\",\"\",\"1987\")","v":""},{"$f":"IF('Sign (Desc)'!B34=\"\",\"\",'Sign (Desc)'!B34)","v":""},{"$f":"IF('Sign (Desc)'!C34=\"\",\"\",'Sign (Desc)'!C34)","v":""},{"$f":"IF('Sign (Desc)'!D34=\"\",\"\",'Sign (Desc)'!D34)","v":""},{"$f":"IF('Sign (Desc)'!E34=\"\",\"\",INDEX([1]SIGN_TYPE!$A$2:$A$40,MATCH('Sign (Desc)'!$E34,[1]!MASTER_SIGN_TYPE_DESC[#Data],0),0))","v":""},{"$f":"IF('Sign (Desc)'!F34=\"\",\"\",INDEX([1]SIGN_TEXT!$A$2:$A$40,MATCH('Sign (Desc)'!$F34,[1]!MASTER_SIGN_TEXT_DESC[#Data],0),0))","v":""},{"$f":"IF('Sign (Desc)'!G34=\"\",\"\",INDEX([1]PANEL_SIZE!$A$2:$A$40,MATCH('Sign (Desc)'!$G34,[1]!MASTER_PANEL_SIZE_DESC[#Data],0),0))","v":""},{"$f":"IF('Sign (Desc)'!H34=\"\",\"\",'Sign (Desc)'!H34)","v":""}]
[{"$f":"IF('Sign (Desc)'!A35=\"\",\"\",'Sign (Desc)'!A35)","v":""},{"$f":"IF('Sign (Desc)'!B35=\"\",\"\",\"1987\")","v":""},{"$f":"IF('Sign (Desc)'!B35=\"\",\"\",'Sign (Desc)'!B35)","v":""},{"$f":"IF('Sign (Desc)'!C35=\"\",\"\",'Sign (Desc)'!C35)","v":""},{"$f":"IF('Sign (Desc)'!D35=\"\",\"\",'Sign (Desc)'!D35)","v":""},{"$f":"IF('Sign (Desc)'!E35=\"\",\"\",INDEX([1]SIGN_TYPE!$A$2:$A$40,MATCH('Sign (Desc)'!$E35,[1]!MASTER_SIGN_TYPE_DESC[#Data],0),0))","v":""},{"$f":"IF('Sign (Desc)'!F35=\"\",\"\",INDEX([1]SIGN_TEXT!$A$2:$A$40,MATCH('Sign (Desc)'!$F35,[1]!MASTER_SIGN_TEXT_DESC[#Data],0),0))","v":""},{"$f":"IF('Sign (Desc)'!G35=\"\",\"\",INDEX([1]PANEL_SIZE!$A$2:$A$40,MATCH('Sign (Desc)'!$G35,[1]!MASTER_PANEL_SIZE_DESC[#Data],0),0))","v":""},{"$f":"IF('Sign (Desc)'!H35=\"\",\"\",'Sign (Desc)'!H35)","v":""}]
[{"$f":"IF('Sign (Desc)'!A36=\"\",\"\",'Sign (Desc)'!A36)","v":""},{"$f":"IF('Sign (Desc)'!B36=\"\",\"\",\"1987\")","v":""},{"$f":"IF('Sign (Desc)'!B36=\"\",\"\",'Sign (Desc)'!B36)","v":""},{"$f":"IF('Sign (Desc)'!C36=\"\",\"\",'Sign (Desc)'!C36)","v":""},{"$f":"IF('Sign (Desc)'!D36=\"\",\"\",'Sign (Desc)'!D36)","v":""},{"$f":"IF('Sign (Desc)'!E36=\"\",\"\",INDEX([1]SIGN_TYPE!$A$2:$A$40,MATCH('Sign (Desc)'!$E36,[1]!MASTER_SIGN_TYPE_DESC[#Data],0),0))","v":""},{"$f":"IF('Sign (Desc)'!F36=\"\",\"\",INDEX([1]SIGN_TEXT!$A$2:$A$40,MATCH('Sign (Desc)'!$F36,[1]!MASTER_SIGN_TEXT_DESC[#Data],0),0))","v":""},{"$f":"IF('Sign (Desc)'!G36=\"\",\"\",INDEX([1]PANEL_SIZE!$A$2:$A$40,MATCH('Sign (Desc)'!$G36,[1]!MASTER_PANEL_SIZE_DESC[#Data],0),0))","v":""},{"$f":"IF('Sign (Desc)'!H36=\"\",\"\",'Sign (Desc)'!H36)","v":""}]
[{"$f":"IF('Sign (Desc)'!A37=\"\",\"\",'Sign (Desc)'!A37)","v":""},{"$f":"IF('Sign (Desc)'!B37=\"\",\"\",\"1987\")","v":""},{"$f":"IF('Sign (Desc)'!B37=\"\",\"\",'Sign (Desc)'!B37)","v":""},{"$f":"IF('Sign (Desc)'!C37=\"\",\"\",'Sign (Desc)'!C37)","v":""},{"$f":"IF('Sign (Desc)'!D37=\"\",\"\",'Sign (Desc)'!D37)","v":""},{"$f":"IF('Sign (Desc)'!E37=\"\",\"\",INDEX([1]SIGN_TYPE!$A$2:$A$40,MATCH('Sign (Desc)'!$E37,[1]!MASTER_SIGN_TYPE_DESC[#Data],0),0))","v":""},{"$f":"IF('Sign (Desc)'!F37=\"\",\"\",INDEX([1]SIGN_TEXT!$A$2:$A$40,MATCH('Sign (Desc)'!$F37,[1]!MASTER_SIGN_TEXT_DESC[#Data],0),0))","v":""},{"$f":"IF('Sign (Desc)'!G37=\"\",\"\",INDEX([1]PANEL_SIZE!$A$2:$A$40,MATCH('Sign (Desc)'!$G37,[1]!MASTER_PANEL_SIZE_DESC[#Data],0),0))","v":""},{"$f":"IF('Sign (Desc)'!H37=\"\",\"\",'Sign (Desc)'!H37)","v":""}]
[{"$f":"IF('Sign (Desc)'!A38=\"\",\"\",'Sign (Desc)'!A38)","v":""},{"$f":"IF('Sign (Desc)'!B38=\"\",\"\",\"1987\")","v":""},{"$f":"IF('Sign (Desc)'!B38=\"\",\"\",'Sign (Desc)'!B38)","v":""},{"$f":"IF('Sign (Desc)'!C38=\"\",\"\",'Sign (Desc)'!C38)","v":""},{"$f":"IF('Sign (Desc)'!D38=\"\",\"\",'Sign (Desc)'!D38)","v":""},{"$f":"IF('Sign (Desc)'!E38=\"\",\"\",INDEX([1]SIGN_TYPE!$A$2:$A$40,MATCH('Sign (Desc)'!$E38,[1]!MASTER_SIGN_TYPE_DESC[#Data],0),0))","v":""},{"$f":"IF('Sign (Desc)'!F38=\"\",\"\",INDEX([1]SIGN_TEXT!$A$2:$A$40,MATCH('Sign (Desc)'!$F38,[1]!MASTER_SIGN_TEXT_DESC[#Data],0),0))","v":""},{"$f":"IF('Sign (Desc)'!G38=\"\",\"\",INDEX([1]PANEL_SIZE!$A$2:$A$40,MATCH('Sign (Desc)'!$G38,[1]!MASTER_PANEL_SIZE_DESC[#Data],0),0))","v":""},{"$f":"IF('Sign (Desc)'!H38=\"\",\"\",'Sign (Desc)'!H38)","v":""}]
[{"$f":"IF('Sign (Desc)'!A39=\"\",\"\",'Sign (Desc)'!A39)","v":""},{"$f":"IF('Sign (Desc)'!B39=\"\",\"\",\"1987\")","v":""},{"$f":"IF('Sign (Desc)'!B39=\"\",\"\",'Sign (Desc)'!B39)","v":""},{"$f":"IF('Sign (Desc)'!C39=\"\",\"\",'Sign (Desc)'!C39)","v":""},{"$f":"IF('Sign (Desc)'!D39=\"\",\"\",'Sign (Desc)'!D39)","v":""},{"$f":"IF('Sign (Desc)'!E39=\"\",\"\",INDEX([1]SIGN_TYPE!$A$2:$A$40,MATCH('Sign (Desc)'!$E39,[1]!MASTER_SIGN_TYPE_DESC[#Data],0),0))","v":""},{"$f":"IF('Sign (Desc)'!F39=\"\",\"\",INDEX([1]SIGN_TEXT!$A$2:$A$40,MATCH('Sign (Desc)'!$F39,[1]!MASTER_SIGN_TEXT_DESC[#Data],0),0))","v":""},{"$f":"IF('Sign (Desc)'!G39=\"\",\"\",INDEX([1]PANEL_SIZE!$A$2:$A$40,MATCH('Sign (Desc)'!$G39,[1]!MASTER_PANEL_SIZE_DESC[#Data],0),0))","v":""},{"$f":"IF('Sign (Desc)'!H39=\"\",\"\",'Sign (Desc)'!H39)","v":""}]
[{"$f":"IF('Sign (Desc)'!A40=\"\",\"\",'Sign (Desc)'!A40)","v":""},{"$f":"IF('Sign (Desc)'!B40=\"\",\"\",\"1987\")","v":""},{"$f":"IF('Sign (Desc)'!B40=\"\",\"\",'Sign (Desc)'!B40)","v":""},{"$f":"IF('Sign (Desc)'!C40=\"\",\"\",'Sign (Desc)'!C40)","v":""},{"$f":"IF('Sign (Desc)'!D40=\"\",\"\",'Sign (Desc)'!D40)","v":""},{"$f":"IF('Sign (Desc)'!E40=\"\",\"\",INDEX([1]SIGN_TYPE!$A$2:$A$40,MATCH('Sign (Desc)'!$E40,[1]!MASTER_SIGN_TYPE_DESC[#Data],0),0))","v":""},{"$f":"IF('Sign (Desc)'!F40=\"\",\"\",INDEX([1]SIGN_TEXT!$A$2:$A$40,MATCH('Sign (Desc)'!$F40,[1]!MASTER_SIGN_TEXT_DESC[#Data],0),0))","v":""},{"$f":"IF('Sign (Desc)'!G40=\"\",\"\",INDEX([1]PANEL_SIZE!$A$2:$A$40,MATCH('Sign (Desc)'!$G40,[1]!MASTER_PANEL_SIZE_DESC[#Data],0),0))","v":""},{"$f":"IF('Sign (Desc)'!H40=\"\",\"\",'Sign (Desc)'!H40)","v":""}]
[{"$f":"IF('Sign (Desc)'!A41=\"\",\"\",'Sign (Desc)'!A41)","v":""},{"$f":"IF('Sign (Desc)'!B41=\"\",\"\",\"1987\")","v":""},{"$f":"IF('Sign (Desc)'!B41=\"\",\"\",'Sign (Desc)'!B41)","v":""},{"$f":"IF('Sign (Desc)'!C41=\"\",\"\",'Sign (Desc)'!C41)","v":""},{"$f":"IF('Sign (Desc)'!D41=\"\",\"\",'Sign (Desc)'!D41)","v":""},{"$f":"IF('Sign (Desc)'!E41=\"\",\"\",INDEX([1]SIGN_TYPE!$A$2:$A$40,MATCH('Sign (Desc)'!$E41,[1]!MASTER_SIGN_TYPE_DESC[#Data],0),0))","v":""},{"$f":"IF('Sign (Desc)'!F41=\"\",\"\",INDEX([1]SIGN_TEXT!$A$2:$A$40,MATCH('Sign (Desc)'!$F41,[1]!MASTER_SIGN_TEXT_DESC[#Data],0),0))","v":""},{"$f":"IF('Sign (Desc)'!G41=\"\",\"\",INDEX([1]PANEL_SIZE!$A$2:$A$40,MATCH('Sign (Desc)'!$G41,[1]!MASTER_PANEL_SIZE_DESC[#Data],0),0))","v":""},{"$f":"IF('Sign (Desc)'!H41=\"\",\"\",'Sign (Desc)'!H41)","v":""}]
[{"$f":"IF('Sign (Desc)'!A42=\"\",\"\",'Sign (Desc)'!A42)","v":""},{"$f":"IF('Sign (Desc)'!B42=\"\",\"\",\"1987\")","v":""},{"$f":"IF('Sign (Desc)'!B42=\"\",\"\",'Sign (Desc)'!B42)","v":""},{"$f":"IF('Sign (Desc)'!C42=\"\",\"\",'Sign (Desc)'!C42)","v":""},{"$f":"IF('Sign (Desc)'!D42=\"\",\"\",'Sign (Desc)'!D42)","v":""},{"$f":"IF('Sign (Desc)'!E42=\"\",\"\",INDEX([1]SIGN_TYPE!$A$2:$A$40,MATCH('Sign (Desc)'!$E42,[1]!MASTER_SIGN_TYPE_DESC[#Data],0),0))","v":""},{"$f":"IF('Sign (Desc)'!F42=\"\",\"\",INDEX([1]SIGN_TEXT!$A$2:$A$40,MATCH('Sign (Desc)'!$F42,[1]!MASTER_SIGN_TEXT_DESC[#Data],0),0))","v":""},{"$f":"IF('Sign (Desc)'!G42=\"\",\"\",INDEX([1]PANEL_SIZE!$A$2:$A$40,MATCH('Sign (Desc)'!$G42,[1]!MASTER_PANEL_SIZE_DESC[#Data],0),0))","v":""},{"$f":"IF('Sign (Desc)'!H42=\"\",\"\",'Sign (Desc)'!H42)","v":""}]
[{"$f":"IF('Sign (Desc)'!A43=\"\",\"\",'Sign (Desc)'!A43)","v":""},{"$f":"IF('Sign (Desc)'!B43=\"\",\"\",\"1987\")","v":""},{"$f":"IF('Sign (Desc)'!B43=\"\",\"\",'Sign (Desc)'!B43)","v":""},{"$f":"IF('Sign (Desc)'!C43=\"\",\"\",'Sign (Desc)'!C43)","v":""},{"$f":"IF('Sign (Desc)'!D43=\"\",\"\",'Sign (Desc)'!D43)","v":""},{"$f":"IF('Sign (Desc)'!E43=\"\",\"\",INDEX([1]SIGN_TYPE!$A$2:$A$40,MATCH('Sign (Desc)'!$E43,[1]!MASTER_SIGN_TYPE_DESC[#Data],0),0))","v":""},{"$f":"IF('Sign (Desc)'!F43=\"\",\"\",INDEX([1]SIGN_TEXT!$A$2:$A$40,MATCH('Sign (Desc)'!$F43,[1]!MASTER_SIGN_TEXT_DESC[#Data],0),0))","v":""},{"$f":"IF('Sign (Desc)'!G43=\"\",\"\",INDEX([1]PANEL_SIZE!$A$2:$A$40,MATCH('Sign (Desc)'!$G43,[1]!MASTER_PANEL_SIZE_DESC[#Data],0),0))","v":""},{"$f":"IF('Sign (Desc)'!H43=\"\",\"\",'Sign (Desc)'!H43)","v":""}]
[{"$f":"IF('Sign (Desc)'!A44=\"\",\"\",'Sign (Desc)'!A44)","v":""},{"$f":"IF('Sign (Desc)'!B44=\"\",\"\",\"1987\")","v":""},{"$f":"IF('Sign (Desc)'!B44=\"\",\"\",'Sign (Desc)'!B44)","v":""},{"$f":"IF('Sign (Desc)'!C44=\"\",\"\",'Sign (Desc)'!C44)","v":""},{"$f":"IF('Sign (Desc)'!D44=\"\",\"\",'Sign (Desc)'!D44)","v":""},{"$f":"IF('Sign (Desc)'!E44=\"\",\"\",INDEX([1]SIGN_TYPE!$A$2:$A$40,MATCH('Sign (Desc)'!$E44,[1]!MASTER_SIGN_TYPE_DESC[#Data],0),0))","v":""},{"$f":"IF('Sign (Desc)'!F44=\"\",\"\",INDEX([1]SIGN_TEXT!$A$2:$A$40,MATCH('Sign (Desc)'!$F44,[1]!MASTER_SIGN_TEXT_DESC[#Data],0),0))","v":""},{"$f":"IF('Sign (Desc)'!G44=\"\",\"\",INDEX([1]PANEL_SIZE!$A$2:$A$40,MATCH('Sign (Desc)'!$G44,[1]!MASTER_PANEL_SIZE_DESC[#Data],0),0))","v":""},{"$f":"IF('Sign (Desc)'!H44=\"\",\"\",'Sign (Desc)'!H44)","v":""}]
[{"$f":"IF('Sign (Desc)'!A45=\"\",\"\",'Sign (Desc)'!A45)","v":""},{"$f":"IF('Sign (Desc)'!B45=\"\",\"\",\"1987\")","v":""},{"$f":"IF('Sign (Desc)'!B45=\"\",\"\",'Sign (Desc)'!B45)","v":""},{"$f":"IF('Sign (Desc)'!C45=\"\",\"\",'Sign (Desc)'!C45)","v":""},{"$f":"IF('Sign (Desc)'!D45=\"\",\"\",'Sign (Desc)'!D45)","v":""},{"$f":"IF('Sign (Desc)'!E45=\"\",\"\",INDEX([1]SIGN_TYPE!$A$2:$A$40,MATCH('Sign (Desc)'!$E45,[1]!MASTER_SIGN_TYPE_DESC[#Data],0),0))","v":""},{"$f":"IF('Sign (Desc)'!F45=\"\",\"\",INDEX([1]SIGN_TEXT!$A$2:$A$40,MATCH('Sign (Desc)'!$F45,[1]!MASTER_SIGN_TEXT_DESC[#Data],0),0))","v":""},{"$f":"IF('Sign (Desc)'!G45=\"\",\"\",INDEX([1]PANEL_SIZE!$A$2:$A$40,MATCH('Sign (Desc)'!$G45,[1]!MASTER_PANEL_SIZE_DESC[#Data],0),0))","v":""},{"$f":"IF('Sign (Desc)'!H45=\"\",\"\",'Sign (Desc)'!H45)","v":""}]
[{"$f":"IF('Sign (Desc)'!A46=\"\",\"\",'Sign (Desc)'!A46)","v":""},{"$f":"IF('Sign (Desc)'!B46=\"\",\"\",\"1987\")","v":""},{"$f":"IF('Sign (Desc)'!B46=\"\",\"\",'Sign (Desc)'!B46)","v":""},{"$f":"IF('Sign (Desc)'!C46=\"\",\"\",'Sign (Desc)'!C46)","v":""},{"$f":"IF('Sign (Desc)'!D46=\"\",\"\",'Sign (Desc)'!D46)","v":""},{"$f":"IF('Sign (Desc)'!E46=\"\",\"\",INDEX([1]SIGN_TYPE!$A$2:$A$40,MATCH('Sign (Desc)'!$E46,[1]!MASTER_SIGN_TYPE_DESC[#Data],0),0))","v":""},{"$f":"IF('Sign (Desc)'!F46=\"\",\"\",INDEX([1]SIGN_TEXT!$A$2:$A$40,MATCH('Sign (Desc)'!$F46,[1]!MASTER_SIGN_TEXT_DESC[#Data],0),0))","v":""},{"$f":"IF('Sign (Desc)'!G46=\"\",\"\",INDEX([1]PANEL_SIZE!$A$2:$A$40,MATCH('Sign (Desc)'!$G46,[1]!MASTER_PANEL_SIZE_DESC[#Data],0),0))","v":""},{"$f":"IF('Sign (Desc)'!H46=\"\",\"\",'Sign (Desc)'!H46)","v":""}]
[{"$f":"IF('Sign (Desc)'!A47=\"\",\"\",'Sign (Desc)'!A47)","v":""},{"$f":"IF('Sign (Desc)'!B47=\"\",\"\",\"1987\")","v":""},{"$f":"IF('Sign (Desc)'!B47=\"\",\"\",'Sign (Desc)'!B47)","v":""},{"$f":"IF('Sign (Desc)'!C47=\"\",\"\",'Sign (Desc)'!C47)","v":""},{"$f":"IF('Sign (Desc)'!D47=\"\",\"\",'Sign (Desc)'!D47)","v":""},{"$f":"IF('Sign (Desc)'!E47=\"\",\"\",INDEX([1]SIGN_TYPE!$A$2:$A$40,MATCH('Sign (Desc)'!$E47,[1]!MASTER_SIGN_TYPE_DESC[#Data],0),0))","v":""},{"$f":"IF('Sign (Desc)'!F47=\"\",\"\",INDEX([1]SIGN_TEXT!$A$2:$A$40,MATCH('Sign (Desc)'!$F47,[1]!MASTER_SIGN_TEXT_DESC[#Data],0),0))","v":""},{"$f":"IF('Sign (Desc)'!G47=\"\",\"\",INDEX([1]PANEL_SIZE!$A$2:$A$40,MATCH('Sign (Desc)'!$G47,[1]!MASTER_PANEL_SIZE_DESC[#Data],0),0))","v":""},{"$f":"IF('Sign (Desc)'!H47=\"\",\"\",'Sign (Desc)'!H47)","v":""}]
[{"$f":"IF('Sign (Desc)'!A48=\"\",\"\",'Sign (Desc)'!A48)","v":""},{"$f":"IF('Sign (Desc)'!B48=\"\",\"\",\"1987\")","v":""},{"$f":"IF('Sign (Desc)'!B48=\"\",\"\",'Sign (Desc)'!B48)","v":""},{"$f":"IF('Sign (Desc)'!C48=\"\",\"\",'Sign (Desc)'!C48)","v":""},{"$f":"IF('Sign (Desc)'!D48=\"\",\"\",'Sign (Desc)'!D48)","v":""},{"$f":"IF('Sign (Desc)'!E48=\"\",\"\",INDEX([1]SIGN_TYPE!$A$2:$A$40,MATCH('Sign (Desc)'!$E48,[1]!MASTER_SIGN_TYPE_DESC[#Data],0),0))","v":""},{"$f":"IF('Sign (Desc)'!F48=\"\",\"\",INDEX([1]SIGN_TEXT!$A$2:$A$40,MATCH('Sign (Desc)'!$F48,[1]!MASTER_SIGN_TEXT_DESC[#Data],0),0))","v":""},{"$f":"IF('Sign (Desc)'!G48=\"\",\"\",INDEX([1]PANEL_SIZE!$A$2:$A$40,MATCH('Sign (Desc)'!$G48,[1]!MASTER_PANEL_SIZE_DESC[#Data],0),0))","v":""},{"$f":"IF('Sign (Desc)'!H48=\"\",\"\",'Sign (Desc)'!H48)","v":""}]
[{"$f":"IF('Sign (Desc)'!A49=\"\",\"\",'Sign (Desc)'!A49)","v":""},{"$f":"IF('Sign (Desc)'!B49=\"\",\"\",\"1987\")","v":""},{"$f":"IF('Sign (Desc)'!B49=\"\",\"\",'Sign (Desc)'!B49)","v":""},{"$f":"IF('Sign (Desc)'!C49=\"\",\"\",'Sign (Desc)'!C49)","v":""},{"$f":"IF('Sign (Desc)'!D49=\"\",\"\",'Sign (Desc)'!D49)","v":""},{"$f":"IF('Sign (Desc)'!E49=\"\",\"\",INDEX([1]SIGN_TYPE!$A$2:$A$40,MATCH('Sign (Desc)'!$E49,[1]!MASTER_SIGN_TYPE_DESC[#Data],0),0))","v":""},{"$f":"IF('Sign (Desc)'!F49=\"\",\"\",INDEX([1]SIGN_TEXT!$A$2:$A$40,MATCH('Sign (Desc)'!$F49,[1]!MASTER_SIGN_TEXT_DESC[#Data],0),0))","v":""},{"$f":"IF('Sign (Desc)'!G49=\"\",\"\",INDEX([1]PANEL_SIZE!$A$2:$A$40,MATCH('Sign (Desc)'!$G49,[1]!MASTER_PANEL_SIZE_DESC[#Data],0),0))","v":""},{"$f":"IF('Sign (Desc)'!H49=\"\",\"\",'Sign (Desc)'!H49)","v":""}]
[{"$f":"IF('Sign (Desc)'!A50=\"\",\"\",'Sign (Desc)'!A50)","v":""},{"$f":"IF('Sign (Desc)'!B50=\"\",\"\",\"1987\")","v":""},{"$f":"IF('Sign (Desc)'!B50=\"\",\"\",'Sign (Desc)'!B50)","v":""},{"$f":"IF('Sign (Desc)'!C50=\"\",\"\",'Sign (Desc)'!C50)","v":""},{"$f":"IF('Sign (Desc)'!D50=\"\",\"\",'Sign (Desc)'!D50)","v":""},{"$f":"IF('Sign (Desc)'!E50=\"\",\"\",INDEX([1]SIGN_TYPE!$A$2:$A$40,MATCH('Sign (Desc)'!$E50,[1]!MASTER_SIGN_TYPE_DESC[#Data],0),0))","v":""},{"$f":"IF('Sign (Desc)'!F50=\"\",\"\",INDEX([1]SIGN_TEXT!$A$2:$A$40,MATCH('Sign (Desc)'!$F50,[1]!MASTER_SIGN_TEXT_DESC[#Data],0),0))","v":""},{"$f":"IF('Sign (Desc)'!G50=\"\",\"\",INDEX([1]PANEL_SIZE!$A$2:$A$40,MATCH('Sign (Desc)'!$G50,[1]!MASTER_PANEL_SIZE_DESC[#Data],0),0))","v":""},{"$f":"IF('Sign (Desc)'!H50=\"\",\"\",'Sign (Desc)'!H50)","v":""}]
[{"$f":"IF('Sign (Desc)'!A51=\"\",\"\",'Sign (Desc)'!A51)","v":""},{"$f":"IF('Sign (Desc)'!B51=\"\",\"\",\"1987\")","v":""},{"$f":"IF('Sign (Desc)'!B51=\"\",\"\",'Sign (Desc)'!B51)","v":""},{"$f":"IF('Sign (Desc)'!C51=\"\",\"\",'Sign (Desc)'!C51)","v":""},{"$f":"IF('Sign (Desc)'!D51=\"\",\"\",'Sign (Desc)'!D51)","v":""},{"$f":"IF('Sign (Desc)'!E51=\"\",\"\",INDEX([1]SIGN_TYPE!$A$2:$A$40,MATCH('Sign (Desc)'!$E51,[1]!MASTER_SIGN_TYPE_DESC[#Data],0),0))","v":""},{"$f":"IF('Sign (Desc)'!F51=\"\",\"\",INDEX([1]SIGN_TEXT!$A$2:$A$40,MATCH('Sign (Desc)'!$F51,[1]!MASTER_SIGN_TEXT_DESC[#Data],0),0))","v":""},{"$f":"IF('Sign (Desc)'!G51=\"\",\"\",INDEX([1]PANEL_SIZE!$A$2:$A$40,MATCH('Sign (Desc)'!$G51,[1]!MASTER_PANEL_SIZE_DESC[#Data],0),0))","v":""},{"$f":"IF('Sign (Desc)'!H51=\"\",\"\",'Sign (Desc)'!H51)","v":""}]
[{"$f":"IF('Sign (Desc)'!A52=\"\",\"\",'Sign (Desc)'!A52)","v":""},{"$f":"IF('Sign (Desc)'!B52=\"\",\"\",\"1987\")","v":""},{"$f":"IF('Sign (Desc)'!B52=\"\",\"\",'Sign (Desc)'!B52)","v":""},{"$f":"IF('Sign (Desc)'!C52=\"\",\"\",'Sign (Desc)'!C52)","v":""},{"$f":"IF('Sign (Desc)'!D52=\"\",\"\",'Sign (Desc)'!D52)","v":""},{"$f":"IF('Sign (Desc)'!E52=\"\",\"\",INDEX([1]SIGN_TYPE!$A$2:$A$40,MATCH('Sign (Desc)'!$E52,[1]!MASTER_SIGN_TYPE_DESC[#Data],0),0))","v":""},{"$f":"IF('Sign (Desc)'!F52=\"\",\"\",INDEX([1]SIGN_TEXT!$A$2:$A$40,MATCH('Sign (Desc)'!$F52,[1]!MASTER_SIGN_TEXT_DESC[#Data],0),0))","v":""},{"$f":"IF('Sign (Desc)'!G52=\"\",\"\",INDEX([1]PANEL_SIZE!$A$2:$A$40,MATCH('Sign (Desc)'!$G52,[1]!MASTER_PANEL_SIZE_DESC[#Data],0),0))","v":""},{"$f":"IF('Sign (Desc)'!H52=\"\",\"\",'Sign (Desc)'!H52)","v":""}]
[{"$f":"IF('Sign (Desc)'!A53=\"\",\"\",'Sign (Desc)'!A53)","v":""},{"$f":"IF('Sign (Desc)'!B53=\"\",\"\",\"1987\")","v":""},{"$f":"IF('Sign (Desc)'!B53=\"\",\"\",'Sign (Desc)'!B53)","v":""},{"$f":"IF('Sign (Desc)'!C53=\"\",\"\",'Sign (Desc)'!C53)","v":""},{"$f":"IF('Sign (Desc)'!D53=\"\",\"\",'Sign (Desc)'!D53)","v":""},{"$f":"IF('Sign (Desc)'!E53=\"\",\"\",INDEX([1]SIGN_TYPE!$A$2:$A$40,MATCH('Sign (Desc)'!$E53,[1]!MASTER_SIGN_TYPE_DESC[#Data],0),0))","v":""},{"$f":"IF('Sign (Desc)'!F53=\"\",\"\",INDEX([1]SIGN_TEXT!$A$2:$A$40,MATCH('Sign (Desc)'!$F53,[1]!MASTER_SIGN_TEXT_DESC[#Data],0),0))","v":""},{"$f":"IF('Sign (Desc)'!G53=\"\",\"\",INDEX([1]PANEL_SIZE!$A$2:$A$40,MATCH('Sign (Desc)'!$G53,[1]!MASTER_PANEL_SIZE_DESC[#Data],0),0))","v":""},{"$f":"IF('Sign (Desc)'!H53=\"\",\"\",'Sign (Desc)'!H53)","v":""}]
[{"$f":"IF('Sign (Desc)'!A54=\"\",\"\",'Sign (Desc)'!A54)","v":""},{"$f":"IF('Sign (Desc)'!B54=\"\",\"\",\"1987\")","v":""},{"$f":"IF('Sign (Desc)'!B54=\"\",\"\",'Sign (Desc)'!B54)","v":""},{"$f":"IF('Sign (Desc)'!C54=\"\",\"\",'Sign (Desc)'!C54)","v":""},{"$f":"IF('Sign (Desc)'!D54=\"\",\"\",'Sign (Desc)'!D54)","v":""},{"$f":"IF('Sign (Desc)'!E54=\"\",\"\",INDEX([1]SIGN_TYPE!$A$2:$A$40,MATCH('Sign (Desc)'!$E54,[1]!MASTER_SIGN_TYPE_DESC[#Data],0),0))","v":""},{"$f":"IF('Sign (Desc)'!F54=\"\",\"\",INDEX([1]SIGN_TEXT!$A$2:$A$40,MATCH('Sign (Desc)'!$F54,[1]!MASTER_SIGN_TEXT_DESC[#Data],0),0))","v":""},{"$f":"IF('Sign (Desc)'!G54=\"\",\"\",INDEX([1]PANEL_SIZE!$A$2:$A$40,MATCH('Sign (Desc)'!$G54,[1]!MASTER_PANEL_SIZE_DESC[#Data],0),0))","v":""},{"$f":"IF('Sign (Desc)'!H54=\"\",\"\",'Sign (Desc)'!H54)","v":""}]
[{"$f":"IF('Sign (Desc)'!A55=\"\",\"\",'Sign (Desc)'!A55)","v":""},{"$f":"IF('Sign (Desc)'!B55=\"\",\"\",\"1987\")","v":""},{"$f":"IF('Sign (Desc)'!B55=\"\",\"\",'Sign (Desc)'!B55)","v":""},{"$f":"IF('Sign (Desc)'!C55=\"\",\"\",'Sign (Desc)'!C55)","v":""},{"$f":"IF('Sign (Desc)'!D55=\"\",\"\",'Sign (Desc)'!D55)","v":""},{"$f":"IF('Sign (Desc)'!E55=\"\",\"\",INDEX([1]SIGN_TYPE!$A$2:$A$40,MATCH('Sign (Desc)'!$E55,[1]!MASTER_SIGN_TYPE_DESC[#Data],0),0))","v":""},{"$f":"IF('Sign (Desc)'!F55=\"\",\"\",INDEX([1]SIGN_TEXT!$A$2:$A$40,MATCH('Sign (Desc)'!$F55,[1]!MASTER_SIGN_TEXT_DESC[#Data],0),0))","v":""},{"$f":"IF('Sign (Desc)'!G55=\"\",\"\",INDEX([1]PANEL_SIZE!$A$2:$A$40,MATCH('Sign (Desc)'!$G55,[1]!MASTER_PANEL_SIZE_DESC[#Data],0),0))","v":""},{"$f":"IF('Sign (Desc)'!H55=\"\",\"\",'Sign (Desc)'!H55)","v":""}]
[{"$f":"IF('Sign (Desc)'!A56=\"\",\"\",'Sign (Desc)'!A56)","v":""},{"$f":"IF('Sign (Desc)'!B56=\"\",\"\",\"1987\")","v":""},{"$f":"IF('Sign (Desc)'!B56=\"\",\"\",'Sign (Desc)'!B56)","v":""},{"$f":"IF('Sign (Desc)'!C56=\"\",\"\",'Sign (Desc)'!C56)","v":""},{"$f":"IF('Sign (Desc)'!D56=\"\",\"\",'Sign (Desc)'!D56)","v":""},{"$f":"IF('Sign (Desc)'!E56=\"\",\"\",INDEX([1]SIGN_TYPE!$A$2:$A$40,MATCH('Sign (Desc)'!$E56,[1]!MASTER_SIGN_TYPE_DESC[#Data],0),0))","v":""},{"$f":"IF('Sign (Desc)'!F56=\"\",\"\",INDEX([1]SIGN_TEXT!$A$2:$A$40,MATCH('Sign (Desc)'!$F56,[1]!MASTER_SIGN_TEXT_DESC[#Data],0),0))","v":""},{"$f":"IF('Sign (Desc)'!G56=\"\",\"\",INDEX([1]PANEL_SIZE!$A$2:$A$40,MATCH('Sign (Desc)'!$G56,[1]!MASTER_PANEL_SIZE_DESC[#Data],0),0))","v":""},{"$f":"IF('Sign (Desc)'!H56=\"\",\"\",'Sign (Desc)'!H56)","v":""}]
[{"$f":"IF('Sign (Desc)'!A57=\"\",\"\",'Sign (Desc)'!A57)","v":""},{"$f":"IF('Sign (Desc)'!B57=\"\",\"\",\"1987\")","v":""},{"$f":"IF('Sign (Desc)'!B57=\"\",\"\",'Sign (Desc)'!B57)","v":""},{"$f":"IF('Sign (Desc)'!C57=\"\",\"\",'Sign (Desc)'!C57)","v":""},{"$f":"IF('Sign (Desc)'!D57=\"\",\"\",'Sign (Desc)'!D57)","v":""},{"$f":"IF('Sign (Desc)'!E57=\"\",\"\",INDEX([1]SIGN_TYPE!$A$2:$A$40,MATCH('Sign (Desc)'!$E57,[1]!MASTER_SIGN_TYPE_DESC[#Data],0),0))","v":""},{"$f":"IF('Sign (Desc)'!F57=\"\",\"\",INDEX([1]SIGN_TEXT!$A$2:$A$40,MATCH('Sign (Desc)'!$F57,[1]!MASTER_SIGN_TEXT_DESC[#Data],0),0))","v":""},{"$f":"IF('Sign (Desc)'!G57=\"\",\"\",INDEX([1]PANEL_SIZE!$A$2:$A$40,MATCH('Sign (Desc)'!$G57,[1]!MASTER_PANEL_SIZE_DESC[#Data],0),0))","v":""},{"$f":"IF('Sign (Desc)'!H57=\"\",\"\",'Sign (Desc)'!H57)","v":""}]
[{"$f":"IF('Sign (Desc)'!A58=\"\",\"\",'Sign (Desc)'!A58)","v":""},{"$f":"IF('Sign (Desc)'!B58=\"\",\"\",\"1987\")","v":""},{"$f":"IF('Sign (Desc)'!B58=\"\",\"\",'Sign (Desc)'!B58)","v":""},{"$f":"IF('Sign (Desc)'!C58=\"\",\"\",'Sign (Desc)'!C58)","v":""},{"$f":"IF('Sign (Desc)'!D58=\"\",\"\",'Sign (Desc)'!D58)","v":""},{"$f":"IF('Sign (Desc)'!E58=\"\",\"\",INDEX([1]SIGN_TYPE!$A$2:$A$40,MATCH('Sign (Desc)'!$E58,[1]!MASTER_SIGN_TYPE_DESC[#Data],0),0))","v":""},{"$f":"IF('Sign (Desc)'!F58=\"\",\"\",INDEX([1]SIGN_TEXT!$A$2:$A$40,MATCH('Sign (Desc)'!$F58,[1]!MASTER_SIGN_TEXT_DESC[#Data],0),0))","v":""},{"$f":"IF('Sign (Desc)'!G58=\"\",\"\",INDEX([1]PANEL_SIZE!$A$2:$A$40,MATCH('Sign (Desc)'!$G58,[1]!MASTER_PANEL_SIZE_DESC[#Data],0),0))","v":""},{"$f":"IF('Sign (Desc)'!H58=\"\",\"\",'Sign (Desc)'!H58)","v":""}]
[{"$f":"IF('Sign (Desc)'!A59=\"\",\"\",'Sign (Desc)'!A59)","v":""},{"$f":"IF('Sign (Desc)'!B59=\"\",\"\",\"1987\")","v":""},{"$f":"IF('Sign (Desc)'!B59=\"\",\"\",'Sign (Desc)'!B59)","v":""},{"$f":"IF('Sign (Desc)'!C59=\"\",\"\",'Sign (Desc)'!C59)","v":""},{"$f":"IF('Sign (Desc)'!D59=\"\",\"\",'Sign (Desc)'!D59)","v":""},{"$f":"IF('Sign (Desc)'!E59=\"\",\"\",INDEX([1]SIGN_TYPE!$A$2:$A$40,MATCH('Sign (Desc)'!$E59,[1]!MASTER_SIGN_TYPE_DESC[#Data],0),0))","v":""},{"$f":"IF('Sign (Desc)'!F59=\"\",\"\",INDEX([1]SIGN_TEXT!$A$2:$A$40,MATCH('Sign (Desc)'!$F59,[1]!MASTER_SIGN_TEXT_DESC[#Data],0),0))","v":""},{"$f":"IF('Sign (Desc)'!G59=\"\",\"\",INDEX([1]PANEL_SIZE!$A$2:$A$40,MATCH('Sign (Desc)'!$G59,[1]!MASTER_PANEL_SIZE_DESC[#Data],0),0))","v":""},{"$f":"IF('Sign (Desc)'!H59=\"\",\"\",'Sign (Desc)'!H59)","v":""}]
[{"$f":"IF('Sign (Desc)'!A60=\"\",\"\",'Sign (Desc)'!A60)","v":""},{"$f":"IF('Sign (Desc)'!B60=\"\",\"\",\"1987\")","v":""},{"$f":"IF('Sign (Desc)'!B60=\"\",\"\",'Sign (Desc)'!B60)","v":""},{"$f":"IF('Sign (Desc)'!C60=\"\",\"\",'Sign (Desc)'!C60)","v":""},{"$f":"IF('Sign (Desc)'!D60=\"\",\"\",'Sign (Desc)'!D60)","v":""},{"$f":"IF('Sign (Desc)'!E60=\"\",\"\",INDEX([1]SIGN_TYPE!$A$2:$A$40,MATCH('Sign (Desc)'!$E60,[1]!MASTER_SIGN_TYPE_DESC[#Data],0),0))","v":""},{"$f":"IF('Sign (Desc)'!F60=\"\",\"\",INDEX([1]SIGN_TEXT!$A$2:$A$40,MATCH('Sign (Desc)'!$F60,[1]!MASTER_SIGN_TEXT_DESC[#Data],0),0))","v":""},{"$f":"IF('Sign (Desc)'!G60=\"\",\"\",INDEX([1]PANEL_SIZE!$A$2:$A$40,MATCH('Sign (Desc)'!$G60,[1]!MASTER_PANEL_SIZE_DESC[#Data],0),0))","v":""},{"$f":"IF('Sign (Desc)'!H60=\"\",\"\",'Sign (Desc)'!H60)","v":""}]
[{"$f":"IF('Sign (Desc)'!A61=\"\",\"\",'Sign (Desc)'!A61)","v":""},{"$f":"IF('Sign (Desc)'!B61=\"\",\"\",\"1987\")","v":""},{"$f":"IF('Sign (Desc)'!B61=\"\",\"\",'Sign (Desc)'!B61)","v":""},{"$f":"IF('Sign (Desc)'!C61=\"\",\"\",'Sign (Desc)'!C61)","v":""},{"$f":"IF('Sign (Desc)'!D61=\"\",\"\",'Sign (Desc)'!D61)","v":""},{"$f":"IF('Sign (Desc)'!E61=\"\",\"\",INDEX([1]SIGN_TYPE!$A$2:$A$40,MATCH('Sign (Desc)'!$E61,[1]!MASTER_SIGN_TYPE_DESC[#Data],0),0))","v":""},{"$f":"IF('Sign (Desc)'!F61=\"\",\"\",INDEX([1]SIGN_TEXT!$A$2:$A$40,MATCH('Sign (Desc)'!$F61,[1]!MASTER_SIGN_TEXT_DESC[#Data],0),0))","v":""},{"$f":"IF('Sign (Desc)'!G61=\"\",\"\",INDEX([1]PANEL_SIZE!$A$2:$A$40,MATCH('Sign (Desc)'!$G61,[1]!MASTER_PANEL_SIZE_DESC[#Data],0),0))","v":""},{"$f":"IF('Sign (Desc)'!H61=\"\",\"\",'Sign (Desc)'!H61)","v":""}]
[{"$f":"IF('Sign (Desc)'!A62=\"\",\"\",'Sign (Desc)'!A62)","v":""},{"$f":"IF('Sign (Desc)'!B62=\"\",\"\",\"1987\")","v":""},{"$f":"IF('Sign (Desc)'!B62=\"\",\"\",'Sign (Desc)'!B62)","v":""},{"$f":"IF('Sign (Desc)'!C62=\"\",\"\",'Sign (Desc)'!C62)","v":""},{"$f":"IF('Sign (Desc)'!D62=\"\",\"\",'Sign (Desc)'!D62)","v":""},{"$f":"IF('Sign (Desc)'!E62=\"\",\"\",INDEX([1]SIGN_TYPE!$A$2:$A$40,MATCH('Sign (Desc)'!$E62,[1]!MASTER_SIGN_TYPE_DESC[#Data],0),0))","v":""},{"$f":"IF('Sign (Desc)'!F62=\"\",\"\",INDEX([1]SIGN_TEXT!$A$2:$A$40,MATCH('Sign (Desc)'!$F62,[1]!MASTER_SIGN_TEXT_DESC[#Data],0),0))","v":""},{"$f":"IF('Sign (Desc)'!G62=\"\",\"\",INDEX([1]PANEL_SIZE!$A$2:$A$40,MATCH('Sign (Desc)'!$G62,[1]!MASTER_PANEL_SIZE_DESC[#Data],0),0))","v":""},{"$f":"IF('Sign (Desc)'!H62=\"\",\"\",'Sign (Desc)'!H62)","v":""}]
[{"$f":"IF('Sign (Desc)'!A63=\"\",\"\",'Sign (Desc)'!A63)","v":""},{"$f":"IF('Sign (Desc)'!B63=\"\",\"\",\"1987\")","v":""},{"$f":"IF('Sign (Desc)'!B63=\"\",\"\",'Sign (Desc)'!B63)","v":""},{"$f":"IF('Sign (Desc)'!C63=\"\",\"\",'Sign (Desc)'!C63)","v":""},{"$f":"IF('Sign (Desc)'!D63=\"\",\"\",'Sign (Desc)'!D63)","v":""},{"$f":"IF('Sign (Desc)'!E63=\"\",\"\",INDEX([1]SIGN_TYPE!$A$2:$A$40,MATCH('Sign (Desc)'!$E63,[1]!MASTER_SIGN_TYPE_DESC[#Data],0),0))","v":""},{"$f":"IF('Sign (Desc)'!F63=\"\",\"\",INDEX([1]SIGN_TEXT!$A$2:$A$40,MATCH('Sign (Desc)'!$F63,[1]!MASTER_SIGN_TEXT_DESC[#Data],0),0))","v":""},{"$f":"IF('Sign (Desc)'!G63=\"\",\"\",INDEX([1]PANEL_SIZE!$A$2:$A$40,MATCH('Sign (Desc)'!$G63,[1]!MASTER_PANEL_SIZE_DESC[#Data],0),0))","v":""},{"$f":"IF('Sign (Desc)'!H63=\"\",\"\",'Sign (Desc)'!H63)","v":""}]
[{"$f":"IF('Sign (Desc)'!A64=\"\",\"\",'Sign (Desc)'!A64)","v":""},{"$f":"IF('Sign (Desc)'!B64=\"\",\"\",\"1987\")","v":""},{"$f":"IF('Sign (Desc)'!B64=\"\",\"\",'Sign (Desc)'!B64)","v":""},{"$f":"IF('Sign (Desc)'!C64=\"\",\"\",'Sign (Desc)'!C64)","v":""},{"$f":"IF('Sign (Desc)'!D64=\"\",\"\",'Sign (Desc)'!D64)","v":""},{"$f":"IF('Sign (Desc)'!E64=\"\",\"\",INDEX([1]SIGN_TYPE!$A$2:$A$40,MATCH('Sign (Desc)'!$E64,[1]!MASTER_SIGN_TYPE_DESC[#Data],0),0))","v":""},{"$f":"IF('Sign (Desc)'!F64=\"\",\"\",INDEX([1]SIGN_TEXT!$A$2:$A$40,MATCH('Sign (Desc)'!$F64,[1]!MASTER_SIGN_TEXT_DESC[#Data],0),0))","v":""},{"$f":"IF('Sign (Desc)'!G64=\"\",\"\",INDEX([1]PANEL_SIZE!$A$2:$A$40,MATCH('Sign (Desc)'!$G64,[1]!MASTER_PANEL_SIZE_DESC[#Data],0),0))","v":""},{"$f":"IF('Sign (Desc)'!H64=\"\",\"\",'Sign (Desc)'!H64)","v":""}]
[{"$f":"IF('Sign (Desc)'!A65=\"\",\"\",'Sign (Desc)'!A65)","v":""},{"$f":"IF('Sign (Desc)'!B65=\"\",\"\",\"1987\")","v":""},{"$f":"IF('Sign (Desc)'!B65=\"\",\"\",'Sign (Desc)'!B65)","v":""},{"$f":"IF('Sign (Desc)'!C65=\"\",\"\",'Sign (Desc)'!C65)","v":""},{"$f":"IF('Sign (Desc)'!D65=\"\",\"\",'Sign (Desc)'!D65)","v":""},{"$f":"IF('Sign (Desc)'!E65=\"\",\"\",INDEX([1]SIGN_TYPE!$A$2:$A$40,MATCH('Sign (Desc)'!$E65,[1]!MASTER_SIGN_TYPE_DESC[#Data],0),0))","v":""},{"$f":"IF('Sign (Desc)'!F65=\"\",\"\",INDEX([1]SIGN_TEXT!$A$2:$A$40,MATCH('Sign (Desc)'!$F65,[1]!MASTER_SIGN_TEXT_DESC[#Data],0),0))","v":""},{"$f":"IF('Sign (Desc)'!G65=\"\",\"\",INDEX([1]PANEL_SIZE!$A$2:$A$40,MATCH('Sign (Desc)'!$G65,[1]!MASTER_PANEL_SIZE_DESC[#Data],0),0))","v":""},{"$f":"IF('Sign (Desc)'!H65=\"\",\"\",'Sign (Desc)'!H65)","v":""}]
[{"$f":"IF('Sign (Desc)'!A66=\"\",\"\",'Sign (Desc)'!A66)","v":""},{"$f":"IF('Sign (Desc)'!B66=\"\",\"\",\"1987\")","v":""},{"$f":"IF('Sign (Desc)'!B66=\"\",\"\",'Sign (Desc)'!B66)","v":""},{"$f":"IF('Sign (Desc)'!C66=\"\",\"\",'Sign (Desc)'!C66)","v":""},{"$f":"IF('Sign (Desc)'!D66=\"\",\"\",'Sign (Desc)'!D66)","v":""},{"$f":"IF('Sign (Desc)'!E66=\"\",\"\",INDEX([1]SIGN_TYPE!$A$2:$A$40,MATCH('Sign (Desc)'!$E66,[1]!MASTER_SIGN_TYPE_DESC[#Data],0),0))","v":""},{"$f":"IF('Sign (Desc)'!F66=\"\",\"\",INDEX([1]SIGN_TEXT!$A$2:$A$40,MATCH('Sign (Desc)'!$F66,[1]!MASTER_SIGN_TEXT_DESC[#Data],0),0))","v":""},{"$f":"IF('Sign (Desc)'!G66=\"\",\"\",INDEX([1]PANEL_SIZE!$A$2:$A$40,MATCH('Sign (Desc)'!$G66,[1]!MASTER_PANEL_SIZE_DESC[#Data],0),0))","v":""},{"$f":"IF('Sign (Desc)'!H66=\"\",\"\",'Sign (Desc)'!H66)","v":""}]
[{"$f":"IF('Sign (Desc)'!A67=\"\",\"\",'Sign (Desc)'!A67)","v":""},{"$f":"IF('Sign (Desc)'!B67=\"\",\"\",\"1987\")","v":""},{"$f":"IF('Sign (Desc)'!B67=\"\",\"\",'Sign (Desc)'!B67)","v":""},{"$f":"IF('Sign (Desc)'!C67=\"\",\"\",'Sign (Desc)'!C67)","v":""},{"$f":"IF('Sign (Desc)'!D67=\"\",\"\",'Sign (Desc)'!D67)","v":""},{"$f":"IF('Sign (Desc)'!E67=\"\",\"\",INDEX([1]SIGN_TYPE!$A$2:$A$40,MATCH('Sign (Desc)'!$E67,[1]!MASTER_SIGN_TYPE_DESC[#Data],0),0))","v":""},{"$f":"IF('Sign (Desc)'!F67=\"\",\"\",INDEX([1]SIGN_TEXT!$A$2:$A$40,MATCH('Sign (Desc)'!$F67,[1]!MASTER_SIGN_TEXT_DESC[#Data],0),0))","v":""},{"$f":"IF('Sign (Desc)'!G67=\"\",\"\",INDEX([1]PANEL_SIZE!$A$2:$A$40,MATCH('Sign (Desc)'!$G67,[1]!MASTER_PANEL_SIZE_DESC[#Data],0),0))","v":""},{"$f":"IF('Sign (Desc)'!H67=\"\",\"\",'Sign (Desc)'!H67)","v":""}]
[{"$f":"IF('Sign (Desc)'!A68=\"\",\"\",'Sign (Desc)'!A68)","v":""},{"$f":"IF('Sign (Desc)'!B68=\"\",\"\",\"1987\")","v":""},{"$f":"IF('Sign (Desc)'!B68=\"\",\"\",'Sign (Desc)'!B68)","v":""},{"$f":"IF('Sign (Desc)'!C68=\"\",\"\",'Sign (Desc)'!C68)","v":""},{"$f":"IF('Sign (Desc)'!D68=\"\",\"\",'Sign (Desc)'!D68)","v":""},{"$f":"IF('Sign (Desc)'!E68=\"\",\"\",INDEX([1]SIGN_TYPE!$A$2:$A$40,MATCH('Sign (Desc)'!$E68,[1]!MASTER_SIGN_TYPE_DESC[#Data],0),0))","v":""},{"$f":"IF('Sign (Desc)'!F68=\"\",\"\",INDEX([1]SIGN_TEXT!$A$2:$A$40,MATCH('Sign (Desc)'!$F68,[1]!MASTER_SIGN_TEXT_DESC[#Data],0),0))","v":""},{"$f":"IF('Sign (Desc)'!G68=\"\",\"\",INDEX([1]PANEL_SIZE!$A$2:$A$40,MATCH('Sign (Desc)'!$G68,[1]!MASTER_PANEL_SIZE_DESC[#Data],0),0))","v":""},{"$f":"IF('Sign (Desc)'!H68=\"\",\"\",'Sign (Desc)'!H68)","v":""}]
[{"$f":"IF('Sign (Desc)'!A69=\"\",\"\",'Sign (Desc)'!A69)","v":""},{"$f":"IF('Sign (Desc)'!B69=\"\",\"\",\"1987\")","v":""},{"$f":"IF('Sign (Desc)'!B69=\"\",\"\",'Sign (Desc)'!B69)","v":""},{"$f":"IF('Sign (Desc)'!C69=\"\",\"\",'Sign (Desc)'!C69)","v":""},{"$f":"IF('Sign (Desc)'!D69=\"\",\"\",'Sign (Desc)'!D69)","v":""},{"$f":"IF('Sign (Desc)'!E69=\"\",\"\",INDEX([1]SIGN_TYPE!$A$2:$A$40,MATCH('Sign (Desc)'!$E69,[1]!MASTER_SIGN_TYPE_DESC[#Data],0),0))","v":""},{"$f":"IF('Sign (Desc)'!F69=\"\",\"\",INDEX([1]SIGN_TEXT!$A$2:$A$40,MATCH('Sign (Desc)'!$F69,[1]!MASTER_SIGN_TEXT_DESC[#Data],0),0))","v":""},{"$f":"IF('Sign (Desc)'!G69=\"\",\"\",INDEX([1]PANEL_SIZE!$A$2:$A$40,MATCH('Sign (Desc)'!$G69,[1]!MASTER_PANEL_SIZE_DESC[#Data],0),0))","v":""},{"$f":"IF('Sign (Desc)'!H69=\"\",\"\",'Sign (Desc)'!H69)","v":""}]
[{"$f":"IF('Sign (Desc)'!A70=\"\",\"\",'Sign (Desc)'!A70)","v":""},{"$f":"IF('Sign (Desc)'!B70=\"\",\"\",\"1987\")","v":""},{"$f":"IF('Sign (Desc)'!B70=\"\",\"\",'Sign (Desc)'!B70)","v":""},{"$f":"IF('Sign (Desc)'!C70=\"\",\"\",'Sign (Desc)'!C70)","v":""},{"$f":"IF('Sign (Desc)'!D70=\"\",\"\",'Sign (Desc)'!D70)","v":""},{"$f":"IF('Sign (Desc)'!E70=\"\",\"\",INDEX([1]SIGN_TYPE!$A$2:$A$40,MATCH('Sign (Desc)'!$E70,[1]!MASTER_SIGN_TYPE_DESC[#Data],0),0))","v":""},{"$f":"IF('Sign (Desc)'!F70=\"\",\"\",INDEX([1]SIGN_TEXT!$A$2:$A$40,MATCH('Sign (Desc)'!$F70,[1]!MASTER_SIGN_TEXT_DESC[#Data],0),0))","v":""},{"$f":"IF('Sign (Desc)'!G70=\"\",\"\",INDEX([1]PANEL_SIZE!$A$2:$A$40,MATCH('Sign (Desc)'!$G70,[1]!MASTER_PANEL_SIZE_DESC[#Data],0),0))","v":""},{"$f":"IF('Sign (Desc)'!H70=\"\",\"\",'Sign (Desc)'!H70)","v":""}]
[{"$f":"IF('Sign (Desc)'!A71=\"\",\"\",'Sign (Desc)'!A71)","v":""},{"$f":"IF('Sign (Desc)'!B71=\"\",\"\",\"1987\")","v":""},{"$f":"IF('Sign (Desc)'!B71=\"\",\"\",'Sign (Desc)'!B71)","v":""},{"$f":"IF('Sign (Desc)'!C71=\"\",\"\",'Sign (Desc)'!C71)","v":""},{"$f":"IF('Sign (Desc)'!D71=\"\",\"\",'Sign (Desc)'!D71)","v":""},{"$f":"IF('Sign (Desc)'!E71=\"\",\"\",INDEX([1]SIGN_TYPE!$A$2:$A$40,MATCH('Sign (Desc)'!$E71,[1]!MASTER_SIGN_TYPE_DESC[#Data],0),0))","v":""},{"$f":"IF('Sign (Desc)'!F71=\"\",\"\",INDEX([1]SIGN_TEXT!$A$2:$A$40,MATCH('Sign (Desc)'!$F71,[1]!MASTER_SIGN_TEXT_DESC[#Data],0),0))","v":""},{"$f":"IF('Sign (Desc)'!G71=\"\",\"\",INDEX([1]PANEL_SIZE!$A$2:$A$40,MATCH('Sign (Desc)'!$G71,[1]!MASTER_PANEL_SIZE_DESC[#Data],0),0))","v":""},{"$f":"IF('Sign (Desc)'!H71=\"\",\"\",'Sign (Desc)'!H71)","v":""}]
[{"$f":"IF('Sign (Desc)'!A72=\"\",\"\",'Sign (Desc)'!A72)","v":""},{"$f":"IF('Sign (Desc)'!B72=\"\",\"\",\"1987\")","v":""},{"$f":"IF('Sign (Desc)'!B72=\"\",\"\",'Sign (Desc)'!B72)","v":""},{"$f":"IF('Sign (Desc)'!C72=\"\",\"\",'Sign (Desc)'!C72)","v":""},{"$f":"IF('Sign (Desc)'!D72=\"\",\"\",'Sign (Desc)'!D72)","v":""},{"$f":"IF('Sign (Desc)'!E72=\"\",\"\",INDEX([1]SIGN_TYPE!$A$2:$A$40,MATCH('Sign (Desc)'!$E72,[1]!MASTER_SIGN_TYPE_DESC[#Data],0),0))","v":""},{"$f":"IF('Sign (Desc)'!F72=\"\",\"\",INDEX([1]SIGN_TEXT!$A$2:$A$40,MATCH('Sign (Desc)'!$F72,[1]!MASTER_SIGN_TEXT_DESC[#Data],0),0))","v":""},{"$f":"IF('Sign (Desc)'!G72=\"\",\"\",INDEX([1]PANEL_SIZE!$A$2:$A$40,MATCH('Sign (Desc)'!$G72,[1]!MASTER_PANEL_SIZE_DESC[#Data],0),0))","v":""},{"$f":"IF('Sign (Desc)'!H72=\"\",\"\",'Sign (Desc)'!H72)","v":""}]
[{"$f":"IF('Sign (Desc)'!A73=\"\",\"\",'Sign (Desc)'!A73)","v":""},{"$f":"IF('Sign (Desc)'!B73=\"\",\"\",\"1987\")","v":""},{"$f":"IF('Sign (Desc)'!B73=\"\",\"\",'Sign (Desc)'!B73)","v":""},{"$f":"IF('Sign (Desc)'!C73=\"\",\"\",'Sign (Desc)'!C73)","v":""},{"$f":"IF('Sign (Desc)'!D73=\"\",\"\",'Sign (Desc)'!D73)","v":""},{"$f":"IF('Sign (Desc)'!E73=\"\",\"\",INDEX([1]SIGN_TYPE!$A$2:$A$40,MATCH('Sign (Desc)'!$E73,[1]!MASTER_SIGN_TYPE_DESC[#Data],0),0))","v":""},{"$f":"IF('Sign (Desc)'!F73=\"\",\"\",INDEX([1]SIGN_TEXT!$A$2:$A$40,MATCH('Sign (Desc)'!$F73,[1]!MASTER_SIGN_TEXT_DESC[#Data],0),0))","v":""},{"$f":"IF('Sign (Desc)'!G73=\"\",\"\",INDEX([1]PANEL_SIZE!$A$2:$A$40,MATCH('Sign (Desc)'!$G73,[1]!MASTER_PANEL_SIZE_DESC[#Data],0),0))","v":""},{"$f":"IF('Sign (Desc)'!H73=\"\",\"\",'Sign (Desc)'!H73)","v":""}]
[{"$f":"IF('Sign (Desc)'!A74=\"\",\"\",'Sign (Desc)'!A74)","v":""},{"$f":"IF('Sign (Desc)'!B74=\"\",\"\",\"1987\")","v":""},{"$f":"IF('Sign (Desc)'!B74=\"\",\"\",'Sign (Desc)'!B74)","v":""},{"$f":"IF('Sign (Desc)'!C74=\"\",\"\",'Sign (Desc)'!C74)","v":""},{"$f":"IF('Sign (Desc)'!D74=\"\",\"\",'Sign (Desc)'!D74)","v":""},{"$f":"IF('Sign (Desc)'!E74=\"\",\"\",INDEX([1]SIGN_TYPE!$A$2:$A$40,MATCH('Sign (Desc)'!$E74,[1]!MASTER_SIGN_TYPE_DESC[#Data],0),0))","v":""},{"$f":"IF('Sign (Desc)'!F74=\"\",\"\",INDEX([1]SIGN_TEXT!$A$2:$A$40,MATCH('Sign (Desc)'!$F74,[1]!MASTER_SIGN_TEXT_DESC[#Data],0),0))","v":""},{"$f":"IF('Sign (Desc)'!G74=\"\",\"\",INDEX([1]PANEL_SIZE!$A$2:$A$40,MATCH('Sign (Desc)'!$G74,[1]!MASTER_PANEL_SIZE_DESC[#Data],0),0))","v":""},{"$f":"IF('Sign (Desc)'!H74=\"\",\"\",'Sign (Desc)'!H74)","v":""}]
[{"$f":"IF('Sign (Desc)'!A75=\"\",\"\",'Sign (Desc)'!A75)","v":""},{"$f":"IF('Sign (Desc)'!B75=\"\",\"\",\"1987\")","v":""},{"$f":"IF('Sign (Desc)'!B75=\"\",\"\",'Sign (Desc)'!B75)","v":""},{"$f":"IF('Sign (Desc)'!C75=\"\",\"\",'Sign (Desc)'!C75)","v":""},{"$f":"IF('Sign (Desc)'!D75=\"\",\"\",'Sign (Desc)'!D75)","v":""},{"$f":"IF('Sign (Desc)'!E75=\"\",\"\",INDEX([1]SIGN_TYPE!$A$2:$A$40,MATCH('Sign (Desc)'!$E75,[1]!MASTER_SIGN_TYPE_DESC[#Data],0),0))","v":""},{"$f":"IF('Sign (Desc)'!F75=\"\",\"\",INDEX([1]SIGN_TEXT!$A$2:$A$40,MATCH('Sign (Desc)'!$F75,[1]!MASTER_SIGN_TEXT_DESC[#Data],0),0))","v":""},{"$f":"IF('Sign (Desc)'!G75=\"\",\"\",INDEX([1]PANEL_SIZE!$A$2:$A$40,MATCH('Sign (Desc)'!$G75,[1]!MASTER_PANEL_SIZE_DESC[#Data],0),0))","v":""},{"$f":"IF('Sign (Desc)'!H75=\"\",\"\",'Sign (Desc)'!H75)","v":""}]
[{"$f":"IF('Sign (Desc)'!A76=\"\",\"\",'Sign (Desc)'!A76)","v":""},{"$f":"IF('Sign (Desc)'!B76=\"\",\"\",\"1987\")","v":""},{"$f":"IF('Sign (Desc)'!B76=\"\",\"\",'Sign (Desc)'!B76)","v":""},{"$f":"IF('Sign (Desc)'!C76=\"\",\"\",'Sign (Desc)'!C76)","v":""},{"$f":"IF('Sign (Desc)'!D76=\"\",\"\",'Sign (Desc)'!D76)","v":""},{"$f":"IF('Sign (Desc)'!E76=\"\",\"\",INDEX([1]SIGN_TYPE!$A$2:$A$40,MATCH('Sign (Desc)'!$E76,[1]!MASTER_SIGN_TYPE_DESC[#Data],0),0))","v":""},{"$f":"IF('Sign (Desc)'!F76=\"\",\"\",INDEX([1]SIGN_TEXT!$A$2:$A$40,MATCH('Sign (Desc)'!$F76,[1]!MASTER_SIGN_TEXT_DESC[#Data],0),0))","v":""},{"$f":"IF('Sign (Desc)'!G76=\"\",\"\",INDEX([1]PANEL_SIZE!$A$2:$A$40,MATCH('Sign (Desc)'!$G76,[1]!MASTER_PANEL_SIZE_DESC[#Data],0),0))","v":""},{"$f":"IF('Sign (Desc)'!H76=\"\",\"\",'Sign (Desc)'!H76)","v":""}]
[{"$f":"IF('Sign (Desc)'!A77=\"\",\"\",'Sign (Desc)'!A77)","v":""},{"$f":"IF('Sign (Desc)'!B77=\"\",\"\",\"1987\")","v":""},{"$f":"IF('Sign (Desc)'!B77=\"\",\"\",'Sign (Desc)'!B77)","v":""},{"$f":"IF('Sign (Desc)'!C77=\"\",\"\",'Sign (Desc)'!C77)","v":""},{"$f":"IF('Sign (Desc)'!D77=\"\",\"\",'Sign (Desc)'!D77)","v":""},{"$f":"IF('Sign (Desc)'!E77=\"\",\"\",INDEX([1]SIGN_TYPE!$A$2:$A$40,MATCH('Sign (Desc)'!$E77,[1]!MASTER_SIGN_TYPE_DESC[#Data],0),0))","v":""},{"$f":"IF('Sign (Desc)'!F77=\"\",\"\",INDEX([1]SIGN_TEXT!$A$2:$A$40,MATCH('Sign (Desc)'!$F77,[1]!MASTER_SIGN_TEXT_DESC[#Data],0),0))","v":""},{"$f":"IF('Sign (Desc)'!G77=\"\",\"\",INDEX([1]PANEL_SIZE!$A$2:$A$40,MATCH('Sign (Desc)'!$G77,[1]!MASTER_PANEL_SIZE_DESC[#Data],0),0))","v":""},{"$f":"IF('Sign (Desc)'!H77=\"\",\"\",'Sign (Desc)'!H77)","v":""}]
[{"$f":"IF('Sign (Desc)'!A78=\"\",\"\",'Sign (Desc)'!A78)","v":""},{"$f":"IF('Sign (Desc)'!B78=\"\",\"\",\"1987\")","v":""},{"$f":"IF('Sign (Desc)'!B78=\"\",\"\",'Sign (Desc)'!B78)","v":""},{"$f":"IF('Sign (Desc)'!C78=\"\",\"\",'Sign (Desc)'!C78)","v":""},{"$f":"IF('Sign (Desc)'!D78=\"\",\"\",'Sign (Desc)'!D78)","v":""},{"$f":"IF('Sign (Desc)'!E78=\"\",\"\",INDEX([1]SIGN_TYPE!$A$2:$A$40,MATCH('Sign (Desc)'!$E78,[1]!MASTER_SIGN_TYPE_DESC[#Data],0),0))","v":""},{"$f":"IF('Sign (Desc)'!F78=\"\",\"\",INDEX([1]SIGN_TEXT!$A$2:$A$40,MATCH('Sign (Desc)'!$F78,[1]!MASTER_SIGN_TEXT_DESC[#Data],0),0))","v":""},{"$f":"IF('Sign (Desc)'!G78=\"\",\"\",INDEX([1]PANEL_SIZE!$A$2:$A$40,MATCH('Sign (Desc)'!$G78,[1]!MASTER_PANEL_SIZE_DESC[#Data],0),0))","v":""},{"$f":"IF('Sign (Desc)'!H78=\"\",\"\",'Sign (Desc)'!H78)","v":""}]
[{"$f":"IF('Sign (Desc)'!A79=\"\",\"\",'Sign (Desc)'!A79)","v":""},{"$f":"IF('Sign (Desc)'!B79=\"\",\"\",\"1987\")","v":""},{"$f":"IF('Sign (Desc)'!B79=\"\",\"\",'Sign (Desc)'!B79)","v":""},{"$f":"IF('Sign (Desc)'!C79=\"\",\"\",'Sign (Desc)'!C79)","v":""},{"$f":"IF('Sign (Desc)'!D79=\"\",\"\",'Sign (Desc)'!D79)","v":""},{"$f":"IF('Sign (Desc)'!E79=\"\",\"\",INDEX([1]SIGN_TYPE!$A$2:$A$40,MATCH('Sign (Desc)'!$E79,[1]!MASTER_SIGN_TYPE_DESC[#Data],0),0))","v":""},{"$f":"IF('Sign (Desc)'!F79=\"\",\"\",INDEX([1]SIGN_TEXT!$A$2:$A$40,MATCH('Sign (Desc)'!$F79,[1]!MASTER_SIGN_TEXT_DESC[#Data],0),0))","v":""},{"$f":"IF('Sign (Desc)'!G79=\"\",\"\",INDEX([1]PANEL_SIZE!$A$2:$A$40,MATCH('Sign (Desc)'!$G79,[1]!MASTER_PANEL_SIZE_DESC[#Data],0),0))","v":""},{"$f":"IF('Sign (Desc)'!H79=\"\",\"\",'Sign (Desc)'!H79)","v":""}]
[{"$f":"IF('Sign (Desc)'!A80=\"\",\"\",'Sign (Desc)'!A80)","v":""},{"$f":"IF('Sign (Desc)'!B80=\"\",\"\",\"1987\")","v":""},{"$f":"IF('Sign (Desc)'!B80=\"\",\"\",'Sign (Desc)'!B80)","v":""},{"$f":"IF('Sign (Desc)'!C80=\"\",\"\",'Sign (Desc)'!C80)","v":""},{"$f":"IF('Sign (Desc)'!D80=\"\",\"\",'Sign (Desc)'!D80)","v":""},{"$f":"IF('Sign (Desc)'!E80=\"\",\"\",INDEX([1]SIGN_TYPE!$A$2:$A$40,MATCH('Sign (Desc)'!$E80,[1]!MASTER_SIGN_TYPE_DESC[#Data],0),0))","v":""},{"$f":"IF('Sign (Desc)'!F80=\"\",\"\",INDEX([1]SIGN_TEXT!$A$2:$A$40,MATCH('Sign (Desc)'!$F80,[1]!MASTER_SIGN_TEXT_DESC[#Data],0),0))","v":""},{"$f":"IF('Sign (Desc)'!G80=\"\",\"\",INDEX([1]PANEL_SIZE!$A$2:$A$40,MATCH('Sign (Desc)'!$G80,[1]!MASTER_PANEL_SIZE_DESC[#Data],0),0))","v":""},{"$f":"IF('Sign (Desc)'!H80=\"\",\"\",'Sign (Desc)'!H80)","v":""}]
[{"$f":"IF('Sign (Desc)'!A81=\"\",\"\",'Sign (Desc)'!A81)","v":""},{"$f":"IF('Sign (Desc)'!B81=\"\",\"\",\"1987\")","v":""},{"$f":"IF('Sign (Desc)'!B81=\"\",\"\",'Sign (Desc)'!B81)","v":""},{"$f":"IF('Sign (Desc)'!C81=\"\",\"\",'Sign (Desc)'!C81)","v":""},{"$f":"IF('Sign (Desc)'!D81=\"\",\"\",'Sign (Desc)'!D81)","v":""},{"$f":"IF('Sign (Desc)'!E81=\"\",\"\",INDEX([1]SIGN_TYPE!$A$2:$A$40,MATCH('Sign (Desc)'!$E81,[1]!MASTER_SIGN_TYPE_DESC[#Data],0),0))","v":""},{"$f":"IF('Sign (Desc)'!F81=\"\",\"\",INDEX([1]SIGN_TEXT!$A$2:$A$40,MATCH('Sign (Desc)'!$F81,[1]!MASTER_SIGN_TEXT_DESC[#Data],0),0))","v":""},{"$f":"IF('Sign (Desc)'!G81=\"\",\"\",INDEX([1]PANEL_SIZE!$A$2:$A$40,MATCH('Sign (Desc)'!$G81,[1]!MASTER_PANEL_SIZE_DESC[#Data],0),0))","v":""},{"$f":"IF('Sign (Desc)'!H81=\"\",\"\",'Sign (Desc)'!H81)","v":""}]
[{"$f":"IF('Sign (Desc)'!A82=\"\",\"\",'Sign (Desc)'!A82)","v":""},{"$f":"IF('Sign (Desc)'!B82=\"\",\"\",\"1987\")","v":""},{"$f":"IF('Sign (Desc)'!B82=\"\",\"\",'Sign (Desc)'!B82)","v":""},{"$f":"IF('Sign (Desc)'!C82=\"\",\"\",'Sign (Desc)'!C82)","v":""},{"$f":"IF('Sign (Desc)'!D82=\"\",\"\",'Sign (Desc)'!D82)","v":""},{"$f":"IF('Sign (Desc)'!E82=\"\",\"\",INDEX([1]SIGN_TYPE!$A$2:$A$40,MATCH('Sign (Desc)'!$E82,[1]!MASTER_SIGN_TYPE_DESC[#Data],0),0))","v":""},{"$f":"IF('Sign (Desc)'!F82=\"\",\"\",INDEX([1]SIGN_TEXT!$A$2:$A$40,MATCH('Sign (Desc)'!$F82,[1]!MASTER_SIGN_TEXT_DESC[#Data],0),0))","v":""},{"$f":"IF('Sign (Desc)'!G82=\"\",\"\",INDEX([1]PANEL_SIZE!$A$2:$A$40,MATCH('Sign (Desc)'!$G82,[1]!MASTER_PANEL_SIZE_DESC[#Data],0),0))","v":""},{"$f":"IF('Sign (Desc)'!H82=\"\",\"\",'Sign (Desc)'!H82)","v":""}]
[{"$f":"IF('Sign (Desc)'!A83=\"\",\"\",'Sign (Desc)'!A83)","v":""},{"$f":"IF('Sign (Desc)'!B83=\"\",\"\",\"1987\")","v":""},{"$f":"IF('Sign (Desc)'!B83=\"\",\"\",'Sign (Desc)'!B83)","v":""},{"$f":"IF('Sign (Desc)'!C83=\"\",\"\",'Sign (Desc)'!C83)","v":""},{"$f":"IF('Sign (Desc)'!D83=\"\",\"\",'Sign (Desc)'!D83)","v":""},{"$f":"IF('Sign (Desc)'!E83=\"\",\"\",INDEX([1]SIGN_TYPE!$A$2:$A$40,MATCH('Sign (Desc)'!$E83,[1]!MASTER_SIGN_TYPE_DESC[#Data],0),0))","v":""},{"$f":"IF('Sign (Desc)'!F83=\"\",\"\",INDEX([1]SIGN_TEXT!$A$2:$A$40,MATCH('Sign (Desc)'!$F83,[1]!MASTER_SIGN_TEXT_DESC[#Data],0),0))","v":""},{"$f":"IF('Sign (Desc)'!G83=\"\",\"\",INDEX([1]PANEL_SIZE!$A$2:$A$40,MATCH('Sign (Desc)'!$G83,[1]!MASTER_PANEL_SIZE_DESC[#Data],0),0))","v":""},{"$f":"IF('Sign (Desc)'!H83=\"\",\"\",'Sign (Desc)'!H83)","v":""}]
[{"$f":"IF('Sign (Desc)'!A84=\"\",\"\",'Sign (Desc)'!A84)","v":""},{"$f":"IF('Sign (Desc)'!B84=\"\",\"\",\"1987\")","v":""},{"$f":"IF('Sign (Desc)'!B84=\"\",\"\",'Sign (Desc)'!B84)","v":""},{"$f":"IF('Sign (Desc)'!C84=\"\",\"\",'Sign (Desc)'!C84)","v":""},{"$f":"IF('Sign (Desc)'!D84=\"\",\"\",'Sign (Desc)'!D84)","v":""},{"$f":"IF('Sign (Desc)'!E84=\"\",\"\",INDEX([1]SIGN_TYPE!$A$2:$A$40,MATCH('Sign (Desc)'!$E84,[1]!MASTER_SIGN_TYPE_DESC[#Data],0),0))","v":""},{"$f":"IF('Sign (Desc)'!F84=\"\",\"\",INDEX([1]SIGN_TEXT!$A$2:$A$40,MATCH('Sign (Desc)'!$F84,[1]!MASTER_SIGN_TEXT_DESC[#Data],0),0))","v":""},{"$f":"IF('Sign (Desc)'!G84=\"\",\"\",INDEX([1]PANEL_SIZE!$A$2:$A$40,MATCH('Sign (Desc)'!$G84,[1]!MASTER_PANEL_SIZE_DESC[#Data],0),0))","v":""},{"$f":"IF('Sign (Desc)'!H84=\"\",\"\",'Sign (Desc)'!H84)","v":""}]
[{"$f":"IF('Sign (Desc)'!A85=\"\",\"\",'Sign (Desc)'!A85)","v":""},{"$f":"IF('Sign (Desc)'!B85=\"\",\"\",\"1987\")","v":""},{"$f":"IF('Sign (Desc)'!B85=\"\",\"\",'Sign (Desc)'!B85)","v":""},{"$f":"IF('Sign (Desc)'!C85=\"\",\"\",'Sign (Desc)'!C85)","v":""},{"$f":"IF('Sign (Desc)'!D85=\"\",\"\",'Sign (Desc)'!D85)","v":""},{"$f":"IF('Sign (Desc)'!E85=\"\",\"\",INDEX([1]SIGN_TYPE!$A$2:$A$40,MATCH('Sign (Desc)'!$E85,[1]!MASTER_SIGN_TYPE_DESC[#Data],0),0))","v":""},{"$f":"IF('Sign (Desc)'!F85=\"\",\"\",INDEX([1]SIGN_TEXT!$A$2:$A$40,MATCH('Sign (Desc)'!$F85,[1]!MASTER_SIGN_TEXT_DESC[#Data],0),0))","v":""},{"$f":"IF('Sign (Desc)'!G85=\"\",\"\",INDEX([1]PANEL_SIZE!$A$2:$A$40,MATCH('Sign (Desc)'!$G85,[1]!MASTER_PANEL_SIZE_DESC[#Data],0),0))","v":""},{"$f":"IF('Sign (Desc)'!H85=\"\",\"\",'Sign (Desc)'!H85)","v":""}]
[{"$f":"IF('Sign (Desc)'!A86=\"\",\"\",'Sign (Desc)'!A86)","v":""},{"$f":"IF('Sign (Desc)'!B86=\"\",\"\",\"1987\")","v":""},{"$f":"IF('Sign (Desc)'!B86=\"\",\"\",'Sign (Desc)'!B86)","v":""},{"$f":"IF('Sign (Desc)'!C86=\"\",\"\",'Sign (Desc)'!C86)","v":""},{"$f":"IF('Sign (Desc)'!D86=\"\",\"\",'Sign (Desc)'!D86)","v":""},{"$f":"IF('Sign (Desc)'!E86=\"\",\"\",INDEX([1]SIGN_TYPE!$A$2:$A$40,MATCH('Sign (Desc)'!$E86,[1]!MASTER_SIGN_TYPE_DESC[#Data],0),0))","v":""},{"$f":"IF('Sign (Desc)'!F86=\"\",\"\",INDEX([1]SIGN_TEXT!$A$2:$A$40,MATCH('Sign (Desc)'!$F86,[1]!MASTER_SIGN_TEXT_DESC[#Data],0),0))","v":""},{"$f":"IF('Sign (Desc)'!G86=\"\",\"\",INDEX([1]PANEL_SIZE!$A$2:$A$40,MATCH('Sign (Desc)'!$G86,[1]!MASTER_PANEL_SIZE_DESC[#Data],0),0))","v":""},{"$f":"IF('Sign (Desc)'!H86=\"\",\"\",'Sign (Desc)'!H86)","v":""}]
[{"$f":"IF('Sign (Desc)'!A87=\"\",\"\",'Sign (Desc)'!A87)","v":""},{"$f":"IF('Sign (Desc)'!B87=\"\",\"\",\"1987\")","v":""},{"$f":"IF('Sign (Desc)'!B87=\"\",\"\",'Sign (Desc)'!B87)","v":""},{"$f":"IF('Sign (Desc)'!C87=\"\",\"\",'Sign (Desc)'!C87)","v":""},{"$f":"IF('Sign (Desc)'!D87=\"\",\"\",'Sign (Desc)'!D87)","v":""},{"$f":"IF('Sign (Desc)'!E87=\"\",\"\",INDEX([1]SIGN_TYPE!$A$2:$A$40,MATCH('Sign (Desc)'!$E87,[1]!MASTER_SIGN_TYPE_DESC[#Data],0),0))","v":""},{"$f":"IF('Sign (Desc)'!F87=\"\",\"\",INDEX([1]SIGN_TEXT!$A$2:$A$40,MATCH('Sign (Desc)'!$F87,[1]!MASTER_SIGN_TEXT_DESC[#Data],0),0))","v":""},{"$f":"IF('Sign (Desc)'!G87=\"\",\"\",INDEX([1]PANEL_SIZE!$A$2:$A$40,MATCH('Sign (Desc)'!$G87,[1]!MASTER_PANEL_SIZE_DESC[#Data],0),0))","v":""},{"$f":"IF('Sign (Desc)'!H87=\"\",\"\",'Sign (Desc)'!H87)","v":""}]
[{"$f":"IF('Sign (Desc)'!A88=\"\",\"\",'Sign (Desc)'!A88)","v":""},{"$f":"IF('Sign (Desc)'!B88=\"\",\"\",\"1987\")","v":""},{"$f":"IF('Sign (Desc)'!B88=\"\",\"\",'Sign (Desc)'!B88)","v":""},{"$f":"IF('Sign (Desc)'!C88=\"\",\"\",'Sign (Desc)'!C88)","v":""},{"$f":"IF('Sign (Desc)'!D88=\"\",\"\",'Sign (Desc)'!D88)","v":""},{"$f":"IF('Sign (Desc)'!E88=\"\",\"\",INDEX([1]SIGN_TYPE!$A$2:$A$40,MATCH('Sign (Desc)'!$E88,[1]!MASTER_SIGN_TYPE_DESC[#Data],0),0))","v":""},{"$f":"IF('Sign (Desc)'!F88=\"\",\"\",INDEX([1]SIGN_TEXT!$A$2:$A$40,MATCH('Sign (Desc)'!$F88,[1]!MASTER_SIGN_TEXT_DESC[#Data],0),0))","v":""},{"$f":"IF('Sign (Desc)'!G88=\"\",\"\",INDEX([1]PANEL_SIZE!$A$2:$A$40,MATCH('Sign (Desc)'!$G88,[1]!MASTER_PANEL_SIZE_DESC[#Data],0),0))","v":""},{"$f":"IF('Sign (Desc)'!H88=\"\",\"\",'Sign (Desc)'!H88)","v":""}]
[{"$f":"IF('Sign (Desc)'!A89=\"\",\"\",'Sign (Desc)'!A89)","v":""},{"$f":"IF('Sign (Desc)'!B89=\"\",\"\",\"1987\")","v":""},{"$f":"IF('Sign (Desc)'!B89=\"\",\"\",'Sign (Desc)'!B89)","v":""},{"$f":"IF('Sign (Desc)'!C89=\"\",\"\",'Sign (Desc)'!C89)","v":""},{"$f":"IF('Sign (Desc)'!D89=\"\",\"\",'Sign (Desc)'!D89)","v":""},{"$f":"IF('Sign (Desc)'!E89=\"\",\"\",INDEX([1]SIGN_TYPE!$A$2:$A$40,MATCH('Sign (Desc)'!$E89,[1]!MASTER_SIGN_TYPE_DESC[#Data],0),0))","v":""},{"$f":"IF('Sign (Desc)'!F89=\"\",\"\",INDEX([1]SIGN_TEXT!$A$2:$A$40,MATCH('Sign (Desc)'!$F89,[1]!MASTER_SIGN_TEXT_DESC[#Data],0),0))","v":""},{"$f":"IF('Sign (Desc)'!G89=\"\",\"\",INDEX([1]PANEL_SIZE!$A$2:$A$40,MATCH('Sign (Desc)'!$G89,[1]!MASTER_PANEL_SIZE_DESC[#Data],0),0))","v":""},{"$f":"IF('Sign (Desc)'!H89=\"\",\"\",'Sign (Desc)'!H89)","v":""}]
[{"$f":"IF('Sign (Desc)'!A90=\"\",\"\",'Sign (Desc)'!A90)","v":""},{"$f":"IF('Sign (Desc)'!B90=\"\",\"\",\"1987\")","v":""},{"$f":"IF('Sign (Desc)'!B90=\"\",\"\",'Sign (Desc)'!B90)","v":""},{"$f":"IF('Sign (Desc)'!C90=\"\",\"\",'Sign (Desc)'!C90)","v":""},{"$f":"IF('Sign (Desc)'!D90=\"\",\"\",'Sign (Desc)'!D90)","v":""},{"$f":"IF('Sign (Desc)'!E90=\"\",\"\",INDEX([1]SIGN_TYPE!$A$2:$A$40,MATCH('Sign (Desc)'!$E90,[1]!MASTER_SIGN_TYPE_DESC[#Data],0),0))","v":""},{"$f":"IF('Sign (Desc)'!F90=\"\",\"\",INDEX([1]SIGN_TEXT!$A$2:$A$40,MATCH('Sign (Desc)'!$F90,[1]!MASTER_SIGN_TEXT_DESC[#Data],0),0))","v":""},{"$f":"IF('Sign (Desc)'!G90=\"\",\"\",INDEX([1]PANEL_SIZE!$A$2:$A$40,MATCH('Sign (Desc)'!$G90,[1]!MASTER_PANEL_SIZE_DESC[#Data],0),0))","v":""},{"$f":"IF('Sign (Desc)'!H90=\"\",\"\",'Sign (Desc)'!H90)","v":""}]
[{"$f":"IF('Sign (Desc)'!A91=\"\",\"\",'Sign (Desc)'!A91)","v":""},{"$f":"IF('Sign (Desc)'!B91=\"\",\"\",\"1987\")","v":""},{"$f":"IF('Sign (Desc)'!B91=\"\",\"\",'Sign (Desc)'!B91)","v":""},{"$f":"IF('Sign (Desc)'!C91=\"\",\"\",'Sign (Desc)'!C91)","v":""},{"$f":"IF('Sign (Desc)'!D91=\"\",\"\",'Sign (Desc)'!D91)","v":""},{"$f":"IF('Sign (Desc)'!E91=\"\",\"\",INDEX([1]SIGN_TYPE!$A$2:$A$40,MATCH('Sign (Desc)'!$E91,[1]!MASTER_SIGN_TYPE_DESC[#Data],0),0))","v":""},{"$f":"IF('Sign (Desc)'!F91=\"\",\"\",INDEX([1]SIGN_TEXT!$A$2:$A$40,MATCH('Sign (Desc)'!$F91,[1]!MASTER_SIGN_TEXT_DESC[#Data],0),0))","v":""},{"$f":"IF('Sign (Desc)'!G91=\"\",\"\",INDEX([1]PANEL_SIZE!$A$2:$A$40,MATCH('Sign (Desc)'!$G91,[1]!MASTER_PANEL_SIZE_DESC[#Data],0),0))","v":""},{"$f":"IF('Sign (Desc)'!H91=\"\",\"\",'Sign (Desc)'!H91)","v":""}]
[{"$f":"IF('Sign (Desc)'!A92=\"\",\"\",'Sign (Desc)'!A92)","v":""},{"$f":"IF('Sign (Desc)'!B92=\"\",\"\",\"1987\")","v":""},{"$f":"IF('Sign (Desc)'!B92=\"\",\"\",'Sign (Desc)'!B92)","v":""},{"$f":"IF('Sign (Desc)'!C92=\"\",\"\",'Sign (Desc)'!C92)","v":""},{"$f":"IF('Sign (Desc)'!D92=\"\",\"\",'Sign (Desc)'!D92)","v":""},{"$f":"IF('Sign (Desc)'!E92=\"\",\"\",INDEX([1]SIGN_TYPE!$A$2:$A$40,MATCH('Sign (Desc)'!$E92,[1]!MASTER_SIGN_TYPE_DESC[#Data],0),0))","v":""},{"$f":"IF('Sign (Desc)'!F92=\"\",\"\",INDEX([1]SIGN_TEXT!$A$2:$A$40,MATCH('Sign (Desc)'!$F92,[1]!MASTER_SIGN_TEXT_DESC[#Data],0),0))","v":""},{"$f":"IF('Sign (Desc)'!G92=\"\",\"\",INDEX([1]PANEL_SIZE!$A$2:$A$40,MATCH('Sign (Desc)'!$G92,[1]!MASTER_PANEL_SIZE_DESC[#Data],0),0))","v":""},{"$f":"IF('Sign (Desc)'!H92=\"\",\"\",'Sign (Desc)'!H92)","v":""}]
[{"$f":"IF('Sign (Desc)'!A93=\"\",\"\",'Sign (Desc)'!A93)","v":""},{"$f":"IF('Sign (Desc)'!B93=\"\",\"\",\"1987\")","v":""},{"$f":"IF('Sign (Desc)'!B93=\"\",\"\",'Sign (Desc)'!B93)","v":""},{"$f":"IF('Sign (Desc)'!C93=\"\",\"\",'Sign (Desc)'!C93)","v":""},{"$f":"IF('Sign (Desc)'!D93=\"\",\"\",'Sign (Desc)'!D93)","v":""},{"$f":"IF('Sign (Desc)'!E93=\"\",\"\",INDEX([1]SIGN_TYPE!$A$2:$A$40,MATCH('Sign (Desc)'!$E93,[1]!MASTER_SIGN_TYPE_DESC[#Data],0),0))","v":""},{"$f":"IF('Sign (Desc)'!F93=\"\",\"\",INDEX([1]SIGN_TEXT!$A$2:$A$40,MATCH('Sign (Desc)'!$F93,[1]!MASTER_SIGN_TEXT_DESC[#Data],0),0))","v":""},{"$f":"IF('Sign (Desc)'!G93=\"\",\"\",INDEX([1]PANEL_SIZE!$A$2:$A$40,MATCH('Sign (Desc)'!$G93,[1]!MASTER_PANEL_SIZE_DESC[#Data],0),0))","v":""},{"$f":"IF('Sign (Desc)'!H93=\"\",\"\",'Sign (Desc)'!H93)","v":""}]
[{"$f":"IF('Sign (Desc)'!A94=\"\",\"\",'Sign (Desc)'!A94)","v":""},{"$f":"IF('Sign (Desc)'!B94=\"\",\"\",\"1987\")","v":""},{"$f":"IF('Sign (Desc)'!B94=\"\",\"\",'Sign (Desc)'!B94)","v":""},{"$f":"IF('Sign (Desc)'!C94=\"\",\"\",'Sign (Desc)'!C94)","v":""},{"$f":"IF('Sign (Desc)'!D94=\"\",\"\",'Sign (Desc)'!D94)","v":""},{"$f":"IF('Sign (Desc)'!E94=\"\",\"\",INDEX([1]SIGN_TYPE!$A$2:$A$40,MATCH('Sign (Desc)'!$E94,[1]!MASTER_SIGN_TYPE_DESC[#Data],0),0))","v":""},{"$f":"IF('Sign (Desc)'!F94=\"\",\"\",INDEX([1]SIGN_TEXT!$A$2:$A$40,MATCH('Sign (Desc)'!$F94,[1]!MASTER_SIGN_TEXT_DESC[#Data],0),0))","v":""},{"$f":"IF('Sign (Desc)'!G94=\"\",\"\",INDEX([1]PANEL_SIZE!$A$2:$A$40,MATCH('Sign (Desc)'!$G94,[1]!MASTER_PANEL_SIZE_DESC[#Data],0),0))","v":""},{"$f":"IF('Sign (Desc)'!H94=\"\",\"\",'Sign (Desc)'!H94)","v":""}]
[{"$f":"IF('Sign (Desc)'!A95=\"\",\"\",'Sign (Desc)'!A95)","v":""},{"$f":"IF('Sign (Desc)'!B95=\"\",\"\",\"1987\")","v":""},{"$f":"IF('Sign (Desc)'!B95=\"\",\"\",'Sign (Desc)'!B95)","v":""},{"$f":"IF('Sign (Desc)'!C95=\"\",\"\",'Sign (Desc)'!C95)","v":""},{"$f":"IF('Sign (Desc)'!D95=\"\",\"\",'Sign (Desc)'!D95)","v":""},{"$f":"IF('Sign (Desc)'!E95=\"\",\"\",INDEX([1]SIGN_TYPE!$A$2:$A$40,MATCH('Sign (Desc)'!$E95,[1]!MASTER_SIGN_TYPE_DESC[#Data],0),0))","v":""},{"$f":"IF('Sign (Desc)'!F95=\"\",\"\",INDEX([1]SIGN_TEXT!$A$2:$A$40,MATCH('Sign (Desc)'!$F95,[1]!MASTER_SIGN_TEXT_DESC[#Data],0),0))","v":""},{"$f":"IF('Sign (Desc)'!G95=\"\",\"\",INDEX([1]PANEL_SIZE!$A$2:$A$40,MATCH('Sign (Desc)'!$G95,[1]!MASTER_PANEL_SIZE_DESC[#Data],0),0))","v":""},{"$f":"IF('Sign (Desc)'!H95=\"\",\"\",'Sign (Desc)'!H95)","v":""}]
[{"$f":"IF('Sign (Desc)'!A96=\"\",\"\",'Sign (Desc)'!A96)","v":""},{"$f":"IF('Sign (Desc)'!B96=\"\",\"\",\"1987\")","v":""},{"$f":"IF('Sign (Desc)'!B96=\"\",\"\",'Sign (Desc)'!B96)","v":""},{"$f":"IF('Sign (Desc)'!C96=\"\",\"\",'Sign (Desc)'!C96)","v":""},{"$f":"IF('Sign (Desc)'!D96=\"\",\"\",'Sign (Desc)'!D96)","v":""},{"$f":"IF('Sign (Desc)'!E96=\"\",\"\",INDEX([1]SIGN_TYPE!$A$2:$A$40,MATCH('Sign (Desc)'!$E96,[1]!MASTER_SIGN_TYPE_DESC[#Data],0),0))","v":""},{"$f":"IF('Sign (Desc)'!F96=\"\",\"\",INDEX([1]SIGN_TEXT!$A$2:$A$40,MATCH('Sign (Desc)'!$F96,[1]!MASTER_SIGN_TEXT_DESC[#Data],0),0))","v":""},{"$f":"IF('Sign (Desc)'!G96=\"\",\"\",INDEX([1]PANEL_SIZE!$A$2:$A$40,MATCH('Sign (Desc)'!$G96,[1]!MASTER_PANEL_SIZE_DESC[#Data],0),0))","v":""},{"$f":"IF('Sign (Desc)'!H96=\"\",\"\",'Sign (Desc)'!H96)","v":""}]
[{"$f":"IF('Sign (Desc)'!A97=\"\",\"\",'Sign (Desc)'!A97)","v":""},{"$f":"IF('Sign (Desc)'!B97=\"\",\"\",\"1987\")","v":""},{"$f":"IF('Sign (Desc)'!B97=\"\",\"\",'Sign (Desc)'!B97)","v":""},{"$f":"IF('Sign (Desc)'!C97=\"\",\"\",'Sign (Desc)'!C97)","v":""},{"$f":"IF('Sign (Desc)'!D97=\"\",\"\",'Sign (Desc)'!D97)","v":""},{"$f":"IF('Sign (Desc)'!E97=\"\",\"\",INDEX([1]SIGN_TYPE!$A$2:$A$40,MATCH('Sign (Desc)'!$E97,[1]!MASTER_SIGN_TYPE_DESC[#Data],0),0))","v":""},{"$f":"IF('Sign (Desc)'!F97=\"\",\"\",INDEX([1]SIGN_TEXT!$A$2:$A$40,MATCH('Sign (Desc)'!$F97,[1]!MASTER_SIGN_TEXT_DESC[#Data],0),0))","v":""},{"$f":"IF('Sign (Desc)'!G97=\"\",\"\",INDEX([1]PANEL_SIZE!$A$2:$A$40,MATCH('Sign (Desc)'!$G97,[1]!MASTER_PANEL_SIZE_DESC[#Data],0),0))","v":""},{"$f":"IF('Sign (Desc)'!H97=\"\",\"\",'Sign (Desc)'!H97)","v":""}]
[{"$f":"IF('Sign (Desc)'!A98=\"\",\"\",'Sign (Desc)'!A98)","v":""},{"$f":"IF('Sign (Desc)'!B98=\"\",\"\",\"1987\")","v":""},{"$f":"IF('Sign (Desc)'!B98=\"\",\"\",'Sign (Desc)'!B98)","v":""},{"$f":"IF('Sign (Desc)'!C98=\"\",\"\",'Sign (Desc)'!C98)","v":""},{"$f":"IF('Sign (Desc)'!D98=\"\",\"\",'Sign (Desc)'!D98)","v":""},{"$f":"IF('Sign (Desc)'!E98=\"\",\"\",INDEX([1]SIGN_TYPE!$A$2:$A$40,MATCH('Sign (Desc)'!$E98,[1]!MASTER_SIGN_TYPE_DESC[#Data],0),0))","v":""},{"$f":"IF('Sign (Desc)'!F98=\"\",\"\",INDEX([1]SIGN_TEXT!$A$2:$A$40,MATCH('Sign (Desc)'!$F98,[1]!MASTER_SIGN_TEXT_DESC[#Data],0),0))","v":""},{"$f":"IF('Sign (Desc)'!G98=\"\",\"\",INDEX([1]PANEL_SIZE!$A$2:$A$40,MATCH('Sign (Desc)'!$G98,[1]!MASTER_PANEL_SIZE_DESC[#Data],0),0))","v":""},{"$f":"IF('Sign (Desc)'!H98=\"\",\"\",'Sign (Desc)'!H98)","v":""}]
[{"$f":"IF('Sign (Desc)'!A99=\"\",\"\",'Sign (Desc)'!A99)","v":""},{"$f":"IF('Sign (Desc)'!B99=\"\",\"\",\"1987\")","v":""},{"$f":"IF('Sign (Desc)'!B99=\"\",\"\",'Sign (Desc)'!B99)","v":""},{"$f":"IF('Sign (Desc)'!C99=\"\",\"\",'Sign (Desc)'!C99)","v":""},{"$f":"IF('Sign (Desc)'!D99=\"\",\"\",'Sign (Desc)'!D99)","v":""},{"$f":"IF('Sign (Desc)'!E99=\"\",\"\",INDEX([1]SIGN_TYPE!$A$2:$A$40,MATCH('Sign (Desc)'!$E99,[1]!MASTER_SIGN_TYPE_DESC[#Data],0),0))","v":""},{"$f":"IF('Sign (Desc)'!F99=\"\",\"\",INDEX([1]SIGN_TEXT!$A$2:$A$40,MATCH('Sign (Desc)'!$F99,[1]!MASTER_SIGN_TEXT_DESC[#Data],0),0))","v":""},{"$f":"IF('Sign (Desc)'!G99=\"\",\"\",INDEX([1]PANEL_SIZE!$A$2:$A$40,MATCH('Sign (Desc)'!$G99,[1]!MASTER_PANEL_SIZE_DESC[#Data],0),0))","v":""},{"$f":"IF('Sign (Desc)'!H99=\"\",\"\",'Sign (Desc)'!H99)","v":""}]
[{"$f":"IF('Sign (Desc)'!A100=\"\",\"\",'Sign (Desc)'!A100)","v":""},{"$f":"IF('Sign (Desc)'!B100=\"\",\"\",\"1987\")","v":""},{"$f":"IF('Sign (Desc)'!B100=\"\",\"\",'Sign (Desc)'!B100)","v":""},{"$f":"IF('Sign (Desc)'!C100=\"\",\"\",'Sign (Desc)'!C100)","v":""},{"$f":"IF('Sign (Desc)'!D100=\"\",\"\",'Sign (Desc)'!D100)","v":""},{"$f":"IF('Sign (Desc)'!E100=\"\",\"\",INDEX([1]SIGN_TYPE!$A$2:$A$40,MATCH('Sign (Desc)'!$E100,[1]!MASTER_SIGN_TYPE_DESC[#Data],0),0))","v":""},{"$f":"IF('Sign (Desc)'!F100=\"\",\"\",INDEX([1]SIGN_TEXT!$A$2:$A$40,MATCH('Sign (Desc)'!$F100,[1]!MASTER_SIGN_TEXT_DESC[#Data],0),0))","v":""},{"$f":"IF('Sign (Desc)'!G100=\"\",\"\",INDEX([1]PANEL_SIZE!$A$2:$A$40,MATCH('Sign (Desc)'!$G100,[1]!MASTER_PANEL_SIZE_DESC[#Data],0),0))","v":""},{"$f":"IF('Sign (Desc)'!H100=\"\",\"\",'Sign (Desc)'!H100)","v":""}]
[{"$f":"IF('Sign (Desc)'!A101=\"\",\"\",'Sign (Desc)'!A101)","v":""},{"$f":"IF('Sign (Desc)'!B101=\"\",\"\",\"1987\")","v":""},{"$f":"IF('Sign (Desc)'!B101=\"\",\"\",'Sign (Desc)'!B101)","v":""},{"$f":"IF('Sign (Desc)'!C101=\"\",\"\",'Sign (Desc)'!C101)","v":""},{"$f":"IF('Sign (Desc)'!D101=\"\",\"\",'Sign (Desc)'!D101)","v":""},{"$f":"IF('Sign (Desc)'!E101=\"\",\"\",INDEX([1]SIGN_TYPE!$A$2:$A$40,MATCH('Sign (Desc)'!$E101,[1]!MASTER_SIGN_TYPE_DESC[#Data],0),0))","v":""},{"$f":"IF('Sign (Desc)'!F101=\"\",\"\",INDEX([1]SIGN_TEXT!$A$2:$A$40,MATCH('Sign (Desc)'!$F101,[1]!MASTER_SIGN_TEXT_DESC[#Data],0),0))","v":""},{"$f":"IF('Sign (Desc)'!G101=\"\",\"\",INDEX([1]PANEL_SIZE!$A$2:$A$40,MATCH('Sign (Desc)'!$G101,[1]!MASTER_PANEL_SIZE_DESC[#Data],0),0))","v":""},{"$f":"IF('Sign (Desc)'!H101=\"\",\"\",'Sign (Desc)'!H101)","v":""}]
[{"$f":"IF('Sign (Desc)'!A102=\"\",\"\",'Sign (Desc)'!A102)","v":""},{"$f":"IF('Sign (Desc)'!B102=\"\",\"\",\"1987\")","v":""},{"$f":"IF('Sign (Desc)'!B102=\"\",\"\",'Sign (Desc)'!B102)","v":""},{"$f":"IF('Sign (Desc)'!C102=\"\",\"\",'Sign (Desc)'!C102)","v":""},{"$f":"IF('Sign (Desc)'!D102=\"\",\"\",'Sign (Desc)'!D102)","v":""},{"$f":"IF('Sign (Desc)'!E102=\"\",\"\",INDEX([1]SIGN_TYPE!$A$2:$A$40,MATCH('Sign (Desc)'!$E102,[1]!MASTER_SIGN_TYPE_DESC[#Data],0),0))","v":""},{"$f":"IF('Sign (Desc)'!F102=\"\",\"\",INDEX([1]SIGN_TEXT!$A$2:$A$40,MATCH('Sign (Desc)'!$F102,[1]!MASTER_SIGN_TEXT_DESC[#Data],0),0))","v":""},{"$f":"IF('Sign (Desc)'!G102=\"\",\"\",INDEX([1]PANEL_SIZE!$A$2:$A$40,MATCH('Sign (Desc)'!$G102,[1]!MASTER_PANEL_SIZE_DESC[#Data],0),0))","v":""},{"$f":"IF('Sign (Desc)'!H102=\"\",\"\",'Sign (Desc)'!H102)","v":""}]
[{"$f":"IF('Sign (Desc)'!A103=\"\",\"\",'Sign (Desc)'!A103)","v":""},{"$f":"IF('Sign (Desc)'!B103=\"\",\"\",\"1987\")","v":""},{"$f":"IF('Sign (Desc)'!B103=\"\",\"\",'Sign (Desc)'!B103)","v":""},{"$f":"IF('Sign (Desc)'!C103=\"\",\"\",'Sign (Desc)'!C103)","v":""},{"$f":"IF('Sign (Desc)'!D103=\"\",\"\",'Sign (Desc)'!D103)","v":""},{"$f":"IF('Sign (Desc)'!E103=\"\",\"\",INDEX([1]SIGN_TYPE!$A$2:$A$40,MATCH('Sign (Desc)'!$E103,[1]!MASTER_SIGN_TYPE_DESC[#Data],0),0))","v":""},{"$f":"IF('Sign (Desc)'!F103=\"\",\"\",INDEX([1]SIGN_TEXT!$A$2:$A$40,MATCH('Sign (Desc)'!$F103,[1]!MASTER_SIGN_TEXT_DESC[#Data],0),0))","v":""},{"$f":"IF('Sign (Desc)'!G103=\"\",\"\",INDEX([1]PANEL_SIZE!$A$2:$A$40,MATCH('Sign (Desc)'!$G103,[1]!MASTER_PANEL_SIZE_DESC[#Data],0),0))","v":""},{"$f":"IF('Sign (Desc)'!H103=\"\",\"\",'Sign (Desc)'!H103)","v":""}]
[{"$f":"IF('Sign (Desc)'!A104=\"\",\"\",'Sign (Desc)'!A104)","v":""},{"$f":"IF('Sign (Desc)'!B104=\"\",\"\",\"1987\")","v":""},{"$f":"IF('Sign (Desc)'!B104=\"\",\"\",'Sign (Desc)'!B104)","v":""},{"$f":"IF('Sign (Desc)'!C104=\"\",\"\",'Sign (Desc)'!C104)","v":""},{"$f":"IF('Sign (Desc)'!D104=\"\",\"\",'Sign (Desc)'!D104)","v":""},{"$f":"IF('Sign (Desc)'!E104=\"\",\"\",INDEX([1]SIGN_TYPE!$A$2:$A$40,MATCH('Sign (Desc)'!$E104,[1]!MASTER_SIGN_TYPE_DESC[#Data],0),0))","v":""},{"$f":"IF('Sign (Desc)'!F104=\"\",\"\",INDEX([1]SIGN_TEXT!$A$2:$A$40,MATCH('Sign (Desc)'!$F104,[1]!MASTER_SIGN_TEXT_DESC[#Data],0),0))","v":""},{"$f":"IF('Sign (Desc)'!G104=\"\",\"\",INDEX([1]PANEL_SIZE!$A$2:$A$40,MATCH('Sign (Desc)'!$G104,[1]!MASTER_PANEL_SIZE_DESC[#Data],0),0))","v":""},{"$f":"IF('Sign (Desc)'!H104=\"\",\"\",'Sign (Desc)'!H104)","v":""}]
[{"$f":"IF('Sign (Desc)'!A105=\"\",\"\",'Sign (Desc)'!A105)","v":""},{"$f":"IF('Sign (Desc)'!B105=\"\",\"\",\"1987\")","v":""},{"$f":"IF('Sign (Desc)'!B105=\"\",\"\",'Sign (Desc)'!B105)","v":""},{"$f":"IF('Sign (Desc)'!C105=\"\",\"\",'Sign (Desc)'!C105)","v":""},{"$f":"IF('Sign (Desc)'!D105=\"\",\"\",'Sign (Desc)'!D105)","v":""},{"$f":"IF('Sign (Desc)'!E105=\"\",\"\",INDEX([1]SIGN_TYPE!$A$2:$A$40,MATCH('Sign (Desc)'!$E105,[1]!MASTER_SIGN_TYPE_DESC[#Data],0),0))","v":""},{"$f":"IF('Sign (Desc)'!F105=\"\",\"\",INDEX([1]SIGN_TEXT!$A$2:$A$40,MATCH('Sign (Desc)'!$F105,[1]!MASTER_SIGN_TEXT_DESC[#Data],0),0))","v":""},{"$f":"IF('Sign (Desc)'!G105=\"\",\"\",INDEX([1]PANEL_SIZE!$A$2:$A$40,MATCH('Sign (Desc)'!$G105,[1]!MASTER_PANEL_SIZE_DESC[#Data],0),0))","v":""},{"$f":"IF('Sign (Desc)'!H105=\"\",\"\",'Sign (Desc)'!H105)","v":""}]
[{"$f":"IF('Sign (Desc)'!A106=\"\",\"\",'Sign (Desc)'!A106)","v":""},{"$f":"IF('Sign (Desc)'!B106=\"\",\"\",\"1987\")","v":""},{"$f":"IF('Sign (Desc)'!B106=\"\",\"\",'Sign (Desc)'!B106)","v":""},{"$f":"IF('Sign (Desc)'!C106=\"\",\"\",'Sign (Desc)'!C106)","v":""},{"$f":"IF('Sign (Desc)'!D106=\"\",\"\",'Sign (Desc)'!D106)","v":""},{"$f":"IF('Sign (Desc)'!E106=\"\",\"\",INDEX([1]SIGN_TYPE!$A$2:$A$40,MATCH('Sign (Desc)'!$E106,[1]!MASTER_SIGN_TYPE_DESC[#Data],0),0))","v":""},{"$f":"IF('Sign (Desc)'!F106=\"\",\"\",INDEX([1]SIGN_TEXT!$A$2:$A$40,MATCH('Sign (Desc)'!$F106,[1]!MASTER_SIGN_TEXT_DESC[#Data],0),0))","v":""},{"$f":"IF('Sign (Desc)'!G106=\"\",\"\",INDEX([1]PANEL_SIZE!$A$2:$A$40,MATCH('Sign (Desc)'!$G106,[1]!MASTER_PANEL_SIZE_DESC[#Data],0),0))","v":""},{"$f":"IF('Sign (Desc)'!H106=\"\",\"\",'Sign (Desc)'!H106)","v":""}]
[{"$f":"IF('Sign (Desc)'!A107=\"\",\"\",'Sign (Desc)'!A107)","v":""},{"$f":"IF('Sign (Desc)'!B107=\"\",\"\",\"1987\")","v":""},{"$f":"IF('Sign (Desc)'!B107=\"\",\"\",'Sign (Desc)'!B107)","v":""},{"$f":"IF('Sign (Desc)'!C107=\"\",\"\",'Sign (Desc)'!C107)","v":""},{"$f":"IF('Sign (Desc)'!D107=\"\",\"\",'Sign (Desc)'!D107)","v":""},{"$f":"IF('Sign (Desc)'!E107=\"\",\"\",INDEX([1]SIGN_TYPE!$A$2:$A$40,MATCH('Sign (Desc)'!$E107,[1]!MASTER_SIGN_TYPE_DESC[#Data],0),0))","v":""},{"$f":"IF('Sign (Desc)'!F107=\"\",\"\",INDEX([1]SIGN_TEXT!$A$2:$A$40,MATCH('Sign (Desc)'!$F107,[1]!MASTER_SIGN_TEXT_DESC[#Data],0),0))","v":""},{"$f":"IF('Sign (Desc)'!G107=\"\",\"\",INDEX([1]PANEL_SIZE!$A$2:$A$40,MATCH('Sign (Desc)'!$G107,[1]!MASTER_PANEL_SIZE_DESC[#Data],0),0))","v":""},{"$f":"IF('Sign (Desc)'!H107=\"\",\"\",'Sign (Desc)'!H107)","v":""}]
[{"$f":"IF('Sign (Desc)'!A108=\"\",\"\",'Sign (Desc)'!A108)","v":""},{"$f":"IF('Sign (Desc)'!B108=\"\",\"\",\"1987\")","v":""},{"$f":"IF('Sign (Desc)'!B108=\"\",\"\",'Sign (Desc)'!B108)","v":""},{"$f":"IF('Sign (Desc)'!C108=\"\",\"\",'Sign (Desc)'!C108)","v":""},{"$f":"IF('Sign (Desc)'!D108=\"\",\"\",'Sign (Desc)'!D108)","v":""},{"$f":"IF('Sign (Desc)'!E108=\"\",\"\",INDEX([1]SIGN_TYPE!$A$2:$A$40,MATCH('Sign (Desc)'!$E108,[1]!MASTER_SIGN_TYPE_DESC[#Data],0),0))","v":""},{"$f":"IF('Sign (Desc)'!F108=\"\",\"\",INDEX([1]SIGN_TEXT!$A$2:$A$40,MATCH('Sign (Desc)'!$F108,[1]!MASTER_SIGN_TEXT_DESC[#Data],0),0))","v":""},{"$f":"IF('Sign (Desc)'!G108=\"\",\"\",INDEX([1]PANEL_SIZE!$A$2:$A$40,MATCH('Sign (Desc)'!$G108,[1]!MASTER_PANEL_SIZE_DESC[#Data],0),0))","v":""},{"$f":"IF('Sign (Desc)'!H108=\"\",\"\",'Sign (Desc)'!H108)","v":""}]
[{"$f":"IF('Sign (Desc)'!A109=\"\",\"\",'Sign (Desc)'!A109)","v":""},{"$f":"IF('Sign (Desc)'!B109=\"\",\"\",\"1987\")","v":""},{"$f":"IF('Sign (Desc)'!B109=\"\",\"\",'Sign (Desc)'!B109)","v":""},{"$f":"IF('Sign (Desc)'!C109=\"\",\"\",'Sign (Desc)'!C109)","v":""},{"$f":"IF('Sign (Desc)'!D109=\"\",\"\",'Sign (Desc)'!D109)","v":""},{"$f":"IF('Sign (Desc)'!E109=\"\",\"\",INDEX([1]SIGN_TYPE!$A$2:$A$40,MATCH('Sign (Desc)'!$E109,[1]!MASTER_SIGN_TYPE_DESC[#Data],0),0))","v":""},{"$f":"IF('Sign (Desc)'!F109=\"\",\"\",INDEX([1]SIGN_TEXT!$A$2:$A$40,MATCH('Sign (Desc)'!$F109,[1]!MASTER_SIGN_TEXT_DESC[#Data],0),0))","v":""},{"$f":"IF('Sign (Desc)'!G109=\"\",\"\",INDEX([1]PANEL_SIZE!$A$2:$A$40,MATCH('Sign (Desc)'!$G109,[1]!MASTER_PANEL_SIZE_DESC[#Data],0),0))","v":""},{"$f":"IF('Sign (Desc)'!H109=\"\",\"\",'Sign (Desc)'!H109)","v":""}]
[{"$f":"IF('Sign (Desc)'!A110=\"\",\"\",'Sign (Desc)'!A110)","v":""},{"$f":"IF('Sign (Desc)'!B110=\"\",\"\",\"1987\")","v":""},{"$f":"IF('Sign (Desc)'!B110=\"\",\"\",'Sign (Desc)'!B110)","v":""},{"$f":"IF('Sign (Desc)'!C110=\"\",\"\",'Sign (Desc)'!C110)","v":""},{"$f":"IF('Sign (Desc)'!D110=\"\",\"\",'Sign (Desc)'!D110)","v":""},{"$f":"IF('Sign (Desc)'!E110=\"\",\"\",INDEX([1]SIGN_TYPE!$A$2:$A$40,MATCH('Sign (Desc)'!$E110,[1]!MASTER_SIGN_TYPE_DESC[#Data],0),0))","v":""},{"$f":"IF('Sign (Desc)'!F110=\"\",\"\",INDEX([1]SIGN_TEXT!$A$2:$A$40,MATCH('Sign (Desc)'!$F110,[1]!MASTER_SIGN_TEXT_DESC[#Data],0),0))","v":""},{"$f":"IF('Sign (Desc)'!G110=\"\",\"\",INDEX([1]PANEL_SIZE!$A$2:$A$40,MATCH('Sign (Desc)'!$G110,[1]!MASTER_PANEL_SIZE_DESC[#Data],0),0))","v":""},{"$f":"IF('Sign (Desc)'!H110=\"\",\"\",'Sign (Desc)'!H110)","v":""}]
[{"$f":"IF('Sign (Desc)'!A111=\"\",\"\",'Sign (Desc)'!A111)","v":""},{"$f":"IF('Sign (Desc)'!B111=\"\",\"\",\"1987\")","v":""},{"$f":"IF('Sign (Desc)'!B111=\"\",\"\",'Sign (Desc)'!B111)","v":""},{"$f":"IF('Sign (Desc)'!C111=\"\",\"\",'Sign (Desc)'!C111)","v":""},{"$f":"IF('Sign (Desc)'!D111=\"\",\"\",'Sign (Desc)'!D111)","v":""},{"$f":"IF('Sign (Desc)'!E111=\"\",\"\",INDEX([1]SIGN_TYPE!$A$2:$A$40,MATCH('Sign (Desc)'!$E111,[1]!MASTER_SIGN_TYPE_DESC[#Data],0),0))","v":""},{"$f":"IF('Sign (Desc)'!F111=\"\",\"\",INDEX([1]SIGN_TEXT!$A$2:$A$40,MATCH('Sign (Desc)'!$F111,[1]!MASTER_SIGN_TEXT_DESC[#Data],0),0))","v":""},{"$f":"IF('Sign (Desc)'!G111=\"\",\"\",INDEX([1]PANEL_SIZE!$A$2:$A$40,MATCH('Sign (Desc)'!$G111,[1]!MASTER_PANEL_SIZE_DESC[#Data],0),0))","v":""},{"$f":"IF('Sign (Desc)'!H111=\"\",\"\",'Sign (Desc)'!H111)","v":""}]
[{"$f":"IF('Sign (Desc)'!A112=\"\",\"\",'Sign (Desc)'!A112)","v":""},{"$f":"IF('Sign (Desc)'!B112=\"\",\"\",\"1987\")","v":""},{"$f":"IF('Sign (Desc)'!B112=\"\",\"\",'Sign (Desc)'!B112)","v":""},{"$f":"IF('Sign (Desc)'!C112=\"\",\"\",'Sign (Desc)'!C112)","v":""},{"$f":"IF('Sign (Desc)'!D112=\"\",\"\",'Sign (Desc)'!D112)","v":""},{"$f":"IF('Sign (Desc)'!E112=\"\",\"\",INDEX([1]SIGN_TYPE!$A$2:$A$40,MATCH('Sign (Desc)'!$E112,[1]!MASTER_SIGN_TYPE_DESC[#Data],0),0))","v":""},{"$f":"IF('Sign (Desc)'!F112=\"\",\"\",INDEX([1]SIGN_TEXT!$A$2:$A$40,MATCH('Sign (Desc)'!$F112,[1]!MASTER_SIGN_TEXT_DESC[#Data],0),0))","v":""},{"$f":"IF('Sign (Desc)'!G112=\"\",\"\",INDEX([1]PANEL_SIZE!$A$2:$A$40,MATCH('Sign (Desc)'!$G112,[1]!MASTER_PANEL_SIZE_DESC[#Data],0),0))","v":""},{"$f":"IF('Sign (Desc)'!H112=\"\",\"\",'Sign (Desc)'!H112)","v":""}]
[{"$f":"IF('Sign (Desc)'!A113=\"\",\"\",'Sign (Desc)'!A113)","v":""},{"$f":"IF('Sign (Desc)'!B113=\"\",\"\",\"1987\")","v":""},{"$f":"IF('Sign (Desc)'!B113=\"\",\"\",'Sign (Desc)'!B113)","v":""},{"$f":"IF('Sign (Desc)'!C113=\"\",\"\",'Sign (Desc)'!C113)","v":""},{"$f":"IF('Sign (Desc)'!D113=\"\",\"\",'Sign (Desc)'!D113)","v":""},{"$f":"IF('Sign (Desc)'!E113=\"\",\"\",INDEX([1]SIGN_TYPE!$A$2:$A$40,MATCH('Sign (Desc)'!$E113,[1]!MASTER_SIGN_TYPE_DESC[#Data],0),0))","v":""},{"$f":"IF('Sign (Desc)'!F113=\"\",\"\",INDEX([1]SIGN_TEXT!$A$2:$A$40,MATCH('Sign (Desc)'!$F113,[1]!MASTER_SIGN_TEXT_DESC[#Data],0),0))","v":""},{"$f":"IF('Sign (Desc)'!G113=\"\",\"\",INDEX([1]PANEL_SIZE!$A$2:$A$40,MATCH('Sign (Desc)'!$G113,[1]!MASTER_PANEL_SIZE_DESC[#Data],0),0))","v":""},{"$f":"IF('Sign (Desc)'!H113=\"\",\"\",'Sign (Desc)'!H113)","v":""}]
[{"$f":"IF('Sign (Desc)'!A114=\"\",\"\",'Sign (Desc)'!A114)","v":""},{"$f":"IF('Sign (Desc)'!B114=\"\",\"\",\"1987\")","v":""},{"$f":"IF('Sign (Desc)'!B114=\"\",\"\",'Sign (Desc)'!B114)","v":""},{"$f":"IF('Sign (Desc)'!C114=\"\",\"\",'Sign (Desc)'!C114)","v":""},{"$f":"IF('Sign (Desc)'!D114=\"\",\"\",'Sign (Desc)'!D114)","v":""},{"$f":"IF('Sign (Desc)'!E114=\"\",\"\",INDEX([1]SIGN_TYPE!$A$2:$A$40,MATCH('Sign (Desc)'!$E114,[1]!MASTER_SIGN_TYPE_DESC[#Data],0),0))","v":""},{"$f":"IF('Sign (Desc)'!F114=\"\",\"\",INDEX([1]SIGN_TEXT!$A$2:$A$40,MATCH('Sign (Desc)'!$F114,[1]!MASTER_SIGN_TEXT_DESC[#Data],0),0))","v":""},{"$f":"IF('Sign (Desc)'!G114=\"\",\"\",INDEX([1]PANEL_SIZE!$A$2:$A$40,MATCH('Sign (Desc)'!$G114,[1]!MASTER_PANEL_SIZE_DESC[#Data],0),0))","v":""},{"$f":"IF('Sign (Desc)'!H114=\"\",\"\",'Sign (Desc)'!H114)","v":""}]
[{"$f":"IF('Sign (Desc)'!A115=\"\",\"\",'Sign (Desc)'!A115)","v":""},{"$f":"IF('Sign (Desc)'!B115=\"\",\"\",\"1987\")","v":""},{"$f":"IF('Sign (Desc)'!B115=\"\",\"\",'Sign (Desc)'!B115)","v":""},{"$f":"IF('Sign (Desc)'!C115=\"\",\"\",'Sign (Desc)'!C115)","v":""},{"$f":"IF('Sign (Desc)'!D115=\"\",\"\",'Sign (Desc)'!D115)","v":""},{"$f":"IF('Sign (Desc)'!E115=\"\",\"\",INDEX([1]SIGN_TYPE!$A$2:$A$40,MATCH('Sign (Desc)'!$E115,[1]!MASTER_SIGN_TYPE_DESC[#Data],0),0))","v":""},{"$f":"IF('Sign (Desc)'!F115=\"\",\"\",INDEX([1]SIGN_TEXT!$A$2:$A$40,MATCH('Sign (Desc)'!$F115,[1]!MASTER_SIGN_TEXT_DESC[#Data],0),0))","v":""},{"$f":"IF('Sign (Desc)'!G115=\"\",\"\",INDEX([1]PANEL_SIZE!$A$2:$A$40,MATCH('Sign (Desc)'!$G115,[1]!MASTER_PANEL_SIZE_DESC[#Data],0),0))","v":""},{"$f":"IF('Sign (Desc)'!H115=\"\",\"\",'Sign (Desc)'!H115)","v":""}]
[{"$f":"IF('Sign (Desc)'!A116=\"\",\"\",'Sign (Desc)'!A116)","v":""},{"$f":"IF('Sign (Desc)'!B116=\"\",\"\",\"1987\")","v":""},{"$f":"IF('Sign (Desc)'!B116=\"\",\"\",'Sign (Desc)'!B116)","v":""},{"$f":"IF('Sign (Desc)'!C116=\"\",\"\",'Sign (Desc)'!C116)","v":""},{"$f":"IF('Sign (Desc)'!D116=\"\",\"\",'Sign (Desc)'!D116)","v":""},{"$f":"IF('Sign (Desc)'!E116=\"\",\"\",INDEX([1]SIGN_TYPE!$A$2:$A$40,MATCH('Sign (Desc)'!$E116,[1]!MASTER_SIGN_TYPE_DESC[#Data],0),0))","v":""},{"$f":"IF('Sign (Desc)'!F116=\"\",\"\",INDEX([1]SIGN_TEXT!$A$2:$A$40,MATCH('Sign (Desc)'!$F116,[1]!MASTER_SIGN_TEXT_DESC[#Data],0),0))","v":""},{"$f":"IF('Sign (Desc)'!G116=\"\",\"\",INDEX([1]PANEL_SIZE!$A$2:$A$40,MATCH('Sign (Desc)'!$G116,[1]!MASTER_PANEL_SIZE_DESC[#Data],0),0))","v":""},{"$f":"IF('Sign (Desc)'!H116=\"\",\"\",'Sign (Desc)'!H116)","v":""}]
[{"$f":"IF('Sign (Desc)'!A117=\"\",\"\",'Sign (Desc)'!A117)","v":""},{"$f":"IF('Sign (Desc)'!B117=\"\",\"\",\"1987\")","v":""},{"$f":"IF('Sign (Desc)'!B117=\"\",\"\",'Sign (Desc)'!B117)","v":""},{"$f":"IF('Sign (Desc)'!C117=\"\",\"\",'Sign (Desc)'!C117)","v":""},{"$f":"IF('Sign (Desc)'!D117=\"\",\"\",'Sign (Desc)'!D117)","v":""},{"$f":"IF('Sign (Desc)'!E117=\"\",\"\",INDEX([1]SIGN_TYPE!$A$2:$A$40,MATCH('Sign (Desc)'!$E117,[1]!MASTER_SIGN_TYPE_DESC[#Data],0),0))","v":""},{"$f":"IF('Sign (Desc)'!F117=\"\",\"\",INDEX([1]SIGN_TEXT!$A$2:$A$40,MATCH('Sign (Desc)'!$F117,[1]!MASTER_SIGN_TEXT_DESC[#Data],0),0))","v":""},{"$f":"IF('Sign (Desc)'!G117=\"\",\"\",INDEX([1]PANEL_SIZE!$A$2:$A$40,MATCH('Sign (Desc)'!$G117,[1]!MASTER_PANEL_SIZE_DESC[#Data],0),0))","v":""},{"$f":"IF('Sign (Desc)'!H117=\"\",\"\",'Sign (Desc)'!H117)","v":""}]
[{"$f":"IF('Sign (Desc)'!A118=\"\",\"\",'Sign (Desc)'!A118)","v":""},{"$f":"IF('Sign (Desc)'!B118=\"\",\"\",\"1987\")","v":""},{"$f":"IF('Sign (Desc)'!B118=\"\",\"\",'Sign (Desc)'!B118)","v":""},{"$f":"IF('Sign (Desc)'!C118=\"\",\"\",'Sign (Desc)'!C118)","v":""},{"$f":"IF('Sign (Desc)'!D118=\"\",\"\",'Sign (Desc)'!D118)","v":""},{"$f":"IF('Sign (Desc)'!E118=\"\",\"\",INDEX([1]SIGN_TYPE!$A$2:$A$40,MATCH('Sign (Desc)'!$E118,[1]!MASTER_SIGN_TYPE_DESC[#Data],0),0))","v":""},{"$f":"IF('Sign (Desc)'!F118=\"\",\"\",INDEX([1]SIGN_TEXT!$A$2:$A$40,MATCH('Sign (Desc)'!$F118,[1]!MASTER_SIGN_TEXT_DESC[#Data],0),0))","v":""},{"$f":"IF('Sign (Desc)'!G118=\"\",\"\",INDEX([1]PANEL_SIZE!$A$2:$A$40,MATCH('Sign (Desc)'!$G118,[1]!MASTER_PANEL_SIZE_DESC[#Data],0),0))","v":""},{"$f":"IF('Sign (Desc)'!H118=\"\",\"\",'Sign (Desc)'!H118)","v":""}]
[{"$f":"IF('Sign (Desc)'!A119=\"\",\"\",'Sign (Desc)'!A119)","v":""},{"$f":"IF('Sign (Desc)'!B119=\"\",\"\",\"1987\")","v":""},{"$f":"IF('Sign (Desc)'!B119=\"\",\"\",'Sign (Desc)'!B119)","v":""},{"$f":"IF('Sign (Desc)'!C119=\"\",\"\",'Sign (Desc)'!C119)","v":""},{"$f":"IF('Sign (Desc)'!D119=\"\",\"\",'Sign (Desc)'!D119)","v":""},{"$f":"IF('Sign (Desc)'!E119=\"\",\"\",INDEX([1]SIGN_TYPE!$A$2:$A$40,MATCH('Sign (Desc)'!$E119,[1]!MASTER_SIGN_TYPE_DESC[#Data],0),0))","v":""},{"$f":"IF('Sign (Desc)'!F119=\"\",\"\",INDEX([1]SIGN_TEXT!$A$2:$A$40,MATCH('Sign (Desc)'!$F119,[1]!MASTER_SIGN_TEXT_DESC[#Data],0),0))","v":""},{"$f":"IF('Sign (Desc)'!G119=\"\",\"\",INDEX([1]PANEL_SIZE!$A$2:$A$40,MATCH('Sign (Desc)'!$G119,[1]!MASTER_PANEL_SIZE_DESC[#Data],0),0))","v":""},{"$f":"IF('Sign (Desc)'!H119=\"\",\"\",'Sign (Desc)'!H119)","v":""}]
[{"$f":"IF('Sign (Desc)'!A120=\"\",\"\",'Sign (Desc)'!A120)","v":""},{"$f":"IF('Sign (Desc)'!B120=\"\",\"\",\"1987\")","v":""},{"$f":"IF('Sign (Desc)'!B120=\"\",\"\",'Sign (Desc)'!B120)","v":""},{"$f":"IF('Sign (Desc)'!C120=\"\",\"\",'Sign (Desc)'!C120)","v":""},{"$f":"IF('Sign (Desc)'!D120=\"\",\"\",'Sign (Desc)'!D120)","v":""},{"$f":"IF('Sign (Desc)'!E120=\"\",\"\",INDEX([1]SIGN_TYPE!$A$2:$A$40,MATCH('Sign (Desc)'!$E120,[1]!MASTER_SIGN_TYPE_DESC[#Data],0),0))","v":""},{"$f":"IF('Sign (Desc)'!F120=\"\",\"\",INDEX([1]SIGN_TEXT!$A$2:$A$40,MATCH('Sign (Desc)'!$F120,[1]!MASTER_SIGN_TEXT_DESC[#Data],0),0))","v":""},{"$f":"IF('Sign (Desc)'!G120=\"\",\"\",INDEX([1]PANEL_SIZE!$A$2:$A$40,MATCH('Sign (Desc)'!$G120,[1]!MASTER_PANEL_SIZE_DESC[#Data],0),0))","v":""},{"$f":"IF('Sign (Desc)'!H120=\"\",\"\",'Sign (Desc)'!H120)","v":""}]
[{"$f":"IF('Sign (Desc)'!A121=\"\",\"\",'Sign (Desc)'!A121)","v":""},{"$f":"IF('Sign (Desc)'!B121=\"\",\"\",\"1987\")","v":""},{"$f":"IF('Sign (Desc)'!B121=\"\",\"\",'Sign (Desc)'!B121)","v":""},{"$f":"IF('Sign (Desc)'!C121=\"\",\"\",'Sign (Desc)'!C121)","v":""},{"$f":"IF('Sign (Desc)'!D121=\"\",\"\",'Sign (Desc)'!D121)","v":""},{"$f":"IF('Sign (Desc)'!E121=\"\",\"\",INDEX([1]SIGN_TYPE!$A$2:$A$40,MATCH('Sign (Desc)'!$E121,[1]!MASTER_SIGN_TYPE_DESC[#Data],0),0))","v":""},{"$f":"IF('Sign (Desc)'!F121=\"\",\"\",INDEX([1]SIGN_TEXT!$A$2:$A$40,MATCH('Sign (Desc)'!$F121,[1]!MASTER_SIGN_TEXT_DESC[#Data],0),0))","v":""},{"$f":"IF('Sign (Desc)'!G121=\"\",\"\",INDEX([1]PANEL_SIZE!$A$2:$A$40,MATCH('Sign (Desc)'!$G121,[1]!MASTER_PANEL_SIZE_DESC[#Data],0),0))","v":""},{"$f":"IF('Sign (Desc)'!H121=\"\",\"\",'Sign (Desc)'!H121)","v":""}]
[{"$f":"IF('Sign (Desc)'!A122=\"\",\"\",'Sign (Desc)'!A122)","v":""},{"$f":"IF('Sign (Desc)'!B122=\"\",\"\",\"1987\")","v":""},{"$f":"IF('Sign (Desc)'!B122=\"\",\"\",'Sign (Desc)'!B122)","v":""},{"$f":"IF('Sign (Desc)'!C122=\"\",\"\",'Sign (Desc)'!C122)","v":""},{"$f":"IF('Sign (Desc)'!D122=\"\",\"\",'Sign (Desc)'!D122)","v":""},{"$f":"IF('Sign (Desc)'!E122=\"\",\"\",INDEX([1]SIGN_TYPE!$A$2:$A$40,MATCH('Sign (Desc)'!$E122,[1]!MASTER_SIGN_TYPE_DESC[#Data],0),0))","v":""},{"$f":"IF('Sign (Desc)'!F122=\"\",\"\",INDEX([1]SIGN_TEXT!$A$2:$A$40,MATCH('Sign (Desc)'!$F122,[1]!MASTER_SIGN_TEXT_DESC[#Data],0),0))","v":""},{"$f":"IF('Sign (Desc)'!G122=\"\",\"\",INDEX([1]PANEL_SIZE!$A$2:$A$40,MATCH('Sign (Desc)'!$G122,[1]!MASTER_PANEL_SIZE_DESC[#Data],0),0))","v":""},{"$f":"IF('Sign (Desc)'!H122=\"\",\"\",'Sign (Desc)'!H122)","v":""}]
[{"$f":"IF('Sign (Desc)'!A123=\"\",\"\",'Sign (Desc)'!A123)","v":""},{"$f":"IF('Sign (Desc)'!B123=\"\",\"\",\"1987\")","v":""},{"$f":"IF('Sign (Desc)'!B123=\"\",\"\",'Sign (Desc)'!B123)","v":""},{"$f":"IF('Sign (Desc)'!C123=\"\",\"\",'Sign (Desc)'!C123)","v":""},{"$f":"IF('Sign (Desc)'!D123=\"\",\"\",'Sign (Desc)'!D123)","v":""},{"$f":"IF('Sign (Desc)'!E123=\"\",\"\",INDEX([1]SIGN_TYPE!$A$2:$A$40,MATCH('Sign (Desc)'!$E123,[1]!MASTER_SIGN_TYPE_DESC[#Data],0),0))","v":""},{"$f":"IF('Sign (Desc)'!F123=\"\",\"\",INDEX([1]SIGN_TEXT!$A$2:$A$40,MATCH('Sign (Desc)'!$F123,[1]!MASTER_SIGN_TEXT_DESC[#Data],0),0))","v":""},{"$f":"IF('Sign (Desc)'!G123=\"\",\"\",INDEX([1]PANEL_SIZE!$A$2:$A$40,MATCH('Sign (Desc)'!$G123,[1]!MASTER_PANEL_SIZE_DESC[#Data],0),0))","v":""},{"$f":"IF('Sign (Desc)'!H123=\"\",\"\",'Sign (Desc)'!H123)","v":""}]
[{"$f":"IF('Sign (Desc)'!A124=\"\",\"\",'Sign (Desc)'!A124)","v":""},{"$f":"IF('Sign (Desc)'!B124=\"\",\"\",\"1987\")","v":""},{"$f":"IF('Sign (Desc)'!B124=\"\",\"\",'Sign (Desc)'!B124)","v":""},{"$f":"IF('Sign (Desc)'!C124=\"\",\"\",'Sign (Desc)'!C124)","v":""},{"$f":"IF('Sign (Desc)'!D124=\"\",\"\",'Sign (Desc)'!D124)","v":""},{"$f":"IF('Sign (Desc)'!E124=\"\",\"\",INDEX([1]SIGN_TYPE!$A$2:$A$40,MATCH('Sign (Desc)'!$E124,[1]!MASTER_SIGN_TYPE_DESC[#Data],0),0))","v":""},{"$f":"IF('Sign (Desc)'!F124=\"\",\"\",INDEX([1]SIGN_TEXT!$A$2:$A$40,MATCH('Sign (Desc)'!$F124,[1]!MASTER_SIGN_TEXT_DESC[#Data],0),0))","v":""},{"$f":"IF('Sign (Desc)'!G124=\"\",\"\",INDEX([1]PANEL_SIZE!$A$2:$A$40,MATCH('Sign (Desc)'!$G124,[1]!MASTER_PANEL_SIZE_DESC[#Data],0),0))","v":""},{"$f":"IF('Sign (Desc)'!H124=\"\",\"\",'Sign (Desc)'!H124)","v":""}]
[{"$f":"IF('Sign (Desc)'!A125=\"\",\"\",'Sign (Desc)'!A125)","v":""},{"$f":"IF('Sign (Desc)'!B125=\"\",\"\",\"1987\")","v":""},{"$f":"IF('Sign (Desc)'!B125=\"\",\"\",'Sign (Desc)'!B125)","v":""},{"$f":"IF('Sign (Desc)'!C125=\"\",\"\",'Sign (Desc)'!C125)","v":""},{"$f":"IF('Sign (Desc)'!D125=\"\",\"\",'Sign (Desc)'!D125)","v":""},{"$f":"IF('Sign (Desc)'!E125=\"\",\"\",INDEX([1]SIGN_TYPE!$A$2:$A$40,MATCH('Sign (Desc)'!$E125,[1]!MASTER_SIGN_TYPE_DESC[#Data],0),0))","v":""},{"$f":"IF('Sign (Desc)'!F125=\"\",\"\",INDEX([1]SIGN_TEXT!$A$2:$A$40,MATCH('Sign (Desc)'!$F125,[1]!MASTER_SIGN_TEXT_DESC[#Data],0),0))","v":""},{"$f":"IF('Sign (Desc)'!G125=\"\",\"\",INDEX([1]PANEL_SIZE!$A$2:$A$40,MATCH('Sign (Desc)'!$G125,[1]!MASTER_PANEL_SIZE_DESC[#Data],0),0))","v":""},{"$f":"IF('Sign (Desc)'!H125=\"\",\"\",'Sign (Desc)'!H125)","v":""}]
[{"$f":"IF('Sign (Desc)'!A126=\"\",\"\",'Sign (Desc)'!A126)","v":""},{"$f":"IF('Sign (Desc)'!B126=\"\",\"\",\"1987\")","v":""},{"$f":"IF('Sign (Desc)'!B126=\"\",\"\",'Sign (Desc)'!B126)","v":""},{"$f":"IF('Sign (Desc)'!C126=\"\",\"\",'Sign (Desc)'!C126)","v":""},{"$f":"IF('Sign (Desc)'!D126=\"\",\"\",'Sign (Desc)'!D126)","v":""},{"$f":"IF('Sign (Desc)'!E126=\"\",\"\",INDEX([1]SIGN_TYPE!$A$2:$A$40,MATCH('Sign (Desc)'!$E126,[1]!MASTER_SIGN_TYPE_DESC[#Data],0),0))","v":""},{"$f":"IF('Sign (Desc)'!F126=\"\",\"\",INDEX([1]SIGN_TEXT!$A$2:$A$40,MATCH('Sign (Desc)'!$F126,[1]!MASTER_SIGN_TEXT_DESC[#Data],0),0))","v":""},{"$f":"IF('Sign (Desc)'!G126=\"\",\"\",INDEX([1]PANEL_SIZE!$A$2:$A$40,MATCH('Sign (Desc)'!$G126,[1]!MASTER_PANEL_SIZE_DESC[#Data],0),0))","v":""},{"$f":"IF('Sign (Desc)'!H126=\"\",\"\",'Sign (Desc)'!H126)","v":""}]
[{"$f":"IF('Sign (Desc)'!A127=\"\",\"\",'Sign (Desc)'!A127)","v":""},{"$f":"IF('Sign (Desc)'!B127=\"\",\"\",\"1987\")","v":""},{"$f":"IF('Sign (Desc)'!B127=\"\",\"\",'Sign (Desc)'!B127)","v":""},{"$f":"IF('Sign (Desc)'!C127=\"\",\"\",'Sign (Desc)'!C127)","v":""},{"$f":"IF('Sign (Desc)'!D127=\"\",\"\",'Sign (Desc)'!D127)","v":""},{"$f":"IF('Sign (Desc)'!E127=\"\",\"\",INDEX([1]SIGN_TYPE!$A$2:$A$40,MATCH('Sign (Desc)'!$E127,[1]!MASTER_SIGN_TYPE_DESC[#Data],0),0))","v":""},{"$f":"IF('Sign (Desc)'!F127=\"\",\"\",INDEX([1]SIGN_TEXT!$A$2:$A$40,MATCH('Sign (Desc)'!$F127,[1]!MASTER_SIGN_TEXT_DESC[#Data],0),0))","v":""},{"$f":"IF('Sign (Desc)'!G127=\"\",\"\",INDEX([1]PANEL_SIZE!$A$2:$A$40,MATCH('Sign (Desc)'!$G127,[1]!MASTER_PANEL_SIZE_DESC[#Data],0),0))","v":""},{"$f":"IF('Sign (Desc)'!H127=\"\",\"\",'Sign (Desc)'!H127)","v":""}]
[{"$f":"IF('Sign (Desc)'!A128=\"\",\"\",'Sign (Desc)'!A128)","v":""},{"$f":"IF('Sign (Desc)'!B128=\"\",\"\",\"1987\")","v":""},{"$f":"IF('Sign (Desc)'!B128=\"\",\"\",'Sign (Desc)'!B128)","v":""},{"$f":"IF('Sign (Desc)'!C128=\"\",\"\",'Sign (Desc)'!C128)","v":""},{"$f":"IF('Sign (Desc)'!D128=\"\",\"\",'Sign (Desc)'!D128)","v":""},{"$f":"IF('Sign (Desc)'!E128=\"\",\"\",INDEX([1]SIGN_TYPE!$A$2:$A$40,MATCH('Sign (Desc)'!$E128,[1]!MASTER_SIGN_TYPE_DESC[#Data],0),0))","v":""},{"$f":"IF('Sign (Desc)'!F128=\"\",\"\",INDEX([1]SIGN_TEXT!$A$2:$A$40,MATCH('Sign (Desc)'!$F128,[1]!MASTER_SIGN_TEXT_DESC[#Data],0),0))","v":""},{"$f":"IF('Sign (Desc)'!G128=\"\",\"\",INDEX([1]PANEL_SIZE!$A$2:$A$40,MATCH('Sign (Desc)'!$G128,[1]!MASTER_PANEL_SIZE_DESC[#Data],0),0))","v":""},{"$f":"IF('Sign (Desc)'!H128=\"\",\"\",'Sign (Desc)'!H128)","v":""}]
[{"$f":"IF('Sign (Desc)'!A129=\"\",\"\",'Sign (Desc)'!A129)","v":""},{"$f":"IF('Sign (Desc)'!B129=\"\",\"\",\"1987\")","v":""},{"$f":"IF('Sign (Desc)'!B129=\"\",\"\",'Sign (Desc)'!B129)","v":""},{"$f":"IF('Sign (Desc)'!C129=\"\",\"\",'Sign (Desc)'!C129)","v":""},{"$f":"IF('Sign (Desc)'!D129=\"\",\"\",'Sign (Desc)'!D129)","v":""},{"$f":"IF('Sign (Desc)'!E129=\"\",\"\",INDEX([1]SIGN_TYPE!$A$2:$A$40,MATCH('Sign (Desc)'!$E129,[1]!MASTER_SIGN_TYPE_DESC[#Data],0),0))","v":""},{"$f":"IF('Sign (Desc)'!F129=\"\",\"\",INDEX([1]SIGN_TEXT!$A$2:$A$40,MATCH('Sign (Desc)'!$F129,[1]!MASTER_SIGN_TEXT_DESC[#Data],0),0))","v":""},{"$f":"IF('Sign (Desc)'!G129=\"\",\"\",INDEX([1]PANEL_SIZE!$A$2:$A$40,MATCH('Sign (Desc)'!$G129,[1]!MASTER_PANEL_SIZE_DESC[#Data],0),0))","v":""},{"$f":"IF('Sign (Desc)'!H129=\"\",\"\",'Sign (Desc)'!H129)","v":""}]
[{"$f":"IF('Sign (Desc)'!A130=\"\",\"\",'Sign (Desc)'!A130)","v":""},{"$f":"IF('Sign (Desc)'!B130=\"\",\"\",\"1987\")","v":""},{"$f":"IF('Sign (Desc)'!B130=\"\",\"\",'Sign (Desc)'!B130)","v":""},{"$f":"IF('Sign (Desc)'!C130=\"\",\"\",'Sign (Desc)'!C130)","v":""},{"$f":"IF('Sign (Desc)'!D130=\"\",\"\",'Sign (Desc)'!D130)","v":""},{"$f":"IF('Sign (Desc)'!E130=\"\",\"\",INDEX([1]SIGN_TYPE!$A$2:$A$40,MATCH('Sign (Desc)'!$E130,[1]!MASTER_SIGN_TYPE_DESC[#Data],0),0))","v":""},{"$f":"IF('Sign (Desc)'!F130=\"\",\"\",INDEX([1]SIGN_TEXT!$A$2:$A$40,MATCH('Sign (Desc)'!$F130,[1]!MASTER_SIGN_TEXT_DESC[#Data],0),0))","v":""},{"$f":"IF('Sign (Desc)'!G130=\"\",\"\",INDEX([1]PANEL_SIZE!$A$2:$A$40,MATCH('Sign (Desc)'!$G130,[1]!MASTER_PANEL_SIZE_DESC[#Data],0),0))","v":""},{"$f":"IF('Sign (Desc)'!H130=\"\",\"\",'Sign (Desc)'!H130)","v":""}]
[{"$f":"IF('Sign (Desc)'!A131=\"\",\"\",'Sign (Desc)'!A131)","v":""},{"$f":"IF('Sign (Desc)'!B131=\"\",\"\",\"1987\")","v":""},{"$f":"IF('Sign (Desc)'!B131=\"\",\"\",'Sign (Desc)'!B131)","v":""},{"$f":"IF('Sign (Desc)'!C131=\"\",\"\",'Sign (Desc)'!C131)","v":""},{"$f":"IF('Sign (Desc)'!D131=\"\",\"\",'Sign (Desc)'!D131)","v":""},{"$f":"IF('Sign (Desc)'!E131=\"\",\"\",INDEX([1]SIGN_TYPE!$A$2:$A$40,MATCH('Sign (Desc)'!$E131,[1]!MASTER_SIGN_TYPE_DESC[#Data],0),0))","v":""},{"$f":"IF('Sign (Desc)'!F131=\"\",\"\",INDEX([1]SIGN_TEXT!$A$2:$A$40,MATCH('Sign (Desc)'!$F131,[1]!MASTER_SIGN_TEXT_DESC[#Data],0),0))","v":""},{"$f":"IF('Sign (Desc)'!G131=\"\",\"\",INDEX([1]PANEL_SIZE!$A$2:$A$40,MATCH('Sign (Desc)'!$G131,[1]!MASTER_PANEL_SIZE_DESC[#Data],0),0))","v":""},{"$f":"IF('Sign (Desc)'!H131=\"\",\"\",'Sign (Desc)'!H131)","v":""}]
[{"$f":"IF('Sign (Desc)'!A132=\"\",\"\",'Sign (Desc)'!A132)","v":""},{"$f":"IF('Sign (Desc)'!B132=\"\",\"\",\"1987\")","v":""},{"$f":"IF('Sign (Desc)'!B132=\"\",\"\",'Sign (Desc)'!B132)","v":""},{"$f":"IF('Sign (Desc)'!C132=\"\",\"\",'Sign (Desc)'!C132)","v":""},{"$f":"IF('Sign (Desc)'!D132=\"\",\"\",'Sign (Desc)'!D132)","v":""},{"$f":"IF('Sign (Desc)'!E132=\"\",\"\",INDEX([1]SIGN_TYPE!$A$2:$A$40,MATCH('Sign (Desc)'!$E132,[1]!MASTER_SIGN_TYPE_DESC[#Data],0),0))","v":""},{"$f":"IF('Sign (Desc)'!F132=\"\",\"\",INDEX([1]SIGN_TEXT!$A$2:$A$40,MATCH('Sign (Desc)'!$F132,[1]!MASTER_SIGN_TEXT_DESC[#Data],0),0))","v":""},{"$f":"IF('Sign (Desc)'!G132=\"\",\"\",INDEX([1]PANEL_SIZE!$A$2:$A$40,MATCH('Sign (Desc)'!$G132,[1]!MASTER_PANEL_SIZE_DESC[#Data],0),0))","v":""},{"$f":"IF('Sign (Desc)'!H132=\"\",\"\",'Sign (Desc)'!H132)","v":""}]
[{"$f":"IF('Sign (Desc)'!A133=\"\",\"\",'Sign (Desc)'!A133)","v":""},{"$f":"IF('Sign (Desc)'!B133=\"\",\"\",\"1987\")","v":""},{"$f":"IF('Sign (Desc)'!B133=\"\",\"\",'Sign (Desc)'!B133)","v":""},{"$f":"IF('Sign (Desc)'!C133=\"\",\"\",'Sign (Desc)'!C133)","v":""},{"$f":"IF('Sign (Desc)'!D133=\"\",\"\",'Sign (Desc)'!D133)","v":""},{"$f":"IF('Sign (Desc)'!E133=\"\",\"\",INDEX([1]SIGN_TYPE!$A$2:$A$40,MATCH('Sign (Desc)'!$E133,[1]!MASTER_SIGN_TYPE_DESC[#Data],0),0))","v":""},{"$f":"IF('Sign (Desc)'!F133=\"\",\"\",INDEX([1]SIGN_TEXT!$A$2:$A$40,MATCH('Sign (Desc)'!$F133,[1]!MASTER_SIGN_TEXT_DESC[#Data],0),0))","v":""},{"$f":"IF('Sign (Desc)'!G133=\"\",\"\",INDEX([1]PANEL_SIZE!$A$2:$A$40,MATCH('Sign (Desc)'!$G133,[1]!MASTER_PANEL_SIZE_DESC[#Data],0),0))","v":""},{"$f":"IF('Sign (Desc)'!H133=\"\",\"\",'Sign (Desc)'!H133)","v":""}]
[{"$f":"IF('Sign (Desc)'!A134=\"\",\"\",'Sign (Desc)'!A134)","v":""},{"$f":"IF('Sign (Desc)'!B134=\"\",\"\",\"1987\")","v":""},{"$f":"IF('Sign (Desc)'!B134=\"\",\"\",'Sign (Desc)'!B134)","v":""},{"$f":"IF('Sign (Desc)'!C134=\"\",\"\",'Sign (Desc)'!C134)","v":""},{"$f":"IF('Sign (Desc)'!D134=\"\",\"\",'Sign (Desc)'!D134)","v":""},{"$f":"IF('Sign (Desc)'!E134=\"\",\"\",INDEX([1]SIGN_TYPE!$A$2:$A$40,MATCH('Sign (Desc)'!$E134,[1]!MASTER_SIGN_TYPE_DESC[#Data],0),0))","v":""},{"$f":"IF('Sign (Desc)'!F134=\"\",\"\",INDEX([1]SIGN_TEXT!$A$2:$A$40,MATCH('Sign (Desc)'!$F134,[1]!MASTER_SIGN_TEXT_DESC[#Data],0),0))","v":""},{"$f":"IF('Sign (Desc)'!G134=\"\",\"\",INDEX([1]PANEL_SIZE!$A$2:$A$40,MATCH('Sign (Desc)'!$G134,[1]!MASTER_PANEL_SIZE_DESC[#Data],0),0))","v":""},{"$f":"IF('Sign (Desc)'!H134=\"\",\"\",'Sign (Desc)'!H134)","v":""}]
[{"$f":"IF('Sign (Desc)'!A135=\"\",\"\",'Sign (Desc)'!A135)","v":""},{"$f":"IF('Sign (Desc)'!B135=\"\",\"\",\"1987\")","v":""},{"$f":"IF('Sign (Desc)'!B135=\"\",\"\",'Sign (Desc)'!B135)","v":""},{"$f":"IF('Sign (Desc)'!C135=\"\",\"\",'Sign (Desc)'!C135)","v":""},{"$f":"IF('Sign (Desc)'!D135=\"\",\"\",'Sign (Desc)'!D135)","v":""},{"$f":"IF('Sign (Desc)'!E135=\"\",\"\",INDEX([1]SIGN_TYPE!$A$2:$A$40,MATCH('Sign (Desc)'!$E135,[1]!MASTER_SIGN_TYPE_DESC[#Data],0),0))","v":""},{"$f":"IF('Sign (Desc)'!F135=\"\",\"\",INDEX([1]SIGN_TEXT!$A$2:$A$40,MATCH('Sign (Desc)'!$F135,[1]!MASTER_SIGN_TEXT_DESC[#Data],0),0))","v":""},{"$f":"IF('Sign (Desc)'!G135=\"\",\"\",INDEX([1]PANEL_SIZE!$A$2:$A$40,MATCH('Sign (Desc)'!$G135,[1]!MASTER_PANEL_SIZE_DESC[#Data],0),0))","v":""},{"$f":"IF('Sign (Desc)'!H135=\"\",\"\",'Sign (Desc)'!H135)","v":""}]
[{"$f":"IF('Sign (Desc)'!A136=\"\",\"\",'Sign (Desc)'!A136)","v":""},{"$f":"IF('Sign (Desc)'!B136=\"\",\"\",\"1987\")","v":""},{"$f":"IF('Sign (Desc)'!B136=\"\",\"\",'Sign (Desc)'!B136)","v":""},{"$f":"IF('Sign (Desc)'!C136=\"\",\"\",'Sign (Desc)'!C136)","v":""},{"$f":"IF('Sign (Desc)'!D136=\"\",\"\",'Sign (Desc)'!D136)","v":""},{"$f":"IF('Sign (Desc)'!E136=\"\",\"\",INDEX([1]SIGN_TYPE!$A$2:$A$40,MATCH('Sign (Desc)'!$E136,[1]!MASTER_SIGN_TYPE_DESC[#Data],0),0))","v":""},{"$f":"IF('Sign (Desc)'!F136=\"\",\"\",INDEX([1]SIGN_TEXT!$A$2:$A$40,MATCH('Sign (Desc)'!$F136,[1]!MASTER_SIGN_TEXT_DESC[#Data],0),0))","v":""},{"$f":"IF('Sign (Desc)'!G136=\"\",\"\",INDEX([1]PANEL_SIZE!$A$2:$A$40,MATCH('Sign (Desc)'!$G136,[1]!MASTER_PANEL_SIZE_DESC[#Data],0),0))","v":""},{"$f":"IF('Sign (Desc)'!H136=\"\",\"\",'Sign (Desc)'!H136)","v":""}]
[{"$f":"IF('Sign (Desc)'!A137=\"\",\"\",'Sign (Desc)'!A137)","v":""},{"$f":"IF('Sign (Desc)'!B137=\"\",\"\",\"1987\")","v":""},{"$f":"IF('Sign (Desc)'!B137=\"\",\"\",'Sign (Desc)'!B137)","v":""},{"$f":"IF('Sign (Desc)'!C137=\"\",\"\",'Sign (Desc)'!C137)","v":""},{"$f":"IF('Sign (Desc)'!D137=\"\",\"\",'Sign (Desc)'!D137)","v":""},{"$f":"IF('Sign (Desc)'!E137=\"\",\"\",INDEX([1]SIGN_TYPE!$A$2:$A$40,MATCH('Sign (Desc)'!$E137,[1]!MASTER_SIGN_TYPE_DESC[#Data],0),0))","v":""},{"$f":"IF('Sign (Desc)'!F137=\"\",\"\",INDEX([1]SIGN_TEXT!$A$2:$A$40,MATCH('Sign (Desc)'!$F137,[1]!MASTER_SIGN_TEXT_DESC[#Data],0),0))","v":""},{"$f":"IF('Sign (Desc)'!G137=\"\",\"\",INDEX([1]PANEL_SIZE!$A$2:$A$40,MATCH('Sign (Desc)'!$G137,[1]!MASTER_PANEL_SIZE_DESC[#Data],0),0))","v":""},{"$f":"IF('Sign (Desc)'!H137=\"\",\"\",'Sign (Desc)'!H137)","v":""}]
[{"$f":"IF('Sign (Desc)'!A138=\"\",\"\",'Sign (Desc)'!A138)","v":""},{"$f":"IF('Sign (Desc)'!B138=\"\",\"\",\"1987\")","v":""},{"$f":"IF('Sign (Desc)'!B138=\"\",\"\",'Sign (Desc)'!B138)","v":""},{"$f":"IF('Sign (Desc)'!C138=\"\",\"\",'Sign (Desc)'!C138)","v":""},{"$f":"IF('Sign (Desc)'!D138=\"\",\"\",'Sign (Desc)'!D138)","v":""},{"$f":"IF('Sign (Desc)'!E138=\"\",\"\",INDEX([1]SIGN_TYPE!$A$2:$A$40,MATCH('Sign (Desc)'!$E138,[1]!MASTER_SIGN_TYPE_DESC[#Data],0),0))","v":""},{"$f":"IF('Sign (Desc)'!F138=\"\",\"\",INDEX([1]SIGN_TEXT!$A$2:$A$40,MATCH('Sign (Desc)'!$F138,[1]!MASTER_SIGN_TEXT_DESC[#Data],0),0))","v":""},{"$f":"IF('Sign (Desc)'!G138=\"\",\"\",INDEX([1]PANEL_SIZE!$A$2:$A$40,MATCH('Sign (Desc)'!$G138,[1]!MASTER_PANEL_SIZE_DESC[#Data],0),0))","v":""},{"$f":"IF('Sign (Desc)'!H138=\"\",\"\",'Sign (Desc)'!H138)","v":""}]
[{"$f":"IF('Sign (Desc)'!A139=\"\",\"\",'Sign (Desc)'!A139)","v":""},{"$f":"IF('Sign (Desc)'!B139=\"\",\"\",\"1987\")","v":""},{"$f":"IF('Sign (Desc)'!B139=\"\",\"\",'Sign (Desc)'!B139)","v":""},{"$f":"IF('Sign (Desc)'!C139=\"\",\"\",'Sign (Desc)'!C139)","v":""},{"$f":"IF('Sign (Desc)'!D139=\"\",\"\",'Sign (Desc)'!D139)","v":""},{"$f":"IF('Sign (Desc)'!E139=\"\",\"\",INDEX([1]SIGN_TYPE!$A$2:$A$40,MATCH('Sign (Desc)'!$E139,[1]!MASTER_SIGN_TYPE_DESC[#Data],0),0))","v":""},{"$f":"IF('Sign (Desc)'!F139=\"\",\"\",INDEX([1]SIGN_TEXT!$A$2:$A$40,MATCH('Sign (Desc)'!$F139,[1]!MASTER_SIGN_TEXT_DESC[#Data],0),0))","v":""},{"$f":"IF('Sign (Desc)'!G139=\"\",\"\",INDEX([1]PANEL_SIZE!$A$2:$A$40,MATCH('Sign (Desc)'!$G139,[1]!MASTER_PANEL_SIZE_DESC[#Data],0),0))","v":""},{"$f":"IF('Sign (Desc)'!H139=\"\",\"\",'Sign (Desc)'!H139)","v":""}]
[{"$f":"IF('Sign (Desc)'!A140=\"\",\"\",'Sign (Desc)'!A140)","v":""},{"$f":"IF('Sign (Desc)'!B140=\"\",\"\",\"1987\")","v":""},{"$f":"IF('Sign (Desc)'!B140=\"\",\"\",'Sign (Desc)'!B140)","v":""},{"$f":"IF('Sign (Desc)'!C140=\"\",\"\",'Sign (Desc)'!C140)","v":""},{"$f":"IF('Sign (Desc)'!D140=\"\",\"\",'Sign (Desc)'!D140)","v":""},{"$f":"IF('Sign (Desc)'!E140=\"\",\"\",INDEX([1]SIGN_TYPE!$A$2:$A$40,MATCH('Sign (Desc)'!$E140,[1]!MASTER_SIGN_TYPE_DESC[#Data],0),0))","v":""},{"$f":"IF('Sign (Desc)'!F140=\"\",\"\",INDEX([1]SIGN_TEXT!$A$2:$A$40,MATCH('Sign (Desc)'!$F140,[1]!MASTER_SIGN_TEXT_DESC[#Data],0),0))","v":""},{"$f":"IF('Sign (Desc)'!G140=\"\",\"\",INDEX([1]PANEL_SIZE!$A$2:$A$40,MATCH('Sign (Desc)'!$G140,[1]!MASTER_PANEL_SIZE_DESC[#Data],0),0))","v":""},{"$f":"IF('Sign (Desc)'!H140=\"\",\"\",'Sign (Desc)'!H140)","v":""}]
[{"$f":"IF('Sign (Desc)'!A141=\"\",\"\",'Sign (Desc)'!A141)","v":""},{"$f":"IF('Sign (Desc)'!B141=\"\",\"\",\"1987\")","v":""},{"$f":"IF('Sign (Desc)'!B141=\"\",\"\",'Sign (Desc)'!B141)","v":""},{"$f":"IF('Sign (Desc)'!C141=\"\",\"\",'Sign (Desc)'!C141)","v":""},{"$f":"IF('Sign (Desc)'!D141=\"\",\"\",'Sign (Desc)'!D141)","v":""},{"$f":"IF('Sign (Desc)'!E141=\"\",\"\",INDEX([1]SIGN_TYPE!$A$2:$A$40,MATCH('Sign (Desc)'!$E141,[1]!MASTER_SIGN_TYPE_DESC[#Data],0),0))","v":""},{"$f":"IF('Sign (Desc)'!F141=\"\",\"\",INDEX([1]SIGN_TEXT!$A$2:$A$40,MATCH('Sign (Desc)'!$F141,[1]!MASTER_SIGN_TEXT_DESC[#Data],0),0))","v":""},{"$f":"IF('Sign (Desc)'!G141=\"\",\"\",INDEX([1]PANEL_SIZE!$A$2:$A$40,MATCH('Sign (Desc)'!$G141,[1]!MASTER_PANEL_SIZE_DESC[#Data],0),0))","v":""},{"$f":"IF('Sign (Desc)'!H141=\"\",\"\",'Sign (Desc)'!H141)","v":""}]
[{"$f":"IF('Sign (Desc)'!A142=\"\",\"\",'Sign (Desc)'!A142)","v":""},{"$f":"IF('Sign (Desc)'!B142=\"\",\"\",\"1987\")","v":""},{"$f":"IF('Sign (Desc)'!B142=\"\",\"\",'Sign (Desc)'!B142)","v":""},{"$f":"IF('Sign (Desc)'!C142=\"\",\"\",'Sign (Desc)'!C142)","v":""},{"$f":"IF('Sign (Desc)'!D142=\"\",\"\",'Sign (Desc)'!D142)","v":""},{"$f":"IF('Sign (Desc)'!E142=\"\",\"\",INDEX([1]SIGN_TYPE!$A$2:$A$40,MATCH('Sign (Desc)'!$E142,[1]!MASTER_SIGN_TYPE_DESC[#Data],0),0))","v":""},{"$f":"IF('Sign (Desc)'!F142=\"\",\"\",INDEX([1]SIGN_TEXT!$A$2:$A$40,MATCH('Sign (Desc)'!$F142,[1]!MASTER_SIGN_TEXT_DESC[#Data],0),0))","v":""},{"$f":"IF('Sign (Desc)'!G142=\"\",\"\",INDEX([1]PANEL_SIZE!$A$2:$A$40,MATCH('Sign (Desc)'!$G142,[1]!MASTER_PANEL_SIZE_DESC[#Data],0),0))","v":""},{"$f":"IF('Sign (Desc)'!H142=\"\",\"\",'Sign (Desc)'!H142)","v":""}]
[{"$f":"IF('Sign (Desc)'!A143=\"\",\"\",'Sign (Desc)'!A143)","v":""},{"$f":"IF('Sign (Desc)'!B143=\"\",\"\",\"1987\")","v":""},{"$f":"IF('Sign (Desc)'!B143=\"\",\"\",'Sign (Desc)'!B143)","v":""},{"$f":"IF('Sign (Desc)'!C143=\"\",\"\",'Sign (Desc)'!C143)","v":""},{"$f":"IF('Sign (Desc)'!D143=\"\",\"\",'Sign (Desc)'!D143)","v":""},{"$f":"IF('Sign (Desc)'!E143=\"\",\"\",INDEX([1]SIGN_TYPE!$A$2:$A$40,MATCH('Sign (Desc)'!$E143,[1]!MASTER_SIGN_TYPE_DESC[#Data],0),0))","v":""},{"$f":"IF('Sign (Desc)'!F143=\"\",\"\",INDEX([1]SIGN_TEXT!$A$2:$A$40,MATCH('Sign (Desc)'!$F143,[1]!MASTER_SIGN_TEXT_DESC[#Data],0),0))","v":""},{"$f":"IF('Sign (Desc)'!G143=\"\",\"\",INDEX([1]PANEL_SIZE!$A$2:$A$40,MATCH('Sign (Desc)'!$G143,[1]!MASTER_PANEL_SIZE_DESC[#Data],0),0))","v":""},{"$f":"IF('Sign (Desc)'!H143=\"\",\"\",'Sign (Desc)'!H143)","v":""}]
[{"$f":"IF('Sign (Desc)'!A144=\"\",\"\",'Sign (Desc)'!A144)","v":""},{"$f":"IF('Sign (Desc)'!B144=\"\",\"\",\"1987\")","v":""},{"$f":"IF('Sign (Desc)'!B144=\"\",\"\",'Sign (Desc)'!B144)","v":""},{"$f":"IF('Sign (Desc)'!C144=\"\",\"\",'Sign (Desc)'!C144)","v":""},{"$f":"IF('Sign (Desc)'!D144=\"\",\"\",'Sign (Desc)'!D144)","v":""},{"$f":"IF('Sign (Desc)'!E144=\"\",\"\",INDEX([1]SIGN_TYPE!$A$2:$A$40,MATCH('Sign (Desc)'!$E144,[1]!MASTER_SIGN_TYPE_DESC[#Data],0),0))","v":""},{"$f":"IF('Sign (Desc)'!F144=\"\",\"\",INDEX([1]SIGN_TEXT!$A$2:$A$40,MATCH('Sign (Desc)'!$F144,[1]!MASTER_SIGN_TEXT_DESC[#Data],0),0))","v":""},{"$f":"IF('Sign (Desc)'!G144=\"\",\"\",INDEX([1]PANEL_SIZE!$A$2:$A$40,MATCH('Sign (Desc)'!$G144,[1]!MASTER_PANEL_SIZE_DESC[#Data],0),0))","v":""},{"$f":"IF('Sign (Desc)'!H144=\"\",\"\",'Sign (Desc)'!H144)","v":""}]
[{"$f":"IF('Sign (Desc)'!A145=\"\",\"\",'Sign (Desc)'!A145)","v":""},{"$f":"IF('Sign (Desc)'!B145=\"\",\"\",\"1987\")","v":""},{"$f":"IF('Sign (Desc)'!B145=\"\",\"\",'Sign (Desc)'!B145)","v":""},{"$f":"IF('Sign (Desc)'!C145=\"\",\"\",'Sign (Desc)'!C145)","v":""},{"$f":"IF('Sign (Desc)'!D145=\"\",\"\",'Sign (Desc)'!D145)","v":""},{"$f":"IF('Sign (Desc)'!E145=\"\",\"\",INDEX([1]SIGN_TYPE!$A$2:$A$40,MATCH('Sign (Desc)'!$E145,[1]!MASTER_SIGN_TYPE_DESC[#Data],0),0))","v":""},{"$f":"IF('Sign (Desc)'!F145=\"\",\"\",INDEX([1]SIGN_TEXT!$A$2:$A$40,MATCH('Sign (Desc)'!$F145,[1]!MASTER_SIGN_TEXT_DESC[#Data],0),0))","v":""},{"$f":"IF('Sign (Desc)'!G145=\"\",\"\",INDEX([1]PANEL_SIZE!$A$2:$A$40,MATCH('Sign (Desc)'!$G145,[1]!MASTER_PANEL_SIZE_DESC[#Data],0),0))","v":""},{"$f":"IF('Sign (Desc)'!H145=\"\",\"\",'Sign (Desc)'!H145)","v":""}]
[{"$f":"IF('Sign (Desc)'!A146=\"\",\"\",'Sign (Desc)'!A146)","v":""},{"$f":"IF('Sign (Desc)'!B146=\"\",\"\",\"1987\")","v":""},{"$f":"IF('Sign (Desc)'!B146=\"\",\"\",'Sign (Desc)'!B146)","v":""},{"$f":"IF('Sign (Desc)'!C146=\"\",\"\",'Sign (Desc)'!C146)","v":""},{"$f":"IF('Sign (Desc)'!D146=\"\",\"\",'Sign (Desc)'!D146)","v":""},{"$f":"IF('Sign (Desc)'!E146=\"\",\"\",INDEX([1]SIGN_TYPE!$A$2:$A$40,MATCH('Sign (Desc)'!$E146,[1]!MASTER_SIGN_TYPE_DESC[#Data],0),0))","v":""},{"$f":"IF('Sign (Desc)'!F146=\"\",\"\",INDEX([1]SIGN_TEXT!$A$2:$A$40,MATCH('Sign (Desc)'!$F146,[1]!MASTER_SIGN_TEXT_DESC[#Data],0),0))","v":""},{"$f":"IF('Sign (Desc)'!G146=\"\",\"\",INDEX([1]PANEL_SIZE!$A$2:$A$40,MATCH('Sign (Desc)'!$G146,[1]!MASTER_PANEL_SIZE_DESC[#Data],0),0))","v":""},{"$f":"IF('Sign (Desc)'!H146=\"\",\"\",'Sign (Desc)'!H146)","v":""}]
[{"$f":"IF('Sign (Desc)'!A147=\"\",\"\",'Sign (Desc)'!A147)","v":""},{"$f":"IF('Sign (Desc)'!B147=\"\",\"\",\"1987\")","v":""},{"$f":"IF('Sign (Desc)'!B147=\"\",\"\",'Sign (Desc)'!B147)","v":""},{"$f":"IF('Sign (Desc)'!C147=\"\",\"\",'Sign (Desc)'!C147)","v":""},{"$f":"IF('Sign (Desc)'!D147=\"\",\"\",'Sign (Desc)'!D147)","v":""},{"$f":"IF('Sign (Desc)'!E147=\"\",\"\",INDEX([1]SIGN_TYPE!$A$2:$A$40,MATCH('Sign (Desc)'!$E147,[1]!MASTER_SIGN_TYPE_DESC[#Data],0),0))","v":""},{"$f":"IF('Sign (Desc)'!F147=\"\",\"\",INDEX([1]SIGN_TEXT!$A$2:$A$40,MATCH('Sign (Desc)'!$F147,[1]!MASTER_SIGN_TEXT_DESC[#Data],0),0))","v":""},{"$f":"IF('Sign (Desc)'!G147=\"\",\"\",INDEX([1]PANEL_SIZE!$A$2:$A$40,MATCH('Sign (Desc)'!$G147,[1]!MASTER_PANEL_SIZE_DESC[#Data],0),0))","v":""},{"$f":"IF('Sign (Desc)'!H147=\"\",\"\",'Sign (Desc)'!H147)","v":""}]
[{"$f":"IF('Sign (Desc)'!A148=\"\",\"\",'Sign (Desc)'!A148)","v":""},{"$f":"IF('Sign (Desc)'!B148=\"\",\"\",\"1987\")","v":""},{"$f":"IF('Sign (Desc)'!B148=\"\",\"\",'Sign (Desc)'!B148)","v":""},{"$f":"IF('Sign (Desc)'!C148=\"\",\"\",'Sign (Desc)'!C148)","v":""},{"$f":"IF('Sign (Desc)'!D148=\"\",\"\",'Sign (Desc)'!D148)","v":""},{"$f":"IF('Sign (Desc)'!E148=\"\",\"\",INDEX([1]SIGN_TYPE!$A$2:$A$40,MATCH('Sign (Desc)'!$E148,[1]!MASTER_SIGN_TYPE_DESC[#Data],0),0))","v":""},{"$f":"IF('Sign (Desc)'!F148=\"\",\"\",INDEX([1]SIGN_TEXT!$A$2:$A$40,MATCH('Sign (Desc)'!$F148,[1]!MASTER_SIGN_TEXT_DESC[#Data],0),0))","v":""},{"$f":"IF('Sign (Desc)'!G148=\"\",\"\",INDEX([1]PANEL_SIZE!$A$2:$A$40,MATCH('Sign (Desc)'!$G148,[1]!MASTER_PANEL_SIZE_DESC[#Data],0),0))","v":""},{"$f":"IF('Sign (Desc)'!H148=\"\",\"\",'Sign (Desc)'!H148)","v":""}]
[{"$f":"IF('Sign (Desc)'!A149=\"\",\"\",'Sign (Desc)'!A149)","v":""},{"$f":"IF('Sign (Desc)'!B149=\"\",\"\",\"1987\")","v":""},{"$f":"IF('Sign (Desc)'!B149=\"\",\"\",'Sign (Desc)'!B149)","v":""},{"$f":"IF('Sign (Desc)'!C149=\"\",\"\",'Sign (Desc)'!C149)","v":""},{"$f":"IF('Sign (Desc)'!D149=\"\",\"\",'Sign (Desc)'!D149)","v":""},{"$f":"IF('Sign (Desc)'!E149=\"\",\"\",INDEX([1]SIGN_TYPE!$A$2:$A$40,MATCH('Sign (Desc)'!$E149,[1]!MASTER_SIGN_TYPE_DESC[#Data],0),0))","v":""},{"$f":"IF('Sign (Desc)'!F149=\"\",\"\",INDEX([1]SIGN_TEXT!$A$2:$A$40,MATCH('Sign (Desc)'!$F149,[1]!MASTER_SIGN_TEXT_DESC[#Data],0),0))","v":""},{"$f":"IF('Sign (Desc)'!G149=\"\",\"\",INDEX([1]PANEL_SIZE!$A$2:$A$40,MATCH('Sign (Desc)'!$G149,[1]!MASTER_PANEL_SIZE_DESC[#Data],0),0))","v":""},{"$f":"IF('Sign (Desc)'!H149=\"\",\"\",'Sign (Desc)'!H149)","v":""}]
[{"$f":"IF('Sign (Desc)'!A150=\"\",\"\",'Sign (Desc)'!A150)","v":""},{"$f":"IF('Sign (Desc)'!B150=\"\",\"\",\"1987\")","v":""},{"$f":"IF('Sign (Desc)'!B150=\"\",\"\",'Sign (Desc)'!B150)","v":""},{"$f":"IF('Sign (Desc)'!C150=\"\",\"\",'Sign (Desc)'!C150)","v":""},{"$f":"IF('Sign (Desc)'!D150=\"\",\"\",'Sign (Desc)'!D150)","v":""},{"$f":"IF('Sign (Desc)'!E150=\"\",\"\",INDEX([1]SIGN_TYPE!$A$2:$A$40,MATCH('Sign (Desc)'!$E150,[1]!MASTER_SIGN_TYPE_DESC[#Data],0),0))","v":""},{"$f":"IF('Sign (Desc)'!F150=\"\",\"\",INDEX([1]SIGN_TEXT!$A$2:$A$40,MATCH('Sign (Desc)'!$F150,[1]!MASTER_SIGN_TEXT_DESC[#Data],0),0))","v":""},{"$f":"IF('Sign (Desc)'!G150=\"\",\"\",INDEX([1]PANEL_SIZE!$A$2:$A$40,MATCH('Sign (Desc)'!$G150,[1]!MASTER_PANEL_SIZE_DESC[#Data],0),0))","v":""},{"$f":"IF('Sign (Desc)'!H150=\"\",\"\",'Sign (Desc)'!H150)","v":""}]
[{"$f":"IF('Sign (Desc)'!A151=\"\",\"\",'Sign (Desc)'!A151)","v":""},{"$f":"IF('Sign (Desc)'!B151=\"\",\"\",\"1987\")","v":""},{"$f":"IF('Sign (Desc)'!B151=\"\",\"\",'Sign (Desc)'!B151)","v":""},{"$f":"IF('Sign (Desc)'!C151=\"\",\"\",'Sign (Desc)'!C151)","v":""},{"$f":"IF('Sign (Desc)'!D151=\"\",\"\",'Sign (Desc)'!D151)","v":""},{"$f":"IF('Sign (Desc)'!E151=\"\",\"\",INDEX([1]SIGN_TYPE!$A$2:$A$40,MATCH('Sign (Desc)'!$E151,[1]!MASTER_SIGN_TYPE_DESC[#Data],0),0))","v":""},{"$f":"IF('Sign (Desc)'!F151=\"\",\"\",INDEX([1]SIGN_TEXT!$A$2:$A$40,MATCH('Sign (Desc)'!$F151,[1]!MASTER_SIGN_TEXT_DESC[#Data],0),0))","v":""},{"$f":"IF('Sign (Desc)'!G151=\"\",\"\",INDEX([1]PANEL_SIZE!$A$2:$A$40,MATCH('Sign (Desc)'!$G151,[1]!MASTER_PANEL_SIZE_DESC[#Data],0),0))","v":""},{"$f":"IF('Sign (Desc)'!H151=\"\",\"\",'Sign (Desc)'!H151)","v":""}]
[{"$f":"IF('Sign (Desc)'!A152=\"\",\"\",'Sign (Desc)'!A152)","v":""},{"$f":"IF('Sign (Desc)'!B152=\"\",\"\",\"1987\")","v":""},{"$f":"IF('Sign (Desc)'!B152=\"\",\"\",'Sign (Desc)'!B152)","v":""},{"$f":"IF('Sign (Desc)'!C152=\"\",\"\",'Sign (Desc)'!C152)","v":""},{"$f":"IF('Sign (Desc)'!D152=\"\",\"\",'Sign (Desc)'!D152)","v":""},{"$f":"IF('Sign (Desc)'!E152=\"\",\"\",INDEX([1]SIGN_TYPE!$A$2:$A$40,MATCH('Sign (Desc)'!$E152,[1]!MASTER_SIGN_TYPE_DESC[#Data],0),0))","v":""},{"$f":"IF('Sign (Desc)'!F152=\"\",\"\",INDEX([1]SIGN_TEXT!$A$2:$A$40,MATCH('Sign (Desc)'!$F152,[1]!MASTER_SIGN_TEXT_DESC[#Data],0),0))","v":""},{"$f":"IF('Sign (Desc)'!G152=\"\",\"\",INDEX([1]PANEL_SIZE!$A$2:$A$40,MATCH('Sign (Desc)'!$G152,[1]!MASTER_PANEL_SIZE_DESC[#Data],0),0))","v":""},{"$f":"IF('Sign (Desc)'!H152=\"\",\"\",'Sign (Desc)'!H152)","v":""}]
[{"$f":"IF('Sign (Desc)'!A153=\"\",\"\",'Sign (Desc)'!A153)","v":""},{"$f":"IF('Sign (Desc)'!B153=\"\",\"\",\"1987\")","v":""},{"$f":"IF('Sign (Desc)'!B153=\"\",\"\",'Sign (Desc)'!B153)","v":""},{"$f":"IF('Sign (Desc)'!C153=\"\",\"\",'Sign (Desc)'!C153)","v":""},{"$f":"IF('Sign (Desc)'!D153=\"\",\"\",'Sign (Desc)'!D153)","v":""},{"$f":"IF('Sign (Desc)'!E153=\"\",\"\",INDEX([1]SIGN_TYPE!$A$2:$A$40,MATCH('Sign (Desc)'!$E153,[1]!MASTER_SIGN_TYPE_DESC[#Data],0),0))","v":""},{"$f":"IF('Sign (Desc)'!F153=\"\",\"\",INDEX([1]SIGN_TEXT!$A$2:$A$40,MATCH('Sign (Desc)'!$F153,[1]!MASTER_SIGN_TEXT_DESC[#Data],0),0))","v":""},{"$f":"IF('Sign (Desc)'!G153=\"\",\"\",INDEX([1]PANEL_SIZE!$A$2:$A$40,MATCH('Sign (Desc)'!$G153,[1]!MASTER_PANEL_SIZE_DESC[#Data],0),0))","v":""},{"$f":"IF('Sign (Desc)'!H153=\"\",\"\",'Sign (Desc)'!H153)","v":""}]
[{"$f":"IF('Sign (Desc)'!A154=\"\",\"\",'Sign (Desc)'!A154)","v":""},{"$f":"IF('Sign (Desc)'!B154=\"\",\"\",\"1987\")","v":""},{"$f":"IF('Sign (Desc)'!B154=\"\",\"\",'Sign (Desc)'!B154)","v":""},{"$f":"IF('Sign (Desc)'!C154=\"\",\"\",'Sign (Desc)'!C154)","v":""},{"$f":"IF('Sign (Desc)'!D154=\"\",\"\",'Sign (Desc)'!D154)","v":""},{"$f":"IF('Sign (Desc)'!E154=\"\",\"\",INDEX([1]SIGN_TYPE!$A$2:$A$40,MATCH('Sign (Desc)'!$E154,[1]!MASTER_SIGN_TYPE_DESC[#Data],0),0))","v":""},{"$f":"IF('Sign (Desc)'!F154=\"\",\"\",INDEX([1]SIGN_TEXT!$A$2:$A$40,MATCH('Sign (Desc)'!$F154,[1]!MASTER_SIGN_TEXT_DESC[#Data],0),0))","v":""},{"$f":"IF('Sign (Desc)'!G154=\"\",\"\",INDEX([1]PANEL_SIZE!$A$2:$A$40,MATCH('Sign (Desc)'!$G154,[1]!MASTER_PANEL_SIZE_DESC[#Data],0),0))","v":""},{"$f":"IF('Sign (Desc)'!H154=\"\",\"\",'Sign (Desc)'!H154)","v":""}]
[{"$f":"IF('Sign (Desc)'!A155=\"\",\"\",'Sign (Desc)'!A155)","v":""},{"$f":"IF('Sign (Desc)'!B155=\"\",\"\",\"1987\")","v":""},{"$f":"IF('Sign (Desc)'!B155=\"\",\"\",'Sign (Desc)'!B155)","v":""},{"$f":"IF('Sign (Desc)'!C155=\"\",\"\",'Sign (Desc)'!C155)","v":""},{"$f":"IF('Sign (Desc)'!D155=\"\",\"\",'Sign (Desc)'!D155)","v":""},{"$f":"IF('Sign (Desc)'!E155=\"\",\"\",INDEX([1]SIGN_TYPE!$A$2:$A$40,MATCH('Sign (Desc)'!$E155,[1]!MASTER_SIGN_TYPE_DESC[#Data],0),0))","v":""},{"$f":"IF('Sign (Desc)'!F155=\"\",\"\",INDEX([1]SIGN_TEXT!$A$2:$A$40,MATCH('Sign (Desc)'!$F155,[1]!MASTER_SIGN_TEXT_DESC[#Data],0),0))","v":""},{"$f":"IF('Sign (Desc)'!G155=\"\",\"\",INDEX([1]PANEL_SIZE!$A$2:$A$40,MATCH('Sign (Desc)'!$G155,[1]!MASTER_PANEL_SIZE_DESC[#Data],0),0))","v":""},{"$f":"IF('Sign (Desc)'!H155=\"\",\"\",'Sign (Desc)'!H155)","v":""}]
[{"$f":"IF('Sign (Desc)'!A156=\"\",\"\",'Sign (Desc)'!A156)","v":""},{"$f":"IF('Sign (Desc)'!B156=\"\",\"\",\"1987\")","v":""},{"$f":"IF('Sign (Desc)'!B156=\"\",\"\",'Sign (Desc)'!B156)","v":""},{"$f":"IF('Sign (Desc)'!C156=\"\",\"\",'Sign (Desc)'!C156)","v":""},{"$f":"IF('Sign (Desc)'!D156=\"\",\"\",'Sign (Desc)'!D156)","v":""},{"$f":"IF('Sign (Desc)'!E156=\"\",\"\",INDEX([1]SIGN_TYPE!$A$2:$A$40,MATCH('Sign (Desc)'!$E156,[1]!MASTER_SIGN_TYPE_DESC[#Data],0),0))","v":""},{"$f":"IF('Sign (Desc)'!F156=\"\",\"\",INDEX([1]SIGN_TEXT!$A$2:$A$40,MATCH('Sign (Desc)'!$F156,[1]!MASTER_SIGN_TEXT_DESC[#Data],0),0))","v":""},{"$f":"IF('Sign (Desc)'!G156=\"\",\"\",INDEX([1]PANEL_SIZE!$A$2:$A$40,MATCH('Sign (Desc)'!$G156,[1]!MASTER_PANEL_SIZE_DESC[#Data],0),0))","v":""},{"$f":"IF('Sign (Desc)'!H156=\"\",\"\",'Sign (Desc)'!H156)","v":""}]
[{"$f":"IF('Sign (Desc)'!A157=\"\",\"\",'Sign (Desc)'!A157)","v":""},{"$f":"IF('Sign (Desc)'!B157=\"\",\"\",\"1987\")","v":""},{"$f":"IF('Sign (Desc)'!B157=\"\",\"\",'Sign (Desc)'!B157)","v":""},{"$f":"IF('Sign (Desc)'!C157=\"\",\"\",'Sign (Desc)'!C157)","v":""},{"$f":"IF('Sign (Desc)'!D157=\"\",\"\",'Sign (Desc)'!D157)","v":""},{"$f":"IF('Sign (Desc)'!E157=\"\",\"\",INDEX([1]SIGN_TYPE!$A$2:$A$40,MATCH('Sign (Desc)'!$E157,[1]!MASTER_SIGN_TYPE_DESC[#Data],0),0))","v":""},{"$f":"IF('Sign (Desc)'!F157=\"\",\"\",INDEX([1]SIGN_TEXT!$A$2:$A$40,MATCH('Sign (Desc)'!$F157,[1]!MASTER_SIGN_TEXT_DESC[#Data],0),0))","v":""},{"$f":"IF('Sign (Desc)'!G157=\"\",\"\",INDEX([1]PANEL_SIZE!$A$2:$A$40,MATCH('Sign (Desc)'!$G157,[1]!MASTER_PANEL_SIZE_DESC[#Data],0),0))","v":""},{"$f":"IF('Sign (Desc)'!H157=\"\",\"\",'Sign (Desc)'!H157)","v":""}]
[{"$f":"IF('Sign (Desc)'!A158=\"\",\"\",'Sign (Desc)'!A158)","v":""},{"$f":"IF('Sign (Desc)'!B158=\"\",\"\",\"1987\")","v":""},{"$f":"IF('Sign (Desc)'!B158=\"\",\"\",'Sign (Desc)'!B158)","v":""},{"$f":"IF('Sign (Desc)'!C158=\"\",\"\",'Sign (Desc)'!C158)","v":""},{"$f":"IF('Sign (Desc)'!D158=\"\",\"\",'Sign (Desc)'!D158)","v":""},{"$f":"IF('Sign (Desc)'!E158=\"\",\"\",INDEX([1]SIGN_TYPE!$A$2:$A$40,MATCH('Sign (Desc)'!$E158,[1]!MASTER_SIGN_TYPE_DESC[#Data],0),0))","v":""},{"$f":"IF('Sign (Desc)'!F158=\"\",\"\",INDEX([1]SIGN_TEXT!$A$2:$A$40,MATCH('Sign (Desc)'!$F158,[1]!MASTER_SIGN_TEXT_DESC[#Data],0),0))","v":""},{"$f":"IF('Sign (Desc)'!G158=\"\",\"\",INDEX([1]PANEL_SIZE!$A$2:$A$40,MATCH('Sign (Desc)'!$G158,[1]!MASTER_PANEL_SIZE_DESC[#Data],0),0))","v":""},{"$f":"IF('Sign (Desc)'!H158=\"\",\"\",'Sign (Desc)'!H158)","v":""}]
[{"$f":"IF('Sign (Desc)'!A159=\"\",\"\",'Sign (Desc)'!A159)","v":""},{"$f":"IF('Sign (Desc)'!B159=\"\",\"\",\"1987\")","v":""},{"$f":"IF('Sign (Desc)'!B159=\"\",\"\",'Sign (Desc)'!B159)","v":""},{"$f":"IF('Sign (Desc)'!C159=\"\",\"\",'Sign (Desc)'!C159)","v":""},{"$f":"IF('Sign (Desc)'!D159=\"\",\"\",'Sign (Desc)'!D159)","v":""},{"$f":"IF('Sign (Desc)'!E159=\"\",\"\",INDEX([1]SIGN_TYPE!$A$2:$A$40,MATCH('Sign (Desc)'!$E159,[1]!MASTER_SIGN_TYPE_DESC[#Data],0),0))","v":""},{"$f":"IF('Sign (Desc)'!F159=\"\",\"\",INDEX([1]SIGN_TEXT!$A$2:$A$40,MATCH('Sign (Desc)'!$F159,[1]!MASTER_SIGN_TEXT_DESC[#Data],0),0))","v":""},{"$f":"IF('Sign (Desc)'!G159=\"\",\"\",INDEX([1]PANEL_SIZE!$A$2:$A$40,MATCH('Sign (Desc)'!$G159,[1]!MASTER_PANEL_SIZE_DESC[#Data],0),0))","v":""},{"$f":"IF('Sign (Desc)'!H159=\"\",\"\",'Sign (Desc)'!H159)","v":""}]
[{"$f":"IF('Sign (Desc)'!A160=\"\",\"\",'Sign (Desc)'!A160)","v":""},{"$f":"IF('Sign (Desc)'!B160=\"\",\"\",\"1987\")","v":""},{"$f":"IF('Sign (Desc)'!B160=\"\",\"\",'Sign (Desc)'!B160)","v":""},{"$f":"IF('Sign (Desc)'!C160=\"\",\"\",'Sign (Desc)'!C160)","v":""},{"$f":"IF('Sign (Desc)'!D160=\"\",\"\",'Sign (Desc)'!D160)","v":""},{"$f":"IF('Sign (Desc)'!E160=\"\",\"\",INDEX([1]SIGN_TYPE!$A$2:$A$40,MATCH('Sign (Desc)'!$E160,[1]!MASTER_SIGN_TYPE_DESC[#Data],0),0))","v":""},{"$f":"IF('Sign (Desc)'!F160=\"\",\"\",INDEX([1]SIGN_TEXT!$A$2:$A$40,MATCH('Sign (Desc)'!$F160,[1]!MASTER_SIGN_TEXT_DESC[#Data],0),0))","v":""},{"$f":"IF('Sign (Desc)'!G160=\"\",\"\",INDEX([1]PANEL_SIZE!$A$2:$A$40,MATCH('Sign (Desc)'!$G160,[1]!MASTER_PANEL_SIZE_DESC[#Data],0),0))","v":""},{"$f":"IF('Sign (Desc)'!H160=\"\",\"\",'Sign (Desc)'!H160)","v":""}]
[{"$f":"IF('Sign (Desc)'!A161=\"\",\"\",'Sign (Desc)'!A161)","v":""},{"$f":"IF('Sign (Desc)'!B161=\"\",\"\",\"1987\")","v":""},{"$f":"IF('Sign (Desc)'!B161=\"\",\"\",'Sign (Desc)'!B161)","v":""},{"$f":"IF('Sign (Desc)'!C161=\"\",\"\",'Sign (Desc)'!C161)","v":""},{"$f":"IF('Sign (Desc)'!D161=\"\",\"\",'Sign (Desc)'!D161)","v":""},{"$f":"IF('Sign (Desc)'!E161=\"\",\"\",INDEX([1]SIGN_TYPE!$A$2:$A$40,MATCH('Sign (Desc)'!$E161,[1]!MASTER_SIGN_TYPE_DESC[#Data],0),0))","v":""},{"$f":"IF('Sign (Desc)'!F161=\"\",\"\",INDEX([1]SIGN_TEXT!$A$2:$A$40,MATCH('Sign (Desc)'!$F161,[1]!MASTER_SIGN_TEXT_DESC[#Data],0),0))","v":""},{"$f":"IF('Sign (Desc)'!G161=\"\",\"\",INDEX([1]PANEL_SIZE!$A$2:$A$40,MATCH('Sign (Desc)'!$G161,[1]!MASTER_PANEL_SIZE_DESC[#Data],0),0))","v":""},{"$f":"IF('Sign (Desc)'!H161=\"\",\"\",'Sign (Desc)'!H161)","v":""}]
[{"$f":"IF('Sign (Desc)'!A162=\"\",\"\",'Sign (Desc)'!A162)","v":""},{"$f":"IF('Sign (Desc)'!B162=\"\",\"\",\"1987\")","v":""},{"$f":"IF('Sign (Desc)'!B162=\"\",\"\",'Sign (Desc)'!B162)","v":""},{"$f":"IF('Sign (Desc)'!C162=\"\",\"\",'Sign (Desc)'!C162)","v":""},{"$f":"IF('Sign (Desc)'!D162=\"\",\"\",'Sign (Desc)'!D162)","v":""},{"$f":"IF('Sign (Desc)'!E162=\"\",\"\",INDEX([1]SIGN_TYPE!$A$2:$A$40,MATCH('Sign (Desc)'!$E162,[1]!MASTER_SIGN_TYPE_DESC[#Data],0),0))","v":""},{"$f":"IF('Sign (Desc)'!F162=\"\",\"\",INDEX([1]SIGN_TEXT!$A$2:$A$40,MATCH('Sign (Desc)'!$F162,[1]!MASTER_SIGN_TEXT_DESC[#Data],0),0))","v":""},{"$f":"IF('Sign (Desc)'!G162=\"\",\"\",INDEX([1]PANEL_SIZE!$A$2:$A$40,MATCH('Sign (Desc)'!$G162,[1]!MASTER_PANEL_SIZE_DESC[#Data],0),0))","v":""},{"$f":"IF('Sign (Desc)'!H162=\"\",\"\",'Sign (Desc)'!H162)","v":""}]
[{"$f":"IF('Sign (Desc)'!A163=\"\",\"\",'Sign (Desc)'!A163)","v":""},{"$f":"IF('Sign (Desc)'!B163=\"\",\"\",\"1987\")","v":""},{"$f":"IF('Sign (Desc)'!B163=\"\",\"\",'Sign (Desc)'!B163)","v":""},{"$f":"IF('Sign (Desc)'!C163=\"\",\"\",'Sign (Desc)'!C163)","v":""},{"$f":"IF('Sign (Desc)'!D163=\"\",\"\",'Sign (Desc)'!D163)","v":""},{"$f":"IF('Sign (Desc)'!E163=\"\",\"\",INDEX([1]SIGN_TYPE!$A$2:$A$40,MATCH('Sign (Desc)'!$E163,[1]!MASTER_SIGN_TYPE_DESC[#Data],0),0))","v":""},{"$f":"IF('Sign (Desc)'!F163=\"\",\"\",INDEX([1]SIGN_TEXT!$A$2:$A$40,MATCH('Sign (Desc)'!$F163,[1]!MASTER_SIGN_TEXT_DESC[#Data],0),0))","v":""},{"$f":"IF('Sign (Desc)'!G163=\"\",\"\",INDEX([1]PANEL_SIZE!$A$2:$A$40,MATCH('Sign (Desc)'!$G163,[1]!MASTER_PANEL_SIZE_DESC[#Data],0),0))","v":""},{"$f":"IF('Sign (Desc)'!H163=\"\",\"\",'Sign (Desc)'!H163)","v":""}]
[{"$f":"IF('Sign (Desc)'!A164=\"\",\"\",'Sign (Desc)'!A164)","v":""},{"$f":"IF('Sign (Desc)'!B164=\"\",\"\",\"1987\")","v":""},{"$f":"IF('Sign (Desc)'!B164=\"\",\"\",'Sign (Desc)'!B164)","v":""},{"$f":"IF('Sign (Desc)'!C164=\"\",\"\",'Sign (Desc)'!C164)","v":""},{"$f":"IF('Sign (Desc)'!D164=\"\",\"\",'Sign (Desc)'!D164)","v":""},{"$f":"IF('Sign (Desc)'!E164=\"\",\"\",INDEX([1]SIGN_TYPE!$A$2:$A$40,MATCH('Sign (Desc)'!$E164,[1]!MASTER_SIGN_TYPE_DESC[#Data],0),0))","v":""},{"$f":"IF('Sign (Desc)'!F164=\"\",\"\",INDEX([1]SIGN_TEXT!$A$2:$A$40,MATCH('Sign (Desc)'!$F164,[1]!MASTER_SIGN_TEXT_DESC[#Data],0),0))","v":""},{"$f":"IF('Sign (Desc)'!G164=\"\",\"\",INDEX([1]PANEL_SIZE!$A$2:$A$40,MATCH('Sign (Desc)'!$G164,[1]!MASTER_PANEL_SIZE_DESC[#Data],0),0))","v":""},{"$f":"IF('Sign (Desc)'!H164=\"\",\"\",'Sign (Desc)'!H164)","v":""}]
[{"$f":"IF('Sign (Desc)'!A165=\"\",\"\",'Sign (Desc)'!A165)","v":""},{"$f":"IF('Sign (Desc)'!B165=\"\",\"\",\"1987\")","v":""},{"$f":"IF('Sign (Desc)'!B165=\"\",\"\",'Sign (Desc)'!B165)","v":""},{"$f":"IF('Sign (Desc)'!C165=\"\",\"\",'Sign (Desc)'!C165)","v":""},{"$f":"IF('Sign (Desc)'!D165=\"\",\"\",'Sign (Desc)'!D165)","v":""},{"$f":"IF('Sign (Desc)'!E165=\"\",\"\",INDEX([1]SIGN_TYPE!$A$2:$A$40,MATCH('Sign (Desc)'!$E165,[1]!MASTER_SIGN_TYPE_DESC[#Data],0),0))","v":""},{"$f":"IF('Sign (Desc)'!F165=\"\",\"\",INDEX([1]SIGN_TEXT!$A$2:$A$40,MATCH('Sign (Desc)'!$F165,[1]!MASTER_SIGN_TEXT_DESC[#Data],0),0))","v":""},{"$f":"IF('Sign (Desc)'!G165=\"\",\"\",INDEX([1]PANEL_SIZE!$A$2:$A$40,MATCH('Sign (Desc)'!$G165,[1]!MASTER_PANEL_SIZE_DESC[#Data],0),0))","v":""},{"$f":"IF('Sign (Desc)'!H165=\"\",\"\",'Sign (Desc)'!H165)","v":""}]
[{"$f":"IF('Sign (Desc)'!A166=\"\",\"\",'Sign (Desc)'!A166)","v":""},{"$f":"IF('Sign (Desc)'!B166=\"\",\"\",\"1987\")","v":""},{"$f":"IF('Sign (Desc)'!B166=\"\",\"\",'Sign (Desc)'!B166)","v":""},{"$f":"IF('Sign (Desc)'!C166=\"\",\"\",'Sign (Desc)'!C166)","v":""},{"$f":"IF('Sign (Desc)'!D166=\"\",\"\",'Sign (Desc)'!D166)","v":""},{"$f":"IF('Sign (Desc)'!E166=\"\",\"\",INDEX([1]SIGN_TYPE!$A$2:$A$40,MATCH('Sign (Desc)'!$E166,[1]!MASTER_SIGN_TYPE_DESC[#Data],0),0))","v":""},{"$f":"IF('Sign (Desc)'!F166=\"\",\"\",INDEX([1]SIGN_TEXT!$A$2:$A$40,MATCH('Sign (Desc)'!$F166,[1]!MASTER_SIGN_TEXT_DESC[#Data],0),0))","v":""},{"$f":"IF('Sign (Desc)'!G166=\"\",\"\",INDEX([1]PANEL_SIZE!$A$2:$A$40,MATCH('Sign (Desc)'!$G166,[1]!MASTER_PANEL_SIZE_DESC[#Data],0),0))","v":""},{"$f":"IF('Sign (Desc)'!H166=\"\",\"\",'Sign (Desc)'!H166)","v":""}]
[{"$f":"IF('Sign (Desc)'!A167=\"\",\"\",'Sign (Desc)'!A167)","v":""},{"$f":"IF('Sign (Desc)'!B167=\"\",\"\",\"1987\")","v":""},{"$f":"IF('Sign (Desc)'!B167=\"\",\"\",'Sign (Desc)'!B167)","v":""},{"$f":"IF('Sign (Desc)'!C167=\"\",\"\",'Sign (Desc)'!C167)","v":""},{"$f":"IF('Sign (Desc)'!D167=\"\",\"\",'Sign (Desc)'!D167)","v":""},{"$f":"IF('Sign (Desc)'!E167=\"\",\"\",INDEX([1]SIGN_TYPE!$A$2:$A$40,MATCH('Sign (Desc)'!$E167,[1]!MASTER_SIGN_TYPE_DESC[#Data],0),0))","v":""},{"$f":"IF('Sign (Desc)'!F167=\"\",\"\",INDEX([1]SIGN_TEXT!$A$2:$A$40,MATCH('Sign (Desc)'!$F167,[1]!MASTER_SIGN_TEXT_DESC[#Data],0),0))","v":""},{"$f":"IF('Sign (Desc)'!G167=\"\",\"\",INDEX([1]PANEL_SIZE!$A$2:$A$40,MATCH('Sign (Desc)'!$G167,[1]!MASTER_PANEL_SIZE_DESC[#Data],0),0))","v":""},{"$f":"IF('Sign (Desc)'!H167=\"\",\"\",'Sign (Desc)'!H167)","v":""}]
[{"$f":"IF('Sign (Desc)'!A168=\"\",\"\",'Sign (Desc)'!A168)","v":""},{"$f":"IF('Sign (Desc)'!B168=\"\",\"\",\"1987\")","v":""},{"$f":"IF('Sign (Desc)'!B168=\"\",\"\",'Sign (Desc)'!B168)","v":""},{"$f":"IF('Sign (Desc)'!C168=\"\",\"\",'Sign (Desc)'!C168)","v":""},{"$f":"IF('Sign (Desc)'!D168=\"\",\"\",'Sign (Desc)'!D168)","v":""},{"$f":"IF('Sign (Desc)'!E168=\"\",\"\",INDEX([1]SIGN_TYPE!$A$2:$A$40,MATCH('Sign (Desc)'!$E168,[1]!MASTER_SIGN_TYPE_DESC[#Data],0),0))","v":""},{"$f":"IF('Sign (Desc)'!F168=\"\",\"\",INDEX([1]SIGN_TEXT!$A$2:$A$40,MATCH('Sign (Desc)'!$F168,[1]!MASTER_SIGN_TEXT_DESC[#Data],0),0))","v":""},{"$f":"IF('Sign (Desc)'!G168=\"\",\"\",INDEX([1]PANEL_SIZE!$A$2:$A$40,MATCH('Sign (Desc)'!$G168,[1]!MASTER_PANEL_SIZE_DESC[#Data],0),0))","v":""},{"$f":"IF('Sign (Desc)'!H168=\"\",\"\",'Sign (Desc)'!H168)","v":""}]
[{"$f":"IF('Sign (Desc)'!A169=\"\",\"\",'Sign (Desc)'!A169)","v":""},{"$f":"IF('Sign (Desc)'!B169=\"\",\"\",\"1987\")","v":""},{"$f":"IF('Sign (Desc)'!B169=\"\",\"\",'Sign (Desc)'!B169)","v":""},{"$f":"IF('Sign (Desc)'!C169=\"\",\"\",'Sign (Desc)'!C169)","v":""},{"$f":"IF('Sign (Desc)'!D169=\"\",\"\",'Sign (Desc)'!D169)","v":""},{"$f":"IF('Sign (Desc)'!E169=\"\",\"\",INDEX([1]SIGN_TYPE!$A$2:$A$40,MATCH('Sign (Desc)'!$E169,[1]!MASTER_SIGN_TYPE_DESC[#Data],0),0))","v":""},{"$f":"IF('Sign (Desc)'!F169=\"\",\"\",INDEX([1]SIGN_TEXT!$A$2:$A$40,MATCH('Sign (Desc)'!$F169,[1]!MASTER_SIGN_TEXT_DESC[#Data],0),0))","v":""},{"$f":"IF('Sign (Desc)'!G169=\"\",\"\",INDEX([1]PANEL_SIZE!$A$2:$A$40,MATCH('Sign (Desc)'!$G169,[1]!MASTER_PANEL_SIZE_DESC[#Data],0),0))","v":""},{"$f":"IF('Sign (Desc)'!H169=\"\",\"\",'Sign (Desc)'!H169)","v":""}]
[{"$f":"IF('Sign (Desc)'!A170=\"\",\"\",'Sign (Desc)'!A170)","v":""},{"$f":"IF('Sign (Desc)'!B170=\"\",\"\",\"1987\")","v":""},{"$f":"IF('Sign (Desc)'!B170=\"\",\"\",'Sign (Desc)'!B170)","v":""},{"$f":"IF('Sign (Desc)'!C170=\"\",\"\",'Sign (Desc)'!C170)","v":""},{"$f":"IF('Sign (Desc)'!D170=\"\",\"\",'Sign (Desc)'!D170)","v":""},{"$f":"IF('Sign (Desc)'!E170=\"\",\"\",INDEX([1]SIGN_TYPE!$A$2:$A$40,MATCH('Sign (Desc)'!$E170,[1]!MASTER_SIGN_TYPE_DESC[#Data],0),0))","v":""},{"$f":"IF('Sign (Desc)'!F170=\"\",\"\",INDEX([1]SIGN_TEXT!$A$2:$A$40,MATCH('Sign (Desc)'!$F170,[1]!MASTER_SIGN_TEXT_DESC[#Data],0),0))","v":""},{"$f":"IF('Sign (Desc)'!G170=\"\",\"\",INDEX([1]PANEL_SIZE!$A$2:$A$40,MATCH('Sign (Desc)'!$G170,[1]!MASTER_PANEL_SIZE_DESC[#Data],0),0))","v":""},{"$f":"IF('Sign (Desc)'!H170=\"\",\"\",'Sign (Desc)'!H170)","v":""}]
[{"$f":"IF('Sign (Desc)'!A171=\"\",\"\",'Sign (Desc)'!A171)","v":""},{"$f":"IF('Sign (Desc)'!B171=\"\",\"\",\"1987\")","v":""},{"$f":"IF('Sign (Desc)'!B171=\"\",\"\",'Sign (Desc)'!B171)","v":""},{"$f":"IF('Sign (Desc)'!C171=\"\",\"\",'Sign (Desc)'!C171)","v":""},{"$f":"IF('Sign (Desc)'!D171=\"\",\"\",'Sign (Desc)'!D171)","v":""},{"$f":"IF('Sign (Desc)'!E171=\"\",\"\",INDEX([1]SIGN_TYPE!$A$2:$A$40,MATCH('Sign (Desc)'!$E171,[1]!MASTER_SIGN_TYPE_DESC[#Data],0),0))","v":""},{"$f":"IF('Sign (Desc)'!F171=\"\",\"\",INDEX([1]SIGN_TEXT!$A$2:$A$40,MATCH('Sign (Desc)'!$F171,[1]!MASTER_SIGN_TEXT_DESC[#Data],0),0))","v":""},{"$f":"IF('Sign (Desc)'!G171=\"\",\"\",INDEX([1]PANEL_SIZE!$A$2:$A$40,MATCH('Sign (Desc)'!$G171,[1]!MASTER_PANEL_SIZE_DESC[#Data],0),0))","v":""},{"$f":"IF('Sign (Desc)'!H171=\"\",\"\",'Sign (Desc)'!H171)","v":""}]
[{"$f":"IF('Sign (Desc)'!A172=\"\",\"\",'Sign (Desc)'!A172)","v":""},{"$f":"IF('Sign (Desc)'!B172=\"\",\"\",\"1987\")","v":""},{"$f":"IF('Sign (Desc)'!B172=\"\",\"\",'Sign (Desc)'!B172)","v":""},{"$f":"IF('Sign (Desc)'!C172=\"\",\"\",'Sign (Desc)'!C172)","v":""},{"$f":"IF('Sign (Desc)'!D172=\"\",\"\",'Sign (Desc)'!D172)","v":""},{"$f":"IF('Sign (Desc)'!E172=\"\",\"\",INDEX([1]SIGN_TYPE!$A$2:$A$40,MATCH('Sign (Desc)'!$E172,[1]!MASTER_SIGN_TYPE_DESC[#Data],0),0))","v":""},{"$f":"IF('Sign (Desc)'!F172=\"\",\"\",INDEX([1]SIGN_TEXT!$A$2:$A$40,MATCH('Sign (Desc)'!$F172,[1]!MASTER_SIGN_TEXT_DESC[#Data],0),0))","v":""},{"$f":"IF('Sign (Desc)'!G172=\"\",\"\",INDEX([1]PANEL_SIZE!$A$2:$A$40,MATCH('Sign (Desc)'!$G172,[1]!MASTER_PANEL_SIZE_DESC[#Data],0),0))","v":""},{"$f":"IF('Sign (Desc)'!H172=\"\",\"\",'Sign (Desc)'!H172)","v":""}]
[{"$f":"IF('Sign (Desc)'!A173=\"\",\"\",'Sign (Desc)'!A173)","v":""},{"$f":"IF('Sign (Desc)'!B173=\"\",\"\",\"1987\")","v":""},{"$f":"IF('Sign (Desc)'!B173=\"\",\"\",'Sign (Desc)'!B173)","v":""},{"$f":"IF('Sign (Desc)'!C173=\"\",\"\",'Sign (Desc)'!C173)","v":""},{"$f":"IF('Sign (Desc)'!D173=\"\",\"\",'Sign (Desc)'!D173)","v":""},{"$f":"IF('Sign (Desc)'!E173=\"\",\"\",INDEX([1]SIGN_TYPE!$A$2:$A$40,MATCH('Sign (Desc)'!$E173,[1]!MASTER_SIGN_TYPE_DESC[#Data],0),0))","v":""},{"$f":"IF('Sign (Desc)'!F173=\"\",\"\",INDEX([1]SIGN_TEXT!$A$2:$A$40,MATCH('Sign (Desc)'!$F173,[1]!MASTER_SIGN_TEXT_DESC[#Data],0),0))","v":""},{"$f":"IF('Sign (Desc)'!G173=\"\",\"\",INDEX([1]PANEL_SIZE!$A$2:$A$40,MATCH('Sign (Desc)'!$G173,[1]!MASTER_PANEL_SIZE_DESC[#Data],0),0))","v":""},{"$f":"IF('Sign (Desc)'!H173=\"\",\"\",'Sign (Desc)'!H173)","v":""}]
[{"$f":"IF('Sign (Desc)'!A174=\"\",\"\",'Sign (Desc)'!A174)","v":""},{"$f":"IF('Sign (Desc)'!B174=\"\",\"\",\"1987\")","v":""},{"$f":"IF('Sign (Desc)'!B174=\"\",\"\",'Sign (Desc)'!B174)","v":""},{"$f":"IF('Sign (Desc)'!C174=\"\",\"\",'Sign (Desc)'!C174)","v":""},{"$f":"IF('Sign (Desc)'!D174=\"\",\"\",'Sign (Desc)'!D174)","v":""},{"$f":"IF('Sign (Desc)'!E174=\"\",\"\",INDEX([1]SIGN_TYPE!$A$2:$A$40,MATCH('Sign (Desc)'!$E174,[1]!MASTER_SIGN_TYPE_DESC[#Data],0),0))","v":""},{"$f":"IF('Sign (Desc)'!F174=\"\",\"\",INDEX([1]SIGN_TEXT!$A$2:$A$40,MATCH('Sign (Desc)'!$F174,[1]!MASTER_SIGN_TEXT_DESC[#Data],0),0))","v":""},{"$f":"IF('Sign (Desc)'!G174=\"\",\"\",INDEX([1]PANEL_SIZE!$A$2:$A$40,MATCH('Sign (Desc)'!$G174,[1]!MASTER_PANEL_SIZE_DESC[#Data],0),0))","v":""},{"$f":"IF('Sign (Desc)'!H174=\"\",\"\",'Sign (Desc)'!H174)","v":""}]
[{"$f":"IF('Sign (Desc)'!A175=\"\",\"\",'Sign (Desc)'!A175)","v":""},{"$f":"IF('Sign (Desc)'!B175=\"\",\"\",\"1987\")","v":""},{"$f":"IF('Sign (Desc)'!B175=\"\",\"\",'Sign (Desc)'!B175)","v":""},{"$f":"IF('Sign (Desc)'!C175=\"\",\"\",'Sign (Desc)'!C175)","v":""},{"$f":"IF('Sign (Desc)'!D175=\"\",\"\",'Sign (Desc)'!D175)","v":""},{"$f":"IF('Sign (Desc)'!E175=\"\",\"\",INDEX([1]SIGN_TYPE!$A$2:$A$40,MATCH('Sign (Desc)'!$E175,[1]!MASTER_SIGN_TYPE_DESC[#Data],0),0))","v":""},{"$f":"IF('Sign (Desc)'!F175=\"\",\"\",INDEX([1]SIGN_TEXT!$A$2:$A$40,MATCH('Sign (Desc)'!$F175,[1]!MASTER_SIGN_TEXT_DESC[#Data],0),0))","v":""},{"$f":"IF('Sign (Desc)'!G175=\"\",\"\",INDEX([1]PANEL_SIZE!$A$2:$A$40,MATCH('Sign (Desc)'!$G175,[1]!MASTER_PANEL_SIZE_DESC[#Data],0),0))","v":""},{"$f":"IF('Sign (Desc)'!H175=\"\",\"\",'Sign (Desc)'!H175)","v":""}]
[{"$f":"IF('Sign (Desc)'!A176=\"\",\"\",'Sign (Desc)'!A176)","v":""},{"$f":"IF('Sign (Desc)'!B176=\"\",\"\",\"1987\")","v":""},{"$f":"IF('Sign (Desc)'!B176=\"\",\"\",'Sign (Desc)'!B176)","v":""},{"$f":"IF('Sign (Desc)'!C176=\"\",\"\",'Sign (Desc)'!C176)","v":""},{"$f":"IF('Sign (Desc)'!D176=\"\",\"\",'Sign (Desc)'!D176)","v":""},{"$f":"IF('Sign (Desc)'!E176=\"\",\"\",INDEX([1]SIGN_TYPE!$A$2:$A$40,MATCH('Sign (Desc)'!$E176,[1]!MASTER_SIGN_TYPE_DESC[#Data],0),0))","v":""},{"$f":"IF('Sign (Desc)'!F176=\"\",\"\",INDEX([1]SIGN_TEXT!$A$2:$A$40,MATCH('Sign (Desc)'!$F176,[1]!MASTER_SIGN_TEXT_DESC[#Data],0),0))","v":""},{"$f":"IF('Sign (Desc)'!G176=\"\",\"\",INDEX([1]PANEL_SIZE!$A$2:$A$40,MATCH('Sign (Desc)'!$G176,[1]!MASTER_PANEL_SIZE_DESC[#Data],0),0))","v":""},{"$f":"IF('Sign (Desc)'!H176=\"\",\"\",'Sign (Desc)'!H176)","v":""}]
[{"$f":"IF('Sign (Desc)'!A177=\"\",\"\",'Sign (Desc)'!A177)","v":""},{"$f":"IF('Sign (Desc)'!B177=\"\",\"\",\"1987\")","v":""},{"$f":"IF('Sign (Desc)'!B177=\"\",\"\",'Sign (Desc)'!B177)","v":""},{"$f":"IF('Sign (Desc)'!C177=\"\",\"\",'Sign (Desc)'!C177)","v":""},{"$f":"IF('Sign (Desc)'!D177=\"\",\"\",'Sign (Desc)'!D177)","v":""},{"$f":"IF('Sign (Desc)'!E177=\"\",\"\",INDEX([1]SIGN_TYPE!$A$2:$A$40,MATCH('Sign (Desc)'!$E177,[1]!MASTER_SIGN_TYPE_DESC[#Data],0),0))","v":""},{"$f":"IF('Sign (Desc)'!F177=\"\",\"\",INDEX([1]SIGN_TEXT!$A$2:$A$40,MATCH('Sign (Desc)'!$F177,[1]!MASTER_SIGN_TEXT_DESC[#Data],0),0))","v":""},{"$f":"IF('Sign (Desc)'!G177=\"\",\"\",INDEX([1]PANEL_SIZE!$A$2:$A$40,MATCH('Sign (Desc)'!$G177,[1]!MASTER_PANEL_SIZE_DESC[#Data],0),0))","v":""},{"$f":"IF('Sign (Desc)'!H177=\"\",\"\",'Sign (Desc)'!H177)","v":""}]
[{"$f":"IF('Sign (Desc)'!A178=\"\",\"\",'Sign (Desc)'!A178)","v":""},{"$f":"IF('Sign (Desc)'!B178=\"\",\"\",\"1987\")","v":""},{"$f":"IF('Sign (Desc)'!B178=\"\",\"\",'Sign (Desc)'!B178)","v":""},{"$f":"IF('Sign (Desc)'!C178=\"\",\"\",'Sign (Desc)'!C178)","v":""},{"$f":"IF('Sign (Desc)'!D178=\"\",\"\",'Sign (Desc)'!D178)","v":""},{"$f":"IF('Sign (Desc)'!E178=\"\",\"\",INDEX([1]SIGN_TYPE!$A$2:$A$40,MATCH('Sign (Desc)'!$E178,[1]!MASTER_SIGN_TYPE_DESC[#Data],0),0))","v":""},{"$f":"IF('Sign (Desc)'!F178=\"\",\"\",INDEX([1]SIGN_TEXT!$A$2:$A$40,MATCH('Sign (Desc)'!$F178,[1]!MASTER_SIGN_TEXT_DESC[#Data],0),0))","v":""},{"$f":"IF('Sign (Desc)'!G178=\"\",\"\",INDEX([1]PANEL_SIZE!$A$2:$A$40,MATCH('Sign (Desc)'!$G178,[1]!MASTER_PANEL_SIZE_DESC[#Data],0),0))","v":""},{"$f":"IF('Sign (Desc)'!H178=\"\",\"\",'Sign (Desc)'!H178)","v":""}]
[{"$f":"IF('Sign (Desc)'!A179=\"\",\"\",'Sign (Desc)'!A179)","v":""},{"$f":"IF('Sign (Desc)'!B179=\"\",\"\",\"1987\")","v":""},{"$f":"IF('Sign (Desc)'!B179=\"\",\"\",'Sign (Desc)'!B179)","v":""},{"$f":"IF('Sign (Desc)'!C179=\"\",\"\",'Sign (Desc)'!C179)","v":""},{"$f":"IF('Sign (Desc)'!D179=\"\",\"\",'Sign (Desc)'!D179)","v":""},{"$f":"IF('Sign (Desc)'!E179=\"\",\"\",INDEX([1]SIGN_TYPE!$A$2:$A$40,MATCH('Sign (Desc)'!$E179,[1]!MASTER_SIGN_TYPE_DESC[#Data],0),0))","v":""},{"$f":"IF('Sign (Desc)'!F179=\"\",\"\",INDEX([1]SIGN_TEXT!$A$2:$A$40,MATCH('Sign (Desc)'!$F179,[1]!MASTER_SIGN_TEXT_DESC[#Data],0),0))","v":""},{"$f":"IF('Sign (Desc)'!G179=\"\",\"\",INDEX([1]PANEL_SIZE!$A$2:$A$40,MATCH('Sign (Desc)'!$G179,[1]!MASTER_PANEL_SIZE_DESC[#Data],0),0))","v":""},{"$f":"IF('Sign (Desc)'!H179=\"\",\"\",'Sign (Desc)'!H179)","v":""}]
[{"$f":"IF('Sign (Desc)'!A180=\"\",\"\",'Sign (Desc)'!A180)","v":""},{"$f":"IF('Sign (Desc)'!B180=\"\",\"\",\"1987\")","v":""},{"$f":"IF('Sign (Desc)'!B180=\"\",\"\",'Sign (Desc)'!B180)","v":""},{"$f":"IF('Sign (Desc)'!C180=\"\",\"\",'Sign (Desc)'!C180)","v":""},{"$f":"IF('Sign (Desc)'!D180=\"\",\"\",'Sign (Desc)'!D180)","v":""},{"$f":"IF('Sign (Desc)'!E180=\"\",\"\",INDEX([1]SIGN_TYPE!$A$2:$A$40,MATCH('Sign (Desc)'!$E180,[1]!MASTER_SIGN_TYPE_DESC[#Data],0),0))","v":""},{"$f":"IF('Sign (Desc)'!F180=\"\",\"\",INDEX([1]SIGN_TEXT!$A$2:$A$40,MATCH('Sign (Desc)'!$F180,[1]!MASTER_SIGN_TEXT_DESC[#Data],0),0))","v":""},{"$f":"IF('Sign (Desc)'!G180=\"\",\"\",INDEX([1]PANEL_SIZE!$A$2:$A$40,MATCH('Sign (Desc)'!$G180,[1]!MASTER_PANEL_SIZE_DESC[#Data],0),0))","v":""},{"$f":"IF('Sign (Desc)'!H180=\"\",\"\",'Sign (Desc)'!H180)","v":""}]
[{"$f":"IF('Sign (Desc)'!A181=\"\",\"\",'Sign (Desc)'!A181)","v":""},{"$f":"IF('Sign (Desc)'!B181=\"\",\"\",\"1987\")","v":""},{"$f":"IF('Sign (Desc)'!B181=\"\",\"\",'Sign (Desc)'!B181)","v":""},{"$f":"IF('Sign (Desc)'!C181=\"\",\"\",'Sign (Desc)'!C181)","v":""},{"$f":"IF('Sign (Desc)'!D181=\"\",\"\",'Sign (Desc)'!D181)","v":""},{"$f":"IF('Sign (Desc)'!E181=\"\",\"\",INDEX([1]SIGN_TYPE!$A$2:$A$40,MATCH('Sign (Desc)'!$E181,[1]!MASTER_SIGN_TYPE_DESC[#Data],0),0))","v":""},{"$f":"IF('Sign (Desc)'!F181=\"\",\"\",INDEX([1]SIGN_TEXT!$A$2:$A$40,MATCH('Sign (Desc)'!$F181,[1]!MASTER_SIGN_TEXT_DESC[#Data],0),0))","v":""},{"$f":"IF('Sign (Desc)'!G181=\"\",\"\",INDEX([1]PANEL_SIZE!$A$2:$A$40,MATCH('Sign (Desc)'!$G181,[1]!MASTER_PANEL_SIZE_DESC[#Data],0),0))","v":""},{"$f":"IF('Sign (Desc)'!H181=\"\",\"\",'Sign (Desc)'!H181)","v":""}]
[{"$f":"IF('Sign (Desc)'!A182=\"\",\"\",'Sign (Desc)'!A182)","v":""},{"$f":"IF('Sign (Desc)'!B182=\"\",\"\",\"1987\")","v":""},{"$f":"IF('Sign (Desc)'!B182=\"\",\"\",'Sign (Desc)'!B182)","v":""},{"$f":"IF('Sign (Desc)'!C182=\"\",\"\",'Sign (Desc)'!C182)","v":""},{"$f":"IF('Sign (Desc)'!D182=\"\",\"\",'Sign (Desc)'!D182)","v":""},{"$f":"IF('Sign (Desc)'!E182=\"\",\"\",INDEX([1]SIGN_TYPE!$A$2:$A$40,MATCH('Sign (Desc)'!$E182,[1]!MASTER_SIGN_TYPE_DESC[#Data],0),0))","v":""},{"$f":"IF('Sign (Desc)'!F182=\"\",\"\",INDEX([1]SIGN_TEXT!$A$2:$A$40,MATCH('Sign (Desc)'!$F182,[1]!MASTER_SIGN_TEXT_DESC[#Data],0),0))","v":""},{"$f":"IF('Sign (Desc)'!G182=\"\",\"\",INDEX([1]PANEL_SIZE!$A$2:$A$40,MATCH('Sign (Desc)'!$G182,[1]!MASTER_PANEL_SIZE_DESC[#Data],0),0))","v":""},{"$f":"IF('Sign (Desc)'!H182=\"\",\"\",'Sign (Desc)'!H182)","v":""}]
[{"$f":"IF('Sign (Desc)'!A183=\"\",\"\",'Sign (Desc)'!A183)","v":""},{"$f":"IF('Sign (Desc)'!B183=\"\",\"\",\"1987\")","v":""},{"$f":"IF('Sign (Desc)'!B183=\"\",\"\",'Sign (Desc)'!B183)","v":""},{"$f":"IF('Sign (Desc)'!C183=\"\",\"\",'Sign (Desc)'!C183)","v":""},{"$f":"IF('Sign (Desc)'!D183=\"\",\"\",'Sign (Desc)'!D183)","v":""},{"$f":"IF('Sign (Desc)'!E183=\"\",\"\",INDEX([1]SIGN_TYPE!$A$2:$A$40,MATCH('Sign (Desc)'!$E183,[1]!MASTER_SIGN_TYPE_DESC[#Data],0),0))","v":""},{"$f":"IF('Sign (Desc)'!F183=\"\",\"\",INDEX([1]SIGN_TEXT!$A$2:$A$40,MATCH('Sign (Desc)'!$F183,[1]!MASTER_SIGN_TEXT_DESC[#Data],0),0))","v":""},{"$f":"IF('Sign (Desc)'!G183=\"\",\"\",INDEX([1]PANEL_SIZE!$A$2:$A$40,MATCH('Sign (Desc)'!$G183,[1]!MASTER_PANEL_SIZE_DESC[#Data],0),0))","v":""},{"$f":"IF('Sign (Desc)'!H183=\"\",\"\",'Sign (Desc)'!H183)","v":""}]
[{"$f":"IF('Sign (Desc)'!A184=\"\",\"\",'Sign (Desc)'!A184)","v":""},{"$f":"IF('Sign (Desc)'!B184=\"\",\"\",\"1987\")","v":""},{"$f":"IF('Sign (Desc)'!B184=\"\",\"\",'Sign (Desc)'!B184)","v":""},{"$f":"IF('Sign (Desc)'!C184=\"\",\"\",'Sign (Desc)'!C184)","v":""},{"$f":"IF('Sign (Desc)'!D184=\"\",\"\",'Sign (Desc)'!D184)","v":""},{"$f":"IF('Sign (Desc)'!E184=\"\",\"\",INDEX([1]SIGN_TYPE!$A$2:$A$40,MATCH('Sign (Desc)'!$E184,[1]!MASTER_SIGN_TYPE_DESC[#Data],0),0))","v":""},{"$f":"IF('Sign (Desc)'!F184=\"\",\"\",INDEX([1]SIGN_TEXT!$A$2:$A$40,MATCH('Sign (Desc)'!$F184,[1]!MASTER_SIGN_TEXT_DESC[#Data],0),0))","v":""},{"$f":"IF('Sign (Desc)'!G184=\"\",\"\",INDEX([1]PANEL_SIZE!$A$2:$A$40,MATCH('Sign (Desc)'!$G184,[1]!MASTER_PANEL_SIZE_DESC[#Data],0),0))","v":""},{"$f":"IF('Sign (Desc)'!H184=\"\",\"\",'Sign (Desc)'!H184)","v":""}]
[{"$f":"IF('Sign (Desc)'!A185=\"\",\"\",'Sign (Desc)'!A185)","v":""},{"$f":"IF('Sign (Desc)'!B185=\"\",\"\",\"1987\")","v":""},{"$f":"IF('Sign (Desc)'!B185=\"\",\"\",'Sign (Desc)'!B185)","v":""},{"$f":"IF('Sign (Desc)'!C185=\"\",\"\",'Sign (Desc)'!C185)","v":""},{"$f":"IF('Sign (Desc)'!D185=\"\",\"\",'Sign (Desc)'!D185)","v":""},{"$f":"IF('Sign (Desc)'!E185=\"\",\"\",INDEX([1]SIGN_TYPE!$A$2:$A$40,MATCH('Sign (Desc)'!$E185,[1]!MASTER_SIGN_TYPE_DESC[#Data],0),0))","v":""},{"$f":"IF('Sign (Desc)'!F185=\"\",\"\",INDEX([1]SIGN_TEXT!$A$2:$A$40,MATCH('Sign (Desc)'!$F185,[1]!MASTER_SIGN_TEXT_DESC[#Data],0),0))","v":""},{"$f":"IF('Sign (Desc)'!G185=\"\",\"\",INDEX([1]PANEL_SIZE!$A$2:$A$40,MATCH('Sign (Desc)'!$G185,[1]!MASTER_PANEL_SIZE_DESC[#Data],0),0))","v":""},{"$f":"IF('Sign (Desc)'!H185=\"\",\"\",'Sign (Desc)'!H185)","v":""}]
[{"$f":"IF('Sign (Desc)'!A186=\"\",\"\",'Sign (Desc)'!A186)","v":""},{"$f":"IF('Sign (Desc)'!B186=\"\",\"\",\"1987\")","v":""},{"$f":"IF('Sign (Desc)'!B186=\"\",\"\",'Sign (Desc)'!B186)","v":""},{"$f":"IF('Sign (Desc)'!C186=\"\",\"\",'Sign (Desc)'!C186)","v":""},{"$f":"IF('Sign (Desc)'!D186=\"\",\"\",'Sign (Desc)'!D186)","v":""},{"$f":"IF('Sign (Desc)'!E186=\"\",\"\",INDEX([1]SIGN_TYPE!$A$2:$A$40,MATCH('Sign (Desc)'!$E186,[1]!MASTER_SIGN_TYPE_DESC[#Data],0),0))","v":""},{"$f":"IF('Sign (Desc)'!F186=\"\",\"\",INDEX([1]SIGN_TEXT!$A$2:$A$40,MATCH('Sign (Desc)'!$F186,[1]!MASTER_SIGN_TEXT_DESC[#Data],0),0))","v":""},{"$f":"IF('Sign (Desc)'!G186=\"\",\"\",INDEX([1]PANEL_SIZE!$A$2:$A$40,MATCH('Sign (Desc)'!$G186,[1]!MASTER_PANEL_SIZE_DESC[#Data],0),0))","v":""},{"$f":"IF('Sign (Desc)'!H186=\"\",\"\",'Sign (Desc)'!H186)","v":""}]
[{"$f":"IF('Sign (Desc)'!A187=\"\",\"\",'Sign (Desc)'!A187)","v":""},{"$f":"IF('Sign (Desc)'!B187=\"\",\"\",\"1987\")","v":""},{"$f":"IF('Sign (Desc)'!B187=\"\",\"\",'Sign (Desc)'!B187)","v":""},{"$f":"IF('Sign (Desc)'!C187=\"\",\"\",'Sign (Desc)'!C187)","v":""},{"$f":"IF('Sign (Desc)'!D187=\"\",\"\",'Sign (Desc)'!D187)","v":""},{"$f":"IF('Sign (Desc)'!E187=\"\",\"\",INDEX([1]SIGN_TYPE!$A$2:$A$40,MATCH('Sign (Desc)'!$E187,[1]!MASTER_SIGN_TYPE_DESC[#Data],0),0))","v":""},{"$f":"IF('Sign (Desc)'!F187=\"\",\"\",INDEX([1]SIGN_TEXT!$A$2:$A$40,MATCH('Sign (Desc)'!$F187,[1]!MASTER_SIGN_TEXT_DESC[#Data],0),0))","v":""},{"$f":"IF('Sign (Desc)'!G187=\"\",\"\",INDEX([1]PANEL_SIZE!$A$2:$A$40,MATCH('Sign (Desc)'!$G187,[1]!MASTER_PANEL_SIZE_DESC[#Data],0),0))","v":""},{"$f":"IF('Sign (Desc)'!H187=\"\",\"\",'Sign (Desc)'!H187)","v":""}]
[{"$f":"IF('Sign (Desc)'!A188=\"\",\"\",'Sign (Desc)'!A188)","v":""},{"$f":"IF('Sign (Desc)'!B188=\"\",\"\",\"1987\")","v":""},{"$f":"IF('Sign (Desc)'!B188=\"\",\"\",'Sign (Desc)'!B188)","v":""},{"$f":"IF('Sign (Desc)'!C188=\"\",\"\",'Sign (Desc)'!C188)","v":""},{"$f":"IF('Sign (Desc)'!D188=\"\",\"\",'Sign (Desc)'!D188)","v":""},{"$f":"IF('Sign (Desc)'!E188=\"\",\"\",INDEX([1]SIGN_TYPE!$A$2:$A$40,MATCH('Sign (Desc)'!$E188,[1]!MASTER_SIGN_TYPE_DESC[#Data],0),0))","v":""},{"$f":"IF('Sign (Desc)'!F188=\"\",\"\",INDEX([1]SIGN_TEXT!$A$2:$A$40,MATCH('Sign (Desc)'!$F188,[1]!MASTER_SIGN_TEXT_DESC[#Data],0),0))","v":""},{"$f":"IF('Sign (Desc)'!G188=\"\",\"\",INDEX([1]PANEL_SIZE!$A$2:$A$40,MATCH('Sign (Desc)'!$G188,[1]!MASTER_PANEL_SIZE_DESC[#Data],0),0))","v":""},{"$f":"IF('Sign (Desc)'!H188=\"\",\"\",'Sign (Desc)'!H188)","v":""}]
[{"$f":"IF('Sign (Desc)'!A189=\"\",\"\",'Sign (Desc)'!A189)","v":""},{"$f":"IF('Sign (Desc)'!B189=\"\",\"\",\"1987\")","v":""},{"$f":"IF('Sign (Desc)'!B189=\"\",\"\",'Sign (Desc)'!B189)","v":""},{"$f":"IF('Sign (Desc)'!C189=\"\",\"\",'Sign (Desc)'!C189)","v":""},{"$f":"IF('Sign (Desc)'!D189=\"\",\"\",'Sign (Desc)'!D189)","v":""},{"$f":"IF('Sign (Desc)'!E189=\"\",\"\",INDEX([1]SIGN_TYPE!$A$2:$A$40,MATCH('Sign (Desc)'!$E189,[1]!MASTER_SIGN_TYPE_DESC[#Data],0),0))","v":""},{"$f":"IF('Sign (Desc)'!F189=\"\",\"\",INDEX([1]SIGN_TEXT!$A$2:$A$40,MATCH('Sign (Desc)'!$F189,[1]!MASTER_SIGN_TEXT_DESC[#Data],0),0))","v":""},{"$f":"IF('Sign (Desc)'!G189=\"\",\"\",INDEX([1]PANEL_SIZE!$A$2:$A$40,MATCH('Sign (Desc)'!$G189,[1]!MASTER_PANEL_SIZE_DESC[#Data],0),0))","v":""},{"$f":"IF('Sign (Desc)'!H189=\"\",\"\",'Sign (Desc)'!H189)","v":""}]
[{"$f":"IF('Sign (Desc)'!A190=\"\",\"\",'Sign (Desc)'!A190)","v":""},{"$f":"IF('Sign (Desc)'!B190=\"\",\"\",\"1987\")","v":""},{"$f":"IF('Sign (Desc)'!B190=\"\",\"\",'Sign (Desc)'!B190)","v":""},{"$f":"IF('Sign (Desc)'!C190=\"\",\"\",'Sign (Desc)'!C190)","v":""},{"$f":"IF('Sign (Desc)'!D190=\"\",\"\",'Sign (Desc)'!D190)","v":""},{"$f":"IF('Sign (Desc)'!E190=\"\",\"\",INDEX([1]SIGN_TYPE!$A$2:$A$40,MATCH('Sign (Desc)'!$E190,[1]!MASTER_SIGN_TYPE_DESC[#Data],0),0))","v":""},{"$f":"IF('Sign (Desc)'!F190=\"\",\"\",INDEX([1]SIGN_TEXT!$A$2:$A$40,MATCH('Sign (Desc)'!$F190,[1]!MASTER_SIGN_TEXT_DESC[#Data],0),0))","v":""},{"$f":"IF('Sign (Desc)'!G190=\"\",\"\",INDEX([1]PANEL_SIZE!$A$2:$A$40,MATCH('Sign (Desc)'!$G190,[1]!MASTER_PANEL_SIZE_DESC[#Data],0),0))","v":""},{"$f":"IF('Sign (Desc)'!H190=\"\",\"\",'Sign (Desc)'!H190)","v":""}]
[{"$f":"IF('Sign (Desc)'!A191=\"\",\"\",'Sign (Desc)'!A191)","v":""},{"$f":"IF('Sign (Desc)'!B191=\"\",\"\",\"1987\")","v":""},{"$f":"IF('Sign (Desc)'!B191=\"\",\"\",'Sign (Desc)'!B191)","v":""},{"$f":"IF('Sign (Desc)'!C191=\"\",\"\",'Sign (Desc)'!C191)","v":""},{"$f":"IF('Sign (Desc)'!D191=\"\",\"\",'Sign (Desc)'!D191)","v":""},{"$f":"IF('Sign (Desc)'!E191=\"\",\"\",INDEX([1]SIGN_TYPE!$A$2:$A$40,MATCH('Sign (Desc)'!$E191,[1]!MASTER_SIGN_TYPE_DESC[#Data],0),0))","v":""},{"$f":"IF('Sign (Desc)'!F191=\"\",\"\",INDEX([1]SIGN_TEXT!$A$2:$A$40,MATCH('Sign (Desc)'!$F191,[1]!MASTER_SIGN_TEXT_DESC[#Data],0),0))","v":""},{"$f":"IF('Sign (Desc)'!G191=\"\",\"\",INDEX([1]PANEL_SIZE!$A$2:$A$40,MATCH('Sign (Desc)'!$G191,[1]!MASTER_PANEL_SIZE_DESC[#Data],0),0))","v":""},{"$f":"IF('Sign (Desc)'!H191=\"\",\"\",'Sign (Desc)'!H191)","v":""}]
[{"$f":"IF('Sign (Desc)'!A192=\"\",\"\",'Sign (Desc)'!A192)","v":""},{"$f":"IF('Sign (Desc)'!B192=\"\",\"\",\"1987\")","v":""},{"$f":"IF('Sign (Desc)'!B192=\"\",\"\",'Sign (Desc)'!B192)","v":""},{"$f":"IF('Sign (Desc)'!C192=\"\",\"\",'Sign (Desc)'!C192)","v":""},{"$f":"IF('Sign (Desc)'!D192=\"\",\"\",'Sign (Desc)'!D192)","v":""},{"$f":"IF('Sign (Desc)'!E192=\"\",\"\",INDEX([1]SIGN_TYPE!$A$2:$A$40,MATCH('Sign (Desc)'!$E192,[1]!MASTER_SIGN_TYPE_DESC[#Data],0),0))","v":""},{"$f":"IF('Sign (Desc)'!F192=\"\",\"\",INDEX([1]SIGN_TEXT!$A$2:$A$40,MATCH('Sign (Desc)'!$F192,[1]!MASTER_SIGN_TEXT_DESC[#Data],0),0))","v":""},{"$f":"IF('Sign (Desc)'!G192=\"\",\"\",INDEX([1]PANEL_SIZE!$A$2:$A$40,MATCH('Sign (Desc)'!$G192,[1]!MASTER_PANEL_SIZE_DESC[#Data],0),0))","v":""},{"$f":"IF('Sign (Desc)'!H192=\"\",\"\",'Sign (Desc)'!H192)","v":""}]
[{"$f":"IF('Sign (Desc)'!A193=\"\",\"\",'Sign (Desc)'!A193)","v":""},{"$f":"IF('Sign (Desc)'!B193=\"\",\"\",\"1987\")","v":""},{"$f":"IF('Sign (Desc)'!B193=\"\",\"\",'Sign (Desc)'!B193)","v":""},{"$f":"IF('Sign (Desc)'!C193=\"\",\"\",'Sign (Desc)'!C193)","v":""},{"$f":"IF('Sign (Desc)'!D193=\"\",\"\",'Sign (Desc)'!D193)","v":""},{"$f":"IF('Sign (Desc)'!E193=\"\",\"\",INDEX([1]SIGN_TYPE!$A$2:$A$40,MATCH('Sign (Desc)'!$E193,[1]!MASTER_SIGN_TYPE_DESC[#Data],0),0))","v":""},{"$f":"IF('Sign (Desc)'!F193=\"\",\"\",INDEX([1]SIGN_TEXT!$A$2:$A$40,MATCH('Sign (Desc)'!$F193,[1]!MASTER_SIGN_TEXT_DESC[#Data],0),0))","v":""},{"$f":"IF('Sign (Desc)'!G193=\"\",\"\",INDEX([1]PANEL_SIZE!$A$2:$A$40,MATCH('Sign (Desc)'!$G193,[1]!MASTER_PANEL_SIZE_DESC[#Data],0),0))","v":""},{"$f":"IF('Sign (Desc)'!H193=\"\",\"\",'Sign (Desc)'!H193)","v":""}]
[{"$f":"IF('Sign (Desc)'!A194=\"\",\"\",'Sign (Desc)'!A194)","v":""},{"$f":"IF('Sign (Desc)'!B194=\"\",\"\",\"1987\")","v":""},{"$f":"IF('Sign (Desc)'!B194=\"\",\"\",'Sign (Desc)'!B194)","v":""},{"$f":"IF('Sign (Desc)'!C194=\"\",\"\",'Sign (Desc)'!C194)","v":""},{"$f":"IF('Sign (Desc)'!D194=\"\",\"\",'Sign (Desc)'!D194)","v":""},{"$f":"IF('Sign (Desc)'!E194=\"\",\"\",INDEX([1]SIGN_TYPE!$A$2:$A$40,MATCH('Sign (Desc)'!$E194,[1]!MASTER_SIGN_TYPE_DESC[#Data],0),0))","v":""},{"$f":"IF('Sign (Desc)'!F194=\"\",\"\",INDEX([1]SIGN_TEXT!$A$2:$A$40,MATCH('Sign (Desc)'!$F194,[1]!MASTER_SIGN_TEXT_DESC[#Data],0),0))","v":""},{"$f":"IF('Sign (Desc)'!G194=\"\",\"\",INDEX([1]PANEL_SIZE!$A$2:$A$40,MATCH('Sign (Desc)'!$G194,[1]!MASTER_PANEL_SIZE_DESC[#Data],0),0))","v":""},{"$f":"IF('Sign (Desc)'!H194=\"\",\"\",'Sign (Desc)'!H194)","v":""}]
[{"$f":"IF('Sign (Desc)'!A195=\"\",\"\",'Sign (Desc)'!A195)","v":""},{"$f":"IF('Sign (Desc)'!B195=\"\",\"\",\"1987\")","v":""},{"$f":"IF('Sign (Desc)'!B195=\"\",\"\",'Sign (Desc)'!B195)","v":""},{"$f":"IF('Sign (Desc)'!C195=\"\",\"\",'Sign (Desc)'!C195)","v":""},{"$f":"IF('Sign (Desc)'!D195=\"\",\"\",'Sign (Desc)'!D195)","v":""},{"$f":"IF('Sign (Desc)'!E195=\"\",\"\",INDEX([1]SIGN_TYPE!$A$2:$A$40,MATCH('Sign (Desc)'!$E195,[1]!MASTER_SIGN_TYPE_DESC[#Data],0),0))","v":""},{"$f":"IF('Sign (Desc)'!F195=\"\",\"\",INDEX([1]SIGN_TEXT!$A$2:$A$40,MATCH('Sign (Desc)'!$F195,[1]!MASTER_SIGN_TEXT_DESC[#Data],0),0))","v":""},{"$f":"IF('Sign (Desc)'!G195=\"\",\"\",INDEX([1]PANEL_SIZE!$A$2:$A$40,MATCH('Sign (Desc)'!$G195,[1]!MASTER_PANEL_SIZE_DESC[#Data],0),0))","v":""},{"$f":"IF('Sign (Desc)'!H195=\"\",\"\",'Sign (Desc)'!H195)","v":""}]
[{"$f":"IF('Sign (Desc)'!A196=\"\",\"\",'Sign (Desc)'!A196)","v":""},{"$f":"IF('Sign (Desc)'!B196=\"\",\"\",\"1987\")","v":""},{"$f":"IF('Sign (Desc)'!B196=\"\",\"\",'Sign (Desc)'!B196)","v":""},{"$f":"IF('Sign (Desc)'!C196=\"\",\"\",'Sign (Desc)'!C196)","v":""},{"$f":"IF('Sign (Desc)'!D196=\"\",\"\",'Sign (Desc)'!D196)","v":""},{"$f":"IF('Sign (Desc)'!E196=\"\",\"\",INDEX([1]SIGN_TYPE!$A$2:$A$40,MATCH('Sign (Desc)'!$E196,[1]!MASTER_SIGN_TYPE_DESC[#Data],0),0))","v":""},{"$f":"IF('Sign (Desc)'!F196=\"\",\"\",INDEX([1]SIGN_TEXT!$A$2:$A$40,MATCH('Sign (Desc)'!$F196,[1]!MASTER_SIGN_TEXT_DESC[#Data],0),0))","v":""},{"$f":"IF('Sign (Desc)'!G196=\"\",\"\",INDEX([1]PANEL_SIZE!$A$2:$A$40,MATCH('Sign (Desc)'!$G196,[1]!MASTER_PANEL_SIZE_DESC[#Data],0),0))","v":""},{"$f":"IF('Sign (Desc)'!H196=\"\",\"\",'Sign (Desc)'!H196)","v":""}]
[{"$f":"IF('Sign (Desc)'!A197=\"\",\"\",'Sign (Desc)'!A197)","v":""},{"$f":"IF('Sign (Desc)'!B197=\"\",\"\",\"1987\")","v":""},{"$f":"IF('Sign (Desc)'!B197=\"\",\"\",'Sign (Desc)'!B197)","v":""},{"$f":"IF('Sign (Desc)'!C197=\"\",\"\",'Sign (Desc)'!C197)","v":""},{"$f":"IF('Sign (Desc)'!D197=\"\",\"\",'Sign (Desc)'!D197)","v":""},{"$f":"IF('Sign (Desc)'!E197=\"\",\"\",INDEX([1]SIGN_TYPE!$A$2:$A$40,MATCH('Sign (Desc)'!$E197,[1]!MASTER_SIGN_TYPE_DESC[#Data],0),0))","v":""},{"$f":"IF('Sign (Desc)'!F197=\"\",\"\",INDEX([1]SIGN_TEXT!$A$2:$A$40,MATCH('Sign (Desc)'!$F197,[1]!MASTER_SIGN_TEXT_DESC[#Data],0),0))","v":""},{"$f":"IF('Sign (Desc)'!G197=\"\",\"\",INDEX([1]PANEL_SIZE!$A$2:$A$40,MATCH('Sign (Desc)'!$G197,[1]!MASTER_PANEL_SIZE_DESC[#Data],0),0))","v":""},{"$f":"IF('Sign (Desc)'!H197=\"\",\"\",'Sign (Desc)'!H197)","v":""}]
[{"$f":"IF('Sign (Desc)'!A198=\"\",\"\",'Sign (Desc)'!A198)","v":""},{"$f":"IF('Sign (Desc)'!B198=\"\",\"\",\"1987\")","v":""},{"$f":"IF('Sign (Desc)'!B198=\"\",\"\",'Sign (Desc)'!B198)","v":""},{"$f":"IF('Sign (Desc)'!C198=\"\",\"\",'Sign (Desc)'!C198)","v":""},{"$f":"IF('Sign (Desc)'!D198=\"\",\"\",'Sign (Desc)'!D198)","v":""},{"$f":"IF('Sign (Desc)'!E198=\"\",\"\",INDEX([1]SIGN_TYPE!$A$2:$A$40,MATCH('Sign (Desc)'!$E198,[1]!MASTER_SIGN_TYPE_DESC[#Data],0),0))","v":""},{"$f":"IF('Sign (Desc)'!F198=\"\",\"\",INDEX([1]SIGN_TEXT!$A$2:$A$40,MATCH('Sign (Desc)'!$F198,[1]!MASTER_SIGN_TEXT_DESC[#Data],0),0))","v":""},{"$f":"IF('Sign (Desc)'!G198=\"\",\"\",INDEX([1]PANEL_SIZE!$A$2:$A$40,MATCH('Sign (Desc)'!$G198,[1]!MASTER_PANEL_SIZE_DESC[#Data],0),0))","v":""},{"$f":"IF('Sign (Desc)'!H198=\"\",\"\",'Sign (Desc)'!H198)","v":""}]
[{"$f":"IF('Sign (Desc)'!A199=\"\",\"\",'Sign (Desc)'!A199)","v":""},{"$f":"IF('Sign (Desc)'!B199=\"\",\"\",\"1987\")","v":""},{"$f":"IF('Sign (Desc)'!B199=\"\",\"\",'Sign (Desc)'!B199)","v":""},{"$f":"IF('Sign (Desc)'!C199=\"\",\"\",'Sign (Desc)'!C199)","v":""},{"$f":"IF('Sign (Desc)'!D199=\"\",\"\",'Sign (Desc)'!D199)","v":""},{"$f":"IF('Sign (Desc)'!E199=\"\",\"\",INDEX([1]SIGN_TYPE!$A$2:$A$40,MATCH('Sign (Desc)'!$E199,[1]!MASTER_SIGN_TYPE_DESC[#Data],0),0))","v":""},{"$f":"IF('Sign (Desc)'!F199=\"\",\"\",INDEX([1]SIGN_TEXT!$A$2:$A$40,MATCH('Sign (Desc)'!$F199,[1]!MASTER_SIGN_TEXT_DESC[#Data],0),0))","v":""},{"$f":"IF('Sign (Desc)'!G199=\"\",\"\",INDEX([1]PANEL_SIZE!$A$2:$A$40,MATCH('Sign (Desc)'!$G199,[1]!MASTER_PANEL_SIZE_DESC[#Data],0),0))","v":""},{"$f":"IF('Sign (Desc)'!H199=\"\",\"\",'Sign (Desc)'!H199)","v":""}]
[{"$f":"IF('Sign (Desc)'!A200=\"\",\"\",'Sign (Desc)'!A200)","v":""},{"$f":"IF('Sign (Desc)'!B200=\"\",\"\",\"1987\")","v":""},{"$f":"IF('Sign (Desc)'!B200=\"\",\"\",'Sign (Desc)'!B200)","v":""},{"$f":"IF('Sign (Desc)'!C200=\"\",\"\",'Sign (Desc)'!C200)","v":""},{"$f":"IF('Sign (Desc)'!D200=\"\",\"\",'Sign (Desc)'!D200)","v":""},{"$f":"IF('Sign (Desc)'!E200=\"\",\"\",INDEX([1]SIGN_TYPE!$A$2:$A$40,MATCH('Sign (Desc)'!$E200,[1]!MASTER_SIGN_TYPE_DESC[#Data],0),0))","v":""},{"$f":"IF('Sign (Desc)'!F200=\"\",\"\",INDEX([1]SIGN_TEXT!$A$2:$A$40,MATCH('Sign (Desc)'!$F200,[1]!MASTER_SIGN_TEXT_DESC[#Data],0),0))","v":""},{"$f":"IF('Sign (Desc)'!G200=\"\",\"\",INDEX([1]PANEL_SIZE!$A$2:$A$40,MATCH('Sign (Desc)'!$G200,[1]!MASTER_PANEL_SIZE_DESC[#Data],0),0))","v":""},{"$f":"IF('Sign (Desc)'!H200=\"\",\"\",'Sign (Desc)'!H200)","v":""}]
[{"$f":"IF('Sign (Desc)'!A201=\"\",\"\",'Sign (Desc)'!A201)","v":""},{"$f":"IF('Sign (Desc)'!B201=\"\",\"\",\"1987\")","v":""},{"$f":"IF('Sign (Desc)'!B201=\"\",\"\",'Sign (Desc)'!B201)","v":""},{"$f":"IF('Sign (Desc)'!C201=\"\",\"\",'Sign (Desc)'!C201)","v":""},{"$f":"IF('Sign (Desc)'!D201=\"\",\"\",'Sign (Desc)'!D201)","v":""},{"$f":"IF('Sign (Desc)'!E201=\"\",\"\",INDEX([1]SIGN_TYPE!$A$2:$A$40,MATCH('Sign (Desc)'!$E201,[1]!MASTER_SIGN_TYPE_DESC[#Data],0),0))","v":""},{"$f":"IF('Sign (Desc)'!F201=\"\",\"\",INDEX([1]SIGN_TEXT!$A$2:$A$40,MATCH('Sign (Desc)'!$F201,[1]!MASTER_SIGN_TEXT_DESC[#Data],0),0))","v":""},{"$f":"IF('Sign (Desc)'!G201=\"\",\"\",INDEX([1]PANEL_SIZE!$A$2:$A$40,MATCH('Sign (Desc)'!$G201,[1]!MASTER_PANEL_SIZE_DESC[#Data],0),0))","v":""},{"$f":"IF('Sign (Desc)'!H201=\"\",\"\",'Sign (Desc)'!H201)","v":""}]
[{"$f":"IF('Sign (Desc)'!A202=\"\",\"\",'Sign (Desc)'!A202)","v":""},{"$f":"IF('Sign (Desc)'!B202=\"\",\"\",\"1987\")","v":""},{"$f":"IF('Sign (Desc)'!B202=\"\",\"\",'Sign (Desc)'!B202)","v":""},{"$f":"IF('Sign (Desc)'!C202=\"\",\"\",'Sign (Desc)'!C202)","v":""},{"$f":"IF('Sign (Desc)'!D202=\"\",\"\",'Sign (Desc)'!D202)","v":""},{"$f":"IF('Sign (Desc)'!E202=\"\",\"\",INDEX([1]SIGN_TYPE!$A$2:$A$40,MATCH('Sign (Desc)'!$E202,[1]!MASTER_SIGN_TYPE_DESC[#Data],0),0))","v":""},{"$f":"IF('Sign (Desc)'!F202=\"\",\"\",INDEX([1]SIGN_TEXT!$A$2:$A$40,MATCH('Sign (Desc)'!$F202,[1]!MASTER_SIGN_TEXT_DESC[#Data],0),0))","v":""},{"$f":"IF('Sign (Desc)'!G202=\"\",\"\",INDEX([1]PANEL_SIZE!$A$2:$A$40,MATCH('Sign (Desc)'!$G202,[1]!MASTER_PANEL_SIZE_DESC[#Data],0),0))","v":""},{"$f":"IF('Sign (Desc)'!H202=\"\",\"\",'Sign (Desc)'!H202)","v":""}]