{"text_format":"1","workbook":"xlsx","n_sheets":4,"sheets":["RWIS (Desc)","RWIS (Code)","RWIS Sensor (Desc)","RWIS Sensor (Code)"],"not_rendered":{"charts":0,"images":0,"macros":1,"external_links":1,"defined_names":12,"comments":0,"pivot_tables":0},"unopened":[],"bounds":{"document_bytes":16777216,"sheet_cells":100000,"rows_first":2000,"rows_last":500,"rows_between":2000,"halvings":0,"cell_chars":16384,"cell_head_chars":4096},"cells_cut":0,"cells_raw":0,"read":"whole","date_system":"1900"}

{"sheet":"RWIS (Desc)","index":0,"n_rows":2,"n_cols":7,"rows_kept":2,"cut":false,"hidden":false,"merged":[]}
["Site Identification Name","Latitude ","Longitude","Facility Owner","County","Installed Date (YYYY-MM-DD)","Device Name"]
["SITE_NO\nREQUIRED FIELD","PRIM GEOM (Y)\nREQUIRED FIELD","PRIM GEOM (X)\nREQUIRED FIELD","OWNER_CD\nREQUIRED FIELD","COUNTY_CD\nREQUIRED FIELD","YEAR_INSTALLED","NAME\nREQUIRED FIELD"]

{"sheet":"RWIS (Code)","index":1,"n_rows":202,"n_cols":7,"rows_kept":202,"cut":false,"hidden":false,"merged":[]}
["Site Identification Name","Latitude ","Longitude","Facility Owner","County","Installed Date (YYYY-MM-DD)","Device Name"]
["SITE_NO                                      REQUIRED FIELD","PRIM GEOM (Y) REQUIRED FIELD","PRIM GEOM (X) REQUIRED FIELD","OWNER_CD REQUIRED FIELD","COUNTY_CD REQUIRED FIELD","YEAR_INSTALLED","NAME                                                   REQUIRED FIELD"]
[{"$f":"IF('RWIS (Desc)'!A3=\"\",\"\",'RWIS (Desc)'!A3)","v":""},{"$f":"IF('RWIS (Desc)'!B3=\"\",\"\",'RWIS (Desc)'!B3)","v":""},{"$f":"IF('RWIS (Desc)'!C3=\"\",\"\",'RWIS (Desc)'!C3)","v":""},{"$f":"IF('RWIS (Desc)'!D3=\"\",\"\",INDEX([1]OWNER!$A$2:$A$100,MATCH('RWIS (Desc)'!$D3,[1]!MASTER_OWNER_DESC[#Data],0),0))","v":""},{"$f":"IF('RWIS (Desc)'!E3=\"\",\"\",INDEX([1]COUNTY!$A$2:$A$80,MATCH('RWIS (Desc)'!E3,[1]!MASTER_COUNTY_NAME[#Data],0),0))","v":""},{"$f":"IF('RWIS (Desc)'!F3=\"\",\"\",'RWIS (Desc)'!F3)","v":""},{"$f":"IF('RWIS (Desc)'!G3=\"\",\"\",'RWIS (Desc)'!G3)","v":""}]
[{"$f":"IF('RWIS (Desc)'!A4=\"\",\"\",'RWIS (Desc)'!A4)","v":""},{"$f":"IF('RWIS (Desc)'!B4=\"\",\"\",'RWIS (Desc)'!B4)","v":""},{"$f":"IF('RWIS (Desc)'!C4=\"\",\"\",'RWIS (Desc)'!C4)","v":""},{"$f":"IF('RWIS (Desc)'!D4=\"\",\"\",INDEX([1]OWNER!$A$2:$A$100,MATCH('RWIS (Desc)'!$D4,[1]!MASTER_OWNER_DESC[#Data],0),0))","v":""},{"$f":"IF('RWIS (Desc)'!E4=\"\",\"\",INDEX([1]COUNTY!$A$2:$A$80,MATCH('RWIS (Desc)'!E4,[1]!MASTER_COUNTY_NAME[#Data],0),0))","v":""},{"$f":"IF('RWIS (Desc)'!F4=\"\",\"\",'RWIS (Desc)'!F4)","v":""},{"$f":"IF('RWIS (Desc)'!G4=\"\",\"\",'RWIS (Desc)'!G4)","v":""}]
[{"$f":"IF('RWIS (Desc)'!A5=\"\",\"\",'RWIS (Desc)'!A5)","v":""},{"$f":"IF('RWIS (Desc)'!B5=\"\",\"\",'RWIS (Desc)'!B5)","v":""},{"$f":"IF('RWIS (Desc)'!C5=\"\",\"\",'RWIS (Desc)'!C5)","v":""},{"$f":"IF('RWIS (Desc)'!D5=\"\",\"\",INDEX([1]OWNER!$A$2:$A$100,MATCH('RWIS (Desc)'!$D5,[1]!MASTER_OWNER_DESC[#Data],0),0))","v":""},{"$f":"IF('RWIS (Desc)'!E5=\"\",\"\",INDEX([1]COUNTY!$A$2:$A$80,MATCH('RWIS (Desc)'!E5,[1]!MASTER_COUNTY_NAME[#Data],0),0))","v":""},{"$f":"IF('RWIS (Desc)'!F5=\"\",\"\",'RWIS (Desc)'!F5)","v":""},{"$f":"IF('RWIS (Desc)'!G5=\"\",\"\",'RWIS (Desc)'!G5)","v":""}]
[{"$f":"IF('RWIS (Desc)'!A6=\"\",\"\",'RWIS (Desc)'!A6)","v":""},{"$f":"IF('RWIS (Desc)'!B6=\"\",\"\",'RWIS (Desc)'!B6)","v":""},{"$f":"IF('RWIS (Desc)'!C6=\"\",\"\",'RWIS (Desc)'!C6)","v":""},{"$f":"IF('RWIS (Desc)'!D6=\"\",\"\",INDEX([1]OWNER!$A$2:$A$100,MATCH('RWIS (Desc)'!$D6,[1]!MASTER_OWNER_DESC[#Data],0),0))","v":""},{"$f":"IF('RWIS (Desc)'!E6=\"\",\"\",INDEX([1]COUNTY!$A$2:$A$80,MATCH('RWIS (Desc)'!E6,[1]!MASTER_COUNTY_NAME[#Data],0),0))","v":""},{"$f":"IF('RWIS (Desc)'!F6=\"\",\"\",'RWIS (Desc)'!F6)","v":""},{"$f":"IF('RWIS (Desc)'!G6=\"\",\"\",'RWIS (Desc)'!G6)","v":""}]
[{"$f":"IF('RWIS (Desc)'!A7=\"\",\"\",'RWIS (Desc)'!A7)","v":""},{"$f":"IF('RWIS (Desc)'!B7=\"\",\"\",'RWIS (Desc)'!B7)","v":""},{"$f":"IF('RWIS (Desc)'!C7=\"\",\"\",'RWIS (Desc)'!C7)","v":""},{"$f":"IF('RWIS (Desc)'!D7=\"\",\"\",INDEX([1]OWNER!$A$2:$A$100,MATCH('RWIS (Desc)'!$D7,[1]!MASTER_OWNER_DESC[#Data],0),0))","v":""},{"$f":"IF('RWIS (Desc)'!E7=\"\",\"\",INDEX([1]COUNTY!$A$2:$A$80,MATCH('RWIS (Desc)'!E7,[1]!MASTER_COUNTY_NAME[#Data],0),0))","v":""},{"$f":"IF('RWIS (Desc)'!F7=\"\",\"\",'RWIS (Desc)'!F7)","v":""},{"$f":"IF('RWIS (Desc)'!G7=\"\",\"\",'RWIS (Desc)'!G7)","v":""}]
[{"$f":"IF('RWIS (Desc)'!A8=\"\",\"\",'RWIS (Desc)'!A8)","v":""},{"$f":"IF('RWIS (Desc)'!B8=\"\",\"\",'RWIS (Desc)'!B8)","v":""},{"$f":"IF('RWIS (Desc)'!C8=\"\",\"\",'RWIS (Desc)'!C8)","v":""},{"$f":"IF('RWIS (Desc)'!D8=\"\",\"\",INDEX([1]OWNER!$A$2:$A$100,MATCH('RWIS (Desc)'!$D8,[1]!MASTER_OWNER_DESC[#Data],0),0))","v":""},{"$f":"IF('RWIS (Desc)'!E8=\"\",\"\",INDEX([1]COUNTY!$A$2:$A$80,MATCH('RWIS (Desc)'!E8,[1]!MASTER_COUNTY_NAME[#Data],0),0))","v":""},{"$f":"IF('RWIS (Desc)'!F8=\"\",\"\",'RWIS (Desc)'!F8)","v":""},{"$f":"IF('RWIS (Desc)'!G8=\"\",\"\",'RWIS (Desc)'!G8)","v":""}]
[{"$f":"IF('RWIS (Desc)'!A9=\"\",\"\",'RWIS (Desc)'!A9)","v":""},{"$f":"IF('RWIS (Desc)'!B9=\"\",\"\",'RWIS (Desc)'!B9)","v":""},{"$f":"IF('RWIS (Desc)'!C9=\"\",\"\",'RWIS (Desc)'!C9)","v":""},{"$f":"IF('RWIS (Desc)'!D9=\"\",\"\",INDEX([1]OWNER!$A$2:$A$100,MATCH('RWIS (Desc)'!$D9,[1]!MASTER_OWNER_DESC[#Data],0),0))","v":""},{"$f":"IF('RWIS (Desc)'!E9=\"\",\"\",INDEX([1]COUNTY!$A$2:$A$80,MATCH('RWIS (Desc)'!E9,[1]!MASTER_COUNTY_NAME[#Data],0),0))","v":""},{"$f":"IF('RWIS (Desc)'!F9=\"\",\"\",'RWIS (Desc)'!F9)","v":""},{"$f":"IF('RWIS (Desc)'!G9=\"\",\"\",'RWIS (Desc)'!G9)","v":""}]
[{"$f":"IF('RWIS (Desc)'!A10=\"\",\"\",'RWIS (Desc)'!A10)","v":""},{"$f":"IF('RWIS (Desc)'!B10=\"\",\"\",'RWIS (Desc)'!B10)","v":""},{"$f":"IF('RWIS (Desc)'!C10=\"\",\"\",'RWIS (Desc)'!C10)","v":""},{"$f":"IF('RWIS (Desc)'!D10=\"\",\"\",INDEX([1]OWNER!$A$2:$A$100,MATCH('RWIS (Desc)'!$D10,[1]!MASTER_OWNER_DESC[#Data],0),0))","v":""},{"$f":"IF('RWIS (Desc)'!E10=\"\",\"\",INDEX([1]COUNTY!$A$2:$A$80,MATCH('RWIS (Desc)'!E10,[1]!MASTER_COUNTY_NAME[#Data],0),0))","v":""},{"$f":"IF('RWIS (Desc)'!F10=\"\",\"\",'RWIS (Desc)'!F10)","v":""},{"$f":"IF('RWIS (Desc)'!G10=\"\",\"\",'RWIS (Desc)'!G10)","v":""}]
[{"$f":"IF('RWIS (Desc)'!A11=\"\",\"\",'RWIS (Desc)'!A11)","v":""},{"$f":"IF('RWIS (Desc)'!B11=\"\",\"\",'RWIS (Desc)'!B11)","v":""},{"$f":"IF('RWIS (Desc)'!C11=\"\",\"\",'RWIS (Desc)'!C11)","v":""},{"$f":"IF('RWIS (Desc)'!D11=\"\",\"\",INDEX([1]OWNER!$A$2:$A$100,MATCH('RWIS (Desc)'!$D11,[1]!MASTER_OWNER_DESC[#Data],0),0))","v":""},{"$f":"IF('RWIS (Desc)'!E11=\"\",\"\",INDEX([1]COUNTY!$A$2:$A$80,MATCH('RWIS (Desc)'!E11,[1]!MASTER_COUNTY_NAME[#Data],0),0))","v":""},{"$f":"IF('RWIS (Desc)'!F11=\"\",\"\",'RWIS (Desc)'!F11)","v":""},{"$f":"IF('RWIS (Desc)'!G11=\"\",\"\",'RWIS (Desc)'!G11)","v":""}]
[{"$f":"IF('RWIS (Desc)'!A12=\"\",\"\",'RWIS (Desc)'!A12)","v":""},{"$f":"IF('RWIS (Desc)'!B12=\"\",\"\",'RWIS (Desc)'!B12)","v":""},{"$f":"IF('RWIS (Desc)'!C12=\"\",\"\",'RWIS (Desc)'!C12)","v":""},{"$f":"IF('RWIS (Desc)'!D12=\"\",\"\",INDEX([1]OWNER!$A$2:$A$100,MATCH('RWIS (Desc)'!$D12,[1]!MASTER_OWNER_DESC[#Data],0),0))","v":""},{"$f":"IF('RWIS (Desc)'!E12=\"\",\"\",INDEX([1]COUNTY!$A$2:$A$80,MATCH('RWIS (Desc)'!E12,[1]!MASTER_COUNTY_NAME[#Data],0),0))","v":""},{"$f":"IF('RWIS (Desc)'!F12=\"\",\"\",'RWIS (Desc)'!F12)","v":""},{"$f":"IF('RWIS (Desc)'!G12=\"\",\"\",'RWIS (Desc)'!G12)","v":""}]
[{"$f":"IF('RWIS (Desc)'!A13=\"\",\"\",'RWIS (Desc)'!A13)","v":""},{"$f":"IF('RWIS (Desc)'!B13=\"\",\"\",'RWIS (Desc)'!B13)","v":""},{"$f":"IF('RWIS (Desc)'!C13=\"\",\"\",'RWIS (Desc)'!C13)","v":""},{"$f":"IF('RWIS (Desc)'!D13=\"\",\"\",INDEX([1]OWNER!$A$2:$A$100,MATCH('RWIS (Desc)'!$D13,[1]!MASTER_OWNER_DESC[#Data],0),0))","v":""},{"$f":"IF('RWIS (Desc)'!E13=\"\",\"\",INDEX([1]COUNTY!$A$2:$A$80,MATCH('RWIS (Desc)'!E13,[1]!MASTER_COUNTY_NAME[#Data],0),0))","v":""},{"$f":"IF('RWIS (Desc)'!F13=\"\",\"\",'RWIS (Desc)'!F13)","v":""},{"$f":"IF('RWIS (Desc)'!G13=\"\",\"\",'RWIS (Desc)'!G13)","v":""}]
[{"$f":"IF('RWIS (Desc)'!A14=\"\",\"\",'RWIS (Desc)'!A14)","v":""},{"$f":"IF('RWIS (Desc)'!B14=\"\",\"\",'RWIS (Desc)'!B14)","v":""},{"$f":"IF('RWIS (Desc)'!C14=\"\",\"\",'RWIS (Desc)'!C14)","v":""},{"$f":"IF('RWIS (Desc)'!D14=\"\",\"\",INDEX([1]OWNER!$A$2:$A$100,MATCH('RWIS (Desc)'!$D14,[1]!MASTER_OWNER_DESC[#Data],0),0))","v":""},{"$f":"IF('RWIS (Desc)'!E14=\"\",\"\",INDEX([1]COUNTY!$A$2:$A$80,MATCH('RWIS (Desc)'!E14,[1]!MASTER_COUNTY_NAME[#Data],0),0))","v":""},{"$f":"IF('RWIS (Desc)'!F14=\"\",\"\",'RWIS (Desc)'!F14)","v":""},{"$f":"IF('RWIS (Desc)'!G14=\"\",\"\",'RWIS (Desc)'!G14)","v":""}]
[{"$f":"IF('RWIS (Desc)'!A15=\"\",\"\",'RWIS (Desc)'!A15)","v":""},{"$f":"IF('RWIS (Desc)'!B15=\"\",\"\",'RWIS (Desc)'!B15)","v":""},{"$f":"IF('RWIS (Desc)'!C15=\"\",\"\",'RWIS (Desc)'!C15)","v":""},{"$f":"IF('RWIS (Desc)'!D15=\"\",\"\",INDEX([1]OWNER!$A$2:$A$100,MATCH('RWIS (Desc)'!$D15,[1]!MASTER_OWNER_DESC[#Data],0),0))","v":""},{"$f":"IF('RWIS (Desc)'!E15=\"\",\"\",INDEX([1]COUNTY!$A$2:$A$80,MATCH('RWIS (Desc)'!E15,[1]!MASTER_COUNTY_NAME[#Data],0),0))","v":""},{"$f":"IF('RWIS (Desc)'!F15=\"\",\"\",'RWIS (Desc)'!F15)","v":""},{"$f":"IF('RWIS (Desc)'!G15=\"\",\"\",'RWIS (Desc)'!G15)","v":""}]
[{"$f":"IF('RWIS (Desc)'!A16=\"\",\"\",'RWIS (Desc)'!A16)","v":""},{"$f":"IF('RWIS (Desc)'!B16=\"\",\"\",'RWIS (Desc)'!B16)","v":""},{"$f":"IF('RWIS (Desc)'!C16=\"\",\"\",'RWIS (Desc)'!C16)","v":""},{"$f":"IF('RWIS (Desc)'!D16=\"\",\"\",INDEX([1]OWNER!$A$2:$A$100,MATCH('RWIS (Desc)'!$D16,[1]!MASTER_OWNER_DESC[#Data],0),0))","v":""},{"$f":"IF('RWIS (Desc)'!E16=\"\",\"\",INDEX([1]COUNTY!$A$2:$A$80,MATCH('RWIS (Desc)'!E16,[1]!MASTER_COUNTY_NAME[#Data],0),0))","v":""},{"$f":"IF('RWIS (Desc)'!F16=\"\",\"\",'RWIS (Desc)'!F16)","v":""},{"$f":"IF('RWIS (Desc)'!G16=\"\",\"\",'RWIS (Desc)'!G16)","v":""}]
[{"$f":"IF('RWIS (Desc)'!A17=\"\",\"\",'RWIS (Desc)'!A17)","v":""},{"$f":"IF('RWIS (Desc)'!B17=\"\",\"\",'RWIS (Desc)'!B17)","v":""},{"$f":"IF('RWIS (Desc)'!C17=\"\",\"\",'RWIS (Desc)'!C17)","v":""},{"$f":"IF('RWIS (Desc)'!D17=\"\",\"\",INDEX([1]OWNER!$A$2:$A$100,MATCH('RWIS (Desc)'!$D17,[1]!MASTER_OWNER_DESC[#Data],0),0))","v":""},{"$f":"IF('RWIS (Desc)'!E17=\"\",\"\",INDEX([1]COUNTY!$A$2:$A$80,MATCH('RWIS (Desc)'!E17,[1]!MASTER_COUNTY_NAME[#Data],0),0))","v":""},{"$f":"IF('RWIS (Desc)'!F17=\"\",\"\",'RWIS (Desc)'!F17)","v":""},{"$f":"IF('RWIS (Desc)'!G17=\"\",\"\",'RWIS (Desc)'!G17)","v":""}]
[{"$f":"IF('RWIS (Desc)'!A18=\"\",\"\",'RWIS (Desc)'!A18)","v":""},{"$f":"IF('RWIS (Desc)'!B18=\"\",\"\",'RWIS (Desc)'!B18)","v":""},{"$f":"IF('RWIS (Desc)'!C18=\"\",\"\",'RWIS (Desc)'!C18)","v":""},{"$f":"IF('RWIS (Desc)'!D18=\"\",\"\",INDEX([1]OWNER!$A$2:$A$100,MATCH('RWIS (Desc)'!$D18,[1]!MASTER_OWNER_DESC[#Data],0),0))","v":""},{"$f":"IF('RWIS (Desc)'!E18=\"\",\"\",INDEX([1]COUNTY!$A$2:$A$80,MATCH('RWIS (Desc)'!E18,[1]!MASTER_COUNTY_NAME[#Data],0),0))","v":""},{"$f":"IF('RWIS (Desc)'!F18=\"\",\"\",'RWIS (Desc)'!F18)","v":""},{"$f":"IF('RWIS (Desc)'!G18=\"\",\"\",'RWIS (Desc)'!G18)","v":""}]
[{"$f":"IF('RWIS (Desc)'!A19=\"\",\"\",'RWIS (Desc)'!A19)","v":""},{"$f":"IF('RWIS (Desc)'!B19=\"\",\"\",'RWIS (Desc)'!B19)","v":""},{"$f":"IF('RWIS (Desc)'!C19=\"\",\"\",'RWIS (Desc)'!C19)","v":""},{"$f":"IF('RWIS (Desc)'!D19=\"\",\"\",INDEX([1]OWNER!$A$2:$A$100,MATCH('RWIS (Desc)'!$D19,[1]!MASTER_OWNER_DESC[#Data],0),0))","v":""},{"$f":"IF('RWIS (Desc)'!E19=\"\",\"\",INDEX([1]COUNTY!$A$2:$A$80,MATCH('RWIS (Desc)'!E19,[1]!MASTER_COUNTY_NAME[#Data],0),0))","v":""},{"$f":"IF('RWIS (Desc)'!F19=\"\",\"\",'RWIS (Desc)'!F19)","v":""},{"$f":"IF('RWIS (Desc)'!G19=\"\",\"\",'RWIS (Desc)'!G19)","v":""}]
[{"$f":"IF('RWIS (Desc)'!A20=\"\",\"\",'RWIS (Desc)'!A20)","v":""},{"$f":"IF('RWIS (Desc)'!B20=\"\",\"\",'RWIS (Desc)'!B20)","v":""},{"$f":"IF('RWIS (Desc)'!C20=\"\",\"\",'RWIS (Desc)'!C20)","v":""},{"$f":"IF('RWIS (Desc)'!D20=\"\",\"\",INDEX([1]OWNER!$A$2:$A$100,MATCH('RWIS (Desc)'!$D20,[1]!MASTER_OWNER_DESC[#Data],0),0))","v":""},{"$f":"IF('RWIS (Desc)'!E20=\"\",\"\",INDEX([1]COUNTY!$A$2:$A$80,MATCH('RWIS (Desc)'!E20,[1]!MASTER_COUNTY_NAME[#Data],0),0))","v":""},{"$f":"IF('RWIS (Desc)'!F20=\"\",\"\",'RWIS (Desc)'!F20)","v":""},{"$f":"IF('RWIS (Desc)'!G20=\"\",\"\",'RWIS (Desc)'!G20)","v":""}]
[{"$f":"IF('RWIS (Desc)'!A21=\"\",\"\",'RWIS (Desc)'!A21)","v":""},{"$f":"IF('RWIS (Desc)'!B21=\"\",\"\",'RWIS (Desc)'!B21)","v":""},{"$f":"IF('RWIS (Desc)'!C21=\"\",\"\",'RWIS (Desc)'!C21)","v":""},{"$f":"IF('RWIS (Desc)'!D21=\"\",\"\",INDEX([1]OWNER!$A$2:$A$100,MATCH('RWIS (Desc)'!$D21,[1]!MASTER_OWNER_DESC[#Data],0),0))","v":""},{"$f":"IF('RWIS (Desc)'!E21=\"\",\"\",INDEX([1]COUNTY!$A$2:$A$80,MATCH('RWIS (Desc)'!E21,[1]!MASTER_COUNTY_NAME[#Data],0),0))","v":""},{"$f":"IF('RWIS (Desc)'!F21=\"\",\"\",'RWIS (Desc)'!F21)","v":""},{"$f":"IF('RWIS (Desc)'!G21=\"\",\"\",'RWIS (Desc)'!G21)","v":""}]
[{"$f":"IF('RWIS (Desc)'!A22=\"\",\"\",'RWIS (Desc)'!A22)","v":""},{"$f":"IF('RWIS (Desc)'!B22=\"\",\"\",'RWIS (Desc)'!B22)","v":""},{"$f":"IF('RWIS (Desc)'!C22=\"\",\"\",'RWIS (Desc)'!C22)","v":""},{"$f":"IF('RWIS (Desc)'!D22=\"\",\"\",INDEX([1]OWNER!$A$2:$A$100,MATCH('RWIS (Desc)'!$D22,[1]!MASTER_OWNER_DESC[#Data],0),0))","v":""},{"$f":"IF('RWIS (Desc)'!E22=\"\",\"\",INDEX([1]COUNTY!$A$2:$A$80,MATCH('RWIS (Desc)'!E22,[1]!MASTER_COUNTY_NAME[#Data],0),0))","v":""},{"$f":"IF('RWIS (Desc)'!F22=\"\",\"\",'RWIS (Desc)'!F22)","v":""},{"$f":"IF('RWIS (Desc)'!G22=\"\",\"\",'RWIS (Desc)'!G22)","v":""}]
[{"$f":"IF('RWIS (Desc)'!A23=\"\",\"\",'RWIS (Desc)'!A23)","v":""},{"$f":"IF('RWIS (Desc)'!B23=\"\",\"\",'RWIS (Desc)'!B23)","v":""},{"$f":"IF('RWIS (Desc)'!C23=\"\",\"\",'RWIS (Desc)'!C23)","v":""},{"$f":"IF('RWIS (Desc)'!D23=\"\",\"\",INDEX([1]OWNER!$A$2:$A$100,MATCH('RWIS (Desc)'!$D23,[1]!MASTER_OWNER_DESC[#Data],0),0))","v":""},{"$f":"IF('RWIS (Desc)'!E23=\"\",\"\",INDEX([1]COUNTY!$A$2:$A$80,MATCH('RWIS (Desc)'!E23,[1]!MASTER_COUNTY_NAME[#Data],0),0))","v":""},{"$f":"IF('RWIS (Desc)'!F23=\"\",\"\",'RWIS (Desc)'!F23)","v":""},{"$f":"IF('RWIS (Desc)'!G23=\"\",\"\",'RWIS (Desc)'!G23)","v":""}]
[{"$f":"IF('RWIS (Desc)'!A24=\"\",\"\",'RWIS (Desc)'!A24)","v":""},{"$f":"IF('RWIS (Desc)'!B24=\"\",\"\",'RWIS (Desc)'!B24)","v":""},{"$f":"IF('RWIS (Desc)'!C24=\"\",\"\",'RWIS (Desc)'!C24)","v":""},{"$f":"IF('RWIS (Desc)'!D24=\"\",\"\",INDEX([1]OWNER!$A$2:$A$100,MATCH('RWIS (Desc)'!$D24,[1]!MASTER_OWNER_DESC[#Data],0),0))","v":""},{"$f":"IF('RWIS (Desc)'!E24=\"\",\"\",INDEX([1]COUNTY!$A$2:$A$80,MATCH('RWIS (Desc)'!E24,[1]!MASTER_COUNTY_NAME[#Data],0),0))","v":""},{"$f":"IF('RWIS (Desc)'!F24=\"\",\"\",'RWIS (Desc)'!F24)","v":""},{"$f":"IF('RWIS (Desc)'!G24=\"\",\"\",'RWIS (Desc)'!G24)","v":""}]
[{"$f":"IF('RWIS (Desc)'!A25=\"\",\"\",'RWIS (Desc)'!A25)","v":""},{"$f":"IF('RWIS (Desc)'!B25=\"\",\"\",'RWIS (Desc)'!B25)","v":""},{"$f":"IF('RWIS (Desc)'!C25=\"\",\"\",'RWIS (Desc)'!C25)","v":""},{"$f":"IF('RWIS (Desc)'!D25=\"\",\"\",INDEX([1]OWNER!$A$2:$A$100,MATCH('RWIS (Desc)'!$D25,[1]!MASTER_OWNER_DESC[#Data],0),0))","v":""},{"$f":"IF('RWIS (Desc)'!E25=\"\",\"\",INDEX([1]COUNTY!$A$2:$A$80,MATCH('RWIS (Desc)'!E25,[1]!MASTER_COUNTY_NAME[#Data],0),0))","v":""},{"$f":"IF('RWIS (Desc)'!F25=\"\",\"\",'RWIS (Desc)'!F25)","v":""},{"$f":"IF('RWIS (Desc)'!G25=\"\",\"\",'RWIS (Desc)'!G25)","v":""}]
[{"$f":"IF('RWIS (Desc)'!A26=\"\",\"\",'RWIS (Desc)'!A26)","v":""},{"$f":"IF('RWIS (Desc)'!B26=\"\",\"\",'RWIS (Desc)'!B26)","v":""},{"$f":"IF('RWIS (Desc)'!C26=\"\",\"\",'RWIS (Desc)'!C26)","v":""},{"$f":"IF('RWIS (Desc)'!D26=\"\",\"\",INDEX([1]OWNER!$A$2:$A$100,MATCH('RWIS (Desc)'!$D26,[1]!MASTER_OWNER_DESC[#Data],0),0))","v":""},{"$f":"IF('RWIS (Desc)'!E26=\"\",\"\",INDEX([1]COUNTY!$A$2:$A$80,MATCH('RWIS (Desc)'!E26,[1]!MASTER_COUNTY_NAME[#Data],0),0))","v":""},{"$f":"IF('RWIS (Desc)'!F26=\"\",\"\",'RWIS (Desc)'!F26)","v":""},{"$f":"IF('RWIS (Desc)'!G26=\"\",\"\",'RWIS (Desc)'!G26)","v":""}]
[{"$f":"IF('RWIS (Desc)'!A27=\"\",\"\",'RWIS (Desc)'!A27)","v":""},{"$f":"IF('RWIS (Desc)'!B27=\"\",\"\",'RWIS (Desc)'!B27)","v":""},{"$f":"IF('RWIS (Desc)'!C27=\"\",\"\",'RWIS (Desc)'!C27)","v":""},{"$f":"IF('RWIS (Desc)'!D27=\"\",\"\",INDEX([1]OWNER!$A$2:$A$100,MATCH('RWIS (Desc)'!$D27,[1]!MASTER_OWNER_DESC[#Data],0),0))","v":""},{"$f":"IF('RWIS (Desc)'!E27=\"\",\"\",INDEX([1]COUNTY!$A$2:$A$80,MATCH('RWIS (Desc)'!E27,[1]!MASTER_COUNTY_NAME[#Data],0),0))","v":""},{"$f":"IF('RWIS (Desc)'!F27=\"\",\"\",'RWIS (Desc)'!F27)","v":""},{"$f":"IF('RWIS (Desc)'!G27=\"\",\"\",'RWIS (Desc)'!G27)","v":""}]
[{"$f":"IF('RWIS (Desc)'!A28=\"\",\"\",'RWIS (Desc)'!A28)","v":""},{"$f":"IF('RWIS (Desc)'!B28=\"\",\"\",'RWIS (Desc)'!B28)","v":""},{"$f":"IF('RWIS (Desc)'!C28=\"\",\"\",'RWIS (Desc)'!C28)","v":""},{"$f":"IF('RWIS (Desc)'!D28=\"\",\"\",INDEX([1]OWNER!$A$2:$A$100,MATCH('RWIS (Desc)'!$D28,[1]!MASTER_OWNER_DESC[#Data],0),0))","v":""},{"$f":"IF('RWIS (Desc)'!E28=\"\",\"\",INDEX([1]COUNTY!$A$2:$A$80,MATCH('RWIS (Desc)'!E28,[1]!MASTER_COUNTY_NAME[#Data],0),0))","v":""},{"$f":"IF('RWIS (Desc)'!F28=\"\",\"\",'RWIS (Desc)'!F28)","v":""},{"$f":"IF('RWIS (Desc)'!G28=\"\",\"\",'RWIS (Desc)'!G28)","v":""}]
[{"$f":"IF('RWIS (Desc)'!A29=\"\",\"\",'RWIS (Desc)'!A29)","v":""},{"$f":"IF('RWIS (Desc)'!B29=\"\",\"\",'RWIS (Desc)'!B29)","v":""},{"$f":"IF('RWIS (Desc)'!C29=\"\",\"\",'RWIS (Desc)'!C29)","v":""},{"$f":"IF('RWIS (Desc)'!D29=\"\",\"\",INDEX([1]OWNER!$A$2:$A$100,MATCH('RWIS (Desc)'!$D29,[1]!MASTER_OWNER_DESC[#Data],0),0))","v":""},{"$f":"IF('RWIS (Desc)'!E29=\"\",\"\",INDEX([1]COUNTY!$A$2:$A$80,MATCH('RWIS (Desc)'!E29,[1]!MASTER_COUNTY_NAME[#Data],0),0))","v":""},{"$f":"IF('RWIS (Desc)'!F29=\"\",\"\",'RWIS (Desc)'!F29)","v":""},{"$f":"IF('RWIS (Desc)'!G29=\"\",\"\",'RWIS (Desc)'!G29)","v":""}]
[{"$f":"IF('RWIS (Desc)'!A30=\"\",\"\",'RWIS (Desc)'!A30)","v":""},{"$f":"IF('RWIS (Desc)'!B30=\"\",\"\",'RWIS (Desc)'!B30)","v":""},{"$f":"IF('RWIS (Desc)'!C30=\"\",\"\",'RWIS (Desc)'!C30)","v":""},{"$f":"IF('RWIS (Desc)'!D30=\"\",\"\",INDEX([1]OWNER!$A$2:$A$100,MATCH('RWIS (Desc)'!$D30,[1]!MASTER_OWNER_DESC[#Data],0),0))","v":""},{"$f":"IF('RWIS (Desc)'!E30=\"\",\"\",INDEX([1]COUNTY!$A$2:$A$80,MATCH('RWIS (Desc)'!E30,[1]!MASTER_COUNTY_NAME[#Data],0),0))","v":""},{"$f":"IF('RWIS (Desc)'!F30=\"\",\"\",'RWIS (Desc)'!F30)","v":""},{"$f":"IF('RWIS (Desc)'!G30=\"\",\"\",'RWIS (Desc)'!G30)","v":""}]
[{"$f":"IF('RWIS (Desc)'!A31=\"\",\"\",'RWIS (Desc)'!A31)","v":""},{"$f":"IF('RWIS (Desc)'!B31=\"\",\"\",'RWIS (Desc)'!B31)","v":""},{"$f":"IF('RWIS (Desc)'!C31=\"\",\"\",'RWIS (Desc)'!C31)","v":""},{"$f":"IF('RWIS (Desc)'!D31=\"\",\"\",INDEX([1]OWNER!$A$2:$A$100,MATCH('RWIS (Desc)'!$D31,[1]!MASTER_OWNER_DESC[#Data],0),0))","v":""},{"$f":"IF('RWIS (Desc)'!E31=\"\",\"\",INDEX([1]COUNTY!$A$2:$A$80,MATCH('RWIS (Desc)'!E31,[1]!MASTER_COUNTY_NAME[#Data],0),0))","v":""},{"$f":"IF('RWIS (Desc)'!F31=\"\",\"\",'RWIS (Desc)'!F31)","v":""},{"$f":"IF('RWIS (Desc)'!G31=\"\",\"\",'RWIS (Desc)'!G31)","v":""}]
[{"$f":"IF('RWIS (Desc)'!A32=\"\",\"\",'RWIS (Desc)'!A32)","v":""},{"$f":"IF('RWIS (Desc)'!B32=\"\",\"\",'RWIS (Desc)'!B32)","v":""},{"$f":"IF('RWIS (Desc)'!C32=\"\",\"\",'RWIS (Desc)'!C32)","v":""},{"$f":"IF('RWIS (Desc)'!D32=\"\",\"\",INDEX([1]OWNER!$A$2:$A$100,MATCH('RWIS (Desc)'!$D32,[1]!MASTER_OWNER_DESC[#Data],0),0))","v":""},{"$f":"IF('RWIS (Desc)'!E32=\"\",\"\",INDEX([1]COUNTY!$A$2:$A$80,MATCH('RWIS (Desc)'!E32,[1]!MASTER_COUNTY_NAME[#Data],0),0))","v":""},{"$f":"IF('RWIS (Desc)'!F32=\"\",\"\",'RWIS (Desc)'!F32)","v":""},{"$f":"IF('RWIS (Desc)'!G32=\"\",\"\",'RWIS (Desc)'!G32)","v":""}]
[{"$f":"IF('RWIS (Desc)'!A33=\"\",\"\",'RWIS (Desc)'!A33)","v":""},{"$f":"IF('RWIS (Desc)'!B33=\"\",\"\",'RWIS (Desc)'!B33)","v":""},{"$f":"IF('RWIS (Desc)'!C33=\"\",\"\",'RWIS (Desc)'!C33)","v":""},{"$f":"IF('RWIS (Desc)'!D33=\"\",\"\",INDEX([1]OWNER!$A$2:$A$100,MATCH('RWIS (Desc)'!$D33,[1]!MASTER_OWNER_DESC[#Data],0),0))","v":""},{"$f":"IF('RWIS (Desc)'!E33=\"\",\"\",INDEX([1]COUNTY!$A$2:$A$80,MATCH('RWIS (Desc)'!E33,[1]!MASTER_COUNTY_NAME[#Data],0),0))","v":""},{"$f":"IF('RWIS (Desc)'!F33=\"\",\"\",'RWIS (Desc)'!F33)","v":""},{"$f":"IF('RWIS (Desc)'!G33=\"\",\"\",'RWIS (Desc)'!G33)","v":""}]
[{"$f":"IF('RWIS (Desc)'!A34=\"\",\"\",'RWIS (Desc)'!A34)","v":""},{"$f":"IF('RWIS (Desc)'!B34=\"\",\"\",'RWIS (Desc)'!B34)","v":""},{"$f":"IF('RWIS (Desc)'!C34=\"\",\"\",'RWIS (Desc)'!C34)","v":""},{"$f":"IF('RWIS (Desc)'!D34=\"\",\"\",INDEX([1]OWNER!$A$2:$A$100,MATCH('RWIS (Desc)'!$D34,[1]!MASTER_OWNER_DESC[#Data],0),0))","v":""},{"$f":"IF('RWIS (Desc)'!E34=\"\",\"\",INDEX([1]COUNTY!$A$2:$A$80,MATCH('RWIS (Desc)'!E34,[1]!MASTER_COUNTY_NAME[#Data],0),0))","v":""},{"$f":"IF('RWIS (Desc)'!F34=\"\",\"\",'RWIS (Desc)'!F34)","v":""},{"$f":"IF('RWIS (Desc)'!G34=\"\",\"\",'RWIS (Desc)'!G34)","v":""}]
[{"$f":"IF('RWIS (Desc)'!A35=\"\",\"\",'RWIS (Desc)'!A35)","v":""},{"$f":"IF('RWIS (Desc)'!B35=\"\",\"\",'RWIS (Desc)'!B35)","v":""},{"$f":"IF('RWIS (Desc)'!C35=\"\",\"\",'RWIS (Desc)'!C35)","v":""},{"$f":"IF('RWIS (Desc)'!D35=\"\",\"\",INDEX([1]OWNER!$A$2:$A$100,MATCH('RWIS (Desc)'!$D35,[1]!MASTER_OWNER_DESC[#Data],0),0))","v":""},{"$f":"IF('RWIS (Desc)'!E35=\"\",\"\",INDEX([1]COUNTY!$A$2:$A$80,MATCH('RWIS (Desc)'!E35,[1]!MASTER_COUNTY_NAME[#Data],0),0))","v":""},{"$f":"IF('RWIS (Desc)'!F35=\"\",\"\",'RWIS (Desc)'!F35)","v":""},{"$f":"IF('RWIS (Desc)'!G35=\"\",\"\",'RWIS (Desc)'!G35)","v":""}]
[{"$f":"IF('RWIS (Desc)'!A36=\"\",\"\",'RWIS (Desc)'!A36)","v":""},{"$f":"IF('RWIS (Desc)'!B36=\"\",\"\",'RWIS (Desc)'!B36)","v":""},{"$f":"IF('RWIS (Desc)'!C36=\"\",\"\",'RWIS (Desc)'!C36)","v":""},{"$f":"IF('RWIS (Desc)'!D36=\"\",\"\",INDEX([1]OWNER!$A$2:$A$100,MATCH('RWIS (Desc)'!$D36,[1]!MASTER_OWNER_DESC[#Data],0),0))","v":""},{"$f":"IF('RWIS (Desc)'!E36=\"\",\"\",INDEX([1]COUNTY!$A$2:$A$80,MATCH('RWIS (Desc)'!E36,[1]!MASTER_COUNTY_NAME[#Data],0),0))","v":""},{"$f":"IF('RWIS (Desc)'!F36=\"\",\"\",'RWIS (Desc)'!F36)","v":""},{"$f":"IF('RWIS (Desc)'!G36=\"\",\"\",'RWIS (Desc)'!G36)","v":""}]
[{"$f":"IF('RWIS (Desc)'!A37=\"\",\"\",'RWIS (Desc)'!A37)","v":""},{"$f":"IF('RWIS (Desc)'!B37=\"\",\"\",'RWIS (Desc)'!B37)","v":""},{"$f":"IF('RWIS (Desc)'!C37=\"\",\"\",'RWIS (Desc)'!C37)","v":""},{"$f":"IF('RWIS (Desc)'!D37=\"\",\"\",INDEX([1]OWNER!$A$2:$A$100,MATCH('RWIS (Desc)'!$D37,[1]!MASTER_OWNER_DESC[#Data],0),0))","v":""},{"$f":"IF('RWIS (Desc)'!E37=\"\",\"\",INDEX([1]COUNTY!$A$2:$A$80,MATCH('RWIS (Desc)'!E37,[1]!MASTER_COUNTY_NAME[#Data],0),0))","v":""},{"$f":"IF('RWIS (Desc)'!F37=\"\",\"\",'RWIS (Desc)'!F37)","v":""},{"$f":"IF('RWIS (Desc)'!G37=\"\",\"\",'RWIS (Desc)'!G37)","v":""}]
[{"$f":"IF('RWIS (Desc)'!A38=\"\",\"\",'RWIS (Desc)'!A38)","v":""},{"$f":"IF('RWIS (Desc)'!B38=\"\",\"\",'RWIS (Desc)'!B38)","v":""},{"$f":"IF('RWIS (Desc)'!C38=\"\",\"\",'RWIS (Desc)'!C38)","v":""},{"$f":"IF('RWIS (Desc)'!D38=\"\",\"\",INDEX([1]OWNER!$A$2:$A$100,MATCH('RWIS (Desc)'!$D38,[1]!MASTER_OWNER_DESC[#Data],0),0))","v":""},{"$f":"IF('RWIS (Desc)'!E38=\"\",\"\",INDEX([1]COUNTY!$A$2:$A$80,MATCH('RWIS (Desc)'!E38,[1]!MASTER_COUNTY_NAME[#Data],0),0))","v":""},{"$f":"IF('RWIS (Desc)'!F38=\"\",\"\",'RWIS (Desc)'!F38)","v":""},{"$f":"IF('RWIS (Desc)'!G38=\"\",\"\",'RWIS (Desc)'!G38)","v":""}]
[{"$f":"IF('RWIS (Desc)'!A39=\"\",\"\",'RWIS (Desc)'!A39)","v":""},{"$f":"IF('RWIS (Desc)'!B39=\"\",\"\",'RWIS (Desc)'!B39)","v":""},{"$f":"IF('RWIS (Desc)'!C39=\"\",\"\",'RWIS (Desc)'!C39)","v":""},{"$f":"IF('RWIS (Desc)'!D39=\"\",\"\",INDEX([1]OWNER!$A$2:$A$100,MATCH('RWIS (Desc)'!$D39,[1]!MASTER_OWNER_DESC[#Data],0),0))","v":""},{"$f":"IF('RWIS (Desc)'!E39=\"\",\"\",INDEX([1]COUNTY!$A$2:$A$80,MATCH('RWIS (Desc)'!E39,[1]!MASTER_COUNTY_NAME[#Data],0),0))","v":""},{"$f":"IF('RWIS (Desc)'!F39=\"\",\"\",'RWIS (Desc)'!F39)","v":""},{"$f":"IF('RWIS (Desc)'!G39=\"\",\"\",'RWIS (Desc)'!G39)","v":""}]
[{"$f":"IF('RWIS (Desc)'!A40=\"\",\"\",'RWIS (Desc)'!A40)","v":""},{"$f":"IF('RWIS (Desc)'!B40=\"\",\"\",'RWIS (Desc)'!B40)","v":""},{"$f":"IF('RWIS (Desc)'!C40=\"\",\"\",'RWIS (Desc)'!C40)","v":""},{"$f":"IF('RWIS (Desc)'!D40=\"\",\"\",INDEX([1]OWNER!$A$2:$A$100,MATCH('RWIS (Desc)'!$D40,[1]!MASTER_OWNER_DESC[#Data],0),0))","v":""},{"$f":"IF('RWIS (Desc)'!E40=\"\",\"\",INDEX([1]COUNTY!$A$2:$A$80,MATCH('RWIS (Desc)'!E40,[1]!MASTER_COUNTY_NAME[#Data],0),0))","v":""},{"$f":"IF('RWIS (Desc)'!F40=\"\",\"\",'RWIS (Desc)'!F40)","v":""},{"$f":"IF('RWIS (Desc)'!G40=\"\",\"\",'RWIS (Desc)'!G40)","v":""}]
[{"$f":"IF('RWIS (Desc)'!A41=\"\",\"\",'RWIS (Desc)'!A41)","v":""},{"$f":"IF('RWIS (Desc)'!B41=\"\",\"\",'RWIS (Desc)'!B41)","v":""},{"$f":"IF('RWIS (Desc)'!C41=\"\",\"\",'RWIS (Desc)'!C41)","v":""},{"$f":"IF('RWIS (Desc)'!D41=\"\",\"\",INDEX([1]OWNER!$A$2:$A$100,MATCH('RWIS (Desc)'!$D41,[1]!MASTER_OWNER_DESC[#Data],0),0))","v":""},{"$f":"IF('RWIS (Desc)'!E41=\"\",\"\",INDEX([1]COUNTY!$A$2:$A$80,MATCH('RWIS (Desc)'!E41,[1]!MASTER_COUNTY_NAME[#Data],0),0))","v":""},{"$f":"IF('RWIS (Desc)'!F41=\"\",\"\",'RWIS (Desc)'!F41)","v":""},{"$f":"IF('RWIS (Desc)'!G41=\"\",\"\",'RWIS (Desc)'!G41)","v":""}]
[{"$f":"IF('RWIS (Desc)'!A42=\"\",\"\",'RWIS (Desc)'!A42)","v":""},{"$f":"IF('RWIS (Desc)'!B42=\"\",\"\",'RWIS (Desc)'!B42)","v":""},{"$f":"IF('RWIS (Desc)'!C42=\"\",\"\",'RWIS (Desc)'!C42)","v":""},{"$f":"IF('RWIS (Desc)'!D42=\"\",\"\",INDEX([1]OWNER!$A$2:$A$100,MATCH('RWIS (Desc)'!$D42,[1]!MASTER_OWNER_DESC[#Data],0),0))","v":""},{"$f":"IF('RWIS (Desc)'!E42=\"\",\"\",INDEX([1]COUNTY!$A$2:$A$80,MATCH('RWIS (Desc)'!E42,[1]!MASTER_COUNTY_NAME[#Data],0),0))","v":""},{"$f":"IF('RWIS (Desc)'!F42=\"\",\"\",'RWIS (Desc)'!F42)","v":""},{"$f":"IF('RWIS (Desc)'!G42=\"\",\"\",'RWIS (Desc)'!G42)","v":""}]
[{"$f":"IF('RWIS (Desc)'!A43=\"\",\"\",'RWIS (Desc)'!A43)","v":""},{"$f":"IF('RWIS (Desc)'!B43=\"\",\"\",'RWIS (Desc)'!B43)","v":""},{"$f":"IF('RWIS (Desc)'!C43=\"\",\"\",'RWIS (Desc)'!C43)","v":""},{"$f":"IF('RWIS (Desc)'!D43=\"\",\"\",INDEX([1]OWNER!$A$2:$A$100,MATCH('RWIS (Desc)'!$D43,[1]!MASTER_OWNER_DESC[#Data],0),0))","v":""},{"$f":"IF('RWIS (Desc)'!E43=\"\",\"\",INDEX([1]COUNTY!$A$2:$A$80,MATCH('RWIS (Desc)'!E43,[1]!MASTER_COUNTY_NAME[#Data],0),0))","v":""},{"$f":"IF('RWIS (Desc)'!F43=\"\",\"\",'RWIS (Desc)'!F43)","v":""},{"$f":"IF('RWIS (Desc)'!G43=\"\",\"\",'RWIS (Desc)'!G43)","v":""}]
[{"$f":"IF('RWIS (Desc)'!A44=\"\",\"\",'RWIS (Desc)'!A44)","v":""},{"$f":"IF('RWIS (Desc)'!B44=\"\",\"\",'RWIS (Desc)'!B44)","v":""},{"$f":"IF('RWIS (Desc)'!C44=\"\",\"\",'RWIS (Desc)'!C44)","v":""},{"$f":"IF('RWIS (Desc)'!D44=\"\",\"\",INDEX([1]OWNER!$A$2:$A$100,MATCH('RWIS (Desc)'!$D44,[1]!MASTER_OWNER_DESC[#Data],0),0))","v":""},{"$f":"IF('RWIS (Desc)'!E44=\"\",\"\",INDEX([1]COUNTY!$A$2:$A$80,MATCH('RWIS (Desc)'!E44,[1]!MASTER_COUNTY_NAME[#Data],0),0))","v":""},{"$f":"IF('RWIS (Desc)'!F44=\"\",\"\",'RWIS (Desc)'!F44)","v":""},{"$f":"IF('RWIS (Desc)'!G44=\"\",\"\",'RWIS (Desc)'!G44)","v":""}]
[{"$f":"IF('RWIS (Desc)'!A45=\"\",\"\",'RWIS (Desc)'!A45)","v":""},{"$f":"IF('RWIS (Desc)'!B45=\"\",\"\",'RWIS (Desc)'!B45)","v":""},{"$f":"IF('RWIS (Desc)'!C45=\"\",\"\",'RWIS (Desc)'!C45)","v":""},{"$f":"IF('RWIS (Desc)'!D45=\"\",\"\",INDEX([1]OWNER!$A$2:$A$100,MATCH('RWIS (Desc)'!$D45,[1]!MASTER_OWNER_DESC[#Data],0),0))","v":""},{"$f":"IF('RWIS (Desc)'!E45=\"\",\"\",INDEX([1]COUNTY!$A$2:$A$80,MATCH('RWIS (Desc)'!E45,[1]!MASTER_COUNTY_NAME[#Data],0),0))","v":""},{"$f":"IF('RWIS (Desc)'!F45=\"\",\"\",'RWIS (Desc)'!F45)","v":""},{"$f":"IF('RWIS (Desc)'!G45=\"\",\"\",'RWIS (Desc)'!G45)","v":""}]
[{"$f":"IF('RWIS (Desc)'!A46=\"\",\"\",'RWIS (Desc)'!A46)","v":""},{"$f":"IF('RWIS (Desc)'!B46=\"\",\"\",'RWIS (Desc)'!B46)","v":""},{"$f":"IF('RWIS (Desc)'!C46=\"\",\"\",'RWIS (Desc)'!C46)","v":""},{"$f":"IF('RWIS (Desc)'!D46=\"\",\"\",INDEX([1]OWNER!$A$2:$A$100,MATCH('RWIS (Desc)'!$D46,[1]!MASTER_OWNER_DESC[#Data],0),0))","v":""},{"$f":"IF('RWIS (Desc)'!E46=\"\",\"\",INDEX([1]COUNTY!$A$2:$A$80,MATCH('RWIS (Desc)'!E46,[1]!MASTER_COUNTY_NAME[#Data],0),0))","v":""},{"$f":"IF('RWIS (Desc)'!F46=\"\",\"\",'RWIS (Desc)'!F46)","v":""},{"$f":"IF('RWIS (Desc)'!G46=\"\",\"\",'RWIS (Desc)'!G46)","v":""}]
[{"$f":"IF('RWIS (Desc)'!A47=\"\",\"\",'RWIS (Desc)'!A47)","v":""},{"$f":"IF('RWIS (Desc)'!B47=\"\",\"\",'RWIS (Desc)'!B47)","v":""},{"$f":"IF('RWIS (Desc)'!C47=\"\",\"\",'RWIS (Desc)'!C47)","v":""},{"$f":"IF('RWIS (Desc)'!D47=\"\",\"\",INDEX([1]OWNER!$A$2:$A$100,MATCH('RWIS (Desc)'!$D47,[1]!MASTER_OWNER_DESC[#Data],0),0))","v":""},{"$f":"IF('RWIS (Desc)'!E47=\"\",\"\",INDEX([1]COUNTY!$A$2:$A$80,MATCH('RWIS (Desc)'!E47,[1]!MASTER_COUNTY_NAME[#Data],0),0))","v":""},{"$f":"IF('RWIS (Desc)'!F47=\"\",\"\",'RWIS (Desc)'!F47)","v":""},{"$f":"IF('RWIS (Desc)'!G47=\"\",\"\",'RWIS (Desc)'!G47)","v":""}]
[{"$f":"IF('RWIS (Desc)'!A48=\"\",\"\",'RWIS (Desc)'!A48)","v":""},{"$f":"IF('RWIS (Desc)'!B48=\"\",\"\",'RWIS (Desc)'!B48)","v":""},{"$f":"IF('RWIS (Desc)'!C48=\"\",\"\",'RWIS (Desc)'!C48)","v":""},{"$f":"IF('RWIS (Desc)'!D48=\"\",\"\",INDEX([1]OWNER!$A$2:$A$100,MATCH('RWIS (Desc)'!$D48,[1]!MASTER_OWNER_DESC[#Data],0),0))","v":""},{"$f":"IF('RWIS (Desc)'!E48=\"\",\"\",INDEX([1]COUNTY!$A$2:$A$80,MATCH('RWIS (Desc)'!E48,[1]!MASTER_COUNTY_NAME[#Data],0),0))","v":""},{"$f":"IF('RWIS (Desc)'!F48=\"\",\"\",'RWIS (Desc)'!F48)","v":""},{"$f":"IF('RWIS (Desc)'!G48=\"\",\"\",'RWIS (Desc)'!G48)","v":""}]
[{"$f":"IF('RWIS (Desc)'!A49=\"\",\"\",'RWIS (Desc)'!A49)","v":""},{"$f":"IF('RWIS (Desc)'!B49=\"\",\"\",'RWIS (Desc)'!B49)","v":""},{"$f":"IF('RWIS (Desc)'!C49=\"\",\"\",'RWIS (Desc)'!C49)","v":""},{"$f":"IF('RWIS (Desc)'!D49=\"\",\"\",INDEX([1]OWNER!$A$2:$A$100,MATCH('RWIS (Desc)'!$D49,[1]!MASTER_OWNER_DESC[#Data],0),0))","v":""},{"$f":"IF('RWIS (Desc)'!E49=\"\",\"\",INDEX([1]COUNTY!$A$2:$A$80,MATCH('RWIS (Desc)'!E49,[1]!MASTER_COUNTY_NAME[#Data],0),0))","v":""},{"$f":"IF('RWIS (Desc)'!F49=\"\",\"\",'RWIS (Desc)'!F49)","v":""},{"$f":"IF('RWIS (Desc)'!G49=\"\",\"\",'RWIS (Desc)'!G49)","v":""}]
[{"$f":"IF('RWIS (Desc)'!A50=\"\",\"\",'RWIS (Desc)'!A50)","v":""},{"$f":"IF('RWIS (Desc)'!B50=\"\",\"\",'RWIS (Desc)'!B50)","v":""},{"$f":"IF('RWIS (Desc)'!C50=\"\",\"\",'RWIS (Desc)'!C50)","v":""},{"$f":"IF('RWIS (Desc)'!D50=\"\",\"\",INDEX([1]OWNER!$A$2:$A$100,MATCH('RWIS (Desc)'!$D50,[1]!MASTER_OWNER_DESC[#Data],0),0))","v":""},{"$f":"IF('RWIS (Desc)'!E50=\"\",\"\",INDEX([1]COUNTY!$A$2:$A$80,MATCH('RWIS (Desc)'!E50,[1]!MASTER_COUNTY_NAME[#Data],0),0))","v":""},{"$f":"IF('RWIS (Desc)'!F50=\"\",\"\",'RWIS (Desc)'!F50)","v":""},{"$f":"IF('RWIS (Desc)'!G50=\"\",\"\",'RWIS (Desc)'!G50)","v":""}]
[{"$f":"IF('RWIS (Desc)'!A51=\"\",\"\",'RWIS (Desc)'!A51)","v":""},{"$f":"IF('RWIS (Desc)'!B51=\"\",\"\",'RWIS (Desc)'!B51)","v":""},{"$f":"IF('RWIS (Desc)'!C51=\"\",\"\",'RWIS (Desc)'!C51)","v":""},{"$f":"IF('RWIS (Desc)'!D51=\"\",\"\",INDEX([1]OWNER!$A$2:$A$100,MATCH('RWIS (Desc)'!$D51,[1]!MASTER_OWNER_DESC[#Data],0),0))","v":""},{"$f":"IF('RWIS (Desc)'!E51=\"\",\"\",INDEX([1]COUNTY!$A$2:$A$80,MATCH('RWIS (Desc)'!E51,[1]!MASTER_COUNTY_NAME[#Data],0),0))","v":""},{"$f":"IF('RWIS (Desc)'!F51=\"\",\"\",'RWIS (Desc)'!F51)","v":""},{"$f":"IF('RWIS (Desc)'!G51=\"\",\"\",'RWIS (Desc)'!G51)","v":""}]
[{"$f":"IF('RWIS (Desc)'!A52=\"\",\"\",'RWIS (Desc)'!A52)","v":""},{"$f":"IF('RWIS (Desc)'!B52=\"\",\"\",'RWIS (Desc)'!B52)","v":""},{"$f":"IF('RWIS (Desc)'!C52=\"\",\"\",'RWIS (Desc)'!C52)","v":""},{"$f":"IF('RWIS (Desc)'!D52=\"\",\"\",INDEX([1]OWNER!$A$2:$A$100,MATCH('RWIS (Desc)'!$D52,[1]!MASTER_OWNER_DESC[#Data],0),0))","v":""},{"$f":"IF('RWIS (Desc)'!E52=\"\",\"\",INDEX([1]COUNTY!$A$2:$A$80,MATCH('RWIS (Desc)'!E52,[1]!MASTER_COUNTY_NAME[#Data],0),0))","v":""},{"$f":"IF('RWIS (Desc)'!F52=\"\",\"\",'RWIS (Desc)'!F52)","v":""},{"$f":"IF('RWIS (Desc)'!G52=\"\",\"\",'RWIS (Desc)'!G52)","v":""}]
[{"$f":"IF('RWIS (Desc)'!A53=\"\",\"\",'RWIS (Desc)'!A53)","v":""},{"$f":"IF('RWIS (Desc)'!B53=\"\",\"\",'RWIS (Desc)'!B53)","v":""},{"$f":"IF('RWIS (Desc)'!C53=\"\",\"\",'RWIS (Desc)'!C53)","v":""},{"$f":"IF('RWIS (Desc)'!D53=\"\",\"\",INDEX([1]OWNER!$A$2:$A$100,MATCH('RWIS (Desc)'!$D53,[1]!MASTER_OWNER_DESC[#Data],0),0))","v":""},{"$f":"IF('RWIS (Desc)'!E53=\"\",\"\",INDEX([1]COUNTY!$A$2:$A$80,MATCH('RWIS (Desc)'!E53,[1]!MASTER_COUNTY_NAME[#Data],0),0))","v":""},{"$f":"IF('RWIS (Desc)'!F53=\"\",\"\",'RWIS (Desc)'!F53)","v":""},{"$f":"IF('RWIS (Desc)'!G53=\"\",\"\",'RWIS (Desc)'!G53)","v":""}]
[{"$f":"IF('RWIS (Desc)'!A54=\"\",\"\",'RWIS (Desc)'!A54)","v":""},{"$f":"IF('RWIS (Desc)'!B54=\"\",\"\",'RWIS (Desc)'!B54)","v":""},{"$f":"IF('RWIS (Desc)'!C54=\"\",\"\",'RWIS (Desc)'!C54)","v":""},{"$f":"IF('RWIS (Desc)'!D54=\"\",\"\",INDEX([1]OWNER!$A$2:$A$100,MATCH('RWIS (Desc)'!$D54,[1]!MASTER_OWNER_DESC[#Data],0),0))","v":""},{"$f":"IF('RWIS (Desc)'!E54=\"\",\"\",INDEX([1]COUNTY!$A$2:$A$80,MATCH('RWIS (Desc)'!E54,[1]!MASTER_COUNTY_NAME[#Data],0),0))","v":""},{"$f":"IF('RWIS (Desc)'!F54=\"\",\"\",'RWIS (Desc)'!F54)","v":""},{"$f":"IF('RWIS (Desc)'!G54=\"\",\"\",'RWIS (Desc)'!G54)","v":""}]
[{"$f":"IF('RWIS (Desc)'!A55=\"\",\"\",'RWIS (Desc)'!A55)","v":""},{"$f":"IF('RWIS (Desc)'!B55=\"\",\"\",'RWIS (Desc)'!B55)","v":""},{"$f":"IF('RWIS (Desc)'!C55=\"\",\"\",'RWIS (Desc)'!C55)","v":""},{"$f":"IF('RWIS (Desc)'!D55=\"\",\"\",INDEX([1]OWNER!$A$2:$A$100,MATCH('RWIS (Desc)'!$D55,[1]!MASTER_OWNER_DESC[#Data],0),0))","v":""},{"$f":"IF('RWIS (Desc)'!E55=\"\",\"\",INDEX([1]COUNTY!$A$2:$A$80,MATCH('RWIS (Desc)'!E55,[1]!MASTER_COUNTY_NAME[#Data],0),0))","v":""},{"$f":"IF('RWIS (Desc)'!F55=\"\",\"\",'RWIS (Desc)'!F55)","v":""},{"$f":"IF('RWIS (Desc)'!G55=\"\",\"\",'RWIS (Desc)'!G55)","v":""}]
[{"$f":"IF('RWIS (Desc)'!A56=\"\",\"\",'RWIS (Desc)'!A56)","v":""},{"$f":"IF('RWIS (Desc)'!B56=\"\",\"\",'RWIS (Desc)'!B56)","v":""},{"$f":"IF('RWIS (Desc)'!C56=\"\",\"\",'RWIS (Desc)'!C56)","v":""},{"$f":"IF('RWIS (Desc)'!D56=\"\",\"\",INDEX([1]OWNER!$A$2:$A$100,MATCH('RWIS (Desc)'!$D56,[1]!MASTER_OWNER_DESC[#Data],0),0))","v":""},{"$f":"IF('RWIS (Desc)'!E56=\"\",\"\",INDEX([1]COUNTY!$A$2:$A$80,MATCH('RWIS (Desc)'!E56,[1]!MASTER_COUNTY_NAME[#Data],0),0))","v":""},{"$f":"IF('RWIS (Desc)'!F56=\"\",\"\",'RWIS (Desc)'!F56)","v":""},{"$f":"IF('RWIS (Desc)'!G56=\"\",\"\",'RWIS (Desc)'!G56)","v":""}]
[{"$f":"IF('RWIS (Desc)'!A57=\"\",\"\",'RWIS (Desc)'!A57)","v":""},{"$f":"IF('RWIS (Desc)'!B57=\"\",\"\",'RWIS (Desc)'!B57)","v":""},{"$f":"IF('RWIS (Desc)'!C57=\"\",\"\",'RWIS (Desc)'!C57)","v":""},{"$f":"IF('RWIS (Desc)'!D57=\"\",\"\",INDEX([1]OWNER!$A$2:$A$100,MATCH('RWIS (Desc)'!$D57,[1]!MASTER_OWNER_DESC[#Data],0),0))","v":""},{"$f":"IF('RWIS (Desc)'!E57=\"\",\"\",INDEX([1]COUNTY!$A$2:$A$80,MATCH('RWIS (Desc)'!E57,[1]!MASTER_COUNTY_NAME[#Data],0),0))","v":""},{"$f":"IF('RWIS (Desc)'!F57=\"\",\"\",'RWIS (Desc)'!F57)","v":""},{"$f":"IF('RWIS (Desc)'!G57=\"\",\"\",'RWIS (Desc)'!G57)","v":""}]
[{"$f":"IF('RWIS (Desc)'!A58=\"\",\"\",'RWIS (Desc)'!A58)","v":""},{"$f":"IF('RWIS (Desc)'!B58=\"\",\"\",'RWIS (Desc)'!B58)","v":""},{"$f":"IF('RWIS (Desc)'!C58=\"\",\"\",'RWIS (Desc)'!C58)","v":""},{"$f":"IF('RWIS (Desc)'!D58=\"\",\"\",INDEX([1]OWNER!$A$2:$A$100,MATCH('RWIS (Desc)'!$D58,[1]!MASTER_OWNER_DESC[#Data],0),0))","v":""},{"$f":"IF('RWIS (Desc)'!E58=\"\",\"\",INDEX([1]COUNTY!$A$2:$A$80,MATCH('RWIS (Desc)'!E58,[1]!MASTER_COUNTY_NAME[#Data],0),0))","v":""},{"$f":"IF('RWIS (Desc)'!F58=\"\",\"\",'RWIS (Desc)'!F58)","v":""},{"$f":"IF('RWIS (Desc)'!G58=\"\",\"\",'RWIS (Desc)'!G58)","v":""}]
[{"$f":"IF('RWIS (Desc)'!A59=\"\",\"\",'RWIS (Desc)'!A59)","v":""},{"$f":"IF('RWIS (Desc)'!B59=\"\",\"\",'RWIS (Desc)'!B59)","v":""},{"$f":"IF('RWIS (Desc)'!C59=\"\",\"\",'RWIS (Desc)'!C59)","v":""},{"$f":"IF('RWIS (Desc)'!D59=\"\",\"\",INDEX([1]OWNER!$A$2:$A$100,MATCH('RWIS (Desc)'!$D59,[1]!MASTER_OWNER_DESC[#Data],0),0))","v":""},{"$f":"IF('RWIS (Desc)'!E59=\"\",\"\",INDEX([1]COUNTY!$A$2:$A$80,MATCH('RWIS (Desc)'!E59,[1]!MASTER_COUNTY_NAME[#Data],0),0))","v":""},{"$f":"IF('RWIS (Desc)'!F59=\"\",\"\",'RWIS (Desc)'!F59)","v":""},{"$f":"IF('RWIS (Desc)'!G59=\"\",\"\",'RWIS (Desc)'!G59)","v":""}]
[{"$f":"IF('RWIS (Desc)'!A60=\"\",\"\",'RWIS (Desc)'!A60)","v":""},{"$f":"IF('RWIS (Desc)'!B60=\"\",\"\",'RWIS (Desc)'!B60)","v":""},{"$f":"IF('RWIS (Desc)'!C60=\"\",\"\",'RWIS (Desc)'!C60)","v":""},{"$f":"IF('RWIS (Desc)'!D60=\"\",\"\",INDEX([1]OWNER!$A$2:$A$100,MATCH('RWIS (Desc)'!$D60,[1]!MASTER_OWNER_DESC[#Data],0),0))","v":""},{"$f":"IF('RWIS (Desc)'!E60=\"\",\"\",INDEX([1]COUNTY!$A$2:$A$80,MATCH('RWIS (Desc)'!E60,[1]!MASTER_COUNTY_NAME[#Data],0),0))","v":""},{"$f":"IF('RWIS (Desc)'!F60=\"\",\"\",'RWIS (Desc)'!F60)","v":""},{"$f":"IF('RWIS (Desc)'!G60=\"\",\"\",'RWIS (Desc)'!G60)","v":""}]
[{"$f":"IF('RWIS (Desc)'!A61=\"\",\"\",'RWIS (Desc)'!A61)","v":""},{"$f":"IF('RWIS (Desc)'!B61=\"\",\"\",'RWIS (Desc)'!B61)","v":""},{"$f":"IF('RWIS (Desc)'!C61=\"\",\"\",'RWIS (Desc)'!C61)","v":""},{"$f":"IF('RWIS (Desc)'!D61=\"\",\"\",INDEX([1]OWNER!$A$2:$A$100,MATCH('RWIS (Desc)'!$D61,[1]!MASTER_OWNER_DESC[#Data],0),0))","v":""},{"$f":"IF('RWIS (Desc)'!E61=\"\",\"\",INDEX([1]COUNTY!$A$2:$A$80,MATCH('RWIS (Desc)'!E61,[1]!MASTER_COUNTY_NAME[#Data],0),0))","v":""},{"$f":"IF('RWIS (Desc)'!F61=\"\",\"\",'RWIS (Desc)'!F61)","v":""},{"$f":"IF('RWIS (Desc)'!G61=\"\",\"\",'RWIS (Desc)'!G61)","v":""}]
[{"$f":"IF('RWIS (Desc)'!A62=\"\",\"\",'RWIS (Desc)'!A62)","v":""},{"$f":"IF('RWIS (Desc)'!B62=\"\",\"\",'RWIS (Desc)'!B62)","v":""},{"$f":"IF('RWIS (Desc)'!C62=\"\",\"\",'RWIS (Desc)'!C62)","v":""},{"$f":"IF('RWIS (Desc)'!D62=\"\",\"\",INDEX([1]OWNER!$A$2:$A$100,MATCH('RWIS (Desc)'!$D62,[1]!MASTER_OWNER_DESC[#Data],0),0))","v":""},{"$f":"IF('RWIS (Desc)'!E62=\"\",\"\",INDEX([1]COUNTY!$A$2:$A$80,MATCH('RWIS (Desc)'!E62,[1]!MASTER_COUNTY_NAME[#Data],0),0))","v":""},{"$f":"IF('RWIS (Desc)'!F62=\"\",\"\",'RWIS (Desc)'!F62)","v":""},{"$f":"IF('RWIS (Desc)'!G62=\"\",\"\",'RWIS (Desc)'!G62)","v":""}]
[{"$f":"IF('RWIS (Desc)'!A63=\"\",\"\",'RWIS (Desc)'!A63)","v":""},{"$f":"IF('RWIS (Desc)'!B63=\"\",\"\",'RWIS (Desc)'!B63)","v":""},{"$f":"IF('RWIS (Desc)'!C63=\"\",\"\",'RWIS (Desc)'!C63)","v":""},{"$f":"IF('RWIS (Desc)'!D63=\"\",\"\",INDEX([1]OWNER!$A$2:$A$100,MATCH('RWIS (Desc)'!$D63,[1]!MASTER_OWNER_DESC[#Data],0),0))","v":""},{"$f":"IF('RWIS (Desc)'!E63=\"\",\"\",INDEX([1]COUNTY!$A$2:$A$80,MATCH('RWIS (Desc)'!E63,[1]!MASTER_COUNTY_NAME[#Data],0),0))","v":""},{"$f":"IF('RWIS (Desc)'!F63=\"\",\"\",'RWIS (Desc)'!F63)","v":""},{"$f":"IF('RWIS (Desc)'!G63=\"\",\"\",'RWIS (Desc)'!G63)","v":""}]
[{"$f":"IF('RWIS (Desc)'!A64=\"\",\"\",'RWIS (Desc)'!A64)","v":""},{"$f":"IF('RWIS (Desc)'!B64=\"\",\"\",'RWIS (Desc)'!B64)","v":""},{"$f":"IF('RWIS (Desc)'!C64=\"\",\"\",'RWIS (Desc)'!C64)","v":""},{"$f":"IF('RWIS (Desc)'!D64=\"\",\"\",INDEX([1]OWNER!$A$2:$A$100,MATCH('RWIS (Desc)'!$D64,[1]!MASTER_OWNER_DESC[#Data],0),0))","v":""},{"$f":"IF('RWIS (Desc)'!E64=\"\",\"\",INDEX([1]COUNTY!$A$2:$A$80,MATCH('RWIS (Desc)'!E64,[1]!MASTER_COUNTY_NAME[#Data],0),0))","v":""},{"$f":"IF('RWIS (Desc)'!F64=\"\",\"\",'RWIS (Desc)'!F64)","v":""},{"$f":"IF('RWIS (Desc)'!G64=\"\",\"\",'RWIS (Desc)'!G64)","v":""}]
[{"$f":"IF('RWIS (Desc)'!A65=\"\",\"\",'RWIS (Desc)'!A65)","v":""},{"$f":"IF('RWIS (Desc)'!B65=\"\",\"\",'RWIS (Desc)'!B65)","v":""},{"$f":"IF('RWIS (Desc)'!C65=\"\",\"\",'RWIS (Desc)'!C65)","v":""},{"$f":"IF('RWIS (Desc)'!D65=\"\",\"\",INDEX([1]OWNER!$A$2:$A$100,MATCH('RWIS (Desc)'!$D65,[1]!MASTER_OWNER_DESC[#Data],0),0))","v":""},{"$f":"IF('RWIS (Desc)'!E65=\"\",\"\",INDEX([1]COUNTY!$A$2:$A$80,MATCH('RWIS (Desc)'!E65,[1]!MASTER_COUNTY_NAME[#Data],0),0))","v":""},{"$f":"IF('RWIS (Desc)'!F65=\"\",\"\",'RWIS (Desc)'!F65)","v":""},{"$f":"IF('RWIS (Desc)'!G65=\"\",\"\",'RWIS (Desc)'!G65)","v":""}]
[{"$f":"IF('RWIS (Desc)'!A66=\"\",\"\",'RWIS (Desc)'!A66)","v":""},{"$f":"IF('RWIS (Desc)'!B66=\"\",\"\",'RWIS (Desc)'!B66)","v":""},{"$f":"IF('RWIS (Desc)'!C66=\"\",\"\",'RWIS (Desc)'!C66)","v":""},{"$f":"IF('RWIS (Desc)'!D66=\"\",\"\",INDEX([1]OWNER!$A$2:$A$100,MATCH('RWIS (Desc)'!$D66,[1]!MASTER_OWNER_DESC[#Data],0),0))","v":""},{"$f":"IF('RWIS (Desc)'!E66=\"\",\"\",INDEX([1]COUNTY!$A$2:$A$80,MATCH('RWIS (Desc)'!E66,[1]!MASTER_COUNTY_NAME[#Data],0),0))","v":""},{"$f":"IF('RWIS (Desc)'!F66=\"\",\"\",'RWIS (Desc)'!F66)","v":""},{"$f":"IF('RWIS (Desc)'!G66=\"\",\"\",'RWIS (Desc)'!G66)","v":""}]
[{"$f":"IF('RWIS (Desc)'!A67=\"\",\"\",'RWIS (Desc)'!A67)","v":""},{"$f":"IF('RWIS (Desc)'!B67=\"\",\"\",'RWIS (Desc)'!B67)","v":""},{"$f":"IF('RWIS (Desc)'!C67=\"\",\"\",'RWIS (Desc)'!C67)","v":""},{"$f":"IF('RWIS (Desc)'!D67=\"\",\"\",INDEX([1]OWNER!$A$2:$A$100,MATCH('RWIS (Desc)'!$D67,[1]!MASTER_OWNER_DESC[#Data],0),0))","v":""},{"$f":"IF('RWIS (Desc)'!E67=\"\",\"\",INDEX([1]COUNTY!$A$2:$A$80,MATCH('RWIS (Desc)'!E67,[1]!MASTER_COUNTY_NAME[#Data],0),0))","v":""},{"$f":"IF('RWIS (Desc)'!F67=\"\",\"\",'RWIS (Desc)'!F67)","v":""},{"$f":"IF('RWIS (Desc)'!G67=\"\",\"\",'RWIS (Desc)'!G67)","v":""}]
[{"$f":"IF('RWIS (Desc)'!A68=\"\",\"\",'RWIS (Desc)'!A68)","v":""},{"$f":"IF('RWIS (Desc)'!B68=\"\",\"\",'RWIS (Desc)'!B68)","v":""},{"$f":"IF('RWIS (Desc)'!C68=\"\",\"\",'RWIS (Desc)'!C68)","v":""},{"$f":"IF('RWIS (Desc)'!D68=\"\",\"\",INDEX([1]OWNER!$A$2:$A$100,MATCH('RWIS (Desc)'!$D68,[1]!MASTER_OWNER_DESC[#Data],0),0))","v":""},{"$f":"IF('RWIS (Desc)'!E68=\"\",\"\",INDEX([1]COUNTY!$A$2:$A$80,MATCH('RWIS (Desc)'!E68,[1]!MASTER_COUNTY_NAME[#Data],0),0))","v":""},{"$f":"IF('RWIS (Desc)'!F68=\"\",\"\",'RWIS (Desc)'!F68)","v":""},{"$f":"IF('RWIS (Desc)'!G68=\"\",\"\",'RWIS (Desc)'!G68)","v":""}]
[{"$f":"IF('RWIS (Desc)'!A69=\"\",\"\",'RWIS (Desc)'!A69)","v":""},{"$f":"IF('RWIS (Desc)'!B69=\"\",\"\",'RWIS (Desc)'!B69)","v":""},{"$f":"IF('RWIS (Desc)'!C69=\"\",\"\",'RWIS (Desc)'!C69)","v":""},{"$f":"IF('RWIS (Desc)'!D69=\"\",\"\",INDEX([1]OWNER!$A$2:$A$100,MATCH('RWIS (Desc)'!$D69,[1]!MASTER_OWNER_DESC[#Data],0),0))","v":""},{"$f":"IF('RWIS (Desc)'!E69=\"\",\"\",INDEX([1]COUNTY!$A$2:$A$80,MATCH('RWIS (Desc)'!E69,[1]!MASTER_COUNTY_NAME[#Data],0),0))","v":""},{"$f":"IF('RWIS (Desc)'!F69=\"\",\"\",'RWIS (Desc)'!F69)","v":""},{"$f":"IF('RWIS (Desc)'!G69=\"\",\"\",'RWIS (Desc)'!G69)","v":""}]
[{"$f":"IF('RWIS (Desc)'!A70=\"\",\"\",'RWIS (Desc)'!A70)","v":""},{"$f":"IF('RWIS (Desc)'!B70=\"\",\"\",'RWIS (Desc)'!B70)","v":""},{"$f":"IF('RWIS (Desc)'!C70=\"\",\"\",'RWIS (Desc)'!C70)","v":""},{"$f":"IF('RWIS (Desc)'!D70=\"\",\"\",INDEX([1]OWNER!$A$2:$A$100,MATCH('RWIS (Desc)'!$D70,[1]!MASTER_OWNER_DESC[#Data],0),0))","v":""},{"$f":"IF('RWIS (Desc)'!E70=\"\",\"\",INDEX([1]COUNTY!$A$2:$A$80,MATCH('RWIS (Desc)'!E70,[1]!MASTER_COUNTY_NAME[#Data],0),0))","v":""},{"$f":"IF('RWIS (Desc)'!F70=\"\",\"\",'RWIS (Desc)'!F70)","v":""},{"$f":"IF('RWIS (Desc)'!G70=\"\",\"\",'RWIS (Desc)'!G70)","v":""}]
[{"$f":"IF('RWIS (Desc)'!A71=\"\",\"\",'RWIS (Desc)'!A71)","v":""},{"$f":"IF('RWIS (Desc)'!B71=\"\",\"\",'RWIS (Desc)'!B71)","v":""},{"$f":"IF('RWIS (Desc)'!C71=\"\",\"\",'RWIS (Desc)'!C71)","v":""},{"$f":"IF('RWIS (Desc)'!D71=\"\",\"\",INDEX([1]OWNER!$A$2:$A$100,MATCH('RWIS (Desc)'!$D71,[1]!MASTER_OWNER_DESC[#Data],0),0))","v":""},{"$f":"IF('RWIS (Desc)'!E71=\"\",\"\",INDEX([1]COUNTY!$A$2:$A$80,MATCH('RWIS (Desc)'!E71,[1]!MASTER_COUNTY_NAME[#Data],0),0))","v":""},{"$f":"IF('RWIS (Desc)'!F71=\"\",\"\",'RWIS (Desc)'!F71)","v":""},{"$f":"IF('RWIS (Desc)'!G71=\"\",\"\",'RWIS (Desc)'!G71)","v":""}]
[{"$f":"IF('RWIS (Desc)'!A72=\"\",\"\",'RWIS (Desc)'!A72)","v":""},{"$f":"IF('RWIS (Desc)'!B72=\"\",\"\",'RWIS (Desc)'!B72)","v":""},{"$f":"IF('RWIS (Desc)'!C72=\"\",\"\",'RWIS (Desc)'!C72)","v":""},{"$f":"IF('RWIS (Desc)'!D72=\"\",\"\",INDEX([1]OWNER!$A$2:$A$100,MATCH('RWIS (Desc)'!$D72,[1]!MASTER_OWNER_DESC[#Data],0),0))","v":""},{"$f":"IF('RWIS (Desc)'!E72=\"\",\"\",INDEX([1]COUNTY!$A$2:$A$80,MATCH('RWIS (Desc)'!E72,[1]!MASTER_COUNTY_NAME[#Data],0),0))","v":""},{"$f":"IF('RWIS (Desc)'!F72=\"\",\"\",'RWIS (Desc)'!F72)","v":""},{"$f":"IF('RWIS (Desc)'!G72=\"\",\"\",'RWIS (Desc)'!G72)","v":""}]
[{"$f":"IF('RWIS (Desc)'!A73=\"\",\"\",'RWIS (Desc)'!A73)","v":""},{"$f":"IF('RWIS (Desc)'!B73=\"\",\"\",'RWIS (Desc)'!B73)","v":""},{"$f":"IF('RWIS (Desc)'!C73=\"\",\"\",'RWIS (Desc)'!C73)","v":""},{"$f":"IF('RWIS (Desc)'!D73=\"\",\"\",INDEX([1]OWNER!$A$2:$A$100,MATCH('RWIS (Desc)'!$D73,[1]!MASTER_OWNER_DESC[#Data],0),0))","v":""},{"$f":"IF('RWIS (Desc)'!E73=\"\",\"\",INDEX([1]COUNTY!$A$2:$A$80,MATCH('RWIS (Desc)'!E73,[1]!MASTER_COUNTY_NAME[#Data],0),0))","v":""},{"$f":"IF('RWIS (Desc)'!F73=\"\",\"\",'RWIS (Desc)'!F73)","v":""},{"$f":"IF('RWIS (Desc)'!G73=\"\",\"\",'RWIS (Desc)'!G73)","v":""}]
[{"$f":"IF('RWIS (Desc)'!A74=\"\",\"\",'RWIS (Desc)'!A74)","v":""},{"$f":"IF('RWIS (Desc)'!B74=\"\",\"\",'RWIS (Desc)'!B74)","v":""},{"$f":"IF('RWIS (Desc)'!C74=\"\",\"\",'RWIS (Desc)'!C74)","v":""},{"$f":"IF('RWIS (Desc)'!D74=\"\",\"\",INDEX([1]OWNER!$A$2:$A$100,MATCH('RWIS (Desc)'!$D74,[1]!MASTER_OWNER_DESC[#Data],0),0))","v":""},{"$f":"IF('RWIS (Desc)'!E74=\"\",\"\",INDEX([1]COUNTY!$A$2:$A$80,MATCH('RWIS (Desc)'!E74,[1]!MASTER_COUNTY_NAME[#Data],0),0))","v":""},{"$f":"IF('RWIS (Desc)'!F74=\"\",\"\",'RWIS (Desc)'!F74)","v":""},{"$f":"IF('RWIS (Desc)'!G74=\"\",\"\",'RWIS (Desc)'!G74)","v":""}]
[{"$f":"IF('RWIS (Desc)'!A75=\"\",\"\",'RWIS (Desc)'!A75)","v":""},{"$f":"IF('RWIS (Desc)'!B75=\"\",\"\",'RWIS (Desc)'!B75)","v":""},{"$f":"IF('RWIS (Desc)'!C75=\"\",\"\",'RWIS (Desc)'!C75)","v":""},{"$f":"IF('RWIS (Desc)'!D75=\"\",\"\",INDEX([1]OWNER!$A$2:$A$100,MATCH('RWIS (Desc)'!$D75,[1]!MASTER_OWNER_DESC[#Data],0),0))","v":""},{"$f":"IF('RWIS (Desc)'!E75=\"\",\"\",INDEX([1]COUNTY!$A$2:$A$80,MATCH('RWIS (Desc)'!E75,[1]!MASTER_COUNTY_NAME[#Data],0),0))","v":""},{"$f":"IF('RWIS (Desc)'!F75=\"\",\"\",'RWIS (Desc)'!F75)","v":""},{"$f":"IF('RWIS (Desc)'!G75=\"\",\"\",'RWIS (Desc)'!G75)","v":""}]
[{"$f":"IF('RWIS (Desc)'!A76=\"\",\"\",'RWIS (Desc)'!A76)","v":""},{"$f":"IF('RWIS (Desc)'!B76=\"\",\"\",'RWIS (Desc)'!B76)","v":""},{"$f":"IF('RWIS (Desc)'!C76=\"\",\"\",'RWIS (Desc)'!C76)","v":""},{"$f":"IF('RWIS (Desc)'!D76=\"\",\"\",INDEX([1]OWNER!$A$2:$A$100,MATCH('RWIS (Desc)'!$D76,[1]!MASTER_OWNER_DESC[#Data],0),0))","v":""},{"$f":"IF('RWIS (Desc)'!E76=\"\",\"\",INDEX([1]COUNTY!$A$2:$A$80,MATCH('RWIS (Desc)'!E76,[1]!MASTER_COUNTY_NAME[#Data],0),0))","v":""},{"$f":"IF('RWIS (Desc)'!F76=\"\",\"\",'RWIS (Desc)'!F76)","v":""},{"$f":"IF('RWIS (Desc)'!G76=\"\",\"\",'RWIS (Desc)'!G76)","v":""}]
[{"$f":"IF('RWIS (Desc)'!A77=\"\",\"\",'RWIS (Desc)'!A77)","v":""},{"$f":"IF('RWIS (Desc)'!B77=\"\",\"\",'RWIS (Desc)'!B77)","v":""},{"$f":"IF('RWIS (Desc)'!C77=\"\",\"\",'RWIS (Desc)'!C77)","v":""},{"$f":"IF('RWIS (Desc)'!D77=\"\",\"\",INDEX([1]OWNER!$A$2:$A$100,MATCH('RWIS (Desc)'!$D77,[1]!MASTER_OWNER_DESC[#Data],0),0))","v":""},{"$f":"IF('RWIS (Desc)'!E77=\"\",\"\",INDEX([1]COUNTY!$A$2:$A$80,MATCH('RWIS (Desc)'!E77,[1]!MASTER_COUNTY_NAME[#Data],0),0))","v":""},{"$f":"IF('RWIS (Desc)'!F77=\"\",\"\",'RWIS (Desc)'!F77)","v":""},{"$f":"IF('RWIS (Desc)'!G77=\"\",\"\",'RWIS (Desc)'!G77)","v":""}]
[{"$f":"IF('RWIS (Desc)'!A78=\"\",\"\",'RWIS (Desc)'!A78)","v":""},{"$f":"IF('RWIS (Desc)'!B78=\"\",\"\",'RWIS (Desc)'!B78)","v":""},{"$f":"IF('RWIS (Desc)'!C78=\"\",\"\",'RWIS (Desc)'!C78)","v":""},{"$f":"IF('RWIS (Desc)'!D78=\"\",\"\",INDEX([1]OWNER!$A$2:$A$100,MATCH('RWIS (Desc)'!$D78,[1]!MASTER_OWNER_DESC[#Data],0),0))","v":""},{"$f":"IF('RWIS (Desc)'!E78=\"\",\"\",INDEX([1]COUNTY!$A$2:$A$80,MATCH('RWIS (Desc)'!E78,[1]!MASTER_COUNTY_NAME[#Data],0),0))","v":""},{"$f":"IF('RWIS (Desc)'!F78=\"\",\"\",'RWIS (Desc)'!F78)","v":""},{"$f":"IF('RWIS (Desc)'!G78=\"\",\"\",'RWIS (Desc)'!G78)","v":""}]
[{"$f":"IF('RWIS (Desc)'!A79=\"\",\"\",'RWIS (Desc)'!A79)","v":""},{"$f":"IF('RWIS (Desc)'!B79=\"\",\"\",'RWIS (Desc)'!B79)","v":""},{"$f":"IF('RWIS (Desc)'!C79=\"\",\"\",'RWIS (Desc)'!C79)","v":""},{"$f":"IF('RWIS (Desc)'!D79=\"\",\"\",INDEX([1]OWNER!$A$2:$A$100,MATCH('RWIS (Desc)'!$D79,[1]!MASTER_OWNER_DESC[#Data],0),0))","v":""},{"$f":"IF('RWIS (Desc)'!E79=\"\",\"\",INDEX([1]COUNTY!$A$2:$A$80,MATCH('RWIS (Desc)'!E79,[1]!MASTER_COUNTY_NAME[#Data],0),0))","v":""},{"$f":"IF('RWIS (Desc)'!F79=\"\",\"\",'RWIS (Desc)'!F79)","v":""},{"$f":"IF('RWIS (Desc)'!G79=\"\",\"\",'RWIS (Desc)'!G79)","v":""}]
[{"$f":"IF('RWIS (Desc)'!A80=\"\",\"\",'RWIS (Desc)'!A80)","v":""},{"$f":"IF('RWIS (Desc)'!B80=\"\",\"\",'RWIS (Desc)'!B80)","v":""},{"$f":"IF('RWIS (Desc)'!C80=\"\",\"\",'RWIS (Desc)'!C80)","v":""},{"$f":"IF('RWIS (Desc)'!D80=\"\",\"\",INDEX([1]OWNER!$A$2:$A$100,MATCH('RWIS (Desc)'!$D80,[1]!MASTER_OWNER_DESC[#Data],0),0))","v":""},{"$f":"IF('RWIS (Desc)'!E80=\"\",\"\",INDEX([1]COUNTY!$A$2:$A$80,MATCH('RWIS (Desc)'!E80,[1]!MASTER_COUNTY_NAME[#Data],0),0))","v":""},{"$f":"IF('RWIS (Desc)'!F80=\"\",\"\",'RWIS (Desc)'!F80)","v":""},{"$f":"IF('RWIS (Desc)'!G80=\"\",\"\",'RWIS (Desc)'!G80)","v":""}]
[{"$f":"IF('RWIS (Desc)'!A81=\"\",\"\",'RWIS (Desc)'!A81)","v":""},{"$f":"IF('RWIS (Desc)'!B81=\"\",\"\",'RWIS (Desc)'!B81)","v":""},{"$f":"IF('RWIS (Desc)'!C81=\"\",\"\",'RWIS (Desc)'!C81)","v":""},{"$f":"IF('RWIS (Desc)'!D81=\"\",\"\",INDEX([1]OWNER!$A$2:$A$100,MATCH('RWIS (Desc)'!$D81,[1]!MASTER_OWNER_DESC[#Data],0),0))","v":""},{"$f":"IF('RWIS (Desc)'!E81=\"\",\"\",INDEX([1]COUNTY!$A$2:$A$80,MATCH('RWIS (Desc)'!E81,[1]!MASTER_COUNTY_NAME[#Data],0),0))","v":""},{"$f":"IF('RWIS (Desc)'!F81=\"\",\"\",'RWIS (Desc)'!F81)","v":""},{"$f":"IF('RWIS (Desc)'!G81=\"\",\"\",'RWIS (Desc)'!G81)","v":""}]
[{"$f":"IF('RWIS (Desc)'!A82=\"\",\"\",'RWIS (Desc)'!A82)","v":""},{"$f":"IF('RWIS (Desc)'!B82=\"\",\"\",'RWIS (Desc)'!B82)","v":""},{"$f":"IF('RWIS (Desc)'!C82=\"\",\"\",'RWIS (Desc)'!C82)","v":""},{"$f":"IF('RWIS (Desc)'!D82=\"\",\"\",INDEX([1]OWNER!$A$2:$A$100,MATCH('RWIS (Desc)'!$D82,[1]!MASTER_OWNER_DESC[#Data],0),0))","v":""},{"$f":"IF('RWIS (Desc)'!E82=\"\",\"\",INDEX([1]COUNTY!$A$2:$A$80,MATCH('RWIS (Desc)'!E82,[1]!MASTER_COUNTY_NAME[#Data],0),0))","v":""},{"$f":"IF('RWIS (Desc)'!F82=\"\",\"\",'RWIS (Desc)'!F82)","v":""},{"$f":"IF('RWIS (Desc)'!G82=\"\",\"\",'RWIS (Desc)'!G82)","v":""}]
[{"$f":"IF('RWIS (Desc)'!A83=\"\",\"\",'RWIS (Desc)'!A83)","v":""},{"$f":"IF('RWIS (Desc)'!B83=\"\",\"\",'RWIS (Desc)'!B83)","v":""},{"$f":"IF('RWIS (Desc)'!C83=\"\",\"\",'RWIS (Desc)'!C83)","v":""},{"$f":"IF('RWIS (Desc)'!D83=\"\",\"\",INDEX([1]OWNER!$A$2:$A$100,MATCH('RWIS (Desc)'!$D83,[1]!MASTER_OWNER_DESC[#Data],0),0))","v":""},{"$f":"IF('RWIS (Desc)'!E83=\"\",\"\",INDEX([1]COUNTY!$A$2:$A$80,MATCH('RWIS (Desc)'!E83,[1]!MASTER_COUNTY_NAME[#Data],0),0))","v":""},{"$f":"IF('RWIS (Desc)'!F83=\"\",\"\",'RWIS (Desc)'!F83)","v":""},{"$f":"IF('RWIS (Desc)'!G83=\"\",\"\",'RWIS (Desc)'!G83)","v":""}]
[{"$f":"IF('RWIS (Desc)'!A84=\"\",\"\",'RWIS (Desc)'!A84)","v":""},{"$f":"IF('RWIS (Desc)'!B84=\"\",\"\",'RWIS (Desc)'!B84)","v":""},{"$f":"IF('RWIS (Desc)'!C84=\"\",\"\",'RWIS (Desc)'!C84)","v":""},{"$f":"IF('RWIS (Desc)'!D84=\"\",\"\",INDEX([1]OWNER!$A$2:$A$100,MATCH('RWIS (Desc)'!$D84,[1]!MASTER_OWNER_DESC[#Data],0),0))","v":""},{"$f":"IF('RWIS (Desc)'!E84=\"\",\"\",INDEX([1]COUNTY!$A$2:$A$80,MATCH('RWIS (Desc)'!E84,[1]!MASTER_COUNTY_NAME[#Data],0),0))","v":""},{"$f":"IF('RWIS (Desc)'!F84=\"\",\"\",'RWIS (Desc)'!F84)","v":""},{"$f":"IF('RWIS (Desc)'!G84=\"\",\"\",'RWIS (Desc)'!G84)","v":""}]
[{"$f":"IF('RWIS (Desc)'!A85=\"\",\"\",'RWIS (Desc)'!A85)","v":""},{"$f":"IF('RWIS (Desc)'!B85=\"\",\"\",'RWIS (Desc)'!B85)","v":""},{"$f":"IF('RWIS (Desc)'!C85=\"\",\"\",'RWIS (Desc)'!C85)","v":""},{"$f":"IF('RWIS (Desc)'!D85=\"\",\"\",INDEX([1]OWNER!$A$2:$A$100,MATCH('RWIS (Desc)'!$D85,[1]!MASTER_OWNER_DESC[#Data],0),0))","v":""},{"$f":"IF('RWIS (Desc)'!E85=\"\",\"\",INDEX([1]COUNTY!$A$2:$A$80,MATCH('RWIS (Desc)'!E85,[1]!MASTER_COUNTY_NAME[#Data],0),0))","v":""},{"$f":"IF('RWIS (Desc)'!F85=\"\",\"\",'RWIS (Desc)'!F85)","v":""},{"$f":"IF('RWIS (Desc)'!G85=\"\",\"\",'RWIS (Desc)'!G85)","v":""}]
[{"$f":"IF('RWIS (Desc)'!A86=\"\",\"\",'RWIS (Desc)'!A86)","v":""},{"$f":"IF('RWIS (Desc)'!B86=\"\",\"\",'RWIS (Desc)'!B86)","v":""},{"$f":"IF('RWIS (Desc)'!C86=\"\",\"\",'RWIS (Desc)'!C86)","v":""},{"$f":"IF('RWIS (Desc)'!D86=\"\",\"\",INDEX([1]OWNER!$A$2:$A$100,MATCH('RWIS (Desc)'!$D86,[1]!MASTER_OWNER_DESC[#Data],0),0))","v":""},{"$f":"IF('RWIS (Desc)'!E86=\"\",\"\",INDEX([1]COUNTY!$A$2:$A$80,MATCH('RWIS (Desc)'!E86,[1]!MASTER_COUNTY_NAME[#Data],0),0))","v":""},{"$f":"IF('RWIS (Desc)'!F86=\"\",\"\",'RWIS (Desc)'!F86)","v":""},{"$f":"IF('RWIS (Desc)'!G86=\"\",\"\",'RWIS (Desc)'!G86)","v":""}]
[{"$f":"IF('RWIS (Desc)'!A87=\"\",\"\",'RWIS (Desc)'!A87)","v":""},{"$f":"IF('RWIS (Desc)'!B87=\"\",\"\",'RWIS (Desc)'!B87)","v":""},{"$f":"IF('RWIS (Desc)'!C87=\"\",\"\",'RWIS (Desc)'!C87)","v":""},{"$f":"IF('RWIS (Desc)'!D87=\"\",\"\",INDEX([1]OWNER!$A$2:$A$100,MATCH('RWIS (Desc)'!$D87,[1]!MASTER_OWNER_DESC[#Data],0),0))","v":""},{"$f":"IF('RWIS (Desc)'!E87=\"\",\"\",INDEX([1]COUNTY!$A$2:$A$80,MATCH('RWIS (Desc)'!E87,[1]!MASTER_COUNTY_NAME[#Data],0),0))","v":""},{"$f":"IF('RWIS (Desc)'!F87=\"\",\"\",'RWIS (Desc)'!F87)","v":""},{"$f":"IF('RWIS (Desc)'!G87=\"\",\"\",'RWIS (Desc)'!G87)","v":""}]
[{"$f":"IF('RWIS (Desc)'!A88=\"\",\"\",'RWIS (Desc)'!A88)","v":""},{"$f":"IF('RWIS (Desc)'!B88=\"\",\"\",'RWIS (Desc)'!B88)","v":""},{"$f":"IF('RWIS (Desc)'!C88=\"\",\"\",'RWIS (Desc)'!C88)","v":""},{"$f":"IF('RWIS (Desc)'!D88=\"\",\"\",INDEX([1]OWNER!$A$2:$A$100,MATCH('RWIS (Desc)'!$D88,[1]!MASTER_OWNER_DESC[#Data],0),0))","v":""},{"$f":"IF('RWIS (Desc)'!E88=\"\",\"\",INDEX([1]COUNTY!$A$2:$A$80,MATCH('RWIS (Desc)'!E88,[1]!MASTER_COUNTY_NAME[#Data],0),0))","v":""},{"$f":"IF('RWIS (Desc)'!F88=\"\",\"\",'RWIS (Desc)'!F88)","v":""},{"$f":"IF('RWIS (Desc)'!G88=\"\",\"\",'RWIS (Desc)'!G88)","v":""}]
[{"$f":"IF('RWIS (Desc)'!A89=\"\",\"\",'RWIS (Desc)'!A89)","v":""},{"$f":"IF('RWIS (Desc)'!B89=\"\",\"\",'RWIS (Desc)'!B89)","v":""},{"$f":"IF('RWIS (Desc)'!C89=\"\",\"\",'RWIS (Desc)'!C89)","v":""},{"$f":"IF('RWIS (Desc)'!D89=\"\",\"\",INDEX([1]OWNER!$A$2:$A$100,MATCH('RWIS (Desc)'!$D89,[1]!MASTER_OWNER_DESC[#Data],0),0))","v":""},{"$f":"IF('RWIS (Desc)'!E89=\"\",\"\",INDEX([1]COUNTY!$A$2:$A$80,MATCH('RWIS (Desc)'!E89,[1]!MASTER_COUNTY_NAME[#Data],0),0))","v":""},{"$f":"IF('RWIS (Desc)'!F89=\"\",\"\",'RWIS (Desc)'!F89)","v":""},{"$f":"IF('RWIS (Desc)'!G89=\"\",\"\",'RWIS (Desc)'!G89)","v":""}]
[{"$f":"IF('RWIS (Desc)'!A90=\"\",\"\",'RWIS (Desc)'!A90)","v":""},{"$f":"IF('RWIS (Desc)'!B90=\"\",\"\",'RWIS (Desc)'!B90)","v":""},{"$f":"IF('RWIS (Desc)'!C90=\"\",\"\",'RWIS (Desc)'!C90)","v":""},{"$f":"IF('RWIS (Desc)'!D90=\"\",\"\",INDEX([1]OWNER!$A$2:$A$100,MATCH('RWIS (Desc)'!$D90,[1]!MASTER_OWNER_DESC[#Data],0),0))","v":""},{"$f":"IF('RWIS (Desc)'!E90=\"\",\"\",INDEX([1]COUNTY!$A$2:$A$80,MATCH('RWIS (Desc)'!E90,[1]!MASTER_COUNTY_NAME[#Data],0),0))","v":""},{"$f":"IF('RWIS (Desc)'!F90=\"\",\"\",'RWIS (Desc)'!F90)","v":""},{"$f":"IF('RWIS (Desc)'!G90=\"\",\"\",'RWIS (Desc)'!G90)","v":""}]
[{"$f":"IF('RWIS (Desc)'!A91=\"\",\"\",'RWIS (Desc)'!A91)","v":""},{"$f":"IF('RWIS (Desc)'!B91=\"\",\"\",'RWIS (Desc)'!B91)","v":""},{"$f":"IF('RWIS (Desc)'!C91=\"\",\"\",'RWIS (Desc)'!C91)","v":""},{"$f":"IF('RWIS (Desc)'!D91=\"\",\"\",INDEX([1]OWNER!$A$2:$A$100,MATCH('RWIS (Desc)'!$D91,[1]!MASTER_OWNER_DESC[#Data],0),0))","v":""},{"$f":"IF('RWIS (Desc)'!E91=\"\",\"\",INDEX([1]COUNTY!$A$2:$A$80,MATCH('RWIS (Desc)'!E91,[1]!MASTER_COUNTY_NAME[#Data],0),0))","v":""},{"$f":"IF('RWIS (Desc)'!F91=\"\",\"\",'RWIS (Desc)'!F91)","v":""},{"$f":"IF('RWIS (Desc)'!G91=\"\",\"\",'RWIS (Desc)'!G91)","v":""}]
[{"$f":"IF('RWIS (Desc)'!A92=\"\",\"\",'RWIS (Desc)'!A92)","v":""},{"$f":"IF('RWIS (Desc)'!B92=\"\",\"\",'RWIS (Desc)'!B92)","v":""},{"$f":"IF('RWIS (Desc)'!C92=\"\",\"\",'RWIS (Desc)'!C92)","v":""},{"$f":"IF('RWIS (Desc)'!D92=\"\",\"\",INDEX([1]OWNER!$A$2:$A$100,MATCH('RWIS (Desc)'!$D92,[1]!MASTER_OWNER_DESC[#Data],0),0))","v":""},{"$f":"IF('RWIS (Desc)'!E92=\"\",\"\",INDEX([1]COUNTY!$A$2:$A$80,MATCH('RWIS (Desc)'!E92,[1]!MASTER_COUNTY_NAME[#Data],0),0))","v":""},{"$f":"IF('RWIS (Desc)'!F92=\"\",\"\",'RWIS (Desc)'!F92)","v":""},{"$f":"IF('RWIS (Desc)'!G92=\"\",\"\",'RWIS (Desc)'!G92)","v":""}]
[{"$f":"IF('RWIS (Desc)'!A93=\"\",\"\",'RWIS (Desc)'!A93)","v":""},{"$f":"IF('RWIS (Desc)'!B93=\"\",\"\",'RWIS (Desc)'!B93)","v":""},{"$f":"IF('RWIS (Desc)'!C93=\"\",\"\",'RWIS (Desc)'!C93)","v":""},{"$f":"IF('RWIS (Desc)'!D93=\"\",\"\",INDEX([1]OWNER!$A$2:$A$100,MATCH('RWIS (Desc)'!$D93,[1]!MASTER_OWNER_DESC[#Data],0),0))","v":""},{"$f":"IF('RWIS (Desc)'!E93=\"\",\"\",INDEX([1]COUNTY!$A$2:$A$80,MATCH('RWIS (Desc)'!E93,[1]!MASTER_COUNTY_NAME[#Data],0),0))","v":""},{"$f":"IF('RWIS (Desc)'!F93=\"\",\"\",'RWIS (Desc)'!F93)","v":""},{"$f":"IF('RWIS (Desc)'!G93=\"\",\"\",'RWIS (Desc)'!G93)","v":""}]
[{"$f":"IF('RWIS (Desc)'!A94=\"\",\"\",'RWIS (Desc)'!A94)","v":""},{"$f":"IF('RWIS (Desc)'!B94=\"\",\"\",'RWIS (Desc)'!B94)","v":""},{"$f":"IF('RWIS (Desc)'!C94=\"\",\"\",'RWIS (Desc)'!C94)","v":""},{"$f":"IF('RWIS (Desc)'!D94=\"\",\"\",INDEX([1]OWNER!$A$2:$A$100,MATCH('RWIS (Desc)'!$D94,[1]!MASTER_OWNER_DESC[#Data],0),0))","v":""},{"$f":"IF('RWIS (Desc)'!E94=\"\",\"\",INDEX([1]COUNTY!$A$2:$A$80,MATCH('RWIS (Desc)'!E94,[1]!MASTER_COUNTY_NAME[#Data],0),0))","v":""},{"$f":"IF('RWIS (Desc)'!F94=\"\",\"\",'RWIS (Desc)'!F94)","v":""},{"$f":"IF('RWIS (Desc)'!G94=\"\",\"\",'RWIS (Desc)'!G94)","v":""}]
[{"$f":"IF('RWIS (Desc)'!A95=\"\",\"\",'RWIS (Desc)'!A95)","v":""},{"$f":"IF('RWIS (Desc)'!B95=\"\",\"\",'RWIS (Desc)'!B95)","v":""},{"$f":"IF('RWIS (Desc)'!C95=\"\",\"\",'RWIS (Desc)'!C95)","v":""},{"$f":"IF('RWIS (Desc)'!D95=\"\",\"\",INDEX([1]OWNER!$A$2:$A$100,MATCH('RWIS (Desc)'!$D95,[1]!MASTER_OWNER_DESC[#Data],0),0))","v":""},{"$f":"IF('RWIS (Desc)'!E95=\"\",\"\",INDEX([1]COUNTY!$A$2:$A$80,MATCH('RWIS (Desc)'!E95,[1]!MASTER_COUNTY_NAME[#Data],0),0))","v":""},{"$f":"IF('RWIS (Desc)'!F95=\"\",\"\",'RWIS (Desc)'!F95)","v":""},{"$f":"IF('RWIS (Desc)'!G95=\"\",\"\",'RWIS (Desc)'!G95)","v":""}]
[{"$f":"IF('RWIS (Desc)'!A96=\"\",\"\",'RWIS (Desc)'!A96)","v":""},{"$f":"IF('RWIS (Desc)'!B96=\"\",\"\",'RWIS (Desc)'!B96)","v":""},{"$f":"IF('RWIS (Desc)'!C96=\"\",\"\",'RWIS (Desc)'!C96)","v":""},{"$f":"IF('RWIS (Desc)'!D96=\"\",\"\",INDEX([1]OWNER!$A$2:$A$100,MATCH('RWIS (Desc)'!$D96,[1]!MASTER_OWNER_DESC[#Data],0),0))","v":""},{"$f":"IF('RWIS (Desc)'!E96=\"\",\"\",INDEX([1]COUNTY!$A$2:$A$80,MATCH('RWIS (Desc)'!E96,[1]!MASTER_COUNTY_NAME[#Data],0),0))","v":""},{"$f":"IF('RWIS (Desc)'!F96=\"\",\"\",'RWIS (Desc)'!F96)","v":""},{"$f":"IF('RWIS (Desc)'!G96=\"\",\"\",'RWIS (Desc)'!G96)","v":""}]
[{"$f":"IF('RWIS (Desc)'!A97=\"\",\"\",'RWIS (Desc)'!A97)","v":""},{"$f":"IF('RWIS (Desc)'!B97=\"\",\"\",'RWIS (Desc)'!B97)","v":""},{"$f":"IF('RWIS (Desc)'!C97=\"\",\"\",'RWIS (Desc)'!C97)","v":""},{"$f":"IF('RWIS (Desc)'!D97=\"\",\"\",INDEX([1]OWNER!$A$2:$A$100,MATCH('RWIS (Desc)'!$D97,[1]!MASTER_OWNER_DESC[#Data],0),0))","v":""},{"$f":"IF('RWIS (Desc)'!E97=\"\",\"\",INDEX([1]COUNTY!$A$2:$A$80,MATCH('RWIS (Desc)'!E97,[1]!MASTER_COUNTY_NAME[#Data],0),0))","v":""},{"$f":"IF('RWIS (Desc)'!F97=\"\",\"\",'RWIS (Desc)'!F97)","v":""},{"$f":"IF('RWIS (Desc)'!G97=\"\",\"\",'RWIS (Desc)'!G97)","v":""}]
[{"$f":"IF('RWIS (Desc)'!A98=\"\",\"\",'RWIS (Desc)'!A98)","v":""},{"$f":"IF('RWIS (Desc)'!B98=\"\",\"\",'RWIS (Desc)'!B98)","v":""},{"$f":"IF('RWIS (Desc)'!C98=\"\",\"\",'RWIS (Desc)'!C98)","v":""},{"$f":"IF('RWIS (Desc)'!D98=\"\",\"\",INDEX([1]OWNER!$A$2:$A$100,MATCH('RWIS (Desc)'!$D98,[1]!MASTER_OWNER_DESC[#Data],0),0))","v":""},{"$f":"IF('RWIS (Desc)'!E98=\"\",\"\",INDEX([1]COUNTY!$A$2:$A$80,MATCH('RWIS (Desc)'!E98,[1]!MASTER_COUNTY_NAME[#Data],0),0))","v":""},{"$f":"IF('RWIS (Desc)'!F98=\"\",\"\",'RWIS (Desc)'!F98)","v":""},{"$f":"IF('RWIS (Desc)'!G98=\"\",\"\",'RWIS (Desc)'!G98)","v":""}]
[{"$f":"IF('RWIS (Desc)'!A99=\"\",\"\",'RWIS (Desc)'!A99)","v":""},{"$f":"IF('RWIS (Desc)'!B99=\"\",\"\",'RWIS (Desc)'!B99)","v":""},{"$f":"IF('RWIS (Desc)'!C99=\"\",\"\",'RWIS (Desc)'!C99)","v":""},{"$f":"IF('RWIS (Desc)'!D99=\"\",\"\",INDEX([1]OWNER!$A$2:$A$100,MATCH('RWIS (Desc)'!$D99,[1]!MASTER_OWNER_DESC[#Data],0),0))","v":""},{"$f":"IF('RWIS (Desc)'!E99=\"\",\"\",INDEX([1]COUNTY!$A$2:$A$80,MATCH('RWIS (Desc)'!E99,[1]!MASTER_COUNTY_NAME[#Data],0),0))","v":""},{"$f":"IF('RWIS (Desc)'!F99=\"\",\"\",'RWIS (Desc)'!F99)","v":""},{"$f":"IF('RWIS (Desc)'!G99=\"\",\"\",'RWIS (Desc)'!G99)","v":""}]
[{"$f":"IF('RWIS (Desc)'!A100=\"\",\"\",'RWIS (Desc)'!A100)","v":""},{"$f":"IF('RWIS (Desc)'!B100=\"\",\"\",'RWIS (Desc)'!B100)","v":""},{"$f":"IF('RWIS (Desc)'!C100=\"\",\"\",'RWIS (Desc)'!C100)","v":""},{"$f":"IF('RWIS (Desc)'!D100=\"\",\"\",INDEX([1]OWNER!$A$2:$A$100,MATCH('RWIS (Desc)'!$D100,[1]!MASTER_OWNER_DESC[#Data],0),0))","v":""},{"$f":"IF('RWIS (Desc)'!E100=\"\",\"\",INDEX([1]COUNTY!$A$2:$A$80,MATCH('RWIS (Desc)'!E100,[1]!MASTER_COUNTY_NAME[#Data],0),0))","v":""},{"$f":"IF('RWIS (Desc)'!F100=\"\",\"\",'RWIS (Desc)'!F100)","v":""},{"$f":"IF('RWIS (Desc)'!G100=\"\",\"\",'RWIS (Desc)'!G100)","v":""}]
[{"$f":"IF('RWIS (Desc)'!A101=\"\",\"\",'RWIS (Desc)'!A101)","v":""},{"$f":"IF('RWIS (Desc)'!B101=\"\",\"\",'RWIS (Desc)'!B101)","v":""},{"$f":"IF('RWIS (Desc)'!C101=\"\",\"\",'RWIS (Desc)'!C101)","v":""},{"$f":"IF('RWIS (Desc)'!D101=\"\",\"\",INDEX([1]OWNER!$A$2:$A$100,MATCH('RWIS (Desc)'!$D101,[1]!MASTER_OWNER_DESC[#Data],0),0))","v":""},{"$f":"IF('RWIS (Desc)'!E101=\"\",\"\",INDEX([1]COUNTY!$A$2:$A$80,MATCH('RWIS (Desc)'!E101,[1]!MASTER_COUNTY_NAME[#Data],0),0))","v":""},{"$f":"IF('RWIS (Desc)'!F101=\"\",\"\",'RWIS (Desc)'!F101)","v":""},{"$f":"IF('RWIS (Desc)'!G101=\"\",\"\",'RWIS (Desc)'!G101)","v":""}]
[{"$f":"IF('RWIS (Desc)'!A102=\"\",\"\",'RWIS (Desc)'!A102)","v":""},{"$f":"IF('RWIS (Desc)'!B102=\"\",\"\",'RWIS (Desc)'!B102)","v":""},{"$f":"IF('RWIS (Desc)'!C102=\"\",\"\",'RWIS (Desc)'!C102)","v":""},{"$f":"IF('RWIS (Desc)'!D102=\"\",\"\",INDEX([1]OWNER!$A$2:$A$100,MATCH('RWIS (Desc)'!$D102,[1]!MASTER_OWNER_DESC[#Data],0),0))","v":""},{"$f":"IF('RWIS (Desc)'!E102=\"\",\"\",INDEX([1]COUNTY!$A$2:$A$80,MATCH('RWIS (Desc)'!E102,[1]!MASTER_COUNTY_NAME[#Data],0),0))","v":""},{"$f":"IF('RWIS (Desc)'!F102=\"\",\"\",'RWIS (Desc)'!F102)","v":""},{"$f":"IF('RWIS (Desc)'!G102=\"\",\"\",'RWIS (Desc)'!G102)","v":""}]
[{"$f":"IF('RWIS (Desc)'!A103=\"\",\"\",'RWIS (Desc)'!A103)","v":""},{"$f":"IF('RWIS (Desc)'!B103=\"\",\"\",'RWIS (Desc)'!B103)","v":""},{"$f":"IF('RWIS (Desc)'!C103=\"\",\"\",'RWIS (Desc)'!C103)","v":""},{"$f":"IF('RWIS (Desc)'!D103=\"\",\"\",INDEX([1]OWNER!$A$2:$A$100,MATCH('RWIS (Desc)'!$D103,[1]!MASTER_OWNER_DESC[#Data],0),0))","v":""},{"$f":"IF('RWIS (Desc)'!E103=\"\",\"\",INDEX([1]COUNTY!$A$2:$A$80,MATCH('RWIS (Desc)'!E103,[1]!MASTER_COUNTY_NAME[#Data],0),0))","v":""},{"$f":"IF('RWIS (Desc)'!F103=\"\",\"\",'RWIS (Desc)'!F103)","v":""},{"$f":"IF('RWIS (Desc)'!G103=\"\",\"\",'RWIS (Desc)'!G103)","v":""}]
[{"$f":"IF('RWIS (Desc)'!A104=\"\",\"\",'RWIS (Desc)'!A104)","v":""},{"$f":"IF('RWIS (Desc)'!B104=\"\",\"\",'RWIS (Desc)'!B104)","v":""},{"$f":"IF('RWIS (Desc)'!C104=\"\",\"\",'RWIS (Desc)'!C104)","v":""},{"$f":"IF('RWIS (Desc)'!D104=\"\",\"\",INDEX([1]OWNER!$A$2:$A$100,MATCH('RWIS (Desc)'!$D104,[1]!MASTER_OWNER_DESC[#Data],0),0))","v":""},{"$f":"IF('RWIS (Desc)'!E104=\"\",\"\",INDEX([1]COUNTY!$A$2:$A$80,MATCH('RWIS (Desc)'!E104,[1]!MASTER_COUNTY_NAME[#Data],0),0))","v":""},{"$f":"IF('RWIS (Desc)'!F104=\"\",\"\",'RWIS (Desc)'!F104)","v":""},{"$f":"IF('RWIS (Desc)'!G104=\"\",\"\",'RWIS (Desc)'!G104)","v":""}]
[{"$f":"IF('RWIS (Desc)'!A105=\"\",\"\",'RWIS (Desc)'!A105)","v":""},{"$f":"IF('RWIS (Desc)'!B105=\"\",\"\",'RWIS (Desc)'!B105)","v":""},{"$f":"IF('RWIS (Desc)'!C105=\"\",\"\",'RWIS (Desc)'!C105)","v":""},{"$f":"IF('RWIS (Desc)'!D105=\"\",\"\",INDEX([1]OWNER!$A$2:$A$100,MATCH('RWIS (Desc)'!$D105,[1]!MASTER_OWNER_DESC[#Data],0),0))","v":""},{"$f":"IF('RWIS (Desc)'!E105=\"\",\"\",INDEX([1]COUNTY!$A$2:$A$80,MATCH('RWIS (Desc)'!E105,[1]!MASTER_COUNTY_NAME[#Data],0),0))","v":""},{"$f":"IF('RWIS (Desc)'!F105=\"\",\"\",'RWIS (Desc)'!F105)","v":""},{"$f":"IF('RWIS (Desc)'!G105=\"\",\"\",'RWIS (Desc)'!G105)","v":""}]
[{"$f":"IF('RWIS (Desc)'!A106=\"\",\"\",'RWIS (Desc)'!A106)","v":""},{"$f":"IF('RWIS (Desc)'!B106=\"\",\"\",'RWIS (Desc)'!B106)","v":""},{"$f":"IF('RWIS (Desc)'!C106=\"\",\"\",'RWIS (Desc)'!C106)","v":""},{"$f":"IF('RWIS (Desc)'!D106=\"\",\"\",INDEX([1]OWNER!$A$2:$A$100,MATCH('RWIS (Desc)'!$D106,[1]!MASTER_OWNER_DESC[#Data],0),0))","v":""},{"$f":"IF('RWIS (Desc)'!E106=\"\",\"\",INDEX([1]COUNTY!$A$2:$A$80,MATCH('RWIS (Desc)'!E106,[1]!MASTER_COUNTY_NAME[#Data],0),0))","v":""},{"$f":"IF('RWIS (Desc)'!F106=\"\",\"\",'RWIS (Desc)'!F106)","v":""},{"$f":"IF('RWIS (Desc)'!G106=\"\",\"\",'RWIS (Desc)'!G106)","v":""}]
[{"$f":"IF('RWIS (Desc)'!A107=\"\",\"\",'RWIS (Desc)'!A107)","v":""},{"$f":"IF('RWIS (Desc)'!B107=\"\",\"\",'RWIS (Desc)'!B107)","v":""},{"$f":"IF('RWIS (Desc)'!C107=\"\",\"\",'RWIS (Desc)'!C107)","v":""},{"$f":"IF('RWIS (Desc)'!D107=\"\",\"\",INDEX([1]OWNER!$A$2:$A$100,MATCH('RWIS (Desc)'!$D107,[1]!MASTER_OWNER_DESC[#Data],0),0))","v":""},{"$f":"IF('RWIS (Desc)'!E107=\"\",\"\",INDEX([1]COUNTY!$A$2:$A$80,MATCH('RWIS (Desc)'!E107,[1]!MASTER_COUNTY_NAME[#Data],0),0))","v":""},{"$f":"IF('RWIS (Desc)'!F107=\"\",\"\",'RWIS (Desc)'!F107)","v":""},{"$f":"IF('RWIS (Desc)'!G107=\"\",\"\",'RWIS (Desc)'!G107)","v":""}]
[{"$f":"IF('RWIS (Desc)'!A108=\"\",\"\",'RWIS (Desc)'!A108)","v":""},{"$f":"IF('RWIS (Desc)'!B108=\"\",\"\",'RWIS (Desc)'!B108)","v":""},{"$f":"IF('RWIS (Desc)'!C108=\"\",\"\",'RWIS (Desc)'!C108)","v":""},{"$f":"IF('RWIS (Desc)'!D108=\"\",\"\",INDEX([1]OWNER!$A$2:$A$100,MATCH('RWIS (Desc)'!$D108,[1]!MASTER_OWNER_DESC[#Data],0),0))","v":""},{"$f":"IF('RWIS (Desc)'!E108=\"\",\"\",INDEX([1]COUNTY!$A$2:$A$80,MATCH('RWIS (Desc)'!E108,[1]!MASTER_COUNTY_NAME[#Data],0),0))","v":""},{"$f":"IF('RWIS (Desc)'!F108=\"\",\"\",'RWIS (Desc)'!F108)","v":""},{"$f":"IF('RWIS (Desc)'!G108=\"\",\"\",'RWIS (Desc)'!G108)","v":""}]
[{"$f":"IF('RWIS (Desc)'!A109=\"\",\"\",'RWIS (Desc)'!A109)","v":""},{"$f":"IF('RWIS (Desc)'!B109=\"\",\"\",'RWIS (Desc)'!B109)","v":""},{"$f":"IF('RWIS (Desc)'!C109=\"\",\"\",'RWIS (Desc)'!C109)","v":""},{"$f":"IF('RWIS (Desc)'!D109=\"\",\"\",INDEX([1]OWNER!$A$2:$A$100,MATCH('RWIS (Desc)'!$D109,[1]!MASTER_OWNER_DESC[#Data],0),0))","v":""},{"$f":"IF('RWIS (Desc)'!E109=\"\",\"\",INDEX([1]COUNTY!$A$2:$A$80,MATCH('RWIS (Desc)'!E109,[1]!MASTER_COUNTY_NAME[#Data],0),0))","v":""},{"$f":"IF('RWIS (Desc)'!F109=\"\",\"\",'RWIS (Desc)'!F109)","v":""},{"$f":"IF('RWIS (Desc)'!G109=\"\",\"\",'RWIS (Desc)'!G109)","v":""}]
[{"$f":"IF('RWIS (Desc)'!A110=\"\",\"\",'RWIS (Desc)'!A110)","v":""},{"$f":"IF('RWIS (Desc)'!B110=\"\",\"\",'RWIS (Desc)'!B110)","v":""},{"$f":"IF('RWIS (Desc)'!C110=\"\",\"\",'RWIS (Desc)'!C110)","v":""},{"$f":"IF('RWIS (Desc)'!D110=\"\",\"\",INDEX([1]OWNER!$A$2:$A$100,MATCH('RWIS (Desc)'!$D110,[1]!MASTER_OWNER_DESC[#Data],0),0))","v":""},{"$f":"IF('RWIS (Desc)'!E110=\"\",\"\",INDEX([1]COUNTY!$A$2:$A$80,MATCH('RWIS (Desc)'!E110,[1]!MASTER_COUNTY_NAME[#Data],0),0))","v":""},{"$f":"IF('RWIS (Desc)'!F110=\"\",\"\",'RWIS (Desc)'!F110)","v":""},{"$f":"IF('RWIS (Desc)'!G110=\"\",\"\",'RWIS (Desc)'!G110)","v":""}]
[{"$f":"IF('RWIS (Desc)'!A111=\"\",\"\",'RWIS (Desc)'!A111)","v":""},{"$f":"IF('RWIS (Desc)'!B111=\"\",\"\",'RWIS (Desc)'!B111)","v":""},{"$f":"IF('RWIS (Desc)'!C111=\"\",\"\",'RWIS (Desc)'!C111)","v":""},{"$f":"IF('RWIS (Desc)'!D111=\"\",\"\",INDEX([1]OWNER!$A$2:$A$100,MATCH('RWIS (Desc)'!$D111,[1]!MASTER_OWNER_DESC[#Data],0),0))","v":""},{"$f":"IF('RWIS (Desc)'!E111=\"\",\"\",INDEX([1]COUNTY!$A$2:$A$80,MATCH('RWIS (Desc)'!E111,[1]!MASTER_COUNTY_NAME[#Data],0),0))","v":""},{"$f":"IF('RWIS (Desc)'!F111=\"\",\"\",'RWIS (Desc)'!F111)","v":""},{"$f":"IF('RWIS (Desc)'!G111=\"\",\"\",'RWIS (Desc)'!G111)","v":""}]
[{"$f":"IF('RWIS (Desc)'!A112=\"\",\"\",'RWIS (Desc)'!A112)","v":""},{"$f":"IF('RWIS (Desc)'!B112=\"\",\"\",'RWIS (Desc)'!B112)","v":""},{"$f":"IF('RWIS (Desc)'!C112=\"\",\"\",'RWIS (Desc)'!C112)","v":""},{"$f":"IF('RWIS (Desc)'!D112=\"\",\"\",INDEX([1]OWNER!$A$2:$A$100,MATCH('RWIS (Desc)'!$D112,[1]!MASTER_OWNER_DESC[#Data],0),0))","v":""},{"$f":"IF('RWIS (Desc)'!E112=\"\",\"\",INDEX([1]COUNTY!$A$2:$A$80,MATCH('RWIS (Desc)'!E112,[1]!MASTER_COUNTY_NAME[#Data],0),0))","v":""},{"$f":"IF('RWIS (Desc)'!F112=\"\",\"\",'RWIS (Desc)'!F112)","v":""},{"$f":"IF('RWIS (Desc)'!G112=\"\",\"\",'RWIS (Desc)'!G112)","v":""}]
[{"$f":"IF('RWIS (Desc)'!A113=\"\",\"\",'RWIS (Desc)'!A113)","v":""},{"$f":"IF('RWIS (Desc)'!B113=\"\",\"\",'RWIS (Desc)'!B113)","v":""},{"$f":"IF('RWIS (Desc)'!C113=\"\",\"\",'RWIS (Desc)'!C113)","v":""},{"$f":"IF('RWIS (Desc)'!D113=\"\",\"\",INDEX([1]OWNER!$A$2:$A$100,MATCH('RWIS (Desc)'!$D113,[1]!MASTER_OWNER_DESC[#Data],0),0))","v":""},{"$f":"IF('RWIS (Desc)'!E113=\"\",\"\",INDEX([1]COUNTY!$A$2:$A$80,MATCH('RWIS (Desc)'!E113,[1]!MASTER_COUNTY_NAME[#Data],0),0))","v":""},{"$f":"IF('RWIS (Desc)'!F113=\"\",\"\",'RWIS (Desc)'!F113)","v":""},{"$f":"IF('RWIS (Desc)'!G113=\"\",\"\",'RWIS (Desc)'!G113)","v":""}]
[{"$f":"IF('RWIS (Desc)'!A114=\"\",\"\",'RWIS (Desc)'!A114)","v":""},{"$f":"IF('RWIS (Desc)'!B114=\"\",\"\",'RWIS (Desc)'!B114)","v":""},{"$f":"IF('RWIS (Desc)'!C114=\"\",\"\",'RWIS (Desc)'!C114)","v":""},{"$f":"IF('RWIS (Desc)'!D114=\"\",\"\",INDEX([1]OWNER!$A$2:$A$100,MATCH('RWIS (Desc)'!$D114,[1]!MASTER_OWNER_DESC[#Data],0),0))","v":""},{"$f":"IF('RWIS (Desc)'!E114=\"\",\"\",INDEX([1]COUNTY!$A$2:$A$80,MATCH('RWIS (Desc)'!E114,[1]!MASTER_COUNTY_NAME[#Data],0),0))","v":""},{"$f":"IF('RWIS (Desc)'!F114=\"\",\"\",'RWIS (Desc)'!F114)","v":""},{"$f":"IF('RWIS (Desc)'!G114=\"\",\"\",'RWIS (Desc)'!G114)","v":""}]
[{"$f":"IF('RWIS (Desc)'!A115=\"\",\"\",'RWIS (Desc)'!A115)","v":""},{"$f":"IF('RWIS (Desc)'!B115=\"\",\"\",'RWIS (Desc)'!B115)","v":""},{"$f":"IF('RWIS (Desc)'!C115=\"\",\"\",'RWIS (Desc)'!C115)","v":""},{"$f":"IF('RWIS (Desc)'!D115=\"\",\"\",INDEX([1]OWNER!$A$2:$A$100,MATCH('RWIS (Desc)'!$D115,[1]!MASTER_OWNER_DESC[#Data],0),0))","v":""},{"$f":"IF('RWIS (Desc)'!E115=\"\",\"\",INDEX([1]COUNTY!$A$2:$A$80,MATCH('RWIS (Desc)'!E115,[1]!MASTER_COUNTY_NAME[#Data],0),0))","v":""},{"$f":"IF('RWIS (Desc)'!F115=\"\",\"\",'RWIS (Desc)'!F115)","v":""},{"$f":"IF('RWIS (Desc)'!G115=\"\",\"\",'RWIS (Desc)'!G115)","v":""}]
[{"$f":"IF('RWIS (Desc)'!A116=\"\",\"\",'RWIS (Desc)'!A116)","v":""},{"$f":"IF('RWIS (Desc)'!B116=\"\",\"\",'RWIS (Desc)'!B116)","v":""},{"$f":"IF('RWIS (Desc)'!C116=\"\",\"\",'RWIS (Desc)'!C116)","v":""},{"$f":"IF('RWIS (Desc)'!D116=\"\",\"\",INDEX([1]OWNER!$A$2:$A$100,MATCH('RWIS (Desc)'!$D116,[1]!MASTER_OWNER_DESC[#Data],0),0))","v":""},{"$f":"IF('RWIS (Desc)'!E116=\"\",\"\",INDEX([1]COUNTY!$A$2:$A$80,MATCH('RWIS (Desc)'!E116,[1]!MASTER_COUNTY_NAME[#Data],0),0))","v":""},{"$f":"IF('RWIS (Desc)'!F116=\"\",\"\",'RWIS (Desc)'!F116)","v":""},{"$f":"IF('RWIS (Desc)'!G116=\"\",\"\",'RWIS (Desc)'!G116)","v":""}]
[{"$f":"IF('RWIS (Desc)'!A117=\"\",\"\",'RWIS (Desc)'!A117)","v":""},{"$f":"IF('RWIS (Desc)'!B117=\"\",\"\",'RWIS (Desc)'!B117)","v":""},{"$f":"IF('RWIS (Desc)'!C117=\"\",\"\",'RWIS (Desc)'!C117)","v":""},{"$f":"IF('RWIS (Desc)'!D117=\"\",\"\",INDEX([1]OWNER!$A$2:$A$100,MATCH('RWIS (Desc)'!$D117,[1]!MASTER_OWNER_DESC[#Data],0),0))","v":""},{"$f":"IF('RWIS (Desc)'!E117=\"\",\"\",INDEX([1]COUNTY!$A$2:$A$80,MATCH('RWIS (Desc)'!E117,[1]!MASTER_COUNTY_NAME[#Data],0),0))","v":""},{"$f":"IF('RWIS (Desc)'!F117=\"\",\"\",'RWIS (Desc)'!F117)","v":""},{"$f":"IF('RWIS (Desc)'!G117=\"\",\"\",'RWIS (Desc)'!G117)","v":""}]
[{"$f":"IF('RWIS (Desc)'!A118=\"\",\"\",'RWIS (Desc)'!A118)","v":""},{"$f":"IF('RWIS (Desc)'!B118=\"\",\"\",'RWIS (Desc)'!B118)","v":""},{"$f":"IF('RWIS (Desc)'!C118=\"\",\"\",'RWIS (Desc)'!C118)","v":""},{"$f":"IF('RWIS (Desc)'!D118=\"\",\"\",INDEX([1]OWNER!$A$2:$A$100,MATCH('RWIS (Desc)'!$D118,[1]!MASTER_OWNER_DESC[#Data],0),0))","v":""},{"$f":"IF('RWIS (Desc)'!E118=\"\",\"\",INDEX([1]COUNTY!$A$2:$A$80,MATCH('RWIS (Desc)'!E118,[1]!MASTER_COUNTY_NAME[#Data],0),0))","v":""},{"$f":"IF('RWIS (Desc)'!F118=\"\",\"\",'RWIS (Desc)'!F118)","v":""},{"$f":"IF('RWIS (Desc)'!G118=\"\",\"\",'RWIS (Desc)'!G118)","v":""}]
[{"$f":"IF('RWIS (Desc)'!A119=\"\",\"\",'RWIS (Desc)'!A119)","v":""},{"$f":"IF('RWIS (Desc)'!B119=\"\",\"\",'RWIS (Desc)'!B119)","v":""},{"$f":"IF('RWIS (Desc)'!C119=\"\",\"\",'RWIS (Desc)'!C119)","v":""},{"$f":"IF('RWIS (Desc)'!D119=\"\",\"\",INDEX([1]OWNER!$A$2:$A$100,MATCH('RWIS (Desc)'!$D119,[1]!MASTER_OWNER_DESC[#Data],0),0))","v":""},{"$f":"IF('RWIS (Desc)'!E119=\"\",\"\",INDEX([1]COUNTY!$A$2:$A$80,MATCH('RWIS (Desc)'!E119,[1]!MASTER_COUNTY_NAME[#Data],0),0))","v":""},{"$f":"IF('RWIS (Desc)'!F119=\"\",\"\",'RWIS (Desc)'!F119)","v":""},{"$f":"IF('RWIS (Desc)'!G119=\"\",\"\",'RWIS (Desc)'!G119)","v":""}]
[{"$f":"IF('RWIS (Desc)'!A120=\"\",\"\",'RWIS (Desc)'!A120)","v":""},{"$f":"IF('RWIS (Desc)'!B120=\"\",\"\",'RWIS (Desc)'!B120)","v":""},{"$f":"IF('RWIS (Desc)'!C120=\"\",\"\",'RWIS (Desc)'!C120)","v":""},{"$f":"IF('RWIS (Desc)'!D120=\"\",\"\",INDEX([1]OWNER!$A$2:$A$100,MATCH('RWIS (Desc)'!$D120,[1]!MASTER_OWNER_DESC[#Data],0),0))","v":""},{"$f":"IF('RWIS (Desc)'!E120=\"\",\"\",INDEX([1]COUNTY!$A$2:$A$80,MATCH('RWIS (Desc)'!E120,[1]!MASTER_COUNTY_NAME[#Data],0),0))","v":""},{"$f":"IF('RWIS (Desc)'!F120=\"\",\"\",'RWIS (Desc)'!F120)","v":""},{"$f":"IF('RWIS (Desc)'!G120=\"\",\"\",'RWIS (Desc)'!G120)","v":""}]
[{"$f":"IF('RWIS (Desc)'!A121=\"\",\"\",'RWIS (Desc)'!A121)","v":""},{"$f":"IF('RWIS (Desc)'!B121=\"\",\"\",'RWIS (Desc)'!B121)","v":""},{"$f":"IF('RWIS (Desc)'!C121=\"\",\"\",'RWIS (Desc)'!C121)","v":""},{"$f":"IF('RWIS (Desc)'!D121=\"\",\"\",INDEX([1]OWNER!$A$2:$A$100,MATCH('RWIS (Desc)'!$D121,[1]!MASTER_OWNER_DESC[#Data],0),0))","v":""},{"$f":"IF('RWIS (Desc)'!E121=\"\",\"\",INDEX([1]COUNTY!$A$2:$A$80,MATCH('RWIS (Desc)'!E121,[1]!MASTER_COUNTY_NAME[#Data],0),0))","v":""},{"$f":"IF('RWIS (Desc)'!F121=\"\",\"\",'RWIS (Desc)'!F121)","v":""},{"$f":"IF('RWIS (Desc)'!G121=\"\",\"\",'RWIS (Desc)'!G121)","v":""}]
[{"$f":"IF('RWIS (Desc)'!A122=\"\",\"\",'RWIS (Desc)'!A122)","v":""},{"$f":"IF('RWIS (Desc)'!B122=\"\",\"\",'RWIS (Desc)'!B122)","v":""},{"$f":"IF('RWIS (Desc)'!C122=\"\",\"\",'RWIS (Desc)'!C122)","v":""},{"$f":"IF('RWIS (Desc)'!D122=\"\",\"\",INDEX([1]OWNER!$A$2:$A$100,MATCH('RWIS (Desc)'!$D122,[1]!MASTER_OWNER_DESC[#Data],0),0))","v":""},{"$f":"IF('RWIS (Desc)'!E122=\"\",\"\",INDEX([1]COUNTY!$A$2:$A$80,MATCH('RWIS (Desc)'!E122,[1]!MASTER_COUNTY_NAME[#Data],0),0))","v":""},{"$f":"IF('RWIS (Desc)'!F122=\"\",\"\",'RWIS (Desc)'!F122)","v":""},{"$f":"IF('RWIS (Desc)'!G122=\"\",\"\",'RWIS (Desc)'!G122)","v":""}]
[{"$f":"IF('RWIS (Desc)'!A123=\"\",\"\",'RWIS (Desc)'!A123)","v":""},{"$f":"IF('RWIS (Desc)'!B123=\"\",\"\",'RWIS (Desc)'!B123)","v":""},{"$f":"IF('RWIS (Desc)'!C123=\"\",\"\",'RWIS (Desc)'!C123)","v":""},{"$f":"IF('RWIS (Desc)'!D123=\"\",\"\",INDEX([1]OWNER!$A$2:$A$100,MATCH('RWIS (Desc)'!$D123,[1]!MASTER_OWNER_DESC[#Data],0),0))","v":""},{"$f":"IF('RWIS (Desc)'!E123=\"\",\"\",INDEX([1]COUNTY!$A$2:$A$80,MATCH('RWIS (Desc)'!E123,[1]!MASTER_COUNTY_NAME[#Data],0),0))","v":""},{"$f":"IF('RWIS (Desc)'!F123=\"\",\"\",'RWIS (Desc)'!F123)","v":""},{"$f":"IF('RWIS (Desc)'!G123=\"\",\"\",'RWIS (Desc)'!G123)","v":""}]
[{"$f":"IF('RWIS (Desc)'!A124=\"\",\"\",'RWIS (Desc)'!A124)","v":""},{"$f":"IF('RWIS (Desc)'!B124=\"\",\"\",'RWIS (Desc)'!B124)","v":""},{"$f":"IF('RWIS (Desc)'!C124=\"\",\"\",'RWIS (Desc)'!C124)","v":""},{"$f":"IF('RWIS (Desc)'!D124=\"\",\"\",INDEX([1]OWNER!$A$2:$A$100,MATCH('RWIS (Desc)'!$D124,[1]!MASTER_OWNER_DESC[#Data],0),0))","v":""},{"$f":"IF('RWIS (Desc)'!E124=\"\",\"\",INDEX([1]COUNTY!$A$2:$A$80,MATCH('RWIS (Desc)'!E124,[1]!MASTER_COUNTY_NAME[#Data],0),0))","v":""},{"$f":"IF('RWIS (Desc)'!F124=\"\",\"\",'RWIS (Desc)'!F124)","v":""},{"$f":"IF('RWIS (Desc)'!G124=\"\",\"\",'RWIS (Desc)'!G124)","v":""}]
[{"$f":"IF('RWIS (Desc)'!A125=\"\",\"\",'RWIS (Desc)'!A125)","v":""},{"$f":"IF('RWIS (Desc)'!B125=\"\",\"\",'RWIS (Desc)'!B125)","v":""},{"$f":"IF('RWIS (Desc)'!C125=\"\",\"\",'RWIS (Desc)'!C125)","v":""},{"$f":"IF('RWIS (Desc)'!D125=\"\",\"\",INDEX([1]OWNER!$A$2:$A$100,MATCH('RWIS (Desc)'!$D125,[1]!MASTER_OWNER_DESC[#Data],0),0))","v":""},{"$f":"IF('RWIS (Desc)'!E125=\"\",\"\",INDEX([1]COUNTY!$A$2:$A$80,MATCH('RWIS (Desc)'!E125,[1]!MASTER_COUNTY_NAME[#Data],0),0))","v":""},{"$f":"IF('RWIS (Desc)'!F125=\"\",\"\",'RWIS (Desc)'!F125)","v":""},{"$f":"IF('RWIS (Desc)'!G125=\"\",\"\",'RWIS (Desc)'!G125)","v":""}]
[{"$f":"IF('RWIS (Desc)'!A126=\"\",\"\",'RWIS (Desc)'!A126)","v":""},{"$f":"IF('RWIS (Desc)'!B126=\"\",\"\",'RWIS (Desc)'!B126)","v":""},{"$f":"IF('RWIS (Desc)'!C126=\"\",\"\",'RWIS (Desc)'!C126)","v":""},{"$f":"IF('RWIS (Desc)'!D126=\"\",\"\",INDEX([1]OWNER!$A$2:$A$100,MATCH('RWIS (Desc)'!$D126,[1]!MASTER_OWNER_DESC[#Data],0),0))","v":""},{"$f":"IF('RWIS (Desc)'!E126=\"\",\"\",INDEX([1]COUNTY!$A$2:$A$80,MATCH('RWIS (Desc)'!E126,[1]!MASTER_COUNTY_NAME[#Data],0),0))","v":""},{"$f":"IF('RWIS (Desc)'!F126=\"\",\"\",'RWIS (Desc)'!F126)","v":""},{"$f":"IF('RWIS (Desc)'!G126=\"\",\"\",'RWIS (Desc)'!G126)","v":""}]
[{"$f":"IF('RWIS (Desc)'!A127=\"\",\"\",'RWIS (Desc)'!A127)","v":""},{"$f":"IF('RWIS (Desc)'!B127=\"\",\"\",'RWIS (Desc)'!B127)","v":""},{"$f":"IF('RWIS (Desc)'!C127=\"\",\"\",'RWIS (Desc)'!C127)","v":""},{"$f":"IF('RWIS (Desc)'!D127=\"\",\"\",INDEX([1]OWNER!$A$2:$A$100,MATCH('RWIS (Desc)'!$D127,[1]!MASTER_OWNER_DESC[#Data],0),0))","v":""},{"$f":"IF('RWIS (Desc)'!E127=\"\",\"\",INDEX([1]COUNTY!$A$2:$A$80,MATCH('RWIS (Desc)'!E127,[1]!MASTER_COUNTY_NAME[#Data],0),0))","v":""},{"$f":"IF('RWIS (Desc)'!F127=\"\",\"\",'RWIS (Desc)'!F127)","v":""},{"$f":"IF('RWIS (Desc)'!G127=\"\",\"\",'RWIS (Desc)'!G127)","v":""}]
[{"$f":"IF('RWIS (Desc)'!A128=\"\",\"\",'RWIS (Desc)'!A128)","v":""},{"$f":"IF('RWIS (Desc)'!B128=\"\",\"\",'RWIS (Desc)'!B128)","v":""},{"$f":"IF('RWIS (Desc)'!C128=\"\",\"\",'RWIS (Desc)'!C128)","v":""},{"$f":"IF('RWIS (Desc)'!D128=\"\",\"\",INDEX([1]OWNER!$A$2:$A$100,MATCH('RWIS (Desc)'!$D128,[1]!MASTER_OWNER_DESC[#Data],0),0))","v":""},{"$f":"IF('RWIS (Desc)'!E128=\"\",\"\",INDEX([1]COUNTY!$A$2:$A$80,MATCH('RWIS (Desc)'!E128,[1]!MASTER_COUNTY_NAME[#Data],0),0))","v":""},{"$f":"IF('RWIS (Desc)'!F128=\"\",\"\",'RWIS (Desc)'!F128)","v":""},{"$f":"IF('RWIS (Desc)'!G128=\"\",\"\",'RWIS (Desc)'!G128)","v":""}]
[{"$f":"IF('RWIS (Desc)'!A129=\"\",\"\",'RWIS (Desc)'!A129)","v":""},{"$f":"IF('RWIS (Desc)'!B129=\"\",\"\",'RWIS (Desc)'!B129)","v":""},{"$f":"IF('RWIS (Desc)'!C129=\"\",\"\",'RWIS (Desc)'!C129)","v":""},{"$f":"IF('RWIS (Desc)'!D129=\"\",\"\",INDEX([1]OWNER!$A$2:$A$100,MATCH('RWIS (Desc)'!$D129,[1]!MASTER_OWNER_DESC[#Data],0),0))","v":""},{"$f":"IF('RWIS (Desc)'!E129=\"\",\"\",INDEX([1]COUNTY!$A$2:$A$80,MATCH('RWIS (Desc)'!E129,[1]!MASTER_COUNTY_NAME[#Data],0),0))","v":""},{"$f":"IF('RWIS (Desc)'!F129=\"\",\"\",'RWIS (Desc)'!F129)","v":""},{"$f":"IF('RWIS (Desc)'!G129=\"\",\"\",'RWIS (Desc)'!G129)","v":""}]
[{"$f":"IF('RWIS (Desc)'!A130=\"\",\"\",'RWIS (Desc)'!A130)","v":""},{"$f":"IF('RWIS (Desc)'!B130=\"\",\"\",'RWIS (Desc)'!B130)","v":""},{"$f":"IF('RWIS (Desc)'!C130=\"\",\"\",'RWIS (Desc)'!C130)","v":""},{"$f":"IF('RWIS (Desc)'!D130=\"\",\"\",INDEX([1]OWNER!$A$2:$A$100,MATCH('RWIS (Desc)'!$D130,[1]!MASTER_OWNER_DESC[#Data],0),0))","v":""},{"$f":"IF('RWIS (Desc)'!E130=\"\",\"\",INDEX([1]COUNTY!$A$2:$A$80,MATCH('RWIS (Desc)'!E130,[1]!MASTER_COUNTY_NAME[#Data],0),0))","v":""},{"$f":"IF('RWIS (Desc)'!F130=\"\",\"\",'RWIS (Desc)'!F130)","v":""},{"$f":"IF('RWIS (Desc)'!G130=\"\",\"\",'RWIS (Desc)'!G130)","v":""}]
[{"$f":"IF('RWIS (Desc)'!A131=\"\",\"\",'RWIS (Desc)'!A131)","v":""},{"$f":"IF('RWIS (Desc)'!B131=\"\",\"\",'RWIS (Desc)'!B131)","v":""},{"$f":"IF('RWIS (Desc)'!C131=\"\",\"\",'RWIS (Desc)'!C131)","v":""},{"$f":"IF('RWIS (Desc)'!D131=\"\",\"\",INDEX([1]OWNER!$A$2:$A$100,MATCH('RWIS (Desc)'!$D131,[1]!MASTER_OWNER_DESC[#Data],0),0))","v":""},{"$f":"IF('RWIS (Desc)'!E131=\"\",\"\",INDEX([1]COUNTY!$A$2:$A$80,MATCH('RWIS (Desc)'!E131,[1]!MASTER_COUNTY_NAME[#Data],0),0))","v":""},{"$f":"IF('RWIS (Desc)'!F131=\"\",\"\",'RWIS (Desc)'!F131)","v":""},{"$f":"IF('RWIS (Desc)'!G131=\"\",\"\",'RWIS (Desc)'!G131)","v":""}]
[{"$f":"IF('RWIS (Desc)'!A132=\"\",\"\",'RWIS (Desc)'!A132)","v":""},{"$f":"IF('RWIS (Desc)'!B132=\"\",\"\",'RWIS (Desc)'!B132)","v":""},{"$f":"IF('RWIS (Desc)'!C132=\"\",\"\",'RWIS (Desc)'!C132)","v":""},{"$f":"IF('RWIS (Desc)'!D132=\"\",\"\",INDEX([1]OWNER!$A$2:$A$100,MATCH('RWIS (Desc)'!$D132,[1]!MASTER_OWNER_DESC[#Data],0),0))","v":""},{"$f":"IF('RWIS (Desc)'!E132=\"\",\"\",INDEX([1]COUNTY!$A$2:$A$80,MATCH('RWIS (Desc)'!E132,[1]!MASTER_COUNTY_NAME[#Data],0),0))","v":""},{"$f":"IF('RWIS (Desc)'!F132=\"\",\"\",'RWIS (Desc)'!F132)","v":""},{"$f":"IF('RWIS (Desc)'!G132=\"\",\"\",'RWIS (Desc)'!G132)","v":""}]
[{"$f":"IF('RWIS (Desc)'!A133=\"\",\"\",'RWIS (Desc)'!A133)","v":""},{"$f":"IF('RWIS (Desc)'!B133=\"\",\"\",'RWIS (Desc)'!B133)","v":""},{"$f":"IF('RWIS (Desc)'!C133=\"\",\"\",'RWIS (Desc)'!C133)","v":""},{"$f":"IF('RWIS (Desc)'!D133=\"\",\"\",INDEX([1]OWNER!$A$2:$A$100,MATCH('RWIS (Desc)'!$D133,[1]!MASTER_OWNER_DESC[#Data],0),0))","v":""},{"$f":"IF('RWIS (Desc)'!E133=\"\",\"\",INDEX([1]COUNTY!$A$2:$A$80,MATCH('RWIS (Desc)'!E133,[1]!MASTER_COUNTY_NAME[#Data],0),0))","v":""},{"$f":"IF('RWIS (Desc)'!F133=\"\",\"\",'RWIS (Desc)'!F133)","v":""},{"$f":"IF('RWIS (Desc)'!G133=\"\",\"\",'RWIS (Desc)'!G133)","v":""}]
[{"$f":"IF('RWIS (Desc)'!A134=\"\",\"\",'RWIS (Desc)'!A134)","v":""},{"$f":"IF('RWIS (Desc)'!B134=\"\",\"\",'RWIS (Desc)'!B134)","v":""},{"$f":"IF('RWIS (Desc)'!C134=\"\",\"\",'RWIS (Desc)'!C134)","v":""},{"$f":"IF('RWIS (Desc)'!D134=\"\",\"\",INDEX([1]OWNER!$A$2:$A$100,MATCH('RWIS (Desc)'!$D134,[1]!MASTER_OWNER_DESC[#Data],0),0))","v":""},{"$f":"IF('RWIS (Desc)'!E134=\"\",\"\",INDEX([1]COUNTY!$A$2:$A$80,MATCH('RWIS (Desc)'!E134,[1]!MASTER_COUNTY_NAME[#Data],0),0))","v":""},{"$f":"IF('RWIS (Desc)'!F134=\"\",\"\",'RWIS (Desc)'!F134)","v":""},{"$f":"IF('RWIS (Desc)'!G134=\"\",\"\",'RWIS (Desc)'!G134)","v":""}]
[{"$f":"IF('RWIS (Desc)'!A135=\"\",\"\",'RWIS (Desc)'!A135)","v":""},{"$f":"IF('RWIS (Desc)'!B135=\"\",\"\",'RWIS (Desc)'!B135)","v":""},{"$f":"IF('RWIS (Desc)'!C135=\"\",\"\",'RWIS (Desc)'!C135)","v":""},{"$f":"IF('RWIS (Desc)'!D135=\"\",\"\",INDEX([1]OWNER!$A$2:$A$100,MATCH('RWIS (Desc)'!$D135,[1]!MASTER_OWNER_DESC[#Data],0),0))","v":""},{"$f":"IF('RWIS (Desc)'!E135=\"\",\"\",INDEX([1]COUNTY!$A$2:$A$80,MATCH('RWIS (Desc)'!E135,[1]!MASTER_COUNTY_NAME[#Data],0),0))","v":""},{"$f":"IF('RWIS (Desc)'!F135=\"\",\"\",'RWIS (Desc)'!F135)","v":""},{"$f":"IF('RWIS (Desc)'!G135=\"\",\"\",'RWIS (Desc)'!G135)","v":""}]
[{"$f":"IF('RWIS (Desc)'!A136=\"\",\"\",'RWIS (Desc)'!A136)","v":""},{"$f":"IF('RWIS (Desc)'!B136=\"\",\"\",'RWIS (Desc)'!B136)","v":""},{"$f":"IF('RWIS (Desc)'!C136=\"\",\"\",'RWIS (Desc)'!C136)","v":""},{"$f":"IF('RWIS (Desc)'!D136=\"\",\"\",INDEX([1]OWNER!$A$2:$A$100,MATCH('RWIS (Desc)'!$D136,[1]!MASTER_OWNER_DESC[#Data],0),0))","v":""},{"$f":"IF('RWIS (Desc)'!E136=\"\",\"\",INDEX([1]COUNTY!$A$2:$A$80,MATCH('RWIS (Desc)'!E136,[1]!MASTER_COUNTY_NAME[#Data],0),0))","v":""},{"$f":"IF('RWIS (Desc)'!F136=\"\",\"\",'RWIS (Desc)'!F136)","v":""},{"$f":"IF('RWIS (Desc)'!G136=\"\",\"\",'RWIS (Desc)'!G136)","v":""}]
[{"$f":"IF('RWIS (Desc)'!A137=\"\",\"\",'RWIS (Desc)'!A137)","v":""},{"$f":"IF('RWIS (Desc)'!B137=\"\",\"\",'RWIS (Desc)'!B137)","v":""},{"$f":"IF('RWIS (Desc)'!C137=\"\",\"\",'RWIS (Desc)'!C137)","v":""},{"$f":"IF('RWIS (Desc)'!D137=\"\",\"\",INDEX([1]OWNER!$A$2:$A$100,MATCH('RWIS (Desc)'!$D137,[1]!MASTER_OWNER_DESC[#Data],0),0))","v":""},{"$f":"IF('RWIS (Desc)'!E137=\"\",\"\",INDEX([1]COUNTY!$A$2:$A$80,MATCH('RWIS (Desc)'!E137,[1]!MASTER_COUNTY_NAME[#Data],0),0))","v":""},{"$f":"IF('RWIS (Desc)'!F137=\"\",\"\",'RWIS (Desc)'!F137)","v":""},{"$f":"IF('RWIS (Desc)'!G137=\"\",\"\",'RWIS (Desc)'!G137)","v":""}]
[{"$f":"IF('RWIS (Desc)'!A138=\"\",\"\",'RWIS (Desc)'!A138)","v":""},{"$f":"IF('RWIS (Desc)'!B138=\"\",\"\",'RWIS (Desc)'!B138)","v":""},{"$f":"IF('RWIS (Desc)'!C138=\"\",\"\",'RWIS (Desc)'!C138)","v":""},{"$f":"IF('RWIS (Desc)'!D138=\"\",\"\",INDEX([1]OWNER!$A$2:$A$100,MATCH('RWIS (Desc)'!$D138,[1]!MASTER_OWNER_DESC[#Data],0),0))","v":""},{"$f":"IF('RWIS (Desc)'!E138=\"\",\"\",INDEX([1]COUNTY!$A$2:$A$80,MATCH('RWIS (Desc)'!E138,[1]!MASTER_COUNTY_NAME[#Data],0),0))","v":""},{"$f":"IF('RWIS (Desc)'!F138=\"\",\"\",'RWIS (Desc)'!F138)","v":""},{"$f":"IF('RWIS (Desc)'!G138=\"\",\"\",'RWIS (Desc)'!G138)","v":""}]
[{"$f":"IF('RWIS (Desc)'!A139=\"\",\"\",'RWIS (Desc)'!A139)","v":""},{"$f":"IF('RWIS (Desc)'!B139=\"\",\"\",'RWIS (Desc)'!B139)","v":""},{"$f":"IF('RWIS (Desc)'!C139=\"\",\"\",'RWIS (Desc)'!C139)","v":""},{"$f":"IF('RWIS (Desc)'!D139=\"\",\"\",INDEX([1]OWNER!$A$2:$A$100,MATCH('RWIS (Desc)'!$D139,[1]!MASTER_OWNER_DESC[#Data],0),0))","v":""},{"$f":"IF('RWIS (Desc)'!E139=\"\",\"\",INDEX([1]COUNTY!$A$2:$A$80,MATCH('RWIS (Desc)'!E139,[1]!MASTER_COUNTY_NAME[#Data],0),0))","v":""},{"$f":"IF('RWIS (Desc)'!F139=\"\",\"\",'RWIS (Desc)'!F139)","v":""},{"$f":"IF('RWIS (Desc)'!G139=\"\",\"\",'RWIS (Desc)'!G139)","v":""}]
[{"$f":"IF('RWIS (Desc)'!A140=\"\",\"\",'RWIS (Desc)'!A140)","v":""},{"$f":"IF('RWIS (Desc)'!B140=\"\",\"\",'RWIS (Desc)'!B140)","v":""},{"$f":"IF('RWIS (Desc)'!C140=\"\",\"\",'RWIS (Desc)'!C140)","v":""},{"$f":"IF('RWIS (Desc)'!D140=\"\",\"\",INDEX([1]OWNER!$A$2:$A$100,MATCH('RWIS (Desc)'!$D140,[1]!MASTER_OWNER_DESC[#Data],0),0))","v":""},{"$f":"IF('RWIS (Desc)'!E140=\"\",\"\",INDEX([1]COUNTY!$A$2:$A$80,MATCH('RWIS (Desc)'!E140,[1]!MASTER_COUNTY_NAME[#Data],0),0))","v":""},{"$f":"IF('RWIS (Desc)'!F140=\"\",\"\",'RWIS (Desc)'!F140)","v":""},{"$f":"IF('RWIS (Desc)'!G140=\"\",\"\",'RWIS (Desc)'!G140)","v":""}]
[{"$f":"IF('RWIS (Desc)'!A141=\"\",\"\",'RWIS (Desc)'!A141)","v":""},{"$f":"IF('RWIS (Desc)'!B141=\"\",\"\",'RWIS (Desc)'!B141)","v":""},{"$f":"IF('RWIS (Desc)'!C141=\"\",\"\",'RWIS (Desc)'!C141)","v":""},{"$f":"IF('RWIS (Desc)'!D141=\"\",\"\",INDEX([1]OWNER!$A$2:$A$100,MATCH('RWIS (Desc)'!$D141,[1]!MASTER_OWNER_DESC[#Data],0),0))","v":""},{"$f":"IF('RWIS (Desc)'!E141=\"\",\"\",INDEX([1]COUNTY!$A$2:$A$80,MATCH('RWIS (Desc)'!E141,[1]!MASTER_COUNTY_NAME[#Data],0),0))","v":""},{"$f":"IF('RWIS (Desc)'!F141=\"\",\"\",'RWIS (Desc)'!F141)","v":""},{"$f":"IF('RWIS (Desc)'!G141=\"\",\"\",'RWIS (Desc)'!G141)","v":""}]
[{"$f":"IF('RWIS (Desc)'!A142=\"\",\"\",'RWIS (Desc)'!A142)","v":""},{"$f":"IF('RWIS (Desc)'!B142=\"\",\"\",'RWIS (Desc)'!B142)","v":""},{"$f":"IF('RWIS (Desc)'!C142=\"\",\"\",'RWIS (Desc)'!C142)","v":""},{"$f":"IF('RWIS (Desc)'!D142=\"\",\"\",INDEX([1]OWNER!$A$2:$A$100,MATCH('RWIS (Desc)'!$D142,[1]!MASTER_OWNER_DESC[#Data],0),0))","v":""},{"$f":"IF('RWIS (Desc)'!E142=\"\",\"\",INDEX([1]COUNTY!$A$2:$A$80,MATCH('RWIS (Desc)'!E142,[1]!MASTER_COUNTY_NAME[#Data],0),0))","v":""},{"$f":"IF('RWIS (Desc)'!F142=\"\",\"\",'RWIS (Desc)'!F142)","v":""},{"$f":"IF('RWIS (Desc)'!G142=\"\",\"\",'RWIS (Desc)'!G142)","v":""}]
[{"$f":"IF('RWIS (Desc)'!A143=\"\",\"\",'RWIS (Desc)'!A143)","v":""},{"$f":"IF('RWIS (Desc)'!B143=\"\",\"\",'RWIS (Desc)'!B143)","v":""},{"$f":"IF('RWIS (Desc)'!C143=\"\",\"\",'RWIS (Desc)'!C143)","v":""},{"$f":"IF('RWIS (Desc)'!D143=\"\",\"\",INDEX([1]OWNER!$A$2:$A$100,MATCH('RWIS (Desc)'!$D143,[1]!MASTER_OWNER_DESC[#Data],0),0))","v":""},{"$f":"IF('RWIS (Desc)'!E143=\"\",\"\",INDEX([1]COUNTY!$A$2:$A$80,MATCH('RWIS (Desc)'!E143,[1]!MASTER_COUNTY_NAME[#Data],0),0))","v":""},{"$f":"IF('RWIS (Desc)'!F143=\"\",\"\",'RWIS (Desc)'!F143)","v":""},{"$f":"IF('RWIS (Desc)'!G143=\"\",\"\",'RWIS (Desc)'!G143)","v":""}]
[{"$f":"IF('RWIS (Desc)'!A144=\"\",\"\",'RWIS (Desc)'!A144)","v":""},{"$f":"IF('RWIS (Desc)'!B144=\"\",\"\",'RWIS (Desc)'!B144)","v":""},{"$f":"IF('RWIS (Desc)'!C144=\"\",\"\",'RWIS (Desc)'!C144)","v":""},{"$f":"IF('RWIS (Desc)'!D144=\"\",\"\",INDEX([1]OWNER!$A$2:$A$100,MATCH('RWIS (Desc)'!$D144,[1]!MASTER_OWNER_DESC[#Data],0),0))","v":""},{"$f":"IF('RWIS (Desc)'!E144=\"\",\"\",INDEX([1]COUNTY!$A$2:$A$80,MATCH('RWIS (Desc)'!E144,[1]!MASTER_COUNTY_NAME[#Data],0),0))","v":""},{"$f":"IF('RWIS (Desc)'!F144=\"\",\"\",'RWIS (Desc)'!F144)","v":""},{"$f":"IF('RWIS (Desc)'!G144=\"\",\"\",'RWIS (Desc)'!G144)","v":""}]
[{"$f":"IF('RWIS (Desc)'!A145=\"\",\"\",'RWIS (Desc)'!A145)","v":""},{"$f":"IF('RWIS (Desc)'!B145=\"\",\"\",'RWIS (Desc)'!B145)","v":""},{"$f":"IF('RWIS (Desc)'!C145=\"\",\"\",'RWIS (Desc)'!C145)","v":""},{"$f":"IF('RWIS (Desc)'!D145=\"\",\"\",INDEX([1]OWNER!$A$2:$A$100,MATCH('RWIS (Desc)'!$D145,[1]!MASTER_OWNER_DESC[#Data],0),0))","v":""},{"$f":"IF('RWIS (Desc)'!E145=\"\",\"\",INDEX([1]COUNTY!$A$2:$A$80,MATCH('RWIS (Desc)'!E145,[1]!MASTER_COUNTY_NAME[#Data],0),0))","v":""},{"$f":"IF('RWIS (Desc)'!F145=\"\",\"\",'RWIS (Desc)'!F145)","v":""},{"$f":"IF('RWIS (Desc)'!G145=\"\",\"\",'RWIS (Desc)'!G145)","v":""}]
[{"$f":"IF('RWIS (Desc)'!A146=\"\",\"\",'RWIS (Desc)'!A146)","v":""},{"$f":"IF('RWIS (Desc)'!B146=\"\",\"\",'RWIS (Desc)'!B146)","v":""},{"$f":"IF('RWIS (Desc)'!C146=\"\",\"\",'RWIS (Desc)'!C146)","v":""},{"$f":"IF('RWIS (Desc)'!D146=\"\",\"\",INDEX([1]OWNER!$A$2:$A$100,MATCH('RWIS (Desc)'!$D146,[1]!MASTER_OWNER_DESC[#Data],0),0))","v":""},{"$f":"IF('RWIS (Desc)'!E146=\"\",\"\",INDEX([1]COUNTY!$A$2:$A$80,MATCH('RWIS (Desc)'!E146,[1]!MASTER_COUNTY_NAME[#Data],0),0))","v":""},{"$f":"IF('RWIS (Desc)'!F146=\"\",\"\",'RWIS (Desc)'!F146)","v":""},{"$f":"IF('RWIS (Desc)'!G146=\"\",\"\",'RWIS (Desc)'!G146)","v":""}]
[{"$f":"IF('RWIS (Desc)'!A147=\"\",\"\",'RWIS (Desc)'!A147)","v":""},{"$f":"IF('RWIS (Desc)'!B147=\"\",\"\",'RWIS (Desc)'!B147)","v":""},{"$f":"IF('RWIS (Desc)'!C147=\"\",\"\",'RWIS (Desc)'!C147)","v":""},{"$f":"IF('RWIS (Desc)'!D147=\"\",\"\",INDEX([1]OWNER!$A$2:$A$100,MATCH('RWIS (Desc)'!$D147,[1]!MASTER_OWNER_DESC[#Data],0),0))","v":""},{"$f":"IF('RWIS (Desc)'!E147=\"\",\"\",INDEX([1]COUNTY!$A$2:$A$80,MATCH('RWIS (Desc)'!E147,[1]!MASTER_COUNTY_NAME[#Data],0),0))","v":""},{"$f":"IF('RWIS (Desc)'!F147=\"\",\"\",'RWIS (Desc)'!F147)","v":""},{"$f":"IF('RWIS (Desc)'!G147=\"\",\"\",'RWIS (Desc)'!G147)","v":""}]
[{"$f":"IF('RWIS (Desc)'!A148=\"\",\"\",'RWIS (Desc)'!A148)","v":""},{"$f":"IF('RWIS (Desc)'!B148=\"\",\"\",'RWIS (Desc)'!B148)","v":""},{"$f":"IF('RWIS (Desc)'!C148=\"\",\"\",'RWIS (Desc)'!C148)","v":""},{"$f":"IF('RWIS (Desc)'!D148=\"\",\"\",INDEX([1]OWNER!$A$2:$A$100,MATCH('RWIS (Desc)'!$D148,[1]!MASTER_OWNER_DESC[#Data],0),0))","v":""},{"$f":"IF('RWIS (Desc)'!E148=\"\",\"\",INDEX([1]COUNTY!$A$2:$A$80,MATCH('RWIS (Desc)'!E148,[1]!MASTER_COUNTY_NAME[#Data],0),0))","v":""},{"$f":"IF('RWIS (Desc)'!F148=\"\",\"\",'RWIS (Desc)'!F148)","v":""},{"$f":"IF('RWIS (Desc)'!G148=\"\",\"\",'RWIS (Desc)'!G148)","v":""}]
[{"$f":"IF('RWIS (Desc)'!A149=\"\",\"\",'RWIS (Desc)'!A149)","v":""},{"$f":"IF('RWIS (Desc)'!B149=\"\",\"\",'RWIS (Desc)'!B149)","v":""},{"$f":"IF('RWIS (Desc)'!C149=\"\",\"\",'RWIS (Desc)'!C149)","v":""},{"$f":"IF('RWIS (Desc)'!D149=\"\",\"\",INDEX([1]OWNER!$A$2:$A$100,MATCH('RWIS (Desc)'!$D149,[1]!MASTER_OWNER_DESC[#Data],0),0))","v":""},{"$f":"IF('RWIS (Desc)'!E149=\"\",\"\",INDEX([1]COUNTY!$A$2:$A$80,MATCH('RWIS (Desc)'!E149,[1]!MASTER_COUNTY_NAME[#Data],0),0))","v":""},{"$f":"IF('RWIS (Desc)'!F149=\"\",\"\",'RWIS (Desc)'!F149)","v":""},{"$f":"IF('RWIS (Desc)'!G149=\"\",\"\",'RWIS (Desc)'!G149)","v":""}]
[{"$f":"IF('RWIS (Desc)'!A150=\"\",\"\",'RWIS (Desc)'!A150)","v":""},{"$f":"IF('RWIS (Desc)'!B150=\"\",\"\",'RWIS (Desc)'!B150)","v":""},{"$f":"IF('RWIS (Desc)'!C150=\"\",\"\",'RWIS (Desc)'!C150)","v":""},{"$f":"IF('RWIS (Desc)'!D150=\"\",\"\",INDEX([1]OWNER!$A$2:$A$100,MATCH('RWIS (Desc)'!$D150,[1]!MASTER_OWNER_DESC[#Data],0),0))","v":""},{"$f":"IF('RWIS (Desc)'!E150=\"\",\"\",INDEX([1]COUNTY!$A$2:$A$80,MATCH('RWIS (Desc)'!E150,[1]!MASTER_COUNTY_NAME[#Data],0),0))","v":""},{"$f":"IF('RWIS (Desc)'!F150=\"\",\"\",'RWIS (Desc)'!F150)","v":""},{"$f":"IF('RWIS (Desc)'!G150=\"\",\"\",'RWIS (Desc)'!G150)","v":""}]
[{"$f":"IF('RWIS (Desc)'!A151=\"\",\"\",'RWIS (Desc)'!A151)","v":""},{"$f":"IF('RWIS (Desc)'!B151=\"\",\"\",'RWIS (Desc)'!B151)","v":""},{"$f":"IF('RWIS (Desc)'!C151=\"\",\"\",'RWIS (Desc)'!C151)","v":""},{"$f":"IF('RWIS (Desc)'!D151=\"\",\"\",INDEX([1]OWNER!$A$2:$A$100,MATCH('RWIS (Desc)'!$D151,[1]!MASTER_OWNER_DESC[#Data],0),0))","v":""},{"$f":"IF('RWIS (Desc)'!E151=\"\",\"\",INDEX([1]COUNTY!$A$2:$A$80,MATCH('RWIS (Desc)'!E151,[1]!MASTER_COUNTY_NAME[#Data],0),0))","v":""},{"$f":"IF('RWIS (Desc)'!F151=\"\",\"\",'RWIS (Desc)'!F151)","v":""},{"$f":"IF('RWIS (Desc)'!G151=\"\",\"\",'RWIS (Desc)'!G151)","v":""}]
[{"$f":"IF('RWIS (Desc)'!A152=\"\",\"\",'RWIS (Desc)'!A152)","v":""},{"$f":"IF('RWIS (Desc)'!B152=\"\",\"\",'RWIS (Desc)'!B152)","v":""},{"$f":"IF('RWIS (Desc)'!C152=\"\",\"\",'RWIS (Desc)'!C152)","v":""},{"$f":"IF('RWIS (Desc)'!D152=\"\",\"\",INDEX([1]OWNER!$A$2:$A$100,MATCH('RWIS (Desc)'!$D152,[1]!MASTER_OWNER_DESC[#Data],0),0))","v":""},{"$f":"IF('RWIS (Desc)'!E152=\"\",\"\",INDEX([1]COUNTY!$A$2:$A$80,MATCH('RWIS (Desc)'!E152,[1]!MASTER_COUNTY_NAME[#Data],0),0))","v":""},{"$f":"IF('RWIS (Desc)'!F152=\"\",\"\",'RWIS (Desc)'!F152)","v":""},{"$f":"IF('RWIS (Desc)'!G152=\"\",\"\",'RWIS (Desc)'!G152)","v":""}]
[{"$f":"IF('RWIS (Desc)'!A153=\"\",\"\",'RWIS (Desc)'!A153)","v":""},{"$f":"IF('RWIS (Desc)'!B153=\"\",\"\",'RWIS (Desc)'!B153)","v":""},{"$f":"IF('RWIS (Desc)'!C153=\"\",\"\",'RWIS (Desc)'!C153)","v":""},{"$f":"IF('RWIS (Desc)'!D153=\"\",\"\",INDEX([1]OWNER!$A$2:$A$100,MATCH('RWIS (Desc)'!$D153,[1]!MASTER_OWNER_DESC[#Data],0),0))","v":""},{"$f":"IF('RWIS (Desc)'!E153=\"\",\"\",INDEX([1]COUNTY!$A$2:$A$80,MATCH('RWIS (Desc)'!E153,[1]!MASTER_COUNTY_NAME[#Data],0),0))","v":""},{"$f":"IF('RWIS (Desc)'!F153=\"\",\"\",'RWIS (Desc)'!F153)","v":""},{"$f":"IF('RWIS (Desc)'!G153=\"\",\"\",'RWIS (Desc)'!G153)","v":""}]
[{"$f":"IF('RWIS (Desc)'!A154=\"\",\"\",'RWIS (Desc)'!A154)","v":""},{"$f":"IF('RWIS (Desc)'!B154=\"\",\"\",'RWIS (Desc)'!B154)","v":""},{"$f":"IF('RWIS (Desc)'!C154=\"\",\"\",'RWIS (Desc)'!C154)","v":""},{"$f":"IF('RWIS (Desc)'!D154=\"\",\"\",INDEX([1]OWNER!$A$2:$A$100,MATCH('RWIS (Desc)'!$D154,[1]!MASTER_OWNER_DESC[#Data],0),0))","v":""},{"$f":"IF('RWIS (Desc)'!E154=\"\",\"\",INDEX([1]COUNTY!$A$2:$A$80,MATCH('RWIS (Desc)'!E154,[1]!MASTER_COUNTY_NAME[#Data],0),0))","v":""},{"$f":"IF('RWIS (Desc)'!F154=\"\",\"\",'RWIS (Desc)'!F154)","v":""},{"$f":"IF('RWIS (Desc)'!G154=\"\",\"\",'RWIS (Desc)'!G154)","v":""}]
[{"$f":"IF('RWIS (Desc)'!A155=\"\",\"\",'RWIS (Desc)'!A155)","v":""},{"$f":"IF('RWIS (Desc)'!B155=\"\",\"\",'RWIS (Desc)'!B155)","v":""},{"$f":"IF('RWIS (Desc)'!C155=\"\",\"\",'RWIS (Desc)'!C155)","v":""},{"$f":"IF('RWIS (Desc)'!D155=\"\",\"\",INDEX([1]OWNER!$A$2:$A$100,MATCH('RWIS (Desc)'!$D155,[1]!MASTER_OWNER_DESC[#Data],0),0))","v":""},{"$f":"IF('RWIS (Desc)'!E155=\"\",\"\",INDEX([1]COUNTY!$A$2:$A$80,MATCH('RWIS (Desc)'!E155,[1]!MASTER_COUNTY_NAME[#Data],0),0))","v":""},{"$f":"IF('RWIS (Desc)'!F155=\"\",\"\",'RWIS (Desc)'!F155)","v":""},{"$f":"IF('RWIS (Desc)'!G155=\"\",\"\",'RWIS (Desc)'!G155)","v":""}]
[{"$f":"IF('RWIS (Desc)'!A156=\"\",\"\",'RWIS (Desc)'!A156)","v":""},{"$f":"IF('RWIS (Desc)'!B156=\"\",\"\",'RWIS (Desc)'!B156)","v":""},{"$f":"IF('RWIS (Desc)'!C156=\"\",\"\",'RWIS (Desc)'!C156)","v":""},{"$f":"IF('RWIS (Desc)'!D156=\"\",\"\",INDEX([1]OWNER!$A$2:$A$100,MATCH('RWIS (Desc)'!$D156,[1]!MASTER_OWNER_DESC[#Data],0),0))","v":""},{"$f":"IF('RWIS (Desc)'!E156=\"\",\"\",INDEX([1]COUNTY!$A$2:$A$80,MATCH('RWIS (Desc)'!E156,[1]!MASTER_COUNTY_NAME[#Data],0),0))","v":""},{"$f":"IF('RWIS (Desc)'!F156=\"\",\"\",'RWIS (Desc)'!F156)","v":""},{"$f":"IF('RWIS (Desc)'!G156=\"\",\"\",'RWIS (Desc)'!G156)","v":""}]
[{"$f":"IF('RWIS (Desc)'!A157=\"\",\"\",'RWIS (Desc)'!A157)","v":""},{"$f":"IF('RWIS (Desc)'!B157=\"\",\"\",'RWIS (Desc)'!B157)","v":""},{"$f":"IF('RWIS (Desc)'!C157=\"\",\"\",'RWIS (Desc)'!C157)","v":""},{"$f":"IF('RWIS (Desc)'!D157=\"\",\"\",INDEX([1]OWNER!$A$2:$A$100,MATCH('RWIS (Desc)'!$D157,[1]!MASTER_OWNER_DESC[#Data],0),0))","v":""},{"$f":"IF('RWIS (Desc)'!E157=\"\",\"\",INDEX([1]COUNTY!$A$2:$A$80,MATCH('RWIS (Desc)'!E157,[1]!MASTER_COUNTY_NAME[#Data],0),0))","v":""},{"$f":"IF('RWIS (Desc)'!F157=\"\",\"\",'RWIS (Desc)'!F157)","v":""},{"$f":"IF('RWIS (Desc)'!G157=\"\",\"\",'RWIS (Desc)'!G157)","v":""}]
[{"$f":"IF('RWIS (Desc)'!A158=\"\",\"\",'RWIS (Desc)'!A158)","v":""},{"$f":"IF('RWIS (Desc)'!B158=\"\",\"\",'RWIS (Desc)'!B158)","v":""},{"$f":"IF('RWIS (Desc)'!C158=\"\",\"\",'RWIS (Desc)'!C158)","v":""},{"$f":"IF('RWIS (Desc)'!D158=\"\",\"\",INDEX([1]OWNER!$A$2:$A$100,MATCH('RWIS (Desc)'!$D158,[1]!MASTER_OWNER_DESC[#Data],0),0))","v":""},{"$f":"IF('RWIS (Desc)'!E158=\"\",\"\",INDEX([1]COUNTY!$A$2:$A$80,MATCH('RWIS (Desc)'!E158,[1]!MASTER_COUNTY_NAME[#Data],0),0))","v":""},{"$f":"IF('RWIS (Desc)'!F158=\"\",\"\",'RWIS (Desc)'!F158)","v":""},{"$f":"IF('RWIS (Desc)'!G158=\"\",\"\",'RWIS (Desc)'!G158)","v":""}]
[{"$f":"IF('RWIS (Desc)'!A159=\"\",\"\",'RWIS (Desc)'!A159)","v":""},{"$f":"IF('RWIS (Desc)'!B159=\"\",\"\",'RWIS (Desc)'!B159)","v":""},{"$f":"IF('RWIS (Desc)'!C159=\"\",\"\",'RWIS (Desc)'!C159)","v":""},{"$f":"IF('RWIS (Desc)'!D159=\"\",\"\",INDEX([1]OWNER!$A$2:$A$100,MATCH('RWIS (Desc)'!$D159,[1]!MASTER_OWNER_DESC[#Data],0),0))","v":""},{"$f":"IF('RWIS (Desc)'!E159=\"\",\"\",INDEX([1]COUNTY!$A$2:$A$80,MATCH('RWIS (Desc)'!E159,[1]!MASTER_COUNTY_NAME[#Data],0),0))","v":""},{"$f":"IF('RWIS (Desc)'!F159=\"\",\"\",'RWIS (Desc)'!F159)","v":""},{"$f":"IF('RWIS (Desc)'!G159=\"\",\"\",'RWIS (Desc)'!G159)","v":""}]
[{"$f":"IF('RWIS (Desc)'!A160=\"\",\"\",'RWIS (Desc)'!A160)","v":""},{"$f":"IF('RWIS (Desc)'!B160=\"\",\"\",'RWIS (Desc)'!B160)","v":""},{"$f":"IF('RWIS (Desc)'!C160=\"\",\"\",'RWIS (Desc)'!C160)","v":""},{"$f":"IF('RWIS (Desc)'!D160=\"\",\"\",INDEX([1]OWNER!$A$2:$A$100,MATCH('RWIS (Desc)'!$D160,[1]!MASTER_OWNER_DESC[#Data],0),0))","v":""},{"$f":"IF('RWIS (Desc)'!E160=\"\",\"\",INDEX([1]COUNTY!$A$2:$A$80,MATCH('RWIS (Desc)'!E160,[1]!MASTER_COUNTY_NAME[#Data],0),0))","v":""},{"$f":"IF('RWIS (Desc)'!F160=\"\",\"\",'RWIS (Desc)'!F160)","v":""},{"$f":"IF('RWIS (Desc)'!G160=\"\",\"\",'RWIS (Desc)'!G160)","v":""}]
[{"$f":"IF('RWIS (Desc)'!A161=\"\",\"\",'RWIS (Desc)'!A161)","v":""},{"$f":"IF('RWIS (Desc)'!B161=\"\",\"\",'RWIS (Desc)'!B161)","v":""},{"$f":"IF('RWIS (Desc)'!C161=\"\",\"\",'RWIS (Desc)'!C161)","v":""},{"$f":"IF('RWIS (Desc)'!D161=\"\",\"\",INDEX([1]OWNER!$A$2:$A$100,MATCH('RWIS (Desc)'!$D161,[1]!MASTER_OWNER_DESC[#Data],0),0))","v":""},{"$f":"IF('RWIS (Desc)'!E161=\"\",\"\",INDEX([1]COUNTY!$A$2:$A$80,MATCH('RWIS (Desc)'!E161,[1]!MASTER_COUNTY_NAME[#Data],0),0))","v":""},{"$f":"IF('RWIS (Desc)'!F161=\"\",\"\",'RWIS (Desc)'!F161)","v":""},{"$f":"IF('RWIS (Desc)'!G161=\"\",\"\",'RWIS (Desc)'!G161)","v":""}]
[{"$f":"IF('RWIS (Desc)'!A162=\"\",\"\",'RWIS (Desc)'!A162)","v":""},{"$f":"IF('RWIS (Desc)'!B162=\"\",\"\",'RWIS (Desc)'!B162)","v":""},{"$f":"IF('RWIS (Desc)'!C162=\"\",\"\",'RWIS (Desc)'!C162)","v":""},{"$f":"IF('RWIS (Desc)'!D162=\"\",\"\",INDEX([1]OWNER!$A$2:$A$100,MATCH('RWIS (Desc)'!$D162,[1]!MASTER_OWNER_DESC[#Data],0),0))","v":""},{"$f":"IF('RWIS (Desc)'!E162=\"\",\"\",INDEX([1]COUNTY!$A$2:$A$80,MATCH('RWIS (Desc)'!E162,[1]!MASTER_COUNTY_NAME[#Data],0),0))","v":""},{"$f":"IF('RWIS (Desc)'!F162=\"\",\"\",'RWIS (Desc)'!F162)","v":""},{"$f":"IF('RWIS (Desc)'!G162=\"\",\"\",'RWIS (Desc)'!G162)","v":""}]
[{"$f":"IF('RWIS (Desc)'!A163=\"\",\"\",'RWIS (Desc)'!A163)","v":""},{"$f":"IF('RWIS (Desc)'!B163=\"\",\"\",'RWIS (Desc)'!B163)","v":""},{"$f":"IF('RWIS (Desc)'!C163=\"\",\"\",'RWIS (Desc)'!C163)","v":""},{"$f":"IF('RWIS (Desc)'!D163=\"\",\"\",INDEX([1]OWNER!$A$2:$A$100,MATCH('RWIS (Desc)'!$D163,[1]!MASTER_OWNER_DESC[#Data],0),0))","v":""},{"$f":"IF('RWIS (Desc)'!E163=\"\",\"\",INDEX([1]COUNTY!$A$2:$A$80,MATCH('RWIS (Desc)'!E163,[1]!MASTER_COUNTY_NAME[#Data],0),0))","v":""},{"$f":"IF('RWIS (Desc)'!F163=\"\",\"\",'RWIS (Desc)'!F163)","v":""},{"$f":"IF('RWIS (Desc)'!G163=\"\",\"\",'RWIS (Desc)'!G163)","v":""}]
[{"$f":"IF('RWIS (Desc)'!A164=\"\",\"\",'RWIS (Desc)'!A164)","v":""},{"$f":"IF('RWIS (Desc)'!B164=\"\",\"\",'RWIS (Desc)'!B164)","v":""},{"$f":"IF('RWIS (Desc)'!C164=\"\",\"\",'RWIS (Desc)'!C164)","v":""},{"$f":"IF('RWIS (Desc)'!D164=\"\",\"\",INDEX([1]OWNER!$A$2:$A$100,MATCH('RWIS (Desc)'!$D164,[1]!MASTER_OWNER_DESC[#Data],0),0))","v":""},{"$f":"IF('RWIS (Desc)'!E164=\"\",\"\",INDEX([1]COUNTY!$A$2:$A$80,MATCH('RWIS (Desc)'!E164,[1]!MASTER_COUNTY_NAME[#Data],0),0))","v":""},{"$f":"IF('RWIS (Desc)'!F164=\"\",\"\",'RWIS (Desc)'!F164)","v":""},{"$f":"IF('RWIS (Desc)'!G164=\"\",\"\",'RWIS (Desc)'!G164)","v":""}]
[{"$f":"IF('RWIS (Desc)'!A165=\"\",\"\",'RWIS (Desc)'!A165)","v":""},{"$f":"IF('RWIS (Desc)'!B165=\"\",\"\",'RWIS (Desc)'!B165)","v":""},{"$f":"IF('RWIS (Desc)'!C165=\"\",\"\",'RWIS (Desc)'!C165)","v":""},{"$f":"IF('RWIS (Desc)'!D165=\"\",\"\",INDEX([1]OWNER!$A$2:$A$100,MATCH('RWIS (Desc)'!$D165,[1]!MASTER_OWNER_DESC[#Data],0),0))","v":""},{"$f":"IF('RWIS (Desc)'!E165=\"\",\"\",INDEX([1]COUNTY!$A$2:$A$80,MATCH('RWIS (Desc)'!E165,[1]!MASTER_COUNTY_NAME[#Data],0),0))","v":""},{"$f":"IF('RWIS (Desc)'!F165=\"\",\"\",'RWIS (Desc)'!F165)","v":""},{"$f":"IF('RWIS (Desc)'!G165=\"\",\"\",'RWIS (Desc)'!G165)","v":""}]
[{"$f":"IF('RWIS (Desc)'!A166=\"\",\"\",'RWIS (Desc)'!A166)","v":""},{"$f":"IF('RWIS (Desc)'!B166=\"\",\"\",'RWIS (Desc)'!B166)","v":""},{"$f":"IF('RWIS (Desc)'!C166=\"\",\"\",'RWIS (Desc)'!C166)","v":""},{"$f":"IF('RWIS (Desc)'!D166=\"\",\"\",INDEX([1]OWNER!$A$2:$A$100,MATCH('RWIS (Desc)'!$D166,[1]!MASTER_OWNER_DESC[#Data],0),0))","v":""},{"$f":"IF('RWIS (Desc)'!E166=\"\",\"\",INDEX([1]COUNTY!$A$2:$A$80,MATCH('RWIS (Desc)'!E166,[1]!MASTER_COUNTY_NAME[#Data],0),0))","v":""},{"$f":"IF('RWIS (Desc)'!F166=\"\",\"\",'RWIS (Desc)'!F166)","v":""},{"$f":"IF('RWIS (Desc)'!G166=\"\",\"\",'RWIS (Desc)'!G166)","v":""}]
[{"$f":"IF('RWIS (Desc)'!A167=\"\",\"\",'RWIS (Desc)'!A167)","v":""},{"$f":"IF('RWIS (Desc)'!B167=\"\",\"\",'RWIS (Desc)'!B167)","v":""},{"$f":"IF('RWIS (Desc)'!C167=\"\",\"\",'RWIS (Desc)'!C167)","v":""},{"$f":"IF('RWIS (Desc)'!D167=\"\",\"\",INDEX([1]OWNER!$A$2:$A$100,MATCH('RWIS (Desc)'!$D167,[1]!MASTER_OWNER_DESC[#Data],0),0))","v":""},{"$f":"IF('RWIS (Desc)'!E167=\"\",\"\",INDEX([1]COUNTY!$A$2:$A$80,MATCH('RWIS (Desc)'!E167,[1]!MASTER_COUNTY_NAME[#Data],0),0))","v":""},{"$f":"IF('RWIS (Desc)'!F167=\"\",\"\",'RWIS (Desc)'!F167)","v":""},{"$f":"IF('RWIS (Desc)'!G167=\"\",\"\",'RWIS (Desc)'!G167)","v":""}]
[{"$f":"IF('RWIS (Desc)'!A168=\"\",\"\",'RWIS (Desc)'!A168)","v":""},{"$f":"IF('RWIS (Desc)'!B168=\"\",\"\",'RWIS (Desc)'!B168)","v":""},{"$f":"IF('RWIS (Desc)'!C168=\"\",\"\",'RWIS (Desc)'!C168)","v":""},{"$f":"IF('RWIS (Desc)'!D168=\"\",\"\",INDEX([1]OWNER!$A$2:$A$100,MATCH('RWIS (Desc)'!$D168,[1]!MASTER_OWNER_DESC[#Data],0),0))","v":""},{"$f":"IF('RWIS (Desc)'!E168=\"\",\"\",INDEX([1]COUNTY!$A$2:$A$80,MATCH('RWIS (Desc)'!E168,[1]!MASTER_COUNTY_NAME[#Data],0),0))","v":""},{"$f":"IF('RWIS (Desc)'!F168=\"\",\"\",'RWIS (Desc)'!F168)","v":""},{"$f":"IF('RWIS (Desc)'!G168=\"\",\"\",'RWIS (Desc)'!G168)","v":""}]
[{"$f":"IF('RWIS (Desc)'!A169=\"\",\"\",'RWIS (Desc)'!A169)","v":""},{"$f":"IF('RWIS (Desc)'!B169=\"\",\"\",'RWIS (Desc)'!B169)","v":""},{"$f":"IF('RWIS (Desc)'!C169=\"\",\"\",'RWIS (Desc)'!C169)","v":""},{"$f":"IF('RWIS (Desc)'!D169=\"\",\"\",INDEX([1]OWNER!$A$2:$A$100,MATCH('RWIS (Desc)'!$D169,[1]!MASTER_OWNER_DESC[#Data],0),0))","v":""},{"$f":"IF('RWIS (Desc)'!E169=\"\",\"\",INDEX([1]COUNTY!$A$2:$A$80,MATCH('RWIS (Desc)'!E169,[1]!MASTER_COUNTY_NAME[#Data],0),0))","v":""},{"$f":"IF('RWIS (Desc)'!F169=\"\",\"\",'RWIS (Desc)'!F169)","v":""},{"$f":"IF('RWIS (Desc)'!G169=\"\",\"\",'RWIS (Desc)'!G169)","v":""}]
[{"$f":"IF('RWIS (Desc)'!A170=\"\",\"\",'RWIS (Desc)'!A170)","v":""},{"$f":"IF('RWIS (Desc)'!B170=\"\",\"\",'RWIS (Desc)'!B170)","v":""},{"$f":"IF('RWIS (Desc)'!C170=\"\",\"\",'RWIS (Desc)'!C170)","v":""},{"$f":"IF('RWIS (Desc)'!D170=\"\",\"\",INDEX([1]OWNER!$A$2:$A$100,MATCH('RWIS (Desc)'!$D170,[1]!MASTER_OWNER_DESC[#Data],0),0))","v":""},{"$f":"IF('RWIS (Desc)'!E170=\"\",\"\",INDEX([1]COUNTY!$A$2:$A$80,MATCH('RWIS (Desc)'!E170,[1]!MASTER_COUNTY_NAME[#Data],0),0))","v":""},{"$f":"IF('RWIS (Desc)'!F170=\"\",\"\",'RWIS (Desc)'!F170)","v":""},{"$f":"IF('RWIS (Desc)'!G170=\"\",\"\",'RWIS (Desc)'!G170)","v":""}]
[{"$f":"IF('RWIS (Desc)'!A171=\"\",\"\",'RWIS (Desc)'!A171)","v":""},{"$f":"IF('RWIS (Desc)'!B171=\"\",\"\",'RWIS (Desc)'!B171)","v":""},{"$f":"IF('RWIS (Desc)'!C171=\"\",\"\",'RWIS (Desc)'!C171)","v":""},{"$f":"IF('RWIS (Desc)'!D171=\"\",\"\",INDEX([1]OWNER!$A$2:$A$100,MATCH('RWIS (Desc)'!$D171,[1]!MASTER_OWNER_DESC[#Data],0),0))","v":""},{"$f":"IF('RWIS (Desc)'!E171=\"\",\"\",INDEX([1]COUNTY!$A$2:$A$80,MATCH('RWIS (Desc)'!E171,[1]!MASTER_COUNTY_NAME[#Data],0),0))","v":""},{"$f":"IF('RWIS (Desc)'!F171=\"\",\"\",'RWIS (Desc)'!F171)","v":""},{"$f":"IF('RWIS (Desc)'!G171=\"\",\"\",'RWIS (Desc)'!G171)","v":""}]
[{"$f":"IF('RWIS (Desc)'!A172=\"\",\"\",'RWIS (Desc)'!A172)","v":""},{"$f":"IF('RWIS (Desc)'!B172=\"\",\"\",'RWIS (Desc)'!B172)","v":""},{"$f":"IF('RWIS (Desc)'!C172=\"\",\"\",'RWIS (Desc)'!C172)","v":""},{"$f":"IF('RWIS (Desc)'!D172=\"\",\"\",INDEX([1]OWNER!$A$2:$A$100,MATCH('RWIS (Desc)'!$D172,[1]!MASTER_OWNER_DESC[#Data],0),0))","v":""},{"$f":"IF('RWIS (Desc)'!E172=\"\",\"\",INDEX([1]COUNTY!$A$2:$A$80,MATCH('RWIS (Desc)'!E172,[1]!MASTER_COUNTY_NAME[#Data],0),0))","v":""},{"$f":"IF('RWIS (Desc)'!F172=\"\",\"\",'RWIS (Desc)'!F172)","v":""},{"$f":"IF('RWIS (Desc)'!G172=\"\",\"\",'RWIS (Desc)'!G172)","v":""}]
[{"$f":"IF('RWIS (Desc)'!A173=\"\",\"\",'RWIS (Desc)'!A173)","v":""},{"$f":"IF('RWIS (Desc)'!B173=\"\",\"\",'RWIS (Desc)'!B173)","v":""},{"$f":"IF('RWIS (Desc)'!C173=\"\",\"\",'RWIS (Desc)'!C173)","v":""},{"$f":"IF('RWIS (Desc)'!D173=\"\",\"\",INDEX([1]OWNER!$A$2:$A$100,MATCH('RWIS (Desc)'!$D173,[1]!MASTER_OWNER_DESC[#Data],0),0))","v":""},{"$f":"IF('RWIS (Desc)'!E173=\"\",\"\",INDEX([1]COUNTY!$A$2:$A$80,MATCH('RWIS (Desc)'!E173,[1]!MASTER_COUNTY_NAME[#Data],0),0))","v":""},{"$f":"IF('RWIS (Desc)'!F173=\"\",\"\",'RWIS (Desc)'!F173)","v":""},{"$f":"IF('RWIS (Desc)'!G173=\"\",\"\",'RWIS (Desc)'!G173)","v":""}]
[{"$f":"IF('RWIS (Desc)'!A174=\"\",\"\",'RWIS (Desc)'!A174)","v":""},{"$f":"IF('RWIS (Desc)'!B174=\"\",\"\",'RWIS (Desc)'!B174)","v":""},{"$f":"IF('RWIS (Desc)'!C174=\"\",\"\",'RWIS (Desc)'!C174)","v":""},{"$f":"IF('RWIS (Desc)'!D174=\"\",\"\",INDEX([1]OWNER!$A$2:$A$100,MATCH('RWIS (Desc)'!$D174,[1]!MASTER_OWNER_DESC[#Data],0),0))","v":""},{"$f":"IF('RWIS (Desc)'!E174=\"\",\"\",INDEX([1]COUNTY!$A$2:$A$80,MATCH('RWIS (Desc)'!E174,[1]!MASTER_COUNTY_NAME[#Data],0),0))","v":""},{"$f":"IF('RWIS (Desc)'!F174=\"\",\"\",'RWIS (Desc)'!F174)","v":""},{"$f":"IF('RWIS (Desc)'!G174=\"\",\"\",'RWIS (Desc)'!G174)","v":""}]
[{"$f":"IF('RWIS (Desc)'!A175=\"\",\"\",'RWIS (Desc)'!A175)","v":""},{"$f":"IF('RWIS (Desc)'!B175=\"\",\"\",'RWIS (Desc)'!B175)","v":""},{"$f":"IF('RWIS (Desc)'!C175=\"\",\"\",'RWIS (Desc)'!C175)","v":""},{"$f":"IF('RWIS (Desc)'!D175=\"\",\"\",INDEX([1]OWNER!$A$2:$A$100,MATCH('RWIS (Desc)'!$D175,[1]!MASTER_OWNER_DESC[#Data],0),0))","v":""},{"$f":"IF('RWIS (Desc)'!E175=\"\",\"\",INDEX([1]COUNTY!$A$2:$A$80,MATCH('RWIS (Desc)'!E175,[1]!MASTER_COUNTY_NAME[#Data],0),0))","v":""},{"$f":"IF('RWIS (Desc)'!F175=\"\",\"\",'RWIS (Desc)'!F175)","v":""},{"$f":"IF('RWIS (Desc)'!G175=\"\",\"\",'RWIS (Desc)'!G175)","v":""}]
[{"$f":"IF('RWIS (Desc)'!A176=\"\",\"\",'RWIS (Desc)'!A176)","v":""},{"$f":"IF('RWIS (Desc)'!B176=\"\",\"\",'RWIS (Desc)'!B176)","v":""},{"$f":"IF('RWIS (Desc)'!C176=\"\",\"\",'RWIS (Desc)'!C176)","v":""},{"$f":"IF('RWIS (Desc)'!D176=\"\",\"\",INDEX([1]OWNER!$A$2:$A$100,MATCH('RWIS (Desc)'!$D176,[1]!MASTER_OWNER_DESC[#Data],0),0))","v":""},{"$f":"IF('RWIS (Desc)'!E176=\"\",\"\",INDEX([1]COUNTY!$A$2:$A$80,MATCH('RWIS (Desc)'!E176,[1]!MASTER_COUNTY_NAME[#Data],0),0))","v":""},{"$f":"IF('RWIS (Desc)'!F176=\"\",\"\",'RWIS (Desc)'!F176)","v":""},{"$f":"IF('RWIS (Desc)'!G176=\"\",\"\",'RWIS (Desc)'!G176)","v":""}]
[{"$f":"IF('RWIS (Desc)'!A177=\"\",\"\",'RWIS (Desc)'!A177)","v":""},{"$f":"IF('RWIS (Desc)'!B177=\"\",\"\",'RWIS (Desc)'!B177)","v":""},{"$f":"IF('RWIS (Desc)'!C177=\"\",\"\",'RWIS (Desc)'!C177)","v":""},{"$f":"IF('RWIS (Desc)'!D177=\"\",\"\",INDEX([1]OWNER!$A$2:$A$100,MATCH('RWIS (Desc)'!$D177,[1]!MASTER_OWNER_DESC[#Data],0),0))","v":""},{"$f":"IF('RWIS (Desc)'!E177=\"\",\"\",INDEX([1]COUNTY!$A$2:$A$80,MATCH('RWIS (Desc)'!E177,[1]!MASTER_COUNTY_NAME[#Data],0),0))","v":""},{"$f":"IF('RWIS (Desc)'!F177=\"\",\"\",'RWIS (Desc)'!F177)","v":""},{"$f":"IF('RWIS (Desc)'!G177=\"\",\"\",'RWIS (Desc)'!G177)","v":""}]
[{"$f":"IF('RWIS (Desc)'!A178=\"\",\"\",'RWIS (Desc)'!A178)","v":""},{"$f":"IF('RWIS (Desc)'!B178=\"\",\"\",'RWIS (Desc)'!B178)","v":""},{"$f":"IF('RWIS (Desc)'!C178=\"\",\"\",'RWIS (Desc)'!C178)","v":""},{"$f":"IF('RWIS (Desc)'!D178=\"\",\"\",INDEX([1]OWNER!$A$2:$A$100,MATCH('RWIS (Desc)'!$D178,[1]!MASTER_OWNER_DESC[#Data],0),0))","v":""},{"$f":"IF('RWIS (Desc)'!E178=\"\",\"\",INDEX([1]COUNTY!$A$2:$A$80,MATCH('RWIS (Desc)'!E178,[1]!MASTER_COUNTY_NAME[#Data],0),0))","v":""},{"$f":"IF('RWIS (Desc)'!F178=\"\",\"\",'RWIS (Desc)'!F178)","v":""},{"$f":"IF('RWIS (Desc)'!G178=\"\",\"\",'RWIS (Desc)'!G178)","v":""}]
[{"$f":"IF('RWIS (Desc)'!A179=\"\",\"\",'RWIS (Desc)'!A179)","v":""},{"$f":"IF('RWIS (Desc)'!B179=\"\",\"\",'RWIS (Desc)'!B179)","v":""},{"$f":"IF('RWIS (Desc)'!C179=\"\",\"\",'RWIS (Desc)'!C179)","v":""},{"$f":"IF('RWIS (Desc)'!D179=\"\",\"\",INDEX([1]OWNER!$A$2:$A$100,MATCH('RWIS (Desc)'!$D179,[1]!MASTER_OWNER_DESC[#Data],0),0))","v":""},{"$f":"IF('RWIS (Desc)'!E179=\"\",\"\",INDEX([1]COUNTY!$A$2:$A$80,MATCH('RWIS (Desc)'!E179,[1]!MASTER_COUNTY_NAME[#Data],0),0))","v":""},{"$f":"IF('RWIS (Desc)'!F179=\"\",\"\",'RWIS (Desc)'!F179)","v":""},{"$f":"IF('RWIS (Desc)'!G179=\"\",\"\",'RWIS (Desc)'!G179)","v":""}]
[{"$f":"IF('RWIS (Desc)'!A180=\"\",\"\",'RWIS (Desc)'!A180)","v":""},{"$f":"IF('RWIS (Desc)'!B180=\"\",\"\",'RWIS (Desc)'!B180)","v":""},{"$f":"IF('RWIS (Desc)'!C180=\"\",\"\",'RWIS (Desc)'!C180)","v":""},{"$f":"IF('RWIS (Desc)'!D180=\"\",\"\",INDEX([1]OWNER!$A$2:$A$100,MATCH('RWIS (Desc)'!$D180,[1]!MASTER_OWNER_DESC[#Data],0),0))","v":""},{"$f":"IF('RWIS (Desc)'!E180=\"\",\"\",INDEX([1]COUNTY!$A$2:$A$80,MATCH('RWIS (Desc)'!E180,[1]!MASTER_COUNTY_NAME[#Data],0),0))","v":""},{"$f":"IF('RWIS (Desc)'!F180=\"\",\"\",'RWIS (Desc)'!F180)","v":""},{"$f":"IF('RWIS (Desc)'!G180=\"\",\"\",'RWIS (Desc)'!G180)","v":""}]
[{"$f":"IF('RWIS (Desc)'!A181=\"\",\"\",'RWIS (Desc)'!A181)","v":""},{"$f":"IF('RWIS (Desc)'!B181=\"\",\"\",'RWIS (Desc)'!B181)","v":""},{"$f":"IF('RWIS (Desc)'!C181=\"\",\"\",'RWIS (Desc)'!C181)","v":""},{"$f":"IF('RWIS (Desc)'!D181=\"\",\"\",INDEX([1]OWNER!$A$2:$A$100,MATCH('RWIS (Desc)'!$D181,[1]!MASTER_OWNER_DESC[#Data],0),0))","v":""},{"$f":"IF('RWIS (Desc)'!E181=\"\",\"\",INDEX([1]COUNTY!$A$2:$A$80,MATCH('RWIS (Desc)'!E181,[1]!MASTER_COUNTY_NAME[#Data],0),0))","v":""},{"$f":"IF('RWIS (Desc)'!F181=\"\",\"\",'RWIS (Desc)'!F181)","v":""},{"$f":"IF('RWIS (Desc)'!G181=\"\",\"\",'RWIS (Desc)'!G181)","v":""}]
[{"$f":"IF('RWIS (Desc)'!A182=\"\",\"\",'RWIS (Desc)'!A182)","v":""},{"$f":"IF('RWIS (Desc)'!B182=\"\",\"\",'RWIS (Desc)'!B182)","v":""},{"$f":"IF('RWIS (Desc)'!C182=\"\",\"\",'RWIS (Desc)'!C182)","v":""},{"$f":"IF('RWIS (Desc)'!D182=\"\",\"\",INDEX([1]OWNER!$A$2:$A$100,MATCH('RWIS (Desc)'!$D182,[1]!MASTER_OWNER_DESC[#Data],0),0))","v":""},{"$f":"IF('RWIS (Desc)'!E182=\"\",\"\",INDEX([1]COUNTY!$A$2:$A$80,MATCH('RWIS (Desc)'!E182,[1]!MASTER_COUNTY_NAME[#Data],0),0))","v":""},{"$f":"IF('RWIS (Desc)'!F182=\"\",\"\",'RWIS (Desc)'!F182)","v":""},{"$f":"IF('RWIS (Desc)'!G182=\"\",\"\",'RWIS (Desc)'!G182)","v":""}]
[{"$f":"IF('RWIS (Desc)'!A183=\"\",\"\",'RWIS (Desc)'!A183)","v":""},{"$f":"IF('RWIS (Desc)'!B183=\"\",\"\",'RWIS (Desc)'!B183)","v":""},{"$f":"IF('RWIS (Desc)'!C183=\"\",\"\",'RWIS (Desc)'!C183)","v":""},{"$f":"IF('RWIS (Desc)'!D183=\"\",\"\",INDEX([1]OWNER!$A$2:$A$100,MATCH('RWIS (Desc)'!$D183,[1]!MASTER_OWNER_DESC[#Data],0),0))","v":""},{"$f":"IF('RWIS (Desc)'!E183=\"\",\"\",INDEX([1]COUNTY!$A$2:$A$80,MATCH('RWIS (Desc)'!E183,[1]!MASTER_COUNTY_NAME[#Data],0),0))","v":""},{"$f":"IF('RWIS (Desc)'!F183=\"\",\"\",'RWIS (Desc)'!F183)","v":""},{"$f":"IF('RWIS (Desc)'!G183=\"\",\"\",'RWIS (Desc)'!G183)","v":""}]
[{"$f":"IF('RWIS (Desc)'!A184=\"\",\"\",'RWIS (Desc)'!A184)","v":""},{"$f":"IF('RWIS (Desc)'!B184=\"\",\"\",'RWIS (Desc)'!B184)","v":""},{"$f":"IF('RWIS (Desc)'!C184=\"\",\"\",'RWIS (Desc)'!C184)","v":""},{"$f":"IF('RWIS (Desc)'!D184=\"\",\"\",INDEX([1]OWNER!$A$2:$A$100,MATCH('RWIS (Desc)'!$D184,[1]!MASTER_OWNER_DESC[#Data],0),0))","v":""},{"$f":"IF('RWIS (Desc)'!E184=\"\",\"\",INDEX([1]COUNTY!$A$2:$A$80,MATCH('RWIS (Desc)'!E184,[1]!MASTER_COUNTY_NAME[#Data],0),0))","v":""},{"$f":"IF('RWIS (Desc)'!F184=\"\",\"\",'RWIS (Desc)'!F184)","v":""},{"$f":"IF('RWIS (Desc)'!G184=\"\",\"\",'RWIS (Desc)'!G184)","v":""}]
[{"$f":"IF('RWIS (Desc)'!A185=\"\",\"\",'RWIS (Desc)'!A185)","v":""},{"$f":"IF('RWIS (Desc)'!B185=\"\",\"\",'RWIS (Desc)'!B185)","v":""},{"$f":"IF('RWIS (Desc)'!C185=\"\",\"\",'RWIS (Desc)'!C185)","v":""},{"$f":"IF('RWIS (Desc)'!D185=\"\",\"\",INDEX([1]OWNER!$A$2:$A$100,MATCH('RWIS (Desc)'!$D185,[1]!MASTER_OWNER_DESC[#Data],0),0))","v":""},{"$f":"IF('RWIS (Desc)'!E185=\"\",\"\",INDEX([1]COUNTY!$A$2:$A$80,MATCH('RWIS (Desc)'!E185,[1]!MASTER_COUNTY_NAME[#Data],0),0))","v":""},{"$f":"IF('RWIS (Desc)'!F185=\"\",\"\",'RWIS (Desc)'!F185)","v":""},{"$f":"IF('RWIS (Desc)'!G185=\"\",\"\",'RWIS (Desc)'!G185)","v":""}]
[{"$f":"IF('RWIS (Desc)'!A186=\"\",\"\",'RWIS (Desc)'!A186)","v":""},{"$f":"IF('RWIS (Desc)'!B186=\"\",\"\",'RWIS (Desc)'!B186)","v":""},{"$f":"IF('RWIS (Desc)'!C186=\"\",\"\",'RWIS (Desc)'!C186)","v":""},{"$f":"IF('RWIS (Desc)'!D186=\"\",\"\",INDEX([1]OWNER!$A$2:$A$100,MATCH('RWIS (Desc)'!$D186,[1]!MASTER_OWNER_DESC[#Data],0),0))","v":""},{"$f":"IF('RWIS (Desc)'!E186=\"\",\"\",INDEX([1]COUNTY!$A$2:$A$80,MATCH('RWIS (Desc)'!E186,[1]!MASTER_COUNTY_NAME[#Data],0),0))","v":""},{"$f":"IF('RWIS (Desc)'!F186=\"\",\"\",'RWIS (Desc)'!F186)","v":""},{"$f":"IF('RWIS (Desc)'!G186=\"\",\"\",'RWIS (Desc)'!G186)","v":""}]
[{"$f":"IF('RWIS (Desc)'!A187=\"\",\"\",'RWIS (Desc)'!A187)","v":""},{"$f":"IF('RWIS (Desc)'!B187=\"\",\"\",'RWIS (Desc)'!B187)","v":""},{"$f":"IF('RWIS (Desc)'!C187=\"\",\"\",'RWIS (Desc)'!C187)","v":""},{"$f":"IF('RWIS (Desc)'!D187=\"\",\"\",INDEX([1]OWNER!$A$2:$A$100,MATCH('RWIS (Desc)'!$D187,[1]!MASTER_OWNER_DESC[#Data],0),0))","v":""},{"$f":"IF('RWIS (Desc)'!E187=\"\",\"\",INDEX([1]COUNTY!$A$2:$A$80,MATCH('RWIS (Desc)'!E187,[1]!MASTER_COUNTY_NAME[#Data],0),0))","v":""},{"$f":"IF('RWIS (Desc)'!F187=\"\",\"\",'RWIS (Desc)'!F187)","v":""},{"$f":"IF('RWIS (Desc)'!G187=\"\",\"\",'RWIS (Desc)'!G187)","v":""}]
[{"$f":"IF('RWIS (Desc)'!A188=\"\",\"\",'RWIS (Desc)'!A188)","v":""},{"$f":"IF('RWIS (Desc)'!B188=\"\",\"\",'RWIS (Desc)'!B188)","v":""},{"$f":"IF('RWIS (Desc)'!C188=\"\",\"\",'RWIS (Desc)'!C188)","v":""},{"$f":"IF('RWIS (Desc)'!D188=\"\",\"\",INDEX([1]OWNER!$A$2:$A$100,MATCH('RWIS (Desc)'!$D188,[1]!MASTER_OWNER_DESC[#Data],0),0))","v":""},{"$f":"IF('RWIS (Desc)'!E188=\"\",\"\",INDEX([1]COUNTY!$A$2:$A$80,MATCH('RWIS (Desc)'!E188,[1]!MASTER_COUNTY_NAME[#Data],0),0))","v":""},{"$f":"IF('RWIS (Desc)'!F188=\"\",\"\",'RWIS (Desc)'!F188)","v":""},{"$f":"IF('RWIS (Desc)'!G188=\"\",\"\",'RWIS (Desc)'!G188)","v":""}]
[{"$f":"IF('RWIS (Desc)'!A189=\"\",\"\",'RWIS (Desc)'!A189)","v":""},{"$f":"IF('RWIS (Desc)'!B189=\"\",\"\",'RWIS (Desc)'!B189)","v":""},{"$f":"IF('RWIS (Desc)'!C189=\"\",\"\",'RWIS (Desc)'!C189)","v":""},{"$f":"IF('RWIS (Desc)'!D189=\"\",\"\",INDEX([1]OWNER!$A$2:$A$100,MATCH('RWIS (Desc)'!$D189,[1]!MASTER_OWNER_DESC[#Data],0),0))","v":""},{"$f":"IF('RWIS (Desc)'!E189=\"\",\"\",INDEX([1]COUNTY!$A$2:$A$80,MATCH('RWIS (Desc)'!E189,[1]!MASTER_COUNTY_NAME[#Data],0),0))","v":""},{"$f":"IF('RWIS (Desc)'!F189=\"\",\"\",'RWIS (Desc)'!F189)","v":""},{"$f":"IF('RWIS (Desc)'!G189=\"\",\"\",'RWIS (Desc)'!G189)","v":""}]
[{"$f":"IF('RWIS (Desc)'!A190=\"\",\"\",'RWIS (Desc)'!A190)","v":""},{"$f":"IF('RWIS (Desc)'!B190=\"\",\"\",'RWIS (Desc)'!B190)","v":""},{"$f":"IF('RWIS (Desc)'!C190=\"\",\"\",'RWIS (Desc)'!C190)","v":""},{"$f":"IF('RWIS (Desc)'!D190=\"\",\"\",INDEX([1]OWNER!$A$2:$A$100,MATCH('RWIS (Desc)'!$D190,[1]!MASTER_OWNER_DESC[#Data],0),0))","v":""},{"$f":"IF('RWIS (Desc)'!E190=\"\",\"\",INDEX([1]COUNTY!$A$2:$A$80,MATCH('RWIS (Desc)'!E190,[1]!MASTER_COUNTY_NAME[#Data],0),0))","v":""},{"$f":"IF('RWIS (Desc)'!F190=\"\",\"\",'RWIS (Desc)'!F190)","v":""},{"$f":"IF('RWIS (Desc)'!G190=\"\",\"\",'RWIS (Desc)'!G190)","v":""}]
[{"$f":"IF('RWIS (Desc)'!A191=\"\",\"\",'RWIS (Desc)'!A191)","v":""},{"$f":"IF('RWIS (Desc)'!B191=\"\",\"\",'RWIS (Desc)'!B191)","v":""},{"$f":"IF('RWIS (Desc)'!C191=\"\",\"\",'RWIS (Desc)'!C191)","v":""},{"$f":"IF('RWIS (Desc)'!D191=\"\",\"\",INDEX([1]OWNER!$A$2:$A$100,MATCH('RWIS (Desc)'!$D191,[1]!MASTER_OWNER_DESC[#Data],0),0))","v":""},{"$f":"IF('RWIS (Desc)'!E191=\"\",\"\",INDEX([1]COUNTY!$A$2:$A$80,MATCH('RWIS (Desc)'!E191,[1]!MASTER_COUNTY_NAME[#Data],0),0))","v":""},{"$f":"IF('RWIS (Desc)'!F191=\"\",\"\",'RWIS (Desc)'!F191)","v":""},{"$f":"IF('RWIS (Desc)'!G191=\"\",\"\",'RWIS (Desc)'!G191)","v":""}]
[{"$f":"IF('RWIS (Desc)'!A192=\"\",\"\",'RWIS (Desc)'!A192)","v":""},{"$f":"IF('RWIS (Desc)'!B192=\"\",\"\",'RWIS (Desc)'!B192)","v":""},{"$f":"IF('RWIS (Desc)'!C192=\"\",\"\",'RWIS (Desc)'!C192)","v":""},{"$f":"IF('RWIS (Desc)'!D192=\"\",\"\",INDEX([1]OWNER!$A$2:$A$100,MATCH('RWIS (Desc)'!$D192,[1]!MASTER_OWNER_DESC[#Data],0),0))","v":""},{"$f":"IF('RWIS (Desc)'!E192=\"\",\"\",INDEX([1]COUNTY!$A$2:$A$80,MATCH('RWIS (Desc)'!E192,[1]!MASTER_COUNTY_NAME[#Data],0),0))","v":""},{"$f":"IF('RWIS (Desc)'!F192=\"\",\"\",'RWIS (Desc)'!F192)","v":""},{"$f":"IF('RWIS (Desc)'!G192=\"\",\"\",'RWIS (Desc)'!G192)","v":""}]
[{"$f":"IF('RWIS (Desc)'!A193=\"\",\"\",'RWIS (Desc)'!A193)","v":""},{"$f":"IF('RWIS (Desc)'!B193=\"\",\"\",'RWIS (Desc)'!B193)","v":""},{"$f":"IF('RWIS (Desc)'!C193=\"\",\"\",'RWIS (Desc)'!C193)","v":""},{"$f":"IF('RWIS (Desc)'!D193=\"\",\"\",INDEX([1]OWNER!$A$2:$A$100,MATCH('RWIS (Desc)'!$D193,[1]!MASTER_OWNER_DESC[#Data],0),0))","v":""},{"$f":"IF('RWIS (Desc)'!E193=\"\",\"\",INDEX([1]COUNTY!$A$2:$A$80,MATCH('RWIS (Desc)'!E193,[1]!MASTER_COUNTY_NAME[#Data],0),0))","v":""},{"$f":"IF('RWIS (Desc)'!F193=\"\",\"\",'RWIS (Desc)'!F193)","v":""},{"$f":"IF('RWIS (Desc)'!G193=\"\",\"\",'RWIS (Desc)'!G193)","v":""}]
[{"$f":"IF('RWIS (Desc)'!A194=\"\",\"\",'RWIS (Desc)'!A194)","v":""},{"$f":"IF('RWIS (Desc)'!B194=\"\",\"\",'RWIS (Desc)'!B194)","v":""},{"$f":"IF('RWIS (Desc)'!C194=\"\",\"\",'RWIS (Desc)'!C194)","v":""},{"$f":"IF('RWIS (Desc)'!D194=\"\",\"\",INDEX([1]OWNER!$A$2:$A$100,MATCH('RWIS (Desc)'!$D194,[1]!MASTER_OWNER_DESC[#Data],0),0))","v":""},{"$f":"IF('RWIS (Desc)'!E194=\"\",\"\",INDEX([1]COUNTY!$A$2:$A$80,MATCH('RWIS (Desc)'!E194,[1]!MASTER_COUNTY_NAME[#Data],0),0))","v":""},{"$f":"IF('RWIS (Desc)'!F194=\"\",\"\",'RWIS (Desc)'!F194)","v":""},{"$f":"IF('RWIS (Desc)'!G194=\"\",\"\",'RWIS (Desc)'!G194)","v":""}]
[{"$f":"IF('RWIS (Desc)'!A195=\"\",\"\",'RWIS (Desc)'!A195)","v":""},{"$f":"IF('RWIS (Desc)'!B195=\"\",\"\",'RWIS (Desc)'!B195)","v":""},{"$f":"IF('RWIS (Desc)'!C195=\"\",\"\",'RWIS (Desc)'!C195)","v":""},{"$f":"IF('RWIS (Desc)'!D195=\"\",\"\",INDEX([1]OWNER!$A$2:$A$100,MATCH('RWIS (Desc)'!$D195,[1]!MASTER_OWNER_DESC[#Data],0),0))","v":""},{"$f":"IF('RWIS (Desc)'!E195=\"\",\"\",INDEX([1]COUNTY!$A$2:$A$80,MATCH('RWIS (Desc)'!E195,[1]!MASTER_COUNTY_NAME[#Data],0),0))","v":""},{"$f":"IF('RWIS (Desc)'!F195=\"\",\"\",'RWIS (Desc)'!F195)","v":""},{"$f":"IF('RWIS (Desc)'!G195=\"\",\"\",'RWIS (Desc)'!G195)","v":""}]
[{"$f":"IF('RWIS (Desc)'!A196=\"\",\"\",'RWIS (Desc)'!A196)","v":""},{"$f":"IF('RWIS (Desc)'!B196=\"\",\"\",'RWIS (Desc)'!B196)","v":""},{"$f":"IF('RWIS (Desc)'!C196=\"\",\"\",'RWIS (Desc)'!C196)","v":""},{"$f":"IF('RWIS (Desc)'!D196=\"\",\"\",INDEX([1]OWNER!$A$2:$A$100,MATCH('RWIS (Desc)'!$D196,[1]!MASTER_OWNER_DESC[#Data],0),0))","v":""},{"$f":"IF('RWIS (Desc)'!E196=\"\",\"\",INDEX([1]COUNTY!$A$2:$A$80,MATCH('RWIS (Desc)'!E196,[1]!MASTER_COUNTY_NAME[#Data],0),0))","v":""},{"$f":"IF('RWIS (Desc)'!F196=\"\",\"\",'RWIS (Desc)'!F196)","v":""},{"$f":"IF('RWIS (Desc)'!G196=\"\",\"\",'RWIS (Desc)'!G196)","v":""}]
[{"$f":"IF('RWIS (Desc)'!A197=\"\",\"\",'RWIS (Desc)'!A197)","v":""},{"$f":"IF('RWIS (Desc)'!B197=\"\",\"\",'RWIS (Desc)'!B197)","v":""},{"$f":"IF('RWIS (Desc)'!C197=\"\",\"\",'RWIS (Desc)'!C197)","v":""},{"$f":"IF('RWIS (Desc)'!D197=\"\",\"\",INDEX([1]OWNER!$A$2:$A$100,MATCH('RWIS (Desc)'!$D197,[1]!MASTER_OWNER_DESC[#Data],0),0))","v":""},{"$f":"IF('RWIS (Desc)'!E197=\"\",\"\",INDEX([1]COUNTY!$A$2:$A$80,MATCH('RWIS (Desc)'!E197,[1]!MASTER_COUNTY_NAME[#Data],0),0))","v":""},{"$f":"IF('RWIS (Desc)'!F197=\"\",\"\",'RWIS (Desc)'!F197)","v":""},{"$f":"IF('RWIS (Desc)'!G197=\"\",\"\",'RWIS (Desc)'!G197)","v":""}]
[{"$f":"IF('RWIS (Desc)'!A198=\"\",\"\",'RWIS (Desc)'!A198)","v":""},{"$f":"IF('RWIS (Desc)'!B198=\"\",\"\",'RWIS (Desc)'!B198)","v":""},{"$f":"IF('RWIS (Desc)'!C198=\"\",\"\",'RWIS (Desc)'!C198)","v":""},{"$f":"IF('RWIS (Desc)'!D198=\"\",\"\",INDEX([1]OWNER!$A$2:$A$100,MATCH('RWIS (Desc)'!$D198,[1]!MASTER_OWNER_DESC[#Data],0),0))","v":""},{"$f":"IF('RWIS (Desc)'!E198=\"\",\"\",INDEX([1]COUNTY!$A$2:$A$80,MATCH('RWIS (Desc)'!E198,[1]!MASTER_COUNTY_NAME[#Data],0),0))","v":""},{"$f":"IF('RWIS (Desc)'!F198=\"\",\"\",'RWIS (Desc)'!F198)","v":""},{"$f":"IF('RWIS (Desc)'!G198=\"\",\"\",'RWIS (Desc)'!G198)","v":""}]
[{"$f":"IF('RWIS (Desc)'!A199=\"\",\"\",'RWIS (Desc)'!A199)","v":""},{"$f":"IF('RWIS (Desc)'!B199=\"\",\"\",'RWIS (Desc)'!B199)","v":""},{"$f":"IF('RWIS (Desc)'!C199=\"\",\"\",'RWIS (Desc)'!C199)","v":""},{"$f":"IF('RWIS (Desc)'!D199=\"\",\"\",INDEX([1]OWNER!$A$2:$A$100,MATCH('RWIS (Desc)'!$D199,[1]!MASTER_OWNER_DESC[#Data],0),0))","v":""},{"$f":"IF('RWIS (Desc)'!E199=\"\",\"\",INDEX([1]COUNTY!$A$2:$A$80,MATCH('RWIS (Desc)'!E199,[1]!MASTER_COUNTY_NAME[#Data],0),0))","v":""},{"$f":"IF('RWIS (Desc)'!F199=\"\",\"\",'RWIS (Desc)'!F199)","v":""},{"$f":"IF('RWIS (Desc)'!G199=\"\",\"\",'RWIS (Desc)'!G199)","v":""}]
[{"$f":"IF('RWIS (Desc)'!A200=\"\",\"\",'RWIS (Desc)'!A200)","v":""},{"$f":"IF('RWIS (Desc)'!B200=\"\",\"\",'RWIS (Desc)'!B200)","v":""},{"$f":"IF('RWIS (Desc)'!C200=\"\",\"\",'RWIS (Desc)'!C200)","v":""},{"$f":"IF('RWIS (Desc)'!D200=\"\",\"\",INDEX([1]OWNER!$A$2:$A$100,MATCH('RWIS (Desc)'!$D200,[1]!MASTER_OWNER_DESC[#Data],0),0))","v":""},{"$f":"IF('RWIS (Desc)'!E200=\"\",\"\",INDEX([1]COUNTY!$A$2:$A$80,MATCH('RWIS (Desc)'!E200,[1]!MASTER_COUNTY_NAME[#Data],0),0))","v":""},{"$f":"IF('RWIS (Desc)'!F200=\"\",\"\",'RWIS (Desc)'!F200)","v":""},{"$f":"IF('RWIS (Desc)'!G200=\"\",\"\",'RWIS (Desc)'!G200)","v":""}]
[{"$f":"IF('RWIS (Desc)'!A201=\"\",\"\",'RWIS (Desc)'!A201)","v":""},{"$f":"IF('RWIS (Desc)'!B201=\"\",\"\",'RWIS (Desc)'!B201)","v":""},{"$f":"IF('RWIS (Desc)'!C201=\"\",\"\",'RWIS (Desc)'!C201)","v":""},{"$f":"IF('RWIS (Desc)'!D201=\"\",\"\",INDEX([1]OWNER!$A$2:$A$100,MATCH('RWIS (Desc)'!$D201,[1]!MASTER_OWNER_DESC[#Data],0),0))","v":""},{"$f":"IF('RWIS (Desc)'!E201=\"\",\"\",INDEX([1]COUNTY!$A$2:$A$80,MATCH('RWIS (Desc)'!E201,[1]!MASTER_COUNTY_NAME[#Data],0),0))","v":""},{"$f":"IF('RWIS (Desc)'!F201=\"\",\"\",'RWIS (Desc)'!F201)","v":""},{"$f":"IF('RWIS (Desc)'!G201=\"\",\"\",'RWIS (Desc)'!G201)","v":""}]
[{"$f":"IF('RWIS (Desc)'!A202=\"\",\"\",'RWIS (Desc)'!A202)","v":""},{"$f":"IF('RWIS (Desc)'!B202=\"\",\"\",'RWIS (Desc)'!B202)","v":""},{"$f":"IF('RWIS (Desc)'!C202=\"\",\"\",'RWIS (Desc)'!C202)","v":""},{"$f":"IF('RWIS (Desc)'!D202=\"\",\"\",INDEX([1]OWNER!$A$2:$A$100,MATCH('RWIS (Desc)'!$D202,[1]!MASTER_OWNER_DESC[#Data],0),0))","v":""},{"$f":"IF('RWIS (Desc)'!E202=\"\",\"\",INDEX([1]COUNTY!$A$2:$A$80,MATCH('RWIS (Desc)'!E202,[1]!MASTER_COUNTY_NAME[#Data],0),0))","v":""},{"$f":"IF('RWIS (Desc)'!F202=\"\",\"\",'RWIS (Desc)'!F202)","v":""},{"$f":"IF('RWIS (Desc)'!G202=\"\",\"\",'RWIS (Desc)'!G202)","v":""}]

{"sheet":"RWIS Sensor (Desc)","index":2,"n_rows":2,"n_cols":8,"rows_kept":2,"cut":false,"hidden":false,"merged":[]}
["Site Identification Name\nRWIS Equipment Cabinet SIN","Device ID","Previous Name","Sensor Type ","Installed Date (YYYY/MM/DD)","Manufacturer","Model ","Serial Number "]
["This Field is for Reference Only\nDO NOT IMPORT","EQUIP_LOC_ID\nREQUIRED FIELD","This Field is for Reference Only\nDO NOT IMPORT","RWIS_SENSOR_TYPE_CD\nREQUIRED FIELD ","YEAR_INSTALLED","RWIS_SENSOR_MANUF_CD ","RWIS_SENSOR_MODEL_CD ","SERIAL_NUMBER"]

{"sheet":"RWIS Sensor (Code)","index":3,"n_rows":202,"n_cols":7,"rows_kept":202,"cut":false,"hidden":false,"merged":[]}
["Parent ITS Device Entity Cd","Device ID","Sensor Type ","Installed Date (YYYY/MM/DD)","Manufacturer","Model ","Serial Number "]
["ENTITY_ID                           REQUIRED FIELD","EQUIP_LOC_ID                     REQUIRED FIELD","RWIS_SENSOR_TYPE_CD REQUIRED FIELD ","YEAR_INSTALLED","RWIS_SENSOR_MANUF_CD ","RWIS_SENSOR_MODEL_CD ","SERIAL_NUMBER"]
[{"$f":"IF('RWIS Sensor (Desc)'!B3=\"\",\"\",\"2008\")","v":""},{"$f":"IF('RWIS Sensor (Desc)'!B3=\"\",\"\",'RWIS Sensor (Desc)'!B3)","v":""},{"$f":"IF('RWIS Sensor (Desc)'!D3=\"\",\"\",INDEX([1]RWIS_SENSOR_TYPE!$A$2:$A$100,MATCH('RWIS Sensor (Desc)'!$D3,[1]!MASTER_RWIS_SENSOR_TYPE_DESC[#Data],0),0))","v":""},{"$f":"IF('RWIS Sensor (Desc)'!E3=\"\",\"\",'RWIS Sensor (Desc)'!E3)","v":""},{"$f":"IF('RWIS Sensor (Desc)'!F3=\"\",\"\",INDEX([1]RWIS_SENSOR_MODEL!$B$2:$B$100,MATCH(1,([1]RWIS_SENSOR_MODEL!$C$2:$C$100='RWIS Sensor (Desc)'!$F3)*([1]RWIS_SENSOR_MODEL!$E$2:$E$100='RWIS Sensor (Code)'!$C3),0),0))","v":""},{"$f":"IF('RWIS Sensor (Desc)'!G3=\"\",\"\",INDEX([1]RWIS_SENSOR_MODEL!$A$2:$A$100,MATCH(1,([1]RWIS_SENSOR_MODEL!$C$2:$C$100='RWIS Sensor (Desc)'!$F3)*([1]RWIS_SENSOR_MODEL!$D$2:$D$100='RWIS Sensor (Desc)'!$G3)*([1]RWIS_SENSOR_MODEL!$E$2:$E$100='RWIS Sensor (Code)'!$C3),0),0))","v":""},{"$f":"IF('RWIS Sensor (Desc)'!H3=\"\",\"\",'RWIS Sensor (Desc)'!H3)","v":""}]
[{"$f":"IF('RWIS Sensor (Desc)'!B4=\"\",\"\",\"2008\")","v":""},{"$f":"IF('RWIS Sensor (Desc)'!B4=\"\",\"\",'RWIS Sensor (Desc)'!B4)","v":""},{"$f":"IF('RWIS Sensor (Desc)'!D4=\"\",\"\",INDEX([1]RWIS_SENSOR_TYPE!$A$2:$A$100,MATCH('RWIS Sensor (Desc)'!$D4,[1]!MASTER_RWIS_SENSOR_TYPE_DESC[#Data],0),0))","v":""},{"$f":"IF('RWIS Sensor (Desc)'!E4=\"\",\"\",'RWIS Sensor (Desc)'!E4)","v":""},{"$f":"IF('RWIS Sensor (Desc)'!F4=\"\",\"\",INDEX([1]RWIS_SENSOR_MODEL!$B$2:$B$100,MATCH(1,([1]RWIS_SENSOR_MODEL!$C$2:$C$100='RWIS Sensor (Desc)'!$F4)*([1]RWIS_SENSOR_MODEL!$E$2:$E$100='RWIS Sensor (Code)'!$C4),0),0))","v":""},{"$f":"IF('RWIS Sensor (Desc)'!G4=\"\",\"\",INDEX([1]RWIS_SENSOR_MODEL!$A$2:$A$100,MATCH(1,([1]RWIS_SENSOR_MODEL!$C$2:$C$100='RWIS Sensor (Desc)'!$F4)*([1]RWIS_SENSOR_MODEL!$D$2:$D$100='RWIS Sensor (Desc)'!$G4)*([1]RWIS_SENSOR_MODEL!$E$2:$E$100='RWIS Sensor (Code)'!$C4),0),0))","v":""},{"$f":"IF('RWIS Sensor (Desc)'!H4=\"\",\"\",'RWIS Sensor (Desc)'!H4)","v":""}]
[{"$f":"IF('RWIS Sensor (Desc)'!B5=\"\",\"\",\"2008\")","v":""},{"$f":"IF('RWIS Sensor (Desc)'!B5=\"\",\"\",'RWIS Sensor (Desc)'!B5)","v":""},{"$f":"IF('RWIS Sensor (Desc)'!D5=\"\",\"\",INDEX([1]RWIS_SENSOR_TYPE!$A$2:$A$100,MATCH('RWIS Sensor (Desc)'!$D5,[1]!MASTER_RWIS_SENSOR_TYPE_DESC[#Data],0),0))","v":""},{"$f":"IF('RWIS Sensor (Desc)'!E5=\"\",\"\",'RWIS Sensor (Desc)'!E5)","v":""},{"$f":"IF('RWIS Sensor (Desc)'!F5=\"\",\"\",INDEX([1]RWIS_SENSOR_MODEL!$B$2:$B$100,MATCH(1,([1]RWIS_SENSOR_MODEL!$C$2:$C$100='RWIS Sensor (Desc)'!$F5)*([1]RWIS_SENSOR_MODEL!$E$2:$E$100='RWIS Sensor (Code)'!$C5),0),0))","v":""},{"$f":"IF('RWIS Sensor (Desc)'!G5=\"\",\"\",INDEX([1]RWIS_SENSOR_MODEL!$A$2:$A$100,MATCH(1,([1]RWIS_SENSOR_MODEL!$C$2:$C$100='RWIS Sensor (Desc)'!$F5)*([1]RWIS_SENSOR_MODEL!$D$2:$D$100='RWIS Sensor (Desc)'!$G5)*([1]RWIS_SENSOR_MODEL!$E$2:$E$100='RWIS Sensor (Code)'!$C5),0),0))","v":""},{"$f":"IF('RWIS Sensor (Desc)'!H5=\"\",\"\",'RWIS Sensor (Desc)'!H5)","v":""}]
[{"$f":"IF('RWIS Sensor (Desc)'!B6=\"\",\"\",\"2008\")","v":""},{"$f":"IF('RWIS Sensor (Desc)'!B6=\"\",\"\",'RWIS Sensor (Desc)'!B6)","v":""},{"$f":"IF('RWIS Sensor (Desc)'!D6=\"\",\"\",INDEX([1]RWIS_SENSOR_TYPE!$A$2:$A$100,MATCH('RWIS Sensor (Desc)'!$D6,[1]!MASTER_RWIS_SENSOR_TYPE_DESC[#Data],0),0))","v":""},{"$f":"IF('RWIS Sensor (Desc)'!E6=\"\",\"\",'RWIS Sensor (Desc)'!E6)","v":""},{"$f":"IF('RWIS Sensor (Desc)'!F6=\"\",\"\",INDEX([1]RWIS_SENSOR_MODEL!$B$2:$B$100,MATCH(1,([1]RWIS_SENSOR_MODEL!$C$2:$C$100='RWIS Sensor (Desc)'!$F6)*([1]RWIS_SENSOR_MODEL!$E$2:$E$100='RWIS Sensor (Code)'!$C6),0),0))","v":""},{"$f":"IF('RWIS Sensor (Desc)'!G6=\"\",\"\",INDEX([1]RWIS_SENSOR_MODEL!$A$2:$A$100,MATCH(1,([1]RWIS_SENSOR_MODEL!$C$2:$C$100='RWIS Sensor (Desc)'!$F6)*([1]RWIS_SENSOR_MODEL!$D$2:$D$100='RWIS Sensor (Desc)'!$G6)*([1]RWIS_SENSOR_MODEL!$E$2:$E$100='RWIS Sensor (Code)'!$C6),0),0))","v":""},{"$f":"IF('RWIS Sensor (Desc)'!H6=\"\",\"\",'RWIS Sensor (Desc)'!H6)","v":""}]
[{"$f":"IF('RWIS Sensor (Desc)'!B7=\"\",\"\",\"2008\")","v":""},{"$f":"IF('RWIS Sensor (Desc)'!B7=\"\",\"\",'RWIS Sensor (Desc)'!B7)","v":""},{"$f":"IF('RWIS Sensor (Desc)'!D7=\"\",\"\",INDEX([1]RWIS_SENSOR_TYPE!$A$2:$A$100,MATCH('RWIS Sensor (Desc)'!$D7,[1]!MASTER_RWIS_SENSOR_TYPE_DESC[#Data],0),0))","v":""},{"$f":"IF('RWIS Sensor (Desc)'!E7=\"\",\"\",'RWIS Sensor (Desc)'!E7)","v":""},{"$f":"IF('RWIS Sensor (Desc)'!F7=\"\",\"\",INDEX([1]RWIS_SENSOR_MODEL!$B$2:$B$100,MATCH(1,([1]RWIS_SENSOR_MODEL!$C$2:$C$100='RWIS Sensor (Desc)'!$F7)*([1]RWIS_SENSOR_MODEL!$E$2:$E$100='RWIS Sensor (Code)'!$C7),0),0))","v":""},{"$f":"IF('RWIS Sensor (Desc)'!G7=\"\",\"\",INDEX([1]RWIS_SENSOR_MODEL!$A$2:$A$100,MATCH(1,([1]RWIS_SENSOR_MODEL!$C$2:$C$100='RWIS Sensor (Desc)'!$F7)*([1]RWIS_SENSOR_MODEL!$D$2:$D$100='RWIS Sensor (Desc)'!$G7)*([1]RWIS_SENSOR_MODEL!$E$2:$E$100='RWIS Sensor (Code)'!$C7),0),0))","v":""},{"$f":"IF('RWIS Sensor (Desc)'!H7=\"\",\"\",'RWIS Sensor (Desc)'!H7)","v":""}]
[{"$f":"IF('RWIS Sensor (Desc)'!B8=\"\",\"\",\"2008\")","v":""},{"$f":"IF('RWIS Sensor (Desc)'!B8=\"\",\"\",'RWIS Sensor (Desc)'!B8)","v":""},{"$f":"IF('RWIS Sensor (Desc)'!D8=\"\",\"\",INDEX([1]RWIS_SENSOR_TYPE!$A$2:$A$100,MATCH('RWIS Sensor (Desc)'!$D8,[1]!MASTER_RWIS_SENSOR_TYPE_DESC[#Data],0),0))","v":""},{"$f":"IF('RWIS Sensor (Desc)'!E8=\"\",\"\",'RWIS Sensor (Desc)'!E8)","v":""},{"$f":"IF('RWIS Sensor (Desc)'!F8=\"\",\"\",INDEX([1]RWIS_SENSOR_MODEL!$B$2:$B$100,MATCH(1,([1]RWIS_SENSOR_MODEL!$C$2:$C$100='RWIS Sensor (Desc)'!$F8)*([1]RWIS_SENSOR_MODEL!$E$2:$E$100='RWIS Sensor (Code)'!$C8),0),0))","v":""},{"$f":"IF('RWIS Sensor (Desc)'!G8=\"\",\"\",INDEX([1]RWIS_SENSOR_MODEL!$A$2:$A$100,MATCH(1,([1]RWIS_SENSOR_MODEL!$C$2:$C$100='RWIS Sensor (Desc)'!$F8)*([1]RWIS_SENSOR_MODEL!$D$2:$D$100='RWIS Sensor (Desc)'!$G8)*([1]RWIS_SENSOR_MODEL!$E$2:$E$100='RWIS Sensor (Code)'!$C8),0),0))","v":""},{"$f":"IF('RWIS Sensor (Desc)'!H8=\"\",\"\",'RWIS Sensor (Desc)'!H8)","v":""}]
[{"$f":"IF('RWIS Sensor (Desc)'!B9=\"\",\"\",\"2008\")","v":""},{"$f":"IF('RWIS Sensor (Desc)'!B9=\"\",\"\",'RWIS Sensor (Desc)'!B9)","v":""},{"$f":"IF('RWIS Sensor (Desc)'!D9=\"\",\"\",INDEX([1]RWIS_SENSOR_TYPE!$A$2:$A$100,MATCH('RWIS Sensor (Desc)'!$D9,[1]!MASTER_RWIS_SENSOR_TYPE_DESC[#Data],0),0))","v":""},{"$f":"IF('RWIS Sensor (Desc)'!E9=\"\",\"\",'RWIS Sensor (Desc)'!E9)","v":""},{"$f":"IF('RWIS Sensor (Desc)'!F9=\"\",\"\",INDEX([1]RWIS_SENSOR_MODEL!$B$2:$B$100,MATCH(1,([1]RWIS_SENSOR_MODEL!$C$2:$C$100='RWIS Sensor (Desc)'!$F9)*([1]RWIS_SENSOR_MODEL!$E$2:$E$100='RWIS Sensor (Code)'!$C9),0),0))","v":""},{"$f":"IF('RWIS Sensor (Desc)'!G9=\"\",\"\",INDEX([1]RWIS_SENSOR_MODEL!$A$2:$A$100,MATCH(1,([1]RWIS_SENSOR_MODEL!$C$2:$C$100='RWIS Sensor (Desc)'!$F9)*([1]RWIS_SENSOR_MODEL!$D$2:$D$100='RWIS Sensor (Desc)'!$G9)*([1]RWIS_SENSOR_MODEL!$E$2:$E$100='RWIS Sensor (Code)'!$C9),0),0))","v":""},{"$f":"IF('RWIS Sensor (Desc)'!H9=\"\",\"\",'RWIS Sensor (Desc)'!H9)","v":""}]
[{"$f":"IF('RWIS Sensor (Desc)'!B10=\"\",\"\",\"2008\")","v":""},{"$f":"IF('RWIS Sensor (Desc)'!B10=\"\",\"\",'RWIS Sensor (Desc)'!B10)","v":""},{"$f":"IF('RWIS Sensor (Desc)'!D10=\"\",\"\",INDEX([1]RWIS_SENSOR_TYPE!$A$2:$A$100,MATCH('RWIS Sensor (Desc)'!$D10,[1]!MASTER_RWIS_SENSOR_TYPE_DESC[#Data],0),0))","v":""},{"$f":"IF('RWIS Sensor (Desc)'!E10=\"\",\"\",'RWIS Sensor (Desc)'!E10)","v":""},{"$f":"IF('RWIS Sensor (Desc)'!F10=\"\",\"\",INDEX([1]RWIS_SENSOR_MODEL!$B$2:$B$100,MATCH(1,([1]RWIS_SENSOR_MODEL!$C$2:$C$100='RWIS Sensor (Desc)'!$F10)*([1]RWIS_SENSOR_MODEL!$E$2:$E$100='RWIS Sensor (Code)'!$C10),0),0))","v":""},{"$f":"IF('RWIS Sensor (Desc)'!G10=\"\",\"\",INDEX([1]RWIS_SENSOR_MODEL!$A$2:$A$100,MATCH(1,([1]RWIS_SENSOR_MODEL!$C$2:$C$100='RWIS Sensor (Desc)'!$F10)*([1]RWIS_SENSOR_MODEL!$D$2:$D$100='RWIS Sensor (Desc)'!$G10)*([1]RWIS_SENSOR_MODEL!$E$2:$E$100='RWIS Sensor (Code)'!$C10),0),0))","v":""},{"$f":"IF('RWIS Sensor (Desc)'!H10=\"\",\"\",'RWIS Sensor (Desc)'!H10)","v":""}]
[{"$f":"IF('RWIS Sensor (Desc)'!B11=\"\",\"\",\"2008\")","v":""},{"$f":"IF('RWIS Sensor (Desc)'!B11=\"\",\"\",'RWIS Sensor (Desc)'!B11)","v":""},{"$f":"IF('RWIS Sensor (Desc)'!D11=\"\",\"\",INDEX([1]RWIS_SENSOR_TYPE!$A$2:$A$100,MATCH('RWIS Sensor (Desc)'!$D11,[1]!MASTER_RWIS_SENSOR_TYPE_DESC[#Data],0),0))","v":""},{"$f":"IF('RWIS Sensor (Desc)'!E11=\"\",\"\",'RWIS Sensor (Desc)'!E11)","v":""},{"$f":"IF('RWIS Sensor (Desc)'!F11=\"\",\"\",INDEX([1]RWIS_SENSOR_MODEL!$B$2:$B$100,MATCH(1,([1]RWIS_SENSOR_MODEL!$C$2:$C$100='RWIS Sensor (Desc)'!$F11)*([1]RWIS_SENSOR_MODEL!$E$2:$E$100='RWIS Sensor (Code)'!$C11),0),0))","v":""},{"$f":"IF('RWIS Sensor (Desc)'!G11=\"\",\"\",INDEX([1]RWIS_SENSOR_MODEL!$A$2:$A$100,MATCH(1,([1]RWIS_SENSOR_MODEL!$C$2:$C$100='RWIS Sensor (Desc)'!$F11)*([1]RWIS_SENSOR_MODEL!$D$2:$D$100='RWIS Sensor (Desc)'!$G11)*([1]RWIS_SENSOR_MODEL!$E$2:$E$100='RWIS Sensor (Code)'!$C11),0),0))","v":""},{"$f":"IF('RWIS Sensor (Desc)'!H11=\"\",\"\",'RWIS Sensor (Desc)'!H11)","v":""}]
[{"$f":"IF('RWIS Sensor (Desc)'!B12=\"\",\"\",\"2008\")","v":""},{"$f":"IF('RWIS Sensor (Desc)'!B12=\"\",\"\",'RWIS Sensor (Desc)'!B12)","v":""},{"$f":"IF('RWIS Sensor (Desc)'!D12=\"\",\"\",INDEX([1]RWIS_SENSOR_TYPE!$A$2:$A$100,MATCH('RWIS Sensor (Desc)'!$D12,[1]!MASTER_RWIS_SENSOR_TYPE_DESC[#Data],0),0))","v":""},{"$f":"IF('RWIS Sensor (Desc)'!E12=\"\",\"\",'RWIS Sensor (Desc)'!E12)","v":""},{"$f":"IF('RWIS Sensor (Desc)'!F12=\"\",\"\",INDEX([1]RWIS_SENSOR_MODEL!$B$2:$B$100,MATCH(1,([1]RWIS_SENSOR_MODEL!$C$2:$C$100='RWIS Sensor (Desc)'!$F12)*([1]RWIS_SENSOR_MODEL!$E$2:$E$100='RWIS Sensor (Code)'!$C12),0),0))","v":""},{"$f":"IF('RWIS Sensor (Desc)'!G12=\"\",\"\",INDEX([1]RWIS_SENSOR_MODEL!$A$2:$A$100,MATCH(1,([1]RWIS_SENSOR_MODEL!$C$2:$C$100='RWIS Sensor (Desc)'!$F12)*([1]RWIS_SENSOR_MODEL!$D$2:$D$100='RWIS Sensor (Desc)'!$G12)*([1]RWIS_SENSOR_MODEL!$E$2:$E$100='RWIS Sensor (Code)'!$C12),0),0))","v":""},{"$f":"IF('RWIS Sensor (Desc)'!H12=\"\",\"\",'RWIS Sensor (Desc)'!H12)","v":""}]
[{"$f":"IF('RWIS Sensor (Desc)'!B13=\"\",\"\",\"2008\")","v":""},{"$f":"IF('RWIS Sensor (Desc)'!B13=\"\",\"\",'RWIS Sensor (Desc)'!B13)","v":""},{"$f":"IF('RWIS Sensor (Desc)'!D13=\"\",\"\",INDEX([1]RWIS_SENSOR_TYPE!$A$2:$A$100,MATCH('RWIS Sensor (Desc)'!$D13,[1]!MASTER_RWIS_SENSOR_TYPE_DESC[#Data],0),0))","v":""},{"$f":"IF('RWIS Sensor (Desc)'!E13=\"\",\"\",'RWIS Sensor (Desc)'!E13)","v":""},{"$f":"IF('RWIS Sensor (Desc)'!F13=\"\",\"\",INDEX([1]RWIS_SENSOR_MODEL!$B$2:$B$100,MATCH(1,([1]RWIS_SENSOR_MODEL!$C$2:$C$100='RWIS Sensor (Desc)'!$F13)*([1]RWIS_SENSOR_MODEL!$E$2:$E$100='RWIS Sensor (Code)'!$C13),0),0))","v":""},{"$f":"IF('RWIS Sensor (Desc)'!G13=\"\",\"\",INDEX([1]RWIS_SENSOR_MODEL!$A$2:$A$100,MATCH(1,([1]RWIS_SENSOR_MODEL!$C$2:$C$100='RWIS Sensor (Desc)'!$F13)*([1]RWIS_SENSOR_MODEL!$D$2:$D$100='RWIS Sensor (Desc)'!$G13)*([1]RWIS_SENSOR_MODEL!$E$2:$E$100='RWIS Sensor (Code)'!$C13),0),0))","v":""},{"$f":"IF('RWIS Sensor (Desc)'!H13=\"\",\"\",'RWIS Sensor (Desc)'!H13)","v":""}]
[{"$f":"IF('RWIS Sensor (Desc)'!B14=\"\",\"\",\"2008\")","v":""},{"$f":"IF('RWIS Sensor (Desc)'!B14=\"\",\"\",'RWIS Sensor (Desc)'!B14)","v":""},{"$f":"IF('RWIS Sensor (Desc)'!D14=\"\",\"\",INDEX([1]RWIS_SENSOR_TYPE!$A$2:$A$100,MATCH('RWIS Sensor (Desc)'!$D14,[1]!MASTER_RWIS_SENSOR_TYPE_DESC[#Data],0),0))","v":""},{"$f":"IF('RWIS Sensor (Desc)'!E14=\"\",\"\",'RWIS Sensor (Desc)'!E14)","v":""},{"$f":"IF('RWIS Sensor (Desc)'!F14=\"\",\"\",INDEX([1]RWIS_SENSOR_MODEL!$B$2:$B$100,MATCH(1,([1]RWIS_SENSOR_MODEL!$C$2:$C$100='RWIS Sensor (Desc)'!$F14)*([1]RWIS_SENSOR_MODEL!$E$2:$E$100='RWIS Sensor (Code)'!$C14),0),0))","v":""},{"$f":"IF('RWIS Sensor (Desc)'!G14=\"\",\"\",INDEX([1]RWIS_SENSOR_MODEL!$A$2:$A$100,MATCH(1,([1]RWIS_SENSOR_MODEL!$C$2:$C$100='RWIS Sensor (Desc)'!$F14)*([1]RWIS_SENSOR_MODEL!$D$2:$D$100='RWIS Sensor (Desc)'!$G14)*([1]RWIS_SENSOR_MODEL!$E$2:$E$100='RWIS Sensor (Code)'!$C14),0),0))","v":""},{"$f":"IF('RWIS Sensor (Desc)'!H14=\"\",\"\",'RWIS Sensor (Desc)'!H14)","v":""}]
[{"$f":"IF('RWIS Sensor (Desc)'!B15=\"\",\"\",\"2008\")","v":""},{"$f":"IF('RWIS Sensor (Desc)'!B15=\"\",\"\",'RWIS Sensor (Desc)'!B15)","v":""},{"$f":"IF('RWIS Sensor (Desc)'!D15=\"\",\"\",INDEX([1]RWIS_SENSOR_TYPE!$A$2:$A$100,MATCH('RWIS Sensor (Desc)'!$D15,[1]!MASTER_RWIS_SENSOR_TYPE_DESC[#Data],0),0))","v":""},{"$f":"IF('RWIS Sensor (Desc)'!E15=\"\",\"\",'RWIS Sensor (Desc)'!E15)","v":""},{"$f":"IF('RWIS Sensor (Desc)'!F15=\"\",\"\",INDEX([1]RWIS_SENSOR_MODEL!$B$2:$B$100,MATCH(1,([1]RWIS_SENSOR_MODEL!$C$2:$C$100='RWIS Sensor (Desc)'!$F15)*([1]RWIS_SENSOR_MODEL!$E$2:$E$100='RWIS Sensor (Code)'!$C15),0),0))","v":""},{"$f":"IF('RWIS Sensor (Desc)'!G15=\"\",\"\",INDEX([1]RWIS_SENSOR_MODEL!$A$2:$A$100,MATCH(1,([1]RWIS_SENSOR_MODEL!$C$2:$C$100='RWIS Sensor (Desc)'!$F15)*([1]RWIS_SENSOR_MODEL!$D$2:$D$100='RWIS Sensor (Desc)'!$G15)*([1]RWIS_SENSOR_MODEL!$E$2:$E$100='RWIS Sensor (Code)'!$C15),0),0))","v":""},{"$f":"IF('RWIS Sensor (Desc)'!H15=\"\",\"\",'RWIS Sensor (Desc)'!H15)","v":""}]
[{"$f":"IF('RWIS Sensor (Desc)'!B16=\"\",\"\",\"2008\")","v":""},{"$f":"IF('RWIS Sensor (Desc)'!B16=\"\",\"\",'RWIS Sensor (Desc)'!B16)","v":""},{"$f":"IF('RWIS Sensor (Desc)'!D16=\"\",\"\",INDEX([1]RWIS_SENSOR_TYPE!$A$2:$A$100,MATCH('RWIS Sensor (Desc)'!$D16,[1]!MASTER_RWIS_SENSOR_TYPE_DESC[#Data],0),0))","v":""},{"$f":"IF('RWIS Sensor (Desc)'!E16=\"\",\"\",'RWIS Sensor (Desc)'!E16)","v":""},{"$f":"IF('RWIS Sensor (Desc)'!F16=\"\",\"\",INDEX([1]RWIS_SENSOR_MODEL!$B$2:$B$100,MATCH(1,([1]RWIS_SENSOR_MODEL!$C$2:$C$100='RWIS Sensor (Desc)'!$F16)*([1]RWIS_SENSOR_MODEL!$E$2:$E$100='RWIS Sensor (Code)'!$C16),0),0))","v":""},{"$f":"IF('RWIS Sensor (Desc)'!G16=\"\",\"\",INDEX([1]RWIS_SENSOR_MODEL!$A$2:$A$100,MATCH(1,([1]RWIS_SENSOR_MODEL!$C$2:$C$100='RWIS Sensor (Desc)'!$F16)*([1]RWIS_SENSOR_MODEL!$D$2:$D$100='RWIS Sensor (Desc)'!$G16)*([1]RWIS_SENSOR_MODEL!$E$2:$E$100='RWIS Sensor (Code)'!$C16),0),0))","v":""},{"$f":"IF('RWIS Sensor (Desc)'!H16=\"\",\"\",'RWIS Sensor (Desc)'!H16)","v":""}]
[{"$f":"IF('RWIS Sensor (Desc)'!B17=\"\",\"\",\"2008\")","v":""},{"$f":"IF('RWIS Sensor (Desc)'!B17=\"\",\"\",'RWIS Sensor (Desc)'!B17)","v":""},{"$f":"IF('RWIS Sensor (Desc)'!D17=\"\",\"\",INDEX([1]RWIS_SENSOR_TYPE!$A$2:$A$100,MATCH('RWIS Sensor (Desc)'!$D17,[1]!MASTER_RWIS_SENSOR_TYPE_DESC[#Data],0),0))","v":""},{"$f":"IF('RWIS Sensor (Desc)'!E17=\"\",\"\",'RWIS Sensor (Desc)'!E17)","v":""},{"$f":"IF('RWIS Sensor (Desc)'!F17=\"\",\"\",INDEX([1]RWIS_SENSOR_MODEL!$B$2:$B$100,MATCH(1,([1]RWIS_SENSOR_MODEL!$C$2:$C$100='RWIS Sensor (Desc)'!$F17)*([1]RWIS_SENSOR_MODEL!$E$2:$E$100='RWIS Sensor (Code)'!$C17),0),0))","v":""},{"$f":"IF('RWIS Sensor (Desc)'!G17=\"\",\"\",INDEX([1]RWIS_SENSOR_MODEL!$A$2:$A$100,MATCH(1,([1]RWIS_SENSOR_MODEL!$C$2:$C$100='RWIS Sensor (Desc)'!$F17)*([1]RWIS_SENSOR_MODEL!$D$2:$D$100='RWIS Sensor (Desc)'!$G17)*([1]RWIS_SENSOR_MODEL!$E$2:$E$100='RWIS Sensor (Code)'!$C17),0),0))","v":""},{"$f":"IF('RWIS Sensor (Desc)'!H17=\"\",\"\",'RWIS Sensor (Desc)'!H17)","v":""}]
[{"$f":"IF('RWIS Sensor (Desc)'!B18=\"\",\"\",\"2008\")","v":""},{"$f":"IF('RWIS Sensor (Desc)'!B18=\"\",\"\",'RWIS Sensor (Desc)'!B18)","v":""},{"$f":"IF('RWIS Sensor (Desc)'!D18=\"\",\"\",INDEX([1]RWIS_SENSOR_TYPE!$A$2:$A$100,MATCH('RWIS Sensor (Desc)'!$D18,[1]!MASTER_RWIS_SENSOR_TYPE_DESC[#Data],0),0))","v":""},{"$f":"IF('RWIS Sensor (Desc)'!E18=\"\",\"\",'RWIS Sensor (Desc)'!E18)","v":""},{"$f":"IF('RWIS Sensor (Desc)'!F18=\"\",\"\",INDEX([1]RWIS_SENSOR_MODEL!$B$2:$B$100,MATCH(1,([1]RWIS_SENSOR_MODEL!$C$2:$C$100='RWIS Sensor (Desc)'!$F18)*([1]RWIS_SENSOR_MODEL!$E$2:$E$100='RWIS Sensor (Code)'!$C18),0),0))","v":""},{"$f":"IF('RWIS Sensor (Desc)'!G18=\"\",\"\",INDEX([1]RWIS_SENSOR_MODEL!$A$2:$A$100,MATCH(1,([1]RWIS_SENSOR_MODEL!$C$2:$C$100='RWIS Sensor (Desc)'!$F18)*([1]RWIS_SENSOR_MODEL!$D$2:$D$100='RWIS Sensor (Desc)'!$G18)*([1]RWIS_SENSOR_MODEL!$E$2:$E$100='RWIS Sensor (Code)'!$C18),0),0))","v":""},{"$f":"IF('RWIS Sensor (Desc)'!H18=\"\",\"\",'RWIS Sensor (Desc)'!H18)","v":""}]
[{"$f":"IF('RWIS Sensor (Desc)'!B19=\"\",\"\",\"2008\")","v":""},{"$f":"IF('RWIS Sensor (Desc)'!B19=\"\",\"\",'RWIS Sensor (Desc)'!B19)","v":""},{"$f":"IF('RWIS Sensor (Desc)'!D19=\"\",\"\",INDEX([1]RWIS_SENSOR_TYPE!$A$2:$A$100,MATCH('RWIS Sensor (Desc)'!$D19,[1]!MASTER_RWIS_SENSOR_TYPE_DESC[#Data],0),0))","v":""},{"$f":"IF('RWIS Sensor (Desc)'!E19=\"\",\"\",'RWIS Sensor (Desc)'!E19)","v":""},{"$f":"IF('RWIS Sensor (Desc)'!F19=\"\",\"\",INDEX([1]RWIS_SENSOR_MODEL!$B$2:$B$100,MATCH(1,([1]RWIS_SENSOR_MODEL!$C$2:$C$100='RWIS Sensor (Desc)'!$F19)*([1]RWIS_SENSOR_MODEL!$E$2:$E$100='RWIS Sensor (Code)'!$C19),0),0))","v":""},{"$f":"IF('RWIS Sensor (Desc)'!G19=\"\",\"\",INDEX([1]RWIS_SENSOR_MODEL!$A$2:$A$100,MATCH(1,([1]RWIS_SENSOR_MODEL!$C$2:$C$100='RWIS Sensor (Desc)'!$F19)*([1]RWIS_SENSOR_MODEL!$D$2:$D$100='RWIS Sensor (Desc)'!$G19)*([1]RWIS_SENSOR_MODEL!$E$2:$E$100='RWIS Sensor (Code)'!$C19),0),0))","v":""},{"$f":"IF('RWIS Sensor (Desc)'!H19=\"\",\"\",'RWIS Sensor (Desc)'!H19)","v":""}]
[{"$f":"IF('RWIS Sensor (Desc)'!B20=\"\",\"\",\"2008\")","v":""},{"$f":"IF('RWIS Sensor (Desc)'!B20=\"\",\"\",'RWIS Sensor (Desc)'!B20)","v":""},{"$f":"IF('RWIS Sensor (Desc)'!D20=\"\",\"\",INDEX([1]RWIS_SENSOR_TYPE!$A$2:$A$100,MATCH('RWIS Sensor (Desc)'!$D20,[1]!MASTER_RWIS_SENSOR_TYPE_DESC[#Data],0),0))","v":""},{"$f":"IF('RWIS Sensor (Desc)'!E20=\"\",\"\",'RWIS Sensor (Desc)'!E20)","v":""},{"$f":"IF('RWIS Sensor (Desc)'!F20=\"\",\"\",INDEX([1]RWIS_SENSOR_MODEL!$B$2:$B$100,MATCH(1,([1]RWIS_SENSOR_MODEL!$C$2:$C$100='RWIS Sensor (Desc)'!$F20)*([1]RWIS_SENSOR_MODEL!$E$2:$E$100='RWIS Sensor (Code)'!$C20),0),0))","v":""},{"$f":"IF('RWIS Sensor (Desc)'!G20=\"\",\"\",INDEX([1]RWIS_SENSOR_MODEL!$A$2:$A$100,MATCH(1,([1]RWIS_SENSOR_MODEL!$C$2:$C$100='RWIS Sensor (Desc)'!$F20)*([1]RWIS_SENSOR_MODEL!$D$2:$D$100='RWIS Sensor (Desc)'!$G20)*([1]RWIS_SENSOR_MODEL!$E$2:$E$100='RWIS Sensor (Code)'!$C20),0),0))","v":""},{"$f":"IF('RWIS Sensor (Desc)'!H20=\"\",\"\",'RWIS Sensor (Desc)'!H20)","v":""}]
[{"$f":"IF('RWIS Sensor (Desc)'!B21=\"\",\"\",\"2008\")","v":""},{"$f":"IF('RWIS Sensor (Desc)'!B21=\"\",\"\",'RWIS Sensor (Desc)'!B21)","v":""},{"$f":"IF('RWIS Sensor (Desc)'!D21=\"\",\"\",INDEX([1]RWIS_SENSOR_TYPE!$A$2:$A$100,MATCH('RWIS Sensor (Desc)'!$D21,[1]!MASTER_RWIS_SENSOR_TYPE_DESC[#Data],0),0))","v":""},{"$f":"IF('RWIS Sensor (Desc)'!E21=\"\",\"\",'RWIS Sensor (Desc)'!E21)","v":""},{"$f":"IF('RWIS Sensor (Desc)'!F21=\"\",\"\",INDEX([1]RWIS_SENSOR_MODEL!$B$2:$B$100,MATCH(1,([1]RWIS_SENSOR_MODEL!$C$2:$C$100='RWIS Sensor (Desc)'!$F21)*([1]RWIS_SENSOR_MODEL!$E$2:$E$100='RWIS Sensor (Code)'!$C21),0),0))","v":""},{"$f":"IF('RWIS Sensor (Desc)'!G21=\"\",\"\",INDEX([1]RWIS_SENSOR_MODEL!$A$2:$A$100,MATCH(1,([1]RWIS_SENSOR_MODEL!$C$2:$C$100='RWIS Sensor (Desc)'!$F21)*([1]RWIS_SENSOR_MODEL!$D$2:$D$100='RWIS Sensor (Desc)'!$G21)*([1]RWIS_SENSOR_MODEL!$E$2:$E$100='RWIS Sensor (Code)'!$C21),0),0))","v":""},{"$f":"IF('RWIS Sensor (Desc)'!H21=\"\",\"\",'RWIS Sensor (Desc)'!H21)","v":""}]
[{"$f":"IF('RWIS Sensor (Desc)'!B22=\"\",\"\",\"2008\")","v":""},{"$f":"IF('RWIS Sensor (Desc)'!B22=\"\",\"\",'RWIS Sensor (Desc)'!B22)","v":""},{"$f":"IF('RWIS Sensor (Desc)'!D22=\"\",\"\",INDEX([1]RWIS_SENSOR_TYPE!$A$2:$A$100,MATCH('RWIS Sensor (Desc)'!$D22,[1]!MASTER_RWIS_SENSOR_TYPE_DESC[#Data],0),0))","v":""},{"$f":"IF('RWIS Sensor (Desc)'!E22=\"\",\"\",'RWIS Sensor (Desc)'!E22)","v":""},{"$f":"IF('RWIS Sensor (Desc)'!F22=\"\",\"\",INDEX([1]RWIS_SENSOR_MODEL!$B$2:$B$100,MATCH(1,([1]RWIS_SENSOR_MODEL!$C$2:$C$100='RWIS Sensor (Desc)'!$F22)*([1]RWIS_SENSOR_MODEL!$E$2:$E$100='RWIS Sensor (Code)'!$C22),0),0))","v":""},{"$f":"IF('RWIS Sensor (Desc)'!G22=\"\",\"\",INDEX([1]RWIS_SENSOR_MODEL!$A$2:$A$100,MATCH(1,([1]RWIS_SENSOR_MODEL!$C$2:$C$100='RWIS Sensor (Desc)'!$F22)*([1]RWIS_SENSOR_MODEL!$D$2:$D$100='RWIS Sensor (Desc)'!$G22)*([1]RWIS_SENSOR_MODEL!$E$2:$E$100='RWIS Sensor (Code)'!$C22),0),0))","v":""},{"$f":"IF('RWIS Sensor (Desc)'!H22=\"\",\"\",'RWIS Sensor (Desc)'!H22)","v":""}]
[{"$f":"IF('RWIS Sensor (Desc)'!B23=\"\",\"\",\"2008\")","v":""},{"$f":"IF('RWIS Sensor (Desc)'!B23=\"\",\"\",'RWIS Sensor (Desc)'!B23)","v":""},{"$f":"IF('RWIS Sensor (Desc)'!D23=\"\",\"\",INDEX([1]RWIS_SENSOR_TYPE!$A$2:$A$100,MATCH('RWIS Sensor (Desc)'!$D23,[1]!MASTER_RWIS_SENSOR_TYPE_DESC[#Data],0),0))","v":""},{"$f":"IF('RWIS Sensor (Desc)'!E23=\"\",\"\",'RWIS Sensor (Desc)'!E23)","v":""},{"$f":"IF('RWIS Sensor (Desc)'!F23=\"\",\"\",INDEX([1]RWIS_SENSOR_MODEL!$B$2:$B$100,MATCH(1,([1]RWIS_SENSOR_MODEL!$C$2:$C$100='RWIS Sensor (Desc)'!$F23)*([1]RWIS_SENSOR_MODEL!$E$2:$E$100='RWIS Sensor (Code)'!$C23),0),0))","v":""},{"$f":"IF('RWIS Sensor (Desc)'!G23=\"\",\"\",INDEX([1]RWIS_SENSOR_MODEL!$A$2:$A$100,MATCH(1,([1]RWIS_SENSOR_MODEL!$C$2:$C$100='RWIS Sensor (Desc)'!$F23)*([1]RWIS_SENSOR_MODEL!$D$2:$D$100='RWIS Sensor (Desc)'!$G23)*([1]RWIS_SENSOR_MODEL!$E$2:$E$100='RWIS Sensor (Code)'!$C23),0),0))","v":""},{"$f":"IF('RWIS Sensor (Desc)'!H23=\"\",\"\",'RWIS Sensor (Desc)'!H23)","v":""}]
[{"$f":"IF('RWIS Sensor (Desc)'!B24=\"\",\"\",\"2008\")","v":""},{"$f":"IF('RWIS Sensor (Desc)'!B24=\"\",\"\",'RWIS Sensor (Desc)'!B24)","v":""},{"$f":"IF('RWIS Sensor (Desc)'!D24=\"\",\"\",INDEX([1]RWIS_SENSOR_TYPE!$A$2:$A$100,MATCH('RWIS Sensor (Desc)'!$D24,[1]!MASTER_RWIS_SENSOR_TYPE_DESC[#Data],0),0))","v":""},{"$f":"IF('RWIS Sensor (Desc)'!E24=\"\",\"\",'RWIS Sensor (Desc)'!E24)","v":""},{"$f":"IF('RWIS Sensor (Desc)'!F24=\"\",\"\",INDEX([1]RWIS_SENSOR_MODEL!$B$2:$B$100,MATCH(1,([1]RWIS_SENSOR_MODEL!$C$2:$C$100='RWIS Sensor (Desc)'!$F24)*([1]RWIS_SENSOR_MODEL!$E$2:$E$100='RWIS Sensor (Code)'!$C24),0),0))","v":""},{"$f":"IF('RWIS Sensor (Desc)'!G24=\"\",\"\",INDEX([1]RWIS_SENSOR_MODEL!$A$2:$A$100,MATCH(1,([1]RWIS_SENSOR_MODEL!$C$2:$C$100='RWIS Sensor (Desc)'!$F24)*([1]RWIS_SENSOR_MODEL!$D$2:$D$100='RWIS Sensor (Desc)'!$G24)*([1]RWIS_SENSOR_MODEL!$E$2:$E$100='RWIS Sensor (Code)'!$C24),0),0))","v":""},{"$f":"IF('RWIS Sensor (Desc)'!H24=\"\",\"\",'RWIS Sensor (Desc)'!H24)","v":""}]
[{"$f":"IF('RWIS Sensor (Desc)'!B25=\"\",\"\",\"2008\")","v":""},{"$f":"IF('RWIS Sensor (Desc)'!B25=\"\",\"\",'RWIS Sensor (Desc)'!B25)","v":""},{"$f":"IF('RWIS Sensor (Desc)'!D25=\"\",\"\",INDEX([1]RWIS_SENSOR_TYPE!$A$2:$A$100,MATCH('RWIS Sensor (Desc)'!$D25,[1]!MASTER_RWIS_SENSOR_TYPE_DESC[#Data],0),0))","v":""},{"$f":"IF('RWIS Sensor (Desc)'!E25=\"\",\"\",'RWIS Sensor (Desc)'!E25)","v":""},{"$f":"IF('RWIS Sensor (Desc)'!F25=\"\",\"\",INDEX([1]RWIS_SENSOR_MODEL!$B$2:$B$100,MATCH(1,([1]RWIS_SENSOR_MODEL!$C$2:$C$100='RWIS Sensor (Desc)'!$F25)*([1]RWIS_SENSOR_MODEL!$E$2:$E$100='RWIS Sensor (Code)'!$C25),0),0))","v":""},{"$f":"IF('RWIS Sensor (Desc)'!G25=\"\",\"\",INDEX([1]RWIS_SENSOR_MODEL!$A$2:$A$100,MATCH(1,([1]RWIS_SENSOR_MODEL!$C$2:$C$100='RWIS Sensor (Desc)'!$F25)*([1]RWIS_SENSOR_MODEL!$D$2:$D$100='RWIS Sensor (Desc)'!$G25)*([1]RWIS_SENSOR_MODEL!$E$2:$E$100='RWIS Sensor (Code)'!$C25),0),0))","v":""},{"$f":"IF('RWIS Sensor (Desc)'!H25=\"\",\"\",'RWIS Sensor (Desc)'!H25)","v":""}]
[{"$f":"IF('RWIS Sensor (Desc)'!B26=\"\",\"\",\"2008\")","v":""},{"$f":"IF('RWIS Sensor (Desc)'!B26=\"\",\"\",'RWIS Sensor (Desc)'!B26)","v":""},{"$f":"IF('RWIS Sensor (Desc)'!D26=\"\",\"\",INDEX([1]RWIS_SENSOR_TYPE!$A$2:$A$100,MATCH('RWIS Sensor (Desc)'!$D26,[1]!MASTER_RWIS_SENSOR_TYPE_DESC[#Data],0),0))","v":""},{"$f":"IF('RWIS Sensor (Desc)'!E26=\"\",\"\",'RWIS Sensor (Desc)'!E26)","v":""},{"$f":"IF('RWIS Sensor (Desc)'!F26=\"\",\"\",INDEX([1]RWIS_SENSOR_MODEL!$B$2:$B$100,MATCH(1,([1]RWIS_SENSOR_MODEL!$C$2:$C$100='RWIS Sensor (Desc)'!$F26)*([1]RWIS_SENSOR_MODEL!$E$2:$E$100='RWIS Sensor (Code)'!$C26),0),0))","v":""},{"$f":"IF('RWIS Sensor (Desc)'!G26=\"\",\"\",INDEX([1]RWIS_SENSOR_MODEL!$A$2:$A$100,MATCH(1,([1]RWIS_SENSOR_MODEL!$C$2:$C$100='RWIS Sensor (Desc)'!$F26)*([1]RWIS_SENSOR_MODEL!$D$2:$D$100='RWIS Sensor (Desc)'!$G26)*([1]RWIS_SENSOR_MODEL!$E$2:$E$100='RWIS Sensor (Code)'!$C26),0),0))","v":""},{"$f":"IF('RWIS Sensor (Desc)'!H26=\"\",\"\",'RWIS Sensor (Desc)'!H26)","v":""}]
[{"$f":"IF('RWIS Sensor (Desc)'!B27=\"\",\"\",\"2008\")","v":""},{"$f":"IF('RWIS Sensor (Desc)'!B27=\"\",\"\",'RWIS Sensor (Desc)'!B27)","v":""},{"$f":"IF('RWIS Sensor (Desc)'!D27=\"\",\"\",INDEX([1]RWIS_SENSOR_TYPE!$A$2:$A$100,MATCH('RWIS Sensor (Desc)'!$D27,[1]!MASTER_RWIS_SENSOR_TYPE_DESC[#Data],0),0))","v":""},{"$f":"IF('RWIS Sensor (Desc)'!E27=\"\",\"\",'RWIS Sensor (Desc)'!E27)","v":""},{"$f":"IF('RWIS Sensor (Desc)'!F27=\"\",\"\",INDEX([1]RWIS_SENSOR_MODEL!$B$2:$B$100,MATCH(1,([1]RWIS_SENSOR_MODEL!$C$2:$C$100='RWIS Sensor (Desc)'!$F27)*([1]RWIS_SENSOR_MODEL!$E$2:$E$100='RWIS Sensor (Code)'!$C27),0),0))","v":""},{"$f":"IF('RWIS Sensor (Desc)'!G27=\"\",\"\",INDEX([1]RWIS_SENSOR_MODEL!$A$2:$A$100,MATCH(1,([1]RWIS_SENSOR_MODEL!$C$2:$C$100='RWIS Sensor (Desc)'!$F27)*([1]RWIS_SENSOR_MODEL!$D$2:$D$100='RWIS Sensor (Desc)'!$G27)*([1]RWIS_SENSOR_MODEL!$E$2:$E$100='RWIS Sensor (Code)'!$C27),0),0))","v":""},{"$f":"IF('RWIS Sensor (Desc)'!H27=\"\",\"\",'RWIS Sensor (Desc)'!H27)","v":""}]
[{"$f":"IF('RWIS Sensor (Desc)'!B28=\"\",\"\",\"2008\")","v":""},{"$f":"IF('RWIS Sensor (Desc)'!B28=\"\",\"\",'RWIS Sensor (Desc)'!B28)","v":""},{"$f":"IF('RWIS Sensor (Desc)'!D28=\"\",\"\",INDEX([1]RWIS_SENSOR_TYPE!$A$2:$A$100,MATCH('RWIS Sensor (Desc)'!$D28,[1]!MASTER_RWIS_SENSOR_TYPE_DESC[#Data],0),0))","v":""},{"$f":"IF('RWIS Sensor (Desc)'!E28=\"\",\"\",'RWIS Sensor (Desc)'!E28)","v":""},{"$f":"IF('RWIS Sensor (Desc)'!F28=\"\",\"\",INDEX([1]RWIS_SENSOR_MODEL!$B$2:$B$100,MATCH(1,([1]RWIS_SENSOR_MODEL!$C$2:$C$100='RWIS Sensor (Desc)'!$F28)*([1]RWIS_SENSOR_MODEL!$E$2:$E$100='RWIS Sensor (Code)'!$C28),0),0))","v":""},{"$f":"IF('RWIS Sensor (Desc)'!G28=\"\",\"\",INDEX([1]RWIS_SENSOR_MODEL!$A$2:$A$100,MATCH(1,([1]RWIS_SENSOR_MODEL!$C$2:$C$100='RWIS Sensor (Desc)'!$F28)*([1]RWIS_SENSOR_MODEL!$D$2:$D$100='RWIS Sensor (Desc)'!$G28)*([1]RWIS_SENSOR_MODEL!$E$2:$E$100='RWIS Sensor (Code)'!$C28),0),0))","v":""},{"$f":"IF('RWIS Sensor (Desc)'!H28=\"\",\"\",'RWIS Sensor (Desc)'!H28)","v":""}]
[{"$f":"IF('RWIS Sensor (Desc)'!B29=\"\",\"\",\"2008\")","v":""},{"$f":"IF('RWIS Sensor (Desc)'!B29=\"\",\"\",'RWIS Sensor (Desc)'!B29)","v":""},{"$f":"IF('RWIS Sensor (Desc)'!D29=\"\",\"\",INDEX([1]RWIS_SENSOR_TYPE!$A$2:$A$100,MATCH('RWIS Sensor (Desc)'!$D29,[1]!MASTER_RWIS_SENSOR_TYPE_DESC[#Data],0),0))","v":""},{"$f":"IF('RWIS Sensor (Desc)'!E29=\"\",\"\",'RWIS Sensor (Desc)'!E29)","v":""},{"$f":"IF('RWIS Sensor (Desc)'!F29=\"\",\"\",INDEX([1]RWIS_SENSOR_MODEL!$B$2:$B$100,MATCH(1,([1]RWIS_SENSOR_MODEL!$C$2:$C$100='RWIS Sensor (Desc)'!$F29)*([1]RWIS_SENSOR_MODEL!$E$2:$E$100='RWIS Sensor (Code)'!$C29),0),0))","v":""},{"$f":"IF('RWIS Sensor (Desc)'!G29=\"\",\"\",INDEX([1]RWIS_SENSOR_MODEL!$A$2:$A$100,MATCH(1,([1]RWIS_SENSOR_MODEL!$C$2:$C$100='RWIS Sensor (Desc)'!$F29)*([1]RWIS_SENSOR_MODEL!$D$2:$D$100='RWIS Sensor (Desc)'!$G29)*([1]RWIS_SENSOR_MODEL!$E$2:$E$100='RWIS Sensor (Code)'!$C29),0),0))","v":""},{"$f":"IF('RWIS Sensor (Desc)'!H29=\"\",\"\",'RWIS Sensor (Desc)'!H29)","v":""}]
[{"$f":"IF('RWIS Sensor (Desc)'!B30=\"\",\"\",\"2008\")","v":""},{"$f":"IF('RWIS Sensor (Desc)'!B30=\"\",\"\",'RWIS Sensor (Desc)'!B30)","v":""},{"$f":"IF('RWIS Sensor (Desc)'!D30=\"\",\"\",INDEX([1]RWIS_SENSOR_TYPE!$A$2:$A$100,MATCH('RWIS Sensor (Desc)'!$D30,[1]!MASTER_RWIS_SENSOR_TYPE_DESC[#Data],0),0))","v":""},{"$f":"IF('RWIS Sensor (Desc)'!E30=\"\",\"\",'RWIS Sensor (Desc)'!E30)","v":""},{"$f":"IF('RWIS Sensor (Desc)'!F30=\"\",\"\",INDEX([1]RWIS_SENSOR_MODEL!$B$2:$B$100,MATCH(1,([1]RWIS_SENSOR_MODEL!$C$2:$C$100='RWIS Sensor (Desc)'!$F30)*([1]RWIS_SENSOR_MODEL!$E$2:$E$100='RWIS Sensor (Code)'!$C30),0),0))","v":""},{"$f":"IF('RWIS Sensor (Desc)'!G30=\"\",\"\",INDEX([1]RWIS_SENSOR_MODEL!$A$2:$A$100,MATCH(1,([1]RWIS_SENSOR_MODEL!$C$2:$C$100='RWIS Sensor (Desc)'!$F30)*([1]RWIS_SENSOR_MODEL!$D$2:$D$100='RWIS Sensor (Desc)'!$G30)*([1]RWIS_SENSOR_MODEL!$E$2:$E$100='RWIS Sensor (Code)'!$C30),0),0))","v":""},{"$f":"IF('RWIS Sensor (Desc)'!H30=\"\",\"\",'RWIS Sensor (Desc)'!H30)","v":""}]
[{"$f":"IF('RWIS Sensor (Desc)'!B31=\"\",\"\",\"2008\")","v":""},{"$f":"IF('RWIS Sensor (Desc)'!B31=\"\",\"\",'RWIS Sensor (Desc)'!B31)","v":""},{"$f":"IF('RWIS Sensor (Desc)'!D31=\"\",\"\",INDEX([1]RWIS_SENSOR_TYPE!$A$2:$A$100,MATCH('RWIS Sensor (Desc)'!$D31,[1]!MASTER_RWIS_SENSOR_TYPE_DESC[#Data],0),0))","v":""},{"$f":"IF('RWIS Sensor (Desc)'!E31=\"\",\"\",'RWIS Sensor (Desc)'!E31)","v":""},{"$f":"IF('RWIS Sensor (Desc)'!F31=\"\",\"\",INDEX([1]RWIS_SENSOR_MODEL!$B$2:$B$100,MATCH(1,([1]RWIS_SENSOR_MODEL!$C$2:$C$100='RWIS Sensor (Desc)'!$F31)*([1]RWIS_SENSOR_MODEL!$E$2:$E$100='RWIS Sensor (Code)'!$C31),0),0))","v":""},{"$f":"IF('RWIS Sensor (Desc)'!G31=\"\",\"\",INDEX([1]RWIS_SENSOR_MODEL!$A$2:$A$100,MATCH(1,([1]RWIS_SENSOR_MODEL!$C$2:$C$100='RWIS Sensor (Desc)'!$F31)*([1]RWIS_SENSOR_MODEL!$D$2:$D$100='RWIS Sensor (Desc)'!$G31)*([1]RWIS_SENSOR_MODEL!$E$2:$E$100='RWIS Sensor (Code)'!$C31),0),0))","v":""},{"$f":"IF('RWIS Sensor (Desc)'!H31=\"\",\"\",'RWIS Sensor (Desc)'!H31)","v":""}]
[{"$f":"IF('RWIS Sensor (Desc)'!B32=\"\",\"\",\"2008\")","v":""},{"$f":"IF('RWIS Sensor (Desc)'!B32=\"\",\"\",'RWIS Sensor (Desc)'!B32)","v":""},{"$f":"IF('RWIS Sensor (Desc)'!D32=\"\",\"\",INDEX([1]RWIS_SENSOR_TYPE!$A$2:$A$100,MATCH('RWIS Sensor (Desc)'!$D32,[1]!MASTER_RWIS_SENSOR_TYPE_DESC[#Data],0),0))","v":""},{"$f":"IF('RWIS Sensor (Desc)'!E32=\"\",\"\",'RWIS Sensor (Desc)'!E32)","v":""},{"$f":"IF('RWIS Sensor (Desc)'!F32=\"\",\"\",INDEX([1]RWIS_SENSOR_MODEL!$B$2:$B$100,MATCH(1,([1]RWIS_SENSOR_MODEL!$C$2:$C$100='RWIS Sensor (Desc)'!$F32)*([1]RWIS_SENSOR_MODEL!$E$2:$E$100='RWIS Sensor (Code)'!$C32),0),0))","v":""},{"$f":"IF('RWIS Sensor (Desc)'!G32=\"\",\"\",INDEX([1]RWIS_SENSOR_MODEL!$A$2:$A$100,MATCH(1,([1]RWIS_SENSOR_MODEL!$C$2:$C$100='RWIS Sensor (Desc)'!$F32)*([1]RWIS_SENSOR_MODEL!$D$2:$D$100='RWIS Sensor (Desc)'!$G32)*([1]RWIS_SENSOR_MODEL!$E$2:$E$100='RWIS Sensor (Code)'!$C32),0),0))","v":""},{"$f":"IF('RWIS Sensor (Desc)'!H32=\"\",\"\",'RWIS Sensor (Desc)'!H32)","v":""}]
[{"$f":"IF('RWIS Sensor (Desc)'!B33=\"\",\"\",\"2008\")","v":""},{"$f":"IF('RWIS Sensor (Desc)'!B33=\"\",\"\",'RWIS Sensor (Desc)'!B33)","v":""},{"$f":"IF('RWIS Sensor (Desc)'!D33=\"\",\"\",INDEX([1]RWIS_SENSOR_TYPE!$A$2:$A$100,MATCH('RWIS Sensor (Desc)'!$D33,[1]!MASTER_RWIS_SENSOR_TYPE_DESC[#Data],0),0))","v":""},{"$f":"IF('RWIS Sensor (Desc)'!E33=\"\",\"\",'RWIS Sensor (Desc)'!E33)","v":""},{"$f":"IF('RWIS Sensor (Desc)'!F33=\"\",\"\",INDEX([1]RWIS_SENSOR_MODEL!$B$2:$B$100,MATCH(1,([1]RWIS_SENSOR_MODEL!$C$2:$C$100='RWIS Sensor (Desc)'!$F33)*([1]RWIS_SENSOR_MODEL!$E$2:$E$100='RWIS Sensor (Code)'!$C33),0),0))","v":""},{"$f":"IF('RWIS Sensor (Desc)'!G33=\"\",\"\",INDEX([1]RWIS_SENSOR_MODEL!$A$2:$A$100,MATCH(1,([1]RWIS_SENSOR_MODEL!$C$2:$C$100='RWIS Sensor (Desc)'!$F33)*([1]RWIS_SENSOR_MODEL!$D$2:$D$100='RWIS Sensor (Desc)'!$G33)*([1]RWIS_SENSOR_MODEL!$E$2:$E$100='RWIS Sensor (Code)'!$C33),0),0))","v":""},{"$f":"IF('RWIS Sensor (Desc)'!H33=\"\",\"\",'RWIS Sensor (Desc)'!H33)","v":""}]
[{"$f":"IF('RWIS Sensor (Desc)'!B34=\"\",\"\",\"2008\")","v":""},{"$f":"IF('RWIS Sensor (Desc)'!B34=\"\",\"\",'RWIS Sensor (Desc)'!B34)","v":""},{"$f":"IF('RWIS Sensor (Desc)'!D34=\"\",\"\",INDEX([1]RWIS_SENSOR_TYPE!$A$2:$A$100,MATCH('RWIS Sensor (Desc)'!$D34,[1]!MASTER_RWIS_SENSOR_TYPE_DESC[#Data],0),0))","v":""},{"$f":"IF('RWIS Sensor (Desc)'!E34=\"\",\"\",'RWIS Sensor (Desc)'!E34)","v":""},{"$f":"IF('RWIS Sensor (Desc)'!F34=\"\",\"\",INDEX([1]RWIS_SENSOR_MODEL!$B$2:$B$100,MATCH(1,([1]RWIS_SENSOR_MODEL!$C$2:$C$100='RWIS Sensor (Desc)'!$F34)*([1]RWIS_SENSOR_MODEL!$E$2:$E$100='RWIS Sensor (Code)'!$C34),0),0))","v":""},{"$f":"IF('RWIS Sensor (Desc)'!G34=\"\",\"\",INDEX([1]RWIS_SENSOR_MODEL!$A$2:$A$100,MATCH(1,([1]RWIS_SENSOR_MODEL!$C$2:$C$100='RWIS Sensor (Desc)'!$F34)*([1]RWIS_SENSOR_MODEL!$D$2:$D$100='RWIS Sensor (Desc)'!$G34)*([1]RWIS_SENSOR_MODEL!$E$2:$E$100='RWIS Sensor (Code)'!$C34),0),0))","v":""},{"$f":"IF('RWIS Sensor (Desc)'!H34=\"\",\"\",'RWIS Sensor (Desc)'!H34)","v":""}]
[{"$f":"IF('RWIS Sensor (Desc)'!B35=\"\",\"\",\"2008\")","v":""},{"$f":"IF('RWIS Sensor (Desc)'!B35=\"\",\"\",'RWIS Sensor (Desc)'!B35)","v":""},{"$f":"IF('RWIS Sensor (Desc)'!D35=\"\",\"\",INDEX([1]RWIS_SENSOR_TYPE!$A$2:$A$100,MATCH('RWIS Sensor (Desc)'!$D35,[1]!MASTER_RWIS_SENSOR_TYPE_DESC[#Data],0),0))","v":""},{"$f":"IF('RWIS Sensor (Desc)'!E35=\"\",\"\",'RWIS Sensor (Desc)'!E35)","v":""},{"$f":"IF('RWIS Sensor (Desc)'!F35=\"\",\"\",INDEX([1]RWIS_SENSOR_MODEL!$B$2:$B$100,MATCH(1,([1]RWIS_SENSOR_MODEL!$C$2:$C$100='RWIS Sensor (Desc)'!$F35)*([1]RWIS_SENSOR_MODEL!$E$2:$E$100='RWIS Sensor (Code)'!$C35),0),0))","v":""},{"$f":"IF('RWIS Sensor (Desc)'!G35=\"\",\"\",INDEX([1]RWIS_SENSOR_MODEL!$A$2:$A$100,MATCH(1,([1]RWIS_SENSOR_MODEL!$C$2:$C$100='RWIS Sensor (Desc)'!$F35)*([1]RWIS_SENSOR_MODEL!$D$2:$D$100='RWIS Sensor (Desc)'!$G35)*([1]RWIS_SENSOR_MODEL!$E$2:$E$100='RWIS Sensor (Code)'!$C35),0),0))","v":""},{"$f":"IF('RWIS Sensor (Desc)'!H35=\"\",\"\",'RWIS Sensor (Desc)'!H35)","v":""}]
[{"$f":"IF('RWIS Sensor (Desc)'!B36=\"\",\"\",\"2008\")","v":""},{"$f":"IF('RWIS Sensor (Desc)'!B36=\"\",\"\",'RWIS Sensor (Desc)'!B36)","v":""},{"$f":"IF('RWIS Sensor (Desc)'!D36=\"\",\"\",INDEX([1]RWIS_SENSOR_TYPE!$A$2:$A$100,MATCH('RWIS Sensor (Desc)'!$D36,[1]!MASTER_RWIS_SENSOR_TYPE_DESC[#Data],0),0))","v":""},{"$f":"IF('RWIS Sensor (Desc)'!E36=\"\",\"\",'RWIS Sensor (Desc)'!E36)","v":""},{"$f":"IF('RWIS Sensor (Desc)'!F36=\"\",\"\",INDEX([1]RWIS_SENSOR_MODEL!$B$2:$B$100,MATCH(1,([1]RWIS_SENSOR_MODEL!$C$2:$C$100='RWIS Sensor (Desc)'!$F36)*([1]RWIS_SENSOR_MODEL!$E$2:$E$100='RWIS Sensor (Code)'!$C36),0),0))","v":""},{"$f":"IF('RWIS Sensor (Desc)'!G36=\"\",\"\",INDEX([1]RWIS_SENSOR_MODEL!$A$2:$A$100,MATCH(1,([1]RWIS_SENSOR_MODEL!$C$2:$C$100='RWIS Sensor (Desc)'!$F36)*([1]RWIS_SENSOR_MODEL!$D$2:$D$100='RWIS Sensor (Desc)'!$G36)*([1]RWIS_SENSOR_MODEL!$E$2:$E$100='RWIS Sensor (Code)'!$C36),0),0))","v":""},{"$f":"IF('RWIS Sensor (Desc)'!H36=\"\",\"\",'RWIS Sensor (Desc)'!H36)","v":""}]
[{"$f":"IF('RWIS Sensor (Desc)'!B37=\"\",\"\",\"2008\")","v":""},{"$f":"IF('RWIS Sensor (Desc)'!B37=\"\",\"\",'RWIS Sensor (Desc)'!B37)","v":""},{"$f":"IF('RWIS Sensor (Desc)'!D37=\"\",\"\",INDEX([1]RWIS_SENSOR_TYPE!$A$2:$A$100,MATCH('RWIS Sensor (Desc)'!$D37,[1]!MASTER_RWIS_SENSOR_TYPE_DESC[#Data],0),0))","v":""},{"$f":"IF('RWIS Sensor (Desc)'!E37=\"\",\"\",'RWIS Sensor (Desc)'!E37)","v":""},{"$f":"IF('RWIS Sensor (Desc)'!F37=\"\",\"\",INDEX([1]RWIS_SENSOR_MODEL!$B$2:$B$100,MATCH(1,([1]RWIS_SENSOR_MODEL!$C$2:$C$100='RWIS Sensor (Desc)'!$F37)*([1]RWIS_SENSOR_MODEL!$E$2:$E$100='RWIS Sensor (Code)'!$C37),0),0))","v":""},{"$f":"IF('RWIS Sensor (Desc)'!G37=\"\",\"\",INDEX([1]RWIS_SENSOR_MODEL!$A$2:$A$100,MATCH(1,([1]RWIS_SENSOR_MODEL!$C$2:$C$100='RWIS Sensor (Desc)'!$F37)*([1]RWIS_SENSOR_MODEL!$D$2:$D$100='RWIS Sensor (Desc)'!$G37)*([1]RWIS_SENSOR_MODEL!$E$2:$E$100='RWIS Sensor (Code)'!$C37),0),0))","v":""},{"$f":"IF('RWIS Sensor (Desc)'!H37=\"\",\"\",'RWIS Sensor (Desc)'!H37)","v":""}]
[{"$f":"IF('RWIS Sensor (Desc)'!B38=\"\",\"\",\"2008\")","v":""},{"$f":"IF('RWIS Sensor (Desc)'!B38=\"\",\"\",'RWIS Sensor (Desc)'!B38)","v":""},{"$f":"IF('RWIS Sensor (Desc)'!D38=\"\",\"\",INDEX([1]RWIS_SENSOR_TYPE!$A$2:$A$100,MATCH('RWIS Sensor (Desc)'!$D38,[1]!MASTER_RWIS_SENSOR_TYPE_DESC[#Data],0),0))","v":""},{"$f":"IF('RWIS Sensor (Desc)'!E38=\"\",\"\",'RWIS Sensor (Desc)'!E38)","v":""},{"$f":"IF('RWIS Sensor (Desc)'!F38=\"\",\"\",INDEX([1]RWIS_SENSOR_MODEL!$B$2:$B$100,MATCH(1,([1]RWIS_SENSOR_MODEL!$C$2:$C$100='RWIS Sensor (Desc)'!$F38)*([1]RWIS_SENSOR_MODEL!$E$2:$E$100='RWIS Sensor (Code)'!$C38),0),0))","v":""},{"$f":"IF('RWIS Sensor (Desc)'!G38=\"\",\"\",INDEX([1]RWIS_SENSOR_MODEL!$A$2:$A$100,MATCH(1,([1]RWIS_SENSOR_MODEL!$C$2:$C$100='RWIS Sensor (Desc)'!$F38)*([1]RWIS_SENSOR_MODEL!$D$2:$D$100='RWIS Sensor (Desc)'!$G38)*([1]RWIS_SENSOR_MODEL!$E$2:$E$100='RWIS Sensor (Code)'!$C38),0),0))","v":""},{"$f":"IF('RWIS Sensor (Desc)'!H38=\"\",\"\",'RWIS Sensor (Desc)'!H38)","v":""}]
[{"$f":"IF('RWIS Sensor (Desc)'!B39=\"\",\"\",\"2008\")","v":""},{"$f":"IF('RWIS Sensor (Desc)'!B39=\"\",\"\",'RWIS Sensor (Desc)'!B39)","v":""},{"$f":"IF('RWIS Sensor (Desc)'!D39=\"\",\"\",INDEX([1]RWIS_SENSOR_TYPE!$A$2:$A$100,MATCH('RWIS Sensor (Desc)'!$D39,[1]!MASTER_RWIS_SENSOR_TYPE_DESC[#Data],0),0))","v":""},{"$f":"IF('RWIS Sensor (Desc)'!E39=\"\",\"\",'RWIS Sensor (Desc)'!E39)","v":""},{"$f":"IF('RWIS Sensor (Desc)'!F39=\"\",\"\",INDEX([1]RWIS_SENSOR_MODEL!$B$2:$B$100,MATCH(1,([1]RWIS_SENSOR_MODEL!$C$2:$C$100='RWIS Sensor (Desc)'!$F39)*([1]RWIS_SENSOR_MODEL!$E$2:$E$100='RWIS Sensor (Code)'!$C39),0),0))","v":""},{"$f":"IF('RWIS Sensor (Desc)'!G39=\"\",\"\",INDEX([1]RWIS_SENSOR_MODEL!$A$2:$A$100,MATCH(1,([1]RWIS_SENSOR_MODEL!$C$2:$C$100='RWIS Sensor (Desc)'!$F39)*([1]RWIS_SENSOR_MODEL!$D$2:$D$100='RWIS Sensor (Desc)'!$G39)*([1]RWIS_SENSOR_MODEL!$E$2:$E$100='RWIS Sensor (Code)'!$C39),0),0))","v":""},{"$f":"IF('RWIS Sensor (Desc)'!H39=\"\",\"\",'RWIS Sensor (Desc)'!H39)","v":""}]
[{"$f":"IF('RWIS Sensor (Desc)'!B40=\"\",\"\",\"2008\")","v":""},{"$f":"IF('RWIS Sensor (Desc)'!B40=\"\",\"\",'RWIS Sensor (Desc)'!B40)","v":""},{"$f":"IF('RWIS Sensor (Desc)'!D40=\"\",\"\",INDEX([1]RWIS_SENSOR_TYPE!$A$2:$A$100,MATCH('RWIS Sensor (Desc)'!$D40,[1]!MASTER_RWIS_SENSOR_TYPE_DESC[#Data],0),0))","v":""},{"$f":"IF('RWIS Sensor (Desc)'!E40=\"\",\"\",'RWIS Sensor (Desc)'!E40)","v":""},{"$f":"IF('RWIS Sensor (Desc)'!F40=\"\",\"\",INDEX([1]RWIS_SENSOR_MODEL!$B$2:$B$100,MATCH(1,([1]RWIS_SENSOR_MODEL!$C$2:$C$100='RWIS Sensor (Desc)'!$F40)*([1]RWIS_SENSOR_MODEL!$E$2:$E$100='RWIS Sensor (Code)'!$C40),0),0))","v":""},{"$f":"IF('RWIS Sensor (Desc)'!G40=\"\",\"\",INDEX([1]RWIS_SENSOR_MODEL!$A$2:$A$100,MATCH(1,([1]RWIS_SENSOR_MODEL!$C$2:$C$100='RWIS Sensor (Desc)'!$F40)*([1]RWIS_SENSOR_MODEL!$D$2:$D$100='RWIS Sensor (Desc)'!$G40)*([1]RWIS_SENSOR_MODEL!$E$2:$E$100='RWIS Sensor (Code)'!$C40),0),0))","v":""},{"$f":"IF('RWIS Sensor (Desc)'!H40=\"\",\"\",'RWIS Sensor (Desc)'!H40)","v":""}]
[{"$f":"IF('RWIS Sensor (Desc)'!B41=\"\",\"\",\"2008\")","v":""},{"$f":"IF('RWIS Sensor (Desc)'!B41=\"\",\"\",'RWIS Sensor (Desc)'!B41)","v":""},{"$f":"IF('RWIS Sensor (Desc)'!D41=\"\",\"\",INDEX([1]RWIS_SENSOR_TYPE!$A$2:$A$100,MATCH('RWIS Sensor (Desc)'!$D41,[1]!MASTER_RWIS_SENSOR_TYPE_DESC[#Data],0),0))","v":""},{"$f":"IF('RWIS Sensor (Desc)'!E41=\"\",\"\",'RWIS Sensor (Desc)'!E41)","v":""},{"$f":"IF('RWIS Sensor (Desc)'!F41=\"\",\"\",INDEX([1]RWIS_SENSOR_MODEL!$B$2:$B$100,MATCH(1,([1]RWIS_SENSOR_MODEL!$C$2:$C$100='RWIS Sensor (Desc)'!$F41)*([1]RWIS_SENSOR_MODEL!$E$2:$E$100='RWIS Sensor (Code)'!$C41),0),0))","v":""},{"$f":"IF('RWIS Sensor (Desc)'!G41=\"\",\"\",INDEX([1]RWIS_SENSOR_MODEL!$A$2:$A$100,MATCH(1,([1]RWIS_SENSOR_MODEL!$C$2:$C$100='RWIS Sensor (Desc)'!$F41)*([1]RWIS_SENSOR_MODEL!$D$2:$D$100='RWIS Sensor (Desc)'!$G41)*([1]RWIS_SENSOR_MODEL!$E$2:$E$100='RWIS Sensor (Code)'!$C41),0),0))","v":""},{"$f":"IF('RWIS Sensor (Desc)'!H41=\"\",\"\",'RWIS Sensor (Desc)'!H41)","v":""}]
[{"$f":"IF('RWIS Sensor (Desc)'!B42=\"\",\"\",\"2008\")","v":""},{"$f":"IF('RWIS Sensor (Desc)'!B42=\"\",\"\",'RWIS Sensor (Desc)'!B42)","v":""},{"$f":"IF('RWIS Sensor (Desc)'!D42=\"\",\"\",INDEX([1]RWIS_SENSOR_TYPE!$A$2:$A$100,MATCH('RWIS Sensor (Desc)'!$D42,[1]!MASTER_RWIS_SENSOR_TYPE_DESC[#Data],0),0))","v":""},{"$f":"IF('RWIS Sensor (Desc)'!E42=\"\",\"\",'RWIS Sensor (Desc)'!E42)","v":""},{"$f":"IF('RWIS Sensor (Desc)'!F42=\"\",\"\",INDEX([1]RWIS_SENSOR_MODEL!$B$2:$B$100,MATCH(1,([1]RWIS_SENSOR_MODEL!$C$2:$C$100='RWIS Sensor (Desc)'!$F42)*([1]RWIS_SENSOR_MODEL!$E$2:$E$100='RWIS Sensor (Code)'!$C42),0),0))","v":""},{"$f":"IF('RWIS Sensor (Desc)'!G42=\"\",\"\",INDEX([1]RWIS_SENSOR_MODEL!$A$2:$A$100,MATCH(1,([1]RWIS_SENSOR_MODEL!$C$2:$C$100='RWIS Sensor (Desc)'!$F42)*([1]RWIS_SENSOR_MODEL!$D$2:$D$100='RWIS Sensor (Desc)'!$G42)*([1]RWIS_SENSOR_MODEL!$E$2:$E$100='RWIS Sensor (Code)'!$C42),0),0))","v":""},{"$f":"IF('RWIS Sensor (Desc)'!H42=\"\",\"\",'RWIS Sensor (Desc)'!H42)","v":""}]
[{"$f":"IF('RWIS Sensor (Desc)'!B43=\"\",\"\",\"2008\")","v":""},{"$f":"IF('RWIS Sensor (Desc)'!B43=\"\",\"\",'RWIS Sensor (Desc)'!B43)","v":""},{"$f":"IF('RWIS Sensor (Desc)'!D43=\"\",\"\",INDEX([1]RWIS_SENSOR_TYPE!$A$2:$A$100,MATCH('RWIS Sensor (Desc)'!$D43,[1]!MASTER_RWIS_SENSOR_TYPE_DESC[#Data],0),0))","v":""},{"$f":"IF('RWIS Sensor (Desc)'!E43=\"\",\"\",'RWIS Sensor (Desc)'!E43)","v":""},{"$f":"IF('RWIS Sensor (Desc)'!F43=\"\",\"\",INDEX([1]RWIS_SENSOR_MODEL!$B$2:$B$100,MATCH(1,([1]RWIS_SENSOR_MODEL!$C$2:$C$100='RWIS Sensor (Desc)'!$F43)*([1]RWIS_SENSOR_MODEL!$E$2:$E$100='RWIS Sensor (Code)'!$C43),0),0))","v":""},{"$f":"IF('RWIS Sensor (Desc)'!G43=\"\",\"\",INDEX([1]RWIS_SENSOR_MODEL!$A$2:$A$100,MATCH(1,([1]RWIS_SENSOR_MODEL!$C$2:$C$100='RWIS Sensor (Desc)'!$F43)*([1]RWIS_SENSOR_MODEL!$D$2:$D$100='RWIS Sensor (Desc)'!$G43)*([1]RWIS_SENSOR_MODEL!$E$2:$E$100='RWIS Sensor (Code)'!$C43),0),0))","v":""},{"$f":"IF('RWIS Sensor (Desc)'!H43=\"\",\"\",'RWIS Sensor (Desc)'!H43)","v":""}]
[{"$f":"IF('RWIS Sensor (Desc)'!B44=\"\",\"\",\"2008\")","v":""},{"$f":"IF('RWIS Sensor (Desc)'!B44=\"\",\"\",'RWIS Sensor (Desc)'!B44)","v":""},{"$f":"IF('RWIS Sensor (Desc)'!D44=\"\",\"\",INDEX([1]RWIS_SENSOR_TYPE!$A$2:$A$100,MATCH('RWIS Sensor (Desc)'!$D44,[1]!MASTER_RWIS_SENSOR_TYPE_DESC[#Data],0),0))","v":""},{"$f":"IF('RWIS Sensor (Desc)'!E44=\"\",\"\",'RWIS Sensor (Desc)'!E44)","v":""},{"$f":"IF('RWIS Sensor (Desc)'!F44=\"\",\"\",INDEX([1]RWIS_SENSOR_MODEL!$B$2:$B$100,MATCH(1,([1]RWIS_SENSOR_MODEL!$C$2:$C$100='RWIS Sensor (Desc)'!$F44)*([1]RWIS_SENSOR_MODEL!$E$2:$E$100='RWIS Sensor (Code)'!$C44),0),0))","v":""},{"$f":"IF('RWIS Sensor (Desc)'!G44=\"\",\"\",INDEX([1]RWIS_SENSOR_MODEL!$A$2:$A$100,MATCH(1,([1]RWIS_SENSOR_MODEL!$C$2:$C$100='RWIS Sensor (Desc)'!$F44)*([1]RWIS_SENSOR_MODEL!$D$2:$D$100='RWIS Sensor (Desc)'!$G44)*([1]RWIS_SENSOR_MODEL!$E$2:$E$100='RWIS Sensor (Code)'!$C44),0),0))","v":""},{"$f":"IF('RWIS Sensor (Desc)'!H44=\"\",\"\",'RWIS Sensor (Desc)'!H44)","v":""}]
[{"$f":"IF('RWIS Sensor (Desc)'!B45=\"\",\"\",\"2008\")","v":""},{"$f":"IF('RWIS Sensor (Desc)'!B45=\"\",\"\",'RWIS Sensor (Desc)'!B45)","v":""},{"$f":"IF('RWIS Sensor (Desc)'!D45=\"\",\"\",INDEX([1]RWIS_SENSOR_TYPE!$A$2:$A$100,MATCH('RWIS Sensor (Desc)'!$D45,[1]!MASTER_RWIS_SENSOR_TYPE_DESC[#Data],0),0))","v":""},{"$f":"IF('RWIS Sensor (Desc)'!E45=\"\",\"\",'RWIS Sensor (Desc)'!E45)","v":""},{"$f":"IF('RWIS Sensor (Desc)'!F45=\"\",\"\",INDEX([1]RWIS_SENSOR_MODEL!$B$2:$B$100,MATCH(1,([1]RWIS_SENSOR_MODEL!$C$2:$C$100='RWIS Sensor (Desc)'!$F45)*([1]RWIS_SENSOR_MODEL!$E$2:$E$100='RWIS Sensor (Code)'!$C45),0),0))","v":""},{"$f":"IF('RWIS Sensor (Desc)'!G45=\"\",\"\",INDEX([1]RWIS_SENSOR_MODEL!$A$2:$A$100,MATCH(1,([1]RWIS_SENSOR_MODEL!$C$2:$C$100='RWIS Sensor (Desc)'!$F45)*([1]RWIS_SENSOR_MODEL!$D$2:$D$100='RWIS Sensor (Desc)'!$G45)*([1]RWIS_SENSOR_MODEL!$E$2:$E$100='RWIS Sensor (Code)'!$C45),0),0))","v":""},{"$f":"IF('RWIS Sensor (Desc)'!H45=\"\",\"\",'RWIS Sensor (Desc)'!H45)","v":""}]
[{"$f":"IF('RWIS Sensor (Desc)'!B46=\"\",\"\",\"2008\")","v":""},{"$f":"IF('RWIS Sensor (Desc)'!B46=\"\",\"\",'RWIS Sensor (Desc)'!B46)","v":""},{"$f":"IF('RWIS Sensor (Desc)'!D46=\"\",\"\",INDEX([1]RWIS_SENSOR_TYPE!$A$2:$A$100,MATCH('RWIS Sensor (Desc)'!$D46,[1]!MASTER_RWIS_SENSOR_TYPE_DESC[#Data],0),0))","v":""},{"$f":"IF('RWIS Sensor (Desc)'!E46=\"\",\"\",'RWIS Sensor (Desc)'!E46)","v":""},{"$f":"IF('RWIS Sensor (Desc)'!F46=\"\",\"\",INDEX([1]RWIS_SENSOR_MODEL!$B$2:$B$100,MATCH(1,([1]RWIS_SENSOR_MODEL!$C$2:$C$100='RWIS Sensor (Desc)'!$F46)*([1]RWIS_SENSOR_MODEL!$E$2:$E$100='RWIS Sensor (Code)'!$C46),0),0))","v":""},{"$f":"IF('RWIS Sensor (Desc)'!G46=\"\",\"\",INDEX([1]RWIS_SENSOR_MODEL!$A$2:$A$100,MATCH(1,([1]RWIS_SENSOR_MODEL!$C$2:$C$100='RWIS Sensor (Desc)'!$F46)*([1]RWIS_SENSOR_MODEL!$D$2:$D$100='RWIS Sensor (Desc)'!$G46)*([1]RWIS_SENSOR_MODEL!$E$2:$E$100='RWIS Sensor (Code)'!$C46),0),0))","v":""},{"$f":"IF('RWIS Sensor (Desc)'!H46=\"\",\"\",'RWIS Sensor (Desc)'!H46)","v":""}]
[{"$f":"IF('RWIS Sensor (Desc)'!B47=\"\",\"\",\"2008\")","v":""},{"$f":"IF('RWIS Sensor (Desc)'!B47=\"\",\"\",'RWIS Sensor (Desc)'!B47)","v":""},{"$f":"IF('RWIS Sensor (Desc)'!D47=\"\",\"\",INDEX([1]RWIS_SENSOR_TYPE!$A$2:$A$100,MATCH('RWIS Sensor (Desc)'!$D47,[1]!MASTER_RWIS_SENSOR_TYPE_DESC[#Data],0),0))","v":""},{"$f":"IF('RWIS Sensor (Desc)'!E47=\"\",\"\",'RWIS Sensor (Desc)'!E47)","v":""},{"$f":"IF('RWIS Sensor (Desc)'!F47=\"\",\"\",INDEX([1]RWIS_SENSOR_MODEL!$B$2:$B$100,MATCH(1,([1]RWIS_SENSOR_MODEL!$C$2:$C$100='RWIS Sensor (Desc)'!$F47)*([1]RWIS_SENSOR_MODEL!$E$2:$E$100='RWIS Sensor (Code)'!$C47),0),0))","v":""},{"$f":"IF('RWIS Sensor (Desc)'!G47=\"\",\"\",INDEX([1]RWIS_SENSOR_MODEL!$A$2:$A$100,MATCH(1,([1]RWIS_SENSOR_MODEL!$C$2:$C$100='RWIS Sensor (Desc)'!$F47)*([1]RWIS_SENSOR_MODEL!$D$2:$D$100='RWIS Sensor (Desc)'!$G47)*([1]RWIS_SENSOR_MODEL!$E$2:$E$100='RWIS Sensor (Code)'!$C47),0),0))","v":""},{"$f":"IF('RWIS Sensor (Desc)'!H47=\"\",\"\",'RWIS Sensor (Desc)'!H47)","v":""}]
[{"$f":"IF('RWIS Sensor (Desc)'!B48=\"\",\"\",\"2008\")","v":""},{"$f":"IF('RWIS Sensor (Desc)'!B48=\"\",\"\",'RWIS Sensor (Desc)'!B48)","v":""},{"$f":"IF('RWIS Sensor (Desc)'!D48=\"\",\"\",INDEX([1]RWIS_SENSOR_TYPE!$A$2:$A$100,MATCH('RWIS Sensor (Desc)'!$D48,[1]!MASTER_RWIS_SENSOR_TYPE_DESC[#Data],0),0))","v":""},{"$f":"IF('RWIS Sensor (Desc)'!E48=\"\",\"\",'RWIS Sensor (Desc)'!E48)","v":""},{"$f":"IF('RWIS Sensor (Desc)'!F48=\"\",\"\",INDEX([1]RWIS_SENSOR_MODEL!$B$2:$B$100,MATCH(1,([1]RWIS_SENSOR_MODEL!$C$2:$C$100='RWIS Sensor (Desc)'!$F48)*([1]RWIS_SENSOR_MODEL!$E$2:$E$100='RWIS Sensor (Code)'!$C48),0),0))","v":""},{"$f":"IF('RWIS Sensor (Desc)'!G48=\"\",\"\",INDEX([1]RWIS_SENSOR_MODEL!$A$2:$A$100,MATCH(1,([1]RWIS_SENSOR_MODEL!$C$2:$C$100='RWIS Sensor (Desc)'!$F48)*([1]RWIS_SENSOR_MODEL!$D$2:$D$100='RWIS Sensor (Desc)'!$G48)*([1]RWIS_SENSOR_MODEL!$E$2:$E$100='RWIS Sensor (Code)'!$C48),0),0))","v":""},{"$f":"IF('RWIS Sensor (Desc)'!H48=\"\",\"\",'RWIS Sensor (Desc)'!H48)","v":""}]
[{"$f":"IF('RWIS Sensor (Desc)'!B49=\"\",\"\",\"2008\")","v":""},{"$f":"IF('RWIS Sensor (Desc)'!B49=\"\",\"\",'RWIS Sensor (Desc)'!B49)","v":""},{"$f":"IF('RWIS Sensor (Desc)'!D49=\"\",\"\",INDEX([1]RWIS_SENSOR_TYPE!$A$2:$A$100,MATCH('RWIS Sensor (Desc)'!$D49,[1]!MASTER_RWIS_SENSOR_TYPE_DESC[#Data],0),0))","v":""},{"$f":"IF('RWIS Sensor (Desc)'!E49=\"\",\"\",'RWIS Sensor (Desc)'!E49)","v":""},{"$f":"IF('RWIS Sensor (Desc)'!F49=\"\",\"\",INDEX([1]RWIS_SENSOR_MODEL!$B$2:$B$100,MATCH(1,([1]RWIS_SENSOR_MODEL!$C$2:$C$100='RWIS Sensor (Desc)'!$F49)*([1]RWIS_SENSOR_MODEL!$E$2:$E$100='RWIS Sensor (Code)'!$C49),0),0))","v":""},{"$f":"IF('RWIS Sensor (Desc)'!G49=\"\",\"\",INDEX([1]RWIS_SENSOR_MODEL!$A$2:$A$100,MATCH(1,([1]RWIS_SENSOR_MODEL!$C$2:$C$100='RWIS Sensor (Desc)'!$F49)*([1]RWIS_SENSOR_MODEL!$D$2:$D$100='RWIS Sensor (Desc)'!$G49)*([1]RWIS_SENSOR_MODEL!$E$2:$E$100='RWIS Sensor (Code)'!$C49),0),0))","v":""},{"$f":"IF('RWIS Sensor (Desc)'!H49=\"\",\"\",'RWIS Sensor (Desc)'!H49)","v":""}]
[{"$f":"IF('RWIS Sensor (Desc)'!B50=\"\",\"\",\"2008\")","v":""},{"$f":"IF('RWIS Sensor (Desc)'!B50=\"\",\"\",'RWIS Sensor (Desc)'!B50)","v":""},{"$f":"IF('RWIS Sensor (Desc)'!D50=\"\",\"\",INDEX([1]RWIS_SENSOR_TYPE!$A$2:$A$100,MATCH('RWIS Sensor (Desc)'!$D50,[1]!MASTER_RWIS_SENSOR_TYPE_DESC[#Data],0),0))","v":""},{"$f":"IF('RWIS Sensor (Desc)'!E50=\"\",\"\",'RWIS Sensor (Desc)'!E50)","v":""},{"$f":"IF('RWIS Sensor (Desc)'!F50=\"\",\"\",INDEX([1]RWIS_SENSOR_MODEL!$B$2:$B$100,MATCH(1,([1]RWIS_SENSOR_MODEL!$C$2:$C$100='RWIS Sensor (Desc)'!$F50)*([1]RWIS_SENSOR_MODEL!$E$2:$E$100='RWIS Sensor (Code)'!$C50),0),0))","v":""},{"$f":"IF('RWIS Sensor (Desc)'!G50=\"\",\"\",INDEX([1]RWIS_SENSOR_MODEL!$A$2:$A$100,MATCH(1,([1]RWIS_SENSOR_MODEL!$C$2:$C$100='RWIS Sensor (Desc)'!$F50)*([1]RWIS_SENSOR_MODEL!$D$2:$D$100='RWIS Sensor (Desc)'!$G50)*([1]RWIS_SENSOR_MODEL!$E$2:$E$100='RWIS Sensor (Code)'!$C50),0),0))","v":""},{"$f":"IF('RWIS Sensor (Desc)'!H50=\"\",\"\",'RWIS Sensor (Desc)'!H50)","v":""}]
[{"$f":"IF('RWIS Sensor (Desc)'!B51=\"\",\"\",\"2008\")","v":""},{"$f":"IF('RWIS Sensor (Desc)'!B51=\"\",\"\",'RWIS Sensor (Desc)'!B51)","v":""},{"$f":"IF('RWIS Sensor (Desc)'!D51=\"\",\"\",INDEX([1]RWIS_SENSOR_TYPE!$A$2:$A$100,MATCH('RWIS Sensor (Desc)'!$D51,[1]!MASTER_RWIS_SENSOR_TYPE_DESC[#Data],0),0))","v":""},{"$f":"IF('RWIS Sensor (Desc)'!E51=\"\",\"\",'RWIS Sensor (Desc)'!E51)","v":""},{"$f":"IF('RWIS Sensor (Desc)'!F51=\"\",\"\",INDEX([1]RWIS_SENSOR_MODEL!$B$2:$B$100,MATCH(1,([1]RWIS_SENSOR_MODEL!$C$2:$C$100='RWIS Sensor (Desc)'!$F51)*([1]RWIS_SENSOR_MODEL!$E$2:$E$100='RWIS Sensor (Code)'!$C51),0),0))","v":""},{"$f":"IF('RWIS Sensor (Desc)'!G51=\"\",\"\",INDEX([1]RWIS_SENSOR_MODEL!$A$2:$A$100,MATCH(1,([1]RWIS_SENSOR_MODEL!$C$2:$C$100='RWIS Sensor (Desc)'!$F51)*([1]RWIS_SENSOR_MODEL!$D$2:$D$100='RWIS Sensor (Desc)'!$G51)*([1]RWIS_SENSOR_MODEL!$E$2:$E$100='RWIS Sensor (Code)'!$C51),0),0))","v":""},{"$f":"IF('RWIS Sensor (Desc)'!H51=\"\",\"\",'RWIS Sensor (Desc)'!H51)","v":""}]
[{"$f":"IF('RWIS Sensor (Desc)'!B52=\"\",\"\",\"2008\")","v":""},{"$f":"IF('RWIS Sensor (Desc)'!B52=\"\",\"\",'RWIS Sensor (Desc)'!B52)","v":""},{"$f":"IF('RWIS Sensor (Desc)'!D52=\"\",\"\",INDEX([1]RWIS_SENSOR_TYPE!$A$2:$A$100,MATCH('RWIS Sensor (Desc)'!$D52,[1]!MASTER_RWIS_SENSOR_TYPE_DESC[#Data],0),0))","v":""},{"$f":"IF('RWIS Sensor (Desc)'!E52=\"\",\"\",'RWIS Sensor (Desc)'!E52)","v":""},{"$f":"IF('RWIS Sensor (Desc)'!F52=\"\",\"\",INDEX([1]RWIS_SENSOR_MODEL!$B$2:$B$100,MATCH(1,([1]RWIS_SENSOR_MODEL!$C$2:$C$100='RWIS Sensor (Desc)'!$F52)*([1]RWIS_SENSOR_MODEL!$E$2:$E$100='RWIS Sensor (Code)'!$C52),0),0))","v":""},{"$f":"IF('RWIS Sensor (Desc)'!G52=\"\",\"\",INDEX([1]RWIS_SENSOR_MODEL!$A$2:$A$100,MATCH(1,([1]RWIS_SENSOR_MODEL!$C$2:$C$100='RWIS Sensor (Desc)'!$F52)*([1]RWIS_SENSOR_MODEL!$D$2:$D$100='RWIS Sensor (Desc)'!$G52)*([1]RWIS_SENSOR_MODEL!$E$2:$E$100='RWIS Sensor (Code)'!$C52),0),0))","v":""},{"$f":"IF('RWIS Sensor (Desc)'!H52=\"\",\"\",'RWIS Sensor (Desc)'!H52)","v":""}]
[{"$f":"IF('RWIS Sensor (Desc)'!B53=\"\",\"\",\"2008\")","v":""},{"$f":"IF('RWIS Sensor (Desc)'!B53=\"\",\"\",'RWIS Sensor (Desc)'!B53)","v":""},{"$f":"IF('RWIS Sensor (Desc)'!D53=\"\",\"\",INDEX([1]RWIS_SENSOR_TYPE!$A$2:$A$100,MATCH('RWIS Sensor (Desc)'!$D53,[1]!MASTER_RWIS_SENSOR_TYPE_DESC[#Data],0),0))","v":""},{"$f":"IF('RWIS Sensor (Desc)'!E53=\"\",\"\",'RWIS Sensor (Desc)'!E53)","v":""},{"$f":"IF('RWIS Sensor (Desc)'!F53=\"\",\"\",INDEX([1]RWIS_SENSOR_MODEL!$B$2:$B$100,MATCH(1,([1]RWIS_SENSOR_MODEL!$C$2:$C$100='RWIS Sensor (Desc)'!$F53)*([1]RWIS_SENSOR_MODEL!$E$2:$E$100='RWIS Sensor (Code)'!$C53),0),0))","v":""},{"$f":"IF('RWIS Sensor (Desc)'!G53=\"\",\"\",INDEX([1]RWIS_SENSOR_MODEL!$A$2:$A$100,MATCH(1,([1]RWIS_SENSOR_MODEL!$C$2:$C$100='RWIS Sensor (Desc)'!$F53)*([1]RWIS_SENSOR_MODEL!$D$2:$D$100='RWIS Sensor (Desc)'!$G53)*([1]RWIS_SENSOR_MODEL!$E$2:$E$100='RWIS Sensor (Code)'!$C53),0),0))","v":""},{"$f":"IF('RWIS Sensor (Desc)'!H53=\"\",\"\",'RWIS Sensor (Desc)'!H53)","v":""}]
[{"$f":"IF('RWIS Sensor (Desc)'!B54=\"\",\"\",\"2008\")","v":""},{"$f":"IF('RWIS Sensor (Desc)'!B54=\"\",\"\",'RWIS Sensor (Desc)'!B54)","v":""},{"$f":"IF('RWIS Sensor (Desc)'!D54=\"\",\"\",INDEX([1]RWIS_SENSOR_TYPE!$A$2:$A$100,MATCH('RWIS Sensor (Desc)'!$D54,[1]!MASTER_RWIS_SENSOR_TYPE_DESC[#Data],0),0))","v":""},{"$f":"IF('RWIS Sensor (Desc)'!E54=\"\",\"\",'RWIS Sensor (Desc)'!E54)","v":""},{"$f":"IF('RWIS Sensor (Desc)'!F54=\"\",\"\",INDEX([1]RWIS_SENSOR_MODEL!$B$2:$B$100,MATCH(1,([1]RWIS_SENSOR_MODEL!$C$2:$C$100='RWIS Sensor (Desc)'!$F54)*([1]RWIS_SENSOR_MODEL!$E$2:$E$100='RWIS Sensor (Code)'!$C54),0),0))","v":""},{"$f":"IF('RWIS Sensor (Desc)'!G54=\"\",\"\",INDEX([1]RWIS_SENSOR_MODEL!$A$2:$A$100,MATCH(1,([1]RWIS_SENSOR_MODEL!$C$2:$C$100='RWIS Sensor (Desc)'!$F54)*([1]RWIS_SENSOR_MODEL!$D$2:$D$100='RWIS Sensor (Desc)'!$G54)*([1]RWIS_SENSOR_MODEL!$E$2:$E$100='RWIS Sensor (Code)'!$C54),0),0))","v":""},{"$f":"IF('RWIS Sensor (Desc)'!H54=\"\",\"\",'RWIS Sensor (Desc)'!H54)","v":""}]
[{"$f":"IF('RWIS Sensor (Desc)'!B55=\"\",\"\",\"2008\")","v":""},{"$f":"IF('RWIS Sensor (Desc)'!B55=\"\",\"\",'RWIS Sensor (Desc)'!B55)","v":""},{"$f":"IF('RWIS Sensor (Desc)'!D55=\"\",\"\",INDEX([1]RWIS_SENSOR_TYPE!$A$2:$A$100,MATCH('RWIS Sensor (Desc)'!$D55,[1]!MASTER_RWIS_SENSOR_TYPE_DESC[#Data],0),0))","v":""},{"$f":"IF('RWIS Sensor (Desc)'!E55=\"\",\"\",'RWIS Sensor (Desc)'!E55)","v":""},{"$f":"IF('RWIS Sensor (Desc)'!F55=\"\",\"\",INDEX([1]RWIS_SENSOR_MODEL!$B$2:$B$100,MATCH(1,([1]RWIS_SENSOR_MODEL!$C$2:$C$100='RWIS Sensor (Desc)'!$F55)*([1]RWIS_SENSOR_MODEL!$E$2:$E$100='RWIS Sensor (Code)'!$C55),0),0))","v":""},{"$f":"IF('RWIS Sensor (Desc)'!G55=\"\",\"\",INDEX([1]RWIS_SENSOR_MODEL!$A$2:$A$100,MATCH(1,([1]RWIS_SENSOR_MODEL!$C$2:$C$100='RWIS Sensor (Desc)'!$F55)*([1]RWIS_SENSOR_MODEL!$D$2:$D$100='RWIS Sensor (Desc)'!$G55)*([1]RWIS_SENSOR_MODEL!$E$2:$E$100='RWIS Sensor (Code)'!$C55),0),0))","v":""},{"$f":"IF('RWIS Sensor (Desc)'!H55=\"\",\"\",'RWIS Sensor (Desc)'!H55)","v":""}]
[{"$f":"IF('RWIS Sensor (Desc)'!B56=\"\",\"\",\"2008\")","v":""},{"$f":"IF('RWIS Sensor (Desc)'!B56=\"\",\"\",'RWIS Sensor (Desc)'!B56)","v":""},{"$f":"IF('RWIS Sensor (Desc)'!D56=\"\",\"\",INDEX([1]RWIS_SENSOR_TYPE!$A$2:$A$100,MATCH('RWIS Sensor (Desc)'!$D56,[1]!MASTER_RWIS_SENSOR_TYPE_DESC[#Data],0),0))","v":""},{"$f":"IF('RWIS Sensor (Desc)'!E56=\"\",\"\",'RWIS Sensor (Desc)'!E56)","v":""},{"$f":"IF('RWIS Sensor (Desc)'!F56=\"\",\"\",INDEX([1]RWIS_SENSOR_MODEL!$B$2:$B$100,MATCH(1,([1]RWIS_SENSOR_MODEL!$C$2:$C$100='RWIS Sensor (Desc)'!$F56)*([1]RWIS_SENSOR_MODEL!$E$2:$E$100='RWIS Sensor (Code)'!$C56),0),0))","v":""},{"$f":"IF('RWIS Sensor (Desc)'!G56=\"\",\"\",INDEX([1]RWIS_SENSOR_MODEL!$A$2:$A$100,MATCH(1,([1]RWIS_SENSOR_MODEL!$C$2:$C$100='RWIS Sensor (Desc)'!$F56)*([1]RWIS_SENSOR_MODEL!$D$2:$D$100='RWIS Sensor (Desc)'!$G56)*([1]RWIS_SENSOR_MODEL!$E$2:$E$100='RWIS Sensor (Code)'!$C56),0),0))","v":""},{"$f":"IF('RWIS Sensor (Desc)'!H56=\"\",\"\",'RWIS Sensor (Desc)'!H56)","v":""}]
[{"$f":"IF('RWIS Sensor (Desc)'!B57=\"\",\"\",\"2008\")","v":""},{"$f":"IF('RWIS Sensor (Desc)'!B57=\"\",\"\",'RWIS Sensor (Desc)'!B57)","v":""},{"$f":"IF('RWIS Sensor (Desc)'!D57=\"\",\"\",INDEX([1]RWIS_SENSOR_TYPE!$A$2:$A$100,MATCH('RWIS Sensor (Desc)'!$D57,[1]!MASTER_RWIS_SENSOR_TYPE_DESC[#Data],0),0))","v":""},{"$f":"IF('RWIS Sensor (Desc)'!E57=\"\",\"\",'RWIS Sensor (Desc)'!E57)","v":""},{"$f":"IF('RWIS Sensor (Desc)'!F57=\"\",\"\",INDEX([1]RWIS_SENSOR_MODEL!$B$2:$B$100,MATCH(1,([1]RWIS_SENSOR_MODEL!$C$2:$C$100='RWIS Sensor (Desc)'!$F57)*([1]RWIS_SENSOR_MODEL!$E$2:$E$100='RWIS Sensor (Code)'!$C57),0),0))","v":""},{"$f":"IF('RWIS Sensor (Desc)'!G57=\"\",\"\",INDEX([1]RWIS_SENSOR_MODEL!$A$2:$A$100,MATCH(1,([1]RWIS_SENSOR_MODEL!$C$2:$C$100='RWIS Sensor (Desc)'!$F57)*([1]RWIS_SENSOR_MODEL!$D$2:$D$100='RWIS Sensor (Desc)'!$G57)*([1]RWIS_SENSOR_MODEL!$E$2:$E$100='RWIS Sensor (Code)'!$C57),0),0))","v":""},{"$f":"IF('RWIS Sensor (Desc)'!H57=\"\",\"\",'RWIS Sensor (Desc)'!H57)","v":""}]
[{"$f":"IF('RWIS Sensor (Desc)'!B58=\"\",\"\",\"2008\")","v":""},{"$f":"IF('RWIS Sensor (Desc)'!B58=\"\",\"\",'RWIS Sensor (Desc)'!B58)","v":""},{"$f":"IF('RWIS Sensor (Desc)'!D58=\"\",\"\",INDEX([1]RWIS_SENSOR_TYPE!$A$2:$A$100,MATCH('RWIS Sensor (Desc)'!$D58,[1]!MASTER_RWIS_SENSOR_TYPE_DESC[#Data],0),0))","v":""},{"$f":"IF('RWIS Sensor (Desc)'!E58=\"\",\"\",'RWIS Sensor (Desc)'!E58)","v":""},{"$f":"IF('RWIS Sensor (Desc)'!F58=\"\",\"\",INDEX([1]RWIS_SENSOR_MODEL!$B$2:$B$100,MATCH(1,([1]RWIS_SENSOR_MODEL!$C$2:$C$100='RWIS Sensor (Desc)'!$F58)*([1]RWIS_SENSOR_MODEL!$E$2:$E$100='RWIS Sensor (Code)'!$C58),0),0))","v":""},{"$f":"IF('RWIS Sensor (Desc)'!G58=\"\",\"\",INDEX([1]RWIS_SENSOR_MODEL!$A$2:$A$100,MATCH(1,([1]RWIS_SENSOR_MODEL!$C$2:$C$100='RWIS Sensor (Desc)'!$F58)*([1]RWIS_SENSOR_MODEL!$D$2:$D$100='RWIS Sensor (Desc)'!$G58)*([1]RWIS_SENSOR_MODEL!$E$2:$E$100='RWIS Sensor (Code)'!$C58),0),0))","v":""},{"$f":"IF('RWIS Sensor (Desc)'!H58=\"\",\"\",'RWIS Sensor (Desc)'!H58)","v":""}]
[{"$f":"IF('RWIS Sensor (Desc)'!B59=\"\",\"\",\"2008\")","v":""},{"$f":"IF('RWIS Sensor (Desc)'!B59=\"\",\"\",'RWIS Sensor (Desc)'!B59)","v":""},{"$f":"IF('RWIS Sensor (Desc)'!D59=\"\",\"\",INDEX([1]RWIS_SENSOR_TYPE!$A$2:$A$100,MATCH('RWIS Sensor (Desc)'!$D59,[1]!MASTER_RWIS_SENSOR_TYPE_DESC[#Data],0),0))","v":""},{"$f":"IF('RWIS Sensor (Desc)'!E59=\"\",\"\",'RWIS Sensor (Desc)'!E59)","v":""},{"$f":"IF('RWIS Sensor (Desc)'!F59=\"\",\"\",INDEX([1]RWIS_SENSOR_MODEL!$B$2:$B$100,MATCH(1,([1]RWIS_SENSOR_MODEL!$C$2:$C$100='RWIS Sensor (Desc)'!$F59)*([1]RWIS_SENSOR_MODEL!$E$2:$E$100='RWIS Sensor (Code)'!$C59),0),0))","v":""},{"$f":"IF('RWIS Sensor (Desc)'!G59=\"\",\"\",INDEX([1]RWIS_SENSOR_MODEL!$A$2:$A$100,MATCH(1,([1]RWIS_SENSOR_MODEL!$C$2:$C$100='RWIS Sensor (Desc)'!$F59)*([1]RWIS_SENSOR_MODEL!$D$2:$D$100='RWIS Sensor (Desc)'!$G59)*([1]RWIS_SENSOR_MODEL!$E$2:$E$100='RWIS Sensor (Code)'!$C59),0),0))","v":""},{"$f":"IF('RWIS Sensor (Desc)'!H59=\"\",\"\",'RWIS Sensor (Desc)'!H59)","v":""}]
[{"$f":"IF('RWIS Sensor (Desc)'!B60=\"\",\"\",\"2008\")","v":""},{"$f":"IF('RWIS Sensor (Desc)'!B60=\"\",\"\",'RWIS Sensor (Desc)'!B60)","v":""},{"$f":"IF('RWIS Sensor (Desc)'!D60=\"\",\"\",INDEX([1]RWIS_SENSOR_TYPE!$A$2:$A$100,MATCH('RWIS Sensor (Desc)'!$D60,[1]!MASTER_RWIS_SENSOR_TYPE_DESC[#Data],0),0))","v":""},{"$f":"IF('RWIS Sensor (Desc)'!E60=\"\",\"\",'RWIS Sensor (Desc)'!E60)","v":""},{"$f":"IF('RWIS Sensor (Desc)'!F60=\"\",\"\",INDEX([1]RWIS_SENSOR_MODEL!$B$2:$B$100,MATCH(1,([1]RWIS_SENSOR_MODEL!$C$2:$C$100='RWIS Sensor (Desc)'!$F60)*([1]RWIS_SENSOR_MODEL!$E$2:$E$100='RWIS Sensor (Code)'!$C60),0),0))","v":""},{"$f":"IF('RWIS Sensor (Desc)'!G60=\"\",\"\",INDEX([1]RWIS_SENSOR_MODEL!$A$2:$A$100,MATCH(1,([1]RWIS_SENSOR_MODEL!$C$2:$C$100='RWIS Sensor (Desc)'!$F60)*([1]RWIS_SENSOR_MODEL!$D$2:$D$100='RWIS Sensor (Desc)'!$G60)*([1]RWIS_SENSOR_MODEL!$E$2:$E$100='RWIS Sensor (Code)'!$C60),0),0))","v":""},{"$f":"IF('RWIS Sensor (Desc)'!H60=\"\",\"\",'RWIS Sensor (Desc)'!H60)","v":""}]
[{"$f":"IF('RWIS Sensor (Desc)'!B61=\"\",\"\",\"2008\")","v":""},{"$f":"IF('RWIS Sensor (Desc)'!B61=\"\",\"\",'RWIS Sensor (Desc)'!B61)","v":""},{"$f":"IF('RWIS Sensor (Desc)'!D61=\"\",\"\",INDEX([1]RWIS_SENSOR_TYPE!$A$2:$A$100,MATCH('RWIS Sensor (Desc)'!$D61,[1]!MASTER_RWIS_SENSOR_TYPE_DESC[#Data],0),0))","v":""},{"$f":"IF('RWIS Sensor (Desc)'!E61=\"\",\"\",'RWIS Sensor (Desc)'!E61)","v":""},{"$f":"IF('RWIS Sensor (Desc)'!F61=\"\",\"\",INDEX([1]RWIS_SENSOR_MODEL!$B$2:$B$100,MATCH(1,([1]RWIS_SENSOR_MODEL!$C$2:$C$100='RWIS Sensor (Desc)'!$F61)*([1]RWIS_SENSOR_MODEL!$E$2:$E$100='RWIS Sensor (Code)'!$C61),0),0))","v":""},{"$f":"IF('RWIS Sensor (Desc)'!G61=\"\",\"\",INDEX([1]RWIS_SENSOR_MODEL!$A$2:$A$100,MATCH(1,([1]RWIS_SENSOR_MODEL!$C$2:$C$100='RWIS Sensor (Desc)'!$F61)*([1]RWIS_SENSOR_MODEL!$D$2:$D$100='RWIS Sensor (Desc)'!$G61)*([1]RWIS_SENSOR_MODEL!$E$2:$E$100='RWIS Sensor (Code)'!$C61),0),0))","v":""},{"$f":"IF('RWIS Sensor (Desc)'!H61=\"\",\"\",'RWIS Sensor (Desc)'!H61)","v":""}]
[{"$f":"IF('RWIS Sensor (Desc)'!B62=\"\",\"\",\"2008\")","v":""},{"$f":"IF('RWIS Sensor (Desc)'!B62=\"\",\"\",'RWIS Sensor (Desc)'!B62)","v":""},{"$f":"IF('RWIS Sensor (Desc)'!D62=\"\",\"\",INDEX([1]RWIS_SENSOR_TYPE!$A$2:$A$100,MATCH('RWIS Sensor (Desc)'!$D62,[1]!MASTER_RWIS_SENSOR_TYPE_DESC[#Data],0),0))","v":""},{"$f":"IF('RWIS Sensor (Desc)'!E62=\"\",\"\",'RWIS Sensor (Desc)'!E62)","v":""},{"$f":"IF('RWIS Sensor (Desc)'!F62=\"\",\"\",INDEX([1]RWIS_SENSOR_MODEL!$B$2:$B$100,MATCH(1,([1]RWIS_SENSOR_MODEL!$C$2:$C$100='RWIS Sensor (Desc)'!$F62)*([1]RWIS_SENSOR_MODEL!$E$2:$E$100='RWIS Sensor (Code)'!$C62),0),0))","v":""},{"$f":"IF('RWIS Sensor (Desc)'!G62=\"\",\"\",INDEX([1]RWIS_SENSOR_MODEL!$A$2:$A$100,MATCH(1,([1]RWIS_SENSOR_MODEL!$C$2:$C$100='RWIS Sensor (Desc)'!$F62)*([1]RWIS_SENSOR_MODEL!$D$2:$D$100='RWIS Sensor (Desc)'!$G62)*([1]RWIS_SENSOR_MODEL!$E$2:$E$100='RWIS Sensor (Code)'!$C62),0),0))","v":""},{"$f":"IF('RWIS Sensor (Desc)'!H62=\"\",\"\",'RWIS Sensor (Desc)'!H62)","v":""}]
[{"$f":"IF('RWIS Sensor (Desc)'!B63=\"\",\"\",\"2008\")","v":""},{"$f":"IF('RWIS Sensor (Desc)'!B63=\"\",\"\",'RWIS Sensor (Desc)'!B63)","v":""},{"$f":"IF('RWIS Sensor (Desc)'!D63=\"\",\"\",INDEX([1]RWIS_SENSOR_TYPE!$A$2:$A$100,MATCH('RWIS Sensor (Desc)'!$D63,[1]!MASTER_RWIS_SENSOR_TYPE_DESC[#Data],0),0))","v":""},{"$f":"IF('RWIS Sensor (Desc)'!E63=\"\",\"\",'RWIS Sensor (Desc)'!E63)","v":""},{"$f":"IF('RWIS Sensor (Desc)'!F63=\"\",\"\",INDEX([1]RWIS_SENSOR_MODEL!$B$2:$B$100,MATCH(1,([1]RWIS_SENSOR_MODEL!$C$2:$C$100='RWIS Sensor (Desc)'!$F63)*([1]RWIS_SENSOR_MODEL!$E$2:$E$100='RWIS Sensor (Code)'!$C63),0),0))","v":""},{"$f":"IF('RWIS Sensor (Desc)'!G63=\"\",\"\",INDEX([1]RWIS_SENSOR_MODEL!$A$2:$A$100,MATCH(1,([1]RWIS_SENSOR_MODEL!$C$2:$C$100='RWIS Sensor (Desc)'!$F63)*([1]RWIS_SENSOR_MODEL!$D$2:$D$100='RWIS Sensor (Desc)'!$G63)*([1]RWIS_SENSOR_MODEL!$E$2:$E$100='RWIS Sensor (Code)'!$C63),0),0))","v":""},{"$f":"IF('RWIS Sensor (Desc)'!H63=\"\",\"\",'RWIS Sensor (Desc)'!H63)","v":""}]
[{"$f":"IF('RWIS Sensor (Desc)'!B64=\"\",\"\",\"2008\")","v":""},{"$f":"IF('RWIS Sensor (Desc)'!B64=\"\",\"\",'RWIS Sensor (Desc)'!B64)","v":""},{"$f":"IF('RWIS Sensor (Desc)'!D64=\"\",\"\",INDEX([1]RWIS_SENSOR_TYPE!$A$2:$A$100,MATCH('RWIS Sensor (Desc)'!$D64,[1]!MASTER_RWIS_SENSOR_TYPE_DESC[#Data],0),0))","v":""},{"$f":"IF('RWIS Sensor (Desc)'!E64=\"\",\"\",'RWIS Sensor (Desc)'!E64)","v":""},{"$f":"IF('RWIS Sensor (Desc)'!F64=\"\",\"\",INDEX([1]RWIS_SENSOR_MODEL!$B$2:$B$100,MATCH(1,([1]RWIS_SENSOR_MODEL!$C$2:$C$100='RWIS Sensor (Desc)'!$F64)*([1]RWIS_SENSOR_MODEL!$E$2:$E$100='RWIS Sensor (Code)'!$C64),0),0))","v":""},{"$f":"IF('RWIS Sensor (Desc)'!G64=\"\",\"\",INDEX([1]RWIS_SENSOR_MODEL!$A$2:$A$100,MATCH(1,([1]RWIS_SENSOR_MODEL!$C$2:$C$100='RWIS Sensor (Desc)'!$F64)*([1]RWIS_SENSOR_MODEL!$D$2:$D$100='RWIS Sensor (Desc)'!$G64)*([1]RWIS_SENSOR_MODEL!$E$2:$E$100='RWIS Sensor (Code)'!$C64),0),0))","v":""},{"$f":"IF('RWIS Sensor (Desc)'!H64=\"\",\"\",'RWIS Sensor (Desc)'!H64)","v":""}]
[{"$f":"IF('RWIS Sensor (Desc)'!B65=\"\",\"\",\"2008\")","v":""},{"$f":"IF('RWIS Sensor (Desc)'!B65=\"\",\"\",'RWIS Sensor (Desc)'!B65)","v":""},{"$f":"IF('RWIS Sensor (Desc)'!D65=\"\",\"\",INDEX([1]RWIS_SENSOR_TYPE!$A$2:$A$100,MATCH('RWIS Sensor (Desc)'!$D65,[1]!MASTER_RWIS_SENSOR_TYPE_DESC[#Data],0),0))","v":""},{"$f":"IF('RWIS Sensor (Desc)'!E65=\"\",\"\",'RWIS Sensor (Desc)'!E65)","v":""},{"$f":"IF('RWIS Sensor (Desc)'!F65=\"\",\"\",INDEX([1]RWIS_SENSOR_MODEL!$B$2:$B$100,MATCH(1,([1]RWIS_SENSOR_MODEL!$C$2:$C$100='RWIS Sensor (Desc)'!$F65)*([1]RWIS_SENSOR_MODEL!$E$2:$E$100='RWIS Sensor (Code)'!$C65),0),0))","v":""},{"$f":"IF('RWIS Sensor (Desc)'!G65=\"\",\"\",INDEX([1]RWIS_SENSOR_MODEL!$A$2:$A$100,MATCH(1,([1]RWIS_SENSOR_MODEL!$C$2:$C$100='RWIS Sensor (Desc)'!$F65)*([1]RWIS_SENSOR_MODEL!$D$2:$D$100='RWIS Sensor (Desc)'!$G65)*([1]RWIS_SENSOR_MODEL!$E$2:$E$100='RWIS Sensor (Code)'!$C65),0),0))","v":""},{"$f":"IF('RWIS Sensor (Desc)'!H65=\"\",\"\",'RWIS Sensor (Desc)'!H65)","v":""}]
[{"$f":"IF('RWIS Sensor (Desc)'!B66=\"\",\"\",\"2008\")","v":""},{"$f":"IF('RWIS Sensor (Desc)'!B66=\"\",\"\",'RWIS Sensor (Desc)'!B66)","v":""},{"$f":"IF('RWIS Sensor (Desc)'!D66=\"\",\"\",INDEX([1]RWIS_SENSOR_TYPE!$A$2:$A$100,MATCH('RWIS Sensor (Desc)'!$D66,[1]!MASTER_RWIS_SENSOR_TYPE_DESC[#Data],0),0))","v":""},{"$f":"IF('RWIS Sensor (Desc)'!E66=\"\",\"\",'RWIS Sensor (Desc)'!E66)","v":""},{"$f":"IF('RWIS Sensor (Desc)'!F66=\"\",\"\",INDEX([1]RWIS_SENSOR_MODEL!$B$2:$B$100,MATCH(1,([1]RWIS_SENSOR_MODEL!$C$2:$C$100='RWIS Sensor (Desc)'!$F66)*([1]RWIS_SENSOR_MODEL!$E$2:$E$100='RWIS Sensor (Code)'!$C66),0),0))","v":""},{"$f":"IF('RWIS Sensor (Desc)'!G66=\"\",\"\",INDEX([1]RWIS_SENSOR_MODEL!$A$2:$A$100,MATCH(1,([1]RWIS_SENSOR_MODEL!$C$2:$C$100='RWIS Sensor (Desc)'!$F66)*([1]RWIS_SENSOR_MODEL!$D$2:$D$100='RWIS Sensor (Desc)'!$G66)*([1]RWIS_SENSOR_MODEL!$E$2:$E$100='RWIS Sensor (Code)'!$C66),0),0))","v":""},{"$f":"IF('RWIS Sensor (Desc)'!H66=\"\",\"\",'RWIS Sensor (Desc)'!H66)","v":""}]
[{"$f":"IF('RWIS Sensor (Desc)'!B67=\"\",\"\",\"2008\")","v":""},{"$f":"IF('RWIS Sensor (Desc)'!B67=\"\",\"\",'RWIS Sensor (Desc)'!B67)","v":""},{"$f":"IF('RWIS Sensor (Desc)'!D67=\"\",\"\",INDEX([1]RWIS_SENSOR_TYPE!$A$2:$A$100,MATCH('RWIS Sensor (Desc)'!$D67,[1]!MASTER_RWIS_SENSOR_TYPE_DESC[#Data],0),0))","v":""},{"$f":"IF('RWIS Sensor (Desc)'!E67=\"\",\"\",'RWIS Sensor (Desc)'!E67)","v":""},{"$f":"IF('RWIS Sensor (Desc)'!F67=\"\",\"\",INDEX([1]RWIS_SENSOR_MODEL!$B$2:$B$100,MATCH(1,([1]RWIS_SENSOR_MODEL!$C$2:$C$100='RWIS Sensor (Desc)'!$F67)*([1]RWIS_SENSOR_MODEL!$E$2:$E$100='RWIS Sensor (Code)'!$C67),0),0))","v":""},{"$f":"IF('RWIS Sensor (Desc)'!G67=\"\",\"\",INDEX([1]RWIS_SENSOR_MODEL!$A$2:$A$100,MATCH(1,([1]RWIS_SENSOR_MODEL!$C$2:$C$100='RWIS Sensor (Desc)'!$F67)*([1]RWIS_SENSOR_MODEL!$D$2:$D$100='RWIS Sensor (Desc)'!$G67)*([1]RWIS_SENSOR_MODEL!$E$2:$E$100='RWIS Sensor (Code)'!$C67),0),0))","v":""},{"$f":"IF('RWIS Sensor (Desc)'!H67=\"\",\"\",'RWIS Sensor (Desc)'!H67)","v":""}]
[{"$f":"IF('RWIS Sensor (Desc)'!B68=\"\",\"\",\"2008\")","v":""},{"$f":"IF('RWIS Sensor (Desc)'!B68=\"\",\"\",'RWIS Sensor (Desc)'!B68)","v":""},{"$f":"IF('RWIS Sensor (Desc)'!D68=\"\",\"\",INDEX([1]RWIS_SENSOR_TYPE!$A$2:$A$100,MATCH('RWIS Sensor (Desc)'!$D68,[1]!MASTER_RWIS_SENSOR_TYPE_DESC[#Data],0),0))","v":""},{"$f":"IF('RWIS Sensor (Desc)'!E68=\"\",\"\",'RWIS Sensor (Desc)'!E68)","v":""},{"$f":"IF('RWIS Sensor (Desc)'!F68=\"\",\"\",INDEX([1]RWIS_SENSOR_MODEL!$B$2:$B$100,MATCH(1,([1]RWIS_SENSOR_MODEL!$C$2:$C$100='RWIS Sensor (Desc)'!$F68)*([1]RWIS_SENSOR_MODEL!$E$2:$E$100='RWIS Sensor (Code)'!$C68),0),0))","v":""},{"$f":"IF('RWIS Sensor (Desc)'!G68=\"\",\"\",INDEX([1]RWIS_SENSOR_MODEL!$A$2:$A$100,MATCH(1,([1]RWIS_SENSOR_MODEL!$C$2:$C$100='RWIS Sensor (Desc)'!$F68)*([1]RWIS_SENSOR_MODEL!$D$2:$D$100='RWIS Sensor (Desc)'!$G68)*([1]RWIS_SENSOR_MODEL!$E$2:$E$100='RWIS Sensor (Code)'!$C68),0),0))","v":""},{"$f":"IF('RWIS Sensor (Desc)'!H68=\"\",\"\",'RWIS Sensor (Desc)'!H68)","v":""}]
[{"$f":"IF('RWIS Sensor (Desc)'!B69=\"\",\"\",\"2008\")","v":""},{"$f":"IF('RWIS Sensor (Desc)'!B69=\"\",\"\",'RWIS Sensor (Desc)'!B69)","v":""},{"$f":"IF('RWIS Sensor (Desc)'!D69=\"\",\"\",INDEX([1]RWIS_SENSOR_TYPE!$A$2:$A$100,MATCH('RWIS Sensor (Desc)'!$D69,[1]!MASTER_RWIS_SENSOR_TYPE_DESC[#Data],0),0))","v":""},{"$f":"IF('RWIS Sensor (Desc)'!E69=\"\",\"\",'RWIS Sensor (Desc)'!E69)","v":""},{"$f":"IF('RWIS Sensor (Desc)'!F69=\"\",\"\",INDEX([1]RWIS_SENSOR_MODEL!$B$2:$B$100,MATCH(1,([1]RWIS_SENSOR_MODEL!$C$2:$C$100='RWIS Sensor (Desc)'!$F69)*([1]RWIS_SENSOR_MODEL!$E$2:$E$100='RWIS Sensor (Code)'!$C69),0),0))","v":""},{"$f":"IF('RWIS Sensor (Desc)'!G69=\"\",\"\",INDEX([1]RWIS_SENSOR_MODEL!$A$2:$A$100,MATCH(1,([1]RWIS_SENSOR_MODEL!$C$2:$C$100='RWIS Sensor (Desc)'!$F69)*([1]RWIS_SENSOR_MODEL!$D$2:$D$100='RWIS Sensor (Desc)'!$G69)*([1]RWIS_SENSOR_MODEL!$E$2:$E$100='RWIS Sensor (Code)'!$C69),0),0))","v":""},{"$f":"IF('RWIS Sensor (Desc)'!H69=\"\",\"\",'RWIS Sensor (Desc)'!H69)","v":""}]
[{"$f":"IF('RWIS Sensor (Desc)'!B70=\"\",\"\",\"2008\")","v":""},{"$f":"IF('RWIS Sensor (Desc)'!B70=\"\",\"\",'RWIS Sensor (Desc)'!B70)","v":""},{"$f":"IF('RWIS Sensor (Desc)'!D70=\"\",\"\",INDEX([1]RWIS_SENSOR_TYPE!$A$2:$A$100,MATCH('RWIS Sensor (Desc)'!$D70,[1]!MASTER_RWIS_SENSOR_TYPE_DESC[#Data],0),0))","v":""},{"$f":"IF('RWIS Sensor (Desc)'!E70=\"\",\"\",'RWIS Sensor (Desc)'!E70)","v":""},{"$f":"IF('RWIS Sensor (Desc)'!F70=\"\",\"\",INDEX([1]RWIS_SENSOR_MODEL!$B$2:$B$100,MATCH(1,([1]RWIS_SENSOR_MODEL!$C$2:$C$100='RWIS Sensor (Desc)'!$F70)*([1]RWIS_SENSOR_MODEL!$E$2:$E$100='RWIS Sensor (Code)'!$C70),0),0))","v":""},{"$f":"IF('RWIS Sensor (Desc)'!G70=\"\",\"\",INDEX([1]RWIS_SENSOR_MODEL!$A$2:$A$100,MATCH(1,([1]RWIS_SENSOR_MODEL!$C$2:$C$100='RWIS Sensor (Desc)'!$F70)*([1]RWIS_SENSOR_MODEL!$D$2:$D$100='RWIS Sensor (Desc)'!$G70)*([1]RWIS_SENSOR_MODEL!$E$2:$E$100='RWIS Sensor (Code)'!$C70),0),0))","v":""},{"$f":"IF('RWIS Sensor (Desc)'!H70=\"\",\"\",'RWIS Sensor (Desc)'!H70)","v":""}]
[{"$f":"IF('RWIS Sensor (Desc)'!B71=\"\",\"\",\"2008\")","v":""},{"$f":"IF('RWIS Sensor (Desc)'!B71=\"\",\"\",'RWIS Sensor (Desc)'!B71)","v":""},{"$f":"IF('RWIS Sensor (Desc)'!D71=\"\",\"\",INDEX([1]RWIS_SENSOR_TYPE!$A$2:$A$100,MATCH('RWIS Sensor (Desc)'!$D71,[1]!MASTER_RWIS_SENSOR_TYPE_DESC[#Data],0),0))","v":""},{"$f":"IF('RWIS Sensor (Desc)'!E71=\"\",\"\",'RWIS Sensor (Desc)'!E71)","v":""},{"$f":"IF('RWIS Sensor (Desc)'!F71=\"\",\"\",INDEX([1]RWIS_SENSOR_MODEL!$B$2:$B$100,MATCH(1,([1]RWIS_SENSOR_MODEL!$C$2:$C$100='RWIS Sensor (Desc)'!$F71)*([1]RWIS_SENSOR_MODEL!$E$2:$E$100='RWIS Sensor (Code)'!$C71),0),0))","v":""},{"$f":"IF('RWIS Sensor (Desc)'!G71=\"\",\"\",INDEX([1]RWIS_SENSOR_MODEL!$A$2:$A$100,MATCH(1,([1]RWIS_SENSOR_MODEL!$C$2:$C$100='RWIS Sensor (Desc)'!$F71)*([1]RWIS_SENSOR_MODEL!$D$2:$D$100='RWIS Sensor (Desc)'!$G71)*([1]RWIS_SENSOR_MODEL!$E$2:$E$100='RWIS Sensor (Code)'!$C71),0),0))","v":""},{"$f":"IF('RWIS Sensor (Desc)'!H71=\"\",\"\",'RWIS Sensor (Desc)'!H71)","v":""}]
[{"$f":"IF('RWIS Sensor (Desc)'!B72=\"\",\"\",\"2008\")","v":""},{"$f":"IF('RWIS Sensor (Desc)'!B72=\"\",\"\",'RWIS Sensor (Desc)'!B72)","v":""},{"$f":"IF('RWIS Sensor (Desc)'!D72=\"\",\"\",INDEX([1]RWIS_SENSOR_TYPE!$A$2:$A$100,MATCH('RWIS Sensor (Desc)'!$D72,[1]!MASTER_RWIS_SENSOR_TYPE_DESC[#Data],0),0))","v":""},{"$f":"IF('RWIS Sensor (Desc)'!E72=\"\",\"\",'RWIS Sensor (Desc)'!E72)","v":""},{"$f":"IF('RWIS Sensor (Desc)'!F72=\"\",\"\",INDEX([1]RWIS_SENSOR_MODEL!$B$2:$B$100,MATCH(1,([1]RWIS_SENSOR_MODEL!$C$2:$C$100='RWIS Sensor (Desc)'!$F72)*([1]RWIS_SENSOR_MODEL!$E$2:$E$100='RWIS Sensor (Code)'!$C72),0),0))","v":""},{"$f":"IF('RWIS Sensor (Desc)'!G72=\"\",\"\",INDEX([1]RWIS_SENSOR_MODEL!$A$2:$A$100,MATCH(1,([1]RWIS_SENSOR_MODEL!$C$2:$C$100='RWIS Sensor (Desc)'!$F72)*([1]RWIS_SENSOR_MODEL!$D$2:$D$100='RWIS Sensor (Desc)'!$G72)*([1]RWIS_SENSOR_MODEL!$E$2:$E$100='RWIS Sensor (Code)'!$C72),0),0))","v":""},{"$f":"IF('RWIS Sensor (Desc)'!H72=\"\",\"\",'RWIS Sensor (Desc)'!H72)","v":""}]
[{"$f":"IF('RWIS Sensor (Desc)'!B73=\"\",\"\",\"2008\")","v":""},{"$f":"IF('RWIS Sensor (Desc)'!B73=\"\",\"\",'RWIS Sensor (Desc)'!B73)","v":""},{"$f":"IF('RWIS Sensor (Desc)'!D73=\"\",\"\",INDEX([1]RWIS_SENSOR_TYPE!$A$2:$A$100,MATCH('RWIS Sensor (Desc)'!$D73,[1]!MASTER_RWIS_SENSOR_TYPE_DESC[#Data],0),0))","v":""},{"$f":"IF('RWIS Sensor (Desc)'!E73=\"\",\"\",'RWIS Sensor (Desc)'!E73)","v":""},{"$f":"IF('RWIS Sensor (Desc)'!F73=\"\",\"\",INDEX([1]RWIS_SENSOR_MODEL!$B$2:$B$100,MATCH(1,([1]RWIS_SENSOR_MODEL!$C$2:$C$100='RWIS Sensor (Desc)'!$F73)*([1]RWIS_SENSOR_MODEL!$E$2:$E$100='RWIS Sensor (Code)'!$C73),0),0))","v":""},{"$f":"IF('RWIS Sensor (Desc)'!G73=\"\",\"\",INDEX([1]RWIS_SENSOR_MODEL!$A$2:$A$100,MATCH(1,([1]RWIS_SENSOR_MODEL!$C$2:$C$100='RWIS Sensor (Desc)'!$F73)*([1]RWIS_SENSOR_MODEL!$D$2:$D$100='RWIS Sensor (Desc)'!$G73)*([1]RWIS_SENSOR_MODEL!$E$2:$E$100='RWIS Sensor (Code)'!$C73),0),0))","v":""},{"$f":"IF('RWIS Sensor (Desc)'!H73=\"\",\"\",'RWIS Sensor (Desc)'!H73)","v":""}]
[{"$f":"IF('RWIS Sensor (Desc)'!B74=\"\",\"\",\"2008\")","v":""},{"$f":"IF('RWIS Sensor (Desc)'!B74=\"\",\"\",'RWIS Sensor (Desc)'!B74)","v":""},{"$f":"IF('RWIS Sensor (Desc)'!D74=\"\",\"\",INDEX([1]RWIS_SENSOR_TYPE!$A$2:$A$100,MATCH('RWIS Sensor (Desc)'!$D74,[1]!MASTER_RWIS_SENSOR_TYPE_DESC[#Data],0),0))","v":""},{"$f":"IF('RWIS Sensor (Desc)'!E74=\"\",\"\",'RWIS Sensor (Desc)'!E74)","v":""},{"$f":"IF('RWIS Sensor (Desc)'!F74=\"\",\"\",INDEX([1]RWIS_SENSOR_MODEL!$B$2:$B$100,MATCH(1,([1]RWIS_SENSOR_MODEL!$C$2:$C$100='RWIS Sensor (Desc)'!$F74)*([1]RWIS_SENSOR_MODEL!$E$2:$E$100='RWIS Sensor (Code)'!$C74),0),0))","v":""},{"$f":"IF('RWIS Sensor (Desc)'!G74=\"\",\"\",INDEX([1]RWIS_SENSOR_MODEL!$A$2:$A$100,MATCH(1,([1]RWIS_SENSOR_MODEL!$C$2:$C$100='RWIS Sensor (Desc)'!$F74)*([1]RWIS_SENSOR_MODEL!$D$2:$D$100='RWIS Sensor (Desc)'!$G74)*([1]RWIS_SENSOR_MODEL!$E$2:$E$100='RWIS Sensor (Code)'!$C74),0),0))","v":""},{"$f":"IF('RWIS Sensor (Desc)'!H74=\"\",\"\",'RWIS Sensor (Desc)'!H74)","v":""}]
[{"$f":"IF('RWIS Sensor (Desc)'!B75=\"\",\"\",\"2008\")","v":""},{"$f":"IF('RWIS Sensor (Desc)'!B75=\"\",\"\",'RWIS Sensor (Desc)'!B75)","v":""},{"$f":"IF('RWIS Sensor (Desc)'!D75=\"\",\"\",INDEX([1]RWIS_SENSOR_TYPE!$A$2:$A$100,MATCH('RWIS Sensor (Desc)'!$D75,[1]!MASTER_RWIS_SENSOR_TYPE_DESC[#Data],0),0))","v":""},{"$f":"IF('RWIS Sensor (Desc)'!E75=\"\",\"\",'RWIS Sensor (Desc)'!E75)","v":""},{"$f":"IF('RWIS Sensor (Desc)'!F75=\"\",\"\",INDEX([1]RWIS_SENSOR_MODEL!$B$2:$B$100,MATCH(1,([1]RWIS_SENSOR_MODEL!$C$2:$C$100='RWIS Sensor (Desc)'!$F75)*([1]RWIS_SENSOR_MODEL!$E$2:$E$100='RWIS Sensor (Code)'!$C75),0),0))","v":""},{"$f":"IF('RWIS Sensor (Desc)'!G75=\"\",\"\",INDEX([1]RWIS_SENSOR_MODEL!$A$2:$A$100,MATCH(1,([1]RWIS_SENSOR_MODEL!$C$2:$C$100='RWIS Sensor (Desc)'!$F75)*([1]RWIS_SENSOR_MODEL!$D$2:$D$100='RWIS Sensor (Desc)'!$G75)*([1]RWIS_SENSOR_MODEL!$E$2:$E$100='RWIS Sensor (Code)'!$C75),0),0))","v":""},{"$f":"IF('RWIS Sensor (Desc)'!H75=\"\",\"\",'RWIS Sensor (Desc)'!H75)","v":""}]
[{"$f":"IF('RWIS Sensor (Desc)'!B76=\"\",\"\",\"2008\")","v":""},{"$f":"IF('RWIS Sensor (Desc)'!B76=\"\",\"\",'RWIS Sensor (Desc)'!B76)","v":""},{"$f":"IF('RWIS Sensor (Desc)'!D76=\"\",\"\",INDEX([1]RWIS_SENSOR_TYPE!$A$2:$A$100,MATCH('RWIS Sensor (Desc)'!$D76,[1]!MASTER_RWIS_SENSOR_TYPE_DESC[#Data],0),0))","v":""},{"$f":"IF('RWIS Sensor (Desc)'!E76=\"\",\"\",'RWIS Sensor (Desc)'!E76)","v":""},{"$f":"IF('RWIS Sensor (Desc)'!F76=\"\",\"\",INDEX([1]RWIS_SENSOR_MODEL!$B$2:$B$100,MATCH(1,([1]RWIS_SENSOR_MODEL!$C$2:$C$100='RWIS Sensor (Desc)'!$F76)*([1]RWIS_SENSOR_MODEL!$E$2:$E$100='RWIS Sensor (Code)'!$C76),0),0))","v":""},{"$f":"IF('RWIS Sensor (Desc)'!G76=\"\",\"\",INDEX([1]RWIS_SENSOR_MODEL!$A$2:$A$100,MATCH(1,([1]RWIS_SENSOR_MODEL!$C$2:$C$100='RWIS Sensor (Desc)'!$F76)*([1]RWIS_SENSOR_MODEL!$D$2:$D$100='RWIS Sensor (Desc)'!$G76)*([1]RWIS_SENSOR_MODEL!$E$2:$E$100='RWIS Sensor (Code)'!$C76),0),0))","v":""},{"$f":"IF('RWIS Sensor (Desc)'!H76=\"\",\"\",'RWIS Sensor (Desc)'!H76)","v":""}]
[{"$f":"IF('RWIS Sensor (Desc)'!B77=\"\",\"\",\"2008\")","v":""},{"$f":"IF('RWIS Sensor (Desc)'!B77=\"\",\"\",'RWIS Sensor (Desc)'!B77)","v":""},{"$f":"IF('RWIS Sensor (Desc)'!D77=\"\",\"\",INDEX([1]RWIS_SENSOR_TYPE!$A$2:$A$100,MATCH('RWIS Sensor (Desc)'!$D77,[1]!MASTER_RWIS_SENSOR_TYPE_DESC[#Data],0),0))","v":""},{"$f":"IF('RWIS Sensor (Desc)'!E77=\"\",\"\",'RWIS Sensor (Desc)'!E77)","v":""},{"$f":"IF('RWIS Sensor (Desc)'!F77=\"\",\"\",INDEX([1]RWIS_SENSOR_MODEL!$B$2:$B$100,MATCH(1,([1]RWIS_SENSOR_MODEL!$C$2:$C$100='RWIS Sensor (Desc)'!$F77)*([1]RWIS_SENSOR_MODEL!$E$2:$E$100='RWIS Sensor (Code)'!$C77),0),0))","v":""},{"$f":"IF('RWIS Sensor (Desc)'!G77=\"\",\"\",INDEX([1]RWIS_SENSOR_MODEL!$A$2:$A$100,MATCH(1,([1]RWIS_SENSOR_MODEL!$C$2:$C$100='RWIS Sensor (Desc)'!$F77)*([1]RWIS_SENSOR_MODEL!$D$2:$D$100='RWIS Sensor (Desc)'!$G77)*([1]RWIS_SENSOR_MODEL!$E$2:$E$100='RWIS Sensor (Code)'!$C77),0),0))","v":""},{"$f":"IF('RWIS Sensor (Desc)'!H77=\"\",\"\",'RWIS Sensor (Desc)'!H77)","v":""}]
[{"$f":"IF('RWIS Sensor (Desc)'!B78=\"\",\"\",\"2008\")","v":""},{"$f":"IF('RWIS Sensor (Desc)'!B78=\"\",\"\",'RWIS Sensor (Desc)'!B78)","v":""},{"$f":"IF('RWIS Sensor (Desc)'!D78=\"\",\"\",INDEX([1]RWIS_SENSOR_TYPE!$A$2:$A$100,MATCH('RWIS Sensor (Desc)'!$D78,[1]!MASTER_RWIS_SENSOR_TYPE_DESC[#Data],0),0))","v":""},{"$f":"IF('RWIS Sensor (Desc)'!E78=\"\",\"\",'RWIS Sensor (Desc)'!E78)","v":""},{"$f":"IF('RWIS Sensor (Desc)'!F78=\"\",\"\",INDEX([1]RWIS_SENSOR_MODEL!$B$2:$B$100,MATCH(1,([1]RWIS_SENSOR_MODEL!$C$2:$C$100='RWIS Sensor (Desc)'!$F78)*([1]RWIS_SENSOR_MODEL!$E$2:$E$100='RWIS Sensor (Code)'!$C78),0),0))","v":""},{"$f":"IF('RWIS Sensor (Desc)'!G78=\"\",\"\",INDEX([1]RWIS_SENSOR_MODEL!$A$2:$A$100,MATCH(1,([1]RWIS_SENSOR_MODEL!$C$2:$C$100='RWIS Sensor (Desc)'!$F78)*([1]RWIS_SENSOR_MODEL!$D$2:$D$100='RWIS Sensor (Desc)'!$G78)*([1]RWIS_SENSOR_MODEL!$E$2:$E$100='RWIS Sensor (Code)'!$C78),0),0))","v":""},{"$f":"IF('RWIS Sensor (Desc)'!H78=\"\",\"\",'RWIS Sensor (Desc)'!H78)","v":""}]
[{"$f":"IF('RWIS Sensor (Desc)'!B79=\"\",\"\",\"2008\")","v":""},{"$f":"IF('RWIS Sensor (Desc)'!B79=\"\",\"\",'RWIS Sensor (Desc)'!B79)","v":""},{"$f":"IF('RWIS Sensor (Desc)'!D79=\"\",\"\",INDEX([1]RWIS_SENSOR_TYPE!$A$2:$A$100,MATCH('RWIS Sensor (Desc)'!$D79,[1]!MASTER_RWIS_SENSOR_TYPE_DESC[#Data],0),0))","v":""},{"$f":"IF('RWIS Sensor (Desc)'!E79=\"\",\"\",'RWIS Sensor (Desc)'!E79)","v":""},{"$f":"IF('RWIS Sensor (Desc)'!F79=\"\",\"\",INDEX([1]RWIS_SENSOR_MODEL!$B$2:$B$100,MATCH(1,([1]RWIS_SENSOR_MODEL!$C$2:$C$100='RWIS Sensor (Desc)'!$F79)*([1]RWIS_SENSOR_MODEL!$E$2:$E$100='RWIS Sensor (Code)'!$C79),0),0))","v":""},{"$f":"IF('RWIS Sensor (Desc)'!G79=\"\",\"\",INDEX([1]RWIS_SENSOR_MODEL!$A$2:$A$100,MATCH(1,([1]RWIS_SENSOR_MODEL!$C$2:$C$100='RWIS Sensor (Desc)'!$F79)*([1]RWIS_SENSOR_MODEL!$D$2:$D$100='RWIS Sensor (Desc)'!$G79)*([1]RWIS_SENSOR_MODEL!$E$2:$E$100='RWIS Sensor (Code)'!$C79),0),0))","v":""},{"$f":"IF('RWIS Sensor (Desc)'!H79=\"\",\"\",'RWIS Sensor (Desc)'!H79)","v":""}]
[{"$f":"IF('RWIS Sensor (Desc)'!B80=\"\",\"\",\"2008\")","v":""},{"$f":"IF('RWIS Sensor (Desc)'!B80=\"\",\"\",'RWIS Sensor (Desc)'!B80)","v":""},{"$f":"IF('RWIS Sensor (Desc)'!D80=\"\",\"\",INDEX([1]RWIS_SENSOR_TYPE!$A$2:$A$100,MATCH('RWIS Sensor (Desc)'!$D80,[1]!MASTER_RWIS_SENSOR_TYPE_DESC[#Data],0),0))","v":""},{"$f":"IF('RWIS Sensor (Desc)'!E80=\"\",\"\",'RWIS Sensor (Desc)'!E80)","v":""},{"$f":"IF('RWIS Sensor (Desc)'!F80=\"\",\"\",INDEX([1]RWIS_SENSOR_MODEL!$B$2:$B$100,MATCH(1,([1]RWIS_SENSOR_MODEL!$C$2:$C$100='RWIS Sensor (Desc)'!$F80)*([1]RWIS_SENSOR_MODEL!$E$2:$E$100='RWIS Sensor (Code)'!$C80),0),0))","v":""},{"$f":"IF('RWIS Sensor (Desc)'!G80=\"\",\"\",INDEX([1]RWIS_SENSOR_MODEL!$A$2:$A$100,MATCH(1,([1]RWIS_SENSOR_MODEL!$C$2:$C$100='RWIS Sensor (Desc)'!$F80)*([1]RWIS_SENSOR_MODEL!$D$2:$D$100='RWIS Sensor (Desc)'!$G80)*([1]RWIS_SENSOR_MODEL!$E$2:$E$100='RWIS Sensor (Code)'!$C80),0),0))","v":""},{"$f":"IF('RWIS Sensor (Desc)'!H80=\"\",\"\",'RWIS Sensor (Desc)'!H80)","v":""}]
[{"$f":"IF('RWIS Sensor (Desc)'!B81=\"\",\"\",\"2008\")","v":""},{"$f":"IF('RWIS Sensor (Desc)'!B81=\"\",\"\",'RWIS Sensor (Desc)'!B81)","v":""},{"$f":"IF('RWIS Sensor (Desc)'!D81=\"\",\"\",INDEX([1]RWIS_SENSOR_TYPE!$A$2:$A$100,MATCH('RWIS Sensor (Desc)'!$D81,[1]!MASTER_RWIS_SENSOR_TYPE_DESC[#Data],0),0))","v":""},{"$f":"IF('RWIS Sensor (Desc)'!E81=\"\",\"\",'RWIS Sensor (Desc)'!E81)","v":""},{"$f":"IF('RWIS Sensor (Desc)'!F81=\"\",\"\",INDEX([1]RWIS_SENSOR_MODEL!$B$2:$B$100,MATCH(1,([1]RWIS_SENSOR_MODEL!$C$2:$C$100='RWIS Sensor (Desc)'!$F81)*([1]RWIS_SENSOR_MODEL!$E$2:$E$100='RWIS Sensor (Code)'!$C81),0),0))","v":""},{"$f":"IF('RWIS Sensor (Desc)'!G81=\"\",\"\",INDEX([1]RWIS_SENSOR_MODEL!$A$2:$A$100,MATCH(1,([1]RWIS_SENSOR_MODEL!$C$2:$C$100='RWIS Sensor (Desc)'!$F81)*([1]RWIS_SENSOR_MODEL!$D$2:$D$100='RWIS Sensor (Desc)'!$G81)*([1]RWIS_SENSOR_MODEL!$E$2:$E$100='RWIS Sensor (Code)'!$C81),0),0))","v":""},{"$f":"IF('RWIS Sensor (Desc)'!H81=\"\",\"\",'RWIS Sensor (Desc)'!H81)","v":""}]
[{"$f":"IF('RWIS Sensor (Desc)'!B82=\"\",\"\",\"2008\")","v":""},{"$f":"IF('RWIS Sensor (Desc)'!B82=\"\",\"\",'RWIS Sensor (Desc)'!B82)","v":""},{"$f":"IF('RWIS Sensor (Desc)'!D82=\"\",\"\",INDEX([1]RWIS_SENSOR_TYPE!$A$2:$A$100,MATCH('RWIS Sensor (Desc)'!$D82,[1]!MASTER_RWIS_SENSOR_TYPE_DESC[#Data],0),0))","v":""},{"$f":"IF('RWIS Sensor (Desc)'!E82=\"\",\"\",'RWIS Sensor (Desc)'!E82)","v":""},{"$f":"IF('RWIS Sensor (Desc)'!F82=\"\",\"\",INDEX([1]RWIS_SENSOR_MODEL!$B$2:$B$100,MATCH(1,([1]RWIS_SENSOR_MODEL!$C$2:$C$100='RWIS Sensor (Desc)'!$F82)*([1]RWIS_SENSOR_MODEL!$E$2:$E$100='RWIS Sensor (Code)'!$C82),0),0))","v":""},{"$f":"IF('RWIS Sensor (Desc)'!G82=\"\",\"\",INDEX([1]RWIS_SENSOR_MODEL!$A$2:$A$100,MATCH(1,([1]RWIS_SENSOR_MODEL!$C$2:$C$100='RWIS Sensor (Desc)'!$F82)*([1]RWIS_SENSOR_MODEL!$D$2:$D$100='RWIS Sensor (Desc)'!$G82)*([1]RWIS_SENSOR_MODEL!$E$2:$E$100='RWIS Sensor (Code)'!$C82),0),0))","v":""},{"$f":"IF('RWIS Sensor (Desc)'!H82=\"\",\"\",'RWIS Sensor (Desc)'!H82)","v":""}]
[{"$f":"IF('RWIS Sensor (Desc)'!B83=\"\",\"\",\"2008\")","v":""},{"$f":"IF('RWIS Sensor (Desc)'!B83=\"\",\"\",'RWIS Sensor (Desc)'!B83)","v":""},{"$f":"IF('RWIS Sensor (Desc)'!D83=\"\",\"\",INDEX([1]RWIS_SENSOR_TYPE!$A$2:$A$100,MATCH('RWIS Sensor (Desc)'!$D83,[1]!MASTER_RWIS_SENSOR_TYPE_DESC[#Data],0),0))","v":""},{"$f":"IF('RWIS Sensor (Desc)'!E83=\"\",\"\",'RWIS Sensor (Desc)'!E83)","v":""},{"$f":"IF('RWIS Sensor (Desc)'!F83=\"\",\"\",INDEX([1]RWIS_SENSOR_MODEL!$B$2:$B$100,MATCH(1,([1]RWIS_SENSOR_MODEL!$C$2:$C$100='RWIS Sensor (Desc)'!$F83)*([1]RWIS_SENSOR_MODEL!$E$2:$E$100='RWIS Sensor (Code)'!$C83),0),0))","v":""},{"$f":"IF('RWIS Sensor (Desc)'!G83=\"\",\"\",INDEX([1]RWIS_SENSOR_MODEL!$A$2:$A$100,MATCH(1,([1]RWIS_SENSOR_MODEL!$C$2:$C$100='RWIS Sensor (Desc)'!$F83)*([1]RWIS_SENSOR_MODEL!$D$2:$D$100='RWIS Sensor (Desc)'!$G83)*([1]RWIS_SENSOR_MODEL!$E$2:$E$100='RWIS Sensor (Code)'!$C83),0),0))","v":""},{"$f":"IF('RWIS Sensor (Desc)'!H83=\"\",\"\",'RWIS Sensor (Desc)'!H83)","v":""}]
[{"$f":"IF('RWIS Sensor (Desc)'!B84=\"\",\"\",\"2008\")","v":""},{"$f":"IF('RWIS Sensor (Desc)'!B84=\"\",\"\",'RWIS Sensor (Desc)'!B84)","v":""},{"$f":"IF('RWIS Sensor (Desc)'!D84=\"\",\"\",INDEX([1]RWIS_SENSOR_TYPE!$A$2:$A$100,MATCH('RWIS Sensor (Desc)'!$D84,[1]!MASTER_RWIS_SENSOR_TYPE_DESC[#Data],0),0))","v":""},{"$f":"IF('RWIS Sensor (Desc)'!E84=\"\",\"\",'RWIS Sensor (Desc)'!E84)","v":""},{"$f":"IF('RWIS Sensor (Desc)'!F84=\"\",\"\",INDEX([1]RWIS_SENSOR_MODEL!$B$2:$B$100,MATCH(1,([1]RWIS_SENSOR_MODEL!$C$2:$C$100='RWIS Sensor (Desc)'!$F84)*([1]RWIS_SENSOR_MODEL!$E$2:$E$100='RWIS Sensor (Code)'!$C84),0),0))","v":""},{"$f":"IF('RWIS Sensor (Desc)'!G84=\"\",\"\",INDEX([1]RWIS_SENSOR_MODEL!$A$2:$A$100,MATCH(1,([1]RWIS_SENSOR_MODEL!$C$2:$C$100='RWIS Sensor (Desc)'!$F84)*([1]RWIS_SENSOR_MODEL!$D$2:$D$100='RWIS Sensor (Desc)'!$G84)*([1]RWIS_SENSOR_MODEL!$E$2:$E$100='RWIS Sensor (Code)'!$C84),0),0))","v":""},{"$f":"IF('RWIS Sensor (Desc)'!H84=\"\",\"\",'RWIS Sensor (Desc)'!H84)","v":""}]
[{"$f":"IF('RWIS Sensor (Desc)'!B85=\"\",\"\",\"2008\")","v":""},{"$f":"IF('RWIS Sensor (Desc)'!B85=\"\",\"\",'RWIS Sensor (Desc)'!B85)","v":""},{"$f":"IF('RWIS Sensor (Desc)'!D85=\"\",\"\",INDEX([1]RWIS_SENSOR_TYPE!$A$2:$A$100,MATCH('RWIS Sensor (Desc)'!$D85,[1]!MASTER_RWIS_SENSOR_TYPE_DESC[#Data],0),0))","v":""},{"$f":"IF('RWIS Sensor (Desc)'!E85=\"\",\"\",'RWIS Sensor (Desc)'!E85)","v":""},{"$f":"IF('RWIS Sensor (Desc)'!F85=\"\",\"\",INDEX([1]RWIS_SENSOR_MODEL!$B$2:$B$100,MATCH(1,([1]RWIS_SENSOR_MODEL!$C$2:$C$100='RWIS Sensor (Desc)'!$F85)*([1]RWIS_SENSOR_MODEL!$E$2:$E$100='RWIS Sensor (Code)'!$C85),0),0))","v":""},{"$f":"IF('RWIS Sensor (Desc)'!G85=\"\",\"\",INDEX([1]RWIS_SENSOR_MODEL!$A$2:$A$100,MATCH(1,([1]RWIS_SENSOR_MODEL!$C$2:$C$100='RWIS Sensor (Desc)'!$F85)*([1]RWIS_SENSOR_MODEL!$D$2:$D$100='RWIS Sensor (Desc)'!$G85)*([1]RWIS_SENSOR_MODEL!$E$2:$E$100='RWIS Sensor (Code)'!$C85),0),0))","v":""},{"$f":"IF('RWIS Sensor (Desc)'!H85=\"\",\"\",'RWIS Sensor (Desc)'!H85)","v":""}]
[{"$f":"IF('RWIS Sensor (Desc)'!B86=\"\",\"\",\"2008\")","v":""},{"$f":"IF('RWIS Sensor (Desc)'!B86=\"\",\"\",'RWIS Sensor (Desc)'!B86)","v":""},{"$f":"IF('RWIS Sensor (Desc)'!D86=\"\",\"\",INDEX([1]RWIS_SENSOR_TYPE!$A$2:$A$100,MATCH('RWIS Sensor (Desc)'!$D86,[1]!MASTER_RWIS_SENSOR_TYPE_DESC[#Data],0),0))","v":""},{"$f":"IF('RWIS Sensor (Desc)'!E86=\"\",\"\",'RWIS Sensor (Desc)'!E86)","v":""},{"$f":"IF('RWIS Sensor (Desc)'!F86=\"\",\"\",INDEX([1]RWIS_SENSOR_MODEL!$B$2:$B$100,MATCH(1,([1]RWIS_SENSOR_MODEL!$C$2:$C$100='RWIS Sensor (Desc)'!$F86)*([1]RWIS_SENSOR_MODEL!$E$2:$E$100='RWIS Sensor (Code)'!$C86),0),0))","v":""},{"$f":"IF('RWIS Sensor (Desc)'!G86=\"\",\"\",INDEX([1]RWIS_SENSOR_MODEL!$A$2:$A$100,MATCH(1,([1]RWIS_SENSOR_MODEL!$C$2:$C$100='RWIS Sensor (Desc)'!$F86)*([1]RWIS_SENSOR_MODEL!$D$2:$D$100='RWIS Sensor (Desc)'!$G86)*([1]RWIS_SENSOR_MODEL!$E$2:$E$100='RWIS Sensor (Code)'!$C86),0),0))","v":""},{"$f":"IF('RWIS Sensor (Desc)'!H86=\"\",\"\",'RWIS Sensor (Desc)'!H86)","v":""}]
[{"$f":"IF('RWIS Sensor (Desc)'!B87=\"\",\"\",\"2008\")","v":""},{"$f":"IF('RWIS Sensor (Desc)'!B87=\"\",\"\",'RWIS Sensor (Desc)'!B87)","v":""},{"$f":"IF('RWIS Sensor (Desc)'!D87=\"\",\"\",INDEX([1]RWIS_SENSOR_TYPE!$A$2:$A$100,MATCH('RWIS Sensor (Desc)'!$D87,[1]!MASTER_RWIS_SENSOR_TYPE_DESC[#Data],0),0))","v":""},{"$f":"IF('RWIS Sensor (Desc)'!E87=\"\",\"\",'RWIS Sensor (Desc)'!E87)","v":""},{"$f":"IF('RWIS Sensor (Desc)'!F87=\"\",\"\",INDEX([1]RWIS_SENSOR_MODEL!$B$2:$B$100,MATCH(1,([1]RWIS_SENSOR_MODEL!$C$2:$C$100='RWIS Sensor (Desc)'!$F87)*([1]RWIS_SENSOR_MODEL!$E$2:$E$100='RWIS Sensor (Code)'!$C87),0),0))","v":""},{"$f":"IF('RWIS Sensor (Desc)'!G87=\"\",\"\",INDEX([1]RWIS_SENSOR_MODEL!$A$2:$A$100,MATCH(1,([1]RWIS_SENSOR_MODEL!$C$2:$C$100='RWIS Sensor (Desc)'!$F87)*([1]RWIS_SENSOR_MODEL!$D$2:$D$100='RWIS Sensor (Desc)'!$G87)*([1]RWIS_SENSOR_MODEL!$E$2:$E$100='RWIS Sensor (Code)'!$C87),0),0))","v":""},{"$f":"IF('RWIS Sensor (Desc)'!H87=\"\",\"\",'RWIS Sensor (Desc)'!H87)","v":""}]
[{"$f":"IF('RWIS Sensor (Desc)'!B88=\"\",\"\",\"2008\")","v":""},{"$f":"IF('RWIS Sensor (Desc)'!B88=\"\",\"\",'RWIS Sensor (Desc)'!B88)","v":""},{"$f":"IF('RWIS Sensor (Desc)'!D88=\"\",\"\",INDEX([1]RWIS_SENSOR_TYPE!$A$2:$A$100,MATCH('RWIS Sensor (Desc)'!$D88,[1]!MASTER_RWIS_SENSOR_TYPE_DESC[#Data],0),0))","v":""},{"$f":"IF('RWIS Sensor (Desc)'!E88=\"\",\"\",'RWIS Sensor (Desc)'!E88)","v":""},{"$f":"IF('RWIS Sensor (Desc)'!F88=\"\",\"\",INDEX([1]RWIS_SENSOR_MODEL!$B$2:$B$100,MATCH(1,([1]RWIS_SENSOR_MODEL!$C$2:$C$100='RWIS Sensor (Desc)'!$F88)*([1]RWIS_SENSOR_MODEL!$E$2:$E$100='RWIS Sensor (Code)'!$C88),0),0))","v":""},{"$f":"IF('RWIS Sensor (Desc)'!G88=\"\",\"\",INDEX([1]RWIS_SENSOR_MODEL!$A$2:$A$100,MATCH(1,([1]RWIS_SENSOR_MODEL!$C$2:$C$100='RWIS Sensor (Desc)'!$F88)*([1]RWIS_SENSOR_MODEL!$D$2:$D$100='RWIS Sensor (Desc)'!$G88)*([1]RWIS_SENSOR_MODEL!$E$2:$E$100='RWIS Sensor (Code)'!$C88),0),0))","v":""},{"$f":"IF('RWIS Sensor (Desc)'!H88=\"\",\"\",'RWIS Sensor (Desc)'!H88)","v":""}]
[{"$f":"IF('RWIS Sensor (Desc)'!B89=\"\",\"\",\"2008\")","v":""},{"$f":"IF('RWIS Sensor (Desc)'!B89=\"\",\"\",'RWIS Sensor (Desc)'!B89)","v":""},{"$f":"IF('RWIS Sensor (Desc)'!D89=\"\",\"\",INDEX([1]RWIS_SENSOR_TYPE!$A$2:$A$100,MATCH('RWIS Sensor (Desc)'!$D89,[1]!MASTER_RWIS_SENSOR_TYPE_DESC[#Data],0),0))","v":""},{"$f":"IF('RWIS Sensor (Desc)'!E89=\"\",\"\",'RWIS Sensor (Desc)'!E89)","v":""},{"$f":"IF('RWIS Sensor (Desc)'!F89=\"\",\"\",INDEX([1]RWIS_SENSOR_MODEL!$B$2:$B$100,MATCH(1,([1]RWIS_SENSOR_MODEL!$C$2:$C$100='RWIS Sensor (Desc)'!$F89)*([1]RWIS_SENSOR_MODEL!$E$2:$E$100='RWIS Sensor (Code)'!$C89),0),0))","v":""},{"$f":"IF('RWIS Sensor (Desc)'!G89=\"\",\"\",INDEX([1]RWIS_SENSOR_MODEL!$A$2:$A$100,MATCH(1,([1]RWIS_SENSOR_MODEL!$C$2:$C$100='RWIS Sensor (Desc)'!$F89)*([1]RWIS_SENSOR_MODEL!$D$2:$D$100='RWIS Sensor (Desc)'!$G89)*([1]RWIS_SENSOR_MODEL!$E$2:$E$100='RWIS Sensor (Code)'!$C89),0),0))","v":""},{"$f":"IF('RWIS Sensor (Desc)'!H89=\"\",\"\",'RWIS Sensor (Desc)'!H89)","v":""}]
[{"$f":"IF('RWIS Sensor (Desc)'!B90=\"\",\"\",\"2008\")","v":""},{"$f":"IF('RWIS Sensor (Desc)'!B90=\"\",\"\",'RWIS Sensor (Desc)'!B90)","v":""},{"$f":"IF('RWIS Sensor (Desc)'!D90=\"\",\"\",INDEX([1]RWIS_SENSOR_TYPE!$A$2:$A$100,MATCH('RWIS Sensor (Desc)'!$D90,[1]!MASTER_RWIS_SENSOR_TYPE_DESC[#Data],0),0))","v":""},{"$f":"IF('RWIS Sensor (Desc)'!E90=\"\",\"\",'RWIS Sensor (Desc)'!E90)","v":""},{"$f":"IF('RWIS Sensor (Desc)'!F90=\"\",\"\",INDEX([1]RWIS_SENSOR_MODEL!$B$2:$B$100,MATCH(1,([1]RWIS_SENSOR_MODEL!$C$2:$C$100='RWIS Sensor (Desc)'!$F90)*([1]RWIS_SENSOR_MODEL!$E$2:$E$100='RWIS Sensor (Code)'!$C90),0),0))","v":""},{"$f":"IF('RWIS Sensor (Desc)'!G90=\"\",\"\",INDEX([1]RWIS_SENSOR_MODEL!$A$2:$A$100,MATCH(1,([1]RWIS_SENSOR_MODEL!$C$2:$C$100='RWIS Sensor (Desc)'!$F90)*([1]RWIS_SENSOR_MODEL!$D$2:$D$100='RWIS Sensor (Desc)'!$G90)*([1]RWIS_SENSOR_MODEL!$E$2:$E$100='RWIS Sensor (Code)'!$C90),0),0))","v":""},{"$f":"IF('RWIS Sensor (Desc)'!H90=\"\",\"\",'RWIS Sensor (Desc)'!H90)","v":""}]
[{"$f":"IF('RWIS Sensor (Desc)'!B91=\"\",\"\",\"2008\")","v":""},{"$f":"IF('RWIS Sensor (Desc)'!B91=\"\",\"\",'RWIS Sensor (Desc)'!B91)","v":""},{"$f":"IF('RWIS Sensor (Desc)'!D91=\"\",\"\",INDEX([1]RWIS_SENSOR_TYPE!$A$2:$A$100,MATCH('RWIS Sensor (Desc)'!$D91,[1]!MASTER_RWIS_SENSOR_TYPE_DESC[#Data],0),0))","v":""},{"$f":"IF('RWIS Sensor (Desc)'!E91=\"\",\"\",'RWIS Sensor (Desc)'!E91)","v":""},{"$f":"IF('RWIS Sensor (Desc)'!F91=\"\",\"\",INDEX([1]RWIS_SENSOR_MODEL!$B$2:$B$100,MATCH(1,([1]RWIS_SENSOR_MODEL!$C$2:$C$100='RWIS Sensor (Desc)'!$F91)*([1]RWIS_SENSOR_MODEL!$E$2:$E$100='RWIS Sensor (Code)'!$C91),0),0))","v":""},{"$f":"IF('RWIS Sensor (Desc)'!G91=\"\",\"\",INDEX([1]RWIS_SENSOR_MODEL!$A$2:$A$100,MATCH(1,([1]RWIS_SENSOR_MODEL!$C$2:$C$100='RWIS Sensor (Desc)'!$F91)*([1]RWIS_SENSOR_MODEL!$D$2:$D$100='RWIS Sensor (Desc)'!$G91)*([1]RWIS_SENSOR_MODEL!$E$2:$E$100='RWIS Sensor (Code)'!$C91),0),0))","v":""},{"$f":"IF('RWIS Sensor (Desc)'!H91=\"\",\"\",'RWIS Sensor (Desc)'!H91)","v":""}]
[{"$f":"IF('RWIS Sensor (Desc)'!B92=\"\",\"\",\"2008\")","v":""},{"$f":"IF('RWIS Sensor (Desc)'!B92=\"\",\"\",'RWIS Sensor (Desc)'!B92)","v":""},{"$f":"IF('RWIS Sensor (Desc)'!D92=\"\",\"\",INDEX([1]RWIS_SENSOR_TYPE!$A$2:$A$100,MATCH('RWIS Sensor (Desc)'!$D92,[1]!MASTER_RWIS_SENSOR_TYPE_DESC[#Data],0),0))","v":""},{"$f":"IF('RWIS Sensor (Desc)'!E92=\"\",\"\",'RWIS Sensor (Desc)'!E92)","v":""},{"$f":"IF('RWIS Sensor (Desc)'!F92=\"\",\"\",INDEX([1]RWIS_SENSOR_MODEL!$B$2:$B$100,MATCH(1,([1]RWIS_SENSOR_MODEL!$C$2:$C$100='RWIS Sensor (Desc)'!$F92)*([1]RWIS_SENSOR_MODEL!$E$2:$E$100='RWIS Sensor (Code)'!$C92),0),0))","v":""},{"$f":"IF('RWIS Sensor (Desc)'!G92=\"\",\"\",INDEX([1]RWIS_SENSOR_MODEL!$A$2:$A$100,MATCH(1,([1]RWIS_SENSOR_MODEL!$C$2:$C$100='RWIS Sensor (Desc)'!$F92)*([1]RWIS_SENSOR_MODEL!$D$2:$D$100='RWIS Sensor (Desc)'!$G92)*([1]RWIS_SENSOR_MODEL!$E$2:$E$100='RWIS Sensor (Code)'!$C92),0),0))","v":""},{"$f":"IF('RWIS Sensor (Desc)'!H92=\"\",\"\",'RWIS Sensor (Desc)'!H92)","v":""}]
[{"$f":"IF('RWIS Sensor (Desc)'!B93=\"\",\"\",\"2008\")","v":""},{"$f":"IF('RWIS Sensor (Desc)'!B93=\"\",\"\",'RWIS Sensor (Desc)'!B93)","v":""},{"$f":"IF('RWIS Sensor (Desc)'!D93=\"\",\"\",INDEX([1]RWIS_SENSOR_TYPE!$A$2:$A$100,MATCH('RWIS Sensor (Desc)'!$D93,[1]!MASTER_RWIS_SENSOR_TYPE_DESC[#Data],0),0))","v":""},{"$f":"IF('RWIS Sensor (Desc)'!E93=\"\",\"\",'RWIS Sensor (Desc)'!E93)","v":""},{"$f":"IF('RWIS Sensor (Desc)'!F93=\"\",\"\",INDEX([1]RWIS_SENSOR_MODEL!$B$2:$B$100,MATCH(1,([1]RWIS_SENSOR_MODEL!$C$2:$C$100='RWIS Sensor (Desc)'!$F93)*([1]RWIS_SENSOR_MODEL!$E$2:$E$100='RWIS Sensor (Code)'!$C93),0),0))","v":""},{"$f":"IF('RWIS Sensor (Desc)'!G93=\"\",\"\",INDEX([1]RWIS_SENSOR_MODEL!$A$2:$A$100,MATCH(1,([1]RWIS_SENSOR_MODEL!$C$2:$C$100='RWIS Sensor (Desc)'!$F93)*([1]RWIS_SENSOR_MODEL!$D$2:$D$100='RWIS Sensor (Desc)'!$G93)*([1]RWIS_SENSOR_MODEL!$E$2:$E$100='RWIS Sensor (Code)'!$C93),0),0))","v":""},{"$f":"IF('RWIS Sensor (Desc)'!H93=\"\",\"\",'RWIS Sensor (Desc)'!H93)","v":""}]
[{"$f":"IF('RWIS Sensor (Desc)'!B94=\"\",\"\",\"2008\")","v":""},{"$f":"IF('RWIS Sensor (Desc)'!B94=\"\",\"\",'RWIS Sensor (Desc)'!B94)","v":""},{"$f":"IF('RWIS Sensor (Desc)'!D94=\"\",\"\",INDEX([1]RWIS_SENSOR_TYPE!$A$2:$A$100,MATCH('RWIS Sensor (Desc)'!$D94,[1]!MASTER_RWIS_SENSOR_TYPE_DESC[#Data],0),0))","v":""},{"$f":"IF('RWIS Sensor (Desc)'!E94=\"\",\"\",'RWIS Sensor (Desc)'!E94)","v":""},{"$f":"IF('RWIS Sensor (Desc)'!F94=\"\",\"\",INDEX([1]RWIS_SENSOR_MODEL!$B$2:$B$100,MATCH(1,([1]RWIS_SENSOR_MODEL!$C$2:$C$100='RWIS Sensor (Desc)'!$F94)*([1]RWIS_SENSOR_MODEL!$E$2:$E$100='RWIS Sensor (Code)'!$C94),0),0))","v":""},{"$f":"IF('RWIS Sensor (Desc)'!G94=\"\",\"\",INDEX([1]RWIS_SENSOR_MODEL!$A$2:$A$100,MATCH(1,([1]RWIS_SENSOR_MODEL!$C$2:$C$100='RWIS Sensor (Desc)'!$F94)*([1]RWIS_SENSOR_MODEL!$D$2:$D$100='RWIS Sensor (Desc)'!$G94)*([1]RWIS_SENSOR_MODEL!$E$2:$E$100='RWIS Sensor (Code)'!$C94),0),0))","v":""},{"$f":"IF('RWIS Sensor (Desc)'!H94=\"\",\"\",'RWIS Sensor (Desc)'!H94)","v":""}]
[{"$f":"IF('RWIS Sensor (Desc)'!B95=\"\",\"\",\"2008\")","v":""},{"$f":"IF('RWIS Sensor (Desc)'!B95=\"\",\"\",'RWIS Sensor (Desc)'!B95)","v":""},{"$f":"IF('RWIS Sensor (Desc)'!D95=\"\",\"\",INDEX([1]RWIS_SENSOR_TYPE!$A$2:$A$100,MATCH('RWIS Sensor (Desc)'!$D95,[1]!MASTER_RWIS_SENSOR_TYPE_DESC[#Data],0),0))","v":""},{"$f":"IF('RWIS Sensor (Desc)'!E95=\"\",\"\",'RWIS Sensor (Desc)'!E95)","v":""},{"$f":"IF('RWIS Sensor (Desc)'!F95=\"\",\"\",INDEX([1]RWIS_SENSOR_MODEL!$B$2:$B$100,MATCH(1,([1]RWIS_SENSOR_MODEL!$C$2:$C$100='RWIS Sensor (Desc)'!$F95)*([1]RWIS_SENSOR_MODEL!$E$2:$E$100='RWIS Sensor (Code)'!$C95),0),0))","v":""},{"$f":"IF('RWIS Sensor (Desc)'!G95=\"\",\"\",INDEX([1]RWIS_SENSOR_MODEL!$A$2:$A$100,MATCH(1,([1]RWIS_SENSOR_MODEL!$C$2:$C$100='RWIS Sensor (Desc)'!$F95)*([1]RWIS_SENSOR_MODEL!$D$2:$D$100='RWIS Sensor (Desc)'!$G95)*([1]RWIS_SENSOR_MODEL!$E$2:$E$100='RWIS Sensor (Code)'!$C95),0),0))","v":""},{"$f":"IF('RWIS Sensor (Desc)'!H95=\"\",\"\",'RWIS Sensor (Desc)'!H95)","v":""}]
[{"$f":"IF('RWIS Sensor (Desc)'!B96=\"\",\"\",\"2008\")","v":""},{"$f":"IF('RWIS Sensor (Desc)'!B96=\"\",\"\",'RWIS Sensor (Desc)'!B96)","v":""},{"$f":"IF('RWIS Sensor (Desc)'!D96=\"\",\"\",INDEX([1]RWIS_SENSOR_TYPE!$A$2:$A$100,MATCH('RWIS Sensor (Desc)'!$D96,[1]!MASTER_RWIS_SENSOR_TYPE_DESC[#Data],0),0))","v":""},{"$f":"IF('RWIS Sensor (Desc)'!E96=\"\",\"\",'RWIS Sensor (Desc)'!E96)","v":""},{"$f":"IF('RWIS Sensor (Desc)'!F96=\"\",\"\",INDEX([1]RWIS_SENSOR_MODEL!$B$2:$B$100,MATCH(1,([1]RWIS_SENSOR_MODEL!$C$2:$C$100='RWIS Sensor (Desc)'!$F96)*([1]RWIS_SENSOR_MODEL!$E$2:$E$100='RWIS Sensor (Code)'!$C96),0),0))","v":""},{"$f":"IF('RWIS Sensor (Desc)'!G96=\"\",\"\",INDEX([1]RWIS_SENSOR_MODEL!$A$2:$A$100,MATCH(1,([1]RWIS_SENSOR_MODEL!$C$2:$C$100='RWIS Sensor (Desc)'!$F96)*([1]RWIS_SENSOR_MODEL!$D$2:$D$100='RWIS Sensor (Desc)'!$G96)*([1]RWIS_SENSOR_MODEL!$E$2:$E$100='RWIS Sensor (Code)'!$C96),0),0))","v":""},{"$f":"IF('RWIS Sensor (Desc)'!H96=\"\",\"\",'RWIS Sensor (Desc)'!H96)","v":""}]
[{"$f":"IF('RWIS Sensor (Desc)'!B97=\"\",\"\",\"2008\")","v":""},{"$f":"IF('RWIS Sensor (Desc)'!B97=\"\",\"\",'RWIS Sensor (Desc)'!B97)","v":""},{"$f":"IF('RWIS Sensor (Desc)'!D97=\"\",\"\",INDEX([1]RWIS_SENSOR_TYPE!$A$2:$A$100,MATCH('RWIS Sensor (Desc)'!$D97,[1]!MASTER_RWIS_SENSOR_TYPE_DESC[#Data],0),0))","v":""},{"$f":"IF('RWIS Sensor (Desc)'!E97=\"\",\"\",'RWIS Sensor (Desc)'!E97)","v":""},{"$f":"IF('RWIS Sensor (Desc)'!F97=\"\",\"\",INDEX([1]RWIS_SENSOR_MODEL!$B$2:$B$100,MATCH(1,([1]RWIS_SENSOR_MODEL!$C$2:$C$100='RWIS Sensor (Desc)'!$F97)*([1]RWIS_SENSOR_MODEL!$E$2:$E$100='RWIS Sensor (Code)'!$C97),0),0))","v":""},{"$f":"IF('RWIS Sensor (Desc)'!G97=\"\",\"\",INDEX([1]RWIS_SENSOR_MODEL!$A$2:$A$100,MATCH(1,([1]RWIS_SENSOR_MODEL!$C$2:$C$100='RWIS Sensor (Desc)'!$F97)*([1]RWIS_SENSOR_MODEL!$D$2:$D$100='RWIS Sensor (Desc)'!$G97)*([1]RWIS_SENSOR_MODEL!$E$2:$E$100='RWIS Sensor (Code)'!$C97),0),0))","v":""},{"$f":"IF('RWIS Sensor (Desc)'!H97=\"\",\"\",'RWIS Sensor (Desc)'!H97)","v":""}]
[{"$f":"IF('RWIS Sensor (Desc)'!B98=\"\",\"\",\"2008\")","v":""},{"$f":"IF('RWIS Sensor (Desc)'!B98=\"\",\"\",'RWIS Sensor (Desc)'!B98)","v":""},{"$f":"IF('RWIS Sensor (Desc)'!D98=\"\",\"\",INDEX([1]RWIS_SENSOR_TYPE!$A$2:$A$100,MATCH('RWIS Sensor (Desc)'!$D98,[1]!MASTER_RWIS_SENSOR_TYPE_DESC[#Data],0),0))","v":""},{"$f":"IF('RWIS Sensor (Desc)'!E98=\"\",\"\",'RWIS Sensor (Desc)'!E98)","v":""},{"$f":"IF('RWIS Sensor (Desc)'!F98=\"\",\"\",INDEX([1]RWIS_SENSOR_MODEL!$B$2:$B$100,MATCH(1,([1]RWIS_SENSOR_MODEL!$C$2:$C$100='RWIS Sensor (Desc)'!$F98)*([1]RWIS_SENSOR_MODEL!$E$2:$E$100='RWIS Sensor (Code)'!$C98),0),0))","v":""},{"$f":"IF('RWIS Sensor (Desc)'!G98=\"\",\"\",INDEX([1]RWIS_SENSOR_MODEL!$A$2:$A$100,MATCH(1,([1]RWIS_SENSOR_MODEL!$C$2:$C$100='RWIS Sensor (Desc)'!$F98)*([1]RWIS_SENSOR_MODEL!$D$2:$D$100='RWIS Sensor (Desc)'!$G98)*([1]RWIS_SENSOR_MODEL!$E$2:$E$100='RWIS Sensor (Code)'!$C98),0),0))","v":""},{"$f":"IF('RWIS Sensor (Desc)'!H98=\"\",\"\",'RWIS Sensor (Desc)'!H98)","v":""}]
[{"$f":"IF('RWIS Sensor (Desc)'!B99=\"\",\"\",\"2008\")","v":""},{"$f":"IF('RWIS Sensor (Desc)'!B99=\"\",\"\",'RWIS Sensor (Desc)'!B99)","v":""},{"$f":"IF('RWIS Sensor (Desc)'!D99=\"\",\"\",INDEX([1]RWIS_SENSOR_TYPE!$A$2:$A$100,MATCH('RWIS Sensor (Desc)'!$D99,[1]!MASTER_RWIS_SENSOR_TYPE_DESC[#Data],0),0))","v":""},{"$f":"IF('RWIS Sensor (Desc)'!E99=\"\",\"\",'RWIS Sensor (Desc)'!E99)","v":""},{"$f":"IF('RWIS Sensor (Desc)'!F99=\"\",\"\",INDEX([1]RWIS_SENSOR_MODEL!$B$2:$B$100,MATCH(1,([1]RWIS_SENSOR_MODEL!$C$2:$C$100='RWIS Sensor (Desc)'!$F99)*([1]RWIS_SENSOR_MODEL!$E$2:$E$100='RWIS Sensor (Code)'!$C99),0),0))","v":""},{"$f":"IF('RWIS Sensor (Desc)'!G99=\"\",\"\",INDEX([1]RWIS_SENSOR_MODEL!$A$2:$A$100,MATCH(1,([1]RWIS_SENSOR_MODEL!$C$2:$C$100='RWIS Sensor (Desc)'!$F99)*([1]RWIS_SENSOR_MODEL!$D$2:$D$100='RWIS Sensor (Desc)'!$G99)*([1]RWIS_SENSOR_MODEL!$E$2:$E$100='RWIS Sensor (Code)'!$C99),0),0))","v":""},{"$f":"IF('RWIS Sensor (Desc)'!H99=\"\",\"\",'RWIS Sensor (Desc)'!H99)","v":""}]
[{"$f":"IF('RWIS Sensor (Desc)'!B100=\"\",\"\",\"2008\")","v":""},{"$f":"IF('RWIS Sensor (Desc)'!B100=\"\",\"\",'RWIS Sensor (Desc)'!B100)","v":""},{"$f":"IF('RWIS Sensor (Desc)'!D100=\"\",\"\",INDEX([1]RWIS_SENSOR_TYPE!$A$2:$A$100,MATCH('RWIS Sensor (Desc)'!$D100,[1]!MASTER_RWIS_SENSOR_TYPE_DESC[#Data],0),0))","v":""},{"$f":"IF('RWIS Sensor (Desc)'!E100=\"\",\"\",'RWIS Sensor (Desc)'!E100)","v":""},{"$f":"IF('RWIS Sensor (Desc)'!F100=\"\",\"\",INDEX([1]RWIS_SENSOR_MODEL!$B$2:$B$100,MATCH(1,([1]RWIS_SENSOR_MODEL!$C$2:$C$100='RWIS Sensor (Desc)'!$F100)*([1]RWIS_SENSOR_MODEL!$E$2:$E$100='RWIS Sensor (Code)'!$C100),0),0))","v":""},{"$f":"IF('RWIS Sensor (Desc)'!G100=\"\",\"\",INDEX([1]RWIS_SENSOR_MODEL!$A$2:$A$100,MATCH(1,([1]RWIS_SENSOR_MODEL!$C$2:$C$100='RWIS Sensor (Desc)'!$F100)*([1]RWIS_SENSOR_MODEL!$D$2:$D$100='RWIS Sensor (Desc)'!$G100)*([1]RWIS_SENSOR_MODEL!$E$2:$E$100='RWIS Sensor (Code)'!$C100),0),0))","v":""},{"$f":"IF('RWIS Sensor (Desc)'!H100=\"\",\"\",'RWIS Sensor (Desc)'!H100)","v":""}]
[{"$f":"IF('RWIS Sensor (Desc)'!B101=\"\",\"\",\"2008\")","v":""},{"$f":"IF('RWIS Sensor (Desc)'!B101=\"\",\"\",'RWIS Sensor (Desc)'!B101)","v":""},{"$f":"IF('RWIS Sensor (Desc)'!D101=\"\",\"\",INDEX([1]RWIS_SENSOR_TYPE!$A$2:$A$100,MATCH('RWIS Sensor (Desc)'!$D101,[1]!MASTER_RWIS_SENSOR_TYPE_DESC[#Data],0),0))","v":""},{"$f":"IF('RWIS Sensor (Desc)'!E101=\"\",\"\",'RWIS Sensor (Desc)'!E101)","v":""},{"$f":"IF('RWIS Sensor (Desc)'!F101=\"\",\"\",INDEX([1]RWIS_SENSOR_MODEL!$B$2:$B$100,MATCH(1,([1]RWIS_SENSOR_MODEL!$C$2:$C$100='RWIS Sensor (Desc)'!$F101)*([1]RWIS_SENSOR_MODEL!$E$2:$E$100='RWIS Sensor (Code)'!$C101),0),0))","v":""},{"$f":"IF('RWIS Sensor (Desc)'!G101=\"\",\"\",INDEX([1]RWIS_SENSOR_MODEL!$A$2:$A$100,MATCH(1,([1]RWIS_SENSOR_MODEL!$C$2:$C$100='RWIS Sensor (Desc)'!$F101)*([1]RWIS_SENSOR_MODEL!$D$2:$D$100='RWIS Sensor (Desc)'!$G101)*([1]RWIS_SENSOR_MODEL!$E$2:$E$100='RWIS Sensor (Code)'!$C101),0),0))","v":""},{"$f":"IF('RWIS Sensor (Desc)'!H101=\"\",\"\",'RWIS Sensor (Desc)'!H101)","v":""}]
[{"$f":"IF('RWIS Sensor (Desc)'!B102=\"\",\"\",\"2008\")","v":""},{"$f":"IF('RWIS Sensor (Desc)'!B102=\"\",\"\",'RWIS Sensor (Desc)'!B102)","v":""},{"$f":"IF('RWIS Sensor (Desc)'!D102=\"\",\"\",INDEX([1]RWIS_SENSOR_TYPE!$A$2:$A$100,MATCH('RWIS Sensor (Desc)'!$D102,[1]!MASTER_RWIS_SENSOR_TYPE_DESC[#Data],0),0))","v":""},{"$f":"IF('RWIS Sensor (Desc)'!E102=\"\",\"\",'RWIS Sensor (Desc)'!E102)","v":""},{"$f":"IF('RWIS Sensor (Desc)'!F102=\"\",\"\",INDEX([1]RWIS_SENSOR_MODEL!$B$2:$B$100,MATCH(1,([1]RWIS_SENSOR_MODEL!$C$2:$C$100='RWIS Sensor (Desc)'!$F102)*([1]RWIS_SENSOR_MODEL!$E$2:$E$100='RWIS Sensor (Code)'!$C102),0),0))","v":""},{"$f":"IF('RWIS Sensor (Desc)'!G102=\"\",\"\",INDEX([1]RWIS_SENSOR_MODEL!$A$2:$A$100,MATCH(1,([1]RWIS_SENSOR_MODEL!$C$2:$C$100='RWIS Sensor (Desc)'!$F102)*([1]RWIS_SENSOR_MODEL!$D$2:$D$100='RWIS Sensor (Desc)'!$G102)*([1]RWIS_SENSOR_MODEL!$E$2:$E$100='RWIS Sensor (Code)'!$C102),0),0))","v":""},{"$f":"IF('RWIS Sensor (Desc)'!H102=\"\",\"\",'RWIS Sensor (Desc)'!H102)","v":""}]
[{"$f":"IF('RWIS Sensor (Desc)'!B103=\"\",\"\",\"2008\")","v":""},{"$f":"IF('RWIS Sensor (Desc)'!B103=\"\",\"\",'RWIS Sensor (Desc)'!B103)","v":""},{"$f":"IF('RWIS Sensor (Desc)'!D103=\"\",\"\",INDEX([1]RWIS_SENSOR_TYPE!$A$2:$A$100,MATCH('RWIS Sensor (Desc)'!$D103,[1]!MASTER_RWIS_SENSOR_TYPE_DESC[#Data],0),0))","v":""},{"$f":"IF('RWIS Sensor (Desc)'!E103=\"\",\"\",'RWIS Sensor (Desc)'!E103)","v":""},{"$f":"IF('RWIS Sensor (Desc)'!F103=\"\",\"\",INDEX([1]RWIS_SENSOR_MODEL!$B$2:$B$100,MATCH(1,([1]RWIS_SENSOR_MODEL!$C$2:$C$100='RWIS Sensor (Desc)'!$F103)*([1]RWIS_SENSOR_MODEL!$E$2:$E$100='RWIS Sensor (Code)'!$C103),0),0))","v":""},{"$f":"IF('RWIS Sensor (Desc)'!G103=\"\",\"\",INDEX([1]RWIS_SENSOR_MODEL!$A$2:$A$100,MATCH(1,([1]RWIS_SENSOR_MODEL!$C$2:$C$100='RWIS Sensor (Desc)'!$F103)*([1]RWIS_SENSOR_MODEL!$D$2:$D$100='RWIS Sensor (Desc)'!$G103)*([1]RWIS_SENSOR_MODEL!$E$2:$E$100='RWIS Sensor (Code)'!$C103),0),0))","v":""},{"$f":"IF('RWIS Sensor (Desc)'!H103=\"\",\"\",'RWIS Sensor (Desc)'!H103)","v":""}]
[{"$f":"IF('RWIS Sensor (Desc)'!B104=\"\",\"\",\"2008\")","v":""},{"$f":"IF('RWIS Sensor (Desc)'!B104=\"\",\"\",'RWIS Sensor (Desc)'!B104)","v":""},{"$f":"IF('RWIS Sensor (Desc)'!D104=\"\",\"\",INDEX([1]RWIS_SENSOR_TYPE!$A$2:$A$100,MATCH('RWIS Sensor (Desc)'!$D104,[1]!MASTER_RWIS_SENSOR_TYPE_DESC[#Data],0),0))","v":""},{"$f":"IF('RWIS Sensor (Desc)'!E104=\"\",\"\",'RWIS Sensor (Desc)'!E104)","v":""},{"$f":"IF('RWIS Sensor (Desc)'!F104=\"\",\"\",INDEX([1]RWIS_SENSOR_MODEL!$B$2:$B$100,MATCH(1,([1]RWIS_SENSOR_MODEL!$C$2:$C$100='RWIS Sensor (Desc)'!$F104)*([1]RWIS_SENSOR_MODEL!$E$2:$E$100='RWIS Sensor (Code)'!$C104),0),0))","v":""},{"$f":"IF('RWIS Sensor (Desc)'!G104=\"\",\"\",INDEX([1]RWIS_SENSOR_MODEL!$A$2:$A$100,MATCH(1,([1]RWIS_SENSOR_MODEL!$C$2:$C$100='RWIS Sensor (Desc)'!$F104)*([1]RWIS_SENSOR_MODEL!$D$2:$D$100='RWIS Sensor (Desc)'!$G104)*([1]RWIS_SENSOR_MODEL!$E$2:$E$100='RWIS Sensor (Code)'!$C104),0),0))","v":""},{"$f":"IF('RWIS Sensor (Desc)'!H104=\"\",\"\",'RWIS Sensor (Desc)'!H104)","v":""}]
[{"$f":"IF('RWIS Sensor (Desc)'!B105=\"\",\"\",\"2008\")","v":""},{"$f":"IF('RWIS Sensor (Desc)'!B105=\"\",\"\",'RWIS Sensor (Desc)'!B105)","v":""},{"$f":"IF('RWIS Sensor (Desc)'!D105=\"\",\"\",INDEX([1]RWIS_SENSOR_TYPE!$A$2:$A$100,MATCH('RWIS Sensor (Desc)'!$D105,[1]!MASTER_RWIS_SENSOR_TYPE_DESC[#Data],0),0))","v":""},{"$f":"IF('RWIS Sensor (Desc)'!E105=\"\",\"\",'RWIS Sensor (Desc)'!E105)","v":""},{"$f":"IF('RWIS Sensor (Desc)'!F105=\"\",\"\",INDEX([1]RWIS_SENSOR_MODEL!$B$2:$B$100,MATCH(1,([1]RWIS_SENSOR_MODEL!$C$2:$C$100='RWIS Sensor (Desc)'!$F105)*([1]RWIS_SENSOR_MODEL!$E$2:$E$100='RWIS Sensor (Code)'!$C105),0),0))","v":""},{"$f":"IF('RWIS Sensor (Desc)'!G105=\"\",\"\",INDEX([1]RWIS_SENSOR_MODEL!$A$2:$A$100,MATCH(1,([1]RWIS_SENSOR_MODEL!$C$2:$C$100='RWIS Sensor (Desc)'!$F105)*([1]RWIS_SENSOR_MODEL!$D$2:$D$100='RWIS Sensor (Desc)'!$G105)*([1]RWIS_SENSOR_MODEL!$E$2:$E$100='RWIS Sensor (Code)'!$C105),0),0))","v":""},{"$f":"IF('RWIS Sensor (Desc)'!H105=\"\",\"\",'RWIS Sensor (Desc)'!H105)","v":""}]
[{"$f":"IF('RWIS Sensor (Desc)'!B106=\"\",\"\",\"2008\")","v":""},{"$f":"IF('RWIS Sensor (Desc)'!B106=\"\",\"\",'RWIS Sensor (Desc)'!B106)","v":""},{"$f":"IF('RWIS Sensor (Desc)'!D106=\"\",\"\",INDEX([1]RWIS_SENSOR_TYPE!$A$2:$A$100,MATCH('RWIS Sensor (Desc)'!$D106,[1]!MASTER_RWIS_SENSOR_TYPE_DESC[#Data],0),0))","v":""},{"$f":"IF('RWIS Sensor (Desc)'!E106=\"\",\"\",'RWIS Sensor (Desc)'!E106)","v":""},{"$f":"IF('RWIS Sensor (Desc)'!F106=\"\",\"\",INDEX([1]RWIS_SENSOR_MODEL!$B$2:$B$100,MATCH(1,([1]RWIS_SENSOR_MODEL!$C$2:$C$100='RWIS Sensor (Desc)'!$F106)*([1]RWIS_SENSOR_MODEL!$E$2:$E$100='RWIS Sensor (Code)'!$C106),0),0))","v":""},{"$f":"IF('RWIS Sensor (Desc)'!G106=\"\",\"\",INDEX([1]RWIS_SENSOR_MODEL!$A$2:$A$100,MATCH(1,([1]RWIS_SENSOR_MODEL!$C$2:$C$100='RWIS Sensor (Desc)'!$F106)*([1]RWIS_SENSOR_MODEL!$D$2:$D$100='RWIS Sensor (Desc)'!$G106)*([1]RWIS_SENSOR_MODEL!$E$2:$E$100='RWIS Sensor (Code)'!$C106),0),0))","v":""},{"$f":"IF('RWIS Sensor (Desc)'!H106=\"\",\"\",'RWIS Sensor (Desc)'!H106)","v":""}]
[{"$f":"IF('RWIS Sensor (Desc)'!B107=\"\",\"\",\"2008\")","v":""},{"$f":"IF('RWIS Sensor (Desc)'!B107=\"\",\"\",'RWIS Sensor (Desc)'!B107)","v":""},{"$f":"IF('RWIS Sensor (Desc)'!D107=\"\",\"\",INDEX([1]RWIS_SENSOR_TYPE!$A$2:$A$100,MATCH('RWIS Sensor (Desc)'!$D107,[1]!MASTER_RWIS_SENSOR_TYPE_DESC[#Data],0),0))","v":""},{"$f":"IF('RWIS Sensor (Desc)'!E107=\"\",\"\",'RWIS Sensor (Desc)'!E107)","v":""},{"$f":"IF('RWIS Sensor (Desc)'!F107=\"\",\"\",INDEX([1]RWIS_SENSOR_MODEL!$B$2:$B$100,MATCH(1,([1]RWIS_SENSOR_MODEL!$C$2:$C$100='RWIS Sensor (Desc)'!$F107)*([1]RWIS_SENSOR_MODEL!$E$2:$E$100='RWIS Sensor (Code)'!$C107),0),0))","v":""},{"$f":"IF('RWIS Sensor (Desc)'!G107=\"\",\"\",INDEX([1]RWIS_SENSOR_MODEL!$A$2:$A$100,MATCH(1,([1]RWIS_SENSOR_MODEL!$C$2:$C$100='RWIS Sensor (Desc)'!$F107)*([1]RWIS_SENSOR_MODEL!$D$2:$D$100='RWIS Sensor (Desc)'!$G107)*([1]RWIS_SENSOR_MODEL!$E$2:$E$100='RWIS Sensor (Code)'!$C107),0),0))","v":""},{"$f":"IF('RWIS Sensor (Desc)'!H107=\"\",\"\",'RWIS Sensor (Desc)'!H107)","v":""}]
[{"$f":"IF('RWIS Sensor (Desc)'!B108=\"\",\"\",\"2008\")","v":""},{"$f":"IF('RWIS Sensor (Desc)'!B108=\"\",\"\",'RWIS Sensor (Desc)'!B108)","v":""},{"$f":"IF('RWIS Sensor (Desc)'!D108=\"\",\"\",INDEX([1]RWIS_SENSOR_TYPE!$A$2:$A$100,MATCH('RWIS Sensor (Desc)'!$D108,[1]!MASTER_RWIS_SENSOR_TYPE_DESC[#Data],0),0))","v":""},{"$f":"IF('RWIS Sensor (Desc)'!E108=\"\",\"\",'RWIS Sensor (Desc)'!E108)","v":""},{"$f":"IF('RWIS Sensor (Desc)'!F108=\"\",\"\",INDEX([1]RWIS_SENSOR_MODEL!$B$2:$B$100,MATCH(1,([1]RWIS_SENSOR_MODEL!$C$2:$C$100='RWIS Sensor (Desc)'!$F108)*([1]RWIS_SENSOR_MODEL!$E$2:$E$100='RWIS Sensor (Code)'!$C108),0),0))","v":""},{"$f":"IF('RWIS Sensor (Desc)'!G108=\"\",\"\",INDEX([1]RWIS_SENSOR_MODEL!$A$2:$A$100,MATCH(1,([1]RWIS_SENSOR_MODEL!$C$2:$C$100='RWIS Sensor (Desc)'!$F108)*([1]RWIS_SENSOR_MODEL!$D$2:$D$100='RWIS Sensor (Desc)'!$G108)*([1]RWIS_SENSOR_MODEL!$E$2:$E$100='RWIS Sensor (Code)'!$C108),0),0))","v":""},{"$f":"IF('RWIS Sensor (Desc)'!H108=\"\",\"\",'RWIS Sensor (Desc)'!H108)","v":""}]
[{"$f":"IF('RWIS Sensor (Desc)'!B109=\"\",\"\",\"2008\")","v":""},{"$f":"IF('RWIS Sensor (Desc)'!B109=\"\",\"\",'RWIS Sensor (Desc)'!B109)","v":""},{"$f":"IF('RWIS Sensor (Desc)'!D109=\"\",\"\",INDEX([1]RWIS_SENSOR_TYPE!$A$2:$A$100,MATCH('RWIS Sensor (Desc)'!$D109,[1]!MASTER_RWIS_SENSOR_TYPE_DESC[#Data],0),0))","v":""},{"$f":"IF('RWIS Sensor (Desc)'!E109=\"\",\"\",'RWIS Sensor (Desc)'!E109)","v":""},{"$f":"IF('RWIS Sensor (Desc)'!F109=\"\",\"\",INDEX([1]RWIS_SENSOR_MODEL!$B$2:$B$100,MATCH(1,([1]RWIS_SENSOR_MODEL!$C$2:$C$100='RWIS Sensor (Desc)'!$F109)*([1]RWIS_SENSOR_MODEL!$E$2:$E$100='RWIS Sensor (Code)'!$C109),0),0))","v":""},{"$f":"IF('RWIS Sensor (Desc)'!G109=\"\",\"\",INDEX([1]RWIS_SENSOR_MODEL!$A$2:$A$100,MATCH(1,([1]RWIS_SENSOR_MODEL!$C$2:$C$100='RWIS Sensor (Desc)'!$F109)*([1]RWIS_SENSOR_MODEL!$D$2:$D$100='RWIS Sensor (Desc)'!$G109)*([1]RWIS_SENSOR_MODEL!$E$2:$E$100='RWIS Sensor (Code)'!$C109),0),0))","v":""},{"$f":"IF('RWIS Sensor (Desc)'!H109=\"\",\"\",'RWIS Sensor (Desc)'!H109)","v":""}]
[{"$f":"IF('RWIS Sensor (Desc)'!B110=\"\",\"\",\"2008\")","v":""},{"$f":"IF('RWIS Sensor (Desc)'!B110=\"\",\"\",'RWIS Sensor (Desc)'!B110)","v":""},{"$f":"IF('RWIS Sensor (Desc)'!D110=\"\",\"\",INDEX([1]RWIS_SENSOR_TYPE!$A$2:$A$100,MATCH('RWIS Sensor (Desc)'!$D110,[1]!MASTER_RWIS_SENSOR_TYPE_DESC[#Data],0),0))","v":""},{"$f":"IF('RWIS Sensor (Desc)'!E110=\"\",\"\",'RWIS Sensor (Desc)'!E110)","v":""},{"$f":"IF('RWIS Sensor (Desc)'!F110=\"\",\"\",INDEX([1]RWIS_SENSOR_MODEL!$B$2:$B$100,MATCH(1,([1]RWIS_SENSOR_MODEL!$C$2:$C$100='RWIS Sensor (Desc)'!$F110)*([1]RWIS_SENSOR_MODEL!$E$2:$E$100='RWIS Sensor (Code)'!$C110),0),0))","v":""},{"$f":"IF('RWIS Sensor (Desc)'!G110=\"\",\"\",INDEX([1]RWIS_SENSOR_MODEL!$A$2:$A$100,MATCH(1,([1]RWIS_SENSOR_MODEL!$C$2:$C$100='RWIS Sensor (Desc)'!$F110)*([1]RWIS_SENSOR_MODEL!$D$2:$D$100='RWIS Sensor (Desc)'!$G110)*([1]RWIS_SENSOR_MODEL!$E$2:$E$100='RWIS Sensor (Code)'!$C110),0),0))","v":""},{"$f":"IF('RWIS Sensor (Desc)'!H110=\"\",\"\",'RWIS Sensor (Desc)'!H110)","v":""}]
[{"$f":"IF('RWIS Sensor (Desc)'!B111=\"\",\"\",\"2008\")","v":""},{"$f":"IF('RWIS Sensor (Desc)'!B111=\"\",\"\",'RWIS Sensor (Desc)'!B111)","v":""},{"$f":"IF('RWIS Sensor (Desc)'!D111=\"\",\"\",INDEX([1]RWIS_SENSOR_TYPE!$A$2:$A$100,MATCH('RWIS Sensor (Desc)'!$D111,[1]!MASTER_RWIS_SENSOR_TYPE_DESC[#Data],0),0))","v":""},{"$f":"IF('RWIS Sensor (Desc)'!E111=\"\",\"\",'RWIS Sensor (Desc)'!E111)","v":""},{"$f":"IF('RWIS Sensor (Desc)'!F111=\"\",\"\",INDEX([1]RWIS_SENSOR_MODEL!$B$2:$B$100,MATCH(1,([1]RWIS_SENSOR_MODEL!$C$2:$C$100='RWIS Sensor (Desc)'!$F111)*([1]RWIS_SENSOR_MODEL!$E$2:$E$100='RWIS Sensor (Code)'!$C111),0),0))","v":""},{"$f":"IF('RWIS Sensor (Desc)'!G111=\"\",\"\",INDEX([1]RWIS_SENSOR_MODEL!$A$2:$A$100,MATCH(1,([1]RWIS_SENSOR_MODEL!$C$2:$C$100='RWIS Sensor (Desc)'!$F111)*([1]RWIS_SENSOR_MODEL!$D$2:$D$100='RWIS Sensor (Desc)'!$G111)*([1]RWIS_SENSOR_MODEL!$E$2:$E$100='RWIS Sensor (Code)'!$C111),0),0))","v":""},{"$f":"IF('RWIS Sensor (Desc)'!H111=\"\",\"\",'RWIS Sensor (Desc)'!H111)","v":""}]
[{"$f":"IF('RWIS Sensor (Desc)'!B112=\"\",\"\",\"2008\")","v":""},{"$f":"IF('RWIS Sensor (Desc)'!B112=\"\",\"\",'RWIS Sensor (Desc)'!B112)","v":""},{"$f":"IF('RWIS Sensor (Desc)'!D112=\"\",\"\",INDEX([1]RWIS_SENSOR_TYPE!$A$2:$A$100,MATCH('RWIS Sensor (Desc)'!$D112,[1]!MASTER_RWIS_SENSOR_TYPE_DESC[#Data],0),0))","v":""},{"$f":"IF('RWIS Sensor (Desc)'!E112=\"\",\"\",'RWIS Sensor (Desc)'!E112)","v":""},{"$f":"IF('RWIS Sensor (Desc)'!F112=\"\",\"\",INDEX([1]RWIS_SENSOR_MODEL!$B$2:$B$100,MATCH(1,([1]RWIS_SENSOR_MODEL!$C$2:$C$100='RWIS Sensor (Desc)'!$F112)*([1]RWIS_SENSOR_MODEL!$E$2:$E$100='RWIS Sensor (Code)'!$C112),0),0))","v":""},{"$f":"IF('RWIS Sensor (Desc)'!G112=\"\",\"\",INDEX([1]RWIS_SENSOR_MODEL!$A$2:$A$100,MATCH(1,([1]RWIS_SENSOR_MODEL!$C$2:$C$100='RWIS Sensor (Desc)'!$F112)*([1]RWIS_SENSOR_MODEL!$D$2:$D$100='RWIS Sensor (Desc)'!$G112)*([1]RWIS_SENSOR_MODEL!$E$2:$E$100='RWIS Sensor (Code)'!$C112),0),0))","v":""},{"$f":"IF('RWIS Sensor (Desc)'!H112=\"\",\"\",'RWIS Sensor (Desc)'!H112)","v":""}]
[{"$f":"IF('RWIS Sensor (Desc)'!B113=\"\",\"\",\"2008\")","v":""},{"$f":"IF('RWIS Sensor (Desc)'!B113=\"\",\"\",'RWIS Sensor (Desc)'!B113)","v":""},{"$f":"IF('RWIS Sensor (Desc)'!D113=\"\",\"\",INDEX([1]RWIS_SENSOR_TYPE!$A$2:$A$100,MATCH('RWIS Sensor (Desc)'!$D113,[1]!MASTER_RWIS_SENSOR_TYPE_DESC[#Data],0),0))","v":""},{"$f":"IF('RWIS Sensor (Desc)'!E113=\"\",\"\",'RWIS Sensor (Desc)'!E113)","v":""},{"$f":"IF('RWIS Sensor (Desc)'!F113=\"\",\"\",INDEX([1]RWIS_SENSOR_MODEL!$B$2:$B$100,MATCH(1,([1]RWIS_SENSOR_MODEL!$C$2:$C$100='RWIS Sensor (Desc)'!$F113)*([1]RWIS_SENSOR_MODEL!$E$2:$E$100='RWIS Sensor (Code)'!$C113),0),0))","v":""},{"$f":"IF('RWIS Sensor (Desc)'!G113=\"\",\"\",INDEX([1]RWIS_SENSOR_MODEL!$A$2:$A$100,MATCH(1,([1]RWIS_SENSOR_MODEL!$C$2:$C$100='RWIS Sensor (Desc)'!$F113)*([1]RWIS_SENSOR_MODEL!$D$2:$D$100='RWIS Sensor (Desc)'!$G113)*([1]RWIS_SENSOR_MODEL!$E$2:$E$100='RWIS Sensor (Code)'!$C113),0),0))","v":""},{"$f":"IF('RWIS Sensor (Desc)'!H113=\"\",\"\",'RWIS Sensor (Desc)'!H113)","v":""}]
[{"$f":"IF('RWIS Sensor (Desc)'!B114=\"\",\"\",\"2008\")","v":""},{"$f":"IF('RWIS Sensor (Desc)'!B114=\"\",\"\",'RWIS Sensor (Desc)'!B114)","v":""},{"$f":"IF('RWIS Sensor (Desc)'!D114=\"\",\"\",INDEX([1]RWIS_SENSOR_TYPE!$A$2:$A$100,MATCH('RWIS Sensor (Desc)'!$D114,[1]!MASTER_RWIS_SENSOR_TYPE_DESC[#Data],0),0))","v":""},{"$f":"IF('RWIS Sensor (Desc)'!E114=\"\",\"\",'RWIS Sensor (Desc)'!E114)","v":""},{"$f":"IF('RWIS Sensor (Desc)'!F114=\"\",\"\",INDEX([1]RWIS_SENSOR_MODEL!$B$2:$B$100,MATCH(1,([1]RWIS_SENSOR_MODEL!$C$2:$C$100='RWIS Sensor (Desc)'!$F114)*([1]RWIS_SENSOR_MODEL!$E$2:$E$100='RWIS Sensor (Code)'!$C114),0),0))","v":""},{"$f":"IF('RWIS Sensor (Desc)'!G114=\"\",\"\",INDEX([1]RWIS_SENSOR_MODEL!$A$2:$A$100,MATCH(1,([1]RWIS_SENSOR_MODEL!$C$2:$C$100='RWIS Sensor (Desc)'!$F114)*([1]RWIS_SENSOR_MODEL!$D$2:$D$100='RWIS Sensor (Desc)'!$G114)*([1]RWIS_SENSOR_MODEL!$E$2:$E$100='RWIS Sensor (Code)'!$C114),0),0))","v":""},{"$f":"IF('RWIS Sensor (Desc)'!H114=\"\",\"\",'RWIS Sensor (Desc)'!H114)","v":""}]
[{"$f":"IF('RWIS Sensor (Desc)'!B115=\"\",\"\",\"2008\")","v":""},{"$f":"IF('RWIS Sensor (Desc)'!B115=\"\",\"\",'RWIS Sensor (Desc)'!B115)","v":""},{"$f":"IF('RWIS Sensor (Desc)'!D115=\"\",\"\",INDEX([1]RWIS_SENSOR_TYPE!$A$2:$A$100,MATCH('RWIS Sensor (Desc)'!$D115,[1]!MASTER_RWIS_SENSOR_TYPE_DESC[#Data],0),0))","v":""},{"$f":"IF('RWIS Sensor (Desc)'!E115=\"\",\"\",'RWIS Sensor (Desc)'!E115)","v":""},{"$f":"IF('RWIS Sensor (Desc)'!F115=\"\",\"\",INDEX([1]RWIS_SENSOR_MODEL!$B$2:$B$100,MATCH(1,([1]RWIS_SENSOR_MODEL!$C$2:$C$100='RWIS Sensor (Desc)'!$F115)*([1]RWIS_SENSOR_MODEL!$E$2:$E$100='RWIS Sensor (Code)'!$C115),0),0))","v":""},{"$f":"IF('RWIS Sensor (Desc)'!G115=\"\",\"\",INDEX([1]RWIS_SENSOR_MODEL!$A$2:$A$100,MATCH(1,([1]RWIS_SENSOR_MODEL!$C$2:$C$100='RWIS Sensor (Desc)'!$F115)*([1]RWIS_SENSOR_MODEL!$D$2:$D$100='RWIS Sensor (Desc)'!$G115)*([1]RWIS_SENSOR_MODEL!$E$2:$E$100='RWIS Sensor (Code)'!$C115),0),0))","v":""},{"$f":"IF('RWIS Sensor (Desc)'!H115=\"\",\"\",'RWIS Sensor (Desc)'!H115)","v":""}]
[{"$f":"IF('RWIS Sensor (Desc)'!B116=\"\",\"\",\"2008\")","v":""},{"$f":"IF('RWIS Sensor (Desc)'!B116=\"\",\"\",'RWIS Sensor (Desc)'!B116)","v":""},{"$f":"IF('RWIS Sensor (Desc)'!D116=\"\",\"\",INDEX([1]RWIS_SENSOR_TYPE!$A$2:$A$100,MATCH('RWIS Sensor (Desc)'!$D116,[1]!MASTER_RWIS_SENSOR_TYPE_DESC[#Data],0),0))","v":""},{"$f":"IF('RWIS Sensor (Desc)'!E116=\"\",\"\",'RWIS Sensor (Desc)'!E116)","v":""},{"$f":"IF('RWIS Sensor (Desc)'!F116=\"\",\"\",INDEX([1]RWIS_SENSOR_MODEL!$B$2:$B$100,MATCH(1,([1]RWIS_SENSOR_MODEL!$C$2:$C$100='RWIS Sensor (Desc)'!$F116)*([1]RWIS_SENSOR_MODEL!$E$2:$E$100='RWIS Sensor (Code)'!$C116),0),0))","v":""},{"$f":"IF('RWIS Sensor (Desc)'!G116=\"\",\"\",INDEX([1]RWIS_SENSOR_MODEL!$A$2:$A$100,MATCH(1,([1]RWIS_SENSOR_MODEL!$C$2:$C$100='RWIS Sensor (Desc)'!$F116)*([1]RWIS_SENSOR_MODEL!$D$2:$D$100='RWIS Sensor (Desc)'!$G116)*([1]RWIS_SENSOR_MODEL!$E$2:$E$100='RWIS Sensor (Code)'!$C116),0),0))","v":""},{"$f":"IF('RWIS Sensor (Desc)'!H116=\"\",\"\",'RWIS Sensor (Desc)'!H116)","v":""}]
[{"$f":"IF('RWIS Sensor (Desc)'!B117=\"\",\"\",\"2008\")","v":""},{"$f":"IF('RWIS Sensor (Desc)'!B117=\"\",\"\",'RWIS Sensor (Desc)'!B117)","v":""},{"$f":"IF('RWIS Sensor (Desc)'!D117=\"\",\"\",INDEX([1]RWIS_SENSOR_TYPE!$A$2:$A$100,MATCH('RWIS Sensor (Desc)'!$D117,[1]!MASTER_RWIS_SENSOR_TYPE_DESC[#Data],0),0))","v":""},{"$f":"IF('RWIS Sensor (Desc)'!E117=\"\",\"\",'RWIS Sensor (Desc)'!E117)","v":""},{"$f":"IF('RWIS Sensor (Desc)'!F117=\"\",\"\",INDEX([1]RWIS_SENSOR_MODEL!$B$2:$B$100,MATCH(1,([1]RWIS_SENSOR_MODEL!$C$2:$C$100='RWIS Sensor (Desc)'!$F117)*([1]RWIS_SENSOR_MODEL!$E$2:$E$100='RWIS Sensor (Code)'!$C117),0),0))","v":""},{"$f":"IF('RWIS Sensor (Desc)'!G117=\"\",\"\",INDEX([1]RWIS_SENSOR_MODEL!$A$2:$A$100,MATCH(1,([1]RWIS_SENSOR_MODEL!$C$2:$C$100='RWIS Sensor (Desc)'!$F117)*([1]RWIS_SENSOR_MODEL!$D$2:$D$100='RWIS Sensor (Desc)'!$G117)*([1]RWIS_SENSOR_MODEL!$E$2:$E$100='RWIS Sensor (Code)'!$C117),0),0))","v":""},{"$f":"IF('RWIS Sensor (Desc)'!H117=\"\",\"\",'RWIS Sensor (Desc)'!H117)","v":""}]
[{"$f":"IF('RWIS Sensor (Desc)'!B118=\"\",\"\",\"2008\")","v":""},{"$f":"IF('RWIS Sensor (Desc)'!B118=\"\",\"\",'RWIS Sensor (Desc)'!B118)","v":""},{"$f":"IF('RWIS Sensor (Desc)'!D118=\"\",\"\",INDEX([1]RWIS_SENSOR_TYPE!$A$2:$A$100,MATCH('RWIS Sensor (Desc)'!$D118,[1]!MASTER_RWIS_SENSOR_TYPE_DESC[#Data],0),0))","v":""},{"$f":"IF('RWIS Sensor (Desc)'!E118=\"\",\"\",'RWIS Sensor (Desc)'!E118)","v":""},{"$f":"IF('RWIS Sensor (Desc)'!F118=\"\",\"\",INDEX([1]RWIS_SENSOR_MODEL!$B$2:$B$100,MATCH(1,([1]RWIS_SENSOR_MODEL!$C$2:$C$100='RWIS Sensor (Desc)'!$F118)*([1]RWIS_SENSOR_MODEL!$E$2:$E$100='RWIS Sensor (Code)'!$C118),0),0))","v":""},{"$f":"IF('RWIS Sensor (Desc)'!G118=\"\",\"\",INDEX([1]RWIS_SENSOR_MODEL!$A$2:$A$100,MATCH(1,([1]RWIS_SENSOR_MODEL!$C$2:$C$100='RWIS Sensor (Desc)'!$F118)*([1]RWIS_SENSOR_MODEL!$D$2:$D$100='RWIS Sensor (Desc)'!$G118)*([1]RWIS_SENSOR_MODEL!$E$2:$E$100='RWIS Sensor (Code)'!$C118),0),0))","v":""},{"$f":"IF('RWIS Sensor (Desc)'!H118=\"\",\"\",'RWIS Sensor (Desc)'!H118)","v":""}]
[{"$f":"IF('RWIS Sensor (Desc)'!B119=\"\",\"\",\"2008\")","v":""},{"$f":"IF('RWIS Sensor (Desc)'!B119=\"\",\"\",'RWIS Sensor (Desc)'!B119)","v":""},{"$f":"IF('RWIS Sensor (Desc)'!D119=\"\",\"\",INDEX([1]RWIS_SENSOR_TYPE!$A$2:$A$100,MATCH('RWIS Sensor (Desc)'!$D119,[1]!MASTER_RWIS_SENSOR_TYPE_DESC[#Data],0),0))","v":""},{"$f":"IF('RWIS Sensor (Desc)'!E119=\"\",\"\",'RWIS Sensor (Desc)'!E119)","v":""},{"$f":"IF('RWIS Sensor (Desc)'!F119=\"\",\"\",INDEX([1]RWIS_SENSOR_MODEL!$B$2:$B$100,MATCH(1,([1]RWIS_SENSOR_MODEL!$C$2:$C$100='RWIS Sensor (Desc)'!$F119)*([1]RWIS_SENSOR_MODEL!$E$2:$E$100='RWIS Sensor (Code)'!$C119),0),0))","v":""},{"$f":"IF('RWIS Sensor (Desc)'!G119=\"\",\"\",INDEX([1]RWIS_SENSOR_MODEL!$A$2:$A$100,MATCH(1,([1]RWIS_SENSOR_MODEL!$C$2:$C$100='RWIS Sensor (Desc)'!$F119)*([1]RWIS_SENSOR_MODEL!$D$2:$D$100='RWIS Sensor (Desc)'!$G119)*([1]RWIS_SENSOR_MODEL!$E$2:$E$100='RWIS Sensor (Code)'!$C119),0),0))","v":""},{"$f":"IF('RWIS Sensor (Desc)'!H119=\"\",\"\",'RWIS Sensor (Desc)'!H119)","v":""}]
[{"$f":"IF('RWIS Sensor (Desc)'!B120=\"\",\"\",\"2008\")","v":""},{"$f":"IF('RWIS Sensor (Desc)'!B120=\"\",\"\",'RWIS Sensor (Desc)'!B120)","v":""},{"$f":"IF('RWIS Sensor (Desc)'!D120=\"\",\"\",INDEX([1]RWIS_SENSOR_TYPE!$A$2:$A$100,MATCH('RWIS Sensor (Desc)'!$D120,[1]!MASTER_RWIS_SENSOR_TYPE_DESC[#Data],0),0))","v":""},{"$f":"IF('RWIS Sensor (Desc)'!E120=\"\",\"\",'RWIS Sensor (Desc)'!E120)","v":""},{"$f":"IF('RWIS Sensor (Desc)'!F120=\"\",\"\",INDEX([1]RWIS_SENSOR_MODEL!$B$2:$B$100,MATCH(1,([1]RWIS_SENSOR_MODEL!$C$2:$C$100='RWIS Sensor (Desc)'!$F120)*([1]RWIS_SENSOR_MODEL!$E$2:$E$100='RWIS Sensor (Code)'!$C120),0),0))","v":""},{"$f":"IF('RWIS Sensor (Desc)'!G120=\"\",\"\",INDEX([1]RWIS_SENSOR_MODEL!$A$2:$A$100,MATCH(1,([1]RWIS_SENSOR_MODEL!$C$2:$C$100='RWIS Sensor (Desc)'!$F120)*([1]RWIS_SENSOR_MODEL!$D$2:$D$100='RWIS Sensor (Desc)'!$G120)*([1]RWIS_SENSOR_MODEL!$E$2:$E$100='RWIS Sensor (Code)'!$C120),0),0))","v":""},{"$f":"IF('RWIS Sensor (Desc)'!H120=\"\",\"\",'RWIS Sensor (Desc)'!H120)","v":""}]
[{"$f":"IF('RWIS Sensor (Desc)'!B121=\"\",\"\",\"2008\")","v":""},{"$f":"IF('RWIS Sensor (Desc)'!B121=\"\",\"\",'RWIS Sensor (Desc)'!B121)","v":""},{"$f":"IF('RWIS Sensor (Desc)'!D121=\"\",\"\",INDEX([1]RWIS_SENSOR_TYPE!$A$2:$A$100,MATCH('RWIS Sensor (Desc)'!$D121,[1]!MASTER_RWIS_SENSOR_TYPE_DESC[#Data],0),0))","v":""},{"$f":"IF('RWIS Sensor (Desc)'!E121=\"\",\"\",'RWIS Sensor (Desc)'!E121)","v":""},{"$f":"IF('RWIS Sensor (Desc)'!F121=\"\",\"\",INDEX([1]RWIS_SENSOR_MODEL!$B$2:$B$100,MATCH(1,([1]RWIS_SENSOR_MODEL!$C$2:$C$100='RWIS Sensor (Desc)'!$F121)*([1]RWIS_SENSOR_MODEL!$E$2:$E$100='RWIS Sensor (Code)'!$C121),0),0))","v":""},{"$f":"IF('RWIS Sensor (Desc)'!G121=\"\",\"\",INDEX([1]RWIS_SENSOR_MODEL!$A$2:$A$100,MATCH(1,([1]RWIS_SENSOR_MODEL!$C$2:$C$100='RWIS Sensor (Desc)'!$F121)*([1]RWIS_SENSOR_MODEL!$D$2:$D$100='RWIS Sensor (Desc)'!$G121)*([1]RWIS_SENSOR_MODEL!$E$2:$E$100='RWIS Sensor (Code)'!$C121),0),0))","v":""},{"$f":"IF('RWIS Sensor (Desc)'!H121=\"\",\"\",'RWIS Sensor (Desc)'!H121)","v":""}]
[{"$f":"IF('RWIS Sensor (Desc)'!B122=\"\",\"\",\"2008\")","v":""},{"$f":"IF('RWIS Sensor (Desc)'!B122=\"\",\"\",'RWIS Sensor (Desc)'!B122)","v":""},{"$f":"IF('RWIS Sensor (Desc)'!D122=\"\",\"\",INDEX([1]RWIS_SENSOR_TYPE!$A$2:$A$100,MATCH('RWIS Sensor (Desc)'!$D122,[1]!MASTER_RWIS_SENSOR_TYPE_DESC[#Data],0),0))","v":""},{"$f":"IF('RWIS Sensor (Desc)'!E122=\"\",\"\",'RWIS Sensor (Desc)'!E122)","v":""},{"$f":"IF('RWIS Sensor (Desc)'!F122=\"\",\"\",INDEX([1]RWIS_SENSOR_MODEL!$B$2:$B$100,MATCH(1,([1]RWIS_SENSOR_MODEL!$C$2:$C$100='RWIS Sensor (Desc)'!$F122)*([1]RWIS_SENSOR_MODEL!$E$2:$E$100='RWIS Sensor (Code)'!$C122),0),0))","v":""},{"$f":"IF('RWIS Sensor (Desc)'!G122=\"\",\"\",INDEX([1]RWIS_SENSOR_MODEL!$A$2:$A$100,MATCH(1,([1]RWIS_SENSOR_MODEL!$C$2:$C$100='RWIS Sensor (Desc)'!$F122)*([1]RWIS_SENSOR_MODEL!$D$2:$D$100='RWIS Sensor (Desc)'!$G122)*([1]RWIS_SENSOR_MODEL!$E$2:$E$100='RWIS Sensor (Code)'!$C122),0),0))","v":""},{"$f":"IF('RWIS Sensor (Desc)'!H122=\"\",\"\",'RWIS Sensor (Desc)'!H122)","v":""}]
[{"$f":"IF('RWIS Sensor (Desc)'!B123=\"\",\"\",\"2008\")","v":""},{"$f":"IF('RWIS Sensor (Desc)'!B123=\"\",\"\",'RWIS Sensor (Desc)'!B123)","v":""},{"$f":"IF('RWIS Sensor (Desc)'!D123=\"\",\"\",INDEX([1]RWIS_SENSOR_TYPE!$A$2:$A$100,MATCH('RWIS Sensor (Desc)'!$D123,[1]!MASTER_RWIS_SENSOR_TYPE_DESC[#Data],0),0))","v":""},{"$f":"IF('RWIS Sensor (Desc)'!E123=\"\",\"\",'RWIS Sensor (Desc)'!E123)","v":""},{"$f":"IF('RWIS Sensor (Desc)'!F123=\"\",\"\",INDEX([1]RWIS_SENSOR_MODEL!$B$2:$B$100,MATCH(1,([1]RWIS_SENSOR_MODEL!$C$2:$C$100='RWIS Sensor (Desc)'!$F123)*([1]RWIS_SENSOR_MODEL!$E$2:$E$100='RWIS Sensor (Code)'!$C123),0),0))","v":""},{"$f":"IF('RWIS Sensor (Desc)'!G123=\"\",\"\",INDEX([1]RWIS_SENSOR_MODEL!$A$2:$A$100,MATCH(1,([1]RWIS_SENSOR_MODEL!$C$2:$C$100='RWIS Sensor (Desc)'!$F123)*([1]RWIS_SENSOR_MODEL!$D$2:$D$100='RWIS Sensor (Desc)'!$G123)*([1]RWIS_SENSOR_MODEL!$E$2:$E$100='RWIS Sensor (Code)'!$C123),0),0))","v":""},{"$f":"IF('RWIS Sensor (Desc)'!H123=\"\",\"\",'RWIS Sensor (Desc)'!H123)","v":""}]
[{"$f":"IF('RWIS Sensor (Desc)'!B124=\"\",\"\",\"2008\")","v":""},{"$f":"IF('RWIS Sensor (Desc)'!B124=\"\",\"\",'RWIS Sensor (Desc)'!B124)","v":""},{"$f":"IF('RWIS Sensor (Desc)'!D124=\"\",\"\",INDEX([1]RWIS_SENSOR_TYPE!$A$2:$A$100,MATCH('RWIS Sensor (Desc)'!$D124,[1]!MASTER_RWIS_SENSOR_TYPE_DESC[#Data],0),0))","v":""},{"$f":"IF('RWIS Sensor (Desc)'!E124=\"\",\"\",'RWIS Sensor (Desc)'!E124)","v":""},{"$f":"IF('RWIS Sensor (Desc)'!F124=\"\",\"\",INDEX([1]RWIS_SENSOR_MODEL!$B$2:$B$100,MATCH(1,([1]RWIS_SENSOR_MODEL!$C$2:$C$100='RWIS Sensor (Desc)'!$F124)*([1]RWIS_SENSOR_MODEL!$E$2:$E$100='RWIS Sensor (Code)'!$C124),0),0))","v":""},{"$f":"IF('RWIS Sensor (Desc)'!G124=\"\",\"\",INDEX([1]RWIS_SENSOR_MODEL!$A$2:$A$100,MATCH(1,([1]RWIS_SENSOR_MODEL!$C$2:$C$100='RWIS Sensor (Desc)'!$F124)*([1]RWIS_SENSOR_MODEL!$D$2:$D$100='RWIS Sensor (Desc)'!$G124)*([1]RWIS_SENSOR_MODEL!$E$2:$E$100='RWIS Sensor (Code)'!$C124),0),0))","v":""},{"$f":"IF('RWIS Sensor (Desc)'!H124=\"\",\"\",'RWIS Sensor (Desc)'!H124)","v":""}]
[{"$f":"IF('RWIS Sensor (Desc)'!B125=\"\",\"\",\"2008\")","v":""},{"$f":"IF('RWIS Sensor (Desc)'!B125=\"\",\"\",'RWIS Sensor (Desc)'!B125)","v":""},{"$f":"IF('RWIS Sensor (Desc)'!D125=\"\",\"\",INDEX([1]RWIS_SENSOR_TYPE!$A$2:$A$100,MATCH('RWIS Sensor (Desc)'!$D125,[1]!MASTER_RWIS_SENSOR_TYPE_DESC[#Data],0),0))","v":""},{"$f":"IF('RWIS Sensor (Desc)'!E125=\"\",\"\",'RWIS Sensor (Desc)'!E125)","v":""},{"$f":"IF('RWIS Sensor (Desc)'!F125=\"\",\"\",INDEX([1]RWIS_SENSOR_MODEL!$B$2:$B$100,MATCH(1,([1]RWIS_SENSOR_MODEL!$C$2:$C$100='RWIS Sensor (Desc)'!$F125)*([1]RWIS_SENSOR_MODEL!$E$2:$E$100='RWIS Sensor (Code)'!$C125),0),0))","v":""},{"$f":"IF('RWIS Sensor (Desc)'!G125=\"\",\"\",INDEX([1]RWIS_SENSOR_MODEL!$A$2:$A$100,MATCH(1,([1]RWIS_SENSOR_MODEL!$C$2:$C$100='RWIS Sensor (Desc)'!$F125)*([1]RWIS_SENSOR_MODEL!$D$2:$D$100='RWIS Sensor (Desc)'!$G125)*([1]RWIS_SENSOR_MODEL!$E$2:$E$100='RWIS Sensor (Code)'!$C125),0),0))","v":""},{"$f":"IF('RWIS Sensor (Desc)'!H125=\"\",\"\",'RWIS Sensor (Desc)'!H125)","v":""}]
[{"$f":"IF('RWIS Sensor (Desc)'!B126=\"\",\"\",\"2008\")","v":""},{"$f":"IF('RWIS Sensor (Desc)'!B126=\"\",\"\",'RWIS Sensor (Desc)'!B126)","v":""},{"$f":"IF('RWIS Sensor (Desc)'!D126=\"\",\"\",INDEX([1]RWIS_SENSOR_TYPE!$A$2:$A$100,MATCH('RWIS Sensor (Desc)'!$D126,[1]!MASTER_RWIS_SENSOR_TYPE_DESC[#Data],0),0))","v":""},{"$f":"IF('RWIS Sensor (Desc)'!E126=\"\",\"\",'RWIS Sensor (Desc)'!E126)","v":""},{"$f":"IF('RWIS Sensor (Desc)'!F126=\"\",\"\",INDEX([1]RWIS_SENSOR_MODEL!$B$2:$B$100,MATCH(1,([1]RWIS_SENSOR_MODEL!$C$2:$C$100='RWIS Sensor (Desc)'!$F126)*([1]RWIS_SENSOR_MODEL!$E$2:$E$100='RWIS Sensor (Code)'!$C126),0),0))","v":""},{"$f":"IF('RWIS Sensor (Desc)'!G126=\"\",\"\",INDEX([1]RWIS_SENSOR_MODEL!$A$2:$A$100,MATCH(1,([1]RWIS_SENSOR_MODEL!$C$2:$C$100='RWIS Sensor (Desc)'!$F126)*([1]RWIS_SENSOR_MODEL!$D$2:$D$100='RWIS Sensor (Desc)'!$G126)*([1]RWIS_SENSOR_MODEL!$E$2:$E$100='RWIS Sensor (Code)'!$C126),0),0))","v":""},{"$f":"IF('RWIS Sensor (Desc)'!H126=\"\",\"\",'RWIS Sensor (Desc)'!H126)","v":""}]
[{"$f":"IF('RWIS Sensor (Desc)'!B127=\"\",\"\",\"2008\")","v":""},{"$f":"IF('RWIS Sensor (Desc)'!B127=\"\",\"\",'RWIS Sensor (Desc)'!B127)","v":""},{"$f":"IF('RWIS Sensor (Desc)'!D127=\"\",\"\",INDEX([1]RWIS_SENSOR_TYPE!$A$2:$A$100,MATCH('RWIS Sensor (Desc)'!$D127,[1]!MASTER_RWIS_SENSOR_TYPE_DESC[#Data],0),0))","v":""},{"$f":"IF('RWIS Sensor (Desc)'!E127=\"\",\"\",'RWIS Sensor (Desc)'!E127)","v":""},{"$f":"IF('RWIS Sensor (Desc)'!F127=\"\",\"\",INDEX([1]RWIS_SENSOR_MODEL!$B$2:$B$100,MATCH(1,([1]RWIS_SENSOR_MODEL!$C$2:$C$100='RWIS Sensor (Desc)'!$F127)*([1]RWIS_SENSOR_MODEL!$E$2:$E$100='RWIS Sensor (Code)'!$C127),0),0))","v":""},{"$f":"IF('RWIS Sensor (Desc)'!G127=\"\",\"\",INDEX([1]RWIS_SENSOR_MODEL!$A$2:$A$100,MATCH(1,([1]RWIS_SENSOR_MODEL!$C$2:$C$100='RWIS Sensor (Desc)'!$F127)*([1]RWIS_SENSOR_MODEL!$D$2:$D$100='RWIS Sensor (Desc)'!$G127)*([1]RWIS_SENSOR_MODEL!$E$2:$E$100='RWIS Sensor (Code)'!$C127),0),0))","v":""},{"$f":"IF('RWIS Sensor (Desc)'!H127=\"\",\"\",'RWIS Sensor (Desc)'!H127)","v":""}]
[{"$f":"IF('RWIS Sensor (Desc)'!B128=\"\",\"\",\"2008\")","v":""},{"$f":"IF('RWIS Sensor (Desc)'!B128=\"\",\"\",'RWIS Sensor (Desc)'!B128)","v":""},{"$f":"IF('RWIS Sensor (Desc)'!D128=\"\",\"\",INDEX([1]RWIS_SENSOR_TYPE!$A$2:$A$100,MATCH('RWIS Sensor (Desc)'!$D128,[1]!MASTER_RWIS_SENSOR_TYPE_DESC[#Data],0),0))","v":""},{"$f":"IF('RWIS Sensor (Desc)'!E128=\"\",\"\",'RWIS Sensor (Desc)'!E128)","v":""},{"$f":"IF('RWIS Sensor (Desc)'!F128=\"\",\"\",INDEX([1]RWIS_SENSOR_MODEL!$B$2:$B$100,MATCH(1,([1]RWIS_SENSOR_MODEL!$C$2:$C$100='RWIS Sensor (Desc)'!$F128)*([1]RWIS_SENSOR_MODEL!$E$2:$E$100='RWIS Sensor (Code)'!$C128),0),0))","v":""},{"$f":"IF('RWIS Sensor (Desc)'!G128=\"\",\"\",INDEX([1]RWIS_SENSOR_MODEL!$A$2:$A$100,MATCH(1,([1]RWIS_SENSOR_MODEL!$C$2:$C$100='RWIS Sensor (Desc)'!$F128)*([1]RWIS_SENSOR_MODEL!$D$2:$D$100='RWIS Sensor (Desc)'!$G128)*([1]RWIS_SENSOR_MODEL!$E$2:$E$100='RWIS Sensor (Code)'!$C128),0),0))","v":""},{"$f":"IF('RWIS Sensor (Desc)'!H128=\"\",\"\",'RWIS Sensor (Desc)'!H128)","v":""}]
[{"$f":"IF('RWIS Sensor (Desc)'!B129=\"\",\"\",\"2008\")","v":""},{"$f":"IF('RWIS Sensor (Desc)'!B129=\"\",\"\",'RWIS Sensor (Desc)'!B129)","v":""},{"$f":"IF('RWIS Sensor (Desc)'!D129=\"\",\"\",INDEX([1]RWIS_SENSOR_TYPE!$A$2:$A$100,MATCH('RWIS Sensor (Desc)'!$D129,[1]!MASTER_RWIS_SENSOR_TYPE_DESC[#Data],0),0))","v":""},{"$f":"IF('RWIS Sensor (Desc)'!E129=\"\",\"\",'RWIS Sensor (Desc)'!E129)","v":""},{"$f":"IF('RWIS Sensor (Desc)'!F129=\"\",\"\",INDEX([1]RWIS_SENSOR_MODEL!$B$2:$B$100,MATCH(1,([1]RWIS_SENSOR_MODEL!$C$2:$C$100='RWIS Sensor (Desc)'!$F129)*([1]RWIS_SENSOR_MODEL!$E$2:$E$100='RWIS Sensor (Code)'!$C129),0),0))","v":""},{"$f":"IF('RWIS Sensor (Desc)'!G129=\"\",\"\",INDEX([1]RWIS_SENSOR_MODEL!$A$2:$A$100,MATCH(1,([1]RWIS_SENSOR_MODEL!$C$2:$C$100='RWIS Sensor (Desc)'!$F129)*([1]RWIS_SENSOR_MODEL!$D$2:$D$100='RWIS Sensor (Desc)'!$G129)*([1]RWIS_SENSOR_MODEL!$E$2:$E$100='RWIS Sensor (Code)'!$C129),0),0))","v":""},{"$f":"IF('RWIS Sensor (Desc)'!H129=\"\",\"\",'RWIS Sensor (Desc)'!H129)","v":""}]
[{"$f":"IF('RWIS Sensor (Desc)'!B130=\"\",\"\",\"2008\")","v":""},{"$f":"IF('RWIS Sensor (Desc)'!B130=\"\",\"\",'RWIS Sensor (Desc)'!B130)","v":""},{"$f":"IF('RWIS Sensor (Desc)'!D130=\"\",\"\",INDEX([1]RWIS_SENSOR_TYPE!$A$2:$A$100,MATCH('RWIS Sensor (Desc)'!$D130,[1]!MASTER_RWIS_SENSOR_TYPE_DESC[#Data],0),0))","v":""},{"$f":"IF('RWIS Sensor (Desc)'!E130=\"\",\"\",'RWIS Sensor (Desc)'!E130)","v":""},{"$f":"IF('RWIS Sensor (Desc)'!F130=\"\",\"\",INDEX([1]RWIS_SENSOR_MODEL!$B$2:$B$100,MATCH(1,([1]RWIS_SENSOR_MODEL!$C$2:$C$100='RWIS Sensor (Desc)'!$F130)*([1]RWIS_SENSOR_MODEL!$E$2:$E$100='RWIS Sensor (Code)'!$C130),0),0))","v":""},{"$f":"IF('RWIS Sensor (Desc)'!G130=\"\",\"\",INDEX([1]RWIS_SENSOR_MODEL!$A$2:$A$100,MATCH(1,([1]RWIS_SENSOR_MODEL!$C$2:$C$100='RWIS Sensor (Desc)'!$F130)*([1]RWIS_SENSOR_MODEL!$D$2:$D$100='RWIS Sensor (Desc)'!$G130)*([1]RWIS_SENSOR_MODEL!$E$2:$E$100='RWIS Sensor (Code)'!$C130),0),0))","v":""},{"$f":"IF('RWIS Sensor (Desc)'!H130=\"\",\"\",'RWIS Sensor (Desc)'!H130)","v":""}]
[{"$f":"IF('RWIS Sensor (Desc)'!B131=\"\",\"\",\"2008\")","v":""},{"$f":"IF('RWIS Sensor (Desc)'!B131=\"\",\"\",'RWIS Sensor (Desc)'!B131)","v":""},{"$f":"IF('RWIS Sensor (Desc)'!D131=\"\",\"\",INDEX([1]RWIS_SENSOR_TYPE!$A$2:$A$100,MATCH('RWIS Sensor (Desc)'!$D131,[1]!MASTER_RWIS_SENSOR_TYPE_DESC[#Data],0),0))","v":""},{"$f":"IF('RWIS Sensor (Desc)'!E131=\"\",\"\",'RWIS Sensor (Desc)'!E131)","v":""},{"$f":"IF('RWIS Sensor (Desc)'!F131=\"\",\"\",INDEX([1]RWIS_SENSOR_MODEL!$B$2:$B$100,MATCH(1,([1]RWIS_SENSOR_MODEL!$C$2:$C$100='RWIS Sensor (Desc)'!$F131)*([1]RWIS_SENSOR_MODEL!$E$2:$E$100='RWIS Sensor (Code)'!$C131),0),0))","v":""},{"$f":"IF('RWIS Sensor (Desc)'!G131=\"\",\"\",INDEX([1]RWIS_SENSOR_MODEL!$A$2:$A$100,MATCH(1,([1]RWIS_SENSOR_MODEL!$C$2:$C$100='RWIS Sensor (Desc)'!$F131)*([1]RWIS_SENSOR_MODEL!$D$2:$D$100='RWIS Sensor (Desc)'!$G131)*([1]RWIS_SENSOR_MODEL!$E$2:$E$100='RWIS Sensor (Code)'!$C131),0),0))","v":""},{"$f":"IF('RWIS Sensor (Desc)'!H131=\"\",\"\",'RWIS Sensor (Desc)'!H131)","v":""}]
[{"$f":"IF('RWIS Sensor (Desc)'!B132=\"\",\"\",\"2008\")","v":""},{"$f":"IF('RWIS Sensor (Desc)'!B132=\"\",\"\",'RWIS Sensor (Desc)'!B132)","v":""},{"$f":"IF('RWIS Sensor (Desc)'!D132=\"\",\"\",INDEX([1]RWIS_SENSOR_TYPE!$A$2:$A$100,MATCH('RWIS Sensor (Desc)'!$D132,[1]!MASTER_RWIS_SENSOR_TYPE_DESC[#Data],0),0))","v":""},{"$f":"IF('RWIS Sensor (Desc)'!E132=\"\",\"\",'RWIS Sensor (Desc)'!E132)","v":""},{"$f":"IF('RWIS Sensor (Desc)'!F132=\"\",\"\",INDEX([1]RWIS_SENSOR_MODEL!$B$2:$B$100,MATCH(1,([1]RWIS_SENSOR_MODEL!$C$2:$C$100='RWIS Sensor (Desc)'!$F132)*([1]RWIS_SENSOR_MODEL!$E$2:$E$100='RWIS Sensor (Code)'!$C132),0),0))","v":""},{"$f":"IF('RWIS Sensor (Desc)'!G132=\"\",\"\",INDEX([1]RWIS_SENSOR_MODEL!$A$2:$A$100,MATCH(1,([1]RWIS_SENSOR_MODEL!$C$2:$C$100='RWIS Sensor (Desc)'!$F132)*([1]RWIS_SENSOR_MODEL!$D$2:$D$100='RWIS Sensor (Desc)'!$G132)*([1]RWIS_SENSOR_MODEL!$E$2:$E$100='RWIS Sensor (Code)'!$C132),0),0))","v":""},{"$f":"IF('RWIS Sensor (Desc)'!H132=\"\",\"\",'RWIS Sensor (Desc)'!H132)","v":""}]
[{"$f":"IF('RWIS Sensor (Desc)'!B133=\"\",\"\",\"2008\")","v":""},{"$f":"IF('RWIS Sensor (Desc)'!B133=\"\",\"\",'RWIS Sensor (Desc)'!B133)","v":""},{"$f":"IF('RWIS Sensor (Desc)'!D133=\"\",\"\",INDEX([1]RWIS_SENSOR_TYPE!$A$2:$A$100,MATCH('RWIS Sensor (Desc)'!$D133,[1]!MASTER_RWIS_SENSOR_TYPE_DESC[#Data],0),0))","v":""},{"$f":"IF('RWIS Sensor (Desc)'!E133=\"\",\"\",'RWIS Sensor (Desc)'!E133)","v":""},{"$f":"IF('RWIS Sensor (Desc)'!F133=\"\",\"\",INDEX([1]RWIS_SENSOR_MODEL!$B$2:$B$100,MATCH(1,([1]RWIS_SENSOR_MODEL!$C$2:$C$100='RWIS Sensor (Desc)'!$F133)*([1]RWIS_SENSOR_MODEL!$E$2:$E$100='RWIS Sensor (Code)'!$C133),0),0))","v":""},{"$f":"IF('RWIS Sensor (Desc)'!G133=\"\",\"\",INDEX([1]RWIS_SENSOR_MODEL!$A$2:$A$100,MATCH(1,([1]RWIS_SENSOR_MODEL!$C$2:$C$100='RWIS Sensor (Desc)'!$F133)*([1]RWIS_SENSOR_MODEL!$D$2:$D$100='RWIS Sensor (Desc)'!$G133)*([1]RWIS_SENSOR_MODEL!$E$2:$E$100='RWIS Sensor (Code)'!$C133),0),0))","v":""},{"$f":"IF('RWIS Sensor (Desc)'!H133=\"\",\"\",'RWIS Sensor (Desc)'!H133)","v":""}]
[{"$f":"IF('RWIS Sensor (Desc)'!B134=\"\",\"\",\"2008\")","v":""},{"$f":"IF('RWIS Sensor (Desc)'!B134=\"\",\"\",'RWIS Sensor (Desc)'!B134)","v":""},{"$f":"IF('RWIS Sensor (Desc)'!D134=\"\",\"\",INDEX([1]RWIS_SENSOR_TYPE!$A$2:$A$100,MATCH('RWIS Sensor (Desc)'!$D134,[1]!MASTER_RWIS_SENSOR_TYPE_DESC[#Data],0),0))","v":""},{"$f":"IF('RWIS Sensor (Desc)'!E134=\"\",\"\",'RWIS Sensor (Desc)'!E134)","v":""},{"$f":"IF('RWIS Sensor (Desc)'!F134=\"\",\"\",INDEX([1]RWIS_SENSOR_MODEL!$B$2:$B$100,MATCH(1,([1]RWIS_SENSOR_MODEL!$C$2:$C$100='RWIS Sensor (Desc)'!$F134)*([1]RWIS_SENSOR_MODEL!$E$2:$E$100='RWIS Sensor (Code)'!$C134),0),0))","v":""},{"$f":"IF('RWIS Sensor (Desc)'!G134=\"\",\"\",INDEX([1]RWIS_SENSOR_MODEL!$A$2:$A$100,MATCH(1,([1]RWIS_SENSOR_MODEL!$C$2:$C$100='RWIS Sensor (Desc)'!$F134)*([1]RWIS_SENSOR_MODEL!$D$2:$D$100='RWIS Sensor (Desc)'!$G134)*([1]RWIS_SENSOR_MODEL!$E$2:$E$100='RWIS Sensor (Code)'!$C134),0),0))","v":""},{"$f":"IF('RWIS Sensor (Desc)'!H134=\"\",\"\",'RWIS Sensor (Desc)'!H134)","v":""}]
[{"$f":"IF('RWIS Sensor (Desc)'!B135=\"\",\"\",\"2008\")","v":""},{"$f":"IF('RWIS Sensor (Desc)'!B135=\"\",\"\",'RWIS Sensor (Desc)'!B135)","v":""},{"$f":"IF('RWIS Sensor (Desc)'!D135=\"\",\"\",INDEX([1]RWIS_SENSOR_TYPE!$A$2:$A$100,MATCH('RWIS Sensor (Desc)'!$D135,[1]!MASTER_RWIS_SENSOR_TYPE_DESC[#Data],0),0))","v":""},{"$f":"IF('RWIS Sensor (Desc)'!E135=\"\",\"\",'RWIS Sensor (Desc)'!E135)","v":""},{"$f":"IF('RWIS Sensor (Desc)'!F135=\"\",\"\",INDEX([1]RWIS_SENSOR_MODEL!$B$2:$B$100,MATCH(1,([1]RWIS_SENSOR_MODEL!$C$2:$C$100='RWIS Sensor (Desc)'!$F135)*([1]RWIS_SENSOR_MODEL!$E$2:$E$100='RWIS Sensor (Code)'!$C135),0),0))","v":""},{"$f":"IF('RWIS Sensor (Desc)'!G135=\"\",\"\",INDEX([1]RWIS_SENSOR_MODEL!$A$2:$A$100,MATCH(1,([1]RWIS_SENSOR_MODEL!$C$2:$C$100='RWIS Sensor (Desc)'!$F135)*([1]RWIS_SENSOR_MODEL!$D$2:$D$100='RWIS Sensor (Desc)'!$G135)*([1]RWIS_SENSOR_MODEL!$E$2:$E$100='RWIS Sensor (Code)'!$C135),0),0))","v":""},{"$f":"IF('RWIS Sensor (Desc)'!H135=\"\",\"\",'RWIS Sensor (Desc)'!H135)","v":""}]
[{"$f":"IF('RWIS Sensor (Desc)'!B136=\"\",\"\",\"2008\")","v":""},{"$f":"IF('RWIS Sensor (Desc)'!B136=\"\",\"\",'RWIS Sensor (Desc)'!B136)","v":""},{"$f":"IF('RWIS Sensor (Desc)'!D136=\"\",\"\",INDEX([1]RWIS_SENSOR_TYPE!$A$2:$A$100,MATCH('RWIS Sensor (Desc)'!$D136,[1]!MASTER_RWIS_SENSOR_TYPE_DESC[#Data],0),0))","v":""},{"$f":"IF('RWIS Sensor (Desc)'!E136=\"\",\"\",'RWIS Sensor (Desc)'!E136)","v":""},{"$f":"IF('RWIS Sensor (Desc)'!F136=\"\",\"\",INDEX([1]RWIS_SENSOR_MODEL!$B$2:$B$100,MATCH(1,([1]RWIS_SENSOR_MODEL!$C$2:$C$100='RWIS Sensor (Desc)'!$F136)*([1]RWIS_SENSOR_MODEL!$E$2:$E$100='RWIS Sensor (Code)'!$C136),0),0))","v":""},{"$f":"IF('RWIS Sensor (Desc)'!G136=\"\",\"\",INDEX([1]RWIS_SENSOR_MODEL!$A$2:$A$100,MATCH(1,([1]RWIS_SENSOR_MODEL!$C$2:$C$100='RWIS Sensor (Desc)'!$F136)*([1]RWIS_SENSOR_MODEL!$D$2:$D$100='RWIS Sensor (Desc)'!$G136)*([1]RWIS_SENSOR_MODEL!$E$2:$E$100='RWIS Sensor (Code)'!$C136),0),0))","v":""},{"$f":"IF('RWIS Sensor (Desc)'!H136=\"\",\"\",'RWIS Sensor (Desc)'!H136)","v":""}]
[{"$f":"IF('RWIS Sensor (Desc)'!B137=\"\",\"\",\"2008\")","v":""},{"$f":"IF('RWIS Sensor (Desc)'!B137=\"\",\"\",'RWIS Sensor (Desc)'!B137)","v":""},{"$f":"IF('RWIS Sensor (Desc)'!D137=\"\",\"\",INDEX([1]RWIS_SENSOR_TYPE!$A$2:$A$100,MATCH('RWIS Sensor (Desc)'!$D137,[1]!MASTER_RWIS_SENSOR_TYPE_DESC[#Data],0),0))","v":""},{"$f":"IF('RWIS Sensor (Desc)'!E137=\"\",\"\",'RWIS Sensor (Desc)'!E137)","v":""},{"$f":"IF('RWIS Sensor (Desc)'!F137=\"\",\"\",INDEX([1]RWIS_SENSOR_MODEL!$B$2:$B$100,MATCH(1,([1]RWIS_SENSOR_MODEL!$C$2:$C$100='RWIS Sensor (Desc)'!$F137)*([1]RWIS_SENSOR_MODEL!$E$2:$E$100='RWIS Sensor (Code)'!$C137),0),0))","v":""},{"$f":"IF('RWIS Sensor (Desc)'!G137=\"\",\"\",INDEX([1]RWIS_SENSOR_MODEL!$A$2:$A$100,MATCH(1,([1]RWIS_SENSOR_MODEL!$C$2:$C$100='RWIS Sensor (Desc)'!$F137)*([1]RWIS_SENSOR_MODEL!$D$2:$D$100='RWIS Sensor (Desc)'!$G137)*([1]RWIS_SENSOR_MODEL!$E$2:$E$100='RWIS Sensor (Code)'!$C137),0),0))","v":""},{"$f":"IF('RWIS Sensor (Desc)'!H137=\"\",\"\",'RWIS Sensor (Desc)'!H137)","v":""}]
[{"$f":"IF('RWIS Sensor (Desc)'!B138=\"\",\"\",\"2008\")","v":""},{"$f":"IF('RWIS Sensor (Desc)'!B138=\"\",\"\",'RWIS Sensor (Desc)'!B138)","v":""},{"$f":"IF('RWIS Sensor (Desc)'!D138=\"\",\"\",INDEX([1]RWIS_SENSOR_TYPE!$A$2:$A$100,MATCH('RWIS Sensor (Desc)'!$D138,[1]!MASTER_RWIS_SENSOR_TYPE_DESC[#Data],0),0))","v":""},{"$f":"IF('RWIS Sensor (Desc)'!E138=\"\",\"\",'RWIS Sensor (Desc)'!E138)","v":""},{"$f":"IF('RWIS Sensor (Desc)'!F138=\"\",\"\",INDEX([1]RWIS_SENSOR_MODEL!$B$2:$B$100,MATCH(1,([1]RWIS_SENSOR_MODEL!$C$2:$C$100='RWIS Sensor (Desc)'!$F138)*([1]RWIS_SENSOR_MODEL!$E$2:$E$100='RWIS Sensor (Code)'!$C138),0),0))","v":""},{"$f":"IF('RWIS Sensor (Desc)'!G138=\"\",\"\",INDEX([1]RWIS_SENSOR_MODEL!$A$2:$A$100,MATCH(1,([1]RWIS_SENSOR_MODEL!$C$2:$C$100='RWIS Sensor (Desc)'!$F138)*([1]RWIS_SENSOR_MODEL!$D$2:$D$100='RWIS Sensor (Desc)'!$G138)*([1]RWIS_SENSOR_MODEL!$E$2:$E$100='RWIS Sensor (Code)'!$C138),0),0))","v":""},{"$f":"IF('RWIS Sensor (Desc)'!H138=\"\",\"\",'RWIS Sensor (Desc)'!H138)","v":""}]
[{"$f":"IF('RWIS Sensor (Desc)'!B139=\"\",\"\",\"2008\")","v":""},{"$f":"IF('RWIS Sensor (Desc)'!B139=\"\",\"\",'RWIS Sensor (Desc)'!B139)","v":""},{"$f":"IF('RWIS Sensor (Desc)'!D139=\"\",\"\",INDEX([1]RWIS_SENSOR_TYPE!$A$2:$A$100,MATCH('RWIS Sensor (Desc)'!$D139,[1]!MASTER_RWIS_SENSOR_TYPE_DESC[#Data],0),0))","v":""},{"$f":"IF('RWIS Sensor (Desc)'!E139=\"\",\"\",'RWIS Sensor (Desc)'!E139)","v":""},{"$f":"IF('RWIS Sensor (Desc)'!F139=\"\",\"\",INDEX([1]RWIS_SENSOR_MODEL!$B$2:$B$100,MATCH(1,([1]RWIS_SENSOR_MODEL!$C$2:$C$100='RWIS Sensor (Desc)'!$F139)*([1]RWIS_SENSOR_MODEL!$E$2:$E$100='RWIS Sensor (Code)'!$C139),0),0))","v":""},{"$f":"IF('RWIS Sensor (Desc)'!G139=\"\",\"\",INDEX([1]RWIS_SENSOR_MODEL!$A$2:$A$100,MATCH(1,([1]RWIS_SENSOR_MODEL!$C$2:$C$100='RWIS Sensor (Desc)'!$F139)*([1]RWIS_SENSOR_MODEL!$D$2:$D$100='RWIS Sensor (Desc)'!$G139)*([1]RWIS_SENSOR_MODEL!$E$2:$E$100='RWIS Sensor (Code)'!$C139),0),0))","v":""},{"$f":"IF('RWIS Sensor (Desc)'!H139=\"\",\"\",'RWIS Sensor (Desc)'!H139)","v":""}]
[{"$f":"IF('RWIS Sensor (Desc)'!B140=\"\",\"\",\"2008\")","v":""},{"$f":"IF('RWIS Sensor (Desc)'!B140=\"\",\"\",'RWIS Sensor (Desc)'!B140)","v":""},{"$f":"IF('RWIS Sensor (Desc)'!D140=\"\",\"\",INDEX([1]RWIS_SENSOR_TYPE!$A$2:$A$100,MATCH('RWIS Sensor (Desc)'!$D140,[1]!MASTER_RWIS_SENSOR_TYPE_DESC[#Data],0),0))","v":""},{"$f":"IF('RWIS Sensor (Desc)'!E140=\"\",\"\",'RWIS Sensor (Desc)'!E140)","v":""},{"$f":"IF('RWIS Sensor (Desc)'!F140=\"\",\"\",INDEX([1]RWIS_SENSOR_MODEL!$B$2:$B$100,MATCH(1,([1]RWIS_SENSOR_MODEL!$C$2:$C$100='RWIS Sensor (Desc)'!$F140)*([1]RWIS_SENSOR_MODEL!$E$2:$E$100='RWIS Sensor (Code)'!$C140),0),0))","v":""},{"$f":"IF('RWIS Sensor (Desc)'!G140=\"\",\"\",INDEX([1]RWIS_SENSOR_MODEL!$A$2:$A$100,MATCH(1,([1]RWIS_SENSOR_MODEL!$C$2:$C$100='RWIS Sensor (Desc)'!$F140)*([1]RWIS_SENSOR_MODEL!$D$2:$D$100='RWIS Sensor (Desc)'!$G140)*([1]RWIS_SENSOR_MODEL!$E$2:$E$100='RWIS Sensor (Code)'!$C140),0),0))","v":""},{"$f":"IF('RWIS Sensor (Desc)'!H140=\"\",\"\",'RWIS Sensor (Desc)'!H140)","v":""}]
[{"$f":"IF('RWIS Sensor (Desc)'!B141=\"\",\"\",\"2008\")","v":""},{"$f":"IF('RWIS Sensor (Desc)'!B141=\"\",\"\",'RWIS Sensor (Desc)'!B141)","v":""},{"$f":"IF('RWIS Sensor (Desc)'!D141=\"\",\"\",INDEX([1]RWIS_SENSOR_TYPE!$A$2:$A$100,MATCH('RWIS Sensor (Desc)'!$D141,[1]!MASTER_RWIS_SENSOR_TYPE_DESC[#Data],0),0))","v":""},{"$f":"IF('RWIS Sensor (Desc)'!E141=\"\",\"\",'RWIS Sensor (Desc)'!E141)","v":""},{"$f":"IF('RWIS Sensor (Desc)'!F141=\"\",\"\",INDEX([1]RWIS_SENSOR_MODEL!$B$2:$B$100,MATCH(1,([1]RWIS_SENSOR_MODEL!$C$2:$C$100='RWIS Sensor (Desc)'!$F141)*([1]RWIS_SENSOR_MODEL!$E$2:$E$100='RWIS Sensor (Code)'!$C141),0),0))","v":""},{"$f":"IF('RWIS Sensor (Desc)'!G141=\"\",\"\",INDEX([1]RWIS_SENSOR_MODEL!$A$2:$A$100,MATCH(1,([1]RWIS_SENSOR_MODEL!$C$2:$C$100='RWIS Sensor (Desc)'!$F141)*([1]RWIS_SENSOR_MODEL!$D$2:$D$100='RWIS Sensor (Desc)'!$G141)*([1]RWIS_SENSOR_MODEL!$E$2:$E$100='RWIS Sensor (Code)'!$C141),0),0))","v":""},{"$f":"IF('RWIS Sensor (Desc)'!H141=\"\",\"\",'RWIS Sensor (Desc)'!H141)","v":""}]
[{"$f":"IF('RWIS Sensor (Desc)'!B142=\"\",\"\",\"2008\")","v":""},{"$f":"IF('RWIS Sensor (Desc)'!B142=\"\",\"\",'RWIS Sensor (Desc)'!B142)","v":""},{"$f":"IF('RWIS Sensor (Desc)'!D142=\"\",\"\",INDEX([1]RWIS_SENSOR_TYPE!$A$2:$A$100,MATCH('RWIS Sensor (Desc)'!$D142,[1]!MASTER_RWIS_SENSOR_TYPE_DESC[#Data],0),0))","v":""},{"$f":"IF('RWIS Sensor (Desc)'!E142=\"\",\"\",'RWIS Sensor (Desc)'!E142)","v":""},{"$f":"IF('RWIS Sensor (Desc)'!F142=\"\",\"\",INDEX([1]RWIS_SENSOR_MODEL!$B$2:$B$100,MATCH(1,([1]RWIS_SENSOR_MODEL!$C$2:$C$100='RWIS Sensor (Desc)'!$F142)*([1]RWIS_SENSOR_MODEL!$E$2:$E$100='RWIS Sensor (Code)'!$C142),0),0))","v":""},{"$f":"IF('RWIS Sensor (Desc)'!G142=\"\",\"\",INDEX([1]RWIS_SENSOR_MODEL!$A$2:$A$100,MATCH(1,([1]RWIS_SENSOR_MODEL!$C$2:$C$100='RWIS Sensor (Desc)'!$F142)*([1]RWIS_SENSOR_MODEL!$D$2:$D$100='RWIS Sensor (Desc)'!$G142)*([1]RWIS_SENSOR_MODEL!$E$2:$E$100='RWIS Sensor (Code)'!$C142),0),0))","v":""},{"$f":"IF('RWIS Sensor (Desc)'!H142=\"\",\"\",'RWIS Sensor (Desc)'!H142)","v":""}]
[{"$f":"IF('RWIS Sensor (Desc)'!B143=\"\",\"\",\"2008\")","v":""},{"$f":"IF('RWIS Sensor (Desc)'!B143=\"\",\"\",'RWIS Sensor (Desc)'!B143)","v":""},{"$f":"IF('RWIS Sensor (Desc)'!D143=\"\",\"\",INDEX([1]RWIS_SENSOR_TYPE!$A$2:$A$100,MATCH('RWIS Sensor (Desc)'!$D143,[1]!MASTER_RWIS_SENSOR_TYPE_DESC[#Data],0),0))","v":""},{"$f":"IF('RWIS Sensor (Desc)'!E143=\"\",\"\",'RWIS Sensor (Desc)'!E143)","v":""},{"$f":"IF('RWIS Sensor (Desc)'!F143=\"\",\"\",INDEX([1]RWIS_SENSOR_MODEL!$B$2:$B$100,MATCH(1,([1]RWIS_SENSOR_MODEL!$C$2:$C$100='RWIS Sensor (Desc)'!$F143)*([1]RWIS_SENSOR_MODEL!$E$2:$E$100='RWIS Sensor (Code)'!$C143),0),0))","v":""},{"$f":"IF('RWIS Sensor (Desc)'!G143=\"\",\"\",INDEX([1]RWIS_SENSOR_MODEL!$A$2:$A$100,MATCH(1,([1]RWIS_SENSOR_MODEL!$C$2:$C$100='RWIS Sensor (Desc)'!$F143)*([1]RWIS_SENSOR_MODEL!$D$2:$D$100='RWIS Sensor (Desc)'!$G143)*([1]RWIS_SENSOR_MODEL!$E$2:$E$100='RWIS Sensor (Code)'!$C143),0),0))","v":""},{"$f":"IF('RWIS Sensor (Desc)'!H143=\"\",\"\",'RWIS Sensor (Desc)'!H143)","v":""}]
[{"$f":"IF('RWIS Sensor (Desc)'!B144=\"\",\"\",\"2008\")","v":""},{"$f":"IF('RWIS Sensor (Desc)'!B144=\"\",\"\",'RWIS Sensor (Desc)'!B144)","v":""},{"$f":"IF('RWIS Sensor (Desc)'!D144=\"\",\"\",INDEX([1]RWIS_SENSOR_TYPE!$A$2:$A$100,MATCH('RWIS Sensor (Desc)'!$D144,[1]!MASTER_RWIS_SENSOR_TYPE_DESC[#Data],0),0))","v":""},{"$f":"IF('RWIS Sensor (Desc)'!E144=\"\",\"\",'RWIS Sensor (Desc)'!E144)","v":""},{"$f":"IF('RWIS Sensor (Desc)'!F144=\"\",\"\",INDEX([1]RWIS_SENSOR_MODEL!$B$2:$B$100,MATCH(1,([1]RWIS_SENSOR_MODEL!$C$2:$C$100='RWIS Sensor (Desc)'!$F144)*([1]RWIS_SENSOR_MODEL!$E$2:$E$100='RWIS Sensor (Code)'!$C144),0),0))","v":""},{"$f":"IF('RWIS Sensor (Desc)'!G144=\"\",\"\",INDEX([1]RWIS_SENSOR_MODEL!$A$2:$A$100,MATCH(1,([1]RWIS_SENSOR_MODEL!$C$2:$C$100='RWIS Sensor (Desc)'!$F144)*([1]RWIS_SENSOR_MODEL!$D$2:$D$100='RWIS Sensor (Desc)'!$G144)*([1]RWIS_SENSOR_MODEL!$E$2:$E$100='RWIS Sensor (Code)'!$C144),0),0))","v":""},{"$f":"IF('RWIS Sensor (Desc)'!H144=\"\",\"\",'RWIS Sensor (Desc)'!H144)","v":""}]
[{"$f":"IF('RWIS Sensor (Desc)'!B145=\"\",\"\",\"2008\")","v":""},{"$f":"IF('RWIS Sensor (Desc)'!B145=\"\",\"\",'RWIS Sensor (Desc)'!B145)","v":""},{"$f":"IF('RWIS Sensor (Desc)'!D145=\"\",\"\",INDEX([1]RWIS_SENSOR_TYPE!$A$2:$A$100,MATCH('RWIS Sensor (Desc)'!$D145,[1]!MASTER_RWIS_SENSOR_TYPE_DESC[#Data],0),0))","v":""},{"$f":"IF('RWIS Sensor (Desc)'!E145=\"\",\"\",'RWIS Sensor (Desc)'!E145)","v":""},{"$f":"IF('RWIS Sensor (Desc)'!F145=\"\",\"\",INDEX([1]RWIS_SENSOR_MODEL!$B$2:$B$100,MATCH(1,([1]RWIS_SENSOR_MODEL!$C$2:$C$100='RWIS Sensor (Desc)'!$F145)*([1]RWIS_SENSOR_MODEL!$E$2:$E$100='RWIS Sensor (Code)'!$C145),0),0))","v":""},{"$f":"IF('RWIS Sensor (Desc)'!G145=\"\",\"\",INDEX([1]RWIS_SENSOR_MODEL!$A$2:$A$100,MATCH(1,([1]RWIS_SENSOR_MODEL!$C$2:$C$100='RWIS Sensor (Desc)'!$F145)*([1]RWIS_SENSOR_MODEL!$D$2:$D$100='RWIS Sensor (Desc)'!$G145)*([1]RWIS_SENSOR_MODEL!$E$2:$E$100='RWIS Sensor (Code)'!$C145),0),0))","v":""},{"$f":"IF('RWIS Sensor (Desc)'!H145=\"\",\"\",'RWIS Sensor (Desc)'!H145)","v":""}]
[{"$f":"IF('RWIS Sensor (Desc)'!B146=\"\",\"\",\"2008\")","v":""},{"$f":"IF('RWIS Sensor (Desc)'!B146=\"\",\"\",'RWIS Sensor (Desc)'!B146)","v":""},{"$f":"IF('RWIS Sensor (Desc)'!D146=\"\",\"\",INDEX([1]RWIS_SENSOR_TYPE!$A$2:$A$100,MATCH('RWIS Sensor (Desc)'!$D146,[1]!MASTER_RWIS_SENSOR_TYPE_DESC[#Data],0),0))","v":""},{"$f":"IF('RWIS Sensor (Desc)'!E146=\"\",\"\",'RWIS Sensor (Desc)'!E146)","v":""},{"$f":"IF('RWIS Sensor (Desc)'!F146=\"\",\"\",INDEX([1]RWIS_SENSOR_MODEL!$B$2:$B$100,MATCH(1,([1]RWIS_SENSOR_MODEL!$C$2:$C$100='RWIS Sensor (Desc)'!$F146)*([1]RWIS_SENSOR_MODEL!$E$2:$E$100='RWIS Sensor (Code)'!$C146),0),0))","v":""},{"$f":"IF('RWIS Sensor (Desc)'!G146=\"\",\"\",INDEX([1]RWIS_SENSOR_MODEL!$A$2:$A$100,MATCH(1,([1]RWIS_SENSOR_MODEL!$C$2:$C$100='RWIS Sensor (Desc)'!$F146)*([1]RWIS_SENSOR_MODEL!$D$2:$D$100='RWIS Sensor (Desc)'!$G146)*([1]RWIS_SENSOR_MODEL!$E$2:$E$100='RWIS Sensor (Code)'!$C146),0),0))","v":""},{"$f":"IF('RWIS Sensor (Desc)'!H146=\"\",\"\",'RWIS Sensor (Desc)'!H146)","v":""}]
[{"$f":"IF('RWIS Sensor (Desc)'!B147=\"\",\"\",\"2008\")","v":""},{"$f":"IF('RWIS Sensor (Desc)'!B147=\"\",\"\",'RWIS Sensor (Desc)'!B147)","v":""},{"$f":"IF('RWIS Sensor (Desc)'!D147=\"\",\"\",INDEX([1]RWIS_SENSOR_TYPE!$A$2:$A$100,MATCH('RWIS Sensor (Desc)'!$D147,[1]!MASTER_RWIS_SENSOR_TYPE_DESC[#Data],0),0))","v":""},{"$f":"IF('RWIS Sensor (Desc)'!E147=\"\",\"\",'RWIS Sensor (Desc)'!E147)","v":""},{"$f":"IF('RWIS Sensor (Desc)'!F147=\"\",\"\",INDEX([1]RWIS_SENSOR_MODEL!$B$2:$B$100,MATCH(1,([1]RWIS_SENSOR_MODEL!$C$2:$C$100='RWIS Sensor (Desc)'!$F147)*([1]RWIS_SENSOR_MODEL!$E$2:$E$100='RWIS Sensor (Code)'!$C147),0),0))","v":""},{"$f":"IF('RWIS Sensor (Desc)'!G147=\"\",\"\",INDEX([1]RWIS_SENSOR_MODEL!$A$2:$A$100,MATCH(1,([1]RWIS_SENSOR_MODEL!$C$2:$C$100='RWIS Sensor (Desc)'!$F147)*([1]RWIS_SENSOR_MODEL!$D$2:$D$100='RWIS Sensor (Desc)'!$G147)*([1]RWIS_SENSOR_MODEL!$E$2:$E$100='RWIS Sensor (Code)'!$C147),0),0))","v":""},{"$f":"IF('RWIS Sensor (Desc)'!H147=\"\",\"\",'RWIS Sensor (Desc)'!H147)","v":""}]
[{"$f":"IF('RWIS Sensor (Desc)'!B148=\"\",\"\",\"2008\")","v":""},{"$f":"IF('RWIS Sensor (Desc)'!B148=\"\",\"\",'RWIS Sensor (Desc)'!B148)","v":""},{"$f":"IF('RWIS Sensor (Desc)'!D148=\"\",\"\",INDEX([1]RWIS_SENSOR_TYPE!$A$2:$A$100,MATCH('RWIS Sensor (Desc)'!$D148,[1]!MASTER_RWIS_SENSOR_TYPE_DESC[#Data],0),0))","v":""},{"$f":"IF('RWIS Sensor (Desc)'!E148=\"\",\"\",'RWIS Sensor (Desc)'!E148)","v":""},{"$f":"IF('RWIS Sensor (Desc)'!F148=\"\",\"\",INDEX([1]RWIS_SENSOR_MODEL!$B$2:$B$100,MATCH(1,([1]RWIS_SENSOR_MODEL!$C$2:$C$100='RWIS Sensor (Desc)'!$F148)*([1]RWIS_SENSOR_MODEL!$E$2:$E$100='RWIS Sensor (Code)'!$C148),0),0))","v":""},{"$f":"IF('RWIS Sensor (Desc)'!G148=\"\",\"\",INDEX([1]RWIS_SENSOR_MODEL!$A$2:$A$100,MATCH(1,([1]RWIS_SENSOR_MODEL!$C$2:$C$100='RWIS Sensor (Desc)'!$F148)*([1]RWIS_SENSOR_MODEL!$D$2:$D$100='RWIS Sensor (Desc)'!$G148)*([1]RWIS_SENSOR_MODEL!$E$2:$E$100='RWIS Sensor (Code)'!$C148),0),0))","v":""},{"$f":"IF('RWIS Sensor (Desc)'!H148=\"\",\"\",'RWIS Sensor (Desc)'!H148)","v":""}]
[{"$f":"IF('RWIS Sensor (Desc)'!B149=\"\",\"\",\"2008\")","v":""},{"$f":"IF('RWIS Sensor (Desc)'!B149=\"\",\"\",'RWIS Sensor (Desc)'!B149)","v":""},{"$f":"IF('RWIS Sensor (Desc)'!D149=\"\",\"\",INDEX([1]RWIS_SENSOR_TYPE!$A$2:$A$100,MATCH('RWIS Sensor (Desc)'!$D149,[1]!MASTER_RWIS_SENSOR_TYPE_DESC[#Data],0),0))","v":""},{"$f":"IF('RWIS Sensor (Desc)'!E149=\"\",\"\",'RWIS Sensor (Desc)'!E149)","v":""},{"$f":"IF('RWIS Sensor (Desc)'!F149=\"\",\"\",INDEX([1]RWIS_SENSOR_MODEL!$B$2:$B$100,MATCH(1,([1]RWIS_SENSOR_MODEL!$C$2:$C$100='RWIS Sensor (Desc)'!$F149)*([1]RWIS_SENSOR_MODEL!$E$2:$E$100='RWIS Sensor (Code)'!$C149),0),0))","v":""},{"$f":"IF('RWIS Sensor (Desc)'!G149=\"\",\"\",INDEX([1]RWIS_SENSOR_MODEL!$A$2:$A$100,MATCH(1,([1]RWIS_SENSOR_MODEL!$C$2:$C$100='RWIS Sensor (Desc)'!$F149)*([1]RWIS_SENSOR_MODEL!$D$2:$D$100='RWIS Sensor (Desc)'!$G149)*([1]RWIS_SENSOR_MODEL!$E$2:$E$100='RWIS Sensor (Code)'!$C149),0),0))","v":""},{"$f":"IF('RWIS Sensor (Desc)'!H149=\"\",\"\",'RWIS Sensor (Desc)'!H149)","v":""}]
[{"$f":"IF('RWIS Sensor (Desc)'!B150=\"\",\"\",\"2008\")","v":""},{"$f":"IF('RWIS Sensor (Desc)'!B150=\"\",\"\",'RWIS Sensor (Desc)'!B150)","v":""},{"$f":"IF('RWIS Sensor (Desc)'!D150=\"\",\"\",INDEX([1]RWIS_SENSOR_TYPE!$A$2:$A$100,MATCH('RWIS Sensor (Desc)'!$D150,[1]!MASTER_RWIS_SENSOR_TYPE_DESC[#Data],0),0))","v":""},{"$f":"IF('RWIS Sensor (Desc)'!E150=\"\",\"\",'RWIS Sensor (Desc)'!E150)","v":""},{"$f":"IF('RWIS Sensor (Desc)'!F150=\"\",\"\",INDEX([1]RWIS_SENSOR_MODEL!$B$2:$B$100,MATCH(1,([1]RWIS_SENSOR_MODEL!$C$2:$C$100='RWIS Sensor (Desc)'!$F150)*([1]RWIS_SENSOR_MODEL!$E$2:$E$100='RWIS Sensor (Code)'!$C150),0),0))","v":""},{"$f":"IF('RWIS Sensor (Desc)'!G150=\"\",\"\",INDEX([1]RWIS_SENSOR_MODEL!$A$2:$A$100,MATCH(1,([1]RWIS_SENSOR_MODEL!$C$2:$C$100='RWIS Sensor (Desc)'!$F150)*([1]RWIS_SENSOR_MODEL!$D$2:$D$100='RWIS Sensor (Desc)'!$G150)*([1]RWIS_SENSOR_MODEL!$E$2:$E$100='RWIS Sensor (Code)'!$C150),0),0))","v":""},{"$f":"IF('RWIS Sensor (Desc)'!H150=\"\",\"\",'RWIS Sensor (Desc)'!H150)","v":""}]
[{"$f":"IF('RWIS Sensor (Desc)'!B151=\"\",\"\",\"2008\")","v":""},{"$f":"IF('RWIS Sensor (Desc)'!B151=\"\",\"\",'RWIS Sensor (Desc)'!B151)","v":""},{"$f":"IF('RWIS Sensor (Desc)'!D151=\"\",\"\",INDEX([1]RWIS_SENSOR_TYPE!$A$2:$A$100,MATCH('RWIS Sensor (Desc)'!$D151,[1]!MASTER_RWIS_SENSOR_TYPE_DESC[#Data],0),0))","v":""},{"$f":"IF('RWIS Sensor (Desc)'!E151=\"\",\"\",'RWIS Sensor (Desc)'!E151)","v":""},{"$f":"IF('RWIS Sensor (Desc)'!F151=\"\",\"\",INDEX([1]RWIS_SENSOR_MODEL!$B$2:$B$100,MATCH(1,([1]RWIS_SENSOR_MODEL!$C$2:$C$100='RWIS Sensor (Desc)'!$F151)*([1]RWIS_SENSOR_MODEL!$E$2:$E$100='RWIS Sensor (Code)'!$C151),0),0))","v":""},{"$f":"IF('RWIS Sensor (Desc)'!G151=\"\",\"\",INDEX([1]RWIS_SENSOR_MODEL!$A$2:$A$100,MATCH(1,([1]RWIS_SENSOR_MODEL!$C$2:$C$100='RWIS Sensor (Desc)'!$F151)*([1]RWIS_SENSOR_MODEL!$D$2:$D$100='RWIS Sensor (Desc)'!$G151)*([1]RWIS_SENSOR_MODEL!$E$2:$E$100='RWIS Sensor (Code)'!$C151),0),0))","v":""},{"$f":"IF('RWIS Sensor (Desc)'!H151=\"\",\"\",'RWIS Sensor (Desc)'!H151)","v":""}]
[{"$f":"IF('RWIS Sensor (Desc)'!B152=\"\",\"\",\"2008\")","v":""},{"$f":"IF('RWIS Sensor (Desc)'!B152=\"\",\"\",'RWIS Sensor (Desc)'!B152)","v":""},{"$f":"IF('RWIS Sensor (Desc)'!D152=\"\",\"\",INDEX([1]RWIS_SENSOR_TYPE!$A$2:$A$100,MATCH('RWIS Sensor (Desc)'!$D152,[1]!MASTER_RWIS_SENSOR_TYPE_DESC[#Data],0),0))","v":""},{"$f":"IF('RWIS Sensor (Desc)'!E152=\"\",\"\",'RWIS Sensor (Desc)'!E152)","v":""},{"$f":"IF('RWIS Sensor (Desc)'!F152=\"\",\"\",INDEX([1]RWIS_SENSOR_MODEL!$B$2:$B$100,MATCH(1,([1]RWIS_SENSOR_MODEL!$C$2:$C$100='RWIS Sensor (Desc)'!$F152)*([1]RWIS_SENSOR_MODEL!$E$2:$E$100='RWIS Sensor (Code)'!$C152),0),0))","v":""},{"$f":"IF('RWIS Sensor (Desc)'!G152=\"\",\"\",INDEX([1]RWIS_SENSOR_MODEL!$A$2:$A$100,MATCH(1,([1]RWIS_SENSOR_MODEL!$C$2:$C$100='RWIS Sensor (Desc)'!$F152)*([1]RWIS_SENSOR_MODEL!$D$2:$D$100='RWIS Sensor (Desc)'!$G152)*([1]RWIS_SENSOR_MODEL!$E$2:$E$100='RWIS Sensor (Code)'!$C152),0),0))","v":""},{"$f":"IF('RWIS Sensor (Desc)'!H152=\"\",\"\",'RWIS Sensor (Desc)'!H152)","v":""}]
[{"$f":"IF('RWIS Sensor (Desc)'!B153=\"\",\"\",\"2008\")","v":""},{"$f":"IF('RWIS Sensor (Desc)'!B153=\"\",\"\",'RWIS Sensor (Desc)'!B153)","v":""},{"$f":"IF('RWIS Sensor (Desc)'!D153=\"\",\"\",INDEX([1]RWIS_SENSOR_TYPE!$A$2:$A$100,MATCH('RWIS Sensor (Desc)'!$D153,[1]!MASTER_RWIS_SENSOR_TYPE_DESC[#Data],0),0))","v":""},{"$f":"IF('RWIS Sensor (Desc)'!E153=\"\",\"\",'RWIS Sensor (Desc)'!E153)","v":""},{"$f":"IF('RWIS Sensor (Desc)'!F153=\"\",\"\",INDEX([1]RWIS_SENSOR_MODEL!$B$2:$B$100,MATCH(1,([1]RWIS_SENSOR_MODEL!$C$2:$C$100='RWIS Sensor (Desc)'!$F153)*([1]RWIS_SENSOR_MODEL!$E$2:$E$100='RWIS Sensor (Code)'!$C153),0),0))","v":""},{"$f":"IF('RWIS Sensor (Desc)'!G153=\"\",\"\",INDEX([1]RWIS_SENSOR_MODEL!$A$2:$A$100,MATCH(1,([1]RWIS_SENSOR_MODEL!$C$2:$C$100='RWIS Sensor (Desc)'!$F153)*([1]RWIS_SENSOR_MODEL!$D$2:$D$100='RWIS Sensor (Desc)'!$G153)*([1]RWIS_SENSOR_MODEL!$E$2:$E$100='RWIS Sensor (Code)'!$C153),0),0))","v":""},{"$f":"IF('RWIS Sensor (Desc)'!H153=\"\",\"\",'RWIS Sensor (Desc)'!H153)","v":""}]
[{"$f":"IF('RWIS Sensor (Desc)'!B154=\"\",\"\",\"2008\")","v":""},{"$f":"IF('RWIS Sensor (Desc)'!B154=\"\",\"\",'RWIS Sensor (Desc)'!B154)","v":""},{"$f":"IF('RWIS Sensor (Desc)'!D154=\"\",\"\",INDEX([1]RWIS_SENSOR_TYPE!$A$2:$A$100,MATCH('RWIS Sensor (Desc)'!$D154,[1]!MASTER_RWIS_SENSOR_TYPE_DESC[#Data],0),0))","v":""},{"$f":"IF('RWIS Sensor (Desc)'!E154=\"\",\"\",'RWIS Sensor (Desc)'!E154)","v":""},{"$f":"IF('RWIS Sensor (Desc)'!F154=\"\",\"\",INDEX([1]RWIS_SENSOR_MODEL!$B$2:$B$100,MATCH(1,([1]RWIS_SENSOR_MODEL!$C$2:$C$100='RWIS Sensor (Desc)'!$F154)*([1]RWIS_SENSOR_MODEL!$E$2:$E$100='RWIS Sensor (Code)'!$C154),0),0))","v":""},{"$f":"IF('RWIS Sensor (Desc)'!G154=\"\",\"\",INDEX([1]RWIS_SENSOR_MODEL!$A$2:$A$100,MATCH(1,([1]RWIS_SENSOR_MODEL!$C$2:$C$100='RWIS Sensor (Desc)'!$F154)*([1]RWIS_SENSOR_MODEL!$D$2:$D$100='RWIS Sensor (Desc)'!$G154)*([1]RWIS_SENSOR_MODEL!$E$2:$E$100='RWIS Sensor (Code)'!$C154),0),0))","v":""},{"$f":"IF('RWIS Sensor (Desc)'!H154=\"\",\"\",'RWIS Sensor (Desc)'!H154)","v":""}]
[{"$f":"IF('RWIS Sensor (Desc)'!B155=\"\",\"\",\"2008\")","v":""},{"$f":"IF('RWIS Sensor (Desc)'!B155=\"\",\"\",'RWIS Sensor (Desc)'!B155)","v":""},{"$f":"IF('RWIS Sensor (Desc)'!D155=\"\",\"\",INDEX([1]RWIS_SENSOR_TYPE!$A$2:$A$100,MATCH('RWIS Sensor (Desc)'!$D155,[1]!MASTER_RWIS_SENSOR_TYPE_DESC[#Data],0),0))","v":""},{"$f":"IF('RWIS Sensor (Desc)'!E155=\"\",\"\",'RWIS Sensor (Desc)'!E155)","v":""},{"$f":"IF('RWIS Sensor (Desc)'!F155=\"\",\"\",INDEX([1]RWIS_SENSOR_MODEL!$B$2:$B$100,MATCH(1,([1]RWIS_SENSOR_MODEL!$C$2:$C$100='RWIS Sensor (Desc)'!$F155)*([1]RWIS_SENSOR_MODEL!$E$2:$E$100='RWIS Sensor (Code)'!$C155),0),0))","v":""},{"$f":"IF('RWIS Sensor (Desc)'!G155=\"\",\"\",INDEX([1]RWIS_SENSOR_MODEL!$A$2:$A$100,MATCH(1,([1]RWIS_SENSOR_MODEL!$C$2:$C$100='RWIS Sensor (Desc)'!$F155)*([1]RWIS_SENSOR_MODEL!$D$2:$D$100='RWIS Sensor (Desc)'!$G155)*([1]RWIS_SENSOR_MODEL!$E$2:$E$100='RWIS Sensor (Code)'!$C155),0),0))","v":""},{"$f":"IF('RWIS Sensor (Desc)'!H155=\"\",\"\",'RWIS Sensor (Desc)'!H155)","v":""}]
[{"$f":"IF('RWIS Sensor (Desc)'!B156=\"\",\"\",\"2008\")","v":""},{"$f":"IF('RWIS Sensor (Desc)'!B156=\"\",\"\",'RWIS Sensor (Desc)'!B156)","v":""},{"$f":"IF('RWIS Sensor (Desc)'!D156=\"\",\"\",INDEX([1]RWIS_SENSOR_TYPE!$A$2:$A$100,MATCH('RWIS Sensor (Desc)'!$D156,[1]!MASTER_RWIS_SENSOR_TYPE_DESC[#Data],0),0))","v":""},{"$f":"IF('RWIS Sensor (Desc)'!E156=\"\",\"\",'RWIS Sensor (Desc)'!E156)","v":""},{"$f":"IF('RWIS Sensor (Desc)'!F156=\"\",\"\",INDEX([1]RWIS_SENSOR_MODEL!$B$2:$B$100,MATCH(1,([1]RWIS_SENSOR_MODEL!$C$2:$C$100='RWIS Sensor (Desc)'!$F156)*([1]RWIS_SENSOR_MODEL!$E$2:$E$100='RWIS Sensor (Code)'!$C156),0),0))","v":""},{"$f":"IF('RWIS Sensor (Desc)'!G156=\"\",\"\",INDEX([1]RWIS_SENSOR_MODEL!$A$2:$A$100,MATCH(1,([1]RWIS_SENSOR_MODEL!$C$2:$C$100='RWIS Sensor (Desc)'!$F156)*([1]RWIS_SENSOR_MODEL!$D$2:$D$100='RWIS Sensor (Desc)'!$G156)*([1]RWIS_SENSOR_MODEL!$E$2:$E$100='RWIS Sensor (Code)'!$C156),0),0))","v":""},{"$f":"IF('RWIS Sensor (Desc)'!H156=\"\",\"\",'RWIS Sensor (Desc)'!H156)","v":""}]
[{"$f":"IF('RWIS Sensor (Desc)'!B157=\"\",\"\",\"2008\")","v":""},{"$f":"IF('RWIS Sensor (Desc)'!B157=\"\",\"\",'RWIS Sensor (Desc)'!B157)","v":""},{"$f":"IF('RWIS Sensor (Desc)'!D157=\"\",\"\",INDEX([1]RWIS_SENSOR_TYPE!$A$2:$A$100,MATCH('RWIS Sensor (Desc)'!$D157,[1]!MASTER_RWIS_SENSOR_TYPE_DESC[#Data],0),0))","v":""},{"$f":"IF('RWIS Sensor (Desc)'!E157=\"\",\"\",'RWIS Sensor (Desc)'!E157)","v":""},{"$f":"IF('RWIS Sensor (Desc)'!F157=\"\",\"\",INDEX([1]RWIS_SENSOR_MODEL!$B$2:$B$100,MATCH(1,([1]RWIS_SENSOR_MODEL!$C$2:$C$100='RWIS Sensor (Desc)'!$F157)*([1]RWIS_SENSOR_MODEL!$E$2:$E$100='RWIS Sensor (Code)'!$C157),0),0))","v":""},{"$f":"IF('RWIS Sensor (Desc)'!G157=\"\",\"\",INDEX([1]RWIS_SENSOR_MODEL!$A$2:$A$100,MATCH(1,([1]RWIS_SENSOR_MODEL!$C$2:$C$100='RWIS Sensor (Desc)'!$F157)*([1]RWIS_SENSOR_MODEL!$D$2:$D$100='RWIS Sensor (Desc)'!$G157)*([1]RWIS_SENSOR_MODEL!$E$2:$E$100='RWIS Sensor (Code)'!$C157),0),0))","v":""},{"$f":"IF('RWIS Sensor (Desc)'!H157=\"\",\"\",'RWIS Sensor (Desc)'!H157)","v":""}]
[{"$f":"IF('RWIS Sensor (Desc)'!B158=\"\",\"\",\"2008\")","v":""},{"$f":"IF('RWIS Sensor (Desc)'!B158=\"\",\"\",'RWIS Sensor (Desc)'!B158)","v":""},{"$f":"IF('RWIS Sensor (Desc)'!D158=\"\",\"\",INDEX([1]RWIS_SENSOR_TYPE!$A$2:$A$100,MATCH('RWIS Sensor (Desc)'!$D158,[1]!MASTER_RWIS_SENSOR_TYPE_DESC[#Data],0),0))","v":""},{"$f":"IF('RWIS Sensor (Desc)'!E158=\"\",\"\",'RWIS Sensor (Desc)'!E158)","v":""},{"$f":"IF('RWIS Sensor (Desc)'!F158=\"\",\"\",INDEX([1]RWIS_SENSOR_MODEL!$B$2:$B$100,MATCH(1,([1]RWIS_SENSOR_MODEL!$C$2:$C$100='RWIS Sensor (Desc)'!$F158)*([1]RWIS_SENSOR_MODEL!$E$2:$E$100='RWIS Sensor (Code)'!$C158),0),0))","v":""},{"$f":"IF('RWIS Sensor (Desc)'!G158=\"\",\"\",INDEX([1]RWIS_SENSOR_MODEL!$A$2:$A$100,MATCH(1,([1]RWIS_SENSOR_MODEL!$C$2:$C$100='RWIS Sensor (Desc)'!$F158)*([1]RWIS_SENSOR_MODEL!$D$2:$D$100='RWIS Sensor (Desc)'!$G158)*([1]RWIS_SENSOR_MODEL!$E$2:$E$100='RWIS Sensor (Code)'!$C158),0),0))","v":""},{"$f":"IF('RWIS Sensor (Desc)'!H158=\"\",\"\",'RWIS Sensor (Desc)'!H158)","v":""}]
[{"$f":"IF('RWIS Sensor (Desc)'!B159=\"\",\"\",\"2008\")","v":""},{"$f":"IF('RWIS Sensor (Desc)'!B159=\"\",\"\",'RWIS Sensor (Desc)'!B159)","v":""},{"$f":"IF('RWIS Sensor (Desc)'!D159=\"\",\"\",INDEX([1]RWIS_SENSOR_TYPE!$A$2:$A$100,MATCH('RWIS Sensor (Desc)'!$D159,[1]!MASTER_RWIS_SENSOR_TYPE_DESC[#Data],0),0))","v":""},{"$f":"IF('RWIS Sensor (Desc)'!E159=\"\",\"\",'RWIS Sensor (Desc)'!E159)","v":""},{"$f":"IF('RWIS Sensor (Desc)'!F159=\"\",\"\",INDEX([1]RWIS_SENSOR_MODEL!$B$2:$B$100,MATCH(1,([1]RWIS_SENSOR_MODEL!$C$2:$C$100='RWIS Sensor (Desc)'!$F159)*([1]RWIS_SENSOR_MODEL!$E$2:$E$100='RWIS Sensor (Code)'!$C159),0),0))","v":""},{"$f":"IF('RWIS Sensor (Desc)'!G159=\"\",\"\",INDEX([1]RWIS_SENSOR_MODEL!$A$2:$A$100,MATCH(1,([1]RWIS_SENSOR_MODEL!$C$2:$C$100='RWIS Sensor (Desc)'!$F159)*([1]RWIS_SENSOR_MODEL!$D$2:$D$100='RWIS Sensor (Desc)'!$G159)*([1]RWIS_SENSOR_MODEL!$E$2:$E$100='RWIS Sensor (Code)'!$C159),0),0))","v":""},{"$f":"IF('RWIS Sensor (Desc)'!H159=\"\",\"\",'RWIS Sensor (Desc)'!H159)","v":""}]
[{"$f":"IF('RWIS Sensor (Desc)'!B160=\"\",\"\",\"2008\")","v":""},{"$f":"IF('RWIS Sensor (Desc)'!B160=\"\",\"\",'RWIS Sensor (Desc)'!B160)","v":""},{"$f":"IF('RWIS Sensor (Desc)'!D160=\"\",\"\",INDEX([1]RWIS_SENSOR_TYPE!$A$2:$A$100,MATCH('RWIS Sensor (Desc)'!$D160,[1]!MASTER_RWIS_SENSOR_TYPE_DESC[#Data],0),0))","v":""},{"$f":"IF('RWIS Sensor (Desc)'!E160=\"\",\"\",'RWIS Sensor (Desc)'!E160)","v":""},{"$f":"IF('RWIS Sensor (Desc)'!F160=\"\",\"\",INDEX([1]RWIS_SENSOR_MODEL!$B$2:$B$100,MATCH(1,([1]RWIS_SENSOR_MODEL!$C$2:$C$100='RWIS Sensor (Desc)'!$F160)*([1]RWIS_SENSOR_MODEL!$E$2:$E$100='RWIS Sensor (Code)'!$C160),0),0))","v":""},{"$f":"IF('RWIS Sensor (Desc)'!G160=\"\",\"\",INDEX([1]RWIS_SENSOR_MODEL!$A$2:$A$100,MATCH(1,([1]RWIS_SENSOR_MODEL!$C$2:$C$100='RWIS Sensor (Desc)'!$F160)*([1]RWIS_SENSOR_MODEL!$D$2:$D$100='RWIS Sensor (Desc)'!$G160)*([1]RWIS_SENSOR_MODEL!$E$2:$E$100='RWIS Sensor (Code)'!$C160),0),0))","v":""},{"$f":"IF('RWIS Sensor (Desc)'!H160=\"\",\"\",'RWIS Sensor (Desc)'!H160)","v":""}]
[{"$f":"IF('RWIS Sensor (Desc)'!B161=\"\",\"\",\"2008\")","v":""},{"$f":"IF('RWIS Sensor (Desc)'!B161=\"\",\"\",'RWIS Sensor (Desc)'!B161)","v":""},{"$f":"IF('RWIS Sensor (Desc)'!D161=\"\",\"\",INDEX([1]RWIS_SENSOR_TYPE!$A$2:$A$100,MATCH('RWIS Sensor (Desc)'!$D161,[1]!MASTER_RWIS_SENSOR_TYPE_DESC[#Data],0),0))","v":""},{"$f":"IF('RWIS Sensor (Desc)'!E161=\"\",\"\",'RWIS Sensor (Desc)'!E161)","v":""},{"$f":"IF('RWIS Sensor (Desc)'!F161=\"\",\"\",INDEX([1]RWIS_SENSOR_MODEL!$B$2:$B$100,MATCH(1,([1]RWIS_SENSOR_MODEL!$C$2:$C$100='RWIS Sensor (Desc)'!$F161)*([1]RWIS_SENSOR_MODEL!$E$2:$E$100='RWIS Sensor (Code)'!$C161),0),0))","v":""},{"$f":"IF('RWIS Sensor (Desc)'!G161=\"\",\"\",INDEX([1]RWIS_SENSOR_MODEL!$A$2:$A$100,MATCH(1,([1]RWIS_SENSOR_MODEL!$C$2:$C$100='RWIS Sensor (Desc)'!$F161)*([1]RWIS_SENSOR_MODEL!$D$2:$D$100='RWIS Sensor (Desc)'!$G161)*([1]RWIS_SENSOR_MODEL!$E$2:$E$100='RWIS Sensor (Code)'!$C161),0),0))","v":""},{"$f":"IF('RWIS Sensor (Desc)'!H161=\"\",\"\",'RWIS Sensor (Desc)'!H161)","v":""}]
[{"$f":"IF('RWIS Sensor (Desc)'!B162=\"\",\"\",\"2008\")","v":""},{"$f":"IF('RWIS Sensor (Desc)'!B162=\"\",\"\",'RWIS Sensor (Desc)'!B162)","v":""},{"$f":"IF('RWIS Sensor (Desc)'!D162=\"\",\"\",INDEX([1]RWIS_SENSOR_TYPE!$A$2:$A$100,MATCH('RWIS Sensor (Desc)'!$D162,[1]!MASTER_RWIS_SENSOR_TYPE_DESC[#Data],0),0))","v":""},{"$f":"IF('RWIS Sensor (Desc)'!E162=\"\",\"\",'RWIS Sensor (Desc)'!E162)","v":""},{"$f":"IF('RWIS Sensor (Desc)'!F162=\"\",\"\",INDEX([1]RWIS_SENSOR_MODEL!$B$2:$B$100,MATCH(1,([1]RWIS_SENSOR_MODEL!$C$2:$C$100='RWIS Sensor (Desc)'!$F162)*([1]RWIS_SENSOR_MODEL!$E$2:$E$100='RWIS Sensor (Code)'!$C162),0),0))","v":""},{"$f":"IF('RWIS Sensor (Desc)'!G162=\"\",\"\",INDEX([1]RWIS_SENSOR_MODEL!$A$2:$A$100,MATCH(1,([1]RWIS_SENSOR_MODEL!$C$2:$C$100='RWIS Sensor (Desc)'!$F162)*([1]RWIS_SENSOR_MODEL!$D$2:$D$100='RWIS Sensor (Desc)'!$G162)*([1]RWIS_SENSOR_MODEL!$E$2:$E$100='RWIS Sensor (Code)'!$C162),0),0))","v":""},{"$f":"IF('RWIS Sensor (Desc)'!H162=\"\",\"\",'RWIS Sensor (Desc)'!H162)","v":""}]
[{"$f":"IF('RWIS Sensor (Desc)'!B163=\"\",\"\",\"2008\")","v":""},{"$f":"IF('RWIS Sensor (Desc)'!B163=\"\",\"\",'RWIS Sensor (Desc)'!B163)","v":""},{"$f":"IF('RWIS Sensor (Desc)'!D163=\"\",\"\",INDEX([1]RWIS_SENSOR_TYPE!$A$2:$A$100,MATCH('RWIS Sensor (Desc)'!$D163,[1]!MASTER_RWIS_SENSOR_TYPE_DESC[#Data],0),0))","v":""},{"$f":"IF('RWIS Sensor (Desc)'!E163=\"\",\"\",'RWIS Sensor (Desc)'!E163)","v":""},{"$f":"IF('RWIS Sensor (Desc)'!F163=\"\",\"\",INDEX([1]RWIS_SENSOR_MODEL!$B$2:$B$100,MATCH(1,([1]RWIS_SENSOR_MODEL!$C$2:$C$100='RWIS Sensor (Desc)'!$F163)*([1]RWIS_SENSOR_MODEL!$E$2:$E$100='RWIS Sensor (Code)'!$C163),0),0))","v":""},{"$f":"IF('RWIS Sensor (Desc)'!G163=\"\",\"\",INDEX([1]RWIS_SENSOR_MODEL!$A$2:$A$100,MATCH(1,([1]RWIS_SENSOR_MODEL!$C$2:$C$100='RWIS Sensor (Desc)'!$F163)*([1]RWIS_SENSOR_MODEL!$D$2:$D$100='RWIS Sensor (Desc)'!$G163)*([1]RWIS_SENSOR_MODEL!$E$2:$E$100='RWIS Sensor (Code)'!$C163),0),0))","v":""},{"$f":"IF('RWIS Sensor (Desc)'!H163=\"\",\"\",'RWIS Sensor (Desc)'!H163)","v":""}]
[{"$f":"IF('RWIS Sensor (Desc)'!B164=\"\",\"\",\"2008\")","v":""},{"$f":"IF('RWIS Sensor (Desc)'!B164=\"\",\"\",'RWIS Sensor (Desc)'!B164)","v":""},{"$f":"IF('RWIS Sensor (Desc)'!D164=\"\",\"\",INDEX([1]RWIS_SENSOR_TYPE!$A$2:$A$100,MATCH('RWIS Sensor (Desc)'!$D164,[1]!MASTER_RWIS_SENSOR_TYPE_DESC[#Data],0),0))","v":""},{"$f":"IF('RWIS Sensor (Desc)'!E164=\"\",\"\",'RWIS Sensor (Desc)'!E164)","v":""},{"$f":"IF('RWIS Sensor (Desc)'!F164=\"\",\"\",INDEX([1]RWIS_SENSOR_MODEL!$B$2:$B$100,MATCH(1,([1]RWIS_SENSOR_MODEL!$C$2:$C$100='RWIS Sensor (Desc)'!$F164)*([1]RWIS_SENSOR_MODEL!$E$2:$E$100='RWIS Sensor (Code)'!$C164),0),0))","v":""},{"$f":"IF('RWIS Sensor (Desc)'!G164=\"\",\"\",INDEX([1]RWIS_SENSOR_MODEL!$A$2:$A$100,MATCH(1,([1]RWIS_SENSOR_MODEL!$C$2:$C$100='RWIS Sensor (Desc)'!$F164)*([1]RWIS_SENSOR_MODEL!$D$2:$D$100='RWIS Sensor (Desc)'!$G164)*([1]RWIS_SENSOR_MODEL!$E$2:$E$100='RWIS Sensor (Code)'!$C164),0),0))","v":""},{"$f":"IF('RWIS Sensor (Desc)'!H164=\"\",\"\",'RWIS Sensor (Desc)'!H164)","v":""}]
[{"$f":"IF('RWIS Sensor (Desc)'!B165=\"\",\"\",\"2008\")","v":""},{"$f":"IF('RWIS Sensor (Desc)'!B165=\"\",\"\",'RWIS Sensor (Desc)'!B165)","v":""},{"$f":"IF('RWIS Sensor (Desc)'!D165=\"\",\"\",INDEX([1]RWIS_SENSOR_TYPE!$A$2:$A$100,MATCH('RWIS Sensor (Desc)'!$D165,[1]!MASTER_RWIS_SENSOR_TYPE_DESC[#Data],0),0))","v":""},{"$f":"IF('RWIS Sensor (Desc)'!E165=\"\",\"\",'RWIS Sensor (Desc)'!E165)","v":""},{"$f":"IF('RWIS Sensor (Desc)'!F165=\"\",\"\",INDEX([1]RWIS_SENSOR_MODEL!$B$2:$B$100,MATCH(1,([1]RWIS_SENSOR_MODEL!$C$2:$C$100='RWIS Sensor (Desc)'!$F165)*([1]RWIS_SENSOR_MODEL!$E$2:$E$100='RWIS Sensor (Code)'!$C165),0),0))","v":""},{"$f":"IF('RWIS Sensor (Desc)'!G165=\"\",\"\",INDEX([1]RWIS_SENSOR_MODEL!$A$2:$A$100,MATCH(1,([1]RWIS_SENSOR_MODEL!$C$2:$C$100='RWIS Sensor (Desc)'!$F165)*([1]RWIS_SENSOR_MODEL!$D$2:$D$100='RWIS Sensor (Desc)'!$G165)*([1]RWIS_SENSOR_MODEL!$E$2:$E$100='RWIS Sensor (Code)'!$C165),0),0))","v":""},{"$f":"IF('RWIS Sensor (Desc)'!H165=\"\",\"\",'RWIS Sensor (Desc)'!H165)","v":""}]
[{"$f":"IF('RWIS Sensor (Desc)'!B166=\"\",\"\",\"2008\")","v":""},{"$f":"IF('RWIS Sensor (Desc)'!B166=\"\",\"\",'RWIS Sensor (Desc)'!B166)","v":""},{"$f":"IF('RWIS Sensor (Desc)'!D166=\"\",\"\",INDEX([1]RWIS_SENSOR_TYPE!$A$2:$A$100,MATCH('RWIS Sensor (Desc)'!$D166,[1]!MASTER_RWIS_SENSOR_TYPE_DESC[#Data],0),0))","v":""},{"$f":"IF('RWIS Sensor (Desc)'!E166=\"\",\"\",'RWIS Sensor (Desc)'!E166)","v":""},{"$f":"IF('RWIS Sensor (Desc)'!F166=\"\",\"\",INDEX([1]RWIS_SENSOR_MODEL!$B$2:$B$100,MATCH(1,([1]RWIS_SENSOR_MODEL!$C$2:$C$100='RWIS Sensor (Desc)'!$F166)*([1]RWIS_SENSOR_MODEL!$E$2:$E$100='RWIS Sensor (Code)'!$C166),0),0))","v":""},{"$f":"IF('RWIS Sensor (Desc)'!G166=\"\",\"\",INDEX([1]RWIS_SENSOR_MODEL!$A$2:$A$100,MATCH(1,([1]RWIS_SENSOR_MODEL!$C$2:$C$100='RWIS Sensor (Desc)'!$F166)*([1]RWIS_SENSOR_MODEL!$D$2:$D$100='RWIS Sensor (Desc)'!$G166)*([1]RWIS_SENSOR_MODEL!$E$2:$E$100='RWIS Sensor (Code)'!$C166),0),0))","v":""},{"$f":"IF('RWIS Sensor (Desc)'!H166=\"\",\"\",'RWIS Sensor (Desc)'!H166)","v":""}]
[{"$f":"IF('RWIS Sensor (Desc)'!B167=\"\",\"\",\"2008\")","v":""},{"$f":"IF('RWIS Sensor (Desc)'!B167=\"\",\"\",'RWIS Sensor (Desc)'!B167)","v":""},{"$f":"IF('RWIS Sensor (Desc)'!D167=\"\",\"\",INDEX([1]RWIS_SENSOR_TYPE!$A$2:$A$100,MATCH('RWIS Sensor (Desc)'!$D167,[1]!MASTER_RWIS_SENSOR_TYPE_DESC[#Data],0),0))","v":""},{"$f":"IF('RWIS Sensor (Desc)'!E167=\"\",\"\",'RWIS Sensor (Desc)'!E167)","v":""},{"$f":"IF('RWIS Sensor (Desc)'!F167=\"\",\"\",INDEX([1]RWIS_SENSOR_MODEL!$B$2:$B$100,MATCH(1,([1]RWIS_SENSOR_MODEL!$C$2:$C$100='RWIS Sensor (Desc)'!$F167)*([1]RWIS_SENSOR_MODEL!$E$2:$E$100='RWIS Sensor (Code)'!$C167),0),0))","v":""},{"$f":"IF('RWIS Sensor (Desc)'!G167=\"\",\"\",INDEX([1]RWIS_SENSOR_MODEL!$A$2:$A$100,MATCH(1,([1]RWIS_SENSOR_MODEL!$C$2:$C$100='RWIS Sensor (Desc)'!$F167)*([1]RWIS_SENSOR_MODEL!$D$2:$D$100='RWIS Sensor (Desc)'!$G167)*([1]RWIS_SENSOR_MODEL!$E$2:$E$100='RWIS Sensor (Code)'!$C167),0),0))","v":""},{"$f":"IF('RWIS Sensor (Desc)'!H167=\"\",\"\",'RWIS Sensor (Desc)'!H167)","v":""}]
[{"$f":"IF('RWIS Sensor (Desc)'!B168=\"\",\"\",\"2008\")","v":""},{"$f":"IF('RWIS Sensor (Desc)'!B168=\"\",\"\",'RWIS Sensor (Desc)'!B168)","v":""},{"$f":"IF('RWIS Sensor (Desc)'!D168=\"\",\"\",INDEX([1]RWIS_SENSOR_TYPE!$A$2:$A$100,MATCH('RWIS Sensor (Desc)'!$D168,[1]!MASTER_RWIS_SENSOR_TYPE_DESC[#Data],0),0))","v":""},{"$f":"IF('RWIS Sensor (Desc)'!E168=\"\",\"\",'RWIS Sensor (Desc)'!E168)","v":""},{"$f":"IF('RWIS Sensor (Desc)'!F168=\"\",\"\",INDEX([1]RWIS_SENSOR_MODEL!$B$2:$B$100,MATCH(1,([1]RWIS_SENSOR_MODEL!$C$2:$C$100='RWIS Sensor (Desc)'!$F168)*([1]RWIS_SENSOR_MODEL!$E$2:$E$100='RWIS Sensor (Code)'!$C168),0),0))","v":""},{"$f":"IF('RWIS Sensor (Desc)'!G168=\"\",\"\",INDEX([1]RWIS_SENSOR_MODEL!$A$2:$A$100,MATCH(1,([1]RWIS_SENSOR_MODEL!$C$2:$C$100='RWIS Sensor (Desc)'!$F168)*([1]RWIS_SENSOR_MODEL!$D$2:$D$100='RWIS Sensor (Desc)'!$G168)*([1]RWIS_SENSOR_MODEL!$E$2:$E$100='RWIS Sensor (Code)'!$C168),0),0))","v":""},{"$f":"IF('RWIS Sensor (Desc)'!H168=\"\",\"\",'RWIS Sensor (Desc)'!H168)","v":""}]
[{"$f":"IF('RWIS Sensor (Desc)'!B169=\"\",\"\",\"2008\")","v":""},{"$f":"IF('RWIS Sensor (Desc)'!B169=\"\",\"\",'RWIS Sensor (Desc)'!B169)","v":""},{"$f":"IF('RWIS Sensor (Desc)'!D169=\"\",\"\",INDEX([1]RWIS_SENSOR_TYPE!$A$2:$A$100,MATCH('RWIS Sensor (Desc)'!$D169,[1]!MASTER_RWIS_SENSOR_TYPE_DESC[#Data],0),0))","v":""},{"$f":"IF('RWIS Sensor (Desc)'!E169=\"\",\"\",'RWIS Sensor (Desc)'!E169)","v":""},{"$f":"IF('RWIS Sensor (Desc)'!F169=\"\",\"\",INDEX([1]RWIS_SENSOR_MODEL!$B$2:$B$100,MATCH(1,([1]RWIS_SENSOR_MODEL!$C$2:$C$100='RWIS Sensor (Desc)'!$F169)*([1]RWIS_SENSOR_MODEL!$E$2:$E$100='RWIS Sensor (Code)'!$C169),0),0))","v":""},{"$f":"IF('RWIS Sensor (Desc)'!G169=\"\",\"\",INDEX([1]RWIS_SENSOR_MODEL!$A$2:$A$100,MATCH(1,([1]RWIS_SENSOR_MODEL!$C$2:$C$100='RWIS Sensor (Desc)'!$F169)*([1]RWIS_SENSOR_MODEL!$D$2:$D$100='RWIS Sensor (Desc)'!$G169)*([1]RWIS_SENSOR_MODEL!$E$2:$E$100='RWIS Sensor (Code)'!$C169),0),0))","v":""},{"$f":"IF('RWIS Sensor (Desc)'!H169=\"\",\"\",'RWIS Sensor (Desc)'!H169)","v":""}]
[{"$f":"IF('RWIS Sensor (Desc)'!B170=\"\",\"\",\"2008\")","v":""},{"$f":"IF('RWIS Sensor (Desc)'!B170=\"\",\"\",'RWIS Sensor (Desc)'!B170)","v":""},{"$f":"IF('RWIS Sensor (Desc)'!D170=\"\",\"\",INDEX([1]RWIS_SENSOR_TYPE!$A$2:$A$100,MATCH('RWIS Sensor (Desc)'!$D170,[1]!MASTER_RWIS_SENSOR_TYPE_DESC[#Data],0),0))","v":""},{"$f":"IF('RWIS Sensor (Desc)'!E170=\"\",\"\",'RWIS Sensor (Desc)'!E170)","v":""},{"$f":"IF('RWIS Sensor (Desc)'!F170=\"\",\"\",INDEX([1]RWIS_SENSOR_MODEL!$B$2:$B$100,MATCH(1,([1]RWIS_SENSOR_MODEL!$C$2:$C$100='RWIS Sensor (Desc)'!$F170)*([1]RWIS_SENSOR_MODEL!$E$2:$E$100='RWIS Sensor (Code)'!$C170),0),0))","v":""},{"$f":"IF('RWIS Sensor (Desc)'!G170=\"\",\"\",INDEX([1]RWIS_SENSOR_MODEL!$A$2:$A$100,MATCH(1,([1]RWIS_SENSOR_MODEL!$C$2:$C$100='RWIS Sensor (Desc)'!$F170)*([1]RWIS_SENSOR_MODEL!$D$2:$D$100='RWIS Sensor (Desc)'!$G170)*([1]RWIS_SENSOR_MODEL!$E$2:$E$100='RWIS Sensor (Code)'!$C170),0),0))","v":""},{"$f":"IF('RWIS Sensor (Desc)'!H170=\"\",\"\",'RWIS Sensor (Desc)'!H170)","v":""}]
[{"$f":"IF('RWIS Sensor (Desc)'!B171=\"\",\"\",\"2008\")","v":""},{"$f":"IF('RWIS Sensor (Desc)'!B171=\"\",\"\",'RWIS Sensor (Desc)'!B171)","v":""},{"$f":"IF('RWIS Sensor (Desc)'!D171=\"\",\"\",INDEX([1]RWIS_SENSOR_TYPE!$A$2:$A$100,MATCH('RWIS Sensor (Desc)'!$D171,[1]!MASTER_RWIS_SENSOR_TYPE_DESC[#Data],0),0))","v":""},{"$f":"IF('RWIS Sensor (Desc)'!E171=\"\",\"\",'RWIS Sensor (Desc)'!E171)","v":""},{"$f":"IF('RWIS Sensor (Desc)'!F171=\"\",\"\",INDEX([1]RWIS_SENSOR_MODEL!$B$2:$B$100,MATCH(1,([1]RWIS_SENSOR_MODEL!$C$2:$C$100='RWIS Sensor (Desc)'!$F171)*([1]RWIS_SENSOR_MODEL!$E$2:$E$100='RWIS Sensor (Code)'!$C171),0),0))","v":""},{"$f":"IF('RWIS Sensor (Desc)'!G171=\"\",\"\",INDEX([1]RWIS_SENSOR_MODEL!$A$2:$A$100,MATCH(1,([1]RWIS_SENSOR_MODEL!$C$2:$C$100='RWIS Sensor (Desc)'!$F171)*([1]RWIS_SENSOR_MODEL!$D$2:$D$100='RWIS Sensor (Desc)'!$G171)*([1]RWIS_SENSOR_MODEL!$E$2:$E$100='RWIS Sensor (Code)'!$C171),0),0))","v":""},{"$f":"IF('RWIS Sensor (Desc)'!H171=\"\",\"\",'RWIS Sensor (Desc)'!H171)","v":""}]
[{"$f":"IF('RWIS Sensor (Desc)'!B172=\"\",\"\",\"2008\")","v":""},{"$f":"IF('RWIS Sensor (Desc)'!B172=\"\",\"\",'RWIS Sensor (Desc)'!B172)","v":""},{"$f":"IF('RWIS Sensor (Desc)'!D172=\"\",\"\",INDEX([1]RWIS_SENSOR_TYPE!$A$2:$A$100,MATCH('RWIS Sensor (Desc)'!$D172,[1]!MASTER_RWIS_SENSOR_TYPE_DESC[#Data],0),0))","v":""},{"$f":"IF('RWIS Sensor (Desc)'!E172=\"\",\"\",'RWIS Sensor (Desc)'!E172)","v":""},{"$f":"IF('RWIS Sensor (Desc)'!F172=\"\",\"\",INDEX([1]RWIS_SENSOR_MODEL!$B$2:$B$100,MATCH(1,([1]RWIS_SENSOR_MODEL!$C$2:$C$100='RWIS Sensor (Desc)'!$F172)*([1]RWIS_SENSOR_MODEL!$E$2:$E$100='RWIS Sensor (Code)'!$C172),0),0))","v":""},{"$f":"IF('RWIS Sensor (Desc)'!G172=\"\",\"\",INDEX([1]RWIS_SENSOR_MODEL!$A$2:$A$100,MATCH(1,([1]RWIS_SENSOR_MODEL!$C$2:$C$100='RWIS Sensor (Desc)'!$F172)*([1]RWIS_SENSOR_MODEL!$D$2:$D$100='RWIS Sensor (Desc)'!$G172)*([1]RWIS_SENSOR_MODEL!$E$2:$E$100='RWIS Sensor (Code)'!$C172),0),0))","v":""},{"$f":"IF('RWIS Sensor (Desc)'!H172=\"\",\"\",'RWIS Sensor (Desc)'!H172)","v":""}]
[{"$f":"IF('RWIS Sensor (Desc)'!B173=\"\",\"\",\"2008\")","v":""},{"$f":"IF('RWIS Sensor (Desc)'!B173=\"\",\"\",'RWIS Sensor (Desc)'!B173)","v":""},{"$f":"IF('RWIS Sensor (Desc)'!D173=\"\",\"\",INDEX([1]RWIS_SENSOR_TYPE!$A$2:$A$100,MATCH('RWIS Sensor (Desc)'!$D173,[1]!MASTER_RWIS_SENSOR_TYPE_DESC[#Data],0),0))","v":""},{"$f":"IF('RWIS Sensor (Desc)'!E173=\"\",\"\",'RWIS Sensor (Desc)'!E173)","v":""},{"$f":"IF('RWIS Sensor (Desc)'!F173=\"\",\"\",INDEX([1]RWIS_SENSOR_MODEL!$B$2:$B$100,MATCH(1,([1]RWIS_SENSOR_MODEL!$C$2:$C$100='RWIS Sensor (Desc)'!$F173)*([1]RWIS_SENSOR_MODEL!$E$2:$E$100='RWIS Sensor (Code)'!$C173),0),0))","v":""},{"$f":"IF('RWIS Sensor (Desc)'!G173=\"\",\"\",INDEX([1]RWIS_SENSOR_MODEL!$A$2:$A$100,MATCH(1,([1]RWIS_SENSOR_MODEL!$C$2:$C$100='RWIS Sensor (Desc)'!$F173)*([1]RWIS_SENSOR_MODEL!$D$2:$D$100='RWIS Sensor (Desc)'!$G173)*([1]RWIS_SENSOR_MODEL!$E$2:$E$100='RWIS Sensor (Code)'!$C173),0),0))","v":""},{"$f":"IF('RWIS Sensor (Desc)'!H173=\"\",\"\",'RWIS Sensor (Desc)'!H173)","v":""}]
[{"$f":"IF('RWIS Sensor (Desc)'!B174=\"\",\"\",\"2008\")","v":""},{"$f":"IF('RWIS Sensor (Desc)'!B174=\"\",\"\",'RWIS Sensor (Desc)'!B174)","v":""},{"$f":"IF('RWIS Sensor (Desc)'!D174=\"\",\"\",INDEX([1]RWIS_SENSOR_TYPE!$A$2:$A$100,MATCH('RWIS Sensor (Desc)'!$D174,[1]!MASTER_RWIS_SENSOR_TYPE_DESC[#Data],0),0))","v":""},{"$f":"IF('RWIS Sensor (Desc)'!E174=\"\",\"\",'RWIS Sensor (Desc)'!E174)","v":""},{"$f":"IF('RWIS Sensor (Desc)'!F174=\"\",\"\",INDEX([1]RWIS_SENSOR_MODEL!$B$2:$B$100,MATCH(1,([1]RWIS_SENSOR_MODEL!$C$2:$C$100='RWIS Sensor (Desc)'!$F174)*([1]RWIS_SENSOR_MODEL!$E$2:$E$100='RWIS Sensor (Code)'!$C174),0),0))","v":""},{"$f":"IF('RWIS Sensor (Desc)'!G174=\"\",\"\",INDEX([1]RWIS_SENSOR_MODEL!$A$2:$A$100,MATCH(1,([1]RWIS_SENSOR_MODEL!$C$2:$C$100='RWIS Sensor (Desc)'!$F174)*([1]RWIS_SENSOR_MODEL!$D$2:$D$100='RWIS Sensor (Desc)'!$G174)*([1]RWIS_SENSOR_MODEL!$E$2:$E$100='RWIS Sensor (Code)'!$C174),0),0))","v":""},{"$f":"IF('RWIS Sensor (Desc)'!H174=\"\",\"\",'RWIS Sensor (Desc)'!H174)","v":""}]
[{"$f":"IF('RWIS Sensor (Desc)'!B175=\"\",\"\",\"2008\")","v":""},{"$f":"IF('RWIS Sensor (Desc)'!B175=\"\",\"\",'RWIS Sensor (Desc)'!B175)","v":""},{"$f":"IF('RWIS Sensor (Desc)'!D175=\"\",\"\",INDEX([1]RWIS_SENSOR_TYPE!$A$2:$A$100,MATCH('RWIS Sensor (Desc)'!$D175,[1]!MASTER_RWIS_SENSOR_TYPE_DESC[#Data],0),0))","v":""},{"$f":"IF('RWIS Sensor (Desc)'!E175=\"\",\"\",'RWIS Sensor (Desc)'!E175)","v":""},{"$f":"IF('RWIS Sensor (Desc)'!F175=\"\",\"\",INDEX([1]RWIS_SENSOR_MODEL!$B$2:$B$100,MATCH(1,([1]RWIS_SENSOR_MODEL!$C$2:$C$100='RWIS Sensor (Desc)'!$F175)*([1]RWIS_SENSOR_MODEL!$E$2:$E$100='RWIS Sensor (Code)'!$C175),0),0))","v":""},{"$f":"IF('RWIS Sensor (Desc)'!G175=\"\",\"\",INDEX([1]RWIS_SENSOR_MODEL!$A$2:$A$100,MATCH(1,([1]RWIS_SENSOR_MODEL!$C$2:$C$100='RWIS Sensor (Desc)'!$F175)*([1]RWIS_SENSOR_MODEL!$D$2:$D$100='RWIS Sensor (Desc)'!$G175)*([1]RWIS_SENSOR_MODEL!$E$2:$E$100='RWIS Sensor (Code)'!$C175),0),0))","v":""},{"$f":"IF('RWIS Sensor (Desc)'!H175=\"\",\"\",'RWIS Sensor (Desc)'!H175)","v":""}]
[{"$f":"IF('RWIS Sensor (Desc)'!B176=\"\",\"\",\"2008\")","v":""},{"$f":"IF('RWIS Sensor (Desc)'!B176=\"\",\"\",'RWIS Sensor (Desc)'!B176)","v":""},{"$f":"IF('RWIS Sensor (Desc)'!D176=\"\",\"\",INDEX([1]RWIS_SENSOR_TYPE!$A$2:$A$100,MATCH('RWIS Sensor (Desc)'!$D176,[1]!MASTER_RWIS_SENSOR_TYPE_DESC[#Data],0),0))","v":""},{"$f":"IF('RWIS Sensor (Desc)'!E176=\"\",\"\",'RWIS Sensor (Desc)'!E176)","v":""},{"$f":"IF('RWIS Sensor (Desc)'!F176=\"\",\"\",INDEX([1]RWIS_SENSOR_MODEL!$B$2:$B$100,MATCH(1,([1]RWIS_SENSOR_MODEL!$C$2:$C$100='RWIS Sensor (Desc)'!$F176)*([1]RWIS_SENSOR_MODEL!$E$2:$E$100='RWIS Sensor (Code)'!$C176),0),0))","v":""},{"$f":"IF('RWIS Sensor (Desc)'!G176=\"\",\"\",INDEX([1]RWIS_SENSOR_MODEL!$A$2:$A$100,MATCH(1,([1]RWIS_SENSOR_MODEL!$C$2:$C$100='RWIS Sensor (Desc)'!$F176)*([1]RWIS_SENSOR_MODEL!$D$2:$D$100='RWIS Sensor (Desc)'!$G176)*([1]RWIS_SENSOR_MODEL!$E$2:$E$100='RWIS Sensor (Code)'!$C176),0),0))","v":""},{"$f":"IF('RWIS Sensor (Desc)'!H176=\"\",\"\",'RWIS Sensor (Desc)'!H176)","v":""}]
[{"$f":"IF('RWIS Sensor (Desc)'!B177=\"\",\"\",\"2008\")","v":""},{"$f":"IF('RWIS Sensor (Desc)'!B177=\"\",\"\",'RWIS Sensor (Desc)'!B177)","v":""},{"$f":"IF('RWIS Sensor (Desc)'!D177=\"\",\"\",INDEX([1]RWIS_SENSOR_TYPE!$A$2:$A$100,MATCH('RWIS Sensor (Desc)'!$D177,[1]!MASTER_RWIS_SENSOR_TYPE_DESC[#Data],0),0))","v":""},{"$f":"IF('RWIS Sensor (Desc)'!E177=\"\",\"\",'RWIS Sensor (Desc)'!E177)","v":""},{"$f":"IF('RWIS Sensor (Desc)'!F177=\"\",\"\",INDEX([1]RWIS_SENSOR_MODEL!$B$2:$B$100,MATCH(1,([1]RWIS_SENSOR_MODEL!$C$2:$C$100='RWIS Sensor (Desc)'!$F177)*([1]RWIS_SENSOR_MODEL!$E$2:$E$100='RWIS Sensor (Code)'!$C177),0),0))","v":""},{"$f":"IF('RWIS Sensor (Desc)'!G177=\"\",\"\",INDEX([1]RWIS_SENSOR_MODEL!$A$2:$A$100,MATCH(1,([1]RWIS_SENSOR_MODEL!$C$2:$C$100='RWIS Sensor (Desc)'!$F177)*([1]RWIS_SENSOR_MODEL!$D$2:$D$100='RWIS Sensor (Desc)'!$G177)*([1]RWIS_SENSOR_MODEL!$E$2:$E$100='RWIS Sensor (Code)'!$C177),0),0))","v":""},{"$f":"IF('RWIS Sensor (Desc)'!H177=\"\",\"\",'RWIS Sensor (Desc)'!H177)","v":""}]
[{"$f":"IF('RWIS Sensor (Desc)'!B178=\"\",\"\",\"2008\")","v":""},{"$f":"IF('RWIS Sensor (Desc)'!B178=\"\",\"\",'RWIS Sensor (Desc)'!B178)","v":""},{"$f":"IF('RWIS Sensor (Desc)'!D178=\"\",\"\",INDEX([1]RWIS_SENSOR_TYPE!$A$2:$A$100,MATCH('RWIS Sensor (Desc)'!$D178,[1]!MASTER_RWIS_SENSOR_TYPE_DESC[#Data],0),0))","v":""},{"$f":"IF('RWIS Sensor (Desc)'!E178=\"\",\"\",'RWIS Sensor (Desc)'!E178)","v":""},{"$f":"IF('RWIS Sensor (Desc)'!F178=\"\",\"\",INDEX([1]RWIS_SENSOR_MODEL!$B$2:$B$100,MATCH(1,([1]RWIS_SENSOR_MODEL!$C$2:$C$100='RWIS Sensor (Desc)'!$F178)*([1]RWIS_SENSOR_MODEL!$E$2:$E$100='RWIS Sensor (Code)'!$C178),0),0))","v":""},{"$f":"IF('RWIS Sensor (Desc)'!G178=\"\",\"\",INDEX([1]RWIS_SENSOR_MODEL!$A$2:$A$100,MATCH(1,([1]RWIS_SENSOR_MODEL!$C$2:$C$100='RWIS Sensor (Desc)'!$F178)*([1]RWIS_SENSOR_MODEL!$D$2:$D$100='RWIS Sensor (Desc)'!$G178)*([1]RWIS_SENSOR_MODEL!$E$2:$E$100='RWIS Sensor (Code)'!$C178),0),0))","v":""},{"$f":"IF('RWIS Sensor (Desc)'!H178=\"\",\"\",'RWIS Sensor (Desc)'!H178)","v":""}]
[{"$f":"IF('RWIS Sensor (Desc)'!B179=\"\",\"\",\"2008\")","v":""},{"$f":"IF('RWIS Sensor (Desc)'!B179=\"\",\"\",'RWIS Sensor (Desc)'!B179)","v":""},{"$f":"IF('RWIS Sensor (Desc)'!D179=\"\",\"\",INDEX([1]RWIS_SENSOR_TYPE!$A$2:$A$100,MATCH('RWIS Sensor (Desc)'!$D179,[1]!MASTER_RWIS_SENSOR_TYPE_DESC[#Data],0),0))","v":""},{"$f":"IF('RWIS Sensor (Desc)'!E179=\"\",\"\",'RWIS Sensor (Desc)'!E179)","v":""},{"$f":"IF('RWIS Sensor (Desc)'!F179=\"\",\"\",INDEX([1]RWIS_SENSOR_MODEL!$B$2:$B$100,MATCH(1,([1]RWIS_SENSOR_MODEL!$C$2:$C$100='RWIS Sensor (Desc)'!$F179)*([1]RWIS_SENSOR_MODEL!$E$2:$E$100='RWIS Sensor (Code)'!$C179),0),0))","v":""},{"$f":"IF('RWIS Sensor (Desc)'!G179=\"\",\"\",INDEX([1]RWIS_SENSOR_MODEL!$A$2:$A$100,MATCH(1,([1]RWIS_SENSOR_MODEL!$C$2:$C$100='RWIS Sensor (Desc)'!$F179)*([1]RWIS_SENSOR_MODEL!$D$2:$D$100='RWIS Sensor (Desc)'!$G179)*([1]RWIS_SENSOR_MODEL!$E$2:$E$100='RWIS Sensor (Code)'!$C179),0),0))","v":""},{"$f":"IF('RWIS Sensor (Desc)'!H179=\"\",\"\",'RWIS Sensor (Desc)'!H179)","v":""}]
[{"$f":"IF('RWIS Sensor (Desc)'!B180=\"\",\"\",\"2008\")","v":""},{"$f":"IF('RWIS Sensor (Desc)'!B180=\"\",\"\",'RWIS Sensor (Desc)'!B180)","v":""},{"$f":"IF('RWIS Sensor (Desc)'!D180=\"\",\"\",INDEX([1]RWIS_SENSOR_TYPE!$A$2:$A$100,MATCH('RWIS Sensor (Desc)'!$D180,[1]!MASTER_RWIS_SENSOR_TYPE_DESC[#Data],0),0))","v":""},{"$f":"IF('RWIS Sensor (Desc)'!E180=\"\",\"\",'RWIS Sensor (Desc)'!E180)","v":""},{"$f":"IF('RWIS Sensor (Desc)'!F180=\"\",\"\",INDEX([1]RWIS_SENSOR_MODEL!$B$2:$B$100,MATCH(1,([1]RWIS_SENSOR_MODEL!$C$2:$C$100='RWIS Sensor (Desc)'!$F180)*([1]RWIS_SENSOR_MODEL!$E$2:$E$100='RWIS Sensor (Code)'!$C180),0),0))","v":""},{"$f":"IF('RWIS Sensor (Desc)'!G180=\"\",\"\",INDEX([1]RWIS_SENSOR_MODEL!$A$2:$A$100,MATCH(1,([1]RWIS_SENSOR_MODEL!$C$2:$C$100='RWIS Sensor (Desc)'!$F180)*([1]RWIS_SENSOR_MODEL!$D$2:$D$100='RWIS Sensor (Desc)'!$G180)*([1]RWIS_SENSOR_MODEL!$E$2:$E$100='RWIS Sensor (Code)'!$C180),0),0))","v":""},{"$f":"IF('RWIS Sensor (Desc)'!H180=\"\",\"\",'RWIS Sensor (Desc)'!H180)","v":""}]
[{"$f":"IF('RWIS Sensor (Desc)'!B181=\"\",\"\",\"2008\")","v":""},{"$f":"IF('RWIS Sensor (Desc)'!B181=\"\",\"\",'RWIS Sensor (Desc)'!B181)","v":""},{"$f":"IF('RWIS Sensor (Desc)'!D181=\"\",\"\",INDEX([1]RWIS_SENSOR_TYPE!$A$2:$A$100,MATCH('RWIS Sensor (Desc)'!$D181,[1]!MASTER_RWIS_SENSOR_TYPE_DESC[#Data],0),0))","v":""},{"$f":"IF('RWIS Sensor (Desc)'!E181=\"\",\"\",'RWIS Sensor (Desc)'!E181)","v":""},{"$f":"IF('RWIS Sensor (Desc)'!F181=\"\",\"\",INDEX([1]RWIS_SENSOR_MODEL!$B$2:$B$100,MATCH(1,([1]RWIS_SENSOR_MODEL!$C$2:$C$100='RWIS Sensor (Desc)'!$F181)*([1]RWIS_SENSOR_MODEL!$E$2:$E$100='RWIS Sensor (Code)'!$C181),0),0))","v":""},{"$f":"IF('RWIS Sensor (Desc)'!G181=\"\",\"\",INDEX([1]RWIS_SENSOR_MODEL!$A$2:$A$100,MATCH(1,([1]RWIS_SENSOR_MODEL!$C$2:$C$100='RWIS Sensor (Desc)'!$F181)*([1]RWIS_SENSOR_MODEL!$D$2:$D$100='RWIS Sensor (Desc)'!$G181)*([1]RWIS_SENSOR_MODEL!$E$2:$E$100='RWIS Sensor (Code)'!$C181),0),0))","v":""},{"$f":"IF('RWIS Sensor (Desc)'!H181=\"\",\"\",'RWIS Sensor (Desc)'!H181)","v":""}]
[{"$f":"IF('RWIS Sensor (Desc)'!B182=\"\",\"\",\"2008\")","v":""},{"$f":"IF('RWIS Sensor (Desc)'!B182=\"\",\"\",'RWIS Sensor (Desc)'!B182)","v":""},{"$f":"IF('RWIS Sensor (Desc)'!D182=\"\",\"\",INDEX([1]RWIS_SENSOR_TYPE!$A$2:$A$100,MATCH('RWIS Sensor (Desc)'!$D182,[1]!MASTER_RWIS_SENSOR_TYPE_DESC[#Data],0),0))","v":""},{"$f":"IF('RWIS Sensor (Desc)'!E182=\"\",\"\",'RWIS Sensor (Desc)'!E182)","v":""},{"$f":"IF('RWIS Sensor (Desc)'!F182=\"\",\"\",INDEX([1]RWIS_SENSOR_MODEL!$B$2:$B$100,MATCH(1,([1]RWIS_SENSOR_MODEL!$C$2:$C$100='RWIS Sensor (Desc)'!$F182)*([1]RWIS_SENSOR_MODEL!$E$2:$E$100='RWIS Sensor (Code)'!$C182),0),0))","v":""},{"$f":"IF('RWIS Sensor (Desc)'!G182=\"\",\"\",INDEX([1]RWIS_SENSOR_MODEL!$A$2:$A$100,MATCH(1,([1]RWIS_SENSOR_MODEL!$C$2:$C$100='RWIS Sensor (Desc)'!$F182)*([1]RWIS_SENSOR_MODEL!$D$2:$D$100='RWIS Sensor (Desc)'!$G182)*([1]RWIS_SENSOR_MODEL!$E$2:$E$100='RWIS Sensor (Code)'!$C182),0),0))","v":""},{"$f":"IF('RWIS Sensor (Desc)'!H182=\"\",\"\",'RWIS Sensor (Desc)'!H182)","v":""}]
[{"$f":"IF('RWIS Sensor (Desc)'!B183=\"\",\"\",\"2008\")","v":""},{"$f":"IF('RWIS Sensor (Desc)'!B183=\"\",\"\",'RWIS Sensor (Desc)'!B183)","v":""},{"$f":"IF('RWIS Sensor (Desc)'!D183=\"\",\"\",INDEX([1]RWIS_SENSOR_TYPE!$A$2:$A$100,MATCH('RWIS Sensor (Desc)'!$D183,[1]!MASTER_RWIS_SENSOR_TYPE_DESC[#Data],0),0))","v":""},{"$f":"IF('RWIS Sensor (Desc)'!E183=\"\",\"\",'RWIS Sensor (Desc)'!E183)","v":""},{"$f":"IF('RWIS Sensor (Desc)'!F183=\"\",\"\",INDEX([1]RWIS_SENSOR_MODEL!$B$2:$B$100,MATCH(1,([1]RWIS_SENSOR_MODEL!$C$2:$C$100='RWIS Sensor (Desc)'!$F183)*([1]RWIS_SENSOR_MODEL!$E$2:$E$100='RWIS Sensor (Code)'!$C183),0),0))","v":""},{"$f":"IF('RWIS Sensor (Desc)'!G183=\"\",\"\",INDEX([1]RWIS_SENSOR_MODEL!$A$2:$A$100,MATCH(1,([1]RWIS_SENSOR_MODEL!$C$2:$C$100='RWIS Sensor (Desc)'!$F183)*([1]RWIS_SENSOR_MODEL!$D$2:$D$100='RWIS Sensor (Desc)'!$G183)*([1]RWIS_SENSOR_MODEL!$E$2:$E$100='RWIS Sensor (Code)'!$C183),0),0))","v":""},{"$f":"IF('RWIS Sensor (Desc)'!H183=\"\",\"\",'RWIS Sensor (Desc)'!H183)","v":""}]
[{"$f":"IF('RWIS Sensor (Desc)'!B184=\"\",\"\",\"2008\")","v":""},{"$f":"IF('RWIS Sensor (Desc)'!B184=\"\",\"\",'RWIS Sensor (Desc)'!B184)","v":""},{"$f":"IF('RWIS Sensor (Desc)'!D184=\"\",\"\",INDEX([1]RWIS_SENSOR_TYPE!$A$2:$A$100,MATCH('RWIS Sensor (Desc)'!$D184,[1]!MASTER_RWIS_SENSOR_TYPE_DESC[#Data],0),0))","v":""},{"$f":"IF('RWIS Sensor (Desc)'!E184=\"\",\"\",'RWIS Sensor (Desc)'!E184)","v":""},{"$f":"IF('RWIS Sensor (Desc)'!F184=\"\",\"\",INDEX([1]RWIS_SENSOR_MODEL!$B$2:$B$100,MATCH(1,([1]RWIS_SENSOR_MODEL!$C$2:$C$100='RWIS Sensor (Desc)'!$F184)*([1]RWIS_SENSOR_MODEL!$E$2:$E$100='RWIS Sensor (Code)'!$C184),0),0))","v":""},{"$f":"IF('RWIS Sensor (Desc)'!G184=\"\",\"\",INDEX([1]RWIS_SENSOR_MODEL!$A$2:$A$100,MATCH(1,([1]RWIS_SENSOR_MODEL!$C$2:$C$100='RWIS Sensor (Desc)'!$F184)*([1]RWIS_SENSOR_MODEL!$D$2:$D$100='RWIS Sensor (Desc)'!$G184)*([1]RWIS_SENSOR_MODEL!$E$2:$E$100='RWIS Sensor (Code)'!$C184),0),0))","v":""},{"$f":"IF('RWIS Sensor (Desc)'!H184=\"\",\"\",'RWIS Sensor (Desc)'!H184)","v":""}]
[{"$f":"IF('RWIS Sensor (Desc)'!B185=\"\",\"\",\"2008\")","v":""},{"$f":"IF('RWIS Sensor (Desc)'!B185=\"\",\"\",'RWIS Sensor (Desc)'!B185)","v":""},{"$f":"IF('RWIS Sensor (Desc)'!D185=\"\",\"\",INDEX([1]RWIS_SENSOR_TYPE!$A$2:$A$100,MATCH('RWIS Sensor (Desc)'!$D185,[1]!MASTER_RWIS_SENSOR_TYPE_DESC[#Data],0),0))","v":""},{"$f":"IF('RWIS Sensor (Desc)'!E185=\"\",\"\",'RWIS Sensor (Desc)'!E185)","v":""},{"$f":"IF('RWIS Sensor (Desc)'!F185=\"\",\"\",INDEX([1]RWIS_SENSOR_MODEL!$B$2:$B$100,MATCH(1,([1]RWIS_SENSOR_MODEL!$C$2:$C$100='RWIS Sensor (Desc)'!$F185)*([1]RWIS_SENSOR_MODEL!$E$2:$E$100='RWIS Sensor (Code)'!$C185),0),0))","v":""},{"$f":"IF('RWIS Sensor (Desc)'!G185=\"\",\"\",INDEX([1]RWIS_SENSOR_MODEL!$A$2:$A$100,MATCH(1,([1]RWIS_SENSOR_MODEL!$C$2:$C$100='RWIS Sensor (Desc)'!$F185)*([1]RWIS_SENSOR_MODEL!$D$2:$D$100='RWIS Sensor (Desc)'!$G185)*([1]RWIS_SENSOR_MODEL!$E$2:$E$100='RWIS Sensor (Code)'!$C185),0),0))","v":""},{"$f":"IF('RWIS Sensor (Desc)'!H185=\"\",\"\",'RWIS Sensor (Desc)'!H185)","v":""}]
[{"$f":"IF('RWIS Sensor (Desc)'!B186=\"\",\"\",\"2008\")","v":""},{"$f":"IF('RWIS Sensor (Desc)'!B186=\"\",\"\",'RWIS Sensor (Desc)'!B186)","v":""},{"$f":"IF('RWIS Sensor (Desc)'!D186=\"\",\"\",INDEX([1]RWIS_SENSOR_TYPE!$A$2:$A$100,MATCH('RWIS Sensor (Desc)'!$D186,[1]!MASTER_RWIS_SENSOR_TYPE_DESC[#Data],0),0))","v":""},{"$f":"IF('RWIS Sensor (Desc)'!E186=\"\",\"\",'RWIS Sensor (Desc)'!E186)","v":""},{"$f":"IF('RWIS Sensor (Desc)'!F186=\"\",\"\",INDEX([1]RWIS_SENSOR_MODEL!$B$2:$B$100,MATCH(1,([1]RWIS_SENSOR_MODEL!$C$2:$C$100='RWIS Sensor (Desc)'!$F186)*([1]RWIS_SENSOR_MODEL!$E$2:$E$100='RWIS Sensor (Code)'!$C186),0),0))","v":""},{"$f":"IF('RWIS Sensor (Desc)'!G186=\"\",\"\",INDEX([1]RWIS_SENSOR_MODEL!$A$2:$A$100,MATCH(1,([1]RWIS_SENSOR_MODEL!$C$2:$C$100='RWIS Sensor (Desc)'!$F186)*([1]RWIS_SENSOR_MODEL!$D$2:$D$100='RWIS Sensor (Desc)'!$G186)*([1]RWIS_SENSOR_MODEL!$E$2:$E$100='RWIS Sensor (Code)'!$C186),0),0))","v":""},{"$f":"IF('RWIS Sensor (Desc)'!H186=\"\",\"\",'RWIS Sensor (Desc)'!H186)","v":""}]
[{"$f":"IF('RWIS Sensor (Desc)'!B187=\"\",\"\",\"2008\")","v":""},{"$f":"IF('RWIS Sensor (Desc)'!B187=\"\",\"\",'RWIS Sensor (Desc)'!B187)","v":""},{"$f":"IF('RWIS Sensor (Desc)'!D187=\"\",\"\",INDEX([1]RWIS_SENSOR_TYPE!$A$2:$A$100,MATCH('RWIS Sensor (Desc)'!$D187,[1]!MASTER_RWIS_SENSOR_TYPE_DESC[#Data],0),0))","v":""},{"$f":"IF('RWIS Sensor (Desc)'!E187=\"\",\"\",'RWIS Sensor (Desc)'!E187)","v":""},{"$f":"IF('RWIS Sensor (Desc)'!F187=\"\",\"\",INDEX([1]RWIS_SENSOR_MODEL!$B$2:$B$100,MATCH(1,([1]RWIS_SENSOR_MODEL!$C$2:$C$100='RWIS Sensor (Desc)'!$F187)*([1]RWIS_SENSOR_MODEL!$E$2:$E$100='RWIS Sensor (Code)'!$C187),0),0))","v":""},{"$f":"IF('RWIS Sensor (Desc)'!G187=\"\",\"\",INDEX([1]RWIS_SENSOR_MODEL!$A$2:$A$100,MATCH(1,([1]RWIS_SENSOR_MODEL!$C$2:$C$100='RWIS Sensor (Desc)'!$F187)*([1]RWIS_SENSOR_MODEL!$D$2:$D$100='RWIS Sensor (Desc)'!$G187)*([1]RWIS_SENSOR_MODEL!$E$2:$E$100='RWIS Sensor (Code)'!$C187),0),0))","v":""},{"$f":"IF('RWIS Sensor (Desc)'!H187=\"\",\"\",'RWIS Sensor (Desc)'!H187)","v":""}]
[{"$f":"IF('RWIS Sensor (Desc)'!B188=\"\",\"\",\"2008\")","v":""},{"$f":"IF('RWIS Sensor (Desc)'!B188=\"\",\"\",'RWIS Sensor (Desc)'!B188)","v":""},{"$f":"IF('RWIS Sensor (Desc)'!D188=\"\",\"\",INDEX([1]RWIS_SENSOR_TYPE!$A$2:$A$100,MATCH('RWIS Sensor (Desc)'!$D188,[1]!MASTER_RWIS_SENSOR_TYPE_DESC[#Data],0),0))","v":""},{"$f":"IF('RWIS Sensor (Desc)'!E188=\"\",\"\",'RWIS Sensor (Desc)'!E188)","v":""},{"$f":"IF('RWIS Sensor (Desc)'!F188=\"\",\"\",INDEX([1]RWIS_SENSOR_MODEL!$B$2:$B$100,MATCH(1,([1]RWIS_SENSOR_MODEL!$C$2:$C$100='RWIS Sensor (Desc)'!$F188)*([1]RWIS_SENSOR_MODEL!$E$2:$E$100='RWIS Sensor (Code)'!$C188),0),0))","v":""},{"$f":"IF('RWIS Sensor (Desc)'!G188=\"\",\"\",INDEX([1]RWIS_SENSOR_MODEL!$A$2:$A$100,MATCH(1,([1]RWIS_SENSOR_MODEL!$C$2:$C$100='RWIS Sensor (Desc)'!$F188)*([1]RWIS_SENSOR_MODEL!$D$2:$D$100='RWIS Sensor (Desc)'!$G188)*([1]RWIS_SENSOR_MODEL!$E$2:$E$100='RWIS Sensor (Code)'!$C188),0),0))","v":""},{"$f":"IF('RWIS Sensor (Desc)'!H188=\"\",\"\",'RWIS Sensor (Desc)'!H188)","v":""}]
[{"$f":"IF('RWIS Sensor (Desc)'!B189=\"\",\"\",\"2008\")","v":""},{"$f":"IF('RWIS Sensor (Desc)'!B189=\"\",\"\",'RWIS Sensor (Desc)'!B189)","v":""},{"$f":"IF('RWIS Sensor (Desc)'!D189=\"\",\"\",INDEX([1]RWIS_SENSOR_TYPE!$A$2:$A$100,MATCH('RWIS Sensor (Desc)'!$D189,[1]!MASTER_RWIS_SENSOR_TYPE_DESC[#Data],0),0))","v":""},{"$f":"IF('RWIS Sensor (Desc)'!E189=\"\",\"\",'RWIS Sensor (Desc)'!E189)","v":""},{"$f":"IF('RWIS Sensor (Desc)'!F189=\"\",\"\",INDEX([1]RWIS_SENSOR_MODEL!$B$2:$B$100,MATCH(1,([1]RWIS_SENSOR_MODEL!$C$2:$C$100='RWIS Sensor (Desc)'!$F189)*([1]RWIS_SENSOR_MODEL!$E$2:$E$100='RWIS Sensor (Code)'!$C189),0),0))","v":""},{"$f":"IF('RWIS Sensor (Desc)'!G189=\"\",\"\",INDEX([1]RWIS_SENSOR_MODEL!$A$2:$A$100,MATCH(1,([1]RWIS_SENSOR_MODEL!$C$2:$C$100='RWIS Sensor (Desc)'!$F189)*([1]RWIS_SENSOR_MODEL!$D$2:$D$100='RWIS Sensor (Desc)'!$G189)*([1]RWIS_SENSOR_MODEL!$E$2:$E$100='RWIS Sensor (Code)'!$C189),0),0))","v":""},{"$f":"IF('RWIS Sensor (Desc)'!H189=\"\",\"\",'RWIS Sensor (Desc)'!H189)","v":""}]
[{"$f":"IF('RWIS Sensor (Desc)'!B190=\"\",\"\",\"2008\")","v":""},{"$f":"IF('RWIS Sensor (Desc)'!B190=\"\",\"\",'RWIS Sensor (Desc)'!B190)","v":""},{"$f":"IF('RWIS Sensor (Desc)'!D190=\"\",\"\",INDEX([1]RWIS_SENSOR_TYPE!$A$2:$A$100,MATCH('RWIS Sensor (Desc)'!$D190,[1]!MASTER_RWIS_SENSOR_TYPE_DESC[#Data],0),0))","v":""},{"$f":"IF('RWIS Sensor (Desc)'!E190=\"\",\"\",'RWIS Sensor (Desc)'!E190)","v":""},{"$f":"IF('RWIS Sensor (Desc)'!F190=\"\",\"\",INDEX([1]RWIS_SENSOR_MODEL!$B$2:$B$100,MATCH(1,([1]RWIS_SENSOR_MODEL!$C$2:$C$100='RWIS Sensor (Desc)'!$F190)*([1]RWIS_SENSOR_MODEL!$E$2:$E$100='RWIS Sensor (Code)'!$C190),0),0))","v":""},{"$f":"IF('RWIS Sensor (Desc)'!G190=\"\",\"\",INDEX([1]RWIS_SENSOR_MODEL!$A$2:$A$100,MATCH(1,([1]RWIS_SENSOR_MODEL!$C$2:$C$100='RWIS Sensor (Desc)'!$F190)*([1]RWIS_SENSOR_MODEL!$D$2:$D$100='RWIS Sensor (Desc)'!$G190)*([1]RWIS_SENSOR_MODEL!$E$2:$E$100='RWIS Sensor (Code)'!$C190),0),0))","v":""},{"$f":"IF('RWIS Sensor (Desc)'!H190=\"\",\"\",'RWIS Sensor (Desc)'!H190)","v":""}]
[{"$f":"IF('RWIS Sensor (Desc)'!B191=\"\",\"\",\"2008\")","v":""},{"$f":"IF('RWIS Sensor (Desc)'!B191=\"\",\"\",'RWIS Sensor (Desc)'!B191)","v":""},{"$f":"IF('RWIS Sensor (Desc)'!D191=\"\",\"\",INDEX([1]RWIS_SENSOR_TYPE!$A$2:$A$100,MATCH('RWIS Sensor (Desc)'!$D191,[1]!MASTER_RWIS_SENSOR_TYPE_DESC[#Data],0),0))","v":""},{"$f":"IF('RWIS Sensor (Desc)'!E191=\"\",\"\",'RWIS Sensor (Desc)'!E191)","v":""},{"$f":"IF('RWIS Sensor (Desc)'!F191=\"\",\"\",INDEX([1]RWIS_SENSOR_MODEL!$B$2:$B$100,MATCH(1,([1]RWIS_SENSOR_MODEL!$C$2:$C$100='RWIS Sensor (Desc)'!$F191)*([1]RWIS_SENSOR_MODEL!$E$2:$E$100='RWIS Sensor (Code)'!$C191),0),0))","v":""},{"$f":"IF('RWIS Sensor (Desc)'!G191=\"\",\"\",INDEX([1]RWIS_SENSOR_MODEL!$A$2:$A$100,MATCH(1,([1]RWIS_SENSOR_MODEL!$C$2:$C$100='RWIS Sensor (Desc)'!$F191)*([1]RWIS_SENSOR_MODEL!$D$2:$D$100='RWIS Sensor (Desc)'!$G191)*([1]RWIS_SENSOR_MODEL!$E$2:$E$100='RWIS Sensor (Code)'!$C191),0),0))","v":""},{"$f":"IF('RWIS Sensor (Desc)'!H191=\"\",\"\",'RWIS Sensor (Desc)'!H191)","v":""}]
[{"$f":"IF('RWIS Sensor (Desc)'!B192=\"\",\"\",\"2008\")","v":""},{"$f":"IF('RWIS Sensor (Desc)'!B192=\"\",\"\",'RWIS Sensor (Desc)'!B192)","v":""},{"$f":"IF('RWIS Sensor (Desc)'!D192=\"\",\"\",INDEX([1]RWIS_SENSOR_TYPE!$A$2:$A$100,MATCH('RWIS Sensor (Desc)'!$D192,[1]!MASTER_RWIS_SENSOR_TYPE_DESC[#Data],0),0))","v":""},{"$f":"IF('RWIS Sensor (Desc)'!E192=\"\",\"\",'RWIS Sensor (Desc)'!E192)","v":""},{"$f":"IF('RWIS Sensor (Desc)'!F192=\"\",\"\",INDEX([1]RWIS_SENSOR_MODEL!$B$2:$B$100,MATCH(1,([1]RWIS_SENSOR_MODEL!$C$2:$C$100='RWIS Sensor (Desc)'!$F192)*([1]RWIS_SENSOR_MODEL!$E$2:$E$100='RWIS Sensor (Code)'!$C192),0),0))","v":""},{"$f":"IF('RWIS Sensor (Desc)'!G192=\"\",\"\",INDEX([1]RWIS_SENSOR_MODEL!$A$2:$A$100,MATCH(1,([1]RWIS_SENSOR_MODEL!$C$2:$C$100='RWIS Sensor (Desc)'!$F192)*([1]RWIS_SENSOR_MODEL!$D$2:$D$100='RWIS Sensor (Desc)'!$G192)*([1]RWIS_SENSOR_MODEL!$E$2:$E$100='RWIS Sensor (Code)'!$C192),0),0))","v":""},{"$f":"IF('RWIS Sensor (Desc)'!H192=\"\",\"\",'RWIS Sensor (Desc)'!H192)","v":""}]
[{"$f":"IF('RWIS Sensor (Desc)'!B193=\"\",\"\",\"2008\")","v":""},{"$f":"IF('RWIS Sensor (Desc)'!B193=\"\",\"\",'RWIS Sensor (Desc)'!B193)","v":""},{"$f":"IF('RWIS Sensor (Desc)'!D193=\"\",\"\",INDEX([1]RWIS_SENSOR_TYPE!$A$2:$A$100,MATCH('RWIS Sensor (Desc)'!$D193,[1]!MASTER_RWIS_SENSOR_TYPE_DESC[#Data],0),0))","v":""},{"$f":"IF('RWIS Sensor (Desc)'!E193=\"\",\"\",'RWIS Sensor (Desc)'!E193)","v":""},{"$f":"IF('RWIS Sensor (Desc)'!F193=\"\",\"\",INDEX([1]RWIS_SENSOR_MODEL!$B$2:$B$100,MATCH(1,([1]RWIS_SENSOR_MODEL!$C$2:$C$100='RWIS Sensor (Desc)'!$F193)*([1]RWIS_SENSOR_MODEL!$E$2:$E$100='RWIS Sensor (Code)'!$C193),0),0))","v":""},{"$f":"IF('RWIS Sensor (Desc)'!G193=\"\",\"\",INDEX([1]RWIS_SENSOR_MODEL!$A$2:$A$100,MATCH(1,([1]RWIS_SENSOR_MODEL!$C$2:$C$100='RWIS Sensor (Desc)'!$F193)*([1]RWIS_SENSOR_MODEL!$D$2:$D$100='RWIS Sensor (Desc)'!$G193)*([1]RWIS_SENSOR_MODEL!$E$2:$E$100='RWIS Sensor (Code)'!$C193),0),0))","v":""},{"$f":"IF('RWIS Sensor (Desc)'!H193=\"\",\"\",'RWIS Sensor (Desc)'!H193)","v":""}]
[{"$f":"IF('RWIS Sensor (Desc)'!B194=\"\",\"\",\"2008\")","v":""},{"$f":"IF('RWIS Sensor (Desc)'!B194=\"\",\"\",'RWIS Sensor (Desc)'!B194)","v":""},{"$f":"IF('RWIS Sensor (Desc)'!D194=\"\",\"\",INDEX([1]RWIS_SENSOR_TYPE!$A$2:$A$100,MATCH('RWIS Sensor (Desc)'!$D194,[1]!MASTER_RWIS_SENSOR_TYPE_DESC[#Data],0),0))","v":""},{"$f":"IF('RWIS Sensor (Desc)'!E194=\"\",\"\",'RWIS Sensor (Desc)'!E194)","v":""},{"$f":"IF('RWIS Sensor (Desc)'!F194=\"\",\"\",INDEX([1]RWIS_SENSOR_MODEL!$B$2:$B$100,MATCH(1,([1]RWIS_SENSOR_MODEL!$C$2:$C$100='RWIS Sensor (Desc)'!$F194)*([1]RWIS_SENSOR_MODEL!$E$2:$E$100='RWIS Sensor (Code)'!$C194),0),0))","v":""},{"$f":"IF('RWIS Sensor (Desc)'!G194=\"\",\"\",INDEX([1]RWIS_SENSOR_MODEL!$A$2:$A$100,MATCH(1,([1]RWIS_SENSOR_MODEL!$C$2:$C$100='RWIS Sensor (Desc)'!$F194)*([1]RWIS_SENSOR_MODEL!$D$2:$D$100='RWIS Sensor (Desc)'!$G194)*([1]RWIS_SENSOR_MODEL!$E$2:$E$100='RWIS Sensor (Code)'!$C194),0),0))","v":""},{"$f":"IF('RWIS Sensor (Desc)'!H194=\"\",\"\",'RWIS Sensor (Desc)'!H194)","v":""}]
[{"$f":"IF('RWIS Sensor (Desc)'!B195=\"\",\"\",\"2008\")","v":""},{"$f":"IF('RWIS Sensor (Desc)'!B195=\"\",\"\",'RWIS Sensor (Desc)'!B195)","v":""},{"$f":"IF('RWIS Sensor (Desc)'!D195=\"\",\"\",INDEX([1]RWIS_SENSOR_TYPE!$A$2:$A$100,MATCH('RWIS Sensor (Desc)'!$D195,[1]!MASTER_RWIS_SENSOR_TYPE_DESC[#Data],0),0))","v":""},{"$f":"IF('RWIS Sensor (Desc)'!E195=\"\",\"\",'RWIS Sensor (Desc)'!E195)","v":""},{"$f":"IF('RWIS Sensor (Desc)'!F195=\"\",\"\",INDEX([1]RWIS_SENSOR_MODEL!$B$2:$B$100,MATCH(1,([1]RWIS_SENSOR_MODEL!$C$2:$C$100='RWIS Sensor (Desc)'!$F195)*([1]RWIS_SENSOR_MODEL!$E$2:$E$100='RWIS Sensor (Code)'!$C195),0),0))","v":""},{"$f":"IF('RWIS Sensor (Desc)'!G195=\"\",\"\",INDEX([1]RWIS_SENSOR_MODEL!$A$2:$A$100,MATCH(1,([1]RWIS_SENSOR_MODEL!$C$2:$C$100='RWIS Sensor (Desc)'!$F195)*([1]RWIS_SENSOR_MODEL!$D$2:$D$100='RWIS Sensor (Desc)'!$G195)*([1]RWIS_SENSOR_MODEL!$E$2:$E$100='RWIS Sensor (Code)'!$C195),0),0))","v":""},{"$f":"IF('RWIS Sensor (Desc)'!H195=\"\",\"\",'RWIS Sensor (Desc)'!H195)","v":""}]
[{"$f":"IF('RWIS Sensor (Desc)'!B196=\"\",\"\",\"2008\")","v":""},{"$f":"IF('RWIS Sensor (Desc)'!B196=\"\",\"\",'RWIS Sensor (Desc)'!B196)","v":""},{"$f":"IF('RWIS Sensor (Desc)'!D196=\"\",\"\",INDEX([1]RWIS_SENSOR_TYPE!$A$2:$A$100,MATCH('RWIS Sensor (Desc)'!$D196,[1]!MASTER_RWIS_SENSOR_TYPE_DESC[#Data],0),0))","v":""},{"$f":"IF('RWIS Sensor (Desc)'!E196=\"\",\"\",'RWIS Sensor (Desc)'!E196)","v":""},{"$f":"IF('RWIS Sensor (Desc)'!F196=\"\",\"\",INDEX([1]RWIS_SENSOR_MODEL!$B$2:$B$100,MATCH(1,([1]RWIS_SENSOR_MODEL!$C$2:$C$100='RWIS Sensor (Desc)'!$F196)*([1]RWIS_SENSOR_MODEL!$E$2:$E$100='RWIS Sensor (Code)'!$C196),0),0))","v":""},{"$f":"IF('RWIS Sensor (Desc)'!G196=\"\",\"\",INDEX([1]RWIS_SENSOR_MODEL!$A$2:$A$100,MATCH(1,([1]RWIS_SENSOR_MODEL!$C$2:$C$100='RWIS Sensor (Desc)'!$F196)*([1]RWIS_SENSOR_MODEL!$D$2:$D$100='RWIS Sensor (Desc)'!$G196)*([1]RWIS_SENSOR_MODEL!$E$2:$E$100='RWIS Sensor (Code)'!$C196),0),0))","v":""},{"$f":"IF('RWIS Sensor (Desc)'!H196=\"\",\"\",'RWIS Sensor (Desc)'!H196)","v":""}]
[{"$f":"IF('RWIS Sensor (Desc)'!B197=\"\",\"\",\"2008\")","v":""},{"$f":"IF('RWIS Sensor (Desc)'!B197=\"\",\"\",'RWIS Sensor (Desc)'!B197)","v":""},{"$f":"IF('RWIS Sensor (Desc)'!D197=\"\",\"\",INDEX([1]RWIS_SENSOR_TYPE!$A$2:$A$100,MATCH('RWIS Sensor (Desc)'!$D197,[1]!MASTER_RWIS_SENSOR_TYPE_DESC[#Data],0),0))","v":""},{"$f":"IF('RWIS Sensor (Desc)'!E197=\"\",\"\",'RWIS Sensor (Desc)'!E197)","v":""},{"$f":"IF('RWIS Sensor (Desc)'!F197=\"\",\"\",INDEX([1]RWIS_SENSOR_MODEL!$B$2:$B$100,MATCH(1,([1]RWIS_SENSOR_MODEL!$C$2:$C$100='RWIS Sensor (Desc)'!$F197)*([1]RWIS_SENSOR_MODEL!$E$2:$E$100='RWIS Sensor (Code)'!$C197),0),0))","v":""},{"$f":"IF('RWIS Sensor (Desc)'!G197=\"\",\"\",INDEX([1]RWIS_SENSOR_MODEL!$A$2:$A$100,MATCH(1,([1]RWIS_SENSOR_MODEL!$C$2:$C$100='RWIS Sensor (Desc)'!$F197)*([1]RWIS_SENSOR_MODEL!$D$2:$D$100='RWIS Sensor (Desc)'!$G197)*([1]RWIS_SENSOR_MODEL!$E$2:$E$100='RWIS Sensor (Code)'!$C197),0),0))","v":""},{"$f":"IF('RWIS Sensor (Desc)'!H197=\"\",\"\",'RWIS Sensor (Desc)'!H197)","v":""}]
[{"$f":"IF('RWIS Sensor (Desc)'!B198=\"\",\"\",\"2008\")","v":""},{"$f":"IF('RWIS Sensor (Desc)'!B198=\"\",\"\",'RWIS Sensor (Desc)'!B198)","v":""},{"$f":"IF('RWIS Sensor (Desc)'!D198=\"\",\"\",INDEX([1]RWIS_SENSOR_TYPE!$A$2:$A$100,MATCH('RWIS Sensor (Desc)'!$D198,[1]!MASTER_RWIS_SENSOR_TYPE_DESC[#Data],0),0))","v":""},{"$f":"IF('RWIS Sensor (Desc)'!E198=\"\",\"\",'RWIS Sensor (Desc)'!E198)","v":""},{"$f":"IF('RWIS Sensor (Desc)'!F198=\"\",\"\",INDEX([1]RWIS_SENSOR_MODEL!$B$2:$B$100,MATCH(1,([1]RWIS_SENSOR_MODEL!$C$2:$C$100='RWIS Sensor (Desc)'!$F198)*([1]RWIS_SENSOR_MODEL!$E$2:$E$100='RWIS Sensor (Code)'!$C198),0),0))","v":""},{"$f":"IF('RWIS Sensor (Desc)'!G198=\"\",\"\",INDEX([1]RWIS_SENSOR_MODEL!$A$2:$A$100,MATCH(1,([1]RWIS_SENSOR_MODEL!$C$2:$C$100='RWIS Sensor (Desc)'!$F198)*([1]RWIS_SENSOR_MODEL!$D$2:$D$100='RWIS Sensor (Desc)'!$G198)*([1]RWIS_SENSOR_MODEL!$E$2:$E$100='RWIS Sensor (Code)'!$C198),0),0))","v":""},{"$f":"IF('RWIS Sensor (Desc)'!H198=\"\",\"\",'RWIS Sensor (Desc)'!H198)","v":""}]
[{"$f":"IF('RWIS Sensor (Desc)'!B199=\"\",\"\",\"2008\")","v":""},{"$f":"IF('RWIS Sensor (Desc)'!B199=\"\",\"\",'RWIS Sensor (Desc)'!B199)","v":""},{"$f":"IF('RWIS Sensor (Desc)'!D199=\"\",\"\",INDEX([1]RWIS_SENSOR_TYPE!$A$2:$A$100,MATCH('RWIS Sensor (Desc)'!$D199,[1]!MASTER_RWIS_SENSOR_TYPE_DESC[#Data],0),0))","v":""},{"$f":"IF('RWIS Sensor (Desc)'!E199=\"\",\"\",'RWIS Sensor (Desc)'!E199)","v":""},{"$f":"IF('RWIS Sensor (Desc)'!F199=\"\",\"\",INDEX([1]RWIS_SENSOR_MODEL!$B$2:$B$100,MATCH(1,([1]RWIS_SENSOR_MODEL!$C$2:$C$100='RWIS Sensor (Desc)'!$F199)*([1]RWIS_SENSOR_MODEL!$E$2:$E$100='RWIS Sensor (Code)'!$C199),0),0))","v":""},{"$f":"IF('RWIS Sensor (Desc)'!G199=\"\",\"\",INDEX([1]RWIS_SENSOR_MODEL!$A$2:$A$100,MATCH(1,([1]RWIS_SENSOR_MODEL!$C$2:$C$100='RWIS Sensor (Desc)'!$F199)*([1]RWIS_SENSOR_MODEL!$D$2:$D$100='RWIS Sensor (Desc)'!$G199)*([1]RWIS_SENSOR_MODEL!$E$2:$E$100='RWIS Sensor (Code)'!$C199),0),0))","v":""},{"$f":"IF('RWIS Sensor (Desc)'!H199=\"\",\"\",'RWIS Sensor (Desc)'!H199)","v":""}]
[{"$f":"IF('RWIS Sensor (Desc)'!B200=\"\",\"\",\"2008\")","v":""},{"$f":"IF('RWIS Sensor (Desc)'!B200=\"\",\"\",'RWIS Sensor (Desc)'!B200)","v":""},{"$f":"IF('RWIS Sensor (Desc)'!D200=\"\",\"\",INDEX([1]RWIS_SENSOR_TYPE!$A$2:$A$100,MATCH('RWIS Sensor (Desc)'!$D200,[1]!MASTER_RWIS_SENSOR_TYPE_DESC[#Data],0),0))","v":""},{"$f":"IF('RWIS Sensor (Desc)'!E200=\"\",\"\",'RWIS Sensor (Desc)'!E200)","v":""},{"$f":"IF('RWIS Sensor (Desc)'!F200=\"\",\"\",INDEX([1]RWIS_SENSOR_MODEL!$B$2:$B$100,MATCH(1,([1]RWIS_SENSOR_MODEL!$C$2:$C$100='RWIS Sensor (Desc)'!$F200)*([1]RWIS_SENSOR_MODEL!$E$2:$E$100='RWIS Sensor (Code)'!$C200),0),0))","v":""},{"$f":"IF('RWIS Sensor (Desc)'!G200=\"\",\"\",INDEX([1]RWIS_SENSOR_MODEL!$A$2:$A$100,MATCH(1,([1]RWIS_SENSOR_MODEL!$C$2:$C$100='RWIS Sensor (Desc)'!$F200)*([1]RWIS_SENSOR_MODEL!$D$2:$D$100='RWIS Sensor (Desc)'!$G200)*([1]RWIS_SENSOR_MODEL!$E$2:$E$100='RWIS Sensor (Code)'!$C200),0),0))","v":""},{"$f":"IF('RWIS Sensor (Desc)'!H200=\"\",\"\",'RWIS Sensor (Desc)'!H200)","v":""}]
[{"$f":"IF('RWIS Sensor (Desc)'!B201=\"\",\"\",\"2008\")","v":""},{"$f":"IF('RWIS Sensor (Desc)'!B201=\"\",\"\",'RWIS Sensor (Desc)'!B201)","v":""},{"$f":"IF('RWIS Sensor (Desc)'!D201=\"\",\"\",INDEX([1]RWIS_SENSOR_TYPE!$A$2:$A$100,MATCH('RWIS Sensor (Desc)'!$D201,[1]!MASTER_RWIS_SENSOR_TYPE_DESC[#Data],0),0))","v":""},{"$f":"IF('RWIS Sensor (Desc)'!E201=\"\",\"\",'RWIS Sensor (Desc)'!E201)","v":""},{"$f":"IF('RWIS Sensor (Desc)'!F201=\"\",\"\",INDEX([1]RWIS_SENSOR_MODEL!$B$2:$B$100,MATCH(1,([1]RWIS_SENSOR_MODEL!$C$2:$C$100='RWIS Sensor (Desc)'!$F201)*([1]RWIS_SENSOR_MODEL!$E$2:$E$100='RWIS Sensor (Code)'!$C201),0),0))","v":""},{"$f":"IF('RWIS Sensor (Desc)'!G201=\"\",\"\",INDEX([1]RWIS_SENSOR_MODEL!$A$2:$A$100,MATCH(1,([1]RWIS_SENSOR_MODEL!$C$2:$C$100='RWIS Sensor (Desc)'!$F201)*([1]RWIS_SENSOR_MODEL!$D$2:$D$100='RWIS Sensor (Desc)'!$G201)*([1]RWIS_SENSOR_MODEL!$E$2:$E$100='RWIS Sensor (Code)'!$C201),0),0))","v":""},{"$f":"IF('RWIS Sensor (Desc)'!H201=\"\",\"\",'RWIS Sensor (Desc)'!H201)","v":""}]
[{"$f":"IF('RWIS Sensor (Desc)'!B202=\"\",\"\",\"2008\")","v":""},{"$f":"IF('RWIS Sensor (Desc)'!B202=\"\",\"\",'RWIS Sensor (Desc)'!B202)","v":""},{"$f":"IF('RWIS Sensor (Desc)'!D202=\"\",\"\",INDEX([1]RWIS_SENSOR_TYPE!$A$2:$A$100,MATCH('RWIS Sensor (Desc)'!$D202,[1]!MASTER_RWIS_SENSOR_TYPE_DESC[#Data],0),0))","v":""},{"$f":"IF('RWIS Sensor (Desc)'!E202=\"\",\"\",'RWIS Sensor (Desc)'!E202)","v":""},{"$f":"IF('RWIS Sensor (Desc)'!F202=\"\",\"\",INDEX([1]RWIS_SENSOR_MODEL!$B$2:$B$100,MATCH(1,([1]RWIS_SENSOR_MODEL!$C$2:$C$100='RWIS Sensor (Desc)'!$F202)*([1]RWIS_SENSOR_MODEL!$E$2:$E$100='RWIS Sensor (Code)'!$C202),0),0))","v":""},{"$f":"IF('RWIS Sensor (Desc)'!G202=\"\",\"\",INDEX([1]RWIS_SENSOR_MODEL!$A$2:$A$100,MATCH(1,([1]RWIS_SENSOR_MODEL!$C$2:$C$100='RWIS Sensor (Desc)'!$F202)*([1]RWIS_SENSOR_MODEL!$D$2:$D$100='RWIS Sensor (Desc)'!$G202)*([1]RWIS_SENSOR_MODEL!$E$2:$E$100='RWIS Sensor (Code)'!$C202),0),0))","v":""},{"$f":"IF('RWIS Sensor (Desc)'!H202=\"\",\"\",'RWIS Sensor (Desc)'!H202)","v":""}]