{"text_format":"1","workbook":"xlsx","n_sheets":4,"sheets":["RWIS (Desc)","RWIS (Code)","RWIS Sensor (Desc)","RWIS Sensor (Code)"],"not_rendered":{"charts":0,"images":0,"macros":1,"external_links":1,"defined_names":12,"comments":0,"pivot_tables":0},"unopened":[],"bounds":{"document_bytes":16777216,"sheet_cells":100000,"rows_first":2000,"rows_last":500,"rows_between":2000,"halvings":0,"cell_chars":16384,"cell_head_chars":4096},"cells_cut":0,"cells_raw":0,"read":"whole","date_system":"1900"}

{"sheet":"RWIS (Desc)","index":0,"n_rows":2,"n_cols":8,"rows_kept":2,"cut":false,"hidden":false,"merged":[]}
["Device Id\nfor update ","Site Identification Name","Latitude ","Longitude","Facility Owner","County","Installed Date (YYYY-MM-DD)","Device Name"]
["EQUIP_ID","SITE_NO\nREQUIRED FIELD","PRIM GEOM (Y)\nREQUIRED FIELD","PRIM GEOM (X)\nREQUIRED FIELD","OWNER_CD\nREQUIRED FIELD","COUNTY_CD\nREQUIRED FIELD","YEAR_INSTALLED","NAME\nREQUIRED FIELD"]

{"sheet":"RWIS (Code)","index":1,"n_rows":202,"n_cols":8,"rows_kept":202,"cut":false,"hidden":false,"merged":[]}
["Device Id\nfor update ","Site Identification Name","Latitude ","Longitude","Facility Owner","County","Installed Date (YYYY-MM-DD)","Device Name"]
["EQUIP_ID","SITE_NO\nREQUIRED FIELD","PRIM GEOM (Y) REQUIRED FIELD","PRIM GEOM (X) REQUIRED FIELD","OWNER_CD REQUIRED FIELD","COUNTY_CD REQUIRED FIELD","YEAR_INSTALLED","NAME\nREQUIRED FIELD"]
[{"$f":"IF('RWIS (Desc)'!A3=\"\",\"\",'RWIS (Desc)'!A3)","v":""},{"$f":"IF('RWIS (Desc)'!B3=\"\",\"\",'RWIS (Desc)'!B3)","v":""},{"$f":"IF('RWIS (Desc)'!C3=\"\",\"\",'RWIS (Desc)'!C3)","v":""},{"$f":"IF('RWIS (Desc)'!D3=\"\",\"\",'RWIS (Desc)'!D3)","v":""},{"$f":"IF('RWIS (Desc)'!E3=\"\",\"\",INDEX([1]OWNER!$A$2:$A$100,MATCH('RWIS (Desc)'!$E3,[1]!MASTER_OWNER_DESC[#Data],0),0))","v":""},{"$f":"IF('RWIS (Desc)'!F3=\"\",\"\",INDEX([1]COUNTY!$A$2:$A$80,MATCH('RWIS (Desc)'!F3,[1]!MASTER_COUNTY_NAME[#Data],0),0))","v":""},{"$f":"IF('RWIS (Desc)'!G3=\"\",\"\",'RWIS (Desc)'!G3)","v":""},{"$f":"IF('RWIS (Desc)'!H3=\"\",\"\",'RWIS (Desc)'!H3)","v":""}]
[{"$f":"IF('RWIS (Desc)'!A4=\"\",\"\",'RWIS (Desc)'!A4)","v":""},{"$f":"IF('RWIS (Desc)'!B4=\"\",\"\",'RWIS (Desc)'!B4)","v":""},{"$f":"IF('RWIS (Desc)'!C4=\"\",\"\",'RWIS (Desc)'!C4)","v":""},{"$f":"IF('RWIS (Desc)'!D4=\"\",\"\",'RWIS (Desc)'!D4)","v":""},{"$f":"IF('RWIS (Desc)'!E4=\"\",\"\",INDEX([1]OWNER!$A$2:$A$100,MATCH('RWIS (Desc)'!$E4,[1]!MASTER_OWNER_DESC[#Data],0),0))","v":""},{"$f":"IF('RWIS (Desc)'!F4=\"\",\"\",INDEX([1]COUNTY!$A$2:$A$80,MATCH('RWIS (Desc)'!F4,[1]!MASTER_COUNTY_NAME[#Data],0),0))","v":""},{"$f":"IF('RWIS (Desc)'!G4=\"\",\"\",'RWIS (Desc)'!G4)","v":""},{"$f":"IF('RWIS (Desc)'!H4=\"\",\"\",'RWIS (Desc)'!H4)","v":""}]
[{"$f":"IF('RWIS (Desc)'!A5=\"\",\"\",'RWIS (Desc)'!A5)","v":""},{"$f":"IF('RWIS (Desc)'!B5=\"\",\"\",'RWIS (Desc)'!B5)","v":""},{"$f":"IF('RWIS (Desc)'!C5=\"\",\"\",'RWIS (Desc)'!C5)","v":""},{"$f":"IF('RWIS (Desc)'!D5=\"\",\"\",'RWIS (Desc)'!D5)","v":""},{"$f":"IF('RWIS (Desc)'!E5=\"\",\"\",INDEX([1]OWNER!$A$2:$A$100,MATCH('RWIS (Desc)'!$E5,[1]!MASTER_OWNER_DESC[#Data],0),0))","v":""},{"$f":"IF('RWIS (Desc)'!F5=\"\",\"\",INDEX([1]COUNTY!$A$2:$A$80,MATCH('RWIS (Desc)'!F5,[1]!MASTER_COUNTY_NAME[#Data],0),0))","v":""},{"$f":"IF('RWIS (Desc)'!G5=\"\",\"\",'RWIS (Desc)'!G5)","v":""},{"$f":"IF('RWIS (Desc)'!H5=\"\",\"\",'RWIS (Desc)'!H5)","v":""}]
[{"$f":"IF('RWIS (Desc)'!A6=\"\",\"\",'RWIS (Desc)'!A6)","v":""},{"$f":"IF('RWIS (Desc)'!B6=\"\",\"\",'RWIS (Desc)'!B6)","v":""},{"$f":"IF('RWIS (Desc)'!C6=\"\",\"\",'RWIS (Desc)'!C6)","v":""},{"$f":"IF('RWIS (Desc)'!D6=\"\",\"\",'RWIS (Desc)'!D6)","v":""},{"$f":"IF('RWIS (Desc)'!E6=\"\",\"\",INDEX([1]OWNER!$A$2:$A$100,MATCH('RWIS (Desc)'!$E6,[1]!MASTER_OWNER_DESC[#Data],0),0))","v":""},{"$f":"IF('RWIS (Desc)'!F6=\"\",\"\",INDEX([1]COUNTY!$A$2:$A$80,MATCH('RWIS (Desc)'!F6,[1]!MASTER_COUNTY_NAME[#Data],0),0))","v":""},{"$f":"IF('RWIS (Desc)'!G6=\"\",\"\",'RWIS (Desc)'!G6)","v":""},{"$f":"IF('RWIS (Desc)'!H6=\"\",\"\",'RWIS (Desc)'!H6)","v":""}]
[{"$f":"IF('RWIS (Desc)'!A7=\"\",\"\",'RWIS (Desc)'!A7)","v":""},{"$f":"IF('RWIS (Desc)'!B7=\"\",\"\",'RWIS (Desc)'!B7)","v":""},{"$f":"IF('RWIS (Desc)'!C7=\"\",\"\",'RWIS (Desc)'!C7)","v":""},{"$f":"IF('RWIS (Desc)'!D7=\"\",\"\",'RWIS (Desc)'!D7)","v":""},{"$f":"IF('RWIS (Desc)'!E7=\"\",\"\",INDEX([1]OWNER!$A$2:$A$100,MATCH('RWIS (Desc)'!$E7,[1]!MASTER_OWNER_DESC[#Data],0),0))","v":""},{"$f":"IF('RWIS (Desc)'!F7=\"\",\"\",INDEX([1]COUNTY!$A$2:$A$80,MATCH('RWIS (Desc)'!F7,[1]!MASTER_COUNTY_NAME[#Data],0),0))","v":""},{"$f":"IF('RWIS (Desc)'!G7=\"\",\"\",'RWIS (Desc)'!G7)","v":""},{"$f":"IF('RWIS (Desc)'!H7=\"\",\"\",'RWIS (Desc)'!H7)","v":""}]
[{"$f":"IF('RWIS (Desc)'!A8=\"\",\"\",'RWIS (Desc)'!A8)","v":""},{"$f":"IF('RWIS (Desc)'!B8=\"\",\"\",'RWIS (Desc)'!B8)","v":""},{"$f":"IF('RWIS (Desc)'!C8=\"\",\"\",'RWIS (Desc)'!C8)","v":""},{"$f":"IF('RWIS (Desc)'!D8=\"\",\"\",'RWIS (Desc)'!D8)","v":""},{"$f":"IF('RWIS (Desc)'!E8=\"\",\"\",INDEX([1]OWNER!$A$2:$A$100,MATCH('RWIS (Desc)'!$E8,[1]!MASTER_OWNER_DESC[#Data],0),0))","v":""},{"$f":"IF('RWIS (Desc)'!F8=\"\",\"\",INDEX([1]COUNTY!$A$2:$A$80,MATCH('RWIS (Desc)'!F8,[1]!MASTER_COUNTY_NAME[#Data],0),0))","v":""},{"$f":"IF('RWIS (Desc)'!G8=\"\",\"\",'RWIS (Desc)'!G8)","v":""},{"$f":"IF('RWIS (Desc)'!H8=\"\",\"\",'RWIS (Desc)'!H8)","v":""}]
[{"$f":"IF('RWIS (Desc)'!A9=\"\",\"\",'RWIS (Desc)'!A9)","v":""},{"$f":"IF('RWIS (Desc)'!B9=\"\",\"\",'RWIS (Desc)'!B9)","v":""},{"$f":"IF('RWIS (Desc)'!C9=\"\",\"\",'RWIS (Desc)'!C9)","v":""},{"$f":"IF('RWIS (Desc)'!D9=\"\",\"\",'RWIS (Desc)'!D9)","v":""},{"$f":"IF('RWIS (Desc)'!E9=\"\",\"\",INDEX([1]OWNER!$A$2:$A$100,MATCH('RWIS (Desc)'!$E9,[1]!MASTER_OWNER_DESC[#Data],0),0))","v":""},{"$f":"IF('RWIS (Desc)'!F9=\"\",\"\",INDEX([1]COUNTY!$A$2:$A$80,MATCH('RWIS (Desc)'!F9,[1]!MASTER_COUNTY_NAME[#Data],0),0))","v":""},{"$f":"IF('RWIS (Desc)'!G9=\"\",\"\",'RWIS (Desc)'!G9)","v":""},{"$f":"IF('RWIS (Desc)'!H9=\"\",\"\",'RWIS (Desc)'!H9)","v":""}]
[{"$f":"IF('RWIS (Desc)'!A10=\"\",\"\",'RWIS (Desc)'!A10)","v":""},{"$f":"IF('RWIS (Desc)'!B10=\"\",\"\",'RWIS (Desc)'!B10)","v":""},{"$f":"IF('RWIS (Desc)'!C10=\"\",\"\",'RWIS (Desc)'!C10)","v":""},{"$f":"IF('RWIS (Desc)'!D10=\"\",\"\",'RWIS (Desc)'!D10)","v":""},{"$f":"IF('RWIS (Desc)'!E10=\"\",\"\",INDEX([1]OWNER!$A$2:$A$100,MATCH('RWIS (Desc)'!$E10,[1]!MASTER_OWNER_DESC[#Data],0),0))","v":""},{"$f":"IF('RWIS (Desc)'!F10=\"\",\"\",INDEX([1]COUNTY!$A$2:$A$80,MATCH('RWIS (Desc)'!F10,[1]!MASTER_COUNTY_NAME[#Data],0),0))","v":""},{"$f":"IF('RWIS (Desc)'!G10=\"\",\"\",'RWIS (Desc)'!G10)","v":""},{"$f":"IF('RWIS (Desc)'!H10=\"\",\"\",'RWIS (Desc)'!H10)","v":""}]
[{"$f":"IF('RWIS (Desc)'!A11=\"\",\"\",'RWIS (Desc)'!A11)","v":""},{"$f":"IF('RWIS (Desc)'!B11=\"\",\"\",'RWIS (Desc)'!B11)","v":""},{"$f":"IF('RWIS (Desc)'!C11=\"\",\"\",'RWIS (Desc)'!C11)","v":""},{"$f":"IF('RWIS (Desc)'!D11=\"\",\"\",'RWIS (Desc)'!D11)","v":""},{"$f":"IF('RWIS (Desc)'!E11=\"\",\"\",INDEX([1]OWNER!$A$2:$A$100,MATCH('RWIS (Desc)'!$E11,[1]!MASTER_OWNER_DESC[#Data],0),0))","v":""},{"$f":"IF('RWIS (Desc)'!F11=\"\",\"\",INDEX([1]COUNTY!$A$2:$A$80,MATCH('RWIS (Desc)'!F11,[1]!MASTER_COUNTY_NAME[#Data],0),0))","v":""},{"$f":"IF('RWIS (Desc)'!G11=\"\",\"\",'RWIS (Desc)'!G11)","v":""},{"$f":"IF('RWIS (Desc)'!H11=\"\",\"\",'RWIS (Desc)'!H11)","v":""}]
[{"$f":"IF('RWIS (Desc)'!A12=\"\",\"\",'RWIS (Desc)'!A12)","v":""},{"$f":"IF('RWIS (Desc)'!B12=\"\",\"\",'RWIS (Desc)'!B12)","v":""},{"$f":"IF('RWIS (Desc)'!C12=\"\",\"\",'RWIS (Desc)'!C12)","v":""},{"$f":"IF('RWIS (Desc)'!D12=\"\",\"\",'RWIS (Desc)'!D12)","v":""},{"$f":"IF('RWIS (Desc)'!E12=\"\",\"\",INDEX([1]OWNER!$A$2:$A$100,MATCH('RWIS (Desc)'!$E12,[1]!MASTER_OWNER_DESC[#Data],0),0))","v":""},{"$f":"IF('RWIS (Desc)'!F12=\"\",\"\",INDEX([1]COUNTY!$A$2:$A$80,MATCH('RWIS (Desc)'!F12,[1]!MASTER_COUNTY_NAME[#Data],0),0))","v":""},{"$f":"IF('RWIS (Desc)'!G12=\"\",\"\",'RWIS (Desc)'!G12)","v":""},{"$f":"IF('RWIS (Desc)'!H12=\"\",\"\",'RWIS (Desc)'!H12)","v":""}]
[{"$f":"IF('RWIS (Desc)'!A13=\"\",\"\",'RWIS (Desc)'!A13)","v":""},{"$f":"IF('RWIS (Desc)'!B13=\"\",\"\",'RWIS (Desc)'!B13)","v":""},{"$f":"IF('RWIS (Desc)'!C13=\"\",\"\",'RWIS (Desc)'!C13)","v":""},{"$f":"IF('RWIS (Desc)'!D13=\"\",\"\",'RWIS (Desc)'!D13)","v":""},{"$f":"IF('RWIS (Desc)'!E13=\"\",\"\",INDEX([1]OWNER!$A$2:$A$100,MATCH('RWIS (Desc)'!$E13,[1]!MASTER_OWNER_DESC[#Data],0),0))","v":""},{"$f":"IF('RWIS (Desc)'!F13=\"\",\"\",INDEX([1]COUNTY!$A$2:$A$80,MATCH('RWIS (Desc)'!F13,[1]!MASTER_COUNTY_NAME[#Data],0),0))","v":""},{"$f":"IF('RWIS (Desc)'!G13=\"\",\"\",'RWIS (Desc)'!G13)","v":""},{"$f":"IF('RWIS (Desc)'!H13=\"\",\"\",'RWIS (Desc)'!H13)","v":""}]
[{"$f":"IF('RWIS (Desc)'!A14=\"\",\"\",'RWIS (Desc)'!A14)","v":""},{"$f":"IF('RWIS (Desc)'!B14=\"\",\"\",'RWIS (Desc)'!B14)","v":""},{"$f":"IF('RWIS (Desc)'!C14=\"\",\"\",'RWIS (Desc)'!C14)","v":""},{"$f":"IF('RWIS (Desc)'!D14=\"\",\"\",'RWIS (Desc)'!D14)","v":""},{"$f":"IF('RWIS (Desc)'!E14=\"\",\"\",INDEX([1]OWNER!$A$2:$A$100,MATCH('RWIS (Desc)'!$E14,[1]!MASTER_OWNER_DESC[#Data],0),0))","v":""},{"$f":"IF('RWIS (Desc)'!F14=\"\",\"\",INDEX([1]COUNTY!$A$2:$A$80,MATCH('RWIS (Desc)'!F14,[1]!MASTER_COUNTY_NAME[#Data],0),0))","v":""},{"$f":"IF('RWIS (Desc)'!G14=\"\",\"\",'RWIS (Desc)'!G14)","v":""},{"$f":"IF('RWIS (Desc)'!H14=\"\",\"\",'RWIS (Desc)'!H14)","v":""}]
[{"$f":"IF('RWIS (Desc)'!A15=\"\",\"\",'RWIS (Desc)'!A15)","v":""},{"$f":"IF('RWIS (Desc)'!B15=\"\",\"\",'RWIS (Desc)'!B15)","v":""},{"$f":"IF('RWIS (Desc)'!C15=\"\",\"\",'RWIS (Desc)'!C15)","v":""},{"$f":"IF('RWIS (Desc)'!D15=\"\",\"\",'RWIS (Desc)'!D15)","v":""},{"$f":"IF('RWIS (Desc)'!E15=\"\",\"\",INDEX([1]OWNER!$A$2:$A$100,MATCH('RWIS (Desc)'!$E15,[1]!MASTER_OWNER_DESC[#Data],0),0))","v":""},{"$f":"IF('RWIS (Desc)'!F15=\"\",\"\",INDEX([1]COUNTY!$A$2:$A$80,MATCH('RWIS (Desc)'!F15,[1]!MASTER_COUNTY_NAME[#Data],0),0))","v":""},{"$f":"IF('RWIS (Desc)'!G15=\"\",\"\",'RWIS (Desc)'!G15)","v":""},{"$f":"IF('RWIS (Desc)'!H15=\"\",\"\",'RWIS (Desc)'!H15)","v":""}]
[{"$f":"IF('RWIS (Desc)'!A16=\"\",\"\",'RWIS (Desc)'!A16)","v":""},{"$f":"IF('RWIS (Desc)'!B16=\"\",\"\",'RWIS (Desc)'!B16)","v":""},{"$f":"IF('RWIS (Desc)'!C16=\"\",\"\",'RWIS (Desc)'!C16)","v":""},{"$f":"IF('RWIS (Desc)'!D16=\"\",\"\",'RWIS (Desc)'!D16)","v":""},{"$f":"IF('RWIS (Desc)'!E16=\"\",\"\",INDEX([1]OWNER!$A$2:$A$100,MATCH('RWIS (Desc)'!$E16,[1]!MASTER_OWNER_DESC[#Data],0),0))","v":""},{"$f":"IF('RWIS (Desc)'!F16=\"\",\"\",INDEX([1]COUNTY!$A$2:$A$80,MATCH('RWIS (Desc)'!F16,[1]!MASTER_COUNTY_NAME[#Data],0),0))","v":""},{"$f":"IF('RWIS (Desc)'!G16=\"\",\"\",'RWIS (Desc)'!G16)","v":""},{"$f":"IF('RWIS (Desc)'!H16=\"\",\"\",'RWIS (Desc)'!H16)","v":""}]
[{"$f":"IF('RWIS (Desc)'!A17=\"\",\"\",'RWIS (Desc)'!A17)","v":""},{"$f":"IF('RWIS (Desc)'!B17=\"\",\"\",'RWIS (Desc)'!B17)","v":""},{"$f":"IF('RWIS (Desc)'!C17=\"\",\"\",'RWIS (Desc)'!C17)","v":""},{"$f":"IF('RWIS (Desc)'!D17=\"\",\"\",'RWIS (Desc)'!D17)","v":""},{"$f":"IF('RWIS (Desc)'!E17=\"\",\"\",INDEX([1]OWNER!$A$2:$A$100,MATCH('RWIS (Desc)'!$E17,[1]!MASTER_OWNER_DESC[#Data],0),0))","v":""},{"$f":"IF('RWIS (Desc)'!F17=\"\",\"\",INDEX([1]COUNTY!$A$2:$A$80,MATCH('RWIS (Desc)'!F17,[1]!MASTER_COUNTY_NAME[#Data],0),0))","v":""},{"$f":"IF('RWIS (Desc)'!G17=\"\",\"\",'RWIS (Desc)'!G17)","v":""},{"$f":"IF('RWIS (Desc)'!H17=\"\",\"\",'RWIS (Desc)'!H17)","v":""}]
[{"$f":"IF('RWIS (Desc)'!A18=\"\",\"\",'RWIS (Desc)'!A18)","v":""},{"$f":"IF('RWIS (Desc)'!B18=\"\",\"\",'RWIS (Desc)'!B18)","v":""},{"$f":"IF('RWIS (Desc)'!C18=\"\",\"\",'RWIS (Desc)'!C18)","v":""},{"$f":"IF('RWIS (Desc)'!D18=\"\",\"\",'RWIS (Desc)'!D18)","v":""},{"$f":"IF('RWIS (Desc)'!E18=\"\",\"\",INDEX([1]OWNER!$A$2:$A$100,MATCH('RWIS (Desc)'!$E18,[1]!MASTER_OWNER_DESC[#Data],0),0))","v":""},{"$f":"IF('RWIS (Desc)'!F18=\"\",\"\",INDEX([1]COUNTY!$A$2:$A$80,MATCH('RWIS (Desc)'!F18,[1]!MASTER_COUNTY_NAME[#Data],0),0))","v":""},{"$f":"IF('RWIS (Desc)'!G18=\"\",\"\",'RWIS (Desc)'!G18)","v":""},{"$f":"IF('RWIS (Desc)'!H18=\"\",\"\",'RWIS (Desc)'!H18)","v":""}]
[{"$f":"IF('RWIS (Desc)'!A19=\"\",\"\",'RWIS (Desc)'!A19)","v":""},{"$f":"IF('RWIS (Desc)'!B19=\"\",\"\",'RWIS (Desc)'!B19)","v":""},{"$f":"IF('RWIS (Desc)'!C19=\"\",\"\",'RWIS (Desc)'!C19)","v":""},{"$f":"IF('RWIS (Desc)'!D19=\"\",\"\",'RWIS (Desc)'!D19)","v":""},{"$f":"IF('RWIS (Desc)'!E19=\"\",\"\",INDEX([1]OWNER!$A$2:$A$100,MATCH('RWIS (Desc)'!$E19,[1]!MASTER_OWNER_DESC[#Data],0),0))","v":""},{"$f":"IF('RWIS (Desc)'!F19=\"\",\"\",INDEX([1]COUNTY!$A$2:$A$80,MATCH('RWIS (Desc)'!F19,[1]!MASTER_COUNTY_NAME[#Data],0),0))","v":""},{"$f":"IF('RWIS (Desc)'!G19=\"\",\"\",'RWIS (Desc)'!G19)","v":""},{"$f":"IF('RWIS (Desc)'!H19=\"\",\"\",'RWIS (Desc)'!H19)","v":""}]
[{"$f":"IF('RWIS (Desc)'!A20=\"\",\"\",'RWIS (Desc)'!A20)","v":""},{"$f":"IF('RWIS (Desc)'!B20=\"\",\"\",'RWIS (Desc)'!B20)","v":""},{"$f":"IF('RWIS (Desc)'!C20=\"\",\"\",'RWIS (Desc)'!C20)","v":""},{"$f":"IF('RWIS (Desc)'!D20=\"\",\"\",'RWIS (Desc)'!D20)","v":""},{"$f":"IF('RWIS (Desc)'!E20=\"\",\"\",INDEX([1]OWNER!$A$2:$A$100,MATCH('RWIS (Desc)'!$E20,[1]!MASTER_OWNER_DESC[#Data],0),0))","v":""},{"$f":"IF('RWIS (Desc)'!F20=\"\",\"\",INDEX([1]COUNTY!$A$2:$A$80,MATCH('RWIS (Desc)'!F20,[1]!MASTER_COUNTY_NAME[#Data],0),0))","v":""},{"$f":"IF('RWIS (Desc)'!G20=\"\",\"\",'RWIS (Desc)'!G20)","v":""},{"$f":"IF('RWIS (Desc)'!H20=\"\",\"\",'RWIS (Desc)'!H20)","v":""}]
[{"$f":"IF('RWIS (Desc)'!A21=\"\",\"\",'RWIS (Desc)'!A21)","v":""},{"$f":"IF('RWIS (Desc)'!B21=\"\",\"\",'RWIS (Desc)'!B21)","v":""},{"$f":"IF('RWIS (Desc)'!C21=\"\",\"\",'RWIS (Desc)'!C21)","v":""},{"$f":"IF('RWIS (Desc)'!D21=\"\",\"\",'RWIS (Desc)'!D21)","v":""},{"$f":"IF('RWIS (Desc)'!E21=\"\",\"\",INDEX([1]OWNER!$A$2:$A$100,MATCH('RWIS (Desc)'!$E21,[1]!MASTER_OWNER_DESC[#Data],0),0))","v":""},{"$f":"IF('RWIS (Desc)'!F21=\"\",\"\",INDEX([1]COUNTY!$A$2:$A$80,MATCH('RWIS (Desc)'!F21,[1]!MASTER_COUNTY_NAME[#Data],0),0))","v":""},{"$f":"IF('RWIS (Desc)'!G21=\"\",\"\",'RWIS (Desc)'!G21)","v":""},{"$f":"IF('RWIS (Desc)'!H21=\"\",\"\",'RWIS (Desc)'!H21)","v":""}]
[{"$f":"IF('RWIS (Desc)'!A22=\"\",\"\",'RWIS (Desc)'!A22)","v":""},{"$f":"IF('RWIS (Desc)'!B22=\"\",\"\",'RWIS (Desc)'!B22)","v":""},{"$f":"IF('RWIS (Desc)'!C22=\"\",\"\",'RWIS (Desc)'!C22)","v":""},{"$f":"IF('RWIS (Desc)'!D22=\"\",\"\",'RWIS (Desc)'!D22)","v":""},{"$f":"IF('RWIS (Desc)'!E22=\"\",\"\",INDEX([1]OWNER!$A$2:$A$100,MATCH('RWIS (Desc)'!$E22,[1]!MASTER_OWNER_DESC[#Data],0),0))","v":""},{"$f":"IF('RWIS (Desc)'!F22=\"\",\"\",INDEX([1]COUNTY!$A$2:$A$80,MATCH('RWIS (Desc)'!F22,[1]!MASTER_COUNTY_NAME[#Data],0),0))","v":""},{"$f":"IF('RWIS (Desc)'!G22=\"\",\"\",'RWIS (Desc)'!G22)","v":""},{"$f":"IF('RWIS (Desc)'!H22=\"\",\"\",'RWIS (Desc)'!H22)","v":""}]
[{"$f":"IF('RWIS (Desc)'!A23=\"\",\"\",'RWIS (Desc)'!A23)","v":""},{"$f":"IF('RWIS (Desc)'!B23=\"\",\"\",'RWIS (Desc)'!B23)","v":""},{"$f":"IF('RWIS (Desc)'!C23=\"\",\"\",'RWIS (Desc)'!C23)","v":""},{"$f":"IF('RWIS (Desc)'!D23=\"\",\"\",'RWIS (Desc)'!D23)","v":""},{"$f":"IF('RWIS (Desc)'!E23=\"\",\"\",INDEX([1]OWNER!$A$2:$A$100,MATCH('RWIS (Desc)'!$E23,[1]!MASTER_OWNER_DESC[#Data],0),0))","v":""},{"$f":"IF('RWIS (Desc)'!F23=\"\",\"\",INDEX([1]COUNTY!$A$2:$A$80,MATCH('RWIS (Desc)'!F23,[1]!MASTER_COUNTY_NAME[#Data],0),0))","v":""},{"$f":"IF('RWIS (Desc)'!G23=\"\",\"\",'RWIS (Desc)'!G23)","v":""},{"$f":"IF('RWIS (Desc)'!H23=\"\",\"\",'RWIS (Desc)'!H23)","v":""}]
[{"$f":"IF('RWIS (Desc)'!A24=\"\",\"\",'RWIS (Desc)'!A24)","v":""},{"$f":"IF('RWIS (Desc)'!B24=\"\",\"\",'RWIS (Desc)'!B24)","v":""},{"$f":"IF('RWIS (Desc)'!C24=\"\",\"\",'RWIS (Desc)'!C24)","v":""},{"$f":"IF('RWIS (Desc)'!D24=\"\",\"\",'RWIS (Desc)'!D24)","v":""},{"$f":"IF('RWIS (Desc)'!E24=\"\",\"\",INDEX([1]OWNER!$A$2:$A$100,MATCH('RWIS (Desc)'!$E24,[1]!MASTER_OWNER_DESC[#Data],0),0))","v":""},{"$f":"IF('RWIS (Desc)'!F24=\"\",\"\",INDEX([1]COUNTY!$A$2:$A$80,MATCH('RWIS (Desc)'!F24,[1]!MASTER_COUNTY_NAME[#Data],0),0))","v":""},{"$f":"IF('RWIS (Desc)'!G24=\"\",\"\",'RWIS (Desc)'!G24)","v":""},{"$f":"IF('RWIS (Desc)'!H24=\"\",\"\",'RWIS (Desc)'!H24)","v":""}]
[{"$f":"IF('RWIS (Desc)'!A25=\"\",\"\",'RWIS (Desc)'!A25)","v":""},{"$f":"IF('RWIS (Desc)'!B25=\"\",\"\",'RWIS (Desc)'!B25)","v":""},{"$f":"IF('RWIS (Desc)'!C25=\"\",\"\",'RWIS (Desc)'!C25)","v":""},{"$f":"IF('RWIS (Desc)'!D25=\"\",\"\",'RWIS (Desc)'!D25)","v":""},{"$f":"IF('RWIS (Desc)'!E25=\"\",\"\",INDEX([1]OWNER!$A$2:$A$100,MATCH('RWIS (Desc)'!$E25,[1]!MASTER_OWNER_DESC[#Data],0),0))","v":""},{"$f":"IF('RWIS (Desc)'!F25=\"\",\"\",INDEX([1]COUNTY!$A$2:$A$80,MATCH('RWIS (Desc)'!F25,[1]!MASTER_COUNTY_NAME[#Data],0),0))","v":""},{"$f":"IF('RWIS (Desc)'!G25=\"\",\"\",'RWIS (Desc)'!G25)","v":""},{"$f":"IF('RWIS (Desc)'!H25=\"\",\"\",'RWIS (Desc)'!H25)","v":""}]
[{"$f":"IF('RWIS (Desc)'!A26=\"\",\"\",'RWIS (Desc)'!A26)","v":""},{"$f":"IF('RWIS (Desc)'!B26=\"\",\"\",'RWIS (Desc)'!B26)","v":""},{"$f":"IF('RWIS (Desc)'!C26=\"\",\"\",'RWIS (Desc)'!C26)","v":""},{"$f":"IF('RWIS (Desc)'!D26=\"\",\"\",'RWIS (Desc)'!D26)","v":""},{"$f":"IF('RWIS (Desc)'!E26=\"\",\"\",INDEX([1]OWNER!$A$2:$A$100,MATCH('RWIS (Desc)'!$E26,[1]!MASTER_OWNER_DESC[#Data],0),0))","v":""},{"$f":"IF('RWIS (Desc)'!F26=\"\",\"\",INDEX([1]COUNTY!$A$2:$A$80,MATCH('RWIS (Desc)'!F26,[1]!MASTER_COUNTY_NAME[#Data],0),0))","v":""},{"$f":"IF('RWIS (Desc)'!G26=\"\",\"\",'RWIS (Desc)'!G26)","v":""},{"$f":"IF('RWIS (Desc)'!H26=\"\",\"\",'RWIS (Desc)'!H26)","v":""}]
[{"$f":"IF('RWIS (Desc)'!A27=\"\",\"\",'RWIS (Desc)'!A27)","v":""},{"$f":"IF('RWIS (Desc)'!B27=\"\",\"\",'RWIS (Desc)'!B27)","v":""},{"$f":"IF('RWIS (Desc)'!C27=\"\",\"\",'RWIS (Desc)'!C27)","v":""},{"$f":"IF('RWIS (Desc)'!D27=\"\",\"\",'RWIS (Desc)'!D27)","v":""},{"$f":"IF('RWIS (Desc)'!E27=\"\",\"\",INDEX([1]OWNER!$A$2:$A$100,MATCH('RWIS (Desc)'!$E27,[1]!MASTER_OWNER_DESC[#Data],0),0))","v":""},{"$f":"IF('RWIS (Desc)'!F27=\"\",\"\",INDEX([1]COUNTY!$A$2:$A$80,MATCH('RWIS (Desc)'!F27,[1]!MASTER_COUNTY_NAME[#Data],0),0))","v":""},{"$f":"IF('RWIS (Desc)'!G27=\"\",\"\",'RWIS (Desc)'!G27)","v":""},{"$f":"IF('RWIS (Desc)'!H27=\"\",\"\",'RWIS (Desc)'!H27)","v":""}]
[{"$f":"IF('RWIS (Desc)'!A28=\"\",\"\",'RWIS (Desc)'!A28)","v":""},{"$f":"IF('RWIS (Desc)'!B28=\"\",\"\",'RWIS (Desc)'!B28)","v":""},{"$f":"IF('RWIS (Desc)'!C28=\"\",\"\",'RWIS (Desc)'!C28)","v":""},{"$f":"IF('RWIS (Desc)'!D28=\"\",\"\",'RWIS (Desc)'!D28)","v":""},{"$f":"IF('RWIS (Desc)'!E28=\"\",\"\",INDEX([1]OWNER!$A$2:$A$100,MATCH('RWIS (Desc)'!$E28,[1]!MASTER_OWNER_DESC[#Data],0),0))","v":""},{"$f":"IF('RWIS (Desc)'!F28=\"\",\"\",INDEX([1]COUNTY!$A$2:$A$80,MATCH('RWIS (Desc)'!F28,[1]!MASTER_COUNTY_NAME[#Data],0),0))","v":""},{"$f":"IF('RWIS (Desc)'!G28=\"\",\"\",'RWIS (Desc)'!G28)","v":""},{"$f":"IF('RWIS (Desc)'!H28=\"\",\"\",'RWIS (Desc)'!H28)","v":""}]
[{"$f":"IF('RWIS (Desc)'!A29=\"\",\"\",'RWIS (Desc)'!A29)","v":""},{"$f":"IF('RWIS (Desc)'!B29=\"\",\"\",'RWIS (Desc)'!B29)","v":""},{"$f":"IF('RWIS (Desc)'!C29=\"\",\"\",'RWIS (Desc)'!C29)","v":""},{"$f":"IF('RWIS (Desc)'!D29=\"\",\"\",'RWIS (Desc)'!D29)","v":""},{"$f":"IF('RWIS (Desc)'!E29=\"\",\"\",INDEX([1]OWNER!$A$2:$A$100,MATCH('RWIS (Desc)'!$E29,[1]!MASTER_OWNER_DESC[#Data],0),0))","v":""},{"$f":"IF('RWIS (Desc)'!F29=\"\",\"\",INDEX([1]COUNTY!$A$2:$A$80,MATCH('RWIS (Desc)'!F29,[1]!MASTER_COUNTY_NAME[#Data],0),0))","v":""},{"$f":"IF('RWIS (Desc)'!G29=\"\",\"\",'RWIS (Desc)'!G29)","v":""},{"$f":"IF('RWIS (Desc)'!H29=\"\",\"\",'RWIS (Desc)'!H29)","v":""}]
[{"$f":"IF('RWIS (Desc)'!A30=\"\",\"\",'RWIS (Desc)'!A30)","v":""},{"$f":"IF('RWIS (Desc)'!B30=\"\",\"\",'RWIS (Desc)'!B30)","v":""},{"$f":"IF('RWIS (Desc)'!C30=\"\",\"\",'RWIS (Desc)'!C30)","v":""},{"$f":"IF('RWIS (Desc)'!D30=\"\",\"\",'RWIS (Desc)'!D30)","v":""},{"$f":"IF('RWIS (Desc)'!E30=\"\",\"\",INDEX([1]OWNER!$A$2:$A$100,MATCH('RWIS (Desc)'!$E30,[1]!MASTER_OWNER_DESC[#Data],0),0))","v":""},{"$f":"IF('RWIS (Desc)'!F30=\"\",\"\",INDEX([1]COUNTY!$A$2:$A$80,MATCH('RWIS (Desc)'!F30,[1]!MASTER_COUNTY_NAME[#Data],0),0))","v":""},{"$f":"IF('RWIS (Desc)'!G30=\"\",\"\",'RWIS (Desc)'!G30)","v":""},{"$f":"IF('RWIS (Desc)'!H30=\"\",\"\",'RWIS (Desc)'!H30)","v":""}]
[{"$f":"IF('RWIS (Desc)'!A31=\"\",\"\",'RWIS (Desc)'!A31)","v":""},{"$f":"IF('RWIS (Desc)'!B31=\"\",\"\",'RWIS (Desc)'!B31)","v":""},{"$f":"IF('RWIS (Desc)'!C31=\"\",\"\",'RWIS (Desc)'!C31)","v":""},{"$f":"IF('RWIS (Desc)'!D31=\"\",\"\",'RWIS (Desc)'!D31)","v":""},{"$f":"IF('RWIS (Desc)'!E31=\"\",\"\",INDEX([1]OWNER!$A$2:$A$100,MATCH('RWIS (Desc)'!$E31,[1]!MASTER_OWNER_DESC[#Data],0),0))","v":""},{"$f":"IF('RWIS (Desc)'!F31=\"\",\"\",INDEX([1]COUNTY!$A$2:$A$80,MATCH('RWIS (Desc)'!F31,[1]!MASTER_COUNTY_NAME[#Data],0),0))","v":""},{"$f":"IF('RWIS (Desc)'!G31=\"\",\"\",'RWIS (Desc)'!G31)","v":""},{"$f":"IF('RWIS (Desc)'!H31=\"\",\"\",'RWIS (Desc)'!H31)","v":""}]
[{"$f":"IF('RWIS (Desc)'!A32=\"\",\"\",'RWIS (Desc)'!A32)","v":""},{"$f":"IF('RWIS (Desc)'!B32=\"\",\"\",'RWIS (Desc)'!B32)","v":""},{"$f":"IF('RWIS (Desc)'!C32=\"\",\"\",'RWIS (Desc)'!C32)","v":""},{"$f":"IF('RWIS (Desc)'!D32=\"\",\"\",'RWIS (Desc)'!D32)","v":""},{"$f":"IF('RWIS (Desc)'!E32=\"\",\"\",INDEX([1]OWNER!$A$2:$A$100,MATCH('RWIS (Desc)'!$E32,[1]!MASTER_OWNER_DESC[#Data],0),0))","v":""},{"$f":"IF('RWIS (Desc)'!F32=\"\",\"\",INDEX([1]COUNTY!$A$2:$A$80,MATCH('RWIS (Desc)'!F32,[1]!MASTER_COUNTY_NAME[#Data],0),0))","v":""},{"$f":"IF('RWIS (Desc)'!G32=\"\",\"\",'RWIS (Desc)'!G32)","v":""},{"$f":"IF('RWIS (Desc)'!H32=\"\",\"\",'RWIS (Desc)'!H32)","v":""}]
[{"$f":"IF('RWIS (Desc)'!A33=\"\",\"\",'RWIS (Desc)'!A33)","v":""},{"$f":"IF('RWIS (Desc)'!B33=\"\",\"\",'RWIS (Desc)'!B33)","v":""},{"$f":"IF('RWIS (Desc)'!C33=\"\",\"\",'RWIS (Desc)'!C33)","v":""},{"$f":"IF('RWIS (Desc)'!D33=\"\",\"\",'RWIS (Desc)'!D33)","v":""},{"$f":"IF('RWIS (Desc)'!E33=\"\",\"\",INDEX([1]OWNER!$A$2:$A$100,MATCH('RWIS (Desc)'!$E33,[1]!MASTER_OWNER_DESC[#Data],0),0))","v":""},{"$f":"IF('RWIS (Desc)'!F33=\"\",\"\",INDEX([1]COUNTY!$A$2:$A$80,MATCH('RWIS (Desc)'!F33,[1]!MASTER_COUNTY_NAME[#Data],0),0))","v":""},{"$f":"IF('RWIS (Desc)'!G33=\"\",\"\",'RWIS (Desc)'!G33)","v":""},{"$f":"IF('RWIS (Desc)'!H33=\"\",\"\",'RWIS (Desc)'!H33)","v":""}]
[{"$f":"IF('RWIS (Desc)'!A34=\"\",\"\",'RWIS (Desc)'!A34)","v":""},{"$f":"IF('RWIS (Desc)'!B34=\"\",\"\",'RWIS (Desc)'!B34)","v":""},{"$f":"IF('RWIS (Desc)'!C34=\"\",\"\",'RWIS (Desc)'!C34)","v":""},{"$f":"IF('RWIS (Desc)'!D34=\"\",\"\",'RWIS (Desc)'!D34)","v":""},{"$f":"IF('RWIS (Desc)'!E34=\"\",\"\",INDEX([1]OWNER!$A$2:$A$100,MATCH('RWIS (Desc)'!$E34,[1]!MASTER_OWNER_DESC[#Data],0),0))","v":""},{"$f":"IF('RWIS (Desc)'!F34=\"\",\"\",INDEX([1]COUNTY!$A$2:$A$80,MATCH('RWIS (Desc)'!F34,[1]!MASTER_COUNTY_NAME[#Data],0),0))","v":""},{"$f":"IF('RWIS (Desc)'!G34=\"\",\"\",'RWIS (Desc)'!G34)","v":""},{"$f":"IF('RWIS (Desc)'!H34=\"\",\"\",'RWIS (Desc)'!H34)","v":""}]
[{"$f":"IF('RWIS (Desc)'!A35=\"\",\"\",'RWIS (Desc)'!A35)","v":""},{"$f":"IF('RWIS (Desc)'!B35=\"\",\"\",'RWIS (Desc)'!B35)","v":""},{"$f":"IF('RWIS (Desc)'!C35=\"\",\"\",'RWIS (Desc)'!C35)","v":""},{"$f":"IF('RWIS (Desc)'!D35=\"\",\"\",'RWIS (Desc)'!D35)","v":""},{"$f":"IF('RWIS (Desc)'!E35=\"\",\"\",INDEX([1]OWNER!$A$2:$A$100,MATCH('RWIS (Desc)'!$E35,[1]!MASTER_OWNER_DESC[#Data],0),0))","v":""},{"$f":"IF('RWIS (Desc)'!F35=\"\",\"\",INDEX([1]COUNTY!$A$2:$A$80,MATCH('RWIS (Desc)'!F35,[1]!MASTER_COUNTY_NAME[#Data],0),0))","v":""},{"$f":"IF('RWIS (Desc)'!G35=\"\",\"\",'RWIS (Desc)'!G35)","v":""},{"$f":"IF('RWIS (Desc)'!H35=\"\",\"\",'RWIS (Desc)'!H35)","v":""}]
[{"$f":"IF('RWIS (Desc)'!A36=\"\",\"\",'RWIS (Desc)'!A36)","v":""},{"$f":"IF('RWIS (Desc)'!B36=\"\",\"\",'RWIS (Desc)'!B36)","v":""},{"$f":"IF('RWIS (Desc)'!C36=\"\",\"\",'RWIS (Desc)'!C36)","v":""},{"$f":"IF('RWIS (Desc)'!D36=\"\",\"\",'RWIS (Desc)'!D36)","v":""},{"$f":"IF('RWIS (Desc)'!E36=\"\",\"\",INDEX([1]OWNER!$A$2:$A$100,MATCH('RWIS (Desc)'!$E36,[1]!MASTER_OWNER_DESC[#Data],0),0))","v":""},{"$f":"IF('RWIS (Desc)'!F36=\"\",\"\",INDEX([1]COUNTY!$A$2:$A$80,MATCH('RWIS (Desc)'!F36,[1]!MASTER_COUNTY_NAME[#Data],0),0))","v":""},{"$f":"IF('RWIS (Desc)'!G36=\"\",\"\",'RWIS (Desc)'!G36)","v":""},{"$f":"IF('RWIS (Desc)'!H36=\"\",\"\",'RWIS (Desc)'!H36)","v":""}]
[{"$f":"IF('RWIS (Desc)'!A37=\"\",\"\",'RWIS (Desc)'!A37)","v":""},{"$f":"IF('RWIS (Desc)'!B37=\"\",\"\",'RWIS (Desc)'!B37)","v":""},{"$f":"IF('RWIS (Desc)'!C37=\"\",\"\",'RWIS (Desc)'!C37)","v":""},{"$f":"IF('RWIS (Desc)'!D37=\"\",\"\",'RWIS (Desc)'!D37)","v":""},{"$f":"IF('RWIS (Desc)'!E37=\"\",\"\",INDEX([1]OWNER!$A$2:$A$100,MATCH('RWIS (Desc)'!$E37,[1]!MASTER_OWNER_DESC[#Data],0),0))","v":""},{"$f":"IF('RWIS (Desc)'!F37=\"\",\"\",INDEX([1]COUNTY!$A$2:$A$80,MATCH('RWIS (Desc)'!F37,[1]!MASTER_COUNTY_NAME[#Data],0),0))","v":""},{"$f":"IF('RWIS (Desc)'!G37=\"\",\"\",'RWIS (Desc)'!G37)","v":""},{"$f":"IF('RWIS (Desc)'!H37=\"\",\"\",'RWIS (Desc)'!H37)","v":""}]
[{"$f":"IF('RWIS (Desc)'!A38=\"\",\"\",'RWIS (Desc)'!A38)","v":""},{"$f":"IF('RWIS (Desc)'!B38=\"\",\"\",'RWIS (Desc)'!B38)","v":""},{"$f":"IF('RWIS (Desc)'!C38=\"\",\"\",'RWIS (Desc)'!C38)","v":""},{"$f":"IF('RWIS (Desc)'!D38=\"\",\"\",'RWIS (Desc)'!D38)","v":""},{"$f":"IF('RWIS (Desc)'!E38=\"\",\"\",INDEX([1]OWNER!$A$2:$A$100,MATCH('RWIS (Desc)'!$E38,[1]!MASTER_OWNER_DESC[#Data],0),0))","v":""},{"$f":"IF('RWIS (Desc)'!F38=\"\",\"\",INDEX([1]COUNTY!$A$2:$A$80,MATCH('RWIS (Desc)'!F38,[1]!MASTER_COUNTY_NAME[#Data],0),0))","v":""},{"$f":"IF('RWIS (Desc)'!G38=\"\",\"\",'RWIS (Desc)'!G38)","v":""},{"$f":"IF('RWIS (Desc)'!H38=\"\",\"\",'RWIS (Desc)'!H38)","v":""}]
[{"$f":"IF('RWIS (Desc)'!A39=\"\",\"\",'RWIS (Desc)'!A39)","v":""},{"$f":"IF('RWIS (Desc)'!B39=\"\",\"\",'RWIS (Desc)'!B39)","v":""},{"$f":"IF('RWIS (Desc)'!C39=\"\",\"\",'RWIS (Desc)'!C39)","v":""},{"$f":"IF('RWIS (Desc)'!D39=\"\",\"\",'RWIS (Desc)'!D39)","v":""},{"$f":"IF('RWIS (Desc)'!E39=\"\",\"\",INDEX([1]OWNER!$A$2:$A$100,MATCH('RWIS (Desc)'!$E39,[1]!MASTER_OWNER_DESC[#Data],0),0))","v":""},{"$f":"IF('RWIS (Desc)'!F39=\"\",\"\",INDEX([1]COUNTY!$A$2:$A$80,MATCH('RWIS (Desc)'!F39,[1]!MASTER_COUNTY_NAME[#Data],0),0))","v":""},{"$f":"IF('RWIS (Desc)'!G39=\"\",\"\",'RWIS (Desc)'!G39)","v":""},{"$f":"IF('RWIS (Desc)'!H39=\"\",\"\",'RWIS (Desc)'!H39)","v":""}]
[{"$f":"IF('RWIS (Desc)'!A40=\"\",\"\",'RWIS (Desc)'!A40)","v":""},{"$f":"IF('RWIS (Desc)'!B40=\"\",\"\",'RWIS (Desc)'!B40)","v":""},{"$f":"IF('RWIS (Desc)'!C40=\"\",\"\",'RWIS (Desc)'!C40)","v":""},{"$f":"IF('RWIS (Desc)'!D40=\"\",\"\",'RWIS (Desc)'!D40)","v":""},{"$f":"IF('RWIS (Desc)'!E40=\"\",\"\",INDEX([1]OWNER!$A$2:$A$100,MATCH('RWIS (Desc)'!$E40,[1]!MASTER_OWNER_DESC[#Data],0),0))","v":""},{"$f":"IF('RWIS (Desc)'!F40=\"\",\"\",INDEX([1]COUNTY!$A$2:$A$80,MATCH('RWIS (Desc)'!F40,[1]!MASTER_COUNTY_NAME[#Data],0),0))","v":""},{"$f":"IF('RWIS (Desc)'!G40=\"\",\"\",'RWIS (Desc)'!G40)","v":""},{"$f":"IF('RWIS (Desc)'!H40=\"\",\"\",'RWIS (Desc)'!H40)","v":""}]
[{"$f":"IF('RWIS (Desc)'!A41=\"\",\"\",'RWIS (Desc)'!A41)","v":""},{"$f":"IF('RWIS (Desc)'!B41=\"\",\"\",'RWIS (Desc)'!B41)","v":""},{"$f":"IF('RWIS (Desc)'!C41=\"\",\"\",'RWIS (Desc)'!C41)","v":""},{"$f":"IF('RWIS (Desc)'!D41=\"\",\"\",'RWIS (Desc)'!D41)","v":""},{"$f":"IF('RWIS (Desc)'!E41=\"\",\"\",INDEX([1]OWNER!$A$2:$A$100,MATCH('RWIS (Desc)'!$E41,[1]!MASTER_OWNER_DESC[#Data],0),0))","v":""},{"$f":"IF('RWIS (Desc)'!F41=\"\",\"\",INDEX([1]COUNTY!$A$2:$A$80,MATCH('RWIS (Desc)'!F41,[1]!MASTER_COUNTY_NAME[#Data],0),0))","v":""},{"$f":"IF('RWIS (Desc)'!G41=\"\",\"\",'RWIS (Desc)'!G41)","v":""},{"$f":"IF('RWIS (Desc)'!H41=\"\",\"\",'RWIS (Desc)'!H41)","v":""}]
[{"$f":"IF('RWIS (Desc)'!A42=\"\",\"\",'RWIS (Desc)'!A42)","v":""},{"$f":"IF('RWIS (Desc)'!B42=\"\",\"\",'RWIS (Desc)'!B42)","v":""},{"$f":"IF('RWIS (Desc)'!C42=\"\",\"\",'RWIS (Desc)'!C42)","v":""},{"$f":"IF('RWIS (Desc)'!D42=\"\",\"\",'RWIS (Desc)'!D42)","v":""},{"$f":"IF('RWIS (Desc)'!E42=\"\",\"\",INDEX([1]OWNER!$A$2:$A$100,MATCH('RWIS (Desc)'!$E42,[1]!MASTER_OWNER_DESC[#Data],0),0))","v":""},{"$f":"IF('RWIS (Desc)'!F42=\"\",\"\",INDEX([1]COUNTY!$A$2:$A$80,MATCH('RWIS (Desc)'!F42,[1]!MASTER_COUNTY_NAME[#Data],0),0))","v":""},{"$f":"IF('RWIS (Desc)'!G42=\"\",\"\",'RWIS (Desc)'!G42)","v":""},{"$f":"IF('RWIS (Desc)'!H42=\"\",\"\",'RWIS (Desc)'!H42)","v":""}]
[{"$f":"IF('RWIS (Desc)'!A43=\"\",\"\",'RWIS (Desc)'!A43)","v":""},{"$f":"IF('RWIS (Desc)'!B43=\"\",\"\",'RWIS (Desc)'!B43)","v":""},{"$f":"IF('RWIS (Desc)'!C43=\"\",\"\",'RWIS (Desc)'!C43)","v":""},{"$f":"IF('RWIS (Desc)'!D43=\"\",\"\",'RWIS (Desc)'!D43)","v":""},{"$f":"IF('RWIS (Desc)'!E43=\"\",\"\",INDEX([1]OWNER!$A$2:$A$100,MATCH('RWIS (Desc)'!$E43,[1]!MASTER_OWNER_DESC[#Data],0),0))","v":""},{"$f":"IF('RWIS (Desc)'!F43=\"\",\"\",INDEX([1]COUNTY!$A$2:$A$80,MATCH('RWIS (Desc)'!F43,[1]!MASTER_COUNTY_NAME[#Data],0),0))","v":""},{"$f":"IF('RWIS (Desc)'!G43=\"\",\"\",'RWIS (Desc)'!G43)","v":""},{"$f":"IF('RWIS (Desc)'!H43=\"\",\"\",'RWIS (Desc)'!H43)","v":""}]
[{"$f":"IF('RWIS (Desc)'!A44=\"\",\"\",'RWIS (Desc)'!A44)","v":""},{"$f":"IF('RWIS (Desc)'!B44=\"\",\"\",'RWIS (Desc)'!B44)","v":""},{"$f":"IF('RWIS (Desc)'!C44=\"\",\"\",'RWIS (Desc)'!C44)","v":""},{"$f":"IF('RWIS (Desc)'!D44=\"\",\"\",'RWIS (Desc)'!D44)","v":""},{"$f":"IF('RWIS (Desc)'!E44=\"\",\"\",INDEX([1]OWNER!$A$2:$A$100,MATCH('RWIS (Desc)'!$E44,[1]!MASTER_OWNER_DESC[#Data],0),0))","v":""},{"$f":"IF('RWIS (Desc)'!F44=\"\",\"\",INDEX([1]COUNTY!$A$2:$A$80,MATCH('RWIS (Desc)'!F44,[1]!MASTER_COUNTY_NAME[#Data],0),0))","v":""},{"$f":"IF('RWIS (Desc)'!G44=\"\",\"\",'RWIS (Desc)'!G44)","v":""},{"$f":"IF('RWIS (Desc)'!H44=\"\",\"\",'RWIS (Desc)'!H44)","v":""}]
[{"$f":"IF('RWIS (Desc)'!A45=\"\",\"\",'RWIS (Desc)'!A45)","v":""},{"$f":"IF('RWIS (Desc)'!B45=\"\",\"\",'RWIS (Desc)'!B45)","v":""},{"$f":"IF('RWIS (Desc)'!C45=\"\",\"\",'RWIS (Desc)'!C45)","v":""},{"$f":"IF('RWIS (Desc)'!D45=\"\",\"\",'RWIS (Desc)'!D45)","v":""},{"$f":"IF('RWIS (Desc)'!E45=\"\",\"\",INDEX([1]OWNER!$A$2:$A$100,MATCH('RWIS (Desc)'!$E45,[1]!MASTER_OWNER_DESC[#Data],0),0))","v":""},{"$f":"IF('RWIS (Desc)'!F45=\"\",\"\",INDEX([1]COUNTY!$A$2:$A$80,MATCH('RWIS (Desc)'!F45,[1]!MASTER_COUNTY_NAME[#Data],0),0))","v":""},{"$f":"IF('RWIS (Desc)'!G45=\"\",\"\",'RWIS (Desc)'!G45)","v":""},{"$f":"IF('RWIS (Desc)'!H45=\"\",\"\",'RWIS (Desc)'!H45)","v":""}]
[{"$f":"IF('RWIS (Desc)'!A46=\"\",\"\",'RWIS (Desc)'!A46)","v":""},{"$f":"IF('RWIS (Desc)'!B46=\"\",\"\",'RWIS (Desc)'!B46)","v":""},{"$f":"IF('RWIS (Desc)'!C46=\"\",\"\",'RWIS (Desc)'!C46)","v":""},{"$f":"IF('RWIS (Desc)'!D46=\"\",\"\",'RWIS (Desc)'!D46)","v":""},{"$f":"IF('RWIS (Desc)'!E46=\"\",\"\",INDEX([1]OWNER!$A$2:$A$100,MATCH('RWIS (Desc)'!$E46,[1]!MASTER_OWNER_DESC[#Data],0),0))","v":""},{"$f":"IF('RWIS (Desc)'!F46=\"\",\"\",INDEX([1]COUNTY!$A$2:$A$80,MATCH('RWIS (Desc)'!F46,[1]!MASTER_COUNTY_NAME[#Data],0),0))","v":""},{"$f":"IF('RWIS (Desc)'!G46=\"\",\"\",'RWIS (Desc)'!G46)","v":""},{"$f":"IF('RWIS (Desc)'!H46=\"\",\"\",'RWIS (Desc)'!H46)","v":""}]
[{"$f":"IF('RWIS (Desc)'!A47=\"\",\"\",'RWIS (Desc)'!A47)","v":""},{"$f":"IF('RWIS (Desc)'!B47=\"\",\"\",'RWIS (Desc)'!B47)","v":""},{"$f":"IF('RWIS (Desc)'!C47=\"\",\"\",'RWIS (Desc)'!C47)","v":""},{"$f":"IF('RWIS (Desc)'!D47=\"\",\"\",'RWIS (Desc)'!D47)","v":""},{"$f":"IF('RWIS (Desc)'!E47=\"\",\"\",INDEX([1]OWNER!$A$2:$A$100,MATCH('RWIS (Desc)'!$E47,[1]!MASTER_OWNER_DESC[#Data],0),0))","v":""},{"$f":"IF('RWIS (Desc)'!F47=\"\",\"\",INDEX([1]COUNTY!$A$2:$A$80,MATCH('RWIS (Desc)'!F47,[1]!MASTER_COUNTY_NAME[#Data],0),0))","v":""},{"$f":"IF('RWIS (Desc)'!G47=\"\",\"\",'RWIS (Desc)'!G47)","v":""},{"$f":"IF('RWIS (Desc)'!H47=\"\",\"\",'RWIS (Desc)'!H47)","v":""}]
[{"$f":"IF('RWIS (Desc)'!A48=\"\",\"\",'RWIS (Desc)'!A48)","v":""},{"$f":"IF('RWIS (Desc)'!B48=\"\",\"\",'RWIS (Desc)'!B48)","v":""},{"$f":"IF('RWIS (Desc)'!C48=\"\",\"\",'RWIS (Desc)'!C48)","v":""},{"$f":"IF('RWIS (Desc)'!D48=\"\",\"\",'RWIS (Desc)'!D48)","v":""},{"$f":"IF('RWIS (Desc)'!E48=\"\",\"\",INDEX([1]OWNER!$A$2:$A$100,MATCH('RWIS (Desc)'!$E48,[1]!MASTER_OWNER_DESC[#Data],0),0))","v":""},{"$f":"IF('RWIS (Desc)'!F48=\"\",\"\",INDEX([1]COUNTY!$A$2:$A$80,MATCH('RWIS (Desc)'!F48,[1]!MASTER_COUNTY_NAME[#Data],0),0))","v":""},{"$f":"IF('RWIS (Desc)'!G48=\"\",\"\",'RWIS (Desc)'!G48)","v":""},{"$f":"IF('RWIS (Desc)'!H48=\"\",\"\",'RWIS (Desc)'!H48)","v":""}]
[{"$f":"IF('RWIS (Desc)'!A49=\"\",\"\",'RWIS (Desc)'!A49)","v":""},{"$f":"IF('RWIS (Desc)'!B49=\"\",\"\",'RWIS (Desc)'!B49)","v":""},{"$f":"IF('RWIS (Desc)'!C49=\"\",\"\",'RWIS (Desc)'!C49)","v":""},{"$f":"IF('RWIS (Desc)'!D49=\"\",\"\",'RWIS (Desc)'!D49)","v":""},{"$f":"IF('RWIS (Desc)'!E49=\"\",\"\",INDEX([1]OWNER!$A$2:$A$100,MATCH('RWIS (Desc)'!$E49,[1]!MASTER_OWNER_DESC[#Data],0),0))","v":""},{"$f":"IF('RWIS (Desc)'!F49=\"\",\"\",INDEX([1]COUNTY!$A$2:$A$80,MATCH('RWIS (Desc)'!F49,[1]!MASTER_COUNTY_NAME[#Data],0),0))","v":""},{"$f":"IF('RWIS (Desc)'!G49=\"\",\"\",'RWIS (Desc)'!G49)","v":""},{"$f":"IF('RWIS (Desc)'!H49=\"\",\"\",'RWIS (Desc)'!H49)","v":""}]
[{"$f":"IF('RWIS (Desc)'!A50=\"\",\"\",'RWIS (Desc)'!A50)","v":""},{"$f":"IF('RWIS (Desc)'!B50=\"\",\"\",'RWIS (Desc)'!B50)","v":""},{"$f":"IF('RWIS (Desc)'!C50=\"\",\"\",'RWIS (Desc)'!C50)","v":""},{"$f":"IF('RWIS (Desc)'!D50=\"\",\"\",'RWIS (Desc)'!D50)","v":""},{"$f":"IF('RWIS (Desc)'!E50=\"\",\"\",INDEX([1]OWNER!$A$2:$A$100,MATCH('RWIS (Desc)'!$E50,[1]!MASTER_OWNER_DESC[#Data],0),0))","v":""},{"$f":"IF('RWIS (Desc)'!F50=\"\",\"\",INDEX([1]COUNTY!$A$2:$A$80,MATCH('RWIS (Desc)'!F50,[1]!MASTER_COUNTY_NAME[#Data],0),0))","v":""},{"$f":"IF('RWIS (Desc)'!G50=\"\",\"\",'RWIS (Desc)'!G50)","v":""},{"$f":"IF('RWIS (Desc)'!H50=\"\",\"\",'RWIS (Desc)'!H50)","v":""}]
[{"$f":"IF('RWIS (Desc)'!A51=\"\",\"\",'RWIS (Desc)'!A51)","v":""},{"$f":"IF('RWIS (Desc)'!B51=\"\",\"\",'RWIS (Desc)'!B51)","v":""},{"$f":"IF('RWIS (Desc)'!C51=\"\",\"\",'RWIS (Desc)'!C51)","v":""},{"$f":"IF('RWIS (Desc)'!D51=\"\",\"\",'RWIS (Desc)'!D51)","v":""},{"$f":"IF('RWIS (Desc)'!E51=\"\",\"\",INDEX([1]OWNER!$A$2:$A$100,MATCH('RWIS (Desc)'!$E51,[1]!MASTER_OWNER_DESC[#Data],0),0))","v":""},{"$f":"IF('RWIS (Desc)'!F51=\"\",\"\",INDEX([1]COUNTY!$A$2:$A$80,MATCH('RWIS (Desc)'!F51,[1]!MASTER_COUNTY_NAME[#Data],0),0))","v":""},{"$f":"IF('RWIS (Desc)'!G51=\"\",\"\",'RWIS (Desc)'!G51)","v":""},{"$f":"IF('RWIS (Desc)'!H51=\"\",\"\",'RWIS (Desc)'!H51)","v":""}]
[{"$f":"IF('RWIS (Desc)'!A52=\"\",\"\",'RWIS (Desc)'!A52)","v":""},{"$f":"IF('RWIS (Desc)'!B52=\"\",\"\",'RWIS (Desc)'!B52)","v":""},{"$f":"IF('RWIS (Desc)'!C52=\"\",\"\",'RWIS (Desc)'!C52)","v":""},{"$f":"IF('RWIS (Desc)'!D52=\"\",\"\",'RWIS (Desc)'!D52)","v":""},{"$f":"IF('RWIS (Desc)'!E52=\"\",\"\",INDEX([1]OWNER!$A$2:$A$100,MATCH('RWIS (Desc)'!$E52,[1]!MASTER_OWNER_DESC[#Data],0),0))","v":""},{"$f":"IF('RWIS (Desc)'!F52=\"\",\"\",INDEX([1]COUNTY!$A$2:$A$80,MATCH('RWIS (Desc)'!F52,[1]!MASTER_COUNTY_NAME[#Data],0),0))","v":""},{"$f":"IF('RWIS (Desc)'!G52=\"\",\"\",'RWIS (Desc)'!G52)","v":""},{"$f":"IF('RWIS (Desc)'!H52=\"\",\"\",'RWIS (Desc)'!H52)","v":""}]
[{"$f":"IF('RWIS (Desc)'!A53=\"\",\"\",'RWIS (Desc)'!A53)","v":""},{"$f":"IF('RWIS (Desc)'!B53=\"\",\"\",'RWIS (Desc)'!B53)","v":""},{"$f":"IF('RWIS (Desc)'!C53=\"\",\"\",'RWIS (Desc)'!C53)","v":""},{"$f":"IF('RWIS (Desc)'!D53=\"\",\"\",'RWIS (Desc)'!D53)","v":""},{"$f":"IF('RWIS (Desc)'!E53=\"\",\"\",INDEX([1]OWNER!$A$2:$A$100,MATCH('RWIS (Desc)'!$E53,[1]!MASTER_OWNER_DESC[#Data],0),0))","v":""},{"$f":"IF('RWIS (Desc)'!F53=\"\",\"\",INDEX([1]COUNTY!$A$2:$A$80,MATCH('RWIS (Desc)'!F53,[1]!MASTER_COUNTY_NAME[#Data],0),0))","v":""},{"$f":"IF('RWIS (Desc)'!G53=\"\",\"\",'RWIS (Desc)'!G53)","v":""},{"$f":"IF('RWIS (Desc)'!H53=\"\",\"\",'RWIS (Desc)'!H53)","v":""}]
[{"$f":"IF('RWIS (Desc)'!A54=\"\",\"\",'RWIS (Desc)'!A54)","v":""},{"$f":"IF('RWIS (Desc)'!B54=\"\",\"\",'RWIS (Desc)'!B54)","v":""},{"$f":"IF('RWIS (Desc)'!C54=\"\",\"\",'RWIS (Desc)'!C54)","v":""},{"$f":"IF('RWIS (Desc)'!D54=\"\",\"\",'RWIS (Desc)'!D54)","v":""},{"$f":"IF('RWIS (Desc)'!E54=\"\",\"\",INDEX([1]OWNER!$A$2:$A$100,MATCH('RWIS (Desc)'!$E54,[1]!MASTER_OWNER_DESC[#Data],0),0))","v":""},{"$f":"IF('RWIS (Desc)'!F54=\"\",\"\",INDEX([1]COUNTY!$A$2:$A$80,MATCH('RWIS (Desc)'!F54,[1]!MASTER_COUNTY_NAME[#Data],0),0))","v":""},{"$f":"IF('RWIS (Desc)'!G54=\"\",\"\",'RWIS (Desc)'!G54)","v":""},{"$f":"IF('RWIS (Desc)'!H54=\"\",\"\",'RWIS (Desc)'!H54)","v":""}]
[{"$f":"IF('RWIS (Desc)'!A55=\"\",\"\",'RWIS (Desc)'!A55)","v":""},{"$f":"IF('RWIS (Desc)'!B55=\"\",\"\",'RWIS (Desc)'!B55)","v":""},{"$f":"IF('RWIS (Desc)'!C55=\"\",\"\",'RWIS (Desc)'!C55)","v":""},{"$f":"IF('RWIS (Desc)'!D55=\"\",\"\",'RWIS (Desc)'!D55)","v":""},{"$f":"IF('RWIS (Desc)'!E55=\"\",\"\",INDEX([1]OWNER!$A$2:$A$100,MATCH('RWIS (Desc)'!$E55,[1]!MASTER_OWNER_DESC[#Data],0),0))","v":""},{"$f":"IF('RWIS (Desc)'!F55=\"\",\"\",INDEX([1]COUNTY!$A$2:$A$80,MATCH('RWIS (Desc)'!F55,[1]!MASTER_COUNTY_NAME[#Data],0),0))","v":""},{"$f":"IF('RWIS (Desc)'!G55=\"\",\"\",'RWIS (Desc)'!G55)","v":""},{"$f":"IF('RWIS (Desc)'!H55=\"\",\"\",'RWIS (Desc)'!H55)","v":""}]
[{"$f":"IF('RWIS (Desc)'!A56=\"\",\"\",'RWIS (Desc)'!A56)","v":""},{"$f":"IF('RWIS (Desc)'!B56=\"\",\"\",'RWIS (Desc)'!B56)","v":""},{"$f":"IF('RWIS (Desc)'!C56=\"\",\"\",'RWIS (Desc)'!C56)","v":""},{"$f":"IF('RWIS (Desc)'!D56=\"\",\"\",'RWIS (Desc)'!D56)","v":""},{"$f":"IF('RWIS (Desc)'!E56=\"\",\"\",INDEX([1]OWNER!$A$2:$A$100,MATCH('RWIS (Desc)'!$E56,[1]!MASTER_OWNER_DESC[#Data],0),0))","v":""},{"$f":"IF('RWIS (Desc)'!F56=\"\",\"\",INDEX([1]COUNTY!$A$2:$A$80,MATCH('RWIS (Desc)'!F56,[1]!MASTER_COUNTY_NAME[#Data],0),0))","v":""},{"$f":"IF('RWIS (Desc)'!G56=\"\",\"\",'RWIS (Desc)'!G56)","v":""},{"$f":"IF('RWIS (Desc)'!H56=\"\",\"\",'RWIS (Desc)'!H56)","v":""}]
[{"$f":"IF('RWIS (Desc)'!A57=\"\",\"\",'RWIS (Desc)'!A57)","v":""},{"$f":"IF('RWIS (Desc)'!B57=\"\",\"\",'RWIS (Desc)'!B57)","v":""},{"$f":"IF('RWIS (Desc)'!C57=\"\",\"\",'RWIS (Desc)'!C57)","v":""},{"$f":"IF('RWIS (Desc)'!D57=\"\",\"\",'RWIS (Desc)'!D57)","v":""},{"$f":"IF('RWIS (Desc)'!E57=\"\",\"\",INDEX([1]OWNER!$A$2:$A$100,MATCH('RWIS (Desc)'!$E57,[1]!MASTER_OWNER_DESC[#Data],0),0))","v":""},{"$f":"IF('RWIS (Desc)'!F57=\"\",\"\",INDEX([1]COUNTY!$A$2:$A$80,MATCH('RWIS (Desc)'!F57,[1]!MASTER_COUNTY_NAME[#Data],0),0))","v":""},{"$f":"IF('RWIS (Desc)'!G57=\"\",\"\",'RWIS (Desc)'!G57)","v":""},{"$f":"IF('RWIS (Desc)'!H57=\"\",\"\",'RWIS (Desc)'!H57)","v":""}]
[{"$f":"IF('RWIS (Desc)'!A58=\"\",\"\",'RWIS (Desc)'!A58)","v":""},{"$f":"IF('RWIS (Desc)'!B58=\"\",\"\",'RWIS (Desc)'!B58)","v":""},{"$f":"IF('RWIS (Desc)'!C58=\"\",\"\",'RWIS (Desc)'!C58)","v":""},{"$f":"IF('RWIS (Desc)'!D58=\"\",\"\",'RWIS (Desc)'!D58)","v":""},{"$f":"IF('RWIS (Desc)'!E58=\"\",\"\",INDEX([1]OWNER!$A$2:$A$100,MATCH('RWIS (Desc)'!$E58,[1]!MASTER_OWNER_DESC[#Data],0),0))","v":""},{"$f":"IF('RWIS (Desc)'!F58=\"\",\"\",INDEX([1]COUNTY!$A$2:$A$80,MATCH('RWIS (Desc)'!F58,[1]!MASTER_COUNTY_NAME[#Data],0),0))","v":""},{"$f":"IF('RWIS (Desc)'!G58=\"\",\"\",'RWIS (Desc)'!G58)","v":""},{"$f":"IF('RWIS (Desc)'!H58=\"\",\"\",'RWIS (Desc)'!H58)","v":""}]
[{"$f":"IF('RWIS (Desc)'!A59=\"\",\"\",'RWIS (Desc)'!A59)","v":""},{"$f":"IF('RWIS (Desc)'!B59=\"\",\"\",'RWIS (Desc)'!B59)","v":""},{"$f":"IF('RWIS (Desc)'!C59=\"\",\"\",'RWIS (Desc)'!C59)","v":""},{"$f":"IF('RWIS (Desc)'!D59=\"\",\"\",'RWIS (Desc)'!D59)","v":""},{"$f":"IF('RWIS (Desc)'!E59=\"\",\"\",INDEX([1]OWNER!$A$2:$A$100,MATCH('RWIS (Desc)'!$E59,[1]!MASTER_OWNER_DESC[#Data],0),0))","v":""},{"$f":"IF('RWIS (Desc)'!F59=\"\",\"\",INDEX([1]COUNTY!$A$2:$A$80,MATCH('RWIS (Desc)'!F59,[1]!MASTER_COUNTY_NAME[#Data],0),0))","v":""},{"$f":"IF('RWIS (Desc)'!G59=\"\",\"\",'RWIS (Desc)'!G59)","v":""},{"$f":"IF('RWIS (Desc)'!H59=\"\",\"\",'RWIS (Desc)'!H59)","v":""}]
[{"$f":"IF('RWIS (Desc)'!A60=\"\",\"\",'RWIS (Desc)'!A60)","v":""},{"$f":"IF('RWIS (Desc)'!B60=\"\",\"\",'RWIS (Desc)'!B60)","v":""},{"$f":"IF('RWIS (Desc)'!C60=\"\",\"\",'RWIS (Desc)'!C60)","v":""},{"$f":"IF('RWIS (Desc)'!D60=\"\",\"\",'RWIS (Desc)'!D60)","v":""},{"$f":"IF('RWIS (Desc)'!E60=\"\",\"\",INDEX([1]OWNER!$A$2:$A$100,MATCH('RWIS (Desc)'!$E60,[1]!MASTER_OWNER_DESC[#Data],0),0))","v":""},{"$f":"IF('RWIS (Desc)'!F60=\"\",\"\",INDEX([1]COUNTY!$A$2:$A$80,MATCH('RWIS (Desc)'!F60,[1]!MASTER_COUNTY_NAME[#Data],0),0))","v":""},{"$f":"IF('RWIS (Desc)'!G60=\"\",\"\",'RWIS (Desc)'!G60)","v":""},{"$f":"IF('RWIS (Desc)'!H60=\"\",\"\",'RWIS (Desc)'!H60)","v":""}]
[{"$f":"IF('RWIS (Desc)'!A61=\"\",\"\",'RWIS (Desc)'!A61)","v":""},{"$f":"IF('RWIS (Desc)'!B61=\"\",\"\",'RWIS (Desc)'!B61)","v":""},{"$f":"IF('RWIS (Desc)'!C61=\"\",\"\",'RWIS (Desc)'!C61)","v":""},{"$f":"IF('RWIS (Desc)'!D61=\"\",\"\",'RWIS (Desc)'!D61)","v":""},{"$f":"IF('RWIS (Desc)'!E61=\"\",\"\",INDEX([1]OWNER!$A$2:$A$100,MATCH('RWIS (Desc)'!$E61,[1]!MASTER_OWNER_DESC[#Data],0),0))","v":""},{"$f":"IF('RWIS (Desc)'!F61=\"\",\"\",INDEX([1]COUNTY!$A$2:$A$80,MATCH('RWIS (Desc)'!F61,[1]!MASTER_COUNTY_NAME[#Data],0),0))","v":""},{"$f":"IF('RWIS (Desc)'!G61=\"\",\"\",'RWIS (Desc)'!G61)","v":""},{"$f":"IF('RWIS (Desc)'!H61=\"\",\"\",'RWIS (Desc)'!H61)","v":""}]
[{"$f":"IF('RWIS (Desc)'!A62=\"\",\"\",'RWIS (Desc)'!A62)","v":""},{"$f":"IF('RWIS (Desc)'!B62=\"\",\"\",'RWIS (Desc)'!B62)","v":""},{"$f":"IF('RWIS (Desc)'!C62=\"\",\"\",'RWIS (Desc)'!C62)","v":""},{"$f":"IF('RWIS (Desc)'!D62=\"\",\"\",'RWIS (Desc)'!D62)","v":""},{"$f":"IF('RWIS (Desc)'!E62=\"\",\"\",INDEX([1]OWNER!$A$2:$A$100,MATCH('RWIS (Desc)'!$E62,[1]!MASTER_OWNER_DESC[#Data],0),0))","v":""},{"$f":"IF('RWIS (Desc)'!F62=\"\",\"\",INDEX([1]COUNTY!$A$2:$A$80,MATCH('RWIS (Desc)'!F62,[1]!MASTER_COUNTY_NAME[#Data],0),0))","v":""},{"$f":"IF('RWIS (Desc)'!G62=\"\",\"\",'RWIS (Desc)'!G62)","v":""},{"$f":"IF('RWIS (Desc)'!H62=\"\",\"\",'RWIS (Desc)'!H62)","v":""}]
[{"$f":"IF('RWIS (Desc)'!A63=\"\",\"\",'RWIS (Desc)'!A63)","v":""},{"$f":"IF('RWIS (Desc)'!B63=\"\",\"\",'RWIS (Desc)'!B63)","v":""},{"$f":"IF('RWIS (Desc)'!C63=\"\",\"\",'RWIS (Desc)'!C63)","v":""},{"$f":"IF('RWIS (Desc)'!D63=\"\",\"\",'RWIS (Desc)'!D63)","v":""},{"$f":"IF('RWIS (Desc)'!E63=\"\",\"\",INDEX([1]OWNER!$A$2:$A$100,MATCH('RWIS (Desc)'!$E63,[1]!MASTER_OWNER_DESC[#Data],0),0))","v":""},{"$f":"IF('RWIS (Desc)'!F63=\"\",\"\",INDEX([1]COUNTY!$A$2:$A$80,MATCH('RWIS (Desc)'!F63,[1]!MASTER_COUNTY_NAME[#Data],0),0))","v":""},{"$f":"IF('RWIS (Desc)'!G63=\"\",\"\",'RWIS (Desc)'!G63)","v":""},{"$f":"IF('RWIS (Desc)'!H63=\"\",\"\",'RWIS (Desc)'!H63)","v":""}]
[{"$f":"IF('RWIS (Desc)'!A64=\"\",\"\",'RWIS (Desc)'!A64)","v":""},{"$f":"IF('RWIS (Desc)'!B64=\"\",\"\",'RWIS (Desc)'!B64)","v":""},{"$f":"IF('RWIS (Desc)'!C64=\"\",\"\",'RWIS (Desc)'!C64)","v":""},{"$f":"IF('RWIS (Desc)'!D64=\"\",\"\",'RWIS (Desc)'!D64)","v":""},{"$f":"IF('RWIS (Desc)'!E64=\"\",\"\",INDEX([1]OWNER!$A$2:$A$100,MATCH('RWIS (Desc)'!$E64,[1]!MASTER_OWNER_DESC[#Data],0),0))","v":""},{"$f":"IF('RWIS (Desc)'!F64=\"\",\"\",INDEX([1]COUNTY!$A$2:$A$80,MATCH('RWIS (Desc)'!F64,[1]!MASTER_COUNTY_NAME[#Data],0),0))","v":""},{"$f":"IF('RWIS (Desc)'!G64=\"\",\"\",'RWIS (Desc)'!G64)","v":""},{"$f":"IF('RWIS (Desc)'!H64=\"\",\"\",'RWIS (Desc)'!H64)","v":""}]
[{"$f":"IF('RWIS (Desc)'!A65=\"\",\"\",'RWIS (Desc)'!A65)","v":""},{"$f":"IF('RWIS (Desc)'!B65=\"\",\"\",'RWIS (Desc)'!B65)","v":""},{"$f":"IF('RWIS (Desc)'!C65=\"\",\"\",'RWIS (Desc)'!C65)","v":""},{"$f":"IF('RWIS (Desc)'!D65=\"\",\"\",'RWIS (Desc)'!D65)","v":""},{"$f":"IF('RWIS (Desc)'!E65=\"\",\"\",INDEX([1]OWNER!$A$2:$A$100,MATCH('RWIS (Desc)'!$E65,[1]!MASTER_OWNER_DESC[#Data],0),0))","v":""},{"$f":"IF('RWIS (Desc)'!F65=\"\",\"\",INDEX([1]COUNTY!$A$2:$A$80,MATCH('RWIS (Desc)'!F65,[1]!MASTER_COUNTY_NAME[#Data],0),0))","v":""},{"$f":"IF('RWIS (Desc)'!G65=\"\",\"\",'RWIS (Desc)'!G65)","v":""},{"$f":"IF('RWIS (Desc)'!H65=\"\",\"\",'RWIS (Desc)'!H65)","v":""}]
[{"$f":"IF('RWIS (Desc)'!A66=\"\",\"\",'RWIS (Desc)'!A66)","v":""},{"$f":"IF('RWIS (Desc)'!B66=\"\",\"\",'RWIS (Desc)'!B66)","v":""},{"$f":"IF('RWIS (Desc)'!C66=\"\",\"\",'RWIS (Desc)'!C66)","v":""},{"$f":"IF('RWIS (Desc)'!D66=\"\",\"\",'RWIS (Desc)'!D66)","v":""},{"$f":"IF('RWIS (Desc)'!E66=\"\",\"\",INDEX([1]OWNER!$A$2:$A$100,MATCH('RWIS (Desc)'!$E66,[1]!MASTER_OWNER_DESC[#Data],0),0))","v":""},{"$f":"IF('RWIS (Desc)'!F66=\"\",\"\",INDEX([1]COUNTY!$A$2:$A$80,MATCH('RWIS (Desc)'!F66,[1]!MASTER_COUNTY_NAME[#Data],0),0))","v":""},{"$f":"IF('RWIS (Desc)'!G66=\"\",\"\",'RWIS (Desc)'!G66)","v":""},{"$f":"IF('RWIS (Desc)'!H66=\"\",\"\",'RWIS (Desc)'!H66)","v":""}]
[{"$f":"IF('RWIS (Desc)'!A67=\"\",\"\",'RWIS (Desc)'!A67)","v":""},{"$f":"IF('RWIS (Desc)'!B67=\"\",\"\",'RWIS (Desc)'!B67)","v":""},{"$f":"IF('RWIS (Desc)'!C67=\"\",\"\",'RWIS (Desc)'!C67)","v":""},{"$f":"IF('RWIS (Desc)'!D67=\"\",\"\",'RWIS (Desc)'!D67)","v":""},{"$f":"IF('RWIS (Desc)'!E67=\"\",\"\",INDEX([1]OWNER!$A$2:$A$100,MATCH('RWIS (Desc)'!$E67,[1]!MASTER_OWNER_DESC[#Data],0),0))","v":""},{"$f":"IF('RWIS (Desc)'!F67=\"\",\"\",INDEX([1]COUNTY!$A$2:$A$80,MATCH('RWIS (Desc)'!F67,[1]!MASTER_COUNTY_NAME[#Data],0),0))","v":""},{"$f":"IF('RWIS (Desc)'!G67=\"\",\"\",'RWIS (Desc)'!G67)","v":""},{"$f":"IF('RWIS (Desc)'!H67=\"\",\"\",'RWIS (Desc)'!H67)","v":""}]
[{"$f":"IF('RWIS (Desc)'!A68=\"\",\"\",'RWIS (Desc)'!A68)","v":""},{"$f":"IF('RWIS (Desc)'!B68=\"\",\"\",'RWIS (Desc)'!B68)","v":""},{"$f":"IF('RWIS (Desc)'!C68=\"\",\"\",'RWIS (Desc)'!C68)","v":""},{"$f":"IF('RWIS (Desc)'!D68=\"\",\"\",'RWIS (Desc)'!D68)","v":""},{"$f":"IF('RWIS (Desc)'!E68=\"\",\"\",INDEX([1]OWNER!$A$2:$A$100,MATCH('RWIS (Desc)'!$E68,[1]!MASTER_OWNER_DESC[#Data],0),0))","v":""},{"$f":"IF('RWIS (Desc)'!F68=\"\",\"\",INDEX([1]COUNTY!$A$2:$A$80,MATCH('RWIS (Desc)'!F68,[1]!MASTER_COUNTY_NAME[#Data],0),0))","v":""},{"$f":"IF('RWIS (Desc)'!G68=\"\",\"\",'RWIS (Desc)'!G68)","v":""},{"$f":"IF('RWIS (Desc)'!H68=\"\",\"\",'RWIS (Desc)'!H68)","v":""}]
[{"$f":"IF('RWIS (Desc)'!A69=\"\",\"\",'RWIS (Desc)'!A69)","v":""},{"$f":"IF('RWIS (Desc)'!B69=\"\",\"\",'RWIS (Desc)'!B69)","v":""},{"$f":"IF('RWIS (Desc)'!C69=\"\",\"\",'RWIS (Desc)'!C69)","v":""},{"$f":"IF('RWIS (Desc)'!D69=\"\",\"\",'RWIS (Desc)'!D69)","v":""},{"$f":"IF('RWIS (Desc)'!E69=\"\",\"\",INDEX([1]OWNER!$A$2:$A$100,MATCH('RWIS (Desc)'!$E69,[1]!MASTER_OWNER_DESC[#Data],0),0))","v":""},{"$f":"IF('RWIS (Desc)'!F69=\"\",\"\",INDEX([1]COUNTY!$A$2:$A$80,MATCH('RWIS (Desc)'!F69,[1]!MASTER_COUNTY_NAME[#Data],0),0))","v":""},{"$f":"IF('RWIS (Desc)'!G69=\"\",\"\",'RWIS (Desc)'!G69)","v":""},{"$f":"IF('RWIS (Desc)'!H69=\"\",\"\",'RWIS (Desc)'!H69)","v":""}]
[{"$f":"IF('RWIS (Desc)'!A70=\"\",\"\",'RWIS (Desc)'!A70)","v":""},{"$f":"IF('RWIS (Desc)'!B70=\"\",\"\",'RWIS (Desc)'!B70)","v":""},{"$f":"IF('RWIS (Desc)'!C70=\"\",\"\",'RWIS (Desc)'!C70)","v":""},{"$f":"IF('RWIS (Desc)'!D70=\"\",\"\",'RWIS (Desc)'!D70)","v":""},{"$f":"IF('RWIS (Desc)'!E70=\"\",\"\",INDEX([1]OWNER!$A$2:$A$100,MATCH('RWIS (Desc)'!$E70,[1]!MASTER_OWNER_DESC[#Data],0),0))","v":""},{"$f":"IF('RWIS (Desc)'!F70=\"\",\"\",INDEX([1]COUNTY!$A$2:$A$80,MATCH('RWIS (Desc)'!F70,[1]!MASTER_COUNTY_NAME[#Data],0),0))","v":""},{"$f":"IF('RWIS (Desc)'!G70=\"\",\"\",'RWIS (Desc)'!G70)","v":""},{"$f":"IF('RWIS (Desc)'!H70=\"\",\"\",'RWIS (Desc)'!H70)","v":""}]
[{"$f":"IF('RWIS (Desc)'!A71=\"\",\"\",'RWIS (Desc)'!A71)","v":""},{"$f":"IF('RWIS (Desc)'!B71=\"\",\"\",'RWIS (Desc)'!B71)","v":""},{"$f":"IF('RWIS (Desc)'!C71=\"\",\"\",'RWIS (Desc)'!C71)","v":""},{"$f":"IF('RWIS (Desc)'!D71=\"\",\"\",'RWIS (Desc)'!D71)","v":""},{"$f":"IF('RWIS (Desc)'!E71=\"\",\"\",INDEX([1]OWNER!$A$2:$A$100,MATCH('RWIS (Desc)'!$E71,[1]!MASTER_OWNER_DESC[#Data],0),0))","v":""},{"$f":"IF('RWIS (Desc)'!F71=\"\",\"\",INDEX([1]COUNTY!$A$2:$A$80,MATCH('RWIS (Desc)'!F71,[1]!MASTER_COUNTY_NAME[#Data],0),0))","v":""},{"$f":"IF('RWIS (Desc)'!G71=\"\",\"\",'RWIS (Desc)'!G71)","v":""},{"$f":"IF('RWIS (Desc)'!H71=\"\",\"\",'RWIS (Desc)'!H71)","v":""}]
[{"$f":"IF('RWIS (Desc)'!A72=\"\",\"\",'RWIS (Desc)'!A72)","v":""},{"$f":"IF('RWIS (Desc)'!B72=\"\",\"\",'RWIS (Desc)'!B72)","v":""},{"$f":"IF('RWIS (Desc)'!C72=\"\",\"\",'RWIS (Desc)'!C72)","v":""},{"$f":"IF('RWIS (Desc)'!D72=\"\",\"\",'RWIS (Desc)'!D72)","v":""},{"$f":"IF('RWIS (Desc)'!E72=\"\",\"\",INDEX([1]OWNER!$A$2:$A$100,MATCH('RWIS (Desc)'!$E72,[1]!MASTER_OWNER_DESC[#Data],0),0))","v":""},{"$f":"IF('RWIS (Desc)'!F72=\"\",\"\",INDEX([1]COUNTY!$A$2:$A$80,MATCH('RWIS (Desc)'!F72,[1]!MASTER_COUNTY_NAME[#Data],0),0))","v":""},{"$f":"IF('RWIS (Desc)'!G72=\"\",\"\",'RWIS (Desc)'!G72)","v":""},{"$f":"IF('RWIS (Desc)'!H72=\"\",\"\",'RWIS (Desc)'!H72)","v":""}]
[{"$f":"IF('RWIS (Desc)'!A73=\"\",\"\",'RWIS (Desc)'!A73)","v":""},{"$f":"IF('RWIS (Desc)'!B73=\"\",\"\",'RWIS (Desc)'!B73)","v":""},{"$f":"IF('RWIS (Desc)'!C73=\"\",\"\",'RWIS (Desc)'!C73)","v":""},{"$f":"IF('RWIS (Desc)'!D73=\"\",\"\",'RWIS (Desc)'!D73)","v":""},{"$f":"IF('RWIS (Desc)'!E73=\"\",\"\",INDEX([1]OWNER!$A$2:$A$100,MATCH('RWIS (Desc)'!$E73,[1]!MASTER_OWNER_DESC[#Data],0),0))","v":""},{"$f":"IF('RWIS (Desc)'!F73=\"\",\"\",INDEX([1]COUNTY!$A$2:$A$80,MATCH('RWIS (Desc)'!F73,[1]!MASTER_COUNTY_NAME[#Data],0),0))","v":""},{"$f":"IF('RWIS (Desc)'!G73=\"\",\"\",'RWIS (Desc)'!G73)","v":""},{"$f":"IF('RWIS (Desc)'!H73=\"\",\"\",'RWIS (Desc)'!H73)","v":""}]
[{"$f":"IF('RWIS (Desc)'!A74=\"\",\"\",'RWIS (Desc)'!A74)","v":""},{"$f":"IF('RWIS (Desc)'!B74=\"\",\"\",'RWIS (Desc)'!B74)","v":""},{"$f":"IF('RWIS (Desc)'!C74=\"\",\"\",'RWIS (Desc)'!C74)","v":""},{"$f":"IF('RWIS (Desc)'!D74=\"\",\"\",'RWIS (Desc)'!D74)","v":""},{"$f":"IF('RWIS (Desc)'!E74=\"\",\"\",INDEX([1]OWNER!$A$2:$A$100,MATCH('RWIS (Desc)'!$E74,[1]!MASTER_OWNER_DESC[#Data],0),0))","v":""},{"$f":"IF('RWIS (Desc)'!F74=\"\",\"\",INDEX([1]COUNTY!$A$2:$A$80,MATCH('RWIS (Desc)'!F74,[1]!MASTER_COUNTY_NAME[#Data],0),0))","v":""},{"$f":"IF('RWIS (Desc)'!G74=\"\",\"\",'RWIS (Desc)'!G74)","v":""},{"$f":"IF('RWIS (Desc)'!H74=\"\",\"\",'RWIS (Desc)'!H74)","v":""}]
[{"$f":"IF('RWIS (Desc)'!A75=\"\",\"\",'RWIS (Desc)'!A75)","v":""},{"$f":"IF('RWIS (Desc)'!B75=\"\",\"\",'RWIS (Desc)'!B75)","v":""},{"$f":"IF('RWIS (Desc)'!C75=\"\",\"\",'RWIS (Desc)'!C75)","v":""},{"$f":"IF('RWIS (Desc)'!D75=\"\",\"\",'RWIS (Desc)'!D75)","v":""},{"$f":"IF('RWIS (Desc)'!E75=\"\",\"\",INDEX([1]OWNER!$A$2:$A$100,MATCH('RWIS (Desc)'!$E75,[1]!MASTER_OWNER_DESC[#Data],0),0))","v":""},{"$f":"IF('RWIS (Desc)'!F75=\"\",\"\",INDEX([1]COUNTY!$A$2:$A$80,MATCH('RWIS (Desc)'!F75,[1]!MASTER_COUNTY_NAME[#Data],0),0))","v":""},{"$f":"IF('RWIS (Desc)'!G75=\"\",\"\",'RWIS (Desc)'!G75)","v":""},{"$f":"IF('RWIS (Desc)'!H75=\"\",\"\",'RWIS (Desc)'!H75)","v":""}]
[{"$f":"IF('RWIS (Desc)'!A76=\"\",\"\",'RWIS (Desc)'!A76)","v":""},{"$f":"IF('RWIS (Desc)'!B76=\"\",\"\",'RWIS (Desc)'!B76)","v":""},{"$f":"IF('RWIS (Desc)'!C76=\"\",\"\",'RWIS (Desc)'!C76)","v":""},{"$f":"IF('RWIS (Desc)'!D76=\"\",\"\",'RWIS (Desc)'!D76)","v":""},{"$f":"IF('RWIS (Desc)'!E76=\"\",\"\",INDEX([1]OWNER!$A$2:$A$100,MATCH('RWIS (Desc)'!$E76,[1]!MASTER_OWNER_DESC[#Data],0),0))","v":""},{"$f":"IF('RWIS (Desc)'!F76=\"\",\"\",INDEX([1]COUNTY!$A$2:$A$80,MATCH('RWIS (Desc)'!F76,[1]!MASTER_COUNTY_NAME[#Data],0),0))","v":""},{"$f":"IF('RWIS (Desc)'!G76=\"\",\"\",'RWIS (Desc)'!G76)","v":""},{"$f":"IF('RWIS (Desc)'!H76=\"\",\"\",'RWIS (Desc)'!H76)","v":""}]
[{"$f":"IF('RWIS (Desc)'!A77=\"\",\"\",'RWIS (Desc)'!A77)","v":""},{"$f":"IF('RWIS (Desc)'!B77=\"\",\"\",'RWIS (Desc)'!B77)","v":""},{"$f":"IF('RWIS (Desc)'!C77=\"\",\"\",'RWIS (Desc)'!C77)","v":""},{"$f":"IF('RWIS (Desc)'!D77=\"\",\"\",'RWIS (Desc)'!D77)","v":""},{"$f":"IF('RWIS (Desc)'!E77=\"\",\"\",INDEX([1]OWNER!$A$2:$A$100,MATCH('RWIS (Desc)'!$E77,[1]!MASTER_OWNER_DESC[#Data],0),0))","v":""},{"$f":"IF('RWIS (Desc)'!F77=\"\",\"\",INDEX([1]COUNTY!$A$2:$A$80,MATCH('RWIS (Desc)'!F77,[1]!MASTER_COUNTY_NAME[#Data],0),0))","v":""},{"$f":"IF('RWIS (Desc)'!G77=\"\",\"\",'RWIS (Desc)'!G77)","v":""},{"$f":"IF('RWIS (Desc)'!H77=\"\",\"\",'RWIS (Desc)'!H77)","v":""}]
[{"$f":"IF('RWIS (Desc)'!A78=\"\",\"\",'RWIS (Desc)'!A78)","v":""},{"$f":"IF('RWIS (Desc)'!B78=\"\",\"\",'RWIS (Desc)'!B78)","v":""},{"$f":"IF('RWIS (Desc)'!C78=\"\",\"\",'RWIS (Desc)'!C78)","v":""},{"$f":"IF('RWIS (Desc)'!D78=\"\",\"\",'RWIS (Desc)'!D78)","v":""},{"$f":"IF('RWIS (Desc)'!E78=\"\",\"\",INDEX([1]OWNER!$A$2:$A$100,MATCH('RWIS (Desc)'!$E78,[1]!MASTER_OWNER_DESC[#Data],0),0))","v":""},{"$f":"IF('RWIS (Desc)'!F78=\"\",\"\",INDEX([1]COUNTY!$A$2:$A$80,MATCH('RWIS (Desc)'!F78,[1]!MASTER_COUNTY_NAME[#Data],0),0))","v":""},{"$f":"IF('RWIS (Desc)'!G78=\"\",\"\",'RWIS (Desc)'!G78)","v":""},{"$f":"IF('RWIS (Desc)'!H78=\"\",\"\",'RWIS (Desc)'!H78)","v":""}]
[{"$f":"IF('RWIS (Desc)'!A79=\"\",\"\",'RWIS (Desc)'!A79)","v":""},{"$f":"IF('RWIS (Desc)'!B79=\"\",\"\",'RWIS (Desc)'!B79)","v":""},{"$f":"IF('RWIS (Desc)'!C79=\"\",\"\",'RWIS (Desc)'!C79)","v":""},{"$f":"IF('RWIS (Desc)'!D79=\"\",\"\",'RWIS (Desc)'!D79)","v":""},{"$f":"IF('RWIS (Desc)'!E79=\"\",\"\",INDEX([1]OWNER!$A$2:$A$100,MATCH('RWIS (Desc)'!$E79,[1]!MASTER_OWNER_DESC[#Data],0),0))","v":""},{"$f":"IF('RWIS (Desc)'!F79=\"\",\"\",INDEX([1]COUNTY!$A$2:$A$80,MATCH('RWIS (Desc)'!F79,[1]!MASTER_COUNTY_NAME[#Data],0),0))","v":""},{"$f":"IF('RWIS (Desc)'!G79=\"\",\"\",'RWIS (Desc)'!G79)","v":""},{"$f":"IF('RWIS (Desc)'!H79=\"\",\"\",'RWIS (Desc)'!H79)","v":""}]
[{"$f":"IF('RWIS (Desc)'!A80=\"\",\"\",'RWIS (Desc)'!A80)","v":""},{"$f":"IF('RWIS (Desc)'!B80=\"\",\"\",'RWIS (Desc)'!B80)","v":""},{"$f":"IF('RWIS (Desc)'!C80=\"\",\"\",'RWIS (Desc)'!C80)","v":""},{"$f":"IF('RWIS (Desc)'!D80=\"\",\"\",'RWIS (Desc)'!D80)","v":""},{"$f":"IF('RWIS (Desc)'!E80=\"\",\"\",INDEX([1]OWNER!$A$2:$A$100,MATCH('RWIS (Desc)'!$E80,[1]!MASTER_OWNER_DESC[#Data],0),0))","v":""},{"$f":"IF('RWIS (Desc)'!F80=\"\",\"\",INDEX([1]COUNTY!$A$2:$A$80,MATCH('RWIS (Desc)'!F80,[1]!MASTER_COUNTY_NAME[#Data],0),0))","v":""},{"$f":"IF('RWIS (Desc)'!G80=\"\",\"\",'RWIS (Desc)'!G80)","v":""},{"$f":"IF('RWIS (Desc)'!H80=\"\",\"\",'RWIS (Desc)'!H80)","v":""}]
[{"$f":"IF('RWIS (Desc)'!A81=\"\",\"\",'RWIS (Desc)'!A81)","v":""},{"$f":"IF('RWIS (Desc)'!B81=\"\",\"\",'RWIS (Desc)'!B81)","v":""},{"$f":"IF('RWIS (Desc)'!C81=\"\",\"\",'RWIS (Desc)'!C81)","v":""},{"$f":"IF('RWIS (Desc)'!D81=\"\",\"\",'RWIS (Desc)'!D81)","v":""},{"$f":"IF('RWIS (Desc)'!E81=\"\",\"\",INDEX([1]OWNER!$A$2:$A$100,MATCH('RWIS (Desc)'!$E81,[1]!MASTER_OWNER_DESC[#Data],0),0))","v":""},{"$f":"IF('RWIS (Desc)'!F81=\"\",\"\",INDEX([1]COUNTY!$A$2:$A$80,MATCH('RWIS (Desc)'!F81,[1]!MASTER_COUNTY_NAME[#Data],0),0))","v":""},{"$f":"IF('RWIS (Desc)'!G81=\"\",\"\",'RWIS (Desc)'!G81)","v":""},{"$f":"IF('RWIS (Desc)'!H81=\"\",\"\",'RWIS (Desc)'!H81)","v":""}]
[{"$f":"IF('RWIS (Desc)'!A82=\"\",\"\",'RWIS (Desc)'!A82)","v":""},{"$f":"IF('RWIS (Desc)'!B82=\"\",\"\",'RWIS (Desc)'!B82)","v":""},{"$f":"IF('RWIS (Desc)'!C82=\"\",\"\",'RWIS (Desc)'!C82)","v":""},{"$f":"IF('RWIS (Desc)'!D82=\"\",\"\",'RWIS (Desc)'!D82)","v":""},{"$f":"IF('RWIS (Desc)'!E82=\"\",\"\",INDEX([1]OWNER!$A$2:$A$100,MATCH('RWIS (Desc)'!$E82,[1]!MASTER_OWNER_DESC[#Data],0),0))","v":""},{"$f":"IF('RWIS (Desc)'!F82=\"\",\"\",INDEX([1]COUNTY!$A$2:$A$80,MATCH('RWIS (Desc)'!F82,[1]!MASTER_COUNTY_NAME[#Data],0),0))","v":""},{"$f":"IF('RWIS (Desc)'!G82=\"\",\"\",'RWIS (Desc)'!G82)","v":""},{"$f":"IF('RWIS (Desc)'!H82=\"\",\"\",'RWIS (Desc)'!H82)","v":""}]
[{"$f":"IF('RWIS (Desc)'!A83=\"\",\"\",'RWIS (Desc)'!A83)","v":""},{"$f":"IF('RWIS (Desc)'!B83=\"\",\"\",'RWIS (Desc)'!B83)","v":""},{"$f":"IF('RWIS (Desc)'!C83=\"\",\"\",'RWIS (Desc)'!C83)","v":""},{"$f":"IF('RWIS (Desc)'!D83=\"\",\"\",'RWIS (Desc)'!D83)","v":""},{"$f":"IF('RWIS (Desc)'!E83=\"\",\"\",INDEX([1]OWNER!$A$2:$A$100,MATCH('RWIS (Desc)'!$E83,[1]!MASTER_OWNER_DESC[#Data],0),0))","v":""},{"$f":"IF('RWIS (Desc)'!F83=\"\",\"\",INDEX([1]COUNTY!$A$2:$A$80,MATCH('RWIS (Desc)'!F83,[1]!MASTER_COUNTY_NAME[#Data],0),0))","v":""},{"$f":"IF('RWIS (Desc)'!G83=\"\",\"\",'RWIS (Desc)'!G83)","v":""},{"$f":"IF('RWIS (Desc)'!H83=\"\",\"\",'RWIS (Desc)'!H83)","v":""}]
[{"$f":"IF('RWIS (Desc)'!A84=\"\",\"\",'RWIS (Desc)'!A84)","v":""},{"$f":"IF('RWIS (Desc)'!B84=\"\",\"\",'RWIS (Desc)'!B84)","v":""},{"$f":"IF('RWIS (Desc)'!C84=\"\",\"\",'RWIS (Desc)'!C84)","v":""},{"$f":"IF('RWIS (Desc)'!D84=\"\",\"\",'RWIS (Desc)'!D84)","v":""},{"$f":"IF('RWIS (Desc)'!E84=\"\",\"\",INDEX([1]OWNER!$A$2:$A$100,MATCH('RWIS (Desc)'!$E84,[1]!MASTER_OWNER_DESC[#Data],0),0))","v":""},{"$f":"IF('RWIS (Desc)'!F84=\"\",\"\",INDEX([1]COUNTY!$A$2:$A$80,MATCH('RWIS (Desc)'!F84,[1]!MASTER_COUNTY_NAME[#Data],0),0))","v":""},{"$f":"IF('RWIS (Desc)'!G84=\"\",\"\",'RWIS (Desc)'!G84)","v":""},{"$f":"IF('RWIS (Desc)'!H84=\"\",\"\",'RWIS (Desc)'!H84)","v":""}]
[{"$f":"IF('RWIS (Desc)'!A85=\"\",\"\",'RWIS (Desc)'!A85)","v":""},{"$f":"IF('RWIS (Desc)'!B85=\"\",\"\",'RWIS (Desc)'!B85)","v":""},{"$f":"IF('RWIS (Desc)'!C85=\"\",\"\",'RWIS (Desc)'!C85)","v":""},{"$f":"IF('RWIS (Desc)'!D85=\"\",\"\",'RWIS (Desc)'!D85)","v":""},{"$f":"IF('RWIS (Desc)'!E85=\"\",\"\",INDEX([1]OWNER!$A$2:$A$100,MATCH('RWIS (Desc)'!$E85,[1]!MASTER_OWNER_DESC[#Data],0),0))","v":""},{"$f":"IF('RWIS (Desc)'!F85=\"\",\"\",INDEX([1]COUNTY!$A$2:$A$80,MATCH('RWIS (Desc)'!F85,[1]!MASTER_COUNTY_NAME[#Data],0),0))","v":""},{"$f":"IF('RWIS (Desc)'!G85=\"\",\"\",'RWIS (Desc)'!G85)","v":""},{"$f":"IF('RWIS (Desc)'!H85=\"\",\"\",'RWIS (Desc)'!H85)","v":""}]
[{"$f":"IF('RWIS (Desc)'!A86=\"\",\"\",'RWIS (Desc)'!A86)","v":""},{"$f":"IF('RWIS (Desc)'!B86=\"\",\"\",'RWIS (Desc)'!B86)","v":""},{"$f":"IF('RWIS (Desc)'!C86=\"\",\"\",'RWIS (Desc)'!C86)","v":""},{"$f":"IF('RWIS (Desc)'!D86=\"\",\"\",'RWIS (Desc)'!D86)","v":""},{"$f":"IF('RWIS (Desc)'!E86=\"\",\"\",INDEX([1]OWNER!$A$2:$A$100,MATCH('RWIS (Desc)'!$E86,[1]!MASTER_OWNER_DESC[#Data],0),0))","v":""},{"$f":"IF('RWIS (Desc)'!F86=\"\",\"\",INDEX([1]COUNTY!$A$2:$A$80,MATCH('RWIS (Desc)'!F86,[1]!MASTER_COUNTY_NAME[#Data],0),0))","v":""},{"$f":"IF('RWIS (Desc)'!G86=\"\",\"\",'RWIS (Desc)'!G86)","v":""},{"$f":"IF('RWIS (Desc)'!H86=\"\",\"\",'RWIS (Desc)'!H86)","v":""}]
[{"$f":"IF('RWIS (Desc)'!A87=\"\",\"\",'RWIS (Desc)'!A87)","v":""},{"$f":"IF('RWIS (Desc)'!B87=\"\",\"\",'RWIS (Desc)'!B87)","v":""},{"$f":"IF('RWIS (Desc)'!C87=\"\",\"\",'RWIS (Desc)'!C87)","v":""},{"$f":"IF('RWIS (Desc)'!D87=\"\",\"\",'RWIS (Desc)'!D87)","v":""},{"$f":"IF('RWIS (Desc)'!E87=\"\",\"\",INDEX([1]OWNER!$A$2:$A$100,MATCH('RWIS (Desc)'!$E87,[1]!MASTER_OWNER_DESC[#Data],0),0))","v":""},{"$f":"IF('RWIS (Desc)'!F87=\"\",\"\",INDEX([1]COUNTY!$A$2:$A$80,MATCH('RWIS (Desc)'!F87,[1]!MASTER_COUNTY_NAME[#Data],0),0))","v":""},{"$f":"IF('RWIS (Desc)'!G87=\"\",\"\",'RWIS (Desc)'!G87)","v":""},{"$f":"IF('RWIS (Desc)'!H87=\"\",\"\",'RWIS (Desc)'!H87)","v":""}]
[{"$f":"IF('RWIS (Desc)'!A88=\"\",\"\",'RWIS (Desc)'!A88)","v":""},{"$f":"IF('RWIS (Desc)'!B88=\"\",\"\",'RWIS (Desc)'!B88)","v":""},{"$f":"IF('RWIS (Desc)'!C88=\"\",\"\",'RWIS (Desc)'!C88)","v":""},{"$f":"IF('RWIS (Desc)'!D88=\"\",\"\",'RWIS (Desc)'!D88)","v":""},{"$f":"IF('RWIS (Desc)'!E88=\"\",\"\",INDEX([1]OWNER!$A$2:$A$100,MATCH('RWIS (Desc)'!$E88,[1]!MASTER_OWNER_DESC[#Data],0),0))","v":""},{"$f":"IF('RWIS (Desc)'!F88=\"\",\"\",INDEX([1]COUNTY!$A$2:$A$80,MATCH('RWIS (Desc)'!F88,[1]!MASTER_COUNTY_NAME[#Data],0),0))","v":""},{"$f":"IF('RWIS (Desc)'!G88=\"\",\"\",'RWIS (Desc)'!G88)","v":""},{"$f":"IF('RWIS (Desc)'!H88=\"\",\"\",'RWIS (Desc)'!H88)","v":""}]
[{"$f":"IF('RWIS (Desc)'!A89=\"\",\"\",'RWIS (Desc)'!A89)","v":""},{"$f":"IF('RWIS (Desc)'!B89=\"\",\"\",'RWIS (Desc)'!B89)","v":""},{"$f":"IF('RWIS (Desc)'!C89=\"\",\"\",'RWIS (Desc)'!C89)","v":""},{"$f":"IF('RWIS (Desc)'!D89=\"\",\"\",'RWIS (Desc)'!D89)","v":""},{"$f":"IF('RWIS (Desc)'!E89=\"\",\"\",INDEX([1]OWNER!$A$2:$A$100,MATCH('RWIS (Desc)'!$E89,[1]!MASTER_OWNER_DESC[#Data],0),0))","v":""},{"$f":"IF('RWIS (Desc)'!F89=\"\",\"\",INDEX([1]COUNTY!$A$2:$A$80,MATCH('RWIS (Desc)'!F89,[1]!MASTER_COUNTY_NAME[#Data],0),0))","v":""},{"$f":"IF('RWIS (Desc)'!G89=\"\",\"\",'RWIS (Desc)'!G89)","v":""},{"$f":"IF('RWIS (Desc)'!H89=\"\",\"\",'RWIS (Desc)'!H89)","v":""}]
[{"$f":"IF('RWIS (Desc)'!A90=\"\",\"\",'RWIS (Desc)'!A90)","v":""},{"$f":"IF('RWIS (Desc)'!B90=\"\",\"\",'RWIS (Desc)'!B90)","v":""},{"$f":"IF('RWIS (Desc)'!C90=\"\",\"\",'RWIS (Desc)'!C90)","v":""},{"$f":"IF('RWIS (Desc)'!D90=\"\",\"\",'RWIS (Desc)'!D90)","v":""},{"$f":"IF('RWIS (Desc)'!E90=\"\",\"\",INDEX([1]OWNER!$A$2:$A$100,MATCH('RWIS (Desc)'!$E90,[1]!MASTER_OWNER_DESC[#Data],0),0))","v":""},{"$f":"IF('RWIS (Desc)'!F90=\"\",\"\",INDEX([1]COUNTY!$A$2:$A$80,MATCH('RWIS (Desc)'!F90,[1]!MASTER_COUNTY_NAME[#Data],0),0))","v":""},{"$f":"IF('RWIS (Desc)'!G90=\"\",\"\",'RWIS (Desc)'!G90)","v":""},{"$f":"IF('RWIS (Desc)'!H90=\"\",\"\",'RWIS (Desc)'!H90)","v":""}]
[{"$f":"IF('RWIS (Desc)'!A91=\"\",\"\",'RWIS (Desc)'!A91)","v":""},{"$f":"IF('RWIS (Desc)'!B91=\"\",\"\",'RWIS (Desc)'!B91)","v":""},{"$f":"IF('RWIS (Desc)'!C91=\"\",\"\",'RWIS (Desc)'!C91)","v":""},{"$f":"IF('RWIS (Desc)'!D91=\"\",\"\",'RWIS (Desc)'!D91)","v":""},{"$f":"IF('RWIS (Desc)'!E91=\"\",\"\",INDEX([1]OWNER!$A$2:$A$100,MATCH('RWIS (Desc)'!$E91,[1]!MASTER_OWNER_DESC[#Data],0),0))","v":""},{"$f":"IF('RWIS (Desc)'!F91=\"\",\"\",INDEX([1]COUNTY!$A$2:$A$80,MATCH('RWIS (Desc)'!F91,[1]!MASTER_COUNTY_NAME[#Data],0),0))","v":""},{"$f":"IF('RWIS (Desc)'!G91=\"\",\"\",'RWIS (Desc)'!G91)","v":""},{"$f":"IF('RWIS (Desc)'!H91=\"\",\"\",'RWIS (Desc)'!H91)","v":""}]
[{"$f":"IF('RWIS (Desc)'!A92=\"\",\"\",'RWIS (Desc)'!A92)","v":""},{"$f":"IF('RWIS (Desc)'!B92=\"\",\"\",'RWIS (Desc)'!B92)","v":""},{"$f":"IF('RWIS (Desc)'!C92=\"\",\"\",'RWIS (Desc)'!C92)","v":""},{"$f":"IF('RWIS (Desc)'!D92=\"\",\"\",'RWIS (Desc)'!D92)","v":""},{"$f":"IF('RWIS (Desc)'!E92=\"\",\"\",INDEX([1]OWNER!$A$2:$A$100,MATCH('RWIS (Desc)'!$E92,[1]!MASTER_OWNER_DESC[#Data],0),0))","v":""},{"$f":"IF('RWIS (Desc)'!F92=\"\",\"\",INDEX([1]COUNTY!$A$2:$A$80,MATCH('RWIS (Desc)'!F92,[1]!MASTER_COUNTY_NAME[#Data],0),0))","v":""},{"$f":"IF('RWIS (Desc)'!G92=\"\",\"\",'RWIS (Desc)'!G92)","v":""},{"$f":"IF('RWIS (Desc)'!H92=\"\",\"\",'RWIS (Desc)'!H92)","v":""}]
[{"$f":"IF('RWIS (Desc)'!A93=\"\",\"\",'RWIS (Desc)'!A93)","v":""},{"$f":"IF('RWIS (Desc)'!B93=\"\",\"\",'RWIS (Desc)'!B93)","v":""},{"$f":"IF('RWIS (Desc)'!C93=\"\",\"\",'RWIS (Desc)'!C93)","v":""},{"$f":"IF('RWIS (Desc)'!D93=\"\",\"\",'RWIS (Desc)'!D93)","v":""},{"$f":"IF('RWIS (Desc)'!E93=\"\",\"\",INDEX([1]OWNER!$A$2:$A$100,MATCH('RWIS (Desc)'!$E93,[1]!MASTER_OWNER_DESC[#Data],0),0))","v":""},{"$f":"IF('RWIS (Desc)'!F93=\"\",\"\",INDEX([1]COUNTY!$A$2:$A$80,MATCH('RWIS (Desc)'!F93,[1]!MASTER_COUNTY_NAME[#Data],0),0))","v":""},{"$f":"IF('RWIS (Desc)'!G93=\"\",\"\",'RWIS (Desc)'!G93)","v":""},{"$f":"IF('RWIS (Desc)'!H93=\"\",\"\",'RWIS (Desc)'!H93)","v":""}]
[{"$f":"IF('RWIS (Desc)'!A94=\"\",\"\",'RWIS (Desc)'!A94)","v":""},{"$f":"IF('RWIS (Desc)'!B94=\"\",\"\",'RWIS (Desc)'!B94)","v":""},{"$f":"IF('RWIS (Desc)'!C94=\"\",\"\",'RWIS (Desc)'!C94)","v":""},{"$f":"IF('RWIS (Desc)'!D94=\"\",\"\",'RWIS (Desc)'!D94)","v":""},{"$f":"IF('RWIS (Desc)'!E94=\"\",\"\",INDEX([1]OWNER!$A$2:$A$100,MATCH('RWIS (Desc)'!$E94,[1]!MASTER_OWNER_DESC[#Data],0),0))","v":""},{"$f":"IF('RWIS (Desc)'!F94=\"\",\"\",INDEX([1]COUNTY!$A$2:$A$80,MATCH('RWIS (Desc)'!F94,[1]!MASTER_COUNTY_NAME[#Data],0),0))","v":""},{"$f":"IF('RWIS (Desc)'!G94=\"\",\"\",'RWIS (Desc)'!G94)","v":""},{"$f":"IF('RWIS (Desc)'!H94=\"\",\"\",'RWIS (Desc)'!H94)","v":""}]
[{"$f":"IF('RWIS (Desc)'!A95=\"\",\"\",'RWIS (Desc)'!A95)","v":""},{"$f":"IF('RWIS (Desc)'!B95=\"\",\"\",'RWIS (Desc)'!B95)","v":""},{"$f":"IF('RWIS (Desc)'!C95=\"\",\"\",'RWIS (Desc)'!C95)","v":""},{"$f":"IF('RWIS (Desc)'!D95=\"\",\"\",'RWIS (Desc)'!D95)","v":""},{"$f":"IF('RWIS (Desc)'!E95=\"\",\"\",INDEX([1]OWNER!$A$2:$A$100,MATCH('RWIS (Desc)'!$E95,[1]!MASTER_OWNER_DESC[#Data],0),0))","v":""},{"$f":"IF('RWIS (Desc)'!F95=\"\",\"\",INDEX([1]COUNTY!$A$2:$A$80,MATCH('RWIS (Desc)'!F95,[1]!MASTER_COUNTY_NAME[#Data],0),0))","v":""},{"$f":"IF('RWIS (Desc)'!G95=\"\",\"\",'RWIS (Desc)'!G95)","v":""},{"$f":"IF('RWIS (Desc)'!H95=\"\",\"\",'RWIS (Desc)'!H95)","v":""}]
[{"$f":"IF('RWIS (Desc)'!A96=\"\",\"\",'RWIS (Desc)'!A96)","v":""},{"$f":"IF('RWIS (Desc)'!B96=\"\",\"\",'RWIS (Desc)'!B96)","v":""},{"$f":"IF('RWIS (Desc)'!C96=\"\",\"\",'RWIS (Desc)'!C96)","v":""},{"$f":"IF('RWIS (Desc)'!D96=\"\",\"\",'RWIS (Desc)'!D96)","v":""},{"$f":"IF('RWIS (Desc)'!E96=\"\",\"\",INDEX([1]OWNER!$A$2:$A$100,MATCH('RWIS (Desc)'!$E96,[1]!MASTER_OWNER_DESC[#Data],0),0))","v":""},{"$f":"IF('RWIS (Desc)'!F96=\"\",\"\",INDEX([1]COUNTY!$A$2:$A$80,MATCH('RWIS (Desc)'!F96,[1]!MASTER_COUNTY_NAME[#Data],0),0))","v":""},{"$f":"IF('RWIS (Desc)'!G96=\"\",\"\",'RWIS (Desc)'!G96)","v":""},{"$f":"IF('RWIS (Desc)'!H96=\"\",\"\",'RWIS (Desc)'!H96)","v":""}]
[{"$f":"IF('RWIS (Desc)'!A97=\"\",\"\",'RWIS (Desc)'!A97)","v":""},{"$f":"IF('RWIS (Desc)'!B97=\"\",\"\",'RWIS (Desc)'!B97)","v":""},{"$f":"IF('RWIS (Desc)'!C97=\"\",\"\",'RWIS (Desc)'!C97)","v":""},{"$f":"IF('RWIS (Desc)'!D97=\"\",\"\",'RWIS (Desc)'!D97)","v":""},{"$f":"IF('RWIS (Desc)'!E97=\"\",\"\",INDEX([1]OWNER!$A$2:$A$100,MATCH('RWIS (Desc)'!$E97,[1]!MASTER_OWNER_DESC[#Data],0),0))","v":""},{"$f":"IF('RWIS (Desc)'!F97=\"\",\"\",INDEX([1]COUNTY!$A$2:$A$80,MATCH('RWIS (Desc)'!F97,[1]!MASTER_COUNTY_NAME[#Data],0),0))","v":""},{"$f":"IF('RWIS (Desc)'!G97=\"\",\"\",'RWIS (Desc)'!G97)","v":""},{"$f":"IF('RWIS (Desc)'!H97=\"\",\"\",'RWIS (Desc)'!H97)","v":""}]
[{"$f":"IF('RWIS (Desc)'!A98=\"\",\"\",'RWIS (Desc)'!A98)","v":""},{"$f":"IF('RWIS (Desc)'!B98=\"\",\"\",'RWIS (Desc)'!B98)","v":""},{"$f":"IF('RWIS (Desc)'!C98=\"\",\"\",'RWIS (Desc)'!C98)","v":""},{"$f":"IF('RWIS (Desc)'!D98=\"\",\"\",'RWIS (Desc)'!D98)","v":""},{"$f":"IF('RWIS (Desc)'!E98=\"\",\"\",INDEX([1]OWNER!$A$2:$A$100,MATCH('RWIS (Desc)'!$E98,[1]!MASTER_OWNER_DESC[#Data],0),0))","v":""},{"$f":"IF('RWIS (Desc)'!F98=\"\",\"\",INDEX([1]COUNTY!$A$2:$A$80,MATCH('RWIS (Desc)'!F98,[1]!MASTER_COUNTY_NAME[#Data],0),0))","v":""},{"$f":"IF('RWIS (Desc)'!G98=\"\",\"\",'RWIS (Desc)'!G98)","v":""},{"$f":"IF('RWIS (Desc)'!H98=\"\",\"\",'RWIS (Desc)'!H98)","v":""}]
[{"$f":"IF('RWIS (Desc)'!A99=\"\",\"\",'RWIS (Desc)'!A99)","v":""},{"$f":"IF('RWIS (Desc)'!B99=\"\",\"\",'RWIS (Desc)'!B99)","v":""},{"$f":"IF('RWIS (Desc)'!C99=\"\",\"\",'RWIS (Desc)'!C99)","v":""},{"$f":"IF('RWIS (Desc)'!D99=\"\",\"\",'RWIS (Desc)'!D99)","v":""},{"$f":"IF('RWIS (Desc)'!E99=\"\",\"\",INDEX([1]OWNER!$A$2:$A$100,MATCH('RWIS (Desc)'!$E99,[1]!MASTER_OWNER_DESC[#Data],0),0))","v":""},{"$f":"IF('RWIS (Desc)'!F99=\"\",\"\",INDEX([1]COUNTY!$A$2:$A$80,MATCH('RWIS (Desc)'!F99,[1]!MASTER_COUNTY_NAME[#Data],0),0))","v":""},{"$f":"IF('RWIS (Desc)'!G99=\"\",\"\",'RWIS (Desc)'!G99)","v":""},{"$f":"IF('RWIS (Desc)'!H99=\"\",\"\",'RWIS (Desc)'!H99)","v":""}]
[{"$f":"IF('RWIS (Desc)'!A100=\"\",\"\",'RWIS (Desc)'!A100)","v":""},{"$f":"IF('RWIS (Desc)'!B100=\"\",\"\",'RWIS (Desc)'!B100)","v":""},{"$f":"IF('RWIS (Desc)'!C100=\"\",\"\",'RWIS (Desc)'!C100)","v":""},{"$f":"IF('RWIS (Desc)'!D100=\"\",\"\",'RWIS (Desc)'!D100)","v":""},{"$f":"IF('RWIS (Desc)'!E100=\"\",\"\",INDEX([1]OWNER!$A$2:$A$100,MATCH('RWIS (Desc)'!$E100,[1]!MASTER_OWNER_DESC[#Data],0),0))","v":""},{"$f":"IF('RWIS (Desc)'!F100=\"\",\"\",INDEX([1]COUNTY!$A$2:$A$80,MATCH('RWIS (Desc)'!F100,[1]!MASTER_COUNTY_NAME[#Data],0),0))","v":""},{"$f":"IF('RWIS (Desc)'!G100=\"\",\"\",'RWIS (Desc)'!G100)","v":""},{"$f":"IF('RWIS (Desc)'!H100=\"\",\"\",'RWIS (Desc)'!H100)","v":""}]
[{"$f":"IF('RWIS (Desc)'!A101=\"\",\"\",'RWIS (Desc)'!A101)","v":""},{"$f":"IF('RWIS (Desc)'!B101=\"\",\"\",'RWIS (Desc)'!B101)","v":""},{"$f":"IF('RWIS (Desc)'!C101=\"\",\"\",'RWIS (Desc)'!C101)","v":""},{"$f":"IF('RWIS (Desc)'!D101=\"\",\"\",'RWIS (Desc)'!D101)","v":""},{"$f":"IF('RWIS (Desc)'!E101=\"\",\"\",INDEX([1]OWNER!$A$2:$A$100,MATCH('RWIS (Desc)'!$E101,[1]!MASTER_OWNER_DESC[#Data],0),0))","v":""},{"$f":"IF('RWIS (Desc)'!F101=\"\",\"\",INDEX([1]COUNTY!$A$2:$A$80,MATCH('RWIS (Desc)'!F101,[1]!MASTER_COUNTY_NAME[#Data],0),0))","v":""},{"$f":"IF('RWIS (Desc)'!G101=\"\",\"\",'RWIS (Desc)'!G101)","v":""},{"$f":"IF('RWIS (Desc)'!H101=\"\",\"\",'RWIS (Desc)'!H101)","v":""}]
[{"$f":"IF('RWIS (Desc)'!A102=\"\",\"\",'RWIS (Desc)'!A102)","v":""},{"$f":"IF('RWIS (Desc)'!B102=\"\",\"\",'RWIS (Desc)'!B102)","v":""},{"$f":"IF('RWIS (Desc)'!C102=\"\",\"\",'RWIS (Desc)'!C102)","v":""},{"$f":"IF('RWIS (Desc)'!D102=\"\",\"\",'RWIS (Desc)'!D102)","v":""},{"$f":"IF('RWIS (Desc)'!E102=\"\",\"\",INDEX([1]OWNER!$A$2:$A$100,MATCH('RWIS (Desc)'!$E102,[1]!MASTER_OWNER_DESC[#Data],0),0))","v":""},{"$f":"IF('RWIS (Desc)'!F102=\"\",\"\",INDEX([1]COUNTY!$A$2:$A$80,MATCH('RWIS (Desc)'!F102,[1]!MASTER_COUNTY_NAME[#Data],0),0))","v":""},{"$f":"IF('RWIS (Desc)'!G102=\"\",\"\",'RWIS (Desc)'!G102)","v":""},{"$f":"IF('RWIS (Desc)'!H102=\"\",\"\",'RWIS (Desc)'!H102)","v":""}]
[{"$f":"IF('RWIS (Desc)'!A103=\"\",\"\",'RWIS (Desc)'!A103)","v":""},{"$f":"IF('RWIS (Desc)'!B103=\"\",\"\",'RWIS (Desc)'!B103)","v":""},{"$f":"IF('RWIS (Desc)'!C103=\"\",\"\",'RWIS (Desc)'!C103)","v":""},{"$f":"IF('RWIS (Desc)'!D103=\"\",\"\",'RWIS (Desc)'!D103)","v":""},{"$f":"IF('RWIS (Desc)'!E103=\"\",\"\",INDEX([1]OWNER!$A$2:$A$100,MATCH('RWIS (Desc)'!$E103,[1]!MASTER_OWNER_DESC[#Data],0),0))","v":""},{"$f":"IF('RWIS (Desc)'!F103=\"\",\"\",INDEX([1]COUNTY!$A$2:$A$80,MATCH('RWIS (Desc)'!F103,[1]!MASTER_COUNTY_NAME[#Data],0),0))","v":""},{"$f":"IF('RWIS (Desc)'!G103=\"\",\"\",'RWIS (Desc)'!G103)","v":""},{"$f":"IF('RWIS (Desc)'!H103=\"\",\"\",'RWIS (Desc)'!H103)","v":""}]
[{"$f":"IF('RWIS (Desc)'!A104=\"\",\"\",'RWIS (Desc)'!A104)","v":""},{"$f":"IF('RWIS (Desc)'!B104=\"\",\"\",'RWIS (Desc)'!B104)","v":""},{"$f":"IF('RWIS (Desc)'!C104=\"\",\"\",'RWIS (Desc)'!C104)","v":""},{"$f":"IF('RWIS (Desc)'!D104=\"\",\"\",'RWIS (Desc)'!D104)","v":""},{"$f":"IF('RWIS (Desc)'!E104=\"\",\"\",INDEX([1]OWNER!$A$2:$A$100,MATCH('RWIS (Desc)'!$E104,[1]!MASTER_OWNER_DESC[#Data],0),0))","v":""},{"$f":"IF('RWIS (Desc)'!F104=\"\",\"\",INDEX([1]COUNTY!$A$2:$A$80,MATCH('RWIS (Desc)'!F104,[1]!MASTER_COUNTY_NAME[#Data],0),0))","v":""},{"$f":"IF('RWIS (Desc)'!G104=\"\",\"\",'RWIS (Desc)'!G104)","v":""},{"$f":"IF('RWIS (Desc)'!H104=\"\",\"\",'RWIS (Desc)'!H104)","v":""}]
[{"$f":"IF('RWIS (Desc)'!A105=\"\",\"\",'RWIS (Desc)'!A105)","v":""},{"$f":"IF('RWIS (Desc)'!B105=\"\",\"\",'RWIS (Desc)'!B105)","v":""},{"$f":"IF('RWIS (Desc)'!C105=\"\",\"\",'RWIS (Desc)'!C105)","v":""},{"$f":"IF('RWIS (Desc)'!D105=\"\",\"\",'RWIS (Desc)'!D105)","v":""},{"$f":"IF('RWIS (Desc)'!E105=\"\",\"\",INDEX([1]OWNER!$A$2:$A$100,MATCH('RWIS (Desc)'!$E105,[1]!MASTER_OWNER_DESC[#Data],0),0))","v":""},{"$f":"IF('RWIS (Desc)'!F105=\"\",\"\",INDEX([1]COUNTY!$A$2:$A$80,MATCH('RWIS (Desc)'!F105,[1]!MASTER_COUNTY_NAME[#Data],0),0))","v":""},{"$f":"IF('RWIS (Desc)'!G105=\"\",\"\",'RWIS (Desc)'!G105)","v":""},{"$f":"IF('RWIS (Desc)'!H105=\"\",\"\",'RWIS (Desc)'!H105)","v":""}]
[{"$f":"IF('RWIS (Desc)'!A106=\"\",\"\",'RWIS (Desc)'!A106)","v":""},{"$f":"IF('RWIS (Desc)'!B106=\"\",\"\",'RWIS (Desc)'!B106)","v":""},{"$f":"IF('RWIS (Desc)'!C106=\"\",\"\",'RWIS (Desc)'!C106)","v":""},{"$f":"IF('RWIS (Desc)'!D106=\"\",\"\",'RWIS (Desc)'!D106)","v":""},{"$f":"IF('RWIS (Desc)'!E106=\"\",\"\",INDEX([1]OWNER!$A$2:$A$100,MATCH('RWIS (Desc)'!$E106,[1]!MASTER_OWNER_DESC[#Data],0),0))","v":""},{"$f":"IF('RWIS (Desc)'!F106=\"\",\"\",INDEX([1]COUNTY!$A$2:$A$80,MATCH('RWIS (Desc)'!F106,[1]!MASTER_COUNTY_NAME[#Data],0),0))","v":""},{"$f":"IF('RWIS (Desc)'!G106=\"\",\"\",'RWIS (Desc)'!G106)","v":""},{"$f":"IF('RWIS (Desc)'!H106=\"\",\"\",'RWIS (Desc)'!H106)","v":""}]
[{"$f":"IF('RWIS (Desc)'!A107=\"\",\"\",'RWIS (Desc)'!A107)","v":""},{"$f":"IF('RWIS (Desc)'!B107=\"\",\"\",'RWIS (Desc)'!B107)","v":""},{"$f":"IF('RWIS (Desc)'!C107=\"\",\"\",'RWIS (Desc)'!C107)","v":""},{"$f":"IF('RWIS (Desc)'!D107=\"\",\"\",'RWIS (Desc)'!D107)","v":""},{"$f":"IF('RWIS (Desc)'!E107=\"\",\"\",INDEX([1]OWNER!$A$2:$A$100,MATCH('RWIS (Desc)'!$E107,[1]!MASTER_OWNER_DESC[#Data],0),0))","v":""},{"$f":"IF('RWIS (Desc)'!F107=\"\",\"\",INDEX([1]COUNTY!$A$2:$A$80,MATCH('RWIS (Desc)'!F107,[1]!MASTER_COUNTY_NAME[#Data],0),0))","v":""},{"$f":"IF('RWIS (Desc)'!G107=\"\",\"\",'RWIS (Desc)'!G107)","v":""},{"$f":"IF('RWIS (Desc)'!H107=\"\",\"\",'RWIS (Desc)'!H107)","v":""}]
[{"$f":"IF('RWIS (Desc)'!A108=\"\",\"\",'RWIS (Desc)'!A108)","v":""},{"$f":"IF('RWIS (Desc)'!B108=\"\",\"\",'RWIS (Desc)'!B108)","v":""},{"$f":"IF('RWIS (Desc)'!C108=\"\",\"\",'RWIS (Desc)'!C108)","v":""},{"$f":"IF('RWIS (Desc)'!D108=\"\",\"\",'RWIS (Desc)'!D108)","v":""},{"$f":"IF('RWIS (Desc)'!E108=\"\",\"\",INDEX([1]OWNER!$A$2:$A$100,MATCH('RWIS (Desc)'!$E108,[1]!MASTER_OWNER_DESC[#Data],0),0))","v":""},{"$f":"IF('RWIS (Desc)'!F108=\"\",\"\",INDEX([1]COUNTY!$A$2:$A$80,MATCH('RWIS (Desc)'!F108,[1]!MASTER_COUNTY_NAME[#Data],0),0))","v":""},{"$f":"IF('RWIS (Desc)'!G108=\"\",\"\",'RWIS (Desc)'!G108)","v":""},{"$f":"IF('RWIS (Desc)'!H108=\"\",\"\",'RWIS (Desc)'!H108)","v":""}]
[{"$f":"IF('RWIS (Desc)'!A109=\"\",\"\",'RWIS (Desc)'!A109)","v":""},{"$f":"IF('RWIS (Desc)'!B109=\"\",\"\",'RWIS (Desc)'!B109)","v":""},{"$f":"IF('RWIS (Desc)'!C109=\"\",\"\",'RWIS (Desc)'!C109)","v":""},{"$f":"IF('RWIS (Desc)'!D109=\"\",\"\",'RWIS (Desc)'!D109)","v":""},{"$f":"IF('RWIS (Desc)'!E109=\"\",\"\",INDEX([1]OWNER!$A$2:$A$100,MATCH('RWIS (Desc)'!$E109,[1]!MASTER_OWNER_DESC[#Data],0),0))","v":""},{"$f":"IF('RWIS (Desc)'!F109=\"\",\"\",INDEX([1]COUNTY!$A$2:$A$80,MATCH('RWIS (Desc)'!F109,[1]!MASTER_COUNTY_NAME[#Data],0),0))","v":""},{"$f":"IF('RWIS (Desc)'!G109=\"\",\"\",'RWIS (Desc)'!G109)","v":""},{"$f":"IF('RWIS (Desc)'!H109=\"\",\"\",'RWIS (Desc)'!H109)","v":""}]
[{"$f":"IF('RWIS (Desc)'!A110=\"\",\"\",'RWIS (Desc)'!A110)","v":""},{"$f":"IF('RWIS (Desc)'!B110=\"\",\"\",'RWIS (Desc)'!B110)","v":""},{"$f":"IF('RWIS (Desc)'!C110=\"\",\"\",'RWIS (Desc)'!C110)","v":""},{"$f":"IF('RWIS (Desc)'!D110=\"\",\"\",'RWIS (Desc)'!D110)","v":""},{"$f":"IF('RWIS (Desc)'!E110=\"\",\"\",INDEX([1]OWNER!$A$2:$A$100,MATCH('RWIS (Desc)'!$E110,[1]!MASTER_OWNER_DESC[#Data],0),0))","v":""},{"$f":"IF('RWIS (Desc)'!F110=\"\",\"\",INDEX([1]COUNTY!$A$2:$A$80,MATCH('RWIS (Desc)'!F110,[1]!MASTER_COUNTY_NAME[#Data],0),0))","v":""},{"$f":"IF('RWIS (Desc)'!G110=\"\",\"\",'RWIS (Desc)'!G110)","v":""},{"$f":"IF('RWIS (Desc)'!H110=\"\",\"\",'RWIS (Desc)'!H110)","v":""}]
[{"$f":"IF('RWIS (Desc)'!A111=\"\",\"\",'RWIS (Desc)'!A111)","v":""},{"$f":"IF('RWIS (Desc)'!B111=\"\",\"\",'RWIS (Desc)'!B111)","v":""},{"$f":"IF('RWIS (Desc)'!C111=\"\",\"\",'RWIS (Desc)'!C111)","v":""},{"$f":"IF('RWIS (Desc)'!D111=\"\",\"\",'RWIS (Desc)'!D111)","v":""},{"$f":"IF('RWIS (Desc)'!E111=\"\",\"\",INDEX([1]OWNER!$A$2:$A$100,MATCH('RWIS (Desc)'!$E111,[1]!MASTER_OWNER_DESC[#Data],0),0))","v":""},{"$f":"IF('RWIS (Desc)'!F111=\"\",\"\",INDEX([1]COUNTY!$A$2:$A$80,MATCH('RWIS (Desc)'!F111,[1]!MASTER_COUNTY_NAME[#Data],0),0))","v":""},{"$f":"IF('RWIS (Desc)'!G111=\"\",\"\",'RWIS (Desc)'!G111)","v":""},{"$f":"IF('RWIS (Desc)'!H111=\"\",\"\",'RWIS (Desc)'!H111)","v":""}]
[{"$f":"IF('RWIS (Desc)'!A112=\"\",\"\",'RWIS (Desc)'!A112)","v":""},{"$f":"IF('RWIS (Desc)'!B112=\"\",\"\",'RWIS (Desc)'!B112)","v":""},{"$f":"IF('RWIS (Desc)'!C112=\"\",\"\",'RWIS (Desc)'!C112)","v":""},{"$f":"IF('RWIS (Desc)'!D112=\"\",\"\",'RWIS (Desc)'!D112)","v":""},{"$f":"IF('RWIS (Desc)'!E112=\"\",\"\",INDEX([1]OWNER!$A$2:$A$100,MATCH('RWIS (Desc)'!$E112,[1]!MASTER_OWNER_DESC[#Data],0),0))","v":""},{"$f":"IF('RWIS (Desc)'!F112=\"\",\"\",INDEX([1]COUNTY!$A$2:$A$80,MATCH('RWIS (Desc)'!F112,[1]!MASTER_COUNTY_NAME[#Data],0),0))","v":""},{"$f":"IF('RWIS (Desc)'!G112=\"\",\"\",'RWIS (Desc)'!G112)","v":""},{"$f":"IF('RWIS (Desc)'!H112=\"\",\"\",'RWIS (Desc)'!H112)","v":""}]
[{"$f":"IF('RWIS (Desc)'!A113=\"\",\"\",'RWIS (Desc)'!A113)","v":""},{"$f":"IF('RWIS (Desc)'!B113=\"\",\"\",'RWIS (Desc)'!B113)","v":""},{"$f":"IF('RWIS (Desc)'!C113=\"\",\"\",'RWIS (Desc)'!C113)","v":""},{"$f":"IF('RWIS (Desc)'!D113=\"\",\"\",'RWIS (Desc)'!D113)","v":""},{"$f":"IF('RWIS (Desc)'!E113=\"\",\"\",INDEX([1]OWNER!$A$2:$A$100,MATCH('RWIS (Desc)'!$E113,[1]!MASTER_OWNER_DESC[#Data],0),0))","v":""},{"$f":"IF('RWIS (Desc)'!F113=\"\",\"\",INDEX([1]COUNTY!$A$2:$A$80,MATCH('RWIS (Desc)'!F113,[1]!MASTER_COUNTY_NAME[#Data],0),0))","v":""},{"$f":"IF('RWIS (Desc)'!G113=\"\",\"\",'RWIS (Desc)'!G113)","v":""},{"$f":"IF('RWIS (Desc)'!H113=\"\",\"\",'RWIS (Desc)'!H113)","v":""}]
[{"$f":"IF('RWIS (Desc)'!A114=\"\",\"\",'RWIS (Desc)'!A114)","v":""},{"$f":"IF('RWIS (Desc)'!B114=\"\",\"\",'RWIS (Desc)'!B114)","v":""},{"$f":"IF('RWIS (Desc)'!C114=\"\",\"\",'RWIS (Desc)'!C114)","v":""},{"$f":"IF('RWIS (Desc)'!D114=\"\",\"\",'RWIS (Desc)'!D114)","v":""},{"$f":"IF('RWIS (Desc)'!E114=\"\",\"\",INDEX([1]OWNER!$A$2:$A$100,MATCH('RWIS (Desc)'!$E114,[1]!MASTER_OWNER_DESC[#Data],0),0))","v":""},{"$f":"IF('RWIS (Desc)'!F114=\"\",\"\",INDEX([1]COUNTY!$A$2:$A$80,MATCH('RWIS (Desc)'!F114,[1]!MASTER_COUNTY_NAME[#Data],0),0))","v":""},{"$f":"IF('RWIS (Desc)'!G114=\"\",\"\",'RWIS (Desc)'!G114)","v":""},{"$f":"IF('RWIS (Desc)'!H114=\"\",\"\",'RWIS (Desc)'!H114)","v":""}]
[{"$f":"IF('RWIS (Desc)'!A115=\"\",\"\",'RWIS (Desc)'!A115)","v":""},{"$f":"IF('RWIS (Desc)'!B115=\"\",\"\",'RWIS (Desc)'!B115)","v":""},{"$f":"IF('RWIS (Desc)'!C115=\"\",\"\",'RWIS (Desc)'!C115)","v":""},{"$f":"IF('RWIS (Desc)'!D115=\"\",\"\",'RWIS (Desc)'!D115)","v":""},{"$f":"IF('RWIS (Desc)'!E115=\"\",\"\",INDEX([1]OWNER!$A$2:$A$100,MATCH('RWIS (Desc)'!$E115,[1]!MASTER_OWNER_DESC[#Data],0),0))","v":""},{"$f":"IF('RWIS (Desc)'!F115=\"\",\"\",INDEX([1]COUNTY!$A$2:$A$80,MATCH('RWIS (Desc)'!F115,[1]!MASTER_COUNTY_NAME[#Data],0),0))","v":""},{"$f":"IF('RWIS (Desc)'!G115=\"\",\"\",'RWIS (Desc)'!G115)","v":""},{"$f":"IF('RWIS (Desc)'!H115=\"\",\"\",'RWIS (Desc)'!H115)","v":""}]
[{"$f":"IF('RWIS (Desc)'!A116=\"\",\"\",'RWIS (Desc)'!A116)","v":""},{"$f":"IF('RWIS (Desc)'!B116=\"\",\"\",'RWIS (Desc)'!B116)","v":""},{"$f":"IF('RWIS (Desc)'!C116=\"\",\"\",'RWIS (Desc)'!C116)","v":""},{"$f":"IF('RWIS (Desc)'!D116=\"\",\"\",'RWIS (Desc)'!D116)","v":""},{"$f":"IF('RWIS (Desc)'!E116=\"\",\"\",INDEX([1]OWNER!$A$2:$A$100,MATCH('RWIS (Desc)'!$E116,[1]!MASTER_OWNER_DESC[#Data],0),0))","v":""},{"$f":"IF('RWIS (Desc)'!F116=\"\",\"\",INDEX([1]COUNTY!$A$2:$A$80,MATCH('RWIS (Desc)'!F116,[1]!MASTER_COUNTY_NAME[#Data],0),0))","v":""},{"$f":"IF('RWIS (Desc)'!G116=\"\",\"\",'RWIS (Desc)'!G116)","v":""},{"$f":"IF('RWIS (Desc)'!H116=\"\",\"\",'RWIS (Desc)'!H116)","v":""}]
[{"$f":"IF('RWIS (Desc)'!A117=\"\",\"\",'RWIS (Desc)'!A117)","v":""},{"$f":"IF('RWIS (Desc)'!B117=\"\",\"\",'RWIS (Desc)'!B117)","v":""},{"$f":"IF('RWIS (Desc)'!C117=\"\",\"\",'RWIS (Desc)'!C117)","v":""},{"$f":"IF('RWIS (Desc)'!D117=\"\",\"\",'RWIS (Desc)'!D117)","v":""},{"$f":"IF('RWIS (Desc)'!E117=\"\",\"\",INDEX([1]OWNER!$A$2:$A$100,MATCH('RWIS (Desc)'!$E117,[1]!MASTER_OWNER_DESC[#Data],0),0))","v":""},{"$f":"IF('RWIS (Desc)'!F117=\"\",\"\",INDEX([1]COUNTY!$A$2:$A$80,MATCH('RWIS (Desc)'!F117,[1]!MASTER_COUNTY_NAME[#Data],0),0))","v":""},{"$f":"IF('RWIS (Desc)'!G117=\"\",\"\",'RWIS (Desc)'!G117)","v":""},{"$f":"IF('RWIS (Desc)'!H117=\"\",\"\",'RWIS (Desc)'!H117)","v":""}]
[{"$f":"IF('RWIS (Desc)'!A118=\"\",\"\",'RWIS (Desc)'!A118)","v":""},{"$f":"IF('RWIS (Desc)'!B118=\"\",\"\",'RWIS (Desc)'!B118)","v":""},{"$f":"IF('RWIS (Desc)'!C118=\"\",\"\",'RWIS (Desc)'!C118)","v":""},{"$f":"IF('RWIS (Desc)'!D118=\"\",\"\",'RWIS (Desc)'!D118)","v":""},{"$f":"IF('RWIS (Desc)'!E118=\"\",\"\",INDEX([1]OWNER!$A$2:$A$100,MATCH('RWIS (Desc)'!$E118,[1]!MASTER_OWNER_DESC[#Data],0),0))","v":""},{"$f":"IF('RWIS (Desc)'!F118=\"\",\"\",INDEX([1]COUNTY!$A$2:$A$80,MATCH('RWIS (Desc)'!F118,[1]!MASTER_COUNTY_NAME[#Data],0),0))","v":""},{"$f":"IF('RWIS (Desc)'!G118=\"\",\"\",'RWIS (Desc)'!G118)","v":""},{"$f":"IF('RWIS (Desc)'!H118=\"\",\"\",'RWIS (Desc)'!H118)","v":""}]
[{"$f":"IF('RWIS (Desc)'!A119=\"\",\"\",'RWIS (Desc)'!A119)","v":""},{"$f":"IF('RWIS (Desc)'!B119=\"\",\"\",'RWIS (Desc)'!B119)","v":""},{"$f":"IF('RWIS (Desc)'!C119=\"\",\"\",'RWIS (Desc)'!C119)","v":""},{"$f":"IF('RWIS (Desc)'!D119=\"\",\"\",'RWIS (Desc)'!D119)","v":""},{"$f":"IF('RWIS (Desc)'!E119=\"\",\"\",INDEX([1]OWNER!$A$2:$A$100,MATCH('RWIS (Desc)'!$E119,[1]!MASTER_OWNER_DESC[#Data],0),0))","v":""},{"$f":"IF('RWIS (Desc)'!F119=\"\",\"\",INDEX([1]COUNTY!$A$2:$A$80,MATCH('RWIS (Desc)'!F119,[1]!MASTER_COUNTY_NAME[#Data],0),0))","v":""},{"$f":"IF('RWIS (Desc)'!G119=\"\",\"\",'RWIS (Desc)'!G119)","v":""},{"$f":"IF('RWIS (Desc)'!H119=\"\",\"\",'RWIS (Desc)'!H119)","v":""}]
[{"$f":"IF('RWIS (Desc)'!A120=\"\",\"\",'RWIS (Desc)'!A120)","v":""},{"$f":"IF('RWIS (Desc)'!B120=\"\",\"\",'RWIS (Desc)'!B120)","v":""},{"$f":"IF('RWIS (Desc)'!C120=\"\",\"\",'RWIS (Desc)'!C120)","v":""},{"$f":"IF('RWIS (Desc)'!D120=\"\",\"\",'RWIS (Desc)'!D120)","v":""},{"$f":"IF('RWIS (Desc)'!E120=\"\",\"\",INDEX([1]OWNER!$A$2:$A$100,MATCH('RWIS (Desc)'!$E120,[1]!MASTER_OWNER_DESC[#Data],0),0))","v":""},{"$f":"IF('RWIS (Desc)'!F120=\"\",\"\",INDEX([1]COUNTY!$A$2:$A$80,MATCH('RWIS (Desc)'!F120,[1]!MASTER_COUNTY_NAME[#Data],0),0))","v":""},{"$f":"IF('RWIS (Desc)'!G120=\"\",\"\",'RWIS (Desc)'!G120)","v":""},{"$f":"IF('RWIS (Desc)'!H120=\"\",\"\",'RWIS (Desc)'!H120)","v":""}]
[{"$f":"IF('RWIS (Desc)'!A121=\"\",\"\",'RWIS (Desc)'!A121)","v":""},{"$f":"IF('RWIS (Desc)'!B121=\"\",\"\",'RWIS (Desc)'!B121)","v":""},{"$f":"IF('RWIS (Desc)'!C121=\"\",\"\",'RWIS (Desc)'!C121)","v":""},{"$f":"IF('RWIS (Desc)'!D121=\"\",\"\",'RWIS (Desc)'!D121)","v":""},{"$f":"IF('RWIS (Desc)'!E121=\"\",\"\",INDEX([1]OWNER!$A$2:$A$100,MATCH('RWIS (Desc)'!$E121,[1]!MASTER_OWNER_DESC[#Data],0),0))","v":""},{"$f":"IF('RWIS (Desc)'!F121=\"\",\"\",INDEX([1]COUNTY!$A$2:$A$80,MATCH('RWIS (Desc)'!F121,[1]!MASTER_COUNTY_NAME[#Data],0),0))","v":""},{"$f":"IF('RWIS (Desc)'!G121=\"\",\"\",'RWIS (Desc)'!G121)","v":""},{"$f":"IF('RWIS (Desc)'!H121=\"\",\"\",'RWIS (Desc)'!H121)","v":""}]
[{"$f":"IF('RWIS (Desc)'!A122=\"\",\"\",'RWIS (Desc)'!A122)","v":""},{"$f":"IF('RWIS (Desc)'!B122=\"\",\"\",'RWIS (Desc)'!B122)","v":""},{"$f":"IF('RWIS (Desc)'!C122=\"\",\"\",'RWIS (Desc)'!C122)","v":""},{"$f":"IF('RWIS (Desc)'!D122=\"\",\"\",'RWIS (Desc)'!D122)","v":""},{"$f":"IF('RWIS (Desc)'!E122=\"\",\"\",INDEX([1]OWNER!$A$2:$A$100,MATCH('RWIS (Desc)'!$E122,[1]!MASTER_OWNER_DESC[#Data],0),0))","v":""},{"$f":"IF('RWIS (Desc)'!F122=\"\",\"\",INDEX([1]COUNTY!$A$2:$A$80,MATCH('RWIS (Desc)'!F122,[1]!MASTER_COUNTY_NAME[#Data],0),0))","v":""},{"$f":"IF('RWIS (Desc)'!G122=\"\",\"\",'RWIS (Desc)'!G122)","v":""},{"$f":"IF('RWIS (Desc)'!H122=\"\",\"\",'RWIS (Desc)'!H122)","v":""}]
[{"$f":"IF('RWIS (Desc)'!A123=\"\",\"\",'RWIS (Desc)'!A123)","v":""},{"$f":"IF('RWIS (Desc)'!B123=\"\",\"\",'RWIS (Desc)'!B123)","v":""},{"$f":"IF('RWIS (Desc)'!C123=\"\",\"\",'RWIS (Desc)'!C123)","v":""},{"$f":"IF('RWIS (Desc)'!D123=\"\",\"\",'RWIS (Desc)'!D123)","v":""},{"$f":"IF('RWIS (Desc)'!E123=\"\",\"\",INDEX([1]OWNER!$A$2:$A$100,MATCH('RWIS (Desc)'!$E123,[1]!MASTER_OWNER_DESC[#Data],0),0))","v":""},{"$f":"IF('RWIS (Desc)'!F123=\"\",\"\",INDEX([1]COUNTY!$A$2:$A$80,MATCH('RWIS (Desc)'!F123,[1]!MASTER_COUNTY_NAME[#Data],0),0))","v":""},{"$f":"IF('RWIS (Desc)'!G123=\"\",\"\",'RWIS (Desc)'!G123)","v":""},{"$f":"IF('RWIS (Desc)'!H123=\"\",\"\",'RWIS (Desc)'!H123)","v":""}]
[{"$f":"IF('RWIS (Desc)'!A124=\"\",\"\",'RWIS (Desc)'!A124)","v":""},{"$f":"IF('RWIS (Desc)'!B124=\"\",\"\",'RWIS (Desc)'!B124)","v":""},{"$f":"IF('RWIS (Desc)'!C124=\"\",\"\",'RWIS (Desc)'!C124)","v":""},{"$f":"IF('RWIS (Desc)'!D124=\"\",\"\",'RWIS (Desc)'!D124)","v":""},{"$f":"IF('RWIS (Desc)'!E124=\"\",\"\",INDEX([1]OWNER!$A$2:$A$100,MATCH('RWIS (Desc)'!$E124,[1]!MASTER_OWNER_DESC[#Data],0),0))","v":""},{"$f":"IF('RWIS (Desc)'!F124=\"\",\"\",INDEX([1]COUNTY!$A$2:$A$80,MATCH('RWIS (Desc)'!F124,[1]!MASTER_COUNTY_NAME[#Data],0),0))","v":""},{"$f":"IF('RWIS (Desc)'!G124=\"\",\"\",'RWIS (Desc)'!G124)","v":""},{"$f":"IF('RWIS (Desc)'!H124=\"\",\"\",'RWIS (Desc)'!H124)","v":""}]
[{"$f":"IF('RWIS (Desc)'!A125=\"\",\"\",'RWIS (Desc)'!A125)","v":""},{"$f":"IF('RWIS (Desc)'!B125=\"\",\"\",'RWIS (Desc)'!B125)","v":""},{"$f":"IF('RWIS (Desc)'!C125=\"\",\"\",'RWIS (Desc)'!C125)","v":""},{"$f":"IF('RWIS (Desc)'!D125=\"\",\"\",'RWIS (Desc)'!D125)","v":""},{"$f":"IF('RWIS (Desc)'!E125=\"\",\"\",INDEX([1]OWNER!$A$2:$A$100,MATCH('RWIS (Desc)'!$E125,[1]!MASTER_OWNER_DESC[#Data],0),0))","v":""},{"$f":"IF('RWIS (Desc)'!F125=\"\",\"\",INDEX([1]COUNTY!$A$2:$A$80,MATCH('RWIS (Desc)'!F125,[1]!MASTER_COUNTY_NAME[#Data],0),0))","v":""},{"$f":"IF('RWIS (Desc)'!G125=\"\",\"\",'RWIS (Desc)'!G125)","v":""},{"$f":"IF('RWIS (Desc)'!H125=\"\",\"\",'RWIS (Desc)'!H125)","v":""}]
[{"$f":"IF('RWIS (Desc)'!A126=\"\",\"\",'RWIS (Desc)'!A126)","v":""},{"$f":"IF('RWIS (Desc)'!B126=\"\",\"\",'RWIS (Desc)'!B126)","v":""},{"$f":"IF('RWIS (Desc)'!C126=\"\",\"\",'RWIS (Desc)'!C126)","v":""},{"$f":"IF('RWIS (Desc)'!D126=\"\",\"\",'RWIS (Desc)'!D126)","v":""},{"$f":"IF('RWIS (Desc)'!E126=\"\",\"\",INDEX([1]OWNER!$A$2:$A$100,MATCH('RWIS (Desc)'!$E126,[1]!MASTER_OWNER_DESC[#Data],0),0))","v":""},{"$f":"IF('RWIS (Desc)'!F126=\"\",\"\",INDEX([1]COUNTY!$A$2:$A$80,MATCH('RWIS (Desc)'!F126,[1]!MASTER_COUNTY_NAME[#Data],0),0))","v":""},{"$f":"IF('RWIS (Desc)'!G126=\"\",\"\",'RWIS (Desc)'!G126)","v":""},{"$f":"IF('RWIS (Desc)'!H126=\"\",\"\",'RWIS (Desc)'!H126)","v":""}]
[{"$f":"IF('RWIS (Desc)'!A127=\"\",\"\",'RWIS (Desc)'!A127)","v":""},{"$f":"IF('RWIS (Desc)'!B127=\"\",\"\",'RWIS (Desc)'!B127)","v":""},{"$f":"IF('RWIS (Desc)'!C127=\"\",\"\",'RWIS (Desc)'!C127)","v":""},{"$f":"IF('RWIS (Desc)'!D127=\"\",\"\",'RWIS (Desc)'!D127)","v":""},{"$f":"IF('RWIS (Desc)'!E127=\"\",\"\",INDEX([1]OWNER!$A$2:$A$100,MATCH('RWIS (Desc)'!$E127,[1]!MASTER_OWNER_DESC[#Data],0),0))","v":""},{"$f":"IF('RWIS (Desc)'!F127=\"\",\"\",INDEX([1]COUNTY!$A$2:$A$80,MATCH('RWIS (Desc)'!F127,[1]!MASTER_COUNTY_NAME[#Data],0),0))","v":""},{"$f":"IF('RWIS (Desc)'!G127=\"\",\"\",'RWIS (Desc)'!G127)","v":""},{"$f":"IF('RWIS (Desc)'!H127=\"\",\"\",'RWIS (Desc)'!H127)","v":""}]
[{"$f":"IF('RWIS (Desc)'!A128=\"\",\"\",'RWIS (Desc)'!A128)","v":""},{"$f":"IF('RWIS (Desc)'!B128=\"\",\"\",'RWIS (Desc)'!B128)","v":""},{"$f":"IF('RWIS (Desc)'!C128=\"\",\"\",'RWIS (Desc)'!C128)","v":""},{"$f":"IF('RWIS (Desc)'!D128=\"\",\"\",'RWIS (Desc)'!D128)","v":""},{"$f":"IF('RWIS (Desc)'!E128=\"\",\"\",INDEX([1]OWNER!$A$2:$A$100,MATCH('RWIS (Desc)'!$E128,[1]!MASTER_OWNER_DESC[#Data],0),0))","v":""},{"$f":"IF('RWIS (Desc)'!F128=\"\",\"\",INDEX([1]COUNTY!$A$2:$A$80,MATCH('RWIS (Desc)'!F128,[1]!MASTER_COUNTY_NAME[#Data],0),0))","v":""},{"$f":"IF('RWIS (Desc)'!G128=\"\",\"\",'RWIS (Desc)'!G128)","v":""},{"$f":"IF('RWIS (Desc)'!H128=\"\",\"\",'RWIS (Desc)'!H128)","v":""}]
[{"$f":"IF('RWIS (Desc)'!A129=\"\",\"\",'RWIS (Desc)'!A129)","v":""},{"$f":"IF('RWIS (Desc)'!B129=\"\",\"\",'RWIS (Desc)'!B129)","v":""},{"$f":"IF('RWIS (Desc)'!C129=\"\",\"\",'RWIS (Desc)'!C129)","v":""},{"$f":"IF('RWIS (Desc)'!D129=\"\",\"\",'RWIS (Desc)'!D129)","v":""},{"$f":"IF('RWIS (Desc)'!E129=\"\",\"\",INDEX([1]OWNER!$A$2:$A$100,MATCH('RWIS (Desc)'!$E129,[1]!MASTER_OWNER_DESC[#Data],0),0))","v":""},{"$f":"IF('RWIS (Desc)'!F129=\"\",\"\",INDEX([1]COUNTY!$A$2:$A$80,MATCH('RWIS (Desc)'!F129,[1]!MASTER_COUNTY_NAME[#Data],0),0))","v":""},{"$f":"IF('RWIS (Desc)'!G129=\"\",\"\",'RWIS (Desc)'!G129)","v":""},{"$f":"IF('RWIS (Desc)'!H129=\"\",\"\",'RWIS (Desc)'!H129)","v":""}]
[{"$f":"IF('RWIS (Desc)'!A130=\"\",\"\",'RWIS (Desc)'!A130)","v":""},{"$f":"IF('RWIS (Desc)'!B130=\"\",\"\",'RWIS (Desc)'!B130)","v":""},{"$f":"IF('RWIS (Desc)'!C130=\"\",\"\",'RWIS (Desc)'!C130)","v":""},{"$f":"IF('RWIS (Desc)'!D130=\"\",\"\",'RWIS (Desc)'!D130)","v":""},{"$f":"IF('RWIS (Desc)'!E130=\"\",\"\",INDEX([1]OWNER!$A$2:$A$100,MATCH('RWIS (Desc)'!$E130,[1]!MASTER_OWNER_DESC[#Data],0),0))","v":""},{"$f":"IF('RWIS (Desc)'!F130=\"\",\"\",INDEX([1]COUNTY!$A$2:$A$80,MATCH('RWIS (Desc)'!F130,[1]!MASTER_COUNTY_NAME[#Data],0),0))","v":""},{"$f":"IF('RWIS (Desc)'!G130=\"\",\"\",'RWIS (Desc)'!G130)","v":""},{"$f":"IF('RWIS (Desc)'!H130=\"\",\"\",'RWIS (Desc)'!H130)","v":""}]
[{"$f":"IF('RWIS (Desc)'!A131=\"\",\"\",'RWIS (Desc)'!A131)","v":""},{"$f":"IF('RWIS (Desc)'!B131=\"\",\"\",'RWIS (Desc)'!B131)","v":""},{"$f":"IF('RWIS (Desc)'!C131=\"\",\"\",'RWIS (Desc)'!C131)","v":""},{"$f":"IF('RWIS (Desc)'!D131=\"\",\"\",'RWIS (Desc)'!D131)","v":""},{"$f":"IF('RWIS (Desc)'!E131=\"\",\"\",INDEX([1]OWNER!$A$2:$A$100,MATCH('RWIS (Desc)'!$E131,[1]!MASTER_OWNER_DESC[#Data],0),0))","v":""},{"$f":"IF('RWIS (Desc)'!F131=\"\",\"\",INDEX([1]COUNTY!$A$2:$A$80,MATCH('RWIS (Desc)'!F131,[1]!MASTER_COUNTY_NAME[#Data],0),0))","v":""},{"$f":"IF('RWIS (Desc)'!G131=\"\",\"\",'RWIS (Desc)'!G131)","v":""},{"$f":"IF('RWIS (Desc)'!H131=\"\",\"\",'RWIS (Desc)'!H131)","v":""}]
[{"$f":"IF('RWIS (Desc)'!A132=\"\",\"\",'RWIS (Desc)'!A132)","v":""},{"$f":"IF('RWIS (Desc)'!B132=\"\",\"\",'RWIS (Desc)'!B132)","v":""},{"$f":"IF('RWIS (Desc)'!C132=\"\",\"\",'RWIS (Desc)'!C132)","v":""},{"$f":"IF('RWIS (Desc)'!D132=\"\",\"\",'RWIS (Desc)'!D132)","v":""},{"$f":"IF('RWIS (Desc)'!E132=\"\",\"\",INDEX([1]OWNER!$A$2:$A$100,MATCH('RWIS (Desc)'!$E132,[1]!MASTER_OWNER_DESC[#Data],0),0))","v":""},{"$f":"IF('RWIS (Desc)'!F132=\"\",\"\",INDEX([1]COUNTY!$A$2:$A$80,MATCH('RWIS (Desc)'!F132,[1]!MASTER_COUNTY_NAME[#Data],0),0))","v":""},{"$f":"IF('RWIS (Desc)'!G132=\"\",\"\",'RWIS (Desc)'!G132)","v":""},{"$f":"IF('RWIS (Desc)'!H132=\"\",\"\",'RWIS (Desc)'!H132)","v":""}]
[{"$f":"IF('RWIS (Desc)'!A133=\"\",\"\",'RWIS (Desc)'!A133)","v":""},{"$f":"IF('RWIS (Desc)'!B133=\"\",\"\",'RWIS (Desc)'!B133)","v":""},{"$f":"IF('RWIS (Desc)'!C133=\"\",\"\",'RWIS (Desc)'!C133)","v":""},{"$f":"IF('RWIS (Desc)'!D133=\"\",\"\",'RWIS (Desc)'!D133)","v":""},{"$f":"IF('RWIS (Desc)'!E133=\"\",\"\",INDEX([1]OWNER!$A$2:$A$100,MATCH('RWIS (Desc)'!$E133,[1]!MASTER_OWNER_DESC[#Data],0),0))","v":""},{"$f":"IF('RWIS (Desc)'!F133=\"\",\"\",INDEX([1]COUNTY!$A$2:$A$80,MATCH('RWIS (Desc)'!F133,[1]!MASTER_COUNTY_NAME[#Data],0),0))","v":""},{"$f":"IF('RWIS (Desc)'!G133=\"\",\"\",'RWIS (Desc)'!G133)","v":""},{"$f":"IF('RWIS (Desc)'!H133=\"\",\"\",'RWIS (Desc)'!H133)","v":""}]
[{"$f":"IF('RWIS (Desc)'!A134=\"\",\"\",'RWIS (Desc)'!A134)","v":""},{"$f":"IF('RWIS (Desc)'!B134=\"\",\"\",'RWIS (Desc)'!B134)","v":""},{"$f":"IF('RWIS (Desc)'!C134=\"\",\"\",'RWIS (Desc)'!C134)","v":""},{"$f":"IF('RWIS (Desc)'!D134=\"\",\"\",'RWIS (Desc)'!D134)","v":""},{"$f":"IF('RWIS (Desc)'!E134=\"\",\"\",INDEX([1]OWNER!$A$2:$A$100,MATCH('RWIS (Desc)'!$E134,[1]!MASTER_OWNER_DESC[#Data],0),0))","v":""},{"$f":"IF('RWIS (Desc)'!F134=\"\",\"\",INDEX([1]COUNTY!$A$2:$A$80,MATCH('RWIS (Desc)'!F134,[1]!MASTER_COUNTY_NAME[#Data],0),0))","v":""},{"$f":"IF('RWIS (Desc)'!G134=\"\",\"\",'RWIS (Desc)'!G134)","v":""},{"$f":"IF('RWIS (Desc)'!H134=\"\",\"\",'RWIS (Desc)'!H134)","v":""}]
[{"$f":"IF('RWIS (Desc)'!A135=\"\",\"\",'RWIS (Desc)'!A135)","v":""},{"$f":"IF('RWIS (Desc)'!B135=\"\",\"\",'RWIS (Desc)'!B135)","v":""},{"$f":"IF('RWIS (Desc)'!C135=\"\",\"\",'RWIS (Desc)'!C135)","v":""},{"$f":"IF('RWIS (Desc)'!D135=\"\",\"\",'RWIS (Desc)'!D135)","v":""},{"$f":"IF('RWIS (Desc)'!E135=\"\",\"\",INDEX([1]OWNER!$A$2:$A$100,MATCH('RWIS (Desc)'!$E135,[1]!MASTER_OWNER_DESC[#Data],0),0))","v":""},{"$f":"IF('RWIS (Desc)'!F135=\"\",\"\",INDEX([1]COUNTY!$A$2:$A$80,MATCH('RWIS (Desc)'!F135,[1]!MASTER_COUNTY_NAME[#Data],0),0))","v":""},{"$f":"IF('RWIS (Desc)'!G135=\"\",\"\",'RWIS (Desc)'!G135)","v":""},{"$f":"IF('RWIS (Desc)'!H135=\"\",\"\",'RWIS (Desc)'!H135)","v":""}]
[{"$f":"IF('RWIS (Desc)'!A136=\"\",\"\",'RWIS (Desc)'!A136)","v":""},{"$f":"IF('RWIS (Desc)'!B136=\"\",\"\",'RWIS (Desc)'!B136)","v":""},{"$f":"IF('RWIS (Desc)'!C136=\"\",\"\",'RWIS (Desc)'!C136)","v":""},{"$f":"IF('RWIS (Desc)'!D136=\"\",\"\",'RWIS (Desc)'!D136)","v":""},{"$f":"IF('RWIS (Desc)'!E136=\"\",\"\",INDEX([1]OWNER!$A$2:$A$100,MATCH('RWIS (Desc)'!$E136,[1]!MASTER_OWNER_DESC[#Data],0),0))","v":""},{"$f":"IF('RWIS (Desc)'!F136=\"\",\"\",INDEX([1]COUNTY!$A$2:$A$80,MATCH('RWIS (Desc)'!F136,[1]!MASTER_COUNTY_NAME[#Data],0),0))","v":""},{"$f":"IF('RWIS (Desc)'!G136=\"\",\"\",'RWIS (Desc)'!G136)","v":""},{"$f":"IF('RWIS (Desc)'!H136=\"\",\"\",'RWIS (Desc)'!H136)","v":""}]
[{"$f":"IF('RWIS (Desc)'!A137=\"\",\"\",'RWIS (Desc)'!A137)","v":""},{"$f":"IF('RWIS (Desc)'!B137=\"\",\"\",'RWIS (Desc)'!B137)","v":""},{"$f":"IF('RWIS (Desc)'!C137=\"\",\"\",'RWIS (Desc)'!C137)","v":""},{"$f":"IF('RWIS (Desc)'!D137=\"\",\"\",'RWIS (Desc)'!D137)","v":""},{"$f":"IF('RWIS (Desc)'!E137=\"\",\"\",INDEX([1]OWNER!$A$2:$A$100,MATCH('RWIS (Desc)'!$E137,[1]!MASTER_OWNER_DESC[#Data],0),0))","v":""},{"$f":"IF('RWIS (Desc)'!F137=\"\",\"\",INDEX([1]COUNTY!$A$2:$A$80,MATCH('RWIS (Desc)'!F137,[1]!MASTER_COUNTY_NAME[#Data],0),0))","v":""},{"$f":"IF('RWIS (Desc)'!G137=\"\",\"\",'RWIS (Desc)'!G137)","v":""},{"$f":"IF('RWIS (Desc)'!H137=\"\",\"\",'RWIS (Desc)'!H137)","v":""}]
[{"$f":"IF('RWIS (Desc)'!A138=\"\",\"\",'RWIS (Desc)'!A138)","v":""},{"$f":"IF('RWIS (Desc)'!B138=\"\",\"\",'RWIS (Desc)'!B138)","v":""},{"$f":"IF('RWIS (Desc)'!C138=\"\",\"\",'RWIS (Desc)'!C138)","v":""},{"$f":"IF('RWIS (Desc)'!D138=\"\",\"\",'RWIS (Desc)'!D138)","v":""},{"$f":"IF('RWIS (Desc)'!E138=\"\",\"\",INDEX([1]OWNER!$A$2:$A$100,MATCH('RWIS (Desc)'!$E138,[1]!MASTER_OWNER_DESC[#Data],0),0))","v":""},{"$f":"IF('RWIS (Desc)'!F138=\"\",\"\",INDEX([1]COUNTY!$A$2:$A$80,MATCH('RWIS (Desc)'!F138,[1]!MASTER_COUNTY_NAME[#Data],0),0))","v":""},{"$f":"IF('RWIS (Desc)'!G138=\"\",\"\",'RWIS (Desc)'!G138)","v":""},{"$f":"IF('RWIS (Desc)'!H138=\"\",\"\",'RWIS (Desc)'!H138)","v":""}]
[{"$f":"IF('RWIS (Desc)'!A139=\"\",\"\",'RWIS (Desc)'!A139)","v":""},{"$f":"IF('RWIS (Desc)'!B139=\"\",\"\",'RWIS (Desc)'!B139)","v":""},{"$f":"IF('RWIS (Desc)'!C139=\"\",\"\",'RWIS (Desc)'!C139)","v":""},{"$f":"IF('RWIS (Desc)'!D139=\"\",\"\",'RWIS (Desc)'!D139)","v":""},{"$f":"IF('RWIS (Desc)'!E139=\"\",\"\",INDEX([1]OWNER!$A$2:$A$100,MATCH('RWIS (Desc)'!$E139,[1]!MASTER_OWNER_DESC[#Data],0),0))","v":""},{"$f":"IF('RWIS (Desc)'!F139=\"\",\"\",INDEX([1]COUNTY!$A$2:$A$80,MATCH('RWIS (Desc)'!F139,[1]!MASTER_COUNTY_NAME[#Data],0),0))","v":""},{"$f":"IF('RWIS (Desc)'!G139=\"\",\"\",'RWIS (Desc)'!G139)","v":""},{"$f":"IF('RWIS (Desc)'!H139=\"\",\"\",'RWIS (Desc)'!H139)","v":""}]
[{"$f":"IF('RWIS (Desc)'!A140=\"\",\"\",'RWIS (Desc)'!A140)","v":""},{"$f":"IF('RWIS (Desc)'!B140=\"\",\"\",'RWIS (Desc)'!B140)","v":""},{"$f":"IF('RWIS (Desc)'!C140=\"\",\"\",'RWIS (Desc)'!C140)","v":""},{"$f":"IF('RWIS (Desc)'!D140=\"\",\"\",'RWIS (Desc)'!D140)","v":""},{"$f":"IF('RWIS (Desc)'!E140=\"\",\"\",INDEX([1]OWNER!$A$2:$A$100,MATCH('RWIS (Desc)'!$E140,[1]!MASTER_OWNER_DESC[#Data],0),0))","v":""},{"$f":"IF('RWIS (Desc)'!F140=\"\",\"\",INDEX([1]COUNTY!$A$2:$A$80,MATCH('RWIS (Desc)'!F140,[1]!MASTER_COUNTY_NAME[#Data],0),0))","v":""},{"$f":"IF('RWIS (Desc)'!G140=\"\",\"\",'RWIS (Desc)'!G140)","v":""},{"$f":"IF('RWIS (Desc)'!H140=\"\",\"\",'RWIS (Desc)'!H140)","v":""}]
[{"$f":"IF('RWIS (Desc)'!A141=\"\",\"\",'RWIS (Desc)'!A141)","v":""},{"$f":"IF('RWIS (Desc)'!B141=\"\",\"\",'RWIS (Desc)'!B141)","v":""},{"$f":"IF('RWIS (Desc)'!C141=\"\",\"\",'RWIS (Desc)'!C141)","v":""},{"$f":"IF('RWIS (Desc)'!D141=\"\",\"\",'RWIS (Desc)'!D141)","v":""},{"$f":"IF('RWIS (Desc)'!E141=\"\",\"\",INDEX([1]OWNER!$A$2:$A$100,MATCH('RWIS (Desc)'!$E141,[1]!MASTER_OWNER_DESC[#Data],0),0))","v":""},{"$f":"IF('RWIS (Desc)'!F141=\"\",\"\",INDEX([1]COUNTY!$A$2:$A$80,MATCH('RWIS (Desc)'!F141,[1]!MASTER_COUNTY_NAME[#Data],0),0))","v":""},{"$f":"IF('RWIS (Desc)'!G141=\"\",\"\",'RWIS (Desc)'!G141)","v":""},{"$f":"IF('RWIS (Desc)'!H141=\"\",\"\",'RWIS (Desc)'!H141)","v":""}]
[{"$f":"IF('RWIS (Desc)'!A142=\"\",\"\",'RWIS (Desc)'!A142)","v":""},{"$f":"IF('RWIS (Desc)'!B142=\"\",\"\",'RWIS (Desc)'!B142)","v":""},{"$f":"IF('RWIS (Desc)'!C142=\"\",\"\",'RWIS (Desc)'!C142)","v":""},{"$f":"IF('RWIS (Desc)'!D142=\"\",\"\",'RWIS (Desc)'!D142)","v":""},{"$f":"IF('RWIS (Desc)'!E142=\"\",\"\",INDEX([1]OWNER!$A$2:$A$100,MATCH('RWIS (Desc)'!$E142,[1]!MASTER_OWNER_DESC[#Data],0),0))","v":""},{"$f":"IF('RWIS (Desc)'!F142=\"\",\"\",INDEX([1]COUNTY!$A$2:$A$80,MATCH('RWIS (Desc)'!F142,[1]!MASTER_COUNTY_NAME[#Data],0),0))","v":""},{"$f":"IF('RWIS (Desc)'!G142=\"\",\"\",'RWIS (Desc)'!G142)","v":""},{"$f":"IF('RWIS (Desc)'!H142=\"\",\"\",'RWIS (Desc)'!H142)","v":""}]
[{"$f":"IF('RWIS (Desc)'!A143=\"\",\"\",'RWIS (Desc)'!A143)","v":""},{"$f":"IF('RWIS (Desc)'!B143=\"\",\"\",'RWIS (Desc)'!B143)","v":""},{"$f":"IF('RWIS (Desc)'!C143=\"\",\"\",'RWIS (Desc)'!C143)","v":""},{"$f":"IF('RWIS (Desc)'!D143=\"\",\"\",'RWIS (Desc)'!D143)","v":""},{"$f":"IF('RWIS (Desc)'!E143=\"\",\"\",INDEX([1]OWNER!$A$2:$A$100,MATCH('RWIS (Desc)'!$E143,[1]!MASTER_OWNER_DESC[#Data],0),0))","v":""},{"$f":"IF('RWIS (Desc)'!F143=\"\",\"\",INDEX([1]COUNTY!$A$2:$A$80,MATCH('RWIS (Desc)'!F143,[1]!MASTER_COUNTY_NAME[#Data],0),0))","v":""},{"$f":"IF('RWIS (Desc)'!G143=\"\",\"\",'RWIS (Desc)'!G143)","v":""},{"$f":"IF('RWIS (Desc)'!H143=\"\",\"\",'RWIS (Desc)'!H143)","v":""}]
[{"$f":"IF('RWIS (Desc)'!A144=\"\",\"\",'RWIS (Desc)'!A144)","v":""},{"$f":"IF('RWIS (Desc)'!B144=\"\",\"\",'RWIS (Desc)'!B144)","v":""},{"$f":"IF('RWIS (Desc)'!C144=\"\",\"\",'RWIS (Desc)'!C144)","v":""},{"$f":"IF('RWIS (Desc)'!D144=\"\",\"\",'RWIS (Desc)'!D144)","v":""},{"$f":"IF('RWIS (Desc)'!E144=\"\",\"\",INDEX([1]OWNER!$A$2:$A$100,MATCH('RWIS (Desc)'!$E144,[1]!MASTER_OWNER_DESC[#Data],0),0))","v":""},{"$f":"IF('RWIS (Desc)'!F144=\"\",\"\",INDEX([1]COUNTY!$A$2:$A$80,MATCH('RWIS (Desc)'!F144,[1]!MASTER_COUNTY_NAME[#Data],0),0))","v":""},{"$f":"IF('RWIS (Desc)'!G144=\"\",\"\",'RWIS (Desc)'!G144)","v":""},{"$f":"IF('RWIS (Desc)'!H144=\"\",\"\",'RWIS (Desc)'!H144)","v":""}]
[{"$f":"IF('RWIS (Desc)'!A145=\"\",\"\",'RWIS (Desc)'!A145)","v":""},{"$f":"IF('RWIS (Desc)'!B145=\"\",\"\",'RWIS (Desc)'!B145)","v":""},{"$f":"IF('RWIS (Desc)'!C145=\"\",\"\",'RWIS (Desc)'!C145)","v":""},{"$f":"IF('RWIS (Desc)'!D145=\"\",\"\",'RWIS (Desc)'!D145)","v":""},{"$f":"IF('RWIS (Desc)'!E145=\"\",\"\",INDEX([1]OWNER!$A$2:$A$100,MATCH('RWIS (Desc)'!$E145,[1]!MASTER_OWNER_DESC[#Data],0),0))","v":""},{"$f":"IF('RWIS (Desc)'!F145=\"\",\"\",INDEX([1]COUNTY!$A$2:$A$80,MATCH('RWIS (Desc)'!F145,[1]!MASTER_COUNTY_NAME[#Data],0),0))","v":""},{"$f":"IF('RWIS (Desc)'!G145=\"\",\"\",'RWIS (Desc)'!G145)","v":""},{"$f":"IF('RWIS (Desc)'!H145=\"\",\"\",'RWIS (Desc)'!H145)","v":""}]
[{"$f":"IF('RWIS (Desc)'!A146=\"\",\"\",'RWIS (Desc)'!A146)","v":""},{"$f":"IF('RWIS (Desc)'!B146=\"\",\"\",'RWIS (Desc)'!B146)","v":""},{"$f":"IF('RWIS (Desc)'!C146=\"\",\"\",'RWIS (Desc)'!C146)","v":""},{"$f":"IF('RWIS (Desc)'!D146=\"\",\"\",'RWIS (Desc)'!D146)","v":""},{"$f":"IF('RWIS (Desc)'!E146=\"\",\"\",INDEX([1]OWNER!$A$2:$A$100,MATCH('RWIS (Desc)'!$E146,[1]!MASTER_OWNER_DESC[#Data],0),0))","v":""},{"$f":"IF('RWIS (Desc)'!F146=\"\",\"\",INDEX([1]COUNTY!$A$2:$A$80,MATCH('RWIS (Desc)'!F146,[1]!MASTER_COUNTY_NAME[#Data],0),0))","v":""},{"$f":"IF('RWIS (Desc)'!G146=\"\",\"\",'RWIS (Desc)'!G146)","v":""},{"$f":"IF('RWIS (Desc)'!H146=\"\",\"\",'RWIS (Desc)'!H146)","v":""}]
[{"$f":"IF('RWIS (Desc)'!A147=\"\",\"\",'RWIS (Desc)'!A147)","v":""},{"$f":"IF('RWIS (Desc)'!B147=\"\",\"\",'RWIS (Desc)'!B147)","v":""},{"$f":"IF('RWIS (Desc)'!C147=\"\",\"\",'RWIS (Desc)'!C147)","v":""},{"$f":"IF('RWIS (Desc)'!D147=\"\",\"\",'RWIS (Desc)'!D147)","v":""},{"$f":"IF('RWIS (Desc)'!E147=\"\",\"\",INDEX([1]OWNER!$A$2:$A$100,MATCH('RWIS (Desc)'!$E147,[1]!MASTER_OWNER_DESC[#Data],0),0))","v":""},{"$f":"IF('RWIS (Desc)'!F147=\"\",\"\",INDEX([1]COUNTY!$A$2:$A$80,MATCH('RWIS (Desc)'!F147,[1]!MASTER_COUNTY_NAME[#Data],0),0))","v":""},{"$f":"IF('RWIS (Desc)'!G147=\"\",\"\",'RWIS (Desc)'!G147)","v":""},{"$f":"IF('RWIS (Desc)'!H147=\"\",\"\",'RWIS (Desc)'!H147)","v":""}]
[{"$f":"IF('RWIS (Desc)'!A148=\"\",\"\",'RWIS (Desc)'!A148)","v":""},{"$f":"IF('RWIS (Desc)'!B148=\"\",\"\",'RWIS (Desc)'!B148)","v":""},{"$f":"IF('RWIS (Desc)'!C148=\"\",\"\",'RWIS (Desc)'!C148)","v":""},{"$f":"IF('RWIS (Desc)'!D148=\"\",\"\",'RWIS (Desc)'!D148)","v":""},{"$f":"IF('RWIS (Desc)'!E148=\"\",\"\",INDEX([1]OWNER!$A$2:$A$100,MATCH('RWIS (Desc)'!$E148,[1]!MASTER_OWNER_DESC[#Data],0),0))","v":""},{"$f":"IF('RWIS (Desc)'!F148=\"\",\"\",INDEX([1]COUNTY!$A$2:$A$80,MATCH('RWIS (Desc)'!F148,[1]!MASTER_COUNTY_NAME[#Data],0),0))","v":""},{"$f":"IF('RWIS (Desc)'!G148=\"\",\"\",'RWIS (Desc)'!G148)","v":""},{"$f":"IF('RWIS (Desc)'!H148=\"\",\"\",'RWIS (Desc)'!H148)","v":""}]
[{"$f":"IF('RWIS (Desc)'!A149=\"\",\"\",'RWIS (Desc)'!A149)","v":""},{"$f":"IF('RWIS (Desc)'!B149=\"\",\"\",'RWIS (Desc)'!B149)","v":""},{"$f":"IF('RWIS (Desc)'!C149=\"\",\"\",'RWIS (Desc)'!C149)","v":""},{"$f":"IF('RWIS (Desc)'!D149=\"\",\"\",'RWIS (Desc)'!D149)","v":""},{"$f":"IF('RWIS (Desc)'!E149=\"\",\"\",INDEX([1]OWNER!$A$2:$A$100,MATCH('RWIS (Desc)'!$E149,[1]!MASTER_OWNER_DESC[#Data],0),0))","v":""},{"$f":"IF('RWIS (Desc)'!F149=\"\",\"\",INDEX([1]COUNTY!$A$2:$A$80,MATCH('RWIS (Desc)'!F149,[1]!MASTER_COUNTY_NAME[#Data],0),0))","v":""},{"$f":"IF('RWIS (Desc)'!G149=\"\",\"\",'RWIS (Desc)'!G149)","v":""},{"$f":"IF('RWIS (Desc)'!H149=\"\",\"\",'RWIS (Desc)'!H149)","v":""}]
[{"$f":"IF('RWIS (Desc)'!A150=\"\",\"\",'RWIS (Desc)'!A150)","v":""},{"$f":"IF('RWIS (Desc)'!B150=\"\",\"\",'RWIS (Desc)'!B150)","v":""},{"$f":"IF('RWIS (Desc)'!C150=\"\",\"\",'RWIS (Desc)'!C150)","v":""},{"$f":"IF('RWIS (Desc)'!D150=\"\",\"\",'RWIS (Desc)'!D150)","v":""},{"$f":"IF('RWIS (Desc)'!E150=\"\",\"\",INDEX([1]OWNER!$A$2:$A$100,MATCH('RWIS (Desc)'!$E150,[1]!MASTER_OWNER_DESC[#Data],0),0))","v":""},{"$f":"IF('RWIS (Desc)'!F150=\"\",\"\",INDEX([1]COUNTY!$A$2:$A$80,MATCH('RWIS (Desc)'!F150,[1]!MASTER_COUNTY_NAME[#Data],0),0))","v":""},{"$f":"IF('RWIS (Desc)'!G150=\"\",\"\",'RWIS (Desc)'!G150)","v":""},{"$f":"IF('RWIS (Desc)'!H150=\"\",\"\",'RWIS (Desc)'!H150)","v":""}]
[{"$f":"IF('RWIS (Desc)'!A151=\"\",\"\",'RWIS (Desc)'!A151)","v":""},{"$f":"IF('RWIS (Desc)'!B151=\"\",\"\",'RWIS (Desc)'!B151)","v":""},{"$f":"IF('RWIS (Desc)'!C151=\"\",\"\",'RWIS (Desc)'!C151)","v":""},{"$f":"IF('RWIS (Desc)'!D151=\"\",\"\",'RWIS (Desc)'!D151)","v":""},{"$f":"IF('RWIS (Desc)'!E151=\"\",\"\",INDEX([1]OWNER!$A$2:$A$100,MATCH('RWIS (Desc)'!$E151,[1]!MASTER_OWNER_DESC[#Data],0),0))","v":""},{"$f":"IF('RWIS (Desc)'!F151=\"\",\"\",INDEX([1]COUNTY!$A$2:$A$80,MATCH('RWIS (Desc)'!F151,[1]!MASTER_COUNTY_NAME[#Data],0),0))","v":""},{"$f":"IF('RWIS (Desc)'!G151=\"\",\"\",'RWIS (Desc)'!G151)","v":""},{"$f":"IF('RWIS (Desc)'!H151=\"\",\"\",'RWIS (Desc)'!H151)","v":""}]
[{"$f":"IF('RWIS (Desc)'!A152=\"\",\"\",'RWIS (Desc)'!A152)","v":""},{"$f":"IF('RWIS (Desc)'!B152=\"\",\"\",'RWIS (Desc)'!B152)","v":""},{"$f":"IF('RWIS (Desc)'!C152=\"\",\"\",'RWIS (Desc)'!C152)","v":""},{"$f":"IF('RWIS (Desc)'!D152=\"\",\"\",'RWIS (Desc)'!D152)","v":""},{"$f":"IF('RWIS (Desc)'!E152=\"\",\"\",INDEX([1]OWNER!$A$2:$A$100,MATCH('RWIS (Desc)'!$E152,[1]!MASTER_OWNER_DESC[#Data],0),0))","v":""},{"$f":"IF('RWIS (Desc)'!F152=\"\",\"\",INDEX([1]COUNTY!$A$2:$A$80,MATCH('RWIS (Desc)'!F152,[1]!MASTER_COUNTY_NAME[#Data],0),0))","v":""},{"$f":"IF('RWIS (Desc)'!G152=\"\",\"\",'RWIS (Desc)'!G152)","v":""},{"$f":"IF('RWIS (Desc)'!H152=\"\",\"\",'RWIS (Desc)'!H152)","v":""}]
[{"$f":"IF('RWIS (Desc)'!A153=\"\",\"\",'RWIS (Desc)'!A153)","v":""},{"$f":"IF('RWIS (Desc)'!B153=\"\",\"\",'RWIS (Desc)'!B153)","v":""},{"$f":"IF('RWIS (Desc)'!C153=\"\",\"\",'RWIS (Desc)'!C153)","v":""},{"$f":"IF('RWIS (Desc)'!D153=\"\",\"\",'RWIS (Desc)'!D153)","v":""},{"$f":"IF('RWIS (Desc)'!E153=\"\",\"\",INDEX([1]OWNER!$A$2:$A$100,MATCH('RWIS (Desc)'!$E153,[1]!MASTER_OWNER_DESC[#Data],0),0))","v":""},{"$f":"IF('RWIS (Desc)'!F153=\"\",\"\",INDEX([1]COUNTY!$A$2:$A$80,MATCH('RWIS (Desc)'!F153,[1]!MASTER_COUNTY_NAME[#Data],0),0))","v":""},{"$f":"IF('RWIS (Desc)'!G153=\"\",\"\",'RWIS (Desc)'!G153)","v":""},{"$f":"IF('RWIS (Desc)'!H153=\"\",\"\",'RWIS (Desc)'!H153)","v":""}]
[{"$f":"IF('RWIS (Desc)'!A154=\"\",\"\",'RWIS (Desc)'!A154)","v":""},{"$f":"IF('RWIS (Desc)'!B154=\"\",\"\",'RWIS (Desc)'!B154)","v":""},{"$f":"IF('RWIS (Desc)'!C154=\"\",\"\",'RWIS (Desc)'!C154)","v":""},{"$f":"IF('RWIS (Desc)'!D154=\"\",\"\",'RWIS (Desc)'!D154)","v":""},{"$f":"IF('RWIS (Desc)'!E154=\"\",\"\",INDEX([1]OWNER!$A$2:$A$100,MATCH('RWIS (Desc)'!$E154,[1]!MASTER_OWNER_DESC[#Data],0),0))","v":""},{"$f":"IF('RWIS (Desc)'!F154=\"\",\"\",INDEX([1]COUNTY!$A$2:$A$80,MATCH('RWIS (Desc)'!F154,[1]!MASTER_COUNTY_NAME[#Data],0),0))","v":""},{"$f":"IF('RWIS (Desc)'!G154=\"\",\"\",'RWIS (Desc)'!G154)","v":""},{"$f":"IF('RWIS (Desc)'!H154=\"\",\"\",'RWIS (Desc)'!H154)","v":""}]
[{"$f":"IF('RWIS (Desc)'!A155=\"\",\"\",'RWIS (Desc)'!A155)","v":""},{"$f":"IF('RWIS (Desc)'!B155=\"\",\"\",'RWIS (Desc)'!B155)","v":""},{"$f":"IF('RWIS (Desc)'!C155=\"\",\"\",'RWIS (Desc)'!C155)","v":""},{"$f":"IF('RWIS (Desc)'!D155=\"\",\"\",'RWIS (Desc)'!D155)","v":""},{"$f":"IF('RWIS (Desc)'!E155=\"\",\"\",INDEX([1]OWNER!$A$2:$A$100,MATCH('RWIS (Desc)'!$E155,[1]!MASTER_OWNER_DESC[#Data],0),0))","v":""},{"$f":"IF('RWIS (Desc)'!F155=\"\",\"\",INDEX([1]COUNTY!$A$2:$A$80,MATCH('RWIS (Desc)'!F155,[1]!MASTER_COUNTY_NAME[#Data],0),0))","v":""},{"$f":"IF('RWIS (Desc)'!G155=\"\",\"\",'RWIS (Desc)'!G155)","v":""},{"$f":"IF('RWIS (Desc)'!H155=\"\",\"\",'RWIS (Desc)'!H155)","v":""}]
[{"$f":"IF('RWIS (Desc)'!A156=\"\",\"\",'RWIS (Desc)'!A156)","v":""},{"$f":"IF('RWIS (Desc)'!B156=\"\",\"\",'RWIS (Desc)'!B156)","v":""},{"$f":"IF('RWIS (Desc)'!C156=\"\",\"\",'RWIS (Desc)'!C156)","v":""},{"$f":"IF('RWIS (Desc)'!D156=\"\",\"\",'RWIS (Desc)'!D156)","v":""},{"$f":"IF('RWIS (Desc)'!E156=\"\",\"\",INDEX([1]OWNER!$A$2:$A$100,MATCH('RWIS (Desc)'!$E156,[1]!MASTER_OWNER_DESC[#Data],0),0))","v":""},{"$f":"IF('RWIS (Desc)'!F156=\"\",\"\",INDEX([1]COUNTY!$A$2:$A$80,MATCH('RWIS (Desc)'!F156,[1]!MASTER_COUNTY_NAME[#Data],0),0))","v":""},{"$f":"IF('RWIS (Desc)'!G156=\"\",\"\",'RWIS (Desc)'!G156)","v":""},{"$f":"IF('RWIS (Desc)'!H156=\"\",\"\",'RWIS (Desc)'!H156)","v":""}]
[{"$f":"IF('RWIS (Desc)'!A157=\"\",\"\",'RWIS (Desc)'!A157)","v":""},{"$f":"IF('RWIS (Desc)'!B157=\"\",\"\",'RWIS (Desc)'!B157)","v":""},{"$f":"IF('RWIS (Desc)'!C157=\"\",\"\",'RWIS (Desc)'!C157)","v":""},{"$f":"IF('RWIS (Desc)'!D157=\"\",\"\",'RWIS (Desc)'!D157)","v":""},{"$f":"IF('RWIS (Desc)'!E157=\"\",\"\",INDEX([1]OWNER!$A$2:$A$100,MATCH('RWIS (Desc)'!$E157,[1]!MASTER_OWNER_DESC[#Data],0),0))","v":""},{"$f":"IF('RWIS (Desc)'!F157=\"\",\"\",INDEX([1]COUNTY!$A$2:$A$80,MATCH('RWIS (Desc)'!F157,[1]!MASTER_COUNTY_NAME[#Data],0),0))","v":""},{"$f":"IF('RWIS (Desc)'!G157=\"\",\"\",'RWIS (Desc)'!G157)","v":""},{"$f":"IF('RWIS (Desc)'!H157=\"\",\"\",'RWIS (Desc)'!H157)","v":""}]
[{"$f":"IF('RWIS (Desc)'!A158=\"\",\"\",'RWIS (Desc)'!A158)","v":""},{"$f":"IF('RWIS (Desc)'!B158=\"\",\"\",'RWIS (Desc)'!B158)","v":""},{"$f":"IF('RWIS (Desc)'!C158=\"\",\"\",'RWIS (Desc)'!C158)","v":""},{"$f":"IF('RWIS (Desc)'!D158=\"\",\"\",'RWIS (Desc)'!D158)","v":""},{"$f":"IF('RWIS (Desc)'!E158=\"\",\"\",INDEX([1]OWNER!$A$2:$A$100,MATCH('RWIS (Desc)'!$E158,[1]!MASTER_OWNER_DESC[#Data],0),0))","v":""},{"$f":"IF('RWIS (Desc)'!F158=\"\",\"\",INDEX([1]COUNTY!$A$2:$A$80,MATCH('RWIS (Desc)'!F158,[1]!MASTER_COUNTY_NAME[#Data],0),0))","v":""},{"$f":"IF('RWIS (Desc)'!G158=\"\",\"\",'RWIS (Desc)'!G158)","v":""},{"$f":"IF('RWIS (Desc)'!H158=\"\",\"\",'RWIS (Desc)'!H158)","v":""}]
[{"$f":"IF('RWIS (Desc)'!A159=\"\",\"\",'RWIS (Desc)'!A159)","v":""},{"$f":"IF('RWIS (Desc)'!B159=\"\",\"\",'RWIS (Desc)'!B159)","v":""},{"$f":"IF('RWIS (Desc)'!C159=\"\",\"\",'RWIS (Desc)'!C159)","v":""},{"$f":"IF('RWIS (Desc)'!D159=\"\",\"\",'RWIS (Desc)'!D159)","v":""},{"$f":"IF('RWIS (Desc)'!E159=\"\",\"\",INDEX([1]OWNER!$A$2:$A$100,MATCH('RWIS (Desc)'!$E159,[1]!MASTER_OWNER_DESC[#Data],0),0))","v":""},{"$f":"IF('RWIS (Desc)'!F159=\"\",\"\",INDEX([1]COUNTY!$A$2:$A$80,MATCH('RWIS (Desc)'!F159,[1]!MASTER_COUNTY_NAME[#Data],0),0))","v":""},{"$f":"IF('RWIS (Desc)'!G159=\"\",\"\",'RWIS (Desc)'!G159)","v":""},{"$f":"IF('RWIS (Desc)'!H159=\"\",\"\",'RWIS (Desc)'!H159)","v":""}]
[{"$f":"IF('RWIS (Desc)'!A160=\"\",\"\",'RWIS (Desc)'!A160)","v":""},{"$f":"IF('RWIS (Desc)'!B160=\"\",\"\",'RWIS (Desc)'!B160)","v":""},{"$f":"IF('RWIS (Desc)'!C160=\"\",\"\",'RWIS (Desc)'!C160)","v":""},{"$f":"IF('RWIS (Desc)'!D160=\"\",\"\",'RWIS (Desc)'!D160)","v":""},{"$f":"IF('RWIS (Desc)'!E160=\"\",\"\",INDEX([1]OWNER!$A$2:$A$100,MATCH('RWIS (Desc)'!$E160,[1]!MASTER_OWNER_DESC[#Data],0),0))","v":""},{"$f":"IF('RWIS (Desc)'!F160=\"\",\"\",INDEX([1]COUNTY!$A$2:$A$80,MATCH('RWIS (Desc)'!F160,[1]!MASTER_COUNTY_NAME[#Data],0),0))","v":""},{"$f":"IF('RWIS (Desc)'!G160=\"\",\"\",'RWIS (Desc)'!G160)","v":""},{"$f":"IF('RWIS (Desc)'!H160=\"\",\"\",'RWIS (Desc)'!H160)","v":""}]
[{"$f":"IF('RWIS (Desc)'!A161=\"\",\"\",'RWIS (Desc)'!A161)","v":""},{"$f":"IF('RWIS (Desc)'!B161=\"\",\"\",'RWIS (Desc)'!B161)","v":""},{"$f":"IF('RWIS (Desc)'!C161=\"\",\"\",'RWIS (Desc)'!C161)","v":""},{"$f":"IF('RWIS (Desc)'!D161=\"\",\"\",'RWIS (Desc)'!D161)","v":""},{"$f":"IF('RWIS (Desc)'!E161=\"\",\"\",INDEX([1]OWNER!$A$2:$A$100,MATCH('RWIS (Desc)'!$E161,[1]!MASTER_OWNER_DESC[#Data],0),0))","v":""},{"$f":"IF('RWIS (Desc)'!F161=\"\",\"\",INDEX([1]COUNTY!$A$2:$A$80,MATCH('RWIS (Desc)'!F161,[1]!MASTER_COUNTY_NAME[#Data],0),0))","v":""},{"$f":"IF('RWIS (Desc)'!G161=\"\",\"\",'RWIS (Desc)'!G161)","v":""},{"$f":"IF('RWIS (Desc)'!H161=\"\",\"\",'RWIS (Desc)'!H161)","v":""}]
[{"$f":"IF('RWIS (Desc)'!A162=\"\",\"\",'RWIS (Desc)'!A162)","v":""},{"$f":"IF('RWIS (Desc)'!B162=\"\",\"\",'RWIS (Desc)'!B162)","v":""},{"$f":"IF('RWIS (Desc)'!C162=\"\",\"\",'RWIS (Desc)'!C162)","v":""},{"$f":"IF('RWIS (Desc)'!D162=\"\",\"\",'RWIS (Desc)'!D162)","v":""},{"$f":"IF('RWIS (Desc)'!E162=\"\",\"\",INDEX([1]OWNER!$A$2:$A$100,MATCH('RWIS (Desc)'!$E162,[1]!MASTER_OWNER_DESC[#Data],0),0))","v":""},{"$f":"IF('RWIS (Desc)'!F162=\"\",\"\",INDEX([1]COUNTY!$A$2:$A$80,MATCH('RWIS (Desc)'!F162,[1]!MASTER_COUNTY_NAME[#Data],0),0))","v":""},{"$f":"IF('RWIS (Desc)'!G162=\"\",\"\",'RWIS (Desc)'!G162)","v":""},{"$f":"IF('RWIS (Desc)'!H162=\"\",\"\",'RWIS (Desc)'!H162)","v":""}]
[{"$f":"IF('RWIS (Desc)'!A163=\"\",\"\",'RWIS (Desc)'!A163)","v":""},{"$f":"IF('RWIS (Desc)'!B163=\"\",\"\",'RWIS (Desc)'!B163)","v":""},{"$f":"IF('RWIS (Desc)'!C163=\"\",\"\",'RWIS (Desc)'!C163)","v":""},{"$f":"IF('RWIS (Desc)'!D163=\"\",\"\",'RWIS (Desc)'!D163)","v":""},{"$f":"IF('RWIS (Desc)'!E163=\"\",\"\",INDEX([1]OWNER!$A$2:$A$100,MATCH('RWIS (Desc)'!$E163,[1]!MASTER_OWNER_DESC[#Data],0),0))","v":""},{"$f":"IF('RWIS (Desc)'!F163=\"\",\"\",INDEX([1]COUNTY!$A$2:$A$80,MATCH('RWIS (Desc)'!F163,[1]!MASTER_COUNTY_NAME[#Data],0),0))","v":""},{"$f":"IF('RWIS (Desc)'!G163=\"\",\"\",'RWIS (Desc)'!G163)","v":""},{"$f":"IF('RWIS (Desc)'!H163=\"\",\"\",'RWIS (Desc)'!H163)","v":""}]
[{"$f":"IF('RWIS (Desc)'!A164=\"\",\"\",'RWIS (Desc)'!A164)","v":""},{"$f":"IF('RWIS (Desc)'!B164=\"\",\"\",'RWIS (Desc)'!B164)","v":""},{"$f":"IF('RWIS (Desc)'!C164=\"\",\"\",'RWIS (Desc)'!C164)","v":""},{"$f":"IF('RWIS (Desc)'!D164=\"\",\"\",'RWIS (Desc)'!D164)","v":""},{"$f":"IF('RWIS (Desc)'!E164=\"\",\"\",INDEX([1]OWNER!$A$2:$A$100,MATCH('RWIS (Desc)'!$E164,[1]!MASTER_OWNER_DESC[#Data],0),0))","v":""},{"$f":"IF('RWIS (Desc)'!F164=\"\",\"\",INDEX([1]COUNTY!$A$2:$A$80,MATCH('RWIS (Desc)'!F164,[1]!MASTER_COUNTY_NAME[#Data],0),0))","v":""},{"$f":"IF('RWIS (Desc)'!G164=\"\",\"\",'RWIS (Desc)'!G164)","v":""},{"$f":"IF('RWIS (Desc)'!H164=\"\",\"\",'RWIS (Desc)'!H164)","v":""}]
[{"$f":"IF('RWIS (Desc)'!A165=\"\",\"\",'RWIS (Desc)'!A165)","v":""},{"$f":"IF('RWIS (Desc)'!B165=\"\",\"\",'RWIS (Desc)'!B165)","v":""},{"$f":"IF('RWIS (Desc)'!C165=\"\",\"\",'RWIS (Desc)'!C165)","v":""},{"$f":"IF('RWIS (Desc)'!D165=\"\",\"\",'RWIS (Desc)'!D165)","v":""},{"$f":"IF('RWIS (Desc)'!E165=\"\",\"\",INDEX([1]OWNER!$A$2:$A$100,MATCH('RWIS (Desc)'!$E165,[1]!MASTER_OWNER_DESC[#Data],0),0))","v":""},{"$f":"IF('RWIS (Desc)'!F165=\"\",\"\",INDEX([1]COUNTY!$A$2:$A$80,MATCH('RWIS (Desc)'!F165,[1]!MASTER_COUNTY_NAME[#Data],0),0))","v":""},{"$f":"IF('RWIS (Desc)'!G165=\"\",\"\",'RWIS (Desc)'!G165)","v":""},{"$f":"IF('RWIS (Desc)'!H165=\"\",\"\",'RWIS (Desc)'!H165)","v":""}]
[{"$f":"IF('RWIS (Desc)'!A166=\"\",\"\",'RWIS (Desc)'!A166)","v":""},{"$f":"IF('RWIS (Desc)'!B166=\"\",\"\",'RWIS (Desc)'!B166)","v":""},{"$f":"IF('RWIS (Desc)'!C166=\"\",\"\",'RWIS (Desc)'!C166)","v":""},{"$f":"IF('RWIS (Desc)'!D166=\"\",\"\",'RWIS (Desc)'!D166)","v":""},{"$f":"IF('RWIS (Desc)'!E166=\"\",\"\",INDEX([1]OWNER!$A$2:$A$100,MATCH('RWIS (Desc)'!$E166,[1]!MASTER_OWNER_DESC[#Data],0),0))","v":""},{"$f":"IF('RWIS (Desc)'!F166=\"\",\"\",INDEX([1]COUNTY!$A$2:$A$80,MATCH('RWIS (Desc)'!F166,[1]!MASTER_COUNTY_NAME[#Data],0),0))","v":""},{"$f":"IF('RWIS (Desc)'!G166=\"\",\"\",'RWIS (Desc)'!G166)","v":""},{"$f":"IF('RWIS (Desc)'!H166=\"\",\"\",'RWIS (Desc)'!H166)","v":""}]
[{"$f":"IF('RWIS (Desc)'!A167=\"\",\"\",'RWIS (Desc)'!A167)","v":""},{"$f":"IF('RWIS (Desc)'!B167=\"\",\"\",'RWIS (Desc)'!B167)","v":""},{"$f":"IF('RWIS (Desc)'!C167=\"\",\"\",'RWIS (Desc)'!C167)","v":""},{"$f":"IF('RWIS (Desc)'!D167=\"\",\"\",'RWIS (Desc)'!D167)","v":""},{"$f":"IF('RWIS (Desc)'!E167=\"\",\"\",INDEX([1]OWNER!$A$2:$A$100,MATCH('RWIS (Desc)'!$E167,[1]!MASTER_OWNER_DESC[#Data],0),0))","v":""},{"$f":"IF('RWIS (Desc)'!F167=\"\",\"\",INDEX([1]COUNTY!$A$2:$A$80,MATCH('RWIS (Desc)'!F167,[1]!MASTER_COUNTY_NAME[#Data],0),0))","v":""},{"$f":"IF('RWIS (Desc)'!G167=\"\",\"\",'RWIS (Desc)'!G167)","v":""},{"$f":"IF('RWIS (Desc)'!H167=\"\",\"\",'RWIS (Desc)'!H167)","v":""}]
[{"$f":"IF('RWIS (Desc)'!A168=\"\",\"\",'RWIS (Desc)'!A168)","v":""},{"$f":"IF('RWIS (Desc)'!B168=\"\",\"\",'RWIS (Desc)'!B168)","v":""},{"$f":"IF('RWIS (Desc)'!C168=\"\",\"\",'RWIS (Desc)'!C168)","v":""},{"$f":"IF('RWIS (Desc)'!D168=\"\",\"\",'RWIS (Desc)'!D168)","v":""},{"$f":"IF('RWIS (Desc)'!E168=\"\",\"\",INDEX([1]OWNER!$A$2:$A$100,MATCH('RWIS (Desc)'!$E168,[1]!MASTER_OWNER_DESC[#Data],0),0))","v":""},{"$f":"IF('RWIS (Desc)'!F168=\"\",\"\",INDEX([1]COUNTY!$A$2:$A$80,MATCH('RWIS (Desc)'!F168,[1]!MASTER_COUNTY_NAME[#Data],0),0))","v":""},{"$f":"IF('RWIS (Desc)'!G168=\"\",\"\",'RWIS (Desc)'!G168)","v":""},{"$f":"IF('RWIS (Desc)'!H168=\"\",\"\",'RWIS (Desc)'!H168)","v":""}]
[{"$f":"IF('RWIS (Desc)'!A169=\"\",\"\",'RWIS (Desc)'!A169)","v":""},{"$f":"IF('RWIS (Desc)'!B169=\"\",\"\",'RWIS (Desc)'!B169)","v":""},{"$f":"IF('RWIS (Desc)'!C169=\"\",\"\",'RWIS (Desc)'!C169)","v":""},{"$f":"IF('RWIS (Desc)'!D169=\"\",\"\",'RWIS (Desc)'!D169)","v":""},{"$f":"IF('RWIS (Desc)'!E169=\"\",\"\",INDEX([1]OWNER!$A$2:$A$100,MATCH('RWIS (Desc)'!$E169,[1]!MASTER_OWNER_DESC[#Data],0),0))","v":""},{"$f":"IF('RWIS (Desc)'!F169=\"\",\"\",INDEX([1]COUNTY!$A$2:$A$80,MATCH('RWIS (Desc)'!F169,[1]!MASTER_COUNTY_NAME[#Data],0),0))","v":""},{"$f":"IF('RWIS (Desc)'!G169=\"\",\"\",'RWIS (Desc)'!G169)","v":""},{"$f":"IF('RWIS (Desc)'!H169=\"\",\"\",'RWIS (Desc)'!H169)","v":""}]
[{"$f":"IF('RWIS (Desc)'!A170=\"\",\"\",'RWIS (Desc)'!A170)","v":""},{"$f":"IF('RWIS (Desc)'!B170=\"\",\"\",'RWIS (Desc)'!B170)","v":""},{"$f":"IF('RWIS (Desc)'!C170=\"\",\"\",'RWIS (Desc)'!C170)","v":""},{"$f":"IF('RWIS (Desc)'!D170=\"\",\"\",'RWIS (Desc)'!D170)","v":""},{"$f":"IF('RWIS (Desc)'!E170=\"\",\"\",INDEX([1]OWNER!$A$2:$A$100,MATCH('RWIS (Desc)'!$E170,[1]!MASTER_OWNER_DESC[#Data],0),0))","v":""},{"$f":"IF('RWIS (Desc)'!F170=\"\",\"\",INDEX([1]COUNTY!$A$2:$A$80,MATCH('RWIS (Desc)'!F170,[1]!MASTER_COUNTY_NAME[#Data],0),0))","v":""},{"$f":"IF('RWIS (Desc)'!G170=\"\",\"\",'RWIS (Desc)'!G170)","v":""},{"$f":"IF('RWIS (Desc)'!H170=\"\",\"\",'RWIS (Desc)'!H170)","v":""}]
[{"$f":"IF('RWIS (Desc)'!A171=\"\",\"\",'RWIS (Desc)'!A171)","v":""},{"$f":"IF('RWIS (Desc)'!B171=\"\",\"\",'RWIS (Desc)'!B171)","v":""},{"$f":"IF('RWIS (Desc)'!C171=\"\",\"\",'RWIS (Desc)'!C171)","v":""},{"$f":"IF('RWIS (Desc)'!D171=\"\",\"\",'RWIS (Desc)'!D171)","v":""},{"$f":"IF('RWIS (Desc)'!E171=\"\",\"\",INDEX([1]OWNER!$A$2:$A$100,MATCH('RWIS (Desc)'!$E171,[1]!MASTER_OWNER_DESC[#Data],0),0))","v":""},{"$f":"IF('RWIS (Desc)'!F171=\"\",\"\",INDEX([1]COUNTY!$A$2:$A$80,MATCH('RWIS (Desc)'!F171,[1]!MASTER_COUNTY_NAME[#Data],0),0))","v":""},{"$f":"IF('RWIS (Desc)'!G171=\"\",\"\",'RWIS (Desc)'!G171)","v":""},{"$f":"IF('RWIS (Desc)'!H171=\"\",\"\",'RWIS (Desc)'!H171)","v":""}]
[{"$f":"IF('RWIS (Desc)'!A172=\"\",\"\",'RWIS (Desc)'!A172)","v":""},{"$f":"IF('RWIS (Desc)'!B172=\"\",\"\",'RWIS (Desc)'!B172)","v":""},{"$f":"IF('RWIS (Desc)'!C172=\"\",\"\",'RWIS (Desc)'!C172)","v":""},{"$f":"IF('RWIS (Desc)'!D172=\"\",\"\",'RWIS (Desc)'!D172)","v":""},{"$f":"IF('RWIS (Desc)'!E172=\"\",\"\",INDEX([1]OWNER!$A$2:$A$100,MATCH('RWIS (Desc)'!$E172,[1]!MASTER_OWNER_DESC[#Data],0),0))","v":""},{"$f":"IF('RWIS (Desc)'!F172=\"\",\"\",INDEX([1]COUNTY!$A$2:$A$80,MATCH('RWIS (Desc)'!F172,[1]!MASTER_COUNTY_NAME[#Data],0),0))","v":""},{"$f":"IF('RWIS (Desc)'!G172=\"\",\"\",'RWIS (Desc)'!G172)","v":""},{"$f":"IF('RWIS (Desc)'!H172=\"\",\"\",'RWIS (Desc)'!H172)","v":""}]
[{"$f":"IF('RWIS (Desc)'!A173=\"\",\"\",'RWIS (Desc)'!A173)","v":""},{"$f":"IF('RWIS (Desc)'!B173=\"\",\"\",'RWIS (Desc)'!B173)","v":""},{"$f":"IF('RWIS (Desc)'!C173=\"\",\"\",'RWIS (Desc)'!C173)","v":""},{"$f":"IF('RWIS (Desc)'!D173=\"\",\"\",'RWIS (Desc)'!D173)","v":""},{"$f":"IF('RWIS (Desc)'!E173=\"\",\"\",INDEX([1]OWNER!$A$2:$A$100,MATCH('RWIS (Desc)'!$E173,[1]!MASTER_OWNER_DESC[#Data],0),0))","v":""},{"$f":"IF('RWIS (Desc)'!F173=\"\",\"\",INDEX([1]COUNTY!$A$2:$A$80,MATCH('RWIS (Desc)'!F173,[1]!MASTER_COUNTY_NAME[#Data],0),0))","v":""},{"$f":"IF('RWIS (Desc)'!G173=\"\",\"\",'RWIS (Desc)'!G173)","v":""},{"$f":"IF('RWIS (Desc)'!H173=\"\",\"\",'RWIS (Desc)'!H173)","v":""}]
[{"$f":"IF('RWIS (Desc)'!A174=\"\",\"\",'RWIS (Desc)'!A174)","v":""},{"$f":"IF('RWIS (Desc)'!B174=\"\",\"\",'RWIS (Desc)'!B174)","v":""},{"$f":"IF('RWIS (Desc)'!C174=\"\",\"\",'RWIS (Desc)'!C174)","v":""},{"$f":"IF('RWIS (Desc)'!D174=\"\",\"\",'RWIS (Desc)'!D174)","v":""},{"$f":"IF('RWIS (Desc)'!E174=\"\",\"\",INDEX([1]OWNER!$A$2:$A$100,MATCH('RWIS (Desc)'!$E174,[1]!MASTER_OWNER_DESC[#Data],0),0))","v":""},{"$f":"IF('RWIS (Desc)'!F174=\"\",\"\",INDEX([1]COUNTY!$A$2:$A$80,MATCH('RWIS (Desc)'!F174,[1]!MASTER_COUNTY_NAME[#Data],0),0))","v":""},{"$f":"IF('RWIS (Desc)'!G174=\"\",\"\",'RWIS (Desc)'!G174)","v":""},{"$f":"IF('RWIS (Desc)'!H174=\"\",\"\",'RWIS (Desc)'!H174)","v":""}]
[{"$f":"IF('RWIS (Desc)'!A175=\"\",\"\",'RWIS (Desc)'!A175)","v":""},{"$f":"IF('RWIS (Desc)'!B175=\"\",\"\",'RWIS (Desc)'!B175)","v":""},{"$f":"IF('RWIS (Desc)'!C175=\"\",\"\",'RWIS (Desc)'!C175)","v":""},{"$f":"IF('RWIS (Desc)'!D175=\"\",\"\",'RWIS (Desc)'!D175)","v":""},{"$f":"IF('RWIS (Desc)'!E175=\"\",\"\",INDEX([1]OWNER!$A$2:$A$100,MATCH('RWIS (Desc)'!$E175,[1]!MASTER_OWNER_DESC[#Data],0),0))","v":""},{"$f":"IF('RWIS (Desc)'!F175=\"\",\"\",INDEX([1]COUNTY!$A$2:$A$80,MATCH('RWIS (Desc)'!F175,[1]!MASTER_COUNTY_NAME[#Data],0),0))","v":""},{"$f":"IF('RWIS (Desc)'!G175=\"\",\"\",'RWIS (Desc)'!G175)","v":""},{"$f":"IF('RWIS (Desc)'!H175=\"\",\"\",'RWIS (Desc)'!H175)","v":""}]
[{"$f":"IF('RWIS (Desc)'!A176=\"\",\"\",'RWIS (Desc)'!A176)","v":""},{"$f":"IF('RWIS (Desc)'!B176=\"\",\"\",'RWIS (Desc)'!B176)","v":""},{"$f":"IF('RWIS (Desc)'!C176=\"\",\"\",'RWIS (Desc)'!C176)","v":""},{"$f":"IF('RWIS (Desc)'!D176=\"\",\"\",'RWIS (Desc)'!D176)","v":""},{"$f":"IF('RWIS (Desc)'!E176=\"\",\"\",INDEX([1]OWNER!$A$2:$A$100,MATCH('RWIS (Desc)'!$E176,[1]!MASTER_OWNER_DESC[#Data],0),0))","v":""},{"$f":"IF('RWIS (Desc)'!F176=\"\",\"\",INDEX([1]COUNTY!$A$2:$A$80,MATCH('RWIS (Desc)'!F176,[1]!MASTER_COUNTY_NAME[#Data],0),0))","v":""},{"$f":"IF('RWIS (Desc)'!G176=\"\",\"\",'RWIS (Desc)'!G176)","v":""},{"$f":"IF('RWIS (Desc)'!H176=\"\",\"\",'RWIS (Desc)'!H176)","v":""}]
[{"$f":"IF('RWIS (Desc)'!A177=\"\",\"\",'RWIS (Desc)'!A177)","v":""},{"$f":"IF('RWIS (Desc)'!B177=\"\",\"\",'RWIS (Desc)'!B177)","v":""},{"$f":"IF('RWIS (Desc)'!C177=\"\",\"\",'RWIS (Desc)'!C177)","v":""},{"$f":"IF('RWIS (Desc)'!D177=\"\",\"\",'RWIS (Desc)'!D177)","v":""},{"$f":"IF('RWIS (Desc)'!E177=\"\",\"\",INDEX([1]OWNER!$A$2:$A$100,MATCH('RWIS (Desc)'!$E177,[1]!MASTER_OWNER_DESC[#Data],0),0))","v":""},{"$f":"IF('RWIS (Desc)'!F177=\"\",\"\",INDEX([1]COUNTY!$A$2:$A$80,MATCH('RWIS (Desc)'!F177,[1]!MASTER_COUNTY_NAME[#Data],0),0))","v":""},{"$f":"IF('RWIS (Desc)'!G177=\"\",\"\",'RWIS (Desc)'!G177)","v":""},{"$f":"IF('RWIS (Desc)'!H177=\"\",\"\",'RWIS (Desc)'!H177)","v":""}]
[{"$f":"IF('RWIS (Desc)'!A178=\"\",\"\",'RWIS (Desc)'!A178)","v":""},{"$f":"IF('RWIS (Desc)'!B178=\"\",\"\",'RWIS (Desc)'!B178)","v":""},{"$f":"IF('RWIS (Desc)'!C178=\"\",\"\",'RWIS (Desc)'!C178)","v":""},{"$f":"IF('RWIS (Desc)'!D178=\"\",\"\",'RWIS (Desc)'!D178)","v":""},{"$f":"IF('RWIS (Desc)'!E178=\"\",\"\",INDEX([1]OWNER!$A$2:$A$100,MATCH('RWIS (Desc)'!$E178,[1]!MASTER_OWNER_DESC[#Data],0),0))","v":""},{"$f":"IF('RWIS (Desc)'!F178=\"\",\"\",INDEX([1]COUNTY!$A$2:$A$80,MATCH('RWIS (Desc)'!F178,[1]!MASTER_COUNTY_NAME[#Data],0),0))","v":""},{"$f":"IF('RWIS (Desc)'!G178=\"\",\"\",'RWIS (Desc)'!G178)","v":""},{"$f":"IF('RWIS (Desc)'!H178=\"\",\"\",'RWIS (Desc)'!H178)","v":""}]
[{"$f":"IF('RWIS (Desc)'!A179=\"\",\"\",'RWIS (Desc)'!A179)","v":""},{"$f":"IF('RWIS (Desc)'!B179=\"\",\"\",'RWIS (Desc)'!B179)","v":""},{"$f":"IF('RWIS (Desc)'!C179=\"\",\"\",'RWIS (Desc)'!C179)","v":""},{"$f":"IF('RWIS (Desc)'!D179=\"\",\"\",'RWIS (Desc)'!D179)","v":""},{"$f":"IF('RWIS (Desc)'!E179=\"\",\"\",INDEX([1]OWNER!$A$2:$A$100,MATCH('RWIS (Desc)'!$E179,[1]!MASTER_OWNER_DESC[#Data],0),0))","v":""},{"$f":"IF('RWIS (Desc)'!F179=\"\",\"\",INDEX([1]COUNTY!$A$2:$A$80,MATCH('RWIS (Desc)'!F179,[1]!MASTER_COUNTY_NAME[#Data],0),0))","v":""},{"$f":"IF('RWIS (Desc)'!G179=\"\",\"\",'RWIS (Desc)'!G179)","v":""},{"$f":"IF('RWIS (Desc)'!H179=\"\",\"\",'RWIS (Desc)'!H179)","v":""}]
[{"$f":"IF('RWIS (Desc)'!A180=\"\",\"\",'RWIS (Desc)'!A180)","v":""},{"$f":"IF('RWIS (Desc)'!B180=\"\",\"\",'RWIS (Desc)'!B180)","v":""},{"$f":"IF('RWIS (Desc)'!C180=\"\",\"\",'RWIS (Desc)'!C180)","v":""},{"$f":"IF('RWIS (Desc)'!D180=\"\",\"\",'RWIS (Desc)'!D180)","v":""},{"$f":"IF('RWIS (Desc)'!E180=\"\",\"\",INDEX([1]OWNER!$A$2:$A$100,MATCH('RWIS (Desc)'!$E180,[1]!MASTER_OWNER_DESC[#Data],0),0))","v":""},{"$f":"IF('RWIS (Desc)'!F180=\"\",\"\",INDEX([1]COUNTY!$A$2:$A$80,MATCH('RWIS (Desc)'!F180,[1]!MASTER_COUNTY_NAME[#Data],0),0))","v":""},{"$f":"IF('RWIS (Desc)'!G180=\"\",\"\",'RWIS (Desc)'!G180)","v":""},{"$f":"IF('RWIS (Desc)'!H180=\"\",\"\",'RWIS (Desc)'!H180)","v":""}]
[{"$f":"IF('RWIS (Desc)'!A181=\"\",\"\",'RWIS (Desc)'!A181)","v":""},{"$f":"IF('RWIS (Desc)'!B181=\"\",\"\",'RWIS (Desc)'!B181)","v":""},{"$f":"IF('RWIS (Desc)'!C181=\"\",\"\",'RWIS (Desc)'!C181)","v":""},{"$f":"IF('RWIS (Desc)'!D181=\"\",\"\",'RWIS (Desc)'!D181)","v":""},{"$f":"IF('RWIS (Desc)'!E181=\"\",\"\",INDEX([1]OWNER!$A$2:$A$100,MATCH('RWIS (Desc)'!$E181,[1]!MASTER_OWNER_DESC[#Data],0),0))","v":""},{"$f":"IF('RWIS (Desc)'!F181=\"\",\"\",INDEX([1]COUNTY!$A$2:$A$80,MATCH('RWIS (Desc)'!F181,[1]!MASTER_COUNTY_NAME[#Data],0),0))","v":""},{"$f":"IF('RWIS (Desc)'!G181=\"\",\"\",'RWIS (Desc)'!G181)","v":""},{"$f":"IF('RWIS (Desc)'!H181=\"\",\"\",'RWIS (Desc)'!H181)","v":""}]
[{"$f":"IF('RWIS (Desc)'!A182=\"\",\"\",'RWIS (Desc)'!A182)","v":""},{"$f":"IF('RWIS (Desc)'!B182=\"\",\"\",'RWIS (Desc)'!B182)","v":""},{"$f":"IF('RWIS (Desc)'!C182=\"\",\"\",'RWIS (Desc)'!C182)","v":""},{"$f":"IF('RWIS (Desc)'!D182=\"\",\"\",'RWIS (Desc)'!D182)","v":""},{"$f":"IF('RWIS (Desc)'!E182=\"\",\"\",INDEX([1]OWNER!$A$2:$A$100,MATCH('RWIS (Desc)'!$E182,[1]!MASTER_OWNER_DESC[#Data],0),0))","v":""},{"$f":"IF('RWIS (Desc)'!F182=\"\",\"\",INDEX([1]COUNTY!$A$2:$A$80,MATCH('RWIS (Desc)'!F182,[1]!MASTER_COUNTY_NAME[#Data],0),0))","v":""},{"$f":"IF('RWIS (Desc)'!G182=\"\",\"\",'RWIS (Desc)'!G182)","v":""},{"$f":"IF('RWIS (Desc)'!H182=\"\",\"\",'RWIS (Desc)'!H182)","v":""}]
[{"$f":"IF('RWIS (Desc)'!A183=\"\",\"\",'RWIS (Desc)'!A183)","v":""},{"$f":"IF('RWIS (Desc)'!B183=\"\",\"\",'RWIS (Desc)'!B183)","v":""},{"$f":"IF('RWIS (Desc)'!C183=\"\",\"\",'RWIS (Desc)'!C183)","v":""},{"$f":"IF('RWIS (Desc)'!D183=\"\",\"\",'RWIS (Desc)'!D183)","v":""},{"$f":"IF('RWIS (Desc)'!E183=\"\",\"\",INDEX([1]OWNER!$A$2:$A$100,MATCH('RWIS (Desc)'!$E183,[1]!MASTER_OWNER_DESC[#Data],0),0))","v":""},{"$f":"IF('RWIS (Desc)'!F183=\"\",\"\",INDEX([1]COUNTY!$A$2:$A$80,MATCH('RWIS (Desc)'!F183,[1]!MASTER_COUNTY_NAME[#Data],0),0))","v":""},{"$f":"IF('RWIS (Desc)'!G183=\"\",\"\",'RWIS (Desc)'!G183)","v":""},{"$f":"IF('RWIS (Desc)'!H183=\"\",\"\",'RWIS (Desc)'!H183)","v":""}]
[{"$f":"IF('RWIS (Desc)'!A184=\"\",\"\",'RWIS (Desc)'!A184)","v":""},{"$f":"IF('RWIS (Desc)'!B184=\"\",\"\",'RWIS (Desc)'!B184)","v":""},{"$f":"IF('RWIS (Desc)'!C184=\"\",\"\",'RWIS (Desc)'!C184)","v":""},{"$f":"IF('RWIS (Desc)'!D184=\"\",\"\",'RWIS (Desc)'!D184)","v":""},{"$f":"IF('RWIS (Desc)'!E184=\"\",\"\",INDEX([1]OWNER!$A$2:$A$100,MATCH('RWIS (Desc)'!$E184,[1]!MASTER_OWNER_DESC[#Data],0),0))","v":""},{"$f":"IF('RWIS (Desc)'!F184=\"\",\"\",INDEX([1]COUNTY!$A$2:$A$80,MATCH('RWIS (Desc)'!F184,[1]!MASTER_COUNTY_NAME[#Data],0),0))","v":""},{"$f":"IF('RWIS (Desc)'!G184=\"\",\"\",'RWIS (Desc)'!G184)","v":""},{"$f":"IF('RWIS (Desc)'!H184=\"\",\"\",'RWIS (Desc)'!H184)","v":""}]
[{"$f":"IF('RWIS (Desc)'!A185=\"\",\"\",'RWIS (Desc)'!A185)","v":""},{"$f":"IF('RWIS (Desc)'!B185=\"\",\"\",'RWIS (Desc)'!B185)","v":""},{"$f":"IF('RWIS (Desc)'!C185=\"\",\"\",'RWIS (Desc)'!C185)","v":""},{"$f":"IF('RWIS (Desc)'!D185=\"\",\"\",'RWIS (Desc)'!D185)","v":""},{"$f":"IF('RWIS (Desc)'!E185=\"\",\"\",INDEX([1]OWNER!$A$2:$A$100,MATCH('RWIS (Desc)'!$E185,[1]!MASTER_OWNER_DESC[#Data],0),0))","v":""},{"$f":"IF('RWIS (Desc)'!F185=\"\",\"\",INDEX([1]COUNTY!$A$2:$A$80,MATCH('RWIS (Desc)'!F185,[1]!MASTER_COUNTY_NAME[#Data],0),0))","v":""},{"$f":"IF('RWIS (Desc)'!G185=\"\",\"\",'RWIS (Desc)'!G185)","v":""},{"$f":"IF('RWIS (Desc)'!H185=\"\",\"\",'RWIS (Desc)'!H185)","v":""}]
[{"$f":"IF('RWIS (Desc)'!A186=\"\",\"\",'RWIS (Desc)'!A186)","v":""},{"$f":"IF('RWIS (Desc)'!B186=\"\",\"\",'RWIS (Desc)'!B186)","v":""},{"$f":"IF('RWIS (Desc)'!C186=\"\",\"\",'RWIS (Desc)'!C186)","v":""},{"$f":"IF('RWIS (Desc)'!D186=\"\",\"\",'RWIS (Desc)'!D186)","v":""},{"$f":"IF('RWIS (Desc)'!E186=\"\",\"\",INDEX([1]OWNER!$A$2:$A$100,MATCH('RWIS (Desc)'!$E186,[1]!MASTER_OWNER_DESC[#Data],0),0))","v":""},{"$f":"IF('RWIS (Desc)'!F186=\"\",\"\",INDEX([1]COUNTY!$A$2:$A$80,MATCH('RWIS (Desc)'!F186,[1]!MASTER_COUNTY_NAME[#Data],0),0))","v":""},{"$f":"IF('RWIS (Desc)'!G186=\"\",\"\",'RWIS (Desc)'!G186)","v":""},{"$f":"IF('RWIS (Desc)'!H186=\"\",\"\",'RWIS (Desc)'!H186)","v":""}]
[{"$f":"IF('RWIS (Desc)'!A187=\"\",\"\",'RWIS (Desc)'!A187)","v":""},{"$f":"IF('RWIS (Desc)'!B187=\"\",\"\",'RWIS (Desc)'!B187)","v":""},{"$f":"IF('RWIS (Desc)'!C187=\"\",\"\",'RWIS (Desc)'!C187)","v":""},{"$f":"IF('RWIS (Desc)'!D187=\"\",\"\",'RWIS (Desc)'!D187)","v":""},{"$f":"IF('RWIS (Desc)'!E187=\"\",\"\",INDEX([1]OWNER!$A$2:$A$100,MATCH('RWIS (Desc)'!$E187,[1]!MASTER_OWNER_DESC[#Data],0),0))","v":""},{"$f":"IF('RWIS (Desc)'!F187=\"\",\"\",INDEX([1]COUNTY!$A$2:$A$80,MATCH('RWIS (Desc)'!F187,[1]!MASTER_COUNTY_NAME[#Data],0),0))","v":""},{"$f":"IF('RWIS (Desc)'!G187=\"\",\"\",'RWIS (Desc)'!G187)","v":""},{"$f":"IF('RWIS (Desc)'!H187=\"\",\"\",'RWIS (Desc)'!H187)","v":""}]
[{"$f":"IF('RWIS (Desc)'!A188=\"\",\"\",'RWIS (Desc)'!A188)","v":""},{"$f":"IF('RWIS (Desc)'!B188=\"\",\"\",'RWIS (Desc)'!B188)","v":""},{"$f":"IF('RWIS (Desc)'!C188=\"\",\"\",'RWIS (Desc)'!C188)","v":""},{"$f":"IF('RWIS (Desc)'!D188=\"\",\"\",'RWIS (Desc)'!D188)","v":""},{"$f":"IF('RWIS (Desc)'!E188=\"\",\"\",INDEX([1]OWNER!$A$2:$A$100,MATCH('RWIS (Desc)'!$E188,[1]!MASTER_OWNER_DESC[#Data],0),0))","v":""},{"$f":"IF('RWIS (Desc)'!F188=\"\",\"\",INDEX([1]COUNTY!$A$2:$A$80,MATCH('RWIS (Desc)'!F188,[1]!MASTER_COUNTY_NAME[#Data],0),0))","v":""},{"$f":"IF('RWIS (Desc)'!G188=\"\",\"\",'RWIS (Desc)'!G188)","v":""},{"$f":"IF('RWIS (Desc)'!H188=\"\",\"\",'RWIS (Desc)'!H188)","v":""}]
[{"$f":"IF('RWIS (Desc)'!A189=\"\",\"\",'RWIS (Desc)'!A189)","v":""},{"$f":"IF('RWIS (Desc)'!B189=\"\",\"\",'RWIS (Desc)'!B189)","v":""},{"$f":"IF('RWIS (Desc)'!C189=\"\",\"\",'RWIS (Desc)'!C189)","v":""},{"$f":"IF('RWIS (Desc)'!D189=\"\",\"\",'RWIS (Desc)'!D189)","v":""},{"$f":"IF('RWIS (Desc)'!E189=\"\",\"\",INDEX([1]OWNER!$A$2:$A$100,MATCH('RWIS (Desc)'!$E189,[1]!MASTER_OWNER_DESC[#Data],0),0))","v":""},{"$f":"IF('RWIS (Desc)'!F189=\"\",\"\",INDEX([1]COUNTY!$A$2:$A$80,MATCH('RWIS (Desc)'!F189,[1]!MASTER_COUNTY_NAME[#Data],0),0))","v":""},{"$f":"IF('RWIS (Desc)'!G189=\"\",\"\",'RWIS (Desc)'!G189)","v":""},{"$f":"IF('RWIS (Desc)'!H189=\"\",\"\",'RWIS (Desc)'!H189)","v":""}]
[{"$f":"IF('RWIS (Desc)'!A190=\"\",\"\",'RWIS (Desc)'!A190)","v":""},{"$f":"IF('RWIS (Desc)'!B190=\"\",\"\",'RWIS (Desc)'!B190)","v":""},{"$f":"IF('RWIS (Desc)'!C190=\"\",\"\",'RWIS (Desc)'!C190)","v":""},{"$f":"IF('RWIS (Desc)'!D190=\"\",\"\",'RWIS (Desc)'!D190)","v":""},{"$f":"IF('RWIS (Desc)'!E190=\"\",\"\",INDEX([1]OWNER!$A$2:$A$100,MATCH('RWIS (Desc)'!$E190,[1]!MASTER_OWNER_DESC[#Data],0),0))","v":""},{"$f":"IF('RWIS (Desc)'!F190=\"\",\"\",INDEX([1]COUNTY!$A$2:$A$80,MATCH('RWIS (Desc)'!F190,[1]!MASTER_COUNTY_NAME[#Data],0),0))","v":""},{"$f":"IF('RWIS (Desc)'!G190=\"\",\"\",'RWIS (Desc)'!G190)","v":""},{"$f":"IF('RWIS (Desc)'!H190=\"\",\"\",'RWIS (Desc)'!H190)","v":""}]
[{"$f":"IF('RWIS (Desc)'!A191=\"\",\"\",'RWIS (Desc)'!A191)","v":""},{"$f":"IF('RWIS (Desc)'!B191=\"\",\"\",'RWIS (Desc)'!B191)","v":""},{"$f":"IF('RWIS (Desc)'!C191=\"\",\"\",'RWIS (Desc)'!C191)","v":""},{"$f":"IF('RWIS (Desc)'!D191=\"\",\"\",'RWIS (Desc)'!D191)","v":""},{"$f":"IF('RWIS (Desc)'!E191=\"\",\"\",INDEX([1]OWNER!$A$2:$A$100,MATCH('RWIS (Desc)'!$E191,[1]!MASTER_OWNER_DESC[#Data],0),0))","v":""},{"$f":"IF('RWIS (Desc)'!F191=\"\",\"\",INDEX([1]COUNTY!$A$2:$A$80,MATCH('RWIS (Desc)'!F191,[1]!MASTER_COUNTY_NAME[#Data],0),0))","v":""},{"$f":"IF('RWIS (Desc)'!G191=\"\",\"\",'RWIS (Desc)'!G191)","v":""},{"$f":"IF('RWIS (Desc)'!H191=\"\",\"\",'RWIS (Desc)'!H191)","v":""}]
[{"$f":"IF('RWIS (Desc)'!A192=\"\",\"\",'RWIS (Desc)'!A192)","v":""},{"$f":"IF('RWIS (Desc)'!B192=\"\",\"\",'RWIS (Desc)'!B192)","v":""},{"$f":"IF('RWIS (Desc)'!C192=\"\",\"\",'RWIS (Desc)'!C192)","v":""},{"$f":"IF('RWIS (Desc)'!D192=\"\",\"\",'RWIS (Desc)'!D192)","v":""},{"$f":"IF('RWIS (Desc)'!E192=\"\",\"\",INDEX([1]OWNER!$A$2:$A$100,MATCH('RWIS (Desc)'!$E192,[1]!MASTER_OWNER_DESC[#Data],0),0))","v":""},{"$f":"IF('RWIS (Desc)'!F192=\"\",\"\",INDEX([1]COUNTY!$A$2:$A$80,MATCH('RWIS (Desc)'!F192,[1]!MASTER_COUNTY_NAME[#Data],0),0))","v":""},{"$f":"IF('RWIS (Desc)'!G192=\"\",\"\",'RWIS (Desc)'!G192)","v":""},{"$f":"IF('RWIS (Desc)'!H192=\"\",\"\",'RWIS (Desc)'!H192)","v":""}]
[{"$f":"IF('RWIS (Desc)'!A193=\"\",\"\",'RWIS (Desc)'!A193)","v":""},{"$f":"IF('RWIS (Desc)'!B193=\"\",\"\",'RWIS (Desc)'!B193)","v":""},{"$f":"IF('RWIS (Desc)'!C193=\"\",\"\",'RWIS (Desc)'!C193)","v":""},{"$f":"IF('RWIS (Desc)'!D193=\"\",\"\",'RWIS (Desc)'!D193)","v":""},{"$f":"IF('RWIS (Desc)'!E193=\"\",\"\",INDEX([1]OWNER!$A$2:$A$100,MATCH('RWIS (Desc)'!$E193,[1]!MASTER_OWNER_DESC[#Data],0),0))","v":""},{"$f":"IF('RWIS (Desc)'!F193=\"\",\"\",INDEX([1]COUNTY!$A$2:$A$80,MATCH('RWIS (Desc)'!F193,[1]!MASTER_COUNTY_NAME[#Data],0),0))","v":""},{"$f":"IF('RWIS (Desc)'!G193=\"\",\"\",'RWIS (Desc)'!G193)","v":""},{"$f":"IF('RWIS (Desc)'!H193=\"\",\"\",'RWIS (Desc)'!H193)","v":""}]
[{"$f":"IF('RWIS (Desc)'!A194=\"\",\"\",'RWIS (Desc)'!A194)","v":""},{"$f":"IF('RWIS (Desc)'!B194=\"\",\"\",'RWIS (Desc)'!B194)","v":""},{"$f":"IF('RWIS (Desc)'!C194=\"\",\"\",'RWIS (Desc)'!C194)","v":""},{"$f":"IF('RWIS (Desc)'!D194=\"\",\"\",'RWIS (Desc)'!D194)","v":""},{"$f":"IF('RWIS (Desc)'!E194=\"\",\"\",INDEX([1]OWNER!$A$2:$A$100,MATCH('RWIS (Desc)'!$E194,[1]!MASTER_OWNER_DESC[#Data],0),0))","v":""},{"$f":"IF('RWIS (Desc)'!F194=\"\",\"\",INDEX([1]COUNTY!$A$2:$A$80,MATCH('RWIS (Desc)'!F194,[1]!MASTER_COUNTY_NAME[#Data],0),0))","v":""},{"$f":"IF('RWIS (Desc)'!G194=\"\",\"\",'RWIS (Desc)'!G194)","v":""},{"$f":"IF('RWIS (Desc)'!H194=\"\",\"\",'RWIS (Desc)'!H194)","v":""}]
[{"$f":"IF('RWIS (Desc)'!A195=\"\",\"\",'RWIS (Desc)'!A195)","v":""},{"$f":"IF('RWIS (Desc)'!B195=\"\",\"\",'RWIS (Desc)'!B195)","v":""},{"$f":"IF('RWIS (Desc)'!C195=\"\",\"\",'RWIS (Desc)'!C195)","v":""},{"$f":"IF('RWIS (Desc)'!D195=\"\",\"\",'RWIS (Desc)'!D195)","v":""},{"$f":"IF('RWIS (Desc)'!E195=\"\",\"\",INDEX([1]OWNER!$A$2:$A$100,MATCH('RWIS (Desc)'!$E195,[1]!MASTER_OWNER_DESC[#Data],0),0))","v":""},{"$f":"IF('RWIS (Desc)'!F195=\"\",\"\",INDEX([1]COUNTY!$A$2:$A$80,MATCH('RWIS (Desc)'!F195,[1]!MASTER_COUNTY_NAME[#Data],0),0))","v":""},{"$f":"IF('RWIS (Desc)'!G195=\"\",\"\",'RWIS (Desc)'!G195)","v":""},{"$f":"IF('RWIS (Desc)'!H195=\"\",\"\",'RWIS (Desc)'!H195)","v":""}]
[{"$f":"IF('RWIS (Desc)'!A196=\"\",\"\",'RWIS (Desc)'!A196)","v":""},{"$f":"IF('RWIS (Desc)'!B196=\"\",\"\",'RWIS (Desc)'!B196)","v":""},{"$f":"IF('RWIS (Desc)'!C196=\"\",\"\",'RWIS (Desc)'!C196)","v":""},{"$f":"IF('RWIS (Desc)'!D196=\"\",\"\",'RWIS (Desc)'!D196)","v":""},{"$f":"IF('RWIS (Desc)'!E196=\"\",\"\",INDEX([1]OWNER!$A$2:$A$100,MATCH('RWIS (Desc)'!$E196,[1]!MASTER_OWNER_DESC[#Data],0),0))","v":""},{"$f":"IF('RWIS (Desc)'!F196=\"\",\"\",INDEX([1]COUNTY!$A$2:$A$80,MATCH('RWIS (Desc)'!F196,[1]!MASTER_COUNTY_NAME[#Data],0),0))","v":""},{"$f":"IF('RWIS (Desc)'!G196=\"\",\"\",'RWIS (Desc)'!G196)","v":""},{"$f":"IF('RWIS (Desc)'!H196=\"\",\"\",'RWIS (Desc)'!H196)","v":""}]
[{"$f":"IF('RWIS (Desc)'!A197=\"\",\"\",'RWIS (Desc)'!A197)","v":""},{"$f":"IF('RWIS (Desc)'!B197=\"\",\"\",'RWIS (Desc)'!B197)","v":""},{"$f":"IF('RWIS (Desc)'!C197=\"\",\"\",'RWIS (Desc)'!C197)","v":""},{"$f":"IF('RWIS (Desc)'!D197=\"\",\"\",'RWIS (Desc)'!D197)","v":""},{"$f":"IF('RWIS (Desc)'!E197=\"\",\"\",INDEX([1]OWNER!$A$2:$A$100,MATCH('RWIS (Desc)'!$E197,[1]!MASTER_OWNER_DESC[#Data],0),0))","v":""},{"$f":"IF('RWIS (Desc)'!F197=\"\",\"\",INDEX([1]COUNTY!$A$2:$A$80,MATCH('RWIS (Desc)'!F197,[1]!MASTER_COUNTY_NAME[#Data],0),0))","v":""},{"$f":"IF('RWIS (Desc)'!G197=\"\",\"\",'RWIS (Desc)'!G197)","v":""},{"$f":"IF('RWIS (Desc)'!H197=\"\",\"\",'RWIS (Desc)'!H197)","v":""}]
[{"$f":"IF('RWIS (Desc)'!A198=\"\",\"\",'RWIS (Desc)'!A198)","v":""},{"$f":"IF('RWIS (Desc)'!B198=\"\",\"\",'RWIS (Desc)'!B198)","v":""},{"$f":"IF('RWIS (Desc)'!C198=\"\",\"\",'RWIS (Desc)'!C198)","v":""},{"$f":"IF('RWIS (Desc)'!D198=\"\",\"\",'RWIS (Desc)'!D198)","v":""},{"$f":"IF('RWIS (Desc)'!E198=\"\",\"\",INDEX([1]OWNER!$A$2:$A$100,MATCH('RWIS (Desc)'!$E198,[1]!MASTER_OWNER_DESC[#Data],0),0))","v":""},{"$f":"IF('RWIS (Desc)'!F198=\"\",\"\",INDEX([1]COUNTY!$A$2:$A$80,MATCH('RWIS (Desc)'!F198,[1]!MASTER_COUNTY_NAME[#Data],0),0))","v":""},{"$f":"IF('RWIS (Desc)'!G198=\"\",\"\",'RWIS (Desc)'!G198)","v":""},{"$f":"IF('RWIS (Desc)'!H198=\"\",\"\",'RWIS (Desc)'!H198)","v":""}]
[{"$f":"IF('RWIS (Desc)'!A199=\"\",\"\",'RWIS (Desc)'!A199)","v":""},{"$f":"IF('RWIS (Desc)'!B199=\"\",\"\",'RWIS (Desc)'!B199)","v":""},{"$f":"IF('RWIS (Desc)'!C199=\"\",\"\",'RWIS (Desc)'!C199)","v":""},{"$f":"IF('RWIS (Desc)'!D199=\"\",\"\",'RWIS (Desc)'!D199)","v":""},{"$f":"IF('RWIS (Desc)'!E199=\"\",\"\",INDEX([1]OWNER!$A$2:$A$100,MATCH('RWIS (Desc)'!$E199,[1]!MASTER_OWNER_DESC[#Data],0),0))","v":""},{"$f":"IF('RWIS (Desc)'!F199=\"\",\"\",INDEX([1]COUNTY!$A$2:$A$80,MATCH('RWIS (Desc)'!F199,[1]!MASTER_COUNTY_NAME[#Data],0),0))","v":""},{"$f":"IF('RWIS (Desc)'!G199=\"\",\"\",'RWIS (Desc)'!G199)","v":""},{"$f":"IF('RWIS (Desc)'!H199=\"\",\"\",'RWIS (Desc)'!H199)","v":""}]
[{"$f":"IF('RWIS (Desc)'!A200=\"\",\"\",'RWIS (Desc)'!A200)","v":""},{"$f":"IF('RWIS (Desc)'!B200=\"\",\"\",'RWIS (Desc)'!B200)","v":""},{"$f":"IF('RWIS (Desc)'!C200=\"\",\"\",'RWIS (Desc)'!C200)","v":""},{"$f":"IF('RWIS (Desc)'!D200=\"\",\"\",'RWIS (Desc)'!D200)","v":""},{"$f":"IF('RWIS (Desc)'!E200=\"\",\"\",INDEX([1]OWNER!$A$2:$A$100,MATCH('RWIS (Desc)'!$E200,[1]!MASTER_OWNER_DESC[#Data],0),0))","v":""},{"$f":"IF('RWIS (Desc)'!F200=\"\",\"\",INDEX([1]COUNTY!$A$2:$A$80,MATCH('RWIS (Desc)'!F200,[1]!MASTER_COUNTY_NAME[#Data],0),0))","v":""},{"$f":"IF('RWIS (Desc)'!G200=\"\",\"\",'RWIS (Desc)'!G200)","v":""},{"$f":"IF('RWIS (Desc)'!H200=\"\",\"\",'RWIS (Desc)'!H200)","v":""}]
[{"$f":"IF('RWIS (Desc)'!A201=\"\",\"\",'RWIS (Desc)'!A201)","v":""},{"$f":"IF('RWIS (Desc)'!B201=\"\",\"\",'RWIS (Desc)'!B201)","v":""},{"$f":"IF('RWIS (Desc)'!C201=\"\",\"\",'RWIS (Desc)'!C201)","v":""},{"$f":"IF('RWIS (Desc)'!D201=\"\",\"\",'RWIS (Desc)'!D201)","v":""},{"$f":"IF('RWIS (Desc)'!E201=\"\",\"\",INDEX([1]OWNER!$A$2:$A$100,MATCH('RWIS (Desc)'!$E201,[1]!MASTER_OWNER_DESC[#Data],0),0))","v":""},{"$f":"IF('RWIS (Desc)'!F201=\"\",\"\",INDEX([1]COUNTY!$A$2:$A$80,MATCH('RWIS (Desc)'!F201,[1]!MASTER_COUNTY_NAME[#Data],0),0))","v":""},{"$f":"IF('RWIS (Desc)'!G201=\"\",\"\",'RWIS (Desc)'!G201)","v":""},{"$f":"IF('RWIS (Desc)'!H201=\"\",\"\",'RWIS (Desc)'!H201)","v":""}]
[{"$f":"IF('RWIS (Desc)'!A202=\"\",\"\",'RWIS (Desc)'!A202)","v":""},{"$f":"IF('RWIS (Desc)'!B202=\"\",\"\",'RWIS (Desc)'!B202)","v":""},{"$f":"IF('RWIS (Desc)'!C202=\"\",\"\",'RWIS (Desc)'!C202)","v":""},{"$f":"IF('RWIS (Desc)'!D202=\"\",\"\",'RWIS (Desc)'!D202)","v":""},{"$f":"IF('RWIS (Desc)'!E202=\"\",\"\",INDEX([1]OWNER!$A$2:$A$100,MATCH('RWIS (Desc)'!$E202,[1]!MASTER_OWNER_DESC[#Data],0),0))","v":""},{"$f":"IF('RWIS (Desc)'!F202=\"\",\"\",INDEX([1]COUNTY!$A$2:$A$80,MATCH('RWIS (Desc)'!F202,[1]!MASTER_COUNTY_NAME[#Data],0),0))","v":""},{"$f":"IF('RWIS (Desc)'!G202=\"\",\"\",'RWIS (Desc)'!G202)","v":""},{"$f":"IF('RWIS (Desc)'!H202=\"\",\"\",'RWIS (Desc)'!H202)","v":""}]

{"sheet":"RWIS Sensor (Desc)","index":2,"n_rows":2,"n_cols":9,"rows_kept":2,"cut":false,"hidden":false,"merged":[]}
["Device Id\nfor update ","Site Identification Name\nRWIS Equipment Cabinet SIN","Device ID","Previous Name","Sensor Type ","Installed Date (YYYY/MM/DD)","Manufacturer","Model ","Serial Number "]
["EQUIP_ID","This Field is for Reference Only\nDO NOT IMPORT","EQUIP_LOC_ID\nREQUIRED FIELD","This Field is for Reference Only\nDO NOT IMPORT","RWIS_SENSOR_TYPE_CD\nREQUIRED FIELD ","YEAR_INSTALLED","RWIS_SENSOR_MANUF_CD ","RWIS_SENSOR_MODEL_CD ","SERIAL_NUMBER"]

{"sheet":"RWIS Sensor (Code)","index":3,"n_rows":202,"n_cols":8,"rows_kept":202,"cut":false,"hidden":false,"merged":[]}
["Device Id\nfor update ","Parent ITS Device Entity Cd","Device ID","Sensor Type ","Installed Date (YYYY/MM/DD)","Manufacturer","Model ","Serial Number "]
["EQUIP_ID","ENTITY_ID\nREQUIRED FIELD","EQUIP_LOC_ID                     REQUIRED FIELD","RWIS_SENSOR_TYPE_CD REQUIRED FIELD ","YEAR_INSTALLED","RWIS_SENSOR_MANUF_CD ","RWIS_SENSOR_MODEL_CD ","SERIAL_NUMBER"]
[{"$f":"IF('RWIS Sensor (Desc)'!A3=\"\",\"\",'RWIS Sensor (Desc)'!A3)","v":""},{"$f":"IF('RWIS Sensor (Desc)'!C3=\"\",\"\",\"2008\")","v":""},{"$f":"IF('RWIS Sensor (Desc)'!C3=\"\",\"\",'RWIS Sensor (Desc)'!C3)","v":""},{"$f":"IF('RWIS Sensor (Desc)'!E3=\"\",\"\",INDEX([1]RWIS_SENSOR_TYPE!$A$2:$A$100,MATCH('RWIS Sensor (Desc)'!$E3,[1]!MASTER_RWIS_SENSOR_TYPE_DESC[#Data],0),0))","v":""},{"$f":"IF('RWIS Sensor (Desc)'!F3=\"\",\"\",'RWIS Sensor (Desc)'!F3)","v":""},{"$f":"IF('RWIS Sensor (Desc)'!G3=\"\",\"\",INDEX([1]RWIS_SENSOR_MODEL!$B$2:$B$100,MATCH(1,([1]RWIS_SENSOR_MODEL!$C$2:$C$100='RWIS Sensor (Desc)'!$G3)*([1]RWIS_SENSOR_MODEL!$E$2:$E$100='RWIS Sensor (Code)'!$D3),0),0))","v":""},{"$f":"IF('RWIS Sensor (Desc)'!H3=\"\",\"\",INDEX([1]RWIS_SENSOR_MODEL!$A$2:$A$100,MATCH(1,([1]RWIS_SENSOR_MODEL!$C$2:$C$100='RWIS Sensor (Desc)'!$G3)*([1]RWIS_SENSOR_MODEL!$D$2:$D$100='RWIS Sensor (Desc)'!$H3)*([1]RWIS_SENSOR_MODEL!$E$2:$E$100='RWIS Sensor (Code)'!$D3),0),0))","v":""},{"$f":"IF('RWIS Sensor (Desc)'!I3=\"\",\"\",'RWIS Sensor (Desc)'!I3)","v":""}]
[{"$f":"IF('RWIS Sensor (Desc)'!A4=\"\",\"\",'RWIS Sensor (Desc)'!A4)","v":""},{"$f":"IF('RWIS Sensor (Desc)'!C4=\"\",\"\",\"2008\")","v":""},{"$f":"IF('RWIS Sensor (Desc)'!C4=\"\",\"\",'RWIS Sensor (Desc)'!C4)","v":""},{"$f":"IF('RWIS Sensor (Desc)'!E4=\"\",\"\",INDEX([1]RWIS_SENSOR_TYPE!$A$2:$A$100,MATCH('RWIS Sensor (Desc)'!$E4,[1]!MASTER_RWIS_SENSOR_TYPE_DESC[#Data],0),0))","v":""},{"$f":"IF('RWIS Sensor (Desc)'!F4=\"\",\"\",'RWIS Sensor (Desc)'!F4)","v":""},{"$f":"IF('RWIS Sensor (Desc)'!G4=\"\",\"\",INDEX([1]RWIS_SENSOR_MODEL!$B$2:$B$100,MATCH(1,([1]RWIS_SENSOR_MODEL!$C$2:$C$100='RWIS Sensor (Desc)'!$G4)*([1]RWIS_SENSOR_MODEL!$E$2:$E$100='RWIS Sensor (Code)'!$D4),0),0))","v":""},{"$f":"IF('RWIS Sensor (Desc)'!H4=\"\",\"\",INDEX([1]RWIS_SENSOR_MODEL!$A$2:$A$100,MATCH(1,([1]RWIS_SENSOR_MODEL!$C$2:$C$100='RWIS Sensor (Desc)'!$G4)*([1]RWIS_SENSOR_MODEL!$D$2:$D$100='RWIS Sensor (Desc)'!$H4)*([1]RWIS_SENSOR_MODEL!$E$2:$E$100='RWIS Sensor (Code)'!$D4),0),0))","v":""},{"$f":"IF('RWIS Sensor (Desc)'!I4=\"\",\"\",'RWIS Sensor (Desc)'!I4)","v":""}]
[{"$f":"IF('RWIS Sensor (Desc)'!A5=\"\",\"\",'RWIS Sensor (Desc)'!A5)","v":""},{"$f":"IF('RWIS Sensor (Desc)'!C5=\"\",\"\",\"2008\")","v":""},{"$f":"IF('RWIS Sensor (Desc)'!C5=\"\",\"\",'RWIS Sensor (Desc)'!C5)","v":""},{"$f":"IF('RWIS Sensor (Desc)'!E5=\"\",\"\",INDEX([1]RWIS_SENSOR_TYPE!$A$2:$A$100,MATCH('RWIS Sensor (Desc)'!$E5,[1]!MASTER_RWIS_SENSOR_TYPE_DESC[#Data],0),0))","v":""},{"$f":"IF('RWIS Sensor (Desc)'!F5=\"\",\"\",'RWIS Sensor (Desc)'!F5)","v":""},{"$f":"IF('RWIS Sensor (Desc)'!G5=\"\",\"\",INDEX([1]RWIS_SENSOR_MODEL!$B$2:$B$100,MATCH(1,([1]RWIS_SENSOR_MODEL!$C$2:$C$100='RWIS Sensor (Desc)'!$G5)*([1]RWIS_SENSOR_MODEL!$E$2:$E$100='RWIS Sensor (Code)'!$D5),0),0))","v":""},{"$f":"IF('RWIS Sensor (Desc)'!H5=\"\",\"\",INDEX([1]RWIS_SENSOR_MODEL!$A$2:$A$100,MATCH(1,([1]RWIS_SENSOR_MODEL!$C$2:$C$100='RWIS Sensor (Desc)'!$G5)*([1]RWIS_SENSOR_MODEL!$D$2:$D$100='RWIS Sensor (Desc)'!$H5)*([1]RWIS_SENSOR_MODEL!$E$2:$E$100='RWIS Sensor (Code)'!$D5),0),0))","v":""},{"$f":"IF('RWIS Sensor (Desc)'!I5=\"\",\"\",'RWIS Sensor (Desc)'!I5)","v":""}]
[{"$f":"IF('RWIS Sensor (Desc)'!A6=\"\",\"\",'RWIS Sensor (Desc)'!A6)","v":""},{"$f":"IF('RWIS Sensor (Desc)'!C6=\"\",\"\",\"2008\")","v":""},{"$f":"IF('RWIS Sensor (Desc)'!C6=\"\",\"\",'RWIS Sensor (Desc)'!C6)","v":""},{"$f":"IF('RWIS Sensor (Desc)'!E6=\"\",\"\",INDEX([1]RWIS_SENSOR_TYPE!$A$2:$A$100,MATCH('RWIS Sensor (Desc)'!$E6,[1]!MASTER_RWIS_SENSOR_TYPE_DESC[#Data],0),0))","v":""},{"$f":"IF('RWIS Sensor (Desc)'!F6=\"\",\"\",'RWIS Sensor (Desc)'!F6)","v":""},{"$f":"IF('RWIS Sensor (Desc)'!G6=\"\",\"\",INDEX([1]RWIS_SENSOR_MODEL!$B$2:$B$100,MATCH(1,([1]RWIS_SENSOR_MODEL!$C$2:$C$100='RWIS Sensor (Desc)'!$G6)*([1]RWIS_SENSOR_MODEL!$E$2:$E$100='RWIS Sensor (Code)'!$D6),0),0))","v":""},{"$f":"IF('RWIS Sensor (Desc)'!H6=\"\",\"\",INDEX([1]RWIS_SENSOR_MODEL!$A$2:$A$100,MATCH(1,([1]RWIS_SENSOR_MODEL!$C$2:$C$100='RWIS Sensor (Desc)'!$G6)*([1]RWIS_SENSOR_MODEL!$D$2:$D$100='RWIS Sensor (Desc)'!$H6)*([1]RWIS_SENSOR_MODEL!$E$2:$E$100='RWIS Sensor (Code)'!$D6),0),0))","v":""},{"$f":"IF('RWIS Sensor (Desc)'!I6=\"\",\"\",'RWIS Sensor (Desc)'!I6)","v":""}]
[{"$f":"IF('RWIS Sensor (Desc)'!A7=\"\",\"\",'RWIS Sensor (Desc)'!A7)","v":""},{"$f":"IF('RWIS Sensor (Desc)'!C7=\"\",\"\",\"2008\")","v":""},{"$f":"IF('RWIS Sensor (Desc)'!C7=\"\",\"\",'RWIS Sensor (Desc)'!C7)","v":""},{"$f":"IF('RWIS Sensor (Desc)'!E7=\"\",\"\",INDEX([1]RWIS_SENSOR_TYPE!$A$2:$A$100,MATCH('RWIS Sensor (Desc)'!$E7,[1]!MASTER_RWIS_SENSOR_TYPE_DESC[#Data],0),0))","v":""},{"$f":"IF('RWIS Sensor (Desc)'!F7=\"\",\"\",'RWIS Sensor (Desc)'!F7)","v":""},{"$f":"IF('RWIS Sensor (Desc)'!G7=\"\",\"\",INDEX([1]RWIS_SENSOR_MODEL!$B$2:$B$100,MATCH(1,([1]RWIS_SENSOR_MODEL!$C$2:$C$100='RWIS Sensor (Desc)'!$G7)*([1]RWIS_SENSOR_MODEL!$E$2:$E$100='RWIS Sensor (Code)'!$D7),0),0))","v":""},{"$f":"IF('RWIS Sensor (Desc)'!H7=\"\",\"\",INDEX([1]RWIS_SENSOR_MODEL!$A$2:$A$100,MATCH(1,([1]RWIS_SENSOR_MODEL!$C$2:$C$100='RWIS Sensor (Desc)'!$G7)*([1]RWIS_SENSOR_MODEL!$D$2:$D$100='RWIS Sensor (Desc)'!$H7)*([1]RWIS_SENSOR_MODEL!$E$2:$E$100='RWIS Sensor (Code)'!$D7),0),0))","v":""},{"$f":"IF('RWIS Sensor (Desc)'!I7=\"\",\"\",'RWIS Sensor (Desc)'!I7)","v":""}]
[{"$f":"IF('RWIS Sensor (Desc)'!A8=\"\",\"\",'RWIS Sensor (Desc)'!A8)","v":""},{"$f":"IF('RWIS Sensor (Desc)'!C8=\"\",\"\",\"2008\")","v":""},{"$f":"IF('RWIS Sensor (Desc)'!C8=\"\",\"\",'RWIS Sensor (Desc)'!C8)","v":""},{"$f":"IF('RWIS Sensor (Desc)'!E8=\"\",\"\",INDEX([1]RWIS_SENSOR_TYPE!$A$2:$A$100,MATCH('RWIS Sensor (Desc)'!$E8,[1]!MASTER_RWIS_SENSOR_TYPE_DESC[#Data],0),0))","v":""},{"$f":"IF('RWIS Sensor (Desc)'!F8=\"\",\"\",'RWIS Sensor (Desc)'!F8)","v":""},{"$f":"IF('RWIS Sensor (Desc)'!G8=\"\",\"\",INDEX([1]RWIS_SENSOR_MODEL!$B$2:$B$100,MATCH(1,([1]RWIS_SENSOR_MODEL!$C$2:$C$100='RWIS Sensor (Desc)'!$G8)*([1]RWIS_SENSOR_MODEL!$E$2:$E$100='RWIS Sensor (Code)'!$D8),0),0))","v":""},{"$f":"IF('RWIS Sensor (Desc)'!H8=\"\",\"\",INDEX([1]RWIS_SENSOR_MODEL!$A$2:$A$100,MATCH(1,([1]RWIS_SENSOR_MODEL!$C$2:$C$100='RWIS Sensor (Desc)'!$G8)*([1]RWIS_SENSOR_MODEL!$D$2:$D$100='RWIS Sensor (Desc)'!$H8)*([1]RWIS_SENSOR_MODEL!$E$2:$E$100='RWIS Sensor (Code)'!$D8),0),0))","v":""},{"$f":"IF('RWIS Sensor (Desc)'!I8=\"\",\"\",'RWIS Sensor (Desc)'!I8)","v":""}]
[{"$f":"IF('RWIS Sensor (Desc)'!A9=\"\",\"\",'RWIS Sensor (Desc)'!A9)","v":""},{"$f":"IF('RWIS Sensor (Desc)'!C9=\"\",\"\",\"2008\")","v":""},{"$f":"IF('RWIS Sensor (Desc)'!C9=\"\",\"\",'RWIS Sensor (Desc)'!C9)","v":""},{"$f":"IF('RWIS Sensor (Desc)'!E9=\"\",\"\",INDEX([1]RWIS_SENSOR_TYPE!$A$2:$A$100,MATCH('RWIS Sensor (Desc)'!$E9,[1]!MASTER_RWIS_SENSOR_TYPE_DESC[#Data],0),0))","v":""},{"$f":"IF('RWIS Sensor (Desc)'!F9=\"\",\"\",'RWIS Sensor (Desc)'!F9)","v":""},{"$f":"IF('RWIS Sensor (Desc)'!G9=\"\",\"\",INDEX([1]RWIS_SENSOR_MODEL!$B$2:$B$100,MATCH(1,([1]RWIS_SENSOR_MODEL!$C$2:$C$100='RWIS Sensor (Desc)'!$G9)*([1]RWIS_SENSOR_MODEL!$E$2:$E$100='RWIS Sensor (Code)'!$D9),0),0))","v":""},{"$f":"IF('RWIS Sensor (Desc)'!H9=\"\",\"\",INDEX([1]RWIS_SENSOR_MODEL!$A$2:$A$100,MATCH(1,([1]RWIS_SENSOR_MODEL!$C$2:$C$100='RWIS Sensor (Desc)'!$G9)*([1]RWIS_SENSOR_MODEL!$D$2:$D$100='RWIS Sensor (Desc)'!$H9)*([1]RWIS_SENSOR_MODEL!$E$2:$E$100='RWIS Sensor (Code)'!$D9),0),0))","v":""},{"$f":"IF('RWIS Sensor (Desc)'!I9=\"\",\"\",'RWIS Sensor (Desc)'!I9)","v":""}]
[{"$f":"IF('RWIS Sensor (Desc)'!A10=\"\",\"\",'RWIS Sensor (Desc)'!A10)","v":""},{"$f":"IF('RWIS Sensor (Desc)'!C10=\"\",\"\",\"2008\")","v":""},{"$f":"IF('RWIS Sensor (Desc)'!C10=\"\",\"\",'RWIS Sensor (Desc)'!C10)","v":""},{"$f":"IF('RWIS Sensor (Desc)'!E10=\"\",\"\",INDEX([1]RWIS_SENSOR_TYPE!$A$2:$A$100,MATCH('RWIS Sensor (Desc)'!$E10,[1]!MASTER_RWIS_SENSOR_TYPE_DESC[#Data],0),0))","v":""},{"$f":"IF('RWIS Sensor (Desc)'!F10=\"\",\"\",'RWIS Sensor (Desc)'!F10)","v":""},{"$f":"IF('RWIS Sensor (Desc)'!G10=\"\",\"\",INDEX([1]RWIS_SENSOR_MODEL!$B$2:$B$100,MATCH(1,([1]RWIS_SENSOR_MODEL!$C$2:$C$100='RWIS Sensor (Desc)'!$G10)*([1]RWIS_SENSOR_MODEL!$E$2:$E$100='RWIS Sensor (Code)'!$D10),0),0))","v":""},{"$f":"IF('RWIS Sensor (Desc)'!H10=\"\",\"\",INDEX([1]RWIS_SENSOR_MODEL!$A$2:$A$100,MATCH(1,([1]RWIS_SENSOR_MODEL!$C$2:$C$100='RWIS Sensor (Desc)'!$G10)*([1]RWIS_SENSOR_MODEL!$D$2:$D$100='RWIS Sensor (Desc)'!$H10)*([1]RWIS_SENSOR_MODEL!$E$2:$E$100='RWIS Sensor (Code)'!$D10),0),0))","v":""},{"$f":"IF('RWIS Sensor (Desc)'!I10=\"\",\"\",'RWIS Sensor (Desc)'!I10)","v":""}]
[{"$f":"IF('RWIS Sensor (Desc)'!A11=\"\",\"\",'RWIS Sensor (Desc)'!A11)","v":""},{"$f":"IF('RWIS Sensor (Desc)'!C11=\"\",\"\",\"2008\")","v":""},{"$f":"IF('RWIS Sensor (Desc)'!C11=\"\",\"\",'RWIS Sensor (Desc)'!C11)","v":""},{"$f":"IF('RWIS Sensor (Desc)'!E11=\"\",\"\",INDEX([1]RWIS_SENSOR_TYPE!$A$2:$A$100,MATCH('RWIS Sensor (Desc)'!$E11,[1]!MASTER_RWIS_SENSOR_TYPE_DESC[#Data],0),0))","v":""},{"$f":"IF('RWIS Sensor (Desc)'!F11=\"\",\"\",'RWIS Sensor (Desc)'!F11)","v":""},{"$f":"IF('RWIS Sensor (Desc)'!G11=\"\",\"\",INDEX([1]RWIS_SENSOR_MODEL!$B$2:$B$100,MATCH(1,([1]RWIS_SENSOR_MODEL!$C$2:$C$100='RWIS Sensor (Desc)'!$G11)*([1]RWIS_SENSOR_MODEL!$E$2:$E$100='RWIS Sensor (Code)'!$D11),0),0))","v":""},{"$f":"IF('RWIS Sensor (Desc)'!H11=\"\",\"\",INDEX([1]RWIS_SENSOR_MODEL!$A$2:$A$100,MATCH(1,([1]RWIS_SENSOR_MODEL!$C$2:$C$100='RWIS Sensor (Desc)'!$G11)*([1]RWIS_SENSOR_MODEL!$D$2:$D$100='RWIS Sensor (Desc)'!$H11)*([1]RWIS_SENSOR_MODEL!$E$2:$E$100='RWIS Sensor (Code)'!$D11),0),0))","v":""},{"$f":"IF('RWIS Sensor (Desc)'!I11=\"\",\"\",'RWIS Sensor (Desc)'!I11)","v":""}]
[{"$f":"IF('RWIS Sensor (Desc)'!A12=\"\",\"\",'RWIS Sensor (Desc)'!A12)","v":""},{"$f":"IF('RWIS Sensor (Desc)'!C12=\"\",\"\",\"2008\")","v":""},{"$f":"IF('RWIS Sensor (Desc)'!C12=\"\",\"\",'RWIS Sensor (Desc)'!C12)","v":""},{"$f":"IF('RWIS Sensor (Desc)'!E12=\"\",\"\",INDEX([1]RWIS_SENSOR_TYPE!$A$2:$A$100,MATCH('RWIS Sensor (Desc)'!$E12,[1]!MASTER_RWIS_SENSOR_TYPE_DESC[#Data],0),0))","v":""},{"$f":"IF('RWIS Sensor (Desc)'!F12=\"\",\"\",'RWIS Sensor (Desc)'!F12)","v":""},{"$f":"IF('RWIS Sensor (Desc)'!G12=\"\",\"\",INDEX([1]RWIS_SENSOR_MODEL!$B$2:$B$100,MATCH(1,([1]RWIS_SENSOR_MODEL!$C$2:$C$100='RWIS Sensor (Desc)'!$G12)*([1]RWIS_SENSOR_MODEL!$E$2:$E$100='RWIS Sensor (Code)'!$D12),0),0))","v":""},{"$f":"IF('RWIS Sensor (Desc)'!H12=\"\",\"\",INDEX([1]RWIS_SENSOR_MODEL!$A$2:$A$100,MATCH(1,([1]RWIS_SENSOR_MODEL!$C$2:$C$100='RWIS Sensor (Desc)'!$G12)*([1]RWIS_SENSOR_MODEL!$D$2:$D$100='RWIS Sensor (Desc)'!$H12)*([1]RWIS_SENSOR_MODEL!$E$2:$E$100='RWIS Sensor (Code)'!$D12),0),0))","v":""},{"$f":"IF('RWIS Sensor (Desc)'!I12=\"\",\"\",'RWIS Sensor (Desc)'!I12)","v":""}]
[{"$f":"IF('RWIS Sensor (Desc)'!A13=\"\",\"\",'RWIS Sensor (Desc)'!A13)","v":""},{"$f":"IF('RWIS Sensor (Desc)'!C13=\"\",\"\",\"2008\")","v":""},{"$f":"IF('RWIS Sensor (Desc)'!C13=\"\",\"\",'RWIS Sensor (Desc)'!C13)","v":""},{"$f":"IF('RWIS Sensor (Desc)'!E13=\"\",\"\",INDEX([1]RWIS_SENSOR_TYPE!$A$2:$A$100,MATCH('RWIS Sensor (Desc)'!$E13,[1]!MASTER_RWIS_SENSOR_TYPE_DESC[#Data],0),0))","v":""},{"$f":"IF('RWIS Sensor (Desc)'!F13=\"\",\"\",'RWIS Sensor (Desc)'!F13)","v":""},{"$f":"IF('RWIS Sensor (Desc)'!G13=\"\",\"\",INDEX([1]RWIS_SENSOR_MODEL!$B$2:$B$100,MATCH(1,([1]RWIS_SENSOR_MODEL!$C$2:$C$100='RWIS Sensor (Desc)'!$G13)*([1]RWIS_SENSOR_MODEL!$E$2:$E$100='RWIS Sensor (Code)'!$D13),0),0))","v":""},{"$f":"IF('RWIS Sensor (Desc)'!H13=\"\",\"\",INDEX([1]RWIS_SENSOR_MODEL!$A$2:$A$100,MATCH(1,([1]RWIS_SENSOR_MODEL!$C$2:$C$100='RWIS Sensor (Desc)'!$G13)*([1]RWIS_SENSOR_MODEL!$D$2:$D$100='RWIS Sensor (Desc)'!$H13)*([1]RWIS_SENSOR_MODEL!$E$2:$E$100='RWIS Sensor (Code)'!$D13),0),0))","v":""},{"$f":"IF('RWIS Sensor (Desc)'!I13=\"\",\"\",'RWIS Sensor (Desc)'!I13)","v":""}]
[{"$f":"IF('RWIS Sensor (Desc)'!A14=\"\",\"\",'RWIS Sensor (Desc)'!A14)","v":""},{"$f":"IF('RWIS Sensor (Desc)'!C14=\"\",\"\",\"2008\")","v":""},{"$f":"IF('RWIS Sensor (Desc)'!C14=\"\",\"\",'RWIS Sensor (Desc)'!C14)","v":""},{"$f":"IF('RWIS Sensor (Desc)'!E14=\"\",\"\",INDEX([1]RWIS_SENSOR_TYPE!$A$2:$A$100,MATCH('RWIS Sensor (Desc)'!$E14,[1]!MASTER_RWIS_SENSOR_TYPE_DESC[#Data],0),0))","v":""},{"$f":"IF('RWIS Sensor (Desc)'!F14=\"\",\"\",'RWIS Sensor (Desc)'!F14)","v":""},{"$f":"IF('RWIS Sensor (Desc)'!G14=\"\",\"\",INDEX([1]RWIS_SENSOR_MODEL!$B$2:$B$100,MATCH(1,([1]RWIS_SENSOR_MODEL!$C$2:$C$100='RWIS Sensor (Desc)'!$G14)*([1]RWIS_SENSOR_MODEL!$E$2:$E$100='RWIS Sensor (Code)'!$D14),0),0))","v":""},{"$f":"IF('RWIS Sensor (Desc)'!H14=\"\",\"\",INDEX([1]RWIS_SENSOR_MODEL!$A$2:$A$100,MATCH(1,([1]RWIS_SENSOR_MODEL!$C$2:$C$100='RWIS Sensor (Desc)'!$G14)*([1]RWIS_SENSOR_MODEL!$D$2:$D$100='RWIS Sensor (Desc)'!$H14)*([1]RWIS_SENSOR_MODEL!$E$2:$E$100='RWIS Sensor (Code)'!$D14),0),0))","v":""},{"$f":"IF('RWIS Sensor (Desc)'!I14=\"\",\"\",'RWIS Sensor (Desc)'!I14)","v":""}]
[{"$f":"IF('RWIS Sensor (Desc)'!A15=\"\",\"\",'RWIS Sensor (Desc)'!A15)","v":""},{"$f":"IF('RWIS Sensor (Desc)'!C15=\"\",\"\",\"2008\")","v":""},{"$f":"IF('RWIS Sensor (Desc)'!C15=\"\",\"\",'RWIS Sensor (Desc)'!C15)","v":""},{"$f":"IF('RWIS Sensor (Desc)'!E15=\"\",\"\",INDEX([1]RWIS_SENSOR_TYPE!$A$2:$A$100,MATCH('RWIS Sensor (Desc)'!$E15,[1]!MASTER_RWIS_SENSOR_TYPE_DESC[#Data],0),0))","v":""},{"$f":"IF('RWIS Sensor (Desc)'!F15=\"\",\"\",'RWIS Sensor (Desc)'!F15)","v":""},{"$f":"IF('RWIS Sensor (Desc)'!G15=\"\",\"\",INDEX([1]RWIS_SENSOR_MODEL!$B$2:$B$100,MATCH(1,([1]RWIS_SENSOR_MODEL!$C$2:$C$100='RWIS Sensor (Desc)'!$G15)*([1]RWIS_SENSOR_MODEL!$E$2:$E$100='RWIS Sensor (Code)'!$D15),0),0))","v":""},{"$f":"IF('RWIS Sensor (Desc)'!H15=\"\",\"\",INDEX([1]RWIS_SENSOR_MODEL!$A$2:$A$100,MATCH(1,([1]RWIS_SENSOR_MODEL!$C$2:$C$100='RWIS Sensor (Desc)'!$G15)*([1]RWIS_SENSOR_MODEL!$D$2:$D$100='RWIS Sensor (Desc)'!$H15)*([1]RWIS_SENSOR_MODEL!$E$2:$E$100='RWIS Sensor (Code)'!$D15),0),0))","v":""},{"$f":"IF('RWIS Sensor (Desc)'!I15=\"\",\"\",'RWIS Sensor (Desc)'!I15)","v":""}]
[{"$f":"IF('RWIS Sensor (Desc)'!A16=\"\",\"\",'RWIS Sensor (Desc)'!A16)","v":""},{"$f":"IF('RWIS Sensor (Desc)'!C16=\"\",\"\",\"2008\")","v":""},{"$f":"IF('RWIS Sensor (Desc)'!C16=\"\",\"\",'RWIS Sensor (Desc)'!C16)","v":""},{"$f":"IF('RWIS Sensor (Desc)'!E16=\"\",\"\",INDEX([1]RWIS_SENSOR_TYPE!$A$2:$A$100,MATCH('RWIS Sensor (Desc)'!$E16,[1]!MASTER_RWIS_SENSOR_TYPE_DESC[#Data],0),0))","v":""},{"$f":"IF('RWIS Sensor (Desc)'!F16=\"\",\"\",'RWIS Sensor (Desc)'!F16)","v":""},{"$f":"IF('RWIS Sensor (Desc)'!G16=\"\",\"\",INDEX([1]RWIS_SENSOR_MODEL!$B$2:$B$100,MATCH(1,([1]RWIS_SENSOR_MODEL!$C$2:$C$100='RWIS Sensor (Desc)'!$G16)*([1]RWIS_SENSOR_MODEL!$E$2:$E$100='RWIS Sensor (Code)'!$D16),0),0))","v":""},{"$f":"IF('RWIS Sensor (Desc)'!H16=\"\",\"\",INDEX([1]RWIS_SENSOR_MODEL!$A$2:$A$100,MATCH(1,([1]RWIS_SENSOR_MODEL!$C$2:$C$100='RWIS Sensor (Desc)'!$G16)*([1]RWIS_SENSOR_MODEL!$D$2:$D$100='RWIS Sensor (Desc)'!$H16)*([1]RWIS_SENSOR_MODEL!$E$2:$E$100='RWIS Sensor (Code)'!$D16),0),0))","v":""},{"$f":"IF('RWIS Sensor (Desc)'!I16=\"\",\"\",'RWIS Sensor (Desc)'!I16)","v":""}]
[{"$f":"IF('RWIS Sensor (Desc)'!A17=\"\",\"\",'RWIS Sensor (Desc)'!A17)","v":""},{"$f":"IF('RWIS Sensor (Desc)'!C17=\"\",\"\",\"2008\")","v":""},{"$f":"IF('RWIS Sensor (Desc)'!C17=\"\",\"\",'RWIS Sensor (Desc)'!C17)","v":""},{"$f":"IF('RWIS Sensor (Desc)'!E17=\"\",\"\",INDEX([1]RWIS_SENSOR_TYPE!$A$2:$A$100,MATCH('RWIS Sensor (Desc)'!$E17,[1]!MASTER_RWIS_SENSOR_TYPE_DESC[#Data],0),0))","v":""},{"$f":"IF('RWIS Sensor (Desc)'!F17=\"\",\"\",'RWIS Sensor (Desc)'!F17)","v":""},{"$f":"IF('RWIS Sensor (Desc)'!G17=\"\",\"\",INDEX([1]RWIS_SENSOR_MODEL!$B$2:$B$100,MATCH(1,([1]RWIS_SENSOR_MODEL!$C$2:$C$100='RWIS Sensor (Desc)'!$G17)*([1]RWIS_SENSOR_MODEL!$E$2:$E$100='RWIS Sensor (Code)'!$D17),0),0))","v":""},{"$f":"IF('RWIS Sensor (Desc)'!H17=\"\",\"\",INDEX([1]RWIS_SENSOR_MODEL!$A$2:$A$100,MATCH(1,([1]RWIS_SENSOR_MODEL!$C$2:$C$100='RWIS Sensor (Desc)'!$G17)*([1]RWIS_SENSOR_MODEL!$D$2:$D$100='RWIS Sensor (Desc)'!$H17)*([1]RWIS_SENSOR_MODEL!$E$2:$E$100='RWIS Sensor (Code)'!$D17),0),0))","v":""},{"$f":"IF('RWIS Sensor (Desc)'!I17=\"\",\"\",'RWIS Sensor (Desc)'!I17)","v":""}]
[{"$f":"IF('RWIS Sensor (Desc)'!A18=\"\",\"\",'RWIS Sensor (Desc)'!A18)","v":""},{"$f":"IF('RWIS Sensor (Desc)'!C18=\"\",\"\",\"2008\")","v":""},{"$f":"IF('RWIS Sensor (Desc)'!C18=\"\",\"\",'RWIS Sensor (Desc)'!C18)","v":""},{"$f":"IF('RWIS Sensor (Desc)'!E18=\"\",\"\",INDEX([1]RWIS_SENSOR_TYPE!$A$2:$A$100,MATCH('RWIS Sensor (Desc)'!$E18,[1]!MASTER_RWIS_SENSOR_TYPE_DESC[#Data],0),0))","v":""},{"$f":"IF('RWIS Sensor (Desc)'!F18=\"\",\"\",'RWIS Sensor (Desc)'!F18)","v":""},{"$f":"IF('RWIS Sensor (Desc)'!G18=\"\",\"\",INDEX([1]RWIS_SENSOR_MODEL!$B$2:$B$100,MATCH(1,([1]RWIS_SENSOR_MODEL!$C$2:$C$100='RWIS Sensor (Desc)'!$G18)*([1]RWIS_SENSOR_MODEL!$E$2:$E$100='RWIS Sensor (Code)'!$D18),0),0))","v":""},{"$f":"IF('RWIS Sensor (Desc)'!H18=\"\",\"\",INDEX([1]RWIS_SENSOR_MODEL!$A$2:$A$100,MATCH(1,([1]RWIS_SENSOR_MODEL!$C$2:$C$100='RWIS Sensor (Desc)'!$G18)*([1]RWIS_SENSOR_MODEL!$D$2:$D$100='RWIS Sensor (Desc)'!$H18)*([1]RWIS_SENSOR_MODEL!$E$2:$E$100='RWIS Sensor (Code)'!$D18),0),0))","v":""},{"$f":"IF('RWIS Sensor (Desc)'!I18=\"\",\"\",'RWIS Sensor (Desc)'!I18)","v":""}]
[{"$f":"IF('RWIS Sensor (Desc)'!A19=\"\",\"\",'RWIS Sensor (Desc)'!A19)","v":""},{"$f":"IF('RWIS Sensor (Desc)'!C19=\"\",\"\",\"2008\")","v":""},{"$f":"IF('RWIS Sensor (Desc)'!C19=\"\",\"\",'RWIS Sensor (Desc)'!C19)","v":""},{"$f":"IF('RWIS Sensor (Desc)'!E19=\"\",\"\",INDEX([1]RWIS_SENSOR_TYPE!$A$2:$A$100,MATCH('RWIS Sensor (Desc)'!$E19,[1]!MASTER_RWIS_SENSOR_TYPE_DESC[#Data],0),0))","v":""},{"$f":"IF('RWIS Sensor (Desc)'!F19=\"\",\"\",'RWIS Sensor (Desc)'!F19)","v":""},{"$f":"IF('RWIS Sensor (Desc)'!G19=\"\",\"\",INDEX([1]RWIS_SENSOR_MODEL!$B$2:$B$100,MATCH(1,([1]RWIS_SENSOR_MODEL!$C$2:$C$100='RWIS Sensor (Desc)'!$G19)*([1]RWIS_SENSOR_MODEL!$E$2:$E$100='RWIS Sensor (Code)'!$D19),0),0))","v":""},{"$f":"IF('RWIS Sensor (Desc)'!H19=\"\",\"\",INDEX([1]RWIS_SENSOR_MODEL!$A$2:$A$100,MATCH(1,([1]RWIS_SENSOR_MODEL!$C$2:$C$100='RWIS Sensor (Desc)'!$G19)*([1]RWIS_SENSOR_MODEL!$D$2:$D$100='RWIS Sensor (Desc)'!$H19)*([1]RWIS_SENSOR_MODEL!$E$2:$E$100='RWIS Sensor (Code)'!$D19),0),0))","v":""},{"$f":"IF('RWIS Sensor (Desc)'!I19=\"\",\"\",'RWIS Sensor (Desc)'!I19)","v":""}]
[{"$f":"IF('RWIS Sensor (Desc)'!A20=\"\",\"\",'RWIS Sensor (Desc)'!A20)","v":""},{"$f":"IF('RWIS Sensor (Desc)'!C20=\"\",\"\",\"2008\")","v":""},{"$f":"IF('RWIS Sensor (Desc)'!C20=\"\",\"\",'RWIS Sensor (Desc)'!C20)","v":""},{"$f":"IF('RWIS Sensor (Desc)'!E20=\"\",\"\",INDEX([1]RWIS_SENSOR_TYPE!$A$2:$A$100,MATCH('RWIS Sensor (Desc)'!$E20,[1]!MASTER_RWIS_SENSOR_TYPE_DESC[#Data],0),0))","v":""},{"$f":"IF('RWIS Sensor (Desc)'!F20=\"\",\"\",'RWIS Sensor (Desc)'!F20)","v":""},{"$f":"IF('RWIS Sensor (Desc)'!G20=\"\",\"\",INDEX([1]RWIS_SENSOR_MODEL!$B$2:$B$100,MATCH(1,([1]RWIS_SENSOR_MODEL!$C$2:$C$100='RWIS Sensor (Desc)'!$G20)*([1]RWIS_SENSOR_MODEL!$E$2:$E$100='RWIS Sensor (Code)'!$D20),0),0))","v":""},{"$f":"IF('RWIS Sensor (Desc)'!H20=\"\",\"\",INDEX([1]RWIS_SENSOR_MODEL!$A$2:$A$100,MATCH(1,([1]RWIS_SENSOR_MODEL!$C$2:$C$100='RWIS Sensor (Desc)'!$G20)*([1]RWIS_SENSOR_MODEL!$D$2:$D$100='RWIS Sensor (Desc)'!$H20)*([1]RWIS_SENSOR_MODEL!$E$2:$E$100='RWIS Sensor (Code)'!$D20),0),0))","v":""},{"$f":"IF('RWIS Sensor (Desc)'!I20=\"\",\"\",'RWIS Sensor (Desc)'!I20)","v":""}]
[{"$f":"IF('RWIS Sensor (Desc)'!A21=\"\",\"\",'RWIS Sensor (Desc)'!A21)","v":""},{"$f":"IF('RWIS Sensor (Desc)'!C21=\"\",\"\",\"2008\")","v":""},{"$f":"IF('RWIS Sensor (Desc)'!C21=\"\",\"\",'RWIS Sensor (Desc)'!C21)","v":""},{"$f":"IF('RWIS Sensor (Desc)'!E21=\"\",\"\",INDEX([1]RWIS_SENSOR_TYPE!$A$2:$A$100,MATCH('RWIS Sensor (Desc)'!$E21,[1]!MASTER_RWIS_SENSOR_TYPE_DESC[#Data],0),0))","v":""},{"$f":"IF('RWIS Sensor (Desc)'!F21=\"\",\"\",'RWIS Sensor (Desc)'!F21)","v":""},{"$f":"IF('RWIS Sensor (Desc)'!G21=\"\",\"\",INDEX([1]RWIS_SENSOR_MODEL!$B$2:$B$100,MATCH(1,([1]RWIS_SENSOR_MODEL!$C$2:$C$100='RWIS Sensor (Desc)'!$G21)*([1]RWIS_SENSOR_MODEL!$E$2:$E$100='RWIS Sensor (Code)'!$D21),0),0))","v":""},{"$f":"IF('RWIS Sensor (Desc)'!H21=\"\",\"\",INDEX([1]RWIS_SENSOR_MODEL!$A$2:$A$100,MATCH(1,([1]RWIS_SENSOR_MODEL!$C$2:$C$100='RWIS Sensor (Desc)'!$G21)*([1]RWIS_SENSOR_MODEL!$D$2:$D$100='RWIS Sensor (Desc)'!$H21)*([1]RWIS_SENSOR_MODEL!$E$2:$E$100='RWIS Sensor (Code)'!$D21),0),0))","v":""},{"$f":"IF('RWIS Sensor (Desc)'!I21=\"\",\"\",'RWIS Sensor (Desc)'!I21)","v":""}]
[{"$f":"IF('RWIS Sensor (Desc)'!A22=\"\",\"\",'RWIS Sensor (Desc)'!A22)","v":""},{"$f":"IF('RWIS Sensor (Desc)'!C22=\"\",\"\",\"2008\")","v":""},{"$f":"IF('RWIS Sensor (Desc)'!C22=\"\",\"\",'RWIS Sensor (Desc)'!C22)","v":""},{"$f":"IF('RWIS Sensor (Desc)'!E22=\"\",\"\",INDEX([1]RWIS_SENSOR_TYPE!$A$2:$A$100,MATCH('RWIS Sensor (Desc)'!$E22,[1]!MASTER_RWIS_SENSOR_TYPE_DESC[#Data],0),0))","v":""},{"$f":"IF('RWIS Sensor (Desc)'!F22=\"\",\"\",'RWIS Sensor (Desc)'!F22)","v":""},{"$f":"IF('RWIS Sensor (Desc)'!G22=\"\",\"\",INDEX([1]RWIS_SENSOR_MODEL!$B$2:$B$100,MATCH(1,([1]RWIS_SENSOR_MODEL!$C$2:$C$100='RWIS Sensor (Desc)'!$G22)*([1]RWIS_SENSOR_MODEL!$E$2:$E$100='RWIS Sensor (Code)'!$D22),0),0))","v":""},{"$f":"IF('RWIS Sensor (Desc)'!H22=\"\",\"\",INDEX([1]RWIS_SENSOR_MODEL!$A$2:$A$100,MATCH(1,([1]RWIS_SENSOR_MODEL!$C$2:$C$100='RWIS Sensor (Desc)'!$G22)*([1]RWIS_SENSOR_MODEL!$D$2:$D$100='RWIS Sensor (Desc)'!$H22)*([1]RWIS_SENSOR_MODEL!$E$2:$E$100='RWIS Sensor (Code)'!$D22),0),0))","v":""},{"$f":"IF('RWIS Sensor (Desc)'!I22=\"\",\"\",'RWIS Sensor (Desc)'!I22)","v":""}]
[{"$f":"IF('RWIS Sensor (Desc)'!A23=\"\",\"\",'RWIS Sensor (Desc)'!A23)","v":""},{"$f":"IF('RWIS Sensor (Desc)'!C23=\"\",\"\",\"2008\")","v":""},{"$f":"IF('RWIS Sensor (Desc)'!C23=\"\",\"\",'RWIS Sensor (Desc)'!C23)","v":""},{"$f":"IF('RWIS Sensor (Desc)'!E23=\"\",\"\",INDEX([1]RWIS_SENSOR_TYPE!$A$2:$A$100,MATCH('RWIS Sensor (Desc)'!$E23,[1]!MASTER_RWIS_SENSOR_TYPE_DESC[#Data],0),0))","v":""},{"$f":"IF('RWIS Sensor (Desc)'!F23=\"\",\"\",'RWIS Sensor (Desc)'!F23)","v":""},{"$f":"IF('RWIS Sensor (Desc)'!G23=\"\",\"\",INDEX([1]RWIS_SENSOR_MODEL!$B$2:$B$100,MATCH(1,([1]RWIS_SENSOR_MODEL!$C$2:$C$100='RWIS Sensor (Desc)'!$G23)*([1]RWIS_SENSOR_MODEL!$E$2:$E$100='RWIS Sensor (Code)'!$D23),0),0))","v":""},{"$f":"IF('RWIS Sensor (Desc)'!H23=\"\",\"\",INDEX([1]RWIS_SENSOR_MODEL!$A$2:$A$100,MATCH(1,([1]RWIS_SENSOR_MODEL!$C$2:$C$100='RWIS Sensor (Desc)'!$G23)*([1]RWIS_SENSOR_MODEL!$D$2:$D$100='RWIS Sensor (Desc)'!$H23)*([1]RWIS_SENSOR_MODEL!$E$2:$E$100='RWIS Sensor (Code)'!$D23),0),0))","v":""},{"$f":"IF('RWIS Sensor (Desc)'!I23=\"\",\"\",'RWIS Sensor (Desc)'!I23)","v":""}]
[{"$f":"IF('RWIS Sensor (Desc)'!A24=\"\",\"\",'RWIS Sensor (Desc)'!A24)","v":""},{"$f":"IF('RWIS Sensor (Desc)'!C24=\"\",\"\",\"2008\")","v":""},{"$f":"IF('RWIS Sensor (Desc)'!C24=\"\",\"\",'RWIS Sensor (Desc)'!C24)","v":""},{"$f":"IF('RWIS Sensor (Desc)'!E24=\"\",\"\",INDEX([1]RWIS_SENSOR_TYPE!$A$2:$A$100,MATCH('RWIS Sensor (Desc)'!$E24,[1]!MASTER_RWIS_SENSOR_TYPE_DESC[#Data],0),0))","v":""},{"$f":"IF('RWIS Sensor (Desc)'!F24=\"\",\"\",'RWIS Sensor (Desc)'!F24)","v":""},{"$f":"IF('RWIS Sensor (Desc)'!G24=\"\",\"\",INDEX([1]RWIS_SENSOR_MODEL!$B$2:$B$100,MATCH(1,([1]RWIS_SENSOR_MODEL!$C$2:$C$100='RWIS Sensor (Desc)'!$G24)*([1]RWIS_SENSOR_MODEL!$E$2:$E$100='RWIS Sensor (Code)'!$D24),0),0))","v":""},{"$f":"IF('RWIS Sensor (Desc)'!H24=\"\",\"\",INDEX([1]RWIS_SENSOR_MODEL!$A$2:$A$100,MATCH(1,([1]RWIS_SENSOR_MODEL!$C$2:$C$100='RWIS Sensor (Desc)'!$G24)*([1]RWIS_SENSOR_MODEL!$D$2:$D$100='RWIS Sensor (Desc)'!$H24)*([1]RWIS_SENSOR_MODEL!$E$2:$E$100='RWIS Sensor (Code)'!$D24),0),0))","v":""},{"$f":"IF('RWIS Sensor (Desc)'!I24=\"\",\"\",'RWIS Sensor (Desc)'!I24)","v":""}]
[{"$f":"IF('RWIS Sensor (Desc)'!A25=\"\",\"\",'RWIS Sensor (Desc)'!A25)","v":""},{"$f":"IF('RWIS Sensor (Desc)'!C25=\"\",\"\",\"2008\")","v":""},{"$f":"IF('RWIS Sensor (Desc)'!C25=\"\",\"\",'RWIS Sensor (Desc)'!C25)","v":""},{"$f":"IF('RWIS Sensor (Desc)'!E25=\"\",\"\",INDEX([1]RWIS_SENSOR_TYPE!$A$2:$A$100,MATCH('RWIS Sensor (Desc)'!$E25,[1]!MASTER_RWIS_SENSOR_TYPE_DESC[#Data],0),0))","v":""},{"$f":"IF('RWIS Sensor (Desc)'!F25=\"\",\"\",'RWIS Sensor (Desc)'!F25)","v":""},{"$f":"IF('RWIS Sensor (Desc)'!G25=\"\",\"\",INDEX([1]RWIS_SENSOR_MODEL!$B$2:$B$100,MATCH(1,([1]RWIS_SENSOR_MODEL!$C$2:$C$100='RWIS Sensor (Desc)'!$G25)*([1]RWIS_SENSOR_MODEL!$E$2:$E$100='RWIS Sensor (Code)'!$D25),0),0))","v":""},{"$f":"IF('RWIS Sensor (Desc)'!H25=\"\",\"\",INDEX([1]RWIS_SENSOR_MODEL!$A$2:$A$100,MATCH(1,([1]RWIS_SENSOR_MODEL!$C$2:$C$100='RWIS Sensor (Desc)'!$G25)*([1]RWIS_SENSOR_MODEL!$D$2:$D$100='RWIS Sensor (Desc)'!$H25)*([1]RWIS_SENSOR_MODEL!$E$2:$E$100='RWIS Sensor (Code)'!$D25),0),0))","v":""},{"$f":"IF('RWIS Sensor (Desc)'!I25=\"\",\"\",'RWIS Sensor (Desc)'!I25)","v":""}]
[{"$f":"IF('RWIS Sensor (Desc)'!A26=\"\",\"\",'RWIS Sensor (Desc)'!A26)","v":""},{"$f":"IF('RWIS Sensor (Desc)'!C26=\"\",\"\",\"2008\")","v":""},{"$f":"IF('RWIS Sensor (Desc)'!C26=\"\",\"\",'RWIS Sensor (Desc)'!C26)","v":""},{"$f":"IF('RWIS Sensor (Desc)'!E26=\"\",\"\",INDEX([1]RWIS_SENSOR_TYPE!$A$2:$A$100,MATCH('RWIS Sensor (Desc)'!$E26,[1]!MASTER_RWIS_SENSOR_TYPE_DESC[#Data],0),0))","v":""},{"$f":"IF('RWIS Sensor (Desc)'!F26=\"\",\"\",'RWIS Sensor (Desc)'!F26)","v":""},{"$f":"IF('RWIS Sensor (Desc)'!G26=\"\",\"\",INDEX([1]RWIS_SENSOR_MODEL!$B$2:$B$100,MATCH(1,([1]RWIS_SENSOR_MODEL!$C$2:$C$100='RWIS Sensor (Desc)'!$G26)*([1]RWIS_SENSOR_MODEL!$E$2:$E$100='RWIS Sensor (Code)'!$D26),0),0))","v":""},{"$f":"IF('RWIS Sensor (Desc)'!H26=\"\",\"\",INDEX([1]RWIS_SENSOR_MODEL!$A$2:$A$100,MATCH(1,([1]RWIS_SENSOR_MODEL!$C$2:$C$100='RWIS Sensor (Desc)'!$G26)*([1]RWIS_SENSOR_MODEL!$D$2:$D$100='RWIS Sensor (Desc)'!$H26)*([1]RWIS_SENSOR_MODEL!$E$2:$E$100='RWIS Sensor (Code)'!$D26),0),0))","v":""},{"$f":"IF('RWIS Sensor (Desc)'!I26=\"\",\"\",'RWIS Sensor (Desc)'!I26)","v":""}]
[{"$f":"IF('RWIS Sensor (Desc)'!A27=\"\",\"\",'RWIS Sensor (Desc)'!A27)","v":""},{"$f":"IF('RWIS Sensor (Desc)'!C27=\"\",\"\",\"2008\")","v":""},{"$f":"IF('RWIS Sensor (Desc)'!C27=\"\",\"\",'RWIS Sensor (Desc)'!C27)","v":""},{"$f":"IF('RWIS Sensor (Desc)'!E27=\"\",\"\",INDEX([1]RWIS_SENSOR_TYPE!$A$2:$A$100,MATCH('RWIS Sensor (Desc)'!$E27,[1]!MASTER_RWIS_SENSOR_TYPE_DESC[#Data],0),0))","v":""},{"$f":"IF('RWIS Sensor (Desc)'!F27=\"\",\"\",'RWIS Sensor (Desc)'!F27)","v":""},{"$f":"IF('RWIS Sensor (Desc)'!G27=\"\",\"\",INDEX([1]RWIS_SENSOR_MODEL!$B$2:$B$100,MATCH(1,([1]RWIS_SENSOR_MODEL!$C$2:$C$100='RWIS Sensor (Desc)'!$G27)*([1]RWIS_SENSOR_MODEL!$E$2:$E$100='RWIS Sensor (Code)'!$D27),0),0))","v":""},{"$f":"IF('RWIS Sensor (Desc)'!H27=\"\",\"\",INDEX([1]RWIS_SENSOR_MODEL!$A$2:$A$100,MATCH(1,([1]RWIS_SENSOR_MODEL!$C$2:$C$100='RWIS Sensor (Desc)'!$G27)*([1]RWIS_SENSOR_MODEL!$D$2:$D$100='RWIS Sensor (Desc)'!$H27)*([1]RWIS_SENSOR_MODEL!$E$2:$E$100='RWIS Sensor (Code)'!$D27),0),0))","v":""},{"$f":"IF('RWIS Sensor (Desc)'!I27=\"\",\"\",'RWIS Sensor (Desc)'!I27)","v":""}]
[{"$f":"IF('RWIS Sensor (Desc)'!A28=\"\",\"\",'RWIS Sensor (Desc)'!A28)","v":""},{"$f":"IF('RWIS Sensor (Desc)'!C28=\"\",\"\",\"2008\")","v":""},{"$f":"IF('RWIS Sensor (Desc)'!C28=\"\",\"\",'RWIS Sensor (Desc)'!C28)","v":""},{"$f":"IF('RWIS Sensor (Desc)'!E28=\"\",\"\",INDEX([1]RWIS_SENSOR_TYPE!$A$2:$A$100,MATCH('RWIS Sensor (Desc)'!$E28,[1]!MASTER_RWIS_SENSOR_TYPE_DESC[#Data],0),0))","v":""},{"$f":"IF('RWIS Sensor (Desc)'!F28=\"\",\"\",'RWIS Sensor (Desc)'!F28)","v":""},{"$f":"IF('RWIS Sensor (Desc)'!G28=\"\",\"\",INDEX([1]RWIS_SENSOR_MODEL!$B$2:$B$100,MATCH(1,([1]RWIS_SENSOR_MODEL!$C$2:$C$100='RWIS Sensor (Desc)'!$G28)*([1]RWIS_SENSOR_MODEL!$E$2:$E$100='RWIS Sensor (Code)'!$D28),0),0))","v":""},{"$f":"IF('RWIS Sensor (Desc)'!H28=\"\",\"\",INDEX([1]RWIS_SENSOR_MODEL!$A$2:$A$100,MATCH(1,([1]RWIS_SENSOR_MODEL!$C$2:$C$100='RWIS Sensor (Desc)'!$G28)*([1]RWIS_SENSOR_MODEL!$D$2:$D$100='RWIS Sensor (Desc)'!$H28)*([1]RWIS_SENSOR_MODEL!$E$2:$E$100='RWIS Sensor (Code)'!$D28),0),0))","v":""},{"$f":"IF('RWIS Sensor (Desc)'!I28=\"\",\"\",'RWIS Sensor (Desc)'!I28)","v":""}]
[{"$f":"IF('RWIS Sensor (Desc)'!A29=\"\",\"\",'RWIS Sensor (Desc)'!A29)","v":""},{"$f":"IF('RWIS Sensor (Desc)'!C29=\"\",\"\",\"2008\")","v":""},{"$f":"IF('RWIS Sensor (Desc)'!C29=\"\",\"\",'RWIS Sensor (Desc)'!C29)","v":""},{"$f":"IF('RWIS Sensor (Desc)'!E29=\"\",\"\",INDEX([1]RWIS_SENSOR_TYPE!$A$2:$A$100,MATCH('RWIS Sensor (Desc)'!$E29,[1]!MASTER_RWIS_SENSOR_TYPE_DESC[#Data],0),0))","v":""},{"$f":"IF('RWIS Sensor (Desc)'!F29=\"\",\"\",'RWIS Sensor (Desc)'!F29)","v":""},{"$f":"IF('RWIS Sensor (Desc)'!G29=\"\",\"\",INDEX([1]RWIS_SENSOR_MODEL!$B$2:$B$100,MATCH(1,([1]RWIS_SENSOR_MODEL!$C$2:$C$100='RWIS Sensor (Desc)'!$G29)*([1]RWIS_SENSOR_MODEL!$E$2:$E$100='RWIS Sensor (Code)'!$D29),0),0))","v":""},{"$f":"IF('RWIS Sensor (Desc)'!H29=\"\",\"\",INDEX([1]RWIS_SENSOR_MODEL!$A$2:$A$100,MATCH(1,([1]RWIS_SENSOR_MODEL!$C$2:$C$100='RWIS Sensor (Desc)'!$G29)*([1]RWIS_SENSOR_MODEL!$D$2:$D$100='RWIS Sensor (Desc)'!$H29)*([1]RWIS_SENSOR_MODEL!$E$2:$E$100='RWIS Sensor (Code)'!$D29),0),0))","v":""},{"$f":"IF('RWIS Sensor (Desc)'!I29=\"\",\"\",'RWIS Sensor (Desc)'!I29)","v":""}]
[{"$f":"IF('RWIS Sensor (Desc)'!A30=\"\",\"\",'RWIS Sensor (Desc)'!A30)","v":""},{"$f":"IF('RWIS Sensor (Desc)'!C30=\"\",\"\",\"2008\")","v":""},{"$f":"IF('RWIS Sensor (Desc)'!C30=\"\",\"\",'RWIS Sensor (Desc)'!C30)","v":""},{"$f":"IF('RWIS Sensor (Desc)'!E30=\"\",\"\",INDEX([1]RWIS_SENSOR_TYPE!$A$2:$A$100,MATCH('RWIS Sensor (Desc)'!$E30,[1]!MASTER_RWIS_SENSOR_TYPE_DESC[#Data],0),0))","v":""},{"$f":"IF('RWIS Sensor (Desc)'!F30=\"\",\"\",'RWIS Sensor (Desc)'!F30)","v":""},{"$f":"IF('RWIS Sensor (Desc)'!G30=\"\",\"\",INDEX([1]RWIS_SENSOR_MODEL!$B$2:$B$100,MATCH(1,([1]RWIS_SENSOR_MODEL!$C$2:$C$100='RWIS Sensor (Desc)'!$G30)*([1]RWIS_SENSOR_MODEL!$E$2:$E$100='RWIS Sensor (Code)'!$D30),0),0))","v":""},{"$f":"IF('RWIS Sensor (Desc)'!H30=\"\",\"\",INDEX([1]RWIS_SENSOR_MODEL!$A$2:$A$100,MATCH(1,([1]RWIS_SENSOR_MODEL!$C$2:$C$100='RWIS Sensor (Desc)'!$G30)*([1]RWIS_SENSOR_MODEL!$D$2:$D$100='RWIS Sensor (Desc)'!$H30)*([1]RWIS_SENSOR_MODEL!$E$2:$E$100='RWIS Sensor (Code)'!$D30),0),0))","v":""},{"$f":"IF('RWIS Sensor (Desc)'!I30=\"\",\"\",'RWIS Sensor (Desc)'!I30)","v":""}]
[{"$f":"IF('RWIS Sensor (Desc)'!A31=\"\",\"\",'RWIS Sensor (Desc)'!A31)","v":""},{"$f":"IF('RWIS Sensor (Desc)'!C31=\"\",\"\",\"2008\")","v":""},{"$f":"IF('RWIS Sensor (Desc)'!C31=\"\",\"\",'RWIS Sensor (Desc)'!C31)","v":""},{"$f":"IF('RWIS Sensor (Desc)'!E31=\"\",\"\",INDEX([1]RWIS_SENSOR_TYPE!$A$2:$A$100,MATCH('RWIS Sensor (Desc)'!$E31,[1]!MASTER_RWIS_SENSOR_TYPE_DESC[#Data],0),0))","v":""},{"$f":"IF('RWIS Sensor (Desc)'!F31=\"\",\"\",'RWIS Sensor (Desc)'!F31)","v":""},{"$f":"IF('RWIS Sensor (Desc)'!G31=\"\",\"\",INDEX([1]RWIS_SENSOR_MODEL!$B$2:$B$100,MATCH(1,([1]RWIS_SENSOR_MODEL!$C$2:$C$100='RWIS Sensor (Desc)'!$G31)*([1]RWIS_SENSOR_MODEL!$E$2:$E$100='RWIS Sensor (Code)'!$D31),0),0))","v":""},{"$f":"IF('RWIS Sensor (Desc)'!H31=\"\",\"\",INDEX([1]RWIS_SENSOR_MODEL!$A$2:$A$100,MATCH(1,([1]RWIS_SENSOR_MODEL!$C$2:$C$100='RWIS Sensor (Desc)'!$G31)*([1]RWIS_SENSOR_MODEL!$D$2:$D$100='RWIS Sensor (Desc)'!$H31)*([1]RWIS_SENSOR_MODEL!$E$2:$E$100='RWIS Sensor (Code)'!$D31),0),0))","v":""},{"$f":"IF('RWIS Sensor (Desc)'!I31=\"\",\"\",'RWIS Sensor (Desc)'!I31)","v":""}]
[{"$f":"IF('RWIS Sensor (Desc)'!A32=\"\",\"\",'RWIS Sensor (Desc)'!A32)","v":""},{"$f":"IF('RWIS Sensor (Desc)'!C32=\"\",\"\",\"2008\")","v":""},{"$f":"IF('RWIS Sensor (Desc)'!C32=\"\",\"\",'RWIS Sensor (Desc)'!C32)","v":""},{"$f":"IF('RWIS Sensor (Desc)'!E32=\"\",\"\",INDEX([1]RWIS_SENSOR_TYPE!$A$2:$A$100,MATCH('RWIS Sensor (Desc)'!$E32,[1]!MASTER_RWIS_SENSOR_TYPE_DESC[#Data],0),0))","v":""},{"$f":"IF('RWIS Sensor (Desc)'!F32=\"\",\"\",'RWIS Sensor (Desc)'!F32)","v":""},{"$f":"IF('RWIS Sensor (Desc)'!G32=\"\",\"\",INDEX([1]RWIS_SENSOR_MODEL!$B$2:$B$100,MATCH(1,([1]RWIS_SENSOR_MODEL!$C$2:$C$100='RWIS Sensor (Desc)'!$G32)*([1]RWIS_SENSOR_MODEL!$E$2:$E$100='RWIS Sensor (Code)'!$D32),0),0))","v":""},{"$f":"IF('RWIS Sensor (Desc)'!H32=\"\",\"\",INDEX([1]RWIS_SENSOR_MODEL!$A$2:$A$100,MATCH(1,([1]RWIS_SENSOR_MODEL!$C$2:$C$100='RWIS Sensor (Desc)'!$G32)*([1]RWIS_SENSOR_MODEL!$D$2:$D$100='RWIS Sensor (Desc)'!$H32)*([1]RWIS_SENSOR_MODEL!$E$2:$E$100='RWIS Sensor (Code)'!$D32),0),0))","v":""},{"$f":"IF('RWIS Sensor (Desc)'!I32=\"\",\"\",'RWIS Sensor (Desc)'!I32)","v":""}]
[{"$f":"IF('RWIS Sensor (Desc)'!A33=\"\",\"\",'RWIS Sensor (Desc)'!A33)","v":""},{"$f":"IF('RWIS Sensor (Desc)'!C33=\"\",\"\",\"2008\")","v":""},{"$f":"IF('RWIS Sensor (Desc)'!C33=\"\",\"\",'RWIS Sensor (Desc)'!C33)","v":""},{"$f":"IF('RWIS Sensor (Desc)'!E33=\"\",\"\",INDEX([1]RWIS_SENSOR_TYPE!$A$2:$A$100,MATCH('RWIS Sensor (Desc)'!$E33,[1]!MASTER_RWIS_SENSOR_TYPE_DESC[#Data],0),0))","v":""},{"$f":"IF('RWIS Sensor (Desc)'!F33=\"\",\"\",'RWIS Sensor (Desc)'!F33)","v":""},{"$f":"IF('RWIS Sensor (Desc)'!G33=\"\",\"\",INDEX([1]RWIS_SENSOR_MODEL!$B$2:$B$100,MATCH(1,([1]RWIS_SENSOR_MODEL!$C$2:$C$100='RWIS Sensor (Desc)'!$G33)*([1]RWIS_SENSOR_MODEL!$E$2:$E$100='RWIS Sensor (Code)'!$D33),0),0))","v":""},{"$f":"IF('RWIS Sensor (Desc)'!H33=\"\",\"\",INDEX([1]RWIS_SENSOR_MODEL!$A$2:$A$100,MATCH(1,([1]RWIS_SENSOR_MODEL!$C$2:$C$100='RWIS Sensor (Desc)'!$G33)*([1]RWIS_SENSOR_MODEL!$D$2:$D$100='RWIS Sensor (Desc)'!$H33)*([1]RWIS_SENSOR_MODEL!$E$2:$E$100='RWIS Sensor (Code)'!$D33),0),0))","v":""},{"$f":"IF('RWIS Sensor (Desc)'!I33=\"\",\"\",'RWIS Sensor (Desc)'!I33)","v":""}]
[{"$f":"IF('RWIS Sensor (Desc)'!A34=\"\",\"\",'RWIS Sensor (Desc)'!A34)","v":""},{"$f":"IF('RWIS Sensor (Desc)'!C34=\"\",\"\",\"2008\")","v":""},{"$f":"IF('RWIS Sensor (Desc)'!C34=\"\",\"\",'RWIS Sensor (Desc)'!C34)","v":""},{"$f":"IF('RWIS Sensor (Desc)'!E34=\"\",\"\",INDEX([1]RWIS_SENSOR_TYPE!$A$2:$A$100,MATCH('RWIS Sensor (Desc)'!$E34,[1]!MASTER_RWIS_SENSOR_TYPE_DESC[#Data],0),0))","v":""},{"$f":"IF('RWIS Sensor (Desc)'!F34=\"\",\"\",'RWIS Sensor (Desc)'!F34)","v":""},{"$f":"IF('RWIS Sensor (Desc)'!G34=\"\",\"\",INDEX([1]RWIS_SENSOR_MODEL!$B$2:$B$100,MATCH(1,([1]RWIS_SENSOR_MODEL!$C$2:$C$100='RWIS Sensor (Desc)'!$G34)*([1]RWIS_SENSOR_MODEL!$E$2:$E$100='RWIS Sensor (Code)'!$D34),0),0))","v":""},{"$f":"IF('RWIS Sensor (Desc)'!H34=\"\",\"\",INDEX([1]RWIS_SENSOR_MODEL!$A$2:$A$100,MATCH(1,([1]RWIS_SENSOR_MODEL!$C$2:$C$100='RWIS Sensor (Desc)'!$G34)*([1]RWIS_SENSOR_MODEL!$D$2:$D$100='RWIS Sensor (Desc)'!$H34)*([1]RWIS_SENSOR_MODEL!$E$2:$E$100='RWIS Sensor (Code)'!$D34),0),0))","v":""},{"$f":"IF('RWIS Sensor (Desc)'!I34=\"\",\"\",'RWIS Sensor (Desc)'!I34)","v":""}]
[{"$f":"IF('RWIS Sensor (Desc)'!A35=\"\",\"\",'RWIS Sensor (Desc)'!A35)","v":""},{"$f":"IF('RWIS Sensor (Desc)'!C35=\"\",\"\",\"2008\")","v":""},{"$f":"IF('RWIS Sensor (Desc)'!C35=\"\",\"\",'RWIS Sensor (Desc)'!C35)","v":""},{"$f":"IF('RWIS Sensor (Desc)'!E35=\"\",\"\",INDEX([1]RWIS_SENSOR_TYPE!$A$2:$A$100,MATCH('RWIS Sensor (Desc)'!$E35,[1]!MASTER_RWIS_SENSOR_TYPE_DESC[#Data],0),0))","v":""},{"$f":"IF('RWIS Sensor (Desc)'!F35=\"\",\"\",'RWIS Sensor (Desc)'!F35)","v":""},{"$f":"IF('RWIS Sensor (Desc)'!G35=\"\",\"\",INDEX([1]RWIS_SENSOR_MODEL!$B$2:$B$100,MATCH(1,([1]RWIS_SENSOR_MODEL!$C$2:$C$100='RWIS Sensor (Desc)'!$G35)*([1]RWIS_SENSOR_MODEL!$E$2:$E$100='RWIS Sensor (Code)'!$D35),0),0))","v":""},{"$f":"IF('RWIS Sensor (Desc)'!H35=\"\",\"\",INDEX([1]RWIS_SENSOR_MODEL!$A$2:$A$100,MATCH(1,([1]RWIS_SENSOR_MODEL!$C$2:$C$100='RWIS Sensor (Desc)'!$G35)*([1]RWIS_SENSOR_MODEL!$D$2:$D$100='RWIS Sensor (Desc)'!$H35)*([1]RWIS_SENSOR_MODEL!$E$2:$E$100='RWIS Sensor (Code)'!$D35),0),0))","v":""},{"$f":"IF('RWIS Sensor (Desc)'!I35=\"\",\"\",'RWIS Sensor (Desc)'!I35)","v":""}]
[{"$f":"IF('RWIS Sensor (Desc)'!A36=\"\",\"\",'RWIS Sensor (Desc)'!A36)","v":""},{"$f":"IF('RWIS Sensor (Desc)'!C36=\"\",\"\",\"2008\")","v":""},{"$f":"IF('RWIS Sensor (Desc)'!C36=\"\",\"\",'RWIS Sensor (Desc)'!C36)","v":""},{"$f":"IF('RWIS Sensor (Desc)'!E36=\"\",\"\",INDEX([1]RWIS_SENSOR_TYPE!$A$2:$A$100,MATCH('RWIS Sensor (Desc)'!$E36,[1]!MASTER_RWIS_SENSOR_TYPE_DESC[#Data],0),0))","v":""},{"$f":"IF('RWIS Sensor (Desc)'!F36=\"\",\"\",'RWIS Sensor (Desc)'!F36)","v":""},{"$f":"IF('RWIS Sensor (Desc)'!G36=\"\",\"\",INDEX([1]RWIS_SENSOR_MODEL!$B$2:$B$100,MATCH(1,([1]RWIS_SENSOR_MODEL!$C$2:$C$100='RWIS Sensor (Desc)'!$G36)*([1]RWIS_SENSOR_MODEL!$E$2:$E$100='RWIS Sensor (Code)'!$D36),0),0))","v":""},{"$f":"IF('RWIS Sensor (Desc)'!H36=\"\",\"\",INDEX([1]RWIS_SENSOR_MODEL!$A$2:$A$100,MATCH(1,([1]RWIS_SENSOR_MODEL!$C$2:$C$100='RWIS Sensor (Desc)'!$G36)*([1]RWIS_SENSOR_MODEL!$D$2:$D$100='RWIS Sensor (Desc)'!$H36)*([1]RWIS_SENSOR_MODEL!$E$2:$E$100='RWIS Sensor (Code)'!$D36),0),0))","v":""},{"$f":"IF('RWIS Sensor (Desc)'!I36=\"\",\"\",'RWIS Sensor (Desc)'!I36)","v":""}]
[{"$f":"IF('RWIS Sensor (Desc)'!A37=\"\",\"\",'RWIS Sensor (Desc)'!A37)","v":""},{"$f":"IF('RWIS Sensor (Desc)'!C37=\"\",\"\",\"2008\")","v":""},{"$f":"IF('RWIS Sensor (Desc)'!C37=\"\",\"\",'RWIS Sensor (Desc)'!C37)","v":""},{"$f":"IF('RWIS Sensor (Desc)'!E37=\"\",\"\",INDEX([1]RWIS_SENSOR_TYPE!$A$2:$A$100,MATCH('RWIS Sensor (Desc)'!$E37,[1]!MASTER_RWIS_SENSOR_TYPE_DESC[#Data],0),0))","v":""},{"$f":"IF('RWIS Sensor (Desc)'!F37=\"\",\"\",'RWIS Sensor (Desc)'!F37)","v":""},{"$f":"IF('RWIS Sensor (Desc)'!G37=\"\",\"\",INDEX([1]RWIS_SENSOR_MODEL!$B$2:$B$100,MATCH(1,([1]RWIS_SENSOR_MODEL!$C$2:$C$100='RWIS Sensor (Desc)'!$G37)*([1]RWIS_SENSOR_MODEL!$E$2:$E$100='RWIS Sensor (Code)'!$D37),0),0))","v":""},{"$f":"IF('RWIS Sensor (Desc)'!H37=\"\",\"\",INDEX([1]RWIS_SENSOR_MODEL!$A$2:$A$100,MATCH(1,([1]RWIS_SENSOR_MODEL!$C$2:$C$100='RWIS Sensor (Desc)'!$G37)*([1]RWIS_SENSOR_MODEL!$D$2:$D$100='RWIS Sensor (Desc)'!$H37)*([1]RWIS_SENSOR_MODEL!$E$2:$E$100='RWIS Sensor (Code)'!$D37),0),0))","v":""},{"$f":"IF('RWIS Sensor (Desc)'!I37=\"\",\"\",'RWIS Sensor (Desc)'!I37)","v":""}]
[{"$f":"IF('RWIS Sensor (Desc)'!A38=\"\",\"\",'RWIS Sensor (Desc)'!A38)","v":""},{"$f":"IF('RWIS Sensor (Desc)'!C38=\"\",\"\",\"2008\")","v":""},{"$f":"IF('RWIS Sensor (Desc)'!C38=\"\",\"\",'RWIS Sensor (Desc)'!C38)","v":""},{"$f":"IF('RWIS Sensor (Desc)'!E38=\"\",\"\",INDEX([1]RWIS_SENSOR_TYPE!$A$2:$A$100,MATCH('RWIS Sensor (Desc)'!$E38,[1]!MASTER_RWIS_SENSOR_TYPE_DESC[#Data],0),0))","v":""},{"$f":"IF('RWIS Sensor (Desc)'!F38=\"\",\"\",'RWIS Sensor (Desc)'!F38)","v":""},{"$f":"IF('RWIS Sensor (Desc)'!G38=\"\",\"\",INDEX([1]RWIS_SENSOR_MODEL!$B$2:$B$100,MATCH(1,([1]RWIS_SENSOR_MODEL!$C$2:$C$100='RWIS Sensor (Desc)'!$G38)*([1]RWIS_SENSOR_MODEL!$E$2:$E$100='RWIS Sensor (Code)'!$D38),0),0))","v":""},{"$f":"IF('RWIS Sensor (Desc)'!H38=\"\",\"\",INDEX([1]RWIS_SENSOR_MODEL!$A$2:$A$100,MATCH(1,([1]RWIS_SENSOR_MODEL!$C$2:$C$100='RWIS Sensor (Desc)'!$G38)*([1]RWIS_SENSOR_MODEL!$D$2:$D$100='RWIS Sensor (Desc)'!$H38)*([1]RWIS_SENSOR_MODEL!$E$2:$E$100='RWIS Sensor (Code)'!$D38),0),0))","v":""},{"$f":"IF('RWIS Sensor (Desc)'!I38=\"\",\"\",'RWIS Sensor (Desc)'!I38)","v":""}]
[{"$f":"IF('RWIS Sensor (Desc)'!A39=\"\",\"\",'RWIS Sensor (Desc)'!A39)","v":""},{"$f":"IF('RWIS Sensor (Desc)'!C39=\"\",\"\",\"2008\")","v":""},{"$f":"IF('RWIS Sensor (Desc)'!C39=\"\",\"\",'RWIS Sensor (Desc)'!C39)","v":""},{"$f":"IF('RWIS Sensor (Desc)'!E39=\"\",\"\",INDEX([1]RWIS_SENSOR_TYPE!$A$2:$A$100,MATCH('RWIS Sensor (Desc)'!$E39,[1]!MASTER_RWIS_SENSOR_TYPE_DESC[#Data],0),0))","v":""},{"$f":"IF('RWIS Sensor (Desc)'!F39=\"\",\"\",'RWIS Sensor (Desc)'!F39)","v":""},{"$f":"IF('RWIS Sensor (Desc)'!G39=\"\",\"\",INDEX([1]RWIS_SENSOR_MODEL!$B$2:$B$100,MATCH(1,([1]RWIS_SENSOR_MODEL!$C$2:$C$100='RWIS Sensor (Desc)'!$G39)*([1]RWIS_SENSOR_MODEL!$E$2:$E$100='RWIS Sensor (Code)'!$D39),0),0))","v":""},{"$f":"IF('RWIS Sensor (Desc)'!H39=\"\",\"\",INDEX([1]RWIS_SENSOR_MODEL!$A$2:$A$100,MATCH(1,([1]RWIS_SENSOR_MODEL!$C$2:$C$100='RWIS Sensor (Desc)'!$G39)*([1]RWIS_SENSOR_MODEL!$D$2:$D$100='RWIS Sensor (Desc)'!$H39)*([1]RWIS_SENSOR_MODEL!$E$2:$E$100='RWIS Sensor (Code)'!$D39),0),0))","v":""},{"$f":"IF('RWIS Sensor (Desc)'!I39=\"\",\"\",'RWIS Sensor (Desc)'!I39)","v":""}]
[{"$f":"IF('RWIS Sensor (Desc)'!A40=\"\",\"\",'RWIS Sensor (Desc)'!A40)","v":""},{"$f":"IF('RWIS Sensor (Desc)'!C40=\"\",\"\",\"2008\")","v":""},{"$f":"IF('RWIS Sensor (Desc)'!C40=\"\",\"\",'RWIS Sensor (Desc)'!C40)","v":""},{"$f":"IF('RWIS Sensor (Desc)'!E40=\"\",\"\",INDEX([1]RWIS_SENSOR_TYPE!$A$2:$A$100,MATCH('RWIS Sensor (Desc)'!$E40,[1]!MASTER_RWIS_SENSOR_TYPE_DESC[#Data],0),0))","v":""},{"$f":"IF('RWIS Sensor (Desc)'!F40=\"\",\"\",'RWIS Sensor (Desc)'!F40)","v":""},{"$f":"IF('RWIS Sensor (Desc)'!G40=\"\",\"\",INDEX([1]RWIS_SENSOR_MODEL!$B$2:$B$100,MATCH(1,([1]RWIS_SENSOR_MODEL!$C$2:$C$100='RWIS Sensor (Desc)'!$G40)*([1]RWIS_SENSOR_MODEL!$E$2:$E$100='RWIS Sensor (Code)'!$D40),0),0))","v":""},{"$f":"IF('RWIS Sensor (Desc)'!H40=\"\",\"\",INDEX([1]RWIS_SENSOR_MODEL!$A$2:$A$100,MATCH(1,([1]RWIS_SENSOR_MODEL!$C$2:$C$100='RWIS Sensor (Desc)'!$G40)*([1]RWIS_SENSOR_MODEL!$D$2:$D$100='RWIS Sensor (Desc)'!$H40)*([1]RWIS_SENSOR_MODEL!$E$2:$E$100='RWIS Sensor (Code)'!$D40),0),0))","v":""},{"$f":"IF('RWIS Sensor (Desc)'!I40=\"\",\"\",'RWIS Sensor (Desc)'!I40)","v":""}]
[{"$f":"IF('RWIS Sensor (Desc)'!A41=\"\",\"\",'RWIS Sensor (Desc)'!A41)","v":""},{"$f":"IF('RWIS Sensor (Desc)'!C41=\"\",\"\",\"2008\")","v":""},{"$f":"IF('RWIS Sensor (Desc)'!C41=\"\",\"\",'RWIS Sensor (Desc)'!C41)","v":""},{"$f":"IF('RWIS Sensor (Desc)'!E41=\"\",\"\",INDEX([1]RWIS_SENSOR_TYPE!$A$2:$A$100,MATCH('RWIS Sensor (Desc)'!$E41,[1]!MASTER_RWIS_SENSOR_TYPE_DESC[#Data],0),0))","v":""},{"$f":"IF('RWIS Sensor (Desc)'!F41=\"\",\"\",'RWIS Sensor (Desc)'!F41)","v":""},{"$f":"IF('RWIS Sensor (Desc)'!G41=\"\",\"\",INDEX([1]RWIS_SENSOR_MODEL!$B$2:$B$100,MATCH(1,([1]RWIS_SENSOR_MODEL!$C$2:$C$100='RWIS Sensor (Desc)'!$G41)*([1]RWIS_SENSOR_MODEL!$E$2:$E$100='RWIS Sensor (Code)'!$D41),0),0))","v":""},{"$f":"IF('RWIS Sensor (Desc)'!H41=\"\",\"\",INDEX([1]RWIS_SENSOR_MODEL!$A$2:$A$100,MATCH(1,([1]RWIS_SENSOR_MODEL!$C$2:$C$100='RWIS Sensor (Desc)'!$G41)*([1]RWIS_SENSOR_MODEL!$D$2:$D$100='RWIS Sensor (Desc)'!$H41)*([1]RWIS_SENSOR_MODEL!$E$2:$E$100='RWIS Sensor (Code)'!$D41),0),0))","v":""},{"$f":"IF('RWIS Sensor (Desc)'!I41=\"\",\"\",'RWIS Sensor (Desc)'!I41)","v":""}]
[{"$f":"IF('RWIS Sensor (Desc)'!A42=\"\",\"\",'RWIS Sensor (Desc)'!A42)","v":""},{"$f":"IF('RWIS Sensor (Desc)'!C42=\"\",\"\",\"2008\")","v":""},{"$f":"IF('RWIS Sensor (Desc)'!C42=\"\",\"\",'RWIS Sensor (Desc)'!C42)","v":""},{"$f":"IF('RWIS Sensor (Desc)'!E42=\"\",\"\",INDEX([1]RWIS_SENSOR_TYPE!$A$2:$A$100,MATCH('RWIS Sensor (Desc)'!$E42,[1]!MASTER_RWIS_SENSOR_TYPE_DESC[#Data],0),0))","v":""},{"$f":"IF('RWIS Sensor (Desc)'!F42=\"\",\"\",'RWIS Sensor (Desc)'!F42)","v":""},{"$f":"IF('RWIS Sensor (Desc)'!G42=\"\",\"\",INDEX([1]RWIS_SENSOR_MODEL!$B$2:$B$100,MATCH(1,([1]RWIS_SENSOR_MODEL!$C$2:$C$100='RWIS Sensor (Desc)'!$G42)*([1]RWIS_SENSOR_MODEL!$E$2:$E$100='RWIS Sensor (Code)'!$D42),0),0))","v":""},{"$f":"IF('RWIS Sensor (Desc)'!H42=\"\",\"\",INDEX([1]RWIS_SENSOR_MODEL!$A$2:$A$100,MATCH(1,([1]RWIS_SENSOR_MODEL!$C$2:$C$100='RWIS Sensor (Desc)'!$G42)*([1]RWIS_SENSOR_MODEL!$D$2:$D$100='RWIS Sensor (Desc)'!$H42)*([1]RWIS_SENSOR_MODEL!$E$2:$E$100='RWIS Sensor (Code)'!$D42),0),0))","v":""},{"$f":"IF('RWIS Sensor (Desc)'!I42=\"\",\"\",'RWIS Sensor (Desc)'!I42)","v":""}]
[{"$f":"IF('RWIS Sensor (Desc)'!A43=\"\",\"\",'RWIS Sensor (Desc)'!A43)","v":""},{"$f":"IF('RWIS Sensor (Desc)'!C43=\"\",\"\",\"2008\")","v":""},{"$f":"IF('RWIS Sensor (Desc)'!C43=\"\",\"\",'RWIS Sensor (Desc)'!C43)","v":""},{"$f":"IF('RWIS Sensor (Desc)'!E43=\"\",\"\",INDEX([1]RWIS_SENSOR_TYPE!$A$2:$A$100,MATCH('RWIS Sensor (Desc)'!$E43,[1]!MASTER_RWIS_SENSOR_TYPE_DESC[#Data],0),0))","v":""},{"$f":"IF('RWIS Sensor (Desc)'!F43=\"\",\"\",'RWIS Sensor (Desc)'!F43)","v":""},{"$f":"IF('RWIS Sensor (Desc)'!G43=\"\",\"\",INDEX([1]RWIS_SENSOR_MODEL!$B$2:$B$100,MATCH(1,([1]RWIS_SENSOR_MODEL!$C$2:$C$100='RWIS Sensor (Desc)'!$G43)*([1]RWIS_SENSOR_MODEL!$E$2:$E$100='RWIS Sensor (Code)'!$D43),0),0))","v":""},{"$f":"IF('RWIS Sensor (Desc)'!H43=\"\",\"\",INDEX([1]RWIS_SENSOR_MODEL!$A$2:$A$100,MATCH(1,([1]RWIS_SENSOR_MODEL!$C$2:$C$100='RWIS Sensor (Desc)'!$G43)*([1]RWIS_SENSOR_MODEL!$D$2:$D$100='RWIS Sensor (Desc)'!$H43)*([1]RWIS_SENSOR_MODEL!$E$2:$E$100='RWIS Sensor (Code)'!$D43),0),0))","v":""},{"$f":"IF('RWIS Sensor (Desc)'!I43=\"\",\"\",'RWIS Sensor (Desc)'!I43)","v":""}]
[{"$f":"IF('RWIS Sensor (Desc)'!A44=\"\",\"\",'RWIS Sensor (Desc)'!A44)","v":""},{"$f":"IF('RWIS Sensor (Desc)'!C44=\"\",\"\",\"2008\")","v":""},{"$f":"IF('RWIS Sensor (Desc)'!C44=\"\",\"\",'RWIS Sensor (Desc)'!C44)","v":""},{"$f":"IF('RWIS Sensor (Desc)'!E44=\"\",\"\",INDEX([1]RWIS_SENSOR_TYPE!$A$2:$A$100,MATCH('RWIS Sensor (Desc)'!$E44,[1]!MASTER_RWIS_SENSOR_TYPE_DESC[#Data],0),0))","v":""},{"$f":"IF('RWIS Sensor (Desc)'!F44=\"\",\"\",'RWIS Sensor (Desc)'!F44)","v":""},{"$f":"IF('RWIS Sensor (Desc)'!G44=\"\",\"\",INDEX([1]RWIS_SENSOR_MODEL!$B$2:$B$100,MATCH(1,([1]RWIS_SENSOR_MODEL!$C$2:$C$100='RWIS Sensor (Desc)'!$G44)*([1]RWIS_SENSOR_MODEL!$E$2:$E$100='RWIS Sensor (Code)'!$D44),0),0))","v":""},{"$f":"IF('RWIS Sensor (Desc)'!H44=\"\",\"\",INDEX([1]RWIS_SENSOR_MODEL!$A$2:$A$100,MATCH(1,([1]RWIS_SENSOR_MODEL!$C$2:$C$100='RWIS Sensor (Desc)'!$G44)*([1]RWIS_SENSOR_MODEL!$D$2:$D$100='RWIS Sensor (Desc)'!$H44)*([1]RWIS_SENSOR_MODEL!$E$2:$E$100='RWIS Sensor (Code)'!$D44),0),0))","v":""},{"$f":"IF('RWIS Sensor (Desc)'!I44=\"\",\"\",'RWIS Sensor (Desc)'!I44)","v":""}]
[{"$f":"IF('RWIS Sensor (Desc)'!A45=\"\",\"\",'RWIS Sensor (Desc)'!A45)","v":""},{"$f":"IF('RWIS Sensor (Desc)'!C45=\"\",\"\",\"2008\")","v":""},{"$f":"IF('RWIS Sensor (Desc)'!C45=\"\",\"\",'RWIS Sensor (Desc)'!C45)","v":""},{"$f":"IF('RWIS Sensor (Desc)'!E45=\"\",\"\",INDEX([1]RWIS_SENSOR_TYPE!$A$2:$A$100,MATCH('RWIS Sensor (Desc)'!$E45,[1]!MASTER_RWIS_SENSOR_TYPE_DESC[#Data],0),0))","v":""},{"$f":"IF('RWIS Sensor (Desc)'!F45=\"\",\"\",'RWIS Sensor (Desc)'!F45)","v":""},{"$f":"IF('RWIS Sensor (Desc)'!G45=\"\",\"\",INDEX([1]RWIS_SENSOR_MODEL!$B$2:$B$100,MATCH(1,([1]RWIS_SENSOR_MODEL!$C$2:$C$100='RWIS Sensor (Desc)'!$G45)*([1]RWIS_SENSOR_MODEL!$E$2:$E$100='RWIS Sensor (Code)'!$D45),0),0))","v":""},{"$f":"IF('RWIS Sensor (Desc)'!H45=\"\",\"\",INDEX([1]RWIS_SENSOR_MODEL!$A$2:$A$100,MATCH(1,([1]RWIS_SENSOR_MODEL!$C$2:$C$100='RWIS Sensor (Desc)'!$G45)*([1]RWIS_SENSOR_MODEL!$D$2:$D$100='RWIS Sensor (Desc)'!$H45)*([1]RWIS_SENSOR_MODEL!$E$2:$E$100='RWIS Sensor (Code)'!$D45),0),0))","v":""},{"$f":"IF('RWIS Sensor (Desc)'!I45=\"\",\"\",'RWIS Sensor (Desc)'!I45)","v":""}]
[{"$f":"IF('RWIS Sensor (Desc)'!A46=\"\",\"\",'RWIS Sensor (Desc)'!A46)","v":""},{"$f":"IF('RWIS Sensor (Desc)'!C46=\"\",\"\",\"2008\")","v":""},{"$f":"IF('RWIS Sensor (Desc)'!C46=\"\",\"\",'RWIS Sensor (Desc)'!C46)","v":""},{"$f":"IF('RWIS Sensor (Desc)'!E46=\"\",\"\",INDEX([1]RWIS_SENSOR_TYPE!$A$2:$A$100,MATCH('RWIS Sensor (Desc)'!$E46,[1]!MASTER_RWIS_SENSOR_TYPE_DESC[#Data],0),0))","v":""},{"$f":"IF('RWIS Sensor (Desc)'!F46=\"\",\"\",'RWIS Sensor (Desc)'!F46)","v":""},{"$f":"IF('RWIS Sensor (Desc)'!G46=\"\",\"\",INDEX([1]RWIS_SENSOR_MODEL!$B$2:$B$100,MATCH(1,([1]RWIS_SENSOR_MODEL!$C$2:$C$100='RWIS Sensor (Desc)'!$G46)*([1]RWIS_SENSOR_MODEL!$E$2:$E$100='RWIS Sensor (Code)'!$D46),0),0))","v":""},{"$f":"IF('RWIS Sensor (Desc)'!H46=\"\",\"\",INDEX([1]RWIS_SENSOR_MODEL!$A$2:$A$100,MATCH(1,([1]RWIS_SENSOR_MODEL!$C$2:$C$100='RWIS Sensor (Desc)'!$G46)*([1]RWIS_SENSOR_MODEL!$D$2:$D$100='RWIS Sensor (Desc)'!$H46)*([1]RWIS_SENSOR_MODEL!$E$2:$E$100='RWIS Sensor (Code)'!$D46),0),0))","v":""},{"$f":"IF('RWIS Sensor (Desc)'!I46=\"\",\"\",'RWIS Sensor (Desc)'!I46)","v":""}]
[{"$f":"IF('RWIS Sensor (Desc)'!A47=\"\",\"\",'RWIS Sensor (Desc)'!A47)","v":""},{"$f":"IF('RWIS Sensor (Desc)'!C47=\"\",\"\",\"2008\")","v":""},{"$f":"IF('RWIS Sensor (Desc)'!C47=\"\",\"\",'RWIS Sensor (Desc)'!C47)","v":""},{"$f":"IF('RWIS Sensor (Desc)'!E47=\"\",\"\",INDEX([1]RWIS_SENSOR_TYPE!$A$2:$A$100,MATCH('RWIS Sensor (Desc)'!$E47,[1]!MASTER_RWIS_SENSOR_TYPE_DESC[#Data],0),0))","v":""},{"$f":"IF('RWIS Sensor (Desc)'!F47=\"\",\"\",'RWIS Sensor (Desc)'!F47)","v":""},{"$f":"IF('RWIS Sensor (Desc)'!G47=\"\",\"\",INDEX([1]RWIS_SENSOR_MODEL!$B$2:$B$100,MATCH(1,([1]RWIS_SENSOR_MODEL!$C$2:$C$100='RWIS Sensor (Desc)'!$G47)*([1]RWIS_SENSOR_MODEL!$E$2:$E$100='RWIS Sensor (Code)'!$D47),0),0))","v":""},{"$f":"IF('RWIS Sensor (Desc)'!H47=\"\",\"\",INDEX([1]RWIS_SENSOR_MODEL!$A$2:$A$100,MATCH(1,([1]RWIS_SENSOR_MODEL!$C$2:$C$100='RWIS Sensor (Desc)'!$G47)*([1]RWIS_SENSOR_MODEL!$D$2:$D$100='RWIS Sensor (Desc)'!$H47)*([1]RWIS_SENSOR_MODEL!$E$2:$E$100='RWIS Sensor (Code)'!$D47),0),0))","v":""},{"$f":"IF('RWIS Sensor (Desc)'!I47=\"\",\"\",'RWIS Sensor (Desc)'!I47)","v":""}]
[{"$f":"IF('RWIS Sensor (Desc)'!A48=\"\",\"\",'RWIS Sensor (Desc)'!A48)","v":""},{"$f":"IF('RWIS Sensor (Desc)'!C48=\"\",\"\",\"2008\")","v":""},{"$f":"IF('RWIS Sensor (Desc)'!C48=\"\",\"\",'RWIS Sensor (Desc)'!C48)","v":""},{"$f":"IF('RWIS Sensor (Desc)'!E48=\"\",\"\",INDEX([1]RWIS_SENSOR_TYPE!$A$2:$A$100,MATCH('RWIS Sensor (Desc)'!$E48,[1]!MASTER_RWIS_SENSOR_TYPE_DESC[#Data],0),0))","v":""},{"$f":"IF('RWIS Sensor (Desc)'!F48=\"\",\"\",'RWIS Sensor (Desc)'!F48)","v":""},{"$f":"IF('RWIS Sensor (Desc)'!G48=\"\",\"\",INDEX([1]RWIS_SENSOR_MODEL!$B$2:$B$100,MATCH(1,([1]RWIS_SENSOR_MODEL!$C$2:$C$100='RWIS Sensor (Desc)'!$G48)*([1]RWIS_SENSOR_MODEL!$E$2:$E$100='RWIS Sensor (Code)'!$D48),0),0))","v":""},{"$f":"IF('RWIS Sensor (Desc)'!H48=\"\",\"\",INDEX([1]RWIS_SENSOR_MODEL!$A$2:$A$100,MATCH(1,([1]RWIS_SENSOR_MODEL!$C$2:$C$100='RWIS Sensor (Desc)'!$G48)*([1]RWIS_SENSOR_MODEL!$D$2:$D$100='RWIS Sensor (Desc)'!$H48)*([1]RWIS_SENSOR_MODEL!$E$2:$E$100='RWIS Sensor (Code)'!$D48),0),0))","v":""},{"$f":"IF('RWIS Sensor (Desc)'!I48=\"\",\"\",'RWIS Sensor (Desc)'!I48)","v":""}]
[{"$f":"IF('RWIS Sensor (Desc)'!A49=\"\",\"\",'RWIS Sensor (Desc)'!A49)","v":""},{"$f":"IF('RWIS Sensor (Desc)'!C49=\"\",\"\",\"2008\")","v":""},{"$f":"IF('RWIS Sensor (Desc)'!C49=\"\",\"\",'RWIS Sensor (Desc)'!C49)","v":""},{"$f":"IF('RWIS Sensor (Desc)'!E49=\"\",\"\",INDEX([1]RWIS_SENSOR_TYPE!$A$2:$A$100,MATCH('RWIS Sensor (Desc)'!$E49,[1]!MASTER_RWIS_SENSOR_TYPE_DESC[#Data],0),0))","v":""},{"$f":"IF('RWIS Sensor (Desc)'!F49=\"\",\"\",'RWIS Sensor (Desc)'!F49)","v":""},{"$f":"IF('RWIS Sensor (Desc)'!G49=\"\",\"\",INDEX([1]RWIS_SENSOR_MODEL!$B$2:$B$100,MATCH(1,([1]RWIS_SENSOR_MODEL!$C$2:$C$100='RWIS Sensor (Desc)'!$G49)*([1]RWIS_SENSOR_MODEL!$E$2:$E$100='RWIS Sensor (Code)'!$D49),0),0))","v":""},{"$f":"IF('RWIS Sensor (Desc)'!H49=\"\",\"\",INDEX([1]RWIS_SENSOR_MODEL!$A$2:$A$100,MATCH(1,([1]RWIS_SENSOR_MODEL!$C$2:$C$100='RWIS Sensor (Desc)'!$G49)*([1]RWIS_SENSOR_MODEL!$D$2:$D$100='RWIS Sensor (Desc)'!$H49)*([1]RWIS_SENSOR_MODEL!$E$2:$E$100='RWIS Sensor (Code)'!$D49),0),0))","v":""},{"$f":"IF('RWIS Sensor (Desc)'!I49=\"\",\"\",'RWIS Sensor (Desc)'!I49)","v":""}]
[{"$f":"IF('RWIS Sensor (Desc)'!A50=\"\",\"\",'RWIS Sensor (Desc)'!A50)","v":""},{"$f":"IF('RWIS Sensor (Desc)'!C50=\"\",\"\",\"2008\")","v":""},{"$f":"IF('RWIS Sensor (Desc)'!C50=\"\",\"\",'RWIS Sensor (Desc)'!C50)","v":""},{"$f":"IF('RWIS Sensor (Desc)'!E50=\"\",\"\",INDEX([1]RWIS_SENSOR_TYPE!$A$2:$A$100,MATCH('RWIS Sensor (Desc)'!$E50,[1]!MASTER_RWIS_SENSOR_TYPE_DESC[#Data],0),0))","v":""},{"$f":"IF('RWIS Sensor (Desc)'!F50=\"\",\"\",'RWIS Sensor (Desc)'!F50)","v":""},{"$f":"IF('RWIS Sensor (Desc)'!G50=\"\",\"\",INDEX([1]RWIS_SENSOR_MODEL!$B$2:$B$100,MATCH(1,([1]RWIS_SENSOR_MODEL!$C$2:$C$100='RWIS Sensor (Desc)'!$G50)*([1]RWIS_SENSOR_MODEL!$E$2:$E$100='RWIS Sensor (Code)'!$D50),0),0))","v":""},{"$f":"IF('RWIS Sensor (Desc)'!H50=\"\",\"\",INDEX([1]RWIS_SENSOR_MODEL!$A$2:$A$100,MATCH(1,([1]RWIS_SENSOR_MODEL!$C$2:$C$100='RWIS Sensor (Desc)'!$G50)*([1]RWIS_SENSOR_MODEL!$D$2:$D$100='RWIS Sensor (Desc)'!$H50)*([1]RWIS_SENSOR_MODEL!$E$2:$E$100='RWIS Sensor (Code)'!$D50),0),0))","v":""},{"$f":"IF('RWIS Sensor (Desc)'!I50=\"\",\"\",'RWIS Sensor (Desc)'!I50)","v":""}]
[{"$f":"IF('RWIS Sensor (Desc)'!A51=\"\",\"\",'RWIS Sensor (Desc)'!A51)","v":""},{"$f":"IF('RWIS Sensor (Desc)'!C51=\"\",\"\",\"2008\")","v":""},{"$f":"IF('RWIS Sensor (Desc)'!C51=\"\",\"\",'RWIS Sensor (Desc)'!C51)","v":""},{"$f":"IF('RWIS Sensor (Desc)'!E51=\"\",\"\",INDEX([1]RWIS_SENSOR_TYPE!$A$2:$A$100,MATCH('RWIS Sensor (Desc)'!$E51,[1]!MASTER_RWIS_SENSOR_TYPE_DESC[#Data],0),0))","v":""},{"$f":"IF('RWIS Sensor (Desc)'!F51=\"\",\"\",'RWIS Sensor (Desc)'!F51)","v":""},{"$f":"IF('RWIS Sensor (Desc)'!G51=\"\",\"\",INDEX([1]RWIS_SENSOR_MODEL!$B$2:$B$100,MATCH(1,([1]RWIS_SENSOR_MODEL!$C$2:$C$100='RWIS Sensor (Desc)'!$G51)*([1]RWIS_SENSOR_MODEL!$E$2:$E$100='RWIS Sensor (Code)'!$D51),0),0))","v":""},{"$f":"IF('RWIS Sensor (Desc)'!H51=\"\",\"\",INDEX([1]RWIS_SENSOR_MODEL!$A$2:$A$100,MATCH(1,([1]RWIS_SENSOR_MODEL!$C$2:$C$100='RWIS Sensor (Desc)'!$G51)*([1]RWIS_SENSOR_MODEL!$D$2:$D$100='RWIS Sensor (Desc)'!$H51)*([1]RWIS_SENSOR_MODEL!$E$2:$E$100='RWIS Sensor (Code)'!$D51),0),0))","v":""},{"$f":"IF('RWIS Sensor (Desc)'!I51=\"\",\"\",'RWIS Sensor (Desc)'!I51)","v":""}]
[{"$f":"IF('RWIS Sensor (Desc)'!A52=\"\",\"\",'RWIS Sensor (Desc)'!A52)","v":""},{"$f":"IF('RWIS Sensor (Desc)'!C52=\"\",\"\",\"2008\")","v":""},{"$f":"IF('RWIS Sensor (Desc)'!C52=\"\",\"\",'RWIS Sensor (Desc)'!C52)","v":""},{"$f":"IF('RWIS Sensor (Desc)'!E52=\"\",\"\",INDEX([1]RWIS_SENSOR_TYPE!$A$2:$A$100,MATCH('RWIS Sensor (Desc)'!$E52,[1]!MASTER_RWIS_SENSOR_TYPE_DESC[#Data],0),0))","v":""},{"$f":"IF('RWIS Sensor (Desc)'!F52=\"\",\"\",'RWIS Sensor (Desc)'!F52)","v":""},{"$f":"IF('RWIS Sensor (Desc)'!G52=\"\",\"\",INDEX([1]RWIS_SENSOR_MODEL!$B$2:$B$100,MATCH(1,([1]RWIS_SENSOR_MODEL!$C$2:$C$100='RWIS Sensor (Desc)'!$G52)*([1]RWIS_SENSOR_MODEL!$E$2:$E$100='RWIS Sensor (Code)'!$D52),0),0))","v":""},{"$f":"IF('RWIS Sensor (Desc)'!H52=\"\",\"\",INDEX([1]RWIS_SENSOR_MODEL!$A$2:$A$100,MATCH(1,([1]RWIS_SENSOR_MODEL!$C$2:$C$100='RWIS Sensor (Desc)'!$G52)*([1]RWIS_SENSOR_MODEL!$D$2:$D$100='RWIS Sensor (Desc)'!$H52)*([1]RWIS_SENSOR_MODEL!$E$2:$E$100='RWIS Sensor (Code)'!$D52),0),0))","v":""},{"$f":"IF('RWIS Sensor (Desc)'!I52=\"\",\"\",'RWIS Sensor (Desc)'!I52)","v":""}]
[{"$f":"IF('RWIS Sensor (Desc)'!A53=\"\",\"\",'RWIS Sensor (Desc)'!A53)","v":""},{"$f":"IF('RWIS Sensor (Desc)'!C53=\"\",\"\",\"2008\")","v":""},{"$f":"IF('RWIS Sensor (Desc)'!C53=\"\",\"\",'RWIS Sensor (Desc)'!C53)","v":""},{"$f":"IF('RWIS Sensor (Desc)'!E53=\"\",\"\",INDEX([1]RWIS_SENSOR_TYPE!$A$2:$A$100,MATCH('RWIS Sensor (Desc)'!$E53,[1]!MASTER_RWIS_SENSOR_TYPE_DESC[#Data],0),0))","v":""},{"$f":"IF('RWIS Sensor (Desc)'!F53=\"\",\"\",'RWIS Sensor (Desc)'!F53)","v":""},{"$f":"IF('RWIS Sensor (Desc)'!G53=\"\",\"\",INDEX([1]RWIS_SENSOR_MODEL!$B$2:$B$100,MATCH(1,([1]RWIS_SENSOR_MODEL!$C$2:$C$100='RWIS Sensor (Desc)'!$G53)*([1]RWIS_SENSOR_MODEL!$E$2:$E$100='RWIS Sensor (Code)'!$D53),0),0))","v":""},{"$f":"IF('RWIS Sensor (Desc)'!H53=\"\",\"\",INDEX([1]RWIS_SENSOR_MODEL!$A$2:$A$100,MATCH(1,([1]RWIS_SENSOR_MODEL!$C$2:$C$100='RWIS Sensor (Desc)'!$G53)*([1]RWIS_SENSOR_MODEL!$D$2:$D$100='RWIS Sensor (Desc)'!$H53)*([1]RWIS_SENSOR_MODEL!$E$2:$E$100='RWIS Sensor (Code)'!$D53),0),0))","v":""},{"$f":"IF('RWIS Sensor (Desc)'!I53=\"\",\"\",'RWIS Sensor (Desc)'!I53)","v":""}]
[{"$f":"IF('RWIS Sensor (Desc)'!A54=\"\",\"\",'RWIS Sensor (Desc)'!A54)","v":""},{"$f":"IF('RWIS Sensor (Desc)'!C54=\"\",\"\",\"2008\")","v":""},{"$f":"IF('RWIS Sensor (Desc)'!C54=\"\",\"\",'RWIS Sensor (Desc)'!C54)","v":""},{"$f":"IF('RWIS Sensor (Desc)'!E54=\"\",\"\",INDEX([1]RWIS_SENSOR_TYPE!$A$2:$A$100,MATCH('RWIS Sensor (Desc)'!$E54,[1]!MASTER_RWIS_SENSOR_TYPE_DESC[#Data],0),0))","v":""},{"$f":"IF('RWIS Sensor (Desc)'!F54=\"\",\"\",'RWIS Sensor (Desc)'!F54)","v":""},{"$f":"IF('RWIS Sensor (Desc)'!G54=\"\",\"\",INDEX([1]RWIS_SENSOR_MODEL!$B$2:$B$100,MATCH(1,([1]RWIS_SENSOR_MODEL!$C$2:$C$100='RWIS Sensor (Desc)'!$G54)*([1]RWIS_SENSOR_MODEL!$E$2:$E$100='RWIS Sensor (Code)'!$D54),0),0))","v":""},{"$f":"IF('RWIS Sensor (Desc)'!H54=\"\",\"\",INDEX([1]RWIS_SENSOR_MODEL!$A$2:$A$100,MATCH(1,([1]RWIS_SENSOR_MODEL!$C$2:$C$100='RWIS Sensor (Desc)'!$G54)*([1]RWIS_SENSOR_MODEL!$D$2:$D$100='RWIS Sensor (Desc)'!$H54)*([1]RWIS_SENSOR_MODEL!$E$2:$E$100='RWIS Sensor (Code)'!$D54),0),0))","v":""},{"$f":"IF('RWIS Sensor (Desc)'!I54=\"\",\"\",'RWIS Sensor (Desc)'!I54)","v":""}]
[{"$f":"IF('RWIS Sensor (Desc)'!A55=\"\",\"\",'RWIS Sensor (Desc)'!A55)","v":""},{"$f":"IF('RWIS Sensor (Desc)'!C55=\"\",\"\",\"2008\")","v":""},{"$f":"IF('RWIS Sensor (Desc)'!C55=\"\",\"\",'RWIS Sensor (Desc)'!C55)","v":""},{"$f":"IF('RWIS Sensor (Desc)'!E55=\"\",\"\",INDEX([1]RWIS_SENSOR_TYPE!$A$2:$A$100,MATCH('RWIS Sensor (Desc)'!$E55,[1]!MASTER_RWIS_SENSOR_TYPE_DESC[#Data],0),0))","v":""},{"$f":"IF('RWIS Sensor (Desc)'!F55=\"\",\"\",'RWIS Sensor (Desc)'!F55)","v":""},{"$f":"IF('RWIS Sensor (Desc)'!G55=\"\",\"\",INDEX([1]RWIS_SENSOR_MODEL!$B$2:$B$100,MATCH(1,([1]RWIS_SENSOR_MODEL!$C$2:$C$100='RWIS Sensor (Desc)'!$G55)*([1]RWIS_SENSOR_MODEL!$E$2:$E$100='RWIS Sensor (Code)'!$D55),0),0))","v":""},{"$f":"IF('RWIS Sensor (Desc)'!H55=\"\",\"\",INDEX([1]RWIS_SENSOR_MODEL!$A$2:$A$100,MATCH(1,([1]RWIS_SENSOR_MODEL!$C$2:$C$100='RWIS Sensor (Desc)'!$G55)*([1]RWIS_SENSOR_MODEL!$D$2:$D$100='RWIS Sensor (Desc)'!$H55)*([1]RWIS_SENSOR_MODEL!$E$2:$E$100='RWIS Sensor (Code)'!$D55),0),0))","v":""},{"$f":"IF('RWIS Sensor (Desc)'!I55=\"\",\"\",'RWIS Sensor (Desc)'!I55)","v":""}]
[{"$f":"IF('RWIS Sensor (Desc)'!A56=\"\",\"\",'RWIS Sensor (Desc)'!A56)","v":""},{"$f":"IF('RWIS Sensor (Desc)'!C56=\"\",\"\",\"2008\")","v":""},{"$f":"IF('RWIS Sensor (Desc)'!C56=\"\",\"\",'RWIS Sensor (Desc)'!C56)","v":""},{"$f":"IF('RWIS Sensor (Desc)'!E56=\"\",\"\",INDEX([1]RWIS_SENSOR_TYPE!$A$2:$A$100,MATCH('RWIS Sensor (Desc)'!$E56,[1]!MASTER_RWIS_SENSOR_TYPE_DESC[#Data],0),0))","v":""},{"$f":"IF('RWIS Sensor (Desc)'!F56=\"\",\"\",'RWIS Sensor (Desc)'!F56)","v":""},{"$f":"IF('RWIS Sensor (Desc)'!G56=\"\",\"\",INDEX([1]RWIS_SENSOR_MODEL!$B$2:$B$100,MATCH(1,([1]RWIS_SENSOR_MODEL!$C$2:$C$100='RWIS Sensor (Desc)'!$G56)*([1]RWIS_SENSOR_MODEL!$E$2:$E$100='RWIS Sensor (Code)'!$D56),0),0))","v":""},{"$f":"IF('RWIS Sensor (Desc)'!H56=\"\",\"\",INDEX([1]RWIS_SENSOR_MODEL!$A$2:$A$100,MATCH(1,([1]RWIS_SENSOR_MODEL!$C$2:$C$100='RWIS Sensor (Desc)'!$G56)*([1]RWIS_SENSOR_MODEL!$D$2:$D$100='RWIS Sensor (Desc)'!$H56)*([1]RWIS_SENSOR_MODEL!$E$2:$E$100='RWIS Sensor (Code)'!$D56),0),0))","v":""},{"$f":"IF('RWIS Sensor (Desc)'!I56=\"\",\"\",'RWIS Sensor (Desc)'!I56)","v":""}]
[{"$f":"IF('RWIS Sensor (Desc)'!A57=\"\",\"\",'RWIS Sensor (Desc)'!A57)","v":""},{"$f":"IF('RWIS Sensor (Desc)'!C57=\"\",\"\",\"2008\")","v":""},{"$f":"IF('RWIS Sensor (Desc)'!C57=\"\",\"\",'RWIS Sensor (Desc)'!C57)","v":""},{"$f":"IF('RWIS Sensor (Desc)'!E57=\"\",\"\",INDEX([1]RWIS_SENSOR_TYPE!$A$2:$A$100,MATCH('RWIS Sensor (Desc)'!$E57,[1]!MASTER_RWIS_SENSOR_TYPE_DESC[#Data],0),0))","v":""},{"$f":"IF('RWIS Sensor (Desc)'!F57=\"\",\"\",'RWIS Sensor (Desc)'!F57)","v":""},{"$f":"IF('RWIS Sensor (Desc)'!G57=\"\",\"\",INDEX([1]RWIS_SENSOR_MODEL!$B$2:$B$100,MATCH(1,([1]RWIS_SENSOR_MODEL!$C$2:$C$100='RWIS Sensor (Desc)'!$G57)*([1]RWIS_SENSOR_MODEL!$E$2:$E$100='RWIS Sensor (Code)'!$D57),0),0))","v":""},{"$f":"IF('RWIS Sensor (Desc)'!H57=\"\",\"\",INDEX([1]RWIS_SENSOR_MODEL!$A$2:$A$100,MATCH(1,([1]RWIS_SENSOR_MODEL!$C$2:$C$100='RWIS Sensor (Desc)'!$G57)*([1]RWIS_SENSOR_MODEL!$D$2:$D$100='RWIS Sensor (Desc)'!$H57)*([1]RWIS_SENSOR_MODEL!$E$2:$E$100='RWIS Sensor (Code)'!$D57),0),0))","v":""},{"$f":"IF('RWIS Sensor (Desc)'!I57=\"\",\"\",'RWIS Sensor (Desc)'!I57)","v":""}]
[{"$f":"IF('RWIS Sensor (Desc)'!A58=\"\",\"\",'RWIS Sensor (Desc)'!A58)","v":""},{"$f":"IF('RWIS Sensor (Desc)'!C58=\"\",\"\",\"2008\")","v":""},{"$f":"IF('RWIS Sensor (Desc)'!C58=\"\",\"\",'RWIS Sensor (Desc)'!C58)","v":""},{"$f":"IF('RWIS Sensor (Desc)'!E58=\"\",\"\",INDEX([1]RWIS_SENSOR_TYPE!$A$2:$A$100,MATCH('RWIS Sensor (Desc)'!$E58,[1]!MASTER_RWIS_SENSOR_TYPE_DESC[#Data],0),0))","v":""},{"$f":"IF('RWIS Sensor (Desc)'!F58=\"\",\"\",'RWIS Sensor (Desc)'!F58)","v":""},{"$f":"IF('RWIS Sensor (Desc)'!G58=\"\",\"\",INDEX([1]RWIS_SENSOR_MODEL!$B$2:$B$100,MATCH(1,([1]RWIS_SENSOR_MODEL!$C$2:$C$100='RWIS Sensor (Desc)'!$G58)*([1]RWIS_SENSOR_MODEL!$E$2:$E$100='RWIS Sensor (Code)'!$D58),0),0))","v":""},{"$f":"IF('RWIS Sensor (Desc)'!H58=\"\",\"\",INDEX([1]RWIS_SENSOR_MODEL!$A$2:$A$100,MATCH(1,([1]RWIS_SENSOR_MODEL!$C$2:$C$100='RWIS Sensor (Desc)'!$G58)*([1]RWIS_SENSOR_MODEL!$D$2:$D$100='RWIS Sensor (Desc)'!$H58)*([1]RWIS_SENSOR_MODEL!$E$2:$E$100='RWIS Sensor (Code)'!$D58),0),0))","v":""},{"$f":"IF('RWIS Sensor (Desc)'!I58=\"\",\"\",'RWIS Sensor (Desc)'!I58)","v":""}]
[{"$f":"IF('RWIS Sensor (Desc)'!A59=\"\",\"\",'RWIS Sensor (Desc)'!A59)","v":""},{"$f":"IF('RWIS Sensor (Desc)'!C59=\"\",\"\",\"2008\")","v":""},{"$f":"IF('RWIS Sensor (Desc)'!C59=\"\",\"\",'RWIS Sensor (Desc)'!C59)","v":""},{"$f":"IF('RWIS Sensor (Desc)'!E59=\"\",\"\",INDEX([1]RWIS_SENSOR_TYPE!$A$2:$A$100,MATCH('RWIS Sensor (Desc)'!$E59,[1]!MASTER_RWIS_SENSOR_TYPE_DESC[#Data],0),0))","v":""},{"$f":"IF('RWIS Sensor (Desc)'!F59=\"\",\"\",'RWIS Sensor (Desc)'!F59)","v":""},{"$f":"IF('RWIS Sensor (Desc)'!G59=\"\",\"\",INDEX([1]RWIS_SENSOR_MODEL!$B$2:$B$100,MATCH(1,([1]RWIS_SENSOR_MODEL!$C$2:$C$100='RWIS Sensor (Desc)'!$G59)*([1]RWIS_SENSOR_MODEL!$E$2:$E$100='RWIS Sensor (Code)'!$D59),0),0))","v":""},{"$f":"IF('RWIS Sensor (Desc)'!H59=\"\",\"\",INDEX([1]RWIS_SENSOR_MODEL!$A$2:$A$100,MATCH(1,([1]RWIS_SENSOR_MODEL!$C$2:$C$100='RWIS Sensor (Desc)'!$G59)*([1]RWIS_SENSOR_MODEL!$D$2:$D$100='RWIS Sensor (Desc)'!$H59)*([1]RWIS_SENSOR_MODEL!$E$2:$E$100='RWIS Sensor (Code)'!$D59),0),0))","v":""},{"$f":"IF('RWIS Sensor (Desc)'!I59=\"\",\"\",'RWIS Sensor (Desc)'!I59)","v":""}]
[{"$f":"IF('RWIS Sensor (Desc)'!A60=\"\",\"\",'RWIS Sensor (Desc)'!A60)","v":""},{"$f":"IF('RWIS Sensor (Desc)'!C60=\"\",\"\",\"2008\")","v":""},{"$f":"IF('RWIS Sensor (Desc)'!C60=\"\",\"\",'RWIS Sensor (Desc)'!C60)","v":""},{"$f":"IF('RWIS Sensor (Desc)'!E60=\"\",\"\",INDEX([1]RWIS_SENSOR_TYPE!$A$2:$A$100,MATCH('RWIS Sensor (Desc)'!$E60,[1]!MASTER_RWIS_SENSOR_TYPE_DESC[#Data],0),0))","v":""},{"$f":"IF('RWIS Sensor (Desc)'!F60=\"\",\"\",'RWIS Sensor (Desc)'!F60)","v":""},{"$f":"IF('RWIS Sensor (Desc)'!G60=\"\",\"\",INDEX([1]RWIS_SENSOR_MODEL!$B$2:$B$100,MATCH(1,([1]RWIS_SENSOR_MODEL!$C$2:$C$100='RWIS Sensor (Desc)'!$G60)*([1]RWIS_SENSOR_MODEL!$E$2:$E$100='RWIS Sensor (Code)'!$D60),0),0))","v":""},{"$f":"IF('RWIS Sensor (Desc)'!H60=\"\",\"\",INDEX([1]RWIS_SENSOR_MODEL!$A$2:$A$100,MATCH(1,([1]RWIS_SENSOR_MODEL!$C$2:$C$100='RWIS Sensor (Desc)'!$G60)*([1]RWIS_SENSOR_MODEL!$D$2:$D$100='RWIS Sensor (Desc)'!$H60)*([1]RWIS_SENSOR_MODEL!$E$2:$E$100='RWIS Sensor (Code)'!$D60),0),0))","v":""},{"$f":"IF('RWIS Sensor (Desc)'!I60=\"\",\"\",'RWIS Sensor (Desc)'!I60)","v":""}]
[{"$f":"IF('RWIS Sensor (Desc)'!A61=\"\",\"\",'RWIS Sensor (Desc)'!A61)","v":""},{"$f":"IF('RWIS Sensor (Desc)'!C61=\"\",\"\",\"2008\")","v":""},{"$f":"IF('RWIS Sensor (Desc)'!C61=\"\",\"\",'RWIS Sensor (Desc)'!C61)","v":""},{"$f":"IF('RWIS Sensor (Desc)'!E61=\"\",\"\",INDEX([1]RWIS_SENSOR_TYPE!$A$2:$A$100,MATCH('RWIS Sensor (Desc)'!$E61,[1]!MASTER_RWIS_SENSOR_TYPE_DESC[#Data],0),0))","v":""},{"$f":"IF('RWIS Sensor (Desc)'!F61=\"\",\"\",'RWIS Sensor (Desc)'!F61)","v":""},{"$f":"IF('RWIS Sensor (Desc)'!G61=\"\",\"\",INDEX([1]RWIS_SENSOR_MODEL!$B$2:$B$100,MATCH(1,([1]RWIS_SENSOR_MODEL!$C$2:$C$100='RWIS Sensor (Desc)'!$G61)*([1]RWIS_SENSOR_MODEL!$E$2:$E$100='RWIS Sensor (Code)'!$D61),0),0))","v":""},{"$f":"IF('RWIS Sensor (Desc)'!H61=\"\",\"\",INDEX([1]RWIS_SENSOR_MODEL!$A$2:$A$100,MATCH(1,([1]RWIS_SENSOR_MODEL!$C$2:$C$100='RWIS Sensor (Desc)'!$G61)*([1]RWIS_SENSOR_MODEL!$D$2:$D$100='RWIS Sensor (Desc)'!$H61)*([1]RWIS_SENSOR_MODEL!$E$2:$E$100='RWIS Sensor (Code)'!$D61),0),0))","v":""},{"$f":"IF('RWIS Sensor (Desc)'!I61=\"\",\"\",'RWIS Sensor (Desc)'!I61)","v":""}]
[{"$f":"IF('RWIS Sensor (Desc)'!A62=\"\",\"\",'RWIS Sensor (Desc)'!A62)","v":""},{"$f":"IF('RWIS Sensor (Desc)'!C62=\"\",\"\",\"2008\")","v":""},{"$f":"IF('RWIS Sensor (Desc)'!C62=\"\",\"\",'RWIS Sensor (Desc)'!C62)","v":""},{"$f":"IF('RWIS Sensor (Desc)'!E62=\"\",\"\",INDEX([1]RWIS_SENSOR_TYPE!$A$2:$A$100,MATCH('RWIS Sensor (Desc)'!$E62,[1]!MASTER_RWIS_SENSOR_TYPE_DESC[#Data],0),0))","v":""},{"$f":"IF('RWIS Sensor (Desc)'!F62=\"\",\"\",'RWIS Sensor (Desc)'!F62)","v":""},{"$f":"IF('RWIS Sensor (Desc)'!G62=\"\",\"\",INDEX([1]RWIS_SENSOR_MODEL!$B$2:$B$100,MATCH(1,([1]RWIS_SENSOR_MODEL!$C$2:$C$100='RWIS Sensor (Desc)'!$G62)*([1]RWIS_SENSOR_MODEL!$E$2:$E$100='RWIS Sensor (Code)'!$D62),0),0))","v":""},{"$f":"IF('RWIS Sensor (Desc)'!H62=\"\",\"\",INDEX([1]RWIS_SENSOR_MODEL!$A$2:$A$100,MATCH(1,([1]RWIS_SENSOR_MODEL!$C$2:$C$100='RWIS Sensor (Desc)'!$G62)*([1]RWIS_SENSOR_MODEL!$D$2:$D$100='RWIS Sensor (Desc)'!$H62)*([1]RWIS_SENSOR_MODEL!$E$2:$E$100='RWIS Sensor (Code)'!$D62),0),0))","v":""},{"$f":"IF('RWIS Sensor (Desc)'!I62=\"\",\"\",'RWIS Sensor (Desc)'!I62)","v":""}]
[{"$f":"IF('RWIS Sensor (Desc)'!A63=\"\",\"\",'RWIS Sensor (Desc)'!A63)","v":""},{"$f":"IF('RWIS Sensor (Desc)'!C63=\"\",\"\",\"2008\")","v":""},{"$f":"IF('RWIS Sensor (Desc)'!C63=\"\",\"\",'RWIS Sensor (Desc)'!C63)","v":""},{"$f":"IF('RWIS Sensor (Desc)'!E63=\"\",\"\",INDEX([1]RWIS_SENSOR_TYPE!$A$2:$A$100,MATCH('RWIS Sensor (Desc)'!$E63,[1]!MASTER_RWIS_SENSOR_TYPE_DESC[#Data],0),0))","v":""},{"$f":"IF('RWIS Sensor (Desc)'!F63=\"\",\"\",'RWIS Sensor (Desc)'!F63)","v":""},{"$f":"IF('RWIS Sensor (Desc)'!G63=\"\",\"\",INDEX([1]RWIS_SENSOR_MODEL!$B$2:$B$100,MATCH(1,([1]RWIS_SENSOR_MODEL!$C$2:$C$100='RWIS Sensor (Desc)'!$G63)*([1]RWIS_SENSOR_MODEL!$E$2:$E$100='RWIS Sensor (Code)'!$D63),0),0))","v":""},{"$f":"IF('RWIS Sensor (Desc)'!H63=\"\",\"\",INDEX([1]RWIS_SENSOR_MODEL!$A$2:$A$100,MATCH(1,([1]RWIS_SENSOR_MODEL!$C$2:$C$100='RWIS Sensor (Desc)'!$G63)*([1]RWIS_SENSOR_MODEL!$D$2:$D$100='RWIS Sensor (Desc)'!$H63)*([1]RWIS_SENSOR_MODEL!$E$2:$E$100='RWIS Sensor (Code)'!$D63),0),0))","v":""},{"$f":"IF('RWIS Sensor (Desc)'!I63=\"\",\"\",'RWIS Sensor (Desc)'!I63)","v":""}]
[{"$f":"IF('RWIS Sensor (Desc)'!A64=\"\",\"\",'RWIS Sensor (Desc)'!A64)","v":""},{"$f":"IF('RWIS Sensor (Desc)'!C64=\"\",\"\",\"2008\")","v":""},{"$f":"IF('RWIS Sensor (Desc)'!C64=\"\",\"\",'RWIS Sensor (Desc)'!C64)","v":""},{"$f":"IF('RWIS Sensor (Desc)'!E64=\"\",\"\",INDEX([1]RWIS_SENSOR_TYPE!$A$2:$A$100,MATCH('RWIS Sensor (Desc)'!$E64,[1]!MASTER_RWIS_SENSOR_TYPE_DESC[#Data],0),0))","v":""},{"$f":"IF('RWIS Sensor (Desc)'!F64=\"\",\"\",'RWIS Sensor (Desc)'!F64)","v":""},{"$f":"IF('RWIS Sensor (Desc)'!G64=\"\",\"\",INDEX([1]RWIS_SENSOR_MODEL!$B$2:$B$100,MATCH(1,([1]RWIS_SENSOR_MODEL!$C$2:$C$100='RWIS Sensor (Desc)'!$G64)*([1]RWIS_SENSOR_MODEL!$E$2:$E$100='RWIS Sensor (Code)'!$D64),0),0))","v":""},{"$f":"IF('RWIS Sensor (Desc)'!H64=\"\",\"\",INDEX([1]RWIS_SENSOR_MODEL!$A$2:$A$100,MATCH(1,([1]RWIS_SENSOR_MODEL!$C$2:$C$100='RWIS Sensor (Desc)'!$G64)*([1]RWIS_SENSOR_MODEL!$D$2:$D$100='RWIS Sensor (Desc)'!$H64)*([1]RWIS_SENSOR_MODEL!$E$2:$E$100='RWIS Sensor (Code)'!$D64),0),0))","v":""},{"$f":"IF('RWIS Sensor (Desc)'!I64=\"\",\"\",'RWIS Sensor (Desc)'!I64)","v":""}]
[{"$f":"IF('RWIS Sensor (Desc)'!A65=\"\",\"\",'RWIS Sensor (Desc)'!A65)","v":""},{"$f":"IF('RWIS Sensor (Desc)'!C65=\"\",\"\",\"2008\")","v":""},{"$f":"IF('RWIS Sensor (Desc)'!C65=\"\",\"\",'RWIS Sensor (Desc)'!C65)","v":""},{"$f":"IF('RWIS Sensor (Desc)'!E65=\"\",\"\",INDEX([1]RWIS_SENSOR_TYPE!$A$2:$A$100,MATCH('RWIS Sensor (Desc)'!$E65,[1]!MASTER_RWIS_SENSOR_TYPE_DESC[#Data],0),0))","v":""},{"$f":"IF('RWIS Sensor (Desc)'!F65=\"\",\"\",'RWIS Sensor (Desc)'!F65)","v":""},{"$f":"IF('RWIS Sensor (Desc)'!G65=\"\",\"\",INDEX([1]RWIS_SENSOR_MODEL!$B$2:$B$100,MATCH(1,([1]RWIS_SENSOR_MODEL!$C$2:$C$100='RWIS Sensor (Desc)'!$G65)*([1]RWIS_SENSOR_MODEL!$E$2:$E$100='RWIS Sensor (Code)'!$D65),0),0))","v":""},{"$f":"IF('RWIS Sensor (Desc)'!H65=\"\",\"\",INDEX([1]RWIS_SENSOR_MODEL!$A$2:$A$100,MATCH(1,([1]RWIS_SENSOR_MODEL!$C$2:$C$100='RWIS Sensor (Desc)'!$G65)*([1]RWIS_SENSOR_MODEL!$D$2:$D$100='RWIS Sensor (Desc)'!$H65)*([1]RWIS_SENSOR_MODEL!$E$2:$E$100='RWIS Sensor (Code)'!$D65),0),0))","v":""},{"$f":"IF('RWIS Sensor (Desc)'!I65=\"\",\"\",'RWIS Sensor (Desc)'!I65)","v":""}]
[{"$f":"IF('RWIS Sensor (Desc)'!A66=\"\",\"\",'RWIS Sensor (Desc)'!A66)","v":""},{"$f":"IF('RWIS Sensor (Desc)'!C66=\"\",\"\",\"2008\")","v":""},{"$f":"IF('RWIS Sensor (Desc)'!C66=\"\",\"\",'RWIS Sensor (Desc)'!C66)","v":""},{"$f":"IF('RWIS Sensor (Desc)'!E66=\"\",\"\",INDEX([1]RWIS_SENSOR_TYPE!$A$2:$A$100,MATCH('RWIS Sensor (Desc)'!$E66,[1]!MASTER_RWIS_SENSOR_TYPE_DESC[#Data],0),0))","v":""},{"$f":"IF('RWIS Sensor (Desc)'!F66=\"\",\"\",'RWIS Sensor (Desc)'!F66)","v":""},{"$f":"IF('RWIS Sensor (Desc)'!G66=\"\",\"\",INDEX([1]RWIS_SENSOR_MODEL!$B$2:$B$100,MATCH(1,([1]RWIS_SENSOR_MODEL!$C$2:$C$100='RWIS Sensor (Desc)'!$G66)*([1]RWIS_SENSOR_MODEL!$E$2:$E$100='RWIS Sensor (Code)'!$D66),0),0))","v":""},{"$f":"IF('RWIS Sensor (Desc)'!H66=\"\",\"\",INDEX([1]RWIS_SENSOR_MODEL!$A$2:$A$100,MATCH(1,([1]RWIS_SENSOR_MODEL!$C$2:$C$100='RWIS Sensor (Desc)'!$G66)*([1]RWIS_SENSOR_MODEL!$D$2:$D$100='RWIS Sensor (Desc)'!$H66)*([1]RWIS_SENSOR_MODEL!$E$2:$E$100='RWIS Sensor (Code)'!$D66),0),0))","v":""},{"$f":"IF('RWIS Sensor (Desc)'!I66=\"\",\"\",'RWIS Sensor (Desc)'!I66)","v":""}]
[{"$f":"IF('RWIS Sensor (Desc)'!A67=\"\",\"\",'RWIS Sensor (Desc)'!A67)","v":""},{"$f":"IF('RWIS Sensor (Desc)'!C67=\"\",\"\",\"2008\")","v":""},{"$f":"IF('RWIS Sensor (Desc)'!C67=\"\",\"\",'RWIS Sensor (Desc)'!C67)","v":""},{"$f":"IF('RWIS Sensor (Desc)'!E67=\"\",\"\",INDEX([1]RWIS_SENSOR_TYPE!$A$2:$A$100,MATCH('RWIS Sensor (Desc)'!$E67,[1]!MASTER_RWIS_SENSOR_TYPE_DESC[#Data],0),0))","v":""},{"$f":"IF('RWIS Sensor (Desc)'!F67=\"\",\"\",'RWIS Sensor (Desc)'!F67)","v":""},{"$f":"IF('RWIS Sensor (Desc)'!G67=\"\",\"\",INDEX([1]RWIS_SENSOR_MODEL!$B$2:$B$100,MATCH(1,([1]RWIS_SENSOR_MODEL!$C$2:$C$100='RWIS Sensor (Desc)'!$G67)*([1]RWIS_SENSOR_MODEL!$E$2:$E$100='RWIS Sensor (Code)'!$D67),0),0))","v":""},{"$f":"IF('RWIS Sensor (Desc)'!H67=\"\",\"\",INDEX([1]RWIS_SENSOR_MODEL!$A$2:$A$100,MATCH(1,([1]RWIS_SENSOR_MODEL!$C$2:$C$100='RWIS Sensor (Desc)'!$G67)*([1]RWIS_SENSOR_MODEL!$D$2:$D$100='RWIS Sensor (Desc)'!$H67)*([1]RWIS_SENSOR_MODEL!$E$2:$E$100='RWIS Sensor (Code)'!$D67),0),0))","v":""},{"$f":"IF('RWIS Sensor (Desc)'!I67=\"\",\"\",'RWIS Sensor (Desc)'!I67)","v":""}]
[{"$f":"IF('RWIS Sensor (Desc)'!A68=\"\",\"\",'RWIS Sensor (Desc)'!A68)","v":""},{"$f":"IF('RWIS Sensor (Desc)'!C68=\"\",\"\",\"2008\")","v":""},{"$f":"IF('RWIS Sensor (Desc)'!C68=\"\",\"\",'RWIS Sensor (Desc)'!C68)","v":""},{"$f":"IF('RWIS Sensor (Desc)'!E68=\"\",\"\",INDEX([1]RWIS_SENSOR_TYPE!$A$2:$A$100,MATCH('RWIS Sensor (Desc)'!$E68,[1]!MASTER_RWIS_SENSOR_TYPE_DESC[#Data],0),0))","v":""},{"$f":"IF('RWIS Sensor (Desc)'!F68=\"\",\"\",'RWIS Sensor (Desc)'!F68)","v":""},{"$f":"IF('RWIS Sensor (Desc)'!G68=\"\",\"\",INDEX([1]RWIS_SENSOR_MODEL!$B$2:$B$100,MATCH(1,([1]RWIS_SENSOR_MODEL!$C$2:$C$100='RWIS Sensor (Desc)'!$G68)*([1]RWIS_SENSOR_MODEL!$E$2:$E$100='RWIS Sensor (Code)'!$D68),0),0))","v":""},{"$f":"IF('RWIS Sensor (Desc)'!H68=\"\",\"\",INDEX([1]RWIS_SENSOR_MODEL!$A$2:$A$100,MATCH(1,([1]RWIS_SENSOR_MODEL!$C$2:$C$100='RWIS Sensor (Desc)'!$G68)*([1]RWIS_SENSOR_MODEL!$D$2:$D$100='RWIS Sensor (Desc)'!$H68)*([1]RWIS_SENSOR_MODEL!$E$2:$E$100='RWIS Sensor (Code)'!$D68),0),0))","v":""},{"$f":"IF('RWIS Sensor (Desc)'!I68=\"\",\"\",'RWIS Sensor (Desc)'!I68)","v":""}]
[{"$f":"IF('RWIS Sensor (Desc)'!A69=\"\",\"\",'RWIS Sensor (Desc)'!A69)","v":""},{"$f":"IF('RWIS Sensor (Desc)'!C69=\"\",\"\",\"2008\")","v":""},{"$f":"IF('RWIS Sensor (Desc)'!C69=\"\",\"\",'RWIS Sensor (Desc)'!C69)","v":""},{"$f":"IF('RWIS Sensor (Desc)'!E69=\"\",\"\",INDEX([1]RWIS_SENSOR_TYPE!$A$2:$A$100,MATCH('RWIS Sensor (Desc)'!$E69,[1]!MASTER_RWIS_SENSOR_TYPE_DESC[#Data],0),0))","v":""},{"$f":"IF('RWIS Sensor (Desc)'!F69=\"\",\"\",'RWIS Sensor (Desc)'!F69)","v":""},{"$f":"IF('RWIS Sensor (Desc)'!G69=\"\",\"\",INDEX([1]RWIS_SENSOR_MODEL!$B$2:$B$100,MATCH(1,([1]RWIS_SENSOR_MODEL!$C$2:$C$100='RWIS Sensor (Desc)'!$G69)*([1]RWIS_SENSOR_MODEL!$E$2:$E$100='RWIS Sensor (Code)'!$D69),0),0))","v":""},{"$f":"IF('RWIS Sensor (Desc)'!H69=\"\",\"\",INDEX([1]RWIS_SENSOR_MODEL!$A$2:$A$100,MATCH(1,([1]RWIS_SENSOR_MODEL!$C$2:$C$100='RWIS Sensor (Desc)'!$G69)*([1]RWIS_SENSOR_MODEL!$D$2:$D$100='RWIS Sensor (Desc)'!$H69)*([1]RWIS_SENSOR_MODEL!$E$2:$E$100='RWIS Sensor (Code)'!$D69),0),0))","v":""},{"$f":"IF('RWIS Sensor (Desc)'!I69=\"\",\"\",'RWIS Sensor (Desc)'!I69)","v":""}]
[{"$f":"IF('RWIS Sensor (Desc)'!A70=\"\",\"\",'RWIS Sensor (Desc)'!A70)","v":""},{"$f":"IF('RWIS Sensor (Desc)'!C70=\"\",\"\",\"2008\")","v":""},{"$f":"IF('RWIS Sensor (Desc)'!C70=\"\",\"\",'RWIS Sensor (Desc)'!C70)","v":""},{"$f":"IF('RWIS Sensor (Desc)'!E70=\"\",\"\",INDEX([1]RWIS_SENSOR_TYPE!$A$2:$A$100,MATCH('RWIS Sensor (Desc)'!$E70,[1]!MASTER_RWIS_SENSOR_TYPE_DESC[#Data],0),0))","v":""},{"$f":"IF('RWIS Sensor (Desc)'!F70=\"\",\"\",'RWIS Sensor (Desc)'!F70)","v":""},{"$f":"IF('RWIS Sensor (Desc)'!G70=\"\",\"\",INDEX([1]RWIS_SENSOR_MODEL!$B$2:$B$100,MATCH(1,([1]RWIS_SENSOR_MODEL!$C$2:$C$100='RWIS Sensor (Desc)'!$G70)*([1]RWIS_SENSOR_MODEL!$E$2:$E$100='RWIS Sensor (Code)'!$D70),0),0))","v":""},{"$f":"IF('RWIS Sensor (Desc)'!H70=\"\",\"\",INDEX([1]RWIS_SENSOR_MODEL!$A$2:$A$100,MATCH(1,([1]RWIS_SENSOR_MODEL!$C$2:$C$100='RWIS Sensor (Desc)'!$G70)*([1]RWIS_SENSOR_MODEL!$D$2:$D$100='RWIS Sensor (Desc)'!$H70)*([1]RWIS_SENSOR_MODEL!$E$2:$E$100='RWIS Sensor (Code)'!$D70),0),0))","v":""},{"$f":"IF('RWIS Sensor (Desc)'!I70=\"\",\"\",'RWIS Sensor (Desc)'!I70)","v":""}]
[{"$f":"IF('RWIS Sensor (Desc)'!A71=\"\",\"\",'RWIS Sensor (Desc)'!A71)","v":""},{"$f":"IF('RWIS Sensor (Desc)'!C71=\"\",\"\",\"2008\")","v":""},{"$f":"IF('RWIS Sensor (Desc)'!C71=\"\",\"\",'RWIS Sensor (Desc)'!C71)","v":""},{"$f":"IF('RWIS Sensor (Desc)'!E71=\"\",\"\",INDEX([1]RWIS_SENSOR_TYPE!$A$2:$A$100,MATCH('RWIS Sensor (Desc)'!$E71,[1]!MASTER_RWIS_SENSOR_TYPE_DESC[#Data],0),0))","v":""},{"$f":"IF('RWIS Sensor (Desc)'!F71=\"\",\"\",'RWIS Sensor (Desc)'!F71)","v":""},{"$f":"IF('RWIS Sensor (Desc)'!G71=\"\",\"\",INDEX([1]RWIS_SENSOR_MODEL!$B$2:$B$100,MATCH(1,([1]RWIS_SENSOR_MODEL!$C$2:$C$100='RWIS Sensor (Desc)'!$G71)*([1]RWIS_SENSOR_MODEL!$E$2:$E$100='RWIS Sensor (Code)'!$D71),0),0))","v":""},{"$f":"IF('RWIS Sensor (Desc)'!H71=\"\",\"\",INDEX([1]RWIS_SENSOR_MODEL!$A$2:$A$100,MATCH(1,([1]RWIS_SENSOR_MODEL!$C$2:$C$100='RWIS Sensor (Desc)'!$G71)*([1]RWIS_SENSOR_MODEL!$D$2:$D$100='RWIS Sensor (Desc)'!$H71)*([1]RWIS_SENSOR_MODEL!$E$2:$E$100='RWIS Sensor (Code)'!$D71),0),0))","v":""},{"$f":"IF('RWIS Sensor (Desc)'!I71=\"\",\"\",'RWIS Sensor (Desc)'!I71)","v":""}]
[{"$f":"IF('RWIS Sensor (Desc)'!A72=\"\",\"\",'RWIS Sensor (Desc)'!A72)","v":""},{"$f":"IF('RWIS Sensor (Desc)'!C72=\"\",\"\",\"2008\")","v":""},{"$f":"IF('RWIS Sensor (Desc)'!C72=\"\",\"\",'RWIS Sensor (Desc)'!C72)","v":""},{"$f":"IF('RWIS Sensor (Desc)'!E72=\"\",\"\",INDEX([1]RWIS_SENSOR_TYPE!$A$2:$A$100,MATCH('RWIS Sensor (Desc)'!$E72,[1]!MASTER_RWIS_SENSOR_TYPE_DESC[#Data],0),0))","v":""},{"$f":"IF('RWIS Sensor (Desc)'!F72=\"\",\"\",'RWIS Sensor (Desc)'!F72)","v":""},{"$f":"IF('RWIS Sensor (Desc)'!G72=\"\",\"\",INDEX([1]RWIS_SENSOR_MODEL!$B$2:$B$100,MATCH(1,([1]RWIS_SENSOR_MODEL!$C$2:$C$100='RWIS Sensor (Desc)'!$G72)*([1]RWIS_SENSOR_MODEL!$E$2:$E$100='RWIS Sensor (Code)'!$D72),0),0))","v":""},{"$f":"IF('RWIS Sensor (Desc)'!H72=\"\",\"\",INDEX([1]RWIS_SENSOR_MODEL!$A$2:$A$100,MATCH(1,([1]RWIS_SENSOR_MODEL!$C$2:$C$100='RWIS Sensor (Desc)'!$G72)*([1]RWIS_SENSOR_MODEL!$D$2:$D$100='RWIS Sensor (Desc)'!$H72)*([1]RWIS_SENSOR_MODEL!$E$2:$E$100='RWIS Sensor (Code)'!$D72),0),0))","v":""},{"$f":"IF('RWIS Sensor (Desc)'!I72=\"\",\"\",'RWIS Sensor (Desc)'!I72)","v":""}]
[{"$f":"IF('RWIS Sensor (Desc)'!A73=\"\",\"\",'RWIS Sensor (Desc)'!A73)","v":""},{"$f":"IF('RWIS Sensor (Desc)'!C73=\"\",\"\",\"2008\")","v":""},{"$f":"IF('RWIS Sensor (Desc)'!C73=\"\",\"\",'RWIS Sensor (Desc)'!C73)","v":""},{"$f":"IF('RWIS Sensor (Desc)'!E73=\"\",\"\",INDEX([1]RWIS_SENSOR_TYPE!$A$2:$A$100,MATCH('RWIS Sensor (Desc)'!$E73,[1]!MASTER_RWIS_SENSOR_TYPE_DESC[#Data],0),0))","v":""},{"$f":"IF('RWIS Sensor (Desc)'!F73=\"\",\"\",'RWIS Sensor (Desc)'!F73)","v":""},{"$f":"IF('RWIS Sensor (Desc)'!G73=\"\",\"\",INDEX([1]RWIS_SENSOR_MODEL!$B$2:$B$100,MATCH(1,([1]RWIS_SENSOR_MODEL!$C$2:$C$100='RWIS Sensor (Desc)'!$G73)*([1]RWIS_SENSOR_MODEL!$E$2:$E$100='RWIS Sensor (Code)'!$D73),0),0))","v":""},{"$f":"IF('RWIS Sensor (Desc)'!H73=\"\",\"\",INDEX([1]RWIS_SENSOR_MODEL!$A$2:$A$100,MATCH(1,([1]RWIS_SENSOR_MODEL!$C$2:$C$100='RWIS Sensor (Desc)'!$G73)*([1]RWIS_SENSOR_MODEL!$D$2:$D$100='RWIS Sensor (Desc)'!$H73)*([1]RWIS_SENSOR_MODEL!$E$2:$E$100='RWIS Sensor (Code)'!$D73),0),0))","v":""},{"$f":"IF('RWIS Sensor (Desc)'!I73=\"\",\"\",'RWIS Sensor (Desc)'!I73)","v":""}]
[{"$f":"IF('RWIS Sensor (Desc)'!A74=\"\",\"\",'RWIS Sensor (Desc)'!A74)","v":""},{"$f":"IF('RWIS Sensor (Desc)'!C74=\"\",\"\",\"2008\")","v":""},{"$f":"IF('RWIS Sensor (Desc)'!C74=\"\",\"\",'RWIS Sensor (Desc)'!C74)","v":""},{"$f":"IF('RWIS Sensor (Desc)'!E74=\"\",\"\",INDEX([1]RWIS_SENSOR_TYPE!$A$2:$A$100,MATCH('RWIS Sensor (Desc)'!$E74,[1]!MASTER_RWIS_SENSOR_TYPE_DESC[#Data],0),0))","v":""},{"$f":"IF('RWIS Sensor (Desc)'!F74=\"\",\"\",'RWIS Sensor (Desc)'!F74)","v":""},{"$f":"IF('RWIS Sensor (Desc)'!G74=\"\",\"\",INDEX([1]RWIS_SENSOR_MODEL!$B$2:$B$100,MATCH(1,([1]RWIS_SENSOR_MODEL!$C$2:$C$100='RWIS Sensor (Desc)'!$G74)*([1]RWIS_SENSOR_MODEL!$E$2:$E$100='RWIS Sensor (Code)'!$D74),0),0))","v":""},{"$f":"IF('RWIS Sensor (Desc)'!H74=\"\",\"\",INDEX([1]RWIS_SENSOR_MODEL!$A$2:$A$100,MATCH(1,([1]RWIS_SENSOR_MODEL!$C$2:$C$100='RWIS Sensor (Desc)'!$G74)*([1]RWIS_SENSOR_MODEL!$D$2:$D$100='RWIS Sensor (Desc)'!$H74)*([1]RWIS_SENSOR_MODEL!$E$2:$E$100='RWIS Sensor (Code)'!$D74),0),0))","v":""},{"$f":"IF('RWIS Sensor (Desc)'!I74=\"\",\"\",'RWIS Sensor (Desc)'!I74)","v":""}]
[{"$f":"IF('RWIS Sensor (Desc)'!A75=\"\",\"\",'RWIS Sensor (Desc)'!A75)","v":""},{"$f":"IF('RWIS Sensor (Desc)'!C75=\"\",\"\",\"2008\")","v":""},{"$f":"IF('RWIS Sensor (Desc)'!C75=\"\",\"\",'RWIS Sensor (Desc)'!C75)","v":""},{"$f":"IF('RWIS Sensor (Desc)'!E75=\"\",\"\",INDEX([1]RWIS_SENSOR_TYPE!$A$2:$A$100,MATCH('RWIS Sensor (Desc)'!$E75,[1]!MASTER_RWIS_SENSOR_TYPE_DESC[#Data],0),0))","v":""},{"$f":"IF('RWIS Sensor (Desc)'!F75=\"\",\"\",'RWIS Sensor (Desc)'!F75)","v":""},{"$f":"IF('RWIS Sensor (Desc)'!G75=\"\",\"\",INDEX([1]RWIS_SENSOR_MODEL!$B$2:$B$100,MATCH(1,([1]RWIS_SENSOR_MODEL!$C$2:$C$100='RWIS Sensor (Desc)'!$G75)*([1]RWIS_SENSOR_MODEL!$E$2:$E$100='RWIS Sensor (Code)'!$D75),0),0))","v":""},{"$f":"IF('RWIS Sensor (Desc)'!H75=\"\",\"\",INDEX([1]RWIS_SENSOR_MODEL!$A$2:$A$100,MATCH(1,([1]RWIS_SENSOR_MODEL!$C$2:$C$100='RWIS Sensor (Desc)'!$G75)*([1]RWIS_SENSOR_MODEL!$D$2:$D$100='RWIS Sensor (Desc)'!$H75)*([1]RWIS_SENSOR_MODEL!$E$2:$E$100='RWIS Sensor (Code)'!$D75),0),0))","v":""},{"$f":"IF('RWIS Sensor (Desc)'!I75=\"\",\"\",'RWIS Sensor (Desc)'!I75)","v":""}]
[{"$f":"IF('RWIS Sensor (Desc)'!A76=\"\",\"\",'RWIS Sensor (Desc)'!A76)","v":""},{"$f":"IF('RWIS Sensor (Desc)'!C76=\"\",\"\",\"2008\")","v":""},{"$f":"IF('RWIS Sensor (Desc)'!C76=\"\",\"\",'RWIS Sensor (Desc)'!C76)","v":""},{"$f":"IF('RWIS Sensor (Desc)'!E76=\"\",\"\",INDEX([1]RWIS_SENSOR_TYPE!$A$2:$A$100,MATCH('RWIS Sensor (Desc)'!$E76,[1]!MASTER_RWIS_SENSOR_TYPE_DESC[#Data],0),0))","v":""},{"$f":"IF('RWIS Sensor (Desc)'!F76=\"\",\"\",'RWIS Sensor (Desc)'!F76)","v":""},{"$f":"IF('RWIS Sensor (Desc)'!G76=\"\",\"\",INDEX([1]RWIS_SENSOR_MODEL!$B$2:$B$100,MATCH(1,([1]RWIS_SENSOR_MODEL!$C$2:$C$100='RWIS Sensor (Desc)'!$G76)*([1]RWIS_SENSOR_MODEL!$E$2:$E$100='RWIS Sensor (Code)'!$D76),0),0))","v":""},{"$f":"IF('RWIS Sensor (Desc)'!H76=\"\",\"\",INDEX([1]RWIS_SENSOR_MODEL!$A$2:$A$100,MATCH(1,([1]RWIS_SENSOR_MODEL!$C$2:$C$100='RWIS Sensor (Desc)'!$G76)*([1]RWIS_SENSOR_MODEL!$D$2:$D$100='RWIS Sensor (Desc)'!$H76)*([1]RWIS_SENSOR_MODEL!$E$2:$E$100='RWIS Sensor (Code)'!$D76),0),0))","v":""},{"$f":"IF('RWIS Sensor (Desc)'!I76=\"\",\"\",'RWIS Sensor (Desc)'!I76)","v":""}]
[{"$f":"IF('RWIS Sensor (Desc)'!A77=\"\",\"\",'RWIS Sensor (Desc)'!A77)","v":""},{"$f":"IF('RWIS Sensor (Desc)'!C77=\"\",\"\",\"2008\")","v":""},{"$f":"IF('RWIS Sensor (Desc)'!C77=\"\",\"\",'RWIS Sensor (Desc)'!C77)","v":""},{"$f":"IF('RWIS Sensor (Desc)'!E77=\"\",\"\",INDEX([1]RWIS_SENSOR_TYPE!$A$2:$A$100,MATCH('RWIS Sensor (Desc)'!$E77,[1]!MASTER_RWIS_SENSOR_TYPE_DESC[#Data],0),0))","v":""},{"$f":"IF('RWIS Sensor (Desc)'!F77=\"\",\"\",'RWIS Sensor (Desc)'!F77)","v":""},{"$f":"IF('RWIS Sensor (Desc)'!G77=\"\",\"\",INDEX([1]RWIS_SENSOR_MODEL!$B$2:$B$100,MATCH(1,([1]RWIS_SENSOR_MODEL!$C$2:$C$100='RWIS Sensor (Desc)'!$G77)*([1]RWIS_SENSOR_MODEL!$E$2:$E$100='RWIS Sensor (Code)'!$D77),0),0))","v":""},{"$f":"IF('RWIS Sensor (Desc)'!H77=\"\",\"\",INDEX([1]RWIS_SENSOR_MODEL!$A$2:$A$100,MATCH(1,([1]RWIS_SENSOR_MODEL!$C$2:$C$100='RWIS Sensor (Desc)'!$G77)*([1]RWIS_SENSOR_MODEL!$D$2:$D$100='RWIS Sensor (Desc)'!$H77)*([1]RWIS_SENSOR_MODEL!$E$2:$E$100='RWIS Sensor (Code)'!$D77),0),0))","v":""},{"$f":"IF('RWIS Sensor (Desc)'!I77=\"\",\"\",'RWIS Sensor (Desc)'!I77)","v":""}]
[{"$f":"IF('RWIS Sensor (Desc)'!A78=\"\",\"\",'RWIS Sensor (Desc)'!A78)","v":""},{"$f":"IF('RWIS Sensor (Desc)'!C78=\"\",\"\",\"2008\")","v":""},{"$f":"IF('RWIS Sensor (Desc)'!C78=\"\",\"\",'RWIS Sensor (Desc)'!C78)","v":""},{"$f":"IF('RWIS Sensor (Desc)'!E78=\"\",\"\",INDEX([1]RWIS_SENSOR_TYPE!$A$2:$A$100,MATCH('RWIS Sensor (Desc)'!$E78,[1]!MASTER_RWIS_SENSOR_TYPE_DESC[#Data],0),0))","v":""},{"$f":"IF('RWIS Sensor (Desc)'!F78=\"\",\"\",'RWIS Sensor (Desc)'!F78)","v":""},{"$f":"IF('RWIS Sensor (Desc)'!G78=\"\",\"\",INDEX([1]RWIS_SENSOR_MODEL!$B$2:$B$100,MATCH(1,([1]RWIS_SENSOR_MODEL!$C$2:$C$100='RWIS Sensor (Desc)'!$G78)*([1]RWIS_SENSOR_MODEL!$E$2:$E$100='RWIS Sensor (Code)'!$D78),0),0))","v":""},{"$f":"IF('RWIS Sensor (Desc)'!H78=\"\",\"\",INDEX([1]RWIS_SENSOR_MODEL!$A$2:$A$100,MATCH(1,([1]RWIS_SENSOR_MODEL!$C$2:$C$100='RWIS Sensor (Desc)'!$G78)*([1]RWIS_SENSOR_MODEL!$D$2:$D$100='RWIS Sensor (Desc)'!$H78)*([1]RWIS_SENSOR_MODEL!$E$2:$E$100='RWIS Sensor (Code)'!$D78),0),0))","v":""},{"$f":"IF('RWIS Sensor (Desc)'!I78=\"\",\"\",'RWIS Sensor (Desc)'!I78)","v":""}]
[{"$f":"IF('RWIS Sensor (Desc)'!A79=\"\",\"\",'RWIS Sensor (Desc)'!A79)","v":""},{"$f":"IF('RWIS Sensor (Desc)'!C79=\"\",\"\",\"2008\")","v":""},{"$f":"IF('RWIS Sensor (Desc)'!C79=\"\",\"\",'RWIS Sensor (Desc)'!C79)","v":""},{"$f":"IF('RWIS Sensor (Desc)'!E79=\"\",\"\",INDEX([1]RWIS_SENSOR_TYPE!$A$2:$A$100,MATCH('RWIS Sensor (Desc)'!$E79,[1]!MASTER_RWIS_SENSOR_TYPE_DESC[#Data],0),0))","v":""},{"$f":"IF('RWIS Sensor (Desc)'!F79=\"\",\"\",'RWIS Sensor (Desc)'!F79)","v":""},{"$f":"IF('RWIS Sensor (Desc)'!G79=\"\",\"\",INDEX([1]RWIS_SENSOR_MODEL!$B$2:$B$100,MATCH(1,([1]RWIS_SENSOR_MODEL!$C$2:$C$100='RWIS Sensor (Desc)'!$G79)*([1]RWIS_SENSOR_MODEL!$E$2:$E$100='RWIS Sensor (Code)'!$D79),0),0))","v":""},{"$f":"IF('RWIS Sensor (Desc)'!H79=\"\",\"\",INDEX([1]RWIS_SENSOR_MODEL!$A$2:$A$100,MATCH(1,([1]RWIS_SENSOR_MODEL!$C$2:$C$100='RWIS Sensor (Desc)'!$G79)*([1]RWIS_SENSOR_MODEL!$D$2:$D$100='RWIS Sensor (Desc)'!$H79)*([1]RWIS_SENSOR_MODEL!$E$2:$E$100='RWIS Sensor (Code)'!$D79),0),0))","v":""},{"$f":"IF('RWIS Sensor (Desc)'!I79=\"\",\"\",'RWIS Sensor (Desc)'!I79)","v":""}]
[{"$f":"IF('RWIS Sensor (Desc)'!A80=\"\",\"\",'RWIS Sensor (Desc)'!A80)","v":""},{"$f":"IF('RWIS Sensor (Desc)'!C80=\"\",\"\",\"2008\")","v":""},{"$f":"IF('RWIS Sensor (Desc)'!C80=\"\",\"\",'RWIS Sensor (Desc)'!C80)","v":""},{"$f":"IF('RWIS Sensor (Desc)'!E80=\"\",\"\",INDEX([1]RWIS_SENSOR_TYPE!$A$2:$A$100,MATCH('RWIS Sensor (Desc)'!$E80,[1]!MASTER_RWIS_SENSOR_TYPE_DESC[#Data],0),0))","v":""},{"$f":"IF('RWIS Sensor (Desc)'!F80=\"\",\"\",'RWIS Sensor (Desc)'!F80)","v":""},{"$f":"IF('RWIS Sensor (Desc)'!G80=\"\",\"\",INDEX([1]RWIS_SENSOR_MODEL!$B$2:$B$100,MATCH(1,([1]RWIS_SENSOR_MODEL!$C$2:$C$100='RWIS Sensor (Desc)'!$G80)*([1]RWIS_SENSOR_MODEL!$E$2:$E$100='RWIS Sensor (Code)'!$D80),0),0))","v":""},{"$f":"IF('RWIS Sensor (Desc)'!H80=\"\",\"\",INDEX([1]RWIS_SENSOR_MODEL!$A$2:$A$100,MATCH(1,([1]RWIS_SENSOR_MODEL!$C$2:$C$100='RWIS Sensor (Desc)'!$G80)*([1]RWIS_SENSOR_MODEL!$D$2:$D$100='RWIS Sensor (Desc)'!$H80)*([1]RWIS_SENSOR_MODEL!$E$2:$E$100='RWIS Sensor (Code)'!$D80),0),0))","v":""},{"$f":"IF('RWIS Sensor (Desc)'!I80=\"\",\"\",'RWIS Sensor (Desc)'!I80)","v":""}]
[{"$f":"IF('RWIS Sensor (Desc)'!A81=\"\",\"\",'RWIS Sensor (Desc)'!A81)","v":""},{"$f":"IF('RWIS Sensor (Desc)'!C81=\"\",\"\",\"2008\")","v":""},{"$f":"IF('RWIS Sensor (Desc)'!C81=\"\",\"\",'RWIS Sensor (Desc)'!C81)","v":""},{"$f":"IF('RWIS Sensor (Desc)'!E81=\"\",\"\",INDEX([1]RWIS_SENSOR_TYPE!$A$2:$A$100,MATCH('RWIS Sensor (Desc)'!$E81,[1]!MASTER_RWIS_SENSOR_TYPE_DESC[#Data],0),0))","v":""},{"$f":"IF('RWIS Sensor (Desc)'!F81=\"\",\"\",'RWIS Sensor (Desc)'!F81)","v":""},{"$f":"IF('RWIS Sensor (Desc)'!G81=\"\",\"\",INDEX([1]RWIS_SENSOR_MODEL!$B$2:$B$100,MATCH(1,([1]RWIS_SENSOR_MODEL!$C$2:$C$100='RWIS Sensor (Desc)'!$G81)*([1]RWIS_SENSOR_MODEL!$E$2:$E$100='RWIS Sensor (Code)'!$D81),0),0))","v":""},{"$f":"IF('RWIS Sensor (Desc)'!H81=\"\",\"\",INDEX([1]RWIS_SENSOR_MODEL!$A$2:$A$100,MATCH(1,([1]RWIS_SENSOR_MODEL!$C$2:$C$100='RWIS Sensor (Desc)'!$G81)*([1]RWIS_SENSOR_MODEL!$D$2:$D$100='RWIS Sensor (Desc)'!$H81)*([1]RWIS_SENSOR_MODEL!$E$2:$E$100='RWIS Sensor (Code)'!$D81),0),0))","v":""},{"$f":"IF('RWIS Sensor (Desc)'!I81=\"\",\"\",'RWIS Sensor (Desc)'!I81)","v":""}]
[{"$f":"IF('RWIS Sensor (Desc)'!A82=\"\",\"\",'RWIS Sensor (Desc)'!A82)","v":""},{"$f":"IF('RWIS Sensor (Desc)'!C82=\"\",\"\",\"2008\")","v":""},{"$f":"IF('RWIS Sensor (Desc)'!C82=\"\",\"\",'RWIS Sensor (Desc)'!C82)","v":""},{"$f":"IF('RWIS Sensor (Desc)'!E82=\"\",\"\",INDEX([1]RWIS_SENSOR_TYPE!$A$2:$A$100,MATCH('RWIS Sensor (Desc)'!$E82,[1]!MASTER_RWIS_SENSOR_TYPE_DESC[#Data],0),0))","v":""},{"$f":"IF('RWIS Sensor (Desc)'!F82=\"\",\"\",'RWIS Sensor (Desc)'!F82)","v":""},{"$f":"IF('RWIS Sensor (Desc)'!G82=\"\",\"\",INDEX([1]RWIS_SENSOR_MODEL!$B$2:$B$100,MATCH(1,([1]RWIS_SENSOR_MODEL!$C$2:$C$100='RWIS Sensor (Desc)'!$G82)*([1]RWIS_SENSOR_MODEL!$E$2:$E$100='RWIS Sensor (Code)'!$D82),0),0))","v":""},{"$f":"IF('RWIS Sensor (Desc)'!H82=\"\",\"\",INDEX([1]RWIS_SENSOR_MODEL!$A$2:$A$100,MATCH(1,([1]RWIS_SENSOR_MODEL!$C$2:$C$100='RWIS Sensor (Desc)'!$G82)*([1]RWIS_SENSOR_MODEL!$D$2:$D$100='RWIS Sensor (Desc)'!$H82)*([1]RWIS_SENSOR_MODEL!$E$2:$E$100='RWIS Sensor (Code)'!$D82),0),0))","v":""},{"$f":"IF('RWIS Sensor (Desc)'!I82=\"\",\"\",'RWIS Sensor (Desc)'!I82)","v":""}]
[{"$f":"IF('RWIS Sensor (Desc)'!A83=\"\",\"\",'RWIS Sensor (Desc)'!A83)","v":""},{"$f":"IF('RWIS Sensor (Desc)'!C83=\"\",\"\",\"2008\")","v":""},{"$f":"IF('RWIS Sensor (Desc)'!C83=\"\",\"\",'RWIS Sensor (Desc)'!C83)","v":""},{"$f":"IF('RWIS Sensor (Desc)'!E83=\"\",\"\",INDEX([1]RWIS_SENSOR_TYPE!$A$2:$A$100,MATCH('RWIS Sensor (Desc)'!$E83,[1]!MASTER_RWIS_SENSOR_TYPE_DESC[#Data],0),0))","v":""},{"$f":"IF('RWIS Sensor (Desc)'!F83=\"\",\"\",'RWIS Sensor (Desc)'!F83)","v":""},{"$f":"IF('RWIS Sensor (Desc)'!G83=\"\",\"\",INDEX([1]RWIS_SENSOR_MODEL!$B$2:$B$100,MATCH(1,([1]RWIS_SENSOR_MODEL!$C$2:$C$100='RWIS Sensor (Desc)'!$G83)*([1]RWIS_SENSOR_MODEL!$E$2:$E$100='RWIS Sensor (Code)'!$D83),0),0))","v":""},{"$f":"IF('RWIS Sensor (Desc)'!H83=\"\",\"\",INDEX([1]RWIS_SENSOR_MODEL!$A$2:$A$100,MATCH(1,([1]RWIS_SENSOR_MODEL!$C$2:$C$100='RWIS Sensor (Desc)'!$G83)*([1]RWIS_SENSOR_MODEL!$D$2:$D$100='RWIS Sensor (Desc)'!$H83)*([1]RWIS_SENSOR_MODEL!$E$2:$E$100='RWIS Sensor (Code)'!$D83),0),0))","v":""},{"$f":"IF('RWIS Sensor (Desc)'!I83=\"\",\"\",'RWIS Sensor (Desc)'!I83)","v":""}]
[{"$f":"IF('RWIS Sensor (Desc)'!A84=\"\",\"\",'RWIS Sensor (Desc)'!A84)","v":""},{"$f":"IF('RWIS Sensor (Desc)'!C84=\"\",\"\",\"2008\")","v":""},{"$f":"IF('RWIS Sensor (Desc)'!C84=\"\",\"\",'RWIS Sensor (Desc)'!C84)","v":""},{"$f":"IF('RWIS Sensor (Desc)'!E84=\"\",\"\",INDEX([1]RWIS_SENSOR_TYPE!$A$2:$A$100,MATCH('RWIS Sensor (Desc)'!$E84,[1]!MASTER_RWIS_SENSOR_TYPE_DESC[#Data],0),0))","v":""},{"$f":"IF('RWIS Sensor (Desc)'!F84=\"\",\"\",'RWIS Sensor (Desc)'!F84)","v":""},{"$f":"IF('RWIS Sensor (Desc)'!G84=\"\",\"\",INDEX([1]RWIS_SENSOR_MODEL!$B$2:$B$100,MATCH(1,([1]RWIS_SENSOR_MODEL!$C$2:$C$100='RWIS Sensor (Desc)'!$G84)*([1]RWIS_SENSOR_MODEL!$E$2:$E$100='RWIS Sensor (Code)'!$D84),0),0))","v":""},{"$f":"IF('RWIS Sensor (Desc)'!H84=\"\",\"\",INDEX([1]RWIS_SENSOR_MODEL!$A$2:$A$100,MATCH(1,([1]RWIS_SENSOR_MODEL!$C$2:$C$100='RWIS Sensor (Desc)'!$G84)*([1]RWIS_SENSOR_MODEL!$D$2:$D$100='RWIS Sensor (Desc)'!$H84)*([1]RWIS_SENSOR_MODEL!$E$2:$E$100='RWIS Sensor (Code)'!$D84),0),0))","v":""},{"$f":"IF('RWIS Sensor (Desc)'!I84=\"\",\"\",'RWIS Sensor (Desc)'!I84)","v":""}]
[{"$f":"IF('RWIS Sensor (Desc)'!A85=\"\",\"\",'RWIS Sensor (Desc)'!A85)","v":""},{"$f":"IF('RWIS Sensor (Desc)'!C85=\"\",\"\",\"2008\")","v":""},{"$f":"IF('RWIS Sensor (Desc)'!C85=\"\",\"\",'RWIS Sensor (Desc)'!C85)","v":""},{"$f":"IF('RWIS Sensor (Desc)'!E85=\"\",\"\",INDEX([1]RWIS_SENSOR_TYPE!$A$2:$A$100,MATCH('RWIS Sensor (Desc)'!$E85,[1]!MASTER_RWIS_SENSOR_TYPE_DESC[#Data],0),0))","v":""},{"$f":"IF('RWIS Sensor (Desc)'!F85=\"\",\"\",'RWIS Sensor (Desc)'!F85)","v":""},{"$f":"IF('RWIS Sensor (Desc)'!G85=\"\",\"\",INDEX([1]RWIS_SENSOR_MODEL!$B$2:$B$100,MATCH(1,([1]RWIS_SENSOR_MODEL!$C$2:$C$100='RWIS Sensor (Desc)'!$G85)*([1]RWIS_SENSOR_MODEL!$E$2:$E$100='RWIS Sensor (Code)'!$D85),0),0))","v":""},{"$f":"IF('RWIS Sensor (Desc)'!H85=\"\",\"\",INDEX([1]RWIS_SENSOR_MODEL!$A$2:$A$100,MATCH(1,([1]RWIS_SENSOR_MODEL!$C$2:$C$100='RWIS Sensor (Desc)'!$G85)*([1]RWIS_SENSOR_MODEL!$D$2:$D$100='RWIS Sensor (Desc)'!$H85)*([1]RWIS_SENSOR_MODEL!$E$2:$E$100='RWIS Sensor (Code)'!$D85),0),0))","v":""},{"$f":"IF('RWIS Sensor (Desc)'!I85=\"\",\"\",'RWIS Sensor (Desc)'!I85)","v":""}]
[{"$f":"IF('RWIS Sensor (Desc)'!A86=\"\",\"\",'RWIS Sensor (Desc)'!A86)","v":""},{"$f":"IF('RWIS Sensor (Desc)'!C86=\"\",\"\",\"2008\")","v":""},{"$f":"IF('RWIS Sensor (Desc)'!C86=\"\",\"\",'RWIS Sensor (Desc)'!C86)","v":""},{"$f":"IF('RWIS Sensor (Desc)'!E86=\"\",\"\",INDEX([1]RWIS_SENSOR_TYPE!$A$2:$A$100,MATCH('RWIS Sensor (Desc)'!$E86,[1]!MASTER_RWIS_SENSOR_TYPE_DESC[#Data],0),0))","v":""},{"$f":"IF('RWIS Sensor (Desc)'!F86=\"\",\"\",'RWIS Sensor (Desc)'!F86)","v":""},{"$f":"IF('RWIS Sensor (Desc)'!G86=\"\",\"\",INDEX([1]RWIS_SENSOR_MODEL!$B$2:$B$100,MATCH(1,([1]RWIS_SENSOR_MODEL!$C$2:$C$100='RWIS Sensor (Desc)'!$G86)*([1]RWIS_SENSOR_MODEL!$E$2:$E$100='RWIS Sensor (Code)'!$D86),0),0))","v":""},{"$f":"IF('RWIS Sensor (Desc)'!H86=\"\",\"\",INDEX([1]RWIS_SENSOR_MODEL!$A$2:$A$100,MATCH(1,([1]RWIS_SENSOR_MODEL!$C$2:$C$100='RWIS Sensor (Desc)'!$G86)*([1]RWIS_SENSOR_MODEL!$D$2:$D$100='RWIS Sensor (Desc)'!$H86)*([1]RWIS_SENSOR_MODEL!$E$2:$E$100='RWIS Sensor (Code)'!$D86),0),0))","v":""},{"$f":"IF('RWIS Sensor (Desc)'!I86=\"\",\"\",'RWIS Sensor (Desc)'!I86)","v":""}]
[{"$f":"IF('RWIS Sensor (Desc)'!A87=\"\",\"\",'RWIS Sensor (Desc)'!A87)","v":""},{"$f":"IF('RWIS Sensor (Desc)'!C87=\"\",\"\",\"2008\")","v":""},{"$f":"IF('RWIS Sensor (Desc)'!C87=\"\",\"\",'RWIS Sensor (Desc)'!C87)","v":""},{"$f":"IF('RWIS Sensor (Desc)'!E87=\"\",\"\",INDEX([1]RWIS_SENSOR_TYPE!$A$2:$A$100,MATCH('RWIS Sensor (Desc)'!$E87,[1]!MASTER_RWIS_SENSOR_TYPE_DESC[#Data],0),0))","v":""},{"$f":"IF('RWIS Sensor (Desc)'!F87=\"\",\"\",'RWIS Sensor (Desc)'!F87)","v":""},{"$f":"IF('RWIS Sensor (Desc)'!G87=\"\",\"\",INDEX([1]RWIS_SENSOR_MODEL!$B$2:$B$100,MATCH(1,([1]RWIS_SENSOR_MODEL!$C$2:$C$100='RWIS Sensor (Desc)'!$G87)*([1]RWIS_SENSOR_MODEL!$E$2:$E$100='RWIS Sensor (Code)'!$D87),0),0))","v":""},{"$f":"IF('RWIS Sensor (Desc)'!H87=\"\",\"\",INDEX([1]RWIS_SENSOR_MODEL!$A$2:$A$100,MATCH(1,([1]RWIS_SENSOR_MODEL!$C$2:$C$100='RWIS Sensor (Desc)'!$G87)*([1]RWIS_SENSOR_MODEL!$D$2:$D$100='RWIS Sensor (Desc)'!$H87)*([1]RWIS_SENSOR_MODEL!$E$2:$E$100='RWIS Sensor (Code)'!$D87),0),0))","v":""},{"$f":"IF('RWIS Sensor (Desc)'!I87=\"\",\"\",'RWIS Sensor (Desc)'!I87)","v":""}]
[{"$f":"IF('RWIS Sensor (Desc)'!A88=\"\",\"\",'RWIS Sensor (Desc)'!A88)","v":""},{"$f":"IF('RWIS Sensor (Desc)'!C88=\"\",\"\",\"2008\")","v":""},{"$f":"IF('RWIS Sensor (Desc)'!C88=\"\",\"\",'RWIS Sensor (Desc)'!C88)","v":""},{"$f":"IF('RWIS Sensor (Desc)'!E88=\"\",\"\",INDEX([1]RWIS_SENSOR_TYPE!$A$2:$A$100,MATCH('RWIS Sensor (Desc)'!$E88,[1]!MASTER_RWIS_SENSOR_TYPE_DESC[#Data],0),0))","v":""},{"$f":"IF('RWIS Sensor (Desc)'!F88=\"\",\"\",'RWIS Sensor (Desc)'!F88)","v":""},{"$f":"IF('RWIS Sensor (Desc)'!G88=\"\",\"\",INDEX([1]RWIS_SENSOR_MODEL!$B$2:$B$100,MATCH(1,([1]RWIS_SENSOR_MODEL!$C$2:$C$100='RWIS Sensor (Desc)'!$G88)*([1]RWIS_SENSOR_MODEL!$E$2:$E$100='RWIS Sensor (Code)'!$D88),0),0))","v":""},{"$f":"IF('RWIS Sensor (Desc)'!H88=\"\",\"\",INDEX([1]RWIS_SENSOR_MODEL!$A$2:$A$100,MATCH(1,([1]RWIS_SENSOR_MODEL!$C$2:$C$100='RWIS Sensor (Desc)'!$G88)*([1]RWIS_SENSOR_MODEL!$D$2:$D$100='RWIS Sensor (Desc)'!$H88)*([1]RWIS_SENSOR_MODEL!$E$2:$E$100='RWIS Sensor (Code)'!$D88),0),0))","v":""},{"$f":"IF('RWIS Sensor (Desc)'!I88=\"\",\"\",'RWIS Sensor (Desc)'!I88)","v":""}]
[{"$f":"IF('RWIS Sensor (Desc)'!A89=\"\",\"\",'RWIS Sensor (Desc)'!A89)","v":""},{"$f":"IF('RWIS Sensor (Desc)'!C89=\"\",\"\",\"2008\")","v":""},{"$f":"IF('RWIS Sensor (Desc)'!C89=\"\",\"\",'RWIS Sensor (Desc)'!C89)","v":""},{"$f":"IF('RWIS Sensor (Desc)'!E89=\"\",\"\",INDEX([1]RWIS_SENSOR_TYPE!$A$2:$A$100,MATCH('RWIS Sensor (Desc)'!$E89,[1]!MASTER_RWIS_SENSOR_TYPE_DESC[#Data],0),0))","v":""},{"$f":"IF('RWIS Sensor (Desc)'!F89=\"\",\"\",'RWIS Sensor (Desc)'!F89)","v":""},{"$f":"IF('RWIS Sensor (Desc)'!G89=\"\",\"\",INDEX([1]RWIS_SENSOR_MODEL!$B$2:$B$100,MATCH(1,([1]RWIS_SENSOR_MODEL!$C$2:$C$100='RWIS Sensor (Desc)'!$G89)*([1]RWIS_SENSOR_MODEL!$E$2:$E$100='RWIS Sensor (Code)'!$D89),0),0))","v":""},{"$f":"IF('RWIS Sensor (Desc)'!H89=\"\",\"\",INDEX([1]RWIS_SENSOR_MODEL!$A$2:$A$100,MATCH(1,([1]RWIS_SENSOR_MODEL!$C$2:$C$100='RWIS Sensor (Desc)'!$G89)*([1]RWIS_SENSOR_MODEL!$D$2:$D$100='RWIS Sensor (Desc)'!$H89)*([1]RWIS_SENSOR_MODEL!$E$2:$E$100='RWIS Sensor (Code)'!$D89),0),0))","v":""},{"$f":"IF('RWIS Sensor (Desc)'!I89=\"\",\"\",'RWIS Sensor (Desc)'!I89)","v":""}]
[{"$f":"IF('RWIS Sensor (Desc)'!A90=\"\",\"\",'RWIS Sensor (Desc)'!A90)","v":""},{"$f":"IF('RWIS Sensor (Desc)'!C90=\"\",\"\",\"2008\")","v":""},{"$f":"IF('RWIS Sensor (Desc)'!C90=\"\",\"\",'RWIS Sensor (Desc)'!C90)","v":""},{"$f":"IF('RWIS Sensor (Desc)'!E90=\"\",\"\",INDEX([1]RWIS_SENSOR_TYPE!$A$2:$A$100,MATCH('RWIS Sensor (Desc)'!$E90,[1]!MASTER_RWIS_SENSOR_TYPE_DESC[#Data],0),0))","v":""},{"$f":"IF('RWIS Sensor (Desc)'!F90=\"\",\"\",'RWIS Sensor (Desc)'!F90)","v":""},{"$f":"IF('RWIS Sensor (Desc)'!G90=\"\",\"\",INDEX([1]RWIS_SENSOR_MODEL!$B$2:$B$100,MATCH(1,([1]RWIS_SENSOR_MODEL!$C$2:$C$100='RWIS Sensor (Desc)'!$G90)*([1]RWIS_SENSOR_MODEL!$E$2:$E$100='RWIS Sensor (Code)'!$D90),0),0))","v":""},{"$f":"IF('RWIS Sensor (Desc)'!H90=\"\",\"\",INDEX([1]RWIS_SENSOR_MODEL!$A$2:$A$100,MATCH(1,([1]RWIS_SENSOR_MODEL!$C$2:$C$100='RWIS Sensor (Desc)'!$G90)*([1]RWIS_SENSOR_MODEL!$D$2:$D$100='RWIS Sensor (Desc)'!$H90)*([1]RWIS_SENSOR_MODEL!$E$2:$E$100='RWIS Sensor (Code)'!$D90),0),0))","v":""},{"$f":"IF('RWIS Sensor (Desc)'!I90=\"\",\"\",'RWIS Sensor (Desc)'!I90)","v":""}]
[{"$f":"IF('RWIS Sensor (Desc)'!A91=\"\",\"\",'RWIS Sensor (Desc)'!A91)","v":""},{"$f":"IF('RWIS Sensor (Desc)'!C91=\"\",\"\",\"2008\")","v":""},{"$f":"IF('RWIS Sensor (Desc)'!C91=\"\",\"\",'RWIS Sensor (Desc)'!C91)","v":""},{"$f":"IF('RWIS Sensor (Desc)'!E91=\"\",\"\",INDEX([1]RWIS_SENSOR_TYPE!$A$2:$A$100,MATCH('RWIS Sensor (Desc)'!$E91,[1]!MASTER_RWIS_SENSOR_TYPE_DESC[#Data],0),0))","v":""},{"$f":"IF('RWIS Sensor (Desc)'!F91=\"\",\"\",'RWIS Sensor (Desc)'!F91)","v":""},{"$f":"IF('RWIS Sensor (Desc)'!G91=\"\",\"\",INDEX([1]RWIS_SENSOR_MODEL!$B$2:$B$100,MATCH(1,([1]RWIS_SENSOR_MODEL!$C$2:$C$100='RWIS Sensor (Desc)'!$G91)*([1]RWIS_SENSOR_MODEL!$E$2:$E$100='RWIS Sensor (Code)'!$D91),0),0))","v":""},{"$f":"IF('RWIS Sensor (Desc)'!H91=\"\",\"\",INDEX([1]RWIS_SENSOR_MODEL!$A$2:$A$100,MATCH(1,([1]RWIS_SENSOR_MODEL!$C$2:$C$100='RWIS Sensor (Desc)'!$G91)*([1]RWIS_SENSOR_MODEL!$D$2:$D$100='RWIS Sensor (Desc)'!$H91)*([1]RWIS_SENSOR_MODEL!$E$2:$E$100='RWIS Sensor (Code)'!$D91),0),0))","v":""},{"$f":"IF('RWIS Sensor (Desc)'!I91=\"\",\"\",'RWIS Sensor (Desc)'!I91)","v":""}]
[{"$f":"IF('RWIS Sensor (Desc)'!A92=\"\",\"\",'RWIS Sensor (Desc)'!A92)","v":""},{"$f":"IF('RWIS Sensor (Desc)'!C92=\"\",\"\",\"2008\")","v":""},{"$f":"IF('RWIS Sensor (Desc)'!C92=\"\",\"\",'RWIS Sensor (Desc)'!C92)","v":""},{"$f":"IF('RWIS Sensor (Desc)'!E92=\"\",\"\",INDEX([1]RWIS_SENSOR_TYPE!$A$2:$A$100,MATCH('RWIS Sensor (Desc)'!$E92,[1]!MASTER_RWIS_SENSOR_TYPE_DESC[#Data],0),0))","v":""},{"$f":"IF('RWIS Sensor (Desc)'!F92=\"\",\"\",'RWIS Sensor (Desc)'!F92)","v":""},{"$f":"IF('RWIS Sensor (Desc)'!G92=\"\",\"\",INDEX([1]RWIS_SENSOR_MODEL!$B$2:$B$100,MATCH(1,([1]RWIS_SENSOR_MODEL!$C$2:$C$100='RWIS Sensor (Desc)'!$G92)*([1]RWIS_SENSOR_MODEL!$E$2:$E$100='RWIS Sensor (Code)'!$D92),0),0))","v":""},{"$f":"IF('RWIS Sensor (Desc)'!H92=\"\",\"\",INDEX([1]RWIS_SENSOR_MODEL!$A$2:$A$100,MATCH(1,([1]RWIS_SENSOR_MODEL!$C$2:$C$100='RWIS Sensor (Desc)'!$G92)*([1]RWIS_SENSOR_MODEL!$D$2:$D$100='RWIS Sensor (Desc)'!$H92)*([1]RWIS_SENSOR_MODEL!$E$2:$E$100='RWIS Sensor (Code)'!$D92),0),0))","v":""},{"$f":"IF('RWIS Sensor (Desc)'!I92=\"\",\"\",'RWIS Sensor (Desc)'!I92)","v":""}]
[{"$f":"IF('RWIS Sensor (Desc)'!A93=\"\",\"\",'RWIS Sensor (Desc)'!A93)","v":""},{"$f":"IF('RWIS Sensor (Desc)'!C93=\"\",\"\",\"2008\")","v":""},{"$f":"IF('RWIS Sensor (Desc)'!C93=\"\",\"\",'RWIS Sensor (Desc)'!C93)","v":""},{"$f":"IF('RWIS Sensor (Desc)'!E93=\"\",\"\",INDEX([1]RWIS_SENSOR_TYPE!$A$2:$A$100,MATCH('RWIS Sensor (Desc)'!$E93,[1]!MASTER_RWIS_SENSOR_TYPE_DESC[#Data],0),0))","v":""},{"$f":"IF('RWIS Sensor (Desc)'!F93=\"\",\"\",'RWIS Sensor (Desc)'!F93)","v":""},{"$f":"IF('RWIS Sensor (Desc)'!G93=\"\",\"\",INDEX([1]RWIS_SENSOR_MODEL!$B$2:$B$100,MATCH(1,([1]RWIS_SENSOR_MODEL!$C$2:$C$100='RWIS Sensor (Desc)'!$G93)*([1]RWIS_SENSOR_MODEL!$E$2:$E$100='RWIS Sensor (Code)'!$D93),0),0))","v":""},{"$f":"IF('RWIS Sensor (Desc)'!H93=\"\",\"\",INDEX([1]RWIS_SENSOR_MODEL!$A$2:$A$100,MATCH(1,([1]RWIS_SENSOR_MODEL!$C$2:$C$100='RWIS Sensor (Desc)'!$G93)*([1]RWIS_SENSOR_MODEL!$D$2:$D$100='RWIS Sensor (Desc)'!$H93)*([1]RWIS_SENSOR_MODEL!$E$2:$E$100='RWIS Sensor (Code)'!$D93),0),0))","v":""},{"$f":"IF('RWIS Sensor (Desc)'!I93=\"\",\"\",'RWIS Sensor (Desc)'!I93)","v":""}]
[{"$f":"IF('RWIS Sensor (Desc)'!A94=\"\",\"\",'RWIS Sensor (Desc)'!A94)","v":""},{"$f":"IF('RWIS Sensor (Desc)'!C94=\"\",\"\",\"2008\")","v":""},{"$f":"IF('RWIS Sensor (Desc)'!C94=\"\",\"\",'RWIS Sensor (Desc)'!C94)","v":""},{"$f":"IF('RWIS Sensor (Desc)'!E94=\"\",\"\",INDEX([1]RWIS_SENSOR_TYPE!$A$2:$A$100,MATCH('RWIS Sensor (Desc)'!$E94,[1]!MASTER_RWIS_SENSOR_TYPE_DESC[#Data],0),0))","v":""},{"$f":"IF('RWIS Sensor (Desc)'!F94=\"\",\"\",'RWIS Sensor (Desc)'!F94)","v":""},{"$f":"IF('RWIS Sensor (Desc)'!G94=\"\",\"\",INDEX([1]RWIS_SENSOR_MODEL!$B$2:$B$100,MATCH(1,([1]RWIS_SENSOR_MODEL!$C$2:$C$100='RWIS Sensor (Desc)'!$G94)*([1]RWIS_SENSOR_MODEL!$E$2:$E$100='RWIS Sensor (Code)'!$D94),0),0))","v":""},{"$f":"IF('RWIS Sensor (Desc)'!H94=\"\",\"\",INDEX([1]RWIS_SENSOR_MODEL!$A$2:$A$100,MATCH(1,([1]RWIS_SENSOR_MODEL!$C$2:$C$100='RWIS Sensor (Desc)'!$G94)*([1]RWIS_SENSOR_MODEL!$D$2:$D$100='RWIS Sensor (Desc)'!$H94)*([1]RWIS_SENSOR_MODEL!$E$2:$E$100='RWIS Sensor (Code)'!$D94),0),0))","v":""},{"$f":"IF('RWIS Sensor (Desc)'!I94=\"\",\"\",'RWIS Sensor (Desc)'!I94)","v":""}]
[{"$f":"IF('RWIS Sensor (Desc)'!A95=\"\",\"\",'RWIS Sensor (Desc)'!A95)","v":""},{"$f":"IF('RWIS Sensor (Desc)'!C95=\"\",\"\",\"2008\")","v":""},{"$f":"IF('RWIS Sensor (Desc)'!C95=\"\",\"\",'RWIS Sensor (Desc)'!C95)","v":""},{"$f":"IF('RWIS Sensor (Desc)'!E95=\"\",\"\",INDEX([1]RWIS_SENSOR_TYPE!$A$2:$A$100,MATCH('RWIS Sensor (Desc)'!$E95,[1]!MASTER_RWIS_SENSOR_TYPE_DESC[#Data],0),0))","v":""},{"$f":"IF('RWIS Sensor (Desc)'!F95=\"\",\"\",'RWIS Sensor (Desc)'!F95)","v":""},{"$f":"IF('RWIS Sensor (Desc)'!G95=\"\",\"\",INDEX([1]RWIS_SENSOR_MODEL!$B$2:$B$100,MATCH(1,([1]RWIS_SENSOR_MODEL!$C$2:$C$100='RWIS Sensor (Desc)'!$G95)*([1]RWIS_SENSOR_MODEL!$E$2:$E$100='RWIS Sensor (Code)'!$D95),0),0))","v":""},{"$f":"IF('RWIS Sensor (Desc)'!H95=\"\",\"\",INDEX([1]RWIS_SENSOR_MODEL!$A$2:$A$100,MATCH(1,([1]RWIS_SENSOR_MODEL!$C$2:$C$100='RWIS Sensor (Desc)'!$G95)*([1]RWIS_SENSOR_MODEL!$D$2:$D$100='RWIS Sensor (Desc)'!$H95)*([1]RWIS_SENSOR_MODEL!$E$2:$E$100='RWIS Sensor (Code)'!$D95),0),0))","v":""},{"$f":"IF('RWIS Sensor (Desc)'!I95=\"\",\"\",'RWIS Sensor (Desc)'!I95)","v":""}]
[{"$f":"IF('RWIS Sensor (Desc)'!A96=\"\",\"\",'RWIS Sensor (Desc)'!A96)","v":""},{"$f":"IF('RWIS Sensor (Desc)'!C96=\"\",\"\",\"2008\")","v":""},{"$f":"IF('RWIS Sensor (Desc)'!C96=\"\",\"\",'RWIS Sensor (Desc)'!C96)","v":""},{"$f":"IF('RWIS Sensor (Desc)'!E96=\"\",\"\",INDEX([1]RWIS_SENSOR_TYPE!$A$2:$A$100,MATCH('RWIS Sensor (Desc)'!$E96,[1]!MASTER_RWIS_SENSOR_TYPE_DESC[#Data],0),0))","v":""},{"$f":"IF('RWIS Sensor (Desc)'!F96=\"\",\"\",'RWIS Sensor (Desc)'!F96)","v":""},{"$f":"IF('RWIS Sensor (Desc)'!G96=\"\",\"\",INDEX([1]RWIS_SENSOR_MODEL!$B$2:$B$100,MATCH(1,([1]RWIS_SENSOR_MODEL!$C$2:$C$100='RWIS Sensor (Desc)'!$G96)*([1]RWIS_SENSOR_MODEL!$E$2:$E$100='RWIS Sensor (Code)'!$D96),0),0))","v":""},{"$f":"IF('RWIS Sensor (Desc)'!H96=\"\",\"\",INDEX([1]RWIS_SENSOR_MODEL!$A$2:$A$100,MATCH(1,([1]RWIS_SENSOR_MODEL!$C$2:$C$100='RWIS Sensor (Desc)'!$G96)*([1]RWIS_SENSOR_MODEL!$D$2:$D$100='RWIS Sensor (Desc)'!$H96)*([1]RWIS_SENSOR_MODEL!$E$2:$E$100='RWIS Sensor (Code)'!$D96),0),0))","v":""},{"$f":"IF('RWIS Sensor (Desc)'!I96=\"\",\"\",'RWIS Sensor (Desc)'!I96)","v":""}]
[{"$f":"IF('RWIS Sensor (Desc)'!A97=\"\",\"\",'RWIS Sensor (Desc)'!A97)","v":""},{"$f":"IF('RWIS Sensor (Desc)'!C97=\"\",\"\",\"2008\")","v":""},{"$f":"IF('RWIS Sensor (Desc)'!C97=\"\",\"\",'RWIS Sensor (Desc)'!C97)","v":""},{"$f":"IF('RWIS Sensor (Desc)'!E97=\"\",\"\",INDEX([1]RWIS_SENSOR_TYPE!$A$2:$A$100,MATCH('RWIS Sensor (Desc)'!$E97,[1]!MASTER_RWIS_SENSOR_TYPE_DESC[#Data],0),0))","v":""},{"$f":"IF('RWIS Sensor (Desc)'!F97=\"\",\"\",'RWIS Sensor (Desc)'!F97)","v":""},{"$f":"IF('RWIS Sensor (Desc)'!G97=\"\",\"\",INDEX([1]RWIS_SENSOR_MODEL!$B$2:$B$100,MATCH(1,([1]RWIS_SENSOR_MODEL!$C$2:$C$100='RWIS Sensor (Desc)'!$G97)*([1]RWIS_SENSOR_MODEL!$E$2:$E$100='RWIS Sensor (Code)'!$D97),0),0))","v":""},{"$f":"IF('RWIS Sensor (Desc)'!H97=\"\",\"\",INDEX([1]RWIS_SENSOR_MODEL!$A$2:$A$100,MATCH(1,([1]RWIS_SENSOR_MODEL!$C$2:$C$100='RWIS Sensor (Desc)'!$G97)*([1]RWIS_SENSOR_MODEL!$D$2:$D$100='RWIS Sensor (Desc)'!$H97)*([1]RWIS_SENSOR_MODEL!$E$2:$E$100='RWIS Sensor (Code)'!$D97),0),0))","v":""},{"$f":"IF('RWIS Sensor (Desc)'!I97=\"\",\"\",'RWIS Sensor (Desc)'!I97)","v":""}]
[{"$f":"IF('RWIS Sensor (Desc)'!A98=\"\",\"\",'RWIS Sensor (Desc)'!A98)","v":""},{"$f":"IF('RWIS Sensor (Desc)'!C98=\"\",\"\",\"2008\")","v":""},{"$f":"IF('RWIS Sensor (Desc)'!C98=\"\",\"\",'RWIS Sensor (Desc)'!C98)","v":""},{"$f":"IF('RWIS Sensor (Desc)'!E98=\"\",\"\",INDEX([1]RWIS_SENSOR_TYPE!$A$2:$A$100,MATCH('RWIS Sensor (Desc)'!$E98,[1]!MASTER_RWIS_SENSOR_TYPE_DESC[#Data],0),0))","v":""},{"$f":"IF('RWIS Sensor (Desc)'!F98=\"\",\"\",'RWIS Sensor (Desc)'!F98)","v":""},{"$f":"IF('RWIS Sensor (Desc)'!G98=\"\",\"\",INDEX([1]RWIS_SENSOR_MODEL!$B$2:$B$100,MATCH(1,([1]RWIS_SENSOR_MODEL!$C$2:$C$100='RWIS Sensor (Desc)'!$G98)*([1]RWIS_SENSOR_MODEL!$E$2:$E$100='RWIS Sensor (Code)'!$D98),0),0))","v":""},{"$f":"IF('RWIS Sensor (Desc)'!H98=\"\",\"\",INDEX([1]RWIS_SENSOR_MODEL!$A$2:$A$100,MATCH(1,([1]RWIS_SENSOR_MODEL!$C$2:$C$100='RWIS Sensor (Desc)'!$G98)*([1]RWIS_SENSOR_MODEL!$D$2:$D$100='RWIS Sensor (Desc)'!$H98)*([1]RWIS_SENSOR_MODEL!$E$2:$E$100='RWIS Sensor (Code)'!$D98),0),0))","v":""},{"$f":"IF('RWIS Sensor (Desc)'!I98=\"\",\"\",'RWIS Sensor (Desc)'!I98)","v":""}]
[{"$f":"IF('RWIS Sensor (Desc)'!A99=\"\",\"\",'RWIS Sensor (Desc)'!A99)","v":""},{"$f":"IF('RWIS Sensor (Desc)'!C99=\"\",\"\",\"2008\")","v":""},{"$f":"IF('RWIS Sensor (Desc)'!C99=\"\",\"\",'RWIS Sensor (Desc)'!C99)","v":""},{"$f":"IF('RWIS Sensor (Desc)'!E99=\"\",\"\",INDEX([1]RWIS_SENSOR_TYPE!$A$2:$A$100,MATCH('RWIS Sensor (Desc)'!$E99,[1]!MASTER_RWIS_SENSOR_TYPE_DESC[#Data],0),0))","v":""},{"$f":"IF('RWIS Sensor (Desc)'!F99=\"\",\"\",'RWIS Sensor (Desc)'!F99)","v":""},{"$f":"IF('RWIS Sensor (Desc)'!G99=\"\",\"\",INDEX([1]RWIS_SENSOR_MODEL!$B$2:$B$100,MATCH(1,([1]RWIS_SENSOR_MODEL!$C$2:$C$100='RWIS Sensor (Desc)'!$G99)*([1]RWIS_SENSOR_MODEL!$E$2:$E$100='RWIS Sensor (Code)'!$D99),0),0))","v":""},{"$f":"IF('RWIS Sensor (Desc)'!H99=\"\",\"\",INDEX([1]RWIS_SENSOR_MODEL!$A$2:$A$100,MATCH(1,([1]RWIS_SENSOR_MODEL!$C$2:$C$100='RWIS Sensor (Desc)'!$G99)*([1]RWIS_SENSOR_MODEL!$D$2:$D$100='RWIS Sensor (Desc)'!$H99)*([1]RWIS_SENSOR_MODEL!$E$2:$E$100='RWIS Sensor (Code)'!$D99),0),0))","v":""},{"$f":"IF('RWIS Sensor (Desc)'!I99=\"\",\"\",'RWIS Sensor (Desc)'!I99)","v":""}]
[{"$f":"IF('RWIS Sensor (Desc)'!A100=\"\",\"\",'RWIS Sensor (Desc)'!A100)","v":""},{"$f":"IF('RWIS Sensor (Desc)'!C100=\"\",\"\",\"2008\")","v":""},{"$f":"IF('RWIS Sensor (Desc)'!C100=\"\",\"\",'RWIS Sensor (Desc)'!C100)","v":""},{"$f":"IF('RWIS Sensor (Desc)'!E100=\"\",\"\",INDEX([1]RWIS_SENSOR_TYPE!$A$2:$A$100,MATCH('RWIS Sensor (Desc)'!$E100,[1]!MASTER_RWIS_SENSOR_TYPE_DESC[#Data],0),0))","v":""},{"$f":"IF('RWIS Sensor (Desc)'!F100=\"\",\"\",'RWIS Sensor (Desc)'!F100)","v":""},{"$f":"IF('RWIS Sensor (Desc)'!G100=\"\",\"\",INDEX([1]RWIS_SENSOR_MODEL!$B$2:$B$100,MATCH(1,([1]RWIS_SENSOR_MODEL!$C$2:$C$100='RWIS Sensor (Desc)'!$G100)*([1]RWIS_SENSOR_MODEL!$E$2:$E$100='RWIS Sensor (Code)'!$D100),0),0))","v":""},{"$f":"IF('RWIS Sensor (Desc)'!H100=\"\",\"\",INDEX([1]RWIS_SENSOR_MODEL!$A$2:$A$100,MATCH(1,([1]RWIS_SENSOR_MODEL!$C$2:$C$100='RWIS Sensor (Desc)'!$G100)*([1]RWIS_SENSOR_MODEL!$D$2:$D$100='RWIS Sensor (Desc)'!$H100)*([1]RWIS_SENSOR_MODEL!$E$2:$E$100='RWIS Sensor (Code)'!$D100),0),0))","v":""},{"$f":"IF('RWIS Sensor (Desc)'!I100=\"\",\"\",'RWIS Sensor (Desc)'!I100)","v":""}]
[{"$f":"IF('RWIS Sensor (Desc)'!A101=\"\",\"\",'RWIS Sensor (Desc)'!A101)","v":""},{"$f":"IF('RWIS Sensor (Desc)'!C101=\"\",\"\",\"2008\")","v":""},{"$f":"IF('RWIS Sensor (Desc)'!C101=\"\",\"\",'RWIS Sensor (Desc)'!C101)","v":""},{"$f":"IF('RWIS Sensor (Desc)'!E101=\"\",\"\",INDEX([1]RWIS_SENSOR_TYPE!$A$2:$A$100,MATCH('RWIS Sensor (Desc)'!$E101,[1]!MASTER_RWIS_SENSOR_TYPE_DESC[#Data],0),0))","v":""},{"$f":"IF('RWIS Sensor (Desc)'!F101=\"\",\"\",'RWIS Sensor (Desc)'!F101)","v":""},{"$f":"IF('RWIS Sensor (Desc)'!G101=\"\",\"\",INDEX([1]RWIS_SENSOR_MODEL!$B$2:$B$100,MATCH(1,([1]RWIS_SENSOR_MODEL!$C$2:$C$100='RWIS Sensor (Desc)'!$G101)*([1]RWIS_SENSOR_MODEL!$E$2:$E$100='RWIS Sensor (Code)'!$D101),0),0))","v":""},{"$f":"IF('RWIS Sensor (Desc)'!H101=\"\",\"\",INDEX([1]RWIS_SENSOR_MODEL!$A$2:$A$100,MATCH(1,([1]RWIS_SENSOR_MODEL!$C$2:$C$100='RWIS Sensor (Desc)'!$G101)*([1]RWIS_SENSOR_MODEL!$D$2:$D$100='RWIS Sensor (Desc)'!$H101)*([1]RWIS_SENSOR_MODEL!$E$2:$E$100='RWIS Sensor (Code)'!$D101),0),0))","v":""},{"$f":"IF('RWIS Sensor (Desc)'!I101=\"\",\"\",'RWIS Sensor (Desc)'!I101)","v":""}]
[{"$f":"IF('RWIS Sensor (Desc)'!A102=\"\",\"\",'RWIS Sensor (Desc)'!A102)","v":""},{"$f":"IF('RWIS Sensor (Desc)'!C102=\"\",\"\",\"2008\")","v":""},{"$f":"IF('RWIS Sensor (Desc)'!C102=\"\",\"\",'RWIS Sensor (Desc)'!C102)","v":""},{"$f":"IF('RWIS Sensor (Desc)'!E102=\"\",\"\",INDEX([1]RWIS_SENSOR_TYPE!$A$2:$A$100,MATCH('RWIS Sensor (Desc)'!$E102,[1]!MASTER_RWIS_SENSOR_TYPE_DESC[#Data],0),0))","v":""},{"$f":"IF('RWIS Sensor (Desc)'!F102=\"\",\"\",'RWIS Sensor (Desc)'!F102)","v":""},{"$f":"IF('RWIS Sensor (Desc)'!G102=\"\",\"\",INDEX([1]RWIS_SENSOR_MODEL!$B$2:$B$100,MATCH(1,([1]RWIS_SENSOR_MODEL!$C$2:$C$100='RWIS Sensor (Desc)'!$G102)*([1]RWIS_SENSOR_MODEL!$E$2:$E$100='RWIS Sensor (Code)'!$D102),0),0))","v":""},{"$f":"IF('RWIS Sensor (Desc)'!H102=\"\",\"\",INDEX([1]RWIS_SENSOR_MODEL!$A$2:$A$100,MATCH(1,([1]RWIS_SENSOR_MODEL!$C$2:$C$100='RWIS Sensor (Desc)'!$G102)*([1]RWIS_SENSOR_MODEL!$D$2:$D$100='RWIS Sensor (Desc)'!$H102)*([1]RWIS_SENSOR_MODEL!$E$2:$E$100='RWIS Sensor (Code)'!$D102),0),0))","v":""},{"$f":"IF('RWIS Sensor (Desc)'!I102=\"\",\"\",'RWIS Sensor (Desc)'!I102)","v":""}]
[{"$f":"IF('RWIS Sensor (Desc)'!A103=\"\",\"\",'RWIS Sensor (Desc)'!A103)","v":""},{"$f":"IF('RWIS Sensor (Desc)'!C103=\"\",\"\",\"2008\")","v":""},{"$f":"IF('RWIS Sensor (Desc)'!C103=\"\",\"\",'RWIS Sensor (Desc)'!C103)","v":""},{"$f":"IF('RWIS Sensor (Desc)'!E103=\"\",\"\",INDEX([1]RWIS_SENSOR_TYPE!$A$2:$A$100,MATCH('RWIS Sensor (Desc)'!$E103,[1]!MASTER_RWIS_SENSOR_TYPE_DESC[#Data],0),0))","v":""},{"$f":"IF('RWIS Sensor (Desc)'!F103=\"\",\"\",'RWIS Sensor (Desc)'!F103)","v":""},{"$f":"IF('RWIS Sensor (Desc)'!G103=\"\",\"\",INDEX([1]RWIS_SENSOR_MODEL!$B$2:$B$100,MATCH(1,([1]RWIS_SENSOR_MODEL!$C$2:$C$100='RWIS Sensor (Desc)'!$G103)*([1]RWIS_SENSOR_MODEL!$E$2:$E$100='RWIS Sensor (Code)'!$D103),0),0))","v":""},{"$f":"IF('RWIS Sensor (Desc)'!H103=\"\",\"\",INDEX([1]RWIS_SENSOR_MODEL!$A$2:$A$100,MATCH(1,([1]RWIS_SENSOR_MODEL!$C$2:$C$100='RWIS Sensor (Desc)'!$G103)*([1]RWIS_SENSOR_MODEL!$D$2:$D$100='RWIS Sensor (Desc)'!$H103)*([1]RWIS_SENSOR_MODEL!$E$2:$E$100='RWIS Sensor (Code)'!$D103),0),0))","v":""},{"$f":"IF('RWIS Sensor (Desc)'!I103=\"\",\"\",'RWIS Sensor (Desc)'!I103)","v":""}]
[{"$f":"IF('RWIS Sensor (Desc)'!A104=\"\",\"\",'RWIS Sensor (Desc)'!A104)","v":""},{"$f":"IF('RWIS Sensor (Desc)'!C104=\"\",\"\",\"2008\")","v":""},{"$f":"IF('RWIS Sensor (Desc)'!C104=\"\",\"\",'RWIS Sensor (Desc)'!C104)","v":""},{"$f":"IF('RWIS Sensor (Desc)'!E104=\"\",\"\",INDEX([1]RWIS_SENSOR_TYPE!$A$2:$A$100,MATCH('RWIS Sensor (Desc)'!$E104,[1]!MASTER_RWIS_SENSOR_TYPE_DESC[#Data],0),0))","v":""},{"$f":"IF('RWIS Sensor (Desc)'!F104=\"\",\"\",'RWIS Sensor (Desc)'!F104)","v":""},{"$f":"IF('RWIS Sensor (Desc)'!G104=\"\",\"\",INDEX([1]RWIS_SENSOR_MODEL!$B$2:$B$100,MATCH(1,([1]RWIS_SENSOR_MODEL!$C$2:$C$100='RWIS Sensor (Desc)'!$G104)*([1]RWIS_SENSOR_MODEL!$E$2:$E$100='RWIS Sensor (Code)'!$D104),0),0))","v":""},{"$f":"IF('RWIS Sensor (Desc)'!H104=\"\",\"\",INDEX([1]RWIS_SENSOR_MODEL!$A$2:$A$100,MATCH(1,([1]RWIS_SENSOR_MODEL!$C$2:$C$100='RWIS Sensor (Desc)'!$G104)*([1]RWIS_SENSOR_MODEL!$D$2:$D$100='RWIS Sensor (Desc)'!$H104)*([1]RWIS_SENSOR_MODEL!$E$2:$E$100='RWIS Sensor (Code)'!$D104),0),0))","v":""},{"$f":"IF('RWIS Sensor (Desc)'!I104=\"\",\"\",'RWIS Sensor (Desc)'!I104)","v":""}]
[{"$f":"IF('RWIS Sensor (Desc)'!A105=\"\",\"\",'RWIS Sensor (Desc)'!A105)","v":""},{"$f":"IF('RWIS Sensor (Desc)'!C105=\"\",\"\",\"2008\")","v":""},{"$f":"IF('RWIS Sensor (Desc)'!C105=\"\",\"\",'RWIS Sensor (Desc)'!C105)","v":""},{"$f":"IF('RWIS Sensor (Desc)'!E105=\"\",\"\",INDEX([1]RWIS_SENSOR_TYPE!$A$2:$A$100,MATCH('RWIS Sensor (Desc)'!$E105,[1]!MASTER_RWIS_SENSOR_TYPE_DESC[#Data],0),0))","v":""},{"$f":"IF('RWIS Sensor (Desc)'!F105=\"\",\"\",'RWIS Sensor (Desc)'!F105)","v":""},{"$f":"IF('RWIS Sensor (Desc)'!G105=\"\",\"\",INDEX([1]RWIS_SENSOR_MODEL!$B$2:$B$100,MATCH(1,([1]RWIS_SENSOR_MODEL!$C$2:$C$100='RWIS Sensor (Desc)'!$G105)*([1]RWIS_SENSOR_MODEL!$E$2:$E$100='RWIS Sensor (Code)'!$D105),0),0))","v":""},{"$f":"IF('RWIS Sensor (Desc)'!H105=\"\",\"\",INDEX([1]RWIS_SENSOR_MODEL!$A$2:$A$100,MATCH(1,([1]RWIS_SENSOR_MODEL!$C$2:$C$100='RWIS Sensor (Desc)'!$G105)*([1]RWIS_SENSOR_MODEL!$D$2:$D$100='RWIS Sensor (Desc)'!$H105)*([1]RWIS_SENSOR_MODEL!$E$2:$E$100='RWIS Sensor (Code)'!$D105),0),0))","v":""},{"$f":"IF('RWIS Sensor (Desc)'!I105=\"\",\"\",'RWIS Sensor (Desc)'!I105)","v":""}]
[{"$f":"IF('RWIS Sensor (Desc)'!A106=\"\",\"\",'RWIS Sensor (Desc)'!A106)","v":""},{"$f":"IF('RWIS Sensor (Desc)'!C106=\"\",\"\",\"2008\")","v":""},{"$f":"IF('RWIS Sensor (Desc)'!C106=\"\",\"\",'RWIS Sensor (Desc)'!C106)","v":""},{"$f":"IF('RWIS Sensor (Desc)'!E106=\"\",\"\",INDEX([1]RWIS_SENSOR_TYPE!$A$2:$A$100,MATCH('RWIS Sensor (Desc)'!$E106,[1]!MASTER_RWIS_SENSOR_TYPE_DESC[#Data],0),0))","v":""},{"$f":"IF('RWIS Sensor (Desc)'!F106=\"\",\"\",'RWIS Sensor (Desc)'!F106)","v":""},{"$f":"IF('RWIS Sensor (Desc)'!G106=\"\",\"\",INDEX([1]RWIS_SENSOR_MODEL!$B$2:$B$100,MATCH(1,([1]RWIS_SENSOR_MODEL!$C$2:$C$100='RWIS Sensor (Desc)'!$G106)*([1]RWIS_SENSOR_MODEL!$E$2:$E$100='RWIS Sensor (Code)'!$D106),0),0))","v":""},{"$f":"IF('RWIS Sensor (Desc)'!H106=\"\",\"\",INDEX([1]RWIS_SENSOR_MODEL!$A$2:$A$100,MATCH(1,([1]RWIS_SENSOR_MODEL!$C$2:$C$100='RWIS Sensor (Desc)'!$G106)*([1]RWIS_SENSOR_MODEL!$D$2:$D$100='RWIS Sensor (Desc)'!$H106)*([1]RWIS_SENSOR_MODEL!$E$2:$E$100='RWIS Sensor (Code)'!$D106),0),0))","v":""},{"$f":"IF('RWIS Sensor (Desc)'!I106=\"\",\"\",'RWIS Sensor (Desc)'!I106)","v":""}]
[{"$f":"IF('RWIS Sensor (Desc)'!A107=\"\",\"\",'RWIS Sensor (Desc)'!A107)","v":""},{"$f":"IF('RWIS Sensor (Desc)'!C107=\"\",\"\",\"2008\")","v":""},{"$f":"IF('RWIS Sensor (Desc)'!C107=\"\",\"\",'RWIS Sensor (Desc)'!C107)","v":""},{"$f":"IF('RWIS Sensor (Desc)'!E107=\"\",\"\",INDEX([1]RWIS_SENSOR_TYPE!$A$2:$A$100,MATCH('RWIS Sensor (Desc)'!$E107,[1]!MASTER_RWIS_SENSOR_TYPE_DESC[#Data],0),0))","v":""},{"$f":"IF('RWIS Sensor (Desc)'!F107=\"\",\"\",'RWIS Sensor (Desc)'!F107)","v":""},{"$f":"IF('RWIS Sensor (Desc)'!G107=\"\",\"\",INDEX([1]RWIS_SENSOR_MODEL!$B$2:$B$100,MATCH(1,([1]RWIS_SENSOR_MODEL!$C$2:$C$100='RWIS Sensor (Desc)'!$G107)*([1]RWIS_SENSOR_MODEL!$E$2:$E$100='RWIS Sensor (Code)'!$D107),0),0))","v":""},{"$f":"IF('RWIS Sensor (Desc)'!H107=\"\",\"\",INDEX([1]RWIS_SENSOR_MODEL!$A$2:$A$100,MATCH(1,([1]RWIS_SENSOR_MODEL!$C$2:$C$100='RWIS Sensor (Desc)'!$G107)*([1]RWIS_SENSOR_MODEL!$D$2:$D$100='RWIS Sensor (Desc)'!$H107)*([1]RWIS_SENSOR_MODEL!$E$2:$E$100='RWIS Sensor (Code)'!$D107),0),0))","v":""},{"$f":"IF('RWIS Sensor (Desc)'!I107=\"\",\"\",'RWIS Sensor (Desc)'!I107)","v":""}]
[{"$f":"IF('RWIS Sensor (Desc)'!A108=\"\",\"\",'RWIS Sensor (Desc)'!A108)","v":""},{"$f":"IF('RWIS Sensor (Desc)'!C108=\"\",\"\",\"2008\")","v":""},{"$f":"IF('RWIS Sensor (Desc)'!C108=\"\",\"\",'RWIS Sensor (Desc)'!C108)","v":""},{"$f":"IF('RWIS Sensor (Desc)'!E108=\"\",\"\",INDEX([1]RWIS_SENSOR_TYPE!$A$2:$A$100,MATCH('RWIS Sensor (Desc)'!$E108,[1]!MASTER_RWIS_SENSOR_TYPE_DESC[#Data],0),0))","v":""},{"$f":"IF('RWIS Sensor (Desc)'!F108=\"\",\"\",'RWIS Sensor (Desc)'!F108)","v":""},{"$f":"IF('RWIS Sensor (Desc)'!G108=\"\",\"\",INDEX([1]RWIS_SENSOR_MODEL!$B$2:$B$100,MATCH(1,([1]RWIS_SENSOR_MODEL!$C$2:$C$100='RWIS Sensor (Desc)'!$G108)*([1]RWIS_SENSOR_MODEL!$E$2:$E$100='RWIS Sensor (Code)'!$D108),0),0))","v":""},{"$f":"IF('RWIS Sensor (Desc)'!H108=\"\",\"\",INDEX([1]RWIS_SENSOR_MODEL!$A$2:$A$100,MATCH(1,([1]RWIS_SENSOR_MODEL!$C$2:$C$100='RWIS Sensor (Desc)'!$G108)*([1]RWIS_SENSOR_MODEL!$D$2:$D$100='RWIS Sensor (Desc)'!$H108)*([1]RWIS_SENSOR_MODEL!$E$2:$E$100='RWIS Sensor (Code)'!$D108),0),0))","v":""},{"$f":"IF('RWIS Sensor (Desc)'!I108=\"\",\"\",'RWIS Sensor (Desc)'!I108)","v":""}]
[{"$f":"IF('RWIS Sensor (Desc)'!A109=\"\",\"\",'RWIS Sensor (Desc)'!A109)","v":""},{"$f":"IF('RWIS Sensor (Desc)'!C109=\"\",\"\",\"2008\")","v":""},{"$f":"IF('RWIS Sensor (Desc)'!C109=\"\",\"\",'RWIS Sensor (Desc)'!C109)","v":""},{"$f":"IF('RWIS Sensor (Desc)'!E109=\"\",\"\",INDEX([1]RWIS_SENSOR_TYPE!$A$2:$A$100,MATCH('RWIS Sensor (Desc)'!$E109,[1]!MASTER_RWIS_SENSOR_TYPE_DESC[#Data],0),0))","v":""},{"$f":"IF('RWIS Sensor (Desc)'!F109=\"\",\"\",'RWIS Sensor (Desc)'!F109)","v":""},{"$f":"IF('RWIS Sensor (Desc)'!G109=\"\",\"\",INDEX([1]RWIS_SENSOR_MODEL!$B$2:$B$100,MATCH(1,([1]RWIS_SENSOR_MODEL!$C$2:$C$100='RWIS Sensor (Desc)'!$G109)*([1]RWIS_SENSOR_MODEL!$E$2:$E$100='RWIS Sensor (Code)'!$D109),0),0))","v":""},{"$f":"IF('RWIS Sensor (Desc)'!H109=\"\",\"\",INDEX([1]RWIS_SENSOR_MODEL!$A$2:$A$100,MATCH(1,([1]RWIS_SENSOR_MODEL!$C$2:$C$100='RWIS Sensor (Desc)'!$G109)*([1]RWIS_SENSOR_MODEL!$D$2:$D$100='RWIS Sensor (Desc)'!$H109)*([1]RWIS_SENSOR_MODEL!$E$2:$E$100='RWIS Sensor (Code)'!$D109),0),0))","v":""},{"$f":"IF('RWIS Sensor (Desc)'!I109=\"\",\"\",'RWIS Sensor (Desc)'!I109)","v":""}]
[{"$f":"IF('RWIS Sensor (Desc)'!A110=\"\",\"\",'RWIS Sensor (Desc)'!A110)","v":""},{"$f":"IF('RWIS Sensor (Desc)'!C110=\"\",\"\",\"2008\")","v":""},{"$f":"IF('RWIS Sensor (Desc)'!C110=\"\",\"\",'RWIS Sensor (Desc)'!C110)","v":""},{"$f":"IF('RWIS Sensor (Desc)'!E110=\"\",\"\",INDEX([1]RWIS_SENSOR_TYPE!$A$2:$A$100,MATCH('RWIS Sensor (Desc)'!$E110,[1]!MASTER_RWIS_SENSOR_TYPE_DESC[#Data],0),0))","v":""},{"$f":"IF('RWIS Sensor (Desc)'!F110=\"\",\"\",'RWIS Sensor (Desc)'!F110)","v":""},{"$f":"IF('RWIS Sensor (Desc)'!G110=\"\",\"\",INDEX([1]RWIS_SENSOR_MODEL!$B$2:$B$100,MATCH(1,([1]RWIS_SENSOR_MODEL!$C$2:$C$100='RWIS Sensor (Desc)'!$G110)*([1]RWIS_SENSOR_MODEL!$E$2:$E$100='RWIS Sensor (Code)'!$D110),0),0))","v":""},{"$f":"IF('RWIS Sensor (Desc)'!H110=\"\",\"\",INDEX([1]RWIS_SENSOR_MODEL!$A$2:$A$100,MATCH(1,([1]RWIS_SENSOR_MODEL!$C$2:$C$100='RWIS Sensor (Desc)'!$G110)*([1]RWIS_SENSOR_MODEL!$D$2:$D$100='RWIS Sensor (Desc)'!$H110)*([1]RWIS_SENSOR_MODEL!$E$2:$E$100='RWIS Sensor (Code)'!$D110),0),0))","v":""},{"$f":"IF('RWIS Sensor (Desc)'!I110=\"\",\"\",'RWIS Sensor (Desc)'!I110)","v":""}]
[{"$f":"IF('RWIS Sensor (Desc)'!A111=\"\",\"\",'RWIS Sensor (Desc)'!A111)","v":""},{"$f":"IF('RWIS Sensor (Desc)'!C111=\"\",\"\",\"2008\")","v":""},{"$f":"IF('RWIS Sensor (Desc)'!C111=\"\",\"\",'RWIS Sensor (Desc)'!C111)","v":""},{"$f":"IF('RWIS Sensor (Desc)'!E111=\"\",\"\",INDEX([1]RWIS_SENSOR_TYPE!$A$2:$A$100,MATCH('RWIS Sensor (Desc)'!$E111,[1]!MASTER_RWIS_SENSOR_TYPE_DESC[#Data],0),0))","v":""},{"$f":"IF('RWIS Sensor (Desc)'!F111=\"\",\"\",'RWIS Sensor (Desc)'!F111)","v":""},{"$f":"IF('RWIS Sensor (Desc)'!G111=\"\",\"\",INDEX([1]RWIS_SENSOR_MODEL!$B$2:$B$100,MATCH(1,([1]RWIS_SENSOR_MODEL!$C$2:$C$100='RWIS Sensor (Desc)'!$G111)*([1]RWIS_SENSOR_MODEL!$E$2:$E$100='RWIS Sensor (Code)'!$D111),0),0))","v":""},{"$f":"IF('RWIS Sensor (Desc)'!H111=\"\",\"\",INDEX([1]RWIS_SENSOR_MODEL!$A$2:$A$100,MATCH(1,([1]RWIS_SENSOR_MODEL!$C$2:$C$100='RWIS Sensor (Desc)'!$G111)*([1]RWIS_SENSOR_MODEL!$D$2:$D$100='RWIS Sensor (Desc)'!$H111)*([1]RWIS_SENSOR_MODEL!$E$2:$E$100='RWIS Sensor (Code)'!$D111),0),0))","v":""},{"$f":"IF('RWIS Sensor (Desc)'!I111=\"\",\"\",'RWIS Sensor (Desc)'!I111)","v":""}]
[{"$f":"IF('RWIS Sensor (Desc)'!A112=\"\",\"\",'RWIS Sensor (Desc)'!A112)","v":""},{"$f":"IF('RWIS Sensor (Desc)'!C112=\"\",\"\",\"2008\")","v":""},{"$f":"IF('RWIS Sensor (Desc)'!C112=\"\",\"\",'RWIS Sensor (Desc)'!C112)","v":""},{"$f":"IF('RWIS Sensor (Desc)'!E112=\"\",\"\",INDEX([1]RWIS_SENSOR_TYPE!$A$2:$A$100,MATCH('RWIS Sensor (Desc)'!$E112,[1]!MASTER_RWIS_SENSOR_TYPE_DESC[#Data],0),0))","v":""},{"$f":"IF('RWIS Sensor (Desc)'!F112=\"\",\"\",'RWIS Sensor (Desc)'!F112)","v":""},{"$f":"IF('RWIS Sensor (Desc)'!G112=\"\",\"\",INDEX([1]RWIS_SENSOR_MODEL!$B$2:$B$100,MATCH(1,([1]RWIS_SENSOR_MODEL!$C$2:$C$100='RWIS Sensor (Desc)'!$G112)*([1]RWIS_SENSOR_MODEL!$E$2:$E$100='RWIS Sensor (Code)'!$D112),0),0))","v":""},{"$f":"IF('RWIS Sensor (Desc)'!H112=\"\",\"\",INDEX([1]RWIS_SENSOR_MODEL!$A$2:$A$100,MATCH(1,([1]RWIS_SENSOR_MODEL!$C$2:$C$100='RWIS Sensor (Desc)'!$G112)*([1]RWIS_SENSOR_MODEL!$D$2:$D$100='RWIS Sensor (Desc)'!$H112)*([1]RWIS_SENSOR_MODEL!$E$2:$E$100='RWIS Sensor (Code)'!$D112),0),0))","v":""},{"$f":"IF('RWIS Sensor (Desc)'!I112=\"\",\"\",'RWIS Sensor (Desc)'!I112)","v":""}]
[{"$f":"IF('RWIS Sensor (Desc)'!A113=\"\",\"\",'RWIS Sensor (Desc)'!A113)","v":""},{"$f":"IF('RWIS Sensor (Desc)'!C113=\"\",\"\",\"2008\")","v":""},{"$f":"IF('RWIS Sensor (Desc)'!C113=\"\",\"\",'RWIS Sensor (Desc)'!C113)","v":""},{"$f":"IF('RWIS Sensor (Desc)'!E113=\"\",\"\",INDEX([1]RWIS_SENSOR_TYPE!$A$2:$A$100,MATCH('RWIS Sensor (Desc)'!$E113,[1]!MASTER_RWIS_SENSOR_TYPE_DESC[#Data],0),0))","v":""},{"$f":"IF('RWIS Sensor (Desc)'!F113=\"\",\"\",'RWIS Sensor (Desc)'!F113)","v":""},{"$f":"IF('RWIS Sensor (Desc)'!G113=\"\",\"\",INDEX([1]RWIS_SENSOR_MODEL!$B$2:$B$100,MATCH(1,([1]RWIS_SENSOR_MODEL!$C$2:$C$100='RWIS Sensor (Desc)'!$G113)*([1]RWIS_SENSOR_MODEL!$E$2:$E$100='RWIS Sensor (Code)'!$D113),0),0))","v":""},{"$f":"IF('RWIS Sensor (Desc)'!H113=\"\",\"\",INDEX([1]RWIS_SENSOR_MODEL!$A$2:$A$100,MATCH(1,([1]RWIS_SENSOR_MODEL!$C$2:$C$100='RWIS Sensor (Desc)'!$G113)*([1]RWIS_SENSOR_MODEL!$D$2:$D$100='RWIS Sensor (Desc)'!$H113)*([1]RWIS_SENSOR_MODEL!$E$2:$E$100='RWIS Sensor (Code)'!$D113),0),0))","v":""},{"$f":"IF('RWIS Sensor (Desc)'!I113=\"\",\"\",'RWIS Sensor (Desc)'!I113)","v":""}]
[{"$f":"IF('RWIS Sensor (Desc)'!A114=\"\",\"\",'RWIS Sensor (Desc)'!A114)","v":""},{"$f":"IF('RWIS Sensor (Desc)'!C114=\"\",\"\",\"2008\")","v":""},{"$f":"IF('RWIS Sensor (Desc)'!C114=\"\",\"\",'RWIS Sensor (Desc)'!C114)","v":""},{"$f":"IF('RWIS Sensor (Desc)'!E114=\"\",\"\",INDEX([1]RWIS_SENSOR_TYPE!$A$2:$A$100,MATCH('RWIS Sensor (Desc)'!$E114,[1]!MASTER_RWIS_SENSOR_TYPE_DESC[#Data],0),0))","v":""},{"$f":"IF('RWIS Sensor (Desc)'!F114=\"\",\"\",'RWIS Sensor (Desc)'!F114)","v":""},{"$f":"IF('RWIS Sensor (Desc)'!G114=\"\",\"\",INDEX([1]RWIS_SENSOR_MODEL!$B$2:$B$100,MATCH(1,([1]RWIS_SENSOR_MODEL!$C$2:$C$100='RWIS Sensor (Desc)'!$G114)*([1]RWIS_SENSOR_MODEL!$E$2:$E$100='RWIS Sensor (Code)'!$D114),0),0))","v":""},{"$f":"IF('RWIS Sensor (Desc)'!H114=\"\",\"\",INDEX([1]RWIS_SENSOR_MODEL!$A$2:$A$100,MATCH(1,([1]RWIS_SENSOR_MODEL!$C$2:$C$100='RWIS Sensor (Desc)'!$G114)*([1]RWIS_SENSOR_MODEL!$D$2:$D$100='RWIS Sensor (Desc)'!$H114)*([1]RWIS_SENSOR_MODEL!$E$2:$E$100='RWIS Sensor (Code)'!$D114),0),0))","v":""},{"$f":"IF('RWIS Sensor (Desc)'!I114=\"\",\"\",'RWIS Sensor (Desc)'!I114)","v":""}]
[{"$f":"IF('RWIS Sensor (Desc)'!A115=\"\",\"\",'RWIS Sensor (Desc)'!A115)","v":""},{"$f":"IF('RWIS Sensor (Desc)'!C115=\"\",\"\",\"2008\")","v":""},{"$f":"IF('RWIS Sensor (Desc)'!C115=\"\",\"\",'RWIS Sensor (Desc)'!C115)","v":""},{"$f":"IF('RWIS Sensor (Desc)'!E115=\"\",\"\",INDEX([1]RWIS_SENSOR_TYPE!$A$2:$A$100,MATCH('RWIS Sensor (Desc)'!$E115,[1]!MASTER_RWIS_SENSOR_TYPE_DESC[#Data],0),0))","v":""},{"$f":"IF('RWIS Sensor (Desc)'!F115=\"\",\"\",'RWIS Sensor (Desc)'!F115)","v":""},{"$f":"IF('RWIS Sensor (Desc)'!G115=\"\",\"\",INDEX([1]RWIS_SENSOR_MODEL!$B$2:$B$100,MATCH(1,([1]RWIS_SENSOR_MODEL!$C$2:$C$100='RWIS Sensor (Desc)'!$G115)*([1]RWIS_SENSOR_MODEL!$E$2:$E$100='RWIS Sensor (Code)'!$D115),0),0))","v":""},{"$f":"IF('RWIS Sensor (Desc)'!H115=\"\",\"\",INDEX([1]RWIS_SENSOR_MODEL!$A$2:$A$100,MATCH(1,([1]RWIS_SENSOR_MODEL!$C$2:$C$100='RWIS Sensor (Desc)'!$G115)*([1]RWIS_SENSOR_MODEL!$D$2:$D$100='RWIS Sensor (Desc)'!$H115)*([1]RWIS_SENSOR_MODEL!$E$2:$E$100='RWIS Sensor (Code)'!$D115),0),0))","v":""},{"$f":"IF('RWIS Sensor (Desc)'!I115=\"\",\"\",'RWIS Sensor (Desc)'!I115)","v":""}]
[{"$f":"IF('RWIS Sensor (Desc)'!A116=\"\",\"\",'RWIS Sensor (Desc)'!A116)","v":""},{"$f":"IF('RWIS Sensor (Desc)'!C116=\"\",\"\",\"2008\")","v":""},{"$f":"IF('RWIS Sensor (Desc)'!C116=\"\",\"\",'RWIS Sensor (Desc)'!C116)","v":""},{"$f":"IF('RWIS Sensor (Desc)'!E116=\"\",\"\",INDEX([1]RWIS_SENSOR_TYPE!$A$2:$A$100,MATCH('RWIS Sensor (Desc)'!$E116,[1]!MASTER_RWIS_SENSOR_TYPE_DESC[#Data],0),0))","v":""},{"$f":"IF('RWIS Sensor (Desc)'!F116=\"\",\"\",'RWIS Sensor (Desc)'!F116)","v":""},{"$f":"IF('RWIS Sensor (Desc)'!G116=\"\",\"\",INDEX([1]RWIS_SENSOR_MODEL!$B$2:$B$100,MATCH(1,([1]RWIS_SENSOR_MODEL!$C$2:$C$100='RWIS Sensor (Desc)'!$G116)*([1]RWIS_SENSOR_MODEL!$E$2:$E$100='RWIS Sensor (Code)'!$D116),0),0))","v":""},{"$f":"IF('RWIS Sensor (Desc)'!H116=\"\",\"\",INDEX([1]RWIS_SENSOR_MODEL!$A$2:$A$100,MATCH(1,([1]RWIS_SENSOR_MODEL!$C$2:$C$100='RWIS Sensor (Desc)'!$G116)*([1]RWIS_SENSOR_MODEL!$D$2:$D$100='RWIS Sensor (Desc)'!$H116)*([1]RWIS_SENSOR_MODEL!$E$2:$E$100='RWIS Sensor (Code)'!$D116),0),0))","v":""},{"$f":"IF('RWIS Sensor (Desc)'!I116=\"\",\"\",'RWIS Sensor (Desc)'!I116)","v":""}]
[{"$f":"IF('RWIS Sensor (Desc)'!A117=\"\",\"\",'RWIS Sensor (Desc)'!A117)","v":""},{"$f":"IF('RWIS Sensor (Desc)'!C117=\"\",\"\",\"2008\")","v":""},{"$f":"IF('RWIS Sensor (Desc)'!C117=\"\",\"\",'RWIS Sensor (Desc)'!C117)","v":""},{"$f":"IF('RWIS Sensor (Desc)'!E117=\"\",\"\",INDEX([1]RWIS_SENSOR_TYPE!$A$2:$A$100,MATCH('RWIS Sensor (Desc)'!$E117,[1]!MASTER_RWIS_SENSOR_TYPE_DESC[#Data],0),0))","v":""},{"$f":"IF('RWIS Sensor (Desc)'!F117=\"\",\"\",'RWIS Sensor (Desc)'!F117)","v":""},{"$f":"IF('RWIS Sensor (Desc)'!G117=\"\",\"\",INDEX([1]RWIS_SENSOR_MODEL!$B$2:$B$100,MATCH(1,([1]RWIS_SENSOR_MODEL!$C$2:$C$100='RWIS Sensor (Desc)'!$G117)*([1]RWIS_SENSOR_MODEL!$E$2:$E$100='RWIS Sensor (Code)'!$D117),0),0))","v":""},{"$f":"IF('RWIS Sensor (Desc)'!H117=\"\",\"\",INDEX([1]RWIS_SENSOR_MODEL!$A$2:$A$100,MATCH(1,([1]RWIS_SENSOR_MODEL!$C$2:$C$100='RWIS Sensor (Desc)'!$G117)*([1]RWIS_SENSOR_MODEL!$D$2:$D$100='RWIS Sensor (Desc)'!$H117)*([1]RWIS_SENSOR_MODEL!$E$2:$E$100='RWIS Sensor (Code)'!$D117),0),0))","v":""},{"$f":"IF('RWIS Sensor (Desc)'!I117=\"\",\"\",'RWIS Sensor (Desc)'!I117)","v":""}]
[{"$f":"IF('RWIS Sensor (Desc)'!A118=\"\",\"\",'RWIS Sensor (Desc)'!A118)","v":""},{"$f":"IF('RWIS Sensor (Desc)'!C118=\"\",\"\",\"2008\")","v":""},{"$f":"IF('RWIS Sensor (Desc)'!C118=\"\",\"\",'RWIS Sensor (Desc)'!C118)","v":""},{"$f":"IF('RWIS Sensor (Desc)'!E118=\"\",\"\",INDEX([1]RWIS_SENSOR_TYPE!$A$2:$A$100,MATCH('RWIS Sensor (Desc)'!$E118,[1]!MASTER_RWIS_SENSOR_TYPE_DESC[#Data],0),0))","v":""},{"$f":"IF('RWIS Sensor (Desc)'!F118=\"\",\"\",'RWIS Sensor (Desc)'!F118)","v":""},{"$f":"IF('RWIS Sensor (Desc)'!G118=\"\",\"\",INDEX([1]RWIS_SENSOR_MODEL!$B$2:$B$100,MATCH(1,([1]RWIS_SENSOR_MODEL!$C$2:$C$100='RWIS Sensor (Desc)'!$G118)*([1]RWIS_SENSOR_MODEL!$E$2:$E$100='RWIS Sensor (Code)'!$D118),0),0))","v":""},{"$f":"IF('RWIS Sensor (Desc)'!H118=\"\",\"\",INDEX([1]RWIS_SENSOR_MODEL!$A$2:$A$100,MATCH(1,([1]RWIS_SENSOR_MODEL!$C$2:$C$100='RWIS Sensor (Desc)'!$G118)*([1]RWIS_SENSOR_MODEL!$D$2:$D$100='RWIS Sensor (Desc)'!$H118)*([1]RWIS_SENSOR_MODEL!$E$2:$E$100='RWIS Sensor (Code)'!$D118),0),0))","v":""},{"$f":"IF('RWIS Sensor (Desc)'!I118=\"\",\"\",'RWIS Sensor (Desc)'!I118)","v":""}]
[{"$f":"IF('RWIS Sensor (Desc)'!A119=\"\",\"\",'RWIS Sensor (Desc)'!A119)","v":""},{"$f":"IF('RWIS Sensor (Desc)'!C119=\"\",\"\",\"2008\")","v":""},{"$f":"IF('RWIS Sensor (Desc)'!C119=\"\",\"\",'RWIS Sensor (Desc)'!C119)","v":""},{"$f":"IF('RWIS Sensor (Desc)'!E119=\"\",\"\",INDEX([1]RWIS_SENSOR_TYPE!$A$2:$A$100,MATCH('RWIS Sensor (Desc)'!$E119,[1]!MASTER_RWIS_SENSOR_TYPE_DESC[#Data],0),0))","v":""},{"$f":"IF('RWIS Sensor (Desc)'!F119=\"\",\"\",'RWIS Sensor (Desc)'!F119)","v":""},{"$f":"IF('RWIS Sensor (Desc)'!G119=\"\",\"\",INDEX([1]RWIS_SENSOR_MODEL!$B$2:$B$100,MATCH(1,([1]RWIS_SENSOR_MODEL!$C$2:$C$100='RWIS Sensor (Desc)'!$G119)*([1]RWIS_SENSOR_MODEL!$E$2:$E$100='RWIS Sensor (Code)'!$D119),0),0))","v":""},{"$f":"IF('RWIS Sensor (Desc)'!H119=\"\",\"\",INDEX([1]RWIS_SENSOR_MODEL!$A$2:$A$100,MATCH(1,([1]RWIS_SENSOR_MODEL!$C$2:$C$100='RWIS Sensor (Desc)'!$G119)*([1]RWIS_SENSOR_MODEL!$D$2:$D$100='RWIS Sensor (Desc)'!$H119)*([1]RWIS_SENSOR_MODEL!$E$2:$E$100='RWIS Sensor (Code)'!$D119),0),0))","v":""},{"$f":"IF('RWIS Sensor (Desc)'!I119=\"\",\"\",'RWIS Sensor (Desc)'!I119)","v":""}]
[{"$f":"IF('RWIS Sensor (Desc)'!A120=\"\",\"\",'RWIS Sensor (Desc)'!A120)","v":""},{"$f":"IF('RWIS Sensor (Desc)'!C120=\"\",\"\",\"2008\")","v":""},{"$f":"IF('RWIS Sensor (Desc)'!C120=\"\",\"\",'RWIS Sensor (Desc)'!C120)","v":""},{"$f":"IF('RWIS Sensor (Desc)'!E120=\"\",\"\",INDEX([1]RWIS_SENSOR_TYPE!$A$2:$A$100,MATCH('RWIS Sensor (Desc)'!$E120,[1]!MASTER_RWIS_SENSOR_TYPE_DESC[#Data],0),0))","v":""},{"$f":"IF('RWIS Sensor (Desc)'!F120=\"\",\"\",'RWIS Sensor (Desc)'!F120)","v":""},{"$f":"IF('RWIS Sensor (Desc)'!G120=\"\",\"\",INDEX([1]RWIS_SENSOR_MODEL!$B$2:$B$100,MATCH(1,([1]RWIS_SENSOR_MODEL!$C$2:$C$100='RWIS Sensor (Desc)'!$G120)*([1]RWIS_SENSOR_MODEL!$E$2:$E$100='RWIS Sensor (Code)'!$D120),0),0))","v":""},{"$f":"IF('RWIS Sensor (Desc)'!H120=\"\",\"\",INDEX([1]RWIS_SENSOR_MODEL!$A$2:$A$100,MATCH(1,([1]RWIS_SENSOR_MODEL!$C$2:$C$100='RWIS Sensor (Desc)'!$G120)*([1]RWIS_SENSOR_MODEL!$D$2:$D$100='RWIS Sensor (Desc)'!$H120)*([1]RWIS_SENSOR_MODEL!$E$2:$E$100='RWIS Sensor (Code)'!$D120),0),0))","v":""},{"$f":"IF('RWIS Sensor (Desc)'!I120=\"\",\"\",'RWIS Sensor (Desc)'!I120)","v":""}]
[{"$f":"IF('RWIS Sensor (Desc)'!A121=\"\",\"\",'RWIS Sensor (Desc)'!A121)","v":""},{"$f":"IF('RWIS Sensor (Desc)'!C121=\"\",\"\",\"2008\")","v":""},{"$f":"IF('RWIS Sensor (Desc)'!C121=\"\",\"\",'RWIS Sensor (Desc)'!C121)","v":""},{"$f":"IF('RWIS Sensor (Desc)'!E121=\"\",\"\",INDEX([1]RWIS_SENSOR_TYPE!$A$2:$A$100,MATCH('RWIS Sensor (Desc)'!$E121,[1]!MASTER_RWIS_SENSOR_TYPE_DESC[#Data],0),0))","v":""},{"$f":"IF('RWIS Sensor (Desc)'!F121=\"\",\"\",'RWIS Sensor (Desc)'!F121)","v":""},{"$f":"IF('RWIS Sensor (Desc)'!G121=\"\",\"\",INDEX([1]RWIS_SENSOR_MODEL!$B$2:$B$100,MATCH(1,([1]RWIS_SENSOR_MODEL!$C$2:$C$100='RWIS Sensor (Desc)'!$G121)*([1]RWIS_SENSOR_MODEL!$E$2:$E$100='RWIS Sensor (Code)'!$D121),0),0))","v":""},{"$f":"IF('RWIS Sensor (Desc)'!H121=\"\",\"\",INDEX([1]RWIS_SENSOR_MODEL!$A$2:$A$100,MATCH(1,([1]RWIS_SENSOR_MODEL!$C$2:$C$100='RWIS Sensor (Desc)'!$G121)*([1]RWIS_SENSOR_MODEL!$D$2:$D$100='RWIS Sensor (Desc)'!$H121)*([1]RWIS_SENSOR_MODEL!$E$2:$E$100='RWIS Sensor (Code)'!$D121),0),0))","v":""},{"$f":"IF('RWIS Sensor (Desc)'!I121=\"\",\"\",'RWIS Sensor (Desc)'!I121)","v":""}]
[{"$f":"IF('RWIS Sensor (Desc)'!A122=\"\",\"\",'RWIS Sensor (Desc)'!A122)","v":""},{"$f":"IF('RWIS Sensor (Desc)'!C122=\"\",\"\",\"2008\")","v":""},{"$f":"IF('RWIS Sensor (Desc)'!C122=\"\",\"\",'RWIS Sensor (Desc)'!C122)","v":""},{"$f":"IF('RWIS Sensor (Desc)'!E122=\"\",\"\",INDEX([1]RWIS_SENSOR_TYPE!$A$2:$A$100,MATCH('RWIS Sensor (Desc)'!$E122,[1]!MASTER_RWIS_SENSOR_TYPE_DESC[#Data],0),0))","v":""},{"$f":"IF('RWIS Sensor (Desc)'!F122=\"\",\"\",'RWIS Sensor (Desc)'!F122)","v":""},{"$f":"IF('RWIS Sensor (Desc)'!G122=\"\",\"\",INDEX([1]RWIS_SENSOR_MODEL!$B$2:$B$100,MATCH(1,([1]RWIS_SENSOR_MODEL!$C$2:$C$100='RWIS Sensor (Desc)'!$G122)*([1]RWIS_SENSOR_MODEL!$E$2:$E$100='RWIS Sensor (Code)'!$D122),0),0))","v":""},{"$f":"IF('RWIS Sensor (Desc)'!H122=\"\",\"\",INDEX([1]RWIS_SENSOR_MODEL!$A$2:$A$100,MATCH(1,([1]RWIS_SENSOR_MODEL!$C$2:$C$100='RWIS Sensor (Desc)'!$G122)*([1]RWIS_SENSOR_MODEL!$D$2:$D$100='RWIS Sensor (Desc)'!$H122)*([1]RWIS_SENSOR_MODEL!$E$2:$E$100='RWIS Sensor (Code)'!$D122),0),0))","v":""},{"$f":"IF('RWIS Sensor (Desc)'!I122=\"\",\"\",'RWIS Sensor (Desc)'!I122)","v":""}]
[{"$f":"IF('RWIS Sensor (Desc)'!A123=\"\",\"\",'RWIS Sensor (Desc)'!A123)","v":""},{"$f":"IF('RWIS Sensor (Desc)'!C123=\"\",\"\",\"2008\")","v":""},{"$f":"IF('RWIS Sensor (Desc)'!C123=\"\",\"\",'RWIS Sensor (Desc)'!C123)","v":""},{"$f":"IF('RWIS Sensor (Desc)'!E123=\"\",\"\",INDEX([1]RWIS_SENSOR_TYPE!$A$2:$A$100,MATCH('RWIS Sensor (Desc)'!$E123,[1]!MASTER_RWIS_SENSOR_TYPE_DESC[#Data],0),0))","v":""},{"$f":"IF('RWIS Sensor (Desc)'!F123=\"\",\"\",'RWIS Sensor (Desc)'!F123)","v":""},{"$f":"IF('RWIS Sensor (Desc)'!G123=\"\",\"\",INDEX([1]RWIS_SENSOR_MODEL!$B$2:$B$100,MATCH(1,([1]RWIS_SENSOR_MODEL!$C$2:$C$100='RWIS Sensor (Desc)'!$G123)*([1]RWIS_SENSOR_MODEL!$E$2:$E$100='RWIS Sensor (Code)'!$D123),0),0))","v":""},{"$f":"IF('RWIS Sensor (Desc)'!H123=\"\",\"\",INDEX([1]RWIS_SENSOR_MODEL!$A$2:$A$100,MATCH(1,([1]RWIS_SENSOR_MODEL!$C$2:$C$100='RWIS Sensor (Desc)'!$G123)*([1]RWIS_SENSOR_MODEL!$D$2:$D$100='RWIS Sensor (Desc)'!$H123)*([1]RWIS_SENSOR_MODEL!$E$2:$E$100='RWIS Sensor (Code)'!$D123),0),0))","v":""},{"$f":"IF('RWIS Sensor (Desc)'!I123=\"\",\"\",'RWIS Sensor (Desc)'!I123)","v":""}]
[{"$f":"IF('RWIS Sensor (Desc)'!A124=\"\",\"\",'RWIS Sensor (Desc)'!A124)","v":""},{"$f":"IF('RWIS Sensor (Desc)'!C124=\"\",\"\",\"2008\")","v":""},{"$f":"IF('RWIS Sensor (Desc)'!C124=\"\",\"\",'RWIS Sensor (Desc)'!C124)","v":""},{"$f":"IF('RWIS Sensor (Desc)'!E124=\"\",\"\",INDEX([1]RWIS_SENSOR_TYPE!$A$2:$A$100,MATCH('RWIS Sensor (Desc)'!$E124,[1]!MASTER_RWIS_SENSOR_TYPE_DESC[#Data],0),0))","v":""},{"$f":"IF('RWIS Sensor (Desc)'!F124=\"\",\"\",'RWIS Sensor (Desc)'!F124)","v":""},{"$f":"IF('RWIS Sensor (Desc)'!G124=\"\",\"\",INDEX([1]RWIS_SENSOR_MODEL!$B$2:$B$100,MATCH(1,([1]RWIS_SENSOR_MODEL!$C$2:$C$100='RWIS Sensor (Desc)'!$G124)*([1]RWIS_SENSOR_MODEL!$E$2:$E$100='RWIS Sensor (Code)'!$D124),0),0))","v":""},{"$f":"IF('RWIS Sensor (Desc)'!H124=\"\",\"\",INDEX([1]RWIS_SENSOR_MODEL!$A$2:$A$100,MATCH(1,([1]RWIS_SENSOR_MODEL!$C$2:$C$100='RWIS Sensor (Desc)'!$G124)*([1]RWIS_SENSOR_MODEL!$D$2:$D$100='RWIS Sensor (Desc)'!$H124)*([1]RWIS_SENSOR_MODEL!$E$2:$E$100='RWIS Sensor (Code)'!$D124),0),0))","v":""},{"$f":"IF('RWIS Sensor (Desc)'!I124=\"\",\"\",'RWIS Sensor (Desc)'!I124)","v":""}]
[{"$f":"IF('RWIS Sensor (Desc)'!A125=\"\",\"\",'RWIS Sensor (Desc)'!A125)","v":""},{"$f":"IF('RWIS Sensor (Desc)'!C125=\"\",\"\",\"2008\")","v":""},{"$f":"IF('RWIS Sensor (Desc)'!C125=\"\",\"\",'RWIS Sensor (Desc)'!C125)","v":""},{"$f":"IF('RWIS Sensor (Desc)'!E125=\"\",\"\",INDEX([1]RWIS_SENSOR_TYPE!$A$2:$A$100,MATCH('RWIS Sensor (Desc)'!$E125,[1]!MASTER_RWIS_SENSOR_TYPE_DESC[#Data],0),0))","v":""},{"$f":"IF('RWIS Sensor (Desc)'!F125=\"\",\"\",'RWIS Sensor (Desc)'!F125)","v":""},{"$f":"IF('RWIS Sensor (Desc)'!G125=\"\",\"\",INDEX([1]RWIS_SENSOR_MODEL!$B$2:$B$100,MATCH(1,([1]RWIS_SENSOR_MODEL!$C$2:$C$100='RWIS Sensor (Desc)'!$G125)*([1]RWIS_SENSOR_MODEL!$E$2:$E$100='RWIS Sensor (Code)'!$D125),0),0))","v":""},{"$f":"IF('RWIS Sensor (Desc)'!H125=\"\",\"\",INDEX([1]RWIS_SENSOR_MODEL!$A$2:$A$100,MATCH(1,([1]RWIS_SENSOR_MODEL!$C$2:$C$100='RWIS Sensor (Desc)'!$G125)*([1]RWIS_SENSOR_MODEL!$D$2:$D$100='RWIS Sensor (Desc)'!$H125)*([1]RWIS_SENSOR_MODEL!$E$2:$E$100='RWIS Sensor (Code)'!$D125),0),0))","v":""},{"$f":"IF('RWIS Sensor (Desc)'!I125=\"\",\"\",'RWIS Sensor (Desc)'!I125)","v":""}]
[{"$f":"IF('RWIS Sensor (Desc)'!A126=\"\",\"\",'RWIS Sensor (Desc)'!A126)","v":""},{"$f":"IF('RWIS Sensor (Desc)'!C126=\"\",\"\",\"2008\")","v":""},{"$f":"IF('RWIS Sensor (Desc)'!C126=\"\",\"\",'RWIS Sensor (Desc)'!C126)","v":""},{"$f":"IF('RWIS Sensor (Desc)'!E126=\"\",\"\",INDEX([1]RWIS_SENSOR_TYPE!$A$2:$A$100,MATCH('RWIS Sensor (Desc)'!$E126,[1]!MASTER_RWIS_SENSOR_TYPE_DESC[#Data],0),0))","v":""},{"$f":"IF('RWIS Sensor (Desc)'!F126=\"\",\"\",'RWIS Sensor (Desc)'!F126)","v":""},{"$f":"IF('RWIS Sensor (Desc)'!G126=\"\",\"\",INDEX([1]RWIS_SENSOR_MODEL!$B$2:$B$100,MATCH(1,([1]RWIS_SENSOR_MODEL!$C$2:$C$100='RWIS Sensor (Desc)'!$G126)*([1]RWIS_SENSOR_MODEL!$E$2:$E$100='RWIS Sensor (Code)'!$D126),0),0))","v":""},{"$f":"IF('RWIS Sensor (Desc)'!H126=\"\",\"\",INDEX([1]RWIS_SENSOR_MODEL!$A$2:$A$100,MATCH(1,([1]RWIS_SENSOR_MODEL!$C$2:$C$100='RWIS Sensor (Desc)'!$G126)*([1]RWIS_SENSOR_MODEL!$D$2:$D$100='RWIS Sensor (Desc)'!$H126)*([1]RWIS_SENSOR_MODEL!$E$2:$E$100='RWIS Sensor (Code)'!$D126),0),0))","v":""},{"$f":"IF('RWIS Sensor (Desc)'!I126=\"\",\"\",'RWIS Sensor (Desc)'!I126)","v":""}]
[{"$f":"IF('RWIS Sensor (Desc)'!A127=\"\",\"\",'RWIS Sensor (Desc)'!A127)","v":""},{"$f":"IF('RWIS Sensor (Desc)'!C127=\"\",\"\",\"2008\")","v":""},{"$f":"IF('RWIS Sensor (Desc)'!C127=\"\",\"\",'RWIS Sensor (Desc)'!C127)","v":""},{"$f":"IF('RWIS Sensor (Desc)'!E127=\"\",\"\",INDEX([1]RWIS_SENSOR_TYPE!$A$2:$A$100,MATCH('RWIS Sensor (Desc)'!$E127,[1]!MASTER_RWIS_SENSOR_TYPE_DESC[#Data],0),0))","v":""},{"$f":"IF('RWIS Sensor (Desc)'!F127=\"\",\"\",'RWIS Sensor (Desc)'!F127)","v":""},{"$f":"IF('RWIS Sensor (Desc)'!G127=\"\",\"\",INDEX([1]RWIS_SENSOR_MODEL!$B$2:$B$100,MATCH(1,([1]RWIS_SENSOR_MODEL!$C$2:$C$100='RWIS Sensor (Desc)'!$G127)*([1]RWIS_SENSOR_MODEL!$E$2:$E$100='RWIS Sensor (Code)'!$D127),0),0))","v":""},{"$f":"IF('RWIS Sensor (Desc)'!H127=\"\",\"\",INDEX([1]RWIS_SENSOR_MODEL!$A$2:$A$100,MATCH(1,([1]RWIS_SENSOR_MODEL!$C$2:$C$100='RWIS Sensor (Desc)'!$G127)*([1]RWIS_SENSOR_MODEL!$D$2:$D$100='RWIS Sensor (Desc)'!$H127)*([1]RWIS_SENSOR_MODEL!$E$2:$E$100='RWIS Sensor (Code)'!$D127),0),0))","v":""},{"$f":"IF('RWIS Sensor (Desc)'!I127=\"\",\"\",'RWIS Sensor (Desc)'!I127)","v":""}]
[{"$f":"IF('RWIS Sensor (Desc)'!A128=\"\",\"\",'RWIS Sensor (Desc)'!A128)","v":""},{"$f":"IF('RWIS Sensor (Desc)'!C128=\"\",\"\",\"2008\")","v":""},{"$f":"IF('RWIS Sensor (Desc)'!C128=\"\",\"\",'RWIS Sensor (Desc)'!C128)","v":""},{"$f":"IF('RWIS Sensor (Desc)'!E128=\"\",\"\",INDEX([1]RWIS_SENSOR_TYPE!$A$2:$A$100,MATCH('RWIS Sensor (Desc)'!$E128,[1]!MASTER_RWIS_SENSOR_TYPE_DESC[#Data],0),0))","v":""},{"$f":"IF('RWIS Sensor (Desc)'!F128=\"\",\"\",'RWIS Sensor (Desc)'!F128)","v":""},{"$f":"IF('RWIS Sensor (Desc)'!G128=\"\",\"\",INDEX([1]RWIS_SENSOR_MODEL!$B$2:$B$100,MATCH(1,([1]RWIS_SENSOR_MODEL!$C$2:$C$100='RWIS Sensor (Desc)'!$G128)*([1]RWIS_SENSOR_MODEL!$E$2:$E$100='RWIS Sensor (Code)'!$D128),0),0))","v":""},{"$f":"IF('RWIS Sensor (Desc)'!H128=\"\",\"\",INDEX([1]RWIS_SENSOR_MODEL!$A$2:$A$100,MATCH(1,([1]RWIS_SENSOR_MODEL!$C$2:$C$100='RWIS Sensor (Desc)'!$G128)*([1]RWIS_SENSOR_MODEL!$D$2:$D$100='RWIS Sensor (Desc)'!$H128)*([1]RWIS_SENSOR_MODEL!$E$2:$E$100='RWIS Sensor (Code)'!$D128),0),0))","v":""},{"$f":"IF('RWIS Sensor (Desc)'!I128=\"\",\"\",'RWIS Sensor (Desc)'!I128)","v":""}]
[{"$f":"IF('RWIS Sensor (Desc)'!A129=\"\",\"\",'RWIS Sensor (Desc)'!A129)","v":""},{"$f":"IF('RWIS Sensor (Desc)'!C129=\"\",\"\",\"2008\")","v":""},{"$f":"IF('RWIS Sensor (Desc)'!C129=\"\",\"\",'RWIS Sensor (Desc)'!C129)","v":""},{"$f":"IF('RWIS Sensor (Desc)'!E129=\"\",\"\",INDEX([1]RWIS_SENSOR_TYPE!$A$2:$A$100,MATCH('RWIS Sensor (Desc)'!$E129,[1]!MASTER_RWIS_SENSOR_TYPE_DESC[#Data],0),0))","v":""},{"$f":"IF('RWIS Sensor (Desc)'!F129=\"\",\"\",'RWIS Sensor (Desc)'!F129)","v":""},{"$f":"IF('RWIS Sensor (Desc)'!G129=\"\",\"\",INDEX([1]RWIS_SENSOR_MODEL!$B$2:$B$100,MATCH(1,([1]RWIS_SENSOR_MODEL!$C$2:$C$100='RWIS Sensor (Desc)'!$G129)*([1]RWIS_SENSOR_MODEL!$E$2:$E$100='RWIS Sensor (Code)'!$D129),0),0))","v":""},{"$f":"IF('RWIS Sensor (Desc)'!H129=\"\",\"\",INDEX([1]RWIS_SENSOR_MODEL!$A$2:$A$100,MATCH(1,([1]RWIS_SENSOR_MODEL!$C$2:$C$100='RWIS Sensor (Desc)'!$G129)*([1]RWIS_SENSOR_MODEL!$D$2:$D$100='RWIS Sensor (Desc)'!$H129)*([1]RWIS_SENSOR_MODEL!$E$2:$E$100='RWIS Sensor (Code)'!$D129),0),0))","v":""},{"$f":"IF('RWIS Sensor (Desc)'!I129=\"\",\"\",'RWIS Sensor (Desc)'!I129)","v":""}]
[{"$f":"IF('RWIS Sensor (Desc)'!A130=\"\",\"\",'RWIS Sensor (Desc)'!A130)","v":""},{"$f":"IF('RWIS Sensor (Desc)'!C130=\"\",\"\",\"2008\")","v":""},{"$f":"IF('RWIS Sensor (Desc)'!C130=\"\",\"\",'RWIS Sensor (Desc)'!C130)","v":""},{"$f":"IF('RWIS Sensor (Desc)'!E130=\"\",\"\",INDEX([1]RWIS_SENSOR_TYPE!$A$2:$A$100,MATCH('RWIS Sensor (Desc)'!$E130,[1]!MASTER_RWIS_SENSOR_TYPE_DESC[#Data],0),0))","v":""},{"$f":"IF('RWIS Sensor (Desc)'!F130=\"\",\"\",'RWIS Sensor (Desc)'!F130)","v":""},{"$f":"IF('RWIS Sensor (Desc)'!G130=\"\",\"\",INDEX([1]RWIS_SENSOR_MODEL!$B$2:$B$100,MATCH(1,([1]RWIS_SENSOR_MODEL!$C$2:$C$100='RWIS Sensor (Desc)'!$G130)*([1]RWIS_SENSOR_MODEL!$E$2:$E$100='RWIS Sensor (Code)'!$D130),0),0))","v":""},{"$f":"IF('RWIS Sensor (Desc)'!H130=\"\",\"\",INDEX([1]RWIS_SENSOR_MODEL!$A$2:$A$100,MATCH(1,([1]RWIS_SENSOR_MODEL!$C$2:$C$100='RWIS Sensor (Desc)'!$G130)*([1]RWIS_SENSOR_MODEL!$D$2:$D$100='RWIS Sensor (Desc)'!$H130)*([1]RWIS_SENSOR_MODEL!$E$2:$E$100='RWIS Sensor (Code)'!$D130),0),0))","v":""},{"$f":"IF('RWIS Sensor (Desc)'!I130=\"\",\"\",'RWIS Sensor (Desc)'!I130)","v":""}]
[{"$f":"IF('RWIS Sensor (Desc)'!A131=\"\",\"\",'RWIS Sensor (Desc)'!A131)","v":""},{"$f":"IF('RWIS Sensor (Desc)'!C131=\"\",\"\",\"2008\")","v":""},{"$f":"IF('RWIS Sensor (Desc)'!C131=\"\",\"\",'RWIS Sensor (Desc)'!C131)","v":""},{"$f":"IF('RWIS Sensor (Desc)'!E131=\"\",\"\",INDEX([1]RWIS_SENSOR_TYPE!$A$2:$A$100,MATCH('RWIS Sensor (Desc)'!$E131,[1]!MASTER_RWIS_SENSOR_TYPE_DESC[#Data],0),0))","v":""},{"$f":"IF('RWIS Sensor (Desc)'!F131=\"\",\"\",'RWIS Sensor (Desc)'!F131)","v":""},{"$f":"IF('RWIS Sensor (Desc)'!G131=\"\",\"\",INDEX([1]RWIS_SENSOR_MODEL!$B$2:$B$100,MATCH(1,([1]RWIS_SENSOR_MODEL!$C$2:$C$100='RWIS Sensor (Desc)'!$G131)*([1]RWIS_SENSOR_MODEL!$E$2:$E$100='RWIS Sensor (Code)'!$D131),0),0))","v":""},{"$f":"IF('RWIS Sensor (Desc)'!H131=\"\",\"\",INDEX([1]RWIS_SENSOR_MODEL!$A$2:$A$100,MATCH(1,([1]RWIS_SENSOR_MODEL!$C$2:$C$100='RWIS Sensor (Desc)'!$G131)*([1]RWIS_SENSOR_MODEL!$D$2:$D$100='RWIS Sensor (Desc)'!$H131)*([1]RWIS_SENSOR_MODEL!$E$2:$E$100='RWIS Sensor (Code)'!$D131),0),0))","v":""},{"$f":"IF('RWIS Sensor (Desc)'!I131=\"\",\"\",'RWIS Sensor (Desc)'!I131)","v":""}]
[{"$f":"IF('RWIS Sensor (Desc)'!A132=\"\",\"\",'RWIS Sensor (Desc)'!A132)","v":""},{"$f":"IF('RWIS Sensor (Desc)'!C132=\"\",\"\",\"2008\")","v":""},{"$f":"IF('RWIS Sensor (Desc)'!C132=\"\",\"\",'RWIS Sensor (Desc)'!C132)","v":""},{"$f":"IF('RWIS Sensor (Desc)'!E132=\"\",\"\",INDEX([1]RWIS_SENSOR_TYPE!$A$2:$A$100,MATCH('RWIS Sensor (Desc)'!$E132,[1]!MASTER_RWIS_SENSOR_TYPE_DESC[#Data],0),0))","v":""},{"$f":"IF('RWIS Sensor (Desc)'!F132=\"\",\"\",'RWIS Sensor (Desc)'!F132)","v":""},{"$f":"IF('RWIS Sensor (Desc)'!G132=\"\",\"\",INDEX([1]RWIS_SENSOR_MODEL!$B$2:$B$100,MATCH(1,([1]RWIS_SENSOR_MODEL!$C$2:$C$100='RWIS Sensor (Desc)'!$G132)*([1]RWIS_SENSOR_MODEL!$E$2:$E$100='RWIS Sensor (Code)'!$D132),0),0))","v":""},{"$f":"IF('RWIS Sensor (Desc)'!H132=\"\",\"\",INDEX([1]RWIS_SENSOR_MODEL!$A$2:$A$100,MATCH(1,([1]RWIS_SENSOR_MODEL!$C$2:$C$100='RWIS Sensor (Desc)'!$G132)*([1]RWIS_SENSOR_MODEL!$D$2:$D$100='RWIS Sensor (Desc)'!$H132)*([1]RWIS_SENSOR_MODEL!$E$2:$E$100='RWIS Sensor (Code)'!$D132),0),0))","v":""},{"$f":"IF('RWIS Sensor (Desc)'!I132=\"\",\"\",'RWIS Sensor (Desc)'!I132)","v":""}]
[{"$f":"IF('RWIS Sensor (Desc)'!A133=\"\",\"\",'RWIS Sensor (Desc)'!A133)","v":""},{"$f":"IF('RWIS Sensor (Desc)'!C133=\"\",\"\",\"2008\")","v":""},{"$f":"IF('RWIS Sensor (Desc)'!C133=\"\",\"\",'RWIS Sensor (Desc)'!C133)","v":""},{"$f":"IF('RWIS Sensor (Desc)'!E133=\"\",\"\",INDEX([1]RWIS_SENSOR_TYPE!$A$2:$A$100,MATCH('RWIS Sensor (Desc)'!$E133,[1]!MASTER_RWIS_SENSOR_TYPE_DESC[#Data],0),0))","v":""},{"$f":"IF('RWIS Sensor (Desc)'!F133=\"\",\"\",'RWIS Sensor (Desc)'!F133)","v":""},{"$f":"IF('RWIS Sensor (Desc)'!G133=\"\",\"\",INDEX([1]RWIS_SENSOR_MODEL!$B$2:$B$100,MATCH(1,([1]RWIS_SENSOR_MODEL!$C$2:$C$100='RWIS Sensor (Desc)'!$G133)*([1]RWIS_SENSOR_MODEL!$E$2:$E$100='RWIS Sensor (Code)'!$D133),0),0))","v":""},{"$f":"IF('RWIS Sensor (Desc)'!H133=\"\",\"\",INDEX([1]RWIS_SENSOR_MODEL!$A$2:$A$100,MATCH(1,([1]RWIS_SENSOR_MODEL!$C$2:$C$100='RWIS Sensor (Desc)'!$G133)*([1]RWIS_SENSOR_MODEL!$D$2:$D$100='RWIS Sensor (Desc)'!$H133)*([1]RWIS_SENSOR_MODEL!$E$2:$E$100='RWIS Sensor (Code)'!$D133),0),0))","v":""},{"$f":"IF('RWIS Sensor (Desc)'!I133=\"\",\"\",'RWIS Sensor (Desc)'!I133)","v":""}]
[{"$f":"IF('RWIS Sensor (Desc)'!A134=\"\",\"\",'RWIS Sensor (Desc)'!A134)","v":""},{"$f":"IF('RWIS Sensor (Desc)'!C134=\"\",\"\",\"2008\")","v":""},{"$f":"IF('RWIS Sensor (Desc)'!C134=\"\",\"\",'RWIS Sensor (Desc)'!C134)","v":""},{"$f":"IF('RWIS Sensor (Desc)'!E134=\"\",\"\",INDEX([1]RWIS_SENSOR_TYPE!$A$2:$A$100,MATCH('RWIS Sensor (Desc)'!$E134,[1]!MASTER_RWIS_SENSOR_TYPE_DESC[#Data],0),0))","v":""},{"$f":"IF('RWIS Sensor (Desc)'!F134=\"\",\"\",'RWIS Sensor (Desc)'!F134)","v":""},{"$f":"IF('RWIS Sensor (Desc)'!G134=\"\",\"\",INDEX([1]RWIS_SENSOR_MODEL!$B$2:$B$100,MATCH(1,([1]RWIS_SENSOR_MODEL!$C$2:$C$100='RWIS Sensor (Desc)'!$G134)*([1]RWIS_SENSOR_MODEL!$E$2:$E$100='RWIS Sensor (Code)'!$D134),0),0))","v":""},{"$f":"IF('RWIS Sensor (Desc)'!H134=\"\",\"\",INDEX([1]RWIS_SENSOR_MODEL!$A$2:$A$100,MATCH(1,([1]RWIS_SENSOR_MODEL!$C$2:$C$100='RWIS Sensor (Desc)'!$G134)*([1]RWIS_SENSOR_MODEL!$D$2:$D$100='RWIS Sensor (Desc)'!$H134)*([1]RWIS_SENSOR_MODEL!$E$2:$E$100='RWIS Sensor (Code)'!$D134),0),0))","v":""},{"$f":"IF('RWIS Sensor (Desc)'!I134=\"\",\"\",'RWIS Sensor (Desc)'!I134)","v":""}]
[{"$f":"IF('RWIS Sensor (Desc)'!A135=\"\",\"\",'RWIS Sensor (Desc)'!A135)","v":""},{"$f":"IF('RWIS Sensor (Desc)'!C135=\"\",\"\",\"2008\")","v":""},{"$f":"IF('RWIS Sensor (Desc)'!C135=\"\",\"\",'RWIS Sensor (Desc)'!C135)","v":""},{"$f":"IF('RWIS Sensor (Desc)'!E135=\"\",\"\",INDEX([1]RWIS_SENSOR_TYPE!$A$2:$A$100,MATCH('RWIS Sensor (Desc)'!$E135,[1]!MASTER_RWIS_SENSOR_TYPE_DESC[#Data],0),0))","v":""},{"$f":"IF('RWIS Sensor (Desc)'!F135=\"\",\"\",'RWIS Sensor (Desc)'!F135)","v":""},{"$f":"IF('RWIS Sensor (Desc)'!G135=\"\",\"\",INDEX([1]RWIS_SENSOR_MODEL!$B$2:$B$100,MATCH(1,([1]RWIS_SENSOR_MODEL!$C$2:$C$100='RWIS Sensor (Desc)'!$G135)*([1]RWIS_SENSOR_MODEL!$E$2:$E$100='RWIS Sensor (Code)'!$D135),0),0))","v":""},{"$f":"IF('RWIS Sensor (Desc)'!H135=\"\",\"\",INDEX([1]RWIS_SENSOR_MODEL!$A$2:$A$100,MATCH(1,([1]RWIS_SENSOR_MODEL!$C$2:$C$100='RWIS Sensor (Desc)'!$G135)*([1]RWIS_SENSOR_MODEL!$D$2:$D$100='RWIS Sensor (Desc)'!$H135)*([1]RWIS_SENSOR_MODEL!$E$2:$E$100='RWIS Sensor (Code)'!$D135),0),0))","v":""},{"$f":"IF('RWIS Sensor (Desc)'!I135=\"\",\"\",'RWIS Sensor (Desc)'!I135)","v":""}]
[{"$f":"IF('RWIS Sensor (Desc)'!A136=\"\",\"\",'RWIS Sensor (Desc)'!A136)","v":""},{"$f":"IF('RWIS Sensor (Desc)'!C136=\"\",\"\",\"2008\")","v":""},{"$f":"IF('RWIS Sensor (Desc)'!C136=\"\",\"\",'RWIS Sensor (Desc)'!C136)","v":""},{"$f":"IF('RWIS Sensor (Desc)'!E136=\"\",\"\",INDEX([1]RWIS_SENSOR_TYPE!$A$2:$A$100,MATCH('RWIS Sensor (Desc)'!$E136,[1]!MASTER_RWIS_SENSOR_TYPE_DESC[#Data],0),0))","v":""},{"$f":"IF('RWIS Sensor (Desc)'!F136=\"\",\"\",'RWIS Sensor (Desc)'!F136)","v":""},{"$f":"IF('RWIS Sensor (Desc)'!G136=\"\",\"\",INDEX([1]RWIS_SENSOR_MODEL!$B$2:$B$100,MATCH(1,([1]RWIS_SENSOR_MODEL!$C$2:$C$100='RWIS Sensor (Desc)'!$G136)*([1]RWIS_SENSOR_MODEL!$E$2:$E$100='RWIS Sensor (Code)'!$D136),0),0))","v":""},{"$f":"IF('RWIS Sensor (Desc)'!H136=\"\",\"\",INDEX([1]RWIS_SENSOR_MODEL!$A$2:$A$100,MATCH(1,([1]RWIS_SENSOR_MODEL!$C$2:$C$100='RWIS Sensor (Desc)'!$G136)*([1]RWIS_SENSOR_MODEL!$D$2:$D$100='RWIS Sensor (Desc)'!$H136)*([1]RWIS_SENSOR_MODEL!$E$2:$E$100='RWIS Sensor (Code)'!$D136),0),0))","v":""},{"$f":"IF('RWIS Sensor (Desc)'!I136=\"\",\"\",'RWIS Sensor (Desc)'!I136)","v":""}]
[{"$f":"IF('RWIS Sensor (Desc)'!A137=\"\",\"\",'RWIS Sensor (Desc)'!A137)","v":""},{"$f":"IF('RWIS Sensor (Desc)'!C137=\"\",\"\",\"2008\")","v":""},{"$f":"IF('RWIS Sensor (Desc)'!C137=\"\",\"\",'RWIS Sensor (Desc)'!C137)","v":""},{"$f":"IF('RWIS Sensor (Desc)'!E137=\"\",\"\",INDEX([1]RWIS_SENSOR_TYPE!$A$2:$A$100,MATCH('RWIS Sensor (Desc)'!$E137,[1]!MASTER_RWIS_SENSOR_TYPE_DESC[#Data],0),0))","v":""},{"$f":"IF('RWIS Sensor (Desc)'!F137=\"\",\"\",'RWIS Sensor (Desc)'!F137)","v":""},{"$f":"IF('RWIS Sensor (Desc)'!G137=\"\",\"\",INDEX([1]RWIS_SENSOR_MODEL!$B$2:$B$100,MATCH(1,([1]RWIS_SENSOR_MODEL!$C$2:$C$100='RWIS Sensor (Desc)'!$G137)*([1]RWIS_SENSOR_MODEL!$E$2:$E$100='RWIS Sensor (Code)'!$D137),0),0))","v":""},{"$f":"IF('RWIS Sensor (Desc)'!H137=\"\",\"\",INDEX([1]RWIS_SENSOR_MODEL!$A$2:$A$100,MATCH(1,([1]RWIS_SENSOR_MODEL!$C$2:$C$100='RWIS Sensor (Desc)'!$G137)*([1]RWIS_SENSOR_MODEL!$D$2:$D$100='RWIS Sensor (Desc)'!$H137)*([1]RWIS_SENSOR_MODEL!$E$2:$E$100='RWIS Sensor (Code)'!$D137),0),0))","v":""},{"$f":"IF('RWIS Sensor (Desc)'!I137=\"\",\"\",'RWIS Sensor (Desc)'!I137)","v":""}]
[{"$f":"IF('RWIS Sensor (Desc)'!A138=\"\",\"\",'RWIS Sensor (Desc)'!A138)","v":""},{"$f":"IF('RWIS Sensor (Desc)'!C138=\"\",\"\",\"2008\")","v":""},{"$f":"IF('RWIS Sensor (Desc)'!C138=\"\",\"\",'RWIS Sensor (Desc)'!C138)","v":""},{"$f":"IF('RWIS Sensor (Desc)'!E138=\"\",\"\",INDEX([1]RWIS_SENSOR_TYPE!$A$2:$A$100,MATCH('RWIS Sensor (Desc)'!$E138,[1]!MASTER_RWIS_SENSOR_TYPE_DESC[#Data],0),0))","v":""},{"$f":"IF('RWIS Sensor (Desc)'!F138=\"\",\"\",'RWIS Sensor (Desc)'!F138)","v":""},{"$f":"IF('RWIS Sensor (Desc)'!G138=\"\",\"\",INDEX([1]RWIS_SENSOR_MODEL!$B$2:$B$100,MATCH(1,([1]RWIS_SENSOR_MODEL!$C$2:$C$100='RWIS Sensor (Desc)'!$G138)*([1]RWIS_SENSOR_MODEL!$E$2:$E$100='RWIS Sensor (Code)'!$D138),0),0))","v":""},{"$f":"IF('RWIS Sensor (Desc)'!H138=\"\",\"\",INDEX([1]RWIS_SENSOR_MODEL!$A$2:$A$100,MATCH(1,([1]RWIS_SENSOR_MODEL!$C$2:$C$100='RWIS Sensor (Desc)'!$G138)*([1]RWIS_SENSOR_MODEL!$D$2:$D$100='RWIS Sensor (Desc)'!$H138)*([1]RWIS_SENSOR_MODEL!$E$2:$E$100='RWIS Sensor (Code)'!$D138),0),0))","v":""},{"$f":"IF('RWIS Sensor (Desc)'!I138=\"\",\"\",'RWIS Sensor (Desc)'!I138)","v":""}]
[{"$f":"IF('RWIS Sensor (Desc)'!A139=\"\",\"\",'RWIS Sensor (Desc)'!A139)","v":""},{"$f":"IF('RWIS Sensor (Desc)'!C139=\"\",\"\",\"2008\")","v":""},{"$f":"IF('RWIS Sensor (Desc)'!C139=\"\",\"\",'RWIS Sensor (Desc)'!C139)","v":""},{"$f":"IF('RWIS Sensor (Desc)'!E139=\"\",\"\",INDEX([1]RWIS_SENSOR_TYPE!$A$2:$A$100,MATCH('RWIS Sensor (Desc)'!$E139,[1]!MASTER_RWIS_SENSOR_TYPE_DESC[#Data],0),0))","v":""},{"$f":"IF('RWIS Sensor (Desc)'!F139=\"\",\"\",'RWIS Sensor (Desc)'!F139)","v":""},{"$f":"IF('RWIS Sensor (Desc)'!G139=\"\",\"\",INDEX([1]RWIS_SENSOR_MODEL!$B$2:$B$100,MATCH(1,([1]RWIS_SENSOR_MODEL!$C$2:$C$100='RWIS Sensor (Desc)'!$G139)*([1]RWIS_SENSOR_MODEL!$E$2:$E$100='RWIS Sensor (Code)'!$D139),0),0))","v":""},{"$f":"IF('RWIS Sensor (Desc)'!H139=\"\",\"\",INDEX([1]RWIS_SENSOR_MODEL!$A$2:$A$100,MATCH(1,([1]RWIS_SENSOR_MODEL!$C$2:$C$100='RWIS Sensor (Desc)'!$G139)*([1]RWIS_SENSOR_MODEL!$D$2:$D$100='RWIS Sensor (Desc)'!$H139)*([1]RWIS_SENSOR_MODEL!$E$2:$E$100='RWIS Sensor (Code)'!$D139),0),0))","v":""},{"$f":"IF('RWIS Sensor (Desc)'!I139=\"\",\"\",'RWIS Sensor (Desc)'!I139)","v":""}]
[{"$f":"IF('RWIS Sensor (Desc)'!A140=\"\",\"\",'RWIS Sensor (Desc)'!A140)","v":""},{"$f":"IF('RWIS Sensor (Desc)'!C140=\"\",\"\",\"2008\")","v":""},{"$f":"IF('RWIS Sensor (Desc)'!C140=\"\",\"\",'RWIS Sensor (Desc)'!C140)","v":""},{"$f":"IF('RWIS Sensor (Desc)'!E140=\"\",\"\",INDEX([1]RWIS_SENSOR_TYPE!$A$2:$A$100,MATCH('RWIS Sensor (Desc)'!$E140,[1]!MASTER_RWIS_SENSOR_TYPE_DESC[#Data],0),0))","v":""},{"$f":"IF('RWIS Sensor (Desc)'!F140=\"\",\"\",'RWIS Sensor (Desc)'!F140)","v":""},{"$f":"IF('RWIS Sensor (Desc)'!G140=\"\",\"\",INDEX([1]RWIS_SENSOR_MODEL!$B$2:$B$100,MATCH(1,([1]RWIS_SENSOR_MODEL!$C$2:$C$100='RWIS Sensor (Desc)'!$G140)*([1]RWIS_SENSOR_MODEL!$E$2:$E$100='RWIS Sensor (Code)'!$D140),0),0))","v":""},{"$f":"IF('RWIS Sensor (Desc)'!H140=\"\",\"\",INDEX([1]RWIS_SENSOR_MODEL!$A$2:$A$100,MATCH(1,([1]RWIS_SENSOR_MODEL!$C$2:$C$100='RWIS Sensor (Desc)'!$G140)*([1]RWIS_SENSOR_MODEL!$D$2:$D$100='RWIS Sensor (Desc)'!$H140)*([1]RWIS_SENSOR_MODEL!$E$2:$E$100='RWIS Sensor (Code)'!$D140),0),0))","v":""},{"$f":"IF('RWIS Sensor (Desc)'!I140=\"\",\"\",'RWIS Sensor (Desc)'!I140)","v":""}]
[{"$f":"IF('RWIS Sensor (Desc)'!A141=\"\",\"\",'RWIS Sensor (Desc)'!A141)","v":""},{"$f":"IF('RWIS Sensor (Desc)'!C141=\"\",\"\",\"2008\")","v":""},{"$f":"IF('RWIS Sensor (Desc)'!C141=\"\",\"\",'RWIS Sensor (Desc)'!C141)","v":""},{"$f":"IF('RWIS Sensor (Desc)'!E141=\"\",\"\",INDEX([1]RWIS_SENSOR_TYPE!$A$2:$A$100,MATCH('RWIS Sensor (Desc)'!$E141,[1]!MASTER_RWIS_SENSOR_TYPE_DESC[#Data],0),0))","v":""},{"$f":"IF('RWIS Sensor (Desc)'!F141=\"\",\"\",'RWIS Sensor (Desc)'!F141)","v":""},{"$f":"IF('RWIS Sensor (Desc)'!G141=\"\",\"\",INDEX([1]RWIS_SENSOR_MODEL!$B$2:$B$100,MATCH(1,([1]RWIS_SENSOR_MODEL!$C$2:$C$100='RWIS Sensor (Desc)'!$G141)*([1]RWIS_SENSOR_MODEL!$E$2:$E$100='RWIS Sensor (Code)'!$D141),0),0))","v":""},{"$f":"IF('RWIS Sensor (Desc)'!H141=\"\",\"\",INDEX([1]RWIS_SENSOR_MODEL!$A$2:$A$100,MATCH(1,([1]RWIS_SENSOR_MODEL!$C$2:$C$100='RWIS Sensor (Desc)'!$G141)*([1]RWIS_SENSOR_MODEL!$D$2:$D$100='RWIS Sensor (Desc)'!$H141)*([1]RWIS_SENSOR_MODEL!$E$2:$E$100='RWIS Sensor (Code)'!$D141),0),0))","v":""},{"$f":"IF('RWIS Sensor (Desc)'!I141=\"\",\"\",'RWIS Sensor (Desc)'!I141)","v":""}]
[{"$f":"IF('RWIS Sensor (Desc)'!A142=\"\",\"\",'RWIS Sensor (Desc)'!A142)","v":""},{"$f":"IF('RWIS Sensor (Desc)'!C142=\"\",\"\",\"2008\")","v":""},{"$f":"IF('RWIS Sensor (Desc)'!C142=\"\",\"\",'RWIS Sensor (Desc)'!C142)","v":""},{"$f":"IF('RWIS Sensor (Desc)'!E142=\"\",\"\",INDEX([1]RWIS_SENSOR_TYPE!$A$2:$A$100,MATCH('RWIS Sensor (Desc)'!$E142,[1]!MASTER_RWIS_SENSOR_TYPE_DESC[#Data],0),0))","v":""},{"$f":"IF('RWIS Sensor (Desc)'!F142=\"\",\"\",'RWIS Sensor (Desc)'!F142)","v":""},{"$f":"IF('RWIS Sensor (Desc)'!G142=\"\",\"\",INDEX([1]RWIS_SENSOR_MODEL!$B$2:$B$100,MATCH(1,([1]RWIS_SENSOR_MODEL!$C$2:$C$100='RWIS Sensor (Desc)'!$G142)*([1]RWIS_SENSOR_MODEL!$E$2:$E$100='RWIS Sensor (Code)'!$D142),0),0))","v":""},{"$f":"IF('RWIS Sensor (Desc)'!H142=\"\",\"\",INDEX([1]RWIS_SENSOR_MODEL!$A$2:$A$100,MATCH(1,([1]RWIS_SENSOR_MODEL!$C$2:$C$100='RWIS Sensor (Desc)'!$G142)*([1]RWIS_SENSOR_MODEL!$D$2:$D$100='RWIS Sensor (Desc)'!$H142)*([1]RWIS_SENSOR_MODEL!$E$2:$E$100='RWIS Sensor (Code)'!$D142),0),0))","v":""},{"$f":"IF('RWIS Sensor (Desc)'!I142=\"\",\"\",'RWIS Sensor (Desc)'!I142)","v":""}]
[{"$f":"IF('RWIS Sensor (Desc)'!A143=\"\",\"\",'RWIS Sensor (Desc)'!A143)","v":""},{"$f":"IF('RWIS Sensor (Desc)'!C143=\"\",\"\",\"2008\")","v":""},{"$f":"IF('RWIS Sensor (Desc)'!C143=\"\",\"\",'RWIS Sensor (Desc)'!C143)","v":""},{"$f":"IF('RWIS Sensor (Desc)'!E143=\"\",\"\",INDEX([1]RWIS_SENSOR_TYPE!$A$2:$A$100,MATCH('RWIS Sensor (Desc)'!$E143,[1]!MASTER_RWIS_SENSOR_TYPE_DESC[#Data],0),0))","v":""},{"$f":"IF('RWIS Sensor (Desc)'!F143=\"\",\"\",'RWIS Sensor (Desc)'!F143)","v":""},{"$f":"IF('RWIS Sensor (Desc)'!G143=\"\",\"\",INDEX([1]RWIS_SENSOR_MODEL!$B$2:$B$100,MATCH(1,([1]RWIS_SENSOR_MODEL!$C$2:$C$100='RWIS Sensor (Desc)'!$G143)*([1]RWIS_SENSOR_MODEL!$E$2:$E$100='RWIS Sensor (Code)'!$D143),0),0))","v":""},{"$f":"IF('RWIS Sensor (Desc)'!H143=\"\",\"\",INDEX([1]RWIS_SENSOR_MODEL!$A$2:$A$100,MATCH(1,([1]RWIS_SENSOR_MODEL!$C$2:$C$100='RWIS Sensor (Desc)'!$G143)*([1]RWIS_SENSOR_MODEL!$D$2:$D$100='RWIS Sensor (Desc)'!$H143)*([1]RWIS_SENSOR_MODEL!$E$2:$E$100='RWIS Sensor (Code)'!$D143),0),0))","v":""},{"$f":"IF('RWIS Sensor (Desc)'!I143=\"\",\"\",'RWIS Sensor (Desc)'!I143)","v":""}]
[{"$f":"IF('RWIS Sensor (Desc)'!A144=\"\",\"\",'RWIS Sensor (Desc)'!A144)","v":""},{"$f":"IF('RWIS Sensor (Desc)'!C144=\"\",\"\",\"2008\")","v":""},{"$f":"IF('RWIS Sensor (Desc)'!C144=\"\",\"\",'RWIS Sensor (Desc)'!C144)","v":""},{"$f":"IF('RWIS Sensor (Desc)'!E144=\"\",\"\",INDEX([1]RWIS_SENSOR_TYPE!$A$2:$A$100,MATCH('RWIS Sensor (Desc)'!$E144,[1]!MASTER_RWIS_SENSOR_TYPE_DESC[#Data],0),0))","v":""},{"$f":"IF('RWIS Sensor (Desc)'!F144=\"\",\"\",'RWIS Sensor (Desc)'!F144)","v":""},{"$f":"IF('RWIS Sensor (Desc)'!G144=\"\",\"\",INDEX([1]RWIS_SENSOR_MODEL!$B$2:$B$100,MATCH(1,([1]RWIS_SENSOR_MODEL!$C$2:$C$100='RWIS Sensor (Desc)'!$G144)*([1]RWIS_SENSOR_MODEL!$E$2:$E$100='RWIS Sensor (Code)'!$D144),0),0))","v":""},{"$f":"IF('RWIS Sensor (Desc)'!H144=\"\",\"\",INDEX([1]RWIS_SENSOR_MODEL!$A$2:$A$100,MATCH(1,([1]RWIS_SENSOR_MODEL!$C$2:$C$100='RWIS Sensor (Desc)'!$G144)*([1]RWIS_SENSOR_MODEL!$D$2:$D$100='RWIS Sensor (Desc)'!$H144)*([1]RWIS_SENSOR_MODEL!$E$2:$E$100='RWIS Sensor (Code)'!$D144),0),0))","v":""},{"$f":"IF('RWIS Sensor (Desc)'!I144=\"\",\"\",'RWIS Sensor (Desc)'!I144)","v":""}]
[{"$f":"IF('RWIS Sensor (Desc)'!A145=\"\",\"\",'RWIS Sensor (Desc)'!A145)","v":""},{"$f":"IF('RWIS Sensor (Desc)'!C145=\"\",\"\",\"2008\")","v":""},{"$f":"IF('RWIS Sensor (Desc)'!C145=\"\",\"\",'RWIS Sensor (Desc)'!C145)","v":""},{"$f":"IF('RWIS Sensor (Desc)'!E145=\"\",\"\",INDEX([1]RWIS_SENSOR_TYPE!$A$2:$A$100,MATCH('RWIS Sensor (Desc)'!$E145,[1]!MASTER_RWIS_SENSOR_TYPE_DESC[#Data],0),0))","v":""},{"$f":"IF('RWIS Sensor (Desc)'!F145=\"\",\"\",'RWIS Sensor (Desc)'!F145)","v":""},{"$f":"IF('RWIS Sensor (Desc)'!G145=\"\",\"\",INDEX([1]RWIS_SENSOR_MODEL!$B$2:$B$100,MATCH(1,([1]RWIS_SENSOR_MODEL!$C$2:$C$100='RWIS Sensor (Desc)'!$G145)*([1]RWIS_SENSOR_MODEL!$E$2:$E$100='RWIS Sensor (Code)'!$D145),0),0))","v":""},{"$f":"IF('RWIS Sensor (Desc)'!H145=\"\",\"\",INDEX([1]RWIS_SENSOR_MODEL!$A$2:$A$100,MATCH(1,([1]RWIS_SENSOR_MODEL!$C$2:$C$100='RWIS Sensor (Desc)'!$G145)*([1]RWIS_SENSOR_MODEL!$D$2:$D$100='RWIS Sensor (Desc)'!$H145)*([1]RWIS_SENSOR_MODEL!$E$2:$E$100='RWIS Sensor (Code)'!$D145),0),0))","v":""},{"$f":"IF('RWIS Sensor (Desc)'!I145=\"\",\"\",'RWIS Sensor (Desc)'!I145)","v":""}]
[{"$f":"IF('RWIS Sensor (Desc)'!A146=\"\",\"\",'RWIS Sensor (Desc)'!A146)","v":""},{"$f":"IF('RWIS Sensor (Desc)'!C146=\"\",\"\",\"2008\")","v":""},{"$f":"IF('RWIS Sensor (Desc)'!C146=\"\",\"\",'RWIS Sensor (Desc)'!C146)","v":""},{"$f":"IF('RWIS Sensor (Desc)'!E146=\"\",\"\",INDEX([1]RWIS_SENSOR_TYPE!$A$2:$A$100,MATCH('RWIS Sensor (Desc)'!$E146,[1]!MASTER_RWIS_SENSOR_TYPE_DESC[#Data],0),0))","v":""},{"$f":"IF('RWIS Sensor (Desc)'!F146=\"\",\"\",'RWIS Sensor (Desc)'!F146)","v":""},{"$f":"IF('RWIS Sensor (Desc)'!G146=\"\",\"\",INDEX([1]RWIS_SENSOR_MODEL!$B$2:$B$100,MATCH(1,([1]RWIS_SENSOR_MODEL!$C$2:$C$100='RWIS Sensor (Desc)'!$G146)*([1]RWIS_SENSOR_MODEL!$E$2:$E$100='RWIS Sensor (Code)'!$D146),0),0))","v":""},{"$f":"IF('RWIS Sensor (Desc)'!H146=\"\",\"\",INDEX([1]RWIS_SENSOR_MODEL!$A$2:$A$100,MATCH(1,([1]RWIS_SENSOR_MODEL!$C$2:$C$100='RWIS Sensor (Desc)'!$G146)*([1]RWIS_SENSOR_MODEL!$D$2:$D$100='RWIS Sensor (Desc)'!$H146)*([1]RWIS_SENSOR_MODEL!$E$2:$E$100='RWIS Sensor (Code)'!$D146),0),0))","v":""},{"$f":"IF('RWIS Sensor (Desc)'!I146=\"\",\"\",'RWIS Sensor (Desc)'!I146)","v":""}]
[{"$f":"IF('RWIS Sensor (Desc)'!A147=\"\",\"\",'RWIS Sensor (Desc)'!A147)","v":""},{"$f":"IF('RWIS Sensor (Desc)'!C147=\"\",\"\",\"2008\")","v":""},{"$f":"IF('RWIS Sensor (Desc)'!C147=\"\",\"\",'RWIS Sensor (Desc)'!C147)","v":""},{"$f":"IF('RWIS Sensor (Desc)'!E147=\"\",\"\",INDEX([1]RWIS_SENSOR_TYPE!$A$2:$A$100,MATCH('RWIS Sensor (Desc)'!$E147,[1]!MASTER_RWIS_SENSOR_TYPE_DESC[#Data],0),0))","v":""},{"$f":"IF('RWIS Sensor (Desc)'!F147=\"\",\"\",'RWIS Sensor (Desc)'!F147)","v":""},{"$f":"IF('RWIS Sensor (Desc)'!G147=\"\",\"\",INDEX([1]RWIS_SENSOR_MODEL!$B$2:$B$100,MATCH(1,([1]RWIS_SENSOR_MODEL!$C$2:$C$100='RWIS Sensor (Desc)'!$G147)*([1]RWIS_SENSOR_MODEL!$E$2:$E$100='RWIS Sensor (Code)'!$D147),0),0))","v":""},{"$f":"IF('RWIS Sensor (Desc)'!H147=\"\",\"\",INDEX([1]RWIS_SENSOR_MODEL!$A$2:$A$100,MATCH(1,([1]RWIS_SENSOR_MODEL!$C$2:$C$100='RWIS Sensor (Desc)'!$G147)*([1]RWIS_SENSOR_MODEL!$D$2:$D$100='RWIS Sensor (Desc)'!$H147)*([1]RWIS_SENSOR_MODEL!$E$2:$E$100='RWIS Sensor (Code)'!$D147),0),0))","v":""},{"$f":"IF('RWIS Sensor (Desc)'!I147=\"\",\"\",'RWIS Sensor (Desc)'!I147)","v":""}]
[{"$f":"IF('RWIS Sensor (Desc)'!A148=\"\",\"\",'RWIS Sensor (Desc)'!A148)","v":""},{"$f":"IF('RWIS Sensor (Desc)'!C148=\"\",\"\",\"2008\")","v":""},{"$f":"IF('RWIS Sensor (Desc)'!C148=\"\",\"\",'RWIS Sensor (Desc)'!C148)","v":""},{"$f":"IF('RWIS Sensor (Desc)'!E148=\"\",\"\",INDEX([1]RWIS_SENSOR_TYPE!$A$2:$A$100,MATCH('RWIS Sensor (Desc)'!$E148,[1]!MASTER_RWIS_SENSOR_TYPE_DESC[#Data],0),0))","v":""},{"$f":"IF('RWIS Sensor (Desc)'!F148=\"\",\"\",'RWIS Sensor (Desc)'!F148)","v":""},{"$f":"IF('RWIS Sensor (Desc)'!G148=\"\",\"\",INDEX([1]RWIS_SENSOR_MODEL!$B$2:$B$100,MATCH(1,([1]RWIS_SENSOR_MODEL!$C$2:$C$100='RWIS Sensor (Desc)'!$G148)*([1]RWIS_SENSOR_MODEL!$E$2:$E$100='RWIS Sensor (Code)'!$D148),0),0))","v":""},{"$f":"IF('RWIS Sensor (Desc)'!H148=\"\",\"\",INDEX([1]RWIS_SENSOR_MODEL!$A$2:$A$100,MATCH(1,([1]RWIS_SENSOR_MODEL!$C$2:$C$100='RWIS Sensor (Desc)'!$G148)*([1]RWIS_SENSOR_MODEL!$D$2:$D$100='RWIS Sensor (Desc)'!$H148)*([1]RWIS_SENSOR_MODEL!$E$2:$E$100='RWIS Sensor (Code)'!$D148),0),0))","v":""},{"$f":"IF('RWIS Sensor (Desc)'!I148=\"\",\"\",'RWIS Sensor (Desc)'!I148)","v":""}]
[{"$f":"IF('RWIS Sensor (Desc)'!A149=\"\",\"\",'RWIS Sensor (Desc)'!A149)","v":""},{"$f":"IF('RWIS Sensor (Desc)'!C149=\"\",\"\",\"2008\")","v":""},{"$f":"IF('RWIS Sensor (Desc)'!C149=\"\",\"\",'RWIS Sensor (Desc)'!C149)","v":""},{"$f":"IF('RWIS Sensor (Desc)'!E149=\"\",\"\",INDEX([1]RWIS_SENSOR_TYPE!$A$2:$A$100,MATCH('RWIS Sensor (Desc)'!$E149,[1]!MASTER_RWIS_SENSOR_TYPE_DESC[#Data],0),0))","v":""},{"$f":"IF('RWIS Sensor (Desc)'!F149=\"\",\"\",'RWIS Sensor (Desc)'!F149)","v":""},{"$f":"IF('RWIS Sensor (Desc)'!G149=\"\",\"\",INDEX([1]RWIS_SENSOR_MODEL!$B$2:$B$100,MATCH(1,([1]RWIS_SENSOR_MODEL!$C$2:$C$100='RWIS Sensor (Desc)'!$G149)*([1]RWIS_SENSOR_MODEL!$E$2:$E$100='RWIS Sensor (Code)'!$D149),0),0))","v":""},{"$f":"IF('RWIS Sensor (Desc)'!H149=\"\",\"\",INDEX([1]RWIS_SENSOR_MODEL!$A$2:$A$100,MATCH(1,([1]RWIS_SENSOR_MODEL!$C$2:$C$100='RWIS Sensor (Desc)'!$G149)*([1]RWIS_SENSOR_MODEL!$D$2:$D$100='RWIS Sensor (Desc)'!$H149)*([1]RWIS_SENSOR_MODEL!$E$2:$E$100='RWIS Sensor (Code)'!$D149),0),0))","v":""},{"$f":"IF('RWIS Sensor (Desc)'!I149=\"\",\"\",'RWIS Sensor (Desc)'!I149)","v":""}]
[{"$f":"IF('RWIS Sensor (Desc)'!A150=\"\",\"\",'RWIS Sensor (Desc)'!A150)","v":""},{"$f":"IF('RWIS Sensor (Desc)'!C150=\"\",\"\",\"2008\")","v":""},{"$f":"IF('RWIS Sensor (Desc)'!C150=\"\",\"\",'RWIS Sensor (Desc)'!C150)","v":""},{"$f":"IF('RWIS Sensor (Desc)'!E150=\"\",\"\",INDEX([1]RWIS_SENSOR_TYPE!$A$2:$A$100,MATCH('RWIS Sensor (Desc)'!$E150,[1]!MASTER_RWIS_SENSOR_TYPE_DESC[#Data],0),0))","v":""},{"$f":"IF('RWIS Sensor (Desc)'!F150=\"\",\"\",'RWIS Sensor (Desc)'!F150)","v":""},{"$f":"IF('RWIS Sensor (Desc)'!G150=\"\",\"\",INDEX([1]RWIS_SENSOR_MODEL!$B$2:$B$100,MATCH(1,([1]RWIS_SENSOR_MODEL!$C$2:$C$100='RWIS Sensor (Desc)'!$G150)*([1]RWIS_SENSOR_MODEL!$E$2:$E$100='RWIS Sensor (Code)'!$D150),0),0))","v":""},{"$f":"IF('RWIS Sensor (Desc)'!H150=\"\",\"\",INDEX([1]RWIS_SENSOR_MODEL!$A$2:$A$100,MATCH(1,([1]RWIS_SENSOR_MODEL!$C$2:$C$100='RWIS Sensor (Desc)'!$G150)*([1]RWIS_SENSOR_MODEL!$D$2:$D$100='RWIS Sensor (Desc)'!$H150)*([1]RWIS_SENSOR_MODEL!$E$2:$E$100='RWIS Sensor (Code)'!$D150),0),0))","v":""},{"$f":"IF('RWIS Sensor (Desc)'!I150=\"\",\"\",'RWIS Sensor (Desc)'!I150)","v":""}]
[{"$f":"IF('RWIS Sensor (Desc)'!A151=\"\",\"\",'RWIS Sensor (Desc)'!A151)","v":""},{"$f":"IF('RWIS Sensor (Desc)'!C151=\"\",\"\",\"2008\")","v":""},{"$f":"IF('RWIS Sensor (Desc)'!C151=\"\",\"\",'RWIS Sensor (Desc)'!C151)","v":""},{"$f":"IF('RWIS Sensor (Desc)'!E151=\"\",\"\",INDEX([1]RWIS_SENSOR_TYPE!$A$2:$A$100,MATCH('RWIS Sensor (Desc)'!$E151,[1]!MASTER_RWIS_SENSOR_TYPE_DESC[#Data],0),0))","v":""},{"$f":"IF('RWIS Sensor (Desc)'!F151=\"\",\"\",'RWIS Sensor (Desc)'!F151)","v":""},{"$f":"IF('RWIS Sensor (Desc)'!G151=\"\",\"\",INDEX([1]RWIS_SENSOR_MODEL!$B$2:$B$100,MATCH(1,([1]RWIS_SENSOR_MODEL!$C$2:$C$100='RWIS Sensor (Desc)'!$G151)*([1]RWIS_SENSOR_MODEL!$E$2:$E$100='RWIS Sensor (Code)'!$D151),0),0))","v":""},{"$f":"IF('RWIS Sensor (Desc)'!H151=\"\",\"\",INDEX([1]RWIS_SENSOR_MODEL!$A$2:$A$100,MATCH(1,([1]RWIS_SENSOR_MODEL!$C$2:$C$100='RWIS Sensor (Desc)'!$G151)*([1]RWIS_SENSOR_MODEL!$D$2:$D$100='RWIS Sensor (Desc)'!$H151)*([1]RWIS_SENSOR_MODEL!$E$2:$E$100='RWIS Sensor (Code)'!$D151),0),0))","v":""},{"$f":"IF('RWIS Sensor (Desc)'!I151=\"\",\"\",'RWIS Sensor (Desc)'!I151)","v":""}]
[{"$f":"IF('RWIS Sensor (Desc)'!A152=\"\",\"\",'RWIS Sensor (Desc)'!A152)","v":""},{"$f":"IF('RWIS Sensor (Desc)'!C152=\"\",\"\",\"2008\")","v":""},{"$f":"IF('RWIS Sensor (Desc)'!C152=\"\",\"\",'RWIS Sensor (Desc)'!C152)","v":""},{"$f":"IF('RWIS Sensor (Desc)'!E152=\"\",\"\",INDEX([1]RWIS_SENSOR_TYPE!$A$2:$A$100,MATCH('RWIS Sensor (Desc)'!$E152,[1]!MASTER_RWIS_SENSOR_TYPE_DESC[#Data],0),0))","v":""},{"$f":"IF('RWIS Sensor (Desc)'!F152=\"\",\"\",'RWIS Sensor (Desc)'!F152)","v":""},{"$f":"IF('RWIS Sensor (Desc)'!G152=\"\",\"\",INDEX([1]RWIS_SENSOR_MODEL!$B$2:$B$100,MATCH(1,([1]RWIS_SENSOR_MODEL!$C$2:$C$100='RWIS Sensor (Desc)'!$G152)*([1]RWIS_SENSOR_MODEL!$E$2:$E$100='RWIS Sensor (Code)'!$D152),0),0))","v":""},{"$f":"IF('RWIS Sensor (Desc)'!H152=\"\",\"\",INDEX([1]RWIS_SENSOR_MODEL!$A$2:$A$100,MATCH(1,([1]RWIS_SENSOR_MODEL!$C$2:$C$100='RWIS Sensor (Desc)'!$G152)*([1]RWIS_SENSOR_MODEL!$D$2:$D$100='RWIS Sensor (Desc)'!$H152)*([1]RWIS_SENSOR_MODEL!$E$2:$E$100='RWIS Sensor (Code)'!$D152),0),0))","v":""},{"$f":"IF('RWIS Sensor (Desc)'!I152=\"\",\"\",'RWIS Sensor (Desc)'!I152)","v":""}]
[{"$f":"IF('RWIS Sensor (Desc)'!A153=\"\",\"\",'RWIS Sensor (Desc)'!A153)","v":""},{"$f":"IF('RWIS Sensor (Desc)'!C153=\"\",\"\",\"2008\")","v":""},{"$f":"IF('RWIS Sensor (Desc)'!C153=\"\",\"\",'RWIS Sensor (Desc)'!C153)","v":""},{"$f":"IF('RWIS Sensor (Desc)'!E153=\"\",\"\",INDEX([1]RWIS_SENSOR_TYPE!$A$2:$A$100,MATCH('RWIS Sensor (Desc)'!$E153,[1]!MASTER_RWIS_SENSOR_TYPE_DESC[#Data],0),0))","v":""},{"$f":"IF('RWIS Sensor (Desc)'!F153=\"\",\"\",'RWIS Sensor (Desc)'!F153)","v":""},{"$f":"IF('RWIS Sensor (Desc)'!G153=\"\",\"\",INDEX([1]RWIS_SENSOR_MODEL!$B$2:$B$100,MATCH(1,([1]RWIS_SENSOR_MODEL!$C$2:$C$100='RWIS Sensor (Desc)'!$G153)*([1]RWIS_SENSOR_MODEL!$E$2:$E$100='RWIS Sensor (Code)'!$D153),0),0))","v":""},{"$f":"IF('RWIS Sensor (Desc)'!H153=\"\",\"\",INDEX([1]RWIS_SENSOR_MODEL!$A$2:$A$100,MATCH(1,([1]RWIS_SENSOR_MODEL!$C$2:$C$100='RWIS Sensor (Desc)'!$G153)*([1]RWIS_SENSOR_MODEL!$D$2:$D$100='RWIS Sensor (Desc)'!$H153)*([1]RWIS_SENSOR_MODEL!$E$2:$E$100='RWIS Sensor (Code)'!$D153),0),0))","v":""},{"$f":"IF('RWIS Sensor (Desc)'!I153=\"\",\"\",'RWIS Sensor (Desc)'!I153)","v":""}]
[{"$f":"IF('RWIS Sensor (Desc)'!A154=\"\",\"\",'RWIS Sensor (Desc)'!A154)","v":""},{"$f":"IF('RWIS Sensor (Desc)'!C154=\"\",\"\",\"2008\")","v":""},{"$f":"IF('RWIS Sensor (Desc)'!C154=\"\",\"\",'RWIS Sensor (Desc)'!C154)","v":""},{"$f":"IF('RWIS Sensor (Desc)'!E154=\"\",\"\",INDEX([1]RWIS_SENSOR_TYPE!$A$2:$A$100,MATCH('RWIS Sensor (Desc)'!$E154,[1]!MASTER_RWIS_SENSOR_TYPE_DESC[#Data],0),0))","v":""},{"$f":"IF('RWIS Sensor (Desc)'!F154=\"\",\"\",'RWIS Sensor (Desc)'!F154)","v":""},{"$f":"IF('RWIS Sensor (Desc)'!G154=\"\",\"\",INDEX([1]RWIS_SENSOR_MODEL!$B$2:$B$100,MATCH(1,([1]RWIS_SENSOR_MODEL!$C$2:$C$100='RWIS Sensor (Desc)'!$G154)*([1]RWIS_SENSOR_MODEL!$E$2:$E$100='RWIS Sensor (Code)'!$D154),0),0))","v":""},{"$f":"IF('RWIS Sensor (Desc)'!H154=\"\",\"\",INDEX([1]RWIS_SENSOR_MODEL!$A$2:$A$100,MATCH(1,([1]RWIS_SENSOR_MODEL!$C$2:$C$100='RWIS Sensor (Desc)'!$G154)*([1]RWIS_SENSOR_MODEL!$D$2:$D$100='RWIS Sensor (Desc)'!$H154)*([1]RWIS_SENSOR_MODEL!$E$2:$E$100='RWIS Sensor (Code)'!$D154),0),0))","v":""},{"$f":"IF('RWIS Sensor (Desc)'!I154=\"\",\"\",'RWIS Sensor (Desc)'!I154)","v":""}]
[{"$f":"IF('RWIS Sensor (Desc)'!A155=\"\",\"\",'RWIS Sensor (Desc)'!A155)","v":""},{"$f":"IF('RWIS Sensor (Desc)'!C155=\"\",\"\",\"2008\")","v":""},{"$f":"IF('RWIS Sensor (Desc)'!C155=\"\",\"\",'RWIS Sensor (Desc)'!C155)","v":""},{"$f":"IF('RWIS Sensor (Desc)'!E155=\"\",\"\",INDEX([1]RWIS_SENSOR_TYPE!$A$2:$A$100,MATCH('RWIS Sensor (Desc)'!$E155,[1]!MASTER_RWIS_SENSOR_TYPE_DESC[#Data],0),0))","v":""},{"$f":"IF('RWIS Sensor (Desc)'!F155=\"\",\"\",'RWIS Sensor (Desc)'!F155)","v":""},{"$f":"IF('RWIS Sensor (Desc)'!G155=\"\",\"\",INDEX([1]RWIS_SENSOR_MODEL!$B$2:$B$100,MATCH(1,([1]RWIS_SENSOR_MODEL!$C$2:$C$100='RWIS Sensor (Desc)'!$G155)*([1]RWIS_SENSOR_MODEL!$E$2:$E$100='RWIS Sensor (Code)'!$D155),0),0))","v":""},{"$f":"IF('RWIS Sensor (Desc)'!H155=\"\",\"\",INDEX([1]RWIS_SENSOR_MODEL!$A$2:$A$100,MATCH(1,([1]RWIS_SENSOR_MODEL!$C$2:$C$100='RWIS Sensor (Desc)'!$G155)*([1]RWIS_SENSOR_MODEL!$D$2:$D$100='RWIS Sensor (Desc)'!$H155)*([1]RWIS_SENSOR_MODEL!$E$2:$E$100='RWIS Sensor (Code)'!$D155),0),0))","v":""},{"$f":"IF('RWIS Sensor (Desc)'!I155=\"\",\"\",'RWIS Sensor (Desc)'!I155)","v":""}]
[{"$f":"IF('RWIS Sensor (Desc)'!A156=\"\",\"\",'RWIS Sensor (Desc)'!A156)","v":""},{"$f":"IF('RWIS Sensor (Desc)'!C156=\"\",\"\",\"2008\")","v":""},{"$f":"IF('RWIS Sensor (Desc)'!C156=\"\",\"\",'RWIS Sensor (Desc)'!C156)","v":""},{"$f":"IF('RWIS Sensor (Desc)'!E156=\"\",\"\",INDEX([1]RWIS_SENSOR_TYPE!$A$2:$A$100,MATCH('RWIS Sensor (Desc)'!$E156,[1]!MASTER_RWIS_SENSOR_TYPE_DESC[#Data],0),0))","v":""},{"$f":"IF('RWIS Sensor (Desc)'!F156=\"\",\"\",'RWIS Sensor (Desc)'!F156)","v":""},{"$f":"IF('RWIS Sensor (Desc)'!G156=\"\",\"\",INDEX([1]RWIS_SENSOR_MODEL!$B$2:$B$100,MATCH(1,([1]RWIS_SENSOR_MODEL!$C$2:$C$100='RWIS Sensor (Desc)'!$G156)*([1]RWIS_SENSOR_MODEL!$E$2:$E$100='RWIS Sensor (Code)'!$D156),0),0))","v":""},{"$f":"IF('RWIS Sensor (Desc)'!H156=\"\",\"\",INDEX([1]RWIS_SENSOR_MODEL!$A$2:$A$100,MATCH(1,([1]RWIS_SENSOR_MODEL!$C$2:$C$100='RWIS Sensor (Desc)'!$G156)*([1]RWIS_SENSOR_MODEL!$D$2:$D$100='RWIS Sensor (Desc)'!$H156)*([1]RWIS_SENSOR_MODEL!$E$2:$E$100='RWIS Sensor (Code)'!$D156),0),0))","v":""},{"$f":"IF('RWIS Sensor (Desc)'!I156=\"\",\"\",'RWIS Sensor (Desc)'!I156)","v":""}]
[{"$f":"IF('RWIS Sensor (Desc)'!A157=\"\",\"\",'RWIS Sensor (Desc)'!A157)","v":""},{"$f":"IF('RWIS Sensor (Desc)'!C157=\"\",\"\",\"2008\")","v":""},{"$f":"IF('RWIS Sensor (Desc)'!C157=\"\",\"\",'RWIS Sensor (Desc)'!C157)","v":""},{"$f":"IF('RWIS Sensor (Desc)'!E157=\"\",\"\",INDEX([1]RWIS_SENSOR_TYPE!$A$2:$A$100,MATCH('RWIS Sensor (Desc)'!$E157,[1]!MASTER_RWIS_SENSOR_TYPE_DESC[#Data],0),0))","v":""},{"$f":"IF('RWIS Sensor (Desc)'!F157=\"\",\"\",'RWIS Sensor (Desc)'!F157)","v":""},{"$f":"IF('RWIS Sensor (Desc)'!G157=\"\",\"\",INDEX([1]RWIS_SENSOR_MODEL!$B$2:$B$100,MATCH(1,([1]RWIS_SENSOR_MODEL!$C$2:$C$100='RWIS Sensor (Desc)'!$G157)*([1]RWIS_SENSOR_MODEL!$E$2:$E$100='RWIS Sensor (Code)'!$D157),0),0))","v":""},{"$f":"IF('RWIS Sensor (Desc)'!H157=\"\",\"\",INDEX([1]RWIS_SENSOR_MODEL!$A$2:$A$100,MATCH(1,([1]RWIS_SENSOR_MODEL!$C$2:$C$100='RWIS Sensor (Desc)'!$G157)*([1]RWIS_SENSOR_MODEL!$D$2:$D$100='RWIS Sensor (Desc)'!$H157)*([1]RWIS_SENSOR_MODEL!$E$2:$E$100='RWIS Sensor (Code)'!$D157),0),0))","v":""},{"$f":"IF('RWIS Sensor (Desc)'!I157=\"\",\"\",'RWIS Sensor (Desc)'!I157)","v":""}]
[{"$f":"IF('RWIS Sensor (Desc)'!A158=\"\",\"\",'RWIS Sensor (Desc)'!A158)","v":""},{"$f":"IF('RWIS Sensor (Desc)'!C158=\"\",\"\",\"2008\")","v":""},{"$f":"IF('RWIS Sensor (Desc)'!C158=\"\",\"\",'RWIS Sensor (Desc)'!C158)","v":""},{"$f":"IF('RWIS Sensor (Desc)'!E158=\"\",\"\",INDEX([1]RWIS_SENSOR_TYPE!$A$2:$A$100,MATCH('RWIS Sensor (Desc)'!$E158,[1]!MASTER_RWIS_SENSOR_TYPE_DESC[#Data],0),0))","v":""},{"$f":"IF('RWIS Sensor (Desc)'!F158=\"\",\"\",'RWIS Sensor (Desc)'!F158)","v":""},{"$f":"IF('RWIS Sensor (Desc)'!G158=\"\",\"\",INDEX([1]RWIS_SENSOR_MODEL!$B$2:$B$100,MATCH(1,([1]RWIS_SENSOR_MODEL!$C$2:$C$100='RWIS Sensor (Desc)'!$G158)*([1]RWIS_SENSOR_MODEL!$E$2:$E$100='RWIS Sensor (Code)'!$D158),0),0))","v":""},{"$f":"IF('RWIS Sensor (Desc)'!H158=\"\",\"\",INDEX([1]RWIS_SENSOR_MODEL!$A$2:$A$100,MATCH(1,([1]RWIS_SENSOR_MODEL!$C$2:$C$100='RWIS Sensor (Desc)'!$G158)*([1]RWIS_SENSOR_MODEL!$D$2:$D$100='RWIS Sensor (Desc)'!$H158)*([1]RWIS_SENSOR_MODEL!$E$2:$E$100='RWIS Sensor (Code)'!$D158),0),0))","v":""},{"$f":"IF('RWIS Sensor (Desc)'!I158=\"\",\"\",'RWIS Sensor (Desc)'!I158)","v":""}]
[{"$f":"IF('RWIS Sensor (Desc)'!A159=\"\",\"\",'RWIS Sensor (Desc)'!A159)","v":""},{"$f":"IF('RWIS Sensor (Desc)'!C159=\"\",\"\",\"2008\")","v":""},{"$f":"IF('RWIS Sensor (Desc)'!C159=\"\",\"\",'RWIS Sensor (Desc)'!C159)","v":""},{"$f":"IF('RWIS Sensor (Desc)'!E159=\"\",\"\",INDEX([1]RWIS_SENSOR_TYPE!$A$2:$A$100,MATCH('RWIS Sensor (Desc)'!$E159,[1]!MASTER_RWIS_SENSOR_TYPE_DESC[#Data],0),0))","v":""},{"$f":"IF('RWIS Sensor (Desc)'!F159=\"\",\"\",'RWIS Sensor (Desc)'!F159)","v":""},{"$f":"IF('RWIS Sensor (Desc)'!G159=\"\",\"\",INDEX([1]RWIS_SENSOR_MODEL!$B$2:$B$100,MATCH(1,([1]RWIS_SENSOR_MODEL!$C$2:$C$100='RWIS Sensor (Desc)'!$G159)*([1]RWIS_SENSOR_MODEL!$E$2:$E$100='RWIS Sensor (Code)'!$D159),0),0))","v":""},{"$f":"IF('RWIS Sensor (Desc)'!H159=\"\",\"\",INDEX([1]RWIS_SENSOR_MODEL!$A$2:$A$100,MATCH(1,([1]RWIS_SENSOR_MODEL!$C$2:$C$100='RWIS Sensor (Desc)'!$G159)*([1]RWIS_SENSOR_MODEL!$D$2:$D$100='RWIS Sensor (Desc)'!$H159)*([1]RWIS_SENSOR_MODEL!$E$2:$E$100='RWIS Sensor (Code)'!$D159),0),0))","v":""},{"$f":"IF('RWIS Sensor (Desc)'!I159=\"\",\"\",'RWIS Sensor (Desc)'!I159)","v":""}]
[{"$f":"IF('RWIS Sensor (Desc)'!A160=\"\",\"\",'RWIS Sensor (Desc)'!A160)","v":""},{"$f":"IF('RWIS Sensor (Desc)'!C160=\"\",\"\",\"2008\")","v":""},{"$f":"IF('RWIS Sensor (Desc)'!C160=\"\",\"\",'RWIS Sensor (Desc)'!C160)","v":""},{"$f":"IF('RWIS Sensor (Desc)'!E160=\"\",\"\",INDEX([1]RWIS_SENSOR_TYPE!$A$2:$A$100,MATCH('RWIS Sensor (Desc)'!$E160,[1]!MASTER_RWIS_SENSOR_TYPE_DESC[#Data],0),0))","v":""},{"$f":"IF('RWIS Sensor (Desc)'!F160=\"\",\"\",'RWIS Sensor (Desc)'!F160)","v":""},{"$f":"IF('RWIS Sensor (Desc)'!G160=\"\",\"\",INDEX([1]RWIS_SENSOR_MODEL!$B$2:$B$100,MATCH(1,([1]RWIS_SENSOR_MODEL!$C$2:$C$100='RWIS Sensor (Desc)'!$G160)*([1]RWIS_SENSOR_MODEL!$E$2:$E$100='RWIS Sensor (Code)'!$D160),0),0))","v":""},{"$f":"IF('RWIS Sensor (Desc)'!H160=\"\",\"\",INDEX([1]RWIS_SENSOR_MODEL!$A$2:$A$100,MATCH(1,([1]RWIS_SENSOR_MODEL!$C$2:$C$100='RWIS Sensor (Desc)'!$G160)*([1]RWIS_SENSOR_MODEL!$D$2:$D$100='RWIS Sensor (Desc)'!$H160)*([1]RWIS_SENSOR_MODEL!$E$2:$E$100='RWIS Sensor (Code)'!$D160),0),0))","v":""},{"$f":"IF('RWIS Sensor (Desc)'!I160=\"\",\"\",'RWIS Sensor (Desc)'!I160)","v":""}]
[{"$f":"IF('RWIS Sensor (Desc)'!A161=\"\",\"\",'RWIS Sensor (Desc)'!A161)","v":""},{"$f":"IF('RWIS Sensor (Desc)'!C161=\"\",\"\",\"2008\")","v":""},{"$f":"IF('RWIS Sensor (Desc)'!C161=\"\",\"\",'RWIS Sensor (Desc)'!C161)","v":""},{"$f":"IF('RWIS Sensor (Desc)'!E161=\"\",\"\",INDEX([1]RWIS_SENSOR_TYPE!$A$2:$A$100,MATCH('RWIS Sensor (Desc)'!$E161,[1]!MASTER_RWIS_SENSOR_TYPE_DESC[#Data],0),0))","v":""},{"$f":"IF('RWIS Sensor (Desc)'!F161=\"\",\"\",'RWIS Sensor (Desc)'!F161)","v":""},{"$f":"IF('RWIS Sensor (Desc)'!G161=\"\",\"\",INDEX([1]RWIS_SENSOR_MODEL!$B$2:$B$100,MATCH(1,([1]RWIS_SENSOR_MODEL!$C$2:$C$100='RWIS Sensor (Desc)'!$G161)*([1]RWIS_SENSOR_MODEL!$E$2:$E$100='RWIS Sensor (Code)'!$D161),0),0))","v":""},{"$f":"IF('RWIS Sensor (Desc)'!H161=\"\",\"\",INDEX([1]RWIS_SENSOR_MODEL!$A$2:$A$100,MATCH(1,([1]RWIS_SENSOR_MODEL!$C$2:$C$100='RWIS Sensor (Desc)'!$G161)*([1]RWIS_SENSOR_MODEL!$D$2:$D$100='RWIS Sensor (Desc)'!$H161)*([1]RWIS_SENSOR_MODEL!$E$2:$E$100='RWIS Sensor (Code)'!$D161),0),0))","v":""},{"$f":"IF('RWIS Sensor (Desc)'!I161=\"\",\"\",'RWIS Sensor (Desc)'!I161)","v":""}]
[{"$f":"IF('RWIS Sensor (Desc)'!A162=\"\",\"\",'RWIS Sensor (Desc)'!A162)","v":""},{"$f":"IF('RWIS Sensor (Desc)'!C162=\"\",\"\",\"2008\")","v":""},{"$f":"IF('RWIS Sensor (Desc)'!C162=\"\",\"\",'RWIS Sensor (Desc)'!C162)","v":""},{"$f":"IF('RWIS Sensor (Desc)'!E162=\"\",\"\",INDEX([1]RWIS_SENSOR_TYPE!$A$2:$A$100,MATCH('RWIS Sensor (Desc)'!$E162,[1]!MASTER_RWIS_SENSOR_TYPE_DESC[#Data],0),0))","v":""},{"$f":"IF('RWIS Sensor (Desc)'!F162=\"\",\"\",'RWIS Sensor (Desc)'!F162)","v":""},{"$f":"IF('RWIS Sensor (Desc)'!G162=\"\",\"\",INDEX([1]RWIS_SENSOR_MODEL!$B$2:$B$100,MATCH(1,([1]RWIS_SENSOR_MODEL!$C$2:$C$100='RWIS Sensor (Desc)'!$G162)*([1]RWIS_SENSOR_MODEL!$E$2:$E$100='RWIS Sensor (Code)'!$D162),0),0))","v":""},{"$f":"IF('RWIS Sensor (Desc)'!H162=\"\",\"\",INDEX([1]RWIS_SENSOR_MODEL!$A$2:$A$100,MATCH(1,([1]RWIS_SENSOR_MODEL!$C$2:$C$100='RWIS Sensor (Desc)'!$G162)*([1]RWIS_SENSOR_MODEL!$D$2:$D$100='RWIS Sensor (Desc)'!$H162)*([1]RWIS_SENSOR_MODEL!$E$2:$E$100='RWIS Sensor (Code)'!$D162),0),0))","v":""},{"$f":"IF('RWIS Sensor (Desc)'!I162=\"\",\"\",'RWIS Sensor (Desc)'!I162)","v":""}]
[{"$f":"IF('RWIS Sensor (Desc)'!A163=\"\",\"\",'RWIS Sensor (Desc)'!A163)","v":""},{"$f":"IF('RWIS Sensor (Desc)'!C163=\"\",\"\",\"2008\")","v":""},{"$f":"IF('RWIS Sensor (Desc)'!C163=\"\",\"\",'RWIS Sensor (Desc)'!C163)","v":""},{"$f":"IF('RWIS Sensor (Desc)'!E163=\"\",\"\",INDEX([1]RWIS_SENSOR_TYPE!$A$2:$A$100,MATCH('RWIS Sensor (Desc)'!$E163,[1]!MASTER_RWIS_SENSOR_TYPE_DESC[#Data],0),0))","v":""},{"$f":"IF('RWIS Sensor (Desc)'!F163=\"\",\"\",'RWIS Sensor (Desc)'!F163)","v":""},{"$f":"IF('RWIS Sensor (Desc)'!G163=\"\",\"\",INDEX([1]RWIS_SENSOR_MODEL!$B$2:$B$100,MATCH(1,([1]RWIS_SENSOR_MODEL!$C$2:$C$100='RWIS Sensor (Desc)'!$G163)*([1]RWIS_SENSOR_MODEL!$E$2:$E$100='RWIS Sensor (Code)'!$D163),0),0))","v":""},{"$f":"IF('RWIS Sensor (Desc)'!H163=\"\",\"\",INDEX([1]RWIS_SENSOR_MODEL!$A$2:$A$100,MATCH(1,([1]RWIS_SENSOR_MODEL!$C$2:$C$100='RWIS Sensor (Desc)'!$G163)*([1]RWIS_SENSOR_MODEL!$D$2:$D$100='RWIS Sensor (Desc)'!$H163)*([1]RWIS_SENSOR_MODEL!$E$2:$E$100='RWIS Sensor (Code)'!$D163),0),0))","v":""},{"$f":"IF('RWIS Sensor (Desc)'!I163=\"\",\"\",'RWIS Sensor (Desc)'!I163)","v":""}]
[{"$f":"IF('RWIS Sensor (Desc)'!A164=\"\",\"\",'RWIS Sensor (Desc)'!A164)","v":""},{"$f":"IF('RWIS Sensor (Desc)'!C164=\"\",\"\",\"2008\")","v":""},{"$f":"IF('RWIS Sensor (Desc)'!C164=\"\",\"\",'RWIS Sensor (Desc)'!C164)","v":""},{"$f":"IF('RWIS Sensor (Desc)'!E164=\"\",\"\",INDEX([1]RWIS_SENSOR_TYPE!$A$2:$A$100,MATCH('RWIS Sensor (Desc)'!$E164,[1]!MASTER_RWIS_SENSOR_TYPE_DESC[#Data],0),0))","v":""},{"$f":"IF('RWIS Sensor (Desc)'!F164=\"\",\"\",'RWIS Sensor (Desc)'!F164)","v":""},{"$f":"IF('RWIS Sensor (Desc)'!G164=\"\",\"\",INDEX([1]RWIS_SENSOR_MODEL!$B$2:$B$100,MATCH(1,([1]RWIS_SENSOR_MODEL!$C$2:$C$100='RWIS Sensor (Desc)'!$G164)*([1]RWIS_SENSOR_MODEL!$E$2:$E$100='RWIS Sensor (Code)'!$D164),0),0))","v":""},{"$f":"IF('RWIS Sensor (Desc)'!H164=\"\",\"\",INDEX([1]RWIS_SENSOR_MODEL!$A$2:$A$100,MATCH(1,([1]RWIS_SENSOR_MODEL!$C$2:$C$100='RWIS Sensor (Desc)'!$G164)*([1]RWIS_SENSOR_MODEL!$D$2:$D$100='RWIS Sensor (Desc)'!$H164)*([1]RWIS_SENSOR_MODEL!$E$2:$E$100='RWIS Sensor (Code)'!$D164),0),0))","v":""},{"$f":"IF('RWIS Sensor (Desc)'!I164=\"\",\"\",'RWIS Sensor (Desc)'!I164)","v":""}]
[{"$f":"IF('RWIS Sensor (Desc)'!A165=\"\",\"\",'RWIS Sensor (Desc)'!A165)","v":""},{"$f":"IF('RWIS Sensor (Desc)'!C165=\"\",\"\",\"2008\")","v":""},{"$f":"IF('RWIS Sensor (Desc)'!C165=\"\",\"\",'RWIS Sensor (Desc)'!C165)","v":""},{"$f":"IF('RWIS Sensor (Desc)'!E165=\"\",\"\",INDEX([1]RWIS_SENSOR_TYPE!$A$2:$A$100,MATCH('RWIS Sensor (Desc)'!$E165,[1]!MASTER_RWIS_SENSOR_TYPE_DESC[#Data],0),0))","v":""},{"$f":"IF('RWIS Sensor (Desc)'!F165=\"\",\"\",'RWIS Sensor (Desc)'!F165)","v":""},{"$f":"IF('RWIS Sensor (Desc)'!G165=\"\",\"\",INDEX([1]RWIS_SENSOR_MODEL!$B$2:$B$100,MATCH(1,([1]RWIS_SENSOR_MODEL!$C$2:$C$100='RWIS Sensor (Desc)'!$G165)*([1]RWIS_SENSOR_MODEL!$E$2:$E$100='RWIS Sensor (Code)'!$D165),0),0))","v":""},{"$f":"IF('RWIS Sensor (Desc)'!H165=\"\",\"\",INDEX([1]RWIS_SENSOR_MODEL!$A$2:$A$100,MATCH(1,([1]RWIS_SENSOR_MODEL!$C$2:$C$100='RWIS Sensor (Desc)'!$G165)*([1]RWIS_SENSOR_MODEL!$D$2:$D$100='RWIS Sensor (Desc)'!$H165)*([1]RWIS_SENSOR_MODEL!$E$2:$E$100='RWIS Sensor (Code)'!$D165),0),0))","v":""},{"$f":"IF('RWIS Sensor (Desc)'!I165=\"\",\"\",'RWIS Sensor (Desc)'!I165)","v":""}]
[{"$f":"IF('RWIS Sensor (Desc)'!A166=\"\",\"\",'RWIS Sensor (Desc)'!A166)","v":""},{"$f":"IF('RWIS Sensor (Desc)'!C166=\"\",\"\",\"2008\")","v":""},{"$f":"IF('RWIS Sensor (Desc)'!C166=\"\",\"\",'RWIS Sensor (Desc)'!C166)","v":""},{"$f":"IF('RWIS Sensor (Desc)'!E166=\"\",\"\",INDEX([1]RWIS_SENSOR_TYPE!$A$2:$A$100,MATCH('RWIS Sensor (Desc)'!$E166,[1]!MASTER_RWIS_SENSOR_TYPE_DESC[#Data],0),0))","v":""},{"$f":"IF('RWIS Sensor (Desc)'!F166=\"\",\"\",'RWIS Sensor (Desc)'!F166)","v":""},{"$f":"IF('RWIS Sensor (Desc)'!G166=\"\",\"\",INDEX([1]RWIS_SENSOR_MODEL!$B$2:$B$100,MATCH(1,([1]RWIS_SENSOR_MODEL!$C$2:$C$100='RWIS Sensor (Desc)'!$G166)*([1]RWIS_SENSOR_MODEL!$E$2:$E$100='RWIS Sensor (Code)'!$D166),0),0))","v":""},{"$f":"IF('RWIS Sensor (Desc)'!H166=\"\",\"\",INDEX([1]RWIS_SENSOR_MODEL!$A$2:$A$100,MATCH(1,([1]RWIS_SENSOR_MODEL!$C$2:$C$100='RWIS Sensor (Desc)'!$G166)*([1]RWIS_SENSOR_MODEL!$D$2:$D$100='RWIS Sensor (Desc)'!$H166)*([1]RWIS_SENSOR_MODEL!$E$2:$E$100='RWIS Sensor (Code)'!$D166),0),0))","v":""},{"$f":"IF('RWIS Sensor (Desc)'!I166=\"\",\"\",'RWIS Sensor (Desc)'!I166)","v":""}]
[{"$f":"IF('RWIS Sensor (Desc)'!A167=\"\",\"\",'RWIS Sensor (Desc)'!A167)","v":""},{"$f":"IF('RWIS Sensor (Desc)'!C167=\"\",\"\",\"2008\")","v":""},{"$f":"IF('RWIS Sensor (Desc)'!C167=\"\",\"\",'RWIS Sensor (Desc)'!C167)","v":""},{"$f":"IF('RWIS Sensor (Desc)'!E167=\"\",\"\",INDEX([1]RWIS_SENSOR_TYPE!$A$2:$A$100,MATCH('RWIS Sensor (Desc)'!$E167,[1]!MASTER_RWIS_SENSOR_TYPE_DESC[#Data],0),0))","v":""},{"$f":"IF('RWIS Sensor (Desc)'!F167=\"\",\"\",'RWIS Sensor (Desc)'!F167)","v":""},{"$f":"IF('RWIS Sensor (Desc)'!G167=\"\",\"\",INDEX([1]RWIS_SENSOR_MODEL!$B$2:$B$100,MATCH(1,([1]RWIS_SENSOR_MODEL!$C$2:$C$100='RWIS Sensor (Desc)'!$G167)*([1]RWIS_SENSOR_MODEL!$E$2:$E$100='RWIS Sensor (Code)'!$D167),0),0))","v":""},{"$f":"IF('RWIS Sensor (Desc)'!H167=\"\",\"\",INDEX([1]RWIS_SENSOR_MODEL!$A$2:$A$100,MATCH(1,([1]RWIS_SENSOR_MODEL!$C$2:$C$100='RWIS Sensor (Desc)'!$G167)*([1]RWIS_SENSOR_MODEL!$D$2:$D$100='RWIS Sensor (Desc)'!$H167)*([1]RWIS_SENSOR_MODEL!$E$2:$E$100='RWIS Sensor (Code)'!$D167),0),0))","v":""},{"$f":"IF('RWIS Sensor (Desc)'!I167=\"\",\"\",'RWIS Sensor (Desc)'!I167)","v":""}]
[{"$f":"IF('RWIS Sensor (Desc)'!A168=\"\",\"\",'RWIS Sensor (Desc)'!A168)","v":""},{"$f":"IF('RWIS Sensor (Desc)'!C168=\"\",\"\",\"2008\")","v":""},{"$f":"IF('RWIS Sensor (Desc)'!C168=\"\",\"\",'RWIS Sensor (Desc)'!C168)","v":""},{"$f":"IF('RWIS Sensor (Desc)'!E168=\"\",\"\",INDEX([1]RWIS_SENSOR_TYPE!$A$2:$A$100,MATCH('RWIS Sensor (Desc)'!$E168,[1]!MASTER_RWIS_SENSOR_TYPE_DESC[#Data],0),0))","v":""},{"$f":"IF('RWIS Sensor (Desc)'!F168=\"\",\"\",'RWIS Sensor (Desc)'!F168)","v":""},{"$f":"IF('RWIS Sensor (Desc)'!G168=\"\",\"\",INDEX([1]RWIS_SENSOR_MODEL!$B$2:$B$100,MATCH(1,([1]RWIS_SENSOR_MODEL!$C$2:$C$100='RWIS Sensor (Desc)'!$G168)*([1]RWIS_SENSOR_MODEL!$E$2:$E$100='RWIS Sensor (Code)'!$D168),0),0))","v":""},{"$f":"IF('RWIS Sensor (Desc)'!H168=\"\",\"\",INDEX([1]RWIS_SENSOR_MODEL!$A$2:$A$100,MATCH(1,([1]RWIS_SENSOR_MODEL!$C$2:$C$100='RWIS Sensor (Desc)'!$G168)*([1]RWIS_SENSOR_MODEL!$D$2:$D$100='RWIS Sensor (Desc)'!$H168)*([1]RWIS_SENSOR_MODEL!$E$2:$E$100='RWIS Sensor (Code)'!$D168),0),0))","v":""},{"$f":"IF('RWIS Sensor (Desc)'!I168=\"\",\"\",'RWIS Sensor (Desc)'!I168)","v":""}]
[{"$f":"IF('RWIS Sensor (Desc)'!A169=\"\",\"\",'RWIS Sensor (Desc)'!A169)","v":""},{"$f":"IF('RWIS Sensor (Desc)'!C169=\"\",\"\",\"2008\")","v":""},{"$f":"IF('RWIS Sensor (Desc)'!C169=\"\",\"\",'RWIS Sensor (Desc)'!C169)","v":""},{"$f":"IF('RWIS Sensor (Desc)'!E169=\"\",\"\",INDEX([1]RWIS_SENSOR_TYPE!$A$2:$A$100,MATCH('RWIS Sensor (Desc)'!$E169,[1]!MASTER_RWIS_SENSOR_TYPE_DESC[#Data],0),0))","v":""},{"$f":"IF('RWIS Sensor (Desc)'!F169=\"\",\"\",'RWIS Sensor (Desc)'!F169)","v":""},{"$f":"IF('RWIS Sensor (Desc)'!G169=\"\",\"\",INDEX([1]RWIS_SENSOR_MODEL!$B$2:$B$100,MATCH(1,([1]RWIS_SENSOR_MODEL!$C$2:$C$100='RWIS Sensor (Desc)'!$G169)*([1]RWIS_SENSOR_MODEL!$E$2:$E$100='RWIS Sensor (Code)'!$D169),0),0))","v":""},{"$f":"IF('RWIS Sensor (Desc)'!H169=\"\",\"\",INDEX([1]RWIS_SENSOR_MODEL!$A$2:$A$100,MATCH(1,([1]RWIS_SENSOR_MODEL!$C$2:$C$100='RWIS Sensor (Desc)'!$G169)*([1]RWIS_SENSOR_MODEL!$D$2:$D$100='RWIS Sensor (Desc)'!$H169)*([1]RWIS_SENSOR_MODEL!$E$2:$E$100='RWIS Sensor (Code)'!$D169),0),0))","v":""},{"$f":"IF('RWIS Sensor (Desc)'!I169=\"\",\"\",'RWIS Sensor (Desc)'!I169)","v":""}]
[{"$f":"IF('RWIS Sensor (Desc)'!A170=\"\",\"\",'RWIS Sensor (Desc)'!A170)","v":""},{"$f":"IF('RWIS Sensor (Desc)'!C170=\"\",\"\",\"2008\")","v":""},{"$f":"IF('RWIS Sensor (Desc)'!C170=\"\",\"\",'RWIS Sensor (Desc)'!C170)","v":""},{"$f":"IF('RWIS Sensor (Desc)'!E170=\"\",\"\",INDEX([1]RWIS_SENSOR_TYPE!$A$2:$A$100,MATCH('RWIS Sensor (Desc)'!$E170,[1]!MASTER_RWIS_SENSOR_TYPE_DESC[#Data],0),0))","v":""},{"$f":"IF('RWIS Sensor (Desc)'!F170=\"\",\"\",'RWIS Sensor (Desc)'!F170)","v":""},{"$f":"IF('RWIS Sensor (Desc)'!G170=\"\",\"\",INDEX([1]RWIS_SENSOR_MODEL!$B$2:$B$100,MATCH(1,([1]RWIS_SENSOR_MODEL!$C$2:$C$100='RWIS Sensor (Desc)'!$G170)*([1]RWIS_SENSOR_MODEL!$E$2:$E$100='RWIS Sensor (Code)'!$D170),0),0))","v":""},{"$f":"IF('RWIS Sensor (Desc)'!H170=\"\",\"\",INDEX([1]RWIS_SENSOR_MODEL!$A$2:$A$100,MATCH(1,([1]RWIS_SENSOR_MODEL!$C$2:$C$100='RWIS Sensor (Desc)'!$G170)*([1]RWIS_SENSOR_MODEL!$D$2:$D$100='RWIS Sensor (Desc)'!$H170)*([1]RWIS_SENSOR_MODEL!$E$2:$E$100='RWIS Sensor (Code)'!$D170),0),0))","v":""},{"$f":"IF('RWIS Sensor (Desc)'!I170=\"\",\"\",'RWIS Sensor (Desc)'!I170)","v":""}]
[{"$f":"IF('RWIS Sensor (Desc)'!A171=\"\",\"\",'RWIS Sensor (Desc)'!A171)","v":""},{"$f":"IF('RWIS Sensor (Desc)'!C171=\"\",\"\",\"2008\")","v":""},{"$f":"IF('RWIS Sensor (Desc)'!C171=\"\",\"\",'RWIS Sensor (Desc)'!C171)","v":""},{"$f":"IF('RWIS Sensor (Desc)'!E171=\"\",\"\",INDEX([1]RWIS_SENSOR_TYPE!$A$2:$A$100,MATCH('RWIS Sensor (Desc)'!$E171,[1]!MASTER_RWIS_SENSOR_TYPE_DESC[#Data],0),0))","v":""},{"$f":"IF('RWIS Sensor (Desc)'!F171=\"\",\"\",'RWIS Sensor (Desc)'!F171)","v":""},{"$f":"IF('RWIS Sensor (Desc)'!G171=\"\",\"\",INDEX([1]RWIS_SENSOR_MODEL!$B$2:$B$100,MATCH(1,([1]RWIS_SENSOR_MODEL!$C$2:$C$100='RWIS Sensor (Desc)'!$G171)*([1]RWIS_SENSOR_MODEL!$E$2:$E$100='RWIS Sensor (Code)'!$D171),0),0))","v":""},{"$f":"IF('RWIS Sensor (Desc)'!H171=\"\",\"\",INDEX([1]RWIS_SENSOR_MODEL!$A$2:$A$100,MATCH(1,([1]RWIS_SENSOR_MODEL!$C$2:$C$100='RWIS Sensor (Desc)'!$G171)*([1]RWIS_SENSOR_MODEL!$D$2:$D$100='RWIS Sensor (Desc)'!$H171)*([1]RWIS_SENSOR_MODEL!$E$2:$E$100='RWIS Sensor (Code)'!$D171),0),0))","v":""},{"$f":"IF('RWIS Sensor (Desc)'!I171=\"\",\"\",'RWIS Sensor (Desc)'!I171)","v":""}]
[{"$f":"IF('RWIS Sensor (Desc)'!A172=\"\",\"\",'RWIS Sensor (Desc)'!A172)","v":""},{"$f":"IF('RWIS Sensor (Desc)'!C172=\"\",\"\",\"2008\")","v":""},{"$f":"IF('RWIS Sensor (Desc)'!C172=\"\",\"\",'RWIS Sensor (Desc)'!C172)","v":""},{"$f":"IF('RWIS Sensor (Desc)'!E172=\"\",\"\",INDEX([1]RWIS_SENSOR_TYPE!$A$2:$A$100,MATCH('RWIS Sensor (Desc)'!$E172,[1]!MASTER_RWIS_SENSOR_TYPE_DESC[#Data],0),0))","v":""},{"$f":"IF('RWIS Sensor (Desc)'!F172=\"\",\"\",'RWIS Sensor (Desc)'!F172)","v":""},{"$f":"IF('RWIS Sensor (Desc)'!G172=\"\",\"\",INDEX([1]RWIS_SENSOR_MODEL!$B$2:$B$100,MATCH(1,([1]RWIS_SENSOR_MODEL!$C$2:$C$100='RWIS Sensor (Desc)'!$G172)*([1]RWIS_SENSOR_MODEL!$E$2:$E$100='RWIS Sensor (Code)'!$D172),0),0))","v":""},{"$f":"IF('RWIS Sensor (Desc)'!H172=\"\",\"\",INDEX([1]RWIS_SENSOR_MODEL!$A$2:$A$100,MATCH(1,([1]RWIS_SENSOR_MODEL!$C$2:$C$100='RWIS Sensor (Desc)'!$G172)*([1]RWIS_SENSOR_MODEL!$D$2:$D$100='RWIS Sensor (Desc)'!$H172)*([1]RWIS_SENSOR_MODEL!$E$2:$E$100='RWIS Sensor (Code)'!$D172),0),0))","v":""},{"$f":"IF('RWIS Sensor (Desc)'!I172=\"\",\"\",'RWIS Sensor (Desc)'!I172)","v":""}]
[{"$f":"IF('RWIS Sensor (Desc)'!A173=\"\",\"\",'RWIS Sensor (Desc)'!A173)","v":""},{"$f":"IF('RWIS Sensor (Desc)'!C173=\"\",\"\",\"2008\")","v":""},{"$f":"IF('RWIS Sensor (Desc)'!C173=\"\",\"\",'RWIS Sensor (Desc)'!C173)","v":""},{"$f":"IF('RWIS Sensor (Desc)'!E173=\"\",\"\",INDEX([1]RWIS_SENSOR_TYPE!$A$2:$A$100,MATCH('RWIS Sensor (Desc)'!$E173,[1]!MASTER_RWIS_SENSOR_TYPE_DESC[#Data],0),0))","v":""},{"$f":"IF('RWIS Sensor (Desc)'!F173=\"\",\"\",'RWIS Sensor (Desc)'!F173)","v":""},{"$f":"IF('RWIS Sensor (Desc)'!G173=\"\",\"\",INDEX([1]RWIS_SENSOR_MODEL!$B$2:$B$100,MATCH(1,([1]RWIS_SENSOR_MODEL!$C$2:$C$100='RWIS Sensor (Desc)'!$G173)*([1]RWIS_SENSOR_MODEL!$E$2:$E$100='RWIS Sensor (Code)'!$D173),0),0))","v":""},{"$f":"IF('RWIS Sensor (Desc)'!H173=\"\",\"\",INDEX([1]RWIS_SENSOR_MODEL!$A$2:$A$100,MATCH(1,([1]RWIS_SENSOR_MODEL!$C$2:$C$100='RWIS Sensor (Desc)'!$G173)*([1]RWIS_SENSOR_MODEL!$D$2:$D$100='RWIS Sensor (Desc)'!$H173)*([1]RWIS_SENSOR_MODEL!$E$2:$E$100='RWIS Sensor (Code)'!$D173),0),0))","v":""},{"$f":"IF('RWIS Sensor (Desc)'!I173=\"\",\"\",'RWIS Sensor (Desc)'!I173)","v":""}]
[{"$f":"IF('RWIS Sensor (Desc)'!A174=\"\",\"\",'RWIS Sensor (Desc)'!A174)","v":""},{"$f":"IF('RWIS Sensor (Desc)'!C174=\"\",\"\",\"2008\")","v":""},{"$f":"IF('RWIS Sensor (Desc)'!C174=\"\",\"\",'RWIS Sensor (Desc)'!C174)","v":""},{"$f":"IF('RWIS Sensor (Desc)'!E174=\"\",\"\",INDEX([1]RWIS_SENSOR_TYPE!$A$2:$A$100,MATCH('RWIS Sensor (Desc)'!$E174,[1]!MASTER_RWIS_SENSOR_TYPE_DESC[#Data],0),0))","v":""},{"$f":"IF('RWIS Sensor (Desc)'!F174=\"\",\"\",'RWIS Sensor (Desc)'!F174)","v":""},{"$f":"IF('RWIS Sensor (Desc)'!G174=\"\",\"\",INDEX([1]RWIS_SENSOR_MODEL!$B$2:$B$100,MATCH(1,([1]RWIS_SENSOR_MODEL!$C$2:$C$100='RWIS Sensor (Desc)'!$G174)*([1]RWIS_SENSOR_MODEL!$E$2:$E$100='RWIS Sensor (Code)'!$D174),0),0))","v":""},{"$f":"IF('RWIS Sensor (Desc)'!H174=\"\",\"\",INDEX([1]RWIS_SENSOR_MODEL!$A$2:$A$100,MATCH(1,([1]RWIS_SENSOR_MODEL!$C$2:$C$100='RWIS Sensor (Desc)'!$G174)*([1]RWIS_SENSOR_MODEL!$D$2:$D$100='RWIS Sensor (Desc)'!$H174)*([1]RWIS_SENSOR_MODEL!$E$2:$E$100='RWIS Sensor (Code)'!$D174),0),0))","v":""},{"$f":"IF('RWIS Sensor (Desc)'!I174=\"\",\"\",'RWIS Sensor (Desc)'!I174)","v":""}]
[{"$f":"IF('RWIS Sensor (Desc)'!A175=\"\",\"\",'RWIS Sensor (Desc)'!A175)","v":""},{"$f":"IF('RWIS Sensor (Desc)'!C175=\"\",\"\",\"2008\")","v":""},{"$f":"IF('RWIS Sensor (Desc)'!C175=\"\",\"\",'RWIS Sensor (Desc)'!C175)","v":""},{"$f":"IF('RWIS Sensor (Desc)'!E175=\"\",\"\",INDEX([1]RWIS_SENSOR_TYPE!$A$2:$A$100,MATCH('RWIS Sensor (Desc)'!$E175,[1]!MASTER_RWIS_SENSOR_TYPE_DESC[#Data],0),0))","v":""},{"$f":"IF('RWIS Sensor (Desc)'!F175=\"\",\"\",'RWIS Sensor (Desc)'!F175)","v":""},{"$f":"IF('RWIS Sensor (Desc)'!G175=\"\",\"\",INDEX([1]RWIS_SENSOR_MODEL!$B$2:$B$100,MATCH(1,([1]RWIS_SENSOR_MODEL!$C$2:$C$100='RWIS Sensor (Desc)'!$G175)*([1]RWIS_SENSOR_MODEL!$E$2:$E$100='RWIS Sensor (Code)'!$D175),0),0))","v":""},{"$f":"IF('RWIS Sensor (Desc)'!H175=\"\",\"\",INDEX([1]RWIS_SENSOR_MODEL!$A$2:$A$100,MATCH(1,([1]RWIS_SENSOR_MODEL!$C$2:$C$100='RWIS Sensor (Desc)'!$G175)*([1]RWIS_SENSOR_MODEL!$D$2:$D$100='RWIS Sensor (Desc)'!$H175)*([1]RWIS_SENSOR_MODEL!$E$2:$E$100='RWIS Sensor (Code)'!$D175),0),0))","v":""},{"$f":"IF('RWIS Sensor (Desc)'!I175=\"\",\"\",'RWIS Sensor (Desc)'!I175)","v":""}]
[{"$f":"IF('RWIS Sensor (Desc)'!A176=\"\",\"\",'RWIS Sensor (Desc)'!A176)","v":""},{"$f":"IF('RWIS Sensor (Desc)'!C176=\"\",\"\",\"2008\")","v":""},{"$f":"IF('RWIS Sensor (Desc)'!C176=\"\",\"\",'RWIS Sensor (Desc)'!C176)","v":""},{"$f":"IF('RWIS Sensor (Desc)'!E176=\"\",\"\",INDEX([1]RWIS_SENSOR_TYPE!$A$2:$A$100,MATCH('RWIS Sensor (Desc)'!$E176,[1]!MASTER_RWIS_SENSOR_TYPE_DESC[#Data],0),0))","v":""},{"$f":"IF('RWIS Sensor (Desc)'!F176=\"\",\"\",'RWIS Sensor (Desc)'!F176)","v":""},{"$f":"IF('RWIS Sensor (Desc)'!G176=\"\",\"\",INDEX([1]RWIS_SENSOR_MODEL!$B$2:$B$100,MATCH(1,([1]RWIS_SENSOR_MODEL!$C$2:$C$100='RWIS Sensor (Desc)'!$G176)*([1]RWIS_SENSOR_MODEL!$E$2:$E$100='RWIS Sensor (Code)'!$D176),0),0))","v":""},{"$f":"IF('RWIS Sensor (Desc)'!H176=\"\",\"\",INDEX([1]RWIS_SENSOR_MODEL!$A$2:$A$100,MATCH(1,([1]RWIS_SENSOR_MODEL!$C$2:$C$100='RWIS Sensor (Desc)'!$G176)*([1]RWIS_SENSOR_MODEL!$D$2:$D$100='RWIS Sensor (Desc)'!$H176)*([1]RWIS_SENSOR_MODEL!$E$2:$E$100='RWIS Sensor (Code)'!$D176),0),0))","v":""},{"$f":"IF('RWIS Sensor (Desc)'!I176=\"\",\"\",'RWIS Sensor (Desc)'!I176)","v":""}]
[{"$f":"IF('RWIS Sensor (Desc)'!A177=\"\",\"\",'RWIS Sensor (Desc)'!A177)","v":""},{"$f":"IF('RWIS Sensor (Desc)'!C177=\"\",\"\",\"2008\")","v":""},{"$f":"IF('RWIS Sensor (Desc)'!C177=\"\",\"\",'RWIS Sensor (Desc)'!C177)","v":""},{"$f":"IF('RWIS Sensor (Desc)'!E177=\"\",\"\",INDEX([1]RWIS_SENSOR_TYPE!$A$2:$A$100,MATCH('RWIS Sensor (Desc)'!$E177,[1]!MASTER_RWIS_SENSOR_TYPE_DESC[#Data],0),0))","v":""},{"$f":"IF('RWIS Sensor (Desc)'!F177=\"\",\"\",'RWIS Sensor (Desc)'!F177)","v":""},{"$f":"IF('RWIS Sensor (Desc)'!G177=\"\",\"\",INDEX([1]RWIS_SENSOR_MODEL!$B$2:$B$100,MATCH(1,([1]RWIS_SENSOR_MODEL!$C$2:$C$100='RWIS Sensor (Desc)'!$G177)*([1]RWIS_SENSOR_MODEL!$E$2:$E$100='RWIS Sensor (Code)'!$D177),0),0))","v":""},{"$f":"IF('RWIS Sensor (Desc)'!H177=\"\",\"\",INDEX([1]RWIS_SENSOR_MODEL!$A$2:$A$100,MATCH(1,([1]RWIS_SENSOR_MODEL!$C$2:$C$100='RWIS Sensor (Desc)'!$G177)*([1]RWIS_SENSOR_MODEL!$D$2:$D$100='RWIS Sensor (Desc)'!$H177)*([1]RWIS_SENSOR_MODEL!$E$2:$E$100='RWIS Sensor (Code)'!$D177),0),0))","v":""},{"$f":"IF('RWIS Sensor (Desc)'!I177=\"\",\"\",'RWIS Sensor (Desc)'!I177)","v":""}]
[{"$f":"IF('RWIS Sensor (Desc)'!A178=\"\",\"\",'RWIS Sensor (Desc)'!A178)","v":""},{"$f":"IF('RWIS Sensor (Desc)'!C178=\"\",\"\",\"2008\")","v":""},{"$f":"IF('RWIS Sensor (Desc)'!C178=\"\",\"\",'RWIS Sensor (Desc)'!C178)","v":""},{"$f":"IF('RWIS Sensor (Desc)'!E178=\"\",\"\",INDEX([1]RWIS_SENSOR_TYPE!$A$2:$A$100,MATCH('RWIS Sensor (Desc)'!$E178,[1]!MASTER_RWIS_SENSOR_TYPE_DESC[#Data],0),0))","v":""},{"$f":"IF('RWIS Sensor (Desc)'!F178=\"\",\"\",'RWIS Sensor (Desc)'!F178)","v":""},{"$f":"IF('RWIS Sensor (Desc)'!G178=\"\",\"\",INDEX([1]RWIS_SENSOR_MODEL!$B$2:$B$100,MATCH(1,([1]RWIS_SENSOR_MODEL!$C$2:$C$100='RWIS Sensor (Desc)'!$G178)*([1]RWIS_SENSOR_MODEL!$E$2:$E$100='RWIS Sensor (Code)'!$D178),0),0))","v":""},{"$f":"IF('RWIS Sensor (Desc)'!H178=\"\",\"\",INDEX([1]RWIS_SENSOR_MODEL!$A$2:$A$100,MATCH(1,([1]RWIS_SENSOR_MODEL!$C$2:$C$100='RWIS Sensor (Desc)'!$G178)*([1]RWIS_SENSOR_MODEL!$D$2:$D$100='RWIS Sensor (Desc)'!$H178)*([1]RWIS_SENSOR_MODEL!$E$2:$E$100='RWIS Sensor (Code)'!$D178),0),0))","v":""},{"$f":"IF('RWIS Sensor (Desc)'!I178=\"\",\"\",'RWIS Sensor (Desc)'!I178)","v":""}]
[{"$f":"IF('RWIS Sensor (Desc)'!A179=\"\",\"\",'RWIS Sensor (Desc)'!A179)","v":""},{"$f":"IF('RWIS Sensor (Desc)'!C179=\"\",\"\",\"2008\")","v":""},{"$f":"IF('RWIS Sensor (Desc)'!C179=\"\",\"\",'RWIS Sensor (Desc)'!C179)","v":""},{"$f":"IF('RWIS Sensor (Desc)'!E179=\"\",\"\",INDEX([1]RWIS_SENSOR_TYPE!$A$2:$A$100,MATCH('RWIS Sensor (Desc)'!$E179,[1]!MASTER_RWIS_SENSOR_TYPE_DESC[#Data],0),0))","v":""},{"$f":"IF('RWIS Sensor (Desc)'!F179=\"\",\"\",'RWIS Sensor (Desc)'!F179)","v":""},{"$f":"IF('RWIS Sensor (Desc)'!G179=\"\",\"\",INDEX([1]RWIS_SENSOR_MODEL!$B$2:$B$100,MATCH(1,([1]RWIS_SENSOR_MODEL!$C$2:$C$100='RWIS Sensor (Desc)'!$G179)*([1]RWIS_SENSOR_MODEL!$E$2:$E$100='RWIS Sensor (Code)'!$D179),0),0))","v":""},{"$f":"IF('RWIS Sensor (Desc)'!H179=\"\",\"\",INDEX([1]RWIS_SENSOR_MODEL!$A$2:$A$100,MATCH(1,([1]RWIS_SENSOR_MODEL!$C$2:$C$100='RWIS Sensor (Desc)'!$G179)*([1]RWIS_SENSOR_MODEL!$D$2:$D$100='RWIS Sensor (Desc)'!$H179)*([1]RWIS_SENSOR_MODEL!$E$2:$E$100='RWIS Sensor (Code)'!$D179),0),0))","v":""},{"$f":"IF('RWIS Sensor (Desc)'!I179=\"\",\"\",'RWIS Sensor (Desc)'!I179)","v":""}]
[{"$f":"IF('RWIS Sensor (Desc)'!A180=\"\",\"\",'RWIS Sensor (Desc)'!A180)","v":""},{"$f":"IF('RWIS Sensor (Desc)'!C180=\"\",\"\",\"2008\")","v":""},{"$f":"IF('RWIS Sensor (Desc)'!C180=\"\",\"\",'RWIS Sensor (Desc)'!C180)","v":""},{"$f":"IF('RWIS Sensor (Desc)'!E180=\"\",\"\",INDEX([1]RWIS_SENSOR_TYPE!$A$2:$A$100,MATCH('RWIS Sensor (Desc)'!$E180,[1]!MASTER_RWIS_SENSOR_TYPE_DESC[#Data],0),0))","v":""},{"$f":"IF('RWIS Sensor (Desc)'!F180=\"\",\"\",'RWIS Sensor (Desc)'!F180)","v":""},{"$f":"IF('RWIS Sensor (Desc)'!G180=\"\",\"\",INDEX([1]RWIS_SENSOR_MODEL!$B$2:$B$100,MATCH(1,([1]RWIS_SENSOR_MODEL!$C$2:$C$100='RWIS Sensor (Desc)'!$G180)*([1]RWIS_SENSOR_MODEL!$E$2:$E$100='RWIS Sensor (Code)'!$D180),0),0))","v":""},{"$f":"IF('RWIS Sensor (Desc)'!H180=\"\",\"\",INDEX([1]RWIS_SENSOR_MODEL!$A$2:$A$100,MATCH(1,([1]RWIS_SENSOR_MODEL!$C$2:$C$100='RWIS Sensor (Desc)'!$G180)*([1]RWIS_SENSOR_MODEL!$D$2:$D$100='RWIS Sensor (Desc)'!$H180)*([1]RWIS_SENSOR_MODEL!$E$2:$E$100='RWIS Sensor (Code)'!$D180),0),0))","v":""},{"$f":"IF('RWIS Sensor (Desc)'!I180=\"\",\"\",'RWIS Sensor (Desc)'!I180)","v":""}]
[{"$f":"IF('RWIS Sensor (Desc)'!A181=\"\",\"\",'RWIS Sensor (Desc)'!A181)","v":""},{"$f":"IF('RWIS Sensor (Desc)'!C181=\"\",\"\",\"2008\")","v":""},{"$f":"IF('RWIS Sensor (Desc)'!C181=\"\",\"\",'RWIS Sensor (Desc)'!C181)","v":""},{"$f":"IF('RWIS Sensor (Desc)'!E181=\"\",\"\",INDEX([1]RWIS_SENSOR_TYPE!$A$2:$A$100,MATCH('RWIS Sensor (Desc)'!$E181,[1]!MASTER_RWIS_SENSOR_TYPE_DESC[#Data],0),0))","v":""},{"$f":"IF('RWIS Sensor (Desc)'!F181=\"\",\"\",'RWIS Sensor (Desc)'!F181)","v":""},{"$f":"IF('RWIS Sensor (Desc)'!G181=\"\",\"\",INDEX([1]RWIS_SENSOR_MODEL!$B$2:$B$100,MATCH(1,([1]RWIS_SENSOR_MODEL!$C$2:$C$100='RWIS Sensor (Desc)'!$G181)*([1]RWIS_SENSOR_MODEL!$E$2:$E$100='RWIS Sensor (Code)'!$D181),0),0))","v":""},{"$f":"IF('RWIS Sensor (Desc)'!H181=\"\",\"\",INDEX([1]RWIS_SENSOR_MODEL!$A$2:$A$100,MATCH(1,([1]RWIS_SENSOR_MODEL!$C$2:$C$100='RWIS Sensor (Desc)'!$G181)*([1]RWIS_SENSOR_MODEL!$D$2:$D$100='RWIS Sensor (Desc)'!$H181)*([1]RWIS_SENSOR_MODEL!$E$2:$E$100='RWIS Sensor (Code)'!$D181),0),0))","v":""},{"$f":"IF('RWIS Sensor (Desc)'!I181=\"\",\"\",'RWIS Sensor (Desc)'!I181)","v":""}]
[{"$f":"IF('RWIS Sensor (Desc)'!A182=\"\",\"\",'RWIS Sensor (Desc)'!A182)","v":""},{"$f":"IF('RWIS Sensor (Desc)'!C182=\"\",\"\",\"2008\")","v":""},{"$f":"IF('RWIS Sensor (Desc)'!C182=\"\",\"\",'RWIS Sensor (Desc)'!C182)","v":""},{"$f":"IF('RWIS Sensor (Desc)'!E182=\"\",\"\",INDEX([1]RWIS_SENSOR_TYPE!$A$2:$A$100,MATCH('RWIS Sensor (Desc)'!$E182,[1]!MASTER_RWIS_SENSOR_TYPE_DESC[#Data],0),0))","v":""},{"$f":"IF('RWIS Sensor (Desc)'!F182=\"\",\"\",'RWIS Sensor (Desc)'!F182)","v":""},{"$f":"IF('RWIS Sensor (Desc)'!G182=\"\",\"\",INDEX([1]RWIS_SENSOR_MODEL!$B$2:$B$100,MATCH(1,([1]RWIS_SENSOR_MODEL!$C$2:$C$100='RWIS Sensor (Desc)'!$G182)*([1]RWIS_SENSOR_MODEL!$E$2:$E$100='RWIS Sensor (Code)'!$D182),0),0))","v":""},{"$f":"IF('RWIS Sensor (Desc)'!H182=\"\",\"\",INDEX([1]RWIS_SENSOR_MODEL!$A$2:$A$100,MATCH(1,([1]RWIS_SENSOR_MODEL!$C$2:$C$100='RWIS Sensor (Desc)'!$G182)*([1]RWIS_SENSOR_MODEL!$D$2:$D$100='RWIS Sensor (Desc)'!$H182)*([1]RWIS_SENSOR_MODEL!$E$2:$E$100='RWIS Sensor (Code)'!$D182),0),0))","v":""},{"$f":"IF('RWIS Sensor (Desc)'!I182=\"\",\"\",'RWIS Sensor (Desc)'!I182)","v":""}]
[{"$f":"IF('RWIS Sensor (Desc)'!A183=\"\",\"\",'RWIS Sensor (Desc)'!A183)","v":""},{"$f":"IF('RWIS Sensor (Desc)'!C183=\"\",\"\",\"2008\")","v":""},{"$f":"IF('RWIS Sensor (Desc)'!C183=\"\",\"\",'RWIS Sensor (Desc)'!C183)","v":""},{"$f":"IF('RWIS Sensor (Desc)'!E183=\"\",\"\",INDEX([1]RWIS_SENSOR_TYPE!$A$2:$A$100,MATCH('RWIS Sensor (Desc)'!$E183,[1]!MASTER_RWIS_SENSOR_TYPE_DESC[#Data],0),0))","v":""},{"$f":"IF('RWIS Sensor (Desc)'!F183=\"\",\"\",'RWIS Sensor (Desc)'!F183)","v":""},{"$f":"IF('RWIS Sensor (Desc)'!G183=\"\",\"\",INDEX([1]RWIS_SENSOR_MODEL!$B$2:$B$100,MATCH(1,([1]RWIS_SENSOR_MODEL!$C$2:$C$100='RWIS Sensor (Desc)'!$G183)*([1]RWIS_SENSOR_MODEL!$E$2:$E$100='RWIS Sensor (Code)'!$D183),0),0))","v":""},{"$f":"IF('RWIS Sensor (Desc)'!H183=\"\",\"\",INDEX([1]RWIS_SENSOR_MODEL!$A$2:$A$100,MATCH(1,([1]RWIS_SENSOR_MODEL!$C$2:$C$100='RWIS Sensor (Desc)'!$G183)*([1]RWIS_SENSOR_MODEL!$D$2:$D$100='RWIS Sensor (Desc)'!$H183)*([1]RWIS_SENSOR_MODEL!$E$2:$E$100='RWIS Sensor (Code)'!$D183),0),0))","v":""},{"$f":"IF('RWIS Sensor (Desc)'!I183=\"\",\"\",'RWIS Sensor (Desc)'!I183)","v":""}]
[{"$f":"IF('RWIS Sensor (Desc)'!A184=\"\",\"\",'RWIS Sensor (Desc)'!A184)","v":""},{"$f":"IF('RWIS Sensor (Desc)'!C184=\"\",\"\",\"2008\")","v":""},{"$f":"IF('RWIS Sensor (Desc)'!C184=\"\",\"\",'RWIS Sensor (Desc)'!C184)","v":""},{"$f":"IF('RWIS Sensor (Desc)'!E184=\"\",\"\",INDEX([1]RWIS_SENSOR_TYPE!$A$2:$A$100,MATCH('RWIS Sensor (Desc)'!$E184,[1]!MASTER_RWIS_SENSOR_TYPE_DESC[#Data],0),0))","v":""},{"$f":"IF('RWIS Sensor (Desc)'!F184=\"\",\"\",'RWIS Sensor (Desc)'!F184)","v":""},{"$f":"IF('RWIS Sensor (Desc)'!G184=\"\",\"\",INDEX([1]RWIS_SENSOR_MODEL!$B$2:$B$100,MATCH(1,([1]RWIS_SENSOR_MODEL!$C$2:$C$100='RWIS Sensor (Desc)'!$G184)*([1]RWIS_SENSOR_MODEL!$E$2:$E$100='RWIS Sensor (Code)'!$D184),0),0))","v":""},{"$f":"IF('RWIS Sensor (Desc)'!H184=\"\",\"\",INDEX([1]RWIS_SENSOR_MODEL!$A$2:$A$100,MATCH(1,([1]RWIS_SENSOR_MODEL!$C$2:$C$100='RWIS Sensor (Desc)'!$G184)*([1]RWIS_SENSOR_MODEL!$D$2:$D$100='RWIS Sensor (Desc)'!$H184)*([1]RWIS_SENSOR_MODEL!$E$2:$E$100='RWIS Sensor (Code)'!$D184),0),0))","v":""},{"$f":"IF('RWIS Sensor (Desc)'!I184=\"\",\"\",'RWIS Sensor (Desc)'!I184)","v":""}]
[{"$f":"IF('RWIS Sensor (Desc)'!A185=\"\",\"\",'RWIS Sensor (Desc)'!A185)","v":""},{"$f":"IF('RWIS Sensor (Desc)'!C185=\"\",\"\",\"2008\")","v":""},{"$f":"IF('RWIS Sensor (Desc)'!C185=\"\",\"\",'RWIS Sensor (Desc)'!C185)","v":""},{"$f":"IF('RWIS Sensor (Desc)'!E185=\"\",\"\",INDEX([1]RWIS_SENSOR_TYPE!$A$2:$A$100,MATCH('RWIS Sensor (Desc)'!$E185,[1]!MASTER_RWIS_SENSOR_TYPE_DESC[#Data],0),0))","v":""},{"$f":"IF('RWIS Sensor (Desc)'!F185=\"\",\"\",'RWIS Sensor (Desc)'!F185)","v":""},{"$f":"IF('RWIS Sensor (Desc)'!G185=\"\",\"\",INDEX([1]RWIS_SENSOR_MODEL!$B$2:$B$100,MATCH(1,([1]RWIS_SENSOR_MODEL!$C$2:$C$100='RWIS Sensor (Desc)'!$G185)*([1]RWIS_SENSOR_MODEL!$E$2:$E$100='RWIS Sensor (Code)'!$D185),0),0))","v":""},{"$f":"IF('RWIS Sensor (Desc)'!H185=\"\",\"\",INDEX([1]RWIS_SENSOR_MODEL!$A$2:$A$100,MATCH(1,([1]RWIS_SENSOR_MODEL!$C$2:$C$100='RWIS Sensor (Desc)'!$G185)*([1]RWIS_SENSOR_MODEL!$D$2:$D$100='RWIS Sensor (Desc)'!$H185)*([1]RWIS_SENSOR_MODEL!$E$2:$E$100='RWIS Sensor (Code)'!$D185),0),0))","v":""},{"$f":"IF('RWIS Sensor (Desc)'!I185=\"\",\"\",'RWIS Sensor (Desc)'!I185)","v":""}]
[{"$f":"IF('RWIS Sensor (Desc)'!A186=\"\",\"\",'RWIS Sensor (Desc)'!A186)","v":""},{"$f":"IF('RWIS Sensor (Desc)'!C186=\"\",\"\",\"2008\")","v":""},{"$f":"IF('RWIS Sensor (Desc)'!C186=\"\",\"\",'RWIS Sensor (Desc)'!C186)","v":""},{"$f":"IF('RWIS Sensor (Desc)'!E186=\"\",\"\",INDEX([1]RWIS_SENSOR_TYPE!$A$2:$A$100,MATCH('RWIS Sensor (Desc)'!$E186,[1]!MASTER_RWIS_SENSOR_TYPE_DESC[#Data],0),0))","v":""},{"$f":"IF('RWIS Sensor (Desc)'!F186=\"\",\"\",'RWIS Sensor (Desc)'!F186)","v":""},{"$f":"IF('RWIS Sensor (Desc)'!G186=\"\",\"\",INDEX([1]RWIS_SENSOR_MODEL!$B$2:$B$100,MATCH(1,([1]RWIS_SENSOR_MODEL!$C$2:$C$100='RWIS Sensor (Desc)'!$G186)*([1]RWIS_SENSOR_MODEL!$E$2:$E$100='RWIS Sensor (Code)'!$D186),0),0))","v":""},{"$f":"IF('RWIS Sensor (Desc)'!H186=\"\",\"\",INDEX([1]RWIS_SENSOR_MODEL!$A$2:$A$100,MATCH(1,([1]RWIS_SENSOR_MODEL!$C$2:$C$100='RWIS Sensor (Desc)'!$G186)*([1]RWIS_SENSOR_MODEL!$D$2:$D$100='RWIS Sensor (Desc)'!$H186)*([1]RWIS_SENSOR_MODEL!$E$2:$E$100='RWIS Sensor (Code)'!$D186),0),0))","v":""},{"$f":"IF('RWIS Sensor (Desc)'!I186=\"\",\"\",'RWIS Sensor (Desc)'!I186)","v":""}]
[{"$f":"IF('RWIS Sensor (Desc)'!A187=\"\",\"\",'RWIS Sensor (Desc)'!A187)","v":""},{"$f":"IF('RWIS Sensor (Desc)'!C187=\"\",\"\",\"2008\")","v":""},{"$f":"IF('RWIS Sensor (Desc)'!C187=\"\",\"\",'RWIS Sensor (Desc)'!C187)","v":""},{"$f":"IF('RWIS Sensor (Desc)'!E187=\"\",\"\",INDEX([1]RWIS_SENSOR_TYPE!$A$2:$A$100,MATCH('RWIS Sensor (Desc)'!$E187,[1]!MASTER_RWIS_SENSOR_TYPE_DESC[#Data],0),0))","v":""},{"$f":"IF('RWIS Sensor (Desc)'!F187=\"\",\"\",'RWIS Sensor (Desc)'!F187)","v":""},{"$f":"IF('RWIS Sensor (Desc)'!G187=\"\",\"\",INDEX([1]RWIS_SENSOR_MODEL!$B$2:$B$100,MATCH(1,([1]RWIS_SENSOR_MODEL!$C$2:$C$100='RWIS Sensor (Desc)'!$G187)*([1]RWIS_SENSOR_MODEL!$E$2:$E$100='RWIS Sensor (Code)'!$D187),0),0))","v":""},{"$f":"IF('RWIS Sensor (Desc)'!H187=\"\",\"\",INDEX([1]RWIS_SENSOR_MODEL!$A$2:$A$100,MATCH(1,([1]RWIS_SENSOR_MODEL!$C$2:$C$100='RWIS Sensor (Desc)'!$G187)*([1]RWIS_SENSOR_MODEL!$D$2:$D$100='RWIS Sensor (Desc)'!$H187)*([1]RWIS_SENSOR_MODEL!$E$2:$E$100='RWIS Sensor (Code)'!$D187),0),0))","v":""},{"$f":"IF('RWIS Sensor (Desc)'!I187=\"\",\"\",'RWIS Sensor (Desc)'!I187)","v":""}]
[{"$f":"IF('RWIS Sensor (Desc)'!A188=\"\",\"\",'RWIS Sensor (Desc)'!A188)","v":""},{"$f":"IF('RWIS Sensor (Desc)'!C188=\"\",\"\",\"2008\")","v":""},{"$f":"IF('RWIS Sensor (Desc)'!C188=\"\",\"\",'RWIS Sensor (Desc)'!C188)","v":""},{"$f":"IF('RWIS Sensor (Desc)'!E188=\"\",\"\",INDEX([1]RWIS_SENSOR_TYPE!$A$2:$A$100,MATCH('RWIS Sensor (Desc)'!$E188,[1]!MASTER_RWIS_SENSOR_TYPE_DESC[#Data],0),0))","v":""},{"$f":"IF('RWIS Sensor (Desc)'!F188=\"\",\"\",'RWIS Sensor (Desc)'!F188)","v":""},{"$f":"IF('RWIS Sensor (Desc)'!G188=\"\",\"\",INDEX([1]RWIS_SENSOR_MODEL!$B$2:$B$100,MATCH(1,([1]RWIS_SENSOR_MODEL!$C$2:$C$100='RWIS Sensor (Desc)'!$G188)*([1]RWIS_SENSOR_MODEL!$E$2:$E$100='RWIS Sensor (Code)'!$D188),0),0))","v":""},{"$f":"IF('RWIS Sensor (Desc)'!H188=\"\",\"\",INDEX([1]RWIS_SENSOR_MODEL!$A$2:$A$100,MATCH(1,([1]RWIS_SENSOR_MODEL!$C$2:$C$100='RWIS Sensor (Desc)'!$G188)*([1]RWIS_SENSOR_MODEL!$D$2:$D$100='RWIS Sensor (Desc)'!$H188)*([1]RWIS_SENSOR_MODEL!$E$2:$E$100='RWIS Sensor (Code)'!$D188),0),0))","v":""},{"$f":"IF('RWIS Sensor (Desc)'!I188=\"\",\"\",'RWIS Sensor (Desc)'!I188)","v":""}]
[{"$f":"IF('RWIS Sensor (Desc)'!A189=\"\",\"\",'RWIS Sensor (Desc)'!A189)","v":""},{"$f":"IF('RWIS Sensor (Desc)'!C189=\"\",\"\",\"2008\")","v":""},{"$f":"IF('RWIS Sensor (Desc)'!C189=\"\",\"\",'RWIS Sensor (Desc)'!C189)","v":""},{"$f":"IF('RWIS Sensor (Desc)'!E189=\"\",\"\",INDEX([1]RWIS_SENSOR_TYPE!$A$2:$A$100,MATCH('RWIS Sensor (Desc)'!$E189,[1]!MASTER_RWIS_SENSOR_TYPE_DESC[#Data],0),0))","v":""},{"$f":"IF('RWIS Sensor (Desc)'!F189=\"\",\"\",'RWIS Sensor (Desc)'!F189)","v":""},{"$f":"IF('RWIS Sensor (Desc)'!G189=\"\",\"\",INDEX([1]RWIS_SENSOR_MODEL!$B$2:$B$100,MATCH(1,([1]RWIS_SENSOR_MODEL!$C$2:$C$100='RWIS Sensor (Desc)'!$G189)*([1]RWIS_SENSOR_MODEL!$E$2:$E$100='RWIS Sensor (Code)'!$D189),0),0))","v":""},{"$f":"IF('RWIS Sensor (Desc)'!H189=\"\",\"\",INDEX([1]RWIS_SENSOR_MODEL!$A$2:$A$100,MATCH(1,([1]RWIS_SENSOR_MODEL!$C$2:$C$100='RWIS Sensor (Desc)'!$G189)*([1]RWIS_SENSOR_MODEL!$D$2:$D$100='RWIS Sensor (Desc)'!$H189)*([1]RWIS_SENSOR_MODEL!$E$2:$E$100='RWIS Sensor (Code)'!$D189),0),0))","v":""},{"$f":"IF('RWIS Sensor (Desc)'!I189=\"\",\"\",'RWIS Sensor (Desc)'!I189)","v":""}]
[{"$f":"IF('RWIS Sensor (Desc)'!A190=\"\",\"\",'RWIS Sensor (Desc)'!A190)","v":""},{"$f":"IF('RWIS Sensor (Desc)'!C190=\"\",\"\",\"2008\")","v":""},{"$f":"IF('RWIS Sensor (Desc)'!C190=\"\",\"\",'RWIS Sensor (Desc)'!C190)","v":""},{"$f":"IF('RWIS Sensor (Desc)'!E190=\"\",\"\",INDEX([1]RWIS_SENSOR_TYPE!$A$2:$A$100,MATCH('RWIS Sensor (Desc)'!$E190,[1]!MASTER_RWIS_SENSOR_TYPE_DESC[#Data],0),0))","v":""},{"$f":"IF('RWIS Sensor (Desc)'!F190=\"\",\"\",'RWIS Sensor (Desc)'!F190)","v":""},{"$f":"IF('RWIS Sensor (Desc)'!G190=\"\",\"\",INDEX([1]RWIS_SENSOR_MODEL!$B$2:$B$100,MATCH(1,([1]RWIS_SENSOR_MODEL!$C$2:$C$100='RWIS Sensor (Desc)'!$G190)*([1]RWIS_SENSOR_MODEL!$E$2:$E$100='RWIS Sensor (Code)'!$D190),0),0))","v":""},{"$f":"IF('RWIS Sensor (Desc)'!H190=\"\",\"\",INDEX([1]RWIS_SENSOR_MODEL!$A$2:$A$100,MATCH(1,([1]RWIS_SENSOR_MODEL!$C$2:$C$100='RWIS Sensor (Desc)'!$G190)*([1]RWIS_SENSOR_MODEL!$D$2:$D$100='RWIS Sensor (Desc)'!$H190)*([1]RWIS_SENSOR_MODEL!$E$2:$E$100='RWIS Sensor (Code)'!$D190),0),0))","v":""},{"$f":"IF('RWIS Sensor (Desc)'!I190=\"\",\"\",'RWIS Sensor (Desc)'!I190)","v":""}]
[{"$f":"IF('RWIS Sensor (Desc)'!A191=\"\",\"\",'RWIS Sensor (Desc)'!A191)","v":""},{"$f":"IF('RWIS Sensor (Desc)'!C191=\"\",\"\",\"2008\")","v":""},{"$f":"IF('RWIS Sensor (Desc)'!C191=\"\",\"\",'RWIS Sensor (Desc)'!C191)","v":""},{"$f":"IF('RWIS Sensor (Desc)'!E191=\"\",\"\",INDEX([1]RWIS_SENSOR_TYPE!$A$2:$A$100,MATCH('RWIS Sensor (Desc)'!$E191,[1]!MASTER_RWIS_SENSOR_TYPE_DESC[#Data],0),0))","v":""},{"$f":"IF('RWIS Sensor (Desc)'!F191=\"\",\"\",'RWIS Sensor (Desc)'!F191)","v":""},{"$f":"IF('RWIS Sensor (Desc)'!G191=\"\",\"\",INDEX([1]RWIS_SENSOR_MODEL!$B$2:$B$100,MATCH(1,([1]RWIS_SENSOR_MODEL!$C$2:$C$100='RWIS Sensor (Desc)'!$G191)*([1]RWIS_SENSOR_MODEL!$E$2:$E$100='RWIS Sensor (Code)'!$D191),0),0))","v":""},{"$f":"IF('RWIS Sensor (Desc)'!H191=\"\",\"\",INDEX([1]RWIS_SENSOR_MODEL!$A$2:$A$100,MATCH(1,([1]RWIS_SENSOR_MODEL!$C$2:$C$100='RWIS Sensor (Desc)'!$G191)*([1]RWIS_SENSOR_MODEL!$D$2:$D$100='RWIS Sensor (Desc)'!$H191)*([1]RWIS_SENSOR_MODEL!$E$2:$E$100='RWIS Sensor (Code)'!$D191),0),0))","v":""},{"$f":"IF('RWIS Sensor (Desc)'!I191=\"\",\"\",'RWIS Sensor (Desc)'!I191)","v":""}]
[{"$f":"IF('RWIS Sensor (Desc)'!A192=\"\",\"\",'RWIS Sensor (Desc)'!A192)","v":""},{"$f":"IF('RWIS Sensor (Desc)'!C192=\"\",\"\",\"2008\")","v":""},{"$f":"IF('RWIS Sensor (Desc)'!C192=\"\",\"\",'RWIS Sensor (Desc)'!C192)","v":""},{"$f":"IF('RWIS Sensor (Desc)'!E192=\"\",\"\",INDEX([1]RWIS_SENSOR_TYPE!$A$2:$A$100,MATCH('RWIS Sensor (Desc)'!$E192,[1]!MASTER_RWIS_SENSOR_TYPE_DESC[#Data],0),0))","v":""},{"$f":"IF('RWIS Sensor (Desc)'!F192=\"\",\"\",'RWIS Sensor (Desc)'!F192)","v":""},{"$f":"IF('RWIS Sensor (Desc)'!G192=\"\",\"\",INDEX([1]RWIS_SENSOR_MODEL!$B$2:$B$100,MATCH(1,([1]RWIS_SENSOR_MODEL!$C$2:$C$100='RWIS Sensor (Desc)'!$G192)*([1]RWIS_SENSOR_MODEL!$E$2:$E$100='RWIS Sensor (Code)'!$D192),0),0))","v":""},{"$f":"IF('RWIS Sensor (Desc)'!H192=\"\",\"\",INDEX([1]RWIS_SENSOR_MODEL!$A$2:$A$100,MATCH(1,([1]RWIS_SENSOR_MODEL!$C$2:$C$100='RWIS Sensor (Desc)'!$G192)*([1]RWIS_SENSOR_MODEL!$D$2:$D$100='RWIS Sensor (Desc)'!$H192)*([1]RWIS_SENSOR_MODEL!$E$2:$E$100='RWIS Sensor (Code)'!$D192),0),0))","v":""},{"$f":"IF('RWIS Sensor (Desc)'!I192=\"\",\"\",'RWIS Sensor (Desc)'!I192)","v":""}]
[{"$f":"IF('RWIS Sensor (Desc)'!A193=\"\",\"\",'RWIS Sensor (Desc)'!A193)","v":""},{"$f":"IF('RWIS Sensor (Desc)'!C193=\"\",\"\",\"2008\")","v":""},{"$f":"IF('RWIS Sensor (Desc)'!C193=\"\",\"\",'RWIS Sensor (Desc)'!C193)","v":""},{"$f":"IF('RWIS Sensor (Desc)'!E193=\"\",\"\",INDEX([1]RWIS_SENSOR_TYPE!$A$2:$A$100,MATCH('RWIS Sensor (Desc)'!$E193,[1]!MASTER_RWIS_SENSOR_TYPE_DESC[#Data],0),0))","v":""},{"$f":"IF('RWIS Sensor (Desc)'!F193=\"\",\"\",'RWIS Sensor (Desc)'!F193)","v":""},{"$f":"IF('RWIS Sensor (Desc)'!G193=\"\",\"\",INDEX([1]RWIS_SENSOR_MODEL!$B$2:$B$100,MATCH(1,([1]RWIS_SENSOR_MODEL!$C$2:$C$100='RWIS Sensor (Desc)'!$G193)*([1]RWIS_SENSOR_MODEL!$E$2:$E$100='RWIS Sensor (Code)'!$D193),0),0))","v":""},{"$f":"IF('RWIS Sensor (Desc)'!H193=\"\",\"\",INDEX([1]RWIS_SENSOR_MODEL!$A$2:$A$100,MATCH(1,([1]RWIS_SENSOR_MODEL!$C$2:$C$100='RWIS Sensor (Desc)'!$G193)*([1]RWIS_SENSOR_MODEL!$D$2:$D$100='RWIS Sensor (Desc)'!$H193)*([1]RWIS_SENSOR_MODEL!$E$2:$E$100='RWIS Sensor (Code)'!$D193),0),0))","v":""},{"$f":"IF('RWIS Sensor (Desc)'!I193=\"\",\"\",'RWIS Sensor (Desc)'!I193)","v":""}]
[{"$f":"IF('RWIS Sensor (Desc)'!A194=\"\",\"\",'RWIS Sensor (Desc)'!A194)","v":""},{"$f":"IF('RWIS Sensor (Desc)'!C194=\"\",\"\",\"2008\")","v":""},{"$f":"IF('RWIS Sensor (Desc)'!C194=\"\",\"\",'RWIS Sensor (Desc)'!C194)","v":""},{"$f":"IF('RWIS Sensor (Desc)'!E194=\"\",\"\",INDEX([1]RWIS_SENSOR_TYPE!$A$2:$A$100,MATCH('RWIS Sensor (Desc)'!$E194,[1]!MASTER_RWIS_SENSOR_TYPE_DESC[#Data],0),0))","v":""},{"$f":"IF('RWIS Sensor (Desc)'!F194=\"\",\"\",'RWIS Sensor (Desc)'!F194)","v":""},{"$f":"IF('RWIS Sensor (Desc)'!G194=\"\",\"\",INDEX([1]RWIS_SENSOR_MODEL!$B$2:$B$100,MATCH(1,([1]RWIS_SENSOR_MODEL!$C$2:$C$100='RWIS Sensor (Desc)'!$G194)*([1]RWIS_SENSOR_MODEL!$E$2:$E$100='RWIS Sensor (Code)'!$D194),0),0))","v":""},{"$f":"IF('RWIS Sensor (Desc)'!H194=\"\",\"\",INDEX([1]RWIS_SENSOR_MODEL!$A$2:$A$100,MATCH(1,([1]RWIS_SENSOR_MODEL!$C$2:$C$100='RWIS Sensor (Desc)'!$G194)*([1]RWIS_SENSOR_MODEL!$D$2:$D$100='RWIS Sensor (Desc)'!$H194)*([1]RWIS_SENSOR_MODEL!$E$2:$E$100='RWIS Sensor (Code)'!$D194),0),0))","v":""},{"$f":"IF('RWIS Sensor (Desc)'!I194=\"\",\"\",'RWIS Sensor (Desc)'!I194)","v":""}]
[{"$f":"IF('RWIS Sensor (Desc)'!A195=\"\",\"\",'RWIS Sensor (Desc)'!A195)","v":""},{"$f":"IF('RWIS Sensor (Desc)'!C195=\"\",\"\",\"2008\")","v":""},{"$f":"IF('RWIS Sensor (Desc)'!C195=\"\",\"\",'RWIS Sensor (Desc)'!C195)","v":""},{"$f":"IF('RWIS Sensor (Desc)'!E195=\"\",\"\",INDEX([1]RWIS_SENSOR_TYPE!$A$2:$A$100,MATCH('RWIS Sensor (Desc)'!$E195,[1]!MASTER_RWIS_SENSOR_TYPE_DESC[#Data],0),0))","v":""},{"$f":"IF('RWIS Sensor (Desc)'!F195=\"\",\"\",'RWIS Sensor (Desc)'!F195)","v":""},{"$f":"IF('RWIS Sensor (Desc)'!G195=\"\",\"\",INDEX([1]RWIS_SENSOR_MODEL!$B$2:$B$100,MATCH(1,([1]RWIS_SENSOR_MODEL!$C$2:$C$100='RWIS Sensor (Desc)'!$G195)*([1]RWIS_SENSOR_MODEL!$E$2:$E$100='RWIS Sensor (Code)'!$D195),0),0))","v":""},{"$f":"IF('RWIS Sensor (Desc)'!H195=\"\",\"\",INDEX([1]RWIS_SENSOR_MODEL!$A$2:$A$100,MATCH(1,([1]RWIS_SENSOR_MODEL!$C$2:$C$100='RWIS Sensor (Desc)'!$G195)*([1]RWIS_SENSOR_MODEL!$D$2:$D$100='RWIS Sensor (Desc)'!$H195)*([1]RWIS_SENSOR_MODEL!$E$2:$E$100='RWIS Sensor (Code)'!$D195),0),0))","v":""},{"$f":"IF('RWIS Sensor (Desc)'!I195=\"\",\"\",'RWIS Sensor (Desc)'!I195)","v":""}]
[{"$f":"IF('RWIS Sensor (Desc)'!A196=\"\",\"\",'RWIS Sensor (Desc)'!A196)","v":""},{"$f":"IF('RWIS Sensor (Desc)'!C196=\"\",\"\",\"2008\")","v":""},{"$f":"IF('RWIS Sensor (Desc)'!C196=\"\",\"\",'RWIS Sensor (Desc)'!C196)","v":""},{"$f":"IF('RWIS Sensor (Desc)'!E196=\"\",\"\",INDEX([1]RWIS_SENSOR_TYPE!$A$2:$A$100,MATCH('RWIS Sensor (Desc)'!$E196,[1]!MASTER_RWIS_SENSOR_TYPE_DESC[#Data],0),0))","v":""},{"$f":"IF('RWIS Sensor (Desc)'!F196=\"\",\"\",'RWIS Sensor (Desc)'!F196)","v":""},{"$f":"IF('RWIS Sensor (Desc)'!G196=\"\",\"\",INDEX([1]RWIS_SENSOR_MODEL!$B$2:$B$100,MATCH(1,([1]RWIS_SENSOR_MODEL!$C$2:$C$100='RWIS Sensor (Desc)'!$G196)*([1]RWIS_SENSOR_MODEL!$E$2:$E$100='RWIS Sensor (Code)'!$D196),0),0))","v":""},{"$f":"IF('RWIS Sensor (Desc)'!H196=\"\",\"\",INDEX([1]RWIS_SENSOR_MODEL!$A$2:$A$100,MATCH(1,([1]RWIS_SENSOR_MODEL!$C$2:$C$100='RWIS Sensor (Desc)'!$G196)*([1]RWIS_SENSOR_MODEL!$D$2:$D$100='RWIS Sensor (Desc)'!$H196)*([1]RWIS_SENSOR_MODEL!$E$2:$E$100='RWIS Sensor (Code)'!$D196),0),0))","v":""},{"$f":"IF('RWIS Sensor (Desc)'!I196=\"\",\"\",'RWIS Sensor (Desc)'!I196)","v":""}]
[{"$f":"IF('RWIS Sensor (Desc)'!A197=\"\",\"\",'RWIS Sensor (Desc)'!A197)","v":""},{"$f":"IF('RWIS Sensor (Desc)'!C197=\"\",\"\",\"2008\")","v":""},{"$f":"IF('RWIS Sensor (Desc)'!C197=\"\",\"\",'RWIS Sensor (Desc)'!C197)","v":""},{"$f":"IF('RWIS Sensor (Desc)'!E197=\"\",\"\",INDEX([1]RWIS_SENSOR_TYPE!$A$2:$A$100,MATCH('RWIS Sensor (Desc)'!$E197,[1]!MASTER_RWIS_SENSOR_TYPE_DESC[#Data],0),0))","v":""},{"$f":"IF('RWIS Sensor (Desc)'!F197=\"\",\"\",'RWIS Sensor (Desc)'!F197)","v":""},{"$f":"IF('RWIS Sensor (Desc)'!G197=\"\",\"\",INDEX([1]RWIS_SENSOR_MODEL!$B$2:$B$100,MATCH(1,([1]RWIS_SENSOR_MODEL!$C$2:$C$100='RWIS Sensor (Desc)'!$G197)*([1]RWIS_SENSOR_MODEL!$E$2:$E$100='RWIS Sensor (Code)'!$D197),0),0))","v":""},{"$f":"IF('RWIS Sensor (Desc)'!H197=\"\",\"\",INDEX([1]RWIS_SENSOR_MODEL!$A$2:$A$100,MATCH(1,([1]RWIS_SENSOR_MODEL!$C$2:$C$100='RWIS Sensor (Desc)'!$G197)*([1]RWIS_SENSOR_MODEL!$D$2:$D$100='RWIS Sensor (Desc)'!$H197)*([1]RWIS_SENSOR_MODEL!$E$2:$E$100='RWIS Sensor (Code)'!$D197),0),0))","v":""},{"$f":"IF('RWIS Sensor (Desc)'!I197=\"\",\"\",'RWIS Sensor (Desc)'!I197)","v":""}]
[{"$f":"IF('RWIS Sensor (Desc)'!A198=\"\",\"\",'RWIS Sensor (Desc)'!A198)","v":""},{"$f":"IF('RWIS Sensor (Desc)'!C198=\"\",\"\",\"2008\")","v":""},{"$f":"IF('RWIS Sensor (Desc)'!C198=\"\",\"\",'RWIS Sensor (Desc)'!C198)","v":""},{"$f":"IF('RWIS Sensor (Desc)'!E198=\"\",\"\",INDEX([1]RWIS_SENSOR_TYPE!$A$2:$A$100,MATCH('RWIS Sensor (Desc)'!$E198,[1]!MASTER_RWIS_SENSOR_TYPE_DESC[#Data],0),0))","v":""},{"$f":"IF('RWIS Sensor (Desc)'!F198=\"\",\"\",'RWIS Sensor (Desc)'!F198)","v":""},{"$f":"IF('RWIS Sensor (Desc)'!G198=\"\",\"\",INDEX([1]RWIS_SENSOR_MODEL!$B$2:$B$100,MATCH(1,([1]RWIS_SENSOR_MODEL!$C$2:$C$100='RWIS Sensor (Desc)'!$G198)*([1]RWIS_SENSOR_MODEL!$E$2:$E$100='RWIS Sensor (Code)'!$D198),0),0))","v":""},{"$f":"IF('RWIS Sensor (Desc)'!H198=\"\",\"\",INDEX([1]RWIS_SENSOR_MODEL!$A$2:$A$100,MATCH(1,([1]RWIS_SENSOR_MODEL!$C$2:$C$100='RWIS Sensor (Desc)'!$G198)*([1]RWIS_SENSOR_MODEL!$D$2:$D$100='RWIS Sensor (Desc)'!$H198)*([1]RWIS_SENSOR_MODEL!$E$2:$E$100='RWIS Sensor (Code)'!$D198),0),0))","v":""},{"$f":"IF('RWIS Sensor (Desc)'!I198=\"\",\"\",'RWIS Sensor (Desc)'!I198)","v":""}]
[{"$f":"IF('RWIS Sensor (Desc)'!A199=\"\",\"\",'RWIS Sensor (Desc)'!A199)","v":""},{"$f":"IF('RWIS Sensor (Desc)'!C199=\"\",\"\",\"2008\")","v":""},{"$f":"IF('RWIS Sensor (Desc)'!C199=\"\",\"\",'RWIS Sensor (Desc)'!C199)","v":""},{"$f":"IF('RWIS Sensor (Desc)'!E199=\"\",\"\",INDEX([1]RWIS_SENSOR_TYPE!$A$2:$A$100,MATCH('RWIS Sensor (Desc)'!$E199,[1]!MASTER_RWIS_SENSOR_TYPE_DESC[#Data],0),0))","v":""},{"$f":"IF('RWIS Sensor (Desc)'!F199=\"\",\"\",'RWIS Sensor (Desc)'!F199)","v":""},{"$f":"IF('RWIS Sensor (Desc)'!G199=\"\",\"\",INDEX([1]RWIS_SENSOR_MODEL!$B$2:$B$100,MATCH(1,([1]RWIS_SENSOR_MODEL!$C$2:$C$100='RWIS Sensor (Desc)'!$G199)*([1]RWIS_SENSOR_MODEL!$E$2:$E$100='RWIS Sensor (Code)'!$D199),0),0))","v":""},{"$f":"IF('RWIS Sensor (Desc)'!H199=\"\",\"\",INDEX([1]RWIS_SENSOR_MODEL!$A$2:$A$100,MATCH(1,([1]RWIS_SENSOR_MODEL!$C$2:$C$100='RWIS Sensor (Desc)'!$G199)*([1]RWIS_SENSOR_MODEL!$D$2:$D$100='RWIS Sensor (Desc)'!$H199)*([1]RWIS_SENSOR_MODEL!$E$2:$E$100='RWIS Sensor (Code)'!$D199),0),0))","v":""},{"$f":"IF('RWIS Sensor (Desc)'!I199=\"\",\"\",'RWIS Sensor (Desc)'!I199)","v":""}]
[{"$f":"IF('RWIS Sensor (Desc)'!A200=\"\",\"\",'RWIS Sensor (Desc)'!A200)","v":""},{"$f":"IF('RWIS Sensor (Desc)'!C200=\"\",\"\",\"2008\")","v":""},{"$f":"IF('RWIS Sensor (Desc)'!C200=\"\",\"\",'RWIS Sensor (Desc)'!C200)","v":""},{"$f":"IF('RWIS Sensor (Desc)'!E200=\"\",\"\",INDEX([1]RWIS_SENSOR_TYPE!$A$2:$A$100,MATCH('RWIS Sensor (Desc)'!$E200,[1]!MASTER_RWIS_SENSOR_TYPE_DESC[#Data],0),0))","v":""},{"$f":"IF('RWIS Sensor (Desc)'!F200=\"\",\"\",'RWIS Sensor (Desc)'!F200)","v":""},{"$f":"IF('RWIS Sensor (Desc)'!G200=\"\",\"\",INDEX([1]RWIS_SENSOR_MODEL!$B$2:$B$100,MATCH(1,([1]RWIS_SENSOR_MODEL!$C$2:$C$100='RWIS Sensor (Desc)'!$G200)*([1]RWIS_SENSOR_MODEL!$E$2:$E$100='RWIS Sensor (Code)'!$D200),0),0))","v":""},{"$f":"IF('RWIS Sensor (Desc)'!H200=\"\",\"\",INDEX([1]RWIS_SENSOR_MODEL!$A$2:$A$100,MATCH(1,([1]RWIS_SENSOR_MODEL!$C$2:$C$100='RWIS Sensor (Desc)'!$G200)*([1]RWIS_SENSOR_MODEL!$D$2:$D$100='RWIS Sensor (Desc)'!$H200)*([1]RWIS_SENSOR_MODEL!$E$2:$E$100='RWIS Sensor (Code)'!$D200),0),0))","v":""},{"$f":"IF('RWIS Sensor (Desc)'!I200=\"\",\"\",'RWIS Sensor (Desc)'!I200)","v":""}]
[{"$f":"IF('RWIS Sensor (Desc)'!A201=\"\",\"\",'RWIS Sensor (Desc)'!A201)","v":""},{"$f":"IF('RWIS Sensor (Desc)'!C201=\"\",\"\",\"2008\")","v":""},{"$f":"IF('RWIS Sensor (Desc)'!C201=\"\",\"\",'RWIS Sensor (Desc)'!C201)","v":""},{"$f":"IF('RWIS Sensor (Desc)'!E201=\"\",\"\",INDEX([1]RWIS_SENSOR_TYPE!$A$2:$A$100,MATCH('RWIS Sensor (Desc)'!$E201,[1]!MASTER_RWIS_SENSOR_TYPE_DESC[#Data],0),0))","v":""},{"$f":"IF('RWIS Sensor (Desc)'!F201=\"\",\"\",'RWIS Sensor (Desc)'!F201)","v":""},{"$f":"IF('RWIS Sensor (Desc)'!G201=\"\",\"\",INDEX([1]RWIS_SENSOR_MODEL!$B$2:$B$100,MATCH(1,([1]RWIS_SENSOR_MODEL!$C$2:$C$100='RWIS Sensor (Desc)'!$G201)*([1]RWIS_SENSOR_MODEL!$E$2:$E$100='RWIS Sensor (Code)'!$D201),0),0))","v":""},{"$f":"IF('RWIS Sensor (Desc)'!H201=\"\",\"\",INDEX([1]RWIS_SENSOR_MODEL!$A$2:$A$100,MATCH(1,([1]RWIS_SENSOR_MODEL!$C$2:$C$100='RWIS Sensor (Desc)'!$G201)*([1]RWIS_SENSOR_MODEL!$D$2:$D$100='RWIS Sensor (Desc)'!$H201)*([1]RWIS_SENSOR_MODEL!$E$2:$E$100='RWIS Sensor (Code)'!$D201),0),0))","v":""},{"$f":"IF('RWIS Sensor (Desc)'!I201=\"\",\"\",'RWIS Sensor (Desc)'!I201)","v":""}]
[{"$f":"IF('RWIS Sensor (Desc)'!A202=\"\",\"\",'RWIS Sensor (Desc)'!A202)","v":""},{"$f":"IF('RWIS Sensor (Desc)'!C202=\"\",\"\",\"2008\")","v":""},{"$f":"IF('RWIS Sensor (Desc)'!C202=\"\",\"\",'RWIS Sensor (Desc)'!C202)","v":""},{"$f":"IF('RWIS Sensor (Desc)'!E202=\"\",\"\",INDEX([1]RWIS_SENSOR_TYPE!$A$2:$A$100,MATCH('RWIS Sensor (Desc)'!$E202,[1]!MASTER_RWIS_SENSOR_TYPE_DESC[#Data],0),0))","v":""},{"$f":"IF('RWIS Sensor (Desc)'!F202=\"\",\"\",'RWIS Sensor (Desc)'!F202)","v":""},{"$f":"IF('RWIS Sensor (Desc)'!G202=\"\",\"\",INDEX([1]RWIS_SENSOR_MODEL!$B$2:$B$100,MATCH(1,([1]RWIS_SENSOR_MODEL!$C$2:$C$100='RWIS Sensor (Desc)'!$G202)*([1]RWIS_SENSOR_MODEL!$E$2:$E$100='RWIS Sensor (Code)'!$D202),0),0))","v":""},{"$f":"IF('RWIS Sensor (Desc)'!H202=\"\",\"\",INDEX([1]RWIS_SENSOR_MODEL!$A$2:$A$100,MATCH(1,([1]RWIS_SENSOR_MODEL!$C$2:$C$100='RWIS Sensor (Desc)'!$G202)*([1]RWIS_SENSOR_MODEL!$D$2:$D$100='RWIS Sensor (Desc)'!$H202)*([1]RWIS_SENSOR_MODEL!$E$2:$E$100='RWIS Sensor (Code)'!$D202),0),0))","v":""},{"$f":"IF('RWIS Sensor (Desc)'!I202=\"\",\"\",'RWIS Sensor (Desc)'!I202)","v":""}]